BOTTLE,20220816CCHSIOAMB
EXPOCODE,SECT_ID,STNNBR,CASTNO,SAMPNO,BTLNBR,BTLNBR_FLAG_W,DATE,TIME,LATITUDE,LONGITUDE,DEPTH,CTDPRS,CTDTMP,CTDSAL,CTDSAL_FLAG_W,SALNTY,SALNTY_FLAG_W,CTDOXY,CTDOXY_FLAG_W,THETA,OXYGEN,OXYGEN_FLAG_W,SILCAT,SILCAT_FLAG_W,NITRAT,NITRAT_FLAG_W,NITRIT,NITRIT_FLAG_W,PHSPHT,PHSPHT_FLAG_W,TRITUM,TRITUM_FLAG_W,REVTMP,REVPRS,TRITER
,,,,,,,,,,,,DBAR,ITS-90,PSS-78,,PSS-78,,UMOL/KG,,DEG C,UMOL/KG,,UMOL/KG,,UMOL/KG,,UMOL/KG,,UMOL/KG,,TU,,,DBAR,TU
    31WTMARAII,   P16,    44,  1,      1,      1,2,19840518,0540, 36.4133,-151.9917, 5350,      1.0,  13.5430,-999.0000,9,  33.8800,2,   -999.0,5,-999.0000,   -999.0,9,     5.38,2,     0.80,2,     0.03,2,     0.30,2, -999.000,9,  13.540,     1.0,-999.000
    31WTMARAII,   P16,    44,  1,      2,      2,2,19840518,0540, 36.4133,-151.9917, 5350,     52.9,  12.5897,  34.0135,2,  34.0120,2,   -999.0,5, 12.5827,    271.3,2,     6.06,2,     1.63,2,     0.20,2,     0.32,2, -999.000,9,-999.000,  -999.0,-999.000
    31WTMARAII,   P16,    44,  1,      3,      3,2,19840518,0540, 36.4133,-151.9917, 5350,    102.4,  11.8346,  34.0418,2,  34.0370,2,   -999.0,5, 11.8216,    259.5,2,     6.75,2,     4.92,2,     0.12,2,     0.53,2, -999.000,9,-999.000,  -999.0,-999.000
    31WTMARAII,   P16,    44,  1,      4,      4,2,19840518,0540, 36.4133,-151.9917, 5350,    148.3,  10.7926,  33.9927,2,  33.9850,2,   -999.0,5, 10.7748,    257.2,2,     7.92,2,     7.49,2,     0.02,2,     0.65,2, -999.000,9,-999.000,  -999.0,-999.000
    31WTMARAII,   P16,    44,  1,      5,      5,2,19840518,0540, 36.4133,-151.9917, 5350,    195.3,  10.4731,  34.1783,2,  34.1760,2,   -999.0,5, 10.4500,    243.3,2,    13.69,2,    11.44,2,     0.01,2,     0.85,2, -999.000,9,-999.000,  -999.0,-999.000
    31WTMARAII,   P16,    44,  1,      6,      6,2,19840518,0540, 36.4133,-151.9917, 5350,    287.8,   9.5420,  34.1182,2,  34.1180,2,   -999.0,5,  9.5098,    234.1,2,    18.97,2,    14.28,2,     0.00,2,     1.04,2, -999.000,9,-999.000,  -999.0,-999.000
    31WTMARAII,   P16,    44,  1,      7,      7,2,19840518,0540, 36.4133,-151.9917, 5350,    393.4,   7.8100,  34.0385,2,  34.0390,2,   -999.0,5,  7.7708,    190.1,2,    35.11,2,    22.10,2,     0.01,2,     1.56,2, -999.000,9,-999.000,  -999.0,-999.000
    31WTMARAII,   P16,    44,  1,      8,      8,2,19840518,0540, 36.4133,-151.9917, 5350,    492.4,   6.5749,  33.9903,2,  33.9910,2,   -999.0,5,  6.5301,    157.9,2,    49.48,2,    27.38,2,     0.01,2,     1.95,2, -999.000,9,-999.000,  -999.0,-999.000
    31WTMARAII,   P16,    44,  1,      9,      9,2,19840518,0540, 36.4133,-151.9917, 5350,    588.4,   5.2344,  33.9982,2,  33.9990,2,   -999.0,5,  5.1866,    106.1,2,    73.34,2,    34.52,2,     0.00,2,     2.46,2, -999.000,9,-999.000,  -999.0,-999.000
    31WTMARAII,   P16,    44,  1,     10,     10,2,19840518,0540, 36.4133,-151.9917, 5350,    688.9,   4.4119,  34.0722,2,  34.0710,2,   -999.0,5,  4.3597,     62.6,2,    93.09,2,    39.41,2,     0.01,2,     2.79,2, -999.000,9,-999.000,  -999.0,-999.000
    31WTMARAII,   P16,    44,  1,     11,     11,2,19840518,0540, 36.4133,-151.9917, 5350,    795.3,   3.8736,  34.1707,2,  34.1700,2,   -999.0,5,  3.8159,     32.6,2,   110.88,2,    42.53,2,     0.00,2,     2.98,2, -999.000,9,-999.000,  -999.0,-999.000
    31WTMARAII,   P16,    44,  1,     12,     12,2,19840518,0540, 36.4133,-151.9917, 5350,    893.0,   3.5940,  34.2385,2,  34.2390,2,   -999.0,5,  3.5304,     18.7,2,   122.22,2,    43.61,2,     0.00,2,     3.06,2, -999.000,9,   3.588,   899.0,-999.000
    31WTMARAII,   P16,    44,  1,     13,     13,2,19840518,0540, 36.4133,-151.9917, 5350,    996.4,   3.3467,  34.3053,2,  34.3050,2,   -999.0,5,  3.2767,     12.2,2,   132.18,2,    44.39,2,     0.00,2,     3.16,2, -999.000,9,-999.000,  -999.0,-999.000
    31WTMARAII,   P16,    44,  1,     14,     14,2,19840518,0540, 36.4133,-151.9917, 5350,   1235.7,   2.9044,  34.4174,2,  34.4160,2,   -999.0,5,  2.8193,     10.0,2,   150.94,2,    44.87,2,     0.00,2,     3.18,2, -999.000,9,-999.000,  -999.0,-999.000
    31WTMARAII,   P16,    44,  1,     15,     15,2,19840518,0540, 36.4133,-151.9917, 5350,   1472.9,   2.5830,  34.4974,2,  34.4970,2,   -999.0,5,  2.4823,     19.6,2,   157.48,2,    44.48,2,     0.00,2,     3.14,2, -999.000,9,   2.586,  1486.0,-999.000
    31WTMARAII,   P16,    44,  1,     16,     16,2,19840518,0540, 36.4133,-151.9917, 5350,   1716.9,   2.2526,  34.5611,2,  34.5610,2,   -999.0,5,  2.1362,     41.3,2,   164.32,2,    43.30,2,     0.00,2,     3.04,2, -999.000,9,-999.000,  -999.0,-999.000
    31WTMARAII,   P16,    44,  1,     17,     17,2,19840518,0540, 36.4133,-151.9917, 5350,   1960.1,   2.0046,  34.5951,2,  34.5960,2,   -999.0,5,  1.8715,     56.9,2,   172.04,2,    42.03,2,     0.00,2,     2.95,2, -999.000,9,-999.000,  -999.0,-999.000
    31WTMARAII,   P16,    44,  1,     18,     18,2,19840518,0540, 36.4133,-151.9917, 5350,   2487.1,   1.7033,  34.6384,2,  34.6380,2,   -999.0,5,  1.5298,     90.0,2,   173.69,2,    40.27,2,     0.00,2,     2.80,2, -999.000,9,-999.000,  -999.0,-999.000
    31WTMARAII,   P16,    44,  1,     19,     19,2,19840518,0540, 36.4133,-151.9917, 5350,   3010.0,   1.5404,  34.6631,2,  34.6630,2,   -999.0,5,  1.3218,    118.6,2,   166.26,2,    38.51,2,     0.00,2,     2.66,2, -999.000,9,   1.546,  3019.0,-999.000
    31WTMARAII,   P16,    44,  1,     20,     20,2,19840518,0540, 36.4133,-151.9917, 5350,   3557.2,   1.4824,  34.6766,2,  34.6760,2,   -999.0,5,  1.2109,    135.6,2,   162.35,2,    37.34,2,     0.00,2,     2.57,2, -999.000,9,-999.000,  -999.0,-999.000
    31WTMARAII,   P16,    44,  1,     21,     21,2,19840518,0540, 36.4133,-151.9917, 5350,   4022.5,   1.4762,  34.6831,2,  34.6820,2,   -999.0,5,  1.1555,    144.7,2,   162.74,2,    36.85,2,     0.00,2,     2.52,2, -999.000,9,-999.000,  -999.0,-999.000
    31WTMARAII,   P16,    44,  1,     25,     25,2,19840518,0540, 36.4133,-151.9917, 5350,   4470.3,   1.4942,  34.6874,2,-999.0000,9,   -999.0,5,  1.1228,    146.4,2,   156.48,2,    36.56,2,     0.00,2,     2.52,2, -999.000,9,-999.000,  -999.0,-999.000
    31WTMARAII,   P16,    44,  1,     23,     23,2,19840518,0540, 36.4133,-151.9917, 5350,   4908.0,   1.5239,  34.6896,2,  34.6890,2,   -999.0,5,  1.1000,   -999.0,9,  -999.00,9,    36.16,2,     0.00,2,  -999.00,9, -999.000,9,   1.526,  4915.0,-999.000
    31WTMARAII,   P16,    44,  1,     24,     24,2,19840518,0540, 36.4133,-151.9917, 5350,   5445.5,   1.5812,  34.6919,2,  34.6900,2,   -999.0,5,  1.0886,    157.3,2,   153.16,2,    35.87,2,     0.00,2,     2.45,2, -999.000,9,-999.000,  -999.0,-999.000
    31WTMARAII,   P16,    45,  2,      1,      1,2,19840518,1556, 36.7700,-151.9983, 5504,      1.0,  13.4320,-999.0000,9,  33.8550,2,   -999.0,5,-999.0000,   -999.0,9,     5.48,2,     0.71,2,     0.02,2,     0.27,2, -999.000,9,  13.429,     1.0,-999.000
    31WTMARAII,   P16,    45,  2,      8,      8,2,19840518,1556, 36.7700,-151.9983, 5504,     51.3,  11.5815,  33.8718,2,  33.8730,2,   -999.0,5, 11.5751,    274.7,2,     4.30,2,     3.14,2,     0.17,2,     0.45,2, -999.000,9,-999.000,  -999.0,-999.000
    31WTMARAII,   P16,    45,  2,      9,      9,2,19840518,1556, 36.7700,-151.9983, 5504,     97.3,  11.2635,  33.9688,2,  33.9670,2,   -999.0,5, 11.2516,    265.1,2,     6.85,2,     5.12,2,     0.22,2,     0.52,2, -999.000,9,-999.000,  -999.0,-999.000
    31WTMARAII,   P16,    45,  2,     10,     10,2,19840518,1556, 36.7700,-151.9983, 5504,    126.1,  11.1817,  34.0872,2,  34.0820,2,   -999.0,5, 11.1662,    251.1,2,     8.90,2,     7.85,2,     0.01,2,     0.65,2, -999.000,9,-999.000,  -999.0,-999.000
    31WTMARAII,   P16,    45,  2,     11,     11,2,19840518,1556, 36.7700,-151.9983, 5504,    159.5,  10.5748,  34.1778,2,  34.1770,2,   -999.0,5, 10.5558,    242.8,2,    13.88,2,    11.34,2,     0.01,2,     0.86,2, -999.000,9,-999.000,  -999.0,-999.000
    31WTMARAII,   P16,    45,  2,     12,     12,2,19840518,1556, 36.7700,-151.9983, 5504,    198.0,  10.1501,  34.1431,2,  34.1410,2,   -999.0,5, 10.1272,    244.6,2,    14.86,2,    11.93,2,     0.01,2,     0.87,2, -999.000,9,  10.155,   197.0,-999.000
    31WTMARAII,   P16,    45,  2,     13,     13,2,19840518,1556, 36.7700,-151.9983, 5504,    244.1,   9.7080,  34.1058,2,  34.1050,2,   -999.0,5,  9.6805,    245.0,2,    16.43,2,    12.61,2,     0.01,2,     0.93,2, -999.000,9,-999.000,  -999.0,-999.000
    31WTMARAII,   P16,    45,  2,     14,     14,2,19840518,1556, 36.7700,-151.9983, 5504,    293.2,   9.3194,  34.1121,2,  34.1100,2,   -999.0,5,  9.2871,    228.4,2,    21.22,2,    15.35,2,     0.01,2,     1.09,2, -999.000,9,-999.000,  -999.0,-999.000
    31WTMARAII,   P16,    45,  2,     15,     15,2,19840518,1556, 36.7700,-151.9983, 5504,    401.7,   7.5503,  34.0255,2,  34.0260,2,   -999.0,5,  7.5110,    185.8,2,    37.16,2,    23.08,2,     0.01,2,     1.60,2, -999.000,9,-999.000,  -999.0,-999.000
    31WTMARAII,   P16,    45,  2,     16,     16,2,19840518,1556, 36.7700,-151.9983, 5504,    496.6,   6.0488,  33.9751,2,  33.9740,2,   -999.0,5,  6.0057,    144.0,2,    56.13,2,    29.73,2,     0.00,2,     2.09,2, -999.000,9,-999.000,  -999.0,-999.000
    31WTMARAII,   P16,    45,  2,     17,     17,2,19840518,1556, 36.7700,-151.9983, 5504,    597.2,   5.0426,  34.0051,2,  34.0050,2,   -999.0,5,  4.9949,    100.0,2,    75.49,2,    35.30,2,     0.00,2,     2.48,2, -999.000,9,-999.000,  -999.0,-999.000
    31WTMARAII,   P16,    45,  2,     18,     18,2,19840518,1556, 36.7700,-151.9983, 5504,    680.3,   4.4073,  34.0701,2,  34.0660,2,   -999.0,5,  4.3558,     63.1,2,    91.92,2,    39.41,2,     0.00,2,     2.74,2, -999.000,9,-999.000,  -999.0,-999.000
    31WTMARAII,   P16,    45,  2,     19,     19,2,19840518,1556, 36.7700,-151.9983, 5504,    753.4,   4.0856,  34.1291,2,  34.1270,2,   -999.0,5,  4.0300,     46.1,2,   102.67,2,    41.17,2,     0.00,2,     2.87,2, -999.000,9,-999.000,  -999.0,-999.000
    31WTMARAII,   P16,    45,  2,     20,     20,2,19840518,1556, 36.7700,-151.9983, 5504,    870.5,   3.6578,  34.2242,2,  34.2240,2,   -999.0,5,  3.5955,     21.7,2,   120.56,2,    43.31,2,     0.00,2,     3.03,2, -999.000,9,-999.000,  -999.0,-999.000
    31WTMARAII,   P16,    45,  2,     21,     21,2,19840518,1556, 36.7700,-151.9983, 5504,    970.7,   3.4056,  34.2880,2,  34.2860,2,   -999.0,5,  3.3372,     13.9,2,   129.74,2,    44.09,2,     0.00,2,     3.07,2, -999.000,9,-999.000,  -999.0,-999.000
    31WTMARAII,   P16,    45,  2,     25,     25,2,19840518,1556, 36.7700,-151.9983, 5504,   1197.2,   2.9601,  34.4072,2,  34.4060,2,   -999.0,5,  2.8776,     10.9,2,   147.33,2,    44.77,2,     0.00,2,     3.11,2, -999.000,9,-999.000,  -999.0,-999.000
    31WTMARAII,   P16,    45,  2,     23,     23,2,19840518,1556, 36.7700,-151.9983, 5504,   1504.8,   2.5055,  34.5184,2,  34.5190,2,   -999.0,5,  2.4032,     25.6,2,   160.12,2,    44.09,2,     0.00,2,  -999.00,9, -999.000,9,   2.501,  1505.0,-999.000
    31WTMARAII,   P16,    46,  1,      1,      1,2,19840518,2226, 37.1083,-151.9983, 5514,      1.0,  13.4920,-999.0000,9,  33.8550,2,   -999.0,5,-999.0000,   -999.0,9,     4.30,2,     0.15,2,     0.01,2,     0.23,2, -999.000,9,  13.489,     1.0,-999.000
    31WTMARAII,   P16,    46,  1,      2,      2,2,19840518,2226, 37.1083,-151.9983, 5514,     52.9,  11.7071,  33.9153,2,  33.9150,2,   -999.0,5, 11.7004,    273.4,2,     4.69,2,     2.98,2,     0.20,2,     0.44,2, -999.000,9,-999.000,  -999.0,-999.000
    31WTMARAII,   P16,    46,  1,      3,      3,2,19840518,2226, 37.1083,-151.9983, 5514,    103.4,  11.2213,  33.9766,2,  33.9670,2,   -999.0,5, 11.2086,    259.0,2,     6.36,2,     6.14,2,     0.02,2,     0.57,2, -999.000,9,-999.000,  -999.0,-999.000
    31WTMARAII,   P16,    46,  1,      4,      4,2,19840518,2226, 37.1083,-151.9983, 5514,    153.5,  10.4117,  34.1657,2,  34.1640,2,   -999.0,5, 10.3937,    243.7,2,    13.88,2,    11.44,2,     0.01,2,     0.85,2, -999.000,9,-999.000,  -999.0,-999.000
    31WTMARAII,   P16,    46,  1,      5,      5,2,19840518,2226, 37.1083,-151.9983, 5514,    203.8,   9.8410,  34.1255,2,  34.1240,2,   -999.0,5,  9.8179,    244.1,2,    16.33,2,    12.42,2,     0.01,2,     0.87,2, -999.000,9,-999.000,  -999.0,-999.000
    31WTMARAII,   P16,    46,  1,      6,      6,2,19840518,2226, 37.1083,-151.9983, 5514,    304.5,   8.9082,  34.0949,2,  34.0930,2,   -999.0,5,  8.8755,    216.2,2,    24.74,2,    17.60,2,     0.01,2,     1.24,2, -999.000,9,-999.000,  -999.0,-999.000
    31WTMARAII,   P16,    46,  1,      7,      7,2,19840518,2226, 37.1083,-151.9983, 5514,    406.0,   7.3521,  34.0192,2,  34.0190,2,   -999.0,5,  7.3131,    177.9,2,    39.51,2,    23.96,2,     0.00,2,     1.69,2, -999.000,9,-999.000,  -999.0,-999.000
    31WTMARAII,   P16,    46,  1,      8,      8,2,19840518,2226, 37.1083,-151.9983, 5514,    506.7,   5.6916,  33.9762,2,  33.9760,2,   -999.0,5,  5.6490,    129.2,2,    64.54,2,    31.59,2,     0.00,2,     2.23,2, -999.000,9,-999.000,  -999.0,-999.000
    31WTMARAII,   P16,    46,  1,      9,      9,2,19840518,2226, 37.1083,-151.9983, 5514,    607.3,   4.8301,  34.0174,2,  34.0160,2,   -999.0,5,  4.7826,     89.2,2,    79.60,2,    36.38,2,     0.00,2,     2.53,2, -999.000,9,-999.000,  -999.0,-999.000
    31WTMARAII,   P16,    46,  1,     10,     10,2,19840518,2226, 37.1083,-151.9983, 5514,    708.1,   4.2547,  34.0950,2,  34.0930,2,   -999.0,5,  4.2018,     55.2,2,    97.59,2,    40.19,2,     0.00,2,     2.81,2, -999.000,9,-999.000,  -999.0,-999.000
    31WTMARAII,   P16,    46,  1,     11,     11,2,19840518,2226, 37.1083,-151.9983, 5514,    808.9,   3.8006,  34.1854,2,  34.1840,2,   -999.0,5,  3.7423,     28.3,2,   113.62,2,    42.73,2,     0.00,2,     2.97,2, -999.000,9,-999.000,  -999.0,-999.000
    31WTMARAII,   P16,    46,  1,     12,     12,2,19840518,2226, 37.1083,-151.9983, 5514,    910.4,   3.4993,  34.2625,2,  34.2610,2,   -999.0,5,  3.4349,     15.7,2,   123.39,2,    43.90,2,     0.00,2,     3.04,2, -999.000,9,   3.496,   914.0,-999.000
    31WTMARAII,   P16,    46,  1,     13,     13,2,19840518,2226, 37.1083,-151.9983, 5514,   1011.4,   3.2594,  34.3276,2,  34.3270,2,   -999.0,5,  3.1889,     10.0,2,   132.77,2,    44.39,2,     0.00,2,     3.12,2, -999.000,9,-999.000,  -999.0,-999.000
    31WTMARAII,   P16,    46,  1,     14,     14,2,19840518,2226, 37.1083,-151.9983, 5514,   1262.4,   2.7987,  34.4365,2,  34.4350,2,   -999.0,5,  2.7125,     10.0,2,   151.14,2,    44.77,2,     0.00,2,     3.13,2, -999.000,9,-999.000,  -999.0,-999.000
    31WTMARAII,   P16,    46,  1,     15,     15,2,19840518,2226, 37.1083,-151.9983, 5514,   1510.9,   2.4637,  34.5188,2,  34.5190,2,   -999.0,5,  2.3613,     24.3,2,   161.10,2,    44.18,2,     0.00,2,     3.06,2, -999.000,9,   2.457,  1522.0,-999.000
    31WTMARAII,   P16,    46,  1,     16,     16,2,19840518,2226, 37.1083,-151.9983, 5514,   1767.1,   2.1809,  34.5677,2,  34.5680,2,   -999.0,5,  2.0613,     42.6,2,   167.25,2,    42.91,2,     0.00,2,     2.98,2, -999.000,9,-999.000,  -999.0,-999.000
    31WTMARAII,   P16,    46,  1,     17,     17,2,19840518,2226, 37.1083,-151.9983, 5514,   2019.2,   1.9472,  34.6026,2,  34.6030,2,   -999.0,5,  1.8101,     60.4,2,   170.28,2,    42.13,2,     0.00,2,     2.89,2, -999.000,9,-999.000,  -999.0,-999.000
    31WTMARAII,   P16,    46,  1,     18,     18,2,19840518,2226, 37.1083,-151.9983, 5514,   2519.0,   1.6906,  34.6393,2,  34.6390,2,   -999.0,5,  1.5144,     90.4,2,   170.86,2,    40.17,2,     0.00,2,     2.78,2, -999.000,9,-999.000,  -999.0,-999.000
    31WTMARAII,   P16,    46,  1,     19,     19,2,19840518,2226, 37.1083,-151.9983, 5514,   3069.0,   1.5360,  34.6639,2,  34.6640,2,   -999.0,5,  1.3119,    119.9,2,   166.55,2,    38.32,2,     0.00,2,     2.63,2, -999.000,9,-999.000,  -999.0,-999.000
    31WTMARAII,   P16,    46,  1,     20,     20,2,19840518,2226, 37.1083,-151.9983, 5514,   3564.4,   1.4788,  34.6773,2,  34.6760,2,   -999.0,5,  1.2066,    136.0,2,   161.18,2,    37.24,2,     0.00,2,     2.54,2, -999.000,9,-999.000,  -999.0,-999.000
    31WTMARAII,   P16,    46,  1,     21,     21,2,19840518,2226, 37.1083,-151.9983, 5514,   4120.6,   1.4763,  34.6848,2,  34.6840,2,   -999.0,5,  1.1448,    145.6,2,   161.57,2,    36.65,2,     0.00,2,     2.48,2, -999.000,9,-999.000,  -999.0,-999.000
    31WTMARAII,   P16,    46,  1,     25,     25,2,19840518,2226, 37.1083,-151.9983, 5514,   4626.1,   1.5100,  34.6881,2,  34.6870,2,   -999.0,5,  1.1201,    149.5,2,   157.07,2,    36.36,2,     0.00,2,     2.47,2, -999.000,9,-999.000,  -999.0,-999.000
    31WTMARAII,   P16,    46,  1,     23,     23,2,19840518,2226, 37.1083,-151.9983, 5514,   5135.2,   1.5521,  34.6902,2,  34.6890,2,   -999.0,5,  1.0995,    154.3,2,   152.57,2,    35.97,2,     0.01,2,  -999.00,9, -999.000,9,   1.550,  5141.0,-999.000
    31WTMARAII,   P16,    46,  1,     24,     24,2,19840518,2226, 37.1083,-151.9983, 5514,   5639.8,   1.6136,  34.6912,2,  34.6900,2,   -999.0,5,  1.0949,    156.0,2,   151.79,2,    35.97,2,     0.01,2,     2.42,2, -999.000,9,-999.000,  -999.0,-999.000