BOTTLE,20220816CCHSIOAMB
EXPOCODE,SECT_ID,STNNBR,CASTNO,SAMPNO,BTLNBR,BTLNBR_FLAG_W,DATE,TIME,LATITUDE,LONGITUDE,DEPTH,CTDPRS,CTDTMP,CTDSAL,CTDSAL_FLAG_W,SALNTY,SALNTY_FLAG_W,CTDOXY,CTDOXY_FLAG_W,THETA,OXYGEN,OXYGEN_FLAG_W,SILCAT,SILCAT_FLAG_W,NITRAT,NITRAT_FLAG_W,NITRIT,NITRIT_FLAG_W,PHSPHT,PHSPHT_FLAG_W,TRITUM,TRITUM_FLAG_W,REVTMP,REVPRS,TRITER
,,,,,,,,,,,,DBAR,ITS-90,PSS-78,,PSS-78,,UMOL/KG,,DEG C,UMOL/KG,,UMOL/KG,,UMOL/KG,,UMOL/KG,,UMOL/KG,,TU,,,DBAR,TU
    31WTMARAII,   P16,    23,  1,      6,      6,2,19840512,1306, 29.0467,-152.0017, 5579,      2.6,  21.7775,  35.1292,2,  35.1260,2,   -999.0,5, 21.7770,    222.3,2,     1.86,2,     0.00,2,     0.00,2,     0.06,2, -999.000,9,  21.785,  -999.0,-999.000
    31WTMARAII,   P16,    23,  1,      7,      7,2,19840512,1306, 29.0467,-152.0017, 5579,     52.7,  20.4330,  35.1838,2,  35.1830,2,   -999.0,5, 20.4231,    231.4,2,     2.05,2,     0.00,2,     0.00,2,     0.10,2, -999.000,9,-999.000,  -999.0,-999.000
    31WTMARAII,   P16,    23,  1,      9,      9,2,19840512,1306, 29.0467,-152.0017, 5579,    102.8,  18.3656,  35.0108,2,  35.0100,2,   -999.0,5, 18.3477,    232.2,2,     2.64,2,     0.00,2,     0.01,2,     0.12,2, -999.000,9,-999.000,  -999.0,-999.000
    31WTMARAII,   P16,    23,  1,     10,     10,2,19840512,1306, 29.0467,-152.0017, 5579,    136.3,  16.3302,  34.7152,2,  34.7120,2,   -999.0,5, 16.3084,    234.7,2,     3.62,2,     0.94,2,     0.27,2,     0.22,2, -999.000,9,-999.000,  -999.0,-999.000
    31WTMARAII,   P16,    23,  1,     11,     11,2,19840512,1306, 29.0467,-152.0017, 5579,    169.4,  14.3682,  34.4929,2,  34.4960,2,   -999.0,5, 14.3434,    217.7,2,     6.55,2,     5.70,2,     0.02,2,     0.51,2, -999.000,9,-999.000,  -999.0,-999.000
    31WTMARAII,   P16,    23,  1,     12,     12,2,19840512,1306, 29.0467,-152.0017, 5579,    201.9,  13.1445,  34.3671,2,  34.3670,2,   -999.0,5, 13.1167,    226.8,2,     7.72,2,     7.15,2,     0.01,2,     0.59,2, -999.000,9,  13.174,   202.0,-999.000
    31WTMARAII,   P16,    23,  1,     13,     13,2,19840512,1306, 29.0467,-152.0017, 5579,    243.9,  11.9681,  34.2735,2,  34.2730,2,   -999.0,5, 11.9365,    235.0,2,    10.46,2,     9.00,2,     0.01,2,     0.69,2, -999.000,9,-999.000,  -999.0,-999.000
    31WTMARAII,   P16,    23,  1,     14,     14,2,19840512,1306, 29.0467,-152.0017, 5579,    282.3,  11.3792,  34.2472,2,  34.2460,2,   -999.0,5, 11.3438,    236.8,2,    11.73,2,    10.17,2,     0.01,2,     0.76,2, -999.000,9,-999.000,  -999.0,-999.000
    31WTMARAII,   P16,    23,  1,     15,     15,2,19840512,1306, 29.0467,-152.0017, 5579,    387.4,   9.7219,  34.1508,2,  34.1820,2,   -999.0,5,  9.6778,    214.5,2,    19.75,2,    15.55,2,     0.01,2,     1.10,2, -999.000,9,   9.718,   386.0,-999.000
    31WTMARAII,   P16,    23,  1,     16,     16,2,19840512,1306, 29.0467,-152.0017, 5579,    483.9,   7.7660,  34.0392,2,  34.0420,2,   -999.0,5,  7.7177,    182.7,2,    35.59,2,    22.98,2,     0.00,2,     1.62,2, -999.000,9,-999.000,  -999.0,-999.000
    31WTMARAII,   P16,    23,  1,     17,     17,2,19840512,1306, 29.0467,-152.0017, 5579,    581.3,   6.1321,  33.9975,2,  33.9980,2,   -999.0,5,  6.0808,    121.8,2,    57.60,2,    31.59,2,     0.00,2,     2.22,2, -999.000,9,-999.000,  -999.0,-999.000
    31WTMARAII,   P16,    23,  1,     18,     18,2,19840512,1306, 29.0467,-152.0017, 5579,    677.7,   5.0541,  34.0293,2,  34.0310,2,   -999.0,5,  4.9995,     74.8,2,    77.25,2,    37.55,2,     0.00,2,     2.66,2, -999.000,9,-999.000,  -999.0,-999.000
    31WTMARAII,   P16,    23,  1,     19,     19,2,19840512,1306, 29.0467,-152.0017, 5579,    775.4,   4.3246,  34.1346,2,  34.1330,2,   -999.0,5,  4.2658,     36.5,2,    97.78,2,    41.65,2,     0.00,2,     2.95,2, -999.000,9,   4.326,   773.0,-999.000
    31WTMARAII,   P16,    23,  1,     20,     20,2,19840512,1306, 29.0467,-152.0017, 5579,    875.6,   3.9912,  34.2850,2,  34.2850,2,   -999.0,5,  3.9262,     15.2,2,   113.32,2,    43.41,2,     0.00,2,     3.11,2, -999.000,9,-999.000,  -999.0,-999.000
    31WTMARAII,   P16,    23,  1,     21,     21,2,19840512,1306, 29.0467,-152.0017, 5579,    971.4,   3.7355,  34.3613,2,  34.3620,2,   -999.0,5,  3.6644,     13.9,2,   122.21,2,    43.90,2,     0.00,2,     3.13,2, -999.000,9,-999.000,  -999.0,-999.000
    31WTMARAII,   P16,    23,  1,     22,     22,2,19840512,1306, 29.0467,-152.0017, 5579,   1263.7,   3.1260,  34.4956,2,  34.4960,2,   -999.0,5,  3.0364,     33.5,2,   134.02,2,    43.11,2,     0.01,2,  -999.00,9, -999.000,9,-999.000,  -999.0,-999.000
    31WTMARAII,   P16,    23,  1,     23,     23,2,19840512,1306, 29.0467,-152.0017, 5579,   1558.0,   2.5956,  34.5632,2,  34.5620,2,   -999.0,5,  2.4877,     59.1,2,   147.02,2,    41.84,2,     0.00,2,     2.91,2, -999.000,9,   2.592,  1555.0,-999.000
    31WTMARAII,   P16,    24,  1,      1,      1,2,19840512,2038, 29.3550,-151.9967, 5339,      1.0,  21.6210,-999.0000,9,  35.1700,2,   -999.0,5,-999.0000,   -999.0,9,     2.05,2,     0.00,2,     0.00,2,     0.03,2, -999.000,9,  21.616,     1.0,-999.000
    31WTMARAII,   P16,    24,  1,      2,      2,2,19840512,2038, 29.3550,-151.9967, 5339,     57.2,  20.1091,  35.1584,2,  35.1610,2,   -999.0,5, 20.0985,    228.3,2,     2.05,2,     0.00,2,     0.00,2,     0.05,2, -999.000,9,-999.000,  -999.0,-999.000
    31WTMARAII,   P16,    24,  1,      3,      3,2,19840512,2038, 29.3550,-151.9967, 5339,    106.6,  17.7744,  34.9072,2,  34.9060,2,   -999.0,5, 17.7563,    233.0,2,     2.83,2,     0.02,2,     0.02,2,     0.10,2, -999.000,9,-999.000,  -999.0,-999.000
    31WTMARAII,   P16,    24,  1,      4,      4,2,19840512,2038, 29.3550,-151.9967, 5339,    155.8,  15.2177,  34.5902,2,  34.5920,2,   -999.0,5, 15.1940,    223.8,2,     5.08,2,     3.66,2,     0.09,2,     0.35,2, -999.000,9,-999.000,  -999.0,-999.000
    31WTMARAII,   P16,    24,  1,      5,      5,2,19840512,2038, 29.3550,-151.9967, 5339,    206.1,  12.8181,  34.3397,2,  34.3390,2,   -999.0,5, 12.7902,    229.0,2,     8.60,2,     7.69,2,     0.02,2,     0.60,2, -999.000,9,-999.000,  -999.0,-999.000
    31WTMARAII,   P16,    24,  1,      6,      6,2,19840512,2038, 29.3550,-151.9967, 5339,    305.5,  10.7227,  34.2038,2,-999.0000,9,   -999.0,5, 10.6858,    224.1,2,    12.81,2,    10.66,2,     0.01,2,     0.77,2, -999.000,9,-999.000,  -999.0,-999.000
    31WTMARAII,   P16,    24,  1,      7,      7,2,19840512,2038, 29.3550,-151.9967, 5339,    416.2,   9.0222,  34.1078,2,  34.1110,2,   -999.0,5,  8.9768,    206.2,2,    24.64,2,    18.19,2,     0.01,2,     1.28,2, -999.000,9,-999.000,  -999.0,-999.000
    31WTMARAII,   P16,    24,  1,      8,      8,2,19840512,2038, 29.3550,-151.9967, 5339,    521.3,   7.1148,  34.0148,2,  34.0170,2,   -999.0,5,  7.0651,    156.2,2,    43.91,2,    26.60,2,     0.00,2,     1.85,2, -999.000,9,-999.000,  -999.0,-999.000
    31WTMARAII,   P16,    24,  1,      9,      9,2,19840512,2038, 29.3550,-151.9967, 5339,    625.5,   5.5631,  34.0027,2,  34.0060,2,   -999.0,5,  5.5105,     96.1,2,    67.67,2,    34.81,2,     0.00,2,     2.43,2, -999.000,9,-999.000,  -999.0,-999.000
    31WTMARAII,   P16,    24,  1,     10,     10,2,19840512,2038, 29.3550,-151.9967, 5339,    729.6,   4.6859,  34.1172,2,  34.1180,2,   -999.0,5,  4.6287,     41.3,2,    90.25,2,    40.68,2,     0.00,2,     2.87,2, -999.000,9,-999.000,  -999.0,-999.000
    31WTMARAII,   P16,    24,  1,     11,     11,2,19840512,2038, 29.3550,-151.9967, 5339,    826.4,   4.1859,  34.2327,2,  34.2350,2,   -999.0,5,  4.1236,     19.6,2,   105.50,2,    42.92,2,     0.00,2,     3.04,2, -999.000,9,-999.000,  -999.0,-999.000
    31WTMARAII,   P16,    24,  1,     12,     12,2,19840512,2038, 29.3550,-151.9967, 5339,    931.8,   3.8778,  34.3291,2,  34.3290,2,   -999.0,5,  3.8089,     12.2,2,   116.05,2,    43.90,2,     0.00,2,     3.09,2, -999.000,9,   3.875,   932.0,-999.000
    31WTMARAII,   P16,    24,  1,     13,     13,2,19840512,2038, 29.3550,-151.9967, 5339,   1015.0,   3.7064,  34.3796,2,  34.3790,2,   -999.0,5,  3.6320,     13.9,2,   124.16,2,    43.99,2,     0.00,2,     3.14,2, -999.000,9,-999.000,  -999.0,-999.000
    31WTMARAII,   P16,    24,  1,     14,     14,2,19840512,2038, 29.3550,-151.9967, 5339,   1255.7,   3.1527,  34.4920,2,  34.4920,2,   -999.0,5,  3.0634,     31.3,2,   137.74,2,    43.40,2,     0.00,2,     3.07,2, -999.000,9,-999.000,  -999.0,-999.000
    31WTMARAII,   P16,    24,  1,     15,     15,2,19840512,2038, 29.3550,-151.9967, 5339,   1545.9,   2.5781,  34.5606,2,  34.5610,2,   -999.0,5,  2.4715,     56.9,2,   149.36,2,    42.13,2,     0.00,2,     2.96,2, -999.000,9,   2.566,  1551.0,-999.000
    31WTMARAII,   P16,    24,  1,     16,     16,2,19840512,2038, 29.3550,-151.9967, 5339,   1847.1,   2.1738,  34.5993,2,  34.6000,2,   -999.0,5,  2.0477,     72.6,2,   157.96,2,    41.15,2,     0.00,2,     2.87,2, -999.000,9,-999.000,  -999.0,-999.000
    31WTMARAII,   P16,    24,  1,     17,     17,2,19840512,2038, 29.3550,-151.9967, 5339,   2166.5,   1.8886,  34.6269,2,  34.6270,2,   -999.0,5,  1.7398,     85.2,2,   166.85,2,    40.47,2,     0.00,2,     2.81,2, -999.000,9,-999.000,  -999.0,-999.000
    31WTMARAII,   P16,    24,  1,     18,     18,2,19840512,2038, 29.3550,-151.9967, 5339,   2634.0,   1.6399,  34.6542,2,  34.6530,2,   -999.0,5,  1.4543,    106.0,2,   170.86,2,    39.20,2,     0.00,2,     2.71,2, -999.000,9,-999.000,  -999.0,-999.000
    31WTMARAII,   P16,    24,  1,     19,     19,2,19840512,2038, 29.3550,-151.9967, 5339,   3194.0,   1.4901,  34.6749,2,  34.6780,2,   -999.0,5,  1.2548,    131.2,2,   164.99,2,    37.63,2,     0.00,2,     2.60,2, -999.000,9,   1.490,  3190.0,-999.000
    31WTMARAII,   P16,    24,  1,     20,     20,2,19840512,2038, 29.3550,-151.9967, 5339,   3683.4,   1.4641,  34.6826,2,  34.6820,2,   -999.0,5,  1.1800,    142.1,2,   159.32,2,    36.75,2,     0.00,2,     2.53,2, -999.000,9,-999.000,  -999.0,-999.000
    31WTMARAII,   P16,    24,  1,     21,     21,2,19840512,2038, 29.3550,-151.9967, 5339,   4241.3,   1.4687,  34.6865,2,  34.6880,2,   -999.0,5,  1.1241,    151.6,2,   152.77,2,    36.16,2,     0.00,2,     2.48,2, -999.000,9,-999.000,  -999.0,-999.000
    31WTMARAII,   P16,    24,  1,     22,     22,2,19840512,2038, 29.3550,-151.9967, 5339,   4607.9,   1.4804,  34.6908,2,  34.6890,2,   -999.0,5,  1.0935,   -999.0,9,  -999.00,9,    35.77,2,     0.03,2,  -999.00,9, -999.000,9,-999.000,  -999.0,-999.000
    31WTMARAII,   P16,    24,  1,     23,     23,2,19840512,2038, 29.3550,-151.9967, 5339,   5066.2,   1.5091,  34.6930,2,  34.6910,2,   -999.0,5,  1.0665,    161.6,2,   145.83,2,    35.48,2,     0.00,2,     2.39,2, -999.000,9,   1.509,  5067.0,-999.000
    31WTMARAII,   P16,    24,  1,     24,     24,2,19840512,2038, 29.3550,-151.9967, 5339,   5835.6,   1.5974,  34.6940,2,  34.6930,2,   -999.0,5,  1.0536,    163.4,2,   142.80,2,    35.38,2,     0.00,2,     2.43,2, -999.000,9,-999.000,  -999.0,-999.000
    31WTMARAII,   P16,    25,  1,      8,      8,2,19840513,0325, 29.7300,-152.0133, 5555,      3.5,  21.8652,  35.2979,2,  35.2940,2,   -999.0,5, 21.8645,    223.6,2,     2.44,2,     0.00,2,     0.00,2,     0.03,2,    2.880,2,  21.862,  -999.0,   0.100
    31WTMARAII,   P16,    25,  1,      9,      9,2,19840513,0325, 29.7300,-152.0133, 5555,     53.5,  20.4358,  35.1952,2,  35.1900,2,   -999.0,5, 20.4258,    229.7,2,     2.93,2,     0.00,2,     0.00,2,     0.06,2, -999.000,9,-999.000,  -999.0,-999.000
    31WTMARAII,   P16,    25,  1,     10,     10,2,19840513,0325, 29.7300,-152.0133, 5555,    101.9,  17.3136,  34.8301,2,  34.8280,2,   -999.0,5, 17.2966,    239.6,2,     3.81,2,     0.00,2,     0.00,2,     0.09,2,    3.160,2,-999.000,  -999.0,   0.110
    31WTMARAII,   P16,    25,  1,     11,     11,2,19840513,0325, 29.7300,-152.0133, 5555,    140.4,  15.7740,  34.6606,2,  34.6600,2,   -999.0,5, 15.7521,    219.9,2,     4.98,2,     3.09,2,     0.03,2,     0.33,2, -999.000,9,-999.000,  -999.0,-999.000
    31WTMARAII,   P16,    25,  1,     12,     12,2,19840513,0325, 29.7300,-152.0133, 5555,    172.2,  14.5088,  34.5170,2,  34.5170,2,   -999.0,5, 14.4834,    214.6,2,     7.04,2,     5.68,2,     0.01,2,     0.49,2,    3.642,2,  14.522,   171.0,   0.135
    31WTMARAII,   P16,    25,  1,     13,     13,2,19840513,0325, 29.7300,-152.0133, 5555,    200.2,  13.5803,  34.4257,2,  34.4260,2,   -999.0,5, 13.5521,    226.8,2,     8.21,2,     6.46,2,     0.01,2,     0.52,2, -999.000,9,-999.000,  -999.0,-999.000
    31WTMARAII,   P16,    25,  1,     14,     14,2,19840513,0325, 29.7300,-152.0133, 5555,    251.8,  11.9619,  34.2432,2,  34.2470,2,   -999.0,5, 11.9293,    220.7,2,    11.34,2,     9.72,2,     0.01,2,     0.73,2,    3.488,2,-999.000,  -999.0,   0.142
    31WTMARAII,   P16,    25,  1,     15,     15,2,19840513,0325, 29.7300,-152.0133, 5555,    325.1,  10.8475,  34.2288,2,  34.2280,2,   -999.0,5, 10.8079,    234.1,2,    14.37,2,    11.73,2,     0.00,2,     0.85,2,    3.172,2,  10.841,   326.0,   0.097
    31WTMARAII,   P16,    25,  1,     16,     16,2,19840513,0325, 29.7300,-152.0133, 5555,    394.1,   9.6436,  34.1470,2,  34.1480,2,   -999.0,5,  9.5989,    214.9,2,    21.12,2,    16.13,2,     0.00,2,     1.14,2,    3.390,2,-999.000,  -999.0,   0.138
    31WTMARAII,   P16,    25,  1,     17,     17,2,19840513,0325, 29.7300,-152.0133, 5555,    479.1,   8.1499,  34.0565,2,  34.0580,2,   -999.0,5,  8.1006,    187.1,2,    32.47,2,    21.61,2,     0.00,2,     1.52,2,    3.260,2,-999.000,  -999.0,   0.110
    31WTMARAII,   P16,    25,  1,     18,     18,2,19840513,0325, 29.7300,-152.0133, 5555,    566.5,   6.4141,  34.0011,2,  34.0020,2,   -999.0,5,  6.3630,    134.0,2,    52.81,2,    29.83,2,     0.00,2,     2.07,2,    2.320,2,-999.000,  -999.0,   0.100
    31WTMARAII,   P16,    25,  1,     19,     19,2,19840513,0325, 29.7300,-152.0133, 5555,    649.0,   5.3383,  34.0287,2,  34.0300,2,   -999.0,5,  5.2847,     78.7,2,    72.95,2,    36.67,2,     0.00,2,     2.57,2,    0.970,2,-999.000,  -999.0,   0.060
    31WTMARAII,   P16,    25,  1,     20,     20,2,19840513,0325, 29.7300,-152.0133, 5555,    726.5,   4.6118,  34.0833,2,  34.0830,2,   -999.0,5,  4.5554,     51.3,2,    89.57,2,    40.19,2,     0.00,2,     2.84,2,    0.210,2,-999.000,  -999.0,   0.060
    31WTMARAII,   P16,    25,  1,     21,     21,2,19840513,0325, 29.7300,-152.0133, 5555,    825.2,   4.3119,  34.1977,2,  34.1980,2,   -999.0,5,  4.2490,     23.9,2,   103.84,2,    42.53,2,     0.00,2,     3.01,2,    0.010,2,-999.000,  -999.0,   0.040
    31WTMARAII,   P16,    25,  1,     22,     22,2,19840513,0325, 29.7300,-152.0133, 5555,    921.8,   3.9774,  34.2919,2,  34.2920,2,   -999.0,5,  3.9086,     13.5,2,   114.49,2,    43.61,2,     0.01,2,  -999.00,9,   -0.020,2,-999.000,  -999.0,   0.050
    31WTMARAII,   P16,    25,  1,     23,     23,2,19840513,0325, 29.7300,-152.0133, 5555,   1174.1,   3.3460,  34.4606,2,  34.4590,2,   -999.0,5,  3.2617,     23.9,2,   131.68,2,    43.70,2,     0.00,2,     3.02,2, -999.000,9,   3.336,  1170.0,-999.000
    31WTMARAII,   P16,    25,  1,     24,     24,2,19840513,0325, 29.7300,-152.0133, 5555,   1480.4,   2.6987,  34.5497,2,  34.5480,2,   -999.0,5,  2.5960,     48.7,2,   145.94,2,    42.52,2,     0.00,2,     2.97,2, -999.000,9,-999.000,  -999.0,-999.000