BOTTLE,20220816CCHSIOAMB
EXPOCODE,SECT_ID,STNNBR,CASTNO,SAMPNO,BTLNBR,BTLNBR_FLAG_W,DATE,TIME,LATITUDE,LONGITUDE,DEPTH,CTDPRS,CTDTMP,CTDSAL,CTDSAL_FLAG_W,SALNTY,SALNTY_FLAG_W,CTDOXY,CTDOXY_FLAG_W,THETA,OXYGEN,OXYGEN_FLAG_W,SILCAT,SILCAT_FLAG_W,NITRAT,NITRAT_FLAG_W,NITRIT,NITRIT_FLAG_W,PHSPHT,PHSPHT_FLAG_W,TRITUM,TRITUM_FLAG_W,REVTMP,REVPRS,TRITER
,,,,,,,,,,,,DBAR,ITS-90,PSS-78,,PSS-78,,UMOL/KG,,DEG C,UMOL/KG,,UMOL/KG,,UMOL/KG,,UMOL/KG,,UMOL/KG,,TU,,,DBAR,TU
    31WTMARAII,   P16,    29,  1,      8,      8,2,19840514,0522, 31.1483,-152.0000, 5394,      3.6,  19.9297,  34.8946,2,  34.8940,2,   -999.0,5, 19.9290,    232.3,2,     4.20,2,     0.09,2,     0.00,2,     0.07,2, -999.000,9,  19.924,  -999.0,-999.000
    31WTMARAII,   P16,    29,  1,      9,      9,2,19840514,0522, 31.1483,-152.0000, 5394,     53.5,  16.9726,  34.6967,2,  34.6950,2,   -999.0,5, 16.9639,    249.1,2,     4.79,2,     0.05,2,     0.00,2,     0.13,2, -999.000,9,-999.000,  -999.0,-999.000
    31WTMARAII,   P16,    29,  1,     10,     10,2,19840514,0522, 31.1483,-152.0000, 5394,    103.8,  15.1666,  34.5475,2,  34.5500,2,   -999.0,5, 15.1508,    242.1,2,     5.87,2,     1.72,2,     0.33,2,     0.26,2, -999.000,9,-999.000,  -999.0,-999.000
    31WTMARAII,   P16,    29,  1,     11,     11,2,19840514,0522, 31.1483,-152.0000, 5394,    135.9,  13.8314,  34.4397,2,  34.4440,2,   -999.0,5, 13.8121,    228.6,2,     7.82,2,     5.88,2,     0.09,2,     0.48,2, -999.000,9,-999.000,  -999.0,-999.000
    31WTMARAII,   P16,    29,  1,     12,     12,2,19840514,0522, 31.1483,-152.0000, 5394,    168.8,  12.7422,  34.3432,2,  34.3450,2,   -999.0,5, 12.7195,    230.3,2,     9.48,2,     8.00,2,     0.02,2,     0.62,2, -999.000,9,  12.731,   170.0,-999.000
    31WTMARAII,   P16,    29,  1,     13,     13,2,19840514,0522, 31.1483,-152.0000, 5394,    199.6,  12.0245,  34.2845,2,  34.2860,2,   -999.0,5, 11.9986,    235.9,2,    10.75,2,     9.04,2,     0.01,2,     0.66,2, -999.000,9,-999.000,  -999.0,-999.000
    31WTMARAII,   P16,    29,  1,     14,     14,2,19840514,0522, 31.1483,-152.0000, 5394,    247.1,  11.1149,  34.2226,2,  34.2220,2,   -999.0,5, 11.0844,    232.4,2,    13.79,2,    11.24,2,     0.01,2,     0.80,2, -999.000,9,-999.000,  -999.0,-999.000
    31WTMARAII,   P16,    29,  1,     15,     15,2,19840514,0522, 31.1483,-152.0000, 5394,    302.5,  10.3988,  34.1900,2,  34.1900,2,   -999.0,5, 10.3630,    225.0,2,    17.31,2,    13.69,2,     0.00,2,     0.96,2, -999.000,9,  10.390,   310.0,-999.000
    31WTMARAII,   P16,    29,  1,     16,     16,2,19840514,0522, 31.1483,-152.0000, 5394,    403.9,   8.8466,  34.1057,2,  34.1060,2,   -999.0,5,  8.8032,    203.6,2,    27.48,2,    18.97,2,     0.01,2,     1.30,2, -999.000,9,-999.000,  -999.0,-999.000
    31WTMARAII,   P16,    29,  1,     17,     17,2,19840514,0522, 31.1483,-152.0000, 5394,    502.7,   7.0105,  34.0110,2,  34.0100,2,   -999.0,5,  6.9631,    166.2,2,    44.98,2,    26.11,2,     0.00,2,     1.80,2, -999.000,9,-999.000,  -999.0,-999.000
    31WTMARAII,   P16,    29,  1,     18,     18,2,19840514,0522, 31.1483,-152.0000, 5394,    604.5,   5.5303,  33.9959,2,  33.9980,2,   -999.0,5,  5.4797,    103.1,2,    67.96,2,    34.62,2,     0.00,2,     2.39,2, -999.000,9,-999.000,  -999.0,-999.000
    31WTMARAII,   P16,    29,  1,     19,     19,2,19840514,0522, 31.1483,-152.0000, 5394,    701.3,   4.5348,  34.0705,2,  34.0700,2,   -999.0,5,  4.4809,     56.1,2,    91.04,2,    40.29,2,     0.00,2,     2.80,2, -999.000,9,-999.000,  -999.0,-999.000
    31WTMARAII,   P16,    29,  1,     20,     20,2,19840514,0522, 31.1483,-152.0000, 5394,    795.8,   4.1771,  34.1768,2,  34.1760,2,   -999.0,5,  4.1175,     28.3,2,   105.60,2,    42.73,2,     0.00,2,     2.98,2, -999.000,9,-999.000,  -999.0,-999.000
    31WTMARAII,   P16,    29,  1,     21,     21,2,19840514,0522, 31.1483,-152.0000, 5394,    895.5,   3.8349,  34.2694,2,  34.2700,2,   -999.0,5,  3.7693,     14.8,2,   119.48,2,    44.00,2,     0.00,2,     3.10,2, -999.000,9,-999.000,  -999.0,-999.000
    31WTMARAII,   P16,    29,  1,     22,     22,2,19840514,0522, 31.1483,-152.0000, 5394,    993.6,   3.6188,  34.3379,2,  34.3380,2,   -999.0,5,  3.5469,     10.9,2,   126.90,2,    44.48,2,     0.01,2,  -999.00,9, -999.000,9,-999.000,  -999.0,-999.000
    31WTMARAII,   P16,    29,  1,     23,     23,2,19840514,0522, 31.1483,-152.0000, 5394,   1245.5,   3.1413,  34.4860,2,  34.4850,2,   -999.0,5,  3.0530,     27.8,2,   140.18,2,    43.99,2,     0.00,2,     3.03,2, -999.000,9,   3.132,  1244.0,-999.000
    31WTMARAII,   P16,    29,  1,     24,     24,2,19840514,0522, 31.1483,-152.0000, 5394,   1503.7,   2.6616,  34.5488,2,  34.5480,2,   -999.0,5,  2.5574,     43.5,2,   152.30,2,    43.11,2,     0.00,2,     3.01,2, -999.000,9,-999.000,  -999.0,-999.000
    31WTMARAII,   P16,    30,  1,      1,      1,2,19840514,1109, 31.4967,-152.0117, 5431,      1.0,  20.0940,-999.0000,9,  34.9730,2,   -999.0,5,-999.0000,   -999.0,9,     3.13,2,     0.00,2,     0.00,2,     0.03,2, -999.000,9,  20.089,     1.0,-999.000
    31WTMARAII,   P16,    30,  1,      2,      2,2,19840514,1109, 31.4967,-152.0117, 5431,     53.8,  16.9031,  34.7476,2,  34.7420,2,   -999.0,5, 16.8943,    243.5,2,     3.81,2,     0.03,2,     0.01,2,     0.10,2, -999.000,9,-999.000,  -999.0,-999.000
    31WTMARAII,   P16,    30,  1,      3,      3,2,19840514,1109, 31.4967,-152.0117, 5431,    105.1,  14.6977,  34.5065,2,  34.5090,2,   -999.0,5, 14.6822,    237.3,2,     5.47,2,     3.06,2,     0.23,2,     0.29,2, -999.000,9,-999.000,  -999.0,-999.000
    31WTMARAII,   P16,    30,  1,      4,      4,2,19840514,1109, 31.4967,-152.0117, 5431,    155.8,  12.8347,  34.3570,2,  34.3570,2,   -999.0,5, 12.8136,    229.4,2,     8.60,2,     7.77,2,     0.02,2,     0.58,2, -999.000,9,-999.000,  -999.0,-999.000
    31WTMARAII,   P16,    30,  1,      5,      5,2,19840514,1109, 31.4967,-152.0117, 5431,    206.1,  11.9853,  34.2980,2,  34.2980,2,   -999.0,5, 11.9586,    233.7,2,    10.75,2,     9.42,2,     0.01,2,     0.67,2, -999.000,9,-999.000,  -999.0,-999.000
    31WTMARAII,   P16,    30,  1,      6,      6,2,19840514,1109, 31.4967,-152.0117, 5431,    306.6,  10.5760,  34.2149,2,  34.2170,2,   -999.0,5, 10.5393,    223.7,2,    16.52,2,    13.40,2,     0.00,2,     0.95,2, -999.000,9,-999.000,  -999.0,-999.000
    31WTMARAII,   P16,    30,  1,      7,      7,2,19840514,1109, 31.4967,-152.0117, 5431,    407.5,   8.8947,  34.1101,2,  34.1090,2,   -999.0,5,  8.8508,    206.7,2,    26.01,2,    18.48,2,     0.00,2,     1.29,2, -999.000,9,-999.000,  -999.0,-999.000
    31WTMARAII,   P16,    30,  1,      8,      8,2,19840514,1109, 31.4967,-152.0117, 5431,    508.4,   6.9411,  34.0082,2,  34.0120,2,   -999.0,5,  6.8934,    162.7,2,    45.57,2,    26.40,2,     0.00,2,     1.82,2, -999.000,9,-999.000,  -999.0,-999.000
    31WTMARAII,   P16,    30,  1,      9,      9,2,19840514,1109, 31.4967,-152.0117, 5431,    608.8,   5.4089,  33.9941,2,  33.9990,2,   -999.0,5,  5.3585,    103.1,2,    69.73,2,    34.72,2,     0.00,2,     2.41,2, -999.000,9,-999.000,  -999.0,-999.000
    31WTMARAII,   P16,    30,  1,     10,     10,2,19840514,1109, 31.4967,-152.0117, 5431,    709.8,   4.4314,  34.0812,2,  34.0850,2,   -999.0,5,  4.3773,     51.7,2,    93.58,2,    40.58,2,     0.00,2,     2.83,2, -999.000,9,-999.000,  -999.0,-999.000
    31WTMARAII,   P16,    30,  1,     11,     11,2,19840514,1109, 31.4967,-152.0117, 5431,    810.7,   4.0358,  34.1899,2,  34.1940,2,   -999.0,5,  3.9758,     24.8,2,   108.73,2,    43.02,2,     0.00,2,     2.99,2, -999.000,9,-999.000,  -999.0,-999.000
    31WTMARAII,   P16,    30,  1,     12,     12,2,19840514,1109, 31.4967,-152.0117, 5431,    911.7,   3.7800,  34.2825,2,  34.2850,2,   -999.0,5,  3.7135,     13.9,2,   120.16,2,    44.00,2,     0.00,2,     3.08,2, -999.000,9,   3.770,   914.0,-999.000
    31WTMARAII,   P16,    30,  1,     13,     13,2,19840514,1109, 31.4967,-152.0117, 5431,   1013.1,   3.5343,  34.3512,2,  34.3520,2,   -999.0,5,  3.4615,     10.9,2,   128.27,2,    44.39,2,     0.00,2,     3.14,2, -999.000,9,-999.000,  -999.0,-999.000
    31WTMARAII,   P16,    30,  1,     14,     14,2,19840514,1109, 31.4967,-152.0117, 5431,   1266.3,   3.1343,  34.4842,2,  34.4870,2,   -999.0,5,  3.0444,     26.9,2,   139.50,2,    43.79,2,     0.00,2,     3.09,2, -999.000,9,-999.000,  -999.0,-999.000
    31WTMARAII,   P16,    30,  1,     15,     15,2,19840514,1109, 31.4967,-152.0117, 5431,   1519.0,   2.6777,  34.5496,2,  34.5520,2,   -999.0,5,  2.5721,     49.1,2,   148.88,2,    42.62,2,     0.00,2,     2.98,2, -999.000,9,   2.687,  -999.0,-999.000
    31WTMARAII,   P16,    30,  1,     16,     16,2,19840514,1109, 31.4967,-152.0117, 5431,   1772.1,   2.2384,  34.5885,2,  34.5890,2,   -999.0,5,  2.1175,     63.4,2,   162.95,2,    41.84,2,     0.00,2,     2.90,2, -999.000,9,-999.000,  -999.0,-999.000
    31WTMARAII,   P16,    30,  1,     17,     17,2,19840514,1109, 31.4967,-152.0117, 5431,   2025.3,   1.9659,  34.6137,2,-999.0000,9,   -999.0,5,  1.8280,     73.4,2,   171.06,2,    41.15,2,     0.00,2,     2.89,2, -999.000,9,-999.000,  -999.0,-999.000
    31WTMARAII,   P16,    30,  1,     18,     18,2,19840514,1109, 31.4967,-152.0117, 5431,   2532.3,   1.6804,  34.6466,2,  34.6490,2,   -999.0,5,  1.5032,     97.8,2,   175.16,2,    39.78,2,     0.00,2,     2.75,2, -999.000,9,-999.000,  -999.0,-999.000
    31WTMARAII,   P16,    30,  1,     19,     19,2,19840514,1109, 31.4967,-152.0117, 5431,   3041.5,   1.5171,  34.6682,2,  34.6690,2,   -999.0,5,  1.2960,    123.0,2,   169.49,2,    38.22,2,     0.00,2,     2.62,2, -999.000,9,-999.000,  -999.0,-999.000
    31WTMARAII,   P16,    30,  1,     20,     20,2,19840514,1109, 31.4967,-152.0117, 5431,   3546.7,   1.4574,  34.6805,2,  34.6820,2,   -999.0,5,  1.1875,    139.5,2,   162.35,2,    37.14,2,     0.00,2,     2.53,2, -999.000,9,-999.000,  -999.0,-999.000
    31WTMARAII,   P16,    30,  1,     21,     21,2,19840514,1109, 31.4967,-152.0117, 5431,   4056.4,   1.4570,  34.6872,2,  34.6870,2,   -999.0,5,  1.1331,    148.2,2,   158.73,2,    36.56,2,     0.00,2,     2.49,2, -999.000,9,-999.000,  -999.0,-999.000
    31WTMARAII,   P16,    30,  1,     22,     22,2,19840514,1109, 31.4967,-152.0117, 5431,   4568.1,   1.4865,  34.6911,2,-999.0000,9,   -999.0,5,  1.1040,   -999.0,9,  -999.00,9,    36.16,2,     0.02,2,  -999.00,9, -999.000,9,-999.000,  -999.0,-999.000
    31WTMARAII,   P16,    30,  1,     23,     23,2,19840514,1109, 31.4967,-152.0117, 5431,   5085.7,   1.5381,  34.6927,2,-999.0000,9,   -999.0,5,  1.0920,    157.3,2,   151.21,2,    35.87,2,     0.00,2,     2.39,2, -999.000,9,   1.543,  5092.0,-999.000
    31WTMARAII,   P16,    30,  1,     24,     24,2,19840514,1109, 31.4967,-152.0117, 5431,   5556.4,   1.5961,  34.6929,2,  34.6930,2,   -999.0,5,  1.0888,    159.0,2,   150.52,2,    35.87,2,     0.00,2,     2.41,2, -999.000,9,-999.000,  -999.0,-999.000
    31WTMARAII,   P16,    31,  1,      7,      7,2,19840514,1711, 31.8383,-151.9867, 5199,      1.8,  19.1799,  34.6636,2,  34.6660,2,   -999.0,5, 19.1796,    235.3,2,     3.52,2,     0.00,2,     0.00,2,     0.15,2, -999.000,9,  19.176,  -999.0,-999.000
    31WTMARAII,   P16,    31,  1,      8,      8,2,19840514,1711, 31.8383,-151.9867, 5199,     43.9,  16.4955,  34.5520,2,  34.5500,2,   -999.0,5, 16.4885,    252.6,2,     3.71,2,     0.00,2,     0.00,2,     0.13,2, -999.000,9,-999.000,  -999.0,-999.000
    31WTMARAII,   P16,    31,  1,      9,      9,2,19840514,1711, 31.8383,-151.9867, 5199,     84.5,  14.9783,  34.4431,2,  34.4390,2,   -999.0,5, 14.9657,    250.4,2,     4.20,2,     0.74,2,     0.19,2,     0.21,2, -999.000,9,-999.000,  -999.0,-999.000
    31WTMARAII,   P16,    31,  1,     10,     10,2,19840514,1711, 31.8383,-151.9867, 5199,    124.4,  12.8930,  34.2812,2,  34.2750,2,   -999.0,5, 12.8762,    238.6,2,     7.43,2,     6.36,2,     0.03,2,     0.53,2, -999.000,9,-999.000,  -999.0,-999.000
    31WTMARAII,   P16,    31,  1,     11,     11,2,19840514,1711, 31.8383,-151.9867, 5199,    164.3,  11.5730,  34.2111,2,  34.2120,2,   -999.0,5, 11.5522,    239.8,2,    10.66,2,     9.05,2,     0.01,2,     0.70,2, -999.000,9,-999.000,  -999.0,-999.000
    31WTMARAII,   P16,    31,  1,     12,     12,2,19840514,1711, 31.8383,-151.9867, 5199,    203.6,  11.3477,  34.2599,2,  34.2620,2,   -999.0,5, 11.3223,    237.2,2,    12.32,2,    10.36,2,     0.01,2,     0.76,2, -999.000,9,  11.354,   203.0,-999.000
    31WTMARAII,   P16,    31,  1,     13,     13,2,19840514,1711, 31.8383,-151.9867, 5199,    254.8,  10.6355,  34.2028,2,  34.2030,2,   -999.0,5, 10.6050,    239.3,2,    13.88,2,    11.64,2,     0.01,2,     0.85,2, -999.000,9,-999.000,  -999.0,-999.000
    31WTMARAII,   P16,    31,  1,     14,     14,2,19840514,1711, 31.8383,-151.9867, 5199,    304.6,  10.0128,  34.1627,2,  34.1620,2,   -999.0,5,  9.9776,    232.4,2,    17.40,2,    13.69,2,     0.01,2,     0.98,2, -999.000,9,-999.000,  -999.0,-999.000
    31WTMARAII,   P16,    31,  1,     15,     15,2,19840514,1711, 31.8383,-151.9867, 5199,    406.0,   8.5023,  34.0835,2,  34.0840,2,   -999.0,5,  8.4597,    203.2,2,    28.85,2,    19.56,2,     0.00,2,     1.37,2, -999.000,9,   8.518,  -999.0,-999.000
    31WTMARAII,   P16,    31,  1,     16,     16,2,19840514,1711, 31.8383,-151.9867, 5199,    507.8,   6.7518,  34.0024,2,  34.0040,2,   -999.0,5,  6.7049,    154.0,2,    47.82,2,    27.58,2,     0.00,2,     1.93,2, -999.000,9,-999.000,  -999.0,-999.000
    31WTMARAII,   P16,    31,  1,     17,     17,2,19840514,1711, 31.8383,-151.9867, 5199,    608.6,   5.1813,  34.0008,2,  34.0030,2,   -999.0,5,  5.1320,     97.4,2,    72.76,2,    35.50,2,     0.00,2,     2.49,2, -999.000,9,-999.000,  -999.0,-999.000
    31WTMARAII,   P16,    31,  1,     18,     18,2,19840514,1711, 31.8383,-151.9867, 5199,    709.4,   4.3692,  34.0773,2,  34.0770,2,   -999.0,5,  4.3156,     43.5,2,    93.19,2,    40.29,2,     0.00,2,     2.81,2, -999.000,9,-999.000,  -999.0,-999.000
    31WTMARAII,   P16,    31,  1,     19,     19,2,19840514,1711, 31.8383,-151.9867, 5199,    809.8,   3.9651,  34.1580,2,  34.1570,2,   -999.0,5,  3.9057,     33.0,2,   107.56,2,    42.53,2,     0.00,2,     2.95,2, -999.000,9,   3.969,  -999.0,-999.000
    31WTMARAII,   P16,    31,  1,     20,     20,2,19840514,1711, 31.8383,-151.9867, 5199,    911.0,   3.7047,  34.2603,2,  34.2600,2,   -999.0,5,  3.6388,     16.1,2,   119.48,2,    43.90,2,     0.00,2,     3.07,2, -999.000,9,-999.000,  -999.0,-999.000
    31WTMARAII,   P16,    31,  1,     21,     21,2,19840514,1711, 31.8383,-151.9867, 5199,   1012.5,   3.4690,  34.3529,2,  34.3520,2,   -999.0,5,  3.3968,     10.9,2,   129.83,2,    44.48,2,     0.00,2,     3.13,2, -999.000,9,-999.000,  -999.0,-999.000
    31WTMARAII,   P16,    31,  1,     22,     22,2,19840514,1711, 31.8383,-151.9867, 5199,   1264.4,   3.0359,  34.4838,2,  34.4840,2,   -999.0,5,  2.9471,     22.2,2,   142.63,2,    44.09,2,     0.01,2,  -999.00,9, -999.000,9,-999.000,  -999.0,-999.000
    31WTMARAII,   P16,    31,  1,     23,     23,2,19840514,1711, 31.8383,-151.9867, 5199,   1515.5,   2.6393,  34.5481,2,  34.5480,2,   -999.0,5,  2.5344,     45.6,2,   150.73,2,    42.91,2,     0.00,2,     2.96,2, -999.000,9,   2.633,  1513.0,-999.000