BOTTLE,20220816CCHSIOAMB
EXPOCODE,SECT_ID,STNNBR,CASTNO,SAMPNO,BTLNBR,BTLNBR_FLAG_W,DATE,TIME,LATITUDE,LONGITUDE,DEPTH,CTDPRS,CTDTMP,CTDSAL,CTDSAL_FLAG_W,SALNTY,SALNTY_FLAG_W,CTDOXY,CTDOXY_FLAG_W,THETA,OXYGEN,OXYGEN_FLAG_W,SILCAT,SILCAT_FLAG_W,NITRAT,NITRAT_FLAG_W,NITRIT,NITRIT_FLAG_W,PHSPHT,PHSPHT_FLAG_W,TRITUM,TRITUM_FLAG_W,REVTMP,REVPRS,TRITER
,,,,,,,,,,,,DBAR,ITS-90,PSS-78,,PSS-78,,UMOL/KG,,DEG C,UMOL/KG,,UMOL/KG,,UMOL/KG,,UMOL/KG,,UMOL/KG,,TU,,,DBAR,TU
    31WTMARAII,   P16,    14,  1,      7,      7,2,19840508,2040, 25.9000,-153.8900, 5369,      2.4,  24.3674,  35.2247,2,  35.2250,2,   -999.0,5, 24.3669,    214.6,2,     1.47,2,     0.00,2,     0.01,2,     0.16,2, -999.000,9,  24.359,  -999.0,-999.000
    31WTMARAII,   P16,    14,  1,      8,      8,2,19840508,2040, 25.9000,-153.8900, 5369,     21.8,  24.0684,  35.2013,2,  35.2000,2,   -999.0,5, 24.0638,    216.4,2,     0.49,2,     0.00,2,     0.01,2,     0.14,2, -999.000,9,-999.000,  -999.0,-999.000
    31WTMARAII,   P16,    14,  1,      9,      9,2,19840508,2040, 25.9000,-153.8900, 5369,     51.9,  23.7614,  35.1759,2,  35.1740,2,   -999.0,5, 23.7506,    215.0,2,     0.49,2,     0.00,2,     0.01,2,  -999.00,9, -999.000,9,-999.000,  -999.0,-999.000
    31WTMARAII,   P16,    14,  1,     10,     10,2,19840508,2040, 25.9000,-153.8900, 5369,    101.7,  23.4646,  35.2126,2,  35.2090,2,   -999.0,5, 23.4435,    215.0,2,     0.00,2,     0.00,2,     0.01,2,     0.12,2, -999.000,9,-999.000,  -999.0,-999.000
    31WTMARAII,   P16,    14,  1,     11,     11,2,19840508,2040, 25.9000,-153.8900, 5369,    134.7,  22.4767,  35.2223,2,  35.2210,2,   -999.0,5, 22.4496,    213.6,2,     0.29,2,     0.00,2,     0.01,2,     0.19,2, -999.000,9,-999.000,  -999.0,-999.000
    31WTMARAII,   P16,    14,  1,     12,     12,2,19840508,2040, 25.9000,-153.8900, 5369,    168.4,  21.2379,  35.2129,2,  35.2090,2,   -999.0,5, 21.2054,    210.1,2,     0.59,2,     0.16,2,     0.18,2,     0.17,2, -999.000,9,  21.238,   170.0,-999.000
    31WTMARAII,   P16,    14,  1,     13,     13,2,19840508,2040, 25.9000,-153.8900, 5369,    203.0,  19.3574,  35.0167,2,  35.0130,2,   -999.0,5, 19.3207,    191.7,2,     1.56,2,     2.58,2,     0.03,2,     0.34,2, -999.000,9,-999.000,  -999.0,-999.000
    31WTMARAII,   P16,    14,  1,     14,     14,2,19840508,2040, 25.9000,-153.8900, 5369,    253.3,  17.3390,  34.8309,2,  34.8300,2,   -999.0,5, 17.2966,    199.1,2,     2.83,2,     3.70,2,     0.02,2,     0.40,2, -999.000,9,-999.000,  -999.0,-999.000
    31WTMARAII,   P16,    14,  1,     15,     15,2,19840508,2040, 25.9000,-153.8900, 5369,    304.2,  13.6311,  34.3279,2,  34.3190,2,   -999.0,5, 13.5880,    188.1,2,     7.63,2,     9.30,2,     0.02,2,  -999.00,9, -999.000,9,  13.621,   303.0,-999.000
    31WTMARAII,   P16,    14,  1,     16,     16,2,19840508,2040, 25.9000,-153.8900, 5369,    405.2,   9.9471,  34.1095,2,  34.1100,2,   -999.0,5,  9.9003,    173.6,2,    20.93,2,    18.38,2,     0.01,2,  -999.00,9, -999.000,9,-999.000,  -999.0,-999.000
    31WTMARAII,   P16,    14,  1,     17,     17,2,19840508,2040, 25.9000,-153.8900, 5369,    506.3,   7.4778,  34.0651,2,  34.0670,2,   -999.0,5,  7.4283,    116.1,2,    43.91,2,    28.55,2,     0.02,2,  -999.00,9, -999.000,9,-999.000,  -999.0,-999.000
    31WTMARAII,   P16,    14,  1,     18,     18,2,19840508,2040, 25.9000,-153.8900, 5369,    606.8,   5.7837,  34.0598,2,  34.0620,2,   -999.0,5,  5.7317,     73.9,2,    68.55,2,    35.89,2,     0.01,2,  -999.00,9, -999.000,9,-999.000,  -999.0,-999.000
    31WTMARAII,   P16,    14,  1,     19,     19,2,19840508,2040, 25.9000,-153.8900, 5369,    706.4,   4.9479,  34.1469,2,  34.1490,2,   -999.0,5,  4.8913,     43.0,2,    88.20,2,    39.89,2,     0.02,2,  -999.00,9, -999.000,9,   4.957,   704.0,-999.000
    31WTMARAII,   P16,    14,  1,     20,     20,2,19840508,2040, 25.9000,-153.8900, 5369,    799.5,   4.4966,  34.2655,2,  34.2630,2,   -999.0,5,  4.4345,     28.7,2,   100.61,2,    41.94,2,     0.01,2,     2.98,2, -999.000,9,-999.000,  -999.0,-999.000
    31WTMARAII,   P16,    14,  1,     21,     21,2,19840508,2040, 25.9000,-153.8900, 5369,    901.3,   4.1221,  34.3534,2,  34.3540,2,   -999.0,5,  4.0539,     29.1,2,   113.11,2,    42.53,2,     0.01,2,     3.03,2, -999.000,9,-999.000,  -999.0,-999.000
    31WTMARAII,   P16,    14,  1,     22,     22,2,19840508,2040, 25.9000,-153.8900, 5369,   1004.9,   3.8208,  34.4277,2,  34.4290,2,   -999.0,5,  3.7463,     36.1,2,   118.97,2,    42.33,2,     0.02,2,  -999.00,9, -999.000,9,-999.000,  -999.0,-999.000
    31WTMARAII,   P16,    14,  1,     23,     23,2,19840508,2040, 25.9000,-153.8900, 5369,   1262.6,   3.2738,  34.5130,2,  34.5150,2,   -999.0,5,  3.1828,     53.9,2,   130.99,2,    41.74,2,     0.02,2,     2.91,2, -999.000,9,   3.267,  1258.0,-999.000
    31WTMARAII,   P16,    14,  1,     24,     24,2,19840508,2040, 25.9000,-153.8900, 5369,   1511.4,   2.7668,  34.5596,2,  34.5610,2,   -999.0,5,  2.6608,     63.9,2,   143.40,2,    41.25,2,     0.03,2,  -999.00,9, -999.000,9,-999.000,  -999.0,-999.000
    31WTMARAII,   P16,    15,  1,      1,      1,2,19840509,0300, 26.2583,-153.5950, 5351,     10.0,  24.4230,-999.0000,9,  35.1860,2,   -999.0,5,-999.0000,   -999.0,9,     0.00,2,     0.02,2,     0.03,2,     0.12,2, -999.000,9,  24.417,    10.0,-999.000
    31WTMARAII,   P16,    15,  1,      2,      2,2,19840509,0300, 26.2583,-153.5950, 5351,     56.5,  23.6672,  35.2112,2,  35.2090,2,   -999.0,5, 23.6555,    218.1,2,     0.00,2,     0.02,2,     0.03,2,     0.11,2, -999.000,9,-999.000,  -999.0,-999.000
    31WTMARAII,   P16,    15,  1,      3,      3,2,19840509,0300, 26.2583,-153.5950, 5351,    106.6,  22.3607,  35.2305,2,  35.2290,2,   -999.0,5, 22.3393,    213.2,2,     0.20,2,     0.02,2,     0.03,2,     0.13,2, -999.000,9,-999.000,  -999.0,-999.000
    31WTMARAII,   P16,    15,  1,      4,      4,2,19840509,0300, 26.2583,-153.5950, 5351,    156.5,  19.6755,  35.0536,2,  35.0500,2,   -999.0,5, 19.6469,    192.6,2,     1.17,2,     2.29,2,     0.06,2,     0.31,2, -999.000,9,-999.000,  -999.0,-999.000
    31WTMARAII,   P16,    15,  1,      5,      5,2,19840509,0300, 26.2583,-153.5950, 5351,    207.6,  17.1240,  34.7980,2,  34.7950,2,   -999.0,5, 17.0896,    196.0,2,     2.83,2,     4.45,2,     0.04,2,     0.42,2, -999.000,9,-999.000,  -999.0,-999.000
    31WTMARAII,   P16,    15,  1,      6,      6,2,19840509,0300, 26.2583,-153.5950, 5351,    308.9,  12.5935,  34.2891,2,  34.2900,2,   -999.0,5, 12.5520,    229.0,2,     7.63,2,     7.82,2,     0.03,2,     0.66,2, -999.000,9,-999.000,  -999.0,-999.000
    31WTMARAII,   P16,    15,  1,      7,      7,2,19840509,0300, 26.2583,-153.5950, 5351,    408.8,   9.8733,  34.1174,2,  34.1190,2,   -999.0,5,  9.8262,    189.7,2,    19.85,2,    17.50,2,     0.02,2,     1.28,2, -999.000,9,-999.000,  -999.0,-999.000
    31WTMARAII,   P16,    15,  1,      8,      8,2,19840509,0300, 26.2583,-153.5950, 5351,    509.8,   7.8140,  34.0437,2,  34.0460,2,   -999.0,5,  7.7628,    155.7,2,    36.96,2,    25.13,2,     0.02,2,     1.77,2, -999.000,9,-999.000,  -999.0,-999.000
    31WTMARAII,   P16,    15,  1,      9,      9,2,19840509,0300, 26.2583,-153.5950, 5351,    609.7,   6.1290,  34.0423,2,  34.0450,2,   -999.0,5,  6.0751,     87.0,2,    61.51,2,    34.32,2,     0.03,2,  -999.00,9, -999.000,9,-999.000,  -999.0,-999.000
    31WTMARAII,   P16,    15,  1,     10,     10,2,19840509,0300, 26.2583,-153.5950, 5351,    710.6,   5.1228,  34.1476,2,  34.1520,2,   -999.0,5,  5.0649,     40.9,2,    84.87,2,    39.99,2,     0.02,2,     2.86,2, -999.000,9,-999.000,  -999.0,-999.000
    31WTMARAII,   P16,    15,  1,     11,     11,2,19840509,0300, 26.2583,-153.5950, 5351,    812.8,   4.5886,  34.2710,2,  34.2730,2,   -999.0,5,  4.5248,     26.1,2,    99.53,2,    42.14,2,     0.02,2,     2.99,2, -999.000,9,-999.000,  -999.0,-999.000
    31WTMARAII,   P16,    15,  1,     12,     12,2,19840509,0300, 26.2583,-153.5950, 5351,    913.6,   4.1927,  34.3366,2,  34.3370,2,   -999.0,5,  4.1230,     28.3,2,   108.42,2,    42.53,2,     0.02,2,     3.00,2, -999.000,9,   4.187,   914.0,-999.000
    31WTMARAII,   P16,    15,  1,     13,     13,2,19840509,0300, 26.2583,-153.5950, 5351,   1014.4,   3.8864,  34.4103,2,  34.4110,2,   -999.0,5,  3.8106,     34.8,2,   117.80,2,    42.53,2,     0.02,2,     3.01,2, -999.000,9,-999.000,  -999.0,-999.000
    31WTMARAII,   P16,    15,  1,     14,     14,2,19840509,0300, 26.2583,-153.5950, 5351,   1266.5,   3.3400,  34.5122,2,  34.5130,2,   -999.0,5,  3.2480,     54.8,2,   127.96,2,    41.64,2,     0.02,2,     2.93,2, -999.000,9,-999.000,  -999.0,-999.000
    31WTMARAII,   P16,    15,  1,     15,     15,2,19840509,0300, 26.2583,-153.5950, 5351,   1519.7,   2.7646,  34.5589,2,  34.5580,2,   -999.0,5,  2.6579,     67.8,2,   141.93,2,    41.15,2,     0.02,2,  -999.00,9, -999.000,9,   2.736,  1529.0,-999.000
    31WTMARAII,   P16,    15,  1,     16,     16,2,19840509,0300, 26.2583,-153.5950, 5351,   1773.3,   2.3767,  34.5885,2,  34.5880,2,   -999.0,5,  2.2538,     75.6,2,   149.85,2,    40.76,2,     0.02,2,  -999.00,9, -999.000,9,-999.000,  -999.0,-999.000
    31WTMARAII,   P16,    15,  1,     17,     17,2,19840509,0300, 26.2583,-153.5950, 5351,   2026.2,   2.0669,  34.6122,2,  34.6130,2,   -999.0,5,  1.9273,     83.9,2,   158.74,2,    40.27,2,     0.02,2,  -999.00,9, -999.000,9,-999.000,  -999.0,-999.000
    31WTMARAII,   P16,    15,  1,     18,     18,2,19840509,0300, 26.2583,-153.5950, 5351,   2533.1,   1.7067,  34.6463,2,  34.6470,2,   -999.0,5,  1.5290,    104.3,2,   168.61,2,    39.10,2,     0.01,2,  -999.00,9, -999.000,9,-999.000,  -999.0,-999.000
    31WTMARAII,   P16,    15,  1,     19,     19,2,19840509,0300, 26.2583,-153.5950, 5351,   3043.8,   1.5492,  34.6669,2,  34.6680,2,   -999.0,5,  1.3272,    123.0,2,   164.89,2,    37.83,2,     0.02,2,  -999.00,9, -999.000,9,   1.549,  3050.0,-999.000
    31WTMARAII,   P16,    15,  1,     20,     20,2,19840509,0300, 26.2583,-153.5950, 5351,   3554.3,   1.4887,  34.6775,2,  34.6770,2,   -999.0,5,  1.2173,    138.2,2,   161.96,2,    36.95,2,     0.01,2,     2.51,2, -999.000,9,-999.000,  -999.0,-999.000
    31WTMARAII,   P16,    15,  1,     21,     21,2,19840509,0300, 26.2583,-153.5950, 5351,   4066.2,   1.4679,  34.6841,2,  34.6850,2,   -999.0,5,  1.1427,    148.6,2,   155.90,2,    36.16,2,     0.01,2,     2.45,2, -999.000,9,-999.000,  -999.0,-999.000
    31WTMARAII,   P16,    15,  1,     22,     22,2,19840509,0300, 26.2583,-153.5950, 5351,   4578.1,   1.4753,  34.6884,2,  34.6870,2,   -999.0,5,  1.0921,    154.3,2,   149.84,2,    35.68,2,     0.02,2,  -999.00,9, -999.000,9,-999.000,  -999.0,-999.000
    31WTMARAII,   P16,    15,  1,     23,     23,2,19840509,0300, 26.2583,-153.5950, 5351,   5092.1,   1.5003,  34.6914,2,  34.6890,2,   -999.0,5,  1.0548,    157.7,2,  -999.00,9,    35.38,2,     0.01,2,  -999.00,9, -999.000,9,-999.000,  -999.0,-999.000
    31WTMARAII,   P16,    15,  1,     24,     24,2,19840509,0300, 26.2583,-153.5950, 5351,   5470.1,   1.5300,  34.6931,2,  34.6910,2,   -999.0,5,  1.0361,    159.5,2,   144.75,2,    35.28,2,     0.02,2,  -999.00,9, -999.000,9,-999.000,  -999.0,-999.000
    31WTMARAII,   P16,    16,  1,      7,      7,2,19840509,0853, 26.6067,-153.2733, 5299,     10.6,  24.2287,  35.2826,2,  35.2880,2,   -999.0,5, 24.2264,    214.6,2,     2.25,2,     0.01,2,     0.00,2,     0.13,2,    3.080,2,  24.221,  -999.0,   0.120
    31WTMARAII,   P16,    16,  1,      9,      9,2,19840509,0853, 26.6067,-153.2733, 5299,     50.9,  22.9442,  35.2620,2,  35.2580,2,   -999.0,5, 22.9338,    213.7,2,     1.76,2,     0.02,2,     0.00,2,  -999.00,9, -999.000,9,-999.000,  -999.0,-999.000
    31WTMARAII,   P16,    16,  1,     10,     10,2,19840509,0853, 26.6067,-153.2733, 5299,    101.7,  20.8554,  35.1933,2,  35.1910,2,   -999.0,5, 20.8360,    220.5,2,     1.66,2,     0.01,2,     0.00,2,     0.14,2, -999.000,9,-999.000,  -999.0,-999.000
    31WTMARAII,   P16,    16,  1,     11,     11,2,19840509,0853, 26.6067,-153.2733, 5299,    134.7,  19.5797,  35.1318,2,  35.0990,2,   -999.0,5, 19.5552,    223.5,2,     2.35,2,     0.06,2,     0.06,2,     0.14,2,    2.990,2,-999.000,  -999.0,   0.100
    31WTMARAII,   P16,    16,  1,     12,     12,2,19840509,0853, 26.6067,-153.2733, 5299,    168.1,  17.9381,  34.9326,2,  34.9330,2,   -999.0,5, 17.9094,    221.7,2,     2.74,2,     0.97,2,     0.22,2,     0.21,2, -999.000,9,  17.936,   170.0,-999.000
    31WTMARAII,   P16,    16,  1,     13,     13,2,19840509,0853, 26.6067,-153.2733, 5299,    202.7,  16.0245,  34.7156,2,  34.7120,2,   -999.0,5, 15.9925,    217.3,2,     3.91,2,     3.61,2,     0.01,2,     0.36,2,    2.907,2,-999.000,  -999.0,   0.124
    31WTMARAII,   P16,    16,  1,     14,     14,2,19840509,0853, 26.6067,-153.2733, 5299,    253.1,  13.8902,  34.4621,2,  34.4610,2,   -999.0,5, 13.8539,    219.4,2,     6.35,2,     6.71,2,     0.01,2,     0.57,2, -999.000,9,-999.000,  -999.0,-999.000
    31WTMARAII,   P16,    16,  1,     15,     15,2,19840509,0853, 26.6067,-153.2733, 5299,    303.2,  11.9270,  34.2728,2,  34.2730,2,   -999.0,5, 11.8878,    214.1,2,    10.95,2,    11.05,2,     0.00,2,  -999.00,9,    3.450,2,  11.946,   303.0,   0.130
    31WTMARAII,   P16,    16,  1,     16,     16,2,19840509,0853, 26.6067,-153.2733, 5299,    403.3,   9.6174,  34.1242,2,  34.1260,2,   -999.0,5,  9.5718,    204.5,2,    20.24,2,    16.82,2,     0.00,2,  -999.00,9,    3.233,2,-999.000,  -999.0,   0.106
    31WTMARAII,   P16,    16,  1,     17,     17,2,19840509,0853, 26.6067,-153.2733, 5299,    503.0,   7.7606,  34.0375,2,  34.0390,2,   -999.0,5,  7.7104,    167.5,2,    36.18,2,    23.96,2,     0.00,2,  -999.00,9,    2.909,2,-999.000,  -999.0,   0.127
    31WTMARAII,   P16,    16,  1,     18,     18,2,19840509,0853, 26.6067,-153.2733, 5299,    602.6,   6.0033,  34.0521,2,  34.0500,2,   -999.0,5,  5.9507,     87.9,2,    63.46,2,    34.52,2,     0.00,2,  -999.00,9,    1.050,2,-999.000,  -999.0,   0.070
    31WTMARAII,   P16,    16,  1,     19,     19,2,19840509,0853, 26.6067,-153.2733, 5299,    698.6,   4.9855,  34.1309,2,  34.1330,2,   -999.0,5,  4.9293,     47.8,2,    85.27,2,    39.70,2,     0.00,2,  -999.00,9,    0.200,2,-999.000,  -999.0,   0.050
    31WTMARAII,   P16,    16,  1,     20,     20,2,19840509,0853, 26.6067,-153.2733, 5299,    788.7,   4.4121,  34.2022,2,  34.2000,2,   -999.0,5,  4.3516,     31.3,2,   100.91,2,    41.95,2,     0.00,2,     2.96,2,    0.070,2,-999.000,  -999.0,   0.050
    31WTMARAII,   P16,    16,  1,     21,     21,2,19840509,0853, 26.6067,-153.2733, 5299,    889.7,   4.1800,  34.3281,2,  34.3270,2,   -999.0,5,  4.1124,     28.3,2,   108.91,2,    42.53,2,     0.00,2,     3.02,2, -999.000,9,-999.000,  -999.0,-999.000
    31WTMARAII,   P16,    16,  1,     22,     22,2,19840509,0853, 26.6067,-153.2733, 5299,    993.5,   3.8775,  34.4071,2,  34.4080,2,   -999.0,5,  3.8034,     33.9,2,   116.53,2,    42.62,2,     0.01,2,  -999.00,9, -999.000,9,-999.000,  -999.0,-999.000
    31WTMARAII,   P16,    16,  1,     23,     23,2,19840509,0853, 26.6067,-153.2733, 5299,   1246.4,   3.2838,  34.5063,2,  34.5100,2,   -999.0,5,  3.1941,     49.5,2,   129.52,2,    41.94,2,     0.00,2,     2.89,2, -999.000,9,   3.272,  1246.0,-999.000
    31WTMARAII,   P16,    16,  1,     24,     24,2,19840509,0853, 26.6067,-153.2733, 5299,   1495.7,   2.7950,  34.5530,2,  34.5530,2,   -999.0,5,  2.6899,     62.1,2,   141.05,2,    41.45,2,     0.00,2,  -999.00,9, -999.000,9,-999.000,  -999.0,-999.000