BOTTLE,20220816CCHSIOAMB
EXPOCODE,SECT_ID,STNNBR,CASTNO,SAMPNO,BTLNBR,BTLNBR_FLAG_W,DATE,TIME,LATITUDE,LONGITUDE,DEPTH,CTDPRS,CTDTMP,CTDSAL,CTDSAL_FLAG_W,SALNTY,SALNTY_FLAG_W,CTDOXY,CTDOXY_FLAG_W,THETA,OXYGEN,OXYGEN_FLAG_W,SILCAT,SILCAT_FLAG_W,NITRAT,NITRAT_FLAG_W,NITRIT,NITRIT_FLAG_W,PHSPHT,PHSPHT_FLAG_W,TRITUM,TRITUM_FLAG_W,REVTMP,REVPRS,TRITER
,,,,,,,,,,,,DBAR,ITS-90,PSS-78,,PSS-78,,UMOL/KG,,DEG C,UMOL/KG,,UMOL/KG,,UMOL/KG,,UMOL/KG,,UMOL/KG,,TU,,,DBAR,TU
    31WTMARAII,   P16,    85,  2,      1,      1,2,19840530,1947, 53.3417,-151.9817, 4544,      1.0,   6.9660,-999.0000,9,  32.8250,2,   -999.0,5,-999.0000,   -999.0,9,    31.12,2,    16.54,2,     0.18,2,     1.46,2,    3.180,2,   6.964,     1.0,   0.110
    31WTMARAII,   P16,    85,  2,      2,      2,2,19840530,1947, 53.3417,-151.9817, 4544,     20.7,   5.9068,  32.8229,2,  32.8250,2,   -999.0,5,  5.9052,    328.7,2,    31.81,2,    16.83,2,     0.17,2,     1.47,2,    3.340,2,-999.000,  -999.0,   0.142
    31WTMARAII,   P16,    85,  2,      3,      3,2,19840530,1947, 53.3417,-151.9817, 4544,     49.5,   4.6821,  32.8321,2,  32.8350,2,   -999.0,5,  4.6786,    321.2,2,    32.69,2,    18.11,2,     0.16,2,     1.56,2,    3.073,2,-999.000,  -999.0,   0.144
    31WTMARAII,   P16,    85,  2,      4,      4,2,19840530,1947, 53.3417,-151.9817, 4544,     99.2,   3.9965,  33.6686,2,  33.6620,2,   -999.0,5,  3.9898,    109.2,2,    69.94,2,    37.56,2,     0.01,2,     2.63,2,    2.920,2,-999.000,  -999.0,   0.110
    31WTMARAII,   P16,    85,  2,      5,      5,2,19840530,1947, 53.3417,-151.9817, 4544,    150.5,   3.7721,  33.8414,2,  33.8440,2,   -999.0,5,  3.7621,     58.3,2,    85.38,2,    41.96,2,     0.00,2,     2.91,2,    2.090,2,-999.000,  -999.0,   0.100
    31WTMARAII,   P16,    85,  2,      6,      6,2,19840530,1947, 53.3417,-151.9817, 4544,    199.0,   3.7257,  33.9027,2,  33.9040,2,   -999.0,5,  3.7125,     41.3,2,    92.52,2,    43.32,2,     0.00,2,     2.99,2,    1.890,2,-999.000,  -999.0,   0.090
    31WTMARAII,   P16,    85,  2,      7,      7,2,19840530,1947, 53.3417,-151.9817, 4544,    247.3,   3.7121,  33.9544,2,  33.9560,2,   -999.0,5,  3.6956,     32.2,2,    98.09,2,    43.81,2,     0.00,2,     3.02,2,    1.530,2,-999.000,  -999.0,   0.080
    31WTMARAII,   P16,    85,  2,      8,      8,2,19840530,1947, 53.3417,-151.9817, 4544,    296.2,   3.6759,  34.0101,2,  34.0110,2,   -999.0,5,  3.6561,     30.0,2,   104.54,2,    43.81,2,     0.00,2,     3.04,2,    1.120,2,-999.000,  -999.0,   0.070
    31WTMARAII,   P16,    85,  2,      9,      9,2,19840530,1947, 53.3417,-151.9817, 4544,    399.0,   3.5621,  34.1249,2,  34.1260,2,   -999.0,5,  3.5354,     22.6,2,   116.46,2,    43.81,2,     0.00,2,     3.04,2,    0.700,2,-999.000,  -999.0,   0.070
    31WTMARAII,   P16,    85,  2,     10,     10,2,19840530,1947, 53.3417,-151.9817, 4544,    503.8,   3.4236,  34.1954,2,  34.1960,2,   -999.0,5,  3.3899,     20.4,2,   124.47,2,    43.80,2,     0.00,2,     3.05,2,    0.400,2,-999.000,  -999.0,   0.070
    31WTMARAII,   P16,    85,  2,     11,     11,2,19840530,1947, 53.3417,-151.9817, 4544,    600.9,   3.2840,  34.2455,2,  34.2460,2,   -999.0,5,  3.2440,     20.9,2,   129.26,2,    43.70,2,     0.00,2,     3.03,2,    0.331,2,-999.000,  -999.0,   0.052
    31WTMARAII,   P16,    85,  2,     12,     12,2,19840530,1947, 53.3417,-151.9817, 4544,    699.8,   3.1249,  34.2939,2,  34.2960,2,   -999.0,5,  3.0786,     21.3,2,   133.85,2,    43.70,2,     0.00,2,     3.03,2,    0.088,2,-999.000,  -999.0,   0.052
    31WTMARAII,   P16,    85,  2,     13,     13,2,19840530,1947, 53.3417,-151.9817, 4544,    805.8,   2.9628,  34.3382,2,  34.3400,2,   -999.0,5,  2.9098,   -999.0,9,   140.69,2,    43.80,2,     0.00,2,     3.05,2,    0.170,2,-999.000,  -999.0,   0.060
    31WTMARAII,   P16,    85,  2,     14,     14,2,19840530,1947, 53.3417,-151.9817, 4544,    904.6,   2.8189,  34.3743,2,  34.3760,2,   -999.0,5,  2.7597,     22.6,2,   143.81,2,    43.70,2,     0.00,2,     3.04,2,    0.070,2,-999.000,  -999.0,   0.070
    31WTMARAII,   P16,    85,  2,     15,     15,2,19840530,1947, 53.3417,-151.9817, 4544,   1007.1,   2.7061,  34.4038,2,  34.4060,2,   -999.0,5,  2.6401,     23.0,2,   149.67,2,    43.70,2,     0.00,2,     3.03,2, -999.000,9,-999.000,  -999.0,-999.000
    31WTMARAII,   P16,    85,  2,     16,     16,2,19840530,1947, 53.3417,-151.9817, 4544,   1262.5,   2.4371,  34.4697,2,  34.4720,2,   -999.0,5,  2.3544,     26.5,2,   156.51,2,    43.40,2,     0.00,2,     3.02,2, -999.000,9,-999.000,  -999.0,-999.000
    31WTMARAII,   P16,    85,  2,     17,     17,2,19840530,1947, 53.3417,-151.9817, 4544,   1522.1,   2.1996,  34.5238,2,  34.5260,2,   -999.0,5,  2.0994,     36.5,2,   166.57,2,    43.21,2,     0.00,2,     2.99,2, -999.000,9,-999.000,  -999.0,-999.000
    31WTMARAII,   P16,    85,  2,     18,     18,2,19840530,1947, 53.3417,-151.9817, 4544,   1747.3,   2.0554,  34.5567,2,  34.5600,2,   -999.0,5,  1.9392,     47.4,2,   169.70,2,    42.62,2,     0.00,2,     2.95,2, -999.000,9,-999.000,  -999.0,-999.000
    31WTMARAII,   P16,    85,  2,     19,     19,2,19840530,1947, 53.3417,-151.9817, 4544,   2035.6,   1.8793,  34.5936,2,  34.5950,2,   -999.0,5,  1.7419,     65.2,2,  -999.00,9,    41.74,2,     0.00,2,     2.88,2, -999.000,9,   1.884,  2037.0,-999.000
    31WTMARAII,   P16,    85,  2,     20,     20,2,19840530,1947, 53.3417,-151.9817, 4544,   2529.0,   1.6843,  34.6333,2,  34.6350,2,   -999.0,5,  1.5074,     90.8,2,   170.08,2,    40.08,2,     0.00,2,     2.76,2, -999.000,9,-999.000,  -999.0,-999.000
    31WTMARAII,   P16,    85,  2,     21,     21,2,19840530,1947, 53.3417,-151.9817, 4544,   3038.8,   1.5581,  34.6576,2,  34.6600,2,   -999.0,5,  1.3364,    115.6,2,   170.07,2,    38.61,2,     0.00,2,     2.64,2, -999.000,9,-999.000,  -999.0,-999.000
    31WTMARAII,   P16,    85,  2,     25,     25,2,19840530,1947, 53.3417,-151.9817, 4544,   3554.2,   1.4861,  34.6743,2,  34.6750,2,   -999.0,5,  1.2148,    134.3,2,  -999.00,9,    37.44,2,     0.00,2,     2.57,2, -999.000,9,-999.000,  -999.0,-999.000
    31WTMARAII,   P16,    85,  2,     23,     23,2,19840530,1947, 53.3417,-151.9817, 4544,   4119.0,   1.4834,  34.6833,2,  34.6830,2,   -999.0,5,  1.1519,    143.4,2,   167.24,2,    36.85,2,     0.00,2,  -999.00,9, -999.000,9,   1.484,  4118.0,-999.000
    31WTMARAII,   P16,    85,  2,     24,     24,2,19840530,1947, 53.3417,-151.9817, 4544,   4620.4,   1.5036,  34.6877,2,  34.6880,2,   -999.0,5,  1.1145,    150.3,2,  -999.00,9,    36.26,2,     0.00,2,     2.48,2, -999.000,9,-999.000,  -999.0,-999.000
    31WTMARAII,   P16,    86,  1,      1,      1,2,19840531,0211, 53.6850,-151.9817, 4851,      1.0,   6.9980,-999.0000,9,  32.8030,2,   -999.0,5,-999.0000,   -999.0,9,    31.22,2,    16.15,2,     0.19,2,     1.45,2, -999.000,9,   6.996,     1.0,-999.000
    31WTMARAII,   P16,    86,  1,      2,      2,2,19840531,0211, 53.6850,-151.9817, 4851,     12.3,   6.9927,  32.7958,2,  32.8010,2,   -999.0,5,  6.9916,    317.8,2,    31.42,2,    16.15,2,     0.19,2,     1.45,2, -999.000,9,-999.000,  -999.0,-999.000
    31WTMARAII,   P16,    86,  1,      3,      3,2,19840531,0211, 53.6850,-151.9817, 4851,     28.1,   5.3617,  32.8122,2,  32.8160,2,   -999.0,5,  5.3595,    330.0,2,    31.42,2,    16.54,2,     0.17,2,     1.46,2, -999.000,9,-999.000,  -999.0,-999.000
    31WTMARAII,   P16,    86,  1,      4,      4,2,19840531,0211, 53.6850,-151.9817, 4851,     62.5,   4.5999,  32.8272,2,  32.8330,2,   -999.0,5,  4.5955,    316.0,2,    32.69,2,    18.11,2,     0.20,2,     1.57,2, -999.000,9,-999.000,  -999.0,-999.000
    31WTMARAII,   P16,    86,  1,      5,      5,2,19840531,0211, 53.6850,-151.9817, 4851,    140.1,   3.9003,  33.8004,2,  33.8040,2,   -999.0,5,  3.8909,     68.3,2,    81.28,2,    40.78,2,     0.01,2,     2.87,2, -999.000,9,-999.000,  -999.0,-999.000
    31WTMARAII,   P16,    86,  1,      6,      6,2,19840531,0211, 53.6850,-151.9817, 4851,    215.7,   3.8319,  33.9315,2,  33.9350,2,   -999.0,5,  3.8173,     33.0,2,    94.08,2,    43.52,2,     0.01,2,     3.03,2, -999.000,9,-999.000,  -999.0,-999.000
    31WTMARAII,   P16,    86,  1,      7,      7,2,19840531,0211, 53.6850,-151.9817, 4851,    298.7,   3.8083,  34.0529,2,  34.0560,2,   -999.0,5,  3.7880,     24.8,2,   105.02,2,    43.52,2,     0.01,2,     3.04,2, -999.000,9,-999.000,  -999.0,-999.000
    31WTMARAII,   P16,    86,  1,      8,      8,2,19840531,0211, 53.6850,-151.9817, 4851,    395.2,   3.6495,  34.1361,2,  34.1380,2,   -999.0,5,  3.6228,     20.0,2,   115.28,2,    43.61,2,     0.01,2,     3.04,2, -999.000,9,-999.000,  -999.0,-999.000
    31WTMARAII,   P16,    86,  1,      9,      9,2,19840531,0211, 53.6850,-151.9817, 4851,    498.4,   3.5111,  34.1959,2,  34.1990,2,   -999.0,5,  3.4774,     17.4,2,   123.10,2,    43.61,2,     0.01,2,     3.04,2, -999.000,9,-999.000,  -999.0,-999.000
    31WTMARAII,   P16,    86,  1,     10,     10,2,19840531,0211, 53.6850,-151.9817, 4851,    599.2,   3.3639,  34.2428,2,  34.2480,2,   -999.0,5,  3.3237,     16.1,2,   128.77,2,    43.70,2,     0.00,2,     3.05,2, -999.000,9,-999.000,  -999.0,-999.000
    31WTMARAII,   P16,    86,  1,     11,     11,2,19840531,0211, 53.6850,-151.9817, 4851,    704.1,   3.1749,  34.2577,2,  34.2980,2,   -999.0,5,  3.1281,     18.3,2,   134.63,2,    43.70,2,     0.00,2,     3.04,2, -999.000,9,-999.000,  -999.0,-999.000
    31WTMARAII,   P16,    86,  1,     12,     12,2,19840531,0211, 53.6850,-151.9817, 4851,    804.4,   2.9983,  34.3417,2,  34.3420,2,   -999.0,5,  2.9452,     16.5,2,   143.23,2,    43.90,2,     0.00,2,     3.04,2, -999.000,9,-999.000,  -999.0,-999.000
    31WTMARAII,   P16,    86,  1,     13,     13,2,19840531,0211, 53.6850,-151.9817, 4851,    904.4,   2.8325,  34.3772,2,  34.3790,2,   -999.0,5,  2.7732,     19.1,2,   148.41,2,    43.90,2,     0.00,2,     3.05,2, -999.000,9,-999.000,  -999.0,-999.000
    31WTMARAII,   P16,    86,  1,     14,     14,2,19840531,0211, 53.6850,-151.9817, 4851,    999.4,   2.7110,  34.4055,2,  34.4070,2,   -999.0,5,  2.6456,     20.4,2,   153.68,2,    43.90,2,     0.00,2,     3.05,2, -999.000,9,-999.000,  -999.0,-999.000
    31WTMARAII,   P16,    86,  1,     15,     15,2,19840531,0211, 53.6850,-151.9817, 4851,   1250.4,   2.4031,  34.4743,2,  34.4750,2,   -999.0,5,  2.3216,     26.9,2,   162.37,2,    43.50,2,     0.00,2,     3.02,2, -999.000,9,   2.408,  1249.0,-999.000
    31WTMARAII,   P16,    86,  1,     16,     16,2,19840531,0211, 53.6850,-151.9817, 4851,   1516.7,   2.1693,  34.5279,2,  34.5280,2,   -999.0,5,  2.0699,     38.7,2,   168.33,2,    43.01,2,     0.00,2,     2.97,2, -999.000,9,-999.000,  -999.0,-999.000
    31WTMARAII,   P16,    86,  1,     17,     17,2,19840531,0211, 53.6850,-151.9817, 4851,   1767.8,   1.9983,  34.5666,2,  34.5680,2,   -999.0,5,  1.8811,     51.3,2,   171.84,2,    42.23,2,     0.00,2,     2.91,2, -999.000,9,-999.000,  -999.0,-999.000
    31WTMARAII,   P16,    86,  1,     18,     18,2,19840531,0211, 53.6850,-151.9817, 4851,   2016.2,   1.8764,  34.5933,2,  34.5960,2,   -999.0,5,  1.7406,     64.3,2,   172.92,2,    41.54,2,     0.00,2,     2.87,2, -999.000,9,-999.000,  -999.0,-999.000
    31WTMARAII,   P16,    86,  1,     19,     19,2,19840531,0211, 53.6850,-151.9817, 4851,   2514.9,   1.6872,  34.6312,2,  34.6330,2,   -999.0,5,  1.5115,     90.0,2,   173.01,2,    39.88,2,     0.00,2,     2.76,2, -999.000,9,   1.692,  2518.0,-999.000
    31WTMARAII,   P16,    86,  1,     20,     20,2,19840531,0211, 53.6850,-151.9817, 4851,   3027.7,   1.5634,  34.6556,2,  34.6570,2,   -999.0,5,  1.3427,    114.7,2,   169.88,2,    38.61,2,     0.00,2,     2.65,2, -999.000,9,-999.000,  -999.0,-999.000
    31WTMARAII,   P16,    86,  1,     21,     21,2,19840531,0211, 53.6850,-151.9817, 4851,   3536.6,   1.4934,  34.6720,2,  34.6750,2,   -999.0,5,  1.2238,    132.1,2,   169.88,2,    37.44,2,     0.00,2,     2.57,2, -999.000,9,-999.000,  -999.0,-999.000
    31WTMARAII,   P16,    86,  1,     25,     25,2,19840531,0211, 53.6850,-151.9817, 4851,   4042.3,   1.4906,  34.6803,2,  34.6800,2,   -999.0,5,  1.1674,    141.2,2,   167.73,2,    36.65,2,     0.00,2,     2.52,2, -999.000,9,-999.000,  -999.0,-999.000
    31WTMARAII,   P16,    86,  1,     23,     23,2,19840531,0211, 53.6850,-151.9817, 4851,   4543.2,   1.5161,  34.6850,2,  34.6840,2,   -999.0,5,  1.1357,    146.9,2,   166.55,2,    36.46,2,     0.00,2,     2.50,2, -999.000,9,-999.000,  -999.0,-999.000
    31WTMARAII,   P16,    86,  1,     24,     24,2,19840531,0211, 53.6850,-151.9817, 4851,   4929.6,   1.5392,  34.6878,2,  34.6890,2,   -999.0,5,  1.1122,    149.9,2,   165.67,2,    36.16,2,     0.00,2,     2.48,2, -999.000,9,-999.000,  -999.0,-999.000
    31WTMARAII,   P16,    87,  1,      1,      1,2,19840531,0839, 54.0083,-151.9350, 4584,      1.0,   7.2070,-999.0000,9,  32.7810,2,   -999.0,5,-999.0000,   -999.0,9,    31.61,2,    15.56,2,     0.18,2,     1.41,2, -999.000,9,   7.205,     1.0,-999.000
    31WTMARAII,   P16,    87,  1,      2,      2,2,19840531,0839, 54.0083,-151.9350, 4584,     18.7,   7.1721,  32.7781,2,  32.7810,2,   -999.0,5,  7.1704,    317.4,2,    31.61,2,    15.56,2,     0.18,2,     1.40,2, -999.000,9,-999.000,  -999.0,-999.000
    31WTMARAII,   P16,    87,  1,      3,      3,2,19840531,0839, 54.0083,-151.9350, 4584,     43.7,   5.1351,  32.7867,2,  32.7960,2,   -999.0,5,  5.1318,    328.7,2,    29.36,2,    16.25,2,     0.18,2,     1.46,2, -999.000,9,-999.000,  -999.0,-999.000
    31WTMARAII,   P16,    87,  1,      4,      4,2,19840531,0839, 54.0083,-151.9350, 4584,     71.2,   4.7883,  32.8020,2,  32.8040,2,   -999.0,5,  4.7831,    317.8,2,    31.61,2,    17.42,2,     0.18,2,     1.54,2, -999.000,9,-999.000,  -999.0,-999.000
    31WTMARAII,   P16,    87,  1,      5,      5,2,19840531,0839, 54.0083,-151.9350, 4584,    101.6,   4.1492,  33.4041,2,  33.3780,2,   -999.0,5,  4.1423,    170.1,2,    57.63,2,    31.70,2,     0.10,2,     2.33,2, -999.000,9,-999.000,  -999.0,-999.000
    31WTMARAII,   P16,    87,  1,      6,      6,2,19840531,0839, 54.0083,-151.9350, 4584,    200.5,   3.7575,  33.8810,2,  33.8830,2,   -999.0,5,  3.7442,     47.4,2,    95.06,2,    43.23,2,     0.01,2,     2.99,2, -999.000,9,-999.000,  -999.0,-999.000
    31WTMARAII,   P16,    87,  1,      7,      7,2,19840531,0839, 54.0083,-151.9350, 4584,    300.7,   3.7381,  34.0213,2,  34.0230,2,   -999.0,5,  3.7178,     25.2,2,   109.33,2,    44.01,2,     0.00,2,     3.07,2, -999.000,9,-999.000,  -999.0,-999.000
    31WTMARAII,   P16,    87,  1,      8,      8,2,19840531,0839, 54.0083,-151.9350, 4584,    382.5,   3.6383,  34.1046,2,  34.1050,2,   -999.0,5,  3.6126,     21.3,2,   112.84,2,    44.00,2,     0.00,2,     3.06,2, -999.000,9,-999.000,  -999.0,-999.000
    31WTMARAII,   P16,    87,  1,      9,      9,2,19840531,0839, 54.0083,-151.9350, 4584,    504.6,   3.4352,  34.1991,2,  34.2010,2,   -999.0,5,  3.4014,     18.3,2,   122.03,2,    43.90,2,     0.01,2,     3.05,2, -999.000,9,-999.000,  -999.0,-999.000
    31WTMARAII,   P16,    87,  1,     10,     10,2,19840531,0839, 54.0083,-151.9350, 4584,    611.7,   3.2792,  34.2598,2,  34.2610,2,   -999.0,5,  3.2385,     18.7,2,   127.79,2,    44.00,2,     0.01,2,     3.06,2, -999.000,9,-999.000,  -999.0,-999.000
    31WTMARAII,   P16,    87,  1,     11,     11,2,19840531,0839, 54.0083,-151.9350, 4584,    706.0,   3.1561,  34.2971,2,  34.2970,2,   -999.0,5,  3.1092,     17.0,2,  -999.00,9,    44.09,2,     0.00,2,     3.07,2, -999.000,9,-999.000,  -999.0,-999.000
    31WTMARAII,   P16,    87,  1,     12,     12,2,19840531,0839, 54.0083,-151.9350, 4584,    807.2,   3.0008,  34.3368,2,  34.3380,2,   -999.0,5,  2.9475,     18.7,2,  -999.00,9,    44.09,2,     0.00,2,     3.06,2, -999.000,9,-999.000,  -999.0,-999.000
    31WTMARAII,   P16,    87,  1,     13,     13,2,19840531,0839, 54.0083,-151.9350, 4584,    916.9,   2.8495,  34.3740,2,  34.3760,2,   -999.0,5,  2.7891,     18.3,2,  -999.00,9,    44.09,2,     0.00,2,     3.08,2, -999.000,9,-999.000,  -999.0,-999.000
    31WTMARAII,   P16,    87,  1,     14,     14,2,19840531,0839, 54.0083,-151.9350, 4584,   1017.8,   2.6895,  34.4105,2,  34.4120,2,   -999.0,5,  2.6229,     20.4,2,  -999.00,9,    44.19,2,     0.00,2,     3.08,2, -999.000,9,-999.000,  -999.0,-999.000
    31WTMARAII,   P16,    87,  1,     15,     15,2,19840531,0839, 54.0083,-151.9350, 4584,   1263.0,   2.3992,  34.4758,2,  34.4770,2,   -999.0,5,  2.3168,     26.9,2,  -999.00,9,    43.79,2,     0.00,2,     3.05,2, -999.000,9,   2.394,  1262.0,-999.000
    31WTMARAII,   P16,    87,  1,     16,     16,2,19840531,0839, 54.0083,-151.9350, 4584,   1513.8,   2.1804,  34.5258,2,  34.5270,2,   -999.0,5,  2.0811,     38.7,2,  -999.00,9,    43.21,2,     0.00,2,     3.00,2, -999.000,9,-999.000,  -999.0,-999.000
    31WTMARAII,   P16,    87,  1,     17,     17,2,19840531,0839, 54.0083,-151.9350, 4584,   1760.9,   2.0078,  34.5647,2,  34.5660,2,   -999.0,5,  1.8911,     51.3,2,  -999.00,9,    42.62,2,     0.00,2,     2.94,2, -999.000,9,-999.000,  -999.0,-999.000
    31WTMARAII,   P16,    87,  1,     18,     18,2,19840531,0839, 54.0083,-151.9350, 4584,   2053.1,   1.8622,  34.5964,2,  34.5990,2,   -999.0,5,  1.7236,     66.5,2,  -999.00,9,    41.64,2,     0.00,2,     2.87,2, -999.000,9,-999.000,  -999.0,-999.000
    31WTMARAII,   P16,    87,  1,     19,     19,2,19840531,0839, 54.0083,-151.9350, 4584,   2556.5,   1.6814,  34.6335,2,  34.6350,2,   -999.0,5,  1.5021,     91.7,2,  -999.00,9,    40.17,2,     0.00,2,     2.79,2, -999.000,9,   1.684,  2562.0,-999.000
    31WTMARAII,   P16,    87,  1,     20,     20,2,19840531,0839, 54.0083,-151.9350, 4584,   3062.6,   1.5689,  34.6569,2,  34.6580,2,   -999.0,5,  1.3447,    113.8,2,  -999.00,9,    38.80,2,     0.00,2,     2.69,2, -999.000,9,-999.000,  -999.0,-999.000
    31WTMARAII,   P16,    87,  1,     21,     21,2,19840531,0839, 54.0083,-151.9350, 4584,   3539.6,   1.4999,  34.6720,2,  34.6730,2,   -999.0,5,  1.2298,    131.7,2,  -999.00,9,    37.53,2,  -999.00,9,     2.61,2, -999.000,9,-999.000,  -999.0,-999.000
    31WTMARAII,   P16,    87,  1,     25,     25,2,19840531,0839, 54.0083,-151.9350, 4584,   4042.3,   1.4933,  34.6803,2,  34.6810,2,   -999.0,5,  1.1700,    140.8,2,  -999.00,9,    37.04,2,  -999.00,9,     2.56,2, -999.000,9,-999.000,  -999.0,-999.000
    31WTMARAII,   P16,    87,  1,     23,     23,2,19840531,0839, 54.0083,-151.9350, 4584,   4518.7,   1.5134,  34.6852,2,  34.6850,2,   -999.0,5,  1.1359,    146.0,2,  -999.00,9,    36.65,2,  -999.00,9,     2.53,2, -999.000,9,   1.514,  4517.0,-999.000
    31WTMARAII,   P16,    87,  1,     24,     24,2,19840531,0839, 54.0083,-151.9350, 4584,   4673.2,   1.5192,  34.6865,2,  34.6860,2,   -999.0,5,  1.1235,    148.6,2,  -999.00,9,    36.56,2,  -999.00,9,     2.51,2, -999.000,9,-999.000,  -999.0,-999.000