BOTTLE,20220816CCHSIOAMB
EXPOCODE,SECT_ID,STNNBR,CASTNO,SAMPNO,BTLNBR,BTLNBR_FLAG_W,DATE,TIME,LATITUDE,LONGITUDE,DEPTH,CTDPRS,CTDTMP,CTDSAL,CTDSAL_FLAG_W,SALNTY,SALNTY_FLAG_W,CTDOXY,CTDOXY_FLAG_W,THETA,OXYGEN,OXYGEN_FLAG_W,SILCAT,SILCAT_FLAG_W,NITRAT,NITRAT_FLAG_W,NITRIT,NITRIT_FLAG_W,PHSPHT,PHSPHT_FLAG_W,TRITUM,TRITUM_FLAG_W,REVTMP,REVPRS,TRITER
,,,,,,,,,,,,DBAR,ITS-90,PSS-78,,PSS-78,,UMOL/KG,,DEG C,UMOL/KG,,UMOL/KG,,UMOL/KG,,UMOL/KG,,UMOL/KG,,TU,,,DBAR,TU
    31WTMARAII,   P16,    32,  1,      1,      1,2,19840514,2308, 32.2050,-152.0067, 5271,      1.0,  19.0350,-999.0000,9,  34.6190,2,   -999.0,5,-999.0000,   -999.0,9,     3.81,2,     0.00,2,     0.00,2,     0.12,2, -999.000,9,  19.030,     1.0,-999.000
    31WTMARAII,   P16,    32,  1,      2,      2,2,19840514,2308, 32.2050,-152.0067, 5271,     55.9,  16.1551,  34.5704,2,  34.5600,2,   -999.0,5, 16.1463,    251.3,2,     4.30,2,     0.00,2,     0.00,2,     0.12,2, -999.000,9,-999.000,  -999.0,-999.000
    31WTMARAII,   P16,    32,  1,      3,      3,9,19840514,2308, 32.2050,-152.0067, 5271,    106.7,  13.2291,  34.2781,2,-999.0000,9,   -999.0,5, 13.2144,   -999.0,9,  -999.00,9,  -999.00,9,  -999.00,9,  -999.00,9, -999.000,9,-999.000,  -999.0,-999.000
    31WTMARAII,   P16,    32,  1,      4,      4,2,19840514,2308, 32.2050,-152.0067, 5271,    156.7,  11.4842,  34.1992,2,  34.1990,2,   -999.0,5, 11.4645,    239.8,2,    10.46,2,     9.11,2,     0.01,2,     0.68,2, -999.000,9,-999.000,  -999.0,-999.000
    31WTMARAII,   P16,    32,  1,      6,      6,2,19840514,2308, 32.2050,-152.0067, 5271,    307.2,   9.8177,  34.1447,2,  34.1450,2,   -999.0,5,  9.7826,    220.2,2,    19.26,2,    15.35,2,     0.01,2,     1.08,2, -999.000,9,-999.000,  -999.0,-999.000
    31WTMARAII,   P16,    32,  1,      7,      7,2,19840514,2308, 32.2050,-152.0067, 5271,    404.1,   8.3577,  34.0756,2,  34.0740,2,   -999.0,5,  8.3157,    198.0,2,    30.41,2,    20.34,2,     0.01,2,     1.41,2, -999.000,9,-999.000,  -999.0,-999.000
    31WTMARAII,   P16,    32,  1,      8,      8,2,19840514,2308, 32.2050,-152.0067, 5271,    502.9,   6.6283,  33.9980,2,  34.0000,2,   -999.0,5,  6.5823,    152.2,2,    48.60,2,    27.87,2,     0.01,2,     1.94,2, -999.000,9,-999.000,  -999.0,-999.000
    31WTMARAII,   P16,    32,  1,      9,      9,2,19840514,2308, 32.2050,-152.0067, 5271,    602.2,   5.1770,  34.0020,2,  34.0030,2,   -999.0,5,  5.1283,     96.1,2,    73.34,2,    35.50,2,     0.00,2,     2.47,2, -999.000,9,-999.000,  -999.0,-999.000
    31WTMARAII,   P16,    32,  1,     10,     10,2,19840514,2308, 32.2050,-152.0067, 5271,    701.3,   4.4063,  34.0801,2,  34.0800,2,   -999.0,5,  4.3531,     53.1,2,    92.80,2,    40.39,2,     0.00,2,     2.81,2, -999.000,9,-999.000,  -999.0,-999.000
    31WTMARAII,   P16,    32,  1,     11,     11,2,19840514,2308, 32.2050,-152.0067, 5271,    800.8,   3.8900,  34.1826,2,  34.1820,2,   -999.0,5,  3.8317,     26.5,2,   110.88,2,    42.92,2,     0.00,2,     2.98,2, -999.000,9,-999.000,  -999.0,-999.000
    31WTMARAII,   P16,    32,  1,     12,     12,2,19840514,2308, 32.2050,-152.0067, 5271,    899.5,   3.6507,  34.2667,2,  34.2670,2,   -999.0,5,  3.5861,     13.9,2,   123.78,2,    43.90,2,     0.00,2,     3.06,2, -999.000,9,   3.643,   901.0,-999.000
    31WTMARAII,   P16,    32,  1,     13,     13,2,19840514,2308, 32.2050,-152.0067, 5271,    996.8,   3.4867,  34.3363,2,  34.3370,2,   -999.0,5,  3.4155,     10.4,2,   128.27,2,    44.29,2,     0.00,2,     3.14,2, -999.000,9,-999.000,  -999.0,-999.000
    31WTMARAII,   P16,    32,  1,     14,     14,2,19840514,2308, 32.2050,-152.0067, 5271,   1247.8,   3.0327,  34.4774,2,  34.4780,2,   -999.0,5,  2.9453,     20.0,2,   142.33,2,    44.28,2,     0.00,2,     3.11,2, -999.000,9,-999.000,  -999.0,-999.000
    31WTMARAII,   P16,    32,  1,     15,     15,2,19840514,2308, 32.2050,-152.0067, 5271,   1498.6,   2.6371,  34.5419,2,  34.5430,2,   -999.0,5,  2.5336,     39.1,2,   152.20,2,    43.21,2,     0.00,2,     3.03,2, -999.000,9,   2.621,  1506.0,-999.000
    31WTMARAII,   P16,    32,  1,     16,     16,2,19840514,2308, 32.2050,-152.0067, 5271,   1751.3,   2.2333,  34.5884,2,  34.5890,2,   -999.0,5,  2.1142,     60.4,2,   161.58,2,    41.84,2,     0.00,2,     2.91,2, -999.000,9,-999.000,  -999.0,-999.000
    31WTMARAII,   P16,    32,  1,     17,     17,2,19840514,2308, 32.2050,-152.0067, 5271,   2005.9,   1.9748,  34.6160,2,  34.6160,2,   -999.0,5,  1.8383,     75.2,2,   166.36,2,    41.05,2,     0.00,2,     2.84,2, -999.000,9,-999.000,  -999.0,-999.000
    31WTMARAII,   P16,    32,  1,     18,     18,2,19840514,2308, 32.2050,-152.0067, 5271,   2512.1,   1.6911,  34.6478,2,  34.6470,2,   -999.0,5,  1.5155,     97.3,2,   172.13,2,    39.78,2,     0.00,2,     2.74,2, -999.000,9,-999.000,  -999.0,-999.000
    31WTMARAII,   P16,    32,  1,     19,     19,2,19840514,2308, 32.2050,-152.0067, 5271,   3019.9,   1.5337,  34.6662,2,  34.6660,2,   -999.0,5,  1.3143,    119.5,2,   167.53,2,    38.41,2,     0.00,2,     2.65,2, -999.000,9,   1.533,  3025.0,-999.000
    31WTMARAII,   P16,    32,  1,     20,     20,2,19840514,2308, 32.2050,-152.0067, 5271,   3507.3,   1.4706,  34.6794,2,  34.6790,2,   -999.0,5,  1.2045,    136.9,2,   161.67,2,    37.34,2,     0.00,2,     2.54,2, -999.000,9,-999.000,  -999.0,-999.000
    31WTMARAII,   P16,    32,  1,     21,     21,2,19840514,2308, 32.2050,-152.0067, 5271,   4018.9,   1.4636,  34.6862,2,  34.6850,2,   -999.0,5,  1.1437,    146.4,2,   156.97,2,    36.65,2,     0.00,2,     2.49,2, -999.000,9,-999.000,  -999.0,-999.000
    31WTMARAII,   P16,    32,  1,     22,     22,2,19840514,2308, 32.2050,-152.0067, 5271,   4537.6,   1.4903,  34.6900,2,  34.6890,2,   -999.0,5,  1.1113,   -999.0,9,   152.38,2,    36.26,2,     0.02,2,  -999.00,9, -999.000,9,-999.000,  -999.0,-999.000
    31WTMARAII,   P16,    32,  1,     23,     23,2,19840514,2308, 32.2050,-152.0067, 5271,   5053.9,   1.5368,  34.6928,2,  34.6900,2,   -999.0,5,  1.0947,    156.4,2,   148.76,2,    35.97,2,     0.00,2,     2.39,2, -999.000,9,   1.534,  5056.0,-999.000
    31WTMARAII,   P16,    32,  1,     24,     24,2,19840514,2308, 32.2050,-152.0067, 5271,   5262.3,   1.5628,  34.6930,2,  34.6910,2,   -999.0,5,  1.0940,    157.3,2,   147.49,2,    35.87,2,     0.00,2,     2.43,2, -999.000,9,-999.000,  -999.0,-999.000
    31WTMARAII,   P16,    33,  1,      8,      8,2,19840515,0532, 32.5467,-152.0100, 5209,      0.9,  18.5791,  34.5807,2,  34.5800,2,   -999.0,5, 18.5789,    240.1,2,     4.89,2,     0.03,2,     0.00,2,     0.12,2, -999.000,9,  18.550,  -999.0,-999.000
    31WTMARAII,   P16,    33,  1,      9,      9,2,19840515,0532, 32.5467,-152.0100, 5209,     51.8,  15.8466,  34.4121,2,  34.4100,2,   -999.0,5, 15.8385,    260.9,2,     5.28,2,     0.03,2,     0.00,2,     0.16,2, -999.000,9,-999.000,  -999.0,-999.000
    31WTMARAII,   P16,    33,  1,     10,     10,2,19840515,0532, 32.5467,-152.0100, 5209,    102.1,  14.2358,  34.3821,2,  34.3660,2,   -999.0,5, 14.2210,    249.5,2,     5.96,2,     2.07,2,     0.48,2,     0.31,2, -999.000,9,-999.000,  -999.0,-999.000
    31WTMARAII,   P16,    33,  1,     11,     11,2,19840515,0532, 32.5467,-152.0100, 5209,    134.8,  12.8033,  34.1950,2,  34.1940,2,   -999.0,5, 12.7851,    250.3,2,     6.75,2,     4.42,2,     0.03,2,     0.44,2, -999.000,9,-999.000,  -999.0,-999.000
    31WTMARAII,   P16,    33,  1,     12,     12,2,19840515,0532, 32.5467,-152.0100, 5209,    167.4,  11.9829,  34.2475,2,  34.2440,2,   -999.0,5, 11.9613,    238.1,2,    10.36,2,     8.66,2,     0.01,2,     0.67,2, -999.000,9,  11.963,   170.0,-999.000
    31WTMARAII,   P16,    33,  1,     13,     13,2,19840515,0532, 32.5467,-152.0100, 5209,    202.2,  11.1929,  34.2199,2,  34.2160,2,   -999.0,5, 11.1679,    240.7,2,    12.32,2,    10.17,2,     0.01,2,     0.75,2, -999.000,9,-999.000,  -999.0,-999.000
    31WTMARAII,   P16,    33,  1,     14,     14,2,19840515,0532, 32.5467,-152.0100, 5209,    251.5,  10.5857,  34.1854,2,  34.1880,2,   -999.0,5, 10.5556,    235.4,2,    14.67,2,    12.03,2,     0.01,2,     0.87,2, -999.000,9,-999.000,  -999.0,-999.000
    31WTMARAII,   P16,    33,  1,     15,     15,2,19840515,0532, 32.5467,-152.0100, 5209,    300.9,   9.8889,  34.1577,2,  34.1580,2,   -999.0,5,  9.8544,    221.5,2,    19.56,2,    15.25,2,     0.01,2,     1.08,2, -999.000,9,   9.890,   303.0,-999.000
    31WTMARAII,   P16,    33,  1,     16,     16,2,19840515,0532, 32.5467,-152.0100, 5209,    404.7,   8.4253,  34.0733,2,  34.0730,2,   -999.0,5,  8.3831,    202.3,2,    29.82,2,    20.14,2,     0.01,2,     1.42,2, -999.000,9,-999.000,  -999.0,-999.000
    31WTMARAII,   P16,    33,  1,     17,     17,2,19840515,0532, 32.5467,-152.0100, 5209,    500.6,   6.5107,  33.9947,2,  33.9970,2,   -999.0,5,  6.4654,    148.8,2,    51.73,2,    28.16,2,     0.00,2,     2.01,2, -999.000,9,-999.000,  -999.0,-999.000
    31WTMARAII,   P16,    33,  1,     18,     18,2,19840515,0532, 32.5467,-152.0100, 5209,    594.2,   5.2327,  33.9978,2,  34.0000,2,   -999.0,5,  5.1844,    100.0,2,    73.34,2,    34.91,2,     0.00,2,     2.48,2, -999.000,9,-999.000,  -999.0,-999.000
    31WTMARAII,   P16,    33,  1,     19,     19,2,19840515,0532, 32.5467,-152.0100, 5209,    696.8,   4.4326,  34.0712,2,  34.0720,2,   -999.0,5,  4.3797,     56.5,2,    92.70,2,    39.99,2,     0.00,2,     2.82,2, -999.000,9,-999.000,  -999.0,-999.000
    31WTMARAII,   P16,    33,  1,     20,     20,2,19840515,0532, 32.5467,-152.0100, 5209,    806.1,   3.9816,  34.1810,2,  34.1810,2,   -999.0,5,  3.9223,     26.1,2,   110.49,2,    42.63,2,     0.00,2,     3.03,2, -999.000,9,-999.000,  -999.0,-999.000
    31WTMARAII,   P16,    33,  1,     21,     21,2,19840515,0532, 32.5467,-152.0100, 5209,    907.3,   3.6411,  34.2723,2,  34.2720,2,   -999.0,5,  3.5760,     13.9,2,   123.00,2,    43.70,2,     0.00,2,     3.10,2, -999.000,9,-999.000,  -999.0,-999.000
    31WTMARAII,   P16,    33,  1,     22,     22,2,19840515,0532, 32.5467,-152.0100, 5209,   1007.1,   3.4720,  34.3614,2,  34.3610,2,   -999.0,5,  3.4001,      8.7,2,   131.10,2,    44.29,2,     0.01,2,  -999.00,9, -999.000,9,-999.000,  -999.0,-999.000
    31WTMARAII,   P16,    33,  1,     23,     23,2,19840515,0532, 32.5467,-152.0100, 5209,   1257.6,   3.0914,  34.4831,2,  34.4830,2,   -999.0,5,  3.0026,     21.7,2,   141.65,2,    43.99,2,     0.00,2,     3.10,2, -999.000,9,   3.086,  1257.0,-999.000
    31WTMARAII,   P16,    33,  1,     24,     24,2,19840515,0532, 32.5467,-152.0100, 5209,   1507.4,   2.6466,  34.5445,2,  34.5450,2,   -999.0,5,  2.5423,     39.5,2,   153.27,2,    43.21,2,     0.00,2,     3.04,2, -999.000,9,-999.000,  -999.0,-999.000
    31WTMARAII,   P16,    34,  1,      1,      1,2,19840515,1212, 32.9050,-152.0450, 5475,      1.0,-999.0000,-999.0000,9,  34.6274,4,   -999.0,5, 18.1245,   -999.0,9,     3.71,2,     0.00,2,     0.00,2,     0.11,2, -999.000,9,  18.125,     1.0,-999.000
    31WTMARAII,   P16,    34,  1,      2,      2,2,19840515,1212, 32.9050,-152.0450, 5475,     52.1,  16.5826,  34.6092,2,  34.6160,4,   -999.0,5, 16.5742,    250.4,2,     3.52,2,     0.00,2,     0.00,2,     0.11,2, -999.000,9,-999.000,  -999.0,-999.000
    31WTMARAII,   P16,    34,  1,      3,      3,2,19840515,1212, 32.9050,-152.0450, 5475,    102.5,  15.3702,  34.5099,2,  34.5133,4,   -999.0,5, 15.3545,    244.7,2,     4.30,2,     0.38,2,     0.48,2,     0.18,2, -999.000,9,-999.000,  -999.0,-999.000
    31WTMARAII,   P16,    34,  1,      4,      4,2,19840515,1212, 32.9050,-152.0450, 5475,    153.0,  12.8055,  34.2855,2,  34.2901,4,   -999.0,5, 12.7849,    237.2,2,     7.92,2,     6.78,2,     0.02,2,     0.55,2, -999.000,9,-999.000,  -999.0,-999.000
    31WTMARAII,   P16,    34,  1,      5,      5,2,19840515,1212, 32.9050,-152.0450, 5475,    203.4,  11.4720,  34.2404,2,  34.2464,4,   -999.0,5, 11.4465,    240.2,2,    11.44,2,     9.68,2,     0.01,2,     0.71,2, -999.000,9,-999.000,  -999.0,-999.000
    31WTMARAII,   P16,    34,  1,      6,      6,2,19840515,1212, 32.9050,-152.0450, 5475,    304.0,  10.2746,  34.1822,2,  34.1885,4,   -999.0,5, 10.2388,    231.5,2,    16.62,2,    13.20,2,     0.01,2,     0.94,2, -999.000,9,-999.000,  -999.0,-999.000
    31WTMARAII,   P16,    34,  1,      7,      7,2,19840515,1212, 32.9050,-152.0450, 5475,    405.1,   8.7869,  34.0990,2,  34.0997,4,   -999.0,5,  8.7435,    204.5,2,    27.28,2,    19.17,2,     0.00,2,     1.32,2, -999.000,9,-999.000,  -999.0,-999.000
    31WTMARAII,   P16,    34,  1,      8,      8,2,19840515,1212, 32.9050,-152.0450, 5475,    506.7,   6.9971,  34.0053,2,  34.0115,4,   -999.0,5,  6.9494,    166.6,2,    44.20,2,    26.21,2,     0.00,2,     1.81,2, -999.000,9,-999.000,  -999.0,-999.000
    31WTMARAII,   P16,    34,  1,      9,      9,2,19840515,1212, 32.9050,-152.0450, 5475,    607.4,   5.4180,  33.9879,2,  33.9986,4,   -999.0,5,  5.3677,    106.1,2,    69.14,2,    34.42,2,     0.00,2,     2.38,2, -999.000,9,-999.000,  -999.0,-999.000
    31WTMARAII,   P16,    34,  1,     10,     10,2,19840515,1212, 32.9050,-152.0450, 5475,    708.5,   4.4526,  34.0617,2,  34.0695,4,   -999.0,5,  4.3985,     60.9,2,    90.84,2,    39.80,2,     0.00,2,     2.75,2, -999.000,9,-999.000,  -999.0,-999.000
    31WTMARAII,   P16,    34,  1,     11,     11,2,19840515,1212, 32.9050,-152.0450, 5475,    809.6,   3.9677,  34.1533,2,  34.1628,4,   -999.0,5,  3.9083,     33.5,2,   107.95,2,    42.34,2,     0.00,2,     2.92,2, -999.000,9,-999.000,  -999.0,-999.000
    31WTMARAII,   P16,    34,  1,     12,     12,2,19840515,1212, 32.9050,-152.0450, 5475,    910.8,   3.7529,  34.2601,2,  34.2658,4,   -999.0,5,  3.6868,     16.5,2,   118.60,2,    43.70,2,     0.00,2,     3.04,2, -999.000,9,   3.742,   916.0,-999.000
    31WTMARAII,   P16,    34,  1,     13,     13,2,19840515,1212, 32.9050,-152.0450, 5475,   1011.5,   3.5908,  34.3563,2,  34.3627,4,   -999.0,5,  3.5176,     10.4,2,   127.00,2,    44.09,2,     0.00,2,     3.12,2, -999.000,9,-999.000,  -999.0,-999.000
    31WTMARAII,   P16,    34,  1,     14,     14,2,19840515,1212, 32.9050,-152.0450, 5475,   1264.4,   3.0049,  34.4794,2,  34.4873,4,   -999.0,5,  2.9165,     22.6,2,   144.97,2,    44.09,2,     0.00,2,     3.09,2, -999.000,9,-999.000,  -999.0,-999.000
    31WTMARAII,   P16,    34,  1,     15,     15,2,19840515,1212, 32.9050,-152.0450, 5475,   1517.3,   2.6186,  34.5428,2,  34.5502,4,   -999.0,5,  2.5139,     40.9,2,   152.79,2,    43.11,2,     0.00,2,     3.01,2, -999.000,9,   2.620,  -999.0,-999.000
    31WTMARAII,   P16,    34,  1,     16,     16,2,19840515,1212, 32.9050,-152.0450, 5475,   1770.9,   2.2041,  34.5856,2,  34.5924,4,   -999.0,5,  2.0838,   -999.0,9,   164.61,2,    42.03,2,     0.00,2,     2.92,2, -999.000,9,-999.000,  -999.0,-999.000
    31WTMARAII,   P16,    34,  1,     17,     17,2,19840515,1212, 32.9050,-152.0450, 5475,   2024.7,   1.9635,  34.6113,2,  34.6179,4,   -999.0,5,  1.8256,     72.1,2,   170.67,2,    41.25,2,     0.00,2,     2.84,2, -999.000,9,-999.000,  -999.0,-999.000
    31WTMARAII,   P16,    34,  1,     18,     18,2,19840515,1212, 32.9050,-152.0450, 5475,   2532.0,   1.6858,  34.6459,2,  34.6523,4,   -999.0,5,  1.5086,     97.8,2,   173.69,2,    39.68,2,     0.00,2,     2.74,2, -999.000,9,-999.000,  -999.0,-999.000
    31WTMARAII,   P16,    34,  1,     19,     19,2,19840515,1212, 32.9050,-152.0450, 5475,   3041.1,   1.5377,  34.6650,2,  34.6720,4,   -999.0,5,  1.3161,    119.5,2,   169.00,2,    38.32,2,     0.00,2,     2.63,2, -999.000,9,-999.000,  -999.0,-999.000
    31WTMARAII,   P16,    34,  1,     20,     20,2,19840515,1212, 32.9050,-152.0450, 5475,   3551.1,   1.4740,  34.6779,2,  34.6836,4,   -999.0,5,  1.2033,    136.9,2,   162.25,2,    37.14,2,     0.00,2,     2.54,2, -999.000,9,-999.000,  -999.0,-999.000
    31WTMARAII,   P16,    34,  1,     21,     21,2,19840515,1212, 32.9050,-152.0450, 5475,   4061.8,   1.4669,  34.6857,2,  34.6936,4,   -999.0,5,  1.1422,    147.7,2,   157.56,2,    36.56,2,     0.00,2,     2.48,2, -999.000,9,-999.000,  -999.0,-999.000
    31WTMARAII,   P16,    34,  1,     22,     22,2,19840515,1212, 32.9050,-152.0450, 5475,   4574.7,   1.4957,  34.6891,2,  34.6948,4,   -999.0,5,  1.1122,   -999.0,9,   152.38,2,    36.16,2,     0.01,2,  -999.00,9, -999.000,9,-999.000,  -999.0,-999.000
    31WTMARAII,   P16,    34,  1,     23,     23,2,19840515,1212, 32.9050,-152.0450, 5475,   5087.7,   1.5418,  34.6918,2,  34.6961,4,   -999.0,5,  1.0954,    156.9,2,   150.23,2,    35.77,2,     0.00,2,     2.38,2, -999.000,9,   1.543,  5094.0,-999.000
    31WTMARAII,   P16,    34,  1,     24,     24,2,19840515,1212, 32.9050,-152.0450, 5475,   5598.4,   1.6007,  34.6925,2,  34.6967,4,   -999.0,5,  1.0878,    159.5,2,   148.66,2,    35.68,2,     0.00,2,     2.40,2, -999.000,9,-999.000,  -999.0,-999.000