BOTTLE,20220816CCHSIOAMB
EXPOCODE,SECT_ID,STNNBR,CASTNO,SAMPNO,BTLNBR,BTLNBR_FLAG_W,DATE,TIME,LATITUDE,LONGITUDE,DEPTH,CTDPRS,CTDTMP,CTDSAL,CTDSAL_FLAG_W,SALNTY,SALNTY_FLAG_W,CTDOXY,CTDOXY_FLAG_W,THETA,OXYGEN,OXYGEN_FLAG_W,SILCAT,SILCAT_FLAG_W,NITRAT,NITRAT_FLAG_W,NITRIT,NITRIT_FLAG_W,PHSPHT,PHSPHT_FLAG_W,TRITUM,TRITUM_FLAG_W,REVTMP,REVPRS,TRITER
,,,,,,,,,,,,DBAR,ITS-90,PSS-78,,PSS-78,,UMOL/KG,,DEG C,UMOL/KG,,UMOL/KG,,UMOL/KG,,UMOL/KG,,UMOL/KG,,TU,,,DBAR,TU
    31WTMARAII,   P16,    94,  1,      1,      1,2,19840602,0807, 55.7767,-152.8833, 4420,      1.0,   9.4230,-999.0000,9,  32.2960,2,   -999.0,5,-999.0000,   -999.0,9,     1.57,2,     0.64,2,     0.02,2,     0.46,2, -999.000,9,   9.421,     1.0,-999.000
    31WTMARAII,   P16,    94,  1,      2,      2,2,19840602,0807, 55.7767,-152.8833, 4420,     21.6,   8.3993,  32.3538,2,  32.3420,2,   -999.0,5,  8.3971,    331.5,2,     4.31,2,     2.45,2,     0.08,2,     0.71,2, -999.000,9,-999.000,  -999.0,-999.000
    31WTMARAII,   P16,    94,  1,      3,      3,2,19840602,0807, 55.7767,-152.8833, 4420,     54.7,   6.2288,  32.5127,2,  32.5120,2,   -999.0,5,  6.2242,    297.9,2,    19.58,2,    11.06,2,     0.26,2,     1.16,2, -999.000,9,-999.000,  -999.0,-999.000
    31WTMARAII,   P16,    94,  1,      4,      4,2,19840602,0807, 55.7767,-152.8833, 4420,    100.4,   5.4118,  32.7964,2,  32.7990,2,   -999.0,5,  5.4040,    275.1,2,    29.07,2,    18.01,2,     0.12,2,     1.53,2, -999.000,9,-999.000,  -999.0,-999.000
    31WTMARAII,   P16,    94,  1,     26,     26,2,19840602,0807, 55.7767,-152.8833, 4420,    158.1,   5.6381,  33.4324,2,  33.4250,2,   -999.0,5,  5.6254,    164.9,2,    47.16,2,    28.66,2,     0.01,2,     2.09,2, -999.000,9,-999.000,  -999.0,-999.000
    31WTMARAII,   P16,    94,  1,     27,     27,2,19840602,0807, 55.7767,-152.8833, 4420,    204.3,   5.0935,  33.7783,2,  33.7780,2,   -999.0,5,  5.0778,    109.6,2,    62.89,2,    35.60,2,     0.00,2,     2.49,2, -999.000,9,-999.000,  -999.0,-999.000
    31WTMARAII,   P16,    94,  1,     28,     28,2,19840602,0807, 55.7767,-152.8833, 4420,    253.6,   4.4636,  33.8564,2,  33.8570,2,   -999.0,5,  4.4452,     80.5,2,    75.70,2,    39.51,2,     0.00,2,     2.75,2, -999.000,9,-999.000,  -999.0,-999.000
    31WTMARAII,   P16,    94,  1,      8,      8,2,19840602,0807, 55.7767,-152.8833, 4420,    300.6,   4.2821,  33.8699,2,  33.8730,2,   -999.0,5,  4.2606,     71.3,2,    80.10,2,    40.59,2,     0.00,2,     2.80,2, -999.000,9,-999.000,  -999.0,-999.000
    31WTMARAII,   P16,    94,  1,      9,      9,2,19840602,0807, 55.7767,-152.8833, 4420,    403.1,   4.1278,  33.9398,2,  33.9400,2,   -999.0,5,  4.0991,     51.8,2,    89.68,2,    42.44,2,     0.00,2,     2.90,2, -999.000,9,-999.000,  -999.0,-999.000
    31WTMARAII,   P16,    94,  1,     10,     10,2,19840602,0807, 55.7767,-152.8833, 4420,    503.5,   3.9729,  34.0327,2,  34.0320,2,   -999.0,5,  3.9372,     35.2,2,   101.50,2,    43.71,2,     0.00,2,     3.03,2, -999.000,9,-999.000,  -999.0,-999.000
    31WTMARAII,   P16,    94,  1,     11,     11,2,19840602,0807, 55.7767,-152.8833, 4420,    603.8,   3.6989,  34.1415,2,  34.1420,2,   -999.0,5,  3.6568,     24.3,2,   115.19,2,    44.20,2,     0.00,2,     3.06,2, -999.000,9,-999.000,  -999.0,-999.000
    31WTMARAII,   P16,    94,  1,     12,     12,2,19840602,0807, 55.7767,-152.8833, 4420,    701.3,   3.5632,  34.2061,2,  34.2070,2,   -999.0,5,  3.5145,     19.1,2,   123.10,2,    44.59,2,     0.00,2,     3.07,2, -999.000,9,-999.000,  -999.0,-999.000
    31WTMARAII,   P16,    94,  1,     13,     13,2,19840602,0807, 55.7767,-152.8833, 4420,    799.4,   3.3730,  34.2591,2,  34.2610,2,   -999.0,5,  3.3180,     17.4,2,   131.31,2,    44.68,2,     0.00,2,     3.11,2, -999.000,9,-999.000,  -999.0,-999.000
    31WTMARAII,   P16,    94,  1,     14,     14,2,19840602,0807, 55.7767,-152.8833, 4420,    898.1,   3.2260,  34.2973,2,  34.2990,2,   -999.0,5,  3.1645,     17.0,2,   138.05,2,    44.68,2,     0.00,2,     3.11,2, -999.000,9,-999.000,  -999.0,-999.000
    31WTMARAII,   P16,    94,  1,     15,     15,2,19840602,0807, 55.7767,-152.8833, 4420,   1011.4,   3.0225,  34.3471,2,  34.3480,2,   -999.0,5,  2.9538,     16.1,2,   144.60,2,    44.68,2,     0.00,2,     3.12,2, -999.000,9,   3.015,  1012.0,-999.000
    31WTMARAII,   P16,    94,  1,     16,     16,2,19840602,0807, 55.7767,-152.8833, 4420,   1257.7,   2.6027,  34.4316,2,  34.4340,2,   -999.0,5,  2.5188,     22.6,2,   159.35,2,    44.68,2,     0.00,2,     3.09,2, -999.000,9,-999.000,  -999.0,-999.000
    31WTMARAII,   P16,    94,  1,     17,     17,2,19840602,0807, 55.7767,-152.8833, 4420,   1514.5,   2.3331,  34.4931,2,  34.4950,2,   -999.0,5,  2.2320,     30.0,2,   167.75,2,    44.28,2,     0.00,2,     3.05,2, -999.000,9,-999.000,  -999.0,-999.000
    31WTMARAII,   P16,    94,  1,     18,     18,2,19840602,0807, 55.7767,-152.8833, 4420,   1758.9,   2.1080,  34.5438,2,  34.5460,2,   -999.0,5,  1.9902,     43.0,2,   173.12,2,    43.60,2,     0.00,2,     3.00,2, -999.000,9,-999.000,  -999.0,-999.000
    31WTMARAII,   P16,    94,  1,     19,     19,2,19840602,0807, 55.7767,-152.8833, 4420,   2039.0,   1.9242,  34.5822,2,  34.5850,2,   -999.0,5,  1.7858,     60.0,2,   174.97,2,    42.42,2,     0.00,2,     2.94,2, -999.000,9,   1.922,  2041.0,-999.000
    31WTMARAII,   P16,    94,  1,     20,     20,2,19840602,0807, 55.7767,-152.8833, 4420,   2551.3,   1.7100,  34.6273,2,  34.6290,2,   -999.0,5,  1.5306,     88.6,2,   176.53,2,    40.86,2,     0.00,2,     2.82,2, -999.000,9,-999.000,  -999.0,-999.000
    31WTMARAII,   P16,    94,  1,     21,     21,2,19840602,0807, 55.7767,-152.8833, 4420,   3055.7,   1.5903,  34.6523,2,  34.6540,2,   -999.0,5,  1.3663,    110.8,2,   174.38,2,    39.39,2,     0.00,2,     2.71,2, -999.000,9,-999.000,  -999.0,-999.000
    31WTMARAII,   P16,    94,  1,     25,     25,2,19840602,0807, 55.7767,-152.8833, 4420,   3494.2,   1.5193,  34.6684,2,  34.6680,2,   -999.0,5,  1.2534,    128.2,2,   171.25,2,    38.32,2,     0.00,2,     2.63,2, -999.000,9,-999.000,  -999.0,-999.000
    31WTMARAII,   P16,    94,  1,     23,     23,2,19840602,0807, 55.7767,-152.8833, 4420,   3990.1,   1.4798,  34.6806,2,  34.6800,2,   -999.0,5,  1.1626,    142.1,2,   166.65,2,    37.14,2,     0.00,2,     2.57,2, -999.000,9,   1.477,  3989.0,-999.000
    31WTMARAII,   P16,    94,  1,     24,     24,2,19840602,0807, 55.7767,-152.8833, 4420,   4477.6,   1.4782,  34.6875,2,  34.6870,2,   -999.0,5,  1.1065,    151.2,2,   162.94,2,    36.56,2,     0.00,2,     2.51,2, -999.000,9,-999.000,  -999.0,-999.000
    31WTMARAII,   P16,    95,  1,      1,      1,2,19840602,1333, 55.9383,-152.9600, 2697,      1.0,   9.0540,-999.0000,9,  32.2520,2,   -999.0,5,-999.0000,   -999.0,9,     1.66,2,     0.03,2,     0.00,2,     0.35,2,    3.770,2,   9.052,     1.0,   0.130
    31WTMARAII,   P16,    95,  1,      2,      2,2,19840602,1333, 55.9383,-152.9600, 2697,     21.1,   8.3480,  32.2503,2,  32.2490,2,   -999.0,5,  8.3459,    340.3,2,     1.18,2,     0.03,2,     0.00,2,     0.34,2, -999.000,9,-999.000,  -999.0,-999.000
    31WTMARAII,   P16,    95,  1,      3,      3,2,19840602,1333, 55.9383,-152.9600, 2697,     50.1,   6.0585,  32.3929,2,  32.3900,2,   -999.0,5,  6.0545,    283.5,2,    19.68,2,    11.55,2,     0.18,2,     1.23,2,    3.750,2,-999.000,  -999.0,   0.120
    31WTMARAII,   P16,    95,  1,      4,      4,2,19840602,1333, 55.9383,-152.9600, 2697,    100.4,   5.9091,  32.6530,2,  32.6520,2,   -999.0,5,  5.9010,    261.2,2,    26.82,2,    16.64,2,     0.03,2,     1.42,2,    3.490,2,-999.000,  -999.0,   0.130
    31WTMARAII,   P16,    95,  1,     26,     26,2,19840602,1333, 55.9383,-152.9600, 2697,    149.0,   5.8283,  33.0300,2,  33.0280,2,   -999.0,5,  5.8162,    209.4,2,    37.87,2,    22.80,2,     0.02,2,     1.77,2,    3.360,2,-999.000,  -999.0,   0.140
    31WTMARAII,   P16,    95,  1,     27,     27,2,19840602,1333, 55.9383,-152.9600, 2697,    198.8,   5.4901,  33.5881,2,  33.5750,2,   -999.0,5,  5.4742,    144.0,2,    52.73,2,    31.11,2,     0.01,2,     2.19,2,    3.040,2,-999.000,  -999.0,   0.120
    31WTMARAII,   P16,    95,  1,     28,     28,2,19840602,1333, 55.9383,-152.9600, 2697,    247.5,   5.0348,  33.7976,2,  33.7950,2,   -999.0,5,  5.0157,    112.2,2,    64.06,2,    35.60,2,     0.00,2,     2.44,2,    2.920,2,-999.000,  -999.0,   0.110
    31WTMARAII,   P16,    95,  1,      8,      8,2,19840602,1333, 55.9383,-152.9600, 2697,    299.6,   4.5878,  33.8498,2,  33.8480,2,   -999.0,5,  4.5657,     88.7,2,    72.76,2,    38.05,2,     0.00,2,     2.62,2,    2.470,2,-999.000,  -999.0,   0.100
    31WTMARAII,   P16,    95,  1,      9,      9,2,19840602,1333, 55.9383,-152.9600, 2697,    402.8,   4.1558,  33.9708,2,  33.9700,2,   -999.0,5,  4.1270,     48.7,2,    91.34,2,    41.95,2,     0.00,2,     2.88,2,    1.530,2,-999.000,  -999.0,   0.090
    31WTMARAII,   P16,    95,  1,     10,     10,2,19840602,1333, 55.9383,-152.9600, 2697,    501.6,   3.9421,  34.0592,2,  34.0570,2,   -999.0,5,  3.9066,     31.7,2,   103.65,2,    43.32,2,     0.00,2,     2.97,2,    0.860,2,-999.000,  -999.0,   0.090
    31WTMARAII,   P16,    95,  1,     11,     11,2,19840602,1333, 55.9383,-152.9600, 2697,    598.7,   3.8068,  34.1283,2,  34.1270,2,   -999.0,5,  3.7646,     24.3,2,   111.57,2,    43.81,2,     0.00,2,     2.97,2,    0.570,2,-999.000,  -999.0,   0.070
    31WTMARAII,   P16,    95,  1,     12,     12,2,19840602,1333, 55.9383,-152.9600, 2697,    705.7,   3.5936,  34.1984,2,  34.1970,2,   -999.0,5,  3.5443,     19.1,2,   122.03,2,    44.20,2,     0.00,2,     3.01,2,    0.290,2,-999.000,  -999.0,   0.060
    31WTMARAII,   P16,    95,  1,     13,     13,2,19840602,1333, 55.9383,-152.9600, 2697,    803.2,   3.4165,  34.2530,2,  34.2550,2,   -999.0,5,  3.3609,     16.5,2,   130.43,2,    44.29,2,     0.00,2,     3.05,2,    0.190,2,-999.000,  -999.0,   0.060
    31WTMARAII,   P16,    95,  1,     14,     14,2,19840602,1333, 55.9383,-152.9600, 2697,    897.5,   3.2241,  34.3009,2,  34.3010,2,   -999.0,5,  3.1626,     16.5,2,   138.15,2,    44.39,2,     0.00,2,     3.07,2,    0.190,2,-999.000,  -999.0,   0.070
    31WTMARAII,   P16,    95,  1,     15,     15,2,19840602,1333, 55.9383,-152.9600, 2697,   1072.6,   2.9339,  34.3642,2,  34.3650,2,   -999.0,5,  2.8613,     17.4,2,   149.29,2,    44.39,2,     0.00,2,     3.06,2,    0.010,2,   2.935,  1072.0,   0.080
    31WTMARAII,   P16,    95,  1,     16,     16,2,19840602,1333, 55.9383,-152.9600, 2697,   1261.5,   2.6562,  34.4237,2,  34.4240,2,   -999.0,5,  2.5715,     20.9,2,   158.67,2,    44.38,2,     0.00,2,     3.06,2, -999.000,9,-999.000,  -999.0,-999.000
    31WTMARAII,   P16,    95,  1,     17,     17,2,19840602,1333, 55.9383,-152.9600, 2697,   1521.1,   2.3481,  34.4919,2,  34.4920,2,   -999.0,5,  2.2463,     30.0,2,   168.82,2,    43.79,2,     0.00,2,     3.01,2, -999.000,9,-999.000,  -999.0,-999.000
    31WTMARAII,   P16,    95,  1,     18,     18,2,19840602,1333, 55.9383,-152.9600, 2697,   1762.0,   2.1079,  34.5454,2,  34.5460,2,   -999.0,5,  1.9898,     44.3,2,   174.19,2,    43.11,2,     0.00,2,     2.95,2, -999.000,9,-999.000,  -999.0,-999.000
    31WTMARAII,   P16,    95,  1,     19,     19,2,19840602,1333, 55.9383,-152.9600, 2697,   2046.6,   1.9134,  34.5867,2,  34.5870,2,   -999.0,5,  1.7746,     61.7,2,   179.17,2,    42.13,2,     0.00,2,     2.90,2, -999.000,9,   1.918,  2046.0,-999.000
    31WTMARAII,   P16,    95,  1,     20,     20,2,19840602,1333, 55.9383,-152.9600, 2697,   2339.2,   1.7480,  34.6196,2,  34.6210,2,   -999.0,5,  1.5867,     80.8,2,   181.71,2,    40.76,2,     0.00,2,     2.81,2, -999.000,9,-999.000,  -999.0,-999.000
    31WTMARAII,   P16,    95,  1,     21,     21,2,19840602,1333, 55.9383,-152.9600, 2697,   2603.9,   1.6481,  34.6397,2,  34.6420,2,   -999.0,5,  1.4651,     96.0,2,   181.90,2,    39.98,2,     0.00,2,     2.75,2, -999.000,9,-999.000,  -999.0,-999.000
    31WTMARAII,   P16,    95,  1,     23,     23,2,19840602,1333, 55.9383,-152.9600, 2697,   2719.9,   1.6297,  34.6437,2,  34.6430,2,   -999.0,5,  1.4365,     99.9,2,   181.32,2,    39.68,2,     0.00,2,     2.73,2, -999.000,9,   1.623,  2717.0,-999.000
    31WTMARAII,   P16,    95,  1,     24,     24,2,19840602,1333, 55.9383,-152.9600, 2697,   2832.5,   1.6182,  34.6475,2,  34.6470,2,   -999.0,5,  1.4148,    102.6,2,   180.63,2,    39.49,2,     0.00,2,     2.71,2, -999.000,9,-999.000,  -999.0,-999.000
    31WTMARAII,   P16,    96,  1,      3,      3,2,19840602,1825, 56.0667,-152.0450, 1829,      1.8,   9.1619,  32.2705,2,  32.2760,2,   -999.0,5,  9.1617,    329.8,2,     0.98,2,     0.07,2,     0.00,2,     0.45,2, -999.000,9,   9.164,  -999.0,-999.000
    31WTMARAII,   P16,    96,  1,      8,      8,2,19840602,1825, 56.0667,-152.0450, 1829,     47.0,   6.6262,  32.3601,2,-999.0000,9,   -999.0,5,  6.6222,    314.9,2,    11.55,2,     5.02,2,     0.13,2,     0.95,2, -999.000,9,-999.000,  -999.0,-999.000
    31WTMARAII,   P16,    96,  1,      9,      9,2,19840602,1825, 56.0667,-152.0450, 1829,     99.4,   5.9054,  32.5052,2,  32.5080,2,   -999.0,5,  5.8974,    286.5,2,    20.95,2,    12.92,2,     0.21,2,     1.27,2, -999.000,9,-999.000,  -999.0,-999.000
    31WTMARAII,   P16,    96,  1,     10,     10,2,19840602,1825, 56.0667,-152.0450, 1829,    147.9,   5.7952,  32.7712,2,  32.7740,2,   -999.0,5,  5.7833,    243.4,2,    30.44,2,    19.09,2,     0.04,2,     1.58,2, -999.000,9,-999.000,  -999.0,-999.000
    31WTMARAII,   P16,    96,  1,     11,     11,2,19840602,1825, 56.0667,-152.0450, 1829,    196.8,   5.8186,  33.3713,2,  33.3700,2,   -999.0,5,  5.8025,    164.9,2,    45.98,2,    27.98,2,     0.01,2,     2.05,2, -999.000,9,-999.000,  -999.0,-999.000
    31WTMARAII,   P16,    96,  1,     12,     12,2,19840602,1825, 56.0667,-152.0450, 1829,    249.8,   5.3242,  33.7341,2,  33.7350,2,   -999.0,5,  5.3045,    121.4,2,    58.69,2,    33.45,2,     0.00,2,     2.36,2, -999.000,9,-999.000,  -999.0,-999.000
    31WTMARAII,   P16,    96,  1,     13,     13,2,19840602,1825, 56.0667,-152.0450, 1829,    295.2,   4.7873,  33.8205,2,  33.8230,2,   -999.0,5,  4.7650,     98.7,2,    67.97,2,    36.68,2,     0.00,2,     2.56,2, -999.000,9,-999.000,  -999.0,-999.000
    31WTMARAII,   P16,    96,  1,     14,     14,2,19840602,1825, 56.0667,-152.0450, 1829,    393.6,   4.2922,  33.9213,2,  33.9240,2,   -999.0,5,  4.2637,     60.4,2,    85.38,2,    40.68,2,     0.00,2,     2.83,2, -999.000,9,-999.000,  -999.0,-999.000
    31WTMARAII,   P16,    96,  1,     15,     15,2,19840602,1825, 56.0667,-152.0450, 1829,    509.6,   3.9440,  34.0407,2,  34.0430,2,   -999.0,5,  3.9080,     33.9,2,   102.78,2,    42.93,2,     0.00,2,     2.97,2, -999.000,9,   3.944,   508.0,-999.000
    31WTMARAII,   P16,    96,  1,     16,     16,2,19840602,1825, 56.0667,-152.0450, 1829,    596.6,   3.8353,  34.1137,2,  34.1120,2,   -999.0,5,  3.7932,     23.9,2,   110.98,2,    43.42,2,     0.00,2,     3.00,2, -999.000,9,-999.000,  -999.0,-999.000
    31WTMARAII,   P16,    96,  1,     17,     17,2,19840602,1825, 56.0667,-152.0450, 1829,    707.5,   3.6027,  34.1842,2,  34.1820,2,   -999.0,5,  3.5533,     19.1,2,   122.03,2,    43.90,2,     0.00,2,     3.04,2, -999.000,9,-999.000,  -999.0,-999.000
    31WTMARAII,   P16,    96,  1,     18,     18,2,19840602,1825, 56.0667,-152.0450, 1829,    798.8,   3.3658,  34.2384,2,  34.2400,2,   -999.0,5,  3.3109,     18.3,2,   132.29,2,    44.10,2,     0.00,2,     3.05,2, -999.000,9,-999.000,  -999.0,-999.000
    31WTMARAII,   P16,    96,  1,     19,     19,2,19840602,1825, 56.0667,-152.0450, 1829,    920.6,   3.1824,  34.2925,2,  34.2910,2,   -999.0,5,  3.1195,     17.8,2,   140.20,2,    44.19,2,     0.00,2,     3.06,2, -999.000,9,   3.195,   920.0,-999.000
    31WTMARAII,   P16,    96,  1,     20,     20,2,19840602,1825, 56.0667,-152.0450, 1829,   1032.7,   3.0319,  34.3414,2,  34.3420,2,   -999.0,5,  2.9616,     16.5,2,   146.75,2,    44.09,2,     0.00,2,     3.06,2, -999.000,9,-999.000,  -999.0,-999.000
    31WTMARAII,   P16,    96,  1,     21,     21,2,19840602,1825, 56.0667,-152.0450, 1829,   1262.2,   2.7083,  34.4155,2,  34.4150,2,   -999.0,5,  2.6231,     20.4,2,   158.96,2,    44.19,2,     0.00,2,     3.07,2, -999.000,9,-999.000,  -999.0,-999.000
    31WTMARAII,   P16,    96,  1,     25,     25,2,19840602,1825, 56.0667,-152.0450, 1829,   1502.0,   2.2908,  34.5046,2,  34.5040,2,   -999.0,5,  2.1912,     33.9,2,   171.95,2,    43.60,2,     0.00,2,     3.00,2, -999.000,9,-999.000,  -999.0,-999.000
    31WTMARAII,   P16,    96,  1,     23,     23,2,19840602,1825, 56.0667,-152.0450, 1829,   1745.8,   2.0895,  34.5494,2,  34.5490,2,   -999.0,5,  1.9729,     44.8,2,   175.76,2,    42.91,2,     0.00,2,     2.96,2, -999.000,9,   2.085,  1749.0,-999.000
    31WTMARAII,   P16,    96,  1,     24,     24,2,19840602,1825, 56.0667,-152.0450, 1829,   1874.6,   1.9739,  34.5735,2,  34.5720,2,   -999.0,5,  1.8484,     54.8,2,   178.00,2,    42.23,2,     0.00,2,     2.90,2, -999.000,9,-999.000,  -999.0,-999.000