BOTTLE,20220816CCHSIOAMB
EXPOCODE,SECT_ID,STNNBR,CASTNO,SAMPNO,BTLNBR,BTLNBR_FLAG_W,DATE,TIME,LATITUDE,LONGITUDE,DEPTH,CTDPRS,CTDTMP,CTDSAL,CTDSAL_FLAG_W,SALNTY,SALNTY_FLAG_W,CTDOXY,CTDOXY_FLAG_W,THETA,OXYGEN,OXYGEN_FLAG_W,SILCAT,SILCAT_FLAG_W,NITRAT,NITRAT_FLAG_W,NITRIT,NITRIT_FLAG_W,PHSPHT,PHSPHT_FLAG_W,TRITUM,TRITUM_FLAG_W,REVTMP,REVPRS,TRITER
,,,,,,,,,,,,DBAR,ITS-90,PSS-78,,PSS-78,,UMOL/KG,,DEG C,UMOL/KG,,UMOL/KG,,UMOL/KG,,UMOL/KG,,UMOL/KG,,TU,,,DBAR,TU
    31WTMARAII,   P16,    73,  1,      7,      7,2,19840527,1200, 47.9650,-151.9950, 4854,      2.6,   6.7986,  32.7000,2,  32.7030,2,   -999.0,5,  6.7984,    319.2,2,    21.73,2,    12.33,2,     0.13,2,     1.22,2, -999.000,9,   6.796,  -999.0,-999.000
    31WTMARAII,   P16,    73,  1,      8,      8,2,19840527,1200, 47.9650,-151.9950, 4854,     49.4,   5.9061,  32.7142,2,  32.7160,2,   -999.0,5,  5.9022,    317.4,2,    21.93,2,    13.02,2,     0.11,2,     1.27,2, -999.000,9,-999.000,  -999.0,-999.000
    31WTMARAII,   P16,    73,  1,      9,      9,2,19840527,1200, 47.9650,-151.9950, 4854,     98.9,   5.4029,  32.9265,2,  32.9210,2,   -999.0,5,  5.3952,    298.6,2,    24.96,2,    15.27,2,     0.09,2,     1.40,2, -999.000,9,-999.000,  -999.0,-999.000
    31WTMARAII,   P16,    73,  1,     10,     10,2,19840527,1200, 47.9650,-151.9950, 4854,    133.6,   4.7028,  33.7031,2,  33.7040,2,   -999.0,5,  4.6930,    193.6,2,    49.59,2,    28.37,2,     0.00,2,     2.04,2, -999.000,9,-999.000,  -999.0,-999.000
    31WTMARAII,   P16,    73,  1,     11,     11,2,19840527,1200, 47.9650,-151.9950, 4854,    167.5,   4.5856,  33.7647,2,  33.7670,2,   -999.0,5,  4.5734,    163.1,2,    59.37,2,    31.01,2,     0.00,2,     2.22,2, -999.000,9,-999.000,  -999.0,-999.000
    31WTMARAII,   P16,    73,  1,     12,     12,2,19840527,1200, 47.9650,-151.9950, 4854,    198.4,   4.4695,  33.8105,2,  33.8110,2,   -999.0,5,  4.4552,    136.1,2,    66.02,2,    33.55,2,     0.00,2,     2.37,2, -999.000,9,-999.000,  -999.0,-999.000
    31WTMARAII,   P16,    73,  1,     13,     13,2,19840527,1200, 47.9650,-151.9950, 4854,    247.6,   4.2700,  33.8752,2,  33.8750,2,   -999.0,5,  4.2525,    101.8,2,    76.48,2,    36.58,2,     0.00,2,     2.57,2, -999.000,9,-999.000,  -999.0,-999.000
    31WTMARAII,   P16,    73,  1,     14,     14,2,19840527,1200, 47.9650,-151.9950, 4854,    296.6,   4.1575,  33.9193,2,  33.9010,2,   -999.0,5,  4.1365,     84.8,2,    84.89,2,    39.22,2,     0.01,2,     2.76,2, -999.000,9,-999.000,  -999.0,-999.000
    31WTMARAII,   P16,    73,  1,     15,     15,2,19840527,1200, 47.9650,-151.9950, 4854,    400.2,   4.0171,  34.0196,2,  34.0200,2,   -999.0,5,  3.9889,     61.7,2,    94.46,2,    40.09,2,     0.00,2,     2.83,2, -999.000,9,   4.016,   400.0,-999.000
    31WTMARAII,   P16,    73,  1,     16,     16,2,19840527,1200, 47.9650,-151.9950, 4854,    497.5,   3.7634,  34.1175,2,  34.1210,2,   -999.0,5,  3.7289,     43.5,2,   109.32,2,    41.66,2,     0.00,2,     2.91,2, -999.000,9,-999.000,  -999.0,-999.000
    31WTMARAII,   P16,    73,  1,     17,     17,2,19840527,1200, 47.9650,-151.9950, 4854,    599.0,   3.5240,  34.2023,2,  34.2030,2,   -999.0,5,  3.4831,     34.8,2,   122.81,2,    42.34,2,     0.00,2,     2.95,2, -999.000,9,-999.000,  -999.0,-999.000
    31WTMARAII,   P16,    73,  1,     18,     18,2,19840527,1200, 47.9650,-151.9950, 4854,    688.7,   3.3323,  34.2625,2,  34.2620,2,   -999.0,5,  3.2857,     30.4,2,   128.47,2,    42.63,2,     0.00,2,     2.99,2, -999.000,9,-999.000,  -999.0,-999.000
    31WTMARAII,   P16,    73,  1,     19,     19,2,19840527,1200, 47.9650,-151.9950, 4854,    800.0,   3.1240,  34.3179,2,  34.3170,2,   -999.0,5,  3.0705,     26.5,2,   137.56,2,    43.12,2,     0.00,2,     3.01,2, -999.000,9,   3.124,   800.0,-999.000
    31WTMARAII,   P16,    73,  1,     20,     20,2,19840527,1200, 47.9650,-151.9950, 4854,    901.3,   2.9779,  34.3564,2,  34.3560,2,   -999.0,5,  2.9178,     22.2,2,   140.68,2,    43.21,2,     0.00,2,     3.04,2, -999.000,9,-999.000,  -999.0,-999.000
    31WTMARAII,   P16,    73,  1,     21,     21,2,19840527,1200, 47.9650,-151.9950, 4854,   1001.2,   2.8241,  34.3926,2,  34.3930,2,   -999.0,5,  2.7577,     19.6,2,   148.70,2,    43.80,2,     0.00,2,     3.08,2, -999.000,9,-999.000,  -999.0,-999.000
    31WTMARAII,   P16,    73,  1,     22,     22,2,19840527,1200, 47.9650,-151.9950, 4854,   1253.1,   2.5171,  34.4621,2,  34.4620,2,   -999.0,5,  2.4344,     19.6,2,   162.28,2,    44.09,2,     0.00,2,  -999.00,9, -999.000,9,-999.000,  -999.0,-999.000
    31WTMARAII,   P16,    73,  1,     23,     23,2,19840527,1200, 47.9650,-151.9950, 4854,   1531.2,   2.2468,  34.5213,2,  34.5200,2,   -999.0,5,  2.1454,     28.2,2,   172.24,2,    43.79,2,     0.00,2,  -999.00,9, -999.000,9,   2.244,  1533.0,-999.000
    31WTMARAII,   P16,    74,  1,      1,      1,2,19840527,1924, 48.4167,-151.9833, 5019,      1.0,   6.9380,-999.0000,9,  32.7370,2,   -999.0,5,-999.0000,   -999.0,9,    20.16,2,    12.33,2,     0.11,2,     1.20,2, -999.000,9,   6.936,     1.0,-999.000
    31WTMARAII,   P16,    74,  1,      2,      2,2,19840527,1924, 48.4167,-151.9833, 5019,     18.2,   6.8974,  32.7315,2,  32.7340,2,   -999.0,5,  6.8958,    316.1,2,    20.95,2,    12.24,2,     0.11,2,     1.20,2, -999.000,9,-999.000,  -999.0,-999.000
    31WTMARAII,   P16,    74,  1,      3,      3,2,19840527,1924, 48.4167,-151.9833, 5019,     51.6,   6.0517,  32.7369,2,  32.7400,2,   -999.0,5,  6.0475,   -999.0,9,    20.95,2,    12.82,2,     0.10,2,     1.22,2, -999.000,9,-999.000,  -999.0,-999.000
    31WTMARAII,   P16,    74,  1,      4,      4,2,19840527,1924, 48.4167,-151.9833, 5019,    103.8,   5.1071,  33.6648,2,  33.6720,2,   -999.0,5,  5.0991,    220.6,2,    41.47,2,    25.14,2,     0.04,2,     1.82,2, -999.000,9,-999.000,  -999.0,-999.000
    31WTMARAII,   P16,    74,  1,      5,      5,2,19840527,1924, 48.4167,-151.9833, 5019,    157.3,   4.6435,  33.7656,2,  33.7670,2,   -999.0,5,  4.6320,    170.5,2,    56.04,2,    30.32,2,     0.01,2,     2.16,2, -999.000,9,-999.000,  -999.0,-999.000
    31WTMARAII,   P16,    74,  1,      6,      6,2,19840527,1924, 48.4167,-151.9833, 5019,    202.8,   4.3632,  33.8051,2,  33.8060,2,   -999.0,5,  4.3488,    134.0,2,    66.02,2,    33.84,2,     0.00,2,     2.40,2, -999.000,9,-999.000,  -999.0,-999.000
    31WTMARAII,   P16,    74,  1,      7,      7,2,19840527,1924, 48.4167,-151.9833, 5019,    298.6,   4.0283,  33.9107,2,  33.9120,2,   -999.0,5,  4.0076,     82.2,2,    84.69,2,    38.83,2,     0.00,2,     2.70,2, -999.000,9,-999.000,  -999.0,-999.000
    31WTMARAII,   P16,    74,  1,      8,      8,2,19840527,1924, 48.4167,-151.9833, 5019,    399.1,   3.9565,  34.0349,2,  34.0370,2,   -999.0,5,  3.9285,     57.0,2,    97.20,2,    40.58,2,     0.00,2,     2.85,2, -999.000,9,-999.000,  -999.0,-999.000
    31WTMARAII,   P16,    74,  1,      9,      9,2,19840527,1924, 48.4167,-151.9833, 5019,    509.7,   3.7027,  34.1332,2,  34.1360,2,   -999.0,5,  3.6676,     39.1,2,   112.06,2,    41.95,2,     0.00,2,     2.91,2, -999.000,9,-999.000,  -999.0,-999.000
    31WTMARAII,   P16,    74,  1,     10,     10,2,19840527,1924, 48.4167,-151.9833, 5019,    608.6,   3.4666,  34.2109,2,  34.2120,2,   -999.0,5,  3.4252,     31.7,2,   120.75,2,    42.43,2,     0.00,2,     2.96,2, -999.000,9,-999.000,  -999.0,-999.000
    31WTMARAII,   P16,    74,  1,     11,     11,2,19840527,1924, 48.4167,-151.9833, 5019,    704.5,   3.3163,  34.2618,2,  34.2630,2,   -999.0,5,  3.2687,     29.1,2,   128.37,2,    42.82,2,     0.00,2,     2.96,2, -999.000,9,-999.000,  -999.0,-999.000
    31WTMARAII,   P16,    74,  1,     12,     12,2,19840527,1924, 48.4167,-151.9833, 5019,    805.9,   3.1240,  34.3181,2,  34.3210,2,   -999.0,5,  3.0700,     24.8,2,   135.80,2,    43.21,2,     0.00,2,     2.99,2, -999.000,9,-999.000,  -999.0,-999.000
    31WTMARAII,   P16,    74,  1,     13,     13,2,19840527,1924, 48.4167,-151.9833, 5019,    910.3,   2.9736,  34.3533,2,  34.3550,2,   -999.0,5,  2.9129,     21.7,2,   139.32,2,    43.51,2,     0.00,2,     3.02,2, -999.000,9,-999.000,  -999.0,-999.000
    31WTMARAII,   P16,    74,  1,     14,     14,2,19840527,1924, 48.4167,-151.9833, 5019,   1008.3,   2.8162,  34.3899,2,  34.3910,2,   -999.0,5,  2.7493,     20.0,2,   145.76,2,    43.70,2,     0.00,2,     3.03,2, -999.000,9,-999.000,  -999.0,-999.000
    31WTMARAII,   P16,    74,  1,     15,     15,2,19840527,1924, 48.4167,-151.9833, 5019,   1247.2,   2.5264,  34.4563,2,  34.4580,2,   -999.0,5,  2.4440,     18.7,2,   157.00,2,    43.99,2,     0.00,2,     3.04,2, -999.000,9,   2.518,  1244.0,-999.000
    31WTMARAII,   P16,    74,  1,     16,     16,2,19840527,1924, 48.4167,-151.9833, 5019,   1511.2,   2.2811,  34.5107,2,  34.5120,2,   -999.0,5,  2.1809,     24.8,2,   166.96,2,    43.99,2,     0.00,2,     3.02,2, -999.000,9,-999.000,  -999.0,-999.000
    31WTMARAII,   P16,    74,  1,     17,     17,2,19840527,1924, 48.4167,-151.9833, 5019,   1753.4,   2.1021,  34.5501,2,  34.5520,2,   -999.0,5,  1.9847,     36.1,2,   171.55,2,    43.40,2,     0.00,2,     2.96,2, -999.000,9,-999.000,  -999.0,-999.000
    31WTMARAII,   P16,    74,  1,     18,     18,2,19840527,1924, 48.4167,-151.9833, 5019,   2003.8,   1.9314,  34.5849,2,  34.5870,2,   -999.0,5,  1.7959,     52.6,2,   171.65,2,    42.42,2,     0.00,2,     2.90,2, -999.000,9,-999.000,  -999.0,-999.000
    31WTMARAII,   P16,    74,  1,     19,     19,2,19840527,1924, 48.4167,-151.9833, 5019,   2513.4,   1.6944,  34.6305,2,  34.6320,2,   -999.0,5,  1.5187,     85.6,2,   175.65,2,    40.27,2,     0.00,2,     2.77,2, -999.000,9,   1.694,  2520.0,-999.000
    31WTMARAII,   P16,    74,  1,     20,     20,2,19840527,1924, 48.4167,-151.9833, 5019,   2942.0,   1.5722,  34.6539,2,  34.6550,2,   -999.0,5,  1.3595,    109.5,2,   170.56,2,    38.90,2,     0.00,2,     2.66,2, -999.000,9,-999.000,  -999.0,-999.000
    31WTMARAII,   P16,    74,  1,     21,     21,2,19840527,1924, 48.4167,-151.9833, 5019,   3508.2,   1.4865,  34.6729,2,  34.6750,2,   -999.0,5,  1.2199,    133.4,2,   164.21,2,    37.44,2,     0.00,2,     2.55,2, -999.000,9,-999.000,  -999.0,-999.000
    31WTMARAII,   P16,    74,  1,     22,     22,2,19840527,1924, 48.4167,-151.9833, 5019,   4013.5,   1.4809,  34.6820,2,  34.6820,2,   -999.0,5,  1.1611,    141.2,2,   167.33,2,    36.85,2,     0.00,2,  -999.00,9, -999.000,9,-999.000,  -999.0,-999.000
    31WTMARAII,   P16,    74,  1,     23,     23,2,19840527,1924, 48.4167,-151.9833, 5019,   4519.3,   1.5148,  34.6856,2,  34.6860,2,   -999.0,5,  1.1372,    145.1,2,   167.43,2,    36.75,2,     0.00,2,  -999.00,9, -999.000,9,   1.516,  4516.0,-999.000
    31WTMARAII,   P16,    74,  1,     24,     24,2,19840527,1924, 48.4167,-151.9833, 5019,   5111.1,   1.5758,  34.6884,2,  34.6880,2,   -999.0,5,  1.1254,    147.7,2,   169.68,2,    36.65,2,     0.00,2,     2.47,2, -999.000,9,-999.000,  -999.0,-999.000
    31WTMARAII,   P16,    75,  2,      7,      7,2,19840528,0247, 48.8700,-152.0017, 4080,      2.0,   7.0259,  32.7401,2,  32.7450,2,   -999.0,5,  7.0257,    314.8,2,    20.75,2,    12.24,2,     0.12,2,     1.20,2, -999.000,9,   7.033,  -999.0,-999.000
    31WTMARAII,   P16,    75,  2,      8,      8,2,19840528,0247, 48.8700,-152.0017, 4080,     49.7,   6.0449,  32.7241,2,  32.7260,2,   -999.0,5,  6.0408,    314.3,2,    21.24,2,    13.02,2,     0.10,2,     1.22,2, -999.000,9,-999.000,  -999.0,-999.000
    31WTMARAII,   P16,    75,  2,      9,      9,2,19840528,0247, 48.8700,-152.0017, 4080,     98.4,   5.1478,  33.5275,2,  33.3850,2,   -999.0,5,  5.1403,    247.1,2,    35.32,2,    21.82,2,     0.07,2,     1.68,2, -999.000,9,-999.000,  -999.0,-999.000
    31WTMARAII,   P16,    75,  2,     10,     10,2,19840528,0247, 48.8700,-152.0017, 4080,    132.1,   4.6180,  33.7367,2,  33.7370,2,   -999.0,5,  4.6084,    184.4,2,    53.40,2,    29.15,2,     0.01,2,     2.08,2, -999.000,9,-999.000,  -999.0,-999.000
    31WTMARAII,   P16,    75,  2,     11,     11,2,19840528,0247, 48.8700,-152.0017, 4080,    163.1,   4.2604,  33.7797,2,  33.7810,2,   -999.0,5,  4.2490,    139.6,2,    66.41,2,    33.55,2,     0.01,2,     2.37,2, -999.000,9,-999.000,  -999.0,-999.000
    31WTMARAII,   P16,    75,  2,     12,     12,2,19840528,0247, 48.8700,-152.0017, 4080,    198.1,   4.0797,  33.8114,2,  33.8120,2,   -999.0,5,  4.0661,    116.6,2,    73.06,2,    35.80,2,     0.00,2,     2.51,2, -999.000,9,-999.000,  -999.0,-999.000
    31WTMARAII,   P16,    75,  2,     13,     13,2,19840528,0247, 48.8700,-152.0017, 4080,    248.6,   3.9547,  33.8873,2,  33.8880,2,   -999.0,5,  3.9376,     85.7,2,    84.11,2,    38.63,2,     0.00,2,     2.71,2, -999.000,9,-999.000,  -999.0,-999.000
    31WTMARAII,   P16,    75,  2,     14,     14,2,19840528,0247, 48.8700,-152.0017, 4080,    295.5,   3.9958,  33.9551,2,  33.9550,2,   -999.0,5,  3.9753,     69.6,2,    90.46,2,    39.51,2,     0.00,2,     2.77,2, -999.000,9,-999.000,  -999.0,-999.000
    31WTMARAII,   P16,    75,  2,     15,     15,2,19840528,0247, 48.8700,-152.0017, 4080,    412.7,   3.8400,  34.0849,2,  34.0840,2,   -999.0,5,  3.8114,     47.8,2,   105.51,2,    41.17,2,     0.00,2,     2.88,2, -999.000,9,   3.832,   413.0,-999.000
    31WTMARAII,   P16,    75,  2,     16,     16,2,19840528,0247, 48.8700,-152.0017, 4080,    507.4,   3.6415,  34.1523,2,  34.1530,2,   -999.0,5,  3.6067,     38.3,2,   114.60,2,    41.95,2,     0.00,2,     2.92,2, -999.000,9,-999.000,  -999.0,-999.000
    31WTMARAII,   P16,    75,  2,     17,     17,2,19840528,0247, 48.8700,-152.0017, 4080,    607.8,   3.4710,  34.2070,2,  34.2080,2,   -999.0,5,  3.4297,     33.0,2,   122.90,2,    42.34,2,     0.00,2,     2.96,2, -999.000,9,-999.000,  -999.0,-999.000
    31WTMARAII,   P16,    75,  2,     18,     18,2,19840528,0247, 48.8700,-152.0017, 4080,    705.8,   3.2967,  34.2692,2,  34.2700,2,   -999.0,5,  3.2490,     28.3,2,   130.23,2,    42.73,2,     0.00,2,     2.98,2, -999.000,9,-999.000,  -999.0,-999.000
    31WTMARAII,   P16,    75,  2,     19,     19,2,19840528,0247, 48.8700,-152.0017, 4080,    797.0,   3.1491,  34.3120,2,  34.3120,2,   -999.0,5,  3.0956,     24.8,2,   135.31,2,    43.02,2,     0.00,2,     3.01,2, -999.000,9,   3.147,   798.0,-999.000
    31WTMARAII,   P16,    75,  2,     20,     20,2,19840528,0247, 48.8700,-152.0017, 4080,    907.0,   2.9869,  34.3520,2,  34.3520,2,   -999.0,5,  2.9263,     23.5,2,   143.62,2,    43.31,2,     0.00,2,     3.03,2, -999.000,9,-999.000,  -999.0,-999.000
    31WTMARAII,   P16,    75,  2,     21,     21,2,19840528,0247, 48.8700,-152.0017, 4080,   1005.7,   2.8713,  34.3805,2,  34.3800,2,   -999.0,5,  2.8042,     19.6,2,   147.72,2,    43.60,2,     0.00,2,     3.05,2, -999.000,9,-999.000,  -999.0,-999.000
    31WTMARAII,   P16,    75,  2,     22,     22,2,19840528,0247, 48.8700,-152.0017, 4080,   1252.6,   2.5420,  34.4558,2,  34.4550,2,   -999.0,5,  2.4590,     17.4,2,   159.54,2,    44.09,2,     0.00,2,  -999.00,9, -999.000,9,-999.000,  -999.0,-999.000
    31WTMARAII,   P16,    75,  2,     23,     23,2,19840528,0247, 48.8700,-152.0017, 4080,   1568.2,   2.2211,  34.5250,2,  34.5240,2,   -999.0,5,  2.1171,     27.4,2,   171.85,2,    43.70,2,     0.00,2,  -999.00,9, -999.000,9,   2.214,  1564.0,-999.000