BOTTLE,20220816CCHSIOAMB
EXPOCODE,SECT_ID,STNNBR,CASTNO,SAMPNO,BTLNBR,BTLNBR_FLAG_W,DATE,TIME,LATITUDE,LONGITUDE,DEPTH,CTDPRS,CTDTMP,CTDSAL,CTDSAL_FLAG_W,SALNTY,SALNTY_FLAG_W,CTDOXY,CTDOXY_FLAG_W,THETA,OXYGEN,OXYGEN_FLAG_W,SILCAT,SILCAT_FLAG_W,NITRAT,NITRAT_FLAG_W,NITRIT,NITRIT_FLAG_W,PHSPHT,PHSPHT_FLAG_W,TRITUM,TRITUM_FLAG_W,REVTMP,REVPRS,TRITER
,,,,,,,,,,,,DBAR,ITS-90,PSS-78,,PSS-78,,UMOL/KG,,DEG C,UMOL/KG,,UMOL/KG,,UMOL/KG,,UMOL/KG,,UMOL/KG,,TU,,,DBAR,TU
    31WTMARAII,   P16,    53,  1,      1,      1,2,19840520,1719, 39.5550,-152.0067, 5144,      1.0,  10.8830,-999.0000,9,  33.4310,2,   -999.0,5,-999.0000,   -999.0,9,     3.52,2,     3.95,2,     0.07,2,     0.51,2,    3.490,2,  10.880,     1.0,   0.120
    31WTMARAII,   P16,    53,  1,      8,      8,2,19840520,1719, 39.5550,-152.0067, 5144,     43.2,  10.8453,  33.4656,2,  33.4660,2,   -999.0,5, 10.8402,    285.6,2,     3.13,2,     3.89,2,     0.08,2,     0.52,2, -999.000,9,-999.000,  -999.0,-999.000
    31WTMARAII,   P16,    53,  1,      9,      9,2,19840520,1719, 39.5550,-152.0067, 5144,    103.1,  10.8516,  33.8795,2,  33.8780,2,   -999.0,5, 10.8392,    256.8,2,     7.43,2,     7.13,2,     0.02,2,     0.61,2, -999.000,9,-999.000,  -999.0,-999.000
    31WTMARAII,   P16,    53,  1,     10,     10,2,19840520,1719, 39.5550,-152.0067, 5144,    137.0,  10.0810,  34.0384,2,  34.0400,2,   -999.0,5, 10.0652,    248.1,2,    13.89,2,    11.25,2,     0.02,2,     0.83,2,    3.240,2,-999.000,  -999.0,   0.110
    31WTMARAII,   P16,    53,  1,     11,     11,2,19840520,1719, 39.5550,-152.0067, 5144,    169.6,   9.6978,  34.0656,2,  34.0670,2,   -999.0,5,  9.6788,    249.3,2,    16.43,2,    12.13,2,     0.01,2,     0.92,2,    3.010,2,-999.000,  -999.0,   0.095
    31WTMARAII,   P16,    53,  1,     13,     13,2,19840520,1719, 39.5550,-152.0067, 5144,    252.5,   8.8944,  34.0390,2,  34.0370,2,   -999.0,5,  8.8674,    241.5,2,    21.22,2,    14.77,2,     0.00,2,     1.11,2,    3.163,2,-999.000,  -999.0,   0.096
    31WTMARAII,   P16,    53,  1,     14,     14,2,19840520,1719, 39.5550,-152.0067, 5144,    302.8,   8.1248,  34.0462,2,  34.0480,2,   -999.0,5,  8.0940,    203.2,2,    32.37,2,    20.73,2,     0.00,2,     1.45,2,    2.504,2,-999.000,  -999.0,   0.092
    31WTMARAII,   P16,    53,  1,     15,     15,2,19840520,1719, 39.5550,-152.0067, 5144,    404.7,   6.2366,  33.9700,2,  33.9710,2,   -999.0,5,  6.2011,    153.5,2,    54.37,2,    28.95,2,     0.00,2,     2.04,2,    2.067,2,   6.248,   408.0,   0.084
    31WTMARAII,   P16,    53,  1,     16,     16,2,19840520,1719, 39.5550,-152.0067, 5144,    504.8,   5.2158,  33.9818,2,  33.9840,2,   -999.0,5,  5.1752,    113.1,2,    73.05,2,    34.33,2,     0.00,2,     2.44,2,    2.050,2,-999.000,  -999.0,   0.080
    31WTMARAII,   P16,    53,  1,     17,     17,2,19840520,1719, 39.5550,-152.0067, 5144,    603.6,   4.5220,  34.0482,2,  34.0470,2,   -999.0,5,  4.4761,     74.4,2,    88.99,2,    38.72,2,     0.00,2,     2.73,2,    1.130,2,-999.000,  -999.0,   0.080
    31WTMARAII,   P16,    53,  1,     18,     18,2,19840520,1719, 39.5550,-152.0067, 5144,    703.2,   4.0601,  34.1307,2,  34.1290,2,   -999.0,5,  4.0086,     44.8,2,   106.58,2,    41.56,2,     0.00,2,     2.93,2,    0.530,2,-999.000,  -999.0,   0.060
    31WTMARAII,   P16,    53,  1,     19,     19,2,19840520,1719, 39.5550,-152.0067, 5144,    803.5,   3.7070,  34.2019,2,  34.2010,2,   -999.0,5,  3.6496,     26.1,2,   119.87,2,    43.51,2,     0.00,2,     3.05,2,    0.080,2,   3.711,   806.0,   0.060
    31WTMARAII,   P16,    53,  1,     20,     20,2,19840520,1719, 39.5550,-152.0067, 5144,    897.2,   3.4614,  34.2626,2,  34.2620,2,   -999.0,5,  3.3983,     16.5,2,   130.04,2,    44.19,2,     0.00,2,     3.12,2,    0.090,2,-999.000,  -999.0,   0.070
    31WTMARAII,   P16,    53,  1,     21,     21,2,19840520,1719, 39.5550,-152.0067, 5144,    994.1,   3.2206,  34.3184,2,  34.3180,2,   -999.0,5,  3.1518,     15.6,2,   140.20,2,    44.58,2,     0.00,2,     3.13,2,   -0.020,2,-999.000,  -999.0,   0.050
    31WTMARAII,   P16,    53,  1,     25,     25,2,19840520,1719, 39.5550,-152.0067, 5144,   1237.6,   2.8118,  34.4257,2,  34.4260,2,   -999.0,5,  2.7275,     12.2,2,   156.61,2,    45.17,2,     0.00,2,     3.17,2, -999.000,9,-999.000,  -999.0,-999.000
    31WTMARAII,   P16,    53,  1,     23,     23,2,19840520,1719, 39.5550,-152.0067, 5144,   1531.5,   2.4056,  34.5160,2,  34.5170,2,   -999.0,5,  2.3022,     21.7,2,   168.14,2,    44.58,2,     0.00,2,  -999.00,9, -999.000,9,   2.401,  1532.0,-999.000
    31WTMARAII,   P16,    54,  1,     24,     24,2,19840520,2341, 39.8867,-151.9983, 5484,   5602.2,   1.6333,  34.6874,2,  34.6880,2,   -999.0,5,  1.1187,   -999.0,9,   156.09,2,    36.16,2,     0.01,2,     2.50,2, -999.000,9,-999.000,  -999.0,-999.000
    31WTMARAII,   P16,    54,  2,      1,      1,2,19840521,0410, 39.8817,-151.9967, 5579,      1.0,  10.8140,-999.0000,9,  33.4910,2,   -999.0,5,-999.0000,   -999.0,9,     1.66,2,     3.56,2,     0.07,2,     0.51,2, -999.000,9,  10.811,     1.0,-999.000
    31WTMARAII,   P16,    54,  2,      2,      2,2,19840521,0410, 39.8817,-151.9967, 5579,     55.2,  10.6824,  33.5361,2,  33.5380,2,   -999.0,5, 10.6758,    283.9,2,     1.66,2,     3.56,2,     0.07,2,     0.51,2, -999.000,9,-999.000,  -999.0,-999.000
    31WTMARAII,   P16,    54,  2,      3,      3,2,19840521,0410, 39.8817,-151.9967, 5579,    105.8,   9.2201,  33.4098,2,  33.4080,2,   -999.0,5,  9.2088,    282.5,2,     3.82,2,     6.44,2,     0.31,2,     0.73,2, -999.000,9,-999.000,  -999.0,-999.000
    31WTMARAII,   P16,    54,  2,      4,      4,2,19840521,0410, 39.8817,-151.9967, 5579,    156.5,   8.9763,  33.9700,2,  33.9730,2,   -999.0,5,  8.9596,    250.6,2,    16.82,2,    12.91,2,     0.01,2,     1.00,2, -999.000,9,-999.000,  -999.0,-999.000
    31WTMARAII,   P16,    54,  2,      5,      5,2,19840521,0410, 39.8817,-151.9967, 5579,    201.5,   8.5197,  33.9322,2,  33.9320,2,   -999.0,5,  8.4988,    258.5,2,    17.11,2,    12.71,2,     0.01,2,     0.98,2, -999.000,9,-999.000,  -999.0,-999.000
    31WTMARAII,   P16,    54,  2,      6,      6,2,19840521,0410, 39.8817,-151.9967, 5579,    306.0,   7.8425,  34.0171,2,  34.0200,2,   -999.0,5,  7.8122,    204.9,2,    31.88,2,    20.54,2,     0.01,2,     1.46,2, -999.000,9,-999.000,  -999.0,-999.000
    31WTMARAII,   P16,    54,  2,      7,      7,2,19840521,0410, 39.8817,-151.9967, 5579,    408.5,   6.1850,  33.9551,2,  33.9580,2,   -999.0,5,  6.1494,    153.5,2,    51.44,2,    28.16,2,     0.01,2,     1.99,2, -999.000,9,-999.000,  -999.0,-999.000
    31WTMARAII,   P16,    54,  2,      8,      8,2,19840521,0410, 39.8817,-151.9967, 5579,    509.1,   5.1530,  33.9713,2,  33.9730,2,   -999.0,5,  5.1122,    112.2,2,    70.90,2,    33.74,2,     0.00,2,     2.38,2, -999.000,9,-999.000,  -999.0,-999.000
    31WTMARAII,   P16,    54,  2,      9,      9,2,19840521,0410, 39.8817,-151.9967, 5579,    608.6,   4.4031,  34.0498,2,  34.0510,2,   -999.0,5,  4.3575,     69.6,2,    91.92,2,    38.63,2,     0.00,2,     2.71,2, -999.000,9,-999.000,  -999.0,-999.000
    31WTMARAII,   P16,    54,  2,     10,     10,2,19840521,0410, 39.8817,-151.9967, 5579,    709.1,   4.0426,  34.1261,2,  34.1280,2,   -999.0,5,  3.9908,     44.8,2,   104.72,2,    41.17,2,     0.00,2,     2.90,2, -999.000,9,-999.000,  -999.0,-999.000
    31WTMARAII,   P16,    54,  2,     11,     11,2,19840521,0410, 39.8817,-151.9967, 5579,    811.6,   3.6500,  34.2143,2,  34.2170,2,   -999.0,5,  3.5924,     25.7,2,   119.19,2,    42.83,2,     0.00,2,     2.99,2, -999.000,9,-999.000,  -999.0,-999.000
    31WTMARAII,   P16,    54,  2,     12,     12,2,19840521,0410, 39.8817,-151.9967, 5579,    913.8,   3.3675,  34.2806,2,  34.2820,2,   -999.0,5,  3.3038,     15.7,2,   129.84,2,    43.80,2,     0.00,2,     3.06,2, -999.000,9,-999.000,  -999.0,-999.000
    31WTMARAII,   P16,    54,  2,     13,     13,2,19840521,0410, 39.8817,-151.9967, 5579,   1013.6,   3.1213,  34.3365,2,  34.3390,2,   -999.0,5,  3.0517,     12.2,2,   138.05,2,    44.19,2,     0.00,2,     3.11,2, -999.000,9,-999.000,  -999.0,-999.000
    31WTMARAII,   P16,    54,  2,     14,     14,2,19840521,0410, 39.8817,-151.9967, 5579,   1267.8,   2.6966,  34.4310,2,  34.4320,2,   -999.0,5,  2.6110,     10.9,2,   154.56,2,    44.58,2,     0.00,2,     3.13,2, -999.000,9,-999.000,  -999.0,-999.000
    31WTMARAII,   P16,    54,  2,     15,     15,2,19840521,0410, 39.8817,-151.9967, 5579,   1521.4,   2.3782,  34.5033,2,  34.5060,2,   -999.0,5,  2.2760,     17.8,2,   166.18,2,    44.48,2,     0.00,2,     3.09,2, -999.000,9,   2.380,  1529.0,-999.000
    31WTMARAII,   P16,    54,  2,     16,     16,2,19840521,0410, 39.8817,-151.9967, 5579,   1774.5,   2.1206,  34.5607,2,  34.5630,2,   -999.0,5,  2.0012,     39.1,2,   173.31,2,    43.01,2,     0.00,2,     3.01,2, -999.000,9,-999.000,  -999.0,-999.000
    31WTMARAII,   P16,    54,  2,     17,     17,2,19840521,0410, 39.8817,-151.9967, 5579,   2029.6,   1.9372,  34.5974,2,  34.5990,2,   -999.0,5,  1.7994,     58.2,2,   179.07,2,    42.03,2,     0.00,2,     2.92,2, -999.000,9,-999.000,  -999.0,-999.000
    31WTMARAII,   P16,    54,  2,     18,     18,2,19840521,0410, 39.8817,-151.9967, 5579,   2537.1,   1.6837,  34.6372,2,  34.6390,2,   -999.0,5,  1.5061,     90.0,2,   175.84,2,    40.17,2,     0.00,2,     2.80,2, -999.000,9,-999.000,  -999.0,-999.000
    31WTMARAII,   P16,    54,  2,     19,     19,2,19840521,0410, 39.8817,-151.9967, 5579,   3045.5,   1.5409,  34.6606,2,  34.6620,2,   -999.0,5,  1.3190,    116.0,2,   170.56,2,    38.41,2,     0.00,2,     2.67,2, -999.000,9,-999.000,  -999.0,-999.000
    31WTMARAII,   P16,    54,  2,     20,     20,2,19840521,0410, 39.8817,-151.9967, 5579,   3557.5,   1.4779,  34.6758,2,  34.6760,2,   -999.0,5,  1.2064,    132.1,2,   168.21,2,    37.34,2,     0.00,2,     2.59,2, -999.000,9,-999.000,  -999.0,-999.000
    31WTMARAII,   P16,    54,  2,     21,     21,2,19840521,0410, 39.8817,-151.9967, 5579,   4067.8,   1.4873,  34.6826,2,  34.6830,2,   -999.0,5,  1.1614,    139.9,2,   170.85,2,    36.95,2,     0.00,2,     2.54,2, -999.000,9,-999.000,  -999.0,-999.000
    31WTMARAII,   P16,    54,  2,     25,     25,2,19840521,0410, 39.8817,-151.9967, 5579,   4578.0,   1.5230,  34.6858,2,  34.6860,2,   -999.0,5,  1.1383,    144.7,2,   168.90,2,    36.75,2,     0.00,2,     2.52,2, -999.000,9,-999.000,  -999.0,-999.000
    31WTMARAII,   P16,    54,  2,     23,     23,2,19840521,0410, 39.8817,-151.9967, 5579,   5088.7,   1.5718,  34.6876,2,  34.6870,2,   -999.0,5,  1.1243,    146.9,2,   163.23,2,    36.56,2,     0.00,2,  -999.00,9, -999.000,9,   1.575,  5091.0,-999.000
    31WTMARAII,   P16,    55,  1,      1,      1,2,19840521,1108, 40.2533,-152.0050, 4879,      1.0,  10.4940,-999.0000,9,  33.4320,2,   -999.0,5,-999.0000,   -999.0,9,     3.62,2,     3.98,2,     0.08,2,     0.55,2, -999.000,9,  10.491,     1.0,-999.000
    31WTMARAII,   P16,    55,  1,      8,      8,2,19840521,1108, 40.2533,-152.0050, 4879,     52.1,  10.4657,  33.4436,2,  33.4430,2,   -999.0,5, 10.4597,    286.5,2,     3.33,2,     4.04,2,     0.08,2,     0.58,2, -999.000,9,-999.000,  -999.0,-999.000
    31WTMARAII,   P16,    55,  1,      9,      9,2,19840521,1108, 40.2533,-152.0050, 4879,     92.1,  10.0340,  33.6182,2,  33.6210,2,   -999.0,5, 10.0235,    276.0,2,     3.23,2,     5.32,2,     0.43,2,     0.65,2, -999.000,9,-999.000,  -999.0,-999.000
    31WTMARAII,   P16,    55,  1,     11,     11,2,19840521,1108, 40.2533,-152.0050, 4879,    162.6,   8.6995,  33.9529,2,  33.9540,2,   -999.0,5,  8.6825,    256.3,2,    19.27,2,    13.20,2,     0.01,2,     1.03,2, -999.000,9,-999.000,  -999.0,-999.000
    31WTMARAII,   P16,    55,  1,     12,     12,2,19840521,1108, 40.2533,-152.0050, 4879,    195.7,   8.5716,  33.9554,2,  33.9560,2,   -999.0,5,  8.5513,    256.7,2,    19.46,2,    13.20,2,     0.01,2,     1.02,2, -999.000,9,-999.000,  -999.0,-999.000
    31WTMARAII,   P16,    55,  1,     13,     13,2,19840521,1108, 40.2533,-152.0050, 4879,    247.5,   8.3087,  34.0426,2,  34.0420,2,   -999.0,5,  8.2833,    215.8,2,    29.14,2,    18.68,2,     0.01,2,     1.36,2, -999.000,9,-999.000,  -999.0,-999.000
    31WTMARAII,   P16,    55,  1,     14,     14,2,19840521,1108, 40.2533,-152.0050, 4879,    302.3,   7.4805,  34.0032,2,  34.0060,2,   -999.0,5,  7.4514,    193.6,2,    37.45,2,    22.59,2,     0.01,2,     1.63,2, -999.000,9,-999.000,  -999.0,-999.000
    31WTMARAII,   P16,    55,  1,     15,     15,2,19840521,1108, 40.2533,-152.0050, 4879,    430.6,   5.8285,  33.9510,2,  33.9530,2,   -999.0,5,  5.7921,    139.2,2,    57.50,2,    30.02,2,     0.01,2,     2.14,2, -999.000,9,   5.838,   430.0,-999.000
    31WTMARAII,   P16,    55,  1,     16,     16,2,19840521,1108, 40.2533,-152.0050, 4879,    514.6,   4.9064,  33.9848,2,  33.9850,2,   -999.0,5,  4.8662,    100.5,2,    78.53,2,    35.60,2,     0.00,2,     2.54,2, -999.000,9,-999.000,  -999.0,-999.000
    31WTMARAII,   P16,    55,  1,     19,     19,2,19840521,1108, 40.2533,-152.0050, 4879,    782.7,   3.7386,  34.1970,2,  34.1950,2,   -999.0,5,  3.6827,     34.8,2,   116.84,2,    42.53,2,     0.00,2,     3.00,2, -999.000,9,   3.735,   781.0,-999.000
    31WTMARAII,   P16,    55,  1,     20,     20,2,19840521,1108, 40.2533,-152.0050, 4879,    909.5,   3.4044,  34.2719,2,  34.2710,2,   -999.0,5,  3.3408,     20.0,2,   128.28,2,    43.80,2,     0.00,2,     3.07,2, -999.000,9,-999.000,  -999.0,-999.000
    31WTMARAII,   P16,    55,  1,     21,     21,2,19840521,1108, 40.2533,-152.0050, 4879,    994.7,   3.2100,  34.3168,2,  34.3160,2,   -999.0,5,  3.1412,     14.3,2,   139.22,2,    44.29,2,     0.00,2,     3.11,2, -999.000,9,-999.000,  -999.0,-999.000
    31WTMARAII,   P16,    55,  1,     25,     25,2,19840521,1108, 40.2533,-152.0050, 4879,   1184.5,   2.8722,  34.3929,2,  34.3930,2,   -999.0,5,  2.7915,     12.2,2,   152.51,2,    44.97,2,     0.00,2,     3.14,2, -999.000,9,-999.000,  -999.0,-999.000
    31WTMARAII,   P16,    55,  1,     23,     23,2,19840521,1108, 40.2533,-152.0050, 4879,   1480.2,   2.4521,  34.4908,2,  34.4900,2,   -999.0,5,  2.3524,     15.6,2,  -999.00,9,  -999.00,9,     0.00,2,  -999.00,9, -999.000,9,   2.451,  1483.0,-999.000