BOTTLE,20220816CCHSIOAMB
EXPOCODE,SECT_ID,STNNBR,CASTNO,SAMPNO,BTLNBR,BTLNBR_FLAG_W,DATE,TIME,LATITUDE,LONGITUDE,DEPTH,CTDPRS,CTDTMP,CTDSAL,CTDSAL_FLAG_W,SALNTY,SALNTY_FLAG_W,CTDOXY,CTDOXY_FLAG_W,THETA,OXYGEN,OXYGEN_FLAG_W,SILCAT,SILCAT_FLAG_W,NITRAT,NITRAT_FLAG_W,NITRIT,NITRIT_FLAG_W,PHSPHT,PHSPHT_FLAG_W,TRITUM,TRITUM_FLAG_W,REVTMP,REVPRS,TRITER
,,,,,,,,,,,,DBAR,ITS-90,PSS-78,,PSS-78,,UMOL/KG,,DEG C,UMOL/KG,,UMOL/KG,,UMOL/KG,,UMOL/KG,,UMOL/KG,,TU,,,DBAR,TU
    31WTMARAII,   P16,    26,  1,      1,      1,2,19840513,0916, 30.0767,-152.0133, 5294,      1.0,  21.6120,-999.0000,9,  35.2930,2,   -999.0,5,-999.0000,   -999.0,9,     2.05,2,     0.00,2,     0.01,2,     0.04,2, -999.000,9,  21.607,     1.0,-999.000
    31WTMARAII,   P16,    26,  1,      2,      2,2,19840513,0916, 30.0767,-152.0133, 5294,     56.0,  19.9908,  35.1663,2,  35.1620,2,   -999.0,5, 19.9805,    230.1,2,     2.25,2,     0.00,2,     0.00,2,     0.07,2, -999.000,9,-999.000,  -999.0,-999.000
    31WTMARAII,   P16,    26,  1,      3,      3,2,19840513,0916, 30.0767,-152.0133, 5294,    106.6,  17.4186,  34.8721,2,  34.8690,2,   -999.0,5, 17.4008,    221.7,2,     3.52,2,     1.19,2,     0.14,2,     0.21,2, -999.000,9,-999.000,  -999.0,-999.000
    31WTMARAII,   P16,    26,  1,      4,      4,2,19840513,0916, 30.0767,-152.0133, 5294,    152.7,  15.5936,  34.6416,2,  34.6430,2,   -999.0,5, 15.5700,    222.5,2,     4.50,2,     3.20,2,     0.05,2,     0.33,2, -999.000,9,-999.000,  -999.0,-999.000
    31WTMARAII,   P16,    26,  1,      5,      5,2,19840513,0916, 30.0767,-152.0133, 5294,    203.4,  13.4400,  34.4080,2,  34.4060,2,   -999.0,5, 13.4116,    224.2,2,     8.02,2,     7.01,2,     0.02,2,     0.57,2, -999.000,9,-999.000,  -999.0,-999.000
    31WTMARAII,   P16,    26,  1,      6,      6,2,19840513,0916, 30.0767,-152.0133, 5294,    301.1,  11.3681,  34.2502,2,  34.2500,2,   -999.0,5, 11.3303,    229.8,2,    12.81,2,    10.95,2,     0.01,2,     0.81,2, -999.000,9,-999.000,  -999.0,-999.000
    31WTMARAII,   P16,    26,  1,      7,      7,2,19840513,0916, 30.0767,-152.0133, 5294,    418.9,   9.2764,  34.1216,2,  34.1210,2,   -999.0,5,  9.2299,    209.3,2,    23.27,2,    17.41,2,     0.01,2,     1.21,2, -999.000,9,-999.000,  -999.0,-999.000
    31WTMARAII,   P16,    26,  1,      8,      8,2,19840513,0916, 30.0767,-152.0133, 5294,    502.4,   7.5940,  34.0321,2,  34.0350,2,   -999.0,5,  7.5444,    174.9,2,    36.96,2,    23.86,2,     0.00,2,     1.69,2, -999.000,9,-999.000,  -999.0,-999.000
    31WTMARAII,   P16,    26,  1,      9,      9,2,19840513,0916, 30.0767,-152.0133, 5294,    604.9,   5.7566,  33.9903,2,  33.9920,2,   -999.0,5,  5.7050,    117.0,2,    62.00,2,    32.56,2,     0.00,2,     2.31,2, -999.000,9,-999.000,  -999.0,-999.000
    31WTMARAII,   P16,    26,  1,     10,     10,2,19840513,0916, 30.0767,-152.0133, 5294,    697.7,   4.7860,  34.0643,2,  34.0660,2,   -999.0,5,  4.7310,     58.7,2,    84.59,2,    39.31,2,     0.00,2,     2.80,2, -999.000,9,-999.000,  -999.0,-999.000
    31WTMARAII,   P16,    26,  1,     11,     11,2,19840513,0916, 30.0767,-152.0133, 5294,    815.8,   4.2881,  34.1974,2,  34.1980,2,   -999.0,5,  4.2261,     25.7,2,   102.96,2,    42.44,2,     0.00,2,     3.03,2, -999.000,9,-999.000,  -999.0,-999.000
    31WTMARAII,   P16,    26,  1,     12,     12,2,19840513,0916, 30.0767,-152.0133, 5294,    904.7,   4.0018,  34.2929,2,  34.2920,2,   -999.0,5,  3.9343,     14.3,2,   114.68,2,    43.51,2,     0.00,2,     3.13,2, -999.000,9,   4.006,   907.0,-999.000
    31WTMARAII,   P16,    26,  1,     13,     13,2,19840513,0916, 30.0767,-152.0133, 5294,    984.2,   3.7717,  34.3534,2,  34.3540,2,   -999.0,5,  3.6994,     13.5,2,   122.11,2,    43.80,2,     0.00,2,     3.17,2, -999.000,9,-999.000,  -999.0,-999.000
    31WTMARAII,   P16,    26,  1,     14,     14,2,19840513,0916, 30.0767,-152.0133, 5294,   1176.6,   3.3312,  34.4616,2,  34.4630,2,   -999.0,5,  3.2467,     26.5,2,   132.66,2,    43.60,2,     0.00,2,     3.13,2, -999.000,9,-999.000,  -999.0,-999.000
    31WTMARAII,   P16,    26,  1,     15,     15,2,19840513,0916, 30.0767,-152.0133, 5294,   1449.4,   2.8100,  34.5371,2,  34.5360,2,   -999.0,5,  2.7086,     46.5,2,   144.48,2,    42.62,2,     0.00,2,     3.04,2, -999.000,9,   2.805,  1456.0,-999.000
    31WTMARAII,   P16,    26,  1,     16,     16,2,19840513,0916, 30.0767,-152.0133, 5294,   1733.5,   2.3326,  34.5845,2,  34.5830,2,   -999.0,5,  2.2137,     64.3,2,   156.11,2,    41.64,2,     0.00,2,     2.94,2, -999.000,9,-999.000,  -999.0,-999.000
    31WTMARAII,   P16,    26,  1,     17,     17,2,19840513,0916, 30.0767,-152.0133, 5294,   1994.4,   2.0323,  34.6122,2,  34.6110,2,   -999.0,5,  1.8959,     74.7,2,   166.27,2,    41.05,2,     0.00,2,     2.89,2, -999.000,9,-999.000,  -999.0,-999.000
    31WTMARAII,   P16,    26,  1,     18,     18,2,19840513,0916, 30.0767,-152.0133, 5294,   2530.1,   1.6719,  34.6503,2,  34.6490,2,   -999.0,5,  1.4951,    102.1,2,   170.56,2,    39.29,2,     0.00,2,     2.78,2, -999.000,9,-999.000,  -999.0,-999.000
    31WTMARAII,   P16,    26,  1,     19,     19,2,19840513,0916, 30.0767,-152.0133, 5294,   3002.6,   1.5218,  34.6672,2,  34.6670,2,   -999.0,5,  1.3043,    122.1,2,   166.55,2,    38.22,2,     0.00,2,     2.68,2, -999.000,9,   1.522,  3010.0,-999.000
    31WTMARAII,   P16,    26,  1,     20,     20,2,19840513,0916, 30.0767,-152.0133, 5294,   3497.8,   1.4567,  34.6785,2,  34.6810,2,   -999.0,5,  1.1919,    139.0,2,   161.86,2,    37.04,2,     0.00,2,     2.58,2, -999.000,9,-999.000,  -999.0,-999.000
    31WTMARAII,   P16,    26,  1,     21,     21,2,19840513,0916, 30.0767,-152.0133, 5294,   4125.6,   1.4593,  34.6866,2,  34.6890,2,   -999.0,5,  1.1278,    149.9,2,   156.19,2,    36.36,2,     0.00,2,     2.51,2, -999.000,9,-999.000,  -999.0,-999.000
    31WTMARAII,   P16,    26,  1,     22,     22,2,19840513,0916, 30.0767,-152.0133, 5294,   4614.2,   1.4916,  34.6901,2,  34.6910,2,   -999.0,5,  1.1036,   -999.0,9,  -999.00,9,    35.97,2,     0.02,2,  -999.00,9, -999.000,9,-999.000,  -999.0,-999.000
    31WTMARAII,   P16,    26,  1,     23,     23,2,19840513,0916, 30.0767,-152.0133, 5294,   5127.8,   1.5349,  34.6921,2,  34.6920,2,   -999.0,5,  1.0838,    158.2,2,   148.27,2,    35.77,2,     0.00,2,     2.42,2, -999.000,9,   1.534,  5131.0,-999.000
    31WTMARAII,   P16,    26,  1,     24,     24,2,19840513,0916, 30.0767,-152.0133, 5294,   5437.1,   1.5567,  34.6930,2,  34.6930,2,   -999.0,5,  1.0660,    162.5,2,   146.71,2,    35.48,2,     0.00,2,     2.46,2, -999.000,9,-999.000,  -999.0,-999.000
    31WTMARAII,   P16,    27,  1,      7,      7,2,19840513,1516, 30.4400,-152.0050, 5289,      2.2,  21.6617,  35.2915,2,  35.2880,2,   -999.0,5, 21.6613,    224.1,2,     2.54,2,     0.00,2,     0.00,2,     0.04,2, -999.000,9,  21.662,  -999.0,-999.000
    31WTMARAII,   P16,    27,  1,      8,      8,2,19840513,1516, 30.4400,-152.0050, 5289,     52.1,  20.3029,  35.1481,2,  35.1450,2,   -999.0,5, 20.2932,    232.7,2,     2.74,2,     0.00,2,     0.00,2,     0.06,2, -999.000,9,-999.000,  -999.0,-999.000
    31WTMARAII,   P16,    27,  1,      9,      9,2,19840513,1516, 30.4400,-152.0050, 5289,     99.8,  17.2748,  34.8582,2,  34.8560,2,   -999.0,5, 17.2582,    223.9,2,     3.71,2,     1.09,2,     0.20,2,     0.18,2, -999.000,9,-999.000,  -999.0,-999.000
    31WTMARAII,   P16,    27,  1,     10,     10,2,19840513,1516, 30.4400,-152.0050, 5289,    131.2,  15.7927,  34.6758,2,  34.6820,2,   -999.0,5, 15.7722,    223.0,2,     4.98,2,     3.07,2,     0.02,2,     0.30,2, -999.000,9,-999.000,  -999.0,-999.000
    31WTMARAII,   P16,    27,  1,     11,     11,2,19840513,1516, 30.4400,-152.0050, 5289,    163.5,  14.1174,  34.4592,2,  34.4570,2,   -999.0,5, 14.0937,    223.3,2,     7.14,2,     5.45,2,     0.01,2,     0.48,2, -999.000,9,-999.000,  -999.0,-999.000
    31WTMARAII,   P16,    27,  1,     12,     12,2,19840513,1516, 30.4400,-152.0050, 5289,    198.1,  13.0477,  34.3410,2,  34.3420,2,   -999.0,5, 13.0206,    218.5,2,     8.99,2,     7.89,2,     0.01,2,     0.63,2, -999.000,9,  13.068,   198.0,-999.000
    31WTMARAII,   P16,    27,  1,     13,     13,2,19840513,1516, 30.4400,-152.0050, 5289,    242.0,  12.0734,  34.2934,2,  34.2950,2,   -999.0,5, 12.0418,    235.9,2,    10.75,2,     8.88,2,     0.00,2,     0.66,2, -999.000,9,-999.000,  -999.0,-999.000
    31WTMARAII,   P16,    27,  1,     14,     14,2,19840513,1516, 30.4400,-152.0050, 5289,    295.2,  11.2587,  34.2421,2,  34.2410,2,   -999.0,5, 11.2219,    231.1,2,    13.10,2,    11.15,2,     0.00,2,     0.80,2, -999.000,9,-999.000,  -999.0,-999.000
    31WTMARAII,   P16,    27,  1,     15,     15,2,19840513,1516, 30.4400,-152.0050, 5289,    398.6,   9.4532,  34.1383,2,  34.1390,2,   -999.0,5,  9.4086,    211.9,2,    22.88,2,    16.82,2,     0.00,2,     1.17,2, -999.000,9,-999.000,  -999.0,-999.000
    31WTMARAII,   P16,    27,  1,     16,     16,2,19840513,1516, 30.4400,-152.0050, 5289,    493.4,   7.9205,  34.0490,2,  34.0520,2,   -999.0,5,  7.8706,    182.7,2,    35.20,2,    22.59,2,     0.00,2,     1.56,2, -999.000,9,-999.000,  -999.0,-999.000
    31WTMARAII,   P16,    27,  1,     17,     17,2,19840513,1516, 30.4400,-152.0050, 5289,    587.7,   5.9730,  33.9948,2,  33.9980,2,   -999.0,5,  5.9219,    119.2,2,    59.46,2,    32.08,2,     0.00,2,     2.24,2, -999.000,9,-999.000,  -999.0,-999.000
    31WTMARAII,   P16,    27,  1,     18,     18,2,19840513,1516, 30.4400,-152.0050, 5289,    676.6,   4.8969,  34.0360,2,  34.0400,2,   -999.0,5,  4.8431,     69.6,2,    81.36,2,    38.33,2,     0.00,2,     2.68,2, -999.000,9,-999.000,  -999.0,-999.000
    31WTMARAII,   P16,    27,  1,     19,     19,2,19840513,1516, 30.4400,-152.0050, 5289,    775.0,   4.4508,  34.1399,2,  34.1420,2,   -999.0,5,  4.3912,     36.1,2,    97.10,2,    41.65,2,     0.00,2,     2.93,2, -999.000,9,   4.463,   773.0,-999.000
    31WTMARAII,   P16,    27,  1,     20,     20,2,19840513,1516, 30.4400,-152.0050, 5289,    863.7,   4.1627,  34.2471,2,  34.2460,2,   -999.0,5,  4.0975,     20.4,2,   109.70,2,    43.12,2,     0.00,2,     3.06,2, -999.000,9,-999.000,  -999.0,-999.000
    31WTMARAII,   P16,    27,  1,     21,     21,2,19840513,1516, 30.4400,-152.0050, 5289,    973.4,   3.8029,  34.3488,2,  34.3490,2,   -999.0,5,  3.7311,     12.6,2,   121.03,2,    43.80,2,     0.00,2,     3.11,2, -999.000,9,-999.000,  -999.0,-999.000
    31WTMARAII,   P16,    27,  1,     22,     22,2,19840513,1516, 30.4400,-152.0050, 5289,   1201.6,   3.2008,  34.4777,2,  34.4750,2,   -999.0,5,  3.1155,     25.6,2,   134.71,2,    43.70,2,     0.01,2,  -999.00,9, -999.000,9,-999.000,  -999.0,-999.000
    31WTMARAII,   P16,    27,  1,     23,     23,2,19840513,1516, 30.4400,-152.0050, 5289,   1482.7,   2.6528,  34.5544,2,  34.5510,2,   -999.0,5,  2.5504,     51.3,2,   146.43,2,    42.42,2,     0.00,2,     2.94,2, -999.000,9,-999.000,  -999.0,-999.000
    31WTMARAII,   P16,    28,  1,      1,      1,2,19840513,2123, 30.7917,-152.0000, 5409,      1.0,  20.8590,-999.0000,9,  35.1150,2,   -999.0,5,-999.0000,   -999.0,9,     2.83,2,     0.00,2,     0.00,2,     0.02,2, -999.000,9,  20.854,     1.0,-999.000
    31WTMARAII,   P16,    28,  1,      2,      2,2,19840513,2123, 30.7917,-152.0000, 5409,     53.6,  18.5715,  34.9316,2,  34.9290,2,   -999.0,5, 18.5621,    241.8,2,     3.13,2,     0.00,2,     0.00,2,     0.05,2, -999.000,9,-999.000,  -999.0,-999.000
    31WTMARAII,   P16,    28,  1,      3,      3,2,19840513,2123, 30.7917,-152.0000, 5409,    103.5,  16.1451,  34.6776,2,  34.6770,2,   -999.0,5, 16.1287,    243.4,2,     3.81,2,     0.16,2,     0.05,2,     0.13,2, -999.000,9,-999.000,  -999.0,-999.000
    31WTMARAII,   P16,    28,  1,      4,      4,2,19840513,2123, 30.7917,-152.0000, 5409,    154.0,  13.3660,  34.3725,2,  34.3710,2,   -999.0,5, 13.3446,    222.5,2,     7.92,2,     6.80,2,     0.01,2,     0.55,2, -999.000,9,-999.000,  -999.0,-999.000
    31WTMARAII,   P16,    28,  1,      5,      5,2,19840513,2123, 30.7917,-152.0000, 5409,    204.4,  12.2695,  34.2975,2,  34.2950,2,   -999.0,5, 12.2426,    234.6,2,     9.58,2,     8.42,2,     0.01,2,     0.64,2, -999.000,9,-999.000,  -999.0,-999.000
    31WTMARAII,   P16,    28,  1,      6,      6,2,19840513,2123, 30.7917,-152.0000, 5409,    305.2,  10.6722,  34.2077,2,  34.2080,2,   -999.0,5, 10.6355,    224.6,2,    15.84,2,    13.00,2,     0.01,2,     0.93,2, -999.000,9,-999.000,  -999.0,-999.000
    31WTMARAII,   P16,    28,  1,      7,      7,2,19840513,2123, 30.7917,-152.0000, 5409,    405.7,   8.6645,  34.0921,2,  34.0930,2,   -999.0,5,  8.6215,    200.1,2,    27.58,2,    19.56,2,     0.00,2,     1.36,2, -999.000,9,-999.000,  -999.0,-999.000
    31WTMARAII,   P16,    28,  1,      8,      8,2,19840513,2123, 30.7917,-152.0000, 5409,    505.8,   6.9240,  34.0085,2,  34.0120,2,   -999.0,5,  6.8766,    155.7,2,    45.08,2,    27.09,2,     0.00,2,     1.88,2, -999.000,9,-999.000,  -999.0,-999.000
    31WTMARAII,   P16,    28,  1,      9,      9,2,19840513,2123, 30.7917,-152.0000, 5409,    605.1,   5.4787,  33.9981,2,  34.0010,2,   -999.0,5,  5.4282,    100.5,2,    67.67,2,    34.62,2,     0.00,2,     2.43,2, -999.000,9,-999.000,  -999.0,-999.000
    31WTMARAII,   P16,    28,  1,     10,     10,2,19840513,2123, 30.7917,-152.0000, 5409,    704.3,   4.7327,  34.0992,2,  34.1000,2,   -999.0,5,  4.6775,     46.1,2,    87.81,2,    40.29,2,     0.01,2,     2.87,2, -999.000,9,-999.000,  -999.0,-999.000
    31WTMARAII,   P16,    28,  1,     11,     11,2,19840513,2123, 30.7917,-152.0000, 5409,    806.7,   4.1355,  34.1919,2,  34.1920,2,   -999.0,5,  4.0752,     24.3,2,   105.40,2,    42.83,2,     0.00,2,     3.03,2, -999.000,9,-999.000,  -999.0,-999.000
    31WTMARAII,   P16,    28,  1,     12,     12,2,19840513,2123, 30.7917,-152.0000, 5409,    907.9,   3.8610,  34.2870,2,  34.2880,2,   -999.0,5,  3.7942,     13.0,2,   115.27,2,    43.80,2,     0.00,2,     3.10,2, -999.000,9,   3.865,   913.0,-999.000
    31WTMARAII,   P16,    28,  1,     13,     13,2,19840513,2123, 30.7917,-152.0000, 5409,   1008.8,   3.6636,  34.3497,2,  34.3490,2,   -999.0,5,  3.5901,     10.9,2,   122.11,2,    44.19,2,     0.00,2,     3.16,2, -999.000,9,-999.000,  -999.0,-999.000
    31WTMARAII,   P16,    28,  1,     14,     14,2,19840513,2123, 30.7917,-152.0000, 5409,   1259.4,   3.1362,  34.4761,2,  34.4770,2,   -999.0,5,  3.0468,     21.7,2,   135.88,2,    44.09,2,     0.00,2,     3.13,2, -999.000,9,-999.000,  -999.0,-999.000
    31WTMARAII,   P16,    28,  1,     15,     15,2,19840513,2123, 30.7917,-152.0000, 5409,   1511.4,   2.7003,  34.5387,2,  34.5410,2,   -999.0,5,  2.5951,     39.1,2,   148.29,2,    43.21,2,     0.00,2,     3.06,2, -999.000,9,   2.694,  1521.0,-999.000
    31WTMARAII,   P16,    28,  1,     16,     16,2,19840513,2123, 30.7917,-152.0000, 5409,   1760.4,   2.2676,  34.5842,2,  34.5830,2,   -999.0,5,  2.1473,     56.1,2,   160.70,2,    42.23,2,     0.00,2,     2.97,2, -999.000,9,-999.000,  -999.0,-999.000
    31WTMARAII,   P16,    28,  1,     17,     17,2,19840513,2123, 30.7917,-152.0000, 5409,   2006.2,   2.0102,  34.6120,2,  34.6100,2,   -999.0,5,  1.8731,     69.1,2,   166.85,2,    41.44,2,     0.00,2,     2.90,2, -999.000,9,-999.000,  -999.0,-999.000
    31WTMARAII,   P16,    28,  1,     18,     18,2,19840513,2123, 30.7917,-152.0000, 5409,   2506.0,   1.6880,  34.6474,2,  34.6470,2,   -999.0,5,  1.5130,     96.5,2,   170.76,2,    39.78,2,     0.00,2,     2.78,2, -999.000,9,-999.000,  -999.0,-999.000
    31WTMARAII,   P16,    28,  1,     19,     19,2,19840513,2123, 30.7917,-152.0000, 5409,   3017.3,   1.5229,  34.6708,2,  34.6670,2,   -999.0,5,  1.3040,    120.4,2,   167.34,2,    38.41,2,     0.00,2,     2.66,2, -999.000,9,   1.528,  3024.0,-999.000
    31WTMARAII,   P16,    28,  1,     20,     20,2,19840513,2123, 30.7917,-152.0000, 5409,   3519.5,   1.4632,  34.6825,2,  34.6790,2,   -999.0,5,  1.1960,    137.3,2,   160.49,2,    37.24,2,     0.00,2,     2.57,2, -999.000,9,-999.000,  -999.0,-999.000
    31WTMARAII,   P16,    28,  1,     21,     21,2,19840513,2123, 30.7917,-152.0000, 5409,   4031.8,   1.4617,  34.6871,2,  34.6880,2,   -999.0,5,  1.1404,    147.3,2,   156.29,2,    36.65,2,     0.00,2,     2.51,2, -999.000,9,-999.000,  -999.0,-999.000
    31WTMARAII,   P16,    28,  1,     22,     22,2,19840513,2123, 30.7917,-152.0000, 5409,   4537.8,   1.4890,  34.6924,2,  34.6880,2,   -999.0,5,  1.1100,   -999.0,9,   152.67,2,    36.26,2,     0.01,2,  -999.00,9, -999.000,9,-999.000,  -999.0,-999.000
    31WTMARAII,   P16,    28,  1,     23,     23,2,19840513,2123, 30.7917,-152.0000, 5409,   5043.8,   1.5362,  34.6906,2,  34.6910,2,   -999.0,5,  1.0954,    156.4,2,   149.74,2,    35.87,2,     0.00,2,     2.42,2, -999.000,9,   1.534,  5048.0,-999.000
    31WTMARAII,   P16,    28,  1,     24,     24,2,19840513,2123, 30.7917,-152.0000, 5409,   5545.1,   1.5898,  34.6914,2,  34.6910,2,   -999.0,5,  1.0842,   -999.0,9,   147.98,2,    35.77,2,     0.00,2,     2.46,2, -999.000,9,-999.000,  -999.0,-999.000