BOTTLE,20220816CCHSIOAMB
EXPOCODE,SECT_ID,STNNBR,CASTNO,SAMPNO,BTLNBR,BTLNBR_FLAG_W,DATE,TIME,LATITUDE,LONGITUDE,DEPTH,CTDPRS,CTDTMP,CTDSAL,CTDSAL_FLAG_W,SALNTY,SALNTY_FLAG_W,CTDOXY,CTDOXY_FLAG_W,THETA,OXYGEN,OXYGEN_FLAG_W,SILCAT,SILCAT_FLAG_W,NITRAT,NITRAT_FLAG_W,NITRIT,NITRIT_FLAG_W,PHSPHT,PHSPHT_FLAG_W,TRITUM,TRITUM_FLAG_W,REVTMP,REVPRS,TRITER
,,,,,,,,,,,,DBAR,ITS-90,PSS-78,,PSS-78,,UMOL/KG,,DEG C,UMOL/KG,,UMOL/KG,,UMOL/KG,,UMOL/KG,,UMOL/KG,,TU,,,DBAR,TU
    31WTMARAII,   P16,    20,  1,      6,      6,2,19840510,1016, 28.3550,-152.0067, 5454,      1.5,  23.1926,  35.3119,2,  35.3090,2,   -999.0,5, 23.1923,    218.9,2,     1.56,2,     0.01,2,     0.00,2,     0.05,2, -999.000,9,  23.196,  -999.0,-999.000
    31WTMARAII,   P16,    20,  1,      8,      8,2,19840510,1016, 28.3550,-152.0067, 5454,     52.9,  20.1988,  35.1761,2,  35.1690,2,   -999.0,5, 20.1890,    227.9,2,     1.95,2,     0.02,2,     0.00,2,     0.06,2, -999.000,9,-999.000,  -999.0,-999.000
    31WTMARAII,   P16,    20,  1,      9,      9,2,19840510,1016, 28.3550,-152.0067, 5454,    103.6,  18.5870,  35.0222,2,  35.0060,2,   -999.0,5, 18.5688,    225.2,2,     2.64,2,     0.11,2,     0.02,2,  -999.00,9, -999.000,9,-999.000,  -999.0,-999.000
    31WTMARAII,   P16,    20,  1,     10,     10,2,19840510,1016, 28.3550,-152.0067, 5454,    136.9,  16.2955,  34.7331,2,  34.7100,2,   -999.0,5, 16.2736,    213.8,2,     4.01,2,     3.38,2,     0.02,2,     0.34,2, -999.000,9,-999.000,  -999.0,-999.000
    31WTMARAII,   P16,    20,  1,     11,     11,2,19840510,1016, 28.3550,-152.0067, 5454,    169.9,  14.9005,  34.5493,2,  34.5420,2,   -999.0,5, 14.8750,    214.7,2,     5.38,2,     4.95,2,     0.01,2,     0.45,2, -999.000,9,-999.000,  -999.0,-999.000
    31WTMARAII,   P16,    20,  1,     12,     12,2,19840510,1016, 28.3550,-152.0067, 5454,    204.3,  13.6783,  34.4067,2,  34.4120,2,   -999.0,5, 13.6494,    220.7,2,     6.55,2,     6.36,2,     0.01,2,     0.54,2, -999.000,9,  13.708,   202.0,-999.000
    31WTMARAII,   P16,    20,  1,     13,     13,2,19840510,1016, 28.3550,-152.0067, 5454,    254.6,  12.1440,  34.2578,2,  34.2570,2,   -999.0,5, 12.1107,    217.6,2,     9.58,2,     9.54,2,     0.00,2,     0.72,2, -999.000,9,-999.000,  -999.0,-999.000
    31WTMARAII,   P16,    20,  1,     14,     14,2,19840510,1016, 28.3550,-152.0067, 5454,    305.5,  10.9903,  34.1909,2,  34.1870,2,   -999.0,5, 10.9528,    218.9,2,    14.18,2,    12.71,2,     0.00,2,     0.92,2, -999.000,9,-999.000,  -999.0,-999.000
    31WTMARAII,   P16,    20,  1,     15,     15,2,19840510,1016, 28.3550,-152.0067, 5454,    406.1,   8.9959,  34.0968,2,  34.1000,2,   -999.0,5,  8.9518,    201.9,2,    24.84,2,    18.68,2,     0.00,2,  -999.00,9, -999.000,9,   9.017,   405.0,-999.000
    31WTMARAII,   P16,    20,  1,     16,     16,2,19840510,1016, 28.3550,-152.0067, 5454,    507.2,   7.0425,  34.0157,2,  34.0170,2,   -999.0,5,  6.9945,    147.5,2,    45.08,2,    27.48,2,     0.00,2,  -999.00,9, -999.000,9,-999.000,  -999.0,-999.000
    31WTMARAII,   P16,    20,  1,     17,     17,2,19840510,1016, 28.3550,-152.0067, 5454,    607.8,   5.5670,  34.0191,2,  34.0210,2,   -999.0,5,  5.5160,     87.0,2,    68.35,2,    35.50,2,     0.01,2,  -999.00,9, -999.000,9,-999.000,  -999.0,-999.000
    31WTMARAII,   P16,    20,  1,     18,     18,2,19840510,1016, 28.3550,-152.0067, 5454,    709.0,   4.6406,  34.1213,2,  34.1190,2,   -999.0,5,  4.5854,     42.2,2,    90.25,2,    40.78,2,     0.00,2,  -999.00,9, -999.000,9,-999.000,  -999.0,-999.000
    31WTMARAII,   P16,    20,  1,     19,     19,2,19840510,1016, 28.3550,-152.0067, 5454,    809.7,   4.2838,  34.2404,2,  34.2390,2,   -999.0,5,  4.2222,     20.4,2,   105.01,2,    42.82,2,     0.00,2,  -999.00,9, -999.000,9,   4.290,   807.0,-999.000
    31WTMARAII,   P16,    20,  1,     20,     20,2,19840510,1016, 28.3550,-152.0067, 5454,    911.0,   3.9521,  34.3392,2,  34.3400,2,   -999.0,5,  3.8844,     18.7,2,   114.68,2,    43.60,2,     0.00,2,     3.10,2, -999.000,9,-999.000,  -999.0,-999.000
    31WTMARAII,   P16,    20,  1,     21,     21,2,19840510,1016, 28.3550,-152.0067, 5454,   1011.9,   3.6848,  34.4166,2,  34.4200,2,   -999.0,5,  3.6108,     28.7,2,   122.10,2,    43.21,2,     0.00,2,     3.04,2, -999.000,9,-999.000,  -999.0,-999.000
    31WTMARAII,   P16,    20,  1,     22,     22,2,19840510,1016, 28.3550,-152.0067, 5454,   1265.0,   3.1312,  34.5099,2,  34.5110,2,   -999.0,5,  3.0414,     43.5,2,   134.41,2,    42.52,2,     0.01,2,  -999.00,9, -999.000,9,-999.000,  -999.0,-999.000
    31WTMARAII,   P16,    20,  1,     23,     23,2,19840510,1016, 28.3550,-152.0067, 5454,   1515.1,   2.6583,  34.5593,2,  34.5590,2,   -999.0,5,  2.5532,     59.5,2,   144.28,2,    42.03,2,     0.00,2,     2.89,2, -999.000,9,   2.652,  1516.0,-999.000
    31WTMARAII,   P16,    21,  1,      1,      1,2,19840511,0224, 28.0317,-152.1000, 5514,      3.7,  23.5392,  35.3332,2,  35.3530,2,   -999.0,5, 23.5384,    220.7,2,     0.59,2,     0.00,2,     0.00,2,     0.04,2, -999.000,9,  23.542,     1.0,-999.000
    31WTMARAII,   P16,    21,  1,      2,      2,2,19840511,0224, 28.0317,-152.1000, 5514,     56.8,  18.7923,  34.9006,2,  34.9060,2,   -999.0,5, 18.7823,    241.4,2,     1.47,2,     0.00,2,     0.00,2,     0.09,2, -999.000,9,-999.000,  -999.0,-999.000
    31WTMARAII,   P16,    21,  1,      3,      3,2,19840511,0224, 28.0317,-152.1000, 5514,    107.2,  17.0450,  34.8348,2,  34.8380,2,   -999.0,5, 17.0274,    214.3,2,     2.74,2,     2.81,2,     0.03,2,     0.29,2, -999.000,9,-999.000,  -999.0,-999.000
    31WTMARAII,   P16,    21,  1,      4,      4,2,19840511,0224, 28.0317,-152.1000, 5514,    157.3,  15.0980,  34.5849,2,  34.5880,2,   -999.0,5, 15.0742,    219.0,2,     3.62,2,     4.27,2,     0.02,2,     0.39,2, -999.000,9,-999.000,  -999.0,-999.000
    31WTMARAII,   P16,    21,  1,      6,      6,2,19840511,0224, 28.0317,-152.1000, 5514,    308.5,  11.2014,  34.2410,2,  34.2440,2,   -999.0,5, 11.1630,    230.2,2,    11.54,2,    11.24,2,     0.01,2,     0.83,2, -999.000,9,-999.000,  -999.0,-999.000
    31WTMARAII,   P16,    21,  1,      7,      7,2,19840511,0224, 28.0317,-152.1000, 5514,    409.1,   9.0793,  34.1102,2,  34.1130,2,   -999.0,5,  9.0346,    212.3,2,    23.37,2,    18.29,2,     0.01,2,     1.28,2, -999.000,9,-999.000,  -999.0,-999.000
    31WTMARAII,   P16,    21,  1,      8,      8,2,19840511,0224, 28.0317,-152.1000, 5514,    509.7,   7.0434,  34.0103,2,  34.0160,2,   -999.0,5,  6.9952,    151.8,2,    43.32,2,    27.19,2,     0.01,2,     1.88,2, -999.000,9,-999.000,  -999.0,-999.000
    31WTMARAII,   P16,    21,  1,      9,      9,2,19840511,0224, 28.0317,-152.1000, 5514,    610.6,   5.5907,  34.0345,2,  34.0400,2,   -999.0,5,  5.5392,     81.8,2,    68.94,2,    35.89,2,     0.01,2,  -999.00,9, -999.000,9,-999.000,  -999.0,-999.000
    31WTMARAII,   P16,    21,  1,     10,     10,2,19840511,0224, 28.0317,-152.1000, 5514,    711.9,   4.6902,  34.1045,2,  34.1090,2,   -999.0,5,  4.6345,     47.8,2,    88.20,2,    40.48,2,     0.00,2,     2.85,2, -999.000,9,-999.000,  -999.0,-999.000
    31WTMARAII,   P16,    21,  1,     11,     11,2,19840511,0224, 28.0317,-152.1000, 5514,    813.8,   4.1863,  34.2302,2,  34.2320,2,   -999.0,5,  4.1251,     22.2,2,   106.87,2,    43.02,2,     0.00,2,     3.02,2, -999.000,9,-999.000,  -999.0,-999.000
    31WTMARAII,   P16,    21,  1,     12,     12,2,19840511,0224, 28.0317,-152.1000, 5514,    914.4,   3.8981,  34.3414,2,  34.3450,2,   -999.0,5,  3.8305,     20.9,2,   117.03,2,    43.51,2,     0.00,2,     3.04,2, -999.000,9,   3.871,   918.0,-999.000
    31WTMARAII,   P16,    21,  1,     13,     13,2,19840511,0224, 28.0317,-152.1000, 5514,   1015.5,   3.6713,  34.4167,2,  34.4190,2,   -999.0,5,  3.5971,     28.3,2,   121.91,2,    43.21,2,     0.00,2,     3.06,2, -999.000,9,-999.000,  -999.0,-999.000
    31WTMARAII,   P16,    21,  1,     14,     14,2,19840511,0224, 28.0317,-152.1000, 5514,   1268.3,   3.2165,  34.5133,2,  34.5130,2,   -999.0,5,  3.1256,     50.0,2,   131.09,2,    42.23,2,     0.00,2,     2.98,2, -999.000,9,-999.000,  -999.0,-999.000
    31WTMARAII,   P16,    21,  1,     15,     15,2,19840511,0224, 28.0317,-152.1000, 5514,   1521.0,   2.7274,  34.5543,2,  34.5550,2,   -999.0,5,  2.6210,     58.2,2,   142.52,2,    41.94,2,     0.00,2,  -999.00,9, -999.000,9,   2.724,  1526.0,-999.000
    31WTMARAII,   P16,    21,  1,     16,     16,2,19840511,0224, 28.0317,-152.1000, 5514,   1774.2,   2.3087,  34.5936,2,  34.5940,2,   -999.0,5,  2.1867,     72.6,2,   153.07,2,    41.25,2,     0.01,2,  -999.00,9, -999.000,9,-999.000,  -999.0,-999.000
    31WTMARAII,   P16,    21,  1,     17,     17,2,19840511,0224, 28.0317,-152.1000, 5514,   2027.8,   2.0649,  34.6130,2,  34.6130,2,   -999.0,5,  1.9252,     78.2,2,   160.40,2,    40.76,2,     0.02,2,  -999.00,9, -999.000,9,-999.000,  -999.0,-999.000
    31WTMARAII,   P16,    21,  1,     18,     18,2,19840511,0224, 28.0317,-152.1000, 5514,   2536.5,   1.6994,  34.6468,2,  34.6530,2,   -999.0,5,  1.5215,    103.0,2,   165.29,2,    39.39,2,     0.00,2,  -999.00,9, -999.000,9,-999.000,  -999.0,-999.000
    31WTMARAII,   P16,    21,  1,     19,     19,2,19840511,0224, 28.0317,-152.1000, 5514,   3045.4,   1.5525,  34.6654,2,  34.6650,2,   -999.0,5,  1.3303,    121.2,2,   168.51,2,    38.12,2,     0.01,2,  -999.00,9, -999.000,9,   1.551,  3042.0,-999.000
    31WTMARAII,   P16,    21,  1,     20,     20,2,19840511,0224, 28.0317,-152.1000, 5514,   3553.5,   1.4949,  34.6766,2,-999.0000,9,   -999.0,5,  1.2235,    137.7,2,   163.33,2,    37.24,2,     0.00,2,     2.52,2, -999.000,9,-999.000,  -999.0,-999.000
    31WTMARAII,   P16,    21,  1,     21,     21,2,19840511,0224, 28.0317,-152.1000, 5514,   4062.9,   1.4775,  34.6834,2,  34.6870,2,   -999.0,5,  1.1523,    147.3,2,   156.68,2,    36.56,2,     0.00,2,     2.47,2, -999.000,9,-999.000,  -999.0,-999.000
    31WTMARAII,   P16,    21,  1,     22,     22,2,19840511,0224, 28.0317,-152.1000, 5514,   4573.0,   1.4877,  34.6879,2,  34.6910,2,   -999.0,5,  1.1047,   -999.0,9,   151.01,2,    35.97,2,     0.02,2,  -999.00,9, -999.000,9,-999.000,  -999.0,-999.000
    31WTMARAII,   P16,    21,  1,     23,     23,2,19840511,0224, 28.0317,-152.1000, 5514,   5083.9,   1.5079,  34.6911,2,  34.6900,2,   -999.0,5,  1.0632,    161.6,2,   145.05,2,    35.58,2,     0.00,2,     2.37,2, -999.000,9,   1.506,  5082.0,-999.000
    31WTMARAII,   P16,    21,  1,     24,     24,2,19840511,0224, 28.0317,-152.1000, 5514,   5626.5,   1.5579,  34.6930,2,  34.6940,2,   -999.0,5,  1.0430,    160.8,2,   142.60,2,    35.28,2,     0.01,2,  -999.00,9, -999.000,9,-999.000,  -999.0,-999.000
    31WTMARAII,   P16,    22,  1,      1,      1,2,19840511,0943, 28.7083,-152.0050, 5570,      1.0,  22.6680,-999.0000,9,  35.3040,2,   -999.0,5,-999.0000,   -999.0,9,     1.07,2,     0.00,2,     0.00,2,     0.04,2, -999.000,9,  22.663,     1.0,-999.000
    31WTMARAII,   P16,    22,  1,      2,      2,2,19840511,0943, 28.7083,-152.0050, 5570,     56.4,  20.4243,  35.1864,2,  35.1790,2,   -999.0,5, 20.4137,    232.3,2,     1.76,2,     0.00,2,     0.00,2,     0.05,2, -999.000,9,-999.000,  -999.0,-999.000
    31WTMARAII,   P16,    22,  1,      3,      3,2,19840511,0943, 28.7083,-152.0050, 5570,    106.5,  18.0931,  34.9252,2,  34.9230,2,   -999.0,5, 18.0747,    235.7,2,     2.25,2,     0.00,2,     0.00,2,     0.10,2, -999.000,9,-999.000,  -999.0,-999.000
    31WTMARAII,   P16,    22,  1,      4,      4,2,19840511,0943, 28.7083,-152.0050, 5570,    156.6,  15.9192,  34.6807,2,  34.6780,2,   -999.0,5, 15.8946,    218.2,2,     4.20,2,     3.46,2,     0.07,2,     0.34,2, -999.000,9,-999.000,  -999.0,-999.000
    31WTMARAII,   P16,    22,  1,      5,      5,2,19840511,0943, 28.7083,-152.0050, 5570,    205.9,  13.6524,  34.4217,2,  34.4190,2,   -999.0,5, 13.6233,    224.6,2,     6.65,2,     6.40,2,     0.01,2,     0.52,2, -999.000,9,-999.000,  -999.0,-999.000
    31WTMARAII,   P16,    22,  1,      6,      6,2,19840511,0943, 28.7083,-152.0050, 5570,    305.4,  11.1930,  34.2170,2,  34.2140,2,   -999.0,5, 11.1551,    234.1,2,    11.93,2,    10.66,2,     0.00,2,     0.78,2, -999.000,9,-999.000,  -999.0,-999.000
    31WTMARAII,   P16,    22,  1,      7,      7,2,19840511,0943, 28.7083,-152.0050, 5570,    405.3,   9.4924,  34.1417,2,  34.1400,2,   -999.0,5,  9.4469,    213.2,2,    22.20,2,    16.72,2,     0.00,2,     1.16,2, -999.000,9,-999.000,  -999.0,-999.000
    31WTMARAII,   P16,    22,  1,      8,      8,2,19840511,0943, 28.7083,-152.0050, 5570,    507.0,   7.2790,  34.0213,2,  34.0210,2,   -999.0,5,  7.2301,    164.0,2,    41.66,2,    25.72,2,     0.00,2,     1.78,2, -999.000,9,-999.000,  -999.0,-999.000
    31WTMARAII,   P16,    22,  1,      9,      9,2,19840511,0943, 28.7083,-152.0050, 5570,    609.2,   5.7351,  33.9957,2,  33.9930,2,   -999.0,5,  5.6832,    107.4,2,    64.54,2,    33.54,2,     0.00,2,     2.33,2, -999.000,9,-999.000,  -999.0,-999.000
    31WTMARAII,   P16,    22,  1,     10,     10,2,19840511,0943, 28.7083,-152.0050, 5570,    710.9,   4.6063,  34.0781,2,  34.0760,2,   -999.0,5,  4.5512,     52.2,2,    90.06,2,    40.19,2,     0.00,2,     2.81,2, -999.000,9,-999.000,  -999.0,-999.000
    31WTMARAII,   P16,    22,  1,     11,     11,2,19840511,0943, 28.7083,-152.0050, 5570,    812.4,   4.1894,  34.2083,2,  34.2070,2,   -999.0,5,  4.1283,     23.0,2,   106.77,2,    42.92,2,     0.00,2,     3.02,2, -999.000,9,-999.000,  -999.0,-999.000
    31WTMARAII,   P16,    22,  1,     12,     12,2,19840511,0943, 28.7083,-152.0050, 5570,    913.0,   4.0074,  34.3151,2,  34.3110,2,   -999.0,5,  3.9391,     14.8,2,   116.74,2,    43.60,2,     0.00,2,     3.08,2, -999.000,9,   4.000,   913.0,-999.000
    31WTMARAII,   P16,    22,  1,     13,     13,2,19840511,0943, 28.7083,-152.0050, 5570,   1012.9,   3.7590,  34.3902,2,  34.3870,2,   -999.0,5,  3.6844,     17.4,2,   123.28,2,    43.70,2,     0.00,2,     3.11,2, -999.000,9,-999.000,  -999.0,-999.000
    31WTMARAII,   P16,    22,  1,     14,     14,2,19840511,0943, 28.7083,-152.0050, 5570,   1265.0,   3.1568,  34.5016,2,  34.4990,2,   -999.0,5,  3.0668,     39.1,2,   135.98,2,    42.91,2,     0.00,2,     3.02,2, -999.000,9,-999.000,  -999.0,-999.000
    31WTMARAII,   P16,    22,  1,     15,     15,2,19840511,0943, 28.7083,-152.0050, 5570,   1516.9,   2.6771,  34.5582,2,  34.5560,2,   -999.0,5,  2.5717,     58.2,2,   145.94,2,    41.94,2,     0.00,2,     2.95,2, -999.000,9,   2.675,  1524.0,-999.000
    31WTMARAII,   P16,    22,  1,     16,     16,2,19840511,0943, 28.7083,-152.0050, 5570,   1767.0,   2.3278,  34.5888,2,  34.5880,2,   -999.0,5,  2.2062,     68.7,2,   154.83,2,    41.35,2,     0.00,2,     2.88,2, -999.000,9,-999.000,  -999.0,-999.000
    31WTMARAII,   P16,    22,  1,     17,     17,2,19840511,0943, 28.7083,-152.0050, 5570,   2017.3,   2.0359,  34.6141,2,  34.6140,2,   -999.0,5,  1.8975,     79.5,2,   162.46,2,    40.66,2,     0.00,2,     2.82,2, -999.000,9,-999.000,  -999.0,-999.000
    31WTMARAII,   P16,    22,  1,     18,     18,2,19840511,0943, 28.7083,-152.0050, 5570,   2522.6,   1.7065,  34.6470,2,  34.6450,2,   -999.0,5,  1.5297,    101.2,2,   170.17,2,    39.29,2,     0.00,2,     2.72,2, -999.000,9,-999.000,  -999.0,-999.000
    31WTMARAII,   P16,    22,  1,     19,     19,2,19840511,0943, 28.7083,-152.0050, 5570,   3031.7,   1.5501,  34.6664,2,  34.6650,2,   -999.0,5,  1.3292,    123.0,2,   168.02,2,    38.12,2,     0.00,2,     2.62,2, -999.000,9,-999.000,  -999.0,-999.000
    31WTMARAII,   P16,    22,  1,     20,     20,2,19840511,0943, 28.7083,-152.0050, 5570,   3540.6,   1.4931,  34.6777,2,  34.6770,2,   -999.0,5,  1.2230,    137.3,2,   162.64,2,    37.14,2,     0.00,2,     2.54,2, -999.000,9,-999.000,  -999.0,-999.000
    31WTMARAII,   P16,    22,  1,     21,     21,2,19840511,0943, 28.7083,-152.0050, 5570,   4046.3,   1.4834,  34.6841,2,  34.6830,2,   -999.0,5,  1.1599,    146.9,2,   157.56,2,    36.56,2,     0.00,2,     2.49,2, -999.000,9,-999.000,  -999.0,-999.000
    31WTMARAII,   P16,    22,  1,     22,     22,2,19840511,0943, 28.7083,-152.0050, 5570,   4564.5,   1.4869,  34.6892,2,  34.6870,2,   -999.0,5,  1.1048,    149.5,2,  -999.00,9,    35.87,2,     0.02,2,  -999.00,9, -999.000,9,-999.000,  -999.0,-999.000
    31WTMARAII,   P16,    22,  1,     23,     23,2,19840511,0943, 28.7083,-152.0050, 5570,   5082.7,   1.5042,  34.6928,2,  34.6890,2,   -999.0,5,  1.0597,    155.1,2,   151.30,2,    35.87,2,     0.00,2,     2.42,2, -999.000,9,-999.000,  -999.0,-999.000
    31WTMARAII,   P16,    22,  1,     24,     24,2,19840511,0943, 28.7083,-152.0050, 5570,   5686.3,   1.5691,  34.6944,2,  34.6910,2,   -999.0,5,  1.0459,    162.5,2,   145.93,2,    35.38,2,     0.01,2,     2.42,2, -999.000,9,-999.000,  -999.0,-999.000