BOTTLE,20220816CCHSIOAMB
EXPOCODE,SECT_ID,STNNBR,CASTNO,SAMPNO,BTLNBR,BTLNBR_FLAG_W,DATE,TIME,LATITUDE,LONGITUDE,DEPTH,CTDPRS,CTDTMP,CTDSAL,CTDSAL_FLAG_W,SALNTY,SALNTY_FLAG_W,CTDOXY,CTDOXY_FLAG_W,THETA,OXYGEN,OXYGEN_FLAG_W,SILCAT,SILCAT_FLAG_W,NITRAT,NITRAT_FLAG_W,NITRIT,NITRIT_FLAG_W,PHSPHT,PHSPHT_FLAG_W,TRITUM,TRITUM_FLAG_W,REVTMP,REVPRS,TRITER
,,,,,,,,,,,,DBAR,ITS-90,PSS-78,,PSS-78,,UMOL/KG,,DEG C,UMOL/KG,,UMOL/KG,,UMOL/KG,,UMOL/KG,,UMOL/KG,,TU,,,DBAR,TU
    31WTMARAII,   P16,    59,  1,      7,      7,2,19840523,1250, 41.6483,-151.9950, 5079,      2.9,   9.1127,  33.0631,2,  33.0630,2,   -999.0,5,  9.1124,    295.2,2,    11.25,2,     7.61,2,     0.11,2,     0.88,2, -999.000,9,   9.109,  -999.0,-999.000
    31WTMARAII,   P16,    59,  1,      8,      8,2,19840523,1250, 41.6483,-151.9950, 5079,     51.9,   9.1928,  33.1670,2,  33.1590,2,   -999.0,5,  9.1872,    293.0,2,     9.20,2,     7.34,2,     0.14,2,     0.86,2, -999.000,9,-999.000,  -999.0,-999.000
    31WTMARAII,   P16,    59,  1,      9,      9,2,19840523,1250, 41.6483,-151.9950, 5079,    101.4,   9.2294,  33.7123,2,  33.7110,2,   -999.0,5,  9.2184,    263.8,2,     9.39,2,    10.07,2,     0.02,2,     0.94,2, -999.000,9,-999.000,  -999.0,-999.000
    31WTMARAII,   P16,    59,  1,     10,     10,2,19840523,1250, 41.6483,-151.9950, 5079,    142.9,   9.1735,  34.0322,2,  34.0350,2,   -999.0,5,  9.1580,    251.9,2,    17.41,2,    12.81,2,     0.01,2,     1.04,2, -999.000,9,-999.000,  -999.0,-999.000
    31WTMARAII,   P16,    59,  1,     11,     11,2,19840523,1250, 41.6483,-151.9950, 5079,    164.2,   8.7866,  33.9819,2,  33.9830,2,   -999.0,5,  8.7693,    255.0,2,    17.99,2,    12.91,2,     0.01,2,     1.02,2, -999.000,9,-999.000,  -999.0,-999.000
    31WTMARAII,   P16,    59,  1,     12,     12,2,19840523,1250, 41.6483,-151.9950, 5079,    204.6,   8.6116,  34.0120,2,  34.0120,2,   -999.0,5,  8.5902,    240.6,2,    22.00,2,    14.96,2,     0.01,2,     1.11,2, -999.000,9,-999.000,  -999.0,-999.000
    31WTMARAII,   P16,    59,  1,     13,     13,2,19840523,1250, 41.6483,-151.9950, 5079,    246.5,   8.3455,  34.0455,2,  34.0460,2,   -999.0,5,  8.3202,    216.7,2,    28.16,2,    18.48,2,     0.00,2,     1.34,2, -999.000,9,-999.000,  -999.0,-999.000
    31WTMARAII,   P16,    59,  1,     14,     14,2,19840523,1250, 41.6483,-151.9950, 5079,    299.4,   7.5009,  34.0007,2,  34.0020,2,   -999.0,5,  7.4720,    199.7,2,    35.40,2,    21.81,2,     0.00,2,     1.56,2, -999.000,9,-999.000,  -999.0,-999.000
    31WTMARAII,   P16,    59,  1,     15,     15,2,19840523,1250, 41.6483,-151.9950, 5079,    398.0,   5.9263,  33.9580,2,  33.9590,2,   -999.0,5,  5.8924,    148.8,2,    56.04,2,    29.34,2,     0.00,2,     2.09,2, -999.000,9,   5.918,   401.0,-999.000
    31WTMARAII,   P16,    59,  1,     16,     16,2,19840523,1250, 41.6483,-151.9950, 5079,    495.9,   4.8918,  33.9940,2,  33.9940,2,   -999.0,5,  4.8532,    100.0,2,    75.59,2,    35.40,2,     0.00,2,     2.52,2, -999.000,9,-999.000,  -999.0,-999.000
    31WTMARAII,   P16,    59,  1,     17,     17,2,19840523,1250, 41.6483,-151.9950, 5079,    594.2,   4.4429,  34.0585,2,  34.0580,2,   -999.0,5,  4.3981,     70.9,2,    91.63,2,    38.53,2,     0.00,2,     2.73,2, -999.000,9,-999.000,  -999.0,-999.000
    31WTMARAII,   P16,    59,  1,     18,     18,2,19840523,1250, 41.6483,-151.9950, 5079,    692.7,   3.9790,  34.1464,2,  34.1470,2,   -999.0,5,  3.9287,     42.6,2,   107.56,2,    41.17,2,     0.00,2,     2.92,2, -999.000,9,-999.000,  -999.0,-999.000
    31WTMARAII,   P16,    59,  1,     19,     19,2,19840523,1250, 41.6483,-151.9950, 5079,    794.7,   3.6503,  34.2199,2,  34.2190,2,   -999.0,5,  3.5939,     27.8,2,   119.58,2,    42.63,2,     0.00,2,     3.01,2, -999.000,9,   3.658,   795.0,-999.000
    31WTMARAII,   P16,    59,  1,     20,     20,2,19840523,1250, 41.6483,-151.9950, 5079,    885.9,   3.4042,  34.2734,2,  34.2730,2,   -999.0,5,  3.3424,     18.7,2,   129.16,2,    43.61,2,     0.00,2,     3.08,2, -999.000,9,-999.000,  -999.0,-999.000
    31WTMARAII,   P16,    59,  1,     21,     21,2,19840523,1250, 41.6483,-151.9950, 5079,    993.3,   3.1610,  34.3269,2,  34.3260,2,   -999.0,5,  3.0927,     14.8,2,   138.24,2,    44.19,2,     0.00,2,     3.11,2, -999.000,9,-999.000,  -999.0,-999.000
    31WTMARAII,   P16,    59,  1,     22,     22,2,19840523,1250, 41.6483,-151.9950, 5079,   1227.4,   2.7696,  34.4146,2,  34.4150,2,   -999.0,5,  2.6865,     11.3,2,   151.63,2,    44.68,2,     0.00,2,  -999.00,9, -999.000,9,-999.000,  -999.0,-999.000
    31WTMARAII,   P16,    59,  1,     23,     23,2,19840523,1250, 41.6483,-151.9950, 5079,   1537.5,   2.3590,  34.5040,2,  34.5030,2,   -999.0,5,  2.2558,     20.0,2,   167.06,2,    44.48,2,     0.00,2,  -999.00,9, -999.000,9,   2.358,  1536.0,-999.000
    31WTMARAII,   P16,    60,  1,      7,      7,2,19840524,0941, 42.4600,-151.9917, 5099,      2.3,   8.7424,  33.0603,2,  33.0600,2,   -999.0,5,  8.7422,    297.0,2,    12.82,2,     8.35,2,     0.11,2,     0.93,2, -999.000,9,   8.732,  -999.0,-999.000
    31WTMARAII,   P16,    60,  1,      8,      8,2,19840524,0941, 42.4600,-151.9917, 5099,     49.2,   8.7461,  33.0815,2,  33.0800,2,   -999.0,5,  8.7410,    297.4,2,    12.23,2,     8.35,2,     0.11,2,     0.92,2, -999.000,9,-999.000,  -999.0,-999.000
    31WTMARAII,   P16,    60,  1,      9,      9,2,19840524,0941, 42.4600,-151.9917, 5099,    102.0,   8.6164,  33.2808,2,  33.2750,2,   -999.0,5,  8.6059,    286.9,2,     8.81,2,     8.52,2,     0.36,2,     0.90,2, -999.000,9,-999.000,  -999.0,-999.000
    31WTMARAII,   P16,    60,  1,     10,     10,2,19840524,0941, 42.4600,-151.9917, 5099,    133.3,   8.1615,  33.8376,2,  33.8390,2,   -999.0,5,  8.1481,    263.3,2,    18.19,2,    13.30,2,     0.02,2,     1.07,2, -999.000,9,-999.000,  -999.0,-999.000
    31WTMARAII,   P16,    60,  1,     11,     11,2,19840524,0941, 42.4600,-151.9917, 5099,    167.7,   8.2857,  33.9104,2,  33.9110,2,   -999.0,5,  8.2687,    261.5,2,    18.29,2,    13.20,2,     0.01,2,     1.04,2, -999.000,9,-999.000,  -999.0,-999.000
    31WTMARAII,   P16,    60,  1,     12,     12,2,19840524,0941, 42.4600,-151.9917, 5099,    198.4,   8.0912,  33.8888,2,  33.8890,2,   -999.0,5,  8.0713,    262.4,2,    18.97,2,    13.40,2,     0.01,2,     1.06,2, -999.000,9,-999.000,  -999.0,-999.000
    31WTMARAII,   P16,    60,  1,     13,     13,2,19840524,0941, 42.4600,-151.9917, 5099,    249.6,   7.8215,  34.0220,2,  34.0230,2,   -999.0,5,  7.7968,    208.8,2,    32.86,2,    20.63,2,     0.01,2,     1.50,2, -999.000,9,-999.000,  -999.0,-999.000
    31WTMARAII,   P16,    60,  1,     14,     14,2,19840524,0941, 42.4600,-151.9917, 5099,    294.9,   7.0290,  33.9714,2,  33.9730,2,   -999.0,5,  7.0015,    195.3,2,    39.22,2,    23.27,2,     0.01,2,  -999.00,9, -999.000,9,-999.000,  -999.0,-999.000
    31WTMARAII,   P16,    60,  1,     15,     15,2,19840524,0941, 42.4600,-151.9917, 5099,    396.0,   5.6084,  33.9539,2,  33.9550,2,   -999.0,5,  5.5756,    136.1,2,    61.22,2,    31.20,2,     0.01,2,     2.22,2, -999.000,9,   5.606,   397.0,-999.000
    31WTMARAII,   P16,    60,  1,     16,     16,2,19840524,0941, 42.4600,-151.9917, 5099,    495.6,   4.7931,  33.9981,2,  33.9960,2,   -999.0,5,  4.7548,     96.5,2,    78.62,2,    35.79,2,     0.00,2,     2.56,2, -999.000,9,-999.000,  -999.0,-999.000
    31WTMARAII,   P16,    60,  1,     17,     17,2,19840524,0941, 42.4600,-151.9917, 5099,    599.4,   4.2294,  34.0823,2,  34.0810,2,   -999.0,5,  4.1853,     62.2,2,    98.37,2,    39.51,2,     0.00,2,     2.80,2, -999.000,9,-999.000,  -999.0,-999.000
    31WTMARAII,   P16,    60,  1,     18,     18,2,19840524,0941, 42.4600,-151.9917, 5099,    687.4,   3.9545,  34.1511,2,  34.1500,2,   -999.0,5,  3.9048,     44.3,2,   108.73,2,    41.17,2,     0.00,2,     2.90,2, -999.000,9,-999.000,  -999.0,-999.000
    31WTMARAII,   P16,    60,  1,     19,     19,2,19840524,0941, 42.4600,-151.9917, 5099,    813.3,   3.5394,  34.2430,2,  34.2410,2,   -999.0,5,  3.4823,     23.9,2,   123.88,2,    43.02,2,     0.00,2,     3.03,2, -999.000,9,   3.548,   812.0,-999.000
    31WTMARAII,   P16,    60,  1,     20,     20,2,19840524,0941, 42.4600,-151.9917, 5099,    906.9,   3.3388,  34.2875,2,  34.2880,2,   -999.0,5,  3.2758,     16.1,2,   131.89,2,    43.70,2,     0.00,2,     3.07,2, -999.000,9,-999.000,  -999.0,-999.000
    31WTMARAII,   P16,    60,  1,     21,     21,2,19840524,0941, 42.4600,-151.9917, 5099,   1007.9,   3.1252,  34.3348,2,  34.3360,2,   -999.0,5,  3.0560,     13.0,2,   140.98,2,    44.19,2,     0.00,2,     3.10,2, -999.000,9,-999.000,  -999.0,-999.000
    31WTMARAII,   P16,    60,  1,     22,     22,2,19840524,0941, 42.4600,-151.9917, 5099,   1233.5,   2.7198,  34.4259,2,  34.4270,2,   -999.0,5,  2.6367,     11.7,2,   155.44,2,    44.58,2,     0.00,2,  -999.00,9, -999.000,9,-999.000,  -999.0,-999.000
    31WTMARAII,   P16,    60,  1,     23,     23,2,19840524,0941, 42.4600,-151.9917, 5099,   1510.9,   2.3740,  34.5009,2,  34.5010,2,   -999.0,5,  2.2728,     19.1,2,   168.63,2,    44.28,2,     0.00,2,  -999.00,9, -999.000,9,   2.375,  1510.0,-999.000
    31WTMARAII,   P16,    61,  1,      1,      1,2,19840524,1621, 42.9200,-151.9800, 5141,      1.0,   8.3850,-999.0000,9,  32.9840,2,   -999.0,5,-999.0000,   -999.0,9,    13.80,2,     8.92,2,     0.10,2,     0.95,2, -999.000,9,   8.383,     1.0,-999.000
    31WTMARAII,   P16,    61,  1,      2,      2,2,19840524,1621, 42.9200,-151.9800, 5141,     31.6,   8.4049,  33.0067,2,  33.0090,2,   -999.0,5,  8.4017,    297.8,2,    13.60,2,     8.96,2,     0.10,2,     0.95,2, -999.000,9,-999.000,  -999.0,-999.000
    31WTMARAII,   P16,    61,  1,      3,      3,2,19840524,1621, 42.9200,-151.9800, 5141,     54.2,   8.2747,  33.0127,2,  33.0140,2,   -999.0,5,  8.2693,    298.3,2,    13.90,2,     9.06,2,     0.11,2,     0.96,2, -999.000,9,-999.000,  -999.0,-999.000
    31WTMARAII,   P16,    61,  1,      4,      4,2,19840524,1621, 42.9200,-151.9800, 5141,    107.6,   7.3924,  33.2241,2,  33.2850,2,   -999.0,5,  7.3824,    287.7,2,    14.87,2,    11.55,2,     0.07,2,     1.05,2, -999.000,9,-999.000,  -999.0,-999.000
    31WTMARAII,   P16,    61,  1,      5,      5,2,19840524,1621, 42.9200,-151.9800, 5141,    153.6,   8.0900,  33.8637,2,  33.8670,2,   -999.0,5,  8.0746,    263.2,2,    17.80,2,    13.30,2,     0.01,2,     1.03,2, -999.000,9,-999.000,  -999.0,-999.000
    31WTMARAII,   P16,    61,  1,      6,      6,2,19840524,1621, 42.9200,-151.9800, 5141,    189.7,   7.8640,  33.8507,2,  33.8530,2,   -999.0,5,  7.8453,    263.7,2,    18.78,2,    13.50,2,     0.01,2,     1.05,2, -999.000,9,-999.000,  -999.0,-999.000
    31WTMARAII,   P16,    61,  1,      7,      7,2,19840524,1621, 42.9200,-151.9800, 5141,    293.0,   6.7859,  33.9502,2,  33.9530,2,   -999.0,5,  6.7593,    194.4,2,    39.61,2,    23.67,2,     0.01,2,     1.70,2, -999.000,9,-999.000,  -999.0,-999.000
    31WTMARAII,   P16,    61,  1,      8,      8,2,19840524,1621, 42.9200,-151.9800, 5141,    401.3,   5.5887,  33.9562,2,  33.9590,2,   -999.0,5,  5.5556,    132.7,2,    62.00,2,    31.39,2,     0.01,2,     2.22,2, -999.000,9,-999.000,  -999.0,-999.000
    31WTMARAII,   P16,    61,  1,      9,      9,2,19840524,1621, 42.9200,-151.9800, 5141,    509.3,   4.7186,  34.0033,2,  34.0040,2,   -999.0,5,  4.6796,     91.8,2,    80.68,2,    36.48,2,     0.00,2,     2.56,2, -999.000,9,-999.000,  -999.0,-999.000
    31WTMARAII,   P16,    61,  1,     10,     10,2,19840524,1621, 42.9200,-151.9800, 5141,    606.1,   4.1983,  34.0814,2,  34.0810,2,   -999.0,5,  4.1537,     60.9,2,    97.30,2,    39.60,2,     0.00,2,     2.78,2, -999.000,9,-999.000,  -999.0,-999.000
    31WTMARAII,   P16,    61,  1,     11,     11,2,19840524,1621, 42.9200,-151.9800, 5141,    701.1,   3.8635,  34.1542,2,  34.1560,2,   -999.0,5,  3.8132,     43.9,2,   108.34,2,    41.26,2,     0.00,2,     2.88,2, -999.000,9,-999.000,  -999.0,-999.000
    31WTMARAII,   P16,    61,  1,     12,     12,2,19840524,1621, 42.9200,-151.9800, 5141,    789.9,   3.6499,  34.2151,2,  34.2160,2,   -999.0,5,  3.5939,     32.6,2,   118.99,2,    42.24,2,     0.00,2,     2.93,2, -999.000,9,-999.000,  -999.0,-999.000
    31WTMARAII,   P16,    61,  1,     13,     13,2,19840524,1621, 42.9200,-151.9800, 5141,    887.6,   3.4203,  34.2683,2,  34.2690,2,   -999.0,5,  3.3582,     23.5,2,   126.22,2,    43.12,2,     0.00,2,     3.01,2, -999.000,9,-999.000,  -999.0,-999.000
    31WTMARAII,   P16,    61,  1,     14,     14,2,19840524,1621, 42.9200,-151.9800, 5141,    974.4,   3.2059,  34.3149,2,  34.3170,2,   -999.0,5,  3.1387,     17.4,2,   136.29,2,    43.80,2,     0.00,2,     3.04,2, -999.000,9,-999.000,  -999.0,-999.000
    31WTMARAII,   P16,    61,  1,     15,     15,2,19840524,1621, 42.9200,-151.9800, 5141,   1225.7,   2.7612,  34.4152,2,  34.4170,2,   -999.0,5,  2.6782,     11.7,2,   152.90,2,    44.48,2,     0.00,2,     3.09,2, -999.000,9,   2.762,  1233.0,-999.000
    31WTMARAII,   P16,    61,  1,     16,     16,2,19840524,1621, 42.9200,-151.9800, 5141,   1476.0,   2.4465,  34.4834,2,  34.4860,2,   -999.0,5,  2.3472,     16.1,2,   164.33,2,    44.48,2,     0.00,2,     3.06,2, -999.000,9,-999.000,  -999.0,-999.000
    31WTMARAII,   P16,    61,  1,     17,     17,2,19840524,1621, 42.9200,-151.9800, 5141,   1725.8,   2.1872,  34.5372,2,  34.5390,2,   -999.0,5,  2.0710,     30.9,2,   171.85,2,    43.70,2,     0.00,2,     3.01,2, -999.000,9,-999.000,  -999.0,-999.000
    31WTMARAII,   P16,    61,  1,     18,     18,2,19840524,1621, 42.9200,-151.9800, 5141,   1977.5,   1.9873,  34.5774,2,  34.5790,2,   -999.0,5,  1.8531,     48.2,2,   177.12,2,    42.62,2,     0.00,2,     2.94,2, -999.000,9,-999.000,  -999.0,-999.000
    31WTMARAII,   P16,    61,  1,     19,     19,2,19840524,1621, 42.9200,-151.9800, 5141,   2514.7,   1.7104,  34.6328,2,  34.6340,2,   -999.0,5,  1.5342,     84.3,2,   179.85,2,    40.47,2,     0.00,2,     2.80,2, -999.000,9,   1.717,  2519.0,-999.000
    31WTMARAII,   P16,    61,  1,     20,     20,2,19840524,1621, 42.9200,-151.9800, 5141,   3025.0,   1.5518,  34.6589,2,  34.6600,2,   -999.0,5,  1.3316,    112.5,2,   172.91,2,    38.71,2,     0.00,2,     2.65,2, -999.000,9,-999.000,  -999.0,-999.000
    31WTMARAII,   P16,    61,  1,     21,     21,2,19840524,1621, 42.9200,-151.9800, 5141,   3538.4,   1.4845,  34.6737,2,  34.6750,2,   -999.0,5,  1.2149,    132.5,2,   168.80,2,    37.44,2,     0.00,2,     2.55,2, -999.000,9,-999.000,  -999.0,-999.000
    31WTMARAII,   P16,    61,  1,     22,     22,2,19840524,1621, 42.9200,-151.9800, 5141,   4049.6,   1.4800,  34.6818,2,  34.6820,2,   -999.0,5,  1.1563,    140.8,2,   168.70,2,    36.85,2,     0.00,2,  -999.00,9, -999.000,9,-999.000,  -999.0,-999.000
    31WTMARAII,   P16,    61,  1,     23,     23,2,19840524,1621, 42.9200,-151.9800, 5141,   4662.2,   1.5296,  34.6864,2,  34.6860,2,   -999.0,5,  1.1348,    145.1,2,   174.27,2,    36.75,2,     0.00,2,  -999.00,9, -999.000,9,   1.532,  4665.0,-999.000
    31WTMARAII,   P16,    61,  1,     24,     24,2,19840524,1621, 42.9200,-151.9800, 5141,   5233.4,   1.5955,  34.6878,2,  34.6880,2,   -999.0,5,  1.1292,    146.4,2,   174.96,2,    36.56,2,     0.00,2,     2.54,2, -999.000,9,-999.000,  -999.0,-999.000
    31WTMARAII,   P16,    62,  1,      7,      7,2,19840524,2338, 43.3833,-152.0067, 4764,      3.3,   7.8633,  32.9130,2,  32.9180,2,   -999.0,5,  7.8630,    303.0,2,    15.76,2,    10.08,2,     0.12,2,     1.06,2, -999.000,9,   7.861,  -999.0,-999.000
    31WTMARAII,   P16,    62,  1,      8,      8,2,19840524,2338, 43.3833,-152.0067, 4764,     50.3,   7.6611,  32.9286,2,  32.9300,2,   -999.0,5,  7.6563,    305.2,2,    15.95,2,    10.28,2,     0.12,2,     1.06,2, -999.000,9,-999.000,  -999.0,-999.000
    31WTMARAII,   P16,    62,  1,      9,      9,2,19840524,2338, 43.3833,-152.0067, 4764,    103.6,   6.3513,  32.9060,2,  32.9100,2,   -999.0,5,  6.3425,    304.7,2,    17.23,2,    11.74,2,     0.21,2,     1.17,2, -999.000,9,-999.000,  -999.0,-999.000
    31WTMARAII,   P16,    62,  1,     10,     10,2,19840524,2338, 43.3833,-152.0067, 4764,    133.5,   6.4138,  33.0527,2,  33.0590,2,   -999.0,5,  6.4023,    296.0,2,    18.20,2,    12.92,2,     0.18,2,     1.18,2, -999.000,9,-999.000,  -999.0,-999.000
    31WTMARAII,   P16,    62,  1,     11,     11,2,19840524,2338, 43.3833,-152.0067, 4764,    171.0,   6.8815,  33.7076,2,  33.7010,2,   -999.0,5,  6.8661,    259.8,2,    23.18,2,    16.24,2,     0.02,2,     1.26,2, -999.000,9,-999.000,  -999.0,-999.000
    31WTMARAII,   P16,    62,  1,     12,     12,2,19840524,2338, 43.3833,-152.0067, 4764,    201.4,   7.0213,  33.8958,2,  33.8960,2,   -999.0,5,  7.0028,    217.1,2,    32.57,2,    20.64,2,     0.02,2,     1.51,2, -999.000,9,-999.000,  -999.0,-999.000
    31WTMARAII,   P16,    62,  1,     13,     13,2,19840524,2338, 43.3833,-152.0067, 4764,    251.6,   6.5652,  33.9194,2,  33.9210,2,   -999.0,5,  6.5428,    200.5,2,    40.49,2,    23.67,2,     0.01,2,     1.71,2, -999.000,9,-999.000,  -999.0,-999.000
    31WTMARAII,   P16,    62,  1,     14,     14,2,19840524,2338, 43.3833,-152.0067, 4764,    301.8,   5.9066,  33.9100,2,  33.9120,2,   -999.0,5,  5.8811,    170.1,2,    50.66,2,    27.48,2,     0.01,2,     1.97,2, -999.000,9,-999.000,  -999.0,-999.000
    31WTMARAII,   P16,    62,  1,     15,     15,2,19840524,2338, 43.3833,-152.0067, 4764,    405.2,   5.0635,  33.9648,2,  33.9650,2,   -999.0,5,  5.0316,    113.1,2,    71.68,2,    34.03,2,     0.01,2,     2.42,2, -999.000,9,   5.056,   406.0,-999.000
    31WTMARAII,   P16,    62,  1,     16,     16,2,19840524,2338, 43.3833,-152.0067, 4764,    506.3,   4.6029,  34.0285,2,  34.0280,2,   -999.0,5,  4.5645,     84.4,2,    86.15,2,    37.06,2,     0.01,2,     2.63,2, -999.000,9,-999.000,  -999.0,-999.000
    31WTMARAII,   P16,    62,  1,     17,     17,2,19840524,2338, 43.3833,-152.0067, 4764,    605.9,   4.1339,  34.1035,2,  34.1030,2,   -999.0,5,  4.0897,     56.5,2,   101.50,2,    39.90,2,     0.01,2,     2.82,2, -999.000,9,-999.000,  -999.0,-999.000
    31WTMARAII,   P16,    62,  1,     18,     18,2,19840524,2338, 43.3833,-152.0067, 4764,    706.3,   3.7902,  34.1820,2,  34.1810,2,   -999.0,5,  3.7399,     38.7,2,   114.69,2,    41.56,2,     0.01,2,     2.92,2, -999.000,9,-999.000,  -999.0,-999.000
    31WTMARAII,   P16,    62,  1,     19,     19,2,19840524,2338, 43.3833,-152.0067, 4764,    806.4,   3.5500,  34.2415,2,  34.2420,2,   -999.0,5,  3.4933,     27.0,2,   123.98,2,    42.73,2,     0.01,2,     3.00,2, -999.000,9,   3.552,   807.0,-999.000
    31WTMARAII,   P16,    62,  1,     20,     20,2,19840524,2338, 43.3833,-152.0067, 4764,    906.8,   3.2632,  34.3025,2,  34.3010,2,   -999.0,5,  3.2008,     17.0,2,   135.51,2,    43.61,2,     0.01,2,     3.06,2, -999.000,9,-999.000,  -999.0,-999.000
    31WTMARAII,   P16,    62,  1,     21,     21,2,19840524,2338, 43.3833,-152.0067, 4764,   1011.5,   3.0460,  34.3510,2,  34.3510,2,   -999.0,5,  2.9771,     14.8,2,   143.23,2,    43.99,2,     0.01,2,     3.09,2, -999.000,9,-999.000,  -999.0,-999.000
    31WTMARAII,   P16,    62,  1,     22,     22,2,19840524,2338, 43.3833,-152.0067, 4764,   1206.6,   2.6900,  34.4287,2,  34.4280,2,   -999.0,5,  2.6092,     13.0,2,   155.93,2,    44.29,2,     0.01,2,  -999.00,9, -999.000,9,-999.000,  -999.0,-999.000
    31WTMARAII,   P16,    62,  1,     23,     23,2,19840524,2338, 43.3833,-152.0067, 4764,   1551.8,   2.2962,  34.5165,2,  34.5160,2,   -999.0,5,  2.1926,     23.9,2,   168.82,2,    43.99,2,     0.01,2,  -999.00,9, -999.000,9,   2.291,  1551.0,-999.000