BOTTLE,20220816CCHSIOAMB
EXPOCODE,SECT_ID,STNNBR,CASTNO,SAMPNO,BTLNBR,BTLNBR_FLAG_W,DATE,TIME,LATITUDE,LONGITUDE,DEPTH,CTDPRS,CTDTMP,CTDSAL,CTDSAL_FLAG_W,SALNTY,SALNTY_FLAG_W,CTDOXY,CTDOXY_FLAG_W,THETA,OXYGEN,OXYGEN_FLAG_W,SILCAT,SILCAT_FLAG_W,NITRAT,NITRAT_FLAG_W,NITRIT,NITRIT_FLAG_W,PHSPHT,PHSPHT_FLAG_W,TRITUM,TRITUM_FLAG_W,REVTMP,REVPRS,TRITER
,,,,,,,,,,,,DBAR,ITS-90,PSS-78,,PSS-78,,UMOL/KG,,DEG C,UMOL/KG,,UMOL/KG,,UMOL/KG,,UMOL/KG,,UMOL/KG,,TU,,,DBAR,TU
    31WTMARAII,   P16,     5,  1,      1,      1,2,19840506,1330, 22.5083,-156.4333, 4434,     10.0,  24.4650,-999.0000,9,  35.1740,2,   -999.0,5,-999.0000,   -999.0,9,     1.07,2,     0.04,2,     0.00,2,     0.15,2, -999.000,9,  24.459,    10.0,-999.000
    31WTMARAII,   P16,     5,  1,      2,      2,2,19840506,1330, 22.5083,-156.4333, 4434,     54.9,  24.2830,  35.1545,2,  35.1570,2,   -999.0,5, 24.2713,    215.5,2,     0.68,2,     0.04,2,     0.00,2,     0.13,2, -999.000,9,-999.000,  -999.0,-999.000
    31WTMARAII,   P16,     5,  1,      3,      3,2,19840506,1330, 22.5083,-156.4333, 4434,    105.5,  24.2605,  35.1508,2,  35.1550,2,   -999.0,5, 24.2381,    213.8,2,     0.49,2,     0.00,2,     0.00,2,     0.12,2, -999.000,9,-999.000,  -999.0,-999.000
    31WTMARAII,   P16,     5,  1,      5,      5,2,19840506,1330, 22.5083,-156.4333, 4434,    155.5,  23.2773,  35.2114,2,  35.2150,2,   -999.0,5, 23.2452,    210.6,2,     0.49,2,     0.00,2,     0.07,2,     0.11,2, -999.000,9,-999.000,  -999.0,-999.000
    31WTMARAII,   P16,     5,  1,      6,      6,2,19840506,1330, 22.5083,-156.4333, 4434,    206.2,  21.1281,  35.1184,2,  35.1140,2,   -999.0,5, 21.0884,    194.0,2,     0.88,2,     1.35,2,     0.03,2,     0.23,2, -999.000,9,-999.000,  -999.0,-999.000
    31WTMARAII,   P16,     5,  1,      7,      7,2,19840506,1330, 22.5083,-156.4333, 4434,    307.1,  15.0572,  34.5563,2,  34.5500,2,   -999.0,5, 15.0106,    192.0,2,     5.87,2,     7.37,2,     0.01,2,     0.62,2, -999.000,9,-999.000,  -999.0,-999.000
    31WTMARAII,   P16,     5,  1,      8,      8,2,19840506,1330, 22.5083,-156.4333, 4434,    407.6,  10.1976,  34.1491,2,  34.1520,2,   -999.0,5, 10.1497,    174.5,2,    20.44,2,    18.09,2,     0.00,2,     1.30,2, -999.000,9,-999.000,  -999.0,-999.000
    31WTMARAII,   P16,     5,  1,     10,     10,2,19840506,1330, 22.5083,-156.4333, 4434,    509.3,   7.4525,  34.0538,2,  34.0560,2,   -999.0,5,  7.4028,    133.5,2,    41.36,2,    27.58,2,     0.00,2,     1.96,2, -999.000,9,-999.000,  -999.0,-999.000
    31WTMARAII,   P16,     5,  1,     11,     11,2,19840506,1330, 22.5083,-156.4333, 4434,    609.7,   6.1259,  34.1323,2,  34.1340,2,   -999.0,5,  6.0720,     58.7,2,    65.12,2,    36.47,2,     0.00,2,     2.60,2, -999.000,9,-999.000,  -999.0,-999.000
    31WTMARAII,   P16,     5,  1,     12,     12,2,19840506,1330, 22.5083,-156.4333, 4434,    710.5,   4.8719,  34.2062,2,  34.2080,2,   -999.0,5,  4.8153,     32.6,2,    90.05,2,    41.07,2,     0.00,2,     2.89,2, -999.000,9,-999.000,  -999.0,-999.000
    31WTMARAII,   P16,     5,  1,     13,     13,2,19840506,1330, 22.5083,-156.4333, 4434,    811.4,   4.6970,  34.3841,2,  34.3850,2,   -999.0,5,  4.6325,     30.9,2,    96.88,2,    41.94,2,     0.00,2,     2.99,2, -999.000,9,-999.000,  -999.0,-999.000
    31WTMARAII,   P16,     5,  1,     14,     14,2,19840506,1330, 22.5083,-156.4333, 4434,    912.8,   4.2764,  34.4382,2,  34.4400,2,   -999.0,5,  4.2061,     39.6,2,   104.70,2,    42.04,2,     0.00,2,     2.98,2, -999.000,9,-999.000,  -999.0,-999.000
    31WTMARAII,   P16,     5,  1,     15,     15,2,19840506,1330, 22.5083,-156.4333, 4434,   1013.9,   4.0693,  34.4866,2,  34.4870,2,   -999.0,5,  3.9920,     44.3,2,   109.68,2,    42.13,2,     0.00,2,  -999.00,9, -999.000,9,   4.065,  1016.0,-999.000
    31WTMARAII,   P16,     5,  1,     16,     16,2,19840506,1330, 22.5083,-156.4333, 4434,   1266.5,   3.4461,  34.5397,2,  34.5410,2,   -999.0,5,  3.3531,     52.2,2,   122.19,2,    42.13,2,     0.00,2,  -999.00,9, -999.000,9,-999.000,  -999.0,-999.000
    31WTMARAII,   P16,     5,  1,     17,     17,2,19840506,1330, 22.5083,-156.4333, 4434,   1518.5,   2.8753,  34.5747,2,  34.5790,2,   -999.0,5,  2.7673,     64.3,2,   133.82,2,    41.45,2,     0.01,2,  -999.00,9, -999.000,9,-999.000,  -999.0,-999.000
    31WTMARAII,   P16,     5,  1,     18,     18,2,19840506,1330, 22.5083,-156.4333, 4434,   1771.4,   2.4734,  34.5948,2,  34.5950,2,   -999.0,5,  2.3494,     78.2,2,   144.57,2,    40.76,2,     0.00,2,  -999.00,9, -999.000,9,-999.000,  -999.0,-999.000
    31WTMARAII,   P16,     5,  1,     19,     19,2,19840506,1330, 22.5083,-156.4333, 4434,   2024.4,   2.1508,  34.6172,2,  34.6160,2,   -999.0,5,  2.0100,     87.3,2,   151.80,2,    39.98,2,     0.01,2,  -999.00,9, -999.000,9,   2.155,  2027.0,-999.000
    31WTMARAII,   P16,     5,  1,     20,     20,2,19840506,1330, 22.5083,-156.4333, 4434,   2532.5,   1.7117,  34.6522,2,  34.6510,2,   -999.0,5,  1.5339,    113.0,2,   160.79,2,    38.71,2,     0.00,2,     2.64,2, -999.000,9,-999.000,  -999.0,-999.000
    31WTMARAII,   P16,     5,  1,     21,     21,2,19840506,1330, 22.5083,-156.4333, 4434,   3039.3,   1.5278,  34.6713,2,  34.6720,2,   -999.0,5,  1.3066,    128.2,2,   162.55,2,    37.73,2,     0.00,2,     2.56,2, -999.000,9,-999.000,  -999.0,-999.000
    31WTMARAII,   P16,     5,  1,     22,     22,2,19840506,1330, 22.5083,-156.4333, 4434,   3548.3,   1.4507,  34.6823,2,  34.6820,2,   -999.0,5,  1.1808,    140.3,2,   154.24,2,    36.65,2,     0.01,2,  -999.00,9, -999.000,9,   1.450,  3550.0,-999.000
    31WTMARAII,   P16,     5,  1,     23,     23,2,19840506,1330, 22.5083,-156.4333, 4434,   4057.6,   1.4542,  34.6873,2,  34.6860,2,   -999.0,5,  1.1303,    150.8,2,   154.14,2,    36.07,2,     0.00,2,     2.39,2, -999.000,9,-999.000,  -999.0,-999.000
    31WTMARAII,   P16,     5,  1,     24,     24,2,19840506,1330, 22.5083,-156.4333, 4434,   4490.0,   1.4678,  34.6911,2,  34.6890,2,   -999.0,5,  1.0949,    152.1,2,   149.54,2,    35.77,2,     0.02,2,  -999.00,9, -999.000,9,-999.000,  -999.0,-999.000
    31WTMARAII,   P16,     6,  1,      1,      1,2,19840506,1934, 23.0417,-156.3017, -999,     10.0,  24.7790,-999.0000,9,  35.0980,2,   -999.0,5,-999.0000,   -999.0,9,     1.27,2,     0.00,2,     0.00,2,     0.15,2, -999.000,9,  24.773,    10.0,-999.000
    31WTMARAII,   P16,     6,  1,      2,      2,2,19840506,1934, 23.0417,-156.3017, -999,     52.7,  24.1981,  35.1327,2,  35.1290,2,   -999.0,5, 24.1870,    212.9,2,     0.49,2,     0.00,2,     0.00,2,     0.12,2, -999.000,9,-999.000,  -999.0,-999.000
    31WTMARAII,   P16,     6,  1,      7,      7,2,19840506,1934, 23.0417,-156.3017, -999,    104.6,  22.9559,  35.3302,2,  35.3290,2,   -999.0,5, 22.9346,    219.3,2,     0.59,2,     0.00,2,     0.00,2,     0.09,2, -999.000,9,-999.000,  -999.0,-999.000
    31WTMARAII,   P16,     6,  1,      8,      8,2,19840506,1934, 23.0417,-156.3017, -999,    138.6,  20.9072,  35.1869,2,  35.1810,2,   -999.0,5, 20.8807,    213.6,2,     0.78,2,     0.00,2,     0.03,2,     0.14,2, -999.000,9,-999.000,  -999.0,-999.000
    31WTMARAII,   P16,     6,  1,      9,      9,2,19840506,1934, 23.0417,-156.3017, -999,    172.1,  19.5836,  35.1302,2,  35.1260,2,   -999.0,5, 19.5523,    210.4,2,     1.47,2,     0.75,2,     0.08,2,  -999.00,9, -999.000,9,-999.000,  -999.0,-999.000
    31WTMARAII,   P16,     6,  1,     10,     10,2,19840506,1934, 23.0417,-156.3017, -999,    205.7,  18.1919,  34.9505,2,  34.9480,2,   -999.0,5, 18.1563,    214.3,2,     1.76,2,     1.45,2,     0.03,2,     0.22,2, -999.000,9,-999.000,  -999.0,-999.000
    31WTMARAII,   P16,     6,  1,     11,     11,2,19840506,1934, 23.0417,-156.3017, -999,    255.6,  15.9631,  34.7136,2,  34.7140,2,   -999.0,5, 15.9227,    215.1,2,     3.62,2,     4.00,2,     0.01,2,     0.39,2, -999.000,9,-999.000,  -999.0,-999.000
    31WTMARAII,   P16,     6,  1,     12,     12,2,19840506,1934, 23.0417,-156.3017, -999,    307.1,  14.0409,  34.4945,2,  34.4920,2,   -999.0,5, 13.9964,    221.2,2,     5.57,2,     6.43,2,     0.01,2,     0.55,2, -999.000,9,-999.000,  -999.0,-999.000
    31WTMARAII,   P16,     6,  1,     13,     13,2,19840506,1934, 23.0417,-156.3017, -999,    307.3,  13.9884,  34.4879,2,  34.4880,2,   -999.0,5, 13.9440,    221.6,2,     5.77,2,     6.48,2,     0.01,2,     0.53,2, -999.000,9,-999.000,  -999.0,-999.000
    31WTMARAII,   P16,     6,  1,     14,     14,2,19840506,1934, 23.0417,-156.3017, -999,    408.6,  10.3795,  34.1688,2,  34.1700,2,   -999.0,5, 10.3309,    201.9,2,    16.72,2,    15.35,2,     0.00,2,     1.09,2, -999.000,9,-999.000,  -999.0,-999.000
    31WTMARAII,   P16,     6,  1,     15,     15,2,19840506,1934, 23.0417,-156.3017, -999,    508.7,   8.2180,  34.0696,2,  34.0730,2,   -999.0,5,  8.1654,    175.8,2,    32.07,2,    22.49,2,     0.00,2,  -999.00,9, -999.000,9,   8.225,   509.0,-999.000
    31WTMARAII,   P16,     6,  1,     16,     16,2,19840506,1934, 23.0417,-156.3017, -999,    606.7,   5.8765,  34.0228,2,  34.0210,2,   -999.0,5,  5.8241,     99.2,2,    62.78,2,    33.64,2,     0.00,2,  -999.00,9, -999.000,9,-999.000,  -999.0,-999.000
    31WTMARAII,   P16,     6,  1,     17,     17,2,19840506,1934, 23.0417,-156.3017, -999,    708.5,   4.8518,  34.1377,2,  34.1370,2,   -999.0,5,  4.7955,     45.7,2,    87.51,2,    39.89,2,     0.00,2,  -999.00,9, -999.000,9,-999.000,  -999.0,-999.000
    31WTMARAII,   P16,     6,  1,     18,     18,2,19840506,1934, 23.0417,-156.3017, -999,    708.9,   4.8526,  34.1375,2,  34.1400,2,   -999.0,5,  4.7962,     47.0,2,    86.54,2,    39.80,2,     0.00,2,  -999.00,9, -999.000,9,-999.000,  -999.0,-999.000
    31WTMARAII,   P16,     6,  1,     19,     19,2,19840506,1934, 23.0417,-156.3017, -999,    808.0,   4.7032,  34.3050,2,  34.3070,2,   -999.0,5,  4.6391,     23.9,2,    97.08,2,    41.94,2,     0.01,2,  -999.00,9, -999.000,9,   4.706,   807.0,-999.000
    31WTMARAII,   P16,     6,  1,     20,     20,2,19840506,1934, 23.0417,-156.3017, -999,    906.6,   4.3241,  34.3902,2,  34.3930,2,   -999.0,5,  4.2541,     30.9,2,   106.37,2,    42.33,2,     0.01,2,     3.01,2, -999.000,9,-999.000,  -999.0,-999.000
    31WTMARAII,   P16,     6,  1,     21,     21,2,19840506,1934, 23.0417,-156.3017, -999,   1009.9,   3.9419,  34.4396,2,  34.4400,2,   -999.0,5,  3.8660,     37.8,2,   113.50,2,    42.23,2,     0.00,2,     2.98,2, -999.000,9,-999.000,  -999.0,-999.000
    31WTMARAII,   P16,     6,  1,     22,     22,2,19840506,1934, 23.0417,-156.3017, -999,   1263.3,   3.2864,  34.5347,2,  34.5350,2,   -999.0,5,  3.1952,     56.1,2,   125.32,2,    41.64,2,     0.01,2,  -999.00,9, -999.000,9,-999.000,  -999.0,-999.000
    31WTMARAII,   P16,     6,  1,     23,     23,2,19840506,1934, 23.0417,-156.3017, -999,   1500.6,   2.8439,  34.5681,2,  34.5670,2,   -999.0,5,  2.7378,     68.2,2,   136.17,2,    41.15,2,     0.00,2,     2.85,2, -999.000,9,   2.840,  1501.0,-999.000
    31WTMARAII,   P16,     6,  1,     24,     24,2,19840506,1934, 23.0417,-156.3017, -999,   1501.9,   2.8412,  34.5688,2,  34.5690,2,   -999.0,5,  2.7351,     67.4,2,   136.26,2,    41.06,2,     0.01,2,  -999.00,9, -999.000,9,-999.000,  -999.0,-999.000
    31WTMARAII,   P16,     7,  1,      1,      1,2,19840507,0131, 23.3917,-155.9283, 4194,     10.0,  24.4150,-999.0000,9,  35.3600,2,   -999.0,5,-999.0000,   -999.0,9,     0.68,2,     0.00,2,     0.00,2,     0.12,2, -999.000,9,  24.409,    10.0,-999.000
    31WTMARAII,   P16,     7,  1,      2,      2,2,19840507,0131, 23.3917,-155.9283, 4194,     42.4,  23.4951,  35.3591,2,  35.3600,2,   -999.0,5, 23.4863,    220.2,2,     0.20,2,     0.00,2,     0.00,2,     0.09,2, -999.000,9,-999.000,  -999.0,-999.000
    31WTMARAII,   P16,     7,  1,      3,      3,2,19840507,0131, 23.3917,-155.9283, 4194,     82.4,  22.3817,  35.3035,2,  35.3050,2,   -999.0,5, 22.3652,    220.6,2,     0.29,2,     0.00,2,     0.00,2,     0.09,2, -999.000,9,-999.000,  -999.0,-999.000
    31WTMARAII,   P16,     7,  1,      4,      4,2,19840507,0131, 23.3917,-155.9283, 4194,    164.0,  18.5597,  34.9899,2,  34.9850,2,   -999.0,5, 18.5309,    205.6,2,     1.76,2,     2.17,2,     0.06,2,     0.28,2, -999.000,9,-999.000,  -999.0,-999.000
    31WTMARAII,   P16,     7,  1,      5,      5,2,19840507,0131, 23.3917,-155.9283, 4194,    223.7,  15.8806,  34.7140,2,  34.7130,2,   -999.0,5, 15.8455,    215.1,2,     3.23,2,     4.20,2,     0.02,2,     0.40,2, -999.000,9,-999.000,  -999.0,-999.000
    31WTMARAII,   P16,     7,  1,      6,      6,2,19840507,0131, 23.3917,-155.9283, 4194,    283.6,  13.3766,  34.4298,2,  34.4320,2,   -999.0,5, 13.3369,    227.7,2,     6.16,2,     7.29,2,     0.01,2,     0.60,2, -999.000,9,-999.000,  -999.0,-999.000
    31WTMARAII,   P16,     7,  1,      7,      7,2,19840507,0131, 23.3917,-155.9283, 4194,    355.3,  11.2523,  34.2562,2,  34.2380,2,   -999.0,5, 11.2079,    219.3,2,    12.32,2,    12.32,2,     0.01,2,     0.92,2, -999.000,9,-999.000,  -999.0,-999.000
    31WTMARAII,   P16,     7,  1,      8,      8,2,19840507,0131, 23.3917,-155.9283, 4194,    405.8,   9.6710,  34.1343,2,  34.1360,2,   -999.0,5,  9.6249,    205.4,2,    19.46,2,    16.72,2,     0.01,2,     1.19,2, -999.000,9,-999.000,  -999.0,-999.000
    31WTMARAII,   P16,     7,  1,      9,      9,2,19840507,0131, 23.3917,-155.9283, 4194,    506.3,   7.3421,  34.0445,2,  34.0470,2,   -999.0,5,  7.2931,    138.8,2,    42.15,2,    27.09,2,     0.01,2,  -999.00,9, -999.000,9,-999.000,  -999.0,-999.000
    31WTMARAII,   P16,     7,  1,     10,     10,2,19840507,0131, 23.3917,-155.9283, 4194,    556.3,   6.3312,  34.0320,2,  34.0360,2,   -999.0,5,  6.2814,    105.7,2,    57.01,2,    32.27,2,     0.00,2,     2.29,2, -999.000,9,-999.000,  -999.0,-999.000
    31WTMARAII,   P16,     7,  1,     11,     11,2,19840507,0131, 23.3917,-155.9283, 4194,    606.4,   5.8469,  34.0665,2,  34.0690,2,   -999.0,5,  5.7946,     77.0,2,    66.89,2,    35.50,2,     0.00,2,     2.53,2, -999.000,9,-999.000,  -999.0,-999.000
    31WTMARAII,   P16,     7,  1,     12,     12,2,19840507,0131, 23.3917,-155.9283, 4194,    656.6,   5.0855,  34.1359,2,  34.1400,2,   -999.0,5,  5.0324,     45.2,2,    83.31,2,    39.50,2,     0.00,2,     2.84,2, -999.000,9,-999.000,  -999.0,-999.000
    31WTMARAII,   P16,     7,  1,     13,     13,2,19840507,0131, 23.3917,-155.9283, 4194,    755.1,   4.5753,  34.2526,2,  34.2550,2,   -999.0,5,  4.5165,     27.4,2,    97.58,2,    41.75,2,     0.00,2,     3.05,2, -999.000,9,-999.000,  -999.0,-999.000
    31WTMARAII,   P16,     7,  1,     14,     14,2,19840507,0131, 23.3917,-155.9283, 4194,    803.8,   4.3408,  34.3026,2,  34.3040,2,   -999.0,5,  4.2793,     26.5,2,   104.42,2,    42.14,2,     0.00,2,     3.07,2, -999.000,9,-999.000,  -999.0,-999.000
    31WTMARAII,   P16,     7,  1,     15,     15,2,19840507,0131, 23.3917,-155.9283, 4194,    853.6,   4.2991,  34.3736,2,  34.3750,2,   -999.0,5,  4.2337,     27.4,2,   105.88,2,    42.23,2,     0.00,2,  -999.00,9, -999.000,9,   4.297,   859.0,-999.000
    31WTMARAII,   P16,     7,  1,     16,     16,2,19840507,0131, 23.3917,-155.9283, 4194,   1004.3,   3.9225,  34.4757,2,  34.4780,2,   -999.0,5,  3.8472,     42.6,2,   112.42,2,    41.94,2,     0.01,2,  -999.00,9, -999.000,9,-999.000,  -999.0,-999.000
    31WTMARAII,   P16,     7,  1,     17,     17,2,19840507,0131, 23.3917,-155.9283, 4194,   1204.5,   3.3409,  34.5231,2,  34.5250,2,   -999.0,5,  3.2540,     52.2,2,   125.32,2,    41.55,2,     0.02,2,  -999.00,9, -999.000,9,-999.000,  -999.0,-999.000
    31WTMARAII,   P16,     7,  1,     18,     18,2,19840507,0131, 23.3917,-155.9283, 4194,   1502.1,   2.7342,  34.5708,2,  34.5720,2,   -999.0,5,  2.6292,     69.1,2,   139.20,2,    40.96,2,     0.01,2,  -999.00,9, -999.000,9,-999.000,  -999.0,-999.000
    31WTMARAII,   P16,     7,  1,     19,     19,2,19840507,0131, 23.3917,-155.9283, 4194,   2016.7,   2.0173,  34.6223,2,  34.6240,2,   -999.0,5,  1.8792,     86.0,2,   157.37,2,    39.98,2,     0.02,2,  -999.00,9, -999.000,9,-999.000,  -999.0,-999.000
    31WTMARAII,   P16,     7,  1,     20,     20,2,19840507,0131, 23.3917,-155.9283, 4194,   2506.0,   1.6899,  34.6510,2,  34.6510,2,   -999.0,5,  1.5148,    108.6,2,   163.53,2,    38.80,2,     0.00,2,     2.71,2, -999.000,9,-999.000,  -999.0,-999.000
    31WTMARAII,   P16,     7,  1,     21,     21,2,19840507,0131, 23.3917,-155.9283, 4194,   3004.5,   1.5057,  34.6711,2,  34.6730,2,   -999.0,5,  1.2884,    130.4,2,   160.79,2,    37.34,2,     0.00,2,     2.59,2, -999.000,9,-999.000,  -999.0,-999.000
    31WTMARAII,   P16,     7,  1,     22,     22,2,19840507,0131, 23.3917,-155.9283, 4194,   3505.8,   1.4493,  34.6815,2,  34.6820,2,   -999.0,5,  1.1839,    139.0,2,   155.02,2,    36.46,2,     0.02,2,  -999.00,9, -999.000,9,-999.000,  -999.0,-999.000
    31WTMARAII,   P16,     7,  1,     24,     24,2,19840507,0131, 23.3917,-155.9283, 4194,   4256.5,   1.4725,  34.6881,2,  34.6860,2,   -999.0,5,  1.1261,    145.1,2,   153.36,2,    36.07,2,     0.02,2,  -999.00,9, -999.000,9,-999.000,  -999.0,-999.000