BOTTLE,20220816CCHSIOAMB
# Set REVPRS units to DBAR
# Use REVPRS for missing CTDPRS at station 34, cast 1, sample 1
# Changed OXYGEN flag from 2 to 9 at missing value locations (about 70 instances)
#BOTTLE,20040515WHPSIOSA
#code : jjward hyd_to_exchange.pl 
#original files copied from HTML directory: March 29, 2004
#original HYD file: p16_1984ahy.txt   Sat May 15 14:13:51 2004
#original SUM file: p16_1984asu.txt   Thu Jan 29 09:40:12 2004
EXPOCODE,SECT_ID,STNNBR,CASTNO,SAMPNO,BTLNBR,BTLNBR_FLAG_W,DATE,TIME,LATITUDE,LONGITUDE,DEPTH,CTDPRS,CTDTMP,CTDSAL,CTDSAL_FLAG_W,SALNTY,SALNTY_FLAG_W,CTDOXY,CTDOXY_FLAG_W,THETA,OXYGEN,OXYGEN_FLAG_W,SILCAT,SILCAT_FLAG_W,NITRAT,NITRAT_FLAG_W,NITRIT,NITRIT_FLAG_W,PHSPHT,PHSPHT_FLAG_W,TRITUM,TRITUM_FLAG_W,REVTMP,REVPRS,TRITER
,,,,,,,,,,,,DBAR,ITS-90,PSS-78,,PSS-78,,UMOL/KG,,DEG C,UMOL/KG,,UMOL/KG,,UMOL/KG,,UMOL/KG,,UMOL/KG,,TU,,,DBAR,TU
    31WTMARAII,   P16,     1,  1,      3,      3,2,19840505,0733, 21.4683,-157.4733,  743,     47.2,  24.8802,  35.0029,2,  35.0010,2,   -999.0,5, 24.8700,    211.6,2,     2.05,2,     0.03,2,     0.00,2,     0.19,2, -999.000,9,-999.000,  -999.0,-999.000
    31WTMARAII,   P16,     1,  1,     11,     11,2,19840505,0733, 21.4683,-157.4733,  743,     97.6,  23.1891,  35.1726,2,  35.1730,2,   -999.0,5, 23.1691,    210.6,2,     1.56,2,     0.00,2,     0.00,2,     0.20,2, -999.000,9,-999.000,  -999.0,-999.000
    31WTMARAII,   P16,     1,  1,     13,     13,2,19840505,0733, 21.4683,-157.4733,  743,    147.5,  21.0612,  35.1073,2,  35.1050,2,   -999.0,5, 21.0329,    195.7,2,     1.76,2,     1.40,2,     0.08,2,     0.27,2, -999.000,9,-999.000,  -999.0,-999.000
    31WTMARAII,   P16,     1,  1,     15,     15,2,19840505,0733, 21.4683,-157.4733,  743,    195.8,  18.3662,  34.9223,2,  34.9270,2,   -999.0,5, 18.3321,    193.9,2,     3.32,2,     3.60,2,     0.01,2,  -999.00,9, -999.000,9,-999.000,  -999.0,-999.000
    31WTMARAII,   P16,     1,  1,     17,     17,2,19840505,0733, 21.4683,-157.4733,  743,    296.0,  12.1716,  34.2465,2,  34.2480,2,   -999.0,5, 12.1328,    188.5,2,    11.54,2,    11.73,2,     0.08,2,  -999.00,9, -999.000,9,  12.172,   298.0,-999.000
    31WTMARAII,   P16,     1,  1,     18,     18,2,19840505,0733, 21.4683,-157.4733,  743,    396.6,   9.5279,  34.1167,2,  34.1190,2,   -999.0,5,  9.4833,    190.1,2,    22.00,2,    18.19,2,     0.03,2,  -999.00,9, -999.000,9,-999.000,  -999.0,-999.000
    31WTMARAII,   P16,     1,  1,     20,     20,2,19840505,0733, 21.4683,-157.4733,  743,    499.5,   7.1197,  34.1006,2,  34.1010,2,   -999.0,5,  7.0721,    112.2,2,    51.04,2,    30.22,2,     0.01,2,     2.20,2, -999.000,9,-999.000,  -999.0,-999.000
    31WTMARAII,   P16,     1,  1,     21,     21,2,19840505,0733, 21.4683,-157.4733,  743,    597.1,   5.6360,  34.1272,2,  34.1270,2,   -999.0,5,  5.5854,     55.7,2,    73.92,2,    37.94,2,     0.00,2,     2.78,2, -999.000,9,-999.000,  -999.0,-999.000
    31WTMARAII,   P16,     1,  1,     22,     22,2,19840505,0733, 21.4683,-157.4733,  743,    694.6,   4.9598,  34.3146,2,  34.3160,2,   -999.0,5,  4.9039,     33.5,2,    91.22,2,    40.96,2,     0.03,2,  -999.00,9, -999.000,9,-999.000,  -999.0,-999.000
    31WTMARAII,   P16,     1,  1,     23,     23,2,19840505,0733, 21.4683,-157.4733,  743,    709.2,   4.8430,  34.3378,2,  34.3390,2,   -999.0,5,  4.7864,     34.8,2,    93.76,2,    41.36,2,     0.01,2,     3.02,2, -999.000,9,-999.000,  -999.0,-999.000
    31WTMARAII,   P16,     1,  1,     24,     24,2,19840505,0733, 21.4683,-157.4733,  743,    734.8,   4.6215,  34.4022,2,  34.4010,2,   -999.0,5,  4.5640,     37.0,2,    97.76,2,    41.55,2,     0.04,2,  -999.00,9, -999.000,9,-999.000,  -999.0,-999.000
    31WTMARAII,   P16,     1,  1,      1,      1,4,19840505,0733, 21.4683,-157.4733,  743,    734.8,   4.6215,  34.4022,2,  34.4000,2,   -999.0,5,  4.5640,     38.3,2,    98.35,2,    41.55,2,     0.00,2,     2.99,2, -999.000,9,   4.630,  -999.0,-999.000
    31WTMARAII,   P16,     2,  1,      1,      1,2,19840505,1341, 21.5983,-157.3517, 3012,     23.9,  24.3463,  35.1197,2,-999.0000,9,   -999.0,5, 24.3412,    216.0,2,  -999.00,9,  -999.00,9,  -999.00,9,  -999.00,9, -999.000,9,-999.000,  -999.0,-999.000
    31WTMARAII,   P16,     2,  1,      2,      2,2,19840505,1341, 21.5983,-157.3517, 3012,     53.5,  24.1968,  35.1443,2,  35.1460,2,   -999.0,5, 24.1855,    217.7,2,     1.86,2,     0.01,2,     0.00,2,     0.16,2, -999.000,9,-999.000,  -999.0,-999.000
    31WTMARAII,   P16,     2,  1,      3,      3,2,19840505,1341, 21.5983,-157.3517, 3012,     79.4,  23.9919,  35.1907,2,  35.1920,2,   -999.0,5, 23.9752,    218.5,2,     0.98,2,     0.00,2,     0.00,2,     0.13,2, -999.000,9,-999.000,  -999.0,-999.000
    31WTMARAII,   P16,     2,  1,      4,      4,2,19840505,1341, 21.5983,-157.3517, 3012,    129.7,  22.4953,  35.1853,2,  35.1870,2,   -999.0,5, 22.4692,    206.7,2,     0.78,2,     0.22,2,     0.13,2,     0.18,2, -999.000,9,-999.000,  -999.0,-999.000
    31WTMARAII,   P16,     2,  1,      6,      6,2,19840505,1341, 21.5983,-157.3517, 3012,    180.8,  20.3220,  35.0880,2,  35.0890,2,   -999.0,5, 20.2882,    197.4,2,     1.37,2,     1.76,2,     0.03,2,     0.30,2, -999.000,9,-999.000,  -999.0,-999.000
    31WTMARAII,   P16,     2,  1,      8,      8,2,19840505,1341, 21.5983,-157.3517, 3012,    281.8,  13.3372,  34.3579,2,  34.3600,2,   -999.0,5, 13.2979,    196.8,2,     8.31,2,     9.58,2,     0.00,2,     0.82,2, -999.000,9,-999.000,  -999.0,-999.000
    31WTMARAII,   P16,     2,  1,      9,      9,2,19840505,1341, 21.5983,-157.3517, 3012,    281.9,  13.3399,  34.3574,2,  34.3580,2,   -999.0,5, 13.3005,    192.9,2,     8.90,2,     9.67,2,     0.01,2,  -999.00,9, -999.000,9,-999.000,  -999.0,-999.000
    31WTMARAII,   P16,     2,  1,     10,     10,9,19840505,1341, 21.5983,-157.3517, 3012,    381.9,   9.4921,  34.1103,2,-999.0000,9,   -999.0,5,  9.4493,   -999.0,9,  -999.00,9,  -999.00,9,  -999.00,9,  -999.00,9, -999.000,9,-999.000,  -999.0,-999.000
    31WTMARAII,   P16,     2,  1,     11,     11,2,19840505,1341, 21.5983,-157.3517, 3012,    483.3,   7.2365,  34.0943,2,  34.1000,2,   -999.0,5,  7.1901,    117.4,2,    48.40,2,    29.24,2,     0.00,2,     2.21,2, -999.000,9,-999.000,  -999.0,-999.000
    31WTMARAII,   P16,     2,  1,     14,     14,2,19840505,1341, 21.5983,-157.3517, 3012,    685.4,   4.9568,  34.2899,2,  34.2890,2,   -999.0,5,  4.9018,     28.3,2,    90.54,2,    41.36,2,     0.00,2,     3.19,2, -999.000,9,-999.000,  -999.0,-999.000
    31WTMARAII,   P16,     2,  1,     15,     15,2,19840505,1341, 21.5983,-157.3517, 3012,    787.1,   4.5310,  34.3870,2,  34.3880,2,   -999.0,5,  4.4696,     32.2,2,   100.60,2,    42.23,2,     0.00,2,  -999.00,9, -999.000,9,-999.000,  -999.0,-999.000
    31WTMARAII,   P16,     2,  1,     16,     16,2,19840505,1341, 21.5983,-157.3517, 3012,    887.4,   4.3135,  34.4593,2,  34.4600,2,   -999.0,5,  4.2450,     36.5,2,   103.62,2,    42.23,2,     0.00,2,  -999.00,9, -999.000,9,-999.000,  -999.0,-999.000
    31WTMARAII,   P16,     2,  1,     17,     17,2,19840505,1341, 21.5983,-157.3517, 3012,    988.9,   4.0301,  34.4925,2,  34.4930,2,   -999.0,5,  3.9551,     40.9,2,   109.88,2,    42.23,2,     0.03,2,  -999.00,9, -999.000,9,-999.000,  -999.0,-999.000
    31WTMARAII,   P16,     2,  1,     18,     18,2,19840505,1341, 21.5983,-157.3517, 3012,   1242.0,   3.3133,  34.5433,2,  34.5420,2,   -999.0,5,  3.2235,     58.2,2,   124.63,2,    41.84,2,     0.00,2,  -999.00,9, -999.000,9,-999.000,  -999.0,-999.000
    31WTMARAII,   P16,     2,  1,     19,     19,2,19840505,1341, 21.5983,-157.3517, 3012,   1494.1,   2.8329,  34.5751,2,  34.5740,2,   -999.0,5,  2.7275,     66.9,2,   136.07,2,    41.45,2,     0.01,2,  -999.00,9, -999.000,9,-999.000,  -999.0,-999.000
    31WTMARAII,   P16,     2,  1,     20,     20,2,19840505,1341, 21.5983,-157.3517, 3012,   1748.8,   2.4520,  34.6007,2,  34.5990,2,   -999.0,5,  2.3302,     79.5,2,   145.45,2,    40.86,2,     0.00,2,     3.07,2, -999.000,9,   2.453,  1748.0,-999.000
    31WTMARAII,   P16,     2,  1,     21,     21,2,19840505,1341, 21.5983,-157.3517, 3012,   2008.6,   2.1270,  34.6190,2,  34.6180,2,   -999.0,5,  1.9880,     91.7,2,   152.09,2,    40.08,2,     0.00,2,     3.00,2, -999.000,9,-999.000,  -999.0,-999.000
    31WTMARAII,   P16,     2,  1,     23,     23,2,19840505,1341, 21.5983,-157.3517, 3012,   2527.3,   1.7288,  34.6495,2,  34.6500,2,   -999.0,5,  1.5512,    109.1,2,   163.72,2,    38.90,2,     0.01,2,     2.88,2, -999.000,9,   1.730,  -999.0,-999.000
    31WTMARAII,   P16,     2,  1,     24,     24,2,19840505,1341, 21.5983,-157.3517, 3012,   3038.2,   1.5397,  34.6700,2,  34.6700,2,   -999.0,5,  1.3184,    124.3,2,   160.59,2,    37.73,2,     0.02,2,  -999.00,9, -999.000,9,-999.000,  -999.0,-999.000
    31WTMARAII,   P16,     3,  1,      2,      2,2,19840505,2155, 21.9533,-157.0750, -999,     28.7,  24.0009,  35.1697,2,  35.1730,2,   -999.0,5, 23.9949,    221.2,2,     1.47,2,     0.00,2,     0.00,2,     0.16,2, -999.000,9,  24.003,  -999.0,-999.000
    31WTMARAII,   P16,     3,  1,      3,      3,2,19840505,2155, 21.9533,-157.0750, -999,     47.9,  23.9868,  35.1701,2,  35.1720,2,   -999.0,5, 23.9768,    224.2,2,     0.78,2,     0.00,2,     0.00,2,     0.16,2, -999.000,9,-999.000,  -999.0,-999.000
    31WTMARAII,   P16,     3,  1,      4,      4,2,19840505,2155, 21.9533,-157.0750, -999,     96.1,  23.5364,  35.1749,2,  35.1760,2,   -999.0,5, 23.5164,    219.8,2,     0.59,2,     0.00,2,     0.00,2,     0.15,2, -999.000,9,-999.000,  -999.0,-999.000
    31WTMARAII,   P16,     3,  1,      9,      9,2,19840505,2155, 21.9533,-157.0750, -999,    187.8,  20.2301,  35.0698,2,  35.0690,2,   -999.0,5, 20.1951,    193.1,2,     1.76,2,     2.07,2,     0.02,2,  -999.00,9, -999.000,9,-999.000,  -999.0,-999.000
    31WTMARAII,   P16,     3,  1,     10,     10,2,19840505,2155, 21.9533,-157.0750, -999,    291.0,  14.1315,  34.4362,2,  34.4420,2,   -999.0,5, 14.0892,    194.6,2,     6.75,2,     8.18,2,     0.01,2,     0.70,2, -999.000,9,-999.000,  -999.0,-999.000
    31WTMARAII,   P16,     3,  1,     11,     11,2,19840505,2155, 21.9533,-157.0750, -999,    395.2,   9.7249,  34.1192,2,  34.1200,2,   -999.0,5,  9.6799,    188.4,2,    21.51,2,    18.09,2,     0.00,2,     1.33,2, -999.000,9,-999.000,  -999.0,-999.000
    31WTMARAII,   P16,     3,  1,     12,     12,2,19840505,2155, 21.9533,-157.0750, -999,    491.4,   7.2115,  34.0620,2,  34.0620,2,   -999.0,5,  7.1645,    118.8,2,    45.96,2,    29.34,2,     0.00,2,     2.11,2, -999.000,9,-999.000,  -999.0,-999.000
    31WTMARAII,   P16,     3,  1,     13,     13,2,19840505,2155, 21.9533,-157.0750, -999,    597.5,   5.7205,  34.1312,2,  34.1320,2,   -999.0,5,  5.6695,     55.2,2,    72.07,2,    37.55,2,     0.00,2,     2.74,2, -999.000,9,-999.000,  -999.0,-999.000
    31WTMARAII,   P16,     3,  1,     14,     14,2,19840505,2155, 21.9533,-157.0750, -999,    701.2,   5.0716,  34.3039,2,  34.3040,2,   -999.0,5,  5.0146,     26.5,2,    89.85,2,    41.16,2,     0.00,2,     3.03,2, -999.000,9,-999.000,  -999.0,-999.000
    31WTMARAII,   P16,     3,  1,     15,     15,2,19840505,2155, 21.9533,-157.0750, -999,    807.1,   4.6760,  34.4180,2,  34.4180,2,   -999.0,5,  4.6120,     31.3,2,    97.47,2,    41.94,2,     0.00,2,  -999.00,9, -999.000,9,-999.000,  -999.0,-999.000
    31WTMARAII,   P16,     3,  1,     16,     16,2,19840505,2155, 21.9533,-157.0750, -999,    916.2,   4.3827,  34.4654,2,  34.4660,2,   -999.0,5,  4.3113,     36.1,2,   103.13,2,    42.13,2,     0.01,2,  -999.00,9, -999.000,9,-999.000,  -999.0,-999.000
    31WTMARAII,   P16,     3,  1,     17,     17,2,19840505,2155, 21.9533,-157.0750, -999,   1023.2,   4.0291,  34.5032,2,  34.5020,2,   -999.0,5,  3.9513,     39.1,2,   109.78,2,    42.23,2,     0.03,2,  -999.00,9, -999.000,9,   4.029,  1014.0,-999.000
    31WTMARAII,   P16,     3,  1,     18,     18,2,19840505,2155, 21.9533,-157.0750, -999,   1273.0,   3.4405,  34.5415,2,  34.5410,2,   -999.0,5,  3.3469,     50.9,2,   124.05,2,    42.13,2,     0.00,2,  -999.00,9, -999.000,9,-999.000,  -999.0,-999.000
    31WTMARAII,   P16,     3,  1,     19,     19,2,19840505,2155, 21.9533,-157.0750, -999,   1536.7,   2.8646,  34.5760,2,  34.5750,2,   -999.0,5,  2.7553,     63.9,2,   136.36,2,    41.45,2,     0.02,2,  -999.00,9, -999.000,9,-999.000,  -999.0,-999.000
    31WTMARAII,   P16,     3,  1,     20,     20,2,19840505,2155, 21.9533,-157.0750, -999,   1789.5,   2.4210,  34.6032,2,  34.6030,2,   -999.0,5,  2.2962,     79.5,2,   145.64,2,    40.57,2,     0.00,2,     2.87,2, -999.000,9,   2.426,  1790.0,-999.000
    31WTMARAII,   P16,     3,  1,     21,     21,2,19840505,2155, 21.9533,-157.0750, -999,   2012.0,   2.1325,  34.6232,2,  34.6240,2,   -999.0,5,  1.9931,     92.6,2,   151.90,2,    39.98,2,     0.00,2,     2.80,2, -999.000,9,-999.000,  -999.0,-999.000
    31WTMARAII,   P16,     3,  1,     22,     22,2,19840505,2155, 21.9533,-157.0750, -999,   2489.9,   1.7529,  34.6478,2,  34.6470,2,   -999.0,5,  1.5782,    103.9,2,   161.08,2,    39.00,2,     0.02,2,  -999.00,9, -999.000,9,-999.000,  -999.0,-999.000
    31WTMARAII,   P16,     3,  1,     24,     24,2,19840505,2155, 21.9533,-157.0750, -999,   3570.9,   1.4518,  34.6823,2,  34.6830,2,   -999.0,5,  1.1796,    138.6,2,   155.31,2,    36.56,2,     0.03,2,  -999.00,9, -999.000,9,-999.000,  -999.0,-999.000
    31WTMARAII,   P16,     4,  1,      4,      4,2,19840506,0722, 22.3000,-156.8000, 3909,     52.3,  24.2866,  35.1527,2,  35.1520,2,   -999.0,5, 24.2755,    212.9,2,     1.76,2,     0.11,2,     0.00,2,     0.14,2,    2.580,2,  24.270,  -999.0,   0.110
    31WTMARAII,   P16,     4,  1,      6,      6,2,19840506,0722, 22.3000,-156.8000, 3909,    101.8,  24.2467,  35.1448,2,  35.1510,2,   -999.0,5, 24.2251,    212.9,2,     0.98,2,     0.06,2,     0.00,2,     0.13,2, -999.000,9,-999.000,  -999.0,-999.000
    31WTMARAII,   P16,     4,  1,      7,      7,2,19840506,0722, 22.3000,-156.8000, 3909,    151.1,  23.1504,  35.1999,2,  35.2000,2,   -999.0,5, 23.1194,    209.8,2,     0.68,2,     0.07,2,     0.10,2,     0.15,2, -999.000,9,-999.000,  -999.0,-999.000
    31WTMARAII,   P16,     4,  1,      8,      8,2,19840506,0722, 22.3000,-156.8000, 3909,    201.9,  20.8920,  35.1046,2,  35.1020,2,   -999.0,5, 20.8535,    191.3,2,     1.37,2,     1.69,2,     0.03,2,     0.28,2,    2.970,2,-999.000,  -999.0,   0.110
    31WTMARAII,   P16,     4,  1,      9,      9,2,19840506,0722, 22.3000,-156.8000, 3909,    252.8,  18.2043,  34.9352,2,  34.9380,2,   -999.0,5, 18.1605,    190.8,2,     2.44,2,     3.55,2,     0.02,2,  -999.00,9,    3.277,2,  18.192,   254.0,   0.125
    31WTMARAII,   P16,     4,  1,     10,     10,2,19840506,0722, 22.3000,-156.8000, 3909,    303.9,  14.5012,  34.4800,2,  34.4720,2,   -999.0,5, 14.4563,    189.4,2,     7.14,2,     8.54,2,     0.01,2,     0.70,2,    3.446,2,-999.000,  -999.0,   0.141
    31WTMARAII,   P16,     4,  1,     11,     11,2,19840506,0722, 22.3000,-156.8000, 3909,    380.3,  10.6095,  34.1711,2,  34.1710,2,   -999.0,5, 10.5637,    178.0,2,    18.58,2,    16.92,2,     0.00,2,     1.24,2,    2.891,2,-999.000,  -999.0,   0.125
    31WTMARAII,   P16,     4,  1,     12,     12,2,19840506,0722, 22.3000,-156.8000, 3909,    455.9,   8.2787,  34.0752,2,  34.0750,2,   -999.0,5,  8.2315,    148.4,2,    33.93,2,    24.54,2,     0.00,2,     1.74,2, -999.000,9,-999.000,  -999.0,-999.000
    31WTMARAII,   P16,     4,  1,     13,     13,2,19840506,0722, 22.3000,-156.8000, 3909,    531.6,   6.4802,  34.0641,2,  34.0630,2,   -999.0,5,  6.4321,     91.8,2,    56.91,2,    33.25,2,     0.00,2,     2.38,2,    1.120,2,-999.000,  -999.0,   0.070
    31WTMARAII,   P16,     4,  1,     14,     14,2,19840506,0722, 22.3000,-156.8000, 3909,    606.7,   5.7568,  34.1422,2,  34.1410,2,   -999.0,5,  5.7048,     51.3,2,    72.46,2,    38.04,2,     0.00,2,     2.74,2,    0.270,2,   5.751,   608.0,   0.060
    31WTMARAII,   P16,     4,  1,     15,     15,2,19840506,0722, 22.3000,-156.8000, 3909,    708.2,   5.0695,  34.2987,2,  34.2990,2,   -999.0,5,  5.0118,     23.9,2,    89.85,2,    41.65,2,     0.00,2,  -999.00,9,    0.120,2,-999.000,  -999.0,   0.050
    31WTMARAII,   P16,     4,  1,     16,     16,2,19840506,0722, 22.3000,-156.8000, 3909,    758.9,   4.9370,  34.3419,2,  34.3440,2,   -999.0,5,  4.8757,     22.6,2,    93.17,2,    42.04,2,     0.04,2,  -999.00,9,    0.010,2,-999.000,  -999.0,   0.040
    31WTMARAII,   P16,     4,  1,     17,     17,2,19840506,0722, 22.3000,-156.8000, 3909,    809.5,   4.8052,  34.3817,2,  34.3840,2,   -999.0,5,  4.7403,     23.9,2,    93.85,2,    42.23,2,     0.05,2,  -999.00,9, -999.000,9,   4.807,   807.0,-999.000
    31WTMARAII,   P16,     4,  1,     18,     18,2,19840506,0722, 22.3000,-156.8000, 3909,   1011.7,   4.1491,  34.4922,2,  34.4930,2,   -999.0,5,  4.0713,     38.3,2,   107.14,2,    42.62,2,     0.01,2,  -999.00,9, -999.000,9,-999.000,  -999.0,-999.000
    31WTMARAII,   P16,     4,  1,     19,     19,2,19840506,0722, 22.3000,-156.8000, 3909,   1264.3,   3.4344,  34.5423,2,  34.5420,2,   -999.0,5,  3.3416,     50.0,2,   122.58,2,    42.33,2,     0.02,2,  -999.00,9, -999.000,9,-999.000,  -999.0,-999.000
    31WTMARAII,   P16,     4,  1,     20,     20,2,19840506,0722, 22.3000,-156.8000, 3909,   1514.9,   2.8927,  34.5751,2,  34.5730,2,   -999.0,5,  2.7849,     66.5,2,   136.36,2,    41.74,2,     0.00,2,     2.92,2, -999.000,9,   2.887,  1512.0,-999.000