BOTTLE,20220816CCHSIOAMB
EXPOCODE,SECT_ID,STNNBR,CASTNO,SAMPNO,BTLNBR,BTLNBR_FLAG_W,DATE,TIME,LATITUDE,LONGITUDE,DEPTH,CTDPRS,CTDTMP,CTDSAL,CTDSAL_FLAG_W,SALNTY,SALNTY_FLAG_W,CTDOXY,CTDOXY_FLAG_W,THETA,OXYGEN,OXYGEN_FLAG_W,SILCAT,SILCAT_FLAG_W,NITRAT,NITRAT_FLAG_W,NITRIT,NITRIT_FLAG_W,PHSPHT,PHSPHT_FLAG_W,TRITUM,TRITUM_FLAG_W,REVTMP,REVPRS,TRITER
,,,,,,,,,,,,DBAR,ITS-90,PSS-78,,PSS-78,,UMOL/KG,,DEG C,UMOL/KG,,UMOL/KG,,UMOL/KG,,UMOL/KG,,UMOL/KG,,TU,,,DBAR,TU
    31WTMARAII,   P16,    76,  1,      1,      1,2,19840528,0858, 49.3283,-151.9900, 4997,      1.0,   6.5580,-999.0000,9,  32.6450,2,   -999.0,5,-999.0000,   -999.0,9,    23.00,2,    12.73,2,     0.16,2,     1.25,2, -999.000,9,   6.556,     1.0,-999.000
    31WTMARAII,   P16,    76,  1,      2,      2,2,19840528,0858, 49.3283,-151.9900, 4997,     22.1,   6.3398,  32.6461,2,  32.6470,2,   -999.0,5,  6.3380,    324.8,2,    22.91,2,    12.73,2,     0.15,2,     1.26,2, -999.000,9,-999.000,  -999.0,-999.000
    31WTMARAII,   P16,    76,  1,      3,      3,2,19840528,0858, 49.3283,-151.9900, 4997,     52.5,   5.2150,  32.6599,2,  32.6640,2,   -999.0,5,  5.2110,    317.4,2,    23.98,2,    14.10,2,     0.11,2,     1.32,2, -999.000,9,-999.000,  -999.0,-999.000
    31WTMARAII,   P16,    76,  1,      4,      4,2,19840528,0858, 49.3283,-151.9900, 4997,    104.3,   4.1512,  33.6227,2,  33.6210,2,   -999.0,5,  4.1441,    198.8,2,    52.53,2,    29.05,2,     0.01,2,     2.11,2, -999.000,9,-999.000,  -999.0,-999.000
    31WTMARAII,   P16,    76,  1,      5,      5,2,19840528,0858, 49.3283,-151.9900, 4997,    149.9,   3.9412,  33.7392,2,  33.7420,2,   -999.0,5,  3.9311,    137.9,2,    67.59,2,    34.62,2,     0.01,2,     2.46,2, -999.000,9,-999.000,  -999.0,-999.000
    31WTMARAII,   P16,    76,  1,      6,      6,2,19840528,0858, 49.3283,-151.9900, 4997,    204.2,   3.8400,  33.8170,2,  33.8200,2,   -999.0,5,  3.8263,    100.0,2,    78.93,2,    37.85,2,     0.01,2,     2.67,2, -999.000,9,-999.000,  -999.0,-999.000
    31WTMARAII,   P16,    76,  1,      7,      7,2,19840528,0858, 49.3283,-151.9900, 4997,    299.8,   3.8969,  33.9637,2,  33.9660,2,   -999.0,5,  3.8764,     63.9,2,    94.08,2,    40.39,2,     0.00,2,     2.83,2, -999.000,9,-999.000,  -999.0,-999.000
    31WTMARAII,   P16,    76,  1,      8,      8,2,19840528,0858, 49.3283,-151.9900, 4997,    396.6,   3.8054,  34.0609,2,  34.0650,2,   -999.0,5,  3.7782,     49.1,2,   105.02,2,    41.46,2,     0.00,2,     2.90,2, -999.000,9,-999.000,  -999.0,-999.000
    31WTMARAII,   P16,    76,  1,      9,      9,2,19840528,0858, 49.3283,-151.9900, 4997,    502.7,   3.6175,  34.1380,2,  34.1410,2,   -999.0,5,  3.5832,     36.1,2,   115.87,2,    42.44,2,     0.01,2,     2.95,2, -999.000,9,-999.000,  -999.0,-999.000
    31WTMARAII,   P16,    76,  1,     10,     10,2,19840528,0858, 49.3283,-151.9900, 4997,    599.3,   3.4745,  34.2020,2,  34.2020,2,   -999.0,5,  3.4338,     32.6,2,   123.49,2,    42.53,2,     0.01,2,     2.97,2, -999.000,9,-999.000,  -999.0,-999.000
    31WTMARAII,   P16,    76,  1,     11,     11,2,19840528,0858, 49.3283,-151.9900, 4997,    701.1,   3.2735,  34.2664,2,  34.2690,2,   -999.0,5,  3.2263,     29.1,2,   132.58,2,    42.92,2,     0.02,2,     2.97,2, -999.000,9,-999.000,  -999.0,-999.000
    31WTMARAII,   P16,    76,  1,     12,     12,2,19840528,0858, 49.3283,-151.9900, 4997,    797.2,   3.1109,  34.3096,2,  34.3110,2,   -999.0,5,  3.0576,     27.8,2,   139.91,2,    43.21,2,     0.00,2,     3.00,2, -999.000,9,-999.000,  -999.0,-999.000
    31WTMARAII,   P16,    76,  1,     13,     13,2,19840528,0858, 49.3283,-151.9900, 4997,    900.3,   2.9776,  34.3504,2,  34.3550,2,   -999.0,5,  2.9175,     24.8,2,   144.40,2,    43.51,2,     0.00,2,     3.04,2, -999.000,9,-999.000,  -999.0,-999.000
    31WTMARAII,   P16,    76,  1,     14,     14,2,19840528,0858, 49.3283,-151.9900, 4997,   1008.5,   2.7894,  34.3970,2,  34.4020,2,   -999.0,5,  2.7227,     18.7,2,   152.61,2,    44.09,2,     0.00,2,     3.07,2, -999.000,9,-999.000,  -999.0,-999.000
    31WTMARAII,   P16,    76,  1,     15,     15,2,19840528,0858, 49.3283,-151.9900, 4997,   1254.9,   2.4902,  34.4636,2,  34.4660,2,   -999.0,5,  2.4076,     19.1,2,   161.79,2,    44.38,2,     0.00,2,     3.07,2, -999.000,9,   2.488,  1252.0,-999.000
    31WTMARAII,   P16,    76,  1,     16,     16,2,19840528,0858, 49.3283,-151.9900, 4997,   1523.2,   2.2576,  34.5141,2,  34.5170,2,   -999.0,5,  2.1566,     27.4,2,   167.35,2,    44.09,2,     0.00,2,     3.04,2, -999.000,9,-999.000,  -999.0,-999.000
    31WTMARAII,   P16,    76,  1,     17,     17,2,19840528,0858, 49.3283,-151.9900, 4997,   1763.7,   2.0958,  34.5499,2,  34.5540,2,   -999.0,5,  1.9777,     38.2,2,   171.36,2,    43.50,2,     0.00,2,     2.99,2, -999.000,9,-999.000,  -999.0,-999.000
    31WTMARAII,   P16,    76,  1,     18,     18,2,19840528,0858, 49.3283,-151.9900, 4997,   2044.6,   1.9181,  34.5870,2,  34.5890,2,   -999.0,5,  1.7793,     54.8,2,   176.63,2,    42.52,2,     0.00,2,     2.92,2, -999.000,9,-999.000,  -999.0,-999.000
    31WTMARAII,   P16,    76,  1,     19,     19,2,19840528,0858, 49.3283,-151.9900, 4997,   2546.1,   1.6924,  34.6311,2,  34.6330,2,   -999.0,5,  1.5138,     88.2,2,   177.90,2,    40.56,2,     0.00,2,     2.79,2, -999.000,9,   1.695,  2550.0,-999.000
    31WTMARAII,   P16,    76,  1,     20,     20,2,19840528,0858, 49.3283,-151.9900, 4997,   3052.9,   1.5630,  34.6562,2,  34.6590,2,   -999.0,5,  1.3398,    114.3,2,   174.77,2,    38.80,2,     0.00,2,     2.65,2, -999.000,9,-999.000,  -999.0,-999.000
    31WTMARAII,   P16,    76,  1,     21,     21,2,19840528,0858, 49.3283,-151.9900, 4997,   3556.9,   1.4927,  34.6729,2,  34.6740,2,   -999.0,5,  1.2209,    133.4,2,   171.44,2,    37.53,2,     0.00,2,     2.55,2, -999.000,9,-999.000,  -999.0,-999.000
    31WTMARAII,   P16,    76,  1,     22,     22,2,19840528,0858, 49.3283,-151.9900, 4997,   4095.1,   1.4920,  34.6812,2,  34.6820,2,   -999.0,5,  1.1629,    141.7,2,   172.22,2,    37.04,2,     0.00,2,  -999.00,9, -999.000,9,-999.000,  -999.0,-999.000
    31WTMARAII,   P16,    76,  1,     23,     23,2,19840528,0858, 49.3283,-151.9900, 4997,   4603.0,   1.5305,  34.6848,2,  34.6850,2,   -999.0,5,  1.1426,    144.3,2,   174.18,2,    36.85,2,     0.00,2,  -999.00,9, -999.000,9,   1.530,  4606.0,-999.000
    31WTMARAII,   P16,    76,  1,     24,     24,2,19840528,0858, 49.3283,-151.9900, 4997,   5127.6,   1.5890,  34.6869,2,  34.6860,2,   -999.0,5,  1.1361,    146.0,2,   175.45,2,    36.75,2,     0.00,2,     2.50,2, -999.000,9,-999.000,  -999.0,-999.000
    31WTMARAII,   P16,    77,  1,      7,      7,2,19840528,1519, 49.7967,-152.0183, 4901,      2.1,   6.3630,  32.6678,2,  32.6700,2,   -999.0,5,  6.3628,    322.2,2,    24.18,2,    13.70,2,     0.16,2,     1.32,2,    3.720,2,   6.365,  -999.0,   0.120
    31WTMARAII,   P16,    77,  1,      8,      8,2,19840528,1519, 49.7967,-152.0183, 4901,     28.2,   5.5262,  32.6668,2,  32.6680,2,   -999.0,5,  5.5240,    325.2,2,    24.28,2,    13.90,2,     0.15,2,     1.33,2, -999.000,9,-999.000,  -999.0,-999.000
    31WTMARAII,   P16,    77,  1,      9,      9,2,19840528,1519, 49.7967,-152.0183, 4901,     57.6,   4.7972,  32.6786,2,  32.6810,2,   -999.0,5,  4.7931,    318.7,2,    25.65,2,    15.17,2,     0.12,2,     1.40,2, -999.000,9,-999.000,  -999.0,-999.000
    31WTMARAII,   P16,    77,  1,     10,     10,2,19840528,1519, 49.7967,-152.0183, 4901,    108.5,   4.0669,  33.3211,2,  33.2980,2,   -999.0,5,  4.0596,    229.3,2,    45.79,2,    26.32,2,     0.05,2,     1.99,2,    2.740,2,-999.000,  -999.0,   0.100
    31WTMARAII,   P16,    77,  1,     11,     11,2,19840528,1519, 49.7967,-152.0183, 4901,    159.1,   3.6964,  33.7182,2,  33.7200,2,   -999.0,5,  3.6860,    130.9,2,    69.84,2,    36.09,2,     0.00,2,     2.54,2,    2.550,2,-999.000,  -999.0,   0.100
    31WTMARAII,   P16,    77,  1,     12,     12,2,19840528,1519, 49.7967,-152.0183, 4901,    207.4,   3.6632,  33.8154,2,  33.8170,2,   -999.0,5,  3.6496,     88.7,2,    82.55,2,    39.32,2,     0.00,2,     2.75,2,    2.465,2,-999.000,  -999.0,   0.081
    31WTMARAII,   P16,    77,  1,     13,     13,2,19840528,1519, 49.7967,-152.0183, 4901,    252.6,   3.7246,  33.9024,2,  33.9020,2,   -999.0,5,  3.7077,     65.2,2,    91.15,2,    41.08,2,     0.00,2,     2.87,2,    2.050,2,-999.000,  -999.0,   0.081
    31WTMARAII,   P16,    77,  1,     14,     14,2,19840528,1519, 49.7967,-152.0183, 4901,    305.9,   3.7326,  33.9660,2,  33.9660,2,   -999.0,5,  3.7120,     51.7,2,    97.11,2,    41.95,2,     0.00,2,     2.92,2,    1.750,2,-999.000,  -999.0,   0.090
    31WTMARAII,   P16,    77,  1,     15,     15,2,19840528,1519, 49.7967,-152.0183, 4901,    407.6,   3.6685,  34.0964,2,  34.0950,2,   -999.0,5,  3.6409,     37.8,2,   110.50,2,    42.44,2,     0.00,2,     2.96,2,    0.950,2,   3.663,   408.0,   0.080
    31WTMARAII,   P16,    77,  1,     16,     16,2,19840528,1519, 49.7967,-152.0183, 4901,    508.8,   3.5384,  34.1701,2,  34.1710,2,   -999.0,5,  3.5040,     33.5,2,   118.80,2,    42.63,2,     0.00,2,     2.98,2,    0.520,2,-999.000,  -999.0,   0.060
    31WTMARAII,   P16,    77,  1,     17,     17,2,19840528,1519, 49.7967,-152.0183, 4901,    608.1,   3.3543,  34.2302,2,  34.2310,2,   -999.0,5,  3.3135,     28.3,2,   128.67,2,    42.83,2,     0.00,2,     2.98,2,    0.300,2,-999.000,  -999.0,   0.060
    31WTMARAII,   P16,    77,  1,     18,     18,2,19840528,1519, 49.7967,-152.0183, 4901,    705.9,   3.1964,  34.2904,2,  34.2900,2,   -999.0,5,  3.1493,     30.0,2,   134.14,2,    43.02,2,     0.00,2,     3.00,2,    0.209,2,-999.000,  -999.0,   0.044
    31WTMARAII,   P16,    77,  1,     19,     19,2,19840528,1519, 49.7967,-152.0183, 4901,    807.4,   3.0362,  34.3358,2,  34.3350,2,   -999.0,5,  2.9826,     26.5,2,   139.61,2,    43.12,2,     0.00,2,     3.02,2,    0.222,2,   3.041,   808.0,   0.044
    31WTMARAII,   P16,    77,  1,     20,     20,2,19840528,1519, 49.7967,-152.0183, 4901,    905.3,   2.8943,  34.3725,2,  34.3730,2,   -999.0,5,  2.8345,     23.9,2,   146.35,2,    43.51,2,     0.00,2,     3.04,2,    0.073,2,-999.000,  -999.0,   0.050
    31WTMARAII,   P16,    77,  1,     21,     21,2,19840528,1519, 49.7967,-152.0183, 4901,   1034.7,   2.7027,  34.4180,2,  34.4180,2,   -999.0,5,  2.6347,     20.9,2,   153.48,2,    43.89,2,     0.00,2,     3.06,2,    0.197,2,-999.000,  -999.0,   0.052
    31WTMARAII,   P16,    77,  1,     22,     22,2,19840528,1519, 49.7967,-152.0183, 4901,   1258.3,   2.4509,  34.4739,2,  34.4730,2,   -999.0,5,  2.3684,     22.2,2,   161.98,2,    43.99,2,     0.00,2,  -999.00,9, -999.000,9,-999.000,  -999.0,-999.000
    31WTMARAII,   P16,    77,  1,     23,     23,2,19840528,1519, 49.7967,-152.0183, 4901,   1540.3,   2.2287,  34.5232,2,  34.5230,2,   -999.0,5,  2.1268,     32.2,2,   168.82,2,    43.60,2,     0.00,2,  -999.00,9, -999.000,9,   2.229,  1540.0,-999.000
    31WTMARAII,   P16,    78,  1,      1,      1,2,19840528,2122, 50.2517,-151.9833, 5108,      1.0,   6.9870,-999.0000,9,  32.6830,2,   -999.0,5,-999.0000,   -999.0,9,    25.84,2,    14.00,2,     0.18,2,     1.32,2, -999.000,9,   6.985,     1.0,-999.000
    31WTMARAII,   P16,    78,  1,      2,      2,2,19840528,2122, 50.2517,-151.9833, 5108,     31.6,   5.4368,  32.6755,2,  32.6820,2,   -999.0,5,  5.4344,    327.0,2,    26.23,2,    14.29,2,     0.15,2,     1.34,2, -999.000,9,-999.000,  -999.0,-999.000
    31WTMARAII,   P16,    78,  1,      3,      3,2,19840528,2122, 50.2517,-151.9833, 5108,     61.6,   4.7552,  32.6880,2,  32.6950,2,   -999.0,5,  4.7508,    319.5,2,    26.43,2,    15.27,2,     0.13,2,     1.39,2, -999.000,9,-999.000,  -999.0,-999.000
    31WTMARAII,   P16,    78,  1,      4,      4,2,19840528,2122, 50.2517,-151.9833, 5108,    102.5,   4.0322,  33.2274,2,  33.2340,2,   -999.0,5,  4.0254,    221.0,2,    47.36,2,    26.71,2,     0.08,2,     2.03,2, -999.000,9,-999.000,  -999.0,-999.000
    31WTMARAII,   P16,    78,  1,      5,      5,2,19840528,2122, 50.2517,-151.9833, 5108,    150.6,   3.6103,  33.6745,2,  33.6770,2,   -999.0,5,  3.6006,    135.3,2,    70.13,2,    35.90,2,     0.02,2,     2.52,2, -999.000,9,-999.000,  -999.0,-999.000
    31WTMARAII,   P16,    78,  1,      6,      6,2,19840528,2122, 50.2517,-151.9833, 5108,    201.1,   3.5885,  33.7786,2,  33.7830,2,   -999.0,5,  3.5755,     93.9,2,    81.47,2,    39.22,2,     0.01,2,     2.76,2, -999.000,9,-999.000,  -999.0,-999.000
    31WTMARAII,   P16,    78,  1,      7,      7,2,19840528,2122, 50.2517,-151.9833, 5108,    302.7,   3.6897,  33.9506,2,  33.9560,2,   -999.0,5,  3.6695,     44.4,2,    98.77,2,    42.44,2,     0.01,2,     2.93,2, -999.000,9,-999.000,  -999.0,-999.000
    31WTMARAII,   P16,    78,  1,      8,      8,2,19840528,2122, 50.2517,-151.9833, 5108,    394.9,   3.6317,  34.0655,2,  34.0700,2,   -999.0,5,  3.6051,     32.6,2,   111.28,2,    42.93,2,     0.01,2,     3.00,2, -999.000,9,-999.000,  -999.0,-999.000
    31WTMARAII,   P16,    78,  1,      9,      9,2,19840528,2122, 50.2517,-151.9833, 5108,    495.6,   3.5119,  34.1510,2,  34.1560,2,   -999.0,5,  3.4785,     29.1,2,   121.44,2,    42.83,2,     0.01,2,     2.99,2, -999.000,9,-999.000,  -999.0,-999.000
    31WTMARAII,   P16,    78,  1,     10,     10,2,19840528,2122, 50.2517,-151.9833, 5108,    604.8,   3.3031,  34.2318,2,  34.2370,2,   -999.0,5,  3.2628,     27.4,2,   131.70,2,    42.83,2,     0.00,2,     2.99,2, -999.000,9,-999.000,  -999.0,-999.000
    31WTMARAII,   P16,    78,  1,     11,     11,2,19840528,2122, 50.2517,-151.9833, 5108,    694.9,   3.1894,  34.2797,2,  34.2840,2,   -999.0,5,  3.1431,     28.7,2,   136.59,2,    42.82,2,     0.00,2,     2.99,2, -999.000,9,-999.000,  -999.0,-999.000
    31WTMARAII,   P16,    78,  1,     12,     12,2,19840528,2122, 50.2517,-151.9833, 5108,    809.2,   3.0060,  34.3387,2,  34.3430,2,   -999.0,5,  2.9525,     25.2,2,   144.30,2,    43.11,2,     0.00,2,     3.00,2, -999.000,9,-999.000,  -999.0,-999.000
    31WTMARAII,   P16,    78,  1,     13,     13,2,19840528,2122, 50.2517,-151.9833, 5108,    909.0,   2.8684,  34.3731,2,  34.3780,2,   -999.0,5,  2.8085,     24.3,2,   150.85,2,    43.41,2,     0.00,2,     3.04,2, -999.000,9,-999.000,  -999.0,-999.000
    31WTMARAII,   P16,    78,  1,     14,     14,2,19840528,2122, 50.2517,-151.9833, 5108,   1017.0,   2.7319,  34.4029,2,  34.4080,2,   -999.0,5,  2.6650,     21.7,2,   156.22,2,    43.60,2,     0.00,2,     3.05,2, -999.000,9,-999.000,  -999.0,-999.000
    31WTMARAII,   P16,    78,  1,     15,     15,2,19840528,2122, 50.2517,-151.9833, 5108,   1265.5,   2.4514,  34.4673,2,  34.4720,2,   -999.0,5,  2.3683,     22.2,2,   167.16,2,    43.89,2,     0.00,2,     3.05,2, -999.000,9,   2.448,  1264.0,-999.000
    31WTMARAII,   P16,    78,  1,     16,     16,2,19840528,2122, 50.2517,-151.9833, 5108,   1516.5,   2.2266,  34.5164,2,  34.5230,2,   -999.0,5,  2.1266,     31.3,2,   174.39,2,    43.50,2,     0.00,2,     3.01,2, -999.000,9,-999.000,  -999.0,-999.000
    31WTMARAII,   P16,    78,  1,     17,     17,2,19840528,2122, 50.2517,-151.9833, 5108,   1774.4,   2.0708,  34.5553,2,  34.5580,2,   -999.0,5,  1.9521,     40.4,2,   177.91,2,    43.11,2,     0.00,2,     2.97,2, -999.000,9,-999.000,  -999.0,-999.000
    31WTMARAII,   P16,    78,  1,     18,     18,2,19840528,2122, 50.2517,-151.9833, 5108,   1996.6,   1.9457,  34.5820,2,  34.5850,2,   -999.0,5,  1.8105,     51.7,2,   182.40,2,    42.52,2,     0.00,2,     2.93,2, -999.000,9,-999.000,  -999.0,-999.000
    31WTMARAII,   P16,    78,  1,     19,     19,2,19840528,2122, 50.2517,-151.9833, 5108,   2531.8,   1.7279,  34.6258,2,  34.6280,2,   -999.0,5,  1.5499,     82.1,2,   181.32,2,    40.56,2,     0.00,2,     2.82,2, -999.000,9,   1.729,  2547.0,-999.000
    31WTMARAII,   P16,    78,  1,     20,     20,2,19840528,2122, 50.2517,-151.9833, 5108,   3030.4,   1.5892,  34.6526,2,  34.6550,2,   -999.0,5,  1.3676,    109.1,2,   177.01,2,    38.90,2,     0.00,2,     2.69,2, -999.000,9,-999.000,  -999.0,-999.000
    31WTMARAII,   P16,    78,  1,     21,     21,2,19840528,2122, 50.2517,-151.9833, 5108,   3540.3,   1.5071,  34.6705,2,  34.6730,2,   -999.0,5,  1.2367,    129.5,2,   171.54,2,    37.53,2,     0.00,2,     2.59,2, -999.000,9,-999.000,  -999.0,-999.000
    31WTMARAII,   P16,    78,  1,     22,     22,2,19840528,2122, 50.2517,-151.9833, 5108,   4031.9,   1.4970,  34.6793,2,  34.6810,2,   -999.0,5,  1.1748,    139.0,2,   170.66,2,    36.95,2,     0.00,2,  -999.00,9, -999.000,9,-999.000,  -999.0,-999.000
    31WTMARAII,   P16,    78,  1,     23,     23,2,19840528,2122, 50.2517,-151.9833, 5108,   4598.2,   1.5330,  34.6842,2,  34.6850,2,   -999.0,5,  1.1456,    143.4,2,   174.18,2,    36.95,2,     0.00,2,  -999.00,9, -999.000,9,   1.534,  4599.0,-999.000
    31WTMARAII,   P16,    78,  1,     24,     24,2,19840528,2122, 50.2517,-151.9833, 5108,   5197.2,   1.6001,  34.6869,2,  34.6880,2,   -999.0,5,  1.1382,    145.6,2,   178.18,2,    36.75,2,     0.00,2,     2.51,2, -999.000,9,-999.000,  -999.0,-999.000