BOTTLE,20220816CCHSIOAMB
EXPOCODE,SECT_ID,STNNBR,CASTNO,SAMPNO,BTLNBR,BTLNBR_FLAG_W,DATE,TIME,LATITUDE,LONGITUDE,DEPTH,CTDPRS,CTDTMP,CTDSAL,CTDSAL_FLAG_W,SALNTY,SALNTY_FLAG_W,CTDOXY,CTDOXY_FLAG_W,THETA,OXYGEN,OXYGEN_FLAG_W,SILCAT,SILCAT_FLAG_W,NITRAT,NITRAT_FLAG_W,NITRIT,NITRIT_FLAG_W,PHSPHT,PHSPHT_FLAG_W,TRITUM,TRITUM_FLAG_W,REVTMP,REVPRS,TRITER
,,,,,,,,,,,,DBAR,ITS-90,PSS-78,,PSS-78,,UMOL/KG,,DEG C,UMOL/KG,,UMOL/KG,,UMOL/KG,,UMOL/KG,,UMOL/KG,,TU,,,DBAR,TU
    31WTMARAII,   P16,    88,  1,      1,      1,2,19840531,1528, 54.3850,-151.9633, 4176,      1.0,   7.1740,-999.0000,9,  32.7550,2,   -999.0,5,-999.0000,   -999.0,9,    28.58,2,    15.56,2,     0.21,2,     1.39,2, -999.000,9,   7.172,     1.0,-999.000
    31WTMARAII,   P16,    88,  1,      2,      2,2,19840531,1528, 54.3850,-151.9633, 4176,     48.8,   4.9714,  32.7846,2,  32.7860,2,   -999.0,5,  4.9679,    321.3,2,    29.17,2,    16.74,2,     0.16,2,     1.48,2, -999.000,9,-999.000,  -999.0,-999.000
    31WTMARAII,   P16,    88,  1,      3,      3,2,19840531,1528, 54.3850,-151.9633, 4176,     72.1,   4.7467,  32.8140,2,  32.8160,2,   -999.0,5,  4.7415,    317.8,2,    31.22,2,    17.91,2,     0.18,2,     1.55,2, -999.000,9,-999.000,  -999.0,-999.000
    31WTMARAII,   P16,    88,  1,      4,      4,2,19840531,1528, 54.3850,-151.9633, 4176,    102.6,   4.1884,  33.3334,2,  33.3370,2,   -999.0,5,  4.1814,    178.8,2,    54.10,2,    30.82,2,     0.06,2,     2.25,2, -999.000,9,-999.000,  -999.0,-999.000
    31WTMARAII,   P16,    88,  1,      5,      5,2,19840531,1528, 54.3850,-151.9633, 4176,    151.7,   3.9036,  33.8064,2,  33.8090,2,   -999.0,5,  3.8934,     66.5,2,    80.40,2,    41.27,2,     0.01,2,     2.86,2, -999.000,9,-999.000,  -999.0,-999.000
    31WTMARAII,   P16,    88,  1,      6,      6,2,19840531,1528, 54.3850,-151.9633, 4176,    196.2,   3.8132,  33.8856,2,  33.8910,2,   -999.0,5,  3.8001,     41.3,2,    88.61,2,    43.23,2,     0.01,2,     2.99,2, -999.000,9,-999.000,  -999.0,-999.000
    31WTMARAII,   P16,    88,  1,      7,      7,2,19840531,1528, 54.3850,-151.9633, 4176,    249.8,   3.7774,  33.9615,2,  33.9620,2,   -999.0,5,  3.7606,     26.5,2,    97.21,2,    44.20,2,     0.01,2,     3.05,2, -999.000,9,-999.000,  -999.0,-999.000
    31WTMARAII,   P16,    88,  1,      8,      8,2,19840531,1528, 54.3850,-151.9633, 4176,    301.8,   3.7406,  34.0144,2,  34.0140,2,   -999.0,5,  3.7203,     24.4,2,   100.53,2,    44.20,2,     0.01,2,     3.06,2, -999.000,9,-999.000,  -999.0,-999.000
    31WTMARAII,   P16,    88,  1,      9,      9,2,19840531,1528, 54.3850,-151.9633, 4176,    402.1,   3.6223,  34.1018,2,  34.1020,2,   -999.0,5,  3.5952,     22.2,2,   113.04,2,    44.00,2,     0.01,2,     3.03,2, -999.000,9,-999.000,  -999.0,-999.000
    31WTMARAII,   P16,    88,  1,     10,     10,2,19840531,1528, 54.3850,-151.9633, 4176,    500.8,   3.4724,  34.1801,2,  34.1800,2,   -999.0,5,  3.4388,     20.0,2,   122.32,2,    43.80,2,     0.00,2,     3.02,2, -999.000,9,-999.000,  -999.0,-999.000
    31WTMARAII,   P16,    88,  1,     11,     11,2,19840531,1528, 54.3850,-151.9633, 4176,    598.8,   3.3191,  34.2396,2,  34.2410,2,   -999.0,5,  3.2791,     20.0,2,   129.26,2,    43.90,2,     0.00,2,     3.02,2, -999.000,9,-999.000,  -999.0,-999.000
    31WTMARAII,   P16,    88,  1,     12,     12,2,19840531,1528, 54.3850,-151.9633, 4176,    695.6,   3.1881,  34.2835,2,  34.2830,2,   -999.0,5,  3.1418,     18.7,2,   136.88,2,    43.90,2,     0.00,2,     3.01,2, -999.000,9,-999.000,  -999.0,-999.000
    31WTMARAII,   P16,    88,  1,     13,     13,2,19840531,1528, 54.3850,-151.9633, 4176,    790.3,   3.0519,  34.3202,2,  34.3220,2,   -999.0,5,  2.9995,     17.8,2,   140.00,2,    43.80,2,     0.00,2,     3.04,2, -999.000,9,-999.000,  -999.0,-999.000
    31WTMARAII,   P16,    88,  1,     14,     14,2,19840531,1528, 54.3850,-151.9633, 4176,    890.3,   2.8974,  34.3608,2,  34.3630,2,   -999.0,5,  2.8386,     19.6,2,   147.04,2,    43.70,2,     0.00,2,     3.04,2, -999.000,9,-999.000,  -999.0,-999.000
    31WTMARAII,   P16,    88,  1,     15,     15,2,19840531,1528, 54.3850,-151.9633, 4176,   1023.0,   2.6994,  34.4079,2,  34.4090,2,   -999.0,5,  2.6324,     20.4,2,   150.16,2,    43.80,2,     0.00,2,     3.03,2, -999.000,9,   2.698,  1026.0,-999.000
    31WTMARAII,   P16,    88,  1,     16,     16,2,19840531,1528, 54.3850,-151.9633, 4176,   1250.0,   2.4533,  34.4615,2,  34.4660,2,   -999.0,5,  2.3714,     25.2,2,   163.06,2,    43.60,2,     0.00,2,     3.01,2, -999.000,9,-999.000,  -999.0,-999.000
    31WTMARAII,   P16,    88,  1,     17,     17,2,19840531,1528, 54.3850,-151.9633, 4176,   1518.1,   2.1942,  34.5225,2,  34.5250,2,   -999.0,5,  2.0944,     37.4,2,   170.29,2,    43.21,2,     0.00,2,     2.95,2, -999.000,9,-999.000,  -999.0,-999.000
    31WTMARAII,   P16,    88,  1,     18,     18,2,19840531,1528, 54.3850,-151.9633, 4176,   1751.7,   2.0451,  34.5583,2,  34.5600,2,   -999.0,5,  1.9286,     47.4,2,   171.16,2,    42.42,2,     0.00,2,     2.92,2, -999.000,9,-999.000,  -999.0,-999.000
    31WTMARAII,   P16,    88,  1,     19,     19,2,19840531,1528, 54.3850,-151.9633, 4176,   2038.0,   1.8959,  34.5905,2,  34.5920,2,   -999.0,5,  1.7580,     62.6,2,   174.29,2,    41.64,2,     0.00,2,     2.87,2, -999.000,9,   1.903,  2040.0,-999.000
    31WTMARAII,   P16,    88,  1,     20,     20,2,19840531,1528, 54.3850,-151.9633, 4176,   2530.1,   1.6865,  34.6311,2,  34.6340,2,   -999.0,5,  1.5095,     90.8,2,   173.50,2,    40.08,2,     0.00,2,     2.75,2, -999.000,9,-999.000,  -999.0,-999.000
    31WTMARAII,   P16,    88,  1,     21,     21,2,19840531,1528, 54.3850,-151.9633, 4176,   3029.7,   1.5665,  34.6555,2,  34.6570,2,   -999.0,5,  1.3455,    114.3,2,   173.79,2,    38.61,2,     0.00,2,     2.64,2, -999.000,9,-999.000,  -999.0,-999.000
    31WTMARAII,   P16,    88,  1,     25,     25,2,19840531,1528, 54.3850,-151.9633, 4176,   3521.6,   1.4998,  34.6714,2,  34.6730,2,   -999.0,5,  1.2315,    131.2,2,   170.56,2,    37.44,2,     0.00,2,     2.56,2, -999.000,9,-999.000,  -999.0,-999.000
    31WTMARAII,   P16,    88,  1,     23,     23,2,19840531,1528, 54.3850,-151.9633, 4176,   4001.3,   1.4978,  34.6805,2,  34.6800,2,   -999.0,5,  1.1788,    139.5,2,   169.68,2,    36.85,2,     0.00,2,     2.52,2, -999.000,9,   1.502,  4001.0,-999.000
    31WTMARAII,   P16,    88,  1,     24,     24,2,19840531,1528, 54.3850,-151.9633, 4176,   4242.1,   1.5037,  34.6826,2,  34.6830,2,   -999.0,5,  1.1579,    142.5,2,   171.44,2,    36.75,2,     0.00,2,     2.51,2, -999.000,9,-999.000,  -999.0,-999.000
    31WTMARAII,   P16,    89,  1,      1,      1,2,19840531,2216, 54.6700,-152.0883, 4333,      1.0,   7.6960,-999.0000,9,  32.7010,2,   -999.0,5,-999.0000,   -999.0,9,    25.16,2,    14.10,2,     0.20,2,     1.35,2, -999.000,9,   7.694,     1.0,-999.000
    31WTMARAII,   P16,    89,  1,      2,      2,2,19840531,2216, 54.6700,-152.0883, 4333,     11.1,   7.4543,  32.6998,2,  32.7050,2,   -999.0,5,  7.4532,    311.4,2,    25.45,2,    14.19,2,     0.20,2,     1.35,2, -999.000,9,-999.000,  -999.0,-999.000
    31WTMARAII,   P16,    89,  1,      3,      3,2,19840531,2216, 54.6700,-152.0883, 4333,     30.9,   5.7317,  32.7557,2,  32.7590,2,   -999.0,5,  5.7292,    329.1,2,    28.09,2,    15.66,2,     0.20,2,     1.43,2, -999.000,9,-999.000,  -999.0,-999.000
    31WTMARAII,   P16,    89,  1,      4,      4,2,19840531,2216, 54.6700,-152.0883, 4333,     57.5,   5.0683,  32.7607,2,  32.7650,2,   -999.0,5,  5.0641,    322.1,2,    28.97,2,    16.54,2,     0.18,2,     1.48,2, -999.000,9,-999.000,  -999.0,-999.000
    31WTMARAII,   P16,    89,  1,      5,      5,2,19840531,2216, 54.6700,-152.0883, 4333,     88.9,   4.5511,  32.8961,2,  32.8870,2,   -999.0,5,  4.5448,    285.1,2,    34.84,2,    19.97,2,     0.22,2,     1.70,2, -999.000,9,-999.000,  -999.0,-999.000
    31WTMARAII,   P16,    89,  1,      6,      6,9,19840531,2216, 54.6700,-152.0883, 4333,    156.5,   3.8988,  33.7983,2,-999.0000,9,   -999.0,5,  3.8883,   -999.0,9,  -999.00,9,  -999.00,9,  -999.00,9,  -999.00,9, -999.000,9,-999.000,  -999.0,-999.000
    31WTMARAII,   P16,    89,  1,      7,      7,9,19840531,2216, 54.6700,-152.0883, 4333,    196.9,   3.7726,  33.8750,2,-999.0000,9,   -999.0,5,  3.7594,   -999.0,9,  -999.00,9,  -999.00,9,  -999.00,9,  -999.00,9, -999.000,9,-999.000,  -999.0,-999.000
    31WTMARAII,   P16,    89,  1,      8,      8,2,19840531,2216, 54.6700,-152.0883, 4333,    300.7,   3.7485,  34.0052,2,  34.0070,2,   -999.0,5,  3.7282,     24.4,2,   100.43,2,    44.01,2,     0.01,2,     3.07,2, -999.000,9,-999.000,  -999.0,-999.000
    31WTMARAII,   P16,    89,  1,      9,      9,2,19840531,2216, 54.6700,-152.0883, 4333,    397.2,   3.6340,  34.0916,2,  34.0940,2,   -999.0,5,  3.6072,     22.2,2,   111.67,2,    43.81,2,     0.01,2,     3.07,2, -999.000,9,-999.000,  -999.0,-999.000
    31WTMARAII,   P16,    89,  1,     10,     10,2,19840531,2216, 54.6700,-152.0883, 4333,    500.8,   3.4724,  34.1672,2,  34.1700,2,   -999.0,5,  3.4388,     21.3,2,   119.88,2,    43.51,2,     0.00,2,     3.05,2, -999.000,9,-999.000,  -999.0,-999.000
    31WTMARAII,   P16,    89,  1,     11,     11,2,19840531,2216, 54.6700,-152.0883, 4333,    604.2,   3.3213,  34.2324,2,  34.2340,2,   -999.0,5,  3.2809,     21.3,2,   128.18,2,    43.22,2,     0.00,2,     3.03,2, -999.000,9,-999.000,  -999.0,-999.000
    31WTMARAII,   P16,    89,  1,     12,     12,2,19840531,2216, 54.6700,-152.0883, 4333,    704.5,   3.1660,  34.2832,2,  34.2860,2,   -999.0,5,  3.1192,     20.9,2,   134.92,2,    43.61,2,     0.00,2,     3.04,2, -999.000,9,-999.000,  -999.0,-999.000
    31WTMARAII,   P16,    89,  1,     13,     13,2,19840531,2216, 54.6700,-152.0883, 4333,    796.7,   3.0205,  34.3258,2,  34.3290,2,   -999.0,5,  2.9678,     19.1,2,   140.00,2,    43.70,2,     0.00,2,     3.08,2, -999.000,9,-999.000,  -999.0,-999.000
    31WTMARAII,   P16,    89,  1,     14,     14,2,19840531,2216, 54.6700,-152.0883, 4333,    893.7,   2.9027,  34.3590,2,  34.3630,2,   -999.0,5,  2.8437,     17.4,2,   144.40,2,    43.80,2,     0.00,2,     3.08,2, -999.000,9,-999.000,  -999.0,-999.000
    31WTMARAII,   P16,    89,  1,     15,     15,2,19840531,2216, 54.6700,-152.0883, 4333,   1005.4,   2.7527,  34.3950,2,  34.3980,2,   -999.0,5,  2.6866,     19.6,2,   148.31,2,    43.70,2,     0.00,2,     3.07,2, -999.000,9,   2.748,  1004.0,-999.000
    31WTMARAII,   P16,    89,  1,     16,     16,2,19840531,2216, 54.6700,-152.0883, 4333,   1241.8,   2.4576,  34.4623,2,  34.4660,2,   -999.0,5,  2.3763,     25.6,2,   160.13,2,    43.60,2,     0.00,2,     3.04,2, -999.000,9,-999.000,  -999.0,-999.000
    31WTMARAII,   P16,    89,  1,     17,     17,2,19840531,2216, 54.6700,-152.0883, 4333,   1507.4,   2.2331,  34.5147,2,  34.5180,2,   -999.0,5,  2.1337,     35.6,2,   165.40,2,    43.11,2,     0.00,2,     3.00,2, -999.000,9,-999.000,  -999.0,-999.000
    31WTMARAII,   P16,    89,  1,     18,     18,2,19840531,2216, 54.6700,-152.0883, 4333,   1769.1,   2.0275,  34.5610,2,  34.5640,2,   -999.0,5,  1.9099,   -999.0,9,   168.13,2,    42.42,2,     0.00,2,     2.94,2, -999.000,9,-999.000,  -999.0,-999.000
    31WTMARAII,   P16,    89,  1,     19,     19,2,19840531,2216, 54.6700,-152.0883, 4333,   2011.2,   1.8883,  34.5903,2,  34.5940,2,   -999.0,5,  1.7528,     62.6,2,   170.47,2,    41.64,2,     0.00,2,     2.89,2, -999.000,9,   1.889,  2013.0,-999.000
    31WTMARAII,   P16,    89,  1,     20,     20,2,19840531,2216, 54.6700,-152.0883, 4333,   2502.5,   1.6930,  34.6301,2,  34.6330,2,   -999.0,5,  1.5184,     89.5,2,   172.33,2,    40.08,2,     0.00,2,     2.78,2, -999.000,9,-999.000,  -999.0,-999.000
    31WTMARAII,   P16,    89,  1,     21,     21,2,19840531,2216, 54.6700,-152.0883, 4333,   3028.6,   1.5770,  34.6543,2,  34.6580,2,   -999.0,5,  1.3558,    112.1,2,   166.95,2,    38.51,2,     0.00,2,     2.68,2, -999.000,9,-999.000,  -999.0,-999.000
    31WTMARAII,   P16,    89,  1,     25,     25,2,19840531,2216, 54.6700,-152.0883, 4333,   3539.4,   1.5113,  34.6708,2,  34.6720,2,   -999.0,5,  1.2409,    129.5,2,   167.53,2,    37.53,2,     0.00,2,     2.60,2, -999.000,9,-999.000,  -999.0,-999.000
    31WTMARAII,   P16,    89,  1,     23,     23,2,19840531,2216, 54.6700,-152.0883, 4333,   4036.5,   1.5080,  34.6793,2,  34.6790,2,   -999.0,5,  1.1849,    139.5,2,   168.80,2,    36.85,2,     0.00,2,     2.55,2, -999.000,9,   1.510,  4034.0,-999.000
    31WTMARAII,   P16,    89,  1,     24,     24,2,19840531,2216, 54.6700,-152.0883, 4333,   4398.7,   1.5182,  34.6837,2,  34.6840,2,   -999.0,5,  1.1543,    142.5,2,   168.80,2,    36.75,2,     0.00,2,     2.53,2, -999.000,9,-999.000,  -999.0,-999.000
    31WTMARAII,   P16,    90,  1,      1,      1,2,19840601,0518, 54.9567,-152.3983, 4148,      1.0,   8.2440,-999.0000,9,  32.4760,2,   -999.0,5,-999.0000,   -999.0,9,    10.08,2,     3.52,2,     0.06,2,     0.78,2, -999.000,9,   8.242,     1.0,-999.000
    31WTMARAII,   P16,    90,  1,      2,      2,2,19840601,0518, 54.9567,-152.3983, 4148,     11.0,   7.9719,  32.5438,2,  32.5310,2,   -999.0,5,  7.9708,    319.7,2,    14.49,2,     6.09,2,     0.08,2,     0.91,2, -999.000,9,-999.000,  -999.0,-999.000
    31WTMARAII,   P16,    90,  1,      3,      3,2,19840601,0518, 54.9567,-152.3983, 4148,     31.5,   5.9689,  32.6728,2,  32.6710,2,   -999.0,5,  5.9664,    331.8,2,    22.81,2,    11.94,2,     0.16,2,     1.21,2, -999.000,9,-999.000,  -999.0,-999.000
    31WTMARAII,   P16,    90,  1,      4,      4,2,19840601,0518, 54.9567,-152.3983, 4148,     76.6,   4.8742,  32.8011,2,  32.7970,2,   -999.0,5,  4.8686,    296.9,2,    28.78,2,    16.93,2,     0.22,2,     1.53,2, -999.000,9,-999.000,  -999.0,-999.000
    31WTMARAII,   P16,    90,  1,     26,     26,2,19840601,0518, 54.9567,-152.3983, 4148,     97.3,   4.2859,  33.2886,2,  33.2830,2,   -999.0,5,  4.2791,    189.3,2,    51.95,2,    29.35,2,     0.06,2,     2.20,2, -999.000,9,-999.000,  -999.0,-999.000
    31WTMARAII,   P16,    90,  1,     27,     27,2,19840601,0518, 54.9567,-152.3983, 4148,    130.7,   3.9715,  33.6978,2,  33.6920,2,   -999.0,5,  3.9627,     97.9,2,    71.60,2,    38.73,2,     0.01,2,     2.73,2, -999.000,9,-999.000,  -999.0,-999.000
    31WTMARAII,   P16,    90,  1,     28,     28,2,19840601,0518, 54.9567,-152.3983, 4148,    193.7,   3.7613,  33.8698,2,  33.8700,2,   -999.0,5,  3.7484,     50.0,2,    88.51,2,    42.93,2,     0.00,2,     2.96,2, -999.000,9,-999.000,  -999.0,-999.000
    31WTMARAII,   P16,    90,  1,      8,      8,2,19840601,0518, 54.9567,-152.3983, 4148,    263.6,   3.7263,  33.9434,2,  33.9430,2,   -999.0,5,  3.7087,     33.9,2,    97.21,2,    43.81,2,     0.00,2,     3.06,2, -999.000,9,-999.000,  -999.0,-999.000
    31WTMARAII,   P16,    90,  1,      9,      9,2,19840601,0518, 54.9567,-152.3983, 4148,    347.7,   3.6836,  34.0285,2,  34.0270,2,   -999.0,5,  3.6602,     27.4,2,   103.27,2,    44.10,2,     0.00,2,     3.08,2, -999.000,9,-999.000,  -999.0,-999.000
    31WTMARAII,   P16,    90,  1,     10,     10,2,19840601,0518, 54.9567,-152.3983, 4148,    426.8,   3.6046,  34.0999,2,  34.0980,2,   -999.0,5,  3.5758,     24.3,2,   113.82,2,    43.71,2,     0.00,2,     3.09,2, -999.000,9,-999.000,  -999.0,-999.000
    31WTMARAII,   P16,    90,  1,     11,     11,2,19840601,0518, 54.9567,-152.3983, 4148,    603.5,   3.3337,  34.2278,2,  34.2270,2,   -999.0,5,  3.2933,     20.9,2,   126.23,2,    44.00,2,     0.00,2,     3.07,2, -999.000,9,-999.000,  -999.0,-999.000
    31WTMARAII,   P16,    90,  1,     12,     12,2,19840601,0518, 54.9567,-152.3983, 4148,    696.9,   3.2579,  34.2672,2,  34.2660,2,   -999.0,5,  3.2111,     18.7,2,   135.02,2,    44.19,2,     0.00,2,     3.08,2, -999.000,9,-999.000,  -999.0,-999.000
    31WTMARAII,   P16,    90,  1,     13,     13,2,19840601,0518, 54.9567,-152.3983, 4148,    801.9,   3.1028,  34.3204,2,  34.3200,2,   -999.0,5,  3.0492,     15.6,2,   140.88,2,    44.39,2,     0.00,2,     3.11,2, -999.000,9,-999.000,  -999.0,-999.000
    31WTMARAII,   P16,    90,  1,     14,     14,2,19840601,0518, 54.9567,-152.3983, 4148,    897.5,   2.9657,  34.3488,2,  34.3490,2,   -999.0,5,  2.9060,     17.8,2,   145.77,2,    44.29,2,     0.00,2,     3.10,2, -999.000,9,-999.000,  -999.0,-999.000
    31WTMARAII,   P16,    90,  1,     15,     15,2,19840601,0518, 54.9567,-152.3983, 4148,   1017.6,   2.7856,  34.3907,2,  34.3910,2,   -999.0,5,  2.7182,     18.3,2,   150.85,2,    44.38,2,     0.00,2,     3.10,2, -999.000,9,   2.786,  1016.0,-999.000
    31WTMARAII,   P16,    90,  1,     16,     16,2,19840601,0518, 54.9567,-152.3983, 4148,   1250.9,   2.4879,  34.4586,2,  34.4580,2,   -999.0,5,  2.4056,     23.5,2,   161.40,2,    43.99,2,     0.00,2,     3.08,2, -999.000,9,-999.000,  -999.0,-999.000
    31WTMARAII,   P16,    90,  1,     17,     17,2,19840601,0518, 54.9567,-152.3983, 4148,   1553.7,   2.1741,  34.5279,2,  34.5290,2,   -999.0,5,  2.0718,     37.4,2,   170.38,2,    43.50,2,     0.00,2,     3.02,2, -999.000,9,-999.000,  -999.0,-999.000
    31WTMARAII,   P16,    90,  1,     18,     18,2,19840601,0518, 54.9567,-152.3983, 4148,   1763.9,   2.0015,  34.5655,2,  34.5670,2,   -999.0,5,  1.8846,     52.1,2,   172.72,2,    42.81,2,     0.00,2,     2.97,2, -999.000,9,-999.000,  -999.0,-999.000
    31WTMARAII,   P16,    90,  1,     19,     19,2,19840601,0518, 54.9567,-152.3983, 4148,   2028.7,   1.8728,  34.5933,2,  34.5960,2,   -999.0,5,  1.7361,     64.8,2,   173.11,2,    41.93,2,     0.00,2,     2.91,2, -999.000,9,   1.878,  2030.0,-999.000
    31WTMARAII,   P16,    90,  1,     20,     20,2,19840601,0518, 54.9567,-152.3983, 4148,   2508.3,   1.6811,  34.6322,2,  34.6330,2,   -999.0,5,  1.5061,     91.3,2,   172.81,2,    40.37,2,     0.00,2,     2.81,2, -999.000,9,-999.000,  -999.0,-999.000
    31WTMARAII,   P16,    90,  1,     21,     21,2,19840601,0518, 54.9567,-152.3983, 4148,   3007.1,   1.5492,  34.6585,2,  34.6590,2,   -999.0,5,  1.3307,    115.6,2,   171.64,2,    38.71,2,     0.00,2,     2.69,2, -999.000,9,-999.000,  -999.0,-999.000
    31WTMARAII,   P16,    90,  1,     25,     25,2,19840601,0518, 54.9567,-152.3983, 4148,   3529.3,   1.4877,  34.6738,2,  34.6730,2,   -999.0,5,  1.2189,    133.0,2,   167.43,2,    37.73,2,     0.00,2,     2.60,2, -999.000,9,-999.000,  -999.0,-999.000
    31WTMARAII,   P16,    90,  1,     23,     23,2,19840601,0518, 54.9567,-152.3983, 4148,   3965.4,   1.4892,  34.6800,2,  34.6810,2,   -999.0,5,  1.1744,    139.5,2,  -999.00,9,    37.24,2,     0.00,2,     2.57,2, -999.000,9,   1.490,  3963.0,-999.000
    31WTMARAII,   P16,    90,  1,     24,     24,2,19840601,0518, 54.9567,-152.3983, 4148,   4226.8,   1.4716,  34.6857,2,  34.6850,2,   -999.0,5,  1.1285,    147.7,2,   165.09,2,    36.56,2,     0.00,2,     2.54,2, -999.000,9,-999.000,  -999.0,-999.000