BOTTLE,20220816CCHSIOAMB
EXPOCODE,SECT_ID,STNNBR,CASTNO,SAMPNO,BTLNBR,BTLNBR_FLAG_W,DATE,TIME,LATITUDE,LONGITUDE,DEPTH,CTDPRS,CTDTMP,CTDSAL,CTDSAL_FLAG_W,SALNTY,SALNTY_FLAG_W,CTDOXY,CTDOXY_FLAG_W,THETA,OXYGEN,OXYGEN_FLAG_W,SILCAT,SILCAT_FLAG_W,NITRAT,NITRAT_FLAG_W,NITRIT,NITRIT_FLAG_W,PHSPHT,PHSPHT_FLAG_W,TRITUM,TRITUM_FLAG_W,REVTMP,REVPRS,TRITER
,,,,,,,,,,,,DBAR,ITS-90,PSS-78,,PSS-78,,UMOL/KG,,DEG C,UMOL/KG,,UMOL/KG,,UMOL/KG,,UMOL/KG,,UMOL/KG,,TU,,,DBAR,TU
    31WTMARAII,   P16,    35,  1,      7,      7,2,19840515,1852, 33.2400,-152.0100, 5429,      0.2,  18.5845,  34.7548,2,  34.7520,2,   -999.0,5, 18.5845,    238.8,2,     3.62,2,     0.04,2,     0.00,2,     0.10,2, -999.000,9,  18.580,  -999.0,-999.000
    31WTMARAII,   P16,    35,  1,      8,      8,2,19840515,1852, 33.2400,-152.0100, 5429,     51.4,  16.9287,  34.6966,2,  34.7010,2,   -999.0,5, 16.9203,    248.7,2,     3.62,2,     0.04,2,     0.00,2,     0.10,2, -999.000,9,-999.000,  -999.0,-999.000
    31WTMARAII,   P16,    35,  1,      9,      9,2,19840515,1852, 33.2400,-152.0100, 5429,    101.1,  14.9208,  34.4481,2,  34.4470,2,   -999.0,5, 14.9057,    249.1,2,     4.40,2,     0.82,2,     0.45,2,     0.22,2, -999.000,9,-999.000,  -999.0,-999.000
    31WTMARAII,   P16,    35,  1,     10,     10,2,19840515,1852, 33.2400,-152.0100, 5429,    134.5,  13.6769,  34.3240,2,  34.3260,2,   -999.0,5, 13.6579,    243.4,2,     5.77,2,     3.87,2,     0.03,2,     0.38,2, -999.000,9,-999.000,  -999.0,-999.000
    31WTMARAII,   P16,    35,  1,     11,     11,2,19840515,1852, 33.2400,-152.0100, 5429,    167.5,  12.9189,  34.3187,2,  34.3200,2,   -999.0,5, 12.8962,    235.1,2,     8.31,2,     6.82,2,     0.02,2,     0.55,2, -999.000,9,-999.000,  -999.0,-999.000
    31WTMARAII,   P16,    35,  1,     12,     12,2,19840515,1852, 33.2400,-152.0100, 5429,    200.7,  11.8699,  34.2230,2,  34.2230,2,   -999.0,5, 11.8441,    240.3,2,     9.58,2,     8.49,2,     0.01,2,     0.66,2, -999.000,9,  11.852,   205.0,-999.000
    31WTMARAII,   P16,    35,  1,     13,     13,2,19840515,1852, 33.2400,-152.0100, 5429,    250.7,  11.1225,  34.2264,2,  34.2260,2,   -999.0,5, 11.0916,    239.4,2,    12.71,2,    10.66,2,     0.01,2,     0.77,2, -999.000,9,-999.000,  -999.0,-999.000
    31WTMARAII,   P16,    35,  1,     14,     14,2,19840515,1852, 33.2400,-152.0100, 5429,    301.2,  10.4787,  34.1892,2,  34.1890,2,   -999.0,5, 10.4429,    232.4,2,    15.84,2,    12.71,2,     0.01,2,     0.90,2, -999.000,9,-999.000,  -999.0,-999.000
    31WTMARAII,   P16,    35,  1,     15,     15,2,19840515,1852, 33.2400,-152.0100, 5429,    401.6,   8.8040,  34.0911,2,  34.0910,2,   -999.0,5,  8.7609,    200.1,2,    27.18,2,    19.26,2,     0.01,2,     1.33,2, -999.000,9,-999.000,  -999.0,-999.000
    31WTMARAII,   P16,    35,  1,     16,     16,2,19840515,1852, 33.2400,-152.0100, 5429,    500.1,   7.3551,  34.0195,2,  34.0210,2,   -999.0,5,  7.3066,    175.3,2,    40.39,2,    24.35,2,     0.01,2,     1.69,2, -999.000,9,-999.000,  -999.0,-999.000
    31WTMARAII,   P16,    35,  1,     17,     17,2,19840515,1852, 33.2400,-152.0100, 5429,    600.1,   5.7651,  33.9838,2,  33.9860,2,   -999.0,5,  5.7138,    124.0,2,    62.10,2,    32.08,2,     0.01,2,     2.24,2, -999.000,9,-999.000,  -999.0,-999.000
    31WTMARAII,   P16,    35,  1,     18,     18,2,19840515,1852, 33.2400,-152.0100, 5429,    700.5,   4.6678,  34.0422,2,  34.0420,2,   -999.0,5,  4.6133,     69.1,2,    86.44,2,    38.72,2,     0.00,2,     2.70,2, -999.000,9,-999.000,  -999.0,-999.000
    31WTMARAII,   P16,    35,  1,     19,     19,2,19840515,1852, 33.2400,-152.0100, 5429,    801.3,   4.0995,  34.1298,2,  34.1290,2,   -999.0,5,  4.0399,     38.7,2,   103.45,2,    41.75,2,     0.00,2,     2.91,2, -999.000,9,   4.104,   805.0,-999.000
    31WTMARAII,   P16,    35,  1,     20,     20,2,19840515,1852, 33.2400,-152.0100, 5429,    902.8,   3.7854,  34.2076,2,  34.2060,2,   -999.0,5,  3.7197,     23.5,2,   115.96,2,    43.12,2,     0.00,2,     3.01,2, -999.000,9,-999.000,  -999.0,-999.000
    31WTMARAII,   P16,    35,  1,     21,     21,2,19840515,1852, 33.2400,-152.0100, 5429,   1003.8,   3.4495,  34.2996,2,  34.2990,2,   -999.0,5,  3.3782,     13.0,2,   129.15,2,    44.09,2,     0.00,2,     3.08,2, -999.000,9,-999.000,  -999.0,-999.000
    31WTMARAII,   P16,    35,  1,     22,     22,2,19840515,1852, 33.2400,-152.0100, 5429,   1257.1,   2.9426,  34.4512,2,  34.4520,2,   -999.0,5,  2.8554,     13.9,2,   147.13,2,    44.38,2,     0.00,2,  -999.00,9, -999.000,9,-999.000,  -999.0,-999.000
    31WTMARAII,   P16,    35,  1,     23,     23,2,19840515,1852, 33.2400,-152.0100, 5429,   1510.8,   2.6342,  34.5448,2,  34.5440,2,   -999.0,5,  2.5297,     41.7,2,   152.49,2,    42.82,2,     0.00,2,     2.97,2, -999.000,9,   2.629,  1510.0,-999.000
    31WTMARAII,   P16,    36,  1,      1,      1,2,19840516,0121, 33.5867,-151.9933, 5434,      1.0,  18.4860,-999.0000,9,  34.7250,2,   -999.0,5,-999.0000,   -999.0,9,     3.42,2,     0.00,2,     0.00,2,     0.10,2, -999.000,9,  18.482,     1.0,-999.000
    31WTMARAII,   P16,    36,  1,      2,      2,2,19840516,0121, 33.5867,-151.9933, 5434,     53.0,  16.9958,  34.6896,2,  34.7020,2,   -999.0,5, 16.9871,    247.4,2,     3.62,2,     0.00,2,     0.00,2,     0.10,2, -999.000,9,-999.000,  -999.0,-999.000
    31WTMARAII,   P16,    36,  1,      3,      3,2,19840516,0121, 33.5867,-151.9933, 5434,    103.1,  15.0285,  34.4729,2,  34.4710,2,   -999.0,5, 15.0130,    245.6,2,     4.40,2,     0.88,2,     0.44,2,     0.22,2, -999.000,9,-999.000,  -999.0,-999.000
    31WTMARAII,   P16,    36,  1,      4,      4,2,19840516,0121, 33.5867,-151.9933, 5434,    152.9,  13.3915,  34.3435,2,  34.3390,2,   -999.0,5, 13.3702,    236.0,2,     6.75,2,     5.33,2,     0.02,2,     0.45,2, -999.000,9,-999.000,  -999.0,-999.000
    31WTMARAII,   P16,    36,  1,      5,      5,2,19840516,0121, 33.5867,-151.9933, 5434,    198.0,  12.0463,  34.2673,2,  34.2680,2,   -999.0,5, 12.0206,    234.6,2,    10.46,2,     8.69,2,     0.01,2,     0.65,2, -999.000,9,-999.000,  -999.0,-999.000
    31WTMARAII,   P16,    36,  1,      6,      6,2,19840516,0121, 33.5867,-151.9933, 5434,    290.6,  10.4412,  34.1807,2,  34.1810,2,   -999.0,5, 10.4067,    233.3,2,    15.45,2,    12.52,2,     0.01,2,     0.89,2, -999.000,9,-999.000,  -999.0,-999.000
    31WTMARAII,   P16,    36,  1,      7,      7,2,19840516,0121, 33.5867,-151.9933, 5434,    394.9,   8.9184,  34.0989,2,  34.0970,2,   -999.0,5,  8.8757,    209.7,2,    25.62,2,    18.19,2,     0.01,2,     1.26,2, -999.000,9,-999.000,  -999.0,-999.000
    31WTMARAII,   P16,    36,  1,      8,      8,2,19840516,0121, 33.5867,-151.9933, 5434,    494.0,   7.4351,  34.0222,2,  34.0230,2,   -999.0,5,  7.3870,    177.1,2,    39.21,2,    24.15,2,     0.01,2,     1.65,2, -999.000,9,-999.000,  -999.0,-999.000
    31WTMARAII,   P16,    36,  1,      9,      9,2,19840516,0121, 33.5867,-151.9933, 5434,    590.9,   5.7976,  33.9854,2,  33.9880,2,   -999.0,5,  5.7470,    124.0,2,    62.29,2,    31.88,2,     0.01,2,     2.16,2, -999.000,9,-999.000,  -999.0,-999.000
    31WTMARAII,   P16,    36,  1,     10,     10,2,19840516,0121, 33.5867,-151.9933, 5434,    687.6,   4.7953,  34.0239,2,  34.0230,2,   -999.0,5,  4.7412,     83.1,2,    82.73,2,    37.06,2,     0.00,2,     2.57,2, -999.000,9,-999.000,  -999.0,-999.000
    31WTMARAII,   P16,    36,  1,     11,     11,2,19840516,0121, 33.5867,-151.9933, 5434,    786.4,   4.0730,  34.1305,2,-999.0000,9,   -999.0,5,  4.0148,     38.3,2,   104.04,2,    41.75,2,     0.00,2,     2.87,2, -999.000,9,-999.000,  -999.0,-999.000
    31WTMARAII,   P16,    36,  1,     12,     12,2,19840516,0121, 33.5867,-151.9933, 5434,    887.9,   3.8369,  34.2369,2,-999.0000,9,   -999.0,5,  3.7720,     18.3,2,   117.23,2,    43.41,2,     0.00,2,     3.01,2, -999.000,9,   3.826,   891.0,-999.000
    31WTMARAII,   P16,    36,  1,     13,     13,2,19840516,0121, 33.5867,-151.9933, 5434,    977.5,   3.6216,  34.3090,2,-999.0000,9,   -999.0,5,  3.5510,     11.7,2,   125.73,2,    44.00,2,     0.00,2,     3.08,2, -999.000,9,-999.000,  -999.0,-999.000
    31WTMARAII,   P16,    36,  1,     14,     14,2,19840516,0121, 33.5867,-151.9933, 5434,   1217.5,   3.1292,  34.4695,2,-999.0000,9,   -999.0,5,  3.0433,     19.6,2,   141.36,2,    43.99,2,     0.00,2,     3.07,2, -999.000,9,-999.000,  -999.0,-999.000
    31WTMARAII,   P16,    36,  1,     15,     15,2,19840516,0121, 33.5867,-151.9933, 5434,   1466.3,   2.6979,  34.5317,2,  34.5300,2,   -999.0,5,  2.5963,     36.1,2,   151.22,2,    43.30,2,     0.00,2,     3.01,2, -999.000,9,   2.694,  1476.0,-999.000
    31WTMARAII,   P16,    36,  1,     16,     16,2,19840516,0121, 33.5867,-151.9933, 5434,   1720.2,   2.3009,  34.5768,2,  34.5760,2,   -999.0,5,  2.1835,     54.3,2,   161.09,2,    42.13,2,     0.00,2,     2.92,2, -999.000,9,-999.000,  -999.0,-999.000
    31WTMARAII,   P16,    36,  1,     17,     17,2,19840516,0121, 33.5867,-151.9933, 5434,   1973.0,   2.0376,  34.6042,2,  34.6040,2,   -999.0,5,  1.9029,     67.4,2,   168.91,2,    41.35,2,     0.00,2,     2.85,2, -999.000,9,-999.000,  -999.0,-999.000
    31WTMARAII,   P16,    36,  1,     18,     18,2,19840516,0121, 33.5867,-151.9933, 5434,   2482.7,   1.7144,  34.6426,2,  34.6420,2,   -999.0,5,  1.5411,     93.4,2,   174.08,2,    39.88,2,     0.00,2,     2.74,2, -999.000,9,-999.000,  -999.0,-999.000
    31WTMARAII,   P16,    36,  1,     19,     19,2,19840516,0121, 33.5867,-151.9933, 5434,   2987.6,   1.5479,  34.6633,2,  34.6630,2,   -999.0,5,  1.3313,    117.8,2,   169.58,2,    38.41,2,     0.00,2,     2.62,2, -999.000,9,   1.550,  2995.0,-999.000
    31WTMARAII,   P16,    36,  1,     20,     20,2,19840516,0121, 33.5867,-151.9933, 5434,   3508.5,   1.4766,  34.6773,2,  34.6770,2,   -999.0,5,  1.2102,    135.6,2,   163.52,2,    37.14,2,     0.00,2,     2.52,2, -999.000,9,-999.000,  -999.0,-999.000
    31WTMARAII,   P16,    36,  1,     21,     21,2,19840516,0121, 33.5867,-151.9933, 5434,   4025.0,   1.4694,  34.6848,2,  34.6840,2,   -999.0,5,  1.1487,    146.0,2,   160.10,2,    36.56,2,     0.00,2,     2.47,2, -999.000,9,-999.000,  -999.0,-999.000
    31WTMARAII,   P16,    36,  1,     22,     22,2,19840516,0121, 33.5867,-151.9933, 5434,   4540.8,   1.4933,  34.6887,2,  34.6870,2,   -999.0,5,  1.1138,   -999.0,9,   154.82,2,    36.07,2,     0.01,2,  -999.00,9, -999.000,9,-999.000,  -999.0,-999.000
    31WTMARAII,   P16,    36,  1,     23,     23,2,19840516,0121, 33.5867,-151.9933, 5434,   5056.7,   1.5362,  34.6914,2,  34.6890,2,   -999.0,5,  1.0938,    156.9,2,   150.91,2,    35.77,2,     0.00,2,     2.38,2, -999.000,9,   1.536,  5060.0,-999.000
    31WTMARAII,   P16,    36,  1,     24,     24,2,19840516,0121, 33.5867,-151.9933, 5434,   5579.8,   1.5974,  34.6926,2,  34.6900,2,   -999.0,5,  1.0870,    158.6,2,   148.86,2,    35.68,2,     0.01,2,     2.38,2, -999.000,9,-999.000,  -999.0,-999.000
    31WTMARAII,   P16,    37,  1,      7,      7,2,19840516,0732, 33.9417,-151.9967, 5001,      1.8,  16.4373,  34.2469,2,  34.2450,2,   -999.0,5, 16.4370,    252.3,2,     5.57,2,     0.00,2,     0.00,2,     0.22,2,    3.320,2,  16.457,  -999.0,   0.130
    31WTMARAII,   P16,    37,  1,      8,      8,2,19840516,0732, 33.9417,-151.9967, 5001,     52.9,  14.8446,  34.3978,2,  34.3970,2,   -999.0,5, 14.8367,    259.5,2,     5.28,2,     0.38,2,     0.07,2,     0.20,2, -999.000,9,-999.000,  -999.0,-999.000
    31WTMARAII,   P16,    37,  1,      9,      9,2,19840516,0732, 33.9417,-151.9967, 5001,    103.8,  13.5851,  34.3201,2,  34.3220,2,   -999.0,5, 13.5705,    247.7,2,     5.77,2,     3.52,2,     0.20,2,     0.37,2, -999.000,9,-999.000,  -999.0,-999.000
    31WTMARAII,   P16,    37,  1,     10,     10,2,19840516,0732, 33.9417,-151.9967, 5001,    136.9,  12.5780,  34.1924,2,  34.1970,2,   -999.0,5, 12.5598,    249.9,2,     6.94,2,     5.25,2,     0.01,2,     0.46,2,    3.020,2,-999.000,  -999.0,   0.120
    31WTMARAII,   P16,    37,  1,     11,     11,2,19840516,0732, 33.9417,-151.9967, 5001,    169.8,  12.0273,  34.3035,2,  34.3030,2,   -999.0,5, 12.0053,    235.0,2,    10.56,2,     9.31,2,     0.01,2,     0.69,2,    3.488,2,-999.000,  -999.0,   0.106
    31WTMARAII,   P16,    37,  1,     12,     12,2,19840516,0732, 33.9417,-151.9967, 5001,    203.4,  11.4064,  34.2744,2,  34.2750,2,   -999.0,5, 11.3810,    237.2,2,    12.22,2,    10.46,2,     0.01,2,     0.76,2,    3.570,2,  11.410,   205.0,   0.114
    31WTMARAII,   P16,    37,  1,     13,     13,2,19840516,0732, 33.9417,-151.9967, 5001,    252.6,  10.8228,  34.2353,2,  34.2340,2,   -999.0,5, 10.7922,    234.1,2,    14.57,2,    11.93,2,     0.01,2,     0.86,2,    3.090,2,-999.000,  -999.0,   0.117
    31WTMARAII,   P16,    37,  1,     14,     14,2,19840516,0732, 33.9417,-151.9967, 5001,    302.0,  10.0363,  34.1681,2,  34.1690,2,   -999.0,5, 10.0013,   -999.0,9,    18.19,2,    14.37,2,     0.01,2,     1.02,2,    2.885,2,-999.000,  -999.0,   0.120
    31WTMARAII,   P16,    37,  1,     15,     15,2,19840516,0732, 33.9417,-151.9967, 5001,    401.6,   8.5559,  34.0857,2,  34.0880,2,   -999.0,5,  8.5136,    202.7,2,    28.36,2,    19.56,2,     0.01,2,     1.37,2,    3.115,2,   8.568,   403.0,   0.089
    31WTMARAII,   P16,    37,  1,     16,     16,2,19840516,0732, 33.9417,-151.9967, 5001,    500.3,   7.0448,  34.0108,2,  34.0130,2,   -999.0,5,  6.9975,    165.3,2,    44.10,2,    25.82,2,     0.00,2,     1.82,2,    2.600,2,-999.000,  -999.0,   0.093
    31WTMARAII,   P16,    37,  1,     17,     17,2,19840516,0732, 33.9417,-151.9967, 5001,    597.9,   5.4942,  33.9906,2,  33.9930,2,   -999.0,5,  5.4443,    112.2,2,    67.18,2,    33.54,2,     0.00,2,     2.36,2,    1.850,2,-999.000,  -999.0,   0.080
    31WTMARAII,   P16,    37,  1,     18,     18,2,19840516,0732, 33.9417,-151.9967, 5001,    697.9,   4.4799,  34.0629,2,  34.0620,2,   -999.0,5,  4.4266,     62.2,2,    90.35,2,    39.41,2,     0.00,2,     2.78,2,    0.510,2,-999.000,  -999.0,   0.060
    31WTMARAII,   P16,    37,  1,     19,     19,2,19840516,0732, 33.9417,-151.9967, 5001,    797.9,   4.0515,  34.1359,2,  34.1360,2,   -999.0,5,  3.9925,     38.3,2,   104.53,2,    41.95,2,     0.00,2,     2.94,2,    0.170,2,   4.056,   800.0,   0.050
    31WTMARAII,   P16,    37,  1,     20,     20,2,19840516,0732, 33.9417,-151.9967, 5001,    895.9,   3.7371,  34.2286,2,  34.2270,2,   -999.0,5,  3.6723,     20.9,2,   119.09,2,    43.31,2,     0.00,2,     3.05,2,    0.060,2,-999.000,  -999.0,   0.060
    31WTMARAII,   P16,    37,  1,     21,     21,2,19840516,0732, 33.9417,-151.9967, 5001,    994.2,   3.5119,  34.3069,2,  34.3060,2,   -999.0,5,  3.4408,     12.6,2,   128.86,2,    44.09,2,     0.00,2,     3.11,2, -999.000,9,-999.000,  -999.0,-999.000
    31WTMARAII,   P16,    37,  1,     22,     22,2,19840516,0732, 33.9417,-151.9967, 5001,   1243.9,   3.0078,  34.4549,2,  34.4550,2,   -999.0,5,  2.9210,     13.9,2,   144.98,2,    44.38,2,     0.01,2,  -999.00,9, -999.000,9,-999.000,  -999.0,-999.000
    31WTMARAII,   P16,    37,  1,     23,     23,2,19840516,0732, 33.9417,-151.9967, 5001,   1498.4,   2.6241,  34.5276,2,  34.5260,2,   -999.0,5,  2.5209,     31.3,2,   155.62,2,    43.70,2,     0.00,2,     3.03,2, -999.000,9,   2.620,  1499.0,-999.000