BOTTLE,20220816CCHSIOAMB
EXPOCODE,SECT_ID,STNNBR,CASTNO,SAMPNO,BTLNBR,BTLNBR_FLAG_W,DATE,TIME,LATITUDE,LONGITUDE,DEPTH,CTDPRS,CTDTMP,CTDSAL,CTDSAL_FLAG_W,SALNTY,SALNTY_FLAG_W,CTDOXY,CTDOXY_FLAG_W,THETA,OXYGEN,OXYGEN_FLAG_W,SILCAT,SILCAT_FLAG_W,NITRAT,NITRAT_FLAG_W,NITRIT,NITRIT_FLAG_W,PHSPHT,PHSPHT_FLAG_W,TRITUM,TRITUM_FLAG_W,REVTMP,REVPRS,TRITER
,,,,,,,,,,,,DBAR,ITS-90,PSS-78,,PSS-78,,UMOL/KG,,DEG C,UMOL/KG,,UMOL/KG,,UMOL/KG,,UMOL/KG,,UMOL/KG,,TU,,,DBAR,TU
    31WTMARAII,   P16,    50,  1,      1,      1,2,19840519,2226, 38.5050,-152.0050, 5239,      1.0,  12.6100,-999.0000,9,  33.7450,2,   -999.0,5,-999.0000,   -999.0,9,     2.93,2,     1.38,2,     0.04,2,     0.34,2, -999.000,9,  12.607,     1.0,-999.000
    31WTMARAII,   P16,    50,  1,      2,      2,2,19840519,2226, 38.5050,-152.0050, 5239,     57.8,  11.8127,  33.6924,2,  33.6940,2,   -999.0,5, 11.8054,    278.2,2,     2.45,2,     2.21,2,     0.05,2,     0.41,2, -999.000,9,-999.000,  -999.0,-999.000
    31WTMARAII,   P16,    50,  1,      3,      3,2,19840519,2226, 38.5050,-152.0050, 5239,    106.8,  10.1895,  33.6073,2,  33.6110,2,   -999.0,5, 10.1772,    278.2,2,     1.96,2,     4.71,2,     0.24,2,     0.62,2, -999.000,9,-999.000,  -999.0,-999.000
    31WTMARAII,   P16,    50,  1,      4,      4,2,19840519,2226, 38.5050,-152.0050, 5239,    157.2,   9.9508,  33.9430,2,  33.9420,2,   -999.0,5,  9.9329,    250.7,2,    10.95,2,    10.66,2,     0.02,2,     0.86,2, -999.000,9,-999.000,  -999.0,-999.000
    31WTMARAII,   P16,    50,  1,      5,      5,2,19840519,2226, 38.5050,-152.0050, 5239,    207.8,   9.3242,  34.0228,2,  34.0250,2,   -999.0,5,  9.3014,    251.5,2,    15.94,2,    12.42,2,     0.01,2,     0.95,2, -999.000,9,-999.000,  -999.0,-999.000
    31WTMARAII,   P16,    50,  1,      6,      6,2,19840519,2226, 38.5050,-152.0050, 5239,    308.5,   8.3682,  34.0360,2,  34.0560,2,   -999.0,5,  8.3364,    211.4,2,    27.87,2,    19.17,2,     0.01,2,     1.35,2, -999.000,9,-999.000,  -999.0,-999.000
    31WTMARAII,   P16,    50,  1,      7,      7,2,19840519,2226, 38.5050,-152.0050, 5239,    409.8,   7.0029,  33.9889,2,  33.9920,2,   -999.0,5,  6.9646,    170.1,2,    42.64,2,    25.62,2,     0.01,2,     1.81,2, -999.000,9,-999.000,  -999.0,-999.000
    31WTMARAII,   P16,    50,  1,      8,      8,2,19840519,2226, 38.5050,-152.0050, 5239,    510.8,   5.4596,  33.9733,2,  33.9760,2,   -999.0,5,  5.4175,    118.7,2,    66.30,2,    33.05,2,     0.01,2,     2.34,2, -999.000,9,-999.000,  -999.0,-999.000
    31WTMARAII,   P16,    50,  1,      9,      9,2,19840519,2226, 38.5050,-152.0050, 5239,    610.5,   4.5889,  34.0316,2,  34.0380,2,   -999.0,5,  4.5422,     80.0,2,    85.56,2,    37.84,2,     0.01,2,     2.66,2, -999.000,9,-999.000,  -999.0,-999.000
    31WTMARAII,   P16,    50,  1,     10,     10,2,19840519,2226, 38.5050,-152.0050, 5239,    710.8,   4.0900,  34.1180,2,  34.1180,2,   -999.0,5,  4.0378,     43.5,2,   102.18,2,    41.46,2,     0.01,2,     2.90,2, -999.000,9,-999.000,  -999.0,-999.000
    31WTMARAII,   P16,    50,  1,     11,     11,2,19840519,2226, 38.5050,-152.0050, 5239,    811.9,   3.7098,  34.1977,2,  34.2000,2,   -999.0,5,  3.6518,     25.7,2,   115.18,2,    43.32,2,     0.01,2,     3.02,2, -999.000,9,-999.000,  -999.0,-999.000
    31WTMARAII,   P16,    50,  1,     12,     12,2,19840519,2226, 38.5050,-152.0050, 5239,    912.5,   3.4586,  34.2631,2,  34.2640,2,   -999.0,5,  3.3944,     15.7,2,   126.71,2,    44.19,2,     0.01,2,     3.07,2, -999.000,9,-999.000,  -999.0,-999.000
    31WTMARAII,   P16,    50,  1,     13,     13,2,19840519,2226, 38.5050,-152.0050, 5239,   1012.9,   3.2185,  34.3268,2,  34.3290,2,   -999.0,5,  3.1482,     10.9,2,   134.23,2,    44.58,2,     0.01,2,     3.14,2, -999.000,9,-999.000,  -999.0,-999.000
    31WTMARAII,   P16,    50,  1,     14,     14,2,19840519,2226, 38.5050,-152.0050, 5239,   1265.4,   2.7536,  34.4340,2,  34.4360,2,   -999.0,5,  2.6676,     10.9,2,   151.43,2,    44.97,2,     0.01,2,     3.15,2, -999.000,9,-999.000,  -999.0,-999.000
    31WTMARAII,   P16,    50,  1,     15,     15,2,19840519,2226, 38.5050,-152.0050, 5239,   1518.3,   2.4404,  34.5112,2,  34.5130,2,   -999.0,5,  2.3377,     22.2,2,   160.22,2,    44.38,2,     0.01,2,     3.10,2, -999.000,9,   2.439,  1524.0,-999.000
    31WTMARAII,   P16,    50,  1,     16,     16,2,19840519,2226, 38.5050,-152.0050, 5239,   1771.8,   2.1535,  34.5661,2,  34.5690,2,   -999.0,5,  2.0339,     41.7,2,   167.25,2,    43.40,2,     0.01,2,     3.02,2, -999.000,9,-999.000,  -999.0,-999.000
    31WTMARAII,   P16,    50,  1,     17,     17,2,19840519,2226, 38.5050,-152.0050, 5239,   2026.1,   1.9265,  34.5988,2,  34.6020,2,   -999.0,5,  1.7891,     58.2,2,   171.64,2,    42.42,2,     0.01,2,     2.94,2, -999.000,9,-999.000,  -999.0,-999.000
    31WTMARAII,   P16,    50,  1,     18,     18,2,19840519,2226, 38.5050,-152.0050, 5239,   2532.2,   1.6814,  34.6380,2,  34.6390,2,   -999.0,5,  1.5042,     91.3,2,   170.17,2,    40.27,2,     0.01,2,     2.79,2, -999.000,9,-999.000,  -999.0,-999.000
    31WTMARAII,   P16,    50,  1,     19,     19,2,19840519,2226, 38.5050,-152.0050, 5239,   3040.4,   1.5416,  34.6619,2,  34.6630,2,   -999.0,5,  1.3201,    119.5,2,   165.19,2,    38.32,2,     0.01,2,     2.66,2, -999.000,9,   1.545,  3053.0,-999.000
    31WTMARAII,   P16,    50,  1,     20,     20,2,19840519,2226, 38.5050,-152.0050, 5239,   3549.6,   1.4813,  34.6748,2,  34.6770,2,   -999.0,5,  1.2106,    136.0,2,   161.08,2,    37.34,2,     0.01,2,     2.60,2, -999.000,9,-999.000,  -999.0,-999.000
    31WTMARAII,   P16,    50,  1,     21,     21,2,19840519,2226, 38.5050,-152.0050, 5239,   4063.5,   1.4751,  34.6824,2,  34.6840,2,   -999.0,5,  1.1499,    145.1,2,   161.18,2,    36.85,2,     0.01,2,     2.52,2, -999.000,9,-999.000,  -999.0,-999.000
    31WTMARAII,   P16,    50,  1,     25,     25,2,19840519,2226, 38.5050,-152.0050, 5239,   4577.1,   1.5081,  34.6860,2,  34.6870,2,   -999.0,5,  1.1240,    149.0,2,   158.54,2,    36.56,2,     0.01,2,     2.51,2, -999.000,9,-999.000,  -999.0,-999.000
    31WTMARAII,   P16,    50,  1,     23,     23,2,19840519,2226, 38.5050,-152.0050, 5239,   5091.0,   1.5532,  34.6880,2,  34.6880,2,   -999.0,5,  1.1061,    152.5,2,   156.97,2,    36.26,2,     0.01,2,  -999.00,9, -999.000,9,   1.550,  5091.0,-999.000
    31WTMARAII,   P16,    50,  1,     24,     24,2,19840519,2226, 38.5050,-152.0050, 5239,   5366.5,   1.5808,  34.6890,2,  34.6890,2,   -999.0,5,  1.0983,    154.7,2,   154.14,2,    35.87,2,     0.01,2,     2.47,2, -999.000,9,-999.000,  -999.0,-999.000
    31WTMARAII,   P16,    51,  1,      7,      7,2,19840520,0426, 38.8483,-151.9850, 5339,      3.1,  12.7408,  33.7665,2,  33.7670,2,   -999.0,5, 12.7404,    274.8,2,     3.62,2,     1.17,2,     0.03,2,     0.38,2, -999.000,9,  12.728,  -999.0,-999.000
    31WTMARAII,   P16,    51,  1,      8,      8,2,19840520,0426, 38.8483,-151.9850, 5339,     53.3,  12.2806,  33.7629,2,  33.7620,2,   -999.0,5, 12.2737,    275.6,2,     3.72,2,     1.43,2,     0.04,2,     0.36,2, -999.000,9,-999.000,  -999.0,-999.000
    31WTMARAII,   P16,    51,  1,      9,      9,2,19840520,0426, 38.8483,-151.9850, 5339,    100.9,  10.6970,  33.6857,2,  33.6870,2,   -999.0,5, 10.6850,    274.7,2,     3.42,2,     3.79,2,     0.27,2,     0.57,2, -999.000,9,-999.000,  -999.0,-999.000
    31WTMARAII,   P16,    51,  1,     10,     10,2,19840520,0426, 38.8483,-151.9850, 5339,    134.7,  10.7013,  33.8454,2,  33.8450,2,   -999.0,5, 10.6852,    260.3,2,     6.75,2,     6.80,2,     0.02,2,     0.66,2, -999.000,9,-999.000,  -999.0,-999.000
    31WTMARAII,   P16,    51,  1,     11,     11,2,19840520,0426, 38.8483,-151.9850, 5339,    168.4,   9.5939,  34.0148,2,  34.0160,2,   -999.0,5,  9.5751,    249.8,2,  -999.00,9,  -999.00,9,  -999.00,9,  -999.00,9, -999.000,9,-999.000,  -999.0,-999.000
    31WTMARAII,   P16,    51,  1,     12,     12,2,19840520,0426, 38.8483,-151.9850, 5339,    201.6,   9.2598,  34.0098,2,  34.0110,2,   -999.0,5,  9.2378,    251.9,2,    17.21,2,    12.42,2,     0.01,2,     0.96,2, -999.000,9,-999.000,  -999.0,-999.000
    31WTMARAII,   P16,    51,  1,     13,     13,2,19840520,0426, 38.8483,-151.9850, 5339,    248.0,   8.8806,  34.0106,2,  34.0110,2,   -999.0,5,  8.8542,    240.6,2,    20.73,2,    14.57,2,     0.00,2,     1.09,2, -999.000,9,-999.000,  -999.0,-999.000
    31WTMARAII,   P16,    51,  1,     14,     14,2,19840520,0426, 38.8483,-151.9850, 5339,    295.1,   8.5729,  34.0552,2,  34.0550,2,   -999.0,5,  8.5420,    214.1,2,    27.38,2,    18.48,2,     0.00,2,     1.32,2, -999.000,9,-999.000,  -999.0,-999.000
    31WTMARAII,   P16,    51,  1,     15,     15,2,19840520,0426, 38.8483,-151.9850, 5339,    394.9,   6.9497,  33.9914,2,  33.9930,2,   -999.0,5,  6.9129,    169.7,2,    44.20,2,    25.72,2,     0.00,2,     1.82,2, -999.000,9,-999.000,  -999.0,-999.000
    31WTMARAII,   P16,    51,  1,     16,     16,2,19840520,0426, 38.8483,-151.9850, 5339,    484.6,   5.7004,  33.9687,2,  33.9690,2,   -999.0,5,  5.6596,    132.2,2,    61.22,2,    31.39,2,     0.00,2,     2.24,2, -999.000,9,-999.000,  -999.0,-999.000
    31WTMARAII,   P16,    51,  1,     17,     17,2,19840520,0426, 38.8483,-151.9850, 5339,    575.6,   4.8462,  34.0038,2,  34.0030,2,   -999.0,5,  4.8011,     94.8,2,    79.21,2,    35.89,2,     0.00,2,     2.57,2, -999.000,9,-999.000,  -999.0,-999.000
    31WTMARAII,   P16,    51,  1,     18,     18,2,19840520,0426, 38.8483,-151.9850, 5339,    666.8,   4.3204,  34.0755,2,  34.0730,2,   -999.0,5,  4.2704,     64.8,2,    95.44,2,    39.51,2,     0.00,2,     2.81,2, -999.000,9,-999.000,  -999.0,-999.000
    31WTMARAII,   P16,    51,  1,     19,     19,2,19840520,0426, 38.8483,-151.9850, 5339,    762.1,   3.9697,  34.1436,2,  34.1430,2,   -999.0,5,  3.9140,     38.3,2,   110.10,2,    42.05,2,     0.00,2,     2.96,2, -999.000,9,   3.969,   763.0,-999.000
    31WTMARAII,   P16,    51,  1,     20,     20,2,19840520,0426, 38.8483,-151.9850, 5339,    860.9,   3.6005,  34.2245,2,  34.2240,2,   -999.0,5,  3.5393,     20.0,2,   122.81,2,    43.61,2,     0.00,2,     3.08,2, -999.000,9,-999.000,  -999.0,-999.000
    31WTMARAII,   P16,    51,  1,     21,     21,2,19840520,0426, 38.8483,-151.9850, 5339,    960.4,   3.3584,  34.2886,2,  34.2880,2,   -999.0,5,  3.2911,     12.6,2,   131.31,2,    44.39,2,     0.00,2,     3.13,2, -999.000,9,-999.000,  -999.0,-999.000
    31WTMARAII,   P16,    51,  1,     25,     25,2,19840520,0426, 38.8483,-151.9850, 5339,   1227.7,   2.8657,  34.4127,2,  34.4120,2,   -999.0,5,  2.7816,     10.4,2,   149.38,2,    44.77,2,     0.00,2,     3.17,2, -999.000,9,-999.000,  -999.0,-999.000
    31WTMARAII,   P16,    51,  1,     23,     23,2,19840520,0426, 38.8483,-151.9850, 5339,   1523.7,   2.4817,  34.5054,2,  34.5060,2,   -999.0,5,  2.3781,     20.4,2,   163.54,2,    44.58,2,     0.00,2,  -999.00,9, -999.000,9,   2.480,  1521.0,-999.000
    31WTMARAII,   P16,    52,  1,      1,      1,2,19840520,1043, 39.2383,-151.9867, 5480,      1.0,  12.3470,-999.0000,9,  33.7690,2,   -999.0,5,-999.0000,   -999.0,9,     3.13,2,     1.36,2,     0.05,2,     0.34,2, -999.000,9,  12.344,     1.0,-999.000
    31WTMARAII,   P16,    52,  1,      2,      2,2,19840520,1043, 39.2383,-151.9867, 5480,     55.2,  12.1020,  33.7757,2,  33.7730,2,   -999.0,5, 12.0949,    273.5,2,     3.13,2,     1.64,2,     0.08,2,     0.36,2, -999.000,9,-999.000,  -999.0,-999.000
    31WTMARAII,   P16,    52,  1,      3,      3,2,19840520,1043, 39.2383,-151.9867, 5480,    106.2,  10.6482,  33.8551,2,  33.8540,2,   -999.0,5, 10.6356,    261.6,2,     5.38,2,     6.84,2,     0.02,2,     0.65,2, -999.000,9,-999.000,  -999.0,-999.000
    31WTMARAII,   P16,    52,  1,      4,      4,2,19840520,1043, 39.2383,-151.9867, 5480,    158.8,   9.7098,  34.0583,2,  34.0610,2,   -999.0,5,  9.6920,    250.2,2,    14.47,2,    11.93,2,     0.01,2,     0.90,2, -999.000,9,-999.000,  -999.0,-999.000
    31WTMARAII,   P16,    52,  1,      6,      6,2,19840520,1043, 39.2383,-151.9867, 5480,    309.5,   8.1460,  34.0373,2,  34.0400,2,   -999.0,5,  8.1146,    203.6,2,    30.90,2,    20.34,2,     0.01,2,     1.44,2, -999.000,9,-999.000,  -999.0,-999.000
    31WTMARAII,   P16,    52,  1,      7,      7,2,19840520,1043, 39.2383,-151.9867, 5480,    408.4,   6.4853,  33.9747,2,  33.9780,2,   -999.0,5,  6.4487,    155.3,2,    49.39,2,    27.68,2,     0.00,2,     1.96,2, -999.000,9,-999.000,  -999.0,-999.000
    31WTMARAII,   P16,    52,  1,      8,      8,2,19840520,1043, 39.2383,-151.9867, 5480,    510.3,   5.3720,  33.9764,2,  33.9800,2,   -999.0,5,  5.3302,    115.7,2,    67.97,2,    33.45,2,     0.00,2,     2.37,2, -999.000,9,-999.000,  -999.0,-999.000
    31WTMARAII,   P16,    52,  1,      9,      9,2,19840520,1043, 39.2383,-151.9867, 5480,    610.7,   4.5643,  34.0416,2,  34.0430,2,   -999.0,5,  4.5176,     73.1,2,    88.01,2,    38.43,2,     0.00,2,     2.71,2, -999.000,9,-999.000,  -999.0,-999.000
    31WTMARAII,   P16,    52,  1,     10,     10,2,19840520,1043, 39.2383,-151.9867, 5480,    710.6,   4.0406,  34.1268,2,  34.1280,2,   -999.0,5,  3.9886,     41.7,2,   104.72,2,    41.56,2,     0.00,2,     2.91,2, -999.000,9,-999.000,  -999.0,-999.000
    31WTMARAII,   P16,    52,  1,     11,     11,2,19840520,1043, 39.2383,-151.9867, 5480,    811.7,   3.6822,  34.2035,2,  34.2050,2,   -999.0,5,  3.6243,     23.9,2,   117.43,2,    43.22,2,     0.00,2,     3.05,2, -999.000,9,-999.000,  -999.0,-999.000
    31WTMARAII,   P16,    52,  1,     12,     12,2,19840520,1043, 39.2383,-151.9867, 5480,    914.4,   3.3948,  34.2744,2,  34.2770,2,   -999.0,5,  3.3308,     14.3,2,   129.94,2,    44.09,2,     0.00,2,     3.07,2, -999.000,9,-999.000,  -999.0,-999.000
    31WTMARAII,   P16,    52,  1,     13,     13,2,19840520,1043, 39.2383,-151.9867, 5480,   1010.2,   3.2171,  34.3198,2,  34.3220,2,   -999.0,5,  3.1470,     10.9,2,   135.70,2,    44.48,2,     0.00,2,     3.12,2, -999.000,9,-999.000,  -999.0,-999.000
    31WTMARAII,   P16,    52,  1,     14,     14,2,19840520,1043, 39.2383,-151.9867, 5480,   1255.6,   2.7978,  34.4289,2,  34.4310,2,   -999.0,5,  2.7122,     11.3,2,   150.94,2,    44.87,2,     0.00,2,     3.15,2, -999.000,9,-999.000,  -999.0,-999.000
    31WTMARAII,   P16,    52,  1,     15,     15,2,19840520,1043, 39.2383,-151.9867, 5480,   1514.9,   2.4736,  34.5045,2,  34.5070,2,   -999.0,5,  2.3708,     20.4,2,   163.35,2,    44.48,2,     0.00,2,     3.10,2, -999.000,9,   2.477,  1524.0,-999.000
    31WTMARAII,   P16,    52,  1,     16,     16,2,19840520,1043, 39.2383,-151.9867, 5480,   1768.5,   2.1872,  34.5634,2,  34.5650,2,   -999.0,5,  2.0674,     42.6,2,   168.91,2,    43.11,2,     0.00,2,     3.01,2, -999.000,9,-999.000,  -999.0,-999.000
    31WTMARAII,   P16,    52,  1,     17,     17,2,19840520,1043, 39.2383,-151.9867, 5480,   2019.5,   1.9591,  34.5977,2,  34.6010,2,   -999.0,5,  1.8217,     59.1,2,   176.14,2,    42.23,2,     0.00,2,     2.92,2, -999.000,9,-999.000,  -999.0,-999.000
    31WTMARAII,   P16,    52,  1,     18,     18,2,19840520,1043, 39.2383,-151.9867, 5480,   2529.5,   1.6930,  34.6356,2,  34.6380,2,   -999.0,5,  1.5159,     90.0,2,   175.06,2,    40.27,2,     0.00,2,     2.79,2, -999.000,9,-999.000,  -999.0,-999.000
    31WTMARAII,   P16,    52,  1,     20,     20,2,19840520,1043, 39.2383,-151.9867, 5480,   3548.4,   1.4813,  34.6745,2,  34.6760,2,   -999.0,5,  1.2107,    135.6,2,   167.04,2,    37.44,2,     0.00,2,     2.57,2, -999.000,9,-999.000,  -999.0,-999.000
    31WTMARAII,   P16,    52,  1,     21,     21,2,19840520,1043, 39.2383,-151.9867, 5480,   4060.6,   1.4778,  34.6823,2,  34.6830,2,   -999.0,5,  1.1529,    143.0,2,   168.02,2,    36.95,2,     0.00,2,     2.53,2, -999.000,9,-999.000,  -999.0,-999.000
    31WTMARAII,   P16,    52,  1,     25,     25,2,19840520,1043, 39.2383,-151.9867, 5480,   4566.0,   1.5143,  34.6856,2,  34.6860,2,   -999.0,5,  1.1312,    146.0,2,   170.17,2,    36.65,2,     0.00,2,     2.51,2, -999.000,9,-999.000,  -999.0,-999.000
    31WTMARAII,   P16,    52,  1,     23,     23,2,19840520,1043, 39.2383,-151.9867, 5480,   5061.1,   1.5594,  34.6873,2,  34.6870,2,   -999.0,5,  1.1157,    149.0,2,   165.09,2,    36.36,2,     0.00,2,  -999.00,9, -999.000,9,   1.563,  5065.0,-999.000
    31WTMARAII,   P16,    52,  1,     24,     24,2,19840520,1043, 39.2383,-151.9867, 5480,   5533.3,   1.6123,  34.6878,2,  34.6880,2,   -999.0,5,  1.1074,    152.5,2,   162.25,2,    36.26,2,     0.00,2,     2.46,2, -999.000,9,-999.000,  -999.0,-999.000