BOTTLE,20220816CCHSIOAMB
EXPOCODE,SECT_ID,STNNBR,CASTNO,SAMPNO,BTLNBR,BTLNBR_FLAG_W,DATE,TIME,LATITUDE,LONGITUDE,DEPTH,CTDPRS,CTDTMP,CTDSAL,CTDSAL_FLAG_W,SALNTY,SALNTY_FLAG_W,CTDOXY,CTDOXY_FLAG_W,THETA,OXYGEN,OXYGEN_FLAG_W,SILCAT,SILCAT_FLAG_W,NITRAT,NITRAT_FLAG_W,NITRIT,NITRIT_FLAG_W,PHSPHT,PHSPHT_FLAG_W,TRITUM,TRITUM_FLAG_W,REVTMP,REVPRS,TRITER
,,,,,,,,,,,,DBAR,ITS-90,PSS-78,,PSS-78,,UMOL/KG,,DEG C,UMOL/KG,,UMOL/KG,,UMOL/KG,,UMOL/KG,,UMOL/KG,,TU,,,DBAR,TU
    31WTMARAII,   P16,    63,  1,      1,      1,2,19840525,0620, 43.8283,-151.9900, 5664,      1.0,   7.5640,-999.0000,9,  32.8770,2,   -999.0,5,-999.0000,   -999.0,9,    16.83,2,    10.37,2,     0.11,2,     1.07,2, -999.000,9,   7.562,     1.0,-999.000
    31WTMARAII,   P16,    63,  1,      2,      2,2,19840525,0620, 43.8283,-151.9900, 5664,     48.0,   7.4918,  32.8712,2,  32.8750,2,   -999.0,5,  7.4874,    306.5,2,    16.83,2,    10.37,2,     0.11,2,     1.07,2, -999.000,9,-999.000,  -999.0,-999.000
    31WTMARAII,   P16,    63,  1,      3,      3,2,19840525,0620, 43.8283,-151.9900, 5664,    100.7,   6.5042,  32.9218,2,  32.9250,2,   -999.0,5,  6.4955,    304.3,2,    17.71,2,    11.45,2,     0.20,2,     1.15,2, -999.000,9,-999.000,  -999.0,-999.000
    31WTMARAII,   P16,    63,  1,      4,      4,2,19840525,0620, 43.8283,-151.9900, 5664,    134.6,   6.4768,  33.0260,2,  33.0240,2,   -999.0,5,  6.4652,    297.3,2,    17.91,2,    12.33,2,     0.23,2,     1.15,2, -999.000,9,-999.000,  -999.0,-999.000
    31WTMARAII,   P16,    63,  1,      5,      5,2,19840525,0620, 43.8283,-151.9900, 5664,    201.0,   7.0648,  33.9063,2,  33.9090,2,   -999.0,5,  7.0462,    223.6,2,    33.06,2,    20.73,2,     0.01,2,     1.50,2, -999.000,9,-999.000,  -999.0,-999.000
    31WTMARAII,   P16,    63,  1,      6,      6,2,19840525,0620, 43.8283,-151.9900, 5664,    302.5,   5.5451,  33.8774,2,-999.0000,9,   -999.0,5,  5.5204,    167.9,2,    53.01,2,    28.46,2,     0.00,2,     2.02,2, -999.000,9,-999.000,  -999.0,-999.000
    31WTMARAII,   P16,    63,  1,      7,      7,2,19840525,0620, 43.8283,-151.9900, 5664,    402.5,   4.9552,  33.9800,2,  33.9820,2,   -999.0,5,  4.9239,    106.1,2,    74.91,2,    34.81,2,     0.00,2,     2.45,2, -999.000,9,-999.000,  -999.0,-999.000
    31WTMARAII,   P16,    63,  1,      8,      8,2,19840525,0620, 43.8283,-151.9900, 5664,    500.2,   4.4035,  34.0555,2,  34.0570,2,   -999.0,5,  4.3663,     71.7,2,    91.53,2,    38.43,2,     0.00,2,     2.71,2, -999.000,9,-999.000,  -999.0,-999.000
    31WTMARAII,   P16,    63,  1,      9,      9,2,19840525,0620, 43.8283,-151.9900, 5664,    607.0,   3.9675,  34.1310,2,  34.1320,2,   -999.0,5,  3.9239,     49.6,2,   105.80,2,    40.77,2,     0.00,2,     2.86,2, -999.000,9,-999.000,  -999.0,-999.000
    31WTMARAII,   P16,    63,  1,     10,     10,2,19840525,0620, 43.8283,-151.9900, 5664,    708.0,   3.6835,  34.2034,2,  34.2060,2,   -999.0,5,  3.6336,     34.8,2,   117.53,2,    42.04,2,     0.00,2,     2.95,2, -999.000,9,-999.000,  -999.0,-999.000
    31WTMARAII,   P16,    63,  1,     11,     11,2,19840525,0620, 43.8283,-151.9900, 5664,    806.9,   3.4331,  34.2613,2,  34.2640,2,   -999.0,5,  3.3771,     25.6,2,   126.81,2,    43.02,2,     0.00,2,     3.00,2, -999.000,9,-999.000,  -999.0,-999.000
    31WTMARAII,   P16,    63,  1,     12,     12,2,19840525,0620, 43.8283,-151.9900, 5664,    904.4,   3.2274,  34.3087,2,  34.3110,2,   -999.0,5,  3.1653,     17.8,2,   135.12,2,    43.70,2,     0.00,2,     3.05,2, -999.000,9,-999.000,  -999.0,-999.000
    31WTMARAII,   P16,    63,  1,     13,     13,2,19840525,0620, 43.8283,-151.9900, 5664,   1004.7,   3.0046,  34.3562,2,  34.3590,2,   -999.0,5,  2.9366,     14.3,2,   144.89,2,    44.09,2,     0.00,2,     3.09,2, -999.000,9,-999.000,  -999.0,-999.000
    31WTMARAII,   P16,    63,  1,     14,     14,2,19840525,0620, 43.8283,-151.9900, 5664,   1256.8,   2.6406,  34.4381,2,  34.4420,2,   -999.0,5,  2.5564,     13.9,2,   157.10,2,    44.38,2,     0.00,2,     3.10,2, -999.000,9,-999.000,  -999.0,-999.000
    31WTMARAII,   P16,    63,  1,     15,     15,2,19840525,0620, 43.8283,-151.9900, 5664,   1507.1,   2.3442,  34.5000,2,  34.5030,2,   -999.0,5,  2.2436,     21.3,2,   166.48,2,    44.19,2,     0.00,2,     3.07,2, -999.000,9,   2.350,  1515.0,-999.000
    31WTMARAII,   P16,    63,  1,     16,     16,2,19840525,0620, 43.8283,-151.9900, 5664,   1768.7,   2.1242,  34.5476,2,  34.5500,2,   -999.0,5,  2.0053,     35.2,2,   171.85,2,    43.50,2,     0.00,2,     3.03,2, -999.000,9,-999.000,  -999.0,-999.000
    31WTMARAII,   P16,    63,  1,     17,     17,2,19840525,0620, 43.8283,-151.9900, 5664,   2015.2,   1.9564,  34.5834,2,  34.5850,2,   -999.0,5,  1.8196,     51.3,2,   175.46,2,    42.52,2,     0.00,2,     2.94,2, -999.000,9,-999.000,  -999.0,-999.000
    31WTMARAII,   P16,    63,  1,     18,     18,2,19840525,0620, 43.8283,-151.9900, 5664,   2517.7,   1.7071,  34.6307,2,  34.6310,2,   -999.0,5,  1.5308,     83.9,2,   175.94,2,    40.47,2,     0.00,2,     2.81,2, -999.000,9,-999.000,  -999.0,-999.000
    31WTMARAII,   P16,    63,  1,     19,     19,2,19840525,0620, 43.8283,-151.9900, 5664,   3031.4,   1.5575,  34.6576,2,  34.6590,2,   -999.0,5,  1.3366,    113.0,2,   170.66,2,    38.71,2,     0.00,2,     2.67,2, -999.000,9,   1.563,  3037.0,-999.000
    31WTMARAII,   P16,    63,  1,     20,     20,2,19840525,0620, 43.8283,-151.9900, 5664,   3538.6,   1.4848,  34.6738,2,  34.6750,2,   -999.0,5,  1.2151,    133.8,2,   166.26,2,    37.34,2,     0.00,2,     2.59,2, -999.000,9,-999.000,  -999.0,-999.000
    31WTMARAII,   P16,    63,  1,     21,     21,2,19840525,0620, 43.8283,-151.9900, 5664,   4038.7,   1.4747,  34.6827,2,  34.6830,2,   -999.0,5,  1.1523,    144.3,2,   166.55,2,    36.75,2,     0.00,2,     2.52,2, -999.000,9,-999.000,  -999.0,-999.000
    31WTMARAII,   P16,    63,  1,     22,     22,2,19840525,0620, 43.8283,-151.9900, 5664,   4544.3,   1.5137,  34.6859,2,  34.6850,2,   -999.0,5,  1.1331,    145.1,2,   169.19,2,    36.65,2,     0.00,2,  -999.00,9, -999.000,9,-999.000,  -999.0,-999.000
    31WTMARAII,   P16,    63,  1,     23,     23,2,19840525,0620, 43.8283,-151.9900, 5664,   5043.0,   1.5693,  34.6873,2,  34.6860,2,   -999.0,5,  1.1275,    146.9,2,   169.00,2,    36.46,2,     0.00,2,  -999.00,9, -999.000,9,   1.568,  5045.0,-999.000
    31WTMARAII,   P16,    63,  1,     24,     24,2,19840525,0620, 43.8283,-151.9900, 5664,   5802.7,   1.6669,  34.6881,2,  34.6870,2,   -999.0,5,  1.1249,    147.3,2,   170.27,2,    36.56,2,     0.00,2,     2.52,2, -999.000,9,-999.000,  -999.0,-999.000
    31WTMARAII,   P16,    64,  1,      7,      7,2,19840525,1205, 44.2933,-152.0167, 5089,      2.1,   7.4625,  32.8627,2,  32.8680,2,   -999.0,5,  7.4623,    305.7,2,    16.93,2,    10.86,2,     0.11,2,     1.12,2,    3.570,2,   7.445,  -999.0,   0.120
    31WTMARAII,   P16,    64,  1,      8,      8,2,19840525,1205, 44.2933,-152.0167, 5089,     49.5,   7.3847,  32.8603,2,  32.8630,2,   -999.0,5,  7.3801,    306.5,2,    16.64,2,    10.77,2,     0.11,2,     1.12,2, -999.000,9,-999.000,  -999.0,-999.000
    31WTMARAII,   P16,    64,  1,      9,      9,2,19840525,1205, 44.2933,-152.0167, 5089,    101.3,   6.3408,  32.9049,2,  32.9100,2,   -999.0,5,  6.3322,    305.2,2,    17.62,2,    11.84,2,     0.20,2,     1.18,2, -999.000,9,-999.000,  -999.0,-999.000
    31WTMARAII,   P16,    64,  1,     10,     10,2,19840525,1205, 44.2933,-152.0167, 5089,    134.0,   6.1664,  32.9323,2,  32.9310,2,   -999.0,5,  6.1552,    304.3,2,    18.01,2,    12.53,2,     0.22,2,     1.21,2,    3.290,2,-999.000,  -999.0,   0.120
    31WTMARAII,   P16,    64,  1,     11,     11,2,19840525,1205, 44.2933,-152.0167, 5089,    166.9,   6.5202,  33.6414,2,  33.6390,2,   -999.0,5,  6.5055,    257.6,2,    24.94,2,    17.70,2,     0.02,2,     1.36,2, -999.000,9,-999.000,  -999.0,-999.000
    31WTMARAII,   P16,    64,  1,     12,     12,2,19840525,1205, 44.2933,-152.0167, 5089,    199.2,   6.8749,  33.9023,2,  33.9030,2,   -999.0,5,  6.8568,    221.0,2,    34.42,2,    21.61,2,     0.02,2,     1.55,2,    3.175,2,-999.000,  -999.0,   0.149
    31WTMARAII,   P16,    64,  1,     13,     13,2,19840525,1205, 44.2933,-152.0167, 5089,    248.1,   5.8687,  33.8451,2,  33.8480,2,   -999.0,5,  5.8480,    204.0,2,    43.23,2,    24.94,2,     0.00,2,     1.80,2,    3.178,2,-999.000,  -999.0,   0.113
    31WTMARAII,   P16,    64,  1,     14,     14,2,19840525,1205, 44.2933,-152.0167, 5089,    297.3,   5.4756,  33.8807,2,  33.8830,2,   -999.0,5,  5.4516,    161.8,2,    54.18,2,    29.24,2,     0.00,2,     2.07,2,    2.841,2,-999.000,  -999.0,   0.097
    31WTMARAII,   P16,    64,  1,     15,     15,2,19840525,1205, 44.2933,-152.0167, 5089,    400.0,   4.8184,  33.9590,2,  33.9590,2,   -999.0,5,  4.7877,    104.8,2,    75.11,2,    35.50,2,     0.00,2,     2.48,2,    1.880,2,   4.832,   403.0,   0.090
    31WTMARAII,   P16,    64,  1,     16,     16,2,19840525,1205, 44.2933,-152.0167, 5089,    496.6,   4.4054,  34.0490,2,  34.0540,2,   -999.0,5,  4.3685,     73.1,2,    92.02,2,    38.72,2,     0.00,2,     2.70,2,    1.330,2,-999.000,  -999.0,   0.100
    31WTMARAII,   P16,    64,  1,     17,     17,2,19840525,1205, 44.2933,-152.0167, 5089,    600.4,   3.9863,  34.1240,2,  34.1270,2,   -999.0,5,  3.9431,     51.3,2,   106.09,2,    40.87,2,     0.00,2,     2.85,2,    1.210,2,-999.000,  -999.0,   0.110
    31WTMARAII,   P16,    64,  1,     18,     18,2,19840525,1205, 44.2933,-152.0167, 5089,    700.0,   3.7081,  34.1896,2,  34.1940,2,   -999.0,5,  3.6587,     37.8,2,   116.84,2,    42.04,2,     0.00,2,     2.93,2,    0.510,2,-999.000,  -999.0,   0.060
    31WTMARAII,   P16,    64,  1,     19,     19,2,19840525,1205, 44.2933,-152.0167, 5089,    800.6,   3.4596,  34.2523,2,  34.2560,2,   -999.0,5,  3.4040,     28.3,2,   127.10,2,    43.02,2,     0.00,2,     3.00,2,    0.140,2,   3.468,   802.0,   0.060
    31WTMARAII,   P16,    64,  1,     20,     20,2,19840525,1205, 44.2933,-152.0167, 5089,    896.8,   3.2441,  34.2995,2,  34.3050,2,   -999.0,5,  3.1825,     21.7,2,   135.12,2,    43.70,2,     0.00,2,     3.04,2,   -0.040,2,-999.000,  -999.0,   0.070
    31WTMARAII,   P16,    64,  1,     21,     21,2,19840525,1205, 44.2933,-152.0167, 5089,    988.8,   3.0768,  34.3385,2,  34.3410,2,   -999.0,5,  3.0095,     17.8,2,   140.78,2,    43.99,2,     0.00,2,     3.06,2,   -0.050,2,-999.000,  -999.0,   0.060
    31WTMARAII,   P16,    64,  1,     22,     22,2,19840525,1205, 44.2933,-152.0167, 5089,   1216.9,   2.6598,  34.4321,2,  34.4350,2,   -999.0,5,  2.5784,     13.5,2,   158.47,2,    44.68,2,     0.00,2,  -999.00,9, -999.000,9,-999.000,  -999.0,-999.000
    31WTMARAII,   P16,    64,  1,     23,     23,2,19840525,1205, 44.2933,-152.0167, 5089,   1508.6,   2.3265,  34.4994,2,  34.5050,2,   -999.0,5,  2.2259,     21.3,2,   168.92,2,    44.38,2,     0.00,2,  -999.00,9, -999.000,9,   2.332,  1508.0,-999.000
    31WTMARAII,   P16,    65,  1,      1,      1,2,19840525,1725, 44.7550,-152.0000, 5292,      1.0,   7.3990,-999.0000,9,  32.8610,2,   -999.0,5,-999.0000,   -999.0,9,    16.74,2,    10.96,2,     0.12,2,     1.13,2, -999.000,9,   7.397,     1.0,-999.000
    31WTMARAII,   P16,    65,  1,      2,      2,2,19840525,1725, 44.7550,-152.0000, 5292,     51.3,   7.2440,  32.8615,2,  32.8660,2,   -999.0,5,  7.2394,    307.0,2,    16.74,2,    10.96,2,     0.12,2,     1.14,2, -999.000,9,-999.000,  -999.0,-999.000
    31WTMARAII,   P16,    65,  1,      3,      3,2,19840525,1725, 44.7550,-152.0000, 5292,    102.1,   6.0495,  32.9006,2,  32.9050,2,   -999.0,5,  6.0411,    307.3,2,    17.71,2,    12.43,2,     0.18,2,     1.23,2, -999.000,9,-999.000,  -999.0,-999.000
    31WTMARAII,   P16,    65,  1,      4,      4,2,19840525,1725, 44.7550,-152.0000, 5292,    146.0,   6.2523,  33.4757,2,  33.4690,2,   -999.0,5,  6.2398,    271.5,2,    21.62,2,    16.44,2,     0.02,2,     1.31,2, -999.000,9,-999.000,  -999.0,-999.000
    31WTMARAII,   P16,    65,  1,      5,      5,2,19840525,1725, 44.7550,-152.0000, 5292,    192.9,   6.6824,  33.8709,2,  33.8740,2,   -999.0,5,  6.6651,    221.9,2,    33.94,2,    21.81,2,     0.01,2,     1.58,2, -999.000,9,-999.000,  -999.0,-999.000
    31WTMARAII,   P16,    65,  1,      6,      6,2,19840525,1725, 44.7550,-152.0000, 5292,    297.8,   5.3953,  33.8900,2,  33.8940,2,   -999.0,5,  5.3714,    151.8,2,    55.55,2,    30.12,2,     0.01,2,     2.15,2, -999.000,9,-999.000,  -999.0,-999.000
    31WTMARAII,   P16,    65,  1,      7,      7,2,19840525,1725, 44.7550,-152.0000, 5292,    393.6,   4.7589,  33.9549,2,  33.9570,2,   -999.0,5,  4.7290,    100.9,2,    74.03,2,    35.69,2,     0.00,2,     2.51,2, -999.000,9,-999.000,  -999.0,-999.000
    31WTMARAII,   P16,    65,  1,      8,      8,2,19840525,1725, 44.7550,-152.0000, 5292,    481.2,   4.3573,  34.0327,2,  34.0350,2,   -999.0,5,  4.3218,     73.1,2,    89.28,2,    38.63,2,     0.00,2,     2.71,2, -999.000,9,-999.000,  -999.0,-999.000
    31WTMARAII,   P16,    65,  1,      9,      9,2,19840525,1725, 44.7550,-152.0000, 5292,    597.8,   3.9768,  34.1197,2,  34.1220,2,   -999.0,5,  3.9339,     49.6,2,   104.43,2,    40.78,2,     0.00,2,     2.87,2, -999.000,9,-999.000,  -999.0,-999.000
    31WTMARAII,   P16,    65,  1,     10,     10,2,19840525,1725, 44.7550,-152.0000, 5292,    699.7,   3.7426,  34.1868,2,  34.1890,2,   -999.0,5,  3.6930,     37.8,2,   115.38,2,    41.65,2,     0.00,2,     2.93,2, -999.000,9,-999.000,  -999.0,-999.000
    31WTMARAII,   P16,    65,  1,     11,     11,2,19840525,1725, 44.7550,-152.0000, 5292,    799.2,   3.4371,  34.2610,2,  34.2630,2,   -999.0,5,  3.3817,     25.6,2,   127.10,2,    42.82,2,     0.00,2,     3.00,2, -999.000,9,-999.000,  -999.0,-999.000
    31WTMARAII,   P16,    65,  1,     12,     12,2,19840525,1725, 44.7550,-152.0000, 5292,    889.4,   3.2622,  34.3006,2,  34.3020,2,   -999.0,5,  3.2011,     21.7,2,   132.77,2,    43.31,2,     0.00,2,     3.01,2, -999.000,9,-999.000,  -999.0,-999.000
    31WTMARAII,   P16,    65,  1,     13,     13,2,19840525,1725, 44.7550,-152.0000, 5292,   1015.8,   3.0114,  34.3584,2,  34.3610,2,   -999.0,5,  2.9425,     14.8,2,   142.35,2,    43.99,2,     0.00,2,     3.06,2, -999.000,9,-999.000,  -999.0,-999.000
    31WTMARAII,   P16,    65,  1,     14,     14,2,19840525,1725, 44.7550,-152.0000, 5292,   1251.8,   2.6269,  34.4374,2,  34.4420,2,   -999.0,5,  2.5432,     15.6,2,   156.12,2,    44.19,2,     0.00,2,     3.07,2, -999.000,9,-999.000,  -999.0,-999.000
    31WTMARAII,   P16,    65,  1,     15,     15,2,19840525,1725, 44.7550,-152.0000, 5292,   1499.8,   2.3349,  34.5019,2,  34.5060,2,   -999.0,5,  2.2349,     21.7,2,   167.45,2,    44.19,2,     0.00,2,     3.05,2, -999.000,9,   2.340,  1508.0,-999.000
    31WTMARAII,   P16,    65,  1,     16,     16,2,19840525,1725, 44.7550,-152.0000, 5292,   1752.7,   2.1106,  34.5503,2,  34.5540,2,   -999.0,5,  1.9932,     35.6,2,   173.80,2,    43.40,2,     0.00,2,     3.03,2, -999.000,9,-999.000,  -999.0,-999.000
    31WTMARAII,   P16,    65,  1,     17,     17,2,19840525,1725, 44.7550,-152.0000, 5292,   2040.8,   1.9112,  34.5904,2,  34.5940,2,   -999.0,5,  1.7728,     54.8,2,   176.24,2,    42.23,2,     0.00,2,     2.90,2, -999.000,9,-999.000,  -999.0,-999.000
    31WTMARAII,   P16,    65,  1,     18,     18,2,19840525,1725, 44.7550,-152.0000, 5292,   2505.5,   1.6915,  34.6313,2,  34.6340,2,   -999.0,5,  1.5165,     85.2,2,   176.04,2,    40.47,2,     0.00,2,     2.76,2, -999.000,9,-999.000,  -999.0,-999.000
    31WTMARAII,   P16,    65,  1,     19,     19,2,19840525,1725, 44.7550,-152.0000, 5292,   3050.7,   1.5527,  34.6581,2,  34.6590,2,   -999.0,5,  1.3300,    115.2,2,   171.05,2,    38.61,2,     0.00,2,     2.64,2, -999.000,9,   1.558,  3057.0,-999.000
    31WTMARAII,   P16,    65,  1,     20,     20,2,19840525,1725, 44.7550,-152.0000, 5292,   3531.0,   1.4856,  34.6712,2,  34.6750,2,   -999.0,5,  1.2167,    133.8,2,   165.58,2,    37.34,2,     0.00,2,     2.54,2, -999.000,9,-999.000,  -999.0,-999.000
    31WTMARAII,   P16,    65,  1,     21,     21,2,19840525,1725, 44.7550,-152.0000, 5292,   4082.7,   1.4769,  34.6815,2,  34.6820,2,   -999.0,5,  1.1497,    144.7,2,   167.33,2,    36.65,2,     0.00,2,     2.49,2, -999.000,9,-999.000,  -999.0,-999.000
    31WTMARAII,   P16,    65,  1,     22,     22,2,19840525,1725, 44.7550,-152.0000, 5292,   4545.2,   1.5124,  34.6847,2,  34.6860,2,   -999.0,5,  1.1318,    144.7,2,  -999.00,9,    36.75,2,     0.00,2,  -999.00,9, -999.000,9,-999.000,  -999.0,-999.000
    31WTMARAII,   P16,    65,  1,     23,     23,2,19840525,1725, 44.7550,-152.0000, 5292,   5028.5,   1.5637,  34.6868,2,  34.6860,2,   -999.0,5,  1.1238,    146.4,2,   170.95,2,    36.56,2,     0.00,2,  -999.00,9, -999.000,9,   1.563,  5014.0,-999.000
    31WTMARAII,   P16,    65,  1,     24,     24,2,19840525,1725, 44.7550,-152.0000, 5292,   5411.8,   1.6111,  34.6872,2,  34.6880,2,   -999.0,5,  1.1218,    148.2,2,   171.24,2,    36.56,2,     0.00,2,     2.47,2, -999.000,9,-999.000,  -999.0,-999.000