BOTTLE,20220816CCHSIOAMB
EXPOCODE,SECT_ID,STNNBR,CASTNO,SAMPNO,BTLNBR,BTLNBR_FLAG_W,DATE,TIME,LATITUDE,LONGITUDE,DEPTH,CTDPRS,CTDTMP,CTDSAL,CTDSAL_FLAG_W,SALNTY,SALNTY_FLAG_W,CTDOXY,CTDOXY_FLAG_W,THETA,OXYGEN,OXYGEN_FLAG_W,SILCAT,SILCAT_FLAG_W,NITRAT,NITRAT_FLAG_W,NITRIT,NITRIT_FLAG_W,PHSPHT,PHSPHT_FLAG_W,TRITUM,TRITUM_FLAG_W,REVTMP,REVPRS,TRITER
,,,,,,,,,,,,DBAR,ITS-90,PSS-78,,PSS-78,,UMOL/KG,,DEG C,UMOL/KG,,UMOL/KG,,UMOL/KG,,UMOL/KG,,UMOL/KG,,TU,,,DBAR,TU
    31WTMARAII,   P16,    38,  1,      1,      1,2,19840516,1416, 34.3067,-152.0017, 5652,      1.0,  15.9560,-999.0000,9,  34.1100,2,   -999.0,5,-999.0000,   -999.0,9,     6.26,2,     0.00,2,     0.00,2,     0.16,2, -999.000,9,  15.952,     1.0,-999.000
    31WTMARAII,   P16,    38,  1,      2,      2,2,19840516,1416, 34.3067,-152.0017, 5652,     53.4,  13.8385,  34.2306,2,  34.2270,2,   -999.0,5, 13.8309,    262.1,2,     6.26,2,     1.17,2,     0.28,2,     0.25,2, -999.000,9,-999.000,  -999.0,-999.000
    31WTMARAII,   P16,    38,  1,      3,      3,2,19840516,1416, 34.3067,-152.0017, 5652,    103.8,  12.5954,  34.1698,2,  34.1700,2,   -999.0,5, 12.5815,    253.4,2,     7.04,2,     4.59,2,     0.04,2,     0.43,2, -999.000,9,-999.000,  -999.0,-999.000
    31WTMARAII,   P16,    38,  1,      4,      4,2,19840516,1416, 34.3067,-152.0017, 5652,    154.4,  11.8591,  34.2343,2,  34.2330,2,   -999.0,5, 11.8393,    242.0,2,    10.46,2,     8.32,2,     0.01,2,     0.64,2, -999.000,9,-999.000,  -999.0,-999.000
    31WTMARAII,   P16,    38,  1,      5,      5,2,19840516,1416, 34.3067,-152.0017, 5652,    205.2,  10.7875,  34.2149,2,  34.2160,2,   -999.0,5, 10.7627,    242.8,2,    14.28,2,    11.05,2,     0.00,2,     0.80,2, -999.000,9,-999.000,  -999.0,-999.000
    31WTMARAII,   P16,    38,  1,      6,      6,2,19840516,1416, 34.3067,-152.0017, 5652,    305.5,   9.8293,  34.1616,2,  34.1640,2,   -999.0,5,  9.7944,    228.9,2,    19.75,2,    14.47,2,     0.00,2,     1.03,2, -999.000,9,-999.000,  -999.0,-999.000
    31WTMARAII,   P16,    38,  1,      7,      7,2,19840516,1416, 34.3067,-152.0017, 5652,    407.0,   8.1163,  34.0661,2,  34.0770,2,   -999.0,5,  8.0748,    193.6,2,    33.05,2,    21.22,2,     0.00,2,     1.50,2, -999.000,9,-999.000,  -999.0,-999.000
    31WTMARAII,   P16,    38,  1,      8,      8,2,19840516,1416, 34.3067,-152.0017, 5652,    507.5,   6.4889,  33.9925,2,  33.9940,2,   -999.0,5,  6.4430,    146.6,2,    52.42,2,    28.75,2,     0.00,2,     2.01,2, -999.000,9,-999.000,  -999.0,-999.000
    31WTMARAII,   P16,    38,  1,      9,      9,2,19840516,1416, 34.3067,-152.0017, 5652,    608.6,   5.2497,  33.9968,2,  33.9990,2,   -999.0,5,  5.2001,    102.2,2,    72.37,2,    34.91,2,     0.00,2,     2.45,2, -999.000,9,-999.000,  -999.0,-999.000
    31WTMARAII,   P16,    38,  1,     10,     10,2,19840516,1416, 34.3067,-152.0017, 5652,    708.5,   4.4571,  34.0643,2,  34.0680,2,   -999.0,5,  4.4031,     57.4,2,    91.72,2,    39.99,2,     0.00,2,  -999.00,9, -999.000,9,-999.000,  -999.0,-999.000
    31WTMARAII,   P16,    38,  1,     11,     11,2,19840516,1416, 34.3067,-152.0017, 5652,    810.5,   3.9563,  34.1717,2,  34.1730,2,   -999.0,5,  3.8968,     29.1,2,   109.32,2,    42.73,2,     0.00,2,     2.99,2, -999.000,9,-999.000,  -999.0,-999.000
    31WTMARAII,   P16,    38,  1,     12,     12,2,19840516,1416, 34.3067,-152.0017, 5652,    911.5,   3.6673,  34.2521,2,  34.2540,2,   -999.0,5,  3.6016,     16.1,2,   120.94,2,    43.61,2,     0.00,2,     3.04,2, -999.000,9,   3.668,   915.0,-999.000
    31WTMARAII,   P16,    38,  1,     13,     13,2,19840516,1416, 34.3067,-152.0017, 5652,   1012.7,   3.4611,  34.3307,2,  34.3340,2,   -999.0,5,  3.3889,     10.0,2,   130.32,2,    44.29,2,     0.00,2,     3.14,2, -999.000,9,-999.000,  -999.0,-999.000
    31WTMARAII,   P16,    38,  1,     14,     14,2,19840516,1416, 34.3067,-152.0017, 5652,   1265.1,   2.9758,  34.4505,2,  34.4530,2,   -999.0,5,  2.8877,     15.6,2,   146.15,2,    44.48,2,     0.00,2,     3.13,2, -999.000,9,-999.000,  -999.0,-999.000
    31WTMARAII,   P16,    38,  1,     15,     15,2,19840516,1416, 34.3067,-152.0017, 5652,   1518.4,   2.5977,  34.5317,2,  34.5340,2,   -999.0,5,  2.4932,     36.5,2,   155.43,2,    43.40,2,     0.00,2,     3.06,2, -999.000,9,   2.605,  1528.0,-999.000
    31WTMARAII,   P16,    38,  1,     16,     16,2,19840516,1416, 34.3067,-152.0017, 5652,   1771.9,   2.1915,  34.5765,2,  34.5790,2,   -999.0,5,  2.0713,     52.6,2,   165.49,2,    42.52,2,     0.00,2,     2.96,2, -999.000,9,-999.000,  -999.0,-999.000
    31WTMARAII,   P16,    38,  1,     17,     17,2,19840516,1416, 34.3067,-152.0017, 5652,   2025.4,   1.9508,  34.6059,2,  34.6080,2,   -999.0,5,  1.8131,     68.2,2,   171.25,2,    41.54,2,     0.00,2,     2.88,2, -999.000,9,-999.000,  -999.0,-999.000
    31WTMARAII,   P16,    38,  1,     18,     18,2,19840516,1416, 34.3067,-152.0017, 5652,   2532.4,   1.6801,  34.6423,2,  34.6450,2,   -999.0,5,  1.5029,     97.3,2,   173.11,2,    39.68,2,     0.00,2,     2.77,2, -999.000,9,-999.000,  -999.0,-999.000
    31WTMARAII,   P16,    38,  1,     19,     19,2,19840516,1416, 34.3067,-152.0017, 5652,   3041.8,   1.5361,  34.6624,2,  34.6650,2,   -999.0,5,  1.3146,    120.8,2,   168.61,2,    38.51,2,     0.00,2,     2.65,2, -999.000,9,   1.545,  3050.0,-999.000
    31WTMARAII,   P16,    38,  1,     20,     20,2,19840516,1416, 34.3067,-152.0017, 5652,   3549.4,   1.4794,  34.6748,2,  34.6770,2,   -999.0,5,  1.2087,    136.4,2,   162.35,2,    37.34,2,     0.00,2,     2.56,2, -999.000,9,-999.000,  -999.0,-999.000
    31WTMARAII,   P16,    38,  1,     21,     21,2,19840516,1416, 34.3067,-152.0017, 5652,   4063.4,   1.4717,  34.6819,2,  34.6830,2,   -999.0,5,  1.1467,    146.0,2,   156.09,2,    36.65,2,     0.00,2,     2.50,2, -999.000,9,-999.000,  -999.0,-999.000
    31WTMARAII,   P16,    38,  1,     22,     22,2,19840516,1416, 34.3067,-152.0017, 5652,   4574.0,   1.4971,  34.6859,2,  34.6860,2,   -999.0,5,  1.1136,   -999.0,9,  -999.00,9,    36.26,2,     0.00,2,  -999.00,9, -999.000,9,-999.000,  -999.0,-999.000
    31WTMARAII,   P16,    38,  1,     23,     23,2,19840516,1416, 34.3067,-152.0017, 5652,   5186.4,   1.5501,  34.6887,2,  34.6890,2,   -999.0,5,  1.0913,    156.4,2,   150.91,2,    35.87,2,     0.00,2,     2.41,2, -999.000,9,   1.553,  5191.0,-999.000
    31WTMARAII,   P16,    38,  1,     24,     24,2,19840516,1416, 34.3067,-152.0017, 5652,   5790.5,   1.6239,  34.6903,2,  34.6900,2,   -999.0,5,  1.0851,    159.5,2,   147.98,2,    35.77,2,     0.00,2,     2.47,2, -999.000,9,-999.000,  -999.0,-999.000
    31WTMARAII,   P16,    39,  1,      7,      7,2,19840516,2046, 34.6550,-151.9967, 5629,      0.3,  16.1657,  34.0257,2,  34.0380,2,   -999.0,5, 16.1656,    255.3,2,     4.60,2,     0.00,2,     0.00,2,     0.31,2, -999.000,9,  16.138,  -999.0,-999.000
    31WTMARAII,   P16,    39,  1,      8,      8,2,19840516,2046, 34.6550,-151.9967, 5629,     36.3,  14.9100,  34.1042,2,  34.0970,2,   -999.0,5, 14.9046,    263.5,2,     5.08,2,     0.00,2,     0.00,2,     0.20,2, -999.000,9,-999.000,  -999.0,-999.000
    31WTMARAII,   P16,    39,  1,      9,      9,2,19840516,2046, 34.6550,-151.9967, 5629,     81.6,  13.1892,  34.1367,2,  34.1350,2,   -999.0,5, 13.1780,    254.3,2,     5.08,2,     1.95,2,     0.89,2,     0.36,2, -999.000,9,-999.000,  -999.0,-999.000
    31WTMARAII,   P16,    39,  1,     10,     10,2,19840516,2046, 34.6550,-151.9967, 5629,    121.5,  12.4786,  34.1479,2,  34.1470,2,   -999.0,5, 12.4625,    250.8,2,     6.45,2,     4.92,2,     0.02,2,     0.47,2, -999.000,9,-999.000,  -999.0,-999.000
    31WTMARAII,   P16,    39,  1,     11,     11,2,19840516,2046, 34.6550,-151.9967, 5629,    161.1,  11.1540,  34.2028,2,  34.2020,2,   -999.0,5, 11.1342,    240.7,2,    11.44,2,    10.17,2,     0.01,2,     0.77,2, -999.000,9,-999.000,  -999.0,-999.000
    31WTMARAII,   P16,    39,  1,     12,     12,2,19840516,2046, 34.6550,-151.9967, 5629,    202.1,  10.6194,  34.1729,2,  34.1720,2,   -999.0,5, 10.5953,    242.8,2,    13.00,2,    11.05,2,     0.01,2,     0.82,2, -999.000,9,  10.610,   205.0,-999.000
    31WTMARAII,   P16,    39,  1,     13,     13,2,19840516,2046, 34.6550,-151.9967, 5629,    252.8,  10.0911,  34.1472,2,  34.1500,2,   -999.0,5, 10.0618,    235.4,2,    16.23,2,    13.00,2,     0.01,2,     0.96,2, -999.000,9,-999.000,  -999.0,-999.000
    31WTMARAII,   P16,    39,  1,     14,     14,2,19840516,2046, 34.6550,-151.9967, 5629,    302.9,   9.6316,  34.1431,2,  34.1390,2,   -999.0,5,  9.5975,    225.0,2,    20.44,2,    15.35,2,     0.01,2,     1.10,2, -999.000,9,-999.000,  -999.0,-999.000
    31WTMARAII,   P16,    39,  1,     15,     15,2,19840516,2046, 34.6550,-151.9967, 5629,    404.0,   8.3087,  34.0736,2,  34.0770,2,   -999.0,5,  8.2669,    200.6,2,    30.80,2,    20.34,2,     0.00,2,     1.43,2, -999.000,9,   8.305,  -999.0,-999.000
    31WTMARAII,   P16,    39,  1,     16,     16,2,19840516,2046, 34.6550,-151.9967, 5629,    505.0,   6.5890,  33.9901,2,  33.9960,2,   -999.0,5,  6.5430,    156.6,2,    49.48,2,    27.67,2,     0.00,2,     1.98,2, -999.000,9,-999.000,  -999.0,-999.000
    31WTMARAII,   P16,    39,  1,     17,     17,2,19840516,2046, 34.6550,-151.9967, 5629,    605.7,   5.2262,  34.0005,2,  34.0010,2,   -999.0,5,  5.1769,    108.3,2,    73.05,2,    34.23,2,     0.00,2,     2.43,2, -999.000,9,-999.000,  -999.0,-999.000
    31WTMARAII,   P16,    39,  1,     18,     18,2,19840516,2046, 34.6550,-151.9967, 5629,    706.8,   4.4206,  34.0717,2,-999.0000,9,   -999.0,5,  4.3669,     63.5,2,    92.60,2,    39.41,2,     0.00,2,     2.77,2, -999.000,9,-999.000,  -999.0,-999.000
    31WTMARAII,   P16,    39,  1,     19,     19,2,19840516,2046, 34.6550,-151.9967, 5629,    807.6,   3.9210,  34.1636,2,  34.1630,2,   -999.0,5,  3.8620,     33.5,2,   109.22,2,    42.34,2,     0.00,2,     2.98,2, -999.000,9,   3.925,   808.0,-999.000
    31WTMARAII,   P16,    39,  1,     20,     20,2,19840516,2046, 34.6550,-151.9967, 5629,    909.0,   3.5889,  34.2462,2,  34.2480,2,   -999.0,5,  3.5240,     18.3,2,   123.00,2,    43.61,2,     0.00,2,     3.08,2, -999.000,9,-999.000,  -999.0,-999.000
    31WTMARAII,   P16,    39,  1,     21,     21,2,19840516,2046, 34.6550,-151.9967, 5629,   1010.1,   3.3386,  34.3198,2,  34.3180,2,   -999.0,5,  3.2676,     10.9,2,   133.06,2,    44.39,2,     0.00,2,     3.14,2, -999.000,9,-999.000,  -999.0,-999.000
    31WTMARAII,   P16,    39,  1,     24,     24,2,19840516,2046, 34.6550,-151.9967, 5629,   1263.1,   2.9519,  34.4638,2,  34.4660,2,   -999.0,5,  2.8641,     16.1,2,   145.27,2,    44.48,2,     0.00,2,     3.16,2, -999.000,9,-999.000,  -999.0,-999.000
    31WTMARAII,   P16,    39,  1,     22,     22,2,19840516,2046, 34.6550,-151.9967, 5629,   1263.1,   2.9488,  34.4653,2,  34.4630,2,   -999.0,5,  2.8610,     16.1,2,   146.15,2,    44.48,2,     0.01,2,  -999.00,9, -999.000,9,-999.000,  -999.0,-999.000
    31WTMARAII,   P16,    39,  1,     23,     23,2,19840516,2046, 34.6550,-151.9967, 5629,   1515.7,   2.5691,  34.5342,2,  34.5330,2,   -999.0,5,  2.4651,     32.2,2,   155.43,2,    43.70,2,     0.00,2,  -999.00,9, -999.000,9,   2.559,  1515.0,-999.000
    31WTMARAII,   P16,    40,  1,      1,      1,2,19840517,0322, 35.0000,-151.9867, 5686,      1.0,  15.8850,-999.0000,9,  34.0270,2,   -999.0,5,-999.0000,   -999.0,9,     4.89,2,     0.00,2,     0.00,2,     0.20,2, -999.000,9,  15.881,     1.0,-999.000
    31WTMARAII,   P16,    40,  1,      2,      2,2,19840517,0322, 35.0000,-151.9867, 5686,     56.4,  13.0620,  34.0406,2,  34.0410,2,   -999.0,5, 13.0544,    266.0,2,     4.60,2,     0.66,2,     0.43,2,     0.27,2, -999.000,9,-999.000,  -999.0,-999.000
    31WTMARAII,   P16,    40,  1,      3,      3,2,19840517,0322, 35.0000,-151.9867, 5686,    105.9,  12.5609,  34.0928,2,  34.0930,2,   -999.0,5, 12.5468,    249.9,2,     5.18,2,     4.21,2,     0.02,2,     0.41,2, -999.000,9,-999.000,  -999.0,-999.000
    31WTMARAII,   P16,    40,  1,      4,      4,2,19840517,0322, 35.0000,-151.9867, 5686,    155.4,  11.2290,  34.2305,2,  34.2360,2,   -999.0,5, 11.2098,    238.5,2,    11.93,2,    10.56,2,     0.01,2,     0.76,2, -999.000,9,-999.000,  -999.0,-999.000
    31WTMARAII,   P16,    40,  1,      5,      5,2,19840517,0322, 35.0000,-151.9867, 5686,    205.4,  10.6142,  34.1992,2,  34.2010,2,   -999.0,5, 10.5897,    241.5,2,    13.49,2,    11.44,2,     0.01,2,     0.76,2, -999.000,9,-999.000,  -999.0,-999.000
    31WTMARAII,   P16,    40,  1,      6,      6,2,19840517,0322, 35.0000,-151.9867, 5686,    306.3,   9.6597,  34.1396,2,  34.1410,2,   -999.0,5,  9.6251,    228.4,2,    19.17,2,    14.76,2,     0.00,2,     1.05,2, -999.000,9,-999.000,  -999.0,-999.000
    31WTMARAII,   P16,    40,  1,      7,      7,2,19840517,0322, 35.0000,-151.9867, 5686,    406.7,   7.9895,  34.0425,2,  34.0450,2,   -999.0,5,  7.9484,    194.9,2,    32.86,2,    21.32,2,     0.00,2,     1.48,2, -999.000,9,-999.000,  -999.0,-999.000
    31WTMARAII,   P16,    40,  1,      8,      8,2,19840517,0322, 35.0000,-151.9867, 5686,    507.8,   6.4902,  33.9845,2,  33.9870,2,   -999.0,5,  6.4443,    153.5,2,    50.36,2,    27.97,2,     0.00,2,     1.95,2, -999.000,9,-999.000,  -999.0,-999.000
    31WTMARAII,   P16,    40,  1,      9,      9,2,19840517,0322, 35.0000,-151.9867, 5686,    608.2,   5.1584,  33.9960,2,  33.9990,2,   -999.0,5,  5.1092,    101.8,2,    73.73,2,    34.81,2,     0.01,2,     2.39,2, -999.000,9,-999.000,  -999.0,-999.000
    31WTMARAII,   P16,    40,  1,     10,     10,2,19840517,0322, 35.0000,-151.9867, 5686,    708.2,   4.4116,  34.0673,2,  34.0680,2,   -999.0,5,  4.3578,     61.7,2,    92.02,2,    39.41,2,     0.00,2,     2.73,2, -999.000,9,-999.000,  -999.0,-999.000
    31WTMARAII,   P16,    40,  1,     11,     11,2,19840517,0322, 35.0000,-151.9867, 5686,    807.4,   3.9124,  34.1562,2,  34.1580,2,   -999.0,5,  3.8535,     32.6,2,   108.83,2,    42.34,2,     0.00,2,     2.93,2, -999.000,9,-999.000,  -999.0,-999.000
    31WTMARAII,   P16,    40,  1,     12,     12,2,19840517,0322, 35.0000,-151.9867, 5686,    907.0,   3.5624,  34.2482,2,  34.2500,2,   -999.0,5,  3.4979,     17.4,2,   123.88,2,    43.70,2,     0.00,2,     3.01,2, -999.000,9,   3.556,   909.0,-999.000
    31WTMARAII,   P16,    40,  1,     13,     13,2,19840517,0322, 35.0000,-151.9867, 5686,   1003.1,   3.3224,  34.3137,2,  34.3150,2,   -999.0,5,  3.2521,     11.3,2,   133.94,2,    44.29,2,     0.00,2,     3.10,2, -999.000,9,-999.000,  -999.0,-999.000
    31WTMARAII,   P16,    40,  1,     14,     14,2,19840517,0322, 35.0000,-151.9867, 5686,   1250.9,   2.8796,  34.4390,2,  34.4420,2,   -999.0,5,  2.7935,     10.9,2,   148.89,2,    44.68,2,     0.00,2,     3.10,2, -999.000,9,-999.000,  -999.0,-999.000
    31WTMARAII,   P16,    40,  1,     15,     15,2,19840517,0322, 35.0000,-151.9867, 5686,   1499.0,   2.5472,  34.5299,2,  34.5320,2,   -999.0,5,  2.4448,     31.7,2,   154.84,2,    43.60,2,     0.00,2,     3.03,2, -999.000,9,   2.544,  1509.0,-999.000
    31WTMARAII,   P16,    40,  1,     16,     16,2,19840517,0322, 35.0000,-151.9867, 5686,   1735.2,   2.2130,  34.5730,2,  34.5760,2,   -999.0,5,  2.0956,     49.1,2,   165.78,2,    42.62,2,     0.00,2,     2.95,2, -999.000,9,-999.000,  -999.0,-999.000
    31WTMARAII,   P16,    40,  1,     17,     17,2,19840517,0322, 35.0000,-151.9867, 5686,   1986.0,   1.9728,  34.6027,2,  34.6040,2,   -999.0,5,  1.8380,     63.4,2,   171.25,2,    41.74,2,     0.00,2,     2.89,2, -999.000,9,-999.000,  -999.0,-999.000
    31WTMARAII,   P16,    40,  1,     18,     18,2,19840517,0322, 35.0000,-151.9867, 5686,   2484.4,   1.6789,  34.6406,2,  34.6430,2,   -999.0,5,  1.5060,     93.9,2,   172.32,2,    39.88,2,     0.00,2,     2.74,2, -999.000,9,-999.000,  -999.0,-999.000
    31WTMARAII,   P16,    40,  1,     19,     19,2,19840517,0322, 35.0000,-151.9867, 5686,   2981.0,   1.5328,  34.6623,2,  34.6640,2,   -999.0,5,  1.3172,    119.9,2,   164.99,2,    38.22,2,     0.00,2,     2.63,2, -999.000,9,   1.535,  2988.0,-999.000
    31WTMARAII,   P16,    40,  1,     20,     20,2,19840517,0322, 35.0000,-151.9867, 5686,   3474.5,   1.4816,  34.6740,2,  34.6770,2,   -999.0,5,  1.2186,    135.1,2,   162.06,2,    37.24,2,     0.00,2,     2.54,2, -999.000,9,-999.000,  -999.0,-999.000
    31WTMARAII,   P16,    40,  1,     21,     21,2,19840517,0322, 35.0000,-151.9867, 5686,   3979.5,   1.4709,  34.6822,2,  34.6830,2,   -999.0,5,  1.1551,    144.7,2,   159.61,2,    36.46,2,     0.00,2,     2.50,2, -999.000,9,-999.000,  -999.0,-999.000
    31WTMARAII,   P16,    40,  1,     25,     25,2,19840517,0322, 35.0000,-151.9867, 5686,   4588.1,   1.5045,  34.6862,2,  34.6870,2,   -999.0,5,  1.1192,    151.2,2,   155.31,2,    36.26,2,     0.00,2,     2.47,2, -999.000,9,-999.000,  -999.0,-999.000
    31WTMARAII,   P16,    40,  1,     23,     23,2,19840517,0322, 35.0000,-151.9867, 5686,   5198.8,   1.5547,  34.6899,2,  34.6900,2,   -999.0,5,  1.0941,    156.9,2,  -999.00,9,    35.77,2,     0.00,2,  -999.00,9, -999.000,9,   1.550,  5193.0,-999.000
    31WTMARAII,   P16,    40,  1,     24,     24,2,19840517,0322, 35.0000,-151.9867, 5686,   5857.1,   1.6362,  34.6911,2,  34.6910,2,   -999.0,5,  1.0881,   -999.0,9,   149.35,2,    35.68,2,     0.00,2,     2.44,2, -999.000,9,-999.000,  -999.0,-999.000