BOTTLE,20220816CCHSIOAMB
EXPOCODE,SECT_ID,STNNBR,CASTNO,SAMPNO,BTLNBR,BTLNBR_FLAG_W,DATE,TIME,LATITUDE,LONGITUDE,DEPTH,CTDPRS,CTDTMP,CTDSAL,CTDSAL_FLAG_W,SALNTY,SALNTY_FLAG_W,CTDOXY,CTDOXY_FLAG_W,THETA,OXYGEN,OXYGEN_FLAG_W,SILCAT,SILCAT_FLAG_W,NITRAT,NITRAT_FLAG_W,NITRIT,NITRIT_FLAG_W,PHSPHT,PHSPHT_FLAG_W,TRITUM,TRITUM_FLAG_W,REVTMP,REVPRS,TRITER
,,,,,,,,,,,,DBAR,ITS-90,PSS-78,,PSS-78,,UMOL/KG,,DEG C,UMOL/KG,,UMOL/KG,,UMOL/KG,,UMOL/KG,,UMOL/KG,,TU,,,DBAR,TU
    31WTMARAII,   P16,    91,  1,      1,      1,2,19840601,1215, 55.2317,-152.5250, 4465,      1.0,   8.2760,-999.0000,9,  32.3640,2,   -999.0,5,-999.0000,   -999.0,9,    10.87,2,     4.50,2,     0.10,2,     0.83,2, -999.000,9,   8.274,     1.0,-999.000
    31WTMARAII,   P16,    91,  1,      2,      2,2,19840601,1215, 55.2317,-152.5250, 4465,     45.7,   6.1208,  32.5283,2,  32.5230,2,   -999.0,5,  6.1171,    299.2,2,    18.80,2,    11.06,2,     0.28,2,     1.17,2, -999.000,9,-999.000,  -999.0,-999.000
    31WTMARAII,   P16,    91,  1,      3,      3,2,19840601,1215, 55.2317,-152.5250, 4465,    100.2,   5.4371,  33.1999,2,  33.1950,2,   -999.0,5,  5.4293,    205.4,2,    39.82,2,    24.85,2,     0.02,2,     1.88,2, -999.000,9,-999.000,  -999.0,-999.000
    31WTMARAII,   P16,    91,  1,      4,      4,2,19840601,1215, 55.2317,-152.5250, 4465,    130.4,   5.2955,  33.5443,2,  33.5420,2,   -999.0,5,  5.2854,    155.3,2,    49.89,2,    30.33,2,     0.02,2,     2.18,2, -999.000,9,-999.000,  -999.0,-999.000
    31WTMARAII,   P16,    91,  1,     26,     26,2,19840601,1215, 55.2317,-152.5250, 4465,    164.2,   4.6530,  33.7640,2,  33.7660,2,   -999.0,5,  4.6410,    105.7,2,    65.34,2,    36.19,2,     0.01,2,     2.53,2, -999.000,9,-999.000,  -999.0,-999.000
    31WTMARAII,   P16,    91,  1,     27,     27,2,19840601,1215, 55.2317,-152.5250, 4465,    198.8,   4.3151,  33.8213,2,  33.8260,2,   -999.0,5,  4.3010,     83.5,2,    74.33,2,    38.93,2,     0.01,2,     2.71,2, -999.000,9,-999.000,  -999.0,-999.000
    31WTMARAII,   P16,    91,  1,     28,     28,2,19840601,1215, 55.2317,-152.5250, 4465,    248.6,   4.0888,  33.8829,2,  33.8850,2,   -999.0,5,  4.0715,     60.5,2,    83.13,2,    41.27,2,     0.01,2,     2.86,2, -999.000,9,-999.000,  -999.0,-999.000
    31WTMARAII,   P16,    91,  1,      8,      8,2,19840601,1215, 55.2317,-152.5250, 4465,    299.6,   3.9990,  33.9408,2,  33.9410,2,   -999.0,5,  3.9782,     44.4,2,    89.48,2,    42.44,2,     0.01,2,     2.93,2, -999.000,9,-999.000,  -999.0,-999.000
    31WTMARAII,   P16,    91,  1,      9,      9,2,19840601,1215, 55.2317,-152.5250, 4465,    398.7,   3.8775,  34.0449,2,  34.0470,2,   -999.0,5,  3.8498,     30.9,2,   101.01,2,    43.22,2,     0.00,2,     2.99,2, -999.000,9,-999.000,  -999.0,-999.000
    31WTMARAII,   P16,    91,  1,     10,     10,2,19840601,1215, 55.2317,-152.5250, 4465,    498.8,   3.7280,  34.1447,2,  34.1450,2,   -999.0,5,  3.6936,     23.0,2,   113.13,2,    43.51,2,     0.00,2,     3.02,2, -999.000,9,-999.000,  -999.0,-999.000
    31WTMARAII,   P16,    91,  1,     11,     11,2,19840601,1215, 55.2317,-152.5250, 4465,    598.9,   3.4271,  34.1945,2,  34.1980,2,   -999.0,5,  3.3866,     21.3,2,   123.88,2,    43.71,2,     0.00,2,     3.04,2, -999.000,9,-999.000,  -999.0,-999.000
    31WTMARAII,   P16,    91,  1,     12,     12,2,19840601,1215, 55.2317,-152.5250, 4465,    697.9,   3.2699,  34.2544,2,  34.2570,2,   -999.0,5,  3.2230,     20.0,2,   132.78,2,    43.70,2,     0.00,2,     3.04,2, -999.000,9,-999.000,  -999.0,-999.000
    31WTMARAII,   P16,    91,  1,     13,     13,2,19840601,1215, 55.2317,-152.5250, 4465,    796.9,   3.1380,  34.2988,2,  34.3020,2,   -999.0,5,  3.0846,     18.3,2,   137.56,2,    43.90,2,     0.00,2,     3.06,2, -999.000,9,-999.000,  -999.0,-999.000
    31WTMARAII,   P16,    91,  1,     14,     14,2,19840601,1215, 55.2317,-152.5250, 4465,    884.2,   3.0457,  34.3337,2,  34.3360,2,   -999.0,5,  2.9864,     17.0,2,   141.76,2,    43.90,2,     0.00,2,     3.07,2, -999.000,9,-999.000,  -999.0,-999.000
    31WTMARAII,   P16,    91,  1,     15,     15,2,19840601,1215, 55.2317,-152.5250, 4465,   1004.9,   2.8437,  34.3825,2,  34.3840,2,   -999.0,5,  2.7768,     17.8,2,   148.99,2,    44.09,2,     0.00,2,     3.07,2, -999.000,9,   2.839,  1006.0,-999.000
    31WTMARAII,   P16,    91,  1,     16,     16,2,19840601,1215, 55.2317,-152.5250, 4465,   1252.3,   2.5201,  34.4518,2,  34.4550,2,   -999.0,5,  2.4373,     23.9,2,   159.44,2,    43.89,2,     0.00,2,     3.05,2, -999.000,9,-999.000,  -999.0,-999.000
    31WTMARAII,   P16,    91,  1,     17,     17,2,19840601,1215, 55.2317,-152.5250, 4465,   1504.6,   2.2176,  34.5188,2,  34.5210,2,   -999.0,5,  2.1186,     35.6,2,   168.92,2,    43.30,2,     0.00,2,     2.99,2, -999.000,9,-999.000,  -999.0,-999.000
    31WTMARAII,   P16,    91,  1,     18,     18,2,19840601,1215, 55.2317,-152.5250, 4465,   1747.3,   2.0348,  34.5600,2,  34.5630,2,   -999.0,5,  1.9188,     49.1,2,   173.12,2,    42.52,2,     0.00,2,     2.95,2, -999.000,9,-999.000,  -999.0,-999.000
    31WTMARAII,   P16,    91,  1,     19,     19,2,19840601,1215, 55.2317,-152.5250, 4465,   2020.6,   1.8771,  34.5931,2,  34.5960,2,   -999.0,5,  1.7410,     64.3,2,   173.41,2,    41.84,2,     0.00,2,     2.89,2, -999.000,9,   1.879,  2022.0,-999.000
    31WTMARAII,   P16,    91,  1,     20,     20,2,19840601,1215, 55.2317,-152.5250, 4465,   2551.4,   1.6858,  34.6323,2,  34.6350,2,   -999.0,5,  1.5069,     90.4,2,   173.30,2,    40.17,2,     0.00,2,     2.77,2, -999.000,9,-999.000,  -999.0,-999.000
    31WTMARAII,   P16,    91,  1,     21,     21,2,19840601,1215, 55.2317,-152.5250, 4465,   3044.6,   1.5752,  34.6557,2,  34.6570,2,   -999.0,5,  1.3526,    113.4,2,   171.25,2,    38.71,2,     0.00,2,     2.68,2, -999.000,9,-999.000,  -999.0,-999.000
    31WTMARAII,   P16,    91,  1,     25,     25,2,19840601,1215, 55.2317,-152.5250, 4465,   3551.5,   1.5052,  34.6724,2,  34.6730,2,   -999.0,5,  1.2337,    130.8,2,   168.70,2,    37.53,2,     0.00,2,     2.60,2, -999.000,9,-999.000,  -999.0,-999.000
    31WTMARAII,   P16,    91,  1,     23,     23,2,19840601,1215, 55.2317,-152.5250, 4465,   4027.7,   1.5032,  34.6798,2,  34.6800,2,   -999.0,5,  1.1813,    138.6,2,   166.16,2,    37.14,2,     0.00,2,     2.55,2, -999.000,9,   1.505,  4026.0,-999.000
    31WTMARAII,   P16,    91,  1,     24,     24,2,19840601,1215, 55.2317,-152.5250, 4465,   4531.0,   1.4940,  34.6882,2,  34.6880,2,   -999.0,5,  1.1157,    150.3,2,   164.01,2,    36.26,2,     0.00,2,     2.49,2, -999.000,9,-999.000,  -999.0,-999.000
    31WTMARAII,   P16,    92,  1,      1,      1,2,19840601,1858, 55.4267,-152.6350, 5151,      1.0,   8.6910,-999.0000,9,  32.3630,2,   -999.0,5,-999.0000,   -999.0,9,     5.19,2,     2.54,2,     0.12,2,     0.68,2, -999.000,9,   8.689,     1.0,-999.000
    31WTMARAII,   P16,    92,  1,      2,      2,2,19840601,1858, 55.4267,-152.6350, 5151,     50.7,   5.9060,  32.5962,2,  32.5970,2,   -999.0,5,  5.9019,    289.5,2,    20.75,2,    13.12,2,     0.25,2,     1.31,2, -999.000,9,-999.000,  -999.0,-999.000
    31WTMARAII,   P16,    92,  1,      3,      3,2,19840601,1858, 55.4267,-152.6350, 5151,    101.9,   5.6271,  33.0025,2,  33.0010,2,   -999.0,5,  5.6190,    228.1,2,    33.57,2,    21.43,2,     0.02,2,     1.74,2, -999.000,9,-999.000,  -999.0,-999.000
    31WTMARAII,   P16,    92,  1,      4,      4,2,19840601,1858, 55.4267,-152.6350, 5151,    148.1,   5.4046,  33.6075,2,  33.6190,2,   -999.0,5,  5.3930,    139.2,2,    52.82,2,    31.20,2,     0.01,2,  -999.00,9, -999.000,9,-999.000,  -999.0,-999.000
    31WTMARAII,   P16,    92,  1,     26,     26,2,19840601,1858, 55.4267,-152.6350, 5151,    198.7,   4.9342,  33.8257,2,  33.8270,2,   -999.0,5,  4.9192,    107.0,2,    63.77,2,    35.40,2,     0.01,2,  -999.00,9, -999.000,9,-999.000,  -999.0,-999.000
    31WTMARAII,   P16,    92,  1,     27,     27,2,19840601,1858, 55.4267,-152.6350, 5151,    249.1,   4.3984,  33.8689,2,  33.8670,2,   -999.0,5,  4.3804,     77.8,2,    75.70,2,    38.83,2,     0.01,2,  -999.00,9, -999.000,9,-999.000,  -999.0,-999.000
    31WTMARAII,   P16,    92,  1,     28,     28,2,19840601,1858, 55.4267,-152.6350, 5151,    296.4,   4.1974,  33.9219,2,  33.9240,2,   -999.0,5,  4.1764,     63.9,2,    81.17,2,    40.78,2,     0.01,2,     2.82,2, -999.000,9,-999.000,  -999.0,-999.000
    31WTMARAII,   P16,    92,  1,      8,      8,2,19840601,1858, 55.4267,-152.6350, 5151,    393.3,   3.9027,  33.9965,2,  33.9960,2,   -999.0,5,  3.8754,     35.2,2,    96.91,2,    43.03,2,     0.00,2,     2.99,2, -999.000,9,-999.000,  -999.0,-999.000
    31WTMARAII,   P16,    92,  1,      9,      9,2,19840601,1858, 55.4267,-152.6350, 5151,    499.4,   3.7910,  34.1022,2,  34.1030,2,   -999.0,5,  3.7563,     25.2,2,   107.27,2,    43.32,2,     0.00,2,     3.01,2, -999.000,9,-999.000,  -999.0,-999.000
    31WTMARAII,   P16,    92,  1,     10,     10,2,19840601,1858, 55.4267,-152.6350, 5151,    595.6,   3.6421,  34.1782,2,  34.1790,2,   -999.0,5,  3.6008,     19.1,2,   116.94,2,    43.71,2,     0.00,2,     3.04,2, -999.000,9,-999.000,  -999.0,-999.000
    31WTMARAII,   P16,    92,  1,     11,     11,2,19840601,1858, 55.4267,-152.6350, 5151,    697.8,   3.3928,  34.2232,2,  34.2240,2,   -999.0,5,  3.3453,     20.9,2,   127.11,2,    43.71,2,     0.00,2,     3.03,2, -999.000,9,-999.000,  -999.0,-999.000
    31WTMARAII,   P16,    92,  1,     12,     12,2,19840601,1858, 55.4267,-152.6350, 5151,    794.5,   3.2500,  34.2801,2,  34.2820,2,   -999.0,5,  3.1961,     17.8,2,   134.63,2,    43.90,2,     0.00,2,     3.04,2, -999.000,9,-999.000,  -999.0,-999.000
    31WTMARAII,   P16,    92,  1,     13,     13,2,19840601,1858, 55.4267,-152.6350, 5151,    897.0,   3.0572,  34.3272,2,  34.3290,2,   -999.0,5,  2.9969,     18.7,2,   140.88,2,    43.80,2,     0.00,2,     3.07,2, -999.000,9,-999.000,  -999.0,-999.000
    31WTMARAII,   P16,    92,  1,     14,     14,2,19840601,1858, 55.4267,-152.6350, 5151,    990.5,   2.9452,  34.3630,2,  34.3640,2,   -999.0,5,  2.8786,     16.5,2,   145.96,2,    43.90,2,     0.00,2,     3.08,2, -999.000,9,-999.000,  -999.0,-999.000
    31WTMARAII,   P16,    92,  1,     15,     15,2,19840601,1858, 55.4267,-152.6350, 5151,   1241.7,   2.5832,  34.4406,2,  34.4430,2,   -999.0,5,  2.5007,     21.3,2,   158.47,2,    43.99,2,     0.00,2,     3.06,2, -999.000,9,   2.581,  1241.0,-999.000
    31WTMARAII,   P16,    92,  1,     16,     16,2,19840601,1858, 55.4267,-152.6350, 5151,   1542.5,   2.2756,  34.5084,2,  34.5090,2,   -999.0,5,  2.1730,     33.0,2,   166.08,2,    43.40,2,     0.00,2,     3.02,2, -999.000,9,-999.000,  -999.0,-999.000
    31WTMARAII,   P16,    92,  1,     17,     17,2,19840601,1858, 55.4267,-152.6350, 5151,   1765.3,   2.0669,  34.5540,2,  34.5560,2,   -999.0,5,  1.9491,     46.1,2,   170.28,2,    42.72,2,     0.00,2,     2.96,2, -999.000,9,-999.000,  -999.0,-999.000
    31WTMARAII,   P16,    92,  1,     18,     18,2,19840601,1858, 55.4267,-152.6350, 5151,   2014.2,   1.9230,  34.5846,2,  34.5860,2,   -999.0,5,  1.7868,     60.8,2,   171.74,2,    42.03,2,     0.00,2,     2.90,2, -999.000,9,-999.000,  -999.0,-999.000
    31WTMARAII,   P16,    92,  1,     19,     19,2,19840601,1858, 55.4267,-152.6350, 5151,   2549.5,   1.6899,  34.6327,2,  34.6340,2,   -999.0,5,  1.5111,     90.8,2,   175.55,2,    40.08,2,     0.00,2,     2.79,2, -999.000,9,   1.698,  2555.0,-999.000
    31WTMARAII,   P16,    92,  1,     20,     20,2,19840601,1858, 55.4267,-152.6350, 5151,   3042.5,   1.5794,  34.6556,2,  34.6560,2,   -999.0,5,  1.3569,    112.5,2,   170.66,2,    38.71,2,     0.00,2,     2.68,2, -999.000,9,-999.000,  -999.0,-999.000
    31WTMARAII,   P16,    92,  1,     21,     21,2,19840601,1858, 55.4267,-152.6350, 5151,   3554.6,   1.5072,  34.6726,2,  34.6730,2,   -999.0,5,  1.2353,    130.8,2,   169.00,2,    37.53,2,     0.00,2,     2.58,2, -999.000,9,-999.000,  -999.0,-999.000
    31WTMARAII,   P16,    92,  1,     25,     25,2,19840601,1858, 55.4267,-152.6350, 5151,   4049.1,   1.4944,  34.6819,2,  34.6810,2,   -999.0,5,  1.1703,    141.2,2,   166.55,2,    36.95,2,     0.00,2,     2.55,2, -999.000,9,-999.000,  -999.0,-999.000
    31WTMARAII,   P16,    92,  1,     23,     23,2,19840601,1858, 55.4267,-152.6350, 5151,   4511.3,   1.5050,  34.6872,2,  34.6850,2,   -999.0,5,  1.1285,    148.2,2,   163.03,2,    36.46,2,     0.00,2,     2.51,2, -999.000,9,   1.506,  4514.0,-999.000
    31WTMARAII,   P16,    92,  1,     24,     24,2,19840601,1858, 55.4267,-152.6350, 5151,   5242.4,   1.5394,  34.6933,2,  34.6910,2,   -999.0,5,  1.0739,    157.7,2,   156.39,2,    35.68,2,     0.00,2,     2.46,2, -999.000,9,-999.000,  -999.0,-999.000
    31WTMARAII,   P16,    93,  1,      1,      1,2,19840602,0155, 55.5983,-152.7717, 5367,      1.0,   9.8000,-999.0000,9,  32.3220,2,   -999.0,5,-999.0000,   -999.0,9,     2.25,2,     0.99,2,     0.10,2,     0.54,2, -999.000,9,   9.798,     1.0,-999.000
    31WTMARAII,   P16,    93,  1,      2,      2,2,19840602,0155, 55.5983,-152.7717, 5367,     50.3,   6.0225,  32.5319,2,  32.5310,2,   -999.0,5,  6.0184,    292.2,2,    19.38,2,    11.94,2,     0.31,2,     1.21,2, -999.000,9,-999.000,  -999.0,-999.000
    31WTMARAII,   P16,    93,  1,      3,      3,2,19840602,0155, 55.5983,-152.7717, 5367,    100.1,   5.5828,  32.9304,2,  32.9350,2,   -999.0,5,  5.5749,    233.3,2,    32.69,2,    20.85,2,     0.02,2,     1.68,2, -999.000,9,-999.000,  -999.0,-999.000
    31WTMARAII,   P16,    93,  1,      4,      4,2,19840602,0155, 55.5983,-152.7717, 5367,    147.2,   5.5503,  33.5795,2,  33.5770,2,   -999.0,5,  5.5386,    147.1,2,    49.99,2,    30.52,2,     0.01,2,     2.19,2, -999.000,9,-999.000,  -999.0,-999.000
    31WTMARAII,   P16,    93,  1,     26,     26,2,19840602,0155, 55.5983,-152.7717, 5367,    192.7,   4.9438,  33.7974,2,  33.7980,2,   -999.0,5,  4.9292,    110.0,2,    62.40,2,    35.31,2,     0.01,2,     2.47,2, -999.000,9,-999.000,  -999.0,-999.000
    31WTMARAII,   P16,    93,  1,     27,     27,2,19840602,0155, 55.5983,-152.7717, 5367,    294.0,   4.1812,  33.9102,2,  33.9090,2,   -999.0,5,  4.1604,     59.6,2,    82.93,2,    40.98,2,     0.01,2,     2.85,2, -999.000,9,-999.000,  -999.0,-999.000
    31WTMARAII,   P16,    93,  1,     28,     28,2,19840602,0155, 55.5983,-152.7717, 5367,    395.1,   3.9305,  34.0086,2,  34.0090,2,   -999.0,5,  3.9030,     32.6,2,    97.59,2,    43.22,2,     0.01,2,     2.99,2, -999.000,9,-999.000,  -999.0,-999.000
    31WTMARAII,   P16,    93,  1,      8,      8,2,19840602,0155, 55.5983,-152.7717, 5367,    496.8,   3.7775,  34.1023,2,  34.1020,2,   -999.0,5,  3.7430,     25.7,2,   105.22,2,    43.51,2,     0.01,2,     3.02,2, -999.000,9,-999.000,  -999.0,-999.000
    31WTMARAII,   P16,    93,  1,      9,      9,2,19840602,0155, 55.5983,-152.7717, 5367,    594.5,   3.6300,  34.1791,2,  34.1780,2,   -999.0,5,  3.5889,     20.0,2,   116.85,2,    43.71,2,     0.00,2,     3.04,2, -999.000,9,-999.000,  -999.0,-999.000
    31WTMARAII,   P16,    93,  1,     10,     10,2,19840602,0155, 55.5983,-152.7717, 5367,    697.7,   3.4526,  34.2391,2,  34.2390,2,   -999.0,5,  3.4048,     17.0,2,   125.35,2,    43.90,2,     0.00,2,     3.06,2, -999.000,9,-999.000,  -999.0,-999.000
    31WTMARAII,   P16,    93,  1,     11,     11,2,19840602,0155, 55.5983,-152.7717, 5367,    797.0,   3.2787,  34.2856,2,  34.2860,2,   -999.0,5,  3.2244,     16.1,2,   132.67,2,    44.00,2,     0.00,2,     3.07,2, -999.000,9,-999.000,  -999.0,-999.000
    31WTMARAII,   P16,    93,  1,     12,     12,2,19840602,0155, 55.5983,-152.7717, 5367,    894.5,   3.1093,  34.3277,2,  34.3260,2,   -999.0,5,  3.0488,     15.6,2,   139.91,2,    44.09,2,     0.00,2,     3.06,2, -999.000,9,-999.000,  -999.0,-999.000
    31WTMARAII,   P16,    93,  1,     13,     13,2,19840602,0155, 55.5983,-152.7717, 5367,    995.7,   2.9410,  34.3628,2,  34.3610,2,   -999.0,5,  2.8741,     17.0,2,   146.45,2,    44.09,2,     0.00,2,     3.08,2, -999.000,9,-999.000,  -999.0,-999.000
    31WTMARAII,   P16,    93,  1,     14,     14,2,19840602,0155, 55.5983,-152.7717, 5367,   1244.6,   2.5709,  34.4420,2,  34.4430,2,   -999.0,5,  2.4883,     21.3,2,   157.00,2,    43.99,2,     0.00,2,     3.06,2, -999.000,9,-999.000,  -999.0,-999.000
    31WTMARAII,   P16,    93,  1,     15,     15,2,19840602,0155, 55.5983,-152.7717, 5367,   1518.3,   2.2719,  34.5081,2,  34.5080,2,   -999.0,5,  2.1712,     31.7,2,   165.40,2,    43.50,2,     0.00,2,     3.02,2, -999.000,9,   2.275,  1517.0,-999.000
    31WTMARAII,   P16,    93,  1,     16,     16,2,19840602,0155, 55.5983,-152.7717, 5367,   1747.9,   2.0837,  34.5547,2,  34.5500,2,   -999.0,5,  1.9670,     45.6,2,   170.09,2,    42.82,2,     0.00,2,     2.95,2, -999.000,9,-999.000,  -999.0,-999.000
    31WTMARAII,   P16,    93,  1,     17,     17,2,19840602,0155, 55.5983,-152.7717, 5367,   1992.8,   1.9231,  34.5851,2,  34.5840,2,   -999.0,5,  1.7886,     59.5,2,   173.11,2,    42.03,2,     0.00,2,     2.89,2, -999.000,9,-999.000,  -999.0,-999.000
    31WTMARAII,   P16,    93,  1,     18,     18,2,19840602,0155, 55.5983,-152.7717, 5367,   2501.0,   1.7187,  34.6265,2,  34.6280,2,   -999.0,5,  1.5437,     87.3,2,   173.30,2,    40.47,2,     0.00,2,     2.78,2, -999.000,9,-999.000,  -999.0,-999.000
    31WTMARAII,   P16,    93,  1,     19,     19,2,19840602,0155, 55.5983,-152.7717, 5367,   3010.5,   1.5840,  34.6528,2,  34.6550,2,   -999.0,5,  1.3644,    111.2,2,   167.14,2,    38.71,2,     0.00,2,     2.68,2, -999.000,9,   1.581,  3017.0,-999.000
    31WTMARAII,   P16,    93,  1,     20,     20,2,19840602,0155, 55.5983,-152.7717, 5367,   3501.4,   1.5042,  34.6696,2,  34.6710,2,   -999.0,5,  1.2379,    129.9,2,   165.77,2,    37.63,2,     0.00,2,     2.58,2, -999.000,9,-999.000,  -999.0,-999.000
    31WTMARAII,   P16,    93,  1,     21,     21,2,19840602,0155, 55.5983,-152.7717, 5367,   3993.4,   1.4872,  34.6789,2,  34.6790,2,   -999.0,5,  1.1694,    142.1,2,   165.77,2,    36.95,2,     0.00,2,     2.53,2, -999.000,9,-999.000,  -999.0,-999.000
    31WTMARAII,   P16,    93,  1,     25,     25,2,19840602,0155, 55.5983,-152.7717, 5367,   4502.4,   1.4941,  34.6849,2,  34.6850,2,   -999.0,5,  1.1190,    150.3,2,   161.08,2,    36.16,2,     0.00,2,     2.48,2, -999.000,9,-999.000,  -999.0,-999.000
    31WTMARAII,   P16,    93,  1,     23,     23,2,19840602,0155, 55.5983,-152.7717, 5367,   4978.3,   1.5224,  34.6882,2,  34.6880,2,   -999.0,5,  1.0900,    155.6,2,   156.78,2,    35.87,2,     0.00,2,     2.47,2, -999.000,9,   1.520,  4982.0,-999.000
    31WTMARAII,   P16,    93,  1,     24,     24,2,19840602,0155, 55.5983,-152.7717, 5367,   5489.6,   1.5675,  34.6909,2,  34.6910,2,   -999.0,5,  1.0698,    159.0,2,   153.75,2,    35.58,2,     0.00,2,     2.45,2, -999.000,9,-999.000,  -999.0,-999.000