BOTTLE,20220816CCHSIOAMB
EXPOCODE,SECT_ID,STNNBR,CASTNO,SAMPNO,BTLNBR,BTLNBR_FLAG_W,DATE,TIME,LATITUDE,LONGITUDE,DEPTH,CTDPRS,CTDTMP,CTDSAL,CTDSAL_FLAG_W,SALNTY,SALNTY_FLAG_W,CTDOXY,CTDOXY_FLAG_W,THETA,OXYGEN,OXYGEN_FLAG_W,SILCAT,SILCAT_FLAG_W,NITRAT,NITRAT_FLAG_W,NITRIT,NITRIT_FLAG_W,PHSPHT,PHSPHT_FLAG_W,TRITUM,TRITUM_FLAG_W,REVTMP,REVPRS,TRITER
,,,,,,,,,,,,DBAR,ITS-90,PSS-78,,PSS-78,,UMOL/KG,,DEG C,UMOL/KG,,UMOL/KG,,UMOL/KG,,UMOL/KG,,UMOL/KG,,TU,,,DBAR,TU
    31WTMARAII,   P16,    97,  1,      9,      9,2,19840602,2244, 56.2000,-153.1283, 1364,      2.9,   9.2576,  32.2460,2,  32.2500,2,   -999.0,5,  9.2573,    326.4,2,     1.18,2,     0.06,2,     0.00,2,     0.42,2, -999.000,9,   9.252,  -999.0,-999.000
    31WTMARAII,   P16,    97,  1,     10,     10,2,19840602,2244, 56.2000,-153.1283, 1364,      8.5,   9.2537,  32.2462,2,  32.2470,2,   -999.0,5,  9.2528,    327.2,2,     0.88,2,     0.00,2,     0.00,2,     0.42,2, -999.000,9,-999.000,  -999.0,-999.000
    31WTMARAII,   P16,    97,  1,     11,     11,2,19840602,2244, 56.2000,-153.1283, 1364,     47.1,   6.7913,  32.2996,2,  32.3010,2,   -999.0,5,  6.7872,    318.8,2,     9.30,2,     2.18,2,     0.07,2,     0.82,2, -999.000,9,-999.000,  -999.0,-999.000
    31WTMARAII,   P16,    97,  1,     13,     13,2,19840602,2244, 56.2000,-153.1283, 1364,    147.2,   5.4777,  32.6064,2,  32.6090,2,   -999.0,5,  5.4663,    283.9,2,    22.91,2,    15.27,2,     0.12,2,     1.37,2, -999.000,9,-999.000,  -999.0,-999.000
    31WTMARAII,   P16,    97,  1,     14,     14,2,19840602,2244, 56.2000,-153.1283, 1364,    197.7,   5.6956,  33.2188,2,  33.2170,2,   -999.0,5,  5.6796,    185.0,2,    42.96,2,    25.73,2,     0.02,2,     1.96,2, -999.000,9,-999.000,  -999.0,-999.000
    31WTMARAII,   P16,    97,  1,     15,     15,2,19840602,2244, 56.2000,-153.1283, 1364,    298.3,   4.6386,  33.8437,2,  33.8440,2,   -999.0,5,  4.6165,     88.3,2,    71.79,2,    37.75,2,     0.01,2,     2.64,2, -999.000,9,   4.632,   299.0,-999.000
    31WTMARAII,   P16,    97,  1,     16,     16,2,19840602,2244, 56.2000,-153.1283, 1364,    396.4,   4.2111,  33.9588,2,  33.9580,2,   -999.0,5,  4.1827,     51.3,2,    88.60,2,    41.37,2,     0.00,2,     2.88,2, -999.000,9,-999.000,  -999.0,-999.000
    31WTMARAII,   P16,    97,  1,     17,     17,2,19840602,2244, 56.2000,-153.1283, 1364,    496.9,   3.9638,  34.0364,2,  34.0370,2,   -999.0,5,  3.9286,     34.8,2,   100.04,2,    42.64,2,     0.00,2,     2.97,2, -999.000,9,-999.000,  -999.0,-999.000
    31WTMARAII,   P16,    97,  1,     18,     18,2,19840602,2244, 56.2000,-153.1283, 1364,    593.0,   3.8022,  34.1063,2,  34.1080,2,   -999.0,5,  3.7605,     25.2,2,   111.18,2,    43.22,2,     0.00,2,     3.03,2, -999.000,9,-999.000,  -999.0,-999.000
    31WTMARAII,   P16,    97,  1,     19,     19,2,19840602,2244, 56.2000,-153.1283, 1364,    695.4,   3.6242,  34.1783,2,  34.1800,2,   -999.0,5,  3.5756,     19.6,2,   119.88,2,    43.61,2,     0.00,2,     3.05,2, -999.000,9,   3.618,   695.0,-999.000
    31WTMARAII,   P16,    97,  1,     20,     20,2,19840602,2244, 56.2000,-153.1283, 1364,    795.6,   3.4149,  34.2369,2,  34.2370,2,   -999.0,5,  3.3599,     18.7,2,   129.16,2,    43.80,2,     0.00,2,     3.06,2, -999.000,9,-999.000,  -999.0,-999.000
    31WTMARAII,   P16,    97,  1,     21,     21,2,19840602,2244, 56.2000,-153.1283, 1364,    900.1,   3.2750,  34.2790,2,  34.2790,2,   -999.0,5,  3.2130,     17.4,2,   133.26,2,    43.80,2,     0.00,2,     3.08,2, -999.000,9,-999.000,  -999.0,-999.000
    31WTMARAII,   P16,    97,  1,     25,     25,2,19840602,2244, 56.2000,-153.1283, 1364,    984.7,   3.1416,  34.3206,2,  34.3210,2,   -999.0,5,  3.0741,     16.5,2,   137.17,2,    43.80,2,     0.00,2,     3.08,2, -999.000,9,-999.000,  -999.0,-999.000
    31WTMARAII,   P16,    97,  1,     23,     23,2,19840602,2244, 56.2000,-153.1283, 1364,   1226.8,   2.7701,  34.4033,2,  34.4020,2,   -999.0,5,  2.6871,     19.6,2,   152.80,2,    43.90,2,     0.00,2,     3.08,2, -999.000,9,   2.766,  1226.0,-999.000
    31WTMARAII,   P16,    97,  1,     24,     24,2,19840602,2244, 56.2000,-153.1283, 1364,   1330.3,   2.6043,  34.4398,2,  34.4380,2,   -999.0,5,  2.5148,     22.2,2,   158.27,2,    43.89,2,     0.00,2,     3.07,2, -999.000,9,-999.000,  -999.0,-999.000
    31WTMARAII,   P16,    98,  1,      1,      1,2,19840603,0215, 56.3000,-153.2067,  309,      1.0,   9.3340,-999.0000,9,  32.2430,2,   -999.0,5,-999.0000,   -999.0,9,     1.37,2,     0.11,2,     0.01,2,     0.42,2, -999.000,9,   9.332,     1.0,-999.000
    31WTMARAII,   P16,    98,  1,     17,     17,2,19840603,0215, 56.3000,-153.2067,  309,     16.7,   7.4630,  32.2314,2,  32.2370,2,   -999.0,5,  7.4615,    342.0,2,     6.76,2,     2.01,2,     0.07,2,     0.64,2, -999.000,9,-999.000,  -999.0,-999.000
    31WTMARAII,   P16,    98,  1,     18,     18,2,19840603,0215, 56.3000,-153.2067,  309,     45.0,   6.7771,  32.2426,2,  32.2450,2,   -999.0,5,  6.7732,    324.5,2,    11.55,2,     4.43,2,     0.12,2,     0.87,2, -999.000,9,-999.000,  -999.0,-999.000
    31WTMARAII,   P16,    98,  1,     20,     20,2,19840603,0215, 56.3000,-153.2067,  309,     87.2,   5.6473,  32.2740,2,  32.2780,2,   -999.0,5,  5.6405,    297.9,2,    21.93,2,     9.79,2,     0.22,2,     1.23,2, -999.000,9,-999.000,  -999.0,-999.000
    31WTMARAII,   P16,    98,  1,     21,     21,2,19840603,0215, 56.3000,-153.2067,  309,    141.5,   5.6793,  32.3827,2,  32.3820,2,   -999.0,5,  5.6681,    286.5,2,    23.30,2,    12.43,2,     0.22,2,     1.32,2, -999.000,9,-999.000,  -999.0,-999.000
    31WTMARAII,   P16,    98,  1,     25,     25,2,19840603,0215, 56.3000,-153.2067,  309,    204.2,   5.6724,  33.2579,2,  33.2370,2,   -999.0,5,  5.6559,    181.5,2,    43.44,2,    26.22,2,     0.03,2,     2.00,2, -999.000,9,-999.000,  -999.0,-999.000
    31WTMARAII,   P16,    98,  1,     23,     23,2,19840603,0215, 56.3000,-153.2067,  309,    255.5,   4.8116,  33.8010,2,  33.8080,2,   -999.0,5,  4.7924,    100.5,2,    68.07,2,    36.19,2,     0.02,2,     2.57,2, -999.000,9,   4.810,   261.0,-999.000
    31WTMARAII,   P16,    98,  1,     24,     24,2,19840603,0215, 56.3000,-153.2067,  309,    282.8,   4.5925,  33.8482,2,  33.8490,2,   -999.0,5,  4.5716,     88.3,2,    73.74,2,    37.65,2,     0.02,2,     2.66,2, -999.000,9,-999.000,  -999.0,-999.000