BOTTLE,20220816CCHSIOAMB
EXPOCODE,SECT_ID,STNNBR,CASTNO,SAMPNO,BTLNBR,BTLNBR_FLAG_W,DATE,TIME,LATITUDE,LONGITUDE,DEPTH,CTDPRS,CTDTMP,CTDSAL,CTDSAL_FLAG_W,SALNTY,SALNTY_FLAG_W,CTDOXY,CTDOXY_FLAG_W,THETA,OXYGEN,OXYGEN_FLAG_W,SILCAT,SILCAT_FLAG_W,NITRAT,NITRAT_FLAG_W,NITRIT,NITRIT_FLAG_W,PHSPHT,PHSPHT_FLAG_W,TRITUM,TRITUM_FLAG_W,REVTMP,REVPRS,TRITER
,,,,,,,,,,,,DBAR,ITS-90,PSS-78,,PSS-78,,UMOL/KG,,DEG C,UMOL/KG,,UMOL/KG,,UMOL/KG,,UMOL/KG,,UMOL/KG,,TU,,,DBAR,TU
    31WTMARAII,   P16,    11,  1,      1,      1,2,19840508,0307, 24.8050,-154.6300, 5121,     10.0,  24.7070,-999.0000,9,  35.1600,2,   -999.0,5,-999.0000,   -999.0,9,     1.37,2,     0.00,2,     0.00,2,     0.14,2, -999.000,9,  24.701,    10.0,-999.000
    31WTMARAII,   P16,    11,  1,      2,      2,2,19840508,0307, 24.8050,-154.6300, 5121,     55.7,  23.4494,  35.2587,2,  35.2590,2,   -999.0,5, 23.4378,    216.3,2,     0.88,2,     0.00,2,     0.00,2,     0.10,2, -999.000,9,-999.000,  -999.0,-999.000
    31WTMARAII,   P16,    11,  1,      3,      3,2,19840508,0307, 24.8050,-154.6300, 5121,    107.1,  21.9105,  35.1978,2,  35.1980,2,   -999.0,5, 21.8894,    207.5,2,     0.68,2,     0.00,2,     0.01,2,     0.14,2, -999.000,9,-999.000,  -999.0,-999.000
    31WTMARAII,   P16,    11,  1,      4,      4,2,19840508,0307, 24.8050,-154.6300, 5121,    157.7,  19.6902,  35.0894,2,  35.1010,2,   -999.0,5, 19.6613,    205.2,2,     1.17,2,     1.25,2,     0.09,2,     0.21,2, -999.000,9,-999.000,  -999.0,-999.000
    31WTMARAII,   P16,    11,  1,      5,      5,2,19840508,0307, 24.8050,-154.6300, 5121,    208.1,  17.0342,  34.7944,2,  34.7970,2,   -999.0,5, 16.9998,    201.2,2,     2.25,2,     3.90,2,     0.01,2,     0.37,2, -999.000,9,-999.000,  -999.0,-999.000
    31WTMARAII,   P16,    11,  1,      6,      6,2,19840508,0307, 24.8050,-154.6300, 5121,    309.4,  11.7266,  34.2133,2,  34.2040,2,   -999.0,5, 11.6870,    199.8,2,    11.34,2,    12.71,2,     0.00,2,     0.93,2, -999.000,9,-999.000,  -999.0,-999.000
    31WTMARAII,   P16,    11,  1,      7,      7,2,19840508,0307, 24.8050,-154.6300, 5121,    410.6,   9.3026,  34.1024,2,  34.1030,2,   -999.0,5,  9.2571,    188.0,2,    22.98,2,    18.97,2,     0.00,2,     1.33,2, -999.000,9,-999.000,  -999.0,-999.000
    31WTMARAII,   P16,    11,  1,      8,      8,2,19840508,0307, 24.8050,-154.6300, 5121,    511.0,   7.1679,  34.0325,2,  34.0350,2,   -999.0,5,  7.1191,    130.9,2,    45.77,2,    28.75,2,     0.00,2,     1.99,2, -999.000,9,-999.000,  -999.0,-999.000
    31WTMARAII,   P16,    11,  1,      9,      9,2,19840508,0307, 24.8050,-154.6300, 5121,    612.0,   5.7318,  34.1139,2,  34.1200,2,   -999.0,5,  5.6795,     51.8,2,    72.16,2,    37.84,2,     0.00,2,  -999.00,9, -999.000,9,-999.000,  -999.0,-999.000
    31WTMARAII,   P16,    11,  1,     10,     10,2,19840508,0307, 24.8050,-154.6300, 5121,    712.9,   4.9782,  34.2133,2,  34.2160,2,   -999.0,5,  4.9207,     28.7,2,    88.78,2,    41.16,2,     0.00,2,     2.92,2, -999.000,9,-999.000,  -999.0,-999.000
    31WTMARAII,   P16,    11,  1,     11,     11,2,19840508,0307, 24.8050,-154.6300, 5121,    813.8,   4.3520,  34.3078,2,  34.3090,2,   -999.0,5,  4.2896,     22.6,2,   106.37,2,    42.63,2,     0.00,2,     3.01,2, -999.000,9,-999.000,  -999.0,-999.000
    31WTMARAII,   P16,    11,  1,     12,     12,2,19840508,0307, 24.8050,-154.6300, 5121,    915.0,   4.0167,  34.4032,2,  34.4060,2,   -999.0,5,  3.9481,     30.4,2,   113.21,2,    42.62,2,     0.00,2,     3.01,2, -999.000,9,-999.000,  -999.0,-999.000
    31WTMARAII,   P16,    11,  1,     13,     13,2,19840508,0307, 24.8050,-154.6300, 5121,   1015.6,   3.8441,  34.4648,2,  34.4660,2,   -999.0,5,  3.7684,     42.6,2,   115.74,2,    42.23,2,     0.00,2,     2.97,2, -999.000,9,-999.000,  -999.0,-999.000
    31WTMARAII,   P16,    11,  1,     14,     14,2,19840508,0307, 24.8050,-154.6300, 5121,   1266.9,   3.3144,  34.5201,2,  34.5220,2,   -999.0,5,  3.2226,     54.8,2,   127.18,2,    41.74,2,     0.00,2,     2.92,2, -999.000,9,-999.000,  -999.0,-999.000
    31WTMARAII,   P16,    11,  1,     15,     15,2,19840508,0307, 24.8050,-154.6300, 5121,   1518.7,   2.8540,  34.5691,2,  34.5700,2,   -999.0,5,  2.7463,     66.9,2,   137.05,2,    41.35,2,     0.00,2,  -999.00,9, -999.000,9,   2.856,  1524.0,-999.000
    31WTMARAII,   P16,    11,  1,     16,     16,2,19840508,0307, 24.8050,-154.6300, 5121,   1769.1,   2.3618,  34.5939,2,  34.5950,2,   -999.0,5,  2.2395,     76.9,2,   150.83,2,    40.76,2,     0.00,2,  -999.00,9, -999.000,9,-999.000,  -999.0,-999.000
    31WTMARAII,   P16,    11,  1,     17,     17,2,19840508,0307, 24.8050,-154.6300, 5121,   2020.6,   2.0429,  34.6152,2,  34.6170,2,   -999.0,5,  1.9042,     85.6,2,   159.52,2,    40.17,2,     0.02,2,  -999.00,9, -999.000,9,-999.000,  -999.0,-999.000
    31WTMARAII,   P16,    11,  1,     19,     19,2,19840508,0307, 24.8050,-154.6300, 5121,   3035.0,   1.5358,  34.6657,2,  34.6670,2,   -999.0,5,  1.3149,    125.6,2,   162.64,2,    37.73,2,     0.01,2,  -999.00,9, -999.000,9,   1.539,  3040.0,-999.000
    31WTMARAII,   P16,    11,  1,     20,     20,2,19840508,0307, 24.8050,-154.6300, 5121,   3539.6,   1.4697,  34.6772,2,  34.6770,2,   -999.0,5,  1.2003,    141.2,2,   160.20,2,    36.75,2,     0.00,2,     2.49,2, -999.000,9,-999.000,  -999.0,-999.000
    31WTMARAII,   P16,    11,  1,     21,     21,2,19840508,0307, 24.8050,-154.6300, 5121,   4044.5,   1.4605,  34.6835,2,  34.6850,2,   -999.0,5,  1.1379,    149.5,2,   155.41,2,    36.26,2,     0.00,2,     2.45,2, -999.000,9,-999.000,  -999.0,-999.000
    31WTMARAII,   P16,    11,  1,     22,     22,2,19840508,0307, 24.8050,-154.6300, 5121,   4554.8,   1.4943,  34.6864,2,  34.6860,2,   -999.0,5,  1.1132,   -999.0,9,   151.30,2,    35.87,2,     0.01,2,  -999.00,9, -999.000,9,-999.000,  -999.0,-999.000
    31WTMARAII,   P16,    11,  1,     23,     23,2,19840508,0307, 24.8050,-154.6300, 5121,   5067.0,   1.5408,  34.6884,2,  34.6880,2,   -999.0,5,  1.0970,    155.6,2,  -999.00,9,    35.77,2,     0.00,2,     2.39,2, -999.000,9,   1.537,  5067.0,-999.000
    31WTMARAII,   P16,    11,  1,     24,     24,2,19840508,0307, 24.8050,-154.6300, 5121,   5140.0,   1.5492,  34.6886,2,  34.6890,2,   -999.0,5,  1.0961,   -999.0,9,  -999.00,9,    35.87,2,     0.01,2,  -999.00,9, -999.000,9,-999.000,  -999.0,-999.000
    31WTMARAII,   P16,    12,  1,      7,      7,2,19840508,0801, 25.1833,-154.4767, 4971,     13.2,  24.6564,  35.1396,2,  35.1410,2,   -999.0,5, 24.6536,    212.5,2,     2.15,2,     0.00,2,     0.00,2,     0.15,2, -999.000,9,  24.655,  -999.0,-999.000
    31WTMARAII,   P16,    12,  1,      9,      9,2,19840508,0801, 25.1833,-154.4767, 4971,     52.7,  23.7072,  35.2623,2,  35.2620,2,   -999.0,5, 23.6962,    215.9,2,     1.66,2,     0.00,2,     0.00,2,  -999.00,9, -999.000,9,-999.000,  -999.0,-999.000
    31WTMARAII,   P16,    12,  1,     10,     10,2,19840508,0801, 25.1833,-154.4767, 4971,    103.1,  22.2338,  35.2392,2,  35.2390,2,   -999.0,5, 22.2133,    216.7,2,     1.66,2,     0.00,2,     0.00,2,     0.11,2, -999.000,9,-999.000,  -999.0,-999.000
    31WTMARAII,   P16,    12,  1,     11,     11,2,19840508,0801, 25.1833,-154.4767, 4971,    135.8,  20.7121,  35.1494,2,  35.1450,2,   -999.0,5, 20.6864,    200.0,2,     1.56,2,     0.81,2,     0.04,2,     0.23,2, -999.000,9,-999.000,  -999.0,-999.000
    31WTMARAII,   P16,    12,  1,     12,     12,2,19840508,0801, 25.1833,-154.4767, 4971,    166.8,  19.5282,  35.0679,2,  35.0660,2,   -999.0,5, 19.4979,    194.3,2,     1.95,2,     2.01,2,     0.02,2,     0.28,2, -999.000,9,  19.511,   168.0,-999.000
    31WTMARAII,   P16,    12,  1,     13,     13,2,19840508,0801, 25.1833,-154.4767, 4971,    203.6,  18.0530,  34.9237,2,  34.9230,2,   -999.0,5, 18.0180,    198.6,2,     2.64,2,     2.99,2,     0.01,2,     0.33,2, -999.000,9,-999.000,  -999.0,-999.000
    31WTMARAII,   P16,    12,  1,     14,     14,2,19840508,0801, 25.1833,-154.4767, 4971,    254.3,  15.1737,  34.5578,2,  34.5640,2,   -999.0,5, 15.1350,    193.8,2,     5.87,2,     6.68,2,     0.01,2,     0.58,2, -999.000,9,-999.000,  -999.0,-999.000
    31WTMARAII,   P16,    12,  1,     15,     15,2,19840508,0801, 25.1833,-154.4767, 4971,    305.0,  12.7346,  34.2809,2,  34.2820,2,   -999.0,5, 12.6933,    191.1,2,     9.78,2,    10.75,2,     0.00,2,  -999.00,9, -999.000,9,  12.756,   305.0,-999.000
    31WTMARAII,   P16,    12,  1,     16,     16,2,19840508,0801, 25.1833,-154.4767, 4971,    405.3,   9.8313,  34.1041,2,  34.1240,2,   -999.0,5,  9.7848,    181.0,2,    20.93,2,    17.89,2,     0.01,2,  -999.00,9, -999.000,9,-999.000,  -999.0,-999.000
    31WTMARAII,   P16,    12,  1,     17,     17,2,19840508,0801, 25.1833,-154.4767, 4971,    507.6,   7.6013,  34.0621,2,  34.0640,2,   -999.0,5,  7.5511,    124.0,2,    41.85,2,    27.77,2,     0.01,2,  -999.00,9, -999.000,9,-999.000,  -999.0,-999.000
    31WTMARAII,   P16,    12,  1,     18,     18,2,19840508,0801, 25.1833,-154.4767, 4971,    607.9,   5.9738,  34.0891,2,  34.0890,2,   -999.0,5,  5.9208,     65.7,2,    65.91,2,    36.28,2,     0.00,2,  -999.00,9, -999.000,9,-999.000,  -999.0,-999.000
    31WTMARAII,   P16,    12,  1,     19,     19,2,19840508,0801, 25.1833,-154.4767, 4971,    708.3,   5.1187,  34.1940,2,  34.1940,2,   -999.0,5,  5.0609,     31.7,2,    84.58,2,    41.07,2,     0.00,2,  -999.00,9, -999.000,9,-999.000,  -999.0,-999.000
    31WTMARAII,   P16,    12,  1,     20,     20,2,19840508,0801, 25.1833,-154.4767, 4971,    809.4,   4.3712,  34.3045,2,  34.3020,2,   -999.0,5,  4.3091,     23.0,2,   104.42,2,    42.82,2,     0.00,2,     3.05,2, -999.000,9,-999.000,  -999.0,-999.000
    31WTMARAII,   P16,    12,  1,     21,     21,2,19840508,0801, 25.1833,-154.4767, 4971,    910.0,   4.1249,  34.3814,2,  34.3810,2,   -999.0,5,  4.0560,     29.1,2,   110.47,2,    43.02,2,     0.00,2,     3.05,2, -999.000,9,-999.000,  -999.0,-999.000
    31WTMARAII,   P16,    12,  1,     22,     22,2,19840508,0801, 25.1833,-154.4767, 4971,   1010.8,   3.9061,  34.4489,2,  34.4490,2,   -999.0,5,  3.8303,     38.3,2,   116.24,2,    42.62,2,     0.01,2,  -999.00,9, -999.000,9,-999.000,  -999.0,-999.000
    31WTMARAII,   P16,    12,  1,     23,     23,2,19840508,0801, 25.1833,-154.4767, 4971,   1265.0,   3.3544,  34.5335,2,  34.5340,2,   -999.0,5,  3.2624,     56.1,2,   126.10,2,    42.03,2,     0.00,2,     2.90,2, -999.000,9,   3.347,  1259.0,-999.000
    31WTMARAII,   P16,    12,  1,     24,     24,2,19840508,0801, 25.1833,-154.4767, 4971,   1511.5,   2.8239,  34.5661,2,  34.5660,2,   -999.0,5,  2.7171,     64.8,2,   137.24,2,    41.64,2,     0.01,2,  -999.00,9, -999.000,9,-999.000,  -999.0,-999.000
    31WTMARAII,   P16,    13,  1,      1,      1,2,19840508,1459, 25.5417,-154.1833, 5239,      1.0,  24.0420,-999.0000,9,  35.1910,2,   -999.0,5,-999.0000,   -999.0,9,     1.66,2,     0.02,2,     0.00,2,     0.13,2, -999.000,9,  24.036,     1.0,-999.000
    31WTMARAII,   P16,    13,  1,      3,      3,2,19840508,1459, 25.5417,-154.1833, 5239,     57.4,  23.7470,  35.1708,2,  35.1720,2,   -999.0,5, 23.7350,    217.2,2,     1.27,2,     0.00,2,     0.00,2,     0.12,2, -999.000,9,-999.000,  -999.0,-999.000
    31WTMARAII,   P16,    13,  1,      4,      4,2,19840508,1459, 25.5417,-154.1833, 5239,    127.4,  22.4341,  35.1981,2,  35.2010,2,   -999.0,5, 22.4086,    211.5,2,     1.07,2,     0.00,2,     0.08,2,     0.14,2, -999.000,9,-999.000,  -999.0,-999.000
    31WTMARAII,   P16,    13,  1,      5,      5,2,19840508,1459, 25.5417,-154.1833, 5239,    178.2,  20.2855,  35.1010,2,  35.0940,2,   -999.0,5, 20.2522,    196.5,2,     1.56,2,     1.40,2,     0.03,2,     0.24,2, -999.000,9,-999.000,  -999.0,-999.000
    31WTMARAII,   P16,    13,  1,      6,      6,2,19840508,1459, 25.5417,-154.1833, 5239,    229.3,  17.6886,  34.8723,2,  34.8780,2,   -999.0,5, 17.6497,    194.7,2,     3.23,2,     3.95,2,     0.01,2,     0.38,2, -999.000,9,-999.000,  -999.0,-999.000
    31WTMARAII,   P16,    13,  1,      7,      7,2,19840508,1459, 25.5417,-154.1833, 5239,    310.0,  12.6917,  34.2516,2,  34.2530,2,   -999.0,5, 12.6499,    192.0,2,    10.07,2,    10.76,2,     0.00,2,     0.85,2, -999.000,9,-999.000,  -999.0,-999.000
    31WTMARAII,   P16,    13,  1,      8,      8,2,19840508,1459, 25.5417,-154.1833, 5239,    409.2,   9.4590,  34.0900,2,  34.0930,2,   -999.0,5,  9.4132,    171.0,2,    23.66,2,    19.95,2,     0.00,2,     1.43,2, -999.000,9,-999.000,  -999.0,-999.000
    31WTMARAII,   P16,    13,  1,      9,      9,2,19840508,1459, 25.5417,-154.1833, 5239,    508.2,   7.4845,  34.0512,2,  34.0520,2,   -999.0,5,  7.4347,    127.9,2,    42.34,2,    27.97,2,     0.00,2,  -999.00,9, -999.000,9,-999.000,  -999.0,-999.000
    31WTMARAII,   P16,    13,  1,     10,     10,2,19840508,1459, 25.5417,-154.1833, 5239,    608.7,   5.5753,  34.0595,2,  34.0630,2,   -999.0,5,  5.5240,     71.3,2,    71.48,2,    36.96,2,     0.00,2,     2.58,2, -999.000,9,-999.000,  -999.0,-999.000
    31WTMARAII,   P16,    13,  1,     11,     11,2,19840508,1459, 25.5417,-154.1833, 5239,    709.8,   4.8615,  34.1747,2,  34.1790,2,   -999.0,5,  4.8050,     35.2,2,    90.15,2,    41.07,2,     0.00,2,     2.88,2, -999.000,9,-999.000,  -999.0,-999.000
    31WTMARAII,   P16,    13,  1,     12,     12,2,19840508,1459, 25.5417,-154.1833, 5239,    812.2,   4.5528,  34.3198,2,  34.3240,2,   -999.0,5,  4.4893,     27.4,2,   100.80,2,    42.33,2,     0.00,2,     2.97,2, -999.000,9,   4.559,   811.0,-999.000
    31WTMARAII,   P16,    13,  1,     13,     13,2,19840508,1459, 25.5417,-154.1833, 5239,    911.4,   4.0356,  34.3688,2,  34.3730,2,   -999.0,5,  3.9672,     31.7,2,   112.82,2,    42.72,2,     0.00,2,     3.02,2, -999.000,9,-999.000,  -999.0,-999.000
    31WTMARAII,   P16,    13,  1,     14,     14,2,19840508,1459, 25.5417,-154.1833, 5239,   1012.0,   3.7850,  34.4270,2,  34.4300,2,   -999.0,5,  3.7102,     38.7,2,   117.90,2,    42.53,2,     0.00,2,     2.99,2, -999.000,9,-999.000,  -999.0,-999.000
    31WTMARAII,   P16,    13,  1,     15,     15,2,19840508,1459, 25.5417,-154.1833, 5239,   1262.7,   3.2393,  34.5126,2,  34.5170,2,   -999.0,5,  3.1486,     55.6,2,   130.11,2,    41.94,2,     0.00,2,  -999.00,9, -999.000,9,-999.000,  -999.0,-999.000
    31WTMARAII,   P16,    13,  1,     16,     16,2,19840508,1459, 25.5417,-154.1833, 5239,   1514.2,   2.8056,  34.5537,2,  34.5560,2,   -999.0,5,  2.6989,     65.6,2,   138.22,2,    41.54,2,     0.00,2,  -999.00,9, -999.000,9,-999.000,  -999.0,-999.000
    31WTMARAII,   P16,    13,  1,     17,     17,2,19840508,1459, 25.5417,-154.1833, 5239,   1767.7,   2.3491,  34.5880,2,  34.5900,2,   -999.0,5,  2.2271,     75.6,2,   148.97,2,    40.96,2,     0.01,2,  -999.00,9, -999.000,9,-999.000,  -999.0,-999.000
    31WTMARAII,   P16,    13,  1,     18,     18,2,19840508,1459, 25.5417,-154.1833, 5239,   2022.1,   2.0374,  34.6135,2,  34.6160,2,   -999.0,5,  1.8986,     87.8,2,   158.35,2,    40.37,2,     0.00,2,  -999.00,9, -999.000,9,-999.000,  -999.0,-999.000
    31WTMARAII,   P16,    13,  1,     19,     19,2,19840508,1459, 25.5417,-154.1833, 5239,   2529.5,   1.6738,  34.6478,2,  34.6490,2,   -999.0,5,  1.4970,    109.1,2,   161.86,2,    39.00,2,     0.01,2,  -999.00,9, -999.000,9,   1.681,  2534.0,-999.000
    31WTMARAII,   P16,    13,  1,     20,     20,2,19840508,1459, 25.5417,-154.1833, 5239,   3038.5,   1.5272,  34.6676,2,  34.6680,2,   -999.0,5,  1.3062,    129.1,2,   163.62,2,    37.83,2,     0.00,2,     2.56,2, -999.000,9,-999.000,  -999.0,-999.000
    31WTMARAII,   P16,    13,  1,     21,     21,2,19840508,1459, 25.5417,-154.1833, 5239,   3544.3,   1.4677,  34.6784,2,  34.6790,2,   -999.0,5,  1.1978,    142.1,2,   157.66,2,    36.85,2,     0.00,2,     2.48,2, -999.000,9,-999.000,  -999.0,-999.000
    31WTMARAII,   P16,    13,  1,     22,     22,2,19840508,1459, 25.5417,-154.1833, 5239,   4052.5,   1.4526,  34.6848,2,  34.6860,2,   -999.0,5,  1.1293,    149.0,2,   153.65,2,    36.36,2,     0.02,2,  -999.00,9, -999.000,9,-999.000,  -999.0,-999.000
    31WTMARAII,   P16,    13,  1,     23,     23,2,19840508,1459, 25.5417,-154.1833, 5239,   4667.4,   1.4795,  34.6887,2,  34.6910,2,   -999.0,5,  1.0856,    159.0,2,   149.64,2,    35.77,2,     0.00,2,     2.38,2, -999.000,9,   1.479,  4668.0,-999.000
    31WTMARAII,   P16,    13,  1,     24,     24,2,19840508,1459, 25.5417,-154.1833, 5239,   5355.9,   1.5427,  34.6911,2,  34.6930,2,   -999.0,5,  1.0629,    159.5,2,   141.63,2,    35.48,2,     0.02,2,  -999.00,9, -999.000,9,-999.000,  -999.0,-999.000