BOTTLE,20220816CCHSIOAMB
EXPOCODE,SECT_ID,STNNBR,CASTNO,SAMPNO,BTLNBR,BTLNBR_FLAG_W,DATE,TIME,LATITUDE,LONGITUDE,DEPTH,CTDPRS,CTDTMP,CTDSAL,CTDSAL_FLAG_W,SALNTY,SALNTY_FLAG_W,CTDOXY,CTDOXY_FLAG_W,THETA,OXYGEN,OXYGEN_FLAG_W,SILCAT,SILCAT_FLAG_W,NITRAT,NITRAT_FLAG_W,NITRIT,NITRIT_FLAG_W,PHSPHT,PHSPHT_FLAG_W,TRITUM,TRITUM_FLAG_W,REVTMP,REVPRS,TRITER
,,,,,,,,,,,,DBAR,ITS-90,PSS-78,,PSS-78,,UMOL/KG,,DEG C,UMOL/KG,,UMOL/KG,,UMOL/KG,,UMOL/KG,,UMOL/KG,,TU,,,DBAR,TU
    31WTMARAII,   P16,    69,  1,      1,      1,2,19840526,1731, 46.5783,-151.9833, 4854,      1.0,   6.7080,-999.0000,9,  32.6990,2,   -999.0,5,-999.0000,   -999.0,9,    20.46,2,    12.24,2,     0.12,2,     1.24,2, -999.000,9,   6.706,     1.0,-999.000
    31WTMARAII,   P16,    69,  1,      2,      2,2,19840526,1731, 46.5783,-151.9833, 4854,     17.9,   6.6124,  32.6948,2,  32.6980,2,   -999.0,5,  6.6108,    316.5,2,    20.75,2,    12.24,2,     0.12,2,  -999.00,9, -999.000,9,-999.000,  -999.0,-999.000
    31WTMARAII,   P16,    69,  1,      3,      3,2,19840526,1731, 46.5783,-151.9833, 4854,     45.7,   5.9985,  32.7013,2,  32.7030,2,   -999.0,5,  5.9948,    320.0,2,    20.75,2,    12.53,2,     0.11,2,  -999.00,9, -999.000,9,-999.000,  -999.0,-999.000
    31WTMARAII,   P16,    69,  1,      4,      4,2,19840526,1731, 46.5783,-151.9833, 4854,     98.3,   5.2727,  32.7583,2,  32.7590,2,   -999.0,5,  5.2652,    310.0,2,    21.63,2,    13.90,2,     0.12,2,  -999.00,9, -999.000,9,-999.000,  -999.0,-999.000
    31WTMARAII,   P16,    69,  1,      5,      5,2,19840526,1731, 46.5783,-151.9833, 4854,    145.6,   5.3707,  33.7541,2,  33.7560,2,   -999.0,5,  5.3592,    218.4,2,    41.57,2,    24.65,2,     0.01,2,  -999.00,9, -999.000,9,-999.000,  -999.0,-999.000
    31WTMARAII,   P16,    69,  1,      6,      6,2,19840526,1731, 46.5783,-151.9833, 4854,    186.3,   4.9168,  33.7742,2,  33.7750,2,   -999.0,5,  4.9027,    221.8,2,    50.08,2,    27.97,2,     0.01,2,  -999.00,9, -999.000,9,-999.000,  -999.0,-999.000
    31WTMARAII,   P16,    69,  1,      7,      7,2,19840526,1731, 46.5783,-151.9833, 4854,    298.0,   4.2230,  33.8785,2,  33.8800,2,   -999.0,5,  4.2018,    100.5,2,    76.68,2,    36.97,2,     0.01,2,     2.60,2, -999.000,9,-999.000,  -999.0,-999.000
    31WTMARAII,   P16,    69,  1,      8,      8,2,19840526,1731, 46.5783,-151.9833, 4854,    399.2,   4.0640,  34.0084,2,  34.0090,2,   -999.0,5,  4.0358,     66.1,2,    92.61,2,    39.90,2,     0.01,2,     2.81,2, -999.000,9,-999.000,  -999.0,-999.000
    31WTMARAII,   P16,    69,  1,      9,      9,2,19840526,1731, 46.5783,-151.9833, 4854,    501.2,   3.8091,  34.1186,2,  34.1220,2,   -999.0,5,  3.7741,     44.8,2,   106.97,2,    41.46,2,     0.00,2,     2.88,2, -999.000,9,-999.000,  -999.0,-999.000
    31WTMARAII,   P16,    69,  1,     10,     10,2,19840526,1731, 46.5783,-151.9833, 4854,    599.2,   3.6141,  34.1919,2,  34.1930,2,   -999.0,5,  3.5727,     36.5,2,   116.65,2,    42.24,2,     0.00,2,     2.94,2, -999.000,9,-999.000,  -999.0,-999.000
    31WTMARAII,   P16,    69,  1,     11,     11,2,19840526,1731, 46.5783,-151.9833, 4854,    696.0,   3.3972,  34.2547,2,  34.2570,2,   -999.0,5,  3.3497,     30.0,2,   127.89,2,    42.73,2,     0.00,2,     2.95,2, -999.000,9,-999.000,  -999.0,-999.000
    31WTMARAII,   P16,    69,  1,     12,     12,2,19840526,1731, 46.5783,-151.9833, 4854,    794.5,   3.2012,  34.3068,2,  34.3090,2,   -999.0,5,  3.1476,     24.8,2,   135.90,2,    43.31,2,     0.00,2,     3.01,2, -999.000,9,-999.000,  -999.0,-999.000
    31WTMARAII,   P16,    69,  1,     13,     13,2,19840526,1731, 46.5783,-151.9833, 4854,    899.0,   3.0053,  34.3502,2,  34.3530,2,   -999.0,5,  2.9452,     22.2,2,   143.42,2,    43.51,2,     0.00,2,     3.05,2, -999.000,9,-999.000,  -999.0,-999.000
    31WTMARAII,   P16,    69,  1,     14,     14,2,19840526,1731, 46.5783,-151.9833, 4854,   1002.7,   2.8613,  34.3830,2,  34.3840,2,   -999.0,5,  2.7945,     20.0,2,   149.68,2,    43.80,2,     0.00,2,     3.06,2, -999.000,9,-999.000,  -999.0,-999.000
    31WTMARAII,   P16,    69,  1,     15,     15,2,19840526,1731, 46.5783,-151.9833, 4854,   1259.9,   2.5174,  34.4589,2,  34.4630,2,   -999.0,5,  2.4341,     19.1,2,   162.47,2,    44.19,2,     0.00,2,     3.08,2, -999.000,9,   2.510,  1259.0,-999.000
    31WTMARAII,   P16,    69,  1,     16,     16,2,19840526,1731, 46.5783,-151.9833, 4854,   1483.9,   2.3095,  34.5045,2,  34.5080,2,   -999.0,5,  2.2111,     24.3,2,   169.90,2,    44.09,2,     0.00,2,     3.05,2, -999.000,9,-999.000,  -999.0,-999.000
    31WTMARAII,   P16,    69,  1,     17,     17,2,19840526,1731, 46.5783,-151.9833, 4854,   1728.6,   2.1025,  34.5500,2,  34.5530,2,   -999.0,5,  1.9872,     36.9,2,   175.95,2,    43.40,2,     0.00,2,     2.99,2, -999.000,9,-999.000,  -999.0,-999.000
    31WTMARAII,   P16,    69,  1,     18,     18,2,19840526,1731, 46.5783,-151.9833, 4854,   2026.0,   1.9396,  34.5847,2,  34.5870,2,   -999.0,5,  1.8021,     51.7,2,   180.05,2,    42.52,2,     0.00,2,     2.92,2, -999.000,9,-999.000,  -999.0,-999.000
    31WTMARAII,   P16,    69,  1,     19,     19,2,19840526,1731, 46.5783,-151.9833, 4854,   2567.0,   1.7056,  34.6308,2,  34.6320,2,   -999.0,5,  1.5249,     85.6,2,   179.75,2,    40.47,2,     0.00,2,     2.81,2, -999.000,9,   1.705,  2571.0,-999.000
    31WTMARAII,   P16,    69,  1,     20,     20,2,19840526,1731, 46.5783,-151.9833, 4854,   3146.8,   1.5507,  34.6588,2,  34.6610,2,   -999.0,5,  1.3187,    117.3,2,   171.34,2,    38.41,2,     0.00,2,     2.64,2, -999.000,9,-999.000,  -999.0,-999.000
    31WTMARAII,   P16,    69,  1,     21,     21,2,19840526,1731, 46.5783,-151.9833, 4854,   3634.2,   1.4797,  34.6760,2,  34.6760,2,   -999.0,5,  1.2003,    136.9,2,   166.94,2,    37.14,2,     0.00,2,     2.55,2, -999.000,9,-999.000,  -999.0,-999.000
    31WTMARAII,   P16,    69,  1,     22,     22,2,19840526,1731, 46.5783,-151.9833, 4854,   4152.7,   1.4817,  34.6832,2,  34.6830,2,   -999.0,5,  1.1466,    143.4,2,   166.45,2,    36.65,2,     0.00,2,  -999.00,9, -999.000,9,-999.000,  -999.0,-999.000
    31WTMARAII,   P16,    69,  1,     23,     23,2,19840526,1731, 46.5783,-151.9833, 4854,   4700.9,   1.5247,  34.6858,2,  34.6870,2,   -999.0,5,  1.1255,    146.9,2,   171.73,2,    36.56,2,     0.00,2,  -999.00,9, -999.000,9,   1.524,  4703.0,-999.000
    31WTMARAII,   P16,    69,  1,     24,     24,2,19840526,1731, 46.5783,-151.9833, 4854,   5045.0,   1.5627,  34.6877,2,  34.6880,2,   -999.0,5,  1.1208,    149.0,2,   170.46,2,    36.46,2,     0.00,2,     2.48,2, -999.000,9,-999.000,  -999.0,-999.000
    31WTMARAII,   P16,    70,  1,      7,      7,2,19840526,2345, 47.0383,-151.9933, 5196,      3.0,   6.8353,  32.6968,2,  32.7010,2,   -999.0,5,  6.8351,    317.9,2,    20.56,2,    12.53,2,     0.11,2,     1.24,2, -999.000,9,   6.820,  -999.0,-999.000
    31WTMARAII,   P16,    70,  1,      8,      8,2,19840526,2345, 47.0383,-151.9933, 5196,     51.0,   5.9356,  32.7007,2,  32.7000,2,   -999.0,5,  5.9314,    319.1,2,    20.46,2,    13.02,2,     0.10,2,     1.27,2, -999.000,9,-999.000,  -999.0,-999.000
    31WTMARAII,   P16,    70,  1,      9,      9,2,19840526,2345, 47.0383,-151.9933, 5196,     97.9,   5.1507,  32.7424,2,  32.7430,2,   -999.0,5,  5.1434,    310.4,2,    21.14,2,    14.29,2,     0.12,2,     1.36,2, -999.000,9,-999.000,  -999.0,-999.000
    31WTMARAII,   P16,    70,  1,     10,     10,2,19840526,2345, 47.0383,-151.9933, 5196,    126.8,   5.1967,  33.4484,2,  33.4540,2,   -999.0,5,  5.1870,    249.7,2,    32.58,2,    21.91,2,     0.04,2,     1.68,2, -999.000,9,-999.000,  -999.0,-999.000
    31WTMARAII,   P16,    70,  1,     11,     11,2,19840526,2345, 47.0383,-151.9933, 5196,    162.1,   4.9318,  33.7397,2,  33.7400,2,   -999.0,5,  4.9196,    207.5,2,    44.41,2,    26.60,2,     0.01,2,     1.94,2, -999.000,9,-999.000,  -999.0,-999.000
    31WTMARAII,   P16,    70,  1,     12,     12,2,19840526,2345, 47.0383,-151.9933, 5196,    198.2,   4.6629,  33.7807,2,  33.7810,2,   -999.0,5,  4.6483,    167.9,2,    54.38,2,    30.52,2,     0.00,2,     2.19,2, -999.000,9,-999.000,  -999.0,-999.000
    31WTMARAII,   P16,    70,  1,     13,     13,2,19840526,2345, 47.0383,-151.9933, 5196,    248.9,   4.3380,  33.8349,2,  33.8350,2,   -999.0,5,  4.3202,    123.1,2,    66.31,2,    34.82,2,     0.00,2,     2.48,2, -999.000,9,-999.000,  -999.0,-999.000
    31WTMARAII,   P16,    70,  1,     14,     14,2,19840526,2345, 47.0383,-151.9933, 5196,    299.2,   4.1200,  33.8901,2,  33.8900,2,   -999.0,5,  4.0990,     92.6,2,    78.43,2,    37.75,2,     0.01,2,     2.67,2, -999.000,9,-999.000,  -999.0,-999.000
    31WTMARAII,   P16,    70,  1,     15,     15,2,19840526,2345, 47.0383,-151.9933, 5196,    398.1,   4.0770,  34.0269,2,  34.0260,2,   -999.0,5,  4.0488,     63.9,2,    93.29,2,    39.90,2,     0.00,2,     2.83,2, -999.000,9,   4.066,   399.0,-999.000
    31WTMARAII,   P16,    70,  1,     16,     16,2,19840526,2345, 47.0383,-151.9933, 5196,    504.0,   3.8731,  34.1202,2,  34.1220,2,   -999.0,5,  3.8377,     48.3,2,   105.90,2,    41.17,2,     0.00,2,     2.90,2, -999.000,9,-999.000,  -999.0,-999.000
    31WTMARAII,   P16,    70,  1,     17,     17,2,19840526,2345, 47.0383,-151.9933, 5196,    593.3,   3.6331,  34.1866,2,  34.1870,2,   -999.0,5,  3.5921,     37.0,2,   116.36,2,    42.04,2,     0.00,2,     2.96,2, -999.000,9,-999.000,  -999.0,-999.000
    31WTMARAII,   P16,    70,  1,     18,     18,2,19840526,2345, 47.0383,-151.9933, 5196,    693.4,   3.4302,  34.2473,2,  34.2480,2,   -999.0,5,  3.3827,     31.3,2,   122.61,2,    42.53,2,     0.00,2,     3.00,2, -999.000,9,-999.000,  -999.0,-999.000
    31WTMARAII,   P16,    70,  1,     19,     19,2,19840526,2345, 47.0383,-151.9933, 5196,    810.5,   3.1983,  34.3047,2,  34.3050,2,   -999.0,5,  3.1434,     26.1,2,   132.57,2,    43.02,2,     0.00,2,     3.04,2, -999.000,9,   3.197,   812.0,-999.000
    31WTMARAII,   P16,    70,  1,     20,     20,2,19840526,2345, 47.0383,-151.9933, 5196,    906.8,   3.0393,  34.3448,2,  34.3440,2,   -999.0,5,  2.9784,     22.6,2,   136.87,2,    43.41,2,     0.00,2,     3.06,2, -999.000,9,-999.000,  -999.0,-999.000
    31WTMARAII,   P16,    70,  1,     21,     21,2,19840526,2345, 47.0383,-151.9933, 5196,   1007.7,   2.8723,  34.3888,2,  34.3880,2,   -999.0,5,  2.8051,     16.1,2,   148.11,2,    43.99,2,     0.00,2,     3.09,2, -999.000,9,-999.000,  -999.0,-999.000
    31WTMARAII,   P16,    70,  1,     22,     22,2,19840526,2345, 47.0383,-151.9933, 5196,   1254.0,   2.5704,  34.4552,2,  34.4550,2,   -999.0,5,  2.4871,     14.8,2,   159.54,2,    44.38,2,     0.00,2,  -999.00,9, -999.000,9,-999.000,  -999.0,-999.000
    31WTMARAII,   P16,    70,  1,     23,     23,2,19840526,2345, 47.0383,-151.9933, 5196,   1545.0,   2.2705,  34.5194,2,  34.5190,2,   -999.0,5,  2.1677,     26.5,2,   169.80,2,    43.99,2,     0.00,2,  -999.00,9, -999.000,9,   2.266,  1541.0,-999.000
    31WTMARAII,   P16,    71,  1,      1,      1,2,19840527,0553, 47.5700,-151.9967, 5010,      1.0,   6.8570,-999.0000,9,  32.7030,2,   -999.0,5,-999.0000,   -999.0,9,    21.53,2,    12.33,2,     0.13,2,     1.21,2, -999.000,9,   6.855,     1.0,-999.000
    31WTMARAII,   P16,    71,  1,      2,      2,2,19840527,0553, 47.5700,-151.9967, 5010,     49.3,   5.9576,  32.6988,2,  32.7030,2,   -999.0,5,  5.9536,    321.7,2,    22.32,2,    12.73,2,     0.11,2,     1.23,2, -999.000,9,-999.000,  -999.0,-999.000
    31WTMARAII,   P16,    71,  1,      3,      3,2,19840527,0553, 47.5700,-151.9967, 5010,     99.9,   5.0978,  32.7446,2,  32.7390,2,   -999.0,5,  5.0903,    310.8,2,    22.81,2,    14.00,2,     0.11,2,     1.33,2, -999.000,9,-999.000,  -999.0,-999.000
    31WTMARAII,   P16,    71,  1,      4,      4,2,19840527,0553, 47.5700,-151.9967, 5010,    144.5,   4.9158,  33.7320,2,  33.7350,2,   -999.0,5,  4.9050,    206.6,2,    45.48,2,    26.70,2,     0.01,2,     1.94,2, -999.000,9,-999.000,  -999.0,-999.000
    31WTMARAII,   P16,    71,  1,      5,      5,2,19840527,0553, 47.5700,-151.9967, 5010,    202.1,   4.5309,  33.8065,2,  33.8100,2,   -999.0,5,  4.5163,    144.8,2,    62.60,2,    32.67,2,     0.01,2,     2.31,2, -999.000,9,-999.000,  -999.0,-999.000
    31WTMARAII,   P16,    71,  1,      6,      6,2,19840527,0553, 47.5700,-151.9967, 5010,    293.2,   4.2670,  33.9217,2,  33.9250,2,   -999.0,5,  4.2461,     90.5,2,    78.73,2,    37.65,2,     0.00,2,     2.63,2, -999.000,9,-999.000,  -999.0,-999.000
    31WTMARAII,   P16,    71,  1,      7,      7,2,19840527,0553, 47.5700,-151.9967, 5010,    398.2,   4.0571,  34.0469,2,  34.0490,2,   -999.0,5,  4.0289,     60.9,2,    97.30,2,    39.70,2,     0.00,2,     2.81,2, -999.000,9,-999.000,  -999.0,-999.000
    31WTMARAII,   P16,    71,  1,      8,      8,2,19840527,0553, 47.5700,-151.9967, 5010,    501.7,   3.7901,  34.1227,2,  34.1260,2,   -999.0,5,  3.7552,     45.7,2,   110.30,2,    41.56,2,     0.01,2,     2.91,2, -999.000,9,-999.000,  -999.0,-999.000
    31WTMARAII,   P16,    71,  1,      9,      9,2,19840527,0553, 47.5700,-151.9967, 5010,    603.8,   3.5532,  34.1923,2,  34.1950,2,   -999.0,5,  3.5118,     35.7,2,   118.99,2,    41.85,2,     0.00,2,     2.96,2, -999.000,9,-999.000,  -999.0,-999.000
    31WTMARAII,   P16,    71,  1,     10,     10,2,19840527,0553, 47.5700,-151.9967, 5010,    701.3,   3.3742,  34.2532,2,  34.2570,2,   -999.0,5,  3.3265,     30.4,2,   123.00,2,    43.02,2,     0.00,2,     3.00,2, -999.000,9,-999.000,  -999.0,-999.000
    31WTMARAII,   P16,    71,  1,     11,     11,2,19840527,0553, 47.5700,-151.9967, 5010,    806.9,   3.2163,  34.3039,2,  34.3080,2,   -999.0,5,  3.1616,     23.9,2,   132.87,2,    43.51,2,     0.00,2,     3.01,2, -999.000,9,-999.000,  -999.0,-999.000
    31WTMARAII,   P16,    71,  1,     12,     12,2,19840527,0553, 47.5700,-151.9967, 5010,    905.5,   3.0373,  34.3458,2,  34.3500,2,   -999.0,5,  2.9765,     19.6,2,   142.15,2,    43.99,2,     0.00,2,  -999.00,9, -999.000,9,-999.000,  -999.0,-999.000
    31WTMARAII,   P16,    71,  1,     13,     13,2,19840527,0553, 47.5700,-151.9967, 5010,   1005.6,   2.8644,  34.3832,2,  34.3880,2,   -999.0,5,  2.7973,     18.3,2,   147.52,2,    44.19,2,     0.00,2,     3.07,2, -999.000,9,-999.000,  -999.0,-999.000
    31WTMARAII,   P16,    71,  1,     14,     14,2,19840527,0553, 47.5700,-151.9967, 5010,   1254.0,   2.5235,  34.4581,2,  34.4610,2,   -999.0,5,  2.4406,     19.1,2,   157.10,2,    44.28,2,     0.00,2,     3.09,2, -999.000,9,-999.000,  -999.0,-999.000
    31WTMARAII,   P16,    71,  1,     15,     15,2,19840527,0553, 47.5700,-151.9967, 5010,   1514.8,   2.2795,  34.5097,2,  34.5140,2,   -999.0,5,  2.1790,     26.5,2,   167.35,2,    43.99,2,     0.00,2,     3.04,2, -999.000,9,   2.280,  1514.0,-999.000
    31WTMARAII,   P16,    71,  1,     16,     16,2,19840527,0553, 47.5700,-151.9967, 5010,   1761.9,   2.0706,  34.5552,2,  34.5600,2,   -999.0,5,  1.9530,     39.1,2,   172.43,2,    43.21,2,     0.00,2,     2.98,2, -999.000,9,-999.000,  -999.0,-999.000
    31WTMARAII,   P16,    71,  1,     17,     17,2,19840527,0553, 47.5700,-151.9967, 5010,   2004.8,   1.9266,  34.5857,2,  34.5900,2,   -999.0,5,  1.7911,     52.6,2,   179.08,2,    42.42,2,     0.00,2,     2.91,2, -999.000,9,-999.000,  -999.0,-999.000
    31WTMARAII,   P16,    71,  1,     18,     18,2,19840527,0553, 47.5700,-151.9967, 5010,   2266.0,   1.8047,  34.6104,2,  34.6150,2,   -999.0,5,  1.6488,     68.2,2,   177.21,2,    41.54,2,     0.00,2,     2.84,2, -999.000,9,-999.000,  -999.0,-999.000
    31WTMARAII,   P16,    71,  1,     19,     19,2,19840527,0553, 47.5700,-151.9967, 5010,   2529.6,   1.6967,  34.6311,2,  34.6350,2,   -999.0,5,  1.5195,     85.6,2,   177.80,2,    40.47,2,     0.00,2,     2.79,2, -999.000,9,   1.701,  2536.0,-999.000
    31WTMARAII,   P16,    71,  1,     20,     20,2,19840527,0553, 47.5700,-151.9967, 5010,   3025.1,   1.5657,  34.6565,2,  34.6590,2,   -999.0,5,  1.3452,    109.9,2,   176.92,2,    38.80,2,     0.00,2,     2.67,2, -999.000,9,-999.000,  -999.0,-999.000
    31WTMARAII,   P16,    71,  1,     21,     21,2,19840527,0553, 47.5700,-151.9967, 5010,   3537.4,   1.4848,  34.6726,2,  34.6760,2,   -999.0,5,  1.2152,    134.7,2,   169.39,2,    37.44,2,     0.00,2,     2.55,2, -999.000,9,-999.000,  -999.0,-999.000
    31WTMARAII,   P16,    71,  1,     22,     22,2,19840527,0553, 47.5700,-151.9967, 5010,   4039.6,   1.4788,  34.6824,2,  34.6840,2,   -999.0,5,  1.1562,    142.5,2,   174.18,2,    36.85,2,     0.00,2,  -999.00,9, -999.000,9,-999.000,  -999.0,-999.000
    31WTMARAII,   P16,    71,  1,     23,     23,2,19840527,0553, 47.5700,-151.9967, 5010,   4549.3,   1.5168,  34.6854,2,  34.6870,2,   -999.0,5,  1.1356,    145.1,2,   177.99,2,    36.65,2,     0.00,2,  -999.00,9, -999.000,9,   1.518,  4550.0,-999.000
    31WTMARAII,   P16,    71,  1,     24,     24,2,19840527,0553, 47.5700,-151.9967, 5010,   5143.5,   1.5807,  34.6881,2,  34.6890,2,   -999.0,5,  1.1261,    147.7,2,   176.91,2,    36.56,2,     0.00,2,     2.49,2, -999.000,9,-999.000,  -999.0,-999.000