BOTTLE,20220816CCHSIOAMB
EXPOCODE,SECT_ID,STNNBR,CASTNO,SAMPNO,BTLNBR,BTLNBR_FLAG_W,DATE,TIME,LATITUDE,LONGITUDE,DEPTH,CTDPRS,CTDTMP,CTDSAL,CTDSAL_FLAG_W,SALNTY,SALNTY_FLAG_W,CTDOXY,CTDOXY_FLAG_W,THETA,OXYGEN,OXYGEN_FLAG_W,SILCAT,SILCAT_FLAG_W,NITRAT,NITRAT_FLAG_W,NITRIT,NITRIT_FLAG_W,PHSPHT,PHSPHT_FLAG_W,TRITUM,TRITUM_FLAG_W,REVTMP,REVPRS,TRITER
,,,,,,,,,,,,DBAR,ITS-90,PSS-78,,PSS-78,,UMOL/KG,,DEG C,UMOL/KG,,UMOL/KG,,UMOL/KG,,UMOL/KG,,UMOL/KG,,TU,,,DBAR,TU
    31WTMARAII,   P16,    17,  1,      1,      1,2,19840509,1454, 26.9867,-152.9617, 5465,      1.0,  23.2700,-999.0000,9,  35.3230,2,   -999.0,5,-999.0000,   -999.0,9,     1.86,2,     0.02,2,     0.00,2,     0.10,2, -999.000,9,  23.264,     1.0,-999.000
    31WTMARAII,   P16,    17,  1,      2,      2,2,19840509,1454, 26.9867,-152.9617, 5465,     56.2,  21.2700,  35.2552,2,  35.2580,2,   -999.0,5, 21.2591,    229.3,2,     1.86,2,     0.00,2,     0.00,2,     0.09,2, -999.000,9,-999.000,  -999.0,-999.000
    31WTMARAII,   P16,    17,  1,      3,      3,2,19840509,1454, 26.9867,-152.9617, 5465,    106.9,  18.0798,  34.9214,2,  34.9270,2,   -999.0,5, 18.0615,    235.2,2,     2.35,2,     0.06,2,     0.00,2,     0.15,2, -999.000,9,-999.000,  -999.0,-999.000
    31WTMARAII,   P16,    17,  1,      4,      4,2,19840509,1454, 26.9867,-152.9617, 5465,    157.2,  15.8973,  34.6724,2,  34.6730,2,   -999.0,5, 15.8726,    227.8,2,     3.52,2,     2.47,2,     0.17,2,     0.31,2, -999.000,9,-999.000,  -999.0,-999.000
    31WTMARAII,   P16,    17,  1,      5,      5,2,19840509,1454, 26.9867,-152.9617, 5465,    207.7,  13.6735,  34.4345,2,  34.4300,2,   -999.0,5, 13.6441,    223.8,2,     6.55,2,     6.77,2,     0.01,2,     0.57,2, -999.000,9,-999.000,  -999.0,-999.000
    31WTMARAII,   P16,    17,  1,      6,      6,2,19840509,1454, 26.9867,-152.9617, 5465,    308.7,  11.0993,  34.2160,2,  34.2220,2,   -999.0,5, 11.0612,    224.6,2,    12.42,2,    12.03,2,     0.00,2,     0.87,2, -999.000,9,-999.000,  -999.0,-999.000
    31WTMARAII,   P16,    17,  1,      7,      7,2,19840509,1454, 26.9867,-152.9617, 5465,    409.5,   9.0321,  34.1052,2,  34.1070,2,   -999.0,5,  8.9875,   -999.0,9,    23.47,2,    18.48,2,     0.00,2,     1.29,2, -999.000,9,-999.000,  -999.0,-999.000
    31WTMARAII,   P16,    17,  1,      8,      8,2,19840509,1454, 26.9867,-152.9617, 5465,    510.1,   7.1162,  34.0150,2,  34.0170,2,   -999.0,5,  7.0677,    152.3,2,    42.64,2,    26.99,2,     0.00,2,     1.86,2, -999.000,9,-999.000,  -999.0,-999.000
    31WTMARAII,   P16,    17,  1,      9,      9,2,19840509,1454, 26.9867,-152.9617, 5465,    610.8,   5.4127,  34.0195,2,  34.0250,2,   -999.0,5,  5.3621,     83.1,2,    70.21,2,    36.18,2,     0.00,2,  -999.00,9, -999.000,9,-999.000,  -999.0,-999.000
    31WTMARAII,   P16,    17,  1,     10,     10,2,19840509,1454, 26.9867,-152.9617, 5465,    711.9,   4.6062,  34.1394,2,  34.1440,2,   -999.0,5,  4.5510,     38.3,2,    92.50,2,    41.17,2,     0.00,2,     2.92,2, -999.000,9,-999.000,  -999.0,-999.000
    31WTMARAII,   P16,    17,  1,     11,     11,2,19840509,1454, 26.9867,-152.9617, 5465,    813.1,   4.2011,  34.2747,2,  34.2760,2,   -999.0,5,  4.1398,     19.6,2,   107.26,2,    43.02,2,     0.00,2,     3.08,2, -999.000,9,-999.000,  -999.0,-999.000
    31WTMARAII,   P16,    17,  1,     12,     12,2,19840509,1454, 26.9867,-152.9617, 5465,    913.7,   3.8782,  34.3502,2,  34.3520,2,   -999.0,5,  3.8107,     20.9,2,   117.22,2,    43.41,2,     0.00,2,     3.07,2, -999.000,9,   3.870,   913.0,-999.000
    31WTMARAII,   P16,    17,  1,     13,     13,2,19840509,1454, 26.9867,-152.9617, 5465,   1014.6,   3.6036,  34.4262,2,  34.4280,2,   -999.0,5,  3.5299,     29.6,2,   124.16,2,    43.21,2,     0.00,2,     3.07,2, -999.000,9,-999.000,  -999.0,-999.000
    31WTMARAII,   P16,    17,  1,     14,     14,2,19840509,1454, 26.9867,-152.9617, 5465,   1266.9,   3.0910,  34.5157,2,  34.5180,2,   -999.0,5,  3.0014,     48.7,2,   133.92,2,    42.33,2,     0.00,2,     2.97,2, -999.000,9,-999.000,  -999.0,-999.000
    31WTMARAII,   P16,    17,  1,     15,     15,2,19840509,1454, 26.9867,-152.9617, 5465,   1520.3,   2.6632,  34.5634,2,  34.5670,2,   -999.0,5,  2.5576,   -999.0,9,   143.60,2,    41.45,2,     0.00,2,  -999.00,9, -999.000,9,-999.000,  -999.0,-999.000
    31WTMARAII,   P16,    17,  1,     16,     16,2,19840509,1454, 26.9867,-152.9617, 5465,   1773.8,   2.3035,  34.5948,2,  34.5970,2,   -999.0,5,  2.1816,     65.2,2,   151.31,2,    40.86,2,     0.00,2,  -999.00,9, -999.000,9,-999.000,  -999.0,-999.000
    31WTMARAII,   P16,    17,  1,     17,     17,2,19840509,1454, 26.9867,-152.9617, 5465,   2027.9,   1.9997,  34.6195,2,  34.6220,2,   -999.0,5,  1.8610,     75.2,2,   159.82,2,    40.37,2,     0.01,2,  -999.00,9, -999.000,9,-999.000,  -999.0,-999.000
    31WTMARAII,   P16,    17,  1,     18,     18,2,19840509,1454, 26.9867,-152.9617, 5465,   2535.5,   1.7050,  34.6484,2,  34.6500,2,   -999.0,5,  1.5271,    106.9,2,   165.38,2,    39.10,2,     0.00,2,  -999.00,9, -999.000,9,-999.000,  -999.0,-999.000
    31WTMARAII,   P16,    17,  1,     19,     19,2,19840509,1454, 26.9867,-152.9617, 5465,   3043.3,   1.5562,  34.6669,2,  34.6680,2,   -999.0,5,  1.3341,    123.0,2,   164.60,2,    37.92,2,     0.01,2,  -999.00,9, -999.000,9,   1.561,  3049.0,-999.000
    31WTMARAII,   P16,    17,  1,     20,     20,2,19840509,1454, 26.9867,-152.9617, 5465,   3545.0,   1.4960,  34.6779,2,  34.6780,2,   -999.0,5,  1.2253,    137.7,2,   161.76,2,    37.04,2,     0.00,2,     2.53,2, -999.000,9,-999.000,  -999.0,-999.000
    31WTMARAII,   P16,    17,  1,     21,     21,2,19840509,1454, 26.9867,-152.9617, 5465,   4049.3,   1.4724,  34.6848,2,  34.6840,2,   -999.0,5,  1.1489,    148.6,2,   157.56,2,    36.36,2,     0.00,2,     2.44,2, -999.000,9,-999.000,  -999.0,-999.000
    31WTMARAII,   P16,    17,  1,     22,     22,2,19840509,1454, 26.9867,-152.9617, 5465,   4559.7,   1.4800,  34.6891,2,  34.6890,2,   -999.0,5,  1.0987,   -999.0,9,   149.35,2,    35.77,2,     0.02,2,  -999.00,9, -999.000,9,-999.000,  -999.0,-999.000
    31WTMARAII,   P16,    17,  1,     23,     23,2,19840509,1454, 26.9867,-152.9617, 5465,   5074.7,   1.4955,  34.6931,2,  34.6930,2,   -999.0,5,  1.0522,    163.8,2,   143.39,2,    35.19,2,     0.00,2,     2.35,2, -999.000,9,   1.494,  5076.0,-999.000
    31WTMARAII,   P16,    17,  1,     24,     24,2,19840509,1454, 26.9867,-152.9617, 5465,   5569.1,   1.5443,  34.6940,2,  34.6940,2,   -999.0,5,  1.0373,    162.5,2,   141.04,2,    35.09,2,     0.02,2,  -999.00,9, -999.000,9,-999.000,  -999.0,-999.000
    31WTMARAII,   P16,    18,  1,      6,      6,2,19840509,2049, 27.3333,-152.6983, 5354,      1.6,  23.0873,  35.2890,2,  35.2910,2,   -999.0,5, 23.0870,    220.6,2,     0.68,2,     0.00,2,     0.00,2,     0.07,2, -999.000,9,  23.090,  -999.0,-999.000
    31WTMARAII,   P16,    18,  1,      7,      7,2,19840509,2049, 27.3333,-152.6983, 5354,     22.7,  21.3066,  35.2573,2,  35.2550,2,   -999.0,5, 21.3022,    229.3,2,     0.68,2,     0.00,2,     0.00,2,     0.08,2, -999.000,9,-999.000,  -999.0,-999.000
    31WTMARAII,   P16,    18,  1,      8,      8,2,19840509,2049, 27.3333,-152.6983, 5354,     53.1,  20.0092,  35.1079,2,  35.1100,2,   -999.0,5, 19.9994,    234.0,2,     1.27,2,     0.00,2,     0.00,2,     0.11,2, -999.000,9,-999.000,  -999.0,-999.000
    31WTMARAII,   P16,    18,  1,      9,      9,2,19840509,2049, 27.3333,-152.6983, 5354,    103.3,  16.7163,  34.7346,2,  34.7350,2,   -999.0,5, 16.6995,    242.2,2,     2.83,2,     0.02,2,     0.01,2,  -999.00,9, -999.000,9,-999.000,  -999.0,-999.000
    31WTMARAII,   P16,    18,  1,     10,     10,2,19840509,2049, 27.3333,-152.6983, 5354,    136.5,  15.3298,  34.6040,2,  34.5990,2,   -999.0,5, 15.3089,    224.7,2,     3.81,2,     3.46,2,     0.09,2,     0.36,2, -999.000,9,-999.000,  -999.0,-999.000
    31WTMARAII,   P16,    18,  1,     11,     11,2,19840509,2049, 27.3333,-152.6983, 5354,    170.0,  13.8863,  34.4600,2,  34.4570,2,   -999.0,5, 13.8620,    226.8,2,     5.96,2,     6.13,2,     0.02,2,     0.53,2, -999.000,9,-999.000,  -999.0,-999.000
    31WTMARAII,   P16,    18,  1,     12,     12,2,19840509,2049, 27.3333,-152.6983, 5354,    204.3,  12.6415,  34.3097,2,  34.3070,2,   -999.0,5, 12.6141,    224.2,2,     7.72,2,     8.23,2,     0.01,2,     0.67,2, -999.000,9,  12.622,   205.0,-999.000
    31WTMARAII,   P16,    18,  1,     13,     13,2,19840509,2049, 27.3333,-152.6983, 5354,    255.1,  11.3084,  34.2195,2,  34.2200,2,   -999.0,5, 11.2766,    222.8,2,    11.54,2,    11.44,2,     0.00,2,     0.84,2, -999.000,9,-999.000,  -999.0,-999.000
    31WTMARAII,   P16,    18,  1,     14,     14,2,19840509,2049, 27.3333,-152.6983, 5354,    305.7,  10.3377,  34.1857,2,  34.1860,2,   -999.0,5, 10.3016,    218.4,2,    15.94,2,    14.28,2,     0.00,2,     1.03,2, -999.000,9,-999.000,  -999.0,-999.000
    31WTMARAII,   P16,    18,  1,     15,     15,2,19840509,2049, 27.3333,-152.6983, 5354,    406.8,   8.6276,  34.0806,2,  34.0810,2,   -999.0,5,  8.5845,    196.7,2,    26.89,2,    19.75,2,     0.00,2,  -999.00,9, -999.000,9,   8.619,   407.0,-999.000
    31WTMARAII,   P16,    18,  1,     16,     16,2,19840509,2049, 27.3333,-152.6983, 5354,    507.7,   6.6544,  34.0029,2,  34.0050,2,   -999.0,5,  6.6079,    140.1,2,    48.80,2,    28.65,2,     0.00,2,  -999.00,9, -999.000,9,-999.000,  -999.0,-999.000
    31WTMARAII,   P16,    18,  1,     17,     17,2,19840509,2049, 27.3333,-152.6983, 5354,    608.1,   5.2403,  34.0199,2,  34.0220,2,   -999.0,5,  5.1907,     80.0,2,    71.09,2,    36.38,2,     0.01,2,  -999.00,9, -999.000,9,-999.000,  -999.0,-999.000
    31WTMARAII,   P16,    18,  1,     18,     18,2,19840509,2049, 27.3333,-152.6983, 5354,    709.1,   4.6221,  34.1454,2,  34.1440,2,   -999.0,5,  4.5670,     35.7,2,    91.42,2,    40.97,2,     0.00,2,  -999.00,9, -999.000,9,-999.000,  -999.0,-999.000
    31WTMARAII,   P16,    18,  1,     19,     19,2,19840509,2049, 27.3333,-152.6983, 5354,    810.3,   4.2087,  34.2592,2,  34.2600,2,   -999.0,5,  4.1476,     19.1,2,   105.69,2,    42.73,2,     0.00,2,  -999.00,9, -999.000,9,   4.212,   810.0,-999.000
    31WTMARAII,   P16,    18,  1,     20,     20,2,19840509,2049, 27.3333,-152.6983, 5354,    910.7,   3.9147,  34.3572,2,  34.3550,2,   -999.0,5,  3.8472,     19.6,2,   116.44,2,    43.11,2,     0.00,2,     3.11,2, -999.000,9,-999.000,  -999.0,-999.000
    31WTMARAII,   P16,    18,  1,     21,     21,2,19840509,2049, 27.3333,-152.6983, 5354,   1011.0,   3.6861,  34.4203,2,  34.4210,2,   -999.0,5,  3.6121,     26.5,2,   120.64,2,    43.01,2,     0.00,2,     3.07,2, -999.000,9,-999.000,  -999.0,-999.000
    31WTMARAII,   P16,    18,  1,     22,     22,2,19840509,2049, 27.3333,-152.6983, 5354,   1262.9,   3.1606,  34.5180,2,  34.5190,2,   -999.0,5,  3.0707,     47.8,2,   129.82,2,    41.94,2,     0.01,2,  -999.00,9, -999.000,9,-999.000,  -999.0,-999.000
    31WTMARAII,   P16,    18,  1,     23,     23,2,19840509,2049, 27.3333,-152.6983, 5354,   1508.7,   2.7286,  34.5631,2,  34.5630,2,   -999.0,5,  2.6232,     63.0,2,   139.59,2,    41.25,2,     0.00,2,     2.88,2, -999.000,9,   2.725,  1508.0,-999.000
    31WTMARAII,   P16,    19,  1,      1,      1,2,19840510,0242, 27.6933,-152.3933, 5485,      1.0,  23.7390,-999.0000,9,  35.3160,2,   -999.0,5,-999.0000,   -999.0,9,     1.27,2,     0.00,2,     0.00,2,     0.07,2, -999.000,9,  23.733,     1.0,-999.000
    31WTMARAII,   P16,    19,  1,      2,      2,2,19840510,0242, 27.6933,-152.3933, 5485,     57.1,  19.1301,  35.0075,2,  35.0240,2,   -999.0,5, 19.1199,    236.1,2,     1.86,2,     0.00,2,     0.00,2,     0.10,2, -999.000,9,-999.000,  -999.0,-999.000
    31WTMARAII,   P16,    19,  1,      3,      3,2,19840510,0242, 27.6933,-152.3933, 5485,    107.6,  16.2067,  34.7003,2,  34.7040,2,   -999.0,5, 16.1896,    233.9,2,     2.64,2,     1.04,2,     0.23,2,     0.23,2, -999.000,9,-999.000,  -999.0,-999.000
    31WTMARAII,   P16,    19,  1,      4,      4,2,19840510,0242, 27.6933,-152.3933, 5485,    158.3,  14.4680,  34.5107,2,  34.5140,2,   -999.0,5, 14.4447,    221.2,2,     4.69,2,     4.96,2,     0.02,2,     0.46,2, -999.000,9,-999.000,  -999.0,-999.000
    31WTMARAII,   P16,    19,  1,      5,      5,2,19840510,0242, 27.6933,-152.3933, 5485,    207.7,  12.8666,  34.3535,2,  34.3590,2,   -999.0,5, 12.8384,    228.1,2,     7.53,2,     7.74,2,     0.01,2,     0.63,2, -999.000,9,-999.000,  -999.0,-999.000
    31WTMARAII,   P16,    19,  1,      6,      6,2,19840510,0242, 27.6933,-152.3933, 5485,    308.3,  10.6887,  34.1905,2,  34.1930,2,   -999.0,5, 10.6516,    215.9,2,    14.86,2,    13.59,2,     0.00,2,     0.98,2, -999.000,9,-999.000,  -999.0,-999.000
    31WTMARAII,   P16,    19,  1,      7,      7,2,19840510,0242, 27.6933,-152.3933, 5485,    407.5,   8.5588,  34.0757,2,  34.0800,2,   -999.0,5,  8.5159,    194.9,2,    27.67,2,    20.05,2,     0.00,2,     1.42,2, -999.000,9,-999.000,  -999.0,-999.000
    31WTMARAII,   P16,    19,  1,      8,      8,2,19840510,0242, 27.6933,-152.3933, 5485,    507.7,   6.7740,  34.0025,2,  34.0070,2,   -999.0,5,  6.7271,    145.3,2,    47.33,2,    28.16,2,     0.00,2,     1.96,2, -999.000,9,-999.000,  -999.0,-999.000
    31WTMARAII,   P16,    19,  1,      9,      9,2,19840510,0242, 27.6933,-152.3933, 5485,    608.5,   5.1136,  34.0367,2,  34.0420,2,   -999.0,5,  5.0646,     69.1,2,    76.76,2,    37.55,2,     0.00,2,  -999.00,9, -999.000,9,-999.000,  -999.0,-999.000
    31WTMARAII,   P16,    19,  1,     10,     10,2,19840510,0242, 27.6933,-152.3933, 5485,    708.5,   4.4870,  34.1453,2,  34.1490,2,   -999.0,5,  4.4327,     36.5,2,    95.92,2,    41.26,2,     0.00,2,     2.93,2, -999.000,9,-999.000,  -999.0,-999.000
    31WTMARAII,   P16,    19,  1,     11,     11,2,19840510,0242, 27.6933,-152.3933, 5485,    809.8,   4.0928,  34.2586,2,  34.2610,2,   -999.0,5,  4.0324,     19.6,2,   111.26,2,    43.02,2,     0.00,2,     3.06,2, -999.000,9,-999.000,  -999.0,-999.000
    31WTMARAII,   P16,    19,  1,     12,     12,2,19840510,0242, 27.6933,-152.3933, 5485,    909.4,   3.8551,  34.3477,2,  34.3510,2,   -999.0,5,  3.7882,     19.6,2,   119.47,2,    43.31,2,     0.00,2,     3.10,2, -999.000,9,   3.846,   911.0,-999.000
    31WTMARAII,   P16,    19,  1,     13,     13,2,19840510,0242, 27.6933,-152.3933, 5485,   1010.7,   3.6464,  34.4277,2,  34.4310,2,   -999.0,5,  3.5727,     28.7,2,   122.00,2,    42.92,2,     0.00,2,     3.07,2, -999.000,9,-999.000,  -999.0,-999.000
    31WTMARAII,   P16,    19,  1,     14,     14,2,19840510,0242, 27.6933,-152.3933, 5485,   1262.5,   3.1269,  34.5167,2,  34.5210,2,   -999.0,5,  3.0374,     50.0,2,   131.77,2,    41.94,2,     0.00,2,     2.98,2, -999.000,9,-999.000,  -999.0,-999.000
    31WTMARAII,   P16,    19,  1,     15,     15,2,19840510,0242, 27.6933,-152.3933, 5485,   1514.0,   2.7192,  34.5574,2,  34.5610,2,   -999.0,5,  2.6135,     62.1,2,   142.91,2,    41.45,2,     0.00,2,  -999.00,9, -999.000,9,   2.709,  1521.0,-999.000
    31WTMARAII,   P16,    19,  1,     16,     16,2,19840510,0242, 27.6933,-152.3933, 5485,   1766.4,   2.3609,  34.5871,2,  34.5900,2,   -999.0,5,  2.2388,     70.0,2,   151.90,2,    40.96,2,     0.00,2,  -999.00,9, -999.000,9,-999.000,  -999.0,-999.000
    31WTMARAII,   P16,    19,  1,     17,     17,2,19840510,0242, 27.6933,-152.3933, 5485,   2016.9,   2.0476,  34.6141,2,  34.6170,2,   -999.0,5,  1.9091,     78.7,2,   161.48,2,    40.37,2,     0.01,2,  -999.00,9, -999.000,9,-999.000,  -999.0,-999.000
    31WTMARAII,   P16,    19,  1,     18,     18,2,19840510,0242, 27.6933,-152.3933, 5485,   2520.6,   1.6978,  34.6463,2,  34.6490,2,   -999.0,5,  1.5214,    102.1,2,   168.80,2,    39.00,2,     0.00,2,  -999.00,9, -999.000,9,-999.000,  -999.0,-999.000
    31WTMARAII,   P16,    19,  1,     19,     19,2,19840510,0242, 27.6933,-152.3933, 5485,   3027.2,   1.5447,  34.6664,2,  34.6680,2,   -999.0,5,  1.3244,    121.2,2,   165.87,2,    37.73,2,     0.01,2,  -999.00,9, -999.000,9,   1.547,  3032.0,-999.000
    31WTMARAII,   P16,    19,  1,     20,     20,2,19840510,0242, 27.6933,-152.3933, 5485,   3533.2,   1.4856,  34.6770,2,  34.6790,2,   -999.0,5,  1.2165,    138.2,2,   162.84,2,    36.85,2,     0.00,2,     2.51,2, -999.000,9,-999.000,  -999.0,-999.000
    31WTMARAII,   P16,    19,  1,     21,     21,2,19840510,0242, 27.6933,-152.3933, 5485,   4035.7,   1.4745,  34.6832,2,  34.6860,2,   -999.0,5,  1.1524,    147.3,2,   157.17,2,    36.26,2,     0.00,2,     2.46,2, -999.000,9,-999.000,  -999.0,-999.000
    31WTMARAII,   P16,    19,  1,     23,     23,2,19840510,0242, 27.6933,-152.3933, 5485,   5049.3,   1.4975,  34.6910,2,  34.6910,2,   -999.0,5,  1.0573,    162.9,2,   144.85,2,    35.09,2,     0.00,2,     2.35,2, -999.000,9,   1.496,  5052.0,-999.000
    31WTMARAII,   P16,    19,  1,     24,     24,2,19840510,0242, 27.6933,-152.3933, 5485,   5638.1,   1.5583,  34.6930,2,  34.6930,2,   -999.0,5,  1.0418,    160.8,2,   141.53,2,    34.89,2,     0.02,2,  -999.00,9, -999.000,9,-999.000,  -999.0,-999.000