BOTTLE,20220816CCHSIOAMB
EXPOCODE,SECT_ID,STNNBR,CASTNO,SAMPNO,BTLNBR,BTLNBR_FLAG_W,DATE,TIME,LATITUDE,LONGITUDE,DEPTH,CTDPRS,CTDTMP,CTDSAL,CTDSAL_FLAG_W,SALNTY,SALNTY_FLAG_W,CTDOXY,CTDOXY_FLAG_W,THETA,OXYGEN,OXYGEN_FLAG_W,SILCAT,SILCAT_FLAG_W,NITRAT,NITRAT_FLAG_W,NITRIT,NITRIT_FLAG_W,PHSPHT,PHSPHT_FLAG_W,TRITUM,TRITUM_FLAG_W,REVTMP,REVPRS,TRITER
,,,,,,,,,,,,DBAR,ITS-90,PSS-78,,PSS-78,,UMOL/KG,,DEG C,UMOL/KG,,UMOL/KG,,UMOL/KG,,UMOL/KG,,UMOL/KG,,TU,,,DBAR,TU
    31WTMARAII,   P16,    41,  1,      7,      7,2,19840517,0939, 35.3450,-151.9917, 5760,      0.2,  15.5390,  34.0269,2,  34.0250,2,   -999.0,5, 15.5390,    257.5,2,     5.67,2,     0.00,2,     0.00,2,     0.20,2, -999.000,9,  15.536,  -999.0,-999.000
    31WTMARAII,   P16,    41,  1,      8,      8,2,19840517,0939, 35.3450,-151.9917, 5760,     52.1,  13.3777,  34.0349,2,  34.0340,2,   -999.0,5, 13.3705,    271.7,2,     5.38,2,     0.00,2,     0.02,2,     0.22,2,    3.213,2,-999.000,  -999.0,   0.136
    31WTMARAII,   P16,    41,  1,      9,      9,2,19840517,0939, 35.3450,-151.9917, 5760,    102.2,  12.4132,  34.0861,2,  34.0840,2,   -999.0,5, 12.3997,    259.0,2,     6.36,2,     3.24,2,     0.80,2,     0.46,2,    3.196,2,-999.000,  -999.0,   0.131
    31WTMARAII,   P16,    41,  1,     10,     10,2,19840517,0939, 35.3450,-151.9917, 5760,    135.7,  11.9215,  34.1942,2,  34.2020,2,   -999.0,5, 11.9041,    240.3,2,    10.36,2,     8.44,2,     0.01,2,     0.67,2, -999.000,9,-999.000,  -999.0,-999.000
    31WTMARAII,   P16,    41,  1,     11,     11,2,19840517,0939, 35.3450,-151.9917, 5760,    169.1,  11.0388,  34.2268,2,  34.2200,2,   -999.0,5, 11.0181,    239.8,2,    13.30,2,    10.95,2,     0.01,2,     0.83,2,    3.260,2,-999.000,  -999.0,   0.131
    31WTMARAII,   P16,    41,  1,     12,     12,2,19840517,0939, 35.3450,-151.9917, 5760,    202.6,  10.6291,  34.2004,2,  34.1990,2,   -999.0,5, 10.6049,    240.7,2,    14.08,2,    11.44,2,     0.01,2,     0.86,2, -999.000,9,  10.620,   208.0,-999.000
    31WTMARAII,   P16,    41,  1,     13,     13,2,19840517,0939, 35.3450,-151.9917, 5760,    253.5,  10.0631,  34.1531,2,  34.1520,2,   -999.0,5, 10.0338,    239.3,2,    16.62,2,    12.71,2,     0.01,2,     0.95,2,    3.231,2,-999.000,  -999.0,   0.148
    31WTMARAII,   P16,    41,  1,     14,     14,2,19840517,0939, 35.3450,-151.9917, 5760,    304.1,   9.6011,  34.1294,2,  34.1290,2,   -999.0,5,  9.5668,    231.5,2,    19.85,2,    14.47,2,     0.00,2,     1.08,2,    2.847,2,-999.000,  -999.0,   0.123
    31WTMARAII,   P16,    41,  1,     15,     15,2,19840517,0939, 35.3450,-151.9917, 5760,    404.0,   7.8640,  34.0377,2,  34.0400,2,   -999.0,5,  7.8236,    192.3,2,    34.42,2,    21.90,2,     0.00,2,     1.56,2,    2.887,2,   7.892,   407.0,   0.121
    31WTMARAII,   P16,    41,  1,     16,     16,2,19840517,0939, 35.3450,-151.9917, 5760,    505.9,   6.1524,  33.9730,2,  33.9750,2,   -999.0,5,  6.1080,    146.6,2,    54.96,2,    29.34,2,     0.00,2,     2.10,2,    2.117,2,-999.000,  -999.0,   0.105
    31WTMARAII,   P16,    41,  1,     17,     17,2,19840517,0939, 35.3450,-151.9917, 5760,    606.4,   4.9002,  34.0128,2,  34.0120,2,   -999.0,5,  4.8524,     91.3,2,    79.99,2,    36.48,2,     0.00,2,     2.60,2,    1.444,2,-999.000,  -999.0,   0.087
    31WTMARAII,   P16,    41,  1,     18,     18,2,19840517,0939, 35.3450,-151.9917, 5760,    706.9,   4.2642,  34.0895,2,  34.0890,2,   -999.0,5,  4.2113,     54.8,2,    98.47,2,    40.58,2,     0.00,2,     2.90,2,    0.597,2,-999.000,  -999.0,   0.073
    31WTMARAII,   P16,    41,  1,     19,     19,2,19840517,0939, 35.3450,-151.9917, 5760,    808.0,   3.9237,  34.1592,2,  34.1580,2,   -999.0,5,  3.8646,     33.9,2,   109.51,2,    42.63,2,     0.00,2,     3.02,2,    0.160,2,   3.927,   810.0,   0.056
    31WTMARAII,   P16,    41,  1,     20,     20,2,19840517,0939, 35.3450,-151.9917, 5760,    900.1,   3.6612,  34.2287,2,  34.2280,2,   -999.0,5,  3.5966,     21.3,2,   121.34,2,    43.71,2,     0.00,2,     3.10,2,    0.030,2,-999.000,  -999.0,   0.052
    31WTMARAII,   P16,    41,  1,     21,     21,2,19840517,0939, 35.3450,-151.9917, 5760,    996.2,   3.3582,  34.3061,2,  34.3050,2,   -999.0,5,  3.2882,     11.7,2,   132.67,2,    44.48,2,     0.00,2,     3.16,2, -999.000,9,-999.000,  -999.0,-999.000
    31WTMARAII,   P16,    41,  1,     25,     25,2,19840517,0939, 35.3450,-151.9917, 5760,   1236.0,   2.8905,  34.4347,2,  34.4370,2,   -999.0,5,  2.8055,     11.3,2,   151.43,2,    44.97,2,     0.00,2,     3.19,2, -999.000,9,-999.000,  -999.0,-999.000
    31WTMARAII,   P16,    41,  1,     23,     23,2,19840517,0939, 35.3450,-151.9917, 5760,   1470.8,   2.5734,  34.5213,2,  34.5230,2,   -999.0,5,  2.4730,     28.2,2,   160.12,2,    44.18,2,     0.00,2,  -999.00,9, -999.000,9,   2.570,  1475.0,-999.000
    31WTMARAII,   P16,    41,  1,     22,     22,2,19840517,0939, 35.3450,-151.9917, 5760,   1472.2,   2.5725,  34.5214,2,  34.5210,2,   -999.0,5,  2.4720,     29.1,2,   159.63,2,    44.18,2,     0.00,2,  -999.00,9, -999.000,9,-999.000,  -999.0,-999.000
    31WTMARAII,   P16,    42,  1,      1,      1,2,19840517,1629, 35.7100,-151.9983, 5579,      1.0,  15.3160,-999.0000,9,  33.9710,2,   -999.0,5,-999.0000,   -999.0,9,     5.28,2,     0.04,2,     0.00,2,     0.23,2, -999.000,9,  15.312,     1.0,-999.000
    31WTMARAII,   P16,    42,  1,      2,      2,2,19840517,1629, 35.7100,-151.9983, 5579,     53.8,  13.5758,  34.0980,2,  34.0980,2,   -999.0,5, 13.5683,    262.1,2,     5.48,2,     0.49,2,     0.07,2,     0.26,2, -999.000,9,-999.000,  -999.0,-999.000
    31WTMARAII,   P16,    42,  1,      3,      3,2,19840517,1629, 35.7100,-151.9983, 5579,    102.9,  12.6667,  34.1038,2,  34.1050,2,   -999.0,5, 12.6530,    250.8,2,     5.87,2,     4.11,2,     0.02,2,     0.41,2, -999.000,9,-999.000,  -999.0,-999.000
    31WTMARAII,   P16,    42,  1,      4,      4,2,19840517,1629, 35.7100,-151.9983, 5579,    154.4,  11.6492,  34.2500,2,  34.2490,2,   -999.0,5, 11.6296,    235.9,2,    11.44,2,     9.67,2,     0.01,2,     0.72,2, -999.000,9,-999.000,  -999.0,-999.000
    31WTMARAII,   P16,    42,  1,      5,      5,2,19840517,1629, 35.7100,-151.9983, 5579,    205.5,  10.8062,  34.1856,2,  34.1890,2,   -999.0,5, 10.7813,    242.0,2,    12.91,2,    10.76,2,     0.01,2,     0.75,2, -999.000,9,-999.000,  -999.0,-999.000
    31WTMARAII,   P16,    42,  1,      6,      6,2,19840517,1629, 35.7100,-151.9983, 5579,    305.0,   9.6774,  34.1302,2,  34.1340,2,   -999.0,5,  9.6429,    231.9,2,    18.68,2,    14.28,2,     0.01,2,     1.04,2, -999.000,9,-999.000,  -999.0,-999.000
    31WTMARAII,   P16,    42,  1,      7,      7,2,19840517,1629, 35.7100,-151.9983, 5579,    402.2,   8.4497,  34.0728,2,  34.0750,2,   -999.0,5,  8.4077,    202.7,2,    28.55,2,    19.75,2,     0.00,2,     1.39,2, -999.000,9,-999.000,  -999.0,-999.000
    31WTMARAII,   P16,    42,  1,      8,      8,2,19840517,1629, 35.7100,-151.9983, 5579,    500.1,   6.6687,  33.9862,2,  33.9890,2,   -999.0,5,  6.6229,    160.1,2,    46.35,2,    27.09,2,     0.00,2,     1.90,2, -999.000,9,-999.000,  -999.0,-999.000
    31WTMARAII,   P16,    42,  1,      9,      9,2,19840517,1629, 35.7100,-151.9983, 5579,    600.5,   5.2211,  33.9920,2,  33.9960,2,   -999.0,5,  5.1722,    103.9,2,    71.68,2,    34.62,2,     0.00,2,     2.40,2, -999.000,9,-999.000,  -999.0,-999.000
    31WTMARAII,   P16,    42,  1,     10,     10,2,19840517,1629, 35.7100,-151.9983, 5579,    702.4,   4.4414,  34.0605,2,  34.0630,2,   -999.0,5,  4.3880,     61.7,2,    90.65,2,    39.51,2,     0.00,2,     2.77,2, -999.000,9,-999.000,  -999.0,-999.000
    31WTMARAII,   P16,    42,  1,     11,     11,2,19840517,1629, 35.7100,-151.9983, 5579,    801.6,   3.9414,  34.1473,2,  34.1500,2,   -999.0,5,  3.8828,     33.9,2,   106.19,2,    42.44,2,     0.00,2,     2.96,2, -999.000,9,-999.000,  -999.0,-999.000
    31WTMARAII,   P16,    42,  1,     12,     12,2,19840517,1629, 35.7100,-151.9983, 5579,    901.2,   3.6534,  34.2253,2,  34.2280,2,   -999.0,5,  3.5887,     19.6,2,   118.99,2,    43.71,2,     0.00,2,     3.03,2, -999.000,9,   3.660,   906.0,-999.000
    31WTMARAII,   P16,    42,  1,     13,     13,2,19840517,1629, 35.7100,-151.9983, 5579,   1006.8,   3.4171,  34.2893,2,  34.2920,2,   -999.0,5,  3.3458,     12.6,2,   125.73,2,    44.29,2,     0.00,2,     3.11,2, -999.000,9,-999.000,  -999.0,-999.000
    31WTMARAII,   P16,    42,  1,     14,     14,2,19840517,1629, 35.7100,-151.9983, 5579,   1252.2,   2.9123,  34.4244,2,  34.4270,2,   -999.0,5,  2.8258,     10.0,2,   145.76,2,    44.97,2,     0.00,2,     3.14,2, -999.000,9,-999.000,  -999.0,-999.000
    31WTMARAII,   P16,    42,  1,     15,     15,2,19840517,1629, 35.7100,-151.9983, 5579,   1503.2,   2.5464,  34.5201,2,  34.5230,2,   -999.0,5,  2.4436,     27.4,2,   156.50,2,    44.09,2,     0.00,2,     3.08,2, -999.000,9,   2.545,  1513.0,-999.000
    31WTMARAII,   P16,    42,  1,     16,     16,2,19840517,1629, 35.7100,-151.9983, 5579,   1741.8,   2.2041,  34.5742,2,  34.5770,2,   -999.0,5,  2.0862,     49.5,2,   165.98,2,    42.72,2,     0.00,2,     2.98,2, -999.000,9,-999.000,  -999.0,-999.000
    31WTMARAII,   P16,    42,  1,     17,     17,2,19840517,1629, 35.7100,-151.9983, 5579,   1981.4,   1.9872,  34.6033,2,  34.6060,2,   -999.0,5,  1.8526,     66.1,2,   170.18,2,    41.84,2,     0.00,2,     2.89,2, -999.000,9,-999.000,  -999.0,-999.000
    31WTMARAII,   P16,    42,  1,     18,     18,2,19840517,1629, 35.7100,-151.9983, 5579,   2474.8,   1.7128,  34.6372,2,  34.6400,2,   -999.0,5,  1.5402,     90.8,2,   172.81,2,    40.17,2,     0.00,2,     2.79,2, -999.000,9,-999.000,  -999.0,-999.000
    31WTMARAII,   P16,    42,  1,     19,     19,2,19840517,1629, 35.7100,-151.9983, 5579,   2974.4,   1.5555,  34.6596,2,  34.6620,2,   -999.0,5,  1.3400,    115.2,2,   169.88,2,    38.61,2,     0.00,2,     2.66,2, -999.000,9,   1.563,  2984.0,-999.000
    31WTMARAII,   P16,    42,  1,     20,     20,2,19840517,1629, 35.7100,-151.9983, 5579,   3469.8,   1.4916,  34.6725,2,  34.6750,2,   -999.0,5,  1.2288,    133.0,2,   164.89,2,    37.63,2,     0.00,2,     2.57,2, -999.000,9,-999.000,  -999.0,-999.000
    31WTMARAII,   P16,    42,  1,     21,     21,2,19840517,1629, 35.7100,-151.9983, 5579,   3984.6,   1.4759,  34.6813,2,  34.6830,2,   -999.0,5,  1.1593,    144.3,2,   160.69,2,    36.85,2,     0.00,2,     2.51,2, -999.000,9,-999.000,  -999.0,-999.000
    31WTMARAII,   P16,    42,  1,     25,     25,2,19840517,1629, 35.7100,-151.9983, 5579,   4497.8,   1.5000,  34.6856,2,  34.6860,2,   -999.0,5,  1.1252,    150.3,2,   158.44,2,    36.56,2,     0.00,2,     2.49,2, -999.000,9,-999.000,  -999.0,-999.000
    31WTMARAII,   P16,    42,  1,     23,     23,2,19840517,1629, 35.7100,-151.9983, 5579,   5112.0,   1.5466,  34.6886,2,  34.6890,2,   -999.0,5,  1.0971,    156.0,2,   151.99,2,    36.07,2,     0.00,2,  -999.00,9, -999.000,9,   1.545,  5120.0,-999.000
    31WTMARAII,   P16,    42,  1,     24,     24,2,19840517,1629, 35.7100,-151.9983, 5579,   5732.5,   1.6200,  34.6904,2,  34.6900,2,   -999.0,5,  1.0889,    157.7,2,   149.94,2,    35.97,2,     0.00,2,     2.44,2, -999.000,9,-999.000,  -999.0,-999.000
    31WTMARAII,   P16,    43,  1,      7,      7,2,19840517,2248, 36.0533,-151.9983, 5500,      3.1,  14.8403,  33.9435,2,  33.9420,2,   -999.0,5, 14.8399,    262.7,2,     5.48,2,     0.03,2,     0.00,2,     0.20,2, -999.000,9,  14.820,  -999.0,-999.000
    31WTMARAII,   P16,    43,  1,      8,      8,2,19840517,2248, 36.0533,-151.9983, 5500,     52.2,  12.6186,  34.0341,2,  34.0360,2,   -999.0,5, 12.6116,    263.4,2,     5.67,2,     1.46,2,     0.69,2,     0.33,2, -999.000,9,-999.000,  -999.0,-999.000
    31WTMARAII,   P16,    43,  1,      9,      9,2,19840517,2248, 36.0533,-151.9983, 5500,    101.9,  12.1155,  34.0853,2,  34.0840,2,   -999.0,5, 12.1023,    253.8,2,     6.26,2,     5.05,2,     0.02,2,     0.47,2, -999.000,9,-999.000,  -999.0,-999.000
    31WTMARAII,   P16,    43,  1,     10,     10,2,19840517,2248, 36.0533,-151.9983, 5500,    135.9,  11.4935,  34.1506,2,  34.1550,2,   -999.0,5, 11.4764,    244.6,2,     9.68,2,     8.38,2,     0.01,2,     0.66,2, -999.000,9,-999.000,  -999.0,-999.000
    31WTMARAII,   P16,    43,  1,     11,     11,2,19840517,2248, 36.0533,-151.9983, 5500,    168.1,  10.7865,  34.1730,2,  34.1730,2,   -999.0,5, 10.7662,    244.1,2,    12.42,2,    10.66,2,     0.01,2,     0.80,2, -999.000,9,-999.000,  -999.0,-999.000
    31WTMARAII,   P16,    43,  1,     12,     12,2,19840517,2248, 36.0533,-151.9983, 5500,    202.3,  10.3211,  34.1264,2,  34.1250,2,   -999.0,5, 10.2974,    247.2,2,    13.30,2,    10.95,2,     0.01,2,     0.82,2, -999.000,9,  10.298,   205.0,-999.000
    31WTMARAII,   P16,    43,  1,     13,     13,2,19840517,2248, 36.0533,-151.9983, 5500,    253.5,   9.9902,  34.1397,2,  34.1420,2,   -999.0,5,  9.9611,    245.0,2,    15.45,2,    12.22,2,     0.01,2,     0.89,2, -999.000,9,-999.000,  -999.0,-999.000
    31WTMARAII,   P16,    43,  1,     14,     14,2,19840517,2248, 36.0533,-151.9983, 5500,    303.2,   9.5818,  34.1301,2,  34.1300,2,   -999.0,5,  9.5477,    235.0,2,    18.87,2,    14.18,2,     0.01,2,     1.01,2, -999.000,9,-999.000,  -999.0,-999.000
    31WTMARAII,   P16,    43,  1,     15,     15,2,19840517,2248, 36.0533,-151.9983, 5500,    404.0,   8.2222,  34.0649,2,  34.0660,2,   -999.0,5,  8.1807,    198.8,2,    31.29,2,    20.54,2,     0.00,2,     1.43,2, -999.000,9,   8.237,   406.0,-999.000
    31WTMARAII,   P16,    43,  1,     16,     16,2,19840517,2248, 36.0533,-151.9983, 5500,    504.9,   6.6377,  33.9942,2,  33.9960,2,   -999.0,5,  6.5916,    157.5,2,    48.02,2,    27.28,2,     0.00,2,     1.92,2, -999.000,9,-999.000,  -999.0,-999.000
    31WTMARAII,   P16,    43,  1,     17,     17,2,19840517,2248, 36.0533,-151.9983, 5500,    605.5,   5.2170,  33.9948,2,  33.9960,2,   -999.0,5,  5.1678,    105.7,2,    71.88,2,    34.52,2,     0.00,2,     2.42,2, -999.000,9,-999.000,  -999.0,-999.000
    31WTMARAII,   P16,    43,  1,     18,     18,2,19840517,2248, 36.0533,-151.9983, 5500,    706.5,   4.3635,  34.0767,2,  34.0760,2,   -999.0,5,  4.3101,     58.3,2,    93.87,2,    39.90,2,     0.00,2,     2.77,2, -999.000,9,-999.000,  -999.0,-999.000
    31WTMARAII,   P16,    43,  1,     19,     19,2,19840517,2248, 36.0533,-151.9983, 5500,    806.5,   3.8958,  34.1640,2,  34.1630,2,   -999.0,5,  3.8371,     32.2,2,   110.10,2,    42.53,2,     0.00,2,     2.95,2, -999.000,9,   3.894,   804.0,-999.000
    31WTMARAII,   P16,    43,  1,     20,     20,2,19840517,2248, 36.0533,-151.9983, 5500,    907.8,   3.5862,  34.2430,2,  34.2420,2,   -999.0,5,  3.5215,     18.3,2,   121.63,2,    43.80,2,     0.00,2,     3.05,2, -999.000,9,-999.000,  -999.0,-999.000
    31WTMARAII,   P16,    43,  1,     21,     21,2,19840517,2248, 36.0533,-151.9983, 5500,   1008.5,   3.3434,  34.3090,2,  34.3080,2,   -999.0,5,  3.2725,     12.6,2,   131.50,2,    44.39,2,     0.00,2,     3.09,2, -999.000,9,-999.000,  -999.0,-999.000
    31WTMARAII,   P16,    43,  1,     25,     25,2,19840517,2248, 36.0533,-151.9983, 5500,   1263.4,   2.8910,  34.4342,2,  34.4350,2,   -999.0,5,  2.8038,     10.9,2,   148.59,2,    44.87,2,     0.00,2,     3.12,2, -999.000,9,-999.000,  -999.0,-999.000
    31WTMARAII,   P16,    43,  1,     23,     23,2,19840517,2248, 36.0533,-151.9983, 5500,   1515.7,   2.5334,  34.5185,2,  34.5180,2,   -999.0,5,  2.4298,     24.3,2,   158.56,2,    44.18,2,     0.00,2,  -999.00,9, -999.000,9,   2.527,  1515.0,-999.000
    31WTMARAII,   P16,    43,  1,     22,     22,2,19840517,2248, 36.0533,-151.9983, 5500,   1515.8,   2.5318,  34.5190,2,-999.0000,9,   -999.0,5,  2.4282,     24.3,2,   160.61,2,    44.28,2,     0.00,2,  -999.00,9, -999.000,9,-999.000,  -999.0,-999.000