BOTTLE,20220816CCHSIOAMB
EXPOCODE,SECT_ID,STNNBR,CASTNO,SAMPNO,BTLNBR,BTLNBR_FLAG_W,DATE,TIME,LATITUDE,LONGITUDE,DEPTH,CTDPRS,CTDTMP,CTDSAL,CTDSAL_FLAG_W,SALNTY,SALNTY_FLAG_W,CTDOXY,CTDOXY_FLAG_W,THETA,OXYGEN,OXYGEN_FLAG_W,SILCAT,SILCAT_FLAG_W,NITRAT,NITRAT_FLAG_W,NITRIT,NITRIT_FLAG_W,PHSPHT,PHSPHT_FLAG_W,TRITUM,TRITUM_FLAG_W,REVTMP,REVPRS,TRITER
,,,,,,,,,,,,DBAR,ITS-90,PSS-78,,PSS-78,,UMOL/KG,,DEG C,UMOL/KG,,UMOL/KG,,UMOL/KG,,UMOL/KG,,UMOL/KG,,TU,,,DBAR,TU
    31WTMARAII,   P16,    82,  1,      1,      1,2,19840529,2324, 52.0783,-151.9700, 4967,      1.0,   6.8780,-999.0000,9,  32.7980,2,   -999.0,5,-999.0000,   -999.0,9,    28.19,2,    15.46,2,     0.18,2,     1.40,2, -999.000,9,   6.876,     1.0,-999.000
    31WTMARAII,   P16,    82,  1,      2,      2,2,19840529,2324, 52.0783,-151.9700, 4967,      8.0,   6.8866,  32.7888,2,  32.7980,2,   -999.0,5,  6.8859,    320.0,2,    27.70,2,    15.46,2,     0.18,2,     1.40,2, -999.000,9,-999.000,  -999.0,-999.000
    31WTMARAII,   P16,    82,  1,      3,      3,2,19840529,2324, 52.0783,-151.9700, 4967,     36.8,   5.0043,  32.7940,2,  32.7990,2,   -999.0,5,  5.0016,    326.9,2,    26.62,2,    15.66,2,     0.19,2,     1.42,2, -999.000,9,-999.000,  -999.0,-999.000
    31WTMARAII,   P16,    82,  1,      4,      4,2,19840529,2324, 52.0783,-151.9700, 4967,     67.2,   4.4893,  32.8300,2,  32.8340,2,   -999.0,5,  4.4846,    315.1,2,    30.64,2,    17.81,2,     0.18,2,     1.57,2, -999.000,9,-999.000,  -999.0,-999.000
    31WTMARAII,   P16,    82,  1,      5,      5,2,19840529,2324, 52.0783,-151.9700, 4967,    130.7,   3.7170,  33.7960,2,  33.8000,2,   -999.0,5,  3.7084,     74.4,2,    80.69,2,    41.08,2,     0.01,2,     2.84,2, -999.000,9,-999.000,  -999.0,-999.000
    31WTMARAII,   P16,    82,  1,      6,      6,2,19840529,2324, 52.0783,-151.9700, 4967,    196.4,   3.7064,  33.8791,2,  33.8830,2,   -999.0,5,  3.6934,     46.1,2,    90.46,2,    43.33,2,     0.01,2,     2.96,2, -999.000,9,-999.000,  -999.0,-999.000
    31WTMARAII,   P16,    82,  1,      7,      7,2,19840529,2324, 52.0783,-151.9700, 4967,    296.3,   3.6453,  34.0077,2,  34.0110,2,   -999.0,5,  3.6256,     30.9,2,   103.27,2,    44.01,2,     0.01,2,     3.02,2, -999.000,9,-999.000,  -999.0,-999.000
    31WTMARAII,   P16,    82,  1,      8,      8,2,19840529,2324, 52.0783,-151.9700, 4967,    397.3,   3.5548,  34.1016,2,  34.1050,2,   -999.0,5,  3.5282,     27.4,2,   114.70,2,    43.81,2,     0.01,2,     3.02,2, -999.000,9,-999.000,  -999.0,-999.000
    31WTMARAII,   P16,    82,  1,      9,      9,2,19840529,2324, 52.0783,-151.9700, 4967,    499.2,   3.4336,  34.1766,2,  34.1800,2,   -999.0,5,  3.4002,     25.2,2,   122.71,2,    43.90,2,     0.00,2,     3.02,2, -999.000,9,-999.000,  -999.0,-999.000
    31WTMARAII,   P16,    82,  1,     10,     10,2,19840529,2324, 52.0783,-151.9700, 4967,    602.3,   3.2976,  34.2398,2,  34.2440,2,   -999.0,5,  3.2575,     20.0,2,   130.63,2,    44.10,2,     0.00,2,     3.03,2, -999.000,9,-999.000,  -999.0,-999.000
    31WTMARAII,   P16,    82,  1,     11,     11,2,19840529,2324, 52.0783,-151.9700, 4967,    704.8,   3.1193,  34.2960,2,  34.3000,2,   -999.0,5,  3.0726,     22.2,2,   136.88,2,    43.90,2,     0.00,2,     3.03,2, -999.000,9,-999.000,  -999.0,-999.000
    31WTMARAII,   P16,    82,  1,     12,     12,2,19840529,2324, 52.0783,-151.9700, 4967,    802.1,   2.9778,  34.3357,2,  34.3400,2,   -999.0,5,  2.9250,     22.2,2,   142.54,2,    43.99,2,     0.00,2,     3.03,2, -999.000,9,-999.000,  -999.0,-999.000
    31WTMARAII,   P16,    82,  1,     13,     13,2,19840529,2324, 52.0783,-151.9700, 4967,    905.7,   2.8234,  34.3743,2,  34.3790,2,   -999.0,5,  2.7641,     20.4,2,   148.11,2,    44.09,2,     0.00,2,     3.05,2, -999.000,9,-999.000,  -999.0,-999.000
    31WTMARAII,   P16,    82,  1,     14,     14,2,19840529,2324, 52.0783,-151.9700, 4967,   1002.9,   2.7064,  34.4037,2,  34.4070,2,   -999.0,5,  2.6407,     21.7,2,   153.19,2,    44.19,2,     0.00,2,     3.05,2, -999.000,9,-999.000,  -999.0,-999.000
    31WTMARAII,   P16,    82,  1,     15,     15,2,19840529,2324, 52.0783,-151.9700, 4967,   1219.3,   2.4334,  34.4664,2,  34.4700,2,   -999.0,5,  2.3539,     25.2,2,   162.86,2,    43.89,2,     0.00,2,     3.04,2, -999.000,9,   2.426,  1220.0,-999.000
    31WTMARAII,   P16,    82,  1,     16,     16,2,19840529,2324, 52.0783,-151.9700, 4967,   1510.5,   2.1870,  34.5247,2,  34.5290,2,   -999.0,5,  2.0879,     36.1,2,   170.58,2,    43.50,2,     0.00,2,     2.99,2, -999.000,9,-999.000,  -999.0,-999.000
    31WTMARAII,   P16,    82,  1,     17,     17,2,19840529,2324, 52.0783,-151.9700, 4967,   1764.4,   2.0315,  34.5609,2,  34.5650,2,   -999.0,5,  1.9142,     47.8,2,   173.60,2,    42.91,2,     0.00,2,     2.94,2, -999.000,9,-999.000,  -999.0,-999.000
    31WTMARAII,   P16,    82,  1,     18,     18,2,19840529,2324, 52.0783,-151.9700, 4967,   2005.8,   1.9030,  34.5885,2,  34.5920,2,   -999.0,5,  1.7677,   -999.0,9,   175.65,2,    42.23,2,     0.00,2,     2.88,2, -999.000,9,-999.000,  -999.0,-999.000
    31WTMARAII,   P16,    82,  1,     19,     19,2,19840529,2324, 52.0783,-151.9700, 4967,   2521.7,   1.6997,  34.6294,2,  34.6320,2,   -999.0,5,  1.5231,     87.3,2,   175.94,2,    40.47,2,     0.00,2,     2.78,2, -999.000,9,   1.701,  2525.0,-999.000
    31WTMARAII,   P16,    82,  1,     20,     20,2,19840529,2324, 52.0783,-151.9700, 4967,   3029.1,   1.5823,  34.6529,2,  34.6560,2,   -999.0,5,  1.3610,    110.8,2,   173.20,2,    39.00,2,     0.00,2,     2.68,2, -999.000,9,-999.000,  -999.0,-999.000
    31WTMARAII,   P16,    82,  1,     21,     21,2,19840529,2324, 52.0783,-151.9700, 4967,   3629.8,   1.5100,  34.6712,2,  34.6760,2,   -999.0,5,  1.2303,    130.8,2,   170.66,2,    37.73,2,     0.00,2,     2.57,2, -999.000,9,-999.000,  -999.0,-999.000
    31WTMARAII,   P16,    82,  1,     25,     25,2,19840529,2324, 52.0783,-151.9700, 4967,   4037.5,   1.5033,  34.6784,2,  34.6800,2,   -999.0,5,  1.1803,    139.5,2,   169.68,2,    37.24,2,     0.00,2,     2.53,2, -999.000,9,-999.000,  -999.0,-999.000
    31WTMARAII,   P16,    82,  1,     23,     23,2,19840529,2324, 52.0783,-151.9700, 4967,   4549.9,   1.5323,  34.6812,2,  34.6850,2,   -999.0,5,  1.1506,    143.8,2,   172.03,2,    37.04,2,     0.00,2,  -999.00,9, -999.000,9,   1.531,  4550.0,-999.000
    31WTMARAII,   P16,    82,  1,     24,     24,2,19840529,2324, 52.0783,-151.9700, 4967,   5055.0,   1.5838,  34.6831,2,  34.6850,2,   -999.0,5,  1.1400,    145.1,2,   170.95,2,    36.65,2,     0.00,2,     2.50,2, -999.000,9,-999.000,  -999.0,-999.000
    31WTMARAII,   P16,    83,  1,      7,      7,2,19840530,0524, 52.5333,-152.0100, 4481,      2.7,   7.0659,  32.7963,2,  32.7990,2,   -999.0,5,  7.0657,    318.3,2,    30.44,2,    16.15,2,     0.16,2,     1.45,2, -999.000,9,   7.055,  -999.0,-999.000
    31WTMARAII,   P16,    83,  1,      8,      8,2,19840530,0524, 52.5333,-152.0100, 4481,     14.7,   7.0441,  32.7961,2,  32.7980,2,   -999.0,5,  7.0428,    318.7,2,    30.64,2,    16.15,2,     0.16,2,     1.45,2, -999.000,9,-999.000,  -999.0,-999.000
    31WTMARAII,   P16,    83,  1,      9,      9,2,19840530,0524, 52.5333,-152.0100, 4481,     33.9,   5.2169,  32.8028,2,  32.8020,2,   -999.0,5,  5.2144,    331.7,2,    30.64,2,    16.54,2,     0.15,2,     1.47,2, -999.000,9,-999.000,  -999.0,-999.000
    31WTMARAII,   P16,    83,  1,     10,     10,2,19840530,0524, 52.5333,-152.0100, 4481,     61.3,   4.5928,  32.8262,2,  32.8250,2,   -999.0,5,  4.5885,    318.6,2,    32.40,2,    18.11,2,     0.14,2,     1.56,2, -999.000,9,-999.000,  -999.0,-999.000
    31WTMARAII,   P16,    83,  1,     11,     11,2,19840530,0524, 52.5333,-152.0100, 4481,    102.2,   4.0491,  33.4602,2,  33.4860,2,   -999.0,5,  4.0423,    151.8,2,    60.95,2,    33.65,2,     0.07,2,     2.43,2, -999.000,9,-999.000,  -999.0,-999.000
    31WTMARAII,   P16,    83,  1,     12,     12,2,19840530,0524, 52.5333,-152.0100, 4481,    155.0,   3.7259,  33.8536,2,  33.8520,2,   -999.0,5,  3.7157,     57.0,2,    87.04,2,    42.05,2,     0.00,2,     2.89,2, -999.000,9,-999.000,  -999.0,-999.000
    31WTMARAII,   P16,    83,  1,     13,     13,2,19840530,0524, 52.5333,-152.0100, 4481,    205.6,   3.7438,  33.9320,2,  33.9320,2,   -999.0,5,  3.7301,     34.8,2,    92.22,2,    43.71,2,     0.00,2,     3.01,2, -999.000,9,-999.000,  -999.0,-999.000
    31WTMARAII,   P16,    83,  1,     14,     14,2,19840530,0524, 52.5333,-152.0100, 4481,    305.0,   3.6724,  34.0420,2,  34.0410,2,   -999.0,5,  3.6520,     25.2,2,   106.00,2,    43.91,2,     0.00,2,     3.04,2, -999.000,9,-999.000,  -999.0,-999.000
    31WTMARAII,   P16,    83,  1,     15,     15,2,19840530,0524, 52.5333,-152.0100, 4481,    404.1,   3.5506,  34.1301,2,  34.1280,2,   -999.0,5,  3.5235,     23.0,2,   115.87,2,    43.61,2,     0.00,2,     3.03,2, -999.000,9,   3.540,   405.0,-999.000
    31WTMARAII,   P16,    83,  1,     16,     16,2,19840530,0524, 52.5333,-152.0100, 4481,    501.1,   3.4133,  34.1969,2,  34.1980,2,   -999.0,5,  3.3799,     21.7,2,   122.32,2,    43.51,2,     0.00,2,     3.04,2, -999.000,9,-999.000,  -999.0,-999.000
    31WTMARAII,   P16,    83,  1,     17,     17,2,19840530,0524, 52.5333,-152.0100, 4481,    602.7,   3.2803,  34.2495,2,  34.2500,2,   -999.0,5,  3.2402,     22.2,2,   128.57,2,    43.51,2,     0.00,2,     3.03,2, -999.000,9,-999.000,  -999.0,-999.000
    31WTMARAII,   P16,    83,  1,     18,     18,2,19840530,0524, 52.5333,-152.0100, 4481,    703.4,   3.1284,  34.2988,2,  34.2990,2,   -999.0,5,  3.0818,     21.7,2,   134.14,2,    43.51,2,     0.00,2,     3.02,2, -999.000,9,-999.000,  -999.0,-999.000
    31WTMARAII,   P16,    83,  1,     19,     19,2,19840530,0524, 52.5333,-152.0100, 4481,    812.0,   2.9601,  34.3443,2,  34.3440,2,   -999.0,5,  2.9067,     21.3,2,   142.35,2,    43.60,2,     0.00,2,     3.03,2, -999.000,9,   2.959,   813.0,-999.000
    31WTMARAII,   P16,    83,  1,     20,     20,2,19840530,0524, 52.5333,-152.0100, 4481,    914.4,   2.8243,  34.3792,2,  34.3790,2,   -999.0,5,  2.7643,     23.5,2,   143.61,2,    43.70,2,     0.00,2,     3.04,2, -999.000,9,-999.000,  -999.0,-999.000
    31WTMARAII,   P16,    83,  1,     21,     21,2,19840530,0524, 52.5333,-152.0100, 4481,   1011.0,   2.6978,  34.4098,2,  34.4110,2,   -999.0,5,  2.6316,     21.7,2,   149.87,2,    43.70,2,     0.00,2,     3.02,2, -999.000,9,-999.000,  -999.0,-999.000
    31WTMARAII,   P16,    83,  1,     25,     25,2,19840530,0524, 52.5333,-152.0100, 4481,   1265.0,   2.4302,  34.4728,2,  34.4740,2,   -999.0,5,  2.3473,     26.1,2,   155.63,2,    43.70,2,     0.00,2,     3.01,2, -999.000,9,-999.000,  -999.0,-999.000
    31WTMARAII,   P16,    83,  1,     23,     23,2,19840530,0524, 52.5333,-152.0100, 4481,   1505.7,   2.2340,  34.5202,2,  34.5200,2,   -999.0,5,  2.1347,     33.0,2,   164.23,2,    43.50,2,     0.00,2,  -999.00,9, -999.000,9,   2.227,  1505.0,-999.000
    31WTMARAII,   P16,    84,  1,      1,      1,2,19840530,1138, 52.9983,-151.9900, 4462,      1.0,   6.8740,-999.0000,9,  32.8120,2,   -999.0,5,-999.0000,   -999.0,9,    32.30,2,    16.83,2,     0.19,2,     1.49,2, -999.000,9,   6.872,     1.0,-999.000
    31WTMARAII,   P16,    84,  1,      2,      2,2,19840530,1138, 52.9983,-151.9900, 4462,     54.8,   4.6191,  32.8163,2,  32.8230,2,   -999.0,5,  4.6153,    316.4,2,    32.20,2,    18.01,2,     0.20,2,     1.59,2, -999.000,9,-999.000,  -999.0,-999.000
    31WTMARAII,   P16,    84,  1,      3,      3,2,19840530,1138, 52.9983,-151.9900, 4462,    105.8,   4.3095,  33.7229,2,  33.7240,2,   -999.0,5,  4.3021,     98.3,2,    68.76,2,    37.76,2,     0.01,2,     2.66,2, -999.000,9,-999.000,  -999.0,-999.000
    31WTMARAII,   P16,    84,  1,      4,      4,2,19840530,1138, 52.9983,-151.9900, 4462,    155.8,   4.1276,  33.8737,2,  33.8770,2,   -999.0,5,  4.1169,     57.8,2,    80.78,2,    41.37,2,     0.01,2,     2.89,2, -999.000,9,-999.000,  -999.0,-999.000
    31WTMARAII,   P16,    84,  1,      5,      5,2,19840530,1138, 52.9983,-151.9900, 4462,    210.2,   4.0200,  33.9258,2,  33.9310,2,   -999.0,5,  4.0055,     42.2,2,    88.02,2,    42.64,2,     0.00,2,     2.97,2, -999.000,9,-999.000,  -999.0,-999.000
    31WTMARAII,   P16,    84,  1,      6,      6,2,19840530,1138, 52.9983,-151.9900, 4462,    304.7,   3.7278,  34.0109,2,  34.0140,2,   -999.0,5,  3.7072,     23.5,2,   102.48,2,    44.40,2,     0.00,2,     3.08,2, -999.000,9,-999.000,  -999.0,-999.000
    31WTMARAII,   P16,    84,  1,      7,      7,2,19840530,1138, 52.9983,-151.9900, 4462,    408.8,   3.6374,  34.1075,2,  34.1120,2,   -999.0,5,  3.6097,     20.9,2,   111.96,2,    44.00,2,     0.00,2,     3.06,2, -999.000,9,-999.000,  -999.0,-999.000
    31WTMARAII,   P16,    84,  1,      8,      8,2,19840530,1138, 52.9983,-151.9900, 4462,    503.5,   3.4962,  34.1785,2,  34.1810,2,   -999.0,5,  3.4623,     18.3,2,   120.17,2,    44.00,2,     0.00,2,     3.08,2, -999.000,9,-999.000,  -999.0,-999.000
    31WTMARAII,   P16,    84,  1,      9,      9,2,19840530,1138, 52.9983,-151.9900, 4462,    609.5,   3.3130,  34.2502,2,  34.2540,2,   -999.0,5,  3.2722,     17.8,2,   129.16,2,    44.10,2,     0.00,2,     3.07,2, -999.000,9,-999.000,  -999.0,-999.000
    31WTMARAII,   P16,    84,  1,     10,     10,2,19840530,1138, 52.9983,-151.9900, 4462,    705.4,   3.1650,  34.3005,2,  34.3030,2,   -999.0,5,  3.1181,     16.5,2,   137.17,2,    44.00,2,     0.00,2,     3.09,2, -999.000,9,-999.000,  -999.0,-999.000
    31WTMARAII,   P16,    84,  1,     11,     11,2,19840530,1138, 52.9983,-151.9900, 4462,    805.4,   3.0085,  34.3356,2,  34.3390,2,   -999.0,5,  2.9553,     18.7,2,   143.62,2,    44.09,2,     0.00,2,     3.08,2, -999.000,9,-999.000,  -999.0,-999.000
    31WTMARAII,   P16,    84,  1,     12,     12,2,19840530,1138, 52.9983,-151.9900, 4462,    905.7,   2.8539,  34.3720,2,  34.3760,2,   -999.0,5,  2.7943,     19.1,2,   147.82,2,    44.09,2,     0.00,2,     3.07,2, -999.000,9,-999.000,  -999.0,-999.000
    31WTMARAII,   P16,    84,  1,     13,     13,2,19840530,1138, 52.9983,-151.9900, 4462,   1001.3,   2.7241,  34.4008,2,  34.4040,2,   -999.0,5,  2.6585,     20.4,2,   155.05,2,    43.99,2,     0.00,2,     3.08,2, -999.000,9,-999.000,  -999.0,-999.000
    31WTMARAII,   P16,    84,  1,     14,     14,2,19840530,1138, 52.9983,-151.9900, 4462,   1253.5,   2.4316,  34.4682,2,  34.4710,2,   -999.0,5,  2.3496,     26.1,2,   164.23,2,    43.60,2,     0.00,2,     3.05,2, -999.000,9,-999.000,  -999.0,-999.000
    31WTMARAII,   P16,    84,  1,     15,     15,2,19840530,1138, 52.9983,-151.9900, 4462,   1493.8,   2.2096,  34.5187,2,  34.5220,2,   -999.0,5,  2.1115,     36.5,2,   170.38,2,    43.30,2,     0.00,2,     3.00,2, -999.000,9,   2.203,  1489.0,-999.000
    31WTMARAII,   P16,    84,  1,     16,     16,2,19840530,1138, 52.9983,-151.9900, 4462,   1760.9,   2.0237,  34.5621,2,  34.5640,2,   -999.0,5,  1.9068,     51.7,2,   173.80,2,    42.42,2,     0.00,2,     2.95,2, -999.000,9,-999.000,  -999.0,-999.000
    31WTMARAII,   P16,    84,  1,     17,     17,2,19840530,1138, 52.9983,-151.9900, 4462,   2010.4,   1.8840,  34.5912,2,  34.5950,2,   -999.0,5,  1.7486,     64.8,2,   175.07,2,    41.64,2,     0.00,2,     2.89,2, -999.000,9,-999.000,  -999.0,-999.000
    31WTMARAII,   P16,    84,  1,     18,     18,2,19840530,1138, 52.9983,-151.9900, 4462,   2403.7,   1.7215,  34.6238,2,  34.6280,2,   -999.0,5,  1.5551,     85.2,2,   174.77,2,    40.37,2,     0.00,2,     2.80,2, -999.000,9,-999.000,  -999.0,-999.000
    31WTMARAII,   P16,    84,  1,     19,     19,2,19840530,1138, 52.9983,-151.9900, 4462,   2802.0,   1.6036,  34.6476,2,  34.6500,2,   -999.0,5,  1.4034,    105.6,2,   173.50,2,    39.20,2,     0.00,2,     2.71,2, -999.000,9,   1.606,  2804.0,-999.000
    31WTMARAII,   P16,    84,  1,     20,     20,2,19840530,1138, 52.9983,-151.9900, 4462,   3207.7,   1.5318,  34.6638,2,  34.6650,2,   -999.0,5,  1.2942,    122.5,2,   170.56,2,    38.22,2,     0.00,2,     2.64,2, -999.000,9,-999.000,  -999.0,-999.000
    31WTMARAII,   P16,    84,  1,     21,     21,2,19840530,1138, 52.9983,-151.9900, 4462,   3609.2,   1.4875,  34.6743,2,  34.6760,2,   -999.0,5,  1.2105,    135.1,2,   168.80,2,    37.44,2,     0.00,2,     2.58,2, -999.000,9,-999.000,  -999.0,-999.000
    31WTMARAII,   P16,    84,  1,     25,     25,2,19840530,1138, 52.9983,-151.9900, 4462,   4015.7,   1.4827,  34.6812,2,  34.6820,2,   -999.0,5,  1.1626,    143.0,2,   168.02,2,    36.95,2,     0.00,2,     2.54,2, -999.000,9,-999.000,  -999.0,-999.000
    31WTMARAII,   P16,    84,  1,     23,     23,2,19840530,1138, 52.9983,-151.9900, 4462,   4271.2,   1.4904,  34.6856,2,  34.6840,2,   -999.0,5,  1.1418,    145.6,2,   168.21,2,    36.65,2,     0.00,2,  -999.00,9, -999.000,9,   1.491,  4266.0,-999.000
    31WTMARAII,   P16,    84,  1,     24,     24,2,19840530,1138, 52.9983,-151.9900, 4462,   4527.8,   1.5034,  34.6862,2,  34.6870,2,   -999.0,5,  1.1251,    148.2,2,   168.51,2,    36.46,2,     0.00,2,     2.50,2, -999.000,9,-999.000,  -999.0,-999.000