BOTTLE,20220816CCHSIOAMB
EXPOCODE,SECT_ID,STNNBR,CASTNO,SAMPNO,BTLNBR,BTLNBR_FLAG_W,DATE,TIME,LATITUDE,LONGITUDE,DEPTH,CTDPRS,CTDTMP,CTDSAL,CTDSAL_FLAG_W,SALNTY,SALNTY_FLAG_W,CTDOXY,CTDOXY_FLAG_W,THETA,OXYGEN,OXYGEN_FLAG_W,SILCAT,SILCAT_FLAG_W,NITRAT,NITRAT_FLAG_W,NITRIT,NITRIT_FLAG_W,PHSPHT,PHSPHT_FLAG_W,TRITUM,TRITUM_FLAG_W,REVTMP,REVPRS,TRITER
,,,,,,,,,,,,DBAR,ITS-90,PSS-78,,PSS-78,,UMOL/KG,,DEG C,UMOL/KG,,UMOL/KG,,UMOL/KG,,UMOL/KG,,UMOL/KG,,TU,,,DBAR,TU
    31WTMARAII,   P16,    66,  1,      7,      7,2,19840525,2306, 45.2100,-151.9967, 5285,      2.8,   7.3688,  32.8332,2,  32.8360,2,   -999.0,5,  7.3686,    307.8,2,    17.13,2,    11.06,2,     0.11,2,     1.15,2, -999.000,9,-999.000,  -999.0,-999.000
    31WTMARAII,   P16,    66,  1,      8,      8,2,19840525,2306, 45.2100,-151.9967, 5285,     48.9,   7.1100,  32.8325,2,  32.8360,2,   -999.0,5,  7.1056,    308.7,2,    16.83,2,    11.16,2,     0.11,2,     1.14,2, -999.000,9,-999.000,  -999.0,-999.000
    31WTMARAII,   P16,    66,  1,      9,      9,2,19840525,2306, 45.2100,-151.9967, 5285,     98.5,   6.0135,  32.8654,2,  32.8680,2,   -999.0,5,  6.0055,    306.9,2,    17.81,2,    12.43,2,     0.18,2,     1.23,2, -999.000,9,-999.000,  -999.0,-999.000
    31WTMARAII,   P16,    66,  1,     10,     10,2,19840525,2306, 45.2100,-151.9967, 5285,    131.4,   5.9706,  32.9475,2,  32.9500,2,   -999.0,5,  5.9598,    300.8,2,    18.59,2,    13.31,2,     0.23,2,     1.26,2, -999.000,9,-999.000,  -999.0,-999.000
    31WTMARAII,   P16,    66,  1,     11,     11,2,19840525,2306, 45.2100,-151.9967, 5285,    163.6,   6.5754,  33.7576,2,  33.7590,2,   -999.0,5,  6.5610,    238.0,2,    29.64,2,    20.05,2,     0.01,2,     1.50,2, -999.000,9,-999.000,  -999.0,-999.000
    31WTMARAII,   P16,    66,  1,     12,     12,2,19840525,2306, 45.2100,-151.9967, 5285,    201.1,   6.2390,  33.8435,2,  33.8450,2,   -999.0,5,  6.2217,    218.8,2,    37.36,2,    22.79,2,     0.01,2,     1.66,2, -999.000,9,-999.000,  -999.0,-999.000
    31WTMARAII,   P16,    66,  1,     13,     13,2,19840525,2306, 45.2100,-151.9967, 5285,    241.6,   5.7776,  33.8494,2,  33.8500,2,   -999.0,5,  5.7576,    196.2,2,    44.99,2,    25.53,2,     0.01,2,     1.85,2, -999.000,9,-999.000,  -999.0,-999.000
    31WTMARAII,   P16,    66,  1,     14,     14,2,19840525,2306, 45.2100,-151.9967, 5285,    299.7,   5.2606,  33.8797,2,  33.8800,2,   -999.0,5,  5.2369,    150.9,2,    57.31,2,    30.32,2,     0.00,2,     2.16,2, -999.000,9,-999.000,  -999.0,-999.000
    31WTMARAII,   P16,    66,  1,     15,     15,2,19840525,2306, 45.2100,-151.9967, 5285,    402.9,   4.7099,  33.9664,2,  33.9650,2,   -999.0,5,  4.6793,     97.9,2,    76.87,2,    35.89,2,     0.00,2,     2.54,2, -999.000,9,   4.715,   404.0,-999.000
    31WTMARAII,   P16,    66,  1,     16,     16,2,19840525,2306, 45.2100,-151.9967, 5285,    503.4,   4.2411,  34.0492,2,  34.0520,2,   -999.0,5,  4.2043,     67.4,2,    93.78,2,    39.02,2,     0.00,2,     2.76,2, -999.000,9,-999.000,  -999.0,-999.000
    31WTMARAII,   P16,    66,  1,     17,     17,2,19840525,2306, 45.2100,-151.9967, 5285,    604.2,   3.9340,  34.1320,2,  34.1310,2,   -999.0,5,  3.8908,     47.4,2,   106.78,2,    40.68,2,     0.00,2,     2.87,2, -999.000,9,-999.000,  -999.0,-999.000
    31WTMARAII,   P16,    66,  1,     18,     18,2,19840525,2306, 45.2100,-151.9967, 5285,    705.4,   3.6725,  34.2083,2,  34.2070,2,   -999.0,5,  3.6229,     36.1,2,   118.41,2,    41.95,2,     0.00,2,     2.95,2, -999.000,9,-999.000,  -999.0,-999.000
    31WTMARAII,   P16,    66,  1,     19,     19,2,19840525,2306, 45.2100,-151.9967, 5285,    805.7,   3.4028,  34.2669,2,  34.2670,2,   -999.0,5,  3.3471,     28.7,2,   127.40,2,    42.63,2,     0.00,2,     3.00,2, -999.000,9,   3.409,   805.0,-999.000
    31WTMARAII,   P16,    66,  1,     20,     20,2,19840525,2306, 45.2100,-151.9967, 5285,    909.6,   3.1885,  34.3157,2,  34.3160,2,   -999.0,5,  3.1263,     22.6,2,   135.60,2,    43.12,2,     0.00,2,     3.03,2, -999.000,9,-999.000,  -999.0,-999.000
    31WTMARAII,   P16,    66,  1,     21,     21,2,19840525,2306, 45.2100,-151.9967, 5285,   1008.6,   2.9935,  34.3625,2,  34.3610,2,   -999.0,5,  2.9253,     18.3,2,   142.35,2,    43.51,2,     0.00,2,     3.06,2, -999.000,9,-999.000,  -999.0,-999.000
    31WTMARAII,   P16,    66,  1,     22,     22,2,19840525,2306, 45.2100,-151.9967, 5285,   1260.5,   2.6181,  34.4436,2,  34.4440,2,   -999.0,5,  2.5338,     15.6,2,   158.17,2,    44.09,2,     0.00,2,  -999.00,9, -999.000,9,-999.000,  -999.0,-999.000
    31WTMARAII,   P16,    66,  1,     23,     23,2,19840525,2306, 45.2100,-151.9967, 5285,   1521.7,   2.3030,  34.5127,2,  34.5110,2,   -999.0,5,  2.2017,     21.7,2,   169.70,2,    43.89,2,     0.00,2,  -999.00,9, -999.000,9,   2.300,  1521.0,-999.000
    31WTMARAII,   P16,    67,  1,      1,      1,2,19840526,0517, 45.6650,-152.0100, 5359,      1.0,   7.0980,-999.0000,9,  32.7830,2,   -999.0,5,-999.0000,   -999.0,9,    18.50,2,    10.96,2,     0.10,2,     1.14,2, -999.000,9,   7.096,     1.0,-999.000
    31WTMARAII,   P16,    67,  1,      2,      2,2,19840526,0517, 45.6650,-152.0100, 5359,     49.8,   6.7941,  32.7799,2,  32.7840,2,   -999.0,5,  6.7897,    311.7,2,    18.50,2,    11.06,2,     0.10,2,     1.15,2, -999.000,9,-999.000,  -999.0,-999.000
    31WTMARAII,   P16,    67,  1,      3,      3,2,19840526,0517, 45.6650,-152.0100, 5359,     95.0,   5.8128,  32.8453,2,  32.8440,2,   -999.0,5,  5.8052,    308.6,2,    19.28,2,    12.53,2,     0.21,2,     1.23,2, -999.000,9,-999.000,  -999.0,-999.000
    31WTMARAII,   P16,    67,  1,      4,      4,2,19840526,0517, 45.6650,-152.0100, 5359,    150.3,   6.0562,  33.5965,2,  33.5960,2,   -999.0,5,  6.0436,    255.0,2,    28.56,2,    18.98,2,     0.01,2,     1.46,2, -999.000,9,-999.000,  -999.0,-999.000
    31WTMARAII,   P16,    67,  1,      5,      5,2,19840526,0517, 45.6650,-152.0100, 5359,    199.6,   5.8777,  33.8174,2,  33.8210,2,   -999.0,5,  5.8611,    216.2,2,    40.88,2,    23.67,2,     0.00,2,     1.71,2, -999.000,9,-999.000,  -999.0,-999.000
    31WTMARAII,   P16,    67,  1,      6,      6,2,19840526,0517, 45.6650,-152.0100, 5359,    293.6,   5.0010,  33.8664,2,  33.8690,2,   -999.0,5,  4.9784,    141.4,2,    62.01,2,    31.69,2,     0.00,2,     2.24,2, -999.000,9,-999.000,  -999.0,-999.000
    31WTMARAII,   P16,    67,  1,      7,      7,2,19840526,0517, 45.6650,-152.0100, 5359,    400.0,   4.4837,  33.9915,2,  33.9940,2,   -999.0,5,  4.4541,     84.4,2,    84.88,2,    37.55,2,     0.00,2,     2.64,2, -999.000,9,-999.000,  -999.0,-999.000
    31WTMARAII,   P16,    67,  1,      8,      8,2,19840526,0517, 45.6650,-152.0100, 5359,    502.2,   4.1346,  34.0773,2,  34.0800,2,   -999.0,5,  4.0984,     61.3,2,    99.06,2,    39.99,2,     0.00,2,     2.79,2, -999.000,9,-999.000,  -999.0,-999.000
    31WTMARAII,   P16,    67,  1,      9,      9,2,19840526,0517, 45.6650,-152.0100, 5359,    605.0,   3.7959,  34.1590,2,  34.1620,2,   -999.0,5,  3.7533,     43.0,2,   113.03,2,    41.65,2,     0.00,2,     2.90,2, -999.000,9,-999.000,  -999.0,-999.000
    31WTMARAII,   P16,    67,  1,     10,     10,2,19840526,0517, 45.6650,-152.0100, 5359,    706.3,   3.5680,  34.2208,2,  34.2240,2,   -999.0,5,  3.5188,     35.6,2,   122.41,2,    42.53,2,     0.00,2,  -999.00,9, -999.000,9,-999.000,  -999.0,-999.000
    31WTMARAII,   P16,    67,  1,     11,     11,2,19840526,0517, 45.6650,-152.0100, 5359,    806.7,   3.3234,  34.2781,2,  34.2810,2,   -999.0,5,  3.2682,     28.7,2,   130.92,2,    43.12,2,     0.00,2,     3.02,2, -999.000,9,-999.000,  -999.0,-999.000
    31WTMARAII,   P16,    67,  1,     12,     12,2,19840526,0517, 45.6650,-152.0100, 5359,    908.5,   3.1332,  34.3259,2,  34.3300,2,   -999.0,5,  3.0715,     22.2,2,   139.42,2,    43.80,2,     0.00,2,     3.04,2, -999.000,9,-999.000,  -999.0,-999.000
    31WTMARAII,   P16,    67,  1,     13,     13,2,19840526,0517, 45.6650,-152.0100, 5359,   1006.7,   2.9425,  34.3686,2,  34.3730,2,   -999.0,5,  2.8747,     17.4,2,   147.43,2,    44.29,2,     0.00,2,     3.09,2, -999.000,9,-999.000,  -999.0,-999.000
    31WTMARAII,   P16,    67,  1,     14,     14,2,19840526,0517, 45.6650,-152.0100, 5359,   1259.1,   2.5888,  34.4468,2,  34.4490,2,   -999.0,5,  2.5049,     15.2,2,   160.91,2,    44.87,2,     0.00,2,     3.11,2, -999.000,9,-999.000,  -999.0,-999.000
    31WTMARAII,   P16,    67,  1,     15,     15,2,19840526,0517, 45.6650,-152.0100, 5359,   1510.5,   2.2930,  34.5090,2,  34.5130,2,   -999.0,5,  2.1927,     23.9,2,   170.39,2,    44.58,2,     0.00,2,     3.07,2, -999.000,9,   2.292,  1516.0,-999.000
    31WTMARAII,   P16,    67,  1,     16,     16,2,19840526,0517, 45.6650,-152.0100, 5359,   1763.6,   2.0801,  34.5547,2,  34.5580,2,   -999.0,5,  1.9622,     37.4,2,   176.44,2,    43.79,2,     0.00,2,     3.00,2, -999.000,9,-999.000,  -999.0,-999.000
    31WTMARAII,   P16,    67,  1,     17,     17,2,19840526,0517, 45.6650,-152.0100, 5359,   1997.8,   1.9294,  34.5870,2,  34.5910,2,   -999.0,5,  1.7944,     53.9,2,   178.98,2,    42.72,2,     0.00,2,     2.94,2, -999.000,9,-999.000,  -999.0,-999.000
    31WTMARAII,   P16,    67,  1,     18,     18,2,19840526,0517, 45.6650,-152.0100, 5359,   2529.0,   1.6884,  34.6329,2,  34.6350,2,   -999.0,5,  1.5114,     87.3,2,   178.48,2,    40.76,2,     0.00,2,     2.82,2, -999.000,9,-999.000,  -999.0,-999.000
    31WTMARAII,   P16,    67,  1,     19,     19,2,19840526,0517, 45.6650,-152.0100, 5359,   3029.6,   1.5626,  34.6568,2,  34.6580,2,   -999.0,5,  1.3417,    113.0,2,   174.28,2,    39.10,2,     0.00,2,     2.70,2, -999.000,9,   1.565,  3036.0,-999.000
    31WTMARAII,   P16,    67,  1,     20,     20,2,19840526,0517, 45.6650,-152.0100, 5359,   3540.7,   1.4882,  34.6725,2,  34.6740,2,   -999.0,5,  1.2182,    130.8,2,   168.12,2,    37.63,2,     0.00,2,     2.59,2, -999.000,9,-999.000,  -999.0,-999.000
    31WTMARAII,   P16,    67,  1,     21,     21,2,19840526,0517, 45.6650,-152.0100, 5359,   4043.3,   1.4774,  34.6817,2,  34.6830,2,   -999.0,5,  1.1544,    143.8,2,   167.53,2,    37.04,2,     0.00,2,     2.54,2, -999.000,9,-999.000,  -999.0,-999.000
    31WTMARAII,   P16,    67,  1,     22,     22,2,19840526,0517, 45.6650,-152.0100, 5359,   4553.1,   1.5127,  34.6859,2,  34.6860,2,   -999.0,5,  1.1312,    146.4,2,   170.27,2,    36.95,2,     0.00,2,  -999.00,9, -999.000,9,-999.000,  -999.0,-999.000
    31WTMARAII,   P16,    67,  1,     23,     23,2,19840526,0517, 45.6650,-152.0100, 5359,   5085.7,   1.5722,  34.6873,2,  34.6870,2,   -999.0,5,  1.1251,    147.7,2,   172.22,2,    36.85,2,     0.00,2,  -999.00,9, -999.000,9,   1.571,  5090.0,-999.000
    31WTMARAII,   P16,    67,  1,     24,     24,2,19840526,0517, 45.6650,-152.0100, 5359,   5412.3,   1.6144,  34.6878,2,  34.6880,2,   -999.0,5,  1.1249,    147.7,2,   172.02,2,    36.75,2,     0.00,2,     2.52,2, -999.000,9,-999.000,  -999.0,-999.000
    31WTMARAII,   P16,    68,  1,      7,      7,2,19840526,1110, 46.1217,-151.9983, 5309,      1.8,   6.7430,  32.7606,2,  32.7630,2,   -999.0,5,  6.7429,    313.5,2,    20.16,2,    11.94,2,     0.12,2,     1.19,2, -999.000,9,   6.757,  -999.0,-999.000
    31WTMARAII,   P16,    68,  1,      8,      8,2,19840526,1110, 46.1217,-151.9983, 5309,     42.9,   6.4181,  32.7587,2,  32.7610,2,   -999.0,5,  6.4145,    317.0,2,    20.26,2,    12.04,2,     0.12,2,     1.20,2, -999.000,9,-999.000,  -999.0,-999.000
    31WTMARAII,   P16,    68,  1,      9,      9,2,19840526,1110, 46.1217,-151.9983, 5309,    102.0,   5.4381,  32.8144,2,  32.8160,2,   -999.0,5,  5.4302,    310.4,2,    20.75,2,    13.41,2,     0.18,2,     1.29,2, -999.000,9,-999.000,  -999.0,-999.000
    31WTMARAII,   P16,    68,  1,     10,     10,2,19840526,1110, 46.1217,-151.9983, 5309,    129.6,   5.5083,  33.4386,2,  33.4390,2,   -999.0,5,  5.4981,    258.0,2,    30.62,2,    20.25,2,     0.02,2,     1.57,2, -999.000,9,-999.000,  -999.0,-999.000
    31WTMARAII,   P16,    68,  1,     11,     11,2,19840526,1110, 46.1217,-151.9983, 5309,    166.6,   5.5111,  33.7619,2,  33.7630,2,   -999.0,5,  5.4978,    221.9,2,    41.18,2,    24.16,2,     0.01,2,     1.76,2, -999.000,9,-999.000,  -999.0,-999.000
    31WTMARAII,   P16,    68,  1,     12,     12,2,19840526,1110, 46.1217,-151.9983, 5309,    202.8,   5.1135,  33.7841,2,  33.7850,2,   -999.0,5,  5.0979,    195.7,2,    49.39,2,    27.19,2,     0.01,2,     1.95,2, -999.000,9,-999.000,  -999.0,-999.000
    31WTMARAII,   P16,    68,  1,     13,     13,2,19840526,1110, 46.1217,-151.9983, 5309,    253.1,   4.6950,  33.8343,2,  33.8360,2,   -999.0,5,  4.6762,    140.5,2,    64.94,2,    32.76,2,     0.01,2,     2.32,2, -999.000,9,-999.000,  -999.0,-999.000
    31WTMARAII,   P16,    68,  1,     14,     14,2,19840526,1110, 46.1217,-151.9983, 5309,    300.2,   4.4294,  33.8758,2,  33.8780,2,   -999.0,5,  4.4076,    110.5,2,    73.06,2,    35.79,2,     0.01,2,     2.51,2, -999.000,9,-999.000,  -999.0,-999.000
    31WTMARAII,   P16,    68,  1,     15,     15,2,19840526,1110, 46.1217,-151.9983, 5309,    407.4,   4.2516,  34.0068,2,  34.0050,2,   -999.0,5,  4.2222,     75.2,2,    89.87,2,    38.92,2,     0.01,2,     2.72,2, -999.000,9,   4.250,   407.0,-999.000
    31WTMARAII,   P16,    68,  1,     16,     16,2,19840526,1110, 46.1217,-151.9983, 5309,    494.0,   3.9705,  34.1022,2,  34.1020,2,   -999.0,5,  3.9355,     53.0,2,   104.04,2,    40.78,2,     0.00,2,     2.86,2, -999.000,9,-999.000,  -999.0,-999.000
    31WTMARAII,   P16,    68,  1,     17,     17,2,19840526,1110, 46.1217,-151.9983, 5309,    601.8,   3.6910,  34.1726,2,  34.1720,2,   -999.0,5,  3.6491,     40.4,2,   114.79,2,    41.85,2,     0.00,2,     2.91,2, -999.000,9,-999.000,  -999.0,-999.000
    31WTMARAII,   P16,    68,  1,     18,     18,2,19840526,1110, 46.1217,-151.9983, 5309,    701.1,   3.4852,  34.2370,2,  34.2390,2,   -999.0,5,  3.4369,     33.5,2,   124.86,2,    42.53,2,     0.00,2,     2.97,2, -999.000,9,-999.000,  -999.0,-999.000
    31WTMARAII,   P16,    68,  1,     19,     19,2,19840526,1110, 46.1217,-151.9983, 5309,    803.2,   3.2787,  34.2852,2,  34.2840,2,   -999.0,5,  3.2239,     29.1,2,   132.97,2,    42.82,2,     0.00,2,     3.00,2, -999.000,9,   3.281,   803.0,-999.000
    31WTMARAII,   P16,    68,  1,     20,     20,2,19840526,1110, 46.1217,-151.9983, 5309,    900.9,   3.1072,  34.3350,2,  34.3350,2,   -999.0,5,  3.0463,     22.2,2,   139.32,2,    43.60,2,     0.00,2,     3.04,2, -999.000,9,-999.000,  -999.0,-999.000
    31WTMARAII,   P16,    68,  1,     21,     21,2,19840526,1110, 46.1217,-151.9983, 5309,   1010.3,   2.9189,  34.3758,2,  34.3750,2,   -999.0,5,  2.8511,     19.1,2,   146.55,2,    43.90,2,     0.00,2,     3.06,2, -999.000,9,-999.000,  -999.0,-999.000
    31WTMARAII,   P16,    68,  1,     22,     22,2,19840526,1110, 46.1217,-151.9983, 5309,   1253.3,   2.5944,  34.4458,2,  34.4450,2,   -999.0,5,  2.5109,     17.0,2,   159.15,2,    44.38,2,     0.00,2,  -999.00,9, -999.000,9,-999.000,  -999.0,-999.000
    31WTMARAII,   P16,    68,  1,     23,     23,2,19840526,1110, 46.1217,-151.9983, 5309,   1547.2,   2.2749,  34.5148,2,  34.5140,2,   -999.0,5,  2.1719,     26.1,2,   170.87,2,    44.09,2,     0.00,2,  -999.00,9, -999.000,9,   2.272,  1546.0,-999.000