BOTTLE,20220816CCHSIOAMB
EXPOCODE,SECT_ID,STNNBR,CASTNO,SAMPNO,BTLNBR,BTLNBR_FLAG_W,DATE,TIME,LATITUDE,LONGITUDE,DEPTH,CTDPRS,CTDTMP,CTDSAL,CTDSAL_FLAG_W,SALNTY,SALNTY_FLAG_W,CTDOXY,CTDOXY_FLAG_W,THETA,OXYGEN,OXYGEN_FLAG_W,SILCAT,SILCAT_FLAG_W,NITRAT,NITRAT_FLAG_W,NITRIT,NITRIT_FLAG_W,PHSPHT,PHSPHT_FLAG_W,TRITUM,TRITUM_FLAG_W,REVTMP,REVPRS,TRITER
,,,,,,,,,,,,DBAR,ITS-90,PSS-78,,PSS-78,,UMOL/KG,,DEG C,UMOL/KG,,UMOL/KG,,UMOL/KG,,UMOL/KG,,UMOL/KG,,TU,,,DBAR,TU
    31WTMARAII,   P16,    47,  1,      1,      1,2,19840519,0431, 37.4517,-152.0117, 5539,      1.0,  13.4120,-999.0000,9,  33.8570,2,   -999.0,5,-999.0000,   -999.0,9,     4.79,2,     0.03,2,     0.00,2,     0.22,2, -999.000,9,  13.409,     1.0,-999.000
    31WTMARAII,   P16,    47,  1,      8,      8,2,19840519,0431, 37.4517,-152.0117, 5539,     53.5,  12.9661,  33.8899,2,  33.8870,2,   -999.0,5, 12.9589,    274.3,2,     4.99,2,     0.89,2,     0.03,2,     0.29,2, -999.000,9,-999.000,  -999.0,-999.000
    31WTMARAII,   P16,    47,  1,      9,      9,2,19840519,0431, 37.4517,-152.0117, 5539,    104.0,  11.2371,  33.9872,2,  33.9880,2,   -999.0,5, 11.2243,    257.3,2,     7.04,2,     6.29,2,     0.01,2,     0.58,2, -999.000,9,-999.000,  -999.0,-999.000
    31WTMARAII,   P16,    47,  1,     10,     10,2,19840519,0431, 37.4517,-152.0117, 5539,    137.2,  10.5226,  34.1045,2,  34.1100,2,   -999.0,5, 10.5064,    246.3,2,    12.81,2,    10.66,2,     0.01,2,     0.81,2, -999.000,9,-999.000,  -999.0,-999.000
    31WTMARAII,   P16,    47,  1,     11,     11,2,19840519,0431, 37.4517,-152.0117, 5539,    170.6,  10.0255,  34.1147,2,  34.1180,2,   -999.0,5, 10.0059,    246.3,2,    14.77,2,    11.83,2,     0.00,2,     0.90,2, -999.000,9,-999.000,  -999.0,-999.000
    31WTMARAII,   P16,    47,  1,     12,     12,2,19840519,0431, 37.4517,-152.0117, 5539,    204.2,   9.6492,  34.0917,2,  34.0920,2,   -999.0,5,  9.6263,    246.7,2,    16.82,2,    12.52,2,     0.00,2,     0.94,2, -999.000,9,   9.647,   206.0,-999.000
    31WTMARAII,   P16,    47,  1,     13,     13,2,19840519,0431, 37.4517,-152.0117, 5539,    254.0,   8.9981,  34.0314,2,  34.0300,2,   -999.0,5,  8.9708,    245.8,2,    18.87,2,    13.79,2,     0.00,2,     1.02,2, -999.000,9,-999.000,  -999.0,-999.000
    31WTMARAII,   P16,    47,  1,     14,     14,2,19840519,0431, 37.4517,-152.0117, 5539,    303.8,   8.7464,  34.0905,2,  34.0910,2,   -999.0,5,  8.7141,    211.0,2,    26.70,2,    18.48,2,     0.00,2,     1.30,2, -999.000,9,-999.000,  -999.0,-999.000
    31WTMARAII,   P16,    47,  1,     15,     15,2,19840519,0431, 37.4517,-152.0117, 5539,    403.1,   7.2701,  34.0168,2,  34.0170,2,   -999.0,5,  7.2316,    176.6,2,    40.09,2,    24.45,2,     0.00,2,     1.72,2, -999.000,9,   7.278,   401.0,-999.000
    31WTMARAII,   P16,    47,  1,     16,     16,2,19840519,0431, 37.4517,-152.0117, 5539,    503.8,   5.6337,  33.9744,2,  33.9760,2,   -999.0,5,  5.5915,    129.2,2,    62.98,2,    31.78,2,     0.00,2,     2.25,2, -999.000,9,-999.000,  -999.0,-999.000
    31WTMARAII,   P16,    47,  1,     17,     17,2,19840519,0431, 37.4517,-152.0117, 5539,    606.3,   4.7701,  34.0259,2,  34.0260,2,   -999.0,5,  4.7229,     85.2,2,    82.73,2,    37.06,2,     0.00,2,     2.61,2, -999.000,9,-999.000,  -999.0,-999.000
    31WTMARAII,   P16,    47,  1,     18,     18,2,19840519,0431, 37.4517,-152.0117, 5539,    705.2,   4.2323,  34.0977,2,  34.0980,2,   -999.0,5,  4.1797,     55.7,2,    98.47,2,    40.19,2,     0.00,2,     2.83,2, -999.000,9,-999.000,  -999.0,-999.000
    31WTMARAII,   P16,    47,  1,     19,     19,2,19840519,0431, 37.4517,-152.0117, 5539,    805.4,   3.8042,  34.1815,2,  34.1800,2,   -999.0,5,  3.7461,     29.1,2,   112.93,2,    42.83,2,     0.00,2,     3.01,2, -999.000,9,-999.000,  -999.0,-999.000
    31WTMARAII,   P16,    47,  1,     20,     20,2,19840519,0431, 37.4517,-152.0117, 5539,    904.3,   3.5281,  34.2533,2,  34.2520,2,   -999.0,5,  3.4640,     16.1,2,   124.56,2,    44.00,2,     0.00,2,     3.10,2, -999.000,9,-999.000,  -999.0,-999.000
    31WTMARAII,   P16,    47,  1,     21,     21,2,19840519,0431, 37.4517,-152.0117, 5539,   1003.4,   3.2824,  34.3179,2,  34.3180,2,   -999.0,5,  3.2123,     10.4,2,   133.45,2,    44.58,2,     0.00,2,     3.13,2, -999.000,9,-999.000,  -999.0,-999.000
    31WTMARAII,   P16,    47,  1,     25,     25,2,19840519,0431, 37.4517,-152.0117, 5539,   1250.9,   2.7995,  34.4299,2,  34.4300,2,   -999.0,5,  2.7142,     10.0,2,   153.29,2,    44.97,2,     0.00,2,     3.15,2, -999.000,9,-999.000,  -999.0,-999.000
    31WTMARAII,   P16,    47,  1,     23,     23,2,19840519,0431, 37.4517,-152.0117, 5539,   1501.4,   2.4717,  34.5067,2,  34.5070,2,   -999.0,5,  2.3700,     20.0,2,   161.78,2,    44.58,2,     0.00,2,  -999.00,9, -999.000,9,   2.469,  1500.0,-999.000
    31WTMARAII,   P16,    48,  1,      1,      1,2,19840519,1034, 37.8000,-152.0067, 5849,      1.0,  13.2950,-999.0000,9,  33.8350,2,   -999.0,5,-999.0000,   -999.0,9,     4.11,2,     0.41,2,     0.01,2,     0.27,2, -999.000,9,  13.292,     1.0,-999.000
    31WTMARAII,   P16,    48,  1,      2,      2,2,19840519,1034, 37.8000,-152.0067, 5849,     53.4,  12.0102,  33.9819,2,  33.9840,2,   -999.0,5, 12.0033,    271.2,2,     5.09,2,     2.67,2,     0.33,2,     0.39,2, -999.000,9,-999.000,  -999.0,-999.000
    31WTMARAII,   P16,    48,  1,      3,      3,2,19840519,1034, 37.8000,-152.0067, 5849,    104.0,  10.9430,  33.9753,2,  33.9740,2,   -999.0,5, 10.9304,    259.4,2,     6.65,2,     6.78,2,     0.01,2,     0.59,2, -999.000,9,-999.000,  -999.0,-999.000
    31WTMARAII,   P16,    48,  1,      4,      4,2,19840519,1034, 37.8000,-152.0067, 5849,    154.4,  10.5447,  34.1908,2,  34.1930,2,   -999.0,5, 10.5264,    244.6,2,    13.88,2,    11.54,2,     0.01,2,     0.84,2, -999.000,9,-999.000,  -999.0,-999.000
    31WTMARAII,   P16,    48,  1,      5,      5,2,19840519,1034, 37.8000,-152.0067, 5849,    204.9,  10.0296,  34.1450,2,  34.1520,2,   -999.0,5, 10.0061,    243.7,2,    15.45,2,    12.32,2,     0.01,2,     0.90,2, -999.000,9,-999.000,  -999.0,-999.000
    31WTMARAII,   P16,    48,  1,      6,      6,2,19840519,1034, 37.8000,-152.0067, 5849,    305.1,   8.7730,  34.0903,2,  34.0910,2,   -999.0,5,  8.7406,    211.4,2,    26.40,2,    18.38,2,     0.01,2,     1.29,2, -999.000,9,-999.000,  -999.0,-999.000
    31WTMARAII,   P16,    48,  1,      7,      7,2,19840519,1034, 37.8000,-152.0067, 5849,    406.0,   7.1081,  34.0046,2,  34.0070,2,   -999.0,5,  7.0697,    172.3,2,    41.95,2,    24.84,2,     0.01,2,     1.76,2, -999.000,9,-999.000,  -999.0,-999.000
    31WTMARAII,   P16,    48,  1,      8,      8,2,19840519,1034, 37.8000,-152.0067, 5849,    506.9,   5.6605,  33.9762,2,  33.9790,2,   -999.0,5,  5.6179,    128.7,2,    63.76,2,    31.68,2,     0.00,2,     2.24,2, -999.000,9,-999.000,  -999.0,-999.000
    31WTMARAII,   P16,    48,  1,      9,      9,2,19840519,1034, 37.8000,-152.0067, 5849,    607.7,   4.6578,  34.0349,2,  34.0360,2,   -999.0,5,  4.6110,     80.5,2,    85.76,2,    37.55,2,     0.00,2,     2.65,2, -999.000,9,-999.000,  -999.0,-999.000
    31WTMARAII,   P16,    48,  1,     10,     10,2,19840519,1034, 37.8000,-152.0067, 5849,    708.6,   4.1443,  34.1099,2,  34.1110,2,   -999.0,5,  4.0919,     47.8,2,    99.93,2,    40.87,2,     0.00,2,     2.86,2, -999.000,9,-999.000,  -999.0,-999.000
    31WTMARAII,   P16,    48,  1,     11,     11,2,19840519,1034, 37.8000,-152.0067, 5849,    809.6,   3.7623,  34.1894,2,  34.1910,2,   -999.0,5,  3.7041,     27.8,2,   114.60,2,    42.83,2,     0.00,2,     2.98,2, -999.000,9,-999.000,  -999.0,-999.000
    31WTMARAII,   P16,    48,  1,     12,     12,2,19840519,1034, 37.8000,-152.0067, 5849,    910.9,   3.4452,  34.2657,2,  34.2660,2,   -999.0,5,  3.3811,     16.1,2,   127.20,2,    43.90,2,     0.00,2,     3.06,2, -999.000,9,   3.437,   915.0,-999.000
    31WTMARAII,   P16,    48,  1,     13,     13,2,19840519,1034, 37.8000,-152.0067, 5849,   1011.0,   3.1949,  34.3281,2,  34.3300,2,   -999.0,5,  3.1250,     10.9,2,   137.66,2,    44.48,2,     0.00,2,     3.13,2, -999.000,9,-999.000,  -999.0,-999.000
    31WTMARAII,   P16,    48,  1,     14,     14,2,19840519,1034, 37.8000,-152.0067, 5849,   1263.7,   2.7841,  34.4352,2,  34.4370,2,   -999.0,5,  2.6980,     10.9,2,   151.33,2,    44.77,2,     0.00,2,     3.14,2, -999.000,9,-999.000,  -999.0,-999.000
    31WTMARAII,   P16,    48,  1,     15,     15,2,19840519,1034, 37.8000,-152.0067, 5849,   1517.3,   2.4472,  34.5134,2,  34.5150,2,   -999.0,5,  2.3446,     23.0,2,   160.41,2,    44.28,2,     0.00,2,     3.08,2, -999.000,9,   2.452,  1525.0,-999.000
    31WTMARAII,   P16,    48,  1,     16,     16,2,19840519,1034, 37.8000,-152.0067, 5849,   1771.7,   2.1675,  34.5635,2,  34.5660,2,   -999.0,5,  2.0477,     40.9,2,   167.54,2,    43.21,2,     0.00,2,     3.01,2, -999.000,9,-999.000,  -999.0,-999.000
    31WTMARAII,   P16,    48,  1,     17,     17,2,19840519,1034, 37.8000,-152.0067, 5849,   2025.8,   1.9418,  34.6002,2,  34.6020,2,   -999.0,5,  1.8042,     60.0,2,   174.09,2,    42.13,2,     0.00,2,     2.93,2, -999.000,9,-999.000,  -999.0,-999.000
    31WTMARAII,   P16,    48,  1,     18,     18,2,19840519,1034, 37.8000,-152.0067, 5849,   2534.7,   1.6810,  34.6388,2,  34.6400,2,   -999.0,5,  1.5037,     92.1,2,   171.64,2,    40.17,2,     0.00,2,     2.78,2, -999.000,9,-999.000,  -999.0,-999.000
    31WTMARAII,   P16,    48,  1,     19,     19,2,19840519,1034, 37.8000,-152.0067, 5849,   3043.2,   1.5453,  34.6630,2,  34.6630,2,   -999.0,5,  1.3234,    119.5,2,   165.67,2,    38.41,2,     0.00,2,     2.65,2, -999.000,9,   1.550,  3054.0,-999.000
    31WTMARAII,   P16,    48,  1,     20,     20,2,19840519,1034, 37.8000,-152.0067, 5849,   3553.7,   1.4854,  34.6754,2,  34.6760,2,   -999.0,5,  1.2142,    136.4,2,   162.74,2,    37.44,2,     0.00,2,     2.56,2, -999.000,9,-999.000,  -999.0,-999.000
    31WTMARAII,   P16,    48,  1,     21,     21,2,19840519,1034, 37.8000,-152.0067, 5849,   4065.8,   1.4774,  34.6834,2,  34.6830,2,   -999.0,5,  1.1520,    145.1,2,   160.79,2,    36.56,2,     0.00,2,     2.51,2, -999.000,9,-999.000,  -999.0,-999.000
    31WTMARAII,   P16,    48,  1,     25,     25,2,19840519,1034, 37.8000,-152.0067, 5849,   4578.4,   1.5045,  34.6870,2,  34.6870,2,   -999.0,5,  1.1203,    150.8,2,   155.51,2,    36.36,2,     0.00,2,     2.50,2, -999.000,9,-999.000,  -999.0,-999.000
    31WTMARAII,   P16,    48,  1,     23,     23,2,19840519,1034, 37.8000,-152.0067, 5849,   5194.9,   1.5562,  34.6898,2,  34.6900,2,   -999.0,5,  1.0961,    154.7,2,   149.74,2,    35.97,2,     0.00,2,  -999.00,9, -999.000,9,   1.561,  5202.0,-999.000
    31WTMARAII,   P16,    48,  1,     24,     24,2,19840519,1034, 37.8000,-152.0067, 5849,   5843.1,   1.6325,  34.6912,2,  34.6910,2,   -999.0,5,  1.0863,    157.7,2,   148.76,2,    35.77,2,     0.00,2,     2.44,2, -999.000,9,-999.000,  -999.0,-999.000
    31WTMARAII,   P16,    49,  1,      7,      7,2,19840519,1637, 38.1467,-151.9867, 4928,      1.0,  13.0240,-999.0000,9,  33.8350,2,   -999.0,5,-999.0000,   -999.0,9,     3.91,2,     0.36,2,     0.02,2,     0.27,2, -999.000,9,  13.021,     1.0,-999.000
    31WTMARAII,   P16,    49,  1,      8,      8,2,19840519,1637, 38.1467,-151.9867, 4928,     51.9,  12.1575,  33.8897,2,  33.8870,2,   -999.0,5, 12.1508,    268.6,2,     4.79,2,     1.88,2,     0.35,2,     0.37,2, -999.000,9,-999.000,  -999.0,-999.000
    31WTMARAII,   P16,    49,  1,      9,      9,2,19840519,1637, 38.1467,-151.9867, 4928,    101.6,  10.9741,  34.0370,2,  34.0370,2,   -999.0,5, 10.9618,    251.6,2,     8.61,2,     7.89,2,     0.01,2,     0.65,2, -999.000,9,-999.000,  -999.0,-999.000
    31WTMARAII,   P16,    49,  1,     10,     10,2,19840519,1637, 38.1467,-151.9867, 4928,    135.0,  10.4765,  34.1583,2,  34.1580,2,   -999.0,5, 10.4606,    245.0,2,    13.40,2,    11.15,2,     0.01,2,     0.84,2, -999.000,9,-999.000,  -999.0,-999.000
    31WTMARAII,   P16,    49,  1,     11,     11,2,19840519,1637, 38.1467,-151.9867, 4928,    167.9,  10.1253,  34.1355,2,  34.1360,2,   -999.0,5, 10.1059,    245.9,2,    14.47,2,    11.73,2,     0.01,2,     0.88,2, -999.000,9,-999.000,  -999.0,-999.000
    31WTMARAII,   P16,    49,  1,     12,     12,2,19840519,1637, 38.1467,-151.9867, 4928,    202.2,   9.6381,  34.0825,2,  34.0840,2,   -999.0,5,  9.6155,    248.9,2,    16.04,2,    12.22,2,     0.01,2,     0.92,2, -999.000,9,-999.000,  -999.0,-999.000
    31WTMARAII,   P16,    49,  1,     13,     13,2,19840519,1637, 38.1467,-151.9867, 4928,    251.2,   9.3582,  34.0824,2,  34.0800,2,   -999.0,5,  9.3305,    241.9,2,    18.48,2,    13.69,2,     0.01,2,     1.00,2, -999.000,9,-999.000,  -999.0,-999.000
    31WTMARAII,   P16,    49,  1,     14,     14,2,19840519,1637, 38.1467,-151.9867, 4928,    300.7,   9.0057,  34.1080,2,  34.1090,2,   -999.0,5,  8.9732,    215.8,2,    25.13,2,    17.41,2,     0.01,2,     1.23,2, -999.000,9,-999.000,  -999.0,-999.000
    31WTMARAII,   P16,    49,  1,     15,     15,2,19840519,1637, 38.1467,-151.9867, 4928,    401.1,   7.2723,  34.0102,2,  34.0110,2,   -999.0,5,  7.2340,    177.1,2,    39.90,2,    24.35,2,     0.01,2,     1.71,2, -999.000,9,   7.286,   404.0,-999.000
    31WTMARAII,   P16,    49,  1,     16,     16,2,19840519,1637, 38.1467,-151.9867, 4928,    503.4,   5.7658,  33.9706,2,  33.9720,2,   -999.0,5,  5.7231,    134.4,2,    61.41,2,    31.00,2,     0.01,2,     2.20,2, -999.000,9,-999.000,  -999.0,-999.000
    31WTMARAII,   P16,    49,  1,     17,     17,2,19840519,1637, 38.1467,-151.9867, 4928,    603.3,   4.7893,  34.0200,2,  34.0200,2,   -999.0,5,  4.7423,     87.4,2,    81.46,2,    36.77,2,     0.00,2,     2.59,2, -999.000,9,-999.000,  -999.0,-999.000
    31WTMARAII,   P16,    49,  1,     18,     18,2,19840519,1637, 38.1467,-151.9867, 4928,    703.6,   4.2474,  34.0956,2,  34.0950,2,   -999.0,5,  4.1948,     55.2,2,    97.49,2,    40.19,2,     0.00,2,     2.83,2, -999.000,9,-999.000,  -999.0,-999.000
    31WTMARAII,   P16,    49,  1,     19,     19,2,19840519,1637, 38.1467,-151.9867, 4928,    804.2,   3.8785,  34.1683,2,  34.1670,2,   -999.0,5,  3.8200,     33.9,2,   111.96,2,    42.24,2,     0.00,2,     2.97,2, -999.000,9,   3.886,   808.0,-999.000
    31WTMARAII,   P16,    49,  1,     20,     20,2,19840519,1637, 38.1467,-151.9867, 4928,    903.1,   3.5291,  34.2455,2,  34.2450,2,   -999.0,5,  3.4651,     20.0,2,   125.44,2,    43.51,2,     0.00,2,     3.05,2, -999.000,9,-999.000,  -999.0,-999.000
    31WTMARAII,   P16,    49,  1,     21,     21,2,19840519,1637, 38.1467,-151.9867, 4928,   1003.4,   3.2929,  34.3080,2,  34.3080,2,   -999.0,5,  3.2228,     12.6,2,   136.09,2,    44.29,2,     0.00,2,     3.13,2, -999.000,9,-999.000,  -999.0,-999.000
    31WTMARAII,   P16,    49,  1,     25,     25,2,19840519,1637, 38.1467,-151.9867, 4928,   1248.5,   2.8276,  34.4279,2,  34.4280,2,   -999.0,5,  2.7423,     11.3,2,   153.19,2,    44.77,2,     0.00,2,     3.14,2, -999.000,9,-999.000,  -999.0,-999.000
    31WTMARAII,   P16,    49,  1,     23,     23,2,19840519,1637, 38.1467,-151.9867, 4928,   1501.1,   2.4644,  34.5114,2,  34.5120,2,   -999.0,5,  2.3629,     21.7,2,   164.42,2,    44.38,2,     0.00,2,  -999.00,9, -999.000,9,   2.462,  1503.0,-999.000