BOTTLE,20220816CCHSIOAMB
EXPOCODE,SECT_ID,STNNBR,CASTNO,SAMPNO,BTLNBR,BTLNBR_FLAG_W,DATE,TIME,LATITUDE,LONGITUDE,DEPTH,CTDPRS,CTDTMP,CTDSAL,CTDSAL_FLAG_W,SALNTY,SALNTY_FLAG_W,CTDOXY,CTDOXY_FLAG_W,THETA,OXYGEN,OXYGEN_FLAG_W,SILCAT,SILCAT_FLAG_W,NITRAT,NITRAT_FLAG_W,NITRIT,NITRIT_FLAG_W,PHSPHT,PHSPHT_FLAG_W,TRITUM,TRITUM_FLAG_W,REVTMP,REVPRS,TRITER
,,,,,,,,,,,,DBAR,ITS-90,PSS-78,,PSS-78,,UMOL/KG,,DEG C,UMOL/KG,,UMOL/KG,,UMOL/KG,,UMOL/KG,,UMOL/KG,,TU,,,DBAR,TU
    31WTMARAII,   P16,     8,  1,      7,      7,2,19840507,0816, 23.7500,-155.6400, 4337,     53.3,  23.0769,  35.3455,2,  35.3450,2,   -999.0,5, 23.0660,    218.9,2,     1.86,2,     0.09,2,     0.00,2,     0.13,2, -999.000,9,  23.073,  -999.0,-999.000
    31WTMARAII,   P16,     8,  1,     10,     10,2,19840507,0816, 23.7500,-155.6400, 4337,    103.7,  20.6450,  35.2022,2,  35.1990,2,   -999.0,5, 20.6254,    225.7,2,     2.05,2,     0.04,2,     0.00,2,     0.13,2, -999.000,9,-999.000,  -999.0,-999.000
    31WTMARAII,   P16,     8,  1,     11,     11,2,19840507,0816, 23.7500,-155.6400, 4337,    136.9,  19.2358,  35.0727,2,  35.0730,2,   -999.0,5, 19.2112,    210.0,2,     2.25,2,     1.29,2,     0.12,2,     0.25,2, -999.000,9,  19.234,   136.0,-999.000
    31WTMARAII,   P16,     8,  1,     12,     12,2,19840507,0816, 23.7500,-155.6400, 4337,    169.2,  17.3729,  34.8581,2,  34.8570,2,   -999.0,5, 17.3446,    222.6,2,     2.83,2,     1.24,2,     0.22,2,     0.26,2, -999.000,9,-999.000,  -999.0,-999.000
    31WTMARAII,   P16,     8,  1,     13,     13,2,19840507,0816, 23.7500,-155.6400, 4337,    204.3,  15.8573,  34.7015,2,  34.7000,2,   -999.0,5, 15.8252,    213.8,2,     4.20,2,     4.32,2,     0.02,2,     0.42,2, -999.000,9,-999.000,  -999.0,-999.000
    31WTMARAII,   P16,     8,  1,     14,     14,2,19840507,0816, 23.7500,-155.6400, 4337,    255.0,  13.6513,  34.4426,2,  34.4460,2,   -999.0,5, 13.6151,    222.5,2,     6.45,2,     6.98,2,     0.01,2,     0.58,2, -999.000,9,-999.000,  -999.0,-999.000
    31WTMARAII,   P16,     8,  1,     15,     15,2,19840507,0816, 23.7500,-155.6400, 4337,    355.5,  11.1604,  34.2519,2,  34.2520,2,   -999.0,5, 11.1162,    231.1,2,    12.03,2,    11.54,2,     0.01,2,  -999.00,9, -999.000,9,  11.167,   354.0,-999.000
    31WTMARAII,   P16,     8,  1,     16,     16,2,19840507,0816, 23.7500,-155.6400, 4337,    454.9,   8.3303,  34.0685,2,  34.0700,2,   -999.0,5,  8.2830,    182.7,2,  -999.00,9,  -999.00,9,  -999.00,9,  -999.00,9, -999.000,9,-999.000,  -999.0,-999.000
    31WTMARAII,   P16,     8,  1,     17,     17,2,19840507,0816, 23.7500,-155.6400, 4337,    503.6,   7.1450,  34.0185,2,  34.0200,2,   -999.0,5,  7.0970,    147.0,2,    43.32,2,    27.09,2,     0.02,2,  -999.00,9, -999.000,9,-999.000,  -999.0,-999.000
    31WTMARAII,   P16,     8,  1,     18,     18,2,19840507,0816, 23.7500,-155.6400, 4337,    550.1,   6.4451,  34.0294,2,  34.0300,2,   -999.0,5,  6.3954,    116.1,2,    54.86,2,    31.49,2,     0.01,2,  -999.00,9, -999.000,9,-999.000,  -999.0,-999.000
    31WTMARAII,   P16,     8,  1,     19,     19,2,19840507,0816, 23.7500,-155.6400, 4337,    748.6,   4.6288,  34.2408,2,  34.2420,2,   -999.0,5,  4.5702,     28.7,2,    97.48,2,    41.94,2,     0.02,2,  -999.00,9, -999.000,9,   4.644,   722.0,-999.000
    31WTMARAII,   P16,     8,  1,     20,     20,2,19840507,0816, 23.7500,-155.6400, 4337,    788.7,   4.4518,  34.2899,2,  34.2880,2,   -999.0,5,  4.3909,     27.0,2,   102.46,2,    42.43,2,     0.01,2,     3.02,2, -999.000,9,-999.000,  -999.0,-999.000
    31WTMARAII,   P16,     8,  1,     21,     21,2,19840507,0816, 23.7500,-155.6400, 4337,    836.4,   4.3257,  34.3377,2,  34.3380,2,   -999.0,5,  4.2615,     27.4,2,   105.10,2,    42.53,2,     0.01,2,     3.04,2, -999.000,9,-999.000,  -999.0,-999.000
    31WTMARAII,   P16,     8,  1,     22,     22,2,19840507,0816, 23.7500,-155.6400, 4337,    977.6,   4.0087,  34.4372,2,  34.4370,2,   -999.0,5,  3.9350,     35.6,2,   110.96,2,    42.53,2,     0.02,2,  -999.00,9, -999.000,9,-999.000,  -999.0,-999.000
    31WTMARAII,   P16,     8,  1,     23,     23,2,19840507,0816, 23.7500,-155.6400, 4337,   1227.4,   3.3836,  34.5297,2,  34.5300,2,   -999.0,5,  3.2944,     55.6,2,   124.34,2,    41.94,2,     0.01,2,     2.91,2, -999.000,9,-999.000,  -999.0,-999.000
    31WTMARAII,   P16,     8,  1,     24,     24,2,19840507,0816, 23.7500,-155.6400, 4337,   1489.0,   2.7923,  34.5705,2,  34.5700,2,   -999.0,5,  2.6877,     66.5,2,   138.61,2,    41.25,2,     0.02,2,  -999.00,9, -999.000,9,-999.000,  -999.0,-999.000
    31WTMARAII,   P16,     9,  1,      1,      1,2,19840507,1435, 24.1000,-155.3500, 4361,      1.0,  24.2710,-999.0000,9,  35.3190,2,   -999.0,5,-999.0000,   -999.0,9,     1.07,2,     0.00,2,     0.00,2,     0.13,2, -999.000,9,  24.265,     1.0,-999.000
    31WTMARAII,   P16,     9,  1,      2,      2,2,19840507,1435, 24.1000,-155.3500, 4361,     25.7,  23.5649,  35.3414,2,  35.3400,2,   -999.0,5, 23.5596,    218.5,2,     0.59,2,     0.00,2,     0.00,2,     0.09,2, -999.000,9,-999.000,  -999.0,-999.000
    31WTMARAII,   P16,     9,  1,      3,      3,2,19840507,1435, 24.1000,-155.3500, 4361,     55.8,  22.4297,  35.2695,2,  35.2680,2,   -999.0,5, 22.4186,    217.1,2,     0.39,2,     0.00,2,     0.00,2,     0.12,2, -999.000,9,-999.000,  -999.0,-999.000
    31WTMARAII,   P16,     9,  1,      4,      4,2,19840507,1435, 24.1000,-155.3500, 4361,    106.5,  20.5245,  35.2040,2,  35.1980,2,   -999.0,5, 20.5045,    225.7,2,     0.59,2,     0.00,2,     0.00,2,     0.11,2, -999.000,9,-999.000,  -999.0,-999.000
    31WTMARAII,   P16,     9,  1,      5,      5,2,19840507,1435, 24.1000,-155.3500, 4361,    156.9,  18.3416,  34.9766,2,  34.9710,2,   -999.0,5, 18.3143,    228.7,2,     1.76,2,     0.09,2,     0.06,2,     0.17,2, -999.000,9,-999.000,  -999.0,-999.000
    31WTMARAII,   P16,     9,  1,      6,      6,2,19840507,1435, 24.1000,-155.3500, 4361,    207.7,  15.3231,  34.6239,2,  34.6160,2,   -999.0,5, 15.2912,    218.6,2,     3.62,2,     4.64,2,     0.02,2,     0.45,2, -999.000,9,-999.000,  -999.0,-999.000
    31WTMARAII,   P16,     9,  1,      7,      7,2,19840507,1435, 24.1000,-155.3500, 4361,    308.4,  11.8687,  34.2856,2,  34.2870,2,   -999.0,5, 11.8288,    229.8,2,     9.58,2,     9.97,2,     0.01,2,     0.77,2, -999.000,9,-999.000,  -999.0,-999.000
    31WTMARAII,   P16,     9,  1,      8,      8,2,19840507,1435, 24.1000,-155.3500, 4361,    409.6,   9.6354,  34.1343,2,  34.1330,2,   -999.0,5,  9.5889,    206.2,2,    19.46,2,    16.72,2,     0.01,2,     1.18,2, -999.000,9,-999.000,  -999.0,-999.000
    31WTMARAII,   P16,     9,  1,      9,      9,2,19840507,1435, 24.1000,-155.3500, 4361,    510.6,   7.1269,  34.0194,2,  34.0230,2,   -999.0,5,  7.0783,    144.9,2,    42.54,2,    27.28,2,     0.01,2,  -999.00,9, -999.000,9,-999.000,  -999.0,-999.000
    31WTMARAII,   P16,     9,  1,     10,     10,2,19840507,1435, 24.1000,-155.3500, 4361,    611.1,   5.6309,  34.0671,2,  34.0700,2,   -999.0,5,  5.5791,     73.1,2,    70.01,2,    36.47,2,     0.01,2,     2.56,2, -999.000,9,-999.000,  -999.0,-999.000
    31WTMARAII,   P16,     9,  1,     11,     11,2,19840507,1435, 24.1000,-155.3500, 4361,    712.1,   4.7954,  34.1541,2,  34.1550,2,   -999.0,5,  4.7391,     43.0,2,    88.59,2,    40.38,2,     0.01,2,     2.86,2, -999.000,9,   4.796,   712.0,-999.000
    31WTMARAII,   P16,     9,  1,     12,     12,2,19840507,1435, 24.1000,-155.3500, 4361,    811.5,   4.2975,  34.3043,2,  34.3050,2,   -999.0,5,  4.2356,     28.7,2,   103.64,2,    42.33,2,     0.01,2,     3.00,2, -999.000,9,-999.000,  -999.0,-999.000
    31WTMARAII,   P16,     9,  1,     13,     13,2,19840507,1435, 24.1000,-155.3500, 4361,    912.1,   4.0293,  34.3902,2,  34.3910,2,   -999.0,5,  3.9608,     34.8,2,   112.62,2,    42.43,2,     0.00,2,     3.02,2, -999.000,9,-999.000,  -999.0,-999.000
    31WTMARAII,   P16,     9,  1,     14,     14,2,19840507,1435, 24.1000,-155.3500, 4361,   1013.5,   3.7707,  34.4405,2,  34.4430,2,   -999.0,5,  3.6958,     40.9,2,   117.31,2,    42.23,2,     0.00,2,     3.00,2, -999.000,9,-999.000,  -999.0,-999.000
    31WTMARAII,   P16,     9,  1,     15,     15,2,19840507,1435, 24.1000,-155.3500, 4361,   1267.4,   3.2171,  34.5256,2,  34.5260,2,   -999.0,5,  3.1262,     58.7,2,   127.57,2,    41.64,2,     0.00,2,  -999.00,9, -999.000,9,   3.216,  1271.0,-999.000
    31WTMARAII,   P16,     9,  1,     16,     16,2,19840507,1435, 24.1000,-155.3500, 4361,   1518.2,   2.7578,  34.5676,2,  34.5700,2,   -999.0,5,  2.6513,     67.8,2,   138.51,2,    41.25,2,     0.00,2,  -999.00,9, -999.000,9,-999.000,  -999.0,-999.000
    31WTMARAII,   P16,     9,  1,     17,     17,2,19840507,1435, 24.1000,-155.3500, 4361,   1771.9,   2.3642,  34.5936,2,  34.5950,2,   -999.0,5,  2.2417,     76.5,2,   147.80,2,    40.76,2,     0.02,2,  -999.00,9, -999.000,9,-999.000,  -999.0,-999.000
    31WTMARAII,   P16,     9,  1,     18,     18,2,19840507,1435, 24.1000,-155.3500, 4361,   2025.3,   2.0750,  34.6138,2,  34.6150,2,   -999.0,5,  1.9353,     88.2,2,   156.39,2,    40.17,2,     0.00,2,  -999.00,9, -999.000,9,-999.000,  -999.0,-999.000
    31WTMARAII,   P16,     9,  1,     19,     19,2,19840507,1435, 24.1000,-155.3500, 4361,   2534.3,   1.6956,  34.6473,2,  34.6480,2,   -999.0,5,  1.5180,   -999.0,9,   162.65,2,    38.90,2,     0.01,2,  -999.00,9, -999.000,9,   1.706,  2537.0,-999.000
    31WTMARAII,   P16,     9,  1,     20,     20,2,19840507,1435, 24.1000,-155.3500, 4361,   3043.7,   1.5111,  34.6692,2,  34.6710,2,   -999.0,5,  1.2899,    132.1,2,   161.08,2,    37.53,2,     0.00,2,     2.56,2, -999.000,9,-999.000,  -999.0,-999.000
    31WTMARAII,   P16,     9,  1,     21,     21,2,19840507,1435, 24.1000,-155.3500, 4361,   3553.7,   1.4618,  34.6789,2,  34.6800,2,   -999.0,5,  1.1911,    143.8,2,   158.05,2,    36.75,2,     0.00,2,     2.50,2, -999.000,9,-999.000,  -999.0,-999.000
    31WTMARAII,   P16,     9,  1,     22,     22,2,19840507,1435, 24.1000,-155.3500, 4361,   4063.9,   1.4605,  34.6848,2,  34.6850,2,   -999.0,5,  1.1357,    147.3,2,  -999.00,9,    36.26,2,     0.02,2,  -999.00,9, -999.000,9,-999.000,  -999.0,-999.000
    31WTMARAII,   P16,     9,  1,     23,     23,2,19840507,1435, 24.1000,-155.3500, 4361,   4431.6,   1.4924,  34.6862,2,  34.6860,2,   -999.0,5,  1.1255,    152.5,2,   154.04,2,    36.16,2,     0.01,2,     2.41,2, -999.000,9,   1.492,  4433.0,-999.000
    31WTMARAII,   P16,    10,  1,      7,      7,2,19840507,2026, 24.4667,-155.0600, 3140,      1.8,  24.1870,  35.3588,2,  35.3580,2,   -999.0,5, 24.1866,    214.6,2,     1.17,2,     0.00,2,     0.00,2,     0.11,2,    2.900,2,  24.189,  -999.0,   0.110
    31WTMARAII,   P16,    10,  1,      8,      8,2,19840507,2026, 24.4667,-155.0600, 3140,     53.5,  21.9686,  35.3284,2,  35.3160,2,   -999.0,5, 21.9580,    226.7,2,     1.47,2,     0.00,2,     0.00,2,     0.08,2, -999.000,9,-999.000,  -999.0,-999.000
    31WTMARAII,   P16,    10,  1,      9,      9,2,19840507,2026, 24.4667,-155.0600, 3140,    103.9,  19.5029,  35.0997,2,  35.1210,2,   -999.0,5, 19.4841,    229.2,2,     1.76,2,     0.00,2,     0.00,2,  -999.00,9, -999.000,9,-999.000,  -999.0,-999.000
    31WTMARAII,   P16,    10,  1,     10,     10,2,19840507,2026, 24.4667,-155.0600, 3140,    137.4,  18.3221,  34.9739,2,  34.9740,2,   -999.0,5, 18.2983,    223.9,2,     2.05,2,     0.63,2,     0.13,2,     0.19,2, -999.000,9,-999.000,  -999.0,-999.000
    31WTMARAII,   P16,    10,  1,     11,     11,2,19840507,2026, 24.4667,-155.0600, 3140,    170.7,  16.7323,  34.7562,2,  34.7590,2,   -999.0,5, 16.7045,    201.6,2,     3.23,2,     4.15,2,     0.01,2,     0.42,2, -999.000,9,  16.742,   170.0,-999.000
    31WTMARAII,   P16,    10,  1,     12,     12,2,19840507,2026, 24.4667,-155.0600, 3140,    204.6,  15.3441,  34.5744,2,  34.5690,2,   -999.0,5, 15.3127,    202.1,2,     4.40,2,     5.72,2,     0.01,2,     0.53,2, -999.000,9,-999.000,  -999.0,-999.000
    31WTMARAII,   P16,    10,  1,     13,     13,2,19840507,2026, 24.4667,-155.0600, 3140,    255.6,  12.9011,  34.2819,2,  34.2880,2,   -999.0,5, 12.8663,    198.1,2,     8.51,2,     9.75,2,     0.00,2,     0.77,2, -999.000,9,-999.000,  -999.0,-999.000
    31WTMARAII,   P16,    10,  1,     14,     14,2,19840507,2026, 24.4667,-155.0600, 3140,    305.8,  11.2846,  34.1702,2,  34.1700,2,   -999.0,5, 11.2464,    195.0,2,    13.30,2,    13.59,2,     0.00,2,     1.00,2, -999.000,9,-999.000,  -999.0,-999.000
    31WTMARAII,   P16,    10,  1,     15,     15,2,19840507,2026, 24.4667,-155.0600, 3140,    406.7,   9.0274,  34.0818,2,  34.0820,2,   -999.0,5,  8.9832,    175.3,2,    25.33,2,    20.63,2,     0.00,2,  -999.00,9, -999.000,9,   9.026,   407.0,-999.000
    31WTMARAII,   P16,    10,  1,     16,     16,2,19840507,2026, 24.4667,-155.0600, 3140,    507.6,   6.8834,  34.0435,2,  34.0450,2,   -999.0,5,  6.8360,    112.7,2,    48.80,2,    30.41,2,     0.00,2,  -999.00,9, -999.000,9,-999.000,  -999.0,-999.000
    31WTMARAII,   P16,    10,  1,     17,     17,2,19840507,2026, 24.4667,-155.0600, 3140,    608.6,   5.6516,  34.1248,2,  34.1250,2,   -999.0,5,  5.5999,     48.7,2,    71.77,2,    38.04,2,     0.01,2,  -999.00,9, -999.000,9,-999.000,  -999.0,-999.000
    31WTMARAII,   P16,    10,  1,     18,     18,2,19840507,2026, 24.4667,-155.0600, 3140,    709.4,   4.9231,  34.1909,2,  34.1930,2,   -999.0,5,  4.8662,     31.7,2,    88.10,2,    40.97,2,     0.00,2,  -999.00,9, -999.000,9,-999.000,  -999.0,-999.000
    31WTMARAII,   P16,    10,  1,     19,     19,2,19840507,2026, 24.4667,-155.0600, 3140,    810.3,   4.3996,  34.2956,2,  34.2950,2,   -999.0,5,  4.3372,     21.3,2,   101.29,2,    42.63,2,     0.00,2,  -999.00,9, -999.000,9,   4.403,   799.0,-999.000
    31WTMARAII,   P16,    10,  1,     20,     20,2,19840507,2026, 24.4667,-155.0600, 3140,    911.7,   4.0849,  34.3837,2,  34.3820,2,   -999.0,5,  4.0161,     27.4,2,   108.22,2,    42.82,2,     0.00,2,     3.03,2, -999.000,9,-999.000,  -999.0,-999.000
    31WTMARAII,   P16,    10,  1,     21,     21,2,19840507,2026, 24.4667,-155.0600, 3140,   1012.8,   3.8778,  34.4510,2,  34.4510,2,   -999.0,5,  3.8021,     40.4,2,   112.72,2,    42.23,2,     0.00,2,     2.97,2, -999.000,9,-999.000,  -999.0,-999.000
    31WTMARAII,   P16,    10,  1,     22,     22,2,19840507,2026, 24.4667,-155.0600, 3140,   1265.5,   3.2476,  34.5386,2,  34.5380,2,   -999.0,5,  3.1566,     56.5,2,   126.49,2,    41.74,2,     0.01,2,  -999.00,9, -999.000,9,-999.000,  -999.0,-999.000
    31WTMARAII,   P16,    10,  1,     23,     23,2,19840507,2026, 24.4667,-155.0600, 3140,   1515.8,   2.7802,  34.5698,2,  34.5680,2,   -999.0,5,  2.6736,     67.4,2,   136.46,2,    41.25,2,     0.00,2,     2.84,2, -999.000,9,   2.775,  1515.0,-999.000