BOTTLE,20220816CCHSIOAMB
EXPOCODE,SECT_ID,STNNBR,CASTNO,SAMPNO,BTLNBR,BTLNBR_FLAG_W,DATE,TIME,LATITUDE,LONGITUDE,DEPTH,CTDPRS,CTDTMP,CTDSAL,CTDSAL_FLAG_W,SALNTY,SALNTY_FLAG_W,CTDOXY,CTDOXY_FLAG_W,THETA,OXYGEN,OXYGEN_FLAG_W,SILCAT,SILCAT_FLAG_W,NITRAT,NITRAT_FLAG_W,NITRIT,NITRIT_FLAG_W,PHSPHT,PHSPHT_FLAG_W,TRITUM,TRITUM_FLAG_W,REVTMP,REVPRS,TRITER
,,,,,,,,,,,,DBAR,ITS-90,PSS-78,,PSS-78,,UMOL/KG,,DEG C,UMOL/KG,,UMOL/KG,,UMOL/KG,,UMOL/KG,,UMOL/KG,,TU,,,DBAR,TU
    31WTMARAII,   P16,    79,  1,      8,      8,2,19840529,0412, 50.7067,-152.0117, 4994,     53.2,   4.8137,  32.7223,2,  32.7250,2,   -999.0,5,  4.8098,    317.8,2,    27.80,2,    16.25,2,     0.12,2,     1.47,2, -999.000,9,-999.000,  -999.0,-999.000
    31WTMARAII,   P16,    79,  1,      9,      9,2,19840529,0412, 50.7067,-152.0117, 4994,    105.4,   3.7040,  33.6162,2,  33.6130,2,   -999.0,5,  3.6972,    147.0,2,    63.19,2,    34.82,2,     0.02,2,     2.48,2, -999.000,9,-999.000,  -999.0,-999.000
    31WTMARAII,   P16,    79,  1,     10,     10,2,19840529,0412, 50.7067,-152.0117, 4994,    138.0,   3.5575,  33.7501,2,  33.7550,2,   -999.0,5,  3.5486,    100.5,2,    76.98,2,    38.93,2,     0.01,2,     2.74,2, -999.000,9,-999.000,  -999.0,-999.000
    31WTMARAII,   P16,    79,  1,     11,     11,2,19840529,0412, 50.7067,-152.0117, 4994,    171.1,   3.5823,  33.8131,2,  33.8150,2,   -999.0,5,  3.5712,     78.7,2,    82.25,2,    40.78,2,     0.01,2,     2.82,2, -999.000,9,-999.000,  -999.0,-999.000
    31WTMARAII,   P16,    79,  1,     12,     12,2,19840529,0412, 50.7067,-152.0117, 4994,    202.6,   3.6662,  33.8851,2,  33.8850,2,   -999.0,5,  3.6529,     56.5,2,    89.49,2,    41.86,2,     0.01,2,     2.89,2, -999.000,9,-999.000,  -999.0,-999.000
    31WTMARAII,   P16,    79,  1,     13,     13,2,19840529,0412, 50.7067,-152.0117, 4994,    254.4,   3.6782,  33.9500,2,  33.9500,2,   -999.0,5,  3.6613,     42.6,2,    97.01,2,    43.03,2,     0.01,2,     2.97,2, -999.000,9,-999.000,  -999.0,-999.000
    31WTMARAII,   P16,    79,  1,     14,     14,2,19840529,0412, 50.7067,-152.0117, 4994,    306.4,   3.6779,  34.0017,2,  34.0040,2,   -999.0,5,  3.6574,     38.7,2,   101.51,2,    43.03,2,     0.01,2,     2.99,2, -999.000,9,-999.000,  -999.0,-999.000
    31WTMARAII,   P16,    79,  1,     15,     15,2,19840529,0412, 50.7067,-152.0117, 4994,    407.4,   3.6036,  34.0980,2,  34.0970,2,   -999.0,5,  3.5761,     35.7,2,   109.52,2,    42.73,2,     0.01,2,     2.95,2, -999.000,9,   3.601,   405.0,-999.000
    31WTMARAII,   P16,    79,  1,     16,     16,2,19840529,0412, 50.7067,-152.0117, 4994,    511.6,   3.4690,  34.1729,2,  34.1740,2,   -999.0,5,  3.4346,     30.4,2,   118.70,2,    42.92,2,     0.00,2,     2.97,2, -999.000,9,-999.000,  -999.0,-999.000
    31WTMARAII,   P16,    79,  1,     17,     17,2,19840529,0412, 50.7067,-152.0117, 4994,    611.9,   3.3561,  34.2383,2,  34.2380,2,   -999.0,5,  3.3150,     28.3,2,   125.54,2,    42.92,2,     0.00,2,     2.98,2, -999.000,9,-999.000,  -999.0,-999.000
    31WTMARAII,   P16,    79,  1,     18,     18,2,19840529,0412, 50.7067,-152.0117, 4994,    712.9,   3.1562,  34.3012,2,  34.3010,2,   -999.0,5,  3.1088,     24.3,2,   135.02,2,    43.21,2,     0.00,2,     3.01,2, -999.000,9,-999.000,  -999.0,-999.000
    31WTMARAII,   P16,    79,  1,     19,     19,2,19840529,0412, 50.7067,-152.0117, 4994,    813.4,   2.9897,  34.3453,2,  34.3450,2,   -999.0,5,  2.9360,     23.5,2,   141.27,2,    43.51,2,     0.00,2,     3.03,2, -999.000,9,   2.992,   811.0,-999.000
    31WTMARAII,   P16,    79,  1,     20,     20,2,19840529,0412, 50.7067,-152.0117, 4994,    912.8,   2.8377,  34.3832,2,  34.3830,2,   -999.0,5,  2.7777,     20.9,2,   147.92,2,    43.70,2,     0.00,2,     3.04,2, -999.000,9,-999.000,  -999.0,-999.000
    31WTMARAII,   P16,    79,  1,     21,     21,2,19840529,0412, 50.7067,-152.0117, 4994,   1001.1,   2.7254,  34.4090,2,  34.4100,2,   -999.0,5,  2.6597,     20.4,2,   152.61,2,    43.80,2,     0.00,2,     3.04,2, -999.000,9,-999.000,  -999.0,-999.000
    31WTMARAII,   P16,    79,  1,     22,     22,2,19840529,0412, 50.7067,-152.0117, 4994,   1255.8,   2.4637,  34.4699,2,  34.4700,2,   -999.0,5,  2.3812,     21.3,2,   162.08,2,    43.99,2,     0.00,2,  -999.00,9, -999.000,9,-999.000,  -999.0,-999.000
    31WTMARAII,   P16,    79,  1,     23,     23,2,19840529,0412, 50.7067,-152.0117, 4994,   1518.9,   2.2406,  34.5202,2,  34.5190,2,   -999.0,5,  2.1402,     30.4,2,   168.92,2,    43.70,2,     0.00,2,  -999.00,9, -999.000,9,   2.239,  1514.0,-999.000
    31WTMARAII,   P16,    80,  1,      1,      1,2,19840529,1010, 51.1617,-152.0000, 4788,      1.0,   6.5840,-999.0000,9,  32.7220,2,   -999.0,5,-999.0000,   -999.0,9,    28.19,2,  -999.00,9,     0.14,2,     1.38,2, -999.000,9,   6.582,     1.0,-999.000
    31WTMARAII,   P16,    80,  1,      2,      2,2,19840529,1010, 51.1617,-152.0000, 4788,     21.4,   6.1198,  32.7208,2,  32.7260,2,   -999.0,5,  6.1180,    329.1,2,    28.58,2,  -999.00,9,     0.14,2,     1.38,2, -999.000,9,-999.000,  -999.0,-999.000
    31WTMARAII,   P16,    80,  1,      3,      3,2,19840529,1010, 51.1617,-152.0000, 4788,     52.8,   4.7691,  32.7484,2,  32.7530,2,   -999.0,5,  4.7653,    319.1,2,    29.95,2,  -999.00,9,     0.12,2,     1.51,2, -999.000,9,-999.000,  -999.0,-999.000
    31WTMARAII,   P16,    80,  1,      4,      4,2,19840529,1010, 51.1617,-152.0000, 4788,    102.3,   3.9583,  33.4692,2,  33.4700,2,   -999.0,5,  3.9515,    163.1,2,    58.40,2,  -999.00,9,     0.04,2,     2.40,2, -999.000,9,-999.000,  -999.0,-999.000
    31WTMARAII,   P16,    80,  1,      5,      5,2,19840529,1010, 51.1617,-152.0000, 4788,    148.3,   3.7274,  33.7417,2,  33.7450,2,   -999.0,5,  3.7176,    104.8,2,    73.75,2,  -999.00,9,     0.01,2,     2.75,2, -999.000,9,-999.000,  -999.0,-999.000
    31WTMARAII,   P16,    80,  1,      6,      6,2,19840529,1010, 51.1617,-152.0000, 4788,    199.5,   3.6684,  33.8388,2,  33.8410,2,   -999.0,5,  3.6553,     67.0,2,    85.97,2,  -999.00,9,     0.00,2,     2.90,2, -999.000,9,-999.000,  -999.0,-999.000
    31WTMARAII,   P16,    80,  1,      7,      7,2,19840529,1010, 51.1617,-152.0000, 4788,    299.8,   3.6904,  33.9826,2,  33.9850,2,   -999.0,5,  3.6703,     42.2,2,   100.14,2,  -999.00,9,     0.00,2,     3.00,2, -999.000,9,-999.000,  -999.0,-999.000
    31WTMARAII,   P16,    80,  1,      8,      8,2,19840529,1010, 51.1617,-152.0000, 4788,    396.3,   3.6184,  34.0817,2,  34.0840,2,   -999.0,5,  3.5917,     35.7,2,   110.40,2,  -999.00,9,     0.00,2,     3.01,2, -999.000,9,-999.000,  -999.0,-999.000
    31WTMARAII,   P16,    80,  1,      9,      9,2,19840529,1010, 51.1617,-152.0000, 4788,    501.8,   3.4664,  34.1680,2,  34.1710,2,   -999.0,5,  3.4328,     30.9,2,   121.25,2,  -999.00,9,     0.00,2,     3.01,2, -999.000,9,-999.000,  -999.0,-999.000
    31WTMARAII,   P16,    80,  1,     10,     10,2,19840529,1010, 51.1617,-152.0000, 4788,    600.2,   3.3195,  34.2353,2,  34.2380,2,   -999.0,5,  3.2794,     30.0,2,   128.18,2,  -999.00,9,     0.00,2,     3.02,2, -999.000,9,-999.000,  -999.0,-999.000
    31WTMARAII,   P16,    80,  1,     11,     11,2,19840529,1010, 51.1617,-152.0000, 4788,    699.8,   3.1915,  34.2874,2,  34.2910,2,   -999.0,5,  3.1448,     27.4,2,   133.95,2,  -999.00,9,     0.00,2,     3.02,2, -999.000,9,-999.000,  -999.0,-999.000
    31WTMARAII,   P16,    80,  1,     12,     12,2,19840529,1010, 51.1617,-152.0000, 4788,    797.3,   3.0415,  34.3290,2,  34.3330,2,   -999.0,5,  2.9887,     24.3,2,   140.20,2,  -999.00,9,     0.00,2,     3.05,2, -999.000,9,-999.000,  -999.0,-999.000
    31WTMARAII,   P16,    80,  1,     13,     13,2,19840529,1010, 51.1617,-152.0000, 4788,    895.4,   2.9026,  34.3664,2,  34.3710,2,   -999.0,5,  2.8434,     20.4,2,   146.65,2,  -999.00,9,     0.00,2,     3.09,2, -999.000,9,-999.000,  -999.0,-999.000
    31WTMARAII,   P16,    80,  1,     14,     14,2,19840529,1010, 51.1617,-152.0000, 4788,   1025.8,   2.7056,  34.4122,2,  34.4160,2,   -999.0,5,  2.6383,     18.7,2,   155.93,2,  -999.00,9,     0.00,2,     3.09,2, -999.000,9,-999.000,  -999.0,-999.000
    31WTMARAII,   P16,    80,  1,     15,     15,2,19840529,1010, 51.1617,-152.0000, 4788,   1252.9,   2.4527,  34.4681,2,  34.4720,2,   -999.0,5,  2.3706,     22.6,2,   162.86,2,  -999.00,9,     0.00,2,     3.07,2, -999.000,9,   2.453,  1252.0,-999.000
    31WTMARAII,   P16,    80,  1,     16,     16,2,19840529,1010, 51.1617,-152.0000, 4788,   1520.8,   2.2298,  34.5182,2,  34.5220,2,   -999.0,5,  2.1294,     33.5,2,   169.31,2,  -999.00,9,     0.00,2,     3.04,2, -999.000,9,-999.000,  -999.0,-999.000
    31WTMARAII,   P16,    80,  1,     17,     17,2,19840529,1010, 51.1617,-152.0000, 4788,   1750.4,   2.0748,  34.5529,2,  34.5570,2,   -999.0,5,  1.9581,     42.6,2,   172.14,2,  -999.00,9,     0.00,2,     2.99,2, -999.000,9,-999.000,  -999.0,-999.000
    31WTMARAII,   P16,    80,  1,     18,     18,2,19840529,1010, 51.1617,-152.0000, 4788,   2054.5,   1.9059,  34.5897,2,  34.5930,2,   -999.0,5,  1.7664,     57.4,2,   177.12,2,  -999.00,9,     0.00,2,     2.93,2, -999.000,9,-999.000,  -999.0,-999.000
    31WTMARAII,   P16,    80,  1,     19,     19,2,19840529,1010, 51.1617,-152.0000, 4788,   2540.0,   1.7049,  34.6299,2,  34.6320,2,   -999.0,5,  1.5267,     85.6,2,   177.11,2,  -999.00,9,     0.00,2,     2.82,2, -999.000,9,   1.712,  2542.0,-999.000
    31WTMARAII,   P16,    80,  1,     20,     20,2,19840529,1010, 51.1617,-152.0000, 4788,   3057.4,   1.5680,  34.6568,2,  34.6590,2,   -999.0,5,  1.3443,    113.4,2,   174.47,2,  -999.00,9,     0.00,2,     2.68,2, -999.000,9,-999.000,  -999.0,-999.000
    31WTMARAII,   P16,    80,  1,     21,     21,2,19840529,1010, 51.1617,-152.0000, 4788,   3555.1,   1.5010,  34.6724,2,  34.6740,2,   -999.0,5,  1.2292,    132.1,2,  -999.00,9,  -999.00,9,  -999.00,9,  -999.00,9, -999.000,9,-999.000,  -999.0,-999.000
    31WTMARAII,   P16,    80,  1,     22,     22,2,19840529,1010, 51.1617,-152.0000, 4788,   4058.0,   1.4940,  34.6808,2,  34.6810,2,   -999.0,5,  1.1689,    139.9,2,   168.70,2,  -999.00,9,     0.00,2,  -999.00,9, -999.000,9,-999.000,  -999.0,-999.000
    31WTMARAII,   P16,    80,  1,     23,     23,2,19840529,1010, 51.1617,-152.0000, 4788,   4560.0,   1.5260,  34.6862,2,  34.6860,2,   -999.0,5,  1.1432,    144.3,2,   172.03,2,  -999.00,9,     0.00,2,  -999.00,9, -999.000,9,   1.528,  4559.0,-999.000
    31WTMARAII,   P16,    80,  1,     24,     24,2,19840529,1010, 51.1617,-152.0000, 4788,   4867.3,   1.5610,  34.6870,2,  34.6880,2,   -999.0,5,  1.1408,    146.9,2,   175.84,2,  -999.00,9,     0.00,2,     2.54,2, -999.000,9,-999.000,  -999.0,-999.000
    31WTMARAII,   P16,    81,  1,      7,      7,2,19840529,1640, 51.6817,-151.9900, 4704,      2.8,   6.3755,  32.7460,2,  32.7470,2,   -999.0,5,  6.3753,    323.1,2,    28.09,2,    14.88,2,     0.17,2,     1.41,2, -999.000,9,   6.351,  -999.0,-999.000
    31WTMARAII,   P16,    81,  1,      8,      8,2,19840529,1640, 51.6817,-151.9900, 4704,     11.1,   6.3499,  32.7455,2,  32.7470,2,   -999.0,5,  6.3490,    321.8,2,    28.09,2,    14.88,2,     0.17,2,     1.40,2, -999.000,9,-999.000,  -999.0,-999.000
    31WTMARAII,   P16,    81,  1,      9,      9,2,19840529,1640, 51.6817,-151.9900, 4704,     49.8,   4.6841,  32.7550,2,  32.7560,2,   -999.0,5,  4.6806,    322.6,2,    29.85,2,    16.25,2,     0.13,2,     1.48,2,    3.938,2,-999.000,  -999.0,   0.136
    31WTMARAII,   P16,    81,  1,     10,     10,2,19840529,1640, 51.6817,-151.9900, 4704,     99.8,   3.8167,  33.6662,2,  33.6640,2,   -999.0,5,  3.8101,    120.9,2,    68.67,2,    37.27,2,     0.01,2,     2.60,2, -999.000,9,-999.000,  -999.0,-999.000
    31WTMARAII,   P16,    81,  1,     11,     11,2,19840529,1640, 51.6817,-151.9900, 4704,    147.5,   3.6997,  33.8217,2,  33.8210,2,   -999.0,5,  3.6900,     70.9,2,    81.96,2,    41.86,2,     0.00,2,     2.86,2,    2.518,2,-999.000,  -999.0,   0.087
    31WTMARAII,   P16,    81,  1,     12,     12,2,19840529,1640, 51.6817,-151.9900, 4704,    200.4,   3.6826,  33.8990,2,  33.8990,2,   -999.0,5,  3.6694,     50.0,2,    89.88,2,    43.13,2,     0.00,2,     2.94,2, -999.000,9,-999.000,  -999.0,-999.000
    31WTMARAII,   P16,    81,  1,     13,     13,2,19840529,1640, 51.6817,-151.9900, 4704,    301.5,   3.6546,  34.0100,2,  34.0110,2,   -999.0,5,  3.6345,     36.5,2,   103.17,2,    43.91,2,     0.00,2,     3.00,2, -999.000,9,-999.000,  -999.0,-999.000
    31WTMARAII,   P16,    81,  1,     14,     14,2,19840529,1640, 51.6817,-151.9900, 4704,    400.0,   3.5918,  34.1016,2,  34.1020,2,   -999.0,5,  3.5649,     33.9,2,   112.06,2,    43.71,2,     0.00,2,     2.98,2, -999.000,9,-999.000,  -999.0,-999.000
    31WTMARAII,   P16,    81,  1,     15,     15,2,19840529,1640, 51.6817,-151.9900, 4704,    495.8,   3.4849,  34.1780,2,  34.1780,2,   -999.0,5,  3.4516,     30.4,2,   120.27,2,    43.71,2,     0.00,2,     2.98,2, -999.000,9,   3.480,   495.0,-999.000
    31WTMARAII,   P16,    81,  1,     16,     16,2,19840529,1640, 51.6817,-151.9900, 4704,    596.8,   3.2904,  34.2494,2,  34.2490,2,   -999.0,5,  3.2507,     25.6,2,   129.16,2,    44.10,2,     0.00,2,     3.02,2, -999.000,9,-999.000,  -999.0,-999.000
    31WTMARAII,   P16,    81,  1,     17,     17,2,19840529,1640, 51.6817,-151.9900, 4704,    696.8,   3.1547,  34.2948,2,  34.2950,2,   -999.0,5,  3.1085,     25.6,2,   135.61,2,    44.09,2,     0.00,2,     3.02,2,    0.270,2,-999.000,  -999.0,   0.050
    31WTMARAII,   P16,    81,  1,     18,     18,2,19840529,1640, 51.6817,-151.9900, 4704,    800.4,   3.0197,  34.3347,2,  34.3350,2,   -999.0,5,  2.9667,     23.5,2,   139.02,2,    44.19,2,     0.00,2,     3.04,2,    0.080,2,-999.000,  -999.0,   0.060
    31WTMARAII,   P16,    81,  1,     19,     19,2,19840529,1640, 51.6817,-151.9900, 4704,    906.4,   2.8846,  34.3717,2,  34.3710,2,   -999.0,5,  2.8248,     22.2,2,   141.95,2,    44.48,2,     0.00,2,     3.06,2,    0.110,2,   2.886,   906.0,   0.060
    31WTMARAII,   P16,    81,  1,     20,     20,2,19840529,1640, 51.6817,-151.9900, 4704,    985.9,   2.7692,  34.4017,2,  34.4020,2,   -999.0,5,  2.7044,     20.4,2,   149.18,2,    44.87,2,     0.00,2,     3.06,2, -999.000,9,-999.000,  -999.0,-999.000
    31WTMARAII,   P16,    81,  1,     21,     21,2,19840529,1640, 51.6817,-151.9900, 4704,   1247.2,   2.4697,  34.4701,2,  34.4690,2,   -999.0,5,  2.3879,     22.2,2,   161.10,2,    44.87,2,     0.00,2,     3.05,2, -999.000,9,-999.000,  -999.0,-999.000
    31WTMARAII,   P16,    81,  1,     22,     22,2,19840529,1640, 51.6817,-151.9900, 4704,   1247.2,   2.4699,  34.4703,2,  34.4700,2,   -999.0,5,  2.3880,     22.2,2,   161.49,2,    44.87,2,     0.00,2,  -999.00,9, -999.000,9,-999.000,  -999.0,-999.000
    31WTMARAII,   P16,    81,  1,     23,     23,2,19840529,1640, 51.6817,-151.9900, 4704,   1542.3,   2.2312,  34.5228,2,  34.5240,2,   -999.0,5,  2.1291,     32.6,2,   168.53,2,    44.38,2,     0.00,2,  -999.00,9, -999.000,9,   2.228,  1540.0,-999.000