BOTTLE,20220816CCHSIOAMB
EXPOCODE,SECT_ID,STNNBR,CASTNO,SAMPNO,BTLNBR,BTLNBR_FLAG_W,DATE,TIME,LATITUDE,LONGITUDE,DEPTH,CTDPRS,CTDTMP,CTDSAL,CTDSAL_FLAG_W,SALNTY,SALNTY_FLAG_W,CTDOXY,CTDOXY_FLAG_W,THETA,OXYGEN,OXYGEN_FLAG_W,SILCAT,SILCAT_FLAG_W,NITRAT,NITRAT_FLAG_W,NITRIT,NITRIT_FLAG_W,PHSPHT,PHSPHT_FLAG_W,TRITUM,TRITUM_FLAG_W,REVTMP,REVPRS,TRITER
,,,,,,,,,,,,DBAR,ITS-90,PSS-78,,PSS-78,,UMOL/KG,,DEG C,UMOL/KG,,UMOL/KG,,UMOL/KG,,UMOL/KG,,UMOL/KG,,TU,,,DBAR,TU
    31WTMARAII,   P16,    56,  1,      1,      1,2,19840522,0735, 40.6233,-151.9833, 4984,      1.0,   9.7890,-999.0000,9,  33.2730,2,   -999.0,5,-999.0000,   -999.0,9,     5.87,2,     5.72,2,     0.09,2,     0.69,2, -999.000,9,   9.787,     1.0,-999.000
    31WTMARAII,   P16,    56,  1,      2,      2,2,19840522,0735, 40.6233,-151.9833, 4984,     56.6,   9.7562,  33.2657,2,  33.2660,2,   -999.0,5,  9.7499,    290.0,2,     6.07,2,     5.82,2,     0.09,2,     0.71,2, -999.000,9,-999.000,  -999.0,-999.000
    31WTMARAII,   P16,    56,  1,      3,      3,2,19840522,0735, 40.6233,-151.9833, 4984,    107.2,   9.0078,  33.4981,2,  33.5140,2,   -999.0,5,  8.9965,    273.4,2,     6.95,2,     9.22,2,     0.02,2,     0.84,2, -999.000,9,-999.000,  -999.0,-999.000
    31WTMARAII,   P16,    56,  1,      4,      4,2,19840522,0735, 40.6233,-151.9833, 4984,    157.5,   8.9676,  33.9731,2,  33.9720,2,   -999.0,5,  8.9508,    252.4,2,    17.50,2,    13.10,2,     0.02,2,     1.01,2, -999.000,9,-999.000,  -999.0,-999.000
    31WTMARAII,   P16,    56,  1,      5,      5,2,19840522,0735, 40.6233,-151.9833, 4984,    207.6,   8.6074,  33.9639,2,  33.9660,2,   -999.0,5,  8.5858,    255.8,2,    18.78,2,    13.20,2,     0.02,2,     1.01,2, -999.000,9,-999.000,  -999.0,-999.000
    31WTMARAII,   P16,    56,  1,      6,      6,2,19840522,0735, 40.6233,-151.9833, 4984,    309.2,   7.4946,  34.0033,2,  34.0050,2,   -999.0,5,  7.4647,    195.8,2,    36.48,2,    22.30,2,     0.01,2,     1.59,2, -999.000,9,-999.000,  -999.0,-999.000
    31WTMARAII,   P16,    56,  1,      7,      7,2,19840522,0735, 40.6233,-151.9833, 4984,    409.3,   5.9129,  33.9511,2,  33.9540,2,   -999.0,5,  5.8781,    146.1,2,    56.62,2,    29.73,2,     0.01,2,     2.11,2, -999.000,9,-999.000,  -999.0,-999.000
    31WTMARAII,   P16,    56,  1,      8,      8,2,19840522,0735, 40.6233,-151.9833, 4984,    509.9,   4.9684,  33.9836,2,  33.9850,2,   -999.0,5,  4.9283,    103.5,2,    76.08,2,    35.11,2,     0.01,2,     2.50,2, -999.000,9,-999.000,  -999.0,-999.000
    31WTMARAII,   P16,    56,  1,      9,      9,2,19840522,0735, 40.6233,-151.9833, 4984,    611.1,   4.3547,  34.0608,2,  34.0620,2,   -999.0,5,  4.3090,     66.5,2,    94.07,2,    39.21,2,     0.00,2,     2.78,2, -999.000,9,-999.000,  -999.0,-999.000
    31WTMARAII,   P16,    56,  1,     10,     10,2,19840522,0735, 40.6233,-151.9833, 4984,    711.5,   3.9875,  34.1387,2,  34.1400,2,   -999.0,5,  3.9357,     42.6,2,   107.56,2,    41.46,2,     0.00,2,     2.92,2, -999.000,9,-999.000,  -999.0,-999.000
    31WTMARAII,   P16,    56,  1,     11,     11,2,19840522,0735, 40.6233,-151.9833, 4984,    812.2,   3.6511,  34.2132,2,  34.2150,2,   -999.0,5,  3.5934,     26.5,2,   119.68,2,    43.02,2,     0.00,2,     3.01,2, -999.000,9,-999.000,  -999.0,-999.000
    31WTMARAII,   P16,    56,  1,     12,     12,2,19840522,0735, 40.6233,-151.9833, 4984,    910.5,   3.3961,  34.2715,2,  34.2740,2,   -999.0,5,  3.3324,     18.7,2,   129.25,2,    43.80,2,     0.00,2,     3.06,2, -999.000,9,-999.000,  -999.0,-999.000
    31WTMARAII,   P16,    56,  1,     13,     13,2,19840522,0735, 40.6233,-151.9833, 4984,   1009.0,   3.1866,  34.3165,2,  34.3190,2,   -999.0,5,  3.1169,     17.0,2,   137.36,2,    44.09,2,     0.00,2,     3.13,2, -999.000,9,-999.000,  -999.0,-999.000
    31WTMARAII,   P16,    56,  1,     14,     14,2,19840522,0735, 40.6233,-151.9833, 4984,   1251.9,   2.7250,  34.4212,2,  34.4230,2,   -999.0,5,  2.6404,     12.6,2,   155.83,2,    44.77,2,     0.00,2,     3.15,2, -999.000,9,-999.000,  -999.0,-999.000
    31WTMARAII,   P16,    56,  1,     15,     15,2,19840522,0735, 40.6233,-151.9833, 4984,   1510.2,   2.4010,  34.4933,2,  34.4950,2,   -999.0,5,  2.2995,     18.3,2,   166.97,2,    44.77,2,     0.00,2,     3.12,2, -999.000,9,   2.402,  1517.0,-999.000
    31WTMARAII,   P16,    56,  1,     16,     16,2,19840522,0735, 40.6233,-151.9833, 4984,   1768.1,   2.1304,  34.5542,2,  34.5560,2,   -999.0,5,  2.0115,     36.5,2,   173.31,2,    43.60,2,     0.00,2,     3.03,2, -999.000,9,-999.000,  -999.0,-999.000
    31WTMARAII,   P16,    56,  1,     17,     17,2,19840522,0735, 40.6233,-151.9833, 4984,   2011.0,   1.9588,  34.5906,2,  34.5930,2,   -999.0,5,  1.8222,     53.5,2,   176.53,2,    42.52,2,     0.00,2,     2.95,2, -999.000,9,-999.000,  -999.0,-999.000
    31WTMARAII,   P16,    56,  1,     18,     18,2,19840522,0735, 40.6233,-151.9833, 4984,   2257.9,   1.8160,  34.6159,2,  34.6180,2,   -999.0,5,  1.6606,     70.4,2,   177.41,2,    41.64,2,     0.00,2,     2.88,2, -999.000,9,-999.000,  -999.0,-999.000
    31WTMARAII,   P16,    56,  1,     19,     19,2,19840522,0735, 40.6233,-151.9833, 4984,   2504.6,   1.6868,  34.6357,2,  34.6380,2,   -999.0,5,  1.5121,     87.8,2,   178.09,2,    40.47,2,     0.00,2,     2.82,2, -999.000,9,   1.690,  2511.0,-999.000
    31WTMARAII,   P16,    56,  1,     20,     20,2,19840522,0735, 40.6233,-151.9833, 4984,   3025.9,   1.5392,  34.6601,2,  34.6620,2,   -999.0,5,  1.3191,    114.7,2,   173.69,2,    38.80,2,     0.00,2,     2.69,2, -999.000,9,-999.000,  -999.0,-999.000
    31WTMARAII,   P16,    56,  1,     21,     21,2,19840522,0735, 40.6233,-151.9833, 4984,   3581.3,   1.4785,  34.6757,2,  34.6780,2,   -999.0,5,  1.2046,    133.4,2,   171.44,2,    37.53,2,     0.00,2,     2.58,2, -999.000,9,-999.000,  -999.0,-999.000
    31WTMARAII,   P16,    56,  1,     22,     22,2,19840522,0735, 40.6233,-151.9833, 4984,   4076.2,   1.4840,  34.6829,2,  34.6830,2,   -999.0,5,  1.1572,    138.6,2,   173.49,2,    37.14,2,     0.00,2,  -999.00,9, -999.000,9,-999.000,  -999.0,-999.000
    31WTMARAII,   P16,    56,  1,     23,     23,2,19840522,0735, 40.6233,-151.9833, 4984,   4577.5,   1.5248,  34.6861,2,  34.6860,2,   -999.0,5,  1.1401,    142.1,2,   175.25,2,    37.53,2,     0.00,2,  -999.00,9, -999.000,9,   1.529,  4582.0,-999.000
    31WTMARAII,   P16,    56,  1,     24,     24,2,19840522,0735, 40.6233,-151.9833, 4984,   5105.9,   1.5865,  34.6870,2,  34.6870,2,   -999.0,5,  1.1363,    144.3,2,   174.57,2,    36.95,2,     0.01,2,     2.55,2, -999.000,9,-999.000,  -999.0,-999.000
    31WTMARAII,   P16,    57,  1,      1,      1,2,19840522,1426, 41.1133,-151.9917, 4951,      1.0,   9.9270,-999.0000,9,  33.3310,2,   -999.0,5,-999.0000,   -999.0,9,     4.60,2,     5.17,2,     0.09,2,     0.66,2, -999.000,9,   9.925,     1.0,-999.000
    31WTMARAII,   P16,    57,  1,      2,      2,2,19840522,1426, 41.1133,-151.9917, 4951,     54.9,   9.9789,  33.3471,2,  33.3400,2,   -999.0,5,  9.9727,    288.2,2,     4.11,2,     5.12,2,     0.09,2,     0.66,2, -999.000,9,-999.000,  -999.0,-999.000
    31WTMARAII,   P16,    57,  1,      3,      3,2,19840522,1426, 41.1133,-151.9917, 4951,    105.4,   9.7382,  33.5892,2,  33.5890,2,   -999.0,5,  9.7265,    273.8,2,     2.74,2,     6.79,2,     0.35,2,     0.70,2, -999.000,9,-999.000,  -999.0,-999.000
    31WTMARAII,   P16,    57,  1,      4,      4,2,19840522,1426, 41.1133,-151.9917, 4951,    155.3,   9.1294,  34.0216,2,  34.0230,2,   -999.0,5,  9.1127,    250.6,2,    17.60,2,    13.20,2,     0.01,2,     1.00,2, -999.000,9,-999.000,  -999.0,-999.000
    31WTMARAII,   P16,    57,  1,      5,      5,2,19840522,1426, 41.1133,-151.9917, 4951,    205.3,   8.6279,  33.9677,2,  33.9690,2,   -999.0,5,  8.6065,    256.3,2,    18.29,2,    13.20,2,     0.01,2,     1.01,2, -999.000,9,-999.000,  -999.0,-999.000
    31WTMARAII,   P16,    57,  1,      6,      6,2,19840522,1426, 41.1133,-151.9917, 4951,    256.0,   8.3101,  34.0269,2,  34.0290,2,   -999.0,5,  8.2839,    221.0,2,    27.09,2,    18.09,2,     0.01,2,     1.31,2, -999.000,9,-999.000,  -999.0,-999.000
    31WTMARAII,   P16,    57,  1,      7,      7,2,19840522,1426, 41.1133,-151.9917, 4951,    306.5,   7.7340,  34.0189,2,  34.0200,2,   -999.0,5,  7.7039,    201.0,2,    34.23,2,    21.51,2,     0.00,2,     1.52,2, -999.000,9,-999.000,  -999.0,-999.000
    31WTMARAII,   P16,    57,  1,      8,      8,2,19840522,1426, 41.1133,-151.9917, 4951,    407.5,   6.1358,  33.9560,2,  33.9600,2,   -999.0,5,  6.1004,    154.0,2,    52.22,2,    28.46,2,     0.00,2,     2.00,2, -999.000,9,-999.000,  -999.0,-999.000
    31WTMARAII,   P16,    57,  1,      9,      9,2,19840522,1426, 41.1133,-151.9917, 4951,    508.5,   5.1925,  33.9836,2,  33.9870,2,   -999.0,5,  5.1517,    106.1,2,    72.27,2,    34.62,2,     0.00,2,     2.44,2, -999.000,9,-999.000,  -999.0,-999.000
    31WTMARAII,   P16,    57,  1,     10,     10,2,19840522,1426, 41.1133,-151.9917, 4951,    609.1,   4.4465,  34.0531,2,  34.0550,2,   -999.0,5,  4.4006,     71.8,2,    90.45,2,    38.53,2,     0.00,2,     2.71,2, -999.000,9,-999.000,  -999.0,-999.000
    31WTMARAII,   P16,    57,  1,     11,     11,2,19840522,1426, 41.1133,-151.9917, 4951,    710.6,   4.0229,  34.1341,2,  34.1360,2,   -999.0,5,  3.9710,     47.0,2,   105.02,2,    40.97,2,     0.00,2,     2.86,2, -999.000,9,-999.000,  -999.0,-999.000
    31WTMARAII,   P16,    57,  1,     12,     12,2,19840522,1426, 41.1133,-151.9917, 4951,    811.2,   3.6648,  34.2117,2,  34.2140,2,   -999.0,5,  3.6071,     27.0,2,   118.50,2,    42.73,2,     0.00,2,     2.98,2, -999.000,9,-999.000,  -999.0,-999.000
    31WTMARAII,   P16,    57,  1,     13,     13,2,19840522,1426, 41.1133,-151.9917, 4951,    912.7,   3.3919,  34.2728,2,  34.2750,2,   -999.0,5,  3.3281,     17.4,2,   128.67,2,    43.51,2,     0.00,2,     3.05,2, -999.000,9,-999.000,  -999.0,-999.000
    31WTMARAII,   P16,    57,  1,     14,     14,2,19840522,1426, 41.1133,-151.9917, 4951,   1013.8,   3.1573,  34.3247,2,  34.3290,2,   -999.0,5,  3.0874,     14.8,2,   136.97,2,    44.09,2,     0.00,2,     3.10,2, -999.000,9,-999.000,  -999.0,-999.000
    31WTMARAII,   P16,    57,  1,     15,     15,2,19840522,1426, 41.1133,-151.9917, 4951,   1267.1,   2.7174,  34.4226,2,  34.4250,2,   -999.0,5,  2.6317,     13.0,2,   154.17,2,    44.58,2,     0.00,2,     3.12,2, -999.000,9,   2.723,  1275.0,-999.000
    31WTMARAII,   P16,    57,  1,     16,     16,2,19840522,1426, 41.1133,-151.9917, 4951,   1520.4,   2.3850,  34.5012,2,  34.5040,2,   -999.0,5,  2.2828,     20.0,2,   167.16,2,    44.38,2,     0.00,2,     3.07,2, -999.000,9,-999.000,  -999.0,-999.000
    31WTMARAII,   P16,    57,  1,     17,     17,2,19840522,1426, 41.1133,-151.9917, 4951,   1773.9,   2.1125,  34.5539,2,  34.5560,2,   -999.0,5,  1.9934,     36.9,2,   174.19,2,    43.50,2,     0.00,2,     2.99,2, -999.000,9,-999.000,  -999.0,-999.000
    31WTMARAII,   P16,    57,  1,     18,     18,2,19840522,1426, 41.1133,-151.9917, 4951,   2028.2,   1.9274,  34.5925,2,  34.5950,2,   -999.0,5,  1.7898,     55.6,2,   178.00,2,    42.32,2,     0.00,2,     2.93,2, -999.000,9,-999.000,  -999.0,-999.000
    31WTMARAII,   P16,    57,  1,     19,     19,2,19840522,1426, 41.1133,-151.9917, 4951,   2536.4,   1.6939,  34.6346,2,  34.6380,2,   -999.0,5,  1.5161,     86.5,2,   176.04,2,    40.37,2,     0.00,2,     2.80,2, -999.000,9,   1.698,  2542.0,-999.000
    31WTMARAII,   P16,    57,  1,     20,     20,2,19840522,1426, 41.1133,-151.9917, 4951,   3045.1,   1.5364,  34.6608,2,  34.6620,2,   -999.0,5,  1.3146,    114.7,2,   173.89,2,    38.71,2,     0.00,2,     2.65,2, -999.000,9,-999.000,  -999.0,-999.000
    31WTMARAII,   P16,    57,  1,     21,     21,2,19840522,1426, 41.1133,-151.9917, 4951,   3552.9,   1.4745,  34.6754,2,  34.6760,2,   -999.0,5,  1.2037,    133.4,2,   172.32,2,    37.44,2,     0.00,2,     2.56,2, -999.000,9,-999.000,  -999.0,-999.000
    31WTMARAII,   P16,    57,  1,     22,     22,2,19840522,1426, 41.1133,-151.9917, 4951,   4064.8,   1.4821,  34.6826,2,  34.6830,2,   -999.0,5,  1.1567,    139.9,2,   173.59,2,    36.95,2,     0.00,2,  -999.00,9, -999.000,9,-999.000,  -999.0,-999.000
    31WTMARAII,   P16,    57,  1,     23,     23,2,19840522,1426, 41.1133,-151.9917, 4951,   4574.0,   1.5236,  34.6862,2,  34.6860,2,   -999.0,5,  1.1393,    143.4,2,   175.84,2,    36.95,2,     0.00,2,  -999.00,9, -999.000,9,   1.523,  4573.0,-999.000
    31WTMARAII,   P16,    57,  1,     24,     24,2,19840522,1426, 41.1133,-151.9917, 4951,   5060.4,   1.5828,  34.6872,2,  34.6870,2,   -999.0,5,  1.1384,    143.4,2,   175.93,2,    36.85,2,     0.00,2,     2.51,2, -999.000,9,-999.000,  -999.0,-999.000
    31WTMARAII,   P16,    58,  1,      1,      1,2,19840523,0707, 41.9850,-152.0500, 5091,      1.0,   9.3200,-999.0000,9,  33.1310,2,   -999.0,5,-999.0000,   -999.0,9,    10.27,2,     7.21,2,     0.10,2,     0.82,2, -999.000,9,   9.318,     1.0,-999.000
    31WTMARAII,   P16,    58,  1,      2,      2,2,19840523,0707, 41.9850,-152.0500, 5091,     49.3,   9.1630,  33.1326,2,  33.1340,2,   -999.0,5,  9.1577,    295.7,2,    10.18,2,     7.33,2,     0.10,2,     0.82,2, -999.000,9,-999.000,  -999.0,-999.000
    31WTMARAII,   P16,    58,  1,      3,      3,2,19840523,0707, 41.9850,-152.0500, 5091,     88.7,   8.6276,  33.1504,2,  33.1340,2,   -999.0,5,  8.6185,    295.2,2,    11.16,2,     8.19,2,     0.15,2,     0.88,2, -999.000,9,-999.000,  -999.0,-999.000
    31WTMARAII,   P16,    58,  1,      4,      4,2,19840523,0707, 41.9850,-152.0500, 5091,    112.2,   8.9316,  33.5652,2,  33.5790,2,   -999.0,5,  8.9198,    271.2,2,     8.31,2,     9.75,2,     0.03,2,     0.89,2, -999.000,9,-999.000,  -999.0,-999.000
    31WTMARAII,   P16,    58,  1,      5,      5,2,19840523,0707, 41.9850,-152.0500, 5091,    152.8,   8.0162,  33.8380,2,  33.8420,2,   -999.0,5,  8.0010,    264.6,2,    18.58,2,    13.30,2,     0.01,2,     1.03,2, -999.000,9,-999.000,  -999.0,-999.000
    31WTMARAII,   P16,    58,  1,      6,      6,2,19840523,0707, 41.9850,-152.0500, 5091,    220.1,   8.1638,  33.9693,2,  33.9720,2,   -999.0,5,  8.1415,    240.6,2,    24.15,2,    16.14,2,     0.01,2,     1.18,2, -999.000,9,-999.000,  -999.0,-999.000
    31WTMARAII,   P16,    58,  1,      7,      7,2,19840523,0707, 41.9850,-152.0500, 5091,    295.7,   7.2713,  33.9804,2,  33.9860,2,   -999.0,5,  7.2432,    197.5,2,    38.24,2,    22.69,2,     0.00,2,     1.61,2, -999.000,9,-999.000,  -999.0,-999.000
    31WTMARAII,   P16,    58,  1,      8,      8,2,19840523,0707, 41.9850,-152.0500, 5091,    397.7,   5.7187,  33.9465,2,  33.9490,2,   -999.0,5,  5.6855,    141.4,2,    60.05,2,    30.51,2,     0.01,2,     2.17,2, -999.000,9,-999.000,  -999.0,-999.000
    31WTMARAII,   P16,    58,  1,      9,      9,2,19840523,0707, 41.9850,-152.0500, 5091,    503.5,   4.8340,  33.9999,2,  34.0010,2,   -999.0,5,  4.7950,     98.3,2,    80.97,2,    35.99,2,     0.00,2,     2.55,2, -999.000,9,-999.000,  -999.0,-999.000
    31WTMARAII,   P16,    58,  1,     10,     10,2,19840523,0707, 41.9850,-152.0500, 5091,    602.5,   4.3746,  34.0657,2,  34.0680,2,   -999.0,5,  4.3295,     67.4,2,    95.54,2,    39.21,2,     0.00,2,     2.76,2, -999.000,9,-999.000,  -999.0,-999.000
    31WTMARAII,   P16,    58,  1,     11,     11,2,19840523,0707, 41.9850,-152.0500, 5091,    702.0,   3.9571,  34.1473,2,  34.1500,2,   -999.0,5,  3.9062,     45.7,2,   110.20,2,    41.26,2,     0.00,2,     2.88,2, -999.000,9,-999.000,  -999.0,-999.000
    31WTMARAII,   P16,    58,  1,     12,     12,2,19840523,0707, 41.9850,-152.0500, 5091,    799.7,   3.6796,  34.2114,2,  34.2140,2,   -999.0,5,  3.6227,     32.2,2,   120.36,2,    42.73,2,     0.00,2,     2.97,2, -999.000,9,-999.000,  -999.0,-999.000
    31WTMARAII,   P16,    58,  1,     13,     13,2,19840523,0707, 41.9850,-152.0500, 5091,    907.2,   3.3810,  34.2751,2,  34.2780,2,   -999.0,5,  3.3177,     18.3,2,   132.28,2,    43.80,2,     0.00,2,     3.08,2, -999.000,9,-999.000,  -999.0,-999.000
    31WTMARAII,   P16,    58,  1,     14,     14,2,19840523,0707, 41.9850,-152.0500, 5091,   1007.3,   3.1781,  34.3201,2,  34.3230,2,   -999.0,5,  3.1085,     13.9,2,   141.57,2,    44.39,2,     0.00,2,     3.11,2, -999.000,9,-999.000,  -999.0,-999.000
    31WTMARAII,   P16,    58,  1,     15,     15,2,19840523,0707, 41.9850,-152.0500, 5091,   1257.0,   2.7293,  34.4207,2,  34.4250,2,   -999.0,5,  2.6442,     11.7,2,   157.79,2,    44.77,2,     0.00,2,     3.13,2, -999.000,9,   2.732,  1263.0,-999.000
    31WTMARAII,   P16,    58,  1,     16,     16,2,19840523,0707, 41.9850,-152.0500, 5091,   1506.4,   2.3767,  34.4980,2,  34.5010,2,   -999.0,5,  2.2757,     19.6,2,   167.55,2,    44.58,2,     0.00,2,     3.09,2, -999.000,9,-999.000,  -999.0,-999.000
    31WTMARAII,   P16,    58,  1,     17,     17,2,19840523,0707, 41.9850,-152.0500, 5091,   1763.4,   2.1210,  34.5522,2,  34.5560,2,   -999.0,5,  2.0025,     36.9,2,   173.80,2,    43.60,2,     0.00,2,     3.01,2, -999.000,9,-999.000,  -999.0,-999.000
    31WTMARAII,   P16,    58,  1,     18,     18,2,19840523,0707, 41.9850,-152.0500, 5091,   2019.5,   1.9314,  34.5903,2,  34.5940,2,   -999.0,5,  1.7945,     56.1,2,   178.88,2,    42.52,2,     0.00,2,     2.94,2, -999.000,9,-999.000,  -999.0,-999.000
    31WTMARAII,   P16,    58,  1,     19,     19,2,19840523,0707, 41.9850,-152.0500, 5091,   2524.4,   1.6912,  34.6335,2,  34.6370,2,   -999.0,5,  1.5146,     86.9,2,   178.97,2,    40.56,2,     0.00,2,     2.81,2, -999.000,9,   1.695,  2527.0,-999.000
    31WTMARAII,   P16,    58,  1,     20,     20,2,19840523,0707, 41.9850,-152.0500, 5091,   3033.6,   1.5370,  34.6592,2,  34.6620,2,   -999.0,5,  1.3163,    115.6,2,   174.28,2,    38.71,2,     0.00,2,     2.67,2, -999.000,9,-999.000,  -999.0,-999.000
    31WTMARAII,   P16,    58,  1,     21,     21,2,19840523,0707, 41.9850,-152.0500, 5091,   3536.4,   1.4804,  34.6734,2,  34.6760,2,   -999.0,5,  1.2111,    133.0,2,   171.34,2,    37.63,2,     0.00,2,     2.57,2, -999.000,9,-999.000,  -999.0,-999.000
    31WTMARAII,   P16,    58,  1,     22,     22,2,19840523,0707, 41.9850,-152.0500, 5091,   4025.2,   1.4800,  34.6809,2,  34.6840,2,   -999.0,5,  1.1590,    139.9,2,   172.51,2,    37.04,2,     0.00,2,  -999.00,9, -999.000,9,-999.000,  -999.0,-999.000
    31WTMARAII,   P16,    58,  1,     23,     23,2,19840523,0707, 41.9850,-152.0500, 5091,   4506.0,   1.5171,  34.6846,2,  34.6860,2,   -999.0,5,  1.1410,    144.7,2,   175.06,2,    36.95,2,     0.00,2,  -999.00,9, -999.000,9,   1.519,  4511.0,-999.000
    31WTMARAII,   P16,    58,  1,     24,     24,2,19840523,0707, 41.9850,-152.0500, 5091,   5192.3,   1.5958,  34.6860,2,  34.6870,2,   -999.0,5,  1.1347,    145.1,2,   175.93,2,    36.85,2,     0.02,2,     2.55,2, -999.000,9,-999.000,  -999.0,-999.000