BOTTLE,20220816CCHSIOAMB
EXPOCODE,SECT_ID,STNNBR,CASTNO,SAMPNO,BTLNBR,BTLNBR_FLAG_W,DATE,TIME,LATITUDE,LONGITUDE,DEPTH,CTDPRS,CTDTMP,CTDSAL,CTDSAL_FLAG_W,CTDOXY,CTDOXY_FLAG_W,THETA,SALNTY,SALNTY_FLAG_W,OXYGEN,OXYGEN_FLAG_W,SILCAT,SILCAT_FLAG_W,PHSPHT,PHSPHT_FLAG_W,NO2+NO3,NO2+NO3_FLAG_W
,,,,,,,,,,,,DBAR,ITS-90,PSS-78,,UMOL/KG,,ITS-90,PSS-78,,UMOL/KG,,UMOL/KG,,UMOL/KG,,UMOL/KG,
09FA693,P11S,      75,        1,       19,       20,2,19930715,1256,-43.2493,150.1010,3082,      1.9,  12.9060,  35.2060,2,   -999.0,5,  12.9057,  35.2083,2,    256.8,2,     2.58,2,     0.60,2,     6.66,2
09FA693,P11S,      75,        1,       18,       45,2,19930715,1256,-43.2493,150.1010,3082,     50.0,  12.8880,  35.2100,2,   -999.0,5,  12.8812,  35.2083,2,    255.2,2,     2.64,2,     0.63,2,     6.85,2
09FA693,P11S,      75,        1,       17,        1,2,19930715,1256,-43.2493,150.1010,3082,     98.8,  12.8430,  35.2110,2,   -999.0,5,  12.8295,  35.2114,2,    253.9,2,     2.44,2,     0.62,2,     7.00,2
09FA693,P11S,      75,        1,       16,       35,2,19930715,1256,-43.2493,150.1010,3082,    199.0,  10.7230,  34.8040,2,   -999.0,5,  10.6989,  34.8029,2,    261.9,2,     3.00,2,     0.94,2,    12.13,2
09FA693,P11S,      75,        1,       15,       41,2,19930715,1256,-43.2493,150.1010,3082,    393.5,   9.6670,  34.7350,2,   -999.0,5,   9.6220,  34.7358,2,    250.7,2,     4.55,2,     1.15,2,    15.94,2
09FA693,P11S,      75,        1,       14,        9,2,19930715,1256,-43.2493,150.1010,3082,    594.3,   8.5470,  34.5930,2,   -999.0,5,   8.4833,  34.5941,2,    226.4,2,     8.23,2,     1.48,2,    21.29,2
09FA693,P11S,      75,        1,       13,       15,2,19930715,1256,-43.2493,150.1010,3082,    793.4,   7.0340,  34.4920,2,   -999.0,5,   6.9569,  34.4954,2,    196.9,2,    18.57,2,     1.87,2,    28.08,2
09FA693,P11S,      75,        1,       12,       28,2,19930715,1256,-43.2493,150.1010,3082,    993.0,   5.4080,  34.4220,2,   -999.0,5,   5.3224,  34.4252,2,    195.3,2,    31.66,2,     2.13,2,    31.77,2
09FA693,P11S,      75,        1,       11,        2,2,19930715,1256,-43.2493,150.1010,3082,   1192.3,   4.1950,  34.4560,2,   -999.0,5,   4.1014,  34.4574,2,    179.7,2,    53.12,2,     2.30,2,    34.82,2
09FA693,P11S,      75,        1,       10,       48,2,19930715,1256,-43.2493,150.1010,3082,   1392.4,   3.2240,  34.5160,2,   -999.0,5,   3.1228,  34.5165,2,    168.8,2,    72.57,2,     2.48,2,    37.54,2
09FA693,P11S,      75,        1,        9,       24,2,19930715,1256,-43.2493,150.1010,3082,   1590.8,   2.8200,  34.5760,2,   -999.0,5,   2.7067,  34.5765,2,    165.1,2,    82.16,2,     2.50,2,    37.57,2
09FA693,P11S,      75,        1,        8,        4,2,19930715,1256,-43.2493,150.1010,3082,   1792.5,   2.5660,  34.6200,2,   -999.0,5,   2.4389,  34.6207,2,    168.6,2,    84.25,2,     2.47,2,    37.05,2
09FA693,P11S,      75,        1,        7,       10,2,19930715,1256,-43.2493,150.1010,3082,   1996.6,   2.3590,  34.6680,2,   -999.0,5,   2.2173,  34.6670,2,    176.8,2,    85.29,2,     2.40,2,    36.49,2
09FA693,P11S,      75,        1,        6,       42,2,19930715,1256,-43.2493,150.1010,3082,   2196.0,   2.2060,  34.7040,2,   -999.0,5,   2.0491,-999.0000,9,    183.4,2,    86.60,2,     2.32,2,    35.23,2
09FA693,P11S,      75,        1,        5,       14,2,19930715,1256,-43.2493,150.1010,3082,   2395.2,   1.9960,  34.7270,2,   -999.0,5,   1.8249,  34.7277,2,    188.7,2,    92.26,2,     2.29,2,    34.91,2
09FA693,P11S,      75,        1,        4,        7,2,19930715,1256,-43.2493,150.1010,3082,   2595.4,   1.8160,  34.7330,2,   -999.0,5,   1.6301,  34.7343,2,    194.3,2,    97.23,2,     2.28,2,    34.89,2
09FA693,P11S,      75,        1,        3,        8,2,19930715,1256,-43.2493,150.1010,3082,   2797.3,   1.7230,  34.7310,2,   -999.0,5,   1.5203,  34.7346,2,    194.0,2,   102.13,2,     2.29,2,    35.05,2
09FA693,P11S,      75,        1,        2,       11,2,19930715,1256,-43.2493,150.1010,3082,   3004.1,   1.6440,  34.7320,2,   -999.0,5,   1.4233,  34.7318,2,    196.1,2,   103.66,2,     2.30,2,    35.23,2
09FA693,P11S,      75,        1,        1,       70,2,19930715,1256,-43.2493,150.1010,3082,   3106.1,   1.6320,  34.7320,2,   -999.0,5,   1.4017,  34.7314,2,    195.3,2,   103.74,2,     2.28,2,    34.89,2
09FA693,P11S,      76,        1,       19,        5,2,19930715,1811,-43.2497,149.3352,3149,      4.9,  13.4100,  35.3170,2,   -999.0,5,  13.4093,  35.3175,2,    252.1,2,     2.41,2,     0.61,2,     6.57,2
09FA693,P11S,      76,        1,       18,       45,2,19930715,1811,-43.2497,149.3352,3149,     49.8,  13.4150,  35.3180,2,   -999.0,5,  13.4080,  35.3187,2,    251.3,2,     2.40,2,     0.61,2,     6.72,2
09FA693,P11S,      76,        1,       17,        1,2,19930715,1811,-43.2497,149.3352,3149,     98.1,  13.4760,  35.3350,2,   -999.0,5,  13.4622,  35.3338,2,    250.5,2,     2.37,2,     0.61,2,     6.84,2
09FA693,P11S,      76,        1,       16,       35,2,19930715,1811,-43.2497,149.3352,3149,    197.4,  13.4750,  35.3310,2,   -999.0,5,  13.4471,  35.3291,2,    249.7,2,     2.40,2,     0.62,2,     6.85,2
09FA693,P11S,      76,        1,       15,       41,2,19930715,1811,-43.2497,149.3352,3149,    395.3,  10.7460,  34.9200,2,   -999.0,5,  10.6976,  34.9209,2,    232.4,2,     4.92,2,     1.10,2,    15.06,2
09FA693,P11S,      76,        1,       14,        9,2,19930715,1811,-43.2497,149.3352,3149,    590.8,   8.9750,  34.6340,2,   -999.0,5,   8.9098,  34.6320,2,    247.3,2,     5.55,2,     1.32,2,    18.65,2
09FA693,P11S,      76,        1,       13,       15,2,19930715,1811,-43.2497,149.3352,3149,    791.0,   7.9520,  34.5610,2,   -999.0,5,   7.8697,  34.5611,2,    203.6,2,    13.95,2,     1.73,2,    26.19,2
09FA693,P11S,      76,        1,       12,       28,2,19930715,1811,-43.2497,149.3352,3149,    991.7,   6.2110,  34.4570,2,   -999.0,5,   6.1195,  34.4588,2,    194.0,2,    26.81,2,     2.05,2,    30.90,2
09FA693,P11S,      76,        1,       11,        2,2,19930715,1811,-43.2497,149.3352,3149,   1192.1,   4.8500,  34.4460,2,   -999.0,5,   4.7505,  34.4471,2,    184.7,2,    46.12,2,     2.28,2,    34.69,2
09FA693,P11S,      76,        1,       10,       48,2,19930715,1811,-43.2497,149.3352,3149,   1394.6,   3.9620,  34.4880,2,   -999.0,5,   3.8528,  34.4879,2,    172.3,2,    68.23,2,     2.44,2,    37.63,2
09FA693,P11S,      76,        1,        9,       24,2,19930715,1811,-43.2497,149.3352,3149,   1590.9,   3.1240,  34.5470,2,   -999.0,5,   3.0071,  34.5474,2,    165.1,2,    84.09,2,     2.52,2,    38.32,2
09FA693,P11S,      76,        1,        8,        4,2,19930715,1811,-43.2497,149.3352,3149,   1789.8,   2.6820,  34.6020,2,   -999.0,5,   2.5536,  34.6014,2,    168.3,2,    90.14,2,     2.51,2,    38.29,2
09FA693,P11S,      76,        1,        7,       10,2,19930715,1811,-43.2497,149.3352,3149,   1990.8,   2.4510,  34.6490,2,   -999.0,5,   2.3084,  34.6467,2,    174.1,2,    92.27,2,     2.46,2,    37.63,2
09FA693,P11S,      76,        1,        6,       42,2,19930715,1811,-43.2497,149.3352,3149,   2195.2,   2.2850,  34.6880,2,   -999.0,5,   2.1270,  34.6870,2,    180.0,2,    94.84,2,     2.39,2,    36.69,2
09FA693,P11S,      76,        1,        5,       14,2,19930715,1811,-43.2497,149.3352,3149,   2394.4,   2.1380,  34.7150,2,   -999.0,5,   1.9645,  34.7143,2,    185.3,2,    98.37,2,     2.36,2,    36.23,2
09FA693,P11S,      76,        1,        4,        7,2,19930715,1811,-43.2497,149.3352,3149,   2598.6,   1.9910,  34.7280,2,   -999.0,5,   1.8015,  34.7259,2,    189.2,2,   103.44,2,     2.34,2,    36.08,2
09FA693,P11S,      76,        1,        3,        8,2,19930715,1811,-43.2497,149.3352,3149,   2797.8,   1.7950,  34.7350,2,   -999.0,5,   1.5907,  34.7336,2,   -999.0,9,   110.03,2,     2.33,2,    36.20,2
09FA693,P11S,      76,        1,        2,       11,2,19930715,1811,-43.2497,149.3352,3149,   3001.7,   1.5990,  34.7320,2,   -999.0,5,   1.3795,  34.7322,2,    197.2,2,   117.66,2,     2.34,2,    36.40,2
09FA693,P11S,      76,        1,        1,       70,2,19930715,1811,-43.2497,149.3352,3149,   3164.7,   1.4670,  34.7310,2,   -999.0,5,   1.2348,-999.0000,9,    199.3,2,   121.56,2,  -999.00,9,    36.82,2
09FA693,P11S,      77,        1,       17,        1,2,19930715,2355,-43.2522,148.5488,2946,     48.2,  13.3380,  35.2930,2,   -999.0,5,  13.3313,  35.2943,2,    253.1,2,     2.59,2,     0.60,2,     6.63,2
09FA693,P11S,      77,        1,       16,       35,2,19930715,2355,-43.2522,148.5488,2946,     99.0,  13.2720,  35.2950,2,   -999.0,5,  13.2582,  35.2920,2,    251.8,2,     2.53,2,     0.62,2,     7.08,2
09FA693,P11S,      77,        1,       15,       41,2,19930715,2355,-43.2522,148.5488,2946,    196.2,  12.6170,  35.1790,2,   -999.0,5,  12.5905,  35.1778,2,    233.5,2,     3.63,2,     0.82,2,    10.36,2
09FA693,P11S,      77,        1,       14,        9,2,19930715,2355,-43.2522,148.5488,2946,    394.4,  10.0680,  34.8120,2,   -999.0,5,  10.0217,  34.8150,2,    237.5,2,     5.43,2,     1.16,2,    16.66,2
09FA693,P11S,      77,        1,       12,       28,2,19930715,2355,-43.2522,148.5488,2946,    791.9,   7.2900,  34.5120,2,   -999.0,5,   7.2115,  34.5147,2,    198.3,2,  -999.00,9,  -999.00,9,  -999.00,9
09FA693,P11S,      77,        1,       11,        2,2,19930715,2355,-43.2522,148.5488,2946,    992.1,   5.7450,  34.4520,2,   -999.0,5,   5.6569,  34.4361,2,    189.5,2,    18.53,2,     1.85,2,    28.58,2
09FA693,P11S,      77,        1,       10,       48,2,19930715,2355,-43.2522,148.5488,2946,   1191.4,   4.5570,  34.4600,2,   -999.0,5,   4.4602,  34.4592,2,    180.2,2,    34.49,2,     2.11,2,    33.23,2
09FA693,P11S,      77,        1,        9,       24,2,19930715,2355,-43.2522,148.5488,2946,   1392.2,   3.3840,  34.5080,2,   -999.0,5,   3.2811,  34.5055,2,    169.1,2,    54.75,2,     2.33,2,    36.26,2
09FA693,P11S,      77,        1,        7,       10,2,19930715,2355,-43.2522,148.5488,2946,   1794.8,   2.6130,  34.6220,2,   -999.0,5,   2.4851,  34.6214,2,    164.6,2,    78.23,2,     2.49,2,    39.26,2
09FA693,P11S,      77,        1,        6,       42,2,19930715,2355,-43.2522,148.5488,2946,   1994.0,   2.4240,  34.6570,2,   -999.0,5,   2.2816,  34.6519,2,    172.3,2,  -999.00,9,  -999.00,9,  -999.00,9
09FA693,P11S,      77,        1,        5,       14,2,19930715,2355,-43.2522,148.5488,2946,   2194.8,   2.2170,  34.6930,2,   -999.0,5,   2.0601,  34.6912,2,    178.9,2,    98.76,2,     2.51,2,    39.17,2
09FA693,P11S,      77,        1,        4,        5,2,19930715,2355,-43.2522,148.5488,2946,   2395.8,   2.0260,  34.7220,2,   -999.0,5,   1.8544,  34.7191,2,    186.6,2,    97.67,2,     2.46,2,    38.52,2
09FA693,P11S,      77,        1,        3,        8,2,19930715,2355,-43.2522,148.5488,2946,   2597.6,   1.8850,  34.7310,2,   -999.0,5,   1.6976,  34.7294,2,    188.7,2,   101.80,2,     2.39,2,    37.51,2
09FA693,P11S,      77,        1,        2,       11,2,19930715,2355,-43.2522,148.5488,2946,   2800.3,   1.7850,  34.7330,2,   -999.0,5,   1.5807,  34.7286,2,    191.1,2,   108.12,2,     2.36,2,    37.82,2
09FA693,P11S,      78,        1,       14,        7,2,19930716,0331,-43.2548,148.3390,1940,      1.8,  13.7260,  35.3480,2,   -999.0,5,  13.7257,  35.3491,2,   -999.0,9,     2.74,2,     0.57,2,     6.18,2
09FA693,P11S,      78,        1,       11,        2,2,19930716,0331,-43.2548,148.3390,1940,     48.7,  13.6230,  35.3370,2,   -999.0,5,  13.6161,  35.3349,2,   -999.0,9,     2.56,2,     0.58,2,     6.36,2
09FA693,P11S,      78,        1,       10,       48,2,19930716,0331,-43.2548,148.3390,1940,     97.5,  13.5850,  35.3310,2,   -999.0,5,  13.5712,  35.3275,2,   -999.0,9,     2.50,2,     0.58,2,     6.43,2
09FA693,P11S,      78,        1,        9,       24,2,19930716,0331,-43.2548,148.3390,1940,    197.6,  13.0130,  35.2400,2,   -999.0,5,  12.9857,  35.2390,2,   -999.0,9,     2.77,2,     0.66,2,     7.90,2
09FA693,P11S,      78,        1,        8,       41,2,19930716,0331,-43.2548,148.3390,1940,    394.8,  10.6780,  34.9050,2,   -999.0,5,  10.6298,  34.9091,2,   -999.0,9,     6.24,2,     1.18,2,    17.12,2
09FA693,P11S,      78,        1,        7,       10,2,19930716,0331,-43.2548,148.3390,1940,    590.7,   8.9500,  34.6590,2,   -999.0,5,   8.8849,  34.6590,2,   -999.0,9,     9.28,2,     1.48,2,    22.47,2
09FA693,P11S,      78,        1,        6,       42,2,19930716,0331,-43.2548,148.3390,1940,    791.5,   7.2980,  34.5180,2,   -999.0,5,   7.2195,  34.5197,2,   -999.0,9,    18.55,2,     1.83,2,    28.80,2
09FA693,P11S,      78,        1,        5,       14,2,19930716,0331,-43.2548,148.3390,1940,    992.6,   5.6790,  34.4530,2,   -999.0,5,   5.5913,  34.4526,2,   -999.0,9,    35.66,2,     2.13,2,    33.32,2
09FA693,P11S,      78,        1,        4,        5,2,19930716,0331,-43.2548,148.3390,1940,   1193.9,   4.3610,  34.4740,2,   -999.0,5,   4.2657,  34.4738,2,   -999.0,9,    60.23,2,     2.36,2,    36.99,2
09FA693,P11S,      78,        1,        3,        8,2,19930716,0331,-43.2548,148.3390,1940,   1394.6,   3.2140,  34.5490,2,   -999.0,5,   3.1126,  34.5495,2,   -999.0,9,    86.18,2,     2.51,2,    38.81,2
09FA693,P11S,      78,        1,        2,       11,2,19930716,0331,-43.2548,148.3390,1940,   1592.5,   2.8110,  34.5920,2,   -999.0,5,   2.6976,  34.5954,2,   -999.0,9,    94.73,2,     2.53,2,    39.38,2
09FA693,P11S,      78,        1,        1,       35,2,19930716,0331,-43.2548,148.3390,1940,   1795.4,   2.5110,  34.6400,2,   -999.0,5,   2.3843,  34.6397,2,   -999.0,9,    96.65,2,     2.47,2,    38.72,2
09FA693,P11S,      79,        1,        9,        7,2,19930716,0537,-43.2600,148.2562,999,      3.0,  13.8040,  35.3540,2,   -999.0,5,  13.8036,  35.3540,2,   -999.0,9,     2.55,2,     0.55,2,     5.97,2
09FA693,P11S,      79,        1,        6,       42,2,19930716,0537,-43.2600,148.2562,999,    201.0,  13.1310,  35.2640,2,   -999.0,5,  13.1031,  35.2634,2,   -999.0,9,     2.83,2,     0.63,2,     7.36,2
09FA693,P11S,      79,        1,        5,       14,2,19930716,0537,-43.2600,148.2562,999,    395.4,  10.8990,  34.9330,2,   -999.0,5,  10.8501,  34.9351,2,   -999.0,9,     6.48,2,     1.18,2,    17.27,2
09FA693,P11S,      79,        1,        4,        5,2,19930716,0537,-43.2600,148.2562,999,    593.7,   8.8390,  34.6470,2,   -999.0,5,   8.7740,  34.6465,2,   -999.0,9,     9.87,2,     1.51,2,    23.23,2
09FA693,P11S,      79,        1,        3,        8,2,19930716,0537,-43.2600,148.2562,999,    793.2,   7.4720,  34.5420,2,   -999.0,5,   7.3923,  34.5437,2,   -999.0,9,    19.15,2,     1.83,2,    28.31,2
09FA693,P11S,      79,        1,        2,       11,2,19930716,0537,-43.2600,148.2562,999,    993.4,   5.0650,  34.4570,2,   -999.0,5,   4.9819,  34.4590,2,   -999.0,9,    46.35,2,     2.25,2,    35.32,2
09FA693,P11S,      79,        1,        1,       35,2,19930716,0537,-43.2600,148.2562,999,   1042.9,   4.2200,  34.4750,2,   -999.0,5,   4.1390,  34.4759,2,   -999.0,9,    62.87,2,     2.38,2,    38.11,2
09FA693,P11S,      80,        1,        5,        7,2,19930716,0719,-43.2442,148.1920,205,      3.2,  12.2270,  35.0810,2,   -999.0,5,  12.2266,  35.0821,2,   -999.0,9,     1.56,2,     0.55,2,     5.34,2
09FA693,P11S,      80,        1,        4,        5,2,19930716,0719,-43.2442,148.1920,205,     49.2,  12.2330,  35.0810,2,   -999.0,5,  12.2265,  35.0825,2,   -999.0,9,     1.57,2,     0.54,2,     5.35,2
09FA693,P11S,      80,        1,        3,        8,2,19930716,0719,-43.2442,148.1920,205,     98.3,  12.2290,  35.0820,2,   -999.0,5,  12.2160,  35.0825,2,   -999.0,9,     1.53,2,     0.54,2,     5.36,2
09FA693,P11S,      80,        1,        2,       41,2,19930716,0719,-43.2442,148.1920,205,    149.6,  12.2080,  35.0790,2,   -999.0,5,  12.1883,  35.0782,2,   -999.0,9,     1.54,2,     0.55,2,     5.64,2
09FA693,P11S,      80,        1,        1,       35,2,19930716,0719,-43.2442,148.1920,205,    192.5,  12.2070,  35.0770,2,   -999.0,5,  12.1816,  35.0782,2,   -999.0,9,     1.50,2,     0.56,2,     5.65,2