BOTTLE,20220816CCHSIOAMB
EXPOCODE,SECT_ID,STNNBR,CASTNO,SAMPNO,BTLNBR,BTLNBR_FLAG_W,DATE,TIME,LATITUDE,LONGITUDE,DEPTH,CTDPRS,CTDTMP,CTDSAL,CTDSAL_FLAG_W,CTDOXY,CTDOXY_FLAG_W,THETA,SALNTY,SALNTY_FLAG_W,OXYGEN,OXYGEN_FLAG_W,SILCAT,SILCAT_FLAG_W,PHSPHT,PHSPHT_FLAG_W,NO2+NO3,NO2+NO3_FLAG_W
,,,,,,,,,,,,DBAR,ITS-90,PSS-78,,UMOL/KG,,ITS-90,PSS-78,,UMOL/KG,,UMOL/KG,,UMOL/KG,,UMOL/KG,
09FA693,P11S,      71,        1,       24,        5,2,19930714,1006,-43.2483,153.7998,4657,      2.5,  11.2670,  34.8330,2,   -999.0,5,  11.2667,  34.8329,2,    274.8,2,     2.26,2,     0.73,2,     8.38,2
09FA693,P11S,      71,        1,       23,       25,2,19930714,1006,-43.2483,153.7998,4657,     99.4,  11.1170,  34.8300,2,   -999.0,5,  11.1047,  34.8298,2,    268.5,2,     2.33,2,     0.78,2,     9.28,2
09FA693,P11S,      71,        1,       22,       36,2,19930714,1006,-43.2483,153.7998,4657,    197.9,  10.1900,  34.8250,2,   -999.0,5,  10.1668,  34.8295,2,    244.7,2,     4.27,2,     1.08,2,    14.16,2
09FA693,P11S,      71,        1,       21,        3,2,19930714,1006,-43.2483,153.7998,4657,    395.3,   8.8440,  34.6060,2,   -999.0,5,   8.8012,  34.6046,2,    254.7,2,     4.92,2,     1.27,2,    17.27,2
09FA693,P11S,      71,        1,       20,       27,2,19930714,1006,-43.2483,153.7998,4657,    595.1,   8.0050,  34.5270,2,   -999.0,5,   7.9436,  34.5259,2,    223.5,2,    10.05,2,     1.61,2,    22.58,2
09FA693,P11S,      71,        1,       19,       20,2,19930714,1006,-43.2483,153.7998,4657,    793.7,   6.4880,  34.4440,2,   -999.0,5,   6.4142,  34.4436,2,    201.4,2,    20.47,2,     1.93,2,    28.11,2
09FA693,P11S,      71,        1,       18,       45,2,19930714,1006,-43.2483,153.7998,4657,    992.0,   5.0440,  34.3980,2,   -999.0,5,   4.9612,  34.3990,2,    196.0,2,    33.33,2,     2.17,2,    31.53,2
09FA693,P11S,      71,        1,       17,        1,2,19930714,1006,-43.2483,153.7998,4657,   1191.7,   3.9750,  34.4270,2,   -999.0,5,   3.8835,  34.4253,2,    185.4,2,    50.85,2,     2.37,2,    34.26,2
09FA693,P11S,      71,        1,       15,       41,2,19930714,1006,-43.2483,153.7998,4657,   1593.1,   2.8740,  34.5510,2,   -999.0,5,   2.7599,  34.5476,2,    170.5,2,    77.19,2,     2.48,2,    36.01,2
09FA693,P11S,      71,        1,       14,        9,2,19930714,1006,-43.2483,153.7998,4657,   1794.4,   2.5700,  34.6140,2,   -999.0,5,   2.4427,  34.6119,2,    169.0,2,    84.14,2,     2.45,2,    35.83,2
09FA693,P11S,      71,        1,       12,       28,2,19930714,1006,-43.2483,153.7998,4657,   2194.2,   2.2190,  34.6940,2,   -999.0,5,   2.0621,  34.6919,2,    183.6,2,    88.52,2,     2.31,2,    34.11,2
09FA693,P11S,      71,        1,       11,        2,2,19930714,1006,-43.2483,153.7998,4657,   2395.4,   2.0980,  34.7120,2,   -999.0,5,   1.9252,  34.7107,2,    184.2,2,    92.48,2,     2.32,2,    34.13,2
09FA693,P11S,      71,        1,       10,       48,2,19930714,1006,-43.2483,153.7998,4657,   2595.5,   1.9570,  34.7230,2,   -999.0,5,   1.7684,  34.7217,2,    187.9,2,    97.01,2,     2.32,2,    33.82,2
09FA693,P11S,      71,        1,        9,       24,2,19930714,1006,-43.2483,153.7998,4657,   2795.5,   1.7990,  34.7280,2,   -999.0,5,   1.5949,  34.7252,2,    190.8,2,   103.05,2,     2.31,2,    34.19,2
09FA693,P11S,      71,        1,        7,       10,2,19930714,1006,-43.2483,153.7998,4657,   3199.1,   1.5300,  34.7250,2,   -999.0,5,   1.2930,  34.7231,2,    197.1,2,   110.63,2,     2.30,2,    33.90,2
09FA693,P11S,      71,        1,        6,       42,2,19930714,1006,-43.2483,153.7998,4657,   3399.8,   1.4080,  34.7210,2,   -999.0,5,   1.1540,  34.7221,2,    198.8,2,   114.97,2,     2.34,2,    34.39,2
09FA693,P11S,      71,        1,        5,       14,2,19930714,1006,-43.2483,153.7998,4657,   3598.7,   1.2790,  34.7170,2,   -999.0,5,   1.0082,  34.7161,2,    200.8,2,   119.46,2,     2.35,2,    35.11,2
09FA693,P11S,      71,        1,        3,        8,2,19930714,1006,-43.2483,153.7998,4657,   4201.3,   1.0960,  34.7090,2,   -999.0,5,   0.7666,  34.7119,2,    203.4,2,   122.16,2,     2.33,2,    34.85,2
09FA693,P11S,      71,        1,        2,       11,2,19930714,1006,-43.2483,153.7998,4657,   4502.2,   1.0560,  34.7050,2,   -999.0,5,   0.6944,  34.7094,2,    204.0,2,   125.24,2,     2.36,2,    35.27,2
09FA693,P11S,      71,        1,        1,       70,2,19930714,1006,-43.2483,153.7998,4657,   4729.5,   1.0100,  34.7040,2,   -999.0,5,   0.6239,  34.7029,2,    207.4,2,   128.17,2,     2.37,2,    35.04,2
09FA693,P11S,      72,        1,       24,        5,2,19930714,1803,-43.2492,152.5997,4614,      4.2,  13.6660,  35.3330,2,   -999.0,5,  13.6654,  35.3317,2,    251.3,2,     2.63,2,     0.59,2,     6.13,2
09FA693,P11S,      72,        1,       23,       25,2,19930714,1803,-43.2492,152.5997,4614,     98.1,  13.5780,  35.3300,2,   -999.0,5,  13.5641,  35.3304,2,    251.6,2,     2.64,2,     0.61,2,     6.48,2
09FA693,P11S,      72,        1,       22,       36,2,19930714,1803,-43.2492,152.5997,4614,    201.0,-999.0000,  35.1630,2,   -999.0,5,-999.0000,  35.1804,2,    227.8,2,     3.69,2,     0.84,2,    10.33,2
09FA693,P11S,      72,        1,       21,        3,2,19930714,1803,-43.2492,152.5997,4614,    395.5,  10.3860,  34.8620,2,   -999.0,5,  10.3386,  34.8623,2,    233.8,2,     4.96,2,     1.13,2,    15.18,2
09FA693,P11S,      72,        1,       20,       27,2,19930714,1803,-43.2492,152.5997,4614,    594.3,   8.7010,  34.6190,2,   -999.0,5,   8.6366,  34.6180,2,    220.0,2,     8.81,2,     1.51,2,    21.52,2
09FA693,P11S,      72,        1,       19,       20,2,19930714,1803,-43.2492,152.5997,4614,    792.2,   7.2330,  34.5110,2,   -999.0,5,   7.1548,  34.5132,2,    196.3,2,    18.38,2,     1.84,2,    27.43,2
09FA693,P11S,      72,        1,       18,       45,2,19930714,1803,-43.2492,152.5997,4614,    993.0,   5.8650,  34.4490,2,   -999.0,5,   5.7759,  34.4504,2,    189.4,2,    30.83,2,     2.07,2,    30.94,2
09FA693,P11S,      72,        1,       17,        1,2,19930714,1803,-43.2492,152.5997,4614,   1188.9,   4.5290,  34.4500,2,   -999.0,5,   4.4327,  34.4515,2,    179.9,2,    50.88,2,     2.31,2,    34.43,2
09FA693,P11S,      72,        1,       16,       35,2,19930714,1803,-43.2492,152.5997,4614,   1392.7,   3.3650,  34.4730,2,   -999.0,5,   3.2623,  34.4754,2,    176.2,2,    66.77,2,     2.46,2,    36.63,2
09FA693,P11S,      72,        1,       15,       41,2,19930714,1803,-43.2492,152.5997,4614,   1592.8,   2.9550,  34.5600,2,   -999.0,5,   2.8399,  34.5558,2,    165.6,2,    83.73,2,     2.52,2,    37.49,2
09FA693,P11S,      72,        1,       14,        9,2,19930714,1803,-43.2492,152.5997,4614,   1792.4,   2.6590,  34.6140,2,   -999.0,5,   2.5307,  34.6134,2,    163.3,2,    93.37,2,     2.50,2,    37.58,2
09FA693,P11S,      72,        1,       13,       15,2,19930714,1803,-43.2492,152.5997,4614,   1996.1,   2.4160,  34.6540,2,   -999.0,5,   2.2735,  34.6529,2,    176.2,2,    88.23,2,     2.41,2,    36.21,2
09FA693,P11S,      72,        1,       12,       28,2,19930714,1803,-43.2492,152.5997,4614,   2194.3,   2.2830,  34.6910,2,   -999.0,5,   2.1251,  34.6905,2,    181.1,2,    89.41,2,     2.33,2,    35.01,2
09FA693,P11S,      72,        1,       11,        2,2,19930714,1803,-43.2492,152.5997,4614,   2396.4,   2.1470,  34.7130,2,   -999.0,5,   1.9732,  34.7147,2,    185.4,2,    95.48,2,     2.36,2,    35.67,2
09FA693,P11S,      72,        1,       10,       48,2,19930714,1803,-43.2492,152.5997,4614,   2596.9,   1.9760,  34.7270,2,   -999.0,5,   1.7869,  34.7280,2,    189.7,2,    99.59,2,     2.29,2,    34.48,2
09FA693,P11S,      72,        1,        9,       24,2,19930714,1803,-43.2492,152.5997,4614,   2797.9,   1.8370,  34.7320,2,   -999.0,5,   1.6319,  34.7334,2,    192.2,2,   104.50,2,     2.31,2,    34.93,2
09FA693,P11S,      72,        1,        8,        4,2,19930714,1803,-43.2492,152.5997,4614,   2998.5,   1.6820,  34.7340,2,   -999.0,5,   1.4610,  34.7352,2,    196.3,2,   108.57,2,     2.29,2,    34.40,2
09FA693,P11S,      72,        1,        7,       10,2,19930714,1803,-43.2492,152.5997,4614,   3198.9,   1.5440,  34.7300,2,   -999.0,5,   1.3066,  34.7308,2,    198.3,2,   113.74,2,     2.31,2,    35.12,2
09FA693,P11S,      72,        1,        6,       42,2,19930714,1803,-43.2492,152.5997,4614,   3400.3,   1.3870,  34.7250,2,   -999.0,5,   1.1335,  34.7252,2,    200.8,2,   115.95,2,     2.30,2,    34.70,2
09FA693,P11S,      72,        1,        5,       14,2,19930714,1803,-43.2492,152.5997,4614,   3599.3,   1.2160,  34.7180,2,   -999.0,5,   0.9467,  34.7196,2,    204.0,2,   121.38,2,     2.33,2,    35.07,2
09FA693,P11S,      72,        1,        4,        7,2,19930714,1803,-43.2492,152.5997,4614,   3799.9,   1.1220,  34.7130,2,   -999.0,5,   0.8346,  34.7151,2,    204.3,2,   125.53,2,     2.35,2,    35.66,2
09FA693,P11S,      72,        1,        3,        8,2,19930714,1803,-43.2492,152.5997,4614,   4099.7,   1.0400,  34.7090,2,   -999.0,5,   0.7232,  34.7103,2,    207.1,2,   127.86,2,     2.36,2,    35.46,2
09FA693,P11S,      72,        1,        2,       11,2,19930714,1803,-43.2492,152.5997,4614,   4398.5,   0.9900,  34.7060,2,   -999.0,5,   0.6421,  34.7076,2,    208.9,2,   129.08,2,     2.35,2,    35.38,2
09FA693,P11S,      72,        1,        1,       70,2,19930714,1803,-43.2492,152.5997,4614,   4683.9,   0.9620,  34.7030,2,   -999.0,5,   0.5827,  34.7091,2,    210.3,2,   131.44,2,     2.45,2,    35.82,2
09FA693,P11S,      73,        1,       24,        5,2,19930715,0051,-43.2488,151.6652,4228,      2.5,  13.7150,  35.3310,2,   -999.0,5,  13.7146,  35.3306,2,    251.3,2,     2.71,2,     0.57,2,     6.13,2
09FA693,P11S,      73,        1,       23,       25,2,19930715,0051,-43.2488,151.6652,4228,     49.5,  13.2690,  35.2770,2,   -999.0,5,  13.2621,  35.2774,2,    247.8,2,     2.72,2,     0.65,2,     6.94,2
09FA693,P11S,      73,        1,       22,       36,2,19930715,0051,-43.2488,151.6652,4228,    100.2,  12.9760,  35.2350,2,   -999.0,5,  12.9622,  35.2329,2,    249.0,2,     2.82,2,     0.67,2,     7.56,2
09FA693,P11S,      73,        1,       21,        3,2,19930715,0051,-43.2488,151.6652,4228,    197.6,  12.5740,  35.1690,2,   -999.0,5,  12.5474,  35.1687,2,    252.4,2,     2.78,2,     0.69,2,     7.94,2
09FA693,P11S,      73,        1,       20,       27,2,19930715,0051,-43.2488,151.6652,4228,    397.1,   9.2680,  34.6650,2,   -999.0,5,   9.2238,  34.6642,2,    261.0,2,     4.62,2,     1.16,2,    15.40,2
09FA693,P11S,      73,        1,       19,       20,2,19930715,0051,-43.2488,151.6652,4228,    596.1,   8.5510,  34.6020,2,   -999.0,5,   8.4870,  34.6022,2,    220.0,2,     9.46,2,     1.51,2,    22.20,2
09FA693,P11S,      73,        1,       18,       45,2,19930715,0051,-43.2488,151.6652,4228,    792.8,   6.9610,  34.4840,2,   -999.0,5,   6.8844,  34.4857,2,    198.0,2,    18.68,2,     1.85,2,    27.43,2
09FA693,P11S,      73,        1,       17,        1,2,19930715,0051,-43.2488,151.6652,4228,    993.5,   5.0960,  34.3860,2,   -999.0,5,   5.0127,  34.3857,2,    203.1,2,    30.96,2,     2.14,2,    31.71,2
09FA693,P11S,      73,        1,       16,       35,2,19930715,0051,-43.2488,151.6652,4228,   1192.4,   4.3350,  34.4570,2,   -999.0,5,   4.2401,  34.4579,2,    179.1,2,    52.90,2,     2.33,2,    34.29,2
09FA693,P11S,      73,        1,       15,       41,2,19930715,0051,-43.2488,151.6652,4228,   1393.0,   3.4080,  34.4940,2,   -999.0,5,   3.3048,  34.4947,2,    171.9,2,    68.88,2,     2.45,2,    36.94,2
09FA693,P11S,      73,        1,       14,        9,2,19930715,0051,-43.2488,151.6652,4228,   1590.7,   2.8940,  34.5620,2,   -999.0,5,   2.7799,  34.5598,2,    167.0,2,    80.06,2,     2.46,2,    36.91,2
09FA693,P11S,      73,        1,       13,       15,2,19930715,0051,-43.2488,151.6652,4228,   1791.6,   2.6200,  34.6170,2,   -999.0,5,   2.4922,  34.6151,2,    167.3,2,    88.06,2,     2.42,2,    36.65,2
09FA693,P11S,      73,        1,       12,       28,2,19930715,0051,-43.2488,151.6652,4228,   1992.6,   2.4050,  34.6580,2,   -999.0,5,   2.2629,  34.6583,2,    173.9,2,    88.16,2,     2.38,2,    35.76,2
09FA693,P11S,      73,        1,       11,        2,2,19930715,0051,-43.2488,151.6652,4228,   2194.3,   2.2340,  34.6970,2,   -999.0,5,   2.0769,  34.6960,2,    181.1,2,    90.32,2,     2.33,2,    35.32,2
09FA693,P11S,      73,        1,       10,       48,2,19930715,0051,-43.2488,151.6652,4228,   2397.5,   2.1140,  34.7190,2,   -999.0,5,   1.9407,  34.7176,2,    185.1,2,    92.80,2,     2.31,2,    34.59,2
09FA693,P11S,      73,        1,        9,       24,2,19930715,0051,-43.2488,151.6652,4228,   2596.9,   1.9660,  34.7290,2,   -999.0,5,   1.7771,  34.7278,2,    188.2,2,    98.37,2,     2.31,2,    34.51,2
09FA693,P11S,      73,        1,        8,        4,2,19930715,0051,-43.2488,151.6652,4228,   2796.6,   1.8070,  34.7320,2,   -999.0,5,   1.6026,  34.7332,2,    191.4,2,   103.19,2,     2.31,2,    34.34,2
09FA693,P11S,      73,        1,        7,       10,2,19930715,0051,-43.2488,151.6652,4228,   2997.4,   1.6730,  34.7340,2,   -999.0,5,   1.4523,  34.7336,2,    197.4,2,   105.80,2,     2.27,2,    34.34,2
09FA693,P11S,      73,        1,        6,       42,2,19930715,0051,-43.2488,151.6652,4228,   3198.3,   1.5060,  34.7310,2,   -999.0,5,   1.2696,  34.7309,2,    198.5,2,   110.49,2,     2.30,2,    34.51,2
09FA693,P11S,      73,        1,        5,       14,2,19930715,0051,-43.2488,151.6652,4228,   3398.2,   1.3000,  34.7230,2,   -999.0,5,   1.0488,  34.7230,2,    202.6,2,   116.02,2,     2.32,2,    34.99,2
09FA693,P11S,      73,        1,        3,        8,2,19930715,0051,-43.2488,151.6652,4228,   3799.2,   1.0630,  34.7120,2,   -999.0,5,   0.7773,  34.7132,2,    206.9,2,   121.94,2,     2.33,2,    35.04,2
09FA693,P11S,      73,        1,        2,       11,2,19930715,0051,-43.2488,151.6652,4228,   3999.6,   1.0010,  34.7110,2,   -999.0,5,   0.6960,  34.7101,2,   -999.0,9,   123.03,2,     2.36,2,    35.27,2
09FA693,P11S,      73,        1,        1,       70,2,19930715,0051,-43.2488,151.6652,4228,   4283.7,   0.9360,  34.7050,2,   -999.0,5,   0.6024,  34.7061,2,    209.7,2,   126.30,2,     2.33,2,    35.39,2
09FA693,P11S,      74,        1,       24,        5,2,19930715,0701,-43.2513,150.8803,3580,      2.1,  12.9600,  35.2280,2,   -999.0,5,  12.9597,  35.2281,2,    258.4,2,     2.74,2,     0.61,2,     6.94,2
09FA693,P11S,      74,        1,       20,       27,2,19930715,0701,-43.2513,150.8803,3580,     48.7,  12.8160,  35.2070,2,   -999.0,5,  12.8094,  35.2084,2,    256.1,2,     2.62,2,     0.64,2,     7.37,2
09FA693,P11S,      74,        1,       19,       20,2,19930715,0701,-43.2513,150.8803,3580,     99.2,  12.6540,  35.1900,2,   -999.0,5,  12.6406,  35.1887,2,    254.7,2,     2.66,2,     0.66,2,     7.65,2
09FA693,P11S,      74,        1,       18,       45,2,19930715,0701,-43.2513,150.8803,3580,    198.0,  12.2740,  35.1180,2,   -999.0,5,  12.2477,  35.1180,2,    278.5,2,     2.92,2,     0.75,2,     9.04,2
09FA693,P11S,      74,        1,       16,       35,2,19930715,0701,-43.2513,150.8803,3580,    595.1,   8.0740,  34.5620,2,   -999.0,5,   8.0123,  34.5642,2,    210.3,2,    11.99,2,     1.63,2,    24.19,2
09FA693,P11S,      74,        1,       15,       41,2,19930715,0701,-43.2513,150.8803,3580,    793.7,   6.3930,  34.4750,2,   -999.0,5,   6.3197,  34.4779,2,    191.7,2,    25.69,2,     1.98,2,    29.84,2
09FA693,P11S,      74,        1,       14,        9,2,19930715,0701,-43.2513,150.8803,3580,    994.5,   4.8420,  34.4430,2,   -999.0,5,   4.7605,  34.4423,2,    186.5,2,    43.38,2,     2.23,2,    33.49,2
09FA693,P11S,      74,        1,       13,       15,2,19930715,0701,-43.2513,150.8803,3580,   1192.4,   3.8280,  34.4930,2,   -999.0,5,   3.7376,  34.4928,2,    171.6,2,    65.57,2,     2.41,2,    36.14,2
09FA693,P11S,      74,        1,       12,       28,2,19930715,0701,-43.2513,150.8803,3580,   1391.9,   3.1320,  34.5410,2,   -999.0,5,   3.0317,  34.5399,2,    165.6,2,    78.21,2,     2.43,2,    36.74,2
09FA693,P11S,      74,        1,       11,        2,2,19930715,0701,-43.2513,150.8803,3580,   1592.3,   2.7590,  34.5920,2,   -999.0,5,   2.6463,  34.5917,2,    165.0,2,    86.00,2,     2.48,2,    37.07,2
09FA693,P11S,      74,        1,       10,       48,2,19930715,0701,-43.2513,150.8803,3580,   1794.0,   2.4320,  34.6500,2,   -999.0,5,   2.3065,  34.6478,2,    174.2,2,    86.33,2,     2.38,2,    36.05,2
09FA693,P11S,      74,        1,        9,       24,2,19930715,0701,-43.2513,150.8803,3580,   1993.6,   2.2820,  34.6860,2,   -999.0,5,   2.1416,  34.6858,2,    178.8,2,    88.07,2,     2.34,2,    35.35,2
09FA693,P11S,      74,        1,        8,        4,2,19930715,0701,-43.2513,150.8803,3580,   2195.3,   2.1250,  34.7150,2,   -999.0,5,   1.9695,  34.7145,2,    183.9,2,    90.67,2,     2.30,2,    34.58,2
09FA693,P11S,      74,        1,        7,       10,2,19930715,0701,-43.2513,150.8803,3580,   2394.3,   1.9980,  34.7280,2,   -999.0,5,   1.8270,  34.7278,2,    189.1,2,    94.01,2,     2.29,2,    34.43,2
09FA693,P11S,      74,        1,        6,       42,2,19930715,0701,-43.2513,150.8803,3580,   2597.5,   1.8330,  34.7340,2,   -999.0,5,   1.6466,  34.7345,2,    193.1,2,   100.59,2,     2.29,2,    34.78,2
09FA693,P11S,      74,        1,        5,       14,2,19930715,0701,-43.2513,150.8803,3580,   2796.6,   1.7060,  34.7360,2,   -999.0,5,   1.5037,  34.7353,2,    194.8,2,   104.07,2,     2.30,2,    34.53,2
09FA693,P11S,      74,        1,        3,        8,2,19930715,0701,-43.2513,150.8803,3580,   3198.4,   1.4200,  34.7280,2,   -999.0,5,   1.1856,  34.7290,2,    199.7,2,   111.95,2,     2.31,2,    35.08,2
09FA693,P11S,      74,        1,        2,       11,2,19930715,0701,-43.2513,150.8803,3580,   3402.7,   1.2960,  34.7250,2,   -999.0,5,   1.0445,  34.7250,2,    203.7,2,   115.91,2,     2.32,2,    35.45,2
09FA693,P11S,      74,        1,        1,       70,2,19930715,0701,-43.2513,150.8803,3580,   3583.0,   1.2580,  34.7220,2,   -999.0,5,   0.9893,  34.7210,2,    204.0,2,   114.52,2,     2.30,2,    34.49,2