BOTTLE,20220816CCHSIOAMB
EXPOCODE,SECT_ID,STNNBR,CASTNO,SAMPNO,BTLNBR,BTLNBR_FLAG_W,DATE,TIME,LATITUDE,LONGITUDE,DEPTH,CTDPRS,CTDTMP,CTDSAL,CTDSAL_FLAG_W,CTDOXY,CTDOXY_FLAG_W,THETA,SALNTY,SALNTY_FLAG_W,OXYGEN,OXYGEN_FLAG_W,SILCAT,SILCAT_FLAG_W,PHSPHT,PHSPHT_FLAG_W,NO2+NO3,NO2+NO3_FLAG_W
,,,,,,,,,,,,DBAR,ITS-90,PSS-78,,UMOL/KG,,ITS-90,PSS-78,,UMOL/KG,,UMOL/KG,,UMOL/KG,,UMOL/KG,
09FA693,P11S,       6,        1,       21,       21,2,19930627,1948,-12.0578,154.4853,3992,      1.9,  25.7420,  35.2300,2,   -999.0,5,  25.7416,  35.2317,2,    220.1,2,     1.28,2,     0.19,2,     0.16,2
09FA693,P11S,       6,        1,       20,       20,2,19930627,1948,-12.0578,154.4853,3992,    296.0,  14.3860,  35.1340,2,   -999.0,5,  14.3422,  35.1364,2,    152.8,2,     6.87,2,     1.18,2,    14.93,2
09FA693,P11S,       6,        1,       19,       19,2,19930627,1948,-12.0578,154.4853,3992,    296.0,  14.3860,  35.1340,2,   -999.0,5,  14.3422,  35.1360,2,    151.1,2,     6.87,2,     1.20,2,    14.96,2
09FA693,P11S,       6,        1,       18,       18,2,19930627,1948,-12.0578,154.4853,3992,    593.3,   6.5230,  34.4560,2,   -999.0,5,   6.4685,  34.4585,2,    183.3,2,    23.87,2,     2.03,2,    28.51,2
09FA693,P11S,       6,        1,       17,       17,2,19930627,1948,-12.0578,154.4853,3992,    593.3,   6.5230,  34.4560,2,   -999.0,5,   6.4685,  34.4585,2,    183.6,2,    23.64,2,     2.03,2,    28.07,2
09FA693,P11S,       6,        1,       16,       16,2,19930627,1948,-12.0578,154.4853,3992,    593.3,   6.5230,  34.4560,2,   -999.0,5,   6.4685,  34.4577,2,    184.5,2,    23.49,2,     2.03,2,    28.17,2
09FA693,P11S,       6,        1,       15,       15,2,19930627,1948,-12.0578,154.4853,3992,   1193.1,   3.5830,  34.5430,2,   -999.0,5,   3.4947,  34.5414,2,    150.5,2,    82.08,2,     2.55,2,    34.96,2
09FA693,P11S,       6,        1,       14,       14,2,19930627,1948,-12.0578,154.4853,3992,   1193.1,   3.5830,  34.5430,2,   -999.0,5,   3.4947,  34.5426,2,    150.2,2,    83.04,2,     2.59,2,    34.97,2
09FA693,P11S,       6,        1,       13,       13,2,19930627,1948,-12.0578,154.4853,3992,   1193.1,   3.5830,  34.5430,2,   -999.0,5,   3.4947,  34.5414,2,    150.5,2,    82.75,2,     2.56,2,    35.03,2
09FA693,P11S,       6,        1,       12,       12,2,19930627,1948,-12.0578,154.4853,3992,   1993.0,   2.3090,  34.6420,2,   -999.0,5,   2.1684,  34.6397,2,    145.4,2,   117.73,2,     2.66,2,    35.89,2
09FA693,P11S,       6,        1,       11,       11,2,19930627,1948,-12.0578,154.4853,3992,   1993.0,   2.3090,  34.6420,2,   -999.0,5,   2.1684,  34.6420,2,    144.6,2,   118.28,2,     2.65,2,    35.88,2
09FA693,P11S,       6,        1,       10,       10,2,19930627,1948,-12.0578,154.4853,3992,   1993.0,   2.3090,  34.6420,2,   -999.0,5,   2.1684,  34.6420,2,    144.9,2,   117.81,2,     2.68,2,    35.79,2
09FA693,P11S,       6,        1,        9,        9,2,19930627,1948,-12.0578,154.4853,3992,   2597.4,   1.9800,  34.6890,2,   -999.0,5,   1.7910,  34.6876,2,    167.5,2,   111.23,2,     2.52,2,    33.91,2
09FA693,P11S,       6,        1,        8,        8,2,19930627,1948,-12.0578,154.4853,3992,   2597.4,   1.9800,  34.6890,2,   -999.0,5,   1.7910,  34.6888,2,    165.2,2,   110.72,2,     2.48,2,    33.45,2
09FA693,P11S,       6,        1,        4,        4,2,19930627,1948,-12.0578,154.4853,3992,   3499.2,   1.8220,  34.7140,2,   -999.0,5,   1.5476,-999.0000,9,    179.9,2,   106.58,2,     2.40,2,    32.40,2
09FA693,P11S,       6,        1,        2,        2,2,19930627,1948,-12.0578,154.4853,3992,   3901.7,   1.8150,  34.7170,2,   -999.0,5,   1.4978,  34.7136,2,    184.7,2,   107.19,2,     2.41,2,    32.51,2
09FA693,P11S,       7,        1,       23,       23,2,19930628,0013,-12.0142,154.3870,3024,      3.6,  25.7930,  35.2300,2,   -999.0,5,  25.7922,  35.2305,2,    208.5,2,     1.18,2,     0.19,2,     0.08,2
09FA693,P11S,       7,        1,       22,       22,2,19930628,0013,-12.0142,154.3870,3024,    290.9,  14.7310,  35.1930,2,   -999.0,5,  14.6873,  35.1941,2,   -999.0,9,     5.45,2,     1.07,2,    12.55,2
09FA693,P11S,       7,        1,       21,       21,2,19930628,0013,-12.0142,154.3870,3024,    290.9,  14.7310,  35.1930,2,   -999.0,5,  14.6873,  35.1998,2,    162.4,2,     5.37,2,     1.08,2,    12.44,2
09FA693,P11S,       7,        1,       20,       20,2,19930628,0013,-12.0142,154.3870,3024,    592.6,   6.8930,  34.4740,2,   -999.0,5,   6.8369,  34.4736,2,    182.8,2,    20.96,2,     2.02,2,    26.09,2
09FA693,P11S,       7,        1,       19,       19,2,19930628,0013,-12.0142,154.3870,3024,    592.6,   6.8930,  34.4740,2,   -999.0,5,   6.8369,  34.4751,2,    182.2,2,    21.00,2,     2.02,2,    26.31,2
09FA693,P11S,       7,        1,       18,       18,2,19930628,0013,-12.0142,154.3870,3024,    592.6,   6.8930,  34.4740,2,   -999.0,5,   6.8368,  34.4789,2,    181.6,2,    21.00,2,     2.04,2,    26.04,2
09FA693,P11S,       7,        1,       16,       16,2,19930628,0013,-12.0142,154.3870,3024,   1191.0,   3.6210,  34.5400,2,   -999.0,5,   3.5326,  34.5402,2,    149.9,2,    80.69,2,     2.62,2,    33.43,2
09FA693,P11S,       7,        1,       15,       15,2,19930628,0013,-12.0142,154.3870,3024,   1191.0,   3.6210,  34.5400,2,   -999.0,5,   3.5326,  34.5391,2,    149.4,2,    81.45,2,     2.62,2,    33.81,2
09FA693,P11S,       7,        1,       13,       13,2,19930628,0013,-12.0142,154.3870,3024,   1793.1,   2.4710,  34.6300,2,   -999.0,5,   2.3451,  34.6272,2,    142.3,2,   114.10,2,     2.72,2,    34.78,2
09FA693,P11S,       7,        1,       11,       11,2,19930628,0013,-12.0142,154.3870,3024,   2092.7,   2.2210,  34.6530,2,   -999.0,5,   2.0731,  34.6505,2,    147.7,2,   116.98,2,     2.68,2,    34.00,2
09FA693,P11S,       7,        1,        9,        9,2,19930628,0013,-12.0142,154.3870,3024,   2092.7,   2.2210,  34.6530,2,   -999.0,5,   2.0731,  34.6506,2,    148.0,2,   116.52,2,     2.68,2,    34.19,2
09FA693,P11S,       7,        1,        8,        8,2,19930628,0013,-12.0142,154.3870,3024,   2395.1,   2.0460,  34.6750,2,   -999.0,5,   1.8743,  34.6719,2,    157.3,2,   114.14,2,     2.61,2,    33.11,2
09FA693,P11S,       7,        1,        6,        6,2,19930628,0013,-12.0142,154.3870,3024,   2395.1,   2.0460,  34.6750,2,   -999.0,5,   1.8743,  34.6695,2,    159.3,2,   113.78,2,     2.62,2,    33.21,2
09FA693,P11S,       7,        1,        4,        4,2,19930628,0013,-12.0142,154.3870,3024,   2696.9,   1.9650,  34.6950,2,   -999.0,5,   1.7670,  34.6919,2,    171.2,2,   108.30,2,     2.51,2,    32.23,2
09FA693,P11S,       7,        1,        3,        3,2,19930628,0013,-12.0142,154.3870,3024,   2697.0,   1.9430,  34.7000,2,   -999.0,5,   1.7454,  34.6919,2,    171.2,2,   108.94,2,     2.54,2,    32.36,2
09FA693,P11S,       7,        1,        2,        2,2,19930628,0013,-12.0142,154.3870,3024,   2899.7,   1.9430,  34.7000,2,   -999.0,5,   1.7261,  34.6982,2,    175.7,2,   106.38,2,     2.49,2,    31.84,2
09FA693,P11S,       8,        1,       24,        5,2,19930628,0519,-11.9583,154.2715,2117,    684.3,   5.9010,  34.4440,2,   -999.0,5,   5.8409,  34.4452,2,   -999.0,9,  -999.00,9,  -999.00,9,  -999.00,9
09FA693,P11S,       8,        1,       23,       41,2,19930628,0519,-11.9583,154.2715,2117,    684.3,   5.9010,  34.4440,2,   -999.0,5,   5.8409,  34.4457,2,   -999.0,9,  -999.00,9,  -999.00,9,  -999.00,9
09FA693,P11S,       8,        1,       22,        1,2,19930628,0519,-11.9583,154.2715,2117,    684.3,   5.9010,  34.4440,2,   -999.0,5,   5.8409,  34.4418,2,   -999.0,9,  -999.00,9,  -999.00,9,  -999.00,9
09FA693,P11S,       8,        1,       21,       27,2,19930628,0519,-11.9583,154.2715,2117,    684.3,   5.9010,  34.4440,2,   -999.0,5,   5.8409,  34.4439,2,   -999.0,9,  -999.00,9,  -999.00,9,  -999.00,9
09FA693,P11S,       8,        1,       20,       25,2,19930628,0519,-11.9583,154.2715,2117,    684.3,   5.9010,  34.4440,2,   -999.0,5,   5.8409,  34.4420,2,   -999.0,9,  -999.00,9,  -999.00,9,  -999.00,9
09FA693,P11S,       8,        1,       19,       45,2,19930628,0519,-11.9583,154.2715,2117,    684.3,   5.9010,  34.4440,2,   -999.0,5,   5.8409,  34.4424,2,   -999.0,9,  -999.00,9,  -999.00,9,  -999.00,9
09FA693,P11S,       8,        1,       18,        9,2,19930628,0519,-11.9583,154.2715,2117,    684.3,   5.9010,  34.4440,2,   -999.0,5,   5.8409,  34.4453,2,   -999.0,9,  -999.00,9,  -999.00,9,  -999.00,9
09FA693,P11S,       8,        1,       17,        7,2,19930628,0519,-11.9583,154.2715,2117,    684.3,   5.9010,  34.4440,2,   -999.0,5,   5.8409,  34.4453,2,   -999.0,9,  -999.00,9,  -999.00,9,  -999.00,9
09FA693,P11S,       8,        1,       16,       18,2,19930628,0519,-11.9583,154.2715,2117,    684.3,   5.9010,  34.4440,2,   -999.0,5,   5.8409,  34.4423,2,   -999.0,9,  -999.00,9,  -999.00,9,  -999.00,9
09FA693,P11S,       8,        1,       15,       29,2,19930628,0519,-11.9583,154.2715,2117,    684.3,   5.9010,  34.4440,2,   -999.0,5,   5.8409,  34.4423,2,   -999.0,9,  -999.00,9,  -999.00,9,  -999.00,9
09FA693,P11S,       8,        1,       14,       36,2,19930628,0519,-11.9583,154.2715,2117,    684.3,   5.9010,  34.4440,2,   -999.0,5,   5.8409,  34.4459,2,   -999.0,9,  -999.00,9,  -999.00,9,  -999.00,9
09FA693,P11S,       8,        1,       13,       15,2,19930628,0519,-11.9583,154.2715,2117,    684.3,   5.9010,  34.4440,2,   -999.0,5,   5.8409,  34.4428,2,   -999.0,9,  -999.00,9,  -999.00,9,  -999.00,9
09FA693,P11S,       8,        1,       12,       28,2,19930628,0519,-11.9583,154.2715,2117,    684.3,   5.9010,  34.4440,2,   -999.0,5,   5.8409,  34.4433,2,   -999.0,9,  -999.00,9,  -999.00,9,  -999.00,9
09FA693,P11S,       8,        1,       11,        2,2,19930628,0519,-11.9583,154.2715,2117,    684.3,   5.9010,  34.4440,2,   -999.0,5,   5.8409,  34.4427,2,   -999.0,9,  -999.00,9,  -999.00,9,  -999.00,9
09FA693,P11S,       8,        1,       10,       48,2,19930628,0519,-11.9583,154.2715,2117,    684.3,   5.9010,  34.4440,2,   -999.0,5,   5.8409,  34.4451,2,   -999.0,9,  -999.00,9,  -999.00,9,  -999.00,9
09FA693,P11S,       8,        1,        9,        4,2,19930628,0519,-11.9583,154.2715,2117,    684.3,   5.9010,  34.4440,2,   -999.0,5,   5.8409,  34.4468,2,   -999.0,9,  -999.00,9,  -999.00,9,  -999.00,9
09FA693,P11S,       8,        1,        8,       24,2,19930628,0519,-11.9583,154.2715,2117,    684.3,   5.9010,  34.4440,2,   -999.0,5,   5.8409,  34.4433,2,   -999.0,9,  -999.00,9,  -999.00,9,  -999.00,9
09FA693,P11S,       8,        1,        7,       10,2,19930628,0519,-11.9583,154.2715,2117,    684.3,   5.9010,  34.4440,2,   -999.0,5,   5.8409,  34.4461,2,   -999.0,9,  -999.00,9,  -999.00,9,  -999.00,9
09FA693,P11S,       8,        1,        6,       42,2,19930628,0519,-11.9583,154.2715,2117,    684.3,   5.9010,  34.4440,2,   -999.0,5,   5.8409,  34.4450,2,   -999.0,9,  -999.00,9,  -999.00,9,  -999.00,9
09FA693,P11S,       8,        1,        5,       14,2,19930628,0519,-11.9583,154.2715,2117,    684.3,   5.9010,  34.4440,2,   -999.0,5,   5.8409,  34.4447,2,   -999.0,9,  -999.00,9,  -999.00,9,  -999.00,9
09FA693,P11S,       8,        1,        3,        8,2,19930628,0519,-11.9583,154.2715,2117,    684.3,   5.9010,  34.4440,2,   -999.0,5,   5.8409,  34.4469,2,   -999.0,9,  -999.00,9,  -999.00,9,  -999.00,9
09FA693,P11S,       8,        1,        2,       11,2,19930628,0519,-11.9583,154.2715,2117,    684.3,   5.9010,  34.4440,2,   -999.0,5,   5.8409,  34.4448,2,   -999.0,9,  -999.00,9,  -999.00,9,  -999.00,9
09FA693,P11S,       8,        1,        1,       70,2,19930628,0519,-11.9583,154.2715,2117,    684.3,   5.9010,  34.4440,2,   -999.0,5,   5.8409,  34.4467,2,   -999.0,9,  -999.00,9,  -999.00,9,  -999.00,9
09FA693,P11S,       9,        1,       24,        5,2,19930628,0657,-11.9563,154.2628,2107,      1.4,  25.8170,  35.2640,2,   -999.0,5,  25.8167,  35.2708,2,    219.0,2,     1.44,2,     0.18,2,     0.18,2
09FA693,P11S,       9,        1,       23,       41,2,19930628,0657,-11.9563,154.2628,2107,     47.2,  25.8220,  35.2650,2,   -999.0,5,  25.8115,  35.2637,2,    218.1,2,     1.30,2,     0.17,2,     0.00,2
09FA693,P11S,       9,        1,       22,        1,2,19930628,0657,-11.9563,154.2628,2107,     96.7,  24.6990,  35.6880,2,   -999.0,5,  24.6782,  35.6840,2,    218.7,2,     1.38,2,     0.33,2,     0.78,2
09FA693,P11S,       9,        1,       21,       27,2,19930628,0657,-11.9563,154.2628,2107,    147.9,  21.4910,  35.7040,2,   -999.0,5,  21.4621,  35.7031,2,    158.4,2,     1.85,2,     0.56,2,     6.45,2
09FA693,P11S,       9,        1,       20,       25,2,19930628,0657,-11.9563,154.2628,2107,    195.7,  18.7230,  35.5580,2,   -999.0,5,  18.6883,  35.5530,2,    155.0,2,     2.94,2,     0.76,2,     9.25,2
09FA693,P11S,       9,        1,       19,       45,2,19930628,0657,-11.9563,154.2628,2107,    292.3,  13.9220,  35.1130,2,   -999.0,5,  13.8797,  35.1151,2,    165.5,2,     6.22,2,     1.12,2,    14.92,2
09FA693,P11S,       9,        1,       18,        9,2,19930628,0657,-11.9563,154.2628,2107,    395.0,  10.6530,  34.7960,2,   -999.0,5,  10.6049,  34.7973,2,    174.3,2,    10.31,2,     1.48,2,    20.74,2
09FA693,P11S,       9,        1,       17,        7,3,19930628,0657,-11.9563,154.2628,2107,    493.3,   7.9030,  34.5510,2,   -999.0,5,   7.8528,-999.0000,9,   -999.0,9,  -999.00,9,  -999.00,9,  -999.00,9
09FA693,P11S,       9,        1,       16,       18,2,19930628,0657,-11.9563,154.2628,2107,    593.2,   6.7260,  34.4750,2,   -999.0,5,   6.6705,  34.4765,2,    185.3,2,    23.12,2,     1.95,2,    29.16,2
09FA693,P11S,       9,        1,       15,       29,2,19930628,0657,-11.9563,154.2628,2107,    693.3,   5.8190,  34.4420,2,   -999.0,5,   5.7585,  34.4433,2,    179.9,2,    32.10,2,     2.17,2,    31.78,2
09FA693,P11S,       9,        1,       14,       36,3,19930628,0657,-11.9563,154.2628,2107,    791.3,   5.1300,  34.4540,2,   -999.0,5,   5.0645,-999.0000,9,   -999.0,9,  -999.00,9,  -999.00,9,  -999.00,9
09FA693,P11S,       9,        1,       13,       15,2,19930628,0657,-11.9563,154.2628,2107,    893.5,   4.7860,  34.4660,2,   -999.0,5,   4.7138,  34.4667,2,    170.6,2,    51.36,2,     2.33,2,    34.54,2
09FA693,P11S,       9,        1,       12,       28,2,19930628,0657,-11.9563,154.2628,2107,    990.8,   4.3090,  34.4870,2,   -999.0,5,   4.2318,  34.4887,2,    164.7,2,    63.37,2,     2.43,2,    35.90,2
09FA693,P11S,       9,        1,       11,        2,2,19930628,0657,-11.9563,154.2628,2107,   1192.6,   3.5970,  34.5500,2,   -999.0,5,   3.5086,  34.5485,2,    146.0,2,    89.42,2,     2.60,2,    37.99,2
09FA693,P11S,       9,        1,       10,       48,2,19930628,0657,-11.9563,154.2628,2107,   1192.6,   3.5970,  34.5500,2,   -999.0,5,   3.5086,  34.5498,2,    145.4,2,    90.17,2,     2.60,2,    38.16,2
09FA693,P11S,       9,        1,        9,        4,2,19930628,0657,-11.9563,154.2628,2107,   1392.5,   3.2040,  34.5780,2,   -999.0,5,   3.1028,  34.5746,2,    142.3,2,   101.65,2,     2.62,2,    38.61,2
09FA693,P11S,       9,        1,        8,       24,2,19930628,0657,-11.9563,154.2628,2107,   1392.5,   3.2040,  34.5780,2,   -999.0,5,   3.1028,  34.5755,2,   -999.0,9,   103.29,2,     2.63,2,    39.22,2
09FA693,P11S,       9,        1,        7,       10,2,19930628,0657,-11.9563,154.2628,2107,   1592.1,   2.7320,  34.6080,2,   -999.0,5,   2.6196,  34.6066,2,    139.5,2,   115.48,2,     2.66,2,    39.30,2
09FA693,P11S,       9,        1,        6,       42,2,19930628,0657,-11.9563,154.2628,2107,   1592.1,   2.7320,  34.6080,2,   -999.0,5,   2.6196,  34.6068,2,    139.2,2,   116.84,2,     2.64,2,    39.43,2
09FA693,P11S,       9,        1,        5,       14,2,19930628,0657,-11.9563,154.2628,2107,   1792.2,   2.4420,  34.6290,2,   -999.0,5,   2.3166,  34.6277,2,    142.0,2,   122.01,2,     2.63,2,    39.24,2
09FA693,P11S,       9,        1,        4,       20,2,19930628,0657,-11.9563,154.2628,2107,   1792.2,   2.4420,  34.6290,2,   -999.0,5,   2.3166,  34.6250,2,    141.5,2,   123.40,2,     2.62,2,    39.67,2
09FA693,P11S,       9,        1,        3,        8,2,19930628,0657,-11.9563,154.2628,2107,   1985.8,   2.3640,  34.6390,2,   -999.0,5,   2.2232,  34.6341,2,    142.6,2,   124.70,2,     2.60,2,    39.30,2
09FA693,P11S,       9,        1,        2,       11,2,19930628,0657,-11.9563,154.2628,2107,   1985.8,   2.3640,  34.6390,2,   -999.0,5,   2.2232,  34.6397,2,    142.6,2,   124.95,2,     2.61,2,    39.39,2
09FA693,P11S,       9,        1,        1,       70,2,19930628,0657,-11.9563,154.2628,2107,   2087.3,   2.2650,  34.6500,2,   -999.0,5,   2.1169,  34.6476,2,    148.3,2,   124.20,2,     2.57,2,    39.09,2