BOTTLE,20220816CCHSIOAMB
EXPOCODE,SECT_ID,STNNBR,CASTNO,SAMPNO,BTLNBR,BTLNBR_FLAG_W,DATE,TIME,LATITUDE,LONGITUDE,DEPTH,CTDPRS,CTDTMP,CTDSAL,CTDSAL_FLAG_W,CTDOXY,CTDOXY_FLAG_W,THETA,SALNTY,SALNTY_FLAG_W,OXYGEN,OXYGEN_FLAG_W,SILCAT,SILCAT_FLAG_W,PHSPHT,PHSPHT_FLAG_W,NO2+NO3,NO2+NO3_FLAG_W
,,,,,,,,,,,,DBAR,ITS-90,PSS-78,,UMOL/KG,,ITS-90,PSS-78,,UMOL/KG,,UMOL/KG,,UMOL/KG,,UMOL/KG,
09FA693,P11S,      35,        1,       24,        5,3,19930704,0115,-23.3573,155.1183,2673,      1.3,  23.0890,  35.5280,2,   -999.0,5,  23.0887,-999.0000,9,   -999.0,9,  -999.00,9,  -999.00,9,  -999.00,9
09FA693,P11S,      35,        1,       21,       29,2,19930704,0115,-23.3573,155.1183,2673,      1.3,  23.0890,  35.5280,2,   -999.0,5,  23.0887,  35.5304,2,    220.9,2,     1.34,2,     0.18,2,     0.18,2
09FA693,P11S,      35,        1,       20,       27,2,19930704,0115,-23.3573,155.1183,2673,     50.3,  23.0420,  35.5830,2,   -999.0,5,  23.0317,  35.5812,2,    232.0,2,     1.17,2,     0.17,2,     0.22,2
09FA693,P11S,      35,        1,       19,       18,2,19930704,0115,-23.3573,155.1183,2673,     99.3,  21.9030,  35.6480,2,   -999.0,5,  21.8834,  35.6482,2,    185.5,2,     1.44,2,     0.38,2,     3.46,2
09FA693,P11S,      35,        1,       18,       45,2,19930704,0115,-23.3573,155.1183,2673,    147.2,  20.2500,  35.6180,2,   -999.0,5,  20.2225,  35.6164,2,    177.7,2,     1.67,2,     0.46,2,     5.10,2
09FA693,P11S,      35,        1,       17,        1,2,19930704,0115,-23.3573,155.1183,2673,    197.2,  19.1540,  35.5820,2,   -999.0,5,  19.1185,  35.5831,2,    173.8,2,     2.03,2,     0.55,2,     6.54,2
09FA693,P11S,      35,        1,       16,       41,2,19930704,0115,-23.3573,155.1183,2673,    247.0,  18.4810,  35.5430,2,   -999.0,5,  18.4376,  35.5411,2,    174.4,2,     2.26,2,     0.58,2,     7.08,2
09FA693,P11S,      35,        1,       15,        9,2,19930704,0115,-23.3573,155.1183,2673,    294.3,  17.1080,  35.4480,2,   -999.0,5,  17.0589,  35.4462,2,    174.1,2,     2.94,2,     0.69,2,     8.72,2
09FA693,P11S,      35,        1,       14,       35,2,19930704,0115,-23.3573,155.1183,2673,    394.4,  13.4370,  35.1180,2,   -999.0,5,  13.3811,  35.1150,2,    176.8,2,     5.58,2,     1.04,2,    14.25,2
09FA693,P11S,      35,        1,       13,       15,2,19930704,0115,-23.3573,155.1183,2673,    485.1,  11.5550,  34.9360,2,   -999.0,5,  11.4925,  34.9358,2,    183.1,2,     7.24,2,     1.23,2,    17.34,2
09FA693,P11S,      35,        1,       12,       28,2,19930704,0115,-23.3573,155.1183,2673,    595.5,   8.7090,  34.6330,2,   -999.0,5,   8.6444,  34.6388,2,    188.5,2,    13.13,2,     1.57,2,    23.11,2
09FA693,P11S,      35,        1,       11,        2,2,19930704,0115,-23.3573,155.1183,2673,    794.0,   6.2110,  34.4560,2,   -999.0,5,   6.1388,  34.4576,2,    193.9,2,    25.90,2,     1.96,2,    28.56,2
09FA693,P11S,      35,        1,       10,       48,2,19930704,0115,-23.3573,155.1183,2673,    992.7,   4.7930,  34.4670,2,   -999.0,5,   4.7120,  34.4693,2,    176.2,2,    48.32,2,     2.22,2,    32.59,2
09FA693,P11S,      35,        1,        9,        4,2,19930704,0115,-23.3573,155.1183,2673,   1191.5,   3.8260,  34.5140,2,   -999.0,5,   3.7357,  34.5129,2,    162.1,2,    69.45,2,     2.39,2,    34.84,2
09FA693,P11S,      35,        1,        8,       24,2,19930704,0115,-23.3573,155.1183,2673,   1391.7,   3.3020,  34.5580,2,   -999.0,5,   3.1999,  34.5576,2,    151.6,2,    87.58,2,     2.49,2,    36.18,2
09FA693,P11S,      35,        1,        7,       10,2,19930704,0115,-23.3573,155.1183,2673,   1591.9,   2.9750,  34.5880,2,   -999.0,5,   2.8597,  34.5886,2,    146.2,2,    97.88,2,     2.55,2,    36.87,2
09FA693,P11S,      35,        1,        6,       42,2,19930704,0115,-23.3573,155.1183,2673,   1796.5,   2.6390,  34.6200,2,   -999.0,5,   2.5106,  34.6188,2,    146.8,2,   104.16,2,     2.56,2,    36.96,2
09FA693,P11S,      35,        1,        5,       14,2,19930704,0115,-23.3573,155.1183,2673,   1993.3,   2.3470,  34.6480,2,   -999.0,5,   2.2058,  34.6474,2,    154.0,2,   105.87,2,     2.52,2,    36.50,2
09FA693,P11S,      35,        1,        4,       20,3,19930704,0115,-23.3573,155.1183,2673,   2192.7,   2.2060,  34.6800,2,   -999.0,5,   2.0495,-999.0000,9,   -999.0,9,  -999.00,9,  -999.00,9,  -999.00,9
09FA693,P11S,      35,        1,        3,        8,2,19930704,0115,-23.3573,155.1183,2673,   2397.1,   2.0650,  34.7000,2,   -999.0,5,   1.8926,  34.7005,2,    178.0,2,    97.41,2,     2.34,2,    34.47,2
09FA693,P11S,      35,        1,        2,       11,2,19930704,0115,-23.3573,155.1183,2673,   2596.1,   1.9750,  34.7060,2,   -999.0,5,   1.7861,  34.7073,2,    181.0,2,    96.68,2,     2.32,2,    33.98,2
09FA693,P11S,      35,        1,        1,       70,2,19930704,0115,-23.3573,155.1183,2673,   2668.1,   1.9560,  34.7090,2,   -999.0,5,   1.7608,  34.7065,2,    181.3,2,    98.52,2,     2.34,2,    33.99,2
09FA693,P11S,      36,        1,       18,        5,2,19930704,0425,-23.3672,155.3177,1975,      1.6,  23.4130,  35.4990,2,   -999.0,5,  23.4127,  35.5011,2,    221.2,2,     1.35,2,     0.18,2,     0.14,2
09FA693,P11S,      36,        1,       17,        1,2,19930704,0425,-23.3672,155.3177,1975,     48.6,  22.9010,  35.6460,2,   -999.0,5,  22.8911,  35.6483,2,    216.7,2,     1.22,2,     0.17,2,     0.43,2
09FA693,P11S,      36,        1,       16,       41,2,19930704,0425,-23.3672,155.3177,1975,     98.9,  22.5900,  35.6730,2,   -999.0,5,  22.5700,  35.6707,2,    209.2,2,     1.21,2,     0.21,2,     1.32,2
09FA693,P11S,      36,        1,       15,        9,2,19930704,0425,-23.3672,155.3177,1975,    147.6,  21.3280,  35.6500,2,   -999.0,5,  21.2994,  35.6470,2,    171.0,2,     1.70,2,     0.48,2,     5.61,2
09FA693,P11S,      36,        1,       14,       35,2,19930704,0425,-23.3672,155.3177,1975,    196.4,  19.6500,  35.6020,2,   -999.0,5,  19.6140,  35.5995,2,    174.3,2,     1.88,2,     0.52,2,     6.29,2
09FA693,P11S,      36,        1,       13,       15,2,19930704,0425,-23.3672,155.3177,1975,    245.7,  18.1220,  35.5290,2,   -999.0,5,  18.0794,  35.5284,2,    179.4,2,     2.26,2,     0.57,2,     7.28,2
09FA693,P11S,      36,        1,       12,       28,2,19930704,0425,-23.3672,155.3177,1975,    294.8,  17.0450,  35.4530,2,   -999.0,5,  16.9960,  35.4525,2,    179.7,2,     2.83,2,     0.66,2,     8.77,2
09FA693,P11S,      36,        1,       11,        2,2,19930704,0425,-23.3672,155.3177,1975,    396.2,  13.8510,  35.1510,2,   -999.0,5,  13.7937,  35.1516,2,    176.7,2,     5.20,2,     0.98,2,    14.16,2
09FA693,P11S,      36,        1,       10,       48,2,19930704,0425,-23.3672,155.3177,1975,    493.5,  10.9360,  34.8690,2,   -999.0,5,  10.8746,  34.8687,2,    185.4,2,     8.13,2,     1.28,2,    19.37,2
09FA693,P11S,      36,        1,        9,        4,2,19930704,0425,-23.3672,155.3177,1975,    594.0,   8.6420,  34.6320,2,   -999.0,5,   8.5778,  34.6358,2,    193.2,2,    12.40,2,     1.55,2,    23.84,2
09FA693,P11S,      36,        1,        8,       24,2,19930704,0425,-23.3672,155.3177,1975,    693.2,   6.9540,  34.4940,2,   -999.0,5,   6.8875,  34.4961,2,    197.1,2,    20.13,2,     1.79,2,    28.25,2
09FA693,P11S,      36,        1,        7,       10,2,19930704,0425,-23.3672,155.3177,1975,    792.1,   6.0640,  34.4560,2,   -999.0,5,   5.9928,  34.4599,2,    192.6,2,    27.64,2,     1.95,2,    30.15,2
09FA693,P11S,      36,        1,        6,       42,2,19930704,0425,-23.3672,155.3177,1975,    991.3,   4.7230,  34.4720,2,   -999.0,5,   4.6426,  34.4720,2,    175.8,2,    50.16,2,     2.22,2,    34.02,2
09FA693,P11S,      36,        1,        5,       14,2,19930704,0425,-23.3672,155.3177,1975,   1191.4,   3.8150,  34.5160,2,   -999.0,5,   3.7248,  34.5151,2,    162.3,2,    72.75,2,     2.41,2,    36.94,2
09FA693,P11S,      36,        1,        4,       20,3,19930704,0425,-23.3672,155.3177,1975,   1392.7,   3.3020,  34.5600,2,   -999.0,5,   3.1998,-999.0000,9,   -999.0,9,  -999.00,9,  -999.00,9,  -999.00,9
09FA693,P11S,      36,        1,        3,        8,2,19930704,0425,-23.3672,155.3177,1975,   1592.2,   2.9270,  34.5930,2,   -999.0,5,   2.8122,  34.5949,2,    147.6,2,    98.66,2,     2.55,2,    38.30,2
09FA693,P11S,      36,        1,        2,       11,2,19930704,0425,-23.3672,155.3177,1975,   1794.2,   2.6190,  34.6210,2,   -999.0,5,   2.4910,  34.6215,2,    148.5,2,   104.24,2,     2.55,2,    38.21,2
09FA693,P11S,      36,        1,        1,       70,2,19930704,0425,-23.3672,155.3177,1975,   1983.9,   2.4960,  34.6350,2,   -999.0,5,   2.3534,  34.6341,2,    151.5,2,   104.05,2,     2.53,2,    38.11,2
09FA693,P11S,      37,        1,       24,        5,2,19930704,1403,-23.9985,155.1173,4111,      0.9,  23.0710,  35.5330,2,   -999.0,5,  23.0708,  35.5348,2,    221.5,2,     1.27,2,     0.18,2,     0.18,2
09FA693,P11S,      37,        1,       23,       25,2,19930704,1403,-23.9985,155.1173,4111,     47.7,  23.0900,  35.5920,2,   -999.0,5,  23.0802,  35.5769,2,    221.8,2,     1.30,2,     0.20,2,     0.47,2
09FA693,P11S,      37,        1,       22,       36,2,19930704,1403,-23.9985,155.1173,4111,     97.6,  22.6220,  35.7560,2,   -999.0,5,  22.6023,  35.7542,2,    221.2,2,     1.27,2,     0.18,2,     0.30,2
09FA693,P11S,      37,        1,       21,       29,2,19930704,1403,-23.9985,155.1173,4111,    195.3,  19.8830,  35.6050,2,   -999.0,5,  19.8469,  35.6063,2,    183.6,2,     1.80,2,     0.46,2,     5.15,2
09FA693,P11S,      37,        1,       20,       27,2,19930704,1403,-23.9985,155.1173,4111,    393.3,  14.6150,  35.2300,2,   -999.0,5,  14.5560,  35.2320,2,    177.6,2,     4.28,2,     0.86,2,    11.33,2
09FA693,P11S,      37,        1,       19,       18,2,19930704,1403,-23.9985,155.1173,4111,    593.6,   9.0730,  34.6740,2,   -999.0,5,   9.0070,  34.6733,2,    192.0,2,    11.49,2,     1.54,2,    22.70,2
09FA693,P11S,      37,        1,       18,       45,2,19930704,1403,-23.9985,155.1173,4111,    793.5,   6.4110,  34.4670,2,   -999.0,5,   6.3376,  34.4690,2,    195.0,2,    24.20,2,     1.98,2,    28.87,2
09FA693,P11S,      37,        1,       17,        1,2,19930704,1403,-23.9985,155.1173,4111,    992.7,   4.8390,  34.4660,2,   -999.0,5,   4.7576,  34.4666,2,    178.2,2,    47.30,2,     2.24,2,    33.07,2
09FA693,P11S,      37,        1,       16,       41,2,19930704,1403,-23.9985,155.1173,4111,   1191.8,   3.9550,  34.5090,2,   -999.0,5,   3.8635,  34.5106,2,    163.8,2,    66.77,2,     2.38,2,    34.99,2
09FA693,P11S,      37,        1,       15,        9,2,19930704,1403,-23.9985,155.1173,4111,   1392.0,   3.3030,  34.5590,2,   -999.0,5,   3.2009,  34.5632,2,    153.9,2,    77.42,2,     2.52,2,    36.26,2
09FA693,P11S,      37,        1,       14,       35,2,19930704,1403,-23.9985,155.1173,4111,   1590.6,   2.8940,  34.5950,2,   -999.0,5,   2.7798,  34.5919,2,    145.8,2,    97.47,2,     2.52,2,    37.09,2
09FA693,P11S,      37,        1,       13,       15,2,19930704,1403,-23.9985,155.1173,4111,   1793.2,   2.5480,  34.6340,2,   -999.0,5,   2.4210,  34.6300,2,    157.8,2,   100.83,2,     2.53,2,    37.31,2
09FA693,P11S,      37,        1,       12,       28,2,19930704,1403,-23.9985,155.1173,4111,   1996.2,   2.3190,  34.6650,2,   -999.0,5,   2.1779,  34.6614,2,    167.1,2,    97.41,2,     2.42,2,    36.19,2
09FA693,P11S,      37,        1,       11,        2,2,19930704,1403,-23.9985,155.1173,4111,   2193.8,   2.1340,  34.6910,2,   -999.0,5,   1.9786,  34.6893,2,    176.4,2,    97.03,2,     2.40,2,    35.69,2
09FA693,P11S,      37,        1,       10,       48,2,19930704,1403,-23.9985,155.1173,4111,   2395.4,   1.9740,  34.7090,2,   -999.0,5,   1.8034,  34.7086,2,    182.7,2,    98.54,2,     2.37,2,    35.08,2
09FA693,P11S,      37,        1,        9,        4,2,19930704,1403,-23.9985,155.1173,4111,   2594.9,   1.8500,  34.7170,2,   -999.0,5,   1.6636,  34.7157,2,    185.7,2,   100.69,2,     2.35,2,    34.96,2
09FA693,P11S,      37,        1,        8,       24,2,19930704,1403,-23.9985,155.1173,4111,   2796.3,   1.7090,  34.7220,2,   -999.0,5,   1.5067,  34.7216,2,    190.5,2,   102.62,2,     2.32,2,    34.85,2
09FA693,P11S,      37,        1,        7,       10,2,19930704,1403,-23.9985,155.1173,4111,   2996.2,   1.5210,  34.7220,2,   -999.0,5,   1.3039,  34.7188,2,    193.2,2,   103.36,2,     2.35,2,    34.56,2
09FA693,P11S,      37,        1,        6,       42,2,19930704,1403,-23.9985,155.1173,4111,   3197.1,   1.3830,  34.7210,2,   -999.0,5,   1.1496,  34.7180,2,    195.9,2,   107.89,2,     2.25,2,    35.00,2
09FA693,P11S,      37,        1,        5,       14,2,19930704,1403,-23.9985,155.1173,4111,   3399.8,   1.2480,  34.7180,2,   -999.0,5,   0.9980,  34.7180,2,    198.0,2,   108.96,2,     2.32,2,    34.85,2
09FA693,P11S,      37,        1,        4,       20,2,19930704,1403,-23.9985,155.1173,4111,   3600.3,   1.1580,  34.7150,2,   -999.0,5,   0.8901,  34.7165,2,    199.2,2,   116.39,2,     2.35,2,    34.99,2
09FA693,P11S,      37,        1,        3,        8,2,19930704,1403,-23.9985,155.1173,4111,   3797.1,   1.1350,  34.7140,2,   -999.0,5,   0.8475,  34.7145,2,    200.1,2,   118.48,2,     2.26,2,    35.30,2
09FA693,P11S,      37,        1,        2,       11,2,19930704,1403,-23.9985,155.1173,4111,   3996.8,   1.1150,  34.7140,2,   -999.0,5,   0.8071,  34.7141,2,    199.5,2,   120.26,2,     2.38,2,    35.40,2
09FA693,P11S,      37,        1,        1,       70,2,19930704,1403,-23.9985,155.1173,4111,   4150.7,   1.1210,  34.7140,2,   -999.0,5,   0.7963,  34.7141,2,    200.4,2,   120.05,2,     2.38,2,    35.59,2
09FA693,P11S,      38,        1,       23,       25,2,19930704,2031,-24.6170,155.2875,4488,     98.9,  22.2650,  35.7280,2,   -999.0,5,  22.2452,  35.7218,2,    220.2,2,  -999.00,9,  -999.00,9,  -999.00,9
09FA693,P11S,      38,        1,       22,       36,2,19930704,2031,-24.6170,155.2875,4488,    198.3,  20.7880,  35.6230,2,   -999.0,5,  20.7502,  35.6205,2,    191.8,2,     1.53,2,     0.40,2,     3.81,2
09FA693,P11S,      38,        1,       21,       29,2,19930704,2031,-24.6170,155.2875,4488,    396.1,  15.5930,  35.3390,2,   -999.0,5,  15.5309,  35.3390,2,    179.4,2,     3.94,2,     0.79,2,    10.84,2
09FA693,P11S,      38,        1,       20,       27,2,19930704,2031,-24.6170,155.2875,4488,    594.0,   9.8030,  34.7600,2,   -999.0,5,   9.7337,  34.7588,2,    189.4,2,     9.37,2,     1.42,2,    21.25,2
09FA693,P11S,      38,        1,       19,       18,2,19930704,2031,-24.6170,155.2875,4488,    792.9,   6.8630,  34.4920,2,   -999.0,5,   6.7870,  34.4893,2,    193.5,2,    20.34,2,     1.78,2,    28.10,2
09FA693,P11S,      38,        1,       18,       45,2,19930704,2031,-24.6170,155.2875,4488,    994.3,   5.2290,  34.4570,2,   -999.0,5,   5.1445,  34.4577,2,    181.3,2,    41.03,2,     2.19,2,    32.82,2
09FA693,P11S,      38,        1,       17,        1,2,19930704,2031,-24.6170,155.2875,4488,   1192.5,   4.1140,  34.5000,2,   -999.0,5,   4.0210,  34.5014,2,    165.5,2,    65.04,2,     2.36,2,    35.98,2
09FA693,P11S,      38,        1,       16,       41,2,19930704,2031,-24.6170,155.2875,4488,   1392.6,   3.5170,  34.5430,2,   -999.0,5,   3.4126,  34.5412,2,    154.9,2,    82.56,2,     2.47,2,    38.03,2
09FA693,P11S,      38,        1,       15,        9,2,19930704,2031,-24.6170,155.2875,4488,   1593.0,   3.0380,  34.5840,2,   -999.0,5,   2.9218,  34.5854,2,    149.4,2,    94.17,2,     2.64,2,    38.22,2
09FA693,P11S,      38,        1,       14,       35,2,19930704,2031,-24.6170,155.2875,4488,   1793.3,   2.6150,  34.6240,2,   -999.0,5,   2.4871,  34.6239,2,    152.4,2,   101.87,2,     2.56,2,    38.12,2
09FA693,P11S,      38,        1,       13,       15,2,19930704,2031,-24.6170,155.2875,4488,   1993.5,   2.3650,  34.6530,2,   -999.0,5,   2.2235,  34.6517,2,    158.5,2,   103.27,2,     2.51,2,    37.73,2
09FA693,P11S,      38,        1,       12,       28,2,19930704,2031,-24.6170,155.2875,4488,   2195.0,   2.1980,  34.6790,2,   -999.0,5,   2.0415,  34.6796,2,    168.8,2,    98.68,2,     2.40,2,    36.34,2
09FA693,P11S,      38,        1,       11,        2,2,19930704,2031,-24.6170,155.2875,4488,   2394.7,   2.0390,  34.7040,2,   -999.0,5,   1.8673,  34.7015,2,    178.5,2,    94.42,2,     2.35,2,    35.87,2
09FA693,P11S,      38,        1,       10,       48,2,19930704,2031,-24.6170,155.2875,4488,   2597.0,   1.8560,  34.7160,2,   -999.0,5,   1.6693,-999.0000,9,    183.5,2,    98.50,2,     2.34,2,    35.45,2
09FA693,P11S,      38,        1,        9,        4,2,19930704,2031,-24.6170,155.2875,4488,   2797.5,   1.6750,  34.7230,2,   -999.0,5,   1.4733,  34.7231,2,    188.5,2,   102.30,2,     2.32,2,    35.40,2
09FA693,P11S,      38,        1,        8,       24,2,19930704,2031,-24.6170,155.2875,4488,   2998.3,   1.5070,  34.7220,2,   -999.0,5,   1.2899,  34.7222,2,    192.1,2,   106.18,2,     2.32,2,    34.75,2
09FA693,P11S,      38,        1,        7,       10,2,19930704,2031,-24.6170,155.2875,4488,   3198.3,   1.3370,  34.7200,2,   -999.0,5,   1.1046,  34.7190,2,    196.3,2,   108.31,2,     2.34,2,    35.31,2
09FA693,P11S,      38,        1,        6,       42,2,19930704,2031,-24.6170,155.2875,4488,   3399.8,   1.2240,  34.7190,2,   -999.0,5,   0.9746,  34.7154,2,    196.3,2,  -999.00,9,  -999.00,9,  -999.00,9
09FA693,P11S,      38,        1,        5,       14,2,19930704,2031,-24.6170,155.2875,4488,   3600.1,   1.1690,  34.7160,2,   -999.0,5,   0.9009,  34.7149,2,    197.1,2,  -999.00,9,  -999.00,9,  -999.00,9
09FA693,P11S,      38,        1,        4,       20,2,19930704,2031,-24.6170,155.2875,4488,   3799.4,   1.1500,  34.7140,2,   -999.0,5,   0.8619,  34.7145,2,    197.7,2,   115.77,2,     2.36,2,    35.22,2
09FA693,P11S,      38,        1,        3,        8,2,19930704,2031,-24.6170,155.2875,4488,   4000.1,   1.1450,  34.7150,2,   -999.0,5,   0.8359,  34.7146,2,    198.2,2,   117.18,2,     2.35,2,    36.03,2
09FA693,P11S,      38,        1,        2,       11,2,19930704,2031,-24.6170,155.2875,4488,   4304.0,   1.1550,  34.7130,2,   -999.0,5,   0.8125,  34.7138,2,    198.5,2,   119.56,2,     2.36,2,    36.07,2
09FA693,P11S,      38,        1,        1,       70,2,19930704,2031,-24.6170,155.2875,4488,   4559.3,   1.1720,  34.7140,2,   -999.0,5,   0.8002,  34.7143,2,    198.2,2,   116.28,2,     2.35,2,    35.81,2
09FA693,P11S,      38,        1,       24,        5,2,19930704,2031,-24.6170,155.2875,4488,   4559.3,   1.1720,  34.7140,2,   -999.0,5,   0.8002,  34.7122,2,    198.8,2,  -999.00,9,  -999.00,9,  -999.00,9