BOTTLE,20220816CCHSIOAMB
EXPOCODE,SECT_ID,STNNBR,CASTNO,SAMPNO,BTLNBR,BTLNBR_FLAG_W,DATE,TIME,LATITUDE,LONGITUDE,DEPTH,CTDPRS,CTDTMP,CTDSAL,CTDSAL_FLAG_W,CTDOXY,CTDOXY_FLAG_W,THETA,SALNTY,SALNTY_FLAG_W,OXYGEN,OXYGEN_FLAG_W,SILCAT,SILCAT_FLAG_W,PHSPHT,PHSPHT_FLAG_W,NO2+NO3,NO2+NO3_FLAG_W
,,,,,,,,,,,,DBAR,ITS-90,PSS-78,,UMOL/KG,,ITS-90,PSS-78,,UMOL/KG,,UMOL/KG,,UMOL/KG,,UMOL/KG,
09FA693,P11S,      63,        1,       24,        5,2,19930712,0842,-39.2905,154.9995,4565,      2.6,  16.0570,  35.5300,2,   -999.0,5,  16.0566,  35.5293,2,    243.9,2,     2.06,2,     0.40,2,     4.00,2
09FA693,P11S,      63,        1,       22,       36,2,19930712,0842,-39.2905,154.9995,4565,    198.2,  12.7820,  35.2040,2,   -999.0,5,  12.7550,  35.2102,2,    229.4,2,     3.33,2,     0.75,2,    10.02,2
09FA693,P11S,      63,        1,       21,        3,2,19930712,0842,-39.2905,154.9995,4565,    394.0,   9.5310,  34.7190,2,   -999.0,5,   9.4863,  34.7207,2,    250.5,2,     4.53,2,     1.12,2,    16.05,2
09FA693,P11S,      63,        1,       20,       27,2,19930712,0842,-39.2905,154.9995,4565,    593.1,   8.4520,  34.5860,2,   -999.0,5,   8.3888,  34.5872,2,    221.0,2,     8.84,2,     1.50,2,    22.24,2
09FA693,P11S,      63,        1,       19,       20,2,19930712,0842,-39.2905,154.9995,4565,    792.2,   6.7150,  34.4720,2,   -999.0,5,   6.6399,  34.4679,2,    197.9,2,    19.88,2,     1.89,2,    29.15,2
09FA693,P11S,      63,        1,       18,       45,2,19930712,0842,-39.2905,154.9995,4565,    992.1,   5.3470,  34.4560,2,   -999.0,5,   5.2619,  34.4557,2,    184.2,2,    37.65,2,     2.16,2,    32.33,2
09FA693,P11S,      63,        1,       17,        1,2,19930712,0842,-39.2905,154.9995,4565,   1192.0,   4.1270,  34.4510,2,   -999.0,5,   4.0340,  34.4499,2,    179.4,2,    52.58,2,     2.34,2,    34.87,2
09FA693,P11S,      63,        1,       16,       41,2,19930712,0842,-39.2905,154.9995,4565,   1391.6,   3.2390,  34.5060,2,   -999.0,5,   3.1377,  34.5052,2,    169.4,2,    70.33,2,     2.47,2,    36.86,2
09FA693,P11S,      63,        1,       15,        9,2,19930712,0842,-39.2905,154.9995,4565,   1593.0,   2.7540,  34.5860,2,   -999.0,5,   2.6413,  34.5849,2,    164.4,2,    84.05,2,     2.50,2,    37.05,2
09FA693,P11S,      63,        1,       14,       35,2,19930712,0842,-39.2905,154.9995,4565,   1792.8,   2.5040,  34.6370,2,   -999.0,5,   2.3777,  34.6343,2,    167.1,2,    89.56,2,     2.46,2,    36.74,2
09FA693,P11S,      63,        1,       13,       15,2,19930712,0842,-39.2905,154.9995,4565,   1988.7,   2.2910,  34.6770,2,   -999.0,5,   2.1509,  34.6759,2,    174.7,2,    91.50,2,     2.40,2,    35.77,2
09FA693,P11S,      63,        1,       12,       28,2,19930712,0842,-39.2905,154.9995,4565,   2192.4,   2.1380,  34.7020,2,   -999.0,5,   1.9826,  34.7011,2,    179.4,2,    93.71,2,     2.32,2,    34.94,2
09FA693,P11S,      63,        1,       10,       48,2,19930712,0842,-39.2905,154.9995,4565,   2594.8,   1.8780,  34.7270,2,   -999.0,5,   1.6910,  34.7246,2,    188.1,2,    99.99,2,     2.29,2,    34.78,2
09FA693,P11S,      63,        1,        9,        4,2,19930712,0842,-39.2905,154.9995,4565,   2796.2,   1.7420,  34.7280,2,   -999.0,5,   1.5390,  34.7246,2,    191.5,2,   106.94,2,     2.28,2,    35.15,2
09FA693,P11S,      63,        1,        8,       24,2,19930712,0842,-39.2905,154.9995,4565,   2996.1,   1.6010,  34.7270,2,   -999.0,5,   1.3821,  34.7266,2,    193.9,2,   111.22,2,     2.31,2,    35.52,2
09FA693,P11S,      63,        1,        7,       10,2,19930712,0842,-39.2905,154.9995,4565,   3197.4,   1.4500,  34.7250,2,   -999.0,5,   1.2150,  34.7249,2,    197.1,2,   112.70,2,     2.32,2,    34.84,2
09FA693,P11S,      63,        1,        6,       42,2,19930712,0842,-39.2905,154.9995,4565,   3398.3,   1.3230,  34.7210,2,   -999.0,5,   1.0712,  34.7245,2,    198.4,2,   116.28,2,     2.32,2,    35.16,2
09FA693,P11S,      63,        1,        5,       14,2,19930712,0842,-39.2905,154.9995,4565,   3599.4,   1.2220,  34.7190,2,   -999.0,5,   0.9526,  34.7182,2,    199.7,2,   118.69,2,     2.33,2,    35.12,2
09FA693,P11S,      63,        1,        4,        7,2,19930712,0842,-39.2905,154.9995,4565,   3798.8,   1.1530,  34.7150,2,   -999.0,5,   0.8649,  34.7161,2,    200.2,2,   121.07,2,     2.35,2,    35.32,2
09FA693,P11S,      63,        1,        3,        8,2,19930712,0842,-39.2905,154.9995,4565,   4097.9,   1.1060,  34.7120,2,   -999.0,5,   0.7875,  34.7126,2,    202.3,2,   123.77,2,     2.34,2,    35.40,2
09FA693,P11S,      63,        1,        2,       11,2,19930712,0842,-39.2905,154.9995,4565,   4401.5,   1.0910,  34.7110,2,   -999.0,5,   0.7396,  34.7105,2,    202.9,2,   124.82,2,     2.34,2,    35.52,2
09FA693,P11S,      63,        1,        1,       70,2,19930712,0842,-39.2905,154.9995,4565,   4634.3,   1.0880,  34.7110,2,   -999.0,5,   0.7103,  34.7093,2,    203.6,2,   125.16,2,     2.34,2,    35.46,2
09FA693,P11S,      64,        1,       24,        5,2,19930712,1456,-39.8817,155.0018,4630,      2.4,  13.7660,  35.2440,2,   -999.0,5,  13.7657,  35.2444,2,    255.7,2,     2.18,2,     0.48,2,     5.44,2
09FA693,P11S,      64,        1,       23,       25,2,19930712,1456,-39.8817,155.0018,4630,     99.5,  13.3770,  35.2230,2,   -999.0,5,  13.3631,  35.2255,2,    250.7,2,     2.15,2,     0.54,2,     6.34,2
09FA693,P11S,      64,        1,       22,       36,2,19930712,1456,-39.8817,155.0018,4630,    199.7,  11.2430,  34.9910,2,   -999.0,5,  11.2180,  34.9907,2,    218.4,2,     4.92,2,     1.02,2,    14.80,2
09FA693,P11S,      64,        1,       21,        3,2,19930712,1456,-39.8817,155.0018,4630,    394.9,   9.3470,  34.7030,2,   -999.0,5,   9.3028,  34.7007,2,    226.5,2,     6.39,2,     1.28,2,    19.25,2
09FA693,P11S,      64,        1,       20,       27,2,19930712,1456,-39.8817,155.0018,4630,    594.2,   8.3570,  34.5850,2,   -999.0,5,   8.2941,  34.5850,2,    213.4,2,    10.00,2,     1.54,2,    23.49,2
09FA693,P11S,      64,        1,       18,       45,2,19930712,1456,-39.8817,155.0018,4630,    993.4,   5.3300,  34.4410,2,   -999.0,5,   5.2449,  34.4418,2,    187.6,2,    35.89,2,     2.11,2,    32.45,2
09FA693,P11S,      64,        1,       17,        1,2,19930712,1456,-39.8817,155.0018,4630,   1194.6,   4.3470,  34.4790,2,   -999.0,5,   4.2518,  34.4790,2,    174.4,2,    57.56,2,     2.33,2,    35.55,2
09FA693,P11S,      64,        1,       16,       41,2,19930712,1456,-39.8817,155.0018,4630,   1393.0,   3.3730,  34.5140,2,   -999.0,5,   3.2701,  34.5124,2,    168.4,2,    72.84,2,     2.47,2,    37.01,2
09FA693,P11S,      64,        1,       15,        9,2,19930712,1456,-39.8817,155.0018,4630,   1593.5,   2.8780,  34.5690,2,   -999.0,5,   2.7638,  34.5673,2,    164.7,2,    83.24,2,     2.51,2,    37.74,2
09FA693,P11S,      64,        1,       14,       35,2,19930712,1456,-39.8817,155.0018,4630,   1797.1,   2.5490,  34.6270,2,   -999.0,5,   2.4217,  34.6261,2,    167.6,2,    89.80,2,     2.45,2,    37.57,2
09FA693,P11S,      64,        1,       13,       15,2,19930712,1456,-39.8817,155.0018,4630,   1993.9,   2.3590,  34.6680,2,   -999.0,5,   2.2175,  34.6634,2,    175.0,2,    87.58,2,     2.40,2,    36.07,2
09FA693,P11S,      64,        1,       12,       28,2,19930712,1456,-39.8817,155.0018,4630,   2194.1,   2.1970,  34.6970,2,   -999.0,5,   2.0405,  34.6964,2,    179.2,2,    90.85,2,     2.33,2,    35.29,2
09FA693,P11S,      64,        1,       10,       48,2,19930712,1456,-39.8817,155.0018,4630,   2595.0,   1.9010,  34.7250,2,   -999.0,5,   1.7135,  34.7297,2,    188.1,2,    98.57,2,     2.30,2,    34.87,2
09FA693,P11S,      64,        1,        9,        4,2,19930712,1456,-39.8817,155.0018,4630,   2795.3,   1.7610,  34.7290,2,   -999.0,5,   1.5577,  34.7281,2,    190.8,2,   102.86,2,     2.29,2,    34.74,2
09FA693,P11S,      64,        1,        8,       24,2,19930712,1456,-39.8817,155.0018,4630,   2995.9,   1.6330,  34.7300,2,   -999.0,5,   1.4134,  34.7274,2,    193.9,2,   107.46,2,     2.28,2,    35.04,2
09FA693,P11S,      64,        1,        7,       10,2,19930712,1456,-39.8817,155.0018,4630,   3194.8,   1.5080,  34.7270,2,   -999.0,5,   1.2719,  34.7242,2,    195.7,2,   110.10,2,     2.30,2,    34.93,2
09FA693,P11S,      64,        1,        6,       42,2,19930712,1456,-39.8817,155.0018,4630,   3396.5,   1.3480,  34.7230,2,   -999.0,5,   1.0958,  34.7242,2,    198.4,2,   114.34,2,     2.31,2,    35.04,2
09FA693,P11S,      64,        1,        5,       14,2,19930712,1456,-39.8817,155.0018,4630,   3597.1,   1.2380,  34.7190,2,   -999.0,5,   0.9684,  34.7187,2,   -999.0,9,   117.34,2,     2.32,2,    35.22,2
09FA693,P11S,      64,        1,        4,        7,2,19930712,1456,-39.8817,155.0018,4630,   3798.5,   1.1700,  34.7160,2,   -999.0,5,   0.8814,  34.7165,2,    199.7,2,   118.72,2,     2.33,2,    35.42,2
09FA693,P11S,      64,        1,        3,        8,2,19930712,1456,-39.8817,155.0018,4630,   4102.3,   1.1190,  34.7130,2,   -999.0,5,   0.7996,  34.7134,2,    202.1,2,   121.42,2,     2.34,2,    35.48,2
09FA693,P11S,      64,        1,        2,       11,2,19930712,1456,-39.8817,155.0018,4630,   4394.1,   1.0920,  34.7110,2,   -999.0,5,   0.7414,  34.7119,2,    203.6,2,   122.80,2,     2.33,2,    35.61,2
09FA693,P11S,      64,        1,        1,       70,2,19930712,1456,-39.8817,155.0018,4630,   4709.2,   1.0560,  34.7100,2,   -999.0,5,   0.6707,  34.7088,2,    205.2,2,   124.46,2,     2.34,2,    35.58,2
09FA693,P11S,      65,        1,       24,        5,2,19930712,2105,-40.4662,154.9995,4526,      1.9,  14.3570,  35.3040,2,   -999.0,5,  14.3567,  35.3143,2,    250.7,2,     2.26,2,     0.51,2,     4.99,2
09FA693,P11S,      65,        1,       23,       25,2,19930712,2105,-40.4662,154.9995,4526,     97.2,  14.2570,  35.3840,2,   -999.0,5,  14.2428,  35.3845,2,    243.8,2,     2.37,2,     0.53,2,     5.32,2
09FA693,P11S,      65,        1,       22,       36,2,19930712,2105,-40.4662,154.9995,4526,    197.5,  13.4240,  35.2470,2,   -999.0,5,  13.3962,  35.2460,2,    212.8,2,     3.85,2,     0.82,2,    10.36,2
09FA693,P11S,      65,        1,       21,        3,2,19930712,2105,-40.4662,154.9995,4526,    394.1,  10.6210,  34.9140,2,   -999.0,5,  10.5731,  34.9146,2,    253.6,2,     3.81,2,     0.96,2,    12.33,2
09FA693,P11S,      65,        1,       20,       27,2,19930712,2105,-40.4662,154.9995,4526,    592.8,   9.1580,  34.6590,2,   -999.0,5,   9.0917,  34.6602,2,    252.7,2,     4.66,2,     1.21,2,    16.53,2
09FA693,P11S,      65,        1,       19,       20,2,19930712,2105,-40.4662,154.9995,4526,    793.6,   8.0480,  34.5680,2,   -999.0,5,   7.9648,  34.5700,2,    201.6,2,    12.90,2,     1.71,2,    24.68,2
09FA693,P11S,      65,        1,       18,       45,2,19930712,2105,-40.4662,154.9995,4526,    992.3,   6.2080,  34.4600,2,   -999.0,5,   6.1164,  34.4638,2,    190.2,2,    25.65,2,     2.04,2,    29.53,2
09FA693,P11S,      65,        1,       17,        1,2,19930712,2105,-40.4662,154.9995,4526,   1193.4,   4.9130,  34.4500,2,   -999.0,5,   4.8128,  34.4528,2,    182.4,2,    42.87,2,     2.26,2,    32.82,2
09FA693,P11S,      65,        1,       16,       41,2,19930712,2105,-40.4662,154.9995,4526,   1393.0,   3.8950,  34.4940,2,   -999.0,5,   3.7867,  34.4936,2,    170.1,2,    64.10,2,     2.43,2,    35.43,2
09FA693,P11S,      65,        1,       15,        9,2,19930712,2105,-40.4662,154.9995,4526,   1593.6,   3.2130,  34.5570,2,   -999.0,5,   3.0947,  34.5575,2,    159.5,2,    82.55,2,     2.53,2,    36.62,2
09FA693,P11S,      65,        1,       14,       35,2,19930712,2105,-40.4662,154.9995,4526,   1791.9,   2.7590,  34.6030,2,   -999.0,5,   2.6294,  34.6035,2,    160.1,2,    89.38,2,     2.54,2,    36.70,2
09FA693,P11S,      65,        1,       13,       15,2,19930712,2105,-40.4662,154.9995,4526,   1994.7,   2.4440,  34.6520,2,   -999.0,5,   2.3012,  34.6517,2,    169.8,2,    89.16,2,     2.46,2,    36.04,2
09FA693,P11S,      65,        1,       12,       28,2,19930712,2105,-40.4662,154.9995,4526,   2196.1,   2.2690,  34.6870,2,   -999.0,5,   2.1112,  34.6855,2,    176.4,2,    89.07,2,     2.38,2,    34.63,2
09FA693,P11S,      65,        1,       11,        2,2,19930712,2105,-40.4662,154.9995,4526,   2395.2,   2.1290,  34.7110,2,   -999.0,5,   1.9556,  34.7102,2,    183.3,2,    91.31,2,     2.35,2,    34.36,2
09FA693,P11S,      65,        1,       10,       48,2,19930712,2105,-40.4662,154.9995,4526,   2594.3,   1.9870,  34.7260,2,   -999.0,5,   1.7980,  34.7251,2,    186.7,2,    94.76,2,     2.32,2,    33.95,2
09FA693,P11S,      65,        1,        9,        4,2,19930712,2105,-40.4662,154.9995,4526,   2795.3,   1.8470,  34.7310,2,   -999.0,5,   1.6419,  34.7302,2,    190.2,2,    99.35,2,     2.32,2,    34.16,2
09FA693,P11S,      65,        1,        8,       24,2,19930712,2105,-40.4662,154.9995,4526,   2995.9,   1.7170,  34.7310,2,   -999.0,5,   1.4955,  34.7361,2,    193.0,2,   103.03,2,     2.30,2,    34.18,2
09FA693,P11S,      65,        1,        7,       10,2,19930712,2105,-40.4662,154.9995,4526,   3197.5,   1.5480,  34.7300,2,   -999.0,5,   1.3107,  34.7294,2,    196.2,2,   107.96,2,     2.32,2,    34.44,2
09FA693,P11S,      65,        1,        6,       42,2,19930712,2105,-40.4662,154.9995,4526,   3398.5,   1.3900,  34.7240,2,   -999.0,5,   1.1366,  34.7251,2,    198.2,2,   111.96,2,     2.34,2,    34.58,2
09FA693,P11S,      65,        1,        5,       14,2,19930712,2105,-40.4662,154.9995,4526,   3597.7,   1.2560,  34.7210,2,   -999.0,5,   0.9858,  34.7207,2,    201.4,2,   115.34,2,     2.35,2,    34.98,2
09FA693,P11S,      65,        1,        4,        7,2,19930712,2105,-40.4662,154.9995,4526,   3801.3,-999.0000,  34.7170,2,   -999.0,5,-999.0000,  34.7179,2,    201.6,2,   117.74,2,     2.36,2,    34.94,2
09FA693,P11S,      65,        1,        3,        8,2,19930712,2105,-40.4662,154.9995,4526,   4000.3,   1.1140,  34.7150,2,   -999.0,5,   0.8057,  34.7147,2,    201.6,2,   120.13,2,     2.37,2,    35.09,2
09FA693,P11S,      65,        1,        2,       11,2,19930712,2105,-40.4662,154.9995,4526,   4297.5,   1.0640,  34.7120,2,   -999.0,5,   0.7250,  34.7120,2,    203.9,2,   121.38,2,     2.37,2,    35.05,2
09FA693,P11S,      65,        1,        1,       70,2,19930712,2105,-40.4662,154.9995,4526,   4592.9,   1.0380,  34.7100,2,   -999.0,5,   0.6667,  34.7092,2,    205.1,2,   122.38,2,     2.38,2,    35.19,2
09FA693,P11S,      66,        1,       24,        5,2,19930713,0321,-41.0578,154.9997,4610,      1.8,  14.0210,  35.3240,2,   -999.0,5,  14.0207,  35.3297,2,    253.6,2,     2.41,2,     0.54,2,     5.51,2
09FA693,P11S,      66,        1,       23,       25,2,19930713,0321,-41.0578,154.9997,4610,     96.7,  13.5580,  35.2830,2,   -999.0,5,  13.5443,  35.2829,2,    255.6,2,     2.40,2,     0.57,2,     6.10,2
09FA693,P11S,      66,        1,       22,       36,2,19930713,0321,-41.0578,154.9997,4610,    198.0,  13.2990,  35.2700,2,   -999.0,5,  13.2713,  35.2734,2,    249.5,2,     2.45,2,     0.62,2,     6.89,2
09FA693,P11S,      66,        1,       21,        3,2,19930713,0321,-41.0578,154.9997,4610,    398.8,  10.6300,  34.8980,2,   -999.0,5,  10.5815,  34.8976,2,    229.2,2,     4.79,2,     1.10,2,    15.05,2
09FA693,P11S,      66,        1,       20,       27,2,19930713,0321,-41.0578,154.9997,4610,    594.0,   8.7820,  34.6120,2,   -999.0,5,   8.7173,  34.6110,2,    238.1,2,     6.19,2,     1.38,2,    19.61,2
09FA693,P11S,      66,        1,       18,       45,2,19930713,0321,-41.0578,154.9997,4610,    993.9,   5.4910,  34.4310,2,   -999.0,5,   5.4047,  34.4323,2,    190.7,2,    31.30,2,     2.13,2,    31.66,2
09FA693,P11S,      66,        1,       17,        1,2,19930713,0321,-41.0578,154.9997,4610,   1195.7,   4.2200,  34.4420,2,   -999.0,5,   4.1259,  34.4425,2,    181.9,2,    49.80,2,     2.34,2,    34.59,2
09FA693,P11S,      66,        1,       16,       41,2,19930713,0321,-41.0578,154.9997,4610,   1391.5,   3.6340,  34.5150,2,   -999.0,5,   3.5285,  34.5170,2,    165.2,2,    70.77,2,     2.45,2,    36.36,2
09FA693,P11S,      66,        1,       15,        9,2,19930713,0321,-41.0578,154.9997,4610,   1593.5,   3.0320,  34.5630,2,   -999.0,5,   2.9159,  34.5641,2,    162.3,2,    81.98,2,     2.51,2,    37.08,2
09FA693,P11S,      66,        1,       14,       35,2,19930713,0321,-41.0578,154.9997,4610,   1792.8,   2.7040,  34.6120,2,   -999.0,5,   2.5750,  34.6112,2,    159.5,2,    90.63,2,     2.53,2,    37.19,2
09FA693,P11S,      66,        1,       12,       28,2,19930713,0321,-41.0578,154.9997,4610,   2194.6,   2.2630,  34.6850,2,   -999.0,5,   2.1054,  34.6843,2,    177.3,2,    89.74,2,     2.40,2,    35.53,2
09FA693,P11S,      66,        1,       11,        2,2,19930713,0321,-41.0578,154.9997,4610,   2393.7,   2.0970,  34.7110,2,   -999.0,5,   1.9243,  34.7130,2,    182.1,2,    91.97,2,     2.34,2,    34.63,2
09FA693,P11S,      66,        1,       10,       48,2,19930713,0321,-41.0578,154.9997,4610,   2595.5,   1.9570,  34.7230,2,   -999.0,5,   1.7684,  34.7272,2,   -999.0,9,    95.16,2,     2.33,2,    34.50,2
09FA693,P11S,      66,        1,        9,        4,2,19930713,0321,-41.0578,154.9997,4610,   2796.6,   1.8160,  34.7280,2,   -999.0,5,   1.6114,  34.7274,2,   -999.0,9,    99.97,2,     2.33,2,    34.59,2
09FA693,P11S,      66,        1,        8,       24,2,19930713,0321,-41.0578,154.9997,4610,   2997.4,   1.6630,  34.7300,2,   -999.0,5,   1.4426,  34.7278,2,    192.8,2,   104.13,2,     2.31,2,    34.60,2
09FA693,P11S,      66,        1,        7,       10,2,19930713,0321,-41.0578,154.9997,4610,   3195.9,   1.5090,  34.7270,2,   -999.0,5,   1.2728,  34.7243,2,    196.5,2,   110.81,2,     2.34,2,    35.16,2
09FA693,P11S,      66,        1,        6,       42,2,19930713,0321,-41.0578,154.9997,4610,   3399.4,   1.3790,  34.7240,2,   -999.0,5,   1.1258,  34.7243,2,    197.9,2,   110.43,2,     2.34,2,    34.65,2
09FA693,P11S,      66,        1,        5,       14,2,19930713,0321,-41.0578,154.9997,4610,   3598.0,   1.2580,  34.7180,2,   -999.0,5,   0.9878,  34.7196,2,    199.3,2,   114.69,2,     2.36,2,    35.04,2
09FA693,P11S,      66,        1,        4,        7,2,19930713,0321,-41.0578,154.9997,4610,   3799.3,   1.1720,  34.7150,2,   -999.0,5,   0.8833,  34.7133,2,    200.8,2,   116.76,2,     2.36,2,    35.07,2
09FA693,P11S,      66,        1,        3,        8,2,19930713,0321,-41.0578,154.9997,4610,   4100.5,   1.1110,  34.7120,2,   -999.0,5,   0.7921,  34.7133,2,    202.5,2,   118.83,2,     2.37,2,    35.34,2
09FA693,P11S,      66,        1,        2,       11,2,19930713,0321,-41.0578,154.9997,4610,   4401.1,   1.0870,  34.7110,2,   -999.0,5,   0.7358,  34.7114,2,    203.9,2,   119.68,2,     2.37,2,    35.28,2
09FA693,P11S,      66,        1,        1,       70,2,19930713,0321,-41.0578,154.9997,4610,   4677.5,   1.0460,  34.7080,2,   -999.0,5,   0.6647,  34.7090,2,    205.4,2,   121.41,2,     2.36,2,    35.45,2