BOTTLE,20220816CCHSIOAMB
EXPOCODE,SECT_ID,STNNBR,CASTNO,SAMPNO,BTLNBR,BTLNBR_FLAG_W,DATE,TIME,LATITUDE,LONGITUDE,DEPTH,CTDPRS,CTDTMP,CTDSAL,CTDSAL_FLAG_W,CTDOXY,CTDOXY_FLAG_W,THETA,SALNTY,SALNTY_FLAG_W,OXYGEN,OXYGEN_FLAG_W,SILCAT,SILCAT_FLAG_W,PHSPHT,PHSPHT_FLAG_W,NO2+NO3,NO2+NO3_FLAG_W
,,,,,,,,,,,,DBAR,ITS-90,PSS-78,,UMOL/KG,,ITS-90,PSS-78,,UMOL/KG,,UMOL/KG,,UMOL/KG,,UMOL/KG,
09FA693,P11S,      23,        1,       20,        5,2,19930701,1311,-17.8868,154.5135,2816,      2.2,  23.8690,  35.5300,2,   -999.0,5,  23.8685,  35.5320,2,   -999.0,9,     1.31,3,     0.19,3,     0.34,3
09FA693,P11S,      23,        1,       19,       45,2,19930701,1311,-17.8868,154.5135,2816,     47.5,  23.8940,  35.5330,2,   -999.0,5,  23.8840,  35.5336,2,    217.2,2,     1.19,3,     0.18,3,     0.31,3
09FA693,P11S,      23,        1,       18,        9,2,19930701,1311,-17.8868,154.5135,2816,     98.3,  23.8830,  35.5860,2,   -999.0,5,  23.8623,  35.5857,2,    211.9,2,     1.13,3,     0.21,3,     0.75,3
09FA693,P11S,      23,        1,       17,       35,2,19930701,1311,-17.8868,154.5135,2816,    146.3,  22.7500,  35.6920,2,   -999.0,5,  22.7203,  35.6899,2,    186.2,2,     1.33,3,     0.39,3,     3.50,3
09FA693,P11S,      23,        1,       16,       18,2,19930701,1311,-17.8868,154.5135,2816,    197.6,  21.2600,  35.6810,2,   -999.0,5,  21.2217,  35.6816,2,    178.5,2,     1.50,3,     0.45,3,     4.74,3
09FA693,P11S,      23,        1,       15,       27,2,19930701,1311,-17.8868,154.5135,2816,    245.4,  19.5240,  35.6240,2,   -999.0,5,  19.4792,  35.6228,2,    173.4,2,     1.96,3,     0.57,3,     6.42,3
09FA693,P11S,      23,        1,       14,       36,2,19930701,1311,-17.8868,154.5135,2816,    299.3,  17.7390,  35.4960,2,   -999.0,5,  17.6878,  35.4965,2,    175.5,2,     2.48,3,     0.66,3,     7.90,3
09FA693,P11S,      23,        1,       13,       15,2,19930701,1311,-17.8868,154.5135,2816,    393.8,  14.9600,  35.2440,2,   -999.0,5,  14.9000,  35.2454,2,    176.9,2,     4.45,3,     0.91,3,    12.07,3
09FA693,P11S,      23,        1,       12,       28,2,19930701,1311,-17.8868,154.5135,2816,    593.6,   8.8810,  34.6230,2,   -999.0,5,   8.8159,  34.6249,2,    184.6,2,    13.06,3,     1.65,3,    24.42,3
09FA693,P11S,      23,        1,       11,        2,2,19930701,1311,-17.8868,154.5135,2816,    791.0,   5.8820,  34.4300,2,   -999.0,5,   5.8121,  34.4340,2,    186.4,2,  -999.00,9,  -999.00,9,  -999.00,9
09FA693,P11S,      23,        1,       10,       48,2,19930701,1311,-17.8868,154.5135,2816,    992.2,   4.5150,  34.4600,2,   -999.0,5,   4.4361,  34.4626,2,    172.9,2,    52.09,3,     2.35,3,    34.96,3
09FA693,P11S,      23,        1,        9,        4,2,19930701,1311,-17.8868,154.5135,2816,   1192.4,   3.8270,  34.5050,2,   -999.0,5,   3.7366,  34.5058,2,    161.7,2,    66.74,3,     2.44,3,    37.24,3
09FA693,P11S,      23,        1,        8,       24,2,19930701,1311,-17.8868,154.5135,2816,   1391.5,   3.3950,  34.5450,2,   -999.0,5,   3.2920,  34.5439,2,    153.5,2,  -999.00,9,  -999.00,9,  -999.00,9
09FA693,P11S,      23,        1,        7,       10,2,19930701,1311,-17.8868,154.5135,2816,   1591.9,   3.0010,  34.5800,2,   -999.0,5,   2.8854,  34.5765,2,    148.2,2,    92.83,3,     2.57,3,    38.40,3
09FA693,P11S,      23,        1,        6,       42,2,19930701,1311,-17.8868,154.5135,2816,   1792.1,   2.7170,  34.6070,2,   -999.0,5,   2.5879,  34.6044,2,    144.5,2,   103.11,3,     2.62,3,    38.95,3
09FA693,P11S,      23,        1,        5,       14,2,19930701,1311,-17.8868,154.5135,2816,   1995.0,   2.4880,  34.6270,2,   -999.0,5,   2.3446,  34.6260,2,    146.3,2,   102.72,3,     2.62,3,    38.71,3
09FA693,P11S,      23,        1,        4,       20,2,19930701,1311,-17.8868,154.5135,2816,   2191.6,   2.2920,  34.6480,2,   -999.0,5,   2.1343,  34.6461,2,    153.0,2,    99.78,3,     2.56,3,    38.31,3
09FA693,P11S,      23,        1,        3,        8,2,19930701,1311,-17.8868,154.5135,2816,   2397.3,   2.1390,  34.6700,2,   -999.0,5,   1.9654,  34.6696,2,    162.3,2,   106.12,3,     2.51,3,    37.65,3
09FA693,P11S,      23,        1,        2,       11,2,19930701,1311,-17.8868,154.5135,2816,   2595.3,   2.0280,  34.6920,2,   -999.0,5,   1.8382,  34.6913,2,    174.5,2,  -999.00,9,  -999.00,9,  -999.00,9
09FA693,P11S,      23,        1,        1,       70,2,19930701,1311,-17.8868,154.5135,2816,   2827.9,   1.4460,  34.7180,2,   -999.0,5,   1.2463,  34.7137,2,    192.0,2,   107.07,3,     2.34,3,    35.38,3
09FA693,P11S,      24,        1,       16,        5,2,19930701,1843,-18.4780,154.5735,1944,      2.4,  24.0820,  35.5560,2,   -999.0,5,  24.0815,  35.5574,2,    214.6,2,     1.32,2,     0.21,2,     0.28,2
09FA693,P11S,      24,        1,       15,       27,2,19930701,1843,-18.4780,154.5735,1944,     49.9,  24.0910,  35.5570,2,   -999.0,5,  24.0804,  35.5595,2,    215.6,2,     1.17,2,     0.18,2,     0.25,2
09FA693,P11S,      24,        1,       14,       36,2,19930701,1843,-18.4780,154.5735,1944,     97.6,  24.1020,  35.5590,2,   -999.0,5,  24.0813,  35.5594,2,    217.0,2,     1.12,2,     0.17,2,     0.25,2
09FA693,P11S,      24,        1,       13,       15,2,19930701,1843,-18.4780,154.5735,1944,    146.1,  24.1300,  35.5880,2,   -999.0,5,  24.0990,  35.5892,2,    213.0,2,     1.07,2,     0.18,2,     0.26,2
09FA693,P11S,      24,        1,       12,       28,2,19930701,1843,-18.4780,154.5735,1944,    196.5,  22.0660,  35.6980,2,   -999.0,5,  22.0269,  35.6956,2,    179.8,2,     1.44,2,     0.40,2,     4.19,2
09FA693,P11S,      24,        1,       11,        2,2,19930701,1843,-18.4780,154.5735,1944,    247.1,  20.3990,  35.6460,2,   -999.0,5,  20.3524,  35.6477,2,    176.9,2,     1.65,2,     0.47,2,     5.29,2
09FA693,P11S,      24,        1,       10,       48,2,19930701,1843,-18.4780,154.5735,1944,    296.4,  19.0330,  35.5900,2,   -999.0,5,  18.9798,  35.5886,2,    175.8,2,     1.96,2,     0.54,2,     6.51,2
09FA693,P11S,      24,        1,        9,        4,2,19930701,1843,-18.4780,154.5735,1944,    394.9,  15.2760,  35.2640,2,   -999.0,5,  15.2150,  35.2649,2,    173.7,2,  -999.00,9,  -999.00,9,  -999.00,9
09FA693,P11S,      24,        1,        8,       24,2,19930701,1843,-18.4780,154.5735,1944,    591.6,   8.8760,  34.6250,2,   -999.0,5,   8.8111,  34.6270,2,    184.3,2,  -999.00,9,  -999.00,9,  -999.00,9
09FA693,P11S,      24,        1,        7,       10,2,19930701,1843,-18.4780,154.5735,1944,    790.9,   5.9660,  34.4290,2,   -999.0,5,   5.8956,  34.4312,2,    186.4,2,    28.30,2,     2.09,2,    31.72,2
09FA693,P11S,      24,        1,        6,       42,2,19930701,1843,-18.4780,154.5735,1944,    990.0,   4.6400,  34.4480,2,   -999.0,5,   4.5604,  34.4483,2,    172.1,2,    50.61,2,     2.34,2,    35.81,2
09FA693,P11S,      24,        1,        5,       14,2,19930701,1843,-18.4780,154.5735,1944,   1192.8,   3.8630,  34.5010,2,   -999.0,5,   3.7723,  34.5010,2,    164.1,2,    67.15,2,     2.45,2,    37.20,2
09FA693,P11S,      24,        1,        4,       20,2,19930701,1843,-18.4780,154.5735,1944,   1392.3,   3.4490,  34.5400,2,   -999.0,5,   3.3453,  34.5364,2,    156.2,2,    77.39,2,     2.47,2,    38.09,2
09FA693,P11S,      24,        1,        3,        8,2,19930701,1843,-18.4780,154.5735,1944,   1592.6,   2.9590,  34.5850,2,   -999.0,5,   2.8438,  34.5804,2,    149.0,2,    94.91,2,     2.57,2,    38.91,2
09FA693,P11S,      24,        1,        2,       11,2,19930701,1843,-18.4780,154.5735,1944,   1790.2,   2.6920,  34.6090,2,   -999.0,5,   2.5634,  34.6013,2,    146.1,2,   102.11,2,     2.59,2,    39.78,2
09FA693,P11S,      24,        1,        1,       70,2,19930701,1843,-18.4780,154.5735,1944,   1940.5,   2.5010,  34.6260,2,   -999.0,5,   2.3621,  34.6269,2,    146.1,2,   110.03,2,     2.57,2,    39.29,2
09FA693,P11S,      25,        1,       21,        5,2,19930701,2318,-19.0457,154.6340,2924,      2.1,  24.1120,  35.5450,2,   -999.0,5,  24.1116,  35.5470,2,    219.3,2,     1.07,2,     0.15,2,     0.19,2
09FA693,P11S,      25,        1,       20,        9,2,19930701,2318,-19.0457,154.6340,2924,     48.2,  24.0520,  35.5450,2,   -999.0,5,  24.0418,  35.5423,2,    216.9,2,     1.15,2,     0.16,2,     0.21,2
09FA693,P11S,      25,        1,       19,       18,2,19930701,2318,-19.0457,154.6340,2924,     99.1,  24.0600,  35.5470,2,   -999.0,5,  24.0391,  35.5443,2,    217.2,2,     1.07,2,     0.16,2,     0.21,2
09FA693,P11S,      25,        1,       18,       45,2,19930701,2318,-19.0457,154.6340,2924,    146.1,  23.3570,  35.6660,2,   -999.0,5,  23.3267,-999.0000,9,    193.0,2,     1.14,2,     0.33,2,     2.31,2
09FA693,P11S,      25,        1,       17,        1,2,19930701,2318,-19.0457,154.6340,2924,    196.0,  21.3330,  35.6830,2,   -999.0,5,  21.2949,  35.6818,2,    180.2,2,     1.55,2,     0.42,2,     4.76,2
09FA693,P11S,      25,        1,       16,       29,2,19930701,2318,-19.0457,154.6340,2924,    245.8,  19.8680,  35.6470,2,   -999.0,5,  19.8225,  35.6447,2,    173.3,2,     1.90,2,     0.52,2,     6.39,2
09FA693,P11S,      25,        1,       15,       27,2,19930701,2318,-19.0457,154.6340,2924,    295.3,  18.5630,  35.5600,2,   -999.0,5,  18.5109,  35.5590,2,    175.9,2,     2.13,2,     0.54,2,     6.96,2
09FA693,P11S,      25,        1,       14,       36,2,19930701,2318,-19.0457,154.6340,2924,    394.7,  15.1310,  35.2460,2,   -999.0,5,  15.0704,  35.2431,2,    171.4,2,     4.40,2,     0.89,2,    12.31,2
09FA693,P11S,      25,        1,       13,       15,2,19930701,2318,-19.0457,154.6340,2924,    592.8,   9.2540,  34.6470,2,   -999.0,5,   9.1873,  34.6468,2,    180.4,2,    12.38,2,     1.57,2,    24.07,2
09FA693,P11S,      25,        1,       12,       28,2,19930701,2318,-19.0457,154.6340,2924,    792.6,   5.9570,  34.4290,2,   -999.0,5,   5.8865,  34.4346,2,    186.0,2,    29.15,2,     2.04,2,    31.87,2
09FA693,P11S,      25,        1,       11,        2,2,19930701,2318,-19.0457,154.6340,2924,    991.9,   4.6050,  34.4550,2,   -999.0,5,   4.5255,  34.4535,2,    172.5,2,  -999.00,9,  -999.00,9,  -999.00,9
09FA693,P11S,      25,        1,       10,       48,2,19930701,2318,-19.0457,154.6340,2924,   1192.8,   3.8760,  34.5070,2,   -999.0,5,   3.7851,-999.0000,9,    164.7,2,    67.25,2,     2.40,2,    36.81,2
09FA693,P11S,      25,        1,        9,        4,2,19930701,2318,-19.0457,154.6340,2924,   1387.9,   3.3840,  34.5460,2,   -999.0,5,   3.2814,  34.5446,2,    156.2,2,  -999.00,9,  -999.00,9,  -999.00,9
09FA693,P11S,      25,        1,        8,       24,2,19930701,2318,-19.0457,154.6340,2924,   1592.8,   2.9870,  34.5820,2,   -999.0,5,   2.8715,  34.5815,2,    150.6,2,    90.17,2,     2.58,2,    39.48,2
09FA693,P11S,      25,        1,        7,       10,2,19930701,2318,-19.0457,154.6340,2924,   1793.0,   2.6770,  34.6110,2,   -999.0,5,   2.5484,  34.6096,2,    146.9,2,    97.87,2,     2.57,2,    39.89,2
09FA693,P11S,      25,        1,        6,       42,2,19930701,2318,-19.0457,154.6340,2924,   1994.5,   2.4610,  34.6310,2,   -999.0,5,   2.3180,  34.6313,2,    149.0,2,   110.39,2,     2.58,2,    40.03,2
09FA693,P11S,      25,        1,        5,       14,2,19930701,2318,-19.0457,154.6340,2924,   2196.4,   2.2860,  34.6510,2,   -999.0,5,   2.1280,  34.6471,2,    153.3,2,  -999.00,9,  -999.00,9,  -999.00,9
09FA693,P11S,      25,        1,        4,       20,2,19930701,2318,-19.0457,154.6340,2924,   2394.2,   2.1650,  34.6680,2,   -999.0,5,   1.9913,  34.6590,2,    161.0,2,   103.93,2,     2.48,2,    38.60,2
09FA693,P11S,      25,        1,        3,        8,2,19930701,2318,-19.0457,154.6340,2924,   2594.7,   1.9820,  34.6940,2,   -999.0,5,   1.7931,-999.0000,9,    174.9,2,   101.44,2,     2.41,2,    37.15,2
09FA693,P11S,      25,        1,        2,       11,2,19930701,2318,-19.0457,154.6340,2924,   2798.1,   1.6270,  34.7160,2,   -999.0,5,   1.4263,  34.7170,2,    189.2,2,   108.23,2,  -999.00,9,  -999.00,9
09FA693,P11S,      25,        1,        1,       70,2,19930701,2318,-19.0457,154.6340,2924,   2939.5,   1.3970,  34.7180,2,   -999.0,5,   1.1879,  34.7179,2,    193.5,2,  -999.00,9,  -999.00,9,  -999.00,9
09FA693,P11S,      26,        1,       21,        5,2,19930702,0439,-19.6285,154.6955,2300,      1.8,  24.2210,  35.5220,2,   -999.0,5,  24.2206,  35.5229,2,    218.8,2,     1.25,2,     0.19,2,     0.29,2
09FA693,P11S,      26,        1,       20,        9,2,19930702,0439,-19.6285,154.6955,2300,     48.4,  24.1230,  35.5600,2,   -999.0,5,  24.1128,  35.5594,2,    218.0,2,     1.13,2,     0.19,2,     0.25,2
09FA693,P11S,      26,        1,       19,       18,2,19930702,0439,-19.6285,154.6955,2300,     97.4,  24.1020,  35.5790,2,   -999.0,5,  24.0814,  35.5786,2,    216.9,2,     1.09,2,     0.19,2,     0.35,2
09FA693,P11S,      26,        1,       18,       45,2,19930702,0439,-19.6285,154.6955,2300,    146.2,  23.2680,  35.6890,2,   -999.0,5,  23.2378,  35.6878,2,    185.2,2,     1.33,2,     0.37,2,     3.02,2
09FA693,P11S,      26,        1,       17,        1,2,19930702,0439,-19.6285,154.6955,2300,    197.2,  21.7910,  35.6850,2,   -999.0,5,  21.7521,  35.6852,2,    179.9,2,     1.40,2,     0.43,2,     4.20,2
09FA693,P11S,      26,        1,       16,       29,2,19930702,0439,-19.6285,154.6955,2300,    248.0,  20.1400,  35.6390,2,   -999.0,5,  20.0937,  35.6361,2,    176.2,2,     1.61,2,     0.49,2,     5.32,2
09FA693,P11S,      26,        1,       15,       27,2,19930702,0439,-19.6285,154.6955,2300,    298.0,  18.5430,  35.5590,2,   -999.0,5,  18.4904,  35.5605,2,    177.5,2,     2.02,2,     0.57,2,     6.62,2
09FA693,P11S,      26,        1,       14,       36,2,19930702,0439,-19.6285,154.6955,2300,    395.2,  15.4200,  35.2750,2,   -999.0,5,  15.3585,  35.2771,2,    172.2,2,     3.95,2,     0.89,2,    11.26,2
09FA693,P11S,      26,        1,       13,       15,2,19930702,0439,-19.6285,154.6955,2300,    495.5,  11.6860,  34.8890,2,   -999.0,5,  11.6217,  34.8921,2,    175.1,2,     8.01,2,     1.32,2,    18.35,2
09FA693,P11S,      26,        1,       12,       28,2,19930702,0439,-19.6285,154.6955,2300,    595.8,   9.0820,  34.6400,2,   -999.0,5,   9.0157,  34.6442,2,    183.1,2,    12.40,2,     1.63,2,    23.99,2
09FA693,P11S,      26,        1,       11,        2,2,19930702,0439,-19.6285,154.6955,2300,    692.3,   7.5020,  34.5120,2,   -999.0,5,   7.4328,  34.5098,2,    189.0,2,    16.93,2,     1.84,2,    27.16,2
09FA693,P11S,      26,        1,       10,       48,2,19930702,0439,-19.6285,154.6955,2300,    791.4,   6.1370,  34.4410,2,   -999.0,5,   6.0655,  34.4440,2,    188.4,2,    26.47,2,     2.05,2,    30.76,2
09FA693,P11S,      26,        1,        9,        4,2,19930702,0439,-19.6285,154.6955,2300,    891.1,   5.3660,  34.4470,2,   -999.0,5,   5.2901,  34.4449,2,    182.3,2,    37.45,2,     2.19,2,    32.89,2
09FA693,P11S,      26,        1,        8,       24,2,19930702,0439,-19.6285,154.6955,2300,    991.1,   4.7340,  34.4580,2,   -999.0,5,   4.6536,  34.4585,2,    174.6,2,    48.01,2,     2.28,2,    34.81,2
09FA693,P11S,      26,        1,        7,       10,2,19930702,0439,-19.6285,154.6955,2300,   1191.6,   3.9240,  34.5050,2,   -999.0,5,   3.8328,  34.5050,2,    163.7,2,    65.60,2,     2.42,2,    37.07,2
09FA693,P11S,      26,        1,        6,       42,2,19930702,0439,-19.6285,154.6955,2300,   1394.5,   3.3380,  34.5520,2,   -999.0,5,   3.2353,  34.5508,2,    154.4,2,    81.94,2,     2.54,2,    38.04,2
09FA693,P11S,      26,        1,        5,       14,2,19930702,0439,-19.6285,154.6955,2300,   1592.4,   3.0300,  34.5810,2,   -999.0,5,   2.9140,  34.5792,2,    148.5,2,    90.33,2,     2.59,2,    38.92,2
09FA693,P11S,      26,        1,        4,       20,2,19930702,0439,-19.6285,154.6955,2300,   1793.0,   2.7330,  34.6060,2,   -999.0,5,   2.6036,  34.6046,2,    145.6,2,   104.71,2,     2.62,2,    39.77,2
09FA693,P11S,      26,        1,        3,        8,2,19930702,0439,-19.6285,154.6955,2300,   1994.9,   2.4710,  34.6310,2,   -999.0,5,   2.3279,  34.6299,2,    148.5,2,   105.36,2,     2.61,2,    39.70,2
09FA693,P11S,      26,        1,        2,       11,2,19930702,0439,-19.6285,154.6955,2300,   2170.4,   2.2730,  34.6520,2,   -999.0,5,   2.1175,  34.6458,2,    154.4,2,   106.72,2,     2.57,2,    39.07,2