BOTTLE,20220816CCHSIOAMB
EXPOCODE,SECT_ID,STNNBR,CASTNO,SAMPNO,BTLNBR,BTLNBR_FLAG_W,DATE,TIME,LATITUDE,LONGITUDE,DEPTH,CTDPRS,CTDTMP,CTDSAL,CTDSAL_FLAG_W,CTDOXY,CTDOXY_FLAG_W,THETA,SALNTY,SALNTY_FLAG_W,OXYGEN,OXYGEN_FLAG_W,SILCAT,SILCAT_FLAG_W,PHSPHT,PHSPHT_FLAG_W,NO2+NO3,NO2+NO3_FLAG_W
,,,,,,,,,,,,DBAR,ITS-90,PSS-78,,UMOL/KG,,ITS-90,PSS-78,,UMOL/KG,,UMOL/KG,,UMOL/KG,,UMOL/KG,
09FA693,P11S,      10,        1,       18,        9,2,19930628,1020,-11.8742,154.0895,2014,      0.3,  25.7940,  35.2010,2,   -999.0,5,  25.7939,  35.1988,2,    218.4,2,     1.35,2,     0.17,2,     0.18,2
09FA693,P11S,      10,        1,       17,       35,2,19930628,1020,-11.8742,154.0895,2014,     47.9,  25.5540,  35.4120,2,   -999.0,5,  25.5434,  35.4025,2,    215.0,2,     1.33,2,     0.19,2,     0.19,2
09FA693,P11S,      10,        1,       16,       18,2,19930628,1020,-11.8742,154.0895,2014,     96.4,  22.8680,  35.6630,2,   -999.0,5,  22.8484,  35.6607,2,    167.5,2,     1.71,2,     0.42,2,     4.87,2
09FA693,P11S,      10,        1,       15,       29,2,19930628,1020,-11.8742,154.0895,2014,    146.7,  21.4990,  35.7100,2,   -999.0,5,  21.4704,  35.7113,2,    155.3,2,     1.95,2,     0.51,2,     6.80,2
09FA693,P11S,      10,        1,       14,       36,2,19930628,1020,-11.8742,154.0895,2014,    197.2,  18.9850,  35.5720,2,   -999.0,5,  18.9497,  35.5763,2,    155.0,2,     2.88,2,     0.63,2,     9.16,2
09FA693,P11S,      10,        1,       13,       15,2,19930628,1020,-11.8742,154.0895,2014,    247.5,  16.6950,  35.3690,2,   -999.0,5,  16.6545,  35.3756,2,    146.0,2,     5.10,2,     0.89,2,    12.98,2
09FA693,P11S,      10,        1,       12,       28,2,19930628,1020,-11.8742,154.0895,2014,    296.2,  14.3430,  35.1460,2,   -999.0,5,  14.2993,  35.1465,2,    161.3,2,     6.53,2,     0.99,2,    15.10,2
09FA693,P11S,      10,        1,       10,       48,2,19930628,1020,-11.8742,154.0895,2014,    494.0,   8.7210,  34.6250,2,   -999.0,5,   8.6677,  34.6281,2,    182.8,2,    15.44,2,     1.55,2,    24.91,2
09FA693,P11S,      10,        1,        9,        4,2,19930628,1020,-11.8742,154.0895,2014,    595.1,   7.1910,  34.5100,2,   -999.0,5,   7.1332,  34.5121,2,    187.0,2,    21.97,2,     1.78,2,    28.00,2
09FA693,P11S,      10,        1,        8,       24,2,19930628,1020,-11.8742,154.0895,2014,    693.6,   6.3210,  34.4670,2,   -999.0,5,   6.2578,  34.4685,2,    184.5,2,    29.54,2,     1.95,2,    30.51,2
09FA693,P11S,      10,        1,        7,       10,2,19930628,1020,-11.8742,154.0895,2014,    795.9,   5.4400,  34.4500,2,   -999.0,5,   5.3722,  34.4512,2,    178.0,2,    40.66,2,     2.10,2,    33.00,2
09FA693,P11S,      10,        1,        6,       42,2,19930628,1020,-11.8742,154.0895,2014,    893.4,   4.9320,  34.4600,2,   -999.0,5,   4.8588,  34.4590,2,    172.6,2,    50.06,2,     2.20,2,    34.28,2
09FA693,P11S,      10,        1,        5,       14,2,19930628,1020,-11.8742,154.0895,2014,    992.0,   4.4140,  34.4840,2,   -999.0,5,   4.3359,  34.4825,2,    164.9,2,    63.24,2,     2.30,2,    35.70,2
09FA693,P11S,      10,        1,        4,       20,2,19930628,1020,-11.8742,154.0895,2014,   1190.0,   3.6240,  34.5430,2,   -999.0,5,   3.5356,  34.5415,2,    150.5,2,    89.55,2,     2.46,2,    37.83,2
09FA693,P11S,      10,        1,        3,        8,2,19930628,1020,-11.8742,154.0895,2014,   1391.4,   3.0420,  34.5900,2,   -999.0,5,   2.9426,  34.5870,2,    138.1,2,   111.36,2,     2.54,2,    39.37,2
09FA693,P11S,      10,        1,        2,       11,2,19930628,1020,-11.8742,154.0895,2014,   1578.0,   2.7150,  34.6080,2,   -999.0,5,   2.6040,  34.6043,2,    138.1,2,   118.74,2,     2.56,2,    39.49,2
09FA693,P11S,      10,        1,        1,       70,2,19930628,1020,-11.8742,154.0895,2014,   1772.0,-999.0000,  34.6280,2,   -999.0,5,-999.0000,  34.6286,2,    142.0,2,   126.18,2,     2.54,2,    39.46,2
09FA693,P11S,      11,        1,       24,        5,2,19930628,1314,-11.7917,153.9098,291,      1.8,  25.7610,  35.2760,2,   -999.0,5,  25.7606,  35.2761,2,    217.6,2,     1.39,2,     0.15,2,     0.18,2
09FA693,P11S,      11,        1,       23,       41,2,19930628,1314,-11.7917,153.9098,291,     48.3,  25.6120,  35.3370,2,   -999.0,5,  25.6013,  35.3206,2,    219.3,2,     1.28,2,     0.14,2,     0.00,2
09FA693,P11S,      11,        1,       22,        1,2,19930628,1314,-11.7917,153.9098,291,    101.2,  22.9250,  35.6440,2,   -999.0,5,  22.9043,  35.6425,2,    169.8,2,     1.68,2,     0.34,2,     4.35,2
09FA693,P11S,      11,        1,       21,       27,2,19930628,1314,-11.7917,153.9098,291,    148.0,  20.9960,  35.6690,2,   -999.0,5,  20.9676,  35.6661,2,    156.2,2,     2.19,2,     0.49,2,     7.17,2
09FA693,P11S,      11,        1,       20,       25,2,19930628,1314,-11.7917,153.9098,291,    199.7,  19.1230,  35.5760,2,   -999.0,5,  19.0871,  35.5807,2,    154.2,2,     2.84,2,     0.60,2,     8.94,2
09FA693,P11S,      11,        1,       19,       45,2,19930628,1314,-11.7917,153.9098,291,    277.8,  13.9920,  35.1130,2,   -999.0,5,  13.9517,  35.1175,2,    163.8,2,     7.14,2,     1.00,2,    15.65,2
09FA693,P11S,      12,        1,       15,        5,2,19930628,1431,-11.8815,153.9228,1279,      2.4,  25.7800,  35.1980,2,   -999.0,5,  25.7795,  35.1976,2,    217.6,2,     1.31,2,     0.14,2,     0.13,2
09FA693,P11S,      12,        1,       14,       36,2,19930628,1431,-11.8815,153.9228,1279,     47.4,  25.7810,  35.2040,2,   -999.0,5,  25.7705,  35.2018,2,    216.7,2,     1.21,2,     0.13,2,     0.06,2
09FA693,P11S,      12,        1,       13,       15,2,19930628,1431,-11.8815,153.9228,1279,     97.6,  23.3670,  35.6270,2,   -999.0,5,  23.3468,  35.6209,2,    176.8,2,     1.50,2,     0.29,2,     3.04,2
09FA693,P11S,      12,        1,       12,       28,2,19930628,1431,-11.8815,153.9228,1279,    146.6,  21.3360,  35.6910,2,   -999.0,5,  21.3075,  35.6863,2,    156.2,2,     2.06,2,     0.46,2,     6.75,2
09FA693,P11S,      12,        1,       11,        2,2,19930628,1431,-11.8815,153.9228,1279,    195.5,  18.9510,  35.5710,2,   -999.0,5,  18.9161,  35.5666,2,    154.2,2,     2.98,2,     0.57,2,     9.17,2
09FA693,P11S,      12,        1,       10,       48,2,19930628,1431,-11.8815,153.9228,1279,    249.0,-999.0000,  35.3360,2,   -999.0,5,-999.0000,-999.0000,9,    159.0,2,     3.80,2,     0.60,2,    10.40,2
09FA693,P11S,      12,        1,        9,        4,2,19930628,1431,-11.8815,153.9228,1279,    296.4,  14.1460,  35.1360,2,   -999.0,5,  14.1027,  35.1369,2,    164.1,2,     6.34,2,     0.82,2,    14.78,2
09FA693,P11S,      12,        1,        8,       24,2,19930628,1431,-11.8815,153.9228,1279,    394.7,  10.7020,  34.7990,2,   -999.0,5,  10.6538,  34.8021,2,    171.5,2,    10.82,2,     1.16,2,    20.96,2
09FA693,P11S,      12,        1,        7,       10,2,19930628,1431,-11.8815,153.9228,1279,    493.4,   8.6140,  34.6160,2,   -999.0,5,   8.5611,  34.6168,2,    182.8,2,    15.36,2,     1.43,2,    24.84,2
09FA693,P11S,      12,        1,        6,       42,2,19930628,1431,-11.8815,153.9228,1279,    592.5,   7.3590,  34.5230,2,   -999.0,5,   7.3007,  34.5220,2,    184.7,2,    21.75,2,     1.65,2,    27.97,2
09FA693,P11S,      12,        1,        5,       14,2,19930628,1431,-11.8815,153.9228,1279,    694.8,   6.5330,  34.4720,2,   -999.0,5,   6.4686,  34.4727,2,    185.6,2,    26.71,2,     1.81,2,    29.73,2
09FA693,P11S,      12,        1,        4,       20,2,19930628,1431,-11.8815,153.9228,1279,    792.1,   5.5390,  34.4530,2,   -999.0,5,   5.4710,  34.4539,2,    177.1,2,    39.83,2,     2.02,2,    32.64,2
09FA693,P11S,      12,        1,        3,        8,2,19930628,1431,-11.8815,153.9228,1279,    993.9,   4.6250,  34.4710,2,   -999.0,5,   4.5451,  34.4677,2,    167.8,2,    56.23,2,     2.20,2,    34.88,2
09FA693,P11S,      12,        1,        2,       11,2,19930628,1431,-11.8815,153.9228,1279,   1258.0,   3.7730,  34.5310,2,   -999.0,5,   3.6775,  34.5290,2,    153.3,2,    85.00,2,     2.34,2,    37.55,2
09FA693,P11S,      12,        1,        1,       70,2,19930628,1431,-11.8815,153.9228,1279,   1258.0,   3.7730,  34.5310,2,   -999.0,5,   3.6775,  34.5302,2,    154.8,2,    84.54,2,     2.39,2,    36.97,2
09FA693,P11S,      13,        1,       21,        5,2,19930628,1718,-12.0483,153.9340,2050,      1.1,  25.7150,  35.1720,2,   -999.0,5,  25.7148,  35.1755,2,   -999.0,9,     1.30,2,     0.18,2,     0.25,2
09FA693,P11S,      13,        1,       20,       25,2,19930628,1718,-12.0483,153.9340,2050,     47.5,  25.7320,  35.2640,2,   -999.0,5,  25.7215,  35.2504,2,   -999.0,9,     1.19,2,     0.20,2,     0.27,2
09FA693,P11S,      13,        1,       19,       45,2,19930628,1718,-12.0483,153.9340,2050,     97.6,  23.2550,  35.7290,2,   -999.0,5,  23.2349,  35.7215,2,   -999.0,9,     1.93,2,     0.56,2,     5.72,2
09FA693,P11S,      13,        1,       18,        9,2,19930628,1718,-12.0483,153.9340,2050,    145.4,  21.0420,  35.7030,2,   -999.0,5,  21.0140,  35.7034,2,   -999.0,9,     2.01,2,     0.63,2,     7.10,2
09FA693,P11S,      13,        1,       17,       35,2,19930628,1718,-12.0483,153.9340,2050,    190.5,  18.9390,  35.5830,2,   -999.0,5,  18.9050,  35.5498,2,   -999.0,9,     3.99,2,     0.95,2,    11.41,2
09FA693,P11S,      13,        1,       16,       18,2,19930628,1718,-12.0483,153.9340,2050,    245.9,  16.5640,  35.3620,2,   -999.0,5,  16.5240,  35.3673,2,   -999.0,9,     4.45,2,     0.98,2,    12.06,2
09FA693,P11S,      13,        1,       15,       27,2,19930628,1718,-12.0483,153.9340,2050,    293.2,  14.4380,  35.1600,2,   -999.0,5,  14.3945,  35.1572,2,   -999.0,9,     5.87,2,     1.13,2,    14.67,2
09FA693,P11S,      13,        1,       14,       36,2,19930628,1718,-12.0483,153.9340,2050,    394.1,  11.2590,  34.8550,2,   -999.0,5,  11.2093,  34.8549,2,   -999.0,9,     9.39,2,     1.46,2,    19.89,2
09FA693,P11S,      13,        1,       13,       15,2,19930628,1718,-12.0483,153.9340,2050,    491.4,   8.5910,  34.6050,2,   -999.0,5,   8.5385,  34.6053,2,   -999.0,9,    14.18,2,     1.76,2,    25.12,2
09FA693,P11S,      13,        1,       12,       28,2,19930628,1718,-12.0483,153.9340,2050,    593.8,   6.9860,  34.4820,2,   -999.0,5,   6.9293,  34.4812,2,   -999.0,9,    20.73,2,     1.96,2,    28.78,2
09FA693,P11S,      13,        1,       11,        2,2,19930628,1718,-12.0483,153.9340,2050,    694.1,   6.1590,  34.4500,2,   -999.0,5,   6.0966,  34.4467,2,   -999.0,9,    29.05,2,     2.16,2,    31.84,2
09FA693,P11S,      13,        1,       10,       48,2,19930628,1718,-12.0483,153.9340,2050,    791.8,   5.3170,  34.4300,2,   -999.0,5,   5.2504,  34.4298,2,   -999.0,9,    37.18,2,     2.23,2,    33.00,2
09FA693,P11S,      13,        1,        9,        4,2,19930628,1718,-12.0483,153.9340,2050,    891.6,   4.7930,  34.4650,2,   -999.0,5,   4.7209,  34.4640,2,   -999.0,9,    50.31,2,     2.38,2,    34.60,2
09FA693,P11S,      13,        1,        8,       24,2,19930628,1718,-12.0483,153.9340,2050,    990.9,   4.3610,  34.4840,2,   -999.0,5,   4.2834,  34.4833,2,   -999.0,9,    60.06,2,     2.48,2,    35.84,2
09FA693,P11S,      13,        1,        7,       10,2,19930628,1718,-12.0483,153.9340,2050,   1089.7,   3.9710,  34.5120,2,   -999.0,5,   3.8880,  34.5077,2,   -999.0,9,    70.69,2,     2.55,2,    36.72,2
09FA693,P11S,      13,        1,        6,       42,2,19930628,1718,-12.0483,153.9340,2050,   1190.6,   3.6530,  34.5420,2,   -999.0,5,   3.5643,  34.5400,2,   -999.0,9,    82.71,2,     2.62,2,    37.82,2
09FA693,P11S,      13,        1,        5,       14,2,19930628,1718,-12.0483,153.9340,2050,   1392.3,   3.0680,  34.5850,2,   -999.0,5,   2.9683,  34.5821,2,   -999.0,9,   102.08,2,     2.69,2,    39.47,2
09FA693,P11S,      13,        1,        4,       20,2,19930628,1718,-12.0483,153.9340,2050,   1592.9,   2.7390,  34.6080,2,   -999.0,5,   2.6264,  34.6058,2,   -999.0,9,   110.07,2,     2.72,2,    39.53,2
09FA693,P11S,      13,        1,        2,       11,2,19930628,1718,-12.0483,153.9340,2050,   1996.7,   2.2930,  34.6430,2,   -999.0,5,   2.1523,  34.6404,2,   -999.0,9,   119.25,2,     2.69,2,    39.36,2
09FA693,P11S,      13,        1,        1,       70,2,19930628,1718,-12.0483,153.9340,2050,   2047.2,   2.1670,  34.6570,2,   -999.0,5,   2.0239,  34.6546,2,   -999.0,9,   119.52,2,     2.67,2,    39.15,2
09FA693,P11S,      14,        1,       24,        5,2,19930628,2307,-12.4978,153.9828,3830,      1.4,  25.6670,  35.2200,2,   -999.0,5,  25.6667,  35.2238,2,    222.7,2,     1.38,2,     0.21,2,     0.31,2
09FA693,P11S,      14,        1,       23,        1,2,19930628,2307,-12.4978,153.9828,3830,     48.6,  25.6080,  35.2490,2,   -999.0,5,  25.5973,  35.2476,2,    222.4,2,     1.18,2,     0.20,2,     0.19,2
09FA693,P11S,      14,        1,       22,       29,2,19930628,2307,-12.4978,153.9828,3830,     96.7,  23.1660,  35.7180,2,   -999.0,5,  23.1461,  35.7117,2,    182.2,2,     1.55,2,     0.45,2,     3.99,2
09FA693,P11S,      14,        1,       21,       41,2,19930628,2307,-12.4978,153.9828,3830,    199.3,  18.4940,  35.5480,2,   -999.0,5,  18.4590,  35.5438,2,    156.5,2,     3.19,2,     0.83,2,     9.76,2
09FA693,P11S,      14,        1,       20,       25,2,19930628,2307,-12.4978,153.9828,3830,    294.7,  13.7510,  35.0590,2,   -999.0,5,  13.7087,  35.0595,2,    148.0,2,     8.09,2,     1.39,2,    17.78,2
09FA693,P11S,      14,        1,       19,       45,2,19930628,2307,-12.4978,153.9828,3830,    394.9,  10.1330,  34.7370,2,   -999.0,5,  10.0865,  34.7399,2,    169.8,2,    11.82,2,     1.68,2,    22.98,2
09FA693,P11S,      14,        1,       18,        9,2,19930628,2307,-12.4978,153.9828,3830,    595.2,   6.4070,  34.4620,2,   -999.0,5,   6.3528,-999.0000,9,    177.4,2,    27.12,2,     2.19,2,    31.76,2
09FA693,P11S,      14,        1,       17,       35,2,19930628,2307,-12.4978,153.9828,3830,    792.8,   4.8230,  34.4620,2,   -999.0,5,   4.7593,  34.4625,2,    170.6,2,    49.49,2,     2.41,2,    35.17,2
09FA693,P11S,      14,        1,       16,       18,2,19930628,2307,-12.4978,153.9828,3830,    991.1,   4.0200,  34.5070,2,   -999.0,5,   3.9449,  34.5062,2,    160.4,2,    69.38,2,     2.53,2,    37.07,2
09FA693,P11S,      14,        1,       15,       27,2,19930628,2307,-12.4978,153.9828,3830,   1190.6,   3.5050,  34.5560,2,   -999.0,5,   3.4176,  34.5550,2,    145.7,2,    88.96,2,     2.68,2,    38.70,2
09FA693,P11S,      14,        1,       14,       36,2,19930628,2307,-12.4978,153.9828,3830,   1395.0,   3.0940,  34.5830,2,   -999.0,5,   2.9938,  34.5817,2,    140.9,2,   101.20,2,     2.71,2,    39.63,2
09FA693,P11S,      14,        1,       13,       15,2,19930628,2307,-12.4978,153.9828,3830,   1587.8,   2.8050,  34.6020,2,   -999.0,5,   2.6921,  34.6006,2,    140.0,2,   108.38,2,     2.74,2,    39.74,2
09FA693,P11S,      14,        1,       12,       28,2,19930628,2307,-12.4978,153.9828,3830,   1792.1,   2.5460,  34.6200,2,   -999.0,5,   2.4192,  34.6156,2,    141.5,2,   114.88,2,     2.73,2,    39.81,2
09FA693,P11S,      14,        1,       11,        2,2,19930628,2307,-12.4978,153.9828,3830,   1994.0,   2.3800,  34.6370,2,   -999.0,5,   2.2383,  34.6341,2,    144.3,2,   117.39,2,     2.67,2,    39.19,2
09FA693,P11S,      14,        1,       10,       48,2,19930628,2307,-12.4978,153.9828,3830,   2192.5,   2.2540,  34.6470,2,   -999.0,5,   2.0969,  34.6451,2,    146.8,2,   120.37,2,     2.66,2,    39.14,2
09FA693,P11S,      14,        1,        9,        4,2,19930628,2307,-12.4978,153.9828,3830,   2392.2,   2.1340,  34.6610,2,   -999.0,5,   1.9610,  34.6593,2,    151.6,2,   120.33,2,     2.67,2,    38.72,2
09FA693,P11S,      14,        1,        8,       24,2,19930628,2307,-12.4978,153.9828,3830,   2592.7,   2.0380,  34.6740,2,   -999.0,5,   1.8483,  34.6735,2,    157.6,2,   118.72,2,     2.61,2,    38.34,2
09FA693,P11S,      14,        1,        7,       10,2,19930628,2307,-12.4978,153.9828,3830,   2794.4,   1.9810,  34.6910,2,   -999.0,5,   1.7734,  34.6885,2,    170.3,2,   110.54,2,     2.53,2,    36.92,2
09FA693,P11S,      14,        1,        6,       42,2,19930628,2307,-12.4978,153.9828,3830,   2996.1,   1.9250,  34.7010,2,   -999.0,5,   1.6991,  34.6979,2,    176.8,2,   107.26,2,     2.48,2,    36.30,2
09FA693,P11S,      14,        1,        5,       14,2,19930628,2307,-12.4978,153.9828,3830,   3199.4,   1.8900,  34.7070,2,   -999.0,5,   1.6447,  34.7027,2,    180.5,2,   106.41,2,     2.44,2,    36.03,2
09FA693,P11S,      14,        1,        4,       20,2,19930628,2307,-12.4978,153.9828,3830,   3396.4,   1.8440,  34.7110,2,   -999.0,5,   1.5797,  34.7116,2,    186.2,2,   105.78,2,     2.44,2,    35.75,2
09FA693,P11S,      14,        1,        3,        8,2,19930628,2307,-12.4978,153.9828,3830,   3599.3,   1.8080,  34.7140,2,   -999.0,5,   1.5235,  34.7158,2,    187.0,2,   106.88,2,     2.42,2,    35.81,2
09FA693,P11S,      14,        1,        2,       11,2,19930628,2307,-12.4978,153.9828,3830,   3748.9,   1.8070,  34.7150,2,   -999.0,5,   1.5066,  34.7117,2,    186.4,2,   107.27,2,     2.42,2,    35.63,2
09FA693,P11S,      14,        1,        1,       10,2,19930628,2307,-12.4978,153.9828,3830,   3860.7,   1.8060,  34.7170,2,   -999.0,5,   1.4935,  34.7147,2,    185.3,2,   106.69,2,     2.43,2,    35.55,2