BOTTLE,20220816CCHSIOAMB
EXPOCODE,SECT_ID,STNNBR,CASTNO,SAMPNO,BTLNBR,BTLNBR_FLAG_W,DATE,TIME,LATITUDE,LONGITUDE,DEPTH,CTDPRS,CTDTMP,CTDSAL,CTDSAL_FLAG_W,CTDOXY,CTDOXY_FLAG_W,THETA,SALNTY,SALNTY_FLAG_W,OXYGEN,OXYGEN_FLAG_W,SILCAT,SILCAT_FLAG_W,PHSPHT,PHSPHT_FLAG_W,NO2+NO3,NO2+NO3_FLAG_W
,,,,,,,,,,,,DBAR,ITS-90,PSS-78,,UMOL/KG,,ITS-90,PSS-78,,UMOL/KG,,UMOL/KG,,UMOL/KG,,UMOL/KG,
09FA693,P11S,      19,        1,       24,        5,2,19930630,1245,-15.6478,154.2882,4382,      0.0,  25.2030,  35.2830,2,   -999.0,5,  25.2030,  35.2838,2,    211.5,2,     1.19,3,     0.18,3,     0.00,3
09FA693,P11S,      19,        1,       23,        1,2,19930630,1245,-15.6478,154.2882,4382,     95.1,  24.0710,  35.6790,2,   -999.0,5,  24.0509,  35.6770,2,    190.4,2,     1.34,3,     0.35,3,     2.35,3
09FA693,P11S,      19,        1,       22,       29,2,19930630,1245,-15.6478,154.2882,4382,    188.7,  20.5270,  35.7260,2,   -999.0,5,  20.4913,  35.7277,2,    146.8,2,     2.63,3,     0.82,3,     8.86,3
09FA693,P11S,      19,        1,       21,       41,2,19930630,1245,-15.6478,154.2882,4382,    391.2,  12.3630,  34.9640,2,   -999.0,5,  12.3106,  34.9644,2,    175.9,2,     6.80,3,     1.22,3,    16.38,3
09FA693,P11S,      19,        1,       20,       25,2,19930630,1245,-15.6478,154.2882,4382,    590.5,   6.6620,  34.4550,2,   -999.0,5,   6.6071,  34.4575,2,    186.9,2,    21.22,3,     1.98,3,    28.76,3
09FA693,P11S,      19,        1,       19,       45,2,19930630,1245,-15.6478,154.2882,4382,    790.0,   5.0190,  34.4370,2,   -999.0,5,   4.9543,  34.4377,2,    175.4,2,    41.66,3,     2.28,3,    33.25,3
09FA693,P11S,      19,        1,       18,        9,2,19930630,1245,-15.6478,154.2882,4382,    976.8,   4.2070,  34.4850,2,   -999.0,5,   4.1317,  34.4853,2,    163.9,2,    61.47,3,     2.44,3,    35.46,3
09FA693,P11S,      19,        1,       15,       27,2,19930630,1245,-15.6478,154.2882,4382,   1589.7,   2.8090,  34.6020,2,   -999.0,5,   2.6959,  34.6025,2,    143.4,2,   105.67,3,     2.65,3,    38.38,3
09FA693,P11S,      19,        1,       14,       36,2,19930630,1245,-15.6478,154.2882,4382,   1789.6,   2.5380,  34.6230,2,   -999.0,5,   2.4115,  34.6246,2,    142.3,2,   113.83,3,     2.66,3,    39.11,3
09FA693,P11S,      19,        1,       13,       15,2,19930630,1245,-15.6478,154.2882,4382,   1989.3,   2.3500,  34.6410,2,   -999.0,5,   2.2091,  34.6397,2,    145.8,2,   116.58,3,     2.65,3,    38.50,3
09FA693,P11S,      19,        1,       11,        2,2,19930630,1245,-15.6478,154.2882,4382,   2391.1,   2.1120,  34.6710,2,   -999.0,5,   1.9395,  34.6689,2,    157.5,2,   114.88,3,     2.57,3,    37.33,3
09FA693,P11S,      19,        1,       10,       48,2,19930630,1245,-15.6478,154.2882,4382,   2590.6,   2.0360,  34.6840,2,   -999.0,5,   1.8465,  34.6848,2,    166.9,2,   112.66,3,     2.50,3,    36.98,3
09FA693,P11S,      19,        1,        9,        4,2,19930630,1245,-15.6478,154.2882,4382,   2791.8,   1.9720,  34.6950,2,   -999.0,5,   1.7648,  34.6955,2,    175.1,2,   106.10,3,     2.41,3,    35.55,3
09FA693,P11S,      19,        1,        8,       24,2,19930630,1245,-15.6478,154.2882,4382,   2995.2,   1.9140,  34.7030,2,   -999.0,5,   1.6884,  34.7000,2,    178.9,2,   105.82,3,     2.42,3,    35.46,3
09FA693,P11S,      19,        1,        7,       10,2,19930630,1245,-15.6478,154.2882,4382,   3196.7,   1.8690,  34.7090,2,   -999.0,5,   1.6244,  34.7084,2,    181.6,2,   108.24,3,     2.41,3,    35.51,3
09FA693,P11S,      19,        1,        6,       42,2,19930630,1245,-15.6478,154.2882,4382,   3393.8,   1.8330,  34.7120,2,   -999.0,5,   1.5693,  34.7124,2,    183.7,2,   105.02,3,     2.40,3,    35.04,3
09FA693,P11S,      19,        1,        5,       14,2,19930630,1245,-15.6478,154.2882,4382,   3595.8,   1.8170,  34.7140,2,   -999.0,5,   1.5326,  34.7150,2,    185.8,2,   106.01,3,     2.39,3,    35.15,3
09FA693,P11S,      19,        1,        4,       20,2,19930630,1245,-15.6478,154.2882,4382,   3795.7,   1.8160,  34.7140,2,   -999.0,5,   1.5103,  34.7160,2,    185.6,2,   106.78,3,     2.37,3,    35.04,3
09FA693,P11S,      19,        1,        3,        8,2,19930630,1245,-15.6478,154.2882,4382,   3995.2,   1.8240,  34.7160,2,   -999.0,5,   1.4963,  34.7165,2,    186.4,2,   106.11,3,     2.38,3,    35.10,3
09FA693,P11S,      19,        1,        2,       11,2,19930630,1245,-15.6478,154.2882,4382,   4192.1,   1.8390,  34.7160,2,   -999.0,5,   1.4887,  34.7166,2,    185.0,2,   106.15,3,     2.39,3,    35.13,3
09FA693,P11S,      19,        1,        1,       70,2,19930630,1245,-15.6478,154.2882,4382,   4435.3,   1.8390,  34.7150,2,   -999.0,5,   1.4608,  34.7144,2,    187.7,2,   107.19,3,     2.37,3,    35.47,3
09FA693,P11S,      20,        1,       24,        5,2,19930630,1905,-16.1297,154.3353,3088,      3.1,  24.2350,  35.4260,2,   -999.0,5,  24.2343,  35.4296,2,    217.3,2,     1.26,3,     0.22,3,     0.69,3
09FA693,P11S,      20,        1,       23,        1,2,19930630,1905,-16.1297,154.3353,3088,     47.9,  24.1490,  35.4600,2,   -999.0,5,  24.1389,  35.4611,2,    218.7,2,     1.14,3,     0.19,3,     0.38,3
09FA693,P11S,      20,        1,       22,       29,2,19930630,1905,-16.1297,154.3353,3088,     98.2,  22.9720,  35.6880,2,   -999.0,5,  22.9519,  35.6966,2,    187.7,2,     1.34,3,     0.38,3,     3.36,3
09FA693,P11S,      20,        1,       21,       41,2,19930630,1905,-16.1297,154.3353,3088,    146.9,  21.3830,  35.6520,2,   -999.0,5,  21.3544,  35.6516,2,    178.1,2,     1.42,3,     0.45,3,     4.58,3
09FA693,P11S,      20,        1,       20,       25,2,19930630,1905,-16.1297,154.3353,3088,    195.8,  19.3450,  35.5930,2,   -999.0,5,  19.3095,  35.5900,2,    175.4,2,     1.85,3,     0.55,3,     6.27,3
09FA693,P11S,      20,        1,       19,       45,2,19930630,1905,-16.1297,154.3353,3088,    246.7,  17.4600,  35.4820,2,   -999.0,5,  17.4183,  35.4836,2,    178.6,2,     2.51,3,     0.70,3,     7.80,3
09FA693,P11S,      20,        1,       18,        9,2,19930630,1905,-16.1297,154.3353,3088,    296.4,  15.2550,  35.2700,2,   -999.0,5,  15.2094,  35.2719,2,    175.7,2,     4.00,3,     0.87,3,    11.30,3
09FA693,P11S,      20,        1,       17,       35,2,19930630,1905,-16.1297,154.3353,3088,    396.4,  12.3520,  34.9660,2,   -999.0,5,  12.2989,  34.9704,2,    178.3,2,     6.63,3,     1.20,3,    16.42,3
09FA693,P11S,      20,        1,       16,       18,3,19930630,1905,-16.1297,154.3353,3088,    494.9,   9.4570,  34.6720,2,   -999.0,5,   9.4009,-999.0000,9,   -999.0,9,  -999.00,9,  -999.00,9,  -999.00,9
09FA693,P11S,      20,        1,       15,       27,2,19930630,1905,-16.1297,154.3353,3088,    593.4,   7.4620,  34.4980,2,   -999.0,5,   7.4032,  34.5021,2,    192.0,2,    15.87,3,     1.82,3,    26.49,3
09FA693,P11S,      20,        1,       14,       36,2,19930630,1905,-16.1297,154.3353,3088,    692.4,   6.2220,  34.4280,2,   -999.0,5,   6.1595,  34.4326,2,    190.9,2,    23.57,3,     2.02,3,    29.72,3
09FA693,P11S,      20,        1,       13,       15,2,19930630,1905,-16.1297,154.3353,3088,    794.0,   5.3790,  34.4270,2,   -999.0,5,   5.3118,  34.4283,2,    181.8,2,    32.12,3,     2.01,3,    30.40,3
09FA693,P11S,      20,        1,       12,       28,2,19930630,1905,-16.1297,154.3353,3088,    991.0,   4.1590,  34.4800,2,   -999.0,5,   4.0829,  34.4805,2,    168.7,2,    61.15,3,     2.37,3,    35.79,3
09FA693,P11S,      20,        1,       11,        2,2,19930630,1905,-16.1297,154.3353,3088,   1193.2,   3.5700,  34.5360,2,   -999.0,5,   3.4819,  34.5386,2,    152.5,2,    80.93,3,     2.53,3,    37.09,3
09FA693,P11S,      20,        1,       10,       48,2,19930630,1905,-16.1297,154.3353,3088,   1389.1,   3.1260,  34.5700,2,   -999.0,5,   3.0260,  34.5708,2,    149.8,2,    95.79,3,     2.52,3,    37.97,3
09FA693,P11S,      20,        1,        9,        4,2,19930630,1905,-16.1297,154.3353,3088,   1594.2,   2.8180,  34.5980,2,   -999.0,5,   2.7044,  34.5983,2,    145.5,2,   101.18,3,     2.55,3,    37.85,3
09FA693,P11S,      20,        1,        8,       24,2,19930630,1905,-16.1297,154.3353,3088,   1791.7,   2.5320,  34.6230,2,   -999.0,5,   2.4054,  34.6210,2,    146.6,2,   104.70,3,     2.47,3,    36.95,3
09FA693,P11S,      20,        1,        7,       10,2,19930630,1905,-16.1297,154.3353,3088,   1994.4,   2.3570,  34.6400,2,   -999.0,5,   2.2156,  34.6391,2,    148.7,2,   114.76,3,     2.62,3,    38.46,3
09FA693,P11S,      20,        1,        6,       42,2,19930630,1905,-16.1297,154.3353,3088,   2194.1,   2.2030,  34.6560,2,   -999.0,5,   2.0465,  34.6560,2,    152.2,2,   118.60,3,     2.60,3,    38.82,3
09FA693,P11S,      20,        1,        5,       14,2,19930630,1905,-16.1297,154.3353,3088,   2394.7,   2.0860,  34.6750,2,   -999.0,5,   1.9136,  34.6729,2,    161.8,2,   112.91,3,     2.53,3,    37.39,3
09FA693,P11S,      20,        1,        4,       20,2,19930630,1905,-16.1297,154.3353,3088,   2594.5,   2.0140,  34.6860,2,   -999.0,5,   1.8246,  34.6847,2,    169.0,2,   109.97,3,     2.50,3,    36.64,3
09FA693,P11S,      20,        1,        3,        8,2,19930630,1905,-16.1297,154.3353,3088,   2795.3,   1.9530,  34.6950,2,   -999.0,5,   1.7459,  34.6945,2,    173.5,2,   108.65,3,     2.47,3,    36.25,3
09FA693,P11S,      20,        1,        2,       11,2,19930630,1905,-16.1297,154.3353,3088,   2997.8,   1.9150,  34.7020,2,   -999.0,5,   1.6891,  34.7020,2,    177.8,2,   108.72,3,     2.45,3,    36.15,3
09FA693,P11S,      20,        1,        1,       70,2,19930630,1905,-16.1297,154.3353,3088,   3109.4,   1.8750,  34.7050,2,   -999.0,5,   1.6390,  34.7059,2,    181.6,2,   105.38,3,     2.41,3,    35.57,3
09FA693,P11S,      21,        1,       22,        5,2,19930701,0113,-16.7200,154.3950,3000,      1.2,  24.6350,  35.1900,2,   -999.0,5,  24.6347,  35.1905,2,    221.9,2,     1.16,2,     0.17,2,     0.23,2
09FA693,P11S,      21,        1,       21,       41,2,19930701,0113,-16.7200,154.3950,3000,     48.3,  24.1110,  35.5250,2,   -999.0,5,  24.1008,  35.5261,2,    222.1,2,     1.06,2,     0.17,2,     0.21,2
09FA693,P11S,      21,        1,       20,       25,3,19930701,0113,-16.7200,154.3950,3000,     96.6,  24.0370,  35.6120,2,   -999.0,5,  24.0166,-999.0000,9,   -999.0,9,  -999.00,9,  -999.00,9,  -999.00,9
09FA693,P11S,      21,        1,       19,       45,2,19930701,0113,-16.7200,154.3950,3000,    147.2,  22.0220,  35.6900,2,   -999.0,5,  21.9928,  35.6906,2,    178.1,2,     1.43,2,     0.43,2,     4.27,2
09FA693,P11S,      21,        1,       18,        9,2,19930701,0113,-16.7200,154.3950,3000,    195.6,  19.9590,  35.6400,2,   -999.0,5,  19.9228,  35.6373,2,    176.2,2,     1.71,2,     0.50,2,     5.65,2
09FA693,P11S,      21,        1,       17,       35,2,19930701,0113,-16.7200,154.3950,3000,    245.9,  18.1930,  35.5320,2,   -999.0,5,  18.1503,  35.5317,2,    174.9,2,     2.28,2,     0.62,2,     7.36,2
09FA693,P11S,      21,        1,       16,       18,3,19930701,0113,-16.7200,154.3950,3000,    295.2,  16.7530,  35.4080,2,   -999.0,5,  16.7045,-999.0000,9,   -999.0,9,  -999.00,9,  -999.00,9,  -999.00,9
09FA693,P11S,      21,        1,       15,       27,2,19930701,0113,-16.7200,154.3950,3000,    394.5,  13.4920,  35.0810,2,   -999.0,5,  13.4359,  35.0834,2,    175.7,2,  -999.00,9,  -999.00,9,  -999.00,9
09FA693,P11S,      21,        1,       13,       15,2,19930701,0113,-16.7200,154.3950,3000,    792.1,   5.7640,  34.4250,2,   -999.0,5,   5.6947,-999.0000,9,   -999.0,9,    54.48,2,     2.35,2,    35.03,2
09FA693,P11S,      21,        1,       12,       28,2,19930701,0113,-16.7200,154.3950,3000,    990.6,   4.3870,  34.4610,2,   -999.0,5,   4.3092,  34.4634,2,    170.6,2,  -999.00,9,  -999.00,9,  -999.00,9
09FA693,P11S,      21,        1,       11,        2,2,19930701,0113,-16.7200,154.3950,3000,   1192.9,   3.6480,  34.5200,2,   -999.0,5,   3.5592,  34.5187,2,    163.4,2,    74.05,2,     2.45,2,    36.35,2
09FA693,P11S,      21,        1,       10,       48,2,19930701,0113,-16.7200,154.3950,3000,   1391.5,   3.2250,  34.5610,2,   -999.0,5,   3.1237,  34.5603,2,    153.3,2,    89.87,2,     2.51,2,    38.02,2
09FA693,P11S,      21,        1,        9,        4,2,19930701,0113,-16.7200,154.3950,3000,   1591.5,   2.8460,  34.5950,2,   -999.0,5,   2.7323,  34.5961,2,    146.0,2,   100.20,2,     2.56,2,    38.12,2
09FA693,P11S,      21,        1,        8,       24,2,19930701,0113,-16.7200,154.3950,3000,   1791.4,   2.5730,  34.6200,2,   -999.0,5,   2.4459,  34.6200,2,    145.2,2,   108.89,2,     2.59,2,    38.44,2
09FA693,P11S,      21,        1,        7,       10,2,19930701,0113,-16.7200,154.3950,3000,   1993.0,   2.3830,  34.6350,2,   -999.0,5,   2.2413,  34.6361,2,    145.5,2,   114.46,2,     2.61,2,    38.68,2
09FA693,P11S,      21,        1,        6,       42,2,19930701,0113,-16.7200,154.3950,3000,   2192.8,   2.2250,  34.6530,2,   -999.0,5,   2.0683,  34.6546,2,    149.5,2,   114.77,2,     2.59,2,    38.23,2
09FA693,P11S,      21,        1,        5,       14,2,19930701,0113,-16.7200,154.3950,3000,   2392.6,   2.1310,  34.6670,2,   -999.0,5,   1.9580,  34.6685,2,    156.7,2,   113.93,2,     2.55,2,    37.82,2
09FA693,P11S,      21,        1,        4,       20,2,19930701,0113,-16.7200,154.3950,3000,   2392.6,   2.1310,  34.6670,2,   -999.0,5,   1.9580,  34.6690,2,    157.0,2,   112.76,2,     2.54,2,    37.59,2
09FA693,P11S,      21,        1,        3,        8,2,19930701,0113,-16.7200,154.3950,3000,   2801.5,   1.9640,  34.6960,2,   -999.0,5,   1.7561,  34.6982,2,    177.0,2,   104.88,2,     2.43,2,    36.00,2
09FA693,P11S,      21,        1,        2,       11,2,19930701,0113,-16.7200,154.3950,3000,   2801.5,   1.9640,  34.6960,2,   -999.0,5,   1.7561,  34.6991,2,    173.8,2,   105.04,2,     2.43,2,    35.96,2
09FA693,P11S,      21,        1,        1,       70,2,19930701,0113,-16.7200,154.3950,3000,   3007.1,   1.6910,  34.7130,2,   -999.0,5,   1.4691,  34.7169,2,    187.7,2,   104.47,2,     2.35,2,    35.26,2
09FA693,P11S,      22,        1,       20,        5,2,19930701,0721,-17.3047,154.4533,2640,      6.1,  24.0050,  35.5750,2,   -999.0,5,  24.0037,  35.5758,2,    216.7,2,     1.21,2,     0.18,2,     0.25,2
09FA693,P11S,      22,        1,       19,       45,2,19930701,0721,-17.3047,154.4533,2640,     48.1,  24.0170,  35.5790,2,   -999.0,5,  24.0068,  35.5794,2,    217.2,2,     1.18,2,     0.18,2,     0.22,2
09FA693,P11S,      22,        1,       18,        9,2,19930701,0721,-17.3047,154.4533,2640,     99.4,  24.0020,  35.5980,2,   -999.0,5,  23.9810,  35.5987,2,    219.9,2,     1.10,2,     0.18,2,     0.29,2
09FA693,P11S,      22,        1,       17,       35,2,19930701,0721,-17.3047,154.4533,2640,    149.9,  22.0070,  35.6750,2,   -999.0,5,  21.9772,  35.6757,2,    183.5,2,     1.41,2,     0.41,2,     3.77,2
09FA693,P11S,      22,        1,       16,       18,2,19930701,0721,-17.3047,154.4533,2640,    195.6,  20.5440,  35.6300,2,   -999.0,5,  20.5070,  35.6263,2,    186.7,2,     1.45,2,     0.42,2,     4.17,2
09FA693,P11S,      22,        1,       15,       27,2,19930701,0721,-17.3047,154.4533,2640,    244.5,  19.2980,  35.6010,2,   -999.0,5,  19.2537,  35.6007,2,    179.8,2,     1.79,2,     0.52,2,     5.61,2
09FA693,P11S,      22,        1,       14,       36,2,19930701,0721,-17.3047,154.4533,2640,    293.5,  17.7950,  35.5010,2,   -999.0,5,  17.7447,  35.5001,2,    174.8,2,     2.49,2,     0.67,2,     7.77,2
09FA693,P11S,      22,        1,       13,       15,2,19930701,0721,-17.3047,154.4533,2640,    389.7,  14.7970,  35.2170,2,   -999.0,5,  14.7381,  35.2182,2,    174.8,2,     4.50,2,     0.96,2,    12.16,2
09FA693,P11S,      22,        1,       12,       28,2,19930701,0721,-17.3047,154.4533,2640,    592.8,   8.4730,  34.6000,2,   -999.0,5,   8.4098,  34.6044,2,    188.6,2,    14.06,2,     1.71,2,    24.34,2
09FA693,P11S,      22,        1,       11,        2,2,19930701,0721,-17.3047,154.4533,2640,    792.5,   5.7740,  34.4310,2,   -999.0,5,   5.7046,  34.4336,2,    186.7,2,    30.56,2,     2.15,2,    31.25,2
09FA693,P11S,      22,        1,       10,       48,2,19930701,0721,-17.3047,154.4533,2640,    992.0,   4.3830,  34.4620,2,   -999.0,5,   4.3051,  34.4653,2,    168.9,2,    56.15,2,     2.41,2,    35.16,2
09FA693,P11S,      22,        1,        9,        4,2,19930701,0721,-17.3047,154.4533,2640,   1190.9,   3.7330,  34.5140,2,   -999.0,5,   3.6436,  34.5160,2,    160.1,2,    72.94,2,     2.49,2,    36.51,2
09FA693,P11S,      22,        1,        8,       24,2,19930701,0721,-17.3047,154.4533,2640,   1392.5,   3.2310,  34.5590,2,   -999.0,5,   3.1296,  34.5596,2,    152.2,2,    88.56,2,     2.55,2,    37.46,2
09FA693,P11S,      22,        1,        7,       10,2,19930701,0721,-17.3047,154.4533,2640,   1592.0,   2.8420,  34.5950,2,   -999.0,5,   2.7283,  34.5949,2,    145.5,2,   100.09,2,     2.63,2,    38.28,2
09FA693,P11S,      22,        1,        6,       42,2,19930701,0721,-17.3047,154.4533,2640,   1792.0,   2.6050,  34.6150,2,   -999.0,5,   2.4774,-999.0000,9,    144.2,2,   107.97,2,     2.65,2,    38.66,2
09FA693,P11S,      22,        1,        5,       14,2,19930701,0721,-17.3047,154.4533,2640,   1991.4,   2.3990,  34.6340,2,   -999.0,5,   2.2572,  34.6334,2,    146.1,2,   113.10,2,     2.64,2,    38.65,2
09FA693,P11S,      22,        1,        4,       20,2,19930701,0721,-17.3047,154.4533,2640,   2195.8,   2.2700,  34.6470,2,   -999.0,5,   2.1123,  34.6480,2,    149.8,2,   112.90,2,     2.61,2,    38.28,2
09FA693,P11S,      22,        1,        3,        8,3,19930701,0721,-17.3047,154.4533,2640,   2396.1,   2.1220,  34.6670,2,   -999.0,5,   1.9488,-999.0000,9,   -999.0,9,  -999.00,9,  -999.00,9,  -999.00,9
09FA693,P11S,      22,        1,        2,       11,2,19930701,0721,-17.3047,154.4533,2640,   2596.1,   2.0310,  34.6840,2,   -999.0,5,   1.8411,  34.6845,2,    170.0,2,   105.25,2,     2.43,2,    36.29,2
09FA693,P11S,      22,        1,        1,       70,2,19930701,0721,-17.3047,154.4533,2640,   2661.7,   2.0230,  34.6890,2,   -999.0,5,   1.8271,  34.6908,2,    173.2,2,   104.20,2,     2.43,2,    36.05,2