BOTTLE,20220816CCHSIOAMB
EXPOCODE,SECT_ID,STNNBR,CASTNO,SAMPNO,BTLNBR,BTLNBR_FLAG_W,DATE,TIME,LATITUDE,LONGITUDE,DEPTH,CTDPRS,CTDTMP,CTDSAL,CTDSAL_FLAG_W,CTDOXY,CTDOXY_FLAG_W,THETA,SALNTY,SALNTY_FLAG_W,OXYGEN,OXYGEN_FLAG_W,SILCAT,SILCAT_FLAG_W,PHSPHT,PHSPHT_FLAG_W,NO2+NO3,NO2+NO3_FLAG_W
,,,,,,,,,,,,DBAR,ITS-90,PSS-78,,UMOL/KG,,ITS-90,PSS-78,,UMOL/KG,,UMOL/KG,,UMOL/KG,,UMOL/KG,
09FA693,P11S,      59,        1,       24,        5,2,19930711,0744,-36.9378,155.0008,4602,      2.1,  16.3970,  35.5690,2,   -999.0,5,  16.3967,  35.5687,2,    244.9,2,     2.25,2,     0.40,2,     3.33,2
09FA693,P11S,      59,        1,       23,       25,2,19930711,0744,-36.9378,155.0008,4602,     98.8,  15.8190,  35.5540,2,   -999.0,5,  15.8035,  35.5699,2,    242.0,2,     1.79,2,     0.40,2,     3.66,2
09FA693,P11S,      59,        1,       22,       36,2,19930711,0744,-36.9378,155.0008,4602,    195.4,  13.8270,  35.2930,2,   -999.0,5,  13.7989,  35.2945,2,    205.4,2,     3.62,2,     0.81,2,    10.48,2
09FA693,P11S,      59,        1,       21,        3,2,19930711,0744,-36.9378,155.0008,4602,    395.0,  10.5680,  34.8830,2,   -999.0,5,  10.5201,  34.8841,2,    205.1,2,     6.88,2,  -999.00,9,    17.80,2
09FA693,P11S,      59,        1,       20,       27,2,19930711,0744,-36.9378,155.0008,4602,    594.3,   8.2980,  34.6090,2,   -999.0,5,   8.2353,  34.6127,2,    196.7,2,    13.17,2,     1.66,2,    24.45,2
09FA693,P11S,      59,        1,       19,       20,2,19930711,0744,-36.9378,155.0008,4602,    793.4,   6.4430,  34.4840,2,   -999.0,5,   6.3694,  34.4849,2,    190.1,2,    24.51,2,     1.98,2,    29.11,2
09FA693,P11S,      59,        1,       18,       45,2,19930711,0744,-36.9378,155.0008,4602,    992.3,   5.1680,  34.4660,2,   -999.0,5,   5.0842,  34.4646,2,    181.4,2,    41.39,2,     2.18,2,    32.11,2
09FA693,P11S,      59,        1,       17,        1,2,19930711,0744,-36.9378,155.0008,4602,   1193.1,   4.1000,  34.5010,2,   -999.0,5,   4.0071,  34.4990,2,    170.3,2,    61.85,2,     2.38,2,    34.60,2
09FA693,P11S,      59,        1,       16,       41,2,19930711,0744,-36.9378,155.0008,4602,   1391.9,   3.3380,  34.5490,2,   -999.0,5,   3.2355,  34.5484,2,    160.3,2,    78.65,2,     2.49,2,    36.10,2
09FA693,P11S,      59,        1,       15,        9,2,19930711,0744,-36.9378,155.0008,4602,   1592.9,   2.8160,  34.6050,2,   -999.0,5,   2.7025,-999.0000,9,    158.5,2,    82.15,2,     2.51,2,    36.26,2
09FA693,P11S,      59,        1,       14,       35,2,19930711,0744,-36.9378,155.0008,4602,   1794.3,   2.5540,  34.6390,2,   -999.0,5,   2.4268,-999.0000,9,    159.2,2,    88.56,2,     2.52,2,    36.43,2
09FA693,P11S,      59,        1,       13,       15,2,19930711,0744,-36.9378,155.0008,4602,   1995.2,   2.3270,  34.6750,2,   -999.0,5,   2.1858,-999.0000,9,    166.6,2,    91.46,2,     2.48,2,    35.77,2
09FA693,P11S,      59,        1,       12,       28,2,19930711,0744,-36.9378,155.0008,4602,   2193.8,   2.1690,  34.7010,2,   -999.0,5,   2.0130,  34.6965,2,    179.0,2,    88.56,2,     2.36,2,    34.10,2
09FA693,P11S,      59,        1,       11,        2,2,19930711,0744,-36.9378,155.0008,4602,   2394.8,   2.0300,  34.7200,2,   -999.0,5,   1.8584,  34.7174,2,    184.0,2,    94.38,2,     2.34,2,    34.43,2
09FA693,P11S,      59,        1,       10,       48,2,19930711,0744,-36.9378,155.0008,4602,   2594.6,   1.8830,  34.7290,2,   -999.0,5,   1.6959,  34.7317,2,    188.0,2,    95.85,2,     2.32,2,    33.60,2
09FA693,P11S,      59,        1,        9,        4,2,19930711,0744,-36.9378,155.0008,4602,   2798.3,   1.7440,  34.7330,2,   -999.0,5,   1.5408,  34.7309,2,    191.4,2,    99.57,2,     2.32,2,    33.44,2
09FA693,P11S,      59,        1,        8,       24,2,19930711,0744,-36.9378,155.0008,4602,   2993.6,   1.6080,  34.7320,2,   -999.0,5,   1.3891,  34.7289,2,    194.1,2,   102.57,2,     2.33,2,    34.10,2
09FA693,P11S,      59,        1,        7,       10,2,19930711,0744,-36.9378,155.0008,4602,   3196.6,   1.4580,  34.7300,2,   -999.0,5,   1.2229,  34.7245,2,    196.4,2,   102.57,2,     2.32,2,    33.77,2
09FA693,P11S,      59,        1,        6,       42,2,19930711,0744,-36.9378,155.0008,4602,   3396.5,   1.3190,  34.7260,2,   -999.0,5,   1.0675,  34.7205,2,    198.5,2,  -999.00,9,  -999.00,9,  -999.00,9
09FA693,P11S,      59,        1,        5,       14,2,19930711,0744,-36.9378,155.0008,4602,   3596.6,   1.2260,  34.7220,2,   -999.0,5,   0.9567,  34.7165,2,    199.3,2,   106.37,2,     2.33,2,    33.94,2
09FA693,P11S,      59,        1,        4,        7,2,19930711,0744,-36.9378,155.0008,4602,   3794.6,   1.1700,  34.7200,2,   -999.0,5,   0.8818,  34.7197,2,    199.6,2,   108.67,2,     2.34,2,    34.10,2
09FA693,P11S,      59,        1,        3,        8,2,19930711,0744,-36.9378,155.0008,4602,   4098.3,   1.1240,  34.7180,2,   -999.0,5,   0.8049,  34.7141,2,    201.7,2,   110.99,2,     2.36,2,    34.43,2
09FA693,P11S,      59,        1,        2,       11,2,19930711,0744,-36.9378,155.0008,4602,   4397.4,   1.1070,  34.7170,2,   -999.0,5,   0.7556,  34.7117,2,    202.8,2,   111.76,2,     2.37,2,    34.60,2
09FA693,P11S,      59,        1,        1,       70,2,19930711,0744,-36.9378,155.0008,4602,   4673.0,   1.1080,  34.7160,2,   -999.0,5,   0.7252,  34.7113,2,    202.5,2,   110.99,2,     2.37,2,    34.77,2
09FA693,P11S,      60,        1,       24,        5,2,19930711,1408,-37.5203,155.0013,4554,      1.2,  15.9970,  35.4790,2,   -999.0,5,  15.9968,  35.4807,2,    241.8,2,     2.25,2,     0.43,2,     3.83,2
09FA693,P11S,      60,        1,       23,       25,2,19930711,1408,-37.5203,155.0013,4554,     98.5,  15.6360,  35.5260,2,   -999.0,5,  15.6206,  35.5242,2,    243.6,2,     1.79,2,     0.43,2,     3.99,2
09FA693,P11S,      60,        1,       22,       36,2,19930711,1408,-37.5203,155.0013,4554,    195.3,  14.0770,  35.3000,2,   -999.0,5,  14.0486,  35.2976,2,    204.3,2,     3.62,2,     0.81,2,    10.31,2
09FA693,P11S,      60,        1,       21,        3,2,19930711,1408,-37.5203,155.0013,4554,    396.8,  11.1220,  34.9730,2,   -999.0,5,  11.0723,  34.9733,2,    221.7,2,     4.54,2,     1.07,2,    14.64,2
09FA693,P11S,      60,        1,       19,       20,2,19930711,1408,-37.5203,155.0013,4554,    792.1,   7.0210,  34.5080,2,   -999.0,5,   6.9441,  34.5096,2,    190.9,2,    19.77,2,     1.89,2,    27.78,2
09FA693,P11S,      60,        1,       18,       45,2,19930711,1408,-37.5203,155.0013,4554,    990.9,   5.5330,  34.4610,2,   -999.0,5,   5.4466,  34.4618,2,    184.8,2,    35.02,2,  -999.00,9,    31.27,2
09FA693,P11S,      60,        1,       17,        1,2,19930711,1408,-37.5203,155.0013,4554,   1191.5,   4.3790,  34.4750,2,   -999.0,5,   4.2837,  34.4776,2,    174.5,2,    52.93,2,     2.34,2,    34.10,2
09FA693,P11S,      60,        1,       16,       41,2,19930711,1408,-37.5203,155.0013,4554,   1386.8,   3.5230,  34.5330,2,   -999.0,5,   3.4190,  34.5327,2,    161.9,2,    73.83,2,     2.48,2,    35.93,2
09FA693,P11S,      60,        1,       15,        9,2,19930711,1408,-37.5203,155.0013,4554,   1592.8,   2.9750,  34.5830,2,   -999.0,5,   2.8596,  34.5815,2,    158.2,2,    85.69,2,     2.52,2,    36.60,2
09FA693,P11S,      60,        1,       14,       35,2,19930711,1408,-37.5203,155.0013,4554,   1791.3,   2.6220,  34.6210,2,   -999.0,5,   2.4942,  34.6194,2,    163.5,2,    88.56,2,     2.49,2,    36.60,2
09FA693,P11S,      60,        1,       13,       15,2,19930711,1408,-37.5203,155.0013,4554,   1993.6,   2.3670,  34.6620,2,   -999.0,5,   2.2254,  34.6627,2,    170.6,2,    88.56,2,     2.43,2,    35.77,2
09FA693,P11S,      60,        1,       12,       28,2,19930711,1408,-37.5203,155.0013,4554,   2192.8,   2.1820,  34.6920,2,   -999.0,5,   2.0259,  34.6915,2,    179.0,2,    90.01,2,     2.36,2,    34.77,2
09FA693,P11S,      60,        1,       11,        2,2,19930711,1408,-37.5203,155.0013,4554,   2396.2,   2.0350,  34.7120,2,   -999.0,5,   1.8632,  34.7116,2,    184.0,2,    92.19,2,     2.33,2,    34.43,2
09FA693,P11S,      60,        1,       10,       48,2,19930711,1408,-37.5203,155.0013,4554,   2597.0,   1.8920,  34.7230,2,   -999.0,5,   1.7046,  34.7219,2,    188.0,2,    95.85,2,     2.30,2,    34.27,2
09FA693,P11S,      60,        1,        9,        4,2,19930711,1408,-37.5203,155.0013,4554,   2795.6,   1.7480,  34.7260,2,   -999.0,5,   1.5449,  34.7272,2,    191.4,2,    99.57,2,     2.32,2,    34.27,2
09FA693,P11S,      60,        1,        8,       24,2,19930711,1408,-37.5203,155.0013,4554,   2998.2,   1.5880,  34.7250,2,   -999.0,5,   1.3691,  34.7257,2,    194.3,2,   104.09,2,     2.33,2,    34.43,2
09FA693,P11S,      60,        1,        7,       10,2,19930711,1408,-37.5203,155.0013,4554,   3196.5,   1.4530,  34.7220,2,   -999.0,5,   1.2180,  34.7242,2,    197.2,2,   107.90,2,     2.32,2,    34.43,2
09FA693,P11S,      60,        1,        6,       42,2,19930711,1408,-37.5203,155.0013,4554,   3397.3,   1.3010,  34.7190,2,   -999.0,5,   1.0499,  34.7208,2,    198.3,2,   111.76,2,     2.34,2,    34.60,2
09FA693,P11S,      60,        1,        5,       14,2,19930711,1408,-37.5203,155.0013,4554,   3598.3,   1.2040,  34.7160,2,   -999.0,5,   0.9351,  34.7177,2,    200.6,2,   113.32,2,     2.34,2,    35.27,2
09FA693,P11S,      60,        1,        4,        7,2,19930711,1408,-37.5203,155.0013,4554,   3798.0,   1.1500,  34.7130,2,   -999.0,5,   0.8620,  34.7149,2,    200.4,2,   116.45,2,     2.36,2,    34.93,2
09FA693,P11S,      60,        1,        3,        8,2,19930711,1408,-37.5203,155.0013,4554,   3999.3,   1.1210,  34.7120,2,   -999.0,5,   0.8126,  34.7135,2,    201.4,2,   116.45,2,     2.36,2,    34.93,2
09FA693,P11S,      60,        1,        2,       11,2,19930711,1408,-37.5203,155.0013,4554,   4299.0,   1.1060,  34.7100,2,   -999.0,5,   0.7655,  34.7125,2,    201.7,2,   114.88,2,     2.34,2,    35.60,2
09FA693,P11S,      60,        1,        1,       70,2,19930711,1408,-37.5203,155.0013,4554,   4612.9,   1.0940,  34.7090,2,   -999.0,5,   0.7186,  34.7111,2,    203.8,2,   118.82,2,     2.37,2,    35.60,2
09FA693,P11S,      61,        1,       24,        5,2,19930711,2033,-38.1152,155.0023,4570,      2.6,  15.5180,  35.4860,2,   -999.0,5,  15.5176,  35.4824,2,    244.9,2,     1.79,2,     0.43,2,     3.99,2
09FA693,P11S,      61,        1,       23,       25,2,19930711,2033,-38.1152,155.0023,4570,     98.3,  15.3950,  35.5100,2,   -999.0,5,  15.3798,  35.5090,2,    242.3,2,     1.79,2,     0.46,2,     4.66,2
09FA693,P11S,      61,        1,       22,       36,2,19930711,2033,-38.1152,155.0023,4570,    198.5,  13.4680,  35.2240,2,   -999.0,5,  13.4400,-999.0000,9,    246.0,2,     2.25,2,     0.59,2,     6.82,2
09FA693,P11S,      61,        1,       21,        3,2,19930711,2033,-38.1152,155.0023,4570,    395.0,  10.6810,  34.8920,2,   -999.0,5,  10.6328,  34.8921,2,    204.6,2,     6.41,2,     1.22,2,    17.63,2
09FA693,P11S,      61,        1,       20,       27,2,19930711,2033,-38.1152,155.0023,4570,    592.0,   8.6890,  34.6370,2,   -999.0,5,   8.6249,  34.6411,2,    202.8,2,    10.23,2,     1.55,2,    23.29,2
09FA693,P11S,      61,        1,       19,       20,2,19930711,2033,-38.1152,155.0023,4570,    791.7,   7.0220,  34.5100,2,   -999.0,5,   6.9451,-999.0000,9,    192.2,2,    19.77,2,     1.87,2,    28.61,2
09FA693,P11S,      61,        1,       18,       45,2,19930711,2033,-38.1152,155.0023,4570,    991.9,   5.5540,  34.4600,2,   -999.0,5,   5.4673,  34.4618,2,    184.0,2,    34.45,2,     2.12,2,    32.11,2
09FA693,P11S,      61,        1,       17,        1,2,19930711,2033,-38.1152,155.0023,4570,   1191.8,   4.4630,  34.4710,2,   -999.0,5,   4.3670,  34.4722,2,    175.1,2,    46.17,2,     2.30,2,    34.60,2
09FA693,P11S,      61,        1,       16,       41,2,19930711,2033,-38.1152,155.0023,4570,   1391.6,   3.6220,  34.5140,2,   -999.0,5,   3.5166,  34.5121,2,    166.4,2,    70.45,2,     2.44,2,    37.10,2
09FA693,P11S,      61,        1,       14,       35,2,19930711,2033,-38.1152,155.0023,4570,   1793.5,   2.6540,  34.6180,2,   -999.0,5,   2.5256,  34.6065,2,    160.8,2,    90.73,2,     2.53,2,    37.26,2
09FA693,P11S,      61,        1,       13,       15,2,19930711,2033,-38.1152,155.0023,4570,   1994.1,   2.4190,  34.6540,2,   -999.0,5,   2.2766,  34.6491,2,    167.9,2,    91.46,2,     2.45,2,    36.43,2
09FA693,P11S,      61,        1,       12,       28,2,19930711,2033,-38.1152,155.0023,4570,   2194.1,   2.2370,  34.6870,2,   -999.0,5,   2.0799,  34.6820,2,    176.9,2,    90.01,2,     2.34,2,    35.27,2
09FA693,P11S,      61,        1,       11,        2,2,19930711,2033,-38.1152,155.0023,4570,   2394.7,   2.0860,  34.7080,2,   -999.0,5,   1.9135,  34.7038,2,    182.5,2,    92.19,2,     2.32,2,    34.93,2
09FA693,P11S,      61,        1,       10,       48,2,19930711,2033,-38.1152,155.0023,4570,   2595.5,   1.9420,  34.7220,2,   -999.0,5,   1.7537,  34.7225,2,    186.4,2,    96.59,2,     2.32,2,    34.93,2
09FA693,P11S,      61,        1,        9,        4,2,19930711,2033,-38.1152,155.0023,4570,   2796.3,   1.7900,  34.7270,2,   -999.0,5,   1.5860,  34.7275,2,    190.4,2,   100.32,2,     2.30,2,    34.77,2
09FA693,P11S,      61,        1,        8,       24,2,19930711,2033,-38.1152,155.0023,4570,   2996.3,   1.6410,  34.7270,2,   -999.0,5,   1.4212,  34.7281,2,    193.3,2,   104.09,2,     2.30,2,    34.77,2
09FA693,P11S,      61,        1,        7,       10,2,19930711,2033,-38.1152,155.0023,4570,   3198.2,   1.5060,  34.7250,2,   -999.0,5,   1.2696,  34.7245,2,    196.4,2,   107.90,2,     2.32,2,    34.77,2
09FA693,P11S,      61,        1,        6,       42,2,19930711,2033,-38.1152,155.0023,4570,   3398.7,   1.3510,  34.7210,2,   -999.0,5,   1.0985,  34.7212,2,    197.2,2,   111.76,2,     2.33,2,    35.27,2
09FA693,P11S,      61,        1,        5,       14,2,19930711,2033,-38.1152,155.0023,4570,   3599.8,   1.2420,  34.7170,2,   -999.0,5,   0.9720,  34.7176,2,    200.1,2,   114.10,2,     2.34,2,    35.27,2
09FA693,P11S,      61,        1,        4,        7,2,19930711,2033,-38.1152,155.0023,4570,   3800.1,   1.1760,  34.7150,2,   -999.0,5,   0.8871,  34.7144,2,    198.8,2,   116.45,2,     2.34,2,    35.43,2
09FA693,P11S,      61,        1,        3,        8,2,19930711,2033,-38.1152,155.0023,4570,   3999.1,   1.1420,  34.7120,2,   -999.0,5,   0.8331,  34.7135,2,    201.4,2,   117.24,2,     2.33,2,    35.43,2
09FA693,P11S,      61,        1,        2,       11,2,19930711,2033,-38.1152,155.0023,4570,   4300.5,   1.1170,  34.7110,2,   -999.0,5,   0.7760,  34.7119,2,    202.0,2,   119.62,2,     2.36,2,    35.60,2
09FA693,P11S,      61,        1,        1,       70,2,19930711,2033,-38.1152,155.0023,4570,   4657.2,-999.0000,-999.0000,9,   -999.0,5,-999.0000,  34.7090,2,    203.0,2,   120.41,2,     2.36,2,    35.43,2
09FA693,P11S,      62,        1,       24,        5,2,19930712,0252,-38.7058,155.0032,4038,      2.6,  15.0640,  35.4570,2,   -999.0,5,  15.0636,  35.4571,2,    251.3,2,     2.10,2,     0.42,2,     4.12,2
09FA693,P11S,      62,        1,       23,       25,2,19930712,0252,-38.7058,155.0032,4038,     48.2,  14.4720,  35.3840,2,   -999.0,5,  14.4649,  35.3847,2,    251.3,2,     2.16,2,     0.48,2,     5.07,2
09FA693,P11S,      62,        1,       22,       36,2,19930712,0252,-38.7058,155.0032,4038,     97.2,  13.5470,  35.2710,2,   -999.0,5,  13.5333,  35.2693,2,    251.0,2,     2.25,2,     0.54,2,     5.96,2
09FA693,P11S,      62,        1,       21,        3,2,19930712,0252,-38.7058,155.0032,4038,    196.4,  12.2380,  35.1460,2,   -999.0,5,  12.2120,  35.1481,2,    223.1,2,     3.96,2,     0.88,2,    11.93,2
09FA693,P11S,      62,        1,       20,       27,2,19930712,0252,-38.7058,155.0032,4038,    396.1,   9.4800,  34.7110,2,   -999.0,5,   9.4352,  34.7125,2,    249.9,2,     4.51,2,     1.14,2,    16.02,2
09FA693,P11S,      62,        1,       19,       20,2,19930712,0252,-38.7058,155.0032,4038,    592.8,   8.5630,  34.5980,2,   -999.0,5,   8.4994,  34.5999,2,    221.5,2,     8.28,2,     1.46,2,    21.40,2
09FA693,P11S,      62,        1,       18,       45,2,19930712,0252,-38.7058,155.0032,4038,    791.6,   6.9880,  34.4960,2,   -999.0,5,   6.9114,  34.4979,2,    193.3,2,    19.05,2,     1.88,2,    28.13,2
09FA693,P11S,      62,        1,       17,        1,2,19930712,0252,-38.7058,155.0032,4038,    991.6,   5.3080,  34.4320,2,   -999.0,5,   5.2232,  34.4336,2,    189.3,2,    34.24,2,     2.16,2,    31.65,2
09FA693,P11S,      62,        1,       16,       41,2,19930712,0252,-38.7058,155.0032,4038,   1191.0,   4.1820,  34.4550,2,   -999.0,5,   4.0886,  34.4544,2,    179.3,2,    52.83,2,     2.34,2,    34.18,2
09FA693,P11S,      62,        1,       15,        9,2,19930712,0252,-38.7058,155.0032,4038,   1392.5,   3.4710,  34.5310,2,   -999.0,5,   3.3671,  34.5290,2,    163.5,2,    76.17,2,     2.48,2,    36.40,2
09FA693,P11S,      62,        1,       14,       35,2,19930712,0252,-38.7058,155.0032,4038,   1591.9,   2.9410,  34.5840,2,   -999.0,5,   2.8261,  34.5796,2,    159.0,2,    88.10,2,     2.54,2,    36.68,2
09FA693,P11S,      62,        1,       13,       15,2,19930712,0252,-38.7058,155.0032,4038,   1792.7,   2.6080,  34.6260,2,   -999.0,5,   2.4803,  34.6247,2,    162.4,2,    93.02,2,     2.52,2,    36.57,2
09FA693,P11S,      62,        1,       12,       28,2,19930712,0252,-38.7058,155.0032,4038,   1992.9,   2.3820,  34.6600,2,   -999.0,5,   2.2403,  34.6604,2,    173.2,2,    92.08,2,     2.43,2,    35.58,2
09FA693,P11S,      62,        1,       11,        2,2,19930712,0252,-38.7058,155.0032,4038,   2194.3,   2.2090,  34.6910,2,   -999.0,5,   2.0523,  34.6909,2,    177.7,2,    93.90,2,     2.37,2,    35.22,2
09FA693,P11S,      62,        1,       10,       48,2,19930712,0252,-38.7058,155.0032,4038,   2394.7,   2.0910,  34.7090,2,   -999.0,5,   1.9184,  34.7093,2,    182.5,2,    94.50,2,     2.34,2,    34.43,2
09FA693,P11S,      62,        1,        9,        4,2,19930712,0252,-38.7058,155.0032,4038,   2594.8,   1.9470,  34.7210,2,   -999.0,5,   1.7587,  34.7210,2,    186.1,2,    98.12,2,     2.33,2,    34.37,2
09FA693,P11S,      62,        1,        8,       24,2,19930712,0252,-38.7058,155.0032,4038,   2795.2,   1.7790,  34.7280,2,   -999.0,5,   1.5753,  34.7280,2,    190.9,2,   102.30,2,     2.31,2,    34.10,2
09FA693,P11S,      62,        1,        7,       10,2,19930712,0252,-38.7058,155.0032,4038,   2996.3,   1.6410,  34.7270,2,   -999.0,5,   1.4212,  34.7276,2,    194.1,2,   106.36,2,     2.32,2,    34.28,2
09FA693,P11S,      62,        1,        6,       42,2,19930712,0252,-38.7058,155.0032,4038,   3199.7,   1.5010,  34.7250,2,   -999.0,5,   1.2646,  34.7255,2,    195.9,2,   110.25,2,     2.33,2,    34.28,2
09FA693,P11S,      62,        1,        5,       14,2,19930712,0252,-38.7058,155.0032,4038,   3397.1,   1.3570,  34.7220,2,   -999.0,5,   1.1045,  34.7219,2,    198.0,2,   113.95,2,     2.34,2,    34.47,2
09FA693,P11S,      62,        1,        4,        7,2,19930712,0252,-38.7058,155.0032,4038,   3598.3,   1.2300,  34.7180,2,   -999.0,5,   0.9605,  34.7179,2,    200.1,2,   116.73,2,     2.35,2,    34.70,2
09FA693,P11S,      62,        1,        3,        8,2,19930712,0252,-38.7058,155.0032,4038,   3799.7,   1.1530,  34.7140,2,   -999.0,5,   0.8648,  34.7148,2,    201.2,2,   119.48,2,     2.35,2,    34.98,2
09FA693,P11S,      62,        1,        2,       11,2,19930712,0252,-38.7058,155.0032,4038,   3998.8,   1.1080,  34.7120,2,   -999.0,5,   0.8001,  34.7128,2,    202.2,2,   121.25,2,     2.36,2,    35.12,2
09FA693,P11S,      62,        1,        1,       70,2,19930712,0252,-38.7058,155.0032,4038,   3998.8,   1.1080,  34.7120,2,   -999.0,5,   0.8001,  34.7128,2,    201.7,2,   121.75,2,     2.37,2,    35.23,2