BOTTLE,20220816CCHSIOAMB
EXPOCODE,SECT_ID,STNNBR,CASTNO,SAMPNO,BTLNBR,BTLNBR_FLAG_W,DATE,TIME,LATITUDE,LONGITUDE,DEPTH,CTDPRS,CTDTMP,CTDSAL,CTDSAL_FLAG_W,CTDOXY,CTDOXY_FLAG_W,THETA,SALNTY,SALNTY_FLAG_W,OXYGEN,OXYGEN_FLAG_W,SILCAT,SILCAT_FLAG_W,PHSPHT,PHSPHT_FLAG_W,NO2+NO3,NO2+NO3_FLAG_W
,,,,,,,,,,,,DBAR,ITS-90,PSS-78,,UMOL/KG,,ITS-90,PSS-78,,UMOL/KG,,UMOL/KG,,UMOL/KG,,UMOL/KG,
09FA693,P11S,      47,        1,       23,       25,2,19930707,0637,-29.7785,156.0035,4826,     96.9,  21.7800,  35.7200,2,   -999.0,5,  21.7609,  35.7180,2,    217.8,2,  -999.00,9,  -999.00,9,  -999.00,9
09FA693,P11S,      47,        1,       22,       36,2,19930707,0637,-29.7785,156.0035,4826,    198.8,  19.9860,  35.6020,2,   -999.0,5,  19.9491,  35.5996,2,    183.5,2,     1.50,2,     0.40,2,     4.99,2
09FA693,P11S,      47,        1,       21,        3,2,19930707,0637,-29.7785,156.0035,4826,    395.9,  15.2960,  35.3220,2,   -999.0,5,  15.2347,  35.3226,2,    182.7,2,     3.41,2,     0.72,2,    11.08,2
09FA693,P11S,      47,        1,       20,       27,2,19930707,0637,-29.7785,156.0035,4826,    597.5,  10.4780,  34.8280,2,   -999.0,5,  10.4053,  34.8285,2,    187.1,2,     7.77,2,     1.25,2,    20.07,2
09FA693,P11S,      47,        1,       18,       45,2,19930707,0637,-29.7785,156.0035,4826,    990.0,   5.6580,  34.4610,2,   -999.0,5,   5.5707,  34.4623,2,    186.3,2,    32.01,2,     2.05,2,    31.57,2
09FA693,P11S,      47,        1,       14,       35,2,19930707,0637,-29.7785,156.0035,4826,   1794.9,   2.6000,  34.6300,2,   -999.0,5,   2.4722,  34.6294,2,    157.8,2,    96.48,2,     2.58,2,    37.42,2
09FA693,P11S,      47,        1,       13,       15,2,19930707,0637,-29.7785,156.0035,4826,   1996.4,   2.3470,  34.6640,2,   -999.0,5,   2.2055,  34.6635,2,    166.5,2,    96.50,2,     2.49,2,    36.69,2
09FA693,P11S,      47,        1,       12,       28,2,19930707,0637,-29.7785,156.0035,4826,   2199.9,-999.0000,-999.0000,9,   -999.0,5,-999.0000,  34.6867,2,    175.1,2,    95.58,2,     2.43,2,    36.05,2
09FA693,P11S,      47,        1,       11,        2,2,19930707,0637,-29.7785,156.0035,4826,   2395.0,   2.0070,  34.7100,2,   -999.0,5,   1.8358,  34.7103,2,    181.3,2,    97.16,2,     2.38,2,    35.31,2
09FA693,P11S,      47,        1,       10,       48,2,19930707,0637,-29.7785,156.0035,4826,   2595.7,   1.8370,  34.7210,2,   -999.0,5,   1.6507,  34.7196,2,    186.6,2,   101.38,2,     2.36,2,    35.23,2
09FA693,P11S,      47,        1,        8,       24,2,19930707,0637,-29.7785,156.0035,4826,   2996.7,   1.4910,  34.7240,2,   -999.0,5,   1.2744,  34.7235,2,    193.8,2,   109.45,2,     2.36,2,    35.13,2
09FA693,P11S,      47,        1,        7,       10,2,19930707,0637,-29.7785,156.0035,4826,   3197.9,   1.3400,  34.7210,2,   -999.0,5,   1.1076,  34.7203,2,    196.6,2,   112.32,2,     2.35,2,    35.10,2
09FA693,P11S,      47,        1,        6,       42,2,19930707,0637,-29.7785,156.0035,4826,   3397.0,   1.2490,  34.7190,2,   -999.0,5,   0.9992,  34.7187,2,    197.7,2,   115.74,2,     2.39,2,    35.34,2
09FA693,P11S,      47,        1,        5,       14,2,19930707,0637,-29.7785,156.0035,4826,   3698.4,   1.1760,  34.7160,2,   -999.0,5,   0.8976,  34.7155,2,    199.1,2,   117.95,2,     2.40,2,    35.44,2
09FA693,P11S,      47,        1,        4,        7,2,19930707,0637,-29.7785,156.0035,4826,   3998.0,   1.1520,  34.7150,2,   -999.0,5,   0.8429,  34.7159,2,    198.0,2,   119.01,2,     2.41,2,    35.62,2
09FA693,P11S,      47,        1,        2,       11,2,19930707,0637,-29.7785,156.0035,4826,   4598.6,   1.1820,  34.7140,2,   -999.0,5,   0.8054,  34.7135,2,    199.1,2,   120.51,2,     2.41,2,    35.74,2
09FA693,P11S,      47,        1,        1,       70,2,19930707,0637,-29.7785,156.0035,4826,   4901.4,   1.1960,  34.7140,2,   -999.0,5,   0.7836,  34.7142,2,    199.4,2,   120.68,2,     2.41,2,    35.74,2
09FA693,P11S,      47,        1,       24,        5,2,19930707,0637,-29.7785,156.0035,4826,   4901.4,   1.1960,  34.7140,2,   -999.0,5,   0.7836,  34.7138,2,    200.5,2,  -999.00,9,  -999.00,9,  -999.00,9
09FA693,P11S,      48,        1,       24,        5,2,19930707,1318,-30.2825,155.5523,4838,      1.7,  22.1110,  35.7180,2,   -999.0,5,  22.1107,  35.7231,2,    219.5,2,     0.86,2,     0.18,2,     0.37,2
09FA693,P11S,      48,        1,       23,       25,2,19930707,1318,-30.2825,155.5523,4838,     98.5,  21.6670,  35.7280,2,   -999.0,5,  21.6477,  35.7245,2,    225.5,2,     0.93,2,     0.20,2,     1.16,2
09FA693,P11S,      48,        1,       22,       36,2,19930707,1318,-30.2825,155.5523,4838,    195.4,  19.0970,  35.5780,2,   -999.0,5,  19.0619,  35.5745,2,    182.1,2,     1.65,2,     0.46,2,     6.08,2
09FA693,P11S,      48,        1,       21,        3,2,19930707,1318,-30.2825,155.5523,4838,    394.2,  13.0120,  35.1220,2,   -999.0,5,  12.9573,  35.1179,2,    185.6,2,     4.68,2,     0.94,2,    14.88,2
09FA693,P11S,      48,        1,       20,       27,2,19930707,1318,-30.2825,155.5523,4838,    592.8,   8.9700,  34.6720,2,   -999.0,5,   8.9045,  34.6717,2,    192.4,2,     9.80,2,     1.47,2,    23.41,2
09FA693,P11S,      48,        1,       18,       45,2,19930707,1318,-30.2825,155.5523,4838,    993.8,   5.1800,  34.4650,2,   -999.0,5,   5.0959,  34.4635,2,    180.7,2,    38.55,2,     2.17,2,    33.25,2
09FA693,P11S,      48,        1,       17,        1,2,19930707,1318,-30.2825,155.5523,4838,   1192.4,   4.1240,  34.5040,2,   -999.0,5,   4.0309,  34.5087,2,    166.6,2,    60.18,2,     2.39,2,    35.93,2
09FA693,P11S,      48,        1,       16,       41,2,19930707,1318,-30.2825,155.5523,4838,   1391.2,   3.3550,  34.5560,2,   -999.0,5,   3.2524,  34.5543,2,    156.6,2,    81.21,2,     2.56,2,    37.96,2
09FA693,P11S,      48,        1,       15,        9,2,19930707,1318,-30.2825,155.5523,4838,   1593.2,   2.8450,  34.6020,2,   -999.0,5,   2.7311,  34.6014,2,    153.6,2,    94.67,2,     2.61,2,    38.60,2
09FA693,P11S,      48,        1,       14,       35,2,19930707,1318,-30.2825,155.5523,4838,   1793.0,-999.0000,  34.6410,2,   -999.0,5,-999.0000,  34.6387,2,    158.5,2,    98.71,2,     2.59,2,    38.85,2
09FA693,P11S,      48,        1,       13,       15,2,19930707,1318,-30.2825,155.5523,4838,   1993.2,   2.2920,  34.6700,2,   -999.0,5,   2.1516,  34.6687,2,    166.3,2,    97.42,2,     2.50,2,    37.38,2
09FA693,P11S,      48,        1,       12,       28,2,19930707,1318,-30.2825,155.5523,4838,   2193.5,   2.1340,  34.6920,2,   -999.0,5,   1.9786,  34.6907,2,    174.5,2,    96.74,2,     2.43,2,    37.07,2
09FA693,P11S,      48,        1,       11,        2,2,19930707,1318,-30.2825,155.5523,4838,   2396.2,   1.9730,  34.7110,2,   -999.0,5,   1.8023,  34.7088,2,    180.4,2,    97.87,2,     2.39,2,    36.18,2
09FA693,P11S,      48,        1,       10,       48,2,19930707,1318,-30.2825,155.5523,4838,   2597.8,   1.8160,  34.7210,2,   -999.0,5,   1.6300,  34.7183,2,    184.8,2,   102.48,2,     2.34,2,    36.26,2
09FA693,P11S,      48,        1,        9,        4,2,19930707,1318,-30.2825,155.5523,4838,   2796.3,   1.6580,  34.7250,2,   -999.0,5,   1.4568,  34.7231,2,    189.4,2,   104.96,2,     2.36,2,    35.84,2
09FA693,P11S,      48,        1,        8,       24,2,19930707,1318,-30.2825,155.5523,4838,   2997.1,   1.4760,  34.7240,2,   -999.0,5,   1.2597,  34.7208,2,    191.0,2,   110.30,2,     2.36,2,    36.02,2
09FA693,P11S,      48,        1,        7,       10,2,19930707,1318,-30.2825,155.5523,4838,   3198.5,   1.3450,  34.7210,2,   -999.0,5,   1.1124,  34.7197,2,    194.8,2,   113.93,2,     2.37,2,    36.10,2
09FA693,P11S,      48,        1,        6,       42,2,19930707,1318,-30.2825,155.5523,4838,   3398.9,   1.2700,  34.7200,2,   -999.0,5,   1.0195,  34.7181,2,    194.6,2,   116.22,2,     2.38,2,    36.34,2
09FA693,P11S,      48,        1,        5,       14,2,19930707,1318,-30.2825,155.5523,4838,   3700.6,   1.1860,  34.7180,2,   -999.0,5,   0.9071,  34.7166,2,    196.5,2,   119.09,2,     2.36,2,    36.37,2
09FA693,P11S,      48,        1,        4,        7,2,19930707,1318,-30.2825,155.5523,4838,   3999.4,   1.1660,  34.7150,2,   -999.0,5,   0.8563,  34.7147,2,    196.5,2,   120.41,2,     2.38,2,    36.59,2
09FA693,P11S,      48,        1,        3,        8,2,19930707,1318,-30.2825,155.5523,4838,   4299.7,   1.1660,  34.7140,2,   -999.0,5,   0.8236,  34.7137,2,    198.1,2,   123.91,2,     2.34,2,    37.10,2
09FA693,P11S,      48,        1,        2,       11,2,19930707,1318,-30.2825,155.5523,4838,   4603.4,   1.1730,  34.7140,2,   -999.0,5,   0.7961,  34.7136,2,    198.6,2,   122.45,2,     2.36,2,    36.59,2
09FA693,P11S,      48,        1,        1,       70,2,19930707,1318,-30.2825,155.5523,4838,   4917.2,   1.1960,  34.7140,2,   -999.0,5,   0.7817,  34.7135,2,    198.1,2,   122.53,2,     2.39,2,    36.53,2
09FA693,P11S,      49,        1,       24,        5,2,19930707,2004,-30.8657,155.1658,4824,      1.7,  19.0810,  35.7090,2,   -999.0,5,  19.0807,  35.7097,2,    238.0,2,     1.11,2,     0.19,2,     0.38,2
09FA693,P11S,      49,        1,       23,       25,2,19930707,2004,-30.8657,155.1658,4824,     97.2,  16.8460,  35.5370,2,   -999.0,5,  16.8300,  35.5379,2,    207.6,2,     2.04,2,     0.45,2,     6.11,2
09FA693,P11S,      49,        1,       22,       36,2,19930707,2004,-30.8657,155.1658,4824,    197.0,  13.9020,  35.2530,2,   -999.0,5,  13.8736,  35.2552,2,    192.9,2,     3.73,2,     0.77,2,    12.32,2
09FA693,P11S,      49,        1,       21,        3,2,19930707,2004,-30.8657,155.1658,4824,    394.1,   9.9770,  34.7920,2,   -999.0,5,   9.9310,  34.7936,2,    197.3,2,     7.03,2,     1.26,2,    20.85,2
09FA693,P11S,      49,        1,       20,       27,2,19930707,2004,-30.8657,155.1658,4824,    593.0,   7.7290,  34.5580,2,   -999.0,5,   7.6690,  34.5608,2,    192.1,2,    14.13,2,     1.68,2,    27.30,2
09FA693,P11S,      49,        1,       18,       45,2,19930707,2004,-30.8657,155.1658,4824,    991.7,   4.7390,  34.4700,2,   -999.0,5,   4.6584,  34.4722,2,    174.5,2,    47.12,2,     2.27,2,    35.33,2
09FA693,P11S,      49,        1,       17,        1,2,19930707,2004,-30.8657,155.1658,4824,   1192.1,   3.8570,  34.5170,2,   -999.0,5,   3.7664,  34.5172,2,    164.7,2,    67.91,2,     2.47,2,    37.48,2
09FA693,P11S,      49,        1,       15,        9,2,19930707,2004,-30.8657,155.1658,4824,   1591.3,   2.6990,  34.6140,2,   -999.0,5,   2.5870,  34.6125,2,    156.8,2,    93.75,2,     2.58,2,    39.01,2
09FA693,P11S,      49,        1,       14,       35,2,19930707,2004,-30.8657,155.1658,4824,   1791.6,   2.4500,  34.6480,2,   -999.0,5,   2.3245,  34.6440,2,    163.1,2,    93.91,2,     2.51,2,    38.53,2
09FA693,P11S,      49,        1,       13,       15,2,19930707,2004,-30.8657,155.1658,4824,   1994.4,   2.2530,  34.6790,2,   -999.0,5,   2.1130,  34.6795,2,    171.5,2,    92.90,2,     2.45,2,    37.38,2
09FA693,P11S,      49,        1,       12,       28,2,19930707,2004,-30.8657,155.1658,4824,   2195.1,   2.1050,  34.7000,2,   -999.0,5,   1.9499,  34.6992,2,    177.5,2,    96.30,2,     2.37,2,    37.31,2
09FA693,P11S,      49,        1,       11,        2,2,19930707,2004,-30.8657,155.1658,4824,   2396.9,   1.9610,  34.7140,2,   -999.0,5,   1.7905,  34.7123,2,    181.5,2,    96.97,2,     2.35,2,    36.60,2
09FA693,P11S,      49,        1,       10,       48,2,19930707,2004,-30.8657,155.1658,4824,   2597.4,   1.8210,  34.7200,2,   -999.0,5,   1.6349,  34.7195,2,    185.3,2,   100.93,2,     2.34,2,    36.22,2
09FA693,P11S,      49,        1,        9,        4,2,19930707,2004,-30.8657,155.1658,4824,   2797.2,   1.6760,  34.7250,2,   -999.0,5,   1.4743,  34.7246,2,    189.1,2,   105.68,2,     2.34,2,    36.64,2
09FA693,P11S,      49,        1,        8,       24,2,19930707,2004,-30.8657,155.1658,4824,   2997.8,   1.5340,  34.7250,2,   -999.0,5,   1.3164,  34.7235,2,    191.3,2,   108.76,2,     2.34,2,    36.33,2
09FA693,P11S,      49,        1,        7,       10,2,19930707,2004,-30.8657,155.1658,4824,   3198.6,   1.3970,  34.7220,2,   -999.0,5,   1.1631,  34.7241,2,    194.3,2,   112.03,2,     2.33,2,    36.36,2
09FA693,P11S,      49,        1,        6,       42,2,19930707,2004,-30.8657,155.1658,4824,   3399.0,   1.2850,  34.7200,2,   -999.0,5,   1.0341,  34.7204,2,    196.5,2,   115.54,2,     2.35,2,    36.70,2
09FA693,P11S,      49,        1,        5,       14,2,19930707,2004,-30.8657,155.1658,4824,   3698.9,   1.1840,  34.7160,2,   -999.0,5,   0.9054,  34.7167,2,    196.7,2,   119.02,2,     2.37,2,    36.89,2
09FA693,P11S,      49,        1,        4,        7,2,19930707,2004,-30.8657,155.1658,4824,   3998.3,   1.1580,  34.7140,2,   -999.0,5,   0.8487,  34.7142,2,    198.1,2,   120.36,2,     2.37,2,    37.02,2
09FA693,P11S,      49,        1,        3,        8,2,19930707,2004,-30.8657,155.1658,4824,   4299.0,   1.1550,  34.7130,2,   -999.0,5,   0.8130,  34.7137,2,    198.1,2,   121.93,2,     2.35,2,    37.48,2
09FA693,P11S,      49,        1,        2,       11,2,19930707,2004,-30.8657,155.1658,4824,   4596.6,   1.1660,  34.7120,2,   -999.0,5,   0.7901,  34.7127,2,    198.9,2,   121.21,2,     2.35,2,    36.91,2
09FA693,P11S,      49,        1,        1,       70,2,19930707,2004,-30.8657,155.1658,4824,   4902.0,   1.1580,  34.7110,2,   -999.0,5,   0.7468,  34.7106,2,    200.3,2,   122.46,2,     2.38,2,    36.77,2
09FA693,P11S,      50,        1,       24,        5,2,19930708,0315,-31.5435,154.9960,4789,      2.6,  19.5770,  35.6880,2,   -999.0,5,  19.5765,  35.6894,2,    228.4,2,     1.44,2,     0.29,2,     1.37,2
09FA693,P11S,      50,        1,       23,       25,2,19930708,0315,-31.5435,154.9960,4789,     97.7,  18.4410,  35.6870,2,   -999.0,5,  18.4239,  35.6874,2,    226.2,2,     1.44,2,     0.32,2,     2.58,2
09FA693,P11S,      50,        1,       22,       36,2,19930708,0315,-31.5435,154.9960,4789,    197.8,  16.3440,  35.4490,2,   -999.0,5,  16.3121,  35.4495,2,    192.2,2,     2.90,2,     0.66,2,     7.90,2
09FA693,P11S,      50,        1,       21,        3,2,19930708,0315,-31.5435,154.9960,4789,    394.0,  11.4970,  34.9810,2,   -999.0,5,  11.4466,-999.0000,9,    196.0,2,     6.90,2,     1.23,2,    17.18,2
09FA693,P11S,      50,        1,       20,       27,2,19930708,0315,-31.5435,154.9960,4789,    591.7,   8.5900,  34.6320,2,   -999.0,5,   8.5263,  34.6303,2,    195.2,2,    12.08,2,     1.63,2,    23.71,2
09FA693,P11S,      50,        1,       19,       20,2,19930708,0315,-31.5435,154.9960,4789,    792.1,   6.6070,  34.4840,2,   -999.0,5,   6.5326,  34.4850,2,    192.7,2,    23.08,2,     1.95,2,    28.51,2
09FA693,P11S,      50,        1,       18,       45,2,19930708,0315,-31.5435,154.9960,4789,    992.9,   5.2700,  34.4600,2,   -999.0,5,   5.1854,  34.4595,2,   -999.0,9,    38.05,2,     2.20,2,    32.12,2
09FA693,P11S,      50,        1,       17,        1,2,19930708,0315,-31.5435,154.9960,4789,   1191.1,   4.1720,  34.4930,2,   -999.0,5,   4.0786,  34.4909,2,    169.6,2,    55.03,2,     2.40,2,    35.04,2
09FA693,P11S,      50,        1,       16,       41,2,19930708,0315,-31.5435,154.9960,4789,   1391.3,   3.3880,  34.5490,2,   -999.0,5,   3.2851,  34.5443,2,    157.9,2,    73.46,2,     2.51,2,    36.76,2
09FA693,P11S,      50,        1,       15,        9,2,19930708,0315,-31.5435,154.9960,4789,   1593.6,   2.8770,  34.5950,2,   -999.0,5,   2.7627,  34.5950,2,    155.4,2,    85.52,2,     2.56,2,    37.28,2
09FA693,P11S,      50,        1,       14,       35,2,19930708,0315,-31.5435,154.9960,4789,   1792.7,   2.5320,  34.6360,2,   -999.0,5,   2.4053,  34.6335,2,    159.8,2,    86.29,2,     2.54,2,    36.93,2
09FA693,P11S,      50,        1,       13,       15,2,19930708,0315,-31.5435,154.9960,4789,   1992.9,   2.3070,  34.6670,2,   -999.0,5,   2.1664,  34.6658,2,    166.3,2,    87.84,2,     2.47,2,    36.24,2
09FA693,P11S,      50,        1,       12,       28,2,19930708,0315,-31.5435,154.9960,4789,   2194.3,   2.1800,  34.6900,2,   -999.0,5,   2.0238,  34.6882,2,    174.8,2,    87.84,2,     2.39,2,    35.56,2
09FA693,P11S,      50,        1,       11,        2,2,19930708,0315,-31.5435,154.9960,4789,   2394.2,   2.0320,  34.7090,2,   -999.0,5,   1.8605,  34.7082,2,    179.9,2,    89.40,2,     2.36,2,    35.39,2
09FA693,P11S,      50,        1,       10,       48,2,19930708,0315,-31.5435,154.9960,4789,   2595.1,   1.8790,  34.7210,2,   -999.0,5,   1.6920,  34.7204,2,    184.3,2,  -999.00,9,  -999.00,9,  -999.00,9
09FA693,P11S,      50,        1,        9,        4,2,19930708,0315,-31.5435,154.9960,4789,   2795.9,   1.7190,  34.7270,2,   -999.0,5,   1.5165,  34.7248,2,    188.7,2,    96.52,2,     2.34,2,    35.04,2
09FA693,P11S,      50,        1,        8,       24,2,19930708,0315,-31.5435,154.9960,4789,   2996.5,   1.5700,  34.7240,2,   -999.0,5,   1.3517,  34.7244,2,    192.2,2,   101.36,2,     2.36,2,    34.70,2
09FA693,P11S,      50,        1,        7,       10,2,19930708,0315,-31.5435,154.9960,4789,   3198.6,   1.4080,  34.7230,2,   -999.0,5,   1.1739,  34.7232,2,    194.1,2,  -999.00,9,  -999.00,9,  -999.00,9
09FA693,P11S,      50,        1,        6,       42,2,19930708,0315,-31.5435,154.9960,4789,   3396.9,   1.2690,  34.7180,2,   -999.0,5,   1.0187,  34.7193,2,    195.5,2,   105.46,2,     2.38,2,    35.21,2
09FA693,P11S,      50,        1,        5,       14,2,19930708,0315,-31.5435,154.9960,4789,   3698.0,   1.1650,  34.7150,2,   -999.0,5,   0.8870,  34.7149,2,    198.5,2,   110.44,2,     2.36,2,    35.39,2
09FA693,P11S,      50,        1,        4,        7,2,19930708,0315,-31.5435,154.9960,4789,   3999.0,   1.1600,  34.7140,2,   -999.0,5,   0.8506,  34.7142,2,    197.4,2,   117.21,2,     2.40,2,    36.24,2
09FA693,P11S,      50,        1,        3,        8,2,19930708,0315,-31.5435,154.9960,4789,   4299.9,   1.1530,  34.7130,2,   -999.0,5,   0.8110,  34.7134,2,    199.0,2,   119.78,2,     2.40,2,    35.56,2
09FA693,P11S,      50,        1,        2,       11,2,19930708,0315,-31.5435,154.9960,4789,   4600.6,   1.1690,  34.7120,2,   -999.0,5,   0.7926,  34.7143,2,    198.7,2,   111.28,2,     2.40,2,    35.73,2
09FA693,P11S,      50,        1,        1,       70,2,19930708,0315,-31.5435,154.9960,4789,   4862.2,   1.1460,  34.7120,2,   -999.0,5,   0.7399,  34.7123,2,    200.6,2,   110.44,2,     2.40,2,    36.07,2