BOTTLE,20220816CCHSIOAMB
EXPOCODE,SECT_ID,STNNBR,CASTNO,SAMPNO,BTLNBR,BTLNBR_FLAG_W,DATE,TIME,LATITUDE,LONGITUDE,DEPTH,CTDPRS,CTDTMP,CTDSAL,CTDSAL_FLAG_W,CTDOXY,CTDOXY_FLAG_W,THETA,SALNTY,SALNTY_FLAG_W,OXYGEN,OXYGEN_FLAG_W,SILCAT,SILCAT_FLAG_W,PHSPHT,PHSPHT_FLAG_W,NO2+NO3,NO2+NO3_FLAG_W
,,,,,,,,,,,,DBAR,ITS-90,PSS-78,,UMOL/KG,,ITS-90,PSS-78,,UMOL/KG,,UMOL/KG,,UMOL/KG,,UMOL/KG,
09FA693,P11S,      31,        1,       24,        5,2,19930703,0917,-22.6663,155.0008,3372,      3.2,  23.1490,  35.5330,2,   -999.0,5,  23.1483,  35.5355,2,    222.4,2,     1.25,2,     0.19,2,     0.16,2
09FA693,P11S,      31,        1,       23,       35,2,19930703,0917,-22.6663,155.0008,3372,     47.4,  23.1420,  35.5400,2,   -999.0,5,  23.1323,  35.5469,2,    224.8,2,     1.10,2,     0.18,2,     0.16,2
09FA693,P11S,      31,        1,       22,       25,2,19930703,0917,-22.6663,155.0008,3372,     97.5,  22.3650,  35.6710,2,   -999.0,5,  22.3454,  35.6691,2,    189.1,2,     1.39,2,     0.40,2,     3.14,2
09FA693,P11S,      31,        1,       21,       41,2,19930703,0917,-22.6663,155.0008,3372,    149.5,  20.2290,  35.6200,2,   -999.0,5,  20.2011,  35.6138,2,    176.2,2,     1.68,2,     0.52,2,     5.16,2
09FA693,P11S,      31,        1,       20,        9,3,19930703,0917,-22.6663,155.0008,3372,    199.4,  19.0790,  35.5750,2,   -999.0,5,  19.0432,-999.0000,9,   -999.0,9,  -999.00,9,  -999.00,9,  -999.00,9
09FA693,P11S,      31,        1,       19,       18,2,19930703,0917,-22.6663,155.0008,3372,    248.5,  17.6930,  35.4780,2,   -999.0,5,  17.6506,  35.4764,2,    167.8,2,     2.84,2,     0.70,2,     8.06,2
09FA693,P11S,      31,        1,       18,       45,2,19930703,0917,-22.6663,155.0008,3372,    299.6,  16.0560,  35.3590,2,   -999.0,5,  16.0082,  35.3616,2,    176.5,2,     3.50,2,     0.80,2,     9.44,2
09FA693,P11S,      31,        1,       17,        1,2,19930703,0917,-22.6663,155.0008,3372,    399.5,  13.0160,  35.1130,2,   -999.0,5,  12.9605,  35.1190,2,    185.2,2,     5.10,2,     1.04,2,    13.23,2
09FA693,P11S,      31,        1,       16,       29,2,19930703,0917,-22.6663,155.0008,3372,    498.3,  10.4680,  34.8100,2,   -999.0,5,  10.4077,  34.8168,2,    186.4,2,     8.65,2,     1.40,2,    18.12,2
09FA693,P11S,      31,        1,       15,       27,2,19930703,0917,-22.6663,155.0008,3372,    598.5,   8.5200,  34.6180,2,   -999.0,5,   8.4559,  34.6160,2,    194.2,2,    12.31,2,     1.62,2,    21.94,2
09FA693,P11S,      31,        1,       14,       36,2,19930703,0917,-22.6663,155.0008,3372,    796.9,   5.9880,  34.4550,2,   -999.0,5,   5.9168,  34.4562,2,    189.4,2,    28.44,2,     2.05,2,    27.17,2
09FA693,P11S,      31,        1,       13,       15,2,19930703,0917,-22.6663,155.0008,3372,    992.0,   4.6150,  34.4720,2,   -999.0,5,   4.5354,  34.4724,2,    175.0,2,    51.13,2,     2.32,2,    30.58,2
09FA693,P11S,      31,        1,       12,       28,2,19930703,0917,-22.6663,155.0008,3372,   1194.3,   3.7250,  34.5210,2,   -999.0,5,   3.6354,  34.5215,2,    159.7,2,    74.29,2,     2.47,2,    32.33,2
09FA693,P11S,      31,        1,       11,        2,2,19930703,0917,-22.6663,155.0008,3372,   1391.9,   3.2870,  34.5590,2,   -999.0,5,   3.1850,  34.5589,2,    154.3,2,    88.21,2,     2.57,2,    33.40,2
09FA693,P11S,      31,        1,       10,       48,2,19930703,0917,-22.6663,155.0008,3372,   1593.8,   2.9670,  34.5870,2,   -999.0,5,   2.8516,  34.5873,2,    146.2,2,    95.87,2,     2.60,2,    33.85,2
09FA693,P11S,      31,        1,        9,        4,2,19930703,0917,-22.6663,155.0008,3372,   1794.2,   2.6470,  34.6140,2,   -999.0,5,   2.5187,  34.6133,2,    146.5,2,   106.27,2,     2.62,2,    34.88,2
09FA693,P11S,      31,        1,        8,       24,2,19930703,0917,-22.6663,155.0008,3372,   1993.7,   2.4300,  34.6390,2,   -999.0,5,   2.2875,  34.6394,2,    152.2,2,   103.19,2,     2.59,2,    33.54,2
09FA693,P11S,      31,        1,        7,       10,2,19930703,0917,-22.6663,155.0008,3372,   2193.8,   2.2490,  34.6660,2,   -999.0,5,   2.0918,  34.6656,2,    163.9,2,    99.00,2,     2.51,2,    32.77,2
09FA693,P11S,      31,        1,        6,       42,2,19930703,0917,-22.6663,155.0008,3372,   2394.6,   2.0970,  34.6950,2,   -999.0,5,   1.9243,  34.6946,2,    176.5,2,    94.59,2,     2.39,2,    31.55,2
09FA693,P11S,      31,        1,        5,       14,2,19930703,0917,-22.6663,155.0008,3372,   2594.5,   1.9530,  34.7090,2,   -999.0,5,   1.7647,  34.7111,2,    183.4,2,    94.26,2,     2.38,2,    31.15,2
09FA693,P11S,      31,        1,        4,       20,3,19930703,0917,-22.6663,155.0008,3372,   2794.2,   1.7370,  34.7200,2,   -999.0,5,   1.5343,-999.0000,9,   -999.0,9,  -999.00,9,  -999.00,9,  -999.00,9
09FA693,P11S,      31,        1,        3,        8,2,19930703,0917,-22.6663,155.0008,3372,   2999.7,   1.5780,  34.7200,2,   -999.0,5,   1.3593,  34.7208,2,    190.3,2,   100.04,2,     2.33,2,    30.71,2
09FA693,P11S,      31,        1,        2,       11,2,19930703,0917,-22.6663,155.0008,3372,   3196.6,   1.4400,  34.7190,2,   -999.0,5,   1.2053,  34.7207,2,    193.0,2,   106.20,2,     2.36,2,    30.80,2
09FA693,P11S,      31,        1,        1,       70,2,19930703,0917,-22.6663,155.0008,3372,   3410.3,   1.2200,  34.7160,2,   -999.0,5,   0.9696,  34.7159,2,    197.2,2,   109.67,2,     2.39,2,    31.16,2
09FA693,P11S,      32,        1,       14,        5,2,19930703,1555,-23.3712,154.7903,1914,      3.2,  23.1490,  35.5270,2,   -999.0,5,  23.1484,  35.5285,2,    223.6,2,     1.33,2,     0.17,2,     0.17,2
09FA693,P11S,      32,        1,       13,       15,2,19930703,1555,-23.3712,154.7903,1914,     49.0,  23.1010,  35.5980,2,   -999.0,5,  23.0909,  35.5964,2,    215.8,2,     1.18,2,     0.19,2,     0.52,2
09FA693,P11S,      32,        1,       12,       28,2,19930703,1555,-23.3712,154.7903,1914,     98.6,  22.9160,  35.6530,2,   -999.0,5,  22.8959,-999.0000,9,    216.7,2,     1.14,2,     0.18,2,     0.39,2
09FA693,P11S,      32,        1,       11,        2,2,19930703,1555,-23.3712,154.7903,1914,    196.5,  19.5190,  35.5980,2,   -999.0,5,  19.4831,  35.5968,2,    173.5,2,     2.02,2,     0.55,2,     5.68,2
09FA693,P11S,      32,        1,       10,       48,2,19930703,1555,-23.3712,154.7903,1914,    296.4,  16.7540,  35.4080,2,   -999.0,5,  16.7053,  35.4039,2,    169.9,2,     3.35,2,     0.76,2,     8.77,2
09FA693,P11S,      32,        1,        9,        4,2,19930703,1555,-23.3712,154.7903,1914,    391.3,  13.1760,  35.1040,2,   -999.0,5,  13.1212,  35.1094,2,    173.5,2,     5.45,2,     1.05,2,    13.00,2
09FA693,P11S,      32,        1,        8,       24,2,19930703,1555,-23.3712,154.7903,1914,    594.5,   8.2800,  34.5980,2,   -999.0,5,   8.2174,  34.5991,2,    193.6,2,    10.66,2,     1.46,2,    18.14,2
09FA693,P11S,      32,        1,        7,       10,2,19930703,1555,-23.3712,154.7903,1914,    794.9,   6.0700,  34.4550,2,   -999.0,5,   5.9985,  34.4564,2,    193.0,2,    27.35,2,     1.98,2,    26.51,2
09FA693,P11S,      32,        1,        6,       42,2,19930703,1555,-23.3712,154.7903,1914,    991.3,   4.8460,  34.4670,2,   -999.0,5,   4.7647,  34.4663,2,    176.8,2,    40.60,2,     2.10,2,    26.19,2
09FA693,P11S,      32,        1,        5,       14,2,19930703,1555,-23.3712,154.7903,1914,   1190.7,   4.1250,  34.5010,2,   -999.0,5,   4.0321,  34.5012,2,    167.2,2,    56.69,2,     2.25,2,    27.70,2
09FA693,P11S,      32,        1,        4,       20,2,19930703,1555,-23.3712,154.7903,1914,   1392.4,   3.4370,  34.5470,2,   -999.0,5,   3.3334,  34.5469,2,    155.8,2,    76.82,2,     2.47,2,    32.43,2
09FA693,P11S,      32,        1,        3,        8,2,19930703,1555,-23.3712,154.7903,1914,   1594.5,   2.8040,  34.6030,2,   -999.0,5,   2.6905,  34.6008,2,    148.0,2,    95.15,2,     2.59,2,    33.28,2
09FA693,P11S,      32,        1,        2,       11,2,19930703,1555,-23.3712,154.7903,1914,   1803.7,   2.4970,  34.6320,2,   -999.0,5,   2.3699,  34.6315,2,    151.6,2,  -999.00,9,  -999.00,9,  -999.00,9
09FA693,P11S,      32,        1,        1,       70,2,19930703,1555,-23.3712,154.7903,1914,   2018.7,   2.2570,  34.6700,2,   -999.0,5,   2.1149,  34.6705,2,    167.2,2,  -999.00,9,  -999.00,9,  -999.00,9
09FA693,P11S,      33,        1,       17,        5,2,19930703,1820,-23.3698,154.8728,3108,      3.8,  23.1910,  35.5150,2,   -999.0,5,  23.1902,  35.5155,2,    226.3,2,     1.22,2,     0.18,2,     0.03,2
09FA693,P11S,      33,        1,       16,       41,2,19930703,1820,-23.3698,154.8728,3108,    196.5,  18.9730,  35.5740,2,   -999.0,5,  18.9379,  35.5732,2,    178.6,2,     2.13,2,     0.57,2,     6.23,2
09FA693,P11S,      33,        1,       15,        9,2,19930703,1820,-23.3698,154.8728,3108,    395.0,  13.3540,  35.1180,2,   -999.0,5,  13.2982,  35.1210,2,    180.4,2,     5.64,2,     1.05,2,    14.43,2
09FA693,P11S,      33,        1,       14,       35,2,19930703,1820,-23.3698,154.8728,3108,    595.0,   8.5450,  34.6200,2,   -999.0,5,   8.4812,-999.0000,9,    195.7,2,    11.99,2,     1.62,2,    23.26,2
09FA693,P11S,      33,        1,       13,       15,2,19930703,1820,-23.3698,154.8728,3108,    792.3,   6.1900,  34.4600,2,   -999.0,5,   6.1181,  34.4618,2,    192.7,2,    26.32,2,     1.98,2,    29.09,2
09FA693,P11S,      33,        1,       12,       28,2,19930703,1820,-23.3698,154.8728,3108,    993.8,   4.7610,  34.4680,2,   -999.0,5,   4.6801,  34.4689,2,    177.1,2,  -999.00,9,  -999.00,9,  -999.00,9
09FA693,P11S,      33,        1,       11,        2,2,19930703,1820,-23.3698,154.8728,3108,   1190.2,   4.1100,  34.4960,2,   -999.0,5,   4.0173,  34.4968,2,    166.6,2,    64.05,2,     2.36,2,    34.75,2
09FA693,P11S,      33,        1,       10,       48,2,19930703,1820,-23.3698,154.8728,3108,   1393.6,   3.6140,  34.5320,2,   -999.0,5,   3.5085,  34.5355,2,    157.6,2,    77.10,2,     2.45,2,    35.80,2
09FA693,P11S,      33,        1,        9,        4,2,19930703,1820,-23.3698,154.8728,3108,   1592.3,   2.7850,  34.6040,2,   -999.0,5,   2.6719,  34.6041,2,    147.7,2,    97.61,2,     2.56,2,    37.18,2
09FA693,P11S,      33,        1,        8,       24,2,19930703,1820,-23.3698,154.8728,3108,   1793.2,   2.4040,  34.6430,2,   -999.0,5,   2.2790,  34.6396,2,    155.5,2,  -999.00,9,  -999.00,9,  -999.00,9
09FA693,P11S,      33,        1,        7,       10,2,19930703,1820,-23.3698,154.8728,3108,   1994.0,   2.2790,  34.6670,2,   -999.0,5,   2.1387,-999.0000,9,    167.8,2,    97.43,2,     2.45,2,    35.57,2
09FA693,P11S,      33,        1,        6,       42,2,19930703,1820,-23.3698,154.8728,3108,   2195.2,   2.0890,  34.6960,2,   -999.0,5,   1.9342,  34.6941,2,    176.2,2,    91.57,2,     2.41,2,    34.60,2
09FA693,P11S,      33,        1,        5,       14,2,19930703,1820,-23.3698,154.8728,3108,   2394.7,   1.9830,  34.7070,2,   -999.0,5,   1.8123,  34.7057,2,    181.6,2,    95.64,2,     2.34,2,    34.35,2
09FA693,P11S,      33,        1,        4,        7,2,19930703,1820,-23.3698,154.8728,3108,   2596.0,   1.8630,  34.7150,2,   -999.0,5,   1.6762,  34.7130,2,    185.2,2,    97.40,2,     2.28,2,    33.77,2
09FA693,P11S,      33,        1,        3,        8,2,19930703,1820,-23.3698,154.8728,3108,   2799.1,   1.7150,  34.7200,2,   -999.0,5,   1.5123,  34.7195,2,    189.1,2,   102.17,2,     2.33,2,    33.96,2
09FA693,P11S,      33,        1,        2,       11,2,19930703,1820,-23.3698,154.8728,3108,   3000.3,   1.4820,  34.7200,2,   -999.0,5,   1.2653,  34.7201,2,    193.6,2,   106.53,2,     2.31,2,    34.44,2
09FA693,P11S,      33,        1,        1,       70,2,19930703,1820,-23.3698,154.8728,3108,   3108.8,   1.4040,  34.7190,2,   -999.0,5,   1.1787,  34.7203,2,   -999.0,9,   107.72,2,     2.32,2,    34.05,2
09FA693,P11S,      34,        1,       24,        5,2,19930703,2126,-23.3692,155.0025,3624,      1.6,  23.0150,  35.5130,2,   -999.0,5,  23.0147,  35.5134,2,    235.3,2,  -999.00,9,  -999.00,9,  -999.00,9
09FA693,P11S,      34,        1,       23,       25,2,19930703,2126,-23.3692,155.0025,3624,     51.7,  22.8700,  35.6300,2,   -999.0,5,  22.8595,  35.6301,2,    202.6,2,     1.38,3,     0.30,3,     2.12,3
09FA693,P11S,      34,        1,       22,       36,2,19930703,2126,-23.3692,155.0025,3624,    100.0,  21.7350,  35.6490,2,   -999.0,5,  21.7153,  35.6478,2,    183.1,2,     1.53,3,     0.43,3,     4.25,3
09FA693,P11S,      34,        1,       21,       29,2,19930703,2126,-23.3692,155.0025,3624,    199.6,  18.9330,  35.5670,2,   -999.0,5,  18.8974,  35.5672,2,    174.4,2,     2.18,3,     0.59,3,     6.98,3
09FA693,P11S,      34,        1,       20,       27,2,19930703,2126,-23.3692,155.0025,3624,    245.4,  17.9910,  35.5080,2,   -999.0,5,  17.9487,  35.5071,2,    172.9,2,     2.62,3,     0.66,3,     8.07,3
09FA693,P11S,      34,        1,       19,       18,2,19930703,2126,-23.3692,155.0025,3624,    298.2,  17.0680,  35.4400,2,   -999.0,5,  17.0184,  35.4380,2,    173.8,2,     5.67,3,     1.07,3,    14.66,3
09FA693,P11S,      34,        1,       18,       45,2,19930703,2126,-23.3692,155.0025,3624,    397.2,  13.2210,  35.0960,2,   -999.0,5,  13.1653,  35.0978,2,    177.7,2,  -999.00,9,  -999.00,9,  -999.00,9
09FA693,P11S,      34,        1,       17,        1,2,19930703,2126,-23.3692,155.0025,3624,    598.3,   8.5420,  34.6220,2,   -999.0,5,   8.4778,  34.6249,2,    193.6,2,    12.23,3,     1.58,3,    23.78,3
09FA693,P11S,      34,        1,       16,       41,2,19930703,2126,-23.3692,155.0025,3624,    795.4,   6.3510,  34.4640,2,   -999.0,5,   6.2778,  34.4662,2,    193.3,2,    24.57,3,     1.96,3,    28.85,3
09FA693,P11S,      34,        1,       15,        9,2,19930703,2126,-23.3692,155.0025,3624,    995.7,   4.7900,  34.4620,2,   -999.0,5,   4.7087,  34.4637,2,    175.0,2,    47.79,3,     2.26,3,    33.24,3
09FA693,P11S,      34,        1,       14,       35,2,19930703,2126,-23.3692,155.0025,3624,   1192.9,   4.0420,  34.5010,2,   -999.0,5,   3.9496,  34.5008,2,    163.0,2,  -999.00,9,  -999.00,9,  -999.00,9
09FA693,P11S,      34,        1,       13,       15,2,19930703,2126,-23.3692,155.0025,3624,   1392.7,   3.4010,  34.5500,2,   -999.0,5,   3.2978,  34.5506,2,    153.7,2,    79.54,3,     2.52,3,    36.41,3
09FA693,P11S,      34,        1,       12,       28,2,19930703,2126,-23.3692,155.0025,3624,   1592.0,   2.9350,  34.5900,2,   -999.0,5,   2.8202,  34.5927,2,    146.8,2,    93.53,3,     2.46,3,    36.58,3
09FA693,P11S,      34,        1,       11,        2,2,19930703,2126,-23.3692,155.0025,3624,   1792.5,   2.5430,  34.6270,2,   -999.0,5,   2.4162,  34.6252,2,    148.9,2,   103.65,3,     2.53,3,    37.07,3
09FA693,P11S,      34,        1,       10,       48,2,19930703,2126,-23.3692,155.0025,3624,   1992.6,   2.2960,  34.6650,2,   -999.0,5,   2.1556,  34.6641,2,    164.2,2,  -999.00,9,  -999.00,9,  -999.00,9
09FA693,P11S,      34,        1,        9,        4,2,19930703,2126,-23.3692,155.0025,3624,   2193.7,   2.1380,  34.6860,2,   -999.0,5,   1.9825,  34.6857,2,    173.2,2,    92.13,3,     2.38,3,    34.86,3
09FA693,P11S,      34,        1,        8,       24,2,19930703,2126,-23.3692,155.0025,3624,   2393.9,   2.0270,  34.7020,2,   -999.0,5,   1.8556,  34.7030,2,    178.9,2,    93.71,3,     2.33,3,    34.20,3
09FA693,P11S,      34,        1,        7,       10,2,19930703,2126,-23.3692,155.0025,3624,   2596.6,   1.8970,  34.7130,2,   -999.0,5,   1.7095,  34.7139,2,    184.6,2,    91.88,3,     2.32,3,    34.13,3
09FA693,P11S,      34,        1,        6,       42,2,19930703,2126,-23.3692,155.0025,3624,   2797.1,   1.7000,  34.7220,2,   -999.0,5,   1.4978,  34.7214,2,    189.1,2,    98.01,3,     2.30,3,    33.62,3
09FA693,P11S,      34,        1,        5,       14,2,19930703,2126,-23.3692,155.0025,3624,   3000.7,   1.5000,  34.7210,2,   -999.0,5,   1.2829,  34.7217,2,    191.5,2,  -999.00,9,  -999.00,9,  -999.00,9
09FA693,P11S,      34,        1,        4,       20,2,19930703,2126,-23.3692,155.0025,3624,   3196.9,   1.3360,  34.7190,2,   -999.0,5,   1.1038,  34.7191,2,    194.8,2,   109.14,3,     2.31,3,    33.84,3
09FA693,P11S,      34,        1,        3,        8,2,19930703,2126,-23.3692,155.0025,3624,   3401.0,   1.2620,  34.7170,2,   -999.0,5,   1.0115,  34.7190,2,    195.1,2,   107.02,3,     2.32,3,    33.94,3
09FA693,P11S,      34,        1,        2,       11,2,19930703,2126,-23.3692,155.0025,3624,   3600.8,   1.1630,  34.7140,2,   -999.0,5,   0.8950,  34.7149,2,    197.8,2,   112.87,3,     2.31,3,    34.07,3
09FA693,P11S,      34,        1,        1,       70,2,19930703,2126,-23.3692,155.0025,3624,   3655.7,   1.1520,  34.7140,2,   -999.0,5,   0.8786,  34.7175,2,    197.2,2,   113.63,3,     2.33,3,    34.24,3