BOTTLE,20220816CCHSIOAMB
EXPOCODE,SECT_ID,STNNBR,CASTNO,SAMPNO,BTLNBR,BTLNBR_FLAG_W,DATE,TIME,LATITUDE,LONGITUDE,DEPTH,CTDPRS,CTDTMP,CTDSAL,CTDSAL_FLAG_W,CTDOXY,CTDOXY_FLAG_W,THETA,SALNTY,SALNTY_FLAG_W,OXYGEN,OXYGEN_FLAG_W,SILCAT,SILCAT_FLAG_W,PHSPHT,PHSPHT_FLAG_W,NO2+NO3,NO2+NO3_FLAG_W
,,,,,,,,,,,,DBAR,ITS-90,PSS-78,,UMOL/KG,,ITS-90,PSS-78,,UMOL/KG,,UMOL/KG,,UMOL/KG,,UMOL/KG,
09FA693,P11S,      55,        1,       23,       25,2,19930710,0536,-34.5757,155.0015,4590,      3.3,  18.7510,  35.6360,2,   -999.0,5,  18.7504,  35.6345,2,    231.9,2,     1.94,2,     0.33,2,     2.55,2
09FA693,P11S,      55,        1,       22,       36,2,19930710,0536,-34.5757,155.0015,4590,     98.0,  16.6540,  35.5330,2,   -999.0,5,  16.6380,  35.5312,2,    212.4,2,     2.43,2,     0.53,2,     5.95,2
09FA693,P11S,      55,        1,       21,        3,2,19930710,0536,-34.5757,155.0015,4590,    198.3,  12.6150,  35.0950,2,   -999.0,5,  12.5882,  35.0962,2,    191.4,2,     5.92,2,     1.07,2,    15.31,2
09FA693,P11S,      55,        1,       20,       27,2,19930710,0536,-34.5757,155.0015,4590,    400.8,-999.0000,  34.6080,2,   -999.0,5,-999.0000,  34.6168,2,    194.9,2,    13.19,2,     1.66,2,    25.18,2
09FA693,P11S,      55,        1,       19,       20,2,19930710,0536,-34.5757,155.0015,4590,    600.0,-999.0000,  34.4820,2,   -999.0,5,-999.0000,  34.4842,2,    191.7,2,    23.66,2,     1.95,2,    29.60,2
09FA693,P11S,      55,        1,       18,       45,2,19930710,0536,-34.5757,155.0015,4590,    792.4,   5.3420,  34.4610,2,   -999.0,5,   5.2752,  34.4602,2,    182.9,2,    39.77,2,     2.17,2,    33.34,2
09FA693,P11S,      55,        1,       17,        1,2,19930710,0536,-34.5757,155.0015,4590,    992.1,   4.2180,  34.4960,2,   -999.0,5,   4.1413,  34.4933,2,    170.1,2,    62.77,2,     2.38,2,    36.24,2
09FA693,P11S,      55,        1,       16,       41,2,19930710,0536,-34.5757,155.0015,4590,   1191.7,   3.4990,  34.5420,2,   -999.0,5,   3.4116,  34.5394,2,    159.4,2,    81.41,2,     2.50,2,    38.11,2
09FA693,P11S,      55,        1,       15,        9,2,19930710,0536,-34.5757,155.0015,4590,   1393.7,   2.9770,  34.5850,2,   -999.0,5,   2.8782,  34.5601,2,    155.8,2,    87.41,2,     2.52,2,    38.28,2
09FA693,P11S,      55,        1,       14,       35,2,19930710,0536,-34.5757,155.0015,4590,   1591.6,   2.6710,  34.6170,2,   -999.0,5,   2.5594,  34.6054,2,    155.8,2,    94.32,2,     2.54,2,    38.62,2
09FA693,P11S,      55,        1,       12,       28,2,19930710,0536,-34.5757,155.0015,4590,   1993.9,   2.2820,  34.6710,2,   -999.0,5,   2.1416,  34.6719,2,    169.0,2,    95.87,2,     2.40,2,    36.92,2
09FA693,P11S,      55,        1,       11,        2,2,19930710,0536,-34.5757,155.0015,4590,   2193.8,   2.1210,  34.6980,2,   -999.0,5,   1.9658,  34.6978,2,    178.8,2,    93.54,2,     2.36,2,    36.24,2
09FA693,P11S,      55,        1,       10,       48,2,19930710,0536,-34.5757,155.0015,4590,   2393.9,   1.9900,  34.7110,2,   -999.0,5,   1.8192,  34.7099,2,    182.6,2,    96.65,2,     2.35,2,    35.90,2
09FA693,P11S,      55,        1,        9,        4,2,19930710,0536,-34.5757,155.0015,4590,   2594.7,   1.8640,  34.7200,2,   -999.0,5,   1.6773,  34.7189,2,    186.5,2,    99.01,2,     2.33,2,    35.73,2
09FA693,P11S,      55,        1,        8,       24,2,19930710,0536,-34.5757,155.0015,4590,   2797.4,   1.6810,  34.7230,2,   -999.0,5,   1.4792,  34.7236,2,    189.7,2,   105.37,2,     2.31,2,    35.56,2
09FA693,P11S,      55,        1,        7,       10,2,19930710,0536,-34.5757,155.0015,4590,   2995.2,   1.5570,  34.7230,2,   -999.0,5,   1.3391,  34.7236,2,    192.5,2,   107.79,2,     2.31,2,    35.73,2
09FA693,P11S,      55,        1,        6,       42,2,19930710,0536,-34.5757,155.0015,4590,   3196.7,   1.4080,  34.7210,2,   -999.0,5,   1.1741,  34.7221,2,    193.8,2,   111.04,2,     2.33,2,    35.73,2
09FA693,P11S,      55,        1,        5,       14,2,19930710,0536,-34.5757,155.0015,4590,   3398.8,   1.3080,  34.7180,2,   -999.0,5,   1.0566,  34.7186,2,    195.5,2,   112.68,2,     2.35,2,    35.90,2
09FA693,P11S,      55,        1,        3,        8,2,19930710,0536,-34.5757,155.0015,4590,   3799.0,   1.1810,  34.7150,2,   -999.0,5,   0.8921,  34.7162,2,    198.2,2,   115.98,2,     2.36,2,    36.07,2
09FA693,P11S,      55,        1,        2,       11,2,19930710,0536,-34.5757,155.0015,4590,   4098.9,   1.1520,  34.7130,2,   -999.0,5,   0.8320,  34.7139,2,    199.6,2,   118.47,2,     2.36,2,    36.24,2
09FA693,P11S,      55,        1,        1,       70,2,19930710,0536,-34.5757,155.0015,4590,   4402.7,   1.1480,  34.7120,2,   -999.0,5,   0.7947,  34.7139,2,    200.1,2,   120.15,2,     2.36,2,    36.24,2
09FA693,P11S,      56,        1,       24,        5,2,19930710,1227,-35.1662,155.0000,4652,      1.5,  18.4830,  35.6550,2,   -999.0,5,  18.4827,  35.6531,2,    237.6,2,     1.42,2,     0.29,2,     2.00,2
09FA693,P11S,      56,        1,       23,       25,2,19930710,1227,-35.1662,155.0000,4652,     97.3,  17.5010,  35.6230,2,   -999.0,5,  17.4846,  35.6193,2,    234.1,2,     1.89,2,     0.38,2,     4.33,2
09FA693,P11S,      56,        1,       22,       36,2,19930710,1227,-35.1662,155.0000,4652,    194.8,  12.8120,  35.1030,2,   -999.0,5,  12.7854,  35.1015,2,    186.7,2,     5.77,2,     1.04,2,    14.81,2
09FA693,P11S,      56,        1,       21,        3,2,19930710,1227,-35.1662,155.0000,4652,    394.1,   8.9460,  34.6730,2,   -999.0,5,   8.9030,  34.6735,2,    195.9,2,    11.31,2,     1.51,2,    22.63,2
09FA693,P11S,      56,        1,       20,       27,2,19930710,1227,-35.1662,155.0000,4652,    592.9,   6.9410,  34.5080,2,   -999.0,5,   6.8846,  34.5090,2,    192.2,2,    20.88,2,     1.83,2,    27.78,2
09FA693,P11S,      56,        1,       19,       20,2,19930710,1227,-35.1662,155.0000,4652,    792.6,   5.5210,  34.4670,2,   -999.0,5,   5.4530,  34.4660,2,    184.3,2,    36.41,2,     2.07,2,    31.28,2
09FA693,P11S,      56,        1,       18,       45,2,19930710,1227,-35.1662,155.0000,4652,    992.5,   4.3570,  34.4870,2,   -999.0,5,   4.2793,  34.4872,2,    172.2,2,    57.30,2,     2.26,2,    34.11,2
09FA693,P11S,      56,        1,       17,        1,2,19930710,1227,-35.1662,155.0000,4652,   1192.2,   3.6630,  34.5290,2,   -999.0,5,   3.5741,  34.5281,2,   -999.0,9,    72.41,2,     2.39,2,    35.77,2
09FA693,P11S,      56,        1,       16,       41,2,19930710,1227,-35.1662,155.0000,4652,   1393.2,   3.1180,  34.5770,2,   -999.0,5,   3.0177,  34.5759,2,    154.5,2,    86.21,2,     2.46,2,    36.77,2
09FA693,P11S,      56,        1,       14,       35,2,19930710,1227,-35.1662,155.0000,4652,   1794.3,   2.4730,  34.6460,2,   -999.0,5,   2.3469,  34.6445,2,    163.2,2,    95.28,2,     2.42,2,    36.43,2
09FA693,P11S,      56,        1,       13,       15,2,19930710,1227,-35.1662,155.0000,4652,   1994.6,   2.2880,  34.6740,2,   -999.0,5,   2.1475,  34.6700,2,    169.5,2,    90.71,2,     2.38,2,    35.94,2
09FA693,P11S,      56,        1,       12,       28,2,19930710,1227,-35.1662,155.0000,4652,   2195.1,   2.1490,  34.6950,2,   -999.0,5,   1.9932,  34.6935,2,    176.7,2,    90.71,2,     2.30,2,    34.77,2
09FA693,P11S,      56,        1,       11,        2,2,19930710,1227,-35.1662,155.0000,4652,   2393.8,   2.0170,  34.7120,2,   -999.0,5,   1.8458,  34.7088,2,    182.2,2,    95.28,2,     2.27,2,    34.60,2
09FA693,P11S,      56,        1,       10,       48,2,19930710,1227,-35.1662,155.0000,4652,   2596.3,   1.8560,  34.7240,2,   -999.0,5,   1.6693,  34.7214,2,    186.9,2,  -999.00,9,  -999.00,9,  -999.00,9
09FA693,P11S,      56,        1,        9,        4,2,19930710,1227,-35.1662,155.0000,4652,   2797.2,   1.7020,  34.7250,2,   -999.0,5,   1.4998,  34.7229,2,    190.9,2,    99.15,2,     2.25,2,    34.44,2
09FA693,P11S,      56,        1,        8,       24,2,19930710,1227,-35.1662,155.0000,4652,   2997.2,   1.5720,  34.7250,2,   -999.0,5,   1.3536,  34.7245,2,    193.8,2,   104.64,2,     2.25,2,    34.60,2
09FA693,P11S,      56,        1,        7,       10,2,19930710,1227,-35.1662,155.0000,4652,   3196.9,   1.4480,  34.7240,2,   -999.0,5,   1.2131,  34.7233,2,    195.9,2,   107.82,2,     2.27,2,    35.10,2
09FA693,P11S,      56,        1,        6,       42,2,19930710,1227,-35.1662,155.0000,4652,   3397.7,   1.3350,  34.7210,2,   -999.0,5,   1.0830,  34.7213,2,    197.7,2,  -999.00,9,  -999.00,9,  -999.00,9
09FA693,P11S,      56,        1,        5,       14,2,19930710,1227,-35.1662,155.0000,4652,   3598.2,   1.2390,  34.7190,2,   -999.0,5,   0.9692,  34.7197,2,    198.8,2,   110.22,2,     2.27,2,    34.94,2
09FA693,P11S,      56,        1,        4,        7,2,19930710,1227,-35.1662,155.0000,4652,   3898.7,   1.1860,  34.7170,2,   -999.0,5,   0.8865,  34.7166,2,    198.5,2,  -999.00,9,  -999.00,9,  -999.00,9
09FA693,P11S,      56,        1,        3,        8,2,19930710,1227,-35.1662,155.0000,4652,   4199.3,   1.1690,  34.7150,2,   -999.0,5,   0.8376,  34.7150,2,    199.9,2,   114.27,2,     2.29,2,    35.27,2
09FA693,P11S,      56,        1,        2,       11,2,19930710,1227,-35.1662,155.0000,4652,   4500.7,   1.1520,  34.7140,2,   -999.0,5,   0.7875,  34.7131,2,    200.4,2,   118.37,2,     2.29,2,    35.10,2
09FA693,P11S,      56,        1,        1,       70,2,19930710,1227,-35.1662,155.0000,4652,   4713.9,   1.1570,  34.7130,2,   -999.0,5,   0.7679,  34.7131,2,    200.6,2,   117.54,2,     2.29,2,    35.27,2
09FA693,P11S,      57,        1,       23,       25,2,19930710,1856,-35.7630,155.0030,4897,      3.2,  16.8080,  35.5150,2,   -999.0,5,  16.8075,  35.5169,2,    244.1,2,     1.89,2,     0.35,2,     2.99,2
09FA693,P11S,      57,        1,       22,       36,2,19930710,1856,-35.7630,155.0030,4897,     98.5,  16.3800,  35.5870,2,   -999.0,5,  16.3641,  35.5857,2,    239.9,2,     1.89,2,     0.38,2,     3.66,2
09FA693,P11S,      57,        1,       21,        3,2,19930710,1856,-35.7630,155.0030,4897,    196.3,  15.2060,  35.4570,2,   -999.0,5,  15.1759,  35.4535,2,    218.6,2,     2.85,2,     0.59,2,     6.82,2
09FA693,P11S,      57,        1,       20,       27,2,19930710,1856,-35.7630,155.0030,4897,    396.3,  11.0210,  34.9470,2,   -999.0,5,  10.9717,  34.9485,2,    208.0,2,     6.27,2,     1.14,2,    16.64,2
09FA693,P11S,      57,        1,       19,       20,2,19930710,1856,-35.7630,155.0030,4897,    592.7,   8.3990,  34.6160,2,   -999.0,5,   8.3361,  34.6194,2,    195.6,2,    12.86,2,     1.60,2,    24.46,2
09FA693,P11S,      57,        1,       18,       45,2,19930710,1856,-35.7630,155.0030,4897,    793.5,   6.5610,  34.4840,2,   -999.0,5,   6.4867,  34.4861,2,    192.7,2,    24.21,2,     1.88,2,    29.28,2
09FA693,P11S,      57,        1,       17,        1,2,19930710,1856,-35.7630,155.0030,4897,    989.3,   5.2320,  34.4650,2,   -999.0,5,   5.1480,  34.4665,2,    181.7,2,    41.90,2,     2.10,2,    32.77,2
09FA693,P11S,      57,        1,       16,       41,2,19930710,1856,-35.7630,155.0030,4897,   1193.4,   4.1130,  34.4900,2,   -999.0,5,   4.0200,  34.4900,2,    171.4,2,    62.01,2,     2.29,2,    35.44,2
09FA693,P11S,      57,        1,       15,        9,2,19930710,1856,-35.7630,155.0030,4897,   1392.0,   3.3180,  34.5500,2,   -999.0,5,   3.2157,  34.5504,2,    160.6,2,    83.98,2,     2.40,2,    37.60,2
09FA693,P11S,      57,        1,       14,       35,2,19930710,1856,-35.7630,155.0030,4897,   1591.2,   2.7830,  34.5990,2,   -999.0,5,   2.6701,  34.5958,2,    160.0,2,    91.47,2,     2.42,2,    37.60,2
09FA693,P11S,      57,        1,       13,       15,2,19930710,1856,-35.7630,155.0030,4897,   1793.8,   2.5160,  34.6390,2,   -999.0,5,   2.3894,  34.6429,2,    164.3,2,    93.75,2,     2.38,2,    37.10,2
09FA693,P11S,      57,        1,       12,       28,2,19930710,1856,-35.7630,155.0030,4897,   1992.6,   2.3260,  34.6700,2,   -999.0,5,   2.1851,  34.6707,2,    169.8,2,    92.99,2,     2.31,2,    36.27,2
09FA693,P11S,      57,        1,       11,        2,2,19930710,1856,-35.7630,155.0030,4897,   2193.3,   2.1510,  34.6990,2,   -999.0,5,   1.9953,  34.7005,2,    178.5,2,    96.05,2,     2.27,2,    35.77,2
09FA693,P11S,      57,        1,       10,       48,2,19930710,1856,-35.7630,155.0030,4897,   2392.9,   1.9910,  34.7160,2,   -999.0,5,   1.8203,  34.7174,2,    183.5,2,   100.71,2,     2.25,2,    35.60,2
09FA693,P11S,      57,        1,        9,        4,2,19930710,1856,-35.7630,155.0030,4897,   2594.5,   1.8430,  34.7260,2,   -999.0,5,   1.6567,  34.7264,2,    188.3,2,   103.06,2,     2.23,2,    35.10,2
09FA693,P11S,      57,        1,        8,       24,2,19930710,1856,-35.7630,155.0030,4897,   2796.5,   1.6850,  34.7290,2,   -999.0,5,   1.4832,  34.7291,2,    191.7,2,   105.43,2,     2.23,2,    35.10,2
09FA693,P11S,      57,        1,        7,       10,2,19930710,1856,-35.7630,155.0030,4897,   2998.8,   1.5290,  34.7260,2,   -999.0,5,   1.3114,  34.7268,2,    193.8,2,   111.84,2,     2.25,2,    35.27,2
09FA693,P11S,      57,        1,        6,       42,2,19930710,1856,-35.7630,155.0030,4897,   3195.8,   1.4060,  34.7250,2,   -999.0,5,   1.1722,  34.7252,2,    195.9,2,   113.46,2,     2.26,2,    35.27,2
09FA693,P11S,      57,        1,        5,       14,2,19930710,1856,-35.7630,155.0030,4897,   3398.1,   1.2790,  34.7210,2,   -999.0,5,   1.0283,  34.7225,2,    198.3,2,   116.72,2,     2.26,2,    35.44,2
09FA693,P11S,      57,        1,        4,        7,2,19930710,1856,-35.7630,155.0030,4897,   3699.4,   1.1940,  34.7180,2,   -999.0,5,   0.9150,  34.7201,2,    199.1,2,   120.85,2,     2.27,2,    35.44,2
09FA693,P11S,      57,        1,        3,        8,2,19930710,1856,-35.7630,155.0030,4897,   3999.2,   1.1630,  34.7160,2,   -999.0,5,   0.8534,  34.7213,2,    199.9,2,   123.35,2,     2.27,2,    35.60,2
09FA693,P11S,      57,        1,        1,       70,2,19930710,1856,-35.7630,155.0030,4897,   4967.3,   1.1720,  34.7150,2,   -999.0,5,   0.7525,  34.7158,2,    200.6,2,   120.85,2,     2.27,2,    35.94,2
09FA693,P11S,      58,        1,       24,        5,2,19930711,0122,-36.3528,155.0015,4421,      1.3,  16.2240,  35.5390,2,   -999.0,5,  16.2238,  35.5394,2,    244.9,2,     1.89,2,     0.36,2,     3.33,2
09FA693,P11S,      58,        1,       23,       25,2,19930711,0122,-36.3528,155.0015,4421,     98.0,  16.0450,  35.5520,2,   -999.0,5,  16.0294,  35.5516,2,    242.0,2,     2.37,2,     0.41,2,     4.33,2
09FA693,P11S,      58,        1,       22,       36,2,19930711,0122,-36.3528,155.0015,4421,    196.2,  14.2920,  35.3230,2,   -999.0,5,  14.2632,  35.3254,2,    202.0,2,     3.82,2,     0.74,2,    10.48,2
09FA693,P11S,      58,        1,       21,        3,2,19930711,0122,-36.3528,155.0015,4421,    395.2,  10.8580,  34.9240,2,   -999.0,5,  10.8093,  34.9260,2,    205.7,2,     6.27,2,     1.14,2,    17.30,2
09FA693,P11S,      58,        1,       20,       27,2,19930711,0122,-36.3528,155.0015,4421,    593.7,   8.2500,  34.6050,2,   -999.0,5,   8.1876,  34.6068,2,    195.6,2,    13.38,2,     1.59,2,    25.62,2
09FA693,P11S,      58,        1,       19,       20,2,19930711,0122,-36.3528,155.0015,4421,    793.6,   6.6010,  34.4860,2,   -999.0,5,   6.5265,  34.4881,2,    192.2,2,    24.21,2,     1.84,2,    29.95,2
09FA693,P11S,      58,        1,       18,       45,2,19930711,0122,-36.3528,155.0015,4421,    992.8,   5.2820,  34.4650,2,   -999.0,5,   5.1973,  34.4657,2,   -999.0,9,    41.28,2,     2.09,2,    32.94,2
09FA693,P11S,      58,        1,       17,        1,2,19930711,0122,-36.3528,155.0015,4421,   1193.5,   4.2660,  34.4920,2,   -999.0,5,   4.1716,  34.4964,2,    171.4,2,    61.33,2,     2.26,2,    35.44,2
09FA693,P11S,      58,        1,       16,       35,2,19930711,0122,-36.3528,155.0015,4421,   1392.2,   3.4940,  34.5410,2,   -999.0,5,   3.3899,  34.5442,2,    160.6,2,    81.04,2,     2.38,2,    37.43,2
09FA693,P11S,      58,        1,       15,       41,2,19930711,0122,-36.3528,155.0015,4421,   1594.9,   2.8890,  34.5950,2,   -999.0,5,   2.7745,  34.5963,2,    157.9,2,    92.99,2,     2.42,2,    37.77,2
09FA693,P11S,      58,        1,       13,       15,2,19930711,0122,-36.3528,155.0015,4421,   1993.8,   2.3210,  34.6740,2,   -999.0,5,   2.1801,  34.6732,2,    171.4,2,    95.28,2,     2.33,2,    36.43,2
09FA693,P11S,      58,        1,       12,       28,2,19930711,0122,-36.3528,155.0015,4421,   2191.1,   2.1670,  34.7010,2,   -999.0,5,   2.0112,  34.6999,2,    177.7,2,    96.82,2,     2.26,2,    35.77,2
09FA693,P11S,      58,        1,       11,        2,2,19930711,0122,-36.3528,155.0015,4421,   2393.6,   2.0020,  34.7200,2,   -999.0,5,   1.8310,  34.7211,2,    183.8,2,    99.93,2,     2.23,2,    35.27,2
09FA693,P11S,      58,        1,       10,       48,2,19930711,0122,-36.3528,155.0015,4421,   2597.2,   1.8540,  34.7300,2,   -999.0,5,   1.6672,  34.7306,2,    187.2,2,   103.85,2,     2.22,2,    35.77,2
09FA693,P11S,      58,        1,        8,       24,2,19930711,0122,-36.3528,155.0015,4421,   2993.4,   1.5550,  34.7290,2,   -999.0,5,   1.3373,  34.7326,2,    193.5,2,   114.27,2,     2.23,2,    35.44,2
09FA693,P11S,      58,        1,        7,       10,2,19930711,0122,-36.3528,155.0015,4421,   3197.3,   1.3760,  34.7260,2,   -999.0,5,   1.1427,  34.7255,2,    196.7,2,   116.72,2,     2.23,2,    35.60,2
09FA693,P11S,      58,        1,        6,       42,2,19930711,0122,-36.3528,155.0015,4421,   3396.2,   1.2420,  34.7230,2,   -999.0,5,   0.9924,  34.7244,2,    199.3,2,   117.54,2,     2.25,2,    35.77,2
09FA693,P11S,      58,        1,        5,       14,2,19930711,0122,-36.3528,155.0015,4421,   3598.1,   1.1760,  34.7190,2,   -999.0,5,   0.9079,  34.7216,2,    199.1,2,   119.19,2,     2.26,2,    35.77,2
09FA693,P11S,      58,        1,        4,        7,2,19930711,0122,-36.3528,155.0015,4421,   3798.9,   1.1370,  34.7180,2,   -999.0,5,   0.8493,  34.7204,2,    199.6,2,   123.35,2,     2.25,2,    35.77,2
09FA693,P11S,      58,        1,        3,        8,2,19930711,0122,-36.3528,155.0015,4421,   4000.2,   1.1210,  34.7160,2,   -999.0,5,   0.8125,  34.7184,2,    200.4,2,   125.02,2,     2.26,2,    36.10,2
09FA693,P11S,      58,        1,        2,       11,2,19930711,0122,-36.3528,155.0015,4421,   4193.5,   1.1130,  34.7160,2,   -999.0,5,   0.7839,  34.7176,2,    200.4,2,   126.71,2,     2.27,2,    36.43,2
09FA693,P11S,      58,        1,        1,       70,2,19930711,0122,-36.3528,155.0015,4421,   4509.1,   1.1080,  34.7150,2,   -999.0,5,   0.7439,  34.7152,2,    202.2,2,   124.18,2,     2.26,2,    35.94,2