BOTTLE,20220816CCHSIOAMB
EXPOCODE,SECT_ID,STNNBR,CASTNO,SAMPNO,BTLNBR,BTLNBR_FLAG_W,DATE,TIME,LATITUDE,LONGITUDE,DEPTH,CTDPRS,CTDTMP,CTDSAL,CTDSAL_FLAG_W,CTDOXY,CTDOXY_FLAG_W,THETA,SALNTY,SALNTY_FLAG_W,OXYGEN,OXYGEN_FLAG_W,SILCAT,SILCAT_FLAG_W,PHSPHT,PHSPHT_FLAG_W,NO2+NO3,NO2+NO3_FLAG_W
,,,,,,,,,,,,DBAR,ITS-90,PSS-78,,UMOL/KG,,ITS-90,PSS-78,,UMOL/KG,,UMOL/KG,,UMOL/KG,,UMOL/KG,
09FA693,P11S,      51,        1,       24,        5,2,19930708,1021,-32.1243,154.9988,4753,      1.9,  21.0990,  35.6930,2,   -999.0,5,  21.0986,  35.6969,2,    219.4,2,     1.93,2,     0.29,2,     1.89,2
09FA693,P11S,      51,        1,       23,       25,2,19930708,1021,-32.1243,154.9988,4753,     97.6,  21.1240,  35.6990,2,   -999.0,5,  21.1052,  35.7005,2,    221.0,2,     1.93,2,     0.29,2,     1.72,2
09FA693,P11S,      51,        1,       22,       36,2,19930708,1021,-32.1243,154.9988,4753,    194.6,  20.0400,  35.6000,2,   -999.0,5,  20.0038,  35.6015,2,    187.8,2,     1.93,2,     0.49,2,     4.98,2
09FA693,P11S,      51,        1,       21,        3,2,19930708,1021,-32.1243,154.9988,4753,    394.5,  14.7650,  35.2970,2,   -999.0,5,  14.7054,  35.2979,2,    187.3,2,     3.89,2,     0.87,2,    11.51,2
09FA693,P11S,      51,        1,       20,       27,2,19930708,1021,-32.1243,154.9988,4753,    593.6,  10.0980,  34.7980,2,   -999.0,5,  10.0275,  34.8023,2,    196.3,2,     8.43,2,     1.39,2,    20.78,2
09FA693,P11S,      51,        1,       19,       20,2,19930708,1021,-32.1243,154.9988,4753,    793.8,   7.6750,  34.5500,2,   -999.0,5,   7.5940,  34.5532,2,    194.1,2,    16.38,2,     1.80,2,    26.80,2
09FA693,P11S,      51,        1,       18,       45,2,19930708,1021,-32.1243,154.9988,4753,    993.7,   5.8680,  34.4600,2,   -999.0,5,   5.7788,  34.4650,2,    185.1,2,    31.30,2,     2.10,2,    31.95,2
09FA693,P11S,      51,        1,       17,        1,2,19930708,1021,-32.1243,154.9988,4753,   1194.6,   4.5680,  34.4730,2,   -999.0,5,   4.4707,  34.4772,2,    174.5,2,    50.31,2,     2.32,2,    34.70,2
09FA693,P11S,      51,        1,       16,       41,2,19930708,1021,-32.1243,154.9988,4753,   1397.2,   3.6730,  34.5240,2,   -999.0,5,   3.5666,  34.5249,2,    162.2,2,    71.99,2,     2.49,2,    37.10,2
09FA693,P11S,      51,        1,       15,        9,2,19930708,1021,-32.1243,154.9988,4753,   1592.4,   3.0550,  34.5730,2,   -999.0,5,   2.9387,  34.5741,2,    157.1,2,    85.52,2,     2.56,2,    38.48,2
09FA693,P11S,      51,        1,       14,       35,2,19930708,1021,-32.1243,154.9988,4753,   1795.2,   2.6440,  34.6190,2,   -999.0,5,   2.5156,  34.6182,2,    159.5,2,    91.75,2,     2.54,2,    37.96,2
09FA693,P11S,      51,        1,       13,       15,2,19930708,1021,-32.1243,154.9988,4753,   1999.3,   2.4000,  34.6550,2,   -999.0,5,   2.2575,  34.6541,2,    166.3,2,    91.75,2,     2.47,2,    37.28,2
09FA693,P11S,      51,        1,       12,       28,2,19930708,1021,-32.1243,154.9988,4753,   2199.6,   2.2240,  34.6810,2,   -999.0,5,   2.0666,  34.6841,2,    173.1,2,    92.54,2,     2.39,2,    36.42,2
09FA693,P11S,      51,        1,       11,        2,2,19930708,1021,-32.1243,154.9988,4753,   2400.7,   2.0650,  34.7050,2,   -999.0,5,   1.8923,  34.7046,2,    179.7,2,    90.96,2,     2.39,2,    35.73,2
09FA693,P11S,      51,        1,       10,       48,2,19930708,1021,-32.1243,154.9988,4753,   2598.7,-999.0000,  34.7170,2,   -999.0,5,-999.0000,-999.0000,9,    185.1,2,    94.13,2,     2.36,2,    35.56,2
09FA693,P11S,      51,        1,        9,        4,2,19930708,1021,-32.1243,154.9988,4753,   2798.2,   1.9250,  34.7240,2,   -999.0,5,   1.7181,  34.7244,2,    188.4,2,   100.55,2,     2.34,2,    35.39,2
09FA693,P11S,      51,        1,        8,       24,2,19930708,1021,-32.1243,154.9988,4753,   3003.0,   1.7800,-999.0000,9,   -999.0,5,   1.5565,  34.7252,2,    190.3,2,   104.63,2,     2.34,2,    35.90,2
09FA693,P11S,      51,        1,        7,       10,2,19930708,1021,-32.1243,154.9988,4753,   3201.4,   1.5110,  34.7230,2,   -999.0,5,   1.2742,  34.7246,2,    193.3,2,   107.94,2,     2.32,2,    35.39,2
09FA693,P11S,      51,        1,        6,       42,2,19930708,1021,-32.1243,154.9988,4753,   3401.7,   1.3750,  34.7200,2,   -999.0,5,   1.1216,  34.7225,2,    195.2,2,   111.28,2,     2.35,2,    35.56,2
09FA693,P11S,      51,        1,        5,       14,2,19930708,1021,-32.1243,154.9988,4753,   3701.1,   1.2210,  34.7130,2,   -999.0,5,   0.9412,  34.7165,2,    197.9,2,  -999.00,9,  -999.00,9,  -999.00,9
09FA693,P11S,      51,        1,        4,        7,2,19930708,1021,-32.1243,154.9988,4753,   4000.5,   1.1730,  34.7120,2,   -999.0,5,   0.8630,  34.7160,2,    198.2,2,   117.21,2,     2.36,2,    36.07,2
09FA693,P11S,      51,        1,        3,        8,2,19930708,1021,-32.1243,154.9988,4753,   4298.5,   1.1650,  34.7110,2,   -999.0,5,   0.8228,  34.7135,2,    199.3,2,  -999.00,9,  -999.00,9,  -999.00,9
09FA693,P11S,      51,        1,        2,       11,2,19930708,1021,-32.1243,154.9988,4753,   4598.7,   1.1720,  34.7110,2,   -999.0,5,   0.7957,  34.7126,2,    198.5,2,   120.64,2,     2.39,2,    36.07,2
09FA693,P11S,      51,        1,        1,       70,2,19930708,1021,-32.1243,154.9988,4753,   4819.7,-999.0000,-999.0000,9,   -999.0,5,-999.0000,  34.7117,2,    199.3,2,   121.51,2,     2.39,2,    36.24,2
09FA693,P11S,      52,        1,       23,       25,2,19930708,1749,-32.7125,154.9995,4830,     96.0,  21.1990,  35.6990,2,   -999.0,5,  21.1805,  35.6996,2,    219.7,2,  -999.00,9,  -999.00,9,  -999.00,9
09FA693,P11S,      52,        1,       22,       36,2,19930708,1749,-32.7125,154.9995,4830,    198.3,  21.1450,  35.7090,2,   -999.0,5,  21.1067,  35.7122,2,    220.5,2,     1.44,2,     0.27,2,     1.89,2
09FA693,P11S,      52,        1,       21,        3,2,19930708,1749,-32.7125,154.9995,4830,    398.6,  16.5930,  35.4390,2,   -999.0,5,  16.5278,  35.4410,2,    185.4,2,     2.90,2,     0.70,2,     8.93,2
09FA693,P11S,      52,        1,       20,       27,2,19930708,1749,-32.7125,154.9995,4830,    593.7,  11.6200,  34.9810,2,   -999.0,5,  11.5429,  34.9836,2,    201.7,2,     6.39,2,     1.18,2,    17.52,2
09FA693,P11S,      52,        1,       19,       20,2,19930708,1749,-32.7125,154.9995,4830,    797.0,   8.2050,  34.5930,2,   -999.0,5,   8.1205,  34.6001,2,    194.6,2,    13.67,2,     1.70,2,    25.77,2
09FA693,P11S,      52,        1,       18,       45,2,19930708,1749,-32.7125,154.9995,4830,    993.5,   6.3790,  34.4730,2,   -999.0,5,   6.2860,  34.4760,2,    189.7,2,    25.97,2,     1.99,2,    30.58,2
09FA693,P11S,      52,        1,       17,        1,2,19930708,1749,-32.7125,154.9995,4830,   1195.2,   4.8480,  34.4670,2,   -999.0,5,   4.7482,  34.4716,2,    176.9,2,    47.67,2,     2.27,2,    34.87,2
09FA693,P11S,      52,        1,       16,       41,2,19930708,1749,-32.7125,154.9995,4830,   1394.9,   3.8530,  34.5110,2,   -999.0,5,   3.7449,  34.5125,2,    164.7,2,    68.35,2,     2.45,2,    37.62,2
09FA693,P11S,      52,        1,       15,        9,2,19930708,1749,-32.7125,154.9995,4830,   1595.7,   3.1960,  34.5600,2,   -999.0,5,   3.0778,  34.5595,2,    157.3,2,    84.75,2,     2.53,2,    38.31,2
09FA693,P11S,      52,        1,       14,       35,2,19930708,1749,-32.7125,154.9995,4830,   1795.6,   2.7520,  34.6100,2,   -999.0,5,   2.6221,  34.6114,2,    156.8,2,    94.92,2,     2.56,2,    38.99,2
09FA693,P11S,      52,        1,       13,       15,2,19930708,1749,-32.7125,154.9995,4830,   1992.8,   2.4540,  34.6480,2,   -999.0,5,   2.3112,  34.6468,2,    163.3,2,    95.72,2,     2.50,2,    37.96,2
09FA693,P11S,      52,        1,       12,       28,2,19930708,1749,-32.7125,154.9995,4830,   2195.1,   2.2740,  34.6750,2,   -999.0,5,   2.1162,  34.6763,2,    170.4,2,    94.13,2,     2.43,2,    37.28,2
09FA693,P11S,      52,        1,       11,        2,2,19930708,1749,-32.7125,154.9995,4830,   2391.9,   2.1090,  34.6980,2,   -999.0,5,   1.9363,  34.6987,2,    178.3,2,    94.13,2,     2.39,2,    37.10,2
09FA693,P11S,      52,        1,       10,       48,2,19930708,1749,-32.7125,154.9995,4830,   2593.9,   1.9370,  34.7150,2,   -999.0,5,   1.7490,  34.7157,2,    184.0,2,    96.52,2,     2.35,2,    36.07,2
09FA693,P11S,      52,        1,        9,        4,2,19930708,1749,-32.7125,154.9995,4830,   2800.0,   1.8020,  34.7220,2,   -999.0,5,   1.5974,  34.7220,2,    187.3,2,   100.55,2,     2.35,2,    36.07,2
09FA693,P11S,      52,        1,        8,       24,2,19930708,1749,-32.7125,154.9995,4830,   2995.1,   1.6440,  34.7240,2,   -999.0,5,   1.4242,  34.7244,2,    190.8,2,   106.28,2,     2.34,2,    35.90,2
09FA693,P11S,      52,        1,        7,       10,2,19930708,1749,-32.7125,154.9995,4830,   3201.8,   1.4910,  34.7200,2,   -999.0,5,   1.2546,  34.7209,2,    193.8,2,   109.61,2,     2.35,2,    36.07,2
09FA693,P11S,      52,        1,        6,       42,2,19930708,1749,-32.7125,154.9995,4830,   3396.4,   1.3600,  34.7180,2,   -999.0,5,   1.1075,  34.7221,2,    194.1,2,   113.81,2,     2.35,2,    36.93,2
09FA693,P11S,      52,        1,        5,       14,2,19930708,1749,-32.7125,154.9995,4830,   3701.6,   1.2190,  34.7150,2,   -999.0,5,   0.9392,  34.7174,2,    197.9,2,  -999.00,9,  -999.00,9,  -999.00,9
09FA693,P11S,      52,        1,        4,        7,2,19930708,1749,-32.7125,154.9995,4830,   3997.2,   1.1580,  34.7120,2,   -999.0,5,   0.8488,  34.7167,2,    198.2,2,   116.36,2,     2.35,2,    36.76,2
09FA693,P11S,      52,        1,        3,        8,2,19930708,1749,-32.7125,154.9995,4830,   4295.6,   1.1580,  34.7110,2,   -999.0,5,   0.8163,  34.7155,2,    199.3,2,  -999.00,9,  -999.00,9,  -999.00,9
09FA693,P11S,      52,        1,        2,       11,2,19930708,1749,-32.7125,154.9995,4830,   4596.2,   1.1690,  34.7100,2,   -999.0,5,   0.7931,  34.7139,2,    199.8,2,   118.06,2,     2.36,2,    36.93,2
09FA693,P11S,      52,        1,        1,       70,2,19930708,1749,-32.7125,154.9995,4830,   4927.8,   1.1370,  34.7100,2,   -999.0,5,   0.7234,  34.7120,2,    201.7,2,   120.64,2,     2.36,2,    36.76,2
09FA693,P11S,      52,        1,       24,        5,2,19930708,1749,-32.7125,154.9995,4830,   4927.8,   1.1370,  34.7100,2,   -999.0,5,   0.7234,  34.7108,2,    200.9,2,  -999.00,9,  -999.00,9,  -999.00,9
09FA693,P11S,      53,        1,       24,        5,2,19930709,1702,-33.4743,154.9977,4836,      1.5,  20.9400,  35.5230,2,   -999.0,5,  20.9397,  35.5090,2,    230.2,2,     1.45,2,     0.27,2,     1.87,2
09FA693,P11S,      53,        1,       23,       25,2,19930709,1702,-33.4743,154.9977,4836,     98.1,  21.1580,  35.7040,2,   -999.0,5,  21.1391,  35.7020,2,    232.1,2,     1.45,2,     0.27,2,     1.70,2
09FA693,P11S,      53,        1,       22,       36,2,19930709,1702,-33.4743,154.9977,4836,    195.7,  21.1220,  35.7000,2,   -999.0,5,  21.0842,  35.6984,2,    226.9,2,     1.45,2,     0.27,2,     1.87,2
09FA693,P11S,      53,        1,       21,        3,2,19930709,1702,-33.4743,154.9977,4836,    395.9,  16.1320,  35.4060,2,   -999.0,5,  16.0684,  35.4046,2,    188.4,2,     3.42,2,     0.75,2,     9.19,2
09FA693,P11S,      53,        1,       20,       27,2,19930709,1702,-33.4743,154.9977,4836,    592.5,  11.0830,  34.9150,2,   -999.0,5,  11.0083,  34.9210,2,    192.5,2,     7.45,2,     1.27,2,    18.03,2
09FA693,P11S,      53,        1,       19,       20,2,19930709,1702,-33.4743,154.9977,4836,    791.3,   8.0000,  34.5780,2,   -999.0,5,   7.9174,  34.5791,2,    196.3,2,    14.79,2,     1.73,2,    25.35,2
09FA693,P11S,      53,        1,       18,       45,2,19930709,1702,-33.4743,154.9977,4836,    992.6,   6.0530,  34.4680,2,   -999.0,5,   5.9625,  34.4678,2,    188.7,2,    30.05,2,     2.03,2,    30.28,2
09FA693,P11S,      53,        1,       17,        1,2,19930709,1702,-33.4743,154.9977,4836,   1192.2,   4.7040,  34.4750,2,   -999.0,5,   4.6057,  34.4741,2,    177.4,2,    50.64,2,     2.29,2,    33.68,2
09FA693,P11S,      53,        1,       16,       41,2,19930709,1702,-33.4743,154.9977,4836,   1392.9,   3.7490,  34.5260,2,   -999.0,5,   3.6422,  34.5136,2,    162.7,2,    72.64,2,     2.47,2,    36.24,2
09FA693,P11S,      53,        1,       15,        9,2,19930709,1702,-33.4743,154.9977,4836,   1590.8,   3.1640,  34.5730,2,   -999.0,5,   3.0465,  34.5720,2,    155.8,2,    89.70,2,     2.54,2,    37.77,2
09FA693,P11S,      53,        1,       14,       35,2,19930709,1702,-33.4743,154.9977,4836,   1792.2,   2.7170,  34.6150,2,   -999.0,5,   2.5879,  34.6135,2,    156.9,2,    97.44,2,     2.55,2,    37.94,2
09FA693,P11S,      53,        1,       13,       15,2,19930709,1702,-33.4743,154.9977,4836,   1991.6,   2.4290,  34.6510,2,   -999.0,5,   2.2867,  34.6464,2,    164.6,2,    96.65,2,     2.51,2,    36.92,2
09FA693,P11S,      53,        1,       12,       28,2,19930709,1702,-33.4743,154.9977,4836,   2192.2,   2.2440,  34.6780,2,   -999.0,5,   2.0870,  34.6746,2,    172.0,2,    91.23,2,     2.42,2,    35.90,2
09FA693,P11S,      53,        1,       11,        2,2,19930709,1702,-33.4743,154.9977,4836,   2393.5,   2.0760,  34.7040,2,   -999.0,5,   1.9038,  34.7016,2,    180.5,2,    96.65,2,     2.36,2,    35.73,2
09FA693,P11S,      53,        1,       10,       48,2,19930709,1702,-33.4743,154.9977,4836,   2595.2,   1.9210,  34.7180,2,   -999.0,5,   1.7332,  34.7141,2,    185.6,2,   100.59,2,     2.35,2,    34.70,2
09FA693,P11S,      53,        1,        9,        4,2,19930709,1702,-33.4743,154.9977,4836,   2794.5,   1.7730,  34.7240,2,   -999.0,5,   1.5696,  34.7195,2,    189.2,2,  -999.00,9,  -999.00,9,  -999.00,9
09FA693,P11S,      53,        1,        8,       24,2,19930709,1702,-33.4743,154.9977,4836,   2998.8,   1.6090,  34.7230,2,   -999.0,5,   1.3897,  34.7198,2,    192.2,2,   106.98,2,     2.35,2,    35.22,2
09FA693,P11S,      53,        1,        7,       10,2,19930709,1702,-33.4743,154.9977,4836,   3198.7,   1.4440,  34.7210,2,   -999.0,5,   1.2091,  34.7198,2,    195.5,2,   110.23,2,     2.33,2,    35.56,2
09FA693,P11S,      53,        1,        6,       42,2,19930709,1702,-33.4743,154.9977,4836,   3397.0,   1.3120,  34.7200,2,   -999.0,5,   1.0607,  34.7170,2,    197.7,2,  -999.00,9,  -999.00,9,  -999.00,9
09FA693,P11S,      53,        1,        5,       14,2,19930709,1702,-33.4743,154.9977,4836,   3697.9,   1.2110,  34.7160,2,   -999.0,5,   0.9318,  34.7142,2,    199.6,2,   118.47,2,     2.38,2,    36.24,2
09FA693,P11S,      53,        1,        4,        7,2,19930709,1702,-33.4743,154.9977,4836,   3996.8,   1.1690,  34.7140,2,   -999.0,5,   0.8595,  34.7123,2,    200.1,2,   119.31,2,     2.38,2,    35.39,2
09FA693,P11S,      53,        1,        3,        8,2,19930709,1702,-33.4743,154.9977,4836,   4298.3,   1.1660,  34.7120,2,   -999.0,5,   0.8238,  34.7112,2,    200.4,2,  -999.00,9,  -999.00,9,  -999.00,9
09FA693,P11S,      53,        1,        2,       11,2,19930709,1702,-33.4743,154.9977,4836,   4598.2,   1.1760,  34.7130,2,   -999.0,5,   0.7997,  34.7106,2,    201.5,2,   115.15,2,     2.38,2,    35.73,2
09FA693,P11S,      53,        1,        1,       70,2,19930709,1702,-33.4743,154.9977,4836,   4922.3,   1.1810,  34.7110,2,   -999.0,5,   0.7666,  34.7107,2,    201.0,2,   115.15,2,     2.36,2,    35.90,2
09FA693,P11S,      54,        1,       24,        5,2,19930709,2309,-34.0015,155.0027,4874,      2.0,  20.7480,  35.5670,2,   -999.0,5,  20.7476,  35.5654,2,    227.2,2,     1.45,2,     0.27,2,     1.70,2
09FA693,P11S,      54,        1,       23,       25,2,19930709,2309,-34.0015,155.0027,4874,     97.7,  21.0230,  35.7090,2,   -999.0,5,  21.0042,  35.7054,2,    227.8,2,     1.45,2,     0.27,2,     1.87,2
09FA693,P11S,      54,        1,       22,       36,2,19930709,2309,-34.0015,155.0027,4874,    196.0,  18.9450,  35.6160,2,   -999.0,5,  18.9100,  35.6090,2,    203.1,2,     1.94,2,     0.46,2,     4.59,2
09FA693,P11S,      54,        1,       21,        3,2,19930709,2309,-34.0015,155.0027,4874,    394.8,  13.0000,  35.1920,2,   -999.0,5,  12.9452,  35.1896,2,    204.5,2,     4.41,2,     0.95,2,    12.76,2
09FA693,P11S,      54,        1,       20,       27,2,19930709,2309,-34.0015,155.0027,4874,    591.7,   8.8040,  34.6480,2,   -999.0,5,   8.7394,  34.6473,2,    202.9,2,    10.55,2,     1.55,2,    23.14,2
09FA693,P11S,      54,        1,       19,       20,2,19930709,2309,-34.0015,155.0027,4874,    793.6,   6.2940,  34.4700,2,   -999.0,5,   6.2213,  34.4722,2,    189.7,2,    26.54,2,     2.01,2,    30.45,2
09FA693,P11S,      54,        1,       18,       45,2,19930709,2309,-34.0015,155.0027,4874,    992.4,   5.3790,  34.4600,2,   -999.0,5,   5.2936,  34.4614,2,    183.5,2,    39.14,2,     2.17,2,    32.66,2
09FA693,P11S,      54,        1,       16,       41,2,19930709,2309,-34.0015,155.0027,4874,   1393.2,   3.5840,  34.5370,2,   -999.0,5,   3.4788,  34.5363,2,    159.4,2,    79.19,2,     2.48,2,    37.09,2
09FA693,P11S,      54,        1,       15,        9,2,19930709,2309,-34.0015,155.0027,4874,   1593.4,   2.9930,  34.5860,2,   -999.0,5,   2.8774,  34.5845,2,    154.2,2,    92.77,2,     2.54,2,    38.11,2
09FA693,P11S,      54,        1,       14,       35,2,19930709,2309,-34.0015,155.0027,4874,   1793.7,   2.6040,  34.6270,2,   -999.0,5,   2.4763,  34.6245,2,    158.0,2,    97.44,2,     2.54,2,    38.11,2
09FA693,P11S,      54,        1,       12,       28,2,19930709,2309,-34.0015,155.0027,4874,   2194.6,   2.1870,  34.6880,2,   -999.0,5,   2.0307,  34.6853,2,    175.0,2,    94.32,2,     2.38,2,    35.90,2
09FA693,P11S,      54,        1,       11,        2,2,19930709,2309,-34.0015,155.0027,4874,   2396.2,   2.0540,  34.7080,2,   -999.0,5,   1.8819,  34.7049,2,    181.0,2,    93.54,2,     2.35,2,    35.39,2
09FA693,P11S,      54,        1,       10,       48,2,19930709,2309,-34.0015,155.0027,4874,   2596.7,   1.8800,  34.7210,2,   -999.0,5,   1.6928,  34.7194,2,    186.2,2,    99.01,2,     2.33,2,    35.39,2
09FA693,P11S,      54,        1,        9,        4,2,19930709,2309,-34.0015,155.0027,4874,   2798.1,   1.7240,  34.7250,2,   -999.0,5,   1.5212,  34.7237,2,    190.3,2,   102.97,2,     2.31,2,    35.22,2
09FA693,P11S,      54,        1,        8,       24,2,19930709,2309,-34.0015,155.0027,4874,   3000.0,   1.5960,  34.7250,2,   -999.0,5,   1.3768,  34.7249,2,    193.6,2,   106.17,2,     2.33,2,    35.22,2
09FA693,P11S,      54,        1,        7,       10,2,19930709,2309,-34.0015,155.0027,4874,   3198.3,   1.4640,  34.7220,2,   -999.0,5,   1.2286,  34.7213,2,    195.2,2,   108.60,2,     2.35,2,    35.39,2
09FA693,P11S,      54,        1,        6,       42,2,19930709,2309,-34.0015,155.0027,4874,   3401.0,   1.3110,  34.7190,2,   -999.0,5,   1.0593,  34.7186,2,    197.4,2,  -999.00,9,  -999.00,9,  -999.00,9
09FA693,P11S,      54,        1,        5,       14,2,19930709,2309,-34.0015,155.0027,4874,   3700.5,   1.2010,  34.7160,2,   -999.0,5,   0.9218,  34.7135,2,    199.3,2,   115.15,2,     2.36,2,    35.90,2
09FA693,P11S,      54,        1,        4,        7,2,19930709,2309,-34.0015,155.0027,4874,   4000.2,   1.1600,  34.7130,2,   -999.0,5,   0.8504,  34.7131,2,    199.6,2,   115.98,2,     2.36,2,    36.07,2
09FA693,P11S,      54,        1,        3,        8,2,19930709,2309,-34.0015,155.0027,4874,   4300.8,   1.1570,  34.7130,2,   -999.0,5,   0.8148,  34.7123,2,    199.0,2,  -999.00,9,  -999.00,9,  -999.00,9
09FA693,P11S,      54,        1,        2,       11,2,19930709,2309,-34.0015,155.0027,4874,   4598.9,   1.1720,  34.7120,2,   -999.0,5,   0.7957,  34.7122,2,    199.9,2,   116.81,2,     2.36,2,    36.75,2