BOTTLE,20220816CCHSIOAMB
EXPOCODE,SECT_ID,STNNBR,CASTNO,SAMPNO,BTLNBR,BTLNBR_FLAG_W,DATE,TIME,LATITUDE,LONGITUDE,DEPTH,CTDPRS,CTDTMP,CTDSAL,CTDSAL_FLAG_W,CTDOXY,CTDOXY_FLAG_W,THETA,SALNTY,SALNTY_FLAG_W,OXYGEN,OXYGEN_FLAG_W,SILCAT,SILCAT_FLAG_W,PHSPHT,PHSPHT_FLAG_W,NO2+NO3,NO2+NO3_FLAG_W
,,,,,,,,,,,,DBAR,ITS-90,PSS-78,,UMOL/KG,,ITS-90,PSS-78,,UMOL/KG,,UMOL/KG,,UMOL/KG,,UMOL/KG,
09FA693,P11S,      39,        1,       24,        5,2,19930705,0234,-25.1655,155.3745,4638,      1.3,  22.3160,  35.7270,2,   -999.0,5,  22.3157,  35.7262,2,    219.1,2,     1.22,2,     0.22,2,     0.41,2
09FA693,P11S,      39,        1,       23,       25,2,19930705,0234,-25.1655,155.3745,4638,     98.2,  22.2680,  35.7270,2,   -999.0,5,  22.2483,  35.7247,2,    218.5,2,     1.13,2,     0.20,2,     0.40,2
09FA693,P11S,      39,        1,       22,       36,2,19930705,0234,-25.1655,155.3745,4638,    195.4,  20.7550,  35.6170,2,   -999.0,5,  20.7178,  35.6174,2,    188.8,2,     1.45,2,     0.40,2,     3.91,2
09FA693,P11S,      39,        1,       20,       27,2,19930705,0234,-25.1655,155.3745,4638,    592.7,  10.0120,  34.7820,2,   -999.0,5,   9.9420,  34.7850,2,    190.5,2,     9.00,2,     1.41,2,    20.37,2
09FA693,P11S,      39,        1,       19,       18,2,19930705,0234,-25.1655,155.3745,4638,    791.8,   6.8500,  34.4900,2,   -999.0,5,   6.7742,  34.4919,2,    192.1,2,    20.81,2,     1.90,2,    27.72,2
09FA693,P11S,      39,        1,       18,       45,2,19930705,0234,-25.1655,155.3745,4638,    990.7,   5.5980,  34.4520,2,   -999.0,5,   5.5111,  34.4543,2,    184.1,2,    34.41,2,     2.15,2,    31.58,2
09FA693,P11S,      39,        1,       17,        1,2,19930705,0234,-25.1655,155.3745,4638,   1193.1,   4.3690,  34.4840,2,   -999.0,5,   4.2737,  34.4865,2,    169.9,2,    56.53,2,     2.37,2,    34.52,2
09FA693,P11S,      39,        1,       16,       41,2,19930705,0234,-25.1655,155.3745,4638,   1390.8,   3.7550,  34.5240,2,   -999.0,5,   3.6483,  34.5237,2,    159.4,2,    73.57,2,     2.49,2,    36.16,2
09FA693,P11S,      39,        1,       14,       35,2,19930705,0234,-25.1655,155.3745,4638,   1789.3,   2.7330,  34.6130,2,   -999.0,5,   2.6039,  34.6116,2,    152.4,2,    96.88,2,     2.57,2,    37.47,2
09FA693,P11S,      39,        1,       13,       15,2,19930705,0234,-25.1655,155.3745,4638,   1994.7,   2.4560,  34.6470,2,   -999.0,5,   2.3130,  34.6453,2,    159.9,2,   100.03,2,     2.53,2,    37.32,2
09FA693,P11S,      39,        1,       11,        2,2,19930705,0234,-25.1655,155.3745,4638,   2394.3,   2.0270,  34.7040,2,   -999.0,5,   1.8556,-999.0000,9,   -999.0,9,    94.11,2,     2.37,2,    35.16,2
09FA693,P11S,      39,        1,       10,       48,2,19930705,0234,-25.1655,155.3745,4638,   2596.5,   1.8430,  34.7190,2,   -999.0,5,   1.6566,  34.7180,2,   -999.0,9,    98.03,2,     2.35,2,    34.81,2
09FA693,P11S,      39,        1,        9,        4,2,19930705,0234,-25.1655,155.3745,4638,   2794.5,   1.6570,  34.7220,2,   -999.0,5,   1.4559,  34.7218,2,    189.1,2,   103.04,2,     2.34,2,    34.77,2
09FA693,P11S,      39,        1,        8,       24,2,19930705,0234,-25.1655,155.3745,4638,   2996.9,   1.4420,  34.7230,2,   -999.0,5,   1.2265,  34.7218,2,    192.7,2,   105.37,2,     2.36,2,    34.81,2
09FA693,P11S,      39,        1,        7,       10,2,19930705,0234,-25.1655,155.3745,4638,   3196.7,   1.3390,  34.7200,2,   -999.0,5,   1.1067,  34.7201,2,    194.3,2,   109.15,2,     2.36,2,    34.99,2
09FA693,P11S,      39,        1,        6,       42,2,19930705,0234,-25.1655,155.3745,4638,   3390.8,   1.2140,  34.7180,2,   -999.0,5,   0.9657,  34.7184,2,    197.1,2,   111.10,2,     2.37,2,    35.06,2
09FA693,P11S,      39,        1,        5,       14,2,19930705,0234,-25.1655,155.3745,4638,   3596.5,   1.1680,  34.7150,2,   -999.0,5,   0.9003,  34.7144,2,    196.6,2,   111.85,2,     2.37,2,    35.32,2
09FA693,P11S,      39,        1,        4,       20,2,19930705,0234,-25.1655,155.3745,4638,   3897.4,   1.1380,  34.7140,2,   -999.0,5,   0.8399,  34.7159,2,    197.7,2,   117.27,2,     2.35,2,    35.32,2
09FA693,P11S,      39,        1,        3,        8,2,19930705,0234,-25.1655,155.3745,4638,   4197.7,   1.1420,  34.7130,2,   -999.0,5,   0.8116,  34.7134,2,    198.8,2,   116.25,2,     2.39,2,    35.64,2
09FA693,P11S,      39,        1,        2,       11,2,19930705,0234,-25.1655,155.3745,4638,   4501.5,   1.1650,  34.7130,2,   -999.0,5,   0.8000,  34.7133,2,    198.5,2,   118.99,2,     2.38,2,    35.60,2
09FA693,P11S,      40,        1,       24,        5,2,19930705,0903,-25.7453,155.5042,4668,      2.5,  22.4610,  35.7260,2,   -999.0,5,  22.4605,  35.7258,2,    222.1,2,     1.23,2,     0.19,2,     0.25,2
09FA693,P11S,      40,        1,       23,       25,2,19930705,0903,-25.7453,155.5042,4668,     97.8,  22.3710,  35.7160,2,   -999.0,5,  22.3514,  35.7143,2,    219.1,2,     1.08,2,     0.19,2,     0.44,2
09FA693,P11S,      40,        1,       22,       36,2,19930705,0903,-25.7453,155.5042,4668,    197.2,  20.6930,  35.6260,2,   -999.0,5,  20.6555,  35.6224,2,    188.0,2,     1.48,2,     0.42,2,     4.37,2
09FA693,P11S,      40,        1,       21,       29,2,19930705,0903,-25.7453,155.5042,4668,    396.1,  15.8220,  35.3870,2,   -999.0,5,  15.7592,  35.3898,2,    185.7,2,     3.17,2,     0.71,2,     9.70,2
09FA693,P11S,      40,        1,       20,       27,2,19930705,0903,-25.7453,155.5042,4668,    592.5,  10.4920,  34.8360,2,   -999.0,5,  10.4199,  34.8388,2,    189.1,2,     7.87,2,     1.33,2,    19.94,2
09FA693,P11S,      40,        1,       19,       18,2,19930705,0903,-25.7453,155.5042,4668,    792.6,   7.2760,  34.5150,2,   -999.0,5,   7.1975,  34.5171,2,    194.9,2,    17.30,2,     1.81,2,    27.33,2
09FA693,P11S,      40,        1,       18,       45,2,19930705,0903,-25.7453,155.5042,4668,    991.3,   5.6080,  34.4520,2,   -999.0,5,   5.5210,  34.4532,2,    185.7,2,    34.17,2,     2.11,2,    32.15,2
09FA693,P11S,      40,        1,       16,       41,2,19930705,0903,-25.7453,155.5042,4668,   1392.0,   3.5700,  34.5390,2,   -999.0,5,   3.4651,  34.5372,2,    157.7,2,    78.60,2,     2.48,2,    36.95,2
09FA693,P11S,      40,        1,       15,        9,2,19930705,0903,-25.7453,155.5042,4668,   1595.2,   2.9770,  34.5890,2,   -999.0,5,   2.8614,  34.5913,2,    152.1,2,    92.74,2,     2.54,2,    37.89,2
09FA693,P11S,      40,        1,       14,       35,2,19930705,0903,-25.7453,155.5042,4668,   1794.9,   2.6110,  34.6250,2,   -999.0,5,   2.4831,  34.6247,2,    153.5,2,    99.11,2,     2.53,2,    37.89,2
09FA693,P11S,      40,        1,       13,       15,2,19930705,0903,-25.7453,155.5042,4668,   1996.7,   2.3830,  34.6540,2,   -999.0,5,   2.2409,  34.6554,2,    161.6,2,    98.14,2,     2.49,2,    37.32,2
09FA693,P11S,      40,        1,       12,       28,3,19930705,0903,-25.7453,155.5042,4668,   2191.0,   2.2120,  34.6810,2,   -999.0,5,   2.0556,-999.0000,9,   -999.0,9,  -999.00,9,  -999.00,9,  -999.00,9
09FA693,P11S,      40,        1,       11,        2,2,19930705,0903,-25.7453,155.5042,4668,   2397.2,   2.0400,  34.7040,2,   -999.0,5,   1.8681,  34.7037,2,    179.1,2,    95.70,2,     2.31,2,    35.56,2
09FA693,P11S,      40,        1,       10,       48,2,19930705,0903,-25.7453,155.5042,4668,   2595.6,   1.8790,  34.7170,2,   -999.0,5,   1.6920,  34.7170,2,    184.6,2,    98.86,2,     2.35,2,    35.36,2
09FA693,P11S,      40,        1,        9,        4,2,19930705,0903,-25.7453,155.5042,4668,   2797.1,   1.7090,  34.7220,2,   -999.0,5,   1.5066,  34.7229,2,    188.5,2,   102.58,2,     2.31,2,    35.15,2
09FA693,P11S,      40,        1,        8,       24,2,19930705,0903,-25.7453,155.5042,4668,   2997.4,   1.5380,  34.7220,2,   -999.0,5,   1.3203,  34.7225,2,    191.3,2,   108.15,2,     2.32,2,    35.46,2
09FA693,P11S,      40,        1,        7,       10,2,19930705,0903,-25.7453,155.5042,4668,   3198.5,   1.3920,  34.7200,2,   -999.0,5,   1.1583,  34.7210,2,    194.3,2,   111.73,2,     2.35,2,    35.50,2
09FA693,P11S,      40,        1,        6,       42,2,19930705,0903,-25.7453,155.5042,4668,   3401.3,   1.2760,  34.7180,2,   -999.0,5,   1.0251,  34.7190,2,    195.2,2,   114.19,2,     2.34,2,    35.66,2
09FA693,P11S,      40,        1,        5,       14,2,19930705,0903,-25.7453,155.5042,4668,   3599.3,   1.2060,  34.7150,2,   -999.0,5,   0.9370,  34.7170,2,    197.4,2,   116.25,2,     2.35,2,    35.66,2
09FA693,P11S,      40,        1,        4,       20,2,19930705,0903,-25.7453,155.5042,4668,   3901.2,   1.1620,  34.7130,2,   -999.0,5,   0.8629,  34.7163,2,    197.1,2,   117.81,2,     2.36,2,    35.92,2
09FA693,P11S,      40,        1,        3,        8,2,19930705,0903,-25.7453,155.5042,4668,   4199.7,   1.1540,  34.7120,2,   -999.0,5,   0.8230,  34.7151,2,    198.0,2,   117.82,2,     2.37,2,    35.90,2
09FA693,P11S,      40,        1,        2,       11,2,19930705,0903,-25.7453,155.5042,4668,   4500.1,   1.1700,  34.7120,2,   -999.0,5,   0.8050,  34.7131,2,    198.0,2,   116.53,2,     2.32,2,    36.12,2
09FA693,P11S,      40,        1,        1,       70,2,19930705,0903,-25.7453,155.5042,4668,   4744.8,   1.1890,  34.7130,2,   -999.0,5,   0.7953,  34.7103,2,    199.1,2,   119.51,2,     2.36,2,    36.02,2
09FA693,P11S,      41,        1,       24,        5,2,19930705,1530,-26.3200,155.6343,4707,      3.6,  22.4490,  35.7110,2,   -999.0,5,  22.4483,  35.7133,2,    224.2,2,     1.29,2,     0.18,2,     0.38,2
09FA693,P11S,      41,        1,       23,       25,2,19930705,1530,-26.3200,155.6343,4707,     99.2,  22.4630,  35.7130,2,   -999.0,5,  22.4430,  35.7133,2,    222.0,2,     1.20,2,     0.17,2,     0.38,2
09FA693,P11S,      41,        1,       22,       36,2,19930705,1530,-26.3200,155.6343,4707,    198.7,  20.1660,  35.6090,2,   -999.0,5,  20.1289,  35.6107,2,    190.0,2,     1.46,2,     0.39,2,     4.71,2
09FA693,P11S,      41,        1,       21,       29,2,19930705,1530,-26.3200,155.6343,4707,    397.4,  14.5950,  35.2590,2,   -999.0,5,  14.5354,  35.2638,2,    182.5,2,     4.31,2,     0.86,2,    12.26,2
09FA693,P11S,      41,        1,       20,       27,2,19930705,1530,-26.3200,155.6343,4707,    595.7,   9.3480,  34.7080,2,   -999.0,5,   9.2805,  34.7126,2,    192.2,2,     9.48,2,     1.49,2,    21.27,2
09FA693,P11S,      41,        1,       19,       18,2,19930705,1530,-26.3200,155.6343,4707,    792.5,   6.7990,  34.4890,2,   -999.0,5,   6.7234,  34.4919,2,    193.3,2,    18.41,2,     1.73,2,    25.40,2
09FA693,P11S,      41,        1,       18,       45,2,19930705,1530,-26.3200,155.6343,4707,    994.4,   5.4100,  34.4550,2,   -999.0,5,   5.3242,  34.4578,2,    183.3,2,    37.86,2,     2.15,2,    33.32,2
09FA693,P11S,      41,        1,       17,        1,2,19930705,1530,-26.3200,155.6343,4707,   1295.8,   3.9500,  34.5110,2,   -999.0,5,   3.8496,  34.5127,2,    164.9,2,    69.19,2,     2.40,2,    36.72,2
09FA693,P11S,      41,        1,       16,       41,2,19930705,1530,-26.3200,155.6343,4707,   1593.5,   3.0470,  34.5820,2,   -999.0,5,   2.9307,  34.5838,2,    149.9,2,    95.72,2,     2.55,2,    38.78,2
09FA693,P11S,      41,        1,       15,        9,2,19930705,1530,-26.3200,155.6343,4707,   1593.5,   3.0470,  34.5820,2,   -999.0,5,   2.9307,  34.5813,2,    149.9,2,    94.19,2,     2.53,2,    38.99,2
09FA693,P11S,      41,        1,       14,       35,2,19930705,1530,-26.3200,155.6343,4707,   1791.1,   2.6330,  34.6200,2,   -999.0,5,   2.5051,  34.6225,2,    151.8,2,   102.00,2,     2.49,2,    38.86,2
09FA693,P11S,      41,        1,       13,       15,2,19930705,1530,-26.3200,155.6343,4707,   1992.9,   2.3790,  34.6510,2,   -999.0,5,   2.2373,  34.6519,2,    159.9,2,   101.75,2,     2.48,2,    37.94,2
09FA693,P11S,      41,        1,       12,       28,2,19930705,1530,-26.3200,155.6343,4707,   2193.7,   2.2180,  34.6760,2,   -999.0,5,   2.0612,  34.6801,2,    169.6,2,    91.84,2,     2.36,2,    36.79,2
09FA693,P11S,      41,        1,       11,        2,2,19930705,1530,-26.3200,155.6343,4707,   2395.5,   2.0370,  34.7000,2,   -999.0,5,   1.8653,  34.7028,2,    178.6,2,    97.30,2,     2.33,2,    36.52,2
09FA693,P11S,      41,        1,       10,       48,2,19930705,1530,-26.3200,155.6343,4707,   2594.9,   1.8570,  34.7150,2,   -999.0,5,   1.6704,  34.7165,2,    184.7,2,   100.18,2,     2.23,2,    35.77,2
09FA693,P11S,      41,        1,        9,        4,2,19930705,1530,-26.3200,155.6343,4707,   2795.7,   1.6700,  34.7200,2,   -999.0,5,   1.4686,  34.7219,2,    188.9,2,   104.95,2,     2.29,2,    35.83,2
09FA693,P11S,      41,        1,        8,       24,2,19930705,1530,-26.3200,155.6343,4707,   2998.9,   1.4940,  34.7220,2,   -999.0,5,   1.2772,  34.7219,2,    192.8,2,   109.18,2,     2.31,2,    35.77,2
09FA693,P11S,      41,        1,        7,       10,2,19930705,1530,-26.3200,155.6343,4707,   3199.3,   1.3180,  34.7190,2,   -999.0,5,   1.0859,  34.7194,2,    195.0,2,   110.22,2,     2.31,2,    36.01,2
09FA693,P11S,      41,        1,        6,       42,2,19930705,1530,-26.3200,155.6343,4707,   3397.8,   1.2440,  34.7160,2,   -999.0,5,   0.9943,  34.7173,2,    196.9,2,   114.20,2,     2.31,2,    36.04,2
09FA693,P11S,      41,        1,        5,       14,2,19930705,1530,-26.3200,155.6343,4707,   3597.0,   1.1890,  34.7150,2,   -999.0,5,   0.9207,  34.7153,2,    196.7,2,   118.07,2,     2.29,2,    36.09,2
09FA693,P11S,      41,        1,        4,       20,2,19930705,1530,-26.3200,155.6343,4707,   3898.3,   1.1540,  34.7120,2,   -999.0,5,   0.8554,  34.7148,2,    196.7,2,   118.14,2,     2.34,2,    35.99,2
09FA693,P11S,      41,        1,        3,        8,2,19930705,1530,-26.3200,155.6343,4707,   4196.6,   1.1580,  34.7120,2,   -999.0,5,   0.8273,  34.7120,2,    198.6,2,   115.28,2,     2.34,2,    36.42,2
09FA693,P11S,      41,        1,        2,       11,2,19930705,1530,-26.3200,155.6343,4707,   4499.2,   1.1750,  34.7120,2,   -999.0,5,   0.8100,  34.7116,2,    197.8,2,   121.21,2,     2.33,2,    36.23,2
09FA693,P11S,      41,        1,        1,       70,2,19930705,1530,-26.3200,155.6343,4707,   4744.8,-999.0000,-999.0000,9,   -999.0,5,-999.0000,  34.7111,2,    198.6,2,   119.10,2,     2.34,2,    36.21,2
09FA693,P11S,      42,        1,       24,        5,2,19930705,2157,-26.8973,155.7675,4739,      1.9,  21.6790,  35.7270,2,   -999.0,5,  21.6786,  35.7263,2,    222.3,2,     1.16,2,     0.20,2,     0.35,2
09FA693,P11S,      42,        1,       23,       25,2,19930705,2157,-26.8973,155.7675,4739,     99.4,  21.6300,  35.7270,2,   -999.0,5,  21.6105,  35.7252,2,    223.4,2,     1.12,2,     0.20,2,     0.37,2
09FA693,P11S,      42,        1,       22,       36,2,19930705,2157,-26.8973,155.7675,4739,    197.9,  18.6140,  35.5530,2,   -999.0,5,  18.5791,  35.5513,2,    185.0,2,     2.07,2,     0.54,2,     6.11,2
09FA693,P11S,      42,        1,       21,       29,2,19930705,2157,-26.8973,155.7675,4739,    395.5,  13.5360,  35.1770,2,   -999.0,5,  13.4796,  35.1774,2,    187.5,2,     4.78,2,     0.85,2,    12.88,2
09FA693,P11S,      42,        1,       20,       27,2,19930705,2157,-26.8973,155.7675,4739,    595.2,   9.1330,  34.6850,2,   -999.0,5,   9.0665,  34.6828,2,    191.4,2,     9.19,2,     1.54,2,    19.30,2
09FA693,P11S,      42,        1,       19,       18,2,19930705,2157,-26.8973,155.7675,4739,    794.0,   6.7380,  34.4860,2,   -999.0,5,   6.6626,  34.4857,2,    193.3,2,    20.61,2,     1.91,2,    26.87,2
09FA693,P11S,      42,        1,       18,       45,2,19930705,2157,-26.8973,155.7675,4739,    992.5,   5.2190,  34.4540,2,   -999.0,5,   5.1348,  34.4536,2,    182.5,2,    39.86,2,     2.20,2,    31.85,2
09FA693,P11S,      42,        1,       17,        1,2,19930705,2157,-26.8973,155.7675,4739,   1191.1,   4.2450,  34.4910,2,   -999.0,5,   4.1510,  34.4953,2,    169.9,2,  -999.00,9,  -999.00,9,  -999.00,9
09FA693,P11S,      42,        1,       16,       41,2,19930705,2157,-26.8973,155.7675,4739,   1389.8,   3.4250,  34.5490,2,   -999.0,5,   3.3218,  34.5479,2,    157.9,2,    81.99,2,     2.50,2,    36.52,2
09FA693,P11S,      42,        1,       15,        9,2,19930705,2157,-26.8973,155.7675,4739,   1590.8,   2.9600,  34.5890,2,   -999.0,5,   2.8450,  34.5877,2,    150.7,2,    93.71,2,     2.36,2,    37.32,2
09FA693,P11S,      42,        1,       14,       35,2,19930705,2157,-26.8973,155.7675,4739,   1792.0,   2.6260,  34.6220,2,   -999.0,5,   2.4981,  34.6207,2,    153.8,2,  -999.00,9,  -999.00,9,  -999.00,9
09FA693,P11S,      42,        1,       13,       15,2,19930705,2157,-26.8973,155.7675,4739,   1995.3,   2.3600,  34.6550,2,   -999.0,5,   2.2184,  34.6536,2,    163.0,2,   100.04,2,     2.34,2,    36.95,2
09FA693,P11S,      42,        1,       12,       28,2,19930705,2157,-26.8973,155.7675,4739,   2194.5,   2.1880,  34.6800,2,   -999.0,5,   2.0317,  34.6771,2,   -999.0,9,    95.54,2,     2.43,2,    35.69,2
09FA693,P11S,      42,        1,       11,        2,2,19930705,2157,-26.8973,155.7675,4739,   2393.9,   2.0190,  34.7020,2,   -999.0,5,   1.8478,  34.7006,2,    179.7,2,    93.83,2,     2.36,2,    34.93,2
09FA693,P11S,      42,        1,       10,       48,2,19930705,2157,-26.8973,155.7675,4739,   2596.4,   1.8240,  34.7160,2,   -999.0,5,   1.6380,  34.7135,2,    185.8,2,    98.69,2,     2.30,2,    34.53,2
09FA693,P11S,      42,        1,        9,        4,2,19930705,2157,-26.8973,155.7675,4739,   2797.5,   1.6700,  34.7210,2,   -999.0,5,   1.4684,  34.7189,2,    190.3,2,   102.07,2,     2.31,2,    34.40,2
09FA693,P11S,      42,        1,        8,       24,2,19930705,2157,-26.8973,155.7675,4739,   2997.7,   1.5060,  34.7210,2,   -999.0,5,   1.2890,  34.7201,2,    192.8,2,   105.49,2,     2.32,2,    34.44,2
09FA693,P11S,      42,        1,        7,       10,2,19930705,2157,-26.8973,155.7675,4739,   3199.3,   1.3760,  34.7180,2,   -999.0,5,   1.1426,  34.7172,2,    194.2,2,   111.00,2,     2.34,2,    35.33,2
09FA693,P11S,      42,        1,        6,       42,2,19930705,2157,-26.8973,155.7675,4739,   3399.1,   1.2830,  34.7170,2,   -999.0,5,   1.0322,  34.7152,2,    196.1,2,  -999.00,9,  -999.00,9,  -999.00,9
09FA693,P11S,      42,        1,        5,       14,2,19930705,2157,-26.8973,155.7675,4739,   3599.0,   1.2190,  34.7150,2,   -999.0,5,   0.9497,  34.7135,2,    195.8,2,   116.38,2,     2.24,2,    35.36,2
09FA693,P11S,      42,        1,        4,       20,2,19930705,2157,-26.8973,155.7675,4739,   3899.3,   1.1760,  34.7120,2,   -999.0,5,   0.8767,  34.7114,2,   -999.0,9,   115.95,2,     2.37,2,    35.09,2
09FA693,P11S,      42,        1,        3,        8,2,19930705,2157,-26.8973,155.7675,4739,   4200.5,   1.1680,  34.7110,2,   -999.0,5,   0.8365,  34.7108,2,    198.9,2,   116.60,2,     2.19,2,    35.06,2
09FA693,P11S,      42,        1,        2,       11,2,19930705,2157,-26.8973,155.7675,4739,   4502.6,   1.1720,  34.7100,2,   -999.0,5,   0.8067,  34.7099,2,    198.3,2,   117.30,2,     2.40,2,    35.24,2
09FA693,P11S,      42,        1,        1,       70,2,19930705,2157,-26.8973,155.7675,4739,   4819.2,   1.1870,  34.7110,2,   -999.0,5,   0.7846,  34.7105,2,    198.3,2,  -999.00,9,  -999.00,9,  -999.00,9