BOTTLE,20220816CCHSIOAMB
EXPOCODE,SECT_ID,STNNBR,CASTNO,SAMPNO,BTLNBR,BTLNBR_FLAG_W,DATE,TIME,LATITUDE,LONGITUDE,DEPTH,CTDPRS,CTDTMP,CTDSAL,CTDSAL_FLAG_W,CTDOXY,CTDOXY_FLAG_W,THETA,SALNTY,SALNTY_FLAG_W,OXYGEN,OXYGEN_FLAG_W,SILCAT,SILCAT_FLAG_W,PHSPHT,PHSPHT_FLAG_W,NO2+NO3,NO2+NO3_FLAG_W
,,,,,,,,,,,,DBAR,ITS-90,PSS-78,,UMOL/KG,,ITS-90,PSS-78,,UMOL/KG,,UMOL/KG,,UMOL/KG,,UMOL/KG,
09FA693,P11S,      67,        1,       24,        5,2,19930713,0937,-41.6507,155.0003,4508,      3.4,  13.7580,  35.3080,2,   -999.0,5,  13.7575,  35.3075,2,    257.6,2,     0.00,2,     0.56,2,     5.84,2
09FA693,P11S,      67,        1,       23,       25,2,19930713,0937,-41.6507,155.0003,4508,     98.1,  13.0400,  35.2220,2,   -999.0,5,  13.0265,  35.2208,2,    246.1,2,     0.00,2,     0.67,2,     7.76,2
09FA693,P11S,      67,        1,       22,       36,2,19930713,0937,-41.6507,155.0003,4508,    198.1,  11.5940,  34.9800,2,   -999.0,5,  11.5687,  34.9800,2,    245.8,2,     3.12,2,     0.86,2,    10.87,2
09FA693,P11S,      67,        1,       21,        3,2,19930713,0937,-41.6507,155.0003,4508,    396.5,   9.2490,  34.6730,2,   -999.0,5,   9.2049,  34.6790,2,    246.1,2,     4.94,2,     1.24,2,    17.29,2
09FA693,P11S,      67,        1,       20,       27,2,19930713,0937,-41.6507,155.0003,4508,    594.6,   7.9800,  34.5420,2,   -999.0,5,   7.9188,  34.5475,2,    211.7,2,    11.21,2,     1.66,2,    24.20,2
09FA693,P11S,      67,        1,       19,       20,2,19930713,0937,-41.6507,155.0003,4508,    792.6,   6.4710,  34.4660,2,   -999.0,5,   6.3973,  34.4681,2,    193.1,2,    22.46,2,     1.99,2,    29.51,2
09FA693,P11S,      67,        1,       18,       45,2,19930713,0937,-41.6507,155.0003,4508,    994.7,   5.0760,  34.4540,2,   -999.0,5,   4.9927,  34.4575,2,    181.4,2,    41.21,2,     2.23,2,    33.02,2
09FA693,P11S,      67,        1,       17,        1,2,19930713,0937,-41.6507,155.0003,4508,   1191.8,   4.1140,  34.4640,2,   -999.0,5,   4.0211,  34.4640,2,    177.1,2,    55.08,2,     2.39,2,    35.37,2
09FA693,P11S,      67,        1,       16,       41,2,19930713,0937,-41.6507,155.0003,4508,   1393.3,   3.2590,  34.5030,2,   -999.0,5,   3.1574,  34.5031,2,    169.9,2,    81.03,2,     2.53,2,    37.31,2
09FA693,P11S,      67,        1,       15,        9,2,19930713,0937,-41.6507,155.0003,4508,   1593.7,   2.8340,  34.5750,2,   -999.0,5,   2.7203,  34.5748,2,    163.6,2,  -999.00,9,  -999.00,9,  -999.00,9
09FA693,P11S,      67,        1,       14,       35,2,19930713,0937,-41.6507,155.0003,4508,   1793.3,   2.5720,  34.6260,2,   -999.0,5,   2.4447,  34.6234,2,    165.0,2,    87.19,2,     2.48,2,    36.95,2
09FA693,P11S,      67,        1,       12,       28,2,19930713,0937,-41.6507,155.0003,4508,   2194.8,   2.2160,  34.6930,2,   -999.0,5,   2.0591,  34.6899,2,    178.2,2,    87.79,2,     2.33,2,    35.29,2
09FA693,P11S,      67,        1,       10,       48,2,19930713,0937,-41.6507,155.0003,4508,   2597.0,   1.9070,  34.7260,2,   -999.0,5,   1.7193,  34.7234,2,    188.2,2,    95.08,2,     2.32,2,    34.69,2
09FA693,P11S,      67,        1,        9,        4,2,19930713,0937,-41.6507,155.0003,4508,   2797.1,   1.7700,  34.7290,2,   -999.0,5,   1.5663,  34.7288,2,    191.7,2,    99.00,2,     2.32,2,    34.49,2
09FA693,P11S,      67,        1,        8,       24,2,19930713,0937,-41.6507,155.0003,4508,   2998.5,   1.6320,  34.7280,2,   -999.0,5,   1.4121,  34.7267,2,    194.0,2,   103.13,2,     2.32,2,    34.69,2
09FA693,P11S,      67,        1,        7,       10,2,19930713,0937,-41.6507,155.0003,4508,   3197.2,   1.4880,  34.7260,2,   -999.0,5,   1.2522,  34.7246,2,    196.3,2,   106.19,2,     2.33,2,    34.63,2
09FA693,P11S,      67,        1,        6,       42,2,19930713,0937,-41.6507,155.0003,4508,   3398.0,   1.3550,  34.7220,2,   -999.0,5,   1.1025,  34.7210,2,    198.5,2,   109.62,2,     2.34,2,    34.88,2
09FA693,P11S,      67,        1,        5,       14,2,19930713,0937,-41.6507,155.0003,4508,   3597.9,   1.2420,  34.7170,2,   -999.0,5,   0.9722,  34.7173,2,    200.6,2,   112.19,2,     2.35,2,    34.98,2
09FA693,P11S,      67,        1,        4,        7,2,19930713,0937,-41.6507,155.0003,4508,   3797.9,   1.1490,  34.7140,2,   -999.0,5,   0.8611,  34.7144,2,    201.4,2,   115.00,2,     2.37,2,    35.19,2
09FA693,P11S,      67,        1,        3,        8,2,19930713,0937,-41.6507,155.0003,4508,   3997.6,   1.1030,  34.7120,2,   -999.0,5,   0.7953,  34.7116,2,    202.6,2,   116.33,2,     2.38,2,    35.18,2
09FA693,P11S,      67,        1,        2,       11,2,19930713,0937,-41.6507,155.0003,4508,   4293.5,   1.0570,  34.7100,2,   -999.0,5,   0.7186,  34.7087,2,    204.6,2,   118.33,2,     2.35,2,    35.40,2
09FA693,P11S,      67,        1,        1,       70,2,19930713,0937,-41.6507,155.0003,4508,   4578.6,   1.0190,  34.7070,2,   -999.0,5,   0.6499,  34.7062,2,    206.3,2,   119.74,2,     2.37,2,    35.16,2
09FA693,P11S,      68,        1,       24,        5,2,19930713,1530,-42.2338,155.0003,4501,      2.5,  13.7800,  35.3150,2,   -999.0,5,  13.7796,  35.3159,2,    253.8,2,     2.23,2,     0.52,2,     5.32,2
09FA693,P11S,      68,        1,       23,       25,2,19930713,1530,-42.2338,155.0003,4501,    100.0,  13.5410,  35.2720,2,   -999.0,5,  13.5269,  35.2710,2,    250.7,2,     2.44,2,     0.57,2,     6.17,2
09FA693,P11S,      68,        1,       22,       36,2,19930713,1530,-42.2338,155.0003,4501,    198.6,  12.4070,  35.1380,2,   -999.0,5,  12.3805,  35.1388,2,    220.9,2,     3.84,2,     0.90,2,    11.35,2
09FA693,P11S,      68,        1,       21,        3,2,19930713,1530,-42.2338,155.0003,4501,    396.4,   9.1930,  34.6620,2,   -999.0,5,   9.1491,  34.6633,2,    254.7,2,     4.47,2,     1.20,2,    16.43,2
09FA693,P11S,      68,        1,       20,       27,2,19930713,1530,-42.2338,155.0003,4501,    591.9,   8.2350,  34.5600,2,   -999.0,5,   8.1729,  34.5620,2,    218.0,2,     9.57,2,     1.58,2,    22.37,2
09FA693,P11S,      68,        1,       19,       20,2,19930713,1530,-42.2338,155.0003,4501,    787.2,   6.5460,  34.4580,2,   -999.0,5,   6.4725,  34.4620,2,    197.1,2,    21.44,2,     1.95,2,    28.56,2
09FA693,P11S,      68,        1,       18,       45,2,19930713,1530,-42.2338,155.0003,4501,    990.7,   5.2260,  34.4250,2,   -999.0,5,   5.1419,  34.4263,2,    190.0,2,    34.60,2,     2.17,2,    31.60,2
09FA693,P11S,      68,        1,       17,        1,2,19930713,1530,-42.2338,155.0003,4501,   1198.2,   4.0750,  34.4490,2,   -999.0,5,   3.9820,  34.4503,2,    180.2,2,    54.05,2,     2.37,2,    34.74,2
09FA693,P11S,      68,        1,       16,       41,2,19930713,1530,-42.2338,155.0003,4501,   1393.7,   3.3320,  34.5190,2,   -999.0,5,   3.2295,  34.5189,2,    167.0,2,    73.93,2,     2.49,2,    36.50,2
09FA693,P11S,      68,        1,       15,        9,2,19930713,1530,-42.2338,155.0003,4501,   1593.8,   2.8410,  34.5660,2,   -999.0,5,   2.7272,  34.5566,2,    164.2,2,    77.70,2,     2.52,2,    36.36,2
09FA693,P11S,      68,        1,       14,       35,2,19930713,1530,-42.2338,155.0003,4501,   1793.6,   2.5380,  34.6260,2,   -999.0,5,   2.4112,  34.6256,2,    167.9,2,    84.50,2,     2.48,2,    36.20,2
09FA693,P11S,      68,        1,       13,       15,2,19930713,1530,-42.2338,155.0003,4501,   1993.7,   2.3650,  34.6610,2,   -999.0,5,   2.2234,  34.6621,2,    171.9,2,    88.78,2,     2.42,2,    35.97,2
09FA693,P11S,      68,        1,       12,       28,2,19930713,1530,-42.2338,155.0003,4501,   2194.9,   2.2040,  34.6910,2,   -999.0,5,   2.0473,  34.6907,2,    177.9,2,    89.35,2,     2.36,2,    34.31,2
09FA693,P11S,      68,        1,       10,       48,2,19930713,1530,-42.2338,155.0003,4501,   2593.2,   1.9560,  34.7210,2,   -999.0,5,   1.7677,  34.7220,2,    186.8,2,    93.17,2,     2.33,2,    33.55,2
09FA693,P11S,      68,        1,        9,        4,2,19930713,1530,-42.2338,155.0003,4501,   2796.8,   1.8080,  34.7280,2,   -999.0,5,   1.6036,  34.7259,2,    191.1,2,    98.31,2,     2.33,2,    33.86,2
09FA693,P11S,      68,        1,        8,       24,2,19930713,1530,-42.2338,155.0003,4501,   2999.0,   1.6720,  34.7280,2,   -999.0,5,   1.4512,  34.7286,2,    194.3,2,    97.42,2,     2.32,2,    33.55,2
09FA693,P11S,      68,        1,        7,       10,2,19930713,1530,-42.2338,155.0003,4501,   3198.9,   1.5420,  34.7250,2,   -999.0,5,   1.3047,  34.7258,2,    196.8,2,   102.45,2,     2.32,2,    33.83,2
09FA693,P11S,      68,        1,        6,       42,2,19930713,1530,-42.2338,155.0003,4501,   3400.2,   1.4110,  34.7220,2,   -999.0,5,   1.1569,  34.7219,2,    198.5,2,   108.27,2,     2.34,2,    33.98,2
09FA693,P11S,      68,        1,        5,       14,2,19930713,1530,-42.2338,155.0003,4501,   3597.5,   1.2720,  34.7180,2,   -999.0,5,   1.0015,  34.7179,2,    200.3,2,   111.76,2,     2.36,2,    34.30,2
09FA693,P11S,      68,        1,        4,        7,2,19930713,1530,-42.2338,155.0003,4501,   3800.2,   1.1850,  34.7130,2,   -999.0,5,   0.8958,  34.7182,2,    200.6,2,   110.14,2,     2.35,2,    34.27,2
09FA693,P11S,      68,        1,        3,        8,2,19930713,1530,-42.2338,155.0003,4501,   3995.6,   1.1200,  34.7100,2,   -999.0,5,   0.8120,  34.7150,2,    202.8,2,   113.45,2,     2.37,2,    35.18,2
09FA693,P11S,      68,        1,        2,       11,2,19930713,1530,-42.2338,155.0003,4501,   4299.4,   1.0720,  34.7080,2,   -999.0,5,   0.7325,  34.7098,2,    204.9,2,   114.24,2,     2.37,2,    34.56,2
09FA693,P11S,      68,        1,        1,       70,2,19930713,1530,-42.2338,155.0003,4501,   4569.7,   1.0400,  34.7050,2,   -999.0,5,   0.6713,  34.7066,2,    204.9,2,   113.56,2,     2.39,2,    34.83,2
09FA693,P11S,      69,        1,       24,        5,2,19930713,2120,-42.8185,154.9983,4527,      2.9,  13.3690,  35.2470,2,   -999.0,5,  13.3686,  35.2519,2,    255.6,2,     2.31,2,     0.56,2,     5.60,2
09FA693,P11S,      69,        1,       23,       25,2,19930713,2120,-42.8185,154.9983,4527,     98.3,  12.6910,  35.1200,2,   -999.0,5,  12.6777,  35.1183,2,    259.6,2,     2.02,2,     0.63,2,     6.51,2
09FA693,P11S,      69,        1,       22,       36,2,19930713,2120,-42.8185,154.9983,4527,    196.9,  11.8550,  35.0560,2,   -999.0,5,  11.8295,  35.0553,2,    228.6,2,     3.67,2,     0.93,2,    11.63,2
09FA693,P11S,      69,        1,       21,        3,2,19930713,2120,-42.8185,154.9983,4527,    394.1,   9.1320,  34.6550,2,   -999.0,5,   9.0885,  34.6563,2,    245.8,2,     4.77,2,     1.25,2,    17.08,2
09FA693,P11S,      69,        1,       20,       27,2,19930713,2120,-42.8185,154.9983,4527,    593.7,   8.1130,  34.5760,2,   -999.0,5,   8.0513,  34.5757,2,    200.8,2,    12.29,2,     1.67,2,    24.48,2
09FA693,P11S,      69,        1,       19,       20,2,19930713,2120,-42.8185,154.9983,4527,    793.7,   6.4050,  34.4590,2,   -999.0,5,   6.3316,  34.4638,2,    193.7,2,    22.27,2,     1.97,2,    28.82,2
09FA693,P11S,      69,        1,       18,       45,2,19930713,2120,-42.8185,154.9983,4527,    991.9,   4.8290,  34.4110,2,   -999.0,5,   4.7479,  34.4114,2,    190.8,2,    36.42,2,     2.21,2,    32.18,2
09FA693,P11S,      69,        1,       17,        1,2,19930713,2120,-42.8185,154.9983,4527,   1194.3,   3.7850,  34.4560,2,   -999.0,5,   3.6950,  34.4545,2,    177.9,2,    55.56,2,     2.42,2,    34.84,2
09FA693,P11S,      69,        1,       16,       35,2,19930713,2120,-42.8185,154.9983,4527,   1393.2,   3.2310,  34.5040,2,   -999.0,5,   3.1297,  34.5050,2,    169.9,2,    67.46,2,     2.49,2,    35.93,2
09FA693,P11S,      69,        1,       15,       41,2,19930713,2120,-42.8185,154.9983,4527,   1593.3,   2.8330,  34.5650,2,   -999.0,5,   2.7194,  34.5650,2,    165.6,2,    77.46,2,     2.50,2,    36.41,2
09FA693,P11S,      69,        1,       14,        9,2,19930713,2120,-42.8185,154.9983,4527,   1793.7,   2.5760,  34.6200,2,   -999.0,5,   2.4487,  34.6190,2,    166.7,2,    83.43,2,     2.49,2,    35.98,2
09FA693,P11S,      69,        1,       13,       15,2,19930713,2120,-42.8185,154.9983,4527,   1993.5,   2.3490,  34.6640,2,   -999.0,5,   2.2077,  34.6653,2,    173.9,2,    84.79,2,     2.43,2,    35.06,2
09FA693,P11S,      69,        1,       12,       28,2,19930713,2120,-42.8185,154.9983,4527,   2194.4,   2.1900,  34.6980,2,   -999.0,5,   2.0336,  34.6974,2,    180.5,2,    83.90,2,     2.35,2,    33.83,2
09FA693,P11S,      69,        1,       11,        2,2,19930713,2120,-42.8185,154.9983,4527,   2394.6,   2.0430,  34.7150,2,   -999.0,5,   1.8712,  34.7146,2,    185.9,2,    88.74,2,     2.34,2,    33.93,2
09FA693,P11S,      69,        1,       10,       48,2,19930713,2120,-42.8185,154.9983,4527,   2595.5,   1.9050,  34.7240,2,   -999.0,5,   1.7174,  34.7236,2,    188.5,2,    91.22,2,     2.33,2,    33.28,2
09FA693,P11S,      69,        1,        9,       24,2,19930713,2120,-42.8185,154.9983,4527,   2796.8,   1.7510,  34.7260,2,   -999.0,5,   1.5478,  34.7270,2,    192.0,2,    95.29,2,     2.33,2,    33.17,2
09FA693,P11S,      69,        1,        8,        4,2,19930713,2120,-42.8185,154.9983,4527,   2999.1,   1.6200,  34.7270,2,   -999.0,5,   1.4004,  34.7258,2,    194.8,2,    98.14,2,     2.33,2,    33.14,2
09FA693,P11S,      69,        1,        7,       10,2,19930713,2120,-42.8185,154.9983,4527,   3197.4,   1.4950,  34.7230,2,   -999.0,5,   1.2590,  34.7227,2,    197.1,2,   100.72,2,     2.33,2,    33.31,2
09FA693,P11S,      69,        1,        6,       42,2,19930713,2120,-42.8185,154.9983,4527,   3400.3,   1.3530,  34.7190,2,   -999.0,5,   1.1003,  34.7192,2,    198.8,2,   102.85,2,     2.34,2,    33.59,2
09FA693,P11S,      69,        1,        5,       14,2,19930713,2120,-42.8185,154.9983,4527,   3599.1,   1.2320,  34.7150,2,   -999.0,5,   0.9624,  34.7149,2,    199.4,2,   106.10,2,     2.36,2,    33.74,2
09FA693,P11S,      69,        1,        3,        8,2,19930713,2120,-42.8185,154.9983,4527,   3998.6,   1.1080,  34.7090,2,   -999.0,5,   0.8001,  34.7087,2,    202.8,2,   110.38,2,     2.38,2,    33.96,2
09FA693,P11S,      69,        1,        2,       11,2,19930713,2120,-42.8185,154.9983,4527,   4295.2,   1.0710,  34.7080,2,   -999.0,5,   0.7320,  34.7060,2,    204.3,2,   110.97,2,     2.37,2,    34.25,2
09FA693,P11S,      69,        1,        1,       70,2,19930713,2120,-42.8185,154.9983,4527,   4594.4,   1.0390,  34.7050,2,   -999.0,5,   0.6675,  34.7057,2,    205.4,2,   112.22,2,     2.37,2,    34.10,2
09FA693,P11S,      70,        1,       24,        5,2,19930714,0241,-43.2508,154.9975,4495,      1.8,  12.4120,  35.0690,2,   -999.0,5,  12.4118,  35.0677,2,    265.6,2,     2.07,2,     0.60,2,     6.06,2
09FA693,P11S,      70,        1,       23,       25,2,19930714,0241,-43.2508,154.9975,4495,     97.6,  11.9990,  34.9830,2,   -999.0,5,  11.9863,  34.9829,2,    263.6,2,     2.11,2,     0.68,2,     7.50,2
09FA693,P11S,      70,        1,       22,       36,2,19930714,0241,-43.2508,154.9975,4495,    196.9,  10.9410,  34.9460,2,   -999.0,5,  10.9168,  34.9453,2,    224.6,2,     4.73,2,     1.09,2,    14.46,2
09FA693,P11S,      70,        1,       21,        3,2,19930714,0241,-43.2508,154.9975,4495,    393.8,   9.0720,  34.6500,2,   -999.0,5,   9.0287,  34.6509,2,    236.7,2,     5.68,2,     1.33,2,    18.44,2
09FA693,P11S,      70,        1,       20,       27,2,19930714,0241,-43.2508,154.9975,4495,    595.4,   7.7660,  34.5240,2,   -999.0,5,   7.7057,  34.5235,2,    208.0,2,    12.22,2,     1.71,2,    25.13,2
09FA693,P11S,      70,        1,       19,       20,2,19930714,0241,-43.2508,154.9975,4495,    792.5,   6.2610,  34.4450,2,   -999.0,5,   6.1886,  34.4455,2,    195.1,2,    23.32,2,     1.98,2,    30.05,2
09FA693,P11S,      70,        1,       18,       45,2,19930714,0241,-43.2508,154.9975,4495,    992.5,   4.7350,  34.4040,2,   -999.0,5,   4.6545,  34.4041,2,    192.5,2,    36.85,2,     2.24,2,    32.86,2
09FA693,P11S,      70,        1,       17,        1,2,19930714,0241,-43.2508,154.9975,4495,   1193.4,   3.7620,  34.4600,2,   -999.0,5,   3.6722,  34.4591,2,    177.3,2,    57.35,2,     2.44,2,    35.44,2
09FA693,P11S,      70,        1,       16,       35,2,19930714,0241,-43.2508,154.9975,4495,   1391.1,   3.1300,  34.5130,2,   -999.0,5,   3.0299,  34.5133,2,    168.8,2,    69.77,2,     2.52,2,    36.28,2
09FA693,P11S,      70,        1,       15,       41,2,19930714,0241,-43.2508,154.9975,4495,   1594.7,   2.7500,  34.5780,2,   -999.0,5,   2.6372,  34.5715,2,    165.9,2,    79.91,2,     2.50,2,    37.48,2
09FA693,P11S,      70,        1,       13,       15,2,19930714,0241,-43.2508,154.9975,4495,   1994.8,   2.3070,  34.6720,2,   -999.0,5,   2.1662,  34.6716,2,    175.3,2,    85.20,2,     2.41,2,    35.22,2
09FA693,P11S,      70,        1,       12,       28,2,19930714,0241,-43.2508,154.9975,4495,   2195.5,   2.1630,  34.7010,2,   -999.0,5,   2.0069,  34.7028,2,    181.1,2,    86.52,2,     2.33,2,    34.17,2
09FA693,P11S,      70,        1,       10,       48,2,19930714,0241,-43.2508,154.9975,4495,   2596.7,   1.8830,  34.7250,2,   -999.0,5,   1.6957,  34.7236,2,    189.1,2,    97.15,2,     2.32,2,    34.46,2
09FA693,P11S,      70,        1,        9,       24,2,19930714,0241,-43.2508,154.9975,4495,   2796.4,   1.7400,  34.7260,2,   -999.0,5,   1.5370,  34.7261,2,    191.7,2,    98.94,2,     2.33,2,    34.06,2
09FA693,P11S,      70,        1,        7,       10,2,19930714,0241,-43.2508,154.9975,4495,   3198.6,   1.4480,  34.7220,2,   -999.0,5,   1.2130,  34.7208,2,    196.8,2,   106.28,2,     2.34,2,    34.17,2
09FA693,P11S,      70,        1,        6,       42,2,19930714,0241,-43.2508,154.9975,4495,   3398.8,   1.3020,  34.7170,2,   -999.0,5,   1.0507,  34.7190,2,    199.7,2,   110.44,2,     2.33,2,    34.53,2
09FA693,P11S,      70,        1,        5,       14,2,19930714,0241,-43.2508,154.9975,4495,   3598.6,   1.1910,  34.7120,2,   -999.0,5,   0.9225,  34.7129,2,    201.1,2,   114.97,2,     2.40,2,    35.38,2
09FA693,P11S,      70,        1,        3,        8,2,19930714,0241,-43.2508,154.9975,4495,   3999.7,   1.0970,  34.7090,2,   -999.0,5,   0.7893,  34.7084,2,    201.7,2,   116.91,2,     2.39,2,    35.09,2
09FA693,P11S,      70,        1,        2,       11,2,19930714,0241,-43.2508,154.9975,4495,   4296.5,   1.0640,  34.7060,2,   -999.0,5,   0.7251,  34.7059,2,    203.7,2,   119.56,2,     2.39,2,    35.68,2
09FA693,P11S,      70,        1,        1,       70,2,19930714,0241,-43.2508,154.9975,4495,   4560.0,   1.0430,  34.7040,2,   -999.0,5,   0.6753,  34.7036,2,    204.9,2,   119.99,2,     2.38,2,    35.23,2