BOTTLE,20220816CCHSIOAMB
EXPOCODE,SECT_ID,STNNBR,CASTNO,SAMPNO,BTLNBR,BTLNBR_FLAG_W,DATE,TIME,LATITUDE,LONGITUDE,DEPTH,CTDPRS,CTDTMP,CTDSAL,CTDSAL_FLAG_W,CTDOXY,CTDOXY_FLAG_W,THETA,SALNTY,SALNTY_FLAG_W,OXYGEN,OXYGEN_FLAG_W,SILCAT,SILCAT_FLAG_W,PHSPHT,PHSPHT_FLAG_W,NO2+NO3,NO2+NO3_FLAG_W
,,,,,,,,,,,,DBAR,ITS-90,PSS-78,,UMOL/KG,,ITS-90,PSS-78,,UMOL/KG,,UMOL/KG,,UMOL/KG,,UMOL/KG,
09FA693,P11S,      43,        1,       24,        5,2,19930706,0406,-27.4730,155.8993,4767,      2.7,  21.7100,  35.7250,2,   -999.0,5,  21.7095,-999.0000,9,    219.8,2,     1.23,2,     0.23,2,     0.61,2
09FA693,P11S,      43,        1,       23,       25,3,19930706,0406,-27.4730,155.8993,4767,      2.7,  21.7100,  35.7250,2,   -999.0,5,  21.7095,-999.0000,9,   -999.0,9,  -999.00,9,  -999.00,9,  -999.00,9
09FA693,P11S,      43,        1,       22,       36,3,19930706,0406,-27.4730,155.8993,4767,      2.7,  21.7100,  35.7250,2,   -999.0,5,  21.7095,-999.0000,9,   -999.0,9,  -999.00,9,  -999.00,9,  -999.00,9
09FA693,P11S,      43,        1,       21,       29,2,19930706,0406,-27.4730,155.8993,4767,    100.0,  21.6540,  35.7270,2,   -999.0,5,  21.6344,  35.7289,2,    221.7,2,     1.01,2,     0.20,2,     0.57,2
09FA693,P11S,      43,        1,       20,       27,2,19930706,0406,-27.4730,155.8993,4767,    196.6,  19.8290,  35.5980,2,   -999.0,5,  19.7927,  35.5989,2,    184.4,2,     1.59,2,     0.45,2,     5.01,2
09FA693,P11S,      43,        1,       19,       18,2,19930706,0406,-27.4730,155.8993,4767,    394.6,  14.5420,  35.2770,2,   -999.0,5,  14.4830,  35.2760,2,    186.6,2,     3.91,2,     0.84,2,    11.51,2
09FA693,P11S,      43,        1,       18,       45,2,19930706,0406,-27.4730,155.8993,4767,    592.5,  10.4780,  34.8370,2,   -999.0,5,  10.4060,  34.8398,2,    192.5,2,     7.85,2,     1.32,2,    19.67,2
09FA693,P11S,      43,        1,       17,        1,2,19930706,0406,-27.4730,155.8993,4767,    792.5,   7.1470,  34.5080,2,   -999.0,5,   7.0693,  34.5136,2,    195.0,2,    18.51,2,     1.89,2,    27.56,2
09FA693,P11S,      43,        1,       16,       41,2,19930706,0406,-27.4730,155.8993,4767,    993.8,   5.3930,  34.4550,2,   -999.0,5,   5.3074,  34.4530,2,    184.4,2,    37.45,2,     2.17,2,    31.93,2
09FA693,P11S,      43,        1,       15,        9,2,19930706,0406,-27.4730,155.8993,4767,   1192.4,   4.2590,  34.4910,2,   -999.0,5,   4.1647,  34.4898,2,    169.4,2,    60.45,2,     2.35,2,    34.84,2
09FA693,P11S,      43,        1,       14,       35,2,19930706,0406,-27.4730,155.8993,4767,   1391.0,   3.4840,  34.5430,2,   -999.0,5,   3.3801,  34.5407,2,    157.4,2,    80.56,2,     2.48,2,    36.59,2
09FA693,P11S,      43,        1,       13,       15,3,19930706,0406,-27.4730,155.8993,4767,   1590.0,-999.0000,-999.0000,9,   -999.0,5,-999.0000,-999.0000,9,   -999.0,9,  -999.00,9,  -999.00,9,  -999.00,9
09FA693,P11S,      43,        1,       12,       28,2,19930706,0406,-27.4730,155.8993,4767,   1792.6,   2.6170,  34.6220,2,   -999.0,5,   2.4892,  34.6293,2,    153.8,2,    97.13,2,     2.52,2,    37.36,2
09FA693,P11S,      43,        1,       11,        2,2,19930706,0406,-27.4730,155.8993,4767,   1993.6,   2.3890,  34.6510,2,   -999.0,5,   2.2471,  34.6473,2,    162.1,2,    98.98,2,     2.50,2,    36.65,2
09FA693,P11S,      43,        1,       10,       48,2,19930706,0406,-27.4730,155.8993,4767,   2192.2,   2.1970,  34.6790,2,   -999.0,5,   2.0407,  34.6747,2,    172.2,2,    97.13,2,     2.43,2,    35.86,2
09FA693,P11S,      43,        1,        9,        4,2,19930706,0406,-27.4730,155.8993,4767,   2395.2,   2.0220,  34.7020,2,   -999.0,5,   1.8506,  34.6970,2,    180.2,2,    98.59,2,     2.36,2,    35.46,2
09FA693,P11S,      43,        1,        8,       24,2,19930706,0406,-27.4730,155.8993,4767,   2794.9,   1.7070,  34.7190,2,   -999.0,5,   1.5049,  34.7110,2,    185.8,2,    97.89,2,     2.36,2,    34.69,2
09FA693,P11S,      43,        1,        7,       10,2,19930706,0406,-27.4730,155.8993,4767,   2998.0,-999.0000,-999.0000,9,   -999.0,5,-999.0000,  34.7101,2,    188.9,2,    99.93,2,     2.26,2,    35.03,2
09FA693,P11S,      43,        1,        6,       42,2,19930706,0406,-27.4730,155.8993,4767,   3197.3,   1.3810,  34.7170,2,   -999.0,5,   1.1477,  34.7163,2,    193.0,2,   106.24,2,     2.33,2,    34.55,2
09FA693,P11S,      43,        1,        5,       14,2,19930706,0406,-27.4730,155.8993,4767,   3397.8,   1.2780,  34.7160,2,   -999.0,5,   1.0274,  34.7148,2,    195.0,2,   107.80,2,     2.34,2,    34.56,2
09FA693,P11S,      43,        1,        4,       20,3,19930706,0406,-27.4730,155.8993,4767,   3598.0,   1.2210,  34.7130,2,   -999.0,5,   0.9518,-999.0000,9,   -999.0,9,  -999.00,9,  -999.00,9,  -999.00,9
09FA693,P11S,      43,        1,        3,        8,2,19930706,0406,-27.4730,155.8993,4767,   3598.0,   1.1760,  34.7120,2,   -999.0,5,   0.9079,  34.7104,2,    197.8,2,   115.22,2,     2.36,2,    34.93,2
09FA693,P11S,      43,        1,        2,       11,2,19930706,0406,-27.4730,155.8993,4767,   3899.0,   1.1670,  34.7110,2,   -999.0,5,   0.8680,  34.7098,2,    198.6,2,   116.61,2,     2.36,2,    34.94,2
09FA693,P11S,      43,        1,        1,       70,2,19930706,0406,-27.4730,155.8993,4767,   4846.9,   1.2050,  34.7090,2,   -999.0,5,   0.7988,  34.7081,2,    199.5,2,   119.57,2,     2.34,2,    35.58,2
09FA693,P11S,      44,        1,       24,        5,2,19930706,1057,-28.0440,156.0298,4789,      1.9,  21.7170,  35.7250,2,   -999.0,5,  21.7166,  35.7252,2,    222.0,2,     1.27,2,     0.21,2,     0.74,2
09FA693,P11S,      44,        1,       23,       25,2,19930706,1057,-28.0440,156.0298,4789,     97.8,  21.7360,  35.7250,2,   -999.0,5,  21.7168,  35.7254,2,    220.6,2,     1.10,2,     0.20,2,     0.75,2
09FA693,P11S,      44,        1,       22,       36,2,19930706,1057,-28.0440,156.0298,4789,    195.9,  20.5030,  35.6110,2,   -999.0,5,  20.4660,  35.6103,2,    190.3,2,     1.50,2,     0.42,2,     4.44,2
09FA693,P11S,      44,        1,       21,       29,2,19930706,1057,-28.0440,156.0298,4789,    393.8,  15.1480,  35.3350,2,   -999.0,5,  15.0874,  35.3357,2,    187.2,2,     3.32,2,     0.70,2,     9.67,2
09FA693,P11S,      44,        1,       20,       27,2,19930706,1057,-28.0440,156.0298,4789,    591.4,  10.9200,  34.8830,2,   -999.0,5,  10.8462,  34.8836,2,    190.8,2,     6.16,2,     1.25,2,    16.02,2
09FA693,P11S,      44,        1,       19,       18,2,19930706,1057,-28.0440,156.0298,4789,    792.4,   7.6080,  34.5390,2,   -999.0,5,   7.5276,  34.5397,2,    196.9,2,    15.58,2,     1.74,2,    26.10,2
09FA693,P11S,      44,        1,       18,       45,2,19930706,1057,-28.0440,156.0298,4789,    991.6,   5.7990,  34.4510,2,   -999.0,5,   5.7105,  34.4535,2,    190.0,2,    31.38,2,     1.93,2,    30.92,2
09FA693,P11S,      44,        1,       16,       41,2,19930706,1057,-28.0440,156.0298,4789,   1393.4,   3.5410,  34.5380,2,   -999.0,5,   3.4363,  34.5386,2,    159.3,2,    77.79,2,     2.50,2,    36.34,2
09FA693,P11S,      44,        1,       15,        9,2,19930706,1057,-28.0440,156.0298,4789,   1593.7,   2.9510,  34.5870,2,   -999.0,5,   2.8358,  34.5886,2,    151.8,2,    93.98,2,     2.27,2,    37.81,2
09FA693,P11S,      44,        1,       14,       35,2,19930706,1057,-28.0440,156.0298,4789,   1795.0,   2.6030,  34.6220,2,   -999.0,5,   2.4752,  34.6214,2,    153.5,2,   100.82,2,     2.54,2,    38.06,2
09FA693,P11S,      44,        1,       13,       15,2,19930706,1057,-28.0440,156.0298,4789,   1995.4,   2.3940,  34.6480,2,   -999.0,5,   2.2519,  34.6443,2,    160.7,2,   100.01,2,     2.50,2,    37.35,2
09FA693,P11S,      44,        1,       12,       28,2,19930706,1057,-28.0440,156.0298,4789,   2195.1,   2.2140,  34.6750,2,   -999.0,5,   2.0572,  34.6747,2,    170.8,2,  -999.00,9,  -999.00,9,  -999.00,9
09FA693,P11S,      44,        1,       11,        2,2,19930706,1057,-28.0440,156.0298,4789,   2395.5,   2.1030,  34.6910,2,   -999.0,5,   1.9301,  34.6909,2,    175.8,2,    96.22,2,     2.36,2,    35.60,2
09FA693,P11S,      44,        1,       10,       48,2,19930706,1057,-28.0440,156.0298,4789,   2597.0,   1.9830,  34.7040,2,   -999.0,5,   1.7939,  34.7024,2,    182.2,2,  -999.00,9,  -999.00,9,  -999.00,9
09FA693,P11S,      44,        1,        9,        4,2,19930706,1057,-28.0440,156.0298,4789,   2796.9,   1.8080,  34.7150,2,   -999.0,5,   1.6036,  34.7150,2,    186.9,2,  -999.00,9,  -999.00,9,  -999.00,9
09FA693,P11S,      44,        1,        8,       24,2,19930706,1057,-28.0440,156.0298,4789,   2998.5,   1.6160,  34.7190,2,   -999.0,5,   1.3965,  34.7191,2,    191.1,2,   106.26,2,     2.33,2,    35.12,2
09FA693,P11S,      44,        1,        7,       10,2,19930706,1057,-28.0440,156.0298,4789,   3196.2,   1.4770,  34.7180,2,   -999.0,5,   1.2415,  34.7172,2,    193.6,2,   109.85,2,     2.28,2,    35.22,2
09FA693,P11S,      44,        1,        6,       42,2,19930706,1057,-28.0440,156.0298,4789,   3399.5,   1.3380,  34.7160,2,   -999.0,5,   1.0858,  34.7146,2,    195.6,2,  -999.00,9,  -999.00,9,  -999.00,9
09FA693,P11S,      44,        1,        5,       14,2,19930706,1057,-28.0440,156.0298,4789,   3699.7,   1.2080,  34.7120,2,   -999.0,5,   0.9287,  34.7108,2,    197.8,2,  -999.00,9,  -999.00,9,  -999.00,9
09FA693,P11S,      44,        1,        4,       20,2,19930706,1057,-28.0440,156.0298,4789,   4000.3,   1.1810,  34.7110,2,   -999.0,5,   0.8708,  34.7130,2,    197.8,2,   117.74,2,     2.37,2,    35.77,2
09FA693,P11S,      44,        1,        3,        8,2,19930706,1057,-28.0440,156.0298,4789,   4298.6,   1.1820,  34.7100,2,   -999.0,5,   0.8393,  34.7108,2,    198.6,2,   118.20,2,     2.15,2,    35.70,2
09FA693,P11S,      44,        1,        2,       11,2,19930706,1057,-28.0440,156.0298,4789,   4597.9,   1.1940,  34.7080,2,   -999.0,5,   0.8171,  34.7118,2,    199.5,2,   118.15,2,     2.37,2,    35.81,2
09FA693,P11S,      44,        1,        1,       70,2,19930706,1057,-28.0440,156.0298,4789,   4872.0,   1.2130,  34.7100,2,   -999.0,5,   0.8035,  34.7105,2,    199.2,2,   119.43,2,     2.39,2,    35.74,2
09FA693,P11S,      45,        1,       23,       25,2,19930706,1744,-28.6270,156.1703,4795,     98.9,  21.7750,  35.7220,2,   -999.0,5,  21.7555,  35.7208,2,    220.3,2,  -999.00,9,  -999.00,9,  -999.00,9
09FA693,P11S,      45,        1,       22,       36,2,19930706,1744,-28.6270,156.1703,4795,    197.0,  20.2510,  35.6050,2,   -999.0,5,  20.2141,  35.6034,2,    187.8,2,     1.62,2,     0.46,2,     4.51,2
09FA693,P11S,      45,        1,       21,       29,2,19930706,1744,-28.6270,156.1703,4795,    394.4,  15.6470,  35.3720,2,   -999.0,5,  15.5850,  35.3726,2,    187.5,2,     2.90,2,     0.76,2,     8.69,2
09FA693,P11S,      45,        1,       20,       27,2,19930706,1744,-28.6270,156.1703,4795,    594.1,  11.8050,  35.0370,2,   -999.0,5,  11.7270,  35.0358,2,    203.6,2,     5.31,2,     1.07,2,    14.55,2
09FA693,P11S,      45,        1,       19,       18,2,19930706,1744,-28.6270,156.1703,4795,    793.9,   8.2470,  34.5980,2,   -999.0,5,   8.1626,  34.5971,2,    193.9,2,    13.49,2,     1.70,2,    25.07,2
09FA693,P11S,      45,        1,       18,       45,2,19930706,1744,-28.6270,156.1703,4795,    990.9,   6.0700,  34.4630,2,   -999.0,5,   5.9796,  34.4654,2,    188.6,2,    31.99,2,     2.06,2,    29.83,2
09FA693,P11S,      45,        1,       17,        1,2,19930706,1744,-28.6270,156.1703,4795,   1191.3,   4.6490,  34.4720,2,   -999.0,5,   4.5513,  34.4764,2,    175.2,2,    52.22,2,     2.20,2,    34.48,2
09FA693,P11S,      45,        1,       16,       41,2,19930706,1744,-28.6270,156.1703,4795,   1392.5,   3.7440,  34.5250,2,   -999.0,5,   3.6372,  34.5216,2,    162.1,2,    76.73,2,     2.46,2,    35.53,2
09FA693,P11S,      45,        1,       15,        9,2,19930706,1744,-28.6270,156.1703,4795,   1590.6,   3.1410,  34.5720,2,   -999.0,5,   3.0238,  34.5691,2,    152.7,2,    91.26,2,     2.53,2,    38.30,2
09FA693,P11S,      45,        1,       14,       35,2,19930706,1744,-28.6270,156.1703,4795,   1795.2,   2.6990,  34.6130,2,   -999.0,5,   2.5699,  34.6096,2,    152.4,2,  -999.00,9,  -999.00,9,  -999.00,9
09FA693,P11S,      45,        1,       13,       15,2,19930706,1744,-28.6270,156.1703,4795,   1995.5,   2.4510,  34.6430,2,   -999.0,5,   2.3081,  34.6379,2,    158.8,2,  -999.00,9,  -999.00,9,  -999.00,9
09FA693,P11S,      45,        1,       12,       28,2,19930706,1744,-28.6270,156.1703,4795,   2195.5,   2.2600,  34.6710,2,   -999.0,5,   2.1024,  34.6686,2,    168.3,2,    98.38,2,     2.42,2,    35.68,2
09FA693,P11S,      45,        1,       11,        2,2,19930706,1744,-28.6270,156.1703,4795,   2396.1,   2.0870,  34.6940,2,   -999.0,5,   1.9144,  34.6930,2,    178.3,2,    98.10,2,     2.38,2,    35.86,2
09FA693,P11S,      45,        1,       10,       48,2,19930706,1744,-28.6270,156.1703,4795,   2597.7,   1.9290,  34.7110,2,   -999.0,5,   1.7408,  34.7079,2,    182.7,2,    99.45,2,     2.35,2,    34.53,2
09FA693,P11S,      45,        1,        9,        4,2,19930706,1744,-28.6270,156.1703,4795,   2797.4,   1.7170,  34.7180,2,   -999.0,5,   1.5145,  34.7170,2,    188.9,2,   103.06,2,     2.26,2,    35.49,2
09FA693,P11S,      45,        1,        8,       24,2,19930706,1744,-28.6270,156.1703,4795,   2998.1,   1.5340,  34.7200,2,   -999.0,5,   1.3164,  34.7190,2,    192.2,2,  -999.00,9,  -999.00,9,  -999.00,9
09FA693,P11S,      45,        1,        7,       10,2,19930706,1744,-28.6270,156.1703,4795,   3199.8,   1.4210,  34.7170,2,   -999.0,5,   1.1865,  34.7174,2,    194.7,2,   111.27,2,     2.35,2,    35.63,2
09FA693,P11S,      45,        1,        6,       42,2,19930706,1744,-28.6270,156.1703,4795,   3398.8,   1.3490,  34.7160,2,   -999.0,5,   1.0966,  34.7166,2,    195.0,2,  -999.00,9,  -999.00,9,  -999.00,9
09FA693,P11S,      45,        1,        5,       14,2,19930706,1744,-28.6270,156.1703,4795,   3599.8,   1.2750,  34.7140,2,   -999.0,5,   1.0042,  34.7162,2,    196.9,2,  -999.00,9,  -999.00,9,  -999.00,9
09FA693,P11S,      45,        1,        4,       20,2,19930706,1744,-28.6270,156.1703,4795,   3898.8,   1.2050,  34.7120,2,   -999.0,5,   0.9050,  34.7127,2,    197.2,2,   118.22,2,     2.36,2,    35.97,2
09FA693,P11S,      45,        1,        3,        8,2,19930706,1744,-28.6270,156.1703,4795,   4198.7,   1.1820,  34.7110,2,   -999.0,5,   0.8503,  34.7107,2,    199.2,2,   119.39,2,     2.37,2,    35.85,2
09FA693,P11S,      45,        1,        2,       11,2,19930706,1744,-28.6270,156.1703,4795,   4507.8,   1.1850,  34.7110,2,   -999.0,5,   0.8187,  34.7107,2,    198.3,2,  -999.00,9,  -999.00,9,  -999.00,9
09FA693,P11S,      45,        1,        1,       70,2,19930706,1744,-28.6270,156.1703,4795,   4883.6,   1.2140,  34.7110,2,   -999.0,5,   0.8031,  34.7103,2,    198.9,2,   120.29,2,     2.15,2,    36.08,2
09FA693,P11S,      45,        1,       24,        5,2,19930706,1744,-28.6270,156.1703,4795,   4883.6,   1.2140,  34.7110,2,   -999.0,5,   0.8031,  34.7103,2,    199.2,2,  -999.00,9,  -999.00,9,  -999.00,9
09FA693,P11S,      46,        1,       24,        5,2,19930707,0015,-29.2067,156.1683,4805,      2.2,  21.9260,  35.7220,2,   -999.0,5,  21.9256,  35.7228,2,    219.5,2,     1.44,2,     0.21,2,     0.45,2
09FA693,P11S,      46,        1,       23,       25,2,19930707,0015,-29.2067,156.1683,4805,     96.8,  21.8610,  35.7270,2,   -999.0,5,  21.8419,  35.7254,2,    220.9,2,     1.26,2,     0.20,2,     0.41,2
09FA693,P11S,      46,        1,       22,       36,2,19930707,0015,-29.2067,156.1683,4805,    198.1,  21.3840,  35.6960,2,   -999.0,5,  21.3454,  35.6950,2,    204.4,2,     0.00,2,     0.31,2,     2.21,2
09FA693,P11S,      46,        1,       20,       27,2,19930707,0015,-29.2067,156.1683,4805,    595.3,  11.0290,  34.9180,2,   -999.0,5,  10.9542,  34.9207,2,    194.7,2,     8.10,2,     1.23,2,    17.90,2
09FA693,P11S,      46,        1,       19,       18,2,19930707,0015,-29.2067,156.1683,4805,    792.2,   7.7720,  34.5590,2,   -999.0,5,   7.6906,  34.5627,2,    193.8,2,    17.66,2,     1.76,2,    25.74,2
09FA693,P11S,      46,        1,       18,       45,2,19930707,0015,-29.2067,156.1683,4805,    992.9,   6.1330,  34.4660,2,   -999.0,5,   6.0419,  34.4684,2,    189.9,2,    31.08,2,     1.99,2,    29.92,2
09FA693,P11S,      46,        1,       17,        1,3,19930707,0015,-29.2067,156.1683,4805,   1192.3,   4.9070,  34.4690,2,   -999.0,5,   4.8069,-999.0000,9,   -999.0,9,  -999.00,9,  -999.00,9,  -999.00,9
09FA693,P11S,      46,        1,       16,       41,2,19930707,0015,-29.2067,156.1683,4805,   1390.8,   3.8370,  34.5220,2,   -999.0,5,   3.7294,  34.5228,2,    162.6,2,    74.22,2,     2.40,2,    35.66,2
09FA693,P11S,      46,        1,       15,        9,2,19930707,0015,-29.2067,156.1683,4805,   1592.1,   3.1970,  34.5700,2,   -999.0,5,   3.0790,  34.5725,2,    154.2,2,    90.51,2,     2.49,2,    37.18,2
09FA693,P11S,      46,        1,       14,       35,2,19930707,0015,-29.2067,156.1683,4805,   1791.4,   2.8070,  34.6060,2,   -999.0,5,   2.6767,  34.6054,2,    150.3,2,    99.93,2,     2.53,2,    37.73,2
09FA693,P11S,      46,        1,       13,       15,2,19930707,0015,-29.2067,156.1683,4805,   1994.5,   2.5080,  34.6400,2,   -999.0,5,   2.3643,  34.6368,2,    156.7,2,   101.73,2,     2.48,2,    37.30,2
09FA693,P11S,      46,        1,       12,       28,2,19930707,0015,-29.2067,156.1683,4805,   2194.7,   2.3050,  34.6670,2,   -999.0,5,   2.1468,  34.6663,2,    166.8,2,    99.56,2,     2.45,2,    37.41,2
09FA693,P11S,      46,        1,       11,        2,2,19930707,0015,-29.2067,156.1683,4805,   2393.5,   2.1480,  34.6900,2,   -999.0,5,   1.9745,  34.6906,2,    175.1,2,  -999.00,9,     2.37,2,    35.71,2
09FA693,P11S,      46,        1,       10,       48,2,19930707,0015,-29.2067,156.1683,4805,   2596.8,   1.9890,  34.7080,2,   -999.0,5,   1.7998,  34.7075,2,    181.3,2,    98.25,2,     2.34,2,    34.75,2
09FA693,P11S,      46,        1,        9,        4,2,19930707,0015,-29.2067,156.1683,4805,   2796.3,   1.8360,  34.7190,2,   -999.0,5,   1.6311,  34.7200,2,    186.6,2,   100.95,2,     2.32,2,    34.55,2
09FA693,P11S,      46,        1,        8,       24,3,19930707,0015,-29.2067,156.1683,4805,   2996.7,   1.6540,  34.7230,2,   -999.0,5,   1.4339,-999.0000,9,   -999.0,9,  -999.00,9,  -999.00,9,  -999.00,9
09FA693,P11S,      46,        1,        7,       10,2,19930707,0015,-29.2067,156.1683,4805,   3196.9,   1.4840,  34.7230,2,   -999.0,5,   1.2483,  34.7231,2,    193.5,2,   111.21,2,     2.32,2,    35.23,2
09FA693,P11S,      46,        1,        6,       42,2,19930707,0015,-29.2067,156.1683,4805,   3397.5,   1.3540,  34.7200,2,   -999.0,5,   1.1016,  34.7207,2,    195.8,2,  -999.00,9,  -999.00,9,  -999.00,9
09FA693,P11S,      46,        1,        5,       14,2,19930707,0015,-29.2067,156.1683,4805,   3696.8,   1.2230,  34.7160,2,   -999.0,5,   0.9436,  34.7167,2,    198.0,2,   116.12,2,     2.33,2,    35.42,2
09FA693,P11S,      46,        1,        4,        7,2,19930707,0015,-29.2067,156.1683,4805,   3999.0,   1.1750,  34.7140,2,   -999.0,5,   0.8652,  34.7112,2,    198.3,2,  -999.00,9,  -999.00,9,  -999.00,9
09FA693,P11S,      46,        1,        3,        8,2,19930707,0015,-29.2067,156.1683,4805,   4297.1,   1.1640,  34.7140,2,   -999.0,5,   0.8220,  34.7150,2,    199.7,2,   119.88,2,     2.32,2,    35.50,2
09FA693,P11S,      46,        1,        2,       11,2,19930707,0015,-29.2067,156.1683,4805,   4602.2,   1.1800,  34.7130,2,   -999.0,5,   0.8030,  34.7147,2,    199.4,2,   117.83,2,     2.31,2,    34.99,2
09FA693,P11S,      46,        1,        1,       70,2,19930707,0015,-29.2067,156.1683,4805,   4891.8,   1.2120,  34.7140,2,   -999.0,5,   0.8002,  34.7152,2,    199.4,2,   116.93,2,     2.32,2,    34.83,2