BOTTLE,20220816CCHSIOAMB
EXPOCODE,SECT_ID,STNNBR,CASTNO,SAMPNO,BTLNBR,BTLNBR_FLAG_W,DATE,TIME,LATITUDE,LONGITUDE,DEPTH,CTDPRS,CTDTMP,CTDSAL,CTDSAL_FLAG_W,CTDOXY,CTDOXY_FLAG_W,THETA,SALNTY,SALNTY_FLAG_W,OXYGEN,OXYGEN_FLAG_W,SILCAT,SILCAT_FLAG_W,PHSPHT,PHSPHT_FLAG_W,NO2+NO3,NO2+NO3_FLAG_W
,,,,,,,,,,,,DBAR,ITS-90,PSS-78,,UMOL/KG,,ITS-90,PSS-78,,UMOL/KG,,UMOL/KG,,UMOL/KG,,UMOL/KG,
09FA693,P11S,      27,        1,       24,        5,2,19930702,0948,-20.2098,154.7560,3144,      3.4,  24.0210,  35.4640,2,   -999.0,5,  24.0203,  35.4609,2,    215.3,2,     1.45,3,     0.20,3,     0.45,3
09FA693,P11S,      27,        1,       23,       35,2,19930702,0948,-20.2098,154.7560,3144,     48.4,  24.0380,  35.4640,2,   -999.0,5,  24.0278,  35.4651,2,    217.7,2,     1.26,3,     0.21,3,     0.43,3
09FA693,P11S,      27,        1,       22,       25,2,19930702,0948,-20.2098,154.7560,3144,     98.0,  24.0450,  35.4660,2,   -999.0,5,  24.0243,  35.4641,2,    217.2,2,     1.16,3,     0.19,3,     0.39,3
09FA693,P11S,      27,        1,       21,       41,2,19930702,0948,-20.2098,154.7560,3144,    146.1,  24.0270,  35.4740,2,   -999.0,5,  23.9961,  35.4666,2,    215.8,2,     1.13,3,     0.19,3,     0.50,3
09FA693,P11S,      27,        1,       20,        9,2,19930702,0948,-20.2098,154.7560,3144,    196.0,  21.4110,  35.6710,2,   -999.0,5,  21.3728,  35.6630,2,    166.6,2,     1.72,3,     0.54,3,     6.19,3
09FA693,P11S,      27,        1,       19,       18,2,19930702,0948,-20.2098,154.7560,3144,    245.3,  19.8320,  35.6310,2,   -999.0,5,  19.7867,  35.6281,2,    166.6,2,     2.03,3,     0.60,3,     6.94,3
09FA693,P11S,      27,        1,       18,       45,2,19930702,0948,-20.2098,154.7560,3144,    293.8,  18.4110,  35.5370,2,   -999.0,5,  18.3595,  35.5355,2,    156.2,2,     3.22,3,     0.80,3,     9.93,3
09FA693,P11S,      27,        1,       17,        1,2,19930702,0948,-20.2098,154.7560,3144,    394.7,  15.0450,  35.2360,2,   -999.0,5,  14.9846,  35.2320,2,    170.3,2,     4.34,3,     0.94,3,    12.46,3
09FA693,P11S,      27,        1,       16,       29,2,19930702,0948,-20.2098,154.7560,3144,    493.0,  11.6810,  34.9000,2,   -999.0,5,  11.6171,  34.9065,2,    176.7,2,     7.76,3,     1.30,3,    18.83,3
09FA693,P11S,      27,        1,       15,       27,2,19930702,0948,-20.2098,154.7560,3144,    593.9,   8.7880,  34.6440,2,   -999.0,5,   8.7232,  34.6458,2,    189.8,2,    11.94,3,     1.62,3,    24.50,3
09FA693,P11S,      27,        1,       14,       36,2,19930702,0948,-20.2098,154.7560,3144,    693.7,   7.0700,  34.4870,2,   -999.0,5,   7.0029,  34.4923,2,    190.3,2,    18.85,3,     1.89,3,    29.06,3
09FA693,P11S,      27,        1,       12,       28,2,19930702,0948,-20.2098,154.7560,3144,    991.9,   4.6560,  34.4610,2,   -999.0,5,   4.5761,  34.4627,2,    173.5,2,    48.84,3,     2.30,3,    35.41,3
09FA693,P11S,      27,        1,       11,        2,2,19930702,0948,-20.2098,154.7560,3144,   1189.6,   3.8600,  34.5090,2,   -999.0,5,   3.7696,  34.5069,2,    162.6,2,    67.27,3,     2.44,3,    37.75,3
09FA693,P11S,      27,        1,       10,       48,2,19930702,0948,-20.2098,154.7560,3144,   1392.5,   3.3560,  34.5520,2,   -999.0,5,   3.2533,  34.5463,2,    153.0,2,    79.94,3,     2.52,3,    38.70,3
09FA693,P11S,      27,        1,        9,        4,2,19930702,0948,-20.2098,154.7560,3144,   1592.2,   3.0070,  34.5820,2,   -999.0,5,   2.8913,  34.5815,2,    148.5,2,    82.71,3,     2.54,3,    38.90,3
09FA693,P11S,      27,        1,        8,       24,2,19930702,0948,-20.2098,154.7560,3144,   1793.2,   2.6720,  34.6120,2,   -999.0,5,   2.5434,  34.6076,2,    144.2,2,    90.23,3,     2.59,3,    39.57,3
09FA693,P11S,      27,        1,        7,       10,2,19930702,0948,-20.2098,154.7560,3144,   1993.9,   2.4090,  34.6360,2,   -999.0,5,   2.2669,  34.6350,2,    149.6,2,   102.20,3,     2.58,3,    40.04,3
09FA693,P11S,      27,        1,        6,       42,2,19930702,0948,-20.2098,154.7560,3144,   2195.4,   2.2290,  34.6590,2,   -999.0,5,   2.0720,  34.6587,2,    157.0,2,   102.20,3,     2.55,3,    39.39,3
09FA693,P11S,      27,        1,        5,       14,2,19930702,0948,-20.2098,154.7560,3144,   2395.5,   2.0920,  34.6860,2,   -999.0,5,   1.9193,  34.6868,2,    170.6,2,    92.85,3,     2.44,3,    38.05,3
09FA693,P11S,      27,        1,        4,       20,2,19930702,0948,-20.2098,154.7560,3144,   2595.4,   1.8890,  34.7090,2,   -999.0,5,   1.7018,  34.7107,2,    182.8,2,    96.29,3,     2.37,3,    36.81,3
09FA693,P11S,      27,        1,        3,        8,2,19930702,0948,-20.2098,154.7560,3144,   2795.1,   1.7040,  34.7180,2,   -999.0,5,   1.5020,  34.7165,2,   -999.0,9,    98.53,3,     2.34,3,    36.66,3
09FA693,P11S,      27,        1,        2,       11,2,19930702,0948,-20.2098,154.7560,3144,   2998.2,   1.5040,  34.7180,2,   -999.0,5,   1.2870,  34.7161,2,    191.4,2,   102.43,3,     2.34,3,    36.55,3
09FA693,P11S,      27,        1,        1,       70,2,19930702,0948,-20.2098,154.7560,3144,   3160.4,   1.3050,  34.7160,2,   -999.0,5,   1.0770,  34.7117,2,    194.5,2,   106.51,3,     2.37,3,    36.83,3
09FA693,P11S,      28,        1,       24,        5,2,19930702,1530,-20.7942,154.8167,3194,      1.4,  24.0910,  35.4960,2,   -999.0,5,  24.0907,  35.4990,2,   -999.0,9,     1.32,2,     0.27,2,     0.67,2
09FA693,P11S,      28,        1,       23,       35,2,19930702,1530,-20.7942,154.8167,3194,     48.3,  24.0860,  35.4980,2,   -999.0,5,  24.0758,  35.4998,2,   -999.0,9,     1.18,2,     0.19,2,     0.46,2
09FA693,P11S,      28,        1,       22,       25,2,19930702,1530,-20.7942,154.8167,3194,     97.2,  24.0870,  35.5010,2,   -999.0,5,  24.0664,  35.5002,2,   -999.0,9,     1.11,2,     0.18,2,     0.45,2
09FA693,P11S,      28,        1,       21,       41,2,19930702,1530,-20.7942,154.8167,3194,    145.4,  22.9750,  35.6750,2,   -999.0,5,  22.9452,  35.6737,2,   -999.0,9,     1.30,2,     0.36,2,     3.34,2
09FA693,P11S,      28,        1,       20,        9,2,19930702,1530,-20.7942,154.8167,3194,    196.2,  21.2840,  35.6550,2,   -999.0,5,  21.2460,  35.6508,2,   -999.0,9,     1.48,2,     0.45,2,     5.05,2
09FA693,P11S,      28,        1,       19,       18,2,19930702,1530,-20.7942,154.8167,3194,    245.7,  19.3350,  35.5930,2,   -999.0,5,  19.2904,  35.5908,2,   -999.0,9,     2.04,2,     0.59,2,     7.27,2
09FA693,P11S,      28,        1,       18,       45,2,19930702,1530,-20.7942,154.8167,3194,    294.8,  17.9320,  35.5130,2,   -999.0,5,  17.8812,  35.5150,2,   -999.0,9,     2.28,2,     0.61,2,     7.87,2
09FA693,P11S,      28,        1,       17,        1,2,19930702,1530,-20.7942,154.8167,3194,    393.6,  14.8160,  35.2180,2,   -999.0,5,  14.7564,  35.2241,2,   -999.0,9,     4.53,2,     0.94,2,    13.31,2
09FA693,P11S,      28,        1,       16,       29,2,19930702,1530,-20.7942,154.8167,3194,    493.8,  11.8200,  34.9080,2,   -999.0,5,  11.7555,  34.9112,2,   -999.0,9,     6.74,2,     1.18,2,    16.41,2
09FA693,P11S,      28,        1,       15,       27,2,19930702,1530,-20.7942,154.8167,3194,    591.1,   9.6490,  34.7060,2,   -999.0,5,   9.5808,  34.7079,2,   -999.0,9,     9.07,2,     1.41,2,    19.77,2
09FA693,P11S,      28,        1,       14,       36,2,19930702,1530,-20.7942,154.8167,3194,    691.7,   7.5120,  34.5220,2,   -999.0,5,   7.4428,  34.5236,2,   -999.0,9,    12.52,2,     1.52,2,    22.13,2
09FA693,P11S,      28,        1,       13,       15,2,19930702,1530,-20.7942,154.8167,3194,    791.4,   6.3290,  34.4560,2,   -999.0,5,   6.2563,  34.4572,2,   -999.0,9,    25.11,2,     2.03,2,    31.83,2
09FA693,P11S,      28,        1,       12,       28,2,19930702,1530,-20.7942,154.8167,3194,    986.8,   4.8280,  34.4590,2,   -999.0,5,   4.7472,  34.4595,2,   -999.0,9,    44.62,2,     2.25,2,    35.43,2
09FA693,P11S,      28,        1,       11,        2,2,19930702,1530,-20.7942,154.8167,3194,   1189.9,   3.9600,  34.5050,2,   -999.0,5,   3.8686,  34.5042,2,   -999.0,9,    67.29,2,     2.41,2,    38.44,2
09FA693,P11S,      28,        1,       10,       48,2,19930702,1530,-20.7942,154.8167,3194,   1391.8,   3.3480,  34.5520,2,   -999.0,5,   3.2454,  34.5513,2,   -999.0,9,    83.85,2,     2.52,2,    39.43,2
09FA693,P11S,      28,        1,        9,        4,2,19930702,1530,-20.7942,154.8167,3194,   1592.6,   2.9870,  34.5850,2,   -999.0,5,   2.8715,  34.5827,2,   -999.0,9,    95.96,2,     2.57,2,    40.61,2
09FA693,P11S,      28,        1,        8,       24,2,19930702,1530,-20.7942,154.8167,3194,   1791.6,   2.6800,  34.6110,2,   -999.0,5,   2.5515,  34.6078,2,   -999.0,9,   103.14,2,     2.61,2,    40.60,2
09FA693,P11S,      28,        1,        7,       10,2,19930702,1530,-20.7942,154.8167,3194,   1993.4,   2.3480,  34.6460,2,   -999.0,5,   2.2068,  34.6431,2,   -999.0,9,   107.14,2,     2.55,2,    40.00,2
09FA693,P11S,      28,        1,        6,       42,2,19930702,1530,-20.7942,154.8167,3194,   2191.8,   2.1560,  34.6780,2,   -999.0,5,   2.0004,  34.6776,2,   -999.0,9,   100.29,2,     2.42,2,    38.35,2
09FA693,P11S,      28,        1,        5,       14,2,19930702,1530,-20.7942,154.8167,3194,   2395.6,   1.9700,  34.7040,2,   -999.0,5,   1.7995,  34.7024,2,   -999.0,9,    97.32,2,     2.32,2,    37.30,2
09FA693,P11S,      28,        1,        4,       20,2,19930702,1530,-20.7942,154.8167,3194,   2595.5,   1.8280,  34.7140,2,   -999.0,5,   1.6420,  34.7133,2,   -999.0,9,  -999.00,9,  -999.00,9,  -999.00,9
09FA693,P11S,      28,        1,        3,        8,2,19930702,1530,-20.7942,154.8167,3194,   2796.0,   1.7220,  34.7180,2,   -999.0,5,   1.5195,  34.7160,2,   -999.0,9,    90.60,2,     2.31,2,    37.07,2
09FA693,P11S,      28,        1,        2,       11,2,19930702,1530,-20.7942,154.8167,3194,   2995.9,   1.5040,  34.7180,2,   -999.0,5,   1.2873,  34.7164,2,   -999.0,9,   101.36,2,     2.36,2,    37.33,2
09FA693,P11S,      28,        1,        1,       70,2,19930702,1530,-20.7942,154.8167,3194,   3208.0,   1.2100,  34.7150,2,   -999.0,5,   0.9796,  34.7163,2,   -999.0,9,   112.36,2,     2.35,2,    37.33,2
09FA693,P11S,      29,        1,       24,        5,2,19930702,2100,-21.3758,154.8805,3202,      0.8,  24.0500,  35.4480,2,   -999.0,5,  24.0498,  35.4485,2,    218.4,2,     1.25,2,     0.16,2,     0.25,2
09FA693,P11S,      29,        1,       23,       35,2,19930702,2100,-21.3758,154.8805,3202,     50.6,  24.0530,  35.4490,2,   -999.0,5,  24.0423,  35.4484,2,    220.8,2,     1.04,2,     0.15,2,     0.31,2
09FA693,P11S,      29,        1,       22,       25,2,19930702,2100,-21.3758,154.8805,3202,     96.4,  24.0610,  35.4490,2,   -999.0,5,  24.0406,  35.4492,2,    220.2,2,     1.06,2,     0.17,2,     0.26,2
09FA693,P11S,      29,        1,       21,       41,2,19930702,2100,-21.3758,154.8805,3202,    146.7,  22.4930,  35.7280,2,   -999.0,5,  22.4634,  35.7281,2,    170.0,2,     1.54,2,     0.48,2,     5.20,2
09FA693,P11S,      29,        1,       20,        9,2,19930702,2100,-21.3758,154.8805,3202,    196.4,  20.8080,  35.6750,2,   -999.0,5,  20.7705,  35.6752,2,    166.1,2,     1.82,2,     0.55,2,     6.67,2
09FA693,P11S,      29,        1,       19,       18,2,19930702,2100,-21.3758,154.8805,3202,    247.4,  19.2430,  35.5890,2,   -999.0,5,  19.1983,  35.5899,2,    174.2,2,     1.86,2,     0.54,2,     6.77,2
09FA693,P11S,      29,        1,       18,       45,2,19930702,2100,-21.3758,154.8805,3202,    295.8,  17.8300,  35.5100,2,   -999.0,5,  17.7792,  35.5105,2,    178.7,2,     2.31,2,     0.58,2,     7.69,2
09FA693,P11S,      29,        1,       17,        1,2,19930702,2100,-21.3758,154.8805,3202,    393.6,  15.1700,  35.2600,2,   -999.0,5,  15.1095,  35.2595,2,    173.0,2,     4.02,2,     0.87,2,    12.23,2
09FA693,P11S,      29,        1,       16,       29,2,19930702,2100,-21.3758,154.8805,3202,    493.1,  11.6780,  34.9490,2,   -999.0,5,  11.6140,  34.9478,2,    183.2,2,     6.96,2,     1.22,2,    18.76,2
09FA693,P11S,      29,        1,       15,       27,2,19930702,2100,-21.3758,154.8805,3202,    592.9,   9.4150,  34.7090,2,   -999.0,5,   9.3476,  34.7119,2,    191.1,2,     9.70,2,     1.48,2,    23.20,2
09FA693,P11S,      29,        1,       14,       36,2,19930702,2100,-21.3758,154.8805,3202,    693.4,   7.6150,  34.5410,2,   -999.0,5,   7.5450,  34.5423,2,    193.5,2,  -999.00,9,  -999.00,9,  -999.00,9
09FA693,P11S,      29,        1,       13,       15,2,19930702,2100,-21.3758,154.8805,3202,    797.3,   6.3570,  34.4620,2,   -999.0,5,   6.2836,  34.4638,2,    192.9,2,  -999.00,9,  -999.00,9,  -999.00,9
09FA693,P11S,      29,        1,       12,       28,2,19930702,2100,-21.3758,154.8805,3202,    987.0,   4.8620,  34.4590,2,   -999.0,5,   4.7810,  34.4619,2,    176.6,2,  -999.00,9,  -999.00,9,  -999.00,9
09FA693,P11S,      29,        1,       11,        2,2,19930702,2100,-21.3758,154.8805,3202,   1190.6,   3.9500,  34.5020,2,   -999.0,5,   3.8587,  34.5039,2,    164.0,2,  -999.00,9,  -999.00,9,  -999.00,9
09FA693,P11S,      29,        1,       10,       48,2,19930702,2100,-21.3758,154.8805,3202,   1389.2,   3.3960,  34.5490,2,   -999.0,5,   3.2931,  34.5471,2,    154.1,2,  -999.00,9,  -999.00,9,  -999.00,9
09FA693,P11S,      29,        1,        9,        4,2,19930702,2100,-21.3758,154.8805,3202,   1589.9,   2.9830,  34.5850,2,   -999.0,5,   2.8678,  34.5853,2,    147.4,2,  -999.00,9,  -999.00,9,  -999.00,9
09FA693,P11S,      29,        1,        8,       24,2,19930702,2100,-21.3758,154.8805,3202,   1792.0,   2.6230,  34.6180,2,   -999.0,5,   2.4952,  34.6181,2,    147.4,2,  -999.00,9,  -999.00,9,  -999.00,9
09FA693,P11S,      29,        1,        7,       10,2,19930702,2100,-21.3758,154.8805,3202,   1989.7,   2.3600,  34.6500,2,   -999.0,5,   2.2189,  34.6476,2,    156.8,2,  -999.00,9,  -999.00,9,  -999.00,9
09FA693,P11S,      29,        1,        6,       42,2,19930702,2100,-21.3758,154.8805,3202,   2192.4,   2.1950,  34.6730,2,   -999.0,5,   2.0388,  34.6684,2,    166.1,2,  -999.00,9,  -999.00,9,  -999.00,9
09FA693,P11S,      29,        1,        5,       14,2,19930702,2100,-21.3758,154.8805,3202,   2394.6,   2.0600,  34.6940,2,   -999.0,5,   1.8880,  34.6932,2,    176.3,2,  -999.00,9,  -999.00,9,  -999.00,9
09FA693,P11S,      29,        1,        4,       20,2,19930702,2100,-21.3758,154.8805,3202,   2592.2,   1.8960,  34.7120,2,   -999.0,5,   1.7090,  34.7085,2,    185.6,2,  -999.00,9,  -999.00,9,  -999.00,9
09FA693,P11S,      29,        1,        3,        8,2,19930702,2100,-21.3758,154.8805,3202,   2794.8,   1.6930,  34.7200,2,   -999.0,5,   1.4912,  34.7211,2,    189.6,2,  -999.00,9,  -999.00,9,  -999.00,9
09FA693,P11S,      29,        1,        2,       11,2,19930702,2100,-21.3758,154.8805,3202,   3001.4,   1.4900,  34.7200,2,   -999.0,5,   1.2730,  34.7211,2,    192.9,2,  -999.00,9,  -999.00,9,  -999.00,9
09FA693,P11S,      29,        1,        1,       70,2,19930702,2100,-21.3758,154.8805,3202,   3222.9,   1.2310,  34.7160,2,   -999.0,5,   0.9987,  34.7223,2,    192.6,2,  -999.00,9,  -999.00,9,  -999.00,9
09FA693,P11S,      30,        1,       24,        5,2,19930703,0249,-22.0003,154.9428,3258,      1.2,  23.0740,  35.5700,2,   -999.0,5,  23.0738,  35.5733,2,    217.5,2,     1.24,2,     0.19,2,     0.18,2
09FA693,P11S,      30,        1,       23,       35,2,19930703,0249,-22.0003,154.9428,3258,     47.9,  23.0370,  35.5850,2,   -999.0,5,  23.0272,  35.5831,2,    220.5,2,     1.14,2,     0.19,2,     0.18,2
09FA693,P11S,      30,        1,       22,       25,2,19930703,0249,-22.0003,154.9428,3258,     97.5,  22.9840,  35.6150,2,   -999.0,5,  22.9641,  35.6162,2,    219.6,2,     1.08,2,     0.18,2,     0.18,2
09FA693,P11S,      30,        1,       21,       41,2,19930703,0249,-22.0003,154.9428,3258,    149.2,  21.0890,  35.6340,2,   -999.0,5,  21.0603,  35.6355,2,    182.0,2,     1.59,2,     0.47,2,     4.63,2
09FA693,P11S,      30,        1,       20,        9,2,19930703,0249,-22.0003,154.9428,3258,    198.7,  19.6400,  35.5970,2,   -999.0,5,  19.6036,  35.5951,2,    174.2,2,     1.90,2,     0.57,2,     5.96,2
09FA693,P11S,      30,        1,       19,       18,2,19930703,0249,-22.0003,154.9428,3258,    247.8,  18.3220,  35.5330,2,   -999.0,5,  18.2787,  35.5343,2,    174.5,2,     2.29,2,     0.65,2,     7.03,2
09FA693,P11S,      30,        1,       18,       45,2,19930703,0249,-22.0003,154.9428,3258,    299.6,  17.1110,  35.4700,2,   -999.0,5,  17.0610,  35.4683,2,    182.3,2,     2.58,2,     0.68,2,     7.80,2
09FA693,P11S,      30,        1,       16,       29,2,19930703,0249,-22.0003,154.9428,3258,    494.4,  10.3100,  34.8100,2,   -999.0,5,  10.2508,  34.8113,2,    189.0,2,     8.55,2,     1.40,2,    19.02,2
09FA693,P11S,      30,        1,       15,       27,2,19930703,0249,-22.0003,154.9428,3258,    595.6,   8.1560,  34.5780,2,   -999.0,5,   8.0938,  34.5852,2,    191.7,2,    14.11,2,     1.73,2,    23.91,2
09FA693,P11S,      30,        1,       14,       36,2,19930703,0249,-22.0003,154.9428,3258,    697.9,   7.0010,  34.4960,2,   -999.0,5,   6.9338,  34.5003,2,    195.6,2,    19.14,2,     1.90,2,    25.86,2
09FA693,P11S,      30,        1,       13,       15,2,19930703,0249,-22.0003,154.9428,3258,    796.5,   6.0310,  34.4500,2,   -999.0,5,   5.9596,  34.4496,2,    188.7,2,    28.31,2,     2.07,2,    28.64,2
09FA693,P11S,      30,        1,       12,       28,2,19930703,0249,-22.0003,154.9428,3258,    994.7,   4.8000,  34.4580,2,   -999.0,5,   4.7187,  34.4567,2,    174.5,2,    48.12,2,     2.29,2,    31.82,2
09FA693,P11S,      30,        1,       11,        2,2,19930703,0249,-22.0003,154.9428,3258,   1192.9,   3.8940,  34.5090,2,   -999.0,5,   3.8030,  34.5093,2,    163.4,2,    67.39,2,     2.47,2,    33.39,2
09FA693,P11S,      30,        1,       10,       48,2,19930703,0249,-22.0003,154.9428,3258,   1391.4,   3.4540,  34.5440,2,   -999.0,5,   3.3503,  34.5438,2,    154.4,2,    78.36,2,     2.50,2,    34.47,2
09FA693,P11S,      30,        1,        9,        4,2,19930703,0249,-22.0003,154.9428,3258,   1594.5,   2.9900,  34.5850,2,   -999.0,5,   2.8743,  34.5847,2,    146.8,2,    95.98,2,     2.60,2,    35.30,2
09FA693,P11S,      30,        1,        8,       24,2,19930703,0249,-22.0003,154.9428,3258,   1790.1,   2.5940,  34.6200,2,   -999.0,5,   2.4667,  34.6193,2,    148.9,2,   101.92,2,     2.61,2,    35.21,2
09FA693,P11S,      30,        1,        7,       10,2,19930703,0249,-22.0003,154.9428,3258,   1989.9,   2.3370,  34.6500,2,   -999.0,5,   2.1962,  34.6460,2,    157.7,2,   100.53,2,     2.55,2,    34.59,2
09FA693,P11S,      30,        1,        6,       42,2,19930703,0249,-22.0003,154.9428,3258,   2195.7,   2.1360,  34.6770,2,   -999.0,5,   1.9804,  34.6747,2,    167.6,2,    95.83,2,     2.47,2,    33.50,2
09FA693,P11S,      30,        1,        5,       14,2,19930703,0249,-22.0003,154.9428,3258,   2394.1,   2.0000,  34.6990,2,   -999.0,5,   1.8291,  34.6999,2,    178.7,2,    94.64,2,     2.40,2,    32.62,2
09FA693,P11S,      30,        1,        4,       20,2,19930703,0249,-22.0003,154.9428,3258,   2597.5,   1.8380,  34.7150,2,   -999.0,5,   1.6516,  34.7175,2,    186.2,2,    88.81,2,     2.37,2,    31.95,2
09FA693,P11S,      30,        1,        3,        8,2,19930703,0249,-22.0003,154.9428,3258,   2795.2,   1.7130,  34.7190,2,   -999.0,5,   1.5108,  34.7147,2,    188.1,2,    92.48,2,     2.36,2,    31.96,2
09FA693,P11S,      30,        1,        2,       11,2,19930703,0249,-22.0003,154.9428,3258,   2995.8,   1.4960,  34.7200,2,   -999.0,5,   1.2794,  34.7201,2,    194.4,2,   100.56,2,     2.37,2,    31.90,2
09FA693,P11S,      30,        1,        1,       70,2,19930703,0249,-22.0003,154.9428,3258,   3274.0,   1.2100,  34.7160,2,   -999.0,5,   0.9732,  34.7176,2,    196.8,2,   106.46,2,     2.40,2,    32.19,2