BOTTLE,20220816CCHSIOAMB
EXPOCODE,SECT_ID,STNNBR,CASTNO,SAMPNO,BTLNBR,BTLNBR_FLAG_W,DATE,TIME,LATITUDE,LONGITUDE,DEPTH,CTDPRS,CTDTMP,CTDSAL,CTDSAL_FLAG_W,CTDOXY,CTDOXY_FLAG_W,THETA,SALNTY,SALNTY_FLAG_W,OXYGEN,OXYGEN_FLAG_W,SILCAT,SILCAT_FLAG_W,PHSPHT,PHSPHT_FLAG_W,NO2+NO3,NO2+NO3_FLAG_W
,,,,,,,,,,,,DBAR,ITS-90,PSS-78,,UMOL/KG,,ITS-90,PSS-78,,UMOL/KG,,UMOL/KG,,UMOL/KG,,UMOL/KG,
09FA693,P11S,      15,        1,       24,        5,2,19930629,0650,-13.1648,154.0515,3990,      4.5,  25.5560,  35.2610,2,   -999.0,5,  25.5550,  35.2634,2,    222.1,2,     1.35,2,     0.18,2,     0.24,2
09FA693,P11S,      15,        1,       23,        1,2,19930629,0650,-13.1648,154.0515,3990,     50.3,  25.5690,  35.2620,2,   -999.0,5,  25.5579,  35.2622,2,    219.0,2,     1.25,2,     0.18,2,     0.15,2
09FA693,P11S,      15,        1,       22,       29,2,19930629,0650,-13.1648,154.0515,3990,     98.3,  22.6780,  35.7150,2,   -999.0,5,  22.6581,  35.7124,2,    183.3,2,     1.67,2,     0.46,2,     4.11,2
09FA693,P11S,      15,        1,       21,       41,2,19930629,0650,-13.1648,154.0515,3990,    195.3,  18.5170,  35.5550,2,   -999.0,5,  18.4827,  35.5511,2,    172.3,2,     2.39,2,     0.64,2,     7.31,2
09FA693,P11S,      15,        1,       20,       25,2,19930629,0650,-13.1648,154.0515,3990,    295.0,  14.0350,  35.1130,2,   -999.0,5,  13.9921,  35.1180,2,    159.0,2,     7.10,2,     1.19,2,    15.53,2
09FA693,P11S,      15,        1,       19,       45,2,19930629,0650,-13.1648,154.0515,3990,    394.5,   9.7760,  34.6920,2,   -999.0,5,   9.7306,  34.6977,2,    173.4,2,    12.14,2,     1.59,2,    22.74,2
09FA693,P11S,      15,        1,       18,        9,2,19930629,0650,-13.1648,154.0515,3990,    594.2,   5.8880,  34.4450,2,   -999.0,5,   5.8362,  34.4464,2,    175.1,2,    33.50,2,     2.17,2,    33.04,2
09FA693,P11S,      15,        1,       17,       35,2,19930629,0650,-13.1648,154.0515,3990,    793.1,   4.7870,  34.4730,2,   -999.0,5,   4.7234,  34.4754,2,    162.1,2,    56.46,2,     2.38,2,    36.48,2
09FA693,P11S,      15,        1,       16,       18,2,19930629,0650,-13.1648,154.0515,3990,    992.0,   3.8790,  34.5190,2,   -999.0,5,   3.8049,  34.5202,2,    155.3,2,    76.84,2,     2.50,2,    37.25,2
09FA693,P11S,      15,        1,       15,       27,2,19930629,0650,-13.1648,154.0515,3990,   1191.9,   3.4940,  34.5510,2,   -999.0,5,   3.4066,  34.5516,2,    148.0,2,    90.57,2,     2.57,2,    38.49,2
09FA693,P11S,      15,        1,       14,       36,2,19930629,0650,-13.1648,154.0515,3990,   1392.3,   3.1210,  34.5820,2,   -999.0,5,   3.0207,  34.5845,2,    140.3,2,   103.88,2,     2.64,2,    39.32,2
09FA693,P11S,      15,        1,       13,       15,2,19930629,0650,-13.1648,154.0515,3990,   1592.4,   2.7560,  34.6050,2,   -999.0,5,   2.6433,  34.6061,2,    139.5,2,   113.94,2,     2.66,2,    39.88,2
09FA693,P11S,      15,        1,       12,       28,2,19930629,0650,-13.1648,154.0515,3990,   1790.9,   2.5010,  34.6250,2,   -999.0,5,   2.3749,  34.6238,2,    141.2,2,   119.41,2,     2.63,2,    39.42,2
09FA693,P11S,      15,        1,       11,        2,2,19930629,0650,-13.1648,154.0515,3990,   1991.1,   2.3210,  34.6410,2,   -999.0,5,   2.1804,  34.6387,2,    144.6,2,   120.98,2,     2.65,2,    39.87,2
09FA693,P11S,      15,        1,       10,       48,2,19930629,0650,-13.1648,154.0515,3990,   2196.8,   2.1930,  34.6540,2,   -999.0,5,   2.0365,  34.6536,2,    149.9,2,   123.80,2,     2.62,2,    38.93,2
09FA693,P11S,      15,        1,        9,        4,2,19930629,0650,-13.1648,154.0515,3990,   2394.3,   2.0880,  34.6700,2,   -999.0,5,   1.9156,  34.6694,2,    157.6,2,   121.30,2,     2.55,2,    38.31,2
09FA693,P11S,      15,        1,        8,       24,2,19930629,0650,-13.1648,154.0515,3990,   2591.8,   2.0160,  34.6810,2,   -999.0,5,   1.8268,  34.6812,2,    163.8,2,   119.94,2,     2.50,2,    38.29,2
09FA693,P11S,      15,        1,        7,       10,2,19930629,0650,-13.1648,154.0515,3990,   2793.2,   1.9660,  34.6950,2,   -999.0,5,   1.7588,  34.6945,2,    173.1,2,   111.49,2,     2.42,2,    36.81,2
09FA693,P11S,      15,        1,        6,       42,2,19930629,0650,-13.1648,154.0515,3990,   2996.6,   1.9270,  34.7020,2,   -999.0,5,   1.7010,  34.7020,2,    178.8,2,   109.82,2,     2.42,2,    36.41,2
09FA693,P11S,      15,        1,        5,       14,2,19930629,0650,-13.1648,154.0515,3990,   3195.1,   1.8700,  34.7080,2,   -999.0,5,   1.6256,  34.7075,2,    183.3,2,   109.52,2,     2.37,2,    36.18,2
09FA693,P11S,      15,        1,        4,       20,2,19930629,0650,-13.1648,154.0515,3990,   3396.3,   1.8300,  34.7120,2,   -999.0,5,   1.5661,  34.7133,2,    185.9,2,   110.83,2,     2.36,2,    36.41,2
09FA693,P11S,      15,        1,        3,        8,2,19930629,0650,-13.1648,154.0515,3990,   3598.6,   1.8090,  34.7140,2,   -999.0,5,   1.5245,  34.7129,2,    187.3,2,   110.52,2,     2.36,2,    36.02,2
09FA693,P11S,      15,        1,        2,       11,2,19930629,0650,-13.1648,154.0515,3990,   3803.9,   1.8080,  34.7140,2,   -999.0,5,   1.5016,  34.7156,2,    189.3,2,   109.59,2,     2.38,2,    35.69,2
09FA693,P11S,      15,        1,        1,       70,2,19930629,0650,-13.1648,154.0515,3990,   4038.0,   1.8230,  34.7140,2,   -999.0,5,   1.4905,  34.7164,2,    186.2,2,   110.96,2,     2.37,2,    35.84,2
09FA693,P11S,      16,        1,       24,        5,2,19930629,1512,-13.8353,154.1135,4416,      1.4,  25.9820,  35.0300,2,   -999.0,5,  25.9817,  35.0313,2,    212.8,2,     1.32,2,     0.14,2,     0.20,2
09FA693,P11S,      16,        1,       23,        1,2,19930629,1512,-13.8353,154.1135,4416,     97.5,  23.9180,  35.7050,2,   -999.0,5,  23.8975,  35.7063,2,    172.9,2,     1.85,2,     0.48,2,     4.44,2
09FA693,P11S,      16,        1,       22,       29,2,19930629,1512,-13.8353,154.1135,4416,    195.7,  19.3930,  35.6390,2,   -999.0,5,  19.3574,  35.6423,2,    154.2,2,     2.85,2,     0.78,2,     8.99,2
09FA693,P11S,      16,        1,       21,       41,2,19930629,1512,-13.8353,154.1135,4416,    393.7,  10.7900,  34.8000,2,   -999.0,5,  10.7417,  34.8023,2,    177.7,2,     9.16,2,     1.44,2,    19.86,2
09FA693,P11S,      16,        1,       20,       25,2,19930629,1512,-13.8353,154.1135,4416,    593.3,   6.4020,  34.4510,2,   -999.0,5,   6.3480,  34.4524,2,    176.3,2,    26.20,2,     2.13,2,    31.46,2
09FA693,P11S,      16,        1,       19,       45,2,19930629,1512,-13.8353,154.1135,4416,    793.0,   4.8190,  34.4600,2,   -999.0,5,   4.7553,  34.4626,2,    163.2,2,    50.18,2,     2.38,2,    35.62,2
09FA693,P11S,      16,        1,       18,        9,2,19930629,1512,-13.8353,154.1135,4416,    995.4,   3.9490,  34.4980,2,   -999.0,5,   3.8741,  34.5002,2,    164.4,2,    67.16,2,     2.46,2,    36.22,2
09FA693,P11S,      16,        1,       17,       35,2,19930629,1512,-13.8353,154.1135,4416,   1190.2,   3.3640,  34.5520,2,   -999.0,5,   3.2780,  34.5521,2,    153.3,2,    86.51,2,     2.56,2,    37.68,2
09FA693,P11S,      16,        1,       16,       18,2,19930629,1512,-13.8353,154.1135,4416,   1391.8,   2.9760,  34.5870,2,   -999.0,5,   2.8773,  34.5863,2,    144.9,2,   100.48,2,     2.64,2,    38.92,2
09FA693,P11S,      16,        1,       15,       27,2,19930629,1512,-13.8353,154.1135,4416,   1592.5,   2.6510,  34.6120,2,   -999.0,5,   2.5395,  34.6118,2,    140.6,2,   112.04,2,     2.68,2,    39.57,2
09FA693,P11S,      16,        1,       14,       36,2,19930629,1512,-13.8353,154.1135,4416,   1792.1,   2.4010,  34.6320,2,   -999.0,5,   2.2761,  34.6319,2,    142.9,2,   117.21,2,     2.68,2,    39.54,2
09FA693,P11S,      16,        1,       13,       15,2,19930629,1512,-13.8353,154.1135,4416,   1993.7,   2.2640,  34.6460,2,   -999.0,5,   2.1240,  34.6433,2,    147.7,2,   117.73,2,     2.66,2,    39.09,2
09FA693,P11S,      16,        1,       12,       28,2,19930629,1512,-13.8353,154.1135,4416,   2192.2,   2.1410,  34.6600,2,   -999.0,5,   1.9857,  34.6594,2,    152.5,2,   117.24,2,     2.62,2,    38.73,2
09FA693,P11S,      16,        1,       11,        2,2,19930629,1512,-13.8353,154.1135,4416,   2394.3,   2.0610,  34.6730,2,   -999.0,5,   1.8891,  34.6693,2,    158.2,2,   116.66,2,     2.59,2,    38.24,2
09FA693,P11S,      16,        1,        9,        4,2,19930629,1512,-13.8353,154.1135,4416,   2796.3,   1.9670,  34.6950,2,   -999.0,5,   1.7595,  34.6945,2,    173.7,2,   108.00,2,     2.47,2,    36.89,2
09FA693,P11S,      16,        1,        8,       24,2,19930629,1512,-13.8353,154.1135,4416,   2997.9,   1.9150,  34.7030,2,   -999.0,5,   1.6891,  34.7047,2,    178.8,2,   104.73,2,     2.44,2,    36.37,2
09FA693,P11S,      16,        1,        7,       10,2,19930629,1512,-13.8353,154.1135,4416,   3197.3,   1.8670,  34.7090,2,   -999.0,5,   1.6224,  34.7083,2,    183.1,2,   104.16,2,     2.42,2,    36.02,2
09FA693,P11S,      16,        1,        6,       42,2,19930629,1512,-13.8353,154.1135,4416,   3396.5,   1.8410,  34.7100,2,   -999.0,5,   1.5768,  34.7114,2,    184.7,2,   104.93,2,     2.42,2,    36.24,2
09FA693,P11S,      16,        1,        5,       14,2,19930629,1512,-13.8353,154.1135,4416,   3596.4,   1.8250,  34.7130,2,   -999.0,5,   1.5404,  34.7126,2,    186.2,2,   105.00,2,     2.43,2,    36.00,2
09FA693,P11S,      16,        1,        4,       20,2,19930629,1512,-13.8353,154.1135,4416,   3798.9,   1.8190,  34.7130,2,   -999.0,5,   1.5129,  34.7122,2,    187.0,2,   105.61,2,     2.39,2,    36.16,2
09FA693,P11S,      16,        1,        3,        8,2,19930629,1512,-13.8353,154.1135,4416,   4000.3,   1.8270,  34.7140,2,   -999.0,5,   1.4986,  34.7153,2,    187.0,2,   105.83,2,     2.40,2,    36.12,2
09FA693,P11S,      16,        1,        2,       11,2,19930629,1512,-13.8353,154.1135,4416,   4294.8,   1.8490,  34.7160,2,   -999.0,5,   1.4867,  34.7149,2,    186.2,2,   106.84,2,     2.44,2,    36.20,2
09FA693,P11S,      16,        1,        1,       70,2,19930629,1512,-13.8353,154.1135,4416,   4474.8,   1.8700,  34.7150,2,   -999.0,5,   1.4862,  34.7169,2,    186.4,2,   106.32,2,     2.43,2,    36.19,2
09FA693,P11S,      17,        1,       23,        1,2,19930629,2225,-14.4717,154.1707,4605,     97.7,  24.0800,  35.6600,2,   -999.0,5,  24.0593,  35.6596,2,    171.7,2,  -999.00,9,  -999.00,9,  -999.00,9
09FA693,P11S,      17,        1,       22,       29,2,19930629,2225,-14.4717,154.1707,4605,    196.7,  19.5770,  35.6420,2,   -999.0,5,  19.5410,  35.6454,2,    144.2,2,     3.40,2,     0.89,2,    10.84,2
09FA693,P11S,      17,        1,       21,       41,2,19930629,2225,-14.4717,154.1707,4605,    394.9,  10.5290,  34.7640,2,   -999.0,5,  10.4813,  34.7674,2,    165.5,2,    11.00,2,     1.59,2,    22.31,2
09FA693,P11S,      17,        1,       20,       25,2,19930629,2225,-14.4717,154.1707,4605,    593.7,   6.4900,  34.4520,2,   -999.0,5,   6.4356,  34.4526,2,    178.3,2,    24.64,2,     2.12,2,    31.43,2
09FA693,P11S,      17,        1,       19,       45,2,19930629,2225,-14.4717,154.1707,4605,    792.6,   4.8700,  34.4590,2,   -999.0,5,   4.8060,  34.4616,2,    165.0,2,    47.84,2,     2.38,2,    35.89,2
09FA693,P11S,      17,        1,       18,        9,2,19930629,2225,-14.4717,154.1707,4605,    994.4,   3.9620,  34.5060,2,   -999.0,5,   3.8871,  34.5115,2,    157.3,2,    68.26,2,     2.50,2,    37.69,2
09FA693,P11S,      17,        1,       17,       35,2,19930629,2225,-14.4717,154.1707,4605,   1191.7,   3.4040,  34.5550,2,   -999.0,5,   3.3175,  34.5559,2,    146.8,2,    86.47,2,     2.61,2,    39.16,2
09FA693,P11S,      17,        1,       16,       18,2,19930629,2225,-14.4717,154.1707,4605,   1391.6,   3.0270,  34.5840,2,   -999.0,5,   2.9278,  34.5846,2,    142.0,2,    98.83,2,     2.67,2,    39.99,2
09FA693,P11S,      17,        1,       15,       27,2,19930629,2225,-14.4717,154.1707,4605,   1593.8,   2.7120,  34.6070,2,   -999.0,5,   2.5997,  34.6070,2,    142.0,2,   106.93,2,     2.69,2,    40.07,2
09FA693,P11S,      17,        1,       14,       36,2,19930629,2225,-14.4717,154.1707,4605,   1796.4,   2.4810,  34.6270,2,   -999.0,5,   2.3547,  34.6293,2,    142.8,2,   111.37,2,     2.68,2,    40.14,2
09FA693,P11S,      17,        1,       13,       15,2,19930629,2225,-14.4717,154.1707,4605,   1993.8,   2.3120,  34.6430,2,   -999.0,5,   2.1713,  34.6403,2,    146.0,2,   114.28,2,     2.67,2,    39.75,2
09FA693,P11S,      17,        1,       12,       28,2,19930629,2225,-14.4717,154.1707,4605,   2195.6,   2.1910,  34.6570,2,   -999.0,5,   2.0346,  34.6567,2,    152.2,2,   113.77,2,     2.61,2,    39.24,2
09FA693,P11S,      17,        1,       11,        2,2,19930629,2225,-14.4717,154.1707,4605,   2394.9,   2.0980,  34.6710,2,   -999.0,5,   1.9254,  34.6680,2,    158.1,2,   112.78,2,     2.60,2,    38.73,2
09FA693,P11S,      17,        1,       10,       48,2,19930629,2225,-14.4717,154.1707,4605,   2592.8,   2.0350,  34.6840,2,   -999.0,5,   1.8454,  34.6821,2,    166.3,2,   108.92,2,     2.52,2,    38.16,2
09FA693,P11S,      17,        1,        9,        4,2,19930629,2225,-14.4717,154.1707,4605,   2796.3,   1.9760,  34.6940,2,   -999.0,5,   1.7683,  34.6934,2,    173.0,2,   108.03,2,     2.49,2,    38.01,2
09FA693,P11S,      17,        1,        8,       24,2,19930629,2225,-14.4717,154.1707,4605,   2999.3,   1.9300,  34.7010,2,   -999.0,5,   1.7037,  34.7008,2,    177.0,2,   104.93,2,     2.47,2,    37.02,2
09FA693,P11S,      17,        1,        7,       10,2,19930629,2225,-14.4717,154.1707,4605,   3199.4,   1.8880,  34.7060,2,   -999.0,5,   1.6427,  34.7050,2,    181.0,2,   104.94,2,     2.44,2,    37.16,2
09FA693,P11S,      17,        1,        6,       42,2,19930629,2225,-14.4717,154.1707,4605,   3398.5,   1.8520,  34.7110,2,   -999.0,5,   1.5873,  34.7089,2,    182.6,2,   103.73,2,     2.44,2,    36.62,2
09FA693,P11S,      17,        1,        5,       14,2,19930629,2225,-14.4717,154.1707,4605,   3601.5,   1.8310,  34.7120,2,   -999.0,5,   1.5457,  34.7127,2,    185.8,2,   104.36,2,     2.42,2,    36.61,2
09FA693,P11S,      17,        1,        4,       20,2,19930629,2225,-14.4717,154.1707,4605,   3797.6,   1.8270,  34.7140,2,   -999.0,5,   1.5208,  34.7154,2,    186.1,2,   104.87,2,     2.42,2,    36.63,2
09FA693,P11S,      17,        1,        3,        8,2,19930629,2225,-14.4717,154.1707,4605,   4097.3,   1.8370,  34.7140,2,   -999.0,5,   1.4975,  34.7142,2,    186.6,2,   104.66,2,     2.41,2,    36.25,2
09FA693,P11S,      17,        1,        2,       11,2,19930629,2225,-14.4717,154.1707,4605,   4399.1,   1.8620,  34.7150,2,   -999.0,5,   1.4873,  34.7142,2,    185.6,2,   104.86,2,     2.40,2,    36.50,2
09FA693,P11S,      17,        1,        1,       70,2,19930629,2225,-14.4717,154.1707,4605,   4672.3,   1.8930,  34.7160,2,   -999.0,5,   1.4851,  34.7146,2,    185.0,2,   105.15,2,     2.40,2,    36.44,2
09FA693,P11S,      17,        1,       24,        5,2,19930629,2225,-14.4717,154.1707,4605,   4672.3,   1.8930,  34.7160,2,   -999.0,5,   1.4851,  34.7190,2,    184.5,2,   105.68,2,     2.37,2,    35.94,2
09FA693,P11S,      18,        1,       24,        5,2,19930630,0543,-15.0647,154.2305,4622,      4.4,  25.5330,  35.0610,2,   -999.0,5,  25.5320,  35.0602,2,    215.5,2,     1.27,2,     0.16,2,     0.20,2
09FA693,P11S,      18,        1,       23,        1,2,19930630,0543,-15.0647,154.2305,4622,     97.2,  24.8450,  35.5950,2,   -999.0,5,  24.8240,  35.5929,2,    200.8,2,     1.27,2,     0.37,2,     1.11,2
09FA693,P11S,      18,        1,       22,       29,2,19930630,0543,-15.0647,154.2305,4622,    196.1,  20.0220,  35.6740,2,   -999.0,5,  19.9856,  35.6734,2,    155.1,2,     2.51,2,     0.71,2,     8.44,2
09FA693,P11S,      18,        1,       21,       41,2,19930630,0543,-15.0647,154.2305,4622,    394.9,  11.8110,  34.9010,2,   -999.0,5,  11.7596,  34.9054,2,    173.5,2,     7.78,2,     1.33,2,    18.60,2
09FA693,P11S,      18,        1,       20,       25,2,19930630,0543,-15.0647,154.2305,4622,    591.8,   6.6370,  34.4530,2,   -999.0,5,   6.5821,  34.4525,2,    186.4,2,    21.36,2,     2.01,2,    30.42,2
09FA693,P11S,      18,        1,       19,       45,2,19930630,0543,-15.0647,154.2305,4622,    789.9,   5.0080,  34.4550,2,   -999.0,5,   4.9434,  34.4569,2,    166.6,2,    44.96,2,     2.37,2,    35.75,2
09FA693,P11S,      18,        1,       18,        9,2,19930630,0543,-15.0647,154.2305,4622,    991.1,   3.9810,  34.4930,2,   -999.0,5,   3.9062,  34.4938,2,    164.5,2,    64.41,2,     2.47,2,    37.34,2
09FA693,P11S,      18,        1,       17,       35,2,19930630,0543,-15.0647,154.2305,4622,   1192.6,   3.3920,  34.5520,2,   -999.0,5,   3.3055,  34.5523,2,    149.8,2,    85.04,2,     2.57,2,    39.17,2
09FA693,P11S,      18,        1,       16,       18,2,19930630,0543,-15.0647,154.2305,4622,   1391.7,   3.0270,  34.5840,2,   -999.0,5,   2.9278,  34.5838,2,    142.3,2,    97.55,2,     2.66,2,    40.09,2
09FA693,P11S,      18,        1,       15,       27,2,19930630,0543,-15.0647,154.2305,4622,   1591.9,   2.7180,  34.6080,2,   -999.0,5,   2.6058,  34.6073,2,    141.8,2,   106.15,2,     2.68,2,    40.48,2
09FA693,P11S,      18,        1,       14,       36,2,19930630,0543,-15.0647,154.2305,4622,   1792.9,   2.4860,  34.6270,2,   -999.0,5,   2.3599,  34.6271,2,    142.0,2,   111.72,2,     2.67,2,    40.52,2
09FA693,P11S,      18,        1,       13,       15,2,19930630,0543,-15.0647,154.2305,4622,   1991.3,   2.3510,  34.6390,2,   -999.0,5,   2.2099,  34.6390,2,    145.2,2,   113.60,2,     2.69,2,    40.22,2
09FA693,P11S,      18,        1,       12,       28,2,19930630,0543,-15.0647,154.2305,4622,   2195.0,   2.2170,  34.6530,2,   -999.0,5,   2.0602,  34.6521,2,    149.5,2,   112.15,2,     2.60,2,    39.57,2
09FA693,P11S,      18,        1,       11,        2,2,19930630,0543,-15.0647,154.2305,4622,   2393.4,   2.1420,  34.6670,2,   -999.0,5,   1.9687,  34.6675,2,    157.5,2,   109.98,2,     2.58,2,    38.93,2
09FA693,P11S,      18,        1,        9,        4,2,19930630,0543,-15.0647,154.2305,4622,   2793.3,   1.9890,  34.6930,2,   -999.0,5,   1.7814,  34.6928,2,    172.5,2,   103.59,2,     2.47,2,    37.51,2
09FA693,P11S,      18,        1,        8,       24,2,19930630,0543,-15.0647,154.2305,4622,   2994.7,   1.9340,  34.7010,2,   -999.0,5,   1.7080,  34.7031,2,    177.3,2,   102.46,2,     2.45,2,    37.16,2
09FA693,P11S,      18,        1,        7,       10,2,19930630,0543,-15.0647,154.2305,4622,   3193.0,   1.8950,  34.7050,2,   -999.0,5,   1.6502,  34.7079,2,    181.0,2,   101.77,2,     2.41,2,    36.75,2
09FA693,P11S,      18,        1,        6,       42,2,19930630,0543,-15.0647,154.2305,4622,   3397.8,   1.8570,  34.7090,2,   -999.0,5,   1.5923,  34.7124,2,    183.4,2,   102.22,2,     2.42,2,    36.79,2
09FA693,P11S,      18,        1,        5,       14,2,19930630,0543,-15.0647,154.2305,4622,   3597.3,   1.8320,  34.7130,2,   -999.0,5,   1.5471,  34.7144,2,    184.5,2,   102.41,2,     2.42,2,    36.46,2
09FA693,P11S,      18,        1,        4,       20,2,19930630,0543,-15.0647,154.2305,4622,   3898.6,   1.8270,  34.7140,2,   -999.0,5,   1.5098,  34.7178,2,    186.4,2,   103.52,2,     2.40,2,    36.60,2
09FA693,P11S,      18,        1,        3,        8,2,19930630,0543,-15.0647,154.2305,4622,   4198.2,   1.8440,  34.7150,2,   -999.0,5,   1.4929,  34.7180,2,    186.1,2,   102.85,2,     2.42,2,    36.54,2
09FA693,P11S,      18,        1,        2,       11,2,19930630,0543,-15.0647,154.2305,4622,   4495.6,   1.8730,  34.7160,2,   -999.0,5,   1.4867,  34.7162,2,    185.8,2,   103.40,2,     2.43,2,    36.59,2
09FA693,P11S,      18,        1,        1,       70,2,19930630,0543,-15.0647,154.2305,4622,   4687.9,   1.8960,  34.7150,2,   -999.0,5,   1.4861,  34.7176,2,    185.0,2,   103.57,2,     2.43,2,    36.50,2