BOTTLE,20220816CCHSIOAMB
# Set units of NO2+NO3 to UMOL/KG from nothing, this matches the woce file
# Removed the following empty lines:
#   Station 7, cast 1, sample 24
#   Station 55, cast1, sample 24
#   Station 75, cast 1, samples 24~20
#   Station 78, cast 1, samples 13 and 12
#   Station 79, cast1, sample 8 and 7
#BOTTLE,20110506CCHSIOMYS
#code : Justin Fields hyd_to_exchange.rb 
#original files copied from HTML directory: 2011-05-06
#original HYD file: p11shy.txt  2002-06-24
#original SUM file: p11ssu.txt  2003-05-27
EXPOCODE,SECT_ID,STNNBR,CASTNO,SAMPNO,BTLNBR,BTLNBR_FLAG_W,DATE,TIME,LATITUDE,LONGITUDE,DEPTH,CTDPRS,CTDTMP,CTDSAL,CTDSAL_FLAG_W,CTDOXY,CTDOXY_FLAG_W,THETA,SALNTY,SALNTY_FLAG_W,OXYGEN,OXYGEN_FLAG_W,SILCAT,SILCAT_FLAG_W,PHSPHT,PHSPHT_FLAG_W,NO2+NO3,NO2+NO3_FLAG_W
,,,,,,,,,,,,DBAR,ITS-90,PSS-78,,UMOL/KG,,ITS-90,PSS-78,,UMOL/KG,,UMOL/KG,,UMOL/KG,,UMOL/KG,
09FA693,P11S,       1,        1,       24,       24,2,19930626,1004,-13.8210,152.3870,4632,    696.5,   5.7430,  34.4430,2,   -999.0,5,   5.6826,  34.4472,2,   -999.0,9,  -999.00,9,  -999.00,9,  -999.00,9
09FA693,P11S,       1,        1,       23,       23,2,19930626,1004,-13.8210,152.3870,4632,    696.5,   5.7430,  34.4430,2,   -999.0,5,   5.6826,  34.4460,2,   -999.0,9,  -999.00,9,  -999.00,9,  -999.00,9
09FA693,P11S,       1,        1,       21,       21,2,19930626,1004,-13.8210,152.3870,4632,    696.5,   5.7430,  34.4430,2,   -999.0,5,   5.6826,  34.4444,2,   -999.0,9,  -999.00,9,  -999.00,9,  -999.00,9
09FA693,P11S,       1,        1,       20,       20,2,19930626,1004,-13.8210,152.3870,4632,    696.5,   5.7430,  34.4430,2,   -999.0,5,   5.6826,  34.4440,2,   -999.0,9,  -999.00,9,  -999.00,9,  -999.00,9
09FA693,P11S,       1,        1,       19,       19,2,19930626,1004,-13.8210,152.3870,4632,    696.5,   5.7430,  34.4430,2,   -999.0,5,   5.6826,  34.4506,2,   -999.0,9,  -999.00,9,  -999.00,9,  -999.00,9
09FA693,P11S,       1,        1,       18,       18,2,19930626,1004,-13.8210,152.3870,4632,    696.5,   5.7430,  34.4430,2,   -999.0,5,   5.6826,  34.4443,2,   -999.0,9,  -999.00,9,  -999.00,9,  -999.00,9
09FA693,P11S,       1,        1,       17,       17,2,19930626,1004,-13.8210,152.3870,4632,    696.5,   5.7430,  34.4430,2,   -999.0,5,   5.6826,  34.4419,2,   -999.0,9,  -999.00,9,  -999.00,9,  -999.00,9
09FA693,P11S,       1,        1,       16,       16,2,19930626,1004,-13.8210,152.3870,4632,    696.5,   5.7430,  34.4430,2,   -999.0,5,   5.6826,  34.4415,2,   -999.0,9,  -999.00,9,  -999.00,9,  -999.00,9
09FA693,P11S,       1,        1,       15,       15,2,19930626,1004,-13.8210,152.3870,4632,    696.5,   5.7430,  34.4430,2,   -999.0,5,   5.6826,  34.4418,2,   -999.0,9,  -999.00,9,  -999.00,9,  -999.00,9
09FA693,P11S,       1,        1,       12,       12,2,19930626,1004,-13.8210,152.3870,4632,    696.5,   5.7430,  34.4430,2,   -999.0,5,   5.6826,  34.4468,2,   -999.0,9,  -999.00,9,  -999.00,9,  -999.00,9
09FA693,P11S,       1,        1,       11,       11,2,19930626,1004,-13.8210,152.3870,4632,    696.5,   5.7430,  34.4430,2,   -999.0,5,   5.6826,  34.4452,2,   -999.0,9,  -999.00,9,  -999.00,9,  -999.00,9
09FA693,P11S,       1,        1,        9,        9,2,19930626,1004,-13.8210,152.3870,4632,    696.5,   5.7430,  34.4430,2,   -999.0,5,   5.6826,  34.4447,2,   -999.0,9,  -999.00,9,  -999.00,9,  -999.00,9
09FA693,P11S,       1,        1,        8,        8,2,19930626,1004,-13.8210,152.3870,4632,    696.5,   5.7430,  34.4430,2,   -999.0,5,   5.6826,  34.4522,2,   -999.0,9,  -999.00,9,  -999.00,9,  -999.00,9
09FA693,P11S,       1,        1,        7,        7,2,19930626,1004,-13.8210,152.3870,4632,    696.5,   5.7430,  34.4430,2,   -999.0,5,   5.6826,  34.4522,2,   -999.0,9,  -999.00,9,  -999.00,9,  -999.00,9
09FA693,P11S,       1,        1,        6,        6,2,19930626,1004,-13.8210,152.3870,4632,    696.5,   5.7430,  34.4430,2,   -999.0,5,   5.6826,  34.4435,2,   -999.0,9,  -999.00,9,  -999.00,9,  -999.00,9
09FA693,P11S,       1,        1,        5,        5,2,19930626,1004,-13.8210,152.3870,4632,    696.5,   5.7430,  34.4430,2,   -999.0,5,   5.6826,  34.4490,2,   -999.0,9,  -999.00,9,  -999.00,9,  -999.00,9
09FA693,P11S,       1,        1,        4,        4,2,19930626,1004,-13.8210,152.3870,4632,    696.5,   5.7430,  34.4430,2,   -999.0,5,   5.6826,  34.4498,2,   -999.0,9,  -999.00,9,  -999.00,9,  -999.00,9
09FA693,P11S,       1,        1,        3,        3,2,19930626,1004,-13.8210,152.3870,4632,    696.5,   5.7430,  34.4430,2,   -999.0,5,   5.6826,  34.4440,2,   -999.0,9,  -999.00,9,  -999.00,9,  -999.00,9
09FA693,P11S,       1,        1,        2,        2,2,19930626,1004,-13.8210,152.3870,4632,    696.5,   5.7430,  34.4430,2,   -999.0,5,   5.6826,  34.4476,2,   -999.0,9,  -999.00,9,  -999.00,9,  -999.00,9
09FA693,P11S,       1,        1,        1,        1,2,19930626,1004,-13.8210,152.3870,4632,    696.5,   5.7430,  34.4430,2,   -999.0,5,   5.6826,  34.4484,2,   -999.0,9,  -999.00,9,  -999.00,9,  -999.00,9
09FA693,P11S,       2,        1,       24,       24,2,19930627,0439,-12.4500,155.3340,2327,      1.6,  26.6840,  34.8590,2,   -999.0,5,  26.6836,  34.8600,2,    212.8,2,     1.58,2,     0.15,2,     0.15,2
09FA693,P11S,       2,        1,       23,       23,2,19930627,0439,-12.4500,155.3340,2327,      1.6,  26.6840,  34.8590,2,   -999.0,5,  26.6836,  34.8582,2,    218.0,2,     1.38,2,     0.15,2,     0.27,2
09FA693,P11S,       2,        1,       22,       22,2,19930627,0439,-12.4500,155.3340,2327,      1.6,  26.6840,  34.8590,2,   -999.0,5,  26.6836,  34.8595,2,    214.9,2,     1.37,2,     0.16,2,     0.13,2
09FA693,P11S,       2,        1,       21,       21,2,19930627,0439,-12.4500,155.3340,2327,    295.6,  14.5390,  35.1520,2,   -999.0,5,  14.4950,  35.1511,2,    146.3,2,     8.16,2,     1.28,2,    16.28,2
09FA693,P11S,       2,        1,       20,       20,2,19930627,0439,-12.4500,155.3340,2327,    295.6,  14.5390,  35.1520,2,   -999.0,5,  14.4950,  35.1532,2,    143.7,2,     8.12,2,     1.30,2,    16.40,2
09FA693,P11S,       2,        1,       19,       19,2,19930627,0439,-12.4500,155.3340,2327,    295.6,  14.5390,  35.1520,2,   -999.0,5,  14.4950,  35.1537,2,    145.0,2,     8.08,2,     1.29,2,    16.40,2
09FA693,P11S,       2,        1,       18,       18,2,19930627,0439,-12.4500,155.3340,2327,    591.2,   6.0060,  34.4470,2,   -999.0,5,   5.9540,  34.4495,2,    182.4,2,    29.10,2,     2.11,2,    30.19,2
09FA693,P11S,       2,        1,       17,       17,2,19930627,0439,-12.4500,155.3340,2327,    591.2,   6.0060,  34.4470,2,   -999.0,5,   5.9540,  34.4496,2,    182.4,2,    29.30,2,     2.14,2,    30.35,2
09FA693,P11S,       2,        1,       16,       16,2,19930627,0439,-12.4500,155.3340,2327,    591.2,   6.0060,  34.4470,2,   -999.0,5,   5.9540,  34.4486,2,    181.1,2,    29.31,2,     2.16,2,    30.40,2
09FA693,P11S,       2,        1,       15,       15,2,19930627,0439,-12.4500,155.3340,2327,    891.0,   4.3220,  34.4860,2,   -999.0,5,   4.2531,  34.4884,2,    164.5,2,    59.97,2,     2.41,2,    34.56,2
09FA693,P11S,       2,        1,       12,       12,2,19930627,0439,-12.4500,155.3340,2327,   1193.1,   3.5480,  34.5530,2,   -999.0,5,   3.4600,  34.5557,2,    147.3,2,    88.23,2,     2.56,2,    37.34,2
09FA693,P11S,       2,        1,        9,        9,2,19930627,0439,-12.4500,155.3340,2327,   1591.8,   2.7380,  34.6060,2,   -999.0,5,   2.6255,  34.6071,2,    142.6,2,   108.75,2,     2.68,2,    38.02,2
09FA693,P11S,       2,        1,        8,        8,2,19930627,0439,-12.4500,155.3340,2327,   1591.8,   2.7380,  34.6060,2,   -999.0,5,   2.6255,  34.6055,2,    143.2,2,   108.23,2,     2.65,2,    37.96,2
09FA693,P11S,       2,        1,        7,        7,2,19930627,0439,-12.4500,155.3340,2327,   1591.8,   2.7380,  34.6060,2,   -999.0,5,   2.6255,  34.6046,2,    142.9,2,   108.07,2,     2.67,2,    38.29,2
09FA693,P11S,       2,        1,        4,        4,2,19930627,0439,-12.4500,155.3340,2327,   1995.1,   2.2890,  34.6420,2,   -999.0,5,   2.1485,  34.6437,2,    147.1,2,   117.76,2,     2.65,2,    37.95,2
09FA693,P11S,       2,        1,        3,        3,2,19930627,0439,-12.4500,155.3340,2327,   2295.9,   2.1440,  34.6580,2,   -999.0,5,   1.9795,  34.6554,2,    151.7,2,   120.52,2,     2.64,2,    38.06,2
09FA693,P11S,       3,        1,       24,       24,2,19930627,0817,-12.3382,155.0950,2848,      4.0,  26.7320,  34.8840,2,   -999.0,5,  26.7311,  34.8855,2,    209.1,2,     1.51,2,     0.13,2,     0.23,2
09FA693,P11S,       3,        1,       23,       23,2,19930627,0817,-12.3382,155.0950,2848,      4.0,  26.7320,  34.8840,2,   -999.0,5,  26.7311,  34.8865,2,    212.5,2,     1.29,2,     0.13,2,     0.19,2
09FA693,P11S,       3,        1,       22,       22,2,19930627,0817,-12.3382,155.0950,2848,    296.3,  14.7820,  35.1740,2,   -999.0,5,  14.7374,  35.1878,2,    149.1,2,     6.92,2,     1.17,2,    15.12,2
09FA693,P11S,       3,        1,       21,       21,2,19930627,0817,-12.3382,155.0950,2848,    296.3,  14.7820,  35.1740,2,   -999.0,5,  14.7374,  35.1762,2,    149.7,2,     7.01,2,     1.21,2,    15.29,2
09FA693,P11S,       3,        1,       20,       20,2,19930627,0817,-12.3382,155.0950,2848,    593.8,   6.2680,  34.4690,2,   -999.0,5,   6.2145,  34.4758,2,    171.2,2,    30.15,2,     2.16,2,    30.91,2
09FA693,P11S,       3,        1,       19,       19,2,19930627,0817,-12.3382,155.0950,2848,    593.8,   6.2680,  34.4690,2,   -999.0,5,   6.2145,  34.4721,2,    172.3,2,    30.37,2,     2.18,2,    30.96,2
09FA693,P11S,       3,        1,       18,       18,2,19930627,0817,-12.3382,155.0950,2848,    593.8,   6.2680,  34.4690,2,   -999.0,5,   6.2145,  34.4760,2,    170.7,2,    30.48,2,     2.19,2,    31.26,2
09FA693,P11S,       3,        1,       17,       17,3,19930627,0817,-12.3382,155.0950,2848,    893.1,   4.3460,  34.4960,2,   -999.0,5,   4.2768,-999.0000,9,   -999.0,9,  -999.00,9,  -999.00,9,  -999.00,9
09FA693,P11S,       3,        1,       16,       16,2,19930627,0817,-12.3382,155.0950,2848,    893.1,   4.3460,  34.4960,2,   -999.0,5,   4.2768,  34.4999,2,    160.0,2,    62.96,2,     2.45,2,    34.99,2
09FA693,P11S,       3,        1,       15,       15,2,19930627,0817,-12.3382,155.0950,2848,    893.1,   4.3460,  34.4960,2,   -999.0,5,   4.2768,  34.4990,2,    160.6,2,    63.07,2,     2.43,2,    35.03,2
09FA693,P11S,       3,        1,       12,       12,2,19930627,0817,-12.3382,155.0950,2848,   1192.7,   3.5160,  34.5550,2,   -999.0,5,   3.4284,  34.5564,2,    144.7,2,    89.06,2,     2.55,2,    37.18,2
09FA693,P11S,       3,        1,       11,       11,2,19930627,0817,-12.3382,155.0950,2848,   1592.3,   2.7580,  34.6050,2,   -999.0,5,   2.6452,  34.6090,2,    140.3,2,   111.35,2,     2.66,2,    38.42,2
09FA693,P11S,       3,        1,        9,        9,2,19930627,0817,-12.3382,155.0950,2848,   1592.3,   2.7580,  34.6050,2,   -999.0,5,   2.6453,  34.6037,2,    141.1,2,   109.78,2,     2.69,2,    38.27,2
09FA693,P11S,       3,        1,        7,        7,2,19930627,0817,-12.3382,155.0950,2848,   1992.9,   2.3480,  34.6390,2,   -999.0,5,   2.2068,  34.6403,2,    145.0,2,   118.91,2,     2.69,2,    38.22,2
09FA693,P11S,       3,        1,        6,        6,2,19930627,0817,-12.3382,155.0950,2848,   1992.9,   2.3480,  34.6390,2,   -999.0,5,   2.2068,  34.6369,2,    144.5,2,   118.27,2,     2.66,2,    38.14,2
09FA693,P11S,       3,        1,        4,        4,2,19930627,0817,-12.3382,155.0950,2848,   2395.5,   2.1030,  34.6650,2,   -999.0,5,   1.9302,  34.6670,2,    154.1,2,   121.18,2,     2.61,2,    37.62,2
09FA693,P11S,       3,        1,        2,        2,2,19930627,0817,-12.3382,155.0950,2848,   2856.2,   1.9400,  34.6910,2,   -999.0,5,   1.7274,  34.6892,2,    167.8,2,   116.75,2,     2.50,2,    36.61,2
09FA693,P11S,       4,        1,       24,       24,2,19930627,1147,-12.2775,154.9548,3231,      1.7,  26.6120,  34.8830,2,   -999.0,5,  26.6116,  34.8830,2,    212.5,2,     1.39,2,     0.14,2,     0.25,2
09FA693,P11S,       4,        1,       23,       23,2,19930627,1147,-12.2775,154.9548,3231,    296.4,  14.4790,  35.1340,2,   -999.0,5,  14.4350,  35.1251,2,    151.7,2,     6.83,2,     1.20,2,    14.83,2
09FA693,P11S,       4,        1,       22,       22,2,19930627,1147,-12.2775,154.9548,3231,    296.4,  14.4790,  35.1340,2,   -999.0,5,  14.4350,  35.1320,2,    150.2,2,     6.95,2,     1.22,2,    15.09,2
09FA693,P11S,       4,        1,       21,       21,2,19930627,1147,-12.2775,154.9548,3231,    593.4,   6.6860,  34.4860,2,   -999.0,5,   6.6307,  34.4790,2,    172.3,2,    26.97,2,     2.11,2,    28.81,2
09FA693,P11S,       4,        1,       20,       20,2,19930627,1147,-12.2775,154.9548,3231,    593.4,   6.6860,  34.4860,2,   -999.0,5,   6.6307,  34.4847,2,    171.7,2,    26.71,2,     2.11,2,    28.83,2
09FA693,P11S,       4,        1,       18,       18,2,19930627,1147,-12.2775,154.9548,3231,   1190.2,   3.5390,  34.5520,2,   -999.0,5,   3.4514,  34.5528,2,    144.5,2,    88.96,2,     2.62,2,    35.46,2
09FA693,P11S,       4,        1,       17,       17,2,19930627,1147,-12.2775,154.9548,3231,   1190.2,   3.5390,  34.5520,2,   -999.0,5,   3.4514,  34.5534,2,    145.5,2,    88.08,2,     2.58,2,    35.20,2
09FA693,P11S,       4,        1,       16,       16,2,19930627,1147,-12.2775,154.9548,3231,   1190.2,   3.5390,  34.5520,2,   -999.0,5,   3.4514,  34.5520,2,    144.2,2,    87.90,2,     2.62,2,    35.23,2
09FA693,P11S,       4,        1,       15,       15,2,19930627,1147,-12.2775,154.9548,3231,   1793.0,   2.5110,  34.6250,2,   -999.0,5,   2.3846,  34.6214,2,    142.1,2,   114.40,2,     2.67,2,    35.95,2
09FA693,P11S,       4,        1,       14,       14,2,19930627,1147,-12.2775,154.9548,3231,   1793.0,   2.5110,  34.6250,2,   -999.0,5,   2.3846,  34.6256,2,    141.6,2,   114.79,2,     2.69,2,    35.95,2
09FA693,P11S,       4,        1,       12,       12,2,19930627,1147,-12.2775,154.9548,3231,   2194.8,   2.1950,  34.6530,2,   -999.0,5,   2.0386,  34.6501,2,    147.6,2,   119.85,2,     2.59,2,    35.40,2
09FA693,P11S,       4,        1,       11,       11,2,19930627,1147,-12.2775,154.9548,3231,   2194.8,   2.1950,  34.6530,2,   -999.0,5,   2.0386,  34.6538,2,    147.8,2,   120.85,2,     2.63,2,    35.45,2
09FA693,P11S,       4,        1,        8,        8,2,19930627,1147,-12.2775,154.9548,3231,   2597.3,   2.0130,  34.6820,2,   -999.0,5,   1.8234,  34.6807,2,    162.1,2,   114.58,2,     2.51,2,    34.21,2
09FA693,P11S,       4,        1,        6,        6,2,19930627,1147,-12.2775,154.9548,3231,   2897.9,   1.9260,  34.7010,2,   -999.0,5,   1.7096,  34.6966,2,    174.9,2,   108.70,2,     2.46,2,    32.84,2
09FA693,P11S,       4,        1,        3,        3,2,19930627,1147,-12.2775,154.9548,3231,   3242.4,   1.8700,  34.7080,2,   -999.0,5,   1.6208,  34.7044,2,    179.0,2,   107.45,2,     2.45,2,    32.46,2
09FA693,P11S,       4,        1,        2,        2,2,19930627,1147,-12.2775,154.9548,3231,   3242.4,   1.8700,  34.7080,2,   -999.0,5,   1.6208,  34.7082,2,    179.5,2,   107.50,2,     2.40,2,    32.26,2
09FA693,P11S,       4,        1,        1,        1,2,19930627,1147,-12.2775,154.9548,3231,   3242.4,   1.8700,  34.7080,2,   -999.0,5,   1.6208,  34.7069,2,    180.0,2,   108.43,2,     2.39,2,    32.65,2
09FA693,P11S,       5,        1,       22,       22,2,19930627,1545,-12.1642,154.7157,3840,    295.5,  14.6950,  35.1680,2,   -999.0,5,  14.6507,  35.1631,2,    153.9,2,     6.69,2,     1.14,2,    13.63,2
09FA693,P11S,       5,        1,       21,       21,2,19930627,1545,-12.1642,154.7157,3840,    295.5,  14.6950,  35.1680,2,   -999.0,5,  14.6507,  35.1713,2,    153.1,2,     6.52,2,     1.14,2,    13.51,2
09FA693,P11S,       5,        1,       20,       20,2,19930627,1545,-12.1642,154.7157,3840,    592.7,   6.5720,  34.4760,2,   -999.0,5,   6.5173,  34.4787,2,    172.6,2,    26.70,2,     2.05,2,    27.77,2
09FA693,P11S,       5,        1,       19,       19,2,19930627,1545,-12.1642,154.7157,3840,    592.7,   6.5720,  34.4760,2,   -999.0,5,   6.5173,  34.4786,2,    170.9,2,    27.13,2,     2.08,2,    27.67,2
09FA693,P11S,       5,        1,       18,       18,2,19930627,1545,-12.1642,154.7157,3840,    592.7,   6.5720,  34.4760,2,   -999.0,5,   6.5173,  34.4819,2,    173.1,2,    27.19,2,     2.08,2,    27.74,2
09FA693,P11S,       5,        1,       17,       17,2,19930627,1545,-12.1642,154.7157,3840,   1189.9,   3.5390,  34.5490,2,   -999.0,5,   3.4514,  34.5502,2,    148.8,2,    86.31,2,     2.56,2,    33.79,2
09FA693,P11S,       5,        1,       16,       16,2,19930627,1545,-12.1642,154.7157,3840,   1189.9,   3.5390,  34.5490,2,   -999.0,5,   3.4514,  34.5489,2,    148.0,2,    86.92,2,     2.56,2,    33.77,2
09FA693,P11S,       5,        1,       15,       15,2,19930627,1545,-12.1642,154.7157,3840,   1189.9,   3.5390,  34.5490,2,   -999.0,5,   3.4514,  34.5472,2,    147.7,2,    86.81,2,     2.57,2,    33.76,2
09FA693,P11S,       5,        1,       12,       12,2,19930627,1545,-12.1642,154.7157,3840,   1991.6,   2.3120,  34.6420,2,   -999.0,5,   2.1715,  34.6416,2,    146.3,2,   116.46,2,     2.64,2,    34.08,2
09FA693,P11S,       5,        1,       11,       11,2,19930627,1545,-12.1642,154.7157,3840,   2597.5,   1.9620,  34.6810,2,   -999.0,5,   1.7733,  34.6784,2,    160.1,2,   116.99,2,     2.57,2,    33.00,2
09FA693,P11S,       5,        1,        9,        9,2,19930627,1545,-12.1642,154.7157,3840,   2597.5,   1.9620,  34.6810,2,   -999.0,5,   1.7733,  34.6794,2,    159.9,2,   117.26,2,     2.58,2,    32.98,2
09FA693,P11S,       5,        1,        8,        8,2,19930627,1545,-12.1642,154.7157,3840,   3096.0,   1.9040,  34.7050,2,   -999.0,5,   1.6687,  34.7068,2,    178.2,2,   105.13,2,     2.44,2,    31.53,2
09FA693,P11S,       5,        1,        4,        4,2,19930627,1545,-12.1642,154.7157,3840,   3499.6,   1.8450,  34.7120,2,   -999.0,5,   1.5700,  34.7112,2,    183.3,2,   104.63,2,     2.40,2,    31.06,2
09FA693,P11S,       5,        1,        2,        2,2,19930627,1545,-12.1642,154.7157,3840,   3804.5,   1.8050,  34.7150,2,   -999.0,5,   1.4986,  34.7167,2,    185.6,2,   106.79,2,     2.39,2,    31.31,2
09FA693,P11S,       5,        1,        1,        1,2,19930627,1545,-12.1642,154.7157,3840,   3804.5,   1.8050,  34.7150,2,   -999.0,5,   1.4987,  34.7147,2,    185.3,2,   106.46,2,     2.37,2,    30.90,2