BOTTLE,20220815CCHSIOAMB
EXPOCODE,SECT_ID,STNNBR,CASTNO,SAMPNO,DATE,TIME,LATITUDE,LONGITUDE,DEPTH,CTDPRS,CTDTMP,CTDSAL,CTDSAL_FLAG_W,SALNTY,SALNTY_FLAG_W,CTDOXY,CTDOXY_FLAG_W,OXYGEN,OXYGEN_FLAG_W,SILCAT,SILCAT_FLAG_W,NITRAT,NITRAT_FLAG_W,PHSPHT,PHSPHT_FLAG_W,CFC-11,CFC-11_FLAG_W,CFC-12,CFC-12_FLAG_W,CFC113,CFC113_FLAG_W,CCL4,CCL4_FLAG_W,DELO18,THETA,REVTMP
,,,,,,,,,,DBAR,ITS-90,PSS-78,,PSS-78,,UMOL/KG,,UMOL/KG,,UMOL/KG,,UMOL/KG,,UMOL/KG,,PMOL/KG,,PMOL/KG,,PMOL/KG,,PMOL/KG,,/MILLE,DEG C,ITS-90
       74DI207, DIS94, 12649,  1,14,19940320,0911,-48.5768,  61.4487, 3547,     45.5,   5.1370,  33.8600,2,  33.8560,2,    307.9,2,    307.5,2,  -999.00,9,  -999.00,9,  -999.00,9,    5.135,2,    1.420,2,    0.548,2,    6.038,2,    -0.41,  5.1335,   5.155
       74DI207, DIS94, 12649,  1,13,19940320,0911,-48.5768,  61.4487, 3547,    307.2,   2.4930,  34.1110,2,  34.1150,2,    266.8,2,    268.1,2,  -999.00,9,  -999.00,9,  -999.00,9,    4.271,2,    1.662,2,    0.344,2,    4.770,2,    -0.24,  2.4753,-999.000
       74DI207, DIS94, 12649,  1,12,19940320,0911,-48.5768,  61.4487, 3547,    713.0,   2.4230,  34.4210,2,  34.4480,2,    210.5,2,    182.5,2,  -999.00,9,  -999.00,9,  -999.00,9,    0.735,2,    0.300,2,    0.038,2,    1.168,2,    -0.14,  2.3796,-999.000
       74DI207, DIS94, 12649,  1,11,19940320,0911,-48.5768,  61.4487, 3547,   1524.1,   2.2150,  34.7470,2,  34.7480,2,    197.9,2,    191.5,2,  -999.00,9,  -999.00,9,  -999.00,9,    0.049,2,    0.012,2, -999.000,9,    0.097,2,    -0.06,  2.1139,-999.000
       74DI207, DIS94, 12649,  1,10,19940320,0911,-48.5768,  61.4487, 3547,   1932.8,   1.9210,  34.7690,2,  34.7700,2,    201.4,2,    202.9,2,  -999.00,9,  -999.00,9,  -999.00,9,    0.027,2,    0.000,2, -999.000,9,    0.097,2,    -0.04,  1.7909,-999.000
       74DI207, DIS94, 12649,  1,9,19940320,0911,-48.5768,  61.4487, 3547,   2238.8,   1.5740,  34.7580,2,  34.7590,2,    202.7,2,    204.1,2,  -999.00,9,  -999.00,9,  -999.00,9,    0.025,2,    0.000,2,    0.000,2,    0.097,2,    -0.08,  1.4238,-999.000
       74DI207, DIS94, 12649,  1,8,19940320,0911,-48.5768,  61.4487, 3547,   2444.4,   1.3760,  34.7470,2,  34.7490,2,    204.4,2,    204.9,2,  -999.00,9,  -999.00,9,  -999.00,9,    0.025,2,    0.000,2, -999.000,9,    0.097,2,    -0.09,  1.2118,-999.000
       74DI207, DIS94, 12649,  1,7,19940320,0911,-48.5768,  61.4487, 3547,   2647.8,   1.1850,  34.7350,2,  34.7360,2,    205.1,2,    206.1,2,  -999.00,9,  -999.00,9,  -999.00,9,    0.025,2,    0.000,2,    0.000,2,    0.097,2,    -0.14,  1.0068,-999.000
       74DI207, DIS94, 12649,  1,6,19940320,0911,-48.5768,  61.4487, 3547,   2852.4,   1.0570,  34.7270,2,  34.7270,2,    206.1,2,    207.4,2,  -999.00,9,  -999.00,9,  -999.00,9,    0.026,2,    0.000,2,    0.000,2,    0.097,2,    -0.14,  0.8632,   1.051
       74DI207, DIS94, 12649,  1,5,19940320,0911,-48.5768,  61.4487, 3547,   3053.9,   0.9300,  34.7190,2,  34.7180,2,    208.2,2,    208.3,2,  -999.00,9,  -999.00,9,  -999.00,9,    0.024,2,    0.007,2,    0.000,2,    0.097,2,    -0.18,  0.7206,-999.000
       74DI207, DIS94, 12649,  1,4,19940320,0911,-48.5768,  61.4487, 3547,   3249.1,   0.8030,  34.7110,2,  34.7110,2,    210.3,2,    208.9,2,  -999.00,9,  -999.00,9,  -999.00,9,    0.021,2,    0.000,2,    0.000,2,    0.097,2,    -0.16,  0.5784,-999.000
       74DI207, DIS94, 12649,  1,3,19940320,0911,-48.5768,  61.4487, 3547,   3454.4,   0.6940,  34.7040,2,  34.7040,2,    212.5,2,    211.2,2,  -999.00,9,  -999.00,9,  -999.00,9,    0.019,2,    0.000,2,    0.000,2,    0.097,2,    -0.20,  0.4526,   0.690
       74DI207, DIS94, 12649,  1,2,19940320,0911,-48.5768,  61.4487, 3547,   3558.6,   0.6270,  34.7010,2,  34.7000,2,    214.3,2,    212.7,2,  -999.00,9,  -999.00,9,  -999.00,9,    0.022,2,    0.000,2,    0.000,2,    0.097,2,    -0.21,  0.3772,-999.000
       74DI207, DIS94, 12649,  1,1,19940320,0911,-48.5768,  61.4487, 3547,   3617.2,   0.6100,  34.6990,2,  34.6990,2,    215.1,2,    215.6,2,  -999.00,9,  -999.00,9,  -999.00,9,    0.018,2,    0.007,2,    0.000,2,    0.097,2,    -0.23,  0.3549,   0.608
       74DI207, DIS94, 12650,  1,19,19940322,0403,-47.5230,  56.2000, 4303,     14.6,   6.0530,  33.8060,2,  33.8060,2,    302.1,2,    302.2,2,  -999.00,9,  -999.00,9,  -999.00,9, -999.000,9, -999.000,9, -999.000,9, -999.000,9,    -0.39,  6.0518,   6.024
       74DI207, DIS94, 12650,  1,18,19940322,0403,-47.5230,  56.2000, 4303,    206.1,   3.1070,  34.0410,2,  33.9780,2,    296.7,2,    298.0,2,  -999.00,9,  -999.00,9,  -999.00,9, -999.000,9, -999.000,9, -999.000,9, -999.000,9,    -0.32,  3.0943,-999.000
       74DI207, DIS94, 12650,  1,17,19940322,0403,-47.5230,  56.2000, 4303,    407.0,   2.7110,  34.2000,2,  34.1710,2,    253.0,2,    254.0,2,  -999.00,9,  -999.00,9,  -999.00,9,    3.890,2,    1.171,2,    0.273,2,    4.673,2,    -0.22,  2.6864,-999.000
       74DI207, DIS94, 12650,  1,16,19940322,0403,-47.5230,  56.2000, 4303,    709.2,   2.3980,  34.3990,2,  34.3840,2,    204.8,2,    196.1,2,  -999.00,9,  -999.00,9,  -999.00,9,    1.305,2,    0.476,2,    0.077,2,    1.849,2,    -0.16,  2.3550,-999.000
       74DI207, DIS94, 12650,  1,15,19940322,0403,-47.5230,  56.2000, 4303,   1012.3,   2.4230,  34.5810,2,  34.5620,2,    183.3,2,    175.8,2,  -999.00,9,  -999.00,9,  -999.00,9,    0.529,2,    0.041,2,    0.022,2,    1.168,2,    -0.13,  2.3586,-999.000
       74DI207, DIS94, 12650,  1,14,19940322,0403,-47.5230,  56.2000, 4303,   1417.7,   2.3300,  34.7230,2,  34.7160,2,    186.3,2,    184.1,2,  -999.00,9,  -999.00,9,  -999.00,9,    0.178,2,    0.014,2,    0.000,2,    0.487,2,    -0.11,  2.2360,-999.000
       74DI207, DIS94, 12650,  1,13,19940322,0403,-47.5230,  56.2000, 4303,   1720.6,   2.1690,  34.7630,2,  34.7610,2,    192.7,2,    195.2,2,  -999.00,9,  -999.00,9,  -999.00,9,    0.130,2,    0.000,2,    0.000,2,    0.292,2,    -0.06,  2.0528,-999.000
       74DI207, DIS94, 12650,  1,12,19940322,0403,-47.5230,  56.2000, 4303,   2021.8,   1.9710,  34.7750,2,  34.7740,2,    197.4,2,   -999.0,9,  -999.00,9,  -999.00,9,  -999.00,9,    0.098,2,    0.000,2,    0.000,2,    0.195,2,    -0.08,  1.8327,-999.000
       74DI207, DIS94, 12650,  1,11,19940322,0403,-47.5230,  56.2000, 4303,   2326.2,   1.6890,  34.7670,2,  34.7660,2,    199.0,2,    204.3,2,  -999.00,9,  -999.00,9,  -999.00,9,    0.101,2,    0.000,2,    0.000,2,    0.195,2,    -0.09,  1.5293,-999.000
       74DI207, DIS94, 12650,  1,10,19940322,0403,-47.5230,  56.2000, 4303,   2625.9,   1.4010,  34.7490,2,  34.7460,2,    202.6,2,    211.6,2,  -999.00,9,  -999.00,9,  -999.00,9,    0.119,2,    0.000,2,    0.000,2,    0.292,2,    -0.08,  1.2204,-999.000
       74DI207, DIS94, 12650,  1,9,19940322,0403,-47.5230,  56.2000, 4303,   2905.8,   1.1400,  34.7310,2,  34.7310,2,    204.2,2,    206.5,2,  -999.00,9,  -999.00,9,  -999.00,9,    0.122,2,    0.000,2,    0.000,2,    0.389,2,    -0.09,  0.9396,-999.000
       74DI207, DIS94, 12650,  1,8,19940322,0403,-47.5230,  56.2000, 4303,   3239.1,   0.8000,  34.7100,2,  34.7100,2,    207.7,2,    209.3,2,  -999.00,9,  -999.00,9,  -999.00,9,    0.097,2,    0.000,2,    0.000,2,    0.292,2,    -0.14,  0.5765,-999.000
       74DI207, DIS94, 12650,  1,7,19940322,0403,-47.5230,  56.2000, 4303,   3435.6,   0.6350,  34.7010,2,  34.7010,2,    210.9,2,    211.0,2,  -999.00,9,  -999.00,9,  -999.00,9,    0.098,2,    0.010,2,    0.000,2,    0.389,2,    -0.20,  0.3969,-999.000
       74DI207, DIS94, 12650,  1,6,19940322,0403,-47.5230,  56.2000, 4303,   3637.1,   0.4890,  34.6930,2,  34.6940,2,    214.4,2,    213.8,2,  -999.00,9,  -999.00,9,  -999.00,9,    0.083,2,    0.000,2,    0.000,2,    0.389,2,    -0.20,  0.2352,   0.488
       74DI207, DIS94, 12650,  1,5,19940322,0403,-47.5230,  56.2000, 4303,   3794.8,   0.3900,  34.6880,2,  34.6880,2,    216.8,2,    215.9,2,  -999.00,9,  -999.00,9,  -999.00,9,    0.081,2,    0.000,2,    0.000,2,    0.389,2,    -0.24,  0.1233,-999.000
       74DI207, DIS94, 12650,  1,4,19940322,0403,-47.5230,  56.2000, 4303,   3955.4,   0.2510,  34.6800,2,  34.6800,2,    219.9,2,    219.2,2,  -999.00,9,  -999.00,9,  -999.00,9,    0.105,2,    0.013,2,    0.000,2,    0.486,2,    -0.24, -0.0279,-999.000
       74DI207, DIS94, 12650,  1,3,19940322,0403,-47.5230,  56.2000, 4303,   4127.0,   0.0980,  34.6730,2,  34.6730,2,    224.5,2,    223.3,2,  -999.00,9,  -999.00,9,  -999.00,9,    0.118,2,    0.000,2,    0.000,2,    0.584,2,    -0.24, -0.1938,   0.101
       74DI207, DIS94, 12650,  1,2,19940322,0403,-47.5230,  56.2000, 4303,   4277.0,   0.0220,  34.6680,2,  34.6690,2,    227.1,2,    225.7,2,  -999.00,9,  -999.00,9,  -999.00,9,    0.120,2,    0.037,2,    0.000,2,    0.584,2,    -0.25, -0.2829,-999.000
       74DI207, DIS94, 12650,  1,1,19940322,0403,-47.5230,  56.2000, 4303,   4382.8,   0.0010,  34.6680,2,  34.6680,2,    227.6,2,    225.9,2,  -999.00,9,  -999.00,9,  -999.00,9,    0.112,2,    0.025,2,    0.000,2,    0.584,2,    -0.26, -0.3144,   0.002
       74DI207, DIS94, 12651,  1,19,19940323,1054,-43.1623,  53.5597, 3915,     10.6,  10.7060,  33.7580,2,  33.7430,2,    278.0,2,    280.2,2,  -999.00,9,  -999.00,9,  -999.00,9,    4.270,2,    1.833,2,    0.339,2,    5.264,2,    -0.42, 10.7047,  10.421
       74DI207, DIS94, 12651,  1,18,19940323,1054,-43.1623,  53.5597, 3915,    210.1,   4.0820,  34.0680,2,  34.0810,2,    247.4,2,   -999.0,9,  -999.00,9,  -999.00,9,  -999.00,9,    4.852,2,    1.832,2,    0.332,2,    5.453,2,  -999.00,  4.0674,-999.000
       74DI207, DIS94, 12651,  1,17,19940323,1054,-43.1623,  53.5597, 3915,    702.2,   2.5420,  34.3120,2,  34.2180,2,    204.5,2,   -999.0,9,  -999.00,9,  -999.00,9,  -999.00,9,    2.820,2,    1.161,2,    0.191,2,    3.115,2,    -0.22,  2.4988,-999.000
       74DI207, DIS94, 12651,  1,16,19940323,1054,-43.1623,  53.5597, 3915,   1192.6,   2.7300,  34.6480,2,  34.6360,2,    181.3,2,    175.5,2,  -999.00,9,  -999.00,9,  -999.00,9,    0.212,2,    0.014,2,    0.000,2,    0.292,2,    -0.07,  2.6494,-999.000
       74DI207, DIS94, 12651,  1,15,19940323,1054,-43.1623,  53.5597, 3915,   1677.8,   2.3030,  34.7430,2,  34.7370,2,    189.1,2,    189.1,2,  -999.00,9,  -999.00,9,  -999.00,9,    0.167,2,    0.000,2,    0.000,2,    0.195,2,    -0.02,  2.1886,-999.000
       74DI207, DIS94, 12651,  1,14,19940323,1054,-43.1623,  53.5597, 3915,   1975.2,   2.1400,  34.7690,2,  34.7680,2,    193.9,2,    198.0,2,  -999.00,9,  -999.00,9,  -999.00,9,    0.223,2,    0.000,2,    0.000,2,    0.195,2,    -0.02,  2.0031,-999.000
       74DI207, DIS94, 12651,  1,13,19940323,1054,-43.1623,  53.5597, 3915,   2222.4,   1.9560,  34.7770,2,  34.7760,2,    198.0,2,   -999.0,9,  -999.00,9,  -999.00,9,  -999.00,9,    0.294,2,    0.000,2,    0.012,2,    0.097,2,    -0.04,  1.8007,-999.000
       74DI207, DIS94, 12651,  1,12,19940323,1054,-43.1623,  53.5597, 3915,   2471.1,   1.6830,  34.7600,2,  34.7590,2,    198.9,2,    200.2,2,  -999.00,9,  -999.00,9,  -999.00,9,    0.222,2,    0.000,2, -999.000,9,    0.097,2,    -0.08,  1.5108,-999.000
       74DI207, DIS94, 12651,  1,11,19940323,1054,-43.1623,  53.5597, 3915,   2721.1,   1.5000,  34.7460,2,  34.7440,2,    199.5,2,    202.1,2,  -999.00,9,  -999.00,9,  -999.00,9,    0.225,2,    0.000,2, -999.000,9,    0.097,2,    -0.07,  1.3089,-999.000
       74DI207, DIS94, 12651,  1,10,19940323,1054,-43.1623,  53.5597, 3915,   2966.8,   1.2950,  34.7380,2,  34.7340,2,    203.2,2,    205.6,2,  -999.00,9,  -999.00,9,  -999.00,9,    0.356,2,    0.000,2,    0.000,2,    0.097,2,    -0.10,  1.0855,-999.000
       74DI207, DIS94, 12651,  1,9,19940323,1054,-43.1623,  53.5597, 3915,   3163.2,   1.0820,  34.7240,2,  34.7200,2,    205.7,2,    207.8,2,  -999.00,9,  -999.00,9,  -999.00,9,    0.476,2,    0.000,2,    0.010,2,    0.097,2,    -0.12,  0.8589,-999.000
       74DI207, DIS94, 12651,  1,8,19940323,1054,-43.1623,  53.5597, 3915,   3264.2,   0.9850,  34.7180,2,  34.7150,2,    206.9,2,    208.6,2,  -999.00,9,  -999.00,9,  -999.00,9, -999.000,9, -999.000,9, -999.000,9, -999.000,9,    -0.12,  0.7546,-999.000
       74DI207, DIS94, 12651,  1,7,19940323,1054,-43.1623,  53.5597, 3915,   3367.1,   0.8780,  34.7120,2,  34.7110,2,    209.1,2,    209.4,2,  -999.00,9,  -999.00,9,  -999.00,9, -999.000,9,    0.000,2,    0.000,2,    0.195,2,    -0.15,  0.6404,-999.000
       74DI207, DIS94, 12651,  1,6,19940323,1054,-43.1623,  53.5597, 3915,   3470.6,   0.7750,  34.7060,2,  34.7070,2,    210.9,2,    210.8,2,  -999.00,9,  -999.00,9,  -999.00,9,    0.439,2,    0.000,2,    0.000,2,    0.195,2,    -0.15,  0.5299,   0.779
       74DI207, DIS94, 12651,  1,5,19940323,1054,-43.1623,  53.5597, 3915,   3574.8,   0.6720,  34.7010,2,  34.6990,2,    212.8,2,    212.3,2,  -999.00,9,  -999.00,9,  -999.00,9,    0.265,2,    0.000,2,    0.000,2,    0.195,2,    -0.19,  0.4194,-999.000
       74DI207, DIS94, 12651,  1,4,19940323,1054,-43.1623,  53.5597, 3915,   3677.8,   0.5000,  34.6920,2,  34.6910,2,    215.4,2,    215.2,2,  -999.00,9,  -999.00,9,  -999.00,9,    0.463,2,    0.009,2,    0.000,2,    0.292,2,    -0.18,  0.2419,-999.000
       74DI207, DIS94, 12651,  1,3,19940323,1054,-43.1623,  53.5597, 3915,   3779.4,   0.3810,  34.6840,2,  34.6860,2,    217.3,2,    216.6,2,  -999.00,9,  -999.00,9,  -999.00,9,    0.081,2,    0.000,2,    0.000,2,    0.292,2,    -0.22,  0.1161,   0.399
       74DI207, DIS94, 12651,  1,2,19940323,1054,-43.1623,  53.5597, 3915,   3883.1,   0.2390,  34.6770,2,  34.6780,2,    219.6,2,    218.0,2,  -999.00,9,  -999.00,9,  -999.00,9,    0.086,2,    0.000,2,    0.000,2,    0.292,2,    -0.24, -0.0322,-999.000
       74DI207, DIS94, 12651,  1,1,19940323,1054,-43.1623,  53.5597, 3915,   3979.6,   0.1810,  34.6740,2,  34.6750,2,    221.3,2,    219.9,2,  -999.00,9,  -999.00,9,  -999.00,9,    0.079,2,    0.000,2,    0.000,2,    0.292,2,    -0.25, -0.0983,   0.180
       74DI207, DIS94, 12652,  1,19,19940323,2151,-43.1848,  54.8967, 4240,     14.6,  10.8980,  33.7920,2,  33.8000,2,    277.3,2,    278.6,2,  -999.00,9,  -999.00,9,  -999.00,9, -999.000,9,    1.942,2,    0.414,2,    3.997,2,    -0.36, 10.8962,  10.894
       74DI207, DIS94, 12652,  1,18,19940323,2151,-43.1848,  54.8967, 4240,    508.1,   3.5680,  34.1930,2,  34.1990,2,    239.3,2,    245.4,2,  -999.00,9,  -999.00,9,  -999.00,9, -999.000,9,    1.337,2,    0.242,2,    3.310,2,    -0.17,  3.5335,-999.000
       74DI207, DIS94, 12652,  1,17,19940323,2151,-43.1848,  54.8967, 4240,    913.8,   3.3140,  34.4870,2,  34.4890,2,    184.5,2,    177.6,2,  -999.00,9,  -999.00,9,  -999.00,9,    0.534,2,    0.163,2,    0.022,2,    0.779,2,    -0.13,  3.2503,-999.000
       74DI207, DIS94, 12652,  1,16,19940323,2151,-43.1848,  54.8967, 4240,   1318.9,   2.4670,  34.6000,2,  34.6040,2,    182.2,2,    175.4,2,  -999.00,9,  -999.00,9,  -999.00,9,    0.317,2,    0.000,2,    0.000,2,    0.195,2,    -0.06,  2.3794,-999.000
       74DI207, DIS94, 12652,  1,15,19940323,2151,-43.1848,  54.8967, 4240,   1723.6,   2.3940,  34.7330,2,  34.7280,2,    190.4,2,    188.6,2,  -999.00,9,  -999.00,9,  -999.00,9, -999.000,9, -999.000,9, -999.000,9, -999.000,9,    -0.05,  2.2747,-999.000
       74DI207, DIS94, 12652,  1,14,19940323,2151,-43.1848,  54.8967, 4240,   2129.9,   2.1290,  34.7690,2,  34.7680,2,    195.4,6,    198.8,2,  -999.00,9,  -999.00,9,  -999.00,9,    0.173,2,    0.000,2,    0.000,2,    0.097,2,    -0.04,  1.9790,-999.000
       74DI207, DIS94, 12652,  1,13,19940323,2151,-43.1848,  54.8967, 4240,   2536.6,   1.7830,  34.7620,2,  34.7630,2,    199.6,2,    202.9,2,  -999.00,9,  -999.00,9,  -999.00,9,    0.049,2,    0.000,2,    0.000,2,    0.097,2,    -0.07,  1.6030,-999.000
       74DI207, DIS94, 12652,  1,12,19940323,2151,-43.1848,  54.8967, 4240,   2739.6,   1.6320,  34.7550,2,  34.7560,2,    200.3,2,    203.5,2,  -999.00,9,  -999.00,9,  -999.00,9, -999.000,9,    0.000,2,    0.011,2,    0.097,2,    -0.08,  1.4364,-999.000
       74DI207, DIS94, 12652,  1,11,19940323,2151,-43.1848,  54.8967, 4240,   2942.4,   1.4680,  34.7470,2,  34.7460,2,    202.0,2,    204.6,2,  -999.00,9,  -999.00,9,  -999.00,9,    0.109,2,    0.014,2,    0.000,2,    0.097,2,    -0.09,  1.2570,-999.000
       74DI207, DIS94, 12652,  1,10,19940323,2151,-43.1848,  54.8967, 4240,   3146.2,   1.3070,  34.7370,2,  34.7370,2,    202.5,2,    205.7,2,  -999.00,9,  -999.00,9,  -999.00,9, -999.000,9,    0.000,2,    0.000,2,    0.097,2,    -0.07,  1.0803,-999.000
       74DI207, DIS94, 12652,  1,9,19940323,2151,-43.1848,  54.8967, 4240,   3351.6,   1.0450,  34.7210,2,  34.7220,2,    205.4,2,    207.5,2,  -999.00,9,  -999.00,9,  -999.00,9,    0.143,2,    0.000,2,    0.000,2,    0.195,2,    -0.14,  0.8047,-999.000
       74DI207, DIS94, 12652,  1,8,19940323,2151,-43.1848,  54.8967, 4240,   3506.1,   0.8020,  34.7080,2,  34.7070,2,    209.9,2,    210.6,2,  -999.00,9,  -999.00,9,  -999.00,9, -999.000,9,    0.000,2,    0.015,2,    0.195,2,    -0.16,  0.5528,-999.000
       74DI207, DIS94, 12652,  1,7,19940323,2151,-43.1848,  54.8967, 4240,   3661.2,   0.6090,  34.6970,2,  34.6980,2,    213.5,2,    213.3,2,  -999.00,9,  -999.00,9,  -999.00,9,    0.108,2,    0.013,2,    0.020,2,    0.292,2,    -0.15,  0.3496,-999.000
       74DI207, DIS94, 12652,  1,6,19940323,2151,-43.1848,  54.8967, 4240,   3764.2,   0.5150,  34.6910,2,  34.6910,2,    215.7,2,    215.0,2,  -999.00,9,  -999.00,9,  -999.00,9,    0.084,2,    0.000,2,    0.000,2,    0.292,2,    -0.17,  0.2479,   0.507
       74DI207, DIS94, 12652,  1,5,19940323,2151,-43.1848,  54.8967, 4240,   3867.4,   0.4040,  34.6860,2,  34.6860,2,    217.4,2,    216.4,2,  -999.00,9,  -999.00,9,  -999.00,9,    0.078,2,    0.000,2,    0.006,2,    0.292,2,    -0.22,  0.1297,-999.000
       74DI207, DIS94, 12652,  1,4,19940323,2151,-43.1848,  54.8967, 4240,   3970.1,   0.3450,  34.6820,2,  34.6830,2,    218.8,2,    217.6,2,  -999.00,9,  -999.00,9,  -999.00,9,    0.078,2,    0.000,2,    0.000,2,    0.292,2,    -0.22,  0.0620,-999.000
       74DI207, DIS94, 12652,  1,3,19940323,2151,-43.1848,  54.8967, 4240,   4072.4,   0.2770,  34.6790,2,  34.6790,2,    221.0,2,    220.1,2,  -999.00,9,  -999.00,9,  -999.00,9,    0.087,2,    0.000,2,    0.000,2,    0.486,2,    -0.25, -0.0145,   0.279
       74DI207, DIS94, 12652,  1,2,19940323,2151,-43.1848,  54.8967, 4240,   4176.2,   0.2280,  34.6760,2,  34.6770,2,    222.6,2,    222.5,2,  -999.00,9,  -999.00,9,  -999.00,9,    0.126,2,    0.000,2,    0.000,2,    0.486,2,    -0.27, -0.0727,-999.000
       74DI207, DIS94, 12652,  1,1,19940323,2151,-43.1848,  54.8967, 4240,   4301.9,   0.2280,  34.6750,2,  34.6760,2,    222.5,2,    220.3,2,  -999.00,9,  -999.00,9,  -999.00,9,    0.084,2,    0.007,2,    0.014,2,    0.486,2,    -0.25, -0.0859,   0.227