BOTTLE,20220815CCHSIOAMB
EXPOCODE,SECT_ID,STNNBR,CASTNO,SAMPNO,DATE,TIME,LATITUDE,LONGITUDE,DEPTH,CTDPRS,CTDTMP,CTDSAL,CTDSAL_FLAG_W,SALNTY,SALNTY_FLAG_W,CTDOXY,CTDOXY_FLAG_W,OXYGEN,OXYGEN_FLAG_W,SILCAT,SILCAT_FLAG_W,NITRAT,NITRAT_FLAG_W,PHSPHT,PHSPHT_FLAG_W,CFC-11,CFC-11_FLAG_W,CFC-12,CFC-12_FLAG_W,CFC113,CFC113_FLAG_W,CCL4,CCL4_FLAG_W,DELO18,THETA,REVTMP
,,,,,,,,,,DBAR,ITS-90,PSS-78,,PSS-78,,UMOL/KG,,UMOL/KG,,UMOL/KG,,UMOL/KG,,UMOL/KG,,PMOL/KG,,PMOL/KG,,PMOL/KG,,PMOL/KG,,/MILLE,DEG C,ITS-90
       74DI207, DIS94, 12644,  1,14,19940305,1412,-47.6795,  57.5893, 4510,     26.5,   6.7640,  33.7910,2,  33.7870,2,    310.2,2,    309.6,2,     6.15,2,    21.41,2,     1.45,2,    4.975,2,    2.087,2,    0.440,2,    5.650,2,    -0.38,  6.7617,   6.745
       74DI207, DIS94, 12644,  1,13,19940305,1412,-47.6795,  57.5893, 4510,    609.7,   2.4100,  34.3280,2,  34.3220,2,    212.8,2,    214.4,2,    47.04,2,    32.57,2,     2.21,2,    1.721,2,    0.668,2,    0.088,2,    2.336,2,    -0.19,  2.3735,-999.000
       74DI207, DIS94, 12644,  1,12,19940305,1412,-47.6795,  57.5893, 4510,   1213.8,   2.4050,  34.6730,2,  34.6650,2,    194.7,2,   -999.0,9,    70.91,2,    31.40,2,     2.13,2,    0.175,2,    0.066,2,    0.000,2,    0.389,2,    -0.01,  2.3258,-999.000
       74DI207, DIS94, 12644,  1,11,19940305,1412,-47.6795,  57.5893, 4510,   1706.2,   2.1490,  34.7650,2,  34.7620,2,    202.9,2,    196.8,2,    74.30,2,    28.93,2,     1.95,2,    0.058,2,    0.012,2,    0.000,2,    0.195,2,    -0.04,  2.0342,-999.000
       74DI207, DIS94, 12644,  1,10,19940305,1412,-47.6795,  57.5893, 4510,   2301.4,   1.7340,  34.7790,2,  34.7780,2,    207.3,2,    209.3,2,    81.92,2,    28.07,2,     1.90,2,    0.037,2,    0.005,2,    0.000,2,    0.097,2,    -0.01,  1.5757,-999.000
       74DI207, DIS94, 12644,  1,9,19940305,1412,-47.6795,  57.5893, 4510,   2704.9,   1.6160,  34.7730,2,  34.7710,2,    208.7,2,   -999.0,9,    86.60,2,    28.41,2,     1.91,2,    0.031,2,    0.000,2,    0.000,2,    0.097,2,    -0.04,  1.4239,-999.000
       74DI207, DIS94, 12644,  1,8,19940305,1412,-47.6795,  57.5893, 4510,   3115.4,   1.3490,  34.7490,2,  34.7430,2,    209.4,2,    210.6,2,    99.32,2,    29.67,2,     1.99,2,    0.059,2,    0.012,2,    0.000,2,    0.195,2,    -0.10,  1.1242,-999.000
       74DI207, DIS94, 12644,  1,7,19940305,1412,-47.6795,  57.5893, 4510,   3421.9,   0.9500,  34.7170,2,  34.7150,2,    210.8,2,    210.8,2,   111.40,2,    30.79,2,     2.07,2,    0.054,2,    0.019,2,    0.000,2,    0.195,2,    -0.16,  0.7052,-999.000
       74DI207, DIS94, 12644,  1,6,19940305,1412,-47.6795,  57.5893, 4510,   3680.6,   0.6520,  34.7000,2,  34.6990,2,    213.7,2,    213.0,2,   120.47,2,    31.17,2,     2.11,2,    0.051,2,    0.000,2,    0.000,2,    0.195,2,    -0.18,  0.3895,   0.632
       74DI207, DIS94, 12644,  1,5,19940305,1412,-47.6795,  57.5893, 4510,   3888.9,   0.5080,  34.6920,2,  34.6920,2,    216.1,2,    215.5,2,   124.68,2,    31.40,2,     2.14,2,    0.050,2,    0.000,2,    0.000,2,    0.195,2,    -0.17,  0.2286,-999.000
       74DI207, DIS94, 12644,  1,4,19940305,1412,-47.6795,  57.5893, 4510,   4091.1,   0.3770,  34.6850,2,  34.6840,2,    219.0,2,    218.7,2,   129.27,2,    31.69,2,     2.15,2,    0.046,2,    0.000,2,    0.000,2,    0.292,2,    -0.25,  0.0806,-999.000
       74DI207, DIS94, 12644,  1,3,19940305,1412,-47.6795,  57.5893, 4510,   4228.6,   0.2080,  34.6760,2,  34.6770,2,    222.0,2,    224.2,2,   133.44,2,    31.78,2,     2.16,2,    0.053,2,    0.018,2,    0.000,2,    0.292,2,    -0.24, -0.0976,   0.214
       74DI207, DIS94, 12644,  1,2,19940305,1412,-47.6795,  57.5893, 4510,   4421.0,   0.1200,  34.6720,2,  34.6710,2,    226.2,2,    225.3,2,   136.63,2,    31.86,2,     2.18,2,    0.057,2,    0.017,2,    0.000,2,    0.292,2,    -0.25, -0.2031,-999.000
       74DI207, DIS94, 12644,  1,1,19940305,1412,-47.6795,  57.5893, 4510,   4593.8,   0.0710,  34.6690,2,  34.6690,2,    228.0,2,    227.6,2,   139.58,2,    31.83,2,     2.18,2,    0.054,2,    0.012,2,    0.000,2,    0.292,2,    -0.26, -0.2691,   0.069
       74DI207, DIS94, 12645,  1,13,19940307,0738,-48.0900,  59.1412, 4428,     25.6,   6.9360,  33.8010,2,  33.7990,2,    308.0,2,    308.1,2,     9.16,2,    21.57,2,     1.50,2,    4.519,2,    1.948,2,    0.399,2,    5.261,2,    -0.37,  6.9337,   6.977
       74DI207, DIS94, 12645,  1,12,19940307,0738,-48.0900,  59.1412, 4428,    610.8,   2.3640,  34.3120,2,  34.3110,2,    215.8,2,    217.9,2,    46.98,2,    32.55,2,     2.24,2,    1.790,2,    0.720,2,    0.102,2,    2.531,2,    -0.19,  2.3277,-999.000
       74DI207, DIS94, 12645,  1,11,19940307,0738,-48.0900,  59.1412, 4428,   1220.8,   2.3980,  34.6510,2,  34.6510,2,    192.6,2,   -999.0,9,    72.42,2,    31.65,2,     2.17,2,    0.227,2,    0.083,2,    0.000,2,    0.487,2,    -0.05,  2.3184,-999.000
       74DI207, DIS94, 12645,  1,10,19940307,0738,-48.0900,  59.1412, 4428,   1726.7,   2.2050,  34.7570,2,  34.7560,2,    200.4,2,    194.3,2,    74.98,2,    28.99,2,     2.06,2,    0.096,2,    0.016,2,    0.000,2,    0.195,2,    -0.04,  2.0878,-999.000
       74DI207, DIS94, 12645,  1,9,19940307,0738,-48.0900,  59.1412, 4428,   2339.4,   1.7290,  34.7640,2,  34.7640,2,    203.8,2,    203.4,2,    86.23,2,    28.58,2,     1.98,2,    0.055,2,    0.000,2,    0.000,2,    0.097,2,    -0.06,  1.5675,-999.000
       74DI207, DIS94, 12645,  1,8,19940307,0738,-48.0900,  59.1412, 4428,   2745.4,   1.3490,  34.7440,2,  34.7460,2,    205.8,2,    204.6,2,    96.24,2,    29.26,2,     2.03,2,    0.063,2,    0.012,2,    0.000,2,    0.097,2,    -0.08,  1.1587,-999.000
       74DI207, DIS94, 12645,  1,7,19940307,0738,-48.0900,  59.1412, 4428,   3053.6,   1.0600,  34.7240,2,  34.7240,2,    208.2,2,    217.7,2,   107.00,2,    30.22,2,     2.11,2,    0.083,2,    0.016,2,    0.000,2,    0.195,2,    -0.10,  0.8477,-999.000
       74DI207, DIS94, 12645,  1,6,19940307,0738,-48.0900,  59.1412, 4428,   3309.8,   0.8220,  34.7090,2,  34.7080,2,    210.4,2,    210.5,2,   114.50,2,    30.60,2,     2.14,2,    0.075,2,    0.014,2,    0.000,2,    0.195,2,    -0.15,  0.5912,-999.000
       74DI207, DIS94, 12645,  1,5,19940307,0738,-48.0900,  59.1412, 4428,   3567.9,   0.6290,  34.6980,2,  34.6980,2,    212.9,2,    212.3,2,   121.00,2,    31.03,2,     2.18,2,    0.058,2,    0.014,2,    0.000,2,    0.195,2,    -0.17,  0.3782,   0.617
       74DI207, DIS94, 12645,  1,4,19940307,0738,-48.0900,  59.1412, 4428,   3825.9,   0.5040,  34.6910,2,  34.6920,2,    215.4,2,   -999.0,9,   125.78,2,    31.40,2,     2.18,2,    0.054,2,    0.009,2,    0.000,2,    0.195,2,    -0.18,  0.2310,-999.000
       74DI207, DIS94, 12645,  1,3,19940307,0738,-48.0900,  59.1412, 4428,   4080.2,   0.4100,  34.6850,2,  34.6860,2,    217.9,2,    217.3,2,   128.74,2,    31.52,2,     2.18,2,    0.061,2,    0.013,2,    0.000,2,    0.292,2,    -0.24,  0.1138,   0.423
       74DI207, DIS94, 12645,  1,2,19940307,0738,-48.0900,  59.1412, 4428,   4286.2,   0.2560,  34.6760,2,  34.6760,2,    221.3,2,    219.9,2,   133.01,2,    31.57,2,     2.20,2,    0.062,2,    0.019,2,    0.000,2,    0.292,2,    -0.23, -0.0571,-999.000
       74DI207, DIS94, 12645,  1,1,19940307,0738,-48.0900,  59.1412, 4428,   4504.5,   0.0160,  34.6650,2,  34.6660,2,    226.8,2,    226.8,2,   140.39,2,    31.72,2,     2.25,2,    0.069,2,    0.021,2,    0.000,2,    0.389,2,    -0.25, -0.3127,   0.014
       74DI207, DIS94, 12646,  1,14,19940307,1717,-48.2808,  60.0095, 4453,     32.8,   6.1040,  33.8330,2,  33.8320,2,    306.2,2,    305.8,2,     4.12,2,    21.87,2,     1.51,2,    4.633,2,    2.012,2,    0.398,2,    5.455,2,    -0.35,  6.1013,   6.086
       74DI207, DIS94, 12646,  1,13,19940307,1717,-48.2808,  60.0095, 4453,    708.8,   2.4050,  34.4030,2,  34.4230,2,    191.3,2,    186.5,2,    58.84,2,    33.56,2,     2.31,2,    0.922,2,    0.335,2,    0.045,2,    1.557,2,    -0.14,  2.3620,-999.000
       74DI207, DIS94, 12646,  1,12,19940307,1717,-48.2808,  60.0095, 4453,   1294.6,   2.3560,  34.6820,2,  34.6770,2,    184.0,2,    179.3,2,    73.33,2,    31.21,2,     2.14,2,    0.183,2,    0.061,2,    0.000,2,    0.389,2,    -0.05,  2.2712,-999.000
       74DI207, DIS94, 12646,  1,11,19940307,1717,-48.2808,  60.0095, 4453,   1794.2,   2.1260,  34.7630,2,  34.7560,2,    194.2,2,    195.1,2,    77.45,2,    29.14,2,     1.98,2,    0.077,2,    0.010,2,    0.000,2,    0.195,2,    -0.02,  2.0044,-999.000
       74DI207, DIS94, 12646,  1,10,19940307,1717,-48.2808,  60.0095, 4453,   2251.9,   1.7060,  34.7620,2,  34.7640,2,    198.6,2,   -999.0,9,    85.89,2,    28.91,2,     1.97,2,    0.062,2,    0.014,2,    0.000,2,    0.097,2,    -0.07,  1.5525,-999.000
       74DI207, DIS94, 12646,  1,9,19940307,1717,-48.2808,  60.0095, 4453,   2714.2,   1.2590,  34.7390,2,  34.7380,2,    200.8,2,    207.0,2,   100.85,2,    30.03,2,     2.04,2,    0.055,2,    0.000,2,    0.000,2,    0.195,2,    -0.11,  1.0734,-999.000
       74DI207, DIS94, 12646,  1,8,19940307,1717,-48.2808,  60.0095, 4453,   3165.8,   0.9060,  34.7160,2,  34.7160,2,    205.5,2,    208.9,2,   111.78,2,    30.63,2,     2.10,2,    0.053,2,    0.000,2,    0.000,2,    0.195,2,    -0.14,  0.6868,-999.000
       74DI207, DIS94, 12646,  1,7,19940307,1717,-48.2808,  60.0095, 4453,   3420.1,   0.7320,  34.7060,2,  34.7050,2,    209.2,2,    217.1,2,   117.58,2,    31.00,2,     2.13,2,    0.047,2,    0.000,2,    0.000,2,    0.195,2,    -0.14,  0.4929,-999.000
       74DI207, DIS94, 12646,  1,6,19940307,1717,-48.2808,  60.0095, 4453,   3675.9,   0.5980,  34.6970,2,  34.6980,2,    213.0,2,    215.0,2,   122.17,2,    31.16,2,     2.15,2,    0.044,2,    0.000,2,    0.000,2,    0.195,2,    -0.19,  0.3374,   0.609
       74DI207, DIS94, 12646,  1,5,19940307,1717,-48.2808,  60.0095, 4453,   3881.9,   0.5190,  34.6930,2,  34.6930,2,    215.5,2,    214.8,2,   125.05,2,    31.35,2,     2.16,2,    0.042,2,    0.024,2,    0.000,2,    0.195,2,    -0.18,  0.2400,-999.000
       74DI207, DIS94, 12646,  1,4,19940307,1717,-48.2808,  60.0095, 4453,   4036.8,   0.4630,  34.6900,2,  34.6900,2,    218.1,2,    215.9,2,   127.06,2,    31.39,2,     2.16,2,    0.046,2,    0.000,2,    0.000,2,    0.195,2,    -0.22,  0.1697,-999.000
       74DI207, DIS94, 12646,  1,3,19940307,1717,-48.2808,  60.0095, 4453,   4194.0,   0.3480,  34.6830,2,  34.6820,2,    220.9,2,    218.0,2,   128.98,2,    31.47,2,     2.17,2,    0.060,2,    0.010,2,    0.000,2,    0.292,2,    -0.21,  0.0418,   0.355
       74DI207, DIS94, 12646,  1,2,19940307,1717,-48.2808,  60.0095, 4453,   4350.8,   0.1700,  34.6740,2,  34.6740,2,    224.9,2,    222.9,2,   133.63,2,    32.08,2,     2.20,2,    0.060,2,    0.000,2,    0.000,2,    0.292,2,    -0.22, -0.1472,-999.000
       74DI207, DIS94, 12646,  1,1,19940307,1717,-48.2808,  60.0095, 4453,   4536.9,  -0.0180,  34.6640,2,  34.6660,2,    231.1,2,    228.1,2,   140.79,2,    31.90,2,     2.20,2,    0.074,2,    0.019,2,    0.000,2,    0.389,2,    -0.27, -0.3491,  -0.019
       74DI207, DIS94, 12647,  1,12,19940314,0913,-66.0392,  84.5523,  440,      6.7,  -1.2970,  33.7390,2,-999.0000,9,    167.3,2,   -999.0,9,  -999.00,9,  -999.00,9,  -999.00,9,    6.028,2,    2.744,2,    0.694,2,    5.355,2,    -0.44, -1.2971,  -1.298
       74DI207, DIS94, 12647,  1,11,19940314,0913,-66.0392,  84.5523,  440,     43.5,  -0.9820,  33.8290,2,  34.0140,2,    166.9,2,   -999.0,9,  -999.00,9,  -999.00,9,  -999.00,9,    5.957,2,    2.632,2,    0.659,2,    5.841,2,    -0.46, -0.9831,-999.000
       74DI207, DIS94, 12647,  1,10,19940314,0913,-66.0392,  84.5523,  440,     83.8,  -1.6160,  34.2390,2,  34.5760,2,    151.5,2,   -999.0,9,  -999.00,9,  -999.00,9,  -999.00,9,    5.599,2,    2.313,2,    0.546,2,    5.644,2,    -0.57, -1.6178,-999.000
       74DI207, DIS94, 12647,  1,9,19940314,0913,-66.0392,  84.5523,  440,    124.6,  -1.7650,  34.3270,2,  34.8680,2,    146.1,2,   -999.0,9,  -999.00,9,  -999.00,9,  -999.00,9,    5.510,2,    2.265,2,    0.506,2,    5.352,2,    -0.57, -1.7675,-999.000
       74DI207, DIS94, 12647,  1,8,19940314,0913,-66.0392,  84.5523,  440,    164.2,  -1.8020,  34.3480,2,  34.8820,2,    143.5,2,   -999.0,9,  -999.00,9,  -999.00,9,  -999.00,9,    5.480,2,    2.225,2,    0.499,2,    5.255,2,    -0.57, -1.8054,-999.000
       74DI207, DIS94, 12647,  1,7,19940314,0913,-66.0392,  84.5523,  440,    204.9,  -1.8050,  34.3630,2,  34.8690,2,    143.0,2,   -999.0,9,  -999.00,9,  -999.00,9,  -999.00,9,    5.439,2,    2.143,2,    0.505,2,    5.157,2,    -0.54, -1.8093,-999.000
       74DI207, DIS94, 12647,  1,6,19940314,0913,-66.0392,  84.5523,  440,    245.4,  -1.7630,  34.3750,2,  34.8370,2,    142.9,2,   -999.0,9,  -999.00,9,  -999.00,9,  -999.00,9,    5.411,2,    2.156,2,    0.489,2,    5.157,2,    -0.56, -1.7683,-999.000
       74DI207, DIS94, 12647,  1,5,19940314,0913,-66.0392,  84.5523,  440,    285.5,  -1.7500,  34.3890,2,  34.7720,2,    143.9,2,   -999.0,9,  -999.00,9,  -999.00,9,  -999.00,9,    5.442,2,    2.157,2,    0.492,2,    5.060,2,    -0.51, -1.7564,-999.000
       74DI207, DIS94, 12647,  1,4,19940314,0913,-66.0392,  84.5523,  440,    325.6,  -1.7170,  34.3990,2,  34.8800,2,    143.5,2,   -999.0,9,  -999.00,9,  -999.00,9,  -999.00,9, -999.000,9, -999.000,9, -999.000,9, -999.000,9,    -0.53, -1.7245,  -1.719
       74DI207, DIS94, 12647,  1,3,19940314,0913,-66.0392,  84.5523,  440,    366.5,  -1.8160,  34.4110,2,  34.9590,2,    144.3,2,   -999.0,9,  -999.00,9,  -999.00,9,  -999.00,9,    5.445,2,    2.152,2,    0.473,2,    4.865,2,    -0.50, -1.8243,-999.000
       74DI207, DIS94, 12647,  1,2,19940314,0913,-66.0392,  84.5523,  440,    406.0,  -1.7280,  34.4350,2,  34.9490,2,    140.7,2,   -999.0,9,  -999.00,9,  -999.00,9,  -999.00,9,    5.279,2,    2.078,2,    0.437,2,    4.476,2,    -0.52, -1.7376,-999.000
       74DI207, DIS94, 12647,  1,1,19940314,0913,-66.0392,  84.5523,  440,    431.5,  -1.6470,  34.4610,2,  34.9510,2,    134.0,2,   -999.0,9,  -999.00,9,  -999.00,9,  -999.00,9,    5.209,2,    2.042,2,    0.440,2,    4.184,2,    -0.48, -1.6577,  -1.649
       74DI207, DIS94, 12648,  1,12,19940314,1256,-65.5318,  84.6315, 2365,     14.1,  -0.7890,  33.8540,2,  33.8590,2,    161.8,2,   -999.0,9,  -999.00,9,  -999.00,9,  -999.00,9,    6.015,2,    2.830,2,    0.724,2,    5.257,2,    -0.42, -0.7894,  -0.754
       74DI207, DIS94, 12648,  1,11,19940314,1256,-65.5318,  84.6315, 2365,     53.8,  -1.0650,  34.0440,2,  34.0580,2,    165.4,2,   -999.0,9,  -999.00,9,  -999.00,9,  -999.00,9,    5.606,2,    2.135,2,    0.547,2,    6.132,2,    -0.37, -1.0664,-999.000
       74DI207, DIS94, 12648,  1,10,19940314,1256,-65.5318,  84.6315, 2365,    104.2,  -1.6280,  34.3640,2,  34.3540,2,    155.2,2,   -999.0,9,  -999.00,9,  -999.00,9,  -999.00,9,    5.177,2,    2.018,2,    0.449,2,    5.157,2,    -0.41, -1.6302,-999.000
       74DI207, DIS94, 12648,  1,9,19940314,1256,-65.5318,  84.6315, 2365,    204.9,  -1.1830,  34.4470,2,  34.4600,2,    148.6,2,   -999.0,9,  -999.00,9,  -999.00,9,  -999.00,9,    4.542,2,    1.824,2,    0.358,2,    4.087,2,    -0.31, -1.1884,-999.000
       74DI207, DIS94, 12648,  1,8,19940314,1256,-65.5318,  84.6315, 2365,    506.8,   0.5520,  34.6740,2,  34.6810,2,    118.6,2,   -999.0,9,  -999.00,9,  -999.00,9,  -999.00,9,    1.017,2,    0.416,2,    0.055,2,    1.168,2,    -0.19,  0.5295,-999.000
       74DI207, DIS94, 12648,  1,7,19940314,1256,-65.5318,  84.6315, 2365,    813.2,   0.5320,  34.6960,2,  34.6960,2,    118.0,2,   -999.0,9,  -999.00,9,  -999.00,9,  -999.00,9,    0.582,2,    0.230,2,    0.035,2,    0.876,2,    -0.13,  0.4938,-999.000
       74DI207, DIS94, 12648,  1,6,19940314,1256,-65.5318,  84.6315, 2365,   1118.8,   0.2640,  34.6850,2,  34.6830,2,    118.6,2,   -999.0,9,  -999.00,9,  -999.00,9,  -999.00,9,    0.555,2,    0.213,2,    0.020,2,    0.876,2,    -0.21,  0.2109,-999.000
       74DI207, DIS94, 12648,  1,5,19940314,1256,-65.5318,  84.6315, 2365,   1525.3,   0.0780,  34.6790,2,  34.6780,2,    119.2,2,   -999.0,9,  -999.00,9,  -999.00,9,  -999.00,9,    0.633,2,    0.231,2,    0.020,2,    0.973,2,    -0.23,  0.0026,-999.000
       74DI207, DIS94, 12648,  1,4,19940314,1256,-65.5318,  84.6315, 2365,   1830.4,   0.0280,  34.6780,2,  34.6770,2,    119.1,2,   -999.0,9,  -999.00,9,  -999.00,9,  -999.00,9,    0.700,2,    0.297,2,    0.024,2,    1.070,2,    -0.26, -0.0665,   0.023
       74DI207, DIS94, 12648,  1,3,19940314,1256,-65.5318,  84.6315, 2365,   2135.9,  -0.0310,  34.6760,2,  34.6760,2,    120.0,2,   -999.0,9,  -999.00,9,  -999.00,9,  -999.00,9,    0.776,2,    0.321,2,    0.026,2,    1.167,2,    -0.23, -0.1458,-999.000
       74DI207, DIS94, 12648,  1,2,19940314,1256,-65.5318,  84.6315, 2365,   2309.1,  -0.0670,  34.6760,2,  34.6770,2,    119.9,2,   -999.0,9,  -999.00,9,  -999.00,9,  -999.00,9,    0.800,2,    0.302,2,    0.024,2,    1.167,2,    -0.19, -0.1939,  -0.046
       74DI207, DIS94, 12648,  1,1,19940314,1256,-65.5318,  84.6315, 2365,   2411.1,  -0.1530,  34.6760,2,  34.6760,2,    120.6,2,   -999.0,9,  -999.00,9,  -999.00,9,  -999.00,9,    1.049,2,    0.433,2,    0.041,2,    1.362,2,    -0.24, -0.2859,  -0.164