BOTTLE,20220815CCHSIOAMB
EXPOCODE,SECT_ID,STNNBR,CASTNO,SAMPNO,DATE,TIME,LATITUDE,LONGITUDE,DEPTH,CTDPRS,CTDTMP,CTDSAL,CTDSAL_FLAG_W,SALNTY,SALNTY_FLAG_W,CTDOXY,CTDOXY_FLAG_W,OXYGEN,OXYGEN_FLAG_W,SILCAT,SILCAT_FLAG_W,NITRAT,NITRAT_FLAG_W,PHSPHT,PHSPHT_FLAG_W,CFC-11,CFC-11_FLAG_W,CFC-12,CFC-12_FLAG_W,CFC113,CFC113_FLAG_W,CCL4,CCL4_FLAG_W,DELO18,THETA,REVTMP
,,,,,,,,,,DBAR,ITS-90,PSS-78,,PSS-78,,UMOL/KG,,UMOL/KG,,UMOL/KG,,UMOL/KG,,UMOL/KG,,PMOL/KG,,PMOL/KG,,PMOL/KG,,PMOL/KG,,/MILLE,DEG C,ITS-90
       74DI207, DIS94, 12657,  1,18,19940328,0706,-28.9083,  54.7540, 4891,     13.1,  23.6630,  35.6530,2,  35.6750,2,    212.4,2,    213.6,2,     2.76,2,     0.21,2,     0.08,2,    2.273,2,    1.038,2,    0.243,2,    2.831,2,     0.67, 23.6603,  23.661
       74DI207, DIS94, 12657,  1,17,19940328,0706,-28.9083,  54.7540, 4891,    507.5,  11.9880,  35.0820,2,  35.0950,2,    224.5,2,    227.0,2,     5.06,2,    10.78,2,     0.80,2,    2.993,2,    1.270,2,    0.086,2,    1.461,2,     0.39, 11.9209,-999.000
       74DI207, DIS94, 12657,  1,16,19940328,0706,-28.9083,  54.7540, 4891,   1116.2,   4.5660,  34.4200,2,  34.4150,2,    197.1,2,    196.5,2,    36.64,2,    30.03,2,     2.03,2,    0.496,2,    0.182,2,    0.000,2,    1.363,2,    -0.08,  4.4759,-999.000
       74DI207, DIS94, 12657,  1,15,19940328,0706,-28.9083,  54.7540, 4891,   1521.1,   3.0750,  34.5890,2,  34.5890,2,    168.0,2,    162.1,2,    73.66,2,    32.88,2,     2.29,2,    0.000,2,    0.000,2,    0.000,2,    0.195,2,  -999.00,  2.9645,-999.000
       74DI207, DIS94, 12657,  1,14,19940328,0706,-28.9083,  54.7540, 4891,   2129.4,   2.3660,  34.7260,2,  34.7260,2,    176.3,2,    176.3,2,    88.17,2,    31.15,2,     2.17,2,    0.000,2,    0.000,2,    0.000,2,    0.000,2,    -0.04,  2.2124,-999.000
       74DI207, DIS94, 12657,  1,13,19940328,0706,-28.9083,  54.7540, 4891,   2533.8,   2.1270,  34.7530,2,  34.7520,2,    175.8,2,    176.8,2,    99.20,2,    31.27,2,     2.18,2,    0.000,2,    0.000,2,    0.000,2,    0.000,2,    -0.04,  1.9408,-999.000
       74DI207, DIS94, 12657,  1,12,19940328,0706,-28.9083,  54.7540, 4891,   2837.6,   1.9410,  34.7520,2,  34.7490,2,    174.4,2,    175.6,2,   107.70,2,    31.70,2,     2.23,2,    0.000,2,    0.000,2,    0.000,2,    0.000,2,    -0.05,  1.7299,-999.000
       74DI207, DIS94, 12657,  1,11,19940328,0706,-28.9083,  54.7540, 4891,   3141.6,   1.6770,  34.7420,2,  34.7400,2,    179.2,2,    179.2,2,   115.09,2,    32.07,2,     2.24,2,    0.000,2, -999.000,9,    0.000,2,    0.000,2,    -0.08,  1.4422,-999.000
       74DI207, DIS94, 12657,  1,10,19940328,0706,-28.9083,  54.7540, 4891,   3446.6,   1.4250,  34.7300,2,  34.7280,2,    185.1,2,    186.0,2,   118.92,2,    32.17,2,     2.25,2,    0.000,2,    0.000,2,    0.000,2,    0.000,2,  -999.00,  1.1659,-999.000
       74DI207, DIS94, 12657,  1,9,19940328,0706,-28.9083,  54.7540, 4891,   3653.6,   1.2970,  34.7250,2,  34.7250,2,    190.3,2,    191.6,2,   119.06,2,    31.95,2,     2.23,2,    0.000,2,    0.000,2,    0.000,2,    0.000,2,    -0.08,  1.0201,-999.000
       74DI207, DIS94, 12657,  1,8,19940328,0706,-28.9083,  54.7540, 4891,   3861.8,   1.1990,  34.7220,2,  34.7200,2,    194.5,2,    195.4,2,   118.97,2,    31.75,2,     2.22,2,    0.000,2,    0.000,2,    0.000,2,    0.000,2,    -0.13,  0.9030,-999.000
       74DI207, DIS94, 12657,  1,7,19940328,0706,-28.9083,  54.7540, 4891,   4069.6,   1.1030,  34.7180,2,  34.7170,2,    199.2,2,    199.8,2,   119.48,2,    31.53,2,     2.21,2,    0.007,2,    0.000,2,    0.000,2,    0.097,2,    -0.09,  0.7877,-999.000
       74DI207, DIS94, 12657,  1,6,19940328,0706,-28.9083,  54.7540, 4891,   4277.0,   1.0150,  34.7140,2,  34.7150,2,    203.0,2,    203.8,2,   119.46,2,    31.43,2,     2.19,2,    0.037,2,    0.000,2,    0.000,2,    0.097,2,    -0.13,  0.6798,   1.008
       74DI207, DIS94, 12657,  1,5,19940328,0706,-28.9083,  54.7540, 4891,   4486.9,   0.9620,  34.7110,2,  34.7110,2,    204.9,2,    205.2,2,   120.84,2,    31.46,2,     2.19,2,    0.044,2,    0.000,2,    0.000,2,    0.097,2,    -0.13,  0.6051,-999.000
       74DI207, DIS94, 12657,  1,4,19940328,0706,-28.9083,  54.7540, 4891,   4692.5,   0.9390,  34.7090,2,  34.7080,2,    206.5,2,    206.0,2,   122.16,2,    31.53,2,     2.19,2,    0.133,2,    0.000,2,    0.000,2,    0.097,2,    -0.12,  0.5595,-999.000
       74DI207, DIS94, 12657,  1,3,19940328,0706,-28.9083,  54.7540, 4891,   4791.0,   0.9360,  34.7080,2,  34.7080,2,    207.5,2,    206.2,2,   122.25,2,    31.61,2,     2.20,2, -999.000,9,    0.000,2,    0.000,2,    0.097,2,    -0.13,  0.5453,   0.956
       74DI207, DIS94, 12657,  1,2,19940328,0706,-28.9083,  54.7540, 4891,   4885.2,   0.9360,  34.7070,2,  34.7080,2,    208.6,2,    206.7,2,   121.68,2,    31.67,2,     2.19,2, -999.000,9,    0.000,2,    0.000,2,    0.097,2,    -0.13,  0.5343,-999.000
       74DI207, DIS94, 12657,  1,1,19940328,0706,-28.9083,  54.7540, 4891,   5018.0,   0.9330,  34.7060,2,  34.7060,2,    208.6,2,    206.9,2,   122.93,2,    31.66,2,     2.20,2, -999.000,9,    0.000,2, -999.000,9,    0.097,2,    -0.16,  0.5157,   0.931
       74DI207, DIS94, 12658,  1,18,19940328,1521,-28.5198,  55.4885, 4845,     14.8,  24.4500,  35.4590,2,  35.4450,2,    217.5,2,    210.7,2,     1.87,2,     0.19,2,     0.06,2,    2.151,2,    0.914,2,    0.191,2,    2.442,2,     0.62, 24.4468,  24.431
       74DI207, DIS94, 12658,  1,17,19940328,1521,-28.5198,  55.4885, 4845,    404.0,  12.6500,  35.1910,2,  35.2060,2,    222.5,2,    225.7,2,     4.34,2,     9.30,2,     0.72,2, -999.000,9,    1.159,2,    0.094,2,    1.364,2,     0.36, 12.5949,-999.000
       74DI207, DIS94, 12658,  1,16,19940328,1521,-28.5198,  55.4885, 4845,    813.2,   8.1190,  34.6000,2,  34.6090,2,    206.0,2,    206.1,2,    11.93,2,    21.25,2,     1.49,2, -999.000,9, -999.000,9, -999.000,9, -999.000,9,     0.01,  8.0332,-999.000
       74DI207, DIS94, 12658,  1,15,19940328,1521,-28.5198,  55.4885, 4845,   1117.6,   4.5140,  34.4280,2,  34.4220,2,    189.0,2,    187.3,2,    36.80,2,    30.10,2,     2.11,2, -999.000,9, -999.000,9, -999.000,9, -999.000,9,    -0.12,  4.4242,-999.000
       74DI207, DIS94, 12658,  1,14,19940328,1521,-28.5198,  55.4885, 4845,   1676.4,   2.7680,  34.6390,2,  34.6430,2,    167.0,2,    164.6,2,    80.60,2,    32.65,2,     2.31,2, -999.000,9,    0.000,2,    0.000,2,    0.097,2,    -0.06,  2.6480,-999.000
       74DI207, DIS94, 12658,  1,13,19940328,1521,-28.5198,  55.4885, 4845,   2235.9,   2.2930,  34.7420,2,  34.7400,2,    174.9,2,    172.0,2,    89.44,2,    31.41,2,     2.16,2, -999.000,9,    0.000,2, -999.000,9,    0.000,2,    -0.03,  2.1310,-999.000
       74DI207, DIS94, 12658,  1,12,19940328,1521,-28.5198,  55.4885, 4845,   2644.4,   2.0560,  34.7510,2,  34.7520,2,    171.9,2,    174.9,2,   102.36,2,    31.57,2,     2.23,2, -999.000,9,    0.000,2, -999.000,9,    0.000,2,    -0.09,  1.8609,-999.000
       74DI207, DIS94, 12658,  1,11,19940328,1521,-28.5198,  55.4885, 4845,   2950.2,   1.8310,  34.7440,2,  34.7450,2,    171.9,2,    172.9,2,   113.25,2,    32.33,2,     2.30,2, -999.000,9,    0.000,2, -999.000,9,    0.000,2,    -0.05,  1.6114,-999.000
       74DI207, DIS94, 12658,  1,10,19940328,1521,-28.5198,  55.4885, 4845,   3256.4,   1.5870,  34.7360,2,  34.7350,2,    178.9,2,    179.2,2,   116.65,2,    32.24,2,     2.28,2, -999.000,9, -999.000,9, -999.000,9, -999.000,9,    -0.09,  1.3430,-999.000
       74DI207, DIS94, 12658,  1,9,19940328,1521,-28.5198,  55.4885, 4845,   3563.6,   1.3690,  34.7260,2,  34.7270,2,    185.6,2,    187.0,2,   118.13,2,    32.01,2,     2.26,2, -999.000,9,    0.000,2, -999.000,9,    0.000,2,    -0.09,  1.0994,-999.000
       74DI207, DIS94, 12658,  1,8,19940328,1521,-28.5198,  55.4885, 4845,   3769.4,   1.2310,  34.7230,2,  34.7220,2,    192.6,2,    195.0,2,   117.15,2,    31.63,2,     2.23,2,    0.000,2,    0.000,2, -999.000,9,    0.097,2,    -0.11,  0.9438,-999.000
       74DI207, DIS94, 12658,  1,7,19940328,1521,-28.5198,  55.4885, 4845,   3972.9,   1.1170,  34.7190,2,  34.7180,2,    198.5,2,    200.0,2,   117.38,2,    31.38,2,     2.21,2, -999.000,9,    0.000,2, -999.000,9,    0.097,2,    -0.11,  0.8116,-999.000
       74DI207, DIS94, 12658,  1,6,19940328,1521,-28.5198,  55.4885, 4845,   4180.0,   1.0230,  34.7150,2,  34.7150,2,    202.1,2,    203.0,2,   118.15,2,    31.39,2,     2.20,2, -999.000,9,    0.000,2,    0.000,2,    0.097,2,    -0.13,  0.6981,   1.031
       74DI207, DIS94, 12658,  1,5,19940328,1521,-28.5198,  55.4885, 4845,   4385.5,   0.9680,  34.7120,2,  34.7110,2,    204.9,2,    205.3,2,   119.44,2,    31.40,2,     2.19,2, -999.000,9,    0.000,2,    0.000,2,    0.097,2,    -0.17,  0.6222,-999.000
       74DI207, DIS94, 12658,  1,4,19940328,1521,-28.5198,  55.4885, 4845,   4591.2,   0.9350,  34.7090,2,  34.7090,2,    207.2,2,    206.1,2,   120.23,2,    31.60,2,     2.20,2, -999.000,9,    0.000,2,    0.000,2,    0.097,2,    -0.15,  0.5672,-999.000
       74DI207, DIS94, 12658,  1,3,19940328,1521,-28.5198,  55.4885, 4845,   4693.0,   0.9280,  34.7080,2,  34.7080,2,    208.5,2,    207.0,2,   121.25,2,    31.58,2,     2.20,2, -999.000,9,    0.000,2,    0.000,2,    0.097,2,    -0.17,  0.5488,   0.928
       74DI207, DIS94, 12658,  1,2,19940328,1521,-28.5198,  55.4885, 4845,   4797.0,   0.9270,  34.7080,2,  34.7080,2,    209.7,2,    207.2,2,   121.02,2,    31.47,2,     2.20,2,    0.031,2,    0.000,2,    0.000,2,    0.097,2,    -0.17,  0.5359,-999.000
       74DI207, DIS94, 12658,  1,1,19940328,1521,-28.5198,  55.4885, 4845,   4925.2,   0.9290,  34.7070,2,  34.7060,2,    209.6,2,    208.0,2,   121.68,2,    31.45,2,     2.20,2,    0.040,2,    0.000,2,    0.000,2,    0.097,2,    -0.18,  0.5228,   0.927
       74DI207, DIS94, 12659,  1,18,19940328,2307,-28.0815,  56.0875, 5000,     14.8,  24.9420,  35.2910,2,  35.3020,2,    211.9,2,    210.2,2,     1.98,2,     0.17,2,     0.05,2,    3.376,2,    0.986,2,    0.193,2,    2.247,2,     0.53, 24.9388,  24.945
       74DI207, DIS94, 12659,  1,17,19940328,2307,-28.0815,  56.0875, 5000,    406.8,  13.0710,  35.2600,2,  35.2500,2,    222.4,2,    227.4,2,     9.91,2,     8.64,2,     0.69,2,    3.189,2,    1.260,2,    0.113,2,    1.266,2,     0.46, 13.0143,-999.000
       74DI207, DIS94, 12659,  1,16,19940328,2307,-28.0815,  56.0875, 5000,    811.5,   8.6140,  34.6490,2,  34.6490,2,    209.0,2,    208.5,2,    37.18,2,    20.14,2,     1.40,2,    1.752,2,    0.709,2,    0.036,2,    1.363,2,     0.15,  8.5254,-999.000
       74DI207, DIS94, 12659,  1,15,19940328,2307,-28.0815,  56.0875, 5000,   1115.2,   4.4930,  34.4140,2,  34.4160,2,    194.8,2,    190.2,2,    80.68,2,    30.25,2,     2.10,2,    0.589,2,    0.191,2,    0.000,2,    1.168,2,    -0.10,  4.4036,-999.000
       74DI207, DIS94, 12659,  1,14,19940328,2307,-28.0815,  56.0875, 5000,   1725.2,   2.7700,  34.6430,2,  34.6450,2,    168.2,2,    165.3,2,    59.55,2,    32.58,2,     2.30,2,    0.031,2,    0.000,2,    0.000,2,    0.097,2,    -0.05,  2.6458,-999.000
       74DI207, DIS94, 12659,  1,13,19940328,2307,-28.0815,  56.0875, 5000,   2235.6,   2.3150,  34.7370,2,  34.7370,2,    176.4,2,    177.1,2,    89.34,2,    30.98,2,     2.18,2,    0.040,2,    0.000,2,    0.000,2,    0.000,2,    -0.03,  2.1527,-999.000
       74DI207, DIS94, 12659,  1,12,19940328,2307,-28.0815,  56.0875, 5000,   2541.1,   2.1650,  34.7550,2,  34.7530,2,    177.2,2,    177.3,2,    96.79,2,    31.13,2,     2.19,2,    0.061,2,    0.000,2,    0.000,2,    0.000,2,    -0.04,  1.9774,-999.000
       74DI207, DIS94, 12659,  1,11,19940328,2307,-28.0815,  56.0875, 5000,   2846.9,   1.9920,  34.7620,2,  34.7580,2,    183.3,2,   -999.0,9,   100.06,2,    30.88,2,     2.18,2, -999.000,9,    0.000,2, -999.000,9,    0.000,2,    -0.06,  1.7789,-999.000
       74DI207, DIS94, 12659,  1,10,19940328,2307,-28.0815,  56.0875, 5000,   3154.1,   1.6650,  34.7430,2,  34.7410,2,    181.2,2,    180.7,2,   113.39,2,    31.93,2,     2.25,2,    0.069,2,    0.000,2,    0.000,2,    0.000,2,    -0.11,  1.4292,-999.000
       74DI207, DIS94, 12659,  1,9,19940328,2307,-28.0815,  56.0875, 5000,   3459.9,   1.3910,  34.7290,2,  34.7290,2,    187.5,2,    186.9,2,   118.53,2,    32.06,2,     2.25,2, -999.000,9, -999.000,9, -999.000,9, -999.000,9,    -0.09,  1.1314,-999.000
       74DI207, DIS94, 12659,  1,8,19940328,2307,-28.0815,  56.0875, 5000,   3768.2,   1.2120,  34.7220,2,  34.7210,2,    193.5,2,    199.3,2,   120.05,2,    31.94,2,     2.24,2,    0.000,2,    0.000,2,    0.000,2,    0.000,2,    -0.15,  0.9255,-999.000
       74DI207, DIS94, 12659,  1,7,19940328,2307,-28.0815,  56.0875, 5000,   4075.1,   1.0780,  34.7170,2,  34.7160,2,    200.2,2,    199.5,2,   119.91,2,    31.59,2,     2.23,2, -999.000,9,    0.000,2,    0.000,2,    0.097,2,    -0.12,  0.7628,-999.000
       74DI207, DIS94, 12659,  1,6,19940328,2307,-28.0815,  56.0875, 5000,   4281.1,   1.0070,  34.7150,2,  34.7130,2,    204.7,2,    204.3,2,   118.83,2,    31.14,2,     2.20,2, -999.000,9,    0.000,2,    0.000,2,    0.097,2,    -0.16,  0.6715,   1.001
       74DI207, DIS94, 12659,  1,5,19940328,2307,-28.0815,  56.0875, 5000,   4436.0,   0.9710,  34.7130,2,  34.7120,2,    207.3,2,    206.9,2,   118.72,2,    31.06,2,     2.19,2, -999.000,9,    0.000,2,    0.000,2,    0.195,2,    -0.20,  0.6195,-999.000
       74DI207, DIS94, 12659,  1,4,19940328,2307,-28.0815,  56.0875, 5000,   4590.6,   0.9500,  34.7110,2,  34.7110,2,    208.8,2,    216.3,2,   119.41,2,    31.14,2,     2.20,2, -999.000,9,    0.000,2,    0.000,2,    0.195,2,    -0.18,  0.5818,-999.000
       74DI207, DIS94, 12659,  1,3,19940328,2307,-28.0815,  56.0875, 5000,   4745.5,   0.9450,  34.7100,2,  34.7110,2,    210.0,2,    208.2,2,   119.96,2,    31.23,2,     2.19,2,    0.064,2,    0.000,2,    0.000,2,    0.097,2,    -0.17,  0.5592,   0.948
       74DI207, DIS94, 12659,  1,2,19940328,2307,-28.0815,  56.0875, 5000,   4900.0,   0.9420,  34.7090,2,  34.7090,2,    211.3,2,    208.0,2,   120.37,2,    31.33,2,     2.20,2,    0.047,2,    0.000,2,    0.000,2,    0.097,2,    -0.19,  0.5384,-999.000
       74DI207, DIS94, 12659,  1,1,19940328,2307,-28.0815,  56.0875, 5000,   5083.0,   0.9500,  34.7080,2,  34.7080,2,    211.0,2,    207.8,2,   120.92,2,    31.27,2,     2.20,2,    0.026,2,    0.000,2,    0.000,2,    0.195,2,    -0.18,  0.5244,   0.947
       74DI207, DIS94, 12660,  1,18,19940329,0532,-27.5080,  56.1457, 5090,     14.4,  25.1230,  35.3100,2,  35.3100,2,    214.6,2,    210.3,2,     2.76,2,     0.11,2,     0.11,2,    3.181,2,    0.829,2,    0.175,2,    2.052,2,     0.52, 25.1199,  25.138
       74DI207, DIS94, 12660,  1,17,19940329,0532,-27.5080,  56.1457, 5090,    406.6,  12.9910,  35.2450,2,  35.2230,2,    224.6,2,    227.4,2,     4.02,2,     9.03,2,     0.71,2, -999.000,9,    1.036,2,    0.104,2,    1.169,2,     0.44, 12.9345,-999.000
       74DI207, DIS94, 12660,  1,16,19940329,0532,-27.5080,  56.1457, 5090,    811.5,   8.2830,  34.6170,2,  34.6130,2,    208.6,2,    208.5,2,    11.83,2,    21.15,2,     1.47,2,    1.841,2,    0.521,2,    0.031,2,    1.169,2,     0.06,  8.1964,-999.000
       74DI207, DIS94, 12660,  1,15,19940329,0532,-27.5080,  56.1457, 5090,   1218.2,   3.7610,  34.4650,2,  34.4530,2,    184.6,2,    190.1,2,    50.41,2,    31.85,2,     2.23,2,    0.394,2,    0.000,2, -999.000,9,    0.681,2,    -0.11,  3.6692,-999.000
       74DI207, DIS94, 12660,  1,14,19940329,0532,-27.5080,  56.1457, 5090,   1722.2,   2.6520,  34.6580,2,  34.6560,2,    177.4,2,    165.3,2,    79.39,2,    31.92,2,     2.25,2, -999.000,9,    0.000,2,    0.000,2,    0.097,2,    -0.04,  2.5296,-999.000
       74DI207, DIS94, 12660,  1,13,19940329,0532,-27.5080,  56.1457, 5090,   2332.9,   2.1760,  34.7450,2,  34.7450,2,    176.2,2,    177.0,2,   101.93,2,    31.80,2,     2.26,2,    0.021,2,    0.000,2,    0.000,2,    0.000,2,    -0.05,  2.0073,-999.000
       74DI207, DIS94, 12660,  1,12,19940329,0532,-27.5080,  56.1457, 5090,   2741.2,   1.9150,  34.7440,2,  34.7430,2,    173.1,2,    177.2,2,   115.41,2,    32.59,2,     2.32,2,    0.019,2,    0.000,2,    0.000,2,    0.000,2,    -0.11,  1.7136,-999.000
       74DI207, DIS94, 12660,  1,11,19940329,0532,-27.5080,  56.1457, 5090,   3149.4,   1.6360,  34.7340,2,  34.7350,2,    178.8,2,   -999.0,9,   120.27,2,    32.56,2,     2.32,2,    0.000,2,    0.000,2, -999.000,9, -999.000,9,    -0.11,  1.4014,-999.000
       74DI207, DIS94, 12660,  1,10,19940329,0532,-27.5080,  56.1457, 5090,   3457.8,   1.4540,  34.7280,2,  34.7250,2,    184.6,2,    180.7,2,   121.56,2,    32.33,2,     2.31,2, -999.000,9,    0.000,2, -999.000,9,    0.000,2,    -0.12,  1.1930,-999.000
       74DI207, DIS94, 12660,  1,9,19940329,0532,-27.5080,  56.1457, 5090,   3765.9,   1.2840,  34.7230,2,  34.7230,2,    191.6,2,    186.9,2,   121.00,2,    31.98,2,     2.27,2, -999.000,9,    0.000,2, -999.000,9,    0.000,2,    -0.12,  0.9958,-999.000
       74DI207, DIS94, 12660,  1,8,19940329,0532,-27.5080,  56.1457, 5090,   4071.4,   1.1320,  34.7180,2,  34.7170,2,    198.2,2,    199.3,2,   120.21,2,    31.68,2,     2.24,2,    0.000,2,    0.000,2, -999.000,9,    0.097,2,  -999.00,  0.8156,-999.000
       74DI207, DIS94, 12660,  1,7,19940329,0532,-27.5080,  56.1457, 5090,   4278.9,   1.0490,  34.7130,2,  34.7120,2,    201.6,2,    199.5,2,   120.35,2,    31.46,2,     2.22,2, -999.000,9,    0.000,2, -999.000,9,    0.097,2,    -0.16,  0.7125,-999.000
       74DI207, DIS94, 12660,  1,6,19940329,0532,-27.5080,  56.1457, 5090,   4483.6,   0.9780,  34.7110,2,  34.7080,2,    204.4,2,    204.3,2,   121.25,2,    31.54,2,     2.22,2,    0.000,2,    0.000,2, -999.000,9,    0.097,2,    -0.14,  0.6210,   0.968
       74DI207, DIS94, 12660,  1,5,19940329,0532,-27.5080,  56.1457, 5090,   4690.4,   0.9410,  34.7080,2,  34.7070,2,    206.8,2,    206.9,2,   121.32,2,    31.40,2,     2.21,2, -999.000,9,    0.000,2, -999.000,9,    0.097,2,    -0.17,  0.5617,-999.000
       74DI207, DIS94, 12660,  1,4,19940329,0532,-27.5080,  56.1457, 5090,   4845.9,   0.9280,  34.7070,2,  34.7070,2,    208.5,2,    216.3,2,   121.79,2,    31.43,2,     2.21,2, -999.000,9,    0.000,2, -999.000,9,    0.097,2,    -0.15,  0.5312,-999.000
       74DI207, DIS94, 12660,  1,3,19940329,0532,-27.5080,  56.1457, 5090,   4948.9,   0.9300,  34.7060,2,  34.7070,2,    209.0,2,    208.2,2,   121.74,2,    31.35,2,     2.21,2,    0.026,2,    0.000,2,    0.000,2,    0.097,2,    -0.15,  0.5210,   0.930
       74DI207, DIS94, 12660,  1,2,19940329,0532,-27.5080,  56.1457, 5090,   5047.1,   0.9300,  34.7060,2,  34.7060,2,    209.5,2,    208.0,2,   121.69,2,    31.44,2,     2.21,2, -999.000,9,    0.000,2,    0.000,2,    0.097,2,    -0.20,  0.5094,-999.000
       74DI207, DIS94, 12660,  1,1,19940329,0532,-27.5080,  56.1457, 5090,   5152.0,   0.9360,  34.7050,2,  34.7060,2,    209.8,2,    207.8,2,   122.39,2,    31.43,2,     2.22,2,    0.046,2,    0.000,2,    0.000,2,    0.097,2,    -0.19,  0.5026,-999.000