BOTTLE,20220815CCHSIOAMB
EXPOCODE,SECT_ID,STNNBR,CASTNO,SAMPNO,DATE,TIME,LATITUDE,LONGITUDE,DEPTH,CTDPRS,CTDTMP,CTDSAL,CTDSAL_FLAG_W,SALNTY,SALNTY_FLAG_W,CTDOXY,CTDOXY_FLAG_W,OXYGEN,OXYGEN_FLAG_W,SILCAT,SILCAT_FLAG_W,NITRAT,NITRAT_FLAG_W,PHSPHT,PHSPHT_FLAG_W,CFC-11,CFC-11_FLAG_W,CFC-12,CFC-12_FLAG_W,CFC113,CFC113_FLAG_W,CCL4,CCL4_FLAG_W,DELO18,THETA,REVTMP
,,,,,,,,,,DBAR,ITS-90,PSS-78,,PSS-78,,UMOL/KG,,UMOL/KG,,UMOL/KG,,UMOL/KG,,UMOL/KG,,PMOL/KG,,PMOL/KG,,PMOL/KG,,PMOL/KG,,/MILLE,DEG C,ITS-90
       74DI207, DIS94, 12653,  1,19,19940324,0442,-43.1847,  55.6867, 4292,     14.4,  13.2090,  34.1040,2,  34.1590,2,    270.8,2,    266.6,2,  -999.00,9,  -999.00,9,  -999.00,9,    2.967,2,    1.155,2,    0.262,2,    3.997,2,    -0.13, 13.2070,  13.312
       74DI207, DIS94, 12653,  1,18,19940324,0442,-43.1847,  55.6867, 4292,    500.2,   4.8180,  34.2700,2,  34.2080,2,    238.8,2,    248.8,2,  -999.00,9,  -999.00,9,  -999.00,9,    3.067,2,    1.024,2,    0.199,2,    4.284,2,    -0.15,  4.7790,-999.000
       74DI207, DIS94, 12653,  1,17,19940324,0442,-43.1847,  55.6867, 4292,    652.8,   4.8320,  34.3990,2,  34.3970,2,    204.3,2,    201.4,2,  -999.00,9,  -999.00,9,  -999.00,9,    1.298,2,    0.438,2,    0.044,2,    2.044,2,    -0.12,  4.7802,-999.000
       74DI207, DIS94, 12653,  1,16,19940324,0442,-43.1847,  55.6867, 4292,   1113.8,   3.1670,  34.5110,2,  34.5070,2,    181.4,2,    176.3,2,  -999.00,9,  -999.00,9,  -999.00,9,    0.374,2,    0.091,2,    0.000,2,    0.779,2,    -0.09,  3.0889,-999.000
       74DI207, DIS94, 12653,  1,15,19940324,0442,-43.1847,  55.6867, 4292,   1515.2,   2.4930,  34.6270,2,  34.6260,2,    181.6,2,    176.9,2,  -999.00,9,  -999.00,9,  -999.00,9,    0.205,2,    0.000,2,    0.000,2,    0.389,2,    -0.04,  2.3897,-999.000
       74DI207, DIS94, 12653,  1,14,19940324,0442,-43.1847,  55.6867, 4292,   2020.8,   2.3010,  34.7510,2,  34.7530,2,    193.2,2,    192.7,2,  -999.00,9,  -999.00,9,  -999.00,9,    0.075,2,    0.000,2,    0.000,2,    0.195,2,    -0.02,  2.1578,-999.000
       74DI207, DIS94, 12653,  1,13,19940324,0442,-43.1847,  55.6867, 4292,   2530.6,   1.9560,  34.7740,2,  34.7740,2,    201.9,2,    203.2,2,  -999.00,9,  -999.00,9,  -999.00,9,    0.046,2,    0.000,2,    0.000,2,    0.097,2,    -0.01,  1.7732,-999.000
       74DI207, DIS94, 12653,  1,12,19940324,0442,-43.1847,  55.6867, 4292,   2834.6,   1.6790,  34.7600,2,  34.7600,2,    201.8,2,    209.9,2,  -999.00,9,  -999.00,9,  -999.00,9, -999.000,9,    0.000,2,    0.000,2,    0.097,2,    -0.07,  1.4736,-999.000
       74DI207, DIS94, 12653,  1,11,19940324,0442,-43.1847,  55.6867, 4292,   3140.2,   1.3880,  34.7410,2,  34.7400,2,    204.2,2,    205.9,2,  -999.00,9,  -999.00,9,  -999.00,9,    0.046,2,    0.000,2,    0.000,2,    0.097,2,    -0.09,  1.1600,-999.000
       74DI207, DIS94, 12653,  1,10,19940324,0442,-43.1847,  55.6867, 4292,   3345.9,   1.1190,  34.7250,2,  34.7260,2,    206.5,2,    207.2,2,  -999.00,9,  -999.00,9,  -999.00,9,    0.071,2,    0.000,2,    0.000,2,    0.097,2,    -0.10,  0.8775,-999.000
       74DI207, DIS94, 12653,  1,9,19940324,0442,-43.1847,  55.6867, 4292,   3502.9,   0.8990,  34.7130,2,  34.7130,2,    209.5,2,    209.5,2,  -999.00,9,  -999.00,9,  -999.00,9,    0.078,2,    0.000,2,    0.000,2,    0.195,2,    -0.16,  0.6476,-999.000
       74DI207, DIS94, 12653,  1,8,19940324,0442,-43.1847,  55.6867, 4292,   3659.6,   0.7370,  34.7030,2,  34.7000,2,    212.9,2,    211.2,2,  -999.00,9,  -999.00,9,  -999.00,9,    0.054,2,    0.000,2,    0.000,2,    0.195,2,    -0.14,  0.4743,-999.000
       74DI207, DIS94, 12653,  1,7,19940324,0442,-43.1847,  55.6867, 4292,   3762.9,   0.6010,  34.6960,2,  34.6970,2,    214.8,2,    213.2,2,  -999.00,9,  -999.00,9,  -999.00,9,    0.056,2,    0.000,2,    0.000,2,    0.195,2,    -0.17,  0.3317,-999.000
       74DI207, DIS94, 12653,  1,6,19940324,0442,-43.1847,  55.6867, 4292,   3865.2,   0.5280,  34.6930,2,  34.6920,2,    216.3,2,    214.7,2,  -999.00,9,  -999.00,9,  -999.00,9,    0.054,2,    0.000,2,    0.000,2,    0.195,2,    -0.17,  0.2504,   0.521
       74DI207, DIS94, 12653,  1,5,19940324,0442,-43.1847,  55.6867, 4292,   3969.9,   0.4230,  34.6860,2,  34.6850,2,    217.8,2,    216.2,2,  -999.00,9,  -999.00,9,  -999.00,9,    0.055,2,    0.000,2,    0.000,2,    0.195,2,    -0.21,  0.1378,-999.000
       74DI207, DIS94, 12653,  1,4,19940324,0442,-43.1847,  55.6867, 4292,   4074.1,   0.3520,  34.6830,2,  34.6830,2,    219.1,2,    217.9,2,  -999.00,9,  -999.00,9,  -999.00,9,    0.050,2,    0.000,2,    0.000,2,    0.195,2,    -0.19,  0.0581,-999.000
       74DI207, DIS94, 12653,  1,3,19940324,0442,-43.1847,  55.6867, 4292,   4177.5,   0.2910,  34.6790,2,  34.6800,2,    220.7,2,    219.7,2,  -999.00,9,  -999.00,9,  -999.00,9,    0.077,2,    0.000,2,    0.000,2,    0.195,2,  -999.00, -0.0118,   0.321
       74DI207, DIS94, 12653,  1,2,19940324,0442,-43.1847,  55.6867, 4292,   4279.8,   0.2220,  34.6760,2,  34.6760,2,    222.2,2,    229.1,2,  -999.00,9,  -999.00,9,  -999.00,9,    0.054,2,    0.000,2,    0.000,2,    0.292,2,    -0.25, -0.0894,-999.000
       74DI207, DIS94, 12653,  1,1,19940324,0442,-43.1847,  55.6867, 4292,   4356.4,   0.1870,  34.6740,2,  34.6740,2,    222.9,2,    221.4,2,  -999.00,9,  -999.00,9,  -999.00,9,    0.074,2,    0.000,2,    0.007,2,    0.292,2,    -0.25, -0.1314,   0.186
       74DI207, DIS94, 12654,  1,19,19940324,1237,-43.1653,  56.5498, 4599,     14.9,  15.1750,  34.7040,2,  34.7930,2,    253.6,2,    251.0,2,  -999.00,9,  -999.00,9,  -999.00,9,    2.287,2,    0.909,2,    0.119,2,    1.755,2,     0.25, 15.1727,  15.163
       74DI207, DIS94, 12654,  1,18,19940324,1237,-43.1653,  56.5498, 4599,    407.0,   8.9630,  34.6600,2,  34.6510,2,    211.2,2,    215.0,2,  -999.00,9,  -999.00,9,  -999.00,9,    2.920,2,    1.283,2,    0.259,2,    3.214,2,     0.14,  8.9185,-999.000
       74DI207, DIS94, 12654,  1,17,19940324,1237,-43.1653,  56.5498, 4599,    812.2,   4.6880,  34.3460,2,  34.3330,2,    209.7,2,    214.6,2,  -999.00,9,  -999.00,9,  -999.00,9,    1.890,2,    0.692,2,    0.077,2,    2.531,2,    -0.07,  4.6236,-999.000
       74DI207, DIS94, 12654,  1,16,19940324,1237,-43.1653,  56.5498, 4599,   1218.2,   3.1360,  34.4780,2,  34.4670,2,    188.7,2,    181.1,2,  -999.00,9,  -999.00,9,  -999.00,9,    0.575,2,    0.208,2,    0.000,2,    1.071,2,    -0.07,  3.0500,-999.000
       74DI207, DIS94, 12654,  1,15,19940324,1237,-43.1653,  56.5498, 4599,   1626.6,   2.6670,  34.6480,2,  34.6300,2,    185.1,2,    179.6,2,  -999.00,9,  -999.00,9,  -999.00,9,    0.193,2,    0.000,2,    0.000,2,    0.389,2,    -0.03,  2.5524,-999.000
       74DI207, DIS94, 12654,  1,14,19940324,1237,-43.1653,  56.5498, 4599,   2034.1,   2.3850,  34.7470,2,  34.7350,2,    192.3,2,    194.3,2,  -999.00,9,  -999.00,9,  -999.00,9,    0.072,2,    0.000,2,    0.000,2,    0.097,2,     0.01,  2.2394,-999.000
       74DI207, DIS94, 12654,  1,13,19940324,1237,-43.1653,  56.5498, 4599,   2390.2,   2.1630,  34.7730,2,  34.7670,2,    197.7,2,    199.6,2,  -999.00,9,  -999.00,9,  -999.00,9,    0.053,2,    0.000,2,    0.000,2,    0.097,2,     0.00,  1.9892,-999.000
       74DI207, DIS94, 12654,  1,12,19940324,1237,-43.1653,  56.5498, 4599,   2742.2,   1.9330,  34.7720,2,  34.7660,2,    200.1,2,    202.9,2,  -999.00,9,  -999.00,9,  -999.00,9, -999.000,9, -999.000,9, -999.000,9, -999.000,9,    -0.04,  1.7310,-999.000
       74DI207, DIS94, 12654,  1,11,19940324,1237,-43.1653,  56.5498, 4599,   2981.6,   1.7240,  34.7610,2,  34.7590,2,    200.9,2,    202.9,2,  -999.00,9,  -999.00,9,  -999.00,9,    0.041,2,    0.000,2,    0.000,2,    0.097,2,    -0.06,  1.5036,-999.000
       74DI207, DIS94, 12654,  1,10,19940324,1237,-43.1653,  56.5498, 4599,   3247.8,   1.4360,  34.7450,2,  34.7430,2,    203.6,2,    204.7,2,  -999.00,9,  -999.00,9,  -999.00,9,    0.073,2,    0.000,2,    0.000,2,    0.097,2,    -0.10,  1.1964,-999.000
       74DI207, DIS94, 12654,  1,9,19940324,1237,-43.1653,  56.5498, 4599,   3502.4,   1.1580,  34.7290,2,  34.7290,2,    206.4,2,    206.2,2,  -999.00,9,  -999.00,9,  -999.00,9,    0.061,2,    0.000,2,    0.000,2,    0.097,2,    -0.14,  0.9000,-999.000
       74DI207, DIS94, 12654,  1,8,19940324,1237,-43.1653,  56.5498, 4599,   3767.4,   0.8290,  34.7090,2,  34.7070,2,    210.1,2,    209.6,2,  -999.00,9,  -999.00,9,  -999.00,9,    0.054,2,    0.000,2,    0.000,2,    0.097,2,    -0.17,  0.5530,-999.000
       74DI207, DIS94, 12654,  1,7,19940324,1237,-43.1653,  56.5498, 4599,   4022.9,   0.5880,  34.6950,2,  34.6930,2,    213.7,2,    213.0,2,  -999.00,9,  -999.00,9,  -999.00,9,    0.039,2,    0.000,2,    0.000,2,    0.195,2,    -0.21,  0.2925,-999.000
       74DI207, DIS94, 12654,  1,6,19940324,1237,-43.1653,  56.5498, 4599,   4177.1,   0.4840,  34.6890,2,  34.6880,2,    215.9,2,    214.8,2,  -999.00,9,  -999.00,9,  -999.00,9,    0.052,2,    0.000,2,    0.000,2,    0.195,2,    -0.19,  0.1755,   0.478
       74DI207, DIS94, 12654,  1,5,19940324,1237,-43.1653,  56.5498, 4599,   4279.0,   0.4240,  34.6860,2,  34.6850,2,    217.2,2,    216.4,2,  -999.00,9,  -999.00,9,  -999.00,9,    0.049,2,    0.000,2,    0.000,2,    0.195,2,    -0.20,  0.1065,-999.000
       74DI207, DIS94, 12654,  1,4,19940324,1237,-43.1653,  56.5498, 4599,   4381.1,   0.3720,  34.6820,2,  34.6820,2,    218.1,2,    217.3,2,  -999.00,9,  -999.00,9,  -999.00,9,    0.055,2,    0.007,2,    0.000,2,    0.195,2,    -0.22,  0.0452,-999.000
       74DI207, DIS94, 12654,  1,3,19940324,1237,-43.1653,  56.5498, 4599,   4482.4,   0.3450,  34.6800,2,  34.6800,2,    220.0,2,    218.1,2,  -999.00,9,  -999.00,9,  -999.00,9,    0.050,2,    0.000,2,    0.000,2,    0.292,2,    -0.22,  0.0082,   0.346
       74DI207, DIS94, 12654,  1,2,19940324,1237,-43.1653,  56.5498, 4599,   4585.4,   0.2820,  34.6760,2,  34.6760,2,    221.8,2,    219.9,2,  -999.00,9,  -999.00,9,  -999.00,9,    0.057,2,    0.000,2,    0.000,2,    0.292,2,    -0.23, -0.0640,-999.000
       74DI207, DIS94, 12654,  1,1,19940324,1237,-43.1653,  56.5498, 4599,   4700.6,   0.2030,  34.6720,2,  34.6730,2,    223.1,2,    226.3,2,  -999.00,9,  -999.00,9,  -999.00,9,    0.059,2,    0.000,2,    0.006,2,    0.292,2,    -0.23, -0.1531,   0.201
       74DI207, DIS94, 12655,  1,17,19940327,1640,-29.6622,  53.4827, 4730,     14.2,  22.8540,  35.5810,2,  35.5830,2,    217.5,2,    215.6,2,     1.99,2,     0.25,2,     0.03,2, -999.000,9, -999.000,9, -999.000,9, -999.000,9,     0.67, 22.8511,  22.958
       74DI207, DIS94, 12655,  1,16,19940327,1640,-29.6622,  53.4827, 4730,    505.5,  12.3690,  35.1400,2,  35.1370,2,    216.9,2,    224.0,2,     4.41,2,    10.54,2,     0.73,2,    2.725,2,    1.043,2,    0.142,2,    1.461,2,     0.37, 12.3008,-999.000
       74DI207, DIS94, 12655,  1,15,19940327,1640,-29.6622,  53.4827, 4730,   1116.7,   4.8820,  34.4010,2,  34.4000,2,    204.2,2,    198.9,2,    31.91,2,    29.30,2,     2.00,2,    0.997,2,    0.336,2,    0.000,2,    1.266,2,    -0.07,  4.7892,-999.000
       74DI207, DIS94, 12655,  1,14,19940327,1640,-29.6622,  53.4827, 4730,   1622.3,   2.8600,  34.5920,2,  34.5950,2,    174.1,2,    169.6,2,    71.39,2,    32.48,2,     2.26,2,    0.127,2,    0.000,2,    0.000,2,    0.195,2,    -0.05,  2.7435,-999.000
       74DI207, DIS94, 12655,  1,13,19940327,1640,-29.6622,  53.4827, 4730,   2030.7,   2.3670,  34.6960,2,  34.6960,2,    171.7,2,    171.4,2,    90.50,2,    32.04,2,     2.24,2,    0.125,2,    0.000,2,    0.000,2,    0.000,2,    -0.03,  2.2221,-999.000
       74DI207, DIS94, 12655,  1,12,19940327,1640,-29.6622,  53.4827, 4730,   2539.6,   2.1330,  34.7480,2,  34.7480,2,    175.2,2,    178.4,2,    97.01,2,    31.16,2,     2.16,2,    0.191,2,    0.000,2,    0.000,2,    0.000,2,    -0.05,  1.9462,-999.000
       74DI207, DIS94, 12655,  1,11,19940327,1640,-29.6622,  53.4827, 4730,   2744.4,   1.9940,  34.7510,2,  34.7500,2,    177.8,2,    180.8,2,    99.20,2,    31.13,2,     2.14,2,    0.144,2,    0.000,2,    0.000,2,    0.000,2,    -0.07,  1.7907,-999.000
       74DI207, DIS94, 12655,  1,10,19940327,1640,-29.6622,  53.4827, 4730,   2947.4,   1.8020,  34.7440,2,  34.7450,2,    182.8,2,    183.1,2,   104.37,2,    31.37,2,     2.17,2,    0.065,2,    0.000,2,    0.000,2,    0.000,2,    -0.09,  1.5833,-999.000
       74DI207, DIS94, 12655,  1,9,19940327,1640,-29.6622,  53.4827, 4730,   3150.4,   1.5930,  34.7380,2,  34.7370,2,    188.2,2,   -999.0,9,   110.03,2,    31.60,2,     2.20,2,    0.109,2,    0.000,2,    0.000,2,    0.000,2,    -0.09,  1.3593,-999.000
       74DI207, DIS94, 12655,  1,8,19940327,1640,-29.6622,  53.4827, 4730,   3352.1,   1.4500,  34.7330,2,  34.7310,2,    193.4,2,    189.9,2,   113.34,2,    31.84,2,     2.19,2,    0.101,2,    0.000,2,    0.000,2,    0.000,2,    -0.09,  1.1997,-999.000
       74DI207, DIS94, 12655,  1,7,19940327,1640,-29.6622,  53.4827, 4730,   3556.4,   1.3050,  34.7280,2,  34.7270,2,    197.9,2,    199.0,2,   109.52,2,    31.02,2,     2.14,2,    0.108,2,    0.000,2,    0.000,2,    0.097,2,    -0.11,  1.0378,-999.000
       74DI207, DIS94, 12655,  1,6,19940327,1640,-29.6622,  53.4827, 4730,   3760.6,   1.1790,  34.7230,2,  34.7230,2,    201.6,2,    202.8,2,   111.70,2,    31.17,2,     2.09,2, -999.000,9, -999.000,9, -999.000,9, -999.000,9,    -0.12,  0.8941,   1.176
       74DI207, DIS94, 12655,  1,5,19940327,1640,-29.6622,  53.4827, 4730,   3967.8,   1.0920,  34.7190,2,  34.7180,2,    203.8,2,    204.2,2,   115.49,2,    31.11,2,     2.21,2,    0.095,2,    0.000,2,    0.000,2,    0.097,2,    -0.13,  0.7878,-999.000
       74DI207, DIS94, 12655,  1,4,19940327,1640,-29.6622,  53.4827, 4730,   4174.2,   1.0370,  34.7150,2,  34.7150,2,    205.7,2,    205.0,2,   116.05,2,    31.21,2,     2.14,2,    0.091,2,    0.000,2,    0.000,2,    0.097,2,    -0.13,  0.7123,-999.000
       74DI207, DIS94, 12655,  1,3,19940327,1640,-29.6622,  53.4827, 4730,   4379.5,   0.9880,  34.7110,2,  34.7120,2,    207.1,2,    209.4,2,   118.49,2,    31.39,2,     2.14,2,    0.073,2,    0.000,2,    0.000,2,    0.097,2,    -0.13,  0.6423,   0.987
       74DI207, DIS94, 12655,  1,2,19940327,1640,-29.6622,  53.4827, 4730,   4583.5,   0.9770,  34.7100,2,  34.7100,2,    208.8,2,    206.0,2,   120.08,2,    31.53,2,     2.10,2,    0.129,2,    0.000,2,    0.000,2,    0.097,2,    -0.13,  0.6087,-999.000
       74DI207, DIS94, 12655,  1,1,19940327,1640,-29.6622,  53.4827, 4730,   4798.8,   0.9440,  34.7070,2,  34.7070,2,    209.6,2,    206.7,2,   121.30,2,    31.62,2,     1.96,2,    0.046,2,    0.000,2,    0.000,2,    0.097,2,    -0.14,  0.5521,   0.942
       74DI207, DIS94, 12656,  1,18,19940328,0010,-29.3260,  54.1805, 4685,     14.4,  22.9200,  35.5670,2,  35.5670,2,    224.4,2,    222.0,2,     2.32,2,     0.52,2,     0.08,2,    2.573,2,    1.121,2,    0.268,2,    2.245,2,     0.61, 22.9171,  22.878
       74DI207, DIS94, 12656,  1,17,19940328,0010,-29.3260,  54.1805, 4685,    406.4,  12.9080,  35.2300,2,  35.2490,2,    227.9,2,    235.7,2,     3.90,2,     8.63,2,     0.64,2, -999.000,9,    1.362,2,    0.109,2,    1.169,2,     0.40, 12.8518,-999.000
       74DI207, DIS94, 12656,  1,16,19940328,0010,-29.3260,  54.1805, 4685,    806.2,   8.6830,  34.6540,2,  34.6540,2,    211.2,2,    209.1,2,    10.61,2,    20.18,2,     1.35,2,    2.002,2,    0.730,2,    0.041,2,    1.266,2,     0.09,  8.5946,-999.000
       74DI207, DIS94, 12656,  1,15,19940328,0010,-29.3260,  54.1805, 4685,   1102.2,   4.6680,  34.4090,2,  34.4100,2,    199.0,2,    194.7,2,    33.39,2,    29.87,2,     2.02,2,    0.091,2,    0.115,2,    0.011,2,    0.584,2,    -0.08,  4.5783,-999.000
       74DI207, DIS94, 12656,  1,14,19940328,0010,-29.3260,  54.1805, 4685,   1595.2,   2.9230,  34.5900,2,  34.5970,2,    171.4,2,    168.6,2,    73.04,2,    32.91,2,     2.25,2, -999.000,9,    0.000,2,    0.000,2,    0.195,2,    -0.02,  2.8081,-999.000
       74DI207, DIS94, 12656,  1,13,19940328,0010,-29.3260,  54.1805, 4685,   2094.9,   2.3720,  34.7210,2,  34.7150,2,    174.0,2,    172.9,2,    93.20,2,    32.07,2,     2.20,2, -999.000,9,    0.000,2,    0.000,2,    0.000,2,    -0.04,  2.2213,-999.000
       74DI207, DIS94, 12656,  1,12,19940328,0010,-29.3260,  54.1805, 4685,   2498.8,   2.1620,  34.7510,2,  34.7510,2,    178.2,2,    179.3,2,    95.48,2,    31.42,2,     2.13,2,    0.029,2,    0.000,2,    0.000,2,    0.000,2,    -0.01,  1.9784,-999.000
       74DI207, DIS94, 12656,  1,11,19940328,0010,-29.3260,  54.1805, 4685,   2810.6,   1.9410,  34.7510,2,  34.7500,2,    178.5,2,    178.8,2,   106.01,2,    31.98,2,     2.19,2, -999.000,9,    0.000,2, -999.000,9,    0.000,2,    -0.08,  1.7325,-999.000
       74DI207, DIS94, 12656,  1,10,19940328,0010,-29.3260,  54.1805, 4685,   3114.2,   1.7000,  34.7410,2,  34.7410,2,    180.7,2,    182.2,2,   111.39,2,    32.13,2,     2.20,2,    0.025,2,    0.000,2,    0.000,2,    0.000,2,    -0.08,  1.4674,-999.000
       74DI207, DIS94, 12656,  1,9,19940328,0010,-29.3260,  54.1805, 4685,   3418.1,   1.4340,  34.7300,2,  34.7290,2,    187.4,2,    187.3,2,   117.50,2,    32.21,2,     2.22,2,    0.053,2,    0.000,2,    0.000,2,    0.000,2,    -0.09,  1.1775,-999.000
       74DI207, DIS94, 12656,  1,8,19940328,0010,-29.3260,  54.1805, 4685,   3626.1,   1.3150,  34.7260,2,  34.7260,2,    192.9,2,    195.3,2,   114.33,2,    31.70,2,     2.17,2,    0.024,2,    0.000,2,    0.000,2,    0.000,2,    -0.12,  1.0404,-999.000
       74DI207, DIS94, 12656,  1,7,19940328,0010,-29.3260,  54.1805, 4685,   3835.1,   1.1800,  34.7220,2,  34.7210,2,    198.4,2,    204.6,2,   115.68,2,    31.57,2,     2.16,2, -999.000,9,    0.000,2,    0.000,2,    0.000,2,    -0.13,  0.8874,-999.000
       74DI207, DIS94, 12656,  1,6,19940328,0010,-29.3260,  54.1805, 4685,   4042.6,   1.0960,  34.7180,2,  34.7180,2,    203.0,2,    203.6,2,   115.70,2,    31.34,2,     2.15,2,    0.050,2,    0.000,2,    0.000,2,    0.097,2,    -0.13,  0.7838,   1.086
       74DI207, DIS94, 12656,  1,5,19940328,0010,-29.3260,  54.1805, 4685,   4236.2,   1.0380,  34.7150,2,  34.7140,2,    205.3,2,    204.7,2,   117.12,2,    31.55,2,     2.16,2,    0.061,2,    0.000,2,    0.000,2,    0.195,2,    -0.13,  0.7065,-999.000
       74DI207, DIS94, 12656,  1,4,19940328,0010,-29.3260,  54.1805, 4685,   4442.9,   0.9820,  34.7110,2,  34.7130,2,    207.3,2,    206.1,2,   118.30,2,    31.46,2,     2.18,2,    0.099,2,    0.000,2,    0.000,2,    0.195,2,    -0.15,  0.6294,-999.000
       74DI207, DIS94, 12656,  1,3,19940328,0010,-29.3260,  54.1805, 4685,   4544.2,   0.9730,  34.7100,2,  34.7100,2,    207.9,2,    205.6,2,   119.80,2,    31.61,2,     2.18,2,    0.024,2,    0.000,2,    0.000,2,    0.097,2,    -0.16,  0.6093,   0.974
       74DI207, DIS94, 12656,  1,2,19940328,0010,-29.3260,  54.1805, 4685,   4644.8,   0.9710,  34.7090,2,  34.7100,2,    208.5,2,    206.2,2,   120.03,2,    31.64,2,     2.19,2,    0.005,2,    0.000,2,    0.000,2,    0.097,2,    -0.18,  0.5960,-999.000
       74DI207, DIS94, 12656,  1,1,19940328,0010,-29.3260,  54.1805, 4685,   4747.0,   0.9700,  34.7090,2,  34.7090,2,    208.6,2,    206.4,2,   120.30,2,    31.63,2,     2.17,2,    0.018,2,    0.000,2,    0.000,2,    0.097,2,    -0.15,  0.5832,   0.968