BOTTLE,20220815CCHSIOAMB
EXPOCODE,SECT_ID,STNNBR,CASTNO,SAMPNO,DATE,TIME,LATITUDE,LONGITUDE,DEPTH,CTDPRS,CTDTMP,CTDSAL,CTDSAL_FLAG_W,SALNTY,SALNTY_FLAG_W,CTDOXY,CTDOXY_FLAG_W,OXYGEN,OXYGEN_FLAG_W,SILCAT,SILCAT_FLAG_W,NITRAT,NITRAT_FLAG_W,PHSPHT,PHSPHT_FLAG_W,CFC-11,CFC-11_FLAG_W,CFC-12,CFC-12_FLAG_W,CFC113,CFC113_FLAG_W,CCL4,CCL4_FLAG_W,DELO18,THETA,REVTMP
,,,,,,,,,,DBAR,ITS-90,PSS-78,,PSS-78,,UMOL/KG,,UMOL/KG,,UMOL/KG,,UMOL/KG,,UMOL/KG,,PMOL/KG,,PMOL/KG,,PMOL/KG,,PMOL/KG,,/MILLE,DEG C,ITS-90
       74DI207, DIS94, 12633,  1,15,19940227,1730,-43.2795,  50.6155, 2938,     47.5,   8.0560,  33.7060,2,  33.7360,2,    291.1,2,    290.8,2,    36.73,2,    16.84,2,     1.22,2,    4.536,2,    1.853,2,    0.379,2,    4.093,2,    -0.37,  8.0513,   9.792
       74DI207, DIS94, 12633,  1,14,19940227,1730,-43.2795,  50.6155, 2938,    447.9,   2.7120,  34.2460,2,-999.0000,9,    225.3,2,   -999.0,9,  -999.00,9,  -999.00,9,  -999.00,9, -999.000,9, -999.000,9, -999.000,9, -999.000,9,  -999.00,  2.6848,-999.000
       74DI207, DIS94, 12633,  1,13,19940227,1730,-43.2795,  50.6155, 2938,    456.9,   2.6860,  34.2510,2,  34.2500,2,    224.8,2,    227.9,2,    36.67,2,    30.46,2,     2.09,2, -999.000,9, -999.000,9, -999.000,9, -999.000,9,    -0.13,  2.6583,-999.000
       74DI207, DIS94, 12633,  1,12,19940227,1730,-43.2795,  50.6155, 2938,    466.5,   2.6750,  34.2590,2,-999.0000,9,    222.1,2,   -999.0,9,  -999.00,9,  -999.00,9,  -999.00,9, -999.000,9, -999.000,9, -999.000,9, -999.000,9,  -999.00,  2.6467,-999.000
       74DI207, DIS94, 12633,  1,11,19940227,1730,-43.2795,  50.6155, 2938,    477.5,   2.6510,  34.2650,2,-999.0000,9,    221.6,2,   -999.0,9,    36.70,2,    30.46,2,     2.09,2,    0.609,2,    0.293,2,    0.028,2,    1.071,2,    -0.07,  2.6221,-999.000
       74DI207, DIS94, 12633,  1,10,19940227,1730,-43.2795,  50.6155, 2938,   1244.2,   2.3990,  34.6730,2,  34.6800,2,    184.6,2,    179.5,2,    62.59,2,    32.42,2,     2.25,2,    0.150,2,    0.076,2,    0.000,2,    0.389,2,    -0.01,  2.3176,-999.000
       74DI207, DIS94, 12633,  1,9,19940227,1730,-43.2795,  50.6155, 2938,   1572.2,   2.1800,  34.7480,2,  34.7480,2,    194.3,2,    193.1,2,    74.59,2,    29.26,2,     1.97,2,    0.121,2,    0.061,2,    0.000,2,    0.292,2,     0.00,  2.0755,-999.000
       74DI207, DIS94, 12633,  1,8,19940227,1730,-43.2795,  50.6155, 2938,   1801.8,   2.0790,  34.7570,2,  34.7560,2,    198.0,2,    197.4,2,    76.65,2,    28.99,2,     1.99,2,    0.080,2,    0.043,2,    0.000,2,    0.195,2,  -999.00,  1.9574,-999.000
       74DI207, DIS94, 12633,  1,7,19940227,1730,-43.2795,  50.6155, 2938,   2002.2,   1.9580,  34.7700,2,  34.7700,2,    199.5,2,    202.0,2,    78.12,2,    28.53,2,     1.97,2,    0.086,2,    0.036,2,    0.000,2,    0.195,2,    -0.06,  1.8216,-999.000
       74DI207, DIS94, 12633,  1,6,19940227,1730,-43.2795,  50.6155, 2938,   2202.8,   1.7490,  34.7660,2,  34.7670,2,    202.5,2,    204.9,2,    83.21,2,    28.65,2,     1.98,2,    0.065,2,    0.035,2,    0.000,2,    0.195,2,    -0.04,  1.5989,   1.766
       74DI207, DIS94, 12633,  1,5,19940227,1730,-43.2795,  50.6155, 2938,   2352.9,   1.6440,  34.7610,2,  34.7600,2,    204.2,2,    204.2,2,    87.89,2,    28.79,2,     2.00,2,    0.073,2,    0.036,2,    0.000,2,    0.195,2,  -999.00,  1.4828,-999.000
       74DI207, DIS94, 12633,  1,4,19940227,1730,-43.2795,  50.6155, 2938,   2512.6,   1.5110,  34.7530,2,  34.7530,2,    204.4,2,    205.7,2,    91.42,2,    29.46,2,     1.99,2,    0.066,2,    0.031,2,    0.000,2,    0.195,2,    -0.03,  1.3383,-999.000
       74DI207, DIS94, 12633,  1,3,19940227,1730,-43.2795,  50.6155, 2938,   2670.9,   1.3870,  34.7460,2,  34.7460,2,    205.6,2,    206.2,2,    95.68,2,    29.93,2,     2.03,2,    0.061,2,    0.029,2,    0.000,2,    0.195,2,  -999.00,  1.2027,-999.000
       74DI207, DIS94, 12633,  1,2,19940227,1730,-43.2795,  50.6155, 2938,   2835.2,   1.2430,  34.7370,2,  34.7370,2,    206.7,2,    207.2,2,   100.28,2,    29.93,2,     2.03,2,    0.073,2,    0.034,2,    0.000,2,    0.195,2,    -0.10,  1.0468,   1.256
       74DI207, DIS94, 12633,  1,1,19940227,1730,-43.2795,  50.6155, 2938,   2980.8,   1.1060,  34.7280,2,  34.7270,2,    207.9,2,    206.3,2,   106.70,2,    30.01,2,     2.10,2,    0.062,2,    0.030,2,    0.009,2,    0.195,2,    -0.12,  0.8994,   1.105
       74DI207, DIS94, 12634,  1,12,19940228,0017,-43.2138,  51.5550, 3500,     16.9,   9.7570,  33.7080,2,  33.7170,2,    291.3,2,    288.6,2,     1.86,2,    17.38,2,     1.22,2,    3.912,2,    1.587,2,    0.654,2,    4.483,2,    -0.40,  9.7551,   9.611
       74DI207, DIS94, 12634,  1,11,19940228,0017,-43.2138,  51.5550, 3500,    360.0,   3.1250,  34.1530,2,  34.1270,2,    259.8,2,    262.9,2,    23.03,2,    28.86,2,     1.95,2,    3.756,2,    1.460,2,    0.275,2,    4.283,2,    -0.27,  3.1022,-999.000
       74DI207, DIS94, 12634,  1,10,19940228,0017,-43.2138,  51.5550, 3500,    612.8,   2.5710,  34.2870,2,  34.2760,2,    222.0,2,    221.2,2,    40.43,2,    31.91,2,     2.16,2,    1.872,2,    0.748,2,    0.116,2,    2.725,2,    -0.20,  2.5336,-999.000
       74DI207, DIS94, 12634,  1,9,19940228,0017,-43.2138,  51.5550, 3500,   1020.0,   2.4530,  34.5560,2,  34.5540,2,    179.7,2,    176.8,2,    67.23,2,    32.91,2,     2.27,2,    0.417,2,    0.199,2,    0.025,2,    0.973,2,    -0.09,  2.3879,-999.000
       74DI207, DIS94, 12634,  1,8,19940228,0017,-43.2138,  51.5550, 3500,   1324.8,   2.4100,  34.6790,2,  34.6740,2,    183.2,2,    180.1,2,    70.99,2,    31.12,2,     2.15,2,    0.144,2,    0.084,2,    0.018,2,    0.487,2,    -0.04,  2.3224,-999.000
       74DI207, DIS94, 12634,  1,7,19940228,0017,-43.2138,  51.5550, 3500,   1630.3,   2.2690,  34.7430,2,  34.7440,2,    191.9,2,    193.8,2,    72.94,2,    29.34,2,     2.03,2,    0.089,2,    0.041,2,    0.012,2,    0.292,2,    -0.01,  2.1588,-999.000
       74DI207, DIS94, 12634,  1,6,19940228,0017,-43.2138,  51.5550, 3500,   1833.9,   2.1430,  34.7620,2,  34.7620,2,    196.8,2,   -999.0,9,    74.93,2,    28.82,2,     1.98,2, -999.000,9, -999.000,9, -999.000,9, -999.000,9,    -0.01,  2.0179,-999.000
       74DI207, DIS94, 12634,  1,5,19940228,0017,-43.2138,  51.5550, 3500,   2037.8,   2.0250,  34.7750,2,  34.7750,2,    201.2,2,    205.9,2,    76.24,2,    28.30,2,     1.95,2,    0.071,2,    0.031,2,    0.007,2,    0.195,2,    -0.02,  1.8845,-999.000
       74DI207, DIS94, 12634,  1,4,19940228,0017,-43.2138,  51.5550, 3500,   2292.8,   1.8400,  34.7690,2,  34.7660,2,    201.9,2,    204.6,2,    84.15,2,    28.76,2,     2.00,2,    0.062,2,    0.025,2,    0.000,2,    0.097,2,    -0.05,  1.6806,   1.804
       74DI207, DIS94, 12634,  1,3,19940228,0017,-43.2138,  51.5550, 3500,   2803.1,   1.3220,  34.7360,2,  34.7360,2,    205.7,2,    204.8,2,   101.78,2,    30.08,2,     2.11,2,    0.061,2,    0.025,2,    0.000,2,    0.195,2,    -0.13,  1.1271,-999.000
       74DI207, DIS94, 12634,  1,2,19940228,0017,-43.2138,  51.5550, 3500,   3058.4,   0.9880,  34.7180,2,  34.7170,2,    209.7,2,    210.6,2,   111.22,2,    30.73,2,     2.16,2,    0.071,2,    0.033,2,    0.000,2,    0.292,2,    -0.14,  0.7769,   0.986
       74DI207, DIS94, 12634,  1,1,19940228,0017,-43.2138,  51.5550, 3500,   3559.6,   0.4850,  34.6890,2,  34.6900,2,    217.1,2,    213.9,2,   126.30,2,    31.38,2,     2.23,2,    0.085,2,    0.044,2,    0.007,2,    0.389,2,    -0.22,  0.2388,   0.482
       74DI207, DIS94, 12635,  1,12,19940228,0904,-43.1563,  53.2128, 3697,     16.1,  10.3320,  33.7540,2,  33.7540,2,    285.6,2,    285.2,2,     2.35,2,    17.52,2,     1.19,2, -999.000,9, -999.000,9, -999.000,9, -999.000,9,    -0.35, 10.3301,  10.450
       74DI207, DIS94, 12635,  1,11,19940228,0904,-43.1563,  53.2128, 3697,    308.4,   3.3820,  34.1040,2,-999.0000,9,    262.7,2,    265.9,2,    19.36,2,    27.88,2,     1.86,2, -999.000,9, -999.000,9, -999.000,9, -999.000,9,    -0.19,  3.3620,-999.000
       74DI207, DIS94, 12635,  1,10,19940228,0904,-43.1563,  53.2128, 3697,    712.8,   2.5420,  34.3290,2,  34.3250,2,    212.1,2,    208.4,2,    46.47,2,    32.68,2,     2.24,2,    1.451,2,    0.572,2,    0.082,2,    2.141,2,    -0.14,  2.4980,-999.000
       74DI207, DIS94, 12635,  1,9,19940228,0904,-43.1563,  53.2128, 3697,   1521.8,   2.3670,  34.7200,2,  34.7250,2,    191.8,2,    192.6,2,    71.05,2,    29.98,2,     2.06,2,    0.099,2,    0.057,2,    0.016,2,    0.292,2,     0.00,  2.2644,-999.000
       74DI207, DIS94, 12635,  1,8,19940228,0904,-43.1563,  53.2128, 3697,   1927.2,   2.1070,  34.7700,2,  34.7690,2,    200.3,2,    199.4,2,    74.55,2,    28.64,2,     1.97,2,    0.065,2,    0.007,2,    0.012,2,    0.195,2,     0.01,  1.9746,-999.000
       74DI207, DIS94, 12635,  1,7,19940228,0904,-43.1563,  53.2128, 3697,   2233.4,   1.9120,  34.7730,2,  34.7720,2,    203.9,2,    210.4,2,    79.91,2,    28.49,2,     1.97,2,    0.144,2,    0.029,2,    0.000,2,    0.097,2,    -0.04,  1.7565,-999.000
       74DI207, DIS94, 12635,  1,6,19940228,0904,-43.1563,  53.2128, 3697,   2843.8,   1.3920,  34.7440,2,  34.7450,2,    205.4,2,    205.4,2,    95.66,2,    29.63,2,     2.06,2,    0.085,2,    0.034,2,    0.008,2,    0.195,2,    -0.05,  1.1918,-999.000
       74DI207, DIS94, 12635,  1,5,19940228,0904,-43.1563,  53.2128, 3697,   3046.2,   1.1640,  34.7300,2,  34.7290,2,    209.1,2,    206.4,2,   105.52,2,    30.24,2,     2.12,2,    0.070,2,    0.027,2,    0.013,2,    0.195,2,    -0.14,  0.9500,   1.156
       74DI207, DIS94, 12635,  1,4,19940228,0904,-43.1563,  53.2128, 3697,   3249.8,   0.8600,  34.7120,2,  34.7110,2,    212.3,2,    209.5,2,   113.67,2,    30.76,2,     2.16,2,    0.095,2,    0.035,2,    0.015,2,    0.292,2,    -0.17,  0.6340,-999.000
       74DI207, DIS94, 12635,  1,3,19940228,0904,-43.1563,  53.2128, 3697,   3558.4,   0.4030,  34.6860,2,  34.6860,2,    217.3,2,    216.1,2,   127.08,2,    31.59,2,     2.23,2,    0.073,2,    0.035,2,    0.014,2,    0.292,2,    -0.22,  0.1591,   0.391
       74DI207, DIS94, 12635,  1,2,19940228,0904,-43.1563,  53.2128, 3697,   3655.1,   0.2840,  34.6800,2,  34.6800,2,    219.7,2,    224.9,2,   131.29,2,    31.65,2,     2.24,2,    0.088,2,    0.032,2,    0.012,2,    0.389,2,    -0.21,  0.0339,-999.000
       74DI207, DIS94, 12635,  1,1,19940228,0904,-43.1563,  53.2128, 3697,   3757.2,   0.2130,  34.6760,2,  34.6770,2,    219.3,2,    218.9,2,   135.35,2,    31.83,2,     2.26,2,    0.060,2,    0.030,2,    0.006,2,    0.389,2,    -0.26, -0.0451,   0.211
       74DI207, DIS94, 12636,  1,16,19940228,1500,-43.1582,  53.9900, 4006,     15.9,  11.0620,  33.7030,2,  33.7170,2,    277.7,2,    277.7,2,     1.45,2,    15.16,2,     1.06,2,    4.191,2,    1.586,2,    0.369,2,    4.095,2,    -0.38, 11.0601,  11.004
       74DI207, DIS94, 12636,  1,15,19940228,1500,-43.1582,  53.9900, 4006,    107.2,   4.5100,  33.9000,2,  33.8870,2,    295.0,2,    293.8,2,     7.81,2,    24.71,2,     1.66,2,    5.702,2,    1.980,2,    0.520,2,    5.551,2,    -0.34,  4.5023,-999.000
       74DI207, DIS94, 12636,  1,14,19940228,1500,-43.1582,  53.9900, 4006,    305.9,   3.4110,  34.1230,2,  34.1470,2,    259.0,2,    260.0,2,    20.16,2,    28.00,2,     1.88,2,    4.102,2,    1.421,2,    0.280,2,    3.894,2,    -0.20,  3.3911,-999.000
       74DI207, DIS94, 12636,  1,13,19940228,1500,-43.1582,  53.9900, 4006,    750.2,   2.5900,  34.3860,2,  34.3960,2,    197.1,2,    196.8,2,    52.24,2,    32.85,2,     2.24,2,    0.987,2,    0.349,2,    0.047,2,    1.557,2,    -0.13,  2.5431,-999.000
       74DI207, DIS94, 12636,  1,12,19940228,1500,-43.1582,  53.9900, 4006,   1241.1,   2.5160,  34.6530,2,  34.6480,2,    180.3,2,    177.5,2,    70.16,2,    31.62,2,     2.15,2,    0.209,2,    0.094,2,    0.000,2,    0.584,2,    -0.06,  2.4338,-999.000
       74DI207, DIS94, 12636,  1,11,19940228,1500,-43.1582,  53.9900, 4006,   1486.6,   2.4350,  34.7280,2,  34.7210,2,    189.2,2,    191.6,2,    69.51,2,    29.73,2,     2.02,2,    0.096,2,    0.034,2, -999.000,9,    0.292,2,  -999.00,  2.3344,-999.000
       74DI207, DIS94, 12636,  1,10,19940228,1500,-43.1582,  53.9900, 4006,   1733.2,   2.2770,  34.7580,2,  34.7570,2,    194.0,2,    195.5,2,    70.80,2,    28.57,2,     1.96,2,    0.090,2,    0.043,2,    0.007,2,    0.195,2,    -0.01,  2.1583,-999.000
       74DI207, DIS94, 12636,  1,9,19940228,1500,-43.1582,  53.9900, 4006,   1979.6,   2.1110,  34.7680,2,  34.7730,2,    198.2,2,    202.3,2,    73.21,2,    28.10,2,     1.92,2,    0.087,2,    0.047,2,    0.000,2,    0.195,2,    -0.03,  1.9741,-999.000
       74DI207, DIS94, 12636,  1,8,19940228,1500,-43.1582,  53.9900, 4006,   2226.9,   1.8990,  34.7650,2,  34.7650,2,    200.4,2,    201.9,2,    82.20,2,    28.63,2,     1.97,2,    0.089,2,    0.037,2,    0.000,2,    0.195,2,    -0.03,  1.7444,-999.000
       74DI207, DIS94, 12636,  1,7,19940228,1500,-43.1582,  53.9900, 4006,   2724.9,   1.4760,  34.7460,2,  34.7450,2,    204.7,2,    204.2,2,    95.77,2,    29.59,2,     2.03,2,    0.044,2,    0.013,2,    0.000,2,    0.097,2,    -0.04,  1.2850,-999.000
       74DI207, DIS94, 12636,  1,6,19940228,1500,-43.1582,  53.9900, 4006,   2972.6,   1.2290,  34.7320,2,  34.7290,2,    206.7,2,    206.2,2,   103.46,2,    30.14,2,     2.08,2,    0.057,2,    0.012,2,    0.000,2,    0.195,2,  -999.00,  1.0205,   1.195
       74DI207, DIS94, 12636,  1,5,19940228,1500,-43.1582,  53.9900, 4006,   3172.1,   0.9430,  34.7150,2,  34.7140,2,    209.6,2,    207.8,2,   111.37,2,    30.74,2,     2.13,2,    0.054,2,    0.027,2,    0.000,2,    0.195,2,    -0.10,  0.7224,-999.000
       74DI207, DIS94, 12636,  1,4,19940228,1500,-43.1582,  53.9900, 4006,   3375.1,   0.6880,  34.7000,2,  34.7000,2,    214.4,2,    215.6,2,   119.28,2,    31.09,2,     2.17,2,    0.069,2,    0.038,2,    0.000,2,    0.292,2,    -0.16,  0.4543,-999.000
       74DI207, DIS94, 12636,  1,3,19940228,1500,-43.1582,  53.9900, 4006,   3630.4,   0.4380,  34.6870,2,  34.6870,2,    217.3,2,    215.7,2,   126.68,2,    31.46,2,     2.21,2,    0.076,2,    0.033,2,    0.004,2,    0.292,2,    -0.19,  0.1862,   0.426
       74DI207, DIS94, 12636,  1,2,19940228,1500,-43.1582,  53.9900, 4006,   3842.1,   0.2860,  34.6790,2,  34.6800,2,    219.2,2,    218.3,2,   131.17,2,    31.59,2,     2.23,2,    0.074,2,    0.034,2,    0.017,2,    0.292,2,  -999.00,  0.0175,-999.000
       74DI207, DIS94, 12636,  1,1,19940228,1500,-43.1582,  53.9900, 4006,   4055.1,   0.1230,  34.6700,2,  34.6710,2,    224.0,2,    228.5,2,   137.36,2,    31.75,2,     2.24,2,    0.057,2,    0.025,2,    0.000,2,    0.292,2,    -0.23, -0.1622,   0.124
       74DI207, DIS94, 12637,  1,11,19940228,2352,-43.1607,  54.5690, 4150,     14.4,  11.1490,  33.6970,2,  33.7010,2,    278.0,2,    278.7,2,     2.32,2,    15.99,2,     1.13,2, -999.000,9, -999.000,9, -999.000,9, -999.000,9,    -0.36, 11.1473,  11.217
       74DI207, DIS94, 12637,  1,10,19940228,2352,-43.1607,  54.5690, 4150,    400.8,   2.9030,  34.1590,2,  34.1710,2,    256.4,2,    256.9,2,    26.75,2,    29.52,2,     2.02,2, -999.000,9, -999.000,9, -999.000,9, -999.000,9,    -0.20,  2.8782,-999.000
       74DI207, DIS94, 12637,  1,9,19940228,2352,-43.1607,  54.5690, 4150,    798.8,   2.4840,  34.4060,2,  34.4080,2,    194.8,2,    190.7,2,    55.39,2,    33.03,2,     2.28,2,    0.870,2,    0.409,2,    0.070,2,    1.849,2,    -0.12,  2.4344,-999.000
       74DI207, DIS94, 12637,  1,8,19940228,2352,-43.1607,  54.5690, 4150,   1594.4,   2.3830,  34.7330,2,  34.7290,2,    191.3,2,    190.5,2,    71.29,2,    29.71,2,     2.06,2,    0.091,2,    0.069,2,    0.013,2,    0.389,2,     0.00,  2.2743,-999.000
       74DI207, DIS94, 12637,  1,7,19940228,2352,-43.1607,  54.5690, 4150,   2290.4,   1.8780,  34.7640,2,  34.7730,2,    200.7,2,    204.3,2,    78.87,2,    28.36,2,     1.97,2,    0.094,2,    0.077,2,    0.016,2,    0.292,2,    -0.02,  1.7182,-999.000
       74DI207, DIS94, 12637,  1,6,19940228,2352,-43.1607,  54.5690, 4150,   2896.9,   1.4150,  34.7430,2,  34.7430,2,    205.3,2,    209.0,2,    98.38,2,    29.87,2,     2.08,2,    0.079,2,    0.058,2,    0.023,2,    0.292,2,    -0.10,  1.2094,   1.431
       74DI207, DIS94, 12637,  1,5,19940228,2352,-43.1607,  54.5690, 4150,   3096.6,   1.2550,  34.7340,2,  34.7330,2,    208.3,2,    206.0,2,   102.36,2,    30.24,2,     2.11,2,    0.081,2,    0.088,2,    0.036,2,    0.389,2,    -0.12,  1.0342,-999.000
       74DI207, DIS94, 12637,  1,4,19940228,2352,-43.1607,  54.5690, 4150,   3298.4,   1.0490,  34.7220,2,  34.7170,2,    211.5,2,    208.8,2,   110.26,2,    30.67,2,     2.16,2,    0.075,2,    0.048,2,    0.019,2,    0.292,2,    -0.13,  0.8138,   0.979
       74DI207, DIS94, 12637,  1,3,19940228,2352,-43.1607,  54.5690, 4150,   3502.6,   0.7420,  34.7040,2,  34.7040,2,    214.9,2,    211.3,2,   116.79,2,    31.16,2,     2.19,2, -999.000,9, -999.000,9, -999.000,9, -999.000,9,    -0.17,  0.4947,-999.000
       74DI207, DIS94, 12637,  1,2,19940228,2352,-43.1607,  54.5690, 4150,   3656.6,   0.5570,  34.6930,2,  34.6920,2,    215.1,2,    214.1,2,   123.27,2,    31.44,2,     2.20,2, -999.000,9,    0.000,2,    0.012,2,    0.486,2,    -0.18,  0.2994,-999.000
       74DI207, DIS94, 12637,  1,1,19940228,2352,-43.1607,  54.5690, 4150,   3811.9,   0.4430,  34.6870,2,  34.6870,2,    215.8,2,    222.1,2,   126.72,2,    31.49,2,     2.23,2, -999.000,9,    0.058,2,    0.014,2,    0.486,2,    -0.22,  0.1731,   0.430
       74DI207, DIS94, 12638,  1,8,19940301,0559,-43.1935,  54.4842, 4067,     16.0,  11.1410,  33.7070,2,  33.7100,2,    278.3,2,    278.3,2,     1.24,2,    15.32,2,     1.07,2,    3.601,2,    1.567,2,    0.326,2,    4.582,2,    -0.38, 11.1391,  11.202
       74DI207, DIS94, 12638,  1,7,19940301,0559,-43.1935,  54.4842, 4067,   3516.8,   0.7280,  34.7030,2,  34.7010,2,    211.4,2,    211.7,2,   119.11,2,    31.52,2,     2.23,2,    0.048,2,    0.024,2,    0.000,2,    0.292,2,    -0.20,  0.4796,-999.000
       74DI207, DIS94, 12638,  1,6,19940301,0559,-43.1935,  54.4842, 4067,   3619.6,   0.5630,  34.6940,2,  34.6950,2,    213.4,2,    213.7,2,   122.35,2,    31.62,2,     2.25,2,    0.068,2,    0.043,2,    0.008,2,    0.292,2,    -0.22,  0.3089,-999.000
       74DI207, DIS94, 12638,  1,5,19940301,0559,-43.1935,  54.4842, 4067,   3692.4,   0.4870,  34.6900,2,  34.6900,2,    214.6,2,    214.4,2,   124.64,2,    31.74,2,     2.24,2,    0.102,2,    0.069,2,    0.011,2,    0.486,2,    -0.22,  0.2278,-999.000
       74DI207, DIS94, 12638,  1,4,19940301,0559,-43.1935,  54.4842, 4067,   3799.8,   0.4070,  34.6860,2,  34.6850,2,    215.7,2,    215.9,2,   127.49,2,    31.66,2,     2.26,2, -999.000,9,    0.099,2,    0.017,2,    0.486,2,    -0.22,  0.1394,   0.419
       74DI207, DIS94, 12638,  1,3,19940301,0559,-43.1935,  54.4842, 4067,   3901.9,   0.3550,  34.6820,2,  34.6820,2,    218.1,2,    216.8,2,   129.49,2,    31.64,2,     2.24,2,    0.098,2,    0.076,2,    0.018,2,    0.486,2,    -0.23,  0.0786,-999.000
       74DI207, DIS94, 12638,  1,2,19940301,0559,-43.1935,  54.4842, 4067,   4005.6,   0.3140,  34.6790,2,  34.6810,2,    219.8,2,    218.9,2,   131.10,2,    31.77,2,     2.25,2,    0.112,2,    0.085,2, -999.000,9,    0.486,2,    -0.25,  0.0283,   0.308
       74DI207, DIS94, 12638,  1,1,19940301,0559,-43.1935,  54.4842, 4067,   4110.1,   0.1770,  34.6730,2,  34.6730,2,    222.6,2,    223.4,2,   135.74,2,    31.80,2,     2.27,2,    0.062,2,    0.045,2,    0.005,2,    0.389,2,    -0.27, -0.1154,   0.172