BOTTLE,20220815CCHSIOAMB
# Changed name of O18_O16 to DELO18, confirmed via cruise report that this is DELTA 18O
# Removed BTLNBR and BTLNBR_FLAG_W column (only fill values)
# Fabricated SAMPNO column as per old exchange doc
#BOTTLE,20020829WHPSIOKJU
#code : jjward hyd_to_exchange.pl 
#original files copied from HTML directory: 20020828
#original HYD file: iss1_hhy.txt   Wed Jul 12 10:49:41 2000
#original SUM file: iss1_hsu.txt   Thu Aug 29 14:12:41 2002
EXPOCODE,SECT_ID,STNNBR,CASTNO,SAMPNO,DATE,TIME,LATITUDE,LONGITUDE,DEPTH,CTDPRS,CTDTMP,CTDSAL,CTDSAL_FLAG_W,SALNTY,SALNTY_FLAG_W,CTDOXY,CTDOXY_FLAG_W,OXYGEN,OXYGEN_FLAG_W,SILCAT,SILCAT_FLAG_W,NITRAT,NITRAT_FLAG_W,PHSPHT,PHSPHT_FLAG_W,CFC-11,CFC-11_FLAG_W,CFC-12,CFC-12_FLAG_W,CFC113,CFC113_FLAG_W,CCL4,CCL4_FLAG_W,DELO18,THETA,REVTMP
,,,,,,,,,,DBAR,ITS-90,PSS-78,,PSS-78,,UMOL/KG,,UMOL/KG,,UMOL/KG,,UMOL/KG,,UMOL/KG,,PMOL/KG,,PMOL/KG,,PMOL/KG,,PMOL/KG,,/MILLE,DEG C,ITS-90
       74DI207, DIS94, 12629,  1,17,19940224,1757,-49.4980,  41.9393, 4120,     45.2,   5.2210,  33.7630,2,  33.7620,2,    318.0,2,    309.9,2,     5.35,2,    21.35,2,     1.38,2,    3.048,2,    1.992,2,    0.260,2,    7.305,2,  -999.00,  5.2175,   5.247
       74DI207, DIS94, 12629,  1,16,19940224,1757,-49.4980,  41.9393, 4120,    105.3,   4.2160,  33.7870,2,  33.7830,2,    299.3,2,    307.8,2,     8.70,2,    22.37,2,     1.49,2,    3.102,2,    2.027,2,    0.243,2,    7.402,2,  -999.00,  4.2087,-999.000
       74DI207, DIS94, 12629,  1,15,19940224,1757,-49.4980,  41.9393, 4120,    256.0,   1.6560,  33.9420,2,-999.0000,9,    278.8,2,   -999.0,9,  -999.00,9,  -999.00,9,  -999.00,9, -999.000,9, -999.000,9, -999.000,9, -999.000,9,  -999.00,  1.6432,-999.000
       74DI207, DIS94, 12629,  1,14,19940224,1757,-49.4980,  41.9393, 4120,    504.6,   1.5500,  34.4330,2,  34.4500,2,    198.3,2,    196.5,2,    70.53,2,    33.11,2,     2.28,2,    1.023,2,    0.903,2,    0.063,2,    2.044,2,  -999.00,  1.5237,-999.000
       74DI207, DIS94, 12629,  1,13,19940224,1757,-49.4980,  41.9393, 4120,    809.0,   2.1810,  34.6620,2,  34.6700,2,    182.9,2,    179.2,2,    75.45,2,    31.32,2,     2.17,2,    0.233,2,    0.098,2,    0.000,2,    0.487,2,  -999.00,  2.1323,-999.000
       74DI207, DIS94, 12629,  1,12,19940224,1757,-49.4980,  41.9393, 4120,   1130.6,   2.1210,  34.7320,2,  34.7270,2,    189.5,2,    186.7,2,    77.52,2,    29.56,2,     2.05,2,    0.156,2,    0.081,2,    0.000,2,    0.292,2,  -999.00,  2.0504,-999.000
       74DI207, DIS94, 12629,  1,11,19940224,1757,-49.4980,  41.9393, 4120,   1423.2,   2.0510,  34.7630,2,  34.7630,2,    196.3,2,    197.7,2,    77.07,2,    28.41,2,     1.96,2,    0.092,2,    0.047,2,    0.000,2,    0.195,2,  -999.00,  1.9595,-999.000
       74DI207, DIS94, 12629,  1,10,19940224,1757,-49.4980,  41.9393, 4120,   1725.7,   1.7570,  34.7620,2,  34.7620,2,    199.5,2,    201.2,2,    83.30,2,    28.49,2,     1.98,2,    0.067,2,    0.023,2,    0.000,2,    0.195,2,  -999.00,  1.6458,-999.000
       74DI207, DIS94, 12629,  1,9,19940224,1757,-49.4980,  41.9393, 4120,   2027.9,   1.5140,  34.7560,2,  34.7560,2,    203.4,2,    207.4,2,    89.73,2,    28.92,2,     2.02,2,    0.099,2,    0.054,2,    0.000,2,    0.195,2,  -999.00,  1.3823,-999.000
       74DI207, DIS94, 12629,  1,8,19940224,1757,-49.4980,  41.9393, 4120,   2338.9,   1.2350,  34.7360,2,  34.7370,2,    204.3,2,    205.5,2,    98.74,2,    29.61,2,     2.06,2,    0.073,2,    0.039,2,    0.000,2,    0.195,2,  -999.00,  1.0824,-999.000
       74DI207, DIS94, 12629,  1,7,19940224,1757,-49.4980,  41.9393, 4120,   2644.4,   0.9930,  34.7200,2,  34.7190,2,    207.0,2,    206.3,2,   106.59,2,    30.37,2,     2.11,2, -999.000,9,    0.040,2,    0.000,2,    0.292,2,  -999.00,  0.8190,-999.000
       74DI207, DIS94, 12629,  1,6,19940224,1757,-49.4980,  41.9393, 4120,   2948.8,   0.7330,  34.7040,2,  34.7010,2,    210.0,2,    209.5,2,   114.96,2,    30.88,2,     2.16,2,    0.135,2,    0.039,2,    0.000,2,    0.292,2,  -999.00,  0.5377,-999.000
       74DI207, DIS94, 12629,  1,5,19940224,1757,-49.4980,  41.9393, 4120,   3256.9,   0.3500,  34.6830,2,  34.6840,2,    215.4,2,    217.3,2,   122.96,2,    31.28,2,     2.21,2,    0.143,2,    0.044,2,    0.000,2,    0.389,2,  -999.00,  0.1357,   0.357
       74DI207, DIS94, 12629,  1,4,19940224,1757,-49.4980,  41.9393, 4120,   3512.6,   0.2520,  34.6780,2,  34.6770,2,    217.7,2,    218.4,2,   126.14,2,    31.44,2,     2.25,2,    0.142,2,    0.047,2,    0.000,2,    0.389,2,  -999.00,  0.0164,-999.000
       74DI207, DIS94, 12629,  1,3,19940224,1757,-49.4980,  41.9393, 4120,   3766.6,   0.2030,  34.6750,2,  34.6750,2,    220.3,2,    222.8,2,   128.89,2,    31.55,2,     2.24,2,    0.144,2,    0.043,2,    0.000,2,    0.389,2,  -999.00, -0.0557,-999.000
       74DI207, DIS94, 12629,  1,2,19940224,1757,-49.4980,  41.9393, 4120,   4021.9,   0.1860,  34.6720,2,-999.0000,9,    222.8,2,   -999.0,9,  -999.00,9,  -999.00,9,  -999.00,9, -999.000,9, -999.000,9, -999.000,9, -999.000,9,  -999.00, -0.0977,-999.000
       74DI207, DIS94, 12629,  1,1,19940224,1757,-49.4980,  41.9393, 4120,   4163.2,   0.1720,  34.6720,2,  34.6710,2,    224.8,2,    222.4,2,   131.59,2,    31.70,2,     2.23,2,    0.128,2,    0.046,2,    0.000,2,    0.389,2,  -999.00, -0.1257,   0.168
       74DI207, DIS94, 12630,  1,19,19940225,0443,-48.4795,  43.1138, 4279,     36.5,   5.3760,  33.7860,2,  33.7850,2,    342.8,2,   -999.0,9,     5.73,2,    21.08,2,     1.34,2,    3.698,2,    2.044,2,    0.375,2,    7.500,2,  -999.00,  5.3732,   5.375
       74DI207, DIS94, 12630,  1,18,19940225,0443,-48.4795,  43.1138, 4279,    106.4,   4.7830,  33.7860,2,  33.8220,2,    319.6,2,   -999.0,9,    13.06,2,    23.09,2,     1.58,2,    3.955,2,    2.210,2,    0.390,2,    7.889,2,  -999.00,  4.7751,-999.000
       74DI207, DIS94, 12630,  1,17,19940225,0443,-48.4795,  43.1138, 4279,    257.8,   3.0890,  34.0810,2,  34.1150,2,    274.4,2,    272.3,2,    21.21,2,    27.71,2,     1.89,2,    3.018,2,    1.675,2,    0.243,2,    5.355,2,  -999.00,  3.0730,-999.000
       74DI207, DIS94, 12630,  1,16,19940225,0443,-48.4795,  43.1138, 4279,    507.8,   2.3470,  34.2280,2,  34.2200,2,    234.6,2,    244.0,2,    38.19,2,    31.14,2,     2.11,2,    2.060,2,    1.188,2,    0.151,2,    3.407,2,  -999.00,  2.3174,-999.000
       74DI207, DIS94, 12630,  1,15,19940225,0443,-48.4795,  43.1138, 4279,    763.8,   2.4920,  34.4360,2,  34.4120,2,    189.1,2,    189.6,2,    57.31,2,    33.00,2,     2.26,2,    0.771,2,    0.428,2,    0.046,2,    1.460,2,  -999.00,  2.4447,-999.000
       74DI207, DIS94, 12630,  1,14,19940225,0443,-48.4795,  43.1138, 4279,   1017.8,   2.5270,  34.5800,2,  34.5630,2,    180.1,2,   -999.0,9,    66.61,2,    32.43,2,     2.24,2,    0.261,2,    0.144,2,    0.014,2,    0.681,2,  -999.00,  2.4614,-999.000
       74DI207, DIS94, 12630,  1,13,19940225,0443,-48.4795,  43.1138, 4279,   1319.6,   2.4550,  34.6880,2,  34.6800,2,    184.4,2,    182.7,2,    70.04,2,    30.59,2,     2.10,2,    0.113,2,    0.063,2,    0.000,2,    0.389,2,  -999.00,  2.3673,-999.000
       74DI207, DIS94, 12630,  1,12,19940225,0443,-48.4795,  43.1138, 4279,   1627.9,   2.2530,  34.7420,2,  34.7390,2,    191.0,2,    188.6,2,    73.96,2,    29.08,2,     2.00,2,    0.095,2,    0.042,2,    0.000,2,    0.292,2,  -999.00,  2.1432,-999.000
       74DI207, DIS94, 12630,  1,11,19940225,0443,-48.4795,  43.1138, 4279,   1930.3,   2.0750,  34.7620,2,  34.7610,2,    198.7,2,    199.5,2,    77.93,2,    28.68,2,     1.98,2,    0.094,2,    0.038,2,    0.000,2,    0.195,2,  -999.00,  1.9428,-999.000
       74DI207, DIS94, 12630,  1,10,19940225,0443,-48.4795,  43.1138, 4279,   2236.6,   1.8580,  34.7690,2,  34.7650,2,    203.3,2,    201.7,2,    83.01,2,    28.56,2,     1.96,2,    0.106,2,    0.047,2, -999.000,9,    0.195,2,  -999.00,  1.7032,-999.000
       74DI207, DIS94, 12630,  1,9,19940225,0443,-48.4795,  43.1138, 4279,   2539.6,   1.5190,  34.7490,2,  34.7450,2,    204.8,2,    202.8,2,    93.54,2,    29.26,2,     2.03,2, -999.000,9,    0.061,2, -999.000,9,    0.292,2,  -999.00,  1.3438,-999.000
       74DI207, DIS94, 12630,  1,8,19940225,0443,-48.4795,  43.1138, 4279,   2791.8,   1.2960,  34.7390,2,  34.7360,2,    206.6,2,    206.3,2,    99.31,2,    29.65,2,     2.07,2,    0.094,2,    0.043,2,    0.000,2,    0.195,2,  -999.00,  1.1026,-999.000
       74DI207, DIS94, 12630,  1,7,19940225,0443,-48.4795,  43.1138, 4279,   3033.6,   1.0970,  34.7270,2,  34.7250,2,    209.5,2,    206.8,2,   104.21,2,    30.02,2,     2.09,2,    0.082,2,    0.034,2,    0.000,2,    0.195,2,  -999.00,  0.8857,-999.000
       74DI207, DIS94, 12630,  1,6,19940225,0443,-48.4795,  43.1138, 4279,   3261.1,   0.9190,  34.7140,2,  34.7120,2,    210.5,2,    206.3,2,   109.53,2,    30.45,2,     2.14,2,    0.096,2,    0.044,2,    0.000,2,    0.292,2,  -999.00,  0.6905,-999.000
       74DI207, DIS94, 12630,  1,5,19940225,0443,-48.4795,  43.1138, 4279,   3524.6,   0.6420,  34.6970,2,  34.6940,2,    213.7,2,    213.9,2,   117.27,2,    31.06,2,     2.19,2,    0.111,2,    0.052,2,    0.000,2,    0.389,2,  -999.00,  0.3951,   0.581
       74DI207, DIS94, 12630,  1,4,19940225,0443,-48.4795,  43.1138, 4279,   3778.9,   0.3590,  34.6820,2,  34.6810,2,    217.8,2,    218.0,2,   122.87,2,    31.39,2,     2.22,2,    0.116,2,    0.054,2,    0.000,2,    0.389,2,  -999.00,  0.0948,-999.000
       74DI207, DIS94, 12630,  1,3,19940225,0443,-48.4795,  43.1138, 4279,   3943.8,   0.2680,  34.6770,2,  34.6760,2,    219.4,2,    222.0,2,   124.77,2,    31.45,2,     2.23,2,    0.125,2,    0.058,2,    0.000,2,    0.486,2,  -999.00, -0.0101,   0.266
       74DI207, DIS94, 12630,  1,2,19940225,0443,-48.4795,  43.1138, 4279,   4171.9,   0.2220,  34.6740,2,  34.6760,2,    222.9,2,    222.1,2,   124.88,2,    31.54,2,     2.21,2,    0.135,2,    0.051,2,    0.000,2,    0.389,2,  -999.00, -0.0781,-999.000
       74DI207, DIS94, 12630,  1,1,19940225,0443,-48.4795,  43.1138, 4279,   4350.6,   0.1800,  34.6710,2,  34.6710,2,    224.6,2,    226.5,2,   129.36,2,    31.87,2,     2.25,2,    0.125,2,    0.050,2,    0.000,2,    0.486,2,  -999.00, -0.1375,-999.000
       74DI207, DIS94, 12631,  1,17,19940225,1441,-47.4450,  44.1172, 3336,    108.9,   6.7230,  33.8390,2,  33.8450,2,    296.9,2,    294.9,2,     7.42,2,    20.47,2,     1.45,2,    4.728,2,    2.089,2,    0.423,2,    5.845,2,  -999.00,  6.7133,   5.831
       74DI207, DIS94, 12631,  1,16,19940225,1441,-47.4450,  44.1172, 3336,    360.8,   4.3720,  34.1980,2,  34.1940,2,    240.3,2,    254.7,2,    15.41,2,    27.34,2,     1.79,2,    3.548,2,    1.461,2,    0.233,2,    3.992,2,  -999.00,  4.3456,-999.000
       74DI207, DIS94, 12631,  1,15,19940225,1441,-47.4450,  44.1172, 3336,    713.8,   2.8220,  34.2340,2,  34.2340,2,    221.1,2,   -999.0,9,    44.42,2,    32.46,2,     2.21,2,    1.212,2,    0.525,2,    0.056,2,    1.752,2,  -999.00,  2.7765,-999.000
       74DI207, DIS94, 12631,  1,14,19940225,1441,-47.4450,  44.1172, 3336,   1013.7,   2.6570,  34.3920,2,-999.0000,9,    193.3,2,   -999.0,9,    33.52,2,    31.72,2,     2.11,2, -999.000,9, -999.000,9, -999.000,9, -999.000,9,  -999.00,  2.5910,-999.000
       74DI207, DIS94, 12631,  1,13,19940225,1441,-47.4450,  44.1172, 3336,   1272.2,   2.5540,  34.5730,2,  34.5690,2,    181.4,2,    184.4,2,    66.43,2,    33.40,2,     2.27,2,    0.180,2,    0.045,2,    0.000,2,    0.584,2,  -999.00,  2.4692,-999.000
       74DI207, DIS94, 12631,  1,12,19940225,1441,-47.4450,  44.1172, 3336,   1528.2,   2.4960,  34.6590,2,  34.6580,2,    185.3,2,    180.4,2,    69.03,2,    31.79,2,     2.16,2,    0.150,2,    0.046,2,    0.000,2,    0.389,2,  -999.00,  2.3915,-999.000
       74DI207, DIS94, 12631,  1,11,19940225,1441,-47.4450,  44.1172, 3336,   1781.2,   2.4410,  34.7190,2,  34.7260,2,    189.3,2,    189.3,2,    69.62,2,    30.24,2,     2.03,2,    0.077,2,    0.023,2,    0.000,2,    0.195,2,  -999.00,  2.3163,-999.000
       74DI207, DIS94, 12631,  1,10,19940225,1441,-47.4450,  44.1172, 3336,   1934.4,   2.3720,  34.7470,2,  34.7490,2,    192.4,2,    192.5,2,    70.61,2,    29.53,2,     1.98,2,    0.064,2,    0.023,2,    0.000,2,    0.195,2,  -999.00,  2.2352,-999.000
       74DI207, DIS94, 12631,  1,9,19940225,1441,-47.4450,  44.1172, 3336,   2086.1,   2.2700,  34.7580,2,  34.7600,2,    194.4,2,    196.8,2,    72.62,2,    29.28,2,     1.98,2,    0.066,2,    0.024,2,    0.000,2,    0.195,2,  -999.00,  2.1216,-999.000
       74DI207, DIS94, 12631,  1,8,19940225,1441,-47.4450,  44.1172, 3336,   2238.9,   2.1690,  34.7680,2,  34.7690,2,    196.9,2,    199.9,2,    77.21,2,    28.66,2,     2.00,2,    0.079,2,    0.030,2,    0.000,2,    0.195,2,  -999.00,  2.0088,-999.000
       74DI207, DIS94, 12631,  1,7,19940225,1441,-47.4450,  44.1172, 3336,   2393.1,   2.0000,  34.7710,2,  34.7740,2,    201.5,2,    204.7,2,    77.08,2,    28.26,2,     1.96,2,    0.054,2,    0.017,2,    0.000,2,    0.097,2,  -999.00,  1.8289,-999.000
       74DI207, DIS94, 12631,  1,6,19940225,1441,-47.4450,  44.1172, 3336,   2545.8,   1.8820,  34.7720,2,  34.7700,2,    203.1,2,    204.4,2,    81.06,2,    29.00,2,     1.99,2,    0.062,2,    0.018,2,    0.000,2,    0.097,2,  -999.00,  1.6993,-999.000
       74DI207, DIS94, 12631,  1,5,19940225,1441,-47.4450,  44.1172, 3336,   2699.6,   1.7240,  34.7650,2,  34.7670,2,    204.6,2,    206.2,2,    84.18,2,    28.93,2,     1.98,2,    0.053,2,    0.018,2,    0.000,2,    0.097,2,  -999.00,  1.5302,-999.000
       74DI207, DIS94, 12631,  1,4,19940225,1441,-47.4450,  44.1172, 3336,   2853.1,   1.6250,  34.7600,2,  34.7590,2,    206.5,2,    207.1,2,    88.40,2,    29.36,2,     2.00,2,    0.059,2,    0.022,2,    0.000,2,    0.097,2,  -999.00,  1.4190,   1.610
       74DI207, DIS94, 12631,  1,3,19940225,1441,-47.4450,  44.1172, 3336,   3008.6,   1.4450,  34.7480,2,  34.7480,2,    207.1,2,    205.8,2,    93.78,2,    29.81,2,     2.03,2,    0.065,2,    0.018,2,    0.000,2,    0.195,2,  -999.00,  1.2282,-999.000
       74DI207, DIS94, 12631,  1,2,19940225,1441,-47.4450,  44.1172, 3336,   3161.4,   1.3180,  34.7390,2,  34.7380,2,    208.1,2,    207.1,2,    98.22,2,    30.13,2,     2.07,2,    0.066,2,    0.026,2,    0.000,2,    0.195,2,  -999.00,  1.0895,   1.314
       74DI207, DIS94, 12631,  1,1,19940225,1441,-47.4450,  44.1172, 3336,   3402.1,   1.1060,  34.7250,2,  34.7250,2,    210.2,2,    208.4,2,   104.95,2,    30.43,2,     2.09,2,    0.074,2,    0.024,2,    0.000,2,    0.195,2,  -999.00,  0.8593,   1.105
       74DI207, DIS94, 12632,  1,18,19940226,0305,-46.6373,  44.9870, 2542,     42.7,   7.2880,  33.8290,2,  33.8280,2,    308.7,2,    305.4,2,     0.35,2,    16.90,2,     1.12,2,    4.719,2,    1.988,2,    0.434,2,    5.456,2,  -999.00,  7.2840,   7.272
       74DI207, DIS94, 12632,  1,17,19940226,0305,-46.6373,  44.9870, 2542,    104.2,   6.1230,  33.8530,2,  33.8410,2,    302.8,2,    299.5,2,     4.35,2,    19.45,2,     1.42,2,    4.981,2,    2.095,2,    0.474,2,    6.039,2,  -999.00,  6.1142,-999.000
       74DI207, DIS94, 12632,  1,16,19940226,0305,-46.6373,  44.9870, 2542,    205.1,   4.9930,  34.0160,2,  33.9970,2,    291.1,2,    291.1,2,     7.51,2,    22.76,2,     1.52,2,    4.971,2,    2.139,2,    0.441,2,    5.551,2,  -999.00,  4.9773,-999.000
       74DI207, DIS94, 12632,  1,15,19940226,0305,-46.6373,  44.9870, 2542,    304.0,   4.7900,  34.1770,2,  34.1590,2,    259.9,2,    266.3,2,    11.15,2,    25.04,2,     1.67,2, -999.000,9, -999.000,9, -999.000,9, -999.000,9,  -999.00,  4.7669,-999.000
       74DI207, DIS94, 12632,  1,14,19940226,0305,-46.6373,  44.9870, 2542,    404.0,   4.2780,  34.2060,2,  34.2000,2,    252.0,2,    257.2,2,    15.11,2,    27.19,2,     1.81,2,    3.595,2,    1.464,2,    0.238,2,    3.894,2,  -999.00,  4.2486,-999.000
       74DI207, DIS94, 12632,  1,13,19940226,0305,-46.6373,  44.9870, 2542,    552.7,   3.5410,  34.2170,2,  34.2220,2,    246.1,2,    250.1,2,    23.32,2,    29.55,2,     1.98,2,    2.877,2,    1.162,2,    0.167,2,    3.310,2,  -999.00,  3.5033,-999.000
       74DI207, DIS94, 12632,  1,12,19940226,0305,-46.6373,  44.9870, 2542,    705.8,   3.0810,  34.2840,2,  34.2880,2,    224.7,2,    224.2,2,    35.33,2,    31.65,2,     2.12,2,    1.791,2,    0.734,2,    0.089,2,    2.239,2,  -999.00,  3.0345,-999.000
       74DI207, DIS94, 12632,  1,11,19940226,0305,-46.6373,  44.9870, 2542,    859.5,   2.8290,  34.3460,2,  34.3450,2,    209.0,2,    206.7,2,    44.70,2,    32.79,2,     2.21,2,    1.287,2,    0.541,2,    0.052,2,    1.752,2,  -999.00,  2.7730,-999.000
       74DI207, DIS94, 12632,  1,10,19940226,0305,-46.6373,  44.9870, 2542,   1011.8,   2.5690,  34.4080,2,  34.4240,2,    195.0,2,    191.6,2,    52.86,2,    33.50,2,     2.28,2,    0.745,2,    0.320,2,    0.028,2,    1.265,2,  -999.00,  2.5038,-999.000
       74DI207, DIS94, 12632,  1,9,19940226,0305,-46.6373,  44.9870, 2542,   1164.7,   2.5770,  34.5110,2,  34.5180,2,    183.5,2,    180.7,2,    61.03,2,    33.52,2,     2.27,2,    0.470,2,    0.170,2,    0.016,2,    0.876,2,  -999.00,  2.5003,-999.000
       74DI207, DIS94, 12632,  1,8,19940226,0305,-46.6373,  44.9870, 2542,   1314.9,   2.5570,  34.5830,2,  34.5850,2,    180.9,2,    181.1,2,    65.37,2,    32.79,2,     2.24,2,    0.268,2,    0.099,2,    0.000,2,    0.681,2,  -999.00,  2.4688,-999.000
       74DI207, DIS94, 12632,  1,7,19940226,0305,-46.6373,  44.9870, 2542,   1623.8,   2.4720,  34.6980,2,  34.6990,2,    187.9,2,    193.6,2,    66.98,2,    30.62,2,     2.11,2,    0.099,2,    0.037,2,    0.000,2,    0.292,2,  -999.00,  2.3599,-999.000
       74DI207, DIS94, 12632,  1,6,19940226,0305,-46.6373,  44.9870, 2542,   1776.6,   2.4250,  34.7290,2,  34.7290,2,    190.6,2,    191.4,2,    67.21,2,    29.78,2,     2.03,2,    0.085,2,    0.034,2,    0.000,2,    0.292,2,  -999.00,  2.3008,   2.422
       74DI207, DIS94, 12632,  1,5,19940226,0305,-46.6373,  44.9870, 2542,   1928.1,   2.3550,  34.7480,2,  34.7480,2,    195.6,2,    194.2,2,    68.73,2,    29.35,2,     2.01,2,    0.066,2,    0.019,2,    0.000,2,    0.195,2,  -999.00,  2.2190,-999.000
       74DI207, DIS94, 12632,  1,4,19940226,0305,-46.6373,  44.9870, 2542,   2077.4,   2.2520,  34.7630,2,  34.7640,2,    199.3,2,   -999.0,9,    70.20,2,    28.72,2,     1.95,2,    0.063,2,    0.016,2,    0.000,2,    0.195,2,  -999.00,  2.1046,-999.000
       74DI207, DIS94, 12632,  1,3,19940226,0305,-46.6373,  44.9870, 2542,   2232.2,   2.1870,  34.7740,2,  34.7740,2,    203.2,2,    204.2,2,    70.86,2,    28.45,2,     1.94,2,    0.063,2,    0.014,2,    0.000,2,    0.195,2,  -999.00,  2.0270,   2.175
       74DI207, DIS94, 12632,  1,2,19940226,0305,-46.6373,  44.9870, 2542,   2387.2,   2.0390,  34.7760,2,  34.7770,2,    207.3,2,    206.2,2,    73.88,2,    28.15,2,     1.93,2,    0.042,2,    0.000,2,    0.000,2,    0.097,2,  -999.00,  1.8677,-999.000
       74DI207, DIS94, 12632,  1,1,19940226,0305,-46.6373,  44.9870, 2542,   2578.9,   1.8780,  34.7750,2,  34.7750,2,    210.1,2,    209.1,2,    78.97,2,    28.28,2,     1.95,2,    0.039,2,    0.000,2,    0.000,2,    0.097,2,  -999.00,  1.6923,   1.879