BOTTLE,20220815CCHSIOAMB
EXPOCODE,SECT_ID,STNNBR,CASTNO,SAMPNO,DATE,TIME,LATITUDE,LONGITUDE,DEPTH,CTDPRS,CTDTMP,CTDSAL,CTDSAL_FLAG_W,SALNTY,SALNTY_FLAG_W,CTDOXY,CTDOXY_FLAG_W,OXYGEN,OXYGEN_FLAG_W,SILCAT,SILCAT_FLAG_W,NITRAT,NITRAT_FLAG_W,PHSPHT,PHSPHT_FLAG_W,CFC-11,CFC-11_FLAG_W,CFC-12,CFC-12_FLAG_W,CFC113,CFC113_FLAG_W,CCL4,CCL4_FLAG_W,DELO18,THETA,REVTMP
,,,,,,,,,,DBAR,ITS-90,PSS-78,,PSS-78,,UMOL/KG,,UMOL/KG,,UMOL/KG,,UMOL/KG,,UMOL/KG,,PMOL/KG,,PMOL/KG,,PMOL/KG,,PMOL/KG,,/MILLE,DEG C,ITS-90
       74DI207, DIS94, 12639,  1,5,19940301,1141,-43.1777,  55.1510, 4248,     14.6,  11.2510,  33.7170,2,  33.7120,2,    281.1,2,    279.1,2,     8.33,2,    15.09,2,     1.06,2,    4.056,2,    1.768,2,    0.384,2,    4.582,2,  -999.00, 11.2492,  11.247
       74DI207, DIS94, 12639,  1,4,19940301,1141,-43.1777,  55.1510, 4248,    507.0,   2.7110,  34.1800,2,  34.1830,2,    247.8,2,    248.6,2,    56.72,2,    30.35,2,     2.08,2,    3.299,2,    1.379,2,    0.208,2,    3.894,2,  -999.00,  2.6800,   2.836
       74DI207, DIS94, 12639,  1,3,19940301,1141,-43.1777,  55.1510, 4248,    915.2,   2.5050,  34.4180,2,  34.4250,2,    189.2,2,    187.3,2,    69.05,2,    33.34,2,     2.33,2,    0.814,2,    0.379,2,    0.038,2,    1.655,2,  -999.00,  2.4472,-999.000
       74DI207, DIS94, 12639,  1,2,19940301,1141,-43.1777,  55.1510, 4248,   1720.6,   2.4170,  34.7390,2,  34.7370,2,    188.5,2,    191.0,2,    82.31,2,    29.38,2,     2.07,2,    0.053,2,    0.006,2,    0.000,2,    0.195,2,  -999.00,  2.2976,-999.000
       74DI207, DIS94, 12639,  1,1,19940301,1141,-43.1777,  55.1510, 4248,   2544.1,   1.8340,  34.7670,2,  34.9640,2,    203.8,2,    203.5,2,    82.26,2,    28.73,2,     2.02,2,    0.047,2,    0.014,2,    0.000,2,    0.195,2,  -999.00,  1.6523,   1.821
       74DI207, DIS94, 12640,  1,16,19940302,1741,-47.1207,  54.5422, 3860,     15.1,   7.2740,  33.7600,2,  33.7580,2,    305.7,2,    303.7,2,     4.45,2,    20.39,2,     1.42,2,    4.802,2,    2.041,2,    0.417,2,    5.359,2,    -0.46,  7.2726,   7.247
       74DI207, DIS94, 12640,  1,15,19940302,1741,-47.1207,  54.5422, 3860,    165.2,   2.6370,  33.9660,2,  33.9190,2,    310.8,2,    310.1,2,    17.47,2,    25.48,2,     1.80,2,    5.681,2,    2.361,2,    0.482,2,    6.231,2,    -0.38,  2.6275,-999.000
       74DI207, DIS94, 12640,  1,14,19940302,1741,-47.1207,  54.5422, 3860,    289.4,   2.7730,  34.1570,2,  34.1370,2,    258.9,2,   -999.0,9,    24.65,2,    28.66,2,     2.02,2,    3.851,2,    1.604,2,    0.247,2,    4.283,2,    -0.22,  2.7557,-999.000
       74DI207, DIS94, 12640,  1,13,19940302,1741,-47.1207,  54.5422, 3860,    407.5,   2.4270,  34.2290,2,  34.2100,2,    238.6,2,    240.8,2,    34.63,2,    30.77,2,     2.16,2,    2.895,2,    1.227,2,    0.153,2,    3.504,2,    -0.22,  2.4033,-999.000
       74DI207, DIS94, 12640,  1,12,19940302,1741,-47.1207,  54.5422, 3860,    915.3,   2.4150,  34.5740,2,  34.5620,2,    179.3,2,    175.2,2,    67.96,2,    32.69,2,     2.29,2,    0.335,2,    0.151,2,    0.000,2,    0.973,2,    -0.10,  2.3576,-999.000
       74DI207, DIS94, 12640,  1,11,19940302,1741,-47.1207,  54.5422, 3860,   1322.4,   2.3420,  34.7110,2,  34.7080,2,    186.2,2,    182.9,2,    72.47,2,    30.33,2,     2.12,2,    0.117,2,    0.039,2,    0.000,2,    0.389,2,    -0.05,  2.2552,-999.000
       74DI207, DIS94, 12640,  1,10,19940302,1741,-47.1207,  54.5422, 3860,   1780.7,   2.0670,  34.7700,2,  34.7670,2,    197.9,2,    198.6,2,    76.38,2,    28.60,2,     1.99,2,    0.062,2,    0.010,2,    0.000,2,    0.195,2,    -0.04,  1.9473,-999.000
       74DI207, DIS94, 12640,  1,9,19940302,1741,-47.1207,  54.5422, 3860,   2035.1,   1.8730,  34.7730,2,  34.7720,2,    202.2,2,    206.8,2,    80.37,2,    28.46,2,     1.98,2,    0.063,2,    0.010,2,    0.000,2,    0.195,2,    -0.02,  1.7351,-999.000
       74DI207, DIS94, 12640,  1,8,19940302,1741,-47.1207,  54.5422, 3860,   2289.8,   1.6370,  34.7630,2,  34.7630,2,    203.7,2,   -999.0,9,    86.69,2,    28.97,2,     2.01,2, -999.000,9, -999.000,9, -999.000,9, -999.000,9,    -0.09,  1.4814,-999.000
       74DI207, DIS94, 12640,  1,7,19940302,1741,-47.1207,  54.5422, 3860,   2543.6,   1.3960,  34.7490,2,  34.7500,2,    205.0,2,    204.8,2,    94.43,2,    29.63,2,     2.06,2,    0.067,2,    0.018,2,    0.000,2,    0.195,2,    -0.08,  1.2228,-999.000
       74DI207, DIS94, 12640,  1,6,19940302,1741,-47.1207,  54.5422, 3860,   2798.4,   1.2000,  34.7350,2,  34.7330,2,    207.1,2,    212.9,2,   101.66,2,    30.21,2,     2.10,2,    0.082,2,    0.013,2,    0.000,2,    0.292,2,    -0.10,  1.0080,-999.000
       74DI207, DIS94, 12640,  1,5,19940302,1741,-47.1207,  54.5422, 3860,   3055.6,   0.9210,  34.7180,2,  34.7170,2,    210.7,2,    208.5,2,   109.78,2,    30.84,2,     2.14,2,    0.090,2,    0.030,2,    0.000,2,    0.292,2,    -0.14,  0.7117,   0.911
       74DI207, DIS94, 12640,  1,4,19940302,1741,-47.1207,  54.5422, 3860,   3309.2,   0.6360,  34.7010,2,  34.7010,2,    215.0,2,    211.9,2,   118.56,2,    31.39,2,     2.19,2,    0.071,2,    0.025,2,    0.000,2,    0.389,2,    -0.17,  0.4098,-999.000
       74DI207, DIS94, 12640,  1,3,19940302,1741,-47.1207,  54.5422, 3860,   3563.4,   0.3720,  34.6860,2,  34.6880,2,    220.4,2,    221.5,2,   123.84,2,    31.68,2,     2.22,2,    0.081,2,    0.028,2,    0.000,2,    0.486,2,    -0.19,  0.1284,-999.000
       74DI207, DIS94, 12640,  1,2,19940302,1741,-47.1207,  54.5422, 3860,   3822.6,   0.1550,  34.6750,2,  34.6740,2,    224.2,2,    221.3,2,   135.54,2,    32.05,2,     2.24,2,    0.064,2,    0.023,2,    0.000,2,    0.486,2,    -0.21, -0.1079,   0.151
       74DI207, DIS94, 12640,  1,1,19940302,1741,-47.1207,  54.5422, 3860,   3928.6,   0.0420,  34.6700,2,  34.6700,2,    226.3,2,    227.4,2,   140.81,2,    32.09,2,     2.24,2,    0.052,2,    0.013,2,    0.000,2,    0.389,2,    -0.25, -0.2282,   0.041
       74DI207, DIS94, 12641,  1,17,19940303,1451,-46.9183,  53.6132, 3663,     24.5,   6.5790,  33.7870,2,  33.7880,2,    304.9,2,    302.3,2,     6.65,2,    21.22,2,     1.53,2, -999.000,9, -999.000,9, -999.000,9, -999.000,9,    -0.43,  6.5769,   6.541
       74DI207, DIS94, 12641,  1,16,19940303,1451,-46.9183,  53.6132, 3663,    100.4,   4.5930,  33.8220,6,  33.8230,2,    300.4,2,    306.5,2,    33.52,2,    22.46,2,     2.08,2,    5.484,2,    2.190,2,    0.445,2,    6.136,2,    -0.35,  4.5857,-999.000
       74DI207, DIS94, 12641,  1,15,19940303,1451,-46.9183,  53.6132, 3663,    389.8,   2.2690,  34.1820,2,  34.1820,2,    244.1,2,    249.5,2,    64.75,2,    30.57,2,     2.30,2,    3.314,2,    1.234,2,    0.207,2,    3.699,2,    -0.23,  2.2469,-999.000
       74DI207, DIS94, 12641,  1,14,19940303,1451,-46.9183,  53.6132, 3663,    805.7,   2.3720,  34.5000,2,  34.4960,2,    183.2,2,    179.2,2,    70.89,2,    33.30,2,     2.17,2,    0.640,2,    0.222,2,    0.029,2,    0.973,2,    -0.05,  2.3225,-999.000
       74DI207, DIS94, 12641,  1,13,19940303,1451,-46.9183,  53.6132, 3663,   1103.3,   2.4040,  34.6550,2,  34.6430,2,    180.7,2,    176.5,2,    60.12,2,    31.58,2,     1.89,2,    0.211,2,    0.054,2,    0.000,2,    0.389,2,    -0.04,  2.3330,-999.000
       74DI207, DIS94, 12641,  1,12,19940303,1451,-46.9183,  53.6132, 3663,   1403.2,   2.3060,  34.7270,2,  34.7220,2,    187.8,2,    185.6,2,    73.08,2,    29.78,2,     2.04,2,    0.128,2,    0.038,2,    0.000,2,    0.292,2,    -0.01,  2.2133,-999.000
       74DI207, DIS94, 12641,  1,11,19940303,1451,-46.9183,  53.6132, 3663,   1714.9,   2.1350,  34.7640,2,  34.7610,2,    196.8,2,    195.7,2,    75.78,2,    28.55,2,     1.97,2, -999.000,9, -999.000,9, -999.000,9, -999.000,9,     0.02,  2.0197,-999.000
       74DI207, DIS94, 12641,  1,10,19940303,1451,-46.9183,  53.6132, 3663,   2033.6,   1.8440,  34.7700,2,  34.7690,2,    200.8,2,    203.3,2,    81.86,2,    28.37,2,     1.96,2,    0.067,2,    0.011,2,    0.000,2,    0.097,2,    -0.01,  1.7067,-999.000
       74DI207, DIS94, 12641,  1,9,19940303,1451,-46.9183,  53.6132, 3663,   2282.2,   1.6290,  34.7620,2,  34.7610,2,    202.3,2,    204.5,2,    87.31,2,    28.78,2,     1.98,2,    0.064,2,    0.000,2,    0.000,2,    0.097,2,    -0.03,  1.4742,-999.000
       74DI207, DIS94, 12641,  1,8,19940303,1451,-46.9183,  53.6132, 3663,   2528.2,   1.3700,  34.7470,2,  34.7460,2,    204.0,2,    205.8,2,    95.57,2,    29.56,2,     2.03,2,    0.067,2,    0.000,2,    0.000,2,    0.195,2,    -0.10,  1.1986,-999.000
       74DI207, DIS94, 12641,  1,7,19940303,1451,-46.9183,  53.6132, 3663,   2762.6,   1.1550,  34.7330,2,  34.7300,2,    206.2,2,    211.3,2,   102.51,2,    30.08,2,     2.06,2,    0.081,2,    0.019,2,    0.000,2,    0.195,2,    -0.09,  0.9672,-999.000
       74DI207, DIS94, 12641,  1,6,19940303,1451,-46.9183,  53.6132, 3663,   3043.9,   0.9020,  34.7170,2,  34.7150,2,    209.5,2,    209.1,2,   110.30,2,    30.76,2,     2.11,2,    0.101,2,    0.021,2,    0.000,2,    0.195,2,    -0.16,  0.6942,   0.871
       74DI207, DIS94, 12641,  1,5,19940303,1451,-46.9183,  53.6132, 3663,   3303.9,   0.6020,  34.6990,2,  34.6960,2,    215.5,2,    223.5,2,   118.41,2,    31.40,2,     2.15,2,    0.098,2,    0.033,2,    0.000,2,    0.292,2,    -0.19,  0.3772,-999.000
       74DI207, DIS94, 12641,  1,4,19940303,1451,-46.9183,  53.6132, 3663,   3460.6,   0.3960,  34.6880,2,  34.6880,2,    220.0,2,    216.9,2,   123.65,2,    31.69,2,     2.17,2,    0.098,2,    0.030,2,    0.000,2,    0.292,2,  -999.00,  0.1616,-999.000
       74DI207, DIS94, 12641,  1,3,19940303,1451,-46.9183,  53.6132, 3663,   3553.1,   0.2660,  34.6810,2,  34.6810,2,    222.7,2,    219.5,2,   128.28,2,    31.83,2,     2.19,2,    0.099,2,    0.033,2,    0.000,2,    0.292,2,    -0.22,  0.0262,   0.262
       74DI207, DIS94, 12641,  1,2,19940303,1451,-46.9183,  53.6132, 3663,   3643.2,   0.1810,  34.6770,2,  34.6770,2,    223.8,2,    220.9,2,   133.20,2,    31.92,2,     2.19,2,    0.093,2,    0.033,2,    0.000,2,    0.292,2,    -0.26, -0.0652,-999.000
       74DI207, DIS94, 12641,  1,1,19940303,1451,-46.9183,  53.6132, 3663,   3714.4,   0.1340,  34.6750,2,  34.6750,2,    224.7,2,    224.6,2,   135.28,2,    31.94,2,     2.21,2,    0.092,2,    0.038,2,    0.000,2,    0.292,2,    -0.26, -0.1178,   0.136
       74DI207, DIS94, 12642,  1,15,19940303,2141,-46.7502,  53.0973, 2737,     44.8,   6.6290,  33.7890,2,  33.8380,2,    294.1,2,    295.2,2,     7.70,2,    21.94,2,     1.49,2,    5.316,2,    2.219,2,    0.444,2,    6.235,2,    -0.32,  6.6251,   6.313
       74DI207, DIS94, 12642,  1,14,19940303,2141,-46.7502,  53.0973, 2737,    405.9,   3.1050,  34.1650,2,  34.1480,2,    253.3,2,    262.6,2,    22.30,2,    28.47,2,     1.94,2,    4.360,2,    1.681,2,    0.296,2,    4.965,2,    -0.18,  3.0793,-999.000
       74DI207, DIS94, 12642,  1,13,19940303,2141,-46.7502,  53.0973, 2737,    711.0,   2.4820,  34.3440,2,  34.3590,2,    205.9,2,    204.3,2,    49.71,2,    32.54,2,     2.23,2,    1.470,2,    0.592,2,    0.078,2,    1.947,2,    -0.09,  2.4385,-999.000
       74DI207, DIS94, 12642,  1,12,19940303,2141,-46.7502,  53.0973, 2737,   1015.0,   2.4750,  34.5450,2,  34.5660,2,    180.1,2,    176.6,2,    67.01,2,    32.74,2,     2.24,2,    0.449,2,    0.165,2,    0.020,2,    0.779,2,    -0.03,  2.4101,-999.000
       74DI207, DIS94, 12642,  1,11,19940303,2141,-46.7502,  53.0973, 2737,   1270.4,   2.4080,  34.6500,2,  34.6750,2,    182.3,2,    180.7,2,    72.27,2,    31.08,2,     2.13,2,    0.240,2,    0.054,2,    0.000,2,    0.389,2,    -0.03,  2.3246,-999.000
       74DI207, DIS94, 12642,  1,10,19940303,2141,-46.7502,  53.0973, 2737,   1421.4,   2.3560,  34.7010,2,  34.7140,2,    184.6,2,    184.7,2,    72.63,2,    30.40,2,     2.06,2,    0.179,2,    0.041,2,    0.000,2,    0.389,2,  -999.00,  2.2614,-999.000
       74DI207, DIS94, 12642,  1,9,19940303,2141,-46.7502,  53.0973, 2737,   1574.7,   2.2870,  34.7360,2,  34.7370,2,    190.0,2,    189.5,2,    73.05,2,    29.74,2,     2.03,2,    0.147,2,    0.027,2,    0.000,2,    0.292,2,     0.00,  2.1811,-999.000
       74DI207, DIS94, 12642,  1,8,19940303,2141,-46.7502,  53.0973, 2737,   1727.6,   2.1860,  34.7570,2,  34.7550,2,    195.1,2,    193.9,2,    74.47,2,    29.12,2,     1.98,2,    0.125,2,    0.025,2,    0.000,2,    0.195,2,  -999.00,  2.0690,-999.000
       74DI207, DIS94, 12642,  1,7,19940303,2141,-46.7502,  53.0973, 2737,   1878.8,   2.0950,  34.7660,2,-999.0000,9,    197.4,2,    197.4,2,    75.81,2,    28.68,2,     1.96,2,    0.100,2,    0.023,2,    0.000,2,    0.195,2,     0.04,  1.9668,-999.000
       74DI207, DIS94, 12642,  1,6,19940303,2141,-46.7502,  53.0973, 2737,   2031.8,   1.9520,  34.7700,2,  34.7700,2,    200.7,2,    205.9,2,    77.83,2,    28.58,2,     1.95,2,    0.099,2,    0.000,2,    0.000,2,    0.195,2,  -999.00,  1.8132,-999.000
       74DI207, DIS94, 12642,  1,5,19940303,2141,-46.7502,  53.0973, 2737,   2185.4,   1.8600,  34.7680,2,  34.7670,2,    202.6,2,    202.2,2,    81.32,2,    28.69,2,     1.96,2,    0.104,2,    0.026,2,    0.000,2,    0.195,2,    -0.03,  1.7096,   1.856
       74DI207, DIS94, 12642,  1,4,19940303,2141,-46.7502,  53.0973, 2737,   2338.1,   1.7100,  34.7630,2,  34.7630,2,    203.5,2,    203.5,2,    84.61,2,    28.87,2,     1.97,2,    0.092,2,    0.016,2,    0.000,2,    0.195,2,  -999.00,  1.5489,-999.000
       74DI207, DIS94, 12642,  1,3,19940303,2141,-46.7502,  53.0973, 2737,   2491.6,   1.5550,  34.7550,2,  34.7560,2,    205.1,2,    204.8,2,    89.82,2,    29.16,2,     1.99,2,    0.111,2,    0.018,2,    0.000,2,    0.195,2,    -0.02,  1.3833,-999.000
       74DI207, DIS94, 12642,  1,2,19940303,2141,-46.7502,  53.0973, 2737,   2643.8,   1.3550,  34.7430,2,  34.7440,2,    206.6,2,    206.0,2,    96.15,2,    29.60,2,     2.02,2,    0.098,2,    0.014,2,    0.000,2,    0.195,2,    -0.09,  1.1737,   1.361
       74DI207, DIS94, 12642,  1,1,19940303,2141,-46.7502,  53.0973, 2737,   2771.4,   1.2190,  34.7350,2,  34.7350,2,    206.6,2,    207.0,2,   100.94,2,    29.96,2,     2.06,2,    0.103,2,    0.018,2,    0.000,2,    0.195,2,    -0.12,  1.0291,   1.219
       74DI207, DIS94, 12643,  1,15,19940304,1724,-47.3085,  55.2735, 3967,     24.9,   7.4290,  33.7780,2,  33.7760,2,    297.3,2,    296.9,2,     5.11,2,    20.65,2,     1.39,2,    5.194,2,    1.920,2,    0.434,2,    5.846,2,    -0.41,  7.4267,   7.383
       74DI207, DIS94, 12643,  1,14,19940304,1724,-47.3085,  55.2735, 3967,    105.8,   3.6780,  33.8830,2,  33.8640,2,    307.8,2,    305.6,2,    10.88,2,    24.03,2,     1.64,2,    5.731,2,    2.249,2,    0.495,2,    6.427,2,    -0.39,  3.6711,-999.000
       74DI207, DIS94, 12643,  1,13,19940304,1724,-47.3085,  55.2735, 3967,    407.2,   2.5390,  34.2020,2,  34.2070,2,    246.1,2,    251.4,2,    32.99,2,    30.36,2,     2.07,2,    3.202,2,    1.153,2,    0.191,2,    3.504,2,    -0.20,  2.5150,-999.000
       74DI207, DIS94, 12643,  1,12,19940304,1724,-47.3085,  55.2735, 3967,   1018.0,   2.4430,  34.6060,2,  34.6060,2,    185.3,2,    177.8,2,    68.84,2,    32.10,2,     1.89,2,    0.371,2, -999.000,9,    0.000,2,    0.584,2,    -0.07,  2.3780,-999.000
       74DI207, DIS94, 12643,  1,11,19940304,1724,-47.3085,  55.2735, 3967,   1424.6,   2.3240,  34.7210,2,  34.7230,2,    191.1,2,    191.2,2,    72.98,2,    29.95,2,     2.12,2,    0.206,2,    0.051,2,    0.000,2,    0.389,2,    -0.06,  2.2295,-999.000
       74DI207, DIS94, 12643,  1,10,19940304,1724,-47.3085,  55.2735, 3967,   1830.9,   2.0870,  34.7680,2,  34.7650,2,    200.4,2,   -999.0,9,    75.87,2,    28.54,2,     2.03,2,    0.152,2,    0.036,2,    0.000,2,    0.292,2,    -0.05,  1.9629,-999.000
       74DI207, DIS94, 12643,  1,9,19940304,1724,-47.3085,  55.2735, 3967,   2137.1,   1.8390,  34.7720,2,  34.7700,2,    203.2,2,    205.6,2,    81.03,2,    28.39,2,     1.93,2,    0.137,2,    0.014,2,    0.000,2,    0.195,2,    -0.09,  1.6930,-999.000
       74DI207, DIS94, 12643,  1,8,19940304,1724,-47.3085,  55.2735, 3967,   2435.9,   1.5770,  34.7580,2,  34.7570,2,    204.5,2,   -999.0,9,    89.80,2,    28.90,2,     1.98,2, -999.000,9, -999.000,9, -999.000,9, -999.000,9,  -999.00,  1.4098,-999.000
       74DI207, DIS94, 12643,  1,7,19940304,1724,-47.3085,  55.2735, 3967,   2717.1,   1.3150,  34.7420,2,  34.7410,2,    205.4,2,    208.1,2,    97.99,2,    29.59,2,     1.97,2,    0.110,2,    0.031,2,    0.000,2,    0.195,2,    -0.11,  1.1280,-999.000
       74DI207, DIS94, 12643,  1,6,19940304,1724,-47.3085,  55.2735, 3967,   2978.9,   1.0440,  34.7250,2,  34.7230,2,    208.4,2,    207.5,2,   105.80,2,    30.20,2,     2.06,2,    0.109,2,    0.013,2,    0.000,2,    0.292,2,    -0.13,  0.8390,-999.000
       74DI207, DIS94, 12643,  1,5,19940304,1724,-47.3085,  55.2735, 3967,   3182.4,   0.8180,  34.7100,2,  34.7070,2,    211.0,2,    212.4,2,   113.67,2,    30.90,2,     2.10,2,    0.131,2,    0.028,2,    0.000,2,    0.292,2,    -0.18,  0.5993,   0.737
       74DI207, DIS94, 12643,  1,4,19940304,1724,-47.3085,  55.2735, 3967,   3370.4,   0.5850,  34.6970,2,  34.6960,2,    214.5,2,    218.6,2,   118.96,2,    31.19,2,     2.13,2,    0.119,2,    0.040,2,    0.000,2,    0.292,2,    -0.21,  0.3543,-999.000
       74DI207, DIS94, 12643,  1,3,19940304,1724,-47.3085,  55.2735, 3967,   3544.4,   0.4070,  34.6880,2,  34.6880,2,    218.4,2,    217.8,2,   123.81,2,    31.41,2,     2.15,2,    0.132,2,    0.039,2,    0.000,2,    0.389,2,    -0.21,  0.1643,   0.399
       74DI207, DIS94, 12643,  1,2,19940304,1724,-47.3085,  55.2735, 3967,   3762.9,   0.2660,  34.6800,2,  34.6800,2,    221.2,2,    220.9,2,   129.17,2,    31.69,2,     2.16,2,    0.121,2,    0.045,2,    0.000,2,    0.389,2,    -0.23,  0.0059,-999.000
       74DI207, DIS94, 12643,  1,1,19940304,1724,-47.3085,  55.2735, 3967,   4002.1,   0.0390,  34.6690,2,  34.6700,2,    226.8,2,    225.1,2,   141.56,2,    31.83,2,     2.18,2,    0.106,2,    0.026,2,    0.000,2,    0.389,2,    -0.23, -0.2384,   0.036