BOTTLE,20220815CCHSIOAMB
EXPOCODE,SECT_ID,STNNBR,CASTNO,SAMPNO,BTLNBR,BTLNBR_FLAG_W,DATE,TIME,LATITUDE,LONGITUDE,DEPTH,CTDPRS,CTDTMP,CTDSAL,CTDSAL_FLAG_W,SALNTY,SALNTY_FLAG_W,CTDOXY,CTDOXY_FLAG_W,OXYGEN,OXYGEN_FLAG_W,SILCAT,SILCAT_FLAG_W,NITRAT,NITRAT_FLAG_W,NITRIT,NITRIT_FLAG_W,PHSPHT,PHSPHT_FLAG_W,CFC-11,CFC-11_FLAG_W,CFC-12,CFC-12_FLAG_W,SF6,SF6_FLAG_W,TCARBN,TCARBN_FLAG_W,ALKALI,ALKALI_FLAG_W,PCO2,PCO2_FLAG_W,PCO2TMP,PH_SWS,PH_SWS_FLAG_W,PH_TMP,TRITUM,TRITUM_FLAG_W,REFTMP,REFTMP_FLAG_W,DELC13,DELC13_FLAG_W,DELC14,DELC14_FLAG_W,C14ERR,DOC,DOC_FLAG_W,TDN,TDN_FLAG_W,CTDRAW,N2O,N2O_FLAG_W,SALTREF,SALTREF_FLAG_W,HELIUM,HELIUM_FLAG_W,DELO18,DELO18_FLAG_W,CCL4,CCL4_FLAG_W,BTL_DATE,BTL_TIME
,,,,,,,,,,,METERS,DBAR,ITS-90,PSS-78,,PSS-78,,UMOL/KG,,UMOL/KG,,UMOL/KG,,UMOL/KG,,UMOL/KG,,UMOL/KG,,PMOL/KG,,PMOL/KG,,FMOL/KG,,UMOL/KG,,UMOL/KG,,UATM,,DEG C,,,DEG C,TU,,DEG C,,/MILLE,,/MILLE,,/MILLE,UMOL/KG,,UMOL/KG,,DBAR,NMOL/KG,,G/KG,,NMOL/KG,,/MILLE,,PMOL/KG,,,
33RO20131223,       A16S,      16,          1,         24,         24,2,20131230,       2051,      -13.5,   -25.0003,       5158,     2.8,  25.6344,  37.0608,2,  37.0593,2,    203.5,2,   204.7,2,     0.8,2,     0.2,2,    0.00,2,   0.074,2,-999.000,9,-999.000,9,-999.000,9,  2084.6,6,    2430,2,-999.0000,9, -999.00,   8.0658,2,       25,-999.000,9,   25.635,2, -999.00,9,  -999.0,9,  -999.0,-999.00000000,9,-999.00000000,9,     2.8,     -999.0,9,     37.234,2,     -999.0,9,         -999.0,9,  -999.0,9,20131230,       2242
33RO20131223,       A16S,      16,          1,         23,         23,2,20131230,       2051,      -13.5,   -25.0003,       5158,    27.4,  25.4224,  37.0507,2,  37.0504,2,    203.6,2,   205.2,2,     0.8,2,     0.3,2,    0.00,2,   0.079,2,-999.000,9,-999.000,9,-999.000,9,  2084.7,2, 2431.51,6,-999.0000,9, -999.00,   8.0671,2,       25,-999.000,9,  25.4378,2, -999.00,9,  -999.0,9,  -999.0,-999.00000000,9,-999.00000000,9,    27.4,     -999.0,9,    37.2251,2,     -999.0,9,         -999.0,9,  -999.0,9,20131230,       2240
33RO20131223,       A16S,      16,          1,         22,         22,2,20131230,       2051,      -13.5,   -25.0003,       5158,    62.6,  24.2985,  37.0610,2,  37.0656,2,    213.6,2,     214,2,     0.8,2,     0.5,2,    0.00,2,   0.120,2,-999.000,9,-999.000,9,-999.000,9,  -999.0,9, -999.00,9,-999.0000,9, -999.00,-999.0000,9,  -999.00,-999.000,9,  24.2929,2, -999.00,9,  -999.0,9,  -999.0,-999.00000000,9,-999.00000000,9,    62.6,     -999.0,9,    37.2404,2,     -999.0,9,         -999.0,9,  -999.0,9,20131230,       2238
33RO20131223,       A16S,      16,          1,         21,         21,2,20131230,       2051,      -13.5,   -25.0003,       5158,   112.7,  22.8590,  36.9791,2,  36.9694,2,    210.3,2,   210.1,2,     0.9,2,     0.7,2,    0.00,2,   0.179,2,-999.000,9,-999.000,9,-999.000,9,  2108.2,2, 2427.95,2,-999.0000,9, -999.00,   8.0254,2,       25,-999.000,9,  22.8562,2, -999.00,9,  -999.0,9,  -999.0,-999.00000000,9,-999.00000000,9,   112.7,     -999.0,9,    37.1438,2,     -999.0,9,         -999.0,9,  -999.0,9,20131230,       2236
33RO20131223,       A16S,      16,          1,         20,         20,2,20131230,       2051,      -13.5,   -25.0003,       5158,   182.9,  17.6633,  36.0054,2,  36.0088,2,    185.8,2,     181,2,     2.2,2,     7.8,2,    0.02,2,   0.626,2,-999.000,9,-999.000,9,-999.000,9,  -999.0,9, -999.00,9,-999.0000,9, -999.00,-999.0000,9,  -999.00,-999.000,9,  17.6566,2, -999.00,9,  -999.0,9,  -999.0,-999.00000000,9,-999.00000000,9,   182.9,     -999.0,9,    36.1786,2,     -999.0,9,         -999.0,9,  -999.0,9,20131230,       2234
33RO20131223,       A16S,      16,          1,         19,         19,2,20131230,       2051,      -13.5,   -25.0003,       5158,   257.9,  13.1711,  35.2975,2,  35.3013,2,    127.4,2,     128,2,     6.6,2,    19.7,2,    0.00,2,   1.294,2,-999.000,9,-999.000,9,-999.000,9,  2178.6,2,  2322.6,2,-999.0000,9, -999.00,   7.7063,6,       25,-999.000,9,   13.173,2, -999.00,9,  -999.0,9,  -999.0,-999.00000000,9,-999.00000000,9,   257.9,     -999.0,9,    35.4678,2,     -999.0,9,         -999.0,9,  -999.0,9,20131230,       2231
33RO20131223,       A16S,      16,          1,         18,         18,2,20131230,       2051,      -13.5,   -25.0003,       5158,   347.5,  10.1668,  34.9198,2,  34.9127,2,     99.6,2,    99.8,2,    12.3,2,    28.0,2,    0.00,2,   1.826,2,-999.000,9,-999.000,9,-999.000,9,  -999.0,9, -999.00,9,-999.0000,9, -999.00,-999.0000,9,  -999.00,-999.000,9,  10.1676,2, -999.00,9,  -999.0,9,  -999.0,-999.00000000,9,-999.00000000,9,   347.5,     -999.0,9,    35.0774,2,     -999.0,9,         -999.0,9,  -999.0,9,20131230,       2229
33RO20131223,       A16S,      16,          1,         17,         17,2,20131230,       2051,      -13.5,   -25.0003,       5158,   447.9,   7.3860,  34.6107,2,  34.6056,2,    144.2,2,   141.2,2,    17.3,2,    29.6,2,    0.00,2,   1.966,2,-999.000,9,-999.000,9,-999.000,9,    2201,2, 2296.46,6,-999.0000,9, -999.00,   7.5807,2,       25,-999.000,9,   7.3773,2, -999.00,9,  -999.0,9,  -999.0,-999.00000000,9,-999.00000000,9,   447.9,     -999.0,9,    34.7688,2,     -999.0,9,         -999.0,9,  -999.0,9,20131230,       2226
33RO20131223,       A16S,      16,          1,         16,         16,2,20131230,       2051,      -13.5,   -25.0003,       5158,   573.1,   5.6415,  34.4670,2,  34.4673,2,    160.3,2,   158.6,2,    23.5,2,    31.4,2,    0.00,2,   2.126,2,-999.000,9,-999.000,9,-999.000,9,  -999.0,9, -999.00,9,-999.0000,9, -999.00,-999.0000,9,  -999.00,-999.000,9,   5.6584,2, -999.00,9,  -999.0,9,  -999.0,-999.00000000,9,-999.00000000,9,   573.1,     -999.0,9,    34.6298,2,     -999.0,9,         -999.0,9,  -999.0,9,20131230,       2223
33RO20131223,       A16S,      16,          1,         15,         15,2,20131230,       2051,      -13.5,   -25.0003,       5158,   721.9,   4.7748,  34.4390,2,  34.4381,2,    162.4,2,   161.1,2,    29.4,2,    32.4,2,    0.00,2,   2.218,2,-999.000,9,-999.000,9,-999.000,9,  2211.8,2, 2298.85,2,-999.0000,9, -999.00,   7.5619,2,       25,-999.000,9,   4.7759,2, -999.00,9,  -999.0,9,  -999.0,-999.00000000,9,-999.00000000,9,   721.9,     -999.0,9,    34.6005,2,     -999.0,9,         -999.0,9,  -999.0,9,20131230,       2219
33RO20131223,       A16S,      16,          1,         14,         14,2,20131230,       2051,      -13.5,   -25.0003,       5158,     873,   4.2167,  34.4678,2,  34.4672,2,    164.9,2,   164.9,2,    34.3,2,    32.5,2,    0.00,2,   2.250,2,-999.000,9,-999.000,9,-999.000,9,  2216.8,2, 2305.89,2,-999.0000,9, -999.00,   7.5557,2,       25,-999.000,9,   4.2147,2, -999.00,9,  -999.0,9,  -999.0,-999.00000000,9,-999.00000000,9,   873.0,     -999.0,9,    34.6297,6,     -999.0,9,         -999.0,9,  -999.0,9,20131230,       2216
33RO20131223,       A16S,      16,          1,         13,         13,2,20131230,       2051,      -13.5,   -25.0003,       5158,  1047.6,   3.9376,  34.5563,2,  34.5565,2,      172,2,   171.5,2,    36.0,2,    31.2,2,    0.00,2,   2.169,2,-999.000,9,-999.000,9,-999.000,9,  -999.0,9, -999.00,9,-999.0000,9, -999.00,-999.0000,9,  -999.00,-999.000,9,   3.9385,2, -999.00,9,  -999.0,9,  -999.0,-999.00000000,9,-999.00000000,9,  1047.6,     -999.0,9,    34.7194,2,     -999.0,9,         -999.0,9,  -999.0,9,20131230,       2212
33RO20131223,       A16S,      16,          1,         12,         12,2,20131230,       2051,      -13.5,   -25.0003,       5158,  1197.4,   3.9965,  34.6964,2,  34.6965,2,    182.3,2,   181.7,2,    32.1,2,    28.7,2,    0.00,2,   1.983,2,-999.000,9,-999.000,9,-999.000,9,  2208.2,2, 2314.41,2,-999.0000,9, -999.00,   7.5913,2,       25,-999.000,9,   3.9963,2, -999.00,9,  -999.0,9,  -999.0,-999.00000000,9,-999.00000000,9,  1197.4,     -999.0,9,    34.8602,2,     -999.0,9,         -999.0,9,  -999.0,9,20131230,       2208
33RO20131223,       A16S,      16,          1,         11,         11,2,20131230,       2051,      -13.5,   -25.0003,       5158,  1448.5,   4.1153,  34.8873,2,  34.8884,2,    210.2,2,   211.2,2,    23.4,2,    23.9,2,    0.00,2,   1.606,2,-999.000,9,-999.000,9,-999.000,9,  -999.0,9, -999.00,9,-999.0000,9, -999.00,-999.0000,9,  -999.00,-999.000,9,    4.115,2, -999.00,9,  -999.0,9,  -999.0,-999.00000000,9,-999.00000000,9,  1448.5,     -999.0,9,     35.053,2,     -999.0,9,         -999.0,9,  -999.0,9,20131230,       2203
33RO20131223,       A16S,      16,          1,         10,         10,2,20131230,       2051,      -13.5,   -25.0003,       5158,  1748.1,   3.6800,  34.9432,2,  34.9408,2,    236.1,2,   236.7,2,    22.4,2,    21.1,2,    0.00,2,   1.399,2,-999.000,9,-999.000,9,-999.000,9,  2174.4,2,  2319.4,2,-999.0000,9, -999.00,   7.7134,2,       25,-999.000,9,   3.6794,2, -999.00,9,  -999.0,9,  -999.0,-999.00000000,9,-999.00000000,9,  1748.1,     -999.0,9,    35.1055,2,     -999.0,9,         -999.0,9,  -999.0,9,20131230,       2157
33RO20131223,       A16S,      16,          1,          9,          9,2,20131230,       2051,      -13.5,   -25.0003,       5158,  2198.8,   3.0325,  34.9155,2,  34.9148,2,    239.1,2,   240.4,2,    32.5,2,    21.6,2,    0.00,2,   1.441,2,-999.000,9,-999.000,9,-999.000,9,  -999.0,9, -999.00,9,-999.0000,9, -999.00,-999.0000,9,  -999.00,-999.000,9,   3.0317,2, -999.00,9,  -999.0,9,  -999.0,-999.00000000,9,-999.00000000,9,  2198.8,     -999.0,9,    35.0794,2,     -999.0,9,         -999.0,9,  -999.0,9,20131230,       2149
33RO20131223,       A16S,      16,          1,          8,          8,2,20131230,       2051,      -13.5,   -25.0003,       5158,  2497.8,   2.8264,  34.9072,2,  34.9059,2,    241.4,2,   240.6,2,    36.5,2,    21.8,2,    0.00,2,   1.459,2,-999.000,9,-999.000,9,-999.000,9,  2185.2,2, 2332.74,2,-999.0000,9, -999.00,   7.7134,2,       25,-999.000,9,   2.8263,2, -999.00,9,  -999.0,9,  -999.0,-999.00000000,9,-999.00000000,9,  2497.8,     -999.0,9,    35.0705,2,     -999.0,9,         -999.0,9,  -999.0,9,20131230,       2143
33RO20131223,       A16S,      16,          1,          7,          7,2,20131230,       2051,      -13.5,   -25.0003,       5158,  2848.7,   2.6880,  34.9008,2,  34.9000,2,    240.2,2,   241.2,2,    39.6,2,    22.0,2,    0.01,2,   1.472,2,-999.000,9,-999.000,9,-999.000,9,  -999.0,9, -999.00,9,-999.0000,9, -999.00,-999.0000,9,  -999.00,-999.000,9,   2.6879,2, -999.00,9,  -999.0,9,  -999.0,-999.00000000,9,-999.00000000,9,  2848.7,     -999.0,9,    35.0646,2,     -999.0,9,         -999.0,9,  -999.0,9,20131230,       2136
33RO20131223,       A16S,      16,          1,          6,          6,2,20131230,       2051,      -13.5,   -25.0003,       5158,  3198.5,   2.5830,  34.8976,2,  34.8951,2,    242.8,2,   240.9,2,    40.9,2,    21.9,2,    0.01,2,   1.466,2,-999.000,9,-999.000,9,-999.000,9,  -999.0,9, -999.00,9,-999.0000,9, -999.00,-999.0000,9,  -999.00,-999.000,9,   2.5828,2, -999.00,9,  -999.0,9,  -999.0,-999.00000000,9,-999.00000000,9,  3198.5,     -999.0,9,    35.0597,2,     -999.0,9,         -999.0,9,  -999.0,9,20131230,       2130
33RO20131223,       A16S,      16,          1,          5,          5,2,20131230,       2051,      -13.5,   -25.0003,       5158,  3596.7,   2.3461,  34.8832,2,  34.8867,2,    245.6,2,   246.6,2,    45.0,2,    22.0,2,    0.01,2,   1.477,2,-999.000,9,-999.000,9,-999.000,9,  2190.3,2, 2338.04,6,-999.0000,9, -999.00,   7.7143,2,       25,-999.000,9,   2.3469,2, -999.00,9,  -999.0,9,  -999.0,-999.00000000,9,-999.00000000,9,  3596.7,     -999.0,9,    35.0512,2,     -999.0,9,         -999.0,9,  -999.0,9,20131230,       2122
33RO20131223,       A16S,      16,          1,          4,          4,2,20131230,       2051,      -13.5,   -25.0003,       5158,  3996.8,   1.9048,  34.8384,2,  34.8402,2,    240.2,2,   240.8,2,    62.0,6,    24.1,6,    0.00,6,   1.632,6,-999.000,9,-999.000,9,-999.000,9,  -999.0,9, -999.00,9,-999.0000,9, -999.00,-999.0000,9,  -999.00,-999.000,9,   1.9035,2, -999.00,9,  -999.0,9,  -999.0,-999.00000000,9,-999.00000000,9,  3996.8,     -999.0,9,    35.0044,2,     -999.0,9,         -999.0,9,  -999.0,9,20131230,       2115
33RO20131223,       A16S,      16,          1,          3,          3,2,20131230,       2051,      -13.5,   -25.0003,       5158,  4496.5,   1.0828,  34.7523,2,  34.7508,2,    227.2,2,   227.9,2,    94.7,6,    28.1,6,    0.00,6,   1.957,6,-999.000,9,-999.000,9,-999.000,9,  -999.0,9, -999.00,9,-999.0000,9, -999.00,-999.0000,9,  -999.00,-999.000,9,   1.0825,2, -999.00,9,  -999.0,9,  -999.0,-999.00000000,9,-999.00000000,9,  4496.5,     -999.0,9,    34.9147,6,     -999.0,9,         -999.0,9,  -999.0,9,20131230,       2106
33RO20131223,       A16S,      16,          1,          2,          2,2,20131230,       2051,      -13.5,   -25.0003,       5158,  4997.6,   0.8096,  34.7190,2,  34.7172,2,    222.7,2,   223.1,2,   107.2,6,    29.5,6,    0.00,6,   2.071,6,-999.000,9,-999.000,9,-999.000,9,  -999.0,9, -999.00,9,-999.0000,9, -999.00,-999.0000,9,  -999.00,-999.000,9,   0.8095,2, -999.00,9,  -999.0,9,  -999.0,-999.00000000,9,-999.00000000,9,  4997.6,     -999.0,9,    34.8809,2,     -999.0,9,         -999.0,9,  -999.0,9,20131230,       2056
33RO20131223,       A16S,      16,          1,          1,          1,2,20131230,       2051,      -13.5,   -25.0003,       5158,  5247.6,   0.7928,  34.7137,2,  34.7142,2,    223.4,2,   223.7,2,   109.2,6,    29.5,6,    0.01,6,   2.094,6,-999.000,9,-999.000,9,-999.000,9,  2254.2,6, 2365.37,2,-999.0000,9, -999.00,   7.6205,6,       25,-999.000,9,   0.7925,2, -999.00,9,  -999.0,9,  -999.0,-999.00000000,9,-999.00000000,9,  5247.6,     -999.0,9,    34.8779,2,     -999.0,9,         -999.0,9,  -999.0,9,20131230,       2051