BOTTLE,20220815CCHSIOAMB
EXPOCODE,SECT_ID,STNNBR,CASTNO,SAMPNO,BTLNBR,BTLNBR_FLAG_W,DATE,TIME,LATITUDE,LONGITUDE,DEPTH,CTDPRS,CTDTMP,CTDSAL,CTDSAL_FLAG_W,SALNTY,SALNTY_FLAG_W,CTDOXY,CTDOXY_FLAG_W,OXYGEN,OXYGEN_FLAG_W,SILCAT,SILCAT_FLAG_W,NITRAT,NITRAT_FLAG_W,NITRIT,NITRIT_FLAG_W,PHSPHT,PHSPHT_FLAG_W,CFC-11,CFC-11_FLAG_W,CFC-12,CFC-12_FLAG_W,SF6,SF6_FLAG_W,TCARBN,TCARBN_FLAG_W,ALKALI,ALKALI_FLAG_W,PCO2,PCO2_FLAG_W,PCO2TMP,PH_SWS,PH_SWS_FLAG_W,PH_TMP,TRITUM,TRITUM_FLAG_W,REFTMP,REFTMP_FLAG_W,DELC13,DELC13_FLAG_W,DELC14,DELC14_FLAG_W,C14ERR,DOC,DOC_FLAG_W,TDN,TDN_FLAG_W,CTDRAW,N2O,N2O_FLAG_W,SALTREF,SALTREF_FLAG_W,HELIUM,HELIUM_FLAG_W,DELO18,DELO18_FLAG_W,CCL4,CCL4_FLAG_W,BTL_DATE,BTL_TIME
,,,,,,,,,,,METERS,DBAR,ITS-90,PSS-78,,PSS-78,,UMOL/KG,,UMOL/KG,,UMOL/KG,,UMOL/KG,,UMOL/KG,,UMOL/KG,,PMOL/KG,,PMOL/KG,,FMOL/KG,,UMOL/KG,,UMOL/KG,,UATM,,DEG C,,,DEG C,TU,,DEG C,,/MILLE,,/MILLE,,/MILLE,UMOL/KG,,UMOL/KG,,DBAR,NMOL/KG,,G/KG,,NMOL/KG,,/MILLE,,PMOL/KG,,,
33RO20131223,       A16S,      30,          1,         24,         24,3,20140104,       0618,   -20.5001,   -25.0001,       5433,     3.5,  25.6395,  37.2580,2,  36.5229,4,    203.6,2,     239,4,     5.4,2,     5.4,2,    0.01,3,   0.493,3,-999.000,9,-999.000,9,-999.000,9,  2126.1,4,    2398,3,-999.0000,9, -999.00,   7.9607,2,       25,-999.000,9,  25.6452,2, -999.00,9,  -999.0,9,  -999.0,-999.00000000,9,-999.00000000,9,     3.5,     -999.0,9,    36.6951,2,     -999.0,9,         -999.0,9,  -999.0,9,20140104,       0813
33RO20131223,       A16S,      30,          1,         23,         23,2,20140104,       0618,   -20.5001,   -25.0001,       5433,    27.9,  25.6656,  37.2577,2,  37.2454,2,    204.2,2,   205.6,2,     0.8,2,     0.0,2,    0.00,2,   0.148,2,-999.000,9,-999.000,9,-999.000,9,  2113.3,6,  2442.2,6,-999.0000,9, -999.00,   8.0393,2,       25,-999.000,9,  25.6675,2, -999.00,9,  -999.0,9,  -999.0,-999.00000000,9,-999.00000000,9,    27.9,     -999.0,9,     37.421,2,     -999.0,9,         -999.0,9,  -999.0,9,20140104,       0811
33RO20131223,       A16S,      30,          1,         22,         22,2,20140104,       0618,   -20.5001,   -25.0001,       5433,      68,  23.8071,  37.0418,2,  37.0404,2,    217.8,2,   218.2,2,     0.8,2,     0.0,2,    0.00,2,   0.153,2,-999.000,9,-999.000,9,-999.000,9,  -999.0,9, -999.00,9,-999.0000,9, -999.00,-999.0000,9,  -999.00,-999.000,9,  23.8041,2, -999.00,9,  -999.0,9,  -999.0,-999.00000000,9,-999.00000000,9,    68.0,     -999.0,9,    37.2151,2,     -999.0,9,         -999.0,9,  -999.0,9,20140104,       0809
33RO20131223,       A16S,      30,          1,         21,         21,2,20140104,       0618,   -20.5001,   -25.0001,       5433,   107.8,  22.8799,  36.9240,2,  36.8823,2,      214,2,   214.9,2,     0.9,2,     0.0,2,    0.00,2,   0.161,2,-999.000,9,-999.000,9,-999.000,9,    2107,2, 2419.21,2,-999.0000,9, -999.00,   8.0239,6,       25,-999.000,9,  22.7959,2, -999.00,9,  -999.0,9,  -999.0,-999.00000000,9,-999.00000000,9,   107.8,     -999.0,9,    37.0562,2,     -999.0,9,         -999.0,9,  -999.0,9,20140104,       0807
33RO20131223,       A16S,      30,          1,         20,         20,2,20140104,       0618,   -20.5001,   -25.0001,       5433,   172.8,  19.4765,  36.2838,2,  36.2725,2,    202.8,2,   203.4,2,     1.4,2,     1.1,2,    0.10,2,   0.307,2,-999.000,9,-999.000,9,-999.000,9,  2117.5,2, 2381.94,2,-999.0000,9, -999.00,   7.9501,2,       25,-999.000,9,  19.5182,2, -999.00,9,  -999.0,9,  -999.0,-999.00000000,9,-999.00000000,9,   172.8,     -999.0,9,    36.4435,2,     -999.0,9,         -999.0,9,  -999.0,9,20140104,       0805
33RO20131223,       A16S,      30,          1,         19,         19,2,20140104,       0618,   -20.5001,   -25.0001,       5433,   258.4,  15.9250,  35.6321,2,  35.6204,2,      199,2,   198.3,2,     2.6,2,     6.3,2,    0.01,2,   0.570,2,-999.000,9,-999.000,9,-999.000,9,  2121.7,2, 2345.29,2,-999.0000,9, -999.00,   7.8798,2,       25,-999.000,9,  15.9334,2, -999.00,9,  -999.0,9,  -999.0,-999.00000000,9,-999.00000000,9,   258.4,     -999.0,9,    35.7883,2,     -999.0,9,         -999.0,9,  -999.0,9,20140104,       0802
33RO20131223,       A16S,      30,          1,         18,         18,5,20140104,       0618,   -20.5001,   -25.0001,       5433,   368.1,  12.1991,  35.0782,2,-999.0000,9,    175.4,2,  -999.0,9,  -999.0,9,  -999.0,9, -999.00,9,-999.000,9,-999.000,9,-999.000,9,-999.000,9,  -999.0,9, -999.00,9,-999.0000,9, -999.00,-999.0000,9,  -999.00,-999.000,9,  12.2022,2, -999.00,9,  -999.0,9,  -999.0,-999.00000000,9,-999.00000000,9,   368.1,     -999.0,9,     -999.0,9,     -999.0,9,         -999.0,9,  -999.0,9,20140104,       0759
33RO20131223,       A16S,      30,          1,         17,         17,2,20140104,       0618,   -20.5001,   -25.0001,       5433,   467.9,   9.5022,  34.7599,2,  34.7582,2,      172,2,   173.2,2,    10.5,2,    22.2,2,    0.00,2,   1.514,2,-999.000,9,-999.000,9,-999.000,9,  2171.4,2, 2299.58,2,-999.0000,9, -999.00,   7.6794,2,       25,-999.000,9,   9.4995,2, -999.00,9,  -999.0,9,  -999.0,-999.00000000,9,-999.00000000,9,   467.9,     -999.0,9,    34.9221,6,     -999.0,9,         -999.0,9,  -999.0,9,20140104,       0757
33RO20131223,       A16S,      30,          1,         16,         16,2,20140104,       0618,   -20.5001,   -25.0001,       5433,   567.5,   7.6066,  34.5825,2,  34.5757,2,    167.5,2,   167.4,2,    16.0,2,    27.3,2,    0.00,2,   1.836,2,-999.000,9,-999.000,9,-999.000,9,  2188.2,2, 2222.48,4,-999.0000,9, -999.00,   7.6195,2,       25,-999.000,9,   7.6115,2, -999.00,9,  -999.0,9,  -999.0,-999.00000000,9,-999.00000000,9,   567.5,     -999.0,9,    34.7387,2,     -999.0,9,         -999.0,9,  -999.0,9,20140104,       0754
33RO20131223,       A16S,      30,          1,         15,         15,2,20140104,       0618,   -20.5001,   -25.0001,       5433,   747.1,   4.8303,  34.3928,2,  34.3915,2,      187,2,   185.6,2,    28.0,6,    31.3,6,    0.00,6,   2.113,6,-999.000,9,-999.000,9,-999.000,9,  2202.3,2, 2298.88,2,-999.0000,9, -999.00,   7.5934,2,       25,-999.000,9,   4.8304,2, -999.00,9,  -999.0,9,  -999.0,-999.00000000,9,-999.00000000,9,   747.1,     -999.0,9,    34.5537,2,     -999.0,9,         -999.0,9,  -999.0,9,20140104,       0750
33RO20131223,       A16S,      30,          1,         14,         14,2,20140104,       0618,   -20.5001,   -25.0001,       5433,   923.1,   3.8220,  34.4506,2,  34.4502,2,      184,2,   182.8,2,    39.4,2,    32.6,2,    0.00,2,   2.219,2,-999.000,9,-999.000,9,-999.000,9,  2216.8,2, -999.00,5,-999.0000,9, -999.00,   7.5808,2,       25,-999.000,9,    3.822,2, -999.00,9,  -999.0,9,  -999.0,-999.00000000,9,-999.00000000,9,   923.1,     -999.0,9,    34.6127,2,     -999.0,9,         -999.0,9,  -999.0,9,20140104,       0746
33RO20131223,       A16S,      30,          1,         13,         13,2,20140104,       0618,   -20.5001,   -25.0001,       5433,  1097.2,   3.6197,  34.5902,2,  34.5896,2,    185.1,2,   185.4,2,    41.1,2,    31.0,2,    0.00,2,   2.116,2,-999.000,9,-999.000,9,-999.000,9,  2216.5,6, 2316.23,2,-999.0000,9, -999.00,   7.5955,2,       25,-999.000,9,   3.6199,2, -999.00,9,  -999.0,9,  -999.0,-999.00000000,9,-999.00000000,9,  1097.2,     -999.0,9,    34.7527,2,     -999.0,9,         -999.0,9,  -999.0,9,20140104,       0742
33RO20131223,       A16S,      30,          1,         12,         12,2,20140104,       0618,   -20.5001,   -25.0001,       5433,    1248,   3.7721,  34.7436,2,  34.7455,2,    195.1,2,   195.8,2,    35.0,2,    28.0,2,    0.00,2,   1.890,2,-999.000,9,-999.000,9,-999.000,9,  2207.7,2, 2322.63,2,-999.0000,9, -999.00,   7.6254,2,       25,-999.000,9,    3.772,2, -999.00,9,  -999.0,9,  -999.0,-999.00000000,9,-999.00000000,9,  1248.0,     -999.0,9,    34.9094,2,     -999.0,9,         -999.0,9,  -999.0,9,20140104,       0739
33RO20131223,       A16S,      30,          1,         11,         11,2,20140104,       0618,   -20.5001,   -25.0001,       5433,  1398.3,   3.8048,  34.8440,2,  34.8446,2,    210.6,2,   210.8,2,    29.9,2,    25.3,2,    0.00,2,   1.692,2,-999.000,9,-999.000,9,-999.000,9,  -999.0,9, -999.00,9,-999.0000,9, -999.00,-999.0000,9,  -999.00,-999.000,9,   3.8041,2, -999.00,9,  -999.0,9,  -999.0,-999.00000000,9,-999.00000000,9,  1398.3,     -999.0,9,    35.0089,2,     -999.0,9,         -999.0,9,  -999.0,9,20140104,       0735
33RO20131223,       A16S,      30,          1,         10,         10,2,20140104,       0618,   -20.5001,   -25.0001,       5433,  1587.9,   3.6461,  34.9038,2,  34.9038,2,    228.8,2,   228.5,2,    26.7,2,    22.8,2,    0.00,2,   1.522,2,-999.000,9,-999.000,9,-999.000,9,  2183.8,2, 2315.73,2,-999.0000,9, -999.00,   7.6926,2,       25,-999.000,9,   3.6447,2, -999.00,9,  -999.0,9,  -999.0,-999.00000000,9,-999.00000000,9,  1587.9,     -999.0,9,    35.0684,2,     -999.0,9,         -999.0,9,  -999.0,9,20140104,       0731
33RO20131223,       A16S,      30,          1,          9,          9,2,20140104,       0618,   -20.5001,   -25.0001,       5433,  1947.6,   3.3291,  34.9378,2,  34.9387,2,      244,2,   245.2,2,    25.7,2,    20.9,2,    0.00,2,   1.383,2,-999.000,9,-999.000,9,-999.000,9,  2175.4,2, 2323.84,2,-999.0000,9, -999.00,   7.7187,2,       25,-999.000,9,   3.3286,2, -999.00,9,  -999.0,9,  -999.0,-999.00000000,9,-999.00000000,9,  1947.6,     -999.0,9,    35.1034,2,     -999.0,9,         -999.0,9,  -999.0,9,20140104,       0724
33RO20131223,       A16S,      30,          1,          8,          8,2,20140104,       0618,   -20.5001,   -25.0001,       5433,  2397.7,   3.0442,  34.9316,2,  34.9316,2,    248.3,2,   247.8,2,    29.1,2,    20.8,2,    0.00,2,   1.380,2,-999.000,9,-999.000,9,-999.000,9,  -999.0,9, -999.00,9,-999.0000,9, -999.00,-999.0000,9,  -999.00,-999.000,9,   3.0443,2, -999.00,9,  -999.0,9,  -999.0,-999.00000000,9,-999.00000000,9,  2397.7,     -999.0,9,    35.0963,2,     -999.0,9,         -999.0,9,  -999.0,9,20140104,       0716
33RO20131223,       A16S,      30,          1,          7,          7,2,20140104,       0618,   -20.5001,   -25.0001,       5433,  2947.6,   2.7738,  34.9177,2,  34.9182,2,    248.9,2,   248.7,2,    33.8,2,    21.0,2,    0.00,2,   1.401,2,-999.000,9,-999.000,9,-999.000,9,  2181.8,2, 2329.63,2,-999.0000,9, -999.00,   7.7244,2,       25,-999.000,9,   2.7734,2, -999.00,9,  -999.0,9,  -999.0,-999.00000000,9,-999.00000000,9,  2947.6,     -999.0,9,    35.0829,2,     -999.0,9,         -999.0,9,  -999.0,9,20140104,       0706
33RO20131223,       A16S,      30,          1,          6,          6,2,20140104,       0618,   -20.5001,   -25.0001,       5433,  3447.4,   2.5293,  34.9022,2,  34.9028,2,    251.4,2,   250.8,2,    38.1,2,    21.2,2,    0.00,2,   1.418,2,-999.000,9,-999.000,9,-999.000,9,  -999.0,9, -999.00,9,-999.0000,9, -999.00,-999.0000,9,  -999.00,-999.000,9,   2.5288,2, -999.00,9,  -999.0,9,  -999.0,-999.00000000,9,-999.00000000,9,  3447.4,     -999.0,9,    35.0674,6,     -999.0,9,         -999.0,9,  -999.0,9,20140104,       0657
33RO20131223,       A16S,      30,          1,          5,          5,2,20140104,       0618,   -20.5001,   -25.0001,       5433,  3847.3,   2.0782,  34.8573,2,  34.8561,2,    244.8,2,     245,2,    54.8,2,    23.4,2,    0.00,2,   1.579,2,-999.000,9,-999.000,9,-999.000,9,  2199.8,2, 2341.99,2,-999.0000,9, -999.00,   7.7031,6,       25,-999.000,9,   2.0777,2, -999.00,9,  -999.0,9,  -999.0,-999.00000000,9,-999.00000000,9,  3847.3,     -999.0,9,    35.0205,2,     -999.0,9,         -999.0,9,  -999.0,9,20140104,       0649
33RO20131223,       A16S,      30,          1,          4,          4,2,20140104,       0618,   -20.5001,   -25.0001,       5433,  4346.8,   1.3360,  34.7782,2,  34.7782,2,    231.6,2,   232.8,2,    85.4,2,    27.5,2,    0.00,2,   1.879,2,-999.000,9,-999.000,9,-999.000,9,  2230.7,2, 2354.11,6,-999.0000,9, -999.00,   7.6617,2,       25,-999.000,9,    1.337,2, -999.00,9,  -999.0,9,  -999.0,-999.00000000,9,-999.00000000,9,  4346.8,     -999.0,9,    34.9422,2,     -999.0,9,         -999.0,9,  -999.0,9,20140104,       0640
33RO20131223,       A16S,      30,          1,          3,          3,2,20140104,       0618,   -20.5001,   -25.0001,       5433,  4747.6,   0.9805,  34.7386,2,  34.7375,2,      226,2,   226.8,2,   100.5,6,    29.6,6,    0.00,6,   2.024,6,-999.000,9,-999.000,9,-999.000,9,  2245.7,2, 2358.69,2,-999.0000,9, -999.00,   7.6363,2,       25,-999.000,9,   0.9806,2, -999.00,9,  -999.0,9,  -999.0,-999.00000000,9,-999.00000000,9,  4747.6,     -999.0,9,    34.9013,2,     -999.0,9,         -999.0,9,  -999.0,9,20140104,       0633
33RO20131223,       A16S,      30,          1,          2,          2,2,20140104,       0618,   -20.5001,   -25.0001,       5433,  5247.9,   0.8319,  34.7172,2,  34.7179,2,    223.4,2,   224.1,2,   108.4,6,    30.5,6,    0.00,6,   2.099,6,-999.000,9,-999.000,9,-999.000,9,  -999.0,9, -999.00,9,-999.0000,9, -999.00,-999.0000,9,  -999.00,-999.000,9,    0.832,2, -999.00,9,  -999.0,9,  -999.0,-999.00000000,9,-999.00000000,9,  5247.9,     -999.0,9,    34.8816,2,     -999.0,9,         -999.0,9,  -999.0,9,20140104,       0623
33RO20131223,       A16S,      30,          1,          1,          1,2,20140104,       0618,   -20.5001,   -25.0001,       5433,  5520.3,   0.7879,  34.7087,2,  34.7091,2,    222.9,2,   223.4,2,   111.4,6,    30.9,6,    0.00,6,   2.127,6,-999.000,9,-999.000,9,-999.000,9,  2256.2,6, 2365.18,2,-999.0000,9, -999.00,   7.6174,2,       25,-999.000,9,   0.7875,2, -999.00,9,  -999.0,9,  -999.0,-999.00000000,9,-999.00000000,9,  5520.3,     -999.0,9,    34.8728,2,     -999.0,9,         -999.0,9,  -999.0,9,20140104,       0618