BOTTLE,20220815CCHSIOAMB
EXPOCODE,SECT_ID,STNNBR,CASTNO,SAMPNO,BTLNBR,BTLNBR_FLAG_W,DATE,TIME,LATITUDE,LONGITUDE,DEPTH,CTDPRS,CTDTMP,CTDSAL,CTDSAL_FLAG_W,SALNTY,SALNTY_FLAG_W,CTDOXY,CTDOXY_FLAG_W,OXYGEN,OXYGEN_FLAG_W,SILCAT,SILCAT_FLAG_W,NITRAT,NITRAT_FLAG_W,NITRIT,NITRIT_FLAG_W,PHSPHT,PHSPHT_FLAG_W,CFC-11,CFC-11_FLAG_W,CFC-12,CFC-12_FLAG_W,SF6,SF6_FLAG_W,TCARBN,TCARBN_FLAG_W,ALKALI,ALKALI_FLAG_W,PCO2,PCO2_FLAG_W,PCO2TMP,PH_SWS,PH_SWS_FLAG_W,PH_TMP,TRITUM,TRITUM_FLAG_W,REFTMP,REFTMP_FLAG_W,DELC13,DELC13_FLAG_W,DELC14,DELC14_FLAG_W,C14ERR,DOC,DOC_FLAG_W,TDN,TDN_FLAG_W,CTDRAW,N2O,N2O_FLAG_W,SALTREF,SALTREF_FLAG_W,HELIUM,HELIUM_FLAG_W,DELO18,DELO18_FLAG_W,CCL4,CCL4_FLAG_W,BTL_DATE,BTL_TIME
,,,,,,,,,,,METERS,DBAR,ITS-90,PSS-78,,PSS-78,,UMOL/KG,,UMOL/KG,,UMOL/KG,,UMOL/KG,,UMOL/KG,,UMOL/KG,,PMOL/KG,,PMOL/KG,,FMOL/KG,,UMOL/KG,,UMOL/KG,,UATM,,DEG C,,,DEG C,TU,,DEG C,,/MILLE,,/MILLE,,/MILLE,UMOL/KG,,UMOL/KG,,DBAR,NMOL/KG,,G/KG,,NMOL/KG,,/MILLE,,PMOL/KG,,,
33RO20131223,       A16S,      54,          1,         24,         24,2,20140111,       1006,   -32.5003,   -24.9995,       4158,     2.5,  22.7191,  35.6474,2,  35.6478,2,    217.8,2,   221.6,2,     0.8,2,     0.2,2,    0.00,2,   0.060,2,-999.000,5,-999.000,9,-999.000,9,  2062.9,6, 2342.51,2,-999.0000,9, -999.00,   7.9915,2,       25,-999.000,9,  22.6498,2, -999.00,9,  -999.0,9,  -999.0,-999.00000000,9,-999.00000000,9,     2.5,     -999.0,9,    35.8159,2,     -999.0,9,         -999.0,9,  -999.0,9,20140111,       1141
33RO20131223,       A16S,      54,          1,         23,         23,2,20140111,       1006,   -32.5003,   -24.9995,       4158,      28,  20.5353,  35.7684,2,  35.7235,2,      230,2,   232.6,2,     0.8,2,     0.2,2,    0.00,2,   0.060,2,-999.000,5,-999.000,9,-999.000,9,  -999.0,9, -999.00,9,-999.0000,9, -999.00,-999.0000,9,  -999.00,-999.000,9,  20.6114,2, -999.00,9,  -999.0,9,  -999.0,-999.00000000,9,-999.00000000,9,    28.0,     -999.0,9,    35.8919,2,     -999.0,9,         -999.0,9,  -999.0,9,20140111,       1139
33RO20131223,       A16S,      54,          1,         22,         22,2,20140111,       1006,   -32.5003,   -24.9995,       4158,    68.3,  18.5338,  35.8398,2,  35.8370,2,    238.3,2,   238.6,2,     0.9,2,     0.2,2,    0.00,2,   0.086,2,-999.000,5,-999.000,9,-999.000,9,  2075.4,2, 2357.89,6,-999.0000,9, -999.00,   7.9876,2,       25,-999.000,9,  18.5358,2, -999.00,9,  -999.0,9,  -999.0,-999.00000000,9,-999.00000000,9,    68.3,     -999.0,9,     36.006,2,     -999.0,9,         -999.0,9,  -999.0,9,20140111,       1137
33RO20131223,       A16S,      54,          1,         21,         21,2,20140111,       1006,   -32.5003,   -24.9995,       4158,   108.4,  17.2804,  35.7123,2,  35.6904,2,    235.4,2,   234.5,2,     1.0,2,     0.5,2,    0.01,2,   0.145,2,-999.000,5,-999.000,9,-999.000,9,  2083.3,2, 2348.63,2,-999.0000,9, -999.00,   7.9595,6,       25,-999.000,9,  17.2809,2, -999.00,9,  -999.0,9,  -999.0,-999.00000000,9,-999.00000000,9,   108.4,     -999.0,9,    35.8587,2,     -999.0,9,         -999.0,9,  -999.0,9,20140111,       1135
33RO20131223,       A16S,      54,          1,         20,         20,2,20140111,       1006,   -32.5003,   -24.9995,       4158,     173,  15.4366,  35.5498,2,  35.5519,2,      223,2,   223.2,2,     1.5,2,     3.6,2,    0.02,2,   0.365,2,-999.000,5,-999.000,9,-999.000,9,  2103.9,2, 2342.96,2,-999.0000,9, -999.00,   7.9125,2,       25,-999.000,9,  15.4356,2, -999.00,9,  -999.0,9,  -999.0,-999.00000000,9,-999.00000000,9,   173.0,     -999.0,9,    35.7196,2,     -999.0,9,         -999.0,9,  -999.0,9,20140111,       1133
33RO20131223,       A16S,      54,          1,         19,         19,2,20140111,       1006,   -32.5003,   -24.9995,       4158,   258.8,  14.5204,  35.4897,2,  35.4888,2,      220,2,   219.3,2,     2.0,2,     6.3,2,    0.01,2,   0.525,2,-999.000,5,-999.000,9,-999.000,9,  2115.6,2, 2331.27,2,-999.0000,9, -999.00,   7.8848,2,       25,-999.000,9,  14.5163,2, -999.00,9,  -999.0,9,  -999.0,-999.00000000,9,-999.00000000,9,   258.8,     -999.0,9,    35.6562,2,     -999.0,9,         -999.0,9,  -999.0,9,20140111,       1130
33RO20131223,       A16S,      54,          1,         18,         18,2,20140111,       1006,   -32.5003,   -24.9995,       4158,   368.2,  13.1859,  35.2882,2,  35.2969,2,    215.5,2,   215.7,2,     2.9,2,     9.7,2,    0.01,2,   0.737,2,-999.000,5,-999.000,9,-999.000,9,  2126.3,2, 2322.12,2,-999.0000,9, -999.00,   7.8431,2,       25,-999.000,9,  13.1866,2, -999.00,9,  -999.0,9,  -999.0,-999.00000000,9,-999.00000000,9,   368.2,     -999.0,9,    35.4633,2,     -999.0,9,         -999.0,9,  -999.0,9,20140111,       1127
33RO20131223,       A16S,      54,          1,         17,         17,2,20140111,       1006,   -32.5003,   -24.9995,       4158,   468.4,  11.5461,  35.0367,2,  35.0356,2,    212.1,2,   211.6,2,     4.4,2,    13.9,2,    0.00,2,   0.997,2,-999.000,5,-999.000,9,-999.000,9,  2137.3,2, 2310.59,2,-999.0000,9, -999.00,   7.7952,2,       25,-999.000,9,  11.5504,2, -999.00,9,  -999.0,9,  -999.0,-999.00000000,9,-999.00000000,9,   468.4,     -999.0,9,    35.2008,2,     -999.0,9,         -999.0,9,  -999.0,9,20140111,       1124
33RO20131223,       A16S,      54,          1,         16,         16,2,20140111,       1006,   -32.5003,   -24.9995,       4158,   598.6,   8.7118,  34.6382,2,  34.6240,2,    211.7,2,   211.7,2,     8.3,2,    20.9,2,    0.00,2,   1.448,2,-999.000,5,-999.000,9,-999.000,9,  2153.4,2, 2290.17,2,-999.0000,9, -999.00,   7.7134,2,       25,-999.000,9,   8.7095,2, -999.00,9,  -999.0,9,  -999.0,-999.00000000,9,-999.00000000,9,   598.6,     -999.0,9,    34.7873,2,     -999.0,9,         -999.0,9,  -999.0,9,20140111,       1121
33RO20131223,       A16S,      54,          1,         15,         15,2,20140111,       1006,   -32.5003,   -24.9995,       4158,   772.5,   5.4482,  34.3181,2,  34.3176,2,    223.6,2,   225.6,2,    16.5,2,    27.3,2,    0.00,2,   1.862,2,-999.000,5,-999.000,9,-999.000,9,  2171.8,2, 2281.47,2,-999.0000,9, -999.00,   7.6502,2,       25,-999.000,9,    5.455,2,    1.32,6,    49.5,6,     1.7,-999.00000000,9,-999.00000000,9,   772.5,     -999.0,9,    34.4794,2,     -999.0,9,         -999.0,9,  -999.0,9,20140111,       1117
33RO20131223,       A16S,      54,          1,         14,         14,2,20140111,       1006,   -32.5003,   -24.9995,       4158,   923.4,   4.2035,  34.2704,2,  34.2701,2,    224.6,2,   225.2,2,    25.2,2,    29.9,2,    0.00,2,   2.047,2,-999.000,5,-999.000,9,-999.000,9,  2185.1,2, 2286.24,2,-999.0000,9, -999.00,   7.6257,2,       25,-999.000,9,   4.2037,2, -999.00,9,  -999.0,9,  -999.0,-999.00000000,9,-999.00000000,9,   923.4,     -999.0,9,    34.4317,2,     -999.0,9,         -999.0,9,  -999.0,9,20140111,       1114
33RO20131223,       A16S,      54,          1,         13,         13,2,20140111,       1006,   -32.5003,   -24.9995,       4158,    1099,   3.5686,  34.3080,2,  34.3084,2,    213.2,2,   212.7,2,    35.4,2,    31.7,2,    0.00,2,   2.178,2,-999.000,5,-999.000,9,-999.000,9,  -999.0,9, -999.00,9,-999.0000,9, -999.00,-999.0000,9,  -999.00,-999.000,9,   3.5684,2,    1.32,6,    48.6,6,     2.6,-999.00000000,9,-999.00000000,9,  1099.0,     -999.0,9,    34.4702,6,     -999.0,9,         -999.0,9,  -999.0,9,20140111,       1109
33RO20131223,       A16S,      54,          1,         12,         12,2,20140111,       1006,   -32.5003,   -24.9995,       4158,  1249.2,   3.2332,  34.3907,2,  34.3912,2,    196.7,2,   197.1,2,    45.9,6,    32.8,6,    0.00,6,   2.248,6,-999.000,5,-999.000,9,-999.000,9,  2218.5,2, 2308.35,2,-999.0000,9, -999.00,   7.5816,2,       25,-999.000,9,   3.2376,2,    1.29,2,    48.4,2,     0.2,-999.00000000,9,-999.00000000,9,  1249.2,     -999.0,9,    34.5533,2,     -999.0,9,         -999.0,9,  -999.0,9,20140111,       1106
33RO20131223,       A16S,      54,          1,         11,         11,2,20140111,       1006,   -32.5003,   -24.9995,       4158,  1397.8,   2.9984,  34.4863,2,  34.4877,2,    187.4,2,   187.8,2,    53.9,6,    32.9,6,    0.00,6,   2.258,6,-999.000,5,-999.000,9,-999.000,9,    2230,2, 2318.96,6,-999.0000,9, -999.00,   7.5745,2,       25,-999.000,9,   2.9995,2,    1.12,6,    49.3,6,     3.5,-999.00000000,9,-999.00000000,9,  1397.8,     -999.0,9,    34.6504,2,     -999.0,9,         -999.0,9,  -999.0,9,20140111,       1102
33RO20131223,       A16S,      54,          1,         10,         10,2,20140111,       1006,   -32.5003,   -24.9995,       4158,  1547.8,   2.8964,  34.5775,2,  34.5773,2,    186.1,2,   186.7,2,    57.2,6,    32.1,6,    0.00,6,   2.199,6,-999.000,5,-999.000,9,-999.000,9,  2232.8,6,    2323,2,-999.0000,9, -999.00,   7.5818,2,       25,-999.000,9,   2.8964,2,    1.00,2,    49.7,2,     0.2,-999.00000000,9,-999.00000000,9,  1547.8,     -999.0,9,    34.7403,2,     -999.0,9,         -999.0,9,  -999.0,9,20140111,       1059
33RO20131223,       A16S,      54,          1,          9,          9,2,20140111,       1006,   -32.5003,   -24.9995,       4158,  1747.6,   2.8480,  34.6818,2,  34.6826,2,    194.3,2,   193.9,2,    56.7,6,    30.1,6,    0.00,6,   2.059,6,-999.000,5,-999.000,9,-999.000,9,  2227.2,2, 2328.72,2,-999.0000,9, -999.00,   7.6071,2,       25,-999.000,9,   2.8477,2,    0.89,6,    50.4,6,     0.9,-999.00000000,9,-999.00000000,9,  1747.6,     -999.0,9,    34.8461,2,     -999.0,9,         -999.0,9,  -999.0,9,20140111,       1054
33RO20131223,       A16S,      54,          1,          8,          8,2,20140111,       1006,   -32.5003,   -24.9995,       4158,  1999.1,   2.8353,  34.7747,2,  34.7754,2,    208.8,2,   208.5,2,    52.2,2,    27.5,2,    0.00,2,   1.877,2,-999.000,5,-999.000,9,-999.000,9,  -999.0,9, -999.00,9,-999.0000,9, -999.00,-999.0000,9,  -999.00,-999.000,9,   2.8353,2,    1.01,2,    44.8,2,     0.2,-999.00000000,9,-999.00000000,9,  1999.1,     -999.0,9,    34.9393,6,     -999.0,9,         -999.0,9,  -999.0,9,20140111,       1049
33RO20131223,       A16S,      54,          1,          7,          7,2,20140111,       1006,   -32.5003,   -24.9995,       4158,  2247.1,   2.8029,  34.8366,2,  34.8363,2,      224,2,     224,2,    46.3,2,    25.2,2,    0.00,2,   1.705,2,-999.000,5,-999.000,9,-999.000,9,  2202.3,2, 2327.55,2,-999.0000,9, -999.00,   7.6743,2,       25,-999.000,9,    2.803,2,    0.98,6,    38.8,6,     4.9,-999.00000000,9,-999.00000000,9,  2247.1,     -999.0,9,    35.0006,2,     -999.0,9,         -999.0,9,  -999.0,9,20140111,       1044
33RO20131223,       A16S,      54,          1,          6,          6,2,20140111,       1006,   -32.5003,   -24.9995,       4158,  2549.4,   2.7667,  34.8702,2,  34.8700,2,    235.1,2,   234.6,2,    42.2,2,    23.7,2,    0.00,2,   1.599,2,-999.000,5,-999.000,9,-999.000,9,  -999.0,9, -999.00,9,-999.0000,9, -999.00,-999.0000,9,  -999.00,-999.000,9,   2.7668,2,    1.06,6,     6.5,6,     1.7,-999.00000000,9,-999.00000000,9,  2549.4,     -999.0,9,    35.0344,2,     -999.0,9,         -999.0,9,  -999.0,9,20140111,       1038
33RO20131223,       A16S,      54,          1,          5,          5,2,20140111,       1006,   -32.5003,   -24.9995,       4158,    2848,   2.7134,  34.8890,2,  34.8890,2,      242,2,   241.6,2,    39.8,2,    22.7,2,    0.00,2,   1.532,2,-999.000,5,-999.000,9,-999.000,9,    2188,2, 2326.85,2,-999.0000,9, -999.00,   7.7065,2,       25,-999.000,9,   2.7136,2,    0.90,3,   -22.9,6,     3.5,-999.00000000,9,-999.00000000,9,  2848.0,     -999.0,9,    35.0535,2,     -999.0,9,         -999.0,9,  -999.0,9,20140111,       1032
33RO20131223,       A16S,      54,          1,          4,          4,2,20140111,       1006,   -32.5003,   -24.9995,       4158,  3147.8,   2.5755,  34.8890,2,  34.8882,2,    243.9,2,     245,2,    42.5,2,    22.6,2,    0.00,2,   1.529,2,-999.000,5,-999.000,9,-999.000,9,  -999.0,9, -999.00,9,-999.0000,9, -999.00,-999.0000,9,  -999.00,-999.000,9,   2.5759,2,    1.05,6,   -40.1,6,     6.3,-999.00000000,9,-999.00000000,9,  3147.8,     -999.0,9,    35.0528,2,     -999.0,9,         -999.0,9,  -999.0,9,20140111,       1026
33RO20131223,       A16S,      54,          1,          3,          3,2,20140111,       1006,   -32.5003,   -24.9995,       4158,  3547.9,   2.1392,  34.8495,2,  34.8492,2,    238.8,2,   238.6,2,    58.3,2,    24.6,2,    0.00,2,   1.666,2,-999.000,5,-999.000,9,-999.000,9,    2204,2, 2338.61,6,-999.0000,9, -999.00,   7.6911,2,       25,-999.000,9,   2.1389,2,    0.87,6,   -73.5,6,     1.6,-999.00000000,9,-999.00000000,9,  3547.9,     -999.0,9,    35.0135,2,     -999.0,9,         -999.0,9,  -999.0,9,20140111,       1019
33RO20131223,       A16S,      54,          1,          2,          2,2,20140111,       1006,   -32.5003,   -24.9995,       4158,  3947.7,   1.5396,  34.7900,2,  34.7891,2,    230.8,2,   230.6,2,    81.5,2,    27.5,2,    0.00,2,   1.881,2,-999.000,5,-999.000,9,-999.000,9,  -999.0,9, -999.00,9,-999.0000,9, -999.00,-999.0000,9,  -999.00,-999.000,9,   1.5393,2,    0.67,6,  -123.0,6,     4.3,-999.00000000,9,-999.00000000,9,  3947.7,     -999.0,9,    34.9532,2,     -999.0,9,         -999.0,9,  -999.0,9,20140111,       1012
33RO20131223,       A16S,      54,          1,          1,          1,2,20140111,       1006,   -32.5003,   -24.9995,       4158,    4216,   1.2238,  34.7532,2,  34.7533,2,    224.7,2,   224.9,2,    95.6,6,    29.3,6,    0.00,6,   2.008,6,-999.000,5,-999.000,9,-999.000,9,    2242,6, 2356.78,2,-999.0000,9, -999.00,   7.6406,6,       25,-999.000,9,   1.2227,2,    0.56,6,  -137.2,6,     1.6,-999.00000000,9,-999.00000000,9,  4216.0,     -999.0,9,    34.9172,2,     -999.0,9,         -999.0,9,  -999.0,9,20140111,       1006