BOTTLE,20220815CCHSIOAMB
EXPOCODE,SECT_ID,STNNBR,CASTNO,SAMPNO,BTLNBR,BTLNBR_FLAG_W,DATE,TIME,LATITUDE,LONGITUDE,DEPTH,CTDPRS,CTDTMP,CTDSAL,CTDSAL_FLAG_W,SALNTY,SALNTY_FLAG_W,CTDOXY,CTDOXY_FLAG_W,OXYGEN,OXYGEN_FLAG_W,SILCAT,SILCAT_FLAG_W,NITRAT,NITRAT_FLAG_W,NITRIT,NITRIT_FLAG_W,PHSPHT,PHSPHT_FLAG_W,CFC-11,CFC-11_FLAG_W,CFC-12,CFC-12_FLAG_W,SF6,SF6_FLAG_W,TCARBN,TCARBN_FLAG_W,ALKALI,ALKALI_FLAG_W,PCO2,PCO2_FLAG_W,PCO2TMP,PH_SWS,PH_SWS_FLAG_W,PH_TMP,TRITUM,TRITUM_FLAG_W,REFTMP,REFTMP_FLAG_W,DELC13,DELC13_FLAG_W,DELC14,DELC14_FLAG_W,C14ERR,DOC,DOC_FLAG_W,TDN,TDN_FLAG_W,CTDRAW,N2O,N2O_FLAG_W,SALTREF,SALTREF_FLAG_W,HELIUM,HELIUM_FLAG_W,DELO18,DELO18_FLAG_W,CCL4,CCL4_FLAG_W,BTL_DATE,BTL_TIME
,,,,,,,,,,,METERS,DBAR,ITS-90,PSS-78,,PSS-78,,UMOL/KG,,UMOL/KG,,UMOL/KG,,UMOL/KG,,UMOL/KG,,UMOL/KG,,PMOL/KG,,PMOL/KG,,FMOL/KG,,UMOL/KG,,UMOL/KG,,UATM,,DEG C,,,DEG C,TU,,DEG C,,/MILLE,,/MILLE,,/MILLE,UMOL/KG,,UMOL/KG,,DBAR,NMOL/KG,,G/KG,,NMOL/KG,,/MILLE,,PMOL/KG,,,
33RO20131223,       A16S,     101,          1,          9,          9,2,20140126,       1739,   -55.2302,   -34.7378,        177,     3.9,   1.9260,  33.7763,2,  33.7768,2,    325.3,2,     327,2,     9.8,6,    22.2,6,    0.22,6,   1.598,6,   5.460,2,   3.026,2,   2.961,2,  2142.1,6,  2285.3,6,   761.87,2,      20,   7.7228,2,       25,-999.000,1,   1.9264,2,    1.56,2,   -79.4,2,     1.9,  46.52088383,2,  27.43789251,2,     3.9,     13.091,2,     33.936,2,     -999.0,1,         -999.0,1,  -999.0,9,20140126,       1753
33RO20131223,       A16S,     101,          1,          8,          8,2,20140126,       1739,   -55.2302,   -34.7378,        177,      18,   1.9260,  33.7763,2,  33.7752,2,    325.8,2,   326.8,2,     9.8,6,    22.2,6,    0.22,6,   1.595,6,   5.534,2,   3.026,2,   2.983,2,  2141.8,2, 2284.68,2,   762.99,2,      20,   7.7225,2,       25,-999.000,1,   1.9263,2, -999.00,9,  -999.0,9,  -999.0,  45.97821738,2,   27.1902439,2,    18.0,     13.494,2,    33.9345,2,     -999.0,1,         -999.0,1,  -999.0,9,20140126,       1752
33RO20131223,       A16S,     101,          1,          7,          7,2,20140126,       1739,   -55.2302,   -34.7378,        177,    38.1,   1.8936,  33.7792,2,  33.7785,2,    325.4,2,   326.7,2,     9.8,6,    22.2,6,    0.22,6,   1.598,6,   5.480,6,   3.030,2,   2.989,6,    2143,2, 2286.04,2,   765.77,2,      20,   7.7195,2,       25,-999.000,1,    1.891,2, -999.00,9,  -999.0,9,  -999.0,  45.46488425,2,  26.69676329,2,    38.1,     13.191,6,    33.9378,2,     -999.0,1,         -999.0,1,  -999.0,9,20140126,       1750
33RO20131223,       A16S,     101,          1,          6,          6,2,20140126,       1739,   -55.2302,   -34.7378,        177,      58,   1.8335,  33.7860,2,  33.7893,2,    324.5,2,   323.8,2,    10.5,6,    22.4,6,    0.22,6,   1.620,6,   5.452,2,   3.011,2,   2.950,2,  2144.5,2, 2285.95,2,-999.0000,9, -999.00,   7.7162,2,       25,-999.000,1,   1.8319,2, -999.00,9,  -999.0,9,  -999.0,  44.47488465,2,  27.42983676,2,    58.0,     13.315,2,    33.9486,2,     -999.0,1,         -999.0,1,  -999.0,9,20140126,       1748
33RO20131223,       A16S,     101,          1,          5,          5,2,20140126,       1739,   -55.2302,   -34.7378,        177,    77.8,   1.4186,  33.8556,2,  33.8504,2,    309.5,2,   310.3,2,    17.3,6,    23.9,6,    0.23,6,   1.762,6,   5.297,2,   2.887,2,   2.760,2,  2159.2,2, 2290.45,2,  837.715,2,      20,    7.688,2,       25,-999.000,1,    1.432,2, -999.00,9,  -999.0,9,  -999.0,  43.79288492,2,  28.14679872,2,    77.8,     14.555,2,      34.01,2,     -999.0,1,         -999.0,1,  -999.0,9,20140126,       1746
33RO20131223,       A16S,     101,          1,          4,          4,2,20140126,       1739,   -55.2302,   -34.7378,        177,    98.2,   1.1347,  33.9207,2,  33.9210,2,    296.8,2,     297,2,    24.9,2,    26.0,2,    0.25,6,   1.925,2,-999.000,9,-999.000,9,-999.000,9,  2174.9,2, 2294.22,2,-999.0000,9, -999.00,   7.6531,2,       25,-999.000,9,   1.1451,2, -999.00,9,  -999.0,9,  -999.0,  43.07421854,2,  30.08823503,2,    98.2,     -999.0,9,     34.081,2,     -999.0,9,         -999.0,9,  -999.0,9,20140126,       1744
33RO20131223,       A16S,     101,          1,          3,          3,2,20140126,       1739,   -55.2302,   -34.7378,        177,   123.8,   0.9717,  33.9738,2,  33.9804,2,    286.4,2,   284.8,2,    31.6,2,    27.7,2,    0.24,6,   2.036,2,   4.798,2,   2.605,2,   2.408,2,  2185.1,2, 2296.38,2,   972.39,2,      20,   7.6287,2,       25,-999.000,1,   0.9711,2, -999.00,9,  -999.0,9,  -999.0,  42.70021869,2,        31.64,2,   123.8,     16.257,2,    34.1406,2,     -999.0,1,         -999.0,1,  -999.0,9,20140126,       1742
33RO20131223,       A16S,     101,          1,          2,          2,2,20140126,       1739,   -55.2302,   -34.7378,        177,   148.1,   1.2264,  34.0871,2,  34.0905,2,    257.5,2,   255.6,2,    42.2,2,    29.9,2,    0.22,6,   2.183,2,   4.036,2,   2.167,2,   1.940,2,    2204,2, 2300.33,6,-999.0000,9, -999.00,   7.5918,2,       25,-999.000,1,   1.2281,2, -999.00,9,  -999.0,9,  -999.0,  42.06221895,2,        33.42,2,   148.1,     17.936,2,    34.2513,6,     -999.0,1,         -999.0,1,  -999.0,9,20140126,       1740
33RO20131223,       A16S,     101,          1,          1,          1,2,20140126,       1739,   -55.2302,   -34.7378,        177,   169.4,   1.3479,  34.1351,2,  34.1270,2,    244.3,2,   246.9,2,    45.3,2,    30.6,2,    0.21,6,   2.223,2,   3.767,2,   2.034,2,   1.758,2,  2208.3,2, 2305.17,2,  1097.79,3,      20,   7.5921,2,       25,-999.000,1,    1.348,2, -999.00,9,  -999.0,9,  -999.0,   41.4242192,2,        34.03,2,   169.4,     17.980,2,    34.2879,2,     -999.0,1,         -999.0,1,  -999.0,9,20140126,       1739
33RO20131223,       A16S,     102,          1,         17,         17,2,20140126,       1935,   -55.2677,   -34.6293,        941,     4.1,   1.9307,  33.7794,2,  33.7795,2,    325.8,2,   327.8,2,     9.1,2,    22.3,2,    0.22,2,   1.593,2,   5.495,6,   3.027,2,   2.986,6,  2143.5,6, 2286.08,2,-999.0000,9, -999.00,   7.7233,6,       25,-999.000,9,   1.9202,2, -999.00,9,  -999.0,9,  -999.0,-999.00000000,9,-999.00000000,9,     4.1,     13.970,6,    33.9388,2,     -999.0,9,         -999.0,9,  -999.0,9,20140126,       2009
33RO20131223,       A16S,     102,          1,         16,         16,2,20140126,       1935,   -55.2677,   -34.6293,        941,    17.8,   1.8922,  33.7806,2,  33.7791,2,      326,2,   327.2,2,     9.0,2,    22.3,2,    0.22,2,   1.596,2,-999.000,9,-999.000,9,-999.000,9,  -999.0,9, -999.00,9,-999.0000,9, -999.00,-999.0000,9,  -999.00,-999.000,9,   1.8842,2, -999.00,9,  -999.0,9,  -999.0,-999.00000000,9,-999.00000000,9,    17.8,     -999.0,9,    33.9384,2,     -999.0,9,         -999.0,9,  -999.0,9,20140126,       2008
33RO20131223,       A16S,     102,          1,         15,         15,2,20140126,       1935,   -55.2677,   -34.6293,        941,    37.8,   1.8102,  33.7849,2,  33.7833,2,    324.6,2,   325.5,2,     9.2,2,    22.4,2,    0.22,2,   1.616,2,-999.000,9,-999.000,9,-999.000,9,  -999.0,9, -999.00,9,-999.0000,9, -999.00,-999.0000,9,  -999.00,-999.000,9,   1.8083,2, -999.00,9,  -999.0,9,  -999.0,-999.00000000,9,-999.00000000,9,    37.8,     -999.0,9,    33.9426,2,     -999.0,9,         -999.0,9,  -999.0,9,20140126,       2006
33RO20131223,       A16S,     102,          1,         14,         14,2,20140126,       1935,   -55.2677,   -34.6293,        941,      58,   1.7718,  33.7906,2,  33.7933,2,    324.2,2,   324.4,2,     9.8,2,    22.6,2,    0.22,2,   1.629,2,   5.520,2,   3.029,2,   3.014,2,  2147.6,2, 2286.14,6,-999.0000,9, -999.00,   7.7576,4,       25,-999.000,9,   1.7722,2, -999.00,9,  -999.0,9,  -999.0,-999.00000000,9,-999.00000000,9,    58.0,     14.187,2,    33.9527,2,     -999.0,9,         -999.0,9,  -999.0,9,20140126,       2004
33RO20131223,       A16S,     102,          1,         13,         13,2,20140126,       1935,   -55.2677,   -34.6293,        941,    78.1,   1.6992,  33.8021,2,  33.8023,2,    321.3,2,   322.2,2,    10.8,2,    22.8,2,    0.22,2,   1.653,2,-999.000,9,-999.000,9,-999.000,9,  -999.0,9, -999.00,9,-999.0000,9, -999.00,-999.0000,9,  -999.00,-999.000,9,   1.6986,2, -999.00,9,  -999.0,9,  -999.0,-999.00000000,9,-999.00000000,9,    78.1,     -999.0,9,    33.9617,2,     -999.0,9,         -999.0,9,  -999.0,9,20140126,       2003
33RO20131223,       A16S,     102,          1,         12,         12,2,20140126,       1935,   -55.2677,   -34.6293,        941,    97.8,   1.2839,  33.8697,2,  33.8782,2,    306.9,2,   306.3,2,    18.5,2,    24.7,2,    0.24,2,   1.826,2,-999.000,9,-999.000,9,-999.000,9,  -999.0,9, -999.00,9,-999.0000,9, -999.00,-999.0000,9,  -999.00,-999.000,9,   1.2836,2, -999.00,9,  -999.0,9,  -999.0,-999.00000000,9,-999.00000000,9,    97.8,     -999.0,9,    34.0379,2,     -999.0,9,         -999.0,9,  -999.0,9,20140126,       2001
33RO20131223,       A16S,     102,          1,         11,         11,2,20140126,       1935,   -55.2677,   -34.6293,        941,   122.9,   1.1934,  33.9729,2,  33.9716,2,    281.9,2,   282.7,2,    28.5,2,    27.1,2,    0.24,2,   2.009,2,   4.744,2,   2.600,2,   2.410,2,  2186.8,2, 2299.31,2,-999.0000,9, -999.00,   7.6327,2,       25,-999.000,9,    1.194,2, -999.00,9,  -999.0,9,  -999.0,-999.00000000,9,-999.00000000,9,   122.9,     17.067,2,    34.1318,2,     -999.0,9,         -999.0,9,  -999.0,9,20140126,       1959
33RO20131223,       A16S,     102,          1,         10,         10,2,20140126,       1935,   -55.2677,   -34.6293,        941,   147.5,   1.1743,  34.0724,2,  34.0789,2,    260.1,2,   258.9,2,    38.7,2,    29.7,2,    0.22,2,   2.171,2,-999.000,9,-999.000,9,-999.000,9,  -999.0,9, -999.00,9,-999.0000,9, -999.00,-999.0000,9,  -999.00,-999.000,9,   1.1744,2, -999.00,9,  -999.0,9,  -999.0,-999.00000000,9,-999.00000000,9,   147.5,     -999.0,9,    34.2396,2,     -999.0,9,         -999.0,9,  -999.0,9,20140126,       1957
33RO20131223,       A16S,     102,          1,          9,          9,2,20140126,       1935,   -55.2677,   -34.6293,        941,   197.7,   1.4385,  34.2092,2,  34.2227,2,    233.7,2,   231.5,2,    47.8,2,    32.7,2,    0.15,2,   2.299,2,   3.292,2,   1.757,2,   1.441,2,  2222.1,2, 2308.01,2,-999.0000,9, -999.00,   7.5611,2,       25,-999.000,9,   1.4388,2, -999.00,9,  -999.0,9,  -999.0,-999.00000000,9,-999.00000000,9,   197.7,     20.351,2,    34.3841,2,     -999.0,9,         -999.0,9,  -999.0,9,20140126,       1955
33RO20131223,       A16S,     102,          1,          8,          8,2,20140126,       1935,   -55.2677,   -34.6293,        941,   247.9,   1.7533,  34.2947,2,  34.2966,2,    210.4,2,   210.3,2,    54.3,2,    33.8,2,    0.14,2,   2.363,2,-999.000,9,-999.000,9,-999.000,9,  -999.0,9, -999.00,9,-999.0000,9, -999.00,-999.0000,9,  -999.00,-999.000,9,   1.7541,2, -999.00,9,  -999.0,9,  -999.0,-999.00000000,9,-999.00000000,9,   247.9,     -999.0,9,    34.4583,2,     -999.0,9,         -999.0,9,  -999.0,9,20140126,       1953
33RO20131223,       A16S,     102,          1,          7,          7,2,20140126,       1935,   -55.2677,   -34.6293,        941,   297.6,   2.1765,  34.4382,2,  34.4446,2,    187.5,2,   183.8,2,    62.9,2,    34.7,2,    0.03,2,   2.389,2,   1.512,2,   0.762,2,   0.469,2,  2246.5,2, 2325.31,2,-999.0000,9, -999.00,   7.5303,2,       25,-999.000,9,   2.1755,2, -999.00,9,  -999.0,9,  -999.0,-999.00000000,9,-999.00000000,9,   297.6,     22.438,2,     34.607,2,     -999.0,9,         -999.0,9,  -999.0,9,20140126,       1951
33RO20131223,       A16S,     102,          1,          6,          6,2,20140126,       1935,   -55.2677,   -34.6293,        941,   397.6,   2.1616,  34.5597,2,  34.5600,2,    171.3,2,   171.4,2,    72.7,2,    34.3,2,    0.02,2,   2.366,2,-999.000,9,-999.000,9,-999.000,9,  -999.0,9, -999.00,9,-999.0000,9, -999.00,-999.0000,9,  -999.00,-999.000,9,   2.1614,2, -999.00,9,  -999.0,9,  -999.0,-999.00000000,9,-999.00000000,9,   397.6,     -999.0,9,     34.723,2,     -999.0,9,         -999.0,9,  -999.0,9,20140126,       1949
33RO20131223,       A16S,     102,          1,          5,          5,2,20140126,       1935,   -55.2677,   -34.6293,        941,   497.9,   2.1485,  34.6115,2,  34.6115,2,    168.8,2,     169,2,    77.4,2,    33.9,2,    0.02,2,   2.336,2,   0.540,2,   0.259,2,   0.167,2,  2258.5,2, 2342.75,2,-999.0000,9, -999.00,   7.5419,2,       25,-999.000,9,   2.1483,2, -999.00,9,  -999.0,9,  -999.0,-999.00000000,9,-999.00000000,9,   497.9,     22.011,2,    34.7747,2,     -999.0,9,         -999.0,9,  -999.0,9,20140126,       1946
33RO20131223,       A16S,     102,          1,          4,          4,2,20140126,       1935,   -55.2677,   -34.6293,        941,     598,   2.0925,  34.6428,2,  34.6439,2,    170.5,2,     170,2,    82.5,6,    33.4,6,    0.01,6,   2.311,6,-999.000,9,-999.000,9,-999.000,9,  -999.0,9, -999.00,9,-999.0000,9, -999.00,-999.0000,9,  -999.00,-999.000,9,   2.0925,2, -999.00,9,  -999.0,9,  -999.0,-999.00000000,9,-999.00000000,9,   598.0,     -999.0,9,    34.8073,2,     -999.0,9,         -999.0,9,  -999.0,9,20140126,       1943
33RO20131223,       A16S,     102,          1,          3,          3,2,20140126,       1935,   -55.2677,   -34.6293,        941,   697.2,   2.0207,  34.6667,2,  34.6664,2,    171.3,2,   171.6,2,    85.6,6,    33.0,6,    0.01,6,   2.285,6,   0.317,2,   0.151,2,   0.125,2,  2261.1,2, 2352.92,6,-999.0000,9, -999.00,   7.5569,2,       25,-999.000,9,   2.0206,2, -999.00,9,  -999.0,9,  -999.0,-999.00000000,9,-999.00000000,9,   697.2,     21.022,2,    34.8299,2,     -999.0,9,         -999.0,9,  -999.0,9,20140126,       1941
33RO20131223,       A16S,     102,          1,          2,          2,2,20140126,       1935,   -55.2677,   -34.6293,        941,   847.4,   1.9120,  34.6848,2,  34.6854,2,    174.5,2,   174.3,2,    88.9,6,    32.7,6,    0.01,6,   2.261,6,-999.000,9,-999.000,9,-999.000,9,  -999.0,9, -999.00,9,-999.0000,9, -999.00,-999.0000,9,  -999.00,-999.000,9,   1.9114,2, -999.00,9,  -999.0,9,  -999.0,-999.00000000,9,-999.00000000,9,   847.4,     -999.0,9,     34.849,2,     -999.0,9,         -999.0,9,  -999.0,9,20140126,       1937
33RO20131223,       A16S,     102,          1,          1,          1,2,20140126,       1935,   -55.2677,   -34.6293,        941,   943.8,   1.7483,  34.6949,2,  34.6948,2,    179.4,2,   179.3,2,    91.7,6,    32.4,6,    0.01,6,   2.237,6,-999.000,5,-999.000,5,-999.000,5,  2262.4,2, 2359.53,2,-999.0000,9, -999.00,   7.5733,2,       25,-999.000,9,   1.7481,2, -999.00,9,  -999.0,9,  -999.0,-999.00000000,9,-999.00000000,9,   943.8,     -999.0,5,    34.8584,2,     -999.0,9,         -999.0,9,  -999.0,9,20140126,       1935