BOTTLE,20220815CCHSIOAMB
EXPOCODE,SECT_ID,STNNBR,CASTNO,SAMPNO,BTLNBR,BTLNBR_FLAG_W,DATE,TIME,LATITUDE,LONGITUDE,DEPTH,CTDPRS,CTDTMP,CTDSAL,CTDSAL_FLAG_W,SALNTY,SALNTY_FLAG_W,CTDOXY,CTDOXY_FLAG_W,OXYGEN,OXYGEN_FLAG_W,SILCAT,SILCAT_FLAG_W,NITRAT,NITRAT_FLAG_W,NITRIT,NITRIT_FLAG_W,PHSPHT,PHSPHT_FLAG_W,CFC-11,CFC-11_FLAG_W,CFC-12,CFC-12_FLAG_W,SF6,SF6_FLAG_W,TCARBN,TCARBN_FLAG_W,ALKALI,ALKALI_FLAG_W,PCO2,PCO2_FLAG_W,PCO2TMP,PH_SWS,PH_SWS_FLAG_W,PH_TMP,TRITUM,TRITUM_FLAG_W,REFTMP,REFTMP_FLAG_W,DELC13,DELC13_FLAG_W,DELC14,DELC14_FLAG_W,C14ERR,DOC,DOC_FLAG_W,TDN,TDN_FLAG_W,CTDRAW,N2O,N2O_FLAG_W,SALTREF,SALTREF_FLAG_W,HELIUM,HELIUM_FLAG_W,DELO18,DELO18_FLAG_W,CCL4,CCL4_FLAG_W,BTL_DATE,BTL_TIME
,,,,,,,,,,,METERS,DBAR,ITS-90,PSS-78,,PSS-78,,UMOL/KG,,UMOL/KG,,UMOL/KG,,UMOL/KG,,UMOL/KG,,UMOL/KG,,PMOL/KG,,PMOL/KG,,FMOL/KG,,UMOL/KG,,UMOL/KG,,UATM,,DEG C,,,DEG C,TU,,DEG C,,/MILLE,,/MILLE,,/MILLE,UMOL/KG,,UMOL/KG,,DBAR,NMOL/KG,,G/KG,,NMOL/KG,,/MILLE,,PMOL/KG,,,
33RO20131223,       A16S,     104,          1,         22,         22,2,20140127,       0312,   -55.5994,   -34.1827,       2210,     4.8,   2.0026,  33.7806,2,  33.7805,2,      327,2,     329,2,     4.9,2,    22.0,2,    0.23,2,   1.596,2,   5.440,2,   3.047,2,   2.987,2,  2144.1,6, 2288.59,2,-999.0000,9, -999.00,   7.7258,2,       25,-999.000,9,   2.0026,2, -999.00,9,  -999.0,9,  -999.0,-999.00000000,9,-999.00000000,9,     4.8,     13.734,2,    33.9398,2,     -999.0,9,         -999.0,9,  -999.0,9,20140127,       0417
33RO20131223,       A16S,     104,          1,         21,         21,2,20140127,       0312,   -55.5994,   -34.1827,       2210,    17.3,   2.0039,  33.7807,2,  33.7802,2,    327.6,2,   328.8,2,     5.0,2,    22.0,2,    0.23,2,   1.596,2,-999.000,9,-999.000,9,-999.000,9,  -999.0,9, -999.00,9,-999.0000,9, -999.00,-999.0000,9,  -999.00,-999.000,9,   2.0044,2, -999.00,9,  -999.0,9,  -999.0,-999.00000000,9,-999.00000000,9,    17.3,     -999.0,9,    33.9395,2,     -999.0,9,         -999.0,9,  -999.0,9,20140127,       0416
33RO20131223,       A16S,     104,          1,         20,         20,2,20140127,       0312,   -55.5994,   -34.1827,       2210,    37.4,   2.0024,  33.7805,2,  33.7817,2,    328.5,2,   328.8,2,     5.0,2,    22.0,2,    0.23,2,   1.598,2,-999.000,9,-999.000,9,-999.000,9,  2148.8,2,  2288.9,2,-999.0000,9, -999.00,   7.7248,2,       25,-999.000,9,   2.0026,2, -999.00,9,  -999.0,9,  -999.0,-999.00000000,9,-999.00000000,9,    37.4,     -999.0,9,     33.941,2,     -999.0,9,         -999.0,9,  -999.0,9,20140127,       0414
33RO20131223,       A16S,     104,          1,         19,         19,2,20140127,       0312,   -55.5994,   -34.1827,       2210,    58.1,   1.9818,  33.7802,2,  33.7817,2,    328.5,2,   328.7,2,     5.0,2,    22.0,2,    0.23,2,   1.602,2,   5.500,2,   3.052,2,   2.999,2,  2144.3,2, 2282.93,6,-999.0000,9, -999.00,   7.7249,2,       25,-999.000,9,   1.9803,2, -999.00,9,  -999.0,9,  -999.0,-999.00000000,9,-999.00000000,9,    58.1,     13.893,2,     33.941,2,     -999.0,9,         -999.0,9,  -999.0,9,20140127,       0412
33RO20131223,       A16S,     104,          1,         18,         18,2,20140127,       0312,   -55.5994,   -34.1827,       2210,    77.9,   0.9325,  33.8352,2,  33.8361,2,    323.1,2,   324.9,2,    13.8,2,    23.9,2,    0.23,2,   1.810,2,-999.000,9,-999.000,9,-999.000,9,  -999.0,9, -999.00,9,-999.0000,9, -999.00,-999.0000,9,  -999.00,-999.000,9,   0.9941,2, -999.00,9,  -999.0,9,  -999.0,-999.00000000,9,-999.00000000,9,    77.9,     -999.0,9,    33.9957,2,     -999.0,9,         -999.0,9,  -999.0,9,20140127,       0411
33RO20131223,       A16S,     104,          1,         17,         17,2,20140127,       0312,   -55.5994,   -34.1827,       2210,   117.7,   0.7804,  34.0101,2,  34.0090,2,    289.6,2,   289.6,2,    32.8,2,    29.7,2,    0.24,2,   2.124,2,-999.000,9,-999.000,9,-999.000,9,  2190.6,2, 2287.02,2,-999.0000,9, -999.00,   7.6112,2,       25,-999.000,9,   0.7831,2, -999.00,9,  -999.0,9,  -999.0,-999.00000000,9,-999.00000000,9,   117.7,     -999.0,9,    34.1694,2,     -999.0,9,         -999.0,9,  -999.0,9,20140127,       0409
33RO20131223,       A16S,     104,          1,         16,         16,2,20140127,       0312,   -55.5994,   -34.1827,       2210,   158.1,   1.5215,  34.1989,2,  34.1963,2,    237.3,2,     239,2,    46.0,2,    33.0,2,    0.03,2,   2.279,2,   3.412,2,   1.832,2,   1.473,2,  2217.3,2, 2303.53,2,-999.0000,9, -999.00,   7.5627,2,       25,-999.000,9,    1.522,2, -999.00,9,  -999.0,9,  -999.0,-999.00000000,9,-999.00000000,9,   158.1,     20.050,2,    34.3575,2,     -999.0,9,         -999.0,9,  -999.0,9,20140127,       0407
33RO20131223,       A16S,     104,          1,         15,         15,2,20140127,       0312,   -55.5994,   -34.1827,       2210,   199.6,   1.9386,  34.3001,2,  34.2993,2,    212.5,2,   212.6,2,    53.3,2,    34.1,2,    0.02,2,   2.342,2,-999.000,9,-999.000,9,-999.000,9,  -999.0,9, -999.00,9,-999.0000,9, -999.00,-999.0000,9,  -999.00,-999.000,9,    1.939,2, -999.00,9,  -999.0,9,  -999.0,-999.00000000,9,-999.00000000,9,   199.6,     -999.0,9,     34.461,2,     -999.0,9,         -999.0,9,  -999.0,9,20140127,       0405
33RO20131223,       A16S,     104,          1,         14,         14,2,20140127,       0312,   -55.5994,   -34.1827,       2210,   248.9,   2.1122,  34.3652,2,  34.3682,2,    199.1,2,   199.2,2,    58.4,2,    34.5,2,    0.01,2,   2.372,2,-999.000,9,-999.000,9,-999.000,9,  2239.9,2, 2316.38,2,-999.0000,9, -999.00,   7.5376,2,       25,-999.000,9,   2.1123,2, -999.00,9,  -999.0,9,  -999.0,-999.00000000,9,-999.00000000,9,   248.9,     -999.0,9,    34.5303,2,     -999.0,9,         -999.0,9,  -999.0,9,20140127,       0403
33RO20131223,       A16S,     104,          1,         13,         13,2,20140127,       0312,   -55.5994,   -34.1827,       2210,   298.4,   2.1662,  34.4178,2,  34.4166,2,    190.2,2,     191,2,    63.2,2,    34.8,2,    0.01,2,   2.388,2,   1.712,2,   0.869,2,   0.557,2,  2246.8,2, 2322.25,2,-999.0000,9, -999.00,    7.532,2,       25,-999.000,9,   2.1662,2, -999.00,9,  -999.0,9,  -999.0,-999.00000000,9,-999.00000000,9,   298.4,     22.890,2,    34.5789,2,     -999.0,9,         -999.0,9,  -999.0,9,20140127,       0400
33RO20131223,       A16S,     104,          1,         12,         12,2,20140127,       0312,   -55.5994,   -34.1827,       2210,   398.3,   2.3052,  34.5029,2,  34.5030,2,    176.5,2,   176.7,2,    69.8,2,    34.8,2,    0.01,2,   2.389,2,-999.000,9,-999.000,9,-999.000,9,  -999.0,9, -999.00,9,-999.0000,9, -999.00,-999.0000,9,  -999.00,-999.000,9,    2.305,2, -999.00,9,  -999.0,9,  -999.0,-999.00000000,9,-999.00000000,9,   398.3,     -999.0,9,    34.6657,2,     -999.0,9,         -999.0,9,  -999.0,9,20140127,       0357
33RO20131223,       A16S,     104,          1,         11,         11,2,20140127,       0312,   -55.5994,   -34.1827,       2210,   498.5,   2.2214,  34.5718,2,  34.5703,2,    172.2,2,   172.2,2,    76.2,2,    34.4,2,    0.01,2,   2.363,2,   0.672,2,   0.335,2,   0.219,2,  2260.8,2, 2341.79,2,-999.0000,9, -999.00,   7.5363,6,       25,-999.000,9,   2.2218,2, -999.00,9,  -999.0,9,  -999.0,-999.00000000,9,-999.00000000,9,   498.5,     22.287,2,    34.7334,2,     -999.0,9,         -999.0,9,  -999.0,9,20140127,       0354
33RO20131223,       A16S,     104,          1,         10,         10,2,20140127,       0312,   -55.5994,   -34.1827,       2210,   598.4,   2.1848,  34.6206,2,  34.6246,2,    170.3,2,   171.1,2,    80.5,2,    33.9,2,    0.01,2,   2.330,2,   0.432,2,   0.214,2,   0.157,2,  2262.8,2, 2347.48,6,-999.0000,9, -999.00,   7.5448,2,       25,-999.000,9,   2.1851,2, -999.00,9,  -999.0,9,  -999.0,-999.00000000,9,-999.00000000,9,   598.4,     21.720,2,    34.7878,2,     -999.0,9,         -999.0,9,  -999.0,9,20140127,       0351
33RO20131223,       A16S,     104,          1,          9,          9,2,20140127,       0312,   -55.5994,   -34.1827,       2210,   748.9,   2.0812,  34.6588,2,  34.6586,2,    173.5,2,   173.1,2,    84.5,6,    33.3,6,    0.00,6,   2.290,6,   0.310,2,   0.153,2,   0.085,2,  2263.6,2, 2350.05,2,-999.0000,9, -999.00,   7.5555,2,       25,-999.000,9,   2.0812,2, -999.00,9,  -999.0,9,  -999.0,-999.00000000,9,-999.00000000,9,   748.9,     21.094,2,     34.822,2,     -999.0,9,         -999.0,9,  -999.0,9,20140127,       0347
33RO20131223,       A16S,     104,          1,          8,          8,2,20140127,       0312,   -55.5994,   -34.1827,       2210,   898.3,   1.9579,  34.6866,2,  34.6863,2,    176.4,2,   176.3,2,    88.5,6,    32.7,6,    0.00,6,   2.255,6,-999.000,9,-999.000,9,-999.000,9,  -999.0,9, -999.00,9,-999.0000,9, -999.00,-999.0000,9,  -999.00,-999.000,9,   1.9579,2, -999.00,9,  -999.0,9,  -999.0,-999.00000000,9,-999.00000000,9,   898.3,     -999.0,9,    34.8498,2,     -999.0,9,         -999.0,9,  -999.0,9,20140127,       0344
33RO20131223,       A16S,     104,          1,          7,          7,2,20140127,       0312,   -55.5994,   -34.1827,       2210,  1048.1,   1.7630,  34.6997,2,  34.7002,2,    181.9,2,   182.3,2,    93.0,6,    32.4,6,    0.00,6,   2.229,6,   0.245,2,   0.123,2,   0.096,2,  2264.2,2, 2359.82,2,-999.0000,9, -999.00,   7.5725,2,       25,-999.000,9,   1.7658,2, -999.00,9,  -999.0,9,  -999.0,-999.00000000,9,-999.00000000,9,  1048.1,     19.969,2,    34.8638,2,     -999.0,9,         -999.0,9,  -999.0,9,20140127,       0340
33RO20131223,       A16S,     104,          1,          6,          6,2,20140127,       0312,   -55.5994,   -34.1827,       2210,  1197.6,   1.6264,  34.7096,2,  34.7090,2,    185.6,2,     186,2,    97.2,2,    32.2,2,    0.00,2,   2.216,2,-999.000,9,-999.000,9,-999.000,9,  -999.0,9, -999.00,9,-999.0000,9, -999.00,-999.0000,9,  -999.00,-999.000,9,   1.6272,2, -999.00,9,  -999.0,9,  -999.0,-999.00000000,9,-999.00000000,9,  1197.6,     -999.0,9,    34.8726,2,     -999.0,9,         -999.0,9,  -999.0,9,20140127,       0336
33RO20131223,       A16S,     104,          1,          5,          5,2,20140127,       0312,   -55.5994,   -34.1827,       2210,  1347.8,   1.4569,  34.7111,2,  34.7110,2,    190.4,2,     191,2,   100.5,2,    32.0,2,    0.00,2,   2.206,2,-999.000,9,-999.000,9,-999.000,9,  -999.0,9, -999.00,9,-999.0000,9, -999.00,-999.0000,9,  -999.00,-999.000,9,   1.4571,2, -999.00,9,  -999.0,9,  -999.0,-999.00000000,9,-999.00000000,9,  1347.8,     -999.0,9,    34.8747,2,     -999.0,9,         -999.0,9,  -999.0,9,20140127,       0332
33RO20131223,       A16S,     104,          1,          4,          4,2,20140127,       0312,   -55.5994,   -34.1827,       2210,  1597.7,   1.1802,  34.7067,2,  34.7059,2,    197.6,2,   196.8,2,   106.7,2,    32.0,2,    0.00,2,   2.205,2,   0.287,2,   0.147,2,   0.115,2,  2262.4,2, 2361.66,6,-999.0000,9, -999.00,   7.5854,2,       25,-999.000,9,   1.1799,2, -999.00,9,  -999.0,9,  -999.0,-999.00000000,9,-999.00000000,9,  1597.7,     18.839,2,    34.8696,2,     -999.0,9,         -999.0,9,  -999.0,9,20140127,       0327
33RO20131223,       A16S,     104,          1,          3,          3,2,20140127,       0312,   -55.5994,   -34.1827,       2210,  1797.9,   1.0736,  34.7055,2,  34.7055,2,    199.9,2,   198.8,2,   109.7,6,    32.0,6,    0.00,6,   2.206,6,-999.000,9,-999.000,9,-999.000,9,  -999.0,9, -999.00,9,-999.0000,9, -999.00,-999.0000,9,  -999.00,-999.000,9,   1.0731,2, -999.00,9,  -999.0,9,  -999.0,-999.00000000,9,-999.00000000,9,  1797.9,     -999.0,9,    34.8692,2,     -999.0,9,         -999.0,9,  -999.0,9,20140127,       0322
33RO20131223,       A16S,     104,          1,          2,          2,2,20140127,       0312,   -55.5994,   -34.1827,       2210,  1997.5,   0.8868,  34.6976,2,  34.6982,2,    204.5,2,   203.3,2,   113.1,6,    32.2,6,    0.00,6,   2.213,6,   0.389,2,   0.191,2,   0.134,2,  2262.3,2, 2360.23,2,-999.0000,9, -999.00,   7.5881,2,       25,-999.000,9,   0.8867,2, -999.00,9,  -999.0,9,  -999.0,-999.00000000,9,-999.00000000,9,  1997.5,     18.154,2,    34.8619,6,     -999.0,9,         -999.0,9,  -999.0,9,20140127,       0318
33RO20131223,       A16S,     104,          1,          1,          1,2,20140127,       0312,   -55.5994,   -34.1827,       2210,  2232.7,   0.7474,  34.6918,2,  34.7047,4,    207.7,2,   207.4,2,   116.1,6,    32.3,6,    0.01,6,   2.224,6,   0.471,6,   0.231,2,   0.141,6,  2264.4,6, 2364.91,2,-999.0000,9, -999.00,   7.5264,4,       25,-999.000,9,   0.7466,2, -999.00,9,  -999.0,9,  -999.0,-999.00000000,9,-999.00000000,9,  2232.7,     18.113,6,    34.8684,2,     -999.0,9,         -999.0,9,  -999.0,9,20140127,       0312