BOTTLE,20220815CCHSIOAMB
EXPOCODE,SECT_ID,STNNBR,CASTNO,SAMPNO,BTLNBR,BTLNBR_FLAG_W,DATE,TIME,LATITUDE,LONGITUDE,DEPTH,CTDPRS,CTDTMP,CTDSAL,CTDSAL_FLAG_W,SALNTY,SALNTY_FLAG_W,CTDOXY,CTDOXY_FLAG_W,OXYGEN,OXYGEN_FLAG_W,SILCAT,SILCAT_FLAG_W,NITRAT,NITRAT_FLAG_W,NITRIT,NITRIT_FLAG_W,PHSPHT,PHSPHT_FLAG_W,CFC-11,CFC-11_FLAG_W,CFC-12,CFC-12_FLAG_W,SF6,SF6_FLAG_W,TCARBN,TCARBN_FLAG_W,ALKALI,ALKALI_FLAG_W,PCO2,PCO2_FLAG_W,PCO2TMP,PH_SWS,PH_SWS_FLAG_W,PH_TMP,TRITUM,TRITUM_FLAG_W,REFTMP,REFTMP_FLAG_W,DELC13,DELC13_FLAG_W,DELC14,DELC14_FLAG_W,C14ERR,DOC,DOC_FLAG_W,TDN,TDN_FLAG_W,CTDRAW,N2O,N2O_FLAG_W,SALTREF,SALTREF_FLAG_W,HELIUM,HELIUM_FLAG_W,DELO18,DELO18_FLAG_W,CCL4,CCL4_FLAG_W,BTL_DATE,BTL_TIME
,,,,,,,,,,,METERS,DBAR,ITS-90,PSS-78,,PSS-78,,UMOL/KG,,UMOL/KG,,UMOL/KG,,UMOL/KG,,UMOL/KG,,UMOL/KG,,PMOL/KG,,PMOL/KG,,FMOL/KG,,UMOL/KG,,UMOL/KG,,UATM,,DEG C,,,DEG C,TU,,DEG C,,/MILLE,,/MILLE,,/MILLE,UMOL/KG,,UMOL/KG,,DBAR,NMOL/KG,,G/KG,,NMOL/KG,,/MILLE,,PMOL/KG,,,
33RO20131223,       A16S,      95,          1,         24,         24,2,20140125,       0935,   -53.0009,   -35.8472,       3526,       5,   2.2820,  33.8211,2,  33.8215,2,    325.7,2,   326.7,2,    13.8,2,    21.6,2,    0.23,2,   1.565,2,   5.479,2,   3.021,2,   2.954,2,  2146.5,6,  2288.1,2,-999.0000,9, -999.00,   7.7259,2,       25,-999.000,1,   2.2826,2,    1.50,2,   -79.3,2,     2.0,  49.52388263,2,        25.11,2,     5.0,     13.503,2,     33.981,2,     -999.0,1,         -999.0,1,  -999.0,9,20140125,       1103
33RO20131223,       A16S,      95,          1,         23,         23,2,20140125,       0935,   -53.0009,   -35.8472,       3526,    10.4,   2.2628,  33.8214,2,  33.8209,2,    325.9,2,   326.8,2,    13.9,2,    21.7,2,    0.23,2,   1.569,2,   5.481,2,   3.021,2,   2.908,2,  2146.6,2, 2290.81,6,-999.0000,9, -999.00,   7.7246,2,       25,-999.000,1,   2.2631,2,    1.52,2,   -86.3,2,     2.0,  47.98567186,2,        24.98,2,    10.4,     13.475,2,    33.9804,2,     -999.0,1,         -999.0,1,  -999.0,9,20140125,       1101
33RO20131223,       A16S,      95,          1,         22,         22,2,20140125,       0935,   -53.0009,   -35.8472,       3526,    37.7,   1.9879,  33.8266,2,  33.8260,2,    324.9,2,   327.8,2,    16.7,2,    22.2,2,    0.24,2,   1.568,2,   5.586,2,   3.071,2,   2.982,2,  2153.1,2, 2296.27,2,-999.0000,9, -999.00,   7.7158,6,       25,-999.000,1,   1.9874,2,    1.42,2,   -87.5,2,     2.3,  43.87900684,2,        25.68,2,    37.7,     13.624,2,    33.9855,2,     -999.0,1,         -999.0,1,  -999.0,9,20140125,       1059
33RO20131223,       A16S,      95,          1,         21,         21,2,20140125,       0935,   -53.0009,   -35.8472,       3526,    68.1,   1.8442,  33.8336,2,  33.8598,3,    323.6,2,   323.3,2,    17.0,2,    22.7,2,    0.25,2,   1.654,2,   5.506,6,   3.044,2,   2.956,6,  2157.8,2, 2295.45,2,-999.0000,9, -999.00,   7.7053,2,       25,-999.000,1,   1.8494,2,    1.39,2,   -87.3,2,     2.0,  41.66827602,2,        26.14,2,    68.1,     14.039,6,    34.0194,2,     -999.0,1,         -999.0,1,  -999.0,9,20140125,       1057
33RO20131223,       A16S,      95,          1,         20,         20,2,20140125,       0935,   -53.0009,   -35.8472,       3526,     117,   1.3451,  34.1036,2,  34.1030,2,    260.5,2,   261.7,2,    37.3,2,    30.5,2,    0.21,2,   2.172,2,   4.125,2,   2.229,2,   1.938,2,  2200.6,2, 2294.99,2,-999.0000,9, -999.00,   7.5946,2,       25,-999.000,1,   1.3449,2,    0.86,2,   -87.4,2,     2.0,  40.99575596,2,         33.8,2,   117.0,     17.852,2,    34.2638,2,     -999.0,1,         -999.0,1,  -999.0,9,20140125,       1055
33RO20131223,       A16S,      95,          1,         19,         19,2,20140125,       0935,   -53.0009,   -35.8472,       3526,   197.4,   1.6584,  34.2750,2,  34.2745,2,    220.2,2,   219.3,2,    52.6,2,    33.6,2,    0.08,2,   2.345,2,   2.875,2,   1.523,2,   1.148,2,  2229.2,2, 2308.31,2,-999.0000,9, -999.00,    7.545,2,       25,-999.000,1,   1.6583,2,    0.58,2,  -103.4,2,     2.1,  40.52356103,2,        36.48,2,   197.4,     20.602,2,    34.4361,2,     -999.0,1,         -999.0,1,  -999.0,9,20140125,       1052
33RO20131223,       A16S,      95,          1,         18,         18,3,20140125,       0935,   -53.0009,   -35.8472,       3526,   298.5,   2.0968,  34.4503,2,  34.4509,2,    190.2,2,   185.3,2,    66.3,6,    34.3,6,    0.02,3,   2.385,3,-999.000,5,-999.000,5,-999.000,5,  2250.1,2, 2325.99,2,-999.0000,9, -999.00,   7.5301,2,       25,-999.000,1,   2.0976,2,    0.44,2,  -130.1,2,     2.1,  40.03705716,2,        37.11,2,   298.5,     -999.0,5,    34.6134,2,     -999.0,1,         -999.0,1,  -999.0,9,20140125,       1050
33RO20131223,       A16S,      95,          1,         17,         17,2,20140125,       0935,   -53.0009,   -35.8472,       3526,   398.5,   2.1274,  34.5470,2,  34.5486,2,    174.1,2,   174.9,2,    73.9,2,    34.0,2,    0.01,2,   2.370,2,   0.900,2,   0.453,2,   0.314,2,  2258.7,2, 2336.85,2,-999.0000,9, -999.00,    7.534,6,       25,-999.000,1,   2.1275,2,    0.36,2,  -145.4,2,     2.5,  39.92258566,2,        36.69,2,   398.5,     21.719,2,    34.7115,2,     -999.0,1,         -999.0,1,  -999.0,9,20140125,       1047
33RO20131223,       A16S,      95,          1,         16,         16,2,20140125,       0935,   -53.0009,   -35.8472,       3526,     498,   2.0804,  34.6063,2,  34.6061,2,    173.6,2,   173.1,2,    78.7,2,    33.5,2,    0.00,2,   2.334,2,   0.593,2,   0.296,2,   0.174,2,  2260.2,6, 2338.09,2,-999.0000,9, -999.00,   7.5419,2,       25,-999.000,1,   2.0803,2,    0.43,2,  -151.4,2,     1.8,  39.62925244,2,        36.25,2,   498.0,     20.977,2,    34.7693,2,     -999.0,1,         -999.0,1,  -999.0,9,20140125,       1044
33RO20131223,       A16S,      95,          1,         15,         15,2,20140125,       0935,   -53.0009,   -35.8472,       3526,   648.4,   1.9755,  34.6512,2,  34.6504,2,      176,2,   175.2,2,    82.8,6,    32.9,6,    0.01,6,   2.285,6,   0.533,6,   0.264,2,   0.169,6,  2262.5,2, 2346.86,6,-999.0000,9, -999.00,   7.5532,2,       25,-999.000,1,   1.9756,2,    0.43,2,  -151.2,2,     1.8,  39.68648819,2,        35.53,2,   648.4,     21.127,6,    34.8138,2,     -999.0,1,         -999.0,1,  -999.0,9,20140125,       1040
33RO20131223,       A16S,      95,          1,         14,         14,2,20140125,       0935,   -53.0009,   -35.8472,       3526,   817.5,   1.8201,  34.6848,2,  34.6853,2,    178.6,2,   178.6,2,    88.3,2,    32.3,2,    0.00,2,   2.252,2,   0.336,2,   0.165,2,   0.118,2,  2263.6,2, 2353.19,2,-999.0000,9, -999.00,   7.5655,2,       25,-999.000,1,   1.8201,2,    0.44,2,  -157.9,2,     2.2,   39.6149435,2,        34.91,2,   817.5,     19.897,2,    34.8488,2,     -999.0,1,         -999.0,1,  -999.0,9,20140125,       1036
33RO20131223,       A16S,      95,          1,         13,         13,2,20140125,       0935,   -53.0009,   -35.8472,       3526,   999.2,   1.6359,  34.7032,2,  34.7026,2,    183.7,2,   184.4,2,    94.1,6,    31.9,6,    0.00,6,   2.220,6,   0.276,2,   0.135,2,   0.100,2,  2263.7,2, 2357.57,2,-999.0000,9, -999.00,   7.5748,2,       25,-999.000,1,   1.6359,2,    0.44,2,  -157.2,2,     2.3,  39.35738263,2,        34.56,2,   999.2,     19.373,2,    34.8662,2,     -999.0,1,         -999.0,1,  -999.0,9,20140125,       1032
33RO20131223,       A16S,      95,          1,         12,         12,2,20140125,       0935,   -53.0009,   -35.8472,       3526,  1198.5,   1.4875,  34.7087,2,  34.7087,2,    188.1,2,   188.7,2,    97.4,2,    31.7,2,    0.01,2,   2.213,2,   0.256,2,   0.126,2,   0.076,2,  2263.6,2, 2359.32,2,-999.0000,9, -999.00,   7.5789,2,       25,-999.000,1,   1.4872,2,    0.47,2,  -159.1,2,     2.8,  39.26437454,2,        34.35,2,  1198.5,     18.966,2,    34.8723,6,     -999.0,1,         -999.0,1,  -999.0,9,20140125,       1027
33RO20131223,       A16S,      95,          1,         11,         11,2,20140125,       0935,   -53.0009,   -35.8472,       3526,  1297.4,   1.3930,  34.7094,2,  34.7091,2,    190.4,2,   190.5,2,    99.8,2,    31.7,2,    0.00,2,   2.207,2,   0.271,2,   0.131,2,   0.105,2,  2263.9,2, 2359.65,2,-999.0000,9, -999.00,   7.5823,2,       25,-999.000,1,   1.3933,2,    0.48,2,  -157.2,2,     2.3,  39.35738263,2,        34.36,2,  1297.4,     18.873,2,    34.8727,2,     -999.0,1,         -999.0,1,  -999.0,9,20140125,       1024
33RO20131223,       A16S,      95,          1,         10,         10,2,20140125,       0935,   -53.0009,   -35.8472,       3526,  1448.3,   1.2301,  34.7065,2,  34.7073,2,    194.4,2,     195,2,   102.7,2,    31.7,2,    0.00,2,   2.206,2,   0.312,6,   0.152,2,   0.130,6,  2262.6,2, 2360.51,2,-999.0000,9, -999.00,   7.5843,2,       25,-999.000,1,   1.2301,2,    0.49,2,  -162.9,2,     2.1,  39.43608179,2,        34.32,2,  1448.3,     18.556,6,    34.8709,2,     -999.0,1,         -999.0,9,  -999.0,9,20140125,       1020
33RO20131223,       A16S,      95,          1,          9,          9,2,20140125,       0935,   -53.0009,   -35.8472,       3526,  1647.8,   1.0363,  34.7022,2,  34.7047,2,    198.6,2,   199.1,2,   106.9,2,    31.7,2,    0.00,2,   2.209,2,   0.350,2,   0.174,2,   0.131,2,  2262.9,2, 2360.72,2,-999.0000,9, -999.00,   7.5853,2,       25,-999.000,1,   1.0362,2,    0.48,2,  -160.9,2,     1.8,  39.57201669,2,        34.33,2,  1647.8,     18.444,2,    34.8684,2,     -999.0,1,         -999.0,9,  -999.0,9,20140125,       1016
33RO20131223,       A16S,      95,          1,          8,          8,2,20140125,       0935,   -53.0009,   -35.8472,       3526,  1798.2,   0.8925,  34.6975,2,  34.6978,2,    201.9,2,   202.4,2,   109.6,6,    31.8,6,    0.00,6,   2.208,6,   0.407,2,   0.205,2,   0.173,2,  2262.5,2, 2359.63,2,-999.0000,9, -999.00,   7.5854,2,       25,-999.000,9,   0.8924,2,    0.50,2,  -163.3,2,     1.8,   39.6149435,2,        34.42,2,  1798.2,     18.475,2,    34.8614,2,     -999.0,1,         -999.0,9,  -999.0,9,20140125,       1012
33RO20131223,       A16S,      95,          1,          7,          7,2,20140125,       0935,   -53.0009,   -35.8472,       3526,  1944.7,   0.7851,  34.6944,2,  34.6947,2,    204.4,2,   204.8,2,   111.4,2,    31.9,2,    0.00,2,   2.224,2,   0.447,2,   0.222,2,   0.177,2,  2262.2,2, 2359.36,2,-999.0000,9, -999.00,    7.584,2,       25,-999.000,1,    0.785,2,    0.46,6,  -160.9,6,     3.6,  39.74372394,2,        34.54,2,  1944.7,     18.434,2,    34.8583,2,     -999.0,1,         -999.0,9,  -999.0,9,20140125,       1009
33RO20131223,       A16S,      95,          1,          6,          6,2,20140125,       0935,   -53.0009,   -35.8472,       3526,  2148.3,   0.6586,  34.6898,2,  34.6898,2,    206.9,2,   207.4,2,   114.3,2,    32.0,2,    0.00,2,   2.232,2,   0.507,2,   0.251,2,   0.153,2,  2262.6,2, 2359.99,2,-999.0000,9, -999.00,   7.5869,2,       25,-999.000,9,   0.6586,2,    0.49,6,  -158.2,6,     2.5,  39.63640691,2,        34.68,2,  2148.3,     18.251,2,    34.8534,2,     -999.0,1,         -999.0,9,  -999.0,9,20140125,       1004
33RO20131223,       A16S,      95,          1,          5,          5,2,20140125,       0935,   -53.0009,   -35.8472,       3526,  2447.8,   0.5454,  34.6850,2,  34.6847,2,    210.1,2,   210.8,2,   116.0,6,    32.0,6,    0.00,6,   2.230,6,   0.582,2,   0.287,2,   0.174,2,  2262.3,2, 2359.16,2,-999.0000,9, -999.00,   7.5847,2,       25,-999.000,1,   0.5453,2,    0.51,6,  -159.6,6,     1.3,  39.74372394,2,        34.71,2,  2447.8,     18.108,2,    34.8483,2,     -999.0,1,         -999.0,9,  -999.0,9,20140125,       0958
33RO20131223,       A16S,      95,          1,          4,          4,2,20140125,       0935,   -53.0009,   -35.8472,       3526,  2748.3,   0.4682,  34.6811,2,  34.6822,2,    213.2,2,   212.9,2,   116.8,6,    32.1,6,    0.00,6,   2.237,6,   0.637,6,   0.312,2,   0.193,6,  2262.1,2, 2360.15,2,-999.0000,9, -999.00,    7.583,2,       25,-999.000,9,   0.4681,2,    0.50,6,  -159.7,6,     1.4,  39.73656947,2,        34.72,2,  2748.3,     17.891,6,    34.8457,2,     -999.0,1,         -999.0,9,  -999.0,9,20140125,       0952
33RO20131223,       A16S,      95,          1,          3,          3,2,20140125,       0935,   -53.0009,   -35.8472,       3526,  3047.1,   0.3519,  34.6760,2,  34.6760,2,    216.3,2,   216.4,2,   118.8,2,    32.1,2,    0.00,2,   2.248,2,   0.664,2,   0.325,2,   0.207,2,  2261.6,2, 2359.91,2,-999.0000,9, -999.00,   7.5834,2,       25,-999.000,1,   0.3517,2,    0.56,2,  -158.7,2,     1.7,  39.42177285,2,        34.89,2,  3047.1,     17.981,2,    34.8395,2,     -999.0,1,         -999.0,9,  -999.0,9,20140125,       0946
33RO20131223,       A16S,      95,          1,          2,          2,2,20140125,       0935,   -53.0009,   -35.8472,       3526,  3348.2,   0.1945,  34.6706,2,  34.6703,2,    220.8,2,   220.6,2,   122.2,2,    32.2,2,    0.00,2,   2.257,2,   0.646,2,   0.311,2,   0.170,2,  2261.6,2, 2360.66,6,-999.0000,9, -999.00,   7.5842,2,       25,-999.000,9,   0.1943,2,    0.54,2,  -160.9,2,     2.0,  39.67933372,2,        34.82,2,  3348.2,     17.805,2,    34.8338,2,     -999.0,1,         -999.0,9,  -999.0,9,20140125,       0940
33RO20131223,       A16S,      95,          1,          1,          1,2,20140125,       0935,   -53.0009,   -35.8472,       3526,  3574.5,   0.0462,  34.6644,2,  34.6705,4,    225.6,2,   221.4,3,   121.8,2,    32.2,2,    0.00,2,   2.240,2,   0.646,2,   0.312,2,   0.166,2,  2262.6,6, 2362.21,2,-999.0000,9, -999.00,   7.5992,3,       25,-999.000,1,   0.0458,2,    0.54,2,  -159.1,2,     1.8,  39.35738263,2,        34.89,2,  3574.5,     17.718,2,     34.834,6,     -999.0,1,         -999.0,9,  -999.0,9,20140125,       0935