BOTTLE,20220815CCHSIOAMB
EXPOCODE,SECT_ID,STNNBR,CASTNO,SAMPNO,BTLNBR,BTLNBR_FLAG_W,DATE,TIME,LATITUDE,LONGITUDE,DEPTH,CTDPRS,CTDTMP,CTDSAL,CTDSAL_FLAG_W,SALNTY,SALNTY_FLAG_W,CTDOXY,CTDOXY_FLAG_W,OXYGEN,OXYGEN_FLAG_W,SILCAT,SILCAT_FLAG_W,NITRAT,NITRAT_FLAG_W,NITRIT,NITRIT_FLAG_W,PHSPHT,PHSPHT_FLAG_W,CFC-11,CFC-11_FLAG_W,CFC-12,CFC-12_FLAG_W,SF6,SF6_FLAG_W,TCARBN,TCARBN_FLAG_W,ALKALI,ALKALI_FLAG_W,PCO2,PCO2_FLAG_W,PCO2TMP,PH_SWS,PH_SWS_FLAG_W,PH_TMP,TRITUM,TRITUM_FLAG_W,REFTMP,REFTMP_FLAG_W,DELC13,DELC13_FLAG_W,DELC14,DELC14_FLAG_W,C14ERR,DOC,DOC_FLAG_W,TDN,TDN_FLAG_W,CTDRAW,N2O,N2O_FLAG_W,SALTREF,SALTREF_FLAG_W,HELIUM,HELIUM_FLAG_W,DELO18,DELO18_FLAG_W,CCL4,CCL4_FLAG_W,BTL_DATE,BTL_TIME
,,,,,,,,,,,METERS,DBAR,ITS-90,PSS-78,,PSS-78,,UMOL/KG,,UMOL/KG,,UMOL/KG,,UMOL/KG,,UMOL/KG,,UMOL/KG,,PMOL/KG,,PMOL/KG,,FMOL/KG,,UMOL/KG,,UMOL/KG,,UATM,,DEG C,,,DEG C,TU,,DEG C,,/MILLE,,/MILLE,,/MILLE,UMOL/KG,,UMOL/KG,,DBAR,NMOL/KG,,G/KG,,NMOL/KG,,/MILLE,,PMOL/KG,,,
33RO20131223,       A16S,       3,          2,         24,         24,2,20131226,       2103,    -6.9988,   -25.0043,       5578,       3,  26.3495,  36.2960,2,  36.2961,2,    201.5,2,   202.1,2,     1.1,2,     0.0,2,    0.00,2,   0.108,2,   1.617,3,   1.086,3,   1.301,3,  2063.6,6, 2378.85,2,    339.2,2,      20,    7.269,4,       25,-999.000,9,  26.3486,2, -999.00,9,  -999.0,9,  -999.0,  72.90240986,2,         4.12,2,     3.0,      6.631,3,    36.4672,2,     -999.0,9,         -999.0,9,  -999.0,9,20131226,       2303
33RO20131223,       A16S,       3,          2,         23,         23,2,20131226,       2103,    -6.9988,   -25.0043,       5578,    10.1,  26.3548,  36.2969,2,  36.2962,2,    201.7,2,   202.1,2,     1.1,2,     0.0,2,    0.00,2,   0.112,2,   1.616,3,   1.089,3,   1.298,3,  2063.8,2, 2376.01,2,   333.15,2,      20,   8.0462,2,       25,-999.000,9,  26.3545,2, -999.00,9,  -999.0,9,  -999.0,  72.09753214,2,         3.81,2,    10.1,      6.601,3,    36.4674,2,     -999.0,9,         -999.0,9,  -999.0,9,20131226,       2301
33RO20131223,       A16S,       3,          2,         22,         22,2,20131226,       2103,    -6.9988,   -25.0043,       5578,    37.8,  26.2747,  36.2849,2,  36.2860,2,    202.4,2,   202.4,2,     1.1,2,     0.0,2,    0.00,2,   0.120,2,   1.623,3,   1.089,3,   1.298,3,  2063.5,2, 2378.74,2,   340.69,2,      20,   8.0515,3,       25,-999.000,9,  26.2761,2, -999.00,9,  -999.0,9,  -999.0,  69.17070404,2,         3.79,2,    37.8,      6.582,3,    36.4571,2,     -999.0,9,         -999.0,9,  -999.0,9,20131226,       2259
33RO20131223,       A16S,       3,          2,         21,         21,2,20131226,       2103,    -6.9988,   -25.0043,       5578,    67.8,  26.2025,  36.2759,2,  36.2850,2,    202.3,2,   202.5,2,     1.2,2,     0.0,2,    0.00,2,   0.128,2,   1.633,3,   1.093,3,   1.301,3,  2063.9,2, 2380.44,2,   346.61,2,      20,   8.0428,2,       25,-999.000,9,  26.2043,2, -999.00,9,  -999.0,9,  -999.0,  66.90241226,2,         3.52,2,    67.8,      6.688,3,    36.4561,2,     -999.0,9,         -999.0,9,  -999.0,9,20131226,       2257
33RO20131223,       A16S,       3,          2,         20,         20,2,20131226,       2103,    -6.9988,   -25.0043,       5578,   117.7,  21.9160,  36.1658,2,  36.1624,2,      157,2,   157.5,2,     2.2,2,     6.6,2,    0.59,2,   0.599,2,   1.911,3,   1.230,3,   1.189,3,  2130.1,2, 2370.64,6,   481.91,2,      20,   7.9157,2,       25,-999.000,9,    21.92,2, -999.00,9,  -999.0,9,  -999.0,  57.44875751,2,        10.21,2,   117.7,     13.241,3,    36.3329,2,     -999.0,9,         -999.0,9,  -999.0,9,20131226,       2255
33RO20131223,       A16S,       3,          2,         19,         19,2,20131226,       2103,    -6.9988,   -25.0043,       5578,   197.9,  12.9118,  35.2931,2,  35.2921,2,      104,2,   100.8,2,     8.2,2,    23.2,2,    0.01,2,   1.528,2,   2.064,3,   1.205,3,   0.680,3,  2200.2,2, 2318.55,2,  877.805,3,      20,   7.6536,2,       25,-999.000,9,  12.9226,2, -999.00,9,  -999.0,9,  -999.0,  51.72680858,2,           26,2,   197.9,     31.313,3,    35.4585,2,     -999.0,9,         -999.0,9,  -999.0,9,20131226,       2252
33RO20131223,       A16S,       3,          2,         18,         18,2,20131226,       2103,    -6.9988,   -25.0043,       5578,   298.3,  10.1879,  34.9393,2,  34.9367,2,       89,2,    90.2,2,    12.7,2,    29.3,2,    0.01,2,   1.905,2,   1.609,3,   0.897,3,   0.372,3,  2217.7,2, 2304.17,2,  1072.16,4,      20,   7.5605,2,       25,-999.000,9,  10.1879,2, -999.00,9,  -999.0,9,  -999.0,  48.68290736,2,        31.78,2,   298.3,     35.715,3,    35.1014,6,     -999.0,9,         -999.0,9,  -999.0,9,20131226,       2249
33RO20131223,       A16S,       3,          2,         17,         17,2,20131226,       2103,    -6.9988,   -25.0043,       5578,   398.6,   8.9165,  34.8014,2,  34.7994,2,     81.1,2,    77.2,2,    15.9,6,    33.2,6,    0.00,6,   2.152,6,   1.026,3,   0.568,3,   0.138,3,  2233.2,2,  2299.1,2,  1205.92,4,      20,   7.5019,2,       25,-999.000,9,   8.9169,2, -999.00,9,  -999.0,9,  -999.0,  46.34876195,2,        35.81,2,   398.6,     38.203,3,    34.9635,2,     -999.0,9,         -999.0,9,  -999.0,9,20131226,       2246
33RO20131223,       A16S,       3,          2,         16,         16,2,20131226,       2103,    -6.9988,   -25.0043,       5578,   518.1,   7.3398,  34.6461,2,  34.6429,2,       98,2,    94.7,2,    19.9,6,    34.7,6,    0.00,6,   2.303,6,   0.709,3,   0.385,3,   0.092,3,  2231.5,6, 2297.29,2,  1206.53,4,      20,   7.4926,2,       25,-999.000,9,   7.3384,2, -999.00,9,  -999.0,9,  -999.0,  45.00973809,2,        37.31,2,   518.1,     33.314,3,    34.8063,2,     -999.0,9,         -999.0,9,  -999.0,9,20131226,       2243
33RO20131223,       A16S,       3,          2,         15,         15,2,20131226,       2103,    -6.9988,   -25.0043,       5578,   668.4,   5.7865,  34.5323,2,  34.5325,2,    114.2,2,   113.7,2,    25.7,6,    35.8,6,    0.00,6,   2.417,6,   0.276,3,   0.151,3,   0.000,3,  2231.2,2,  2285.7,3,  1344.16,2,      20,   7.9893,4,       25,-999.000,9,   5.7863,2, -999.00,9,  -999.0,9,  -999.0,  43.50973869,2,        38.26,2,   668.4,     29.571,3,    34.6953,2,     -999.0,9,         -999.0,9,  -999.0,9,20131226,       2239
33RO20131223,       A16S,       3,          2,         14,         14,2,20131226,       2103,    -6.9988,   -25.0043,       5578,   817.6,   4.5466,  34.4741,2,  34.4766,2,    152.2,2,   152.5,2,    32.0,6,    34.1,6,    0.00,6,   2.332,2,   0.261,3,   0.137,3,   0.040,3,    2221,2,  2298.3,2,  1197.94,2,      20,   7.5439,2,       25,-999.000,9,   4.5451,2, -999.00,9,  -999.0,9,  -999.0,  42.70486097,2,        36.54,2,   817.6,     24.764,3,    34.6392,2,     -999.0,9,         -999.0,9,  -999.0,9,20131226,       2236
33RO20131223,       A16S,       3,          2,         13,         13,2,20131226,       2103,    -6.9988,   -25.0043,       5578,   997.7,   4.0949,  34.5825,2,  34.5794,2,    164.6,2,   164.6,2,    34.4,6,    32.2,6,    0.00,6,   2.223,2,   0.077,3,   0.041,3,   0.000,3,  2219.8,2, 2306.16,2,  1120.13,2,      20,   7.5699,2,       25,-999.000,9,   4.0951,2, -999.00,9,  -999.0,9,  -999.0,  41.48291024,2,        34.73,2,   997.7,     23.119,3,    34.7425,2,     -999.0,9,         -999.0,9,  -999.0,9,20131226,       2231
33RO20131223,       A16S,       3,          2,         12,         12,2,20131226,       2103,    -6.9988,   -25.0043,       5578,  1147.6,   4.1797,  34.7238,2,  34.7283,2,      177,2,   175.9,2,    30.1,6,    29.5,6,    0.00,6,   2.016,2,   0.035,3,   0.019,3,   0.000,3,  2211.1,2, 2320.49,4,   1028.7,2,      20,   6.6897,4,       25,-999.000,9,   4.1802,2, -999.00,9,  -999.0,9,  -999.0,  41.40973953,2,        32.08,2,  1147.6,     21.376,3,     34.892,2,     -999.0,9,         -999.0,9,  -999.0,9,20131226,       2228
33RO20131223,       A16S,       3,          2,         11,         11,2,20131226,       2103,    -6.9988,   -25.0043,       5578,  1297.5,   4.3745,  34.8701,2,  34.8703,2,    196.9,2,     196,2,    23.5,6,    25.6,6,    0.00,6,   1.737,2,   0.122,3,   0.066,3,   0.032,3,  2197.3,2, 2308.38,3,   919.18,2,      20,   7.6518,6,       25,-999.000,9,    4.375,2, -999.00,9,  -999.0,9,  -999.0,   42.0316905,2,        28.21,2,  1297.5,     18.929,3,    35.0347,6,     -999.0,9,         -999.0,9,  -999.0,9,20131226,       2224
33RO20131223,       A16S,       3,          2,         10,         10,2,20131226,       2103,    -6.9988,   -25.0043,       5578,  1596.8,   4.0691,  34.9594,2,  34.9578,2,      232,2,   232.1,2,    19.1,6,    21.2,6,    0.00,6,   1.408,2,   0.330,3,   0.177,3,   0.075,3,  2177.8,2, 2313.85,6,   806.41,2,      20,   7.7048,2,       25,-999.000,9,   4.0699,2, -999.00,9,  -999.0,9,  -999.0,  42.11217828,2,        23.53,2,  1596.8,     15.647,3,    35.1226,2,     -999.0,9,         -999.0,9,  -999.0,9,20131226,       2218
33RO20131223,       A16S,       3,          2,          9,          9,2,20131226,       2103,    -6.9988,   -25.0043,       5578,  1946.7,   3.5450,  34.9592,2,  34.9592,2,    246.7,2,   246.5,2,    21.6,6,    20.0,6,    0.00,6,   1.319,2,   0.279,3,   0.148,3,   0.046,3,  2173.1,2, 2318.46,2,  771.695,2,      20,   7.7211,2,       25,-999.000,9,   3.5447,2, -999.00,9,  -999.0,9,  -999.0,  41.71705648,2,        22.54,2,  1946.7,     14.497,3,     35.124,2,     -999.0,9,         -999.0,9,  -999.0,9,20131226,       2211
33RO20131223,       A16S,       3,          2,          8,          8,2,20131226,       2103,    -6.9988,   -25.0043,       5578,  2347.6,   3.0418,  34.9299,2,  34.9299,2,    243.5,2,   243.2,2,    30.9,6,    21.1,6,    0.00,6,   1.403,2,   0.065,3,   0.036,3,   0.000,3,  2182.3,2, 2326.61,2,  783.375,2,      20,   7.7206,2,       25,-999.000,9,   3.0416,2, -999.00,9,  -999.0,9,  -999.0,  41.13169086,2,        23.47,2,  2347.6,     14.541,3,    35.0946,2,     -999.0,9,         -999.0,9,  -999.0,9,20131226,       2204
33RO20131223,       A16S,       3,          2,          7,          7,2,20131226,       2103,    -6.9988,   -25.0043,       5578,  2748.4,   2.7684,  34.9094,2,  34.9091,2,    240.5,2,     240,2,    38.2,6,    22.0,6,    0.00,6,   1.470,2,   0.012,3,   0.008,3,   0.000,3,  2190.4,2, 2333.72,2,  796.145,2,      20,   7.7144,2,       25,-999.000,9,   2.7683,2, -999.00,9,  -999.0,9,  -999.0,        40.56,2,        24.36,2,  2748.4,     14.809,3,    35.0737,2,     -999.0,9,         -999.0,9,  -999.0,9,20131226,       2156
33RO20131223,       A16S,       3,          2,          6,          6,2,20131226,       2103,    -6.9988,   -25.0043,       5578,  3247.9,   2.5920,  34.9096,2,  34.9079,2,    248.7,2,   249.1,2,    36.4,6,    21.0,6,    0.00,6,   1.407,2,   0.043,3,   0.023,3,   0.000,3,  2185.4,2, 2331.92,2,   775.98,2,      20,   7.7256,2,       25,-999.000,9,    2.592,2, -999.00,9,  -999.0,9,  -999.0,        40.72,2,        23.43,2,  3247.9,     14.285,3,    35.0725,2,     -999.0,9,         -999.0,9,  -999.0,9,20131226,       2147
33RO20131223,       A16S,       3,          2,          5,          5,2,20131226,       2103,    -6.9988,   -25.0043,       5578,  3746.9,   2.3325,  34.8898,2,  34.8893,2,    251.5,2,     252,2,    41.2,6,    21.1,6,    0.01,6,   1.419,2,   0.089,3,   0.049,3,   0.035,3,  2187.9,2, 2334.27,2,  785.565,2,      20,   7.7211,2,       25,-999.000,9,   2.3307,2, -999.00,9,  -999.0,9,  -999.0,        40.36,2,        23.51,2,  3746.9,     14.458,3,    35.0538,2,     -999.0,9,         -999.0,9,  -999.0,9,20131226,       2138
33RO20131223,       A16S,       3,          2,          4,          4,2,20131226,       2103,    -6.9988,   -25.0043,       5578,  4247.3,   1.4654,  34.7971,2,  34.7976,2,    234.6,2,     235,2,    78.1,6,    26.1,6,    0.01,6,   1.790,2,   0.037,3,   0.021,3,   0.000,3,  2225.3,2, 2355.79,2,    893.5,2,      20,   7.5075,4,       25,-999.000,9,   1.4634,2, -999.00,9,  -999.0,9,  -999.0,  39.76339873,2,        28.56,2,  4247.3,     16.371,3,    34.9616,2,     -999.0,9,         -999.0,9,  -999.0,9,20131226,       2129
33RO20131223,       A16S,       3,          2,          3,          3,2,20131226,       2103,    -6.9988,   -25.0043,       5578,  4746.4,   0.9037,  34.7336,2,  34.7313,2,    222.7,2,     224,2,   103.3,6,    29.7,6,    0.01,6,   2.054,2,   0.046,3,   0.024,3,   0.000,3,  2250.9,2, 2356.37,3,   981.05,2,      20,   7.6366,2,       25,-999.000,9,   0.9039,2, -999.00,9,  -999.0,9,  -999.0,  39.38291108,2,        31.86,2,  4746.4,     17.707,3,    34.8951,2,     -999.0,9,         -999.0,9,  -999.0,9,20131226,       2120
33RO20131223,       A16S,       3,          2,          2,          2,2,20131226,       2103,    -6.9988,   -25.0043,       5578,  5247.4,   0.7667,  34.7117,2,  34.7123,2,    219.4,2,   220.5,2,   111.2,6,    30.7,6,    0.01,6,   2.136,2,   0.100,3,   0.051,3,   0.032,3,  2257.2,2, 2369.13,2,  1016.28,2,      20,   7.6226,2,       25,-999.000,9,   0.7668,2, -999.00,9,  -999.0,9,  -999.0,  39.34632572,2,        33.23,2,  5247.4,     18.214,3,     34.876,2,     -999.0,9,         -999.0,9,  -999.0,9,20131226,       2111
33RO20131223,       A16S,       3,          2,          1,          1,3,20131226,       2103,    -6.9988,   -25.0043,       5578,  5660.3,   0.7459,  34.7036,2,  34.7028,2,    220.1,2,   220.6,2,   114.4,6,    31.1,6,    0.01,3,   2.168,3,   0.116,3,   0.058,3,   0.027,3,  2258.7,2, 2367.73,2, 1019.765,6,      20,   7.6499,3,       25,-999.000,9,   0.7458,2, -999.00,9,  -999.0,9,  -999.0,  39.11949655,2,        33.76,2,  5660.3,     18.326,3,    34.8664,2,     -999.0,9,         -999.0,9,  -999.0,9,20131226,       2103