BOTTLE,20220815CCHSIOAMB
EXPOCODE,SECT_ID,STNNBR,CASTNO,SAMPNO,BTLNBR,BTLNBR_FLAG_W,DATE,TIME,LATITUDE,LONGITUDE,DEPTH,CTDPRS,CTDTMP,CTDSAL,CTDSAL_FLAG_W,SALNTY,SALNTY_FLAG_W,CTDOXY,CTDOXY_FLAG_W,OXYGEN,OXYGEN_FLAG_W,SILCAT,SILCAT_FLAG_W,NITRAT,NITRAT_FLAG_W,NITRIT,NITRIT_FLAG_W,PHSPHT,PHSPHT_FLAG_W,CFC-11,CFC-11_FLAG_W,CFC-12,CFC-12_FLAG_W,SF6,SF6_FLAG_W,TCARBN,TCARBN_FLAG_W,ALKALI,ALKALI_FLAG_W,PCO2,PCO2_FLAG_W,PCO2TMP,PH_SWS,PH_SWS_FLAG_W,PH_TMP,TRITUM,TRITUM_FLAG_W,REFTMP,REFTMP_FLAG_W,DELC13,DELC13_FLAG_W,DELC14,DELC14_FLAG_W,C14ERR,DOC,DOC_FLAG_W,TDN,TDN_FLAG_W,CTDRAW,N2O,N2O_FLAG_W,SALTREF,SALTREF_FLAG_W,HELIUM,HELIUM_FLAG_W,DELO18,DELO18_FLAG_W,CCL4,CCL4_FLAG_W,BTL_DATE,BTL_TIME
,,,,,,,,,,,METERS,DBAR,ITS-90,PSS-78,,PSS-78,,UMOL/KG,,UMOL/KG,,UMOL/KG,,UMOL/KG,,UMOL/KG,,UMOL/KG,,PMOL/KG,,PMOL/KG,,FMOL/KG,,UMOL/KG,,UMOL/KG,,UATM,,DEG C,,,DEG C,TU,,DEG C,,/MILLE,,/MILLE,,/MILLE,UMOL/KG,,UMOL/KG,,DBAR,NMOL/KG,,G/KG,,NMOL/KG,,/MILLE,,PMOL/KG,,,
33RO20131223,       A16S,      44,          1,         24,         24,2,20140108,       1206,   -27.5007,   -25.0049,       4848,     3.1,  26.3263,  36.5460,2,  36.5537,2,    203.2,2,   205.2,2,     1.0,2,     0.0,2,    0.00,2,   0.044,2,-999.000,5,-999.000,5,-999.000,5,  2085.8,6, 2397.68,2,-999.0000,9, -999.00,   8.0299,2,       25,-999.000,9,  26.3214,2, -999.00,9,  -999.0,9,  -999.0,-999.00000000,9,-999.00000000,9,     3.1,     -999.0,5,    36.7261,2,     -999.0,9,         -999.0,9,  -999.0,9,20140108,       1352
33RO20131223,       A16S,      44,          1,         23,         23,2,20140108,       1206,   -27.5007,   -25.0049,       4848,    27.9,  24.3260,  36.6775,2,  36.6758,2,    217.5,2,     220,2,     1.0,2,     0.0,2,    0.00,2,   0.058,2,-999.000,5,-999.000,5,-999.000,5,  -999.0,9, -999.00,9,-999.0000,9, -999.00,-999.0000,9,  -999.00,-999.000,9,  24.2776,2, -999.00,9,  -999.0,9,  -999.0,-999.00000000,9,-999.00000000,9,    27.9,     -999.0,5,    36.8488,2,     -999.0,9,         -999.0,9,  -999.0,9,20140108,       1350
33RO20131223,       A16S,      44,          1,         22,         22,2,20140108,       1206,   -27.5007,   -25.0049,       4848,    61.6,  21.9651,  36.6663,2,  36.6675,2,    222.8,2,   223.1,2,     1.0,2,     0.0,2,    0.00,2,   0.083,2,-999.000,5,-999.000,5,-999.000,5,  2092.4,2, 2406.97,2,-999.0000,9, -999.00,   8.0277,2,       25,-999.000,9,  21.9616,2, -999.00,9,  -999.0,9,  -999.0,-999.00000000,9,-999.00000000,9,    61.6,     -999.0,5,    36.8404,2,     -999.0,9,         -999.0,9,  -999.0,9,20140108,       1348
33RO20131223,       A16S,      44,          1,         21,         21,2,20140108,       1206,   -27.5007,   -25.0049,       4848,   112.4,  20.6361,  36.4255,2,  36.4243,2,    222.7,2,   222.3,2,     0.9,6,     0.0,6,    0.00,6,   0.071,6,-999.000,5,-999.000,5,-999.000,5,  2088.4,2, 2391.09,6,-999.0000,9, -999.00,    8.012,2,       25,-999.000,9,  20.6404,2, -999.00,9,  -999.0,9,  -999.0,-999.00000000,9,-999.00000000,9,   112.4,     -999.0,5,    36.5961,2,     -999.0,9,         -999.0,9,  -999.0,9,20140108,       1346
33RO20131223,       A16S,      44,          1,         20,         20,2,20140108,       1206,   -27.5007,   -25.0049,       4848,   183.1,  18.3782,  36.0125,2,  35.9902,2,    214.3,2,   213.1,2,     1.3,6,     0.7,6,    0.08,6,   0.228,6,-999.000,5,-999.000,5,-999.000,5,  2105.6,2, 2362.34,2,-999.0000,9, -999.00,    7.951,2,       25,-999.000,9,  18.3735,2, -999.00,9,  -999.0,9,  -999.0,-999.00000000,9,-999.00000000,9,   183.1,     -999.0,5,    36.1599,2,     -999.0,9,         -999.0,9,  -999.0,9,20140108,       1344
33RO20131223,       A16S,      44,          1,         19,         19,2,20140108,       1206,   -27.5007,   -25.0049,       4848,   257.6,  15.4668,  35.5439,2,  35.5396,2,    208.6,2,   208.5,2,     2.2,6,     5.3,6,    0.01,6,   0.487,6,-999.000,5,-999.000,5,-999.000,5,  2114.4,2, 2334.04,2,-999.0000,9, -999.00,   7.8855,2,       25,-999.000,9,  15.4599,2, -999.00,9,  -999.0,9,  -999.0,-999.00000000,9,-999.00000000,9,   257.6,     -999.0,5,    35.7072,2,     -999.0,9,         -999.0,9,  -999.0,9,20140108,       1342
33RO20131223,       A16S,      44,          1,         18,         18,5,20140108,       1206,   -27.5007,   -25.0049,       4848,   349.2,  13.9023,  35.3548,2,-999.0000,9,      213,2,  -999.0,9,  -999.0,9,  -999.0,9, -999.00,9,-999.000,9,-999.000,5,-999.000,9,-999.000,9,  -999.0,9, -999.00,9,-999.0000,9, -999.00,-999.0000,9,  -999.00,-999.000,9,  13.9056,2, -999.00,9,  -999.0,9,  -999.0,-999.00000000,9,-999.00000000,9,   349.2,     -999.0,9,     -999.0,9,     -999.0,9,         -999.0,9,  -999.0,9,20140108,       1339
33RO20131223,       A16S,      44,          1,         17,         17,2,20140108,       1206,   -27.5007,   -25.0049,       4848,   349.2,  13.9051,  35.3542,2,  35.3546,2,      213,2,     212,2,     2.6,6,     7.9,6,    0.01,6,   0.625,6,-999.000,5,-999.000,5,-999.000,5,  2122.5,2, 2328.51,2,-999.0000,9, -999.00,   7.8557,2,       25,-999.000,9,  13.9097,2, -999.00,9,  -999.0,9,  -999.0,-999.00000000,9,-999.00000000,9,   349.2,     -999.0,5,    35.5213,2,     -999.0,9,         -999.0,9,  -999.0,9,20140108,       1339
33RO20131223,       A16S,      44,          1,         16,         16,2,20140108,       1206,   -27.5007,   -25.0049,       4848,     498,  11.0863,  34.9573,2,  34.9511,2,    209.8,2,   208.9,2,     5.5,2,    14.7,2,    0.01,2,   1.058,2,-999.000,5,-999.000,5,-999.000,5,  2140.9,2, 2308.78,2,-999.0000,9, -999.00,   7.7752,2,       25,-999.000,9,  11.0836,2, -999.00,9,  -999.0,9,  -999.0,-999.00000000,9,-999.00000000,9,   498.0,     -999.0,5,     35.116,6,     -999.0,9,         -999.0,9,  -999.0,9,20140108,       1335
33RO20131223,       A16S,      44,          1,         15,         15,2,20140108,       1206,   -27.5007,   -25.0049,       4848,   647.5,   7.8879,  34.5591,2,  34.5570,2,    205.2,2,   205.3,2,    11.3,2,    22.8,2,    0.00,2,   1.572,2,-999.000,5,-999.000,5,-999.000,5,  2163.9,2, 2293.22,2,-999.0000,9, -999.00,   7.6848,2,       25,-999.000,9,   7.8829,2, -999.00,9,  -999.0,9,  -999.0,-999.00000000,9,-999.00000000,9,   647.5,     -999.0,5,    34.7199,2,     -999.0,9,         -999.0,9,  -999.0,9,20140108,       1332
33RO20131223,       A16S,      44,          1,         14,         14,2,20140108,       1206,   -27.5007,   -25.0049,       4848,     871,   4.6832,  34.3061,2,  34.3054,2,    218.6,2,   217.6,2,    23.4,2,    29.6,2,    0.00,2,   1.992,2,-999.000,5,-999.000,5,-999.000,5,  2185.8,2, 2289.16,6,-999.0000,9, -999.00,   7.6288,2,       25,-999.000,9,    4.684,2, -999.00,9,  -999.0,9,  -999.0,-999.00000000,9,-999.00000000,9,   871.0,     -999.0,5,    34.4672,2,     -999.0,9,         -999.0,9,  -999.0,9,20140108,       1327
33RO20131223,       A16S,      44,          1,         13,         13,2,20140108,       1206,   -27.5007,   -25.0049,       4848,  1048.7,   3.7047,  34.3713,2,  34.3706,2,    197.3,2,   197.6,2,    39.3,2,    32.5,2,    0.00,2,   2.194,2,-999.000,5,-999.000,5,-999.000,5,  2211.1,6,  2303.4,2,-999.0000,9, -999.00,   7.5883,2,       25,-999.000,9,   3.7042,2, -999.00,9,  -999.0,9,  -999.0,-999.00000000,9,-999.00000000,9,  1048.7,     -999.0,5,    34.5327,2,     -999.0,9,         -999.0,9,  -999.0,9,20140108,       1323
33RO20131223,       A16S,      44,          1,         12,         12,2,20140108,       1206,   -27.5007,   -25.0049,       4848,  1199.2,   3.3088,  34.4697,2,  34.4691,2,    185.4,2,   186.6,2,    49.2,2,    33.2,2,    0.00,2,   2.236,2,-999.000,5,-999.000,5,-999.000,5,    2228,2, 2318.49,2,-999.0000,9, -999.00,    7.576,6,       25,-999.000,9,   3.3096,2, -999.00,9,  -999.0,9,  -999.0,-999.00000000,9,-999.00000000,9,  1199.2,     -999.0,5,    34.6316,2,     -999.0,9,         -999.0,9,  -999.0,9,20140108,       1319
33RO20131223,       A16S,      44,          1,         11,         11,2,20140108,       1206,   -27.5007,   -25.0049,       4848,  1301.1,   3.1244,  34.5495,2,  34.5472,2,    183.5,2,   183.7,2,    52.7,2,    32.6,2,    0.00,2,   2.203,2,-999.000,5,-999.000,5,-999.000,5,  2231.3,2, 2324.29,2,-999.0000,9, -999.00,   7.5791,2,       25,-999.000,9,   3.1255,2, -999.00,9,  -999.0,9,  -999.0,-999.00000000,9,-999.00000000,9,  1301.1,     -999.0,5,    34.7101,2,     -999.0,9,         -999.0,9,  -999.0,9,20140108,       1316
33RO20131223,       A16S,      44,          1,         10,         10,2,20140108,       1206,   -27.5007,   -25.0049,       4848,  1647.9,   2.8964,  34.7176,2,  34.7162,2,    198.6,2,   199.1,2,    51.8,2,    29.3,2,    0.00,2,   1.959,2,-999.000,5,-999.000,5,-999.000,5,  -999.0,9, -999.00,9,-999.0000,9, -999.00,-999.0000,9,  -999.00,-999.000,9,   2.8966,2, -999.00,9,  -999.0,9,  -999.0,-999.00000000,9,-999.00000000,9,  1647.9,     -999.0,5,    34.8799,2,     -999.0,9,         -999.0,9,  -999.0,9,20140108,       1309
33RO20131223,       A16S,      44,          1,          9,          9,2,20140108,       1206,   -27.5007,   -25.0049,       4848,  2097.4,   2.8732,  34.8582,2,  34.8580,2,    230.2,2,   230.1,2,    39.9,2,    24.2,2,    0.00,2,   1.601,2,-999.000,5,-999.000,5,-999.000,5,  2195.8,2, 2326.26,2,-999.0000,9, -999.00,   7.6904,2,       25,-999.000,9,   2.8729,2, -999.00,9,  -999.0,9,  -999.0,-999.00000000,9,-999.00000000,9,  2097.4,     -999.0,5,    35.0223,2,     -999.0,9,         -999.0,9,  -999.0,9,20140108,       1301
33RO20131223,       A16S,      44,          1,          8,          8,2,20140108,       1206,   -27.5007,   -25.0049,       4848,  2548.4,   2.8616,  34.9117,2,  34.9120,2,    245.1,2,   245.1,2,    33.1,2,    21.8,2,    0.01,2,   1.432,2,-999.000,5,-999.000,5,-999.000,5,  -999.0,9, -999.00,9,-999.0000,9, -999.00,-999.0000,9,  -999.00,-999.000,9,   2.8619,2, -999.00,9,  -999.0,9,  -999.0,-999.00000000,9,-999.00000000,9,  2548.4,     -999.0,5,    35.0767,2,     -999.0,9,         -999.0,9,  -999.0,9,20140108,       1253
33RO20131223,       A16S,      44,          1,          7,          7,2,20140108,       1206,   -27.5007,   -25.0049,       4848,  2848.9,   2.7704,  34.9155,2,  34.9172,2,    248.1,2,   248.2,2,    33.4,2,    21.4,2,    0.00,2,   1.408,2,-999.000,5,-999.000,5,-999.000,5,  2182.9,2, 2329.77,6,-999.0000,9, -999.00,   7.7234,2,       25,-999.000,9,   2.7705,2, -999.00,9,  -999.0,9,  -999.0,-999.00000000,9,-999.00000000,9,  2848.9,     -999.0,5,    35.0818,2,     -999.0,9,         -999.0,9,  -999.0,9,20140108,       1246
33RO20131223,       A16S,      44,          1,          6,          6,2,20140108,       1206,   -27.5007,   -25.0049,       4848,  3147.2,   2.6164,  34.9076,2,  34.9090,2,    249.6,2,   249.2,2,    36.2,6,    21.3,2,    0.00,6,   1.417,6,-999.000,5,-999.000,5,-999.000,5,  -999.0,9, -999.00,9,-999.0000,9, -999.00,-999.0000,9,  -999.00,-999.000,9,   2.6164,2, -999.00,9,  -999.0,9,  -999.0,-999.00000000,9,-999.00000000,9,  3147.2,     -999.0,5,    35.0736,2,     -999.0,9,         -999.0,9,  -999.0,9,20140108,       1240
33RO20131223,       A16S,      44,          1,          5,          5,2,20140108,       1206,   -27.5007,   -25.0049,       4848,  3449.3,   2.3925,  34.8883,2,  34.8886,2,      248,2,     248,2,    43.2,6,    22.0,2,    0.00,6,   1.478,6,-999.000,5,-999.000,5,-999.000,5,  2190.4,2, 2336.54,2,-999.0000,9, -999.00,   7.7159,2,       25,-999.000,9,   2.3914,2, -999.00,9,  -999.0,9,  -999.0,-999.00000000,9,-999.00000000,9,  3449.3,     -999.0,5,    35.0532,2,     -999.0,9,         -999.0,9,  -999.0,9,20140108,       1234
33RO20131223,       A16S,      44,          1,          4,          4,2,20140108,       1206,   -27.5007,   -25.0049,       4848,  3849.6,   1.9169,  34.8382,2,  34.8380,2,    240.4,2,   240.6,2,    62.0,6,    24.5,2,    0.00,6,   1.662,6,-999.000,5,-999.000,5,-999.000,5,  -999.0,9, -999.00,9,-999.0000,9, -999.00,-999.0000,9,  -999.00,-999.000,9,   1.9176,2, -999.00,9,  -999.0,9,  -999.0,-999.00000000,9,-999.00000000,9,  3849.6,     -999.0,5,    35.0023,6,     -999.0,9,         -999.0,9,  -999.0,9,20140108,       1227
33RO20131223,       A16S,      44,          1,          3,          3,2,20140108,       1206,   -27.5007,   -25.0049,       4848,  4248.5,   1.3866,  34.7819,2,  34.7826,2,    231.9,2,   231.6,2,    83.6,6,    27.4,2,    0.00,6,   1.869,6,-999.000,5,-999.000,5,-999.000,5,  2230.6,2, 2352.77,2,-999.0000,9, -999.00,   7.6633,2,       25,-999.000,9,   1.3877,2, -999.00,9,  -999.0,9,  -999.0,-999.00000000,9,-999.00000000,9,  4248.5,     -999.0,5,    34.9467,2,     -999.0,9,         -999.0,9,  -999.0,9,20140108,       1219
33RO20131223,       A16S,      44,          1,          2,          2,2,20140108,       1206,   -27.5007,   -25.0049,       4848,  4648.4,   1.2006,  34.7578,2,  34.7594,2,    227.8,2,   227.8,2,    92.6,6,    28.5,2,    0.00,6,   1.959,6,-999.000,5,-999.000,5,-999.000,5,    2238,2, 2355.06,2,-999.0000,9, -999.00,    7.647,6,       25,-999.000,9,   1.2004,2, -999.00,9,  -999.0,9,  -999.0,-999.00000000,9,-999.00000000,9,  4648.4,     -999.0,5,    34.9233,2,     -999.0,9,         -999.0,9,  -999.0,9,20140108,       1211
33RO20131223,       A16S,      44,          1,          1,          1,2,20140108,       1206,   -27.5007,   -25.0049,       4848,  4909.9,   1.1450,  34.7500,2,  34.7504,2,    227.4,2,   227.3,2,    95.5,6,    28.8,2,    0.00,6,   1.982,6,-999.000,5,-999.000,5,-999.000,5,  2241.3,6, 2356.36,2,-999.0000,9, -999.00,   7.6414,2,       25,-999.000,9,    1.145,2, -999.00,9,  -999.0,9,  -999.0,-999.00000000,9,-999.00000000,9,  4909.9,     -999.0,5,    34.9143,2,     -999.0,9,         -999.0,9,  -999.0,9,20140108,       1206