BOTTLE,20220815CCHSIOAMB
EXPOCODE,SECT_ID,STNNBR,CASTNO,SAMPNO,BTLNBR,BTLNBR_FLAG_W,DATE,TIME,LATITUDE,LONGITUDE,DEPTH,CTDPRS,CTDTMP,CTDSAL,CTDSAL_FLAG_W,SALNTY,SALNTY_FLAG_W,CTDOXY,CTDOXY_FLAG_W,OXYGEN,OXYGEN_FLAG_W,SILCAT,SILCAT_FLAG_W,NITRAT,NITRAT_FLAG_W,NITRIT,NITRIT_FLAG_W,PHSPHT,PHSPHT_FLAG_W,CFC-11,CFC-11_FLAG_W,CFC-12,CFC-12_FLAG_W,SF6,SF6_FLAG_W,TCARBN,TCARBN_FLAG_W,ALKALI,ALKALI_FLAG_W,PCO2,PCO2_FLAG_W,PCO2TMP,PH_SWS,PH_SWS_FLAG_W,PH_TMP,TRITUM,TRITUM_FLAG_W,REFTMP,REFTMP_FLAG_W,DELC13,DELC13_FLAG_W,DELC14,DELC14_FLAG_W,C14ERR,DOC,DOC_FLAG_W,TDN,TDN_FLAG_W,CTDRAW,N2O,N2O_FLAG_W,SALTREF,SALTREF_FLAG_W,HELIUM,HELIUM_FLAG_W,DELO18,DELO18_FLAG_W,CCL4,CCL4_FLAG_W,BTL_DATE,BTL_TIME
,,,,,,,,,,,METERS,DBAR,ITS-90,PSS-78,,PSS-78,,UMOL/KG,,UMOL/KG,,UMOL/KG,,UMOL/KG,,UMOL/KG,,UMOL/KG,,PMOL/KG,,PMOL/KG,,FMOL/KG,,UMOL/KG,,UMOL/KG,,UATM,,DEG C,,,DEG C,TU,,DEG C,,/MILLE,,/MILLE,,/MILLE,UMOL/KG,,UMOL/KG,,DBAR,NMOL/KG,,G/KG,,NMOL/KG,,/MILLE,,PMOL/KG,,,
33RO20131223,       A16S,      34,          1,         24,         24,2,20140105,       1228,   -22.4999,   -24.9999,       5533,     3.1,  26.3595,  37.0987,2,  37.0904,2,    203.4,2,   204.2,2,     0.9,2,     0.0,2,    0.00,2,   0.118,2,-999.000,5,-999.000,9,-999.000,9,  -999.0,5, 2437.59,2,-999.0000,9, -999.00,   8.0378,2,       25,-999.000,9,  26.3402,2, -999.00,9,  -999.0,9,  -999.0,-999.00000000,9,-999.00000000,9,     3.1,     -999.0,9,    37.2653,2,     -999.0,9,         -999.0,9,  -999.0,9,20140105,       1426
33RO20131223,       A16S,      34,          1,         23,         23,2,20140105,       1228,   -22.4999,   -24.9999,       5533,    27.7,  25.1201,  36.9553,2,  36.9482,2,    210.3,2,   213.1,2,     1.0,2,     0.0,2,    0.00,2,   0.118,2,-999.000,5,-999.000,9,-999.000,9,  -999.0,9, -999.00,9,-999.0000,9, -999.00,-999.0000,9,  -999.00,-999.000,9,  25.1574,2, -999.00,9,  -999.0,9,  -999.0,-999.00000000,9,-999.00000000,9,    27.7,     -999.0,9,    37.1224,2,     -999.0,9,         -999.0,9,  -999.0,9,20140105,       1424
33RO20131223,       A16S,      34,          1,         22,         22,2,20140105,       1228,   -22.4999,   -24.9999,       5533,    68.1,  22.7178,  36.8057,2,  36.8146,2,      220,2,   221.1,2,     1.0,2,     0.0,2,    0.00,2,   0.121,2,-999.000,5,-999.000,9,-999.000,9,  -999.0,5, 2418.96,6,-999.0000,9, -999.00,   8.0296,2,       25,-999.000,9,  22.7238,2, -999.00,9,  -999.0,9,  -999.0,-999.00000000,9,-999.00000000,9,    68.1,     -999.0,9,    36.9882,2,     -999.0,9,         -999.0,9,  -999.0,9,20140105,       1421
33RO20131223,       A16S,      34,          1,         21,         21,2,20140105,       1228,   -22.4999,   -24.9999,       5533,   107.8,  21.8425,  36.6656,2,  36.6424,2,    219.8,2,   219.8,2,     1.1,2,     0.0,2,    0.00,2,   0.138,2,-999.000,5,-999.000,9,-999.000,9,  -999.0,5,  2409.1,2,-999.0000,9, -999.00,   8.0138,2,       25,-999.000,9,  21.8375,2, -999.00,9,  -999.0,9,  -999.0,-999.00000000,9,-999.00000000,9,   107.8,     -999.0,9,    36.8152,2,     -999.0,9,         -999.0,9,  -999.0,9,20140105,       1419
33RO20131223,       A16S,      34,          1,         20,         20,2,20140105,       1228,   -22.4999,   -24.9999,       5533,   172.4,  18.3323,  36.0391,2,  36.0438,2,    210.1,2,   210.7,2,     1.5,2,     0.9,2,    0.10,2,   0.287,2,-999.000,5,-999.000,9,-999.000,9,  -999.0,5, 2371.13,2,-999.0000,9, -999.00,   7.9436,2,       25,-999.000,9,  18.3445,2, -999.00,9,  -999.0,9,  -999.0,-999.00000000,9,-999.00000000,9,   172.4,     -999.0,9,    36.2137,2,     -999.0,9,         -999.0,9,  -999.0,9,20140105,       1417
33RO20131223,       A16S,      34,          1,         19,         19,2,20140105,       1228,   -22.4999,   -24.9999,       5533,   258.2,  15.3646,  35.5283,2,  35.5254,2,    203.3,2,   203.1,2,     2.6,2,     6.2,2,    0.01,2,   0.562,2,-999.000,5,-999.000,9,-999.000,9,  -999.0,5, 2336.06,2,-999.0000,9, -999.00,   7.8776,2,       25,-999.000,9,  15.3606,2, -999.00,9,  -999.0,9,  -999.0,-999.00000000,9,-999.00000000,9,   258.2,     -999.0,9,    35.6929,2,     -999.0,9,         -999.0,9,  -999.0,9,20140105,       1414
33RO20131223,       A16S,      34,          1,         18,         18,2,20140105,       1228,   -22.4999,   -24.9999,       5533,     368,  12.4159,  35.1001,2,  35.0958,2,      200,2,   199.1,2,     4.8,2,    12.7,2,    0.00,2,   0.938,2,-999.000,5,-999.000,9,-999.000,9,  -999.0,5, 2315.08,2,-999.0000,9, -999.00,   7.7977,2,       25,-999.000,9,  12.4242,2, -999.00,9,  -999.0,9,  -999.0,-999.00000000,9,-999.00000000,9,   368.0,     -999.0,9,    35.2613,2,     -999.0,9,         -999.0,9,  -999.0,9,20140105,       1411
33RO20131223,       A16S,      34,          1,         17,         17,2,20140105,       1228,   -22.4999,   -24.9999,       5533,     468,  10.1085,  34.8155,2,  34.8115,2,    192.5,2,   191.9,2,     8.3,2,    18.8,2,    0.00,2,   1.325,2,-999.000,5,-999.000,9,-999.000,9,  -999.0,5, 2298.78,2,-999.0000,9, -999.00,   7.7261,2,       25,-999.000,9,  10.1022,2, -999.00,9,  -999.0,9,  -999.0,-999.00000000,9,-999.00000000,9,   468.0,     -999.0,9,    34.9757,2,     -999.0,9,         -999.0,9,  -999.0,9,20140105,       1409
33RO20131223,       A16S,      34,          1,         16,         16,2,20140105,       1228,   -22.4999,   -24.9999,       5533,   597.7,   7.4765,  34.5431,2,  34.5412,2,    185.9,2,   185.6,2,    15.0,6,    25.7,6,    0.00,6,   1.764,6,-999.000,5,-999.000,9,-999.000,9,  -999.0,5, 2294.89,2,-999.0000,9, -999.00,   7.6457,2,       25,-999.000,9,   7.4804,2, -999.00,9,  -999.0,9,  -999.0,-999.00000000,9,-999.00000000,9,   597.7,     -999.0,9,    34.7041,2,     -999.0,9,         -999.0,9,  -999.0,9,20140105,       1406
33RO20131223,       A16S,      34,          1,         15,         15,2,20140105,       1228,   -22.4999,   -24.9999,       5533,   772.7,   4.7690,  34.3972,2,  34.3962,2,      184,2,   183.6,2,    29.1,2,    31.5,2,    0.00,2,   2.177,2,-999.000,5,-999.000,9,-999.000,9,  -999.0,5, 2300.15,2,-999.0000,9, -999.00,   7.5861,2,       25,-999.000,9,   4.7736,2, -999.00,9,  -999.0,9,  -999.0,-999.00000000,9,-999.00000000,9,   772.7,     -999.0,9,    34.5584,2,     -999.0,9,         -999.0,9,  -999.0,9,20140105,       1401
33RO20131223,       A16S,      34,          1,         14,         14,2,20140105,       1228,   -22.4999,   -24.9999,       5533,   923.3,   4.0422,  34.4296,2,  34.4295,2,    181.2,2,   180.7,2,    36.7,2,    32.6,2,    0.00,2,   2.250,2,-999.000,5,-999.000,9,-999.000,9,  -999.0,5, 2305.76,2,-999.0000,9, -999.00,   7.5781,6,       25,-999.000,9,   4.0422,2, -999.00,9,  -999.0,9,  -999.0,-999.00000000,9,-999.00000000,9,   923.3,     -999.0,9,    34.5919,2,     -999.0,9,         -999.0,9,  -999.0,9,20140105,       1358
33RO20131223,       A16S,      34,          1,         13,         13,2,20140105,       1228,   -22.4999,   -24.9999,       5533,   998.9,   3.8239,  34.4617,2,  34.4624,2,    180.7,2,   180.9,2,    39.4,2,    32.6,2,    0.00,2,   2.253,2,-999.000,5,-999.000,9,-999.000,9,  2218.5,3, 2307.67,2,-999.0000,9, -999.00,   7.5782,2,       25,-999.000,9,   3.8243,2, -999.00,9,  -999.0,9,  -999.0,-999.00000000,9,-999.00000000,9,   998.9,     -999.0,9,    34.6249,2,     -999.0,9,         -999.0,9,  -999.0,9,20140105,       1355
33RO20131223,       A16S,      34,          1,         12,         12,2,20140105,       1228,   -22.4999,   -24.9999,       5533,  1247.6,   3.3702,  34.6009,2,  34.6031,2,      187,2,   186.9,2,    45.8,6,    30.9,6,    0.00,6,   2.127,6,-999.000,5,-999.000,9,-999.000,9,  -999.0,5, 2323.25,6,-999.0000,9, -999.00,   7.5973,2,       25,-999.000,9,   3.3702,2, -999.00,9,  -999.0,9,  -999.0,-999.00000000,9,-999.00000000,9,  1247.6,     -999.0,9,    34.7663,2,     -999.0,9,         -999.0,9,  -999.0,9,20140105,       1350
33RO20131223,       A16S,      34,          1,         11,         11,2,20140105,       1228,   -22.4999,   -24.9999,       5533,  1397.8,   3.2661,  34.7062,2,  34.7069,2,    196.7,2,   196.5,2,    44.9,2,    28.8,2,    0.00,2,   1.986,2,-999.000,5,-999.000,9,-999.000,9,  -999.0,9, -999.00,9,-999.0000,9, -999.00,-999.0000,9,  -999.00,-999.000,9,   3.2663,2, -999.00,9,  -999.0,9,  -999.0,-999.00000000,9,-999.00000000,9,  1397.8,     -999.0,9,    34.8705,2,     -999.0,9,         -999.0,9,  -999.0,9,20140105,       1347
33RO20131223,       A16S,      34,          1,         10,         10,2,20140105,       1228,   -22.4999,   -24.9999,       5533,  1588.4,   3.2851,  34.8157,2,  34.8158,2,    214.8,2,   214.2,2,    39.0,2,    25.7,2,    0.00,2,   1.756,2,-999.000,5,-999.000,9,-999.000,9,  -999.0,5, 2326.49,2,-999.0000,9, -999.00,   7.6616,2,       25,-999.000,9,   3.2847,2, -999.00,9,  -999.0,9,  -999.0,-999.00000000,9,-999.00000000,9,  1588.4,     -999.0,9,    34.9799,2,     -999.0,9,         -999.0,9,  -999.0,9,20140105,       1342
33RO20131223,       A16S,      34,          1,          9,          9,2,20140105,       1228,   -22.4999,   -24.9999,       5533,  1949.1,   3.2982,  34.9314,2,  34.9328,2,    243.4,2,   244.1,2,    26.5,2,    20.9,2,    0.00,2,   1.416,2,-999.000,5,-999.000,9,-999.000,9,  -999.0,9, -999.00,9,-999.0000,9, -999.00,-999.0000,9,  -999.00,-999.000,9,   3.2985,2, -999.00,9,  -999.0,9,  -999.0,-999.00000000,9,-999.00000000,9,  1949.1,     -999.0,9,    35.0975,2,     -999.0,9,         -999.0,9,  -999.0,9,20140105,       1335
33RO20131223,       A16S,      34,          1,          8,          8,2,20140105,       1228,   -22.4999,   -24.9999,       5533,  2398.7,   2.9891,  34.9322,2,  34.9319,2,      248,2,   250.3,2,    28.8,2,    20.5,2,    0.00,2,   1.386,2,-999.000,5,-999.000,9,-999.000,9,  2181.6,2, 2324.01,2,-999.0000,9, -999.00,   7.7245,2,       25,-999.000,9,   2.9889,2, -999.00,9,  -999.0,9,  -999.0,-999.00000000,9,-999.00000000,9,  2398.7,     -999.0,9,    35.0966,2,     -999.0,9,         -999.0,9,  -999.0,9,20140105,       1327
33RO20131223,       A16S,      34,          1,          7,          7,2,20140105,       1228,   -22.4999,   -24.9999,       5533,  2947.4,   2.7300,  34.9178,2,  34.9172,2,    248.8,2,   250.1,2,    33.3,2,    20.8,2,    0.00,2,   1.415,2,-999.000,5,-999.000,9,-999.000,9,  -999.0,9, -999.00,9,-999.0000,9, -999.00,-999.0000,9,  -999.00,-999.000,9,   2.7298,2, -999.00,9,  -999.0,9,  -999.0,-999.00000000,9,-999.00000000,9,  2947.4,     -999.0,9,    35.0818,2,     -999.0,9,         -999.0,9,  -999.0,9,20140105,       1317
33RO20131223,       A16S,      34,          1,          6,          6,2,20140105,       1228,   -22.4999,   -24.9999,       5533,  3448.2,   2.4279,  34.8940,2,  34.8937,2,    248.9,2,   250.1,2,    40.6,2,    21.5,2,    0.00,2,   1.469,2,-999.000,5,-999.000,9,-999.000,9,  2191.1,2, 2334.46,2,-999.0000,9, -999.00,   7.7189,2,       25,-999.000,9,   2.4289,2, -999.00,9,  -999.0,9,  -999.0,-999.00000000,9,-999.00000000,9,  3448.2,     -999.0,9,    35.0582,2,     -999.0,9,         -999.0,9,  -999.0,9,20140105,       1308
33RO20131223,       A16S,      34,          1,          5,          5,2,20140105,       1228,   -22.4999,   -24.9999,       5533,  3947.7,   1.8344,  34.8325,2,  34.8331,2,    239.7,2,   241.3,2,    63.9,2,    24.6,2,    0.00,2,   1.700,2,-999.000,5,-999.000,9,-999.000,9,  -999.0,9, -999.00,9,-999.0000,9, -999.00,-999.0000,9,  -999.00,-999.000,9,   1.8366,2, -999.00,9,  -999.0,9,  -999.0,-999.00000000,9,-999.00000000,9,  3947.7,     -999.0,9,    34.9973,6,     -999.0,9,         -999.0,9,  -999.0,9,20140105,       1259
33RO20131223,       A16S,      34,          1,          4,          4,2,20140105,       1228,   -22.4999,   -24.9999,       5533,  4447.8,   1.2946,  34.7727,2,  34.7725,2,    230.8,2,   231.3,2,    87.3,6,    27.8,6,    0.00,6,   1.919,6,-999.000,5,-999.000,9,-999.000,9,  2236.8,2, 2357.69,2,-999.0000,9, -999.00,   7.6556,6,       25,-999.000,9,   1.2947,2, -999.00,9,  -999.0,9,  -999.0,-999.00000000,9,-999.00000000,9,  4447.8,     -999.0,9,    34.9365,2,     -999.0,9,         -999.0,9,  -999.0,9,20140105,       1250
33RO20131223,       A16S,      34,          1,          3,          3,2,20140105,       1228,   -22.4999,   -24.9999,       5533,  4948.3,   0.8920,  34.7262,2,  34.7265,2,    223.9,2,   224.4,2,   104.9,2,    30.2,2,    0.00,2,   2.111,2,-999.000,5,-999.000,9,-999.000,9,  2252.3,2, 2366.97,6,-999.0000,9, -999.00,   7.6284,2,       25,-999.000,9,   0.8926,2, -999.00,9,  -999.0,9,  -999.0,-999.00000000,9,-999.00000000,9,  4948.3,     -999.0,9,    34.8903,2,     -999.0,9,         -999.0,9,  -999.0,9,20140105,       1241
33RO20131223,       A16S,      34,          1,          2,          2,2,20140105,       1228,   -22.4999,   -24.9999,       5533,  5446.7,   0.6833,  34.6991,2,  34.6996,2,      222,2,   221.6,2,   115.1,6,    31.4,6,    0.00,6,   2.187,6,-999.000,5,-999.000,9,-999.000,9,  -999.0,9, -999.00,9,-999.0000,9, -999.00,-999.0000,9,  -999.00,-999.000,9,   0.6833,2, -999.00,9,  -999.0,9,  -999.0,-999.00000000,9,-999.00000000,9,  5446.7,     -999.0,9,    34.8632,2,     -999.0,9,         -999.0,9,  -999.0,9,20140105,       1231
33RO20131223,       A16S,      34,          1,          1,          1,2,20140105,       1228,   -22.4999,   -24.9999,       5533,  5614.6,   0.6816,  34.6966,2,  34.6995,2,    222.3,2,   221.5,2,   116.1,6,    31.5,6,    0.00,6,   2.195,6,-999.000,5,-999.000,9,-999.000,9,  2261.9,3, 2370.46,2,-999.0000,9, -999.00,   7.6084,2,       25,-999.000,9,   0.6815,2, -999.00,9,  -999.0,9,  -999.0,-999.00000000,9,-999.00000000,9,  5614.6,     -999.0,9,    34.8631,2,     -999.0,9,         -999.0,9,  -999.0,9,20140105,       1228