BOTTLE,20220815CCHSIOAMB
EXPOCODE,SECT_ID,STNNBR,CASTNO,SAMPNO,BTLNBR,BTLNBR_FLAG_W,DATE,TIME,LATITUDE,LONGITUDE,DEPTH,CTDPRS,CTDTMP,CTDSAL,CTDSAL_FLAG_W,SALNTY,SALNTY_FLAG_W,CTDOXY,CTDOXY_FLAG_W,OXYGEN,OXYGEN_FLAG_W,SILCAT,SILCAT_FLAG_W,NITRAT,NITRAT_FLAG_W,NITRIT,NITRIT_FLAG_W,PHSPHT,PHSPHT_FLAG_W,CFC-11,CFC-11_FLAG_W,CFC-12,CFC-12_FLAG_W,SF6,SF6_FLAG_W,TCARBN,TCARBN_FLAG_W,ALKALI,ALKALI_FLAG_W,PCO2,PCO2_FLAG_W,PCO2TMP,PH_SWS,PH_SWS_FLAG_W,PH_TMP,TRITUM,TRITUM_FLAG_W,REFTMP,REFTMP_FLAG_W,DELC13,DELC13_FLAG_W,DELC14,DELC14_FLAG_W,C14ERR,DOC,DOC_FLAG_W,TDN,TDN_FLAG_W,CTDRAW,N2O,N2O_FLAG_W,SALTREF,SALTREF_FLAG_W,HELIUM,HELIUM_FLAG_W,DELO18,DELO18_FLAG_W,CCL4,CCL4_FLAG_W,BTL_DATE,BTL_TIME
,,,,,,,,,,,METERS,DBAR,ITS-90,PSS-78,,PSS-78,,UMOL/KG,,UMOL/KG,,UMOL/KG,,UMOL/KG,,UMOL/KG,,UMOL/KG,,PMOL/KG,,PMOL/KG,,FMOL/KG,,UMOL/KG,,UMOL/KG,,UATM,,DEG C,,,DEG C,TU,,DEG C,,/MILLE,,/MILLE,,/MILLE,UMOL/KG,,UMOL/KG,,DBAR,NMOL/KG,,G/KG,,NMOL/KG,,/MILLE,,PMOL/KG,,,
33RO20131223,       A16S,      60,          1,         24,         24,2,20140113,       0312,   -35.4999,   -25.0001,       4113,     4.9,  20.6953,  35.3144,2,  35.3159,2,      227,2,   228.7,2,     0.9,2,     0.0,2,    0.00,2,   0.109,2,-999.000,5,-999.000,9,-999.000,9,  2062.9,6, 2331.44,2,-999.0000,9, -999.00,   7.9667,2,       25,-999.000,9,   20.695,2, -999.00,9,  -999.0,9,  -999.0,-999.00000000,9,-999.00000000,9,     4.9,     -999.0,9,    35.4824,2,     -999.0,9,         -999.0,9,  -999.0,9,20140113,       0450
33RO20131223,       A16S,      60,          1,         23,         23,2,20140113,       0312,   -35.4999,   -25.0001,       4113,    28.1,  19.5687,  35.3117,2,  35.3159,2,    232.1,2,   233.9,2,     0.9,2,     0.0,2,    0.00,2,   0.109,2,-999.000,5,-999.000,9,-999.000,9,  2065.6,2, 2322.31,2,-999.0000,9, -999.00,    7.965,2,       25,-999.000,9,  19.5713,2, -999.00,9,  -999.0,9,  -999.0,-999.00000000,9,-999.00000000,9,    28.1,     -999.0,9,    35.4824,2,     -999.0,9,         -999.0,9,  -999.0,9,20140113,       0448
33RO20131223,       A16S,      60,          1,         22,         22,2,20140113,       0312,   -35.4999,   -25.0001,       4113,    62.5,  16.6998,  35.3930,2,  35.3942,2,    250.9,2,   251.4,2,     0.9,2,     0.1,2,    0.00,2,   0.132,2,-999.000,5,-999.000,9,-999.000,9,  2072.4,2, 2327.57,2,-999.0000,9, -999.00,   7.9611,6,       25,-999.000,9,  16.7189,2, -999.00,9,  -999.0,9,  -999.0,-999.00000000,9,-999.00000000,9,    62.5,     -999.0,9,    35.5611,2,     -999.0,9,         -999.0,9,  -999.0,9,20140113,       0446
33RO20131223,       A16S,      60,          1,         21,         21,2,20140113,       0312,   -35.4999,   -25.0001,       4113,   112.8,  14.7636,  35.3956,2,  35.3961,2,    236.8,2,   233.3,2,     1.3,2,     3.0,2,    0.09,2,   0.353,2,-999.000,5,-999.000,9,-999.000,9,  2101.7,2, 2332.55,6,-999.0000,9, -999.00,   7.9034,2,       25,-999.000,9,  14.7608,2, -999.00,9,  -999.0,9,  -999.0,-999.00000000,9,-999.00000000,9,   112.8,     -999.0,9,     35.563,2,     -999.0,9,         -999.0,9,  -999.0,9,20140113,       0444
33RO20131223,       A16S,      60,          1,         20,         20,2,20140113,       0312,   -35.4999,   -25.0001,       4113,   182.8,  14.1340,  35.4197,2,  35.4182,2,    219.1,2,   219.2,2,     2.0,2,     6.8,2,    0.01,2,   0.560,2,-999.000,5,-999.000,9,-999.000,9,  2118.8,3, 2329.45,2,-999.0000,9, -999.00,   7.8719,2,       25,-999.000,9,   14.129,2, -999.00,9,  -999.0,9,  -999.0,-999.00000000,9,-999.00000000,9,   182.8,     -999.0,9,    35.5852,2,     -999.0,9,         -999.0,9,  -999.0,9,20140113,       0442
33RO20131223,       A16S,      60,          1,         19,         19,2,20140113,       0312,   -35.4999,   -25.0001,       4113,   259.1,  13.4176,  35.3208,2,  35.3209,2,    236.9,2,   239.8,2,     2.0,2,     6.3,2,    0.01,2,   0.537,2,-999.000,5,-999.000,9,-999.000,9,  2112.3,3, 2328.26,2,-999.0000,9, -999.00,   8.0733,4,       25,-999.000,9,  13.4177,2, -999.00,9,  -999.0,9,  -999.0,-999.00000000,9,-999.00000000,9,   259.1,     -999.0,9,    35.4875,2,     -999.0,9,         -999.0,9,  -999.0,9,20140113,       0439
33RO20131223,       A16S,      60,          1,         18,         18,2,20140113,       0312,   -35.4999,   -25.0001,       4113,   349.8,  12.6003,  35.1984,2,  35.2009,2,    227.7,2,   226.8,2,     2.7,2,     9.8,2,    0.01,2,   0.745,2,-999.000,5,-999.000,9,-999.000,9,  2123.2,2, 2320.11,2,-999.0000,9, -999.00,   7.8404,2,       25,-999.000,9,  12.6005,2, -999.00,9,  -999.0,9,  -999.0,-999.00000000,9,-999.00000000,9,   349.8,     -999.0,9,    35.3669,6,     -999.0,9,         -999.0,9,  -999.0,9,20140113,       0436
33RO20131223,       A16S,      60,          1,         17,         17,2,20140113,       0312,   -35.4999,   -25.0001,       4113,   447.6,  10.3944,  34.8568,2,  34.8542,2,    210.9,2,   211.5,2,     5.1,2,    16.5,2,    0.01,2,   1.165,2,-999.000,5,-999.000,9,-999.000,9,    2143,2, 2300.61,2,-999.0000,9, -999.00,   7.7599,2,       25,-999.000,9,   10.387,2, -999.00,9,  -999.0,9,  -999.0,-999.00000000,9,-999.00000000,9,   447.6,     -999.0,9,    35.0186,2,     -999.0,9,         -999.0,9,  -999.0,9,20140113,       0433
33RO20131223,       A16S,      60,          1,         16,         16,2,20140113,       0312,   -35.4999,   -25.0001,       4113,   573.6,   7.4182,  34.4752,2,  34.4763,2,    222.5,2,   221.1,2,     8.8,2,    22.8,2,    0.01,2,   1.571,2,-999.000,5,-999.000,9,-999.000,9,    2157,2, 2285.97,2,-999.0000,9, -999.00,   7.6915,2,       25,-999.000,9,     7.42,2, -999.00,9,  -999.0,9,  -999.0,-999.00000000,9,-999.00000000,9,   573.6,     -999.0,9,    34.6389,2,     -999.0,9,         -999.0,9,  -999.0,9,20140113,       0430
33RO20131223,       A16S,      60,          1,         15,         15,2,20140113,       0312,   -35.4999,   -25.0001,       4113,   723.5,   4.9323,  34.2244,2,  34.2236,2,    250.2,2,   249.5,2,    13.0,2,    26.5,2,    0.00,2,   1.815,2,-999.000,5,-999.000,9,-999.000,9,  2161.6,2, 2279.04,2,-999.0000,9, -999.00,   7.6637,2,       25,-999.000,9,   4.9328,2, -999.00,9,  -999.0,9,  -999.0,-999.00000000,9,-999.00000000,9,   723.5,     -999.0,9,     34.385,2,     -999.0,9,         -999.0,9,  -999.0,9,20140113,       0426
33RO20131223,       A16S,      60,          1,         14,         14,2,20140113,       0312,   -35.4999,   -25.0001,       4113,   872.7,   4.1134,  34.2143,2,  34.2130,2,    241.8,2,   241.8,2,    19.9,2,    28.8,2,    0.00,2,   1.970,2,-999.000,5,-999.000,9,-999.000,9,  -999.0,9, -999.00,9,-999.0000,9, -999.00,-999.0000,9,  -999.00,-999.000,9,   4.1139,2, -999.00,9,  -999.0,9,  -999.0,-999.00000000,9,-999.00000000,9,   872.7,     -999.0,9,    34.3744,2,     -999.0,9,         -999.0,9,  -999.0,9,20140113,       0423
33RO20131223,       A16S,      60,          1,         13,         13,2,20140113,       0312,   -35.4999,   -25.0001,       4113,  1047.6,   3.5279,  34.2604,2,  34.2579,2,    224.9,2,   224.3,2,    30.1,2,    31.0,2,    0.00,2,   2.124,2,-999.000,5,-999.000,9,-999.000,9,  2194.5,2, 2296.83,2,-999.0000,9, -999.00,   7.6081,2,       25,-999.000,9,   3.5299,2, -999.00,9,  -999.0,9,  -999.0,-999.00000000,9,-999.00000000,9,  1047.6,     -999.0,9,    34.4195,2,     -999.0,9,         -999.0,9,  -999.0,9,20140113,       0419
33RO20131223,       A16S,      60,          1,         12,         12,2,20140113,       0312,   -35.4999,   -25.0001,       4113,  1247.3,   3.1299,  34.3573,2,  34.3568,2,    201.8,2,   201.9,2,    43.5,2,    32.8,2,    0.00,2,   2.252,2,-999.000,5,-999.000,9,-999.000,9,  -999.0,9, -999.00,9,-999.0000,9, -999.00,-999.0000,9,  -999.00,-999.000,9,   3.1303,2, -999.00,9,  -999.0,9,  -999.0,-999.00000000,9,-999.00000000,9,  1247.3,     -999.0,9,    34.5188,2,     -999.0,9,         -999.0,9,  -999.0,9,20140113,       0414
33RO20131223,       A16S,      60,          1,         11,         11,2,20140113,       0312,   -35.4999,   -25.0001,       4113,  1499.3,   2.8667,  34.5287,2,  34.5267,2,    183.3,2,   184.8,2,    56.8,2,    32.8,2,    0.00,2,   2.258,2,-999.000,5,-999.000,9,-999.000,9,  2234.9,2, 2322.57,6,-999.0000,9, -999.00,   7.5666,2,       25,-999.000,9,   2.8668,2, -999.00,9,  -999.0,9,  -999.0,-999.00000000,9,-999.00000000,9,  1499.3,     -999.0,9,    34.6895,2,     -999.0,9,         -999.0,9,  -999.0,9,20140113,       0408
33RO20131223,       A16S,      60,          1,         10,         10,2,20140113,       0312,   -35.4999,   -25.0001,       4113,  1649.5,   2.8528,  34.6129,2,  34.6117,2,    184.1,2,     185,2,    58.1,2,    31.7,2,    0.00,2,   2.179,2,-999.000,5,-999.000,9,-999.000,9,  2234.4,6, 2327.23,2,-999.0000,9, -999.00,   7.5811,2,       25,-999.000,9,   2.8528,2, -999.00,9,  -999.0,9,  -999.0,-999.00000000,9,-999.00000000,9,  1649.5,     -999.0,9,    34.7749,2,     -999.0,9,         -999.0,9,  -999.0,9,20140113,       0405
33RO20131223,       A16S,      60,          1,          9,          9,2,20140113,       0312,   -35.4999,   -25.0001,       4113,  1873.3,   2.8894,  34.7230,2,  34.7225,2,    195.4,2,   196.7,2,    54.9,2,    29.3,2,    0.00,2,   2.000,2,-999.000,5,-999.000,9,-999.000,9,  2223.9,2, 2331.77,2,-999.0000,9, -999.00,   7.6118,6,       25,-999.000,9,   2.8891,2, -999.00,9,  -999.0,9,  -999.0,-999.00000000,9,-999.00000000,9,  1873.3,     -999.0,9,    34.8862,2,     -999.0,9,         -999.0,9,  -999.0,9,20140113,       0400
33RO20131223,       A16S,      60,          1,          8,          8,2,20140113,       0312,   -35.4999,   -25.0001,       4113,    2099,   2.9327,  34.7921,2,  34.7905,2,    208.6,2,   209.1,2,    50.1,2,    27.0,2,    0.00,2,   1.844,2,-999.000,5,-999.000,9,-999.000,9,  -999.0,9, -999.00,9,-999.0000,9, -999.00,-999.0000,9,  -999.00,-999.000,9,   2.9326,2, -999.00,9,  -999.0,9,  -999.0,-999.00000000,9,-999.00000000,9,  2099.0,     -999.0,9,    34.9546,2,     -999.0,9,         -999.0,9,  -999.0,9,20140113,       0355
33RO20131223,       A16S,      60,          1,          7,          7,2,20140113,       0312,   -35.4999,   -25.0001,       4113,  2297.6,   2.9404,  34.8385,2,  34.8386,2,    220.7,2,   220.5,2,    45.0,2,    25.2,2,    0.00,2,   1.711,2,-999.000,5,-999.000,9,-999.000,9,  2203.6,2,  2330.2,2,-999.0000,9, -999.00,    7.662,2,       25,-999.000,9,    2.941,2, -999.00,9,  -999.0,9,  -999.0,-999.00000000,9,-999.00000000,9,  2297.6,     -999.0,9,    35.0029,2,     -999.0,9,         -999.0,9,  -999.0,9,20140113,       0350
33RO20131223,       A16S,      60,          1,          6,          6,2,20140113,       0312,   -35.4999,   -25.0001,       4113,    2548,   2.8652,  34.8635,2,  34.8629,2,    227.7,2,   227.3,2,    44.7,6,    24.3,6,    0.01,6,   1.644,6,-999.000,5,-999.000,9,-999.000,9,  -999.0,9, -999.00,9,-999.0000,9, -999.00,-999.0000,9,  -999.00,-999.000,9,   2.8645,2, -999.00,9,  -999.0,9,  -999.0,-999.00000000,9,-999.00000000,9,  2548.0,     -999.0,9,    35.0273,2,     -999.0,9,         -999.0,9,  -999.0,9,20140113,       0345
33RO20131223,       A16S,      60,          1,          5,          5,2,20140113,       0312,   -35.4999,   -25.0001,       4113,  2848.7,   2.6372,  34.8636,2,  34.8633,2,    229.4,2,   230.8,2,    48.6,6,    24.2,6,    0.00,6,   1.639,6,-999.000,5,-999.000,9,-999.000,9,  2202.1,2, 2337.38,2,-999.0000,9, -999.00,   7.6806,3,       25,-999.000,9,   2.6371,2, -999.00,9,  -999.0,9,  -999.0,-999.00000000,9,-999.00000000,9,  2848.7,     -999.0,9,    35.0277,2,     -999.0,9,         -999.0,9,  -999.0,9,20140113,       0339
33RO20131223,       A16S,      60,          1,          4,          4,2,20140113,       0312,   -35.4999,   -25.0001,       4113,  3248.2,   2.2391,  34.8424,2,  34.8416,2,    230.8,2,   231.2,2,    58.6,6,    25.0,6,    0.00,6,   1.693,6,-999.000,5,-999.000,9,-999.000,9,  -999.0,9, -999.00,9,-999.0000,9, -999.00,-999.0000,9,  -999.00,-999.000,9,   2.2389,2, -999.00,9,  -999.0,9,  -999.0,-999.00000000,9,-999.00000000,9,  3248.2,     -999.0,9,    35.0059,2,     -999.0,9,         -999.0,9,  -999.0,9,20140113,       0331
33RO20131223,       A16S,      60,          1,          3,          3,2,20140113,       0312,   -35.4999,   -25.0001,       4113,  3648.1,   1.5843,  34.7801,2,  34.7797,2,      223,2,   222.5,2,    83.9,6,    28.0,6,    0.00,6,   1.916,6,-999.000,5,-999.000,9,-999.000,9,  2231.6,2, 2349.41,2,-999.0000,9, -999.00,   7.6448,2,       25,-999.000,9,   1.5809,2, -999.00,9,  -999.0,9,  -999.0,-999.00000000,9,-999.00000000,9,  3648.1,     -999.0,9,    34.9437,2,     -999.0,9,         -999.0,9,  -999.0,9,20140113,       0323
33RO20131223,       A16S,      60,          1,          2,          2,2,20140113,       0312,   -35.4999,   -25.0001,       4113,  4048.7,   1.0821,  34.7333,2,  34.7331,2,    218.4,2,   218.5,2,   103.2,6,    30.4,6,    0.00,6,   2.077,6,-999.000,5,-999.000,9,-999.000,9,  -999.0,9, -999.00,9,-999.0000,9, -999.00,-999.0000,9,  -999.00,-999.000,9,   1.0821,2, -999.00,9,  -999.0,9,  -999.0,-999.00000000,9,-999.00000000,9,  4048.7,     -999.0,9,    34.8968,6,     -999.0,9,         -999.0,9,  -999.0,9,20140113,       0315
33RO20131223,       A16S,      60,          1,          1,          1,2,20140113,       0312,   -35.4999,   -25.0001,       4113,  4161.2,   1.0533,  34.7296,2,  34.7294,2,    219.4,2,   219.2,2,   104.6,2,    30.5,2,    0.01,2,   2.096,2,-999.000,5,-999.000,9,-999.000,9,  2252.7,6, 2381.95,4,-999.0000,9, -999.00,   7.6202,2,       25,-999.000,9,   1.0531,2, -999.00,9,  -999.0,9,  -999.0,-999.00000000,9,-999.00000000,9,  4161.2,     -999.0,9,    34.8931,2,     -999.0,9,         -999.0,9,  -999.0,9,20140113,       0312