BOTTLE,20220815CCHSIOAMB
EXPOCODE,SECT_ID,STNNBR,CASTNO,SAMPNO,BTLNBR,BTLNBR_FLAG_W,DATE,TIME,LATITUDE,LONGITUDE,DEPTH,CTDPRS,CTDTMP,CTDSAL,CTDSAL_FLAG_W,SALNTY,SALNTY_FLAG_W,CTDOXY,CTDOXY_FLAG_W,OXYGEN,OXYGEN_FLAG_W,SILCAT,SILCAT_FLAG_W,NITRAT,NITRAT_FLAG_W,NITRIT,NITRIT_FLAG_W,PHSPHT,PHSPHT_FLAG_W,CFC-11,CFC-11_FLAG_W,CFC-12,CFC-12_FLAG_W,SF6,SF6_FLAG_W,TCARBN,TCARBN_FLAG_W,ALKALI,ALKALI_FLAG_W,PCO2,PCO2_FLAG_W,PCO2TMP,PH_SWS,PH_SWS_FLAG_W,PH_TMP,TRITUM,TRITUM_FLAG_W,REFTMP,REFTMP_FLAG_W,DELC13,DELC13_FLAG_W,DELC14,DELC14_FLAG_W,C14ERR,DOC,DOC_FLAG_W,TDN,TDN_FLAG_W,CTDRAW,N2O,N2O_FLAG_W,SALTREF,SALTREF_FLAG_W,HELIUM,HELIUM_FLAG_W,DELO18,DELO18_FLAG_W,CCL4,CCL4_FLAG_W,BTL_DATE,BTL_TIME
,,,,,,,,,,,METERS,DBAR,ITS-90,PSS-78,,PSS-78,,UMOL/KG,,UMOL/KG,,UMOL/KG,,UMOL/KG,,UMOL/KG,,UMOL/KG,,PMOL/KG,,PMOL/KG,,FMOL/KG,,UMOL/KG,,UMOL/KG,,UATM,,DEG C,,,DEG C,TU,,DEG C,,/MILLE,,/MILLE,,/MILLE,UMOL/KG,,UMOL/KG,,DBAR,NMOL/KG,,G/KG,,NMOL/KG,,/MILLE,,PMOL/KG,,,
33RO20131223,       A16S,       8,          1,         24,         24,2,20131228,       1002,    -9.5006,   -24.9968,       5783,     3.3,  26.3849,  36.5278,2,  36.5265,2,    200.2,2,   200.9,2,     0.9,2,     0.0,2,    0.00,2,   0.066,2,   1.629,3,   1.084,3,   1.277,3,    2062,6, 2398.83,2,-999.0000,9, -999.00,   8.0649,2,       25,-999.000,9,   26.381,2, -999.00,9,  -999.0,9,  -999.0,-999.00000000,9,-999.00000000,9,     3.3,      6.506,3,    36.6988,2,     -999.0,9,         -999.0,9,  -999.0,9,20131228,       1205
33RO20131223,       A16S,       8,          1,         23,         23,2,20131228,       1002,    -9.5006,   -24.9968,       5783,      28,  26.3641,  36.5271,2,  36.5320,2,    200.8,2,     201,2,     0.9,2,     0.0,2,    0.00,2,   0.075,2,   1.630,3,   1.087,3,   1.325,3,  2061.4,2, -999.00,9,-999.0000,9, -999.00,-999.0000,9,  -999.00,-999.000,9,  26.3629,2, -999.00,9,  -999.0,9,  -999.0,-999.00000000,9,-999.00000000,9,    28.0,      6.557,3,    36.7043,2,     -999.0,9,         -999.0,9,  -999.0,9,20131228,       1203
33RO20131223,       A16S,       8,          1,         22,         22,2,20131228,       1002,    -9.5006,   -24.9968,       5783,      63,  25.9285,  36.5928,2,  36.5946,2,    202.9,2,   204.8,2,     0.9,2,     0.0,2,    0.00,2,   0.089,2,-999.000,5,-999.000,5,-999.000,5,  -999.0,9, -999.00,9,-999.0000,9, -999.00,-999.0000,9,  -999.00,-999.000,9,  25.9512,2, -999.00,9,  -999.0,9,  -999.0,-999.00000000,9,-999.00000000,9,    63.0,     -999.0,5,    36.7671,2,     -999.0,9,         -999.0,9,  -999.0,9,20131228,       1201
33RO20131223,       A16S,       8,          1,         21,         21,2,20131228,       1002,    -9.5006,   -24.9968,       5783,   113.1,  22.2868,  36.6703,2,  36.6319,2,    204.6,2,     199,2,     1.4,2,     0.9,2,    0.06,2,   0.276,2,   2.014,3,   1.298,3,   1.394,3,    2118,2, 2405.71,6,-999.0000,9, -999.00,   7.9816,2,       25,-999.000,9,  22.2721,2, -999.00,9,  -999.0,9,  -999.0,-999.00000000,9,-999.00000000,9,   113.1,      9.523,3,    36.8047,2,     -999.0,9,         -999.0,9,  -999.0,9,20131228,       1159
33RO20131223,       A16S,       8,          1,         20,         20,2,20131228,       1002,    -9.5006,   -24.9968,       5783,   182.9,  14.0319,  35.4683,2,  35.4708,2,    113.5,2,   112.5,2,     6.8,2,    20.2,2,    0.01,2,   1.363,2,-999.000,5,-999.000,5,-999.000,5,    2190,2, 2335.79,2,-999.0000,9, -999.00,   7.7037,6,       25,-999.000,9,  14.0189,2, -999.00,9,  -999.0,9,  -999.0,-999.00000000,9,-999.00000000,9,   182.9,     -999.0,5,     35.638,2,     -999.0,9,         -999.0,9,  -999.0,9,20131228,       1156
33RO20131223,       A16S,       8,          1,         19,         19,2,20131228,       1002,    -9.5006,   -24.9968,       5783,   258.8,  10.6078,  35.0049,2,  35.0001,2,     87.9,2,    89.3,2,    12.0,2,    28.7,2,    0.00,2,   1.908,2,   1.552,3,   0.874,3,   0.353,3,  2215.9,6, 2311.47,2,-999.0000,9, -999.00,   7.5699,2,       25,-999.000,9,  10.5782,2, -999.00,9,  -999.0,9,  -999.0,-999.00000000,9,-999.00000000,9,   258.8,     34.530,3,    35.1651,2,     -999.0,9,         -999.0,9,  -999.0,9,20131228,       1154
33RO20131223,       A16S,       8,          1,         18,         18,2,20131228,       1002,    -9.5006,   -24.9968,       5783,   348.3,   8.7747,  34.7861,2,  34.7786,2,     93.7,2,      96,2,    15.6,2,    31.7,2,    0.00,2,   2.115,2,   1.179,3,   0.640,3,   0.234,3,  2222.4,2, 2302.34,2,-999.0000,9, -999.00,   7.5358,2,       25,-999.000,9,   8.7891,2, -999.00,9,  -999.0,9,  -999.0,-999.00000000,9,-999.00000000,9,   348.3,     33.891,3,    34.9426,2,     -999.0,9,         -999.0,9,  -999.0,9,20131228,       1151
33RO20131223,       A16S,       8,          1,         17,         17,2,20131228,       1002,    -9.5006,   -24.9968,       5783,   448.2,   7.3765,  34.6448,2,  34.6410,2,    102.4,2,   102.2,2,    19.6,2,    34.3,2,    0.00,2,   2.302,2,   0.779,3,   0.418,3,   0.144,3,    2229,2, 2297.88,2,-999.0000,9, -999.00,   7.5073,2,       25,-999.000,9,   7.3801,2, -999.00,9,  -999.0,9,  -999.0,-999.00000000,9,-999.00000000,9,   448.2,     32.163,3,    34.8043,2,     -999.0,9,         -999.0,9,  -999.0,9,20131228,       1148
33RO20131223,       A16S,       8,          1,         16,         16,2,20131228,       1002,    -9.5006,   -24.9968,       5783,   577.1,   6.3369,  34.5683,2,  34.5633,2,    105.6,2,   107.8,2,    23.7,2,    35.9,2,    0.00,2,   2.463,2,-999.000,5,-999.000,5,-999.000,5,  -999.0,9, -999.00,9,-999.0000,9, -999.00,-999.0000,9,  -999.00,-999.000,9,   6.3328,2, -999.00,9,  -999.0,9,  -999.0,-999.00000000,9,-999.00000000,9,   577.1,     -999.0,5,    34.7263,2,     -999.0,9,         -999.0,9,  -999.0,9,20131228,       1145
33RO20131223,       A16S,       8,          1,         15,         15,2,20131228,       1002,    -9.5006,   -24.9968,       5783,   723.1,   5.1119,  34.4940,2,  34.4929,2,    132.1,2,   133.2,2,    29.3,2,    35.4,2,    0.00,2,   2.483,2,   0.227,3,   0.119,3,   0.000,3,  2228.8,2, 2301.17,2,-999.0000,9, -999.00,   7.5203,2,       25,-999.000,9,   5.1114,2, -999.00,9,  -999.0,9,  -999.0,-999.00000000,9,-999.00000000,9,   723.1,     27.291,3,    34.6555,2,     -999.0,9,         -999.0,9,  -999.0,9,20131228,       1141
33RO20131223,       A16S,       8,          1,         14,         14,2,20131228,       1002,    -9.5006,   -24.9968,       5783,   872.9,   4.3900,  34.5013,2,  34.5001,2,    153.7,2,   154.2,2,    33.9,2,    34.2,2,    0.00,2,   2.417,2,-999.000,5,-999.000,5,-999.000,5,  2224.6,2, 2305.99,2,-999.0000,9, -999.00,   7.5453,2,       25,-999.000,9,   4.3918,2, -999.00,9,  -999.0,9,  -999.0,-999.00000000,9,-999.00000000,9,   872.9,     -999.0,5,    34.6628,2,     -999.0,9,         -999.0,9,  -999.0,9,20131228,       1137
33RO20131223,       A16S,       8,          1,         13,         13,2,20131228,       1002,    -9.5006,   -24.9968,       5783,  1022.9,   4.1629,  34.5903,2,  34.5901,2,    161.2,2,   160.2,2,    34.1,2,    32.6,2,    0.00,2,   2.315,2,   0.054,3,   0.027,3,   0.000,3,  2221.9,2, 2309.86,6,-999.0000,9, -999.00,   7.5644,2,       25,-999.000,9,   4.1632,2, -999.00,9,  -999.0,9,  -999.0,-999.00000000,9,-999.00000000,9,  1022.9,     23.365,3,    34.7532,2,     -999.0,9,         -999.0,9,  -999.0,9,20131228,       1134
33RO20131223,       A16S,       8,          1,         12,         12,2,20131228,       1002,    -9.5006,   -24.9968,       5783,  1197.4,   4.1839,  34.7356,2,  34.7345,2,    177.7,2,   178.1,2,    29.9,2,    29.4,2,    0.00,2,   2.050,2,-999.000,5,-999.000,5,-999.000,5,  -999.0,9, -999.00,9,-999.0000,9, -999.00,-999.0000,9,  -999.00,-999.000,9,   4.1833,2, -999.00,9,  -999.0,9,  -999.0,-999.00000000,9,-999.00000000,9,  1197.4,     -999.0,5,    34.8983,2,     -999.0,9,         -999.0,9,  -999.0,9,20131228,       1130
33RO20131223,       A16S,       8,          1,         11,         11,2,20131228,       1002,    -9.5006,   -24.9968,       5783,  1448.8,   4.2359,  34.9159,2,  34.9172,2,    213.7,2,   213.6,2,    21.8,2,    23.6,2,    0.00,2,   1.577,2,   0.171,3,   0.090,3,   0.059,3,    2187,2, 2314.13,2,-999.0000,9, -999.00,   7.6785,2,       25,-999.000,9,   4.2355,2, -999.00,9,  -999.0,9,  -999.0,-999.00000000,9,-999.00000000,9,  1448.8,     17.359,3,    35.0819,6,     -999.0,9,         -999.0,9,  -999.0,9,20131228,       1124
33RO20131223,       A16S,       8,          1,         10,         10,2,20131228,       1002,    -9.5006,   -24.9968,       5783,  1747.4,   3.8966,  34.9624,2,  34.9610,2,    238.8,2,   238.4,2,    19.8,2,    20.7,2,    0.00,2,   1.394,2,   0.280,3,   0.143,3,   0.063,3,  2174.1,2, 2317.68,2,-999.0000,9, -999.00,   7.7136,2,       25,-999.000,9,   3.8963,2, -999.00,9,  -999.0,9,  -999.0,-999.00000000,9,-999.00000000,9,  1747.4,     15.180,3,    35.1259,2,     -999.0,9,         -999.0,9,  -999.0,9,20131228,       1118
33RO20131223,       A16S,       8,          1,          9,          9,2,20131228,       1002,    -9.5006,   -24.9968,       5783,  2197.9,   3.2671,  34.9479,2,  34.9486,2,    249.9,2,   248.9,2,    24.9,2,    20.1,2,    0.00,2,   1.356,2,   0.202,3,   0.104,3,   0.018,3,  2175.2,2, 2310.45,4,-999.0000,9, -999.00,    7.726,2,       25,-999.000,9,   3.2678,2, -999.00,9,  -999.0,9,  -999.0,-999.00000000,9,-999.00000000,9,  2197.9,     14.415,3,    35.1134,2,     -999.0,9,         -999.0,9,  -999.0,9,20131228,       1109
33RO20131223,       A16S,       8,          1,          8,          8,2,20131228,       1002,    -9.5006,   -24.9968,       5783,  2498.4,   2.9974,  34.9318,2,-999.0000,9,    247.9,2,   247.8,2,    30.1,2,    20.7,2,    0.00,2,   1.399,2,-999.000,5,-999.000,5,-999.000,5,  2179.8,2, 2326.69,2,-999.0000,9, -999.00,   7.7231,2,       25,-999.000,9,   2.9973,2, -999.00,9,  -999.0,9,  -999.0,-999.00000000,9,-999.00000000,9,  2498.4,     -999.0,5,     -999.0,9,     -999.0,9,         -999.0,9,  -999.0,9,20131228,       1103
33RO20131223,       A16S,       8,          1,          7,          7,2,20131228,       1002,    -9.5006,   -24.9968,       5783,  2948.3,   2.7402,  34.9188,2,  34.9309,4,    248.6,2,   249.1,2,    33.9,2,    20.8,2,    0.00,2,   1.417,2,   0.073,3,   0.037,3,   0.039,3,  2182.4,2, 2328.72,2,-999.0000,9, -999.00,   7.7253,2,       25,-999.000,9,   2.7399,2, -999.00,9,  -999.0,9,  -999.0,-999.00000000,9,-999.00000000,9,  2948.3,     14.348,3,    35.0957,2,     -999.0,9,         -999.0,9,  -999.0,9,20131228,       1055
33RO20131223,       A16S,       8,          1,          6,          6,2,20131228,       1002,    -9.5006,   -24.9968,       5783,  3447.5,   2.5306,  34.9077,2,  34.9086,2,    254.1,2,   253.1,2,    35.5,2,    20.5,2,    0.00,2,   1.384,2,-999.000,5,-999.000,5,-999.000,5,  2181.5,2, 2328.82,2,-999.0000,9, -999.00,   7.7279,2,       25,-999.000,9,   2.5301,2, -999.00,9,  -999.0,9,  -999.0,-999.00000000,9,-999.00000000,9,  3447.5,     -999.0,5,    35.0732,2,     -999.0,9,         -999.0,9,  -999.0,9,20131228,       1045
33RO20131223,       A16S,       8,          1,          5,          5,2,20131228,       1002,    -9.5006,   -24.9968,       5783,  3948.4,   1.9587,  34.8489,2,  34.8508,2,    244.4,2,   244.2,2,    58.2,2,    23.5,2,    0.00,2,   1.631,2,   0.031,3,   0.017,3,   0.036,3,  2204.2,2, 2343.45,2,-999.0000,9, -999.00,   7.7011,2,       25,-999.000,9,   1.9593,2, -999.00,9,  -999.0,9,  -999.0,-999.00000000,9,-999.00000000,9,  3948.4,     15.312,3,    35.0151,2,     -999.0,9,         -999.0,9,  -999.0,9,20131228,       1036
33RO20131223,       A16S,       8,          1,          4,          4,2,20131228,       1002,    -9.5006,   -24.9968,       5783,  4447.2,   1.0486,  34.7506,2,  34.7526,2,    227.7,2,   227.6,2,    96.9,2,    28.9,2,    0.00,2,   2.044,2,-999.000,5,-999.000,5,-999.000,5,  -999.0,9, -999.00,9,-999.0000,9, -999.00,-999.0000,9,  -999.00,-999.000,9,   1.0486,2, -999.00,9,  -999.0,9,  -999.0,-999.00000000,9,-999.00000000,9,  4447.2,     -999.0,5,    34.9165,2,     -999.0,9,         -999.0,9,  -999.0,9,20131228,       1027
33RO20131223,       A16S,       8,          1,          3,          3,2,20131228,       1002,    -9.5006,   -24.9968,       5783,  4946.9,   0.8293,  34.7226,2,  34.7257,2,    222.4,2,   223.2,2,   107.6,2,    30.3,2,    0.00,2,   2.160,2,   0.039,3,   0.018,3,   0.022,3,  2252.5,2, 2369.58,2,-999.0000,9, -999.00,   7.6289,6,       25,-999.000,9,   0.8291,2, -999.00,9,  -999.0,9,  -999.0,-999.00000000,9,-999.00000000,9,  4946.9,     17.970,3,    34.8894,2,     -999.0,9,         -999.0,9,  -999.0,9,20131228,       1017
33RO20131223,       A16S,       8,          1,          2,          2,2,20131228,       1002,    -9.5006,   -24.9968,       5783,  5448.5,   0.7744,  34.7100,2,  34.7113,2,    221.8,2,   221.1,2,   112.3,2,    30.9,2,    0.00,2,   2.206,2,-999.000,5,-999.000,5,-999.000,5,  -999.0,9, -999.00,9,-999.0000,9, -999.00,-999.0000,9,  -999.00,-999.000,9,   0.7746,2, -999.00,9,  -999.0,9,  -999.0,-999.00000000,9,-999.00000000,9,  5448.5,     -999.0,5,     34.875,6,     -999.0,9,         -999.0,9,  -999.0,9,20131228,       1008
33RO20131223,       A16S,       8,          1,          1,          1,2,20131228,       1002,    -9.5006,   -24.9968,       5783,  5659.2,   0.7889,  34.7082,2,  34.7082,2,    222.4,2,   221.7,2,   112.9,2,    31.0,2,    0.00,2,   2.213,2,   0.078,3,   0.038,3,   0.023,3,  2258.8,6,  2379.2,3,-999.0000,9, -999.00,   7.6202,2,       25,-999.000,9,   0.7884,2, -999.00,9,  -999.0,9,  -999.0,-999.00000000,9,-999.00000000,9,  5659.2,     18.240,3,    34.8718,2,     -999.0,9,         -999.0,9,  -999.0,9,20131228,       1002