BOTTLE,20220815CCHSIOAMB
EXPOCODE,SECT_ID,STNNBR,CASTNO,SAMPNO,BTLNBR,BTLNBR_FLAG_W,DATE,TIME,LATITUDE,LONGITUDE,DEPTH,CTDPRS,CTDTMP,CTDSAL,CTDSAL_FLAG_W,SALNTY,SALNTY_FLAG_W,CTDOXY,CTDOXY_FLAG_W,OXYGEN,OXYGEN_FLAG_W,SILCAT,SILCAT_FLAG_W,NITRAT,NITRAT_FLAG_W,NITRIT,NITRIT_FLAG_W,PHSPHT,PHSPHT_FLAG_W,CFC-11,CFC-11_FLAG_W,CFC-12,CFC-12_FLAG_W,SF6,SF6_FLAG_W,TCARBN,TCARBN_FLAG_W,ALKALI,ALKALI_FLAG_W,PCO2,PCO2_FLAG_W,PCO2TMP,PH_SWS,PH_SWS_FLAG_W,PH_TMP,TRITUM,TRITUM_FLAG_W,REFTMP,REFTMP_FLAG_W,DELC13,DELC13_FLAG_W,DELC14,DELC14_FLAG_W,C14ERR,DOC,DOC_FLAG_W,TDN,TDN_FLAG_W,CTDRAW,N2O,N2O_FLAG_W,SALTREF,SALTREF_FLAG_W,HELIUM,HELIUM_FLAG_W,DELO18,DELO18_FLAG_W,CCL4,CCL4_FLAG_W,BTL_DATE,BTL_TIME
,,,,,,,,,,,METERS,DBAR,ITS-90,PSS-78,,PSS-78,,UMOL/KG,,UMOL/KG,,UMOL/KG,,UMOL/KG,,UMOL/KG,,UMOL/KG,,PMOL/KG,,PMOL/KG,,FMOL/KG,,UMOL/KG,,UMOL/KG,,UATM,,DEG C,,,DEG C,TU,,DEG C,,/MILLE,,/MILLE,,/MILLE,UMOL/KG,,UMOL/KG,,DBAR,NMOL/KG,,G/KG,,NMOL/KG,,/MILLE,,PMOL/KG,,,
33RO20131223,       A16S,      83,          1,         24,         24,2,20140120,       2154,   -46.9993,   -32.1241,       5179,     4.2,   7.0163,  33.9650,2,  33.9670,2,      294,2,   297.7,2,     2.4,2,    19.2,2,    0.20,2,   1.383,2,   4.261,2,   2.378,2,   2.430,2,    2111,6, 2280.42,2,-999.0000,9, -999.00,   7.7865,2,       25,-999.000,1,   7.0164,2,    1.68,2,   -34.4,2,     2.1,  49.24319981,2,        23.39,2,     4.2,     12.141,2,    34.1272,2,     -999.0,1,         -999.0,1,  -999.0,9,20140120,       2349
33RO20131223,       A16S,      83,          1,         23,         23,2,20140120,       2154,   -46.9993,   -32.1241,       5179,     9.8,   7.0138,  33.9652,2,  33.9654,2,    294.2,2,   297.3,2,     2.3,2,    19.2,2,    0.20,2,   1.384,2,   4.281,6,   2.382,2,   2.447,6,    2111,2, 2279.41,6,-999.0000,9, -999.00,   7.7854,2,       25,-999.000,1,   7.0142,2, -999.00,9,  -999.0,9,  -999.0,  49.31007784,2,        23.38,2,     9.8,     12.180,6,    34.1256,2,     -999.0,1,         -999.0,1,  -999.0,9,20140120,       2347
33RO20131223,       A16S,      83,          1,         22,         22,2,20140120,       2154,   -46.9993,   -32.1241,       5179,    38.2,   7.0121,  33.9745,2,  33.9737,2,    292.8,2,   296.8,2,     2.4,2,    19.2,2,    0.20,2,   1.378,2,   4.269,2,   2.381,2,   2.474,2,  2111.4,2,    2282,2,-999.0000,9, -999.00,   7.7868,2,       25,-999.000,1,   7.0097,2,    1.69,2,   -28.6,2,     2.5,  48.32920018,2,        22.33,2,    38.2,     12.307,2,    34.1339,2,     -999.0,1,         -999.0,1,  -999.0,9,20140120,       2345
33RO20131223,       A16S,      83,          1,         21,         21,2,20140120,       2154,   -46.9993,   -32.1241,       5179,    67.7,   5.7012,  34.1372,2,  34.1389,2,    275.6,2,   280.2,2,     4.9,2,    22.1,2,    0.31,2,   1.568,2,   4.393,2,   2.441,2,   2.355,2,  2137.1,2, 2285.55,2,-999.0000,9, -999.00,    7.721,2,       25,-999.000,1,   5.7006,2,    1.36,2,   -14.8,2,     2.4,  47.21456648,2,        25.49,2,    67.7,     13.245,2,    34.2998,2,     -999.0,1,         -999.0,1,  -999.0,9,20140120,       2343
33RO20131223,       A16S,      83,          1,         20,         20,2,20140120,       2154,   -46.9993,   -32.1241,       5179,   118.2,   4.4414,  34.0914,2,  34.0928,2,      284,2,   283.6,2,     8.6,2,    24.5,2,    0.04,2,   1.707,2,   4.506,2,   2.479,2,   2.349,2,  2147.3,2, 2280.96,2,-999.0000,9, -999.00,   7.6912,2,       25,-999.000,1,   4.4495,2,    1.16,2,   -21.3,2,     2.5,  45.89186782,2,        28.41,2,   118.2,     13.564,2,    34.2536,2,     -999.0,1,         -999.0,1,  -999.0,9,20140120,       2341
33RO20131223,       A16S,      83,          1,         19,         19,2,20140120,       2154,   -46.9993,   -32.1241,       5179,   197.1,   4.0330,  34.1108,2,  34.1128,2,    287.1,2,   280.1,2,    12.2,2,    25.7,2,    0.02,2,   1.779,2,   4.378,2,   2.397,2,   2.169,2,  2154.7,2, 2282.53,2,-999.0000,9, -999.00,    7.677,2,       25,-999.000,1,   4.0332,2,    1.15,2,   -22.1,2,     2.4,  44.46513669,2,        29.42,2,   197.1,     14.338,2,    34.2737,2,     -999.0,1,         -999.0,1,  -999.0,9,20140120,       2338
33RO20131223,       A16S,      83,          1,         18,         18,2,20140120,       2154,   -46.9993,   -32.1241,       5179,     297,   3.5191,  34.1162,2,  34.1166,2,      270,2,   269.4,2,    17.2,2,    27.4,2,    0.01,2,   1.902,2,   4.120,2,   2.155,2,   1.697,2,  2167.2,2, 2286.71,2,-999.0000,9, -999.00,   7.6528,2,       25,-999.000,1,    3.519,2,    1.08,2,   -40.3,2,     2.6,  43.72204755,2,        30.36,2,   297.0,     15.765,2,    34.2775,6,     -999.0,1,         -999.0,1,  -999.0,9,20140120,       2335
33RO20131223,       A16S,      83,          1,         17,         17,2,20140120,       2154,   -46.9993,   -32.1241,       5179,   397.9,   3.2791,  34.1513,2,  34.1503,2,    260.2,2,   253.7,2,    22.7,2,    29.0,2,    0.01,2,   2.006,2,   3.810,2,   2.020,2,   1.592,2,  2180.6,2, 2292.42,2,-999.0000,9, -999.00,   7.6295,2,       25,-999.000,1,   3.2791,2,    1.02,6,   -59.7,6,     1.8,  43.12757624,2,        31.61,2,   397.9,     17.140,2,    34.3113,2,     -999.0,1,         -999.0,1,  -999.0,9,20140120,       2333
33RO20131223,       A16S,      83,          1,         16,         16,2,20140120,       2154,   -46.9993,   -32.1241,       5179,   518.8,   3.1510,  34.2435,2,  34.2426,2,    224.3,2,  -999.0,5,    32.8,2,    31.1,2,    0.00,2,   2.141,2,   2.889,2,   1.477,2,   0.996,2,    2203,2,  2298.2,2,-999.0000,9, -999.00,    7.596,2,       25,-999.000,1,   3.1514,2,    0.90,2,   -81.6,2,     1.8,   42.7411699,2,        33.59,2,   518.8,     19.288,2,     34.404,2,     -999.0,1,         -999.0,1,  -999.0,9,20140120,       2329
33RO20131223,       A16S,      83,          1,         15,         15,2,20140120,       2154,   -46.9993,   -32.1241,       5179,     668,   2.9924,  34.3416,2,  34.3406,2,    198.1,2,   198.9,2,    44.7,2,    32.7,2,    0.00,2,   2.253,2,   1.939,2,   0.975,2,   0.533,2,  2223.2,2, 2315.24,2,-999.0000,9, -999.00,   7.5658,2,       25,-999.000,1,    2.992,2,    0.74,2,  -102.8,2,     1.9,  42.19128394,2,        35.18,2,   668.0,     21.052,2,    34.5025,2,     -999.0,1,         -999.0,1,  -999.0,9,20140120,       2326
33RO20131223,       A16S,      83,          1,         14,         14,2,20140120,       2154,   -46.9993,   -32.1241,       5179,   817.9,   2.8483,  34.4325,2,  34.4323,2,    183.7,2,   183.2,2,    54.5,2,    33.4,2,    0.00,2,   2.307,2,   1.224,2,   0.602,2,   0.306,2,  2236.1,2, 2325.81,6,-999.0000,9, -999.00,   7.5552,2,       25,-999.000,1,   2.8485,2,    0.62,2,  -123.5,2,     2.0,  40.63079676,2,        36.03,2,   817.9,     21.967,2,    34.5947,2,     -999.0,1,         -999.0,1,  -999.0,9,20140120,       2322
33RO20131223,       A16S,      83,          1,         13,         13,2,20140120,       2154,   -46.9993,   -32.1241,       5179,   998.4,   2.6721,  34.5253,2,  34.5249,2,    173.4,2,     173,2,    63.8,2,    33.5,2,    0.00,2,   2.316,2,   0.716,6,   0.350,2,   0.173,6,  2247.9,6, 2336.21,2,-999.0000,9, -999.00,   7.5468,2,       25,-999.000,1,   2.6724,2,    0.53,2,  -140.6,2,     2.4,  40.04375634,2,        36.04,2,   998.4,     22.593,6,    34.6877,2,     -999.0,1,         -999.0,1,  -999.0,9,20140120,       2318
33RO20131223,       A16S,      83,          1,         12,         12,2,20140120,       2154,   -46.9993,   -32.1241,       5179,  1197.1,   2.7002,  34.6250,2,  34.6250,2,    175.5,2,   174.7,2,    64.9,2,    32.0,2,    0.00,2,   2.217,2,   0.378,2,   0.183,2,   0.077,2,  2246.9,2, 2343.02,2,-999.0000,9, -999.00,    7.565,6,       25,-999.000,1,   2.7002,2,    0.52,2,  -140.4,2,     2.3,  39.88770762,2,        34.68,2,  1197.1,     21.615,2,    34.7883,2,     -999.0,1,         -999.0,1,  -999.0,9,20140120,       2313
33RO20131223,       A16S,      83,          1,         11,         11,2,20140120,       2154,   -46.9993,   -32.1241,       5179,  1398.1,   2.7067,  34.7097,2,  34.7110,2,    178.7,2,     184,2,    62.8,2,    30.1,2,    0.00,2,   2.071,2,   0.242,2,   0.116,2,   0.060,2,    2238,3, 2343.58,2,-999.0000,9, -999.00,   7.5926,2,       25,-999.000,1,   2.7124,2,    0.55,2,  -142.9,2,     1.7,  40.44502447,2,        32.76,2,  1398.1,     20.222,2,    34.8746,2,     -999.0,1,         -999.0,1,  -999.0,9,20140120,       2309
33RO20131223,       A16S,      83,          1,         10,         10,2,20140120,       2154,   -46.9993,   -32.1241,       5179,  1598.8,   2.7848,  34.7822,2,  34.7821,2,    198.7,2,   198.5,2,    56.4,6,    27.5,6,    0.00,6,   1.896,6,   0.191,2,   0.091,2,   0.056,2,  2226.1,3, 2341.87,2,-999.0000,9, -999.00,   7.6243,2,       25,-999.000,1,   2.7842,2,    0.64,2,  -131.4,2,     1.7,  41.09894291,2,        30.14,2,  1598.8,     18.639,2,    34.9461,2,     -999.0,1,         -999.0,9,  -999.0,9,20140120,       2304
33RO20131223,       A16S,      83,          1,          9,          9,2,20140120,       2154,   -46.9993,   -32.1241,       5179,  1847.7,   2.7408,  34.8252,2,  34.8264,2,      211,2,     211,2,    52.4,6,    25.8,6,    0.00,6,   1.769,6,   0.162,2,   0.078,2,   0.013,2,  2216.2,3, 2338.07,2,-999.0000,9, -999.00,   7.6519,2,       25,-999.000,1,   2.7408,2,    0.66,2,  -129.6,2,     1.7,  41.30700787,2,        28.46,2,  1847.7,     17.319,2,    34.9906,2,     -999.0,1,         -999.0,9,  -999.0,9,20140120,       2259
33RO20131223,       A16S,      83,          1,          8,          8,2,20140120,       2154,   -46.9993,   -32.1241,       5179,  2147.9,   2.3223,  34.8003,2,  34.8012,2,    203.7,2,   207.8,2,    65.7,6,    27.1,6,    0.01,6,   1.867,6,   0.123,2,   0.058,2,   0.000,2,    2228,2, 2347.77,2,-999.0000,9, -999.00,    7.638,2,       25,-999.000,9,   2.3231,2,   -0.28,4,  -141.6,2,     1.7,  41.11380469,2,        29.74,2,  2147.9,     17.988,2,    34.9653,2,     -999.0,1,         -999.0,9,  -999.0,9,20140120,       2253
33RO20131223,       A16S,      83,          1,          7,          7,2,20140120,       2154,   -46.9993,   -32.1241,       5179,  2547.6,   1.6791,  34.7528,2,  34.7539,2,    200.2,2,   200.4,2,    88.6,6,    29.5,6,    0.01,6,   2.043,6,   0.132,2,   0.062,2,   0.046,2,  2247.6,2, 2359.11,2,-999.0000,9, -999.00,   7.6119,2,       25,-999.000,1,    1.679,2, -999.00,5,  -999.0,5,  -999.0,  40.22209773,2,        32.15,2,  2547.6,     18.582,2,    34.9178,2,     -999.0,1,         -999.0,9,  -999.0,9,20140120,       2245
33RO20131223,       A16S,      83,          1,          6,          6,2,20140120,       2154,   -46.9993,   -32.1241,       5179,    2949,   1.1898,  34.7196,2,  34.7200,2,    201.5,2,   201.2,2,   104.8,6,    30.9,6,    0.01,6,   2.149,6,   0.234,2,   0.113,2,   0.079,2,  2257.3,2, 2362.98,2,-999.0000,9, -999.00,   7.5946,2,       25,-999.000,9,     1.19,2,    0.47,2,  -165.5,2,     1.8,  39.61276464,2,        33.59,2,  2949.0,     19.214,2,    34.8837,6,     -999.0,1,         -999.0,9,  -999.0,9,20140120,       2237
33RO20131223,       A16S,      83,          1,          5,          5,2,20140120,       2154,   -46.9993,   -32.1241,       5179,  3348.7,   0.7991,  34.6990,2,  34.6982,2,    208.3,2,     208,2,   112.8,6,    31.4,6,    0.01,6,   2.188,6,   0.362,2,   0.176,2,   0.073,2,  2258.8,2, 2365.87,6,-999.0000,9, -999.00,   7.5901,2,       25,-999.000,1,    0.799,2,    0.43,2,  -164.2,2,     1.7,  39.76881336,2,        34.02,2,  3348.7,     19.070,2,    34.8619,2,     -999.0,1,         -999.0,9,  -999.0,9,20140120,       2230
33RO20131223,       A16S,      83,          1,          4,          4,2,20140120,       2154,   -46.9993,   -32.1241,       5179,    3747,   0.5130,  34.6846,2,  34.6843,2,      215,2,   213.3,2,   118.8,6,    31.7,6,    0.01,6,   2.215,6,   0.426,2,   0.204,2,   0.110,2,  2260.3,2, 2355.01,3,-999.0000,9, -999.00,   7.5878,6,       25,-999.000,9,   0.5129,2,    0.46,2,  -160.5,2,     2.6,  39.88770762,2,        34.25,2,  3747.0,     18.841,2,    34.8479,2,     -999.0,1,         -999.0,9,  -999.0,9,20140120,       2222
33RO20131223,       A16S,      83,          1,          3,          3,2,20140120,       2154,   -46.9993,   -32.1241,       5179,  4113.6,   0.3298,  34.6757,2,  34.6757,2,    218.6,2,   217.4,2,   122.2,6,    31.9,6,    0.01,6,   2.228,6,   0.446,6,   0.213,2,   0.096,6,    2262,2, 2363.09,2,-999.0000,9, -999.00,   7.5889,2,       25,-999.000,1,   0.3281,2,    0.48,2,  -162.6,2,     1.7,  39.85055317,2,        34.56,2,  4113.6,     18.633,6,    34.8392,2,     -999.0,1,         -999.0,9,  -999.0,9,20140120,       2215
33RO20131223,       A16S,      83,          1,          2,          2,2,20140120,       2154,   -46.9993,   -32.1241,       5179,  4747.4,   0.2318,  34.6684,2,  34.6674,2,      222,2,   220.8,2,   125.4,6,    32.1,6,    0.01,6,   2.242,6,   0.547,2,   0.262,2,   0.101,2,  2262.6,2, 2367.62,2,-999.0000,9, -999.00,   7.5903,2,       25,-999.000,9,   0.2318,2,    0.51,2,  -164.5,2,     2.2,  39.79853693,2,        34.71,2,  4747.4,     18.454,2,    34.8309,2,     -999.0,1,         -999.0,9,  -999.0,9,20140120,       2204
33RO20131223,       A16S,      83,          1,          1,          1,2,20140120,       2154,   -46.9993,   -32.1241,       5179,  5274.8,   0.1656,  34.6618,2,  34.6625,2,    228.4,2,   227.8,2,   125.0,2,    31.9,2,    0.02,2,   2.240,2,   0.788,2,   0.380,2,   0.198,2,  2261.9,6, 2360.71,2,-999.0000,9, -999.00,   7.5946,2,       25,-999.000,1,   0.1655,2,    0.52,2,  -158.4,2,     1.7,  39.71679712,2,        34.59,2,  5274.8,     18.344,2,     34.826,2,     -999.0,1,         -999.0,9,  -999.0,9,20140120,       2154