BOTTLE,20220815CCHSIOAMB
EXPOCODE,SECT_ID,STNNBR,CASTNO,SAMPNO,BTLNBR,BTLNBR_FLAG_W,DATE,TIME,LATITUDE,LONGITUDE,DEPTH,CTDPRS,CTDTMP,CTDSAL,CTDSAL_FLAG_W,SALNTY,SALNTY_FLAG_W,CTDOXY,CTDOXY_FLAG_W,OXYGEN,OXYGEN_FLAG_W,SILCAT,SILCAT_FLAG_W,NITRAT,NITRAT_FLAG_W,NITRIT,NITRIT_FLAG_W,PHSPHT,PHSPHT_FLAG_W,CFC-11,CFC-11_FLAG_W,CFC-12,CFC-12_FLAG_W,SF6,SF6_FLAG_W,TCARBN,TCARBN_FLAG_W,ALKALI,ALKALI_FLAG_W,PCO2,PCO2_FLAG_W,PCO2TMP,PH_SWS,PH_SWS_FLAG_W,PH_TMP,TRITUM,TRITUM_FLAG_W,REFTMP,REFTMP_FLAG_W,DELC13,DELC13_FLAG_W,DELC14,DELC14_FLAG_W,C14ERR,DOC,DOC_FLAG_W,TDN,TDN_FLAG_W,CTDRAW,N2O,N2O_FLAG_W,SALTREF,SALTREF_FLAG_W,HELIUM,HELIUM_FLAG_W,DELO18,DELO18_FLAG_W,CCL4,CCL4_FLAG_W,BTL_DATE,BTL_TIME
,,,,,,,,,,,METERS,DBAR,ITS-90,PSS-78,,PSS-78,,UMOL/KG,,UMOL/KG,,UMOL/KG,,UMOL/KG,,UMOL/KG,,UMOL/KG,,PMOL/KG,,PMOL/KG,,FMOL/KG,,UMOL/KG,,UMOL/KG,,UATM,,DEG C,,,DEG C,TU,,DEG C,,/MILLE,,/MILLE,,/MILLE,UMOL/KG,,UMOL/KG,,DBAR,NMOL/KG,,G/KG,,NMOL/KG,,/MILLE,,PMOL/KG,,,
33RO20131223,       A16S,      14,          2,         24,         24,2,20131230,       0539,   -12.5005,   -25.0001,       5587,     2.6,  25.9368,  36.6979,2,  36.6967,2,    200.6,2,   202.6,2,     0.7,2,     0.1,2,    0.00,2,   0.074,2,   1.528,2,   1.017,2,   1.174,2,  2067.2,6, 2402.24,2,-999.0000,9, -999.00,   8.0668,6,       25,-999.000,9,  25.9331,2, -999.00,9,  -999.0,9,  -999.0,-999.00000000,9,-999.00000000,9,     2.6,      6.161,2,    36.8697,2,     -999.0,9,         -999.0,9,  -999.0,9,20131230,       0737
33RO20131223,       A16S,      14,          2,         23,         23,2,20131230,       0539,   -12.5005,   -25.0001,       5587,    27.8,  25.8848,  36.7314,2,  36.7570,2,    201.6,2,   203.2,2,     0.7,2,     0.2,2,    0.00,2,   0.075,2,-999.000,9,-999.000,9,-999.000,9,  -999.0,9, -999.00,9,-999.0000,9, -999.00,-999.0000,9,  -999.00,-999.000,9,  25.8767,2, -999.00,9,  -999.0,9,  -999.0,-999.00000000,9,-999.00000000,9,    27.8,     -999.0,9,    36.9303,2,     -999.0,9,         -999.0,9,  -999.0,9,20131230,       0736
33RO20131223,       A16S,      14,          2,         22,         22,2,20131230,       0539,   -12.5005,   -25.0001,       5587,    68.4,  24.5307,  37.1406,2,  37.1365,2,    211.7,2,   212.2,2,     0.8,2,     0.3,2,    0.00,2,   0.118,2,-999.000,9,-999.000,9,-999.000,9,  2095.6,2, 2434.53,6,-999.0000,9, -999.00,-999.0000,5,       25,-999.000,9,  24.5213,2, -999.00,9,  -999.0,9,  -999.0,-999.00000000,9,-999.00000000,9,    68.4,     -999.0,9,    37.3116,2,     -999.0,9,         -999.0,9,  -999.0,9,20131230,       0733
33RO20131223,       A16S,      14,          2,         21,         21,2,20131230,       0539,   -12.5005,   -25.0001,       5587,   107.6,  23.3756,  37.0598,2,  37.0494,2,    212.1,2,   212.2,2,     0.8,2,     0.5,2,    0.00,2,   0.157,2,-999.000,9,-999.000,9,-999.000,9,  -999.0,9, -999.00,9,-999.0000,9, -999.00,-999.0000,9,  -999.00,-999.000,9,  23.3775,2, -999.00,9,  -999.0,9,  -999.0,-999.00000000,9,-999.00000000,9,   107.6,     -999.0,9,    37.2241,2,     -999.0,9,         -999.0,9,  -999.0,9,20131230,       0731
33RO20131223,       A16S,      14,          2,         20,         20,2,20131230,       0539,   -12.5005,   -25.0001,       5587,   172.5,  18.3616,  36.1417,2,  36.1335,2,    180.4,2,   179.2,2,     2.1,2,     7.2,2,    0.03,2,   0.612,2,-999.000,9,-999.000,9,-999.000,9,  2137.5,2, 2370.82,2,-999.0000,9, -999.00,   7.8831,2,       25,-999.000,9,   18.384,2, -999.00,9,  -999.0,9,  -999.0,-999.00000000,9,-999.00000000,9,   172.5,     -999.0,9,    36.3039,2,     -999.0,9,         -999.0,9,  -999.0,9,20131230,       0729
33RO20131223,       A16S,      14,          2,         19,         19,2,20131230,       0539,   -12.5005,   -25.0001,       5587,   257.5,  12.8448,  35.2492,2,  35.2511,2,    129.1,2,   130.2,2,     7.0,2,    20.3,2,    0.00,2,   1.332,2,-999.000,9,-999.000,9,-999.000,9,  2180.3,2, 2321.77,2,-999.0000,9, -999.00,   7.2172,4,       25,-999.000,9,  12.8551,2, -999.00,9,  -999.0,9,  -999.0,-999.00000000,9,-999.00000000,9,   257.5,     -999.0,9,    35.4174,2,     -999.0,9,         -999.0,9,  -999.0,9,20131230,       0726
33RO20131223,       A16S,      14,          2,         18,         18,2,20131230,       0539,   -12.5005,   -25.0001,       5587,   349.6,  10.0383,  34.9018,2,  34.8958,2,     97.2,2,   102.7,2,    12.5,2,    28.4,2,    0.00,2,   1.835,2,   1.521,2,   0.839,2,   0.348,2,    2210,6, 2303.24,2,-999.0000,9, -999.00,   7.5836,2,       25,-999.000,9,  10.0373,2, -999.00,9,  -999.0,9,  -999.0,-999.00000000,9,-999.00000000,9,   349.6,     30.183,2,    35.0603,2,     -999.0,9,         -999.0,9,  -999.0,9,20131230,       0723
33RO20131223,       A16S,      14,          2,         17,         17,2,20131230,       0539,   -12.5005,   -25.0001,       5587,   467.9,   7.2212,  34.6090,2,  34.6086,2,    131.8,2,   132.4,2,    18.3,2,    31.1,2,    0.00,2,   2.045,2,   1.127,2,   0.594,2,   0.157,2,    2209,2, 2297.25,6,-999.0000,9, -999.00,   7.5673,2,       25,-999.000,9,   7.2304,2, -999.00,9,  -999.0,9,  -999.0,-999.00000000,9,-999.00000000,9,   467.9,     26.402,2,    34.7718,2,     -999.0,9,         -999.0,9,  -999.0,9,20131230,       0720
33RO20131223,       A16S,      14,          2,         16,         16,2,20131230,       0539,   -12.5005,   -25.0001,       5587,   597.7,   5.8214,  34.4972,2,  34.4954,2,    144.2,2,   144.8,2,    23.8,2,    32.8,2,    0.00,2,   2.192,2,-999.000,9,-999.000,9,-999.000,9,  -999.0,9, -999.00,9,-999.0000,9, -999.00,-999.0000,9,  -999.00,-999.000,9,   5.8232,2, -999.00,9,  -999.0,9,  -999.0,-999.00000000,9,-999.00000000,9,   597.7,     -999.0,9,     34.658,2,     -999.0,9,         -999.0,9,  -999.0,9,20131230,       0717
33RO20131223,       A16S,      14,          2,         15,         15,2,20131230,       0539,   -12.5005,   -25.0001,       5587,   772.4,   4.7229,  34.4521,2,  34.4519,2,    157.4,2,   157.2,2,    30.4,2,    33.4,2,    0.00,2,   2.272,2,   0.430,2,   0.215,2,   0.039,2,  2216.7,2, 2302.01,2,-999.0000,9, -999.00,   7.5514,2,       25,-999.000,9,   4.7223,2, -999.00,9,  -999.0,9,  -999.0,-999.00000000,9,-999.00000000,9,   772.4,     23.438,2,    34.6143,2,     -999.0,9,         -999.0,9,  -999.0,9,20131230,       0713
33RO20131223,       A16S,      14,          2,         14,         14,2,20131230,       0539,   -12.5005,   -25.0001,       5587,   923.7,   4.1714,  34.4941,2,  34.4947,2,    163.1,2,   162.8,2,    34.9,2,    33.0,2,    0.00,2,   2.264,2,   0.148,6,   0.076,6,   0.000,6,  2220.2,2, 2305.49,2,-999.0000,9, -999.00,    7.559,2,       25,-999.000,9,   4.1731,2, -999.00,9,  -999.0,9,  -999.0,-999.00000000,9,-999.00000000,9,   923.7,     22.459,6,    34.6573,2,     -999.0,9,         -999.0,9,  -999.0,9,20131230,       0710
33RO20131223,       A16S,      14,          2,         13,         13,2,20131230,       0539,   -12.5005,   -25.0001,       5587,  1098.1,   3.9630,  34.6367,2,  34.6369,2,      174,2,     174,2,    34.3,2,    30.6,2,    0.00,2,   2.097,2,-999.000,9,-999.000,9,-999.000,9,  -999.0,9, -999.00,9,-999.0000,9, -999.00,-999.0000,9,  -999.00,-999.000,9,    3.963,2, -999.00,9,  -999.0,9,  -999.0,-999.00000000,9,-999.00000000,9,  1098.1,     -999.0,9,    34.8002,2,     -999.0,9,         -999.0,9,  -999.0,9,20131230,       0706
33RO20131223,       A16S,      14,          2,         12,         12,2,20131230,       0539,   -12.5005,   -25.0001,       5587,  1247.4,   4.0495,  34.7656,2,  34.7668,2,    187.9,2,   188.3,2,    29.5,2,    27.7,2,    0.00,2,   1.883,2,-999.000,9,-999.000,9,-999.000,9,  2204.2,2, 2315.53,2,-999.0000,9, -999.00,   7.6286,2,       25,-999.000,9,   4.0501,2, -999.00,9,  -999.0,9,  -999.0,-999.00000000,9,-999.00000000,9,  1247.4,     -999.0,9,    34.9307,2,     -999.0,9,         -999.0,9,  -999.0,9,20131230,       0702
33RO20131223,       A16S,      14,          2,         11,         11,2,20131230,       0539,   -12.5005,   -25.0001,       5587,  1396.7,   4.0849,  34.8609,2,  34.8604,2,    204.6,2,   204.8,2,    25.2,2,    25.1,2,    0.00,2,   1.684,2,-999.000,9,-999.000,9,-999.000,9,  -999.0,9, -999.00,9,-999.0000,9, -999.00,-999.0000,9,  -999.00,-999.000,9,   4.0844,2, -999.00,9,  -999.0,9,  -999.0,-999.00000000,9,-999.00000000,9,  1396.7,     -999.0,9,    35.0248,2,     -999.0,9,         -999.0,9,  -999.0,9,20131230,       0659
33RO20131223,       A16S,      14,          2,         10,         10,2,20131230,       0539,   -12.5005,   -25.0001,       5587,  1587.4,   3.9425,  34.9251,2,  34.9235,2,    224.7,2,   222.7,2,    22.4,2,    22.5,2,    0.00,2,   1.499,2,   0.086,2,   0.047,2,   0.000,2,  2181.2,2, 2321.45,2,-999.0000,9, -999.00,   7.6929,2,       25,-999.000,9,   3.9429,2, -999.00,9,  -999.0,9,  -999.0,-999.00000000,9,-999.00000000,9,  1587.4,     15.512,2,    35.0882,2,     -999.0,9,         -999.0,9,  -999.0,9,20131230,       0655
33RO20131223,       A16S,      14,          2,          9,          9,2,20131230,       0539,   -12.5005,   -25.0001,       5587,  1947.3,   3.4431,  34.9478,2,  34.9485,2,    244.7,2,   245.3,2,    23.5,2,    20.5,2,    0.00,2,   1.349,2,-999.000,9,-999.000,9,-999.000,9,  -999.0,9, 2323.18,2,-999.0000,9, -999.00,    8.005,4,       25,-999.000,9,   3.4449,2, -999.00,9,  -999.0,9,  -999.0,-999.00000000,9,-999.00000000,9,  1947.3,     -999.0,9,    35.1133,2,     -999.0,9,         -999.0,9,  -999.0,9,20131230,       0648
33RO20131223,       A16S,      14,          2,          8,          8,2,20131230,       0539,   -12.5005,   -25.0001,       5587,  2396.5,   2.9212,  34.9170,2,  34.9159,2,    243.5,2,   243.4,2,    33.9,2,    21.5,2,    0.00,2,   1.428,2,-999.000,9,-999.000,9,-999.000,9,  -999.0,9, -999.00,9,-999.0000,9, -999.00,-999.0000,9,  -999.00,-999.000,9,   2.9213,2, -999.00,9,  -999.0,9,  -999.0,-999.00000000,9,-999.00000000,9,  2396.5,     -999.0,9,    35.0805,2,     -999.0,9,         -999.0,9,  -999.0,9,20131230,       0640
33RO20131223,       A16S,      14,          2,          7,          7,2,20131230,       0539,   -12.5005,   -25.0001,       5587,  2948.2,   2.6697,  34.9027,2,  34.9041,2,    242.5,2,   242.5,2,    39.6,2,    22.0,2,    0.00,2,   1.463,2,-999.000,9,-999.000,9,-999.000,9,  -999.0,9, 2333.96,2,-999.0000,9, -999.00,   7.7182,2,       25,-999.000,9,   2.6699,2, -999.00,9,  -999.0,9,  -999.0,-999.00000000,9,-999.00000000,9,  2948.2,     -999.0,9,    35.0687,2,     -999.0,9,         -999.0,9,  -999.0,9,20131230,       0630
33RO20131223,       A16S,      14,          2,          6,          6,2,20131230,       0539,   -12.5005,   -25.0001,       5587,  3447.6,   2.4869,  34.8931,2,  34.8964,2,    245.2,2,   245.8,2,    42.5,6,    22.1,6,    0.00,6,   1.462,6,-999.000,9,-999.000,9,-999.000,9,  -999.0,9, 2334.28,2,-999.0000,9, -999.00,    7.717,2,       25,-999.000,9,   2.4868,2, -999.00,9,  -999.0,9,  -999.0,-999.00000000,9,-999.00000000,9,  3447.6,     -999.0,9,     35.061,2,     -999.0,9,         -999.0,9,  -999.0,9,20131230,       0621
33RO20131223,       A16S,      14,          2,          5,          5,2,20131230,       0539,   -12.5005,   -25.0001,       5587,    3947,   1.9576,  34.8461,2,  34.8443,2,    242.9,2,   243.3,2,    59.2,6,    23.8,6,    0.00,6,   1.603,6,   0.030,2,   0.017,2,   0.000,2,  2206.3,2,  2340.6,2,-999.0000,9, -999.00,   7.7002,2,       25,-999.000,9,   1.9579,2, -999.00,9,  -999.0,9,  -999.0,-999.00000000,9,-999.00000000,9,  3947.0,     14.505,2,    35.0086,2,     -999.0,9,         -999.0,9,  -999.0,9,20131230,       0611
33RO20131223,       A16S,      14,          2,          4,          4,2,20131230,       0539,   -12.5005,   -25.0001,       5587,  4348.3,   1.3016,  34.7752,2,  34.7753,2,    230.5,2,   231.6,2,    87.0,6,    27.4,6,    0.00,6,   1.877,6,-999.000,9,-999.000,9,-999.000,9,  -999.0,9, -999.00,9,-999.0000,9, -999.00,-999.0000,9,  -999.00,-999.000,9,   1.3031,2, -999.00,9,  -999.0,9,  -999.0,-999.00000000,9,-999.00000000,9,  4348.3,     -999.0,9,    34.9393,2,     -999.0,9,         -999.0,9,  -999.0,9,20131230,       0604
33RO20131223,       A16S,      14,          2,          3,          3,2,20131230,       0539,   -12.5005,   -25.0001,       5587,  4747.9,   0.9246,  34.7345,2,  34.7318,2,    225.2,2,     226,2,   102.6,6,    29.2,6,    0.00,6,   2.025,6,-999.000,9,-999.000,9,-999.000,9,  -999.0,9, 2368.26,2,-999.0000,9, -999.00,   7.6366,6,       25,-999.000,9,   0.9232,2, -999.00,9,  -999.0,9,  -999.0,-999.00000000,9,-999.00000000,9,  4747.9,     -999.0,9,    34.8956,2,     -999.0,9,         -999.0,9,  -999.0,9,20131230,       0556
33RO20131223,       A16S,      14,          2,          2,          2,2,20131230,       0539,   -12.5005,   -25.0001,       5587,  5146.6,   0.8145,  34.7185,2,  34.7199,2,    223.2,2,   223.7,2,   108.3,2,    30.0,2,    0.00,2,   2.086,2,-999.000,9,-999.000,9,-999.000,9,  -999.0,9, -999.00,9,-999.0000,9, -999.00,-999.0000,9,  -999.00,-999.000,9,   0.8148,2, -999.00,9,  -999.0,9,  -999.0,-999.00000000,9,-999.00000000,9,  5146.6,     -999.0,9,    34.8837,2,     -999.0,9,         -999.0,9,  -999.0,9,20131230,       0548
33RO20131223,       A16S,      14,          2,          1,          1,2,20131230,       0539,   -12.5005,   -25.0001,       5587,  5684.9,   0.8149,  34.7106,2,  34.7100,2,    222.7,2,   222.3,2,   111.6,6,    30.1,6,    0.00,6,   2.107,6,   0.074,2,   0.039,2,   0.027,2,  2259.3,2, 2369.35,2,-999.0000,9, -999.00,   7.6217,2,       25,-999.000,9,    0.815,2, -999.00,9,  -999.0,9,  -999.0,-999.00000000,9,-999.00000000,9,  5684.9,     17.184,2,    34.8737,6,     -999.0,9,         -999.0,9,  -999.0,9,20131230,       0539