BOTTLE,20220815CCHSIOAMB
EXPOCODE,SECT_ID,STNNBR,CASTNO,SAMPNO,BTLNBR,BTLNBR_FLAG_W,DATE,TIME,LATITUDE,LONGITUDE,DEPTH,CTDPRS,CTDTMP,CTDSAL,CTDSAL_FLAG_W,SALNTY,SALNTY_FLAG_W,CTDOXY,CTDOXY_FLAG_W,OXYGEN,OXYGEN_FLAG_W,SILCAT,SILCAT_FLAG_W,NITRAT,NITRAT_FLAG_W,NITRIT,NITRIT_FLAG_W,PHSPHT,PHSPHT_FLAG_W,CFC-11,CFC-11_FLAG_W,CFC-12,CFC-12_FLAG_W,SF6,SF6_FLAG_W,TCARBN,TCARBN_FLAG_W,ALKALI,ALKALI_FLAG_W,PCO2,PCO2_FLAG_W,PCO2TMP,PH_SWS,PH_SWS_FLAG_W,PH_TMP,TRITUM,TRITUM_FLAG_W,REFTMP,REFTMP_FLAG_W,DELC13,DELC13_FLAG_W,DELC14,DELC14_FLAG_W,C14ERR,DOC,DOC_FLAG_W,TDN,TDN_FLAG_W,CTDRAW,N2O,N2O_FLAG_W,SALTREF,SALTREF_FLAG_W,HELIUM,HELIUM_FLAG_W,DELO18,DELO18_FLAG_W,CCL4,CCL4_FLAG_W,BTL_DATE,BTL_TIME
,,,,,,,,,,,METERS,DBAR,ITS-90,PSS-78,,PSS-78,,UMOL/KG,,UMOL/KG,,UMOL/KG,,UMOL/KG,,UMOL/KG,,UMOL/KG,,PMOL/KG,,PMOL/KG,,FMOL/KG,,UMOL/KG,,UMOL/KG,,UATM,,DEG C,,,DEG C,TU,,DEG C,,/MILLE,,/MILLE,,/MILLE,UMOL/KG,,UMOL/KG,,DBAR,NMOL/KG,,G/KG,,NMOL/KG,,/MILLE,,PMOL/KG,,,
33RO20131223,       A16S,      79,          1,         24,         24,2,20140119,       1354,        -45,   -30.9042,       4817,     4.2,   9.0611,  34.1301,2,  34.1314,2,    286.5,2,   286.3,2,     1.3,2,    14.5,2,    0.18,2,   1.079,2,   3.741,2,   2.122,2,   2.287,2,  2095.2,6, 2277.29,2,-999.0000,9, -999.00,   7.8254,2,       25,-999.000,9,   9.0608,2,    1.80,2,    -6.5,2,     3.1,  52.90164957,2,        17.94,2,     4.2,     10.778,2,    34.2923,2,     -999.0,9,         -999.0,9,  -999.0,9,20140119,       1544
33RO20131223,       A16S,      79,          1,         23,         23,2,20140119,       1354,        -45,   -30.9042,       4817,     9.6,   9.0575,  34.1304,2,  34.1302,2,    286.7,2,   286.3,2,     1.3,2,    14.5,2,    0.18,2,   1.080,2,   3.782,2,   2.146,2,   2.277,2,  2095.9,2, 2280.22,6,-999.0000,9, -999.00,   7.8282,2,       25,-999.000,9,   9.0541,2, -999.00,9,  -999.0,9,  -999.0,  52.85694227,2,        17.87,2,     9.6,     10.816,2,    34.2911,2,     -999.0,9,         -999.0,9,  -999.0,9,20140119,       1543
33RO20131223,       A16S,      79,          1,         22,         22,2,20140119,       1354,        -45,   -30.9042,       4817,    37.7,   8.9875,  34.1363,2,  34.1358,2,    286.4,2,   286.7,2,     1.4,2,    14.6,2,    0.18,2,   1.093,2,   3.759,2,   2.144,2,   2.301,2,  2097.7,2, 2282.14,2,-999.0000,9, -999.00,    7.825,2,       25,-999.000,9,    8.987,2,    1.75,2,    -8.6,2,     2.1,  50.77060164,2,        17.85,2,    37.7,     10.842,2,    34.2968,2,     -999.0,9,         -999.0,9,  -999.0,9,20140119,       1541
33RO20131223,       A16S,      79,          1,         21,         21,2,20140119,       1354,        -45,   -30.9042,       4817,    68.2,   7.2306,  34.0269,2,  34.0326,2,    291.1,2,   294.3,2,     1.8,2,    17.3,2,    0.17,2,   1.274,2,   4.167,6,   2.338,2,   2.411,6,  2109.1,2, 2280.91,2,-999.0000,9, -999.00,   7.7929,2,       25,-999.000,9,   7.2406,2,    1.73,2,   -26.1,6,     1.4,  48.95250481,2,        20.85,2,    68.2,     11.722,6,    34.1931,2,     -999.0,9,         -999.0,9,  -999.0,9,20140119,       1539
33RO20131223,       A16S,      79,          1,         20,         20,2,20140119,       1354,        -45,   -30.9042,       4817,     118,   5.6729,  34.1216,2,  34.1210,2,    289.2,2,   282.5,2,     5.9,2,    21.3,2,    0.28,2,   1.538,2,   4.380,2,   2.425,2,   2.327,2,  2136.4,2, 2282.13,2,-999.0000,9, -999.00,   7.7241,2,       25,-999.000,9,   5.6704,2,    1.37,6,   -21.3,6,     2.2,  45.73357927,2,        25.06,2,   118.0,     12.794,2,    34.2819,2,     -999.0,9,         -999.0,9,  -999.0,9,20140119,       1537
33RO20131223,       A16S,      79,          1,         19,         19,2,20140119,       1354,        -45,   -30.9042,       4817,   197.9,   4.2410,  34.1007,2,  34.1011,2,      283,2,   279.6,2,    10.6,2,    25.3,2,    0.02,2,   1.742,2,   4.481,2,   2.456,2,   2.226,2,  2152.2,2, 2279.53,2,-999.0000,9, -999.00,   7.6775,2,       25,-999.000,9,   4.2427,2,    1.20,6,   -25.9,6,     4.5,  44.24333596,2,        28.34,2,   197.9,     13.892,2,    34.2619,6,     -999.0,9,         -999.0,9,  -999.0,9,20140119,       1534
33RO20131223,       A16S,      79,          1,         18,         18,2,20140119,       1354,        -45,   -30.9042,       4817,   298.5,   3.7433,  34.1188,2,  34.1197,2,    276.8,2,     268,2,    15.6,2,    27.0,2,    0.01,2,   1.864,2,   4.263,2,   2.304,2,   1.910,2,    2164,2, 2282.47,2,-999.0000,9, -999.00,    7.655,2,       25,-999.000,9,   3.7451,2,    1.11,2,   -32.9,2,     2.1,  43.37154363,2,        29.87,2,   298.5,     15.408,2,    34.2806,2,     -999.0,9,         -999.0,9,  -999.0,9,20140119,       1531
33RO20131223,       A16S,      79,          1,         17,         17,2,20140119,       1354,        -45,   -30.9042,       4817,   398.2,   3.1225,  34.0978,2,  34.1885,2,    276.7,2,   210.3,4,    31.1,2,    29.4,2,    0.01,4,   2.021,4,   0.451,4,   0.221,4,   0.112,4,  2217.1,4, 2312.91,4,-999.0000,9, -999.00,    7.591,3,       25,-999.000,9,   3.1226,2,    0.84,6,   -93.0,6,     1.4,  42.62642197,2,        32.13,2,   398.2,     20.988,4,    34.3497,2,     -999.0,9,         -999.0,9,  -999.0,9,20140119,       1528
33RO20131223,       A16S,      79,          1,         16,         16,2,20140119,       1354,        -45,   -30.9042,       4817,   518.3,   2.9832,  34.1735,2,  34.1719,2,      248,2,   246.2,2,    28.0,2,    30.0,2,    0.01,2,   2.053,2,   3.557,2,   1.885,2,   1.414,2,  2189.6,2, 2294.18,2,-999.0000,9, -999.00,   7.6137,2,       25,-999.000,9,   2.9823,2,    0.94,2,   -92.0,2,     3.4,  42.08248317,2,        32.58,2,   518.3,     17.880,2,     34.333,2,     -999.0,9,         -999.0,9,  -999.0,9,20140119,       1525
33RO20131223,       A16S,      79,          1,         15,         15,2,20140119,       1354,        -45,   -30.9042,       4817,   667.9,   2.7867,  34.2706,2,  34.2705,2,    215.2,2,   217.9,2,    40.3,2,    31.9,2,    0.01,2,   2.190,2,   2.614,2,   1.356,2,   0.891,2,  2211.8,2, 2306.46,2,-999.0000,9, -999.00,   7.5778,2,       25,-999.000,9,   2.7872,2,    0.73,6,   -89.7,6,     1.8,  41.60560531,2,        34.52,2,   667.9,     20.103,2,    34.4321,2,     -999.0,9,         -999.0,9,  -999.0,9,20140119,       1521
33RO20131223,       A16S,      79,          1,         14,         14,2,20140119,       1354,        -45,   -30.9042,       4817,   819.6,   2.7582,  34.3827,2,  34.3820,2,    190.7,2,   191.1,2,    52.4,2,    33.2,2,    0.00,2,   2.282,2,   1.647,2,   0.833,2,   0.488,2,  2232.9,2, 2318.78,2,-999.0000,9, -999.00,   7.5561,2,       25,-999.000,9,   2.7583,2,    0.56,2,  -105.0,2,     2.3,  40.92009339,2,        35.77,2,   819.6,     21.720,2,    34.5441,2,     -999.0,9,         -999.0,9,  -999.0,9,20140119,       1517
33RO20131223,       A16S,      79,          1,         13,         13,2,20140119,       1354,        -45,   -30.9042,       4817,   998.1,   2.5794,  34.4771,2,  34.4754,2,      175,2,   176.1,2,    63.9,2,    33.8,2,    0.01,2,   2.327,2,   1.052,6,   0.529,2,   0.257,6,  2246.8,2,  2329.3,2,-999.0000,9, -999.00,   7.5392,2,       25,-999.000,9,   2.5791,2,    0.49,2,  -133.9,2,     2.1,  40.50282526,2,        36.49,2,   998.1,     22.573,6,     34.638,2,     -999.0,9,         -999.0,9,  -999.0,9,20140119,       1512
33RO20131223,       A16S,      79,          1,         12,         12,2,20140119,       1354,        -45,   -30.9042,       4817,  1198.3,   2.6331,  34.5889,2,  34.5887,2,    171.5,2,   172.5,2,    67.2,2,    32.7,2,    0.01,2,   2.252,2,   0.484,2,   0.239,2,   0.131,2,  2249.6,2,  2338.4,2,-999.0000,9, -999.00,   7.5553,6,       25,-999.000,9,   2.6333,2,    0.55,2,  -136.3,2,     2.1,  40.27183755,2,        35.14,2,  1198.3,     21.714,2,    34.7518,2,     -999.0,9,         -999.0,9,  -999.0,9,20140119,       1508
33RO20131223,       A16S,      79,          1,         11,         11,2,20140119,       1354,        -45,   -30.9042,       4817,  1318.7,   2.5126,  34.6194,2,  34.6197,2,    171.5,2,   171.5,2,    71.6,2,    32.6,2,    0.00,2,   2.244,2,   0.407,2,   0.199,2,   0.109,2,  2253.3,6,  2343.1,2,-999.0000,9, -999.00,   7.5566,2,       25,-999.000,9,   2.5124,2,    0.50,2,  -144.6,2,     2.1,  39.93653281,2,        35.19,2,  1318.7,     21.612,2,    34.7829,2,     -999.0,9,         -999.0,9,  -999.0,9,20140119,       1505
33RO20131223,       A16S,      79,          1,         10,         10,2,20140119,       1354,        -45,   -30.9042,       4817,  1573.2,   2.4822,  34.6980,2,  34.6957,2,    179.6,2,   178.5,2,    72.9,2,    31.0,2,    0.00,2,   2.133,2,   0.244,2,   0.117,2,   0.062,2,  2249.8,2, 2347.45,6,-999.0000,9, -999.00,   7.5785,2,       25,-999.000,9,   2.4769,2,    0.50,2,  -143.8,2,     3.5,  40.21967903,2,        33.59,2,  1573.2,     20.414,2,    34.8593,2,     -999.0,9,         -999.0,9,  -999.0,9,20140119,       1500
33RO20131223,       A16S,      79,          1,          9,          9,2,20140119,       1354,        -45,   -30.9042,       4817,  1848.8,   2.5126,  34.7737,2,  34.7751,2,    196.5,2,   196.7,2,    65.7,2,    28.2,2,    0.00,2,   1.940,2,   0.169,2,   0.081,2,   0.062,2,  2232.4,2,  2346.1,2,-999.0000,9, -999.00,    7.618,2,       25,-999.000,9,   2.5131,2,    0.62,2,  -141.7,2,     2.1,  40.07810592,2,        30.75,2,  1848.8,     18.584,2,    34.9391,2,     -999.0,9,         -999.0,9,  -999.0,9,20140119,       1454
33RO20131223,       A16S,      79,          1,          8,          8,2,20140119,       1354,        -45,   -30.9042,       4817,  2148.7,   2.3344,  34.7908,2,  34.7914,2,    202.1,2,   204.2,2,    67.9,2,    27.5,2,    0.00,2,   1.888,2,   0.134,2,   0.063,2,   0.044,2,    2232,2, 2348.49,2,-999.0000,9, -999.00,     7.63,2,       25,-999.000,9,   2.3346,2,    0.54,2,  -139.6,2,     2.1,  40.42086188,2,        30.23,2,  2148.7,     18.310,2,    34.9555,2,     -999.0,9,         -999.0,9,  -999.0,9,20140119,       1448
33RO20131223,       A16S,      79,          1,          7,          7,2,20140119,       1354,        -45,   -30.9042,       4817,  2548.4,   1.8283,  34.7622,2,  34.7627,2,    200.9,2,   201.3,2,    83.9,2,    28.9,2,    0.00,2,   1.992,2,   0.130,2,   0.063,2,   0.035,2,  2243.3,2, 2354.72,2,-999.0000,9, -999.00,   7.6161,2,       25,-999.000,9,   1.8288,2,    0.57,2,  -151.0,2,     2.0,  40.70400811,2,        31.52,2,  2548.4,     18.538,2,    34.9267,2,     -999.0,9,         -999.0,9,  -999.0,9,20140119,       1440
33RO20131223,       A16S,      79,          1,          6,          6,2,20140119,       1354,        -45,   -30.9042,       4817,  2948.2,   1.3182,  34.7257,2,  34.7262,2,    201.2,2,   200.4,2,   101.3,2,    30.6,2,    0.00,2,   2.111,2,   0.212,2,   0.104,2,   0.073,2,    2255,2, 2359.13,2,-999.0000,9, -999.00,   7.5987,2,       25,-999.000,9,   1.3181,2,    0.53,2,  -158.5,2,     2.7,  40.30164242,2,        33.22,2,  2948.2,     18.990,2,    34.8899,2,     -999.0,9,         -999.0,9,  -999.0,9,20140119,       1433
33RO20131223,       A16S,      79,          1,          5,          5,2,20140119,       1354,        -45,   -30.9042,       4817,  3347.1,   0.9204,  34.7052,2,  34.7048,2,    206.2,2,   206.2,2,   110.9,2,    31.2,2,    0.00,2,   2.157,2,   0.323,2,   0.158,2,   0.088,2,  2258.6,2, 2363.45,2,-999.0000,9, -999.00,   7.5934,2,       25,-999.000,9,   0.9205,2,    0.51,2,  -161.5,2,     2.2,  39.77260604,2,        33.89,2,  3347.1,     18.942,2,    34.8684,2,     -999.0,9,         -999.0,9,  -999.0,9,20140119,       1425
33RO20131223,       A16S,      79,          1,          4,          4,2,20140119,       1354,        -45,   -30.9042,       4817,  3749.1,   0.5918,  34.6897,2,  34.6899,2,    212.5,2,   212.7,2,   116.9,6,    31.5,6,    0.00,6,   2.181,6,   0.355,2,   0.171,2,   0.093,2,  2259.8,2, 2364.72,2,-999.0000,9, -999.00,   7.6762,4,       25,-999.000,9,   0.5916,2,    0.52,2,  -163.7,2,     2.2,  39.40004522,2,        34.01,2,  3749.1,     18.751,2,    34.8535,6,     -999.0,9,         -999.0,9,  -999.0,9,20140119,       1417
33RO20131223,       A16S,      79,          1,          3,          3,2,20140119,       1354,        -45,   -30.9042,       4817,  4148.1,   0.3311,  34.6760,2,  34.6773,2,    217.7,2,   217.7,2,   123.1,6,    31.9,6,    0.00,6,   2.211,6,   0.426,6,   0.202,2,   0.082,6,    2263,2, 2367.96,2,-999.0000,9, -999.00,   7.5927,6,       25,-999.000,9,   0.3312,2,    0.45,2,  -158.6,2,     2.7,  39.51926468,2,        34.49,2,  4148.1,     18.572,6,    34.8408,2,     -999.0,9,         -999.0,9,  -999.0,9,20140119,       1409
33RO20131223,       A16S,      79,          1,          2,          2,2,20140119,       1354,        -45,   -30.9042,       4817,  4548.2,   0.2381,  34.6699,2,  34.6697,2,    221.4,2,   220.5,2,   125.0,6,    32.0,6,    0.00,6,   2.218,6,   0.522,2,   0.242,2,   0.084,2,  2263.6,2, 2364.87,6,-999.0000,9, -999.00,   7.5906,2,       25,-999.000,9,   0.2381,2,    0.55,2,  -161.7,2,     1.8,  39.48945981,2,        34.54,2,  4548.2,     18.501,2,    34.8331,2,     -999.0,9,         -999.0,9,  -999.0,9,20140119,       1401
33RO20131223,       A16S,      79,          1,          1,          1,2,20140119,       1354,        -45,   -30.9042,       4817,  4898.1,   0.2333,  34.6675,2,  34.6681,2,    222.4,2,   221.8,2,   125.9,6,    32.1,6,    0.01,6,   2.220,6,   0.563,2,   0.268,2,   0.124,2,  2264.3,6,  2365.6,2,-999.0000,9, -999.00,    7.533,4,       25,-999.000,9,   0.2331,2,    0.50,2,  -155.9,2,     1.8,  39.67574023,2,        34.61,2,  4898.1,     18.471,2,    34.8316,2,     -999.0,9,         -999.0,9,  -999.0,9,20140119,       1354