BOTTLE,20220815CCHSIOAMB
EXPOCODE,SECT_ID,STNNBR,CASTNO,SAMPNO,BTLNBR,BTLNBR_FLAG_W,DATE,TIME,LATITUDE,LONGITUDE,DEPTH,CTDPRS,CTDTMP,CTDSAL,CTDSAL_FLAG_W,SALNTY,SALNTY_FLAG_W,CTDOXY,CTDOXY_FLAG_W,OXYGEN,OXYGEN_FLAG_W,SILCAT,SILCAT_FLAG_W,NITRAT,NITRAT_FLAG_W,NITRIT,NITRIT_FLAG_W,PHSPHT,PHSPHT_FLAG_W,CFC-11,CFC-11_FLAG_W,CFC-12,CFC-12_FLAG_W,SF6,SF6_FLAG_W,TCARBN,TCARBN_FLAG_W,ALKALI,ALKALI_FLAG_W,PCO2,PCO2_FLAG_W,PCO2TMP,PH_SWS,PH_SWS_FLAG_W,PH_TMP,TRITUM,TRITUM_FLAG_W,REFTMP,REFTMP_FLAG_W,DELC13,DELC13_FLAG_W,DELC14,DELC14_FLAG_W,C14ERR,DOC,DOC_FLAG_W,TDN,TDN_FLAG_W,CTDRAW,N2O,N2O_FLAG_W,SALTREF,SALTREF_FLAG_W,HELIUM,HELIUM_FLAG_W,DELO18,DELO18_FLAG_W,CCL4,CCL4_FLAG_W,BTL_DATE,BTL_TIME
,,,,,,,,,,,METERS,DBAR,ITS-90,PSS-78,,PSS-78,,UMOL/KG,,UMOL/KG,,UMOL/KG,,UMOL/KG,,UMOL/KG,,UMOL/KG,,PMOL/KG,,PMOL/KG,,FMOL/KG,,UMOL/KG,,UMOL/KG,,UATM,,DEG C,,,DEG C,TU,,DEG C,,/MILLE,,/MILLE,,/MILLE,UMOL/KG,,UMOL/KG,,DBAR,NMOL/KG,,G/KG,,NMOL/KG,,/MILLE,,PMOL/KG,,,
33RO20131223,       A16S,      12,          1,         24,         24,2,20131229,       1425,   -11.4998,   -24.9998,       4331,     2.4,  26.3100,  36.6028,2,  36.6028,2,    200.7,2,   202.3,2,     0.8,2,     0.2,2,    0.00,2,   0.083,2,-999.000,9,-999.000,9,-999.000,9,  2064.4,6,    2401,2,-999.0000,9, -999.00,   8.0655,2,       25,-999.000,9,  26.3093,2, -999.00,9,  -999.0,9,  -999.0,-999.00000000,9,-999.00000000,9,     2.4,     -999.0,9,    36.7754,2,     -999.0,9,         -999.0,9,  -999.0,9,20131229,       1607
33RO20131223,       A16S,      12,          1,         23,         23,2,20131229,       1425,   -11.4998,   -24.9998,       4331,    27.9,  26.0815,  36.5988,2,  36.5966,2,    201.1,2,   202.4,2,     0.9,2,     0.3,2,    0.00,2,   0.088,2,-999.000,9,-999.000,9,-999.000,9,  -999.0,9, -999.00,9,-999.0000,9, -999.00,-999.0000,9,  -999.00,-999.000,9,  26.0804,2, -999.00,9,  -999.0,9,  -999.0,-999.00000000,9,-999.00000000,9,    27.9,     -999.0,9,    36.7692,2,     -999.0,9,         -999.0,9,  -999.0,9,20131229,       1605
33RO20131223,       A16S,      12,          1,         22,         22,2,20131229,       1425,   -11.4998,   -24.9998,       4331,    62.7,  25.2431,  36.6101,2,  36.6339,2,    206.3,2,   210.3,2,     0.9,2,     0.4,2,    0.00,2,   0.099,2,-999.000,9,-999.000,9,-999.000,9,  -999.0,9, 2402.81,6,-999.0000,9, -999.00,   8.0634,2,       25,-999.000,9,  25.2766,2, -999.00,9,  -999.0,9,  -999.0,-999.00000000,9,-999.00000000,9,    62.7,     -999.0,9,    36.8066,2,     -999.0,9,         -999.0,9,  -999.0,9,20131229,       1603
33RO20131223,       A16S,      12,          1,         21,         21,2,20131229,       1425,   -11.4998,   -24.9998,       4331,   113.2,  21.6797,  36.6376,2,  36.6389,2,    201.1,2,   200.6,2,     1.2,2,     1.1,2,    0.10,2,   0.296,2,-999.000,9,-999.000,9,-999.000,9,  -999.0,9, 2406.73,2,-999.0000,9, -999.00,   7.9835,2,       25,-999.000,9,  21.7138,2, -999.00,9,  -999.0,9,  -999.0,-999.00000000,9,-999.00000000,9,   113.2,     -999.0,9,    36.8116,2,     -999.0,9,         -999.0,9,  -999.0,9,20131229,       1601
33RO20131223,       A16S,      12,          1,         20,         20,2,20131229,       1425,   -11.4998,   -24.9998,       4331,   183.4,  16.6981,  35.8625,2,  35.8570,2,    160.6,2,     160,2,     3.4,2,    11.1,2,    0.02,2,   0.830,2,-999.000,9,-999.000,9,-999.000,9,  -999.0,9, 2355.87,2,-999.0000,9, -999.00,   7.8393,2,       25,-999.000,9,  16.6847,2, -999.00,9,  -999.0,9,  -999.0,-999.00000000,9,-999.00000000,9,   183.4,     -999.0,9,    36.0261,2,     -999.0,9,         -999.0,9,  -999.0,9,20131229,       1559
33RO20131223,       A16S,      12,          1,         19,         19,2,20131229,       1425,   -11.4998,   -24.9998,       4331,   258.9,  12.1626,  35.1626,2,  35.1566,2,    114.9,2,   113.9,2,     8.3,2,    23.0,2,    0.00,2,   1.492,2,-999.000,9,-999.000,9,-999.000,9,  -999.0,9, 2308.53,2,-999.0000,9, -999.00,   7.6585,2,       25,-999.000,9,  12.1681,2, -999.00,9,  -999.0,9,  -999.0,-999.00000000,9,-999.00000000,9,   258.9,     -999.0,9,    35.3224,2,     -999.0,9,         -999.0,9,  -999.0,9,20131229,       1556
33RO20131223,       A16S,      12,          1,         18,         18,2,20131229,       1425,   -11.4998,   -24.9998,       4331,   308.2,  10.5194,  34.9560,2,  34.9503,2,    100.8,2,   101.9,2,    11.4,2,    27.5,2,    0.00,2,   1.765,2,-999.000,9,-999.000,9,-999.000,9,  -999.0,9, 2304.79,2,-999.0000,9, -999.00,   7.5922,2,       25,-999.000,9,  10.5241,2, -999.00,9,  -999.0,9,  -999.0,-999.00000000,9,-999.00000000,9,   308.2,     -999.0,9,    35.1151,2,     -999.0,9,         -999.0,9,  -999.0,9,20131229,       1554
33RO20131223,       A16S,      12,          1,         17,         17,2,20131229,       1425,   -11.4998,   -24.9998,       4331,   448.2,   7.3817,  34.6214,2,  34.6335,3,    128.1,2,   127.8,2,    17.8,2,    31.5,2,    0.00,2,   2.038,2,-999.000,9,-999.000,9,-999.000,9,  -999.0,9, 2296.44,6,-999.0000,9, -999.00,-999.0000,5,       25,-999.000,9,    7.384,2, -999.00,9,  -999.0,9,  -999.0,-999.00000000,9,-999.00000000,9,   448.2,     -999.0,9,    34.7968,2,     -999.0,9,         -999.0,9,  -999.0,9,20131229,       1551
33RO20131223,       A16S,      12,          1,         16,         16,2,20131229,       1425,   -11.4998,   -24.9998,       4331,     573,   6.2308,  34.5357,2,  34.5361,2,    129.2,2,   129.2,2,    22.5,2,    33.8,2,    0.00,2,   2.206,2,-999.000,9,-999.000,9,-999.000,9,  -999.0,9,  2296.1,2,-999.0000,9, -999.00,   7.5384,2,       25,-999.000,9,    6.236,2, -999.00,9,  -999.0,9,  -999.0,-999.00000000,9,-999.00000000,9,   573.0,     -999.0,9,    34.6989,2,     -999.0,9,         -999.0,9,  -999.0,9,20131229,       1547
33RO20131223,       A16S,      12,          1,         15,         15,2,20131229,       1425,   -11.4998,   -24.9998,       4331,   723.2,   5.2091,  34.4833,2,  34.4814,2,    137.4,2,   137.1,2,    27.8,2,    34.8,2,    0.00,2,   2.309,2,-999.000,9,-999.000,9,-999.000,9,  -999.0,9, -999.00,9,-999.0000,9, -999.00,-999.0000,9,  -999.00,-999.000,9,   5.1995,2, -999.00,9,  -999.0,9,  -999.0,-999.00000000,9,-999.00000000,9,   723.2,     -999.0,9,     34.644,2,     -999.0,9,         -999.0,9,  -999.0,9,20131229,       1543
33RO20131223,       A16S,      12,          1,         14,         14,2,20131229,       1425,   -11.4998,   -24.9998,       4331,   873.1,   4.4214,  34.4916,2,  34.4929,2,    151.7,2,     152,2,    33.0,2,    34.3,2,    0.00,2,   2.303,2,-999.000,9,-999.000,9,-999.000,9,  -999.0,9, 2303.68,2,-999.0000,9, -999.00,   7.5474,2,       25,-999.000,9,   4.4216,2, -999.00,9,  -999.0,9,  -999.0,-999.00000000,9,-999.00000000,9,   873.1,     -999.0,9,    34.6555,2,     -999.0,9,         -999.0,9,  -999.0,9,20131229,       1540
33RO20131223,       A16S,      12,          1,         13,         13,2,20131229,       1425,   -11.4998,   -24.9998,       4331,  1048.4,   4.0909,  34.5831,2,  34.5862,2,    163.5,2,   163.7,2,    34.3,2,    32.4,2,    0.00,2,   2.189,2,-999.000,9,-999.000,9,-999.000,9,  -999.0,9, 2310.09,2,-999.0000,9, -999.00,   7.5677,2,       25,-999.000,9,   4.0909,2, -999.00,9,  -999.0,9,  -999.0,-999.00000000,9,-999.00000000,9,  1048.4,     -999.0,9,    34.7493,6,     -999.0,9,         -999.0,9,  -999.0,9,20131229,       1536
33RO20131223,       A16S,      12,          1,         12,         12,2,20131229,       1425,   -11.4998,   -24.9998,       4331,  1198.8,   4.0358,  34.7040,2,  34.7069,2,      179,2,   178.6,2,    31.6,2,    29.7,2,    0.00,2,   1.998,2,-999.000,9,-999.000,9,-999.000,9,  -999.0,9, 2313.46,2,-999.0000,9, -999.00,   7.6066,2,       25,-999.000,9,   4.0358,2, -999.00,9,  -999.0,9,  -999.0,-999.00000000,9,-999.00000000,9,  1198.8,     -999.0,9,    34.8706,2,     -999.0,9,         -999.0,9,  -999.0,9,20131229,       1532
33RO20131223,       A16S,      12,          1,         11,         11,2,20131229,       1425,   -11.4998,   -24.9998,       4331,  1448.9,   4.0504,  34.8794,2,  34.8819,2,    209.2,2,   209.4,2,    24.2,2,    24.7,2,    0.00,2,   1.630,2,-999.000,9,-999.000,9,-999.000,9,  -999.0,9, -999.00,9,-999.0000,9, -999.00,-999.0000,9,  -999.00,-999.000,9,     4.05,2, -999.00,9,  -999.0,9,  -999.0,-999.00000000,9,-999.00000000,9,  1448.9,     -999.0,9,    35.0464,2,     -999.0,9,         -999.0,9,  -999.0,9,20131229,       1526
33RO20131223,       A16S,      12,          1,         10,         10,2,20131229,       1425,   -11.4998,   -24.9998,       4331,  1748.8,   3.6958,  34.9493,2,  34.9484,2,      238,2,   238.3,2,    22.0,2,    21.2,2,    0.00,2,   1.385,2,-999.000,9,-999.000,9,-999.000,9,  -999.0,9, 2310.05,2,-999.0000,9, -999.00,   7.7136,2,       25,-999.000,9,   3.6951,2, -999.00,9,  -999.0,9,  -999.0,-999.00000000,9,-999.00000000,9,  1748.8,     -999.0,9,    35.1132,2,     -999.0,9,         -999.0,9,  -999.0,9,20131229,       1520
33RO20131223,       A16S,      12,          1,          9,          9,2,20131229,       1425,   -11.4998,   -24.9998,       4331,  2197.2,   3.1696,  34.9363,2,  34.9380,2,      247,2,   246.6,2,    27.1,2,    20.7,2,    0.00,2,   1.360,2,-999.000,9,-999.000,9,-999.000,9,  -999.0,9, 2319.16,2,-999.0000,9, -999.00,   7.7237,2,       25,-999.000,9,   3.1702,2, -999.00,9,  -999.0,9,  -999.0,-999.00000000,9,-999.00000000,9,  2197.2,     -999.0,9,    35.1028,2,     -999.0,9,         -999.0,9,  -999.0,9,20131229,       1512
33RO20131223,       A16S,      12,          1,          8,          8,2,20131229,       1425,   -11.4998,   -24.9998,       4331,  2497.6,   2.9228,  34.9216,2,  34.9225,2,    244.8,2,   245.5,2,    32.2,2,    21.3,2,    0.00,2,   1.397,2,-999.000,9,-999.000,9,-999.000,9,  -999.0,9, -999.00,9,-999.0000,9, -999.00,-999.0000,9,  -999.00,-999.000,9,   2.9224,2, -999.00,9,  -999.0,9,  -999.0,-999.00000000,9,-999.00000000,9,  2497.6,     -999.0,9,    35.0872,2,     -999.0,9,         -999.0,9,  -999.0,9,20131229,       1505
33RO20131223,       A16S,      12,          1,          7,          7,2,20131229,       1425,   -11.4998,   -24.9998,       4331,  2748.7,   2.8079,  34.9167,2,  34.9196,2,      246,2,   246.1,2,    34.1,2,    21.3,2,    0.00,2,   1.405,2,-999.000,9,-999.000,9,-999.000,9,  -999.0,9, 2331.11,2,-999.0000,9, -999.00,   7.7215,2,       25,-999.000,9,   2.8075,2, -999.00,9,  -999.0,9,  -999.0,-999.00000000,9,-999.00000000,9,  2748.7,     -999.0,9,    35.0843,2,     -999.0,9,         -999.0,9,  -999.0,9,20131229,       1500
33RO20131223,       A16S,      12,          1,          6,          6,2,20131229,       1425,   -11.4998,   -24.9998,       4331,  3046.8,   2.7091,  34.9131,2,  34.9127,2,    247.9,2,   244.1,4,    35.2,2,    21.3,2,    0.00,2,   1.401,2,-999.000,9,-999.000,9,-999.000,9,  -999.0,9, 2332.32,2,-999.0000,9, -999.00,   7.7231,2,       25,-999.000,9,   2.7088,2, -999.00,9,  -999.0,9,  -999.0,-999.00000000,9,-999.00000000,9,  3046.8,     -999.0,9,    35.0773,2,     -999.0,9,         -999.0,9,  -999.0,9,20131229,       1454
33RO20131223,       A16S,      12,          1,          5,          5,2,20131229,       1425,   -11.4998,   -24.9998,       4331,  3346.6,   2.5806,  34.9057,2,  34.9061,2,    249.4,2,   249.2,2,    37.0,2,    21.2,2,    0.00,2,   1.401,2,-999.000,9,-999.000,9,-999.000,9,  -999.0,9, 2334.37,2,-999.0000,9, -999.00,   7.7237,2,       25,-999.000,9,     2.58,2, -999.00,9,  -999.0,9,  -999.0,-999.00000000,9,-999.00000000,9,  3346.6,     -999.0,9,    35.0707,2,     -999.0,9,         -999.0,9,  -999.0,9,20131229,       1448
33RO20131223,       A16S,      12,          1,          4,          4,2,20131229,       1425,   -11.4998,   -24.9998,       4331,  3647.3,   2.3596,  34.8886,2,  34.8895,2,    249.9,2,   250.1,2,    41.9,6,    21.6,6,    0.00,6,   1.432,6,-999.000,9,-999.000,9,-999.000,9,  -999.0,9, -999.00,9,-999.0000,9, -999.00,-999.0000,9,  -999.00,-999.000,9,   2.3594,2, -999.00,9,  -999.0,9,  -999.0,-999.00000000,9,-999.00000000,9,  3647.3,     -999.0,9,     35.054,2,     -999.0,9,         -999.0,9,  -999.0,9,20131229,       1442
33RO20131223,       A16S,      12,          1,          3,          3,2,20131229,       1425,   -11.4998,   -24.9998,       4331,  3896.8,   1.9938,  34.8502,2,  34.8523,2,    243.3,2,   243.9,2,    56.8,6,    23.5,6,    0.00,6,   1.573,6,-999.000,9,-999.000,9,-999.000,9,  -999.0,9, 2344.25,6,-999.0000,9, -999.00,   7.7001,2,       25,-999.000,9,   1.9941,2, -999.00,9,  -999.0,9,  -999.0,-999.00000000,9,-999.00000000,9,  3896.8,     -999.0,9,    35.0166,6,     -999.0,9,         -999.0,9,  -999.0,9,20131229,       1437
33RO20131223,       A16S,      12,          1,          2,          2,2,20131229,       1425,   -11.4998,   -24.9998,       4331,  4297.7,   1.1919,  34.7650,2,  34.7723,4,    229.3,2,     230,2,    90.0,6,    27.9,6,    0.00,6,   1.902,6,-999.000,9,-999.000,9,-999.000,9,  -999.0,9, -999.00,9,-999.0000,9, -999.00,-999.0000,9,  -999.00,-999.000,9,   1.1932,2, -999.00,9,  -999.0,9,  -999.0,-999.00000000,9,-999.00000000,9,  4297.7,     -999.0,9,    34.9362,2,     -999.0,9,         -999.0,9,  -999.0,9,20131229,       1429
33RO20131223,       A16S,      12,          1,          1,          1,2,20131229,       1425,   -11.4998,   -24.9998,       4331,  4395.7,   1.0996,  34.7548,2,  34.7542,2,      228,2,   228.7,2,    94.1,6,    28.3,6,    0.00,6,   1.943,6,-999.000,9,-999.000,9,-999.000,9,  -999.0,9, 2361.96,2,-999.0000,9, -999.00,   7.6476,6,       25,-999.000,9,   1.0993,2, -999.00,9,  -999.0,9,  -999.0,-999.00000000,9,-999.00000000,9,  4395.7,     -999.0,9,    34.9181,2,     -999.0,9,         -999.0,9,  -999.0,9,20131229,       1425