BOTTLE,20220815CCHSIOAMB
EXPOCODE,SECT_ID,STNNBR,CASTNO,SAMPNO,BTLNBR,BTLNBR_FLAG_W,DATE,TIME,LATITUDE,LONGITUDE,DEPTH,CTDPRS,CTDTMP,CTDSAL,CTDSAL_FLAG_W,SALNTY,SALNTY_FLAG_W,CTDOXY,CTDOXY_FLAG_W,OXYGEN,OXYGEN_FLAG_W,SILCAT,SILCAT_FLAG_W,NITRAT,NITRAT_FLAG_W,NITRIT,NITRIT_FLAG_W,PHSPHT,PHSPHT_FLAG_W,CFC-11,CFC-11_FLAG_W,CFC-12,CFC-12_FLAG_W,SF6,SF6_FLAG_W,TCARBN,TCARBN_FLAG_W,ALKALI,ALKALI_FLAG_W,PCO2,PCO2_FLAG_W,PCO2TMP,PH_SWS,PH_SWS_FLAG_W,PH_TMP,TRITUM,TRITUM_FLAG_W,REFTMP,REFTMP_FLAG_W,DELC13,DELC13_FLAG_W,DELC14,DELC14_FLAG_W,C14ERR,DOC,DOC_FLAG_W,TDN,TDN_FLAG_W,CTDRAW,N2O,N2O_FLAG_W,SALTREF,SALTREF_FLAG_W,HELIUM,HELIUM_FLAG_W,DELO18,DELO18_FLAG_W,CCL4,CCL4_FLAG_W,BTL_DATE,BTL_TIME
,,,,,,,,,,,METERS,DBAR,ITS-90,PSS-78,,PSS-78,,UMOL/KG,,UMOL/KG,,UMOL/KG,,UMOL/KG,,UMOL/KG,,UMOL/KG,,PMOL/KG,,PMOL/KG,,FMOL/KG,,UMOL/KG,,UMOL/KG,,UATM,,DEG C,,,DEG C,TU,,DEG C,,/MILLE,,/MILLE,,/MILLE,UMOL/KG,,UMOL/KG,,DBAR,NMOL/KG,,G/KG,,NMOL/KG,,/MILLE,,PMOL/KG,,,
33RO20131223,       A16S,      38,          1,         24,         24,2,20140106,       1755,      -24.5,        -25,       5217,     3.4,  27.1548,  36.8921,2,  36.8890,2,    201.1,2,   203.6,2,     1.0,2,     0.0,2,    0.00,2,   0.096,2,-999.000,5,-999.000,9,-999.000,9,  2099.9,6, 2426.06,2,-999.0000,9, -999.00,   8.0356,2,       25,-999.000,9,  27.1592,2, -999.00,9,  -999.0,9,  -999.0,-999.00000000,9,-999.00000000,9,     3.4,     -999.0,9,    37.0629,2,     -999.0,9,         -999.0,9,  -999.0,9,20140106,       1949
33RO20131223,       A16S,      38,          1,         23,         23,2,20140106,       1755,      -24.5,        -25,       5217,    27.6,  25.0760,  36.7833,2,  36.7459,2,    210.3,2,   214.2,2,     1.0,2,     0.0,2,    0.00,2,   0.096,2,-999.000,5,-999.000,9,-999.000,9,  2094.7,2,  2409.7,6,-999.0000,9, -999.00,   8.0289,2,       25,-999.000,9,  25.0717,2, -999.00,9,  -999.0,9,  -999.0,-999.00000000,9,-999.00000000,9,    27.6,     -999.0,9,    36.9192,2,     -999.0,9,         -999.0,9,  -999.0,9,20140106,       1947
33RO20131223,       A16S,      38,          1,         22,         22,2,20140106,       1755,      -24.5,        -25,       5217,    68.2,  22.2144,  36.5948,2,  36.5892,2,    226.1,2,   227.1,2,     1.0,2,     0.0,2,    0.00,2,   0.116,2,-999.000,5,-999.000,9,-999.000,9,  -999.0,9, -999.00,9,-999.0000,9, -999.00,-999.0000,9,  -999.00,-999.000,9,  22.1995,2, -999.00,9,  -999.0,9,  -999.0,-999.00000000,9,-999.00000000,9,    68.2,     -999.0,9,    36.7618,2,     -999.0,9,         -999.0,9,  -999.0,9,20140106,       1945
33RO20131223,       A16S,      38,          1,         21,         21,2,20140106,       1755,      -24.5,        -25,       5217,   107.1,  21.1557,  36.4769,2,  36.4601,2,      223,2,   223.8,2,     1.1,2,     0.0,2,    0.00,2,   0.136,2,-999.000,5,-999.000,9,-999.000,9,  2095.7,2, 2397.02,2,-999.0000,9, -999.00,   8.0084,6,       25,-999.000,9,  21.1555,2, -999.00,9,  -999.0,9,  -999.0,-999.00000000,9,-999.00000000,9,   107.1,     -999.0,9,    36.6321,2,     -999.0,9,         -999.0,9,  -999.0,9,20140106,       1942
33RO20131223,       A16S,      38,          1,         20,         20,2,20140106,       1755,      -24.5,        -25,       5217,   172.1,  17.5503,  35.8833,2,  35.8819,2,    212.8,2,   213.3,2,     1.6,2,     1.4,2,    0.09,2,   0.303,2,-999.000,5,-999.000,9,-999.000,9,  2107.8,2, 2360.49,2,-999.0000,9, -999.00,   7.9331,2,       25,-999.000,9,  17.5545,2, -999.00,9,  -999.0,9,  -999.0,-999.00000000,9,-999.00000000,9,   172.1,     -999.0,9,    36.0511,2,     -999.0,9,         -999.0,9,  -999.0,9,20140106,       1940
33RO20131223,       A16S,      38,          1,         19,         19,2,20140106,       1755,      -24.5,        -25,       5217,   258.4,  14.8083,  35.4291,2,  35.4287,2,    208.4,2,   208.3,2,     2.7,2,     6.4,2,    0.01,2,   0.568,2,-999.000,5,-999.000,9,-999.000,9,  2115.4,2, 2333.03,2,-999.0000,9, -999.00,   7.8714,2,       25,-999.000,9,  14.8094,2, -999.00,9,  -999.0,9,  -999.0,-999.00000000,9,-999.00000000,9,   258.4,     -999.0,9,    35.5958,2,     -999.0,9,         -999.0,9,  -999.0,9,20140106,       1938
33RO20131223,       A16S,      38,          1,         18,         18,2,20140106,       1755,      -24.5,        -25,       5217,   367.7,  12.4914,  35.1031,2,  35.1007,2,    205.7,2,   204.5,2,     4.4,2,    11.9,2,    0.00,2,   0.883,2,-999.000,5,-999.000,9,-999.000,9,  -999.0,9, -999.00,9,-999.0000,9, -999.00,-999.0000,9,  -999.00,-999.000,9,  12.5073,2, -999.00,9,  -999.0,9,  -999.0,-999.00000000,9,-999.00000000,9,   367.7,     -999.0,9,    35.2662,6,     -999.0,9,         -999.0,9,  -999.0,9,20140106,       1935
33RO20131223,       A16S,      38,          1,         17,         17,2,20140106,       1755,      -24.5,        -25,       5217,     467,  10.7750,  34.8984,2,  34.8956,2,    201.1,2,   199.8,2,     6.5,2,    16.3,2,    0.00,2,   1.152,2,-999.000,5,-999.000,9,-999.000,9,    2146,2, 2306.77,2,-999.0000,9, -999.00,   7.7559,2,       25,-999.000,9,   10.785,2, -999.00,9,  -999.0,9,  -999.0,-999.00000000,9,-999.00000000,9,   467.0,     -999.0,9,    35.0601,2,     -999.0,9,         -999.0,9,  -999.0,9,20140106,       1932
33RO20131223,       A16S,      38,          1,         16,         16,2,20140106,       1755,      -24.5,        -25,       5217,   596.4,   7.3917,  34.5130,2,  34.5095,2,    202.9,2,   203.3,2,    12.9,2,    24.2,2,    0.00,2,   1.648,2,-999.000,5,-999.000,9,-999.000,9,  -999.0,9, -999.00,9,-999.0000,9, -999.00,-999.0000,9,  -999.00,-999.000,9,   7.3759,2, -999.00,9,  -999.0,9,  -999.0,-999.00000000,9,-999.00000000,9,   596.4,     -999.0,9,    34.6722,2,     -999.0,9,         -999.0,9,  -999.0,9,20140106,       1929
33RO20131223,       A16S,      38,          1,         15,         15,2,20140106,       1755,      -24.5,        -25,       5217,   773.2,   4.9727,  34.3458,2,  34.3457,2,    207.6,2,   207.2,2,    24.3,2,    29.3,2,    0.00,2,   1.991,2,-999.000,5,-999.000,9,-999.000,9,  2188.9,2, 2297.82,2,-999.0000,9, -999.00,   7.6184,2,       25,-999.000,9,   4.9713,2, -999.00,9,  -999.0,9,  -999.0,-999.00000000,9,-999.00000000,9,   773.2,     -999.0,9,    34.5076,2,     -999.0,9,         -999.0,9,  -999.0,9,20140106,       1925
33RO20131223,       A16S,      38,          1,         14,         14,2,20140106,       1755,      -24.5,        -25,       5217,   923.4,   3.9085,  34.3939,2,  34.3966,2,    190.1,2,   190.9,2,    38.1,2,    31.9,2,    0.00,2,   2.179,2,-999.000,5,-999.000,9,-999.000,9,  2212.8,2, 2309.89,2,-999.0000,9, -999.00,   7.5837,2,       25,-999.000,9,   3.9085,2, -999.00,9,  -999.0,9,  -999.0,-999.00000000,9,-999.00000000,9,   923.4,     -999.0,9,    34.5588,2,     -999.0,9,         -999.0,9,  -999.0,9,20140106,       1921
33RO20131223,       A16S,      38,          1,         13,         13,2,20140106,       1755,      -24.5,        -25,       5217,  1097.8,   3.4612,  34.5171,2,  34.5186,2,    182.7,2,   183.2,2,    45.1,2,    31.8,2,    0.00,2,   2.176,2,-999.000,5,-999.000,9,-999.000,9,  2221.3,6, 2319.91,2,-999.0000,9, -999.00,   7.5827,2,       25,-999.000,9,   3.4612,2, -999.00,9,  -999.0,9,  -999.0,-999.00000000,9,-999.00000000,9,  1097.8,     -999.0,9,    34.6814,2,     -999.0,9,         -999.0,9,  -999.0,9,20140106,       1917
33RO20131223,       A16S,      38,          1,         12,         12,2,20140106,       1755,      -24.5,        -25,       5217,  1247.8,   3.2419,  34.6165,2,  34.6201,2,    187.3,2,   187.7,2,    47.3,2,    30.5,2,    0.00,2,   2.075,2,-999.000,5,-999.000,9,-999.000,9,  2221.6,2, 2325.47,6,-999.0000,9, -999.00,   7.5985,2,       25,-999.000,9,   3.2421,2, -999.00,9,  -999.0,9,  -999.0,-999.00000000,9,-999.00000000,9,  1247.8,     -999.0,9,    34.7833,2,     -999.0,9,         -999.0,9,  -999.0,9,20140106,       1914
33RO20131223,       A16S,      38,          1,         11,         11,2,20140106,       1755,      -24.5,        -25,       5217,  1397.9,   3.1515,  34.6947,2,  34.6941,2,    195.5,2,   195.9,2,    46.6,2,    28.9,2,    0.00,2,   1.960,2,-999.000,5,-999.000,9,-999.000,9,  2217.1,2,  2328.7,2,-999.0000,9, -999.00,   7.6216,2,       25,-999.000,9,   3.1517,2, -999.00,9,  -999.0,9,  -999.0,-999.00000000,9,-999.00000000,9,  1397.9,     -999.0,9,    34.8577,2,     -999.0,9,         -999.0,9,  -999.0,9,20140106,       1910
33RO20131223,       A16S,      38,          1,         10,         10,2,20140106,       1755,      -24.5,        -25,       5217,  1588.2,   3.1585,  34.7987,2,  34.7982,2,    212.7,2,   212.8,2,    41.0,2,    25.9,2,    0.00,2,   1.747,2,-999.000,5,-999.000,9,-999.000,9,  -999.0,9, -999.00,9,-999.0000,9, -999.00,-999.0000,9,  -999.00,-999.000,9,   3.1588,2, -999.00,9,  -999.0,9,  -999.0,-999.00000000,9,-999.00000000,9,  1588.2,     -999.0,9,    34.9623,2,     -999.0,9,         -999.0,9,  -999.0,9,20140106,       1906
33RO20131223,       A16S,      38,          1,          9,          9,2,20140106,       1755,      -24.5,        -25,       5217,  1946.7,   3.2293,  34.9137,2,  34.9150,2,    239.9,2,   240.3,2,    29.1,2,    21.5,2,    0.00,2,   1.433,2,-999.000,5,-999.000,9,-999.000,9,  2180.9,2, 2326.03,2,-999.0000,9, -999.00,   7.7087,2,       25,-999.000,9,    3.229,2, -999.00,9,  -999.0,9,  -999.0,-999.00000000,9,-999.00000000,9,  1946.7,     -999.0,9,    35.0796,2,     -999.0,9,         -999.0,9,  -999.0,9,20140106,       1859
33RO20131223,       A16S,      38,          1,          8,          8,2,20140106,       1755,      -24.5,        -25,       5217,  2448.5,   2.9621,  34.9305,2,  34.9302,2,    248.2,2,     249,2,    29.1,2,    20.4,2,    0.00,2,   1.363,2,-999.000,5,-999.000,9,-999.000,9,  2176.8,2, 2329.62,2,-999.0000,9, -999.00,    7.723,2,       25,-999.000,9,   2.9621,2, -999.00,9,  -999.0,9,  -999.0,-999.00000000,9,-999.00000000,9,  2448.5,     -999.0,9,    35.0949,2,     -999.0,9,         -999.0,9,  -999.0,9,20140106,       1850
33RO20131223,       A16S,      38,          1,          7,          7,2,20140106,       1755,      -24.5,        -25,       5217,  2947.1,   2.7405,  34.9184,2,  34.9176,2,    249.7,2,     250,2,    32.7,2,    20.6,2,    0.00,2,   1.378,2,-999.000,5,-999.000,9,-999.000,9,    2180,2, 2332.19,2,-999.0000,9, -999.00,   7.7272,2,       25,-999.000,9,   2.7405,2, -999.00,9,  -999.0,9,  -999.0,-999.00000000,9,-999.00000000,9,  2947.1,     -999.0,9,    35.0823,2,     -999.0,9,         -999.0,9,  -999.0,9,20140106,       1841
33RO20131223,       A16S,      38,          1,          6,          6,2,20140106,       1755,      -24.5,        -25,       5217,  3446.8,   2.4261,  34.8903,2,  34.8899,2,      247,2,   247.7,2,    42.3,2,    21.8,2,    0.00,2,   1.460,2,-999.000,5,-999.000,9,-999.000,9,  2188.3,2, 2338.16,2,-999.0000,9, -999.00,   7.7157,2,       25,-999.000,9,   2.4261,2, -999.00,9,  -999.0,9,  -999.0,-999.00000000,9,-999.00000000,9,  3446.8,     -999.0,9,    35.0544,2,     -999.0,9,         -999.0,9,  -999.0,9,20140106,       1832
33RO20131223,       A16S,      38,          1,          5,          5,2,20140106,       1755,      -24.5,        -25,       5217,  3946.2,   1.7960,  34.8252,2,  34.8238,2,    237.8,2,   238.8,2,    66.8,6,    25.0,6,    0.00,6,   1.695,6,-999.000,5,-999.000,9,-999.000,9,  2213.1,2, 2359.65,4,-999.0000,9, -999.00,   7.6838,2,       25,-999.000,9,   1.7958,2, -999.00,9,  -999.0,9,  -999.0,-999.00000000,9,-999.00000000,9,  3946.2,     -999.0,9,     34.988,2,     -999.0,9,         -999.0,9,  -999.0,9,20140106,       1823
33RO20131223,       A16S,      38,          1,          4,          4,2,20140106,       1755,      -24.5,        -25,       5217,    4448,   1.1873,  34.7611,2,  34.7603,2,    228.5,2,   229.3,2,    90.8,6,    28.2,6,    0.00,6,   1.924,6,-999.000,5,-999.000,9,-999.000,9,  -999.0,9, -999.00,9,-999.0000,9, -999.00,-999.0000,9,  -999.00,-999.000,9,    1.187,2, -999.00,9,  -999.0,9,  -999.0,-999.00000000,9,-999.00000000,9,  4448.0,     -999.0,9,    34.9242,2,     -999.0,9,         -999.0,9,  -999.0,9,20140106,       1814
33RO20131223,       A16S,      38,          1,          3,          3,2,20140106,       1755,      -24.5,        -25,       5217,  4849.7,   0.9852,  34.7367,2,  34.7351,2,    225.7,2,   225.9,2,    99.9,6,    29.4,6,    0.00,6,   2.011,6,-999.000,5,-999.000,9,-999.000,9,  -999.0,9, -999.00,9,-999.0000,9, -999.00,-999.0000,9,  -999.00,-999.000,9,   0.9855,2, -999.00,9,  -999.0,9,  -999.0,-999.00000000,9,-999.00000000,9,  4849.7,     -999.0,9,    34.8988,2,     -999.0,9,         -999.0,9,  -999.0,9,20140106,       1806
33RO20131223,       A16S,      38,          1,          2,          2,2,20140106,       1755,      -24.5,        -25,       5217,    5248,   0.8161,  34.7148,2,  34.7141,2,      223,2,   222.9,2,   108.0,6,    30.5,6,    0.00,6,   2.084,6,-999.000,5,-999.000,9,-999.000,9,  2253.8,2, 2366.79,2,-999.0000,9, -999.00,   7.6187,6,       25,-999.000,9,   0.8161,2, -999.00,9,  -999.0,9,  -999.0,-999.00000000,9,-999.00000000,9,  5248.0,     -999.0,9,    34.8778,2,     -999.0,9,         -999.0,9,  -999.0,9,20140106,       1758
33RO20131223,       A16S,      38,          1,          1,          1,2,20140106,       1755,      -24.5,        -25,       5217,  5366.5,   0.7850,  34.7101,2,  34.7105,2,    223.2,2,   222.9,2,   109.7,2,    30.6,2,    0.00,2,   2.103,2,-999.000,5,-999.000,9,-999.000,9,  2254.6,6,  2367.7,6,-999.0000,9, -999.00,   7.4913,4,       25,-999.000,9,   0.7851,2, -999.00,9,  -999.0,9,  -999.0,-999.00000000,9,-999.00000000,9,  5366.5,     -999.0,9,    34.8742,6,     -999.0,9,         -999.0,9,  -999.0,9,20140106,       1755