BOTTLE,20220815CCHSIOAMB
EXPOCODE,SECT_ID,STNNBR,CASTNO,SAMPNO,BTLNBR,BTLNBR_FLAG_W,DATE,TIME,LATITUDE,LONGITUDE,DEPTH,CTDPRS,CTDTMP,CTDSAL,CTDSAL_FLAG_W,SALNTY,SALNTY_FLAG_W,CTDOXY,CTDOXY_FLAG_W,OXYGEN,OXYGEN_FLAG_W,SILCAT,SILCAT_FLAG_W,NITRAT,NITRAT_FLAG_W,NITRIT,NITRIT_FLAG_W,PHSPHT,PHSPHT_FLAG_W,CFC-11,CFC-11_FLAG_W,CFC-12,CFC-12_FLAG_W,SF6,SF6_FLAG_W,TCARBN,TCARBN_FLAG_W,ALKALI,ALKALI_FLAG_W,PCO2,PCO2_FLAG_W,PCO2TMP,PH_SWS,PH_SWS_FLAG_W,PH_TMP,TRITUM,TRITUM_FLAG_W,REFTMP,REFTMP_FLAG_W,DELC13,DELC13_FLAG_W,DELC14,DELC14_FLAG_W,C14ERR,DOC,DOC_FLAG_W,TDN,TDN_FLAG_W,CTDRAW,N2O,N2O_FLAG_W,SALTREF,SALTREF_FLAG_W,HELIUM,HELIUM_FLAG_W,DELO18,DELO18_FLAG_W,CCL4,CCL4_FLAG_W,BTL_DATE,BTL_TIME
,,,,,,,,,,,METERS,DBAR,ITS-90,PSS-78,,PSS-78,,UMOL/KG,,UMOL/KG,,UMOL/KG,,UMOL/KG,,UMOL/KG,,UMOL/KG,,PMOL/KG,,PMOL/KG,,FMOL/KG,,UMOL/KG,,UMOL/KG,,UATM,,DEG C,,,DEG C,TU,,DEG C,,/MILLE,,/MILLE,,/MILLE,UMOL/KG,,UMOL/KG,,DBAR,NMOL/KG,,G/KG,,NMOL/KG,,/MILLE,,PMOL/KG,,,
33RO20131223,       A16S,      75,          1,         24,         24,2,20140118,       0841,   -43.0043,   -29.6443,       4479,       6,  12.7772,  34.3838,2,  34.3854,2,    267.1,2,   268.1,2,     0.5,2,     5.6,2,    0.10,2,   0.544,2,   3.071,6,   1.784,2,   1.915,6,  2067.4,6,  2288.6,2,-999.0000,9, -999.00,   7.9111,2,       25,-999.000,9,  12.7773,2,    1.90,2,    15.3,2,     2.2,  56.26214823,2,         9.66,2,     6.0,      9.577,6,    34.5475,2,     -999.0,9,         -999.0,9,  -999.0,9,20140118,       1022
33RO20131223,       A16S,      75,          1,         23,         23,2,20140118,       0841,   -43.0043,   -29.6443,       4479,    27.5,  12.7726,  34.3859,2,  34.3866,2,    267.7,2,   267.8,2,     0.5,2,     5.6,2,    0.10,2,   0.547,2,   3.082,2,   1.794,2,   1.926,2,  2067.7,2, 2290.09,6,-999.0000,9, -999.00,   7.9093,2,       25,-999.000,9,  12.7729,2, -999.00,9,  -999.0,9,  -999.0,  55.55428266,2,         8.37,2,    27.5,      9.630,2,    34.5488,2,     -999.0,9,         -999.0,9,  -999.0,9,20140118,       1021
33RO20131223,       A16S,      75,          1,         22,         22,3,20140118,       0841,   -43.0043,   -29.6443,       4479,      64,  12.3370,  34.9211,2,-999.0000,9,      246,2,  -999.0,9,  -999.0,9,  -999.0,9, -999.00,9,-999.000,9,-999.000,9,-999.000,9,-999.000,9,  -999.0,9, -999.00,9,-999.0000,9, -999.00,-999.0000,9,  -999.00,-999.000,9,  12.3003,2, -999.00,9,  -999.0,9,  -999.0,-999.00000000,9,-999.00000000,9,    64.0,     -999.0,9,     -999.0,9,     -999.0,9,         -999.0,9,  -999.0,9,20140118,       1018
33RO20131223,       A16S,      75,          1,         21,         21,2,20140118,       0841,   -43.0043,   -29.6443,       4479,   113.4,  10.5912,  34.8025,2,  34.8113,2,    241.5,2,   242.8,2,     2.8,2,    12.0,2,    0.02,2,   0.910,2,   3.265,2,   1.875,2,   1.813,2,  2124.8,2,  2301.5,2,-999.0000,9, -999.00,   7.8136,2,       25,-999.000,9,  10.6023,2, -999.00,9,  -999.0,9,  -999.0,  50.65883339,2,        14.69,2,   113.4,     11.090,2,    34.9755,2,     -999.0,9,         -999.0,9,  -999.0,9,20140118,       1016
33RO20131223,       A16S,      75,          1,         20,         20,2,20140118,       0841,   -43.0043,   -29.6443,       4479,   183.1,   8.2626,  34.5139,2,  34.5150,2,    234.9,2,   243.8,2,     4.9,2,    17.9,2,    0.01,2,   1.265,2,   3.625,2,   2.036,2,   1.824,2,  2139.5,2, 2288.23,2,-999.0000,9, -999.00,   7.7452,2,       25,-999.000,9,    8.262,2, -999.00,9,  -999.0,9,  -999.0,  48.91524873,2,        21.03,2,   183.1,     12.934,2,    34.6778,2,     -999.0,9,         -999.0,9,  -999.0,9,20140118,       1014
33RO20131223,       A16S,      75,          1,         19,         19,2,20140118,       0841,   -43.0043,   -29.6443,       4479,   259.4,   6.5743,  34.3414,2,  34.3393,2,    244.9,2,   246.3,2,     7.4,2,    22.3,2,    0.01,2,   1.543,2,   3.864,2,   2.117,2,   1.775,2,  2151.7,2, 2278.68,2,-999.0000,9, -999.00,    7.697,2,       25,-999.000,9,   6.5738,2, -999.00,9,  -999.0,9,  -999.0,  44.42216516,2,        25.43,2,   259.4,     14.146,2,    34.5012,2,     -999.0,9,         -999.0,9,  -999.0,9,20140118,       1011
33RO20131223,       A16S,      75,          1,         18,         18,2,20140118,       0841,   -43.0043,   -29.6443,       4479,   348.5,   5.0303,  34.1964,2,  34.1983,2,    255.9,2,   256.6,2,    10.3,2,    25.2,2,    0.01,2,   1.741,2,   4.082,2,   2.212,2,   1.837,2,    2160,2,  2276.4,2,-999.0000,9, -999.00,   7.6725,2,       25,-999.000,9,   5.0366,2, -999.00,9,  -999.0,9,  -999.0,  42.70838536,2,        27.97,2,   348.5,     14.660,2,    34.3596,2,     -999.0,9,         -999.0,9,  -999.0,9,20140118,       1009
33RO20131223,       A16S,      75,          1,         17,         17,2,20140118,       0841,   -43.0043,   -29.6443,       4479,   449.1,   4.5184,  34.1801,2,  34.1775,2,    260.2,2,     259,2,    13.1,2,    26.3,2,    0.01,2,   1.808,2,   4.022,2,   2.161,2,   1.671,2,  2163.5,2, 2277.63,2,-999.0000,9, -999.00,   7.6655,2,       25,-999.000,9,   4.5157,2, -999.00,9,  -999.0,9,  -999.0,  41.79188572,2,        28.98,2,   449.1,     15.060,2,    34.3387,2,     -999.0,9,         -999.0,9,  -999.0,9,20140118,       1006
33RO20131223,       A16S,      75,          1,         16,         16,2,20140118,       0841,   -43.0043,   -29.6443,       4479,   573.1,   3.9223,  34.1753,2,  34.1756,2,    252.5,2,   252.7,2,    18.3,2,    27.9,2,    0.00,2,   1.920,2,   3.838,2,   2.007,2,   1.494,2,  2174.4,2, 2282.71,2,-999.0000,9, -999.00,   7.6409,2,       25,-999.000,9,   3.9178,2, -999.00,9,  -999.0,9,  -999.0,  41.16598353,2,        30.55,2,   573.1,     16.256,2,    34.3367,2,     -999.0,9,         -999.0,9,  -999.0,9,20140118,       1003
33RO20131223,       A16S,      75,          1,         15,         15,2,20140118,       0841,   -43.0043,   -29.6443,       4479,   722.7,   3.3879,  34.2063,2,  34.2064,2,    234.5,2,   237.8,2,    26.6,2,    29.9,2,    0.00,2,   2.056,2,   3.237,6,   1.682,2,   1.100,6,    2191,2, 2289.97,2,-999.0000,9, -999.00,   7.6189,2,       25,-999.000,9,   3.3884,2, -999.00,9,  -999.0,9,  -999.0,  40.54008134,2,        32.56,2,   722.7,     18.207,6,    34.3677,2,     -999.0,9,         -999.0,9,  -999.0,9,20140118,       0959
33RO20131223,       A16S,      75,          1,         14,         14,2,20140118,       0841,   -43.0043,   -29.6443,       4479,   872.3,   3.1654,  34.2833,2,  34.2813,2,    214.9,2,   215.2,2,    36.7,2,    31.6,2,    0.00,2,   2.174,2,   2.422,2,   1.221,2,   0.702,2,  2209.7,2, 2300.86,2,-999.0000,9, -999.00,   7.5883,2,       25,-999.000,9,   3.1665,2, -999.00,9,  -999.0,9,  -999.0,  40.35380093,2,        34.23,2,   872.3,     19.915,2,    34.4429,2,     -999.0,9,         -999.0,9,  -999.0,9,20140118,       0955
33RO20131223,       A16S,      75,          1,         13,         13,2,20140118,       0841,   -43.0043,   -29.6443,       4479,  1045.2,   3.0014,  34.3806,2,  34.3786,2,    193.6,2,   195.1,2,    47.6,2,    32.8,2,    0.00,2,   2.260,2,   1.499,2,   0.738,2,   0.340,2,  2227.6,2, 2308.76,2,-999.0000,9, -999.00,   7.5668,2,       25,-999.000,9,   3.0022,2, -999.00,9,  -999.0,9,  -999.0,  40.13026444,2,        35.47,2,  1045.2,     21.441,2,    34.5407,2,     -999.0,9,         -999.0,9,  -999.0,9,20140118,       0951
33RO20131223,       A16S,      75,          1,         12,         12,2,20140118,       0841,   -43.0043,   -29.6443,       4479,    1246,   2.8676,  34.4840,2,  34.4829,2,    181.4,2,   181.7,2,    56.8,2,    33.0,2,    0.00,2,   2.280,2,   0.825,2,   0.403,2,   0.183,2,  2239.8,2, 2320.31,2,-999.0000,9, -999.00,   7.5585,6,       25,-999.000,9,   2.8678,2, -999.00,9,  -999.0,9,  -999.0,  39.98124011,2,        35.62,2,  1246.0,     22.020,2,    34.6455,2,     -999.0,9,         -999.0,9,  -999.0,9,20140118,       0947
33RO20131223,       A16S,      75,          1,         11,         11,2,20140118,       0841,   -43.0043,   -29.6443,       4479,  1447.8,   2.8278,  34.5979,2,  34.5971,2,    177.6,2,   178.8,2,    60.9,2,    32.0,2,    0.00,2,   2.208,2,   0.426,2,   0.206,2,   0.101,2,  2242.2,6, 2330.69,2,-999.0000,9, -999.00,   7.5691,2,       25,-999.000,9,   2.8275,2, -999.00,9,  -999.0,9,  -999.0,  39.80241091,2,        34.73,2,  1447.8,     21.722,2,    34.7603,2,     -999.0,9,         -999.0,9,  -999.0,9,20140118,       0942
33RO20131223,       A16S,      75,          1,         10,         10,2,20140118,       0841,   -43.0043,   -29.6443,       4479,  1694.2,   2.8319,  34.7047,2,  34.7043,2,    185.4,2,   186.8,2,    60.6,2,    30.1,2,    0.00,2,   2.061,2,   0.249,2,   0.121,2,   0.076,2,  2237.8,2, 2334.86,6,-999.0000,9, -999.00,   7.5939,2,       25,-999.000,9,    2.832,2, -999.00,9,  -999.0,9,  -999.0,  39.79495969,2,        32.67,2,  1694.2,     20.403,2,     34.868,6,     -999.0,9,         -999.0,9,  -999.0,9,20140118,       0937
33RO20131223,       A16S,      75,          1,          9,          9,2,20140118,       0841,   -43.0043,   -29.6443,       4479,  1896.7,   2.8558,  34.7608,2,  34.7592,2,    194.6,2,   196.2,2,    57.8,2,    28.4,2,    0.00,2,   1.945,2,   0.206,2,   0.097,2,   0.040,2,  2230.4,2, 2331.51,2,-999.0000,9, -999.00,   7.6166,2,       25,-999.000,9,   2.8552,2, -999.00,9,  -999.0,9,  -999.0,  39.95888646,2,        31.04,2,  1896.7,     19.290,2,    34.9232,2,     -999.0,9,         -999.0,9,  -999.0,9,20140118,       0932
33RO20131223,       A16S,      75,          1,          8,          8,2,20140118,       0841,   -43.0043,   -29.6443,       4479,  2097.6,   2.8187,  34.8001,2,  34.7999,2,    205.6,2,     205,2,    55.4,2,    26.9,2,    0.00,2,   1.846,2,   0.180,2,   0.086,2,   0.000,2,  2223.5,2, 2332.24,2,-999.0000,9, -999.00,   7.6371,4,       25,-999.000,9,   2.8179,2, -999.00,9,  -999.0,9,  -999.0,  40.49537405,2,        29.83,2,  2097.6,     18.479,2,     34.964,2,     -999.0,9,         -999.0,9,  -999.0,9,20140118,       0928
33RO20131223,       A16S,      75,          1,          7,          7,2,20140118,       0841,   -43.0043,   -29.6443,       4479,  2299.7,   2.6276,  34.8138,2,  34.8127,2,    210.8,2,     210,2,    58.1,2,    26.4,2,    0.00,2,   1.813,2,   0.145,2,   0.068,2,   0.015,2,  2222.8,2, 2337.62,2,-999.0000,9, -999.00,   7.6313,2,       25,-999.000,9,   2.6277,2, -999.00,9,  -999.0,9,  -999.0,  40.78597149,2,        29.01,2,  2299.7,     17.862,2,    34.9769,2,     -999.0,9,         -999.0,9,  -999.0,9,20140118,       0924
33RO20131223,       A16S,      75,          1,          6,          6,2,20140118,       0841,   -43.0043,   -29.6443,       4479,  2596.6,   2.4115,  34.8268,2,  34.8300,2,    217.4,2,   218.6,2,    58.8,6,    25.6,6,    0.00,6,   1.749,6,   0.106,2,   0.049,2,   0.000,2,  2217.8,2, 2339.74,2,-999.0000,9, -999.00,   7.6605,2,       25,-999.000,9,    2.418,2, -999.00,9,  -999.0,9,  -999.0,  40.89028852,2,        28.24,2,  2596.6,     17.027,2,    34.9943,2,     -999.0,9,         -999.0,9,  -999.0,9,20140118,       0918
33RO20131223,       A16S,      75,          1,          5,          5,2,20140118,       0841,   -43.0043,   -29.6443,       4479,  2997.8,   1.8380,  34.7719,2,  34.7706,2,    209.1,2,   207.4,2,    82.4,6,    28.5,6,    0.00,6,   1.955,6,   0.122,2,   0.056,2,   0.014,2,  2240.8,2, 2348.34,2,-999.0000,9, -999.00,   7.6267,2,       25,-999.000,9,   1.8381,2, -999.00,9,  -999.0,9,  -999.0,  40.48792283,2,        30.82,2,  2997.8,     18.271,2,    34.9346,2,     -999.0,9,         -999.0,9,  -999.0,9,20140118,       0910
33RO20131223,       A16S,      75,          1,          4,          4,2,20140118,       0841,   -43.0043,   -29.6443,       4479,  3397.4,   1.3247,  34.7310,2,  34.7305,2,    205.2,2,     205,2,   101.0,6,    30.4,6,    0.00,6,   2.095,6,   0.189,2,   0.089,2,   0.025,2,  2254.4,2, 2355.95,6,-999.0000,9, -999.00,   7.6063,2,       25,-999.000,9,   1.3251,2, -999.00,9,  -999.0,9,  -999.0,  39.69809388,2,        32.89,2,  3397.4,     18.747,2,    34.8943,2,     -999.0,9,         -999.0,9,  -999.0,9,20140118,       0903
33RO20131223,       A16S,      75,          1,          3,          3,2,20140118,       0841,   -43.0043,   -29.6443,       4479,  3797.4,   0.8244,  34.7010,2,  34.7001,2,    210.3,2,   210.1,2,   113.4,6,    31.4,6,    0.00,6,   2.170,6,   0.308,2,   0.146,2,   0.060,2,  2259.3,2, 2359.71,2,-999.0000,9, -999.00,   7.5943,2,       25,-999.000,9,   0.8243,2, -999.00,9,  -999.0,9,  -999.0,  39.66828901,2,        33.87,2,  3797.4,     18.833,2,    34.8637,2,     -999.0,9,         -999.0,9,  -999.0,9,20140118,       0855
33RO20131223,       A16S,      75,          1,          2,          2,2,20140118,       0841,   -43.0043,   -29.6443,       4479,  4197.3,   0.4350,  34.6800,2,  34.6798,2,    218.3,2,     217,2,   122.9,6,    32.0,6,    0.00,6,   2.214,6,   0.425,6,   0.202,2,   0.055,6,  2264.1,2, 2363.71,2,-999.0000,9, -999.00,    7.592,2,       25,-999.000,9,   0.4353,2, -999.00,9,  -999.0,9,  -999.0,  39.65338658,2,        34.48,2,  4197.3,     18.679,6,    34.8434,2,     -999.0,9,         -999.0,9,  -999.0,9,20140118,       0848
33RO20131223,       A16S,      75,          1,          1,          1,2,20140118,       0841,   -43.0043,   -29.6443,       4479,  4540.2,   0.3582,  34.6745,2,  34.6746,2,    220.6,2,   219.7,2,   125.3,6,    32.2,6,    0.00,6,   2.227,6,   0.470,2,   0.224,2,   0.090,2,  2268.8,6, 2367.52,2,-999.0000,9, -999.00,    7.663,4,       25,-999.000,9,   0.3578,2, -999.00,9,  -999.0,9,  -999.0,  39.42985008,2,        34.74,2,  4540.2,     18.365,2,    34.8381,6,     -999.0,9,         -999.0,9,  -999.0,9,20140118,       0841