BOTTLE,20220815CCHSIOAMB
EXPOCODE,SECT_ID,STNNBR,CASTNO,SAMPNO,BTLNBR,BTLNBR_FLAG_W,DATE,TIME,LATITUDE,LONGITUDE,DEPTH,CTDPRS,CTDTMP,CTDSAL,CTDSAL_FLAG_W,SALNTY,SALNTY_FLAG_W,CTDOXY,CTDOXY_FLAG_W,OXYGEN,OXYGEN_FLAG_W,SILCAT,SILCAT_FLAG_W,NITRAT,NITRAT_FLAG_W,NITRIT,NITRIT_FLAG_W,PHSPHT,PHSPHT_FLAG_W,CFC-11,CFC-11_FLAG_W,CFC-12,CFC-12_FLAG_W,SF6,SF6_FLAG_W,TCARBN,TCARBN_FLAG_W,ALKALI,ALKALI_FLAG_W,PCO2,PCO2_FLAG_W,PCO2TMP,PH_SWS,PH_SWS_FLAG_W,PH_TMP,TRITUM,TRITUM_FLAG_W,REFTMP,REFTMP_FLAG_W,DELC13,DELC13_FLAG_W,DELC14,DELC14_FLAG_W,C14ERR,DOC,DOC_FLAG_W,TDN,TDN_FLAG_W,CTDRAW,N2O,N2O_FLAG_W,SALTREF,SALTREF_FLAG_W,HELIUM,HELIUM_FLAG_W,DELO18,DELO18_FLAG_W,CCL4,CCL4_FLAG_W,BTL_DATE,BTL_TIME
,,,,,,,,,,,METERS,DBAR,ITS-90,PSS-78,,PSS-78,,UMOL/KG,,UMOL/KG,,UMOL/KG,,UMOL/KG,,UMOL/KG,,UMOL/KG,,PMOL/KG,,PMOL/KG,,FMOL/KG,,UMOL/KG,,UMOL/KG,,UATM,,DEG C,,,DEG C,TU,,DEG C,,/MILLE,,/MILLE,,/MILLE,UMOL/KG,,UMOL/KG,,DBAR,NMOL/KG,,G/KG,,NMOL/KG,,/MILLE,,PMOL/KG,,,
33RO20131223,       A16S,       4,          1,         24,         24,2,20131227,       0404,    -7.4997,        -25,       5795,     3.7,  26.2264,  36.2742,2,  36.2734,2,    200.5,2,  -999.0,5,     1.0,2,     0.0,2,    0.00,2,   0.083,2,   1.625,3,   1.088,3,   1.304,3,  2061.8,6, 2377.51,2,-999.0000,9, -999.00,   8.0457,2,       25,-999.000,9,  26.2238,2, -999.00,9,  -999.0,9,  -999.0,-999.00000000,9,-999.00000000,9,     3.7,      6.594,3,    36.4444,2,     -999.0,9,         -999.0,9,  -999.0,9,20131227,       0609
33RO20131223,       A16S,       4,          1,         23,         23,2,20131227,       0404,    -7.4997,        -25,       5795,      28,  26.2428,  36.2735,2,  36.2758,2,      201,2,     202,2,     1.0,2,     0.0,2,    0.00,2,   0.089,2,-999.000,5,-999.000,5,-999.000,5,  -999.0,9, -999.00,9,-999.0000,9, -999.00,-999.0000,9,  -999.00,-999.000,9,  26.2415,2, -999.00,9,  -999.0,9,  -999.0,-999.00000000,9,-999.00000000,9,    28.0,     -999.0,5,    36.4469,2,     -999.0,9,         -999.0,9,  -999.0,9,20131227,       0607
33RO20131223,       A16S,       4,          1,         22,         22,2,20131227,       0404,    -7.4997,        -25,       5795,    63.3,  26.1702,  36.2621,2,  36.2603,2,    201.2,2,   202.3,2,     1.0,2,     0.0,2,    0.00,2,   0.098,2,-999.000,5,-999.000,5,-999.000,5,  2063.1,2, 2379.22,2,-999.0000,9, -999.00,   8.0447,2,       25,-999.000,9,  26.1652,2, -999.00,9,  -999.0,9,  -999.0,-999.00000000,9,-999.00000000,9,    63.3,     -999.0,5,    36.4313,2,     -999.0,9,         -999.0,9,  -999.0,9,20131227,       0605
33RO20131223,       A16S,       4,          1,         21,         21,2,20131227,       0404,    -7.4997,        -25,       5795,   113.2,  23.3100,  36.5625,2,  36.6213,2,    181.7,2,   192.6,2,     1.2,2,     0.9,2,    0.31,2,   0.244,2,   1.886,3,   1.238,3,   1.357,3,  2112.7,4, 2391.13,3,-999.0000,9, -999.00,   7.9946,2,       25,-999.000,9,  23.2833,2, -999.00,9,  -999.0,9,  -999.0,-999.00000000,9,-999.00000000,9,   113.2,      8.958,3,     36.794,2,     -999.0,9,         -999.0,9,  -999.0,9,20131227,       0603
33RO20131223,       A16S,       4,          1,         20,         20,2,20131227,       0404,    -7.4997,        -25,       5795,   183.7,  14.6397,  35.5353,2,  35.5416,2,    111.6,2,   111.7,2,     6.2,2,    19.3,2,    0.01,2,   1.303,2,   2.132,3,   1.278,3,   0.831,3,  2189.6,2, 2335.31,2,-999.0000,9, -999.00,   7.7131,2,       25,-999.000,9,  14.6558,2, -999.00,9,  -999.0,9,  -999.0,-999.00000000,9,-999.00000000,9,   183.7,     26.518,3,    35.7092,2,     -999.0,9,         -999.0,9,  -999.0,9,20131227,       0600
33RO20131223,       A16S,       4,          1,         19,         19,2,20131227,       0404,    -7.4997,        -25,       5795,   257.5,  10.7597,  35.0126,2,  35.0135,2,     91.4,2,    90.5,2,    11.5,2,    28.0,2,    0.00,2,   1.849,2,-999.000,5,-999.000,5,-999.000,5,  -999.0,9, -999.00,9,-999.0000,9, -999.00,-999.0000,9,  -999.00,-999.000,9,    10.76,2, -999.00,9,  -999.0,9,  -999.0,-999.00000000,9,-999.00000000,9,   257.5,     -999.0,5,    35.1786,2,     -999.0,9,         -999.0,9,  -999.0,9,20131227,       0558
33RO20131223,       A16S,       4,          1,         18,         18,2,20131227,       0404,    -7.4997,        -25,       5795,     348,   9.4950,  34.8621,2,  34.8599,2,     79.2,2,      80,2,    14.5,2,    31.8,2,    0.00,2,   2.087,2,   1.253,3,   0.696,3,   0.224,3,  2227.5,6,  2304.7,2,-999.0000,9, -999.00,     7.52,2,       25,-999.000,9,   9.4947,2, -999.00,9,  -999.0,9,  -999.0,-999.00000000,9,-999.00000000,9,   348.0,     37.866,3,    35.0243,2,     -999.0,9,         -999.0,9,  -999.0,9,20131227,       0555
33RO20131223,       A16S,       4,          1,         17,         17,2,20131227,       0404,    -7.4997,        -25,       5795,   448.2,   8.1015,  34.7064,2,  34.7035,2,    104.1,2,   102.3,2,    17.2,2,    32.5,2,    0.00,2,   2.167,2,   1.160,3,   0.631,3,   0.216,3,  2224.1,3, 2296.59,2,-999.0000,9, -999.00,   7.5316,6,       25,-999.000,9,   8.0982,2, -999.00,9,  -999.0,9,  -999.0,-999.00000000,9,-999.00000000,9,   448.2,     33.105,3,    34.8672,2,     -999.0,9,         -999.0,9,  -999.0,9,20131227,       0552
33RO20131223,       A16S,       4,          1,         16,         16,2,20131227,       0404,    -7.4997,        -25,       5795,   572.7,   6.6582,  34.5804,2,  34.5795,2,    112.9,2,     113,2,    21.6,2,    34.4,2,    0.00,2,   2.335,2,-999.000,5,-999.000,5,-999.000,5,  2226.1,2, 2295.58,2,-999.0000,9, -999.00,   7.5125,2,       25,-999.000,9,   6.6618,2, -999.00,9,  -999.0,9,  -999.0,-999.00000000,9,-999.00000000,9,   572.7,     -999.0,5,    34.7426,2,     -999.0,9,         -999.0,9,  -999.0,9,20131227,       0549
33RO20131223,       A16S,       4,          1,         15,         15,2,20131227,       0404,    -7.4997,        -25,       5795,   723.1,   5.3155,  34.4936,2,  34.4949,2,    134.6,2,   133.4,2,    27.3,2,    34.8,2,    0.00,2,   2.415,2,   0.347,3,   0.185,3,   0.050,3,  2226.1,2, 2285.45,4,-999.0000,9, -999.00,   7.5245,2,       25,-999.000,9,   5.3151,2, -999.00,9,  -999.0,9,  -999.0,-999.00000000,9,-999.00000000,9,   723.1,     27.190,3,    34.6576,2,     -999.0,9,         -999.0,9,  -999.0,9,20131227,       0545
33RO20131223,       A16S,       4,          1,         14,         14,2,20131227,       0404,    -7.4997,        -25,       5795,   872.8,   4.3879,  34.4995,2,  34.5000,2,    153.4,2,   153.3,2,    33.4,2,    34.0,2,    0.00,2,   2.393,2,-999.000,5,-999.000,5,-999.000,5,  -999.0,9, -999.00,9,-999.0000,9, -999.00,-999.0000,9,  -999.00,-999.000,9,    4.388,2, -999.00,9,  -999.0,9,  -999.0,-999.00000000,9,-999.00000000,9,   872.8,     -999.0,5,    34.6627,2,     -999.0,9,         -999.0,9,  -999.0,9,20131227,       0541
33RO20131223,       A16S,       4,          1,         13,         13,2,20131227,       0404,    -7.4997,        -25,       5795,  1047.3,   4.1079,  34.6100,2,  34.6115,2,    165.6,2,   165.9,2,    33.8,2,    31.8,2,    0.00,2,   2.235,2,   0.056,3,   0.032,3,   0.030,3,  2218.5,2, 2288.18,4,-999.0000,9, -999.00,   7.5753,2,       25,-999.000,9,   4.1086,2, -999.00,9,  -999.0,9,  -999.0,-999.00000000,9,-999.00000000,9,  1047.3,     22.729,3,    34.7747,6,     -999.0,9,         -999.0,9,  -999.0,9,20131227,       0537
33RO20131223,       A16S,       4,          1,         12,         12,2,20131227,       0404,    -7.4997,        -25,       5795,  1197.4,   4.2196,  34.7471,2,  34.7502,2,    179.5,2,   179.9,2,    29.1,2,    28.8,2,    0.00,2,   2.005,2,-999.000,5,-999.000,5,-999.000,5,  -999.0,9, -999.00,9,-999.0000,9, -999.00,-999.0000,9,  -999.00,-999.000,9,     4.22,2, -999.00,9,  -999.0,9,  -999.0,-999.00000000,9,-999.00000000,9,  1197.4,     -999.0,5,     34.914,2,     -999.0,9,         -999.0,9,  -999.0,9,20131227,       0533
33RO20131223,       A16S,       4,          1,         11,         11,2,20131227,       0404,    -7.4997,        -25,       5795,  1447.3,   4.2098,  34.9195,2,  34.9202,2,    216.2,2,   214.4,2,    21.5,2,    23.2,2,    0.00,2,   1.577,2,   0.160,3,   0.086,3,   0.032,3,  2185.6,2, 2314.89,6,-999.0000,9, -999.00,   7.6835,2,       25,-999.000,9,   4.2099,2, -999.00,9,  -999.0,9,  -999.0,-999.00000000,9,-999.00000000,9,  1447.3,     17.190,3,    35.0848,2,     -999.0,9,         -999.0,9,  -999.0,9,20131227,       0528
33RO20131223,       A16S,       4,          1,         10,         10,2,20131227,       0404,    -7.4997,        -25,       5795,    1748,   3.7374,  34.9584,2,  34.9558,2,    239.5,2,   239.4,2,    21.1,2,    20.6,2,    0.00,2,   1.375,2,   0.202,3,   0.109,3,   0.035,3,  2174.3,2, 2298.49,4,-999.0000,9, -999.00,   7.7203,2,       25,-999.000,9,   3.7387,2, -999.00,9,  -999.0,9,  -999.0,-999.00000000,9,-999.00000000,9,  1748.0,     14.942,3,    35.1206,2,     -999.0,9,         -999.0,9,  -999.0,9,20131227,       0522
33RO20131223,       A16S,       4,          1,          9,          9,3,20131227,       0404,    -7.4997,        -25,       5795,  2198.2,   3.1246,  34.9344,2,  34.9338,2,    244.7,2,   243.9,2,    29.4,2,    20.9,2,    0.00,3,   1.407,3,   0.068,3,   0.037,3,   0.000,3,  2179.2,2, 2308.74,4,-999.0000,9, -999.00,   7.7193,2,       25,-999.000,9,   3.1243,2, -999.00,9,  -999.0,9,  -999.0,-999.00000000,9,-999.00000000,9,  2198.2,     14.565,3,    35.0985,2,     -999.0,9,         -999.0,9,  -999.0,9,20131227,       0513
33RO20131223,       A16S,       4,          1,          8,          8,2,20131227,       0404,    -7.4997,        -25,       5795,  2497.9,   2.8770,  34.9141,2,  34.9138,2,    239.6,2,   239.4,2,    36.2,2,    21.9,2,    0.00,2,   1.479,2,-999.000,5,-999.000,5,-999.000,5,  -999.0,9, -999.00,9,-999.0000,9, -999.00,-999.0000,9,  -999.00,-999.000,9,   2.8769,2, -999.00,9,  -999.0,9,  -999.0,-999.00000000,9,-999.00000000,9,  2497.9,     -999.0,5,    35.0784,2,     -999.0,9,         -999.0,9,  -999.0,9,20131227,       0507
33RO20131223,       A16S,       4,          1,          7,          7,2,20131227,       0404,    -7.4997,        -25,       5795,  2947.9,   2.6882,  34.9069,2,  34.9074,2,    241.9,2,   241.6,2,    38.9,2,    21.8,2,    0.00,2,   1.479,2,   0.013,3,   0.009,3,   0.000,3,  2189.9,2, 2327.96,2,-999.0000,9, -999.00,   7.7157,2,       25,-999.000,9,   2.6879,2, -999.00,9,  -999.0,9,  -999.0,-999.00000000,9,-999.00000000,9,  2947.9,     14.656,3,     35.072,2,     -999.0,9,         -999.0,9,  -999.0,9,20131227,       0459
33RO20131223,       A16S,       4,          1,          6,          6,2,20131227,       0404,    -7.4997,        -25,       5795,  3447.9,   2.5359,  34.9060,2,  34.9044,2,    251.2,2,   247.8,4,    37.1,2,    20.8,2,    0.00,2,   1.416,2,   0.045,3,   0.025,3,   0.000,3,  2184.2,2, 2331.15,2,-999.0000,9, -999.00,   7.7272,2,       25,-999.000,9,    2.536,2, -999.00,9,  -999.0,9,  -999.0,-999.00000000,9,-999.00000000,9,  3447.9,     14.274,3,     35.069,2,     -999.0,9,         -999.0,9,  -999.0,9,20131227,       0450
33RO20131223,       A16S,       4,          1,          5,          5,2,20131227,       0404,    -7.4997,        -25,       5795,  3947.6,   2.0088,  34.8542,2,  34.8519,2,    244.1,2,   245.5,2,    55.8,2,    23.0,2,    0.00,2,   1.589,2,   0.057,3,   0.033,3,   0.000,3,  2202.1,2, 2346.36,2,-999.0000,9, -999.00,   7.6964,2,       25,-999.000,9,   2.0073,2, -999.00,9,  -999.0,9,  -999.0,-999.00000000,9,-999.00000000,9,  3947.6,     15.092,3,    35.0163,2,     -999.0,9,         -999.0,9,  -999.0,9,20131227,       0440
33RO20131223,       A16S,       4,          1,          4,          4,2,20131227,       0404,    -7.4997,        -25,       5795,    4447,   1.0790,  34.7547,2,  34.7550,2,      227,2,   228.7,2,    94.9,2,    28.5,2,    0.00,2,   2.012,2,   0.027,3,   0.017,3,   0.011,3,  2240.7,2,  2354.7,6,-999.0000,9, -999.00,   7.6593,2,       25,-999.000,9,   1.0792,2, -999.00,9,  -999.0,9,  -999.0,-999.00000000,9,-999.00000000,9,  4447.0,     17.233,3,    34.9189,2,     -999.0,9,         -999.0,9,  -999.0,9,20131227,       0431
33RO20131223,       A16S,       4,          1,          3,          3,2,20131227,       0404,    -7.4997,        -25,       5795,  4948.4,   0.8408,  34.7237,2,  34.7238,2,    222.2,2,   223.7,2,   106.5,2,    30.1,2,    0.00,2,   2.130,2,   0.067,3,   0.036,3,   0.000,3,  2252.1,2, 2366.79,2,-999.0000,9, -999.00,   7.6325,2,       25,-999.000,9,    0.841,2, -999.00,9,  -999.0,9,  -999.0,-999.00000000,9,-999.00000000,9,  4948.4,     17.872,3,    34.8876,2,     -999.0,9,         -999.0,9,  -999.0,9,20131227,       0422
33RO20131223,       A16S,       4,          1,          2,          2,2,20131227,       0404,    -7.4997,        -25,       5795,  5447.2,   0.7299,  34.7054,2,  34.7055,2,    220.4,2,   220.9,2,   113.5,2,    30.9,2,    0.00,2,   2.199,2,-999.000,5,-999.000,5,-999.000,5,  -999.0,9, -999.00,9,-999.0000,9, -999.00,-999.0000,9,  -999.00,-999.000,9,     0.73,2, -999.00,9,  -999.0,9,  -999.0,-999.00000000,9,-999.00000000,9,  5447.2,     -999.0,5,    34.8691,6,     -999.0,9,         -999.0,9,  -999.0,9,20131227,       0412
33RO20131223,       A16S,       4,          1,          1,          1,2,20131227,       0404,    -7.4997,        -25,       5795,  5885.1,   0.7653,  34.7023,2,  34.7016,2,    220.8,2,   220.5,2,   114.6,2,    31.1,2,    0.01,2,   2.211,2,   0.124,3,   0.062,3,   0.000,3,    2262,6, 2368.56,2,-999.0000,9, -999.00,    7.618,2,       25,-999.000,9,   0.7651,2, -999.00,9,  -999.0,9,  -999.0,-999.00000000,9,-999.00000000,9,  5885.1,     18.259,3,    34.8652,2,     -999.0,9,         -999.0,9,  -999.0,9,20131227,       0404