BOTTLE,20220815CCHSIOAMB
EXPOCODE,SECT_ID,STNNBR,CASTNO,SAMPNO,BTLNBR,BTLNBR_FLAG_W,DATE,TIME,LATITUDE,LONGITUDE,DEPTH,CTDPRS,CTDTMP,CTDSAL,CTDSAL_FLAG_W,SALNTY,SALNTY_FLAG_W,CTDOXY,CTDOXY_FLAG_W,OXYGEN,OXYGEN_FLAG_W,SILCAT,SILCAT_FLAG_W,NITRAT,NITRAT_FLAG_W,NITRIT,NITRIT_FLAG_W,PHSPHT,PHSPHT_FLAG_W,CFC-11,CFC-11_FLAG_W,CFC-12,CFC-12_FLAG_W,SF6,SF6_FLAG_W,TCARBN,TCARBN_FLAG_W,ALKALI,ALKALI_FLAG_W,PCO2,PCO2_FLAG_W,PCO2TMP,PH_SWS,PH_SWS_FLAG_W,PH_TMP,TRITUM,TRITUM_FLAG_W,REFTMP,REFTMP_FLAG_W,DELC13,DELC13_FLAG_W,DELC14,DELC14_FLAG_W,C14ERR,DOC,DOC_FLAG_W,TDN,TDN_FLAG_W,CTDRAW,N2O,N2O_FLAG_W,SALTREF,SALTREF_FLAG_W,HELIUM,HELIUM_FLAG_W,DELO18,DELO18_FLAG_W,CCL4,CCL4_FLAG_W,BTL_DATE,BTL_TIME
,,,,,,,,,,,METERS,DBAR,ITS-90,PSS-78,,PSS-78,,UMOL/KG,,UMOL/KG,,UMOL/KG,,UMOL/KG,,UMOL/KG,,UMOL/KG,,PMOL/KG,,PMOL/KG,,FMOL/KG,,UMOL/KG,,UMOL/KG,,UATM,,DEG C,,,DEG C,TU,,DEG C,,/MILLE,,/MILLE,,/MILLE,UMOL/KG,,UMOL/KG,,DBAR,NMOL/KG,,G/KG,,NMOL/KG,,/MILLE,,PMOL/KG,,,
33RO20131223,       A16S,      46,          1,         24,         24,2,20140109,       0215,   -28.5005,   -25.0021,       5307,     4.1,  25.3187,  36.3900,2,  36.3908,2,    207.2,2,   208.2,2,     0.9,2,     0.0,2,    0.00,2,   0.051,2,-999.000,5,-999.000,9,-999.000,9,  2081.4,6,  2385.6,2,-999.0000,9, -999.00,   8.0279,2,       25,-999.000,9,  25.3148,2, -999.00,9,  -999.0,9,  -999.0,-999.00000000,9,-999.00000000,9,     4.1,     -999.0,9,    36.5624,2,     -999.0,9,         -999.0,9,  -999.0,9,20140109,       0414
33RO20131223,       A16S,      46,          1,         23,         23,2,20140109,       0215,   -28.5005,   -25.0021,       5307,    27.5,  22.8934,  36.4953,2,  36.4917,2,    223.7,2,   224.4,2,     1.0,2,     0.0,2,    0.00,2,   0.072,2,-999.000,5,-999.000,9,-999.000,9,  -999.0,9, -999.00,9,-999.0000,9, -999.00,-999.0000,9,  -999.00,-999.000,9,  22.8818,2, -999.00,9,  -999.0,9,  -999.0,-999.00000000,9,-999.00000000,9,    27.5,     -999.0,9,    36.6638,2,     -999.0,9,         -999.0,9,  -999.0,9,20140109,       0412
33RO20131223,       A16S,      46,          1,         22,         22,2,20140109,       0215,   -28.5005,   -25.0021,       5307,    68.1,  21.4350,  36.5200,2,  36.5157,2,    225.8,2,   225.8,2,     1.0,2,     0.0,2,    0.00,2,   0.098,2,-999.000,5,-999.000,9,-999.000,9,  2092.4,2, 2395.32,2,-999.0000,9, -999.00,   8.0192,6,       25,-999.000,9,  21.4131,2, -999.00,9,  -999.0,9,  -999.0,-999.00000000,9,-999.00000000,9,    68.1,     -999.0,9,    36.6879,2,     -999.0,9,         -999.0,9,  -999.0,9,20140109,       0409
33RO20131223,       A16S,      46,          1,         21,         21,2,20140109,       0215,   -28.5005,   -25.0021,       5307,   107.6,  20.6754,  36.3939,2,  36.3915,2,    224.4,2,   224.5,2,     1.0,2,     0.0,2,    0.00,2,   0.095,2,-999.000,5,-999.000,9,-999.000,9,  2091.6,2, 2386.74,6,-999.0000,9, -999.00,   8.0092,2,       25,-999.000,9,  20.6291,2, -999.00,9,  -999.0,9,  -999.0,-999.00000000,9,-999.00000000,9,   107.6,     -999.0,9,    36.5631,2,     -999.0,9,         -999.0,9,  -999.0,9,20140109,       0408
33RO20131223,       A16S,      46,          1,         20,         20,2,20140109,       0215,   -28.5005,   -25.0021,       5307,   172.7,  18.1220,  35.9701,2,  35.9731,2,    214.8,2,   215.7,2,     1.3,2,     0.4,2,    0.10,2,   0.235,2,-999.000,5,-999.000,9,-999.000,9,  2105.2,2, 2359.79,2,-999.0000,9, -999.00,   7.9487,2,       25,-999.000,9,  18.1226,2, -999.00,9,  -999.0,9,  -999.0,-999.00000000,9,-999.00000000,9,   172.7,     -999.0,9,    36.1428,6,     -999.0,9,         -999.0,9,  -999.0,9,20140109,       0405
33RO20131223,       A16S,      46,          1,         19,         19,2,20140109,       0215,   -28.5005,   -25.0021,       5307,   258.5,  15.4029,  35.5357,2,  35.5364,2,    210.9,2,   210.4,2,     2.1,2,     5.0,2,    0.01,2,   0.484,2,-999.000,5,-999.000,9,-999.000,9,  2112.2,2, 2331.71,2,-999.0000,9, -999.00,   7.8903,2,       25,-999.000,9,  15.4052,2, -999.00,9,  -999.0,9,  -999.0,-999.00000000,9,-999.00000000,9,   258.5,     -999.0,9,     35.704,2,     -999.0,9,         -999.0,9,  -999.0,9,20140109,       0402
33RO20131223,       A16S,      46,          1,         18,         18,2,20140109,       0215,   -28.5005,   -25.0021,       5307,   367.7,  13.1187,  35.2213,2,  35.2209,2,    210.3,2,   210.6,2,     3.4,2,     9.8,2,    0.00,2,   0.761,2,-999.000,5,-999.000,9,-999.000,9,    2127,2, 2316.83,2,-999.0000,9, -999.00,   7.8305,2,       25,-999.000,9,  13.1183,2, -999.00,9,  -999.0,9,  -999.0,-999.00000000,9,-999.00000000,9,   367.7,     -999.0,9,     35.387,2,     -999.0,9,         -999.0,9,  -999.0,9,20140109,       0359
33RO20131223,       A16S,      46,          1,         17,         17,2,20140109,       0215,   -28.5005,   -25.0021,       5307,   469.1,  11.6504,  35.0247,2,  35.0244,2,    209.2,2,   208.4,2,     4.9,2,    13.5,2,    0.00,2,   0.986,2,-999.000,5,-999.000,9,-999.000,9,  2138.1,2, 2307.33,2,-999.0000,9, -999.00,   7.7896,2,       25,-999.000,9,  11.6499,2, -999.00,9,  -999.0,9,  -999.0,-999.00000000,9,-999.00000000,9,   469.1,     -999.0,9,    35.1895,2,     -999.0,9,         -999.0,9,  -999.0,9,20140109,       0356
33RO20131223,       A16S,      46,          1,         16,         16,2,20140109,       0215,   -28.5005,   -25.0021,       5307,   598.1,   8.9931,  34.6837,2,  34.6830,2,    202.1,2,   202.4,2,     9.2,2,    20.5,2,    0.00,2,   1.422,2,-999.000,5,-999.000,9,-999.000,9,  -999.0,9, -999.00,9,-999.0000,9, -999.00,-999.0000,9,  -999.00,-999.000,9,   8.9935,2, -999.00,9,  -999.0,9,  -999.0,-999.00000000,9,-999.00000000,9,   598.1,     -999.0,9,    34.8465,2,     -999.0,9,         -999.0,9,  -999.0,9,20140109,       0353
33RO20131223,       A16S,      46,          1,         15,         15,2,20140109,       0215,   -28.5005,   -25.0021,       5307,   772.8,   5.8036,  34.3684,2,  34.3678,2,    213.7,2,   213.6,2,    17.5,2,    27.2,2,    0.00,2,   1.864,2,-999.000,5,-999.000,9,-999.000,9,  2177.9,2, 2285.42,2,-999.0000,9, -999.00,   7.6429,2,       25,-999.000,9,   5.8016,2, -999.00,9,  -999.0,9,  -999.0,-999.00000000,9,-999.00000000,9,   772.8,     -999.0,9,    34.5298,2,     -999.0,9,         -999.0,9,  -999.0,9,20140109,       0349
33RO20131223,       A16S,      46,          1,         14,         14,2,20140109,       0215,   -28.5005,   -25.0021,       5307,   923.2,   4.4031,  34.3194,2,  34.3187,2,    211.4,2,   211.4,2,    27.7,2,    30.3,2,    0.00,2,   2.073,2,-999.000,5,-999.000,9,-999.000,9,  -999.0,9, -999.00,9,-999.0000,9, -999.00,-999.0000,9,  -999.00,-999.000,9,   4.4041,2, -999.00,9,  -999.0,9,  -999.0,-999.00000000,9,-999.00000000,9,   923.2,     -999.0,9,    34.4806,2,     -999.0,9,         -999.0,9,  -999.0,9,20140109,       0345
33RO20131223,       A16S,      46,          1,         13,         13,2,20140109,       0215,   -28.5005,   -25.0021,       5307,  1097.7,   3.5115,  34.3779,2,  34.3784,2,    198.3,2,   197.9,2,    41.5,2,    32.2,2,    0.00,2,   2.219,2,-999.000,5,-999.000,9,-999.000,9,  2216.4,2, 2303.72,2,-999.0000,9, -999.00,   7.5877,2,       25,-999.000,9,   3.5118,2, -999.00,9,  -999.0,9,  -999.0,-999.00000000,9,-999.00000000,9,  1097.7,     -999.0,9,    34.5405,2,     -999.0,9,         -999.0,9,  -999.0,9,20140109,       0340
33RO20131223,       A16S,      46,          1,         12,         12,2,20140109,       0215,   -28.5005,   -25.0021,       5307,  1223.3,   3.2069,  34.4743,2,  34.4759,2,    186.2,2,   186.8,2,    50.2,2,    32.6,2,    0.00,2,   2.244,2,-999.000,5,-999.000,9,-999.000,9,  2228.4,2, 2320.38,6,-999.0000,9, -999.00,   7.5787,2,       25,-999.000,9,   3.2072,2, -999.00,9,  -999.0,9,  -999.0,-999.00000000,9,-999.00000000,9,  1223.3,     -999.0,9,    34.6385,2,     -999.0,9,         -999.0,9,  -999.0,9,20140109,       0337
33RO20131223,       A16S,      46,          1,         11,         11,2,20140109,       0215,   -28.5005,   -25.0021,       5307,  1347.9,   3.1035,  34.5600,2,  34.5596,2,    184.3,2,   184.1,2,    53.2,6,    32.0,6,    0.00,6,   2.197,6,-999.000,5,-999.000,9,-999.000,9,  2231.6,6, 2320.62,2,-999.0000,9, -999.00,   7.5783,2,       25,-999.000,9,   3.1038,2, -999.00,9,  -999.0,9,  -999.0,-999.00000000,9,-999.00000000,9,  1347.9,     -999.0,9,    34.7226,2,     -999.0,9,         -999.0,9,  -999.0,9,20140109,       0334
33RO20131223,       A16S,      46,          1,         10,         10,2,20140109,       0215,   -28.5005,   -25.0021,       5307,    1589,   2.8815,  34.6845,2,  34.6846,2,    194.1,2,   194.5,2,    54.2,6,    29.7,6,    0.00,6,   2.028,6,-999.000,5,-999.000,9,-999.000,9,  -999.0,9, -999.00,9,-999.0000,9, -999.00,-999.0000,9,  -999.00,-999.000,9,   2.8816,2, -999.00,9,  -999.0,9,  -999.0,-999.00000000,9,-999.00000000,9,  1589.0,     -999.0,9,    34.8481,2,     -999.0,9,         -999.0,9,  -999.0,9,20140109,       0329
33RO20131223,       A16S,      46,          1,          9,          9,2,20140109,       0215,   -28.5005,   -25.0021,       5307,  1949.4,   2.7673,  34.8033,2,  34.8041,2,    216.9,2,   217.5,2,    47.9,2,    26.1,2,    0.00,2,   1.764,2,-999.000,5,-999.000,9,-999.000,9,  2209.2,2,  2329.6,2,-999.0000,9, -999.00,   7.6611,2,       25,-999.000,9,   2.7671,2, -999.00,9,  -999.0,9,  -999.0,-999.00000000,9,-999.00000000,9,  1949.4,     -999.0,9,    34.9682,2,     -999.0,9,         -999.0,9,  -999.0,9,20140109,       0322
33RO20131223,       A16S,      46,          1,          8,          8,2,20140109,       0215,   -28.5005,   -25.0021,       5307,  2397.7,   2.8650,  34.8942,2,  34.8932,2,    241.3,2,   240.5,2,    35.7,2,    22.2,2,    0.00,2,   1.499,2,-999.000,5,-999.000,9,-999.000,9,  2186.8,2,  2324.9,2,-999.0000,9, -999.00,   7.7097,2,       25,-999.000,9,   2.8649,2, -999.00,9,  -999.0,9,  -999.0,-999.00000000,9,-999.00000000,9,  2397.7,     -999.0,9,    35.0577,2,     -999.0,9,         -999.0,9,  -999.0,9,20140109,       0313
33RO20131223,       A16S,      46,          1,          7,          7,2,20140109,       0215,   -28.5005,   -25.0021,       5307,  2948.4,   2.7153,  34.9096,2,  34.9097,2,    248.5,2,   247.8,2,    35.1,2,    21.4,2,    0.00,2,   1.433,2,-999.000,5,-999.000,9,-999.000,9,  2183.9,2, 2329.84,2,-999.0000,9, -999.00,   7.7226,2,       25,-999.000,9,   2.7156,2, -999.00,9,  -999.0,9,  -999.0,-999.00000000,9,-999.00000000,9,  2948.4,     -999.0,9,    35.0743,2,     -999.0,9,         -999.0,9,  -999.0,9,20140109,       0303
33RO20131223,       A16S,      46,          1,          6,          6,2,20140109,       0215,   -28.5005,   -25.0021,       5307,  3347.7,   2.4381,  34.8898,2,  34.8894,2,    247.3,2,   247.8,2,    42.6,2,    22.1,2,    0.00,2,   1.486,2,-999.000,5,-999.000,9,-999.000,9,  2190.1,2, 2336.08,2,-999.0000,9, -999.00,   7.7154,2,       25,-999.000,9,   2.4378,2, -999.00,9,  -999.0,9,  -999.0,-999.00000000,9,-999.00000000,9,  3347.7,     -999.0,9,     35.054,2,     -999.0,9,         -999.0,9,  -999.0,9,20140109,       0255
33RO20131223,       A16S,      46,          1,          5,          5,2,20140109,       0215,   -28.5005,   -25.0021,       5307,  3748.6,   1.8929,  34.8365,2,  34.8354,2,    239.2,2,   240.2,2,    62.8,2,    24.7,2,    0.00,2,   1.676,2,-999.000,5,-999.000,9,-999.000,9,  2209.9,2, 2346.74,2,-999.0000,9, -999.00,   7.6905,6,       25,-999.000,9,   1.8918,2, -999.00,9,  -999.0,9,  -999.0,-999.00000000,9,-999.00000000,9,  3748.6,     -999.0,9,    34.9996,2,     -999.0,9,         -999.0,9,  -999.0,9,20140109,       0247
33RO20131223,       A16S,      46,          1,          4,          4,2,20140109,       0215,   -28.5005,   -25.0021,       5307,  4148.8,   1.4823,  34.7903,2,  34.7893,2,    232.8,2,   232.6,2,    80.3,2,    27.0,2,    0.00,2,   1.848,2,-999.000,5,-999.000,9,-999.000,9,  -999.0,9, -999.00,9,-999.0000,9, -999.00,-999.0000,9,  -999.00,-999.000,9,   1.4822,2, -999.00,9,  -999.0,9,  -999.0,-999.00000000,9,-999.00000000,9,  4148.8,     -999.0,9,    34.9534,2,     -999.0,9,         -999.0,9,  -999.0,9,20140109,       0239
33RO20131223,       A16S,      46,          1,          3,          3,2,20140109,       0215,   -28.5005,   -25.0021,       5307,    4498,   1.3077,  34.7675,2,  34.7669,2,    228.2,2,   228.6,2,    88.9,6,    28.3,6,    0.00,6,   1.933,6,-999.000,5,-999.000,9,-999.000,9,  2237.2,2,  2355.9,6,-999.0000,9, -999.00,   7.6501,2,       25,-999.000,9,   1.3079,2, -999.00,9,  -999.0,9,  -999.0,-999.00000000,9,-999.00000000,9,  4498.0,     -999.0,9,    34.9309,2,     -999.0,9,         -999.0,9,  -999.0,9,20140109,       0232
33RO20131223,       A16S,      46,          1,          2,          2,2,20140109,       0215,   -28.5005,   -25.0021,       5307,  4927.5,   1.2520,  34.7569,2,  34.7562,2,    226.9,2,   227.1,2,    92.8,6,    28.8,6,    0.01,6,   1.969,6,-999.000,5,-999.000,9,-999.000,9,  -999.0,9, -999.00,9,-999.0000,9, -999.00,-999.0000,9,  -999.00,-999.000,9,   1.2523,2, -999.00,9,  -999.0,9,  -999.0,-999.00000000,9,-999.00000000,9,  4927.5,     -999.0,9,    34.9201,2,     -999.0,9,         -999.0,9,  -999.0,9,20140109,       0224
33RO20131223,       A16S,      46,          1,          1,          1,2,20140109,       0215,   -28.5005,   -25.0021,       5307,  5390.1,   1.2363,  34.7517,2,  34.7518,2,      228,2,   227.8,2,    94.6,6,    28.9,6,    0.00,6,   1.980,6,-999.000,5,-999.000,9,-999.000,9,    2243,6, 2357.65,2,-999.0000,9, -999.00,   7.6438,2,       25,-999.000,9,   1.2361,2, -999.00,9,  -999.0,9,  -999.0,-999.00000000,9,-999.00000000,9,  5390.1,     -999.0,9,    34.9156,6,     -999.0,9,         -999.0,9,  -999.0,9,20140109,       0215