BOTTLE,20220815CCHSIOAMB
EXPOCODE,SECT_ID,STNNBR,CASTNO,SAMPNO,BTLNBR,BTLNBR_FLAG_W,DATE,TIME,LATITUDE,LONGITUDE,DEPTH,CTDPRS,CTDTMP,CTDSAL,CTDSAL_FLAG_W,SALNTY,SALNTY_FLAG_W,CTDOXY,CTDOXY_FLAG_W,OXYGEN,OXYGEN_FLAG_W,SILCAT,SILCAT_FLAG_W,NITRAT,NITRAT_FLAG_W,NITRIT,NITRIT_FLAG_W,PHSPHT,PHSPHT_FLAG_W,CFC-11,CFC-11_FLAG_W,CFC-12,CFC-12_FLAG_W,SF6,SF6_FLAG_W,TCARBN,TCARBN_FLAG_W,ALKALI,ALKALI_FLAG_W,PCO2,PCO2_FLAG_W,PCO2TMP,PH_SWS,PH_SWS_FLAG_W,PH_TMP,TRITUM,TRITUM_FLAG_W,REFTMP,REFTMP_FLAG_W,DELC13,DELC13_FLAG_W,DELC14,DELC14_FLAG_W,C14ERR,DOC,DOC_FLAG_W,TDN,TDN_FLAG_W,CTDRAW,N2O,N2O_FLAG_W,SALTREF,SALTREF_FLAG_W,HELIUM,HELIUM_FLAG_W,DELO18,DELO18_FLAG_W,CCL4,CCL4_FLAG_W,BTL_DATE,BTL_TIME
,,,,,,,,,,,METERS,DBAR,ITS-90,PSS-78,,PSS-78,,UMOL/KG,,UMOL/KG,,UMOL/KG,,UMOL/KG,,UMOL/KG,,UMOL/KG,,PMOL/KG,,PMOL/KG,,FMOL/KG,,UMOL/KG,,UMOL/KG,,UATM,,DEG C,,,DEG C,TU,,DEG C,,/MILLE,,/MILLE,,/MILLE,UMOL/KG,,UMOL/KG,,DBAR,NMOL/KG,,G/KG,,NMOL/KG,,/MILLE,,PMOL/KG,,,
33RO20131223,       A16S,      51,          1,         24,         24,2,20140110,       1307,   -31.0033,   -25.0006,       4537,     2.8,  24.5246,  35.8528,2,  35.8555,2,      211,2,   212.5,2,     0.9,2,     0.0,2,    0.00,2,   0.039,2,   1.749,3,   1.127,2,   1.309,2,  2063.9,6, 2361.71,2,-999.0000,9, -999.00,   8.0072,2,       25,-999.000,9,  24.5212,2,    1.19,2,    50.8,2,     2.1,  72.28858897,2,         3.89,2,     2.8,      6.602,2,    36.0246,2,     -999.0,9,         -999.0,9,  -999.0,9,20140110,       1449
33RO20131223,       A16S,      51,          1,         23,         23,2,20140110,       1307,   -31.0033,   -25.0006,       4537,    10.1,  24.4428,  35.8562,2,  35.8572,2,    211.5,2,   212.6,2,     0.9,2,     0.0,2,    0.00,2,   0.038,2,   1.743,3,   1.120,2,   1.321,2,    2065,2, 2355.35,6,-999.0000,9, -999.00,   8.0075,2,       25,-999.000,9,  24.4454,2, -999.00,9,  -999.0,9,  -999.0,   72.0629793,2,         4.21,2,    10.1,      6.641,2,    36.0263,2,     -999.0,9,         -999.0,9,  -999.0,9,20140110,       1448
33RO20131223,       A16S,      51,          1,         22,         22,2,20140110,       1307,   -31.0033,   -25.0006,       4537,    38.2,  22.3282,  35.8734,2,  35.8954,2,    225.4,2,   226.9,2,     0.9,2,     0.0,2,    0.00,2,   0.041,2,   1.939,3,   1.239,2,   1.430,2,  2070.1,2, 2360.56,2,-999.0000,9, -999.00,   8.0027,6,       25,-999.000,9,  22.3156,2,    1.18,6,    44.5,6,     3.1,  65.50525835,2,         4.02,2,    38.2,      7.184,2,    36.0647,2,     -999.0,9,         -999.0,9,  -999.0,9,20140110,       1446
33RO20131223,       A16S,      51,          1,         21,         21,2,20140110,       1307,   -31.0033,   -25.0006,       4537,    67.5,  19.9177,  35.9631,2,  35.9815,2,    237.9,2,   237.3,2,     0.9,2,     0.0,2,    0.00,2,   0.051,2,   2.110,3,   1.321,2,   1.532,2,  2072.7,2, 2367.17,2,-999.0000,9, -999.00,   8.0039,2,       25,-999.000,9,    19.92,2,    1.14,2,    47.1,2,     3.2,  63.66277941,2,         3.78,2,    67.5,      7.569,2,    36.1512,2,     -999.0,9,         -999.0,9,  -999.0,9,20140110,       1444
33RO20131223,       A16S,      51,          1,         20,         20,2,20140110,       1307,   -31.0033,   -25.0006,       4537,   119.8,  17.7967,  35.8419,2,  35.8487,2,    224.2,2,     225,2,     1.1,2,     0.0,2,    0.00,2,   0.147,2,   2.286,3,   1.406,2,   1.516,2,  2090.6,2,  2358.1,2,-999.0000,9, -999.00,   7.9601,2,       25,-999.000,9,  17.8196,2,    1.01,2,    52.3,2,     2.3,  59.00769997,2,         3.58,2,   119.8,      8.195,2,    36.0177,2,     -999.0,9,         -999.0,9,  -999.0,9,20140110,       1442
33RO20131223,       A16S,      51,          1,         19,         19,2,20140110,       1307,   -31.0033,   -25.0006,       4537,   199.5,  15.3951,  35.5424,2,  35.5421,2,    209.6,2,     209,2,     2.1,2,     5.2,2,    0.01,2,   0.480,2,   2.567,3,   1.554,2,   1.443,2,  2111.7,2, 2334.96,2,-999.0000,9, -999.00,   7.8893,2,       25,-999.000,9,  15.3952,2,    0.83,2,    54.9,2,     2.0,  53.72091347,2,         7.83,2,   199.5,     10.109,2,    35.7097,2,     -999.0,9,         -999.0,9,  -999.0,9,20140110,       1439
33RO20131223,       A16S,      51,          1,         18,         18,2,20140110,       1307,   -31.0033,   -25.0006,       4537,   297.8,  13.7544,  35.3366,2,  35.3359,2,    212.2,2,   211.9,2,     2.8,2,     8.2,2,    0.01,2,   0.657,2,   2.760,3,   1.648,6,   1.442,6,  2120.6,2,  2325.3,2,-999.0000,9, -999.00,   7.8525,2,       25,-999.000,9,  13.7533,2,    0.89,2,    53.6,2,     2.1,  47.67160695,2,        11.03,2,   297.8,     11.649,6,    35.5026,6,     -999.0,9,         -999.0,9,  -999.0,9,20140110,       1436
33RO20131223,       A16S,      51,          1,         17,         17,2,20140110,       1307,   -31.0033,   -25.0006,       4537,   399.2,  12.6277,  35.1882,2,  35.1890,2,    214.4,2,   214.9,2,     3.4,2,    10.4,2,    0.01,2,   0.795,2,   2.894,3,   1.711,2,   1.385,2,  2125.8,2,  2321.3,2,-999.0000,9, -999.00,   7.8265,2,       25,-999.000,9,  12.6301,2,    0.98,2,    48.7,2,     2.0,  45.92526618,2,         13.1,2,   399.2,     12.430,2,    35.3549,2,     -999.0,9,         -999.0,9,  -999.0,9,20140110,       1433
33RO20131223,       A16S,      51,          1,         16,         16,2,20140110,       1307,   -31.0033,   -25.0006,       4537,   518.1,  10.6710,  34.8999,2,  34.8871,2,    207.3,2,   206.4,2,     6.0,2,    16.2,2,    0.00,2,   1.152,2,   3.007,3,   1.729,2,   1.237,2,  2140.8,2, 2307.84,2,-999.0000,9, -999.00,   7.7602,2,       25,-999.000,9,  10.6608,2,    0.95,2,    36.3,2,     2.2,  43.45128343,2,        18.78,2,   518.1,     14.157,2,    35.0516,2,     -999.0,9,         -999.0,9,  -999.0,9,20140110,       1430
33RO20131223,       A16S,      51,          1,         15,         15,2,20140110,       1307,   -31.0033,   -25.0006,       4537,   668.3,   8.0423,  34.5699,2,  34.5664,2,    211.6,2,   209.4,2,    10.0,2,    22.2,2,    0.00,2,   1.526,2,   3.161,3,   1.756,2,   1.054,2,  2156.6,2, 2291.96,6,-999.0000,9, -999.00,   7.6941,2,       25,-999.000,9,   8.0432,2,    0.99,6,     9.6,6,     3.6,  41.26835748,2,        24.92,2,   668.3,     15.827,2,    34.7293,2,     -999.0,9,         -999.0,9,  -999.0,9,20140110,       1426
33RO20131223,       A16S,      51,          1,         14,         14,2,20140110,       1307,   -31.0033,   -25.0006,       4537,     819,   5.5445,  34.3460,2,  34.3453,2,    216.8,2,   216.3,2,    18.1,2,    27.5,2,    0.00,2,   1.879,2,   2.981,3,   1.592,2,   0.835,2,  2174.4,2, 2287.11,2,-999.0000,9, -999.00,   7.6423,6,       25,-999.000,9,   5.5438,2,    0.96,2,   -28.6,2,     2.1,  40.39518709,2,        30.26,2,   819.0,     17.362,2,    34.5073,2,     -999.0,9,         -999.0,9,  -999.0,9,20140110,       1423
33RO20131223,       A16S,      51,          1,         13,         13,2,20140110,       1307,   -31.0033,   -25.0006,       4537,     998,   4.2088,  34.3051,2,  34.3061,2,    215.6,2,   214.4,2,    28.3,2,    30.4,2,    0.00,2,   2.073,2,   2.415,3,   1.257,2,   0.617,2,  2190.1,2, 2294.51,2,-999.0000,9, -999.00,   7.6096,2,       25,-999.000,9,   4.2114,2,    0.93,2,   -60.0,2,     1.9,  39.28917128,2,        32.98,2,   998.0,     18.708,2,    34.4678,2,     -999.0,9,         -999.0,9,  -999.0,9,20140110,       1419
33RO20131223,       A16S,      51,          1,         12,         12,2,20140110,       1307,   -31.0033,   -25.0006,       4537,  1148.8,   3.4981,  34.3578,2,  34.3593,2,    201.7,2,   202.1,2,    40.1,2,    32.0,2,    0.00,2,   2.198,2,   1.564,3,   0.801,6,   0.326,6,  2210.4,2, 2304.84,2,-999.0000,9, -999.00,   7.5879,2,       25,-999.000,9,   3.4979,2,    0.77,2,   -92.6,2,     1.9,  39.66754511,2,        34.69,2,  1148.8,     20.090,6,    34.5213,2,     -999.0,9,         -999.0,9,  -999.0,9,20140110,       1415
33RO20131223,       A16S,      51,          1,         11,         11,2,20140110,       1307,   -31.0033,   -25.0006,       4537,  1297.8,   3.1200,  34.4493,2,  34.4537,2,    189.1,2,   190.2,2,    50.1,2,    32.6,2,    0.00,2,   2.236,2,   0.862,3,   0.438,2,   0.167,2,  2225.1,2, 2319.74,2,-999.0000,9, -999.00,   7.5741,2,       25,-999.000,9,   3.1201,2,    0.67,2,  -117.1,2,     2.5,  40.53343907,2,        35.31,2,  1297.8,     21.011,2,    34.6162,2,     -999.0,9,         -999.0,9,  -999.0,9,20140110,       1411
33RO20131223,       A16S,      51,          1,         10,         10,2,20140110,       1307,   -31.0033,   -25.0006,       4537,  1496.1,   2.9422,  34.5655,2,  34.5646,2,    185.2,2,   185.8,2,    55.4,2,    31.9,2,    0.00,2,   2.182,2,   0.412,3,   0.206,2,   0.079,2,  2230.4,6, 2328.74,2,-999.0000,9, -999.00,   7.5823,2,       25,-999.000,9,    2.942,2,    0.64,2,  -128.6,2,     2.0,  41.51575575,2,        34.61,2,  1496.1,     20.824,2,    34.7276,2,     -999.0,9,         -999.0,9,  -999.0,9,20140110,       1407
33RO20131223,       A16S,      51,          1,          9,          9,2,20140110,       1307,   -31.0033,   -25.0006,       4537,  1796.9,   2.8192,  34.7163,2,  34.7173,2,      199,2,   199.1,2,    54.0,2,    28.9,2,    0.00,2,   1.962,2,   0.123,3,   0.058,2,   0.000,2,  2221.7,2, 2336.29,4,-999.0000,9, -999.00,   7.6237,2,       25,-999.000,9,   2.8193,2,    0.69,2,  -135.4,2,     1.9,  42.35254403,2,        31.54,2,  1796.9,     18.877,2,     34.881,2,     -999.0,9,         -999.0,9,  -999.0,9,20140110,       1401
33RO20131223,       A16S,      51,          1,          8,          8,2,20140110,       1307,   -31.0033,   -25.0006,       4537,  2048.5,   2.7489,  34.7933,2,  34.7960,2,      214,2,   214.1,2,    50.3,2,    26.5,2,    0.00,2,   1.788,2,   0.054,3,   0.023,2,   0.016,2,  2210.4,2, 2329.97,2,-999.0000,9, -999.00,    7.653,2,       25,-999.000,9,   2.7487,2, -999.00,9,  -999.0,9,  -999.0,  42.21429206,2,        29.01,2,  2048.5,     17.090,2,      34.96,2,     -999.0,9,         -999.0,9,  -999.0,9,20140110,       1356
33RO20131223,       A16S,      51,          1,          7,          7,2,20140110,       1307,   -31.0033,   -25.0006,       4537,  2298.1,   2.7088,  34.8358,2,  34.8361,2,    225.3,2,   225.2,2,    46.3,2,    24.8,2,    0.00,2,   1.670,2,   0.032,3,   0.011,2,   0.000,2,  2200.4,2, 2331.12,2,-999.0000,9, -999.00,   7.6786,2,       25,-999.000,9,   2.7087,2, -999.00,9,  -999.0,9,  -999.0,  41.55941427,2,        27.19,2,  2298.1,     15.960,2,    35.0004,6,     -999.0,9,         -999.0,9,  -999.0,9,20140110,       1351
33RO20131223,       A16S,      51,          1,          6,          6,3,20140110,       1307,   -31.0033,   -25.0006,       4537,  2597.6,   2.7092,  34.8697,2,  34.8712,2,    235.1,2,   235.2,2,    42.0,2,    23.3,2,    0.00,3,   1.569,3,-999.000,5,-999.000,9,-999.000,9,    2192,2, 2330.01,2,-999.0000,9, -999.00,   7.6976,2,       25,-999.000,9,   2.7091,2, -999.00,9,  -999.0,9,  -999.0,        41.36,2,        25.94,2,  2597.6,     -999.0,9,    35.0356,2,     -999.0,9,         -999.0,9,  -999.0,9,20140110,       1345
33RO20131223,       A16S,      51,          1,          5,          5,2,20140110,       1307,   -31.0033,   -25.0006,       4537,  2998.1,   2.6731,  34.8956,2,  34.8963,2,    243.8,2,     245,2,    38.5,2,    22.0,2,    0.00,2,   1.477,2,   0.020,3,   0.005,2,   0.023,2,  2184.8,2, 2333.72,2,-999.0000,9, -999.00,    7.717,2,       25,-999.000,9,   2.6727,2, -999.00,9,  -999.0,9,  -999.0,        41.44,2,        24.68,2,  2998.1,     14.128,2,    35.0608,2,     -999.0,9,         -999.0,9,  -999.0,9,20140110,       1338
33RO20131223,       A16S,      51,          1,          4,          4,2,20140110,       1307,   -31.0033,   -25.0006,       4537,  3397.3,   2.3770,  34.8790,2,  34.8802,2,    243.6,2,   244.9,2,    46.4,6,    22.6,6,    0.00,6,   1.525,6,   0.019,3,   0.004,2,   0.058,2,  2190.5,2,  2339.1,6,-999.0000,9, -999.00,   7.7118,2,       25,-999.000,9,   2.3768,2, -999.00,9,  -999.0,9,  -999.0,        41.26,2,        25.36,2,  3397.3,     14.211,2,    35.0446,2,     -999.0,9,         -999.0,9,  -999.0,9,20140110,       1330
33RO20131223,       A16S,      51,          1,          3,          3,2,20140110,       1307,   -31.0033,   -25.0006,       4537,  3796.9,   1.7694,  34.8162,2,  34.8167,2,    233.9,2,   234.7,2,    70.0,6,    25.8,6,    0.00,6,   1.749,6,   0.043,3,   0.016,6,   0.116,6,  2216.2,2, 2346.22,2,-999.0000,9, -999.00,   7.6773,2,       25,-999.000,9,   1.7719,2, -999.00,9,  -999.0,9,  -999.0,        40.67,2,        28.01,2,  3796.9,     15.443,6,    34.9809,2,     -999.0,9,         -999.0,9,  -999.0,9,20140110,       1322
33RO20131223,       A16S,      51,          1,          2,          2,2,20140110,       1307,   -31.0033,   -25.0006,       4537,  4199.3,   1.3198,  34.7655,2,  34.7661,2,    225.2,2,   225.7,2,    89.3,6,    28.3,6,    0.00,6,   1.937,6,   0.093,3,   0.041,2,   0.091,2,  2236.1,2, 2356.78,2,-999.0000,9, -999.00,   7.6495,2,       25,-999.000,9,   1.3202,2, -999.00,9,  -999.0,9,  -999.0,  39.32555338,2,        31.02,2,  4199.3,     16.582,2,    34.9301,2,     -999.0,9,         -999.0,9,  -999.0,9,20140110,       1315
33RO20131223,       A16S,      51,          1,          1,          1,2,20140110,       1307,   -31.0033,   -25.0006,       4537,    4601,   1.2140,  34.7480,2,  34.7488,2,    222.4,2,   222.6,2,    95.9,6,    29.3,6,    0.00,6,   1.996,6,   0.132,3,   0.061,2,   0.083,2,    2245,6, 2358.81,2,-999.0000,9, -999.00,   7.6588,3,       25,-999.000,9,   1.2136,2, -999.00,9,  -999.0,9,  -999.0,  39.31100054,2,        31.94,2,  4601.0,     16.984,2,    34.9127,2,     -999.0,9,         -999.0,9,  -999.0,9,20140110,       1307