BOTTLE,20220815CCHSIOAMB
EXPOCODE,SECT_ID,STNNBR,CASTNO,SAMPNO,BTLNBR,BTLNBR_FLAG_W,DATE,TIME,LATITUDE,LONGITUDE,DEPTH,CTDPRS,CTDTMP,CTDSAL,CTDSAL_FLAG_W,SALNTY,SALNTY_FLAG_W,CTDOXY,CTDOXY_FLAG_W,OXYGEN,OXYGEN_FLAG_W,SILCAT,SILCAT_FLAG_W,NITRAT,NITRAT_FLAG_W,NITRIT,NITRIT_FLAG_W,PHSPHT,PHSPHT_FLAG_W,CFC-11,CFC-11_FLAG_W,CFC-12,CFC-12_FLAG_W,SF6,SF6_FLAG_W,TCARBN,TCARBN_FLAG_W,ALKALI,ALKALI_FLAG_W,PCO2,PCO2_FLAG_W,PCO2TMP,PH_SWS,PH_SWS_FLAG_W,PH_TMP,TRITUM,TRITUM_FLAG_W,REFTMP,REFTMP_FLAG_W,DELC13,DELC13_FLAG_W,DELC14,DELC14_FLAG_W,C14ERR,DOC,DOC_FLAG_W,TDN,TDN_FLAG_W,CTDRAW,N2O,N2O_FLAG_W,SALTREF,SALTREF_FLAG_W,HELIUM,HELIUM_FLAG_W,DELO18,DELO18_FLAG_W,CCL4,CCL4_FLAG_W,BTL_DATE,BTL_TIME
,,,,,,,,,,,METERS,DBAR,ITS-90,PSS-78,,PSS-78,,UMOL/KG,,UMOL/KG,,UMOL/KG,,UMOL/KG,,UMOL/KG,,UMOL/KG,,PMOL/KG,,PMOL/KG,,FMOL/KG,,UMOL/KG,,UMOL/KG,,UATM,,DEG C,,,DEG C,TU,,DEG C,,/MILLE,,/MILLE,,/MILLE,UMOL/KG,,UMOL/KG,,DBAR,NMOL/KG,,G/KG,,NMOL/KG,,/MILLE,,PMOL/KG,,,
33RO20131223,       A16S,       1,          2,          1,          1,3,20131226,       0459,    -6.0016,   -24.9998,       5809,  5904.3,   0.7651,  34.7023,2,  34.7049,2,    219.9,2,   220.9,2,   115.6,2,    31.3,2,    0.00,3,   2.192,3,   0.142,3,   0.072,3,   0.032,3,  2260.5,2, 2370.05,2,-999.0000,9, -999.00,   7.5594,4,       25,-999.000,9,   0.7651,2,    0.54,2,  -149.3,2,     1.9,  39.66908982,2,        33.92,2,  5904.3,     18.337,3,    34.8686,2,     -999.0,9,         -999.0,9,  -999.0,9,20131226,       0459
33RO20131223,       A16S,       2,          1,         24,         24,2,20131226,       1217,    -6.4977,   -24.9999,       5628,     3.1,  26.2387,  36.2430,2,  36.2424,2,    201.5,2,   202.1,2,     1.2,2,     0.0,2,    0.01,2,   0.107,2,   1.646,3,   1.095,3,   1.311,3,  2060.1,6, 2374.93,2,-999.0000,9, -999.00,   8.0458,2,       25,-999.000,9,  26.2463,2, -999.00,9,  -999.0,9,  -999.0,-999.00000000,9,-999.00000000,9,     3.1,      6.626,3,    36.4133,2,     -999.0,9,         -999.0,9,  -999.0,9,20131226,       1421
33RO20131223,       A16S,       2,          1,         23,         23,2,20131226,       1217,    -6.4977,   -24.9999,       5628,    27.9,  26.1705,  36.2402,2,  36.2394,2,    202.2,2,   202.2,2,     1.2,2,     0.0,2,    0.00,2,   0.115,2,   1.648,3,   1.094,3,   1.306,3,  2060.5,2, 2375.12,6,-999.0000,9, -999.00,   8.0427,2,       25,-999.000,9,   26.169,2, -999.00,9,  -999.0,9,  -999.0,-999.00000000,9,-999.00000000,9,    27.9,      6.581,3,    36.4103,2,     -999.0,9,         -999.0,9,  -999.0,9,20131226,       1419
33RO20131223,       A16S,       2,          1,         22,         22,3,20131226,       1217,    -6.4977,   -24.9999,       5628,    67.9,  26.1326,  36.2369,2,  36.2353,2,    201.5,2,   202.3,2,     1.2,2,     0.0,2,    0.00,3,   0.124,3,   1.648,3,   1.095,3,   1.295,3,  2060.6,2, 2374.94,2,-999.0000,9, -999.00,   8.0409,6,       25,-999.000,9,  26.1205,2, -999.00,9,  -999.0,9,  -999.0,-999.00000000,9,-999.00000000,9,    67.9,      6.611,3,    36.4061,2,     -999.0,9,         -999.0,9,  -999.0,9,20131226,       1417
33RO20131223,       A16S,       2,          1,         21,         21,2,20131226,       1217,    -6.4977,   -24.9999,       5628,   107.1,  22.8199,  36.1452,2,  36.1454,2,    168.2,2,   170.3,2,     1.9,2,     4.4,2,    0.66,2,   0.462,2,   1.863,3,   1.207,3,   1.288,3,  2108.6,2, 2369.58,2,-999.0000,9, -999.00,   7.9505,2,       25,-999.000,9,  22.8299,2, -999.00,9,  -999.0,9,  -999.0,-999.00000000,9,-999.00000000,9,   107.1,     11.100,3,    36.3158,2,     -999.0,9,         -999.0,9,  -999.0,9,20131226,       1415
33RO20131223,       A16S,       2,          1,         20,         20,2,20131226,       1217,    -6.4977,   -24.9999,       5628,   172.4,  15.2580,  35.6092,2,  35.6393,4,      112,2,   112.6,2,     6.0,2,    18.7,2,    0.02,2,   1.261,2,   2.157,3,   1.297,3,   0.933,3,  2185.1,2, 2341.78,2,-999.0000,9, -999.00,   7.7286,2,       25,-999.000,9,   15.366,2, -999.00,9,  -999.0,9,  -999.0,-999.00000000,9,-999.00000000,9,   172.4,     25.312,3,    35.8074,2,     -999.0,9,         -999.0,9,  -999.0,9,20131226,       1412
33RO20131223,       A16S,       2,          1,         19,         19,2,20131226,       1217,    -6.4977,   -24.9999,       5628,   257.5,  10.8796,  35.0258,2,  35.0261,2,     92.4,2,    92.3,2,    11.4,2,    27.7,2,    0.01,2,   1.799,2,   1.818,3,   1.018,3,   0.459,3,  2211.6,2, 2308.44,2,-999.0000,9, -999.00,    7.585,2,       25,-999.000,9,  10.8764,2, -999.00,9,  -999.0,9,  -999.0,-999.00000000,9,-999.00000000,9,   257.5,     35.037,3,    35.1913,2,     -999.0,9,         -999.0,9,  -999.0,9,20131226,       1410
33RO20131223,       A16S,       2,          1,         18,         18,2,20131226,       1217,    -6.4977,   -24.9999,       5628,   367.8,   9.2106,  34.8337,2,  34.8338,2,     75.2,2,    75.6,2,    15.5,2,    32.9,2,    0.01,2,   2.123,2,   1.137,3,   0.626,3,   0.194,3,  2231.1,2, 2301.67,2,-999.0000,9, -999.00,   7.5077,2,       25,-999.000,9,   9.2046,2, -999.00,9,  -999.0,9,  -999.0,-999.00000000,9,-999.00000000,9,   367.8,     38.239,3,    34.9981,2,     -999.0,9,         -999.0,9,  -999.0,9,20131226,       1407
33RO20131223,       A16S,       2,          1,         17,         17,2,20131226,       1217,    -6.4977,   -24.9999,       5628,   437.6,   8.3815,  34.7511,2,  34.7542,2,       74,2,    73.7,2,    17.9,2,    34.9,2,    0.01,2,   2.263,2,   0.873,3,   0.480,3,   0.150,3,  2236.5,6, 2296.58,2,-999.0000,9, -999.00,   7.4766,2,       25,-999.000,9,    8.372,2, -999.00,9,  -999.0,9,  -999.0,-999.00000000,9,-999.00000000,9,   437.6,     37.594,3,    34.9181,2,     -999.0,9,         -999.0,9,  -999.0,9,20131226,       1405
33RO20131223,       A16S,       2,          1,         16,         16,2,20131226,       1217,    -6.4977,   -24.9999,       5628,   598.6,   6.4535,  34.5774,2,  34.5734,2,    101.8,2,   102.5,2,    23.3,2,    36.0,2,    0.00,2,   2.385,2,-999.000,5,-999.000,5,-999.000,5,  2232.1,2, 2297.91,2,-999.0000,9, -999.00,    7.493,6,       25,-999.000,9,   6.4476,2, -999.00,9,  -999.0,9,  -999.0,-999.00000000,9,-999.00000000,9,   598.6,     -999.0,5,    34.7365,2,     -999.0,9,         -999.0,9,  -999.0,9,20131226,       1401
33RO20131223,       A16S,       2,          1,         15,         15,2,20131226,       1217,    -6.4977,   -24.9999,       5628,   773.7,   4.7075,  34.4679,2,  34.4658,2,    152.9,2,   152.1,2,    31.2,2,    34.2,2,    0.00,2,   2.340,2,   0.409,3,   0.217,3,   0.052,3,  2218.3,2, 2299.74,6,-999.0000,9, -999.00,   7.5477,2,       25,-999.000,9,   4.7093,2, -999.00,9,  -999.0,9,  -999.0,-999.00000000,9,-999.00000000,9,   773.7,     24.717,3,    34.6284,2,     -999.0,9,         -999.0,9,  -999.0,9,20131226,       1357
33RO20131223,       A16S,       2,          1,         14,         14,2,20131226,       1217,    -6.4977,   -24.9999,       5628,   924.1,   4.2572,  34.5286,2,  34.5285,2,    160.1,2,   158.1,2,    34.4,2,    33.5,2,    0.00,2,   2.304,2,-999.000,5,-999.000,5,-999.000,5,  2220.5,2, 2305.95,2,-999.0000,9, -999.00,    7.555,2,       25,-999.000,9,   4.2572,2, -999.00,9,  -999.0,9,  -999.0,-999.00000000,9,-999.00000000,9,   924.1,     -999.0,5,    34.6913,2,     -999.0,9,         -999.0,9,  -999.0,9,20131226,       1353
33RO20131223,       A16S,       2,          1,         13,         13,2,20131226,       1217,    -6.4977,   -24.9999,       5628,  1100.7,   4.2887,  34.6890,2,  34.6912,2,    168.2,2,   167.9,2,    30.9,2,    30.7,2,    0.01,2,   2.132,2,   0.051,3,   0.028,3,   0.021,3,  2213.4,2, 2306.08,2,-999.0000,9, -999.00,   7.5914,2,       25,-999.000,9,   4.2893,2, -999.00,9,  -999.0,9,  -999.0,-999.00000000,9,-999.00000000,9,  1100.7,     22.273,3,    34.8548,6,     -999.0,9,         -999.0,9,  -999.0,9,20131226,       1349
33RO20131223,       A16S,       2,          1,         12,         12,2,20131226,       1217,    -6.4977,   -24.9999,       5628,  1249.7,   4.3400,  34.8211,2,  34.8205,2,    187.2,2,   187.1,2,    26.1,2,    27.3,2,    0.00,2,   1.879,2,-999.000,5,-999.000,5,-999.000,5,  -999.0,9, -999.00,9,-999.0000,9, -999.00,-999.0000,9,  -999.00,-999.000,9,   4.3398,2, -999.00,9,  -999.0,9,  -999.0,-999.00000000,9,-999.00000000,9,  1249.7,     -999.0,5,    34.9847,2,     -999.0,9,         -999.0,9,  -999.0,9,20131226,       1345
33RO20131223,       A16S,       2,          1,         11,         11,2,20131226,       1217,    -6.4977,   -24.9999,       5628,  1399.8,   4.3139,  34.9062,2,  34.9076,2,    207.9,2,   207.5,2,    22.1,2,    24.3,2,    0.00,2,   1.642,2,   0.140,3,   0.077,3,   0.022,3,  2188.2,2, 2304.61,2,-999.0000,9, -999.00,   7.6693,2,       25,-999.000,9,   4.3141,2, -999.00,9,  -999.0,9,  -999.0,-999.00000000,9,-999.00000000,9,  1399.8,     17.892,3,    35.0722,2,     -999.0,9,         -999.0,9,  -999.0,9,20131226,       1341
33RO20131223,       A16S,       2,          1,         10,         10,2,20131226,       1217,    -6.4977,   -24.9999,       5628,    1589,   4.1761,  34.9584,2,  34.9570,2,    228.9,2,   227.8,2,    19.3,2,    21.7,2,    0.01,2,   1.463,2,-999.000,5,-999.000,5,-999.000,5,  -999.0,9, -999.00,9,-999.0000,9, -999.00,-999.0000,9,  -999.00,-999.000,9,   4.1766,2, -999.00,9,  -999.0,9,  -999.0,-999.00000000,9,-999.00000000,9,  1589.0,     -999.0,5,    35.1218,2,     -999.0,9,         -999.0,9,  -999.0,9,20131226,       1337
33RO20131223,       A16S,       2,          1,          9,          9,2,20131226,       1217,    -6.4977,   -24.9999,       5628,  1948.8,   3.5345,  34.9505,2,  34.9490,2,    240.3,2,   240.8,2,    24.3,2,    21.0,2,    0.00,2,   1.398,2,   0.125,3,   0.068,3,   0.000,3,  2174.6,2, 2318.59,2,-999.0000,9, -999.00,   7.7169,2,       25,-999.000,9,   3.5341,2, -999.00,9,  -999.0,9,  -999.0,-999.00000000,9,-999.00000000,9,  1948.8,     14.821,3,    35.1138,2,     -999.0,9,         -999.0,9,  -999.0,9,20131226,       1329
33RO20131223,       A16S,       2,          1,          8,          8,2,20131226,       1217,    -6.4977,   -24.9999,       5628,  2400.3,   3.0105,  34.9250,2,  34.9242,2,    240.4,2,   242.3,2,    33.2,2,    21.6,2,    0.01,2,   1.446,2,-999.000,5,-999.000,5,-999.000,5,    2182,2, 2328.93,2,-999.0000,9, -999.00,   7.7159,2,       25,-999.000,9,   3.0104,2, -999.00,9,  -999.0,9,  -999.0,-999.00000000,9,-999.00000000,9,  2400.3,     -999.0,5,    35.0889,2,     -999.0,9,         -999.0,9,  -999.0,9,20131226,       1321
33RO20131223,       A16S,       2,          1,          7,          7,2,20131226,       1217,    -6.4977,   -24.9999,       5628,    2949,   2.6995,  34.9144,2,  34.9130,2,    245.8,2,   246.2,2,    36.2,2,    21.3,2,    0.01,2,   1.435,2,   0.049,3,   0.028,3,   0.000,3,  -999.0,9, -999.00,9,-999.0000,9, -999.00,-999.0000,9,  -999.00,-999.000,9,   2.6992,2, -999.00,9,  -999.0,9,  -999.0,-999.00000000,9,-999.00000000,9,  2949.0,     14.436,3,    35.0777,2,     -999.0,9,         -999.0,9,  -999.0,9,20131226,       1311
33RO20131223,       A16S,       2,          1,          6,          6,2,20131226,       1217,    -6.4977,   -24.9999,       5628,  3449.6,   2.5550,  34.9119,2,  34.9099,2,    253.4,2,   254.4,2,    33.9,2,    20.3,2,    0.01,2,   1.370,2,   0.133,3,   0.071,3,   0.000,3,    2178,2, 2328.05,2,-999.0000,9, -999.00,   7.7274,2,       25,-999.000,9,   2.5555,2, -999.00,9,  -999.0,9,  -999.0,-999.00000000,9,-999.00000000,9,  3449.6,     14.004,3,    35.0745,2,     -999.0,9,         -999.0,9,  -999.0,9,20131226,       1301
33RO20131223,       A16S,       2,          1,          5,          5,2,20131226,       1217,    -6.4977,   -24.9999,       5628,  3949.7,   2.1000,  34.8678,2,  34.8663,2,    250.4,2,   250.4,2,    49.0,2,    22.0,2,    0.01,2,   1.494,2,   0.133,3,   0.073,3,   0.052,3,  -999.0,9, -999.00,9,-999.0000,9, -999.00,-999.0000,9,  -999.00,-999.000,9,   2.1017,2, -999.00,9,  -999.0,9,  -999.0,-999.00000000,9,-999.00000000,9,  3949.7,     14.871,3,    35.0307,6,     -999.0,9,         -999.0,9,  -999.0,9,20131226,       1252
33RO20131223,       A16S,       2,          1,          4,          4,2,20131226,       1217,    -6.4977,   -24.9999,       5628,  4449.5,   1.1063,  34.7587,2,  34.7568,2,    228.2,2,     229,2,    94.2,2,    28.4,2,    0.01,2,   1.967,2,-999.000,5,-999.000,5,-999.000,5,  -999.0,9, -999.00,9,-999.0000,9, -999.00,-999.0000,9,  -999.00,-999.000,9,   1.1068,2, -999.00,9,  -999.0,9,  -999.0,-999.00000000,9,-999.00000000,9,  4449.5,     -999.0,5,    34.9207,2,     -999.0,9,         -999.0,9,  -999.0,9,20131226,       1242
33RO20131223,       A16S,       2,          1,          3,          3,2,20131226,       1217,    -6.4977,   -24.9999,       5628,  4949.6,   0.8221,  34.7215,2,  34.7198,2,      222,2,   223.1,2,   108.7,2,    30.4,2,    0.01,2,   2.122,2,   0.076,3,   0.040,3,   0.040,3,  2253.1,2, 2368.97,6,-999.0000,9, -999.00,   7.6284,2,       25,-999.000,9,   0.8223,2, -999.00,9,  -999.0,9,  -999.0,-999.00000000,9,-999.00000000,9,  4949.6,     18.189,3,    34.8835,2,     -999.0,9,         -999.0,9,  -999.0,9,20131226,       1233
33RO20131223,       A16S,       2,          1,          2,          2,2,20131226,       1217,    -6.4977,   -24.9999,       5628,  5399.5,   0.7197,  34.7050,2,  34.7055,2,    219.8,2,   220.2,2,   114.7,2,    31.2,2,    0.01,2,   2.193,2,-999.000,5,-999.000,5,-999.000,5,  2259.3,6, 2368.84,2,-999.0000,9, -999.00,   7.6173,2,       25,-999.000,9,   0.7199,2, -999.00,9,  -999.0,9,  -999.0,-999.00000000,9,-999.00000000,9,  5399.5,     -999.0,5,    34.8692,2,     -999.0,9,         -999.0,9,  -999.0,9,20131226,       1225
33RO20131223,       A16S,       2,          1,          1,          1,3,20131226,       1217,    -6.4977,   -24.9999,       5628,  5713.9,   0.7515,  34.7034,2,  34.7043,2,    219.8,2,   219.9,2,   113.9,2,    31.2,2,    0.01,3,   2.185,3,   0.122,3,   0.064,3,   0.022,3,  -999.0,9, -999.00,9,-999.0000,9, -999.00,-999.0000,9,  -999.00,-999.000,9,   0.7512,2, -999.00,9,  -999.0,9,  -999.0,-999.00000000,9,-999.00000000,9,  5713.9,     18.268,3,    34.8679,2,     -999.0,9,         -999.0,9,  -999.0,9,20131226,       1217