BOTTLE,20220815CCHSIOAMB
EXPOCODE,SECT_ID,STNNBR,CASTNO,SAMPNO,BTLNBR,BTLNBR_FLAG_W,DATE,TIME,LATITUDE,LONGITUDE,DEPTH,CTDPRS,CTDTMP,CTDSAL,CTDSAL_FLAG_W,SALNTY,SALNTY_FLAG_W,CTDOXY,CTDOXY_FLAG_W,OXYGEN,OXYGEN_FLAG_W,SILCAT,SILCAT_FLAG_W,NITRAT,NITRAT_FLAG_W,NITRIT,NITRIT_FLAG_W,PHSPHT,PHSPHT_FLAG_W,CFC-11,CFC-11_FLAG_W,CFC-12,CFC-12_FLAG_W,SF6,SF6_FLAG_W,TCARBN,TCARBN_FLAG_W,ALKALI,ALKALI_FLAG_W,PCO2,PCO2_FLAG_W,PCO2TMP,PH_SWS,PH_SWS_FLAG_W,PH_TMP,TRITUM,TRITUM_FLAG_W,REFTMP,REFTMP_FLAG_W,DELC13,DELC13_FLAG_W,DELC14,DELC14_FLAG_W,C14ERR,DOC,DOC_FLAG_W,TDN,TDN_FLAG_W,CTDRAW,N2O,N2O_FLAG_W,SALTREF,SALTREF_FLAG_W,HELIUM,HELIUM_FLAG_W,DELO18,DELO18_FLAG_W,CCL4,CCL4_FLAG_W,BTL_DATE,BTL_TIME
,,,,,,,,,,,METERS,DBAR,ITS-90,PSS-78,,PSS-78,,UMOL/KG,,UMOL/KG,,UMOL/KG,,UMOL/KG,,UMOL/KG,,UMOL/KG,,PMOL/KG,,PMOL/KG,,FMOL/KG,,UMOL/KG,,UMOL/KG,,UATM,,DEG C,,,DEG C,TU,,DEG C,,/MILLE,,/MILLE,,/MILLE,UMOL/KG,,UMOL/KG,,DBAR,NMOL/KG,,G/KG,,NMOL/KG,,/MILLE,,PMOL/KG,,,
33RO20131223,       A16S,     111,          2,         24,         24,2,20140129,       0245,   -58.9991,   -30.9237,       3093,     5.3,   1.0003,  33.6937,2,  33.6934,2,    335.4,2,     339,2,    46.5,6,    21.8,6,    0.26,6,   1.322,6,   5.831,6,   3.185,2,   3.141,6,  2150.1,6, 2289.11,2,-999.0000,9, -999.00,   7.7233,2,       25,-999.000,9,   1.0003,2,    1.31,2,  -119.0,2,     2.0,  47.25064777,2,  25.88879084,2,     5.3,     14.664,6,    33.8522,2,     -999.0,9,         -999.0,9,  -999.0,9,20140129,       0406
33RO20131223,       A16S,     111,          2,         23,         23,2,20140129,       0245,   -58.9991,   -30.9237,       3093,    17.6,   0.9975,  33.6937,2,  33.6941,2,    336.2,2,   338.7,2,    46.6,6,    21.8,6,    0.26,6,   1.326,6,   5.843,2,   3.168,2,   3.152,2,    2152,2, 2292.24,6,-999.0000,9, -999.00,   7.7225,2,       25,-999.000,9,   0.9983,2, -999.00,9,  -999.0,9,  -999.0,  46.41178631,2,  25.83586399,2,    17.6,     14.627,2,     33.853,2,     -999.0,9,         -999.0,9,  -999.0,9,20140129,       0405
33RO20131223,       A16S,     111,          2,         22,         22,2,20140129,       0245,   -58.9991,   -30.9237,       3093,    47.9,  -1.0910,  33.9029,2,  33.9201,2,    332.7,2,     330,2,    64.4,6,    25.9,6,    0.21,6,   1.895,6,   5.555,2,   3.011,2,   2.872,2,  2188.6,2, 2304.94,2,-999.0000,9, -999.00,   7.6525,2,       25,-999.000,9,  -1.0927,2, -999.00,9,  -999.0,9,  -999.0,  44.99334786,2,  30.00196322,2,    47.9,     16.581,2,    34.0801,2,     -999.0,9,         -999.0,9,  -999.0,9,20140129,       0403
33RO20131223,       A16S,     111,          2,         21,         21,2,20140129,       0245,   -58.9991,   -30.9237,       3093,    72.7,  -0.8752,  34.0964,2,  34.1057,2,    305.6,2,   299.8,2,    69.1,6,    28.6,6,    0.21,6,   2.110,6,   4.848,2,   2.606,2,   2.460,2,  2212.5,2, 2315.51,2,-999.0000,9, -999.00,   7.6098,6,       25,-999.000,9,  -0.8811,2, -999.00,9,  -999.0,9,  -999.0,  43.92570601,2,  32.15609756,2,    72.7,     17.544,2,    34.2666,2,     -999.0,9,         -999.0,9,  -999.0,9,20140129,       0401
33RO20131223,       A16S,     111,          2,         20,         20,2,20140129,       0245,   -58.9991,   -30.9237,       3093,    97.7,  -0.5066,  34.2689,2,  34.2721,2,    266.1,2,   267.3,2,    76.0,2,    31.5,2,    0.17,2,   2.224,2,   3.851,2,   2.074,2,   1.862,2,  2232.3,2,  2320.4,2,-999.0000,9, -999.00,   7.5724,2,       25,-999.000,9,  -0.5092,2, -999.00,9,  -999.0,9,  -999.0,  43.01058442,2,  35.17073171,2,    97.7,     18.776,2,    34.4337,2,     -999.0,9,         -999.0,9,  -999.0,9,20140129,       0359
33RO20131223,       A16S,     111,          2,         19,         19,2,20140129,       0245,   -58.9991,   -30.9237,       3093,   147.5,   0.3983,  34.4848,2,  34.4856,2,    230.3,2,   227.6,2,    82.5,2,    32.5,2,    0.02,2,   2.258,2,   2.414,2,   1.259,2,   1.110,2,  2248.9,2, 2332.46,2,-999.0000,9, -999.00,   7.5588,2,       25,-999.000,9,   0.4023,2, -999.00,9,  -999.0,9,  -999.0,  42.08021081,2,  36.21708766,2,   147.5,     20.148,2,    34.6482,2,     -999.0,9,         -999.0,9,  -999.0,9,20140129,       0357
33RO20131223,       A16S,     111,          2,         18,         18,3,20140129,       0245,   -58.9991,   -30.9237,       3093,   248.5,   1.4594,  34.6688,2,  34.6688,2,    190.3,2,   190.6,2,    90.0,2,    32.2,2,    0.02,3,   2.238,3,-999.000,9,-999.000,9,-999.000,9,  2261.2,2, 2348.18,2,-999.0000,9, -999.00,   7.5692,2,       25,-999.000,9,   1.4599,2, -999.00,9,  -999.0,9,  -999.0,  41.43172733,2,  35.50635567,2,   248.5,     -999.0,9,    34.8323,2,     -999.0,9,         -999.0,9,  -999.0,9,20140129,       0354
33RO20131223,       A16S,     111,          2,         17,         17,2,20140129,       0245,   -58.9991,   -30.9237,       3093,   348.1,   1.1115,  34.6665,2,  34.6655,2,    198.6,2,   198.8,2,    95.2,2,    32.0,2,    0.01,2,   2.220,2,   0.822,2,   0.413,2,   0.325,2,  2259.1,6, 2350.81,6,-999.0000,9, -999.00,   7.5735,2,       25,-999.000,9,   1.1123,2, -999.00,9,  -999.0,9,  -999.0,  40.60447969,2,  35.05269695,2,   348.1,     20.048,2,    34.8289,2,     -999.0,9,         -999.0,9,  -999.0,9,20140129,       0351
33RO20131223,       A16S,     111,          2,         16,         16,2,20140129,       0245,   -58.9991,   -30.9237,       3093,   448.1,   1.0676,  34.6852,2,  34.6844,2,    198.5,2,   198.8,2,   100.4,6,    31.9,6,    0.01,6,   2.208,6,   0.617,2,   0.293,2,   0.234,2,  2262.2,2, 2351.39,2,-999.0000,9, -999.00,    7.581,2,       25,-999.000,9,   1.0684,2, -999.00,9,  -999.0,9,  -999.0,  40.24777658,2,  34.57560976,2,   448.1,     19.865,2,     34.848,2,     -999.0,9,         -999.0,9,  -999.0,9,20140129,       0348
33RO20131223,       A16S,     111,          2,         15,         15,2,20140129,       0245,   -58.9991,   -30.9237,       3093,     548,   0.9250,  34.6858,2,  34.6872,2,    202.8,2,   201.9,2,   103.9,2,    31.9,2,    0.00,2,   2.213,2,   0.615,2,   0.302,2,   0.244,2,  2261.9,2,  2353.7,2,-999.0000,9, -999.00,   7.5834,2,       25,-999.000,9,   0.9258,2, -999.00,9,  -999.0,9,  -999.0,  39.83794748,2,  34.60487805,2,   548.0,     19.577,2,    34.8507,2,     -999.0,9,         -999.0,9,  -999.0,9,20140129,       0345
33RO20131223,       A16S,     111,          2,         14,         14,2,20140129,       0245,   -58.9991,   -30.9237,       3093,   647.9,   0.8136,  34.6861,2,  34.6846,2,    205.1,2,   203.6,2,   107.1,2,    32.0,2,    0.01,2,   2.217,2,   0.600,2,   0.291,2,   0.217,2,  2262.1,2, 2355.89,2,-999.0000,9, -999.00,   7.5816,2,       25,-999.000,9,   0.8122,2, -999.00,9,  -999.0,9,  -999.0,  39.45088666,2,  34.49756098,2,   647.9,     19.388,2,    34.8482,2,     -999.0,9,         -999.0,9,  -999.0,9,20140129,       0342
33RO20131223,       A16S,     111,          2,         13,         13,2,20140129,       0245,   -58.9991,   -30.9237,       3093,   797.9,   0.7018,  34.6853,2,  34.6844,2,    204.7,2,   205.1,2,   110.2,2,    32.1,2,    0.00,2,   2.224,2,   0.608,2,   0.299,2,   0.224,2,  2263.2,2, 2355.95,2,-999.0000,9, -999.00,   7.5267,4,       25,-999.000,9,    0.702,2, -999.00,9,  -999.0,9,  -999.0,  39.23838268,2,  34.59512195,2,   797.9,     19.333,2,     34.848,2,     -999.0,9,         -999.0,9,  -999.0,9,20140129,       0338
33RO20131223,       A16S,     111,          2,         12,         12,2,20140129,       0245,   -58.9991,   -30.9237,       3093,     997,   0.5695,  34.6834,2,  34.6836,2,    206.8,2,   206.7,2,   113.6,2,    32.3,2,    0.00,2,   2.237,2,   0.624,6,   0.292,2,   0.200,6,  2263.3,2,  2356.5,2,-999.0000,9, -999.00,   7.5778,2,       25,-999.000,9,   0.5697,2, -999.00,9,  -999.0,9,  -999.0,  38.94239499,2,   34.7804878,2,   997.0,     19.192,6,    34.8472,2,     -999.0,9,         -999.0,9,  -999.0,9,20140129,       0334
33RO20131223,       A16S,     111,          2,         11,         11,2,20140129,       0245,   -58.9991,   -30.9237,       3093,  1197.2,   0.4461,  34.6799,2,  34.6801,2,    207.7,2,   207.8,2,   116.5,2,    32.6,2,    0.00,2,   2.256,2,   0.618,2,   0.299,2,   0.162,2,  2264.9,2, 2358.27,2,-999.0000,9, -999.00,   7.5759,2,       25,-999.000,9,   0.4461,2, -999.00,9,  -999.0,9,  -999.0,  38.99552099,2,  35.14146341,2,  1197.2,     19.170,2,    34.8436,2,     -999.0,9,         -999.0,9,  -999.0,9,20140129,       0329
33RO20131223,       A16S,     111,          2,         10,         10,2,20140129,       0245,   -58.9991,   -30.9237,       3093,  1397.6,   0.3530,  34.6783,2,  34.6784,2,    210.6,2,   211.4,2,   118.6,2,    32.5,2,    0.00,2,   2.254,2,   0.629,2,   0.303,2,   0.181,2,  2262.1,2, 2358.56,2,-999.0000,9, -999.00,   7.5755,2,       25,-999.000,9,   0.3529,2, -999.00,9,  -999.0,9,  -999.0,  39.08659412,2,  35.10243902,2,  1397.6,     19.078,2,    34.8419,6,     -999.0,9,         -999.0,9,  -999.0,9,20140129,       0325
33RO20131223,       A16S,     111,          2,          9,          9,2,20140129,       0245,   -58.9991,   -30.9237,       3093,  1597.7,   0.2796,  34.6757,2,  34.6754,2,    214.4,2,   214.4,2,   119.3,2,    32.4,2,    0.00,2,   2.251,2,   0.698,2,   0.330,2,   0.163,2,  2262.2,2, 2358.67,2,-999.0000,9, -999.00,   7.5815,2,       25,-999.000,9,   0.2792,2, -999.00,9,  -999.0,9,  -999.0,  39.18525668,2,  35.06341463,2,  1597.7,     18.873,2,    34.8389,2,     -999.0,9,         -999.0,9,  -999.0,9,20140129,       0320
33RO20131223,       A16S,     111,          2,          8,          8,2,20140129,       0245,   -58.9991,   -30.9237,       3093,  1797.9,   0.1913,  34.6719,2,  34.6711,2,      217,2,   216.4,2,   120.2,2,    32.5,2,    0.00,2,   2.255,2,   0.710,2,   0.341,2,   0.175,2,  2262.8,2, 2354.26,2,-999.0000,9, -999.00,   7.5794,2,       25,-999.000,9,   0.1913,2, -999.00,9,  -999.0,9,  -999.0,  39.27632982,2,  35.12526829,2,  1797.9,     18.907,2,    34.8346,2,     -999.0,9,         -999.0,9,  -999.0,9,20140129,       0316
33RO20131223,       A16S,     111,          2,          7,          7,2,20140129,       0245,   -58.9991,   -30.9237,       3093,  1997.3,   0.1095,  34.6684,2,  34.6678,2,    219.6,2,   220.9,2,   120.6,2,    32.4,2,    0.00,2,   2.252,2,   0.811,2,   0.391,2,   0.237,2,  2261.1,2, 2359.67,2,-999.0000,9, -999.00,   7.5798,2,       25,-999.000,9,   0.1093,2, -999.00,9,  -999.0,9,  -999.0,  39.52678094,2,  35.13560976,2,  1997.3,     18.858,2,    34.8312,2,     -999.0,9,         -999.0,9,  -999.0,9,20140129,       0311
33RO20131223,       A16S,     111,          2,          6,          6,2,20140129,       0245,   -58.9991,   -30.9237,       3093,  2197.6,   0.0378,  34.6651,2,  34.6678,2,    222.5,2,   223.4,2,   121.2,6,    32.4,6,    0.00,6,   2.251,6,   0.877,2,   0.417,2,   0.256,2,  2259.8,2, 2360.11,2,-999.0000,9, -999.00,   7.5815,2,       25,-999.000,9,   0.0375,2, -999.00,9,  -999.0,9,  -999.0,  39.37499238,2,  34.99512195,2,  2197.6,     18.773,2,    34.8312,2,     -999.0,9,         -999.0,9,  -999.0,9,20140129,       0307
33RO20131223,       A16S,     111,          2,          5,          5,2,20140129,       0245,   -58.9991,   -30.9237,       3093,  2396.8,  -0.0112,  34.6632,2,  34.6647,2,    224.6,2,   225.1,2,   121.9,2,    32.4,2,    0.00,2,   2.256,2,   0.870,2,   0.414,2,   0.207,2,    2259,2, 2356.57,2,-999.0000,9, -999.00,   7.5812,2,       25,-999.000,9,  -0.0118,2, -999.00,9,  -999.0,9,  -999.0,  39.59508579,2,  34.77073171,2,  2396.8,     18.623,2,    34.8282,2,     -999.0,9,         -999.0,9,  -999.0,9,20140129,       0302
33RO20131223,       A16S,     111,          2,          4,          4,2,20140129,       0245,   -58.9991,   -30.9237,       3093,  2498.3,  -0.0366,  34.6621,2,  34.6623,2,    226.2,2,   225.3,2,   123.1,2,    32.5,2,    0.00,2,   2.259,2,   0.886,2,   0.420,2,   0.239,2,  2259.4,2, 2356.73,2,-999.0000,9, -999.00,   7.5829,2,       25,-999.000,9,  -0.0366,2, -999.00,9,  -999.0,9,  -999.0,  39.54195979,2,        34.87,2,  2498.3,     18.621,2,    34.8257,6,     -999.0,9,         -999.0,9,  -999.0,9,20140129,       0259
33RO20131223,       A16S,     111,          2,          3,          3,2,20140129,       0245,   -58.9991,   -30.9237,       3093,  2697.7,  -0.0515,  34.6610,2,  34.6608,2,    227.5,2,   226.2,2,   124.3,2,    32.6,2,    0.00,2,   2.260,2,   0.912,2,   0.422,2,   0.210,2,  2259.8,2, 2357.27,2,-999.0000,9, -999.00,   7.5805,6,       25,-999.000,9,  -0.0509,2, -999.00,9,  -999.0,9,  -999.0,  39.58749636,2,        34.97,2,  2697.7,     18.431,2,    34.8242,2,     -999.0,9,         -999.0,9,  -999.0,9,20140129,       0254
33RO20131223,       A16S,     111,          2,          2,          2,2,20140129,       0245,   -58.9991,   -30.9237,       3093,  2897.8,  -0.0806,  34.6592,2,  34.6575,2,    229.1,2,   228.6,2,   123.8,6,    32.5,6,    0.00,6,   2.254,6,   1.013,2,   0.475,2,   0.271,2,  2258.8,2,  2357.1,6,-999.0000,9, -999.00,   7.5847,2,       25,-999.000,9,  -0.0809,2, -999.00,9,  -999.0,9,  -999.0,  39.61785407,2,   34.7902439,2,  2897.8,     18.456,2,    34.8209,2,     -999.0,9,         -999.0,9,  -999.0,9,20140129,       0250
33RO20131223,       A16S,     111,          2,          1,          1,2,20140129,       0245,   -58.9991,   -30.9237,       3093,  3140.2,  -0.1070,  34.6573,2,  34.6549,2,    232.6,2,   232.2,2,   121.9,6,    32.4,6,    0.00,6,   2.247,6,   1.098,6,   0.519,2,   0.310,6,  2259.4,6, 2354.76,2,-999.0000,9, -999.00,    7.589,2,       25,-999.000,9,  -0.1073,2, -999.00,9,  -999.0,9,  -999.0,  39.70133778,2,  34.89756098,2,  3140.2,     18.457,6,    34.8183,2,     -999.0,9,         -999.0,9,  -999.0,9,20140129,       0245