BOTTLE,20220815CCHSIOAMB
EXPOCODE,SECT_ID,STNNBR,CASTNO,SAMPNO,BTLNBR,BTLNBR_FLAG_W,DATE,TIME,LATITUDE,LONGITUDE,DEPTH,CTDPRS,CTDTMP,CTDSAL,CTDSAL_FLAG_W,SALNTY,SALNTY_FLAG_W,CTDOXY,CTDOXY_FLAG_W,OXYGEN,OXYGEN_FLAG_W,SILCAT,SILCAT_FLAG_W,NITRAT,NITRAT_FLAG_W,NITRIT,NITRIT_FLAG_W,PHSPHT,PHSPHT_FLAG_W,CFC-11,CFC-11_FLAG_W,CFC-12,CFC-12_FLAG_W,SF6,SF6_FLAG_W,TCARBN,TCARBN_FLAG_W,ALKALI,ALKALI_FLAG_W,PCO2,PCO2_FLAG_W,PCO2TMP,PH_SWS,PH_SWS_FLAG_W,PH_TMP,TRITUM,TRITUM_FLAG_W,REFTMP,REFTMP_FLAG_W,DELC13,DELC13_FLAG_W,DELC14,DELC14_FLAG_W,C14ERR,DOC,DOC_FLAG_W,TDN,TDN_FLAG_W,CTDRAW,N2O,N2O_FLAG_W,SALTREF,SALTREF_FLAG_W,HELIUM,HELIUM_FLAG_W,DELO18,DELO18_FLAG_W,CCL4,CCL4_FLAG_W,BTL_DATE,BTL_TIME
,,,,,,,,,,,METERS,DBAR,ITS-90,PSS-78,,PSS-78,,UMOL/KG,,UMOL/KG,,UMOL/KG,,UMOL/KG,,UMOL/KG,,UMOL/KG,,PMOL/KG,,PMOL/KG,,FMOL/KG,,UMOL/KG,,UMOL/KG,,UATM,,DEG C,,,DEG C,TU,,DEG C,,/MILLE,,/MILLE,,/MILLE,UMOL/KG,,UMOL/KG,,DBAR,NMOL/KG,,G/KG,,NMOL/KG,,/MILLE,,PMOL/KG,,,
33RO20131223,       A16S,       7,          2,         24,         24,2,20131228,       0313,    -8.9992,   -25.0001,       5691,     3.1,  26.4131,  36.4809,2,  36.4813,2,    199.1,2,   200.7,2,     0.8,2,     0.0,2,    0.00,2,   0.052,2,   1.619,3,   1.084,3,   1.301,3,  2060.6,6, 2382.76,2,-999.0000,9, -999.00,    8.063,2,       25,-999.000,9,  26.4112,2,    1.35,2,    44.1,2,     2.3,  73.43025518,2,          5.8,2,     3.1,      6.534,3,    36.6533,2,     -999.0,9,         -999.0,9,  -999.0,9,20131228,       0515
33RO20131223,       A16S,       7,          2,         23,         23,2,20131228,       0313,    -8.9992,   -25.0001,       5691,      13,  26.4187,  36.4809,2,  36.4801,2,    199.1,2,   200.6,2,     0.8,2,     0.0,2,    0.00,2,   0.055,2,   1.612,3,   1.083,3,   1.324,3,  2062.4,2, 2387.42,2,-999.0000,9, -999.00,   8.0618,2,       25,-999.000,9,  26.4182,2, -999.00,9,  -999.0,9,  -999.0,  72.62761323,2,         5.38,2,    13.0,      6.576,3,    36.6521,2,     -999.0,9,         -999.0,9,  -999.0,9,20131228,       0514
33RO20131223,       A16S,       7,          2,         22,         22,2,20131228,       0313,    -8.9992,   -25.0001,       5691,    37.8,  26.4077,  36.4795,2,  36.4800,2,      200,2,   200.8,2,     0.9,2,     0.0,2,    0.00,2,   0.059,2,   1.612,3,   1.082,3,   1.289,3,  2062.4,2, 2391.83,6,-999.0000,9, -999.00,   8.0649,2,       25,-999.000,9,  26.4041,2,    1.37,6,    37.0,6,     1.6,  72.26277597,2,         5.56,2,    37.8,      6.517,3,    36.6521,2,     -999.0,9,         -999.0,9,  -999.0,9,20131228,       0512
33RO20131223,       A16S,       7,          2,         21,         21,2,20131228,       0313,    -8.9992,   -25.0001,       5691,    67.9,  25.7442,  36.5241,2,  36.5329,2,    204.7,2,   205.6,2,     0.8,2,     0.0,2,    0.00,2,   0.065,2,   1.666,3,   1.115,3,   1.328,3,  2062.8,2, 2398.94,2,-999.0000,9, -999.00,   8.0654,2,       25,-999.000,9,  25.7432,2,    1.37,2,    48.0,2,     2.3,  71.82497127,2,         4.61,2,    67.9,      6.656,3,    36.7052,2,     -999.0,9,         -999.0,9,  -999.0,9,20131228,       0510
33RO20131223,       A16S,       7,          2,         20,         20,2,20131228,       0313,    -8.9992,   -25.0001,       5691,     118,  23.2590,  36.8892,2,  36.8606,2,    208.1,2,   207.8,2,     1.0,2,     0.1,2,    0.01,2,   0.161,2,   1.877,3,   1.238,3,   1.382,3,  2109.1,2, 2415.96,2,-999.0000,9, -999.00,   8.0252,2,       25,-999.000,9,  23.2614,2,    1.33,6,    46.2,6,     3.1,  65.84164033,2,         4.29,2,   118.0,      7.721,3,    37.0344,2,     -999.0,9,         -999.0,9,  -999.0,9,20131228,       0508
33RO20131223,       A16S,       7,          2,         19,         19,2,20131228,       0313,    -8.9992,   -25.0001,       5691,     183,  16.4594,  35.8252,2,  35.7981,3,      137,2,   135.6,2,     4.7,2,    14.8,2,    0.03,2,   1.041,2,   2.189,3,   1.344,3,   1.057,3,  2174.6,2, 2339.27,2,-999.0000,9, -999.00,   7.7875,2,       25,-999.000,9,  16.4531,2,    0.65,2,    37.2,2,     2.2,  51.31382094,2,        18.37,2,   183.0,     20.483,3,    35.9669,2,     -999.0,9,         -999.0,9,  -999.0,9,20131228,       0505
33RO20131223,       A16S,       7,          2,         18,         18,2,20131228,       0313,    -8.9992,   -25.0001,       5691,   247.7,  11.6416,  35.1334,2,  35.1283,2,     91.5,2,      93,2,    10.2,2,    26.4,2,    0.01,2,   1.756,2,   1.768,3,   1.017,3,   0.525,3,  2210.2,6,  2302.9,2,-999.0000,9, -999.00,   7.6059,2,       25,-999.000,9,  11.6829,2,    0.44,2,    19.3,2,     2.3,  47.03063159,2,        29.42,2,   247.7,     32.564,3,     35.294,2,     -999.0,9,         -999.0,9,  -999.0,9,20131228,       0503
33RO20131223,       A16S,       7,          2,         17,         17,2,20131228,       0313,    -8.9992,   -25.0001,       5691,   382.9,   8.0926,  34.7092,2,  34.7051,2,    100.6,2,   100.6,2,    17.3,2,    32.9,2,    0.01,2,   2.189,2,   1.069,3,   0.585,3,   0.192,3,  2227.3,2, 2295.59,2,-999.0000,9, -999.00,   7.5277,2,       25,-999.000,9,   8.0856,2,    0.55,2,   -33.6,2,     3.0,  45.16266486,2,        35.35,2,   382.9,     32.906,3,    34.8687,2,     -999.0,9,         -999.0,9,  -999.0,9,20131228,       0500
33RO20131223,       A16S,       7,          2,         16,         16,2,20131228,       0313,    -8.9992,   -25.0001,       5691,   518.3,   6.7937,  34.5939,2,  34.5881,2,    109.1,2,   110.2,2,    21.5,2,    34.8,2,    0.00,2,   2.364,2,   0.659,3,   0.355,3,   0.114,3,  2230.5,2, 2292.91,2,-999.0000,9, -999.00,   7.5073,2,       25,-999.000,9,   6.7874,2,    0.58,2,   -59.9,2,     2.1,  43.22902742,2,        37.14,2,   518.3,     30.764,3,    34.7512,2,     -999.0,9,         -999.0,9,  -999.0,9,20131228,       0456
33RO20131223,       A16S,       7,          2,         15,         15,3,20131228,       0313,    -8.9992,   -25.0001,       5691,     668,   5.4754,  34.5126,2,  34.5138,2,    123.8,2,   122.9,2,    27.1,6,    35.8,6,    0.00,3,   2.485,3,   0.260,3,   0.143,3,   0.045,3,  2230.8,2, 2298.23,2,-999.0000,9, -999.00,   7.5065,2,       25,-999.000,9,   5.4753,2,    0.62,2,   -94.6,2,     2.1,  42.18559288,2,        38.39,2,   668.0,     28.242,3,    34.6766,2,     -999.0,9,         -999.0,9,  -999.0,9,20131228,       0452
33RO20131223,       A16S,       7,          2,         14,         14,2,20131228,       0313,    -8.9992,   -25.0001,       5691,   817.8,   4.5832,  34.4852,2,  34.4836,2,    148.5,2,   148.5,2,    32.3,2,    34.7,2,    0.00,2,   2.439,2,   0.192,3,   0.106,3,   0.037,3,  2225.7,2, 2286.49,4,-999.0000,9, -999.00,   7.5364,2,       25,-999.000,9,   4.5824,2,    0.72,2,  -113.1,2,     4.2,  41.56536955,2,        37.12,2,   817.8,     25.119,3,    34.6462,2,     -999.0,9,         -999.0,9,  -999.0,9,20131228,       0449
33RO20131223,       A16S,       7,          2,         13,         13,2,20131228,       0313,    -8.9992,   -25.0001,       5691,   997.7,   4.1390,  34.5776,2,  34.5747,2,      162,2,   160.4,2,    34.4,6,    32.8,6,    0.00,6,   2.318,6,   0.069,3,   0.038,3,   0.000,3,  2221.5,2, 2341.73,4,-999.0000,9, -999.00,   7.5644,2,       25,-999.000,9,   4.1392,2,    0.75,2,  -111.7,2,     2.2,  41.26620301,2,        35.21,2,   997.7,     23.160,3,    34.7377,6,     -999.0,9,         -999.0,9,  -999.0,9,20131228,       0445
33RO20131223,       A16S,       7,          2,         12,         12,2,20131228,       0313,    -8.9992,   -25.0001,       5691,  1132.6,   4.1575,  34.6886,2,  34.6902,2,    172.3,2,   172.7,2,    31.4,6,    30.5,6,    0.00,6,   2.135,6,   0.034,3,   0.022,3,   0.000,3,  2213.6,2, 2310.94,2,-999.0000,9, -999.00,   7.5939,2,       25,-999.000,9,   4.1576,2,    0.73,2,  -116.5,2,     2.0,  40.93784948,2,        33.03,2,  1132.6,     21.577,3,    34.8537,2,     -999.0,9,         -999.0,9,  -999.0,9,20131228,       0441
33RO20131223,       A16S,       7,          2,         11,         11,2,20131228,       0313,    -8.9992,   -25.0001,       5691,  1297.6,   4.2392,  34.8395,2,  34.8410,2,    194.8,2,   195.6,2,    25.5,2,    26.4,2,    0.00,2,   1.820,2,   0.078,3,   0.042,3,   0.020,3,  2199.6,2, 2315.27,2,-999.0000,9, -999.00,   7.6444,2,       25,-999.000,9,   4.2391,2,    0.85,2,  -102.9,2,     2.8,  41.79156865,2,        28.68,2,  1297.6,     18.971,3,    35.0053,2,     -999.0,9,         -999.0,9,  -999.0,9,20131228,       0437
33RO20131223,       A16S,       7,          2,         10,         10,2,20131228,       0313,    -8.9992,   -25.0001,       5691,  1598.6,   4.0533,  34.9514,2,  34.9498,2,      229,2,   229.7,2,    20.1,2,    21.8,2,    0.00,2,   1.466,2,   0.198,3,   0.108,3,   0.034,3,  2179.2,2, 2316.42,2,-999.0000,9, -999.00,    7.702,2,       25,-999.000,9,   4.0525,2,    0.93,2,   -78.9,2,     2.9,  42.22937335,2,        24.26,2,  1598.6,     15.745,3,    35.1146,2,     -999.0,9,         -999.0,9,  -999.0,9,20131228,       0431
33RO20131223,       A16S,       7,          2,          9,          9,2,20131228,       0313,    -8.9992,   -25.0001,       5691,  1948.5,   3.5536,  34.9569,2,  34.9573,2,    244.1,2,   244.8,2,    22.2,2,    20.3,2,    0.00,2,   1.362,2,   0.227,3,   0.123,3,   0.036,3,  2174.8,2, 2317.25,2,-999.0000,9, -999.00,   7.7205,2,       25,-999.000,9,   3.5542,2,    1.01,2,   -77.8,2,     3.2,  42.17099939,2,        22.78,2,  1948.5,     14.448,3,    35.1222,2,     -999.0,9,         -999.0,9,  -999.0,9,20131228,       0424
33RO20131223,       A16S,       7,          2,          8,          8,2,20131228,       0313,    -8.9992,   -25.0001,       5691,  2347.8,   3.0962,  34.9339,2,  34.9337,2,    245.8,2,   245.4,2,    29.6,2,    20.9,2,    0.00,2,   1.414,2,   0.079,3,   0.041,3,   0.041,3,  2180.6,2, 2305.09,3,-999.0000,9, -999.00,   7.7222,2,       25,-999.000,9,   3.0954,2, -999.00,9,  -999.0,9,  -999.0,  41.13486159,2,        23.41,2,  2347.8,     14.383,3,    35.0985,2,     -999.0,9,         -999.0,9,  -999.0,9,20131228,       0416
33RO20131223,       A16S,       7,          2,          7,          7,2,20131228,       0313,    -8.9992,   -25.0001,       5691,  2747.6,   2.8569,  34.9233,2,  34.9221,2,    247.7,2,   247.1,2,    32.7,2,    21.0,2,    0.00,2,   1.419,2,   0.079,3,   0.042,3,   0.000,3,  2182.8,2, 2308.51,3,-999.0000,9, -999.00,   7.7225,2,       25,-999.000,9,   2.8564,2, -999.00,9,  -999.0,9,  -999.0,  40.62408944,2,        23.44,2,  2747.6,     14.317,3,    35.0868,2,     -999.0,9,         -999.0,9,  -999.0,9,20131228,       0408
33RO20131223,       A16S,       7,          2,          6,          6,2,20131228,       0313,    -8.9992,   -25.0001,       5691,  3247.6,   2.6295,  34.9141,2,  34.9125,2,    252.2,2,   251.6,2,    34.5,2,    20.7,2,    0.00,2,   1.406,2,   0.089,3,   0.048,3,   0.000,3,  2183.1,2, 2329.05,2,-999.0000,9, -999.00,   7.7266,6,       25,-999.000,9,   2.6291,2, -999.00,9,  -999.0,9,  -999.0,        40.54,2,        23.17,2,  3247.6,     14.225,3,    35.0771,2,     -999.0,9,         -999.0,9,  -999.0,9,20131228,       0359
33RO20131223,       A16S,       7,          2,          5,          5,2,20131228,       0313,    -8.9992,   -25.0001,       5691,  3748.4,   2.2454,  34.8810,2,  34.8788,2,    250.4,2,   250.9,2,    45.1,2,    21.8,2,    0.00,2,   1.487,2,   0.071,3,   0.040,3,   0.000,3,  2192.6,2, 2337.33,2,-999.0000,9, -999.00,   7.7168,2,       25,-999.000,9,   2.2441,2, -999.00,9,  -999.0,9,  -999.0,        40.51,2,        24.23,2,  3748.4,     14.595,3,    35.0433,2,     -999.0,9,         -999.0,9,  -999.0,9,20131228,       0350
33RO20131223,       A16S,       7,          2,          4,          4,2,20131228,       0313,    -8.9992,   -25.0001,       5691,  4248.2,   1.3548,  34.7832,2,  34.7845,2,    232.7,2,   233.4,2,    84.3,2,    27.2,2,    0.00,2,   1.908,2,   0.032,3,   0.017,3,   0.024,3,  2233.1,2, 2355.89,6,-999.0000,9, -999.00,   6.6372,4,       25,-999.000,9,   1.3555,2, -999.00,9,  -999.0,9,  -999.0,  40.23006521,2,        29.57,2,  4248.2,     16.603,3,    34.9485,6,     -999.0,9,         -999.0,9,  -999.0,9,20131228,       0341
33RO20131223,       A16S,       7,          2,          3,          3,2,20131228,       0313,    -8.9992,   -25.0001,       5691,  4747.9,   0.8736,  34.7296,2,  34.7276,2,    223.9,2,   224.5,2,   105.1,6,    30.0,6,    0.00,6,   2.128,6,   0.043,3,   0.021,3,   0.034,3,  2253.1,2, 2367.14,2,-999.0000,9, -999.00,    7.646,2,       25,-999.000,9,   0.8737,2, -999.00,9,  -999.0,9,  -999.0,  39.63173211,2,        32.51,2,  4747.9,     17.817,3,    34.8913,2,     -999.0,9,         -999.0,9,  -999.0,9,20131228,       0331
33RO20131223,       A16S,       7,          2,          2,          2,2,20131228,       0313,    -8.9992,   -25.0001,       5691,  5248.4,   0.7702,  34.7126,2,  34.7136,2,    221.8,2,   221.9,2,   111.5,2,    30.8,2,    0.00,2,   2.192,2,   0.073,3,   0.037,3,   0.019,3,  2259.1,2, 2359.59,3,-999.0000,9, -999.00,   7.6262,2,       25,-999.000,9,   0.7704,2, -999.00,9,  -999.0,9,  -999.0,  39.56606141,2,        33.41,2,  5248.4,     18.110,3,    34.8773,2,     -999.0,9,         -999.0,9,  -999.0,9,20131228,       0322
33RO20131223,       A16S,       7,          2,          1,          1,2,20131228,       0313,    -8.9992,   -25.0001,       5691,  5719.4,   0.7712,  34.7056,2,  34.7044,2,    221.7,2,   221.9,2,   114.2,6,    31.1,6,    0.00,6,   2.224,6,   0.110,3,   0.056,3,   0.000,3,  2258.6,2,  2370.1,2,-999.0000,9, -999.00,   7.6312,2,       25,-999.000,9,    0.771,2, -999.00,9,  -999.0,9,  -999.0,  39.82874423,2,        33.68,2,  5719.4,     17.959,3,     34.868,2,     -999.0,9,         -999.0,9,  -999.0,9,20131228,       0313