BOTTLE,20220815CCHSIOAMB
EXPOCODE,SECT_ID,STNNBR,CASTNO,SAMPNO,BTLNBR,BTLNBR_FLAG_W,DATE,TIME,LATITUDE,LONGITUDE,DEPTH,CTDPRS,CTDTMP,CTDSAL,CTDSAL_FLAG_W,SALNTY,SALNTY_FLAG_W,CTDOXY,CTDOXY_FLAG_W,OXYGEN,OXYGEN_FLAG_W,SILCAT,SILCAT_FLAG_W,NITRAT,NITRAT_FLAG_W,NITRIT,NITRIT_FLAG_W,PHSPHT,PHSPHT_FLAG_W,CFC-11,CFC-11_FLAG_W,CFC-12,CFC-12_FLAG_W,SF6,SF6_FLAG_W,TCARBN,TCARBN_FLAG_W,ALKALI,ALKALI_FLAG_W,PCO2,PCO2_FLAG_W,PCO2TMP,PH_SWS,PH_SWS_FLAG_W,PH_TMP,TRITUM,TRITUM_FLAG_W,REFTMP,REFTMP_FLAG_W,DELC13,DELC13_FLAG_W,DELC14,DELC14_FLAG_W,C14ERR,DOC,DOC_FLAG_W,TDN,TDN_FLAG_W,CTDRAW,N2O,N2O_FLAG_W,SALTREF,SALTREF_FLAG_W,HELIUM,HELIUM_FLAG_W,DELO18,DELO18_FLAG_W,CCL4,CCL4_FLAG_W,BTL_DATE,BTL_TIME
,,,,,,,,,,,METERS,DBAR,ITS-90,PSS-78,,PSS-78,,UMOL/KG,,UMOL/KG,,UMOL/KG,,UMOL/KG,,UMOL/KG,,UMOL/KG,,PMOL/KG,,PMOL/KG,,FMOL/KG,,UMOL/KG,,UMOL/KG,,UATM,,DEG C,,,DEG C,TU,,DEG C,,/MILLE,,/MILLE,,/MILLE,UMOL/KG,,UMOL/KG,,DBAR,NMOL/KG,,G/KG,,NMOL/KG,,/MILLE,,PMOL/KG,,,
33RO20131223,       A16S,      84,          1,         24,         24,2,20140121,       0648,   -47.5084,   -32.4574,       5352,     6.3,   6.6375,  33.7863,2,  33.7873,2,      300,2,   300.1,2,     1.3,6,    18.2,6,    0.16,6,   1.287,6,   4.410,2,   2.418,2,   2.497,2,  2107.7,6, 2279.45,2,-999.0000,9, -999.00,   7.7949,2,       25,-999.000,9,   6.6375,2, -999.00,9,  -999.0,9,  -999.0,-999.00000000,9,-999.00000000,9,     6.3,     12.057,2,    33.9466,2,     -999.0,9,         -999.0,9,  -999.0,9,20140121,       0844
33RO20131223,       A16S,      84,          1,         23,         23,2,20140121,       0648,   -47.5084,   -32.4574,       5352,    28.2,   6.6269,  33.7895,2,  33.7896,2,    300.3,2,   300.2,2,     1.3,6,    18.2,6,    0.16,6,   1.286,6,-999.000,9,-999.000,9,-999.000,9,  2106.6,2, 2278.62,2,-999.0000,9, -999.00,   7.7969,6,       25,-999.000,9,   6.6272,2, -999.00,9,  -999.0,9,  -999.0,-999.00000000,9,-999.00000000,9,    28.2,     -999.0,9,    33.9489,2,     -999.0,9,         -999.0,9,  -999.0,9,20140121,       0842
33RO20131223,       A16S,      84,          1,         22,         22,2,20140121,       0648,   -47.5084,   -32.4574,       5352,    63.6,   6.5516,  33.7951,2,-999.0000,9,    302.4,2,  -999.0,9,  -999.0,9,  -999.0,9, -999.00,9,-999.000,9,-999.000,9,-999.000,9,-999.000,9,  -999.0,9, -999.00,9,-999.0000,9, -999.00,-999.0000,9,  -999.00,-999.000,9,   6.5516,2, -999.00,9,  -999.0,9,  -999.0,-999.00000000,9,-999.00000000,9,    63.6,     -999.0,9,     -999.0,9,     -999.0,9,         -999.0,9,  -999.0,9,20140121,       0840
33RO20131223,       A16S,      84,          1,         21,         21,2,20140121,       0648,   -47.5084,   -32.4574,       5352,   113.9,   3.9984,  33.8498,2,  33.8506,2,    312.5,2,   311.3,2,     5.9,6,    20.8,6,    0.26,6,   1.608,6,   5.081,2,   2.766,2,   2.774,2,  2134.7,2, 2280.45,6,-999.0000,9, -999.00,   7.7349,2,       25,-999.000,9,   3.9983,2, -999.00,9,  -999.0,9,  -999.0,-999.00000000,9,-999.00000000,9,   113.9,     13.999,2,    34.0102,2,     -999.0,9,         -999.0,9,  -999.0,9,20140121,       0838
33RO20131223,       A16S,      84,          1,         20,         20,2,20140121,       0648,   -47.5084,   -32.4574,       5352,   183.3,   1.5548,  33.8799,2,  33.8797,2,    320.6,2,   316.6,2,    20.9,6,    26.3,6,    0.27,6,   1.905,6,-999.000,9,-999.000,9,-999.000,9,  2165.8,2, 2283.14,2,-999.0000,9, -999.00,   7.7015,3,       25,-999.000,9,   1.5553,2, -999.00,9,  -999.0,9,  -999.0,-999.00000000,9,-999.00000000,9,   183.3,     -999.0,9,    34.0394,2,     -999.0,9,         -999.0,9,  -999.0,9,20140121,       0836
33RO20131223,       A16S,      84,          1,         19,         19,2,20140121,       0648,   -47.5084,   -32.4574,       5352,   258.7,   1.5115,  34.0401,2,  34.0334,2,    279.8,2,   279.9,2,    31.2,6,    30.1,6,    0.01,6,   2.069,6,-999.000,9,-999.000,9,-999.000,9,    2189,2,  2289.1,2,-999.0000,9, -999.00,    7.639,2,       25,-999.000,9,   1.5107,2, -999.00,9,  -999.0,9,  -999.0,-999.00000000,9,-999.00000000,9,   258.7,     -999.0,9,    34.1939,2,     -999.0,9,         -999.0,9,  -999.0,9,20140121,       0833
33RO20131223,       A16S,      84,          1,         18,         18,2,20140121,       0648,   -47.5084,   -32.4574,       5352,   349.5,   1.9698,  34.2461,2,  34.2450,2,    222.8,2,   223.6,2,    47.0,6,    33.0,6,    0.01,6,   2.262,6,-999.000,9,-999.000,9,-999.000,9,  2221.4,2, 2307.89,2,-999.0000,9, -999.00,   7.5606,2,       25,-999.000,9,   1.9696,2, -999.00,9,  -999.0,9,  -999.0,-999.00000000,9,-999.00000000,9,   349.5,     -999.0,9,    34.4065,2,     -999.0,9,         -999.0,9,  -999.0,9,20140121,       0831
33RO20131223,       A16S,      84,          1,         17,         17,2,20140121,       0648,   -47.5084,   -32.4574,       5352,   449.4,   2.2684,  34.3877,2,  34.3859,2,    191.1,2,   191.9,2,    58.8,6,    34.3,6,    0.01,6,   2.346,6,-999.000,9,-999.000,9,-999.000,9,  2242.3,2, 2319.64,2,-999.0000,9, -999.00,   7.5374,2,       25,-999.000,9,   2.2686,2, -999.00,9,  -999.0,9,  -999.0,-999.00000000,9,-999.00000000,9,   449.4,     -999.0,9,    34.5481,2,     -999.0,9,         -999.0,9,  -999.0,9,20140121,       0828
33RO20131223,       A16S,      84,          1,         16,         16,2,20140121,       0648,   -47.5084,   -32.4574,       5352,     574,   2.2687,  34.4701,2,  34.4689,2,      179,2,     179,2,    66.7,2,    34.5,2,    0.01,2,   2.368,2,   1.300,6,   0.657,2,   0.445,6,  2252.7,2, 2328.19,2,-999.0000,9, -999.00,   7.5287,2,       25,-999.000,9,   2.2691,2, -999.00,9,  -999.0,9,  -999.0,-999.00000000,9,-999.00000000,9,   574.0,     23.221,6,    34.6314,2,     -999.0,9,         -999.0,9,  -999.0,9,20140121,       0825
33RO20131223,       A16S,      84,          1,         15,         15,2,20140121,       0648,   -47.5084,   -32.4574,       5352,   722.7,   2.2737,  34.5583,2,  34.5576,2,    169.8,2,   170.9,2,    73.6,2,    34.1,2,    0.01,2,   2.345,2,-999.000,9,-999.000,9,-999.000,9,  -999.0,9, -999.00,9,-999.0000,9, -999.00,-999.0000,9,  -999.00,-999.000,9,   2.2738,2, -999.00,9,  -999.0,9,  -999.0,-999.00000000,9,-999.00000000,9,   722.7,     -999.0,9,    34.7206,2,     -999.0,9,         -999.0,9,  -999.0,9,20140121,       0821
33RO20131223,       A16S,      84,          1,         14,         14,2,20140121,       0648,   -47.5084,   -32.4574,       5352,   896.1,   2.1892,  34.6205,2,  34.6199,2,    169.5,2,   170.7,2,    79.4,2,    33.5,2,    0.01,2,   2.304,2,-999.000,9,-999.000,9,-999.000,9,  2261.8,6, 2343.68,2,-999.0000,9, -999.00,   7.5435,2,       25,-999.000,9,   2.1893,2, -999.00,9,  -999.0,9,  -999.0,-999.00000000,9,-999.00000000,9,   896.1,     -999.0,9,    34.7831,6,     -999.0,9,         -999.0,9,  -999.0,9,20140121,       0817
33RO20131223,       A16S,      84,          1,         13,         13,2,20140121,       0648,   -47.5084,   -32.4574,       5352,    1118,   2.1457,  34.6850,2,  34.6844,2,    174.5,2,   175.2,2,    82.8,2,    32.2,2,    0.01,2,   2.216,2,   0.252,2,   0.120,2,   0.060,2,  2261.9,2, 2351.73,2,-999.0000,9, -999.00,   7.5662,6,       25,-999.000,9,   2.1457,2, -999.00,9,  -999.0,9,  -999.0,-999.00000000,9,-999.00000000,9,  1118.0,     21.201,2,    34.8479,2,     -999.0,9,         -999.0,9,  -999.0,9,20140121,       0812
33RO20131223,       A16S,      84,          1,         12,         12,2,20140121,       0648,   -47.5084,   -32.4574,       5352,    1352,   1.9698,  34.6988,2,  34.6985,2,    177.6,2,   176.9,2,    88.3,2,    32.1,2,    0.01,2,   2.210,2,-999.000,9,-999.000,9,-999.000,9,    2264,2, 2355.81,6,-999.0000,9, -999.00,   7.5696,2,       25,-999.000,9,   1.9698,2, -999.00,9,  -999.0,9,  -999.0,-999.00000000,9,-999.00000000,9,  1352.0,     -999.0,9,    34.8621,2,     -999.0,9,         -999.0,9,  -999.0,9,20140121,       0807
33RO20131223,       A16S,      84,          1,         11,         11,2,20140121,       0648,   -47.5084,   -32.4574,       5352,  1572.5,   1.7742,  34.7073,2,  34.7058,2,    180.5,2,     181,2,    93.6,2,    32.0,2,    0.01,2,   2.201,2,-999.000,9,-999.000,9,-999.000,9,  -999.0,9, -999.00,9,-999.0000,9, -999.00,-999.0000,9,  -999.00,-999.000,9,   1.7737,2, -999.00,9,  -999.0,9,  -999.0,-999.00000000,9,-999.00000000,9,  1572.5,     -999.0,9,    34.8695,2,     -999.0,9,         -999.0,9,  -999.0,9,20140121,       0801
33RO20131223,       A16S,      84,          1,         10,         10,2,20140121,       0648,   -47.5084,   -32.4574,       5352,  1849.1,   1.6961,  34.7352,2,  34.7345,2,    191.4,2,   192.7,2,    91.8,2,    30.7,2,    0.01,2,   2.108,2,-999.000,9,-999.000,9,-999.000,9,  2256.3,2, 2356.19,2,-999.0000,9, -999.00,   7.5973,2,       25,-999.000,9,   1.6956,2, -999.00,9,  -999.0,9,  -999.0,-999.00000000,9,-999.00000000,9,  1849.1,     -999.0,9,    34.8983,2,     -999.0,9,         -999.0,9,  -999.0,9,20140121,       0755
33RO20131223,       A16S,      84,          1,          9,          9,2,20140121,       0648,   -47.5084,   -32.4574,       5352,  2144.5,   1.4232,  34.7251,2,  34.7250,2,      195,2,   195.5,2,    99.7,2,    31.1,2,    0.01,2,   2.136,2,   0.194,2,   0.094,2,   0.066,2,    2259,2, 2359.89,2,-999.0000,9, -999.00,   7.5949,2,       25,-999.000,9,    1.423,2, -999.00,9,  -999.0,9,  -999.0,-999.00000000,9,-999.00000000,9,  2144.5,     19.295,2,    34.8887,2,     -999.0,9,         -999.0,9,  -999.0,9,20140121,       0749
33RO20131223,       A16S,      84,          1,          8,          8,2,20140121,       0648,   -47.5084,   -32.4574,       5352,  2446.9,   1.2538,  34.7252,2,  34.7249,2,    201.8,2,   201.7,2,   102.3,2,    30.9,2,    0.01,2,   2.125,2,-999.000,9,-999.000,9,-999.000,9,  -999.0,9, -999.00,9,-999.0000,9, -999.00,-999.0000,9,  -999.00,-999.000,9,   1.2534,2, -999.00,9,  -999.0,9,  -999.0,-999.00000000,9,-999.00000000,9,  2446.9,     -999.0,9,    34.8886,2,     -999.0,9,         -999.0,9,  -999.0,9,20140121,       0744
33RO20131223,       A16S,      84,          1,          7,          7,2,20140121,       0648,   -47.5084,   -32.4574,       5352,  2847.6,   0.9481,  34.7082,2,  34.7084,2,      206,2,   204.9,2,   110.2,2,    31.5,2,    0.01,2,   2.166,2,-999.000,9,-999.000,9,-999.000,9,    2260,2, 2360.68,2,-999.0000,9, -999.00,   7.5935,2,       25,-999.000,9,   0.9478,2, -999.00,9,  -999.0,9,  -999.0,-999.00000000,9,-999.00000000,9,  2847.6,     -999.0,9,     34.872,2,     -999.0,9,         -999.0,9,  -999.0,9,20140121,       0736
33RO20131223,       A16S,      84,          1,          6,          6,2,20140121,       0648,   -47.5084,   -32.4574,       5352,  3247.2,   0.6095,  34.6906,2,  34.6905,2,    209.9,2,   211.2,2,   116.5,6,    31.9,6,    0.01,6,   2.200,6,   0.399,2,   0.192,2,   0.104,2,  2261.8,2, 2363.27,2,-999.0000,9, -999.00,   7.5904,2,       25,-999.000,9,   0.6089,2, -999.00,9,  -999.0,9,  -999.0,-999.00000000,9,-999.00000000,9,  3247.2,     18.731,2,    34.8541,2,     -999.0,9,         -999.0,9,  -999.0,9,20140121,       0729
33RO20131223,       A16S,      84,          1,          5,          5,2,20140121,       0648,   -47.5084,   -32.4574,       5352,  3647.5,   0.4006,  34.6805,2,  34.6801,2,    214.9,2,   215.8,2,   120.8,6,    32.1,6,    0.00,6,   2.220,6,-999.000,9,-999.000,9,-999.000,9,  -999.0,9, -999.00,9,-999.0000,9, -999.00,-999.0000,9,  -999.00,-999.000,9,   0.4003,2, -999.00,9,  -999.0,9,  -999.0,-999.00000000,9,-999.00000000,9,  3647.5,     -999.0,9,    34.8436,2,     -999.0,9,         -999.0,9,  -999.0,9,20140121,       0721
33RO20131223,       A16S,      84,          1,          4,          4,2,20140121,       0648,   -47.5084,   -32.4574,       5352,  4046.1,   0.2968,  34.6747,2,  34.6742,2,    218.2,2,   218.3,2,   123.9,6,    32.2,6,    0.01,6,   2.231,6,-999.000,9,-999.000,9,-999.000,9,  2263.9,2, 2365.33,2,-999.0000,9, -999.00,   7.5879,2,       25,-999.000,9,   0.2964,2, -999.00,9,  -999.0,9,  -999.0,-999.00000000,9,-999.00000000,9,  4046.1,     -999.0,9,    34.8377,2,     -999.0,9,         -999.0,9,  -999.0,9,20140121,       0714
33RO20131223,       A16S,      84,          1,          3,          3,2,20140121,       0648,   -47.5084,   -32.4574,       5352,  4446.2,   0.2405,  34.6705,2,  34.6697,2,    221.8,2,   219.9,2,   125.4,6,    32.4,6,    0.01,6,   2.238,6,   0.484,2,   0.228,2,   0.102,2,  2263.9,2, 2365.05,6,-999.0000,9, -999.00,   7.5897,2,       25,-999.000,9,   0.2406,2, -999.00,9,  -999.0,9,  -999.0,-999.00000000,9,-999.00000000,9,  4446.2,     18.300,2,    34.8332,2,     -999.0,9,         -999.0,9,  -999.0,9,20140121,       0706
33RO20131223,       A16S,      84,          1,          2,          2,2,20140121,       0648,   -47.5084,   -32.4574,       5352,  4946.2,   0.2284,  34.6670,2,  34.6659,2,    221.8,2,   221.7,2,   126.3,6,    32.4,6,    0.01,6,   2.240,6,-999.000,9,-999.000,9,-999.000,9,  -999.0,9, -999.00,9,-999.0000,9, -999.00,-999.0000,9,  -999.00,-999.000,9,   0.2284,2, -999.00,9,  -999.0,9,  -999.0,-999.00000000,9,-999.00000000,9,  4946.2,     -999.0,9,    34.8293,2,     -999.0,9,         -999.0,9,  -999.0,9,20140121,       0657
33RO20131223,       A16S,      84,          1,          1,          1,2,20140121,       0648,   -47.5084,   -32.4574,       5352,  5436.8,   0.2024,  34.6623,2,  34.6630,2,      228,2,   227.6,2,   126.0,6,    32.3,6,    0.01,6,   2.238,6,   0.754,2,   0.362,2,   0.177,2,  2262.3,6, 2363.97,2,-999.0000,9, -999.00,   7.5873,2,       25,-999.000,9,   0.2019,2, -999.00,9,  -999.0,9,  -999.0,-999.00000000,9,-999.00000000,9,  5436.8,     18.123,2,    34.8265,6,     -999.0,9,         -999.0,9,  -999.0,9,20140121,       0648