BOTTLE,20220815CCHSIOAMB
EXPOCODE,SECT_ID,STNNBR,CASTNO,SAMPNO,BTLNBR,BTLNBR_FLAG_W,DATE,TIME,LATITUDE,LONGITUDE,DEPTH,CTDPRS,CTDTMP,CTDSAL,CTDSAL_FLAG_W,SALNTY,SALNTY_FLAG_W,CTDOXY,CTDOXY_FLAG_W,OXYGEN,OXYGEN_FLAG_W,SILCAT,SILCAT_FLAG_W,NITRAT,NITRAT_FLAG_W,NITRIT,NITRIT_FLAG_W,PHSPHT,PHSPHT_FLAG_W,CFC-11,CFC-11_FLAG_W,CFC-12,CFC-12_FLAG_W,SF6,SF6_FLAG_W,TCARBN,TCARBN_FLAG_W,ALKALI,ALKALI_FLAG_W,PCO2,PCO2_FLAG_W,PCO2TMP,PH_SWS,PH_SWS_FLAG_W,PH_TMP,TRITUM,TRITUM_FLAG_W,REFTMP,REFTMP_FLAG_W,DELC13,DELC13_FLAG_W,DELC14,DELC14_FLAG_W,C14ERR,DOC,DOC_FLAG_W,TDN,TDN_FLAG_W,CTDRAW,N2O,N2O_FLAG_W,SALTREF,SALTREF_FLAG_W,HELIUM,HELIUM_FLAG_W,DELO18,DELO18_FLAG_W,CCL4,CCL4_FLAG_W,BTL_DATE,BTL_TIME
,,,,,,,,,,,METERS,DBAR,ITS-90,PSS-78,,PSS-78,,UMOL/KG,,UMOL/KG,,UMOL/KG,,UMOL/KG,,UMOL/KG,,UMOL/KG,,PMOL/KG,,PMOL/KG,,FMOL/KG,,UMOL/KG,,UMOL/KG,,UATM,,DEG C,,,DEG C,TU,,DEG C,,/MILLE,,/MILLE,,/MILLE,UMOL/KG,,UMOL/KG,,DBAR,NMOL/KG,,G/KG,,NMOL/KG,,/MILLE,,PMOL/KG,,,
33RO20131223,       A16S,      50,          1,         24,         24,2,20140110,       0657,   -30.5004,   -24.9996,       4675,     3.1,  25.1299,  36.2025,2,  36.2044,2,    208.4,2,   208.9,2,     0.8,2,     0.0,2,    0.00,2,   0.020,2,-999.000,5,-999.000,9,-999.000,9,  2074.5,6, 2376.02,2,-999.0000,9, -999.00,   8.0226,2,       25,-999.000,9,  25.1292,2, -999.00,9,  -999.0,9,  -999.0,-999.00000000,9,-999.00000000,9,     3.1,     -999.0,9,    36.3751,2,     -999.0,9,         -999.0,9,  -999.0,9,20140110,       0841
33RO20131223,       A16S,      50,          1,         23,         23,2,20140110,       0657,   -30.5004,   -24.9996,       4675,    28.2,  22.9677,  36.4451,2,  36.4576,2,    222.7,2,   224.1,2,     0.9,2,     0.0,2,    0.00,2,   0.060,2,-999.000,5,-999.000,9,-999.000,9,  2086.6,2, 2392.63,2,-999.0000,9, -999.00,    8.023,6,       25,-999.000,9,  22.9757,2, -999.00,9,  -999.0,9,  -999.0,-999.00000000,9,-999.00000000,9,    28.2,     -999.0,9,    36.6296,2,     -999.0,9,         -999.0,9,  -999.0,9,20140110,       0839
33RO20131223,       A16S,      50,          1,         22,         22,2,20140110,       0657,   -30.5004,   -24.9996,       4675,    67.6,  21.0702,  36.3567,2,  36.3616,2,    228.2,2,   229.1,2,     0.9,2,     0.0,2,    0.00,2,   0.060,2,-999.000,5,-999.000,9,-999.000,9,  2085.1,2,  2387.2,6,-999.0000,9, -999.00,    8.017,2,       25,-999.000,9,  21.0674,2, -999.00,9,  -999.0,9,  -999.0,-999.00000000,9,-999.00000000,9,    67.6,     -999.0,9,    36.5331,2,     -999.0,9,         -999.0,9,  -999.0,9,20140110,       0837
33RO20131223,       A16S,      50,          1,         21,         21,2,20140110,       0657,   -30.5004,   -24.9996,       4675,   108.7,  20.5481,  36.3774,2,  36.3731,2,    222.9,2,     223,2,     0.9,2,     0.0,2,    0.00,2,   0.097,2,-999.000,5,-999.000,9,-999.000,9,  2093.4,2, 2387.89,2,-999.0000,9, -999.00,   8.0068,2,       25,-999.000,9,  20.5477,2, -999.00,9,  -999.0,9,  -999.0,-999.00000000,9,-999.00000000,9,   108.7,     -999.0,9,    36.5446,2,     -999.0,9,         -999.0,9,  -999.0,9,20140110,       0834
33RO20131223,       A16S,      50,          1,         20,         20,2,20140110,       0657,   -30.5004,   -24.9996,       4675,   172.7,  17.7493,  35.9100,2,  35.9071,2,    212.1,2,   211.3,2,     1.3,2,     1.4,2,    0.04,2,   0.277,2,-999.000,5,-999.000,9,-999.000,9,  -999.0,9, -999.00,9,-999.0000,9, -999.00,-999.0000,9,  -999.00,-999.000,9,  17.7502,2, -999.00,9,  -999.0,9,  -999.0,-999.00000000,9,-999.00000000,9,   172.7,     -999.0,9,    36.0764,2,     -999.0,9,         -999.0,9,  -999.0,9,20140110,       0832
33RO20131223,       A16S,      50,          1,         19,         19,2,20140110,       0657,   -30.5004,   -24.9996,       4675,   257.8,  15.2842,  35.5211,2,  35.5175,2,    211.2,2,   210.1,2,     2.0,2,     5.2,2,    0.01,2,   0.488,2,-999.000,5,-999.000,9,-999.000,9,  2115.1,2, 2333.63,2,-999.0000,9, -999.00,   7.8892,2,       25,-999.000,9,  15.2854,2, -999.00,9,  -999.0,9,  -999.0,-999.00000000,9,-999.00000000,9,   257.8,     -999.0,9,    35.6849,2,     -999.0,9,         -999.0,9,  -999.0,9,20140110,       0830
33RO20131223,       A16S,      50,          1,         18,         18,2,20140110,       0657,   -30.5004,   -24.9996,       4675,   367.9,  13.2792,  35.2530,2,  35.2532,2,    212.1,2,   211.1,2,     3.1,2,     9.4,2,    0.01,2,   0.730,2,-999.000,5,-999.000,9,-999.000,9,  2126.4,2,    2320,2,-999.0000,9, -999.00,   7.8363,2,       25,-999.000,9,  13.2841,2, -999.00,9,  -999.0,9,  -999.0,-999.00000000,9,-999.00000000,9,   367.9,     -999.0,9,    35.4194,2,     -999.0,9,         -999.0,9,  -999.0,9,20140110,       0827
33RO20131223,       A16S,      50,          1,         17,         17,2,20140110,       0657,   -30.5004,   -24.9996,       4675,   467.1,  11.8062,  35.0633,2,  35.0534,2,    210.1,2,   211.6,2,     4.3,2,    12.9,2,    0.01,2,   0.948,2,-999.000,5,-999.000,9,-999.000,9,  2136.5,2, 2310.67,2,-999.0000,9, -999.00,   7.7903,2,       25,-999.000,9,  11.8062,2, -999.00,9,  -999.0,9,  -999.0,-999.00000000,9,-999.00000000,9,   467.1,     -999.0,9,    35.2187,2,     -999.0,9,         -999.0,9,  -999.0,9,20140110,       0824
33RO20131223,       A16S,      50,          1,         16,         16,2,20140110,       0657,   -30.5004,   -24.9996,       4675,   598.6,   9.0090,  34.6835,2,  34.6715,2,    208.6,2,   208.2,2,     8.0,2,    20.0,2,    0.00,2,   1.389,2,-999.000,5,-999.000,9,-999.000,9,  2155.7,2, 2293.21,2,-999.0000,9, -999.00,   7.7113,2,       25,-999.000,9,   8.9805,2, -999.00,9,  -999.0,9,  -999.0,-999.00000000,9,-999.00000000,9,   598.6,     -999.0,9,    34.8349,2,     -999.0,9,         -999.0,9,  -999.0,9,20140110,       0821
33RO20131223,       A16S,      50,          1,         15,         15,2,20140110,       0657,   -30.5004,   -24.9996,       4675,   772.6,   5.6683,  34.3279,2,  34.3272,2,    224.7,2,   225.2,2,    14.5,2,    26.3,2,    0.00,2,   1.796,2,-999.000,5,-999.000,9,-999.000,9,  2170.2,2, 2282.69,2,-999.0000,9, -999.00,   7.6559,2,       25,-999.000,9,   5.6731,2, -999.00,9,  -999.0,9,  -999.0,-999.00000000,9,-999.00000000,9,   772.6,     -999.0,9,     34.489,2,     -999.0,9,         -999.0,9,  -999.0,9,20140110,       0817
33RO20131223,       A16S,      50,          1,         14,         14,2,20140110,       0657,   -30.5004,   -24.9996,       4675,   922.8,   4.3909,  34.2559,2,  34.2566,2,    231.5,2,   230.4,2,    21.1,2,    28.7,2,    0.00,2,   1.958,2,-999.000,5,-999.000,9,-999.000,9,  -999.0,9, -999.00,9,-999.0000,9, -999.00,-999.0000,9,  -999.00,-999.000,9,   4.3901,2, -999.00,9,  -999.0,9,  -999.0,-999.00000000,9,-999.00000000,9,   922.8,     -999.0,9,    34.4182,2,     -999.0,9,         -999.0,9,  -999.0,9,20140110,       0813
33RO20131223,       A16S,      50,          1,         13,         13,2,20140110,       0657,   -30.5004,   -24.9996,       4675,  1098.2,   3.5185,  34.3113,2,  34.3125,2,    211.6,2,   211.9,2,    34.8,2,    31.2,2,    0.00,2,   2.142,2,-999.000,5,-999.000,9,-999.000,9,  2204.9,2,  2299.5,2,-999.0000,9, -999.00,      7.6,2,       25,-999.000,9,   3.5185,2, -999.00,9,  -999.0,9,  -999.0,-999.00000000,9,-999.00000000,9,  1098.2,     -999.0,9,    34.4743,6,     -999.0,9,         -999.0,9,  -999.0,9,20140110,       0809
33RO20131223,       A16S,      50,          1,         12,         12,2,20140110,       0657,   -30.5004,   -24.9996,       4675,  1273.1,   3.2181,  34.4400,2,  34.4403,2,    189.8,2,   190.3,2,    47.1,2,    32.2,2,    0.00,2,   2.215,2,-999.000,5,-999.000,9,-999.000,9,  2224.7,2, 2315.85,6,-999.0000,9, -999.00,   7.5777,2,       25,-999.000,9,   3.2182,2, -999.00,9,  -999.0,9,  -999.0,-999.00000000,9,-999.00000000,9,  1273.1,     -999.0,9,    34.6027,2,     -999.0,9,         -999.0,9,  -999.0,9,20140110,       0805
33RO20131223,       A16S,      50,          1,         11,         11,2,20140110,       0657,   -30.5004,   -24.9996,       4675,  1447.6,   2.9957,  34.5530,2,  34.5540,2,    185.6,2,   186.5,2,    52.8,2,    31.5,2,    0.00,2,   2.165,2,-999.000,5,-999.000,9,-999.000,9,  2231.9,6, 2320.92,2,-999.0000,9, -999.00,   7.5813,2,       25,-999.000,9,   2.9956,2, -999.00,9,  -999.0,9,  -999.0,-999.00000000,9,-999.00000000,9,  1447.6,     -999.0,9,    34.7169,2,     -999.0,9,         -999.0,9,  -999.0,9,20140110,       0802
33RO20131223,       A16S,      50,          1,         10,         10,2,20140110,       0657,   -30.5004,   -24.9996,       4675,  1667.2,   2.8726,  34.6698,2,  34.6695,2,      193,2,   193.1,2,    53.2,2,    29.6,2,    0.00,2,   2.019,2,-999.000,5,-999.000,9,-999.000,9,  2228.2,2, 2327.17,2,-999.0000,9, -999.00,   7.6062,2,       25,-999.000,9,   2.8724,2, -999.00,9,  -999.0,9,  -999.0,-999.00000000,9,-999.00000000,9,  1667.2,     -999.0,9,     34.833,2,     -999.0,9,         -999.0,9,  -999.0,9,20140110,       0757
33RO20131223,       A16S,      50,          1,          9,          9,2,20140110,       0657,   -30.5004,   -24.9996,       4675,    1897,   2.7596,  34.7556,2,  34.7556,2,      206,2,   206.8,2,    50.9,2,    27.2,2,    0.00,2,   1.854,2,-999.000,5,-999.000,9,-999.000,9,  2218.6,2, 2333.83,2,-999.0000,9, -999.00,   7.6411,2,       25,-999.000,9,   2.7594,2, -999.00,9,  -999.0,9,  -999.0,-999.00000000,9,-999.00000000,9,  1897.0,     -999.0,9,    34.9195,2,     -999.0,9,         -999.0,9,  -999.0,9,20140110,       0752
33RO20131223,       A16S,      50,          1,          8,          8,2,20140110,       0657,   -30.5004,   -24.9996,       4675,  2238.1,   2.6930,  34.8220,2,  34.8217,2,    223.1,2,   222.1,2,    46.4,2,    24.9,2,    0.00,2,   1.687,2,-999.000,5,-999.000,9,-999.000,9,  -999.0,9, -999.00,9,-999.0000,9, -999.00,-999.0000,9,  -999.00,-999.000,9,   2.6933,2, -999.00,9,  -999.0,9,  -999.0,-999.00000000,9,-999.00000000,9,  2238.1,     -999.0,9,    34.9859,2,     -999.0,9,         -999.0,9,  -999.0,9,20140110,       0745
33RO20131223,       A16S,      50,          1,          7,          7,2,20140110,       0657,   -30.5004,   -24.9996,       4675,  2547.6,   2.6935,  34.8617,2,  34.8626,2,    234.1,2,   233.4,2,    42.0,2,    23.3,2,    0.00,2,   1.571,2,-999.000,5,-999.000,9,-999.000,9,  2196.3,2, 2332.48,2,-999.0000,9, -999.00,   7.6937,2,       25,-999.000,9,   2.6936,2, -999.00,9,  -999.0,9,  -999.0,-999.00000000,9,-999.00000000,9,  2547.6,     -999.0,9,     35.027,2,     -999.0,9,         -999.0,9,  -999.0,9,20140110,       0739
33RO20131223,       A16S,      50,          1,          6,          6,2,20140110,       0657,   -30.5004,   -24.9996,       4675,  2848.6,   2.6954,  34.8896,2,  34.8899,2,    242.3,2,   241.9,2,    38.1,2,    22.1,2,    0.00,2,   1.482,2,-999.000,5,-999.000,9,-999.000,9,  -999.0,9, -999.00,9,-999.0000,9, -999.00,-999.0000,9,  -999.00,-999.000,9,   2.6956,2, -999.00,9,  -999.0,9,  -999.0,-999.00000000,9,-999.00000000,9,  2848.6,     -999.0,9,    35.0545,2,     -999.0,9,         -999.0,9,  -999.0,9,20140110,       0733
33RO20131223,       A16S,      50,          1,          5,          5,2,20140110,       0657,   -30.5004,   -24.9996,       4675,  3147.2,   2.5938,  34.8943,2,  34.8955,2,    245.5,2,   245.7,2,    39.1,2,    21.9,2,    0.00,2,   1.466,2,-999.000,5,-999.000,9,-999.000,9,  2187.2,2, 2331.25,2,-999.0000,9, -999.00,   7.7148,6,       25,-999.000,9,   2.5938,2, -999.00,9,  -999.0,9,  -999.0,-999.00000000,9,-999.00000000,9,  3147.2,     -999.0,9,      35.06,2,     -999.0,9,         -999.0,9,  -999.0,9,20140110,       0727
33RO20131223,       A16S,      50,          1,          4,          4,2,20140110,       0657,   -30.5004,   -24.9996,       4675,  3547.2,   2.1780,  34.8614,2,  34.8628,2,    241.9,2,   242.7,2,    52.1,2,    23.3,2,    0.00,2,   1.575,2,   0.018,3,   0.004,6,   0.128,6,  -999.0,9, -999.00,9,-999.0000,9, -999.00,-999.0000,9,  -999.00,-999.000,9,   2.1783,2, -999.00,9,  -999.0,9,  -999.0,-999.00000000,9,-999.00000000,9,  3547.2,     14.341,6,    35.0272,2,     -999.0,9,         -999.0,9,  -999.0,9,20140110,       0720
33RO20131223,       A16S,      50,          1,          3,          3,2,20140110,       0657,   -30.5004,   -24.9996,       4675,    3947,   1.5524,  34.7935,2,  34.7940,2,    231.5,2,   231.3,2,    77.2,2,    26.7,2,    0.00,2,   1.822,2,   0.055,3,   0.022,2,   0.135,2,  2226.1,2, 2350.07,6,-999.0000,9, -999.00,   7.6635,2,       25,-999.000,9,   1.5534,2, -999.00,9,  -999.0,9,  -999.0,-999.00000000,9,-999.00000000,9,  3947.0,     15.654,2,    34.9581,2,     -999.0,9,         -999.0,9,  -999.0,9,20140110,       0712
33RO20131223,       A16S,      50,          1,          2,          2,2,20140110,       0657,   -30.5004,   -24.9996,       4675,  4347.3,   1.2912,  34.7610,2,  34.7621,2,    225.1,2,   225.3,2,    89.3,2,    28.4,2,    0.00,2,   1.940,2,   0.096,3,   0.043,6,   0.093,6,  -999.0,9, -999.00,9,-999.0000,9, -999.00,-999.0000,9,  -999.00,-999.000,9,   1.2916,2, -999.00,9,  -999.0,9,  -999.0,-999.00000000,9,-999.00000000,9,  4347.3,     16.646,6,    34.9261,2,     -999.0,9,         -999.0,9,  -999.0,9,20140110,       0705
33RO20131223,       A16S,      50,          1,          1,          1,2,20140110,       0657,   -30.5004,   -24.9996,       4675,  4739.4,   1.2517,  34.7510,2,  34.7535,2,      224,2,   224.4,2,    93.0,2,    28.9,2,    0.00,2,   1.974,2,   0.117,3,   0.053,6,   0.088,6,  2243.8,6, 2359.44,2,-999.0000,9, -999.00,   7.6379,2,       25,-999.000,9,   1.2516,2, -999.00,9,  -999.0,9,  -999.0,-999.00000000,9,-999.00000000,9,  4739.4,     16.802,6,    34.9174,2,     -999.0,9,         -999.0,9,  -999.0,9,20140110,       0657