BOTTLE,20220815CCHSIOAMB
EXPOCODE,SECT_ID,STNNBR,CASTNO,SAMPNO,BTLNBR,BTLNBR_FLAG_W,DATE,TIME,LATITUDE,LONGITUDE,DEPTH,CTDPRS,CTDTMP,CTDSAL,CTDSAL_FLAG_W,SALNTY,SALNTY_FLAG_W,CTDOXY,CTDOXY_FLAG_W,OXYGEN,OXYGEN_FLAG_W,SILCAT,SILCAT_FLAG_W,NITRAT,NITRAT_FLAG_W,NITRIT,NITRIT_FLAG_W,PHSPHT,PHSPHT_FLAG_W,CFC-11,CFC-11_FLAG_W,CFC-12,CFC-12_FLAG_W,SF6,SF6_FLAG_W,TCARBN,TCARBN_FLAG_W,ALKALI,ALKALI_FLAG_W,PCO2,PCO2_FLAG_W,PCO2TMP,PH_SWS,PH_SWS_FLAG_W,PH_TMP,TRITUM,TRITUM_FLAG_W,REFTMP,REFTMP_FLAG_W,DELC13,DELC13_FLAG_W,DELC14,DELC14_FLAG_W,C14ERR,DOC,DOC_FLAG_W,TDN,TDN_FLAG_W,CTDRAW,N2O,N2O_FLAG_W,SALTREF,SALTREF_FLAG_W,HELIUM,HELIUM_FLAG_W,DELO18,DELO18_FLAG_W,CCL4,CCL4_FLAG_W,BTL_DATE,BTL_TIME
,,,,,,,,,,,METERS,DBAR,ITS-90,PSS-78,,PSS-78,,UMOL/KG,,UMOL/KG,,UMOL/KG,,UMOL/KG,,UMOL/KG,,UMOL/KG,,PMOL/KG,,PMOL/KG,,FMOL/KG,,UMOL/KG,,UMOL/KG,,UATM,,DEG C,,,DEG C,TU,,DEG C,,/MILLE,,/MILLE,,/MILLE,UMOL/KG,,UMOL/KG,,DBAR,NMOL/KG,,G/KG,,NMOL/KG,,/MILLE,,PMOL/KG,,,
33RO20131223,       A16S,      52,          1,         24,         24,2,20140110,       2031,   -31.5004,   -25.0003,       4494,     3.3,  23.9809,  35.8964,2,  35.9005,2,    212.4,2,     214,2,     0.8,2,     0.0,2,    0.00,2,   0.043,2,-999.000,5,-999.000,9,-999.000,9,  2063.5,6, 2356.88,2,-999.0000,9, -999.00,   8.0115,2,       25,-999.000,9,  23.9943,2, -999.00,9,  -999.0,9,  -999.0,-999.00000000,9,-999.00000000,9,     3.3,     -999.0,9,    36.0698,2,     -999.0,9,         -999.0,9,  -999.0,9,20140110,       2211
33RO20131223,       A16S,      52,          1,         23,         23,2,20140110,       2031,   -31.5004,   -25.0003,       4494,    27.5,  21.8544,  36.2069,2,  36.2334,2,    228.7,2,   230.1,2,     0.9,2,     0.0,2,    0.00,2,   0.040,2,-999.000,5,-999.000,9,-999.000,9,  2074.9,2, 2380.88,6,-999.0000,9, -999.00,   8.0184,2,       25,-999.000,9,  21.8393,2, -999.00,9,  -999.0,9,  -999.0,-999.00000000,9,-999.00000000,9,    27.5,     -999.0,9,    36.4042,2,     -999.0,9,         -999.0,9,  -999.0,9,20140110,       2210
33RO20131223,       A16S,      52,          1,         22,         22,2,20140110,       2031,   -31.5004,   -25.0003,       4494,    62.7,  20.5734,  36.2695,2,  36.2648,2,    230.5,2,   230.8,2,     0.9,2,     0.0,2,    0.00,2,   0.066,2,-999.000,5,-999.000,9,-999.000,9,  2080.1,2, 2380.83,2,-999.0000,9, -999.00,   8.0133,6,       25,-999.000,9,  20.5736,2, -999.00,9,  -999.0,9,  -999.0,-999.00000000,9,-999.00000000,9,    62.7,     -999.0,9,    36.4358,2,     -999.0,9,         -999.0,9,  -999.0,9,20140110,       2207
33RO20131223,       A16S,      52,          1,         21,         21,2,20140110,       2031,   -31.5004,   -25.0003,       4494,   112.1,  18.3506,  35.9304,2,  35.9142,2,    225.7,2,   226.1,2,     1.0,2,     0.1,2,    0.01,2,   0.134,2,-999.000,5,-999.000,9,-999.000,9,  2087.9,2, 2357.58,2,-999.0000,9, -999.00,   7.9715,2,       25,-999.000,9,  18.3503,2, -999.00,9,  -999.0,9,  -999.0,-999.00000000,9,-999.00000000,9,   112.1,     -999.0,9,    36.0835,2,     -999.0,9,         -999.0,9,  -999.0,9,20140110,       2205
33RO20131223,       A16S,      52,          1,         20,         20,2,20140110,       2031,   -31.5004,   -25.0003,       4494,   182.8,  16.1202,  35.6528,2,  35.6383,2,    208.7,2,     209,2,     1.9,2,     4.0,2,    0.01,2,   0.420,2,-999.000,5,-999.000,9,-999.000,9,  2110.6,2, 2345.37,2,-999.0000,9, -999.00,   7.9035,2,       25,-999.000,9,  16.1217,2, -999.00,9,  -999.0,9,  -999.0,-999.00000000,9,-999.00000000,9,   182.8,     -999.0,9,    35.8063,2,     -999.0,9,         -999.0,9,  -999.0,9,20140110,       2203
33RO20131223,       A16S,      52,          1,         19,         19,2,20140110,       2031,   -31.5004,   -25.0003,       4494,   258.2,  14.4562,  35.4126,2,  35.4119,2,    210.1,2,   210.3,2,     2.4,2,     6.8,2,    0.01,2,   0.576,2,-999.000,5,-999.000,9,-999.000,9,    2117,2, 2332.76,2,-999.0000,9, -999.00,   7.8691,2,       25,-999.000,9,  14.4535,2, -999.00,9,  -999.0,9,  -999.0,-999.00000000,9,-999.00000000,9,   258.2,     -999.0,9,    35.5789,2,     -999.0,9,         -999.0,9,  -999.0,9,20140110,       2200
33RO20131223,       A16S,      52,          1,         18,         18,2,20140110,       2031,   -31.5004,   -25.0003,       4494,   347.4,  13.1058,  35.2466,2,  35.2501,2,    212.1,2,   213.2,2,     3.2,2,     9.6,2,    0.00,2,   0.737,2,-999.000,5,-999.000,9,-999.000,9,    2126,2, 2321.18,2,-999.0000,9, -999.00,   7.8351,2,       25,-999.000,9,  13.1044,2, -999.00,9,  -999.0,9,  -999.0,-999.00000000,9,-999.00000000,9,   347.4,     -999.0,9,    35.4163,2,     -999.0,9,         -999.0,9,  -999.0,9,20140110,       2158
33RO20131223,       A16S,      52,          1,         17,         17,2,20140110,       2031,   -31.5004,   -25.0003,       4494,   447.7,  11.6423,  35.0403,2,  35.0391,2,      213,2,   211.8,2,     4.5,2,    13.1,2,    0.00,2,   0.953,2,-999.000,5,-999.000,9,-999.000,9,  2135.9,2, 2309.63,2,-999.0000,9, -999.00,   7.7964,2,       25,-999.000,9,   11.625,2, -999.00,9,  -999.0,9,  -999.0,-999.00000000,9,-999.00000000,9,   447.7,     -999.0,9,    35.2043,2,     -999.0,9,         -999.0,9,  -999.0,9,20140110,       2155
33RO20131223,       A16S,      52,          1,         16,         16,2,20140110,       2031,   -31.5004,   -25.0003,       4494,   571.9,   9.6668,  34.7684,2,  34.7651,2,    208.7,2,     207,2,     7.2,2,    18.3,2,    0.00,2,   1.277,2,-999.000,5,-999.000,9,-999.000,9,  2148.8,2, 2302.33,2,-999.0000,9, -999.00,   7.7367,2,       25,-999.000,9,   9.6731,2, -999.00,9,  -999.0,9,  -999.0,-999.00000000,9,-999.00000000,9,   571.9,     -999.0,9,     34.928,2,     -999.0,9,         -999.0,9,  -999.0,9,20140110,       2152
33RO20131223,       A16S,      52,          1,         15,         15,2,20140110,       2031,   -31.5004,   -25.0003,       4494,   722.6,   6.6756,  34.4311,2,  34.4310,2,    214.6,2,   213.6,2,    13.3,2,    25.0,2,    0.00,2,   1.700,2,-999.000,5,-999.000,9,-999.000,9,  2167.8,2, 2288.57,2,-999.0000,9, -999.00,   7.6665,2,       25,-999.000,9,   6.6806,2, -999.00,9,  -999.0,9,  -999.0,-999.00000000,9,-999.00000000,9,   722.6,     -999.0,9,    34.5933,2,     -999.0,9,         -999.0,9,  -999.0,9,20140110,       2148
33RO20131223,       A16S,      52,          1,         14,         14,2,20140110,       2031,   -31.5004,   -25.0003,       4494,   871.9,   4.9269,  34.2964,2,  34.2966,2,    223.5,2,   223.1,2,    19.8,2,    28.1,2,    0.00,2,   1.913,2,-999.000,5,-999.000,9,-999.000,9,  -999.0,9, -999.00,9,-999.0000,9, -999.00,-999.0000,9,  -999.00,-999.000,9,   4.9249,2, -999.00,9,  -999.0,9,  -999.0,-999.00000000,9,-999.00000000,9,   871.9,     -999.0,9,    34.4583,2,     -999.0,9,         -999.0,9,  -999.0,9,20140110,       2145
33RO20131223,       A16S,      52,          1,         13,         13,2,20140110,       2031,   -31.5004,   -25.0003,       4494,    1048,   3.7514,  34.2943,2,  34.2940,2,    216.9,2,     216,2,    31.6,2,    30.9,2,    0.00,2,   2.097,2,-999.000,5,-999.000,9,-999.000,9,  2197.6,2, 2298.26,6,-999.0000,9, -999.00,   7.6083,2,       25,-999.000,9,   3.7573,2, -999.00,9,  -999.0,9,  -999.0,-999.00000000,9,-999.00000000,9,  1048.0,     -999.0,9,    34.4557,2,     -999.0,9,         -999.0,9,  -999.0,9,20140110,       2141
33RO20131223,       A16S,      52,          1,         12,         12,2,20140110,       2031,   -31.5004,   -25.0003,       4494,  1248.6,   3.2132,  34.4086,2,  34.4102,2,    194.3,2,   194.3,2,    46.5,2,    32.5,2,    0.00,2,   2.215,2,-999.000,5,-999.000,9,-999.000,9,    2222,2, 2310.91,2,-999.0000,9, -999.00,   7.5784,2,       25,-999.000,9,   3.2121,2, -999.00,9,  -999.0,9,  -999.0,-999.00000000,9,-999.00000000,9,  1248.6,     -999.0,9,    34.5724,2,     -999.0,9,         -999.0,9,  -999.0,9,20140110,       2136
33RO20131223,       A16S,      52,          1,         11,         11,2,20140110,       2031,   -31.5004,   -25.0003,       4494,    1467,   3.0122,  34.5533,2,  34.5530,2,    184.6,2,   185.5,2,    54.1,2,    31.9,2,    0.00,2,   2.172,2,-999.000,5,-999.000,9,-999.000,9,  2230.2,6, 2323.43,2,-999.0000,9, -999.00,   7.5802,2,       25,-999.000,9,   3.0126,2, -999.00,9,  -999.0,9,  -999.0,-999.00000000,9,-999.00000000,9,  1467.0,     -999.0,9,     34.716,2,     -999.0,9,         -999.0,9,  -999.0,9,20140110,       2132
33RO20131223,       A16S,      52,          1,         10,         10,2,20140110,       2031,   -31.5004,   -25.0003,       4494,  1649.1,   2.8623,  34.6520,2,  34.6506,2,    189.8,2,   190.4,2,    55.8,2,    30.5,2,    0.00,2,   2.064,2,-999.000,5,-999.000,9,-999.000,9,  2230.4,2, 2326.92,2,-999.0000,9, -999.00,   7.5996,2,       25,-999.000,9,   2.8632,2, -999.00,9,  -999.0,9,  -999.0,-999.00000000,9,-999.00000000,9,  1649.1,     -999.0,9,     34.814,2,     -999.0,9,         -999.0,9,  -999.0,9,20140110,       2128
33RO20131223,       A16S,      52,          1,          9,          9,2,20140110,       2031,   -31.5004,   -25.0003,       4494,  1848.3,   2.8022,  34.7358,2,  34.7350,2,    201.5,2,   202.3,2,    53.2,2,    28.2,2,    0.00,2,   1.906,2,-999.000,5,-999.000,9,-999.000,9,  -999.0,9, -999.00,9,-999.0000,9, -999.00,-999.0000,9,  -999.00,-999.000,9,   2.8024,2, -999.00,9,  -999.0,9,  -999.0,-999.00000000,9,-999.00000000,9,  1848.3,     -999.0,9,    34.8987,2,     -999.0,9,         -999.0,9,  -999.0,9,20140110,       2123
33RO20131223,       A16S,      52,          1,          8,          8,2,20140110,       2031,   -31.5004,   -25.0003,       4494,  2047.7,   2.7586,  34.7931,2,  34.7932,2,    214.1,2,   214.4,2,    50.1,2,    26.3,2,    0.00,2,   1.777,2,-999.000,5,-999.000,9,-999.000,9,  -999.0,9, -999.00,9,-999.0000,9, -999.00,-999.0000,9,  -999.00,-999.000,9,   2.7585,2, -999.00,9,  -999.0,9,  -999.0,-999.00000000,9,-999.00000000,9,  2047.7,     -999.0,9,    34.9572,2,     -999.0,9,         -999.0,9,  -999.0,9,20140110,       2119
33RO20131223,       A16S,      52,          1,          7,          7,2,20140110,       2031,   -31.5004,   -25.0003,       4494,  2297.3,   2.7223,  34.8321,2,  34.8325,2,    225.2,2,   224.8,2,    46.3,2,    24.8,2,    0.00,2,   1.667,2,-999.000,5,-999.000,9,-999.000,9,  2202.9,2, 2329.98,2,-999.0000,9, -999.00,   7.6781,2,       25,-999.000,9,   2.7223,2, -999.00,9,  -999.0,9,  -999.0,-999.00000000,9,-999.00000000,9,  2297.3,     -999.0,9,    34.9967,2,     -999.0,9,         -999.0,9,  -999.0,9,20140110,       2114
33RO20131223,       A16S,      52,          1,          6,          6,2,20140110,       2031,   -31.5004,   -25.0003,       4494,  2596.8,   2.7200,  34.8711,2,  34.8720,2,    236.2,2,   235.6,2,    41.6,2,    23.1,2,    0.00,2,   1.551,2,-999.000,5,-999.000,9,-999.000,9,  -999.0,9, -999.00,9,-999.0000,9, -999.00,-999.0000,9,  -999.00,-999.000,9,   2.7198,2, -999.00,9,  -999.0,9,  -999.0,-999.00000000,9,-999.00000000,9,  2596.8,     -999.0,9,    35.0365,2,     -999.0,9,         -999.0,9,  -999.0,9,20140110,       2108
33RO20131223,       A16S,      52,          1,          5,          5,2,20140110,       2031,   -31.5004,   -25.0003,       4494,    2947,   2.6823,  34.8935,2,  34.8942,2,    244.3,2,   243.6,2,    38.6,2,    22.1,2,    0.00,2,   1.476,2,-999.000,5,-999.000,9,-999.000,9,  2186.8,2, 2332.51,2,-999.0000,9, -999.00,   7.7136,6,       25,-999.000,9,   2.6822,2, -999.00,9,  -999.0,9,  -999.0,-999.00000000,9,-999.00000000,9,  2947.0,     -999.0,9,    35.0587,6,     -999.0,9,         -999.0,9,  -999.0,9,20140110,       2101
33RO20131223,       A16S,      52,          1,          4,          4,2,20140110,       2031,   -31.5004,   -25.0003,       4494,  3345.9,   2.4417,  34.8835,2,  34.8834,2,    245.2,2,   245.1,2,    44.4,6,    22.3,6,    0.00,6,   1.505,6,-999.000,5,-999.000,9,-999.000,9,  -999.0,9, -999.00,9,-999.0000,9, -999.00,-999.0000,9,  -999.00,-999.000,9,    2.442,2, -999.00,9,  -999.0,9,  -999.0,-999.00000000,9,-999.00000000,9,  3345.9,     -999.0,9,    35.0478,2,     -999.0,9,         -999.0,9,  -999.0,9,20140110,       2054
33RO20131223,       A16S,      52,          1,          3,          3,2,20140110,       2031,   -31.5004,   -25.0003,       4494,  3746.7,   1.8677,  34.8261,2,  34.8258,2,    235.9,2,   235.9,2,    66.4,6,    25.2,6,    0.00,6,   1.709,6,-999.000,5,-999.000,9,-999.000,9,  2217.7,2, 2344.19,6,-999.0000,9, -999.00,   7.6816,2,       25,-999.000,9,   1.8677,2, -999.00,9,  -999.0,9,  -999.0,-999.00000000,9,-999.00000000,9,  3746.7,     -999.0,9,    34.9901,2,     -999.0,9,         -999.0,9,  -999.0,9,20140110,       2046
33RO20131223,       A16S,      52,          1,          2,          2,2,20140110,       2031,   -31.5004,   -25.0003,       4494,  4146.5,   1.3293,  34.7663,2,  34.7657,2,    225.6,2,   225.6,2,    88.8,6,    28.2,6,    0.00,6,   1.925,6,-999.000,5,-999.000,9,-999.000,9,  -999.0,9, -999.00,9,-999.0000,9, -999.00,-999.0000,9,  -999.00,-999.000,9,   1.3302,2, -999.00,9,  -999.0,9,  -999.0,-999.00000000,9,-999.00000000,9,  4146.5,     -999.0,9,    34.9296,2,     -999.0,9,         -999.0,9,  -999.0,9,20140110,       2039
33RO20131223,       A16S,      52,          1,          1,          1,2,20140110,       2031,   -31.5004,   -25.0003,       4494,  4560.1,   1.2172,  34.7486,2,  34.7486,2,    223.6,2,   223.4,2,    95.3,6,    29.1,6,    0.00,6,   1.984,6,-999.000,5,-999.000,9,-999.000,9,  2243.9,6, 2359.72,2,-999.0000,9, -999.00,   7.6381,2,       25,-999.000,9,    1.217,2, -999.00,9,  -999.0,9,  -999.0,-999.00000000,9,-999.00000000,9,  4560.1,     -999.0,9,    34.9124,2,     -999.0,9,         -999.0,9,  -999.0,9,20140110,       2031