BOTTLE,20220815CCHSIOAMB
EXPOCODE,SECT_ID,STNNBR,CASTNO,SAMPNO,BTLNBR,BTLNBR_FLAG_W,DATE,TIME,LATITUDE,LONGITUDE,DEPTH,CTDPRS,CTDTMP,CTDSAL,CTDSAL_FLAG_W,SALNTY,SALNTY_FLAG_W,CTDOXY,CTDOXY_FLAG_W,OXYGEN,OXYGEN_FLAG_W,SILCAT,SILCAT_FLAG_W,NITRAT,NITRAT_FLAG_W,NITRIT,NITRIT_FLAG_W,PHSPHT,PHSPHT_FLAG_W,CFC-11,CFC-11_FLAG_W,CFC-12,CFC-12_FLAG_W,SF6,SF6_FLAG_W,TCARBN,TCARBN_FLAG_W,ALKALI,ALKALI_FLAG_W,PCO2,PCO2_FLAG_W,PCO2TMP,PH_SWS,PH_SWS_FLAG_W,PH_TMP,TRITUM,TRITUM_FLAG_W,REFTMP,REFTMP_FLAG_W,DELC13,DELC13_FLAG_W,DELC14,DELC14_FLAG_W,C14ERR,DOC,DOC_FLAG_W,TDN,TDN_FLAG_W,CTDRAW,N2O,N2O_FLAG_W,SALTREF,SALTREF_FLAG_W,HELIUM,HELIUM_FLAG_W,DELO18,DELO18_FLAG_W,CCL4,CCL4_FLAG_W,BTL_DATE,BTL_TIME
,,,,,,,,,,,METERS,DBAR,ITS-90,PSS-78,,PSS-78,,UMOL/KG,,UMOL/KG,,UMOL/KG,,UMOL/KG,,UMOL/KG,,UMOL/KG,,PMOL/KG,,PMOL/KG,,FMOL/KG,,UMOL/KG,,UMOL/KG,,UATM,,DEG C,,,DEG C,TU,,DEG C,,/MILLE,,/MILLE,,/MILLE,UMOL/KG,,UMOL/KG,,DBAR,NMOL/KG,,G/KG,,NMOL/KG,,/MILLE,,PMOL/KG,,,
33RO20131223,       A16S,      22,          1,         24,         24,2,20140101,       1819,   -16.5003,   -25.0001,       5118,     2.8,  25.5208,  37.2141,2,  37.2140,2,    204.1,2,   205.2,2,     0.8,2,     0.0,2,    0.00,2,   0.100,2,   1.605,2,   1.054,2,   1.250,2,  2101.1,6, 2441.83,2,-999.0000,9, -999.00,   8.0566,2,       25,-999.000,9,  25.5195,2, -999.00,9,  -999.0,9,  -999.0,-999.00000000,9,-999.00000000,9,     2.8,      6.293,2,    37.3895,2,     -999.0,9,         -999.0,9,  -999.0,9,20140101,       2009
33RO20131223,       A16S,      22,          1,         23,         23,2,20140101,       1819,   -16.5003,   -25.0001,       5118,    27.9,  25.1388,  37.2057,2,  37.1982,2,    205.5,2,   206.9,2,     0.8,2,     0.0,2,    0.00,2,   0.107,2,-999.000,9,-999.000,9,-999.000,9,  2101.7,2, 2440.65,2,-999.0000,9, -999.00,   8.0555,2,       25,-999.000,9,  25.1436,2, -999.00,9,  -999.0,9,  -999.0,-999.00000000,9,-999.00000000,9,    27.9,     -999.0,9,    37.3736,2,     -999.0,9,         -999.0,9,  -999.0,9,20140101,       2007
33RO20131223,       A16S,      22,          1,         22,         22,2,20140101,       1819,   -16.5003,   -25.0001,       5118,    68.1,  24.3289,  37.1263,2,  37.1230,2,    210.9,2,   212.4,2,     0.8,2,     0.0,2,    0.00,2,   0.125,2,-999.000,9,-999.000,9,-999.000,9,  2101.2,2, 2435.12,2,-999.0000,9, -999.00,   8.0519,6,       25,-999.000,9,  24.3489,2, -999.00,9,  -999.0,9,  -999.0,-999.00000000,9,-999.00000000,9,    68.1,     -999.0,9,     37.298,2,     -999.0,9,         -999.0,9,  -999.0,9,20140101,       2005
33RO20131223,       A16S,      22,          1,         21,         21,2,20140101,       1819,   -16.5003,   -25.0001,       5118,   107.8,  23.1822,  37.0436,2,  37.0444,2,    215.1,2,   215.2,2,     0.9,2,     0.0,2,    0.00,2,   0.162,2,   1.748,6,   1.137,6,   1.290,6,  2106.8,2, 2430.94,6,-999.0000,9, -999.00,   8.0387,2,       25,-999.000,9,  23.1782,2, -999.00,9,  -999.0,9,  -999.0,-999.00000000,9,-999.00000000,9,   107.8,      6.750,6,    37.2191,2,     -999.0,9,         -999.0,9,  -999.0,9,20140101,       2002
33RO20131223,       A16S,      22,          1,         20,         20,2,20140101,       1819,   -16.5003,   -25.0001,       5118,   172.9,  20.2783,  36.4910,2,  36.4726,2,    199.4,2,   199.1,2,     1.2,2,     1.7,2,    0.13,2,   0.366,2,-999.000,9,-999.000,9,-999.000,9,  2124.7,2, 2396.26,2,-999.0000,9, -999.00,   7.9618,2,       25,-999.000,9,  20.2618,2, -999.00,9,  -999.0,9,  -999.0,-999.00000000,9,-999.00000000,9,   172.9,     -999.0,9,    36.6446,2,     -999.0,9,         -999.0,9,  -999.0,9,20140101,       2000
33RO20131223,       A16S,      22,          1,         19,         19,2,20140101,       1819,   -16.5003,   -25.0001,       5118,     258,  15.0464,  35.5078,2,  35.4996,2,    183.6,2,   182.3,2,     3.5,2,     9.7,2,    0.01,2,   0.771,2,   2.539,2,   1.540,2,   1.248,2,  2135.9,2, 2333.22,2,-999.0000,9, -999.00,   7.8358,2,       25,-999.000,9,  15.0354,2, -999.00,9,  -999.0,9,  -999.0,-999.00000000,9,-999.00000000,9,   258.0,     12.895,2,     35.667,2,     -999.0,9,         -999.0,9,  -999.0,9,20140101,       1957
33RO20131223,       A16S,      22,          1,         18,         18,5,20140101,       1819,   -16.5003,   -25.0001,       5118,   367.9,  10.9150,  34.9288,2,-999.0000,9,    162.3,2,  -999.0,9,  -999.0,9,  -999.0,9, -999.00,9,-999.000,9,-999.000,9,-999.000,9,-999.000,9,  -999.0,9, -999.00,9,-999.0000,9, -999.00,-999.0000,9,  -999.00,-999.000,9,  10.9119,2, -999.00,9,  -999.0,9,  -999.0,-999.00000000,9,-999.00000000,9,   367.9,     -999.0,9,     -999.0,9,     -999.0,9,         -999.0,9,  -999.0,9,20140101,       1954
33RO20131223,       A16S,      22,          1,         17,         17,2,20140101,       1819,   -16.5003,   -25.0001,       5118,   462.4,   8.5638,  34.6957,2,  34.6969,2,      146,2,   145.7,2,    14.0,2,    26.5,2,    0.00,2,   1.772,2,   2.048,2,   1.101,2,   0.485,2,  2192.5,2, 2297.84,2,-999.0000,9, -999.00,   7.6155,2,       25,-999.000,9,    8.568,2, -999.00,9,  -999.0,9,  -999.0,-999.00000000,9,-999.00000000,9,   462.4,     23.541,2,    34.8605,2,     -999.0,9,         -999.0,9,  -999.0,9,20140101,       1951
33RO20131223,       A16S,      22,          1,         16,         16,2,20140101,       1819,   -16.5003,   -25.0001,       5118,   597.3,   5.6979,  34.4641,2,  34.4643,2,    164.3,2,   163.5,2,    23.5,2,    31.2,2,    0.00,2,   2.087,2,-999.000,9,-999.000,9,-999.000,9,  2203.9,2, 2295.59,2,-999.0000,9, -999.00,   7.5791,2,       25,-999.000,9,    5.696,2, -999.00,9,  -999.0,9,  -999.0,-999.00000000,9,-999.00000000,9,   597.3,     -999.0,9,    34.6268,2,     -999.0,9,         -999.0,9,  -999.0,9,20140101,       1948
33RO20131223,       A16S,      22,          1,         15,         15,2,20140101,       1819,   -16.5003,   -25.0001,       5118,   772.7,   4.2623,  34.4108,2,  34.4105,2,    183.2,2,     182,2,    33.1,2,    32.1,2,    0.00,2,   2.173,2,-999.000,9,-999.000,9,-999.000,9,  2209.3,2, 2301.84,2,-999.0000,9, -999.00,   7.5847,2,       25,-999.000,9,   4.2648,2, -999.00,9,  -999.0,9,  -999.0,-999.00000000,9,-999.00000000,9,   772.7,     -999.0,9,    34.5728,6,     -999.0,9,         -999.0,9,  -999.0,9,20140101,       1944
33RO20131223,       A16S,      22,          1,         14,         14,2,20140101,       1819,   -16.5003,   -25.0001,       5118,   923.1,   3.8581,  34.4622,2,  34.4610,2,    182.4,2,   180.5,2,    37.7,2,    32.2,2,    0.00,2,   2.189,2,   0.496,2,   0.253,2,   0.097,2,  2214.5,6, 2307.64,2,-999.0000,9, -999.00,   7.5799,2,       25,-999.000,9,   3.8586,2, -999.00,9,  -999.0,9,  -999.0,-999.00000000,9,-999.00000000,9,   923.1,     21.242,2,    34.6235,2,     -999.0,9,         -999.0,9,  -999.0,9,20140101,       1941
33RO20131223,       A16S,      22,          1,         13,         13,2,20140101,       1819,   -16.5003,   -25.0001,       5118,  1096.8,   3.8833,  34.6152,2,  34.6167,2,    179.3,2,   180.2,2,    35.5,2,    30.6,2,    0.00,2,   2.074,2,-999.000,9,-999.000,9,-999.000,9,  -999.0,9, -999.00,9,-999.0000,9, -999.00,-999.0000,9,  -999.00,-999.000,9,   3.8827,2, -999.00,9,  -999.0,9,  -999.0,-999.00000000,9,-999.00000000,9,  1096.8,     -999.0,9,    34.7799,2,     -999.0,9,         -999.0,9,  -999.0,9,20140101,       1937
33RO20131223,       A16S,      22,          1,         12,         12,2,20140101,       1819,   -16.5003,   -25.0001,       5118,  1247.7,   4.0168,  34.7347,2,  34.7351,2,    186.7,2,   186.4,2,    30.9,2,    28.5,2,    0.00,2,   1.917,2,   0.046,2,   0.030,2,   0.000,2,  2206.5,2, 2312.36,6,-999.0000,9, -999.00,   7.6196,2,       25,-999.000,9,   4.0167,2, -999.00,9,  -999.0,9,  -999.0,-999.00000000,9,-999.00000000,9,  1247.7,     19.537,2,    34.8989,2,     -999.0,9,         -999.0,9,  -999.0,9,20140101,       1933
33RO20131223,       A16S,      22,          1,         11,         11,2,20140101,       1819,   -16.5003,   -25.0001,       5118,    1397,   3.9964,  34.8227,2,  34.8235,2,    200.9,2,   200.3,2,    27.5,2,    26.0,2,    0.00,2,   1.742,2,-999.000,9,-999.000,9,-999.000,9,  -999.0,9, -999.00,9,-999.0000,9, -999.00,-999.0000,9,  -999.00,-999.000,9,   3.9957,2, -999.00,9,  -999.0,9,  -999.0,-999.00000000,9,-999.00000000,9,  1397.0,     -999.0,9,    34.9878,2,     -999.0,9,         -999.0,9,  -999.0,9,20140101,       1929
33RO20131223,       A16S,      22,          1,         10,         10,2,20140101,       1819,   -16.5003,   -25.0001,       5118,  1588.6,   3.7838,  34.8896,2,  34.8892,2,    220.8,2,   219.6,2,    25.9,2,    23.3,2,    0.00,2,   1.568,2,   0.047,2,   0.033,2,   0.014,2,  2186.1,2, 2318.21,2,-999.0000,9, -999.00,   7.6837,2,       25,-999.000,9,   3.7835,2, -999.00,9,  -999.0,9,  -999.0,-999.00000000,9,-999.00000000,9,  1588.6,     16.055,2,    35.0538,2,     -999.0,9,         -999.0,9,  -999.0,9,20140101,       1925
33RO20131223,       A16S,      22,          1,          9,          9,2,20140101,       1819,   -16.5003,   -25.0001,       5118,    1946,   3.2568,  34.9122,2,  34.9119,2,      237,2,   235.9,2,    29.8,2,    21.8,2,    0.00,2,   1.463,2,-999.000,9,-999.000,9,-999.000,9,  2181.9,2, 2325.15,2,-999.0000,9, -999.00,   7.7102,2,       25,-999.000,9,   3.2562,2, -999.00,9,  -999.0,9,  -999.0,-999.00000000,9,-999.00000000,9,  1946.0,     -999.0,9,    35.0765,2,     -999.0,9,         -999.0,9,  -999.0,9,20140101,       1918
33RO20131223,       A16S,      22,          1,          8,          8,2,20140101,       1819,   -16.5003,   -25.0001,       5118,  2597.4,   2.7786,  34.9007,2,  34.9009,2,    239.8,2,     240,2,    38.3,2,    22.0,2,    0.00,2,   1.476,2,   0.005,2,   0.009,2,   0.024,2,  2188.2,2, 2330.47,2,-999.0000,9, -999.00,   7.7121,2,       25,-999.000,9,   2.7786,2, -999.00,9,  -999.0,9,  -999.0,-999.00000000,9,-999.00000000,9,  2597.4,     14.115,2,    35.0654,2,     -999.0,9,         -999.0,9,  -999.0,9,20140101,       1907
33RO20131223,       A16S,      22,          1,          7,          7,2,20140101,       1819,   -16.5003,   -25.0001,       5118,  3251.6,   2.5872,  34.8930,2,  34.8918,2,      241,2,   241.4,2,    42.4,2,    22.1,2,    0.00,2,   1.489,2,-999.000,9,-999.000,9,-999.000,9,  -999.0,9, -999.00,9,-999.0000,9, -999.00,-999.0000,9,  -999.00,-999.000,9,   2.5888,2, -999.00,9,  -999.0,9,  -999.0,-999.00000000,9,-999.00000000,9,  3251.6,     -999.0,9,    35.0564,2,     -999.0,9,         -999.0,9,  -999.0,9,20140101,       1856
33RO20131223,       A16S,      22,          1,          6,          6,2,20140101,       1819,   -16.5003,   -25.0001,       5118,  3448.8,   2.5110,  34.8909,2,  34.8902,2,    243.8,2,   243.4,2,    42.9,2,    22.0,2,    0.00,2,   1.479,2,   0.008,2,   0.010,2,   0.000,2,  2190.5,2, 2337.53,6,-999.0000,9, -999.00,   7.7148,2,       25,-999.000,9,   2.5107,2, -999.00,9,  -999.0,9,  -999.0,-999.00000000,9,-999.00000000,9,  3448.8,     13.822,2,    35.0547,2,     -999.0,9,         -999.0,9,  -999.0,9,20140101,       1852
33RO20131223,       A16S,      22,          1,          5,          5,2,20140101,       1819,   -16.5003,   -25.0001,       5118,  3847.4,   2.1217,  34.8568,2,  34.8555,2,    241.5,2,   241.9,2,    55.1,2,    23.3,2,    0.00,2,   1.580,2,-999.000,9,-999.000,9,-999.000,9,  -999.0,9, -999.00,9,-999.0000,9, -999.00,-999.0000,9,  -999.00,-999.000,9,   2.1223,2, -999.00,9,  -999.0,9,  -999.0,-999.00000000,9,-999.00000000,9,  3847.4,     -999.0,9,    35.0198,2,     -999.0,9,         -999.0,9,  -999.0,9,20140101,       1845
33RO20131223,       A16S,      22,          1,          4,          4,2,20140101,       1819,   -16.5003,   -25.0001,       5118,    4248,   1.3912,  34.7845,2,  34.7841,2,    231.4,2,   232.6,2,    82.2,6,    26.9,6,    0.00,6,   1.834,6,-999.000,9,-999.000,9,-999.000,9,  -999.0,9, -999.00,9,-999.0000,9, -999.00,-999.0000,9,  -999.00,-999.000,9,   1.3917,2, -999.00,9,  -999.0,9,  -999.0,-999.00000000,9,-999.00000000,9,  4248.0,     -999.0,9,    34.9482,6,     -999.0,9,         -999.0,9,  -999.0,9,20140101,       1838
33RO20131223,       A16S,      22,          1,          3,          3,2,20140101,       1819,   -16.5003,   -25.0001,       5118,  4647.8,   1.0438,  34.7457,2,  34.7459,2,      226,2,     227,2,    96.9,6,    28.9,6,    0.00,6,   1.978,6,   0.046,2,   0.030,2,   0.031,2,  2241.1,2, 2363.32,2,-999.0000,9, -999.00,   7.6407,6,       25,-999.000,9,   1.0441,2, -999.00,9,  -999.0,9,  -999.0,-999.00000000,9,-999.00000000,9,  4647.8,     16.532,2,    34.9097,2,     -999.0,9,         -999.0,9,  -999.0,9,20140101,       1830
33RO20131223,       A16S,      22,          1,          2,          2,2,20140101,       1819,   -16.5003,   -25.0001,       5118,  4997.8,   0.8567,  34.7227,2,  34.7226,2,      223,2,   222.7,2,   105.5,6,    30.1,6,    0.00,6,   2.055,6,-999.000,9,-999.000,9,-999.000,9,  -999.0,9, -999.00,9,-999.0000,9, -999.00,-999.0000,9,  -999.00,-999.000,9,   0.8565,2, -999.00,9,  -999.0,9,  -999.0,-999.00000000,9,-999.00000000,9,  4997.8,     -999.0,9,    34.8863,2,     -999.0,9,         -999.0,9,  -999.0,9,20140101,       1823
33RO20131223,       A16S,      22,          1,          1,          1,2,20140101,       1819,   -16.5003,   -25.0001,       5118,  5192.4,   0.8247,  34.7170,2,  34.7169,2,    222.9,2,   223.2,2,   107.6,6,    30.4,6,    0.01,6,   2.074,6,   0.097,2,   0.055,2,   0.035,2,  2253.1,6, 1653.66,4,-999.0000,9, -999.00,   7.6226,2,       25,-999.000,9,   0.8248,2, -999.00,9,  -999.0,9,  -999.0,-999.00000000,9,-999.00000000,9,  5192.4,     17.104,2,    34.8806,2,     -999.0,9,         -999.0,9,  -999.0,9,20140101,       1819