BOTTLE,20220815CCHSIOAMB
EXPOCODE,SECT_ID,STNNBR,CASTNO,SAMPNO,BTLNBR,BTLNBR_FLAG_W,DATE,TIME,LATITUDE,LONGITUDE,DEPTH,CTDPRS,CTDTMP,CTDSAL,CTDSAL_FLAG_W,SALNTY,SALNTY_FLAG_W,CTDOXY,CTDOXY_FLAG_W,OXYGEN,OXYGEN_FLAG_W,SILCAT,SILCAT_FLAG_W,NITRAT,NITRAT_FLAG_W,NITRIT,NITRIT_FLAG_W,PHSPHT,PHSPHT_FLAG_W,CFC-11,CFC-11_FLAG_W,CFC-12,CFC-12_FLAG_W,SF6,SF6_FLAG_W,TCARBN,TCARBN_FLAG_W,ALKALI,ALKALI_FLAG_W,PCO2,PCO2_FLAG_W,PCO2TMP,PH_SWS,PH_SWS_FLAG_W,PH_TMP,TRITUM,TRITUM_FLAG_W,REFTMP,REFTMP_FLAG_W,DELC13,DELC13_FLAG_W,DELC14,DELC14_FLAG_W,C14ERR,DOC,DOC_FLAG_W,TDN,TDN_FLAG_W,CTDRAW,N2O,N2O_FLAG_W,SALTREF,SALTREF_FLAG_W,HELIUM,HELIUM_FLAG_W,DELO18,DELO18_FLAG_W,CCL4,CCL4_FLAG_W,BTL_DATE,BTL_TIME
,,,,,,,,,,,METERS,DBAR,ITS-90,PSS-78,,PSS-78,,UMOL/KG,,UMOL/KG,,UMOL/KG,,UMOL/KG,,UMOL/KG,,UMOL/KG,,PMOL/KG,,PMOL/KG,,FMOL/KG,,UMOL/KG,,UMOL/KG,,UATM,,DEG C,,,DEG C,TU,,DEG C,,/MILLE,,/MILLE,,/MILLE,UMOL/KG,,UMOL/KG,,DBAR,NMOL/KG,,G/KG,,NMOL/KG,,/MILLE,,PMOL/KG,,,
33RO20131223,       A16S,      97,          1,         24,         24,2,20140125,       1928,   -53.4317,   -36.1152,       2716,     3.5,   2.3583,  33.7861,2,  33.7866,2,    326.8,2,     327,2,    10.6,2,    21.4,2,    0.24,2,   1.547,2,   5.576,2,   3.072,2,   2.983,2,  2143.8,6,  2291.7,2,   752.77,2,      20,   7.7294,2,       25,-999.000,9,   2.3585,2,    1.59,2,   -83.0,2,     2.1,  48.86103737,2,  25.94146341,2,     3.5,     13.427,2,    33.9459,2,     -999.0,9,         -999.0,9,  -999.0,9,20140125,       2042
33RO20131223,       A16S,      97,          1,         23,         23,2,20140125,       1928,   -53.4317,   -36.1152,       2716,    13.6,   2.3396,  33.7865,2,  33.7891,2,    327.3,2,   327.4,2,    11.0,6,    21.5,6,    0.24,6,   1.551,6,-999.000,9,-999.000,9,-999.000,9,  2144.8,2, 2287.89,2,-999.0000,9, -999.00,   7.7264,6,       25,-999.000,9,   2.3236,2, -999.00,9,  -999.0,9,  -999.0,  48.30388312,2,  25.84286748,2,    13.6,     -999.0,9,    33.9484,2,     -999.0,9,         -999.0,9,  -999.0,9,20140125,       2041
33RO20131223,       A16S,      97,          1,         22,         22,2,20140125,       1928,   -53.4317,   -36.1152,       2716,    28.1,   2.1197,  33.7924,2,  33.7934,2,    327.4,2,   327.3,2,    11.5,6,    21.6,6,    0.23,6,   1.564,6,   5.325,2,   2.969,2,   2.824,2,  2146.4,2, 2286.73,2,  761.835,2,      20,   7.7249,2,       25,-999.000,9,     2.12,2, -999.00,9,  -999.0,9,  -999.0,  47.65989964,2,  26.12572474,2,    28.1,     13.573,2,    33.9527,2,     -999.0,9,         -999.0,9,  -999.0,9,20140125,       2039
33RO20131223,       A16S,      97,          1,         21,         21,2,20140125,       1928,   -53.4317,   -36.1152,       2716,    87.6,   0.9023,  33.8785,2,  33.8813,2,    318.3,2,   318.6,2,    21.2,2,    24.0,2,    0.21,2,   1.768,2,-999.000,9,-999.000,9,-999.000,9,  2167.8,2, 2297.12,2,-999.0000,9, -999.00,   7.6785,2,       25,-999.000,9,   0.9056,2, -999.00,9,  -999.0,9,  -999.0,  44.98266493,2,  28.02001121,2,    87.6,     -999.0,9,    34.0411,2,     -999.0,9,         -999.0,9,  -999.0,9,20140125,       2036
33RO20131223,       A16S,      97,          1,         20,         20,2,20140125,       1928,   -53.4317,   -36.1152,       2716,   118.1,   0.6200,  34.0634,2,  34.0656,2,    279.8,2,   275.5,2,    38.3,2,    29.9,2,    0.22,2,   2.161,2,   4.415,2,   2.437,2,   2.154,2,  2202.1,2, 2296.49,2,  1055.29,2,      20,   7.5951,2,       25,-999.000,9,   0.6196,2, -999.00,9,  -999.0,9,  -999.0,  43.83217759,2,  33.66829268,2,   118.1,     17.563,2,    34.2262,2,     -999.0,9,         -999.0,9,  -999.0,9,20140125,       2035
33RO20131223,       A16S,      97,          1,         19,         19,2,20140125,       1928,   -53.4317,   -36.1152,       2716,   148.1,   1.2270,  34.1832,2,  34.1883,2,    243.5,2,   242.6,2,    45.3,2,    32.3,2,    0.16,2,   2.258,2,-999.000,9,-999.000,9,-999.000,9,  2216.2,2, 2302.96,2,-999.0000,9, -999.00,   7.5646,2,       25,-999.000,9,   1.2206,2, -999.00,9,  -999.0,9,  -999.0,  42.82640563,2,  35.94146341,2,   148.1,     -999.0,9,    34.3495,2,     -999.0,9,         -999.0,9,  -999.0,9,20140125,       2033
33RO20131223,       A16S,      97,          1,         18,         18,2,20140125,       1928,   -53.4317,   -36.1152,       2716,   197.6,   1.8239,  34.3298,2,  34.3313,2,      208,2,   206.2,2,    55.7,6,    33.8,6,    0.03,6,   2.345,6,-999.000,9,-999.000,9,-999.000,9,  2235.7,2, 2315.48,2,-999.0000,9, -999.00,   7.5399,2,       25,-999.000,9,   1.8243,2, -999.00,9,  -999.0,9,  -999.0,  42.46461716,2,  37.28780488,2,   197.6,     -999.0,9,    34.4932,2,     -999.0,9,         -999.0,9,  -999.0,9,20140125,       2031
33RO20131223,       A16S,      97,          1,         17,         17,2,20140125,       1928,   -53.4317,   -36.1152,       2716,   247.8,   2.0809,  34.4177,2,  34.4200,2,    188.1,2,     188,2,    62.2,6,    34.2,6,    0.02,6,   2.365,6,   1.675,6,   0.876,2,   0.584,6,  2245.4,2, 2326.07,2,  1248.06,2,      20,   7.5304,2,       25,-999.000,9,   2.0813,2, -999.00,9,  -999.0,9,  -999.0,   42.0521783,2,  37.50243902,2,   247.8,     22.345,6,    34.5823,2,     -999.0,9,         -999.0,9,  -999.0,9,20140125,       2029
33RO20131223,       A16S,      97,          1,         16,         16,2,20140125,       1928,   -53.4317,   -36.1152,       2716,   297.5,   2.0994,  34.4629,2,  34.4644,2,    182.8,2,   181.8,2,    65.9,2,    34.2,2,    0.02,2,   2.372,2,-999.000,9,-999.000,9,-999.000,9,  2251.2,2, 2328.37,2,-999.0000,9, -999.00,   7.5272,2,       25,-999.000,9,   2.1005,2, -999.00,9,  -999.0,9,  -999.0,  41.66868252,2,        37.15,2,   297.5,     -999.0,9,    34.6269,6,     -999.0,9,         -999.0,9,  -999.0,9,20140125,       2027
33RO20131223,       A16S,      97,          1,         15,         15,2,20140125,       1928,   -53.4317,   -36.1152,       2716,   373.7,   2.1149,  34.5419,2,  34.5414,2,    173.4,2,   173.9,2,    72.0,2,    33.9,2,    0.02,2,   2.349,2,-999.000,9,-999.000,9,-999.000,9,  2256.4,2, 2334.99,2,  1259.36,2,      20,   7.5314,2,       25,-999.000,9,   2.1151,2, -999.00,9,  -999.0,9,  -999.0,   41.2707152,2,        36.58,2,   373.7,     -999.0,9,    34.7042,2,     -999.0,9,         -999.0,9,  -999.0,9,20140125,       2024
33RO20131223,       A16S,      97,          1,         14,         14,2,20140125,       1928,   -53.4317,   -36.1152,       2716,   448.2,   2.1045,  34.5906,2,  34.5905,2,      172,2,   171.2,2,    76.0,2,    33.6,2,    0.01,2,   2.328,2,-999.000,9,-999.000,9,-999.000,9,  2259.3,2, 2344.69,6,-999.0000,9, -999.00,    7.538,2,       25,-999.000,9,   2.1047,2, -999.00,9,  -999.0,9,  -999.0,  40.83656903,2,        36.18,2,   448.2,     -999.0,9,    34.7536,2,     -999.0,9,         -999.0,9,  -999.0,9,20140125,       2022
33RO20131223,       A16S,      97,          1,         13,         13,2,20140125,       1928,   -53.4317,   -36.1152,       2716,     548,   2.0369,  34.6373,2,  34.6374,2,    171.5,2,   171.4,2,    81.3,2,    33.0,2,    0.03,2,   2.299,2,   0.466,2,   0.225,2,   0.144,2,  2261.3,6,    2350,2, 1208.615,6,      20,   7.5479,2,       25,-999.000,9,    2.037,2, -999.00,9,  -999.0,9,  -999.0,  40.40242286,2,        35.42,2,   548.0,     21.381,2,    34.8007,2,     -999.0,9,         -999.0,9,  -999.0,9,20140125,       2019
33RO20131223,       A16S,      97,          1,         12,         12,2,20140125,       1928,   -53.4317,   -36.1152,       2716,   647.4,   1.9831,  34.6586,2,  34.6598,2,      173,2,   173.3,2,    82.6,2,    32.7,2,    0.01,2,   2.266,2,-999.000,9,-999.000,9,-999.000,9,  2261.4,2, 2354.67,2,-999.0000,9, -999.00,   7.5547,2,       25,-999.000,9,   1.9832,2, -999.00,9,  -999.0,9,  -999.0,  40.09128478,2,  35.33658537,2,   647.4,     -999.0,9,    34.8232,2,     -999.0,9,         -999.0,9,  -999.0,9,20140125,       2016
33RO20131223,       A16S,      97,          1,         11,         11,2,20140125,       1928,   -53.4317,   -36.1152,       2716,   748.2,   1.9198,  34.6747,2,  34.6740,2,    175.1,2,   174.8,2,    85.4,2,    32.4,2,    0.01,2,   2.248,2,-999.000,9,-999.000,9,-999.000,9,    2262,2,  2353.5,2,  1172.45,2,      20,   7.5618,2,       25,-999.000,9,   1.9198,2, -999.00,9,  -999.0,9,  -999.0,  39.97551247,2,  34.79144249,2,   748.2,     -999.0,9,    34.8375,2,     -999.0,9,         -999.0,9,  -999.0,9,20140125,       2012
33RO20131223,       A16S,      97,          1,         10,         10,2,20140125,       1928,   -53.4317,   -36.1152,       2716,   847.7,   1.8088,  34.6921,2,  34.6916,2,    177.7,2,   178.5,2,    88.2,2,    32.0,2,    0.01,2,   2.220,2,-999.000,9,-999.000,9,-999.000,9,  2261.5,2, 2354.77,2,-999.0000,9, -999.00,   7.5685,2,       25,-999.000,9,   1.8086,2, -999.00,9,  -999.0,9,  -999.0,  39.99721977,2,  34.68292683,2,   847.7,     -999.0,9,    34.8552,2,     -999.0,9,         -999.0,9,  -999.0,9,20140125,       2010
33RO20131223,       A16S,      97,          1,          9,          9,2,20140125,       1928,   -53.4317,   -36.1152,       2716,   997.8,   1.6190,  34.7009,2,  34.7009,2,      183,2,   183.8,2,    92.1,6,    31.7,6,    0.00,6,   2.198,6,   0.302,2,   0.149,2,   0.111,2,  2261.1,2, 2357.22,2,  1126.23,2,      20,   7.5763,2,       25,-999.000,9,   1.6193,2, -999.00,9,  -999.0,9,  -999.0,  39.83803285,2,  34.37073171,2,   997.8,     19.716,2,    34.8645,2,     -999.0,9,         -999.0,9,  -999.0,9,20140125,       2006
33RO20131223,       A16S,      97,          1,          8,          8,2,20140125,       1928,   -53.4317,   -36.1152,       2716,  1147.9,   1.4948,  34.7089,2,  34.7084,2,    186.9,2,   186.9,2,    96.0,6,    31.5,6,    0.00,6,   2.189,6,-999.000,9,-999.000,9,-999.000,9,  2262.2,2, 2365.77,2,-999.0000,9, -999.00,   7.5802,2,       25,-999.000,9,   1.4958,2, -999.00,9,  -999.0,9,  -999.0,  39.74396784,2,  34.25365854,2,  1147.9,     -999.0,9,     34.872,2,     -999.0,9,         -999.0,9,  -999.0,9,20140125,       2002
33RO20131223,       A16S,      97,          1,          7,          7,2,20140125,       1928,   -53.4317,   -36.1152,       2716,  1297.3,   1.3330,  34.7055,2,  34.7058,2,    191.6,2,   191.1,2,    98.2,2,    31.4,2,    0.00,2,   2.186,2,-999.000,9,-999.000,9,-999.000,9,  2260.9,2, 2362.06,2,-999.0000,9, -999.00,   7.5841,2,       25,-999.000,9,   1.3325,2, -999.00,9,  -999.0,9,  -999.0,  39.75843938,2,   34.0195122,2,  1297.3,     -999.0,9,    34.8695,2,     -999.0,9,         -999.0,9,  -999.0,9,20140125,       1958
33RO20131223,       A16S,      97,          1,          6,          6,2,20140125,       1928,   -53.4317,   -36.1152,       2716,  1447.1,   1.1631,  34.7024,2,  34.7025,2,    195.6,2,   195.6,2,   101.6,6,    31.5,6,    0.00,6,   2.185,6,   0.355,2,   0.178,2,   0.170,2,  2262.4,2, 2366.15,2,  1099.79,2,      20,   7.5872,2,       25,-999.000,9,    1.163,2, -999.00,9,  -999.0,9,  -999.0,  39.78738246,2,   34.0195122,2,  1447.1,     18.947,2,    34.8661,2,     -999.0,9,         -999.0,9,  -999.0,9,20140125,       1954
33RO20131223,       A16S,      97,          1,          5,          5,2,20140125,       1928,   -53.4317,   -36.1152,       2716,  1647.2,   0.9712,  34.6989,2,  34.6993,2,    199.2,2,   199.4,2,   106.4,6,    31.6,6,    0.01,6,   2.190,6,-999.000,9,-999.000,9,-999.000,9,  2261.4,2, 2362.69,2,-999.0000,9, -999.00,   7.5853,2,       25,-999.000,9,   0.9707,2, -999.00,9,  -999.0,9,  -999.0,  39.85250438,2,  34.12287079,2,  1647.2,     -999.0,9,    34.8629,2,     -999.0,9,         -999.0,9,  -999.0,9,20140125,       1950
33RO20131223,       A16S,      97,          1,          4,          4,2,20140125,       1928,   -53.4317,   -36.1152,       2716,  1847.4,   0.9020,  34.6969,2,  34.6956,2,    201.2,2,   200.7,2,   107.9,6,    31.6,6,    0.01,6,   2.197,6,-999.000,9,-999.000,9,-999.000,9,  2262.4,2,  2360.9,6,-999.0000,9, -999.00,   7.5862,2,       25,-999.000,9,    0.902,2, -999.00,9,  -999.0,9,  -999.0,   39.7294963,2,  34.17560976,2,  1847.4,     -999.0,9,    34.8592,2,     -999.0,9,         -999.0,9,  -999.0,9,20140125,       1945
33RO20131223,       A16S,      97,          1,          3,          3,2,20140125,       1928,   -53.4317,   -36.1152,       2716,  2046.2,   0.8038,  34.6933,2,  34.6968,2,    202.9,2,   203.4,2,   109.5,6,    31.7,6,    0.00,6,   2.199,6,   0.449,2,   0.224,2,   0.149,2,  2261.8,2, 2364.04,2,  1107.81,2,      20,   7.5853,6,       25,-999.000,9,   0.8038,2, -999.00,9,  -999.0,9,  -999.0,  39.75120361,2,  34.26341463,2,  2046.2,     18.527,2,    34.8604,2,     -999.0,9,         -999.0,9,  -999.0,9,20140125,       1941
33RO20131223,       A16S,      97,          1,          2,          2,2,20140125,       1928,   -53.4317,   -36.1152,       2716,  2347.7,   0.7291,  34.6908,2,  34.6917,2,    204.7,2,   205.5,2,   112.2,6,    31.8,6,    0.01,6,   2.208,6,   0.485,2,   0.242,2,   0.149,2,  2261.8,2, 2365.48,2, 1110.765,6,      20,   7.5844,2,       25,-999.000,9,   0.7292,2, -999.00,9,  -999.0,9,  -999.0,  39.66437438,2,  34.29268293,2,  2347.7,     18.531,2,    34.8552,2,     -999.0,9,         -999.0,9,  -999.0,9,20140125,       1935
33RO20131223,       A16S,      97,          1,          1,          1,2,20140125,       1928,   -53.4317,   -36.1152,       2716,  2744.9,   0.5189,  34.6827,2,  34.6836,2,    210.4,2,   210.7,2,   115.3,6,    31.9,6,    0.01,6,   2.217,6,   0.573,2,   0.283,2,   0.174,2,  2263.7,6, 2368.14,2,  1114.62,2,      20,   7.5871,2,       25,-999.000,9,   0.5177,2, -999.00,9,  -999.0,9,  -999.0,  39.70055323,2,         34.4,2,  2744.9,     18.339,2,    34.8472,2,     -999.0,9,         -999.0,9,  -999.0,9,20140125,       1928