BOTTLE,20220815CCHSIOAMB
EXPOCODE,SECT_ID,STNNBR,CASTNO,SAMPNO,BTLNBR,BTLNBR_FLAG_W,DATE,TIME,LATITUDE,LONGITUDE,DEPTH,CTDPRS,CTDTMP,CTDSAL,CTDSAL_FLAG_W,SALNTY,SALNTY_FLAG_W,CTDOXY,CTDOXY_FLAG_W,OXYGEN,OXYGEN_FLAG_W,SILCAT,SILCAT_FLAG_W,NITRAT,NITRAT_FLAG_W,NITRIT,NITRIT_FLAG_W,PHSPHT,PHSPHT_FLAG_W,CFC-11,CFC-11_FLAG_W,CFC-12,CFC-12_FLAG_W,SF6,SF6_FLAG_W,TCARBN,TCARBN_FLAG_W,ALKALI,ALKALI_FLAG_W,PCO2,PCO2_FLAG_W,PCO2TMP,PH_SWS,PH_SWS_FLAG_W,PH_TMP,TRITUM,TRITUM_FLAG_W,REFTMP,REFTMP_FLAG_W,DELC13,DELC13_FLAG_W,DELC14,DELC14_FLAG_W,C14ERR,DOC,DOC_FLAG_W,TDN,TDN_FLAG_W,CTDRAW,N2O,N2O_FLAG_W,SALTREF,SALTREF_FLAG_W,HELIUM,HELIUM_FLAG_W,DELO18,DELO18_FLAG_W,CCL4,CCL4_FLAG_W,BTL_DATE,BTL_TIME
,,,,,,,,,,,METERS,DBAR,ITS-90,PSS-78,,PSS-78,,UMOL/KG,,UMOL/KG,,UMOL/KG,,UMOL/KG,,UMOL/KG,,UMOL/KG,,PMOL/KG,,PMOL/KG,,FMOL/KG,,UMOL/KG,,UMOL/KG,,UATM,,DEG C,,,DEG C,TU,,DEG C,,/MILLE,,/MILLE,,/MILLE,UMOL/KG,,UMOL/KG,,DBAR,NMOL/KG,,G/KG,,NMOL/KG,,/MILLE,,PMOL/KG,,,
33RO20131223,       A16S,     112,          1,         24,         24,2,20140129,       0834,   -59.5011,   -30.9186,       3683,     4.6,   0.3999,  33.5113,2,  33.5166,2,    341.7,2,   342.1,2,    63.5,2,    23.9,2,    0.25,2,   1.624,2,   5.950,2,   3.241,2,   3.085,2,  2152.7,6, 2275.65,2,-999.0000,9, -999.00,   7.6896,2,       25,-999.000,9,   0.4002,2, -999.00,9,  -999.0,9,  -999.0,-999.00000000,9,-999.00000000,9,     4.6,     14.986,2,    33.6746,2,     -999.0,9,         -999.0,9,  -999.0,9,20140129,       1002
33RO20131223,       A16S,     112,          1,         23,         23,2,20140129,       0834,   -59.5011,   -30.9186,       3683,    27.3,   0.4698,  33.6254,2,  33.6378,2,    341.8,2,     341,2,    56.9,2,    23.0,2,    0.24,2,   1.494,2,-999.000,9,-999.000,9,-999.000,9,  -999.0,9, -999.00,9,-999.0000,9, -999.00,-999.0000,9,  -999.00,-999.000,9,   0.4667,2, -999.00,9,  -999.0,9,  -999.0,-999.00000000,9,-999.00000000,9,    27.3,     -999.0,9,    33.7964,2,     -999.0,9,         -999.0,9,  -999.0,9,20140129,       1000
33RO20131223,       A16S,     112,          1,         22,         22,3,20140129,       0834,   -59.5011,   -30.9186,       3683,    47.6,  -0.7706,  33.8149,2,  33.8656,2,      342,2,     343,2,    68.8,2,    25.9,2,    0.17,3,   1.813,3,   5.608,2,   3.045,2,   2.870,2,  2179.4,2, 2296.78,6,-999.0000,9, -999.00,   7.6702,2,       25,-999.000,9,    -0.76,2, -999.00,9,  -999.0,9,  -999.0,-999.00000000,9,-999.00000000,9,    47.6,     16.143,2,    34.0253,2,     -999.0,9,         -999.0,9,  -999.0,9,20140129,       0958
33RO20131223,       A16S,     112,          1,         21,         21,2,20140129,       0834,   -59.5011,   -30.9186,       3683,      67,  -1.4376,  34.0619,2,  34.0828,2,    320.1,2,     323,2,    73.9,2,    28.1,2,    0.15,2,   1.973,2,-999.000,9,-999.000,9,-999.000,9,  2203.2,2,  2309.2,2,-999.0000,9, -999.00,   7.6345,6,       25,-999.000,9,  -1.4366,2, -999.00,9,  -999.0,9,  -999.0,-999.00000000,9,-999.00000000,9,    67.0,     -999.0,9,    34.2436,2,     -999.0,9,         -999.0,9,  -999.0,9,20140129,       0956
33RO20131223,       A16S,     112,          1,         20,         20,2,20140129,       0834,   -59.5011,   -30.9186,       3683,      87,  -1.2395,  34.2094,2,  34.2097,2,      300,2,   293.9,2,    77.4,2,    30.1,2,    0.18,2,   2.105,2,   4.439,2,   2.412,2,   2.182,2,  2221.9,2, 2315.35,2,-999.0000,9, -999.00,   7.5984,2,       25,-999.000,9,    -1.24,2, -999.00,9,  -999.0,9,  -999.0,-999.00000000,9,-999.00000000,9,    87.0,     17.683,2,     34.371,2,     -999.0,9,         -999.0,9,  -999.0,9,20140129,       0955
33RO20131223,       A16S,     112,          1,         19,         19,2,20140129,       0834,   -59.5011,   -30.9186,       3683,     118,  -0.8501,  34.3844,2,  34.3859,2,    268.2,2,   266.1,2,    84.2,2,    31.1,2,    0.03,2,   2.138,2,-999.000,9,-999.000,9,-999.000,9,    2237,2,  2328.2,2,-999.0000,9, -999.00,   7.5862,2,       25,-999.000,9,  -0.8486,2, -999.00,9,  -999.0,9,  -999.0,-999.00000000,9,-999.00000000,9,   118.0,     -999.0,9,     34.548,2,     -999.0,9,         -999.0,9,  -999.0,9,20140129,       0953
33RO20131223,       A16S,     112,          1,         18,         18,3,20140129,       0834,   -59.5011,   -30.9186,       3683,   167.1,  -0.2612,  34.5090,2,  34.5167,2,    240.9,2,   238.7,2,    91.1,2,    31.8,2,    0.02,3,   2.191,3,-999.000,9,-999.000,9,-999.000,9,  2248.2,2, 2339.14,2,-999.0000,9, -999.00,    7.576,2,       25,-999.000,9,  -0.2607,2, -999.00,9,  -999.0,9,  -999.0,-999.00000000,9,-999.00000000,9,   167.1,     -999.0,9,    34.6795,2,     -999.0,9,         -999.0,9,  -999.0,9,20140129,       0951
33RO20131223,       A16S,     112,          1,         17,         17,2,20140129,       0834,   -59.5011,   -30.9186,       3683,   217.5,   0.0671,  34.5811,2,  34.5814,2,    224.3,2,     224,2,    96.3,2,    32.1,2,    0.01,2,   2.214,2,-999.000,9,-999.000,9,-999.000,9,  2255.1,2, 2345.99,2,-999.0000,9, -999.00,   7.5736,2,       25,-999.000,9,   0.0665,2, -999.00,9,  -999.0,9,  -999.0,-999.00000000,9,-999.00000000,9,   217.5,     -999.0,9,    34.7445,2,     -999.0,9,         -999.0,9,  -999.0,9,20140129,       0949
33RO20131223,       A16S,     112,          1,         16,         16,2,20140129,       0834,   -59.5011,   -30.9186,       3683,   327.5,   0.4007,  34.6480,2,  34.6484,2,    209.2,2,   208.9,2,   104.2,2,    32.4,2,    0.00,2,   2.238,2,   1.178,2,   0.578,2,   0.420,2,  2262.2,2, 2352.17,2,-999.0000,9, -999.00,   7.5651,2,       25,-999.000,9,   0.4005,2, -999.00,9,  -999.0,9,  -999.0,-999.00000000,9,-999.00000000,9,   327.5,     19.708,2,    34.8118,2,     -999.0,9,         -999.0,9,  -999.0,9,20140129,       0947
33RO20131223,       A16S,     112,          1,         15,         15,2,20140129,       0834,   -59.5011,   -30.9186,       3683,   436.8,   0.5159,  34.6698,2,  34.6713,2,    203.6,2,   203.7,2,   108.1,2,    32.6,2,    0.00,2,   2.247,2,-999.000,9,-999.000,9,-999.000,9,    2264,2, 2350.24,2,-999.0000,9, -999.00,   7.5242,4,       25,-999.000,9,   0.5155,2, -999.00,9,  -999.0,9,  -999.0,-999.00000000,9,-999.00000000,9,   436.8,     -999.0,9,    34.8347,2,     -999.0,9,         -999.0,9,  -999.0,9,20140129,       0944
33RO20131223,       A16S,     112,          1,         14,         14,2,20140129,       0834,   -59.5011,   -30.9186,       3683,     547,   0.5360,  34.6778,2,  34.6784,2,    202.1,2,   202.8,2,   110.9,2,    32.7,2,    0.00,2,   2.252,2,   0.733,2,   0.357,2,   0.222,2,  2264.3,6,  2351.8,2,-999.0000,9, -999.00,   7.5648,2,       25,-999.000,9,   0.5361,2, -999.00,9,  -999.0,9,  -999.0,-999.00000000,9,-999.00000000,9,   547.0,     19.629,2,     34.842,2,     -999.0,9,         -999.0,9,  -999.0,9,20140129,       0941
33RO20131223,       A16S,     112,          1,         13,         13,2,20140129,       0834,   -59.5011,   -30.9186,       3683,     648,   0.5206,  34.6817,2,  34.6811,2,    202.5,2,   202.1,2,   113.5,2,    32.8,2,    0.00,2,   2.257,2,-999.000,9,-999.000,9,-999.000,9,    2266,2, 2355.69,6,-999.0000,9, -999.00,   7.5671,2,       25,-999.000,9,   0.5209,2, -999.00,9,  -999.0,9,  -999.0,-999.00000000,9,-999.00000000,9,   648.0,     -999.0,9,    34.8446,2,     -999.0,9,         -999.0,9,  -999.0,9,20140129,       0938
33RO20131223,       A16S,     112,          1,         12,         12,2,20140129,       0834,   -59.5011,   -30.9186,       3683,   745.9,   0.4819,  34.6823,2,  34.6823,2,    203.3,2,     203,2,   115.7,2,    32.8,2,    0.00,2,   2.262,2,   0.571,2,   0.273,2,   0.168,2,  2265.6,2, 2358.87,2,-999.0000,9, -999.00,   7.5675,6,       25,-999.000,9,   0.4819,2, -999.00,9,  -999.0,9,  -999.0,-999.00000000,9,-999.00000000,9,   745.9,     19.442,2,    34.8458,2,     -999.0,9,         -999.0,9,  -999.0,9,20140129,       0935
33RO20131223,       A16S,     112,          1,         11,         11,2,20140129,       0834,   -59.5011,   -30.9186,       3683,   847.2,   0.4364,  34.6823,2,  34.6843,2,    204.3,2,   204.7,2,   117.5,2,    32.8,2,    0.00,2,   2.265,2,-999.000,9,-999.000,9,-999.000,9,  -999.0,9, -999.00,9,-999.0000,9, -999.00,-999.0000,9,  -999.00,-999.000,9,   0.4364,2, -999.00,9,  -999.0,9,  -999.0,-999.00000000,9,-999.00000000,9,   847.2,     -999.0,9,    34.8478,2,     -999.0,9,         -999.0,9,  -999.0,9,20140129,       0932
33RO20131223,       A16S,     112,          1,         10,         10,2,20140129,       0834,   -59.5011,   -30.9186,       3683,  1047.4,   0.3363,  34.6786,2,  34.6788,2,    207.8,2,   207.9,2,   119.4,2,    32.8,2,    0.00,2,   2.267,2,   0.537,2,   0.244,2,   0.124,2,  2265.2,2, 2356.86,2,-999.0000,9, -999.00,   7.5713,2,       25,-999.000,9,   0.3364,2, -999.00,9,  -999.0,9,  -999.0,-999.00000000,9,-999.00000000,9,  1047.4,     19.063,2,    34.8423,2,     -999.0,9,         -999.0,9,  -999.0,9,20140129,       0928
33RO20131223,       A16S,     112,          1,          9,          9,2,20140129,       0834,   -59.5011,   -30.9186,       3683,  1247.8,   0.2523,  34.6757,2,  34.6759,2,    210.9,2,   211.2,2,   121.1,6,    32.8,6,    0.00,6,   2.265,6,-999.000,9,-999.000,9,-999.000,9,  -999.0,9, -999.00,9,-999.0000,9, -999.00,-999.0000,9,  -999.00,-999.000,9,   0.2522,2, -999.00,9,  -999.0,9,  -999.0,-999.00000000,9,-999.00000000,9,  1247.8,     -999.0,9,    34.8394,6,     -999.0,9,         -999.0,9,  -999.0,9,20140129,       0924
33RO20131223,       A16S,     112,          1,          8,          8,2,20140129,       0834,   -59.5011,   -30.9186,       3683,  1447.7,   0.1664,  34.6720,2,  34.6721,2,    215.3,2,   216.1,2,   121.2,6,    32.7,6,    0.00,6,   2.258,6,   0.665,2,   0.316,2,   0.171,2,    2263,2, 2354.04,2,-999.0000,9, -999.00,   7.5776,2,       25,-999.000,9,   0.1665,2, -999.00,9,  -999.0,9,  -999.0,-999.00000000,9,-999.00000000,9,  1447.7,     18.793,2,    34.8356,2,     -999.0,9,         -999.0,9,  -999.0,9,20140129,       0919
33RO20131223,       A16S,     112,          1,          7,          7,2,20140129,       0834,   -59.5011,   -30.9186,       3683,  1746.9,   0.0604,  34.6677,2,  34.6684,2,    219.5,2,   219.4,2,   122.0,2,    32.7,2,    0.00,2,   2.259,2,-999.000,9,-999.000,9,-999.000,9,  -999.0,9, -999.00,9,-999.0000,9, -999.00,-999.0000,9,  -999.00,-999.000,9,   0.0603,2, -999.00,9,  -999.0,9,  -999.0,-999.00000000,9,-999.00000000,9,  1746.9,     -999.0,9,    34.8319,2,     -999.0,9,         -999.0,9,  -999.0,9,20140129,       0913
33RO20131223,       A16S,     112,          1,          6,          6,2,20140129,       0834,   -59.5011,   -30.9186,       3683,  2046.9,  -0.0177,  34.6640,2,  34.6635,2,    223.2,2,   223.8,2,   123.0,2,    32.6,2,    0.00,2,   2.257,2,   0.823,6,   0.385,2,   0.195,6,  2260.6,2, 2354.09,2,-999.0000,9, -999.00,   7.5806,2,       25,-999.000,9,  -0.0177,2, -999.00,9,  -999.0,9,  -999.0,-999.00000000,9,-999.00000000,9,  2046.9,     18.502,6,     34.827,2,     -999.0,9,         -999.0,9,  -999.0,9,20140129,       0907
33RO20131223,       A16S,     112,          1,          5,          5,2,20140129,       0834,   -59.5011,   -30.9186,       3683,  2347.6,  -0.0604,  34.6616,2,  34.6622,2,    225.8,2,   225.8,2,   124.7,2,    32.6,2,    0.00,2,   2.259,2,-999.000,5,-999.000,5,-999.000,5,  -999.0,9, -999.00,9,-999.0000,9, -999.00,-999.0000,9,  -999.00,-999.000,9,  -0.0607,2, -999.00,9,  -999.0,9,  -999.0,-999.00000000,9,-999.00000000,9,  2347.6,     -999.0,5,    34.8256,2,     -999.0,9,         -999.0,9,  -999.0,9,20140129,       0901
33RO20131223,       A16S,     112,          1,          4,          4,2,20140129,       0834,   -59.5011,   -30.9186,       3683,  2747.7,  -0.0712,  34.6602,2,  34.6600,2,    226.7,2,   226.9,2,   125.5,2,    32.6,2,    0.00,2,   2.259,2,-999.000,9,-999.000,9,-999.000,9,  2259.9,2, 2354.55,2,-999.0000,9, -999.00,   7.5805,2,       25,-999.000,9,  -0.0713,2, -999.00,9,  -999.0,9,  -999.0,-999.00000000,9,-999.00000000,9,  2747.7,     -999.0,9,    34.8235,2,     -999.0,9,         -999.0,9,  -999.0,9,20140129,       0853
33RO20131223,       A16S,     112,          1,          3,          3,2,20140129,       0834,   -59.5011,   -30.9186,       3683,    3147,  -0.0771,  34.6587,2,  34.6587,2,    229.8,2,   229.9,2,   123.9,6,    32.5,6,    0.00,6,   2.252,6,-999.000,9,-999.000,9,-999.000,9,  2258.5,2, 2353.57,6,-999.0000,9, -999.00,    7.583,2,       25,-999.000,9,  -0.0772,2, -999.00,9,  -999.0,9,  -999.0,-999.00000000,9,-999.00000000,9,  3147.0,     -999.0,9,    34.8221,2,     -999.0,9,         -999.0,9,  -999.0,9,20140129,       0846
33RO20131223,       A16S,     112,          1,          2,          2,2,20140129,       0834,   -59.5011,   -30.9186,       3683,  3546.9,  -0.1267,  34.6555,2,  34.6551,2,    235.3,2,   233.8,3,   120.0,6,    32.3,6,    0.00,6,   2.240,6,-999.000,9,-999.000,9,-999.000,9,  -999.0,9, -999.00,9,-999.0000,9, -999.00,-999.0000,9,  -999.00,-999.000,9,   -0.127,2, -999.00,9,  -999.0,9,  -999.0,-999.00000000,9,-999.00000000,9,  3546.9,     -999.0,9,    34.8185,2,     -999.0,9,         -999.0,9,  -999.0,9,20140129,       0838
33RO20131223,       A16S,     112,          1,          1,          1,2,20140129,       0834,   -59.5011,   -30.9186,       3683,  3726.8,  -0.1161,  34.6551,2,  34.6549,2,    235.8,2,   235.2,2,   120.3,6,    32.3,6,    0.01,6,   2.242,6,   1.210,2,   0.586,2,   0.358,2,  2258.4,6,  2357.2,2,-999.0000,9, -999.00,   7.5856,2,       25,-999.000,9,  -0.1164,2, -999.00,9,  -999.0,9,  -999.0,-999.00000000,9,-999.00000000,9,  3726.8,     18.186,2,    34.8184,6,     -999.0,9,         -999.0,9,  -999.0,9,20140129,       0834