BOTTLE,20220815CCHSIOAMB
EXPOCODE,SECT_ID,STNNBR,CASTNO,SAMPNO,BTLNBR,BTLNBR_FLAG_W,DATE,TIME,LATITUDE,LONGITUDE,DEPTH,CTDPRS,CTDTMP,CTDSAL,CTDSAL_FLAG_W,SALNTY,SALNTY_FLAG_W,CTDOXY,CTDOXY_FLAG_W,OXYGEN,OXYGEN_FLAG_W,SILCAT,SILCAT_FLAG_W,NITRAT,NITRAT_FLAG_W,NITRIT,NITRIT_FLAG_W,PHSPHT,PHSPHT_FLAG_W,CFC-11,CFC-11_FLAG_W,CFC-12,CFC-12_FLAG_W,SF6,SF6_FLAG_W,TCARBN,TCARBN_FLAG_W,ALKALI,ALKALI_FLAG_W,PCO2,PCO2_FLAG_W,PCO2TMP,PH_SWS,PH_SWS_FLAG_W,PH_TMP,TRITUM,TRITUM_FLAG_W,REFTMP,REFTMP_FLAG_W,DELC13,DELC13_FLAG_W,DELC14,DELC14_FLAG_W,C14ERR,DOC,DOC_FLAG_W,TDN,TDN_FLAG_W,CTDRAW,N2O,N2O_FLAG_W,SALTREF,SALTREF_FLAG_W,HELIUM,HELIUM_FLAG_W,DELO18,DELO18_FLAG_W,CCL4,CCL4_FLAG_W,BTL_DATE,BTL_TIME
,,,,,,,,,,,METERS,DBAR,ITS-90,PSS-78,,PSS-78,,UMOL/KG,,UMOL/KG,,UMOL/KG,,UMOL/KG,,UMOL/KG,,UMOL/KG,,PMOL/KG,,PMOL/KG,,FMOL/KG,,UMOL/KG,,UMOL/KG,,UATM,,DEG C,,,DEG C,TU,,DEG C,,/MILLE,,/MILLE,,/MILLE,UMOL/KG,,UMOL/KG,,DBAR,NMOL/KG,,G/KG,,NMOL/KG,,/MILLE,,PMOL/KG,,,
33RO20131223,       A16S,      35,          2,         24,         24,2,20140105,       2018,   -22.9993,   -24.9997,       5114,     2.7,  26.2781,  36.9246,2,  36.9260,2,    203.9,2,     205,2,     0.8,2,     0.0,2,    0.00,2,   0.099,2,   1.592,3,   1.033,2,   1.230,2,  2101.9,6, 2427.45,2,-999.0000,9, -999.00,   8.0358,2,       25,-999.000,1,  26.2736,2,    1.28,2,    55.9,2,     2.5,  69.35606982,2,         5.24,2,     2.7,      6.274,2,    37.1002,2,     -999.0,1,         -999.0,1,  -999.0,9,20140105,       2211
33RO20131223,       A16S,      35,          2,         23,         23,2,20140105,       2018,   -22.9993,   -24.9997,       5114,     9.7,  25.8763,  36.9442,2,  36.9391,2,    205.1,2,   206.7,2,     0.8,2,     0.0,2,    0.00,2,   0.101,2,   1.613,3,   1.043,6,   1.236,6,  2101.4,2, 2427.51,2,-999.0000,9, -999.00,   8.0343,6,       25,-999.000,1,  25.8772,2,    1.25,2,    49.0,2,     2.6,  68.90728951,2,         4.17,2,     9.7,      6.361,6,    37.1133,2,     -999.0,1,         -999.0,1,  -999.0,9,20140105,       2210
33RO20131223,       A16S,      35,          2,         22,         22,2,20140105,       2018,   -22.9993,   -24.9997,       5114,    38.3,  23.5258,  36.6883,2,  36.6853,2,    220.4,2,   222.1,2,     0.8,2,     0.0,2,    0.00,2,   0.089,2,   1.808,3,   1.159,2,   1.305,2,  2092.4,3, 2413.29,6,-999.0000,9, -999.00,    8.029,2,       25,-999.000,1,  23.5224,2,    1.37,2,    48.9,2,     2.5,  66.67086764,2,         4.59,2,    38.3,      6.905,2,    36.8583,2,     -999.0,1,         -999.0,1,  -999.0,9,20140105,       2208
33RO20131223,       A16S,      35,          2,         21,         21,2,20140105,       2018,   -22.9993,   -24.9997,       5114,    67.4,  22.3708,  36.6865,2,  36.6884,2,    225.1,2,   225.2,2,     0.8,2,     0.0,2,    0.00,2,   0.101,2,   1.870,3,   1.186,2,   1.369,2,  2093.2,3, 2412.15,2,-999.0000,9, -999.00,   8.0287,2,       25,-999.000,1,  22.3782,2,    1.31,2,    54.8,2,     2.2,  63.70143793,2,         4.37,2,    67.4,      7.029,2,    36.8614,2,     -999.0,1,         -999.0,1,  -999.0,9,20140105,       2205
33RO20131223,       A16S,      35,          2,         20,         20,2,20140105,       2018,   -22.9993,   -24.9997,       5114,   117.8,  21.5089,  36.6464,2,  36.6416,2,    221.2,2,   220.4,2,     0.8,2,     0.0,2,    0.00,2,   0.121,2,   1.911,3,   1.199,2,   1.362,2,  2097.6,3, 2407.98,2,-999.0000,9, -999.00,   8.0147,2,       25,-999.000,1,  21.4886,2,    1.24,6,    48.4,6,     1.7,  60.32062628,2,         3.99,2,   117.8,      7.130,2,    36.8144,2,     -999.0,1,         -999.0,1,  -999.0,9,20140105,       2203
33RO20131223,       A16S,      35,          2,         19,         19,2,20140105,       2018,   -22.9993,   -24.9997,       5114,   197.4,  17.7168,  35.9328,2,  35.9323,2,    209.8,2,     210,2,     1.5,2,     2.0,2,    0.03,2,   0.330,2,   2.283,3,   1.403,2,   1.420,2,  2107.3,3, 2362.04,2,-999.0000,9, -999.00,   7.9329,2,       25,-999.000,1,  17.7278,2,    0.98,2,    58.3,2,     2.4,  54.03022229,2,         5.32,2,   197.4,      8.695,2,    36.1017,2,     -999.0,1,         -999.0,1,  -999.0,9,20140105,       2200
33RO20131223,       A16S,      35,          2,         18,         18,2,20140105,       2018,   -22.9993,   -24.9997,       5114,   298.1,  14.0140,  35.3173,2,  35.3136,2,    207.2,2,   206.8,2,     3.0,2,     8.2,2,    0.01,2,   0.667,2,   2.709,3,   1.618,2,   1.357,2,  2118.8,2, 2325.37,2,-999.0000,9, -999.00,   7.8484,2,       25,-999.000,1,  14.0197,2,    0.95,2,    62.5,2,     2.4,  47.60518421,2,        11.02,2,   298.1,     11.696,2,    35.4801,2,     -999.0,1,         -999.0,1,  -999.0,9,20140105,       2157
33RO20131223,       A16S,      35,          2,         17,         17,2,20140105,       2018,   -22.9993,   -24.9997,       5114,   397.5,  11.9819,  35.0581,2,  35.0595,2,    203.7,2,   203.6,2,     4.7,2,    13.1,2,    0.00,2,   0.955,2,   2.903,3,   1.696,2,   1.222,2,    2134,2, 2314.43,2,-999.0000,9, -999.00,    7.794,2,       25,-999.000,1,  12.0049,2, -999.00,5,  -999.0,5,  -999.0,  44.56095779,2,        15.52,2,   397.5,     13.790,2,    35.2248,2,     -999.0,1,         -999.0,1,  -999.0,9,20140105,       2154
33RO20131223,       A16S,      35,          2,         16,         16,2,20140105,       2018,   -22.9993,   -24.9997,       5114,   518.1,   9.3724,  34.7331,2,  34.7268,2,      192,2,   190.8,2,     9.7,2,    20.7,2,    0.00,2,   1.428,2,   2.882,3,   1.612,2,   0.916,2,  2158.8,2, 2299.64,2,-999.0000,9, -999.00,   7.7026,2,       25,-999.000,1,   9.4064,2,    0.89,2,    21.9,2,     2.4,  43.39412898,2,        23.19,2,   518.1,     16.883,2,    34.8905,6,     -999.0,1,         -999.0,1,  -999.0,9,20140105,       2151
33RO20131223,       A16S,      35,          2,         15,         15,2,20140105,       2018,   -22.9993,   -24.9997,       5114,   669.5,   5.9226,  34.4174,2,  34.4132,2,    194.1,2,   194.7,2,    20.3,2,    28.5,2,    0.00,2,   1.933,2,   2.428,3,   1.285,2,   0.576,2,  2184.3,2, 2294.36,2,-999.0000,9, -999.00,   7.6258,2,       25,-999.000,1,   5.9055,2,    0.91,2,   -28.8,2,     2.0,  41.89071495,2,        31.01,2,   669.5,     19.394,2,    34.5755,2,     -999.0,1,         -999.0,1,  -999.0,9,20140105,       2147
33RO20131223,       A16S,      35,          2,         14,         14,2,20140105,       2018,   -22.9993,   -24.9997,       5114,   817.7,   4.3741,  34.3977,2,  34.3990,2,      185,2,   184.7,2,    32.9,2,    32.0,2,    0.00,2,   2.178,2,   1.235,3,   0.635,2,   0.214,2,    2206,2, 2303.97,2,-999.0000,9, -999.00,   7.5825,2,       25,-999.000,1,   4.3706,2,    0.83,2,   -75.7,2,     2.1,  40.81364221,2,        34.44,2,   817.7,     21.145,2,    34.5612,2,     -999.0,1,         -999.0,1,  -999.0,9,20140105,       2144
33RO20131223,       A16S,      35,          2,         13,         13,2,20140105,       2018,   -22.9993,   -24.9997,       5114,  1038.2,   3.6022,  34.5121,2,  34.5110,2,    181.5,2,   181.8,2,    42.5,2,    32.0,2,    0.00,2,   2.190,2,   0.325,3,   0.163,2,   0.064,2,  2218.2,6,  2314.3,2,-999.0000,9, -999.00,   7.5829,2,       25,-999.000,1,   3.6026,2,    0.77,2,  -111.2,2,     2.3,  39.99087831,2,        34.78,2,  1038.2,     21.264,2,    34.6737,2,     -999.0,1,         -999.0,1,  -999.0,9,20140105,       2139
33RO20131223,       A16S,      35,          2,         12,         12,2,20140105,       2018,   -22.9993,   -24.9997,       5114,  1117.2,   3.5197,  34.5671,2,  34.5680,2,    183.3,2,   184.1,2,    42.9,2,    31.2,2,    0.00,2,   2.136,2,   0.193,3,   0.094,2,   0.049,2,  2216.9,2, 2318.69,6,-999.0000,9, -999.00,   7.5918,2,       25,-999.000,1,   3.5198,2,    0.79,2,  -127.6,2,     2.6,  40.63413009,2,        33.97,2,  1117.2,     20.772,2,     34.731,2,     -999.0,1,         -999.0,1,  -999.0,9,20140105,       2136
33RO20131223,       A16S,      35,          2,         11,         11,2,20140105,       2018,   -22.9993,   -24.9997,       5114,  1297.7,   3.3707,  34.6652,2,  34.6648,2,    190.6,2,   191.3,2,    43.9,2,    29.6,2,    0.00,2,   2.018,2,   0.107,3,   0.050,2,   0.036,2,  2215.6,2, 2324.55,2,-999.0000,9, -999.00,   7.6091,2,       25,-999.000,1,   3.3708,2,    0.77,2,  -120.1,2,     2.1,  41.12030876,2,        32.11,2,  1297.7,     19.740,2,    34.8283,2,     -999.0,1,         -999.0,1,  -999.0,9,20140105,       2132
33RO20131223,       A16S,      35,          2,         10,         10,2,20140105,       2018,   -22.9993,   -24.9997,       5114,  1598.2,   3.2942,  34.8306,2,  34.8309,2,    218.3,2,   217.7,2,    37.1,2,    25.0,2,    0.00,2,   1.684,2,   0.080,3,   0.036,2,   0.000,2,  2196.9,2, 2326.48,2,-999.0000,9, -999.00,   7.6677,2,       25,-999.000,1,   3.2942,2,    0.88,2,  -120.4,2,     2.4,  41.53917038,2,        27.33,2,  1598.2,     16.811,2,    34.9952,2,     -999.0,1,         -999.0,9,  -999.0,9,20140105,       2126
33RO20131223,       A16S,      35,          2,          9,          9,2,20140105,       2018,   -22.9993,   -24.9997,       5114,  1946.7,   3.2606,  34.9275,2,  34.9273,2,      243,2,   244.4,2,    27.0,2,    21.0,2,    0.00,2,   1.406,2,   0.112,3,   0.052,2,   0.013,2,    2176,2, 2322.79,2,-999.0000,9, -999.00,    7.799,4,       25,-999.000,1,   3.2606,2,    1.06,2,   -96.7,2,     2.7,  41.83835725,2,        23.54,2,  1946.7,     14.362,2,     35.092,2,     -999.0,1,         -999.0,9,  -999.0,9,20140105,       2119
33RO20131223,       A16S,      35,          2,          8,          8,2,20140105,       2018,   -22.9993,   -24.9997,       5114,  2346.9,   3.0338,  34.9347,2,  34.9547,4,    248.5,2,   248.7,2,    27.4,2,    20.1,2,    0.00,2,   1.346,2,-999.000,5,-999.000,9,-999.000,9,  -999.0,9, -999.00,9,-999.0000,9, -999.00,-999.0000,9,  -999.00,-999.000,9,    3.034,2, -999.00,9,  -999.0,9,  -999.0,-999.00000000,9,-999.00000000,9,  2346.9,     -999.0,9,    35.1195,2,     -999.0,1,         -999.0,9,  -999.0,9,20140105,       2112
33RO20131223,       A16S,      35,          2,          7,          7,2,20140105,       2018,   -22.9993,   -24.9997,       5114,  2745.8,   2.8228,  34.9225,2,  34.9219,2,    248.1,2,   249.1,2,    31.7,2,    20.7,2,    0.00,2,   1.384,2,   0.101,3,   0.046,2,   0.011,2,  2178.3,2,  2330.5,2,-999.0000,9, -999.00,   7.7255,2,       25,-999.000,1,   2.8227,2,    1.02,2,  -111.6,2,     1.8,  41.40453628,2,        23.25,2,  2745.8,     13.680,2,    35.0866,2,     -999.0,1,         -999.0,9,  -999.0,9,20140105,       2104
33RO20131223,       A16S,      35,          2,          6,          6,2,20140105,       2018,   -22.9993,   -24.9997,       5114,  3147.6,   2.6297,  34.9113,2,  35.0128,4,    249.4,2,   245.8,4,    32.1,2,    19.6,2,    0.00,4,   1.326,4,-999.000,5,-999.000,9,-999.000,9,  -999.0,9, -999.00,9,-999.0000,9, -999.00,-999.0000,9,  -999.00,-999.000,9,   2.6297,2, -999.00,9,  -999.0,9,  -999.0,-999.00000000,9,-999.00000000,9,  3147.6,     -999.0,9,    35.1779,6,     -999.0,1,         -999.0,9,  -999.0,9,20140105,       2056
33RO20131223,       A16S,      35,          2,          5,          5,2,20140105,       2018,   -22.9993,   -24.9997,       5114,  3647.3,   2.2631,  34.8765,2,  34.8755,2,    246.1,2,   247.3,2,    47.1,2,    22.3,2,    0.00,2,   1.507,2,   0.042,3,   0.016,2,   0.049,2,  2192.2,2, 2340.29,2,-999.0000,9, -999.00,   7.7133,2,       25,-999.000,1,   2.2637,2,    0.98,2,  -118.4,2,     1.8,  41.03803237,2,        24.85,2,  3647.3,     14.203,2,      35.04,2,     -999.0,1,         -999.0,9,  -999.0,9,20140105,       2047
33RO20131223,       A16S,      35,          2,          4,          4,2,20140105,       2018,   -22.9993,   -24.9997,       5114,  4146.7,   1.6151,  34.8079,2,  34.8083,2,    236.2,2,   236.6,2,    73.3,6,    25.9,6,    0.00,6,   1.762,6,   0.033,3,   0.011,2,   0.103,2,  2216.9,2, 2354.61,2,-999.0000,9, -999.00,   7.6781,2,       25,-999.000,9,   1.6149,2,    0.84,2,  -135.2,2,     1.8,  40.63413009,2,        28.44,2,  4146.7,     15.565,2,    34.9724,2,     -999.0,1,         -999.0,9,  -999.0,9,20140105,       2038
33RO20131223,       A16S,      35,          2,          3,          3,2,20140105,       2018,   -22.9993,   -24.9997,       5114,  4547.8,   1.1951,  34.7611,2,  34.7608,2,    228.6,2,   229.2,2,    91.3,6,    28.3,6,    0.00,6,   1.938,6,   0.055,3,   0.022,2,   0.089,2,  2235.9,2, 2360.81,2,-999.0000,9, -999.00,   7.6487,2,       25,-999.000,1,   1.1952,2,    0.72,2,  -148.6,2,     2.0,  39.94600028,2,        30.77,2,  4547.8,     16.455,2,    34.9247,2,     -999.0,1,         -999.0,9,  -999.0,9,20140105,       2031
33RO20131223,       A16S,      35,          2,          2,          2,2,20140105,       2018,   -22.9993,   -24.9997,       5114,  4998.2,   0.8556,  34.7223,2,  34.7218,2,      224,2,   223.7,2,   106.0,6,    30.3,6,    0.00,6,   2.080,6,   0.105,3,   0.047,2,   0.036,2,  2249.9,2, 2365.72,6,-999.0000,9, -999.00,    7.627,2,       25,-999.000,9,   0.8561,2,    0.62,2,  -157.0,2,     1.7,   39.2503908,2,        32.65,2,  4998.2,     17.242,2,    34.8855,2,     -999.0,1,         -999.0,9,  -999.0,9,20140105,       2022
33RO20131223,       A16S,      35,          2,          1,          1,2,20140105,       2018,   -22.9993,   -24.9997,       5114,    5177,   0.7771,  34.7119,2,  34.7115,2,    222.9,2,   223.1,2,   109.8,6,    30.7,6,    0.00,6,   2.111,6,   0.142,3,   0.065,6,   0.050,6,  2254.4,6, 2368.41,2,-999.0000,9, -999.00,   7.6368,3,       25,-999.000,1,   0.7774,2,    0.59,2,  -152.0,2,     2.2,  38.99608196,2,        33.16,2,  5177.0,     17.451,6,    34.8752,2,     -999.0,1,         -999.0,9,  -999.0,9,20140105,       2018