BOTTLE,20220815CCHSIOAMB
EXPOCODE,SECT_ID,STNNBR,CASTNO,SAMPNO,BTLNBR,BTLNBR_FLAG_W,DATE,TIME,LATITUDE,LONGITUDE,DEPTH,CTDPRS,CTDTMP,CTDSAL,CTDSAL_FLAG_W,SALNTY,SALNTY_FLAG_W,CTDOXY,CTDOXY_FLAG_W,OXYGEN,OXYGEN_FLAG_W,SILCAT,SILCAT_FLAG_W,NITRAT,NITRAT_FLAG_W,NITRIT,NITRIT_FLAG_W,PHSPHT,PHSPHT_FLAG_W,CFC-11,CFC-11_FLAG_W,CFC-12,CFC-12_FLAG_W,SF6,SF6_FLAG_W,TCARBN,TCARBN_FLAG_W,ALKALI,ALKALI_FLAG_W,PCO2,PCO2_FLAG_W,PCO2TMP,PH_SWS,PH_SWS_FLAG_W,PH_TMP,TRITUM,TRITUM_FLAG_W,REFTMP,REFTMP_FLAG_W,DELC13,DELC13_FLAG_W,DELC14,DELC14_FLAG_W,C14ERR,DOC,DOC_FLAG_W,TDN,TDN_FLAG_W,CTDRAW,N2O,N2O_FLAG_W,SALTREF,SALTREF_FLAG_W,HELIUM,HELIUM_FLAG_W,DELO18,DELO18_FLAG_W,CCL4,CCL4_FLAG_W,BTL_DATE,BTL_TIME
,,,,,,,,,,,METERS,DBAR,ITS-90,PSS-78,,PSS-78,,UMOL/KG,,UMOL/KG,,UMOL/KG,,UMOL/KG,,UMOL/KG,,UMOL/KG,,PMOL/KG,,PMOL/KG,,FMOL/KG,,UMOL/KG,,UMOL/KG,,UATM,,DEG C,,,DEG C,TU,,DEG C,,/MILLE,,/MILLE,,/MILLE,UMOL/KG,,UMOL/KG,,DBAR,NMOL/KG,,G/KG,,NMOL/KG,,/MILLE,,PMOL/KG,,,
33RO20131223,       A16S,     113,          3,         21,         21,2,20140129,       2358,    -60.013,   -30.8953,     -999.0,     3.2,  -0.1320,  33.2495,2,  33.2761,2,    344.2,2,   344.7,2,    69.0,2,    25.2,2,    0.28,2,   1.798,2,   6.076,6,   3.300,2,   3.243,6,  2143.2,6, 2265.25,2,  874.365,2,      20,   7.6631,2,       25,-999.000,9,-999.0000,9,    1.02,2,  -127.1,2,     2.2,  47.12863156,2,  29.57854842,2,     3.2,     15.349,6,     33.433,2,     -999.0,9,         -999.0,9,  -999.0,9,20140130,       0110
33RO20131223,       A16S,     113,          3,         20,         20,2,20140129,       2358,    -60.013,   -30.8953,     -999.0,    17.5,  -0.3014,  33.4286,2,  33.4541,2,      342,2,   343.5,2,    69.2,2,    25.4,2,    0.25,2,   1.808,2,   5.986,2,   3.246,2,   3.173,2,  2153.9,2, 2273.81,6,   879.23,2,      20,   7.6652,2,       25,-999.000,9,-999.0000,9,    1.02,2,  -126.8,2,     2.3,  46.60243664,2,  29.66829268,2,    17.5,     15.514,2,    33.6118,2,     -999.0,9,         -999.0,9,  -999.0,9,20140130,       0108
33RO20131223,       A16S,     113,          3,         19,         19,2,20140129,       2358,    -60.013,   -30.8953,     -999.0,    38.1,  -1.2180,  33.9146,2,  33.9159,2,    339.7,2,   341.4,2,    72.0,2,    26.4,2,    0.13,2,   1.855,2,   5.373,2,   2.897,2,   2.752,2,  2182.5,2, 2307.83,2,   891.04,2,      20,    7.663,2,       25,-999.000,9,-999.0000,9,    0.99,2,  -140.0,2,     3.2,  45.38227453,2,  29.49537765,2,    38.1,     16.551,2,    34.0759,2,     -999.0,9,         -999.0,9,  -999.0,9,20140130,       0107
33RO20131223,       A16S,     113,          3,         18,         18,2,20140129,       2358,    -60.013,   -30.8953,     -999.0,    57.8,  -1.5482,  34.0689,2,  34.0672,2,      329,2,   328.5,2,    73.6,2,    27.3,2,    0.13,2,   1.922,2,   5.061,2,   2.731,2,   2.522,2,  2196.7,2, 2316.63,2,   936.57,2,      20,   7.6428,2,       25,-999.000,9,-999.0000,9,    0.92,2,  -140.0,2,     1.9,  43.70455162,2,  30.46829268,2,    57.8,     16.863,2,    34.2278,2,     -999.0,9,         -999.0,9,  -999.0,9,20140130,       0105
33RO20131223,       A16S,     113,          3,         17,         17,2,20140129,       2358,    -60.013,   -30.8953,     -999.0,    98.5,  -1.4296,  34.2625,2,  34.2564,2,    302.7,2,   294.2,2,    77.8,2,    29.6,2,    0.16,2,   2.060,2,   4.453,2,   2.398,2,   2.158,2,  2219.6,2, 2325.21,2,  1032.24,2,      20,   7.6083,2,       25,-999.000,9,-999.0000,9,    0.78,6,  -135.4,6,     2.1,   41.8438044,2,   32.7902439,2,    98.5,     17.508,2,    34.4179,6,     -999.0,9,         -999.0,9,  -999.0,9,20140130,       0103
33RO20131223,       A16S,     113,          3,         16,         16,2,20140129,       2358,    -60.013,   -30.8953,     -999.0,     148,  -0.7942,  34.4400,2,  34.4430,2,    263.2,2,   258.3,2,    85.9,2,    31.2,2,    0.03,2,   2.144,2,   3.173,2,   1.683,2,   1.424,2,  2236.9,2, 2336.61,2,  1096.34,6,      20,   7.5867,2,       25,-999.000,9,-999.0000,9,    0.66,2,  -144.4,2,     1.8,  41.40912165,2,  34.35708691,2,   148.0,     18.591,2,    34.6054,2,     -999.0,9,         -999.0,9,  -999.0,9,20140130,       0101
33RO20131223,       A16S,     113,          3,         15,         15,2,20140129,       2358,    -60.013,   -30.8953,     -999.0,   197.9,  -0.1801,  34.5584,2,  34.5568,2,    232.6,2,   230.7,2,    93.1,2,    31.8,2,    0.01,2,   2.195,2,   2.210,2,   1.143,2,   0.915,2,  2249.1,2, 2346.79,2,  1134.79,2,      20,   7.5723,2,       25,-999.000,9,-999.0000,9,    0.54,6,  -138.4,6,     1.6,  40.98969092,2,        34.77,2,   197.9,     19.299,2,    34.7198,2,     -999.0,9,         -999.0,9,  -999.0,9,20140130,       0059
33RO20131223,       A16S,     113,          3,         14,         14,2,20140129,       2358,    -60.013,   -30.8953,     -999.0,   247.8,   0.0949,  34.6065,2,  34.6034,2,    220.8,2,   219.7,2,    96.8,2,    32.1,2,    0.01,2,   2.210,2,   1.747,2,   0.906,2,   0.660,2,  2253.1,2, 2351.61,2,  1146.93,2,      20,    7.567,2,       25,-999.000,9,-999.0000,9,    0.49,2,  -147.3,2,     1.7,  40.63889431,2,        34.74,2,   247.8,     19.563,2,    34.7666,2,     -999.0,9,         -999.0,9,  -999.0,9,20140130,       0057
33RO20131223,       A16S,     113,          3,         13,         13,2,20140129,       2358,    -60.013,   -30.8953,     -999.0,   347.5,   0.4301,  34.6562,2,  34.6552,2,    208.1,2,   206.5,2,   103.0,2,    32.4,2,    0.01,2,   2.234,2,   1.098,2,   0.553,2,   0.400,2,  2258.4,2, 2353.73,2,  1161.07,2,      20,   7.5677,2,       25,-999.000,9,-999.0000,9,    0.47,2,  -154.1,2,     1.5,   40.2270896,2,        34.96,2,   347.5,     19.605,2,    34.8186,2,     -999.0,9,         -999.0,9,  -999.0,9,20140130,       0054
33RO20131223,       A16S,     113,          3,         12,         12,2,20140129,       2358,    -60.013,   -30.8953,     -999.0,   447.8,   0.5502,  34.6770,2,  34.6760,2,      202,2,     202,2,   108.6,2,    32.5,2,    0.00,2,   2.244,2,   0.769,2,   0.375,2,   0.212,2,  2260.8,6, 2356.17,2, 1155.685,6,      20,   7.5681,2,       25,-999.000,9,-999.0000,9,    0.42,2,  -152.9,2,     2.1,  39.81528489,2,  35.11318478,2,   447.8,     19.466,2,    34.8395,2,     -999.0,9,         -999.0,9,  -999.0,9,20140130,       0052
33RO20131223,       A16S,     113,          3,         11,         11,2,20140129,       2358,    -60.013,   -30.8953,     -999.0,     548,   0.5501,  34.6813,2,  34.6802,2,    202.6,2,   201.4,2,   110.7,2,    32.6,2,    0.00,2,   2.249,2,   0.673,6,   0.330,2,   0.170,6,    2264,2, 2358.06,6,  1164.54,2,      20,   7.5657,2,       25,-999.000,9,-999.0000,9,    0.41,2,  -156.0,2,     1.6,  39.50261835,2,  35.06781891,2,   548.0,     19.472,6,    34.8438,2,     -999.0,9,         -999.0,9,  -999.0,9,20140130,       0049
33RO20131223,       A16S,     113,          3,         10,         10,2,20140129,       2358,    -60.013,   -30.8953,     -999.0,   648.2,   0.5038,  34.6807,2,  34.6799,2,    205.3,2,     203,2,   112.9,2,    32.6,2,    0.00,2,   2.249,2,   0.642,2,   0.314,2,   0.197,2,  2262.3,2, 2356.73,2,  1156.94,2,      20,   7.5692,2,       25,-999.000,9,-999.0000,9,    0.42,2,  -158.8,2,     1.9,  39.34247207,2,  35.12830673,2,   648.2,     19.276,2,    34.8434,2,     -999.0,9,         -999.0,9,  -999.0,9,20140130,       0046
33RO20131223,       A16S,     113,          3,          9,          9,2,20140129,       2358,    -60.013,   -30.8953,     -999.0,   747.5,   0.4562,  34.6808,2,  34.6812,2,    203.2,2,   203.3,2,   115.0,2,    32.7,2,    0.00,2,   2.256,2,   0.593,2,   0.288,2,   0.176,2,    2262,2, 2359.89,2,  1159.64,2,      20,   7.5696,2,       25,-999.000,9,-999.0000,9,    0.43,2,  -159.8,2,     1.7,  39.20520383,2,   35.1804878,2,   747.5,     19.197,2,    34.8447,2,     -999.0,9,         -999.0,9,  -999.0,9,20140130,       0044
33RO20131223,       A16S,     113,          3,          8,          8,2,20140129,       2358,    -60.013,   -30.8953,     -999.0,   897.6,   0.3946,  34.6801,2,  34.6806,2,    206.2,2,   206.1,2,   117.0,2,    32.7,2,    0.00,2,   2.256,2,   0.553,2,   0.269,2,   0.133,2,  2262.4,2, 2357.28,2,  1145.66,2,      20,   7.5713,2,       25,-999.000,9,-999.0000,9,    0.41,2,  -157.4,2,     1.6,  39.06030958,2,  35.16097561,2,   897.6,     18.961,2,    34.8441,2,     -999.0,9,         -999.0,9,  -999.0,9,20140130,       0040
33RO20131223,       A16S,     113,          3,          7,          7,2,20140129,       2358,    -60.013,   -30.8953,     -999.0,  1098.5,   0.2852,  34.6761,2,  34.6767,2,    209.6,2,   209.6,2,   119.1,2,    32.6,2,    0.00,2,   2.256,2,   0.588,2,   0.287,2,   0.140,2,  2261.4,2, 2357.21,2,  1138.03,2,      20,   7.5735,2,       25,-999.000,9,-999.0000,9,    0.44,2,  -158.2,2,     1.5,  38.70188696,2,  35.23902439,2,  1098.5,     18.793,2,    34.8402,2,     -999.0,9,         -999.0,9,  -999.0,9,20140130,       0036
33RO20131223,       A16S,     113,          3,          6,          6,2,20140129,       2358,    -60.013,   -30.8953,     -999.0,  1397.3,   0.1754,  34.6725,2,  34.6714,2,    212.9,2,   213.5,2,   120.7,2,    32.7,2,    0.00,2,   2.257,2,   0.592,2,   0.289,2,   0.132,2,  2260.6,2,  2357.4,2,  1138.47,2,      20,    7.575,2,       25,-999.000,9,-999.0000,9,    0.45,2,  -161.5,2,     2.0,  38.79339912,2,  35.24878049,2,  1397.3,     18.701,2,    34.8349,2,     -999.0,9,         -999.0,9,  -999.0,9,20140130,       0030
33RO20131223,       A16S,     113,          3,          5,          5,2,20140129,       2358,    -60.013,   -30.8953,     -999.0,  1697.8,   0.0694,  34.6681,2,  34.6679,2,    218.4,2,   218.5,2,   121.1,2,    32.6,2,    0.00,2,   2.251,2,   0.700,2,   0.340,2,   0.162,2,    2259,2, 2356.25,2,  1120.92,2,      20,     7.58,2,       25,-999.000,9,-999.0000,9,    0.52,2,  -155.7,2,     1.4,  38.86203324,2,  35.14146341,2,  1697.8,     18.553,2,    34.8314,6,     -999.0,9,         -999.0,9,  -999.0,9,20140130,       0024
33RO20131223,       A16S,     113,          3,          4,          4,2,20140129,       2358,    -60.013,   -30.8953,     -999.0,  1996.5,  -0.0152,  34.6641,2,  34.6638,2,    222.7,2,   222.7,2,   121.9,6,    32.4,6,    0.00,6,   2.247,6,   0.823,2,   0.398,2,   0.194,2,  2257.1,2, 2366.41,3,  1124.95,2,      20,   7.5813,6,       25,-999.000,9,-999.0000,9,    0.52,2,  -157.2,2,     1.9,  39.28908998,2,  34.99512195,2,  1996.5,     18.422,2,    34.8273,2,     -999.0,9,         -999.0,9,  -999.0,9,20140130,       0018
33RO20131223,       A16S,     113,          3,          3,          3,2,20140129,       2358,    -60.013,   -30.8953,     -999.0,    2299,  -0.0551,  34.6618,2,  34.6606,2,    224.7,2,   224.9,2,   122.9,6,    32.5,6,    0.00,6,   2.247,6,   0.895,2,   0.434,2,   0.207,2,  2256.7,2, 2356.72,6,  1117.41,2,      20,    7.582,2,       25,-999.000,9,-999.0000,9,    0.52,2,  -154.5,2,     1.4,  39.56362645,2,  35.06341463,2,  2299.0,     18.339,2,     34.824,2,     -999.0,9,         -999.0,9,  -999.0,9,20140130,       0011
33RO20131223,       A16S,     113,          3,          2,          2,2,20140129,       2358,    -60.013,   -30.8953,     -999.0,  2597.7,  -0.0707,  34.6601,2,  34.6599,2,    226.4,2,   226.8,2,   123.8,6,    32.4,6,    0.00,6,   2.248,6,   0.940,2,   0.453,2,   0.236,2,  2256.9,2, 2357.01,2,  1118.78,6,      20,   7.5842,2,       25,-999.000,9,-999.0000,9,    0.53,2,  -155.2,2,     1.5,   39.4187322,2,  35.00487805,2,  2597.7,     18.260,2,    34.8233,2,     -999.0,9,         -999.0,9,  -999.0,9,20140130,       0005
33RO20131223,       A16S,     113,          3,          1,          1,2,20140129,       2358,    -60.013,   -30.8953,     -999.0,  2953.5,  -0.0603,  34.6595,2,  34.6583,2,    227.6,2,   231.2,2,   123.7,6,    32.3,6,    0.00,6,   2.246,6,   0.975,6,   0.468,2,   0.234,6,  2258.4,6, 2357.21,2,  1121.05,2,      20,   7.5546,4,       25,-999.000,9,-999.0000,9,    0.54,2,  -153.4,2,     1.5,  39.60938253,2,  34.94634146,2,  2953.5,     18.180,6,    34.8218,2,     -999.0,9,         -999.0,9,  -999.0,9,20140129,       2358