BOTTLE,20220815CCHSIOAMB
EXPOCODE,SECT_ID,STNNBR,CASTNO,SAMPNO,BTLNBR,BTLNBR_FLAG_W,DATE,TIME,LATITUDE,LONGITUDE,DEPTH,CTDPRS,CTDTMP,CTDSAL,CTDSAL_FLAG_W,SALNTY,SALNTY_FLAG_W,CTDOXY,CTDOXY_FLAG_W,OXYGEN,OXYGEN_FLAG_W,SILCAT,SILCAT_FLAG_W,NITRAT,NITRAT_FLAG_W,NITRIT,NITRIT_FLAG_W,PHSPHT,PHSPHT_FLAG_W,CFC-11,CFC-11_FLAG_W,CFC-12,CFC-12_FLAG_W,SF6,SF6_FLAG_W,TCARBN,TCARBN_FLAG_W,ALKALI,ALKALI_FLAG_W,PCO2,PCO2_FLAG_W,PCO2TMP,PH_SWS,PH_SWS_FLAG_W,PH_TMP,TRITUM,TRITUM_FLAG_W,REFTMP,REFTMP_FLAG_W,DELC13,DELC13_FLAG_W,DELC14,DELC14_FLAG_W,C14ERR,DOC,DOC_FLAG_W,TDN,TDN_FLAG_W,CTDRAW,N2O,N2O_FLAG_W,SALTREF,SALTREF_FLAG_W,HELIUM,HELIUM_FLAG_W,DELO18,DELO18_FLAG_W,CCL4,CCL4_FLAG_W,BTL_DATE,BTL_TIME
,,,,,,,,,,,METERS,DBAR,ITS-90,PSS-78,,PSS-78,,UMOL/KG,,UMOL/KG,,UMOL/KG,,UMOL/KG,,UMOL/KG,,UMOL/KG,,PMOL/KG,,PMOL/KG,,FMOL/KG,,UMOL/KG,,UMOL/KG,,UATM,,DEG C,,,DEG C,TU,,DEG C,,/MILLE,,/MILLE,,/MILLE,UMOL/KG,,UMOL/KG,,DBAR,NMOL/KG,,G/KG,,NMOL/KG,,/MILLE,,PMOL/KG,,,
33RO20131223,       A16S,      66,          1,         24,         24,2,20140115,       0126,   -38.4986,    -26.867,       4173,       4,  17.5721,  35.3087,2,  35.3087,2,    241.2,2,   242.4,2,     0.5,2,     0.0,2,    0.00,2,   0.140,2,   2.417,2,   1.454,2,   1.645,2,  2062.6,6, 2330.51,2,-999.0000,9, -999.00,   7.9772,2,       25,-999.000,9,  17.5742,2, -999.00,9,  -999.0,9,  -999.0,-999.00000000,9,-999.00000000,9,     4.0,      7.987,2,    35.4752,2,     -999.0,9,         -999.0,9,  -999.0,9,20140115,       0304
33RO20131223,       A16S,      66,          1,         23,         23,2,20140115,       0126,   -38.4986,    -26.867,       4173,     9.6,  17.5713,  35.3087,2,  35.3091,2,    241.3,2,   242.6,2,     0.5,2,     0.0,2,    0.01,2,   0.140,2,-999.000,9,-999.000,9,-999.000,9,  2063.1,2, 2331.45,2,-999.0000,9, -999.00,   7.9753,2,       25,-999.000,9,  17.5728,2, -999.00,9,  -999.0,9,  -999.0,-999.00000000,9,-999.00000000,9,     9.6,     -999.0,9,    35.4756,2,     -999.0,9,         -999.0,9,  -999.0,9,20140115,       0303
33RO20131223,       A16S,      66,          1,         22,         22,2,20140115,       0126,   -38.4986,    -26.867,       4173,    38.1,  17.5396,  35.3085,2,  35.3104,2,    242.4,2,   242.7,2,     0.5,2,     0.0,2,    0.01,2,   0.149,2,-999.000,9,-999.000,9,-999.000,9,  2063.3,2, 2332.81,6,-999.0000,9, -999.00,   7.9728,2,       25,-999.000,9,   17.545,2, -999.00,9,  -999.0,9,  -999.0,-999.00000000,9,-999.00000000,9,    38.1,     -999.0,9,    35.4769,2,     -999.0,9,         -999.0,9,  -999.0,9,20140115,       0301
33RO20131223,       A16S,      66,          1,         21,         21,2,20140115,       0126,   -38.4986,    -26.867,       4173,    67.7,  14.6251,  35.3095,2,  35.3207,2,    242.1,2,   243.1,2,     1.1,2,     1.8,2,    0.77,2,   0.342,2,-999.000,9,-999.000,9,-999.000,9,  2092.3,2, 2331.34,2,-999.0000,9, -999.00,   7.9139,2,       25,-999.000,9,  14.6236,2, -999.00,9,  -999.0,9,  -999.0,-999.00000000,9,-999.00000000,9,    67.7,     -999.0,9,    35.4873,2,     -999.0,9,         -999.0,9,  -999.0,9,20140115,       0259
33RO20131223,       A16S,      66,          1,         20,         20,2,20140115,       0126,   -38.4986,    -26.867,       4173,   117.4,  13.6354,  35.3096,2,  35.3104,2,    244.5,2,   243.8,2,     1.4,2,     4.9,2,    0.01,2,   0.461,2,   2.796,2,   1.659,2,   1.805,2,  2104.9,2, 2331.27,2,-999.0000,9, -999.00,   7.8842,2,       25,-999.000,9,  13.6334,2, -999.00,9,  -999.0,9,  -999.0,-999.00000000,9,-999.00000000,9,   117.4,      9.208,2,    35.4769,2,     -999.0,9,         -999.0,9,  -999.0,9,20140115,       0256
33RO20131223,       A16S,      66,          1,         19,         19,2,20140115,       0126,   -38.4986,    -26.867,       4173,   198.6,  13.2277,  35.2815,2,  35.2807,2,    243.5,2,   243.5,2,     2.0,2,     6.0,2,    0.01,2,   0.531,2,-999.000,9,-999.000,9,-999.000,9,  2108.1,2, 2325.51,2,-999.0000,9, -999.00,    7.876,2,       25,-999.000,9,  13.2263,2, -999.00,9,  -999.0,9,  -999.0,-999.00000000,9,-999.00000000,9,   198.6,     -999.0,9,    35.4471,2,     -999.0,9,         -999.0,9,  -999.0,9,20140115,       0254
33RO20131223,       A16S,      66,          1,         18,         18,2,20140115,       0126,   -38.4986,    -26.867,       4173,   298.2,  12.8255,  35.2295,2,  35.2307,2,    241.9,2,   242.9,2,     2.1,2,     7.0,2,    0.01,2,   0.596,2,-999.000,9,-999.000,9,-999.000,9,  -999.0,9, -999.00,9,-999.0000,9, -999.00,-999.0000,9,  -999.00,-999.000,9,  12.8263,2, -999.00,9,  -999.0,9,  -999.0,-999.00000000,9,-999.00000000,9,   298.2,     -999.0,9,    35.3968,6,     -999.0,9,         -999.0,9,  -999.0,9,20140115,       0251
33RO20131223,       A16S,      66,          1,         17,         17,2,20140115,       0126,   -38.4986,    -26.867,       4173,     398,  11.5215,  35.0113,2,  35.0131,2,    223.4,2,   222.3,2,     3.6,2,    12.4,2,    0.01,2,   0.920,2,   3.092,6,   1.771,2,   1.572,6,    2129,2, 2312.33,2,-999.0000,9, -999.00,   7.8077,2,       25,-999.000,9,  11.5066,2, -999.00,9,  -999.0,9,  -999.0,-999.00000000,9,-999.00000000,9,   398.0,     11.687,6,    35.1782,2,     -999.0,9,         -999.0,9,  -999.0,9,20140115,       0248
33RO20131223,       A16S,      66,          1,         16,         16,2,20140115,       0126,   -38.4986,    -26.867,       4173,     518,   8.2025,  34.5505,2,  34.5509,2,    221.8,2,   220.4,2,     7.1,2,    20.8,2,    0.00,2,   1.446,2,-999.000,9,-999.000,9,-999.000,9,  2149.5,2, 2288.53,2,-999.0000,9, -999.00,   7.7096,2,       25,-999.000,9,   8.2013,2, -999.00,9,  -999.0,9,  -999.0,-999.00000000,9,-999.00000000,9,   518.0,     -999.0,9,    34.7138,2,     -999.0,9,         -999.0,9,  -999.0,9,20140115,       0245
33RO20131223,       A16S,      66,          1,         15,         15,2,20140115,       0126,   -38.4986,    -26.867,       4173,   667.8,   5.2931,  34.2322,2,  34.2332,2,    252.2,2,   251.1,2,    10.8,2,    25.3,2,    0.00,2,   1.740,2,   3.970,2,   2.125,2,   1.601,2,  2155.3,2, 2280.86,2,-999.0000,9, -999.00,   7.6715,2,       25,-999.000,9,   5.2941,2, -999.00,9,  -999.0,9,  -999.0,-999.00000000,9,-999.00000000,9,   667.8,     14.490,2,    34.3946,2,     -999.0,9,         -999.0,9,  -999.0,9,20140115,       0241
33RO20131223,       A16S,      66,          1,         14,         14,2,20140115,       0126,   -38.4986,    -26.867,       4173,   817.6,   4.3516,  34.1939,2,  34.1936,2,    251.9,2,   252.1,2,    16.1,2,    27.3,2,    0.00,2,   1.872,2,-999.000,9,-999.000,9,-999.000,9,  -999.0,9, -999.00,9,-999.0000,9, -999.00,-999.0000,9,  -999.00,-999.000,9,   4.3504,2, -999.00,9,  -999.0,9,  -999.0,-999.00000000,9,-999.00000000,9,   817.6,     -999.0,9,    34.3548,2,     -999.0,9,         -999.0,9,  -999.0,9,20140115,       0237
33RO20131223,       A16S,      66,          1,         13,         13,2,20140115,       0126,   -38.4986,    -26.867,       4173,   998.4,   3.7215,  34.2267,2,  34.2259,2,    234.4,2,     234,2,    25.2,2,    29.8,2,    0.00,2,   2.035,2,-999.000,9,-999.000,9,-999.000,9,    2184,2, 2290.68,2,-999.0000,9, -999.00,   7.6197,2,       25,-999.000,9,   3.7215,2, -999.00,9,  -999.0,9,  -999.0,-999.00000000,9,-999.00000000,9,   998.4,     -999.0,9,    34.3873,2,     -999.0,9,         -999.0,9,  -999.0,9,20140115,       0233
33RO20131223,       A16S,      66,          1,         12,         12,2,20140115,       0126,   -38.4986,    -26.867,       4173,  1148.1,   3.2960,  34.2879,2,  34.2871,2,    214.4,2,   215.4,2,    35.7,2,    31.7,2,    0.00,2,   2.166,2,   2.308,2,   1.149,2,   0.602,2,  2203.6,2, 2301.25,2,-999.0000,9, -999.00,   7.5905,2,       25,-999.000,9,   3.2962,2, -999.00,9,  -999.0,9,  -999.0,-999.00000000,9,-999.00000000,9,  1148.1,     19.249,2,    34.4488,2,     -999.0,9,         -999.0,9,  -999.0,9,20140115,       0230
33RO20131223,       A16S,      66,          1,         11,         11,2,20140115,       0126,   -38.4986,    -26.867,       4173,  1297.7,   3.0415,  34.3776,2,  34.3786,2,    195.3,2,   196.1,2,    47.2,2,    33.0,2,    0.00,2,   2.258,2,-999.000,9,-999.000,9,-999.000,9,  -999.0,9, -999.00,9,-999.0000,9, -999.00,-999.0000,9,  -999.00,-999.000,9,   3.0414,2, -999.00,9,  -999.0,9,  -999.0,-999.00000000,9,-999.00000000,9,  1297.7,     -999.0,9,    34.5407,2,     -999.0,9,         -999.0,9,  -999.0,9,20140115,       0226
33RO20131223,       A16S,      66,          1,         10,         10,2,20140115,       0126,   -38.4986,    -26.867,       4173,  1507.6,   2.8768,  34.4975,2,  34.4970,2,    181.2,2,   181.5,2,    57.0,2,    33.2,2,    0.00,2,   2.273,2,-999.000,9,-999.000,9,-999.000,9,  2236.3,2, 2324.54,6,-999.0000,9, -999.00,   7.5621,2,       25,-999.000,9,   2.8772,2, -999.00,9,  -999.0,9,  -999.0,-999.00000000,9,-999.00000000,9,  1507.6,     -999.0,9,    34.6596,2,     -999.0,9,         -999.0,9,  -999.0,9,20140115,       0221
33RO20131223,       A16S,      66,          1,          9,          9,2,20140115,       0126,   -38.4986,    -26.867,       4173,  1722.3,   2.8480,  34.6172,2,  34.6163,2,    179.4,2,   180.4,2,    60.3,2,    31.9,2,    0.00,2,   2.188,2,-999.000,9,-999.000,9,-999.000,9,  2239.5,6, 2332.64,2,-999.0000,9, -999.00,   7.5913,2,       25,-999.000,9,   2.8479,2, -999.00,9,  -999.0,9,  -999.0,-999.00000000,9,-999.00000000,9,  1722.3,     -999.0,9,    34.7795,2,     -999.0,9,         -999.0,9,  -999.0,9,20140115,       0217
33RO20131223,       A16S,      66,          1,          8,          8,2,20140115,       0126,   -38.4986,    -26.867,       4173,  2006.9,   2.9263,  34.7444,2,  34.7434,2,    196.1,2,   196.1,2,    55.2,2,    28.8,2,    0.00,2,   1.961,2,-999.000,9,-999.000,9,-999.000,9,  2226.4,2, 2337.15,2,-999.0000,9, -999.00,    7.618,2,       25,-999.000,9,   2.9259,2, -999.00,9,  -999.0,9,  -999.0,-999.00000000,9,-999.00000000,9,  2006.9,     -999.0,9,    34.9073,2,     -999.0,9,         -999.0,9,  -999.0,9,20140115,       0211
33RO20131223,       A16S,      66,          1,          7,          7,2,20140115,       0126,   -38.4986,    -26.867,       4173,  2298.5,   2.9773,  34.8355,2,  34.8354,2,    216.6,2,   215.9,2,    46.8,2,    25.5,2,    0.00,2,   1.728,2,-999.000,9,-999.000,9,-999.000,9,  -999.0,9, -999.00,9,-999.0000,9, -999.00,-999.0000,9,  -999.00,-999.000,9,   2.9773,2, -999.00,9,  -999.0,9,  -999.0,-999.00000000,9,-999.00000000,9,  2298.5,     -999.0,9,    34.9996,2,     -999.0,9,         -999.0,9,  -999.0,9,20140115,       0205
33RO20131223,       A16S,      66,          1,          6,          6,2,20140115,       0126,   -38.4986,    -26.867,       4173,  2649.2,   2.7290,  34.8500,2,  34.8507,2,    222.5,2,   223.3,2,    49.8,2,    24.9,2,    0.00,2,   1.686,2,   0.110,2,   0.052,2,   0.000,2,  2208.2,2, 2338.55,2,-999.0000,9, -999.00,   7.6691,2,       25,-999.000,9,   2.7299,2, -999.00,9,  -999.0,9,  -999.0,-999.00000000,9,-999.00000000,9,  2649.2,     16.027,2,    35.0151,2,     -999.0,9,         -999.0,9,  -999.0,9,20140115,       0158
33RO20131223,       A16S,      66,          1,          5,          5,2,20140115,       0126,   -38.4986,    -26.867,       4173,  3047.6,   2.3075,  34.8294,2,  34.8303,2,    222.5,2,   222.1,2,    61.0,2,    25.7,2,    0.00,2,   1.752,2,-999.000,9,-999.000,9,-999.000,9,  2216.7,2, 2341.51,6,-999.0000,9, -999.00,   7.6628,2,       25,-999.000,9,   2.3076,2, -999.00,9,  -999.0,9,  -999.0,-999.00000000,9,-999.00000000,9,  3047.6,     -999.0,9,    34.9945,2,     -999.0,9,         -999.0,9,  -999.0,9,20140115,       0150
33RO20131223,       A16S,      66,          1,          4,          4,2,20140115,       0126,   -38.4986,    -26.867,       4173,  3447.6,   1.6309,  34.7687,2,  34.7685,2,    213.2,2,   213.7,2,    86.3,6,    28.7,6,    0.00,6,   1.959,6,-999.000,9,-999.000,9,-999.000,9,  -999.0,9, -999.00,9,-999.0000,9, -999.00,-999.0000,9,  -999.00,-999.000,9,    1.631,2, -999.00,9,  -999.0,9,  -999.0,-999.00000000,9,-999.00000000,9,  3447.6,     -999.0,9,    34.9324,2,     -999.0,9,         -999.0,9,  -999.0,9,20140115,       0142
33RO20131223,       A16S,      66,          1,          3,          3,2,20140115,       0126,   -38.4986,    -26.867,       4173,  3796.1,   1.0924,  34.7262,2,  34.7267,2,    212.7,2,   212.5,2,   104.5,6,    30.6,6,    0.00,6,   2.101,6,   0.189,2,   0.088,2,   0.040,2,  2254.7,2, 2360.06,2,-999.0000,9, -999.00,    7.609,6,       25,-999.000,9,   1.0912,2, -999.00,9,  -999.0,9,  -999.0,-999.00000000,9,-999.00000000,9,  3796.1,     17.682,2,    34.8905,6,     -999.0,9,         -999.0,9,  -999.0,9,20140115,       0136
33RO20131223,       A16S,      66,          1,          2,          2,2,20140115,       0126,   -38.4986,    -26.867,       4173,    3997,   0.8913,  34.7114,2,  34.7110,2,    212.8,2,   213.2,2,   111.0,6,    31.2,6,    0.00,6,   2.138,6,-999.000,9,-999.000,9,-999.000,9,  -999.0,9, -999.00,9,-999.0000,9, -999.00,-999.0000,9,  -999.00,-999.000,9,   0.8919,2, -999.00,9,  -999.0,9,  -999.0,-999.00000000,9,-999.00000000,9,  3997.0,     -999.0,9,    34.8747,2,     -999.0,9,         -999.0,9,  -999.0,9,20140115,       0131
33RO20131223,       A16S,      66,          1,          1,          1,2,20140115,       0126,   -38.4986,    -26.867,       4173,  4232.8,   0.7293,  34.6989,2,  34.6998,2,    214.2,2,   214.3,2,   116.3,6,    31.7,6,    0.00,6,   2.172,6,   0.308,2,   0.143,2,   0.092,2,  2263.9,6, 2368.36,2,-999.0000,9, -999.00,   7.6045,2,       25,-999.000,9,   0.7288,2, -999.00,9,  -999.0,9,  -999.0,-999.00000000,9,-999.00000000,9,  4232.8,     17.807,2,    34.8634,2,     -999.0,9,         -999.0,9,  -999.0,9,20140115,       0126