BOTTLE,20220815CCHSIOAMB
EXPOCODE,SECT_ID,STNNBR,CASTNO,SAMPNO,BTLNBR,BTLNBR_FLAG_W,DATE,TIME,LATITUDE,LONGITUDE,DEPTH,CTDPRS,CTDTMP,CTDSAL,CTDSAL_FLAG_W,SALNTY,SALNTY_FLAG_W,CTDOXY,CTDOXY_FLAG_W,OXYGEN,OXYGEN_FLAG_W,SILCAT,SILCAT_FLAG_W,NITRAT,NITRAT_FLAG_W,NITRIT,NITRIT_FLAG_W,PHSPHT,PHSPHT_FLAG_W,CFC-11,CFC-11_FLAG_W,CFC-12,CFC-12_FLAG_W,SF6,SF6_FLAG_W,TCARBN,TCARBN_FLAG_W,ALKALI,ALKALI_FLAG_W,PCO2,PCO2_FLAG_W,PCO2TMP,PH_SWS,PH_SWS_FLAG_W,PH_TMP,TRITUM,TRITUM_FLAG_W,REFTMP,REFTMP_FLAG_W,DELC13,DELC13_FLAG_W,DELC14,DELC14_FLAG_W,C14ERR,DOC,DOC_FLAG_W,TDN,TDN_FLAG_W,CTDRAW,N2O,N2O_FLAG_W,SALTREF,SALTREF_FLAG_W,HELIUM,HELIUM_FLAG_W,DELO18,DELO18_FLAG_W,CCL4,CCL4_FLAG_W,BTL_DATE,BTL_TIME
,,,,,,,,,,,METERS,DBAR,ITS-90,PSS-78,,PSS-78,,UMOL/KG,,UMOL/KG,,UMOL/KG,,UMOL/KG,,UMOL/KG,,UMOL/KG,,PMOL/KG,,PMOL/KG,,FMOL/KG,,UMOL/KG,,UMOL/KG,,UATM,,DEG C,,,DEG C,TU,,DEG C,,/MILLE,,/MILLE,,/MILLE,UMOL/KG,,UMOL/KG,,DBAR,NMOL/KG,,G/KG,,NMOL/KG,,/MILLE,,PMOL/KG,,,
33RO20131223,       A16S,      55,          2,         24,         24,2,20140111,       1723,   -33.0001,        -25,       4586,     3.4,  23.2118,  35.4083,2,  35.4215,2,    219.7,2,   220.7,2,     0.8,2,     0.1,2,    0.00,2,   0.070,2,   1.867,3,   1.196,2,   1.389,2,  2053.6,6, 2332.06,2,-999.0000,9, -999.00,   7.9929,2,       25,-999.000,9,  23.1581,2,    0.63,6,  -134.1,6,     0.4,  62.00607276,2,         3.53,2,     3.4,      7.047,2,    35.5885,2,     -999.0,9,         -999.0,9,  -999.0,9,20140111,       1905
33RO20131223,       A16S,      55,          2,         23,         23,2,20140111,       1723,   -33.0001,        -25,       4586,     9.9,  22.2686,  35.4248,2,  35.4254,2,    220.4,2,   222.1,2,     0.8,2,     0.1,2,    0.00,2,   0.059,2,   1.907,3,   1.209,6,   1.413,6,  2054.7,2, 2331.54,2,-999.0000,9, -999.00,   7.9888,2,       25,-999.000,9,  22.2655,2,    0.74,6,  -131.4,6,     0.0,  61.62192657,2,         4.15,2,     9.9,      7.063,6,    35.5925,2,     -999.0,9,         -999.0,9,  -999.0,9,20140111,       1904
33RO20131223,       A16S,      55,          2,         22,         22,2,20140111,       1723,   -33.0001,        -25,       4586,    37.8,  19.4352,  35.6270,2,  35.6341,2,    237.3,2,   240.1,2,     0.9,2,     0.1,2,    0.00,2,   0.076,2,   2.186,3,   1.372,2,   1.597,2,  2069.9,2, 2343.33,6,-999.0000,9, -999.00,   7.9801,2,       25,-999.000,9,   19.521,2,    0.89,6,  -122.7,6,     0.3,  60.61176437,2,         3.87,2,    37.8,      7.787,2,    35.8021,2,     -999.0,9,         -999.0,9,  -999.0,9,20140111,       1902
33RO20131223,       A16S,      55,          2,         21,         21,2,20140111,       1723,   -33.0001,        -25,       4586,    67.2,  17.7328,  35.6403,2,  35.6447,2,    243.3,2,   243.5,2,     0.9,2,     0.1,2,    0.01,2,   0.099,2,   2.314,3,   1.426,2,   1.612,2,  2073.1,2, 2344.96,2,-999.0000,9, -999.00,   7.9747,2,       25,-999.000,9,  17.7238,2,    0.95,6,  -124.5,6,    13.1,  56.72050577,2,         3.54,2,    67.2,      8.105,2,    35.8127,2,     -999.0,9,         -999.0,9,  -999.0,9,20140111,       1900
33RO20131223,       A16S,      55,          2,         20,         20,2,20140111,       1723,   -33.0001,        -25,       4586,   117.6,  16.1564,  35.5955,2,  35.5950,2,      223,2,   224.4,2,     1.3,2,     1.5,2,    0.09,2,   0.263,2,   2.454,3,   1.490,2,   1.554,2,    2097,2, 2340.62,2,-999.0000,9, -999.00,   7.9291,2,       25,-999.000,9,  16.1632,2,    0.81,6,  -116.6,6,     0.8,  54.15953118,2,         5.19,2,   117.6,      8.996,2,    35.7629,2,     -999.0,9,         -999.0,9,  -999.0,9,20140111,       1858
33RO20131223,       A16S,      55,          2,         19,         19,2,20140111,       1723,   -33.0001,        -25,       4586,   198.6,  14.7485,  35.4753,2,  35.4764,2,    219.7,2,   219.3,2,     1.9,2,     5.3,2,    0.01,2,   0.472,2,   2.614,3,   1.570,2,   1.536,2,  2110.2,2, 2332.47,2,-999.0000,9, -999.00,    7.891,2,       25,-999.000,9,  14.7537,2,    0.99,6,  -119.1,6,     1.4,  48.67477728,2,         8.78,2,   198.6,     10.037,2,    35.6437,2,     -999.0,9,         -999.0,9,  -999.0,9,20140111,       1855
33RO20131223,       A16S,      55,          2,         18,         18,2,20140111,       1723,   -33.0001,        -25,       4586,   298.5,  13.7827,  35.3810,2,  35.3770,2,    214.8,2,   215.2,2,     2.4,2,     8.2,2,    0.01,2,   0.648,2,   2.733,3,   1.630,2,   1.493,2,  2121.1,2, 2326.89,2,-999.0000,9, -999.00,   7.8565,2,       25,-999.000,9,   13.785,2,    0.80,6,  -133.1,6,     1.6,  46.55485943,2,        10.68,2,   298.5,     11.494,2,    35.5438,2,     -999.0,9,         -999.0,9,  -999.0,9,20140111,       1853
33RO20131223,       A16S,      55,          2,         17,         17,2,20140111,       1723,   -33.0001,        -25,       4586,   397.2,  12.5901,  35.1941,2,  35.1884,2,    214.8,2,   213.9,2,     3.4,2,    11.0,2,    0.01,2,   0.829,2,   2.875,3,   1.695,2,   1.409,2,  2128.6,2, 2318.82,2,-999.0000,9, -999.00,    7.823,2,       25,-999.000,9,  12.5913,2,    0.74,6,  -143.9,6,     3.5,  44.42782776,2,        13.54,2,   397.2,     12.282,2,    35.3544,2,     -999.0,9,         -999.0,9,  -999.0,9,20140111,       1850
33RO20131223,       A16S,      55,          2,         16,         16,2,20140111,       1723,   -33.0001,        -25,       4586,     517,  10.2056,  34.8356,2,  34.8264,2,    208.5,2,   207.9,2,     6.1,2,    17.3,2,    0.01,2,   1.219,2,   3.054,3,   1.747,2,   1.212,2,  2144.7,2, 2303.36,2,-999.0000,9, -999.00,   7.7522,2,       25,-999.000,9,  10.2078,2,    0.60,6,  -148.1,6,     1.9,  43.03351937,2,        19.74,2,   517.0,     14.174,2,    34.9906,6,     -999.0,9,         -999.0,9,  -999.0,9,20140111,       1847
33RO20131223,       A16S,      55,          2,         15,         15,2,20140111,       1723,   -33.0001,        -25,       4586,   667.4,   6.8645,  34.4334,2,  34.4323,2,    218.1,2,   218.2,2,    11.6,2,    24.4,2,    0.00,2,   1.678,2,   3.283,3,   1.801,2,   1.054,2,  2161.8,2, 2288.25,2,-999.0000,9, -999.00,   7.6757,2,       25,-999.000,9,   6.8615,2, -999.00,9,  -999.0,9,  -999.0,  41.45425171,2,        27.01,2,   667.4,     15.876,2,    34.5947,2,     -999.0,9,         -999.0,9,  -999.0,9,20140111,       1843
33RO20131223,       A16S,      55,          2,         14,         14,2,20140111,       1723,   -33.0001,        -25,       4586,   817.7,   4.9605,  34.2798,2,  34.2796,2,    228.5,2,   229.3,2,    18.1,2,    27.8,2,    0.00,2,   1.907,2,   3.168,3,   1.689,2,   0.939,2,  2171.9,2, 2287.54,2,-999.0000,9, -999.00,   7.6345,2,       25,-999.000,9,   4.9639,2, -999.00,9,  -999.0,9,  -999.0,  40.49388624,2,        30.33,2,   817.7,     16.647,2,    34.4412,2,     -999.0,9,         -999.0,9,  -999.0,9,20140111,       1840
33RO20131223,       A16S,      55,          2,         13,         13,2,20140111,       1723,   -33.0001,        -25,       4586,   997.3,   3.8632,  34.2728,2,  34.2729,2,    221.7,2,     222,2,    28.9,2,    30.5,2,    0.00,2,   2.088,2,   2.478,3,   1.287,2,   0.580,2,  2190.2,2,  2292.1,2,-999.0000,9, -999.00,   7.6146,2,       25,-999.000,9,   3.8636,2, -999.00,9,  -999.0,9,  -999.0,  39.12091931,2,        33.08,2,   997.3,     18.263,2,    34.4346,2,     -999.0,9,         -999.0,9,  -999.0,9,20140111,       1836
33RO20131223,       A16S,      55,          2,         12,         12,2,20140111,       1723,   -33.0001,        -25,       4586,  1147.8,   3.3569,  34.3305,2,  34.3320,2,      207,2,     207,2,    39.6,2,    32.1,2,    0.00,2,   2.205,2,   1.716,3,   0.879,6,   0.391,6,  2208.9,2, 2302.62,6,-999.0000,9, -999.00,     7.59,2,       25,-999.000,9,   3.3555,2, -999.00,9,  -999.0,9,  -999.0,  38.61583821,2,        34.68,2,  1147.8,     19.691,6,    34.4939,2,     -999.0,9,         -999.0,9,  -999.0,9,20140111,       1832
33RO20131223,       A16S,      55,          2,         11,         11,2,20140111,       1723,   -33.0001,        -25,       4586,  1297.8,   3.0922,  34.4069,2,  34.4057,2,    194.4,2,   194.5,2,    48.3,2,    32.8,2,    0.00,2,   2.257,2,   1.093,3,   0.556,2,   0.206,2,  2221.8,2, 2315.31,2,-999.0000,9, -999.00,   7.5768,6,       25,-999.000,9,   3.0932,2, -999.00,9,  -999.0,9,  -999.0,  39.26319568,2,        35.48,2,  1297.8,     20.528,2,    34.5679,2,     -999.0,9,         -999.0,9,  -999.0,9,20140111,       1829
33RO20131223,       A16S,      55,          2,         10,         10,2,20140111,       1723,   -33.0001,        -25,       4586,  1497.2,   2.8951,  34.5360,2,  34.5368,2,    185.1,2,   185.1,2,    56.8,2,    32.5,2,    0.00,2,   2.236,2,   0.478,3,   0.240,2,   0.091,2,  2232.8,6, 2326.26,2,-999.0000,9, -999.00,   7.5762,2,       25,-999.000,9,   2.8953,2, -999.00,9,  -999.0,9,  -999.0,  39.02843967,2,        35.13,2,  1497.2,     20.859,2,    34.6996,2,     -999.0,9,         -999.0,9,  -999.0,9,20140111,       1824
33RO20131223,       A16S,      55,          2,          9,          9,2,20140111,       1723,   -33.0001,        -25,       4586,  1898.2,   2.8411,  34.7457,2,  34.7472,2,      201,2,   202.3,2,    53.9,2,    28.3,2,    0.00,2,   1.927,2,   0.096,3,   0.044,2,   0.000,2,  2218.3,2,  2333.6,2,-999.0000,9, -999.00,   7.6365,2,       25,-999.000,9,   2.8411,2, -999.00,9,  -999.0,9,  -999.0,  40.87091861,2,        30.75,2,  1898.2,     18.324,2,    34.9111,2,     -999.0,9,         -999.0,9,  -999.0,9,20140111,       1816
33RO20131223,       A16S,      55,          2,          8,          8,2,20140111,       1723,   -33.0001,        -25,       4586,  2298.4,   2.8128,  34.8420,2,  34.8428,2,    223.5,2,   224.4,2,    45.6,2,    24.8,2,    0.00,2,   1.679,2,   0.040,3,   0.015,2,   0.000,2,    2201,2, 2329.82,2,-999.0000,9, -999.00,   7.6767,2,       25,-999.000,9,   2.8128,2, -999.00,9,  -999.0,9,  -999.0,  41.27640625,2,        27.39,2,  2298.4,     16.105,2,    35.0071,2,     -999.0,9,         -999.0,9,  -999.0,9,20140111,       1808
33RO20131223,       A16S,      55,          2,          7,          7,2,20140111,       1723,   -33.0001,        -25,       4586,  2698.2,   2.7380,  34.8857,2,  34.8862,2,    237.9,2,   239.6,2,    39.9,2,    22.7,2,    0.00,2,   1.531,2,   0.026,3,   0.008,2,   0.000,2,    2189,2, 2330.71,2,-999.0000,9, -999.00,   7.7063,2,       25,-999.000,9,   2.7381,2, -999.00,9,  -999.0,9,  -999.0,  41.67478008,2,        25.31,2,  2698.2,     14.696,2,    35.0507,2,     -999.0,9,         -999.0,9,  -999.0,9,20140111,       1801
33RO20131223,       A16S,      55,          2,          6,          6,2,20140111,       1723,   -33.0001,        -25,       4586,  3048.1,   2.5888,  34.8889,2,  34.8912,2,    241.9,2,   243.1,2,    42.2,2,    22.4,2,    0.00,2,   1.518,2,   0.036,3,   0.013,2,   0.000,2,  2188.6,2, 2332.28,2,-999.0000,9, -999.00,   7.7084,2,       25,-999.000,9,    2.589,2, -999.00,9,  -999.0,9,  -999.0,   41.9166499,2,        24.89,2,  3048.1,     14.389,2,    35.0557,2,     -999.0,9,         -999.0,9,  -999.0,9,20140111,       1754
33RO20131223,       A16S,      55,          2,          5,          5,2,20140111,       1723,   -33.0001,        -25,       4586,  3449.3,   2.2210,  34.8577,2,  34.8574,2,    239.5,2,   239.5,2,    54.8,2,    23.9,2,    0.00,2,   1.622,2,   0.032,3,   0.011,6,   0.033,6,  2199.6,2, 2340.76,2,-999.0000,9, -999.00,   7.6953,2,       25,-999.000,9,   2.2207,2, -999.00,9,  -999.0,9,  -999.0,  41.29063389,2,        26.26,2,  3449.3,     14.770,6,    35.0218,6,     -999.0,9,         -999.0,9,  -999.0,9,20140111,       1746
33RO20131223,       A16S,      55,          2,          4,          4,2,20140111,       1723,   -33.0001,        -25,       4586,  3847.5,   1.6572,  34.8016,2,  34.8009,2,    230.9,2,   231.5,2,    76.5,6,    26.6,6,    0.00,6,   1.818,6,   0.070,3,   0.030,2,   0.067,2,  2221.9,2, 2351.86,6,-999.0000,9, -999.00,   7.6668,2,       25,-999.000,9,   1.6572,2, -999.00,9,  -999.0,9,  -999.0,  40.57925206,2,        29.05,2,  3847.5,     15.715,2,     34.965,2,     -999.0,9,         -999.0,9,  -999.0,9,20140111,       1739
33RO20131223,       A16S,      55,          2,          3,          3,2,20140111,       1723,   -33.0001,        -25,       4586,  4221.1,   1.1997,  34.7504,2,  34.7491,2,    222.3,2,   222.6,2,    96.5,6,    29.3,6,    0.00,6,   2.008,6,   0.143,3,   0.067,2,   0.048,2,  2241.8,2, 2358.69,2,-999.0000,9, -999.00,   7.6375,2,       25,-999.000,9,   1.1985,2, -999.00,9,  -999.0,9,  -999.0,  39.70425241,2,        31.84,2,  4221.1,     16.921,2,    34.9129,2,     -999.0,9,         -999.0,9,  -999.0,9,20140111,       1732
33RO20131223,       A16S,      55,          2,          2,          2,2,20140111,       1723,   -33.0001,        -25,       4586,  4549.2,   0.8934,  34.7152,2,  34.7174,2,    217.3,2,   217.1,2,   109.7,6,    31.0,6,    0.00,6,   2.131,6,   0.238,3,   0.114,2,   0.055,2,  2252.9,2, 2361.38,2,-999.0000,9, -999.00,   7.6151,2,       25,-999.000,9,   0.8935,2, -999.00,9,  -999.0,9,  -999.0,  39.30587859,2,        33.48,2,  4549.2,     17.735,2,    34.8812,2,     -999.0,9,         -999.0,9,  -999.0,9,20140111,       1725
33RO20131223,       A16S,      55,          2,          1,          1,2,20140111,       1723,   -33.0001,        -25,       4586,  4641.9,   0.9006,  34.7148,2,  34.7143,2,    217.7,2,   217.6,2,   110.0,6,    31.0,6,    0.01,6,   2.138,6,   0.232,3,   0.111,2,   0.037,2,  2255.8,6, 2363.43,2,-999.0000,9, -999.00,   7.5455,4,       25,-999.000,9,   0.9009,2, -999.00,9,  -999.0,9,  -999.0,  39.30587859,2,        33.51,2,  4641.9,     17.676,2,     34.878,2,     -999.0,9,         -999.0,9,  -999.0,9,20140111,       1723