BOTTLE,20220815CCHSIOAMB
EXPOCODE,SECT_ID,STNNBR,CASTNO,SAMPNO,BTLNBR,BTLNBR_FLAG_W,DATE,TIME,LATITUDE,LONGITUDE,DEPTH,CTDPRS,CTDTMP,CTDSAL,CTDSAL_FLAG_W,SALNTY,SALNTY_FLAG_W,CTDOXY,CTDOXY_FLAG_W,OXYGEN,OXYGEN_FLAG_W,SILCAT,SILCAT_FLAG_W,NITRAT,NITRAT_FLAG_W,NITRIT,NITRIT_FLAG_W,PHSPHT,PHSPHT_FLAG_W,CFC-11,CFC-11_FLAG_W,CFC-12,CFC-12_FLAG_W,SF6,SF6_FLAG_W,TCARBN,TCARBN_FLAG_W,ALKALI,ALKALI_FLAG_W,PCO2,PCO2_FLAG_W,PCO2TMP,PH_SWS,PH_SWS_FLAG_W,PH_TMP,TRITUM,TRITUM_FLAG_W,REFTMP,REFTMP_FLAG_W,DELC13,DELC13_FLAG_W,DELC14,DELC14_FLAG_W,C14ERR,DOC,DOC_FLAG_W,TDN,TDN_FLAG_W,CTDRAW,N2O,N2O_FLAG_W,SALTREF,SALTREF_FLAG_W,HELIUM,HELIUM_FLAG_W,DELO18,DELO18_FLAG_W,CCL4,CCL4_FLAG_W,BTL_DATE,BTL_TIME
,,,,,,,,,,,METERS,DBAR,ITS-90,PSS-78,,PSS-78,,UMOL/KG,,UMOL/KG,,UMOL/KG,,UMOL/KG,,UMOL/KG,,UMOL/KG,,PMOL/KG,,PMOL/KG,,FMOL/KG,,UMOL/KG,,UMOL/KG,,UATM,,DEG C,,,DEG C,TU,,DEG C,,/MILLE,,/MILLE,,/MILLE,UMOL/KG,,UMOL/KG,,DBAR,NMOL/KG,,G/KG,,NMOL/KG,,/MILLE,,PMOL/KG,,,
33RO20131223,       A16S,      28,          1,         24,         24,2,20140103,       1459,   -19.5005,   -25.0001,       5460,     3.5,  25.7651,  37.2957,2,  37.2952,2,    203.9,2,   204.9,2,     0.8,2,     0.0,2,    0.00,2,   0.157,2,-999.000,9,-999.000,9,-999.000,9,  2117.1,6, 2449.16,2,-999.0000,9, -999.00,   8.0409,6,       25,-999.000,9,  25.7497,2, -999.00,9,  -999.0,9,  -999.0,-999.00000000,9,-999.00000000,9,     3.5,     -999.0,9,    37.4711,2,     -999.0,9,         -999.0,9,  -999.0,9,20140103,       1659
33RO20131223,       A16S,      28,          1,         23,         23,2,20140103,       1459,   -19.5005,   -25.0001,       5460,    28.1,  25.4881,  37.3031,2,  37.2998,2,    204.5,2,   206.4,2,     0.8,6,     0.0,6,    0.00,6,   0.151,6,-999.000,9,-999.000,9,-999.000,9,  -999.0,9, -999.00,9,-999.0000,9, -999.00,-999.0000,9,  -999.00,-999.000,9,  25.4806,2, -999.00,9,  -999.0,9,  -999.0,-999.00000000,9,-999.00000000,9,    28.1,     -999.0,9,    37.4757,2,     -999.0,9,         -999.0,9,  -999.0,9,20140103,       1657
33RO20131223,       A16S,      28,          1,         22,         22,2,20140103,       1459,   -19.5005,   -25.0001,       5460,    63.4,  24.6290,  37.1798,2,  37.1630,2,    212.7,2,   214.3,2,     0.9,6,     0.1,2,    0.00,6,   0.148,6,-999.000,9,-999.000,9,-999.000,9,  2109.2,2, 2441.96,6,-999.0000,9, -999.00,   8.0433,2,       25,-999.000,9,  24.6061,2, -999.00,9,  -999.0,9,  -999.0,-999.00000000,9,-999.00000000,9,    63.4,     -999.0,9,    37.3383,2,     -999.0,9,         -999.0,9,  -999.0,9,20140103,       1655
33RO20131223,       A16S,      28,          1,         21,         21,2,20140103,       1459,   -19.5005,   -25.0001,       5460,     113,  23.4047,  37.0315,2,  37.0219,2,    216.9,2,   217.2,2,     0.9,6,     0.1,2,    0.00,6,   0.136,6,-999.000,9,-999.000,9,-999.000,9,  2105.9,2, 2429.54,2,-999.0000,9, -999.00,   8.0369,2,       25,-999.000,9,  23.4105,2, -999.00,9,  -999.0,9,  -999.0,-999.00000000,9,-999.00000000,9,   113.0,     -999.0,9,    37.1965,2,     -999.0,9,         -999.0,9,  -999.0,9,20140103,       1653
33RO20131223,       A16S,      28,          1,         20,         20,2,20140103,       1459,   -19.5005,   -25.0001,       5460,   182.8,  20.8209,  36.5479,2,  36.5242,2,    205.7,2,   205.3,2,     1.1,6,     0.2,2,    0.08,6,   0.244,6,-999.000,9,-999.000,9,-999.000,9,  2118.6,2, 2402.13,2,-999.0000,9, -999.00,   7.9759,2,       25,-999.000,9,  20.8258,2, -999.00,9,  -999.0,9,  -999.0,-999.00000000,9,-999.00000000,9,   182.8,     -999.0,9,    36.6965,2,     -999.0,9,         -999.0,9,  -999.0,9,20140103,       1650
33RO20131223,       A16S,      28,          1,         19,         19,2,20140103,       1459,   -19.5005,   -25.0001,       5460,     258,  16.4138,  35.7258,2,  35.7132,2,    195.1,2,   194.9,2,     2.4,6,     5.1,2,    0.01,6,   0.554,6,-999.000,9,-999.000,9,-999.000,9,  2123.2,2,  2349.6,2,-999.0000,9, -999.00,   7.8872,2,       25,-999.000,9,  16.4368,2, -999.00,9,  -999.0,9,  -999.0,-999.00000000,9,-999.00000000,9,   258.0,     -999.0,9,    35.8816,2,     -999.0,9,         -999.0,9,  -999.0,9,20140103,       1648
33RO20131223,       A16S,      28,          1,         18,         18,2,20140103,       1459,   -19.5005,   -25.0001,       5460,   377.8,  12.1151,  35.0681,2,  35.0629,2,    176.7,2,   175.8,2,     6.0,6,    15.1,2,    0.01,6,   1.122,6,-999.000,9,-999.000,9,-999.000,9,  2152.4,2,  2307.5,2,-999.0000,9, -999.00,   7.7513,2,       25,-999.000,9,   12.136,2, -999.00,9,  -999.0,9,  -999.0,-999.00000000,9,-999.00000000,9,   377.8,     -999.0,9,    35.2282,2,     -999.0,9,         -999.0,9,  -999.0,9,20140103,       1645
33RO20131223,       A16S,      28,          1,         17,         17,2,20140103,       1459,   -19.5005,   -25.0001,       5460,   498.2,   9.2853,  34.7476,2,  34.7483,2,    163.8,2,   163.4,2,    11.4,6,    23.2,2,    0.00,6,   1.586,6,-999.000,9,-999.000,9,-999.000,9,  2176.3,2, 2300.74,2,-999.0000,9, -999.00,   7.6586,2,       25,-999.000,9,   9.2794,2, -999.00,9,  -999.0,9,  -999.0,-999.00000000,9,-999.00000000,9,   498.2,     -999.0,9,    34.9122,2,     -999.0,9,         -999.0,9,  -999.0,9,20140103,       1641
33RO20131223,       A16S,      28,          1,         16,         16,2,20140103,       1459,   -19.5005,   -25.0001,       5460,   573.5,   7.8546,  34.6079,2,  34.6028,2,    166.8,2,   165.7,2,    15.1,6,    26.7,2,    0.00,6,   1.795,6,-999.000,9,-999.000,9,-999.000,9,  2185.8,2, 2297.92,2,-999.0000,9, -999.00,   7.6264,2,       25,-999.000,9,    7.845,2, -999.00,9,  -999.0,9,  -999.0,-999.00000000,9,-999.00000000,9,   573.5,     -999.0,9,     34.766,2,     -999.0,9,         -999.0,9,  -999.0,9,20140103,       1639
33RO20131223,       A16S,      28,          1,         15,         15,2,20140103,       1459,   -19.5005,   -25.0001,       5460,   722.6,   5.1479,  34.4106,2,  34.4115,2,    181.5,2,   180.7,2,    26.1,6,    31.6,2,    0.00,6,   2.097,6,-999.000,9,-999.000,9,-999.000,9,  2200.9,2,    2298,2,-999.0000,9, -999.00,    7.592,2,       25,-999.000,9,   5.1501,2, -999.00,9,  -999.0,9,  -999.0,-999.00000000,9,-999.00000000,9,   722.6,     -999.0,9,    34.5737,2,     -999.0,9,         -999.0,9,  -999.0,9,20140103,       1635
33RO20131223,       A16S,      28,          1,         14,         14,2,20140103,       1459,   -19.5005,   -25.0001,       5460,   872.9,   4.0054,  34.4288,2,  34.4304,2,    181.9,2,   181.3,2,    37.1,6,    33.2,6,    0.00,6,   2.211,6,-999.000,9,-999.000,9,-999.000,9,  2214.9,2, 2307.94,6,-999.0000,9, -999.00,    7.579,2,       25,-999.000,9,   4.0032,2, -999.00,9,  -999.0,9,  -999.0,-999.00000000,9,-999.00000000,9,   872.9,     -999.0,9,    34.5928,2,     -999.0,9,         -999.0,9,  -999.0,9,20140103,       1631
33RO20131223,       A16S,      28,          1,         13,         13,2,20140103,       1459,   -19.5005,   -25.0001,       5460,  1048.2,   3.6089,  34.5574,2,  34.5591,2,    182.8,2,   183.8,2,    41.3,6,    32.0,6,    0.00,6,   2.143,6,-999.000,9,-999.000,9,-999.000,9,  2217.3,6, 2318.03,2,-999.0000,9, -999.00,     7.59,2,       25,-999.000,9,   3.6088,2, -999.00,9,  -999.0,9,  -999.0,-999.00000000,9,-999.00000000,9,  1048.2,     -999.0,9,     34.722,6,     -999.0,9,         -999.0,9,  -999.0,9,20140103,       1627
33RO20131223,       A16S,      28,          1,         12,         12,2,20140103,       1459,   -19.5005,   -25.0001,       5460,    1198,   3.7002,  34.6782,2,  34.6819,2,    188.8,2,     189,2,    37.7,2,    29.7,2,    0.00,2,   1.989,2,-999.000,9,-999.000,9,-999.000,9,  2211.2,2, 2317.59,2,-999.0000,9, -999.00,   7.6127,2,       25,-999.000,9,   3.7002,2, -999.00,9,  -999.0,9,  -999.0,-999.00000000,9,-999.00000000,9,  1198.0,     -999.0,9,    34.8455,2,     -999.0,9,         -999.0,9,  -999.0,9,20140103,       1623
33RO20131223,       A16S,      28,          1,         11,         11,2,20140103,       1459,   -19.5005,   -25.0001,       5460,  1448.4,   3.7655,  34.8596,2,  34.8612,2,    214.7,2,   214.3,2,    29.1,2,    24.5,2,    0.00,2,   1.645,2,-999.000,9,-999.000,9,-999.000,9,  -999.0,9, -999.00,9,-999.0000,9, -999.00,-999.0000,9,  -999.00,-999.000,9,   3.7656,2, -999.00,9,  -999.0,9,  -999.0,-999.00000000,9,-999.00000000,9,  1448.4,     -999.0,9,    35.0256,2,     -999.0,9,         -999.0,9,  -999.0,9,20140103,       1618
33RO20131223,       A16S,      28,          1,         10,         10,2,20140103,       1459,   -19.5005,   -25.0001,       5460,  1749.4,   3.5095,  34.9280,2,  34.9273,2,    237.3,2,   237.5,2,    25.3,2,    21.2,2,    0.00,2,   1.433,2,-999.000,9,-999.000,9,-999.000,9,  2177.7,2, 2315.48,2,-999.0000,9, -999.00,   7.7091,2,       25,-999.000,9,    3.509,2, -999.00,9,  -999.0,9,  -999.0,-999.00000000,9,-999.00000000,9,  1749.4,     -999.0,9,     35.092,2,     -999.0,9,         -999.0,9,  -999.0,9,20140103,       1612
33RO20131223,       A16S,      28,          1,          9,          9,2,20140103,       1459,   -19.5005,   -25.0001,       5460,  2197.7,   3.1487,  34.9360,2,  34.9374,2,    247.3,2,   247.2,2,    27.2,2,    20.1,2,    0.00,2,   1.370,2,-999.000,9,-999.000,9,-999.000,9,  -999.0,9, -999.00,9,-999.0000,9, -999.00,-999.0000,9,  -999.00,-999.000,9,   3.1484,2, -999.00,9,  -999.0,9,  -999.0,-999.00000000,9,-999.00000000,9,  2197.7,     -999.0,9,    35.1021,2,     -999.0,9,         -999.0,9,  -999.0,9,20140103,       1603
33RO20131223,       A16S,      28,          1,          8,          8,2,20140103,       1459,   -19.5005,   -25.0001,       5460,  2498.6,   2.9574,  34.9277,2,  34.9279,2,    247.9,2,   247.7,2,    30.3,2,    20.3,2,    0.00,2,   1.384,2,-999.000,9,-999.000,9,-999.000,9,  2178.6,2, 2330.33,2,-999.0000,9, -999.00,   7.7231,2,       25,-999.000,9,   2.9571,2, -999.00,9,  -999.0,9,  -999.0,-999.00000000,9,-999.00000000,9,  2498.6,     -999.0,9,    35.0926,2,     -999.0,9,         -999.0,9,  -999.0,9,20140103,       1557
33RO20131223,       A16S,      28,          1,          7,          7,2,20140103,       1459,   -19.5005,   -25.0001,       5460,  2948.5,   2.7690,  34.9190,2,  34.9199,2,    249.4,2,   249.2,2,    33.0,2,    20.3,2,    0.00,2,   1.388,2,-999.000,9,-999.000,9,-999.000,9,  -999.0,9, -999.00,9,-999.0000,9, -999.00,-999.0000,9,  -999.00,-999.000,9,   2.7692,2, -999.00,9,  -999.0,9,  -999.0,-999.00000000,9,-999.00000000,9,  2948.5,     -999.0,9,    35.0845,2,     -999.0,9,         -999.0,9,  -999.0,9,20140103,       1549
33RO20131223,       A16S,      28,          1,          6,          6,2,20140103,       1459,   -19.5005,   -25.0001,       5460,  3448.8,   2.5237,  34.9015,2,  34.8986,2,    250.3,2,   249.7,2,    38.3,2,    20.8,2,    0.00,2,   1.419,2,-999.000,9,-999.000,9,-999.000,9,  2184.6,2, 2337.26,6,-999.0000,9, -999.00,   7.7221,2,       25,-999.000,9,   2.5237,2, -999.00,9,  -999.0,9,  -999.0,-999.00000000,9,-999.00000000,9,  3448.8,     -999.0,9,    35.0632,2,     -999.0,9,         -999.0,9,  -999.0,9,20140103,       1539
33RO20131223,       A16S,      28,          1,          5,          5,2,20140103,       1459,   -19.5005,   -25.0001,       5460,  3949.2,   1.8324,  34.8318,2,  34.8318,2,    239.7,2,   240.4,2,    64.3,2,    24.5,2,    0.00,2,   1.667,2,-999.000,9,-999.000,9,-999.000,9,  -999.0,9, -999.00,9,-999.0000,9, -999.00,-999.0000,9,  -999.00,-999.000,9,   1.8316,2, -999.00,9,  -999.0,9,  -999.0,-999.00000000,9,-999.00000000,9,  3949.2,     -999.0,9,     34.996,2,     -999.0,9,         -999.0,9,  -999.0,9,20140103,       1530
33RO20131223,       A16S,      28,          1,          4,          4,2,20140103,       1459,   -19.5005,   -25.0001,       5460,  4447.8,   1.2448,  34.7681,2,  34.7688,2,    229.4,2,   230.5,2,    88.8,6,    28.1,6,    0.00,6,   1.907,6,-999.000,9,-999.000,9,-999.000,9,  2234.9,2, 2359.88,2,-999.0000,9, -999.00,   7.6523,6,       25,-999.000,9,   1.2458,2, -999.00,9,  -999.0,9,  -999.0,-999.00000000,9,-999.00000000,9,  4447.8,     -999.0,9,    34.9328,6,     -999.0,9,         -999.0,9,  -999.0,9,20140103,       1521
33RO20131223,       A16S,      28,          1,          3,          3,2,20140103,       1459,   -19.5005,   -25.0001,       5460,  4948.4,   0.8868,  34.7266,2,  34.7257,2,    224.1,2,   224.4,2,   104.4,6,    30.4,6,    0.00,6,   2.057,6,-999.000,9,-999.000,9,-999.000,9,  -999.0,9, -999.00,9,-999.0000,9, -999.00,-999.0000,9,  -999.00,-999.000,9,    0.887,2, -999.00,9,  -999.0,9,  -999.0,-999.00000000,9,-999.00000000,9,  4948.4,     -999.0,9,    34.8895,2,     -999.0,9,         -999.0,9,  -999.0,9,20140103,       1511
33RO20131223,       A16S,      28,          1,          2,          2,2,20140103,       1459,   -19.5005,   -25.0001,       5460,  5447.7,   0.8120,  34.7121,2,  34.7133,2,    222.1,2,   222.4,2,   109.7,6,    31.1,6,    0.00,6,   2.109,6,-999.000,9,-999.000,9,-999.000,9,  2254.1,2,  2367.2,2,-999.0000,9, -999.00,   7.6185,2,       25,-999.000,9,   0.8115,2, -999.00,9,  -999.0,9,  -999.0,-999.00000000,9,-999.00000000,9,  5447.7,     -999.0,9,     34.877,2,     -999.0,9,         -999.0,9,  -999.0,9,20140103,       1502
33RO20131223,       A16S,      28,          1,          1,          1,2,20140103,       1459,   -19.5005,   -25.0001,       5460,  5549.1,   0.7670,  34.7061,2,  34.7064,2,      222,2,   222.6,2,   111.9,6,    31.4,6,    0.00,6,   2.125,6,-999.000,9,-999.000,9,-999.000,9,  2257.3,6, 2368.15,2,-999.0000,9, -999.00,   7.6164,2,       25,-999.000,9,   0.7664,2, -999.00,9,  -999.0,9,  -999.0,-999.00000000,9,-999.00000000,9,  5549.1,     -999.0,9,      34.87,2,     -999.0,9,         -999.0,9,  -999.0,9,20140103,       1459