BOTTLE,20220815CCHSIOAMB
EXPOCODE,SECT_ID,STNNBR,CASTNO,SAMPNO,BTLNBR,BTLNBR_FLAG_W,DATE,TIME,LATITUDE,LONGITUDE,DEPTH,CTDPRS,CTDTMP,CTDSAL,CTDSAL_FLAG_W,SALNTY,SALNTY_FLAG_W,CTDOXY,CTDOXY_FLAG_W,OXYGEN,OXYGEN_FLAG_W,SILCAT,SILCAT_FLAG_W,NITRAT,NITRAT_FLAG_W,NITRIT,NITRIT_FLAG_W,PHSPHT,PHSPHT_FLAG_W,CFC-11,CFC-11_FLAG_W,CFC-12,CFC-12_FLAG_W,SF6,SF6_FLAG_W,TCARBN,TCARBN_FLAG_W,ALKALI,ALKALI_FLAG_W,PCO2,PCO2_FLAG_W,PCO2TMP,PH_SWS,PH_SWS_FLAG_W,PH_TMP,TRITUM,TRITUM_FLAG_W,REFTMP,REFTMP_FLAG_W,DELC13,DELC13_FLAG_W,DELC14,DELC14_FLAG_W,C14ERR,DOC,DOC_FLAG_W,TDN,TDN_FLAG_W,CTDRAW,N2O,N2O_FLAG_W,SALTREF,SALTREF_FLAG_W,HELIUM,HELIUM_FLAG_W,DELO18,DELO18_FLAG_W,CCL4,CCL4_FLAG_W,BTL_DATE,BTL_TIME
,,,,,,,,,,,METERS,DBAR,ITS-90,PSS-78,,PSS-78,,UMOL/KG,,UMOL/KG,,UMOL/KG,,UMOL/KG,,UMOL/KG,,UMOL/KG,,PMOL/KG,,PMOL/KG,,FMOL/KG,,UMOL/KG,,UMOL/KG,,UATM,,DEG C,,,DEG C,TU,,DEG C,,/MILLE,,/MILLE,,/MILLE,UMOL/KG,,UMOL/KG,,DBAR,NMOL/KG,,G/KG,,NMOL/KG,,/MILLE,,PMOL/KG,,,
33RO20131223,       A16S,      53,          2,         24,         24,2,20140111,       0350,   -32.0005,   -25.0001,       4321,     3.2,  23.8180,  35.7491,2,  35.7483,2,    216.2,2,   217.2,2,     0.9,2,     0.0,2,    0.00,2,   0.072,2,   1.801,3,   1.156,6,   1.373,6,    2066,6,  2347.8,2,   372.59,2,      20,   7.9973,2,       25,-999.000,1,  23.8183,2, -999.00,9,  -999.0,9,  -999.0,   63.9847305,2,         4.59,2,     3.2,      6.837,6,    35.9169,2,     -999.0,1,         -999.0,1,  -999.0,9,20140111,       0531
33RO20131223,       A16S,      53,          2,         23,         23,2,20140111,       0350,   -32.0005,   -25.0001,       4321,    18.4,  22.6868,  35.7378,2,  35.7387,2,    217.7,2,   219.1,2,     0.9,2,     0.0,2,    0.00,2,   0.073,2,   1.841,3,   1.164,2,   1.400,2,  2066.6,2, 2346.62,2,   373.04,2,      20,   7.9957,2,       25,-999.000,1,  22.6845,2, -999.00,9,  -999.0,9,  -999.0,  63.33259662,2,         4.56,2,    18.4,      6.849,2,    35.9072,2,     -999.0,1,         -999.0,1,  -999.0,9,20140111,       0529
33RO20131223,       A16S,      53,          2,         22,         22,2,20140111,       0350,   -32.0005,   -25.0001,       4321,    47.9,  19.4982,  35.8868,2,  35.8880,2,    237.4,2,   237.4,2,     0.9,2,     0.0,2,    0.00,2,   0.085,2,   2.129,3,   1.326,2,   1.522,2,  2076.8,2, 2355.83,2,   379.13,2,      20,   7.9942,2,       25,-999.000,1,  19.5025,2, -999.00,9,  -999.0,9,  -999.0,  61.46034127,2,         4.83,2,    47.9,      7.641,2,    36.0572,2,     -999.0,1,         -999.0,1,  -999.0,9,20140111,       0527
33RO20131223,       A16S,      53,          2,         21,         21,2,20140111,       0350,   -32.0005,   -25.0001,       4321,    72.4,  18.6099,  35.8554,2,  35.8556,2,    238.3,2,   238.4,2,     0.9,2,     0.0,2,    0.00,2,   0.097,2,   2.204,3,   1.362,2,   1.569,2,  2076.9,2, 2353.13,6,   384.06,2,      20,    7.987,2,       25,-999.000,1,  18.6087,2, -999.00,9,  -999.0,9,  -999.0,  60.39448804,2,         4.78,2,    72.4,      7.789,2,    36.0247,2,     -999.0,1,         -999.0,1,  -999.0,9,20140111,       0525
33RO20131223,       A16S,      53,          2,         20,         20,2,20140111,       0350,   -32.0005,   -25.0001,       4321,    98.8,  17.8249,  35.7700,2,  35.7790,2,    237.8,2,   238.1,2,     0.9,2,     0.0,2,    0.00,2,   0.114,2,   2.262,3,   1.386,2,   1.578,2,  2079.3,2, 2346.17,2,   394.35,2,      20,   7.9778,6,       25,-999.000,1,  17.8246,2, -999.00,9,  -999.0,9,  -999.0,  57.49845261,2,            4,2,    98.8,      7.889,2,    35.9478,2,     -999.0,1,         -999.0,1,  -999.0,9,20140111,       0524
33RO20131223,       A16S,      53,          2,         19,         19,2,20140111,       0350,   -32.0005,   -25.0001,       4321,   148.2,  16.3139,  35.6284,2,  35.6274,2,    221.8,2,   222.2,2,     1.3,2,     2.0,2,    0.02,2,   0.297,2,   2.423,3,   1.470,2,   1.578,2,  2099.1,2, 2338.39,2,   449.88,2,      20,   7.9288,2,       25,-999.000,1,  16.3182,2, -999.00,9,  -999.0,9,  -999.0,  52.66003991,2,         5.77,2,   148.2,      8.811,2,    35.7954,6,     -999.0,1,         -999.0,1,  -999.0,9,20140111,       0522
33RO20131223,       A16S,      53,          2,         18,         18,2,20140111,       0350,   -32.0005,   -25.0001,       4321,   218.9,  15.1553,  35.5325,2,  35.5298,2,    222.5,2,   221.5,2,     1.7,2,     4.3,2,    0.01,2,   0.427,2,   2.567,3,   1.547,2,   1.612,2,  2109.7,2, 2332.95,2,   481.18,6,      20,    7.903,2,       25,-999.000,1,  15.1587,2, -999.00,9,  -999.0,9,  -999.0,  48.46674891,2,         7.86,2,   218.9,      9.502,2,    35.6974,2,     -999.0,1,         -999.0,1,  -999.0,9,20140111,       0520
33RO20131223,       A16S,      53,          2,         17,         17,2,20140111,       0350,   -32.0005,   -25.0001,       4321,   298.8,  14.1507,  35.4137,2,  35.4143,2,    213.7,2,   213.3,2,     2.4,2,     7.4,2,    0.01,2,   0.624,2,   2.688,3,   1.607,2,   1.491,2,  2120.5,2, 2327.47,2,   531.14,6,      20,   7.8989,3,       25,-999.000,1,  14.1519,2, -999.00,9,  -999.0,9,  -999.0,  45.28321359,2,        10.26,2,   298.8,     11.128,2,    35.5813,2,     -999.0,1,         -999.0,1,  -999.0,9,20140111,       0517
33RO20131223,       A16S,      53,          2,         16,         16,2,20140111,       0350,   -32.0005,   -25.0001,       4321,   407.7,  12.7695,  35.2143,2,  35.2104,2,    216.4,2,   214.6,2,     3.3,2,    10.3,2,    0.01,2,   0.810,2,   2.850,3,   1.682,2,   1.419,2,  2128.4,2,  2315.7,2,   583.61,2,      20,   7.8293,2,       25,-999.000,1,  12.7599,2, -999.00,9,  -999.0,9,  -999.0,  43.53016551,2,        12.94,2,   407.7,     12.212,2,    35.3764,2,     -999.0,1,         -999.0,1,  -999.0,9,20140111,       0514
33RO20131223,       A16S,      53,          2,         15,         15,2,20140111,       0350,   -32.0005,   -25.0001,       4321,   568.2,   9.7436,  34.7725,2,  34.7724,2,    209.7,2,   209.1,2,     6.4,2,    18.1,2,    0.00,2,   1.284,2,   3.102,3,   1.765,2,   1.205,2,  2147.8,2, 2294.27,2,    727.3,2,      20,   7.7415,2,       25,-999.000,1,   9.7349,2, -999.00,9,  -999.0,9,  -999.0,  41.83321497,2,        20.63,2,   568.2,     14.198,2,    34.9364,2,     -999.0,1,         -999.0,1,  -999.0,9,20140111,       0510
33RO20131223,       A16S,      53,          2,         14,         14,2,20140111,       0350,   -32.0005,   -25.0001,       4321,     718,   6.4567,  34.3905,2,  34.3864,2,    224.2,2,   223.8,2,    12.1,2,    24.9,2,    0.00,2,   1.724,2,   3.324,3,   1.816,2,   1.069,2,  2162.8,2, 2281.65,2,   868.19,2,      20,   7.6713,2,       25,-999.000,1,   6.4562,2, -999.00,9,  -999.0,9,  -999.0,  40.72528859,2,        27.56,2,   718.0,     15.654,2,    34.5486,2,     -999.0,1,         -999.0,1,  -999.0,9,20140111,       0507
33RO20131223,       A16S,      53,          2,         13,         13,2,20140111,       0350,   -32.0005,   -25.0001,       4321,   871.6,   4.9392,  34.2989,2,  34.2976,2,    222.2,2,   223.9,2,    19.7,2,    28.2,2,    0.00,2,   1.946,2,   2.974,3,   1.577,2,   0.808,2,  2176.9,2, 2286.51,2,   946.88,2,      20,   7.6369,2,       25,-999.000,1,   4.9357,2, -999.00,9,  -999.0,9,  -999.0,  39.30882574,2,        30.71,2,   871.6,     17.013,2,    34.4593,2,     -999.0,1,         -999.0,1,  -999.0,9,20140111,       0503
33RO20131223,       A16S,      53,          2,         12,         12,2,20140111,       0350,   -32.0005,   -25.0001,       4321,  1048.3,   3.7590,  34.2874,2,  34.2888,2,    218.9,2,     219,2,    30.6,6,    30.7,6,    0.00,6,   2.114,6,   2.290,3,   1.185,6,   0.549,6,  2194.2,2, 2293.96,2,  1015.42,2,      20,   7.6083,2,       25,-999.000,1,   3.7579,2, -999.00,9,  -999.0,9,  -999.0,  39.04236243,2,        33.33,2,  1048.3,     18.473,6,    34.4505,2,     -999.0,1,         -999.0,1,  -999.0,9,20140111,       0459
33RO20131223,       A16S,      53,          2,         11,         11,2,20140111,       0350,   -32.0005,   -25.0001,       4321,  1348.8,   3.0532,  34.4628,2,  34.4632,2,    188.4,2,   189.1,2,    51.1,2,    32.6,2,    0.00,2,   2.259,2,   0.772,3,   0.391,2,   0.130,2,  2228.2,2, 2314.72,6,  1116.11,2,      20,   7.5735,2,       25,-999.000,1,   3.0528,2, -999.00,9,  -999.0,9,  -999.0,  39.04236243,2,        35.35,2,  1348.8,     20.865,2,    34.6257,2,     -999.0,1,         -999.0,1,  -999.0,9,20140111,       0453
33RO20131223,       A16S,      53,          2,         10,         10,2,20140111,       0350,   -32.0005,   -25.0001,       4321,  1547.8,   2.9022,  34.5904,2,  34.5881,2,    186.4,2,   187.3,2,    55.8,6,    31.5,6,    0.00,6,   2.172,6,   0.333,3,   0.166,2,   0.082,2,  2231.3,6,  2321.9,2,  1087.39,2,      20,   7.5843,2,       25,-999.000,1,   2.9024,2, -999.00,9,  -999.0,9,  -999.0,  39.04937462,2,        34.15,2,  1547.8,     20.438,2,    34.7512,2,     -999.0,1,         -999.0,9,  -999.0,9,20140111,       0448
33RO20131223,       A16S,      53,          2,          9,          9,2,20140111,       0350,   -32.0005,   -25.0001,       4321,  1748.8,   2.8528,  34.6752,2,  34.6757,2,    193.2,2,   194.1,2,    55.2,2,    29.9,2,    0.00,2,   2.054,2,   0.173,3,   0.084,2,   0.049,2,    2227,2, 2326.47,2,  1031.86,2,      20,   7.6063,2,       25,-999.000,1,   2.8526,2, -999.00,9,  -999.0,9,  -999.0,  39.60333782,2,        32.54,2,  1748.8,     19.364,2,    34.8392,2,     -999.0,1,         -999.0,9,  -999.0,9,20140111,       0444
33RO20131223,       A16S,      53,          2,          8,          8,2,20140111,       0350,   -32.0005,   -25.0001,       4321,  1947.3,   2.8090,  34.7612,2,  34.7606,2,    206.2,2,   206.7,2,    52.1,2,    27.5,2,    0.00,2,   1.888,2,   0.083,3,   0.037,2,   0.000,2,  2217.5,2, 2331.71,2,   955.24,6,      20,    7.637,2,       25,-999.000,9,   2.8088,2, -999.00,9,  -999.0,9,  -999.0,  40.36065459,2,        30.24,2,  1947.3,     17.866,2,    34.9245,2,     -999.0,1,         -999.0,9,  -999.0,9,20140111,       0439
33RO20131223,       A16S,      53,          2,          7,          7,2,20140111,       0350,   -32.0005,   -25.0001,       4321,  2248.6,   2.7804,  34.8256,2,  34.8255,2,    221.8,2,   221.8,2,    46.8,2,    25.3,2,    0.00,2,   1.719,2,   0.039,3,   0.015,2,   0.000,2,  2204.1,2, 2335.59,3,  882.415,2,      20,   7.6693,2,       25,-999.000,1,   2.7802,2, -999.00,9,  -999.0,9,  -999.0,  40.33260582,2,        27.96,2,  2248.6,     16.341,2,    34.9897,2,     -999.0,1,         -999.0,9,  -999.0,9,20140111,       0433
33RO20131223,       A16S,      53,          2,          6,          6,2,20140111,       0350,   -32.0005,   -25.0001,       4321,  2598.8,   2.7368,  34.8694,2,  34.8696,2,    235.5,2,   235.1,2,    41.7,2,    23.3,2,    0.00,2,   1.576,2,   0.025,3,   0.007,2,   0.000,2,    2194,2, 2329.35,2,  823.055,2,      20,   7.6968,2,       25,-999.000,9,   2.7365,2, -999.00,9,  -999.0,9,  -999.0,  40.95669093,2,        25.98,2,  2598.8,     14.940,2,     35.034,2,     -999.0,1,         -999.0,9,  -999.0,9,20140111,       0426
33RO20131223,       A16S,      53,          2,          5,          5,2,20140111,       0350,   -32.0005,   -25.0001,       4321,  2997.7,   2.6661,  34.8928,2,  34.8925,2,    243.8,2,   243.8,2,    39.2,6,    22.2,6,    0.00,6,   1.484,6,   0.027,3,   0.008,2,   0.011,2,  2187.1,2, 2326.08,2,  791.705,2,      20,   7.6972,2,       25,-999.000,1,   2.6662,2, -999.00,9,  -999.0,9,  -999.0,  42.01553197,2,        24.91,2,  2997.7,     14.117,2,     35.057,2,     -999.0,1,         -999.0,9,  -999.0,9,20140111,       0418
33RO20131223,       A16S,      53,          2,          4,          4,2,20140111,       0350,   -32.0005,   -25.0001,       4321,  3398.1,   2.3478,  34.8718,2,  34.8717,2,    243.4,2,   242.9,2,    48.7,6,    23.0,6,    0.00,6,   1.545,6,   0.027,3,   0.008,2,   0.000,2,  2194.8,2, 2332.25,6,  811.455,2,      20,   7.7047,2,       25,-999.000,9,   2.3475,2, -999.00,9,  -999.0,9,  -999.0,  41.37742247,2,        25.63,2,  3398.1,     14.332,2,    35.0362,2,     -999.0,1,         -999.0,9,  -999.0,9,20140111,       0410
33RO20131223,       A16S,      53,          2,          3,          3,2,20140111,       0350,   -32.0005,   -25.0001,       4321,  3797.5,   1.7085,  34.8095,2,  34.8091,2,    233.3,2,   233.7,2,    72.4,6,    26.1,6,    0.00,6,   1.777,6,   0.047,3,   0.018,6,   0.080,6,  2219.9,2, 2347.69,2,  882.955,2,      20,   7.6724,6,       25,-999.000,1,   1.7082,2, -999.00,9,  -999.0,9,  -999.0,   40.8094349,2,        28.88,2,  3797.5,     15.534,6,    34.9733,6,     -999.0,1,         -999.0,9,  -999.0,9,20140111,       0402
33RO20131223,       A16S,      53,          2,          2,          2,2,20140111,       0350,   -32.0005,   -25.0001,       4321,  4197.8,   1.2808,  34.7603,2,  34.7600,2,    225.6,2,   225.5,2,    91.0,6,    28.6,6,    0.00,6,   1.964,6,   0.109,3,   0.050,2,   0.072,2,  2239.1,2, 2356.45,2,  953.715,6,      20,   7.6429,2,       25,-999.000,9,   1.2806,2, -999.00,9,  -999.0,9,  -999.0,  40.38870336,2,        31.35,2,  4197.8,     16.703,2,    34.9239,2,     -999.0,1,         -999.0,9,  -999.0,9,20140111,       0354
33RO20131223,       A16S,      53,          2,          1,          1,2,20140111,       0350,   -32.0005,   -25.0001,       4321,  4381.4,   1.2163,  34.7510,2,  34.7522,2,    224.4,2,   224.9,2,    94.4,6,    29.1,6,    0.00,6,   1.989,6,   0.133,3,   0.062,2,   0.061,2,  2245.7,6, 2357.94,2,    968.8,2,      20,   7.6594,3,       25,-999.000,1,   1.2166,2, -999.00,9,  -999.0,9,  -999.0,  39.63138659,2,        31.82,2,  4381.4,     16.819,2,     34.916,2,     -999.0,1,         -999.0,9,  -999.0,9,20140111,       0350