BOTTLE,20220815CCHSIOAMB
EXPOCODE,SECT_ID,STNNBR,CASTNO,SAMPNO,BTLNBR,BTLNBR_FLAG_W,DATE,TIME,LATITUDE,LONGITUDE,DEPTH,CTDPRS,CTDTMP,CTDSAL,CTDSAL_FLAG_W,SALNTY,SALNTY_FLAG_W,CTDOXY,CTDOXY_FLAG_W,OXYGEN,OXYGEN_FLAG_W,SILCAT,SILCAT_FLAG_W,NITRAT,NITRAT_FLAG_W,NITRIT,NITRIT_FLAG_W,PHSPHT,PHSPHT_FLAG_W,CFC-11,CFC-11_FLAG_W,CFC-12,CFC-12_FLAG_W,SF6,SF6_FLAG_W,TCARBN,TCARBN_FLAG_W,ALKALI,ALKALI_FLAG_W,PCO2,PCO2_FLAG_W,PCO2TMP,PH_SWS,PH_SWS_FLAG_W,PH_TMP,TRITUM,TRITUM_FLAG_W,REFTMP,REFTMP_FLAG_W,DELC13,DELC13_FLAG_W,DELC14,DELC14_FLAG_W,C14ERR,DOC,DOC_FLAG_W,TDN,TDN_FLAG_W,CTDRAW,N2O,N2O_FLAG_W,SALTREF,SALTREF_FLAG_W,HELIUM,HELIUM_FLAG_W,DELO18,DELO18_FLAG_W,CCL4,CCL4_FLAG_W,BTL_DATE,BTL_TIME
,,,,,,,,,,,METERS,DBAR,ITS-90,PSS-78,,PSS-78,,UMOL/KG,,UMOL/KG,,UMOL/KG,,UMOL/KG,,UMOL/KG,,UMOL/KG,,PMOL/KG,,PMOL/KG,,FMOL/KG,,UMOL/KG,,UMOL/KG,,UATM,,DEG C,,,DEG C,TU,,DEG C,,/MILLE,,/MILLE,,/MILLE,UMOL/KG,,UMOL/KG,,DBAR,NMOL/KG,,G/KG,,NMOL/KG,,/MILLE,,PMOL/KG,,,
33RO20131223,       A16S,      26,          1,         24,         24,2,20140103,       0001,   -18.5002,   -25.0001,       5471,     2.6,  25.4492,  37.3177,2,  37.3169,2,    203.6,2,   204.7,2,     0.8,2,     0.0,2,    0.00,2,   0.160,2,-999.000,9,-999.000,9,-999.000,9,    2117,6, 2444.06,2,-999.0000,9, -999.00,   8.0462,2,       25,-999.000,9,  25.4463,2, -999.00,9,  -999.0,9,  -999.0,-999.00000000,9,-999.00000000,9,     2.6,     -999.0,9,    37.4928,2,     -999.0,9,         -999.0,9,  -999.0,9,20140103,       0201
33RO20131223,       A16S,      26,          1,         23,         23,2,20140103,       0001,   -18.5002,   -25.0001,       5471,    27.5,  25.3917,  37.3077,2,  37.3177,2,    204.4,2,   206.8,2,     0.8,2,     0.0,2,    0.00,2,   0.162,2,-999.000,9,-999.000,9,-999.000,9,  2115.7,2, 2447.37,6,-999.0000,9, -999.00,   8.0455,2,       25,-999.000,9,  25.3639,2, -999.00,9,  -999.0,9,  -999.0,-999.00000000,9,-999.00000000,9,    27.5,     -999.0,9,    37.4936,2,     -999.0,9,         -999.0,9,  -999.0,9,20140103,       0159
33RO20131223,       A16S,      26,          1,         22,         22,2,20140103,       0001,   -18.5002,   -25.0001,       5471,    67.6,  24.2194,  37.1395,2,  37.1384,2,    213.7,2,   214.4,2,     0.8,2,     0.0,2,    0.00,2,   0.168,2,-999.000,9,-999.000,9,-999.000,9,  2109.3,2, 2438.62,2,-999.0000,9, -999.00,   8.0426,6,       25,-999.000,9,  24.2393,2, -999.00,9,  -999.0,9,  -999.0,-999.00000000,9,-999.00000000,9,    67.6,     -999.0,9,    37.3135,2,     -999.0,9,         -999.0,9,  -999.0,9,20140103,       0157
33RO20131223,       A16S,      26,          1,         21,         21,2,20140103,       0001,   -18.5002,   -25.0001,       5471,   108.2,  23.5864,  37.0994,2,  37.0974,2,    214.1,2,     214,2,     0.8,2,     0.0,2,    0.00,2,   0.175,2,-999.000,9,-999.000,9,-999.000,9,    2110,2, 2436.48,2,-999.0000,9, -999.00,    8.037,2,       25,-999.000,9,  23.5653,2, -999.00,9,  -999.0,9,  -999.0,-999.00000000,9,-999.00000000,9,   108.2,     -999.0,9,    37.2724,2,     -999.0,9,         -999.0,9,  -999.0,9,20140103,       0155
33RO20131223,       A16S,      26,          1,         20,         20,2,20140103,       0001,   -18.5002,   -25.0001,       5471,   172.8,  20.5892,  36.5036,2,  36.4938,2,    204.2,2,   203.1,2,     1.2,2,     0.3,2,    0.08,2,   0.274,2,-999.000,9,-999.000,9,-999.000,9,  2119.4,2, 2399.55,2,-999.0000,9, -999.00,    7.972,2,       25,-999.000,9,  20.5796,2, -999.00,9,  -999.0,9,  -999.0,-999.00000000,9,-999.00000000,9,   172.8,     -999.0,9,    36.6659,2,     -999.0,9,         -999.0,9,  -999.0,9,20140103,       0153
33RO20131223,       A16S,      26,          1,         19,         19,2,20140103,       0001,   -18.5002,   -25.0001,       5471,     258,  15.4268,  35.5635,2,  35.5631,2,    184.5,2,     185,2,     3.2,2,     8.8,2,    0.01,2,   0.723,2,-999.000,9,-999.000,9,-999.000,9,  2132.3,2, 2339.09,2,-999.0000,9, -999.00,   7.8504,2,       25,-999.000,9,  15.4313,2, -999.00,9,  -999.0,9,  -999.0,-999.00000000,9,-999.00000000,9,   258.0,     -999.0,9,    35.7308,2,     -999.0,9,         -999.0,9,  -999.0,9,20140103,       0150
33RO20131223,       A16S,      26,          1,         18,         18,2,20140103,       0001,   -18.5002,   -25.0001,       5471,   367.5,  11.6928,  35.0298,2,  35.0254,2,    159.3,2,   157.9,2,     7.2,2,    18.6,2,    0.00,2,   1.283,2,-999.000,9,-999.000,9,-999.000,9,  -999.0,9, -999.00,9,-999.0000,9, -999.00,-999.0000,9,  -999.00,-999.000,9,  11.7118,2, -999.00,9,  -999.0,9,  -999.0,-999.00000000,9,-999.00000000,9,   367.5,     -999.0,9,    35.1905,2,     -999.0,9,         -999.0,9,  -999.0,9,20140103,       0147
33RO20131223,       A16S,      26,          1,         17,         17,2,20140103,       0001,   -18.5002,   -25.0001,       5471,   466.9,   9.3147,  34.7658,2,  34.7620,2,    147.1,2,   146.4,2,    12.2,2,    25.1,2,    0.00,2,   1.685,2,-999.000,9,-999.000,9,-999.000,9,  2187.1,2, 2300.47,2,-999.0000,9, -999.00,   7.6325,2,       25,-999.000,9,   9.3157,2, -999.00,9,  -999.0,9,  -999.0,-999.00000000,9,-999.00000000,9,   466.9,     -999.0,9,    34.9259,2,     -999.0,9,         -999.0,9,  -999.0,9,20140103,       0145
33RO20131223,       A16S,      26,          1,         16,         16,2,20140103,       0001,   -18.5002,   -25.0001,       5471,     573,   7.0301,  34.5706,2,  34.5690,2,    142.7,2,   142.5,2,    19.0,2,    30.5,2,    0.00,2,   2.030,2,-999.000,9,-999.000,9,-999.000,9,  2205.6,2, 2295.27,2,-999.0000,9, -999.00,    7.573,2,       25,-999.000,9,    7.043,2, -999.00,9,  -999.0,9,  -999.0,-999.00000000,9,-999.00000000,9,   573.0,     -999.0,9,     34.732,2,     -999.0,9,         -999.0,9,  -999.0,9,20140103,       0142
33RO20131223,       A16S,      26,          1,         15,         15,2,20140103,       0001,   -18.5002,   -25.0001,       5471,     748,   4.8966,  34.4392,2,  34.4381,2,    166.1,2,   164.4,2,    28.8,2,    32.6,2,    0.00,2,   2.198,2,-999.000,9,-999.000,9,-999.000,9,  2210.9,2, 2299.56,2,-999.0000,9, -999.00,   7.5699,2,       25,-999.000,9,   4.8955,2, -999.00,9,  -999.0,9,  -999.0,-999.00000000,9,-999.00000000,9,   748.0,     -999.0,9,    34.6005,2,     -999.0,9,         -999.0,9,  -999.0,9,20140103,       0137
33RO20131223,       A16S,      26,          1,         14,         14,2,20140103,       0001,   -18.5002,   -25.0001,       5471,   923.4,   4.0134,  34.4659,2,  34.4652,2,    173.5,2,   173.5,2,    36.1,2,    32.7,2,    0.00,2,   2.221,2,-999.000,9,-999.000,9,-999.000,9,  2215.4,6, 2307.01,2,-999.0000,9, -999.00,   7.5741,2,       25,-999.000,9,   4.0116,2, -999.00,9,  -999.0,9,  -999.0,-999.00000000,9,-999.00000000,9,   923.4,     -999.0,9,    34.6277,6,     -999.0,9,         -999.0,9,  -999.0,9,20140103,       0133
33RO20131223,       A16S,      26,          1,         13,         13,2,20140103,       0001,   -18.5002,   -25.0001,       5471,  1098.2,   3.8086,  34.5797,2,  34.5794,2,    178.7,2,   178.1,2,    37.1,2,    31.2,2,    0.00,2,   2.130,2,-999.000,9,-999.000,9,-999.000,9,  2215.7,2, 2313.72,2,-999.0000,9, -999.00,   7.5902,2,       25,-999.000,9,   3.8088,2, -999.00,9,  -999.0,9,  -999.0,-999.00000000,9,-999.00000000,9,  1098.2,     -999.0,9,    34.7425,2,     -999.0,9,         -999.0,9,  -999.0,9,20140103,       0129
33RO20131223,       A16S,      26,          1,         12,         12,2,20140103,       0001,   -18.5002,   -25.0001,       5471,  1248.1,   3.8606,  34.7123,2,  34.7152,2,    188.3,2,     188,2,    33.2,2,    28.7,2,    0.00,2,   1.949,2,-999.000,9,-999.000,9,-999.000,9,  -999.0,9, -999.00,9,-999.0000,9, -999.00,-999.0000,9,  -999.00,-999.000,9,   3.8607,2, -999.00,9,  -999.0,9,  -999.0,-999.00000000,9,-999.00000000,9,  1248.1,     -999.0,9,    34.8789,2,     -999.0,9,         -999.0,9,  -999.0,9,20140103,       0125
33RO20131223,       A16S,      26,          1,         11,         11,2,20140103,       0001,   -18.5002,   -25.0001,       5471,  1397.4,   3.8750,  34.8158,2,  34.8131,2,    202.3,2,   202.4,2,    29.2,2,    26.1,2,    0.00,2,   1.758,2,-999.000,9,-999.000,9,-999.000,9,  2196.5,2, 2317.65,6,-999.0000,9, -999.00,   7.6536,2,       25,-999.000,9,   3.8749,2, -999.00,9,  -999.0,9,  -999.0,-999.00000000,9,-999.00000000,9,  1397.4,     -999.0,9,    34.9773,2,     -999.0,9,         -999.0,9,  -999.0,9,20140103,       0122
33RO20131223,       A16S,      26,          1,         10,         10,2,20140103,       0001,   -18.5002,   -25.0001,       5471,  1587.9,   3.7147,  34.8886,2,  34.8869,2,    220.9,2,   221.3,2,    26.7,2,    23.3,2,    0.00,2,   1.571,2,-999.000,9,-999.000,9,-999.000,9,  -999.0,9, -999.00,9,-999.0000,9, -999.00,-999.0000,9,  -999.00,-999.000,9,   3.7134,2, -999.00,9,  -999.0,9,  -999.0,-999.00000000,9,-999.00000000,9,  1587.9,     -999.0,9,    35.0514,2,     -999.0,9,         -999.0,9,  -999.0,9,20140103,       0117
33RO20131223,       A16S,      26,          1,          9,          9,2,20140103,       0001,   -18.5002,   -25.0001,       5471,  1947.8,   3.4233,  34.9434,2,  34.9444,2,    243.9,2,   244.1,2,    23.9,2,    20.4,2,    0.00,2,   1.367,2,-999.000,9,-999.000,9,-999.000,9,  2172.8,2, 2315.15,2,-999.0000,9, -999.00,   7.7201,2,       25,-999.000,9,   3.4232,2, -999.00,9,  -999.0,9,  -999.0,-999.00000000,9,-999.00000000,9,  1947.8,     -999.0,9,    35.1092,2,     -999.0,9,         -999.0,9,  -999.0,9,20140103,       0110
33RO20131223,       A16S,      26,          1,          8,          8,2,20140103,       0001,   -18.5002,   -25.0001,       5471,  2397.7,   3.0040,  34.9272,2,  34.9259,2,    247.3,2,   246.3,2,    30.1,2,    20.7,2,    0.00,2,   1.396,2,-999.000,9,-999.000,9,-999.000,9,  -999.0,9, -999.00,9,-999.0000,9, -999.00,-999.0000,9,  -999.00,-999.000,9,   3.0024,2, -999.00,9,  -999.0,9,  -999.0,-999.00000000,9,-999.00000000,9,  2397.7,     -999.0,9,    35.0906,2,     -999.0,9,         -999.0,9,  -999.0,9,20140103,       0102
33RO20131223,       A16S,      26,          1,          7,          7,2,20140103,       0001,   -18.5002,   -25.0001,       5471,  2947.2,   2.7235,  34.9118,2,  34.9108,2,    245.7,2,   245.9,2,    35.4,2,    21.2,2,    0.00,2,   1.424,2,-999.000,9,-999.000,9,-999.000,9,  2182.7,2, 2332.59,2,-999.0000,9, -999.00,   7.7202,2,       25,-999.000,9,   2.7238,2, -999.00,9,  -999.0,9,  -999.0,-999.00000000,9,-999.00000000,9,  2947.2,     -999.0,9,    35.0754,2,     -999.0,9,         -999.0,9,  -999.0,9,20140103,       0052
33RO20131223,       A16S,      26,          1,          6,          6,2,20140103,       0001,   -18.5002,   -25.0001,       5471,  3448.1,   2.4889,  34.8979,2,  34.8971,2,    247.7,2,   248.9,2,    39.4,2,    21.3,2,    0.00,2,   1.434,2,-999.000,9,-999.000,9,-999.000,9,  2185.4,2,  2335.8,2,-999.0000,9, -999.00,   7.7231,2,       25,-999.000,9,   2.4892,2, -999.00,9,  -999.0,9,  -999.0,-999.00000000,9,-999.00000000,9,  3448.1,     -999.0,9,    35.0617,2,     -999.0,9,         -999.0,9,  -999.0,9,20140103,       0042
33RO20131223,       A16S,      26,          1,          5,          5,2,20140103,       0001,   -18.5002,   -25.0001,       5471,  3947.8,   1.9310,  34.8421,2,  34.8405,2,    240.9,2,   240.7,2,    60.0,2,    23.9,2,    0.00,2,   1.628,2,-999.000,9,-999.000,9,-999.000,9,  2205.5,2, 2345.55,6,-999.0000,9, -999.00,   7.6955,2,       25,-999.000,9,   1.9315,2, -999.00,9,  -999.0,9,  -999.0,-999.00000000,9,-999.00000000,9,  3947.8,     -999.0,9,    35.0047,2,     -999.0,9,         -999.0,9,  -999.0,9,20140103,       0033
33RO20131223,       A16S,      26,          1,          4,          4,2,20140103,       0001,   -18.5002,   -25.0001,       5471,  4423.5,   1.2355,  34.7674,2,  34.7659,2,    228.5,2,   230.4,2,    88.9,6,    27.9,6,    0.00,6,   1.905,6,-999.000,9,-999.000,9,-999.000,9,  -999.0,9, -999.00,9,-999.0000,9, -999.00,-999.0000,9,  -999.00,-999.000,9,    1.236,2, -999.00,9,  -999.0,9,  -999.0,-999.00000000,9,-999.00000000,9,  4423.5,     -999.0,9,    34.9299,2,     -999.0,9,         -999.0,9,  -999.0,9,20140103,       0024
33RO20131223,       A16S,      26,          1,          3,          3,2,20140103,       0001,   -18.5002,   -25.0001,       5471,    4947,   0.8638,  34.7244,2,  34.7230,2,    222.9,2,   223.3,2,   105.2,6,    30.1,6,    0.00,6,   2.062,6,-999.000,9,-999.000,9,-999.000,9,    2250,2, 2365.21,2,-999.0000,9, -999.00,   7.6281,6,       25,-999.000,9,    0.864,2, -999.00,9,  -999.0,9,  -999.0,-999.00000000,9,-999.00000000,9,  4947.0,     -999.0,9,    34.8867,2,     -999.0,9,         -999.0,9,  -999.0,9,20140103,       0014
33RO20131223,       A16S,      26,          1,          2,          2,2,20140103,       0001,   -18.5002,   -25.0001,       5471,    5278,   0.7594,  34.7094,2,  34.7088,2,    221.1,2,   221.5,2,   111.0,6,    30.7,6,    0.00,6,   2.116,6,-999.000,9,-999.000,9,-999.000,9,  -999.0,9, -999.00,9,-999.0000,9, -999.00,-999.0000,9,  -999.00,-999.000,9,   0.7595,2, -999.00,9,  -999.0,9,  -999.0,-999.00000000,9,-999.00000000,9,  5278.0,     -999.0,9,    34.8725,6,     -999.0,9,         -999.0,9,  -999.0,9,20140103,       0007
33RO20131223,       A16S,      26,          1,          1,          1,2,20140103,       0001,   -18.5002,   -25.0001,       5471,  5612.4,   0.7087,  34.6993,2,  34.6987,2,    220.3,2,   220.1,2,   114.4,6,    31.2,6,    0.00,6,   2.145,6,-999.000,9,-999.000,9,-999.000,9,    2259,6, 2367.31,2,-999.0000,9, -999.00,   7.6106,2,       25,-999.000,9,   0.7079,2, -999.00,9,  -999.0,9,  -999.0,-999.00000000,9,-999.00000000,9,  5612.4,     -999.0,9,    34.8623,2,     -999.0,9,         -999.0,9,  -999.0,9,20140103,       0001