BOTTLE,20220815CCHSIOAMB
EXPOCODE,SECT_ID,STNNBR,CASTNO,SAMPNO,BTLNBR,BTLNBR_FLAG_W,DATE,TIME,LATITUDE,LONGITUDE,DEPTH,CTDPRS,CTDTMP,CTDSAL,CTDSAL_FLAG_W,SALNTY,SALNTY_FLAG_W,CTDOXY,CTDOXY_FLAG_W,OXYGEN,OXYGEN_FLAG_W,SILCAT,SILCAT_FLAG_W,NITRAT,NITRAT_FLAG_W,NITRIT,NITRIT_FLAG_W,PHSPHT,PHSPHT_FLAG_W,CFC-11,CFC-11_FLAG_W,CFC-12,CFC-12_FLAG_W,SF6,SF6_FLAG_W,TCARBN,TCARBN_FLAG_W,ALKALI,ALKALI_FLAG_W,PCO2,PCO2_FLAG_W,PCO2TMP,PH_SWS,PH_SWS_FLAG_W,PH_TMP,TRITUM,TRITUM_FLAG_W,REFTMP,REFTMP_FLAG_W,DELC13,DELC13_FLAG_W,DELC14,DELC14_FLAG_W,C14ERR,DOC,DOC_FLAG_W,TDN,TDN_FLAG_W,CTDRAW,N2O,N2O_FLAG_W,SALTREF,SALTREF_FLAG_W,HELIUM,HELIUM_FLAG_W,DELO18,DELO18_FLAG_W,CCL4,CCL4_FLAG_W,BTL_DATE,BTL_TIME
,,,,,,,,,,,METERS,DBAR,ITS-90,PSS-78,,PSS-78,,UMOL/KG,,UMOL/KG,,UMOL/KG,,UMOL/KG,,UMOL/KG,,UMOL/KG,,PMOL/KG,,PMOL/KG,,FMOL/KG,,UMOL/KG,,UMOL/KG,,UATM,,DEG C,,,DEG C,TU,,DEG C,,/MILLE,,/MILLE,,/MILLE,UMOL/KG,,UMOL/KG,,DBAR,NMOL/KG,,G/KG,,NMOL/KG,,/MILLE,,PMOL/KG,,,
33RO20131223,       A16S,      99,          2,         19,         19,2,20140126,       0312,     -53.74,   -36.2431,        923,     5.6,   2.3464,  33.7843,2,  33.7828,2,    324.6,2,   326.9,2,     9.5,2,    21.6,2,    0.25,2,   1.586,2,   5.289,2,   2.979,2,   2.916,2,  2144.3,6, 2278.42,2,   749.99,2,      20,   7.7283,2,       25,-999.000,9,   2.3472,2,    1.57,2,   -81.2,2,     2.0,  46.71542847,2,  25.84285354,2,     5.6,     13.459,2,    33.9421,2,     -999.0,9,         -999.0,9,  -999.0,9,20140126,       0351
33RO20131223,       A16S,      99,          2,         18,         18,2,20140126,       0312,     -53.74,   -36.2431,        923,    18.2,   2.3424,  33.7845,2,  33.7836,2,    324.6,2,   326.9,2,     9.6,6,    21.6,6,    0.25,6,   1.590,6,-999.000,9,-999.000,9,-999.000,9,  2145.1,2, 2284.83,2,-999.0000,9, -999.00,   7.7278,2,       25,-999.000,9,   2.3429,2,    1.53,2,   -82.8,2,     1.9,  45.41461598,2,  26.58398276,2,    18.2,     -999.0,9,    33.9429,2,     -999.0,9,         -999.0,9,  -999.0,9,20140126,       0350
33RO20131223,       A16S,      99,          2,         17,         17,2,20140126,       0312,     -53.74,   -36.2431,        923,    33.4,   2.3446,  33.7844,2,  33.7836,2,    325.4,2,   327.9,2,     9.6,2,    21.6,2,    0.25,2,   1.590,2,-999.000,9,-999.000,9,-999.000,9,  2145.7,2,  2283.7,6,   749.27,2,      20,   7.7283,2,       25,-999.000,9,   2.3444,2, -999.00,9,  -999.0,9,  -999.0,  44.93494138,2,  26.66454028,2,    33.4,     -999.0,9,    33.9429,2,     -999.0,9,         -999.0,9,  -999.0,9,20140126,       0348
33RO20131223,       A16S,      99,          2,         16,         16,2,20140126,       0312,     -53.74,   -36.2431,        923,    47.8,   2.3266,  33.7846,2,  33.7826,2,    325.5,2,     327,2,     9.6,2,    21.6,2,    0.24,2,   1.588,2,   5.308,2,   2.991,2,   2.980,2,  2144.2,2, 2279.83,2,-999.0000,9, -999.00,   7.7274,2,       25,-999.000,9,   2.3277,2,    1.56,2,   -73.8,2,     1.9,  44.58534802,2,  26.60487805,2,    47.8,     13.741,2,    33.9419,2,     -999.0,9,         -999.0,9,  -999.0,9,20140126,       0347
33RO20131223,       A16S,      99,          2,         15,         15,2,20140126,       0312,     -53.74,   -36.2431,        923,    68.3,   2.2336,  33.7848,2,  33.7834,2,    324.7,2,   326.8,2,     9.7,6,    21.6,6,    0.25,6,   1.596,6,-999.000,9,-999.000,9,-999.000,9,  2144.3,2, 2280.85,2,   754.29,2,      20,   7.7254,2,       25,-999.000,9,   2.2337,2,    1.56,2,   -81.0,2,     1.9,  44.11380349,2,  26.74146341,2,    68.3,     -999.0,9,    33.9427,2,     -999.0,9,         -999.0,9,  -999.0,9,20140126,       0345
33RO20131223,       A16S,      99,          2,         14,         14,2,20140126,       0312,     -53.74,   -36.2431,        923,      88,   2.0143,  33.7930,2,  33.7966,2,    322.4,2,   324.7,2,    10.8,2,    22.1,2,    0.25,2,   1.652,2,-999.000,9,-999.000,9,-999.000,9,  2150.7,2, 2284.78,2,-999.0000,9, -999.00,   7.7154,2,       25,-999.000,9,   2.0138,2,    1.52,2,   -81.0,2,     2.6,   43.8588849,2,  26.88780488,2,    88.0,     -999.0,9,     33.956,2,     -999.0,9,         -999.0,9,  -999.0,9,20140126,       0343
33RO20131223,       A16S,      99,          2,         13,         13,2,20140126,       0312,     -53.74,   -36.2431,        923,   118.3,   1.1159,  33.8663,2,  33.8762,2,    312.5,2,   311.4,2,    18.8,6,    24.2,6,    0.29,6,   1.853,6,   5.210,2,   2.918,2,   2.834,2,  -999.0,5, 2289.32,2,  867.145,2,      20,   7.6721,2,       25,-999.000,9,   1.1155,2,    1.26,2,   -82.0,2,     2.5,  42.23575546,2,  28.60487805,2,   118.3,     15.043,2,    34.0359,2,     -999.0,9,         -999.0,9,  -999.0,9,20140126,       0341
33RO20131223,       A16S,      99,          2,         12,         12,2,20140126,       0312,     -53.74,   -36.2431,        923,     148,   1.1708,  33.9533,2,  33.9639,2,    293.5,2,   288.3,2,    28.3,2,    26.7,2,    0.30,2,   2.015,2,-999.000,9,-999.000,9,-999.000,9,  2184.7,2, 2292.59,2,-999.0000,9, -999.00,   7.6382,2,       25,-999.000,9,   1.1686,2,    1.08,2,   -89.2,2,     2.0,  41.72356055,2,  30.34146341,2,   148.0,     -999.0,9,    34.1241,2,     -999.0,9,         -999.0,9,  -999.0,9,20140126,       0339
33RO20131223,       A16S,      99,          2,         11,         11,2,20140126,       0312,     -53.74,   -36.2431,        923,     178,   0.5515,  34.0308,2,  34.0477,2,      279,2,     278,2,    37.5,2,    29.5,2,    0.24,2,   2.153,2,   4.568,2,   2.497,2,   2.185,2,  2198.5,2, 2294.01,6,  1036.52,2,      20,   7.6036,2,       25,-999.000,9,   0.5656,2,    0.79,2,   -94.8,2,     2.3,  41.30892657,2,        32.75,2,   178.0,     17.336,2,    34.2082,2,     -999.0,9,         -999.0,9,  -999.0,9,20140126,       0337
33RO20131223,       A16S,      99,          2,         10,         10,2,20140126,       0312,     -53.74,   -36.2431,        923,   208.3,   1.4644,  34.2130,2,  34.2163,2,    236.5,2,     231,2,    50.2,2,    32.4,2,    0.21,2,   2.321,2,-999.000,9,-999.000,9,-999.000,9,  2222.9,2, 2304.34,2,-999.0000,9, -999.00,   7.5568,2,       25,-999.000,9,   1.4644,2,    0.70,2,  -102.8,2,     2.3,  40.83738204,2,        35.87,2,   208.3,     -999.0,9,    34.3776,2,     -999.0,9,         -999.0,9,  -999.0,9,20140126,       0335
33RO20131223,       A16S,      99,          2,          9,          9,2,20140126,       0312,     -53.74,   -36.2431,        923,   237.7,   1.5212,  34.2568,2,  34.2660,2,    225.6,2,     222,2,    51.8,2,    33.5,2,    0.10,2,   2.338,2,-999.000,9,-999.000,9,-999.000,9,  2226.2,2, 2304.71,2,  1179.21,2,      20,     7.55,2,       25,-999.000,9,   1.5254,2,    0.68,2,  -105.9,2,     2.1,  40.47152853,2,  36.92756878,2,   237.7,     -999.0,9,    34.4276,2,     -999.0,9,         -999.0,9,  -999.0,9,20140126,       0333
33RO20131223,       A16S,      99,          2,          8,          8,2,20140126,       0312,     -53.74,   -36.2431,        923,   272.6,   1.9314,  34.3659,2,  34.3712,2,    198.9,2,   197.7,2,    59.6,2,    34.2,2,    0.07,2,   2.384,2,   2.069,2,   1.084,2,   0.799,2,  2241.6,2, 2316.71,2,-999.0000,9, -999.00,   7.5338,2,       25,-999.000,9,   1.9314,2,    0.51,2,  -117.2,2,     2.2,  40.02437423,2,  37.08292683,2,   272.6,     21.682,2,    34.5333,2,     -999.0,9,         -999.0,9,  -999.0,9,20140126,       0332
33RO20131223,       A16S,      99,          2,          7,          7,2,20140126,       0312,     -53.74,   -36.2431,        923,   372.9,   1.9995,  34.4943,2,  34.4970,2,    179.2,2,   180.8,2,    70.3,2,    34.4,2,    0.03,2,   2.398,2,-999.000,9,-999.000,9,-999.000,9,  2254.7,2, 2330.61,2,  1257.76,6,      20,    7.527,2,       25,-999.000,9,   2.0031,2,    0.44,2,  -129.2,2,     2.3,  39.53656955,2,  36.64390244,2,   372.9,     -999.0,9,    34.6596,2,     -999.0,9,         -999.0,9,  -999.0,9,20140126,       0329
33RO20131223,       A16S,      99,          2,          6,          6,2,20140126,       0312,     -53.74,   -36.2431,        923,     448,   2.1367,  34.5577,2,  34.5584,2,    171.6,2,   172.9,2,    74.4,6,    34.1,6,    0.02,6,   2.373,6,   0.810,6,   0.410,2,   0.294,6,  2258.2,2, 2335.79,2,-999.0000,9, -999.00,   7.5356,2,       25,-999.000,9,   2.1368,2,    0.47,2,  -143.6,2,     2.0,  39.49591916,2,  36.32195122,2,   448.0,     21.958,6,    34.7214,2,     -999.0,9,         -999.0,9,  -999.0,9,20140126,       0326
33RO20131223,       A16S,      99,          2,          5,          5,2,20140126,       0312,     -53.74,   -36.2431,        923,   547.8,   2.0934,  34.6009,2,  34.6001,2,    170.1,2,   171.7,2,    77.4,2,    33.7,2,    0.01,2,   2.345,2,-999.000,9,-999.000,9,-999.000,9,  2260.2,2, 2340.11,6,-999.0000,9, -999.00,    7.539,2,       25,-999.000,9,   2.0937,2, -999.00,9,  -999.0,9,  -999.0,  38.98372424,2,  35.91219512,2,   547.8,     -999.0,9,    34.7632,6,     -999.0,9,         -999.0,9,  -999.0,9,20140126,       0323
33RO20131223,       A16S,      99,          2,          4,          4,2,20140126,       0312,     -53.74,   -36.2431,        923,   647.7,   2.0526,  34.6371,2,  34.6374,2,    170.5,2,   172.3,2,    80.8,6,    33.2,6,    0.01,6,   2.311,6,   0.468,2,   0.225,2,   0.131,2,  2262.1,6, 2355.32,3,  1209.81,2,      20,   7.5501,2,       25,-999.000,9,   2.0527,2,    0.39,2,  -153.1,2,     2.2,  39.24388674,2,  35.40487805,2,   647.7,     21.006,2,    34.8007,2,     -999.0,9,         -999.0,9,  -999.0,9,20140126,       0320
33RO20131223,       A16S,      99,          2,          3,          3,2,20140126,       0312,     -53.74,   -36.2431,        923,   748.2,   1.9561,  34.6646,2,  34.6643,2,    173.3,2,     175,2,    83.9,6,    32.7,6,    0.01,6,   2.278,6,-999.000,9,-999.000,9,-999.000,9,  2262.2,2, 2350.68,2,-999.0000,9, -999.00,   7.5582,6,       25,-999.000,9,   1.9558,2,    0.43,2,  -154.9,2,     1.8,  39.21949651,2,  34.91363069,2,   748.2,     -999.0,9,    34.8278,2,     -999.0,9,         -999.0,9,  -999.0,9,20140126,       0317
33RO20131223,       A16S,      99,          2,          2,          2,2,20140126,       0312,     -53.74,   -36.2431,        923,   847.8,   1.9097,  34.6750,2,  34.6745,2,    174.6,2,   176.2,2,    86.3,6,    32.6,6,    0.02,6,   2.269,6,   0.356,2,   0.168,2,   0.121,2,  2263.3,6, 2351.39,2, 1173.585,6,      20,   7.5855,3,       25,-999.000,9,   1.9092,2,    0.43,2,  -157.9,2,     1.8,  38.69917151,2,  34.71219512,2,   847.8,     20.245,2,     34.838,2,     -999.0,9,         -999.0,9,  -999.0,9,20140126,       0314
33RO20131223,       A16S,      99,          2,          1,          1,4,20140126,       0312,     -53.74,   -36.2431,        923,     923,   1.8238,  34.6857,2,-999.0000,9,    176.6,2,  -999.0,9,  -999.0,9,  -999.0,9, -999.00,9,-999.000,9,-999.000,9,-999.000,9,-999.000,9,  -999.0,9, -999.00,9,-999.0000,9, -999.00,-999.0000,9,  -999.00,-999.000,9,   1.8242,2, -999.00,9,  -999.0,9,  -999.0,-999.00000000,9,-999.00000000,9,   923.0,     -999.0,9,     -999.0,9,     -999.0,9,         -999.0,9,  -999.0,9,20140126,       0312
33RO20131223,       A16S,     100,          2,         10,         10,2,20140126,       0549,   -53.8502,   -36.3832,        219,     5.1,   3.1828,  33.7890,2,  33.7905,2,    328.5,2,   329.5,2,    13.9,6,    20.7,6,    0.29,6,   1.432,6,   5.093,6,   2.871,2,   2.806,6,  2126.1,6,  2284.9,2,   673.89,2,      20,   7.7666,2,       25,-999.000,9,   3.1827,2, -999.00,9,  -999.0,9,  -999.0,-999.00000000,9,-999.00000000,9,     5.1,     12.977,6,    33.9498,2,     -999.0,9,         -999.0,9,  -999.0,9,20140126,       0606
33RO20131223,       A16S,     100,          2,          9,          9,2,20140126,       0549,   -53.8502,   -36.3832,        219,    17.8,   3.0975,  33.8003,2,  33.8040,2,    328.3,2,   329.3,2,    13.3,2,    21.0,2,    0.27,2,   1.456,2,-999.000,9,-999.000,9,-999.000,9,    2127,2, 2282.57,6,-999.0000,9, -999.00,   7.7621,2,       25,-999.000,9,   3.0861,2, -999.00,9,  -999.0,9,  -999.0,-999.00000000,9,-999.00000000,9,    17.8,     -999.0,9,    33.9634,2,     -999.0,9,         -999.0,9,  -999.0,9,20140126,       0604
33RO20131223,       A16S,     100,          2,          8,          8,2,20140126,       0549,   -53.8502,   -36.3832,        219,    37.9,   2.8382,  33.8171,2,  33.8169,2,    325.5,2,   325.9,2,    12.0,2,    21.3,2,    0.25,2,   1.509,2,   5.133,2,   2.917,2,   2.852,2,  2135.2,2, 2282.16,2,  717.025,2,      20,   7.7453,6,       25,-999.000,9,   2.8364,2, -999.00,9,  -999.0,9,  -999.0,-999.00000000,9,-999.00000000,9,    37.9,     13.042,2,    33.9764,2,     -999.0,9,         -999.0,9,  -999.0,9,20140126,       0602
33RO20131223,       A16S,     100,          2,          7,          7,2,20140126,       0549,   -53.8502,   -36.3832,        219,    58.1,   2.7112,  33.8199,2,  33.8220,2,    323.3,2,   325.3,2,    11.9,6,    21.6,6,    0.24,6,   1.540,6,-999.000,9,-999.000,9,-999.000,9,  2137.7,2, 2281.08,2,-999.0000,9, -999.00,   7.7363,2,       25,-999.000,9,   2.7115,2, -999.00,9,  -999.0,9,  -999.0,-999.00000000,9,-999.00000000,9,    58.1,     -999.0,9,    33.9815,2,     -999.0,9,         -999.0,9,  -999.0,9,20140126,       0601
33RO20131223,       A16S,     100,          2,          6,          6,2,20140126,       0549,   -53.8502,   -36.3832,        219,    78.3,   1.6873,  33.8482,2,  33.8606,2,    317.1,2,   317.4,2,    15.3,6,    23.3,6,    0.25,6,   1.728,6,-999.000,9,-999.000,9,-999.000,9,  2156.6,2, 2285.44,2,  821.155,6,      20,   7.6953,2,       25,-999.000,9,   1.6896,2, -999.00,9,  -999.0,9,  -999.0,-999.00000000,9,-999.00000000,9,    78.3,     -999.0,9,    34.0203,2,     -999.0,9,         -999.0,9,  -999.0,9,20140126,       0559
33RO20131223,       A16S,     100,          2,          5,          5,2,20140126,       0549,   -53.8502,   -36.3832,        219,   108.1,   0.9699,  33.9241,2,  33.9364,2,    304.1,2,   301.6,2,    23.8,6,    26.1,6,    0.30,6,   1.932,6,   5.013,2,   2.803,2,   2.633,2,  2175.2,2, 2288.32,2,   913.74,2,      20,   7.6516,2,       25,-999.000,9,   0.9698,2, -999.00,9,  -999.0,9,  -999.0,-999.00000000,9,-999.00000000,9,   108.1,     15.415,2,    34.0964,2,     -999.0,9,         -999.0,9,  -999.0,9,20140126,       0557
33RO20131223,       A16S,     100,          2,          4,          4,2,20140126,       0549,   -53.8502,   -36.3832,        219,   138.1,   1.1116,  34.0541,2,  34.0637,2,    270.8,2,   270.5,2,    35.7,6,    29.6,6,    0.28,6,   2.131,6,-999.000,9,-999.000,9,-999.000,9,  2195.7,2, 2293.92,2,-999.0000,9, -999.00,   7.6047,2,       25,-999.000,9,   1.1118,2, -999.00,9,  -999.0,9,  -999.0,-999.00000000,9,-999.00000000,9,   138.1,     -999.0,9,    34.2243,2,     -999.0,9,         -999.0,9,  -999.0,9,20140126,       0555
33RO20131223,       A16S,     100,          2,          3,          3,2,20140126,       0549,   -53.8502,   -36.3832,        219,   162.8,   1.2480,  34.1273,2,  34.1305,2,    253.9,2,   253.4,2,    41.6,6,    31.3,6,    0.23,6,   2.223,6,   3.784,2,   2.085,2,   1.776,2,  2206.6,2, 2300.07,2,  1090.68,2,      20,   7.5829,2,       25,-999.000,9,   1.2479,2, -999.00,9,  -999.0,9,  -999.0,-999.00000000,9,-999.00000000,9,   162.8,     18.447,2,    34.2914,2,     -999.0,9,         -999.0,9,  -999.0,9,20140126,       0553
33RO20131223,       A16S,     100,          2,          2,          2,2,20140126,       0549,   -53.8502,   -36.3832,        219,   187.7,   1.2668,  34.1657,2,  34.1831,2,    242.5,2,   239.4,2,    46.6,6,    32.3,6,    0.21,6,   2.277,6,-999.000,9,-999.000,9,-999.000,9,  2215.4,2, 2302.39,2,-999.0000,9, -999.00,    7.565,2,       25,-999.000,9,   1.2666,2, -999.00,9,  -999.0,9,  -999.0,-999.00000000,9,-999.00000000,9,   187.7,     -999.0,9,    34.3443,2,     -999.0,9,         -999.0,9,  -999.0,9,20140126,       0551
33RO20131223,       A16S,     100,          2,          1,          1,2,20140126,       0549,   -53.8502,   -36.3832,        219,   209.2,   1.5519,  34.2482,2,  34.2420,2,    221.8,2,     226,2,    52.3,6,    33.2,6,    0.19,6,   2.337,6,   3.020,2,   1.635,2,   1.293,2,  2224.4,2, 2303.02,6,  1176.28,2,      20,   7.5525,2,       25,-999.000,9,   1.5518,2, -999.00,9,  -999.0,9,  -999.0,-999.00000000,9,-999.00000000,9,   209.2,     20.116,2,    34.4034,6,     -999.0,9,         -999.0,9,  -999.0,9,20140126,       0549