BOTTLE,20220815CCHSIOAMB
EXPOCODE,SECT_ID,STNNBR,CASTNO,SAMPNO,BTLNBR,BTLNBR_FLAG_W,DATE,TIME,LATITUDE,LONGITUDE,DEPTH,CTDPRS,CTDTMP,CTDSAL,CTDSAL_FLAG_W,SALNTY,SALNTY_FLAG_W,CTDOXY,CTDOXY_FLAG_W,OXYGEN,OXYGEN_FLAG_W,SILCAT,SILCAT_FLAG_W,NITRAT,NITRAT_FLAG_W,NITRIT,NITRIT_FLAG_W,PHSPHT,PHSPHT_FLAG_W,CFC-11,CFC-11_FLAG_W,CFC-12,CFC-12_FLAG_W,SF6,SF6_FLAG_W,TCARBN,TCARBN_FLAG_W,ALKALI,ALKALI_FLAG_W,PCO2,PCO2_FLAG_W,PCO2TMP,PH_SWS,PH_SWS_FLAG_W,PH_TMP,TRITUM,TRITUM_FLAG_W,REFTMP,REFTMP_FLAG_W,DELC13,DELC13_FLAG_W,DELC14,DELC14_FLAG_W,C14ERR,DOC,DOC_FLAG_W,TDN,TDN_FLAG_W,CTDRAW,N2O,N2O_FLAG_W,SALTREF,SALTREF_FLAG_W,HELIUM,HELIUM_FLAG_W,DELO18,DELO18_FLAG_W,CCL4,CCL4_FLAG_W,BTL_DATE,BTL_TIME
,,,,,,,,,,,METERS,DBAR,ITS-90,PSS-78,,PSS-78,,UMOL/KG,,UMOL/KG,,UMOL/KG,,UMOL/KG,,UMOL/KG,,UMOL/KG,,PMOL/KG,,PMOL/KG,,FMOL/KG,,UMOL/KG,,UMOL/KG,,UATM,,DEG C,,,DEG C,TU,,DEG C,,/MILLE,,/MILLE,,/MILLE,UMOL/KG,,UMOL/KG,,DBAR,NMOL/KG,,G/KG,,NMOL/KG,,/MILLE,,PMOL/KG,,,
33RO20131223,       A16S,      68,          1,         24,         24,2,20140115,       1619,   -39.5001,   -27.4849,       4502,     4.1,  16.8105,  35.3077,2,  35.3083,2,    245.9,2,     247,2,     0.3,2,     0.0,2,    0.00,2,   0.154,2,   2.491,2,   1.503,2,   1.658,2,  2068.1,6, 2332.54,2,-999.0000,9, -999.00,   7.9686,2,       25,-999.000,9,   16.811,2, -999.00,9,  -999.0,9,  -999.0,-999.00000000,9,-999.00000000,9,     4.1,      8.246,2,    35.4747,2,     -999.0,9,         -999.0,9,  -999.0,9,20140115,       1802
33RO20131223,       A16S,      68,          1,         23,         23,2,20140115,       1619,   -39.5001,   -27.4849,       4502,    18.1,  16.7938,  35.3070,2,  35.3088,2,    246.4,2,   247.1,2,     0.3,2,     0.0,2,    0.01,2,   0.155,2,-999.000,9,-999.000,9,-999.000,9,  -999.0,9, -999.00,9,-999.0000,9, -999.00,-999.0000,9,  -999.00,-999.000,9,  16.7874,2, -999.00,9,  -999.0,9,  -999.0,-999.00000000,9,-999.00000000,9,    18.1,     -999.0,9,    35.4752,2,     -999.0,9,         -999.0,9,  -999.0,9,20140115,       1800
33RO20131223,       A16S,      68,          1,         22,         22,2,20140115,       1619,   -39.5001,   -27.4849,       4502,      48,  15.8011,  35.3344,2,  35.3374,2,    244.5,2,     246,2,     0.4,2,     0.2,2,    0.05,2,   0.230,2,   2.570,2,   1.544,2,   1.708,2,  2078.9,2, 2331.89,6,-999.0000,9, -999.00,   7.9551,2,       25,-999.000,9,  15.7988,2, -999.00,9,  -999.0,9,  -999.0,-999.00000000,9,-999.00000000,9,    48.0,      8.514,2,    35.5041,2,     -999.0,9,         -999.0,9,  -999.0,9,20140115,       1758
33RO20131223,       A16S,      68,          1,         21,         21,2,20140115,       1619,   -39.5001,   -27.4849,       4502,    73.6,  14.6016,  35.3620,2,  35.3631,2,    239.5,2,   240.2,2,     1.2,2,     3.0,2,    0.45,2,   0.379,2,-999.000,9,-999.000,9,-999.000,9,  2100.3,2, -999.00,5,-999.0000,9, -999.00,   7.9091,6,       25,-999.000,9,  14.6196,2, -999.00,9,  -999.0,9,  -999.0,-999.00000000,9,-999.00000000,9,    73.6,     -999.0,9,    35.5298,2,     -999.0,9,         -999.0,9,  -999.0,9,20140115,       1756
33RO20131223,       A16S,      68,          1,         20,         20,2,20140115,       1619,   -39.5001,   -27.4849,       4502,      98,  14.1552,  35.4247,2,  35.4250,2,    237.2,2,   237.7,2,     1.6,2,     4.9,2,    0.01,2,   0.448,2,   2.733,2,   1.617,2,   1.741,2,  2108.2,2, 2341.42,3,-999.0000,9, -999.00,   7.8985,2,       25,-999.000,9,  14.1491,2, -999.00,9,  -999.0,9,  -999.0,-999.00000000,9,-999.00000000,9,    98.0,      9.320,2,     35.592,2,     -999.0,9,         -999.0,9,  -999.0,9,20140115,       1755
33RO20131223,       A16S,      68,          1,         19,         19,2,20140115,       1619,   -39.5001,   -27.4849,       4502,   148.9,  13.2717,  35.2815,2,  35.2833,2,    242.7,2,   242.5,2,     1.9,2,     6.0,2,    0.01,2,   0.530,2,-999.000,9,-999.000,9,-999.000,9,  2111.2,2,  2329.7,2,-999.0000,9, -999.00,   7.8778,2,       25,-999.000,9,  13.2728,2, -999.00,9,  -999.0,9,  -999.0,-999.00000000,9,-999.00000000,9,   148.9,     -999.0,9,    35.4496,6,     -999.0,9,         -999.0,9,  -999.0,9,20140115,       1753
33RO20131223,       A16S,      68,          1,         18,         18,2,20140115,       1619,   -39.5001,   -27.4849,       4502,   217.6,  12.9280,  35.2437,2,  35.2458,2,    241.9,2,   242.5,2,     2.0,2,     6.7,2,    0.02,2,   0.576,2,-999.000,9,-999.000,9,-999.000,9,  -999.0,9, -999.00,9,-999.0000,9, -999.00,-999.0000,9,  -999.00,-999.000,9,  12.9278,2, -999.00,9,  -999.0,9,  -999.0,-999.00000000,9,-999.00000000,9,   217.6,     -999.0,9,     35.412,2,     -999.0,9,         -999.0,9,  -999.0,9,20140115,       1750
33RO20131223,       A16S,      68,          1,         17,         17,2,20140115,       1619,   -39.5001,   -27.4849,       4502,   298.1,  12.4812,  35.1691,2,  35.1694,2,    237.6,2,   237.5,2,     2.3,2,     8.6,2,    0.01,2,   0.686,2,-999.000,9,-999.000,9,-999.000,9,  2119.1,2, 2320.41,2,-999.0000,9, -999.00,   7.8515,2,       25,-999.000,9,  12.4826,2, -999.00,9,  -999.0,9,  -999.0,-999.00000000,9,-999.00000000,9,   298.1,     -999.0,9,    35.3352,2,     -999.0,9,         -999.0,9,  -999.0,9,20140115,       1748
33RO20131223,       A16S,      68,          1,         16,         16,2,20140115,       1619,   -39.5001,   -27.4849,       4502,   407.8,  10.0380,  34.7958,2,  34.7870,2,    218.1,2,   216.9,2,     5.1,2,    16.8,2,    0.01,2,   1.188,2,   3.280,2,   1.837,2,   1.430,2,  2143.6,2, 2298.77,2,-999.0000,9, -999.00,   7.7555,2,       25,-999.000,9,  10.0477,2, -999.00,9,  -999.0,9,  -999.0,-999.00000000,9,-999.00000000,9,   407.8,     13.410,2,    34.9511,2,     -999.0,9,         -999.0,9,  -999.0,9,20140115,       1745
33RO20131223,       A16S,      68,          1,         15,         15,2,20140115,       1619,   -39.5001,   -27.4849,       4502,   568.5,   6.0570,  34.3050,2,  34.3020,2,    240.7,2,   240.2,2,     9.6,2,    24.4,2,    0.00,2,   1.686,2,   3.826,2,   2.061,2,   1.506,2,  2158.7,2, 2280.62,2,-999.0000,9, -999.00,   7.6763,2,       25,-999.000,9,   6.0452,2, -999.00,9,  -999.0,9,  -999.0,-999.00000000,9,-999.00000000,9,   568.5,     14.748,2,    34.4637,2,     -999.0,9,         -999.0,9,  -999.0,9,20140115,       1741
33RO20131223,       A16S,      68,          1,         14,         14,2,20140115,       1619,   -39.5001,   -27.4849,       4502,     718,   4.5843,  34.1964,2,  34.1951,2,    253.9,2,   253.7,2,    13.8,2,    26.6,2,    0.00,2,   1.830,2,-999.000,9,-999.000,9,-999.000,9,  -999.0,9, -999.00,9,-999.0000,9, -999.00,-999.0000,9,  -999.00,-999.000,9,   4.5864,2, -999.00,9,  -999.0,9,  -999.0,-999.00000000,9,-999.00000000,9,   718.0,     -999.0,9,    34.3563,2,     -999.0,9,         -999.0,9,  -999.0,9,20140115,       1737
33RO20131223,       A16S,      68,          1,         13,         13,2,20140115,       1619,   -39.5001,   -27.4849,       4502,   874.2,   3.9056,  34.2076,2,  34.2072,2,      242,2,     241,2,    21.3,2,    29.0,2,    0.00,2,   1.983,2,   3.378,2,   1.752,2,   1.069,2,    2180,2, 2285.56,2,-999.0000,9, -999.00,   7.6308,2,       25,-999.000,9,   3.9071,2, -999.00,9,  -999.0,9,  -999.0,-999.00000000,9,-999.00000000,9,   874.2,     16.876,2,    34.3685,2,     -999.0,9,         -999.0,9,  -999.0,9,20140115,       1733
33RO20131223,       A16S,      68,          1,         12,         12,2,20140115,       1619,   -39.5001,   -27.4849,       4502,  1047.8,   3.3886,  34.2691,2,  34.2695,2,    219.5,2,   220.3,2,    32.6,2,    31.3,2,    0.00,2,   2.136,2,   2.503,2,   1.274,2,   0.685,2,  2202.5,2, 2297.04,2,-999.0000,9, -999.00,   7.5988,2,       25,-999.000,9,   3.3885,2, -999.00,9,  -999.0,9,  -999.0,-999.00000000,9,-999.00000000,9,  1047.8,     19.049,2,    34.4311,2,     -999.0,9,         -999.0,9,  -999.0,9,20140115,       1729
33RO20131223,       A16S,      68,          1,         11,         11,2,20140115,       1619,   -39.5001,   -27.4849,       4502,    1349,   2.9653,  34.4342,2,  34.4344,2,    186.9,2,     187,2,    52.0,2,    33.3,2,    0.00,2,   2.279,2,-999.000,9,-999.000,9,-999.000,9,  2232.5,2, 2322.24,2,-999.0000,9, -999.00,   7.5613,6,       25,-999.000,9,   2.9656,2, -999.00,9,  -999.0,9,  -999.0,-999.00000000,9,-999.00000000,9,  1349.0,     -999.0,9,    34.5968,2,     -999.0,9,         -999.0,9,  -999.0,9,20140115,       1723
33RO20131223,       A16S,      68,          1,         10,         10,2,20140115,       1619,   -39.5001,   -27.4849,       4502,  1597.8,   2.8357,  34.5602,2,  34.5595,2,      179,2,   178.5,2,    60.0,2,    32.8,2,    0.00,2,   2.251,2,   0.504,2,   0.245,2,   0.099,2,  2241.4,6, 2335.38,2,-999.0000,9, -999.00,   7.5632,2,       25,-999.000,9,   2.8359,2, -999.00,9,  -999.0,9,  -999.0,-999.00000000,9,-999.00000000,9,  1597.8,     21.559,2,    34.7225,2,     -999.0,9,         -999.0,9,  -999.0,9,20140115,       1718
33RO20131223,       A16S,      68,          1,          9,          9,2,20140115,       1619,   -39.5001,   -27.4849,       4502,  1773.6,   2.8414,  34.6473,2,  34.6469,2,      181,2,   181.2,2,    61.1,2,    31.5,2,    0.00,2,   2.160,2,-999.000,9,-999.000,9,-999.000,9,  2241.8,2, 2334.43,6,-999.0000,9, -999.00,   7.5798,2,       25,-999.000,9,   2.8415,2, -999.00,9,  -999.0,9,  -999.0,-999.00000000,9,-999.00000000,9,  1773.6,     -999.0,9,    34.8103,2,     -999.0,9,         -999.0,9,  -999.0,9,20140115,       1714
33RO20131223,       A16S,      68,          1,          8,          8,2,20140115,       1619,   -39.5001,   -27.4849,       4502,  1948.4,   2.9303,  34.7376,2,  34.7370,2,    194.5,2,   195.1,2,    54.7,2,    28.9,2,    0.00,2,   1.974,2,-999.000,9,-999.000,9,-999.000,9,  -999.0,9, -999.00,9,-999.0000,9, -999.00,-999.0000,9,  -999.00,-999.000,9,   2.9303,2, -999.00,9,  -999.0,9,  -999.0,-999.00000000,9,-999.00000000,9,  1948.4,     -999.0,9,    34.9008,2,     -999.0,9,         -999.0,9,  -999.0,9,20140115,       1710
33RO20131223,       A16S,      68,          1,          7,          7,2,20140115,       1619,   -39.5001,   -27.4849,       4502,  2247.5,   2.9551,  34.8217,2,  34.8218,2,    211.9,2,   212.2,2,    49.0,2,    26.1,2,    0.00,2,   1.781,2,-999.000,9,-999.000,9,-999.000,9,    2214,2,  2337.7,2,-999.0000,9, -999.00,   7.6499,2,       25,-999.000,9,    2.955,2, -999.00,9,  -999.0,9,  -999.0,-999.00000000,9,-999.00000000,9,  2247.5,     -999.0,9,     34.986,2,     -999.0,9,         -999.0,9,  -999.0,9,20140115,       1704
33RO20131223,       A16S,      68,          1,          6,          6,2,20140115,       1619,   -39.5001,   -27.4849,       4502,    2597,   2.8237,  34.8702,2,  34.8713,2,    228.3,2,   228.8,2,    43.7,2,    23.8,2,    0.00,2,   1.612,2,   0.094,6,   0.046,2,   0.013,6,    2201,2, 2331.99,2,-999.0000,9, -999.00,   7.6823,2,       25,-999.000,9,   2.8257,2, -999.00,9,  -999.0,9,  -999.0,-999.00000000,9,-999.00000000,9,  2597.0,     15.576,6,    35.0357,2,     -999.0,9,         -999.0,9,  -999.0,9,20140115,       1657
33RO20131223,       A16S,      68,          1,          5,          5,2,20140115,       1619,   -39.5001,   -27.4849,       4502,  2998.4,   2.3659,  34.8424,2,  34.8430,2,    224.8,2,   226.2,2,    56.7,2,    25.1,2,    0.00,2,   1.700,2,-999.000,9,-999.000,9,-999.000,9,  2212.2,2, 2339.75,2,-999.0000,9, -999.00,   7.6726,2,       25,-999.000,9,    2.366,2, -999.00,9,  -999.0,9,  -999.0,-999.00000000,9,-999.00000000,9,  2998.4,     -999.0,9,    35.0073,6,     -999.0,9,         -999.0,9,  -999.0,9,20140115,       1649
33RO20131223,       A16S,      68,          1,          4,          4,2,20140115,       1619,   -39.5001,   -27.4849,       4502,  3398.8,   1.6430,  34.7632,2,  34.7625,2,    209.8,2,   210.2,2,    87.9,6,    29.1,6,    0.00,6,   1.987,6,-999.000,9,-999.000,9,-999.000,9,  -999.0,9, -999.00,9,-999.0000,9, -999.00,-999.0000,9,  -999.00,-999.000,9,    1.644,2, -999.00,9,  -999.0,9,  -999.0,-999.00000000,9,-999.00000000,9,  3398.8,     -999.0,9,    34.9265,2,     -999.0,9,         -999.0,9,  -999.0,9,20140115,       1642
33RO20131223,       A16S,      68,          1,          3,          3,2,20140115,       1619,   -39.5001,   -27.4849,       4502,  3797.7,   1.1431,  34.7290,2,  34.7279,2,    211.4,2,   211.5,2,   103.1,6,    30.5,6,    0.00,6,   2.090,6,   0.175,2,   0.084,2,   0.038,2,  2253.5,2, 2364.56,6,-999.0000,9, -999.00,   7.6108,2,       25,-999.000,9,   1.1411,2, -999.00,9,  -999.0,9,  -999.0,-999.00000000,9,-999.00000000,9,  3797.7,     18.017,2,    34.8917,2,     -999.0,9,         -999.0,9,  -999.0,9,20140115,       1634
33RO20131223,       A16S,      68,          1,          2,          2,2,20140115,       1619,   -39.5001,   -27.4849,       4502,  4198.8,   0.6592,  34.6941,2,  34.6932,2,      214,2,   213.7,2,   117.9,6,    31.9,6,    0.00,6,   2.189,6,-999.000,9,-999.000,9,-999.000,9,  -999.0,9, -999.00,9,-999.0000,9, -999.00,-999.0000,9,  -999.00,-999.000,9,   0.6608,2, -999.00,9,  -999.0,9,  -999.0,-999.00000000,9,-999.00000000,9,  4198.8,     -999.0,9,    34.8568,2,     -999.0,9,         -999.0,9,  -999.0,9,20140115,       1627
33RO20131223,       A16S,      68,          1,          1,          1,2,20140115,       1619,   -39.5001,   -27.4849,       4502,  4567.4,   0.4553,  34.6788,2,  34.6794,2,    216.8,2,   217.2,2,   124.1,6,    32.4,6,    0.00,6,   2.224,6,   0.445,2,   0.212,2,   0.081,2,  2267.7,6, 2371.89,2,-999.0000,9, -999.00,   7.5869,2,       25,-999.000,9,   0.4556,2, -999.00,9,  -999.0,9,  -999.0,-999.00000000,9,-999.00000000,9,  4567.4,     18.372,2,    34.8429,2,     -999.0,9,         -999.0,9,  -999.0,9,20140115,       1619