BOTTLE,20220815CCHSIOAMB
EXPOCODE,SECT_ID,STNNBR,CASTNO,SAMPNO,BTLNBR,BTLNBR_FLAG_W,DATE,TIME,LATITUDE,LONGITUDE,DEPTH,CTDPRS,CTDTMP,CTDSAL,CTDSAL_FLAG_W,SALNTY,SALNTY_FLAG_W,CTDOXY,CTDOXY_FLAG_W,OXYGEN,OXYGEN_FLAG_W,SILCAT,SILCAT_FLAG_W,NITRAT,NITRAT_FLAG_W,NITRIT,NITRIT_FLAG_W,PHSPHT,PHSPHT_FLAG_W,CFC-11,CFC-11_FLAG_W,CFC-12,CFC-12_FLAG_W,SF6,SF6_FLAG_W,TCARBN,TCARBN_FLAG_W,ALKALI,ALKALI_FLAG_W,PCO2,PCO2_FLAG_W,PCO2TMP,PH_SWS,PH_SWS_FLAG_W,PH_TMP,TRITUM,TRITUM_FLAG_W,REFTMP,REFTMP_FLAG_W,DELC13,DELC13_FLAG_W,DELC14,DELC14_FLAG_W,C14ERR,DOC,DOC_FLAG_W,TDN,TDN_FLAG_W,CTDRAW,N2O,N2O_FLAG_W,SALTREF,SALTREF_FLAG_W,HELIUM,HELIUM_FLAG_W,DELO18,DELO18_FLAG_W,CCL4,CCL4_FLAG_W,BTL_DATE,BTL_TIME
,,,,,,,,,,,METERS,DBAR,ITS-90,PSS-78,,PSS-78,,UMOL/KG,,UMOL/KG,,UMOL/KG,,UMOL/KG,,UMOL/KG,,UMOL/KG,,PMOL/KG,,PMOL/KG,,FMOL/KG,,UMOL/KG,,UMOL/KG,,UATM,,DEG C,,,DEG C,TU,,DEG C,,/MILLE,,/MILLE,,/MILLE,UMOL/KG,,UMOL/KG,,DBAR,NMOL/KG,,G/KG,,NMOL/KG,,/MILLE,,PMOL/KG,,,
33RO20131223,       A16S,      59,          2,         24,         24,2,20140112,       2032,   -34.9977,   -24.9999,       4115,     4.1,  21.0118,  35.2762,2,  35.2767,2,    226.6,2,   228.6,2,     1.0,2,     0.0,2,    0.00,2,   0.132,2,   2.029,3,   1.279,2,   1.541,2,  2066.3,6, 2323.03,2,-999.0000,9, -999.00,   7.9604,6,       25,-999.000,1,  21.0164,2, -999.00,9,  -999.0,9,  -999.0,  62.24550356,2,          4.2,2,     4.1,      7.347,2,     35.443,2,     -999.0,1,         -999.0,1,  -999.0,9,20140112,       2206
33RO20131223,       A16S,      59,          2,         23,         23,2,20140112,       2032,   -34.9977,   -24.9999,       4115,    10.2,  20.8390,  35.2736,2,  35.2737,2,    227.6,2,   230.1,2,     1.0,2,     0.0,2,    0.00,2,   0.134,2,   2.059,3,   1.299,6,   1.518,6,  2067.2,2, 2325.41,6,-999.0000,9, -999.00,   7.9584,2,       25,-999.000,1,  20.8625,2, -999.00,9,  -999.0,9,  -999.0,  61.13290238,2,         4.32,2,    10.2,      7.460,6,    35.4401,2,     -999.0,1,         -999.0,1,  -999.0,9,20140112,       2204
33RO20131223,       A16S,      59,          2,         22,         22,2,20140112,       2032,   -34.9977,   -24.9999,       4115,    38.5,  18.4133,  35.3099,2,  35.3149,2,    240.3,2,   245.8,2,     1.1,2,     0.0,2,    0.00,2,   0.143,2,   2.299,3,   1.431,2,   1.617,2,  2070.6,2, 2324.52,2,-999.0000,9, -999.00,   7.9585,2,       25,-999.000,1,  18.4193,2, -999.00,9,  -999.0,9,  -999.0,  59.29469173,2,         4.39,2,    38.5,      8.092,2,    35.4814,2,     -999.0,1,         -999.0,1,  -999.0,9,20140112,       2203
33RO20131223,       A16S,      59,          2,         21,         21,2,20140112,       2032,   -34.9977,   -24.9999,       4115,    67.1,  15.4832,  35.3012,2,  35.3007,2,    255.7,2,   253.8,2,     1.1,2,     0.1,2,    0.01,2,   0.180,2,   2.562,3,   1.552,2,   1.738,2,  2078.9,2,  2324.8,2,-999.0000,9, -999.00,   7.9442,2,       25,-999.000,1,  15.4823,2, -999.00,9,  -999.0,9,  -999.0,  55.15526249,2,         3.26,2,    67.1,      8.718,2,    35.4671,6,     -999.0,1,         -999.0,1,  -999.0,9,20140112,       2201
33RO20131223,       A16S,      59,          2,         20,         20,2,20140112,       2032,   -34.9977,   -24.9999,       4115,   118.3,  14.1937,  35.2950,2,  35.2940,2,    239.4,2,   237.3,2,     1.5,2,     3.5,2,    0.02,2,   0.390,2,   2.677,3,   1.600,2,   1.698,2,  2101.6,2, 2325.83,2,-999.0000,9, -999.00,   7.9008,2,       25,-999.000,1,  14.1937,2, -999.00,9,  -999.0,9,  -999.0,  51.67233705,2,         6.45,2,   118.3,      9.416,2,    35.4604,2,     -999.0,1,         -999.0,1,  -999.0,9,20140112,       2158
33RO20131223,       A16S,      59,          2,         19,         19,2,20140112,       2032,   -34.9977,   -24.9999,       4115,   197.8,  13.7335,  35.3466,2,  35.3476,2,    224.3,2,   226.8,2,     2.1,2,     6.7,2,    0.01,2,   0.567,2,   2.724,3,   1.622,2,   1.668,2,    2115,2, 2330.46,2,-999.0000,9, -999.00,   7.8725,2,       25,-999.000,1,  13.7345,2, -999.00,9,  -999.0,9,  -999.0,  49.39185016,2,         9.49,2,   197.8,     10.455,2,    35.5143,2,     -999.0,1,         -999.0,1,  -999.0,9,20140112,       2156
33RO20131223,       A16S,      59,          2,         18,         18,2,20140112,       2032,   -34.9977,   -24.9999,       4115,   297.8,  13.0340,  35.2663,2,  35.2631,2,    222.7,2,   222.1,2,     2.6,2,     9.1,2,    0.01,2,   0.706,2,   2.825,3,   1.673,2,   1.561,2,  2124.1,2, 2324.09,2,-999.0000,9, -999.00,   7.8445,2,       25,-999.000,1,  13.0335,2, -999.00,9,  -999.0,9,  -999.0,  47.41542819,2,        11.87,2,   297.8,     11.708,2,    35.4294,2,     -999.0,1,         -999.0,1,  -999.0,9,20140112,       2153
33RO20131223,       A16S,      59,          2,         17,         17,2,20140112,       2032,   -34.9977,   -24.9999,       4115,   397.4,  11.7607,  35.0734,2,  35.0728,2,    216.1,2,   215.6,2,     3.7,2,    12.8,2,    0.01,2,   0.935,2,   2.948,3,   1.721,2,   1.420,2,  2133.5,2, 2315.63,2,-999.0000,9, -999.00,    7.804,2,       25,-999.000,1,  11.7554,2, -999.00,9,  -999.0,9,  -999.0,  45.95038812,2,        15.41,2,   397.4,     12.530,2,    35.2382,2,     -999.0,1,         -999.0,1,  -999.0,9,20140112,       2150
33RO20131223,       A16S,      59,          2,         16,         16,2,20140112,       2032,   -34.9977,   -24.9999,       4115,   518.6,   9.0419,  34.6796,2,  34.6849,2,    213.2,2,     213,2,     6.6,2,    19.4,2,    0.01,2,   1.357,2,   3.216,3,   1.821,2,   1.290,2,  2149.5,2, 2293.93,2,-999.0000,9, -999.00,   7.7289,2,       25,-999.000,1,   9.0637,2, -999.00,9,  -999.0,9,  -999.0,  43.85648652,2,        22.01,2,   518.6,     14.251,2,    34.8485,2,     -999.0,1,         -999.0,1,  -999.0,9,20140112,       2147
33RO20131223,       A16S,      59,          2,         15,         15,2,20140112,       2032,   -34.9977,   -24.9999,       4115,   668.9,   5.8546,  34.3131,2,  34.3087,2,    235.5,2,   235.3,2,    11.3,2,    25.5,2,    0.01,2,   1.750,2,   3.582,3,   1.959,2,   1.302,2,  2160.2,2, 2280.64,2,-999.0000,9, -999.00,   7.6698,2,       25,-999.000,1,    5.857,2, -999.00,9,  -999.0,9,  -999.0,  42.80608044,2,        28.06,2,   668.9,     15.170,2,    34.4705,2,     -999.0,1,         -999.0,1,  -999.0,9,20140112,       2144
33RO20131223,       A16S,      59,          2,         14,         14,2,20140112,       2032,   -34.9977,   -24.9999,       4115,     817,   4.6369,  34.2405,2,  34.2393,2,    239.6,2,   238.8,2,    16.9,2,    27.9,2,    0.00,2,   1.914,2,   3.380,3,   1.805,2,   1.045,2,  2170.5,2, 2283.02,2,-999.0000,9, -999.00,   7.6467,2,       25,-999.000,1,    4.639,2, -999.00,9,  -999.0,9,  -999.0,  40.65689431,2,        30.64,2,   817.0,     16.067,2,    34.4008,2,     -999.0,1,         -999.0,1,  -999.0,9,20140112,       2140
33RO20131223,       A16S,      59,          2,         13,         13,2,20140112,       2032,   -34.9977,   -24.9999,       4115,   996.9,   3.7849,  34.2778,2,  34.2781,2,    221.1,2,   220.4,2,    29.1,2,    30.8,2,    0.00,2,   2.111,2,   2.413,3,   1.251,2,   0.612,2,  2192.9,2, 2295.87,2,-999.0000,9, -999.00,   7.6097,2,       25,-999.000,1,   3.7848,2, -999.00,9,  -999.0,9,  -999.0,  39.19185424,2,        33.29,2,   996.9,     18.272,2,    34.4398,2,     -999.0,1,         -999.0,1,  -999.0,9,20140112,       2136
33RO20131223,       A16S,      59,          2,         12,         12,2,20140112,       2032,   -34.9977,   -24.9999,       4115,  1147.4,   3.2112,  34.3192,2,  34.3193,2,    208.5,2,   208.2,2,    39.4,2,    32.4,2,    0.00,2,   2.227,2,   1.812,3,   0.928,2,   0.420,2,  2210.8,2, 2306.04,2,-999.0000,9, -999.00,   7.5851,2,       25,-999.000,1,   3.2116,2, -999.00,9,  -999.0,9,  -999.0,  39.09510631,2,        34.98,2,  1147.4,     19.805,2,    34.4812,2,     -999.0,1,         -999.0,1,  -999.0,9,20140112,       2132
33RO20131223,       A16S,      59,          2,         11,         11,2,20140112,       2032,   -34.9977,   -24.9999,       4115,  1297.7,   2.9848,  34.4142,2,  34.4124,2,    191.1,2,   191.6,2,    49.8,2,    33.3,2,    0.00,2,   2.287,2,   1.065,3,   0.541,2,   0.193,2,  2227.6,2, 2317.73,2,-999.0000,9, -999.00,   7.5688,2,       25,-999.000,1,   2.9854,2, -999.00,9,  -999.0,9,  -999.0,  39.17803311,2,        35.82,2,  1297.7,     20.871,2,    34.5746,2,     -999.0,1,         -999.0,1,  -999.0,9,20140112,       2129
33RO20131223,       A16S,      59,          2,         10,         10,2,20140112,       2032,   -34.9977,   -24.9999,       4115,  1447.2,   2.8621,  34.5186,2,  34.5162,2,    181.9,2,   182.9,2,    56.7,2,    33.1,2,    0.00,2,   2.272,2,   0.547,3,   0.275,6,   0.089,6,  2236.1,2, 2323.16,2,-999.0000,9, -999.00,   7.5669,2,       25,-999.000,1,   2.8624,2, -999.00,9,  -999.0,9,  -999.0,  39.35770783,2,        35.86,2,  1447.2,     21.209,6,     34.679,2,     -999.0,1,         -999.0,9,  -999.0,9,20140112,       2125
33RO20131223,       A16S,      59,          2,          9,          9,2,20140112,       2032,   -34.9977,   -24.9999,       4115,  1597.3,   2.8493,  34.6083,2,  34.6081,2,    182.6,2,     184,2,    58.4,2,    31.9,2,    0.00,2,   2.190,2,   0.296,3,   0.147,2,   0.026,2,  2235.9,6, 2328.71,6,-999.0000,9, -999.00,   7.5768,2,       25,-999.000,1,   2.8494,2, -999.00,9,  -999.0,9,  -999.0,  39.64878049,2,        34.45,2,  1597.3,     20.655,2,    34.7713,2,     -999.0,1,         -999.0,9,  -999.0,9,20140112,       2122
33RO20131223,       A16S,      59,          2,          8,          8,2,20140112,       2032,   -34.9977,   -24.9999,       4115,  1846.9,   2.8771,  34.7254,2,  34.7252,2,    196.7,2,   196.8,2,    54.4,2,    29.1,2,    0.00,2,   1.988,2,   0.137,3,   0.065,2,   0.128,3,  2224.4,2, 2332.22,2,-999.0000,9, -999.00,   7.6188,2,       25,-999.000,9,   2.8772,2, -999.00,9,  -999.0,9,  -999.0,  39.84144748,2,        31.81,2,  1846.9,     15.830,3,     34.889,2,     -999.0,1,         -999.0,9,  -999.0,9,20140112,       2117
33RO20131223,       A16S,      59,          2,          7,          7,2,20140112,       2032,   -34.9977,   -24.9999,       4115,  2148.1,   2.8981,  34.8149,2,  34.8145,2,    214.7,2,   215.5,2,    47.1,2,    26.1,2,    0.00,2,   1.771,2,   0.075,3,   0.033,2,   0.000,2,  2209.3,2,  2332.9,2,-999.0000,9, -999.00,   7.6575,2,       25,-999.000,1,   2.8979,2, -999.00,9,  -999.0,9,  -999.0,  40.95404866,2,        28.71,2,  2148.1,     16.742,2,    34.9787,2,     -999.0,1,         -999.0,9,  -999.0,9,20140112,       2111
33RO20131223,       A16S,      59,          2,          6,          6,2,20140112,       2032,   -34.9977,   -24.9999,       4115,  2447.5,   2.8346,  34.8619,2,  34.8617,2,    229.6,2,   229.9,2,    41.8,2,    24.0,2,    0.00,2,   1.622,2,   0.044,3,   0.017,2,   0.014,2,  2196.5,2, 2332.75,2,-999.0000,9, -999.00,   7.6884,2,       25,-999.000,9,   2.8344,2, -999.00,9,  -999.0,9,  -999.0,  41.11990225,2,        26.47,2,  2447.5,     15.178,2,    35.0261,2,     -999.0,1,         -999.0,9,  -999.0,9,20140112,       2105
33RO20131223,       A16S,      59,          2,          5,          5,2,20140112,       2032,   -34.9977,   -24.9999,       4115,  2747.3,   2.7515,  34.8841,2,  34.8833,2,    236.6,2,   238.1,2,    39.5,2,    22.9,2,    0.00,2,   1.546,2,   0.040,3,   0.015,2,   0.000,2,  2189.8,2, 2329.23,2,-999.0000,9, -999.00,   7.7025,2,       25,-999.000,1,   2.7515,2, -999.00,9,  -999.0,9,  -999.0,  41.50243902,2,        25.45,2,  2747.3,     14.453,2,    35.0478,2,     -999.0,1,         -999.0,9,  -999.0,9,20140112,       2059
33RO20131223,       A16S,      59,          2,          4,          4,2,20140112,       2032,   -34.9977,   -24.9999,       4115,  3148.1,   2.5025,  34.8777,2,  34.8774,2,    240.1,2,   240.5,2,    45.2,6,    23.1,6,    0.00,6,   1.557,6,   0.038,3,   0.014,6,   0.000,6,  2194.3,2, 2333.64,2,-999.0000,9, -999.00,   7.7027,6,       25,-999.000,9,   2.5025,2, -999.00,9,  -999.0,9,  -999.0,  40.41502448,2,        25.72,2,  3148.1,     14.246,6,    35.0419,6,     -999.0,1,         -999.0,9,  -999.0,9,20140112,       2051
33RO20131223,       A16S,      59,          2,          3,          3,2,20140112,       2032,   -34.9977,   -24.9999,       4115,  3547.5,   2.0015,  34.8338,2,  34.8322,2,    235.5,2,   235.4,2,    62.9,6,    25.2,6,    0.00,6,   1.709,6,   0.051,3,   0.020,2,   0.034,2,  2210.3,2, 2344.76,6,-999.0000,9, -999.00,   7.6821,2,       25,-999.000,1,   2.0014,2, -999.00,9,  -999.0,9,  -999.0,  40.13169126,2,        27.93,2,  3547.5,     14.953,2,    34.9964,2,     -999.0,1,         -999.0,9,  -999.0,9,20140112,       2044
33RO20131223,       A16S,      59,          2,          2,          2,2,20140112,       2032,   -34.9977,   -24.9999,       4115,  3947.3,   1.5409,  34.7847,2,  34.7836,2,    227.2,2,   227.3,2,    82.7,6,    27.6,6,    0.00,6,   1.887,6,   0.095,3,   0.043,2,   0.053,2,  2226.5,2, 2356.14,2,-999.0000,9, -999.00,   7.6544,2,       25,-999.000,9,   1.5407,2, -999.00,9,  -999.0,9,  -999.0,  39.48900859,2,        30.36,2,  3947.3,     16.102,2,    34.9476,2,     -999.0,1,         -999.0,9,  -999.0,9,20140112,       2036
33RO20131223,       A16S,      59,          2,          1,          1,2,20140112,       2032,   -34.9977,   -24.9999,       4115,  4168.9,   1.2796,  34.7522,2,  34.7507,2,    220.7,2,   221.1,2,    95.6,6,    29.4,6,    0.00,6,   2.007,6,   0.150,3,   0.070,2,   0.055,2,  2244.5,6, 2361.49,2,-999.0000,9, -999.00,   7.6486,2,       25,-999.000,1,    1.277,2, -999.00,9,  -999.0,9,  -999.0,  38.61827724,2,        32.03,2,  4168.9,     16.870,2,    34.9146,2,     -999.0,1,         -999.0,9,  -999.0,9,20140112,       2032