BOTTLE,20220815CCHSIOAMB
EXPOCODE,SECT_ID,STNNBR,CASTNO,SAMPNO,BTLNBR,BTLNBR_FLAG_W,DATE,TIME,LATITUDE,LONGITUDE,DEPTH,CTDPRS,CTDTMP,CTDSAL,CTDSAL_FLAG_W,SALNTY,SALNTY_FLAG_W,CTDOXY,CTDOXY_FLAG_W,OXYGEN,OXYGEN_FLAG_W,SILCAT,SILCAT_FLAG_W,NITRAT,NITRAT_FLAG_W,NITRIT,NITRIT_FLAG_W,PHSPHT,PHSPHT_FLAG_W,CFC-11,CFC-11_FLAG_W,CFC-12,CFC-12_FLAG_W,SF6,SF6_FLAG_W,TCARBN,TCARBN_FLAG_W,ALKALI,ALKALI_FLAG_W,PCO2,PCO2_FLAG_W,PCO2TMP,PH_SWS,PH_SWS_FLAG_W,PH_TMP,TRITUM,TRITUM_FLAG_W,REFTMP,REFTMP_FLAG_W,DELC13,DELC13_FLAG_W,DELC14,DELC14_FLAG_W,C14ERR,DOC,DOC_FLAG_W,TDN,TDN_FLAG_W,CTDRAW,N2O,N2O_FLAG_W,SALTREF,SALTREF_FLAG_W,HELIUM,HELIUM_FLAG_W,DELO18,DELO18_FLAG_W,CCL4,CCL4_FLAG_W,BTL_DATE,BTL_TIME
,,,,,,,,,,,METERS,DBAR,ITS-90,PSS-78,,PSS-78,,UMOL/KG,,UMOL/KG,,UMOL/KG,,UMOL/KG,,UMOL/KG,,UMOL/KG,,PMOL/KG,,PMOL/KG,,FMOL/KG,,UMOL/KG,,UMOL/KG,,UATM,,DEG C,,,DEG C,TU,,DEG C,,/MILLE,,/MILLE,,/MILLE,UMOL/KG,,UMOL/KG,,DBAR,NMOL/KG,,G/KG,,NMOL/KG,,/MILLE,,PMOL/KG,,,
33RO20131223,       A16S,     106,          1,         24,         24,2,20140127,       1549,   -56.5001,   -32.9482,       3719,     3.6,   1.6545,  33.8090,2,  33.8095,2,      334,2,   333.6,2,    27.7,2,    21.4,2,    0.25,2,   1.375,2,   5.692,2,   3.118,2,   3.074,2,  2151.2,6, 2297.93,2,-999.0000,9, -999.00,   7.7248,2,       25,-999.000,9,   1.6539,2, -999.00,9,  -999.0,9,  -999.0,-999.00000000,9,-999.00000000,9,     3.6,     14.431,2,     33.969,2,     -999.0,9,         -999.0,9,  -999.0,9,20140127,       1719
33RO20131223,       A16S,     106,          1,         23,         23,2,20140127,       1549,   -56.5001,   -32.9482,       3719,    17.7,   1.6091,  33.8086,2,  33.8088,2,      334,2,   334.7,2,    27.5,2,    21.4,2,    0.24,2,   1.377,2,-999.000,9,-999.000,9,-999.000,9,  -999.0,9, -999.00,9,-999.0000,9, -999.00,-999.0000,9,  -999.00,-999.000,9,   1.6091,2, -999.00,9,  -999.0,9,  -999.0,-999.00000000,9,-999.00000000,9,    17.7,     -999.0,9,    33.9682,2,     -999.0,9,         -999.0,9,  -999.0,9,20140127,       1718
33RO20131223,       A16S,     106,          1,         22,         22,2,20140127,       1549,   -56.5001,   -32.9482,       3719,    58.3,   0.8558,  33.8645,2,  33.8712,2,    332.3,2,   333.5,2,    33.5,2,    22.3,2,    0.23,2,   1.508,2,-999.000,9,-999.000,9,-999.000,9,  2160.4,2, 2298.38,6,-999.0000,9, -999.00,   7.7123,2,       25,-999.000,9,   0.8443,2, -999.00,9,  -999.0,9,  -999.0,-999.00000000,9,-999.00000000,9,    58.3,     -999.0,9,    34.0309,2,     -999.0,9,         -999.0,9,  -999.0,9,20140127,       1716
33RO20131223,       A16S,     106,          1,         21,         21,2,20140127,       1549,   -56.5001,   -32.9482,       3719,    97.9,  -0.2078,  34.0557,2,  34.0765,2,    304.8,2,   297.5,2,    55.2,2,    27.4,2,    0.22,2,   2.040,2,-999.000,9,-999.000,9,-999.000,9,    2200,2, 2313.23,2,-999.0000,9, -999.00,   7.6238,2,       25,-999.000,9,  -0.2067,2, -999.00,9,  -999.0,9,  -999.0,-999.00000000,9,-999.00000000,9,    97.9,     -999.0,9,    34.2372,2,     -999.0,9,         -999.0,9,  -999.0,9,20140127,       1714
33RO20131223,       A16S,     106,          1,         20,         20,2,20140127,       1549,   -56.5001,   -32.9482,       3719,   147.8,   0.3684,  34.2918,2,  34.2911,2,    246.8,2,   244.2,2,    68.2,2,    32.3,2,    0.21,2,   2.358,2,   3.416,2,   1.823,2,   1.604,2,  2233.1,2,  2323.6,2,-999.0000,9, -999.00,   7.5528,2,       25,-999.000,9,    0.368,2, -999.00,9,  -999.0,9,  -999.0,-999.00000000,9,-999.00000000,9,   147.8,     20.477,2,    34.4528,2,     -999.0,9,         -999.0,9,  -999.0,9,20140127,       1712
33RO20131223,       A16S,     106,          1,         19,         19,2,20140127,       1549,   -56.5001,   -32.9482,       3719,   198.1,   1.0716,  34.4321,2,  34.4319,2,    210.4,2,   210.1,2,    73.6,2,    34.1,2,    0.18,2,   2.372,2,-999.000,9,-999.000,9,-999.000,9,  2247.8,2, 2330.42,2,-999.0000,9, -999.00,   7.5348,2,       25,-999.000,9,   1.0716,2, -999.00,9,  -999.0,9,  -999.0,-999.00000000,9,-999.00000000,9,   198.1,     -999.0,9,    34.5943,2,     -999.0,9,         -999.0,9,  -999.0,9,20140127,       1710
33RO20131223,       A16S,     106,          1,         18,         18,2,20140127,       1549,   -56.5001,   -32.9482,       3719,   247.2,   1.3056,  34.5063,2,  34.5060,2,      194,2,   199.2,2,    77.3,2,    34.1,2,    0.03,2,   2.352,2,-999.000,9,-999.000,9,-999.000,9,  2252.1,2, 2333.58,2,-999.0000,9, -999.00,   7.5365,2,       25,-999.000,9,   1.3057,2, -999.00,9,  -999.0,9,  -999.0,-999.00000000,9,-999.00000000,9,   247.2,     -999.0,9,    34.6687,2,     -999.0,9,         -999.0,9,  -999.0,9,20140127,       1707
33RO20131223,       A16S,     106,          1,         17,         17,2,20140127,       1549,   -56.5001,   -32.9482,       3719,   347.3,   1.8658,  34.6248,2,  34.6266,2,    181.2,2,   177.9,2,    81.9,2,    33.6,2,    0.01,2,   2.301,2,-999.000,9,-999.000,9,-999.000,9,  2259.5,2, 2340.98,2,-999.0000,9, -999.00,    7.547,2,       25,-999.000,9,   1.8659,2, -999.00,9,  -999.0,9,  -999.0,-999.00000000,9,-999.00000000,9,   347.3,     -999.0,9,    34.7899,2,     -999.0,9,         -999.0,9,  -999.0,9,20140127,       1705
33RO20131223,       A16S,     106,          1,         16,         16,2,20140127,       1549,   -56.5001,   -32.9482,       3719,   447.6,   1.8037,  34.6602,2,  34.6608,2,    180.2,2,   179.6,2,    85.7,2,    33.0,2,    0.01,2,   2.259,2,-999.000,9,-999.000,9,-999.000,9,  2259.4,2, 2346.15,2,-999.0000,9, -999.00,   7.5579,6,       25,-999.000,9,   1.8045,2, -999.00,9,  -999.0,9,  -999.0,-999.00000000,9,-999.00000000,9,   447.6,     -999.0,9,    34.8242,2,     -999.0,9,         -999.0,9,  -999.0,9,20140127,       1702
33RO20131223,       A16S,     106,          1,         15,         15,2,20140127,       1549,   -56.5001,   -32.9482,       3719,     648,   1.7118,  34.7059,2,  34.7060,2,    180.3,2,   182.4,2,    94.4,2,    32.3,2,    0.00,2,   2.228,2,   0.226,2,   0.104,2,   0.061,2,  2261.7,6, 2360.04,2,-999.0000,9, -999.00,   7.5721,2,       25,-999.000,9,   1.7117,2, -999.00,9,  -999.0,9,  -999.0,-999.00000000,9,-999.00000000,9,   648.0,     20.664,2,    34.8696,6,     -999.0,9,         -999.0,9,  -999.0,9,20140127,       1657
33RO20131223,       A16S,     106,          1,         14,         14,2,20140127,       1549,   -56.5001,   -32.9482,       3719,   847.6,   1.4466,  34.7058,2,  34.7054,2,    188.8,2,   189.2,2,    98.3,2,    32.1,2,    0.00,2,   2.201,2,-999.000,9,-999.000,9,-999.000,9,  -999.0,9, -999.00,9,-999.0000,9, -999.00,-999.0000,9,  -999.00,-999.000,9,   1.4465,2, -999.00,9,  -999.0,9,  -999.0,-999.00000000,9,-999.00000000,9,   847.6,     -999.0,9,    34.8691,2,     -999.0,9,         -999.0,9,  -999.0,9,20140127,       1653
33RO20131223,       A16S,     106,          1,         13,         13,2,20140127,       1549,   -56.5001,   -32.9482,       3719,  1048.7,   1.2202,  34.7068,2,  34.7071,2,    193.6,2,   195.1,2,   104.0,2,    32.0,2,    0.01,2,   2.200,2,-999.000,9,-999.000,9,-999.000,9,  2260.3,2, 2362.65,6,-999.0000,9, -999.00,   7.5846,2,       25,-999.000,9,   1.2202,2, -999.00,9,  -999.0,9,  -999.0,-999.00000000,9,-999.00000000,9,  1048.7,     -999.0,9,    34.8708,2,     -999.0,9,         -999.0,9,  -999.0,9,20140127,       1648
33RO20131223,       A16S,     106,          1,         12,         12,2,20140127,       1549,   -56.5001,   -32.9482,       3719,  1247.5,   0.9921,  34.6989,2,  34.6988,2,    198.7,2,   200.1,2,   108.1,2,    32.1,2,    0.00,2,   2.203,2,   0.406,2,   0.201,2,   0.119,2,  2260.5,2, 2359.23,2,-999.0000,9, -999.00,   7.5948,2,       25,-999.000,9,   0.9921,2, -999.00,9,  -999.0,9,  -999.0,-999.00000000,9,-999.00000000,9,  1247.5,     19.445,2,    34.8624,2,     -999.0,9,         -999.0,9,  -999.0,9,20140127,       1643
33RO20131223,       A16S,     106,          1,         11,         11,2,20140127,       1549,   -56.5001,   -32.9482,       3719,  1447.3,   0.8247,  34.6942,2,  34.6931,2,    202.4,2,   203.7,2,   111.7,2,    32.2,2,    0.00,2,   2.209,2,-999.000,9,-999.000,9,-999.000,9,  -999.0,9, -999.00,9,-999.0000,9, -999.00,-999.0000,9,  -999.00,-999.000,9,   0.8248,2, -999.00,9,  -999.0,9,  -999.0,-999.00000000,9,-999.00000000,9,  1447.3,     -999.0,9,    34.8567,2,     -999.0,9,         -999.0,9,  -999.0,9,20140127,       1639
33RO20131223,       A16S,     106,          1,         10,         10,2,20140127,       1549,   -56.5001,   -32.9482,       3719,  1647.7,   0.6796,  34.6909,2,  34.6909,2,    205.7,2,   206.6,2,   115.3,2,    32.3,2,    0.00,2,   2.219,2,-999.000,9,-999.000,9,-999.000,9,  -999.0,9, -999.00,9,-999.0000,9, -999.00,-999.0000,9,  -999.00,-999.000,9,    0.679,2, -999.00,9,  -999.0,9,  -999.0,-999.00000000,9,-999.00000000,9,  1647.7,     -999.0,9,    34.8545,2,     -999.0,9,         -999.0,9,  -999.0,9,20140127,       1634
33RO20131223,       A16S,     106,          1,          9,          9,2,20140127,       1549,   -56.5001,   -32.9482,       3719,  1848.3,   0.5636,  34.6863,2,  34.6855,2,    208.7,2,   210.2,2,   116.8,2,    32.4,2,    0.00,2,   2.226,2,   0.564,2,   0.274,2,   0.172,2,  2260.3,2, 2359.04,2,-999.0000,9, -999.00,   7.5841,2,       25,-999.000,9,   0.5635,2, -999.00,9,  -999.0,9,  -999.0,-999.00000000,9,-999.00000000,9,  1848.3,     19.028,2,    34.8491,2,     -999.0,9,         -999.0,9,  -999.0,9,20140127,       1630
33RO20131223,       A16S,     106,          1,          8,          8,2,20140127,       1549,   -56.5001,   -32.9482,       3719,  2047.4,   0.4507,  34.6806,2,  34.6798,2,      211,2,   211.6,2,   117.9,2,    32.6,2,    0.00,2,   2.236,2,-999.000,9,-999.000,9,-999.000,9,  -999.0,9, -999.00,9,-999.0000,9, -999.00,-999.0000,9,  -999.00,-999.000,9,   0.4504,2, -999.00,9,  -999.0,9,  -999.0,-999.00000000,9,-999.00000000,9,  2047.4,     -999.0,9,    34.8434,2,     -999.0,9,         -999.0,9,  -999.0,9,20140127,       1625
33RO20131223,       A16S,     106,          1,          7,          7,2,20140127,       1549,   -56.5001,   -32.9482,       3719,  2248.3,   0.3701,  34.6776,2,  34.6770,2,    213.1,2,     214,2,   119.3,2,    32.6,2,    0.00,2,   2.239,2,-999.000,9,-999.000,9,-999.000,9,  -999.0,9, -999.00,9,-999.0000,9, -999.00,-999.0000,9,  -999.00,-999.000,9,   0.3704,2, -999.00,9,  -999.0,9,  -999.0,-999.00000000,9,-999.00000000,9,  2248.3,     -999.0,9,    34.8405,2,     -999.0,9,         -999.0,9,  -999.0,9,20140127,       1621
33RO20131223,       A16S,     106,          1,          6,          6,2,20140127,       1549,   -56.5001,   -32.9482,       3719,  2448.3,   0.2944,  34.6740,2,  34.6743,2,    215.5,2,   216.3,2,   120.0,2,    32.6,2,    0.00,2,   2.241,2,   0.740,2,   0.357,2,   0.173,2,  2260.1,2, 2358.38,2,-999.0000,9, -999.00,   7.5823,2,       25,-999.000,9,    0.294,2, -999.00,9,  -999.0,9,  -999.0,-999.00000000,9,-999.00000000,9,  2448.3,     18.862,2,    34.8378,2,     -999.0,9,         -999.0,9,  -999.0,9,20140127,       1616
33RO20131223,       A16S,     106,          1,          5,          5,2,20140127,       1549,   -56.5001,   -32.9482,       3719,  2747.8,   0.1586,  34.6680,2,  34.6675,2,    220.5,2,   212.3,4,   121.2,2,    32.6,2,    0.00,2,   2.244,2,   0.829,6,   0.401,2,   0.218,6,  2258.8,2, 2355.95,2,-999.0000,9, -999.00,    7.581,2,       25,-999.000,9,   0.1586,2, -999.00,9,  -999.0,9,  -999.0,-999.00000000,9,-999.00000000,9,  2747.8,     18.715,6,     34.831,2,     -999.0,9,         -999.0,9,  -999.0,9,20140127,       1610
33RO20131223,       A16S,     106,          1,          4,          4,2,20140127,       1549,   -56.5001,   -32.9482,       3719,  3047.4,   0.0916,  34.6646,2,  34.6650,2,    223.2,2,   222.7,2,   121.7,6,    32.6,6,    0.00,6,   2.245,6,   0.917,2,   0.442,2,   0.245,2,  2258.6,2, 2361.09,2,-999.0000,9, -999.00,   7.5821,2,       25,-999.000,9,   0.0915,2, -999.00,9,  -999.0,9,  -999.0,-999.00000000,9,-999.00000000,9,  3047.4,     18.547,2,    34.8285,2,     -999.0,9,         -999.0,9,  -999.0,9,20140127,       1604
33RO20131223,       A16S,     106,          1,          3,          3,2,20140127,       1549,   -56.5001,   -32.9482,       3719,  3347.6,   0.0571,  34.6623,2,  34.6621,2,      225,2,   225.9,2,   122.5,6,    32.6,6,    0.01,6,   2.245,6,   0.960,2,   0.465,2,   0.261,2,  2257.2,2, 2360.76,2,-999.0000,9, -999.00,   7.5817,2,       25,-999.000,9,   0.0567,2, -999.00,9,  -999.0,9,  -999.0,-999.00000000,9,-999.00000000,9,  3347.6,     18.566,2,    34.8255,6,     -999.0,9,         -999.0,9,  -999.0,9,20140127,       1558
33RO20131223,       A16S,     106,          1,          2,          2,2,20140127,       1549,   -56.5001,   -32.9482,       3719,  3648.3,   0.0456,  34.6607,2,  34.6600,2,    227.6,2,   226.7,2,   122.9,6,    32.6,6,    0.01,6,   2.247,6,   0.990,2,   0.482,2,   0.276,2,  2256.7,2, 2355.69,2,-999.0000,9, -999.00,   7.5816,6,       25,-999.000,9,   0.0453,2, -999.00,9,  -999.0,9,  -999.0,-999.00000000,9,-999.00000000,9,  3648.3,     18.560,2,    34.8234,2,     -999.0,9,         -999.0,9,  -999.0,9,20140127,       1552
33RO20131223,       A16S,     106,          1,          1,          1,2,20140127,       1549,   -56.5001,   -32.9482,       3719,  3776.8,   0.0515,  34.6603,2,  34.6608,2,    227.5,2,   227.2,2,   123.2,6,    32.6,6,    0.01,6,   2.247,6,   0.998,2,   0.483,2,   0.245,2,  2257.7,6, 2355.33,2,-999.0000,9, -999.00,   7.5834,2,       25,-999.000,9,    0.051,2, -999.00,9,  -999.0,9,  -999.0,-999.00000000,9,-999.00000000,9,  3776.8,     18.441,2,    34.8242,2,     -999.0,9,         -999.0,9,  -999.0,9,20140127,       1549