BOTTLE,20220815CCHSIOAMB
EXPOCODE,SECT_ID,STNNBR,CASTNO,SAMPNO,BTLNBR,BTLNBR_FLAG_W,DATE,TIME,LATITUDE,LONGITUDE,DEPTH,CTDPRS,CTDTMP,CTDSAL,CTDSAL_FLAG_W,SALNTY,SALNTY_FLAG_W,CTDOXY,CTDOXY_FLAG_W,OXYGEN,OXYGEN_FLAG_W,SILCAT,SILCAT_FLAG_W,NITRAT,NITRAT_FLAG_W,NITRIT,NITRIT_FLAG_W,PHSPHT,PHSPHT_FLAG_W,CFC-11,CFC-11_FLAG_W,CFC-12,CFC-12_FLAG_W,SF6,SF6_FLAG_W,TCARBN,TCARBN_FLAG_W,ALKALI,ALKALI_FLAG_W,PCO2,PCO2_FLAG_W,PCO2TMP,PH_SWS,PH_SWS_FLAG_W,PH_TMP,TRITUM,TRITUM_FLAG_W,REFTMP,REFTMP_FLAG_W,DELC13,DELC13_FLAG_W,DELC14,DELC14_FLAG_W,C14ERR,DOC,DOC_FLAG_W,TDN,TDN_FLAG_W,CTDRAW,N2O,N2O_FLAG_W,SALTREF,SALTREF_FLAG_W,HELIUM,HELIUM_FLAG_W,DELO18,DELO18_FLAG_W,CCL4,CCL4_FLAG_W,BTL_DATE,BTL_TIME
,,,,,,,,,,,METERS,DBAR,ITS-90,PSS-78,,PSS-78,,UMOL/KG,,UMOL/KG,,UMOL/KG,,UMOL/KG,,UMOL/KG,,UMOL/KG,,PMOL/KG,,PMOL/KG,,FMOL/KG,,UMOL/KG,,UMOL/KG,,UATM,,DEG C,,,DEG C,TU,,DEG C,,/MILLE,,/MILLE,,/MILLE,UMOL/KG,,UMOL/KG,,DBAR,NMOL/KG,,G/KG,,NMOL/KG,,/MILLE,,PMOL/KG,,,
33RO20131223,       A16S,      42,          1,         24,         24,2,20140107,       2214,   -26.5011,   -25.0014,       4765,     2.6,  27.1212,  36.7601,2,  36.7589,2,    201.9,2,   203.3,2,     0.9,2,     0.0,2,    0.00,2,   0.075,2,-999.000,5,-999.000,9,-999.000,9,    2095,6, 2412.75,6,-999.0000,9, -999.00,   8.0336,2,       25,-999.000,9,  27.1116,2, -999.00,9,  -999.0,9,  -999.0,-999.00000000,9,-999.00000000,9,     2.6,     -999.0,9,    36.9322,2,     -999.0,9,         -999.0,9,  -999.0,9,20140108,       0000
33RO20131223,       A16S,      42,          1,         23,         23,2,20140107,       2214,   -26.5011,   -25.0014,       4765,    29.4,  24.6508,  36.5401,2,  36.5485,2,    214.1,2,   214.7,2,     0.9,2,     0.0,2,    0.00,2,   0.078,2,-999.000,5,-999.000,9,-999.000,9,  2087.3,2, 2398.02,2,-999.0000,9, -999.00,   8.0261,6,       25,-999.000,9,  24.6791,2, -999.00,9,  -999.0,9,  -999.0,-999.00000000,9,-999.00000000,9,    29.4,     -999.0,9,    36.7209,2,     -999.0,9,         -999.0,9,  -999.0,9,20140107,       2358
33RO20131223,       A16S,      42,          1,         22,         22,2,20140107,       2214,   -26.5011,   -25.0014,       4765,    68.1,  21.5135,  36.3683,2,  36.3782,2,    229.1,2,   230.3,2,     1.0,2,     0.0,2,    0.00,2,   0.072,2,-999.000,5,-999.000,9,-999.000,9,  2082.8,3, 2388.24,2,-999.0000,9, -999.00,   8.0221,2,       25,-999.000,9,  21.5599,2, -999.00,9,  -999.0,9,  -999.0,-999.00000000,9,-999.00000000,9,    68.1,     -999.0,9,    36.5497,2,     -999.0,9,         -999.0,9,  -999.0,9,20140107,       2356
33RO20131223,       A16S,      42,          1,         21,         21,2,20140107,       2214,   -26.5011,   -25.0014,       4765,   107.4,  20.7470,  36.3682,2,  36.3541,2,    224.9,2,     226,2,     1.0,6,     0.0,6,    0.00,6,   0.096,6,-999.000,5,-999.000,9,-999.000,9,  2088.4,2, 2390.16,2,-999.0000,9, -999.00,   8.0075,2,       25,-999.000,9,  20.7401,2, -999.00,9,  -999.0,9,  -999.0,-999.00000000,9,-999.00000000,9,   107.4,     -999.0,9,    36.5255,2,     -999.0,9,         -999.0,9,  -999.0,9,20140107,       2354
33RO20131223,       A16S,      42,          1,         20,         20,2,20140107,       2214,   -26.5011,   -25.0014,       4765,   173.5,  17.7643,  35.9034,2,  35.9129,2,    214.4,2,   214.6,2,     1.3,6,     0.5,6,    0.10,6,   0.244,6,-999.000,5,-999.000,9,-999.000,9,  2105.5,2, 2358.55,2,-999.0000,9, -999.00,    7.943,2,       25,-999.000,9,  17.7639,2, -999.00,9,  -999.0,9,  -999.0,-999.00000000,9,-999.00000000,9,   173.5,     -999.0,9,    36.0822,2,     -999.0,9,         -999.0,9,  -999.0,9,20140107,       2351
33RO20131223,       A16S,      42,          1,         19,         19,2,20140107,       2214,   -26.5011,   -25.0014,       4765,   257.6,  15.0599,  35.4844,2,  35.4838,2,    208.8,2,   208.5,2,     2.3,6,     5.9,6,    0.01,6,   0.528,6,-999.000,5,-999.000,9,-999.000,9,  2115.3,2, 2332.81,2,-999.0000,9, -999.00,   7.8738,2,       25,-999.000,9,  15.0455,2, -999.00,9,  -999.0,9,  -999.0,-999.00000000,9,-999.00000000,9,   257.6,     -999.0,9,    35.6511,6,     -999.0,9,         -999.0,9,  -999.0,9,20140107,       2349
33RO20131223,       A16S,      42,          1,         18,         18,5,20140107,       2214,   -26.5011,   -25.0014,       4765,   367.8,  12.9640,  35.2053,2,-999.0000,9,    209.8,2,  -999.0,9,  -999.0,9,  -999.0,9, -999.00,9,-999.000,9,-999.000,5,-999.000,9,-999.000,9,  -999.0,9, -999.00,9,-999.0000,9, -999.00,-999.0000,9,  -999.00,-999.000,9,  12.9636,2, -999.00,9,  -999.0,9,  -999.0,-999.00000000,9,-999.00000000,9,   367.8,     -999.0,9,     -999.0,9,     -999.0,9,         -999.0,9,  -999.0,9,20140107,       2346
33RO20131223,       A16S,      42,          1,         17,         17,2,20140107,       2214,   -26.5011,   -25.0014,       4765,   467.2,  11.3265,  34.9836,2,  34.9830,2,    207.1,2,   206.5,2,     5.4,2,    14.4,2,    0.00,2,   1.026,2,-999.000,5,-999.000,9,-999.000,9,  2140.7,2, 2306.18,2,-999.0000,9, -999.00,   7.7781,2,       25,-999.000,9,  11.3266,2, -999.00,9,  -999.0,9,  -999.0,-999.00000000,9,-999.00000000,9,   467.2,     -999.0,9,    35.1479,2,     -999.0,9,         -999.0,9,  -999.0,9,20140107,       2343
33RO20131223,       A16S,      42,          1,         16,         16,2,20140107,       2214,   -26.5011,   -25.0014,       4765,   597.8,   8.2626,  34.6024,2,  34.5963,2,    203.5,2,   202.6,2,    10.8,2,    22.3,2,    0.00,2,   1.529,2,-999.000,5,-999.000,9,-999.000,9,  -999.0,9, -999.00,9,-999.0000,9, -999.00,-999.0000,9,  -999.00,-999.000,9,   8.2465,2, -999.00,9,  -999.0,9,  -999.0,-999.00000000,9,-999.00000000,9,   597.8,     -999.0,9,    34.7594,2,     -999.0,9,         -999.0,9,  -999.0,9,20140107,       2340
33RO20131223,       A16S,      42,          1,         15,         15,2,20140107,       2214,   -26.5011,   -25.0014,       4765,   773.3,   5.6006,  34.3633,2,  34.3621,2,    212.2,2,     211,2,    19.0,2,    27.7,2,    0.00,2,   1.888,2,-999.000,5,-999.000,9,-999.000,9,  2178.5,2, 2291.27,2,-999.0000,9, -999.00,   7.6379,2,       25,-999.000,9,   5.6029,2, -999.00,9,  -999.0,9,  -999.0,-999.00000000,9,-999.00000000,9,   773.3,     -999.0,9,    34.5242,2,     -999.0,9,         -999.0,9,  -999.0,9,20140107,       2336
33RO20131223,       A16S,      42,          1,         14,         14,2,20140107,       2214,   -26.5011,   -25.0014,       4765,   921.5,   4.3929,  34.3590,2,  34.3583,2,    199.1,2,     198,2,    31.1,2,    31.0,2,    0.00,2,   2.118,2,-999.000,5,-999.000,9,-999.000,9,  2201.5,2, 2301.06,2,-999.0000,9, -999.00,   7.5989,2,       25,-999.000,9,   4.3908,2, -999.00,9,  -999.0,9,  -999.0,-999.00000000,9,-999.00000000,9,   921.5,     -999.0,9,    34.5203,2,     -999.0,9,         -999.0,9,  -999.0,9,20140107,       2332
33RO20131223,       A16S,      42,          1,         13,         13,2,20140107,       2214,   -26.5011,   -25.0014,       4765,  1098.3,   3.5530,  34.4419,2,  34.4411,2,    186.5,2,   185.8,2,    44.8,2,    32.5,2,    0.00,2,   2.230,2,-999.000,5,-999.000,9,-999.000,9,  2222.6,2,  2310.6,2,-999.0000,9, -999.00,   7.5758,2,       25,-999.000,9,   3.5532,2, -999.00,9,  -999.0,9,  -999.0,-999.00000000,9,-999.00000000,9,  1098.3,     -999.0,9,    34.6036,2,     -999.0,9,         -999.0,9,  -999.0,9,20140107,       2328
33RO20131223,       A16S,      42,          1,         12,         12,2,20140107,       2214,   -26.5011,   -25.0014,       4765,  1248.4,   3.2372,  34.5437,2,  34.5450,2,    183.6,2,   183.6,2,    50.2,2,    31.9,2,    0.00,2,   2.190,2,-999.000,5,-999.000,9,-999.000,9,  2227.1,6, 2319.23,2,-999.0000,9, -999.00,   7.5839,2,       25,-999.000,9,   3.2381,2, -999.00,9,  -999.0,9,  -999.0,-999.00000000,9,-999.00000000,9,  1248.4,     -999.0,9,    34.7079,2,     -999.0,9,         -999.0,9,  -999.0,9,20140107,       2325
33RO20131223,       A16S,      42,          1,         11,         11,2,20140107,       2214,   -26.5011,   -25.0014,       4765,  1398.2,   3.0550,  34.6456,2,  34.6470,2,      189,2,   189.1,2,    51.4,2,    30.4,2,    0.00,2,   2.073,2,-999.000,5,-999.000,9,-999.000,9,  2225.8,2, 2325.03,6,-999.0000,9, -999.00,   7.6041,2,       25,-999.000,9,   3.0549,2, -999.00,9,  -999.0,9,  -999.0,-999.00000000,9,-999.00000000,9,  1398.2,     -999.0,9,    34.8104,2,     -999.0,9,         -999.0,9,  -999.0,9,20140107,       2321
33RO20131223,       A16S,      42,          1,         10,         10,2,20140107,       2214,   -26.5011,   -25.0014,       4765,  1589.2,   2.9919,  34.7369,2,  34.7353,2,    201.4,2,   202.6,2,    47.9,2,    27.9,2,    0.00,2,   1.901,2,-999.000,5,-999.000,9,-999.000,9,  -999.0,9, -999.00,9,-999.0000,9, -999.00,-999.0000,9,  -999.00,-999.000,9,   2.9918,2, -999.00,9,  -999.0,9,  -999.0,-999.00000000,9,-999.00000000,9,  1589.2,     -999.0,9,    34.8991,2,     -999.0,9,         -999.0,9,  -999.0,9,20140107,       2317
33RO20131223,       A16S,      42,          1,          9,          9,2,20140107,       2214,   -26.5011,   -25.0014,       4765,  1947.8,   3.0262,  34.8631,2,  34.8624,2,    228.8,2,   229.6,2,    37.1,2,    23.6,2,    0.00,2,   1.582,2,-999.000,5,-999.000,9,-999.000,9,  2191.3,2, 2324.43,2,-999.0000,9, -999.00,   7.6907,2,       25,-999.000,9,    3.026,2, -999.00,9,  -999.0,9,  -999.0,-999.00000000,9,-999.00000000,9,  1947.8,     -999.0,9,    35.0268,2,     -999.0,9,         -999.0,9,  -999.0,9,20140107,       2310
33RO20131223,       A16S,      42,          1,          8,          8,2,20140107,       2214,   -26.5011,   -25.0014,       4765,  2397.3,   2.9937,  34.9229,2,  34.9226,2,    246.6,2,   246.3,2,    30.2,2,    21.0,2,    0.00,2,   1.394,2,-999.000,5,-999.000,9,-999.000,9,  -999.0,9, -999.00,9,-999.0000,9, -999.00,-999.0000,9,  -999.00,-999.000,9,   2.9935,2, -999.00,9,  -999.0,9,  -999.0,-999.00000000,9,-999.00000000,9,  2397.3,     -999.0,9,    35.0873,6,     -999.0,9,         -999.0,9,  -999.0,9,20140107,       2301
33RO20131223,       A16S,      42,          1,          7,          7,2,20140107,       2214,   -26.5011,   -25.0014,       4765,    2948,   2.7382,  34.9178,2,  34.9177,2,      249,2,     250,2,    33.0,2,    20.8,2,    0.00,2,   1.388,2,-999.000,5,-999.000,9,-999.000,9,  2180.4,2, 2330.74,2,-999.0000,9, -999.00,   7.7251,2,       25,-999.000,9,   2.7382,2, -999.00,9,  -999.0,9,  -999.0,-999.00000000,9,-999.00000000,9,  2948.0,     -999.0,9,    35.0824,2,     -999.0,9,         -999.0,9,  -999.0,9,20140107,       2251
33RO20131223,       A16S,      42,          1,          6,          6,2,20140107,       2214,   -26.5011,   -25.0014,       4765,  3347.2,   2.5459,  34.9036,2,  34.9036,2,    250.1,2,   250.3,2,    37.3,2,    21.1,2,    0.00,2,   1.415,2,-999.000,5,-999.000,9,-999.000,9,  -999.0,9, -999.00,9,-999.0000,9, -999.00,-999.0000,9,  -999.00,-999.000,9,   2.5464,2, -999.00,9,  -999.0,9,  -999.0,-999.00000000,9,-999.00000000,9,  3347.2,     -999.0,9,    35.0682,2,     -999.0,9,         -999.0,9,  -999.0,9,20140107,       2244
33RO20131223,       A16S,      42,          1,          5,          5,2,20140107,       2214,   -26.5011,   -25.0014,       4765,    3548,   2.3622,  34.8864,2,  34.8877,2,    248.7,2,   248.6,2,    43.3,2,    21.9,2,    0.00,2,   1.468,2,-999.000,5,-999.000,9,-999.000,9,  2188.4,2, 2335.12,2,-999.0000,9, -999.00,   7.7192,2,       25,-999.000,9,   2.3623,2, -999.00,9,  -999.0,9,  -999.0,-999.00000000,9,-999.00000000,9,  3548.0,     -999.0,9,    35.0522,2,     -999.0,9,         -999.0,9,  -999.0,9,20140107,       2239
33RO20131223,       A16S,      42,          1,          4,          4,2,20140107,       2214,   -26.5011,   -25.0014,       4765,  3849.1,   1.9591,  34.8441,2,  34.8457,2,    240.8,2,   242.2,2,    59.3,6,    24.0,6,    0.00,6,   1.631,6,-999.000,5,-999.000,9,-999.000,9,  -999.0,9, -999.00,9,-999.0000,9, -999.00,-999.0000,9,  -999.00,-999.000,9,   1.9577,2, -999.00,9,  -999.0,9,  -999.0,-999.00000000,9,-999.00000000,9,  3849.1,     -999.0,9,      35.01,2,     -999.0,9,         -999.0,9,  -999.0,9,20140107,       2233
33RO20131223,       A16S,      42,          1,          3,          3,2,20140107,       2214,   -26.5011,   -25.0014,       4765,  4248.6,   1.4038,  34.7842,2,  34.7850,2,    231.7,2,   232.7,2,    82.3,6,    27.1,6,    0.00,6,   1.856,6,-999.000,5,-999.000,9,-999.000,9,  2227.5,2,  2352.9,6,-999.0000,9, -999.00,   7.6622,6,       25,-999.000,9,   1.4054,2, -999.00,9,  -999.0,9,  -999.0,-999.00000000,9,-999.00000000,9,  4248.6,     -999.0,9,     34.949,2,     -999.0,9,         -999.0,9,  -999.0,9,20140107,       2225
33RO20131223,       A16S,      42,          1,          2,          2,2,20140107,       2214,   -26.5011,   -25.0014,       4765,  4627.6,   1.1158,  34.7516,2,  34.7520,2,    227.2,2,   227.8,2,    94.6,6,    28.7,6,    0.00,6,   1.973,6,-999.000,5,-999.000,9,-999.000,9,  -999.0,9, -999.00,9,-999.0000,9, -999.00,-999.0000,9,  -999.00,-999.000,9,   1.1156,2, -999.00,9,  -999.0,9,  -999.0,-999.00000000,9,-999.00000000,9,  4627.6,     -999.0,9,    34.9159,2,     -999.0,9,         -999.0,9,  -999.0,9,20140107,       2218
33RO20131223,       A16S,      42,          1,          1,          1,2,20140107,       2214,   -26.5011,   -25.0014,       4765,  4835.3,   1.0961,  34.7469,2,  34.7471,2,    228.1,2,   227.8,2,    96.2,6,    28.9,6,    0.00,6,   1.987,6,-999.000,5,-999.000,9,-999.000,9,    2242,6, 2359.23,2,-999.0000,9, -999.00,   7.6409,2,       25,-999.000,9,   1.0955,2, -999.00,9,  -999.0,9,  -999.0,-999.00000000,9,-999.00000000,9,  4835.3,     -999.0,9,    34.9109,2,     -999.0,9,         -999.0,9,  -999.0,9,20140107,       2214