BOTTLE,20220815CCHSIOAMB
EXPOCODE,SECT_ID,STNNBR,CASTNO,SAMPNO,BTLNBR,BTLNBR_FLAG_W,DATE,TIME,LATITUDE,LONGITUDE,DEPTH,CTDPRS,CTDTMP,CTDSAL,CTDSAL_FLAG_W,SALNTY,SALNTY_FLAG_W,CTDOXY,CTDOXY_FLAG_W,OXYGEN,OXYGEN_FLAG_W,SILCAT,SILCAT_FLAG_W,NITRAT,NITRAT_FLAG_W,NITRIT,NITRIT_FLAG_W,PHSPHT,PHSPHT_FLAG_W,CFC-11,CFC-11_FLAG_W,CFC-12,CFC-12_FLAG_W,SF6,SF6_FLAG_W,TCARBN,TCARBN_FLAG_W,ALKALI,ALKALI_FLAG_W,PCO2,PCO2_FLAG_W,PCO2TMP,PH_SWS,PH_SWS_FLAG_W,PH_TMP,TRITUM,TRITUM_FLAG_W,REFTMP,REFTMP_FLAG_W,DELC13,DELC13_FLAG_W,DELC14,DELC14_FLAG_W,C14ERR,DOC,DOC_FLAG_W,TDN,TDN_FLAG_W,CTDRAW,N2O,N2O_FLAG_W,SALTREF,SALTREF_FLAG_W,HELIUM,HELIUM_FLAG_W,DELO18,DELO18_FLAG_W,CCL4,CCL4_FLAG_W,BTL_DATE,BTL_TIME
,,,,,,,,,,,METERS,DBAR,ITS-90,PSS-78,,PSS-78,,UMOL/KG,,UMOL/KG,,UMOL/KG,,UMOL/KG,,UMOL/KG,,UMOL/KG,,PMOL/KG,,PMOL/KG,,FMOL/KG,,UMOL/KG,,UMOL/KG,,UATM,,DEG C,,,DEG C,TU,,DEG C,,/MILLE,,/MILLE,,/MILLE,UMOL/KG,,UMOL/KG,,DBAR,NMOL/KG,,G/KG,,NMOL/KG,,/MILLE,,PMOL/KG,,,
33RO20131223,       A16S,      87,          3,         24,         24,2,20140122,       1338,   -49.0065,    -33.369,       4940,     3.8,   7.3568,  34.0414,2,  34.0423,2,    297.8,2,   298.4,2,     2.5,2,    17.7,2,    0.18,2,   1.244,2,   4.154,2,   2.321,2,   2.370,2,  2106.8,6,  2278.5,2,-999.0000,9, -999.00,   7.7007,4,       25,-999.000,9,    7.359,2,    1.70,6,   -21.9,6,     1.7,  51.81380041,2,        21.36,2,     3.8,     11.793,2,    34.2029,2,     -999.0,9,         -999.0,9,  -999.0,9,20140122,       1528
33RO20131223,       A16S,      87,          3,         23,         23,2,20140122,       1338,   -49.0065,    -33.369,       4940,     9.6,   7.3598,  34.0432,2,  34.0457,2,    298.1,2,   298.3,2,     2.5,2,    17.6,2,    0.18,2,   1.244,2,   4.151,2,   2.320,2,   2.364,2,  2106.6,2, 2279.67,2,-999.0000,9, -999.00,   7.7949,2,       25,-999.000,9,   7.3607,2, -999.00,9,  -999.0,9,  -999.0,  50.36833758,2,        21.49,2,     9.6,     11.659,2,    34.2062,2,     -999.0,9,         -999.0,9,  -999.0,9,20140122,       1527
33RO20131223,       A16S,      87,          3,         22,         22,2,20140122,       1338,   -49.0065,    -33.369,       4940,    37.6,   7.2509,  34.0760,2,  34.0768,2,    298.1,2,   296.6,2,     2.6,2,    17.5,2,    0.18,2,   1.253,2,   4.100,2,   2.306,2,   2.330,2,  2109.1,2, 2279.66,2,-999.0000,9, -999.00,   7.7932,2,       25,-999.000,9,   7.2489,2, -999.00,9,  -999.0,9,  -999.0,  50.30058151,2,         20.6,2,    37.6,     11.648,2,    34.2375,2,     -999.0,9,         -999.0,9,  -999.0,9,20140122,       1525
33RO20131223,       A16S,      87,          3,         21,         21,2,20140122,       1338,   -49.0065,    -33.369,       4940,    68.3,   7.0154,  34.0591,2,  34.0574,2,    293.6,2,   294.4,2,     3.3,2,    18.7,2,    0.20,2,   1.336,2,   4.203,2,   2.345,2,   2.359,2,    2117,2, 2282.23,2,-999.0000,9, -999.00,   7.7737,2,       25,-999.000,9,   7.0114,2, -999.00,9,  -999.0,9,  -999.0,  48.35824082,2,        21.78,2,    68.3,     12.129,2,     34.218,2,     -999.0,9,         -999.0,9,  -999.0,9,20140122,       1523
33RO20131223,       A16S,      87,          3,         20,         20,2,20140122,       1338,   -49.0065,    -33.369,       4940,   117.6,   4.1899,  34.1024,2,  34.1016,2,      285,2,   284.2,2,    10.6,2,    25.4,2,    0.03,2,   1.739,2,   4.479,2,   2.450,2,   2.207,2,  2150.7,2, 2276.09,2,-999.0000,9, -999.00,   7.6812,2,       25,-999.000,9,   4.1896,2, -999.00,9,  -999.0,9,  -999.0,  46.46107085,2,        28.32,2,   117.6,     13.825,2,    34.2624,2,     -999.0,9,         -999.0,9,  -999.0,9,20140122,       1520
33RO20131223,       A16S,      87,          3,         19,         19,2,20140122,       1338,   -49.0065,    -33.369,       4940,   197.5,   3.6093,  34.0972,2,  34.0967,2,    280.1,2,   282.3,2,    14.5,2,    26.8,2,    0.02,2,   1.828,2,   4.404,2,   2.379,2,   2.070,2,  2160.1,2, 2287.36,2,-999.0000,9, -999.00,   7.6685,2,       25,-999.000,9,    3.608,2, -999.00,9,  -999.0,9,  -999.0,  44.66177075,2,        29.65,2,   197.5,     14.900,2,    34.2575,2,     -999.0,9,         -999.0,9,  -999.0,9,20140122,       1518
33RO20131223,       A16S,      87,          3,         18,         18,2,20140122,       1338,   -49.0065,    -33.369,       4940,   298.1,   3.2359,  34.1118,2,  34.1116,2,    284.4,2,     274,2,    18.8,2,    28.0,2,    0.01,2,   1.911,2,   4.208,2,   2.262,2,   1.944,2,  2168.3,2, 2290.21,2,-999.0000,9, -999.00,   7.6493,2,       25,-999.000,9,   3.2345,2, -999.00,9,  -999.0,9,  -999.0,  42.91516983,2,        30.76,2,   298.1,     15.792,2,    34.2724,2,     -999.0,9,         -999.0,9,  -999.0,9,20140122,       1514
33RO20131223,       A16S,      87,          3,         17,         17,2,20140122,       1338,   -49.0065,    -33.369,       4940,   398.8,   2.9919,  34.1570,2,  34.1581,2,    254.3,2,   253.7,2,    25.6,2,    29.8,2,    0.01,2,   2.027,2,   3.719,6,   1.974,2,   1.531,6,  2185.6,2, 2297.32,2,-999.0000,9, -999.00,   7.6217,2,       25,-999.000,9,    2.993,2, -999.00,9,  -999.0,9,  -999.0,  42.01928401,2,        32.28,2,   398.8,     17.627,6,    34.3191,2,     -999.0,9,         -999.0,9,  -999.0,9,20140122,       1511
33RO20131223,       A16S,      87,          3,         16,         16,2,20140122,       1338,   -49.0065,    -33.369,       4940,   518.3,   2.9476,  34.2429,2,  34.2421,2,    224.7,2,   225.2,2,    34.7,2,    31.6,2,    0.01,2,   2.151,2,   2.884,2,   1.488,2,   0.978,2,  2203.8,2,  2300.8,2,-999.0000,9, -999.00,   7.5894,2,       25,-999.000,9,   2.9474,2, -999.00,9,  -999.0,9,  -999.0,  41.06317057,2,        34.24,2,   518.3,     19.691,2,    34.4036,2,     -999.0,9,         -999.0,9,  -999.0,9,20140122,       1508
33RO20131223,       A16S,      87,          3,         15,         15,2,20140122,       1338,   -49.0065,    -33.369,       4940,   668.4,   2.7883,  34.3449,2,  34.3453,2,    200.7,2,   200.1,2,    48.1,2,    33.3,2,    0.01,2,   2.266,2,   1.985,2,   0.997,2,   0.586,2,  2225.4,2, 2315.03,2,-999.0000,9, -999.00,   7.5601,2,       25,-999.000,9,   2.7886,2, -999.00,9,  -999.0,9,  -999.0,  40.75450402,2,        35.85,2,   668.4,     21.682,2,    34.5072,6,     -999.0,9,         -999.0,9,  -999.0,9,20140122,       1505
33RO20131223,       A16S,      87,          3,         14,         14,2,20140122,       1338,   -49.0065,    -33.369,       4940,   815.9,   2.6973,  34.4305,2,  34.4301,2,    184.8,2,   184.2,2,    56.7,2,    33.9,2,    0.01,2,   2.312,2,   1.298,2,   0.644,2,   0.342,2,    2240,2, 2323.97,2,-999.0000,9, -999.00,   7.5461,2,       25,-999.000,9,   2.6976,2, -999.00,9,  -999.0,9,  -999.0,  40.42325212,2,        36.44,2,   815.9,     22.533,2,    34.5924,2,     -999.0,9,         -999.0,9,  -999.0,9,20140122,       1501
33RO20131223,       A16S,      87,          3,         13,         13,2,20140122,       1338,   -49.0065,    -33.369,       4940,  1000.1,   2.6054,  34.5358,2,  34.5354,2,    173.6,2,   172.9,2,    65.5,2,    33.8,2,    0.00,2,   2.306,2,   0.698,6,   0.338,2,   0.162,6,  2250.2,2, -999.00,5,-999.0000,9, -999.00,   7.5458,6,       25,-999.000,9,   2.6055,2, -999.00,9,  -999.0,9,  -999.0,   39.8586182,2,        36.43,2,  1000.1,     22.567,6,    34.6983,2,     -999.0,9,         -999.0,9,  -999.0,9,20140122,       1457
33RO20131223,       A16S,      87,          3,         12,         12,2,20140122,       1338,   -49.0065,    -33.369,       4940,    1179,   2.6290,  34.6276,2,  34.6278,2,    173.6,2,   174.9,2,    66.8,2,    32.4,2,    0.00,2,   2.212,2,   0.375,2,   0.179,2,   0.075,2,    2249,6, 2343.02,2,-999.0000,9, -999.00,   7.5635,2,       25,-999.000,9,   2.6278,2, -999.00,9,  -999.0,9,  -999.0,  39.83603285,2,        35.07,2,  1179.0,     21.693,2,    34.7911,2,     -999.0,9,         -999.0,9,  -999.0,9,20140122,       1452
33RO20131223,       A16S,      87,          3,         11,         11,2,20140122,       1338,   -49.0065,    -33.369,       4940,  1399.1,   2.5897,  34.6943,2,  34.6936,2,    180.3,2,   181.4,2,    67.4,2,    31.0,2,    0.00,2,   2.113,2,   0.252,2,   0.119,2,   0.056,2,  2247.6,2, 2347.19,6,-999.0000,9, -999.00,   7.5835,2,       25,-999.000,9,   2.5897,2, -999.00,9,  -999.0,9,  -999.0,  40.89754462,2,        33.67,2,  1399.1,     20.743,2,    34.8572,2,     -999.0,9,         -999.0,9,  -999.0,9,20140122,       1448
33RO20131223,       A16S,      87,          3,         10,         10,2,20140122,       1338,   -49.0065,    -33.369,       4940,  1598.6,   2.5750,  34.7478,2,  34.7478,2,      191,2,     191,2,    65.2,2,    29.4,2,    0.00,2,   1.999,2,   0.193,2,   0.090,2,   0.039,2,  2240.2,2,  2348.2,2,-999.0000,9, -999.00,   7.6044,2,       25,-999.000,9,    2.575,2, -999.00,9,  -999.0,9,  -999.0,  41.06317057,2,        32.02,2,  1598.6,     19.494,2,    34.9116,2,     -999.0,9,         -999.0,9,  -999.0,9,20140122,       1443
33RO20131223,       A16S,      87,          3,          9,          9,2,20140122,       1338,   -49.0065,    -33.369,       4940,  1848.9,   2.4273,  34.7766,2,  34.7766,2,    198.6,2,   199.5,2,    66.6,2,    28.4,2,    0.00,2,   1.929,2,   0.156,2,   0.073,2,   0.047,2,  2235.6,2, 2349.23,2,-999.0000,9, -999.00,   7.6204,2,       25,-999.000,9,   2.4272,2, -999.00,9,  -999.0,9,  -999.0,  41.21373961,2,        31.06,2,  1848.9,     18.624,2,    34.9406,2,     -999.0,9,         -999.0,9,  -999.0,9,20140122,       1438
33RO20131223,       A16S,      87,          3,          8,          8,2,20140122,       1338,   -49.0065,    -33.369,       4940,  2147.4,   2.2609,  34.7952,2,  34.7951,2,    207.1,2,   207.3,2,    67.3,2,    27.5,2,    0.00,2,   1.869,2,   0.119,2,   0.056,2,   0.024,2,  2231.4,2, 2348.09,2,-999.0000,9, -999.00,   7.6342,2,       25,-999.000,9,   2.2609,2, -999.00,9,  -999.0,9,  -999.0,  40.61899188,2,        30.17,2,  2147.4,     18.149,2,    34.9592,2,     -999.0,9,         -999.0,9,  -999.0,9,20140122,       1432
33RO20131223,       A16S,      87,          3,          7,          7,2,20140122,       1338,   -49.0065,    -33.369,       4940,    2548,   1.7565,  34.7560,2,  34.7562,2,    201.1,2,   201.4,2,    85.6,2,    29.6,2,    0.00,2,   2.014,2,   0.133,6,   0.063,2,   0.049,6,  2248.8,2, 2353.41,2,-999.0000,9, -999.00,   7.6135,2,       25,-999.000,9,   1.7567,2, -999.00,9,  -999.0,9,  -999.0,  40.26515463,2,        32.25,2,  2548.0,     18.804,6,    34.9201,2,     -999.0,9,         -999.0,9,  -999.0,9,20140122,       1424
33RO20131223,       A16S,      87,          3,          6,          6,2,20140122,       1338,   -49.0065,    -33.369,       4940,  2948.5,   1.2687,  34.7228,2,  34.7236,2,    202.2,2,   201.6,2,   102.0,2,    31.0,2,    0.00,2,   2.122,2,   0.214,2,   0.104,2,   0.081,2,  2257.7,2, 2359.33,2,-999.0000,9, -999.00,   7.5967,2,       25,-999.000,9,   1.2688,2, -999.00,9,  -999.0,9,  -999.0,  39.79839058,2,        33.74,2,  2948.5,     19.168,2,    34.8873,2,     -999.0,9,         -999.0,9,  -999.0,9,20140122,       1417
33RO20131223,       A16S,      87,          3,          5,          5,2,20140122,       1338,   -49.0065,    -33.369,       4940,  3348.7,   0.9607,  34.7064,2,  34.7069,2,      207,2,   207.2,2,   109.0,2,    31.5,2,    0.00,2,   2.158,2,   0.314,2,   0.153,2,   0.082,2,  2259.8,2, 2363.58,2,-999.0000,9, -999.00,    7.592,2,       25,-999.000,9,   0.9606,2, -999.00,9,  -999.0,9,  -999.0,  39.47466714,2,        34.19,2,  3348.7,     19.117,2,    34.8705,2,     -999.0,9,         -999.0,9,  -999.0,9,20140122,       1409
33RO20131223,       A16S,      87,          3,          4,          4,2,20140122,       1338,   -49.0065,    -33.369,       4940,  3748.6,   0.6413,  34.6879,2,  34.6880,2,    212.2,2,   212.2,2,   114.9,6,    31.9,6,    0.01,6,   2.192,6,   0.470,2,   0.229,2,   0.148,2,  2262.2,2, 2365.22,2,-999.0000,9, -999.00,   7.5883,2,       25,-999.000,9,   0.6413,2, -999.00,9,  -999.0,9,  -999.0,  39.50478095,2,        34.52,2,  3748.6,     19.033,2,    34.8516,2,     -999.0,9,         -999.0,9,  -999.0,9,20140122,       1401
33RO20131223,       A16S,      87,          3,          3,          3,2,20140122,       1338,   -49.0065,    -33.369,       4940,  4147.4,   0.4434,  34.6784,2,  34.6784,2,      218,2,   216.9,2,   118.6,6,    32.0,6,    0.01,6,   2.207,6,   0.521,2,   0.251,2,   0.124,2,  2262.5,2, 2367.84,2,-999.0000,9, -999.00,   7.5869,6,       25,-999.000,9,   0.4436,2, -999.00,9,  -999.0,9,  -999.0,  39.60265083,2,        34.78,2,  4147.4,     18.834,2,    34.8419,6,     -999.0,9,         -999.0,9,  -999.0,9,20140122,       1354
33RO20131223,       A16S,      87,          3,          2,          2,2,20140122,       1338,   -49.0065,    -33.369,       4940,  4547.9,   0.2999,  34.6707,2,  34.6702,2,      222,2,   221.4,2,   121.3,6,    32.1,6,    0.01,6,   2.215,6,   0.591,2,   0.283,2,   0.161,2,  2262.4,2, 2363.75,6,-999.0000,9, -999.00,   7.5867,2,       25,-999.000,9,   0.2996,2, -999.00,9,  -999.0,9,  -999.0,  39.73063451,2,        34.81,2,  4547.9,     18.634,2,    34.8337,2,     -999.0,9,         -999.0,9,  -999.0,9,20140122,       1346
33RO20131223,       A16S,      87,          3,          1,          1,2,20140122,       1338,   -49.0065,    -33.369,       4940,  5013.1,  -0.1323,  34.6505,2,  34.6534,2,    240.5,2,   240.3,2,   120.4,6,    31.9,6,    0.01,6,   2.198,6,   1.226,2,   0.598,2,   0.301,2,  2256.7,2, 2358.06,2,-999.0000,9, -999.00,   7.6013,2,       25,-999.000,9,  -0.1332,2, -999.00,9,  -999.0,9,  -999.0,  39.55748011,2,        34.89,2,  5013.1,     18.141,2,    34.8168,2,     -999.0,9,         -999.0,9,  -999.0,9,20140122,       1338