BOTTLE,20220815CCHSIOAMB
EXPOCODE,SECT_ID,STNNBR,CASTNO,SAMPNO,BTLNBR,BTLNBR_FLAG_W,DATE,TIME,LATITUDE,LONGITUDE,DEPTH,CTDPRS,CTDTMP,CTDSAL,CTDSAL_FLAG_W,SALNTY,SALNTY_FLAG_W,CTDOXY,CTDOXY_FLAG_W,OXYGEN,OXYGEN_FLAG_W,SILCAT,SILCAT_FLAG_W,NITRAT,NITRAT_FLAG_W,NITRIT,NITRIT_FLAG_W,PHSPHT,PHSPHT_FLAG_W,CFC-11,CFC-11_FLAG_W,CFC-12,CFC-12_FLAG_W,SF6,SF6_FLAG_W,TCARBN,TCARBN_FLAG_W,ALKALI,ALKALI_FLAG_W,PCO2,PCO2_FLAG_W,PCO2TMP,PH_SWS,PH_SWS_FLAG_W,PH_TMP,TRITUM,TRITUM_FLAG_W,REFTMP,REFTMP_FLAG_W,DELC13,DELC13_FLAG_W,DELC14,DELC14_FLAG_W,C14ERR,DOC,DOC_FLAG_W,TDN,TDN_FLAG_W,CTDRAW,N2O,N2O_FLAG_W,SALTREF,SALTREF_FLAG_W,HELIUM,HELIUM_FLAG_W,DELO18,DELO18_FLAG_W,CCL4,CCL4_FLAG_W,BTL_DATE,BTL_TIME
,,,,,,,,,,,METERS,DBAR,ITS-90,PSS-78,,PSS-78,,UMOL/KG,,UMOL/KG,,UMOL/KG,,UMOL/KG,,UMOL/KG,,UMOL/KG,,PMOL/KG,,PMOL/KG,,FMOL/KG,,UMOL/KG,,UMOL/KG,,UATM,,DEG C,,,DEG C,TU,,DEG C,,/MILLE,,/MILLE,,/MILLE,UMOL/KG,,UMOL/KG,,DBAR,NMOL/KG,,G/KG,,NMOL/KG,,/MILLE,,PMOL/KG,,,
33RO20131223,       A16S,      41,          2,         24,         24,2,20140107,       1548,   -26.0001,   -25.0001,       4897,       3,  26.5571,  36.8235,2,  36.8169,2,    202.6,2,   205.3,2,     0.9,2,     0.0,2,    0.00,2,   0.070,2,   1.582,3,   1.031,2,   1.247,2,  2094.4,6, 2419.96,2,    360.8,2,      20,   8.0354,6,       25,-999.000,1,   26.617,2, -999.00,9,  -999.0,9,  -999.0,        68.93,2,         3.87,2,     3.0,      6.282,2,    36.9905,2,     -999.0,1,         -999.0,1,  -999.0,9,20140107,       1738
33RO20131223,       A16S,      41,          2,         23,         23,2,20140107,       1548,   -26.0001,   -25.0001,       4897,    18.5,  24.8364,  36.7089,2,  36.7131,2,    212.8,2,   214.2,2,     0.9,2,     0.0,2,    0.00,2,   0.079,2,   1.714,3,   1.107,2,   1.316,2,  2091.4,2,  2413.4,2,   345.18,2,      20,   8.0351,2,       25,-999.000,1,  24.8337,2, -999.00,9,  -999.0,9,  -999.0,        66.24,2,         3.96,2,    18.5,      6.579,2,    36.8862,2,     -999.0,1,         -999.0,1,  -999.0,9,20140107,       1737
33RO20131223,       A16S,      41,          2,         22,         22,2,20140107,       1548,   -26.0001,   -25.0001,       4897,      48,  23.1526,  36.6683,2,  36.6664,2,      222,2,   222.9,2,     1.0,2,     0.0,2,    0.00,2,   0.100,2,   1.838,3,   1.176,2,   1.364,2,  2090.5,2, 2410.96,2,   347.17,2,      20,   8.0283,2,       25,-999.000,1,  23.1488,2, -999.00,9,  -999.0,9,  -999.0,        64.78,2,         3.45,2,    48.0,      6.909,2,    36.8393,2,     -999.0,1,         -999.0,1,  -999.0,9,20140107,       1735
33RO20131223,       A16S,      41,          2,         21,         21,2,20140107,       1548,   -26.0001,   -25.0001,       4897,    73.2,  22.1296,  36.6641,2,  36.6597,2,    226.2,2,   225.2,2,     1.0,2,     0.0,2,    0.00,2,   0.098,2,   1.880,3,   1.188,2,   1.352,2,  2092.4,2, 2406.02,2,   349.85,2,      20,   8.0258,2,       25,-999.000,1,  22.1275,2, -999.00,9,  -999.0,9,  -999.0,        63.26,2,          3.5,2,    73.2,      7.037,2,    36.8325,2,     -999.0,1,         -999.0,1,  -999.0,9,20140107,       1733
33RO20131223,       A16S,      41,          2,         20,         20,2,20140107,       1548,   -26.0001,   -25.0001,       4897,    97.8,  21.4152,  36.5430,2,  36.5463,2,      225,2,   225.4,2,     1.0,2,     0.1,2,    0.00,2,   0.106,2,   1.946,3,   1.225,2,   1.430,2,  2090.1,2, 2397.12,2,   364.27,2,      20,   8.0199,2,       25,-999.000,1,  21.4004,2, -999.00,9,  -999.0,9,  -999.0,        61.58,2,          3.5,2,    97.8,      7.147,2,    36.7186,2,     -999.0,1,         -999.0,1,  -999.0,9,20140107,       1731
33RO20131223,       A16S,      41,          2,         19,         19,2,20140107,       1548,   -26.0001,   -25.0001,       4897,   148.2,  19.5397,  36.2067,2,  36.1982,2,      221,2,   220.8,2,     1.1,2,     0.1,2,    0.01,2,   0.158,2,   2.105,3,   1.307,6,   1.453,6,  2094.2,2, 2376.81,2,   394.77,2,      20,   7.9831,2,       25,-999.000,1,  19.5033,2, -999.00,9,  -999.0,9,  -999.0,        57.18,2,         3.23,2,   148.2,      7.694,6,    36.3689,2,     -999.0,1,         -999.0,1,  -999.0,9,20140107,       1729
33RO20131223,       A16S,      41,          2,         18,         18,5,20140107,       1548,   -26.0001,   -25.0001,       4897,   207.7,  17.0067,  35.7963,2,-999.0000,9,    211.3,2,  -999.0,9,  -999.0,9,  -999.0,9, -999.00,9,-999.000,9,-999.000,5,-999.000,9,-999.000,9,  -999.0,9, -999.00,9,-999.0000,9, -999.00,-999.0000,9,  -999.00,-999.000,9,  17.0024,2, -999.00,9,  -999.0,9,  -999.0,-999.00000000,9,-999.00000000,9,   207.7,     -999.0,9,     -999.0,9,     -999.0,9,         -999.0,9,  -999.0,9,20140107,       1727
33RO20131223,       A16S,      41,          2,         17,         17,2,20140107,       1548,   -26.0001,   -25.0001,       4897,   298.6,  14.4883,  35.3981,2,  35.3969,2,    208.6,2,     208,2,     2.7,2,     7.1,2,    0.01,2,   0.607,2,   2.644,3,   1.584,2,   1.415,2,  2116.7,2, 2327.15,2,  535.725,6,      20,   7.8654,2,       25,-999.000,1,  14.4982,2, -999.00,9,  -999.0,9,  -999.0,        47.62,2,         9.62,2,   298.6,     11.050,2,    35.5638,6,     -999.0,1,         -999.0,1,  -999.0,9,20140107,       1724
33RO20131223,       A16S,      41,          2,         16,         16,2,20140107,       1548,   -26.0001,   -25.0001,       4897,   410.2,  12.6876,  35.1625,2,  35.1610,2,      210,2,   208.4,2,     3.9,2,    11.1,2,    0.01,2,   0.842,2,   2.857,3,   1.685,2,   1.358,2,  2127.7,2, 2320.22,2,  604.245,6,      20,   7.8174,2,       25,-999.000,1,  12.6957,2, -999.00,9,  -999.0,9,  -999.0,        45.03,2,        13.67,2,   410.2,     12.930,2,    35.3268,2,     -999.0,1,         -999.0,1,  -999.0,9,20140107,       1721
33RO20131223,       A16S,      41,          2,         15,         15,2,20140107,       1548,   -26.0001,   -25.0001,       4897,     568,   9.2980,  34.7200,2,  34.7228,2,    198.4,2,   197.1,2,     9.2,2,    20.2,2,    0.01,2,   1.411,2,   2.953,3,   1.655,2,   0.990,2,  2156.1,2, 2300.51,2,      793,2,      20,   7.7115,2,       25,-999.000,1,   9.2986,2, -999.00,9,  -999.0,9,  -999.0,        43.13,2,        22.76,2,   568.0,     16.133,2,    34.8865,2,     -999.0,1,         -999.0,1,  -999.0,9,20140107,       1717
33RO20131223,       A16S,      41,          2,         14,         14,2,20140107,       1548,   -26.0001,   -25.0001,       4897,   717.9,   6.2441,  34.4181,2,  34.4204,2,    204.2,2,   204.2,2,    17.0,2,    26.9,2,    0.01,2,   1.845,2,   2.837,3,   1.521,2,   0.800,2,  2175.8,2, 2288.67,2,   943.11,2,      20,   7.6444,2,       25,-999.000,1,   6.2475,2, -999.00,9,  -999.0,9,  -999.0,        41.24,2,        29.57,2,   717.9,     17.925,2,    34.5827,2,     -999.0,1,         -999.0,1,  -999.0,9,20140107,       1714
33RO20131223,       A16S,      41,          2,         13,         13,2,20140107,       1548,   -26.0001,   -25.0001,       4897,     873,   4.4591,  34.3350,2,  34.3367,2,    208.3,2,     206,2,    28.6,2,    30.5,2,    0.00,2,   2.091,2,   2.249,3,   1.171,6,   0.502,6,    2193,2, 2294.54,2,  1031.08,2,      20,   7.6093,2,       25,-999.000,1,   4.4575,2, -999.00,9,  -999.0,9,  -999.0,        40.52,2,        33.03,2,   873.0,     19.257,6,    34.4986,2,     -999.0,1,         -999.0,1,  -999.0,9,20140107,       1710
33RO20131223,       A16S,      41,          2,         12,         12,2,20140107,       1548,   -26.0001,   -25.0001,       4897,  1048.7,   3.6534,  34.4270,2,  34.4294,2,    187.5,2,   186.8,2,    42.9,2,    32.6,2,    0.00,2,   2.239,2,   1.017,3,   0.519,2,   0.181,2,  2217.7,2, 2310.08,2,  1104.33,2,      20,   7.5786,2,       25,-999.000,1,   3.6533,2, -999.00,9,  -999.0,9,  -999.0,  40.08447177,2,        35.07,2,  1048.7,     21.211,2,    34.5917,2,     -999.0,1,         -999.0,1,  -999.0,9,20140107,       1706
33RO20131223,       A16S,      41,          2,         11,         11,2,20140107,       1548,   -26.0001,   -25.0001,       4897,  1248.6,   3.2212,  34.5536,2,  34.5544,2,    183.3,2,   184.1,2,    50.2,2,    31.9,2,    0.00,2,   2.197,2,   0.390,3,   0.196,2,   0.058,2,  2225.2,6, 2327.96,2,  1102.91,2,      20,   7.5823,2,       25,-999.000,1,   3.2212,2, -999.00,9,  -999.0,9,  -999.0,  39.95648808,2,        34.46,2,  1248.6,     21.008,2,    34.7174,2,     -999.0,1,         -999.0,1,  -999.0,9,20140107,       1702
33RO20131223,       A16S,      41,          2,         10,         10,2,20140107,       1548,   -26.0001,   -25.0001,       4897,  1748.4,   2.9655,  34.8045,2,  34.8042,2,    215.2,2,   216.2,2,    43.1,2,    26.0,2,    0.00,2,   1.756,2,   0.033,3,   0.012,2,   0.000,2,  2202.8,2, 2330.63,2,   903.23,2,      20,   7.6644,2,       25,-999.000,1,   2.9657,2, -999.00,9,  -999.0,9,  -999.0,  40.61899188,2,        28.57,2,  1748.4,     17.004,2,    34.9683,2,     -999.0,1,         -999.0,9,  -999.0,9,20140107,       1652
33RO20131223,       A16S,      41,          2,          9,          9,2,20140107,       1548,   -26.0001,   -25.0001,       4897,  2147.9,   3.0154,  34.9002,2,  34.9012,2,    239.8,2,   239.5,2,    32.7,2,    22.2,2,    0.00,2,   1.483,2,   0.046,3,   0.018,2,   0.000,2,  2182.3,2, 2325.77,2,  817.065,2,      20,   7.7082,2,       25,-999.000,1,   3.0152,2, -999.00,9,  -999.0,9,  -999.0,   41.0104714,2,        24.77,2,  2147.9,     14.607,2,    35.0658,2,     -999.0,1,         -999.0,9,  -999.0,9,20140107,       1644
33RO20131223,       A16S,      41,          2,          8,          8,2,20140107,       1548,   -26.0001,   -25.0001,       4897,  2598.4,   2.8825,  34.9243,2,  34.9242,2,    248.6,2,   248.3,2,    30.7,2,    20.9,2,    0.00,2,   1.398,2,   0.061,3,   0.026,2,   0.000,2,  2177.3,2,  2323.9,2,  781.115,6,      20,   7.7243,2,       25,-999.000,9,   2.8828,2, -999.00,9,  -999.0,9,  -999.0,  41.63533294,2,        23.38,2,  2598.4,     13.773,2,    35.0889,2,     -999.0,1,         -999.0,9,  -999.0,9,20140107,       1636
33RO20131223,       A16S,      41,          2,          7,          7,2,20140107,       1548,   -26.0001,   -25.0001,       4897,  3099.2,   2.6502,  34.9129,2,  34.9147,2,      250,2,   250.4,2,    34.3,2,    20.9,2,    0.00,2,   1.404,2,   0.063,3,   0.027,2,   0.000,2,  2178.8,2, 2328.28,2,   788.25,2,      20,    7.726,2,       25,-999.000,1,   2.6499,2, -999.00,9,  -999.0,9,  -999.0,  41.65038984,2,        23.46,2,  3099.2,     13.592,2,    35.0793,6,     -999.0,1,         -999.0,9,  -999.0,9,20140107,       1626
33RO20131223,       A16S,      41,          2,          6,          6,2,20140107,       1548,   -26.0001,   -25.0001,       4897,  3396.7,   2.4574,  34.8968,2,  34.8975,2,    249.5,2,   250.2,2,    39.3,2,    21.5,2,    0.00,2,   1.445,2,   0.059,3,   0.025,6,   0.000,6,  2184.2,2, 2330.29,2,   791.04,2,      20,   7.7193,2,       25,-999.000,9,   2.4572,2, -999.00,9,  -999.0,9,  -999.0,  41.11586973,2,        24.01,2,  3396.7,     13.791,6,     35.062,2,     -999.0,1,         -999.0,9,  -999.0,9,20140107,       1620
33RO20131223,       A16S,      41,          2,          5,          5,2,20140107,       1548,   -26.0001,   -25.0001,       4897,  3799.7,   1.9775,  34.8467,2,  34.8479,2,    241.3,2,   242.2,2,    58.3,2,    23.9,2,    0.00,2,   1.633,2,   0.028,3,   0.009,2,   0.135,2,  2201.7,2, 2346.09,2,  850.405,2,      20,   7.6962,2,       25,-999.000,1,    1.978,2, -999.00,9,  -999.0,9,  -999.0,  40.98788604,2,        26.42,2,  3799.7,     14.615,2,    35.0122,2,     -999.0,1,         -999.0,9,  -999.0,9,20140107,       1613
33RO20131223,       A16S,      41,          2,          4,          4,2,20140107,       1548,   -26.0001,   -25.0001,       4897,  4198.9,   1.4075,  34.7849,2,  34.7852,2,    232.4,2,   232.6,2,    81.9,6,    27.1,6,    0.00,6,   1.864,6,   0.035,3,   0.012,2,   0.258,2,  2226.3,2, 2357.82,2,   921.72,2,      20,   7.6631,2,       25,-999.000,9,   1.4074,2, -999.00,9,  -999.0,9,  -999.0,   41.1836258,2,        29.46,2,  4198.9,     15.982,2,    34.9492,2,     -999.0,1,         -999.0,9,  -999.0,9,20140107,       1605
33RO20131223,       A16S,      41,          2,          3,          3,2,20140107,       1548,   -26.0001,   -25.0001,       4897,  4399.9,   1.2508,  34.7674,2,  34.7672,2,    229.2,2,   230.1,2,    88.4,6,    28.0,6,    0.00,6,   1.925,6,   0.046,3,   0.017,2,   0.246,2,  2232.5,2, 2361.17,2,   969.34,3,      20,   7.6515,6,       25,-999.000,1,   1.2507,2, -999.00,9,  -999.0,9,  -999.0,  41.28902413,2,        30.55,2,  4399.9,     16.265,2,    34.9312,2,     -999.0,1,         -999.0,9,  -999.0,9,20140107,       1600
33RO20131223,       A16S,      41,          2,          2,          2,2,20140107,       1548,   -26.0001,   -25.0001,       4897,  4798.6,   1.1244,  34.7503,2,  34.7516,2,    227.1,2,   227.4,2,    94.7,6,    28.9,6,    0.00,6,   1.989,6,   0.062,3,   0.026,2,   0.175,2,    2239,2,  2357.8,2,  957.045,6,      20,   7.6441,2,       25,-999.000,9,   1.1253,2, -999.00,9,  -999.0,9,  -999.0,  40.49853665,2,        31.48,2,  4798.6,     16.632,2,    34.9155,2,     -999.0,1,         -999.0,9,  -999.0,9,20140107,       1553
33RO20131223,       A16S,      41,          2,          1,          1,2,20140107,       1548,   -26.0001,   -25.0001,       4897,  4964.8,   1.0736,  34.7433,2,  34.7435,2,    226.7,2,   226.6,2,    97.3,6,    29.2,6,    0.00,6,   2.014,6,   0.070,3,   0.029,2,   0.152,2,  2242.8,6,  2358.8,2,   991.26,2,      20,   7.6581,3,       25,-999.000,1,   1.0735,2, -999.00,9,  -999.0,9,  -999.0,  40.42325212,2,        31.74,2,  4964.8,     16.741,2,    34.9074,2,     -999.0,1,         -999.0,9,  -999.0,9,20140107,       1548