BOTTLE,20220815CCHSIOAMB
EXPOCODE,SECT_ID,STNNBR,CASTNO,SAMPNO,BTLNBR,BTLNBR_FLAG_W,DATE,TIME,LATITUDE,LONGITUDE,DEPTH,CTDPRS,CTDTMP,CTDSAL,CTDSAL_FLAG_W,SALNTY,SALNTY_FLAG_W,CTDOXY,CTDOXY_FLAG_W,OXYGEN,OXYGEN_FLAG_W,SILCAT,SILCAT_FLAG_W,NITRAT,NITRAT_FLAG_W,NITRIT,NITRIT_FLAG_W,PHSPHT,PHSPHT_FLAG_W,CFC-11,CFC-11_FLAG_W,CFC-12,CFC-12_FLAG_W,SF6,SF6_FLAG_W,TCARBN,TCARBN_FLAG_W,ALKALI,ALKALI_FLAG_W,PCO2,PCO2_FLAG_W,PCO2TMP,PH_SWS,PH_SWS_FLAG_W,PH_TMP,TRITUM,TRITUM_FLAG_W,REFTMP,REFTMP_FLAG_W,DELC13,DELC13_FLAG_W,DELC14,DELC14_FLAG_W,C14ERR,DOC,DOC_FLAG_W,TDN,TDN_FLAG_W,CTDRAW,N2O,N2O_FLAG_W,SALTREF,SALTREF_FLAG_W,HELIUM,HELIUM_FLAG_W,DELO18,DELO18_FLAG_W,CCL4,CCL4_FLAG_W,BTL_DATE,BTL_TIME
,,,,,,,,,,,METERS,DBAR,ITS-90,PSS-78,,PSS-78,,UMOL/KG,,UMOL/KG,,UMOL/KG,,UMOL/KG,,UMOL/KG,,UMOL/KG,,PMOL/KG,,PMOL/KG,,FMOL/KG,,UMOL/KG,,UMOL/KG,,UATM,,DEG C,,,DEG C,TU,,DEG C,,/MILLE,,/MILLE,,/MILLE,UMOL/KG,,UMOL/KG,,DBAR,NMOL/KG,,G/KG,,NMOL/KG,,/MILLE,,PMOL/KG,,,
33RO20131223,       A16S,      81,          2,         24,         24,2,20140120,       0652,   -45.9991,    -31.513,       5262,     5.6,   7.2339,  33.9964,2,  33.9964,2,    291.7,2,   294.8,2,     2.4,2,    18.8,2,    0.18,2,   1.340,2,   4.149,2,   2.316,2,   2.427,2,  2108.3,6, 2274.58,2,   635.54,2,      20,   7.7912,2,       25,-999.000,9,   7.2343,2,    1.75,2,   -28.8,2,     2.9,  48.83450079,2,        22.76,2,     5.6,     11.840,2,    34.1567,2,     -999.0,9,         -999.0,9,  -999.0,9,20140120,       0847
33RO20131223,       A16S,      81,          2,         23,         23,2,20140120,       0652,   -45.9991,    -31.513,       5262,    17.9,   7.2360,  33.9961,2,  33.9956,2,    292.2,2,   294.7,2,     2.4,2,    18.8,2,    0.18,2,   1.341,2,   4.141,2,   2.319,2,   2.445,2,  2108.1,2,  2277.3,2,    636.1,2,      20,   7.7903,6,       25,-999.000,9,   7.2357,2, -999.00,9,  -999.0,9,  -999.0,   48.9162406,2,        22.72,2,    17.9,     11.811,2,    34.1559,2,     -999.0,9,         -999.0,9,  -999.0,9,20140120,       0845
33RO20131223,       A16S,      81,          2,         22,         22,2,20140120,       0652,   -45.9991,    -31.513,       5262,    47.6,   7.0473,  34.1166,2,  34.1089,2,    285.5,2,   286.2,2,     2.6,2,    18.9,2,    0.22,2,   1.363,2,   4.159,2,   2.314,2,   2.392,2,  2118.1,2,  2277.8,6,   670.64,2,      20,   7.7717,2,       25,-999.000,9,    7.048,2, -999.00,9,  -999.0,9,  -999.0,   48.4852489,2,        23.05,2,    47.6,     12.331,2,    34.2698,2,     -999.0,9,         -999.0,9,  -999.0,9,20140120,       0843
33RO20131223,       A16S,      81,          2,         21,         21,2,20140120,       0652,   -45.9991,    -31.513,       5262,    73.5,   5.9969,  34.1939,2,  34.1929,2,      276,2,   273.4,2,     4.4,2,    21.6,2,    0.08,2,   1.515,2,   4.245,2,   2.343,2,   2.261,2,  2136.9,2, 2277.05,2,   761.19,2,      20,   7.7244,2,       25,-999.000,9,   6.0065,2, -999.00,9,  -999.0,9,  -999.0,  47.92050116,2,        24.91,2,    73.5,     12.968,2,    34.3542,2,     -999.0,9,         -999.0,9,  -999.0,9,20140120,       0841
33RO20131223,       A16S,      81,          2,         20,         20,2,20140120,       0652,   -45.9991,    -31.513,       5262,    97.9,   5.0452,  34.1131,2,  34.1150,2,    281.8,2,     280,2,     6.6,2,    23.6,2,    0.04,2,   1.652,2,   4.468,6,   2.458,2,   2.410,6,  2142.8,2,  2274.2,2,   803.83,2,      20,   7.6988,2,       25,-999.000,9,   5.0448,2, -999.00,9,  -999.0,9,  -999.0,  47.47464768,2,        26.95,2,    97.9,     13.044,6,    34.2759,2,     -999.0,9,         -999.0,9,  -999.0,9,20140120,       0839
33RO20131223,       A16S,      81,          2,         19,         19,2,20140120,       0652,   -45.9991,    -31.513,       5262,   147.8,   4.4419,  34.1029,2,  34.1020,2,    281.7,2,   282.4,2,     9.2,2,    24.8,2,    0.02,2,   1.720,2,   4.467,2,   2.443,2,   2.353,2,  2148.2,2, 2275.77,2,  829.955,2,      20,   7.6868,2,       25,-999.000,9,   4.4429,2, -999.00,9,  -999.0,9,  -999.0,  47.02136331,2,        28.41,2,   147.8,     13.538,2,    34.2628,2,     -999.0,9,         -999.0,9,  -999.0,9,20140120,       0837
33RO20131223,       A16S,      81,          2,         18,         18,2,20140120,       0652,   -45.9991,    -31.513,       5262,   219.3,   4.0336,  34.1047,2,  34.1078,2,      284,2,   282.8,2,    11.8,2,    25.6,2,    0.02,2,   1.771,2,   4.470,2,   2.419,2,   2.287,2,  2153.6,2, 2279.64,2,   845.01,6,      20,   7.6817,2,       25,-999.000,9,   4.0339,2, -999.00,9,  -999.0,9,  -999.0,  45.55747771,2,        28.72,2,   219.3,     14.153,2,    34.2686,2,     -999.0,9,         -999.0,9,  -999.0,9,20140120,       0835
33RO20131223,       A16S,      81,          2,         17,         17,2,20140120,       0652,   -45.9991,    -31.513,       5262,     299,   3.5768,  34.0940,2,  34.0922,2,    284.1,2,   283.1,2,    14.6,2,    26.5,2,    0.01,2,   1.830,2,   4.413,2,   2.377,2,   2.158,2,  2159.4,2, 2280.04,2, 865.7925,6,      20,   7.6721,2,       25,-999.000,9,   3.5783,2, -999.00,9,  -999.0,9,  -999.0,  44.04900677,2,        29.58,2,   299.0,     14.776,2,    34.2529,2,     -999.0,9,         -999.0,9,  -999.0,9,20140120,       0832
33RO20131223,       A16S,      81,          2,         16,         16,2,20140120,       0652,   -45.9991,    -31.513,       5262,   409.1,   3.3330,  34.1287,2,  34.1267,2,    263.4,2,   263.8,2,    20.1,2,    28.3,2,    0.01,2,   1.950,2,   4.016,2,   2.135,2,   1.822,2,  2173.6,2, 2283.77,2,   931.61,2,      20,   7.6432,2,       25,-999.000,9,   3.3338,2, -999.00,9,  -999.0,9,  -999.0,  43.35793388,2,        31.15,2,   409.1,     16.191,2,    34.2876,6,     -999.0,9,         -999.0,9,  -999.0,9,20140120,       0829
33RO20131223,       A16S,      81,          2,         15,         15,2,20140120,       0652,   -45.9991,    -31.513,       5262,   587.9,   3.1243,  34.2452,2,  34.2439,2,    223.1,2,   223.6,2,    33.8,2,    31.1,2,    0.01,2,   2.146,2,   2.873,2,   1.470,2,   0.977,2,  2202.9,2, 2297.37,2,  1060.99,2,      20,   7.5933,2,       25,-999.000,9,   3.1242,2, -999.00,9,  -999.0,9,  -999.0,  42.08725146,2,        33.78,2,   587.9,     19.362,2,    34.4054,2,     -999.0,9,         -999.0,9,  -999.0,9,20140120,       0825
33RO20131223,       A16S,      81,          2,         14,         14,2,20140120,       0652,   -45.9991,    -31.513,       5262,   796.7,   2.9137,  34.3719,2,  34.3704,2,    193.7,2,   193.4,2,    49.3,2,    33.1,2,    0.00,2,   2.281,2,   1.698,2,   0.846,2,   0.466,2,  2228.5,2, 2316.44,2,  1156.66,2,      20,   7.5583,2,       25,-999.000,9,   2.9136,2, -999.00,9,  -999.0,9,  -999.0,  40.72739834,2,        35.69,2,   796.7,     21.511,2,    34.5324,2,     -999.0,9,         -999.0,9,  -999.0,9,20140120,       0821
33RO20131223,       A16S,      81,          2,         13,         13,2,20140120,       0652,   -45.9991,    -31.513,       5262,  1046.1,   2.7421,  34.5169,2,  34.5147,2,    174.7,2,   176.1,2,    61.2,2,    33.3,2,    0.00,2,   2.296,2,   0.740,6,   0.363,2,   0.156,6,  2245.2,2, 2329.58,2,  1191.52,2,      20,   7.5509,2,       25,-999.000,9,   2.7423,2, -999.00,9,  -999.0,9,  -999.0,  39.95458564,2,        36.01,2,  1046.1,     22.415,6,    34.6775,2,     -999.0,9,         -999.0,9,  -999.0,9,20140120,       0816
33RO20131223,       A16S,      81,          2,         12,         12,2,20140120,       0652,   -45.9991,    -31.513,       5262,  1297.4,   2.6784,  34.6270,2,  34.6268,2,    172.8,2,     176,2,    65.7,2,    32.1,2,    0.00,2,   2.212,2,   0.377,2,   0.184,2,   0.083,2,  2247.2,6, 2338.76,2,   1154.8,2,      20,   7.5622,2,       25,-999.000,9,   2.6788,2, -999.00,9,  -999.0,9,  -999.0,  40.36328467,2,        34.68,2,  1297.4,     21.630,2,    34.7901,2,     -999.0,9,         -999.0,9,  -999.0,9,20140120,       0810
33RO20131223,       A16S,      81,          2,         11,         11,2,20140120,       0652,   -45.9991,    -31.513,       5262,  1597.6,   2.5870,  34.7104,2,  34.7094,2,    179.3,2,   183.3,2,    68.0,2,    30.6,2,    0.00,2,   2.092,2,   0.236,2,   0.112,2,   0.059,2,  2245.1,2, 2340.85,6,  1094.84,2,      20,   7.5861,2,       25,-999.000,9,   2.5867,2, -999.00,9,  -999.0,9,  -999.0,  40.90573974,2,        33.11,2,  1597.6,     20.399,2,    34.8731,2,     -999.0,9,         -999.0,9,  -999.0,9,20140120,       0804
33RO20131223,       A16S,      81,          2,         10,         10,2,20140120,       0652,   -45.9991,    -31.513,       5262,  1898.5,   2.5407,  34.7748,2,  34.7739,2,    199.5,2,   197.4,2,    64.7,2,    28.3,2,    0.00,2,   1.940,2,   0.170,2,   0.083,2,   0.021,2,  2233.6,2, 2342.11,2,  1011.35,2,      20,   7.6195,2,       25,-999.000,9,   2.5385,2, -999.00,9,  -999.0,9,  -999.0,  41.38131678,2,        31.01,2,  1898.5,     18.791,2,    34.9379,2,     -999.0,9,         -999.0,9,  -999.0,9,20140120,       0758
33RO20131223,       A16S,      81,          2,          9,          9,2,20140120,       0652,   -45.9991,    -31.513,       5262,  2197.6,   2.3792,  34.8052,2,  34.8042,2,    209.5,2,   209.1,2,    63.8,2,    27.0,2,    0.00,2,   1.846,2,   0.127,2,   0.060,2,   0.025,2,    2227,2, 2341.44,2,   957.15,2,      20,   7.6421,2,       25,-999.000,9,   2.3792,2, -999.00,9,  -999.0,9,  -999.0,  41.06921934,2,        29.68,2,  2197.6,     17.683,2,    34.9683,6,     -999.0,9,         -999.0,9,  -999.0,9,20140120,       0752
33RO20131223,       A16S,      81,          2,          8,          8,2,20140120,       0652,   -45.9991,    -31.513,       5262,  2596.8,   1.7986,  34.7583,2,  34.7574,2,    200.6,2,   201.1,2,    85.3,2,    29.3,2,    0.00,2,   2.019,2,   0.139,6,   0.067,2,   0.028,6,    2245,2, 2356.23,2,  1025.43,6,      20,   7.6137,2,       25,-999.000,9,   1.7989,2, -999.00,9,  -999.0,9,  -999.0,  40.27411397,2,        32.03,2,  2596.8,     18.669,6,    34.9213,2,     -999.0,9,         -999.0,9,  -999.0,9,20140120,       0745
33RO20131223,       A16S,      81,          2,          7,          7,2,20140120,       0652,   -45.9991,    -31.513,       5262,  3003.2,   1.3322,  34.7259,2,  34.7247,2,    202.2,2,   200.3,2,   101.3,2,    30.7,2,    0.00,2,   2.125,2,   0.204,2,   0.101,2,   0.073,2,  2256.2,2, 2358.66,2,  1069.07,2,      20,    7.597,2,       25,-999.000,9,    1.332,2, -999.00,9,  -999.0,9,  -999.0,   39.9917401,2,        33.32,2,  3003.2,     19.106,2,    34.8885,2,     -999.0,9,         -999.0,9,  -999.0,9,20140120,       0737
33RO20131223,       A16S,      81,          2,          6,          6,2,20140120,       0652,   -45.9991,    -31.513,       5262,  3396.5,   1.0014,  34.7098,2,  34.7082,2,    206.8,2,   206.4,2,   109.0,2,    31.2,2,    0.01,2,   2.158,2,   0.285,2,   0.143,2,   0.062,2,  2257.7,2, 2361.88,2,  1085.59,2,      20,-999.0000,5,       25,-999.000,9,    1.001,2, -999.00,9,  -999.0,9,  -999.0,  39.59047197,2,        33.85,2,  3396.5,     18.880,2,    34.8719,2,     -999.0,9,         -999.0,9,  -999.0,9,20140120,       0729
33RO20131223,       A16S,      81,          2,          5,          5,2,20140120,       0652,   -45.9991,    -31.513,       5262,  3797.3,   0.6015,  34.6882,2,  34.6866,2,    213.8,2,   212.4,2,   117.4,6,    31.8,6,    0.00,6,   2.201,6,   0.406,2,   0.201,2,   0.106,2,  2260.4,2, 2359.84,2,  1093.39,2,      20,   7.5883,6,       25,-999.000,9,   0.6014,2, -999.00,9,  -999.0,9,  -999.0,  39.96201654,2,        34.55,2,  3797.3,     18.831,2,    34.8502,2,     -999.0,9,         -999.0,9,  -999.0,9,20140120,       0721
33RO20131223,       A16S,      81,          2,          4,          4,2,20140120,       0652,   -45.9991,    -31.513,       5262,  4197.6,   0.4113,  34.6787,2,  34.6772,2,    216.6,2,   216.6,2,   121.3,6,    32.0,6,    0.01,6,   2.218,6,   0.424,2,   0.207,2,   0.072,2,  2262.5,2, 2362.42,6,  1098.82,2,      20,   7.5888,2,       25,-999.000,9,    0.411,2, -999.00,9,  -999.0,9,  -999.0,  39.85798406,2,        34.67,2,  4197.6,     18.613,2,    34.8407,2,     -999.0,9,         -999.0,9,  -999.0,9,20140120,       0714
33RO20131223,       A16S,      81,          2,          3,          3,2,20140120,       0652,   -45.9991,    -31.513,       5262,  4597.8,   0.3023,  34.6721,2,  34.6709,2,      221,2,   219.8,2,   124.4,6,    32.2,6,    0.01,6,   2.230,6,   0.467,2,   0.226,2,   0.097,2,  2262.9,2, 2365.93,2,  1094.28,2,      20,   7.5908,2,       25,-999.000,9,   0.3019,2, -999.00,9,  -999.0,9,  -999.0,  39.79853693,2,        34.84,2,  4597.8,     18.500,2,    34.8344,2,     -999.0,9,         -999.0,9,  -999.0,9,20140120,       0706
33RO20131223,       A16S,      81,          2,          2,          2,2,20140120,       0652,   -45.9991,    -31.513,       5262,    4994,   0.2677,  34.6685,2,  34.6671,2,    222.3,2,   221.5,2,   126.0,6,    32.2,6,    0.01,6,   2.234,6,   0.544,2,   0.264,2,   0.087,2,  2262.9,2, 2365.01,2,  1093.77,6,      20,   7.5933,2,       25,-999.000,9,   0.2677,2, -999.00,9,  -999.0,9,  -999.0,  39.80596782,2,        34.74,2,  4994.0,     18.417,2,    34.8305,2,     -999.0,9,         -999.0,9,  -999.0,9,20140120,       0659
33RO20131223,       A16S,      81,          2,          1,          1,2,20140120,       0652,   -45.9991,    -31.513,       5262,  5344.9,   0.2402,  34.6647,2,  34.6634,2,    225.3,2,   225.4,2,   125.9,6,    32.2,6,    0.01,6,   2.237,6,   0.664,2,   0.321,2,   0.160,2,  2263.8,6, 2363.78,2,   1099.2,2,      20,   7.6128,4,       25,-999.000,9,   0.2396,2, -999.00,9,  -999.0,9,  -999.0,   39.6499191,2,        34.87,2,  5344.9,     18.474,2,    34.8269,2,     -999.0,9,         -999.0,9,  -999.0,9,20140120,       0652