BOTTLE,20220815CCHSIOAMB
EXPOCODE,SECT_ID,STNNBR,CASTNO,SAMPNO,BTLNBR,BTLNBR_FLAG_W,DATE,TIME,LATITUDE,LONGITUDE,DEPTH,CTDPRS,CTDTMP,CTDSAL,CTDSAL_FLAG_W,SALNTY,SALNTY_FLAG_W,CTDOXY,CTDOXY_FLAG_W,OXYGEN,OXYGEN_FLAG_W,SILCAT,SILCAT_FLAG_W,NITRAT,NITRAT_FLAG_W,NITRIT,NITRIT_FLAG_W,PHSPHT,PHSPHT_FLAG_W,CFC-11,CFC-11_FLAG_W,CFC-12,CFC-12_FLAG_W,SF6,SF6_FLAG_W,TCARBN,TCARBN_FLAG_W,ALKALI,ALKALI_FLAG_W,PCO2,PCO2_FLAG_W,PCO2TMP,PH_SWS,PH_SWS_FLAG_W,PH_TMP,TRITUM,TRITUM_FLAG_W,REFTMP,REFTMP_FLAG_W,DELC13,DELC13_FLAG_W,DELC14,DELC14_FLAG_W,C14ERR,DOC,DOC_FLAG_W,TDN,TDN_FLAG_W,CTDRAW,N2O,N2O_FLAG_W,SALTREF,SALTREF_FLAG_W,HELIUM,HELIUM_FLAG_W,DELO18,DELO18_FLAG_W,CCL4,CCL4_FLAG_W,BTL_DATE,BTL_TIME
,,,,,,,,,,,METERS,DBAR,ITS-90,PSS-78,,PSS-78,,UMOL/KG,,UMOL/KG,,UMOL/KG,,UMOL/KG,,UMOL/KG,,UMOL/KG,,PMOL/KG,,PMOL/KG,,FMOL/KG,,UMOL/KG,,UMOL/KG,,UATM,,DEG C,,,DEG C,TU,,DEG C,,/MILLE,,/MILLE,,/MILLE,UMOL/KG,,UMOL/KG,,DBAR,NMOL/KG,,G/KG,,NMOL/KG,,/MILLE,,PMOL/KG,,,
33RO20131223,       A16S,      78,          1,         24,         24,2,20140119,       0702,   -44.5001,   -30.5832,       5106,     4.1,  11.0998,  34.2991,2,  34.3095,2,    270.5,2,   273.7,2,     0.5,2,     9.0,2,    0.16,2,   0.785,2,   3.373,2,   1.930,2,   2.096,2,  2081.5,6, 2284.72,2,-999.0000,9, -999.00,   7.8715,2,       25,-999.000,9,  11.0988,2, -999.00,9,  -999.0,9,  -999.0,-999.00000000,9,-999.00000000,9,     4.1,     10.195,2,    34.4713,2,     -999.0,9,         -999.0,9,  -999.0,9,20140119,       0856
33RO20131223,       A16S,      78,          1,         23,         23,2,20140119,       0702,   -44.5001,   -30.5832,       5106,    28.2,  10.8008,  34.3383,2,  34.3389,2,    271.9,2,   275.5,2,     0.7,2,     9.7,2,    0.18,2,   0.821,2,-999.000,9,-999.000,9,-999.000,9,  -999.0,9, -999.00,9,-999.0000,9, -999.00,-999.0000,9,  -999.00,-999.000,9,  10.8014,2, -999.00,9,  -999.0,9,  -999.0,-999.00000000,9,-999.00000000,9,    28.2,     -999.0,9,    34.5009,2,     -999.0,9,         -999.0,9,  -999.0,9,20140119,       0851
33RO20131223,       A16S,      78,          1,         22,         22,2,20140119,       0702,   -44.5001,   -30.5832,       5106,    62.7,   9.7974,  34.4014,2,  34.4094,2,    273.9,2,   273.6,2,     0.5,2,     9.8,2,    0.23,2,   0.898,2,-999.000,9,-999.000,9,-999.000,9,  2099.9,2,  2290.5,2,-999.0000,9, -999.00,   7.8409,2,       25,-999.000,9,   9.7925,2, -999.00,9,  -999.0,9,  -999.0,-999.00000000,9,-999.00000000,9,    62.7,     -999.0,9,    34.5717,2,     -999.0,9,         -999.0,9,  -999.0,9,20140119,       0849
33RO20131223,       A16S,      78,          1,         21,         21,2,20140119,       0702,   -44.5001,   -30.5832,       5106,   113.3,   8.0730,  34.4570,2,  34.4530,2,    265.3,2,   264.1,2,     3.1,2,    16.3,2,    0.09,2,   1.189,2,-999.000,9,-999.000,9,-999.000,9,  2127.3,2, 2285.45,6,-999.0000,9, -999.00,   7.7678,2,       25,-999.000,9,   8.0725,2, -999.00,9,  -999.0,9,  -999.0,-999.00000000,9,-999.00000000,9,   113.3,     -999.0,9,    34.6155,2,     -999.0,9,         -999.0,9,  -999.0,9,20140119,       0846
33RO20131223,       A16S,      78,          1,         20,         20,2,20140119,       0702,   -44.5001,   -30.5832,       5106,   182.7,   6.0249,  34.2755,2,  34.2748,2,    258.6,2,   259.5,2,     6.8,2,    22.5,2,    0.03,2,   1.558,2,-999.000,9,-999.000,9,-999.000,9,  2146.4,2, 2278.34,2,-999.0000,9, -999.00,   7.6995,2,       25,-999.000,9,   6.0249,2, -999.00,9,  -999.0,9,  -999.0,-999.00000000,9,-999.00000000,9,   182.7,     -999.0,9,    34.4365,2,     -999.0,9,         -999.0,9,  -999.0,9,20140119,       0844
33RO20131223,       A16S,      78,          1,         19,         19,2,20140119,       0702,   -44.5001,   -30.5832,       5106,   257.9,   4.7746,  34.1527,2,  34.1533,2,    264.2,2,   264.4,2,     9.5,2,    25.5,2,    0.02,2,   1.750,2,   4.333,2,   2.351,2,   2.032,2,  2155.3,2, 2272.73,2,-999.0000,9, -999.00,   7.6702,2,       25,-999.000,9,   4.7732,2, -999.00,9,  -999.0,9,  -999.0,-999.00000000,9,-999.00000000,9,   257.9,     14.352,2,    34.3143,2,     -999.0,9,         -999.0,9,  -999.0,9,20140119,       0842
33RO20131223,       A16S,      78,          1,         18,         18,2,20140119,       0702,   -44.5001,   -30.5832,       5106,   347.4,   4.3050,  34.1416,2,  34.1410,2,    265.5,2,   265.2,2,    12.1,2,    26.6,2,    0.01,2,   1.819,2,-999.000,9,-999.000,9,-999.000,9,    2162,2, 2275.15,2,-999.0000,9, -999.00,    7.661,6,       25,-999.000,9,   4.3056,2, -999.00,9,  -999.0,9,  -999.0,-999.00000000,9,-999.00000000,9,   347.4,     -999.0,9,    34.3019,2,     -999.0,9,         -999.0,9,  -999.0,9,20140119,       0839
33RO20131223,       A16S,      78,          1,         17,         17,2,20140119,       0702,   -44.5001,   -30.5832,       5106,   447.7,   3.8823,  34.1533,2,  34.1527,2,    257.5,2,   256.9,2,    16.8,2,    27.8,2,    0.01,2,   1.915,2,-999.000,9,-999.000,9,-999.000,9,  2171.5,2,  2282.5,2,-999.0000,9, -999.00,   7.6459,2,       25,-999.000,9,   3.8831,2, -999.00,9,  -999.0,9,  -999.0,-999.00000000,9,-999.00000000,9,   447.7,     -999.0,9,    34.3138,2,     -999.0,9,         -999.0,9,  -999.0,9,20140119,       0836
33RO20131223,       A16S,      78,          1,         16,         16,2,20140119,       0702,   -44.5001,   -30.5832,       5106,     573,   3.4216,  34.1703,2,  34.1686,2,    247.4,2,   247.5,2,    22.8,2,    29.4,2,    0.01,2,   2.016,2,-999.000,9,-999.000,9,-999.000,9,    2183,2, 2287.05,2,-999.0000,9, -999.00,   7.6242,2,       25,-999.000,9,   3.4225,2, -999.00,9,  -999.0,9,  -999.0,-999.00000000,9,-999.00000000,9,   573.0,     -999.0,9,    34.3298,2,     -999.0,9,         -999.0,9,  -999.0,9,20140119,       0833
33RO20131223,       A16S,      78,          1,         15,         15,2,20140119,       0702,   -44.5001,   -30.5832,       5106,   720.7,   3.1328,  34.2390,2,  34.2377,2,    224.4,2,   224.9,2,    32.9,6,    31.2,6,    0.01,6,   2.146,6,   2.907,2,   1.492,2,   0.951,2,  2201.9,2, 2292.94,2,-999.0000,9, -999.00,   7.5956,2,       25,-999.000,9,   3.1329,2, -999.00,9,  -999.0,9,  -999.0,-999.00000000,9,-999.00000000,9,   720.7,     19.337,2,    34.3991,2,     -999.0,9,         -999.0,9,  -999.0,9,20140119,       0830
33RO20131223,       A16S,      78,          1,         14,         14,2,20140119,       0702,   -44.5001,   -30.5832,       5106,   872.7,   2.9642,  34.3506,2,  34.3481,2,    196.1,2,   197.7,2,    46.3,2,    33.0,2,    0.00,2,   2.266,2,-999.000,9,-999.000,9,-999.000,9,    2225,2, 2307.13,2,-999.0000,9, -999.00,   7.5657,2,       25,-999.000,9,   2.9652,2, -999.00,9,  -999.0,9,  -999.0,-999.00000000,9,-999.00000000,9,   872.7,     -999.0,9,    34.5101,2,     -999.0,9,         -999.0,9,  -999.0,9,20140119,       0826
33RO20131223,       A16S,      78,          1,         13,         13,2,20140119,       0702,   -44.5001,   -30.5832,       5106,  1047.7,   2.8300,  34.4511,2,  34.4502,2,    179.8,2,   181.1,2,    56.4,2,    33.7,2,    0.00,2,   2.313,2,-999.000,9,-999.000,9,-999.000,9,  -999.0,9, -999.00,9,-999.0000,9, -999.00,-999.0000,9,  -999.00,-999.000,9,   2.8299,2, -999.00,9,  -999.0,9,  -999.0,-999.00000000,9,-999.00000000,9,  1047.7,     -999.0,9,    34.6126,2,     -999.0,9,         -999.0,9,  -999.0,9,20140119,       0822
33RO20131223,       A16S,      78,          1,         12,         12,2,20140119,       0702,   -44.5001,   -30.5832,       5106,  1197.4,   2.7896,  34.5193,2,  34.5193,2,    176.1,2,   176.2,2,    60.5,2,    33.4,2,    0.00,2,   2.294,2,-999.000,9,-999.000,9,-999.000,9,    2245,2, 2323.76,2,-999.0000,9, -999.00,   7.5534,2,       25,-999.000,9,   2.7899,2, -999.00,9,  -999.0,9,  -999.0,-999.00000000,9,-999.00000000,9,  1197.4,     -999.0,9,    34.6821,2,     -999.0,9,         -999.0,9,  -999.0,9,20140119,       0818
33RO20131223,       A16S,      78,          1,         11,         11,2,20140119,       0702,   -44.5001,   -30.5832,       5106,  1347.7,   2.7315,  34.5888,2,  34.5890,2,      175,2,   175.7,2,    64.0,2,    32.7,2,    0.00,2,   2.249,2,   0.463,2,   0.227,2,   0.105,2,  2246.9,2, 2331.18,6,-999.0000,9, -999.00,   7.5613,2,       25,-999.000,9,   2.7318,2, -999.00,9,  -999.0,9,  -999.0,-999.00000000,9,-999.00000000,9,  1347.7,     22.132,2,    34.7521,6,     -999.0,9,         -999.0,9,  -999.0,9,20140119,       0815
33RO20131223,       A16S,      78,          1,         10,         10,2,20140119,       0702,   -44.5001,   -30.5832,       5106,  1547.6,   2.6427,  34.6564,2,  34.6559,2,    175.4,2,   176.2,2,    68.3,2,    31.8,2,    0.00,2,   2.191,2,   0.312,2,   0.150,2,   0.081,2,    2249,2, 2339.82,2,-999.0000,9, -999.00,    7.573,2,       25,-999.000,9,   2.6427,2, -999.00,9,  -999.0,9,  -999.0,-999.00000000,9,-999.00000000,9,  1547.6,     21.434,2,    34.8193,2,     -999.0,9,         -999.0,9,  -999.0,9,20140119,       0810
33RO20131223,       A16S,      78,          1,          9,          9,2,20140119,       0702,   -44.5001,   -30.5832,       5106,  1797.7,   2.6787,  34.7407,2,  34.7395,2,    189.3,2,   189.6,2,    64.1,2,    29.5,2,    0.00,2,   2.021,2,   0.208,2,   0.098,2,   0.057,2,  2238.1,2, 2337.32,2,-999.0000,9, -999.00,   7.6046,6,       25,-999.000,9,    2.679,2, -999.00,9,  -999.0,9,  -999.0,-999.00000000,9,-999.00000000,9,  1797.7,     19.993,2,    34.9033,2,     -999.0,9,         -999.0,9,  -999.0,9,20140119,       0805
33RO20131223,       A16S,      78,          1,          8,          8,2,20140119,       0702,   -44.5001,   -30.5832,       5106,  2098.2,   2.6736,  34.8073,2,  34.8066,2,    206.5,2,   206.9,2,    57.8,2,    26.9,2,    0.00,2,   1.841,2,-999.000,9,-999.000,9,-999.000,9,  -999.0,9, -999.00,9,-999.0000,9, -999.00,-999.0000,9,  -999.00,-999.000,9,   2.6737,2, -999.00,9,  -999.0,9,  -999.0,-999.00000000,9,-999.00000000,9,  2098.2,     -999.0,9,    34.9707,2,     -999.0,9,         -999.0,9,  -999.0,9,20140119,       0759
33RO20131223,       A16S,      78,          1,          7,          7,2,20140119,       0702,   -44.5001,   -30.5832,       5106,  2397.8,   2.3688,  34.8115,2,  34.8111,2,    212.2,2,   211.3,2,    63.4,2,    26.7,2,    0.00,2,   1.830,2,-999.000,9,-999.000,9,-999.000,9,  2225.3,2, 2340.92,2,-999.0000,9, -999.00,   7.6448,2,       25,-999.000,9,   2.3689,2, -999.00,9,  -999.0,9,  -999.0,-999.00000000,9,-999.00000000,9,  2397.8,     -999.0,9,    34.9753,2,     -999.0,9,         -999.0,9,  -999.0,9,20140119,       0753
33RO20131223,       A16S,      78,          1,          6,          6,2,20140119,       0702,   -44.5001,   -30.5832,       5106,  2746.7,   1.8550,  34.7686,2,  34.7684,2,    202.7,2,   204.4,2,    82.7,2,    29.0,2,    0.00,2,   1.983,2,-999.000,9,-999.000,9,-999.000,9,  -999.0,9, -999.00,9,-999.0000,9, -999.00,-999.0000,9,  -999.00,-999.000,9,   1.8567,2, -999.00,9,  -999.0,9,  -999.0,-999.00000000,9,-999.00000000,9,  2746.7,     -999.0,9,    34.9323,2,     -999.0,9,         -999.0,9,  -999.0,9,20140119,       0747
33RO20131223,       A16S,      78,          1,          5,          5,2,20140119,       0702,   -44.5001,   -30.5832,       5106,  3147.1,   1.3387,  34.7313,2,  34.7305,2,      202,2,   203.1,2,   100.7,2,    30.6,2,    0.00,2,   2.110,2,-999.000,9,-999.000,9,-999.000,9,  2254.8,2, 2357.93,6,-999.0000,9, -999.00,   7.5962,2,       25,-999.000,9,   1.3382,2, -999.00,9,  -999.0,9,  -999.0,-999.00000000,9,-999.00000000,9,  3147.1,     -999.0,9,    34.8943,2,     -999.0,9,         -999.0,9,  -999.0,9,20140119,       0739
33RO20131223,       A16S,      78,          1,          4,          4,2,20140119,       0702,   -44.5001,   -30.5832,       5106,  3648.2,   0.8207,  34.7016,2,  34.7005,2,    209.1,2,   209.3,2,   113.3,6,    31.6,6,    0.01,6,   2.180,6,-999.000,9,-999.000,9,-999.000,9,  -999.0,9, -999.00,9,-999.0000,9, -999.00,-999.0000,9,  -999.00,-999.000,9,   0.8207,2, -999.00,9,  -999.0,9,  -999.0,-999.00000000,9,-999.00000000,9,  3648.2,     -999.0,9,    34.8641,2,     -999.0,9,         -999.0,9,  -999.0,9,20140119,       0730
33RO20131223,       A16S,      78,          1,          3,          3,2,20140119,       0702,   -44.5001,   -30.5832,       5106,  4147.5,   0.4394,  34.6810,2,  34.6798,2,    216.3,2,   216.1,2,   122.0,6,    32.2,6,    0.01,6,   2.222,6,   0.383,2,   0.183,2,   0.101,2,  2263.3,2,  2362.8,2,-999.0000,9, -999.00,   7.5915,2,       25,-999.000,9,   0.4395,2, -999.00,9,  -999.0,9,  -999.0,-999.00000000,9,-999.00000000,9,  4147.5,     18.470,2,    34.8433,2,     -999.0,9,         -999.0,9,  -999.0,9,20140119,       0721
33RO20131223,       A16S,      78,          1,          2,          2,2,20140119,       0702,   -44.5001,   -30.5832,       5106,    4647,   0.2880,  34.6716,2,  34.6703,2,    221.3,2,   220.7,2,   125.5,6,    32.3,6,    0.00,6,   2.237,6,-999.000,9,-999.000,9,-999.000,9,  -999.0,9, -999.00,9,-999.0000,9, -999.00,-999.0000,9,  -999.00,-999.000,9,   0.2882,2, -999.00,9,  -999.0,9,  -999.0,-999.00000000,9,-999.00000000,9,  4647.0,     -999.0,9,    34.8337,2,     -999.0,9,         -999.0,9,  -999.0,9,20140119,       0712
33RO20131223,       A16S,      78,          1,          1,          1,2,20140119,       0702,   -44.5001,   -30.5832,       5106,    5201,   0.2485,  34.6663,2,  34.6661,2,    224.8,2,   224.5,2,   127.1,6,    32.4,6,    0.01,6,   2.242,6,   0.626,2,   0.298,2,   0.140,2,    2265,6, 2362.66,2,-999.0000,9, -999.00,   7.5897,2,       25,-999.000,9,   0.2484,2, -999.00,9,  -999.0,9,  -999.0,-999.00000000,9,-999.00000000,9,  5201.0,     18.312,2,    34.8295,2,     -999.0,9,         -999.0,9,  -999.0,9,20140119,       0702