BOTTLE,20220815CCHSIOAMB
EXPOCODE,SECT_ID,STNNBR,CASTNO,SAMPNO,BTLNBR,BTLNBR_FLAG_W,DATE,TIME,LATITUDE,LONGITUDE,DEPTH,CTDPRS,CTDTMP,CTDSAL,CTDSAL_FLAG_W,SALNTY,SALNTY_FLAG_W,CTDOXY,CTDOXY_FLAG_W,OXYGEN,OXYGEN_FLAG_W,SILCAT,SILCAT_FLAG_W,NITRAT,NITRAT_FLAG_W,NITRIT,NITRIT_FLAG_W,PHSPHT,PHSPHT_FLAG_W,CFC-11,CFC-11_FLAG_W,CFC-12,CFC-12_FLAG_W,SF6,SF6_FLAG_W,TCARBN,TCARBN_FLAG_W,ALKALI,ALKALI_FLAG_W,PCO2,PCO2_FLAG_W,PCO2TMP,PH_SWS,PH_SWS_FLAG_W,PH_TMP,TRITUM,TRITUM_FLAG_W,REFTMP,REFTMP_FLAG_W,DELC13,DELC13_FLAG_W,DELC14,DELC14_FLAG_W,C14ERR,DOC,DOC_FLAG_W,TDN,TDN_FLAG_W,CTDRAW,N2O,N2O_FLAG_W,SALTREF,SALTREF_FLAG_W,HELIUM,HELIUM_FLAG_W,DELO18,DELO18_FLAG_W,CCL4,CCL4_FLAG_W,BTL_DATE,BTL_TIME
,,,,,,,,,,,METERS,DBAR,ITS-90,PSS-78,,PSS-78,,UMOL/KG,,UMOL/KG,,UMOL/KG,,UMOL/KG,,UMOL/KG,,UMOL/KG,,PMOL/KG,,PMOL/KG,,FMOL/KG,,UMOL/KG,,UMOL/KG,,UATM,,DEG C,,,DEG C,TU,,DEG C,,/MILLE,,/MILLE,,/MILLE,UMOL/KG,,UMOL/KG,,DBAR,NMOL/KG,,G/KG,,NMOL/KG,,/MILLE,,PMOL/KG,,,
33RO20131223,       A16S,      64,          1,         24,         24,2,20140114,       0920,   -37.4994,   -26.2003,       4195,     4.9,  17.3009,  35.2109,2,  35.2120,2,    246.2,2,   246.2,2,     0.7,2,     0.0,2,    0.01,2,   0.169,2,   2.449,2,   1.472,2,   1.665,2,  2063.3,6, 2326.07,2,-999.0000,9, -999.00,   7.9689,2,       25,-999.000,9,  17.3008,2, -999.00,9,  -999.0,9,  -999.0,-999.00000000,9,-999.00000000,9,     4.9,      8.227,2,     35.378,2,     -999.0,9,         -999.0,9,  -999.0,9,20140114,       1056
33RO20131223,       A16S,      64,          1,         23,         23,2,20140114,       0920,   -37.4994,   -26.2003,       4195,    28.2,  16.8607,  35.2439,2,  35.2492,2,    248.8,2,   249.1,2,     0.7,2,     0.0,2,    0.01,2,   0.181,2,   2.503,2,   1.502,2,   1.691,2,    2066,2, 2330.93,6,-999.0000,9, -999.00,   7.9677,2,       25,-999.000,9,  16.8934,2, -999.00,9,  -999.0,9,  -999.0,-999.00000000,9,-999.00000000,9,    28.2,      8.359,2,    35.4154,2,     -999.0,9,         -999.0,9,  -999.0,9,20140114,       1054
33RO20131223,       A16S,      64,          1,         22,         22,2,20140114,       0920,   -37.4994,   -26.2003,       4195,    63.6,  15.0145,  35.2605,2,  35.2618,2,    247.8,2,   248.2,2,     0.9,2,     1.0,2,    0.18,2,   0.306,2,   2.687,6,   1.606,2,   1.759,6,  2089.6,2, 2328.62,2,-999.0000,9, -999.00,   7.9241,2,       25,-999.000,9,  15.0194,2, -999.00,9,  -999.0,9,  -999.0,-999.00000000,9,-999.00000000,9,    63.6,      9.080,6,    35.4281,2,     -999.0,9,         -999.0,9,  -999.0,9,20140114,       1052
33RO20131223,       A16S,      64,          1,         21,         21,2,20140114,       0920,   -37.4994,   -26.2003,       4195,   113.1,  13.3899,  35.2453,2,  35.2460,2,    240.4,2,   240.2,2,     1.9,2,     6.0,2,    0.01,2,   0.545,2,-999.000,9,-999.000,9,-999.000,9,  -999.0,9, -999.00,9,-999.0000,9, -999.00,-999.0000,9,  -999.00,-999.000,9,  13.3982,2, -999.00,9,  -999.0,9,  -999.0,-999.00000000,9,-999.00000000,9,   113.1,     -999.0,9,    35.4122,2,     -999.0,9,         -999.0,9,  -999.0,9,20140114,       1050
33RO20131223,       A16S,      64,          1,         20,         20,2,20140114,       0920,   -37.4994,   -26.2003,       4195,   182.6,  12.8011,  35.2098,2,  35.2081,2,    240.1,2,   239.8,2,     2.3,2,     7.3,2,    0.01,2,   0.630,2,-999.000,9,-999.000,9,-999.000,9,  2115.6,2, 2326.06,2,-999.0000,9, -999.00,   7.8621,2,       25,-999.000,9,  12.8004,2, -999.00,9,  -999.0,9,  -999.0,-999.00000000,9,-999.00000000,9,   182.6,     -999.0,9,    35.3741,2,     -999.0,9,         -999.0,9,  -999.0,9,20140114,       1047
33RO20131223,       A16S,      64,          1,         19,         19,2,20140114,       0920,   -37.4994,   -26.2003,       4195,   258.4,  11.9575,  35.0833,2,  35.0846,2,    227.7,2,   229.2,2,     3.1,2,    10.6,2,    0.01,2,   0.826,2,-999.000,9,-999.000,9,-999.000,9,  2126.2,2, 2316.17,2,-999.0000,9, -999.00,   7.8263,2,       25,-999.000,9,  11.9634,2, -999.00,9,  -999.0,9,  -999.0,-999.00000000,9,-999.00000000,9,   258.4,     -999.0,9,      35.25,2,     -999.0,9,         -999.0,9,  -999.0,9,20140114,       1045
33RO20131223,       A16S,      64,          1,         18,         18,2,20140114,       0920,   -37.4994,   -26.2003,       4195,   348.3,   9.8944,  34.7717,2,  34.7690,2,    211.8,2,   212.7,2,     5.3,2,    17.6,2,    0.01,2,   1.240,2,   3.269,2,   1.834,2,   1.425,2,  2145.5,2, 2299.05,2,-999.0000,9, -999.00,   7.7437,2,       25,-999.000,9,    9.888,2, -999.00,9,  -999.0,9,  -999.0,-999.00000000,9,-999.00000000,9,   348.3,     13.636,2,     34.933,2,     -999.0,9,         -999.0,9,  -999.0,9,20140114,       1042
33RO20131223,       A16S,      64,          1,         17,         17,2,20140114,       0920,   -37.4994,   -26.2003,       4195,   449.7,   7.4815,  34.4600,2,  34.4612,2,      225,2,   225.4,2,     7.9,2,    22.4,2,    0.01,2,   1.548,2,-999.000,9,-999.000,9,-999.000,9,    2155,2,  2286.2,2,-999.0000,9, -999.00,   7.6959,2,       25,-999.000,9,   7.4815,2, -999.00,9,  -999.0,9,  -999.0,-999.00000000,9,-999.00000000,9,   449.7,     -999.0,9,    34.6237,2,     -999.0,9,         -999.0,9,  -999.0,9,20140114,       1040
33RO20131223,       A16S,      64,          1,         16,         16,2,20140114,       0920,   -37.4994,   -26.2003,       4195,   574.4,   5.6207,  34.2668,2,  34.2690,2,    243.4,2,   244.4,2,    10.5,2,    25.2,2,    0.00,2,   1.737,2,-999.000,9,-999.000,9,-999.000,9,  2159.1,2, 2279.94,2,-999.0000,9, -999.00,   7.6713,2,       25,-999.000,9,   5.6278,2, -999.00,9,  -999.0,9,  -999.0,-999.00000000,9,-999.00000000,9,   574.4,     -999.0,9,    34.4305,6,     -999.0,9,         -999.0,9,  -999.0,9,20140114,       1036
33RO20131223,       A16S,      64,          1,         15,         15,2,20140114,       0920,   -37.4994,   -26.2003,       4195,   724.4,   4.5843,  34.2003,2,  34.1997,2,    252.3,2,   252.3,2,    14.5,2,    27.1,2,    0.00,2,   1.856,2,-999.000,9,-999.000,9,-999.000,9,  2165.1,2, 2279.25,2,-999.0000,9, -999.00,   7.6588,2,       25,-999.000,9,   4.5841,2, -999.00,9,  -999.0,9,  -999.0,-999.00000000,9,-999.00000000,9,   724.4,     -999.0,9,     34.361,2,     -999.0,9,         -999.0,9,  -999.0,9,20140114,       1033
33RO20131223,       A16S,      64,          1,         14,         14,2,20140114,       0920,   -37.4994,   -26.2003,       4195,   874.5,   3.8620,  34.2112,2,  34.2114,2,    240.7,2,   239.6,2,    22.7,2,    29.5,2,    0.00,2,   2.008,2,-999.000,9,-999.000,9,-999.000,9,  -999.0,9, -999.00,9,-999.0000,9, -999.00,-999.0000,9,  -999.00,-999.000,9,   3.8625,2, -999.00,9,  -999.0,9,  -999.0,-999.00000000,9,-999.00000000,9,   874.5,     -999.0,9,    34.3727,2,     -999.0,9,         -999.0,9,  -999.0,9,20140114,       1029
33RO20131223,       A16S,      64,          1,         13,         13,2,20140114,       0920,   -37.4994,   -26.2003,       4195,    1048,   3.2941,  34.2802,2,  34.2805,2,    216.9,2,     217,2,    35.5,2,    31.9,2,    0.00,2,   2.177,2,   2.329,2,   1.177,2,   0.593,2,  2205.3,2, 2299.38,6,-999.0000,9, -999.00,   7.5926,2,       25,-999.000,9,   3.2939,2, -999.00,9,  -999.0,9,  -999.0,-999.00000000,9,-999.00000000,9,  1048.0,     19.594,2,    34.4422,2,     -999.0,9,         -999.0,9,  -999.0,9,20140114,       1025
33RO20131223,       A16S,      64,          1,         12,         12,2,20140114,       0920,   -37.4994,   -26.2003,       4195,  1247.7,   3.0265,  34.3942,2,  34.3935,2,    192.8,2,   193.3,2,    49.3,2,    33.4,2,    0.00,2,   2.282,2,   1.305,2,   0.655,2,   0.337,2,  2226.4,2, 2314.17,2,-999.0000,9, -999.00,   7.5665,6,       25,-999.000,9,   3.0266,2, -999.00,9,  -999.0,9,  -999.0,-999.00000000,9,-999.00000000,9,  1247.7,     21.340,2,    34.5557,2,     -999.0,9,         -999.0,9,  -999.0,9,20140114,       1021
33RO20131223,       A16S,      64,          1,         11,         11,2,20140114,       0920,   -37.4994,   -26.2003,       4195,  1548.1,   2.8386,  34.5668,2,  34.5667,2,      179,2,     179,2,    61.2,2,    33.0,2,    0.00,2,   2.252,2,   0.475,2,   0.236,2,   0.080,2,  2242.1,6, 2328.79,2,-999.0000,9, -999.00,   7.5638,2,       25,-999.000,9,   2.8387,2, -999.00,9,  -999.0,9,  -999.0,-999.00000000,9,-999.00000000,9,  1548.1,     21.693,2,    34.7297,2,     -999.0,9,         -999.0,9,  -999.0,9,20140114,       1015
33RO20131223,       A16S,      64,          1,         10,         10,2,20140114,       0920,   -37.4994,   -26.2003,       4195,  1697.8,   2.8432,  34.6375,2,  34.6367,2,    181.1,2,   181.6,2,    61.8,2,    31.9,2,    0.00,2,   2.173,2,-999.000,9,-999.000,9,-999.000,9,  -999.0,9, -999.00,9,-999.0000,9, -999.00,-999.0000,9,  -999.00,-999.000,9,   2.8431,2, -999.00,9,  -999.0,9,  -999.0,-999.00000000,9,-999.00000000,9,  1697.8,     -999.0,9,    34.8001,2,     -999.0,9,         -999.0,9,  -999.0,9,20140114,       1011
33RO20131223,       A16S,      64,          1,          9,          9,2,20140114,       0920,   -37.4994,   -26.2003,       4195,    1898,   2.8680,  34.7190,2,  34.7180,2,      190,2,   189.7,2,    60.0,2,    30.1,2,    0.00,2,   2.042,2,-999.000,9,-999.000,9,-999.000,9,  2234.4,2, 2334.83,2,-999.0000,9, -999.00,    7.605,2,       25,-999.000,9,    2.868,2, -999.00,9,  -999.0,9,  -999.0,-999.00000000,9,-999.00000000,9,  1898.0,     -999.0,9,    34.8817,2,     -999.0,9,         -999.0,9,  -999.0,9,20140114,       1007
33RO20131223,       A16S,      64,          1,          8,          8,2,20140114,       0920,   -37.4994,   -26.2003,       4195,  2096.9,   3.0196,  34.8089,2,  34.8075,2,    210.5,2,   209.9,2,    48.5,2,    26.7,2,    0.00,2,   1.804,2,-999.000,9,-999.000,9,-999.000,9,  -999.0,9, -999.00,9,-999.0000,9, -999.00,-999.0000,9,  -999.00,-999.000,9,   3.0198,2, -999.00,9,  -999.0,9,  -999.0,-999.00000000,9,-999.00000000,9,  2096.9,     -999.0,9,    34.9716,2,     -999.0,9,         -999.0,9,  -999.0,9,20140114,       1002
33RO20131223,       A16S,      64,          1,          7,          7,2,20140114,       0920,   -37.4994,   -26.2003,       4195,  2297.8,   3.0167,  34.8533,2,  34.8533,2,    222.5,2,   222.4,2,    43.3,2,    24.8,2,    0.00,2,   1.675,2,-999.000,9,-999.000,9,-999.000,9,  2202.9,2, 2328.55,2,-999.0000,9, -999.00,    7.668,2,       25,-999.000,9,   3.0164,2, -999.00,9,  -999.0,9,  -999.0,-999.00000000,9,-999.00000000,9,  2297.8,     -999.0,9,    35.0176,2,     -999.0,9,         -999.0,9,  -999.0,9,20140114,       0958
33RO20131223,       A16S,      64,          1,          6,          6,2,20140114,       0920,   -37.4994,   -26.2003,       4195,  2546.8,   2.9215,  34.8792,2,  34.8793,2,      232,2,   231.5,2,    40.7,2,    23.4,2,    0.00,2,   1.587,2,-999.000,9,-999.000,9,-999.000,9,  -999.0,9, -999.00,9,-999.0000,9, -999.00,-999.0000,9,  -999.00,-999.000,9,   2.9214,2, -999.00,9,  -999.0,9,  -999.0,-999.00000000,9,-999.00000000,9,  2546.8,     -999.0,9,    35.0438,6,     -999.0,9,         -999.0,9,  -999.0,9,20140114,       0953
33RO20131223,       A16S,      64,          1,          5,          5,2,20140114,       0920,   -37.4994,   -26.2003,       4195,  2847.2,   2.7267,  34.8815,2,  34.8816,2,    235.9,2,   235.4,2,    43.0,2,    23.0,6,    0.00,6,   1.570,6,   0.078,2,   0.040,2,   0.000,2,  2196.3,2, 2330.86,2,-999.0000,9, -999.00,   7.6919,2,       25,-999.000,9,   2.7279,2, -999.00,9,  -999.0,9,  -999.0,-999.00000000,9,-999.00000000,9,  2847.2,     15.071,2,    35.0461,2,     -999.0,9,         -999.0,9,  -999.0,9,20140114,       0947
33RO20131223,       A16S,      64,          1,          4,          4,2,20140114,       0920,   -37.4994,   -26.2003,       4195,  3247.7,   2.2444,  34.8414,2,  34.8421,2,    229.9,2,   230.2,2,    58.8,2,    24.9,6,    0.00,6,   1.700,6,   0.065,2,   0.033,2,   0.029,2,  2211.1,2, 2340.71,6,-999.0000,9, -999.00,   7.6779,2,       25,-999.000,9,   2.2451,2, -999.00,9,  -999.0,9,  -999.0,-999.00000000,9,-999.00000000,9,  3247.7,     15.705,2,    35.0064,2,     -999.0,9,         -999.0,9,  -999.0,9,20140114,       0939
33RO20131223,       A16S,      64,          1,          3,          3,2,20140114,       0920,   -37.4994,   -26.2003,       4195,  3646.5,   1.4871,  34.7650,2,  34.7639,2,    218.6,2,   218.1,2,    89.8,2,    28.8,6,    0.00,6,   1.974,6,-999.000,9,-999.000,9,-999.000,9,  -999.0,9, -999.00,9,-999.0000,9, -999.00,-999.0000,9,  -999.00,-999.000,9,   1.4873,2, -999.00,9,  -999.0,9,  -999.0,-999.00000000,9,-999.00000000,9,  3646.5,     -999.0,9,    34.9278,2,     -999.0,9,         -999.0,9,  -999.0,9,20140114,       0932
33RO20131223,       A16S,      64,          1,          2,          2,2,20140114,       0920,   -37.4994,   -26.2003,       4195,  4046.8,   0.9006,  34.7160,2,  34.7162,2,    215.9,2,   215.4,2,   110.4,2,    31.0,6,    0.00,6,   2.136,6,   0.222,2,   0.105,2,   0.054,2,  2257.6,2, 2364.16,2,-999.0000,9, -999.00,   7.6118,2,       25,-999.000,9,   0.9005,2, -999.00,9,  -999.0,9,  -999.0,-999.00000000,9,-999.00000000,9,  4046.8,     17.996,2,    34.8799,2,     -999.0,9,         -999.0,9,  -999.0,9,20140114,       0924
33RO20131223,       A16S,      64,          1,          1,          1,2,20140114,       0920,   -37.4994,   -26.2003,       4195,    4248,   0.7591,  34.7032,2,  34.7037,2,      215,2,   215.6,2,   115.8,2,    31.6,6,    0.00,6,   2.176,6,   0.264,2,   0.125,2,   0.064,2,  2263.5,6, 2367.11,2,-999.0000,9, -999.00,   7.6073,2,       25,-999.000,9,   0.7589,2, -999.00,9,  -999.0,9,  -999.0,-999.00000000,9,-999.00000000,9,  4248.0,     18.039,2,    34.8674,2,     -999.0,9,         -999.0,9,  -999.0,9,20140114,       0920