BOTTLE,20220815CCHSIOAMB
EXPOCODE,SECT_ID,STNNBR,CASTNO,SAMPNO,BTLNBR,BTLNBR_FLAG_W,DATE,TIME,LATITUDE,LONGITUDE,DEPTH,CTDPRS,CTDTMP,CTDSAL,CTDSAL_FLAG_W,SALNTY,SALNTY_FLAG_W,CTDOXY,CTDOXY_FLAG_W,OXYGEN,OXYGEN_FLAG_W,SILCAT,SILCAT_FLAG_W,NITRAT,NITRAT_FLAG_W,NITRIT,NITRIT_FLAG_W,PHSPHT,PHSPHT_FLAG_W,CFC-11,CFC-11_FLAG_W,CFC-12,CFC-12_FLAG_W,SF6,SF6_FLAG_W,TCARBN,TCARBN_FLAG_W,ALKALI,ALKALI_FLAG_W,PCO2,PCO2_FLAG_W,PCO2TMP,PH_SWS,PH_SWS_FLAG_W,PH_TMP,TRITUM,TRITUM_FLAG_W,REFTMP,REFTMP_FLAG_W,DELC13,DELC13_FLAG_W,DELC14,DELC14_FLAG_W,C14ERR,DOC,DOC_FLAG_W,TDN,TDN_FLAG_W,CTDRAW,N2O,N2O_FLAG_W,SALTREF,SALTREF_FLAG_W,HELIUM,HELIUM_FLAG_W,DELO18,DELO18_FLAG_W,CCL4,CCL4_FLAG_W,BTL_DATE,BTL_TIME
,,,,,,,,,,,METERS,DBAR,ITS-90,PSS-78,,PSS-78,,UMOL/KG,,UMOL/KG,,UMOL/KG,,UMOL/KG,,UMOL/KG,,UMOL/KG,,PMOL/KG,,PMOL/KG,,FMOL/KG,,UMOL/KG,,UMOL/KG,,UATM,,DEG C,,,DEG C,TU,,DEG C,,/MILLE,,/MILLE,,/MILLE,UMOL/KG,,UMOL/KG,,DBAR,NMOL/KG,,G/KG,,NMOL/KG,,/MILLE,,PMOL/KG,,,
33RO20131223,       A16S,      21,          1,         24,         24,2,20140101,       1029,   -16.0005,   -25.0015,       5657,     3.1,  25.3686,  37.1602,2,  37.1597,2,    203.4,2,   204.8,2,     0.8,2,     0.0,2,    0.01,2,   0.088,2,   1.580,6,   1.043,6,   1.221,6,  2097.3,6, 2436.28,2,   319.85,2,      20,   8.0632,2,       25,-999.000,9,  25.3701,2,    1.31,2,    46.9,2,     2.2,   73.2809463,2,         4.38,2,     3.1,      6.268,6,     37.335,2,     -999.0,9,         -999.0,9,  -999.0,9,20140101,       1229
33RO20131223,       A16S,      21,          1,         23,         23,2,20140101,       1029,   -16.0005,   -25.0015,       5657,    17.7,  25.3358,  37.1575,2,  37.1574,2,    204.4,2,   204.9,2,     0.8,2,     0.0,2,    0.01,2,   0.089,2,   1.584,2,   1.041,2,   1.222,2,  2096.2,2, 2436.65,6,   319.91,2,      20,   8.0598,2,       25,-999.000,9,  25.3463,2,    1.28,2,    46.8,2,     2.7,  72.99785698,2,         4.46,2,    17.7,      6.247,2,    37.3326,2,     -999.0,9,         -999.0,9,  -999.0,9,20140101,       1227
33RO20131223,       A16S,      21,          1,         22,         22,2,20140101,       1029,   -16.0005,   -25.0015,       5657,    47.6,  24.9780,  37.1256,2,  37.1238,2,    206.9,2,   207.3,2,     0.9,2,     0.0,2,    0.01,2,   0.103,2,   1.618,2,   1.064,2,   1.248,2,  2097.1,2, 2434.84,2,   324.29,2,      20,   8.0577,2,       25,-999.000,9,  24.9718,2,    1.35,2,    45.7,2,     2.6,  72.43167834,2,         4.36,2,    47.6,      6.369,2,    37.2988,2,     -999.0,9,         -999.0,9,  -999.0,9,20140101,       1225
33RO20131223,       A16S,      21,          1,         21,         21,2,20140101,       1029,   -16.0005,   -25.0015,       5657,    72.7,  23.9112,  37.0542,2,  37.0515,2,    214.5,2,   214.2,2,     0.8,2,     0.0,2,    0.01,2,   0.155,2,   1.699,2,   1.114,2,   1.283,2,  2105.9,2, 2432.84,2,   339.48,2,      20,   8.0405,2,       25,-999.000,9,  23.9128,2,    1.40,2,    48.3,2,     2.7,  69.45924051,2,         4.15,2,    72.7,      6.556,2,    37.2262,2,     -999.0,9,         -999.0,9,  -999.0,9,20140101,       1224
33RO20131223,       A16S,      21,          1,         20,         20,2,20140101,       1029,   -16.0005,   -25.0015,       5657,    97.6,  22.9480,  36.9508,2,  36.9439,2,    217.7,2,   216.7,2,     0.9,2,     0.0,2,    0.01,2,   0.181,2,   1.755,2,   1.150,2,   1.332,2,  2107.7,2, 2428.01,2,   350.51,2,      20,   8.0296,2,       25,-999.000,9,  22.9567,2,    1.40,2,    42.2,2,     2.7,  68.25611091,2,         4.22,2,    97.6,      6.741,2,    37.1181,2,     -999.0,9,         -999.0,9,  -999.0,9,20140101,       1222
33RO20131223,       A16S,      21,          1,         19,         19,2,20140101,       1029,   -16.0005,   -25.0015,       5657,   147.7,  21.0668,  36.6381,2,  36.6402,2,    204.2,2,   204.8,2,     1.1,2,     0.6,2,    0.11,2,   0.293,2,   1.896,2,   1.238,2,   1.297,2,  2119.1,2,    2405,2,   396.51,6,      20,   7.9883,2,       25,-999.000,9,  21.0612,2,    1.20,2,    48.4,2,     2.5,   58.8646228,2,         5.01,2,   147.7,      7.680,2,     36.813,2,     -999.0,9,         -999.0,9,  -999.0,9,20140101,       1220
33RO20131223,       A16S,      21,          1,         18,         18,2,20140101,       1029,   -16.0005,   -25.0015,       5657,   218.5,  16.9025,  35.8252,2,  35.8324,2,    189.3,2,   189.1,2,     2.4,2,     6.6,2,    0.02,2,   0.612,2,   2.295,2,   1.451,2,   1.294,2,  2129.3,2,    2354,2,   511.66,2,      20,   7.8844,6,       25,-999.000,9,  16.9176,2,    0.88,2,    45.0,2,     2.6,  53.69824275,2,        10.12,2,   218.5,     10.528,2,    36.0014,2,     -999.0,9,         -999.0,9,  -999.0,9,20140101,       1218
33RO20131223,       A16S,      21,          1,         17,         17,2,20140101,       1029,   -16.0005,   -25.0015,       5657,   337.9,  11.5974,  35.0345,2,  35.0069,3,      146,2,   148.8,2,     8.2,2,    20.5,2,    0.01,2,   1.393,2,   2.452,6,   1.400,6,   0.803,6,  2174.5,6, 2305.88,2,   836.91,6,      20,   7.6888,2,       25,-999.000,9,  11.5932,2,    0.70,2,    28.0,2,     2.6,        46.27,2,        23.56,2,   337.9,     21.197,6,    35.1719,2,     -999.0,9,         -999.0,9,  -999.0,9,20140101,       1215
33RO20131223,       A16S,      21,          1,         16,         16,3,20140101,       1029,   -16.0005,   -25.0015,       5657,   408.6,   9.4406,  34.7808,2,  34.7761,2,    152.3,2,   151.9,2,    11.8,2,    24.5,2,    0.01,3,   1.641,3,   2.266,2,   1.257,2,   0.582,2,  2184.5,2, 2299.43,6,   929.27,2,      20,   7.6433,2,       25,-999.000,9,   9.4577,2,    0.77,2,    17.6,2,     2.2,        44.51,2,        26.95,2,   408.6,     21.697,2,    34.9401,2,     -999.0,9,         -999.0,9,  -999.0,9,20140101,       1212
33RO20131223,       A16S,      21,          1,         15,         15,3,20140101,       1029,   -16.0005,   -25.0015,       5657,   567.6,   5.8677,  34.4698,2,  34.4691,2,    167.5,2,   167.7,2,    22.6,2,    30.9,2,    0.01,3,   2.064,3,   1.342,2,   0.693,2,   0.202,2,  2202.3,2,  2298.2,2,  1066.34,2,      20,   7.5881,2,       25,-999.000,9,   5.8699,2,    0.85,2,   -53.2,2,     2.6,        42.88,2,        33.52,2,   567.6,     21.725,2,    34.6316,2,     -999.0,9,         -999.0,9,  -999.0,9,20140101,       1208
33RO20131223,       A16S,      21,          1,         14,         14,2,20140101,       1029,   -16.0005,   -25.0015,       5657,   717.9,   4.4713,  34.4112,2,  34.4120,2,    180.4,2,   179.6,2,    31.2,2,    32.4,2,    0.01,2,   2.186,2,   0.866,2,   0.436,2,   0.125,2,  2209.3,2, 2300.88,2,  1086.22,2,      20,   7.5823,2,       25,-999.000,9,   4.4721,2,    0.86,2,   -81.4,2,     2.2,        41.95,2,        34.97,2,   717.9,     20.919,2,    34.5742,2,     -999.0,9,         -999.0,9,  -999.0,9,20140101,       1205
33RO20131223,       A16S,      21,          1,         13,         13,2,20140101,       1029,   -16.0005,   -25.0015,       5657,   872.2,   4.0003,  34.4441,2,  34.4453,2,    178.8,2,   179.9,2,    36.4,2,    32.7,2,    0.01,2,   2.220,2,   0.527,2,   0.262,2,   0.087,2,    2216,2, 2307.27,2,  1098.49,2,      20,   7.5782,2,       25,-999.000,9,        4,2,    0.83,2,   -98.5,2,     3.5,        41.57,2,        35.21,2,   872.2,     21.000,2,    34.6078,6,     -999.0,9,         -999.0,9,  -999.0,9,20140101,       1201
33RO20131223,       A16S,      21,          1,         12,         12,2,20140101,       1029,   -16.0005,   -25.0015,       5657,  1047.3,   3.8325,  34.5436,2,  34.5469,2,    177.5,2,   177.3,2,    37.7,2,    31.9,2,    0.01,2,   2.169,2,   0.199,2,   0.101,2,   0.012,2,  2217.8,2, 2312.67,2,  1076.09,2,      20,   7.5853,2,       25,-999.000,9,   3.8334,2,    0.78,2,  -110.9,2,     2.2,  41.16446321,2,        34.46,2,  1047.3,     20.778,2,    34.7098,2,     -999.0,9,         -999.0,9,  -999.0,9,20140101,       1157
33RO20131223,       A16S,      21,          1,         11,         11,2,20140101,       1029,   -16.0005,   -25.0015,       5657,  1347.6,   3.9785,  34.7774,2,  34.7781,2,    194.2,2,   193.6,2,    29.9,2,    27.5,2,    0.01,2,   1.853,2,   0.030,2,   0.017,2,   0.000,2,    2204,2, 2323.68,2,  957.005,6,      20,   7.6367,2,       25,-999.000,9,   3.9784,2,    0.85,2,  -104.5,2,     2.3,    41.978345,2,        30.05,2,  1347.6,     18.389,2,    34.9421,2,     -999.0,9,         -999.0,9,  -999.0,9,20140101,       1151
33RO20131223,       A16S,      21,          1,         10,         10,2,20140101,       1029,   -16.0005,   -25.0015,       5657,  1747.9,   3.5453,  34.9094,2,  34.9113,2,    230.5,2,   230.3,2,    27.1,2,    22.5,2,    0.01,2,   1.504,2,   0.044,2,   0.026,2,   0.000,2,  2183.5,2, 2323.53,2,  810.245,2,      20,   7.7016,2,       25,-999.000,9,   3.5453,2,    0.97,2,   -92.2,2,     2.2,  42.38174727,2,        24.86,2,  1747.9,     14.926,2,    35.0759,2,     -999.0,9,         -999.0,9,  -999.0,9,20140101,       1143
33RO20131223,       A16S,      21,          1,          9,          9,2,20140101,       1029,   -16.0005,   -25.0015,       5657,  2147.9,   2.9920,  34.9069,2,  34.9071,2,    237.5,2,   238.4,2,    34.6,2,    22.2,2,    0.01,2,   1.479,2,   0.012,2,   0.011,2,   0.000,2,  2187.2,2, 2331.04,2,   790.47,2,      20,   7.7118,2,       25,-999.000,9,   2.9921,2,    0.96,2,  -104.7,2,     2.3,   41.9995767,2,        24.42,2,  2147.9,     14.180,2,    35.0717,2,     -999.0,9,         -999.0,9,  -999.0,9,20140101,       1136
33RO20131223,       A16S,      21,          1,          8,          8,3,20140101,       1029,   -16.0005,   -25.0015,       5657,  2598.5,   2.7673,  34.8980,2,  35.0276,4,    240.2,2,   227.9,4,    35.2,2,    21.2,2,    0.01,4,   1.429,4,   0.266,3,   0.158,3,   0.140,3,  2183.8,2, 2338.15,2,  734.505,2,      20,   7.7362,4,       25,-999.000,9,   2.7672,2,    0.97,2,   -95.8,2,     2.1,  41.67402398,2,        23.69,2,  2598.5,     14.561,3,    35.1928,2,     -999.0,9,         -999.0,9,  -999.0,9,20140101,       1127
33RO20131223,       A16S,      21,          1,          7,          7,2,20140101,       1029,   -16.0005,   -25.0015,       5657,    3099,   2.6188,  34.8937,2,  34.8946,2,    239.8,2,     241,2,    42.6,2,    22.4,2,    0.01,2,   1.504,2,   0.008,2,   0.009,2,   0.000,2,  2192.8,2, 2337.32,2,  793.185,2,      20,   7.7109,2,       25,-999.000,9,   2.6189,2,    0.98,2,  -109.6,2,     2.2,  41.19984937,2,        25.03,2,  3099.0,     13.965,2,    35.0592,2,     -999.0,9,         -999.0,9,  -999.0,9,20140101,       1118
33RO20131223,       A16S,      21,          1,          6,          6,2,20140101,       1029,   -16.0005,   -25.0015,       5657,  3596.6,   2.3742,  34.8787,2,  34.8785,2,    242.5,2,   242.6,2,    48.0,2,    22.7,2,    0.01,2,   1.530,2,   0.011,2,   0.012,2,   0.000,2,  2195.6,2, 2338.96,2,   800.66,2,      20,   7.7108,2,       25,-999.000,9,    2.374,2,    0.94,2,  -109.8,2,     2.0,  40.38596759,2,        25.36,2,  3596.6,     14.043,2,     35.043,2,     -999.0,9,         -999.0,9,  -999.0,9,20140101,       1109
33RO20131223,       A16S,      21,          1,          5,          5,2,20140101,       1029,   -16.0005,   -25.0015,       5657,  4098.1,   1.6278,  34.8073,2,  34.8069,2,    234.2,2,   235.9,2,    74.7,6,    26.1,6,    0.01,6,   1.770,6,   0.018,2,   0.014,2,   0.041,2,  2220.5,2, 2349.52,2,  877.915,2,      20,   7.6766,2,       25,-999.000,9,   1.6277,2,    0.81,2,  -135.5,2,     2.0,  39.86225235,2,        28.63,2,  4098.1,     15.380,2,     34.971,2,     -999.0,9,         -999.0,9,  -999.0,9,20140101,       1100
33RO20131223,       A16S,      21,          1,          4,          4,2,20140101,       1029,   -16.0005,   -25.0015,       5657,  4597.6,   1.0618,  34.7484,2,  34.7590,4,    226.9,2,   227.8,2,    96.9,6,    29.0,6,    0.01,6,   1.982,6,   0.047,6,   0.026,6,   0.041,6,    2242,2, 2359.16,2,   953.98,2,      20,   7.6054,4,       25,-999.000,9,   1.0609,2,    0.68,2,  -153.0,2,     1.8,  39.36684604,2,        31.51,2,  4597.6,     16.487,6,    34.9229,2,     -999.0,9,         -999.0,9,  -999.0,9,20140101,       1051
33RO20131223,       A16S,      21,          1,          3,          3,2,20140101,       1029,   -16.0005,   -25.0015,       5657,  5096.1,   0.8269,  34.7190,2,  34.7187,2,    222.2,2,   223.5,2,   108.1,6,    30.5,6,    0.01,6,   2.086,6,   0.100,2,   0.051,2,   0.029,2,  2252.3,2,  2360.3,2,  1000.82,2,      20,   7.6223,6,       25,-999.000,9,    0.827,2,    0.58,2,  -151.6,2,     2.2,  39.39515497,2,        33.01,2,  5096.1,     16.920,2,    34.8824,2,     -999.0,9,         -999.0,9,  -999.0,9,20140101,       1042
33RO20131223,       A16S,      21,          1,          2,          2,2,20140101,       1029,   -16.0005,   -25.0015,       5657,  5598.1,   0.7571,  34.7048,2,  34.7069,2,      222,2,   221.6,2,   113.3,6,    31.1,6,    0.01,6,   2.135,6,   0.160,2,   0.080,2,   0.050,2,  2255.9,2,  2367.7,6,  1016.81,6,      20,   7.6151,2,       25,-999.000,9,   0.7571,2,    0.60,2,  -158.6,2,     2.0,  39.28191925,2,        33.66,2,  5598.1,     17.358,2,    34.8705,6,     -999.0,9,         -999.0,9,  -999.0,9,20140101,       1033
33RO20131223,       A16S,      21,          1,          1,          1,2,20140101,       1029,   -16.0005,   -25.0015,       5657,    5745,   0.7598,  34.7030,2,  34.7028,2,    221.6,2,   221.6,2,   114.0,6,    31.2,6,    0.01,6,   2.143,6,   0.167,2,   0.083,2,   0.037,2,  2259.3,6, 2367.43,2,  1027.88,2,      20,   7.6381,4,       25,-999.000,9,   0.7599,2,    0.58,2,  -154.5,2,     1.8,  39.21822415,2,           34,2,  5745.0,     17.388,2,    34.8664,2,     -999.0,9,         -999.0,9,  -999.0,9,20140101,       1029