BOTTLE,20220815CCHSIOAMB
EXPOCODE,SECT_ID,STNNBR,CASTNO,SAMPNO,BTLNBR,BTLNBR_FLAG_W,DATE,TIME,LATITUDE,LONGITUDE,DEPTH,CTDPRS,CTDTMP,CTDSAL,CTDSAL_FLAG_W,SALNTY,SALNTY_FLAG_W,CTDOXY,CTDOXY_FLAG_W,OXYGEN,OXYGEN_FLAG_W,SILCAT,SILCAT_FLAG_W,NITRAT,NITRAT_FLAG_W,NITRIT,NITRIT_FLAG_W,PHSPHT,PHSPHT_FLAG_W,CFC-11,CFC-11_FLAG_W,CFC-12,CFC-12_FLAG_W,SF6,SF6_FLAG_W,TCARBN,TCARBN_FLAG_W,ALKALI,ALKALI_FLAG_W,PCO2,PCO2_FLAG_W,PCO2TMP,PH_SWS,PH_SWS_FLAG_W,PH_TMP,TRITUM,TRITUM_FLAG_W,REFTMP,REFTMP_FLAG_W,DELC13,DELC13_FLAG_W,DELC14,DELC14_FLAG_W,C14ERR,DOC,DOC_FLAG_W,TDN,TDN_FLAG_W,CTDRAW,N2O,N2O_FLAG_W,SALTREF,SALTREF_FLAG_W,HELIUM,HELIUM_FLAG_W,DELO18,DELO18_FLAG_W,CCL4,CCL4_FLAG_W,BTL_DATE,BTL_TIME
,,,,,,,,,,,METERS,DBAR,ITS-90,PSS-78,,PSS-78,,UMOL/KG,,UMOL/KG,,UMOL/KG,,UMOL/KG,,UMOL/KG,,UMOL/KG,,PMOL/KG,,PMOL/KG,,FMOL/KG,,UMOL/KG,,UMOL/KG,,UATM,,DEG C,,,DEG C,TU,,DEG C,,/MILLE,,/MILLE,,/MILLE,UMOL/KG,,UMOL/KG,,DBAR,NMOL/KG,,G/KG,,NMOL/KG,,/MILLE,,PMOL/KG,,,
33RO20131223,       A16S,      73,          1,         24,         24,2,20140117,       0516,   -41.9999,   -29.0328,       4437,     6.5,  14.6926,  34.8968,2,  34.8977,2,    252.8,2,   259.4,2,     0.5,6,     1.1,6,    0.05,6,   0.264,6,   2.756,6,   1.621,2,   1.784,6,  2065.7,6, 2315.96,2,      415,2,      20,   7.9536,2,       25,-999.000,9,  14.6913,2, -999.00,9,  -999.0,9,  -999.0,  60.55150017,2,         5.52,2,     6.5,      8.867,6,    35.0622,2,     -999.0,9,         -999.0,9,  -999.0,9,20140117,       0659
33RO20131223,       A16S,      73,          1,         23,         23,2,20140117,       0516,   -41.9999,   -29.0328,       4437,    28.1,  14.7058,  34.8965,2,  34.8987,2,    253.6,2,   259.8,2,     0.5,6,     1.1,6,    0.05,6,   0.260,6,   2.753,2,   1.621,2,   1.812,2,  2064.7,2, 2312.58,2,   416.17,2,      20,    7.954,2,       25,-999.000,9,  14.7041,2, -999.00,9,  -999.0,9,  -999.0,  59.41320794,2,         5.36,2,    28.1,      8.968,2,    35.0632,2,     -999.0,9,         -999.0,9,  -999.0,9,20140117,       0657
33RO20131223,       A16S,      73,          1,         22,         22,2,20140117,       0516,   -41.9999,   -29.0328,       4437,    67.6,  13.6712,  35.2325,2,  35.2353,2,    241.1,2,   243.2,2,     1.6,2,     4.9,2,    0.35,2,   0.483,2,   2.815,2,   1.656,2,   1.827,2,  2103.3,2, 2325.63,6,   485.36,2,      20,   7.8987,2,       25,-999.000,9,  13.6663,2, -999.00,9,  -999.0,9,  -999.0,  53.71445006,2,         8.47,2,    67.6,      9.326,2,    35.4015,2,     -999.0,9,         -999.0,9,  -999.0,9,20140117,       0655
33RO20131223,       A16S,      73,          1,         21,         21,2,20140117,       0516,   -41.9999,   -29.0328,       4437,     107,  12.5360,  35.1201,2,  35.1223,2,      245,2,   239.8,2,     2.1,2,     8.3,2,    0.01,2,   0.678,2,   3.022,2,   1.753,2,   1.788,2,  2114.5,2, 2316.63,2,   535.98,2,      20,   7.8612,6,       25,-999.000,9,   12.536,2, -999.00,9,  -999.0,9,  -999.0,  52.53237736,2,        11.05,2,   107.0,     10.270,2,    35.2879,2,     -999.0,9,         -999.0,9,  -999.0,9,20140117,       0652
33RO20131223,       A16S,      73,          1,         20,         20,2,20140117,       0516,   -41.9999,   -29.0328,       4437,   173.5,  11.0031,  34.8829,2,  34.8890,2,    238.9,2,   236.2,2,     3.1,2,    12.2,2,    0.01,2,   0.916,2,   3.197,2,   1.830,2,   1.705,2,  2126.5,2, 2309.24,2,   606.22,2,      20,   7.8121,2,       25,-999.000,9,  11.0052,2, -999.00,9,  -999.0,9,  -999.0,  48.35863919,2,        15.03,2,   173.5,     11.406,2,    35.0535,2,     -999.0,9,         -999.0,9,  -999.0,9,20140117,       0650
33RO20131223,       A16S,      73,          1,         19,         19,2,20140117,       0516,   -41.9999,   -29.0328,       4437,   257.9,   8.8837,  34.6079,2,  34.6092,2,    232.2,2,     229,2,     5.4,2,    18.2,2,    0.02,2,   1.279,2,   3.485,2,   1.940,2,   1.585,2,    2144,2, 2291.63,2,  724.415,2,      20,   7.7424,2,       25,-999.000,9,   8.8847,2, -999.00,9,  -999.0,9,  -999.0,  44.71756341,2,        21.01,2,   257.9,     13.485,2,    34.7724,2,     -999.0,9,         -999.0,9,  -999.0,9,20140117,       0647
33RO20131223,       A16S,      73,          1,         18,         18,2,20140117,       0516,   -41.9999,   -29.0328,       4437,   366.8,   6.0785,  34.2898,2,  34.2968,2,    241.5,2,   242.2,2,     8.6,2,    24.2,2,    0.01,2,   1.665,2,   3.933,2,   2.138,2,   1.708,2,  2158.6,2, 2278.18,2,  853.145,6,      20,    7.676,2,       25,-999.000,9,   6.0811,2, -999.00,9,  -999.0,9,  -999.0,  43.64494189,2,        26.94,2,   366.8,     14.848,2,    34.4585,2,     -999.0,9,         -999.0,9,  -999.0,9,20140117,       0644
33RO20131223,       A16S,      73,          1,         17,         17,2,20140117,       0516,   -41.9999,   -29.0328,       4437,   468.1,   4.7852,  34.1775,2,  34.1780,2,    260.3,2,   260.9,2,    11.0,2,    25.8,2,    0.01,2,   1.777,2,   4.197,2,   2.244,2,   1.767,2,  2157.8,2, 2276.68,2, 865.7325,6,      20,   7.6721,2,       25,-999.000,9,   4.7864,2, -999.00,9,  -999.0,9,  -999.0,  42.40449523,2,        28.41,2,   468.1,     14.575,2,    34.3391,2,     -999.0,9,         -999.0,9,  -999.0,9,20140117,       0641
33RO20131223,       A16S,      73,          1,         16,         16,2,20140117,       0516,   -41.9999,   -29.0328,       4437,   597.8,   4.2776,  34.1733,2,  34.1739,2,    256.6,2,   257.6,2,    14.9,2,    27.1,2,    0.01,2,   1.863,2,   4.012,2,   2.124,2,   1.554,2,    2166,2, 2282.92,2,   894.07,2,      20,   7.6572,2,       25,-999.000,9,   4.2789,2, -999.00,9,  -999.0,9,  -999.0,  41.84264586,2,        29.67,2,   597.8,     15.527,2,     34.335,2,     -999.0,9,         -999.0,9,  -999.0,9,20140117,       0638
33RO20131223,       A16S,      73,          1,         15,         15,2,20140117,       0516,   -41.9999,   -29.0328,       4437,   773.3,   3.7658,  34.2150,2,  34.2167,2,    240.6,2,   238.7,2,    23.5,2,    29.4,2,    0.01,2,   2.016,2,   3.310,2,   1.703,2,   1.107,2,  2184.2,2,  2291.9,2,   971.28,2,      20,   7.6275,2,       25,-999.000,9,    3.773,2, -999.00,9,  -999.0,9,  -999.0,   40.1643945,2,        31.93,2,   773.3,     17.479,2,    34.3781,2,     -999.0,9,         -999.0,9,  -999.0,9,20140117,       0634
33RO20131223,       A16S,      73,          1,         14,         14,2,20140117,       0516,   -41.9999,   -29.0328,       4437,   923.4,   3.1871,  34.2382,2,  34.2388,2,    225.1,2,   226.7,2,    32.4,2,    31.4,2,    0.00,2,   2.144,2,   2.902,2,   1.491,2,   0.926,2,  2200.6,2,  2293.1,2,  1044.67,2,      20,   7.5964,2,       25,-999.000,9,   3.1876,2, -999.00,9,  -999.0,9,  -999.0,  39.67551259,2,        34.04,2,   923.4,     19.160,2,    34.4002,2,     -999.0,9,         -999.0,9,  -999.0,9,20140117,       0630
33RO20131223,       A16S,      73,          1,         13,         13,2,20140117,       0516,   -41.9999,   -29.0328,       4437,  1021.8,   3.0658,  34.2926,2,  34.2931,2,    212.5,2,   211.7,2,    40.0,2,    32.5,2,    0.00,2,   2.218,2,   2.329,2,   1.186,2,   0.705,2,  2212.6,2, 2300.93,2,  1100.32,2,      20,   7.5909,3,       25,-999.000,9,   3.0656,2, -999.00,9,  -999.0,9,  -999.0,  39.34715906,2,        34.98,2,  1021.8,     20.403,2,    34.4548,2,     -999.0,9,         -999.0,9,  -999.0,9,20140117,       0627
33RO20131223,       A16S,      73,          1,         12,         12,2,20140117,       0516,   -41.9999,   -29.0328,       4437,  1197.6,   2.9019,  34.4056,2,  34.4066,2,    187.3,2,   188.6,2,    52.6,2,    33.8,2,    0.00,2,   2.304,2,   1.363,2,   0.673,2,   0.321,2,  2233.9,2, 2314.62,2,  1172.72,6,      20,   7.5559,2,       25,-999.000,9,    2.902,2, -999.00,9,  -999.0,9,  -999.0,  39.55146792,2,        36.28,2,  1197.6,     21.964,2,    34.5689,2,     -999.0,9,         -999.0,9,  -999.0,9,20140117,       0623
33RO20131223,       A16S,      73,          1,         11,         11,2,20140117,       0516,   -41.9999,   -29.0328,       4437,  1347.9,   2.8328,  34.4847,2,  34.4853,2,    178.5,2,   179.8,2,    58.6,2,    33.7,2,    0.00,2,   2.308,2,   0.858,2,   0.419,2,   0.218,2,  2242.1,2, 2321.68,2,  1182.42,2,      20,   7.5521,6,       25,-999.000,9,   2.8333,2, -999.00,9,  -999.0,9,  -999.0,  39.52957768,2,        36.36,2,  1347.9,     22.228,2,    34.6479,2,     -999.0,9,         -999.0,9,  -999.0,9,20140117,       0620
33RO20131223,       A16S,      73,          1,         10,         10,2,20140117,       0516,   -41.9999,   -29.0328,       4437,  1499.2,   2.8388,  34.5626,2,  34.5611,2,    177.3,2,   177.6,2,    60.7,2,    33.0,2,    0.00,2,   2.254,2,   0.526,6,   0.255,2,   0.119,6,  2242.6,2, 2328.02,6,  1160.31,2,      20,   7.5625,2,       25,-999.000,9,    2.838,2, -999.00,9,  -999.0,9,  -999.0,  39.49309396,2,        35.71,2,  1499.2,     21.739,6,     34.724,2,     -999.0,9,         -999.0,9,  -999.0,9,20140117,       0616
33RO20131223,       A16S,      73,          1,          9,          9,2,20140117,       0516,   -41.9999,   -29.0328,       4437,  1649.1,   2.8321,  34.6322,2,  34.6316,2,    178.6,2,     180,2,    61.6,2,    31.9,2,    0.00,2,   2.184,2,   0.355,2,   0.170,2,   0.095,2,  2242.1,6,  2342.9,4,  1127.19,2,      20,   7.5743,2,       25,-999.000,9,   2.8319,2, -999.00,9,  -999.0,9,  -999.0,   39.6463256,2,        34.51,2,  1649.1,     21.517,2,    34.7949,2,     -999.0,9,         -999.0,9,  -999.0,9,20140117,       0612
33RO20131223,       A16S,      73,          1,          8,          8,2,20140117,       0516,   -41.9999,   -29.0328,       4437,    1848,   2.8192,  34.7061,2,  34.7067,2,    186.3,2,   186.1,2,    61.4,2,    30.4,2,    0.00,2,   2.074,2,   0.248,2,   0.117,2,   0.071,2,  2237.7,2, 2333.86,2,   1073.8,2,      20,   7.5947,2,       25,-999.000,9,   2.8189,2, -999.00,9,  -999.0,9,  -999.0,  39.79955725,2,        33.05,2,  1848.0,     20.231,2,    34.8703,2,     -999.0,9,         -999.0,9,  -999.0,9,20140117,       0608
33RO20131223,       A16S,      73,          1,          7,          7,2,20140117,       0516,   -41.9999,   -29.0328,       4437,  2097.6,   2.7688,  34.7696,2,  34.7692,2,    195.6,2,   197.3,2,    60.2,2,    28.6,2,    0.00,2,   1.949,2,   0.184,2,   0.090,2,   0.057,2,  2230.6,2, 2334.15,2,  1008.22,2,      20,    7.619,2,       25,-999.000,9,   2.7687,2, -999.00,9,  -999.0,9,  -999.0,  40.22276846,2,        31.03,2,  2097.6,     19.097,2,    34.9331,2,     -999.0,9,         -999.0,9,  -999.0,9,20140117,       0602
33RO20131223,       A16S,      73,          1,          6,          6,2,20140117,       0516,   -41.9999,   -29.0328,       4437,  2499.3,   2.6171,  34.8197,2,  34.8203,2,    211.9,2,   212.3,2,    57.8,2,    26.5,2,    0.00,2,   1.805,2,   0.122,2,   0.056,2,   0.000,2,  2220.7,2, 2337.29,2,   936.31,2,      20,   7.6481,2,       25,-999.000,9,   2.6174,2, -999.00,9,  -999.0,9,  -999.0,  40.93784948,2,        29.14,2,  2499.3,     17.552,2,    34.9845,2,     -999.0,9,         -999.0,9,  -999.0,9,20140117,       0555
33RO20131223,       A16S,      73,          1,          5,          5,2,20140117,       0516,   -41.9999,   -29.0328,       4437,    2899,   2.1371,  34.7931,2,  34.7933,2,    209.6,2,   209.9,2,    72.5,6,    27.8,6,    0.00,6,   1.895,6,   0.111,2,   0.052,2,   0.034,2,  2232.2,2, 2345.67,2,   962.79,2,      20,   7.6385,2,       25,-999.000,9,   2.1376,2, -999.00,9,  -999.0,9,  -999.0,  40.14250427,2,        30.36,2,  2899.0,     17.643,2,    34.9573,2,     -999.0,9,         -999.0,9,  -999.0,9,20140117,       0547
33RO20131223,       A16S,      73,          1,          4,          4,2,20140117,       0516,   -41.9999,   -29.0328,       4437,  3297.8,   1.6008,  34.7628,2,  34.7623,2,    211.3,2,   211.2,2,    88.4,6,    29.1,6,    0.00,6,   1.991,6,   0.122,2,   0.057,2,   0.063,2,  2242.6,2, 2351.92,2,   997.63,2,      20,   7.6273,2,       25,-999.000,9,   1.6014,2, -999.00,9,  -999.0,9,  -999.0,  39.79955725,2,        31.69,2,  3297.8,     17.845,2,    34.9262,2,     -999.0,9,         -999.0,9,  -999.0,9,20140117,       0539
33RO20131223,       A16S,      73,          1,          3,          3,2,20140117,       0516,   -41.9999,   -29.0328,       4437,  3697.9,   1.0845,  34.7230,2,  34.7234,2,    210.6,2,   210.8,2,   105.8,6,    30.9,6,    0.00,6,   2.118,6,   0.195,2,   0.091,2,   0.034,2,  2254.3,2,  2362.4,6,   1048.1,2,      20,   7.6082,2,       25,-999.000,9,   1.0844,2, -999.00,9,  -999.0,9,  -999.0,  39.44201674,2,        33.46,2,  3697.9,     18.361,2,    34.8871,6,     -999.0,9,         -999.0,9,  -999.0,9,20140117,       0532
33RO20131223,       A16S,      73,          1,          2,          2,2,20140117,       0516,   -41.9999,   -29.0328,       4437,  4099.1,   0.5860,  34.6895,2,  34.6898,2,    214.8,2,   214.8,2,   119.8,6,    32.1,6,    0.01,6,   2.205,6,   0.352,2,   0.166,2,   0.064,2,  2263.2,2, 2362.33,2,  1077.25,6,      20,   7.5964,2,       25,-999.000,9,   0.5867,2, -999.00,9,  -999.0,9,  -999.0,  39.66821584,2,        34.75,2,  4099.1,     18.529,2,    34.8534,2,     -999.0,9,         -999.0,9,  -999.0,9,20140117,       0524
33RO20131223,       A16S,      73,          1,          1,          1,2,20140117,       0516,   -41.9999,   -29.0328,       4437,  4505.3,   0.4028,  34.6768,2,  34.6839,4,    218.9,2,   218.7,2,   125.3,6,    32.6,6,    0.01,6,   2.236,6,   0.455,6,   0.216,2,   0.103,6,  2268.6,6, 2365.11,2,     1090,2,      20,   7.5873,3,       25,-999.000,9,   0.4026,2, -999.00,9,  -999.0,9,  -999.0,  39.26689486,2,        35.13,2,  4505.3,     18.469,6,    34.8475,2,     -999.0,9,         -999.0,9,  -999.0,9,20140117,       0516