BOTTLE,20220815CCHSIOAMB
EXPOCODE,SECT_ID,STNNBR,CASTNO,SAMPNO,BTLNBR,BTLNBR_FLAG_W,DATE,TIME,LATITUDE,LONGITUDE,DEPTH,CTDPRS,CTDTMP,CTDSAL,CTDSAL_FLAG_W,SALNTY,SALNTY_FLAG_W,CTDOXY,CTDOXY_FLAG_W,OXYGEN,OXYGEN_FLAG_W,SILCAT,SILCAT_FLAG_W,NITRAT,NITRAT_FLAG_W,NITRIT,NITRIT_FLAG_W,PHSPHT,PHSPHT_FLAG_W,CFC-11,CFC-11_FLAG_W,CFC-12,CFC-12_FLAG_W,SF6,SF6_FLAG_W,TCARBN,TCARBN_FLAG_W,ALKALI,ALKALI_FLAG_W,PCO2,PCO2_FLAG_W,PCO2TMP,PH_SWS,PH_SWS_FLAG_W,PH_TMP,TRITUM,TRITUM_FLAG_W,REFTMP,REFTMP_FLAG_W,DELC13,DELC13_FLAG_W,DELC14,DELC14_FLAG_W,C14ERR,DOC,DOC_FLAG_W,TDN,TDN_FLAG_W,CTDRAW,N2O,N2O_FLAG_W,SALTREF,SALTREF_FLAG_W,HELIUM,HELIUM_FLAG_W,DELO18,DELO18_FLAG_W,CCL4,CCL4_FLAG_W,BTL_DATE,BTL_TIME
,,,,,,,,,,,METERS,DBAR,ITS-90,PSS-78,,PSS-78,,UMOL/KG,,UMOL/KG,,UMOL/KG,,UMOL/KG,,UMOL/KG,,UMOL/KG,,PMOL/KG,,PMOL/KG,,FMOL/KG,,UMOL/KG,,UMOL/KG,,UATM,,DEG C,,,DEG C,TU,,DEG C,,/MILLE,,/MILLE,,/MILLE,UMOL/KG,,UMOL/KG,,DBAR,NMOL/KG,,G/KG,,NMOL/KG,,/MILLE,,PMOL/KG,,,
33RO20131223,       A16S,      10,          1,         24,         24,2,20131229,       0023,   -10.4998,   -24.9998,       5427,     2.6,  26.3639,  36.4685,2,  36.4685,2,    200.3,2,   201.7,2,     0.9,2,     0.0,2,    0.00,2,   0.077,2,   1.624,3,   1.077,3,   1.317,3,  2059.5,6, 2390.04,6,-999.0000,9, -999.00,   6.7752,4,       25,-999.000,9,  26.3622,2, -999.00,9,  -999.0,9,  -999.0,-999.00000000,9,-999.00000000,9,     2.6,      6.558,3,    36.6405,2,     -999.0,9,         -999.0,9,  -999.0,9,20131229,       0220
33RO20131223,       A16S,      10,          1,         23,         23,2,20131229,       0023,   -10.4998,   -24.9998,       5427,    27.7,  26.3016,  36.4803,2,  36.5128,2,      201,2,   202.3,2,     0.9,2,     0.0,2,    0.00,2,   0.081,2,-999.000,5,-999.000,5,-999.000,5,  -999.0,9, -999.00,9,-999.0000,9, -999.00,-999.0000,9,  -999.00,-999.000,9,  26.2881,2, -999.00,9,  -999.0,9,  -999.0,-999.00000000,9,-999.00000000,9,    27.7,     -999.0,5,     36.685,2,     -999.0,9,         -999.0,9,  -999.0,9,20131229,       0218
33RO20131223,       A16S,      10,          1,         22,         22,2,20131229,       0023,   -10.4998,   -24.9998,       5427,    67.7,  25.5777,  36.6397,2,  36.6608,2,    203.9,2,   205.6,2,     0.9,2,     0.0,2,    0.00,2,   0.083,2,-999.000,5,-999.000,5,-999.000,5,  2071.9,2, 2404.93,2,-999.0000,9, -999.00,   8.0616,2,       25,-999.000,9,  25.5759,2, -999.00,9,  -999.0,9,  -999.0,-999.00000000,9,-999.00000000,9,    67.7,     -999.0,5,    36.8337,2,     -999.0,9,         -999.0,9,  -999.0,9,20131229,       0216
33RO20131223,       A16S,      10,          1,         21,         21,2,20131229,       0023,   -10.4998,   -24.9998,       5427,   107.9,  24.1420,  36.9837,2,  36.9829,2,    212.5,2,   211.5,2,     0.9,2,     0.0,2,    0.00,2,   0.114,2,-999.000,5,-999.000,5,-999.000,5,  2092.3,2, 2426.12,2,-999.0000,9, -999.00,   8.0557,2,       25,-999.000,9,  24.1532,2, -999.00,9,  -999.0,9,  -999.0,-999.00000000,9,-999.00000000,9,   107.9,     -999.0,5,    37.1573,2,     -999.0,9,         -999.0,9,  -999.0,9,20131229,       0214
33RO20131223,       A16S,      10,          1,         20,         20,2,20131229,       0023,   -10.4998,   -24.9998,       5427,   172.1,  17.2412,  35.9698,2,  35.9771,2,    149.1,2,   148.9,2,     3.7,2,    12.1,2,    0.03,2,   0.892,2,   2.220,3,   1.373,3,   1.261,3,  2163.6,2, 2356.53,2,-999.0000,9, -999.00,   7.8291,2,       25,-999.000,9,  17.2602,2, -999.00,9,  -999.0,9,  -999.0,-999.00000000,9,-999.00000000,9,   172.1,     17.738,3,    36.1467,2,     -999.0,9,         -999.0,9,  -999.0,9,20131229,       0212
33RO20131223,       A16S,      10,          1,         19,         19,2,20131229,       0023,   -10.4998,   -24.9998,       5427,   258.1,  11.3484,  35.0813,2,  35.0724,2,     93.4,2,    93.7,2,    10.5,2,    26.7,2,    0.00,2,   1.768,2,-999.000,5,-999.000,5,-999.000,5,  2211.3,2, 2311.77,2,-999.0000,9, -999.00,   7.5977,2,       25,-999.000,9,   11.346,2, -999.00,9,  -999.0,9,  -999.0,-999.00000000,9,-999.00000000,9,   258.1,     -999.0,5,    35.2378,2,     -999.0,9,         -999.0,9,  -999.0,9,20131229,       0209
33RO20131223,       A16S,      10,          1,         18,         18,2,20131229,       0023,   -10.4998,   -24.9998,       5427,   347.7,   8.8806,  34.7989,2,  34.7932,2,     93.6,2,    94.1,2,    15.3,2,    31.6,2,    0.00,2,   2.079,2,   1.114,3,   0.607,3,   0.219,3,    2223,2, 2298.65,2,-999.0000,9, -999.00,    7.534,6,       25,-999.000,9,   8.8792,2, -999.00,9,  -999.0,9,  -999.0,-999.00000000,9,-999.00000000,9,   347.7,     34.113,3,    34.9573,2,     -999.0,9,         -999.0,9,  -999.0,9,20131229,       0207
33RO20131223,       A16S,      10,          1,         17,         17,3,20131229,       0023,   -10.4998,   -24.9998,       5427,   467.9,   7.5644,  34.6676,2,  34.6705,2,     93.8,2,    95.5,2,    19.1,2,    34.4,2,    0.00,3,   2.274,3,-999.000,5,-999.000,5,-999.000,5,  2230.2,6,  2292.6,6,-999.0000,9, -999.00,   7.5017,2,       25,-999.000,9,    7.573,2, -999.00,9,  -999.0,9,  -999.0,-999.00000000,9,-999.00000000,9,   467.9,     -999.0,5,     34.834,2,     -999.0,9,         -999.0,9,  -999.0,9,20131229,       0203
33RO20131223,       A16S,      10,          1,         16,         16,2,20131229,       0023,   -10.4998,   -24.9998,       5427,   597.9,   6.4356,  34.5718,2,  34.5686,2,    108.4,2,   109.3,2,    22.9,2,    35.4,2,    0.00,2,   2.377,2,-999.000,5,-999.000,5,-999.000,5,  2229.5,2, 2295.96,2,-999.0000,9, -999.00,   7.4995,2,       25,-999.000,9,   6.4369,2, -999.00,9,  -999.0,9,  -999.0,-999.00000000,9,-999.00000000,9,   597.9,     -999.0,5,    34.7316,6,     -999.0,9,         -999.0,9,  -999.0,9,20131229,       0200
33RO20131223,       A16S,      10,          1,         15,         15,2,20131229,       0023,   -10.4998,   -24.9998,       5427,     773,   5.0035,  34.4888,2,  34.4893,2,    136.5,2,   135.9,2,    29.8,2,    35.2,2,    0.00,2,   2.430,2,-999.000,5,-999.000,5,-999.000,5,  -999.0,9, -999.00,9,-999.0000,9, -999.00,-999.0000,9,  -999.00,-999.000,9,   5.0019,2, -999.00,9,  -999.0,9,  -999.0,-999.00000000,9,-999.00000000,9,   773.0,     -999.0,5,    34.6519,2,     -999.0,9,         -999.0,9,  -999.0,9,20131229,       0156
33RO20131223,       A16S,      10,          1,         14,         14,2,20131229,       0023,   -10.4998,   -24.9998,       5427,   922.6,   4.3220,  34.5079,2,  34.5095,2,      154,2,   153.2,2,    34.0,2,    34.1,2,    0.00,2,   2.369,2,   0.106,3,   0.058,3,   0.000,3,  2223.5,2, 2305.29,2,-999.0000,9, -999.00,   7.5464,2,       25,-999.000,9,   4.3223,2, -999.00,9,  -999.0,9,  -999.0,-999.00000000,9,-999.00000000,9,   922.6,     24.841,3,    34.6722,2,     -999.0,9,         -999.0,9,  -999.0,9,20131229,       0152
33RO20131223,       A16S,      10,          1,         13,         13,2,20131229,       0023,   -10.4998,   -24.9998,       5427,  1098.3,   4.0329,  34.6044,2,  34.6048,2,    171.3,2,   170.5,2,    34.7,2,    31.6,2,    0.00,2,   2.217,2,   0.090,3,   0.049,3,   0.031,3,  2218.4,2, 2311.01,2,-999.0000,9, -999.00,    7.538,4,       25,-999.000,9,   4.0333,2, -999.00,9,  -999.0,9,  -999.0,-999.00000000,9,-999.00000000,9,  1098.3,     22.608,3,     34.768,2,     -999.0,9,         -999.0,9,  -999.0,9,20131229,       0148
33RO20131223,       A16S,      10,          1,         12,         12,2,20131229,       0023,   -10.4998,   -24.9998,       5427,  1248.1,   4.1088,  34.7484,2,  34.7492,2,    184.2,2,   183.2,2,    30.0,2,    28.6,2,    0.00,2,   1.988,2,-999.000,5,-999.000,5,-999.000,5,    2205,2, 2314.25,2,-999.0000,9, -999.00,   7.6175,2,       25,-999.000,9,    4.109,2, -999.00,9,  -999.0,9,  -999.0,-999.00000000,9,-999.00000000,9,  1248.1,     -999.0,5,    34.9131,2,     -999.0,9,         -999.0,9,  -999.0,9,20131229,       0145
33RO20131223,       A16S,      10,          1,         11,         11,2,20131229,       0023,   -10.4998,   -24.9998,       5427,  1398.5,   4.1687,  34.8652,2,  34.8662,2,    204.4,2,   203.3,2,    24.7,2,    25.3,2,    0.00,2,   1.729,2,-999.000,5,-999.000,5,-999.000,5,  -999.0,9, -999.00,9,-999.0000,9, -999.00,-999.0000,9,  -999.00,-999.000,9,   4.1688,2, -999.00,9,  -999.0,9,  -999.0,-999.00000000,9,-999.00000000,9,  1398.5,     -999.0,5,    35.0306,2,     -999.0,9,         -999.0,9,  -999.0,9,20131229,       0141
33RO20131223,       A16S,      10,          1,         10,         10,2,20131229,       0023,   -10.4998,   -24.9998,       5427,    1589,   3.9749,  34.9398,2,  34.9390,2,    229.3,2,   228.2,2,    21.3,2,    22.0,2,    0.00,2,   1.484,2,   0.171,3,   0.095,3,   0.000,3,  2176.1,2, 2316.73,2,-999.0000,9, -999.00,   7.7024,2,       25,-999.000,9,   3.9744,2, -999.00,9,  -999.0,9,  -999.0,-999.00000000,9,-999.00000000,9,  1589.0,     16.053,3,    35.1038,2,     -999.0,9,         -999.0,9,  -999.0,9,20131229,       0137
33RO20131223,       A16S,      10,          1,          9,          9,2,20131229,       0023,   -10.4998,   -24.9998,       5427,  1947.5,   3.4212,  34.9560,2,  34.9579,2,    248.7,2,   248.9,2,    22.4,2,    19.9,2,    0.00,2,   1.337,2,-999.000,5,-999.000,5,-999.000,5,  2169.5,2, 2320.53,2,-999.0000,9, -999.00,   7.7265,2,       25,-999.000,9,   3.4206,2, -999.00,9,  -999.0,9,  -999.0,-999.00000000,9,-999.00000000,9,  1947.5,     -999.0,5,    35.1228,2,     -999.0,9,         -999.0,9,  -999.0,9,20131229,       0130
33RO20131223,       A16S,      10,          1,          8,          8,2,20131229,       0023,   -10.4998,   -24.9998,       5427,  2398.4,   3.0028,  34.9327,2,  34.9314,2,    247.1,2,   248.1,2,    29.6,2,    20.6,2,    0.00,2,   1.391,2,-999.000,5,-999.000,5,-999.000,5,  -999.0,9, -999.00,9,-999.0000,9, -999.00,-999.0000,9,  -999.00,-999.000,9,   3.0019,2, -999.00,9,  -999.0,9,  -999.0,-999.00000000,9,-999.00000000,9,  2398.4,     -999.0,5,    35.0961,2,     -999.0,9,         -999.0,9,  -999.0,9,20131229,       0121
33RO20131223,       A16S,      10,          1,          7,          7,2,20131229,       0023,   -10.4998,   -24.9998,       5427,  2948.3,   2.7255,  34.9152,2,  34.9176,2,    248.2,2,   247.7,2,    34.9,2,    21.0,2,    0.00,2,   1.420,2,-999.000,5,-999.000,5,-999.000,5,  2181.2,2, 2331.37,2,-999.0000,9, -999.00,   7.7213,2,       25,-999.000,9,   2.7254,2, -999.00,9,  -999.0,9,  -999.0,-999.00000000,9,-999.00000000,9,  2948.3,     -999.0,5,    35.0823,2,     -999.0,9,         -999.0,9,  -999.0,9,20131229,       0111
33RO20131223,       A16S,      10,          1,          6,          6,2,20131229,       0023,   -10.4998,   -24.9998,       5427,  3448.1,   2.5221,  34.9056,2,  34.9052,2,    253.2,2,     252,2,    36.6,2,    20.8,2,    0.00,2,   1.409,2,-999.000,5,-999.000,5,-999.000,5,  2180.9,2, 2331.88,2,-999.0000,9, -999.00,   7.9974,4,       25,-999.000,9,   2.5225,2, -999.00,9,  -999.0,9,  -999.0,-999.00000000,9,-999.00000000,9,  3448.1,     -999.0,5,    35.0698,2,     -999.0,9,         -999.0,9,  -999.0,9,20131229,       0102
33RO20131223,       A16S,      10,          1,          5,          5,2,20131229,       0023,   -10.4998,   -24.9998,       5427,    3948,   1.9508,  34.8482,2,  34.8472,2,    244.3,2,   244.8,2,    58.1,2,    23.5,2,    0.00,2,   1.620,2,   0.052,3,   0.029,3,   0.000,3,    2203,2, 2346.75,6,-999.0000,9, -999.00,   7.6842,3,       25,-999.000,9,   1.9505,2, -999.00,9,  -999.0,9,  -999.0,-999.00000000,9,-999.00000000,9,  3948.0,     15.334,3,    35.0115,2,     -999.0,9,         -999.0,9,  -999.0,9,20131229,       0053
33RO20131223,       A16S,      10,          1,          4,          4,2,20131229,       0023,   -10.4998,   -24.9998,       5427,  4440.8,   1.1059,  34.7561,2,  34.7580,2,      228,2,   228.8,2,    94.4,6,    28.5,6,    0.00,6,   1.999,6,-999.000,5,-999.000,5,-999.000,5,  -999.0,9, -999.00,9,-999.0000,9, -999.00,-999.0000,9,  -999.00,-999.000,9,   1.1057,2, -999.00,9,  -999.0,9,  -999.0,-999.00000000,9,-999.00000000,9,  4440.8,     -999.0,5,    34.9219,2,     -999.0,9,         -999.0,9,  -999.0,9,20131229,       0043
33RO20131223,       A16S,      10,          1,          3,          3,2,20131229,       0023,   -10.4998,   -24.9998,       5427,  4847.3,   0.8651,  34.7275,2,  34.7301,2,    223.9,2,   224.1,2,   105.5,6,    30.0,6,    0.00,6,   2.112,6,-999.000,5,-999.000,5,-999.000,5,  -999.0,5, 2368.24,2,-999.0000,9, -999.00,   7.6373,2,       25,-999.000,9,   0.8652,2, -999.00,9,  -999.0,9,  -999.0,-999.00000000,9,-999.00000000,9,  4847.3,     -999.0,5,    34.8938,2,     -999.0,9,         -999.0,9,  -999.0,9,20131229,       0036
33RO20131223,       A16S,      10,          1,          2,          2,2,20131229,       0023,   -10.4998,   -24.9998,       5427,  5248.1,   0.7880,  34.7144,2,  34.7165,2,      222,2,   222.1,2,   110.4,6,    30.6,6,    0.00,6,   2.154,6,-999.000,5,-999.000,5,-999.000,5,  -999.0,9, -999.00,9,-999.0000,9, -999.00,-999.0000,9,  -999.00,-999.000,9,   0.7883,2, -999.00,9,  -999.0,9,  -999.0,-999.00000000,9,-999.00000000,9,  5248.1,     -999.0,5,    34.8802,2,     -999.0,9,         -999.0,9,  -999.0,9,20131229,       0028
33RO20131223,       A16S,      10,          1,          1,          1,2,20131229,       0023,   -10.4998,   -24.9998,       5427,  5494.9,   0.7833,  34.7100,2,  34.7118,2,    222.7,2,   222.5,2,   112.0,6,    30.8,6,    0.00,6,   2.167,6,   0.080,3,   0.040,3,   0.000,3,  2259.6,6, 2361.54,2,-999.0000,9, -999.00,   7.6229,2,       25,-999.000,9,   0.7834,2, -999.00,9,  -999.0,9,  -999.0,-999.00000000,9,-999.00000000,9,  5494.9,     18.347,3,    34.8755,2,     -999.0,9,         -999.0,9,  -999.0,9,20131229,       0023