BOTTLE,20220815CCHSIOAMB
EXPOCODE,SECT_ID,STNNBR,CASTNO,SAMPNO,BTLNBR,BTLNBR_FLAG_W,DATE,TIME,LATITUDE,LONGITUDE,DEPTH,CTDPRS,CTDTMP,CTDSAL,CTDSAL_FLAG_W,SALNTY,SALNTY_FLAG_W,CTDOXY,CTDOXY_FLAG_W,OXYGEN,OXYGEN_FLAG_W,SILCAT,SILCAT_FLAG_W,NITRAT,NITRAT_FLAG_W,NITRIT,NITRIT_FLAG_W,PHSPHT,PHSPHT_FLAG_W,CFC-11,CFC-11_FLAG_W,CFC-12,CFC-12_FLAG_W,SF6,SF6_FLAG_W,TCARBN,TCARBN_FLAG_W,ALKALI,ALKALI_FLAG_W,PCO2,PCO2_FLAG_W,PCO2TMP,PH_SWS,PH_SWS_FLAG_W,PH_TMP,TRITUM,TRITUM_FLAG_W,REFTMP,REFTMP_FLAG_W,DELC13,DELC13_FLAG_W,DELC14,DELC14_FLAG_W,C14ERR,DOC,DOC_FLAG_W,TDN,TDN_FLAG_W,CTDRAW,N2O,N2O_FLAG_W,SALTREF,SALTREF_FLAG_W,HELIUM,HELIUM_FLAG_W,DELO18,DELO18_FLAG_W,CCL4,CCL4_FLAG_W,BTL_DATE,BTL_TIME
,,,,,,,,,,,METERS,DBAR,ITS-90,PSS-78,,PSS-78,,UMOL/KG,,UMOL/KG,,UMOL/KG,,UMOL/KG,,UMOL/KG,,UMOL/KG,,PMOL/KG,,PMOL/KG,,FMOL/KG,,UMOL/KG,,UMOL/KG,,UATM,,DEG C,,,DEG C,TU,,DEG C,,/MILLE,,/MILLE,,/MILLE,UMOL/KG,,UMOL/KG,,DBAR,NMOL/KG,,G/KG,,NMOL/KG,,/MILLE,,PMOL/KG,,,
33RO20131223,       A16S,       9,          2,         24,         24,2,20131228,       1748,   -10.0004,   -25.0001,       5406,     2.9,  26.3371,  36.5662,2,  36.5661,2,    200.9,2,     202,2,     0.8,2,     0.0,2,    0.00,2,   0.058,2,   1.630,3,   1.090,3,   1.272,3,  2061.4,6, 2397.61,2,    310.5,2,      20,   8.0659,2,       25,-999.000,9,  26.3358,2,    1.35,2,    42.0,2,     2.1,  77.14679841,2,         5.17,2,     2.9,      6.577,3,    36.7385,2,     -999.0,9,         -999.0,9,  -999.0,9,20131228,       1945
33RO20131223,       A16S,       9,          2,         23,         23,2,20131228,       1748,   -10.0004,   -25.0001,       5406,    17.3,  26.3271,  36.5650,2,  36.5676,2,    201.4,2,   201.9,2,     0.8,2,     0.0,2,    0.00,2,   0.058,2,   1.636,3,   1.086,3,   1.312,3,  2062.2,2, 2398.03,2,  311.105,6,      20,   8.0668,2,       25,-999.000,9,  26.3249,2,    1.30,2,    48.9,2,     2.8,  75.51809987,2,         4.49,2,    17.3,      6.574,3,      36.74,2,     -999.0,9,         -999.0,9,  -999.0,9,20131228,       1944
33RO20131223,       A16S,       9,          2,         22,         22,2,20131228,       1748,   -10.0004,   -25.0001,       5406,    47.8,  26.2400,  36.5631,2,  36.5664,2,    201.8,2,   202.2,2,     0.8,2,     0.0,2,    0.00,2,   0.062,2,   1.637,3,   1.091,3,   1.331,3,  2062.3,2, 2397.42,2,   312.06,2,      20,   8.0673,2,       25,-999.000,9,  26.2388,2,    1.34,2,    53.0,2,     3.3,  74.31427922,2,         5.18,2,    47.8,      6.663,3,    36.7388,2,     -999.0,9,         -999.0,9,  -999.0,9,20131228,       1942
33RO20131223,       A16S,       9,          2,         21,         21,2,20131228,       1748,   -10.0004,   -25.0001,       5406,    72.2,  25.8635,  36.5587,2,  36.5704,2,    203.4,2,   204.8,2,     0.8,2,     0.0,2,    0.00,2,   0.069,2,   1.666,3,   1.107,3,   1.272,3,  2061.9,2, 2398.18,2,    311.9,2,      20,   8.0795,3,       25,-999.000,9,    25.86,2,    1.30,2,    64.1,2,     3.6,  69.56980957,2,         4.86,2,    72.2,      6.729,3,    36.7429,2,     -999.0,9,         -999.0,9,  -999.0,9,20131228,       1940
33RO20131223,       A16S,       9,          2,         20,         20,2,20131228,       1748,   -10.0004,   -25.0001,       5406,    97.3,  24.1824,  36.7903,2,  36.7886,2,    212.5,2,   211.8,2,     0.9,2,     0.0,2,    0.00,2,   0.119,2,   1.823,3,   1.200,3,   1.332,3,    2087,2, 2413.15,2,   334.05,2,      20,   8.0479,2,       25,-999.000,9,  24.1738,2,    1.26,2,    54.3,2,     2.4,  66.80810336,2,         4.56,2,    97.3,      7.542,3,     36.962,2,     -999.0,9,         -999.0,9,  -999.0,9,20131228,       1938
33RO20131223,       A16S,       9,          2,         19,         19,2,20131228,       1748,   -10.0004,   -25.0001,       5406,   147.6,  18.1754,  36.1006,2,  36.0883,2,    157.8,2,   154.4,2,     3.2,2,    10.2,2,    0.07,2,   0.791,2,   2.199,3,   1.370,3,   1.242,3,  2156.7,2, 2368.27,2,   557.15,2,      20,-999.0000,5,       25,-999.000,9,  18.1729,2,    0.56,2,    48.2,2,     2.9,  56.51897739,2,        14.23,2,   147.6,     16.154,3,    36.2585,2,     -999.0,9,         -999.0,9,  -999.0,9,20131228,       1936
33RO20131223,       A16S,       9,          2,         18,         18,2,20131228,       1748,   -10.0004,   -25.0001,       5406,   217.3,  12.0495,  35.1884,2,  35.1917,2,       95,2,    95.8,2,     9.6,2,    25.2,2,    0.00,2,   1.671,2,   1.875,3,   1.079,3,   0.555,3,  2206.7,2, 2314.03,2,   995.07,2,      20,   7.6236,2,       25,-999.000,9,   12.153,2,    0.38,2,    20.3,2,     2.2,  50.81853252,2,        28.72,2,   217.3,     31.971,3,    35.3576,2,     -999.0,9,         -999.0,9,  -999.0,9,20131228,       1934
33RO20131223,       A16S,       9,          2,         17,         17,2,20131228,       1748,   -10.0004,   -25.0001,       5406,   327.3,   8.9782,  34.8092,2,  34.8071,2,     90.4,2,    90.1,2,    15.1,2,    31.5,2,    0.00,2,   2.077,2,   1.158,3,   0.635,3,   0.209,3,    2224,2, 2299.79,6,   1233.6,2,      20,   7.5315,2,       25,-999.000,9,   8.9727,2,    0.42,2,   -18.1,2,     3.7,  47.85146866,2,        34.56,2,   327.3,     34.740,3,    34.9713,2,     -999.0,9,         -999.0,9,  -999.0,9,20131228,       1931
33RO20131223,       A16S,       9,          2,         16,         16,2,20131228,       1748,   -10.0004,   -25.0001,       5406,     408,   8.1220,  34.7194,2,  34.7218,2,     93.5,2,    93.2,2,    17.4,2,    33.2,2,    0.00,2,   2.185,2,   0.878,3,   0.478,3,   0.127,3,  2226.7,2, 2297.69,2,  1282.08,2,      20,   7.5138,2,       25,-999.000,9,    8.116,2,    0.57,2,   -40.3,2,     2.0,  45.56420942,2,        35.74,2,   408.0,     33.596,3,    34.8855,2,     -999.0,9,         -999.0,9,  -999.0,9,20131228,       1928
33RO20131223,       A16S,       9,          2,         15,         15,2,20131228,       1748,   -10.0004,   -25.0001,       5406,   567.4,   6.4072,  34.5673,2,  34.5649,2,    110.1,2,     110,2,    22.8,2,    35.1,2,    0.00,2,   2.358,2,   0.431,3,   0.229,3,   0.059,3,  2228.7,2,  2296.5,2,  1315.91,2,      20,    7.503,2,       25,-999.000,9,   6.4061,2,    0.46,3,   -68.6,2,     2.6,  43.57436468,2,        37.65,2,   567.4,     30.530,3,    34.7279,2,     -999.0,9,         -999.0,9,  -999.0,9,20131228,       1925
33RO20131223,       A16S,       9,          2,         14,         14,2,20131228,       1748,   -10.0004,   -25.0001,       5406,   717.6,   5.2260,  34.4872,2,  34.4883,2,    136.8,2,   136.3,2,    27.9,2,    34.8,2,    0.00,2,   2.387,2,   0.345,3,   0.184,3,   0.048,3,    2223,6, 2297.92,2,  1242.17,2,      20,   7.5272,2,       25,-999.000,9,   5.2245,2,    0.73,2,   -94.0,2,     2.0,  42.55465777,2,        37.11,2,   717.6,     27.215,3,     34.651,2,     -999.0,9,         -999.0,9,  -999.0,9,20131228,       1921
33RO20131223,       A16S,       9,          2,         13,         13,2,20131228,       1748,   -10.0004,   -25.0001,       5406,   872.7,   4.4236,  34.4855,2,  34.4882,2,      154,2,   153.6,2,    33.2,2,    34.0,2,    0.00,2,   2.370,2,   0.215,3,   0.113,3,   0.038,3,  2222.4,2, 2304.51,2,  1184.69,2,      20,   7.5485,2,       25,-999.000,9,   4.4222,2,    0.78,2,  -108.4,2,     1.8,  41.62700774,2,        36.34,2,   872.7,     25.123,3,    34.6508,2,     -999.0,9,         -999.0,9,  -999.0,9,20131228,       1917
33RO20131223,       A16S,       9,          2,         12,         12,2,20131228,       1748,   -10.0004,   -25.0001,       5406,  1047.6,   4.0098,  34.5735,2,  34.5767,2,    168.8,2,   168.5,2,    35.4,2,    32.1,2,    0.00,2,   2.244,2,   0.090,3,   0.048,3,   0.000,3,  2219.3,2, -999.00,5,  1103.36,2,      20,   7.5769,2,       25,-999.000,9,   4.0093,2,    0.79,2,  -118.0,2,     2.2,  41.47830048,2,        34.51,2,  1047.6,     23.096,3,    34.7398,2,     -999.0,9,         -999.0,9,  -999.0,9,20131228,       1913
33RO20131223,       A16S,       9,          2,         11,         11,2,20131228,       1748,   -10.0004,   -25.0001,       5406,  1347.5,   4.3057,  34.8645,2,  34.8647,2,    200.5,2,     200,2,    24.1,2,    25.4,2,    0.00,2,   1.735,2,   0.174,3,   0.092,3,   0.036,3,  2192.5,2, 2313.42,2,   902.71,2,      20,   7.6557,2,       25,-999.000,9,   4.3064,2,    0.90,2,   -93.4,2,     1.9,  41.31543063,2,        27.95,2,  1347.5,     18.873,3,    35.0291,2,     -999.0,9,         -999.0,9,  -999.0,9,20131228,       1907
33RO20131223,       A16S,       9,          2,         10,         10,2,20131228,       1748,   -10.0004,   -25.0001,       5406,    1747,   3.7556,  34.9615,2,  34.9615,2,      243,2,   242.1,2,    20.0,2,    20.3,2,    0.00,2,   1.354,2,   0.263,3,   0.140,3,   0.025,3,  2169.7,2, 2318.28,2,   768.78,2,      20,   7.7193,2,       25,-999.000,9,    3.758,2,    1.02,2,   -73.5,2,     2.0,  41.71198332,2,        22.79,2,  1747.0,     15.030,3,    35.1263,2,     -999.0,9,         -999.0,9,  -999.0,9,20131228,       1900
33RO20131223,       A16S,       9,          2,          9,          9,2,20131228,       1748,   -10.0004,   -25.0001,       5406,  2148.6,   3.2759,  34.9494,2,  34.9482,2,    250.2,2,   249.7,2,    24.2,2,    19.9,2,    0.00,2,   1.332,2,   0.253,3,   0.133,3,   0.029,3,  2170.7,2, 2317.46,2,  757.905,2,      20,   7.7279,2,       25,-999.000,9,   3.2752,2,    1.04,2,   -86.9,2,     1.8,    42.108536,2,        22.36,2,  2148.6,     14.439,3,     35.113,2,     -999.0,9,         -999.0,9,  -999.0,9,20131228,       1852
33RO20131223,       A16S,       9,          2,          8,          8,2,20131228,       1748,   -10.0004,   -25.0001,       5406,  2598.3,   2.9081,  34.9259,2,  34.9249,2,    247.1,2,   247.9,2,    31.6,2,    20.7,2,    0.00,2,   1.398,2,   0.086,3,   0.046,3,   0.000,3,    2178,2, 2328.72,2,-999.0000,5, -999.00,    7.724,2,       25,-999.000,9,   2.9076,2,    1.06,2,   -95.0,2,     2.0,  41.94566615,2,        23.05,2,  2598.3,     14.495,3,    35.0896,2,     -999.0,9,         -999.0,9,  -999.0,9,20131228,       1844
33RO20131223,       A16S,       9,          2,          7,          7,2,20131228,       1748,   -10.0004,   -25.0001,       5406,  3097.8,   2.6721,  34.9151,2,  34.9157,2,    248.8,2,   249.9,2,    34.4,2,    20.7,2,    0.00,2,   1.401,2,   0.075,3,   0.040,3,   0.000,3,    2180,2, 2331.12,2,  759.895,2,      20,   8.0487,4,       25,-999.000,9,   2.6725,2,    1.06,2,  -104.2,2,     2.1,  41.72614591,2,        23.16,2,  3097.8,     14.366,3,    35.0803,2,     -999.0,9,         -999.0,9,  -999.0,9,20131228,       1835
33RO20131223,       A16S,       9,          2,          6,          6,2,20131228,       1748,   -10.0004,   -25.0001,       5406,    3598,   2.4106,  34.8973,2,  34.8984,2,    253.3,2,     252,2,    38.5,2,    20.7,2,    0.00,2,   1.411,2,   0.110,3,   0.059,3,   0.025,3,  2182.1,2, 2332.18,2,      764,2,      20,   7.7251,2,       25,-999.000,9,   2.4103,2,    1.04,2,   -98.9,2,     2.1,  40.77017068,2,        23.06,2,  3598.0,     14.407,3,     35.063,2,     -999.0,9,         -999.0,9,  -999.0,9,20131228,       1826
33RO20131223,       A16S,       9,          2,          5,          5,2,20131228,       1748,   -10.0004,   -25.0001,       5406,  4098.3,   1.6315,  34.8134,2,  34.8152,2,    236.5,2,   237.6,2,    72.1,2,    25.5,2,    0.00,2,   1.754,2,   0.025,3,   0.018,3,   0.000,3,  2217.3,2, 2347.14,2,   859.94,2,      20,    7.683,2,       25,-999.000,9,   1.6303,2,    0.84,2,  -128.6,2,     2.1,  40.57189434,2,        27.69,2,  4098.3,     16.122,3,    34.9794,6,     -999.0,9,         -999.0,9,  -999.0,9,20131228,       1816
33RO20131223,       A16S,       9,          2,          4,          4,2,20131228,       1748,   -10.0004,   -25.0001,       5406,    4498,   1.0252,  34.7478,2,  34.7496,2,    226.2,2,   227.2,2,    97.7,6,    28.9,6,    0.00,6,   2.025,6,   0.030,3,   0.017,3,   0.000,3,  2243.9,2, 2367.26,2,   948.61,2,      20,   7.6477,2,       25,-999.000,9,   1.0247,2,    0.69,2,  -148.7,2,     2.0,  40.86222756,2,        31.37,2,  4498.0,     17.646,3,    34.9134,2,     -999.0,9,         -999.0,9,  -999.0,9,20131228,       1809
33RO20131223,       A16S,       9,          2,          3,          3,2,20131228,       1748,   -10.0004,   -25.0001,       5406,  4898.6,   0.8374,  34.7241,2,  34.7266,2,    221.9,2,   223.1,2,   106.7,6,    30.1,6,    0.00,6,   2.120,6,   0.038,3,   0.021,3,   0.000,3,  2252.6,2, 2367.74,2,   999.58,2,      20,   7.6309,6,       25,-999.000,9,   0.8374,2,    0.66,2,  -154.2,2,     1.9,  40.53648785,2,        32.56,2,  4898.6,     18.025,3,    34.8903,2,     -999.0,9,         -999.0,9,  -999.0,9,20131228,       1801
33RO20131223,       A16S,       9,          2,          2,          2,2,20131228,       1748,   -10.0004,   -25.0001,       5406,  5297.8,   0.7855,  34.7132,2,  34.7156,2,    221.6,2,   221.9,2,   110.7,6,    30.6,6,    0.00,6,   2.161,6,   0.062,3,   0.033,3,   0.019,3,  2255.7,2, 2369.88,2,  989.535,6,      20,   7.6266,2,       25,-999.000,9,   0.7858,2,    0.59,2,  -156.6,2,     1.8,  39.70089469,2,        33.15,2,  5297.8,     18.206,3,    34.8793,2,     -999.0,9,         -999.0,9,  -999.0,9,20131228,       1753
33RO20131223,       A16S,       9,          2,          1,          1,2,20131228,       1748,   -10.0004,   -25.0001,       5406,  5516.8,   0.7864,  34.7100,2,  34.7082,2,    221.6,2,   221.8,2,   112.0,6,    30.7,6,    0.00,6,   2.168,6,   0.073,3,   0.038,3,   0.000,3,  2258.3,6,  2369.9,6,   992.91,2,      20,   7.6345,2,       25,-999.000,9,   0.7865,2,    0.58,2,  -162.4,2,     1.8,  39.88500844,2,        33.54,2,  5516.8,     18.266,3,    34.8719,2,     -999.0,9,         -999.0,9,  -999.0,9,20131228,       1748