BOTTLE,20220815CCHSIOAMB
# Removed SIG0~n params
# Change CCL4 unit from NMOL/KG to PMOL/KG (no data present)
# Change HELIUM units from UMOL/KG to NMOL/KG (no data present, flag 1s)
# Change name of OXY_18 to DELO18 with units of /MILLE (no data present, flag 1s)
# Remove 14C_DIC column, was already DELC14 and merged
# Copied DATE/TIME to BTL_DATE/BTL_TIME
# Set TIME value to deepest of profile
# Bob's file was evaluated, he replaced the CCHDO/GO-SHIP header with his own, and made similar changes as noted above
# Set Station 5, cast 2, sample 14 to be a mistrip/questionable qc
#BOTTLE,20210809CCHSIOCBG
# fix CTDPRS for station 5
# 20200109CCHSIOCBG
# Merged parameters: DELC13, DELC13_FLAG_W, DELC14, DELC14_FLAG_W, C14ERR
# 20150327CCHSIORJL
# Merged parameters: OXYGEN_FLAG_W, TCARBN, TCARBN_FLAG_W, PCO2, PCO2_FLAG_W, PCO2TMP, BTLNBR_FLAG_W, CTDPRS
# 20150127CCHSIOCBG
# Merged parameters: PH_SWS, PH_SWS_FLAG_W, PH_TMP, ALKALI_FLAG_W
# 20141218CCHSIOCBG
# Merged parameters: PHSPHT, SILCAT, NITRAT, NITRIT, PHSPHT_FLAG_W, NITRIT_FLAG_W, DOC, DOC_FLAG_W, TDN, TDN_FLAG_W, CFC-11, CFC-11_FLAG_W, CFC-12, CFC-12_FLAG_W, SF6, SF6_FLAG_W, N2O, N2O_FLAG_W, CCL4, CCL4_FLAG_W, PH_SWS, PH_SWS_FLAG_W, ALKALI, ALKALI_FLAG_W
# 20141014CCHSIOCBG
# Merged parameters: BTLNBR_FLAG_W, SALNTY_FLAG_W, CTDOXY_FLAG_W
# 20140617SIOCCHRJL
# Added citation instructions for data use
# BOTTLE,20140604CCHSIOCBG
# Merged parameters: CTDRAW, CTDPRS, CTDTMP, CTDSAL, SALNTY, CTDOXY_FLAG_W, SALNTY_FLAG_W
# 20140202noaa
#
# BOTTLE,20181218PRINUNIVRMK
# 10/16/14 Initialized README file  
# Data source: CCHDO 10/16/14; 4/1/15 
# SHIP: Ronald H. Brown 
# Cruise: A16S 
# Region: SW Atlantic 
# EXPOCODE: 33RO20131223 
# DATES: 12/23/2013 - 2/5/2014 
# Chief Scientist: R. Wanninkhof, L. Barbero 
# 113 stations with 24 place Rosette 
# Hydro: Who - M.Barringer;G.Johnson; Status - final 
#       Notes:   
# Nutrients: Who - C.MOrdy,J-Z. Zhang; Status - final 
#       Notes: includes N2O 
# O2: Who - C. Langdon; Status - final 
#       Notes: 
# TCO2: Who - R.Wanninkhof, R.Feely; Status - final 
#       Notes:  
# TA: Who - F.Millero; Status - final 
#       Notes:  
# pH: Who - F.Millero; Status - final 
#       Notes: Seawater scale at 25C 
# CFC: Who - J.Bullister; Status - shipboard only 
#       Notes: includes SF6 
# C14: Who - R.Key,A.McNichols; Status - final* 
#       Notes: Includes C13 all stations 
# H3/He3: Who - P.Schlosser;W.Jenkins; Status - being processed 
#       Notes:  
# DOC: Who - D.Hansell; Status - final 
#       Notes: data from CCHDO, Nov 10, 2014 
# Other: CDIM - C.Carlson; ADCP - E.Firing 
# References that have used data from this cruise: 
#
# DATA CITATION
#| CCHDO Citation Information
#|
#| Please cite data downloaded from CCHDO as: 
#| [Data providers of the parameter(s) used]. [Year of file access]. [CTD/Bottle] data from cruise [expocode], 
#| [format version used]. Accessed from CCHDO [url of cruise data page]. Access date [date of download].
#| [Applicable CCHDO cruise DOI if provided].
#|
#| For example: 
#| Swift, J. and Becker, S. 2019. CTD data from Cruise 33RR20160321, exchange version. Accessed from CCHDO 
#| https://cchdo.ucsd.edu/cruise/33RR20160321. Access date 2019-08-21. CCHDO cruise DOI: 10.7942/C2008W
#|
#| Information on the scientists who provided the different parameters can be found in the cruise report. 
#| Additionally, for US GO-SHIP cruises, this information is usually in the comments section in the text headers 
#| of the Exchange bottle files.
#|
#| Users are also encouraged to acknowledge the funding program that supported the data collection in their publication. 
#| For US GO-SHIP data this is the NSF/NOAA funded U.S Repeat Hydrography Program.
#|
#| For data citation, please use the data providers listed below. 
#|
#| Programs and Principal Investigators
#|
#| Analysis                  Institution    Principal Investigator   email
#| ____________________________________________________________________________________
#| Chief Scientist           AOML           Rik Wanninkhof           rik.wanninkhof@noaa.gov
#| Co-Chief Scientist        AOML/CIMAS     Leticia Barbero          leticia.barbero@noaa.gov
#| CTDO                      NOAA/PMEL      Gregory Johnson          Gregory.C.Johnson@noaa.gov
#|                           NOAA/AOML      Molly Baringer           Molly.Baringer@noaa.gov
#| Salinity                  NOAA/AOML      Molly Baringer           Molly.Baringer@noaa.gov
#| UW & Discrete pCO2        NOAA/AOML      Rik Wanninkhof           Rik.Wanninkhof@noaa.gov
#| Total CO2 (DIC)           NOAA/PMEL      Richard Feely            Richard.A.Feely@noaa.gov
#|                           NOAA/AOML      Rik Wanninkhof           Rik.Wanninkhof@noaa.gov
#| Nutrients                 NOAA/AOML      Jia-Zhong Zhang          Jia-Zhong.Zhang@noaa.gov
#|                           NOAA/PMEL      Calvin Mordy             Calvin.W.Mordy@noaa.gov
#| Dissolved O2              NOAA/AOML      Molly Baringer           Molly.Baringer@noaa.gov
#|                           RSMAS          Chris Langdon            clangdon@rsmas.miami.edu 
#| Total Alkalinity/pH       RSMAS          Frank Millero            fmillero@rsmas.miami.edu
#| CFCs/SF6                  NOAA/PMEL      John Bullister           John.L.Bullister@noaa.gov
#| 3He/Tritium               LDEO           Peter Schlosser          peters@ldeo.columbia.edu
#|                           WHOI           William Jenkins          wjenkins@whoi.edu
#| CDOM                      UCSB/MSI       Craig Carlson            carlson@lifesci.ucsb.edu
#| Chipod                    OSU            Jonathan Nash            nash@coas.oregonstate.edu
#| ADCP/Lowered ADCP         U Hawaii       Eric Firing              efiring@hawaii.edu
#| Trace Metals              FSU            William Landing          wlanding@fsu.edu
#|                           UH             Chris Measures           measures@hawaii.edu 
#| 14C/DIC                   WHOI           Ann McNichols            amcnichol@whoi.edu
#|                           PU             Robert Key               401 Sayre Hall
#|                                                                   Princeton University
#|                                                                   08544 Princeton , NJ
#| DOC                       RSMAS          Dennis Hansell           dhansell@rsmas.miami.edu
#| Data Management           SIO            James Swift              jswift@ucsd.edu
#|                           SIO            Susan Becker             sbecker@ucsd.edu
#
EXPOCODE,SECT_ID,STNNBR,CASTNO,SAMPNO,BTLNBR,BTLNBR_FLAG_W,DATE,TIME,LATITUDE,LONGITUDE,DEPTH,CTDPRS,CTDTMP,CTDSAL,CTDSAL_FLAG_W,SALNTY,SALNTY_FLAG_W,CTDOXY,CTDOXY_FLAG_W,OXYGEN,OXYGEN_FLAG_W,SILCAT,SILCAT_FLAG_W,NITRAT,NITRAT_FLAG_W,NITRIT,NITRIT_FLAG_W,PHSPHT,PHSPHT_FLAG_W,CFC-11,CFC-11_FLAG_W,CFC-12,CFC-12_FLAG_W,SF6,SF6_FLAG_W,TCARBN,TCARBN_FLAG_W,ALKALI,ALKALI_FLAG_W,PCO2,PCO2_FLAG_W,PCO2TMP,PH_SWS,PH_SWS_FLAG_W,PH_TMP,TRITUM,TRITUM_FLAG_W,REFTMP,REFTMP_FLAG_W,DELC13,DELC13_FLAG_W,DELC14,DELC14_FLAG_W,C14ERR,DOC,DOC_FLAG_W,TDN,TDN_FLAG_W,CTDRAW,N2O,N2O_FLAG_W,SALTREF,SALTREF_FLAG_W,HELIUM,HELIUM_FLAG_W,DELO18,DELO18_FLAG_W,CCL4,CCL4_FLAG_W,BTL_DATE,BTL_TIME
,,,,,,,,,,,METERS,DBAR,ITS-90,PSS-78,,PSS-78,,UMOL/KG,,UMOL/KG,,UMOL/KG,,UMOL/KG,,UMOL/KG,,UMOL/KG,,PMOL/KG,,PMOL/KG,,FMOL/KG,,UMOL/KG,,UMOL/KG,,UATM,,DEG C,,,DEG C,TU,,DEG C,,/MILLE,,/MILLE,,/MILLE,UMOL/KG,,UMOL/KG,,DBAR,NMOL/KG,,G/KG,,NMOL/KG,,/MILLE,,PMOL/KG,,,
33RO20131223,       A16S,       1,          2,         24,         24,2,20131226,       0459,    -6.0016,   -24.9998,       5809,     3.9,  26.2239,  36.3097,2,  36.3082,2,    199.1,2,   201.2,2,     0.7,2,     0.0,2,    0.00,2,   0.115,2,   1.644,3,   1.095,3,   1.273,3,  2065.6,6, 2377.43,6,-999.0000,9, -999.00,   8.0388,2,       25,-999.000,9,  26.2231,2,    1.32,2,    47.3,2,     2.5,  69.22354955,2,         6.47,2,     3.9,      6.670,3,    36.4794,2,     -999.0,9,         -999.0,9,  -999.0,9,20131226,       0706
33RO20131223,       A16S,       1,          2,         23,         23,2,20131226,       0459,    -6.0016,   -24.9998,       5809,    22.5,  26.2331,  36.3090,2,  36.3171,2,    199.4,2,   201.3,2,     0.8,2,     0.0,2,    0.00,2,   0.120,2,   1.640,3,   1.098,3,   1.300,3,  2065.9,2, 2375.73,2,-999.0000,9, -999.00,   8.0375,2,       25,-999.000,9,  26.2318,2,    1.30,2,    43.4,2,     2.1,  66.91460738,2,         5.16,2,    22.5,      6.729,3,    36.4884,2,     -999.0,9,         -999.0,9,  -999.0,9,20131226,       0704
33RO20131223,       A16S,       1,          2,         22,         22,2,20131226,       0459,    -6.0016,   -24.9998,       5809,    47.4,  26.2335,  36.3078,2,  36.3080,2,      200,2,   201.9,2,     0.8,2,     0.0,2,    0.00,2,   0.129,2,   1.638,3,   1.097,3,   1.311,3,  2066.1,2, 2378.84,2,-999.0000,9, -999.00,   8.0396,2,       25,-999.000,9,  26.2334,2,    1.32,2,    51.4,2,     2.1,   66.7702985,2,         5.11,2,    47.4,      6.702,3,    36.4792,2,     -999.0,9,         -999.0,9,  -999.0,9,20131226,       0702
33RO20131223,       A16S,       1,          2,         21,         21,2,20131226,       0459,    -6.0016,   -24.9998,       5809,    72.1,  26.2112,  36.3044,2,  36.3055,2,    200.6,2,     201,2,     0.8,2,     0.0,2,    0.00,2,   0.137,2,   1.638,3,   1.094,3,   1.274,3,  2065.9,2, 2375.79,6,-999.0000,9, -999.00,   8.0425,2,       25,-999.000,9,  26.2092,2,    1.35,2,    47.2,2,     2.4,  66.12090851,2,         4.82,2,    72.1,      6.746,3,    36.4767,2,     -999.0,9,         -999.0,9,  -999.0,9,20131226,       0700
33RO20131223,       A16S,       1,          2,         20,         20,2,20131226,       0459,    -6.0016,   -24.9998,       5809,    97.5,  24.2160,  36.1165,2,  36.1258,2,    193.2,2,   190.1,2,     1.4,2,     1.3,2,    0.25,2,   0.287,2,   1.779,3,   1.174,3,   1.296,3,  2083.4,2, 2370.16,2,-999.0000,9, -999.00,   7.9991,6,       25,-999.000,9,  24.1621,2,    1.24,2,    46.0,2,     2.6,    64.244893,2,         5.33,2,    97.5,      8.374,3,    36.2961,2,     -999.0,9,         -999.0,9,  -999.0,9,20131226,       0658
33RO20131223,       A16S,       1,          2,         19,         19,2,20131226,       0459,    -6.0016,   -24.9998,       5809,   147.3,  15.5167,  35.6384,2,  35.6247,2,    104.9,2,   103.3,2,     6.3,2,    19.9,2,    0.03,2,   1.343,2,   2.149,3,   1.296,3,   0.884,3,  2192.9,3, 2338.25,2,-999.0000,9, -999.00,   7.7105,2,       25,-999.000,9,  15.4353,2,    0.46,2,    45.2,2,     2.1,  54.41024246,2,        23.02,2,   147.3,     26.795,3,    35.7927,2,     -999.0,9,         -999.0,9,  -999.0,9,20131226,       0656
33RO20131223,       A16S,       1,          2,         18,         18,2,20131226,       0459,    -6.0016,   -24.9998,       5809,   222.8,  12.0808,  35.1686,2,  35.1586,2,    109.3,2,   108.6,2,     9.6,2,    24.2,2,    0.01,2,   1.607,2,   2.099,3,   1.207,3,   0.643,3,  2198.4,2, 2314.48,2,-999.0000,9, -999.00,   7.6421,2,       25,-999.000,9,  12.0768,2,    0.49,2,    24.8,2,     2.2,  50.39124001,2,         26.6,2,   222.8,     29.766,3,    35.3244,2,     -999.0,9,         -999.0,9,  -999.0,9,20131226,       0654
33RO20131223,       A16S,       1,          2,         17,         17,2,20131226,       0459,    -6.0016,   -24.9998,       5809,   296.4,   9.8716,  34.8809,2,  34.8809,2,      124,2,     125,2,    12.8,2,    26.7,2,    0.01,2,   1.772,2,   2.009,3,   1.122,3,   0.545,3,  2200.8,4, 2299.35,2,-999.0000,9, -999.00,   7.6151,2,       25,-999.000,9,   9.8723,2,    0.62,2,     9.9,2,     2.3,  48.22660673,2,        29.15,2,   296.4,     28.723,3,    35.0454,2,     -999.0,9,         -999.0,9,  -999.0,9,20131226,       0651
33RO20131223,       A16S,       1,          2,         16,         16,2,20131226,       0459,    -6.0016,   -24.9998,       5809,   406.5,   8.4675,  34.7567,2,  34.7520,2,     83.8,2,    81.4,2,    18.0,2,    34.6,2,    0.01,2,   2.242,2,   0.973,3,   0.532,3,   0.155,3,  2234.7,6, 2295.94,2,-999.0000,9, -999.00,   7.4894,2,       25,-999.000,9,   8.4655,2,    0.34,3,   -31.4,2,     2.5,  46.09805067,2,        37.11,2,   406.5,     36.938,3,    34.9158,2,     -999.0,9,         -999.0,9,  -999.0,9,20131226,       0648
33RO20131223,       A16S,       1,          2,         15,         15,2,20131226,       0459,    -6.0016,   -24.9998,       5809,   517.9,   7.1433,  34.6371,2,  34.6366,2,     93.8,2,    88.6,2,    21.8,2,    36.4,2,    0.00,2,   2.391,2,   0.972,3,   0.533,3,   0.177,3,  2238.1,2, 2292.53,2,-999.0000,9, -999.00,   7.5009,3,       25,-999.000,9,    7.147,2,    0.29,3,   -61.0,2,     2.9,  44.39520582,2,         38.6,2,   517.9,     37.137,3,    34.7999,2,     -999.0,9,         -999.0,9,  -999.0,9,20131226,       0645
33RO20131223,       A16S,       1,          2,         14,         14,2,20131226,       0459,    -6.0016,   -24.9998,       5809,   647.7,   5.5545,  34.5066,2,  34.5046,2,    139.4,2,   130.5,2,    27.3,2,    35.3,2,    0.00,2,   2.393,2,   0.456,3,   0.242,3,   0.047,3,  2224.7,2, 2295.58,2,-999.0000,9, -999.00,    7.521,2,       25,-999.000,9,   5.5535,2,    0.62,2,   -96.2,2,     2.0,  42.63463742,2,        37.79,2,   647.7,     27.461,3,    34.6673,2,     -999.0,9,         -999.0,9,  -999.0,9,20131226,       0642
33RO20131223,       A16S,       1,          2,         13,         13,2,20131226,       0459,    -6.0016,   -24.9998,       5809,   791.9,   4.6390,  34.4845,2,  34.4826,2,    158.6,2,   148.5,2,    32.5,2,    34.8,2,    0.00,2,   2.398,2,   0.246,3,   0.130,3,   0.000,3,  2224.3,2, 2298.57,2,-999.0000,9, -999.00,    7.536,2,       25,-999.000,9,   4.6377,2,    0.64,2,   -96.3,2,     2.0,  42.02132465,2,        37.12,2,   791.9,     25.198,3,    34.6452,2,     -999.0,9,         -999.0,9,  -999.0,9,20131226,       0638
33RO20131223,       A16S,       1,          2,         12,         12,2,20131226,       0459,    -6.0016,   -24.9998,       5809,  1047.4,   4.2414,  34.6431,2,  34.6429,2,    163.9,2,   163.7,2,    32.9,2,    31.9,2,    0.00,2,   2.207,2,   0.048,3,   0.024,3,   0.000,3,  2219.7,2, 2308.62,2,-999.0000,9, -999.00,   7.5736,2,       25,-999.000,9,   4.2415,2,    0.65,2,  -108.6,2,     2.0,  41.16268679,2,        34.48,2,  1047.4,     22.680,3,    34.8062,6,     -999.0,9,         -999.0,9,  -999.0,9,20131226,       0633
33RO20131223,       A16S,       1,          2,         11,         11,2,20131226,       0459,    -6.0016,   -24.9998,       5809,  1347.9,   4.3278,  34.8700,2,  34.8698,2,    197.4,2,   197.1,2,    24.6,2,    26.0,2,    0.00,2,   1.777,2,   0.095,3,   0.050,3,   0.000,3,  2197.2,2, 2311.15,2,-999.0000,9, -999.00,   7.6503,2,       25,-999.000,9,   4.3278,2,    0.73,2,   -94.2,2,     3.4,  41.48738178,2,        28.45,2,  1347.9,     18.776,3,    35.0342,2,     -999.0,9,         -999.0,9,  -999.0,9,20131226,       0627
33RO20131223,       A16S,       1,          2,         10,         10,2,20131226,       0459,    -6.0016,   -24.9998,       5809,  1747.8,   3.8921,  34.9665,2,  34.9664,2,    238.6,2,   238.3,2,    20.0,2,    20.8,2,    0.00,2,   1.404,2,   0.254,3,   0.134,3,   0.047,3,  2175.3,2, 2300.88,4,-999.0000,9, -999.00,   7.7132,2,       25,-999.000,9,   3.8932,2,    0.92,2,   -78.2,2,     3.1,  42.29551154,2,         23.1,2,  1747.8,     14.926,3,    35.1313,2,     -999.0,9,         -999.0,9,  -999.0,9,20131226,       0619
33RO20131223,       A16S,       1,          2,          9,          9,2,20131226,       0459,    -6.0016,   -24.9998,       5809,  2147.8,   3.2522,  34.9412,2,  34.9420,2,    242.7,2,   243.6,2,    27.8,2,    21.0,2,    0.00,2,   1.424,2,   0.111,3,   0.057,3,   0.011,3,  2178.7,2,  2326.1,2,-999.0000,9, -999.00,   7.7222,2,       25,-999.000,9,   3.2522,2,    1.03,2,   -95.2,2,     1.9,  42.05740188,2,        23.51,2,  2147.8,     14.623,3,    35.1068,2,     -999.0,9,         -999.0,9,  -999.0,9,20131226,       0611
33RO20131223,       A16S,       1,          2,          8,          8,2,20131226,       0459,    -6.0016,   -24.9998,       5809,  2597.5,   2.8568,  34.9202,2,  34.9188,2,    242.6,2,   242.3,2,    35.8,2,    21.7,2,    0.00,2,   1.478,2,   0.040,3,   0.021,3,   0.000,3,  2186.9,2, 2321.39,3,-999.0000,9, -999.00,   7.7192,2,       25,-999.000,9,   2.8564,2,    0.90,3,  -104.4,2,     2.3,  41.55232078,2,        23.69,2,  2597.5,     14.617,3,    35.0835,2,     -999.0,9,         -999.0,9,  -999.0,9,20131226,       0602
33RO20131223,       A16S,       1,          2,          7,          7,3,20131226,       0459,    -6.0016,   -24.9998,       5809,  3097.5,   2.6784,  34.9194,2,  34.9176,2,    251.1,2,   251.7,2,    33.6,2,    20.6,2,    0.00,3,   1.408,3,   0.132,3,   0.069,3,   0.000,3,  2181.8,2, 2327.99,2,-999.0000,9, -999.00,    7.726,2,       25,-999.000,9,   2.6787,2,    1.00,2,   -96.7,2,     1.9,  40.65039024,2,        22.62,2,  3097.5,     14.163,3,    35.0823,2,     -999.0,9,         -999.0,9,  -999.0,9,20131226,       0553
33RO20131223,       A16S,       1,          2,          6,          6,3,20131226,       0459,    -6.0016,   -24.9998,       5809,  3598.4,   2.4902,  34.9073,2,  34.9727,4,    255.1,2,   235.6,4,    31.6,2,    20.3,2,    0.01,4,   1.392,4,   0.255,3,   0.141,3,   0.062,3,  2181.4,2, 2326.59,2,-999.0000,9, -999.00,   7.7251,2,       25,-999.000,9,   2.4903,2,    0.96,2,   -91.2,2,     2.8,  40.46278869,2,        22.79,2,  3598.4,     15.213,3,    35.1377,2,     -999.0,9,         -999.0,9,  -999.0,9,20131226,       0544
33RO20131223,       A16S,       1,          2,          5,          5,2,20131226,       0459,    -6.0016,   -24.9998,       5809,  4098.5,   1.8197,  34.8364,2,  34.8340,2,    242.3,2,   243.2,2,    63.3,2,    24.1,2,    0.00,2,   1.669,2,   0.075,3,   0.042,3,   0.000,3,  2209.8,2, 2344.81,6,-999.0000,9, -999.00,   7.6951,2,       25,-999.000,9,   1.8196,2,    0.84,2,  -108.3,2,     2.0,  40.46278869,2,        26.56,2,  4098.5,     15.402,3,    34.9982,2,     -999.0,9,         -999.0,9,  -999.0,9,20131226,       0534
33RO20131223,       A16S,       1,          2,          4,          4,2,20131226,       0459,    -6.0016,   -24.9998,       5809,    4598,   0.9865,  34.7443,2,  34.7432,2,    225.6,2,   226.4,2,   100.9,2,    29.4,2,    0.00,2,   2.057,2,   0.042,3,   0.024,3,   0.000,3,  2247.6,2, 2364.87,2,-999.0000,9, -999.00,   7.6419,6,       25,-999.000,9,   0.9866,2,    0.64,2,  -137.9,2,     2.2,  40.19581726,2,        31.85,2,  4598.0,     17.354,3,    34.9071,2,     -999.0,9,         -999.0,9,  -999.0,9,20131226,       0524
33RO20131223,       A16S,       1,          2,          3,          3,2,20131226,       0459,    -6.0016,   -24.9998,       5809,  5097.2,   0.7993,  34.7170,2,  34.7167,2,    220.1,2,   221.9,2,   110.7,2,    30.7,2,    0.00,2,   2.148,2,   0.100,3,   0.052,3,   0.038,3,  2256.6,2, 2371.15,2,-999.0000,9, -999.00,   7.6258,2,       25,-999.000,9,   0.7995,2,    0.58,2,  -145.3,2,     2.1,  39.92163037,2,        32.86,2,  5097.2,     17.941,3,    34.8804,2,     -999.0,9,         -999.0,9,  -999.0,9,20131226,       0515
33RO20131223,       A16S,       1,          2,          2,          2,2,20131226,       0459,    -6.0016,   -24.9998,       5809,  5597.3,   0.7292,  34.7031,2,  34.7024,2,    219.8,2,   219.9,2,   115.8,2,    31.3,2,    0.00,2,   2.194,2,   0.128,3,   0.063,3,   0.074,3,  2259.6,2,  2367.5,2,-999.0000,9, -999.00,   7.6262,2,       25,-999.000,9,   0.7292,2,    0.55,2,  -156.2,2,     2.5,  39.61858171,2,        33.94,2,  5597.3,     18.306,3,    34.8661,6,     -999.0,9,         -999.0,9,  -999.0,9,20131226,       0505