BOTTLE,20220815CCHSIOAMB
EXPOCODE,SECT_ID,STNNBR,CASTNO,SAMPNO,BTLNBR,BTLNBR_FLAG_W,DATE,TIME,LATITUDE,LONGITUDE,DEPTH,CTDPRS,CTDTMP,CTDSAL,CTDSAL_FLAG_W,SALNTY,SALNTY_FLAG_W,CTDOXY,CTDOXY_FLAG_W,OXYGEN,OXYGEN_FLAG_W,SILCAT,SILCAT_FLAG_W,NITRAT,NITRAT_FLAG_W,NITRIT,NITRIT_FLAG_W,PHSPHT,PHSPHT_FLAG_W,CFC-11,CFC-11_FLAG_W,CFC-12,CFC-12_FLAG_W,SF6,SF6_FLAG_W,TCARBN,TCARBN_FLAG_W,ALKALI,ALKALI_FLAG_W,PCO2,PCO2_FLAG_W,PCO2TMP,PH_SWS,PH_SWS_FLAG_W,PH_TMP,TRITUM,TRITUM_FLAG_W,REFTMP,REFTMP_FLAG_W,DELC13,DELC13_FLAG_W,DELC14,DELC14_FLAG_W,C14ERR,DOC,DOC_FLAG_W,TDN,TDN_FLAG_W,CTDRAW,N2O,N2O_FLAG_W,SALTREF,SALTREF_FLAG_W,HELIUM,HELIUM_FLAG_W,DELO18,DELO18_FLAG_W,CCL4,CCL4_FLAG_W,BTL_DATE,BTL_TIME
,,,,,,,,,,,METERS,DBAR,ITS-90,PSS-78,,PSS-78,,UMOL/KG,,UMOL/KG,,UMOL/KG,,UMOL/KG,,UMOL/KG,,UMOL/KG,,PMOL/KG,,PMOL/KG,,FMOL/KG,,UMOL/KG,,UMOL/KG,,UATM,,DEG C,,,DEG C,TU,,DEG C,,/MILLE,,/MILLE,,/MILLE,UMOL/KG,,UMOL/KG,,DBAR,NMOL/KG,,G/KG,,NMOL/KG,,/MILLE,,PMOL/KG,,,
33RO20131223,       A16S,      31,          1,         24,         24,2,20140104,       1304,   -21.0019,   -25.0041,       5231,     2.7,  25.8666,  37.3139,2,  37.3142,2,    203.3,2,   204.8,2,     0.8,2,     0.0,2,    0.00,2,   0.151,2,   1.599,3,   1.032,2,   1.229,2,  2114.9,6, 2451.14,2,-999.0000,9, -999.00,   8.0417,2,       25,-999.000,9,  25.8782,2, -999.00,9,  -999.0,9,  -999.0,        71.74,2,         4.35,2,     2.7,      6.219,2,    37.4901,2,     -999.0,9,         -999.0,9,  -999.0,9,20140104,       1458
33RO20131223,       A16S,      31,          1,         23,         23,2,20140104,       1304,   -21.0019,   -25.0041,       5231,    10.4,  25.7978,  37.3127,2,  37.3068,2,    203.9,2,   205.2,2,     0.8,2,     0.0,2,    0.00,2,   0.153,2,   1.598,3,   1.030,6,   1.231,6,  2113.1,2, 2451.79,6,-999.0000,9, -999.00,   8.0409,2,       25,-999.000,9,  25.7975,2, -999.00,9,  -999.0,9,  -999.0,        70.77,2,         5.45,2,    10.4,      6.252,6,    37.4827,2,     -999.0,9,         -999.0,9,  -999.0,9,20140104,       1456
33RO20131223,       A16S,      31,          1,         22,         22,2,20140104,       1304,   -21.0019,   -25.0041,       5231,    37.7,  25.2389,  37.2343,2,  37.2326,2,    207.6,2,   208.9,2,     0.8,2,     0.0,2,    0.00,2,   0.155,2,   1.639,3,   1.054,2,   1.214,2,  2110.1,2, 2447.01,2,-999.0000,9, -999.00,   8.0417,6,       25,-999.000,9,  25.2457,2, -999.00,9,  -999.0,9,  -999.0,  65.16684385,2,         4.05,2,    37.7,      6.400,2,    37.4081,2,     -999.0,9,         -999.0,9,  -999.0,9,20140104,       1454
33RO20131223,       A16S,      31,          1,         21,         21,2,20140104,       1304,   -21.0019,   -25.0041,       5231,    68.4,  23.7652,  37.0013,2,  36.9887,2,    218.6,2,   218.7,2,     0.9,2,     0.0,2,    0.00,2,   0.150,2,   1.767,3,   1.131,2,   1.297,2,  2101.4,2, 2431.14,2,-999.0000,9, -999.00,   8.0372,2,       25,-999.000,9,  23.7646,2, -999.00,9,  -999.0,9,  -999.0,  63.80566553,2,         4.48,2,    68.4,      6.710,2,    37.1631,2,     -999.0,9,         -999.0,9,  -999.0,9,20140104,       1453
33RO20131223,       A16S,      31,          1,         20,         20,2,20140104,       1304,   -21.0019,   -25.0041,       5231,   118.6,  22.4540,  36.8268,2,  36.8239,2,    217.3,2,   218.1,2,     1.0,2,     0.1,2,    0.00,2,   0.147,2,   1.850,3,   1.171,2,   1.348,2,    2102,2, 2437.24,2,-999.0000,9, -999.00,   8.0262,2,       25,-999.000,9,  22.4532,2, -999.00,9,  -999.0,9,  -999.0,  59.88005735,2,         3.84,2,   118.6,      6.869,2,    36.9975,2,     -999.0,9,         -999.0,9,  -999.0,9,20140104,       1450
33RO20131223,       A16S,      31,          1,         19,         19,2,20140104,       1304,   -21.0019,   -25.0041,       5231,   197.7,  19.0077,  36.1961,2,  36.1738,3,      199,2,   198.9,2,     1.6,2,     2.6,2,    0.04,2,   0.388,2,   2.172,3,   1.349,2,   1.373,2,  2118.5,2, 2376.49,2,-999.0000,9, -999.00,   7.9346,2,       25,-999.000,9,  19.0343,2, -999.00,9,  -999.0,9,  -999.0,  53.63818993,2,         6.15,2,   197.7,      8.625,2,    36.3444,2,     -999.0,9,         -999.0,9,  -999.0,9,20140104,       1448
33RO20131223,       A16S,      31,          1,         18,         18,2,20140104,       1304,   -21.0019,   -25.0041,       5231,   298.1,  14.5420,  35.4077,2,  35.4037,2,    189.1,2,   187.9,2,     3.6,2,     9.9,2,    0.01,2,   0.771,2,   2.608,3,   1.558,2,   1.261,2,  2129.8,2, 2328.42,2,-999.0000,9, -999.00,   7.8321,2,       25,-999.000,9,  14.5426,2, -999.00,9,  -999.0,9,  -999.0,        46.54,2,        12.78,2,   298.1,     12.767,2,    35.5707,2,     -999.0,9,         -999.0,9,  -999.0,9,20140104,       1445
33RO20131223,       A16S,      31,          1,         17,         17,2,20140104,       1304,   -21.0019,   -25.0041,       5231,   398.2,  11.7869,  35.0229,2,  35.0087,2,    177.8,2,   176.2,2,     6.5,2,    17.0,2,    0.00,2,   1.183,2,   2.756,3,   1.588,2,   1.020,2,  2152.2,2, 2308.71,2,-999.0000,9, -999.00,   7.7379,2,       25,-999.000,9,   11.788,2, -999.00,9,  -999.0,9,  -999.0,  45.68168904,2,        19.65,2,   398.2,     17.171,2,    35.1738,2,     -999.0,9,         -999.0,9,  -999.0,9,20140104,       1442
33RO20131223,       A16S,      31,          1,         16,         16,2,20140104,       1304,   -21.0019,   -25.0041,       5231,   518.8,   8.5722,  34.6794,2,  34.6780,2,    161.9,2,   161.6,2,    13.3,6,    25.3,6,    0.00,6,   1.712,6,   2.301,3,   1.247,2,   0.577,4,    2182,2, -999.00,5,-999.0000,9, -999.00,   7.6375,2,       25,-999.000,9,   8.6036,2, -999.00,9,  -999.0,9,  -999.0,  44.03473848,2,        28.08,2,   518.8,     21.208,2,    34.8415,2,     -999.0,9,         -999.0,9,  -999.0,9,20140104,       1439
33RO20131223,       A16S,      31,          1,         15,         15,2,20140104,       1304,   -21.0019,   -25.0041,       5231,     670,   5.9674,  34.4537,2,  34.4541,2,    176.3,2,   176.1,2,    21.7,6,    29.9,6,    0.00,6,   2.016,6,   1.832,3,   0.960,2,   0.339,2,  2193.7,2, 2298.63,2,-999.0000,9, -999.00,   7.5997,2,       25,-999.000,9,   5.9608,2, -999.00,9,  -999.0,9,  -999.0,   42.0418531,2,        32.57,2,   670.0,     21.090,2,    34.6165,2,     -999.0,9,         -999.0,9,  -999.0,9,20140104,       1435
33RO20131223,       A16S,      31,          1,         14,         14,2,20140104,       1304,   -21.0019,   -25.0041,       5231,   818.4,   4.5050,  34.4054,2,  34.4086,2,    181.9,2,     181,2,    32.1,6,    32.1,6,    0.00,6,   2.187,6,   1.148,3,   0.591,2,   0.161,2,  2206.9,2, 2302.37,2,-999.0000,9, -999.00,   7.5798,2,       25,-999.000,9,   4.5058,2, -999.00,9,  -999.0,9,  -999.0,  41.16197541,2,        34.69,2,   818.4,     21.139,2,    34.5709,2,     -999.0,9,         -999.0,9,  -999.0,9,20140104,       1432
33RO20131223,       A16S,      31,          1,         13,         13,2,20140104,       1304,   -21.0019,   -25.0041,       5231,   998.6,   3.6946,  34.4947,2,  34.5020,2,    181.1,2,     181,2,    41.1,2,    32.1,2,    0.00,2,   2.202,2,   0.326,3,   0.164,2,   0.047,2,  2217.2,2,  2318.6,2,-999.0000,9, -999.00,   7.5812,6,       25,-999.000,9,   3.6948,2, -999.00,9,  -999.0,9,  -999.0,  40.22945545,2,        34.73,2,   998.6,     20.847,2,    34.6647,2,     -999.0,9,         -999.0,9,  -999.0,9,20140104,       1428
33RO20131223,       A16S,      31,          1,         12,         12,2,20140104,       1304,   -21.0019,   -25.0041,       5231,  1147.6,   3.6519,  34.6415,2,  34.6441,2,    186.5,2,   186.8,2,    39.4,2,    30.1,2,    0.00,2,   2.048,2,   0.121,3,   0.058,2,   0.032,2,    2213,6, 2317.31,2,-999.0000,9, -999.00,   7.6033,2,       25,-999.000,9,   3.6524,2, -999.00,9,  -999.0,9,  -999.0,  40.35730093,2,        32.58,2,  1147.6,     19.814,2,    34.8074,6,     -999.0,9,         -999.0,9,  -999.0,9,20140104,       1424
33RO20131223,       A16S,      31,          1,         11,         11,2,20140104,       1304,   -21.0019,   -25.0041,       5231,  1298.7,   3.7855,  34.7640,2,  34.7660,2,      197,2,   197.1,2,    34.0,2,    27.4,2,    0.00,2,   1.859,2,   0.086,3,   0.040,6,   0.032,6,  2204.2,2, 2320.31,2,-999.0000,9, -999.00,   7.6348,2,       25,-999.000,9,   3.7861,2, -999.00,9,  -999.0,9,  -999.0,        40.82,2,        30.11,2,  1298.7,     18.373,6,      34.93,2,     -999.0,9,         -999.0,9,  -999.0,9,20140104,       1420
33RO20131223,       A16S,      31,          1,         10,         10,2,20140104,       1304,   -21.0019,   -25.0041,       5231,    1598,   3.6277,  34.8966,2,  34.8956,2,    226.4,2,   226.4,2,    27.5,2,    23.0,2,    0.00,2,   1.542,2,   0.102,3,   0.048,2,   0.000,2,  2183.9,2, 2321.21,2,-999.0000,9, -999.00,   7.6894,2,       25,-999.000,9,   3.6275,2, -999.00,9,  -999.0,9,  -999.0,        41.52,2,        25.63,2,  1598.0,     15.375,2,    35.0602,2,     -999.0,9,         -999.0,9,  -999.0,9,20140104,       1414
33RO20131223,       A16S,      31,          1,          9,          9,2,20140104,       1304,   -21.0019,   -25.0041,       5231,  1947.2,   3.3854,  34.9470,2,  34.9479,2,    245.9,2,   247.2,2,    23.6,2,    20.3,2,    0.00,2,   1.351,2,   0.186,3,   0.091,2,   0.000,2,  2171.3,2, 2324.16,2,-999.0000,9, -999.00,   7.7228,2,       25,-999.000,9,   3.3852,2, -999.00,9,  -999.0,9,  -999.0,        41.63,2,        22.95,2,  1947.2,     13.652,2,    35.1127,2,     -999.0,9,         -999.0,9,  -999.0,9,20140104,       1407
33RO20131223,       A16S,      31,          1,          8,          8,2,20140104,       1304,   -21.0019,   -25.0041,       5231,  2348.2,   3.0513,  34.9357,2,  34.9371,2,    247.7,2,   249.4,2,    27.8,2,    20.4,2,    0.00,2,   1.361,2,   0.119,3,   0.056,2,   0.022,2,  2174.3,2, 2325.93,2,-999.0000,9, -999.00,    7.726,2,       25,-999.000,9,   3.0516,2, -999.00,9,  -999.0,9,  -999.0,        41.56,2,           23,2,  2348.2,     13.465,2,    35.1019,2,     -999.0,9,         -999.0,9,  -999.0,9,20140104,       1400
33RO20131223,       A16S,      31,          1,          7,          7,2,20140104,       1304,   -21.0019,   -25.0041,       5231,  2748.1,   2.8093,  34.9210,2,  34.9230,2,    247.8,2,   248.8,2,    32.3,2,    20.8,2,    0.00,2,   1.389,2,   0.081,3,   0.036,2,   0.015,2,  2178.9,2, 2329.46,2,-999.0000,9, -999.00,   7.7216,2,       25,-999.000,9,   2.8094,2, -999.00,9,  -999.0,9,  -999.0,  41.60567441,2,        23.41,2,  2748.1,     13.533,2,    35.0877,2,     -999.0,9,         -999.0,9,  -999.0,9,20140104,       1352
33RO20131223,       A16S,      31,          1,          6,          6,2,20140104,       1304,   -21.0019,   -25.0041,       5231,  3248.3,   2.5769,  34.9073,2,  34.9073,2,    251.2,2,   250.6,2,    36.1,6,    20.9,6,    0.00,6,   1.404,6,   0.073,3,   0.032,2,   0.000,2,    2182,2, 2332.03,2,-999.0000,9, -999.00,   7.7227,2,       25,-999.000,9,   2.5767,2, -999.00,9,  -999.0,9,  -999.0,  41.25973959,2,        23.56,2,  3248.3,     13.483,2,    35.0719,2,     -999.0,9,         -999.0,9,  -999.0,9,20140104,       1343
33RO20131223,       A16S,      31,          1,          5,          5,2,20140104,       1304,   -21.0019,   -25.0041,       5231,  3648.2,   2.2934,  34.8805,2,  34.8813,2,      247,2,   248.7,2,    45.4,6,    22.0,6,    0.00,6,   1.484,6,   0.077,3,   0.034,2,   0.024,2,    2190,2, 2338.38,2,-999.0000,9, -999.00,   7.7169,2,       25,-999.000,9,   2.2933,2, -999.00,9,  -999.0,9,  -999.0,   40.8536422,2,        24.55,2,  3648.2,     13.894,2,    35.0458,2,     -999.0,9,         -999.0,9,  -999.0,9,20140104,       1335
33RO20131223,       A16S,      31,          1,          4,          4,2,20140104,       1304,   -21.0019,   -25.0041,       5231,  4147.5,   1.6989,  34.8165,2,  34.8184,2,    236.7,2,   238.3,2,    70.0,6,    25.4,6,    0.00,6,   1.730,6,   0.038,3,   0.014,2,   0.088,2,  2214.8,2, 2351.62,2,-999.0000,9, -999.00,   7.5853,4,       25,-999.000,9,   1.6996,2, -999.00,9,  -999.0,9,  -999.0,  40.89124381,2,        27.94,2,  4147.5,     15.104,2,    34.9825,2,     -999.0,9,         -999.0,9,  -999.0,9,20140104,       1326
33RO20131223,       A16S,      31,          1,          3,          3,2,20140104,       1304,   -21.0019,   -25.0041,       5231,  4647.9,   1.1102,  34.7522,2,  34.7533,2,      227,2,   228.3,2,    94.6,6,    28.7,6,    0.00,6,   1.969,6,   0.051,3,   0.020,6,   0.056,6,    2239,2, 2374.99,3,-999.0000,9, -999.00,   7.6462,2,       25,-999.000,9,   1.1101,2, -999.00,9,  -999.0,9,  -999.0,  40.30465867,2,        31.22,2,  4647.9,     16.384,6,    34.9172,2,     -999.0,9,         -999.0,9,  -999.0,9,20140104,       1316
33RO20131223,       A16S,      31,          1,          2,          2,2,20140104,       1304,   -21.0019,   -25.0041,       5231,  5039.3,   0.8947,  34.7260,2,  34.7281,2,    223.6,2,   224.3,2,   104.5,6,    30.0,6,    0.00,6,   2.064,6,   0.090,3,   0.039,2,   0.027,2,  2248.5,2, 2365.45,6,-999.0000,9, -999.00,   7.6285,2,       25,-999.000,9,   0.8944,2, -999.00,9,  -999.0,9,  -999.0,  40.42498383,2,        32.38,2,  5039.3,     16.968,2,    34.8919,6,     -999.0,9,         -999.0,9,  -999.0,9,20140104,       1309
33RO20131223,       A16S,      31,          1,          1,          1,2,20140104,       1304,   -21.0019,   -25.0041,       5231,  5300.2,   0.7949,  34.7124,2,  34.7122,2,    222.9,2,   223.6,2,   109.7,2,    30.6,2,    0.00,2,   2.118,2,   0.132,3,   0.061,2,   0.053,2,  2254.6,6, 2384.73,3,-999.0000,9, -999.00,   7.6374,2,       25,-999.000,9,   0.7953,2, -999.00,9,  -999.0,9,  -999.0,  40.22945545,2,         33.1,2,  5300.2,     17.197,2,    34.8759,2,     -999.0,9,         -999.0,9,  -999.0,9,20140104,       1304