BOTTLE,20220815CCHSIOAMB
EXPOCODE,SECT_ID,STNNBR,CASTNO,SAMPNO,BTLNBR,BTLNBR_FLAG_W,DATE,TIME,LATITUDE,LONGITUDE,DEPTH,CTDPRS,CTDTMP,CTDSAL,CTDSAL_FLAG_W,SALNTY,SALNTY_FLAG_W,CTDOXY,CTDOXY_FLAG_W,OXYGEN,OXYGEN_FLAG_W,SILCAT,SILCAT_FLAG_W,NITRAT,NITRAT_FLAG_W,NITRIT,NITRIT_FLAG_W,PHSPHT,PHSPHT_FLAG_W,CFC-11,CFC-11_FLAG_W,CFC-12,CFC-12_FLAG_W,SF6,SF6_FLAG_W,TCARBN,TCARBN_FLAG_W,ALKALI,ALKALI_FLAG_W,PCO2,PCO2_FLAG_W,PCO2TMP,PH_SWS,PH_SWS_FLAG_W,PH_TMP,TRITUM,TRITUM_FLAG_W,REFTMP,REFTMP_FLAG_W,DELC13,DELC13_FLAG_W,DELC14,DELC14_FLAG_W,C14ERR,DOC,DOC_FLAG_W,TDN,TDN_FLAG_W,CTDRAW,N2O,N2O_FLAG_W,SALTREF,SALTREF_FLAG_W,HELIUM,HELIUM_FLAG_W,DELO18,DELO18_FLAG_W,CCL4,CCL4_FLAG_W,BTL_DATE,BTL_TIME
,,,,,,,,,,,METERS,DBAR,ITS-90,PSS-78,,PSS-78,,UMOL/KG,,UMOL/KG,,UMOL/KG,,UMOL/KG,,UMOL/KG,,UMOL/KG,,PMOL/KG,,PMOL/KG,,FMOL/KG,,UMOL/KG,,UMOL/KG,,UATM,,DEG C,,,DEG C,TU,,DEG C,,/MILLE,,/MILLE,,/MILLE,UMOL/KG,,UMOL/KG,,DBAR,NMOL/KG,,G/KG,,NMOL/KG,,/MILLE,,PMOL/KG,,,
33RO20131223,       A16S,      65,          2,         24,         24,2,20140114,       1715,        -38,   -26.4387,       4068,       4,  17.1173,  35.2858,2,  35.2878,2,    242.6,2,   243.2,2,     0.5,6,     0.0,6,    0.00,6,   0.210,6,   2.439,6,   1.488,2,   1.663,6,  2072.2,6, 2328.54,2,   410.93,2,      20,   7.9579,2,       25,-999.000,1,  17.1197,2,    1.42,2,    46.6,2,     2.2,  58.63867573,2,         4.94,2,     4.0,      8.226,6,    35.4542,2,     -999.0,1,         -999.0,1,  -999.0,9,20140114,       1850
33RO20131223,       A16S,      65,          2,         23,         23,2,20140114,       1715,        -38,   -26.4387,       4068,    28.1,  16.1528,  35.2899,2,  35.2926,2,    251.1,2,   253.5,2,     0.7,6,     0.0,6,    0.01,6,   0.152,6,   2.531,2,   1.537,2,   1.704,2,  2068.2,2, 2330.53,2,   402.42,2,      20,   7.9686,2,       25,-999.000,1,  16.1512,2, -999.00,9,  -999.0,9,  -999.0,  55.24745758,2,         4.05,2,    28.1,      8.429,2,     35.459,2,     -999.0,1,         -999.0,1,  -999.0,9,20140114,       1848
33RO20131223,       A16S,      65,          2,         22,         22,2,20140114,       1715,        -38,   -26.4387,       4068,    67.1,  14.1689,  35.3073,2,  35.3085,2,    244.6,2,   244.2,2,     1.1,2,     3.6,2,    0.43,2,   0.400,2,   2.723,2,   1.651,2,   1.771,2,  2101.1,2, 2326.87,2,   479.71,2,      20,   7.9021,2,       25,-999.000,1,  14.1684,2, -999.00,9,  -999.0,9,  -999.0,  53.58046637,2,         8.41,2,    67.1,      9.211,2,     35.475,2,     -999.0,1,         -999.0,1,  -999.0,9,20140114,       1846
33RO20131223,       A16S,      65,          2,         21,         21,2,20140114,       1715,        -38,   -26.4387,       4068,   107.4,  13.5551,  35.3137,2,  35.3153,2,    241.9,2,     242,2,     1.6,2,     5.6,2,    0.01,2,   0.490,2,   2.759,2,   1.664,2,   1.816,2,  2109.9,2, 2328.59,6,   502.16,2,      20,   7.8837,2,       25,-999.000,1,  13.5544,2, -999.00,9,  -999.0,9,  -999.0,  51.74176792,2,         9.23,2,   107.4,      9.551,2,    35.4818,2,     -999.0,1,         -999.0,1,  -999.0,9,20140114,       1844
33RO20131223,       A16S,      65,          2,         20,         20,2,20140114,       1715,        -38,   -26.4387,       4068,     173,  13.3477,  35.3248,2,  35.3254,2,    243.6,2,   240.1,2,     2.0,2,     6.4,2,    0.01,2,   0.535,2,   2.793,2,   1.677,2,   1.740,2,  2113.7,2, 2329.66,2,   514.22,2,      20,   7.8774,2,       25,-999.000,1,  13.3473,2, -999.00,9,  -999.0,9,  -999.0,  50.01754097,2,         9.91,2,   173.0,      9.849,2,     35.492,6,     -999.0,1,         -999.0,1,  -999.0,9,20140114,       1842
33RO20131223,       A16S,      65,          2,         19,         19,2,20140114,       1715,        -38,   -26.4387,       4068,   257.9,  12.7822,  35.2268,2,  35.2278,2,    239.4,2,     237,2,     2.2,2,     8.1,2,    0.01,2,   0.643,2,   2.859,2,   1.712,2,   1.687,2,  2119.2,2, 2330.79,2,   542.13,2,      20,   7.8583,2,       25,-999.000,1,  12.7809,2, -999.00,9,  -999.0,9,  -999.0,  48.23607827,2,        11.11,2,   257.9,     10.432,2,    35.3939,2,     -999.0,1,         -999.0,1,  -999.0,9,20140114,       1839
33RO20131223,       A16S,      65,          2,         18,         18,2,20140114,       1715,        -38,   -26.4387,       4068,   368.1,  10.9744,  34.9257,2,  34.9301,2,    224.8,2,   224.9,2,     3.6,2,    13.4,2,    0.01,2,   0.972,2,   3.099,2,   1.806,2,   1.578,2,  2133.6,2, 2312.25,2,   634.62,2,      20,    7.794,2,       25,-999.000,1,  10.9857,2, -999.00,9,  -999.0,9,  -999.0,  46.29721725,2,        16.25,2,   368.1,     12.109,2,    35.0948,2,     -999.0,1,         -999.0,1,  -999.0,9,20140114,       1836
33RO20131223,       A16S,      65,          2,         17,         17,2,20140114,       1715,        -38,   -26.4387,       4068,   467.3,   8.6530,  34.6107,2,  34.6124,2,    217.9,2,   217.9,2,     6.4,2,    20.0,2,    0.01,2,   1.386,2,   3.400,2,   1.894,2,   1.408,2,  2151.8,2,  2296.3,2,  760.005,6,      20,   7.7184,2,       25,-999.000,1,   8.6502,2, -999.00,9,  -999.0,9,  -999.0,  43.59998256,2,        22.74,2,   467.3,     14.218,2,    34.7757,2,     -999.0,1,         -999.0,1,  -999.0,9,20140114,       1834
33RO20131223,       A16S,      65,          2,         16,         16,2,20140114,       1715,        -38,   -26.4387,       4068,   597.5,   5.8072,  34.2730,2,  34.2750,2,    243.7,2,   244.9,2,     9.7,2,    24.7,2,    0.00,2,   1.690,2,   3.859,2,   2.107,2,   1.629,2,  2157.9,2, 2280.37,2,  849.805,2,      20,   7.6755,2,       25,-999.000,1,   5.8067,2, -999.00,9,  -999.0,9,  -999.0,  41.81851986,2,        27.32,2,   597.5,     14.602,2,    34.4366,2,     -999.0,1,         -999.0,1,  -999.0,9,20140114,       1830
33RO20131223,       A16S,      65,          2,         15,         15,2,20140114,       1715,        -38,   -26.4387,       4068,   772.6,   4.4751,  34.1967,2,  34.1974,2,    251.7,2,   252.2,2,    14.8,2,    27.1,2,    0.00,2,   1.856,2,   3.820,2,   2.033,2,   1.414,2,  2165.7,2, 2282.36,2,  895.285,6,      20,   7.6578,2,       25,-999.000,1,   4.4753,2, -999.00,9,  -999.0,9,  -999.0,  39.48616307,2,        29.74,2,   772.6,     15.456,2,    34.3586,2,     -999.0,1,         -999.0,1,  -999.0,9,20140114,       1827
33RO20131223,       A16S,      65,          2,         14,         14,2,20140114,       1715,        -38,   -26.4387,       4068,   914.9,   3.8462,  34.2154,2,  34.2164,2,      238,2,     238,2,    22.7,2,    29.4,2,    0.00,2,   2.004,2,   3.260,2,   1.684,2,   1.001,2,  2183.4,2,  2288.6,2,   960.57,2,      20,   7.6283,2,       25,-999.000,1,   3.8459,2, -999.00,9,  -999.0,9,  -999.0,  39.22860219,2,        32.08,2,   914.9,     17.106,2,    34.3777,2,     -999.0,1,         -999.0,1,  -999.0,9,20140114,       1823
33RO20131223,       A16S,      65,          2,         13,         13,2,20140114,       1715,        -38,   -26.4387,       4068,  1098.6,   3.3234,  34.2801,2,  34.2807,2,    217.8,2,   216.9,2,    34.7,2,    31.6,2,    0.00,2,   2.155,2,   2.362,6,   1.199,2,   0.623,6,  2204.7,2, 2304.08,2,  1047.94,2,      20,   7.5941,2,       25,-999.000,1,   3.3239,2, -999.00,9,  -999.0,9,  -999.0,  39.22144773,2,        34.21,2,  1098.6,     19.305,6,    34.4424,2,     -999.0,1,         -999.0,1,  -999.0,9,20140114,       1819
33RO20131223,       A16S,      65,          2,         12,         12,2,20140114,       1715,        -38,   -26.4387,       4068,  1248.9,   3.0740,  34.3595,2,  34.3592,2,    198.4,2,   198.6,2,    45.2,2,    32.9,2,    0.00,2,   2.248,2,   1.623,2,   0.806,2,   0.377,2,  2222.2,2, 2313.36,2,  1113.74,2,      20,   7.5687,2,       25,-999.000,1,    3.074,2, -999.00,9,  -999.0,9,  -999.0,   39.3645371,2,        35.45,2,  1248.9,     20.805,2,    34.5212,2,     -999.0,1,         -999.0,1,  -999.0,9,20140114,       1815
33RO20131223,       A16S,      65,          2,         11,         11,2,20140114,       1715,        -38,   -26.4387,       4068,  1448.2,   2.8809,  34.4846,2,  34.4836,2,    181.5,2,   182.2,2,    56.6,6,    33.4,6,    0.00,6,   2.283,6,   0.795,2,   0.390,2,   0.155,2,  2238.2,2, 2327.64,2,  1155.01,2,      20,   7.5585,6,       25,-999.000,1,    2.881,2, -999.00,9,  -999.0,9,  -999.0,  39.49331754,2,           36,2,  1448.2,     21.685,2,    34.6462,2,     -999.0,1,         -999.0,1,  -999.0,9,20140114,       1811
33RO20131223,       A16S,      65,          2,         10,         10,2,20140114,       1715,        -38,   -26.4387,       4068,    1641,   2.8440,  34.6027,2,  34.6023,2,    178.8,2,   179.7,2,    60.4,6,    32.2,6,    0.00,6,   2.202,6,   0.384,2,   0.190,2,   0.066,2,  2240.9,6, 2329.04,6,  1123.31,2,      20,   7.5682,2,       25,-999.000,1,   2.8437,2, -999.00,9,  -999.0,9,  -999.0,    39.500472,2,         34.7,2,  1641.0,     21.225,2,    34.7655,2,     -999.0,1,         -999.0,9,  -999.0,9,20140114,       1807
33RO20131223,       A16S,      65,          2,          9,          9,2,20140114,       1715,        -38,   -26.4387,       4068,  1923.6,   2.8889,  34.7332,2,  34.7339,2,    191.7,2,   192.7,2,    57.4,6,    29.4,6,    0.00,6,   1.995,6,   0.186,2,   0.092,2,   0.049,2,  2231.3,2, 2333.82,2,  1024.01,2,      20,   7.6178,2,       25,-999.000,1,   2.8889,2, -999.00,9,  -999.0,9,  -999.0,  40.22307334,2,        31.74,2,  1923.6,     19.412,2,    34.8976,2,     -999.0,1,         -999.0,9,  -999.0,9,20140114,       1801
33RO20131223,       A16S,      65,          2,          8,          8,2,20140114,       1715,        -38,   -26.4387,       4068,  2199.5,   3.0327,  34.8329,2,  34.8329,2,    214.8,2,   215.5,2,    45.6,6,    25.6,6,    0.00,6,   1.732,6,   0.143,2,   0.071,2,   0.043,2,  2209.8,2, 2337.35,2,   900.98,2,      20,   7.6569,2,       25,-999.000,9,   3.0323,2, -999.00,9,  -999.0,9,  -999.0,  41.01721937,2,        28.03,2,  2199.5,     16.903,2,    34.9971,2,     -999.0,1,         -999.0,9,  -999.0,9,20140114,       1755
33RO20131223,       A16S,      65,          2,          7,          7,2,20140114,       1715,        -38,   -26.4387,       4068,  2447.7,   2.9564,  34.8699,2,  34.8704,2,    226.8,2,   227.1,2,    42.1,6,    23.9,6,    0.00,6,   1.612,6,   0.122,2,   0.058,2,   0.000,2,  2200.4,2, 2335.85,2,  856.305,2,      20,   7.6752,2,       25,-999.000,1,   2.9564,2, -999.00,9,  -999.0,9,  -999.0,  40.97429255,2,        26.56,2,  2447.7,     15.625,2,    35.0349,2,     -999.0,1,         -999.0,9,  -999.0,9,20140114,       1750
33RO20131223,       A16S,      65,          2,          6,          6,2,20140114,       1715,        -38,   -26.4387,       4068,  2697.4,   2.7862,  34.8720,2,  34.8730,2,    230.6,2,   230.6,2,    44.4,2,    23.7,2,    0.00,2,   1.602,2,   0.101,2,   0.049,2,   0.000,2,  2200.2,2,  2338.2,2,   841.05,6,      20,   7.6862,2,       25,-999.000,9,   2.7863,2, -999.00,9,  -999.0,9,  -999.0,  41.11022746,2,        26.42,2,  2697.4,     15.410,2,    35.0374,2,     -999.0,1,         -999.0,9,  -999.0,9,20140114,       1745
33RO20131223,       A16S,      65,          2,          5,          5,2,20140114,       1715,        -38,   -26.4387,       4068,  2949.5,   2.5972,  34.8694,2,  34.8705,2,    232.7,2,   233.1,2,    47.1,2,    23.7,2,    0.00,2,   1.597,2,   0.075,2,   0.038,2,   0.000,2,  2201.1,2, 2333.49,2,  839.835,2,      20,    7.686,2,       25,-999.000,1,   2.5971,2, -999.00,9,  -999.0,9,  -999.0,  41.58242239,2,        26.24,2,  2949.5,     15.193,2,     35.035,6,     -999.0,1,         -999.0,9,  -999.0,9,20140114,       1739
33RO20131223,       A16S,      65,          2,          4,          4,2,20140114,       1715,        -38,   -26.4387,       4068,  3247.4,   2.0871,  34.8200,2,  34.8195,2,    224.3,2,   224.2,2,    66.2,2,    26.1,2,    0.00,2,   1.770,2,   0.080,2,   0.038,2,   0.030,2,  2219.5,2, 2343.11,2,   898.92,2,      20,   7.6637,2,       25,-999.000,9,   2.0877,2, -999.00,9,  -999.0,9,  -999.0,  40.90990234,2,        28.69,2,  3247.4,     16.053,2,    34.9837,2,     -999.0,1,         -999.0,9,  -999.0,9,20140114,       1733
33RO20131223,       A16S,      65,          2,          3,          3,2,20140114,       1715,        -38,   -26.4387,       4068,  3549.6,   1.5534,  34.7712,2,  34.7718,2,    218.1,2,     218,2,    87.0,2,    28.5,2,    0.00,2,   1.942,2,   0.108,6,   0.051,2,   0.014,6,  2237.3,2, 2356.21,4,   963.33,2,      20,   7.6343,6,       25,-999.000,1,   1.5539,2, -999.00,9,  -999.0,9,  -999.0,  40.06567503,2,        30.69,2,  3549.6,     17.010,6,    34.9357,2,     -999.0,1,         -999.0,9,  -999.0,9,20140114,       1727
33RO20131223,       A16S,      65,          2,          2,          2,2,20140114,       1715,        -38,   -26.4387,       4068,  3848.4,   1.0868,  34.7321,2,  34.7315,2,    215.4,2,   215.6,2,   102.9,2,    30.2,2,    0.00,2,   2.069,2,   0.179,2,   0.084,2,   0.036,2,  2252.2,2, 2369.77,4, 1011.575,6,      20,   7.6197,2,       25,-999.000,9,   1.0865,2, -999.00,9,  -999.0,9,  -999.0,  39.29299241,2,        32.99,2,  3848.4,     17.546,2,    34.8953,2,     -999.0,1,         -999.0,9,  -999.0,9,20140114,       1721
33RO20131223,       A16S,      65,          2,          1,          1,2,20140114,       1715,        -38,   -26.4387,       4068,  4114.5,   0.7980,  34.7057,2,  34.7073,2,    213.7,2,   214.1,2,   113.9,2,    31.5,2,    0.00,2,   2.151,2,   0.266,2,   0.125,2,   0.036,2,  2262.5,6, 2372.72,4,  1046.86,2,      20,   7.6078,2,       25,-999.000,1,   0.7976,2, -999.00,9,  -999.0,9,  -999.0,  38.62047236,2,        34.22,2,  4114.5,     18.031,2,     34.871,2,     -999.0,1,         -999.0,9,  -999.0,9,20140114,       1715