BOTTLE,20220815CCHSIOAMB
EXPOCODE,SECT_ID,STNNBR,CASTNO,SAMPNO,BTLNBR,BTLNBR_FLAG_W,DATE,TIME,LATITUDE,LONGITUDE,DEPTH,CTDPRS,CTDTMP,CTDSAL,CTDSAL_FLAG_W,SALNTY,SALNTY_FLAG_W,CTDOXY,CTDOXY_FLAG_W,OXYGEN,OXYGEN_FLAG_W,SILCAT,SILCAT_FLAG_W,NITRAT,NITRAT_FLAG_W,NITRIT,NITRIT_FLAG_W,PHSPHT,PHSPHT_FLAG_W,CFC-11,CFC-11_FLAG_W,CFC-12,CFC-12_FLAG_W,SF6,SF6_FLAG_W,TCARBN,TCARBN_FLAG_W,ALKALI,ALKALI_FLAG_W,PCO2,PCO2_FLAG_W,PCO2TMP,PH_SWS,PH_SWS_FLAG_W,PH_TMP,TRITUM,TRITUM_FLAG_W,REFTMP,REFTMP_FLAG_W,DELC13,DELC13_FLAG_W,DELC14,DELC14_FLAG_W,C14ERR,DOC,DOC_FLAG_W,TDN,TDN_FLAG_W,CTDRAW,N2O,N2O_FLAG_W,SALTREF,SALTREF_FLAG_W,HELIUM,HELIUM_FLAG_W,DELO18,DELO18_FLAG_W,CCL4,CCL4_FLAG_W,BTL_DATE,BTL_TIME
,,,,,,,,,,,METERS,DBAR,ITS-90,PSS-78,,PSS-78,,UMOL/KG,,UMOL/KG,,UMOL/KG,,UMOL/KG,,UMOL/KG,,UMOL/KG,,PMOL/KG,,PMOL/KG,,FMOL/KG,,UMOL/KG,,UMOL/KG,,UATM,,DEG C,,,DEG C,TU,,DEG C,,/MILLE,,/MILLE,,/MILLE,UMOL/KG,,UMOL/KG,,DBAR,NMOL/KG,,G/KG,,NMOL/KG,,/MILLE,,PMOL/KG,,,
33RO20131223,       A16S,      56,          1,         24,         24,2,20140111,       2348,   -33.4968,   -24.9985,       4388,     3.3,  22.9160,  35.4694,2,  35.4728,2,    221.1,2,   223.7,2,     0.8,2,     0.1,2,    0.00,2,   0.075,2,-999.000,5,-999.000,9,-999.000,9,  2062.1,6, 2334.86,2,-999.0000,9, -999.00,   7.9768,2,       25,-999.000,9,  22.8832,2, -999.00,9,  -999.0,9,  -999.0,-999.00000000,9,-999.00000000,9,     3.3,     -999.0,9,    35.6401,2,     -999.0,9,         -999.0,9,  -999.0,9,20140112,       0129
33RO20131223,       A16S,      56,          1,         23,         23,2,20140111,       2348,   -33.4968,   -24.9985,       4388,    28.4,  20.5051,  35.4526,2,  35.4940,2,    228.4,2,   231.6,2,     0.9,2,     0.1,2,    0.00,2,   0.088,2,-999.000,5,-999.000,9,-999.000,9,  2066.5,2, 2336.73,6,-999.0000,9, -999.00,   7.9726,6,       25,-999.000,9,  20.4989,2, -999.00,9,  -999.0,9,  -999.0,-999.00000000,9,-999.00000000,9,    28.4,     -999.0,9,    35.6614,2,     -999.0,9,         -999.0,9,  -999.0,9,20140112,       0127
33RO20131223,       A16S,      56,          1,         22,         22,2,20140111,       2348,   -33.4968,   -24.9985,       4388,    63.1,  18.2052,  35.6087,2,  35.6076,2,    240.4,2,   240.7,2,     0.9,2,     0.1,2,    0.00,2,   0.090,2,-999.000,5,-999.000,9,-999.000,9,  2072.6,2, 2341.04,2,-999.0000,9, -999.00,   7.9724,2,       25,-999.000,9,  18.2045,2, -999.00,9,  -999.0,9,  -999.0,-999.00000000,9,-999.00000000,9,    63.1,     -999.0,9,    35.7755,2,     -999.0,9,         -999.0,9,  -999.0,9,20140112,       0125
33RO20131223,       A16S,      56,          1,         21,         21,2,20140111,       2348,   -33.4968,   -24.9985,       4388,   112.6,  16.1910,  35.5253,2,  35.5214,2,    241.5,2,   239.3,2,     1.1,2,     0.3,2,    0.02,2,   0.172,2,-999.000,5,-999.000,9,-999.000,9,  2083.5,2, 2335.84,2,-999.0000,9, -999.00,   7.9464,2,       25,-999.000,9,  16.1647,2, -999.00,9,  -999.0,9,  -999.0,-999.00000000,9,-999.00000000,9,   112.6,     -999.0,9,    35.6889,2,     -999.0,9,         -999.0,9,  -999.0,9,20140112,       0122
33RO20131223,       A16S,      56,          1,         20,         20,2,20140111,       2348,   -33.4968,   -24.9985,       4388,   183.2,  14.5525,  35.4442,2,  35.4447,2,    223.1,2,   223.7,2,     1.6,2,     5.1,2,    0.02,2,   0.456,2,-999.000,5,-999.000,9,-999.000,9,  -999.0,9, -999.00,9,-999.0000,9, -999.00,-999.0000,9,  -999.00,-999.000,9,  14.5542,2, -999.00,9,  -999.0,9,  -999.0,-999.00000000,9,-999.00000000,9,   183.2,     -999.0,9,    35.6118,2,     -999.0,9,         -999.0,9,  -999.0,9,20140112,       0120
33RO20131223,       A16S,      56,          1,         19,         19,2,20140111,       2348,   -33.4968,   -24.9985,       4388,   258.4,  13.6936,  35.3375,2,  35.3359,2,    232.9,2,   232.9,2,     1.8,2,     6.2,2,    0.01,2,   0.529,2,-999.000,5,-999.000,9,-999.000,9,  2110.6,2, 2330.59,2,-999.0000,9, -999.00,   7.8784,2,       25,-999.000,9,  13.6891,2, -999.00,9,  -999.0,9,  -999.0,-999.00000000,9,-999.00000000,9,   258.4,     -999.0,9,    35.5026,2,     -999.0,9,         -999.0,9,  -999.0,9,20140112,       0118
33RO20131223,       A16S,      56,          1,         18,         18,2,20140111,       2348,   -33.4968,   -24.9985,       4388,   347.5,  12.7540,  35.2170,2,  35.2148,2,    211.9,2,   212.7,2,     3.1,2,    10.7,2,    0.01,2,   0.801,2,-999.000,5,-999.000,9,-999.000,9,  2127.5,2, 2323.46,2,-999.0000,9, -999.00,    7.828,2,       25,-999.000,9,  12.7539,2, -999.00,9,  -999.0,9,  -999.0,-999.00000000,9,-999.00000000,9,   347.5,     -999.0,9,    35.3808,2,     -999.0,9,         -999.0,9,  -999.0,9,20140112,       0115
33RO20131223,       A16S,      56,          1,         17,         17,2,20140111,       2348,   -33.4968,   -24.9985,       4388,   447.3,  10.7503,  34.9143,2,  34.9105,2,    208.7,2,   208.8,2,     5.0,2,    15.8,2,    0.00,2,   1.118,2,-999.000,5,-999.000,9,-999.000,9,  2140.2,2, 2303.46,2,-999.0000,9, -999.00,   7.7706,2,       25,-999.000,9,  10.7414,2, -999.00,9,  -999.0,9,  -999.0,-999.00000000,9,-999.00000000,9,   447.3,     -999.0,9,    35.0751,6,     -999.0,9,         -999.0,9,  -999.0,9,20140112,       0112
33RO20131223,       A16S,      56,          1,         16,         16,2,20140111,       2348,   -33.4968,   -24.9985,       4388,   572.5,   7.8661,  34.5415,2,  34.5389,2,    213.2,2,   212.9,2,     9.1,2,    22.4,2,    0.00,2,   1.536,2,-999.000,5,-999.000,9,-999.000,9,  2155.6,2, 2289.16,2,-999.0000,9, -999.00,   7.6956,2,       25,-999.000,9,   7.8638,2, -999.00,9,  -999.0,9,  -999.0,-999.00000000,9,-999.00000000,9,   572.5,     -999.0,9,    34.7017,2,     -999.0,9,         -999.0,9,  -999.0,9,20140112,       0109
33RO20131223,       A16S,      56,          1,         15,         15,2,20140111,       2348,   -33.4968,   -24.9985,       4388,   718.1,   5.3339,  34.2612,2,  34.2604,2,    241.8,2,   241.4,2,    12.0,2,    26.0,2,    0.00,2,   1.778,2,-999.000,5,-999.000,9,-999.000,9,  2159.6,2, 2283.05,2,-999.0000,9, -999.00,   7.6639,2,       25,-999.000,9,   5.3399,2, -999.00,9,  -999.0,9,  -999.0,-999.00000000,9,-999.00000000,9,   718.1,     -999.0,9,    34.4219,2,     -999.0,9,         -999.0,9,  -999.0,9,20140112,       0105
33RO20131223,       A16S,      56,          1,         14,         14,2,20140111,       2348,   -33.4968,   -24.9985,       4388,   872.6,   4.3223,  34.2254,2,  34.2245,2,    239.7,2,   238.8,2,    18.7,2,    28.4,2,    0.00,2,   1.936,2,-999.000,5,-999.000,9,-999.000,9,  -999.0,9, -999.00,9,-999.0000,9, -999.00,-999.0000,9,  -999.00,-999.000,9,    4.321,2, -999.00,9,  -999.0,9,  -999.0,-999.00000000,9,-999.00000000,9,   872.6,     -999.0,9,    34.3859,2,     -999.0,9,         -999.0,9,  -999.0,9,20140112,       0102
33RO20131223,       A16S,      56,          1,         13,         13,2,20140111,       2348,   -33.4968,   -24.9985,       4388,  1047.4,   3.6754,  34.2934,2,  34.2928,2,    216.5,2,   215.8,2,    31.5,2,    31.1,2,    0.00,2,   2.122,2,-999.000,5,-999.000,9,-999.000,9,  2196.2,2, 2299.38,2,-999.0000,9, -999.00,   7.8533,4,       25,-999.000,9,   3.6757,2, -999.00,9,  -999.0,9,  -999.0,-999.00000000,9,-999.00000000,9,  1047.4,     -999.0,9,    34.4545,2,     -999.0,9,         -999.0,9,  -999.0,9,20140112,       0058
33RO20131223,       A16S,      56,          1,         12,         12,2,20140111,       2348,   -33.4968,   -24.9985,       4388,  1198.4,   3.2057,  34.3719,2,  34.3699,2,    199.3,2,   199.2,2,    43.1,2,    32.6,2,    0.00,2,   2.225,2,-999.000,5,-999.000,9,-999.000,9,  -999.0,9, -999.00,9,-999.0000,9, -999.00,-999.0000,9,  -999.00,-999.000,9,   3.2064,2, -999.00,9,  -999.0,9,  -999.0,-999.00000000,9,-999.00000000,9,  1198.4,     -999.0,9,     34.532,2,     -999.0,9,         -999.0,9,  -999.0,9,20140112,       0054
33RO20131223,       A16S,      56,          1,         11,         11,2,20140111,       2348,   -33.4968,   -24.9985,       4388,  1347.4,   2.9957,  34.4523,2,  34.4520,2,    189.3,2,   189.4,2,    51.1,6,    32.9,6,    0.00,6,   2.249,6,-999.000,5,-999.000,9,-999.000,9,  2226.5,2, 2318.45,6,-999.0000,9, -999.00,   7.5721,2,       25,-999.000,9,   2.9961,2, -999.00,9,  -999.0,9,  -999.0,-999.00000000,9,-999.00000000,9,  1347.4,     -999.0,9,    34.6144,2,     -999.0,9,         -999.0,9,  -999.0,9,20140112,       0050
33RO20131223,       A16S,      56,          1,         10,         10,2,20140111,       2348,   -33.4968,   -24.9985,       4388,    1547,   2.8699,  34.5761,2,  34.5741,2,    184.7,2,     185,2,    56.5,6,    32.0,6,    0.00,6,   2.189,6,-999.000,5,-999.000,9,-999.000,9,    2232,6, 2326.17,2,-999.0000,9, -999.00,   7.5798,2,       25,-999.000,9,   2.8702,2, -999.00,9,  -999.0,9,  -999.0,-999.00000000,9,-999.00000000,9,  1547.0,     -999.0,9,    34.7371,2,     -999.0,9,         -999.0,9,  -999.0,9,20140112,       0046
33RO20131223,       A16S,      56,          1,          9,          9,2,20140111,       2348,   -33.4968,   -24.9985,       4388,  1797.4,   2.8679,  34.7011,2,  34.7012,2,    192.4,2,   192.7,2,    55.6,6,    29.8,6,    0.00,6,   2.023,6,-999.000,5,-999.000,9,-999.000,9,    2226,2, 2332.89,2,-999.0000,9, -999.00,   7.6088,2,       25,-999.000,9,   2.8678,2, -999.00,9,  -999.0,9,  -999.0,-999.00000000,9,-999.00000000,9,  1797.4,     -999.0,9,    34.8649,2,     -999.0,9,         -999.0,9,  -999.0,9,20140112,       0040
33RO20131223,       A16S,      56,          1,          8,          8,2,20140111,       2348,   -33.4968,   -24.9985,       4388,  2098.8,   2.8392,  34.8024,2,  34.8023,2,    213.8,2,   213.8,2,    48.3,6,    26.4,6,    0.00,6,   1.787,6,-999.000,5,-999.000,9,-999.000,9,  -999.0,9, -999.00,9,-999.0000,9, -999.00,-999.0000,9,  -999.00,-999.000,9,   2.8392,2, -999.00,9,  -999.0,9,  -999.0,-999.00000000,9,-999.00000000,9,  2098.8,     -999.0,9,    34.9664,2,     -999.0,9,         -999.0,9,  -999.0,9,20140112,       0035
33RO20131223,       A16S,      56,          1,          7,          7,2,20140111,       2348,   -33.4968,   -24.9985,       4388,  2398.4,   2.8020,  34.8553,2,  34.8549,2,    227.5,2,   228.2,2,    42.8,6,    24.2,6,    0.00,6,   1.637,6,-999.000,5,-999.000,9,-999.000,9,  2196.5,2, 2334.62,2,-999.0000,9, -999.00,   7.7025,2,       25,-999.000,9,   2.8022,2, -999.00,9,  -999.0,9,  -999.0,-999.00000000,9,-999.00000000,9,  2398.4,     -999.0,9,    35.0192,6,     -999.0,9,         -999.0,9,  -999.0,9,20140112,       0029
33RO20131223,       A16S,      56,          1,          6,          6,2,20140111,       2348,   -33.4968,   -24.9985,       4388,  2747.7,   2.7307,  34.8818,2,  34.8810,2,    236.2,2,   237.5,2,    40.0,6,    22.9,6,    0.00,6,   1.541,6,-999.000,5,-999.000,9,-999.000,9,  2189.2,2, 2333.66,2,-999.0000,9, -999.00,    7.701,2,       25,-999.000,9,   2.7304,2, -999.00,9,  -999.0,9,  -999.0,-999.00000000,9,-999.00000000,9,  2747.7,     -999.0,9,    35.0455,2,     -999.0,9,         -999.0,9,  -999.0,9,20140112,       0022
33RO20131223,       A16S,      56,          1,          5,          5,2,20140111,       2348,   -33.4968,   -24.9985,       4388,  3148.1,   2.4928,  34.8799,2,  34.8796,2,    240.3,2,   241.4,2,    44.4,2,    22.8,2,    0.00,2,   1.539,2,-999.000,5,-999.000,9,-999.000,9,  2191.2,2, 2336.48,2,-999.0000,9, -999.00,   7.7056,6,       25,-999.000,9,   2.4931,2, -999.00,9,  -999.0,9,  -999.0,-999.00000000,9,-999.00000000,9,  3148.1,     -999.0,9,    35.0441,2,     -999.0,9,         -999.0,9,  -999.0,9,20140112,       0014
33RO20131223,       A16S,      56,          1,          4,          4,2,20140111,       2348,   -33.4968,   -24.9985,       4388,  3547.4,   2.0176,  34.8405,2,  34.8396,2,    236.8,2,   237.3,2,    60.7,2,    24.8,2,    0.00,2,   1.676,2,-999.000,5,-999.000,9,-999.000,9,  -999.0,9, -999.00,9,-999.0000,9, -999.00,-999.0000,9,  -999.00,-999.000,9,   2.0179,2, -999.00,9,  -999.0,9,  -999.0,-999.00000000,9,-999.00000000,9,  3547.4,     -999.0,9,    35.0039,2,     -999.0,9,         -999.0,9,  -999.0,9,20140112,       0007
33RO20131223,       A16S,      56,          1,          3,          3,2,20140111,       2348,   -33.4968,   -24.9985,       4388,  3947.6,   1.5367,  34.7886,2,  34.7883,2,    228.7,2,   228.9,2,    81.1,2,    27.4,2,    0.01,2,   1.871,2,-999.000,5,-999.000,9,-999.000,9,  2226.3,2, 2352.31,6,-999.0000,9, -999.00,   7.6599,2,       25,-999.000,9,   1.5368,2, -999.00,9,  -999.0,9,  -999.0,-999.00000000,9,-999.00000000,9,  3947.6,     -999.0,9,    34.9524,2,     -999.0,9,         -999.0,9,  -999.0,9,20140111,       2359
33RO20131223,       A16S,      56,          1,          2,          2,2,20140111,       2348,   -33.4968,   -24.9985,       4388,    4197,   1.2614,  34.7562,2,  34.7554,2,    222.9,2,     223,2,    94.1,2,    29.1,2,    0.00,2,   1.987,2,-999.000,5,-999.000,9,-999.000,9,  -999.0,9, -999.00,9,-999.0000,9, -999.00,-999.0000,9,  -999.00,-999.000,9,   1.2611,2, -999.00,9,  -999.0,9,  -999.0,-999.00000000,9,-999.00000000,9,  4197.0,     -999.0,9,    34.9193,2,     -999.0,9,         -999.0,9,  -999.0,9,20140111,       2354
33RO20131223,       A16S,      56,          1,          1,          1,2,20140111,       2348,   -33.4968,   -24.9985,       4388,  4445.9,   0.9772,  34.7241,2,  34.7248,2,      218,2,   218.9,2,   106.9,2,    30.7,2,    0.01,2,   2.104,2,-999.000,5,-999.000,9,-999.000,9,  2252.3,6,  2363.4,2,-999.0000,9, -999.00,   7.6199,2,       25,-999.000,9,   0.9767,2, -999.00,9,  -999.0,9,  -999.0,-999.00000000,9,-999.00000000,9,  4445.9,     -999.0,9,    34.8885,2,     -999.0,9,         -999.0,9,  -999.0,9,20140111,       2348