BOTTLE,20220815CCHSIOAMB
EXPOCODE,SECT_ID,STNNBR,CASTNO,SAMPNO,BTLNBR,BTLNBR_FLAG_W,DATE,TIME,LATITUDE,LONGITUDE,DEPTH,CTDPRS,CTDTMP,CTDSAL,CTDSAL_FLAG_W,SALNTY,SALNTY_FLAG_W,CTDOXY,CTDOXY_FLAG_W,OXYGEN,OXYGEN_FLAG_W,SILCAT,SILCAT_FLAG_W,NITRAT,NITRAT_FLAG_W,NITRIT,NITRIT_FLAG_W,PHSPHT,PHSPHT_FLAG_W,CFC-11,CFC-11_FLAG_W,CFC-12,CFC-12_FLAG_W,SF6,SF6_FLAG_W,TCARBN,TCARBN_FLAG_W,ALKALI,ALKALI_FLAG_W,PCO2,PCO2_FLAG_W,PCO2TMP,PH_SWS,PH_SWS_FLAG_W,PH_TMP,TRITUM,TRITUM_FLAG_W,REFTMP,REFTMP_FLAG_W,DELC13,DELC13_FLAG_W,DELC14,DELC14_FLAG_W,C14ERR,DOC,DOC_FLAG_W,TDN,TDN_FLAG_W,CTDRAW,N2O,N2O_FLAG_W,SALTREF,SALTREF_FLAG_W,HELIUM,HELIUM_FLAG_W,DELO18,DELO18_FLAG_W,CCL4,CCL4_FLAG_W,BTL_DATE,BTL_TIME
,,,,,,,,,,,METERS,DBAR,ITS-90,PSS-78,,PSS-78,,UMOL/KG,,UMOL/KG,,UMOL/KG,,UMOL/KG,,UMOL/KG,,UMOL/KG,,PMOL/KG,,PMOL/KG,,FMOL/KG,,UMOL/KG,,UMOL/KG,,UATM,,DEG C,,,DEG C,TU,,DEG C,,/MILLE,,/MILLE,,/MILLE,UMOL/KG,,UMOL/KG,,DBAR,NMOL/KG,,G/KG,,NMOL/KG,,/MILLE,,PMOL/KG,,,
33RO20131223,       A16S,      58,          1,         24,         24,2,20140112,       1320,   -34.4997,   -24.9993,       3973,     3.4,  21.8715,  35.2797,2,  35.2807,2,    223.1,2,   225.5,2,     0.8,2,     0.0,2,    0.00,2,   0.125,2,   1.974,3,   1.255,2,   1.476,2,  2063.6,6, 2323.17,2,-999.0000,9, -999.00,    7.966,6,       25,-999.000,9,  21.8737,2, -999.00,9,  -999.0,9,  -999.0,-999.00000000,9,-999.00000000,9,     3.4,      7.309,2,    35.4471,2,     -999.0,9,         -999.0,9,  -999.0,9,20140112,       1454
33RO20131223,       A16S,      58,          1,         23,         23,2,20140112,       1320,   -34.4997,   -24.9993,       3973,    28.2,  19.6005,  35.2611,2,  35.2729,2,    232.7,2,   237.2,2,     0.7,2,     0.0,2,    0.00,2,   0.132,2,-999.000,5,-999.000,9,-999.000,9,  -999.0,9, -999.00,9,-999.0000,9, -999.00,-999.0000,9,  -999.00,-999.000,9,  19.6021,2, -999.00,9,  -999.0,9,  -999.0,-999.00000000,9,-999.00000000,9,    28.2,     -999.0,9,    35.4393,2,     -999.0,9,         -999.0,9,  -999.0,9,20140112,       1452
33RO20131223,       A16S,      58,          1,         22,         22,2,20140112,       1320,   -34.4997,   -24.9993,       3973,      68,  15.2204,  35.3355,2,  35.3355,2,    256.9,2,   256.6,2,     0.7,2,     0.1,2,    0.02,2,   0.195,2,   2.594,3,   1.570,2,   1.734,2,  2080.5,2,  2331.8,2,-999.0000,9, -999.00,   7.9455,2,       25,-999.000,9,  15.2367,2, -999.00,9,  -999.0,9,  -999.0,-999.00000000,9,-999.00000000,9,    68.0,      8.905,2,    35.5021,2,     -999.0,9,         -999.0,9,  -999.0,9,20140112,       1450
33RO20131223,       A16S,      58,          1,         21,         21,2,20140112,       1320,   -34.4997,   -24.9993,       3973,   107.7,  14.3327,  35.3752,2,  35.3751,2,    232.2,2,   230.4,2,     1.4,2,     4.6,2,    0.03,2,   0.438,2,-999.000,5,-999.000,9,-999.000,9,  2106.7,2, 2330.92,2,-999.0000,9, -999.00,   7.8914,2,       25,-999.000,9,  14.3285,2, -999.00,9,  -999.0,9,  -999.0,-999.00000000,9,-999.00000000,9,   107.7,     -999.0,9,    35.5419,2,     -999.0,9,         -999.0,9,  -999.0,9,20140112,       1448
33RO20131223,       A16S,      58,          1,         20,         20,2,20140112,       1320,   -34.4997,   -24.9993,       3973,   173.5,  13.7421,  35.3569,2,  35.3562,2,    223.8,2,   222.7,2,     2.0,2,     7.1,2,    0.02,2,   0.587,2,-999.000,5,-999.000,9,-999.000,9,  2120.6,2, 2331.76,2,-999.0000,9, -999.00,   7.8652,2,       25,-999.000,9,  13.7443,2, -999.00,9,  -999.0,9,  -999.0,-999.00000000,9,-999.00000000,9,   173.5,     -999.0,9,    35.5229,2,     -999.0,9,         -999.0,9,  -999.0,9,20140112,       1445
33RO20131223,       A16S,      58,          1,         19,         19,2,20140112,       1320,   -34.4997,   -24.9993,       3973,     258,  13.0239,  35.2709,2,  35.2685,2,    217.2,2,   217.4,2,     2.7,2,     9.6,2,    0.01,2,   0.735,2,-999.000,5,-999.000,9,-999.000,9,  2128.1,2, 2326.98,2,-999.0000,9, -999.00,   7.8428,2,       25,-999.000,9,  13.0203,2, -999.00,9,  -999.0,9,  -999.0,-999.00000000,9,-999.00000000,9,   258.0,     -999.0,9,    35.4348,2,     -999.0,9,         -999.0,9,  -999.0,9,20140112,       1443
33RO20131223,       A16S,      58,          1,         18,         18,2,20140112,       1320,   -34.4997,   -24.9993,       3973,   367.9,  11.4972,  35.0307,2,  35.0240,2,    213.5,2,   213.4,2,     3.9,2,    13.6,2,    0.01,2,   0.985,2,-999.000,5,-999.000,9,-999.000,9,  2137.3,2, 2311.78,2,-999.0000,9, -999.00,   7.7931,2,       25,-999.000,9,  11.4963,2, -999.00,9,  -999.0,9,  -999.0,-999.00000000,9,-999.00000000,9,   367.9,     -999.0,9,    35.1892,2,     -999.0,9,         -999.0,9,  -999.0,9,20140112,       1440
33RO20131223,       A16S,      58,          1,         17,         17,2,20140112,       1320,   -34.4997,   -24.9993,       3973,   468.3,   9.1174,  34.6809,2,  34.6783,2,    212.9,2,   212.7,2,     6.3,2,    19.4,2,    0.00,2,   1.348,2,   3.204,3,   1.815,2,   1.326,2,  2150.6,2, 2293.67,2,-999.0000,9, -999.00,   7.7297,2,       25,-999.000,9,   9.1184,2, -999.00,9,  -999.0,9,  -999.0,-999.00000000,9,-999.00000000,9,   468.3,     14.298,2,    34.8418,2,     -999.0,9,         -999.0,9,  -999.0,9,20140112,       1437
33RO20131223,       A16S,      58,          1,         16,         16,2,20140112,       1320,   -34.4997,   -24.9993,       3973,   597.6,   6.3892,  34.3666,2,  34.3633,2,    228.7,2,   228.8,2,    10.3,2,    24.7,2,    0.00,2,   1.692,2,-999.000,5,-999.000,9,-999.000,9,  2161.4,2, 2282.09,2,-999.0000,9, -999.00,   7.6762,2,       25,-999.000,9,    6.396,2, -999.00,9,  -999.0,9,  -999.0,-999.00000000,9,-999.00000000,9,   597.6,     -999.0,9,    34.5254,2,     -999.0,9,         -999.0,9,  -999.0,9,20140112,       1434
33RO20131223,       A16S,      58,          1,         15,         15,2,20140112,       1320,   -34.4997,   -24.9993,       3973,     773,   4.5720,  34.2409,2,  34.2410,2,    236.9,2,   237.3,2,    17.5,2,    28.0,2,    0.00,2,   1.913,2,-999.000,5,-999.000,9,-999.000,9,  -999.0,9, -999.00,9,-999.0000,9, -999.00,-999.0000,9,  -999.00,-999.000,9,   4.5727,2, -999.00,9,  -999.0,9,  -999.0,-999.00000000,9,-999.00000000,9,   773.0,     -999.0,9,    34.4024,6,     -999.0,9,         -999.0,9,  -999.0,9,20140112,       1429
33RO20131223,       A16S,      58,          1,         14,         14,2,20140112,       1320,   -34.4997,   -24.9993,       3973,   923.3,   3.9055,  34.2766,2,  34.2758,2,    219.7,2,     221,2,    27.7,2,    30.5,2,    0.00,2,   2.086,2,-999.000,5,-999.000,9,-999.000,9,    2193,2, 2296.24,2,-999.0000,9, -999.00,   7.6157,6,       25,-999.000,9,   3.9012,2, -999.00,9,  -999.0,9,  -999.0,-999.00000000,9,-999.00000000,9,   923.3,     -999.0,9,    34.4375,2,     -999.0,9,         -999.0,9,  -999.0,9,20140112,       1426
33RO20131223,       A16S,      58,          1,         13,         13,2,20140112,       1320,   -34.4997,   -24.9993,       3973,  1023.1,   3.4384,  34.2868,2,  34.2863,2,    216.8,2,   216.1,2,    33.5,2,    31.5,2,    0.00,2,   2.159,2,-999.000,5,-999.000,9,-999.000,9,  -999.0,9, -999.00,9,-999.0000,9, -999.00,-999.0000,9,  -999.00,-999.000,9,   3.4376,2, -999.00,9,  -999.0,9,  -999.0,-999.00000000,9,-999.00000000,9,  1023.1,     -999.0,9,     34.448,2,     -999.0,9,         -999.0,9,  -999.0,9,20140112,       1423
33RO20131223,       A16S,      58,          1,         12,         12,2,20140112,       1320,   -34.4997,   -24.9993,       3973,    1199,   3.0524,  34.3722,2,  34.3713,2,    197.3,2,   197.7,2,    45.8,2,    33.0,2,    0.00,2,   2.262,2,   1.362,3,   0.694,6,   0.312,6,  2222.8,2, 2312.49,2,-999.0000,9, -999.00,   7.5726,2,       25,-999.000,9,   3.0527,2, -999.00,9,  -999.0,9,  -999.0,-999.00000000,9,-999.00000000,9,  1199.0,     20.653,6,    34.5334,2,     -999.0,9,         -999.0,9,  -999.0,9,20140112,       1419
33RO20131223,       A16S,      58,          1,         11,         11,2,20140112,       1320,   -34.4997,   -24.9993,       3973,  1347.7,   2.9364,  34.4726,2,  34.4728,2,    186.3,2,   186.6,2,    53.3,2,    33.1,2,    0.00,2,   2.268,2,-999.000,5,-999.000,9,-999.000,9,  2232.2,2, 2321.74,6,-999.0000,9, -999.00,   7.5687,2,       25,-999.000,9,   2.9366,2, -999.00,9,  -999.0,9,  -999.0,-999.00000000,9,-999.00000000,9,  1347.7,     -999.0,9,    34.6353,2,     -999.0,9,         -999.0,9,  -999.0,9,20140112,       1415
33RO20131223,       A16S,      58,          1,         10,         10,2,20140112,       1320,   -34.4997,   -24.9993,       3973,  1527.9,   2.8467,  34.5631,2,  34.5615,2,    182.8,2,     182,2,    58.3,2,    32.6,2,    0.00,2,   2.235,2,-999.000,5,-999.000,9,-999.000,9,  2237.6,6, 2327.12,2,-999.0000,9, -999.00,   7.5721,2,       25,-999.000,9,   2.8466,2, -999.00,9,  -999.0,9,  -999.0,-999.00000000,9,-999.00000000,9,  1527.9,     -999.0,9,    34.7244,2,     -999.0,9,         -999.0,9,  -999.0,9,20140112,       1411
33RO20131223,       A16S,      58,          1,          9,          9,2,20140112,       1320,   -34.4997,   -24.9993,       3973,  1647.5,   2.8526,  34.6391,2,  34.6386,2,    184.8,2,   185.3,2,    58.3,2,    31.3,2,    0.00,2,   2.144,2,-999.000,5,-999.000,9,-999.000,9,  2236.3,2, 2329.38,2,-999.0000,9, -999.00,   7.5868,2,       25,-999.000,9,   2.8526,2, -999.00,9,  -999.0,9,  -999.0,-999.00000000,9,-999.00000000,9,  1647.5,     -999.0,9,    34.8019,2,     -999.0,9,         -999.0,9,  -999.0,9,20140112,       1408
33RO20131223,       A16S,      58,          1,          8,          8,2,20140112,       1320,   -34.4997,   -24.9993,       3973,  1847.7,   2.8892,  34.7302,2,  34.7286,2,    196.5,2,   196.8,2,    54.6,2,    29.0,2,    0.00,2,   1.979,2,-999.000,5,-999.000,9,-999.000,9,  2225.6,2, 2333.48,2,-999.0000,9, -999.00,   7.6158,2,       25,-999.000,9,    2.889,2, -999.00,9,  -999.0,9,  -999.0,-999.00000000,9,-999.00000000,9,  1847.7,     -999.0,9,    34.8923,2,     -999.0,9,         -999.0,9,  -999.0,9,20140112,       1404
33RO20131223,       A16S,      58,          1,          7,          7,2,20140112,       1320,   -34.4997,   -24.9993,       3973,  2097.1,   2.9025,  34.8049,2,  34.8049,2,    212.6,2,   212.3,2,    48.4,2,    26.4,2,    0.00,2,   1.800,2,-999.000,5,-999.000,9,-999.000,9,  -999.0,9, -999.00,9,-999.0000,9, -999.00,-999.0000,9,  -999.00,-999.000,9,   2.9023,2, -999.00,9,  -999.0,9,  -999.0,-999.00000000,9,-999.00000000,9,  2097.1,     -999.0,9,     34.969,2,     -999.0,9,         -999.0,9,  -999.0,9,20140112,       1358
33RO20131223,       A16S,      58,          1,          6,          6,2,20140112,       1320,   -34.4997,   -24.9993,       3973,  2397.9,   2.8532,  34.8616,2,  34.8619,2,    228.4,2,   229.5,2,    42.0,2,    24.0,2,    0.00,2,   1.629,2,-999.000,5,-999.000,9,-999.000,9,  2196.4,2, 2332.54,2,-999.0000,9, -999.00,   7.6852,2,       25,-999.000,9,   2.8531,2, -999.00,9,  -999.0,9,  -999.0,-999.00000000,9,-999.00000000,9,  2397.9,     -999.0,9,    35.0263,2,     -999.0,9,         -999.0,9,  -999.0,9,20140112,       1352
33RO20131223,       A16S,      58,          1,          5,          5,2,20140112,       1320,   -34.4997,   -24.9993,       3973,  2747.7,   2.7509,  34.8833,2,  34.8829,2,    237.7,2,   237.7,2,    40.0,2,    22.8,2,    0.00,2,   1.553,2,-999.000,5,-999.000,9,-999.000,9,  -999.0,9, -999.00,9,-999.0000,9, -999.00,-999.0000,9,  -999.00,-999.000,9,    2.751,2, -999.00,9,  -999.0,9,  -999.0,-999.00000000,9,-999.00000000,9,  2747.7,     -999.0,9,    35.0474,2,     -999.0,9,         -999.0,9,  -999.0,9,20140112,       1346
33RO20131223,       A16S,      58,          1,          4,          4,2,20140112,       1320,   -34.4997,   -24.9993,       3973,  3147.1,   2.4793,  34.8762,2,  34.8763,2,    239.6,2,   240.5,2,    45.7,6,    23.0,6,    0.00,6,   1.559,6,   0.036,3,   0.013,2,   0.000,2,  2194.3,2, 2336.42,2,-999.0000,9, -999.00,   7.7035,2,       25,-999.000,9,    2.479,2, -999.00,9,  -999.0,9,  -999.0,-999.00000000,9,-999.00000000,9,  3147.1,     14.489,2,    35.0407,2,     -999.0,9,         -999.0,9,  -999.0,9,20140112,       1337
33RO20131223,       A16S,      58,          1,          3,          3,2,20140112,       1320,   -34.4997,   -24.9993,       3973,  3547.6,   1.9494,  34.8290,2,  34.8287,2,    234.3,2,   234.5,2,    64.9,6,    25.4,6,    0.00,6,   1.724,6,   0.049,3,   0.020,2,   0.062,2,    2213,2, 2344.16,6,-999.0000,9, -999.00,   7.6795,2,       25,-999.000,9,   1.9492,2, -999.00,9,  -999.0,9,  -999.0,-999.00000000,9,-999.00000000,9,  3547.6,     15.305,2,     34.993,6,     -999.0,9,         -999.0,9,  -999.0,9,20140112,       1330
33RO20131223,       A16S,      58,          1,          2,          2,2,20140112,       1320,   -34.4997,   -24.9993,       3973,  3947.9,   1.5866,  34.7920,2,  34.7920,2,    229.9,2,   229.1,2,    79.6,6,    27.1,6,    0.00,6,   1.852,6,   0.077,3,   0.033,2,   0.055,2,  -999.0,9, -999.00,9,-999.0000,9, -999.00,-999.0000,9,  -999.00,-999.000,9,   1.5871,2, -999.00,9,  -999.0,9,  -999.0,-999.00000000,9,-999.00000000,9,  3947.9,     15.947,2,    34.9561,2,     -999.0,9,         -999.0,9,  -999.0,9,20140112,       1322
33RO20131223,       A16S,      58,          1,          1,          1,2,20140112,       1320,   -34.4997,   -24.9993,       3973,    4021,   1.5239,  34.7854,2,  34.7915,4,    228.8,2,   228.5,2,    82.4,6,    27.5,6,    0.00,6,   1.869,6,   0.084,3,   0.037,2,   0.042,2,  2230.6,6, 2352.64,2,-999.0000,9, -999.00,   7.6574,2,       25,-999.000,9,   1.5238,2, -999.00,9,  -999.0,9,  -999.0,-999.00000000,9,-999.00000000,9,  4021.0,     16.128,2,    34.9556,2,     -999.0,9,         -999.0,9,  -999.0,9,20140112,       1320