BOTTLE,20220815CCHSIOAMB
EXPOCODE,SECT_ID,STNNBR,CASTNO,SAMPNO,BTLNBR,BTLNBR_FLAG_W,DATE,TIME,LATITUDE,LONGITUDE,DEPTH,CTDPRS,CTDTMP,CTDSAL,CTDSAL_FLAG_W,SALNTY,SALNTY_FLAG_W,CTDOXY,CTDOXY_FLAG_W,OXYGEN,OXYGEN_FLAG_W,SILCAT,SILCAT_FLAG_W,NITRAT,NITRAT_FLAG_W,NITRIT,NITRIT_FLAG_W,PHSPHT,PHSPHT_FLAG_W,CFC-11,CFC-11_FLAG_W,CFC-12,CFC-12_FLAG_W,SF6,SF6_FLAG_W,TCARBN,TCARBN_FLAG_W,ALKALI,ALKALI_FLAG_W,PCO2,PCO2_FLAG_W,PCO2TMP,PH_SWS,PH_SWS_FLAG_W,PH_TMP,TRITUM,TRITUM_FLAG_W,REFTMP,REFTMP_FLAG_W,DELC13,DELC13_FLAG_W,DELC14,DELC14_FLAG_W,C14ERR,DOC,DOC_FLAG_W,TDN,TDN_FLAG_W,CTDRAW,N2O,N2O_FLAG_W,SALTREF,SALTREF_FLAG_W,HELIUM,HELIUM_FLAG_W,DELO18,DELO18_FLAG_W,CCL4,CCL4_FLAG_W,BTL_DATE,BTL_TIME
,,,,,,,,,,,METERS,DBAR,ITS-90,PSS-78,,PSS-78,,UMOL/KG,,UMOL/KG,,UMOL/KG,,UMOL/KG,,UMOL/KG,,UMOL/KG,,PMOL/KG,,PMOL/KG,,FMOL/KG,,UMOL/KG,,UMOL/KG,,UATM,,DEG C,,,DEG C,TU,,DEG C,,/MILLE,,/MILLE,,/MILLE,UMOL/KG,,UMOL/KG,,DBAR,NMOL/KG,,G/KG,,NMOL/KG,,/MILLE,,PMOL/KG,,,
33RO20131223,       A16S,      67,          1,         24,         24,2,20140115,       0853,   -38.9946,   -27.1611,       4138,     5.1,  17.7606,  35.3400,2,  35.3411,2,    239.1,2,   240.3,2,     0.8,2,     0.0,2,    0.00,2,   0.169,2,   2.329,2,   1.430,2,   1.656,2,  2066.1,6, 2336.51,2,-999.0000,9, -999.00,    7.972,2,       25,-999.000,9,  17.7606,2,    1.51,2,    45.4,2,     2.1,  62.71680418,2,          3.5,2,     5.1,      7.875,2,    35.5078,2,     -999.0,9,         -999.0,9,  -999.0,9,20140115,       1028
33RO20131223,       A16S,      67,          1,         23,         23,2,20140115,       0853,   -38.9946,   -27.1611,       4138,    27.8,  17.7350,  35.3388,2,  35.3401,2,    239.2,2,   240.1,2,     0.8,2,     0.0,2,    0.00,2,   0.172,2,   2.361,2,   1.431,2,   1.636,2,  2067.3,2, 2330.66,6,-999.0000,9, -999.00,   7.9721,2,       25,-999.000,9,  17.7345,2,    1.47,2,    42.1,2,     2.3,  61.87619476,2,         3.76,2,    27.8,      7.931,2,    35.5068,2,     -999.0,9,         -999.0,9,  -999.0,9,20140115,       1027
33RO20131223,       A16S,      67,          1,         22,         22,2,20140115,       0853,   -38.9946,   -27.1611,       4138,    63.1,  15.6327,  35.3178,2,  35.3183,2,    249.6,2,   248.1,2,     0.9,2,     0.4,2,    0.11,2,   0.258,2,   2.590,2,   1.557,2,   1.702,2,  2079.3,2, 2332.39,2,-999.0000,9, -999.00,   7.9531,2,       25,-999.000,9,  15.6159,2,    1.41,2,    40.2,2,     2.4,  57.95583048,2,         4.64,2,    63.1,      8.500,2,    35.4848,2,     -999.0,9,         -999.0,9,  -999.0,9,20140115,       1025
33RO20131223,       A16S,      67,          1,         21,         21,2,20140115,       0853,   -38.9946,   -27.1611,       4138,     113,  14.2563,  35.4236,2,  35.4135,2,    236.8,2,   235.6,2,     1.6,2,     5.0,2,    0.03,2,   0.472,2,   2.702,2,   1.618,2,   1.736,2,  2105.4,2, 2323.44,2,-999.0000,9, -999.00,    7.896,2,       25,-999.000,9,  14.2552,2,    1.06,2,    45.0,2,     2.3,   56.7135139,2,         8.94,2,   113.0,      9.259,2,    35.5805,2,     -999.0,9,         -999.0,9,  -999.0,9,20140115,       1022
33RO20131223,       A16S,      67,          1,         20,         20,2,20140115,       0853,   -38.9946,   -27.1611,       4138,   182.4,  13.5068,  35.3627,2,  35.3640,2,    230.1,2,   232.1,2,     2.1,2,     7.3,2,    0.02,2,   0.609,2,   2.791,6,   1.655,2,   1.689,6,  2116.1,2, 2323.78,2,-999.0000,9, -999.00,   7.8722,2,       25,-999.000,9,  13.5065,2,    0.99,2,    46.5,2,     2.1,  51.28302827,2,        10.19,2,   182.4,     10.096,6,    35.5307,2,     -999.0,9,         -999.0,9,  -999.0,9,20140115,       1020
33RO20131223,       A16S,      67,          1,         19,         19,2,20140115,       0853,   -38.9946,   -27.1611,       4138,   258.9,  12.6359,  35.2033,2,  35.2031,2,    223.3,2,   224.8,2,     2.7,2,     9.8,2,    0.01,2,   0.765,2,   2.940,2,   1.718,2,   1.620,2,  2124.8,2,  2320.8,2,-999.0000,9, -999.00,   7.8408,2,       25,-999.000,9,  12.6323,2,    0.96,2,    47.6,2,     2.1,  49.21498031,2,        12.56,2,   258.9,     11.267,2,    35.3691,2,     -999.0,9,         -999.0,9,  -999.0,9,20140115,       1017
33RO20131223,       A16S,      67,          1,         18,         18,2,20140115,       0853,   -38.9946,   -27.1611,       4138,   347.6,  11.2048,  34.9661,2,  34.9610,2,    222.6,2,   220.1,2,     3.8,2,    13.6,2,    0.01,2,   1.002,2,   3.135,2,   1.781,2,   1.491,2,    2134,2,  2307.1,2,-999.0000,9, -999.00,   7.7933,2,       25,-999.000,9,  11.2041,2,    1.02,6,    37.6,6,     1.2,  45.99567266,2,        16.13,2,   347.6,     12.185,2,    35.1259,2,     -999.0,9,         -999.0,9,  -999.0,9,20140115,       1015
33RO20131223,       A16S,      67,          1,         17,         17,2,20140115,       0853,   -38.9946,   -27.1611,       4138,   448.5,   8.4728,  34.5793,2,  34.5807,2,    220.5,2,   221.3,2,     6.5,2,    20.0,2,    0.01,2,   1.412,2,   3.495,2,   1.920,2,   1.453,2,  2149.2,2, 2291.98,2,-999.0000,9, -999.00,   7.7184,2,       25,-999.000,9,   8.4732,2,    1.02,2,    20.9,2,     2.3,  44.20120183,2,        22.74,2,   448.5,     13.926,2,    34.7438,2,     -999.0,9,         -999.0,9,  -999.0,9,20140115,       1012
33RO20131223,       A16S,      67,          1,         16,         16,2,20140115,       0853,   -38.9946,   -27.1611,       4138,   572.4,   6.1307,  34.3177,2,  34.3152,2,    238.6,2,   237.6,2,     9.7,2,    24.4,2,    0.00,2,   1.693,2,   3.807,2,   2.044,2,   1.472,2,    2157,2, 2280.37,2,-999.0000,9, -999.00,   7.6971,4,       25,-999.000,9,   6.1262,2,    1.12,2,    -4.1,2,     2.1,  42.52973909,2,        27.01,2,   572.4,     14.659,2,     34.477,2,     -999.0,9,         -999.0,9,  -999.0,9,20140115,       1009
33RO20131223,       A16S,      67,          1,         15,         15,2,20140115,       0853,   -38.9946,   -27.1611,       4138,   723.4,   4.6722,  34.1974,2,  34.1977,2,    256.1,2,   254.9,2,    13.3,2,    26.4,2,    0.00,2,   1.824,2,   3.947,2,   2.104,2,   1.553,2,    2162,2, 2280.13,2,-999.0000,9, -999.00,   7.6646,2,       25,-999.000,9,   4.6744,2,    1.14,2,   -28.5,2,     1.9,  40.76421134,2,        29.04,2,   723.4,     14.869,2,    34.3589,6,     -999.0,9,         -999.0,9,  -999.0,9,20140115,       1005
33RO20131223,       A16S,      67,          1,         14,         14,2,20140115,       0853,   -38.9946,   -27.1611,       4138,   873.2,   4.0077,  34.2041,2,  34.2046,2,    244.8,2,     244,2,    20.0,2,    28.5,2,    0.00,2,   1.966,2,   3.486,2,   1.816,2,   1.159,2,  2175.8,2,  2285.2,2,-999.0000,9, -999.00,   7.6379,2,       25,-999.000,9,   4.0076,2,    1.09,2,   -49.1,2,     1.9,  39.83079708,2,        31.12,2,   873.2,     16.460,2,    34.3659,2,     -999.0,9,         -999.0,9,  -999.0,9,20140115,       1002
33RO20131223,       A16S,      67,          1,         13,         13,2,20140115,       0853,   -38.9946,   -27.1611,       4138,  1047.3,   3.4453,  34.2566,2,  34.2574,2,    223.7,2,   223.5,2,    30.9,2,    30.9,2,    0.00,2,   2.119,2,   2.652,2,   1.345,2,   0.722,2,    2197,2, 2294.07,2,-999.0000,9, -999.00,   7.6028,2,       25,-999.000,9,   3.4455,2,    0.94,2,   -76.8,2,     2.0,  39.67161015,2,        33.56,2,  1047.3,     18.523,2,    34.4189,2,     -999.0,9,         -999.0,9,  -999.0,9,20140115,       0958
33RO20131223,       A16S,      67,          1,         12,         12,2,20140115,       0853,   -38.9946,   -27.1611,       4138,  1248.1,   3.0771,  34.3624,2,  34.3630,2,    197.7,2,   198.7,2,    45.0,2,    32.7,2,    0.00,2,   2.242,2,   1.572,2,   0.779,2,   0.368,2,  2220.8,2, 2308.11,2,-999.0000,9, -999.00,   7.5727,2,       25,-999.000,9,   3.0772,2,    0.76,2,  -106.8,2,     1.9,   39.6354313,2,        35.41,2,  1248.1,     20.580,2,     34.525,2,     -999.0,9,         -999.0,9,  -999.0,9,20140115,       0953
33RO20131223,       A16S,      67,          1,         11,         11,2,20140115,       0853,   -38.9946,   -27.1611,       4138,  1448.7,   2.8892,  34.4791,2,  34.4819,2,    182.2,2,   183.2,2,    55.7,2,    33.2,2,    0.00,2,   2.275,2,   0.806,2,   0.393,2,   0.139,2,  2236.5,2, 2320.96,6,-999.0000,9, -999.00,   7.5816,4,       25,-999.000,9,   2.8892,2,    0.64,2,  -128.8,2,     1.9,  39.48348014,2,        35.74,2,  1448.7,     21.435,2,    34.6445,2,     -999.0,9,         -999.0,9,  -999.0,9,20140115,       0949
33RO20131223,       A16S,      67,          1,         10,         10,2,20140115,       0853,   -38.9946,   -27.1611,       4138,  1668.5,   2.8473,  34.5924,2,  34.5915,2,      179,2,   179.8,2,    60.1,2,    32.3,2,    0.00,2,   2.207,2,   0.418,6,   0.204,2,   0.062,6,  2240.8,6, 2328.53,2,-999.0000,9, -999.00,    7.568,2,       25,-999.000,9,   2.8473,2,    0.60,2,  -141.8,2,     1.8,  39.50518745,2,        34.79,2,  1668.5,     21.088,6,    34.7546,2,     -999.0,9,         -999.0,9,  -999.0,9,20140115,       0944
33RO20131223,       A16S,      67,          1,          9,          9,2,20140115,       0853,   -38.9946,   -27.1611,       4138,  1847.4,   2.8637,  34.6757,2,  34.6759,2,    183.7,2,   185.3,2,    59.8,2,    30.7,2,    0.00,2,   2.104,2,   0.254,2,   0.123,2,   0.050,2,  2237.4,2, 2337.13,2,-999.0000,9, -999.00,   7.5901,2,       25,-999.000,9,   2.8636,2,    0.63,2,  -135.5,2,     2.2,  39.16510629,2,        33.33,2,  1847.4,     20.350,2,    34.8394,6,     -999.0,9,         -999.0,9,  -999.0,9,20140115,       0940
33RO20131223,       A16S,      67,          1,          8,          8,2,20140115,       0853,   -38.9946,   -27.1611,       4138,  2049.5,   2.9055,  34.7481,2,  34.7474,2,      195,2,   195.7,2,    56.2,2,    28.8,2,    0.00,2,   1.963,2,   0.173,2,   0.085,2,   0.052,2,  2226.7,2, 2331.91,2,-999.0000,9, -999.00,    7.613,2,       25,-999.000,9,   2.9055,2,    0.68,2,  -134.8,2,     1.7,   40.4168944,2,        31.34,2,  2049.5,     19.085,2,    34.9113,2,     -999.0,9,         -999.0,9,  -999.0,9,20140115,       0935
33RO20131223,       A16S,      67,          1,          7,          7,2,20140115,       0853,   -38.9946,   -27.1611,       4138,  2298.4,   2.8305,  34.8015,2,  34.8030,2,    204.5,2,   206.3,2,    55.2,2,    27.1,2,    0.00,2,   1.846,2,   0.149,2,   0.072,2,   0.032,2,    2221,2, 2333.94,2,-999.0000,9, -999.00,   7.6364,2,       25,-999.000,9,   2.8306,2,    0.71,2,  -126.9,2,     1.8,  40.64120326,2,        29.56,2,  2298.4,     17.914,2,    34.9671,2,     -999.0,9,         -999.0,9,  -999.0,9,20140115,       0930
33RO20131223,       A16S,      67,          1,          6,          6,2,20140115,       0853,   -38.9946,   -27.1611,       4138,    2597,   2.7579,  34.8464,2,  34.8468,2,    220.5,2,   220.4,2,    50.0,2,    25.0,2,    0.00,2,   1.700,2,   0.103,2,   0.050,2,   0.024,2,  2208.3,2, 2332.64,2,-999.0000,9, -999.00,   7.6648,2,       25,-999.000,9,   2.7584,2,    0.81,2,  -123.9,2,     1.7,   41.6252679,2,        27.69,2,  2597.0,     16.319,2,    35.0112,2,     -999.0,9,         -999.0,9,  -999.0,9,20140115,       0924
33RO20131223,       A16S,      67,          1,          5,          5,2,20140115,       0853,   -38.9946,   -27.1611,       4138,  2948.4,   2.3909,  34.8356,2,  34.8356,2,      223,2,   222.5,2,    58.4,2,    25.5,2,    0.00,2,   1.731,2,   0.080,2,   0.040,2,   0.033,2,  2213.9,2, 2338.09,2,-999.0000,9, -999.00,   7.6667,2,       25,-999.000,9,    2.391,2,    0.76,2,  -132.4,2,     1.9,   42.1462433,2,        28.01,2,  2948.4,     16.221,2,    34.9999,2,     -999.0,9,         -999.0,9,  -999.0,9,20140115,       0918
33RO20131223,       A16S,      67,          1,          4,          4,2,20140115,       0853,   -38.9946,   -27.1611,       4138,  3297.7,   1.8543,  34.7874,2,  34.7871,2,      215,2,   215.3,2,    78.4,2,    27.7,2,    0.00,2,   1.899,2,   0.092,2,   0.046,2,   0.042,2,  2231.8,2, 2357.12,4,-999.0000,9, -999.00,   7.6395,2,       25,-999.000,9,   1.8544,2,    0.69,2,  -142.2,2,     1.8,  41.59632482,2,        30.26,2,  3297.7,     17.176,2,    34.9511,2,     -999.0,9,         -999.0,9,  -999.0,9,20140115,       0911
33RO20131223,       A16S,      67,          1,          3,          3,2,20140115,       0853,   -38.9946,   -27.1611,       4138,  3597.8,   1.4396,  34.7586,2,  34.7574,2,    215.1,2,   215.5,2,    91.4,2,    29.0,2,    0.00,2,   1.988,2,   0.121,6,   0.057,2,   0.043,6,    2242,2, 2353.81,6,-999.0000,9, -999.00,   7.6281,2,       25,-999.000,9,   1.4397,2,    0.56,2,  -153.2,2,     1.8,  40.69908941,2,        31.64,2,  3597.8,     17.399,6,    34.9213,2,     -999.0,9,         -999.0,9,  -999.0,9,20140115,       0905
33RO20131223,       A16S,      67,          1,          2,          2,2,20140115,       0853,   -38.9946,   -27.1611,       4138,  3897.7,   1.0462,  34.7260,2,  34.7255,2,    214.6,2,   214.1,2,   105.2,2,    30.6,2,    0.00,2,   2.092,2,   0.188,2,   0.089,2,   0.022,2,  2253.1,2, 2362.35,2,-999.0000,9, -999.00,   7.6127,6,       25,-999.000,9,   1.0459,2,    0.56,2,  -157.3,2,     2.0,  39.57754514,2,        33.13,2,  3897.7,     17.861,2,    34.8893,2,     -999.0,9,         -999.0,9,  -999.0,9,20140115,       0859
33RO20131223,       A16S,      67,          1,          1,          1,2,20140115,       0853,   -38.9946,   -27.1611,       4138,  4195.5,   0.7276,  34.6991,2,  34.6994,2,      215,2,   214.3,2,   116.4,2,    31.7,2,    0.00,2,   2.176,2,   0.293,2,   0.140,2,   0.054,2,  2262.8,6,  2363.9,2,-999.0000,9, -999.00,   7.6158,2,       25,-999.000,9,   0.7276,2,    0.53,2,  -159.7,2,     2.0,  39.40388668,2,        34.29,2,  4195.5,     18.096,2,     34.863,2,     -999.0,9,         -999.0,9,  -999.0,9,20140115,       0853