BOTTLE,20220815CCHSIOAMB
EXPOCODE,SECT_ID,STNNBR,CASTNO,SAMPNO,BTLNBR,BTLNBR_FLAG_W,DATE,TIME,LATITUDE,LONGITUDE,DEPTH,CTDPRS,CTDTMP,CTDSAL,CTDSAL_FLAG_W,SALNTY,SALNTY_FLAG_W,CTDOXY,CTDOXY_FLAG_W,OXYGEN,OXYGEN_FLAG_W,SILCAT,SILCAT_FLAG_W,NITRAT,NITRAT_FLAG_W,NITRIT,NITRIT_FLAG_W,PHSPHT,PHSPHT_FLAG_W,CFC-11,CFC-11_FLAG_W,CFC-12,CFC-12_FLAG_W,SF6,SF6_FLAG_W,TCARBN,TCARBN_FLAG_W,ALKALI,ALKALI_FLAG_W,PCO2,PCO2_FLAG_W,PCO2TMP,PH_SWS,PH_SWS_FLAG_W,PH_TMP,TRITUM,TRITUM_FLAG_W,REFTMP,REFTMP_FLAG_W,DELC13,DELC13_FLAG_W,DELC14,DELC14_FLAG_W,C14ERR,DOC,DOC_FLAG_W,TDN,TDN_FLAG_W,CTDRAW,N2O,N2O_FLAG_W,SALTREF,SALTREF_FLAG_W,HELIUM,HELIUM_FLAG_W,DELO18,DELO18_FLAG_W,CCL4,CCL4_FLAG_W,BTL_DATE,BTL_TIME
,,,,,,,,,,,METERS,DBAR,ITS-90,PSS-78,,PSS-78,,UMOL/KG,,UMOL/KG,,UMOL/KG,,UMOL/KG,,UMOL/KG,,UMOL/KG,,PMOL/KG,,PMOL/KG,,FMOL/KG,,UMOL/KG,,UMOL/KG,,UATM,,DEG C,,,DEG C,TU,,DEG C,,/MILLE,,/MILLE,,/MILLE,UMOL/KG,,UMOL/KG,,DBAR,NMOL/KG,,G/KG,,NMOL/KG,,/MILLE,,PMOL/KG,,,
33RO20131223,       A16S,      93,          1,         24,         24,2,20140124,       2025,        -52,    -35.233,       4453,     3.6,   3.5163,  33.8077,2,  33.8085,2,    336.2,2,   336.2,2,     3.0,2,    19.1,2,    0.24,2,   1.197,2,   5.222,6,   2.891,2,   2.843,6,  2120.3,6,  2290.9,2,   636.09,2,      20,     7.79,2,       25,-999.000,9,   3.5165,2,    1.83,6,   -80.1,6,     1.4,  47.40437128,2,        23.47,2,     3.6,     13.071,6,    33.9679,2,     -999.0,9,         -999.0,9,  -999.0,9,20140124,       2205
33RO20131223,       A16S,      93,          1,         23,         23,2,20140124,       2025,        -52,    -35.233,       4453,    17.4,   3.5187,  33.8077,2,  33.8079,2,    336.9,2,   336.2,2,     3.0,2,    19.1,2,    0.24,2,   1.197,2,   5.192,2,   2.875,2,   2.849,2,  2118.6,2, 2291.19,2,   636.05,2,      20,   7.7902,6,       25,-999.000,9,   3.5189,2, -999.00,9,  -999.0,9,  -999.0,  48.04626127,2,        23.48,2,    17.4,     12.969,2,    33.9673,2,     -999.0,9,         -999.0,9,  -999.0,9,20140124,       2204
33RO20131223,       A16S,      93,          1,         22,         22,2,20140124,       2025,        -52,    -35.233,       4453,    46.7,   3.3840,  33.8076,2,  33.8071,2,    335.2,2,   333.6,2,     3.5,2,    19.4,2,    0.25,2,   1.223,2,   5.073,2,   2.733,2,   2.851,2,  2123.6,2, 2290.14,6,   650.57,2,      20,   7.7842,2,       25,-999.000,9,   3.3822,2, -999.00,9,  -999.0,9,  -999.0,  47.40437128,2,        23.18,2,    46.7,     12.881,2,    33.9665,2,     -999.0,9,         -999.0,9,  -999.0,9,20140124,       2202
33RO20131223,       A16S,      93,          1,         21,         21,2,20140124,       2025,        -52,    -35.233,       4453,      73,   2.1634,  33.8035,2,  33.8080,2,    329.1,2,   331.9,2,    12.2,2,    21.7,2,    0.23,2,   1.515,2,   5.411,6,   2.979,2,   2.900,6,  2145.4,2, 2283.26,2,   755.77,2,      20,   7.7251,2,       25,-999.000,9,    2.163,2, -999.00,9,  -999.0,9,  -999.0,   46.7477252,2,        25.76,2,    73.0,     13.458,6,    33.9674,2,     -999.0,9,         -999.0,9,  -999.0,9,20140124,       2200
33RO20131223,       A16S,      93,          1,         20,         20,2,20140124,       2025,        -52,    -35.233,       4453,    97.9,   1.3587,  33.8722,2,  33.8709,2,    324.1,2,   324.5,2,    19.4,2,    24.0,2,    0.33,2,   1.799,2,   5.598,2,   3.071,2,   2.943,2,  2163.9,2, 2293.11,2,   848.05,2,      20,   7.6815,2,       25,-999.000,9,   1.3639,2, -999.00,9,  -999.0,9,  -999.0,  45.53772569,2,        28.06,2,    97.9,     14.599,2,    34.0306,2,     -999.0,9,         -999.0,9,  -999.0,9,20140124,       2158
33RO20131223,       A16S,      93,          1,         19,         19,2,20140124,       2025,        -52,    -35.233,       4453,   147.9,   0.7833,  34.0673,2,  34.0657,2,    278.1,2,   277.4,2,    40.3,2,    30.6,2,    0.15,2,   2.123,2,   4.548,2,   2.471,2,   2.204,2,  2200.8,2, 2299.68,2,  1062.83,2,      20,   7.5915,2,       25,-999.000,9,   0.7796,2, -999.00,9,  -999.0,9,  -999.0,  44.88845765,2,        34.11,2,   147.9,     17.961,2,    34.2263,6,     -999.0,9,         -999.0,9,  -999.0,9,20140124,       2156
33RO20131223,       A16S,      93,          1,         18,         18,3,20140124,       2025,        -52,    -35.233,       4453,   218.4,   1.8523,  34.3609,2,  34.3680,2,    200.2,2,   200.4,2,    59.9,2,    34.2,2,    0.03,3,   2.335,3,   2.277,2,   1.198,2,   0.841,2,  2240.9,2, 2319.65,2, 1252.875,3,      20,   7.5297,2,       25,-999.000,9,   1.8513,2, -999.00,9,  -999.0,9,  -999.0,  43.16199493,2,        37.44,2,   218.4,     22.326,2,      34.53,2,     -999.0,9,         -999.0,9,  -999.0,9,20140124,       2154
33RO20131223,       A16S,      93,          1,         17,         17,2,20140124,       2025,        -52,    -35.233,       4453,   298.4,   2.0985,  34.4742,2,  34.4742,2,    181.3,2,   179.7,2,    68.3,2,    34.5,2,    0.02,2,   2.347,2,   1.390,2,   0.707,2,   0.442,2,  2253.6,2, 2327.17,2, 1271.005,6,      20,   7.5238,2,       25,-999.000,9,   2.0984,2, -999.00,9,  -999.0,9,  -999.0,  42.76358046,2,        37.48,2,   298.4,     22.673,2,    34.6367,2,     -999.0,9,         -999.0,9,  -999.0,9,20140124,       2152
33RO20131223,       A16S,      93,          1,         16,         16,2,20140124,       2025,        -52,    -35.233,       4453,   407.3,   2.1427,  34.5668,2,  34.5672,2,    171.7,2,     172,2,    75.2,2,    33.9,2,    0.01,2,   2.309,2,   0.784,2,   0.391,2,   0.268,2,  2259.2,2, 2337.75,2,  1247.22,2,      20,    7.532,2,       25,-999.000,9,    2.143,2, -999.00,9,  -999.0,9,  -999.0,  41.98888564,2,        36.69,2,   407.3,     22.423,2,    34.7302,2,     -999.0,9,         -999.0,9,  -999.0,9,20140124,       2149
33RO20131223,       A16S,      93,          1,         15,         15,2,20140124,       2025,        -52,    -35.233,       4453,   586.4,   2.0697,  34.6436,2,  34.6434,2,    171.6,2,   172.2,2,    81.5,2,    32.9,2,    0.00,2,   2.252,2,   0.417,2,   0.200,2,   0.118,2,  2260.5,6, 2344.25,2,  1201.91,2,      20,   7.5489,2,       25,-999.000,9,   2.0701,2, -999.00,9,  -999.0,9,  -999.0,  40.53541062,2,        35.57,2,   586.4,     21.493,2,    34.8067,2,     -999.0,9,         -999.0,9,  -999.0,9,20140124,       2145
33RO20131223,       A16S,      93,          1,         14,         14,2,20140124,       2025,        -52,    -35.233,       4453,   797.5,   1.8544,  34.6854,2,  34.6861,2,    177.5,2,   177.4,2,    87.8,2,    32.2,2,    0.00,2,   2.200,2,   0.312,2,   0.152,2,   0.124,2,  2263.9,2, 2357.28,6,  1158.51,2,      20,    7.564,2,       25,-999.000,9,   1.8549,2, -999.00,9,  -999.0,9,  -999.0,   40.3878497,2,        34.76,2,   797.5,     20.505,2,    34.8497,2,     -999.0,9,         -999.0,9,  -999.0,9,20140124,       2140
33RO20131223,       A16S,      93,          1,         13,         13,2,20140124,       2025,        -52,    -35.233,       4453,  1047.8,   1.6886,  34.7091,2,  34.7091,2,    183.9,2,   183.9,2,    92.9,2,    31.6,2,    0.00,2,   2.162,2,   0.236,2,   0.113,2,   0.084,2,    2263,2, 2356.77,2,  1129.32,2,      20,   7.5769,2,       25,-999.000,9,   1.6889,2, -999.00,9,  -999.0,9,  -999.0,  40.28455706,2,        34.33,2,  1047.8,     19.730,2,    34.8728,2,     -999.0,9,         -999.0,9,  -999.0,9,20140124,       2135
33RO20131223,       A16S,      93,          1,         12,         12,2,20140124,       2025,        -52,    -35.233,       4453,  1296.7,   1.4291,  34.7099,2,  34.7111,2,    189.5,2,   190.6,2,    98.4,2,    31.4,2,    0.00,2,   2.155,2,   0.268,2,   0.130,2,   0.087,2,  2262.2,2, 2359.77,2, 1113.865,6,      20,   7.5821,2,       25,-999.000,9,   1.4293,2, -999.00,9,  -999.0,9,  -999.0,  40.37309361,2,        34.16,2,  1296.7,     19.346,2,    34.8747,2,     -999.0,9,         -999.0,9,  -999.0,9,20140124,       2130
33RO20131223,       A16S,      93,          1,         11,         11,2,20140124,       2025,        -52,    -35.233,       4453,  1598.1,   1.2265,  34.7137,2,  34.7177,2,      197,2,   196.7,2,   102.2,2,    31.1,2,    0.00,2,   2.136,2,   0.270,2,   0.131,2,   0.080,2,    2260,2, 2363.56,2,  1101.64,2,      20,   7.5899,2,       25,-999.000,9,   1.2242,2, -999.00,9,  -999.0,9,  -999.0,  41.14041037,2,        33.84,2,  1598.1,     18.793,2,    34.8814,2,     -999.0,9,         -999.0,9,  -999.0,9,20140124,       2124
33RO20131223,       A16S,      93,          1,         10,         10,2,20140124,       2025,        -52,    -35.233,       4453,  1898.5,   0.9113,  34.6989,2,  34.6983,2,    202.6,2,   202.8,2,   108.6,2,    31.6,2,    0.00,2,   2.162,2,   0.405,2,   0.198,2,   0.136,2,  2262.5,2, 2361.37,2,   1107.6,2,      20,   7.5854,2,       25,-999.000,9,   0.9116,2, -999.00,9,  -999.0,9,  -999.0,  40.69034958,2,        34.31,2,  1898.5,     18.637,2,    34.8619,2,     -999.0,9,         -999.0,9,  -999.0,9,20140124,       2118
33RO20131223,       A16S,      93,          1,          9,          9,2,20140124,       2025,        -52,    -35.233,       4453,  2197.4,   0.7360,  34.6946,2,  34.6928,2,    206.9,2,   207.3,2,   111.6,2,    31.6,2,    0.00,2,   2.169,2,   0.450,6,   0.219,2,   0.143,6,  2261.2,2, 2362.71,2,  1105.54,2,      20,   7.5875,2,       25,-999.000,9,   0.7358,2, -999.00,9,  -999.0,9,  -999.0,  40.24028878,2,        34.26,2,  2197.4,     18.516,6,    34.8564,2,     -999.0,9,         -999.0,9,  -999.0,9,20140124,       2111
33RO20131223,       A16S,      93,          1,          8,          8,2,20140124,       2025,        -52,    -35.233,       4453,  2497.8,   0.5771,  34.6887,2,  34.6885,2,    210.4,2,   212.1,2,   114.9,2,    31.6,2,    0.00,2,   2.175,2,   0.495,2,   0.235,2,   0.150,2,  2260.9,2, 2365.83,2,  1102.98,2,      20,   7.5848,2,       25,-999.000,9,   0.5772,2, -999.00,9,  -999.0,9,  -999.0,  40.17388637,2,        34.28,2,  2497.8,     18.419,2,     34.852,2,     -999.0,9,         -999.0,9,  -999.0,9,20140124,       2106
33RO20131223,       A16S,      93,          1,          7,          7,2,20140124,       2025,        -52,    -35.233,       4453,    2798,   0.4321,  34.6822,2,  34.6826,2,      214,2,   215.9,2,   117.6,2,    31.8,2,    0.00,2,   2.185,2,   0.529,2,   0.252,2,   0.117,2,  2260.7,2,  2360.7,2,  1106.77,2,      20,   7.5851,2,       25,-999.000,9,   0.4321,2, -999.00,9,  -999.0,9,  -999.0,        40.23,2,        34.47,2,  2798.0,     18.331,2,    34.8461,6,     -999.0,9,         -999.0,9,  -999.0,9,20140124,       2100
33RO20131223,       A16S,      93,          1,          6,          6,2,20140124,       2025,        -52,    -35.233,       4453,  3097.1,   0.3156,  34.6766,2,  34.6767,2,    216.9,2,   217.3,2,   119.9,2,    32.0,6,    0.00,6,   2.191,6,   0.559,2,   0.267,2,   0.119,2,  2261.8,2, 2362.32,2,  1106.82,2,      20,    7.586,2,       25,-999.000,9,   0.3156,2, -999.00,9,  -999.0,9,  -999.0,  40.39522774,2,        34.68,2,  3097.1,     18.223,2,    34.8402,2,     -999.0,9,         -999.0,9,  -999.0,9,20140124,       2054
33RO20131223,       A16S,      93,          1,          5,          5,2,20140124,       2025,        -52,    -35.233,       4453,  3397.1,   0.2399,  34.6730,2,  34.6734,2,    218.9,2,   219.8,2,   121.6,6,    32.0,6,    0.01,6,   2.199,6,   0.583,2,   0.272,2,   0.153,2,  2261.7,2, 2363.96,2,  1098.86,2,      20,   7.5848,2,       25,-999.000,9,     0.24,2, -999.00,9,  -999.0,9,  -999.0,    40.114862,2,        34.74,2,  3397.1,     18.066,2,    34.8369,2,     -999.0,9,         -999.0,9,  -999.0,9,20140124,       2048
33RO20131223,       A16S,      93,          1,          4,          4,2,20140124,       2025,        -52,    -35.233,       4453,  3698.3,   0.1774,  34.6696,2,  34.6693,2,    222.3,2,   222.2,2,   123.0,6,    32.1,6,    0.01,6,   2.202,6,   0.624,2,   0.293,2,   0.168,2,  2260.8,2, 2364.88,2,  1099.04,2,      20,   7.5871,2,       25,-999.000,9,   0.1775,2, -999.00,9,  -999.0,9,  -999.0,   39.5836427,2,        34.82,2,  3698.3,     18.116,2,    34.8328,2,     -999.0,9,         -999.0,9,  -999.0,9,20140124,       2042
33RO20131223,       A16S,      93,          1,          3,          3,2,20140124,       2025,        -52,    -35.233,       4453,  3997.7,   0.1112,  34.6653,2,  34.6657,2,      226,2,   225.6,2,   123.0,6,    32.1,6,    0.01,6,   2.201,6,   0.746,2,   0.353,2,   0.184,2,    2259,2, 2359.62,2,  1102.12,2,      20,    7.587,2,       25,-999.000,9,   0.1115,2, -999.00,9,  -999.0,9,  -999.0,  39.10406972,2,        34.68,2,  3997.7,     17.956,2,    34.8291,2,     -999.0,9,         -999.0,9,  -999.0,9,20140124,       2036
33RO20131223,       A16S,      93,          1,          2,          2,2,20140124,       2025,        -52,    -35.233,       4453,  4296.4,   0.0591,  34.6619,2,  34.6618,2,    228.7,2,   228.9,2,   123.0,6,    32.0,6,    0.01,6,   2.195,6,   0.835,2,   0.397,2,   0.181,2,  2258.2,2, 2360.55,2,  1099.73,6,      20,    7.589,6,       25,-999.000,9,   0.0591,2, -999.00,9,  -999.0,9,  -999.0,  39.09669168,2,        34.66,2,  4296.4,     17.954,2,    34.8253,2,     -999.0,9,         -999.0,9,  -999.0,9,20140124,       2030
33RO20131223,       A16S,      93,          1,          1,          1,2,20140124,       2025,        -52,    -35.233,       4453,    4527,  -0.1119,  34.6538,2,  34.6556,2,    236.7,2,   235.8,2,   123.3,6,    31.9,6,    0.01,6,   2.191,6,   1.038,6,   0.497,2,   0.265,6,  2258.2,6, 2356.68,2,  1096.32,2,      20,   7.5928,2,       25,-999.000,9,  -0.1111,2, -999.00,9,  -999.0,9,  -999.0,  38.88272835,2,        34.61,2,  4527.0,     17.725,6,    34.8191,2,     -999.0,9,         -999.0,9,  -999.0,9,20140124,       2025