BOTTLE,20220815CCHSIOAMB
EXPOCODE,SECT_ID,STNNBR,CASTNO,SAMPNO,BTLNBR,BTLNBR_FLAG_W,DATE,TIME,LATITUDE,LONGITUDE,DEPTH,CTDPRS,CTDTMP,CTDSAL,CTDSAL_FLAG_W,SALNTY,SALNTY_FLAG_W,CTDOXY,CTDOXY_FLAG_W,OXYGEN,OXYGEN_FLAG_W,SILCAT,SILCAT_FLAG_W,NITRAT,NITRAT_FLAG_W,NITRIT,NITRIT_FLAG_W,PHSPHT,PHSPHT_FLAG_W,CFC-11,CFC-11_FLAG_W,CFC-12,CFC-12_FLAG_W,SF6,SF6_FLAG_W,TCARBN,TCARBN_FLAG_W,ALKALI,ALKALI_FLAG_W,PCO2,PCO2_FLAG_W,PCO2TMP,PH_SWS,PH_SWS_FLAG_W,PH_TMP,TRITUM,TRITUM_FLAG_W,REFTMP,REFTMP_FLAG_W,DELC13,DELC13_FLAG_W,DELC14,DELC14_FLAG_W,C14ERR,DOC,DOC_FLAG_W,TDN,TDN_FLAG_W,CTDRAW,N2O,N2O_FLAG_W,SALTREF,SALTREF_FLAG_W,HELIUM,HELIUM_FLAG_W,DELO18,DELO18_FLAG_W,CCL4,CCL4_FLAG_W,BTL_DATE,BTL_TIME
,,,,,,,,,,,METERS,DBAR,ITS-90,PSS-78,,PSS-78,,UMOL/KG,,UMOL/KG,,UMOL/KG,,UMOL/KG,,UMOL/KG,,UMOL/KG,,PMOL/KG,,PMOL/KG,,FMOL/KG,,UMOL/KG,,UMOL/KG,,UATM,,DEG C,,,DEG C,TU,,DEG C,,/MILLE,,/MILLE,,/MILLE,UMOL/KG,,UMOL/KG,,DBAR,NMOL/KG,,G/KG,,NMOL/KG,,/MILLE,,PMOL/KG,,,
33RO20131223,       A16S,      47,          1,         24,         24,2,20140109,       0847,   -28.9993,   -25.0018,       5031,     3.9,  24.9346,  36.3241,2,  36.3250,2,    207.9,2,   208.8,2,     0.9,2,     0.0,2,    0.00,2,   0.025,2,   1.667,3,   1.068,2,   1.293,2,  2079.9,6, 2382.09,2,-999.0000,9, -999.00,   8.0252,2,       25,-999.000,1,  24.9345,2, -999.00,9,  -999.0,9,  -999.0,  67.38310313,2,         3.68,2,     3.9,      6.493,2,    36.4963,2,     -999.0,1,         -999.0,1,  -999.0,9,20140109,       1037
33RO20131223,       A16S,      47,          1,         23,         23,2,20140109,       0847,   -28.9993,   -25.0018,       5031,    10.2,  24.9417,  36.3236,2,  36.3226,2,    208.1,2,     210,2,     0.9,2,     0.0,2,    0.00,2,   0.025,2,   1.674,3,   1.074,2,   1.297,2,  2079.6,2, 2381.69,2,-999.0000,9, -999.00,   8.0242,6,       25,-999.000,1,  24.9393,2, -999.00,9,  -999.0,9,  -999.0,  67.67985098,2,         3.87,2,    10.2,      6.530,2,    36.4939,2,     -999.0,1,         -999.0,1,  -999.0,9,20140109,       1035
33RO20131223,       A16S,      47,          1,         22,         22,2,20140109,       0847,   -28.9993,   -25.0018,       5031,    38.3,  23.5472,  36.2883,2,  36.2887,2,    217.8,2,   220.2,2,     0.9,2,     0.0,2,    0.00,2,   0.022,2,   1.806,3,   1.156,2,   1.364,2,  2079.6,2, 2384.57,2,-999.0000,9, -999.00,   8.0238,2,       25,-999.000,1,  23.5734,2, -999.00,9,  -999.0,9,  -999.0,  65.68422169,2,         4.04,2,    38.3,      6.864,2,    36.4598,2,     -999.0,1,         -999.0,1,  -999.0,9,20140109,       1034
33RO20131223,       A16S,      47,          1,         21,         21,2,20140109,       0847,   -28.9993,   -25.0018,       5031,    68.2,  20.4206,  36.1386,2,  36.1437,2,    231.7,2,   231.9,2,     0.9,2,     0.0,2,    0.00,2,   0.052,2,   2.032,3,   1.271,2,   1.466,2,  2083.3,3, 2370.97,2,-999.0000,9, -999.00,    8.005,2,       25,-999.000,1,  20.4173,2, -999.00,9,  -999.0,9,  -999.0,        62.95,2,         3.68,2,    68.2,      7.496,2,    36.3142,2,     -999.0,1,         -999.0,1,  -999.0,9,20140109,       1032
33RO20131223,       A16S,      47,          1,         20,         20,2,20140109,       0847,   -28.9993,   -25.0018,       5031,   118.4,  19.2066,  36.1227,2,  36.1199,2,      222,2,   221.5,2,     1.0,2,     0.0,2,    0.00,2,   0.124,2,   2.118,3,   1.309,2,   1.398,2,  2096.9,2, 2372.73,2,-999.0000,9, -999.00,   7.9814,2,       25,-999.000,1,  19.2002,2, -999.00,9,  -999.0,9,  -999.0,  58.73290334,2,         3.48,2,   118.4,      7.773,2,    36.2902,2,     -999.0,1,         -999.0,1,  -999.0,9,20140109,       1030
33RO20131223,       A16S,      47,          1,         19,         19,2,20140109,       0847,   -28.9993,   -25.0018,       5031,   198.3,  16.8542,  35.7619,2,  35.7614,2,    210.9,2,   210.2,2,     1.5,2,     2.5,2,    0.02,2,   0.326,2,   2.369,3,   1.444,2,   1.450,2,  2109.3,2, 2346.29,2,-999.0000,9, -999.00,   7.9205,2,       25,-999.000,1,  16.8473,2, -999.00,9,  -999.0,9,  -999.0,        52.19,2,          5.5,2,   198.3,      9.060,2,      35.93,2,     -999.0,1,         -999.0,1,  -999.0,9,20140109,       1027
33RO20131223,       A16S,      47,          1,         18,         18,2,20140109,       0847,   -28.9993,   -25.0018,       5031,   296.5,  14.5385,  35.4198,2,  35.4187,2,    210.9,2,   209.9,2,     2.4,2,     6.7,2,    0.01,2,   0.560,2,   2.644,3,   1.586,6,   1.436,6,  2117.4,2, 2327.62,2,-999.0000,9, -999.00,   7.8697,2,       25,-999.000,1,  14.5408,2, -999.00,9,  -999.0,9,  -999.0,        47.23,2,         9.47,2,   296.5,     10.910,6,    35.5857,2,     -999.0,1,         -999.0,1,  -999.0,9,20140109,       1024
33RO20131223,       A16S,      47,          1,         17,         17,2,20140109,       0847,   -28.9993,   -25.0018,       5031,     398,  12.9083,  35.2236,2,  35.2219,2,    215.2,2,   214.6,2,     3.2,2,    10.0,2,    0.01,2,   0.748,2,   2.827,3,   1.670,2,   1.374,2,  2127.3,2, 2316.35,2,-999.0000,9, -999.00,   7.8337,2,       25,-999.000,1,  12.9072,2, -999.00,9,  -999.0,9,  -999.0,  44.95638446,2,        12.62,2,   398.0,     12.418,2,     35.388,6,     -999.0,1,         -999.0,1,  -999.0,9,20140109,       1022
33RO20131223,       A16S,      47,          1,         16,         16,2,20140109,       0847,   -28.9993,   -25.0018,       5031,   518.5,  10.8576,  34.9260,2,  34.9251,2,    208.8,2,   208.4,2,     5.7,2,    15.3,2,    0.00,2,   1.087,2,   2.976,3,   1.712,2,   1.191,2,  2141.8,2,  2305.2,2,-999.0000,9, -999.00,   7.7719,2,       25,-999.000,1,  10.8605,2, -999.00,9,  -999.0,9,  -999.0,  42.38951556,2,        17.98,2,   518.5,     14.094,2,    35.0898,2,     -999.0,1,         -999.0,1,  -999.0,9,20140109,       1019
33RO20131223,       A16S,      47,          1,         15,         15,2,20140109,       0847,   -28.9993,   -25.0018,       5031,   668.4,   7.8876,  34.5579,2,  34.5579,2,    207.2,2,   205.5,2,    10.9,2,    22.7,2,    0.00,2,   1.560,2,   3.065,3,   1.692,6,   0.949,6,    2163,2,    2290,2,-999.0000,9, -999.00,   7.6854,2,       25,-999.000,1,   7.8918,2, -999.00,9,  -999.0,9,  -999.0,  41.10608112,2,        25.39,2,   668.4,     16.385,6,    34.7209,2,     -999.0,1,         -999.0,1,  -999.0,9,20140109,       1015
33RO20131223,       A16S,      47,          1,         14,         14,2,20140109,       0847,   -28.9993,   -25.0018,       5031,   818.2,   5.6747,  34.3524,2,  34.3531,2,    218.1,2,   216.6,2,    17.1,2,    27.1,2,    0.00,2,   1.843,2,   3.017,3,   1.615,2,   0.841,2,  2174.7,2, 2285.06,2,-999.0000,9, -999.00,   7.6473,2,       25,-999.000,1,   5.6679,2, -999.00,9,  -999.0,9,  -999.0,  40.52000412,2,        29.72,2,   818.2,     17.300,2,    34.5151,2,     -999.0,1,         -999.0,1,  -999.0,9,20140109,       1011
33RO20131223,       A16S,      47,          1,         13,         13,2,20140109,       0847,   -28.9993,   -25.0018,       5031,   998.2,   4.1190,  34.3236,2,  34.3260,2,    209.7,2,   208.5,2,    31.1,6,    30.8,6,    0.00,6,   2.098,6,   2.126,3,   1.101,2,   0.485,2,  2200.2,2, 2295.41,2,-999.0000,9, -999.00,   7.6049,2,       25,-999.000,1,   4.1194,2, -999.00,9,  -999.0,9,  -999.0,  39.46654925,2,        33.32,2,   998.2,     19.445,2,    34.4879,2,     -999.0,1,         -999.0,1,  -999.0,9,20140109,       1007
33RO20131223,       A16S,      47,          1,         12,         12,2,20140109,       0847,   -28.9993,   -25.0018,       5031,  1148.1,   3.5118,  34.4045,2,  34.4049,2,    192.9,2,   192.4,2,    43.2,6,    32.3,6,    0.00,6,   2.212,6,   1.235,3,   0.631,2,   0.203,2,  2217.7,6, 2307.61,2,-999.0000,9, -999.00,   7.5809,2,       25,-999.000,1,   3.5129,2, -999.00,9,  -999.0,9,  -999.0,  39.48138665,2,        34.78,2,  1148.1,     20.970,2,    34.5671,2,     -999.0,1,         -999.0,1,  -999.0,9,20140109,       1004
33RO20131223,       A16S,      47,          1,         11,         11,2,20140109,       0847,   -28.9993,   -25.0018,       5031,  1378.2,   3.0459,  34.5620,2,  34.5609,2,    184.1,2,   185.1,2,    52.7,2,    31.7,2,    0.00,2,   2.173,2,   0.429,3,   0.215,2,   0.046,2,  2232.7,2, 2320.84,6,-999.0000,9, -999.00,   7.5824,2,       25,-999.000,1,   3.0467,2, -999.00,9,  -999.0,9,  -999.0,  40.28260584,2,        34.12,2,  1378.2,     21.090,2,    34.7239,2,     -999.0,1,         -999.0,1,  -999.0,9,20140109,       0959
33RO20131223,       A16S,      47,          1,         10,         10,2,20140109,       0847,   -28.9993,   -25.0018,       5031,  1598.4,   2.8777,  34.6748,2,  34.6740,2,    192.5,2,   193.3,2,    53.5,2,    29.7,2,    0.00,2,   2.028,2,   0.246,3,   0.121,2,   0.556,3,  2228.8,2, 2328.86,2,-999.0000,9, -999.00,   7.6099,2,       25,-999.000,1,    2.878,2, -999.00,9,  -999.0,9,  -999.0,   40.7574024,2,        32.15,2,  1598.4,     19.744,2,    34.8375,2,     -999.0,1,         -999.0,9,  -999.0,9,20140109,       0955
33RO20131223,       A16S,      47,          1,          9,          9,2,20140109,       0847,   -28.9993,   -25.0018,       5031,  1948.2,   2.8054,  34.7930,2,  34.8002,2,    213.8,2,   214.4,2,    46.9,2,    26.1,2,    0.00,2,   1.763,2,   0.043,3,   0.017,2,   0.000,2,  2211.1,2, 2328.57,2,-999.0000,9, -999.00,   7.6609,2,       25,-999.000,1,   2.8055,2, -999.00,9,  -999.0,9,  -999.0,  41.22478026,2,        28.46,2,  1948.2,     17.252,2,    34.9643,2,     -999.0,1,         -999.0,9,  -999.0,9,20140109,       0947
33RO20131223,       A16S,      47,          1,          8,          8,2,20140109,       0847,   -28.9993,   -25.0018,       5031,  2348.7,   2.8175,  34.8715,2,  34.8734,2,    234.8,2,   234.6,2,    38.9,6,    23.1,6,    0.00,6,   1.547,6,   0.021,3,   0.006,2,   0.000,2,  2193.3,2, 2324.94,2,-999.0000,9, -999.00,   7.6992,2,       25,-999.000,9,   2.8176,2, -999.00,9,  -999.0,9,  -999.0,  41.89246292,2,        25.27,2,  2348.7,     15.130,2,    35.0378,2,     -999.0,1,         -999.0,9,  -999.0,9,20140109,       0940
33RO20131223,       A16S,      47,          1,          7,          7,2,20140109,       0847,   -28.9993,   -25.0018,       5031,  2747.6,   2.7886,  34.9040,2,  34.9046,2,      244,2,   244.7,2,    34.9,6,    21.6,6,    0.00,6,   1.440,6,   0.023,3,   0.006,2,   0.000,2,  2185.1,2, 2325.34,2,-999.0000,9, -999.00,   7.7172,2,       25,-999.000,1,   2.7888,2, -999.00,9,  -999.0,9,  -999.0,  42.01858075,2,        24.05,2,  2747.6,     14.151,2,    35.0692,2,     -999.0,1,         -999.0,9,  -999.0,9,20140109,       0932
33RO20131223,       A16S,      47,          1,          6,          6,2,20140109,       0847,   -28.9993,   -25.0018,       5031,  3046.2,   2.6663,  34.9046,2,  34.9045,2,    246.2,2,     247,2,    36.0,2,    21.4,2,    0.00,2,   1.428,2,   0.020,3,   0.005,2,   0.000,2,  2183.7,2, 2326.73,2,-999.0000,9, -999.00,   7.7217,2,       25,-999.000,9,   2.6665,2, -999.00,9,  -999.0,9,  -999.0,  42.34500339,2,        23.84,2,  3046.2,     13.900,2,    35.0691,2,     -999.0,1,         -999.0,9,  -999.0,9,20140109,       0926
33RO20131223,       A16S,      47,          1,          5,          5,2,20140109,       0847,   -28.9993,   -25.0018,       5031,  3348.3,   2.4001,  34.8840,2,  34.8850,2,    244.8,2,   245.9,2,    43.8,2,    22.2,2,    0.00,2,   1.488,2,   0.021,3,   0.005,2,   0.023,2,  2191.2,2, 2330.86,2,-999.0000,9, -999.00,    7.714,2,       25,-999.000,1,   2.4006,2, -999.00,9,  -999.0,9,  -999.0,  41.50669071,2,        24.86,2,  3348.3,     14.253,2,    35.0495,6,     -999.0,1,         -999.0,9,  -999.0,9,20140109,       0920
33RO20131223,       A16S,      47,          1,          4,          4,2,20140109,       0847,   -28.9993,   -25.0018,       5031,  3748.3,   1.8453,  34.8280,2,  34.8292,2,    237.1,2,   237.3,2,    65.5,6,    25.1,6,    0.00,6,   1.700,6,   0.027,3,   0.008,6,   0.145,6,  2212.3,2, 2341.49,2,-999.0000,9, -999.00,   7.6849,2,       25,-999.000,9,   1.8455,2, -999.00,9,  -999.0,9,  -999.0,  40.98738198,2,        27.55,2,  3748.3,     15.251,6,    34.9935,2,     -999.0,1,         -999.0,9,  -999.0,9,20140109,       0913
33RO20131223,       A16S,      47,          1,          3,          3,2,20140109,       0847,   -28.9993,   -25.0018,       5031,  4097.3,   1.4215,  34.7814,2,  34.7818,2,    228.8,2,   229.9,2,    82.6,2,    27.4,2,    0.00,2,   1.871,2,   0.050,3,   0.020,2,   0.174,2,  2231.2,2, 2352.74,2,-999.0000,9, -999.00,   7.6578,6,       25,-999.000,1,   1.4216,2, -999.00,9,  -999.0,9,  -999.0,  40.18616279,2,        29.94,2,  4097.3,     16.328,2,    34.9458,2,     -999.0,1,         -999.0,9,  -999.0,9,20140109,       0906
33RO20131223,       A16S,      47,          1,          2,          2,2,20140109,       0847,   -28.9993,   -25.0018,       5031,  4468.7,   1.2886,  34.7632,2,  34.7643,2,    225.6,2,   226.6,2,    89.3,2,    28.3,2,    0.00,2,   1.938,2,   0.067,3,   0.028,2,   0.145,2,  2238.4,2, 2355.91,6,-999.0000,9, -999.00,   7.6485,2,       25,-999.000,9,   1.2882,2, -999.00,9,  -999.0,9,  -999.0,  39.50364274,2,        30.99,2,  4468.7,     16.703,2,    34.9282,2,     -999.0,1,         -999.0,9,  -999.0,9,20140109,       0859
33RO20131223,       A16S,      47,          1,          1,          1,2,20140109,       0847,   -28.9993,   -25.0018,       5031,  5106.4,   1.2778,  34.7548,2,  34.7550,2,      226,2,   226.1,2,    92.9,6,    28.8,6,    0.00,6,   1.972,6,   0.070,3,   0.030,2,   0.155,2,  2243.1,6, 2357.69,2,-999.0000,9, -999.00,   7.6562,2,       25,-999.000,1,   1.2775,2, -999.00,9,  -999.0,9,  -999.0,  39.65201666,2,        31.32,2,  5106.4,     16.802,2,    34.9189,2,     -999.0,1,         -999.0,9,  -999.0,9,20140109,       0847