BOTTLE,20220815CCHSIOAMB
EXPOCODE,SECT_ID,STNNBR,CASTNO,SAMPNO,BTLNBR,BTLNBR_FLAG_W,DATE,TIME,LATITUDE,LONGITUDE,DEPTH,CTDPRS,CTDTMP,CTDSAL,CTDSAL_FLAG_W,SALNTY,SALNTY_FLAG_W,CTDOXY,CTDOXY_FLAG_W,OXYGEN,OXYGEN_FLAG_W,SILCAT,SILCAT_FLAG_W,NITRAT,NITRAT_FLAG_W,NITRIT,NITRIT_FLAG_W,PHSPHT,PHSPHT_FLAG_W,CFC-11,CFC-11_FLAG_W,CFC-12,CFC-12_FLAG_W,SF6,SF6_FLAG_W,TCARBN,TCARBN_FLAG_W,ALKALI,ALKALI_FLAG_W,PCO2,PCO2_FLAG_W,PCO2TMP,PH_SWS,PH_SWS_FLAG_W,PH_TMP,TRITUM,TRITUM_FLAG_W,REFTMP,REFTMP_FLAG_W,DELC13,DELC13_FLAG_W,DELC14,DELC14_FLAG_W,C14ERR,DOC,DOC_FLAG_W,TDN,TDN_FLAG_W,CTDRAW,N2O,N2O_FLAG_W,SALTREF,SALTREF_FLAG_W,HELIUM,HELIUM_FLAG_W,DELO18,DELO18_FLAG_W,CCL4,CCL4_FLAG_W,BTL_DATE,BTL_TIME
,,,,,,,,,,,METERS,DBAR,ITS-90,PSS-78,,PSS-78,,UMOL/KG,,UMOL/KG,,UMOL/KG,,UMOL/KG,,UMOL/KG,,UMOL/KG,,PMOL/KG,,PMOL/KG,,FMOL/KG,,UMOL/KG,,UMOL/KG,,UATM,,DEG C,,,DEG C,TU,,DEG C,,/MILLE,,/MILLE,,/MILLE,UMOL/KG,,UMOL/KG,,DBAR,NMOL/KG,,G/KG,,NMOL/KG,,/MILLE,,PMOL/KG,,,
33RO20131223,       A16S,      20,          1,         24,         24,2,20140101,       0328,   -15.4994,   -24.9999,       4995,     3.7,  25.4234,  37.1525,2,  37.1523,2,    203.2,2,   204.3,2,     0.8,2,     0.0,2,    0.00,2,   0.084,2,   1.561,2,   1.038,2,   1.244,2,    2094,6, 2435.82,2,-999.0000,9, -999.00,   8.0615,2,       25,-999.000,9,  25.4237,2, -999.00,9,  -999.0,9,  -999.0,-999.00000000,9,-999.00000000,9,     3.7,      6.332,2,    37.3275,2,     -999.0,9,         -999.0,9,  -999.0,9,20140101,       0519
33RO20131223,       A16S,      20,          1,         23,         23,2,20140101,       0328,   -15.4994,   -24.9999,       4995,    27.7,  25.4158,  37.1517,2,  37.1382,2,    204.1,2,   205.6,2,     0.8,2,     0.0,2,    0.00,2,   0.093,2,-999.000,9,-999.000,9,-999.000,9,  2097.3,2, 2436.56,2,-999.0000,9, -999.00,   8.0604,2,       25,-999.000,9,  25.4062,2, -999.00,9,  -999.0,9,  -999.0,-999.00000000,9,-999.00000000,9,    27.7,     -999.0,9,    37.3133,2,     -999.0,9,         -999.0,9,  -999.0,9,20140101,       0517
33RO20131223,       A16S,      20,          1,         22,         22,2,20140101,       0328,   -15.4994,   -24.9999,       4995,      63,  23.9764,  37.0380,2,  37.0337,2,    214.6,2,   214.4,2,     0.8,2,     0.1,2,    0.00,2,   0.151,2,-999.000,9,-999.000,9,-999.000,9,  -999.0,9, -999.00,9,-999.0000,9, -999.00,-999.0000,9,  -999.00,-999.000,9,  23.9778,2, -999.00,9,  -999.0,9,  -999.0,-999.00000000,9,-999.00000000,9,    63.0,     -999.0,9,    37.2083,2,     -999.0,9,         -999.0,9,  -999.0,9,20140101,       0515
33RO20131223,       A16S,      20,          1,         21,         21,2,20140101,       0328,   -15.4994,   -24.9999,       4995,   113.2,  22.6534,  36.9107,2,  36.9092,2,    216.9,2,   215.3,2,     0.8,2,     0.1,2,    0.00,2,   0.192,2,   1.761,6,   1.158,6,   1.317,6,  2110.9,2, 2426.08,6,-999.0000,9, -999.00,   8.0234,2,       25,-999.000,9,  22.6524,2, -999.00,9,  -999.0,9,  -999.0,-999.00000000,9,-999.00000000,9,   113.2,      6.889,6,    37.0833,2,     -999.0,9,         -999.0,9,  -999.0,9,20140101,       0513
33RO20131223,       A16S,      20,          1,         20,         20,2,20140101,       0328,   -15.4994,   -24.9999,       4995,   183.2,  17.9329,  36.0516,2,  36.0524,2,    181.8,2,   183.1,2,     2.1,2,     6.6,2,    0.02,2,   0.624,2,-999.000,9,-999.000,9,-999.000,9,  -999.0,9, -999.00,9,-999.0000,9, -999.00,-999.0000,9,  -999.00,-999.000,9,  17.9247,2, -999.00,9,  -999.0,9,  -999.0,-999.00000000,9,-999.00000000,9,   183.2,     -999.0,9,    36.2224,2,     -999.0,9,         -999.0,9,  -999.0,9,20140101,       0510
33RO20131223,       A16S,      20,          1,         19,         19,2,20140101,       0328,   -15.4994,   -24.9999,       4995,   258.4,  13.9759,  35.3716,2,  35.3741,2,    156.4,2,   161.2,2,     4.8,2,    14.1,2,    0.00,2,   1.021,2,   2.477,2,   1.494,2,   1.133,2,  2156.9,2, 2325.46,2,-999.0000,9, -999.00,   7.7743,2,       25,-999.000,9,  14.0124,2, -999.00,9,  -999.0,9,  -999.0,-999.00000000,9,-999.00000000,9,   258.4,     16.932,2,    35.5409,2,     -999.0,9,         -999.0,9,  -999.0,9,20140101,       0508
33RO20131223,       A16S,      20,          1,         18,         18,2,20140101,       0328,   -15.4994,   -24.9999,       4995,   318.1,  11.9036,  35.0847,2,  35.0703,2,    137.4,2,   136.3,2,     8.0,2,    21.0,2,    0.00,2,   1.412,2,-999.000,9,-999.000,9,-999.000,9,  2183.2,2, 2310.13,2,-999.0000,9, -999.00,   7.6771,6,       25,-999.000,9,    11.88,2, -999.00,9,  -999.0,9,  -999.0,-999.00000000,9,-999.00000000,9,   318.1,     -999.0,9,    35.2357,2,     -999.0,9,         -999.0,9,  -999.0,9,20140101,       0506
33RO20131223,       A16S,      20,          1,         17,         17,2,20140101,       0328,   -15.4994,   -24.9999,       4995,   398.3,   9.5881,  34.8281,2,  34.8189,2,    123.5,2,   121.1,2,    12.9,2,    27.2,2,    0.00,2,   1.798,2,   1.752,2,   0.965,2,   0.416,2,  2201.5,6, 2303.65,2,-999.0000,9, -999.00,    7.596,2,       25,-999.000,9,   9.5875,2, -999.00,9,  -999.0,9,  -999.0,-999.00000000,9,-999.00000000,9,   398.3,     27.196,2,    34.9831,2,     -999.0,9,         -999.0,9,  -999.0,9,20140101,       0503
33RO20131223,       A16S,      20,          1,         16,         16,2,20140101,       0328,   -15.4994,   -24.9999,       4995,   462.8,   7.9324,  34.6598,2,  34.6481,2,      137,2,   138.4,2,    16.5,2,    29.1,2,    0.00,2,   1.930,2,-999.000,9,-999.000,9,-999.000,9,  2202.7,2, 2297.76,6,-999.0000,9, -999.00,   7.5868,2,       25,-999.000,9,   7.9583,2, -999.00,9,  -999.0,9,  -999.0,-999.00000000,9,-999.00000000,9,   462.8,     -999.0,9,    34.8115,2,     -999.0,9,         -999.0,9,  -999.0,9,20140101,       0501
33RO20131223,       A16S,      20,          1,         15,         15,2,20140101,       0328,   -15.4994,   -24.9999,       4995,   573.4,   5.8051,  34.4777,2,  34.4775,2,    162.5,2,   162.2,2,    22.9,2,    31.1,2,    0.00,2,   2.090,2,-999.000,9,-999.000,9,-999.000,9,  2204.5,2, 2299.23,2,-999.0000,9, -999.00,   7.5827,2,       25,-999.000,9,   5.8062,2, -999.00,9,  -999.0,9,  -999.0,-999.00000000,9,-999.00000000,9,   573.4,     -999.0,9,    34.6401,2,     -999.0,9,         -999.0,9,  -999.0,9,20140101,       0458
33RO20131223,       A16S,      20,          1,         14,         14,2,20140101,       0328,   -15.4994,   -24.9999,       4995,   722.6,   4.5618,  34.4170,2,  34.4176,2,    175.7,2,   176.4,2,    30.4,2,    32.2,2,    0.00,2,   2.182,2,   0.792,2,   0.396,2,   0.110,2,  2208.5,2, 2302.49,2,-999.0000,9, -999.00,   7.5784,2,       25,-999.000,9,   4.5617,2, -999.00,9,  -999.0,9,  -999.0,-999.00000000,9,-999.00000000,9,   722.6,     21.498,2,    34.5799,2,     -999.0,9,         -999.0,9,  -999.0,9,20140101,       0454
33RO20131223,       A16S,      20,          1,         13,         13,2,20140101,       0328,   -15.4994,   -24.9999,       4995,   873.1,   4.0381,  34.4562,2,  34.4554,2,    175.1,2,   175.3,2,    35.6,2,    32.6,2,    0.00,2,   2.221,2,-999.000,9,-999.000,9,-999.000,9,  2215.8,2, 2307.43,2,-999.0000,9, -999.00,   7.5743,2,       25,-999.000,9,   4.0404,2, -999.00,9,  -999.0,9,  -999.0,-999.00000000,9,-999.00000000,9,   873.1,     -999.0,9,    34.6179,2,     -999.0,9,         -999.0,9,  -999.0,9,20140101,       0450
33RO20131223,       A16S,      20,          1,         12,         12,2,20140101,       0328,   -15.4994,   -24.9999,       4995,  1048.1,   3.8677,  34.5651,2,  34.5709,2,    175.5,2,   175.8,2,    36.5,2,    31.5,2,    0.00,2,   2.147,2,   0.117,2,   0.061,2,   0.000,2,  2217.4,2, 2312.09,2,-999.0000,9, -999.00,   7.5854,2,       25,-999.000,9,   3.8678,2, -999.00,9,  -999.0,9,  -999.0,-999.00000000,9,-999.00000000,9,  1048.1,     20.939,2,    34.7339,2,     -999.0,9,         -999.0,9,  -999.0,9,20140101,       0446
33RO20131223,       A16S,      20,          1,         11,         11,2,20140101,       0328,   -15.4994,   -24.9999,       4995,  1198.3,   3.9243,  34.6800,2,  34.6802,2,    181.6,2,   182.1,2,    33.4,2,    29.6,2,    0.00,2,   2.011,2,-999.000,9,-999.000,9,-999.000,9,  -999.0,9, -999.00,9,-999.0000,9, -999.00,-999.0000,9,  -999.00,-999.000,9,   3.9242,2, -999.00,9,  -999.0,9,  -999.0,-999.00000000,9,-999.00000000,9,  1198.3,     -999.0,9,    34.8438,6,     -999.0,9,         -999.0,9,  -999.0,9,20140101,       0442
33RO20131223,       A16S,      20,          1,         10,         10,2,20140101,       0328,   -15.4994,   -24.9999,       4995,  1447.5,   3.9732,  34.8419,2,  34.8418,2,    205.2,2,   204.9,2,    26.9,2,    25.4,2,    0.00,2,   1.711,2,   0.047,2,   0.028,2,   0.000,2,  2195.1,2, 2315.25,2,-999.0000,9, -999.00,   7.6581,2,       25,-999.000,9,   3.9722,2, -999.00,9,  -999.0,9,  -999.0,-999.00000000,9,-999.00000000,9,  1447.5,     17.396,2,     35.006,2,     -999.0,9,         -999.0,9,  -999.0,9,20140101,       0437
33RO20131223,       A16S,      20,          1,          9,          9,2,20140101,       0328,   -15.4994,   -24.9999,       4995,  1747.7,   3.5541,  34.9118,2,  34.9108,2,    230.2,2,   230.8,2,    26.6,2,    22.2,2,    0.00,2,   1.493,2,-999.000,9,-999.000,9,-999.000,9,  2182.4,2, 2319.09,2,-999.0000,9, -999.00,   7.7005,2,       25,-999.000,9,   3.5526,2, -999.00,9,  -999.0,9,  -999.0,-999.00000000,9,-999.00000000,9,  1747.7,     -999.0,9,    35.0754,2,     -999.0,9,         -999.0,9,  -999.0,9,20140101,       0431
33RO20131223,       A16S,      20,          1,          8,          8,2,20140101,       0328,   -15.4994,   -24.9999,       4995,  2197.9,   3.0037,  34.9077,2,  34.9065,2,    238.7,2,   238.5,2,    34.2,2,    21.9,2,    0.00,2,   1.472,2,   0.015,2,   0.011,2,   0.000,2,  2184.7,2, 2330.17,2,-999.0000,9, -999.00,   7.7105,2,       25,-999.000,9,   3.0035,2, -999.00,9,  -999.0,9,  -999.0,-999.00000000,9,-999.00000000,9,  2197.9,     14.331,2,    35.0711,2,     -999.0,9,         -999.0,9,  -999.0,9,20140101,       0423
33RO20131223,       A16S,      20,          1,          7,          7,2,20140101,       0328,   -15.4994,   -24.9999,       4995,  2498.1,   2.8128,  34.9004,2,  34.8998,2,    240.2,2,   239.8,2,    38.3,2,    22.1,2,    0.00,2,   1.488,2,-999.000,9,-999.000,9,-999.000,9,  -999.0,9, -999.00,9,-999.0000,9, -999.00,-999.0000,9,  -999.00,-999.000,9,   2.8123,2, -999.00,9,  -999.0,9,  -999.0,-999.00000000,9,-999.00000000,9,  2498.1,     -999.0,9,    35.0644,2,     -999.0,9,         -999.0,9,  -999.0,9,20140101,       0417
33RO20131223,       A16S,      20,          1,          6,          6,2,20140101,       0328,   -15.4994,   -24.9999,       4995,  2847.5,   2.6966,  34.8961,2,  34.8943,2,    241.4,2,   239.9,2,    41.0,2,    22.2,2,    0.00,2,   1.500,2,   0.009,2,   0.008,2,   0.000,2,  2190.9,2, 2338.21,2,-999.0000,9, -999.00,   7.7115,2,       25,-999.000,9,   2.6963,2, -999.00,9,  -999.0,9,  -999.0,-999.00000000,9,-999.00000000,9,  2847.5,     14.204,2,    35.0588,2,     -999.0,9,         -999.0,9,  -999.0,9,20140101,       0409
33RO20131223,       A16S,      20,          1,          5,          5,2,20140101,       0328,   -15.4994,   -24.9999,       4995,  3197.3,   2.5980,  34.8951,2,  34.8955,2,    242.5,2,   242.6,2,    41.8,6,    22.1,6,    0.00,6,   1.482,6,-999.000,9,-999.000,9,-999.000,9,  2189.9,2,  2340.8,2,-999.0000,9, -999.00,   7.7149,6,       25,-999.000,9,   2.5975,2, -999.00,9,  -999.0,9,  -999.0,-999.00000000,9,-999.00000000,9,  3197.3,     -999.0,9,      35.06,2,     -999.0,9,         -999.0,9,  -999.0,9,20140101,       0403
33RO20131223,       A16S,      20,          1,          4,          4,2,20140101,       0328,   -15.4994,   -24.9999,       4995,    3598,   2.3736,  34.8822,2,  34.8823,2,    244.7,2,   245.3,2,    46.0,6,    22.2,6,    0.00,6,   1.498,6,-999.000,9,-999.000,9,-999.000,9,  -999.0,9, -999.00,9,-999.0000,9, -999.00,-999.0000,9,  -999.00,-999.000,9,   2.3734,2, -999.00,9,  -999.0,9,  -999.0,-999.00000000,9,-999.00000000,9,  3598.0,     -999.0,9,    35.0468,2,     -999.0,9,         -999.0,9,  -999.0,9,20140101,       0355
33RO20131223,       A16S,      20,          1,          3,          3,2,20140101,       0328,   -15.4994,   -24.9999,       4995,    3998,   1.7535,  34.8203,2,  34.8189,2,    236.8,2,   237.1,2,    69.3,6,    25.2,6,    0.00,6,   1.717,6,   0.020,2,   0.014,2,   0.055,2,  2215.7,2,  2349.8,6,-999.0000,9, -999.00,   7.6826,2,       25,-999.000,9,   1.7536,2, -999.00,9,  -999.0,9,  -999.0,-999.00000000,9,-999.00000000,9,  3998.0,     15.139,2,    34.9831,2,     -999.0,9,         -999.0,9,  -999.0,9,20140101,       0347
33RO20131223,       A16S,      20,          1,          2,          2,2,20140101,       0328,   -15.4994,   -24.9999,       4995,  4497.5,   1.1066,  34.7534,2,  34.7527,2,    227.4,2,   228.2,2,    94.4,6,    28.5,6,    0.00,6,   1.954,6,-999.000,9,-999.000,9,-999.000,9,  -999.0,9, -999.00,9,-999.0000,9, -999.00,-999.0000,9,  -999.00,-999.000,9,   1.1084,2, -999.00,9,  -999.0,9,  -999.0,-999.00000000,9,-999.00000000,9,  4497.5,     -999.0,9,    34.9166,2,     -999.0,9,         -999.0,9,  -999.0,9,20140101,       0338
33RO20131223,       A16S,      20,          1,          1,          1,2,20140101,       0328,   -15.4994,   -24.9999,       4995,  5070.7,   0.8257,  34.7187,2,  34.7174,2,    223.4,2,   223.3,2,   107.2,6,    30.2,6,    0.00,6,   2.078,6,   0.107,2,   0.052,2,   0.035,2,  2254.3,6, 2365.81,2,-999.0000,9, -999.00,   7.6241,2,       25,-999.000,9,   0.8255,2, -999.00,9,  -999.0,9,  -999.0,-999.00000000,9,-999.00000000,9,  5070.7,     17.180,2,    34.8811,6,     -999.0,9,         -999.0,9,  -999.0,9,20140101,       0328