BOTTLE,20220815CCHSIOAMB
EXPOCODE,SECT_ID,STNNBR,CASTNO,SAMPNO,BTLNBR,BTLNBR_FLAG_W,DATE,TIME,LATITUDE,LONGITUDE,DEPTH,CTDPRS,CTDTMP,CTDSAL,CTDSAL_FLAG_W,SALNTY,SALNTY_FLAG_W,CTDOXY,CTDOXY_FLAG_W,OXYGEN,OXYGEN_FLAG_W,SILCAT,SILCAT_FLAG_W,NITRAT,NITRAT_FLAG_W,NITRIT,NITRIT_FLAG_W,PHSPHT,PHSPHT_FLAG_W,CFC-11,CFC-11_FLAG_W,CFC-12,CFC-12_FLAG_W,SF6,SF6_FLAG_W,TCARBN,TCARBN_FLAG_W,ALKALI,ALKALI_FLAG_W,PCO2,PCO2_FLAG_W,PCO2TMP,PH_SWS,PH_SWS_FLAG_W,PH_TMP,TRITUM,TRITUM_FLAG_W,REFTMP,REFTMP_FLAG_W,DELC13,DELC13_FLAG_W,DELC14,DELC14_FLAG_W,C14ERR,DOC,DOC_FLAG_W,TDN,TDN_FLAG_W,CTDRAW,N2O,N2O_FLAG_W,SALTREF,SALTREF_FLAG_W,HELIUM,HELIUM_FLAG_W,DELO18,DELO18_FLAG_W,CCL4,CCL4_FLAG_W,BTL_DATE,BTL_TIME
,,,,,,,,,,,METERS,DBAR,ITS-90,PSS-78,,PSS-78,,UMOL/KG,,UMOL/KG,,UMOL/KG,,UMOL/KG,,UMOL/KG,,UMOL/KG,,PMOL/KG,,PMOL/KG,,FMOL/KG,,UMOL/KG,,UMOL/KG,,UATM,,DEG C,,,DEG C,TU,,DEG C,,/MILLE,,/MILLE,,/MILLE,UMOL/KG,,UMOL/KG,,DBAR,NMOL/KG,,G/KG,,NMOL/KG,,/MILLE,,PMOL/KG,,,
33RO20131223,       A16S,      71,          2,         24,         24,2,20140116,       1401,   -41.0119,   -28.4048,       4328,     3.5,  16.6080,  35.2893,2,  35.2891,2,    242.6,2,   244.3,2,     0.5,2,     0.0,2,    0.01,2,   0.211,2,   2.529,2,   1.506,2,   1.674,2,  2070.6,6, 2362.56,4,-999.0000,9, -999.00,    7.954,2,       25,-999.000,1,  16.6019,2,    0.61,6,  -136.1,6,     3.2,  61.27802427,2,         3.56,2,     3.5,      8.170,2,    35.4555,2,     -999.0,1,         -999.0,1,  -999.0,9,20140116,       1542
33RO20131223,       A16S,      71,          2,         23,         23,2,20140116,       1401,   -41.0119,   -28.4048,       4328,    27.6,  16.2197,  35.2902,2,  35.2901,2,    244.5,2,   243.8,2,     0.5,2,     0.1,2,    0.02,2,   0.247,2,   2.520,2,   1.512,2,   1.686,2,  2073.1,2, 2335.36,2,-999.0000,9, -999.00,   7.9591,2,       25,-999.000,1,  16.2201,2,    0.60,6,  -135.2,6,     0.9,  61.16582919,2,         4.45,2,    27.6,      8.248,2,    35.4565,2,     -999.0,1,         -999.0,1,  -999.0,9,20140116,       1540
33RO20131223,       A16S,      71,          2,         22,         22,2,20140116,       1401,   -41.0119,   -28.4048,       4328,    63.4,  14.5001,  35.3184,2,  35.3186,2,    242.6,2,   243.6,2,     1.2,2,     2.8,2,    0.65,2,   0.383,2,   2.740,6,   1.629,2,   1.795,6,  2096.4,2, 2330.58,6,-999.0000,9, -999.00,   7.9103,2,       25,-999.000,1,  14.5042,2,    0.67,6,  -133.1,6,     1.8,  56.43119694,2,         6.59,2,    63.4,      9.085,6,    35.4851,6,     -999.0,1,         -999.0,1,  -999.0,9,20140116,       1538
33RO20131223,       A16S,      71,          2,         21,         21,2,20140116,       1401,   -41.0119,   -28.4048,       4328,   113.4,  13.9311,  35.4140,2,  35.4139,2,    239.5,2,   233.1,2,     1.9,2,     5.9,2,    0.03,2,   0.504,2,   2.747,2,   1.632,2,   1.706,2,    2112,2, 2334.26,2,-999.0000,9, -999.00,   7.8882,2,       25,-999.000,1,  13.9302,2,    0.72,6,  -130.0,6,     3.2,   53.8955882,2,         8.97,2,   113.4,      9.807,2,    35.5809,2,     -999.0,1,         -999.0,1,  -999.0,9,20140116,       1535
33RO20131223,       A16S,      71,          2,         20,         20,2,20140116,       1401,   -41.0119,   -28.4048,       4328,   183.2,  13.3092,  35.3020,2,  35.3016,2,    241.6,2,   241.7,2,     2.0,2,     6.1,2,    0.01,2,   0.537,2,   2.835,2,   1.687,2,   1.768,2,  2111.4,2, 2329.53,2,-999.0000,9, -999.00,   7.8791,2,       25,-999.000,1,  13.3102,2,    0.63,6,  -138.7,6,     0.7,  49.19087463,2,         9.23,2,   183.2,      9.734,2,    35.4681,2,     -999.0,1,         -999.0,1,  -999.0,9,20140116,       1533
33RO20131223,       A16S,      71,          2,         19,         19,2,20140116,       1401,   -41.0119,   -28.4048,       4328,   258.8,  13.2285,  35.3259,2,  35.3247,2,      233,2,   233.3,2,     2.3,2,     7.8,2,    0.01,2,   0.632,2,   2.825,2,   1.679,2,   1.660,2,  2117.4,2, 2328.63,2,-999.0000,9, -999.00,   7.8628,2,       25,-999.000,1,  13.2275,2,    0.65,6,  -147.9,6,     1.3,  46.71510327,2,        10.44,2,   258.8,     10.007,2,    35.4912,2,     -999.0,1,         -999.0,1,  -999.0,9,20140116,       1531
33RO20131223,       A16S,      71,          2,         18,         18,2,20140116,       1401,   -41.0119,   -28.4048,       4328,     348,  11.4373,  34.9967,2,  34.9935,2,    219.6,2,   220.5,2,     3.6,2,    12.9,2,    0.01,2,   0.953,2,   3.115,2,   1.791,2,   1.548,2,  2130.9,2, 2310.46,2,-999.0000,9, -999.00,   7.8019,2,       25,-999.000,1,  11.4375,2,    0.54,6,  -152.6,6,     1.6,  44.54599844,2,        15.57,2,   348.0,     12.031,2,    35.1585,2,     -999.0,1,         -999.0,1,  -999.0,9,20140116,       1528
33RO20131223,       A16S,      71,          2,         17,         17,2,20140116,       1401,   -41.0119,   -28.4048,       4328,     448,   9.3182,  34.6931,2,  34.6906,2,    219.5,2,   217.9,2,     5.8,2,    18.3,2,    0.01,2,   1.292,2,   3.369,2,   1.881,2,   1.467,2,  2145.3,2, 2296.23,2,-999.0000,9, -999.00,    7.737,2,       25,-999.000,1,   9.3002,2,    0.53,6,  -159.3,6,     2.0,  43.25949489,2,        20.96,2,   448.0,     13.655,2,    34.8542,2,     -999.0,1,         -999.0,1,  -999.0,9,20140116,       1525
33RO20131223,       A16S,      71,          2,         16,         16,2,20140116,       1401,   -41.0119,   -28.4048,       4328,   573.1,   6.2404,  34.3223,2,  34.3236,2,    239.8,2,   237.2,2,     9.3,2,    24.1,2,    0.00,2,   1.667,2,   3.801,2,   2.061,2,   1.535,2,  2155.3,2, 2282.38,2,-999.0000,9, -999.00,   7.6796,2,       25,-999.000,1,   6.2536,2,    0.49,6,  -158.1,6,     0.5,  42.04030839,2,        26.73,2,   573.1,     14.710,2,    34.4854,2,     -999.0,1,         -999.0,1,  -999.0,9,20140116,       1522
33RO20131223,       A16S,      71,          2,         15,         15,2,20140116,       1401,   -41.0119,   -28.4048,       4328,   723.2,   4.6996,  34.2012,2,  34.1997,2,    254.1,2,   254.5,2,    13.3,2,    26.4,2,    0.00,2,   1.815,2,   3.932,2,   2.105,2,   1.531,2,  2162.3,2, 2280.33,2,-999.0000,9, -999.00,   7.6631,2,       25,-999.000,1,   4.6998,2, -999.00,9,  -999.0,9,  -999.0,  41.05299171,2,        29.04,2,   723.2,     15.097,2,     34.361,2,     -999.0,1,         -999.0,1,  -999.0,9,20140116,       1518
33RO20131223,       A16S,      71,          2,         14,         14,2,20140116,       1401,   -41.0119,   -28.4048,       4328,     874,   4.0216,  34.2074,2,  34.2062,2,    242.6,2,   242.9,2,    20.1,2,    28.6,2,    0.00,2,   1.961,2,   3.471,6,   1.804,2,   1.097,6,  2175.8,2, 2286.13,2,-999.0000,9, -999.00,   7.6381,2,       25,-999.000,1,    4.022,2, -999.00,9,  -999.0,9,  -999.0,   40.5518537,2,        31.33,2,   874.0,     16.607,6,    34.3675,2,     -999.0,1,         -999.0,1,  -999.0,9,20140116,       1514
33RO20131223,       A16S,      71,          2,         13,         13,2,20140116,       1401,   -41.0119,   -28.4048,       4328,    1048,   3.4308,  34.2488,2,  34.2477,2,    224.5,2,   225.5,2,    30.4,2,    30.8,2,    0.00,2,   2.114,2,   2.757,2,   1.403,2,   0.834,2,  2196.2,2, 2296.57,2,-999.0000,9, -999.00,   7.6062,2,       25,-999.000,1,   3.4313,2, -999.00,9,  -999.0,9,  -999.0,   39.7290898,2,        33.46,2,  1048.0,     18.778,2,    34.4092,2,     -999.0,1,         -999.0,1,  -999.0,9,20140116,       1510
33RO20131223,       A16S,      71,          2,         12,         12,2,20140116,       1401,   -41.0119,   -28.4048,       4328,  1198.8,   3.2165,  34.3141,2,  34.3112,2,    209.3,2,     209,2,    38.5,2,    32.1,2,    0.00,2,   2.207,2,   2.038,2,   1.013,2,   0.550,2,  2210.2,2, 2304.84,2,-999.0000,9, -999.00,   7.5862,2,       25,-999.000,1,   3.2167,2, -999.00,9,  -999.0,9,  -999.0,  39.34762654,2,        34.69,2,  1198.8,     20.196,2,     34.473,2,     -999.0,1,         -999.0,1,  -999.0,9,20140116,       1506
33RO20131223,       A16S,      71,          2,         11,         11,2,20140116,       1401,   -41.0119,   -28.4048,       4328,  1349.4,   2.9769,  34.4011,2,  34.3996,2,    189.6,2,   190.1,2,    50.1,2,    33.3,2,    0.00,2,   2.292,2,   1.335,2,   0.653,2,   0.300,2,  2228.6,2, 2310.04,2,-999.0000,9, -999.00,   7.5617,2,       25,-999.000,1,   2.9772,2, -999.00,9,  -999.0,9,  -999.0,  39.17559409,2,        35.82,2,  1349.4,     21.573,2,    34.5618,2,     -999.0,1,         -999.0,1,  -999.0,9,20140116,       1502
33RO20131223,       A16S,      71,          2,         10,         10,2,20140116,       1401,   -41.0119,   -28.4048,       4328,  1548.6,   2.8537,  34.5290,2,  34.5272,2,    179.2,2,   179.6,2,    58.2,2,    33.0,2,    0.00,2,   2.276,2,   0.602,2,   0.290,2,   0.109,2,  2238.9,2, 2331.62,2,-999.0000,9, -999.00,   7.5616,6,       25,-999.000,1,   2.8538,2, -999.00,9,  -999.0,9,  -999.0,  39.13071606,2,        35.48,2,  1548.6,     21.718,2,      34.69,2,     -999.0,1,         -999.0,9,  -999.0,9,20140116,       1458
33RO20131223,       A16S,      71,          2,          9,          9,2,20140116,       1401,   -41.0119,   -28.4048,       4328,  1698.9,   2.8474,  34.6012,2,  34.5989,2,    179.8,2,   180.3,2,    59.9,2,    32.1,2,    0.01,2,   2.217,2,   0.388,2,   0.189,2,   0.064,2,  2239.3,6, 2335.89,6,-999.0000,9, -999.00,   7.5718,2,       25,-999.000,1,   2.8473,2, -999.00,9,  -999.0,9,  -999.0,  39.64681341,2,        34.75,2,  1698.9,     21.345,2,     34.762,2,     -999.0,1,         -999.0,9,  -999.0,9,20140116,       1454
33RO20131223,       A16S,      71,          2,          8,          8,2,20140116,       1401,   -41.0119,   -28.4048,       4328,  1997.6,   2.8788,  34.7232,2,  34.7219,2,    189.5,2,   189.1,2,    59.0,2,    29.8,2,    0.00,2,   2.043,2,   0.223,2,   0.107,2,   0.035,2,  2233.2,2, 2335.98,2,-999.0000,9, -999.00,   7.6011,2,       25,-999.000,9,   2.8784,2, -999.00,9,  -999.0,9,  -999.0,  40.26762617,2,        32.26,2,  1997.6,     19.806,2,    34.8856,6,     -999.0,1,         -999.0,9,  -999.0,9,20140116,       1448
33RO20131223,       A16S,      71,          2,          7,          7,2,20140116,       1401,   -41.0119,   -28.4048,       4328,    2398,   2.7270,  34.7985,2,  34.7966,2,    203.9,2,   204.1,2,    58.9,2,    27.4,2,    0.00,2,   1.883,2,   0.161,2,   0.076,2,   0.047,2,  2225.7,2, 2339.88,2,-999.0000,9, -999.00,   7.6352,2,       25,-999.000,1,   2.7268,2, -999.00,9,  -999.0,9,  -999.0,   40.9482763,2,        30.01,2,  2398.0,     18.300,2,    34.9607,2,     -999.0,1,         -999.0,9,  -999.0,9,20140116,       1441
33RO20131223,       A16S,      71,          2,          6,          6,2,20140116,       1401,   -41.0119,   -28.4048,       4328,  2747.5,   2.5598,  34.8332,2,  34.8322,2,      218,2,   217.7,2,    56.4,2,    25.8,2,    0.00,2,   1.763,2,   0.103,2,   0.049,2,   0.031,2,  2216.1,2, 2339.86,2,-999.0000,9, -999.00,   7.6589,2,       25,-999.000,9,   2.5602,2, -999.00,9,  -999.0,9,  -999.0,  41.45689399,2,        28.26,2,  2747.5,     16.875,2,    34.9964,2,     -999.0,1,         -999.0,9,  -999.0,9,20140116,       1434
33RO20131223,       A16S,      71,          2,          5,          5,2,20140116,       1401,   -41.0119,   -28.4048,       4328,  3147.3,   1.9996,  34.7868,2,  34.7853,2,    210.4,2,   210.2,2,    76.3,2,    28.1,2,    0.00,2,   1.926,2,   0.105,6,   0.048,2,   0.000,6,  2233.7,2, 2351.21,2,-999.0000,9, -999.00,    7.635,2,       25,-999.000,1,   2.0006,2, -999.00,9,  -999.0,9,  -999.0,  41.29234121,2,        30.48,2,  3147.3,     17.742,6,    34.9493,2,     -999.0,1,         -999.0,9,  -999.0,9,20140116,       1426
33RO20131223,       A16S,      71,          2,          4,          4,2,20140116,       1401,   -41.0119,   -28.4048,       4328,  3548.3,   1.3574,  34.7324,2,  34.7304,2,    204.4,2,   204.9,2,   100.8,6,    30.7,6,    0.00,6,   2.107,6,   0.178,2,   0.084,2,   0.056,2,  2253.5,2, 2359.96,2,-999.0000,9, -999.00,   7.6055,2,       25,-999.000,9,   1.3587,2, -999.00,9,  -999.0,9,  -999.0,   40.5518537,2,        33.21,2,  3548.3,     18.679,2,    34.8941,2,     -999.0,1,         -999.0,9,  -999.0,9,20140116,       1418
33RO20131223,       A16S,      71,          2,          3,          3,2,20140116,       1401,   -41.0119,   -28.4048,       4328,    3948,   0.8809,  34.7049,2,  34.7017,2,    209.9,2,   209.9,2,   112.7,6,    31.6,6,    0.00,6,   2.175,6,   0.278,2,   0.132,2,   0.073,2,  2259.3,2,  2365.3,2,-999.0000,9, -999.00,   7.5954,6,       25,-999.000,1,   0.8813,2, -999.00,9,  -999.0,9,  -999.0,  39.69917111,2,        34.21,2,  3948.0,     18.630,2,    34.8653,2,     -999.0,1,         -999.0,9,  -999.0,9,20140116,       1411
33RO20131223,       A16S,      71,          2,          2,          2,2,20140116,       1401,   -41.0119,   -28.4048,       4328,  4198.6,   0.6178,  34.6893,2,  34.6864,2,    213.8,2,   213.8,2,   119.8,6,    32.1,6,    0.01,6,   2.208,6,   0.373,2,   0.175,2,   0.082,2,  2261.7,2, 2363.12,6,-999.0000,9, -999.00,    7.594,2,       25,-999.000,9,   0.6189,2, -999.00,9,  -999.0,9,  -999.0,  39.17559409,2,        34.69,2,  4198.6,     18.660,2,      34.85,2,     -999.0,1,         -999.0,9,  -999.0,9,20140116,       1405
33RO20131223,       A16S,      71,          2,          1,          1,2,20140116,       1401,   -41.0119,   -28.4048,       4328,  4395.4,   0.4490,  34.6795,2,  34.6771,2,    216.3,2,   216.6,2,   124.0,6,    32.4,6,    0.01,6,   2.229,6,   0.451,2,   0.213,2,   0.087,2,  2267.5,2, 2365.59,2,-999.0000,9, -999.00,    7.595,2,       25,-999.000,1,   0.4492,2, -999.00,9,  -999.0,9,  -999.0,  39.54957768,2,        35.01,2,  4395.4,     18.577,2,    34.8406,2,     -999.0,1,         -999.0,9,  -999.0,9,20140116,       1401