BOTTLE,20220815CCHSIOAMB
EXPOCODE,SECT_ID,STNNBR,CASTNO,SAMPNO,BTLNBR,BTLNBR_FLAG_W,DATE,TIME,LATITUDE,LONGITUDE,DEPTH,CTDPRS,CTDTMP,CTDSAL,CTDSAL_FLAG_W,SALNTY,SALNTY_FLAG_W,CTDOXY,CTDOXY_FLAG_W,OXYGEN,OXYGEN_FLAG_W,SILCAT,SILCAT_FLAG_W,NITRAT,NITRAT_FLAG_W,NITRIT,NITRIT_FLAG_W,PHSPHT,PHSPHT_FLAG_W,CFC-11,CFC-11_FLAG_W,CFC-12,CFC-12_FLAG_W,SF6,SF6_FLAG_W,TCARBN,TCARBN_FLAG_W,ALKALI,ALKALI_FLAG_W,PCO2,PCO2_FLAG_W,PCO2TMP,PH_SWS,PH_SWS_FLAG_W,PH_TMP,TRITUM,TRITUM_FLAG_W,REFTMP,REFTMP_FLAG_W,DELC13,DELC13_FLAG_W,DELC14,DELC14_FLAG_W,C14ERR,DOC,DOC_FLAG_W,TDN,TDN_FLAG_W,CTDRAW,N2O,N2O_FLAG_W,SALTREF,SALTREF_FLAG_W,HELIUM,HELIUM_FLAG_W,DELO18,DELO18_FLAG_W,CCL4,CCL4_FLAG_W,BTL_DATE,BTL_TIME
,,,,,,,,,,,METERS,DBAR,ITS-90,PSS-78,,PSS-78,,UMOL/KG,,UMOL/KG,,UMOL/KG,,UMOL/KG,,UMOL/KG,,UMOL/KG,,PMOL/KG,,PMOL/KG,,FMOL/KG,,UMOL/KG,,UMOL/KG,,UATM,,DEG C,,,DEG C,TU,,DEG C,,/MILLE,,/MILLE,,/MILLE,UMOL/KG,,UMOL/KG,,DBAR,NMOL/KG,,G/KG,,NMOL/KG,,/MILLE,,PMOL/KG,,,
33RO20131223,       A16S,      91,          1,         24,         24,2,20140123,       1956,   -51.0004,   -34.6145,       5000,       5,   3.9259,  33.7950,2,  33.7949,2,    337.3,2,   335.7,2,     0.3,2,    18.5,2,    0.27,2,   1.063,2,   5.122,6,   2.833,2,   2.852,6,  2112.9,6, 2285.68,2,-999.0000,9, -999.00,    7.805,2,       25,-999.000,9,   3.9266,2,    1.90,6,   -80.6,6,     1.6,  50.64941063,2,        21.57,2,     5.0,     13.256,6,    33.9542,2,     -999.0,9,         -999.0,9,  -999.0,9,20140123,       2147
33RO20131223,       A16S,      91,          1,         23,         23,2,20140123,       1956,   -51.0004,   -34.6145,       5000,    12.1,   3.9336,  33.7949,2,  33.7944,2,    337.6,2,   335.6,2,     0.3,2,    18.5,2,    0.27,2,   1.099,2,   5.139,2,   2.823,2,   2.888,2,  2113.7,2, 2289.31,6,-999.0000,9, -999.00,   7.8065,6,       25,-999.000,9,   3.9336,2, -999.00,9,  -999.0,9,  -999.0,  49.93136214,2,        21.87,2,    12.1,     13.200,2,    33.9537,2,     -999.0,9,         -999.0,9,  -999.0,9,20140123,       2147
33RO20131223,       A16S,      91,          1,         22,         22,3,20140123,       1956,   -51.0004,   -34.6145,       5000,    37.1,   3.6341,  33.7990,2,-999.0000,9,    335.3,2,  -999.0,9,  -999.0,9,  -999.0,9, -999.00,9,-999.000,9,-999.000,9,-999.000,9,-999.000,9,  -999.0,9, -999.00,9,-999.0000,9, -999.00,-999.0000,9,  -999.00,-999.000,9,   3.6265,2, -999.00,9,  -999.0,9,  -999.0,-999.00000000,9,-999.00000000,9,    37.1,     -999.0,9,     -999.0,9,     -999.0,9,         -999.0,9,  -999.0,9,20140123,       2144
33RO20131223,       A16S,      91,          1,         21,         21,2,20140123,       1956,   -51.0004,   -34.6145,       5000,    66.7,   3.0911,  33.8124,2,  33.8110,2,    321.8,2,   328.8,2,     3.2,2,    19.8,2,    0.29,2,   1.365,2,   5.261,2,   2.862,2,   2.781,2,  2132.2,2, 2289.74,2,-999.0000,9, -999.00,   7.7598,2,       25,-999.000,9,   3.1016,2, -999.00,9,  -999.0,9,  -999.0,  47.59022487,2,        23.44,2,    66.7,     13.629,2,    33.9705,2,     -999.0,9,         -999.0,9,  -999.0,9,20140123,       2142
33RO20131223,       A16S,      91,          1,         20,         20,2,20140123,       1956,   -51.0004,   -34.6145,       5000,   116.4,   0.6029,  33.9358,2,  33.9344,2,    312.1,2,   314.9,2,    28.7,2,    27.1,2,    0.25,2,   2.001,2,   5.448,2,   2.963,2,   2.842,2,  2182.6,2, 2294.03,2,-999.0000,9, -999.00,   7.6344,2,       25,-999.000,9,   0.6011,2, -999.00,9,  -999.0,9,  -999.0,  44.66567319,2,        30.72,2,   116.4,     16.139,2,    34.0944,2,     -999.0,9,         -999.0,9,  -999.0,9,20140123,       2139
33RO20131223,       A16S,      91,          1,         19,         19,2,20140123,       1956,   -51.0004,   -34.6145,       5000,     197,   1.6494,  34.2897,2,  34.2885,2,    216.3,2,   215.7,2,    54.3,2,    33.7,2,    0.02,2,   2.312,2,   2.821,2,   1.485,2,   1.194,2,  2231.2,2, 2314.49,2,-999.0000,9, -999.00,   7.5365,2,       25,-999.000,9,   1.6486,2, -999.00,9,  -999.0,9,  -999.0,  43.21461686,2,        36.86,2,   197.0,     22.037,2,    34.4502,2,     -999.0,9,         -999.0,9,  -999.0,9,20140123,       2137
33RO20131223,       A16S,      91,          1,         18,         18,2,20140123,       1956,   -51.0004,   -34.6145,       5000,   298.6,   2.0419,  34.4733,2,  34.4728,2,    179.2,2,   181.1,2,    67.8,2,    34.3,2,    0.01,2,   2.345,2,   1.416,2,   0.723,2,   0.481,2,  2253.4,2, 2327.81,2,-999.0000,9, -999.00,   7.5228,2,       25,-999.000,9,   2.0449,2, -999.00,9,  -999.0,9,  -999.0,   41.7710402,2,        37.21,2,   298.6,     23.471,2,    34.6354,2,     -999.0,9,         -999.0,9,  -999.0,9,20140123,       2134
33RO20131223,       A16S,      91,          1,         17,         17,2,20140123,       1956,   -51.0004,   -34.6145,       5000,   396.5,   2.0980,  34.5487,2,  34.5471,2,    173.9,2,   173.7,2,    73.7,6,    34.1,6,    0.01,6,   2.321,6,   0.929,2,   0.464,2,   0.320,2,  2258.9,2, 2337.02,2,-999.0000,9, -999.00,   7.5289,2,       25,-999.000,9,   2.0983,2, -999.00,9,  -999.0,9,  -999.0,  41.17266646,2,        36.69,2,   396.5,     23.167,2,      34.71,6,     -999.0,9,         -999.0,9,  -999.0,9,20140123,       2131
33RO20131223,       A16S,      91,          1,         16,         16,2,20140123,       1956,   -51.0004,   -34.6145,       5000,   519.2,   2.0741,  34.6149,2,  34.6134,2,    171.6,2,   171.4,2,    78.9,6,    33.3,6,    0.01,6,   2.278,6,   0.582,2,   0.282,2,   0.223,2,  2260.5,6, 2345.98,6,-999.0000,9, -999.00,   7.5395,2,       25,-999.000,9,   2.0742,2, -999.00,9,  -999.0,9,  -999.0,  40.43965862,2,        36.02,2,   519.2,     22.304,2,    34.7766,2,     -999.0,9,         -999.0,9,  -999.0,9,20140123,       2128
33RO20131223,       A16S,      91,          1,         15,         15,2,20140123,       1956,   -51.0004,   -34.6145,       5000,   668.4,   2.0075,  34.6678,2,  34.6665,2,      173,2,   173.2,2,    84.2,2,    32.6,2,    0.00,2,   2.231,2,   0.301,2,   0.146,2,   0.093,2,  2263.2,2, 2353.03,2,-999.0000,9, -999.00,   7.5581,2,       25,-999.000,9,   2.0079,2, -999.00,9,  -999.0,9,  -999.0,  39.69917111,2,        35.17,2,   668.4,     21.601,2,    34.8299,2,     -999.0,9,         -999.0,9,  -999.0,9,20140123,       2124
33RO20131223,       A16S,      91,          1,         14,         14,2,20140123,       1956,   -51.0004,   -34.6145,       5000,   817.8,   1.8915,  34.6896,2,  34.6872,2,    175.9,2,   176.2,2,    88.2,2,    32.1,2,    0.00,2,   2.199,2,   0.241,2,   0.118,2,   0.106,2,  2264.1,2, 2356.57,2,-999.0000,9, -999.00,   7.5659,2,       25,-999.000,9,   1.8922,2, -999.00,9,  -999.0,9,  -999.0,  39.64681341,2,        34.77,2,   817.8,     21.042,2,    34.8508,2,     -999.0,9,         -999.0,9,  -999.0,9,20140123,       2121
33RO20131223,       A16S,      91,          1,         13,         13,2,20140123,       1956,   -51.0004,   -34.6145,       5000,   997.5,   1.7457,  34.7088,2,  34.7077,2,    181.5,2,   182.2,2,    91.6,6,    31.8,6,    0.01,6,   2.167,6,   0.201,2,   0.097,2,   0.071,2,  2262.5,2, 2362.27,2,-999.0000,9, -999.00,   7.5757,2,       25,-999.000,9,   1.7464,2, -999.00,9,  -999.0,9,  -999.0,  39.65429308,2,        34.37,2,   997.5,     20.413,2,    34.8714,2,     -999.0,9,         -999.0,9,  -999.0,9,20140123,       2117
33RO20131223,       A16S,      91,          1,         12,         12,3,20140123,       1956,   -51.0004,   -34.6145,       5000,  1247.4,   1.7135,  34.7459,2,  34.7445,2,    193.3,2,   196.4,2,    87.3,6,    30.0,6,    0.00,6,   2.044,6,   0.149,2,   0.073,2,   0.060,2,    2251,3, 2353.55,3,-999.0000,9, -999.00,   7.6047,3,       25,-999.000,9,   1.7135,2, -999.00,9,  -999.0,9,  -999.0,  40.52193501,2,        32.68,2,  1247.4,     18.968,2,    34.9083,2,     -999.0,9,         -999.0,9,  -999.0,9,20140123,       2112
33RO20131223,       A16S,      91,          1,         11,         11,2,20140123,       1956,   -51.0004,   -34.6145,       5000,  1499.2,   1.3839,  34.7257,2,  34.7252,2,    195.3,2,     196,2,    97.6,6,    30.7,6,    0.00,6,   2.103,6,   0.190,2,   0.092,2,   0.056,2,  2257.7,2, 2360.39,2,-999.0000,9, -999.00,   7.5941,2,       25,-999.000,9,   1.3838,2, -999.00,9,  -999.0,9,  -999.0,        40.61,2,        33.46,2,  1499.2,     19.175,2,     34.889,2,     -999.0,9,         -999.0,9,  -999.0,9,20140123,       2106
33RO20131223,       A16S,      91,          1,         10,         10,2,20140123,       1956,   -51.0004,   -34.6145,       5000,  1648.7,   1.2097,  34.7163,2,  34.7154,2,      198,2,   198.1,2,   101.7,2,    30.7,2,    0.00,2,   2.131,2,   0.245,6,   0.123,2,   0.081,6,  2259.3,2, 2357.85,2,-999.0000,9, -999.00,   7.5909,2,       25,-999.000,9,     1.21,2, -999.00,9,  -999.0,9,  -999.0,        40.36,2,        33.36,2,  1648.7,     19.198,6,    34.8791,2,     -999.0,9,         -999.0,9,  -999.0,9,20140123,       2103
33RO20131223,       A16S,      91,          1,          9,          9,2,20140123,       1956,   -51.0004,   -34.6145,       5000,  1849.2,   1.0064,  34.7067,2,  34.7054,2,    200.9,2,   202.7,2,   106.2,2,    31.4,2,    0.00,2,   2.150,2,   0.323,2,   0.162,2,   0.107,2,  2260.3,2, 2362.45,2,-999.0000,9, -999.00,   7.5897,6,       25,-999.000,9,   1.0068,2, -999.00,9,  -999.0,9,  -999.0,        40.51,2,        34.12,2,  1849.2,     19.119,2,     34.869,2,     -999.0,9,         -999.0,9,  -999.0,9,20140123,       2059
33RO20131223,       A16S,      91,          1,          8,          8,2,20140123,       1956,   -51.0004,   -34.6145,       5000,  2147.5,   0.7925,  34.6981,2,  34.6967,2,    205.4,2,   206.5,2,   110.0,2,    31.7,2,    0.00,2,   2.164,2,   0.406,2,   0.202,2,   0.144,2,  2262.5,2, 2363.06,2,-999.0000,9, -999.00,   7.5869,2,       25,-999.000,9,   0.7926,2, -999.00,9,  -999.0,9,  -999.0,        40.38,2,        34.26,2,  2147.5,     19.020,2,    34.8604,2,     -999.0,9,         -999.0,9,  -999.0,9,20140123,       2052
33RO20131223,       A16S,      91,          1,          7,          7,2,20140123,       1956,   -51.0004,   -34.6145,       5000,  2548.1,   0.5282,  34.6868,2,  34.6858,2,    211.3,2,   212.1,2,   114.5,2,    31.7,2,    0.00,2,   2.182,2,   0.495,2,   0.243,2,   0.144,2,  2260.4,2, 2364.12,2,-999.0000,9, -999.00,   7.5849,2,       25,-999.000,9,   0.5284,2, -999.00,9,  -999.0,9,  -999.0,        40.41,2,        34.27,2,  2548.1,     18.852,2,    34.8494,2,     -999.0,9,         -999.0,9,  -999.0,9,20140123,       2045
33RO20131223,       A16S,      91,          1,          6,          6,2,20140123,       1956,   -51.0004,   -34.6145,       5000,  2948.2,   0.3493,  34.6786,2,  34.6777,2,    215.9,2,   216.3,2,   117.7,2,    31.9,2,    0.00,2,   2.196,2,   0.539,2,   0.260,2,   0.118,2,  2260.7,2, 2365.13,2,-999.0000,9, -999.00,   7.5848,2,       25,-999.000,9,   0.3497,2, -999.00,9,  -999.0,9,  -999.0,        40.21,2,        34.47,2,  2948.2,     18.685,2,    34.8412,2,     -999.0,9,         -999.0,9,  -999.0,9,20140123,       2037
33RO20131223,       A16S,      91,          1,          5,          5,2,20140123,       1956,   -51.0004,   -34.6145,       5000,    3349,   0.2277,  34.6731,2,  34.6717,2,    219.5,2,   220.1,2,   120.2,2,    32.0,2,    0.00,2,   2.205,2,   0.557,2,   0.268,2,   0.129,2,  2261.9,2, 2363.21,2,-999.0000,9, -999.00,   7.5885,2,       25,-999.000,9,   0.2277,2, -999.00,9,  -999.0,9,  -999.0,  40.11055306,2,        34.64,2,  3349.0,     18.550,2,    34.8352,6,     -999.0,9,         -999.0,9,  -999.0,9,20140123,       2030
33RO20131223,       A16S,      91,          1,          4,          4,2,20140123,       1956,   -51.0004,   -34.6145,       5000,  3746.3,   0.1463,  34.6690,2,  34.6673,2,    223.7,2,   223.2,2,   122.4,6,    32.0,6,    0.00,6,   2.208,6,   0.595,2,   0.283,2,   0.141,2,  2261.6,2,  2362.5,6,-999.0000,9, -999.00,   7.5892,2,       25,-999.000,9,   0.1467,2, -999.00,9,  -999.0,9,  -999.0,  39.72161013,2,        34.67,2,  3746.3,     18.459,2,    34.8307,2,     -999.0,9,         -999.0,9,  -999.0,9,20140123,       2022
33RO20131223,       A16S,      91,          1,          3,          3,2,20140123,       1956,   -51.0004,   -34.6145,       5000,  4148.2,   0.0449,  34.6625,2,  34.6604,2,    228.6,2,   228.6,2,   122.1,6,    31.9,6,    0.00,6,   2.205,6,   0.808,2,   0.387,2,   0.159,2,  2258.7,2,  2363.4,2,-999.0000,9, -999.00,    7.587,2,       25,-999.000,9,    0.045,2, -999.00,9,  -999.0,9,  -999.0,  39.23543146,2,        34.58,2,  4148.2,     18.327,2,    34.8238,2,     -999.0,9,         -999.0,9,  -999.0,9,20140123,       2014
33RO20131223,       A16S,      91,          1,          2,          2,2,20140123,       1956,   -51.0004,   -34.6145,       5000,  4647.2,  -0.0151,  34.6571,2,  34.6561,2,    234.8,2,   233.8,2,   120.3,6,    31.9,6,    0.00,6,   2.197,6,   0.991,2,   0.477,2,   0.232,2,  2256.6,2, 2361.14,2,-999.0000,9, -999.00,   7.5904,2,       25,-999.000,9,  -0.0151,2, -999.00,9,  -999.0,9,  -999.0,  39.85624422,2,        34.61,2,  4647.2,     18.253,2,    34.8195,2,     -999.0,9,         -999.0,9,  -999.0,9,20140123,       2005
33RO20131223,       A16S,      91,          1,          1,          1,2,20140123,       1956,   -51.0004,   -34.6145,       5000,  5088.2,  -0.0644,  34.6527,2,  34.6518,2,    239.1,2,   238.6,2,   120.5,6,    31.8,6,    0.01,6,   2.197,6,   1.135,6,   0.554,2,   0.287,6,  2254.9,6, 2397.52,4,-999.0000,9, -999.00,    7.593,2,       25,-999.000,9,  -0.0643,2, -999.00,9,  -999.0,9,  -999.0,  39.69169144,2,        34.51,2,  5088.2,     18.192,6,    34.8152,2,     -999.0,9,         -999.0,9,  -999.0,9,20140123,       1956