BOTTLE,20220815CCHSIOAMB
EXPOCODE,SECT_ID,STNNBR,CASTNO,SAMPNO,BTLNBR,BTLNBR_FLAG_W,DATE,TIME,LATITUDE,LONGITUDE,DEPTH,CTDPRS,CTDTMP,CTDSAL,CTDSAL_FLAG_W,SALNTY,SALNTY_FLAG_W,CTDOXY,CTDOXY_FLAG_W,OXYGEN,OXYGEN_FLAG_W,SILCAT,SILCAT_FLAG_W,NITRAT,NITRAT_FLAG_W,NITRIT,NITRIT_FLAG_W,PHSPHT,PHSPHT_FLAG_W,CFC-11,CFC-11_FLAG_W,CFC-12,CFC-12_FLAG_W,SF6,SF6_FLAG_W,TCARBN,TCARBN_FLAG_W,ALKALI,ALKALI_FLAG_W,PCO2,PCO2_FLAG_W,PCO2TMP,PH_SWS,PH_SWS_FLAG_W,PH_TMP,TRITUM,TRITUM_FLAG_W,REFTMP,REFTMP_FLAG_W,DELC13,DELC13_FLAG_W,DELC14,DELC14_FLAG_W,C14ERR,DOC,DOC_FLAG_W,TDN,TDN_FLAG_W,CTDRAW,N2O,N2O_FLAG_W,SALTREF,SALTREF_FLAG_W,HELIUM,HELIUM_FLAG_W,DELO18,DELO18_FLAG_W,CCL4,CCL4_FLAG_W,BTL_DATE,BTL_TIME
,,,,,,,,,,,METERS,DBAR,ITS-90,PSS-78,,PSS-78,,UMOL/KG,,UMOL/KG,,UMOL/KG,,UMOL/KG,,UMOL/KG,,UMOL/KG,,PMOL/KG,,PMOL/KG,,FMOL/KG,,UMOL/KG,,UMOL/KG,,UATM,,DEG C,,,DEG C,TU,,DEG C,,/MILLE,,/MILLE,,/MILLE,UMOL/KG,,UMOL/KG,,DBAR,NMOL/KG,,G/KG,,NMOL/KG,,/MILLE,,PMOL/KG,,,
33RO20131223,       A16S,      85,          1,         24,         24,2,20140121,       1345,   -48.0071,   -32.7767,       5325,     4.2,   6.9441,  33.8209,2,  33.8232,2,    302.2,2,   302.4,2,     1.8,6,    18.4,6,    0.18,6,   1.300,6,   4.335,2,   2.419,2,   2.535,2,  2106.2,6,  2275.1,2,   634.41,2,      20,   7.7928,2,       25,-999.000,9,   6.9539,2,    1.79,6,   -48.7,6,     1.6,  51.65363788,2,        21.53,2,     4.2,     11.994,2,    33.9826,2,     -999.0,9,         -999.0,9,  -999.0,9,20140121,       1541
33RO20131223,       A16S,      85,          1,         23,         23,2,20140121,       1345,   -48.0071,   -32.7767,       5325,    18.5,   6.6570,  33.8549,2,  33.8549,2,    302.7,2,   302.4,2,     2.0,6,    18.5,6,    0.17,6,   1.316,6,   4.356,2,   2.428,2,   2.517,2,  2108.7,2, 2278.59,6,   639.67,2,      20,   7.7922,2,       25,-999.000,9,   6.6574,2, -999.00,9,  -999.0,9,  -999.0,  50.25607746,2,        21.67,2,    18.5,     12.042,2,    34.0145,2,     -999.0,9,         -999.0,9,  -999.0,9,20140121,       1539
33RO20131223,       A16S,      85,          1,         22,         22,2,20140121,       1345,   -48.0071,   -32.7767,       5325,    47.6,   6.6608,  33.9103,2,  33.9107,2,    300.2,2,   302.4,2,     2.3,6,    18.7,6,    0.18,6,   1.333,6,   4.319,2,   2.414,2,   2.539,2,  2110.7,2, 2277.31,2,      643,2,      20,   7.7851,6,       25,-999.000,9,   6.6613,2, -999.00,9,  -999.0,9,  -999.0,  48.83656583,2,        21.84,2,    47.6,     12.011,2,    34.0706,2,     -999.0,9,         -999.0,9,  -999.0,9,20140121,       1537
33RO20131223,       A16S,      85,          1,         21,         21,2,20140121,       1345,   -48.0071,   -32.7767,       5325,    73.4,   6.6945,  33.9364,2,  33.9283,2,    298.8,2,   299.9,2,     2.6,6,    18.9,6,    0.19,6,   1.364,6,   4.320,2,   2.420,2,   2.503,2,  2112.4,2, 2276.19,2,    656.4,2,      20,   7.7771,2,       25,-999.000,9,   6.6949,2, -999.00,9,  -999.0,9,  -999.0,  46.43656679,2,        22.11,2,    73.4,     12.065,2,    34.0883,2,     -999.0,9,         -999.0,9,  -999.0,9,20140121,       1535
33RO20131223,       A16S,      85,          1,         20,         20,2,20140121,       1345,   -48.0071,   -32.7767,       5325,    98.2,   5.0725,  33.8855,2,  33.8871,2,    306.6,2,     307,2,     3.3,6,    19.6,6,    0.22,6,   1.481,6,   4.748,2,   2.615,2,   2.683,2,  2125.1,2, 2277.66,2,  692.635,2,      20,   7.7576,2,       25,-999.000,9,   5.0662,2, -999.00,9,  -999.0,9,  -999.0,   45.3536404,2,        22.97,2,    98.2,     13.258,2,    34.0469,2,     -999.0,9,         -999.0,9,  -999.0,9,20140121,       1533
33RO20131223,       A16S,      85,          1,         19,         19,2,20140121,       1345,   -48.0071,   -32.7767,       5325,   147.4,   1.8725,  33.8778,2,  33.8765,2,      321,2,   320.4,2,    17.1,2,    24.7,2,    0.34,2,   1.836,2,   5.410,2,   2.933,2,   2.828,2,  2161.1,2, 2287.63,2, 858.9875,6,      20,   7.6746,2,       25,-999.000,9,   1.8744,2, -999.00,9,  -999.0,9,  -999.0,  43.57559233,2,        27.79,2,   147.4,     14.793,2,    34.0363,2,     -999.0,9,         -999.0,9,  -999.0,9,20140121,       1531
33RO20131223,       A16S,      85,          1,         18,         18,2,20140121,       1345,   -48.0071,   -32.7767,       5325,   218.4,   1.2469,  33.9748,2,  33.9841,2,    296.2,2,   297.3,2,    29.0,2,    28.9,2,    0.07,2,   2.003,2,   4.931,2,   2.652,2,   2.478,2,  2182.9,2, 2291.98,2,   978.15,2,      20,   7.6234,2,       25,-999.000,9,    1.248,2, -999.00,9,  -999.0,9,  -999.0,  41.62193457,2,        31.62,2,   218.4,     16.795,2,    34.1443,2,     -999.0,9,         -999.0,9,  -999.0,9,20140121,       1529
33RO20131223,       A16S,      85,          1,         17,         17,2,20140121,       1345,   -48.0071,   -32.7767,       5325,   297.5,   1.9966,  34.2076,2,  34.2096,2,    236.1,2,   234.9,2,    41.4,2,    31.8,2,    0.02,2,   2.184,2,   3.284,2,   1.721,2,   1.367,2,  2212.7,2,  2306.1,2, 1109.695,6,      20,   7.5724,2,       25,-999.000,9,   1.9965,2, -999.00,9,  -999.0,9,  -999.0,  40.41461798,2,        34.59,2,   297.5,     20.339,2,     34.371,2,     -999.0,9,         -999.0,9,  -999.0,9,20140121,       1526
33RO20131223,       A16S,      85,          1,         16,         16,2,20140121,       1345,   -48.0071,   -32.7767,       5325,   403.6,   2.3321,  34.3603,2,  34.3608,2,    198.1,2,   197.1,2,    54.3,2,    33.3,2,    0.02,2,   2.293,2,   1.991,2,   1.030,2,   0.694,2,  2235.8,2, 2316.61,2,  1208.92,2,      20,   7.5412,2,       25,-999.000,9,   2.3323,2, -999.00,9,  -999.0,9,  -999.0,   39.9682767,2,        35.97,2,   403.6,     22.580,2,    34.5228,6,     -999.0,9,         -999.0,9,  -999.0,9,20140121,       1523
33RO20131223,       A16S,      85,          1,         15,         15,2,20140121,       1345,   -48.0071,   -32.7767,       5325,   588.1,   2.3612,  34.4901,2,  34.4896,2,    176.6,2,     177,2,    66.5,2,    33.8,2,    0.01,2,   2.322,2,   1.090,2,   0.549,2,   0.282,2,  2251.3,2,  2330.4,6,  1252.73,2,      20,   7.5326,2,       25,-999.000,9,   2.3613,2, -999.00,9,  -999.0,9,  -999.0,  39.69022803,2,        36.47,2,   588.1,     23.157,2,    34.6522,2,     -999.0,9,         -999.0,9,  -999.0,9,20140121,       1519
33RO20131223,       A16S,      85,          1,         14,         14,2,20140121,       1345,   -48.0071,   -32.7767,       5325,   848.3,   2.2513,  34.6137,2,  34.6174,2,    170.3,2,   170.1,2,    76.9,2,    32.9,2,    0.01,2,   2.267,2,   0.473,2,   0.234,2,   0.098,2,  2259.7,6, 2348.75,2,  1220.46,2,      20,   7.5453,2,       25,-999.000,9,   2.2512,2, -999.00,9,  -999.0,9,  -999.0,  39.37559401,2,        35.59,2,   848.3,     22.493,2,    34.7807,2,     -999.0,9,         -999.0,9,  -999.0,9,20140121,       1514
33RO20131223,       A16S,      85,          1,         13,         13,2,20140121,       1345,   -48.0071,   -32.7767,       5325,  1048.9,   2.0982,  34.6659,2,  34.6658,2,    173.4,2,   173.6,2,    82.6,2,    32.1,2,    0.00,2,   2.216,2,   0.322,6,   0.157,2,   0.104,6,  2262.3,2,  2354.7,2,  1183.13,2,      20,   7.5589,6,       25,-999.000,9,   2.0986,2, -999.00,9,  -999.0,9,  -999.0,  38.98047221,2,        34.82,2,  1048.9,     21.579,6,    34.8292,2,     -999.0,9,         -999.0,9,  -999.0,9,20140121,       1510
33RO20131223,       A16S,      85,          1,         12,         12,2,20140121,       1345,   -48.0071,   -32.7767,       5325,  1298.5,   2.3481,  34.7615,2,  34.7628,2,    193.3,2,   194.5,2,    69.8,2,    28.6,2,    0.00,2,   1.961,2,   0.168,2,   0.081,2,   0.063,2,  2239.8,2, 2351.71,2,  1033.26,6,      20,   7.6099,2,       25,-999.000,9,    2.349,2, -999.00,9,  -999.0,9,  -999.0,  39.52925248,2,         31.1,2,  1298.5,     19.258,2,    34.9267,2,     -999.0,9,         -999.0,9,  -999.0,9,20140121,       1504
33RO20131223,       A16S,      85,          1,         11,         11,2,20140121,       1345,   -48.0071,   -32.7767,       5325,  1649.4,   2.2557,  34.7977,2,  34.7988,2,    206.5,2,   207.8,2,    66.2,2,    27.0,2,    0.00,2,   1.843,2,   0.121,2,   0.057,2,   0.000,2,  2229.2,2, 2344.55,2,   969.69,2,      20,   7.6353,2,       25,-999.000,9,   2.2559,2, -999.00,9,  -999.0,9,  -999.0,  40.29022779,2,        29.56,2,  1649.4,     17.901,2,    34.9629,2,     -999.0,9,         -999.0,9,  -999.0,9,20140121,       1457
33RO20131223,       A16S,      85,          1,         10,         10,2,20140121,       1345,   -48.0071,   -32.7767,       5325,  1898.6,   1.9604,  34.7821,2,  34.7819,2,    204.4,2,   206.7,2,    75.1,2,    27.7,2,    0.00,2,   1.899,2,   0.111,2,   0.054,2,   0.032,2,  2237.7,2, 2350.72,2,    992.8,2,      20,   7.6283,2,       25,-999.000,9,   1.9597,2, -999.00,9,  -999.0,9,  -999.0,  41.04388602,2,        30.33,2,  1898.6,     18.045,2,    34.9459,2,     -999.0,9,         -999.0,9,  -999.0,9,20140121,       1452
33RO20131223,       A16S,      85,          1,          9,          9,2,20140121,       1345,   -48.0071,   -32.7767,       5325,  2198.1,   1.4946,  34.7393,2,  34.7395,2,    200.1,2,   200.4,2,    93.7,2,    29.8,2,    0.00,2,   2.053,2,   0.160,2,   0.077,2,   0.046,2,  2252.3,2, 2356.19,2,  1057.51,2,      20,   7.6047,2,       25,-999.000,9,   1.4961,2, -999.00,9,  -999.0,9,  -999.0,  41.02925188,2,        32.37,2,  2198.1,     18.777,2,    34.9033,2,     -999.0,9,         -999.0,9,  -999.0,9,20140121,       1446
33RO20131223,       A16S,      85,          1,          8,          8,2,20140121,       1345,   -48.0071,   -32.7767,       5325,  2599.4,   1.0995,  34.7160,2,  34.7153,2,    203.7,2,   203.3,2,   105.7,2,    30.7,2,    0.00,2,   2.113,2,   0.250,6,   0.123,2,   0.099,6,  2258.5,2, 2365.68,2,  1079.66,2,      20,   7.5939,2,       25,-999.000,9,   1.0995,2, -999.00,9,  -999.0,9,  -999.0,  39.63169146,2,        33.34,2,  2599.4,     18.855,6,     34.879,2,     -999.0,9,         -999.0,9,  -999.0,9,20140121,       1438
33RO20131223,       A16S,      85,          1,          7,          7,2,20140121,       1345,   -48.0071,   -32.7767,       5325,    2999,   0.7615,  34.6989,2,  34.6990,2,    208.7,2,   209.3,2,   112.6,2,    31.0,2,    0.00,2,   2.148,2,   0.359,2,   0.175,2,   0.094,2,  2260.5,2, 2366.69,2,  1087.44,2,      20,   7.5908,2,       25,-999.000,9,   0.7612,2, -999.00,9,  -999.0,9,  -999.0,  38.90730151,2,        33.64,2,  2999.0,     18.795,2,    34.8626,2,     -999.0,9,         -999.0,9,  -999.0,9,20140121,       1430
33RO20131223,       A16S,      85,          1,          6,          6,2,20140121,       1345,   -48.0071,   -32.7767,       5325,  3398.5,   0.5063,  34.6861,2,  34.6858,2,    215.2,2,   214.2,2,   117.4,2,    31.3,2,    0.00,2,   2.170,2,   0.405,2,   0.197,2,   0.106,2,  2260.5,2, 2365.65,2,  1095.49,2,      20,   7.5225,4,       25,-999.000,9,   0.5068,2, -999.00,9,  -999.0,9,  -999.0,  38.89998444,2,        33.71,2,  3398.5,     18.681,2,    34.8494,2,     -999.0,9,         -999.0,9,  -999.0,9,20140121,       1423
33RO20131223,       A16S,      85,          1,          5,          5,2,20140121,       1345,   -48.0071,   -32.7767,       5325,  3797.9,   0.2693,  34.6748,2,  34.6760,2,    218.8,2,   219.7,2,   122.2,2,    31.5,2,    0.00,2,   2.197,2,   0.446,2,   0.211,2,   0.075,2,  2263.3,2, 2366.73,2,  1093.73,2,      20,   7.5908,2,       25,-999.000,9,   0.2696,2, -999.00,9,  -999.0,9,  -999.0,  38.98778928,2,         34.1,2,  3797.9,     18.402,2,    34.8395,2,     -999.0,9,         -999.0,9,  -999.0,9,20140121,       1415
33RO20131223,       A16S,      85,          1,          4,          4,2,20140121,       1345,   -48.0071,   -32.7767,       5325,  4198.1,   0.2326,  34.6714,2,  34.6709,2,    221.9,2,     221,2,   124.1,6,    31.7,6,    0.00,6,   2.201,6,   0.481,2,   0.228,2,   0.088,2,  2263.5,2, 2368.09,2,  1100.15,2,      20,   7.5895,2,       25,-999.000,9,   0.2327,2, -999.00,9,  -999.0,9,  -999.0,  39.66827682,2,        34.33,2,  4198.1,     18.384,2,    34.8344,6,     -999.0,9,         -999.0,9,  -999.0,9,20140121,       1408
33RO20131223,       A16S,      85,          1,          3,          3,2,20140121,       1345,   -48.0071,   -32.7767,       5325,  4597.4,   0.2118,  34.6685,2,  34.6688,2,    223.5,2,   222.5,2,   124.7,6,    31.8,6,    0.00,6,   2.201,6,   0.545,2,   0.261,2,   0.107,2,  2263.5,2, 2366.06,6,   1095.1,2,      20,   7.5891,2,       25,-999.000,9,   0.2122,2, -999.00,9,  -999.0,9,  -999.0,  39.54388662,2,        34.46,2,  4597.4,     18.318,2,    34.8322,2,     -999.0,9,         -999.0,9,  -999.0,9,20140121,       1400
33RO20131223,       A16S,      85,          1,          2,          2,2,20140121,       1345,   -48.0071,   -32.7767,       5325,  4996.6,   0.2215,  34.6664,2,  34.6649,2,    224.9,2,   224.2,2,   124.9,6,    31.7,6,    0.00,6,   2.200,6,   0.607,2,   0.293,2,   0.132,2,  2262.8,2, 2368.64,2,  1098.95,6,      20,    7.589,2,       25,-999.000,9,   0.2216,2, -999.00,9,  -999.0,9,  -999.0,  39.33900865,2,        34.32,2,  4996.6,     18.298,2,    34.8284,2,     -999.0,9,         -999.0,9,  -999.0,9,20140121,       1353
33RO20131223,       A16S,      85,          1,          1,          1,2,20140121,       1345,   -48.0071,   -32.7767,       5325,  5416.5,   0.2191,  34.6634,2,  34.6635,2,      228,2,   227.4,2,   125.3,6,    31.7,6,    0.01,6,   2.198,6,   0.711,2,   0.341,2,   0.141,2,  2261.5,6, 2356.02,2,  1100.04,2,      20,    7.591,2,       25,-999.000,9,    0.219,2, -999.00,9,  -999.0,9,  -999.0,  39.32437451,2,        34.38,2,  5416.5,     18.250,2,     34.827,2,     -999.0,9,         -999.0,9,  -999.0,9,20140121,       1345