BOTTLE,20220815CCHSIOAMB
EXPOCODE,SECT_ID,STNNBR,CASTNO,SAMPNO,BTLNBR,BTLNBR_FLAG_W,DATE,TIME,LATITUDE,LONGITUDE,DEPTH,CTDPRS,CTDTMP,CTDSAL,CTDSAL_FLAG_W,SALNTY,SALNTY_FLAG_W,CTDOXY,CTDOXY_FLAG_W,OXYGEN,OXYGEN_FLAG_W,SILCAT,SILCAT_FLAG_W,NITRAT,NITRAT_FLAG_W,NITRIT,NITRIT_FLAG_W,PHSPHT,PHSPHT_FLAG_W,CFC-11,CFC-11_FLAG_W,CFC-12,CFC-12_FLAG_W,SF6,SF6_FLAG_W,TCARBN,TCARBN_FLAG_W,ALKALI,ALKALI_FLAG_W,PCO2,PCO2_FLAG_W,PCO2TMP,PH_SWS,PH_SWS_FLAG_W,PH_TMP,TRITUM,TRITUM_FLAG_W,REFTMP,REFTMP_FLAG_W,DELC13,DELC13_FLAG_W,DELC14,DELC14_FLAG_W,C14ERR,DOC,DOC_FLAG_W,TDN,TDN_FLAG_W,CTDRAW,N2O,N2O_FLAG_W,SALTREF,SALTREF_FLAG_W,HELIUM,HELIUM_FLAG_W,DELO18,DELO18_FLAG_W,CCL4,CCL4_FLAG_W,BTL_DATE,BTL_TIME
,,,,,,,,,,,METERS,DBAR,ITS-90,PSS-78,,PSS-78,,UMOL/KG,,UMOL/KG,,UMOL/KG,,UMOL/KG,,UMOL/KG,,UMOL/KG,,PMOL/KG,,PMOL/KG,,FMOL/KG,,UMOL/KG,,UMOL/KG,,UATM,,DEG C,,,DEG C,TU,,DEG C,,/MILLE,,/MILLE,,/MILLE,UMOL/KG,,UMOL/KG,,DBAR,NMOL/KG,,G/KG,,NMOL/KG,,/MILLE,,PMOL/KG,,,
33RO20131223,       A16S,      27,          1,         24,         24,2,20140103,       0706,   -18.9973,   -25.0017,       5816,     3.1,  25.3810,  37.2848,2,  37.2851,2,    204.6,2,   205.2,2,     0.8,2,     0.0,2,    0.00,2,   0.167,2,   1.576,6,   1.044,6,   1.239,6,    2117,6,  2441.6,2,-999.0000,9, -999.00,   8.0395,2,       25,-999.000,9,  25.3825,2, -999.00,9,  -999.0,9,  -999.0,  73.67021443,2,         4.69,2,     3.1,      6.178,6,    37.4609,2,     -999.0,9,         -999.0,9,  -999.0,9,20140103,       0907
33RO20131223,       A16S,      27,          1,         23,         23,2,20140103,       0706,   -18.9973,   -25.0017,       5816,    18.2,  25.3728,  37.2841,2,  37.2814,2,    204.4,2,   205.6,2,     0.8,2,     0.0,2,    0.00,2,   0.169,2,   1.577,2,   1.043,2,   1.274,2,  2115.7,2, 2443.74,2,-999.0000,9, -999.00,   8.0371,6,       25,-999.000,9,  25.3726,2, -999.00,9,  -999.0,9,  -999.0,   71.6980201,2,         5.19,2,    18.2,      6.154,2,    37.4571,2,     -999.0,9,         -999.0,9,  -999.0,9,20140103,       0905
33RO20131223,       A16S,      27,          1,         22,         22,2,20140103,       0706,   -18.9973,   -25.0017,       5816,    47.9,  25.0066,  37.2258,2,  37.2030,2,    207.7,2,   209.9,2,     0.8,2,     0.0,2,    0.00,2,   0.170,2,   1.633,2,   1.071,2,   1.275,2,    2113,2, 2441.19,6,-999.0000,9, -999.00,    8.039,2,       25,-999.000,9,  25.0064,2, -999.00,9,  -999.0,9,  -999.0,  71.09119108,2,         4.05,2,    47.9,      6.311,2,    37.3785,2,     -999.0,9,         -999.0,9,  -999.0,9,20140103,       0904
33RO20131223,       A16S,      27,          1,         21,         21,2,20140103,       0706,   -18.9973,   -25.0017,       5816,    73.4,  23.9010,  37.0921,2,  37.0884,2,    215.5,2,   216.4,2,     0.8,2,     0.0,2,    0.00,2,   0.173,2,   1.716,2,   1.118,2,   1.280,2,  2108.6,2, 2433.66,2,-999.0000,9, -999.00,   8.0355,2,       25,-999.000,9,  23.8971,2, -999.00,9,  -999.0,9,  -999.0,  70.40850842,2,         4.58,2,    73.4,      6.498,2,    37.2633,2,     -999.0,9,         -999.0,9,  -999.0,9,20140103,       0902
33RO20131223,       A16S,      27,          1,         20,         20,2,20140103,       0706,   -18.9973,   -25.0017,       5816,    98.1,  23.4569,  37.0734,2,  37.0715,2,    214.3,2,   214.8,2,     0.8,2,     0.0,2,    0.00,2,   0.179,2,   1.745,2,   1.130,2,   1.325,2,  2109.3,2, 2433.41,2,-999.0000,9, -999.00,   8.0334,2,       25,-999.000,9,  23.4463,2, -999.00,9,  -999.0,9,  -999.0,  67.07094878,2,         4.32,2,    98.1,      6.544,2,    37.2463,2,     -999.0,9,         -999.0,9,  -999.0,9,20140103,       0900
33RO20131223,       A16S,      27,          1,         19,         19,2,20140103,       0706,   -18.9973,   -25.0017,       5816,   148.5,  21.5407,  36.7021,2,  36.6325,4,    208.2,2,   206.3,2,     1.0,2,     0.3,2,    0.05,2,   0.265,2,   1.891,2,   1.238,2,   1.332,2,  2117.4,2, 2399.12,2,-999.0000,9, -999.00,   7.9822,2,       25,-999.000,9,   21.537,2, -999.00,9,  -999.0,9,  -999.0,  59.79658584,2,         4.51,2,   148.5,      7.421,2,    36.8052,2,     -999.0,9,         -999.0,9,  -999.0,9,20140103,       0858
33RO20131223,       A16S,      27,          1,         18,         18,2,20140103,       0706,   -18.9973,   -25.0017,       5816,   217.9,  17.8770,  35.9908,2,  35.9747,2,    195.9,2,   196.2,2,     2.0,2,     4.2,2,    0.01,2,   0.470,2,   2.244,2,   1.408,2,   1.321,2,  2120.2,2, 2356.83,2,-999.0000,9, -999.00,    7.914,2,       25,-999.000,9,  17.8357,2, -999.00,9,  -999.0,9,  -999.0,  53.43246643,2,         8.02,2,   217.9,      9.285,2,    36.1443,2,     -999.0,9,         -999.0,9,  -999.0,9,20140103,       0856
33RO20131223,       A16S,      27,          1,         17,         17,2,20140103,       0706,   -18.9973,   -25.0017,       5816,   297.7,  14.0849,  35.3432,2,  35.3308,2,    182.8,2,   183.6,2,     4.1,2,    11.3,2,    0.01,2,   0.857,2,   2.663,2,   1.587,2,   1.200,2,    2136,2,  2319.5,2,-999.0000,9, -999.00,   7.8134,2,       25,-999.000,9,  14.0778,2, -999.00,9,  -999.0,9,  -999.0,        46.74,2,        14.05,2,   297.7,     13.658,2,    35.4974,6,     -999.0,9,         -999.0,9,  -999.0,9,20140103,       0853
33RO20131223,       A16S,      27,          1,         16,         16,2,20140103,       0706,   -18.9973,   -25.0017,       5816,   408.3,  10.9117,  34.9301,2,  34.9294,2,    155.7,2,   160.9,2,     8.4,2,    20.2,2,    0.00,2,   1.377,2,   2.616,2,   1.474,2,   0.794,2,  2170.3,2, 2298.85,2,-999.0000,9, -999.00,   7.6934,2,       25,-999.000,9,  10.9169,2, -999.00,9,  -999.0,9,  -999.0,        44.53,2,        22.86,2,   408.3,     19.299,2,    35.0941,2,     -999.0,9,         -999.0,9,  -999.0,9,20140103,       0851
33RO20131223,       A16S,      27,          1,         15,         15,2,20140103,       0706,   -18.9973,   -25.0017,       5816,   567.8,   7.3839,  34.5948,2,  34.5958,2,    143.5,2,   143.6,2,    17.9,2,    29.8,2,    0.00,2,   1.975,2,   1.569,2,   0.831,2,   0.326,2,  2203.7,2, 2290.62,2,-999.0000,9, -999.00,   7.5777,2,       25,-999.000,9,   7.3849,2, -999.00,9,  -999.0,9,  -999.0,        42.23,2,        32.39,2,   567.8,     23.982,2,    34.7589,2,     -999.0,9,         -999.0,9,  -999.0,9,20140103,       0847
33RO20131223,       A16S,      27,          1,         14,         14,2,20140103,       0706,   -18.9973,   -25.0017,       5816,   718.1,   5.1555,  34.4450,2,  34.4449,2,    164.5,2,   164.8,2,    27.3,2,    32.5,2,    0.00,2,   2.177,2,   0.770,2,   0.400,2,   0.101,2,  2209.9,2, 2293.44,2,-999.0000,9, -999.00,   7.5691,2,       25,-999.000,9,    5.156,2, -999.00,9,  -999.0,9,  -999.0,  41.25795911,2,        35.06,2,   718.1,     21.899,2,    34.6073,2,     -999.0,9,         -999.0,9,  -999.0,9,20140103,       0843
33RO20131223,       A16S,      27,          1,         13,         13,2,20140103,       0706,   -18.9973,   -25.0017,       5816,   873.9,   4.1053,  34.4435,2,  34.4427,2,    180.9,2,   176.8,2,    35.2,2,    32.7,2,    0.00,2,   2.215,2,   0.458,2,   0.234,2,   0.053,2,  2215.2,2, 2305.12,6,-999.0000,9, -999.00,   7.5742,2,       25,-999.000,9,   4.1038,2, -999.00,9,  -999.0,9,  -999.0,  41.06832504,2,        35.24,2,   873.9,     21.216,2,    34.6051,2,     -999.0,9,         -999.0,9,  -999.0,9,20140103,       0840
33RO20131223,       A16S,      27,          1,         12,         12,2,20140103,       0706,   -18.9973,   -25.0017,       5816,  1048.3,   3.7809,  34.5507,2,  34.5526,2,    179.6,2,   178.9,2,    38.1,6,    31.6,6,    0.00,6,   2.149,6,   0.168,2,   0.093,2,   0.019,2,  2217.3,6, 2311.33,2,-999.0000,9, -999.00,    7.586,2,       25,-999.000,9,   3.7809,2, -999.00,9,  -999.0,9,  -999.0,  40.87869097,2,        34.16,2,  1048.3,     20.322,2,    34.7155,2,     -999.0,9,         -999.0,9,  -999.0,9,20140103,       0836
33RO20131223,       A16S,      27,          1,         11,         11,2,20140103,       0706,   -18.9973,   -25.0017,       5816,  1347.5,   3.9110,  34.7992,2,  34.7991,2,    198.9,2,   199.7,2,    29.8,6,    26.5,6,    0.00,6,   1.783,6,   0.054,6,   0.032,6,   0.000,6,  2199.7,2, 2311.05,2,-999.0000,9, -999.00,   7.6441,2,       25,-999.000,9,   3.9113,2, -999.00,9,  -999.0,9,  -999.0,  41.41725173,2,        29.26,2,  1347.5,     17.651,6,    34.9632,2,     -999.0,9,         -999.0,9,  -999.0,9,20140103,       0830
33RO20131223,       A16S,      27,          1,         10,         10,2,20140103,       0706,   -18.9973,   -25.0017,       5816,  1748.1,   3.4837,  34.9118,2,  34.9107,2,      234,2,   232.4,2,    27.2,2,    22.2,2,    0.00,2,   1.480,2,   0.073,2,   0.038,2,   0.000,2,  2182.6,2, 2315.62,2,-999.0000,9, -999.00,   7.7015,2,       25,-999.000,9,   3.4837,2, -999.00,9,  -999.0,9,  -999.0,  42.14544656,2,        24.93,2,  1748.1,     14.689,2,    35.0753,2,     -999.0,9,         -999.0,9,  -999.0,9,20140103,       0823
33RO20131223,       A16S,      27,          1,          9,          9,2,20140103,       0706,   -18.9973,   -25.0017,       5816,  2148.3,   3.1617,  34.9320,2,  34.9359,2,    245.9,2,   245.9,2,    27.8,6,    20.7,6,    0.00,6,   1.379,6,   0.087,2,   0.052,2,   0.013,2,  2177.2,2, 2318.12,2,-999.0000,9, -999.00,   7.7232,2,       25,-999.000,9,   3.1619,2, -999.00,9,  -999.0,9,  -999.0,   42.1985441,2,        23.18,2,  2148.3,     13.388,2,    35.1007,2,     -999.0,9,         -999.0,9,  -999.0,9,20140103,       0815
33RO20131223,       A16S,      27,          1,          8,          8,2,20140103,       0706,   -18.9973,   -25.0017,       5816,  2597.3,   2.8971,  34.9222,2,  34.9235,2,      247,2,   247.1,2,    31.9,6,    20.9,6,    0.00,6,   1.396,6,   0.080,2,   0.043,2,   0.000,2,  2180.8,2, 2327.87,2,-999.0000,9, -999.00,   7.7221,2,       25,-999.000,9,   2.8967,2, -999.00,9,  -999.0,9,  -999.0,  41.69032479,2,        23.35,2,  2597.3,     13.423,2,    35.0881,2,     -999.0,9,         -999.0,9,  -999.0,9,20140103,       0807
33RO20131223,       A16S,      27,          1,          7,          7,2,20140103,       0706,   -18.9973,   -25.0017,       5816,  3098.3,   2.6919,  34.9122,2,  34.9126,2,      248,2,   248.3,2,    35.1,2,    21.0,2,    0.00,2,   1.403,2,   0.058,2,   0.036,2,   0.000,2,  2183.9,2,  2331.2,2,-999.0000,9, -999.00,   7.7208,2,       25,-999.000,9,   2.6916,2, -999.00,9,  -999.0,9,  -999.0,  41.53861753,2,        23.46,2,  3098.3,     13.237,2,    35.0773,2,     -999.0,9,         -999.0,9,  -999.0,9,20140103,       0758
33RO20131223,       A16S,      27,          1,          6,          6,2,20140103,       0706,   -18.9973,   -25.0017,       5816,  3598.2,   2.3945,  34.8892,2,  34.8883,2,    249.4,2,   248.9,2,    42.7,2,    21.7,2,    0.00,2,   1.460,2,   0.036,2,   0.020,2,   0.032,2,  2189.2,2, 2328.48,3,-999.0000,9, -999.00,   7.7152,2,       25,-999.000,9,   2.3953,2, -999.00,9,  -999.0,9,  -999.0,  41.04556895,2,        24.26,2,  3598.2,     13.482,2,    35.0528,2,     -999.0,9,         -999.0,9,  -999.0,9,20140103,       0749
33RO20131223,       A16S,      27,          1,          5,          5,2,20140103,       0706,   -18.9973,   -25.0017,       5816,  4097.5,   1.7086,  34.8181,2,  34.8171,2,    237.4,2,   238.5,2,    69.8,2,    25.4,2,    0.00,2,   1.720,2,   0.020,2,   0.015,2,   0.101,2,  2215.2,2, 2350.35,2,-999.0000,9, -999.00,   7.6822,2,       25,-999.000,9,   1.7062,2, -999.00,9,  -999.0,9,  -999.0,  40.52976428,2,        28.06,2,  4097.5,     14.698,2,    34.9812,2,     -999.0,9,         -999.0,9,  -999.0,9,20140103,       0740
33RO20131223,       A16S,      27,          1,          4,          4,2,20140103,       0706,   -18.9973,   -25.0017,       5816,  4598.4,   1.1100,  34.7533,2,  34.7630,4,    228.2,2,   228.5,2,    94.4,2,    28.7,2,    0.00,2,   1.956,2,   0.040,6,   0.021,6,   0.080,6,  2239.6,2, 2358.11,6,-999.0000,9, -999.00,   7.6458,2,       25,-999.000,9,   1.1106,2, -999.00,9,  -999.0,9,  -999.0,  40.13532541,2,        30.99,2,  4598.4,     16.096,6,    34.9269,2,     -999.0,9,         -999.0,9,  -999.0,9,20140103,       0731
33RO20131223,       A16S,      27,          1,          3,          3,2,20140103,       0706,   -18.9973,   -25.0017,       5816,  5097.1,   0.8330,  34.7195,2,  34.7205,2,    222.3,2,     224,2,   107.3,2,    30.4,2,    0.00,2,   2.078,2,   0.106,2,   0.058,2,   0.031,2,  2252.3,2, 2366.28,2,-999.0000,9, -999.00,   7.6242,2,       25,-999.000,9,   0.8331,2, -999.00,9,  -999.0,9,  -999.0,  40.18842295,2,        32.71,2,  5097.1,     16.638,2,    34.8842,6,     -999.0,9,         -999.0,9,  -999.0,9,20140103,       0722
33RO20131223,       A16S,      27,          1,          2,          2,2,20140103,       0706,   -18.9973,   -25.0017,       5816,  5496.7,   0.7261,  34.7031,2,  34.7043,2,      222,2,   221.6,2,   113.2,6,    31.1,6,    0.00,6,   2.133,6,   0.181,2,   0.087,2,   0.070,2,  2257.4,2, 2367.26,2,-999.0000,9, -999.00,   7.6112,6,       25,-999.000,9,   0.7262,2, -999.00,9,  -999.0,9,  -999.0,  39.71813045,2,        33.74,2,  5496.7,     17.053,2,    34.8679,2,     -999.0,9,         -999.0,9,  -999.0,9,20140103,       0714
33RO20131223,       A16S,      27,          1,          1,          1,3,20140103,       0706,   -18.9973,   -25.0017,       5816,  5927.6,   0.6407,  34.6883,2,  34.6898,2,    220.3,2,   221.1,2,   118.5,6,    31.7,6,    0.00,3,   2.179,3,   0.270,2,   0.139,2,   0.039,2,  2261.8,6, 2367.84,2,-999.0000,9, -999.00,   7.6241,2,       25,-999.000,9,   0.6403,2, -999.00,9,  -999.0,9,  -999.0,  39.54366711,2,        34.34,2,  5927.6,     17.338,2,    34.8533,2,     -999.0,9,         -999.0,9,  -999.0,9,20140103,       0706