BOTTLE,20220815CCHSIOAMB
EXPOCODE,SECT_ID,STNNBR,CASTNO,SAMPNO,BTLNBR,BTLNBR_FLAG_W,DATE,TIME,LATITUDE,LONGITUDE,DEPTH,CTDPRS,CTDTMP,CTDSAL,CTDSAL_FLAG_W,SALNTY,SALNTY_FLAG_W,CTDOXY,CTDOXY_FLAG_W,OXYGEN,OXYGEN_FLAG_W,SILCAT,SILCAT_FLAG_W,NITRAT,NITRAT_FLAG_W,NITRIT,NITRIT_FLAG_W,PHSPHT,PHSPHT_FLAG_W,CFC-11,CFC-11_FLAG_W,CFC-12,CFC-12_FLAG_W,SF6,SF6_FLAG_W,TCARBN,TCARBN_FLAG_W,ALKALI,ALKALI_FLAG_W,PCO2,PCO2_FLAG_W,PCO2TMP,PH_SWS,PH_SWS_FLAG_W,PH_TMP,TRITUM,TRITUM_FLAG_W,REFTMP,REFTMP_FLAG_W,DELC13,DELC13_FLAG_W,DELC14,DELC14_FLAG_W,C14ERR,DOC,DOC_FLAG_W,TDN,TDN_FLAG_W,CTDRAW,N2O,N2O_FLAG_W,SALTREF,SALTREF_FLAG_W,HELIUM,HELIUM_FLAG_W,DELO18,DELO18_FLAG_W,CCL4,CCL4_FLAG_W,BTL_DATE,BTL_TIME
,,,,,,,,,,,METERS,DBAR,ITS-90,PSS-78,,PSS-78,,UMOL/KG,,UMOL/KG,,UMOL/KG,,UMOL/KG,,UMOL/KG,,UMOL/KG,,PMOL/KG,,PMOL/KG,,FMOL/KG,,UMOL/KG,,UMOL/KG,,UATM,,DEG C,,,DEG C,TU,,DEG C,,/MILLE,,/MILLE,,/MILLE,UMOL/KG,,UMOL/KG,,DBAR,NMOL/KG,,G/KG,,NMOL/KG,,/MILLE,,PMOL/KG,,,
33RO20131223,       A16S,      29,          2,         24,         24,2,20140103,       2313,   -19.9995,   -24.9979,       6028,     2.5,  25.7769,  37.3595,2,  37.3610,2,    203.3,2,   204.3,2,     0.8,2,     0.0,2,    0.00,2,   0.148,2,   1.579,6,   1.036,6,   1.237,6,  2115.5,6,  2454.4,2,   332.77,2,      20,   8.0434,2,       25,-999.000,1,  25.7778,2,    1.35,2,    52.2,2,     2.7,  73.13899513,2,         5.53,2,     2.5,      6.170,6,    37.5372,2,     -999.0,1,         -999.0,1,  -999.0,9,20140104,       0123
33RO20131223,       A16S,      29,          2,         23,         23,2,20140103,       2313,   -19.9995,   -24.9979,       6028,    27.6,  25.6931,  37.3559,2,  37.3564,2,      204,2,   205.3,2,     0.8,2,     0.0,2,    0.00,2,   0.147,2,-999.000,5,-999.000,5,-999.000,5,    2115,2, 2455.07,2,   332.53,2,      20,   8.0464,6,       25,-999.000,1,  25.6919,2,    1.34,2,    48.0,2,     2.3,  71.32436171,2,         5.31,2,    27.6,     -999.0,5,    37.5326,2,     -999.0,1,         -999.0,1,  -999.0,9,20140104,       0121
33RO20131223,       A16S,      29,          2,         22,         22,2,20140103,       2313,   -19.9995,   -24.9979,       6028,    63.3,  24.6412,  37.1874,2,  37.1920,2,    211.6,2,   213.4,2,     0.8,2,     0.0,2,    0.00,2,   0.148,2,   1.642,2,   1.082,2,   1.252,2,  2107.5,2, 2442.44,6,   332.56,2,      20,   8.0437,2,       25,-999.000,1,  24.6375,2,    1.41,2,    54.4,2,     2.2,  66.50802218,2,         4.28,2,    63.3,      6.407,2,    37.3674,2,     -999.0,1,         -999.0,1,  -999.0,9,20140104,       0119
33RO20131223,       A16S,      29,          2,         21,         21,2,20140103,       2313,   -19.9995,   -24.9979,       6028,   112.5,  23.4245,  37.0495,2,  37.0379,2,      214,2,   214.9,2,     0.8,2,     0.0,2,    0.00,2,   0.154,2,   1.743,2,   1.137,2,   1.319,2,  2106.2,2, 2433.98,2,   343.91,2,      20,   8.0359,2,       25,-999.000,1,  23.4234,2,    1.35,2,    61.5,2,     3.7,  61.82778015,2,         4.32,2,   112.5,      6.602,2,    37.2126,2,     -999.0,1,         -999.0,1,  -999.0,9,20140104,       0116
33RO20131223,       A16S,      29,          2,         20,         20,2,20140103,       2313,   -19.9995,   -24.9979,       6028,   183.8,  19.3827,  36.2618,2,  36.2719,2,    207.1,2,   207.8,2,     1.3,2,     0.5,2,    0.12,2,   0.266,2,   2.067,2,   1.323,2,   1.341,2,  2112.9,3, 2385.95,2,   421.14,2,      20,   7.9597,2,       25,-999.000,1,  19.4332,2,    1.07,2,    53.4,2,     2.3,  54.44070993,2,          4.6,2,   183.8,      7.899,2,     36.443,2,     -999.0,1,         -999.0,1,  -999.0,9,20140104,       0114
33RO20131223,       A16S,      29,          2,         19,         19,2,20140103,       2313,   -19.9995,   -24.9979,       6028,   257.5,  16.1385,  35.6690,2,  35.6392,3,    205.7,2,   204.3,2,     2.3,2,     5.1,2,    0.01,2,   0.493,2,   2.426,2,   1.511,2,   1.385,2,  2113.4,3, 2342.56,2,  489.595,6,      20,   7.8943,2,       25,-999.000,1,  16.2154,2,    0.92,2,    55.6,2,     2.6,  48.42217575,2,         8.44,2,   257.5,      9.708,2,    35.8072,2,     -999.0,1,         -999.0,1,  -999.0,9,20140104,       0111
33RO20131223,       A16S,      29,          2,         18,         18,5,20140103,       2313,   -19.9995,   -24.9979,       6028,   347.9,  13.1294,  35.1914,2,-999.0000,9,    193.3,2,  -999.0,9,  -999.0,9,  -999.0,9, -999.00,9,-999.000,9,-999.000,9,-999.000,9,-999.000,9,  -999.0,9, -999.00,9,-999.0000,9, -999.00,-999.0000,9,  -999.00,-999.000,9,  13.1285,2, -999.00,5,  -999.0,5,  -999.0,-999.00000000,9,-999.00000000,9,   347.9,     -999.0,9,     -999.0,9,     -999.0,9,         -999.0,9,  -999.0,9,20140104,       0109
33RO20131223,       A16S,      29,          2,         17,         17,2,20140103,       2313,   -19.9995,   -24.9979,       6028,   477.4,   9.4457,  34.7640,2,-999.0000,9,    163.7,2,   163.6,2,  -999.0,9,  -999.0,9, -999.00,9,-999.000,9,   2.515,2,   1.358,2,   0.635,2,  2173.9,2, 2299.29,6,   887.76,6,      20,   7.6617,2,       25,-999.000,1,   9.4527,2,    0.80,2,    32.8,2,     2.7,        43.68,2,        24.66,2,   477.4,     20.089,2,     -999.0,9,     -999.0,1,         -999.0,1,  -999.0,9,20140104,       0106
33RO20131223,       A16S,      29,          2,         16,         16,2,20140103,       2313,   -19.9995,   -24.9979,       6028,     598,   6.8783,  34.5220,2,  34.5188,2,      172,2,   171.4,2,    17.9,6,    28.3,6,    0.00,6,   1.906,6,   2.053,2,   1.069,2,   0.416,2,    2188,2, 2296.46,2,   996.98,2,      20,   7.6146,2,       25,-999.000,1,   6.8792,2,    0.85,2,   -15.2,2,     3.4,  42.85729993,2,        30.72,2,   598.0,     20.584,2,    34.6815,6,     -999.0,1,         -999.0,1,  -999.0,9,20140104,       0102
33RO20131223,       A16S,      29,          2,         15,         15,2,20140103,       2313,   -19.9995,   -24.9979,       6028,   724.1,   5.1803,  34.4101,2,  34.4086,2,    182.5,2,   181.5,2,    26.0,2,    31.0,2,    0.00,2,   2.103,2,   1.532,2,   0.788,2,   0.232,2,  2198.3,2, 2296.22,2,  1054.04,2,      20,   7.5906,2,       25,-999.000,1,   5.1819,2,    0.81,6,   -49.1,6,     4.8,  41.61730043,2,        33.68,2,   724.1,     20.599,2,    34.5709,2,     -999.0,1,         -999.0,1,  -999.0,9,20140104,       0059
33RO20131223,       A16S,      29,          2,         14,         14,2,20140103,       2313,   -19.9995,   -24.9979,       6028,   873.5,   4.0394,  34.4226,2,  34.4242,2,      183,2,   182.4,2,    36.6,2,    32.5,2,    0.00,2,   2.216,2,   0.725,2,   0.369,2,   0.090,2,  2210.8,2, 2306.78,2,  1086.66,2,      20,   7.5809,2,       25,-999.000,1,   4.0393,2, -999.00,9,  -999.0,9,  -999.0,  40.37730092,2,        35.14,2,   873.5,     20.916,2,    34.5865,2,     -999.0,1,         -999.0,1,  -999.0,9,20140104,       0055
33RO20131223,       A16S,      29,          2,         13,         13,2,20140103,       2313,   -19.9995,   -24.9979,       6028,  1047.3,   3.6125,  34.5428,2,  34.5298,2,    183.3,2,   183.4,2,    41.6,2,    31.7,2,    0.00,2,   2.163,2,   0.228,2,   0.120,2,   0.033,2,  2216.6,6, 2314.29,2,  1065.61,2,      20,   7.5888,2,       25,-999.000,1,   3.6124,2,    0.80,2,   -99.8,2,     2.2,  40.08242299,2,        34.26,2,  1047.3,     20.500,2,    34.6926,2,     -999.0,1,         -999.0,1,  -999.0,9,20140104,       0051
33RO20131223,       A16S,      29,          2,         12,         12,2,20140103,       2313,   -19.9995,   -24.9979,       6028,  1196.9,   3.7263,  34.6891,2,-999.0000,9,    190.2,2,   189.7,2,  -999.0,9,  -999.0,9, -999.00,9,-999.000,9,   0.091,2,   0.052,2,   0.000,2,  2209.4,2,  2320.2,2,   992.65,6,      20,   7.6159,2,       25,-999.000,1,   3.7266,2,    0.80,2,  -112.9,2,     3.3,  40.54364232,2,        32.45,2,  1196.9,     19.111,2,     -999.0,9,     -999.0,1,         -999.0,1,  -999.0,9,20140104,       0048
33RO20131223,       A16S,      29,          2,         11,         11,2,20140103,       2313,   -19.9995,   -24.9979,       6028,  1447.9,   3.7689,  34.8610,2,  34.8635,2,    214.3,2,   214.7,2,    29.0,6,    24.6,6,    0.00,6,   1.646,6,   0.079,2,   0.045,2,   0.000,2,  2190.6,2, 2317.34,2,  868.925,2,      20,   7.6708,2,       25,-999.000,1,   3.7689,2,    0.92,2,   -97.0,2,     2.4,   41.2392518,2,        27.22,2,  1447.9,     16.345,2,    35.0279,2,     -999.0,1,         -999.0,1,  -999.0,9,20140104,       0043
33RO20131223,       A16S,      29,          2,         10,         10,2,20140103,       2313,   -19.9995,   -24.9979,       6028,  1747.7,   3.5154,  34.9271,2,  34.9277,2,    236.8,2,   237.1,2,    25.4,6,    21.7,6,    0.00,6,   1.440,6,   0.090,2,   0.052,2,   0.000,2,  2176.5,2, 2322.36,2,   790.75,2,      20,-999.0000,5,       25,-999.000,1,   3.5152,2,    1.01,2,   -89.5,2,     2.4,  41.63242237,2,        24.23,2,  1747.7,     14.389,2,    35.0924,2,     -999.0,1,         -999.0,1,  -999.0,9,20140104,       0037
33RO20131223,       A16S,      29,          2,          9,          9,2,20140103,       2313,   -19.9995,   -24.9979,       6028,  2197.3,   3.1468,  34.9361,2,  34.9385,2,    247.3,2,   247.4,2,    27.3,2,    20.7,2,    0.00,2,   1.376,2,   0.067,2,   0.037,2,   0.000,2,  2173.9,2, 2325.68,2,   763.52,2,      20,   7.7253,2,       25,-999.000,1,   3.1468,2, -999.00,9,  -999.0,9,  -999.0,  41.13339818,2,        23.36,2,  2197.3,     13.453,2,    35.1032,2,     -999.0,1,         -999.0,1,  -999.0,9,20140104,       0028
33RO20131223,       A16S,      29,          2,          8,          8,2,20140103,       2313,   -19.9995,   -24.9979,       6028,    2498,   2.9448,  34.9268,2,  34.9279,2,    247.8,2,   247.6,2,    30.6,2,    20.9,2,    0.00,2,   1.396,2,   0.041,2,   0.023,2,   0.000,2,  2177.2,2, 2327.93,2,  762.655,2,      20,   7.7249,2,       25,-999.000,9,   2.9445,2,    1.06,2,   -93.9,2,     2.6,  41.25437374,2,        23.59,2,  2498.0,     13.334,2,    35.0926,6,     -999.0,1,         -999.0,1,  -999.0,9,20140104,       0022
33RO20131223,       A16S,      29,          2,          7,          7,2,20140103,       2313,   -19.9995,   -24.9979,       6028,  2797.8,   2.8084,  34.9197,2,  34.9205,2,    248.4,2,     248,2,    33.1,6,    21.0,6,    0.00,6,   1.404,6,   0.038,2,   0.023,2,   0.000,2,  2179.1,2, 2330.27,2,   763.28,2,      20,   7.7221,2,       25,-999.000,1,   2.8082,2, -999.00,9,  -999.0,9,  -999.0,  41.43583708,2,        23.68,2,  2797.8,     13.335,2,    35.0852,2,     -999.0,1,         -999.0,1,  -999.0,9,20140104,       0015
33RO20131223,       A16S,      29,          2,          6,          6,3,20140103,       2313,   -19.9995,   -24.9979,       6028,  3190.4,   2.6333,  34.9098,2,  35.0221,4,    249.8,2,   235.1,4,  -999.0,9,  -999.0,9, -999.00,9,-999.000,9,-999.000,5,-999.000,5,-999.000,5,  -999.0,9, -999.00,9,-999.0000,9, -999.00,-999.0000,9,  -999.00,-999.000,9,   2.6333,2, -999.00,9,  -999.0,9,  -999.0,  41.23169082,2,        24.52,2,  3190.4,     -999.0,5,    35.1872,2,     -999.0,1,         -999.0,1,  -999.0,9,20140104,       0008
33RO20131223,       A16S,      29,          2,          5,          5,2,20140103,       2313,   -19.9995,   -24.9979,       6028,  3589.8,   2.3650,  34.8861,2,  34.8876,2,    248.4,2,   248.2,2,    44.0,2,    22.0,2,    0.00,2,   1.477,2,   0.025,2,   0.012,2,   0.047,2,    2188,2, 2336.96,2,  782.175,2,      20,   7.7157,2,       25,-999.000,1,    2.365,2, -999.00,9,  -999.0,9,  -999.0,  41.63998334,2,        24.45,2,  3589.8,     13.613,2,    35.0521,2,     -999.0,1,         -999.0,1,  -999.0,9,20140104,       0000
33RO20131223,       A16S,      29,          2,          4,          4,2,20140103,       2313,   -19.9995,   -24.9979,       6028,    4598,   1.0650,  34.7488,2,  34.7514,2,    225.8,2,   227.7,2,    96.4,6,    29.0,6,    0.00,6,   1.987,6,   0.044,2,   0.023,2,   0.038,2,  2239.8,2, 2363.78,2,   946.82,2,      20,    7.643,2,       25,-999.000,9,   1.0656,2, -999.00,9,  -999.0,9,  -999.0,  41.25437374,2,        31.59,2,  4598.0,     16.301,2,    34.9153,2,     -999.0,1,         -999.0,1,  -999.0,9,20140103,       2343
33RO20131223,       A16S,      29,          2,          3,          3,2,20140103,       2313,   -19.9995,   -24.9979,       6028,  5097.8,   0.8489,  34.7212,2,  34.7211,2,    222.6,2,   223.7,2,   107.1,2,    30.5,2,    0.00,2,   2.088,2,   0.097,2,   0.048,2,   0.035,2,  2249.6,2, 2377.51,4,   994.21,2,      20,   7.6247,6,       25,-999.000,1,   0.8493,2, -999.00,9,  -999.0,9,  -999.0,  40.65705691,2,        33.15,2,  5097.8,     16.828,2,    34.8848,2,     -999.0,1,         -999.0,1,  -999.0,9,20140103,       2334
33RO20131223,       A16S,      29,          2,          2,          2,2,20140103,       2313,   -19.9995,   -24.9979,       6028,  5497.7,   0.7755,  34.7084,2,  34.7093,2,    221.8,2,   221.8,2,   111.8,6,    31.0,6,    0.00,6,   2.133,6,   0.147,2,   0.073,2,   0.067,2,  2254.1,2, 2367.35,6,  1008.46,6,      20,   7.6169,2,       25,-999.000,9,   0.7759,2, -999.00,9,  -999.0,9,  -999.0,  40.02949618,2,        33.65,2,  5497.7,     17.015,2,     34.873,2,     -999.0,1,         -999.0,1,  -999.0,9,20140103,       2326
33RO20131223,       A16S,      29,          2,          1,          1,2,20140103,       2313,   -19.9995,   -24.9979,       6028,  6132.8,   0.7716,  34.6986,2,  34.6991,2,    221.8,2,   221.9,2,   115.5,2,    31.4,2,    0.00,2,   2.164,2,   0.196,6,   0.096,6,   0.061,6,    2258,6, 2371.31,2,  1036.73,3,      20,   7.6267,2,       25,-999.000,1,   0.7716,2, -999.00,9,  -999.0,9,  -999.0,  39.98413035,2,        34.16,2,  6132.8,     17.171,6,    34.8627,2,     -999.0,1,         -999.0,1,  -999.0,9,20140103,       2313