BOTTLE,20220815CCHSIOAMB
EXPOCODE,SECT_ID,STNNBR,CASTNO,SAMPNO,BTLNBR,BTLNBR_FLAG_W,DATE,TIME,LATITUDE,LONGITUDE,DEPTH,CTDPRS,CTDTMP,CTDSAL,CTDSAL_FLAG_W,SALNTY,SALNTY_FLAG_W,CTDOXY,CTDOXY_FLAG_W,OXYGEN,OXYGEN_FLAG_W,SILCAT,SILCAT_FLAG_W,NITRAT,NITRAT_FLAG_W,NITRIT,NITRIT_FLAG_W,PHSPHT,PHSPHT_FLAG_W,CFC-11,CFC-11_FLAG_W,CFC-12,CFC-12_FLAG_W,SF6,SF6_FLAG_W,TCARBN,TCARBN_FLAG_W,ALKALI,ALKALI_FLAG_W,PCO2,PCO2_FLAG_W,PCO2TMP,PH_SWS,PH_SWS_FLAG_W,PH_TMP,TRITUM,TRITUM_FLAG_W,REFTMP,REFTMP_FLAG_W,DELC13,DELC13_FLAG_W,DELC14,DELC14_FLAG_W,C14ERR,DOC,DOC_FLAG_W,TDN,TDN_FLAG_W,CTDRAW,N2O,N2O_FLAG_W,SALTREF,SALTREF_FLAG_W,HELIUM,HELIUM_FLAG_W,DELO18,DELO18_FLAG_W,CCL4,CCL4_FLAG_W,BTL_DATE,BTL_TIME
,,,,,,,,,,,METERS,DBAR,ITS-90,PSS-78,,PSS-78,,UMOL/KG,,UMOL/KG,,UMOL/KG,,UMOL/KG,,UMOL/KG,,UMOL/KG,,PMOL/KG,,PMOL/KG,,FMOL/KG,,UMOL/KG,,UMOL/KG,,UATM,,DEG C,,,DEG C,TU,,DEG C,,/MILLE,,/MILLE,,/MILLE,UMOL/KG,,UMOL/KG,,DBAR,NMOL/KG,,G/KG,,NMOL/KG,,/MILLE,,PMOL/KG,,,
33RO20131223,       A16S,      90,          1,         24,         24,2,20140123,       1224,   -50.5013,   -34.2981,       4892,     4.1,   4.3679,  33.7785,2,  33.7785,2,    329.4,2,   329.6,2,     0.2,6,    18.4,6,    0.28,6,   1.006,6,   5.032,2,   2.782,2,   2.770,2,  2107.6,6, 2282.83,2,-999.0000,9, -999.00,   7.8122,2,       25,-999.000,9,   4.3692,2, -999.00,9,  -999.0,9,  -999.0,-999.00000000,9,-999.00000000,9,     4.1,     13.248,2,    33.9378,2,     -999.0,9,         -999.0,9,  -999.0,9,20140123,       1412
33RO20131223,       A16S,      90,          1,         23,         23,2,20140123,       1224,   -50.5013,   -34.2981,       4892,    27.4,   4.3564,  33.7784,2,  33.7789,2,    330.5,2,   329.5,2,     0.3,6,    18.4,6,    0.28,6,   1.024,6,-999.000,9,-999.000,9,-999.000,9,  -999.0,9, -999.00,9,-999.0000,9, -999.00,-999.0000,9,  -999.00,-999.000,9,   4.3555,2, -999.00,9,  -999.0,9,  -999.0,-999.00000000,9,-999.00000000,9,    27.4,     -999.0,9,    33.9382,2,     -999.0,9,         -999.0,9,  -999.0,9,20140123,       1410
33RO20131223,       A16S,      90,          1,         22,         22,2,20140123,       1224,   -50.5013,   -34.2981,       4892,    67.2,   3.4350,  33.8041,2,  33.8108,2,    322.8,2,     323,2,     1.8,6,    19.4,6,    0.30,6,   1.441,6,-999.000,9,-999.000,9,-999.000,9,  2128.3,2, 2291.19,6,-999.0000,9, -999.00,   7.7714,2,       25,-999.000,9,   3.4672,2, -999.00,9,  -999.0,9,  -999.0,-999.00000000,9,-999.00000000,9,    67.2,     -999.0,9,    33.9702,2,     -999.0,9,         -999.0,9,  -999.0,9,20140123,       1409
33RO20131223,       A16S,      90,          1,         21,         21,2,20140123,       1224,   -50.5013,   -34.2981,       4892,   107.7,   0.8060,  33.9626,2,  33.9727,2,    309.6,2,   301.7,2,    31.0,2,    28.1,2,    0.26,2,   2.069,2,-999.000,9,-999.000,9,-999.000,9,  2185.1,2,  2293.8,2,-999.0000,9, -999.00,   7.6246,6,       25,-999.000,9,   0.8073,2, -999.00,9,  -999.0,9,  -999.0,-999.00000000,9,-999.00000000,9,   107.7,     -999.0,9,    34.1329,2,     -999.0,9,         -999.0,9,  -999.0,9,20140123,       1407
33RO20131223,       A16S,      90,          1,         20,         20,2,20140123,       1224,   -50.5013,   -34.2981,       4892,   173.7,   1.8215,  34.2439,2,  34.2448,2,    227.8,2,   225.8,2,    48.1,2,    33.0,2,    0.04,2,   2.268,2,-999.000,9,-999.000,9,-999.000,9,  2222.2,2, 2309.42,2,-999.0000,9, -999.00,   7.5567,2,       25,-999.000,9,   1.8218,2, -999.00,9,  -999.0,9,  -999.0,-999.00000000,9,-999.00000000,9,   173.7,     -999.0,9,    34.4063,6,     -999.0,9,         -999.0,9,  -999.0,9,20140123,       1405
33RO20131223,       A16S,      90,          1,         19,         19,2,20140123,       1224,   -50.5013,   -34.2981,       4892,   258.1,   2.1464,  34.3853,2,  34.3846,2,    197.2,2,   194.7,2,    59.8,2,    34.3,2,    0.02,2,   2.345,2,   1.946,2,   1.000,2,   0.670,2,  2240.3,2, 2323.52,2,-999.0000,9, -999.00,   7.5339,2,       25,-999.000,9,   2.1461,2, -999.00,9,  -999.0,9,  -999.0,-999.00000000,9,-999.00000000,9,   258.1,     22.816,2,    34.5467,2,     -999.0,9,         -999.0,9,  -999.0,9,20140123,       1402
33RO20131223,       A16S,      90,          1,         18,         18,2,20140123,       1224,   -50.5013,   -34.2981,       4892,   367.5,   2.2785,  34.5093,2,  34.5091,2,    175.5,2,   174.8,2,    70.2,2,    34.5,2,    0.01,2,   2.351,2,-999.000,9,-999.000,9,-999.000,9,  2253.2,2, 2333.57,2,-999.0000,9, -999.00,    7.534,2,       25,-999.000,9,   2.2786,2, -999.00,9,  -999.0,9,  -999.0,-999.00000000,9,-999.00000000,9,   367.5,     -999.0,9,    34.6719,2,     -999.0,9,         -999.0,9,  -999.0,9,20140123,       1359
33RO20131223,       A16S,      90,          1,         17,         17,2,20140123,       1224,   -50.5013,   -34.2981,       4892,   467.5,   2.2634,  34.5594,2,  34.5588,2,    172.6,2,   170.8,2,    74.2,2,    34.0,2,    0.01,2,   2.339,2,-999.000,9,-999.000,9,-999.000,9,  -999.0,9, -999.00,9,-999.0000,9, -999.00,-999.0000,9,  -999.00,-999.000,9,   2.2636,2, -999.00,9,  -999.0,9,  -999.0,-999.00000000,9,-999.00000000,9,   467.5,     -999.0,9,    34.7218,2,     -999.0,9,         -999.0,9,  -999.0,9,20140123,       1356
33RO20131223,       A16S,      90,          1,         16,         16,2,20140123,       1224,   -50.5013,   -34.2981,       4892,   612.8,   2.1751,  34.6192,2,  34.6174,2,    171.2,2,   169.8,2,    79.5,2,    33.5,2,    0.00,2,   2.300,2,-999.000,9,-999.000,9,-999.000,9,  2262.3,6, 2348.08,2,-999.0000,9, -999.00,   7.5437,2,       25,-999.000,9,   2.1754,2, -999.00,9,  -999.0,9,  -999.0,-999.00000000,9,-999.00000000,9,   612.8,     -999.0,9,    34.7806,2,     -999.0,9,         -999.0,9,  -999.0,9,20140123,       1353
33RO20131223,       A16S,      90,          1,         15,         15,2,20140123,       1224,   -50.5013,   -34.2981,       4892,   770.5,   2.0963,  34.6612,2,  34.6612,2,    172.8,2,   172.6,2,    85.0,2,    33.1,2,    0.00,2,   2.265,2,   0.278,2,   0.130,2,   0.067,2,  2264.3,2, 2353.47,2,-999.0000,9, -999.00,   7.5551,6,       25,-999.000,9,   2.0962,2, -999.00,9,  -999.0,9,  -999.0,-999.00000000,9,-999.00000000,9,   770.5,     21.826,2,    34.8246,2,     -999.0,9,         -999.0,9,  -999.0,9,20140123,       1349
33RO20131223,       A16S,      90,          1,         14,         14,2,20140123,       1224,   -50.5013,   -34.2981,       4892,   922.7,   1.9388,  34.6908,2,  34.6900,2,      176,2,   176.4,2,    89.9,2,    32.5,2,    0.00,2,   2.225,2,-999.000,9,-999.000,9,-999.000,9,  2264.6,2, 2359.91,6,-999.0000,9, -999.00,    7.567,2,       25,-999.000,9,   1.9394,2, -999.00,9,  -999.0,9,  -999.0,-999.00000000,9,-999.00000000,9,   922.7,     -999.0,9,    34.8535,2,     -999.0,9,         -999.0,9,  -999.0,9,20140123,       1345
33RO20131223,       A16S,      90,          1,         13,         13,2,20140123,       1224,   -50.5013,   -34.2981,       4892,  1098.6,   1.8055,  34.6990,2,  34.6988,2,    180.8,2,   180.3,2,    91.9,2,    32.3,2,    0.00,2,   2.209,2,-999.000,9,-999.000,9,-999.000,9,  -999.0,9, -999.00,9,-999.0000,9, -999.00,-999.0000,9,  -999.00,-999.000,9,   1.8061,2, -999.00,9,  -999.0,9,  -999.0,-999.00000000,9,-999.00000000,9,  1098.6,     -999.0,9,    34.8624,2,     -999.0,9,         -999.0,9,  -999.0,9,20140123,       1341
33RO20131223,       A16S,      90,          1,         12,         12,2,20140123,       1224,   -50.5013,   -34.2981,       4892,  1247.7,   1.6929,  34.7104,2,  34.7139,2,    185.1,2,   185.6,2,    94.1,2,    31.8,2,    0.00,2,   2.178,2,-999.000,9,-999.000,9,-999.000,9,  2262.7,2, 2361.86,2,-999.0000,9, -999.00,   7.5772,2,       25,-999.000,9,   1.6926,2, -999.00,9,  -999.0,9,  -999.0,-999.00000000,9,-999.00000000,9,  1247.7,     -999.0,9,    34.8775,2,     -999.0,9,         -999.0,9,  -999.0,9,20140123,       1337
33RO20131223,       A16S,      90,          1,         11,         11,2,20140123,       1224,   -50.5013,   -34.2981,       4892,    1398,   1.5188,  34.7128,2,  34.7112,2,    188.5,2,   189.5,2,    98.6,2,    31.7,2,    0.00,2,   2.182,2,-999.000,9,-999.000,9,-999.000,9,  -999.0,9, -999.00,9,-999.0000,9, -999.00,-999.0000,9,  -999.00,-999.000,9,   1.5193,2, -999.00,9,  -999.0,9,  -999.0,-999.00000000,9,-999.00000000,9,  1398.0,     -999.0,9,    34.8749,2,     -999.0,9,         -999.0,9,  -999.0,9,20140123,       1334
33RO20131223,       A16S,      90,          1,         10,         10,2,20140123,       1224,   -50.5013,   -34.2981,       4892,  1546.6,   1.3921,  34.7152,2,  34.7139,2,      193,2,   194.5,2,    99.6,6,    31.4,6,    0.00,6,   2.154,6,   0.257,2,   0.126,2,   0.075,2,  2260.7,2, 2360.97,2,-999.0000,9, -999.00,   7.5868,2,       25,-999.000,9,   1.3923,2, -999.00,9,  -999.0,9,  -999.0,-999.00000000,9,-999.00000000,9,  1546.6,     19.641,2,    34.8776,2,     -999.0,9,         -999.0,9,  -999.0,9,20140123,       1330
33RO20131223,       A16S,      90,          1,          9,          9,2,20140123,       1224,   -50.5013,   -34.2981,       4892,  1748.4,   1.2259,  34.7133,2,  34.7189,2,      197,2,   198.8,2,   103.0,6,    31.4,6,    0.00,6,   2.149,6,-999.000,9,-999.000,9,-999.000,9,  -999.0,9, -999.00,9,-999.0000,9, -999.00,-999.0000,9,  -999.00,-999.000,9,   1.2259,2, -999.00,9,  -999.0,9,  -999.0,-999.00000000,9,-999.00000000,9,  1748.4,     -999.0,9,    34.8826,2,     -999.0,9,         -999.0,9,  -999.0,9,20140123,       1326
33RO20131223,       A16S,      90,          1,          8,          8,2,20140123,       1224,   -50.5013,   -34.2981,       4892,  1997.3,   0.9474,  34.6967,2,  34.6965,2,      202,2,   203.4,2,   108.1,6,    31.8,6,    0.00,6,   2.179,6,-999.000,9,-999.000,9,-999.000,9,  2261.5,2, 2360.79,2,-999.0000,9, -999.00,   7.5853,2,       25,-999.000,9,    0.947,2, -999.00,9,  -999.0,9,  -999.0,-999.00000000,9,-999.00000000,9,  1997.3,     -999.0,9,    34.8601,6,     -999.0,9,         -999.0,9,  -999.0,9,20140123,       1320
33RO20131223,       A16S,      90,          1,          7,          7,2,20140123,       1224,   -50.5013,   -34.2981,       4892,  2398.2,   0.6922,  34.6906,2,  34.6903,2,    207.8,2,   209.2,2,   113.3,6,    32.0,6,    0.00,6,   2.215,6,-999.000,9,-999.000,9,-999.000,9,  2262.4,2, 2360.38,2,-999.0000,9, -999.00,   7.5828,2,       25,-999.000,9,   0.6921,2, -999.00,9,  -999.0,9,  -999.0,-999.00000000,9,-999.00000000,9,  2398.2,     -999.0,9,    34.8539,2,     -999.0,9,         -999.0,9,  -999.0,9,20140123,       1312
33RO20131223,       A16S,      90,          1,          6,          6,2,20140123,       1224,   -50.5013,   -34.2981,       4892,  2797.3,   0.4782,  34.6840,2,  34.6836,2,    213.9,2,   214.1,2,   117.6,2,    32.1,2,    0.00,2,   2.207,2,-999.000,5,-999.000,5,-999.000,5,  2264.8,2,    2365,2,-999.0000,9, -999.00,    7.586,2,       25,-999.000,9,   0.4783,2, -999.00,9,  -999.0,9,  -999.0,-999.00000000,9,-999.00000000,9,  2797.3,     -999.0,5,    34.8472,2,     -999.0,9,         -999.0,9,  -999.0,9,20140123,       1305
33RO20131223,       A16S,      90,          1,          5,          5,2,20140123,       1224,   -50.5013,   -34.2981,       4892,  3198.7,   0.3132,  34.6776,2,  34.6760,2,    217.1,2,   219.2,2,   120.9,2,    32.3,2,    0.00,2,   2.216,2,-999.000,9,-999.000,9,-999.000,9,  2263.6,2, 2365.94,2,-999.0000,9, -999.00,   7.5886,2,       25,-999.000,9,   0.3132,2, -999.00,9,  -999.0,9,  -999.0,-999.00000000,9,-999.00000000,9,  3198.7,     -999.0,9,    34.8395,2,     -999.0,9,         -999.0,9,  -999.0,9,20140123,       1257
33RO20131223,       A16S,      90,          1,          4,          4,2,20140123,       1224,   -50.5013,   -34.2981,       4892,  3597.2,   0.2065,  34.6718,2,  34.6689,2,    221.3,2,   222.7,2,   123.2,6,    32.3,6,    0.00,6,   2.226,6,-999.000,9,-999.000,9,-999.000,9,  -999.0,9, -999.00,9,-999.0000,9, -999.00,-999.0000,9,  -999.00,-999.000,9,   0.2068,2, -999.00,9,  -999.0,9,  -999.0,-999.00000000,9,-999.00000000,9,  3597.2,     -999.0,9,    34.8324,2,     -999.0,9,         -999.0,9,  -999.0,9,20140123,       1250
33RO20131223,       A16S,      90,          1,          3,          3,2,20140123,       1224,   -50.5013,   -34.2981,       4892,    3998,   0.1249,  34.6666,2,  34.6652,2,    224.9,2,   225.8,2,   124.0,6,    32.3,6,    0.00,6,   2.233,6,   0.682,6,   0.330,2,   0.148,6,  2261.2,2, 2367.94,2,-999.0000,9, -999.00,   7.5896,2,       25,-999.000,9,   0.1249,2, -999.00,9,  -999.0,9,  -999.0,-999.00000000,9,-999.00000000,9,  3998.0,     18.441,6,    34.8286,2,     -999.0,9,         -999.0,9,  -999.0,9,20140123,       1242
33RO20131223,       A16S,      90,          1,          2,          2,2,20140123,       1224,   -50.5013,   -34.2981,       4892,  4497.1,  -0.0585,  34.6563,2,  34.6551,2,    235.6,2,     236,2,   122.4,6,    32.1,6,    0.00,6,   2.215,6,   1.017,2,   0.499,2,   0.236,2,  2259.2,2, 2357.99,6,-999.0000,9, -999.00,   7.5907,2,       25,-999.000,9,  -0.0585,2, -999.00,9,  -999.0,9,  -999.0,-999.00000000,9,-999.00000000,9,  4497.1,     18.375,2,    34.8185,2,     -999.0,9,         -999.0,9,  -999.0,9,20140123,       1233
33RO20131223,       A16S,      90,          1,          1,          1,2,20140123,       1224,   -50.5013,   -34.2981,       4892,    4969,  -0.1546,  34.6499,2,  34.6510,2,    243.8,2,   242.5,2,   123.2,6,    32.0,6,    0.01,6,   2.221,6,   1.244,2,   0.613,2,   0.318,2,  2256.3,6, 2356.87,2,-999.0000,9, -999.00,   7.5938,2,       25,-999.000,9,  -0.1549,2, -999.00,9,  -999.0,9,  -999.0,-999.00000000,9,-999.00000000,9,  4969.0,     18.168,2,    34.8144,2,     -999.0,9,         -999.0,9,  -999.0,9,20140123,       1224