BOTTLE,20220815CCHSIOAMB
EXPOCODE,SECT_ID,STNNBR,CASTNO,SAMPNO,BTLNBR,BTLNBR_FLAG_W,DATE,TIME,LATITUDE,LONGITUDE,DEPTH,CTDPRS,CTDTMP,CTDSAL,CTDSAL_FLAG_W,SALNTY,SALNTY_FLAG_W,CTDOXY,CTDOXY_FLAG_W,OXYGEN,OXYGEN_FLAG_W,SILCAT,SILCAT_FLAG_W,NITRAT,NITRAT_FLAG_W,NITRIT,NITRIT_FLAG_W,PHSPHT,PHSPHT_FLAG_W,CFC-11,CFC-11_FLAG_W,CFC-12,CFC-12_FLAG_W,SF6,SF6_FLAG_W,TCARBN,TCARBN_FLAG_W,ALKALI,ALKALI_FLAG_W,PCO2,PCO2_FLAG_W,PCO2TMP,PH_SWS,PH_SWS_FLAG_W,PH_TMP,TRITUM,TRITUM_FLAG_W,REFTMP,REFTMP_FLAG_W,DELC13,DELC13_FLAG_W,DELC14,DELC14_FLAG_W,C14ERR,DOC,DOC_FLAG_W,TDN,TDN_FLAG_W,CTDRAW,N2O,N2O_FLAG_W,SALTREF,SALTREF_FLAG_W,HELIUM,HELIUM_FLAG_W,DELO18,DELO18_FLAG_W,CCL4,CCL4_FLAG_W,BTL_DATE,BTL_TIME
,,,,,,,,,,,METERS,DBAR,ITS-90,PSS-78,,PSS-78,,UMOL/KG,,UMOL/KG,,UMOL/KG,,UMOL/KG,,UMOL/KG,,UMOL/KG,,PMOL/KG,,PMOL/KG,,FMOL/KG,,UMOL/KG,,UMOL/KG,,UATM,,DEG C,,,DEG C,TU,,DEG C,,/MILLE,,/MILLE,,/MILLE,UMOL/KG,,UMOL/KG,,DBAR,NMOL/KG,,G/KG,,NMOL/KG,,/MILLE,,PMOL/KG,,,
33RO20131223,       A16S,      92,          1,         24,         24,2,20140124,       1310,   -51.4994,   -34.9314,       4816,     4.9,   3.3442,  33.8086,2,  33.8077,2,    333.7,2,   333.6,2,     2.3,2,    19.2,2,    0.28,2,   1.237,2,   5.264,2,   2.890,2,   2.814,2,  2124.8,6, 2287.89,2,-999.0000,9, -999.00,   7.7816,2,       25,-999.000,9,   3.3455,2, -999.00,9,  -999.0,9,  -999.0,-999.00000000,9,-999.00000000,9,     4.9,     13.366,2,    33.9671,2,     -999.0,9,         -999.0,9,  -999.0,9,20140124,       1500
33RO20131223,       A16S,      92,          1,         23,         23,2,20140124,       1310,   -51.4994,   -34.9314,       4816,    27.9,   3.3452,  33.8089,2,  33.8079,2,    331.4,2,   333.7,2,     2.3,2,    19.2,2,    0.28,2,   1.236,2,-999.000,9,-999.000,9,-999.000,9,  2125.2,2, 2288.45,2,-999.0000,9, -999.00,    7.783,6,       25,-999.000,9,    3.344,2, -999.00,9,  -999.0,9,  -999.0,-999.00000000,9,-999.00000000,9,    27.9,     -999.0,9,    33.9673,2,     -999.0,9,         -999.0,9,  -999.0,9,20140124,       1458
33RO20131223,       A16S,      92,          1,         22,         22,2,20140124,       1310,   -51.4994,   -34.9314,       4816,    61.9,   2.3147,  33.8401,2,  33.8367,2,    317.6,2,   323.5,2,     8.8,2,    21.0,2,    0.32,2,   1.622,2,   5.443,2,   2.984,2,   2.995,2,  2148.2,2, 2294.69,6,-999.0000,9, -999.00,   7.7265,2,       25,-999.000,9,   2.2823,2, -999.00,9,  -999.0,9,  -999.0,-999.00000000,9,-999.00000000,9,    61.9,     13.994,2,    33.9962,2,     -999.0,9,         -999.0,9,  -999.0,9,20140124,       1456
33RO20131223,       A16S,      92,          1,         21,         21,2,20140124,       1310,   -51.4994,   -34.9314,       4816,   114.5,   0.5742,  34.0023,2,  33.9986,2,    308.4,2,   297.9,2,    35.4,2,    28.6,2,    0.17,2,   2.040,2,   5.085,2,   2.749,2,   2.586,2,  2192.6,2, 2299.11,2,-999.0000,9, -999.00,   7.6147,2,       25,-999.000,9,   0.5692,2, -999.00,9,  -999.0,9,  -999.0,-999.00000000,9,-999.00000000,9,   114.5,     16.992,2,    34.1589,2,     -999.0,9,         -999.0,9,  -999.0,9,20140124,       1454
33RO20131223,       A16S,      92,          1,         20,         20,2,20140124,       1310,   -51.4994,   -34.9314,       4816,   183.3,   1.9157,  34.2906,2,  34.2899,2,    215.4,2,   213.4,2,    51.7,2,    33.5,2,    0.02,2,   2.274,2,-999.000,9,-999.000,9,-999.000,9,  -999.0,9, -999.00,9,-999.0000,9, -999.00,-999.0000,9,  -999.00,-999.000,9,   1.9101,2, -999.00,9,  -999.0,9,  -999.0,-999.00000000,9,-999.00000000,9,   183.3,     -999.0,9,    34.4516,2,     -999.0,9,         -999.0,9,  -999.0,9,20140124,       1451
33RO20131223,       A16S,      92,          1,         19,         19,2,20140124,       1310,   -51.4994,   -34.9314,       4816,   258.1,   1.9806,  34.4027,2,  34.4012,2,    192.1,2,   191.3,2,    62.4,2,    34.4,2,    0.01,2,   2.337,2,-999.000,9,-999.000,9,-999.000,9,  2247.7,2, 2323.98,2,-999.0000,9, -999.00,   7.5237,2,       25,-999.000,9,   1.9809,2, -999.00,9,  -999.0,9,  -999.0,-999.00000000,9,-999.00000000,9,   258.1,     -999.0,9,    34.5634,2,     -999.0,9,         -999.0,9,  -999.0,9,20140124,       1449
33RO20131223,       A16S,      92,          1,         18,         18,2,20140124,       1310,   -51.4994,   -34.9314,       4816,   358.5,   2.1274,  34.5138,2,  34.5114,2,    175.1,2,   173.5,2,    70.9,2,    34.3,2,    0.01,2,   2.337,2,-999.000,9,-999.000,9,-999.000,9,  -999.0,9, -999.00,9,-999.0000,9, -999.00,-999.0000,9,  -999.00,-999.000,9,   2.1276,2, -999.00,9,  -999.0,9,  -999.0,-999.00000000,9,-999.00000000,9,   358.5,     -999.0,9,    34.6741,2,     -999.0,9,         -999.0,9,  -999.0,9,20140124,       1446
33RO20131223,       A16S,      92,          1,         17,         17,2,20140124,       1310,   -51.4994,   -34.9314,       4816,   479.8,   2.0791,  34.5942,2,  34.5912,2,    172.3,2,   172.5,2,    76.9,2,    33.4,2,    0.00,2,   2.279,2,   0.687,2,   0.338,2,   0.188,2,  2260.7,6, 2343.36,2,-999.0000,9, -999.00,   7.5361,2,       25,-999.000,9,   2.0797,2, -999.00,9,  -999.0,9,  -999.0,-999.00000000,9,-999.00000000,9,   479.8,     22.440,2,    34.7543,2,     -999.0,9,         -999.0,9,  -999.0,9,20140124,       1442
33RO20131223,       A16S,      92,          1,         16,         16,2,20140124,       1310,   -51.4994,   -34.9314,       4816,   574.1,   2.0078,  34.6326,2,  34.6303,2,    173.7,2,   173.5,2,    80.0,2,    33.0,2,    0.00,2,   2.247,2,   0.538,2,   0.264,2,   0.150,2,  2262.3,2, 2345.26,6,-999.0000,9, -999.00,   7.5429,2,       25,-999.000,9,   2.0085,2, -999.00,9,  -999.0,9,  -999.0,-999.00000000,9,-999.00000000,9,   574.1,     21.875,2,    34.7936,2,     -999.0,9,         -999.0,9,  -999.0,9,20140124,       1440
33RO20131223,       A16S,      92,          1,         15,         15,2,20140124,       1310,   -51.4994,   -34.9314,       4816,   723.7,   1.9156,  34.6746,2,  34.6737,2,    176.6,2,   177.1,2,    85.2,2,    32.3,2,    0.00,2,   2.204,2,-999.000,9,-999.000,9,-999.000,9,  2263.5,2, 2356.48,2,-999.0000,9, -999.00,   7.5609,2,       25,-999.000,9,   1.9158,2, -999.00,9,  -999.0,9,  -999.0,-999.00000000,9,-999.00000000,9,   723.7,     -999.0,9,    34.8372,6,     -999.0,9,         -999.0,9,  -999.0,9,20140124,       1436
33RO20131223,       A16S,      92,          1,         14,         14,2,20140124,       1310,   -51.4994,   -34.9314,       4816,   923.5,   1.7785,  34.7006,2,  34.6985,2,      181,2,   180.7,2,    90.1,2,    31.7,2,    0.00,2,   2.169,2,   0.260,6,   0.125,2,   0.101,6,    2265,2, 2366.02,3,-999.0000,9, -999.00,   7.5714,2,       25,-999.000,9,   1.7793,2, -999.00,9,  -999.0,9,  -999.0,-999.00000000,9,-999.00000000,9,   923.5,     20.235,6,    34.8621,2,     -999.0,9,         -999.0,9,  -999.0,9,20140124,       1431
33RO20131223,       A16S,      92,          1,         13,         13,2,20140124,       1310,   -51.4994,   -34.9314,       4816,  1118.9,   1.6030,  34.7117,2,  34.7113,2,    186.2,2,   186.2,2,    94.4,2,    31.4,2,    0.00,2,   2.149,2,   0.229,2,   0.109,2,   0.071,2,  2264.6,2, 2349.66,3,-999.0000,9, -999.00,   7.5811,2,       25,-999.000,9,   1.6035,2, -999.00,9,  -999.0,9,  -999.0,-999.00000000,9,-999.00000000,9,  1118.9,     19.618,2,     34.875,2,     -999.0,9,         -999.0,9,  -999.0,9,20140124,       1426
33RO20131223,       A16S,      92,          1,         12,         12,2,20140124,       1310,   -51.4994,   -34.9314,       4816,  1349.5,   1.4499,  34.7237,2,  34.7243,2,    192.9,2,   194.1,2,    96.1,2,    30.8,2,    0.00,2,   2.107,2,-999.000,9,-999.000,9,-999.000,9,  -999.0,9, -999.00,9,-999.0000,9, -999.00,-999.0000,9,  -999.00,-999.000,9,   1.4504,2, -999.00,9,  -999.0,9,  -999.0,-999.00000000,9,-999.00000000,9,  1349.5,     -999.0,9,     34.888,2,     -999.0,9,         -999.0,9,  -999.0,9,20140124,       1421
33RO20131223,       A16S,      92,          1,         11,         11,2,20140124,       1310,   -51.4994,   -34.9314,       4816,  1567.4,   1.2616,  34.7188,2,  34.7175,2,    197.4,2,   197.5,2,   100.9,2,    31.0,2,    0.00,2,   2.119,2,-999.000,9,-999.000,9,-999.000,9,  2261.2,2, 2359.04,2,-999.0000,9, -999.00,   7.5919,2,       25,-999.000,9,   1.2607,2, -999.00,9,  -999.0,9,  -999.0,-999.00000000,9,-999.00000000,9,  1567.4,     -999.0,9,    34.8812,2,     -999.0,9,         -999.0,9,  -999.0,9,20140124,       1416
33RO20131223,       A16S,      92,          1,         10,         10,2,20140124,       1310,   -51.4994,   -34.9314,       4816,  1848.1,   0.9972,  34.7089,2,  34.7075,2,    202.2,2,   202.3,2,   106.9,2,    31.2,2,    0.00,2,   2.136,2,   0.303,2,   0.148,2,   0.133,2,  2261.2,2, 2361.48,2,-999.0000,9, -999.00,   7.5894,2,       25,-999.000,9,   0.9971,2, -999.00,9,  -999.0,9,  -999.0,-999.00000000,9,-999.00000000,9,  1848.1,     18.685,2,    34.8711,2,     -999.0,9,         -999.0,9,  -999.0,9,20140124,       1411
33RO20131223,       A16S,      92,          1,          9,          9,2,20140124,       1310,   -51.4994,   -34.9314,       4816,  2148.6,   0.7245,  34.6931,2,  34.6920,2,    207.1,2,     208,2,   112.0,2,    31.6,2,    0.00,2,   2.167,2,-999.000,9,-999.000,9,-999.000,9,  -999.0,9, -999.00,9,-999.0000,9, -999.00,-999.0000,9,  -999.00,-999.000,9,   0.7244,2, -999.00,9,  -999.0,9,  -999.0,-999.00000000,9,-999.00000000,9,  2148.6,     -999.0,9,    34.8556,2,     -999.0,9,         -999.0,9,  -999.0,9,20140124,       1405
33RO20131223,       A16S,      92,          1,          8,          8,2,20140124,       1310,   -51.4994,   -34.9314,       4816,  2448.7,   0.5492,  34.6873,2,  34.6847,2,    211.1,2,   211.8,2,   114.3,2,    31.8,2,    0.00,2,   2.170,2,-999.000,9,-999.000,9,-999.000,9,  2262.4,2, 2362.04,2,-999.0000,9, -999.00,   7.5846,2,       25,-999.000,9,   0.5494,2, -999.00,9,  -999.0,9,  -999.0,-999.00000000,9,-999.00000000,9,  2448.7,     -999.0,9,    34.8482,2,     -999.0,9,         -999.0,9,  -999.0,9,20140124,       1358
33RO20131223,       A16S,      92,          1,          7,          7,2,20140124,       1310,   -51.4994,   -34.9314,       4816,  2849.5,   0.3639,  34.6796,2,  34.6775,2,    215.2,2,     216,2,   117.3,2,    31.9,2,    0.00,2,   2.183,2,   0.538,2,   0.256,2,   0.091,2,  2263.3,2,  2364.2,2,-999.0000,9, -999.00,    7.586,2,       25,-999.000,9,   0.3642,2, -999.00,9,  -999.0,9,  -999.0,-999.00000000,9,-999.00000000,9,  2849.5,     18.245,2,     34.841,2,     -999.0,9,         -999.0,9,  -999.0,9,20140124,       1350
33RO20131223,       A16S,      92,          1,          6,          6,2,20140124,       1310,   -51.4994,   -34.9314,       4816,  3249.7,   0.2370,  34.6733,2,  34.6716,2,    219.1,2,   219.8,2,   119.6,2,    32.0,2,    0.00,2,   2.189,2,-999.000,9,-999.000,9,-999.000,9,  -999.0,9, -999.00,9,-999.0000,9, -999.00,-999.0000,9,  -999.00,-999.000,9,   0.2374,2, -999.00,9,  -999.0,9,  -999.0,-999.00000000,9,-999.00000000,9,  3249.7,     -999.0,9,    34.8351,2,     -999.0,9,         -999.0,9,  -999.0,9,20140124,       1343
33RO20131223,       A16S,      92,          1,          5,          5,2,20140124,       1310,   -51.4994,   -34.9314,       4816,  3647.4,   0.1365,  34.6680,2,  34.6655,2,    223.4,2,   223.6,2,   121.2,2,    32.0,2,    0.00,2,   2.194,2,-999.000,9,-999.000,9,-999.000,9,  2262.5,2, 2368.25,2,-999.0000,9, -999.00,   7.5874,2,       25,-999.000,9,   0.1365,2, -999.00,9,  -999.0,9,  -999.0,-999.00000000,9,-999.00000000,9,  3647.4,     -999.0,9,     34.829,2,     -999.0,9,         -999.0,9,  -999.0,9,20140124,       1335
33RO20131223,       A16S,      92,          1,          4,          4,2,20140124,       1310,   -51.4994,   -34.9314,       4816,  4048.1,   0.0665,  34.6637,2,  34.6604,2,    228.1,2,   228.4,2,   121.6,6,    31.9,6,    0.00,6,   2.187,6,   0.786,2,   0.376,2,   0.166,2,  2259.7,2, 2363.03,6,-999.0000,9, -999.00,   7.5873,2,       25,-999.000,9,   0.0667,2, -999.00,9,  -999.0,9,  -999.0,-999.00000000,9,-999.00000000,9,  4048.1,     17.955,2,    34.8238,2,     -999.0,9,         -999.0,9,  -999.0,9,20140124,       1327
33RO20131223,       A16S,      92,          1,          3,          3,2,20140124,       1310,   -51.4994,   -34.9314,       4816,  4448.5,  -0.0163,  34.6585,2,  34.6576,2,    233.3,2,   232.5,2,   121.2,6,    31.8,6,    0.00,6,   2.183,6,-999.000,9,-999.000,9,-999.000,9,  2257.7,2, 2358.38,2,-999.0000,9, -999.00,   7.5892,6,       25,-999.000,9,  -0.0158,2, -999.00,9,  -999.0,9,  -999.0,-999.00000000,9,-999.00000000,9,  4448.5,     -999.0,9,    34.8211,6,     -999.0,9,         -999.0,9,  -999.0,9,20140124,       1320
33RO20131223,       A16S,      92,          1,          2,          2,2,20140124,       1310,   -51.4994,   -34.9314,       4816,    4748,  -0.1120,  34.6528,2,  34.6510,2,    238.6,2,     238,2,   120.6,6,    31.7,6,    0.00,6,   2.175,6,-999.000,9,-999.000,9,-999.000,9,  -999.0,9, -999.00,9,-999.0000,9, -999.00,-999.0000,9,  -999.00,-999.000,9,   -0.112,2, -999.00,9,  -999.0,9,  -999.0,-999.00000000,9,-999.00000000,9,  4748.0,     -999.0,9,    34.8143,2,     -999.0,9,         -999.0,9,  -999.0,9,20140124,       1314
33RO20131223,       A16S,      92,          1,          1,          1,2,20140124,       1310,   -51.4994,   -34.9314,       4816,  4894.4,  -0.1416,  34.6507,2,  34.6510,2,    241.5,2,   240.7,2,   120.9,6,    31.6,6,    0.01,6,   2.173,6,   1.217,2,   0.596,2,   0.279,2,  2255.8,6, 2356.31,2,-999.0000,9, -999.00,   7.5902,2,       25,-999.000,9,  -0.1417,2, -999.00,9,  -999.0,9,  -999.0,-999.00000000,9,-999.00000000,9,  4894.4,     17.726,2,    34.8143,2,     -999.0,9,         -999.0,9,  -999.0,9,20140124,       1310