BOTTLE,20220815CCHSIOAMB
EXPOCODE,SECT_ID,STNNBR,CASTNO,SAMPNO,BTLNBR,BTLNBR_FLAG_W,DATE,TIME,LATITUDE,LONGITUDE,DEPTH,CTDPRS,CTDTMP,CTDSAL,CTDSAL_FLAG_W,SALNTY,SALNTY_FLAG_W,CTDOXY,CTDOXY_FLAG_W,OXYGEN,OXYGEN_FLAG_W,SILCAT,SILCAT_FLAG_W,NITRAT,NITRAT_FLAG_W,NITRIT,NITRIT_FLAG_W,PHSPHT,PHSPHT_FLAG_W,CFC-11,CFC-11_FLAG_W,CFC-12,CFC-12_FLAG_W,SF6,SF6_FLAG_W,TCARBN,TCARBN_FLAG_W,ALKALI,ALKALI_FLAG_W,PCO2,PCO2_FLAG_W,PCO2TMP,PH_SWS,PH_SWS_FLAG_W,PH_TMP,TRITUM,TRITUM_FLAG_W,REFTMP,REFTMP_FLAG_W,DELC13,DELC13_FLAG_W,DELC14,DELC14_FLAG_W,C14ERR,DOC,DOC_FLAG_W,TDN,TDN_FLAG_W,CTDRAW,N2O,N2O_FLAG_W,SALTREF,SALTREF_FLAG_W,HELIUM,HELIUM_FLAG_W,DELO18,DELO18_FLAG_W,CCL4,CCL4_FLAG_W,BTL_DATE,BTL_TIME
,,,,,,,,,,,METERS,DBAR,ITS-90,PSS-78,,PSS-78,,UMOL/KG,,UMOL/KG,,UMOL/KG,,UMOL/KG,,UMOL/KG,,UMOL/KG,,PMOL/KG,,PMOL/KG,,FMOL/KG,,UMOL/KG,,UMOL/KG,,UATM,,DEG C,,,DEG C,TU,,DEG C,,/MILLE,,/MILLE,,/MILLE,UMOL/KG,,UMOL/KG,,DBAR,NMOL/KG,,G/KG,,NMOL/KG,,/MILLE,,PMOL/KG,,,
33RO20131223,       A16S,     109,          1,         24,         24,2,20140128,       1314,   -58.0281,   -30.9118,       3554,       6,   1.2262,  33.7509,2,  33.7508,2,    336.1,2,   336.7,2,    42.0,2,    22.0,2,    0.26,2,   1.369,2,   5.719,6,   3.143,2,   3.107,6,  2152.2,6, 2298.47,2,  768.335,2,      20,   7.7196,2,       25,-999.000,9,   1.2281,2,    1.15,2,  -119.2,2,     2.1,        47.89,2,  25.52987781,2,     6.0,     14.396,6,      33.91,2,     -999.0,9,         -999.0,9,  -999.0,9,20140128,       1442
33RO20131223,       A16S,     109,          1,         23,         23,2,20140128,       1314,   -58.0281,   -30.9118,       3554,    18.3,   1.2142,  33.7534,2,  33.7541,2,    336.3,2,   336.5,2,    41.7,2,    21.9,2,    0.26,2,   1.359,2,   5.710,2,   3.145,2,   3.164,2,  2154.5,2,  2293.1,2,  767.005,6,      20,    7.722,6,       25,-999.000,9,   1.2157,2,    1.40,2,  -111.9,2,     2.0,        47.52,2,    26.453028,2,    18.3,     14.439,2,    33.9132,2,     -999.0,9,         -999.0,9,  -999.0,9,20140128,       1441
33RO20131223,       A16S,     109,          1,         22,         22,3,20140128,       1314,   -58.0281,   -30.9118,       3554,    58.4,  -0.4781,  33.9150,2,-999.0000,9,    329.1,2,  -999.0,9,  -999.0,9,  -999.0,9, -999.00,9,-999.000,9,-999.000,9,-999.000,9,-999.000,9,  -999.0,9, -999.00,9,-999.0000,9, -999.00,-999.0000,9,  -999.00,-999.000,9,  -0.4829,2, -999.00,9,  -999.0,9,  -999.0,-999.00000000,9,-999.00000000,9,    58.4,     -999.0,9,     -999.0,9,     -999.0,9,         -999.0,9,  -999.0,9,20140128,       1439
33RO20131223,       A16S,     109,          1,         21,         21,2,20140128,       1314,   -58.0281,   -30.9118,       3554,    98.8,  -0.9876,  34.0421,2,  34.0449,2,    310.1,2,   308.3,2,    67.4,2,    28.1,2,    0.23,2,   2.064,2,   5.059,2,   2.751,2,   2.639,2,  2205.4,2, 2308.88,6,   999.32,2,      20,   7.6153,2,       25,-999.000,9,  -0.9846,2,    0.83,2,  -128.5,2,     3.0,        43.65,2,  32.49756098,2,    98.8,     17.157,2,    34.2055,2,     -999.0,9,         -999.0,9,  -999.0,9,20140128,       1436
33RO20131223,       A16S,     109,          1,         20,         20,2,20140128,       1314,   -58.0281,   -30.9118,       3554,   147.4,  -0.2483,  34.3181,2,  34.3181,2,    256.8,2,   257.4,2,    76.4,2,    32.3,2,    0.15,2,   2.246,2,   3.555,2,   1.904,2,   1.724,2,  2235.6,2,  2325.2,2,   1141.8,2,      20,   7.5669,2,       25,-999.000,9,   -0.251,2,    0.59,2,  -132.6,2,     3.8,        42.17,2,  35.37416049,2,   147.4,     19.160,2,    34.4799,2,     -999.0,9,         -999.0,9,  -999.0,9,20140128,       1434
33RO20131223,       A16S,     109,          1,         19,         19,2,20140128,       1314,   -58.0281,   -30.9118,       3554,   197.4,   0.4398,  34.4840,2,  34.4841,2,    225.6,2,   226.9,2,    82.2,2,    32.8,2,    0.02,2,   2.256,2,   2.389,2,   1.268,2,   1.092,2,  2247.8,2,  2338.8,2,  1170.08,2,      20,   7.5593,2,       25,-999.000,9,   0.4395,2,    0.50,2,  -142.9,2,     2.0,        41.75,2,  35.69756098,2,   197.4,     20.141,2,    34.6467,2,     -999.0,9,         -999.0,9,  -999.0,9,20140128,       1432
33RO20131223,       A16S,     109,          1,         18,         18,2,20140128,       1314,   -58.0281,   -30.9118,       3554,     268,   0.7880,  34.5739,2,  34.5735,2,    215.5,2,   213.4,2,    86.7,2,    32.6,2,    0.02,2,   2.245,2,   1.690,2,   0.879,2,   0.726,2,  2253.4,2, 2344.02,2,  1188.77,6,      20,   7.5651,2,       25,-999.000,9,   0.7785,2,    0.36,2,  -148.4,2,     2.0,        41.33,2,  35.47761698,2,   268.0,     20.306,2,    34.7366,2,     -999.0,9,         -999.0,9,  -999.0,9,20140128,       1430
33RO20131223,       A16S,     109,          1,         17,         17,2,20140128,       1314,   -58.0281,   -30.9118,       3554,   387.6,   1.1835,  34.6604,2,  34.6598,2,      197,2,   197.4,2,    92.8,2,    32.3,2,    0.01,2,   2.221,2,   0.858,2,   0.436,2,   0.355,2,  2256.7,6, 2349.31,2,  1122.98,2,      20,    7.573,2,       25,-999.000,9,   1.1835,2,    0.45,2,  -160.6,2,     1.8,        40.63,2,        35.06,2,   387.6,     20.098,2,    34.8233,6,     -999.0,9,         -999.0,9,  -999.0,9,20140128,       1427
33RO20131223,       A16S,     109,          1,         16,         16,2,20140128,       1314,   -58.0281,   -30.9118,       3554,   468.9,   1.1680,  34.6780,2,  34.6777,2,    195.4,2,   196.6,2,    97.0,2,    32.2,2,    0.01,2,   2.211,2,   0.655,2,   0.333,2,   0.259,2,  2260.5,2, 2357.33,6,   1126.6,6,      20,   7.5784,2,       25,-999.000,9,   1.1682,2,    0.42,2,  -159.2,2,     2.0,        39.97,2,  34.77073171,2,   468.9,     19.817,2,    34.8412,2,     -999.0,9,         -999.0,9,  -999.0,9,20140128,       1424
33RO20131223,       A16S,     109,          1,         15,         15,2,20140128,       1314,   -58.0281,   -30.9118,       3554,   657.7,   1.0413,  34.6963,2,  34.6950,2,    201.4,2,   198.5,2,   104.7,2,    32.1,2,    0.01,2,   2.203,2,   0.456,2,   0.225,2,   0.143,2,  2261.5,2, 2362.64,2,  1110.33,2,      20,   7.5835,2,       25,-999.000,9,   1.0421,2,    0.48,2,  -159.2,2,     1.8,        39.65,2,  34.54634146,2,   657.7,     19.309,2,    34.8586,2,     -999.0,9,         -999.0,9,  -999.0,9,20140128,       1420
33RO20131223,       A16S,     109,          1,         14,         14,2,20140128,       1314,   -58.0281,   -30.9118,       3554,   848.5,   0.6997,  34.6798,2,  34.6794,2,    204.3,2,     205,2,   108.9,2,    32.3,2,    0.00,2,   2.223,2,   0.681,2,   0.339,2,   0.251,2,  2262.5,2, 2358.11,2,  1117.38,2,      20,   7.5801,2,       25,-999.000,9,   0.7001,2,    0.46,2,  -158.9,2,     1.9,        39.45,2,        34.77,2,   848.5,     19.259,2,    34.8429,2,     -999.0,9,         -999.0,9,  -999.0,9,20140128,       1415
33RO20131223,       A16S,     109,          1,         13,         13,2,20140128,       1314,   -58.0281,   -30.9118,       3554,    1048,   0.6134,  34.6843,2,  34.6840,2,    205.2,2,   205.7,2,   113.3,2,    32.5,2,    0.00,2,   2.230,2,   0.601,2,   0.295,2,   0.205,2,  2261.9,2, 2361.52,2,  1126.13,2,      20,   7.5785,2,       25,-999.000,9,   0.6143,2,    0.46,2,  -155.5,2,     1.9,        38.97,2,  34.91707317,2,  1048.0,     19.155,2,    34.8476,2,     -999.0,9,         -999.0,9,  -999.0,9,20140128,       1411
33RO20131223,       A16S,     109,          1,         12,         12,2,20140128,       1314,   -58.0281,   -30.9118,       3554,  1249.4,   0.4944,  34.6802,2,  34.6965,4,    205.8,2,   206.2,2,   115.7,2,    32.8,2,    0.01,2,   2.252,2,   0.624,2,   0.305,2,   0.154,2,  2262.7,2, 2355.71,2, 1141.135,6,      20,   7.5744,2,       25,-999.000,9,   0.4947,2,    0.43,2,  -159.0,2,     1.9,        39.45,2,        35.45,2,  1249.4,     19.250,2,    34.8601,2,     -999.0,9,         -999.0,9,  -999.0,9,20140128,       1406
33RO20131223,       A16S,     109,          1,         11,         11,2,20140128,       1314,   -58.0281,   -30.9118,       3554,  1448.5,   0.4376,  34.6808,2,  34.6799,2,    208.2,2,   210.2,2,   117.6,2,    32.6,2,    0.01,2,   2.241,2,   0.608,2,   0.297,2,   0.206,2,    2262,2, 2361.35,2,  1127.17,2,      20,   7.5772,2,       25,-999.000,9,   0.4378,2,    0.46,2,  -150.6,3,     2.3,        39.26,2,        35.21,2,  1448.5,     19.000,2,    34.8434,2,     -999.0,9,         -999.0,9,  -999.0,9,20140128,       1401
33RO20131223,       A16S,     109,          1,         10,         10,2,20140128,       1314,   -58.0281,   -30.9118,       3554,  1649.1,   0.3765,  34.6801,2,  34.6790,2,    211.5,2,   212.9,2,   119.0,2,    32.6,2,    0.01,2,   2.239,2,   0.639,6,   0.315,2,   0.181,6,  2260.3,2, 2361.19,2,   1117.7,2,      20,   7.5798,2,       25,-999.000,9,   0.3762,2,    0.48,2,  -160.7,2,     2.0,  39.76852068,2,        35.13,2,  1649.1,     18.820,6,    34.8425,2,     -999.0,9,         -999.0,9,  -999.0,9,20140128,       1356
33RO20131223,       A16S,     109,          1,          9,          9,2,20140128,       1314,   -58.0281,   -30.9118,       3554,  1846.1,   0.3036,  34.6767,2,  34.6762,2,    214.4,2,   214.9,2,   119.8,2,    32.6,2,    0.01,2,   2.243,2,   0.695,2,   0.339,2,   0.195,2,  2259.7,2, 2361.48,2,  1116.74,2,      20,   7.5842,2,       25,-999.000,9,   0.3037,2,    0.48,2,  -164.8,2,     2.1,  39.62717927,2,  35.14146341,2,  1846.1,     18.780,2,    34.8397,2,     -999.0,9,         -999.0,9,  -999.0,9,20140128,       1352
33RO20131223,       A16S,     109,          1,          8,          8,2,20140128,       1314,   -58.0281,   -30.9118,       3554,  2048.7,   0.2220,  34.6723,2,  34.6713,2,    217.1,2,   217.4,2,   120.5,2,    32.7,2,    0.00,2,   2.247,2,   0.754,2,   0.362,2,   0.219,2,  2259.3,2,  2357.3,2,  1119.37,2,      20,   7.5971,4,       25,-999.000,9,   0.2217,2,    0.47,2,  -155.5,2,     2.2,  39.48583786,2,  35.22926829,2,  2048.7,     18.743,2,    34.8348,2,     -999.0,9,         -999.0,9,  -999.0,9,20140128,       1347
33RO20131223,       A16S,     109,          1,          7,          7,2,20140128,       1314,   -58.0281,   -30.9118,       3554,  2249.5,   0.1476,  34.6690,2,  34.6684,2,    219.6,2,   220.1,2,   121.1,2,    32.6,2,    0.00,2,   2.249,2,   0.810,2,   0.389,2,   0.219,2,  2258.3,2, 2357.38,2,  1115.23,2,      20,   7.5815,2,       25,-999.000,9,   0.1474,2,    0.48,6,  -153.9,6,     1.6,  39.66437438,2,  35.27804878,2,  2249.5,     18.656,2,    34.8319,2,     -999.0,9,         -999.0,9,  -999.0,9,20140128,       1343
33RO20131223,       A16S,     109,          1,          6,          6,2,20140128,       1314,   -58.0281,   -30.9118,       3554,  2448.8,   0.0754,  34.6659,2,  34.6651,2,    221.7,2,   222.7,2,   121.4,2,    32.7,2,    0.00,2,   2.249,2,   0.877,2,   0.419,2,   0.233,2,  2257.3,2,  2358.8,2,  1112.24,2,      20,   7.5828,2,       25,-999.000,9,   0.0754,2,    0.49,2,  -155.9,2,     2.0,  39.61230123,2,  35.25853659,2,  2448.8,     18.595,2,    34.8285,2,     -999.0,9,         -999.0,9,  -999.0,9,20140128,       1339
33RO20131223,       A16S,     109,          1,          5,          5,2,20140128,       1314,   -58.0281,   -30.9118,       3554,  2749.2,   0.0207,  34.6631,2,  34.6626,2,    225.2,2,   226.1,2,   122.0,2,    32.6,2,    0.00,2,   2.248,2,   0.945,6,   0.455,2,   0.241,6,  2256.2,2, 2359.84,2,  1106.69,2,      20,   7.5825,2,       25,-999.000,9,   0.0205,2,    0.48,2,  -155.2,2,     1.7,   39.5676671,2,  35.26829268,2,  2749.2,     18.475,6,     34.826,6,     -999.0,9,         -999.0,9,  -999.0,9,20140128,       1333
33RO20131223,       A16S,     109,          1,          4,          4,2,20140128,       1314,   -58.0281,   -30.9118,       3554,  3048.3,  -0.0142,  34.6611,2,  34.6590,2,    227.7,2,   227.5,2,   122.5,6,    32.5,6,    0.00,6,   2.246,6,   0.999,2,   0.483,2,   0.273,2,  2257.2,2, 2357.95,2,   1113.6,2,      20,   7.5799,2,       25,-999.000,9,  -0.0143,2,    0.49,2,  -149.0,2,     2.1,  39.24778918,2,   35.1804878,2,  3048.3,     18.453,2,    34.8224,2,     -999.0,9,         -999.0,9,  -999.0,9,20140128,       1327
33RO20131223,       A16S,     109,          1,          3,          3,2,20140128,       1314,   -58.0281,   -30.9118,       3554,  3348.5,  -0.0226,  34.6598,2,  34.6572,2,    227.9,2,   229.1,2,   123.0,6,    32.6,6,    0.01,6,   2.249,6,   1.030,2,   0.500,2,   0.273,2,  2255.7,2, 2356.91,6,  1108.07,2,      20,    7.583,2,       25,-999.000,9,  -0.0227,2,    0.52,2,  -159.1,3,     1.8,  38.95766734,2,   35.2097561,2,  3348.5,     18.413,2,    34.8207,2,     -999.0,9,         -999.0,9,  -999.0,9,20140128,       1321
33RO20131223,       A16S,     109,          1,          2,          2,2,20140128,       1314,   -58.0281,   -30.9118,       3554,  3497.1,  -0.0171,  34.6594,2,  34.6589,2,    229.9,2,   229.3,2,   122.8,6,    32.5,6,    0.00,6,   2.248,6,   1.039,2,   0.500,2,   0.282,2,    2256,2, 2357.68,2,  1066.11,3,      20,   7.5832,6,       25,-999.000,9,  -0.0171,2,    0.58,6,  -152.3,6,     1.5,  39.21803309,2,  35.15121951,2,  3497.1,     18.362,2,    34.8224,2,     -999.0,9,         -999.0,9,  -999.0,9,20140128,       1317
33RO20131223,       A16S,     109,          1,          1,          1,2,20140128,       1314,   -58.0281,   -30.9118,       3554,  3605.7,  -0.0164,  34.6589,2,  34.6630,3,    229.9,2,   228.9,2,   123.4,6,    32.5,6,    0.01,6,   2.247,6,   1.053,2,   0.509,2,   0.289,2,  2258.6,6, 2356.84,2,  1110.39,2,      20,   7.7086,4,       25,-999.000,9,  -0.0167,2,    0.63,2,  -151.1,2,     2.4,  39.21059407,2,  35.09268293,2,  3605.7,     18.363,2,    34.8264,2,     -999.0,9,         -999.0,9,  -999.0,9,20140128,       1314