BOTTLE,20220815CCHSIOAMB
EXPOCODE,SECT_ID,STNNBR,CASTNO,SAMPNO,BTLNBR,BTLNBR_FLAG_W,DATE,TIME,LATITUDE,LONGITUDE,DEPTH,CTDPRS,CTDTMP,CTDSAL,CTDSAL_FLAG_W,SALNTY,SALNTY_FLAG_W,CTDOXY,CTDOXY_FLAG_W,OXYGEN,OXYGEN_FLAG_W,SILCAT,SILCAT_FLAG_W,NITRAT,NITRAT_FLAG_W,NITRIT,NITRIT_FLAG_W,PHSPHT,PHSPHT_FLAG_W,CFC-11,CFC-11_FLAG_W,CFC-12,CFC-12_FLAG_W,SF6,SF6_FLAG_W,TCARBN,TCARBN_FLAG_W,ALKALI,ALKALI_FLAG_W,PCO2,PCO2_FLAG_W,PCO2TMP,PH_SWS,PH_SWS_FLAG_W,PH_TMP,TRITUM,TRITUM_FLAG_W,REFTMP,REFTMP_FLAG_W,DELC13,DELC13_FLAG_W,DELC14,DELC14_FLAG_W,C14ERR,DOC,DOC_FLAG_W,TDN,TDN_FLAG_W,CTDRAW,N2O,N2O_FLAG_W,SALTREF,SALTREF_FLAG_W,HELIUM,HELIUM_FLAG_W,DELO18,DELO18_FLAG_W,CCL4,CCL4_FLAG_W,BTL_DATE,BTL_TIME
,,,,,,,,,,,METERS,DBAR,ITS-90,PSS-78,,PSS-78,,UMOL/KG,,UMOL/KG,,UMOL/KG,,UMOL/KG,,UMOL/KG,,UMOL/KG,,PMOL/KG,,PMOL/KG,,FMOL/KG,,UMOL/KG,,UMOL/KG,,UATM,,DEG C,,,DEG C,TU,,DEG C,,/MILLE,,/MILLE,,/MILLE,UMOL/KG,,UMOL/KG,,DBAR,NMOL/KG,,G/KG,,NMOL/KG,,/MILLE,,PMOL/KG,,,
33RO20131223,       A16S,      33,          2,         24,         24,2,20140105,       0523,   -21.9998,   -25.0001,       5133,     3.1,  26.1166,  37.2937,2,  37.2933,2,    202.6,2,   203.6,2,     0.9,2,     0.0,2,    0.00,2,   0.134,2,   1.588,3,   1.027,6,   1.214,6,  2115.9,6, 2446.78,2,   332.84,2,      20,    8.045,2,       25,-999.000,9,  26.1138,2, -999.00,9,  -999.0,9,  -999.0,  70.40322387,2,         4.49,2,     3.1,      6.181,6,    37.4692,2,     -999.0,9,         -999.0,9,  -999.0,9,20140105,       0715
33RO20131223,       A16S,      33,          2,         23,         23,2,20140105,       0523,   -21.9998,   -25.0001,       5133,    17.8,  26.0816,  37.2869,2,  37.2847,2,    203.2,2,   204.1,2,     0.9,2,     0.0,2,    0.00,2,   0.137,2,   1.592,3,   1.030,2,   1.215,2,  2114.6,2, 2447.04,2,   333.45,2,      20,   8.0452,6,       25,-999.000,9,  26.0833,2, -999.00,9,  -999.0,9,  -999.0,  68.75769607,2,         4.41,2,    17.8,      6.250,2,    37.4605,2,     -999.0,9,         -999.0,9,  -999.0,9,20140105,       0714
33RO20131223,       A16S,      33,          2,         22,         22,2,20140105,       0523,   -21.9998,   -25.0001,       5133,      48,  25.0336,  37.1693,2,  37.1588,2,    210.3,2,     213,2,     0.9,2,     0.0,2,    0.00,2,   0.133,2,   1.676,3,   1.081,2,   1.275,2,  2108.6,2, 2438.59,6,   332.54,2,      20,   8.0444,2,       25,-999.000,9,  25.0369,2, -999.00,9,  -999.0,9,  -999.0,  66.97005451,2,         4.12,2,    48.0,      6.514,2,    37.3341,2,     -999.0,9,         -999.0,9,  -999.0,9,20140105,       0712
33RO20131223,       A16S,      33,          2,         21,         21,2,20140105,       0523,   -21.9998,   -25.0001,       5133,    72.6,  23.6627,  37.0146,2,  37.0106,2,    218.5,2,   218.9,2,     0.9,2,     0.0,2,    0.00,2,   0.127,2,   1.772,3,   1.133,2,   1.299,2,  2103.6,2, 2425.54,2,   336.06,2,      20,   8.0389,2,       25,-999.000,9,  23.6611,2, -999.00,9,  -999.0,9,  -999.0,  64.84582772,2,         3.78,2,    72.6,      6.737,2,    37.1852,2,     -999.0,9,         -999.0,9,  -999.0,9,20140105,       0710
33RO20131223,       A16S,      33,          2,         20,         20,2,20140105,       0523,   -21.9998,   -25.0001,       5133,    97.6,  23.1400,  36.9437,2,  36.9371,2,    217.9,2,   218.8,2,     1.0,2,     0.0,2,    0.00,2,   0.125,2,   1.809,3,   1.152,2,   1.324,2,  2102.6,2, 2422.22,2,   340.89,2,      20,   8.0362,2,       25,-999.000,9,  23.1407,2, -999.00,9,  -999.0,9,  -999.0,  62.06338981,2,         3.69,2,    97.6,      6.831,2,    37.1112,2,     -999.0,9,         -999.0,9,  -999.0,9,20140105,       0708
33RO20131223,       A16S,      33,          2,         19,         19,2,20140105,       0523,   -21.9998,   -25.0001,       5133,   147.9,  21.6224,  36.6947,2,  36.6569,2,    212.8,2,   212.4,2,     1.1,2,     0.1,2,    0.01,2,   0.173,2,   1.934,3,   1.222,2,   1.325,2,  2110.8,2, 2408.97,2,   374.45,2,      20,   7.9992,2,       25,-999.000,9,  21.6494,2, -999.00,9,  -999.0,9,  -999.0,  56.61070906,2,         3.64,2,   147.9,      7.284,2,    36.8298,2,     -999.0,9,         -999.0,9,  -999.0,9,20140105,       0706
33RO20131223,       A16S,      33,          2,         18,         18,2,20140105,       0523,   -21.9998,   -25.0001,       5133,   218.2,  17.9308,  35.9845,2,  36.0031,2,    206.3,2,   205.3,2,     1.8,2,     2.5,2,    0.02,2,   0.361,2,   2.287,3,   1.411,2,   1.388,2,  2114.1,2,  2362.5,2,   449.07,6,      20,   7.9264,2,       25,-999.000,9,  17.9351,2, -999.00,9,  -999.0,9,  -999.0,  49.20686243,2,          5.1,2,   218.2,      8.781,2,    36.1729,2,     -999.0,9,         -999.0,9,  -999.0,9,20140105,       0704
33RO20131223,       A16S,      33,          2,         17,         17,2,20140105,       0523,   -21.9998,   -25.0001,       5133,   296.4,  14.5975,  35.4026,2,  35.4079,2,    203.1,2,   202.7,2,     3.1,2,     7.7,2,    0.01,2,   0.637,2,   2.651,3,   1.594,2,   1.334,2,  2120.8,2, 2324.58,2,  537.715,6,      20,   7.8586,2,       25,-999.000,9,  14.6177,2, -999.00,9,  -999.0,9,  -999.0,  45.51377448,2,        10.15,2,   296.4,     11.336,2,    35.5748,2,     -999.0,9,         -999.0,9,  -999.0,9,20140105,       0701
33RO20131223,       A16S,      33,          2,         16,         16,2,20140105,       0523,   -21.9998,   -25.0001,       5133,   407.6,  11.8179,  35.0251,2,  35.0222,2,    197.5,2,   196.6,2,     5.6,2,    14.5,2,    0.01,2,   1.038,2,   2.882,3,   1.677,2,   1.174,2,  2141.5,2, 2312.55,2,   666.65,2,      20,   7.7743,2,       25,-999.000,9,  11.8348,2, -999.00,9,  -999.0,9,  -999.0,  43.74109226,2,        17.23,2,   407.6,     14.760,2,    35.1874,2,     -999.0,9,         -999.0,9,  -999.0,9,20140105,       0659
33RO20131223,       A16S,      33,          2,         15,         15,2,20140105,       0523,   -21.9998,   -25.0001,       5133,   588.3,   7.4300,  34.5530,2,  34.5567,2,    178.3,2,   176.7,2,    15.5,6,    26.6,6,    0.00,6,   1.791,6,   2.452,3,   1.319,2,   0.602,2,  2183.8,2, 2294.58,6,   948.02,2,      20,   7.6327,2,       25,-999.000,9,   7.4368,2, -999.00,9,  -999.0,9,  -999.0,  42.52237323,2,        29.12,2,   588.3,     20.129,2,    34.7196,2,     -999.0,9,         -999.0,9,  -999.0,9,20140105,       0655
33RO20131223,       A16S,      33,          2,         14,         14,2,20140105,       0523,   -21.9998,   -25.0001,       5133,   732.5,   5.2309,  34.4101,2,  34.4099,2,    182.9,2,   182.7,2,    25.9,2,    31.1,2,    0.00,2,   2.098,2,   1.662,3,   0.864,2,   0.318,2,  2200.3,2, 2292.07,2,  1050.55,2,      20,   7.5929,2,       25,-999.000,9,   5.2408,2, -999.00,9,  -999.0,9,  -999.0,  40.99343482,2,        33.72,2,   732.5,     21.070,2,    34.5722,6,     -999.0,9,         -999.0,9,  -999.0,9,20140105,       0651
33RO20131223,       A16S,      33,          2,         13,         13,2,20140105,       0523,   -21.9998,   -25.0001,       5133,   872.9,   4.1955,  34.4116,2,  34.4107,2,    183.1,2,   183.2,2,    34.8,6,    32.5,6,    0.00,6,   2.201,6,   0.878,3,   0.449,2,   0.122,2,  2213.3,2, 2303.27,2,  1083.57,2,      20,   7.5822,2,       25,-999.000,9,   4.1962,2, -999.00,9,  -999.0,9,  -999.0,  40.27697576,2,        35.08,2,   872.9,     21.336,2,    34.5729,2,     -999.0,9,         -999.0,9,  -999.0,9,20140105,       0648
33RO20131223,       A16S,      33,          2,         12,         12,2,20140105,       0523,   -21.9998,   -25.0001,       5133,  1047.7,   3.6318,  34.5233,2,  34.5257,2,    181.2,2,   181.8,2,    41.7,2,    32.1,2,    0.00,2,   2.183,2,   0.255,3,   0.127,2,   0.021,2,  2218.3,6, 2314.44,2,  1073.62,2,      20,   7.5826,2,       25,-999.000,9,   3.6309,2, -999.00,9,  -999.0,9,  -999.0,   40.6019675,2,        34.67,2,  1047.7,     21.179,2,    34.6885,2,     -999.0,9,         -999.0,9,  -999.0,9,20140105,       0644
33RO20131223,       A16S,      33,          2,         11,         11,2,20140105,       0523,   -21.9998,   -25.0001,       5133,  1348.8,   3.2861,  34.7078,2,  34.7088,2,    196.1,2,   196.2,2,    44.9,6,    28.9,6,    0.00,6,   1.955,6,   0.112,3,   0.052,2,   0.000,2,  2219.3,3, 2327.09,2,   980.04,2,      20,   7.6218,2,       25,-999.000,9,   3.2862,2, -999.00,9,  -999.0,9,  -999.0,  41.14115834,2,        31.43,2,  1348.8,     19.209,2,    34.8725,2,     -999.0,9,         -999.0,9,  -999.0,9,20140105,       0638
33RO20131223,       A16S,      33,          2,         10,         10,2,20140105,       0523,   -21.9998,   -25.0001,       5133,  1747.1,   3.5312,  34.9425,2,  34.9423,2,    241.4,2,   242.2,2,    23.4,2,    21.0,2,    0.00,2,   1.385,2,   0.227,3,   0.112,2,   0.038,2,  -999.0,5, 2321.18,2,   775.09,2,      20,   7.7159,2,       25,-999.000,9,   3.5313,2, -999.00,9,  -999.0,9,  -999.0,  41.95363769,2,        23.65,2,  1747.1,     14.227,2,    35.1071,2,     -999.0,9,         -999.0,9,  -999.0,9,20140105,       0630
33RO20131223,       A16S,      33,          2,          9,          9,2,20140105,       0523,   -21.9998,   -25.0001,       5133,  2149.2,   3.2123,  34.9431,2,  34.9443,2,    248.6,2,   249.5,2,    25.4,2,    20.4,2,    0.00,2,   1.349,2,   0.162,3,   0.078,2,   0.014,2,  -999.0,5, 2324.79,2,   755.48,2,      20,   7.7252,2,       25,-999.000,9,   3.2124,2, -999.00,9,  -999.0,9,  -999.0,  42.36726354,2,        22.97,2,  2149.2,     13.703,2,    35.1091,2,     -999.0,9,         -999.0,9,  -999.0,9,20140105,       0622
33RO20131223,       A16S,      33,          2,          8,          8,2,20140105,       0523,   -21.9998,   -25.0001,       5133,  2598.9,   2.9109,  34.9262,2,  34.9252,2,      248,2,   248.4,2,    30.9,2,    20.9,2,    0.00,2,   1.385,2,   0.072,3,   0.032,2,   0.000,2,  -999.0,5, 2326.17,2,   761.02,6,      20,   7.7238,2,       25,-999.000,9,   2.9109,2, -999.00,9,  -999.0,9,  -999.0,  42.00534092,2,        23.61,2,  2598.9,     13.727,2,    35.0899,2,     -999.0,9,         -999.0,9,  -999.0,9,20140105,       0614
33RO20131223,       A16S,      33,          2,          7,          7,2,20140105,       0523,   -21.9998,   -25.0001,       5133,  2998.2,   2.7588,  34.9169,2,  34.9161,2,      249,2,     249,2,    33.8,2,    21.1,2,    0.00,2,   1.403,2,   0.067,3,   0.029,2,   0.000,2,  2180.8,2, 2330.12,2,   763.82,2,      20,   7.7222,2,       25,-999.000,9,   2.7588,2, -999.00,9,  -999.0,9,  -999.0,  41.60648742,2,        23.74,2,  2998.2,     13.700,2,    35.0807,2,     -999.0,9,         -999.0,9,  -999.0,9,20140105,       0606
33RO20131223,       A16S,      33,          2,          6,          6,2,20140105,       0523,   -21.9998,   -25.0001,       5133,  3398.9,   2.5802,  34.9064,2,  34.9049,2,    251.8,2,   250.6,2,    36.5,2,    21.1,2,    0.00,2,   1.408,2,   0.083,3,   0.037,2,   0.000,2,  2182.9,2, 2331.71,2,   765.71,2,      20,    7.723,2,       25,-999.000,9,   2.5803,2, -999.00,9,  -999.0,9,  -999.0,  40.97866247,2,        23.77,2,  3398.9,     13.676,2,    35.0695,2,     -999.0,9,         -999.0,9,  -999.0,9,20140105,       0558
33RO20131223,       A16S,      33,          2,          5,          5,2,20140105,       0523,   -21.9998,   -25.0001,       5133,  3799.1,   2.1906,  34.8685,2,  34.8675,2,    246.8,2,   246.5,2,    50.3,6,    22.8,6,    0.00,6,   1.536,6,   0.041,3,   0.016,2,   0.025,2,  2194.5,2, 2341.02,6,   799.59,2,      20,   7.7068,2,       25,-999.000,9,   2.1909,2, -999.00,9,  -999.0,9,  -999.0,  40.46901633,2,        25.43,2,  3799.1,     14.156,2,    35.0319,2,     -999.0,9,         -999.0,9,  -999.0,9,20140105,       0551
33RO20131223,       A16S,      33,          2,          4,          4,2,20140105,       0523,   -21.9998,   -25.0001,       5133,  4198.1,   1.6326,  34.8095,2,  34.8101,2,    237.2,2,   236.9,2,    73.1,6,    26.0,6,    0.00,6,   1.758,6,   0.030,3,   0.010,2,   0.075,2,  2217.7,2, 2353.13,2,  869.865,2,      20,   7.6777,2,       25,-999.000,9,   1.6322,2, -999.00,9,  -999.0,9,  -999.0,  39.88550844,2,        28.69,2,  4198.1,     15.435,2,    34.9743,6,     -999.0,9,         -999.0,9,  -999.0,9,20140105,       0543
33RO20131223,       A16S,      33,          2,          3,          3,2,20140105,       0523,   -21.9998,   -25.0001,       5133,  4597.9,   1.2249,  34.7638,2,  34.7637,2,    229.4,2,   229.9,2,    90.4,2,    28.4,2,    0.00,2,   1.931,2,   0.047,3,   0.018,2,   0.052,2,  2234.2,2,  2366.5,2,   929.25,2,      20,   7.6509,6,       25,-999.000,9,   1.2251,2, -999.00,9,  -999.0,9,  -999.0,  39.23552496,2,        31.02,2,  4597.9,     16.396,2,    34.9276,2,     -999.0,9,         -999.0,9,  -999.0,9,20140105,       0536
33RO20131223,       A16S,      33,          2,          2,          2,2,20140105,       0523,   -21.9998,   -25.0001,       5133,  4998.1,   0.8564,  34.7219,2,  34.7206,2,    223.8,2,   224.1,2,   106.4,2,    30.5,2,    0.00,2,   2.086,2,   0.126,3,   0.058,2,   0.067,2,    2250,2, -999.00,5,  986.545,6,      20,   7.6241,2,       25,-999.000,9,    0.857,2, -999.00,9,  -999.0,9,  -999.0,  39.66392316,2,        33.22,2,  4998.1,     17.175,2,    34.8843,2,     -999.0,9,         -999.0,9,  -999.0,9,20140105,       0528
33RO20131223,       A16S,      33,          2,          1,          1,2,20140105,       0523,   -21.9998,   -25.0001,       5133,  5214.9,   0.7429,  34.7078,2,  34.7073,2,    222.3,2,   223.5,2,   111.9,6,    31.1,6,    0.01,6,   2.129,6,   0.165,3,   0.077,2,   0.052,2,    2257,6, 2366.85,2,  1018.17,2,      20,   7.6351,3,       25,-999.000,9,   0.7428,2, -999.00,9,  -999.0,9,  -999.0,  39.67130933,2,        33.65,2,  5214.9,     17.580,2,    34.8709,2,     -999.0,9,         -999.0,9,  -999.0,9,20140105,       0523