BOTTLE,20220815CCHSIOAMB
EXPOCODE,SECT_ID,STNNBR,CASTNO,SAMPNO,BTLNBR,BTLNBR_FLAG_W,DATE,TIME,LATITUDE,LONGITUDE,DEPTH,CTDPRS,CTDTMP,CTDSAL,CTDSAL_FLAG_W,SALNTY,SALNTY_FLAG_W,CTDOXY,CTDOXY_FLAG_W,OXYGEN,OXYGEN_FLAG_W,SILCAT,SILCAT_FLAG_W,NITRAT,NITRAT_FLAG_W,NITRIT,NITRIT_FLAG_W,PHSPHT,PHSPHT_FLAG_W,CFC-11,CFC-11_FLAG_W,CFC-12,CFC-12_FLAG_W,SF6,SF6_FLAG_W,TCARBN,TCARBN_FLAG_W,ALKALI,ALKALI_FLAG_W,PCO2,PCO2_FLAG_W,PCO2TMP,PH_SWS,PH_SWS_FLAG_W,PH_TMP,TRITUM,TRITUM_FLAG_W,REFTMP,REFTMP_FLAG_W,DELC13,DELC13_FLAG_W,DELC14,DELC14_FLAG_W,C14ERR,DOC,DOC_FLAG_W,TDN,TDN_FLAG_W,CTDRAW,N2O,N2O_FLAG_W,SALTREF,SALTREF_FLAG_W,HELIUM,HELIUM_FLAG_W,DELO18,DELO18_FLAG_W,CCL4,CCL4_FLAG_W,BTL_DATE,BTL_TIME
,,,,,,,,,,,METERS,DBAR,ITS-90,PSS-78,,PSS-78,,UMOL/KG,,UMOL/KG,,UMOL/KG,,UMOL/KG,,UMOL/KG,,UMOL/KG,,PMOL/KG,,PMOL/KG,,FMOL/KG,,UMOL/KG,,UMOL/KG,,UATM,,DEG C,,,DEG C,TU,,DEG C,,/MILLE,,/MILLE,,/MILLE,UMOL/KG,,UMOL/KG,,DBAR,NMOL/KG,,G/KG,,NMOL/KG,,/MILLE,,PMOL/KG,,,
33RO20131223,       A16S,       5,          2,          1,          1,2,20131227,       1125,    -7.9989,   -24.9992,       5709,     3.3,  26.3639,  36.2579,2,  36.2582,6,    201.1,2,   202.2,2,     1.2,2,     0.1,2,    0.00,2,   0.096,2,   1.630,3,   1.095,3,   1.337,3,  2058.2,4, 2378.53,2,   326.43,2,      20,   8.0545,3,       25,-999.000,1,  26.3695,2, -999.00,9,  -999.0,9,  -999.0,-999.00000000,9,-999.00000000,9,     3.3,      6.482,3,    36.4292,6,     -999.0,1,         -999.0,9,  -999.0,9,20131227,       1331
33RO20131223,       A16S,       5,          2,         24,         24,2,20131227,       1125,    -7.9989,   -24.9992,       5709,      18,  26.2671,  36.2562,2,  36.2567,2,    201.5,2,   202.3,2,     1.1,2,     0.0,2,    0.00,2,   0.081,2,   1.645,3,   1.096,3,   1.305,3,    2061,6, 2377.81,2,   330.11,2,      20,    8.049,2,       25,-999.000,1,  26.2673,2, -999.00,9,  -999.0,9,  -999.0,  73.43025518,2,         5.69,2,    18.0,      5.658,3,    36.4276,2,     -999.0,1,         -999.0,1,  -999.0,9,20131227,       1329
33RO20131223,       A16S,       5,          2,         23,         23,2,20131227,       1125,    -7.9989,   -24.9992,       5709,    48.3,  26.2583,  36.2558,2,  36.2605,2,    202.3,2,   202.2,2,     1.1,2,     0.0,2,    0.00,2,   0.083,2,   1.645,3,   1.093,3,   1.332,3,  2059.7,2, 2377.16,6,   330.95,6,      20,   8.0454,2,       25,-999.000,1,  26.2576,2, -999.00,9,  -999.0,9,  -999.0,  71.46013402,2,         5.02,2,    48.3,      5.704,3,    36.4315,2,     -999.0,1,         -999.0,1,  -999.0,9,20131227,       1327
33RO20131223,       A16S,       5,          2,         22,         22,2,20131227,       1125,    -7.9989,   -24.9992,       5709,    73.9,  26.2294,  36.2569,2,  36.2794,2,    202.7,2,   203.5,2,     1.1,2,     0.0,2,    0.00,2,   0.089,2,   1.646,3,   1.096,3,   1.321,3,  2058.3,2, 2377.52,2,   329.66,2,      20,   8.0504,6,       25,-999.000,1,  26.2282,2, -999.00,9,  -999.0,9,  -999.0,  70.51155716,2,         5.32,2,    73.9,      5.804,3,    36.4504,2,     -999.0,1,         -999.0,1,  -999.0,9,20131227,       1325
33RO20131223,       A16S,       5,          2,         21,         21,2,20131227,       1125,    -7.9989,   -24.9992,       5709,      99,  25.8759,  36.4256,2,  36.4761,2,    204.2,2,   204.8,2,     0.9,2,     0.0,2,    0.00,2,   0.079,2,   1.679,3,   1.115,3,   1.290,3,  2060.5,2, 2392.68,2,   320.14,2,      20,    8.063,2,       25,-999.000,1,  25.8417,2, -999.00,9,  -999.0,9,  -999.0,  69.63594776,2,         5.09,2,    99.0,      6.182,3,    36.6481,2,     -999.0,1,         -999.0,1,  -999.0,9,20131227,       1323
33RO20131223,       A16S,       5,          2,         20,         20,2,20131227,       1125,    -7.9989,   -24.9992,       5709,   148.2,  20.8995,  36.5336,2,  36.5189,2,    176.2,2,   172.7,2,     1.9,2,     4.4,2,    0.14,2,   0.472,2,   2.045,3,   1.316,3,   1.273,3,    2141,2, 2393.56,2,   455.83,2,      20,   7.9303,2,       25,-999.000,1,  20.8983,2, -999.00,9,  -999.0,9,  -999.0,  57.13662349,2,         7.88,2,   148.2,     10.889,3,    36.6911,2,     -999.0,1,         -999.0,1,  -999.0,9,20131227,       1321
33RO20131223,       A16S,       5,          2,         19,         19,2,20131227,       1125,    -7.9989,   -24.9992,       5709,   217.4,  13.7549,  35.4203,2,  35.4101,2,    117.3,2,   114.1,2,     6.9,2,    20.3,2,    0.01,2,   1.360,2,   2.174,3,   1.288,3,   0.846,3,  2188.6,2, 2322.57,2,  825.855,2,      20,   7.6957,2,       25,-999.000,1,  13.7535,2, -999.00,9,  -999.0,9,  -999.0,  49.48233793,2,        23.26,2,   217.4,     25.683,3,    35.5772,2,     -999.0,1,         -999.0,1,  -999.0,9,20131227,       1319
33RO20131223,       A16S,       5,          2,         18,         18,2,20131227,       1125,    -7.9989,   -24.9992,       5709,   287.7,  10.3294,  34.9643,2,  34.9891,2,     94.8,4,      94,2,    12.3,2,    28.6,2,    0.01,2,   1.896,2,   1.525,3,   0.853,3,   0.342,3,  2213.5,2, 2287.05,3,  1115.85,2,      20,   7.5729,2,       25,-999.000,1,  10.3267,2, -999.00,9,  -999.0,9,  -999.0,  47.18386324,2,        31.15,2,   287.7,     32.863,3,    35.1541,2,     -999.0,1,         -999.0,1,  -999.0,9,20131227,       1316
33RO20131223,       A16S,       5,          2,         17,         17,2,20131227,       1125,    -7.9989,   -24.9992,       5709,   408.4,   7.9469,  34.6946,2,  34.6943,2,    107.2,2,   104.4,2,    17.5,6,    32.6,6,    0.00,6,   2.178,6,   1.042,3,   0.561,3,   0.163,3,  2221.3,6, 2283.29,3,  1226.96,3,      20,   7.5266,2,       25,-999.000,1,   7.9442,2, -999.00,9,  -999.0,9,  -999.0,    44.586222,2,        35.18,2,   408.4,     31.449,3,    34.8579,2,     -999.0,1,         -999.0,1,  -999.0,9,20131227,       1313
33RO20131223,       A16S,       5,          2,         16,         16,2,20131227,       1125,    -7.9989,   -24.9992,       5709,     567,   6.2372,  34.5470,2,  34.5497,2,    120.8,2,   122.2,2,    23.2,6,    34.5,6,    0.00,6,   2.350,6,   0.635,3,   0.337,3,   0.078,3,    2223,2, 2286.15,2,  1283.11,2, -999.00,   7.5168,2,       25,-999.000,1,   6.2373,2, -999.00,9,  -999.0,9,  -999.0,  43.64494189,2,        37.16,2,   567.0,     28.016,3,    34.7126,2,     -999.0,1,         -999.0,1,  -999.0,9,20131227,       1309
33RO20131223,       A16S,       5,          2,         15,         15,4,20131227,       1125,    -7.9989,   -24.9992,       5709,   717.7,   5.1139,  34.4771,2,  34.4777,2,    143.6,2,   144.7,2,    28.3,6,    34.5,6,    0.00,6,   2.409,6,   0.440,3,   0.230,3,   0.099,3,  2220.2,2,  2309.4,3,-999.0000,9,      20,   7.5371,2,       25,-999.000,1,   5.1191,2, -999.00,9,  -999.0,9,  -999.0,  42.24396684,2,        37.09,2,   717.7,     25.466,3,    34.6403,2,     -999.0,1,         -999.0,1,  -999.0,9,20131227,       1305
33RO20131223,       A16S,       5,          2,         14,         14,4,20131227,       1125,    -7.9989,   -24.9992,       5709,   872.3,   4.4096,  34.4849,3,  34.8941,4,    152.9,4,   251.9,4,    39.6,3,    21.0,3,    0.00,3,   1.414,3,   0.073,3,   0.039,3,   0.000,3,  2188.5,4, 2332.39,4,   768.65,4,      20,   7.7242,4,       25,-999.000,1,   4.4091,3, -999.00,9,  -999.0,9,  -999.0,  41.63104026,3,        23.67,3,   872.3,     14.052,3,    35.0586,3,     -999.0,1,         -999.0,1,  -999.0,9,20131227,       1302
33RO20131223,       A16S,       5,          2,         13,         13,2,20131227,       1125,    -7.9989,   -24.9992,       5709,  1048.1,   4.1527,  34.5955,2,  34.6026,2,    162.3,2,   162.8,2,    34.0,2,    32.4,2,    0.00,2,   2.280,2,   0.054,3,   0.029,3,   0.000,3,  2221.7,2, 2306.86,2,  1123.44,2,      20,   7.5715,2,       25,-999.000,1,   4.1529,2, -999.00,9,  -999.0,9,  -999.0,  41.44862163,2,        35.06,2,  1048.1,     22.887,3,    34.7657,2,     -999.0,1,         -999.0,1,  -999.0,9,20131227,       1257
33RO20131223,       A16S,       5,          2,         12,         12,2,20131227,       1125,    -7.9989,   -24.9992,       5709,  1348.9,   4.2449,  34.8665,2,  34.8685,2,    201.1,2,   201.1,2,    24.3,2,    25.5,2,    0.00,2,   1.739,2,   0.089,3,   0.049,3,   0.042,3,  2194.7,2, 2313.29,2,   907.43,2,      20,   7.6588,4,       25,-999.000,1,   4.2449,2, -999.00,9,  -999.0,9,  -999.0,  41.83534912,2,        28.12,2,  1348.9,     18.216,3,    35.0329,2,     -999.0,1,         -999.0,1,  -999.0,9,20131227,       1250
33RO20131223,       A16S,       5,          2,         11,         11,2,20131227,       1125,    -7.9989,   -24.9992,       5709,  1748.8,   3.7772,  34.9580,2,  34.9586,2,    239.6,2,   238.4,2,    21.1,2,    20.8,2,    0.00,2,   1.384,2,   0.189,3,   0.102,3,   0.045,3,  2175.3,2, 2316.28,2,  783.675,2,      20,   8.0906,4,       25,-999.000,1,    3.777,2, -999.00,9,  -999.0,9,  -999.0,  42.25856033,2,        23.11,2,  1748.8,     14.903,3,    35.1235,2,     -999.0,1,         -999.0,1,  -999.0,9,20131227,       1242
33RO20131223,       A16S,       5,          2,         10,         10,2,20131227,       1125,    -7.9989,   -24.9992,       5709,  2148.5,   3.1845,  34.9340,2,  34.9348,6,    242.7,2,     242,2,    29.4,2,    21.2,2,    0.00,2,   1.417,2,   0.063,3,   0.035,3,   0.000,3,  2181.4,2, 2314.64,2,      779,2,      20,    9.041,4,       25,-999.000,1,   3.1843,2, -999.00,9,  -999.0,9,  -999.0,  41.83534912,2,         23.8,2,  2148.5,     14.620,3,    35.0995,6,     -999.0,1,         -999.0,9,  -999.0,9,20131227,       1235
33RO20131223,       A16S,       5,          2,          9,          9,2,20131227,       1125,    -7.9989,   -24.9992,       5709,  2597.6,   2.7893,  34.9094,2,  34.9102,2,    238.3,2,   239.4,2,    38.4,2,    22.1,2,    0.00,2,   1.490,2,   0.011,3,   0.008,3,   0.000,3,  2190.5,2, 2332.93,2,  791.995,2,      20,   7.7145,2,       25,-999.000,1,   2.7889,2, -999.00,9,  -999.0,9,  -999.0,   40.8283983,2,        24.42,2,  2597.6,     14.721,3,    35.0749,2,     -999.0,1,         -999.0,9,  -999.0,9,20131227,       1226
33RO20131223,       A16S,       5,          2,          8,          8,2,20131227,       1125,    -7.9989,   -24.9992,       5709,  3098.2,   2.6351,  34.9080,2,  34.9090,2,    244.7,2,   245.1,2,    38.2,2,    21.5,2,    0.00,2,   1.453,2,   0.021,3,   0.014,3,   0.000,3,  2187.6,2, 2298.31,4,  776.755,2,      20,   7.7209,2,       25,-999.000,9,   2.6348,2, -999.00,9,  -999.0,9,  -999.0,  40.55841874,2,        24.09,2,  3098.2,     14.612,3,    35.0736,2,     -999.0,1,         -999.0,9,  -999.0,9,20131227,       1216
33RO20131223,       A16S,       5,          2,          7,          7,2,20131227,       1125,    -7.9989,   -24.9992,       5709,  3598.9,   2.4725,  34.9020,2,  34.9020,2,    252.5,2,   252.2,2,    37.6,2,    20.8,2,    0.00,2,   1.401,2,   0.071,3,   0.038,3,   0.035,3,  2184.2,2, 2379.74,4,    768.1,2,      20,    7.725,2,       25,-999.000,1,   2.4728,2, -999.00,9,  -999.0,9,  -999.0,   40.7627276,2,        23.18,2,  3598.9,     14.067,3,    35.0666,2,     -999.0,1,         -999.0,9,  -999.0,9,20131227,       1207
33RO20131223,       A16S,       5,          2,          6,          6,2,20131227,       1125,    -7.9989,   -24.9992,       5709,  4097.4,   1.7678,  34.8273,2,  34.8261,2,    239.9,2,   239.9,2,    66.9,2,    24.8,2,    0.00,2,   1.713,2,   0.030,3,   0.017,3,   0.000,3,  2214.6,2, 2347.85,3,   849.92,2,      20,   7.6878,4,       25,-999.000,9,   1.7669,2, -999.00,9,  -999.0,9,  -999.0,  40.70435364,2,        27.24,2,  4097.4,     15.641,3,    34.9903,2,     -999.0,1,         -999.0,9,  -999.0,9,20131227,       1158
33RO20131223,       A16S,       5,          2,          5,          5,2,20131227,       1125,    -7.9989,   -24.9992,       5709,  4598.1,   0.9622,  34.7400,2,  34.7408,2,      225,2,   226.2,2,   100.8,2,    29.4,2,    0.00,2,   2.068,2,   0.040,3,   0.023,3,   0.026,3,    2246,2, 2363.62,3,   964.66,2,      20,   7.6398,4,       25,-999.000,1,    0.962,2, -999.00,9,  -999.0,9,  -999.0,  39.69740282,2,        31.81,2,  4598.1,     17.528,3,    34.9046,2,     -999.0,1,         -999.0,9,  -999.0,9,20131227,       1148
33RO20131223,       A16S,       5,          2,          4,          4,2,20131227,       1125,    -7.9989,   -24.9992,       5709,  5098.6,   0.8006,  34.7176,2,  34.7189,2,      221,2,   222.2,2,   109.3,2,    30.5,2,    0.00,2,   2.154,2,   0.070,3,   0.036,3,   0.023,3,  2254.2,2, 2367.43,2,   997.15,2,      20,   7.6264,2,       25,-999.000,9,   0.8006,2, -999.00,9,  -999.0,9,  -999.0,  39.71929306,2,        32.96,2,  5098.6,     18.146,3,    34.8827,2,     -999.0,1,         -999.0,9,  -999.0,9,20131227,       1139
33RO20131223,       A16S,       5,          2,          3,          3,2,20131227,       1125,    -7.9989,   -24.9992,       5709,  5599.2,   0.7342,  34.7035,2,  34.7070,2,    219.5,3,   220.1,2,   114.5,2,    31.1,2,    0.00,2,   2.204,2,   0.122,3,   0.063,3,   0.040,3,  2258.6,2, 2367.89,2,  1018.24,6,      20,   7.6173,2,       25,-999.000,1,   0.7344,2, -999.00,9,  -999.0,9,  -999.0,  39.03339902,2,        33.63,2,  5599.2,     18.267,3,    34.8706,2,     -999.0,1,         -999.0,9,  -999.0,9,20131227,       1130
33RO20131223,       A16S,       5,          2,          2,          2,2,20131227,       1125,    -7.9989,   -24.9992,       5709,    5804,   0.7523,  34.7019,2,  34.7056,2,    219.9,3,   219.8,2,   114.9,2,    31.2,2,    0.00,2,   2.231,2,   0.134,3,   0.069,3,   0.000,3,  2261.6,6, 2368.76,2,  1018.98,2,      20,   7.6236,2,       25,-999.000,9,   0.7523,2, -999.00,9,  -999.0,9,  -999.0,  39.50768745,2,        33.81,2,  5804.0,     18.350,3,    34.8692,2,     -999.0,1,         -999.0,9,  -999.0,9,20131227,       1125