BOTTLE,20220815CCHSIOAMB
EXPOCODE,SECT_ID,STNNBR,CASTNO,SAMPNO,BTLNBR,BTLNBR_FLAG_W,DATE,TIME,LATITUDE,LONGITUDE,DEPTH,CTDPRS,CTDTMP,CTDSAL,CTDSAL_FLAG_W,SALNTY,SALNTY_FLAG_W,CTDOXY,CTDOXY_FLAG_W,OXYGEN,OXYGEN_FLAG_W,SILCAT,SILCAT_FLAG_W,NITRAT,NITRAT_FLAG_W,NITRIT,NITRIT_FLAG_W,PHSPHT,PHSPHT_FLAG_W,CFC-11,CFC-11_FLAG_W,CFC-12,CFC-12_FLAG_W,SF6,SF6_FLAG_W,TCARBN,TCARBN_FLAG_W,ALKALI,ALKALI_FLAG_W,PCO2,PCO2_FLAG_W,PCO2TMP,PH_SWS,PH_SWS_FLAG_W,PH_TMP,TRITUM,TRITUM_FLAG_W,REFTMP,REFTMP_FLAG_W,DELC13,DELC13_FLAG_W,DELC14,DELC14_FLAG_W,C14ERR,DOC,DOC_FLAG_W,TDN,TDN_FLAG_W,CTDRAW,N2O,N2O_FLAG_W,SALTREF,SALTREF_FLAG_W,HELIUM,HELIUM_FLAG_W,DELO18,DELO18_FLAG_W,CCL4,CCL4_FLAG_W,BTL_DATE,BTL_TIME
,,,,,,,,,,,METERS,DBAR,ITS-90,PSS-78,,PSS-78,,UMOL/KG,,UMOL/KG,,UMOL/KG,,UMOL/KG,,UMOL/KG,,UMOL/KG,,PMOL/KG,,PMOL/KG,,FMOL/KG,,UMOL/KG,,UMOL/KG,,UATM,,DEG C,,,DEG C,TU,,DEG C,,/MILLE,,/MILLE,,/MILLE,UMOL/KG,,UMOL/KG,,DBAR,NMOL/KG,,G/KG,,NMOL/KG,,/MILLE,,PMOL/KG,,,
33RO20131223,       A16S,      24,          1,         24,         24,2,20140102,       0908,   -17.5023,        -25,       5172,     3.1,  25.2696,  37.2892,2,  37.2886,2,    204.3,2,   205.8,2,     0.8,2,     0.0,2,    0.00,2,   0.142,2,   1.591,2,   1.055,2,   1.221,2,  2114.5,6, 2442.28,2,-999.0000,9, -999.00,   8.0431,2,       25,-999.000,9,-999.0000,9, -999.00,9,  -999.0,9,  -999.0,-999.00000000,9,-999.00000000,9,     3.1,      6.268,2,    37.4645,2,     -999.0,9,         -999.0,9,  -999.0,9,20140102,       1059
33RO20131223,       A16S,      24,          1,         23,         23,2,20140102,       0908,   -17.5023,        -25,       5172,    28.6,  25.2314,  37.2845,2,  37.2818,2,    204.2,2,   205.6,2,     0.8,2,     0.0,2,    0.00,2,   0.147,2,-999.000,9,-999.000,9,-999.000,9,  -999.0,9, -999.00,9,-999.0000,9, -999.00,-999.0000,9,  -999.00,-999.000,9,-999.0000,9, -999.00,9,  -999.0,9,  -999.0,-999.00000000,9,-999.00000000,9,    28.6,     -999.0,9,    37.4576,2,     -999.0,9,         -999.0,9,  -999.0,9,20140102,       1057
33RO20131223,       A16S,      24,          1,         22,         22,2,20140102,       0908,   -17.5023,        -25,       5172,    62.5,  24.1345,  37.1071,2,  37.1063,2,    213.9,2,   215.1,2,     0.8,2,     0.0,2,    0.00,2,   0.174,2,   1.699,2,   1.115,2,   1.298,2,  2112.1,2, 2436.27,6,-999.0000,9, -999.00,   8.0376,6,       25,-999.000,9,  24.1391,2, -999.00,9,  -999.0,9,  -999.0,-999.00000000,9,-999.00000000,9,    62.5,      6.558,2,    37.2812,2,     -999.0,9,         -999.0,9,  -999.0,9,20140102,       1055
33RO20131223,       A16S,      24,          1,         21,         21,2,20140102,       0908,   -17.5023,        -25,       5172,     113,  23.1765,  37.0170,2,  37.0144,2,    211.5,2,   212.7,2,     0.9,2,     0.0,2,    0.00,2,   0.193,2,-999.000,9,-999.000,9,-999.000,9,  2113.4,2, 2429.66,2,-999.0000,9, -999.00,   8.0313,2,       25,-999.000,9,  23.1818,2, -999.00,9,  -999.0,9,  -999.0,-999.00000000,9,-999.00000000,9,   113.0,     -999.0,9,    37.1889,2,     -999.0,9,         -999.0,9,  -999.0,9,20140102,       1053
33RO20131223,       A16S,      24,          1,         20,         20,2,20140102,       0908,   -17.5023,        -25,       5172,   182.8,  19.3833,  36.2709,2,  36.2673,2,    197.1,2,   197.3,2,     1.4,2,     2.2,2,    0.07,2,   0.410,2,   2.085,6,   1.336,6,   1.324,6,  2125.8,2, 2382.04,2,-999.0000,9, -999.00,   7.9415,2,       25,-999.000,9,  19.4066,2, -999.00,9,  -999.0,9,  -999.0,-999.00000000,9,-999.00000000,9,   182.8,      8.470,6,    36.4383,2,     -999.0,9,         -999.0,9,  -999.0,9,20140102,       1051
33RO20131223,       A16S,      24,          1,         19,         19,2,20140102,       0908,   -17.5023,        -25,       5172,   258.1,  15.0488,  35.4961,2,  35.4808,3,    187.8,2,   187.5,2,     3.4,2,     9.0,2,    0.01,2,   0.745,2,   2.534,2,   1.548,2,   1.313,2,  2132.4,2, 2329.44,2,-999.0000,9, -999.00,   7.8451,2,       25,-999.000,9,  15.0407,2, -999.00,9,  -999.0,9,  -999.0,-999.00000000,9,-999.00000000,9,   258.1,     12.116,2,    35.6481,2,     -999.0,9,         -999.0,9,  -999.0,9,20140102,       1048
33RO20131223,       A16S,      24,          1,         18,         18,2,20140102,       0908,   -17.5023,        -25,       5172,   347.6,  11.7962,  35.0331,2,  35.0248,2,    169.1,2,   168.3,2,     6.8,2,    17.5,2,    0.00,2,   1.240,2,   2.734,2,   1.566,2,   1.025,2,    2161,2, 2306.94,2,-999.0000,9, -999.00,   7.7284,2,       25,-999.000,9,  11.7843,2, -999.00,9,  -999.0,9,  -999.0,-999.00000000,9,-999.00000000,9,   347.6,     18.159,2,      35.19,2,     -999.0,9,         -999.0,9,  -999.0,9,20140102,       1046
33RO20131223,       A16S,      24,          1,         17,         17,2,20140102,       0908,   -17.5023,        -25,       5172,   448.1,   9.4978,  34.7840,2,  34.7809,2,    148.9,2,   148.8,2,    11.7,2,    24.4,2,    0.00,2,   1.673,2,-999.000,9,-999.000,9,-999.000,9,  2187.3,2, 2299.75,2,-999.0000,9, -999.00,   7.6389,2,       25,-999.000,9,   9.5203,2, -999.00,9,  -999.0,9,  -999.0,-999.00000000,9,-999.00000000,9,   448.1,     -999.0,9,    34.9449,2,     -999.0,9,         -999.0,9,  -999.0,9,20140102,       1043
33RO20131223,       A16S,      24,          1,         16,         16,2,20140102,       0908,   -17.5023,        -25,       5172,   568.2,   7.1223,  34.5710,2,  34.5664,2,    147.1,2,     147,2,    18.7,6,    30.1,6,    0.00,6,   2.031,6,-999.000,9,-999.000,9,-999.000,9,    2205,2, 2293.02,6,-999.0000,9, -999.00,   7.5778,2,       25,-999.000,9,    7.124,2, -999.00,9,  -999.0,9,  -999.0,-999.00000000,9,-999.00000000,9,   568.2,     -999.0,9,    34.7294,6,     -999.0,9,         -999.0,9,  -999.0,9,20140102,       1040
33RO20131223,       A16S,      24,          1,         15,         15,2,20140102,       0908,   -17.5023,        -25,       5172,   722.3,   4.9127,  34.4372,2,  34.4361,2,    167.7,2,   166.9,2,    28.9,2,    32.5,2,    0.00,2,   2.232,2,   0.700,2,   0.364,2,   0.077,2,  2212.5,2,    2293,2,-999.0000,9, -999.00,   7.5707,2,       25,-999.000,9,   4.9069,2, -999.00,9,  -999.0,9,  -999.0,-999.00000000,9,-999.00000000,9,   722.3,     22.178,2,    34.5985,2,     -999.0,9,         -999.0,9,  -999.0,9,20140102,       1036
33RO20131223,       A16S,      24,          1,         14,         14,2,20140102,       0908,   -17.5023,        -25,       5172,   873.1,   3.9672,  34.4475,2,  34.4467,2,    179.8,2,   179.2,2,    36.6,6,    32.4,6,    0.00,6,   2.241,6,   0.472,2,   0.247,2,   0.056,2,  2215.4,2, 2302.11,2,-999.0000,9, -999.00,    7.579,2,       25,-999.000,9,   3.9675,2, -999.00,9,  -999.0,9,  -999.0,-999.00000000,9,-999.00000000,9,   873.1,     21.095,2,    34.6091,2,     -999.0,9,         -999.0,9,  -999.0,9,20140102,       1033
33RO20131223,       A16S,      24,          1,         13,         13,2,20140102,       0908,   -17.5023,        -25,       5172,  1047.3,   3.8146,  34.5552,2,  34.5557,2,    178.2,2,   177.7,2,    37.7,6,    31.6,6,    0.00,6,   2.186,6,   0.138,2,   0.078,2,   0.026,2,  2217.2,6, 2313.47,2,-999.0000,9, -999.00,    7.587,2,       25,-999.000,9,   3.8145,2, -999.00,9,  -999.0,9,  -999.0,-999.00000000,9,-999.00000000,9,  1047.3,     20.754,2,    34.7186,2,     -999.0,9,         -999.0,9,  -999.0,9,20140102,       1029
33RO20131223,       A16S,      24,          1,         12,         12,2,20140102,       0908,   -17.5023,        -25,       5172,  1198.2,   3.8452,  34.6671,2,  34.6694,2,    184.9,2,   184.3,2,    35.0,2,    29.7,2,    0.00,2,   2.052,2,-999.000,9,-999.000,9,-999.000,9,  2211.8,2, 2313.35,2,-999.0000,9, -999.00,   7.6066,2,       25,-999.000,9,   3.8453,2, -999.00,9,  -999.0,9,  -999.0,-999.00000000,9,-999.00000000,9,  1198.2,     -999.0,9,    34.8329,2,     -999.0,9,         -999.0,9,  -999.0,9,20140102,       1025
33RO20131223,       A16S,      24,          1,         11,         11,2,20140102,       0908,   -17.5023,        -25,       5172,  1446.7,   3.8852,  34.8233,2,  34.8226,2,    205.3,2,   205.2,2,    29.3,2,    25.8,2,    0.00,2,   1.772,2,-999.000,9,-999.000,9,-999.000,9,  -999.0,9, -999.00,9,-999.0000,9, -999.00,-999.0000,9,  -999.00,-999.000,9,    3.885,2, -999.00,9,  -999.0,9,  -999.0,-999.00000000,9,-999.00000000,9,  1446.7,     -999.0,9,    34.9868,2,     -999.0,9,         -999.0,9,  -999.0,9,20140102,       1020
33RO20131223,       A16S,      24,          1,         10,         10,2,20140102,       0908,   -17.5023,        -25,       5172,  1747.7,   3.4845,  34.9120,2,  34.9103,2,    233.3,2,   232.9,2,    27.2,6,    22.2,6,    0.00,6,   1.494,6,   0.067,2,   0.041,2,   0.000,2,  2182.2,2, 2317.06,2,-999.0000,9, -999.00,   7.7019,2,       25,-999.000,9,    3.484,2, -999.00,9,  -999.0,9,  -999.0,-999.00000000,9,-999.00000000,9,  1747.7,     14.679,2,    35.0749,2,     -999.0,9,         -999.0,9,  -999.0,9,20140102,       1014
33RO20131223,       A16S,      24,          1,          9,          9,2,20140102,       0908,   -17.5023,        -25,       5172,  2197.5,   3.0488,  34.9185,2,  34.9163,2,    241.6,2,   242.3,2,    31.7,2,    21.4,2,    0.00,2,   1.462,2,-999.000,9,-999.000,9,-999.000,9,  -999.0,9, -999.00,9,-999.0000,9, -999.00,-999.0000,9,  -999.00,-999.000,9,   3.0487,2, -999.00,9,  -999.0,9,  -999.0,-999.00000000,9,-999.00000000,9,  2197.5,     -999.0,9,    35.0809,2,     -999.0,9,         -999.0,9,  -999.0,9,20140102,       1006
33RO20131223,       A16S,      24,          1,          8,          8,2,20140102,       0908,   -17.5023,        -25,       5172,  2548.6,   2.8395,  34.9102,2,  34.9101,2,    242.7,2,   242.6,2,    35.7,2,    21.6,2,    0.00,2,   1.475,2,-999.000,9,-999.000,9,-999.000,9,  2185.5,2, 2329.87,2,-999.0000,9, -999.00,   7.7154,2,       25,-999.000,9,   2.8391,2, -999.00,9,  -999.0,9,  -999.0,-999.00000000,9,-999.00000000,9,  2548.6,     -999.0,9,    35.0747,2,     -999.0,9,         -999.0,9,  -999.0,9,20140102,       0959
33RO20131223,       A16S,      24,          1,          7,          7,2,20140102,       0908,   -17.5023,        -25,       5172,  2948.4,   2.6972,  34.9017,2,  34.9015,2,    241.8,2,   242.2,2,    39.5,2,    22.0,2,    0.00,2,   1.500,2,-999.000,9,-999.000,9,-999.000,9,  -999.0,9, -999.00,9,-999.0000,9, -999.00,-999.0000,9,  -999.00,-999.000,9,   2.6972,2, -999.00,9,  -999.0,9,  -999.0,-999.00000000,9,-999.00000000,9,  2948.4,     -999.0,9,    35.0661,2,     -999.0,9,         -999.0,9,  -999.0,9,20140102,       0951
33RO20131223,       A16S,      24,          1,          6,          6,2,20140102,       0908,   -17.5023,        -25,       5172,  3447.1,   2.5034,  34.8953,2,  34.9516,4,    246.2,2,     240,2,    38.8,2,    21.2,2,    0.00,4,   1.454,4,-999.000,9,-999.000,9,-999.000,9,  2184.7,2, 2333.97,2,-999.0000,9, -999.00,    7.739,2,       25,-999.000,9,   2.5036,2, -999.00,9,  -999.0,9,  -999.0,-999.00000000,9,-999.00000000,9,  3447.1,     -999.0,9,    35.1164,2,     -999.0,9,         -999.0,9,  -999.0,9,20140102,       0942
33RO20131223,       A16S,      24,          1,          5,          5,2,20140102,       0908,   -17.5023,        -25,       5172,    3849,   2.0111,  34.8493,2,  34.8497,2,      242,2,   242.5,2,    58.1,6,    23.7,6,    0.00,6,   1.625,6,   0.016,2,   0.014,2,   0.038,2,  2204.6,2, 2342.85,2,-999.0000,9, -999.00,   7.7003,6,       25,-999.000,9,   2.0117,2, -999.00,9,  -999.0,9,  -999.0,-999.00000000,9,-999.00000000,9,  3849.0,     14.372,2,     35.014,2,     -999.0,9,         -999.0,9,  -999.0,9,20140102,       0935
33RO20131223,       A16S,      24,          1,          4,          4,2,20140102,       0908,   -17.5023,        -25,       5172,  4247.6,   1.3651,  34.7819,2,  34.7815,2,    231.2,2,   232.5,2,    84.8,2,    27.3,2,    0.01,2,   1.891,2,-999.000,9,-999.000,9,-999.000,9,  -999.0,9, -999.00,9,-999.0000,9, -999.00,-999.0000,9,  -999.00,-999.000,9,    1.365,2, -999.00,9,  -999.0,9,  -999.0,-999.00000000,9,-999.00000000,9,  4247.6,     -999.0,9,    34.9455,6,     -999.0,9,         -999.0,9,  -999.0,9,20140102,       0927
33RO20131223,       A16S,      24,          1,          3,          3,2,20140102,       0908,   -17.5023,        -25,       5172,  4647.4,   0.9789,  34.7394,2,  34.7384,2,    225.7,2,   226.5,2,   100.6,6,    29.4,6,    0.01,6,   2.033,6,-999.000,9,-999.000,9,-999.000,9,  2246.3,2, 2362.27,6,-999.0000,9, -999.00,   7.6387,2,       25,-999.000,9,   0.9781,2, -999.00,9,  -999.0,9,  -999.0,-999.00000000,9,-999.00000000,9,  4647.4,     -999.0,9,    34.9022,2,     -999.0,9,         -999.0,9,  -999.0,9,20140102,       0920
33RO20131223,       A16S,      24,          1,          2,          2,2,20140102,       0908,   -17.5023,        -25,       5172,  5046.3,   0.8159,  34.7182,2,  34.7170,2,    222.4,2,   223.6,2,   109.1,2,    30.7,2,    0.01,2,   2.113,2,-999.000,9,-999.000,9,-999.000,9,  -999.0,9, -999.00,9,-999.0000,9, -999.00,-999.0000,9,  -999.00,-999.000,9,   0.8159,2, -999.00,9,  -999.0,9,  -999.0,-999.00000000,9,-999.00000000,9,  5046.3,     -999.0,9,    34.8807,2,     -999.0,9,         -999.0,9,  -999.0,9,20140102,       0912
33RO20131223,       A16S,      24,          1,          1,          1,2,20140102,       0908,   -17.5023,        -25,       5172,  5244.7,   0.7892,  34.7128,2,  34.7117,2,    222.8,2,   223.6,2,   110.5,6,    30.8,6,    0.00,6,   2.123,6,   0.110,2,   0.061,2,   0.017,2,  2255.6,6, 2366.78,2,-999.0000,9, -999.00,   7.6208,2,       25,-999.000,9,   0.7892,2, -999.00,9,  -999.0,9,  -999.0,-999.00000000,9,-999.00000000,9,  5244.7,     17.065,2,    34.8754,2,     -999.0,9,         -999.0,9,  -999.0,9,20140102,       0908