BOTTLE,20220815CCHSIOAMB
EXPOCODE,SECT_ID,STNNBR,CASTNO,SAMPNO,BTLNBR,BTLNBR_FLAG_W,DATE,TIME,LATITUDE,LONGITUDE,DEPTH,CTDPRS,CTDTMP,CTDSAL,CTDSAL_FLAG_W,SALNTY,SALNTY_FLAG_W,CTDOXY,CTDOXY_FLAG_W,OXYGEN,OXYGEN_FLAG_W,SILCAT,SILCAT_FLAG_W,NITRAT,NITRAT_FLAG_W,NITRIT,NITRIT_FLAG_W,PHSPHT,PHSPHT_FLAG_W,CFC-11,CFC-11_FLAG_W,CFC-12,CFC-12_FLAG_W,SF6,SF6_FLAG_W,TCARBN,TCARBN_FLAG_W,ALKALI,ALKALI_FLAG_W,PCO2,PCO2_FLAG_W,PCO2TMP,PH_SWS,PH_SWS_FLAG_W,PH_TMP,TRITUM,TRITUM_FLAG_W,REFTMP,REFTMP_FLAG_W,DELC13,DELC13_FLAG_W,DELC14,DELC14_FLAG_W,C14ERR,DOC,DOC_FLAG_W,TDN,TDN_FLAG_W,CTDRAW,N2O,N2O_FLAG_W,SALTREF,SALTREF_FLAG_W,HELIUM,HELIUM_FLAG_W,DELO18,DELO18_FLAG_W,CCL4,CCL4_FLAG_W,BTL_DATE,BTL_TIME
,,,,,,,,,,,METERS,DBAR,ITS-90,PSS-78,,PSS-78,,UMOL/KG,,UMOL/KG,,UMOL/KG,,UMOL/KG,,UMOL/KG,,UMOL/KG,,PMOL/KG,,PMOL/KG,,FMOL/KG,,UMOL/KG,,UMOL/KG,,UATM,,DEG C,,,DEG C,TU,,DEG C,,/MILLE,,/MILLE,,/MILLE,UMOL/KG,,UMOL/KG,,DBAR,NMOL/KG,,G/KG,,NMOL/KG,,/MILLE,,PMOL/KG,,,
33RO20131223,       A16S,      72,          1,         24,         24,2,20140116,       2101,   -41.5003,   -28.7157,       4355,     3.9,  16.2139,  35.3056,2,  35.3060,2,    250.5,2,   250.4,2,     0.5,2,     0.0,2,    0.01,2,   0.159,2,   2.579,2,   1.528,2,   1.701,2,  2068.8,6, 2329.86,2,-999.0000,9, -999.00,   7.9682,2,       25,-999.000,9,  16.2138,2, -999.00,9,  -999.0,9,  -999.0,-999.00000000,9,-999.00000000,9,     3.9,      8.487,2,    35.4725,2,     -999.0,9,         -999.0,9,  -999.0,9,20140116,       2240
33RO20131223,       A16S,      72,          1,         23,         23,2,20140116,       2101,   -41.5003,   -28.7157,       4355,    18.1,  16.0640,  35.3090,2,  35.3103,2,    251.9,2,   251.9,2,     0.6,2,     0.0,2,    0.01,2,   0.158,2,-999.000,9,-999.000,9,-999.000,9,  2068.9,2, 2334.66,6,-999.0000,9, -999.00,    7.968,2,       25,-999.000,9,  16.1042,2, -999.00,9,  -999.0,9,  -999.0,-999.00000000,9,-999.00000000,9,    18.1,     -999.0,9,    35.4768,2,     -999.0,9,         -999.0,9,  -999.0,9,20140116,       2238
33RO20131223,       A16S,      72,          1,         22,         22,3,20140116,       2101,   -41.5003,   -28.7157,       4355,    47.8,  15.8312,  35.3257,2,-999.0000,9,    245.6,2,  -999.0,5,  -999.0,9,  -999.0,9, -999.00,9,-999.000,9,-999.000,9,-999.000,9,-999.000,9,  -999.0,9, -999.00,9,-999.0000,9, -999.00,-999.0000,9,  -999.00,-999.000,9,  15.8298,2, -999.00,9,  -999.0,9,  -999.0,-999.00000000,9,-999.00000000,9,    47.8,     -999.0,9,     -999.0,9,     -999.0,9,         -999.0,9,  -999.0,9,20140116,       2235
33RO20131223,       A16S,      72,          1,         21,         21,2,20140116,       2101,   -41.5003,   -28.7157,       4355,    72.7,  15.1649,  35.3734,2,  35.3756,2,    240.7,2,   242.2,2,     1.2,2,     1.5,2,    0.28,2,   0.293,2,-999.000,9,-999.000,9,-999.000,9,  2091.7,2, 2336.73,2,-999.0000,9, -999.00,   7.9322,2,       25,-999.000,9,  15.1611,2, -999.00,9,  -999.0,9,  -999.0,-999.00000000,9,-999.00000000,9,    72.7,     -999.0,9,    35.5424,2,     -999.0,9,         -999.0,9,  -999.0,9,20140116,       2234
33RO20131223,       A16S,      72,          1,         20,         20,2,20140116,       2101,   -41.5003,   -28.7157,       4355,    98.3,  14.4765,  35.3979,2,  35.3989,2,    239.6,2,   239.4,2,     1.4,2,     3.6,2,    0.23,2,   0.379,2,   2.737,2,   1.607,2,   1.766,2,  2102.3,2, 2333.07,2,-999.0000,9, -999.00,    7.911,2,       25,-999.000,9,  14.4783,2, -999.00,9,  -999.0,9,  -999.0,-999.00000000,9,-999.00000000,9,    98.3,      9.116,2,    35.5658,2,     -999.0,9,         -999.0,9,  -999.0,9,20140116,       2232
33RO20131223,       A16S,      72,          1,         19,         19,2,20140116,       2101,   -41.5003,   -28.7157,       4355,   148.2,  13.9614,  35.4313,2,  35.4304,2,    236.9,2,   237.7,2,     1.7,2,     5.5,2,    0.01,2,   0.477,2,-999.000,9,-999.000,9,-999.000,9,  2111.2,2, 2343.55,2,-999.0000,9, -999.00,   7.8926,2,       25,-999.000,9,  13.9616,2, -999.00,9,  -999.0,9,  -999.0,-999.00000000,9,-999.00000000,9,   148.2,     -999.0,9,    35.5975,2,     -999.0,9,         -999.0,9,  -999.0,9,20140116,       2230
33RO20131223,       A16S,      72,          1,         18,         18,2,20140116,       2101,   -41.5003,   -28.7157,       4355,   218.5,  13.7235,  35.4187,2,  35.4190,2,    237.9,2,   236.8,2,     2.0,2,     6.3,2,    0.01,2,   0.529,2,   2.803,2,   1.648,2,   1.723,2,  2114.8,2, 2337.73,2,-999.0000,9, -999.00,   7.8866,2,       25,-999.000,9,  13.7234,2, -999.00,9,  -999.0,9,  -999.0,-999.00000000,9,-999.00000000,9,   218.5,      9.749,2,     35.586,2,     -999.0,9,         -999.0,9,  -999.0,9,20140116,       2228
33RO20131223,       A16S,      72,          1,         17,         17,2,20140116,       2101,   -41.5003,   -28.7157,       4355,   297.8,  12.6291,  35.1888,2,  35.1869,2,    244.2,2,   244.7,2,     2.1,2,     7.9,2,    0.01,2,   0.640,2,-999.000,9,-999.000,9,-999.000,9,  2114.1,2, 2323.12,2,-999.0000,9, -999.00,   7.8674,2,       25,-999.000,9,  12.6291,2, -999.00,9,  -999.0,9,  -999.0,-999.00000000,9,-999.00000000,9,   297.8,     -999.0,9,    35.3529,2,     -999.0,9,         -999.0,9,  -999.0,9,20140116,       2225
33RO20131223,       A16S,      72,          1,         16,         16,2,20140116,       2101,   -41.5003,   -28.7157,       4355,   417.2,  10.2784,  34.8305,2,  34.8239,2,    215.1,2,   215.1,2,     5.0,2,    16.4,2,    0.01,2,   1.160,2,   3.298,2,   1.822,2,   1.411,2,  2142.5,2, 2301.73,2,-999.0000,9, -999.00,   7.7627,2,       25,-999.000,9,  10.2861,2, -999.00,9,  -999.0,9,  -999.0,-999.00000000,9,-999.00000000,9,   417.2,     13.393,2,    34.9881,2,     -999.0,9,         -999.0,9,  -999.0,9,20140116,       2222
33RO20131223,       A16S,      72,          1,         15,         15,2,20140116,       2101,   -41.5003,   -28.7157,       4355,   567.6,   6.4375,  34.3468,2,  34.3464,2,    234.7,2,     235,2,     9.1,2,    23.9,2,    0.00,2,   1.639,2,   3.822,2,   2.030,2,   1.470,2,  2159.1,2, 2287.25,2,-999.0000,9, -999.00,   7.6807,2,       25,-999.000,9,   6.4362,2, -999.00,9,  -999.0,9,  -999.0,-999.00000000,9,-999.00000000,9,   567.6,     14.938,2,    34.5084,2,     -999.0,9,         -999.0,9,  -999.0,9,20140116,       2218
33RO20131223,       A16S,      72,          1,         14,         14,2,20140116,       2101,   -41.5003,   -28.7157,       4355,   717.6,   4.6413,  34.1941,2,  34.1930,2,    257.2,2,   255.7,2,    13.2,2,    26.4,2,    0.00,2,   1.807,2,-999.000,9,-999.000,9,-999.000,9,  -999.0,9, -999.00,9,-999.0000,9, -999.00,-999.0000,9,  -999.00,-999.000,9,   4.6415,2, -999.00,9,  -999.0,9,  -999.0,-999.00000000,9,-999.00000000,9,   717.6,     -999.0,9,    34.3543,2,     -999.0,9,         -999.0,9,  -999.0,9,20140116,       2215
33RO20131223,       A16S,      72,          1,         13,         13,2,20140116,       2101,   -41.5003,   -28.7157,       4355,     872,   4.0584,  34.2011,2,  34.2001,2,    245.3,2,   245.7,2,    19.2,2,    28.3,2,    0.00,2,   1.935,2,-999.000,9,-999.000,9,-999.000,9,  2175.4,2, 2290.12,2,-999.0000,9, -999.00,   7.6403,2,       25,-999.000,9,   4.0599,2, -999.00,9,  -999.0,9,  -999.0,-999.00000000,9,-999.00000000,9,   872.0,     -999.0,9,    34.3614,2,     -999.0,9,         -999.0,9,  -999.0,9,20140116,       2211
33RO20131223,       A16S,      72,          1,         12,         12,2,20140116,       2101,   -41.5003,   -28.7157,       4355,    1047,   3.4812,  34.2492,2,  34.2479,2,    227.9,2,     226,2,    29.7,2,    30.8,2,    0.00,2,   2.093,2,-999.000,9,-999.000,9,-999.000,9,  -999.0,9, -999.00,9,-999.0000,9, -999.00,-999.0000,9,  -999.00,-999.000,9,   3.4797,2, -999.00,9,  -999.0,9,  -999.0,-999.00000000,9,-999.00000000,9,  1047.0,     -999.0,9,    34.4094,2,     -999.0,9,         -999.0,9,  -999.0,9,20140116,       2208
33RO20131223,       A16S,      72,          1,         11,         11,2,20140116,       2101,   -41.5003,   -28.7157,       4355,  1267.6,   3.0704,  34.3616,2,  34.3650,2,    197.5,2,   197.6,2,    45.3,2,    32.9,2,    0.00,2,   2.239,2,   1.657,2,   0.805,2,   0.380,2,    2223,2, 2311.32,2,-999.0000,9, -999.00,   7.5712,2,       25,-999.000,9,   3.0698,2, -999.00,9,  -999.0,9,  -999.0,-999.00000000,9,-999.00000000,9,  1267.6,     20.975,2,     34.527,2,     -999.0,9,         -999.0,9,  -999.0,9,20140116,       2203
33RO20131223,       A16S,      72,          1,         10,         10,2,20140116,       2101,   -41.5003,   -28.7157,       4355,  1498.2,   2.8438,  34.4982,2,  34.4974,2,    178.3,2,   178.9,2,    58.5,2,    33.4,2,    0.00,2,   2.283,2,   0.771,2,   0.372,2,   0.178,2,  2241.3,2,  2324.6,2,-999.0000,9, -999.00,   7.5568,2,       25,-999.000,9,   2.8438,2, -999.00,9,  -999.0,9,  -999.0,-999.00000000,9,-999.00000000,9,  1498.2,     22.102,2,      34.66,2,     -999.0,9,         -999.0,9,  -999.0,9,20140116,       2158
33RO20131223,       A16S,      72,          1,          9,          9,2,20140116,       2101,   -41.5003,   -28.7157,       4355,  1697.5,   2.8107,  34.6003,2,  34.6011,2,    176.6,2,   177.4,2,    62.0,2,    32.5,2,    0.00,2,   2.213,2,-999.000,9,-999.000,9,-999.000,9,  2243.2,6, 2335.22,6,-999.0000,9, -999.00,   7.5726,2,       25,-999.000,9,   2.8106,2, -999.00,9,  -999.0,9,  -999.0,-999.00000000,9,-999.00000000,9,  1697.5,     -999.0,9,    34.7642,2,     -999.0,9,         -999.0,9,  -999.0,9,20140116,       2153
33RO20131223,       A16S,      72,          1,          8,          8,2,20140116,       2101,   -41.5003,   -28.7157,       4355,    1898,   2.8676,  34.6946,2,  34.6950,2,    185.8,2,   186.2,2,    59.7,2,    30.4,2,    0.00,2,   2.072,2,-999.000,9,-999.000,9,-999.000,9,  2236.5,2, 2337.98,2,-999.0000,9, -999.00,   7.5953,2,       25,-999.000,9,   2.8672,2, -999.00,9,  -999.0,9,  -999.0,-999.00000000,9,-999.00000000,9,  1898.0,     -999.0,9,    34.8586,2,     -999.0,9,         -999.0,9,  -999.0,9,20140116,       2149
33RO20131223,       A16S,      72,          1,          7,          7,2,20140116,       2101,   -41.5003,   -28.7157,       4355,  2197.6,   2.9034,  34.8004,2,  34.8003,2,    204.7,2,   205.3,2,    52.8,2,    27.1,2,    0.00,2,   1.834,2,-999.000,9,-999.000,9,-999.000,9,  2219.5,2, 2338.42,2,-999.0000,9, -999.00,   7.6376,2,       25,-999.000,9,    2.904,2, -999.00,9,  -999.0,9,  -999.0,-999.00000000,9,-999.00000000,9,  2197.6,     -999.0,9,    34.9644,2,     -999.0,9,         -999.0,9,  -999.0,9,20140116,       2143
33RO20131223,       A16S,      72,          1,          6,          6,2,20140116,       2101,   -41.5003,   -28.7157,       4355,  2496.8,   2.7567,  34.8341,2,  34.8344,2,    215.4,2,   215.6,2,    52.2,2,    25.7,2,    0.00,2,   1.742,2,-999.000,9,-999.000,9,-999.000,9,  -999.0,9, -999.00,9,-999.0000,9, -999.00,-999.0000,9,  -999.00,-999.000,9,   2.7568,2, -999.00,9,  -999.0,9,  -999.0,-999.00000000,9,-999.00000000,9,  2496.8,     -999.0,9,    34.9986,6,     -999.0,9,         -999.0,9,  -999.0,9,20140116,       2137
33RO20131223,       A16S,      72,          1,          5,          5,2,20140116,       2101,   -41.5003,   -28.7157,       4355,  2797.2,   2.5031,  34.8378,2,  34.8383,2,    219.8,2,   220.8,2,    56.1,2,    25.5,2,    0.00,2,   1.723,2,   0.091,2,   0.043,2,   0.041,2,    2214,2,    2344,2,-999.0000,9, -999.00,   7.6648,6,       25,-999.000,9,   2.5031,2, -999.00,9,  -999.0,9,  -999.0,-999.00000000,9,-999.00000000,9,  2797.2,     16.540,2,    35.0026,2,     -999.0,9,         -999.0,9,  -999.0,9,20140116,       2131
33RO20131223,       A16S,      72,          1,          4,          4,2,20140116,       2101,   -41.5003,   -28.7157,       4355,  3197.5,   1.9084,  34.7850,2,  34.7900,2,    211.6,2,   211.9,2,    77.8,2,    27.9,2,    0.00,2,   1.903,2,-999.000,9,-999.000,9,-999.000,9,  -999.0,9, -999.00,9,-999.0000,9, -999.00,-999.0000,9,  -999.00,-999.000,9,   1.9088,2, -999.00,9,  -999.0,9,  -999.0,-999.00000000,9,-999.00000000,9,  3197.5,     -999.0,9,    34.9541,2,     -999.0,9,         -999.0,9,  -999.0,9,20140116,       2124
33RO20131223,       A16S,      72,          1,          3,          3,2,20140116,       2101,   -41.5003,   -28.7157,       4355,  3596.6,   1.2908,  34.7313,2,  34.7294,2,    206.4,2,   206.6,2,   101.3,2,    30.6,2,    0.00,2,   2.088,2,-999.000,9,-999.000,9,-999.000,9,  2252.6,2, 2357.57,2,-999.0000,9, -999.00,   7.6054,2,       25,-999.000,9,   1.2912,2, -999.00,9,  -999.0,9,  -999.0,-999.00000000,9,-999.00000000,9,  3596.6,     -999.0,9,    34.8931,2,     -999.0,9,         -999.0,9,  -999.0,9,20140116,       2116
33RO20131223,       A16S,      72,          1,          2,          2,2,20140116,       2101,   -41.5003,   -28.7157,       4355,  3997.7,   0.7947,  34.7027,2,  34.7007,2,    212.1,2,   212.4,2,   113.6,2,    31.5,2,    0.00,2,   2.157,2,-999.000,9,-999.000,9,-999.000,9,  -999.0,9, -999.00,9,-999.0000,9, -999.00,-999.0000,9,  -999.00,-999.000,9,   0.7948,2, -999.00,9,  -999.0,9,  -999.0,-999.00000000,9,-999.00000000,9,  3997.7,     -999.0,9,    34.8643,2,     -999.0,9,         -999.0,9,  -999.0,9,20140116,       2109
33RO20131223,       A16S,      72,          1,          1,          1,2,20140116,       2101,   -41.5003,   -28.7157,       4355,  4425.7,   0.4028,  34.6771,2,  34.6760,2,    218.2,2,   217.4,2,   124.4,2,    32.4,2,    0.00,2,   2.216,2,   0.457,2,   0.215,2,   0.084,2,    2267,6, 2366.74,6,-999.0000,9, -999.00,   7.5928,2,       25,-999.000,9,   0.4023,2, -999.00,9,  -999.0,9,  -999.0,-999.00000000,9,-999.00000000,9,  4425.7,     18.467,2,    34.8395,2,     -999.0,9,         -999.0,9,  -999.0,9,20140116,       2101