BOTTLE,20220815CCHSIOAMB
EXPOCODE,SECT_ID,STNNBR,CASTNO,SAMPNO,BTLNBR,BTLNBR_FLAG_W,DATE,TIME,LATITUDE,LONGITUDE,DEPTH,CTDPRS,CTDTMP,CTDSAL,CTDSAL_FLAG_W,SALNTY,SALNTY_FLAG_W,CTDOXY,CTDOXY_FLAG_W,OXYGEN,OXYGEN_FLAG_W,SILCAT,SILCAT_FLAG_W,NITRAT,NITRAT_FLAG_W,NITRIT,NITRIT_FLAG_W,PHSPHT,PHSPHT_FLAG_W,CFC-11,CFC-11_FLAG_W,CFC-12,CFC-12_FLAG_W,SF6,SF6_FLAG_W,TCARBN,TCARBN_FLAG_W,ALKALI,ALKALI_FLAG_W,PCO2,PCO2_FLAG_W,PCO2TMP,PH_SWS,PH_SWS_FLAG_W,PH_TMP,TRITUM,TRITUM_FLAG_W,REFTMP,REFTMP_FLAG_W,DELC13,DELC13_FLAG_W,DELC14,DELC14_FLAG_W,C14ERR,DOC,DOC_FLAG_W,TDN,TDN_FLAG_W,CTDRAW,N2O,N2O_FLAG_W,SALTREF,SALTREF_FLAG_W,HELIUM,HELIUM_FLAG_W,DELO18,DELO18_FLAG_W,CCL4,CCL4_FLAG_W,BTL_DATE,BTL_TIME
,,,,,,,,,,,METERS,DBAR,ITS-90,PSS-78,,PSS-78,,UMOL/KG,,UMOL/KG,,UMOL/KG,,UMOL/KG,,UMOL/KG,,UMOL/KG,,PMOL/KG,,PMOL/KG,,FMOL/KG,,UMOL/KG,,UMOL/KG,,UATM,,DEG C,,,DEG C,TU,,DEG C,,/MILLE,,/MILLE,,/MILLE,UMOL/KG,,UMOL/KG,,DBAR,NMOL/KG,,G/KG,,NMOL/KG,,/MILLE,,PMOL/KG,,,
33RO20131223,       A16S,      94,          1,         24,         24,2,20140125,       0321,   -52.4998,     -35.55,       3868,     5.2,   2.6516,  33.8154,2,  33.8150,2,      333,2,   333.1,2,    10.9,2,    21.3,2,    0.26,2,   1.426,2,-999.000,9,-999.000,9,-999.000,9,  2141.8,6, 2287.75,2,-999.0000,9, -999.00,    7.741,2,       25,-999.000,9,   2.6524,2, -999.00,9,  -999.0,9,  -999.0,-999.00000000,9,-999.00000000,9,     5.2,     -999.0,9,    33.9744,2,     -999.0,9,         -999.0,9,  -999.0,9,20140125,       0455
33RO20131223,       A16S,      94,          1,         23,         23,2,20140125,       0321,   -52.4998,     -35.55,       3868,    27.6,   2.6625,  33.8151,2,  33.8157,2,    334.1,2,   332.7,2,    10.9,2,    21.4,2,    0.26,2,   1.425,2,-999.000,9,-999.000,9,-999.000,9,  -999.0,9, -999.00,9,-999.0000,9, -999.00,-999.0000,9,  -999.00,-999.000,9,   2.6604,2, -999.00,9,  -999.0,9,  -999.0,-999.00000000,9,-999.00000000,9,    27.6,     -999.0,9,    33.9751,2,     -999.0,9,         -999.0,9,  -999.0,9,20140125,       0454
33RO20131223,       A16S,      94,          1,         22,         22,2,20140125,       0321,   -52.4998,     -35.55,       3868,    67.9,   2.4948,  33.8161,2,  33.8193,2,      332,2,   331.8,2,    11.0,2,    21.6,2,    0.26,2,   1.470,2,-999.000,9,-999.000,9,-999.000,9,  2144.5,2, 2289.27,6,-999.0000,9, -999.00,   7.7384,2,       25,-999.000,9,   2.4888,2, -999.00,9,  -999.0,9,  -999.0,-999.00000000,9,-999.00000000,9,    67.9,     -999.0,9,    33.9787,2,     -999.0,9,         -999.0,9,  -999.0,9,20140125,       0451
33RO20131223,       A16S,      94,          1,         21,         21,2,20140125,       0321,   -52.4998,     -35.55,       3868,   107.5,   0.6795,  33.9369,2,  33.9338,2,    310.6,2,   314.3,2,    30.1,6,    27.5,6,    0.20,6,   1.992,6,-999.000,9,-999.000,9,-999.000,9,  2182.1,2, 2290.86,2,-999.0000,9, -999.00,    7.636,2,       25,-999.000,9,   0.6815,2, -999.00,9,  -999.0,9,  -999.0,-999.00000000,9,-999.00000000,9,   107.5,     -999.0,9,    34.0938,2,     -999.0,9,         -999.0,9,  -999.0,9,20140125,       0449
33RO20131223,       A16S,      94,          1,         20,         20,2,20140125,       0321,   -52.4998,     -35.55,       3868,   172.7,   1.6078,  34.2639,2,  34.2638,2,    223.5,2,     222,2,    52.8,2,    33.6,2,    0.02,2,   2.308,2,-999.000,9,-999.000,9,-999.000,9,  2230.4,2, 2309.34,2,-999.0000,9, -999.00,   7.5427,2,       25,-999.000,9,   1.6072,2, -999.00,9,  -999.0,9,  -999.0,-999.00000000,9,-999.00000000,9,   172.7,     -999.0,9,    34.4254,2,     -999.0,9,         -999.0,9,  -999.0,9,20140125,       0447
33RO20131223,       A16S,      94,          1,         19,         19,2,20140125,       0321,   -52.4998,     -35.55,       3868,   257.5,   2.1187,  34.4260,2,  34.4251,2,    187.2,2,     187,2,    63.8,2,    34.5,2,    0.02,2,   2.354,2,-999.000,9,-999.000,9,-999.000,9,  2248.3,2,  2325.2,2,-999.0000,9, -999.00,   7.5269,2,       25,-999.000,9,   2.1184,2, -999.00,9,  -999.0,9,  -999.0,-999.00000000,9,-999.00000000,9,   257.5,     -999.0,9,    34.5875,2,     -999.0,9,         -999.0,9,  -999.0,9,20140125,       0444
33RO20131223,       A16S,      94,          1,         18,         18,2,20140125,       0321,   -52.4998,     -35.55,       3868,   367.8,   2.2411,  34.5425,2,  34.5433,2,    171.5,2,   172.3,2,    72.8,6,    34.1,6,    0.01,6,   2.332,6,-999.000,9,-999.000,9,-999.000,9,  2258.5,2, 2334.28,2,-999.0000,9, -999.00,   7.5319,2,       25,-999.000,9,   2.2414,2, -999.00,9,  -999.0,9,  -999.0,-999.00000000,9,-999.00000000,9,   367.8,     -999.0,9,    34.7062,2,     -999.0,9,         -999.0,9,  -999.0,9,20140125,       0441
33RO20131223,       A16S,      94,          1,         17,         17,2,20140125,       0321,   -52.4998,     -35.55,       3868,     498,   2.1149,  34.6088,2,  34.6086,2,    170.5,2,   170.8,2,    79.0,6,    33.6,6,    0.01,6,   2.299,6,-999.000,9,-999.000,9,-999.000,9,  2262.5,6, 2342.15,2,-999.0000,9, -999.00,   7.5379,2,       25,-999.000,9,   2.1154,2, -999.00,9,  -999.0,9,  -999.0,-999.00000000,9,-999.00000000,9,   498.0,     -999.0,9,    34.7718,2,     -999.0,9,         -999.0,9,  -999.0,9,20140125,       0438
33RO20131223,       A16S,      94,          1,         16,         16,2,20140125,       0321,   -52.4998,     -35.55,       3868,   597.8,   2.0595,  34.6403,2,  34.6404,2,    172.5,2,   171.9,2,    81.9,6,    33.2,6,    0.00,6,   2.265,6,-999.000,9,-999.000,9,-999.000,9,  2262.8,2, 2346.01,6,-999.0000,9, -999.00,   7.5467,2,       25,-999.000,9,   2.0593,2, -999.00,9,  -999.0,9,  -999.0,-999.00000000,9,-999.00000000,9,   597.8,     -999.0,9,    34.8037,2,     -999.0,9,         -999.0,9,  -999.0,9,20140125,       0435
33RO20131223,       A16S,      94,          1,         15,         15,2,20140125,       0321,   -52.4998,     -35.55,       3868,     774,   1.9615,  34.6855,2,  34.6861,2,    176.5,2,   177.3,2,    86.1,2,    32.2,2,    0.00,2,   2.211,2,   0.282,2,   0.132,2,   0.091,2,  2263.6,2, 2354.11,2,-999.0000,9, -999.00,   7.5639,2,       25,-999.000,9,   1.9616,2, -999.00,9,  -999.0,9,  -999.0,-999.00000000,9,-999.00000000,9,   774.0,     20.388,2,    34.8497,2,     -999.0,9,         -999.0,9,  -999.0,9,20140125,       0431
33RO20131223,       A16S,      94,          1,         14,         14,2,20140125,       0321,   -52.4998,     -35.55,       3868,   924.1,   1.8111,  34.7026,2,  34.7038,2,    180.6,2,     182,2,    90.2,2,    31.8,2,    0.00,2,   2.182,2,-999.000,9,-999.000,9,-999.000,9,  2262.6,2, 2357.24,2,-999.0000,9, -999.00,   7.5744,6,       25,-999.000,9,   1.8116,2, -999.00,9,  -999.0,9,  -999.0,-999.00000000,9,-999.00000000,9,   924.1,     -999.0,9,    34.8675,2,     -999.0,9,         -999.0,9,  -999.0,9,20140125,       0427
33RO20131223,       A16S,      94,          1,         13,         13,2,20140125,       0321,   -52.4998,     -35.55,       3868,  1098.4,   1.6326,  34.7084,2,  34.7087,2,    185.8,2,     186,2,    94.0,2,    31.6,2,    0.00,2,   2.170,2,   0.253,2,   0.122,2,   0.097,2,  2263.2,2, 2356.06,2,-999.0000,9, -999.00,   7.5796,2,       25,-999.000,9,   1.6327,2, -999.00,9,  -999.0,9,  -999.0,-999.00000000,9,-999.00000000,9,  1098.4,     19.352,2,    34.8724,2,     -999.0,9,         -999.0,9,  -999.0,9,20140125,       0423
33RO20131223,       A16S,      94,          1,         12,         12,2,20140125,       0321,   -52.4998,     -35.55,       3868,  1247.7,   1.5283,  34.7151,2,  34.7158,2,    190.8,2,   190.2,2,    96.2,6,    31.4,6,    0.00,6,   2.149,6,-999.000,9,-999.000,9,-999.000,9,  2261.5,2, 2356.42,2,-999.0000,9, -999.00,   7.5835,2,       25,-999.000,9,   1.5268,2, -999.00,9,  -999.0,9,  -999.0,-999.00000000,9,-999.00000000,9,  1247.7,     -999.0,9,    34.8795,2,     -999.0,9,         -999.0,9,  -999.0,9,20140125,       0420
33RO20131223,       A16S,      94,          1,         11,         11,2,20140125,       0321,   -52.4998,     -35.55,       3868,    1398,   1.4339,  34.7200,2,  34.7203,2,    193.4,2,   194.5,2,    97.8,6,    31.1,6,    0.00,6,   2.134,6,   0.228,2,   0.111,2,   0.083,2,  2259.5,2, 2356.48,2,-999.0000,9, -999.00,   7.5913,2,       25,-999.000,9,   1.4339,2, -999.00,9,  -999.0,9,  -999.0,-999.00000000,9,-999.00000000,9,  1398.0,     18.671,2,     34.884,6,     -999.0,9,         -999.0,9,  -999.0,9,20140125,       0416
33RO20131223,       A16S,      94,          1,         10,         10,2,20140125,       0321,   -52.4998,     -35.55,       3868,  1548.2,   1.2108,  34.7083,2,  34.7091,2,    195.7,2,   196.1,2,   103.9,6,    31.6,6,    0.00,6,   2.162,6,-999.000,9,-999.000,9,-999.000,9,  -999.0,9, -999.00,9,-999.0000,9, -999.00,-999.0000,9,  -999.00,-999.000,9,   1.2109,2, -999.00,9,  -999.0,9,  -999.0,-999.00000000,9,-999.00000000,9,  1548.2,     -999.0,9,    34.8728,2,     -999.0,9,         -999.0,9,  -999.0,9,20140125,       0412
33RO20131223,       A16S,      94,          1,          9,          9,2,20140125,       0321,   -52.4998,     -35.55,       3868,  1748.1,   1.0899,  34.7058,2,  34.7068,2,    200.4,2,   199.4,2,   106.0,6,    31.6,6,    0.00,6,   2.160,6,   0.320,2,   0.158,2,   0.114,2,  2262.2,2, 2362.11,2,-999.0000,9, -999.00,   7.5877,2,       25,-999.000,9,   1.0896,2, -999.00,9,  -999.0,9,  -999.0,-999.00000000,9,-999.00000000,9,  1748.1,     18.631,2,    34.8704,2,     -999.0,9,         -999.0,9,  -999.0,9,20140125,       0407
33RO20131223,       A16S,      94,          1,          8,          8,2,20140125,       0321,   -52.4998,     -35.55,       3868,  1998.3,   0.8853,  34.6983,2,  34.6985,2,    203.8,2,   203.8,2,   109.9,6,    31.7,6,    0.00,6,   2.171,6,-999.000,9,-999.000,9,-999.000,9,  -999.0,9, -999.00,9,-999.0000,9, -999.00,-999.0000,9,  -999.00,-999.000,9,   0.8852,2, -999.00,9,  -999.0,9,  -999.0,-999.00000000,9,-999.00000000,9,  1998.3,     -999.0,9,    34.8621,2,     -999.0,9,         -999.0,9,  -999.0,9,20140125,       0402
33RO20131223,       A16S,      94,          1,          7,          7,2,20140125,       0321,   -52.4998,     -35.55,       3868,  2299.5,   0.6884,  34.6908,2,  34.6918,2,    207.6,2,   208.4,2,   113.4,6,    31.9,6,    0.00,6,   2.183,6,   0.488,2,   0.241,2,   0.143,2,  2262.4,2, 2363.48,2,-999.0000,9, -999.00,   7.5837,2,       25,-999.000,9,   0.6884,2, -999.00,9,  -999.0,9,  -999.0,-999.00000000,9,-999.00000000,9,  2299.5,     18.487,2,    34.8554,2,     -999.0,9,         -999.0,9,  -999.0,9,20140125,       0356
33RO20131223,       A16S,      94,          1,          6,          6,2,20140125,       0321,   -52.4998,     -35.55,       3868,  2598.1,   0.5128,  34.6841,2,  34.6847,2,    211.9,2,   212.9,2,   116.0,6,    32.0,6,    0.00,6,   2.193,6,-999.000,9,-999.000,9,-999.000,9,  -999.0,9, -999.00,9,-999.0000,9, -999.00,-999.0000,9,  -999.00,-999.000,9,    0.513,2, -999.00,9,  -999.0,9,  -999.0,-999.00000000,9,-999.00000000,9,  2598.1,     -999.0,9,    34.8482,2,     -999.0,9,         -999.0,9,  -999.0,9,20140125,       0349
33RO20131223,       A16S,      94,          1,          5,          5,2,20140125,       0321,   -52.4998,     -35.55,       3868,  2897.5,   0.3712,  34.6778,2,  34.6779,2,    216.5,2,   216.3,2,   118.2,2,    32.1,2,    0.00,2,   2.205,2,   0.605,6,   0.294,6,   0.179,6,  2261.1,2, 2361.05,2,-999.0000,9, -999.00,   7.5827,6,       25,-999.000,9,    0.371,2, -999.00,9,  -999.0,9,  -999.0,-999.00000000,9,-999.00000000,9,  2897.5,     17.995,6,    34.8414,2,     -999.0,9,         -999.0,9,  -999.0,9,20140125,       0343
33RO20131223,       A16S,      94,          1,          4,          4,2,20140125,       0321,   -52.4998,     -35.55,       3868,  3198.2,   0.2799,  34.6747,2,  34.6751,2,    219.2,2,   219.1,2,   120.4,6,    32.1,6,    0.00,6,   2.210,6,-999.000,9,-999.000,9,-999.000,9,  -999.0,9, -999.00,9,-999.0000,9, -999.00,-999.0000,9,  -999.00,-999.000,9,   0.2796,2, -999.00,9,  -999.0,9,  -999.0,-999.00000000,9,-999.00000000,9,  3198.2,     -999.0,9,    34.8386,2,     -999.0,9,         -999.0,9,  -999.0,9,20140125,       0337
33RO20131223,       A16S,      94,          1,          3,          3,2,20140125,       0321,   -52.4998,     -35.55,       3868,  3498.1,   0.1759,  34.6707,2,  34.6714,2,    222.4,2,   221.6,2,   122.9,6,    32.2,6,    0.00,6,   2.215,6,   0.562,2,   0.266,2,   0.101,2,  2262.6,2, 2360.11,6,-999.0000,9, -999.00,   7.5872,2,       25,-999.000,9,   0.1759,2, -999.00,9,  -999.0,9,  -999.0,-999.00000000,9,-999.00000000,9,  3498.1,     17.698,2,    34.8349,2,     -999.0,9,         -999.0,9,  -999.0,9,20140125,       0331
33RO20131223,       A16S,      94,          1,          2,          2,2,20140125,       0321,   -52.4998,     -35.55,       3868,  3797.5,   0.0515,  34.6638,2,  34.6636,2,    227.7,2,     228,2,   126.0,6,    32.1,6,    0.01,6,   2.218,6,   0.749,2,   0.358,2,   0.170,2,  2262.2,6, 2365.56,2,-999.0000,9, -999.00,   7.5873,2,       25,-999.000,9,   0.0512,2, -999.00,9,  -999.0,9,  -999.0,-999.00000000,9,-999.00000000,9,  3797.5,     17.512,2,    34.8271,6,     -999.0,9,         -999.0,9,  -999.0,9,20140125,       0325
33RO20131223,       A16S,      94,          1,          1,          1,5,20140125,       0321,   -52.4998,     -35.55,       3868,  3926.5,  -0.0136,  34.6604,2,-999.0000,9,      231,2,  -999.0,9,  -999.0,9,  -999.0,9, -999.00,9,-999.000,9,-999.000,9,-999.000,9,-999.000,9,  -999.0,9, -999.00,9,-999.0000,9, -999.00,-999.0000,9,  -999.00,-999.000,9,  -0.0139,2, -999.00,9,  -999.0,9,  -999.0,-999.00000000,9,-999.00000000,9,  3926.5,     -999.0,9,     -999.0,9,     -999.0,9,         -999.0,9,  -999.0,9,20140125,       0321