BOTTLE,20220815CCHSIOAMB
EXPOCODE,SECT_ID,STNNBR,CASTNO,SAMPNO,BTLNBR,BTLNBR_FLAG_W,DATE,TIME,LATITUDE,LONGITUDE,DEPTH,CTDPRS,CTDTMP,CTDSAL,CTDSAL_FLAG_W,SALNTY,SALNTY_FLAG_W,CTDOXY,CTDOXY_FLAG_W,OXYGEN,OXYGEN_FLAG_W,SILCAT,SILCAT_FLAG_W,NITRAT,NITRAT_FLAG_W,NITRIT,NITRIT_FLAG_W,PHSPHT,PHSPHT_FLAG_W,CFC-11,CFC-11_FLAG_W,CFC-12,CFC-12_FLAG_W,SF6,SF6_FLAG_W,TCARBN,TCARBN_FLAG_W,ALKALI,ALKALI_FLAG_W,PCO2,PCO2_FLAG_W,PCO2TMP,PH_SWS,PH_SWS_FLAG_W,PH_TMP,TRITUM,TRITUM_FLAG_W,REFTMP,REFTMP_FLAG_W,DELC13,DELC13_FLAG_W,DELC14,DELC14_FLAG_W,C14ERR,DOC,DOC_FLAG_W,TDN,TDN_FLAG_W,CTDRAW,N2O,N2O_FLAG_W,SALTREF,SALTREF_FLAG_W,HELIUM,HELIUM_FLAG_W,DELO18,DELO18_FLAG_W,CCL4,CCL4_FLAG_W,BTL_DATE,BTL_TIME
,,,,,,,,,,,METERS,DBAR,ITS-90,PSS-78,,PSS-78,,UMOL/KG,,UMOL/KG,,UMOL/KG,,UMOL/KG,,UMOL/KG,,UMOL/KG,,PMOL/KG,,PMOL/KG,,FMOL/KG,,UMOL/KG,,UMOL/KG,,UATM,,DEG C,,,DEG C,TU,,DEG C,,/MILLE,,/MILLE,,/MILLE,UMOL/KG,,UMOL/KG,,DBAR,NMOL/KG,,G/KG,,NMOL/KG,,/MILLE,,PMOL/KG,,,
33RO20131223,       A16S,      70,          1,         24,         24,2,20140116,       0623,   -40.4996,   -28.1006,       4360,       5,  15.9180,  35.2231,2,  35.2227,2,    250.2,2,   249.9,2,     0.4,6,     0.0,6,    0.02,6,   0.177,6,   2.567,6,   1.530,2,   1.725,6,    2068,6,  2328.9,2,-999.0000,9, -999.00,   7.9688,2,       25,-999.000,9,  15.9177,2, -999.00,9,  -999.0,9,  -999.0,-999.00000000,9,-999.00000000,9,     5.0,      8.396,6,    35.3888,2,     -999.0,9,         -999.0,9,  -999.0,9,20140116,       0802
33RO20131223,       A16S,      70,          1,         23,         23,2,20140116,       0623,   -40.4996,   -28.1006,       4360,     9.8,  15.9153,  35.2228,2,  35.2223,2,    250.4,2,     250,2,     0.4,6,     0.0,6,    0.02,6,   0.183,6,-999.000,9,-999.000,9,-999.000,9,  2067.9,2, 2328.81,6,-999.0000,9, -999.00,   7.9668,2,       25,-999.000,9,  15.9164,2, -999.00,9,  -999.0,9,  -999.0,-999.00000000,9,-999.00000000,9,     9.8,     -999.0,9,    35.3884,2,     -999.0,9,         -999.0,9,  -999.0,9,20140116,       0801
33RO20131223,       A16S,      70,          1,         22,         22,2,20140116,       0623,   -40.4996,   -28.1006,       4360,    38.3,  15.6028,  35.2055,2,  35.2032,2,    246.9,2,   247.5,2,     0.6,2,     0.3,2,    0.05,2,   0.218,2,-999.000,9,-999.000,9,-999.000,9,  -999.0,9, -999.00,9,-999.0000,9, -999.00,-999.0000,9,  -999.00,-999.000,9,  15.6029,2, -999.00,9,  -999.0,9,  -999.0,-999.00000000,9,-999.00000000,9,    38.3,     -999.0,9,    35.3692,2,     -999.0,9,         -999.0,9,  -999.0,9,20140116,       0759
33RO20131223,       A16S,      70,          1,         21,         21,2,20140116,       0623,   -40.4996,   -28.1006,       4360,    68.8,  14.6041,  35.2643,2,  35.2544,2,      241,2,   241.9,2,     1.1,2,     2.6,2,    0.38,2,   0.372,2,-999.000,9,-999.000,9,-999.000,9,  2091.2,2, 2327.82,2,-999.0000,9, -999.00,   7.9229,6,       25,-999.000,9,  14.6045,2, -999.00,9,  -999.0,9,  -999.0,-999.00000000,9,-999.00000000,9,    68.8,     -999.0,9,    35.4207,2,     -999.0,9,         -999.0,9,  -999.0,9,20140116,       0757
33RO20131223,       A16S,      70,          1,         20,         20,2,20140116,       0623,   -40.4996,   -28.1006,       4360,   117.1,  13.6319,  35.3133,2,  35.3132,2,    242.4,2,   243.3,2,     1.7,2,     5.6,2,    0.02,2,   0.493,2,-999.000,9,-999.000,9,-999.000,9,    2106,2, 2328.54,2,-999.0000,9, -999.00,    7.894,2,       25,-999.000,9,  13.6319,2, -999.00,9,  -999.0,9,  -999.0,-999.00000000,9,-999.00000000,9,   117.1,     -999.0,9,    35.4798,2,     -999.0,9,         -999.0,9,  -999.0,9,20140116,       0754
33RO20131223,       A16S,      70,          1,         19,         19,2,20140116,       0623,   -40.4996,   -28.1006,       4360,   199.1,  12.4685,  35.1552,2,  35.1622,2,    232.4,2,   232.5,2,     2.4,2,     9.3,2,    0.02,2,   0.722,2,   2.961,2,   1.728,2,   1.700,2,  2120.8,2, 2319.43,2,-999.0000,9, -999.00,     7.85,2,       25,-999.000,9,  12.4854,2, -999.00,9,  -999.0,9,  -999.0,-999.00000000,9,-999.00000000,9,   199.1,     10.623,2,     35.328,2,     -999.0,9,         -999.0,9,  -999.0,9,20140116,       0752
33RO20131223,       A16S,      70,          1,         18,         18,3,20140116,       0623,   -40.4996,   -28.1006,       4360,   298.9,  10.2733,  34.7883,2,  34.7889,2,    237.7,2,   232.1,2,     3.7,2,    14.2,2,    0.01,3,   1.036,3,-999.000,9,-999.000,9,-999.000,9,  2132.5,2, 2300.11,2,-999.0000,9, -999.00,   7.7868,2,       25,-999.000,9,  10.2724,2, -999.00,9,  -999.0,9,  -999.0,-999.00000000,9,-999.00000000,9,   298.9,     -999.0,9,     34.953,2,     -999.0,9,         -999.0,9,  -999.0,9,20140116,       0749
33RO20131223,       A16S,      70,          1,         17,         17,2,20140116,       0623,   -40.4996,   -28.1006,       4360,   397.9,   8.3472,  34.5581,2,  34.5584,2,    222.5,2,   225.5,2,     6.3,2,    19.9,2,    0.01,2,   1.382,2,-999.000,9,-999.000,9,-999.000,9,  2149.2,2, 2289.75,2,-999.0000,9, -999.00,   7.7208,2,       25,-999.000,9,   8.3473,2, -999.00,9,  -999.0,9,  -999.0,-999.00000000,9,-999.00000000,9,   397.9,     -999.0,9,    34.7214,2,     -999.0,9,         -999.0,9,  -999.0,9,20140116,       0746
33RO20131223,       A16S,      70,          1,         16,         16,2,20140116,       0623,   -40.4996,   -28.1006,       4360,   518.1,   6.0583,  34.3038,2,  34.3016,2,    239.7,2,   239.4,2,     9.6,2,    24.5,2,    0.01,2,   1.684,2,-999.000,9,-999.000,9,-999.000,9,  2158.2,2, 2279.85,2,-999.0000,9, -999.00,   7.6742,2,       25,-999.000,9,   6.0567,2, -999.00,9,  -999.0,9,  -999.0,-999.00000000,9,-999.00000000,9,   518.1,     -999.0,9,    34.4633,2,     -999.0,9,         -999.0,9,  -999.0,9,20140116,       0743
33RO20131223,       A16S,      70,          1,         15,         15,2,20140116,       0623,   -40.4996,   -28.1006,       4360,     669,   4.6996,  34.1954,2,  34.1939,2,    256.1,2,     256,2,    12.8,2,    26.3,2,    0.00,2,   1.800,2,-999.000,9,-999.000,9,-999.000,9,  2161.9,2, 2282.57,2,-999.0000,9, -999.00,   7.6636,2,       25,-999.000,9,   4.6991,2,    1.73,2,    27.0,2,     0.2,-999.00000000,9,-999.00000000,9,   669.0,     -999.0,9,    34.3552,2,     -999.0,9,         -999.0,9,  -999.0,9,20140116,       0740
33RO20131223,       A16S,      70,          1,         14,         14,2,20140116,       0623,   -40.4996,   -28.1006,       4360,   817.8,   4.0287,  34.1970,2,  34.1964,2,    248.9,2,   246.5,2,    19.3,2,    28.4,2,    0.01,2,   1.942,2,-999.000,9,-999.000,9,-999.000,9,  -999.0,9, -999.00,9,-999.0000,9, -999.00,-999.0000,9,  -999.00,-999.000,9,   4.0285,2,    1.74,2,    30.8,2,     0.2,-999.00000000,9,-999.00000000,9,   817.8,     -999.0,9,    34.3576,2,     -999.0,9,         -999.0,9,  -999.0,9,20140116,       0736
33RO20131223,       A16S,      70,          1,         13,         13,2,20140116,       0623,   -40.4996,   -28.1006,       4360,     998,   3.3999,  34.2376,2,  34.2357,2,    228.3,2,   229.7,2,    29.8,2,    30.8,2,    0.00,2,   2.102,2,   2.891,2,   1.480,2,   0.943,2,  2195.8,2, 2297.41,2,-999.0000,9, -999.00,   7.6391,3,       25,-999.000,9,   3.4008,2,    1.32,2,    39.5,2,     0.2,-999.00000000,9,-999.00000000,9,   998.0,     18.512,2,    34.3971,6,     -999.0,9,         -999.0,9,  -999.0,9,20140116,       0732
33RO20131223,       A16S,      70,          1,         12,         12,2,20140116,       0623,   -40.4996,   -28.1006,       4360,  1147.9,   3.1513,  34.3254,2,  34.3252,2,    205.9,2,   205.7,2,    41.4,6,    32.4,6,    0.00,6,   2.212,6,-999.000,9,-999.000,9,-999.000,9,  2215.7,2, 2310.52,2,-999.0000,9, -999.00,   7.5789,2,       25,-999.000,9,   3.1517,2,    1.25,2,    37.8,2,     0.2,-999.00000000,9,-999.00000000,9,  1147.9,     -999.0,9,    34.4871,2,     -999.0,9,         -999.0,9,  -999.0,9,20140116,       0729
33RO20131223,       A16S,      70,          1,         11,         11,2,20140116,       0623,   -40.4996,   -28.1006,       4360,  1397.2,   2.9129,  34.4656,2,  34.4639,2,    182.7,2,   183.1,2,    55.3,2,    33.4,2,    0.00,2,   2.281,2,-999.000,9,-999.000,9,-999.000,9,  2236.8,2, 2320.06,6,-999.0000,9, -999.00,   7.5581,2,       25,-999.000,9,    2.913,2,    1.23,2,    29.4,2,     0.2,-999.00000000,9,-999.00000000,9,  1397.2,     -999.0,9,    34.6264,2,     -999.0,9,         -999.0,9,  -999.0,9,20140116,       0724
33RO20131223,       A16S,      70,          1,         10,         10,2,20140116,       0623,   -40.4996,   -28.1006,       4360,  1698.2,   2.8109,  34.5989,2,  34.5973,2,    177.5,2,     178,2,    62.3,2,    32.5,2,    0.00,2,   2.214,2,-999.000,9,-999.000,9,-999.000,9,  2244.3,6, 2330.72,2,-999.0000,9, -999.00,   7.6023,4,       25,-999.000,9,     2.81,2,    1.22,2,    20.5,2,     0.2,-999.00000000,9,-999.00000000,9,  1698.2,     -999.0,9,    34.7605,2,     -999.0,9,         -999.0,9,  -999.0,9,20140116,       0718
33RO20131223,       A16S,      70,          1,          9,          9,2,20140116,       0623,   -40.4996,   -28.1006,       4360,  1998.4,   2.8431,  34.7231,2,  34.7214,2,    187.4,2,   189.3,2,    60.5,2,    29.9,2,    0.00,2,   2.023,2,   0.223,2,   0.106,2,   0.068,2,  2235.7,2, 2335.28,2,-999.0000,9, -999.00,   7.5995,2,       25,-999.000,9,   2.8437,2,    1.20,2,    -5.0,2,     0.2,-999.00000000,9,-999.00000000,9,  1998.4,     19.687,2,    34.8851,2,     -999.0,9,         -999.0,9,  -999.0,9,20140116,       0712
33RO20131223,       A16S,      70,          1,          8,          8,2,20140116,       0623,   -40.4996,   -28.1006,       4360,  2297.6,   2.6748,  34.7776,2,  34.7744,2,    198.5,2,   198.2,2,    62.9,2,    28.5,2,    0.00,2,   1.923,2,-999.000,9,-999.000,9,-999.000,9,  -999.0,9, -999.00,9,-999.0000,9, -999.00,-999.0000,9,  -999.00,-999.000,9,    2.674,2,    1.22,2,   -18.3,2,     0.2,-999.00000000,9,-999.00000000,9,  2297.6,     -999.0,9,    34.9384,2,     -999.0,9,         -999.0,9,  -999.0,9,20140116,       0706
33RO20131223,       A16S,      70,          1,          7,          7,2,20140116,       0623,   -40.4996,   -28.1006,       4360,  2596.7,   2.5289,  34.8080,2,  34.8062,2,    209.9,2,   209.3,2,    62.3,2,    27.1,2,    0.00,2,   1.832,2,   0.128,2,   0.062,2,   0.049,2,  2226.2,2, 2341.93,2,-999.0000,9, -999.00,    7.641,2,       25,-999.000,9,   2.5287,2,    1.16,6,   -28.1,6,     0.8,-999.00000000,9,-999.00000000,9,  2596.7,     17.506,2,    34.9704,2,     -999.0,9,         -999.0,9,  -999.0,9,20140116,       0700
33RO20131223,       A16S,      70,          1,          6,          6,2,20140116,       0623,   -40.4996,   -28.1006,       4360,  2897.5,   2.2646,  34.8153,2,  34.8140,2,    216.7,2,     216,2,    65.4,2,    26.6,2,    0.00,2,   1.796,2,-999.000,9,-999.000,9,-999.000,9,  -999.0,9, -999.00,9,-999.0000,9, -999.00,-999.0000,9,  -999.00,-999.000,9,   2.2644,2,    1.06,6,   -57.6,6,     2.7,-999.00000000,9,-999.00000000,9,  2897.5,     -999.0,9,    34.9782,2,     -999.0,9,         -999.0,9,  -999.0,9,20140116,       0654
33RO20131223,       A16S,      70,          1,          5,          5,2,20140116,       0623,   -40.4996,   -28.1006,       4360,    3197,   1.7572,  34.7690,2,  34.7667,2,    209.1,2,   208.9,2,    85.2,2,    28.9,2,    0.00,2,   1.959,2,   0.113,2,   0.053,2,   0.000,2,  2241.9,2, 2353.39,6,-999.0000,9, -999.00,   7.6238,2,       25,-999.000,9,    1.757,2,    0.94,6,   -73.3,6,     0.2,-999.00000000,9,-999.00000000,9,  3197.0,     17.676,2,    34.9307,2,     -999.0,9,         -999.0,9,  -999.0,9,20140116,       0648
33RO20131223,       A16S,      70,          1,          4,          4,2,20140116,       0623,   -40.4996,   -28.1006,       4360,  3496.2,   1.2964,  34.7312,2,  34.7280,2,    206.2,2,   206.4,2,   102.1,6,    30.7,6,    0.00,6,   2.091,6,-999.000,9,-999.000,9,-999.000,9,  -999.0,9, -999.00,9,-999.0000,9, -999.00,-999.0000,9,  -999.00,-999.000,9,   1.2963,2,    0.80,6,   -90.8,6,     3.1,-999.00000000,9,-999.00000000,9,  3496.2,     -999.0,9,    34.8917,2,     -999.0,9,         -999.0,9,  -999.0,9,20140116,       0642
33RO20131223,       A16S,      70,          1,          3,          3,2,20140116,       0623,   -40.4996,   -28.1006,       4360,  3847.6,   0.8910,  34.7080,2,  34.7048,2,    211.3,2,   210.5,2,   112.1,6,    31.5,6,    0.00,6,   2.150,6,   0.255,2,   0.119,2,   0.072,2,  2258.9,2, 2358.91,2,-999.0000,9, -999.00,   7.5972,6,       25,-999.000,9,   0.8907,2,    0.66,6,  -118.7,6,     2.0,-999.00000000,9,-999.00000000,9,  3847.6,     18.179,2,    34.8684,2,     -999.0,9,         -999.0,9,  -999.0,9,20140116,       0635
33RO20131223,       A16S,      70,          1,          2,          2,2,20140116,       0623,   -40.4996,   -28.1006,       4360,  4248.4,   0.4830,  34.6824,2,  34.6804,2,    216.2,2,     216,2,   122.9,6,    32.3,6,    0.00,6,   2.209,6,-999.000,9,-999.000,9,-999.000,9,  -999.0,9, -999.00,9,-999.0000,9, -999.00,-999.0000,9,  -999.00,-999.000,9,    0.483,2,    0.55,6,  -128.5,6,     1.1,-999.00000000,9,-999.00000000,9,  4248.4,     -999.0,9,     34.844,2,     -999.0,9,         -999.0,9,  -999.0,9,20140116,       0627
33RO20131223,       A16S,      70,          1,          1,          1,2,20140116,       0623,   -40.4996,   -28.1006,       4360,  4426.6,   0.4251,  34.6782,2,  34.6770,2,    217.8,2,   217.8,2,   124.8,6,    32.4,6,    0.00,6,   2.216,6,   0.453,2,   0.213,2,   0.094,2,  2266.9,6, 2366.42,2,-999.0000,9, -999.00,   7.5927,2,       25,-999.000,9,   0.4251,2,    0.59,6,  -134.1,6,     0.1,-999.00000000,9,-999.00000000,9,  4426.6,     18.181,2,    34.8405,6,     -999.0,9,         -999.0,9,  -999.0,9,20140116,       0623