BOTTLE,20220815CCHSIOAMB
EXPOCODE,SECT_ID,STNNBR,CASTNO,SAMPNO,BTLNBR,BTLNBR_FLAG_W,DATE,TIME,LATITUDE,LONGITUDE,DEPTH,CTDPRS,CTDTMP,CTDSAL,CTDSAL_FLAG_W,SALNTY,SALNTY_FLAG_W,CTDOXY,CTDOXY_FLAG_W,OXYGEN,OXYGEN_FLAG_W,SILCAT,SILCAT_FLAG_W,NITRAT,NITRAT_FLAG_W,NITRIT,NITRIT_FLAG_W,PHSPHT,PHSPHT_FLAG_W,CFC-11,CFC-11_FLAG_W,CFC-12,CFC-12_FLAG_W,SF6,SF6_FLAG_W,TCARBN,TCARBN_FLAG_W,ALKALI,ALKALI_FLAG_W,PCO2,PCO2_FLAG_W,PCO2TMP,PH_SWS,PH_SWS_FLAG_W,PH_TMP,TRITUM,TRITUM_FLAG_W,REFTMP,REFTMP_FLAG_W,DELC13,DELC13_FLAG_W,DELC14,DELC14_FLAG_W,C14ERR,DOC,DOC_FLAG_W,TDN,TDN_FLAG_W,CTDRAW,N2O,N2O_FLAG_W,SALTREF,SALTREF_FLAG_W,HELIUM,HELIUM_FLAG_W,DELO18,DELO18_FLAG_W,CCL4,CCL4_FLAG_W,BTL_DATE,BTL_TIME
,,,,,,,,,,,METERS,DBAR,ITS-90,PSS-78,,PSS-78,,UMOL/KG,,UMOL/KG,,UMOL/KG,,UMOL/KG,,UMOL/KG,,UMOL/KG,,PMOL/KG,,PMOL/KG,,FMOL/KG,,UMOL/KG,,UMOL/KG,,UATM,,DEG C,,,DEG C,TU,,DEG C,,/MILLE,,/MILLE,,/MILLE,UMOL/KG,,UMOL/KG,,DBAR,NMOL/KG,,G/KG,,NMOL/KG,,/MILLE,,PMOL/KG,,,
33RO20131223,       A16S,      48,          1,         24,         24,2,20140109,       1634,   -29.5003,        -25,       5348,     2.7,  24.8335,  36.0639,2,-999.0000,9,   -999.0,9,  -999.0,9,  -999.0,9,  -999.0,9, -999.00,9,-999.000,9,-999.000,5,-999.000,9,-999.000,9,  -999.0,9, -999.00,9,-999.0000,9, -999.00,-999.0000,9,  -999.00,-999.000,9,  24.8333,2, -999.00,9,  -999.0,9,  -999.0,-999.00000000,9,-999.00000000,9,  -999.0,     -999.0,9,     -999.0,9,     -999.0,9,         -999.0,9,  -999.0,9,20140109,       1833
33RO20131223,       A16S,      48,          1,         23,         23,2,20140109,       1634,   -29.5003,        -25,       5348,    27.9,  22.3877,  35.9387,2,-999.0000,9,   -999.0,9,  -999.0,9,  -999.0,9,  -999.0,9, -999.00,9,-999.000,9,-999.000,5,-999.000,9,-999.000,9,  -999.0,9, -999.00,9,-999.0000,9, -999.00,-999.0000,9,  -999.00,-999.000,9,       -9,2, -999.00,9,  -999.0,9,  -999.0,-999.00000000,9,-999.00000000,9,  -999.0,     -999.0,9,     -999.0,9,     -999.0,9,         -999.0,9,  -999.0,9,20140109,       1831
33RO20131223,       A16S,      48,          1,         22,         22,2,20140109,       1634,   -29.5003,        -25,       5348,    62.7,  20.5212,  36.1613,2,-999.0000,9,   -999.0,9,  -999.0,9,  -999.0,9,  -999.0,9, -999.00,9,-999.000,9,-999.000,5,-999.000,9,-999.000,9,  -999.0,9, -999.00,9,-999.0000,9, -999.00,-999.0000,9,  -999.00,-999.000,9,  20.5192,2, -999.00,9,  -999.0,9,  -999.0,-999.00000000,9,-999.00000000,9,  -999.0,     -999.0,9,     -999.0,9,     -999.0,9,         -999.0,9,  -999.0,9,20140109,       1829
33RO20131223,       A16S,      48,          1,         21,         21,2,20140109,       1634,   -29.5003,        -25,       5348,   113.2,  18.8527,   35.946,2,-999.0000,9,   -999.0,9,  -999.0,9,  -999.0,9,  -999.0,9, -999.00,9,-999.000,9,-999.000,5,-999.000,9,-999.000,9,  -999.0,9, -999.00,9,-999.0000,9, -999.00,-999.0000,9,  -999.00,-999.000,9,       -9,2, -999.00,9,  -999.0,9,  -999.0,-999.00000000,9,-999.00000000,9,  -999.0,     -999.0,9,     -999.0,9,     -999.0,9,         -999.0,9,  -999.0,9,20140109,       1826
33RO20131223,       A16S,      48,          1,         20,         20,2,20140109,       1634,   -29.5003,        -25,       5348,   183.2,  16.9877,  35.7028,2,  35.7032,6,    227.7,2,   227.8,2,     1.0,2,     0.5,2,    0.08,2,   0.190,2,-999.000,5,-999.000,9,-999.000,9,  -999.0,5, 2347.42,2,-999.0000,9, -999.00,   7.9456,2,       25,-999.000,9,       -9,2, -999.00,9,  -999.0,9,  -999.0,-999.00000000,9,-999.00000000,9,  -999.0,     -999.0,9,    35.8716,6,     -999.0,9,         -999.0,9,  -999.0,9,20140109,       1823
33RO20131223,       A16S,      48,          1,         19,         19,2,20140109,       1634,   -29.5003,        -25,       5348,   259.1,  15.4985,  35.5640,2,  35.5554,2,    209.2,2,   208.8,2,     2.0,2,     5.1,2,    0.01,2,   0.469,2,-999.000,5,-999.000,9,-999.000,9,  2112.7,2, 2339.29,2,-999.0000,9, -999.00,   7.8897,2,       25,-999.000,9,  15.4978,2, -999.00,9,  -999.0,9,  -999.0,-999.00000000,9,-999.00000000,9,   259.1,     -999.0,9,     35.723,2,     -999.0,9,         -999.0,9,  -999.0,9,20140109,       1821
33RO20131223,       A16S,      48,          1,         18,         18,2,20140109,       1634,   -29.5003,        -25,       5348,   348.5,  13.6798,  35.3105,2,  35.3052,2,    211.4,2,   211.2,2,     2.7,2,     8.4,2,    0.01,2,   0.672,2,-999.000,5,-999.000,9,-999.000,9,  -999.0,9, -999.00,9,-999.0000,9, -999.00,-999.0000,9,  -999.00,-999.000,9,  13.6766,2, -999.00,9,  -999.0,9,  -999.0,-999.00000000,9,-999.00000000,9,   348.5,     -999.0,9,    35.4716,2,     -999.0,9,         -999.0,9,  -999.0,9,20140109,       1818
33RO20131223,       A16S,      48,          1,         17,         17,2,20140109,       1634,   -29.5003,        -25,       5348,   448.7,  12.1472,  35.1011,2,  35.1005,2,    211.2,2,   210.8,2,     3.9,2,    11.9,2,    0.01,2,   0.887,2,-999.000,5,-999.000,9,-999.000,9,    2132,2, 2312.99,6,-999.0000,9, -999.00,   7.8064,2,       25,-999.000,9,  12.1529,2, -999.00,9,  -999.0,9,  -999.0,-999.00000000,9,-999.00000000,9,   448.7,     -999.0,9,     35.266,2,     -999.0,9,         -999.0,9,  -999.0,9,20140109,       1815
33RO20131223,       A16S,      48,          1,         16,         16,2,20140109,       1634,   -29.5003,        -25,       5348,   573.4,   9.7901,  34.7818,2,  34.7764,2,    204.4,2,   204.4,2,     7.1,2,    18.1,2,    0.00,2,   1.274,2,-999.000,5,-999.000,9,-999.000,9,  2149.9,2, 2302.12,2,-999.0000,9, -999.00,    7.735,2,       25,-999.000,9,   9.7897,2, -999.00,9,  -999.0,9,  -999.0,-999.00000000,9,-999.00000000,9,   573.4,     -999.0,9,    34.9404,2,     -999.0,9,         -999.0,9,  -999.0,9,20140109,       1812
33RO20131223,       A16S,      48,          1,         15,         15,2,20140109,       1634,   -29.5003,        -25,       5348,     723,   7.1098,  34.4818,2,  34.4810,2,    207.5,2,   206.9,2,    12.9,2,    24.3,2,    0.00,2,   1.677,2,-999.000,5,-999.000,9,-999.000,9,  2167.7,2, 2291.72,2,-999.0000,9, -999.00,   7.6673,2,       25,-999.000,9,   7.1076,2, -999.00,9,  -999.0,9,  -999.0,-999.00000000,9,-999.00000000,9,   723.0,     -999.0,9,    34.6436,2,     -999.0,9,         -999.0,9,  -999.0,9,20140109,       1808
33RO20131223,       A16S,      48,          1,         14,         14,2,20140109,       1634,   -29.5003,        -25,       5348,   872.6,   5.1154,  34.3388,2,  34.3377,2,      212,2,   211.4,2,    21.4,2,    28.4,2,    0.00,2,   1.952,2,-999.000,5,-999.000,9,-999.000,9,  2183.7,2, 2290.06,2,-999.0000,9, -999.00,   7.6282,6,       25,-999.000,9,    5.118,2, -999.00,9,  -999.0,9,  -999.0,-999.00000000,9,-999.00000000,9,   872.6,     -999.0,9,    34.4996,2,     -999.0,9,         -999.0,9,  -999.0,9,20140109,       1804
33RO20131223,       A16S,      48,          1,         13,         13,2,20140109,       1634,   -29.5003,        -25,       5348,  1049.3,   3.8994,  34.3419,2,  34.3406,2,    205.1,2,   204.3,2,    33.8,2,    30.9,2,    0.00,2,   2.133,2,-999.000,5,-999.000,9,-999.000,9,  2203.1,2, 2300.91,2,-999.0000,9, -999.00,   7.5967,2,       25,-999.000,9,   3.8991,2, -999.00,9,  -999.0,9,  -999.0,-999.00000000,9,-999.00000000,9,  1049.3,     -999.0,9,    34.5026,2,     -999.0,9,         -999.0,9,  -999.0,9,20140109,       1800
33RO20131223,       A16S,      48,          1,         12,         12,2,20140109,       1634,   -29.5003,        -25,       5348,  1198.5,   3.3814,  34.4152,2,  34.4148,2,      192,2,     192,2,    44.3,2,    32.0,2,    0.00,2,   2.219,2,-999.000,5,-999.000,9,-999.000,9,  -999.0,9, -999.00,9,-999.0000,9, -999.00,-999.0000,9,  -999.00,-999.000,9,   3.3816,2, -999.00,9,  -999.0,9,  -999.0,-999.00000000,9,-999.00000000,9,  1198.5,     -999.0,9,    34.5771,2,     -999.0,9,         -999.0,9,  -999.0,9,20140109,       1756
33RO20131223,       A16S,      48,          1,         11,         11,2,20140109,       1634,   -29.5003,        -25,       5348,  1397.3,   3.0514,  34.5588,2,  34.5577,2,    184.3,2,   184.8,2,    52.5,2,    31.5,2,    0.00,2,   2.170,2,-999.000,5,-999.000,9,-999.000,9,  2229.4,6, 2324.63,6,-999.0000,9, -999.00,   7.5824,2,       25,-999.000,9,   3.0519,2, -999.00,9,  -999.0,9,  -999.0,-999.00000000,9,-999.00000000,9,  1397.3,     -999.0,9,    34.7207,2,     -999.0,9,         -999.0,9,  -999.0,9,20140109,       1752
33RO20131223,       A16S,      48,          1,         10,         10,2,20140109,       1634,   -29.5003,        -25,       5348,  1749.1,   2.8123,  34.7188,2,  34.7183,2,    199.6,2,   199.8,2,    52.8,2,    28.4,2,    0.00,2,   1.946,2,-999.000,5,-999.000,9,-999.000,9,  -999.0,9, -999.00,9,-999.0000,9, -999.00,-999.0000,9,  -999.00,-999.000,9,   2.8124,2, -999.00,9,  -999.0,9,  -999.0,-999.00000000,9,-999.00000000,9,  1749.1,     -999.0,9,     34.882,2,     -999.0,9,         -999.0,9,  -999.0,9,20140109,       1745
33RO20131223,       A16S,      48,          1,          9,          9,2,20140109,       1634,   -29.5003,        -25,       5348,  2198.8,   2.7178,  34.8277,2,  34.8274,2,      223,2,   223.8,2,    45.8,2,    24.8,2,    0.00,2,   1.682,2,-999.000,5,-999.000,9,-999.000,9,  2202.3,2, 2334.03,2,-999.0000,9, -999.00,   7.6754,2,       25,-999.000,9,   2.7177,2, -999.00,9,  -999.0,9,  -999.0,-999.00000000,9,-999.00000000,9,  2198.8,     -999.0,9,    34.9916,2,     -999.0,9,         -999.0,9,  -999.0,9,20140109,       1736
33RO20131223,       A16S,      48,          1,          8,          8,2,20140109,       1634,   -29.5003,        -25,       5348,  2497.2,   2.7766,  34.8799,2,  34.8787,2,    237.1,2,   236.5,2,    38.4,2,    22.5,2,    0.00,2,   1.523,2,-999.000,5,-999.000,9,-999.000,9,    2189,2, 2331.21,2,-999.0000,9, -999.00,   7.7015,2,       25,-999.000,9,   2.7767,2, -999.00,9,  -999.0,9,  -999.0,-999.00000000,9,-999.00000000,9,  2497.2,     -999.0,9,    35.0432,2,     -999.0,9,         -999.0,9,  -999.0,9,20140109,       1730
33RO20131223,       A16S,      48,          1,          7,          7,2,20140109,       1634,   -29.5003,        -25,       5348,  2947.5,   2.7184,  34.9035,2,  34.9031,2,    245.8,2,   247.1,2,    35.7,2,    21.4,2,    0.00,2,   1.440,2,-999.000,5,-999.000,9,-999.000,9,  2183.2,2, 2329.08,2,-999.0000,9, -999.00,   7.7191,2,       25,-999.000,9,   2.7186,2, -999.00,9,  -999.0,9,  -999.0,-999.00000000,9,-999.00000000,9,  2947.5,     -999.0,9,    35.0677,2,     -999.0,9,         -999.0,9,  -999.0,9,20140109,       1722
33RO20131223,       A16S,      48,          1,          6,          6,2,20140109,       1634,   -29.5003,        -25,       5348,  3447.5,   2.3068,  34.8748,2,  34.8742,2,    243.8,2,   244.2,2,    47.3,2,    22.5,2,    0.00,2,   1.526,2,-999.000,5,-999.000,9,-999.000,9,  -999.0,9, -999.00,9,-999.0000,9, -999.00,-999.0000,9,  -999.00,-999.000,9,   2.3084,2, -999.00,9,  -999.0,9,  -999.0,-999.00000000,9,-999.00000000,9,  3447.5,     -999.0,9,    35.0386,2,     -999.0,9,         -999.0,9,  -999.0,9,20140109,       1713
33RO20131223,       A16S,      48,          1,          5,          5,2,20140109,       1634,   -29.5003,        -25,       5348,  3949.2,   1.5492,  34.7960,2,  34.7951,2,    230.7,2,   231.8,2,    76.9,2,    26.5,2,    0.00,2,   1.813,2,-999.000,5,-999.000,9,-999.000,9,  2223.3,2, 2353.18,2,-999.0000,9, -999.00,   7.6666,2,       25,-999.000,9,   1.5486,2, -999.00,9,  -999.0,9,  -999.0,-999.00000000,9,-999.00000000,9,  3949.2,     -999.0,9,    34.9592,2,     -999.0,9,         -999.0,9,  -999.0,9,20140109,       1703
33RO20131223,       A16S,      48,          1,          4,          4,2,20140109,       1634,   -29.5003,        -25,       5348,  4446.7,   1.2908,  34.7648,2,  34.7620,2,    225.9,2,     227,2,    88.9,6,    28.2,6,    0.00,6,   1.927,6,-999.000,5,-999.000,9,-999.000,9,  -999.0,9, -999.00,9,-999.0000,9, -999.00,-999.0000,9,  -999.00,-999.000,9,   1.2908,2, -999.00,9,  -999.0,9,  -999.0,-999.00000000,9,-999.00000000,9,  4446.7,     -999.0,9,    34.9259,2,     -999.0,9,         -999.0,9,  -999.0,9,20140109,       1654
33RO20131223,       A16S,      48,          1,          3,          3,2,20140109,       1634,   -29.5003,        -25,       5348,  4947.2,   1.2624,  34.7548,2,  34.7550,2,    224.7,2,   225.3,2,    92.5,6,    28.7,6,    0.00,6,   1.959,6,-999.000,5,-999.000,9,-999.000,9,  2239.6,2, 2357.86,2,-999.0000,9, -999.00,   7.6413,6,       25,-999.000,9,   1.2627,2, -999.00,9,  -999.0,9,  -999.0,-999.00000000,9,-999.00000000,9,  4947.2,     -999.0,9,    34.9189,2,     -999.0,9,         -999.0,9,  -999.0,9,20140109,       1645
33RO20131223,       A16S,      48,          1,          2,          2,2,20140109,       1634,   -29.5003,        -25,       5348,  5298.2,   1.2932,  34.7529,2,  34.7533,2,    226.5,2,   224.9,2,    93.2,6,    28.8,6,    0.00,6,   1.965,6,-999.000,5,-999.000,9,-999.000,9,  2240.4,2, 2362.01,6,-999.0000,9, -999.00,   7.6428,2,       25,-999.000,9,   1.2935,2, -999.00,9,  -999.0,9,  -999.0,-999.00000000,9,-999.00000000,9,  5298.2,     -999.0,9,    34.9172,6,     -999.0,9,         -999.0,9,  -999.0,9,20140109,       1638
33RO20131223,       A16S,      48,          1,          1,          1,2,20140109,       1634,   -29.5003,        -25,       5348,    5429,   1.3042,  34.7525,2,  34.7533,2,      227,2,   224.8,2,    93.2,6,    28.8,6,    0.00,6,   1.965,6,-999.000,5,-999.000,9,-999.000,9,    2242,6, 2362.97,2,-999.0000,9, -999.00,   7.6417,2,       25,-999.000,9,   1.3045,2, -999.00,9,  -999.0,9,  -999.0,-999.00000000,9,-999.00000000,9,  5429.0,     -999.0,9,    34.9171,2,     -999.0,9,         -999.0,9,  -999.0,9,20140109,       1634