BOTTLE,20220815CCHSIOAMB
EXPOCODE,SECT_ID,STNNBR,CASTNO,SAMPNO,BTLNBR,BTLNBR_FLAG_W,DATE,TIME,LATITUDE,LONGITUDE,DEPTH,CTDPRS,CTDTMP,CTDSAL,CTDSAL_FLAG_W,SALNTY,SALNTY_FLAG_W,CTDOXY,CTDOXY_FLAG_W,OXYGEN,OXYGEN_FLAG_W,SILCAT,SILCAT_FLAG_W,NITRAT,NITRAT_FLAG_W,NITRIT,NITRIT_FLAG_W,PHSPHT,PHSPHT_FLAG_W,CFC-11,CFC-11_FLAG_W,CFC-12,CFC-12_FLAG_W,SF6,SF6_FLAG_W,TCARBN,TCARBN_FLAG_W,ALKALI,ALKALI_FLAG_W,PCO2,PCO2_FLAG_W,PCO2TMP,PH_SWS,PH_SWS_FLAG_W,PH_TMP,TRITUM,TRITUM_FLAG_W,REFTMP,REFTMP_FLAG_W,DELC13,DELC13_FLAG_W,DELC14,DELC14_FLAG_W,C14ERR,DOC,DOC_FLAG_W,TDN,TDN_FLAG_W,CTDRAW,N2O,N2O_FLAG_W,SALTREF,SALTREF_FLAG_W,HELIUM,HELIUM_FLAG_W,DELO18,DELO18_FLAG_W,CCL4,CCL4_FLAG_W,BTL_DATE,BTL_TIME
,,,,,,,,,,,METERS,DBAR,ITS-90,PSS-78,,PSS-78,,UMOL/KG,,UMOL/KG,,UMOL/KG,,UMOL/KG,,UMOL/KG,,UMOL/KG,,PMOL/KG,,PMOL/KG,,FMOL/KG,,UMOL/KG,,UMOL/KG,,UATM,,DEG C,,,DEG C,TU,,DEG C,,/MILLE,,/MILLE,,/MILLE,UMOL/KG,,UMOL/KG,,DBAR,NMOL/KG,,G/KG,,NMOL/KG,,/MILLE,,PMOL/KG,,,
33RO20131223,       A16S,      61,          1,         24,         24,2,20140113,       1004,        -36,   -25.3001,       4039,       5,  19.8445,  35.3423,2,  35.3433,2,    232.1,2,   232.7,2,     0.8,2,     0.1,6,    0.00,6,   0.126,6,   2.172,2,   1.345,2,   1.510,2,  2062.3,6, 2331.59,2,   396.08,2,      20,   7.9679,2,       25,-999.000,9,  19.8438,2, -999.00,9,  -999.0,9,  -999.0,  58.31530188,2,         3.98,2,     5.0,      7.637,2,      35.51,2,     -999.0,9,         -999.0,9,  -999.0,9,20140113,       1137
33RO20131223,       A16S,      61,          1,         23,         23,2,20140113,       1004,        -36,   -25.3001,       4039,    28.3,  18.2711,  35.3506,2,  35.3565,2,    242.1,2,     243,2,     0.9,2,     0.1,6,    0.00,6,   0.135,6,   2.322,2,   1.424,2,   1.589,2,  2064.9,2, 2331.21,2,    397.1,2,      20,   7.9668,2,       25,-999.000,9,  18.4198,2, -999.00,9,  -999.0,9,  -999.0,  57.53900137,2,         4.11,2,    28.3,      7.958,2,    35.5232,2,     -999.0,9,         -999.0,9,  -999.0,9,20140113,       1135
33RO20131223,       A16S,      61,          1,         22,         22,3,20140113,       1004,        -36,   -25.3001,       4039,    63.6,  14.6824,  35.3871,2,  35.3860,2,    236.7,2,   237.4,2,     1.1,2,     2.8,6,    0.10,3,   0.330,3,-999.000,5,-999.000,5,-999.000,5,  2094.2,2, 2330.41,6,    458.4,2,      20,   7.9114,2,       25,-999.000,9,  14.6817,2, -999.00,9,  -999.0,9,  -999.0,  53.91855567,2,         6.74,2,    63.6,     -999.0,5,    35.5528,2,     -999.0,9,         -999.0,9,  -999.0,9,20140113,       1133
33RO20131223,       A16S,      61,          1,         21,         21,2,20140113,       1004,        -36,   -25.3001,       4039,   112.7,  14.1404,  35.3941,2,  35.3944,2,    227.6,2,   227.7,2,     1.7,2,     5.6,6,    0.02,6,   0.480,6,   2.684,2,   1.622,2,   1.614,2,  2108.2,2, 2333.98,2,   495.87,2,      20,    7.882,2,       25,-999.000,9,  14.1396,2, -999.00,9,  -999.0,9,  -999.0,   52.7712797,2,         8.74,2,   112.7,     10.086,2,    35.5613,2,     -999.0,9,         -999.0,9,  -999.0,9,20140113,       1131
33RO20131223,       A16S,      61,          1,         20,         20,2,20140113,       1004,        -36,   -25.3001,       4039,   183.5,  13.6245,  35.3594,2,  35.3595,2,      233,2,     224,2,     2.1,2,     7.5,6,    0.02,6,   0.595,6,   2.781,6,   1.650,2,   1.590,6,  2116.4,2, 2334.22,2,  520.935,6,      20,    7.863,2,       25,-999.000,9,  13.6237,2, -999.00,9,  -999.0,9,  -999.0,  50.24315063,2,        10.44,2,   183.5,     11.123,6,    35.5262,2,     -999.0,9,         -999.0,9,  -999.0,9,20140113,       1129
33RO20131223,       A16S,      61,          1,         19,         19,2,20140113,       1004,        -36,   -25.3001,       4039,   258.1,  13.0638,  35.2790,2,  35.2794,2,    234.6,2,   229.6,2,     2.3,2,     8.3,6,    0.01,6,   0.648,6,   2.827,2,   1.687,2,   1.624,2,  2117.1,2, 2325.19,2,   528.89,2,      20,   7.8586,2,       25,-999.000,9,  13.0616,2, -999.00,9,  -999.0,9,  -999.0,  47.22038762,2,        11.03,2,   258.1,     10.975,2,    35.4458,2,     -999.0,9,         -999.0,9,  -999.0,9,20140113,       1126
33RO20131223,       A16S,      61,          1,         18,         18,2,20140113,       1004,        -36,   -25.3001,       4039,   347.5,  11.7568,  35.0568,2,  35.0592,2,    222.9,2,   220.7,2,     3.3,2,    12.2,6,    0.01,6,   0.889,6,   3.013,2,   1.754,2,   1.510,2,  2128.1,2, 2313.64,2,   595.08,2,      20,   7.8084,2,       25,-999.000,9,  11.7554,2, -999.00,9,  -999.0,9,  -999.0,  45.60595737,2,        14.92,2,   347.5,     12.029,2,    35.2246,2,     -999.0,9,         -999.0,9,  -999.0,9,20140113,       1124
33RO20131223,       A16S,      61,          1,         17,         17,2,20140113,       1004,        -36,   -25.3001,       4039,   448.2,   9.6768,  34.7634,2,  34.7602,2,    212.1,2,   211.8,2,     5.9,2,    18.2,6,    0.01,6,   1.256,6,   3.255,2,   1.825,2,   1.264,2,  2144.6,2, 2298.77,2,  707.275,2,      20,   7.7416,2,       25,-999.000,9,   9.6718,2, -999.00,9,  -999.0,9,  -999.0,  44.41746191,2,        20.79,2,   448.2,     14.131,2,    34.9241,2,     -999.0,9,         -999.0,9,  -999.0,9,20140113,       1121
33RO20131223,       A16S,      61,          1,         16,         16,2,20140113,       1004,        -36,   -25.3001,       4039,   573.2,   7.1954,  34.4544,2,  34.4560,2,    222.1,2,   221.3,2,     9.3,2,    23.3,6,    0.01,6,   1.592,6,   3.570,2,   1.896,2,   1.184,2,  2154.6,2, 2289.93,2, 807.0175,6,      20,   7.6865,2,       25,-999.000,9,   7.1941,2, -999.00,9,  -999.0,9,  -999.0,  42.42518628,2,        25.84,2,   573.2,     15.459,2,    34.6185,2,     -999.0,9,         -999.0,9,  -999.0,9,20140113,       1118
33RO20131223,       A16S,      61,          1,         15,         15,2,20140113,       1004,        -36,   -25.3001,       4039,   648.3,   6.0684,  34.3488,2,  34.3482,2,    227.8,2,   228.3,2,    11.9,2,    25.4,6,    0.00,6,   1.728,6,   3.542,6,   1.871,2,   1.105,6,  2160.8,2, 2289.99,3,    846.1,2,      20,   7.6654,2,       25,-999.000,9,    6.064,2, -999.00,9,  -999.0,9,  -999.0,  40.38482124,2,        28.04,2,   648.3,     15.884,6,    34.5101,2,     -999.0,9,         -999.0,9,  -999.0,9,20140113,       1116
33RO20131223,       A16S,      61,          1,         14,         14,2,20140113,       1004,        -36,   -25.3001,       4039,   747.9,   4.9303,  34.2532,2,  34.2532,2,    239.4,2,   238.9,2,    15.2,2,    27.1,6,    0.00,6,   1.848,6,   3.580,2,   1.867,2,   1.111,2,  2164.6,2, 2280.77,2,  873.405,3,      20,   7.6533,2,       25,-999.000,9,   4.9354,2, -999.00,9,  -999.0,9,  -999.0,  39.92453688,2,        29.69,2,   747.9,     16.091,2,    34.4147,6,     -999.0,9,         -999.0,9,  -999.0,9,20140113,       1113
33RO20131223,       A16S,      61,          1,         13,         13,2,20140113,       1004,        -36,   -25.3001,       4039,     898,   3.9075,  34.2276,2,  34.2271,2,    234.9,2,     235,2,    23.3,2,    29.6,6,    0.00,6,   2.013,6,   3.139,2,   1.610,2,   0.858,2,  2178.7,2, 2289.62,2,   939.74,2,      20,   7.6308,2,       25,-999.000,9,   3.9086,2, -999.00,9,  -999.0,9,  -999.0,  39.42990293,2,        32.05,2,   898.0,     17.440,2,    34.3884,2,     -999.0,9,         -999.0,9,  -999.0,9,20140113,       1109
33RO20131223,       A16S,      61,          1,         12,         12,2,20140113,       1004,        -36,   -25.3001,       4039,   997.7,   3.5119,  34.2569,2,  34.2589,2,    223.8,2,   223.9,2,    30.8,2,    31.0,6,    0.00,6,   2.111,6,   2.611,2,   1.317,2,   0.646,2,    2192,2, 2293.93,2,  1020.28,2,      20,   7.6067,2,       25,-999.000,9,    3.512,2, -999.00,9,  -999.0,9,  -999.0,  39.39555335,2,        33.54,2,   997.7,     18.704,2,    34.4205,2,     -999.0,9,         -999.0,9,  -999.0,9,20140113,       1106
33RO20131223,       A16S,      61,          1,         11,         11,2,20140113,       1004,        -36,   -25.3001,       4039,  1146.5,   3.1647,  34.3299,2,  34.3297,2,    205.8,2,   206.6,2,    41.5,2,    32.5,6,    0.00,6,   2.217,6,   1.812,2,   0.899,2,   0.420,2,  2209.9,2, 2306.05,2,  1086.85,2,      20,   7.5825,2,       25,-999.000,9,   3.1651,2, -999.00,9,  -999.0,9,  -999.0,  39.34059402,2,        35.11,2,  1146.5,     20.267,2,    34.4916,2,     -999.0,9,         -999.0,9,  -999.0,9,20140113,       1103
33RO20131223,       A16S,      61,          1,         10,         10,2,20140113,       1004,        -36,   -25.3001,       4039,  1349.6,   2.9367,  34.4640,2,  34.4631,2,    186.9,2,   188.3,2,    53.2,2,    33.1,6,    0.00,6,   2.267,6,   0.816,2,   0.397,2,   0.138,2,  2229.1,2, 2316.88,6, 1126.415,6,      20,   7.5667,2,       25,-999.000,9,   2.9366,2, -999.00,9,  -999.0,9,  -999.0,  39.27189486,2,        35.72,2,  1349.6,     21.359,2,    34.6256,2,     -999.0,9,         -999.0,9,  -999.0,9,20140113,       1058
33RO20131223,       A16S,      61,          1,          9,          9,2,20140113,       1004,        -36,   -25.3001,       4039,  1539.4,   2.8595,  34.5631,2,  34.5622,2,    183.3,2,   184.1,2,    57.8,2,    32.4,6,    0.00,6,   2.218,6,   0.416,2,   0.202,2,   0.047,2,  2232.5,6, 2324.55,2,  1111.16,2,      20,   7.5745,2,       25,-999.000,9,   2.8597,2, -999.00,9,  -999.0,9,  -999.0,  38.94900881,2,        35.03,2,  1539.4,     21.116,2,    34.7251,2,     -999.0,9,         -999.0,9,  -999.0,9,20140113,       1054
33RO20131223,       A16S,      61,          1,          8,          8,2,20140113,       1004,        -36,   -25.3001,       4039,  1748.3,   2.8610,  34.6674,2,  34.6661,2,    190.1,2,   190.6,2,    56.9,2,    30.5,6,    0.00,6,   2.079,6,   0.186,2,   0.091,2,   0.000,2,  2226.7,2, 2330.99,2,  1046.42,2,      20,   7.5972,6,       25,-999.000,9,    2.861,2, -999.00,9,  -999.0,9,  -999.0,  39.45051268,2,        33.17,2,  1748.3,     19.957,2,    34.8296,2,     -999.0,9,         -999.0,9,  -999.0,9,20140113,       1050
33RO20131223,       A16S,      61,          1,          7,          7,2,20140113,       1004,        -36,   -25.3001,       4039,  1997.7,   2.8722,  34.7558,2,  34.7557,2,      204,2,     204,2,    52.3,2,    28.1,2,    0.00,2,   1.904,2,   0.086,2,   0.044,2,   0.000,2,  2216.3,2, 2331.71,2,   962.17,2,      20,   7.6317,2,       25,-999.000,9,   2.8723,2, -999.00,9,  -999.0,9,  -999.0,  40.16498393,2,        30.65,2,  1997.7,     18.358,2,    34.9196,2,     -999.0,9,         -999.0,9,  -999.0,9,20140113,       1044
33RO20131223,       A16S,      61,          1,          6,          6,2,20140113,       1004,        -36,   -25.3001,       4039,  2347.4,   2.9161,  34.8549,2,  34.8548,2,      226,2,   225.3,2,    43.2,2,    24.6,2,    0.00,2,   1.650,2,   0.073,6,   0.037,2,   0.000,6,  2196.9,2, 2331.03,2,   860.03,2,      20,   7.6753,2,       25,-999.000,9,   2.9162,2, -999.00,9,  -999.0,9,  -999.0,  41.28478023,2,        27.06,2,  2347.4,     15.944,6,    35.0192,2,     -999.0,9,         -999.0,9,  -999.0,9,20140113,       1038
33RO20131223,       A16S,      61,          1,          5,          5,2,20140113,       1004,        -36,   -25.3001,       4039,  2697.2,   2.8078,  34.8870,2,  34.8869,2,    238.8,2,     238,2,    38.8,2,    22.8,2,    0.00,2,   1.530,2,   0.044,2,   0.023,2,   0.000,2,  2186.9,2, 2327.24,3,   808.77,2,      20,   7.7002,2,       25,-999.000,9,   2.8078,2, -999.00,9,  -999.0,9,  -999.0,  41.29852007,2,        25.36,2,  2697.2,     14.681,2,    35.0514,6,     -999.0,9,         -999.0,9,  -999.0,9,20140113,       1031
33RO20131223,       A16S,      61,          1,          4,          4,2,20140113,       1004,        -36,   -25.3001,       4039,  3098.9,   2.5869,  34.8828,2,  34.8825,2,    241.2,2,   240.2,2,    43.4,2,    22.8,2,    0.00,2,   1.536,2,   0.043,2,   0.023,2,   0.000,2,  2188.4,2, 2331.02,3,   808.33,2,      20,   7.7038,2,       25,-999.000,9,   2.5872,2, -999.00,9,  -999.0,9,  -999.0,  40.57030898,2,        25.41,2,  3098.9,     14.416,2,     35.047,2,     -999.0,9,         -999.0,9,  -999.0,9,20140113,       1023
33RO20131223,       A16S,      61,          1,          3,          3,2,20140113,       1004,        -36,   -25.3001,       4039,  3497.9,   1.9565,  34.8145,2,  34.8151,2,      227,2,     227,2,    69.7,2,    26.3,2,    0.00,2,   1.783,2,   0.070,2,   0.035,2,   0.032,2,  2216.3,2, 2344.96,6,   895.32,2,      20,   7.6628,2,       25,-999.000,9,   1.9595,2, -999.00,9,  -999.0,9,  -999.0,  40.40543099,2,        28.86,2,  3497.9,     16.099,2,    34.9793,2,     -999.0,9,         -999.0,9,  -999.0,9,20140113,       1016
33RO20131223,       A16S,      61,          1,          2,          2,2,20140113,       1004,        -36,   -25.3001,       4039,  3897.7,   1.3036,  34.7544,2,  34.7539,2,    220.5,2,   220.2,2,    94.5,2,    29.2,6,    0.01,6,   1.996,6,   0.134,2,   0.064,2,   0.035,2,  2237.7,2, 2360.12,2,   962.24,6,      20,   7.6321,6,       25,-999.000,9,   1.3036,2, -999.00,9,  -999.0,9,  -999.0,  39.93827671,2,        31.72,2,  3897.7,     17.048,2,    34.9178,2,     -999.0,9,         -999.0,9,  -999.0,9,20140113,       1009
33RO20131223,       A16S,      61,          1,          1,          1,2,20140113,       1004,        -36,   -25.3001,       4039,    4097,   1.0960,  34.7342,2,  34.7337,2,    218.6,2,   218.7,2,   102.8,2,    30.2,6,    0.01,6,   2.066,6,   0.178,2,   0.085,2,   0.040,2,  2248.5,6, 2360.13,2,   996.42,2,      20,   7.5478,4,       25,-999.000,9,   1.0956,2, -999.00,9,  -999.0,9,  -999.0,  39.86270763,2,        32.74,2,  4097.0,     17.464,2,    34.8975,2,     -999.0,9,         -999.0,9,  -999.0,9,20140113,       1004