BOTTLE,20220815CCHSIOAMB
EXPOCODE,SECT_ID,STNNBR,CASTNO,SAMPNO,BTLNBR,BTLNBR_FLAG_W,DATE,TIME,LATITUDE,LONGITUDE,DEPTH,CTDPRS,CTDTMP,CTDSAL,CTDSAL_FLAG_W,SALNTY,SALNTY_FLAG_W,CTDOXY,CTDOXY_FLAG_W,OXYGEN,OXYGEN_FLAG_W,SILCAT,SILCAT_FLAG_W,NITRAT,NITRAT_FLAG_W,NITRIT,NITRIT_FLAG_W,PHSPHT,PHSPHT_FLAG_W,CFC-11,CFC-11_FLAG_W,CFC-12,CFC-12_FLAG_W,SF6,SF6_FLAG_W,TCARBN,TCARBN_FLAG_W,ALKALI,ALKALI_FLAG_W,PCO2,PCO2_FLAG_W,PCO2TMP,PH_SWS,PH_SWS_FLAG_W,PH_TMP,TRITUM,TRITUM_FLAG_W,REFTMP,REFTMP_FLAG_W,DELC13,DELC13_FLAG_W,DELC14,DELC14_FLAG_W,C14ERR,DOC,DOC_FLAG_W,TDN,TDN_FLAG_W,CTDRAW,N2O,N2O_FLAG_W,SALTREF,SALTREF_FLAG_W,HELIUM,HELIUM_FLAG_W,DELO18,DELO18_FLAG_W,CCL4,CCL4_FLAG_W,BTL_DATE,BTL_TIME
,,,,,,,,,,,METERS,DBAR,ITS-90,PSS-78,,PSS-78,,UMOL/KG,,UMOL/KG,,UMOL/KG,,UMOL/KG,,UMOL/KG,,UMOL/KG,,PMOL/KG,,PMOL/KG,,FMOL/KG,,UMOL/KG,,UMOL/KG,,UATM,,DEG C,,,DEG C,TU,,DEG C,,/MILLE,,/MILLE,,/MILLE,UMOL/KG,,UMOL/KG,,DBAR,NMOL/KG,,G/KG,,NMOL/KG,,/MILLE,,PMOL/KG,,,
33RO20131223,       A16S,      80,          1,         24,         24,2,20140119,       2204,   -45.4912,   -31.1853,       5094,     4.1,   8.8585,  34.1294,2,  34.1294,2,    283.4,2,   284.8,2,     1.4,2,    14.1,2,    0.19,2,   1.052,2,   3.739,2,   2.131,2,   2.248,2,  2093.6,6, 2280.25,2,-999.0000,9, -999.00,   7.8298,2,       25,-999.000,9,   8.8589,2, -999.00,9,  -999.0,9,  -999.0,-999.00000000,9,-999.00000000,9,     4.1,     10.761,2,    34.2903,2,     -999.0,9,         -999.0,9,  -999.0,9,20140119,       2357
33RO20131223,       A16S,      80,          1,         23,         23,2,20140119,       2204,   -45.4912,   -31.1853,       5094,    28.5,   8.8623,  34.1293,2,  34.1298,2,    284.4,2,   285.2,2,     1.4,2,    14.1,2,    0.18,2,   1.053,2,-999.000,9,-999.000,9,-999.000,9,  2094.4,2, 2278.25,6,-999.0000,9, -999.00,   7.8304,2,       25,-999.000,9,   8.8624,2, -999.00,9,  -999.0,9,  -999.0,-999.00000000,9,-999.00000000,9,    28.5,     -999.0,9,    34.2908,2,     -999.0,9,         -999.0,9,  -999.0,9,20140119,       2355
33RO20131223,       A16S,      80,          1,         22,         22,2,20140119,       2204,   -45.4912,   -31.1853,       5094,    62.7,   8.8988,  34.1504,2,  34.1537,2,    285.8,2,   284.3,2,     1.5,2,    14.0,2,    0.19,2,   1.051,2,-999.000,9,-999.000,9,-999.000,9,  2095.8,2, 2282.27,2,-999.0000,9, -999.00,   7.8287,2,       25,-999.000,9,   8.8927,2, -999.00,9,  -999.0,9,  -999.0,-999.00000000,9,-999.00000000,9,    62.7,     -999.0,9,    34.3148,2,     -999.0,9,         -999.0,9,  -999.0,9,20140119,       2353
33RO20131223,       A16S,      80,          1,         21,         21,2,20140119,       2204,   -45.4912,   -31.1853,       5094,   112.8,   6.1395,  34.2142,2,  34.2072,2,    272.6,2,   273.2,2,     5.6,2,    21.5,2,    0.16,2,   1.501,2,-999.000,9,-999.000,9,-999.000,9,    2138,2, 2283.06,2,-999.0000,9, -999.00,   7.7228,6,       25,-999.000,9,   6.1439,2, -999.00,9,  -999.0,9,  -999.0,-999.00000000,9,-999.00000000,9,   112.8,     -999.0,9,    34.3685,6,     -999.0,9,         -999.0,9,  -999.0,9,20140119,       2351
33RO20131223,       A16S,      80,          1,         20,         20,2,20140119,       2204,   -45.4912,   -31.1853,       5094,   183.4,   4.4944,  34.1342,2,  34.1348,2,    273.6,2,     272,2,    10.8,2,    25.2,2,    0.01,2,   1.733,2,-999.000,9,-999.000,9,-999.000,9,  2153.6,2, 2279.86,2,-999.0000,9, -999.00,   7.6788,2,       25,-999.000,9,   4.4947,2, -999.00,9,  -999.0,9,  -999.0,-999.00000000,9,-999.00000000,9,   183.4,     -999.0,9,    34.2957,2,     -999.0,9,         -999.0,9,  -999.0,9,20140119,       2348
33RO20131223,       A16S,      80,          1,         19,         19,2,20140119,       2204,   -45.4912,   -31.1853,       5094,   256.8,   4.1483,  34.1454,2,  34.1445,2,    269.1,2,   264.4,4,    14.4,2,    26.6,2,    0.01,2,   1.821,2,-999.000,5,-999.000,5,-999.000,5,  2162.4,2, 2282.66,2,-999.0000,9, -999.00,    7.663,2,       25,-999.000,9,   4.1513,2, -999.00,9,  -999.0,9,  -999.0,-999.00000000,9,-999.00000000,9,   256.8,     -999.0,5,    34.3055,2,     -999.0,9,         -999.0,9,  -999.0,9,20140119,       2346
33RO20131223,       A16S,      80,          1,         18,         18,2,20140119,       2204,   -45.4912,   -31.1853,       5094,     348,   3.6165,  34.1424,2,  34.1422,2,    259.8,2,   257.5,2,    18.6,2,    28.1,2,    0.01,2,   1.929,2,-999.000,9,-999.000,9,-999.000,9,  -999.0,9, -999.00,9,-999.0000,9, -999.00,-999.0000,9,  -999.00,-999.000,9,   3.6171,2, -999.00,9,  -999.0,9,  -999.0,-999.00000000,9,-999.00000000,9,   348.0,     -999.0,9,    34.3032,2,     -999.0,9,         -999.0,9,  -999.0,9,20140119,       2343
33RO20131223,       A16S,      80,          1,         17,         17,2,20140119,       2204,   -45.4912,   -31.1853,       5094,   448.3,   3.3058,  34.1774,2,  34.1762,2,    253.3,2,   243.7,2,    24.9,2,    29.5,2,    0.01,2,   2.020,2,-999.000,9,-999.000,9,-999.000,9,  2186.1,2, 2292.65,2,-999.0000,9, -999.00,   7.6208,2,       25,-999.000,9,   3.3056,2, -999.00,9,  -999.0,9,  -999.0,-999.00000000,9,-999.00000000,9,   448.3,     -999.0,9,    34.3373,2,     -999.0,9,         -999.0,9,  -999.0,9,20140119,       2340
33RO20131223,       A16S,      80,          1,         16,         16,2,20140119,       2204,   -45.4912,   -31.1853,       5094,   567.9,   3.0116,  34.2321,2,  34.2311,2,      227,2,   226.2,2,    33.8,2,    31.1,2,    0.01,2,   2.129,2,   2.939,2,   1.526,2,   1.027,2,  2202.9,2, 2299.14,2,-999.0000,9, -999.00,   7.5944,2,       25,-999.000,9,   3.0115,2, -999.00,9,  -999.0,9,  -999.0,-999.00000000,9,-999.00000000,9,   567.9,     18.963,2,    34.3925,2,     -999.0,9,         -999.0,9,  -999.0,9,20140119,       2337
33RO20131223,       A16S,      80,          1,         15,         15,2,20140119,       2204,   -45.4912,   -31.1853,       5094,   722.7,   2.9060,  34.3382,2,  34.3345,2,    200.9,2,   200.1,2,    45.9,2,    32.7,2,    0.01,2,   2.241,2,-999.000,9,-999.000,9,-999.000,9,  2222.8,2, 2311.14,2,-999.0000,9, -999.00,   7.5647,2,       25,-999.000,9,   2.9057,2, -999.00,9,  -999.0,9,  -999.0,-999.00000000,9,-999.00000000,9,   722.7,     -999.0,9,    34.4964,2,     -999.0,9,         -999.0,9,  -999.0,9,20140119,       2333
33RO20131223,       A16S,      80,          1,         14,         14,2,20140119,       2204,   -45.4912,   -31.1853,       5094,   922.9,   2.7642,  34.4699,2,  34.4678,2,    179.1,2,     178,2,    59.0,2,    33.5,2,    0.00,2,   2.297,2,-999.000,9,-999.000,9,-999.000,9,  -999.0,9, -999.00,9,-999.0000,9, -999.00,-999.0000,9,  -999.00,-999.000,9,   2.7639,2, -999.00,9,  -999.0,9,  -999.0,-999.00000000,9,-999.00000000,9,   922.9,     -999.0,9,    34.6303,2,     -999.0,9,         -999.0,9,  -999.0,9,20140119,       2329
33RO20131223,       A16S,      80,          1,         13,         13,2,20140119,       2204,   -45.4912,   -31.1853,       5094,    1123,   2.6518,  34.5666,2,  34.5660,2,    173.5,2,   171.8,2,    66.2,2,    33.0,2,    0.00,2,   2.269,2,   0.551,2,   0.269,2,   0.144,2,  2249.3,6,  2334.9,2,-999.0000,9, -999.00,   7.5525,2,       25,-999.000,9,   2.6519,2, -999.00,9,  -999.0,9,  -999.0,-999.00000000,9,-999.00000000,9,  1123.0,     22.254,2,     34.729,2,     -999.0,9,         -999.0,9,  -999.0,9,20140119,       2324
33RO20131223,       A16S,      80,          1,         12,         12,2,20140119,       2204,   -45.4912,   -31.1853,       5094,  1349.3,   2.5373,  34.6458,2,  34.6453,2,    173.8,2,   173.1,2,    71.0,2,    32.1,2,    0.00,2,   2.206,2,-999.000,9,-999.000,9,-999.000,9,  2252.1,2, 2343.67,6,-999.0000,9, -999.00,   7.5627,2,       25,-999.000,9,   2.5371,2, -999.00,9,  -999.0,9,  -999.0,-999.00000000,9,-999.00000000,9,  1349.3,     -999.0,9,    34.8087,2,     -999.0,9,         -999.0,9,  -999.0,9,20140119,       2319
33RO20131223,       A16S,      80,          1,         11,         11,2,20140119,       2204,   -45.4912,   -31.1853,       5094,  1567.5,   2.5608,  34.7195,2,  34.7181,2,    183.5,2,   183.8,2,    68.7,2,    30.2,2,    0.00,2,   2.066,2,-999.000,9,-999.000,9,-999.000,9,  2242.9,2, 2344.38,2,-999.0000,9, -999.00,   7.5946,2,       25,-999.000,9,   2.5605,2, -999.00,9,  -999.0,9,  -999.0,-999.00000000,9,-999.00000000,9,  1567.5,     -999.0,9,    34.8818,2,     -999.0,9,         -999.0,9,  -999.0,9,20140119,       2315
33RO20131223,       A16S,      80,          1,         10,         10,2,20140119,       2204,   -45.4912,   -31.1853,       5094,  1847.8,   2.3491,  34.7519,2,  34.7523,2,    191.4,2,   190.4,2,    73.2,2,    29.4,2,    0.00,2,   2.014,2,-999.000,9,-999.000,9,-999.000,9,  2243.1,2, 2355.15,4,-999.0000,9, -999.00,   7.6048,2,       25,-999.000,9,   2.3493,2, -999.00,9,  -999.0,9,  -999.0,-999.00000000,9,-999.00000000,9,  1847.8,     -999.0,9,    34.9162,2,     -999.0,9,         -999.0,9,  -999.0,9,20140119,       2309
33RO20131223,       A16S,      80,          1,          9,          9,2,20140119,       2204,   -45.4912,   -31.1853,       5094,  2147.4,   2.2381,  34.7837,2,  34.7826,2,      202,2,   201.8,2,    71.1,2,    27.9,2,    0.00,2,   1.915,2,   0.133,2,   0.063,2,   0.032,2,  2234.9,2, 2348.54,2,-999.0000,9, -999.00,   7.6278,2,       25,-999.000,9,    2.238,2, -999.00,9,  -999.0,9,  -999.0,-999.00000000,9,-999.00000000,9,  2147.4,     18.138,2,    34.9466,2,     -999.0,9,         -999.0,9,  -999.0,9,20140119,       2303
33RO20131223,       A16S,      80,          1,          8,          8,2,20140119,       2204,   -45.4912,   -31.1853,       5094,  2447.7,   1.9139,  34.7774,2,  34.7771,2,    208.8,2,   206.7,2,    78.6,2,    28.2,2,    0.00,2,   1.931,2,-999.000,9,-999.000,9,-999.000,9,  -999.0,9, -999.00,9,-999.0000,9, -999.00,-999.0000,9,  -999.00,-999.000,9,   1.9137,2, -999.00,9,  -999.0,9,  -999.0,-999.00000000,9,-999.00000000,9,  2447.7,     -999.0,9,    34.9411,2,     -999.0,9,         -999.0,9,  -999.0,9,20140119,       2257
33RO20131223,       A16S,      80,          1,          7,          7,2,20140119,       2204,   -45.4912,   -31.1853,       5094,  2847.9,   1.3108,  34.7244,2,  34.7238,2,    199.4,2,     200,2,   101.8,2,    30.6,2,    0.00,2,   2.114,2,-999.000,9,-999.000,9,-999.000,9,  2256.6,2, 2361.54,2,-999.0000,9, -999.00,   7.5978,2,       25,-999.000,9,   1.3104,2, -999.00,9,  -999.0,9,  -999.0,-999.00000000,9,-999.00000000,9,  2847.9,     -999.0,9,    34.8876,2,     -999.0,9,         -999.0,9,  -999.0,9,20140119,       2249
33RO20131223,       A16S,      80,          1,          6,          6,2,20140119,       2204,   -45.4912,   -31.1853,       5094,  3247.7,   0.9414,  34.7055,2,  34.7056,2,    205.1,2,   205.4,2,   110.1,2,    31.2,2,    0.00,2,   2.155,2,-999.000,9,-999.000,9,-999.000,9,  -999.0,9, -999.00,9,-999.0000,9, -999.00,-999.0000,9,  -999.00,-999.000,9,   0.9414,2, -999.00,9,  -999.0,9,  -999.0,-999.00000000,9,-999.00000000,9,  3247.7,     -999.0,9,    34.8692,2,     -999.0,9,         -999.0,9,  -999.0,9,20140119,       2241
33RO20131223,       A16S,      80,          1,          5,          5,2,20140119,       2204,   -45.4912,   -31.1853,       5094,  3647.2,   0.5975,  34.6883,2,  34.6885,2,    212.9,2,     212,2,   118.0,2,    31.6,2,    0.00,2,   2.189,2,   0.406,2,   0.198,2,   0.121,2,  2260.8,2, 2361.11,6,-999.0000,9, -999.00,   7.5909,2,       25,-999.000,9,   0.5978,2, -999.00,9,  -999.0,9,  -999.0,-999.00000000,9,-999.00000000,9,  3647.2,     18.573,2,     34.852,2,     -999.0,9,         -999.0,9,  -999.0,9,20140119,       2234
33RO20131223,       A16S,      80,          1,          4,          4,2,20140119,       2204,   -45.4912,   -31.1853,       5094,  4047.5,   0.3900,  34.6781,2,  34.6773,2,      217,2,     217,2,   121.7,6,    31.8,6,    0.00,6,   2.203,6,-999.000,9,-999.000,9,-999.000,9,  -999.0,9, -999.00,9,-999.0000,9, -999.00,-999.0000,9,  -999.00,-999.000,9,     0.39,2, -999.00,9,  -999.0,9,  -999.0,-999.00000000,9,-999.00000000,9,  4047.5,     -999.0,9,    34.8408,2,     -999.0,9,         -999.0,9,  -999.0,9,20140119,       2226
33RO20131223,       A16S,      80,          1,          3,          3,2,20140119,       2204,   -45.4912,   -31.1853,       5094,  4448.4,   0.2878,  34.6721,2,  34.6722,2,    217.8,2,   219.5,2,   124.5,6,    31.9,6,    0.00,6,   2.212,6,   0.469,2,   0.224,2,   0.061,2,  2262.9,2, 2365.03,2,-999.0000,9, -999.00,   7.5902,6,       25,-999.000,9,    0.288,2, -999.00,9,  -999.0,9,  -999.0,-999.00000000,9,-999.00000000,9,  4448.4,     18.266,2,    34.8357,6,     -999.0,9,         -999.0,9,  -999.0,9,20140119,       2218
33RO20131223,       A16S,      80,          1,          2,          2,2,20140119,       2204,   -45.4912,   -31.1853,       5094,  4847.7,   0.2583,  34.6687,2,  34.6697,2,    220.7,2,     221,2,   125.6,6,    32.0,6,    0.00,6,   2.218,6,-999.000,9,-999.000,9,-999.000,9,  -999.0,9, -999.00,9,-999.0000,9, -999.00,-999.0000,9,  -999.00,-999.000,9,    0.258,2, -999.00,9,  -999.0,9,  -999.0,-999.00000000,9,-999.00000000,9,  4847.7,     -999.0,9,    34.8331,2,     -999.0,9,         -999.0,9,  -999.0,9,20140119,       2211
33RO20131223,       A16S,      80,          1,          1,          1,2,20140119,       2204,   -45.4912,   -31.1853,       5094,  5180.2,   0.2539,  34.6663,2,  34.6673,2,    223.1,2,   223.6,2,   125.9,6,    32.0,6,    0.01,6,   2.218,6,   0.607,6,   0.291,2,   0.145,6,  2264.6,6, 2364.44,2,-999.0000,9, -999.00,   7.5894,2,       25,-999.000,9,   0.2537,2, -999.00,9,  -999.0,9,  -999.0,-999.00000000,9,-999.00000000,9,  5180.2,     18.208,6,    34.8308,2,     -999.0,9,         -999.0,9,  -999.0,9,20140119,       2204