BOTTLE,20220815CCHSIOAMB
EXPOCODE,SECT_ID,STNNBR,CASTNO,SAMPNO,BTLNBR,BTLNBR_FLAG_W,DATE,TIME,LATITUDE,LONGITUDE,DEPTH,CTDPRS,CTDTMP,CTDSAL,CTDSAL_FLAG_W,SALNTY,SALNTY_FLAG_W,CTDOXY,CTDOXY_FLAG_W,OXYGEN,OXYGEN_FLAG_W,SILCAT,SILCAT_FLAG_W,NITRAT,NITRAT_FLAG_W,NITRIT,NITRIT_FLAG_W,PHSPHT,PHSPHT_FLAG_W,CFC-11,CFC-11_FLAG_W,CFC-12,CFC-12_FLAG_W,SF6,SF6_FLAG_W,TCARBN,TCARBN_FLAG_W,ALKALI,ALKALI_FLAG_W,PCO2,PCO2_FLAG_W,PCO2TMP,PH_SWS,PH_SWS_FLAG_W,PH_TMP,TRITUM,TRITUM_FLAG_W,REFTMP,REFTMP_FLAG_W,DELC13,DELC13_FLAG_W,DELC14,DELC14_FLAG_W,C14ERR,DOC,DOC_FLAG_W,TDN,TDN_FLAG_W,CTDRAW,N2O,N2O_FLAG_W,SALTREF,SALTREF_FLAG_W,HELIUM,HELIUM_FLAG_W,DELO18,DELO18_FLAG_W,CCL4,CCL4_FLAG_W,BTL_DATE,BTL_TIME
,,,,,,,,,,,METERS,DBAR,ITS-90,PSS-78,,PSS-78,,UMOL/KG,,UMOL/KG,,UMOL/KG,,UMOL/KG,,UMOL/KG,,UMOL/KG,,PMOL/KG,,PMOL/KG,,FMOL/KG,,UMOL/KG,,UMOL/KG,,UATM,,DEG C,,,DEG C,TU,,DEG C,,/MILLE,,/MILLE,,/MILLE,UMOL/KG,,UMOL/KG,,DBAR,NMOL/KG,,G/KG,,NMOL/KG,,/MILLE,,PMOL/KG,,,
33RO20131223,       A16S,     110,          1,         24,         24,2,20140128,       2005,    -58.501,   -30.9296,       2926,     3.3,   1.0497,  33.6632,2,  33.6636,2,    338.8,2,     339,2,    47.4,2,    21.4,2,    0.24,2,   1.343,2,   5.802,6,   3.181,2,   3.168,6,  2147.6,6, 2292.76,2,-999.0000,9, -999.00,    7.721,2,       25,-999.000,9,   1.0501,2, -999.00,9,  -999.0,9,  -999.0,-999.00000000,9,-999.00000000,9,     3.3,     14.635,6,    33.8224,2,     -999.0,9,         -999.0,9,  -999.0,9,20140128,       2124
33RO20131223,       A16S,     110,          1,         23,         23,2,20140128,       2005,    -58.501,   -30.9296,       2926,    22.6,   1.0852,  33.7292,2,  33.7311,2,    337.6,2,   337.6,2,    42.9,6,    21.2,6,    0.24,6,   1.334,6,-999.000,9,-999.000,9,-999.000,9,  2148.5,2, 2293.07,6,-999.0000,9, -999.00,   7.7277,2,       25,-999.000,9,   1.0842,2, -999.00,9,  -999.0,9,  -999.0,-999.00000000,9,-999.00000000,9,    22.6,     -999.0,9,    33.8902,2,     -999.0,9,         -999.0,9,  -999.0,9,20140128,       2122
33RO20131223,       A16S,     110,          1,         22,         22,2,20140128,       2005,    -58.501,   -30.9296,       2926,    73.2,  -0.3446,  33.8959,2,  33.8949,2,    334.2,2,   336.6,2,    52.5,6,    23.8,6,    0.22,6,   1.653,6,   5.761,2,   3.122,2,   3.064,2,  2171.4,2, 2305.45,2,-999.0000,9, -999.00,   7.6898,2,       25,-999.000,9,  -0.3333,2, -999.00,9,  -999.0,9,  -999.0,-999.00000000,9,-999.00000000,9,    73.2,     15.749,2,    34.0548,2,     -999.0,9,         -999.0,9,  -999.0,9,20140128,       2119
33RO20131223,       A16S,     110,          1,         21,         21,2,20140128,       2005,    -58.501,   -30.9296,       2926,   121.8,  -0.7683,  34.1782,2,  34.1861,2,    295.2,2,   285.6,2,    70.6,6,    30.7,6,    0.11,6,   2.177,6,-999.000,9,-999.000,9,-999.000,9,  2220.6,2, 2314.14,2,-999.0000,9, -999.00,   7.5883,2,       25,-999.000,9,  -0.7651,2, -999.00,9,  -999.0,9,  -999.0,-999.00000000,9,-999.00000000,9,   121.8,     -999.0,9,    34.3473,2,     -999.0,9,         -999.0,9,  -999.0,9,20140128,       2117
33RO20131223,       A16S,     110,          1,         20,         20,2,20140128,       2005,    -58.501,   -30.9296,       2926,   172.3,   0.2742,  34.4230,2,  34.4223,2,    239.6,2,     237,2,    78.3,2,    32.8,2,    0.01,2,   2.271,2,   2.843,2,   1.518,2,   1.353,2,  2244.1,2, 2332.26,2,-999.0000,9, -999.00,   7.5548,2,       25,-999.000,9,   0.2797,2, -999.00,9,  -999.0,9,  -999.0,-999.00000000,9,-999.00000000,9,   172.3,     20.039,2,    34.5846,2,     -999.0,9,         -999.0,9,  -999.0,9,20140128,       2115
33RO20131223,       A16S,     110,          1,         19,         19,2,20140128,       2005,    -58.501,   -30.9296,       2926,   221.9,   0.6048,  34.5107,2,  34.5136,2,    222.4,2,     221,2,    82.2,2,    32.7,2,    0.02,2,   2.258,2,-999.000,9,-999.000,9,-999.000,9,  2249.9,2, 2335.24,2,-999.0000,9, -999.00,   7.5609,2,       25,-999.000,9,   0.6052,2, -999.00,9,  -999.0,9,  -999.0,-999.00000000,9,-999.00000000,9,   221.9,     -999.0,9,    34.6763,2,     -999.0,9,         -999.0,9,  -999.0,9,20140128,       2113
33RO20131223,       A16S,     110,          1,         18,         18,2,20140128,       2005,    -58.501,   -30.9296,       2926,   297.4,   0.9628,  34.6020,2,  34.6034,2,      201,2,   205.2,2,    87.4,2,    32.4,2,    0.01,2,   2.236,2,   1.388,2,   0.712,2,   0.577,2,  2258.9,2,  2344.8,2,-999.0000,9, -999.00,   7.5651,2,       25,-999.000,9,   0.9639,2, -999.00,9,  -999.0,9,  -999.0,-999.00000000,9,-999.00000000,9,   297.4,     20.497,2,    34.7665,2,     -999.0,9,         -999.0,9,  -999.0,9,20140128,       2111
33RO20131223,       A16S,     110,          1,         17,         17,2,20140128,       2005,    -58.501,   -30.9296,       2926,   397.4,   0.9453,  34.6426,2,  34.6411,2,    204.9,2,     204,2,    93.4,2,    32.1,2,    0.01,2,   2.215,2,-999.000,9,-999.000,9,-999.000,9,  2258.8,2, 2350.43,2,-999.0000,9, -999.00,   7.5715,2,       25,-999.000,9,   0.9453,2, -999.00,9,  -999.0,9,  -999.0,-999.00000000,9,-999.00000000,9,   397.4,     -999.0,9,    34.8044,2,     -999.0,9,         -999.0,9,  -999.0,9,20140128,       2108
33RO20131223,       A16S,     110,          1,         16,         16,2,20140128,       2005,    -58.501,   -30.9296,       2926,   517.4,   1.1605,  34.6941,2,  34.6937,2,    194.5,2,   196.1,2,   100.3,2,    31.8,2,    0.01,2,   2.198,2,   0.493,2,   0.249,2,   0.194,2,  2261.3,6, 2360.68,6,-999.0000,9, -999.00,   7.5798,2,       25,-999.000,9,   1.1618,2, -999.00,9,  -999.0,9,  -999.0,-999.00000000,9,-999.00000000,9,   517.4,     19.662,2,    34.8573,2,     -999.0,9,         -999.0,9,  -999.0,9,20140128,       2105
33RO20131223,       A16S,     110,          1,         15,         15,2,20140128,       2005,    -58.501,   -30.9296,       2926,   598.1,   1.0006,  34.6859,2,  34.6855,2,    199.6,2,   199.6,2,   102.0,2,    31.9,2,    0.01,2,   2.203,2,   0.606,2,   0.305,2,   0.208,2,  2261.7,2, 2358.69,2,-999.0000,9, -999.00,   7.5797,2,       25,-999.000,9,   1.0008,2, -999.00,9,  -999.0,9,  -999.0,-999.00000000,9,-999.00000000,9,   598.1,     19.603,2,    34.8491,6,     -999.0,9,         -999.0,9,  -999.0,9,20140128,       2103
33RO20131223,       A16S,     110,          1,         14,         14,2,20140128,       2005,    -58.501,   -30.9296,       2926,   697.1,   0.8649,  34.6827,2,  34.6808,2,    202.2,2,   202.6,2,   104.8,2,    31.9,2,    0.00,2,   2.205,2,-999.000,9,-999.000,9,-999.000,9,  -999.0,9, -999.00,9,-999.0000,9, -999.00,-999.0000,9,  -999.00,-999.000,9,    0.865,2, -999.00,9,  -999.0,9,  -999.0,-999.00000000,9,-999.00000000,9,   697.1,     -999.0,9,    34.8443,2,     -999.0,9,         -999.0,9,  -999.0,9,20140128,       2100
33RO20131223,       A16S,     110,          1,         13,         13,2,20140128,       2005,    -58.501,   -30.9296,       2926,     897,   0.7841,  34.6896,2,  34.6888,2,    202.3,2,   203.3,2,   109.8,2,    32.0,2,    0.00,2,   2.208,2,   0.534,2,   0.266,2,   0.203,2,    2263,2, 2362.47,2,-999.0000,9, -999.00,   7.5829,2,       25,-999.000,9,    0.784,2, -999.00,9,  -999.0,9,  -999.0,-999.00000000,9,-999.00000000,9,   897.0,     19.283,2,    34.8524,2,     -999.0,9,         -999.0,9,  -999.0,9,20140128,       2056
33RO20131223,       A16S,     110,          1,         12,         12,2,20140128,       2005,    -58.501,   -30.9296,       2926,  1098.7,   0.6096,  34.6831,2,  34.6828,2,    204.8,2,   206.7,2,   112.2,2,    32.2,2,    0.00,2,   2.224,2,-999.000,9,-999.000,9,-999.000,9,  -999.0,9, -999.00,9,-999.0000,9, -999.00,-999.0000,9,  -999.00,-999.000,9,   0.6093,2, -999.00,9,  -999.0,9,  -999.0,-999.00000000,9,-999.00000000,9,  1098.7,     -999.0,9,    34.8463,2,     -999.0,9,         -999.0,9,  -999.0,9,20140128,       2051
33RO20131223,       A16S,     110,          1,         11,         11,2,20140128,       2005,    -58.501,   -30.9296,       2926,  1297.4,   0.5148,  34.6815,2,  34.6810,2,    206.1,2,   206.8,2,   115.0,2,    32.4,2,    0.00,2,   2.241,2,   0.623,2,   0.302,2,   0.184,2,  2263.9,2, 2354.65,2,-999.0000,9, -999.00,   7.5744,2,       25,-999.000,9,   0.5145,2, -999.00,9,  -999.0,9,  -999.0,-999.00000000,9,-999.00000000,9,  1297.4,     19.206,2,    34.8445,2,     -999.0,9,         -999.0,9,  -999.0,9,20140128,       2047
33RO20131223,       A16S,     110,          1,         10,         10,2,20140128,       2005,    -58.501,   -30.9296,       2926,  1497.7,   0.4406,  34.6816,2,  34.6816,2,    210.1,2,   210.2,2,   117.1,2,    32.3,2,    0.00,2,   2.233,2,-999.000,9,-999.000,9,-999.000,9,  -999.0,9, -999.00,9,-999.0000,9, -999.00,-999.0000,9,  -999.00,-999.000,9,   0.4403,2, -999.00,9,  -999.0,9,  -999.0,-999.00000000,9,-999.00000000,9,  1497.7,     -999.0,9,    34.8451,2,     -999.0,9,         -999.0,9,  -999.0,9,20140128,       2043
33RO20131223,       A16S,     110,          1,          9,          9,2,20140128,       2005,    -58.501,   -30.9296,       2926,    1698,   0.3480,  34.6780,2,  34.6794,2,    212.2,2,     213,2,   118.6,2,    32.4,2,    0.00,2,   2.239,2,   0.660,2,   0.319,2,   0.171,2,    2263,2, 2357.91,2,-999.0000,9, -999.00,   7.5811,2,       25,-999.000,9,   0.3478,2, -999.00,9,  -999.0,9,  -999.0,-999.00000000,9,-999.00000000,9,  1698.0,     18.941,2,     34.843,2,     -999.0,9,         -999.0,9,  -999.0,9,20140128,       2038
33RO20131223,       A16S,     110,          1,          8,          8,2,20140128,       2005,    -58.501,   -30.9296,       2926,  1897.6,   0.2795,  34.6747,2,  34.6761,2,    214.4,2,   214.4,2,   119.7,2,    32.5,2,    0.00,2,   2.249,2,-999.000,9,-999.000,9,-999.000,9,  -999.0,9, -999.00,9,-999.0000,9, -999.00,-999.0000,9,  -999.00,-999.000,9,   0.2795,2, -999.00,9,  -999.0,9,  -999.0,-999.00000000,9,-999.00000000,9,  1897.6,     -999.0,9,    34.8396,2,     -999.0,9,         -999.0,9,  -999.0,9,20140128,       2034
33RO20131223,       A16S,     110,          1,          7,          7,2,20140128,       2005,    -58.501,   -30.9296,       2926,  2097.7,   0.1899,  34.6711,2,  34.6704,2,    216.8,2,   217.2,2,   120.5,2,    32.4,2,    0.00,2,   2.249,2,   0.714,2,   0.342,2,   0.202,2,  2261.7,2, 2356.01,2,-999.0000,9, -999.00,   7.5769,2,       25,-999.000,9,   0.1901,2, -999.00,9,  -999.0,9,  -999.0,-999.00000000,9,-999.00000000,9,  2097.7,     18.865,2,    34.8339,2,     -999.0,9,         -999.0,9,  -999.0,9,20140128,       2029
33RO20131223,       A16S,     110,          1,          6,          6,2,20140128,       2005,    -58.501,   -30.9296,       2926,  2297.3,   0.1134,  34.6678,2,  34.6672,2,    220.1,2,   219.9,2,   121.1,2,    32.5,2,    0.00,2,   2.251,2,-999.000,9,-999.000,9,-999.000,9,  -999.0,9, -999.00,9,-999.0000,9, -999.00,-999.0000,9,  -999.00,-999.000,9,   0.1133,2, -999.00,9,  -999.0,9,  -999.0,-999.00000000,9,-999.00000000,9,  2297.3,     -999.0,9,    34.8307,2,     -999.0,9,         -999.0,9,  -999.0,9,20140128,       2024
33RO20131223,       A16S,     110,          1,          5,          5,2,20140128,       2005,    -58.501,   -30.9296,       2926,  2398.5,   0.0800,  34.6664,2,  34.6655,2,    221.1,2,   221.9,2,   121.1,2,    32.4,2,    0.00,2,   2.249,2,-999.000,9,-999.000,9,-999.000,9,  2260.6,2,  2358.5,2,-999.0000,9, -999.00,   7.5821,2,       25,-999.000,9,   0.0798,2, -999.00,9,  -999.0,9,  -999.0,-999.00000000,9,-999.00000000,9,  2398.5,     -999.0,9,    34.8289,2,     -999.0,9,         -999.0,9,  -999.0,9,20140128,       2021
33RO20131223,       A16S,     110,          1,          4,          4,2,20140128,       2005,    -58.501,   -30.9296,       2926,  2596.9,   0.0239,  34.6638,2,  34.6629,2,    223.3,2,   223.9,2,   121.7,6,    32.4,6,    0.00,6,   2.247,6,   0.863,2,   0.411,2,   0.214,2,  2259.3,2, 2359.25,6,-999.0000,9, -999.00,   7.5807,2,       25,-999.000,9,   0.0237,2, -999.00,9,  -999.0,9,  -999.0,-999.00000000,9,-999.00000000,9,  2596.9,     18.602,2,    34.8264,2,     -999.0,9,         -999.0,9,  -999.0,9,20140128,       2016
33RO20131223,       A16S,     110,          1,          3,          3,2,20140128,       2005,    -58.501,   -30.9296,       2926,  2698.1,   0.0050,  34.6628,2,  34.6625,2,      224,2,   224.7,2,   122.2,6,    32.4,6,    0.00,6,   2.249,6,-999.000,9,-999.000,9,-999.000,9,  -999.0,9, -999.00,9,-999.0000,9, -999.00,-999.0000,9,  -999.00,-999.000,9,   0.0046,2, -999.00,9,  -999.0,9,  -999.0,-999.00000000,9,-999.00000000,9,  2698.1,     -999.0,9,     34.826,6,     -999.0,9,         -999.0,9,  -999.0,9,20140128,       2013
33RO20131223,       A16S,     110,          1,          2,          2,2,20140128,       2005,    -58.501,   -30.9296,       2926,  2797.1,  -0.0001,  34.6622,2,  34.6619,2,    225.6,2,   224.9,2,   122.4,6,    32.4,6,    0.00,6,   2.246,6,-999.000,9,-999.000,9,-999.000,9,  2258.8,2, 2355.58,2,-999.0000,9, -999.00,    7.581,6,       25,-999.000,9,  -0.0003,2, -999.00,9,  -999.0,9,  -999.0,-999.00000000,9,-999.00000000,9,  2797.1,     -999.0,9,    34.8253,2,     -999.0,9,         -999.0,9,  -999.0,9,20140128,       2010
33RO20131223,       A16S,     110,          1,          1,          1,2,20140128,       2005,    -58.501,   -30.9296,       2926,  2947.7,  -0.0026,  34.6617,2,  34.6606,2,    225.8,2,   226.2,2,   123.0,6,    32.4,6,    0.00,6,   2.250,6,   0.914,2,   0.438,2,   0.230,2,  2259.1,6, 2356.76,2,-999.0000,9, -999.00,   7.5807,2,       25,-999.000,9,  -0.0029,2, -999.00,9,  -999.0,9,  -999.0,-999.00000000,9,-999.00000000,9,  2947.7,     18.595,2,     34.824,2,     -999.0,9,         -999.0,9,  -999.0,9,20140128,       2005