BOTTLE,20220815CCHSIOAMB
EXPOCODE,SECT_ID,STNNBR,CASTNO,SAMPNO,BTLNBR,BTLNBR_FLAG_W,DATE,TIME,LATITUDE,LONGITUDE,DEPTH,CTDPRS,CTDTMP,CTDSAL,CTDSAL_FLAG_W,SALNTY,SALNTY_FLAG_W,CTDOXY,CTDOXY_FLAG_W,OXYGEN,OXYGEN_FLAG_W,SILCAT,SILCAT_FLAG_W,NITRAT,NITRAT_FLAG_W,NITRIT,NITRIT_FLAG_W,PHSPHT,PHSPHT_FLAG_W,CFC-11,CFC-11_FLAG_W,CFC-12,CFC-12_FLAG_W,SF6,SF6_FLAG_W,TCARBN,TCARBN_FLAG_W,ALKALI,ALKALI_FLAG_W,PCO2,PCO2_FLAG_W,PCO2TMP,PH_SWS,PH_SWS_FLAG_W,PH_TMP,TRITUM,TRITUM_FLAG_W,REFTMP,REFTMP_FLAG_W,DELC13,DELC13_FLAG_W,DELC14,DELC14_FLAG_W,C14ERR,DOC,DOC_FLAG_W,TDN,TDN_FLAG_W,CTDRAW,N2O,N2O_FLAG_W,SALTREF,SALTREF_FLAG_W,HELIUM,HELIUM_FLAG_W,DELO18,DELO18_FLAG_W,CCL4,CCL4_FLAG_W,BTL_DATE,BTL_TIME
,,,,,,,,,,,METERS,DBAR,ITS-90,PSS-78,,PSS-78,,UMOL/KG,,UMOL/KG,,UMOL/KG,,UMOL/KG,,UMOL/KG,,UMOL/KG,,PMOL/KG,,PMOL/KG,,FMOL/KG,,UMOL/KG,,UMOL/KG,,UATM,,DEG C,,,DEG C,TU,,DEG C,,/MILLE,,/MILLE,,/MILLE,UMOL/KG,,UMOL/KG,,DBAR,NMOL/KG,,G/KG,,NMOL/KG,,/MILLE,,PMOL/KG,,,
33RO20131223,       A16S,      40,          1,         24,         24,2,20140107,       0820,   -25.4961,   -25.0047,       4981,     3.3,  26.5540,  36.8371,2,  36.8373,2,    202.8,2,   204.5,2,     1.0,2,     0.0,2,    0.00,2,   0.095,2,-999.000,5,-999.000,9,-999.000,9,  2100.5,6, 2416.53,2,-999.0000,9, -999.00,   8.0301,2,       25,-999.000,9,  26.5648,2, -999.00,9,  -999.0,9,  -999.0,-999.00000000,9,-999.00000000,9,     3.3,     -999.0,9,     37.011,2,     -999.0,9,         -999.0,9,  -999.0,9,20140107,       1009
33RO20131223,       A16S,      40,          1,         23,         23,2,20140107,       0820,   -25.4961,   -25.0047,       4981,      28,  24.9314,  36.6907,2,  36.6978,2,    209.9,2,   213.3,2,     1.0,2,     0.0,2,    0.00,2,   0.089,2,-999.000,5,-999.000,9,-999.000,9,  -999.0,9, -999.00,9,-999.0000,9, -999.00,-999.0000,9,  -999.00,-999.000,9,  24.9657,2, -999.00,9,  -999.0,9,  -999.0,-999.00000000,9,-999.00000000,9,    28.0,     -999.0,9,    36.8708,2,     -999.0,9,         -999.0,9,  -999.0,9,20140107,       1007
33RO20131223,       A16S,      40,          1,         22,         22,2,20140107,       0820,   -25.4961,   -25.0047,       4981,    62.5,  22.2644,  36.6429,2,  36.6425,2,    225.2,2,   225.4,2,     1.0,2,     0.0,2,    0.00,2,   0.109,2,-999.000,5,-999.000,9,-999.000,9,  2093.7,2, 2406.81,2,-999.0000,9, -999.00,    8.024,2,       25,-999.000,9,   22.262,2, -999.00,9,  -999.0,9,  -999.0,-999.00000000,9,-999.00000000,9,    62.5,     -999.0,9,    36.8152,2,     -999.0,9,         -999.0,9,  -999.0,9,20140107,       1004
33RO20131223,       A16S,      40,          1,         21,         21,2,20140107,       0820,   -25.4961,   -25.0047,       4981,   113.5,  21.2055,  36.5023,2,  36.5017,2,    222.8,2,   222.7,2,     1.0,2,     0.0,2,    0.00,2,   0.121,2,-999.000,5,-999.000,9,-999.000,9,  2094.5,2, 2394.21,2,-999.0000,9, -999.00,   8.0118,6,       25,-999.000,9,  21.2045,2, -999.00,9,  -999.0,9,  -999.0,-999.00000000,9,-999.00000000,9,   113.5,     -999.0,9,    36.6738,6,     -999.0,9,         -999.0,9,  -999.0,9,20140107,       1002
33RO20131223,       A16S,      40,          1,         20,         20,2,20140107,       0820,   -25.4961,   -25.0047,       4981,   183.9,  17.4663,  35.8737,2,  35.8802,2,    211.8,2,   212.2,2,     1.6,2,     1.7,2,    0.05,2,   0.308,2,-999.000,5,-999.000,9,-999.000,9,  2108.7,2, 2354.89,6,-999.0000,9, -999.00,   7.9334,2,       25,-999.000,9,  17.4647,2, -999.00,9,  -999.0,9,  -999.0,-999.00000000,9,-999.00000000,9,   183.9,     -999.0,9,    36.0494,2,     -999.0,9,         -999.0,9,  -999.0,9,20140107,       0959
33RO20131223,       A16S,      40,          1,         19,         19,2,20140107,       0820,   -25.4961,   -25.0047,       4981,     258,  15.6440,  35.5713,2,  35.5737,2,    209.9,2,   210.2,2,     2.2,2,     4.8,2,    0.01,2,   0.471,2,-999.000,5,-999.000,9,-999.000,9,  2112.2,2, 2335.18,2,-999.0000,9, -999.00,   7.8958,2,       25,-999.000,9,  15.6426,2, -999.00,9,  -999.0,9,  -999.0,-999.00000000,9,-999.00000000,9,   258.0,     -999.0,9,    35.7414,2,     -999.0,9,         -999.0,9,  -999.0,9,20140107,       0957
33RO20131223,       A16S,      40,          1,         18,         18,2,20140107,       0820,   -25.4961,   -25.0047,       4981,   348.7,  13.4644,  35.2437,2,  35.2418,2,    207.7,2,   207.1,2,     3.4,2,     9.5,2,    0.01,2,   0.738,2,-999.000,5,-999.000,9,-999.000,9,  2124.8,2, 2316.65,2,-999.0000,9, -999.00,   7.8375,2,       25,-999.000,9,  13.4573,2, -999.00,9,  -999.0,9,  -999.0,-999.00000000,9,-999.00000000,9,   348.7,     -999.0,9,    35.4079,2,     -999.0,9,         -999.0,9,  -999.0,9,20140107,       0954
33RO20131223,       A16S,      40,          1,         17,         17,2,20140107,       0820,   -25.4961,   -25.0047,       4981,   445.9,  11.3100,  34.9666,2,  34.9674,2,    202.4,2,   201.3,2,     5.8,2,    15.0,2,    0.01,2,   1.076,2,-999.000,5,-999.000,9,-999.000,9,    2142,2, 2303.78,2,-999.0000,9, -999.00,   7.7726,2,       25,-999.000,9,  11.3083,2, -999.00,9,  -999.0,9,  -999.0,-999.00000000,9,-999.00000000,9,   445.9,     -999.0,9,    35.1323,2,     -999.0,9,         -999.0,9,  -999.0,9,20140107,       0952
33RO20131223,       A16S,      40,          1,         16,         16,2,20140107,       0820,   -25.4961,   -25.0047,       4981,   572.5,   8.8273,  34.6688,2,  34.6658,2,    193.1,2,   192.2,2,    10.8,2,    22.0,2,    0.00,2,   1.508,2,-999.000,5,-999.000,9,-999.000,9,  2165.5,2, 2292.14,2,-999.0000,9, -999.00,   7.6894,2,       25,-999.000,9,   8.8298,2, -999.00,9,  -999.0,9,  -999.0,-999.00000000,9,-999.00000000,9,   572.5,     -999.0,9,    34.8293,2,     -999.0,9,         -999.0,9,  -999.0,9,20140107,       0948
33RO20131223,       A16S,      40,          1,         15,         15,2,20140107,       0820,   -25.4961,   -25.0047,       4981,   718.4,   6.0529,  34.4068,2,  34.4061,2,    205.3,2,   203.1,2,    18.3,2,    27.5,2,    0.00,2,   1.870,2,-999.000,5,-999.000,9,-999.000,9,  2180.3,2, 2287.15,2,-999.0000,9, -999.00,   7.6372,2,       25,-999.000,9,   6.0545,2, -999.00,9,  -999.0,9,  -999.0,-999.00000000,9,-999.00000000,9,   718.4,     -999.0,9,    34.5684,2,     -999.0,9,         -999.0,9,  -999.0,9,20140107,       0945
33RO20131223,       A16S,      40,          1,         14,         14,2,20140107,       0820,   -25.4961,   -25.0047,       4981,   872.4,   4.3461,  34.3553,2,  34.3545,2,    200.4,2,   199.9,2,    31.3,2,    31.1,2,    0.00,2,   2.123,2,-999.000,5,-999.000,9,-999.000,9,  2201.4,2,  2299.4,2,-999.0000,9, -999.00,   7.6001,2,       25,-999.000,9,   4.3465,2, -999.00,9,  -999.0,9,  -999.0,-999.00000000,9,-999.00000000,9,   872.4,     -999.0,9,    34.5165,2,     -999.0,9,         -999.0,9,  -999.0,9,20140107,       0941
33RO20131223,       A16S,      40,          1,         13,         13,2,20140107,       0820,   -25.4961,   -25.0047,       4981,  1049.2,   3.5546,  34.4468,2,  34.4450,2,    185.4,2,   187.2,2,    44.5,6,    32.6,6,    0.00,6,   2.245,6,-999.000,5,-999.000,9,-999.000,9,  2220.5,6, 2309.28,2,-999.0000,9, -999.00,   7.5798,2,       25,-999.000,9,    3.558,2, -999.00,9,  -999.0,9,  -999.0,-999.00000000,9,-999.00000000,9,  1049.2,     -999.0,9,    34.6074,2,     -999.0,9,         -999.0,9,  -999.0,9,20140107,       0938
33RO20131223,       A16S,      40,          1,         12,         12,2,20140107,       0820,   -25.4961,   -25.0047,       4981,  1197.6,   3.2557,  34.5420,2,  34.5416,2,    183.3,2,   184.8,2,    49.8,6,    32.0,6,    0.00,6,   2.193,6,-999.000,5,-999.000,9,-999.000,9,  2227.2,2, 2320.03,6,-999.0000,9, -999.00,   7.5826,2,       25,-999.000,9,    3.256,2, -999.00,9,  -999.0,9,  -999.0,-999.00000000,9,-999.00000000,9,  1197.6,     -999.0,9,    34.7045,2,     -999.0,9,         -999.0,9,  -999.0,9,20140107,       0934
33RO20131223,       A16S,      40,          1,         11,         11,2,20140107,       0820,   -25.4961,   -25.0047,       4981,    1447,   3.1049,  34.6894,2,  34.6888,2,    195.7,2,   195.7,2,    48.0,6,    29.3,6,    0.00,6,   1.991,6,-999.000,5,-999.000,9,-999.000,9,  2219.5,2, 2322.38,2,-999.0000,9, -999.00,   7.6196,2,       25,-999.000,9,   3.1039,2, -999.00,9,  -999.0,9,  -999.0,-999.00000000,9,-999.00000000,9,  1447.0,     -999.0,9,    34.8523,2,     -999.0,9,         -999.0,9,  -999.0,9,20140107,       0929
33RO20131223,       A16S,      40,          1,         10,         10,2,20140107,       0820,   -25.4961,   -25.0047,       4981,  1748.4,   2.9993,  34.8106,2,  34.8093,2,    217.2,2,   217.5,2,    42.7,2,    25.7,2,    0.00,2,   1.730,2,-999.000,5,-999.000,9,-999.000,9,  -999.0,9, -999.00,9,-999.0000,9, -999.00,-999.0000,9,  -999.00,-999.000,9,   2.9993,2, -999.00,9,  -999.0,9,  -999.0,-999.00000000,9,-999.00000000,9,  1748.4,     -999.0,9,    34.9734,2,     -999.0,9,         -999.0,9,  -999.0,9,20140107,       0922
33RO20131223,       A16S,      40,          1,          9,          9,2,20140107,       0820,   -25.4961,   -25.0047,       4981,  2196.4,   3.0581,  34.9139,2,  34.9135,2,    244.4,2,   243.2,2,    30.8,2,    21.6,2,    0.00,2,   1.436,2,-999.000,5,-999.000,9,-999.000,9,  2181.2,2, 2321.08,2,-999.0000,9, -999.00,   7.7146,2,       25,-999.000,9,   3.0583,2, -999.00,9,  -999.0,9,  -999.0,-999.00000000,9,-999.00000000,9,  2196.4,     -999.0,9,    35.0781,2,     -999.0,9,         -999.0,9,  -999.0,9,20140107,       0914
33RO20131223,       A16S,      40,          1,          8,          8,2,20140107,       0820,   -25.4961,   -25.0047,       4981,  2496.5,   2.9505,  34.9273,2,  34.9273,2,    248.9,2,   248.4,2,    29.9,2,    20.7,2,    0.00,2,   1.380,2,-999.000,5,-999.000,9,-999.000,9,  -999.0,9, -999.00,9,-999.0000,9, -999.00,-999.0000,9,  -999.00,-999.000,9,   2.9506,2, -999.00,9,  -999.0,9,  -999.0,-999.00000000,9,-999.00000000,9,  2496.5,     -999.0,9,     35.092,2,     -999.0,9,         -999.0,9,  -999.0,9,20140107,       0908
33RO20131223,       A16S,      40,          1,          7,          7,2,20140107,       0820,   -25.4961,   -25.0047,       4981,  2949.4,   2.7240,  34.9175,2,  34.9181,2,    250.2,2,     250,2,    33.1,2,    20.8,2,    0.00,2,   1.384,2,-999.000,5,-999.000,9,-999.000,9,  2180.5,2, 2326.69,2,-999.0000,9, -999.00,   7.7256,2,       25,-999.000,9,   2.7243,2, -999.00,9,  -999.0,9,  -999.0,-999.00000000,9,-999.00000000,9,  2949.4,     -999.0,9,    35.0827,2,     -999.0,9,         -999.0,9,  -999.0,9,20140107,       0900
33RO20131223,       A16S,      40,          1,          6,          6,2,20140107,       0820,   -25.4961,   -25.0047,       4981,  3248.3,   2.5836,  34.9078,2,  34.9074,2,    250.9,2,   250.8,2,    36.0,2,    21.0,2,    0.00,2,   1.404,2,-999.000,5,-999.000,9,-999.000,9,  -999.0,9, -999.00,9,-999.0000,9, -999.00,-999.0000,9,  -999.00,-999.000,9,   2.5839,2, -999.00,9,  -999.0,9,  -999.0,-999.00000000,9,-999.00000000,9,  3248.3,     -999.0,9,     35.072,6,     -999.0,9,         -999.0,9,  -999.0,9,20140107,       0854
33RO20131223,       A16S,      40,          1,          5,          5,2,20140107,       0820,   -25.4961,   -25.0047,       4981,  3649.5,   2.2187,  34.8713,2,  34.8719,2,    246.5,2,   246.2,2,    49.2,2,    22.7,2,    0.00,2,   1.528,2,-999.000,5,-999.000,9,-999.000,9,  2194.5,2, 2334.41,6,-999.0000,9, -999.00,   7.7087,2,       25,-999.000,9,   2.2197,2, -999.00,9,  -999.0,9,  -999.0,-999.00000000,9,-999.00000000,9,  3649.5,     -999.0,9,    35.0364,2,     -999.0,9,         -999.0,9,  -999.0,9,20140107,       0846
33RO20131223,       A16S,      40,          1,          4,          4,2,20140107,       0820,   -25.4961,   -25.0047,       4981,  4047.2,   1.7096,  34.8166,2,  34.8166,2,    237.2,2,   237.7,2,    70.3,2,    25.6,2,    0.00,2,   1.734,2,-999.000,5,-999.000,9,-999.000,9,  -999.0,9, -999.00,9,-999.0000,9, -999.00,-999.0000,9,  -999.00,-999.000,9,   1.7092,2, -999.00,9,  -999.0,9,  -999.0,-999.00000000,9,-999.00000000,9,  4047.2,     -999.0,9,    34.9808,2,     -999.0,9,         -999.0,9,  -999.0,9,20140107,       0839
33RO20131223,       A16S,      40,          1,          3,          3,2,20140107,       0820,   -25.4961,   -25.0047,       4981,  4548.6,   1.1920,  34.7599,2,  34.7602,2,    229.4,2,   229.1,2,    91.9,2,    28.5,2,    0.00,2,   1.945,2,-999.000,5,-999.000,9,-999.000,9,  2237.1,2, 2355.25,2,-999.0000,9, -999.00,   7.6475,6,       25,-999.000,9,   1.1915,2, -999.00,9,  -999.0,9,  -999.0,-999.00000000,9,-999.00000000,9,  4548.6,     -999.0,9,    34.9241,2,     -999.0,9,         -999.0,9,  -999.0,9,20140107,       0830
33RO20131223,       A16S,      40,          1,          2,          2,2,20140107,       0820,   -25.4961,   -25.0047,       4981,  4949.4,   1.0187,  34.7383,2,  34.7386,2,    226.2,2,   226.6,2,    99.2,6,    29.5,6,    0.00,6,   2.019,6,-999.000,5,-999.000,9,-999.000,9,  -999.0,9, -999.00,9,-999.0000,9, -999.00,-999.0000,9,  -999.00,-999.000,9,   1.0187,2, -999.00,9,  -999.0,9,  -999.0,-999.00000000,9,-999.00000000,9,  4949.4,     -999.0,9,    34.9024,2,     -999.0,9,         -999.0,9,  -999.0,9,20140107,       0822
33RO20131223,       A16S,      40,          1,          1,          1,2,20140107,       0820,   -25.4961,   -25.0047,       4981,  5055.6,   1.0069,  34.7358,2,  34.7362,2,    226.5,2,   225.9,2,   100.0,6,    29.5,6,    0.00,6,   2.020,6,-999.000,5,-999.000,9,-999.000,9,  2245.2,6, 2393.19,4,-999.0000,9, -999.00,   7.6352,2,       25,-999.000,9,   1.0068,2, -999.00,9,  -999.0,9,  -999.0,-999.00000000,9,-999.00000000,9,  5055.6,     -999.0,9,       34.9,2,     -999.0,9,         -999.0,9,  -999.0,9,20140107,       0820