BOTTLE,20220815CCHSIOAMB
EXPOCODE,SECT_ID,STNNBR,CASTNO,SAMPNO,BTLNBR,BTLNBR_FLAG_W,DATE,TIME,LATITUDE,LONGITUDE,DEPTH,CTDPRS,CTDTMP,CTDSAL,CTDSAL_FLAG_W,SALNTY,SALNTY_FLAG_W,CTDOXY,CTDOXY_FLAG_W,OXYGEN,OXYGEN_FLAG_W,SILCAT,SILCAT_FLAG_W,NITRAT,NITRAT_FLAG_W,NITRIT,NITRIT_FLAG_W,PHSPHT,PHSPHT_FLAG_W,CFC-11,CFC-11_FLAG_W,CFC-12,CFC-12_FLAG_W,SF6,SF6_FLAG_W,TCARBN,TCARBN_FLAG_W,ALKALI,ALKALI_FLAG_W,PCO2,PCO2_FLAG_W,PCO2TMP,PH_SWS,PH_SWS_FLAG_W,PH_TMP,TRITUM,TRITUM_FLAG_W,REFTMP,REFTMP_FLAG_W,DELC13,DELC13_FLAG_W,DELC14,DELC14_FLAG_W,C14ERR,DOC,DOC_FLAG_W,TDN,TDN_FLAG_W,CTDRAW,N2O,N2O_FLAG_W,SALTREF,SALTREF_FLAG_W,HELIUM,HELIUM_FLAG_W,DELO18,DELO18_FLAG_W,CCL4,CCL4_FLAG_W,BTL_DATE,BTL_TIME
,,,,,,,,,,,METERS,DBAR,ITS-90,PSS-78,,PSS-78,,UMOL/KG,,UMOL/KG,,UMOL/KG,,UMOL/KG,,UMOL/KG,,UMOL/KG,,PMOL/KG,,PMOL/KG,,FMOL/KG,,UMOL/KG,,UMOL/KG,,UATM,,DEG C,,,DEG C,TU,,DEG C,,/MILLE,,/MILLE,,/MILLE,UMOL/KG,,UMOL/KG,,DBAR,NMOL/KG,,G/KG,,NMOL/KG,,/MILLE,,PMOL/KG,,,
33RO20131223,       A16S,      89,          2,         24,         24,2,20140123,       0519,   -50.0008,   -34.0001,       5043,     6.5,   5.5674,  33.7494,2,  33.7510,2,    313.1,2,   312.7,2,     1.1,6,    18.9,6,    0.23,6,   1.364,6,   4.632,2,   2.599,2,   2.615,2,  2112.7,6, 2274.84,2,   646.67,2,      20,   7.7845,2,       25,-999.000,1,   5.5665,2,    1.85,2,   -63.7,2,     2.8,  50.71404476,2,        22.24,2,     6.5,     12.854,2,    33.9102,2,     -999.0,1,         -999.0,1,  -999.0,9,20140123,       0711
33RO20131223,       A16S,      89,          2,         23,         23,2,20140123,       0519,   -50.0008,   -34.0001,       5043,    17.6,   5.2063,  33.7951,2,  33.8008,2,    317.9,2,   317.7,2,     1.2,6,    19.5,6,    0.23,6,   1.376,6,   4.772,2,   2.655,2,   2.731,2,  2115.3,2, 2279.72,2,   653.02,2,      20,   7.7805,6,       25,-999.000,1,   5.2023,2, -999.00,9,  -999.0,9,  -999.0,  50.24150429,2,        23.27,2,    17.6,     13.300,2,    33.9601,2,     -999.0,1,         -999.0,1,  -999.0,9,20140123,       0710
33RO20131223,       A16S,      89,          2,         22,         22,2,20140123,       0519,   -50.0008,   -34.0001,       5043,    47.5,   4.3281,  33.8271,2,  33.8374,2,    321.4,2,   321.6,2,     1.9,6,    20.4,6,    0.26,6,   1.441,6,   4.962,2,   2.741,2,   2.773,2,  2123.9,2, 2279.07,6,   678.08,2,      20,   7.7685,2,       25,-999.000,1,   4.3297,2,    1.77,2,   -59.7,2,     2.3,  48.12565148,2,        23.87,2,    47.5,     14.493,2,    33.9969,2,     -999.0,1,         -999.0,1,  -999.0,9,20140123,       0708
33RO20131223,       A16S,      89,          2,         21,         21,2,20140123,       0519,   -50.0008,   -34.0001,       5043,    73.4,   2.9189,  33.9904,2,  33.9913,2,      307,2,   308.3,2,    14.3,2,    26.0,2,    0.28,2,   1.840,2,   4.968,6,   2.741,2,   2.648,6,  2154.1,2, 2278.26,2,  850.935,2,      20,   7.6769,2,       25,-999.000,1,   2.9199,2,    1.29,2,   -45.1,2,     1.9,  46.56697324,2,        29.04,2,    73.4,     14.405,6,    34.1516,2,     -999.0,1,         -999.0,1,  -999.0,9,20140123,       0706
33RO20131223,       A16S,      89,          2,         20,         20,2,20140123,       0519,   -50.0008,   -34.0001,       5043,    97.1,   2.5102,  34.0049,2,  34.0042,2,    308.6,2,   308.4,2,    16.8,2,    27.0,2,    0.04,2,   1.872,2,   4.896,2,   2.734,2,   2.657,2,    2160,2, 2279.19,2,  874.895,2,      20,   7.6677,2,       25,-999.000,1,   2.5107,2,    1.21,2,   -51.1,2,     2.5,  45.05061206,2,        30.03,2,    97.1,     14.430,2,    34.1646,2,     -999.0,1,         -999.0,1,  -999.0,9,20140123,       0704
33RO20131223,       A16S,      89,          2,         19,         19,2,20140123,       0519,   -50.0008,   -34.0001,       5043,   147.8,   2.2081,  34.0287,2,  34.0273,2,    298.3,2,   299.1,2,    20.3,2,    27.9,2,    0.03,2,   1.923,2,   4.776,2,   2.611,2,   2.385,2,    2167,2, 2282.03,2,   908.83,2,      20,   7.6542,2,       25,-999.000,1,   2.2137,2,    1.14,2,   -45.4,2,     3.0,  43.32971844,2,        30.91,2,   147.8,     15.462,2,    34.1878,2,     -999.0,1,         -999.0,1,  -999.0,9,20140123,       0702
33RO20131223,       A16S,      89,          2,         18,         18,2,20140123,       0519,   -50.0008,   -34.0001,       5043,   217.8,   2.3860,  34.1194,2,  34.1230,2,    264.6,2,   268.2,2,    27.1,2,    29.7,2,    0.03,2,   2.038,2,   4.021,2,   2.178,2,   1.832,2,  2184.5,2, 2291.53,2,  974.375,6,      20,   7.6256,2,       25,-999.000,1,   2.3862,2,    1.05,2,   -64.4,2,     2.1,  42.14484087,2,        32.51,2,   217.8,     17.415,2,    34.2839,2,     -999.0,1,         -999.0,1,  -999.0,9,20140123,       0700
33RO20131223,       A16S,      89,          2,         17,         17,2,20140123,       0519,   -50.0008,   -34.0001,       5043,   297.1,   2.4716,  34.2161,2,  34.2158,2,    236.9,2,   235.3,2,    37.3,2,    31.5,2,    0.02,2,   2.159,2,   3.180,2,   1.676,2,   1.236,2,  2205.1,2, 2302.87,2, 1071.645,6,      20,   7.5882,2,       25,-999.000,1,   2.4718,2,    0.82,2,   -78.4,2,     2.1,  41.56650776,2,         34.3,2,   297.1,     19.823,2,    34.3771,2,     -999.0,1,         -999.0,1,  -999.0,9,20140123,       0657
33RO20131223,       A16S,      89,          2,         16,         16,2,20140123,       0519,   -50.0008,   -34.0001,       5043,   406.9,   2.5828,  34.3603,2,  34.3649,2,    198.8,2,   198.1,2,    52.4,2,    33.5,2,    0.01,2,   2.286,2,   1.903,2,   0.975,2,   0.639,2,    2232,2, 2313.51,2,  1179.12,2,      20,   7.5523,2,       25,-999.000,1,   2.5799,2,    0.61,2,  -109.1,2,     3.2,  40.96701613,2,        36.17,2,   406.9,     21.855,2,    34.5269,2,     -999.0,1,         -999.0,1,  -999.0,9,20140123,       0654
33RO20131223,       A16S,      89,          2,         15,         15,2,20140123,       0519,   -50.0008,   -34.0001,       5043,   589.1,   2.4307,  34.5231,2,  34.5220,2,    172.2,2,   173.3,2,    69.5,2,    34.1,2,    0.00,2,   2.334,2,   0.807,2,   0.399,2,   0.227,6,  2255.1,2, 2336.66,2,  1237.47,2,      20,   7.5356,2,       25,-999.000,1,    2.431,2,    0.46,2,  -139.7,2,     2.1,  40.62142684,2,        36.67,2,   589.1,     22.847,6,    34.6848,2,     -999.0,1,         -999.0,1,  -999.0,9,20140123,       0650
33RO20131223,       A16S,      89,          2,         14,         14,2,20140123,       0519,   -50.0008,   -34.0001,       5043,   777.9,   2.4483,  34.6296,2,  34.6291,2,    172.1,2,   173.4,2,    72.7,2,    32.7,2,    0.00,2,   2.237,2,   0.361,2,   0.171,2,   0.075,2,  2255.2,6, 2347.52,2,  1174.78,2,      20,   7.5573,2,       25,-999.000,1,   2.4489,2,    0.45,2,  -141.6,2,     2.6,  40.26878471,2,        35.31,2,   777.9,     21.828,2,    34.7924,2,     -999.0,1,         -999.0,1,  -999.0,9,20140123,       0645
33RO20131223,       A16S,      89,          2,         13,         13,2,20140123,       0519,   -50.0008,   -34.0001,       5043,  1047.2,   2.5030,  34.7271,2,  34.7268,2,    187.1,2,   187.5,2,    68.5,2,    30.1,2,    0.00,2,   2.055,2,   0.971,3,   0.447,2,   0.765,3,  2244.4,2, 2344.32,3, 1075.235,6,      20,   7.5968,3,       25,-999.000,1,   2.5025,2,    0.57,2,  -138.7,2,     2.2,  40.48742283,2,        32.72,2,  1047.2,     21.278,3,    34.8905,2,     -999.0,1,         -999.0,1,  -999.0,9,20140123,       0640
33RO20131223,       A16S,      89,          2,         12,         12,2,20140123,       0519,   -50.0008,   -34.0001,       5043,  1296.8,   2.1299,  34.7345,2,  34.7299,2,    192.8,2,   186.2,2,    82.2,2,    30.7,2,    0.00,2,   2.104,2,   0.168,2,   0.075,2,   0.039,2,  2255.1,2, 2354.83,6,  1094.96,2,      20,   7.5901,2,       25,-999.000,1,   2.1243,2,    0.50,2,  -156.0,2,     2.0,  40.72721948,2,        33.35,2,  1296.8,     19.837,2,    34.8937,2,     -999.0,1,         -999.0,1,  -999.0,9,20140123,       0635
33RO20131223,       A16S,      89,          2,         11,         11,2,20140123,       0519,   -50.0008,   -34.0001,       5043,  1599.9,   2.2075,  34.7962,2,  34.7987,2,    206.8,2,   208.1,2,    68.3,2,    27.5,2,    0.00,2,   1.872,2,   0.115,2,   0.055,2,   0.085,2,  2232.1,2, 2347.51,2,   973.25,2,      20,   7.6343,3,       25,-999.000,1,    2.207,2,    0.67,2,  -139.9,2,     2.2,  40.75543085,2,        30.14,2,  1599.9,     17.787,2,    34.9628,2,     -999.0,1,         -999.0,1,  -999.0,9,20140123,       0629
33RO20131223,       A16S,      89,          2,         10,         10,2,20140123,       0519,   -50.0008,   -34.0001,       5043,  1896.3,   1.6553,  34.7504,2,  34.7496,2,    201.4,2,   201.8,2,    89.1,2,    29.8,2,    0.00,2,   2.035,2,   0.139,2,   0.066,2,   0.024,2,  2250.2,2, 2355.54,2,  1044.45,2,      20,   7.6103,2,       25,-999.000,1,   1.6553,2,    0.56,6,  -156.2,6,     1.6,  40.32520745,2,        32.33,2,  1896.3,     18.687,2,    34.9134,2,     -999.0,1,         -999.0,9,  -999.0,9,20140123,       0622
33RO20131223,       A16S,      89,          2,          9,          9,2,20140123,       0519,   -50.0008,   -34.0001,       5043,  2197.9,   1.3332,  34.7323,2,  34.7322,2,    201.3,2,   202.9,2,    99.0,2,    30.5,2,    0.00,2,   2.091,2,   0.173,2,   0.079,2,   0.081,2,  2255.8,2, 2356.44,2,  1065.72,2,      20,   7.6013,2,       25,-999.000,1,   1.3337,2,    0.50,2,  -164.3,2,     3.5,  39.85266699,2,        33.26,2,  2197.9,     18.651,2,     34.896,6,     -999.0,1,         -999.0,9,  -999.0,9,20140123,       0616
33RO20131223,       A16S,      89,          2,          8,          8,2,20140123,       0519,   -50.0008,   -34.0001,       5043,  2597.8,   0.8944,  34.7070,2,  34.7065,2,    205.8,2,   207.7,2,   110.1,2,    31.4,2,    0.00,2,   2.150,2,   0.307,2,   0.145,2,   0.102,2,  2260.5,2,  2362.6,2,  1086.35,2,      20,   7.5912,2,       25,-999.000,9,   0.8943,2,    0.50,2,  -151.4,2,     2.5,  39.71161013,2,        34.08,2,  2597.8,     18.706,2,    34.8702,2,     -999.0,1,         -999.0,9,  -999.0,9,20140123,       0609
33RO20131223,       A16S,      89,          2,          7,          7,2,20140123,       0519,   -50.0008,   -34.0001,       5043,  2996.9,   0.5722,  34.6891,2,  34.6891,2,    213.1,2,   213.1,2,   115.8,2,    31.8,2,    0.00,2,   2.186,2,   0.438,2,   0.211,2,   0.130,2,  2262.1,2, 2361.62,2,  1096.44,2,      20,   7.5888,2,       25,-999.000,1,   0.5722,2,    0.48,2,  -161.3,2,     3.2,   39.7398215,2,        34.47,2,  2996.9,     18.729,2,    34.8526,2,     -999.0,1,         -999.0,9,  -999.0,9,20140123,       0600
33RO20131223,       A16S,      89,          2,          6,          6,2,20140123,       0519,   -50.0008,   -34.0001,       5043,  3397.5,   0.3814,  34.6814,2,  34.6808,2,    217.5,2,   217.3,2,   119.9,2,    32.0,2,    0.00,2,   2.200,2,   0.399,6,   0.186,2,   0.071,6,  2262.7,2, 2362.74,2,  1091.67,2,      20,   7.5881,2,       25,-999.000,9,   0.3817,2,    0.49,2,  -162.6,2,     1.9,  39.57055328,2,        34.66,2,  3397.5,     18.538,6,    34.8443,2,     -999.0,1,         -999.0,9,  -999.0,9,20140123,       0553
33RO20131223,       A16S,      89,          2,          5,          5,2,20140123,       0519,   -50.0008,   -34.0001,       5043,  3797.5,   0.2397,  34.6724,2,  34.6716,2,      221,2,   221.5,2,   122.1,2,    32.1,2,    0.00,2,   2.212,2,   0.560,2,   0.260,2,   0.143,2,  2262.8,2, 2359.88,2,  1101.65,2,      20,   7.5887,2,       25,-999.000,1,     0.24,2,    0.50,2,  -162.4,2,     2.2,  39.25317536,2,        34.76,2,  3797.5,     18.484,2,    34.8351,2,     -999.0,1,         -999.0,9,  -999.0,9,20140123,       0545
33RO20131223,       A16S,      89,          2,          4,          4,2,20140123,       0519,   -50.0008,   -34.0001,       5043,  4198.5,   0.1192,  34.6654,2,  34.6651,2,    225.8,2,   226.9,2,   123.4,6,    32.1,6,    0.00,6,   2.210,6,   0.717,2,   0.345,2,   0.165,2,  2260.1,2, 2360.35,6,  1102.89,2,      20,   7.5902,2,       25,-999.000,9,    0.119,2,    0.52,2,  -164.5,2,     1.9,   39.2108583,2,        34.87,2,  4198.5,     18.364,2,    34.8286,6,     -999.0,1,         -999.0,9,  -999.0,9,20140123,       0538
33RO20131223,       A16S,      89,          2,          3,          3,2,20140123,       0519,   -50.0008,   -34.0001,       5043,  4598.7,  -0.0660,  34.6556,2,  34.6559,2,      236,2,   236.2,2,   121.1,6,    31.9,6,    0.00,6,   2.198,6,   1.059,2,   0.515,2,   0.272,2,  2256.4,2,  2356.5,2,  1093.24,2,      20,    7.592,6,       25,-999.000,1,   -0.066,2,    0.57,2,  -157.0,2,     1.7,  39.18264693,2,        34.55,2,  4598.7,     18.139,2,    34.8193,2,     -999.0,1,         -999.0,9,  -999.0,9,20140123,       0530
33RO20131223,       A16S,      89,          2,          2,          2,2,20140123,       0519,   -50.0008,   -34.0001,       5043,  4896.7,  -0.0892,  34.6531,2,  34.6521,2,    239.2,2,   238.6,2,   120.9,6,    31.9,6,    0.01,6,   2.195,6,   1.141,2,   0.556,2,   0.282,2,  2256.1,2, 2356.93,2, 1091.685,6,      20,   7.5944,2,       25,-999.000,9,  -0.0891,2,    0.61,2,  -151.0,2,     2.6,  39.18969977,2,        34.61,2,  4896.7,     18.097,2,    34.8155,2,     -999.0,1,         -999.0,9,  -999.0,9,20140123,       0524
33RO20131223,       A16S,      89,          2,          1,          1,2,20140123,       0519,   -50.0008,   -34.0001,       5043,  5131.8,  -0.0953,  34.6514,2,  34.6513,2,    240.9,2,   241.4,2,   121.3,6,    31.9,6,    0.01,6,   2.196,6,   1.192,2,   0.578,2,   0.318,2,  2256.7,6, 2360.01,2,  1088.97,2,      20,    7.601,2,       25,-999.000,1,   -0.095,2,    0.61,2,  -158.2,2,     2.1,  39.36602084,2,        34.59,2,  5131.8,     17.964,2,    34.8147,2,     -999.0,1,         -999.0,9,  -999.0,9,20140123,       0519