BOTTLE,20220815CCHSIOAMB
EXPOCODE,SECT_ID,STNNBR,CASTNO,SAMPNO,BTLNBR,BTLNBR_FLAG_W,DATE,TIME,LATITUDE,LONGITUDE,DEPTH,CTDPRS,CTDTMP,CTDSAL,CTDSAL_FLAG_W,SALNTY,SALNTY_FLAG_W,CTDOXY,CTDOXY_FLAG_W,OXYGEN,OXYGEN_FLAG_W,SILCAT,SILCAT_FLAG_W,NITRAT,NITRAT_FLAG_W,NITRIT,NITRIT_FLAG_W,PHSPHT,PHSPHT_FLAG_W,CFC-11,CFC-11_FLAG_W,CFC-12,CFC-12_FLAG_W,SF6,SF6_FLAG_W,TCARBN,TCARBN_FLAG_W,ALKALI,ALKALI_FLAG_W,PCO2,PCO2_FLAG_W,PCO2TMP,PH_SWS,PH_SWS_FLAG_W,PH_TMP,TRITUM,TRITUM_FLAG_W,REFTMP,REFTMP_FLAG_W,DELC13,DELC13_FLAG_W,DELC14,DELC14_FLAG_W,C14ERR,DOC,DOC_FLAG_W,TDN,TDN_FLAG_W,CTDRAW,N2O,N2O_FLAG_W,SALTREF,SALTREF_FLAG_W,HELIUM,HELIUM_FLAG_W,DELO18,DELO18_FLAG_W,CCL4,CCL4_FLAG_W,BTL_DATE,BTL_TIME
,,,,,,,,,,,METERS,DBAR,ITS-90,PSS-78,,PSS-78,,UMOL/KG,,UMOL/KG,,UMOL/KG,,UMOL/KG,,UMOL/KG,,UMOL/KG,,PMOL/KG,,PMOL/KG,,FMOL/KG,,UMOL/KG,,UMOL/KG,,UATM,,DEG C,,,DEG C,TU,,DEG C,,/MILLE,,/MILLE,,/MILLE,UMOL/KG,,UMOL/KG,,DBAR,NMOL/KG,,G/KG,,NMOL/KG,,/MILLE,,PMOL/KG,,,
33RO20131223,       A16S,      11,          1,         24,         24,2,20131229,       0710,    -10.999,   -24.9999,       5417,     2.6,  26.0354,  36.5110,2,  36.5102,2,    201.3,2,     211,4,     0.9,2,     0.2,2,    0.00,2,   0.083,2,   1.627,3,   1.093,3,   1.332,3,  2062.6,6, 2393.06,2,-999.0000,9, -999.00,   8.0501,2,       25,-999.000,1,  26.0353,2, -999.00,9,  -999.0,9,  -999.0,  77.43005033,2,         4.83,2,     2.6,      6.587,3,    36.6824,2,     -999.0,1,         -999.0,1,  -999.0,9,20131229,       0907
33RO20131223,       A16S,      11,          1,         23,         23,2,20131229,       0710,    -10.999,   -24.9999,       5417,    10.2,  26.0378,  36.5105,2,  36.5106,2,    201.9,2,   202.7,2,     0.9,2,     0.2,2,    0.00,2,   0.083,2,   1.625,3,   1.091,3,   1.323,3,  2063.7,2, 2390.61,6,-999.0000,9, -999.00,   8.0619,2,       25,-999.000,1,  26.0366,2, -999.00,9,  -999.0,9,  -999.0,  76.22622967,2,         4.53,2,    10.2,      6.594,3,    36.6828,2,     -999.0,1,         -999.0,1,  -999.0,9,20131229,       0906
33RO20131223,       A16S,      11,          1,         22,         22,2,20131229,       0710,    -10.999,   -24.9999,       5417,    47.9,  25.9870,  36.5158,2,  36.5310,2,    202.1,2,   203.9,2,     0.9,2,     0.3,2,    0.00,2,   0.085,2,   1.638,3,   1.095,3,   1.316,3,  2064.7,2, 2395.34,2,-999.0000,9, -999.00,   8.0637,2,       25,-999.000,1,  25.9973,2, -999.00,9,  -999.0,9,  -999.0,  74.24346624,2,         3.94,2,    47.9,      6.592,3,    36.7033,2,     -999.0,1,         -999.0,1,  -999.0,9,20131229,       0904
33RO20131223,       A16S,      11,          1,         21,         21,2,20131229,       0710,    -10.999,   -24.9999,       5417,    68.3,  24.8301,  36.7410,2,  36.7511,2,    210.8,2,   211.6,2,     0.8,2,     0.5,2,    0.00,2,   0.078,2,   1.722,3,   1.150,3,   1.360,3,  2070.4,2,  2396.2,2,-999.0000,9, -999.00,   8.0681,3,       25,-999.000,1,  24.8456,2, -999.00,9,  -999.0,9,  -999.0,   74.7391571,2,         3.73,2,    68.3,      6.918,3,    36.9244,2,     -999.0,1,         -999.0,1,  -999.0,9,20131229,       0902
33RO20131223,       A16S,      11,          1,         20,         20,2,20131229,       0710,    -10.999,   -24.9999,       5417,   117.8,  23.4544,  36.8829,2,  36.8786,2,    210.8,2,   209.9,2,     0.9,2,     0.6,2,    0.00,2,   0.144,2,   1.828,3,   1.207,3,   1.368,3,  2097.5,2, 2416.54,2,-999.0000,9, -999.00,   8.0404,2,       25,-999.000,1,  23.4338,2, -999.00,9,  -999.0,9,  -999.0,  73.03964558,2,         3.63,2,   117.8,      7.484,3,    37.0525,2,     -999.0,1,         -999.0,1,  -999.0,9,20131229,       0900
33RO20131223,       A16S,      11,          1,         19,         19,2,20131229,       0710,    -10.999,   -24.9999,       5417,   196.8,  16.7557,  35.8894,2,  35.8768,2,      159,2,   153.1,2,     3.6,2,    12.4,2,    0.02,2,   0.878,2,   2.294,3,   1.428,3,   1.194,3,  2158.5,2, 2352.11,2,-999.0000,9, -999.00,   7.8264,2,       25,-999.000,1,  16.7705,2, -999.00,9,  -999.0,9,  -999.0,  56.78806672,2,        15.15,2,   196.8,     16.669,3,    36.0459,2,     -999.0,1,         -999.0,1,  -999.0,9,20131229,       0857
33RO20131223,       A16S,      11,          1,         18,         18,2,20131229,       0710,    -10.999,   -24.9999,       5417,   298.2,  10.2288,  34.9539,2,  34.9519,2,     87.4,2,    88.8,2,    12.6,2,    30.0,2,    0.00,2,   1.903,2,   1.434,3,   0.807,3,   0.315,3,  2218.8,6, 2326.47,3,-999.0000,9, -999.00,   7.5594,6,       25,-999.000,1,  10.2162,2, -999.00,9,  -999.0,9,  -999.0,  47.17166406,2,        32.33,2,   298.2,     34.554,3,    35.1167,2,     -999.0,1,         -999.0,1,  -999.0,9,20131229,       0854
33RO20131223,       A16S,      11,          1,         17,         17,2,20131229,       0710,    -10.999,   -24.9999,       5417,   398.1,   8.4957,  34.7584,2,  34.7574,2,     91.2,2,    92.5,2,    16.4,2,    33.2,2,    0.00,2,   2.116,2,   0.938,3,   0.516,3,   0.161,3,  2225.5,2, 2290.95,6,-999.0000,9, -999.00,   7.5215,2,       25,-999.000,1,    8.495,2, -999.00,9,  -999.0,9,  -999.0,  45.45798995,2,        35.65,2,   398.1,     33.929,3,    34.9213,2,     -999.0,1,         -999.0,1,  -999.0,9,20131229,       0852
33RO20131223,       A16S,      11,          1,         16,         16,2,20131229,       0710,    -10.999,   -24.9999,       5417,   517.3,   7.0976,  34.6199,2,  34.6167,2,    104.8,2,   106.4,2,    20.2,2,    34.7,2,    0.00,2,   2.254,2,   0.631,3,   0.342,3,   0.122,3,  2225.8,2, 2291.71,2,-999.0000,9, -999.00,     7.51,3,       25,-999.000,1,   7.1023,2, -999.00,9,  -999.0,9,  -999.0,  43.82929141,2,        37.27,2,   517.3,     30.954,3,      34.78,2,     -999.0,1,         -999.0,1,  -999.0,9,20131229,       0849
33RO20131223,       A16S,      11,          1,         15,         15,2,20131229,       0710,    -10.999,   -24.9999,       5417,   667.2,   5.8217,  34.5096,2,  34.5080,2,    135.5,2,   135.2,2,    24.3,2,    34.4,2,    0.00,2,   2.279,2,   0.624,3,   0.332,3,   0.111,3,  2219.5,2,  2294.5,2,-999.0000,9, -999.00,   7.5372,2,       25,-999.000,1,   5.8204,2, -999.00,9,  -999.0,9,  -999.0,  43.26986887,2,        36.97,2,   667.2,     27.052,3,    34.6708,2,     -999.0,1,         -999.0,1,  -999.0,9,20131229,       0845
33RO20131223,       A16S,      11,          1,         14,         14,2,20131229,       0710,    -10.999,   -24.9999,       5417,   817.8,   4.8184,  34.4801,2,  34.4830,2,    143.9,2,   143.1,2,    30.6,2,    35.1,2,    0.00,2,   2.360,2,   0.197,3,   0.105,3,   0.000,3,  2223.1,2, 2293.97,2,-999.0000,9, -999.00,   7.5365,2,       25,-999.000,1,   4.8132,2, -999.00,9,  -999.0,9,  -999.0,  42.02356043,2,        37.68,2,   817.8,     25.802,3,    34.6456,2,     -999.0,1,         -999.0,1,  -999.0,9,20131229,       0841
33RO20131223,       A16S,      11,          1,         13,         13,2,20131229,       0710,    -10.999,   -24.9999,       5417,   998.8,   4.1345,  34.5375,2,  34.5404,2,    161.4,2,   161.7,2,    34.9,2,    33.5,2,    0.00,2,   2.274,2,   0.064,3,   0.038,3,   0.000,3,  2222.1,2, 2304.53,2,-999.0000,9, -999.00,   7.5582,2,       25,-999.000,1,   4.1345,2, -999.00,9,  -999.0,9,  -999.0,  41.66949553,2,        36.21,2,   998.8,     23.634,3,    34.7032,2,     -999.0,1,         -999.0,1,  -999.0,9,20131229,       0837
33RO20131223,       A16S,      11,          1,         12,         12,2,20131229,       0710,    -10.999,   -24.9999,       5417,  1148.1,   4.0323,  34.6688,2,  34.6713,2,    175.1,2,   175.2,2,    32.9,6,    30.6,6,    0.00,6,   2.082,6,   0.023,3,   0.014,3,   0.000,3,  2213.6,2, 2308.15,2,-999.0000,9, -999.00,   7.5944,2,       25,-999.000,1,   4.0326,2, -999.00,9,  -999.0,9,  -999.0,  41.31543063,2,        33.35,2,  1148.1,     21.764,3,    34.8348,2,     -999.0,1,         -999.0,1,  -999.0,9,20131229,       0833
33RO20131223,       A16S,      11,          1,         11,         11,2,20131229,       0710,    -10.999,   -24.9999,       5417,  1297.5,   4.1082,  34.8048,2,  34.8053,2,    192.9,2,   193.1,2,    27.6,6,    27.3,6,    0.00,6,   1.836,6,   0.035,3,   0.021,3,   0.000,3,    2202,2, 2314.27,2,-999.0000,9, -999.00,    7.639,2,       25,-999.000,1,   4.1086,2, -999.00,9,  -999.0,9,  -999.0,  41.54911346,2,        29.89,2,  1297.5,     19.573,3,    34.9694,2,     -999.0,1,         -999.0,1,  -999.0,9,20131229,       0830
33RO20131223,       A16S,      11,          1,         10,         10,2,20131229,       0710,    -10.999,   -24.9999,       5417,  1597.1,   3.9710,  34.9438,2,  34.9436,2,    229.9,2,   230.1,2,    20.9,2,    22.2,2,    0.00,2,   1.454,2,   0.189,3,   0.103,3,   0.000,3,  2179.5,2, 2313.93,2,-999.0000,9, -999.00,   7.7028,2,       25,-999.000,1,   3.9716,2, -999.00,9,  -999.0,9,  -999.0,  42.02356043,2,        24.79,2,  1597.1,     15.898,3,    35.1084,2,     -999.0,1,         -999.0,9,  -999.0,9,20131229,       0824
33RO20131223,       A16S,      11,          1,          9,          9,2,20131229,       0710,    -10.999,   -24.9999,       5417,  1947.3,   3.4502,  34.9544,2,  34.9549,2,    247.3,2,   247.7,2,    22.7,2,    20.6,2,    0.00,2,   1.336,2,   0.189,3,   0.103,3,   0.062,3,  2173.1,2, 2317.62,2,-999.0000,9, -999.00,   7.7266,2,       25,-999.000,1,   3.4485,2, -999.00,9,  -999.0,9,  -999.0,  42.49092609,2,        22.96,2,  1947.3,     14.479,3,    35.1197,2,     -999.0,1,         -999.0,9,  -999.0,9,20131229,       0817
33RO20131223,       A16S,      11,          1,          8,          8,2,20131229,       0710,    -10.999,   -24.9999,       5417,  2347.6,   3.0576,  34.9354,2,  34.9357,2,    248.7,2,   248.6,2,    28.6,2,    21.0,2,    0.00,2,   1.370,2,   0.127,3,   0.066,3,   0.022,3,  2177.1,2, 2322.44,2,-999.0000,9, -999.00,   7.7248,2,       25,-999.000,9,    3.057,2, -999.00,9,  -999.0,9,  -999.0,  42.13686119,2,        23.35,2,  2347.6,     14.310,3,    35.1004,2,     -999.0,1,         -999.0,9,  -999.0,9,20131229,       0809
33RO20131223,       A16S,      11,          1,          7,          7,2,20131229,       0710,    -10.999,   -24.9999,       5417,  2747.5,   2.8102,  34.9195,2,  34.9203,2,    248.4,2,   247.4,2,    33.8,2,    21.5,2,    0.00,2,   1.408,2,   0.069,3,   0.036,3,   0.034,3,  2181.8,2, 2337.04,2,-999.0000,9, -999.00,   7.7237,2,       25,-999.000,1,   2.8102,2, -999.00,9,  -999.0,9,  -999.0,  42.02356043,2,        23.91,2,  2747.5,     14.331,3,     35.085,2,     -999.0,1,         -999.0,9,  -999.0,9,20131229,       0801
33RO20131223,       A16S,      11,          1,          6,          6,2,20131229,       0710,    -10.999,   -24.9999,       5417,  3246.5,   2.6205,  34.9114,2,  34.9100,2,    251.4,2,     248,4,    35.5,2,    21.4,2,    0.00,2,   1.398,2,   0.068,3,   0.039,3,   0.000,3,  2183.4,2, 2328.67,2,-999.0000,9, -999.00,   7.7257,2,       25,-999.000,9,   2.6215,2, -999.00,9,  -999.0,9,  -999.0,  41.72614591,2,        23.93,2,  3246.5,     14.146,3,    35.0746,6,     -999.0,1,         -999.0,9,  -999.0,9,20131229,       0752
33RO20131223,       A16S,      11,          1,          5,          5,2,20131229,       0710,    -10.999,   -24.9999,       5417,  3747.6,   2.2501,  34.8806,2,  34.8810,2,    251.1,2,   251.6,2,    44.6,6,    22.0,6,    0.00,6,   1.454,6,   0.101,3,   0.057,3,   0.000,3,  2189.9,2, 2331.78,2,-999.0000,9, -999.00,   7.7176,2,       25,-999.000,1,   2.2495,2, -999.00,9,  -999.0,9,  -999.0,  41.67657683,2,        24.62,2,  3747.6,     14.612,3,    35.0455,2,     -999.0,1,         -999.0,9,  -999.0,9,20131229,       0743
33RO20131223,       A16S,      11,          1,          4,          4,2,20131229,       0710,    -10.999,   -24.9999,       5417,  4247.4,   1.3807,  34.7856,2,  34.7866,2,    233.8,2,   234.6,2,    83.1,2,    27.5,2,    0.00,2,   1.849,2,   0.028,3,   0.015,3,   0.048,3,  2229.3,2, 2352.26,2,-999.0000,9, -999.00,   7.6655,2,       25,-999.000,9,   1.3824,2, -999.00,9,  -999.0,9,  -999.0,  41.23753635,2,        30.18,2,  4247.4,     16.612,3,    34.9507,2,     -999.0,1,         -999.0,9,  -999.0,9,20131229,       0734
33RO20131223,       A16S,      11,          1,          3,          3,2,20131229,       0710,    -10.999,   -24.9999,       5417,  4747.8,   0.8900,  34.7316,2,  34.7387,4,    225.1,2,   225.6,2,   103.9,6,    30.1,6,    0.00,6,   2.058,6,   0.033,3,   0.017,3,   0.000,3,  2249.4,2, 2366.41,6,-999.0000,9, -999.00,   7.6344,2,       25,-999.000,1,     0.89,2, -999.00,9,  -999.0,9,  -999.0,   40.6993577,2,        32.56,2,  4747.8,     17.725,3,    34.9025,2,     -999.0,1,         -999.0,9,  -999.0,9,20131229,       0724
33RO20131223,       A16S,      11,          1,          2,          2,2,20131229,       0710,    -10.999,   -24.9999,       5417,  5247.4,   0.7946,  34.7150,2,  34.7144,2,    223.4,2,     223,2,   110.3,2,    30.9,2,    0.00,2,   2.117,2,   0.054,3,   0.029,3,   0.000,3,    2256,2, 2380.86,3,-999.0000,9, -999.00,   7.6253,6,       25,-999.000,9,   0.7945,2, -999.00,9,  -999.0,9,  -999.0,  39.75046377,2,        33.42,2,  5247.4,     18.067,3,    34.8781,2,     -999.0,1,         -999.0,9,  -999.0,9,20131229,       0715
33RO20131223,       A16S,      11,          1,          1,          1,3,20131229,       0710,    -10.999,   -24.9999,       5417,  5505.9,   0.7915,  34.7107,2,  34.7122,2,    224.1,2,   223.2,2,   111.7,6,    30.9,6,    0.00,3,   2.139,3,   0.073,3,   0.040,3,   0.000,3,  2258.9,6, 2364.15,2,-999.0000,9, -999.00,   7.6258,2,       25,-999.000,1,   0.7912,2, -999.00,9,  -999.0,9,  -999.0,  39.50969964,2,        33.61,2,  5505.9,     18.131,3,    34.8758,2,     -999.0,1,         -999.0,9,  -999.0,9,20131229,       0710