BOTTLE,20220815CCHSIOAMB
EXPOCODE,SECT_ID,STNNBR,CASTNO,SAMPNO,BTLNBR,BTLNBR_FLAG_W,DATE,TIME,LATITUDE,LONGITUDE,DEPTH,CTDPRS,CTDTMP,CTDSAL,CTDSAL_FLAG_W,SALNTY,SALNTY_FLAG_W,CTDOXY,CTDOXY_FLAG_W,OXYGEN,OXYGEN_FLAG_W,SILCAT,SILCAT_FLAG_W,NITRAT,NITRAT_FLAG_W,NITRIT,NITRIT_FLAG_W,PHSPHT,PHSPHT_FLAG_W,CFC-11,CFC-11_FLAG_W,CFC-12,CFC-12_FLAG_W,SF6,SF6_FLAG_W,TCARBN,TCARBN_FLAG_W,ALKALI,ALKALI_FLAG_W,PCO2,PCO2_FLAG_W,PCO2TMP,PH_SWS,PH_SWS_FLAG_W,PH_TMP,TRITUM,TRITUM_FLAG_W,REFTMP,REFTMP_FLAG_W,DELC13,DELC13_FLAG_W,DELC14,DELC14_FLAG_W,C14ERR,DOC,DOC_FLAG_W,TDN,TDN_FLAG_W,CTDRAW,N2O,N2O_FLAG_W,SALTREF,SALTREF_FLAG_W,HELIUM,HELIUM_FLAG_W,DELO18,DELO18_FLAG_W,CCL4,CCL4_FLAG_W,BTL_DATE,BTL_TIME
,,,,,,,,,,,METERS,DBAR,ITS-90,PSS-78,,PSS-78,,UMOL/KG,,UMOL/KG,,UMOL/KG,,UMOL/KG,,UMOL/KG,,UMOL/KG,,PMOL/KG,,PMOL/KG,,FMOL/KG,,UMOL/KG,,UMOL/KG,,UATM,,DEG C,,,DEG C,TU,,DEG C,,/MILLE,,/MILLE,,/MILLE,UMOL/KG,,UMOL/KG,,DBAR,NMOL/KG,,G/KG,,NMOL/KG,,/MILLE,,PMOL/KG,,,
33RO20131223,       A16S,      88,          1,         24,         24,2,20140122,       2055,   -49.5041,   -33.6723,       5176,     3.5,   7.2798,  34.0320,2,  34.0321,2,    297.3,2,   298.5,2,     2.8,6,    18.2,6,    0.20,6,   1.280,6,   4.139,2,   2.345,2,   2.404,2,  2106.6,6,  2274.4,2,-999.0000,9, -999.00,   7.7913,2,       25,-999.000,9,   7.2803,2, -999.00,9,  -999.0,9,  -999.0,-999.00000000,9,-999.00000000,9,     3.5,     11.778,2,    34.1926,2,     -999.0,9,         -999.0,9,  -999.0,9,20140122,       2248
33RO20131223,       A16S,      88,          1,         23,         23,2,20140122,       2055,   -49.5041,   -33.6723,       5176,    27.8,   7.1781,  34.0354,2,  34.0302,2,    300.5,2,   299.2,2,     2.7,2,    18.4,6,    0.19,6,   1.308,6,-999.000,9,-999.000,9,-999.000,9,  2109.7,2, 2281.53,6,-999.0000,9, -999.00,   7.7887,2,       25,-999.000,9,   7.1766,2, -999.00,9,  -999.0,9,  -999.0,-999.00000000,9,-999.00000000,9,    27.8,     -999.0,9,    34.1906,2,     -999.0,9,         -999.0,9,  -999.0,9,20140122,       2246
33RO20131223,       A16S,      88,          1,         22,         22,2,20140122,       2055,   -49.5041,   -33.6723,       5176,      63,   6.6826,  34.0037,2,  34.0030,2,    297.4,2,   300.1,2,     3.1,2,    19.3,2,    0.20,2,   1.385,2,-999.000,9,-999.000,9,-999.000,9,  2115.6,2, 2277.95,2,-999.0000,9, -999.00,   7.7767,6,       25,-999.000,9,   6.6788,2, -999.00,9,  -999.0,9,  -999.0,-999.00000000,9,-999.00000000,9,    63.0,     -999.0,9,    34.1634,2,     -999.0,9,         -999.0,9,  -999.0,9,20140122,       2243
33RO20131223,       A16S,      88,          1,         21,         21,2,20140122,       2055,   -49.5041,   -33.6723,       5176,   113.4,   4.0323,  34.0562,2,  34.0577,2,    298.2,2,   297.6,2,    11.2,2,    24.8,2,    0.33,2,   1.751,2,   4.682,2,   2.584,2,   2.474,2,  2149.3,2, 2280.11,2,-999.0000,9, -999.00,   7.6933,2,       25,-999.000,9,   4.0214,2, -999.00,9,  -999.0,9,  -999.0,-999.00000000,9,-999.00000000,9,   113.4,     13.965,2,    34.2183,2,     -999.0,9,         -999.0,9,  -999.0,9,20140122,       2241
33RO20131223,       A16S,      88,          1,         20,         20,2,20140122,       2055,   -49.5041,   -33.6723,       5176,   182.5,   3.1501,  34.0800,2,  34.0798,2,    294.6,2,   295.3,2,    15.2,2,    26.7,2,    0.02,2,   1.835,2,-999.000,9,-999.000,9,-999.000,9,  -999.0,9, -999.00,9,-999.0000,9, -999.00,-999.0000,9,  -999.00,-999.000,9,    3.151,2, -999.00,9,  -999.0,9,  -999.0,-999.00000000,9,-999.00000000,9,   182.5,     -999.0,9,    34.2405,2,     -999.0,9,         -999.0,9,  -999.0,9,20140122,       2239
33RO20131223,       A16S,      88,          1,         19,         19,2,20140122,       2055,   -49.5041,   -33.6723,       5176,     258,   2.7757,  34.0816,2,  34.0881,2,    287.7,2,   287.3,2,    19.3,2,    27.8,2,    0.01,2,   1.910,2,   4.460,2,   2.433,2,   2.130,2,  2168.7,2, 2283.38,2,-999.0000,9, -999.00,   7.6547,2,       25,-999.000,9,   2.7736,2, -999.00,9,  -999.0,9,  -999.0,-999.00000000,9,-999.00000000,9,   258.0,     15.650,2,    34.2489,2,     -999.0,9,         -999.0,9,  -999.0,9,20140122,       2236
33RO20131223,       A16S,      88,          1,         18,         18,2,20140122,       2055,   -49.5041,   -33.6723,       5176,   347.7,   2.6240,  34.1217,2,  34.1208,2,    266.4,2,   267.9,2,    25.2,2,    29.4,2,    0.01,2,   2.011,2,-999.000,9,-999.000,9,-999.000,9,  -999.0,9, -999.00,9,-999.0000,9, -999.00,-999.0000,9,  -999.00,-999.000,9,   2.6232,2, -999.00,9,  -999.0,9,  -999.0,-999.00000000,9,-999.00000000,9,   347.7,     -999.0,9,    34.2817,2,     -999.0,9,         -999.0,9,  -999.0,9,20140122,       2234
33RO20131223,       A16S,      88,          1,         17,         17,2,20140122,       2055,   -49.5041,   -33.6723,       5176,   448.4,   2.8376,  34.2465,2,  34.2490,2,    225.3,2,   226.9,2,    37.0,2,    31.6,2,    0.01,2,   2.165,2,-999.000,9,-999.000,9,-999.000,9,  2207.3,2, 2301.67,2,-999.0000,9, -999.00,   7.5904,2,       25,-999.000,9,   2.8379,2, -999.00,9,  -999.0,9,  -999.0,-999.00000000,9,-999.00000000,9,   448.4,     -999.0,9,    34.4105,2,     -999.0,9,         -999.0,9,  -999.0,9,20140122,       2231
33RO20131223,       A16S,      88,          1,         16,         16,2,20140122,       2055,   -49.5041,   -33.6723,       5176,   572.7,   2.7538,  34.3393,2,  34.3390,2,    201.1,2,   201.3,2,    48.2,2,    33.1,2,    0.01,2,   2.272,2,   2.066,2,   1.050,2,   0.623,2,  2229.8,2, 2318.01,2,-999.0000,9, -999.00,   7.5605,2,       25,-999.000,9,   2.7544,2, -999.00,9,  -999.0,9,  -999.0,-999.00000000,9,-999.00000000,9,   572.7,     21.533,2,    34.5009,2,     -999.0,9,         -999.0,9,  -999.0,9,20140122,       2227
33RO20131223,       A16S,      88,          1,         15,         15,2,20140122,       2055,   -49.5041,   -33.6723,       5176,   722.2,   2.6561,  34.4514,2,  34.4525,2,    179.5,2,   179.7,2,    60.5,2,    34.1,2,    0.00,2,   2.334,2,-999.000,9,-999.000,9,-999.000,9,  2243.7,2, 2331.66,2,-999.0000,9, -999.00,   7.5441,2,       25,-999.000,9,   2.6561,2, -999.00,9,  -999.0,9,  -999.0,-999.00000000,9,-999.00000000,9,   722.2,     -999.0,9,     34.615,2,     -999.0,9,         -999.0,9,  -999.0,9,20140122,       2224
33RO20131223,       A16S,      88,          1,         14,         14,2,20140122,       2055,   -49.5041,   -33.6723,       5176,   877.4,   2.5063,  34.5316,2,  34.5334,2,    171.8,2,   172.3,2,    68.2,2,    34.0,2,    0.00,2,   2.335,2,-999.000,9,-999.000,9,-999.000,9,  -999.0,9, -999.00,9,-999.0000,9, -999.00,-999.0000,9,  -999.00,-999.000,9,   2.5044,2, -999.00,9,  -999.0,9,  -999.0,-999.00000000,9,-999.00000000,9,   877.4,     -999.0,9,    34.6962,2,     -999.0,9,         -999.0,9,  -999.0,9,20140122,       2220
33RO20131223,       A16S,      88,          1,         13,         13,2,20140122,       2055,   -49.5041,   -33.6723,       5176,  1037.3,   2.4353,  34.5994,2,  34.5992,2,    169.5,2,   169.5,2,    73.1,2,    33.5,2,    0.00,2,   2.295,2,   0.450,2,   0.215,2,   0.084,2,  2257.2,6, 2344.69,6,-999.0000,9, -999.00,   7.5482,2,       25,-999.000,9,   2.4379,2, -999.00,9,  -999.0,9,  -999.0,-999.00000000,9,-999.00000000,9,  1037.3,     22.406,2,    34.7624,2,     -999.0,9,         -999.0,9,  -999.0,9,20140122,       2216
33RO20131223,       A16S,      88,          1,         12,         12,2,20140122,       2055,   -49.5041,   -33.6723,       5176,  1297.7,   2.2817,  34.6595,2,  34.6601,2,    171.9,2,   172.1,2,    78.7,2,    32.7,2,    0.00,2,   2.242,2,-999.000,9,-999.000,9,-999.000,9,    2261,2,  2350.5,2,-999.0000,9, -999.00,   7.5588,2,       25,-999.000,9,   2.2816,2, -999.00,9,  -999.0,9,  -999.0,-999.00000000,9,-999.00000000,9,  1297.7,     -999.0,9,    34.8235,2,     -999.0,9,         -999.0,9,  -999.0,9,20140122,       2211
33RO20131223,       A16S,      88,          1,         11,         11,2,20140122,       2055,   -49.5041,   -33.6723,       5176,    1568,   2.4815,  34.7695,2,  34.7690,2,    196.1,2,   196.5,2,    65.7,2,    28.6,2,    0.00,2,   1.954,2,-999.000,9,-999.000,9,-999.000,9,  2236.8,2, 2347.98,2,-999.0000,9, -999.00,   7.6138,2,       25,-999.000,9,   2.4815,2, -999.00,9,  -999.0,9,  -999.0,-999.00000000,9,-999.00000000,9,  1568.0,     -999.0,9,    34.9329,2,     -999.0,9,         -999.0,9,  -999.0,9,20140122,       2205
33RO20131223,       A16S,      88,          1,         10,         10,2,20140122,       2055,   -49.5041,   -33.6723,       5176,  1847.4,   2.2397,  34.7761,2,  34.7759,2,    199.1,2,   199.8,2,    71.1,2,    28.6,2,    0.00,2,   1.948,2,-999.000,9,-999.000,9,-999.000,9,  2238.6,2, 2350.56,2,-999.0000,9, -999.00,   7.6207,2,       25,-999.000,9,   2.2395,2, -999.00,9,  -999.0,9,  -999.0,-999.00000000,9,-999.00000000,9,  1847.4,     -999.0,9,    34.9399,2,     -999.0,9,         -999.0,9,  -999.0,9,20140122,       2200
33RO20131223,       A16S,      88,          1,          9,          9,2,20140122,       2055,   -49.5041,   -33.6723,       5176,    2148,   1.9631,  34.7760,2,  34.7768,2,    204.9,2,   205.4,2,    76.5,2,    28.5,2,    0.00,2,   1.946,2,   0.123,2,   0.055,2,   0.036,2,  2238.9,2,  2355.6,2,-999.0000,9, -999.00,    7.625,2,       25,-999.000,9,   1.9623,2, -999.00,9,  -999.0,9,  -999.0,-999.00000000,9,-999.00000000,9,  2148.0,     18.165,2,    34.9408,2,     -999.0,9,         -999.0,9,  -999.0,9,20140122,       2154
33RO20131223,       A16S,      88,          1,          8,          8,2,20140122,       2055,   -49.5041,   -33.6723,       5176,  2448.7,   1.4206,  34.7335,2,  34.7329,2,    199.7,2,   200.5,2,    96.3,2,    30.3,2,    0.00,2,   2.095,2,-999.000,9,-999.000,9,-999.000,9,  -999.0,9, -999.00,9,-999.0000,9, -999.00,-999.0000,9,  -999.00,-999.000,9,   1.4201,2, -999.00,9,  -999.0,9,  -999.0,-999.00000000,9,-999.00000000,9,  2448.7,     -999.0,9,    34.8967,2,     -999.0,9,         -999.0,9,  -999.0,9,20140122,       2148
33RO20131223,       A16S,      88,          1,          7,          7,2,20140122,       2055,   -49.5041,   -33.6723,       5176,    2847,   0.9229,  34.7039,2,  34.7038,2,      205,2,   205.8,2,   108.7,2,    31.4,2,    0.00,2,   2.170,2,   0.355,2,   0.170,2,   0.147,2,  2260.9,2, 2361.75,2,-999.0000,9, -999.00,   7.5899,2,       25,-999.000,9,   0.9233,2, -999.00,9,  -999.0,9,  -999.0,-999.00000000,9,-999.00000000,9,  2847.0,     18.960,2,    34.8675,2,     -999.0,9,         -999.0,9,  -999.0,9,20140122,       2140
33RO20131223,       A16S,      88,          1,          6,          6,2,20140122,       2055,   -49.5041,   -33.6723,       5176,  3246.9,   0.5527,  34.6859,2,  34.6862,2,    211.6,2,   212.8,2,   115.3,2,    31.8,2,    0.01,2,   2.203,2,-999.000,9,-999.000,9,-999.000,9,  -999.0,9, -999.00,9,-999.0000,9, -999.00,-999.0000,9,  -999.00,-999.000,9,   0.5532,2, -999.00,9,  -999.0,9,  -999.0,-999.00000000,9,-999.00000000,9,  3246.9,     -999.0,9,    34.8497,2,     -999.0,9,         -999.0,9,  -999.0,9,20140122,       2133
33RO20131223,       A16S,      88,          1,          5,          5,2,20140122,       2055,   -49.5041,   -33.6723,       5176,  3647.1,   0.3208,  34.6769,2,  34.6762,2,    218.7,2,   218.5,2,   120.2,2,    31.9,2,    0.00,2,   2.219,2,   0.473,2,   0.223,2,   0.113,2,  2260.4,2,  2362.6,2,-999.0000,9, -999.00,   7.5882,2,       25,-999.000,9,   0.3209,2, -999.00,9,  -999.0,9,  -999.0,-999.00000000,9,-999.00000000,9,  3647.1,     18.488,2,    34.8397,2,     -999.0,9,         -999.0,9,  -999.0,9,20140122,       2125
33RO20131223,       A16S,      88,          1,          4,          4,2,20140122,       2055,   -49.5041,   -33.6723,       5176,    4047,   0.3129,  34.6757,2,  34.6745,2,    218.6,2,   219.5,2,   121.9,6,    32.1,6,    0.01,6,   2.225,6,-999.000,9,-999.000,9,-999.000,9,  -999.0,9, -999.00,9,-999.0000,9, -999.00,-999.0000,9,  -999.00,-999.000,9,   0.3132,2, -999.00,9,  -999.0,9,  -999.0,-999.00000000,9,-999.00000000,9,  4047.0,     -999.0,9,     34.838,2,     -999.0,9,         -999.0,9,  -999.0,9,20140122,       2118
33RO20131223,       A16S,      88,          1,          3,          3,2,20140122,       2055,   -49.5041,   -33.6723,       5176,  4446.5,   0.2148,  34.6675,2,  34.6671,2,    224.2,2,   223.6,2,   121.9,6,    32.1,6,    0.00,6,   2.222,6,   0.680,2,   0.326,2,   0.152,2,  2262.2,2, 2364.68,6,-999.0000,9, -999.00,   7.5858,2,       25,-999.000,9,   0.2151,2, -999.00,9,  -999.0,9,  -999.0,-999.00000000,9,-999.00000000,9,  4446.5,     18.457,2,    34.8306,2,     -999.0,9,         -999.0,9,  -999.0,9,20140122,       2110
33RO20131223,       A16S,      88,          1,          2,          2,2,20140122,       2055,   -49.5041,   -33.6723,       5176,  4846.8,   0.0754,  34.6599,2,  34.6598,2,    231.5,2,   230.9,2,   121.4,6,    31.9,6,    0.00,6,   2.215,6,   0.907,2,   0.437,2,   0.223,2,  2257.6,2, 2357.97,2,-999.0000,9, -999.00,   7.5883,6,       25,-999.000,9,   0.0751,2, -999.00,9,  -999.0,9,  -999.0,-999.00000000,9,-999.00000000,9,  4846.8,     18.387,2,    34.8232,6,     -999.0,9,         -999.0,9,  -999.0,9,20140122,       2103
33RO20131223,       A16S,      88,          1,          1,          1,2,20140122,       2055,   -49.5041,   -33.6723,       5176,  5271.7,  -0.0218,  34.6535,2,  34.6551,2,      238,2,     238,2,   121.5,2,    31.9,6,    0.01,6,   2.206,6,   1.108,6,   0.537,2,   0.282,6,  2257.1,6, 2361.38,2,-999.0000,9, -999.00,   7.5895,2,       25,-999.000,9,  -0.0217,2, -999.00,9,  -999.0,9,  -999.0,-999.00000000,9,-999.00000000,9,  5271.7,     18.124,6,    34.8185,2,     -999.0,9,         -999.0,9,  -999.0,9,20140122,       2055