BOTTLE,20220815CCHSIOAMB
EXPOCODE,SECT_ID,STNNBR,CASTNO,SAMPNO,BTLNBR,BTLNBR_FLAG_W,DATE,TIME,LATITUDE,LONGITUDE,DEPTH,CTDPRS,CTDTMP,CTDSAL,CTDSAL_FLAG_W,SALNTY,SALNTY_FLAG_W,CTDOXY,CTDOXY_FLAG_W,OXYGEN,OXYGEN_FLAG_W,SILCAT,SILCAT_FLAG_W,NITRAT,NITRAT_FLAG_W,NITRIT,NITRIT_FLAG_W,PHSPHT,PHSPHT_FLAG_W,CFC-11,CFC-11_FLAG_W,CFC-12,CFC-12_FLAG_W,SF6,SF6_FLAG_W,TCARBN,TCARBN_FLAG_W,ALKALI,ALKALI_FLAG_W,PCO2,PCO2_FLAG_W,PCO2TMP,PH_SWS,PH_SWS_FLAG_W,PH_TMP,TRITUM,TRITUM_FLAG_W,REFTMP,REFTMP_FLAG_W,DELC13,DELC13_FLAG_W,DELC14,DELC14_FLAG_W,C14ERR,DOC,DOC_FLAG_W,TDN,TDN_FLAG_W,CTDRAW,N2O,N2O_FLAG_W,SALTREF,SALTREF_FLAG_W,HELIUM,HELIUM_FLAG_W,DELO18,DELO18_FLAG_W,CCL4,CCL4_FLAG_W,BTL_DATE,BTL_TIME
,,,,,,,,,,,METERS,DBAR,ITS-90,PSS-78,,PSS-78,,UMOL/KG,,UMOL/KG,,UMOL/KG,,UMOL/KG,,UMOL/KG,,UMOL/KG,,PMOL/KG,,PMOL/KG,,FMOL/KG,,UMOL/KG,,UMOL/KG,,UATM,,DEG C,,,DEG C,TU,,DEG C,,/MILLE,,/MILLE,,/MILLE,UMOL/KG,,UMOL/KG,,DBAR,NMOL/KG,,G/KG,,NMOL/KG,,/MILLE,,PMOL/KG,,,
33RO20131223,       A16S,      63,          2,         24,         24,2,20140114,       0159,   -36.9994,   -25.8994,       4126,     3.5,  19.1395,  35.4429,2,  35.4443,2,    233.5,2,   234.6,2,     1.0,6,     0.0,6,    0.00,6,   0.126,6,   2.238,2,   1.368,2,   1.570,2,  2067.8,6, 2331.93,2,-999.0000,9, -999.00,   7.9671,2,       25,-999.000,9,  19.1375,2,    1.40,2,    47.0,2,     2.2,  58.52153106,2,         3.18,2,     3.5,      7.747,2,    35.6114,2,     -999.0,9,         -999.0,9,  -999.0,9,20140114,       0337
33RO20131223,       A16S,      63,          2,         23,         23,2,20140114,       0159,   -36.9994,   -25.8994,       4126,     9.9,  19.1468,  35.4431,2,  35.4442,2,    233.7,2,   235.1,2,     1.0,6,     0.0,6,    0.00,6,   0.126,6,   0.797,4,   1.371,2,   1.533,2,  2067.9,2, 2333.21,6,-999.0000,9, -999.00,   7.9705,2,       25,-999.000,9,  19.1426,2, -999.00,9,  -999.0,9,  -999.0,  57.46018352,2,         3.51,2,     9.9,      7.762,2,    35.6113,2,     -999.0,9,         -999.0,9,  -999.0,9,20140114,       0335
33RO20131223,       A16S,      63,          2,         22,         22,2,20140114,       0159,   -36.9994,   -25.8994,       4126,    37.8,  17.3213,  35.4356,2,  35.4375,2,    246.5,2,   246.4,2,     1.0,6,     0.0,6,    0.00,6,   0.129,6,   2.409,2,   1.468,2,   1.623,6,  2069.8,2, 2331.35,2,-999.0000,9, -999.00,   7.9644,2,       25,-999.000,9,  17.3241,2,    1.38,2,    50.1,2,     2.5,  56.86748294,2,         3.48,2,    37.8,      8.243,6,    35.6046,2,     -999.0,9,         -999.0,9,  -999.0,9,20140114,       0333
33RO20131223,       A16S,      63,          2,         21,         21,2,20140114,       0159,   -36.9994,   -25.8994,       4126,    67.7,  16.1478,  35.4308,2,  35.4315,2,    251.3,2,     251,2,     1.1,6,     0.0,6,    0.00,6,   0.140,6,   2.505,2,   1.526,2,   1.672,2,  2073.9,2, 2332.15,2,-999.0000,9, -999.00,   7.9578,2,       25,-999.000,9,  16.1577,2,    1.36,2,    43.9,2,     2.4,  54.81370653,2,         4.02,2,    67.7,      8.548,2,    35.5985,2,     -999.0,9,         -999.0,9,  -999.0,9,20140114,       0331
33RO20131223,       A16S,      63,          2,         20,         20,2,20140114,       0159,   -36.9994,   -25.8994,       4126,   118.8,  14.8481,  35.4814,2,  35.4821,2,    238.1,2,   237.6,2,     1.4,6,     3.4,6,    0.07,6,   0.365,6,   2.625,2,   1.582,2,   1.743,2,  2099.1,2, 2335.49,2,-999.0000,9, -999.00,   7.9187,6,       25,-999.000,9,  14.8488,2,    1.18,2,    38.2,2,     2.4,  50.59588383,2,         7.03,2,   118.8,      8.975,2,    35.6494,2,     -999.0,9,         -999.0,9,  -999.0,9,20140114,       0329
33RO20131223,       A16S,      63,          2,         19,         19,2,20140114,       0159,   -36.9994,   -25.8994,       4126,   198.6,  14.1228,  35.4794,2,  35.4807,2,    230.3,2,   230.2,2,     2.0,6,     6.0,6,    0.01,6,   0.516,6,   2.686,2,   1.620,2,   1.686,2,  2113.8,2, 2335.65,2,-999.0000,9, -999.00,   7.8875,2,       25,-999.000,9,  14.1242,2,    0.26,3,    25.8,2,     2.5,  48.10102791,2,         8.96,2,   198.6,      9.968,2,     35.648,2,     -999.0,9,         -999.0,9,  -999.0,9,20140114,       0327
33RO20131223,       A16S,      63,          2,         18,         18,2,20140114,       0159,   -36.9994,   -25.8994,       4126,   298.5,  13.0555,  35.2798,2,  35.2799,2,    227.3,2,   224.8,2,     2.5,6,     8.6,6,    0.01,6,   0.680,6,   2.820,2,   1.682,2,   1.580,2,  2120.4,2, 2323.83,2,-999.0000,9, -999.00,   7.8503,2,       25,-999.000,9,  13.0564,2,    0.45,3,    27.5,6,     1.8,  46.11617017,2,        11.43,2,   298.5,     11.406,2,    35.4463,2,     -999.0,9,         -999.0,9,  -999.0,9,20140114,       0324
33RO20131223,       A16S,      63,          2,         17,         17,2,20140114,       0159,   -36.9994,   -25.8994,       4126,   398.6,  11.2212,  34.9784,2,  34.9811,2,    215.8,2,   215.7,2,     4.1,6,    13.8,6,    0.01,6,   0.999,6,   3.085,2,   1.769,2,   1.408,2,    2135,2, 2307.06,2,-999.0000,9, -999.00,   7.7908,2,       25,-999.000,9,  11.2232,2,    0.91,6,    38.4,6,     3.8,  44.08306936,2,        16.38,2,   398.6,     12.837,2,     35.146,2,     -999.0,9,         -999.0,9,  -999.0,9,20140114,       0321
33RO20131223,       A16S,      63,          2,         16,         16,2,20140114,       0159,   -36.9994,   -25.8994,       4126,   516.6,   8.4204,  34.5820,2,  34.5869,2,    218.7,2,   220.6,2,     6.8,6,    20.3,6,    0.01,6,   1.409,6,   3.425,2,   1.895,2,   1.398,2,  2149.4,2, 2289.08,2,-999.0000,9, -999.00,   7.7154,2,       25,-999.000,9,   8.4198,2,    0.32,3,   -17.1,6,     2.9,    42.752939,2,        22.96,2,   516.6,     14.472,2,      34.75,2,     -999.0,9,         -999.0,9,  -999.0,9,20140114,       0318
33RO20131223,       A16S,      63,          2,         15,         15,2,20140114,       0159,   -36.9994,   -25.8994,       4126,   667.2,   5.1567,  34.2261,2,  34.2279,2,    252.5,2,   251.7,2,    11.2,6,    25.6,6,    0.00,6,   1.752,6,   3.901,2,   2.122,2,   1.547,2,  2155.7,2, 2280.54,2,-999.0000,9, -999.00,   7.6701,2,       25,-999.000,9,   5.1618,2,    0.25,3,   -27.4,2,     2.0,  41.60888905,2,        28.23,2,   667.2,     14.853,2,    34.3893,2,     -999.0,9,         -999.0,9,  -999.0,9,20140114,       0314
33RO20131223,       A16S,      63,          2,         14,         14,2,20140114,       0159,   -36.9994,   -25.8994,       4126,     828,   4.2656,  34.1975,2,  34.1983,2,    250.3,2,     250,2,    17.0,6,    27.7,6,    0.00,6,   1.894,6,   3.649,2,   1.952,2,   1.329,2,  2169.1,2, 2281.27,2,-999.0000,9, -999.00,    7.647,2,       25,-999.000,9,   4.2636,2,    1.01,2,   -40.9,2,     3.4,  40.80254059,2,        30.12,2,   828.0,     16.011,2,    34.3596,2,     -999.0,9,         -999.0,9,  -999.0,9,20140114,       0310
33RO20131223,       A16S,      63,          2,         13,         13,2,20140114,       0159,   -36.9994,   -25.8994,       4126,   998.2,   3.6021,  34.2413,2,  34.2413,2,    228.6,2,     230,2,    27.7,6,    30.5,6,    0.00,6,   2.076,6,   2.856,2,   1.477,2,   0.858,2,  2188.9,2, 2292.56,2,-999.0000,9, -999.00,   7.6133,2,       25,-999.000,9,   3.6028,2,    0.93,2,   -61.5,2,     2.6,  39.98930026,2,        33.03,2,   998.2,     18.267,2,    34.4027,2,     -999.0,9,         -999.0,9,  -999.0,9,20140114,       0306
33RO20131223,       A16S,      63,          2,         12,         12,2,20140114,       0159,   -36.9994,   -25.8994,       4126,  1148.6,   3.2498,  34.3071,2,  34.3081,2,      211,2,   210.8,2,    38.1,6,    32.2,6,    0.00,6,   2.193,6,   2.083,6,   1.050,2,   0.539,6,  2207.3,2, 2303.83,2,-999.0000,9, -999.00,   7.5857,2,       25,-999.000,9,   3.2505,2,    0.73,2,   -73.5,2,     2.2,  40.09267827,2,        35.01,2,  1148.6,     19.990,6,    34.4699,2,     -999.0,9,         -999.0,9,  -999.0,9,20140114,       0302
33RO20131223,       A16S,      63,          2,         11,         11,2,20140114,       0159,   -36.9994,   -25.8994,       4126,    1299,   3.0117,  34.4050,2,  34.4030,2,    191.5,2,   192.7,2,    49.4,6,    33.3,6,    0.00,6,   2.271,6,   1.244,2,   0.622,2,   0.311,2,  2226.2,2, 2313.51,2,-999.0000,9, -999.00,   7.5667,2,       25,-999.000,9,   3.0123,2, -999.00,9,  -999.0,9,  -999.0,  40.36835296,2,        36.11,2,  1299.0,     21.332,2,    34.5652,2,     -999.0,9,         -999.0,9,  -999.0,9,20140114,       0259
33RO20131223,       A16S,      63,          2,         10,         10,2,20140114,       0159,   -36.9994,   -25.8994,       4126,  1446.9,   2.8891,  34.4836,2,  34.4845,2,    183.3,2,     184,2,    55.6,6,    33.4,6,    0.00,6,   2.277,6,   0.752,2,   0.371,2,   0.151,2,  2234.6,2, 2324.41,6,-999.0000,9, -999.00,   7.5633,2,       25,-999.000,9,   2.8891,2,    0.57,2,  -108.6,2,     2.5,  40.22362375,2,        36.02,2,  1446.9,     21.701,2,    34.6471,6,     -999.0,9,         -999.0,9,  -999.0,9,20140114,       0255
33RO20131223,       A16S,      63,          2,          9,          9,2,20140114,       0159,   -36.9994,   -25.8994,       4126,  1647.9,   2.8674,  34.6148,2,  34.6148,2,      182,2,   183.5,2,    58.7,6,    31.9,6,    0.00,6,   2.175,6,   0.325,2,   0.160,2,   0.081,2,    2236,6, 2333.03,2,-999.0000,9, -999.00,   7.5779,2,       25,-999.000,9,   2.8671,2,    0.49,2,  -117.4,2,     1.9,   40.4441635,2,        34.47,2,  1647.9,     21.142,2,     34.778,2,     -999.0,9,         -999.0,9,  -999.0,9,20140114,       0251
33RO20131223,       A16S,      63,          2,          8,          8,2,20140114,       0159,   -36.9994,   -25.8994,       4126,  1849.4,   2.9129,  34.7128,2,  34.7127,2,    192.1,2,     193,2,    55.7,6,    29.7,6,    0.00,6,   2.014,6,   0.175,2,   0.085,2,   0.032,2,  2226.9,2, 2335.69,2,-999.0000,9, -999.00,   7.6033,2,       25,-999.000,9,   2.9128,2, -999.00,9,  -999.0,9,  -999.0,  41.14713395,2,        32.18,2,  1849.4,     19.761,2,    34.8764,2,     -999.0,9,         -999.0,9,  -999.0,9,20140114,       0246
33RO20131223,       A16S,      63,          2,          7,          7,2,20140114,       0159,   -36.9994,   -25.8994,       4126,  2148.2,   3.0251,  34.8267,2,  34.8275,2,    216.3,2,   215.4,2,    45.7,6,    25.8,6,    0.00,6,   1.741,6,   0.123,2,   0.062,2,   0.053,2,  2206.1,2, 2330.26,2,-999.0000,9, -999.00,   7.6564,2,       25,-999.000,9,   3.0254,2,    0.71,2,  -119.9,2,     2.0,   41.8501044,2,        28.43,2,  2148.2,     17.206,2,    34.9918,2,     -999.0,9,         -999.0,9,  -999.0,9,20140114,       0240
33RO20131223,       A16S,      63,          2,          6,          6,2,20140114,       0159,   -36.9994,   -25.8994,       4126,  2447.7,   2.9760,  34.8744,2,  34.8749,2,    230.7,2,   230.2,2,    39.9,6,    23.5,6,    0.00,6,   1.588,6,   0.099,2,   0.050,2,   0.022,2,  2193.6,2, 2330.39,2,-999.0000,9, -999.00,   7.6841,2,       25,-999.000,9,   2.9761,2, -999.00,9,  -999.0,9,  -999.0,-999.00000000,9,-999.00000000,9,  2447.7,     15.689,2,    35.0394,2,     -999.0,9,         -999.0,9,  -999.0,9,20140114,       0234
33RO20131223,       A16S,      63,          2,          5,          5,2,20140114,       0159,   -36.9994,   -25.8994,       4126,  2747.2,   2.8465,  34.8959,2,  34.8965,2,    240.8,2,   239.8,2,    37.4,2,    22.4,6,    0.00,6,   1.506,6,   0.075,2,   0.037,2,   0.000,2,  2187.5,2, 2332.39,2,-999.0000,9, -999.00,   7.7011,2,       25,-999.000,9,   2.8469,2, -999.00,9,  -999.0,9,  -999.0,  41.65713212,2,        24.89,2,  2747.2,     14.743,2,     35.061,2,     -999.0,9,         -999.0,9,  -999.0,9,20140114,       0228
33RO20131223,       A16S,      63,          2,          4,          4,2,20140114,       0159,   -36.9994,   -25.8994,       4126,  3148.9,   2.3881,  34.8555,2,  34.8563,2,    234.6,2,   233.1,2,    53.1,6,    24.1,6,    0.00,6,   1.639,6,   0.068,2,   0.034,2,   0.033,2,  2202.6,2, 2345.79,3,-999.0000,9, -999.00,   7.6333,4,       25,-999.000,9,   2.3883,2, -999.00,9,  -999.0,9,  -999.0,  40.57510897,2,        26.74,2,  3148.9,     15.502,2,    35.0206,2,     -999.0,9,         -999.0,9,  -999.0,9,20140114,       0220
33RO20131223,       A16S,      63,          2,          3,          3,2,20140114,       0159,   -36.9994,   -25.8994,       4126,  3548.5,   1.6918,  34.7859,2,  34.7867,2,    221.7,2,   221.5,2,    80.7,6,    27.7,6,    0.00,6,   1.893,6,   0.087,2,   0.041,2,   0.000,2,    2229,2, 2350.38,2,-999.0000,9, -999.00,   7.6451,6,       25,-999.000,9,   1.6916,2, -999.00,9,  -999.0,9,  -999.0,  39.88592226,2,        30.39,2,  3548.5,     16.860,2,    34.9507,2,     -999.0,9,         -999.0,9,  -999.0,9,20140114,       0212
33RO20131223,       A16S,      63,          2,          2,          2,2,20140114,       0159,   -36.9994,   -25.8994,       4126,  3946.9,   1.0539,  34.7302,2,  34.7308,2,    217.2,2,   216.9,2,   103.8,6,    30.4,6,    0.00,6,   2.083,6,   0.181,2,   0.086,2,   0.000,2,  2249.4,2, 2362.68,2,-999.0000,9, -999.00,   7.6447,3,       25,-999.000,9,   1.0534,2, -999.00,9,  -999.0,9,  -999.0,  39.15538434,2,        33.06,2,  3946.9,     17.743,2,    34.8946,6,     -999.0,9,         -999.0,9,  -999.0,9,20140114,       0205
33RO20131223,       A16S,      63,          2,          1,          1,2,20140114,       0159,   -36.9994,   -25.8994,       4126,  4180.7,   0.8147,  34.7079,2,  34.7090,2,    215.2,2,   214.8,2,   113.2,6,    31.5,6,    0.00,6,   2.160,6,   0.243,6,   0.116,2,   0.061,6,  2261.5,6, 2368.11,2,-999.0000,9, -999.00,   7.6213,2,       25,-999.000,9,   0.8145,2, -999.00,9,  -999.0,9,  -999.0,   39.1002494,2,        34.12,2,  4180.7,     18.113,6,    34.8727,2,     -999.0,9,         -999.0,9,  -999.0,9,20140114,       0159