BOTTLE,20220815CCHSIOAMB
EXPOCODE,SECT_ID,STNNBR,CASTNO,SAMPNO,BTLNBR,BTLNBR_FLAG_W,DATE,TIME,LATITUDE,LONGITUDE,DEPTH,CTDPRS,CTDTMP,CTDSAL,CTDSAL_FLAG_W,SALNTY,SALNTY_FLAG_W,CTDOXY,CTDOXY_FLAG_W,OXYGEN,OXYGEN_FLAG_W,SILCAT,SILCAT_FLAG_W,NITRAT,NITRAT_FLAG_W,NITRIT,NITRIT_FLAG_W,PHSPHT,PHSPHT_FLAG_W,CFC-11,CFC-11_FLAG_W,CFC-12,CFC-12_FLAG_W,SF6,SF6_FLAG_W,TCARBN,TCARBN_FLAG_W,ALKALI,ALKALI_FLAG_W,PCO2,PCO2_FLAG_W,PCO2TMP,PH_SWS,PH_SWS_FLAG_W,PH_TMP,TRITUM,TRITUM_FLAG_W,REFTMP,REFTMP_FLAG_W,DELC13,DELC13_FLAG_W,DELC14,DELC14_FLAG_W,C14ERR,DOC,DOC_FLAG_W,TDN,TDN_FLAG_W,CTDRAW,N2O,N2O_FLAG_W,SALTREF,SALTREF_FLAG_W,HELIUM,HELIUM_FLAG_W,DELO18,DELO18_FLAG_W,CCL4,CCL4_FLAG_W,BTL_DATE,BTL_TIME
,,,,,,,,,,,METERS,DBAR,ITS-90,PSS-78,,PSS-78,,UMOL/KG,,UMOL/KG,,UMOL/KG,,UMOL/KG,,UMOL/KG,,UMOL/KG,,PMOL/KG,,PMOL/KG,,FMOL/KG,,UMOL/KG,,UMOL/KG,,UATM,,DEG C,,,DEG C,TU,,DEG C,,/MILLE,,/MILLE,,/MILLE,UMOL/KG,,UMOL/KG,,DBAR,NMOL/KG,,G/KG,,NMOL/KG,,/MILLE,,PMOL/KG,,,
33RO20131223,       A16S,      98,          1,         21,         21,2,20140125,       2345,   -53.5942,   -36.2107,       1779,     3.2,   2.4830,  33.7843,2,  33.7836,2,    327.8,2,   326.9,2,     9.8,2,    21.3,2,    0.25,2,   1.552,2,   5.271,2,   2.986,2,   2.971,2,  2144.1,6,    2285,2,-999.0000,9, -999.00,   7.7317,2,       25,-999.000,9,   2.4831,2, -999.00,9,  -999.0,9,  -999.0,-999.00000000,9,-999.00000000,9,     3.2,     13.534,2,    33.9429,2,     -999.0,9,         -999.0,9,  -999.0,9,20140126,       0039
33RO20131223,       A16S,      98,          1,         20,         20,2,20140125,       2345,   -53.5942,   -36.2107,       1779,    18.2,   2.4660,  33.7851,2,  33.7849,2,    327.6,2,   326.7,2,     9.8,2,    21.3,2,    0.24,2,   1.554,2,-999.000,9,-999.000,9,-999.000,9,  -999.0,9, -999.00,9,-999.0000,9, -999.00,-999.0000,9,  -999.00,-999.000,9,     2.47,2, -999.00,9,  -999.0,9,  -999.0,-999.00000000,9,-999.00000000,9,    18.2,     -999.0,9,    33.9442,6,     -999.0,9,         -999.0,9,  -999.0,9,20140126,       0037
33RO20131223,       A16S,      98,          1,         19,         19,2,20140125,       2345,   -53.5942,   -36.2107,       1779,    27.6,   2.3795,  33.7867,2,  33.7873,2,      327,2,   326.8,2,    10.1,2,    21.3,2,    0.24,2,   1.557,2,   5.250,2,   2.949,2,   2.804,2,  2144.9,2, 2286.82,2,-999.0000,9, -999.00,   7.7306,6,       25,-999.000,9,   2.3937,2, -999.00,9,  -999.0,9,  -999.0,-999.00000000,9,-999.00000000,9,    27.6,     13.350,2,    33.9466,2,     -999.0,9,         -999.0,9,  -999.0,9,20140126,       0036
33RO20131223,       A16S,      98,          1,         18,         18,2,20140125,       2345,   -53.5942,   -36.2107,       1779,    47.2,   2.2805,  33.7865,2,  33.7879,2,    328.1,2,   327.8,2,     9.8,2,    21.5,2,    0.24,2,   1.565,2,-999.000,9,-999.000,9,-999.000,9,  -999.0,9, -999.00,9,-999.0000,9, -999.00,-999.0000,9,  -999.00,-999.000,9,   2.2803,2, -999.00,9,  -999.0,9,  -999.0,-999.00000000,9,-999.00000000,9,    47.2,     -999.0,9,    33.9472,2,     -999.0,9,         -999.0,9,  -999.0,9,20140126,       0034
33RO20131223,       A16S,      98,          1,         17,         17,2,20140125,       2345,   -53.5942,   -36.2107,       1779,    77.7,   1.4842,  33.8296,2,  33.8329,2,    316.7,2,     319,2,    13.4,2,    22.9,2,    0.26,2,   1.725,2,   5.321,2,   2.987,2,   2.874,2,  2160.1,2, 2289.99,6,-999.0000,9, -999.00,   7.6939,2,       25,-999.000,9,   1.4811,2, -999.00,9,  -999.0,9,  -999.0,-999.00000000,9,-999.00000000,9,    77.7,     14.344,2,    33.9924,2,     -999.0,9,         -999.0,9,  -999.0,9,20140126,       0032
33RO20131223,       A16S,      98,          1,         16,         16,2,20140125,       2345,   -53.5942,   -36.2107,       1779,   122.4,   0.8974,  33.9754,2,  33.9838,2,    286.4,2,   288.9,2,    29.0,2,    27.2,2,    0.28,2,   2.014,2,-999.000,9,-999.000,9,-999.000,9,  -999.0,9, -999.00,9,-999.0000,9, -999.00,-999.0000,9,  -999.00,-999.000,9,   0.8977,2, -999.00,9,  -999.0,9,  -999.0,-999.00000000,9,-999.00000000,9,   122.4,     -999.0,9,     34.144,2,     -999.0,9,         -999.0,9,  -999.0,9,20140126,       0030
33RO20131223,       A16S,      98,          1,         15,         15,2,20140125,       2345,   -53.5942,   -36.2107,       1779,   172.9,   1.3759,  34.1954,2,  34.1993,2,    234.4,2,   236.1,2,    47.1,2,    32.2,2,    0.21,2,   2.279,2,   3.333,2,   1.820,2,   1.462,2,  2220.4,2, 2304.16,2,-999.0000,9, -999.00,     7.56,2,       25,-999.000,9,   1.3764,2, -999.00,9,  -999.0,9,  -999.0,-999.00000000,9,-999.00000000,9,   172.9,     19.679,2,    34.3605,2,     -999.0,9,         -999.0,9,  -999.0,9,20140126,       0028
33RO20131223,       A16S,      98,          1,         14,         14,2,20140125,       2345,   -53.5942,   -36.2107,       1779,   223.1,   1.9868,  34.3620,2,  34.3641,2,    199.6,2,   198.1,2,    57.9,2,    34.0,2,    0.10,2,   2.365,2,-999.000,9,-999.000,9,-999.000,9,  -999.0,9, -999.00,9,-999.0000,9, -999.00,-999.0000,9,  -999.00,-999.000,9,   1.9874,2, -999.00,9,  -999.0,9,  -999.0,-999.00000000,9,-999.00000000,9,   223.1,     -999.0,9,    34.5262,2,     -999.0,9,         -999.0,9,  -999.0,9,20140126,       0026
33RO20131223,       A16S,      98,          1,         13,         13,2,20140125,       2345,   -53.5942,   -36.2107,       1779,   297.7,   2.1815,  34.4507,2,  34.4520,2,    182.7,2,   181.8,2,    64.4,2,    34.2,2,    0.08,2,   2.380,2,   1.440,2,   0.740,2,   0.490,2,  2252.1,2, 2327.21,2,-999.0000,9, -999.00,   7.5264,2,       25,-999.000,9,   2.1816,2, -999.00,9,  -999.0,9,  -999.0,-999.00000000,9,-999.00000000,9,   297.7,     22.096,2,    34.6144,2,     -999.0,9,         -999.0,9,  -999.0,9,20140126,       0024
33RO20131223,       A16S,      98,          1,         12,         12,2,20140125,       2345,   -53.5942,   -36.2107,       1779,   397.8,   2.2112,  34.5346,2,  34.5370,2,    172.8,2,   172.1,2,    71.4,2,    34.0,2,    0.05,2,   2.368,2,-999.000,9,-999.000,9,-999.000,9,  -999.0,9, -999.00,9,-999.0000,9, -999.00,-999.0000,9,  -999.00,-999.000,9,    2.211,2, -999.00,9,  -999.0,9,  -999.0,-999.00000000,9,-999.00000000,9,   397.8,     -999.0,9,    34.6998,2,     -999.0,9,         -999.0,9,  -999.0,9,20140126,       0021
33RO20131223,       A16S,      98,          1,         11,         11,2,20140125,       2345,   -53.5942,   -36.2107,       1779,   498.2,   2.1671,  34.5880,2,  34.5906,2,    170.1,2,     170,2,    75.8,2,    33.6,2,    0.03,2,   2.337,2,   0.669,2,   0.323,2,   0.220,2,  2262.1,2, 2337.46,2,-999.0000,9, -999.00,   7.5367,2,       25,-999.000,9,    2.167,2, -999.00,9,  -999.0,9,  -999.0,-999.00000000,9,-999.00000000,9,   498.2,     21.930,2,    34.7537,2,     -999.0,9,         -999.0,9,  -999.0,9,20140126,       0018
33RO20131223,       A16S,      98,          1,         10,         10,2,20140125,       2345,   -53.5942,   -36.2107,       1779,   597.8,   2.1142,  34.6188,2,  34.6189,2,    170.5,2,   170.4,2,    78.7,2,    33.3,2,    0.03,2,   2.313,2,-999.000,9,-999.000,9,-999.000,9,  -999.0,9, -999.00,9,-999.0000,9, -999.00,-999.0000,9,  -999.00,-999.000,9,   2.1141,2, -999.00,9,  -999.0,9,  -999.0,-999.00000000,9,-999.00000000,9,   597.8,     -999.0,9,    34.7821,2,     -999.0,9,         -999.0,9,  -999.0,9,20140126,       0015
33RO20131223,       A16S,      98,          1,          9,          9,2,20140125,       2345,   -53.5942,   -36.2107,       1779,   697.6,   2.0492,  34.6400,2,  34.6397,2,    172.4,2,     172,2,    81.0,2,    32.9,2,    0.02,2,   2.290,2,-999.000,9,-999.000,9,-999.000,9,  -999.0,9, -999.00,9,-999.0000,9, -999.00,-999.0000,9,  -999.00,-999.000,9,    2.049,2, -999.00,9,  -999.0,9,  -999.0,-999.00000000,9,-999.00000000,9,   697.6,     -999.0,9,     34.803,2,     -999.0,9,         -999.0,9,  -999.0,9,20140126,       0012
33RO20131223,       A16S,      98,          1,          8,          8,2,20140125,       2345,   -53.5942,   -36.2107,       1779,   797.5,   1.9597,  34.6670,2,  34.6677,2,    174.3,2,   174.6,2,    84.1,2,    32.5,2,    0.02,2,   2.262,2,   0.365,2,   0.174,2,   0.118,2,  2264.7,2, 2347.62,2,-999.0000,9, -999.00,   7.5576,2,       25,-999.000,9,   1.9595,2, -999.00,9,  -999.0,9,  -999.0,-999.00000000,9,-999.00000000,9,   797.5,     20.709,2,    34.8312,6,     -999.0,9,         -999.0,9,  -999.0,9,20140126,       0009
33RO20131223,       A16S,      98,          1,          7,          7,2,20140125,       2345,   -53.5942,   -36.2107,       1779,   947.5,   1.7792,  34.6905,2,  34.6918,2,    178.5,2,   179.5,2,    89.7,2,    32.1,2,    0.01,2,   2.229,2,-999.000,9,-999.000,9,-999.000,9,  -999.0,9, -999.00,9,-999.0000,9, -999.00,-999.0000,9,  -999.00,-999.000,9,    1.779,2, -999.00,9,  -999.0,9,  -999.0,-999.00000000,9,-999.00000000,9,   947.5,     -999.0,9,    34.8554,2,     -999.0,9,         -999.0,9,  -999.0,9,20140126,       0006
33RO20131223,       A16S,      98,          1,          6,          6,2,20140125,       2345,   -53.5942,   -36.2107,       1779,  1097.8,   1.7036,  34.6971,2,  34.6978,2,      181,2,   181.4,2,    91.9,2,    31.9,2,    0.01,2,   2.219,2,-999.000,9,-999.000,9,-999.000,9,  -999.0,9, -999.00,9,-999.0000,9, -999.00,-999.0000,9,  -999.00,-999.000,9,   1.7035,2, -999.00,9,  -999.0,9,  -999.0,-999.00000000,9,-999.00000000,9,  1097.8,     -999.0,9,    34.8614,2,     -999.0,9,         -999.0,9,  -999.0,9,20140126,       0002
33RO20131223,       A16S,      98,          1,          5,          5,2,20140125,       2345,   -53.5942,   -36.2107,       1779,  1247.7,   1.5666,  34.7054,2,  34.7067,2,    184.8,2,   185.5,2,    94.9,2,    31.7,2,    0.01,2,   2.201,2,   0.276,2,   0.133,2,   0.084,2,  2263.9,2, 2361.67,2,-999.0000,9, -999.00,    7.578,2,       25,-999.000,9,   1.5684,2, -999.00,9,  -999.0,9,  -999.0,-999.00000000,9,-999.00000000,9,  1247.7,     19.454,2,    34.8704,2,     -999.0,9,         -999.0,9,  -999.0,9,20140125,       2358
33RO20131223,       A16S,      98,          1,          4,          4,2,20140125,       2345,   -53.5942,   -36.2107,       1779,    1378,   1.4565,  34.7079,2,  34.7078,2,    188.7,2,   188.8,2,    97.1,6,    31.6,6,    0.01,6,   2.191,6,-999.000,9,-999.000,9,-999.000,9,  -999.0,9, -999.00,9,-999.0000,9, -999.00,-999.0000,9,  -999.00,-999.000,9,   1.4565,2, -999.00,9,  -999.0,9,  -999.0,-999.00000000,9,-999.00000000,9,  1378.0,     -999.0,9,    34.8715,2,     -999.0,9,         -999.0,9,  -999.0,9,20140125,       2355
33RO20131223,       A16S,      98,          1,          3,          3,2,20140125,       2345,   -53.5942,   -36.2107,       1779,  1547.7,   1.2530,  34.7052,2,  34.7073,2,    193.4,2,   193.2,2,   101.0,6,    31.5,6,    0.01,6,   2.187,6,-999.000,9,-999.000,9,-999.000,9,  -999.0,9, -999.00,9,-999.0000,9, -999.00,-999.0000,9,  -999.00,-999.000,9,   1.2529,2, -999.00,9,  -999.0,9,  -999.0,-999.00000000,9,-999.00000000,9,  1547.7,     -999.0,9,     34.871,2,     -999.0,9,         -999.0,9,  -999.0,9,20140125,       2351
33RO20131223,       A16S,      98,          1,          2,          2,2,20140125,       2345,   -53.5942,   -36.2107,       1779,    1698,   1.1218,  34.7030,2,  34.7029,2,      196,2,   196.3,2,   104.7,6,    31.6,6,    0.01,6,   2.192,6,-999.000,9,-999.000,9,-999.000,9,  2264.2,2, 2361.15,6,-999.0000,9, -999.00,   7.5838,2,       25,-999.000,9,   1.1208,2, -999.00,9,  -999.0,9,  -999.0,-999.00000000,9,-999.00000000,9,  1698.0,     -999.0,9,    34.8665,2,     -999.0,9,         -999.0,9,  -999.0,9,20140125,       2348
33RO20131223,       A16S,      98,          1,          1,          1,2,20140125,       2345,   -53.5942,   -36.2107,       1779,  1795.6,   0.9641,  34.6989,2,  34.6987,2,    199.6,2,     200,2,   108.4,6,    31.6,6,    0.01,6,   2.197,6,   0.381,2,   0.191,2,   0.155,2,  2263.2,2, 2359.78,2,-999.0000,9, -999.00,   7.5835,2,       25,-999.000,9,   0.9635,2, -999.00,9,  -999.0,9,  -999.0,-999.00000000,9,-999.00000000,9,  1795.6,     18.709,2,    34.8623,2,     -999.0,9,         -999.0,9,  -999.0,9,20140125,       2345