BOTTLE,20220815CCHSIOAMB
EXPOCODE,SECT_ID,STNNBR,CASTNO,SAMPNO,BTLNBR,BTLNBR_FLAG_W,DATE,TIME,LATITUDE,LONGITUDE,DEPTH,CTDPRS,CTDTMP,CTDSAL,CTDSAL_FLAG_W,SALNTY,SALNTY_FLAG_W,CTDOXY,CTDOXY_FLAG_W,OXYGEN,OXYGEN_FLAG_W,SILCAT,SILCAT_FLAG_W,NITRAT,NITRAT_FLAG_W,NITRIT,NITRIT_FLAG_W,PHSPHT,PHSPHT_FLAG_W,CFC-11,CFC-11_FLAG_W,CFC-12,CFC-12_FLAG_W,SF6,SF6_FLAG_W,TCARBN,TCARBN_FLAG_W,ALKALI,ALKALI_FLAG_W,PCO2,PCO2_FLAG_W,PCO2TMP,PH_SWS,PH_SWS_FLAG_W,PH_TMP,TRITUM,TRITUM_FLAG_W,REFTMP,REFTMP_FLAG_W,DELC13,DELC13_FLAG_W,DELC14,DELC14_FLAG_W,C14ERR,DOC,DOC_FLAG_W,TDN,TDN_FLAG_W,CTDRAW,N2O,N2O_FLAG_W,SALTREF,SALTREF_FLAG_W,HELIUM,HELIUM_FLAG_W,DELO18,DELO18_FLAG_W,CCL4,CCL4_FLAG_W,BTL_DATE,BTL_TIME
,,,,,,,,,,,METERS,DBAR,ITS-90,PSS-78,,PSS-78,,UMOL/KG,,UMOL/KG,,UMOL/KG,,UMOL/KG,,UMOL/KG,,UMOL/KG,,PMOL/KG,,PMOL/KG,,FMOL/KG,,UMOL/KG,,UMOL/KG,,UATM,,DEG C,,,DEG C,TU,,DEG C,,/MILLE,,/MILLE,,/MILLE,UMOL/KG,,UMOL/KG,,DBAR,NMOL/KG,,G/KG,,NMOL/KG,,/MILLE,,PMOL/KG,,,
33RO20131223,       A16S,      37,          1,         24,         24,2,20140106,       1017,   -23.9999,   -25.0002,       5619,     2.4,  26.8442,  36.9899,2,  36.9835,2,      203,2,     204,2,     0.9,6,     0.0,6,    0.00,6,   0.090,6,   1.573,3,   1.027,2,   1.225,2,  2103.9,6, 2430.95,2,   338.04,2,      20,   8.0373,2,       25,-999.000,9,  26.8335,2, -999.00,9,  -999.0,9,  -999.0,  68.40241166,2,         4.59,2,     2.4,      6.278,2,    37.1579,2,     -999.0,9,         -999.0,9,  -999.0,9,20140106,       1216
33RO20131223,       A16S,      37,          1,         23,         23,2,20140106,       1017,   -23.9999,   -25.0002,       5619,    17.9,  25.1487,  36.8408,2,  36.8418,2,      210,2,   211.5,2,     0.9,6,     0.0,6,    0.00,6,   0.085,6,   1.669,3,   1.076,2,   1.262,2,  2097.6,2, 2422.57,6,   339.44,2,      20,   8.0342,2,       25,-999.000,9,  25.1509,2, -999.00,9,  -999.0,9,  -999.0,   66.9999732,2,         3.72,2,    17.9,      6.503,2,    37.0155,2,     -999.0,9,         -999.0,9,  -999.0,9,20140106,       1214
33RO20131223,       A16S,      37,          1,         22,         22,2,20140106,       1017,   -23.9999,   -25.0002,       5619,    48.6,  22.6732,  36.7410,2,  36.7410,2,    222.5,2,   223.8,2,     1.0,2,     0.0,2,    0.00,2,   0.092,2,   1.857,3,   1.181,2,   1.378,2,  2094.3,2, 2415.32,2,   342.44,2,      20,   8.0307,6,       25,-999.000,9,   22.674,2, -999.00,9,  -999.0,9,  -999.0,  65.52741281,2,         3.86,2,    48.6,      6.975,2,    36.9143,2,     -999.0,9,         -999.0,9,  -999.0,9,20140106,       1212
33RO20131223,       A16S,      37,          1,         21,         21,2,20140106,       1017,   -23.9999,   -25.0002,       5619,    73.1,  22.2530,  36.7676,2,  36.7684,2,    221.8,2,   222.2,2,     1.0,2,     0.0,2,    0.00,2,   0.102,2,   1.863,3,   1.177,2,   1.341,2,  2097.4,2, 2418.38,2,    345.8,2,      20,    8.031,2,       25,-999.000,9,  22.2531,2, -999.00,9,  -999.0,9,  -999.0,  62.65241396,2,         3.71,2,    73.1,      6.998,2,    36.9418,2,     -999.0,9,         -999.0,9,  -999.0,9,20140106,       1210
33RO20131223,       A16S,      37,          1,         20,         20,2,20140106,       1017,   -23.9999,   -25.0002,       5619,    97.4,  21.7997,  36.7244,2,  36.7206,2,    218.3,2,   219.3,2,     1.0,2,     0.0,2,    0.00,2,   0.116,2,   1.935,3,   1.227,6,   1.470,6,  2101.2,2, 2414.54,2,   354.24,2,      20,   8.0216,2,       25,-999.000,9,  21.7967,2, -999.00,9,  -999.0,9,  -999.0,  59.92467115,2,         3.62,2,    97.4,      7.281,6,    36.8937,2,     -999.0,9,         -999.0,9,  -999.0,9,20140106,       1209
33RO20131223,       A16S,      37,          1,         19,         19,2,20140106,       1017,   -23.9999,   -25.0002,       5619,     148,  19.9789,  36.3625,2,  36.3108,2,      213,2,   212.9,2,     1.2,2,     0.2,2,    0.03,2,   0.199,2,   2.086,3,   1.303,2,   1.426,2,  2106.1,2, 2389.08,2,   399.18,2,      20,   7.9717,2,       25,-999.000,9,  19.9568,2, -999.00,9,  -999.0,9,  -999.0,  57.98930607,2,         3.46,2,   148.0,      7.845,2,    36.4821,6,     -999.0,9,         -999.0,9,  -999.0,9,20140106,       1207
33RO20131223,       A16S,      37,          1,         18,         18,2,20140106,       1017,   -23.9999,   -25.0002,       5619,   217.7,  16.5478,  35.7272,2,  35.7191,2,    207.9,2,   208.3,2,     2.0,2,     3.8,2,    0.01,2,   0.424,2,   2.415,3,   1.469,2,   1.444,2,  2109.7,2, 2350.09,2,  472.795,2,      20,    7.906,2,       25,-999.000,9,  16.5231,2, -999.00,9,  -999.0,9,  -999.0,  54.63046595,2,         6.86,2,   217.7,      9.465,2,    35.8875,2,     -999.0,9,         -999.0,9,  -999.0,9,20140106,       1204
33RO20131223,       A16S,      37,          1,         17,         17,2,20140106,       1017,   -23.9999,   -25.0002,       5619,   297.9,  14.0011,  35.3174,2,  35.3135,2,    207.9,2,   207.8,2,     3.1,2,     8.1,2,    0.01,2,   0.662,2,   2.722,3,   1.628,2,   1.414,2,    2119,2, 2326.91,2,   545.57,2,      20,   7.8515,2,       25,-999.000,9,  14.0062,2, -999.00,9,  -999.0,9,  -999.0,  48.72620002,2,        10.85,2,   297.9,     11.661,2,      35.48,2,     -999.0,9,         -999.0,9,  -999.0,9,20140106,       1202
33RO20131223,       A16S,      37,          1,         16,         16,2,20140106,       1017,   -23.9999,   -25.0002,       5619,     408,  11.8635,  35.0348,2,  35.0267,2,    202.3,2,   202.2,2,     5.2,2,    13.9,2,    0.00,2,   1.000,2,   2.911,3,   1.698,2,   1.176,2,  2138.2,2, 2324.51,2,  645.515,6,      20,   7.7831,2,       25,-999.000,9,  11.8587,2, -999.00,9,  -999.0,9,  -999.0,  45.64784759,2,        16.33,2,   408.0,     14.162,2,    35.1919,2,     -999.0,9,         -999.0,9,  -999.0,9,20140106,       1159
33RO20131223,       A16S,      37,          1,         15,         15,2,20140106,       1017,   -23.9999,   -25.0002,       5619,   568.9,   8.6512,  34.6467,2,  34.6468,2,    200.5,2,   199.1,2,    10.4,2,    21.7,2,    0.00,2,   1.490,2,   2.988,3,   1.661,2,   0.953,2,  2160.2,2, 2298.41,2,  805.945,2,      20,   7.6985,2,       25,-999.000,9,   8.6511,2, -999.00,9,  -999.0,9,  -999.0,  44.30851886,2,        24.13,2,   568.9,     16.514,2,    34.8101,2,     -999.0,9,         -999.0,9,  -999.0,9,20140106,       1155
33RO20131223,       A16S,      37,          1,         14,         14,2,20140106,       1017,   -23.9999,   -25.0002,       5619,   718.1,   5.6033,  34.3836,2,  34.3843,2,      203,2,   202.5,2,    21.0,2,    28.5,2,    0.00,2,   1.938,2,   2.590,3,   1.372,2,   0.658,2,  2183.8,2, 2298.63,2,   958.18,2,      20,   7.6242,2,       25,-999.000,9,    5.602,2, -999.00,9,  -999.0,9,  -999.0,  42.32406844,2,        31.11,2,   718.1,     18.711,2,    34.5464,2,     -999.0,9,         -999.0,9,  -999.0,9,20140106,       1152
33RO20131223,       A16S,      37,          1,         13,         13,2,20140106,       1017,   -23.9999,   -25.0002,       5619,   947.7,   3.9804,  34.3981,2,  34.3990,2,    190.2,2,   189.4,2,    37.4,6,    32.1,6,    0.00,6,   2.188,6,   1.235,3,   0.633,2,   0.237,2,  2212.8,2, 2308.36,6,  1065.29,2,      20,   7.5838,2,       25,-999.000,9,   3.9813,2, -999.00,9,  -999.0,9,  -999.0,  40.36766678,2,        34.81,2,   947.7,     21.018,2,    34.5612,2,     -999.0,9,         -999.0,9,  -999.0,9,20140106,       1147
33RO20131223,       A16S,      37,          1,         12,         12,2,20140106,       1017,   -23.9999,   -25.0002,       5619,  1128.9,   3.3215,  34.5337,2,  34.5452,2,    184.1,2,   184.5,2,    48.2,6,    32.0,6,    0.00,6,   2.181,6,   0.422,3,   0.212,2,   0.054,2,  2224.4,6, -999.00,5,  1069.68,2,      20,    7.584,2,       25,-999.000,9,   3.3216,2, -999.00,9,  -999.0,9,  -999.0,  40.92864217,2,        34.66,2,  1128.9,     21.078,2,    34.7081,2,     -999.0,9,         -999.0,9,  -999.0,9,20140106,       1143
33RO20131223,       A16S,      37,          1,         11,         11,2,20140106,       1017,   -23.9999,   -25.0002,       5619,  1347.5,   3.2417,  34.6888,2,  34.6914,2,    194.7,2,   195.2,2,    45.8,2,    29.2,2,    0.00,2,   1.981,2,   0.086,3,   0.039,6,   0.024,6,  2215.8,2, 2327.21,2,   982.71,2,      20,   7.6182,2,       25,-999.000,9,   3.2416,2, -999.00,9,  -999.0,9,  -999.0,  41.78412963,2,        31.62,2,  1347.5,     19.311,6,     34.855,2,     -999.0,9,         -999.0,9,  -999.0,9,20140106,       1138
33RO20131223,       A16S,      37,          1,         10,         10,2,20140106,       1017,   -23.9999,   -25.0002,       5619,  1747.8,   3.2061,  34.8734,2,  34.8750,2,    230.2,2,   229.6,2,    34.1,2,    23.4,2,    0.00,2,   1.564,2,   0.065,3,   0.028,2,   0.000,2,  2190.1,2, 2326.47,2,  820.365,2,      20,   7.6891,2,       25,-999.000,9,    3.206,2, -999.00,9,  -999.0,9,  -999.0,  42.42925132,2,        26.03,2,  1747.8,     15.624,2,    35.0395,2,     -999.0,9,         -999.0,9,  -999.0,9,20140106,       1131
33RO20131223,       A16S,      37,          1,          9,          9,2,20140106,       1017,   -23.9999,   -25.0002,       5619,  2147.5,   3.1337,  34.9332,2,  34.9349,2,    247.7,2,   247.2,2,    27.5,2,    20.7,2,    0.00,2,   1.371,2,   0.091,3,   0.042,2,   0.000,2,    2176,2, 2326.49,2,  757.535,2,      20,   7.7209,2,       25,-999.000,9,    3.134,2, -999.00,9,  -999.0,9,  -999.0,  42.14175144,2,        23.25,2,  2147.5,     13.835,2,    35.0997,2,     -999.0,9,         -999.0,9,  -999.0,9,20140106,       1123
33RO20131223,       A16S,      37,          1,          8,          8,2,20140106,       1017,   -23.9999,   -25.0002,       5619,  2597.7,   2.8748,  34.9260,2,  34.9282,2,    247.7,2,   249.6,2,    30.8,2,    20.7,2,    0.01,2,   1.369,2,   0.061,3,   0.026,2,   0.000,2,  2177.4,2,  2330.2,2,  753.965,6,      20,   7.7257,2,       25,-999.000,9,   2.8746,2, -999.00,9,  -999.0,9,  -999.0,  41.42650782,2,        23.22,2,  2597.7,     13.615,2,    35.0929,2,     -999.0,9,         -999.0,9,  -999.0,9,20140106,       1115
33RO20131223,       A16S,      37,          1,          7,          7,2,20140106,       1017,   -23.9999,   -25.0002,       5619,  3097.3,   2.6247,  34.9103,2,  34.9125,2,    248.1,2,   250.1,2,    35.7,2,    21.1,2,    0.01,2,   1.400,2,   0.044,3,   0.017,6,   0.014,6,  2181.7,2, 2333.18,2,   757.97,2,      20,   7.7227,2,       25,-999.000,9,   2.6247,2, -999.00,9,  -999.0,9,  -999.0,  40.99876409,2,        23.76,2,  3097.3,     13.698,6,    35.0771,2,     -999.0,9,         -999.0,9,  -999.0,9,20140106,       1106
33RO20131223,       A16S,      37,          1,          6,          6,3,20140106,       1017,   -23.9999,   -25.0002,       5619,  3571.6,   2.2502,  34.8736,2,  35.1409,4,    244.8,2,   235.5,4,    34.5,4,    18.9,4,    0.00,4,   1.289,4,-999.000,5,-999.000,5,-999.000,5,  -999.0,5, 2343.57,2,   713.46,3,      20,   7.7573,4,       25,-999.000,9,   2.2509,2, -999.00,9,  -999.0,9,  -999.0,  40.60608132,2,        21.49,4,  3571.6,     -999.0,5,    35.3066,2,     -999.0,9,         -999.0,9,  -999.0,9,20140106,       1057
33RO20131223,       A16S,      37,          1,          5,          5,2,20140106,       1017,   -23.9999,   -25.0002,       5619,  4098.6,   1.5654,  34.8023,2,  34.8029,2,    234.5,2,     235,2,    76.2,2,    26.4,2,    0.00,2,   1.783,2,   0.031,3,   0.010,2,   0.196,2,    2220,2, 2349.51,2,   875.33,2,      20,   7.6713,2,       25,-999.000,9,   1.5643,2, -999.00,9,  -999.0,9,  -999.0,  40.22041074,2,        28.93,2,  4098.6,     15.627,2,     34.967,2,     -999.0,9,         -999.0,9,  -999.0,9,20140106,       1047
33RO20131223,       A16S,      37,          1,          4,          4,2,20140106,       1017,   -23.9999,   -25.0002,       5619,  4598.1,   1.1058,  34.7520,2,  34.7533,2,      227,2,   228.2,2,    95.3,2,    28.9,2,    0.00,2,   1.962,2,   0.061,3,   0.025,2,   0.111,2,  2239.4,2, 2353.75,2,   941.33,2,      20,   7.6444,2,       25,-999.000,9,   1.1057,2, -999.00,9,  -999.0,9,  -999.0,  39.83474016,2,        31.32,2,  4598.1,     16.634,2,    34.9172,2,     -999.0,9,         -999.0,9,  -999.0,9,20140106,       1038
33RO20131223,       A16S,      37,          1,          3,          3,2,20140106,       1017,   -23.9999,   -25.0002,       5619,  5098.6,   0.8938,  34.7248,2,  34.7266,2,      224,2,   224.5,2,   105.4,2,    30.3,2,    0.00,2,   2.062,2,   0.103,3,   0.046,2,   0.070,2,  2249.5,2, 2362.92,6,   980.62,2,      20,   7.6274,2,       25,-999.000,9,   0.8931,2, -999.00,9,  -999.0,9,  -999.0,  39.42102082,2,        32.92,2,  5098.6,     17.163,2,    34.8904,2,     -999.0,9,         -999.0,9,  -999.0,9,20140106,       1029
33RO20131223,       A16S,      37,          1,          2,          2,2,20140106,       1017,   -23.9999,   -25.0002,       5619,  5597.7,   0.7610,  34.7049,2,  34.7066,2,    222.1,2,   222.1,2,   112.4,6,    31.1,6,    0.00,6,   2.129,6,   0.164,3,   0.076,2,   0.060,2,  2255.6,2, 2366.36,2,  1003.58,6,      20,   7.6138,6,       25,-999.000,9,   0.7609,2, -999.00,9,  -999.0,9,  -999.0,  39.04937462,2,        33.81,2,  5597.7,     17.607,2,    34.8703,6,     -999.0,9,         -999.0,9,  -999.0,9,20140106,       1020
33RO20131223,       A16S,      37,          1,          1,          1,2,20140106,       1017,   -23.9999,   -25.0002,       5619,  5705.5,   0.7424,  34.7016,2,  34.7034,2,    222.3,2,   222.2,2,   113.7,6,    31.2,6,    0.00,6,   2.143,6,   0.174,3,   0.082,2,   0.044,2,    2258,6, 2369.19,2,  1016.77,2,      20,   7.6247,2,       25,-999.000,9,   0.7429,2, -999.00,9,  -999.0,9,  -999.0,  39.23870382,2,        33.89,2,  5705.5,     17.659,2,    34.8671,2,     -999.0,9,         -999.0,9,  -999.0,9,20140106,       1017