BOTTLE,20220815CCHSIOAMB
EXPOCODE,SECT_ID,STNNBR,CASTNO,SAMPNO,BTLNBR,BTLNBR_FLAG_W,DATE,TIME,LATITUDE,LONGITUDE,DEPTH,CTDPRS,CTDTMP,CTDSAL,CTDSAL_FLAG_W,SALNTY,SALNTY_FLAG_W,CTDOXY,CTDOXY_FLAG_W,OXYGEN,OXYGEN_FLAG_W,SILCAT,SILCAT_FLAG_W,NITRAT,NITRAT_FLAG_W,NITRIT,NITRIT_FLAG_W,PHSPHT,PHSPHT_FLAG_W,CFC-11,CFC-11_FLAG_W,CFC-12,CFC-12_FLAG_W,SF6,SF6_FLAG_W,TCARBN,TCARBN_FLAG_W,ALKALI,ALKALI_FLAG_W,PCO2,PCO2_FLAG_W,PCO2TMP,PH_SWS,PH_SWS_FLAG_W,PH_TMP,TRITUM,TRITUM_FLAG_W,REFTMP,REFTMP_FLAG_W,DELC13,DELC13_FLAG_W,DELC14,DELC14_FLAG_W,C14ERR,DOC,DOC_FLAG_W,TDN,TDN_FLAG_W,CTDRAW,N2O,N2O_FLAG_W,SALTREF,SALTREF_FLAG_W,HELIUM,HELIUM_FLAG_W,DELO18,DELO18_FLAG_W,CCL4,CCL4_FLAG_W,BTL_DATE,BTL_TIME
,,,,,,,,,,,METERS,DBAR,ITS-90,PSS-78,,PSS-78,,UMOL/KG,,UMOL/KG,,UMOL/KG,,UMOL/KG,,UMOL/KG,,UMOL/KG,,PMOL/KG,,PMOL/KG,,FMOL/KG,,UMOL/KG,,UMOL/KG,,UATM,,DEG C,,,DEG C,TU,,DEG C,,/MILLE,,/MILLE,,/MILLE,UMOL/KG,,UMOL/KG,,DBAR,NMOL/KG,,G/KG,,NMOL/KG,,/MILLE,,PMOL/KG,,,
33RO20131223,       A16S,      69,          2,         24,         24,2,20140115,       2347,   -39.9986,   -27.8001,       4301,     3.6,  15.5725,  35.1227,2,  35.1223,2,    259.8,2,   260.7,2,     0.1,6,     0.0,6,    0.02,6,   0.200,6,   2.678,6,   1.579,2,   1.756,6,  2060.7,6,    2333,2,   405.73,2,      20,   7.9739,2,       25,-999.000,9,  15.5712,2,    1.66,2,    31.6,2,     2.1,  58.82367566,2,         4.17,2,     3.6,      8.617,6,     35.288,2,     -999.0,9,         -999.0,9,  -999.0,9,20140116,       0125
33RO20131223,       A16S,      69,          2,         23,         23,2,20140115,       2347,   -39.9986,   -27.8001,       4301,    27.8,  15.1707,  35.1261,2,  35.1280,2,    258.1,2,   257.2,2,     0.2,6,     0.3,6,    0.04,6,   0.225,6,   2.674,2,   1.552,2,   1.727,2,    2067,2,  2326.1,2,   417.53,2,      20,   7.9603,2,       25,-999.000,9,  15.1701,2, -999.00,9,  -999.0,9,  -999.0,  57.28481448,2,         4.36,2,    27.8,      8.689,2,    35.2936,2,     -999.0,9,         -999.0,9,  -999.0,9,20140116,       0124
33RO20131223,       A16S,      69,          2,         22,         22,2,20140115,       2347,   -39.9986,   -27.8001,       4301,    67.8,  14.5138,  35.2717,2,  35.2885,2,    238.4,2,   240.1,2,     1.4,6,     3.6,6,    0.24,6,   0.407,6,   2.739,2,   1.597,2,   1.740,2,  2094.8,2, 2327.49,2,   476.24,2,      20,   7.9136,2,       25,-999.000,9,  14.5044,2, -999.00,9,  -999.0,9,  -999.0,  54.90095365,2,         7.96,2,    67.8,      9.038,2,    35.4549,2,     -999.0,9,         -999.0,9,  -999.0,9,20140116,       0122
33RO20131223,       A16S,      69,          2,         21,         21,2,20140115,       2347,   -39.9986,   -27.8001,       4301,   108.2,  13.8801,  35.4163,2,  35.4119,2,    234.9,2,   232.8,2,     1.9,2,     6.2,2,    0.03,2,   0.527,2,   2.766,2,   1.616,2,   1.661,2,  2113.3,2, 2335.14,6,   519.79,2,      20,   7.8839,2,       25,-999.000,9,  13.8795,2, -999.00,9,  -999.0,9,  -999.0,  52.09115803,2,         9.53,2,   108.2,      9.860,2,    35.5789,2,     -999.0,9,         -999.0,9,  -999.0,9,20140116,       0120
33RO20131223,       A16S,      69,          2,         20,         20,2,20140115,       2347,   -39.9986,   -27.8001,       4301,   172.6,  13.1406,  35.2890,2,  35.2906,2,    231.9,2,   229.2,2,     2.2,2,     8.2,2,    0.02,2,   0.652,2,   2.865,2,   1.659,2,   1.649,2,  2118.9,2, 2332.06,2,   549.67,2,      20,   7.8603,6,       25,-999.000,9,   13.143,2, -999.00,9,  -999.0,9,  -999.0,  48.14782627,2,        11.13,2,   172.6,     10.816,2,     35.457,2,     -999.0,9,         -999.0,9,  -999.0,9,20140116,       0117
33RO20131223,       A16S,      69,          2,         19,         19,2,20140115,       2347,   -39.9986,   -27.8001,       4301,   257.9,  11.5645,  35.0207,2,  35.0215,2,    239.6,2,   241.4,2,     2.6,2,    10.3,2,    0.01,2,   0.805,2,   3.100,2,   1.778,2,   1.730,2,  2120.2,2, 2315.31,2,    593.3,2,      20,   7.8349,2,       25,-999.000,9,  11.5625,2, -999.00,9,  -999.0,9,  -999.0,  46.71888375,2,        13.43,2,   257.9,     10.883,2,    35.1866,2,     -999.0,9,         -999.0,9,  -999.0,9,20140116,       0115
33RO20131223,       A16S,      69,          2,         18,         18,2,20140115,       2347,   -39.9986,   -27.8001,       4301,   368.4,   9.5356,  34.7135,2,  34.7141,2,    225.3,2,   226.7,2,     4.8,2,    16.8,2,    0.01,2,   1.193,2,   3.387,2,   1.869,2,   1.554,2,  2138.8,2, 2296.42,2, 702.8975,6,      20,   7.7579,2,       25,-999.000,9,   9.5353,2, -999.00,9,  -999.0,9,  -999.0,  43.53811267,2,        19.54,2,   368.4,     13.002,2,    34.8778,6,     -999.0,9,         -999.0,9,  -999.0,9,20140116,       0112
33RO20131223,       A16S,      69,          2,         17,         17,2,20140115,       2347,   -39.9986,   -27.8001,       4301,   468.4,   6.7231,  34.3708,2,  34.3698,2,    231.4,2,   232.5,2,     8.5,2,    23.4,2,    0.00,2,   1.624,2,   3.767,2,   2.032,2,   1.560,2,  2153.6,2, 2287.24,2,  844.775,6,      20,   7.6837,2,       25,-999.000,9,   6.7274,2, -999.00,9,  -999.0,9,  -999.0,  42.67250326,2,        26.17,2,   468.4,     14.651,2,    34.5318,2,     -999.0,9,         -999.0,9,  -999.0,9,20140116,       0109
33RO20131223,       A16S,      69,          2,         16,         16,2,20140115,       2347,   -39.9986,   -27.8001,       4301,   597.9,   4.9276,  34.2056,2,  34.2046,2,      256,2,   254.9,2,    11.7,2,    25.9,2,    0.00,2,   1.788,2,   4.054,2,   2.155,2,   1.621,2,  2157.3,2, 2282.61,2,   880.42,2,      20,    7.671,2,       25,-999.000,9,    4.928,2, -999.00,9,  -999.0,9,  -999.0,  41.53896712,2,        28.64,2,   597.9,     14.676,2,    34.3659,2,     -999.0,9,         -999.0,9,  -999.0,9,20140116,       0106
33RO20131223,       A16S,      69,          2,         15,         15,3,20140115,       2347,   -39.9986,   -27.8001,       4301,   773.1,   4.1502,  34.1936,2,  34.2862,4,    248.7,2,     248,2,    15.6,2,    25.9,2,    0.01,3,   1.784,3,-999.000,5,-999.000,5,-999.000,5,  -999.0,9, -999.00,9,-999.0000,9, -999.00,-999.0000,9,  -999.00,-999.000,9,   4.1511,2, -999.00,9,  -999.0,9,  -999.0,-999.00000000,9,-999.00000000,9,   773.1,     -999.0,5,    34.4479,2,     -999.0,9,         -999.0,9,  -999.0,9,20140116,       0102
33RO20131223,       A16S,      69,          2,         14,         14,2,20140115,       2347,   -39.9986,   -27.8001,       4301,   922.9,   3.6751,  34.2263,2,  34.2254,2,    232.4,2,   233.7,2,    25.8,2,    30.1,2,    0.00,2,   2.060,2,   3.071,2,   1.570,2,   0.946,2,  2185.9,2, 2295.76,2,    993.2,2,      20,   7.6428,4,       25,-999.000,9,   3.6747,2, -999.00,9,  -999.0,9,  -999.0,  39.78026864,2,        32.75,2,   922.9,     17.733,2,    34.3868,2,     -999.0,9,         -999.0,9,  -999.0,9,20140116,       0058
33RO20131223,       A16S,      69,          2,         13,         13,2,20140115,       2347,   -39.9986,   -27.8001,       4301,  1098.2,   3.2462,  34.2890,2,  34.2881,2,    214.2,2,   214.6,2,    36.7,2,    31.9,2,    0.00,2,   2.193,2,   2.349,6,   1.182,2,   0.681,6,  2206.9,2, 2300.23,2,  1051.11,3,      20,   7.5875,2,       25,-999.000,9,   3.2464,2, -999.00,9,  -999.0,9,  -999.0,  39.39555335,2,        34.59,2,  1098.2,     19.569,6,    34.4498,2,     -999.0,9,         -999.0,9,  -999.0,9,20140116,       0054
33RO20131223,       A16S,      69,          2,         12,         12,2,20140115,       2347,   -39.9986,   -27.8001,       4301,    1248,   3.0204,  34.3826,2,  34.3821,2,    193.6,2,   193.2,2,    48.2,2,    33.2,2,    0.00,2,   2.283,2,   1.468,2,   0.726,2,   0.351,2,  2226.1,2, 2313.15,2,  1151.47,2,      20,   7.5648,2,       25,-999.000,9,   3.0205,2, -999.00,9,  -999.0,9,  -999.0,  39.45051268,2,        35.89,2,  1248.0,     21.076,2,    34.5443,2,     -999.0,9,         -999.0,9,  -999.0,9,20140116,       0050
33RO20131223,       A16S,      69,          2,         11,         11,2,20140115,       2347,   -39.9986,   -27.8001,       4301,  1397.3,   2.9148,  34.4655,2,  34.4632,2,    183.2,2,   182.7,2,    55.1,2,    33.5,2,    0.00,2,   2.299,2,   0.914,2,   0.446,2,   0.178,2,  2234.9,2, 2320.91,2,  1163.54,2,      20,-999.0000,5,       25,-999.000,9,    2.915,2, -999.00,9,  -999.0,9,  -999.0,  39.42303301,2,        36.14,2,  1397.3,     21.609,2,    34.6257,2,     -999.0,9,         -999.0,9,  -999.0,9,20140116,       0047
33RO20131223,       A16S,      69,          2,         10,         10,2,20140115,       2347,   -39.9986,   -27.8001,       4301,  1547.6,   2.8476,  34.5487,2,  34.5466,2,    177.6,2,   177.6,2,    59.9,2,    33.1,2,    0.00,2,   2.270,2,   0.566,2,   0.274,2,   0.110,2,  2241.5,2, 2331.16,6, 1157.805,6,      20,   7.5585,2,       25,-999.000,9,   2.8478,2, -999.00,9,  -999.0,9,  -999.0,  39.17571604,2,        35.32,2,  1547.6,     21.660,2,    34.7095,2,     -999.0,9,         -999.0,9,  -999.0,9,20140116,       0043
33RO20131223,       A16S,      69,          2,          9,          9,2,20140115,       2347,   -39.9986,   -27.8001,       4301,  1698.3,   2.7601,  34.6089,2,  34.6089,2,    175.8,2,   175.7,2,    64.6,2,    32.6,2,    0.00,2,   2.240,2,   0.408,2,   0.198,2,   0.073,2,  2245.4,6, 2335.77,2,  1152.24,2,      20,     7.59,4,       25,-999.000,9,   2.7615,2, -999.00,9,  -999.0,9,  -999.0,   39.3749436,2,        35.03,2,  1698.3,     21.473,2,    34.7721,2,     -999.0,9,         -999.0,9,  -999.0,9,20140116,       0040
33RO20131223,       A16S,      69,          2,          8,          8,2,20140115,       2347,   -39.9986,   -27.8001,       4301,  1972.7,   2.8688,  34.7321,2,  34.7298,2,    189.7,2,   190.3,2,    58.9,2,    29.6,2,    0.00,2,   2.023,2,   0.208,2,   0.100,2,   0.051,2,  2231.8,2, 2336.06,2,  1040.33,2,      20,   7.6042,2,       25,-999.000,9,   2.8686,2, -999.00,9,  -999.0,9,  -999.0,  39.78026864,2,        32.09,2,  1972.7,     19.496,2,    34.8935,2,     -999.0,9,         -999.0,9,  -999.0,9,20140116,       0034
33RO20131223,       A16S,      69,          2,          7,          7,2,20140115,       2347,   -39.9986,   -27.8001,       4301,    2247,   2.8079,  34.7959,2,  34.7956,2,      203,2,   203.4,2,    56.6,2,    27.5,2,    0.00,2,   1.878,2,   0.156,2,   0.078,2,   0.000,2,  2223.2,2, 2336.62,2,   970.38,2,      20,   7.6565,4,       25,-999.000,9,   2.8079,2, -999.00,9,  -999.0,9,  -999.0,  40.24742293,2,        30.04,2,  2247.0,     18.157,2,    34.9597,2,     -999.0,9,         -999.0,9,  -999.0,9,20140116,       0028
33RO20131223,       A16S,      69,          2,          6,          6,2,20140115,       2347,   -39.9986,   -27.8001,       4301,  2547.1,   2.5459,  34.8163,2,  34.8154,2,    210.2,2,   211.4,2,    59.9,2,    26.7,2,    0.00,2,   1.825,2,   0.111,2,   0.053,2,   0.017,2,  2221.3,2, 2340.73,2,   941.19,2,      20,   7.6462,2,       25,-999.000,9,    2.546,2, -999.00,9,  -999.0,9,  -999.0,  40.88632511,2,        29.23,2,  2547.1,     17.323,2,    34.9795,2,     -999.0,9,         -999.0,9,  -999.0,9,20140116,       0022
33RO20131223,       A16S,      69,          2,          5,          5,2,20140115,       2347,   -39.9986,   -27.8001,       4301,  2847.7,   2.2902,  34.8148,2,  34.8135,2,    213.1,2,   215.1,2,    64.9,2,    26.7,2,    0.00,2,   1.824,2,   0.093,6,   0.044,2,   0.024,6,    2223,2, 2342.22,2,   931.28,2,      20,   7.6472,2,       25,-999.000,9,   2.2897,2, -999.00,9,  -999.0,9,  -999.0,  40.31612208,2,        29.22,2,  2847.7,     16.956,6,    34.9777,2,     -999.0,9,         -999.0,9,  -999.0,9,20140116,       0016
33RO20131223,       A16S,      69,          2,          4,          4,2,20140115,       2347,   -39.9986,   -27.8001,       4301,  3148.2,   1.8191,  34.7732,2,  34.7706,2,    207.3,2,   208.8,2,    82.8,6,    28.8,6,    0.00,6,   1.971,6,   0.101,2,   0.049,2,   0.032,2,  2238.7,2,  2353.6,2,   990.47,2,      20,   7.6253,2,       25,-999.000,9,   1.8203,2, -999.00,9,  -999.0,9,  -999.0,  39.78026864,2,        31.16,2,  3148.2,     17.763,2,    34.9346,2,     -999.0,9,         -999.0,9,  -999.0,9,20140116,       0010
33RO20131223,       A16S,      69,          2,          3,          3,2,20140115,       2347,   -39.9986,   -27.8001,       4301,  3528.6,   1.2825,  34.7325,2,  34.7310,2,    206.9,2,     207,2,   101.4,6,    30.6,6,    0.00,6,   2.103,6,   0.170,2,   0.081,2,   0.041,2,  2251.7,2, 2360.77,2,  1036.62,2,      20,   7.6092,2,       25,-999.000,9,   1.2825,2, -999.00,9,  -999.0,9,  -999.0,  39.23754528,2,        33.12,2,  3528.6,     18.238,2,    34.8948,6,     -999.0,9,         -999.0,9,  -999.0,9,20140116,       0003
33RO20131223,       A16S,      69,          2,          2,          2,2,20140115,       2347,   -39.9986,   -27.8001,       4301,  3947.1,   0.7920,  34.7029,2,  34.7003,2,    212.9,2,   212.4,2,   114.4,6,    31.7,6,    0.00,6,   2.177,6,   0.277,2,   0.133,2,   0.047,2,  2259.1,2, 2361.12,6, 1063.835,6,      20,   7.5981,2,       25,-999.000,9,   0.7919,2, -999.00,9,  -999.0,9,  -999.0,  39.14823637,2,        34.16,2,  3947.1,     18.234,2,    34.8639,2,     -999.0,9,         -999.0,9,  -999.0,9,20140115,       2355
33RO20131223,       A16S,      69,          2,          1,          1,2,20140115,       2347,   -39.9986,   -27.8001,       4301,  4359.3,   0.4304,  34.6787,2,  34.6769,2,    217.6,2,   217.1,2,   124.5,6,    32.5,6,    0.00,6,   2.237,6,   0.444,2,   0.212,2,   0.091,2,  2266.2,6, 2368.78,2,  1078.47,2,      20,   7.6023,2,       25,-999.000,9,   0.4301,2, -999.00,9,  -999.0,9,  -999.0,  39.14136646,2,        35.17,2,  4359.3,     18.311,2,    34.8404,2,     -999.0,9,         -999.0,9,  -999.0,9,20140115,       2347