BOTTLE,20220815CCHSIOAMB
EXPOCODE,SECT_ID,STNNBR,CASTNO,SAMPNO,BTLNBR,BTLNBR_FLAG_W,DATE,TIME,LATITUDE,LONGITUDE,DEPTH,CTDPRS,CTDTMP,CTDSAL,CTDSAL_FLAG_W,SALNTY,SALNTY_FLAG_W,CTDOXY,CTDOXY_FLAG_W,OXYGEN,OXYGEN_FLAG_W,SILCAT,SILCAT_FLAG_W,NITRAT,NITRAT_FLAG_W,NITRIT,NITRIT_FLAG_W,PHSPHT,PHSPHT_FLAG_W,CFC-11,CFC-11_FLAG_W,CFC-12,CFC-12_FLAG_W,SF6,SF6_FLAG_W,TCARBN,TCARBN_FLAG_W,ALKALI,ALKALI_FLAG_W,PCO2,PCO2_FLAG_W,PCO2TMP,PH_SWS,PH_SWS_FLAG_W,PH_TMP,TRITUM,TRITUM_FLAG_W,REFTMP,REFTMP_FLAG_W,DELC13,DELC13_FLAG_W,DELC14,DELC14_FLAG_W,C14ERR,DOC,DOC_FLAG_W,TDN,TDN_FLAG_W,CTDRAW,N2O,N2O_FLAG_W,SALTREF,SALTREF_FLAG_W,HELIUM,HELIUM_FLAG_W,DELO18,DELO18_FLAG_W,CCL4,CCL4_FLAG_W,BTL_DATE,BTL_TIME
,,,,,,,,,,,METERS,DBAR,ITS-90,PSS-78,,PSS-78,,UMOL/KG,,UMOL/KG,,UMOL/KG,,UMOL/KG,,UMOL/KG,,UMOL/KG,,PMOL/KG,,PMOL/KG,,FMOL/KG,,UMOL/KG,,UMOL/KG,,UATM,,DEG C,,,DEG C,TU,,DEG C,,/MILLE,,/MILLE,,/MILLE,UMOL/KG,,UMOL/KG,,DBAR,NMOL/KG,,G/KG,,NMOL/KG,,/MILLE,,PMOL/KG,,,
33RO20131223,       A16S,     103,          2,         21,         21,2,20140126,       2251,   -55.3296,   -34.5295,       1836,     4.2,   1.9362,  33.7791,2,  33.7808,2,    327.2,2,   328.1,2,     6.5,2,    22.0,2,    0.22,2,   1.585,2,   5.477,6,   3.058,2,   2.986,6,  2143.1,6, 2281.88,2,  756.905,2,      20,    7.726,2,       25,-999.000,9,   1.9365,2,    1.33,2,   -74.7,2,     2.2,  50.30819126,2,  25.57073171,2,     4.2,     13.592,6,      33.94,2,     -999.0,9,         -999.0,9,  -999.0,9,20140126,       2347
33RO20131223,       A16S,     103,          2,         20,         20,2,20140126,       2251,   -55.3296,   -34.5295,       1836,    32.7,   1.9229,  33.7803,2,  33.7804,2,    328.6,2,   327.3,2,     6.4,2,    22.0,2,    0.22,2,   1.589,2,   5.465,2,   3.057,2,   2.965,2,  2145.2,2, 2286.27,6,   757.27,2,      20,    7.724,2,       25,-999.000,9,   1.9274,2,    1.64,2,   -73.2,2,     2.0,  48.96233814,2,  25.91219512,2,    32.7,     13.639,2,    33.9397,2,     -999.0,9,         -999.0,9,  -999.0,9,20140126,       2345
33RO20131223,       A16S,     103,          2,         19,         19,2,20140126,       2251,   -55.3296,   -34.5295,       1836,    63.4,   1.8415,  33.7961,2,  33.7968,2,    327.1,2,   326.9,2,     7.3,2,    22.1,2,    0.22,2,   1.591,2,   5.465,2,   3.069,2,   2.992,2,  2146.3,2, 2282.18,2,  763.915,2,      20,   7.7221,6,       25,-999.000,9,   1.8417,2,    1.45,2,   -78.5,2,     2.2,  47.00144461,2,   25.9804878,2,    63.4,     13.793,2,    33.9562,2,     -999.0,9,         -999.0,9,  -999.0,9,20140126,       2343
33RO20131223,       A16S,     103,          2,         18,         18,3,20140126,       2251,   -55.3296,   -34.5295,       1836,   102.7,   1.8140,  33.8081,2,  33.8144,2,    326.8,2,   326.2,2,     9.9,2,    22.2,2,    0.22,2,   1.587,2,   5.557,2,   3.092,2,   2.991,2,  2149.2,2, 2290.64,2,   771.47,2,      20,   7.7173,2,       25,-999.000,9,   1.8096,2,    1.49,2,   -74.0,2,     3.4,  45.07672994,2,  26.12682927,2,   102.7,     13.706,2,    33.9739,2,     -999.0,9,         -999.0,9,  -999.0,9,20140126,       2341
33RO20131223,       A16S,     103,          2,         17,         17,2,20140126,       2251,   -55.3296,   -34.5295,       1836,   142.8,   1.5357,  34.1318,2,  34.1316,2,    253.4,2,   256.2,2,    37.1,2,    31.8,2,    0.08,2,   2.195,2,   3.958,2,   2.146,2,   1.762,2,  2202.7,2, 2294.23,2,  1069.45,2,      20,   7.5897,2,       25,-999.000,9,   1.5287,2,    0.87,2,   -78.1,2,     2.2,  44.36762453,2,  35.33658537,2,   142.8,     18.056,2,    34.2925,2,     -999.0,9,         -999.0,9,  -999.0,9,20140126,       2339
33RO20131223,       A16S,     103,          2,         16,         16,2,20140126,       2251,   -55.3296,   -34.5295,       1836,   183.4,   1.6632,  34.1878,2,  34.1891,2,    240.8,2,   239.7,2,    42.8,2,    32.7,2,    0.03,2,   2.251,2,   3.484,2,   1.877,2,   1.440,2,  2211.3,2, 2297.53,2,  1110.65,2,      20,   7.5715,2,       25,-999.000,9,   1.6598,2,    0.83,2,   -91.3,2,     2.4,   43.6874622,2,  35.84572862,2,   183.4,     19.312,2,    34.3503,2,     -999.0,9,         -999.0,9,  -999.0,9,20140126,       2337
33RO20131223,       A16S,     103,          2,         15,         15,2,20140126,       2251,   -55.3296,   -34.5295,       1836,   222.6,   1.7385,  34.2639,2,  34.2618,2,    222.2,2,   221.2,2,    50.9,2,    33.7,2,    0.04,2,   2.318,2,   2.928,2,   1.557,2,   1.193,2,  2225.5,2, 2306.49,2,  1177.15,2,      20,   7.5509,2,       25,-999.000,9,   1.7364,2,    0.71,2,  -105.9,2,     2.6,  42.66721871,2,  36.73170732,2,   222.6,     20.671,2,    34.4234,2,     -999.0,9,         -999.0,9,  -999.0,9,20140126,       2335
33RO20131223,       A16S,     103,          2,         14,         14,2,20140126,       2251,   -55.3296,   -34.5295,       1836,   273.2,   1.9475,  34.3633,2,  34.3636,2,      199,2,   198.6,2,    59.8,2,    34.5,2,    0.06,2,   2.378,2,   2.159,2,   1.131,2,   0.770,2,  2239.7,2,  2317.9,2,  1241.67,2,      20,   7.5331,2,       25,-999.000,9,   1.9489,2,    0.59,2,  -122.6,2,     2.2,  42.13177177,2,  37.60287218,2,   273.2,     22.023,2,    34.5257,2,     -999.0,9,         -999.0,9,  -999.0,9,20140126,       2333
33RO20131223,       A16S,     103,          2,         13,         13,2,20140126,       2251,   -55.3296,   -34.5295,       1836,   347.8,   2.2504,  34.4789,2,  34.4780,2,    177.6,2,   177.6,2,    68.0,2,    34.8,2,    0.01,2,   2.388,2,   1.214,2,   0.620,2,   0.370,2,  2250.2,2, 2329.96,2,   1279.3,2,      20,   7.5303,2,       25,-999.000,9,   2.2505,2,    0.49,2,  -130.0,2,     2.8,  41.79892637,2,        37.46,2,   347.8,     22.160,2,    34.6406,2,     -999.0,9,         -999.0,9,  -999.0,9,20140126,       2330
33RO20131223,       A16S,     103,          2,         12,         12,2,20140126,       2251,   -55.3296,   -34.5295,       1836,   447.3,   2.2528,  34.5428,2,  34.5456,2,    171.2,2,   170.8,2,    73.3,2,    34.5,2,    0.01,2,   2.372,2,   0.822,2,   0.411,2,   0.263,2,  2257.2,2, 2336.48,2,  1251.68,2,      20,   7.6526,4,       25,-999.000,9,   2.2521,2,    0.48,2,  -144.0,2,     2.2,  40.94510557,2,        37.24,2,   447.3,     21.988,2,    34.7085,2,     -999.0,9,         -999.0,9,  -999.0,9,20140126,       2327
33RO20131223,       A16S,     103,          2,         11,         11,2,20140126,       2251,   -55.3296,   -34.5295,       1836,   548.8,   2.2191,  34.5971,2,  34.5985,2,    168.2,2,   168.4,2,    78.1,2,    34.1,2,    0.01,2,   2.341,2,   0.534,2,   0.262,2,   0.140,2,  2260.6,2, 2347.16,2,  1232.86,6,      20,   7.5405,2,       25,-999.000,9,   2.2191,2,    0.47,2,  -150.0,2,     2.6,   40.4168944,2,        36.85,2,   548.8,     21.583,2,    34.7616,2,     -999.0,9,         -999.0,9,  -999.0,9,20140126,       2325
33RO20131223,       A16S,     103,          2,         10,         10,2,20140126,       2251,   -55.3296,   -34.5295,       1836,   648.1,   2.1185,  34.6350,2,  34.6352,2,    169.6,2,   169.6,2,  -999.0,9,  -999.0,9, -999.00,5,-999.000,5,   0.417,2,   0.204,2,   0.108,2,  2261.4,6, 2348.63,2, 1214.155,6,      20,   7.5477,2,       25,-999.000,9,   2.1188,2,    0.45,2,  -154.9,2,     2.1,  40.10575632,2,  36.85853659,2,   648.1,     21.066,2,    34.7985,2,     -999.0,9,         -999.0,9,  -999.0,9,20140126,       2322
33RO20131223,       A16S,     103,          2,          9,          9,2,20140126,       2251,   -55.3296,   -34.5295,       1836,   747.8,   2.0298,  34.6598,2,  34.6606,2,      172,2,   172.3,2,    84.4,2,    33.1,2,    0.01,2,   2.277,2,   0.362,2,   0.176,2,   0.110,2,  2262.4,2, 2353.01,2,  1193.05,2,      20,   7.5543,2,       25,-999.000,9,   2.0295,2,    0.46,2,  -160.2,2,     2.0,  40.01892708,2,        35.88,2,   747.8,     20.681,2,     34.824,2,     -999.0,9,         -999.0,9,  -999.0,9,20140126,       2319
33RO20131223,       A16S,     103,          2,          8,          8,2,20140126,       2251,   -55.3296,   -34.5295,       1836,   847.8,   1.9362,  34.6743,2,  34.6740,2,    174.7,2,     175,2,    86.8,2,    32.8,2,    0.00,2,   2.258,2,   0.338,2,   0.164,2,   0.099,2,  2262.8,2, 2352.51,2,  1173.39,2,      20,   7.5617,2,       25,-999.000,9,    1.937,2,    0.42,2,  -156.8,2,     2.2,  39.91762631,2,        35.35,2,   847.8,     20.287,2,    34.8375,2,     -999.0,9,         -999.0,9,  -999.0,9,20140126,       2316
33RO20131223,       A16S,     103,          2,          7,          7,2,20140126,       2251,   -55.3296,   -34.5295,       1836,   946.8,   1.8013,  34.6858,2,  34.6857,2,    177.6,2,   178.3,2,    90.1,2,    32.6,2,    0.00,2,   2.239,2,   0.342,2,   0.168,2,   0.098,2,  2262.7,2, 2359.03,2,  1151.56,2,      20,    7.567,2,       25,-999.000,9,   1.8009,2,    0.43,2,  -162.7,2,     2.0,  39.81632554,2,        35.21,2,   946.8,     19.987,2,    34.8493,2,     -999.0,9,         -999.0,9,  -999.0,9,20140126,       2313
33RO20131223,       A16S,     103,          2,          6,          6,2,20140126,       2251,   -55.3296,   -34.5295,       1836,  1097.3,   1.6632,  34.6959,2,  34.6959,2,    181.7,2,   182.2,2,    93.6,2,    32.3,2,    0.00,2,   2.223,2,   0.344,2,   0.172,2,   0.122,2,  2263.2,2, 2358.47,2,  1138.27,2,      20,   7.5721,2,       25,-999.000,9,   1.6631,2,    0.43,2,  -155.4,3,     2.3,  39.90315477,2,        34.93,2,  1097.3,     19.588,2,    34.8595,2,     -999.0,9,         -999.0,9,  -999.0,9,20140126,       2309
33RO20131223,       A16S,     103,          2,          5,          5,2,20140126,       2251,   -55.3296,   -34.5295,       1836,  1247.9,   1.5182,  34.7044,2,  34.7052,2,    185.1,2,   186.3,2,    97.9,2,    32.1,2,    0.00,2,   2.206,2,   0.296,2,   0.144,2,   0.121,2,  2263.8,2, 2362.23,2,  1115.67,2,      20,   7.5798,2,       25,-999.000,9,    1.518,2,    0.43,2,  -167.6,3,     2.6,  40.00445554,2,  34.62858528,2,  1247.9,     19.070,2,    34.8688,2,     -999.0,9,         -999.0,9,  -999.0,9,20140126,       2306
33RO20131223,       A16S,     103,          2,          4,          4,2,20140126,       2251,   -55.3296,   -34.5295,       1836,  1397.1,   1.3807,  34.7064,2,  34.7071,2,    189.7,2,     190,2,   101.1,6,    32.0,6,    0.00,6,   2.202,6,   0.294,2,   0.146,2,   0.092,2,  2262.1,2, 2361.12,6,  1113.98,2,      20,   7.5838,2,       25,-999.000,9,   1.3805,2,    0.46,2,  -164.0,2,     2.4,  39.93209785,2,  34.65365854,2,  1397.1,     18.846,2,    34.8708,2,     -999.0,9,         -999.0,9,  -999.0,9,20140126,       2302
33RO20131223,       A16S,     103,          2,          3,          3,2,20140126,       2251,   -55.3296,   -34.5295,       1836,  1547.6,   1.2523,  34.7069,2,  34.7083,2,    192.4,2,   192.8,2,   104.7,6,    32.0,6,    0.00,6,   2.200,6,   0.288,2,   0.142,2,   0.106,2,  2261.2,2, 2361.85,2,  1110.04,2,      20,   7.5853,6,       25,-999.000,9,   1.2519,2,    0.47,6,  -162.9,6,     1.5,  40.01169131,2,  34.35121951,2,  1547.6,     18.639,2,     34.872,6,     -999.0,9,         -999.0,9,  -999.0,9,20140126,       2258
33RO20131223,       A16S,     103,          2,          2,          2,2,20140126,       2251,   -55.3296,   -34.5295,       1836,  1697.5,   1.1010,  34.7034,2,  34.7048,2,    195.9,2,   196.5,2,   108.0,6,    31.9,6,    0.00,6,   2.200,6,   0.328,2,   0.162,2,   0.129,2,  2261.3,2, 2362.67,2, 1102.665,6,      20,   7.5868,2,       25,-999.000,9,   1.1005,2,    0.48,2,  -161.1,2,     2.5,  39.93209785,2,  34.36097561,2,  1697.5,     18.395,2,    34.8684,2,     -999.0,9,         -999.0,9,  -999.0,9,20140126,       2254
33RO20131223,       A16S,     103,          2,          1,          1,2,20140126,       2251,   -55.3296,   -34.5295,       1836,  1847.8,   0.9666,  34.6998,2,  34.7003,2,    198.1,2,   198.3,2,   112.9,6,    32.0,6,    0.00,6,   2.213,6,   0.366,6,   0.179,2,   0.141,6,  2264.4,6, 2363.84,2,  1111.98,2,      20,   7.5867,2,       25,-999.000,9,   0.9659,2,    0.49,2,  -162.0,2,     2.3,  39.84526861,2,  34.46829268,2,  1847.8,     18.205,6,    34.8639,2,     -999.0,9,         -999.0,9,  -999.0,9,20140126,       2251