BOTTLE,20220815CCHSIOAMB
EXPOCODE,SECT_ID,STNNBR,CASTNO,SAMPNO,BTLNBR,BTLNBR_FLAG_W,DATE,TIME,LATITUDE,LONGITUDE,DEPTH,CTDPRS,CTDTMP,CTDSAL,CTDSAL_FLAG_W,SALNTY,SALNTY_FLAG_W,CTDOXY,CTDOXY_FLAG_W,OXYGEN,OXYGEN_FLAG_W,SILCAT,SILCAT_FLAG_W,NITRAT,NITRAT_FLAG_W,NITRIT,NITRIT_FLAG_W,PHSPHT,PHSPHT_FLAG_W,CFC-11,CFC-11_FLAG_W,CFC-12,CFC-12_FLAG_W,SF6,SF6_FLAG_W,TCARBN,TCARBN_FLAG_W,ALKALI,ALKALI_FLAG_W,PCO2,PCO2_FLAG_W,PCO2TMP,PH_SWS,PH_SWS_FLAG_W,PH_TMP,TRITUM,TRITUM_FLAG_W,REFTMP,REFTMP_FLAG_W,DELC13,DELC13_FLAG_W,DELC14,DELC14_FLAG_W,C14ERR,DOC,DOC_FLAG_W,TDN,TDN_FLAG_W,CTDRAW,N2O,N2O_FLAG_W,SALTREF,SALTREF_FLAG_W,HELIUM,HELIUM_FLAG_W,DELO18,DELO18_FLAG_W,CCL4,CCL4_FLAG_W,BTL_DATE,BTL_TIME
,,,,,,,,,,,METERS,DBAR,ITS-90,PSS-78,,PSS-78,,UMOL/KG,,UMOL/KG,,UMOL/KG,,UMOL/KG,,UMOL/KG,,UMOL/KG,,PMOL/KG,,PMOL/KG,,FMOL/KG,,UMOL/KG,,UMOL/KG,,UATM,,DEG C,,,DEG C,TU,,DEG C,,/MILLE,,/MILLE,,/MILLE,UMOL/KG,,UMOL/KG,,DBAR,NMOL/KG,,G/KG,,NMOL/KG,,/MILLE,,PMOL/KG,,,
33RO20131223,       A16S,      32,          1,         24,         24,2,20140104,       2106,   -21.5005,   -25.0001,       5330,     3.1,  25.9984,  37.2817,2,  37.2830,2,    203.5,2,   204.3,2,     0.8,2,     0.0,2,    0.00,2,   0.146,2,-999.000,5,-999.000,9,-999.000,9,  2114.3,6, 2449.07,6,-999.0000,9, -999.00,   8.0436,2,       25,-999.000,9,  26.0194,2, -999.00,9,  -999.0,9,  -999.0,-999.00000000,9,-999.00000000,9,     3.1,     -999.0,9,    37.4588,2,     -999.0,9,         -999.0,9,  -999.0,9,20140104,       2311
33RO20131223,       A16S,      32,          1,         23,         23,2,20140104,       2106,   -21.5005,   -25.0001,       5330,    28.1,  25.3348,  37.2304,2,  37.2195,2,    207.3,2,   209.4,2,     0.8,2,     0.0,2,    0.00,2,   0.150,2,-999.000,5,-999.000,9,-999.000,9,  -999.0,9, -999.00,9,-999.0000,9, -999.00,-999.0000,9,  -999.00,-999.000,9,  25.3362,2, -999.00,9,  -999.0,9,  -999.0,-999.00000000,9,-999.00000000,9,    28.1,     -999.0,9,     37.395,2,     -999.0,9,         -999.0,9,  -999.0,9,20140104,       2309
33RO20131223,       A16S,      32,          1,         22,         22,2,20140104,       2106,   -21.5005,   -25.0001,       5330,    62.7,  23.9367,  37.0742,2,  37.0712,2,      217,2,     218,2,     0.8,2,     0.0,2,    0.00,2,   0.152,2,-999.000,5,-999.000,9,-999.000,9,  2105.9,2, 2435.64,2,-999.0000,9, -999.00,   8.0405,6,       25,-999.000,9,  23.9356,2, -999.00,9,  -999.0,9,  -999.0,-999.00000000,9,-999.00000000,9,    62.7,     -999.0,9,     37.246,2,     -999.0,9,         -999.0,9,  -999.0,9,20140104,       2307
33RO20131223,       A16S,      32,          1,         21,         21,2,20140104,       2106,   -21.5005,   -25.0001,       5330,   112.5,  22.9765,  36.9695,2,  36.9649,2,    213.8,2,   214.4,2,     0.9,2,     0.0,2,    0.00,2,   0.160,2,-999.000,5,-999.000,9,-999.000,9,  2108.6,2, 2426.81,2,-999.0000,9, -999.00,   8.0254,2,       25,-999.000,9,   22.981,2, -999.00,9,  -999.0,9,  -999.0,-999.00000000,9,-999.00000000,9,   112.5,     -999.0,9,    37.1392,2,     -999.0,9,         -999.0,9,  -999.0,9,20140104,       2305
33RO20131223,       A16S,      32,          1,         20,         20,2,20140104,       2106,   -21.5005,   -25.0001,       5330,   183.3,  19.2289,  36.2293,2,  36.2220,3,    203.5,2,   205.4,2,     1.3,2,     1.1,2,    0.09,2,   0.298,2,-999.000,5,-999.000,9,-999.000,9,  2116.2,2, 2377.62,2,-999.0000,9, -999.00,   7.9494,2,       25,-999.000,9,  19.2206,2, -999.00,9,  -999.0,9,  -999.0,-999.00000000,9,-999.00000000,9,   183.3,     -999.0,9,    36.3928,2,     -999.0,9,         -999.0,9,  -999.0,9,20140104,       2302
33RO20131223,       A16S,      32,          1,         19,         19,2,20140104,       2106,   -21.5005,   -25.0001,       5330,   257.2,  15.6778,  35.5853,2,  35.5877,2,    201.3,2,   201.8,2,     2.5,2,     5.9,2,    0.01,2,   0.537,2,-999.000,5,-999.000,9,-999.000,9,  2118.3,2, 2340.61,2,-999.0000,9, -999.00,   7.8822,2,       25,-999.000,9,  15.6721,2, -999.00,9,  -999.0,9,  -999.0,-999.00000000,9,-999.00000000,9,   257.2,     -999.0,9,    35.7555,2,     -999.0,9,         -999.0,9,  -999.0,9,20140104,       2259
33RO20131223,       A16S,      32,          1,         18,         18,2,20140104,       2106,   -21.5005,   -25.0001,       5330,   347.7,  13.0608,  35.1838,2,  35.1749,2,    199.3,2,   197.6,2,     4.3,2,    11.5,2,    0.00,2,   0.858,2,-999.000,5,-999.000,9,-999.000,9,  2133.1,2,    2317,2,-999.0000,9, -999.00,   7.8104,2,       25,-999.000,9,  13.0782,2, -999.00,9,  -999.0,9,  -999.0,-999.00000000,9,-999.00000000,9,   347.7,     -999.0,9,    35.3407,2,     -999.0,9,         -999.0,9,  -999.0,9,20140104,       2256
33RO20131223,       A16S,      32,          1,         17,         17,2,20140104,       2106,   -21.5005,   -25.0001,       5330,   478.7,   9.7868,  34.7853,2,  34.7819,2,    183.5,2,   182.2,2,     9.5,2,    20.5,2,    0.00,2,   1.410,2,-999.000,5,-999.000,9,-999.000,9,  -999.0,9, -999.00,9,-999.0000,9, -999.00,-999.0000,9,  -999.00,-999.000,9,   9.7843,2, -999.00,9,  -999.0,9,  -999.0,-999.00000000,9,-999.00000000,9,   478.7,     -999.0,9,    34.9459,2,     -999.0,9,         -999.0,9,  -999.0,9,20140104,       2253
33RO20131223,       A16S,      32,          1,         16,         16,2,20140104,       2106,   -21.5005,   -25.0001,       5330,   607.3,   7.1339,  34.5370,2,  34.5353,2,    171.4,2,   170.8,2,    17.1,2,    27.7,2,    0.00,2,   1.875,2,-999.000,5,-999.000,9,-999.000,9,  2188.2,2, 2294.23,6,-999.0000,9, -999.00,   7.6161,2,       25,-999.000,9,   7.1377,2, -999.00,9,  -999.0,9,  -999.0,-999.00000000,9,-999.00000000,9,   607.3,     -999.0,9,    34.6981,2,     -999.0,9,         -999.0,9,  -999.0,9,20140104,       2249
33RO20131223,       A16S,      32,          1,         15,         15,2,20140104,       2106,   -21.5005,   -25.0001,       5330,   742.4,   5.3833,  34.4209,2,  34.4196,2,    179.7,2,   179.5,2,    24.6,2,    30.7,2,    0.00,2,   2.078,2,-999.000,5,-999.000,9,-999.000,9,  -999.0,9, -999.00,9,-999.0000,9, -999.00,-999.0000,9,  -999.00,-999.000,9,   5.3845,2, -999.00,9,  -999.0,9,  -999.0,-999.00000000,9,-999.00000000,9,   742.4,     -999.0,9,    34.5819,2,     -999.0,9,         -999.0,9,  -999.0,9,20140104,       2246
33RO20131223,       A16S,      32,          1,         14,         14,2,20140104,       2106,   -21.5005,   -25.0001,       5330,   873.4,   4.1978,  34.4158,2,  34.4145,2,    181.5,2,   180.8,2,    35.0,2,    32.4,2,    0.00,2,   2.213,2,-999.000,5,-999.000,9,-999.000,9,  2211.6,2, 2303.05,2,-999.0000,9, -999.00,   7.5795,2,       25,-999.000,9,    4.197,2, -999.00,9,  -999.0,9,  -999.0,-999.00000000,9,-999.00000000,9,   873.4,     -999.0,9,    34.5768,2,     -999.0,9,         -999.0,9,  -999.0,9,20140104,       2242
33RO20131223,       A16S,      32,          1,         13,         13,2,20140104,       2106,   -21.5005,   -25.0001,       5330,  1048.2,   3.6063,  34.5164,2,  34.5159,2,    182.2,2,   182.1,2,    42.2,2,    31.9,2,    0.00,2,   2.186,2,-999.000,5,-999.000,9,-999.000,9,  2218.2,6, 2316.82,2,-999.0000,9, -999.00,   7.5836,2,       25,-999.000,9,   3.6067,2, -999.00,9,  -999.0,9,  -999.0,-999.00000000,9,-999.00000000,9,  1048.2,     -999.0,9,    34.6786,6,     -999.0,9,         -999.0,9,  -999.0,9,20140104,       2238
33RO20131223,       A16S,      32,          1,         12,         12,2,20140104,       2106,   -21.5005,   -25.0001,       5330,  1197.8,   3.4987,  34.6261,2,  34.6311,2,    187.6,2,   187.3,2,    42.6,2,    30.3,2,    0.00,2,   2.064,2,-999.000,5,-999.000,9,-999.000,9,  2217.9,2, 2322.62,2,-999.0000,9, -999.00,   7.6043,2,       25,-999.000,9,    3.498,2, -999.00,9,  -999.0,9,  -999.0,-999.00000000,9,-999.00000000,9,  1197.8,     -999.0,9,    34.7944,2,     -999.0,9,         -999.0,9,  -999.0,9,20140104,       2234
33RO20131223,       A16S,      32,          1,         11,         11,2,20140104,       2106,   -21.5005,   -25.0001,       5330,  1446.6,   3.4018,  34.7924,2,  34.7915,2,    208.5,2,   207.4,2,    39.1,2,    26.4,2,    0.00,2,   1.788,2,-999.000,5,-999.000,9,-999.000,9,  -999.0,9, -999.00,9,-999.0000,9, -999.00,-999.0000,9,  -999.00,-999.000,9,   3.4027,2, -999.00,9,  -999.0,9,  -999.0,-999.00000000,9,-999.00000000,9,  1446.6,     -999.0,9,    34.9556,2,     -999.0,9,         -999.0,9,  -999.0,9,20140104,       2222
33RO20131223,       A16S,      32,          1,         10,         10,2,20140104,       2106,   -21.5005,   -25.0001,       5330,  1747.8,   3.4375,  34.9250,2,  34.9226,2,    239.8,2,   238.7,2,    26.5,2,    21.5,2,    0.00,2,   1.429,2,-999.000,5,-999.000,9,-999.000,9,  2179.3,2, 2321.02,2,-999.0000,9, -999.00,   7.7075,2,       25,-999.000,9,   3.4356,2, -999.00,9,  -999.0,9,  -999.0,-999.00000000,9,-999.00000000,9,  1747.8,     -999.0,9,    35.0873,2,     -999.0,9,         -999.0,9,  -999.0,9,20140104,       2216
33RO20131223,       A16S,      32,          1,          9,          9,2,20140104,       2106,   -21.5005,   -25.0001,       5330,  2198.2,   3.1216,  34.9398,2,  34.9394,2,    248.2,2,   249.7,2,    26.5,2,    20.2,2,    0.00,2,   1.342,2,-999.000,5,-999.000,9,-999.000,9,    2174,2, 2324.88,2,-999.0000,9, -999.00,   7.7268,2,       25,-999.000,9,   3.1214,2, -999.00,9,  -999.0,9,  -999.0,-999.00000000,9,-999.00000000,9,  2198.2,     -999.0,9,    35.1042,2,     -999.0,9,         -999.0,9,  -999.0,9,20140104,       2207
33RO20131223,       A16S,      32,          1,          8,          8,2,20140104,       2106,   -21.5005,   -25.0001,       5330,  2497.1,   2.9359,  34.9289,2,  34.9292,2,      249,2,     249,2,    29.9,2,    20.5,2,    0.00,2,   1.368,2,-999.000,5,-999.000,9,-999.000,9,  -999.0,9, -999.00,9,-999.0000,9, -999.00,-999.0000,9,  -999.00,-999.000,9,   2.9356,2, -999.00,9,  -999.0,9,  -999.0,-999.00000000,9,-999.00000000,9,  2497.1,     -999.0,9,    35.0939,2,     -999.0,9,         -999.0,9,  -999.0,9,20140104,       2201
33RO20131223,       A16S,      32,          1,          7,          7,2,20140104,       2106,   -21.5005,   -25.0001,       5330,  2947.7,   2.7503,  34.9182,2,  34.9228,2,    248.3,2,   250.2,2,    33.2,2,    20.7,2,    0.00,2,   1.382,2,-999.000,5,-999.000,9,-999.000,9,    2181,2, 2329.86,2,-999.0000,9, -999.00,   7.7219,2,       25,-999.000,9,   2.7504,2, -999.00,9,  -999.0,9,  -999.0,-999.00000000,9,-999.00000000,9,  2947.7,     -999.0,9,    35.0875,2,     -999.0,9,         -999.0,9,  -999.0,9,20140104,       2152
33RO20131223,       A16S,      32,          1,          6,          6,2,20140104,       2106,   -21.5005,   -25.0001,       5330,  3448.1,   2.4940,  34.8991,2,  34.8989,2,    248.8,2,   250.3,2,    38.9,2,    21.2,2,    0.00,2,   1.421,2,-999.000,5,-999.000,9,-999.000,9,    2185,2, 2334.99,2,-999.0000,9, -999.00,   7.7207,2,       25,-999.000,9,   2.4941,2, -999.00,9,  -999.0,9,  -999.0,-999.00000000,9,-999.00000000,9,  3448.1,     -999.0,9,    35.0635,2,     -999.0,9,         -999.0,9,  -999.0,9,20140104,       2143
33RO20131223,       A16S,      32,          1,          5,          5,2,20140104,       2106,   -21.5005,   -25.0001,       5330,  3947.3,   1.9772,  34.8464,2,  34.8454,2,    242.6,2,     243,2,    58.6,2,    23.8,2,    0.00,2,   1.614,2,-999.000,5,-999.000,9,-999.000,9,  2203.7,2, 2345.37,2,-999.0000,9, -999.00,    7.696,2,       25,-999.000,9,   1.9774,2, -999.00,9,  -999.0,9,  -999.0,-999.00000000,9,-999.00000000,9,  3947.3,     -999.0,9,    35.0097,2,     -999.0,9,         -999.0,9,  -999.0,9,20140104,       2134
33RO20131223,       A16S,      32,          1,          4,          4,2,20140104,       2106,   -21.5005,   -25.0001,       5330,  4446.8,   1.3398,  34.7773,2,  34.7779,2,    231.3,2,   232.3,2,    85.0,6,    27.4,6,    0.00,6,   1.873,6,-999.000,5,-999.000,9,-999.000,9,  2229.7,2,  2357.8,2,-999.0000,9, -999.00,   7.6599,6,       25,-999.000,9,   1.3423,2, -999.00,9,  -999.0,9,  -999.0,-999.00000000,9,-999.00000000,9,  4446.8,     -999.0,9,    34.9419,2,     -999.0,9,         -999.0,9,  -999.0,9,20140104,       2125
33RO20131223,       A16S,      32,          1,          3,          3,2,20140104,       2106,   -21.5005,   -25.0001,       5330,  4847.3,   1.0014,  34.7392,2,  34.7396,2,    226.1,2,   226.4,2,    99.7,6,    29.4,6,    0.00,6,   2.018,6,-999.000,5,-999.000,9,-999.000,9,  2244.5,2, 2362.78,6,-999.0000,9, -999.00,    7.637,2,       25,-999.000,9,   1.0016,2, -999.00,9,  -999.0,9,  -999.0,-999.00000000,9,-999.00000000,9,  4847.3,     -999.0,9,    34.9034,6,     -999.0,9,         -999.0,9,  -999.0,9,20140104,       2118
33RO20131223,       A16S,      32,          1,          2,          2,2,20140104,       2106,   -21.5005,   -25.0001,       5330,  5130.5,   0.8334,  34.7186,2,  34.7188,2,      222,2,   223.3,2,   107.4,6,    30.4,6,    0.00,6,   2.088,6,-999.000,5,-999.000,9,-999.000,9,  -999.0,9, -999.00,9,-999.0000,9, -999.00,-999.0000,9,  -999.00,-999.000,9,   0.8332,2, -999.00,9,  -999.0,9,  -999.0,-999.00000000,9,-999.00000000,9,  5130.5,     -999.0,9,    34.8825,2,     -999.0,9,         -999.0,9,  -999.0,9,20140104,       2112
33RO20131223,       A16S,      32,          1,          1,          1,2,20140104,       2106,   -21.5005,   -25.0001,       5330,  5414.4,   0.8102,  34.7122,2,  34.7123,2,    223.3,2,   223.2,2,   109.7,6,    30.6,6,    0.00,6,   2.108,6,-999.000,5,-999.000,9,-999.000,9,  2254.5,6, 2367.28,2,-999.0000,9, -999.00,   7.6186,2,       25,-999.000,9,   0.8093,2, -999.00,9,  -999.0,9,  -999.0,-999.00000000,9,-999.00000000,9,  5414.4,     -999.0,9,     34.876,2,     -999.0,9,         -999.0,9,  -999.0,9,20140104,       2106