BOTTLE,20220815CCHSIOAMB
EXPOCODE,SECT_ID,STNNBR,CASTNO,SAMPNO,BTLNBR,BTLNBR_FLAG_W,DATE,TIME,LATITUDE,LONGITUDE,DEPTH,CTDPRS,CTDTMP,CTDSAL,CTDSAL_FLAG_W,SALNTY,SALNTY_FLAG_W,CTDOXY,CTDOXY_FLAG_W,OXYGEN,OXYGEN_FLAG_W,SILCAT,SILCAT_FLAG_W,NITRAT,NITRAT_FLAG_W,NITRIT,NITRIT_FLAG_W,PHSPHT,PHSPHT_FLAG_W,CFC-11,CFC-11_FLAG_W,CFC-12,CFC-12_FLAG_W,SF6,SF6_FLAG_W,TCARBN,TCARBN_FLAG_W,ALKALI,ALKALI_FLAG_W,PCO2,PCO2_FLAG_W,PCO2TMP,PH_SWS,PH_SWS_FLAG_W,PH_TMP,TRITUM,TRITUM_FLAG_W,REFTMP,REFTMP_FLAG_W,DELC13,DELC13_FLAG_W,DELC14,DELC14_FLAG_W,C14ERR,DOC,DOC_FLAG_W,TDN,TDN_FLAG_W,CTDRAW,N2O,N2O_FLAG_W,SALTREF,SALTREF_FLAG_W,HELIUM,HELIUM_FLAG_W,DELO18,DELO18_FLAG_W,CCL4,CCL4_FLAG_W,BTL_DATE,BTL_TIME
,,,,,,,,,,,METERS,DBAR,ITS-90,PSS-78,,PSS-78,,UMOL/KG,,UMOL/KG,,UMOL/KG,,UMOL/KG,,UMOL/KG,,UMOL/KG,,PMOL/KG,,PMOL/KG,,FMOL/KG,,UMOL/KG,,UMOL/KG,,UATM,,DEG C,,,DEG C,TU,,DEG C,,/MILLE,,/MILLE,,/MILLE,UMOL/KG,,UMOL/KG,,DBAR,NMOL/KG,,G/KG,,NMOL/KG,,/MILLE,,PMOL/KG,,,
33RO20131223,       A16S,      49,          2,         24,         24,2,20140110,       0019,   -30.0002,   -24.9975,       5593,     3.2,  25.0842,  36.2385,2,  36.2398,2,    207.9,2,   208.8,2,     0.8,2,     0.0,2,    0.00,2,   0.032,2,   1.686,3,   1.086,2,   1.286,2,  2074.9,6, 2381.32,2,   351.44,2,      20,   8.0243,2,       25,-999.000,9,  25.0793,2, -999.00,9,  -999.0,9,  -999.0,  66.97151793,2,         4.59,2,     3.2,      6.584,2,    36.4107,2,     -999.0,9,         -999.0,9,  -999.0,9,20140110,       0221
33RO20131223,       A16S,      49,          2,         23,         23,2,20140110,       0019,   -30.0002,   -24.9975,       5593,    28.1,  23.7969,  36.2669,2,  36.2717,2,    217.3,2,   218.1,2,     0.8,2,     0.0,2,    0.00,2,   0.034,2,   1.795,3,   1.152,2,   1.332,2,    2077,2, 2380.43,2,   351.46,2,      20,   8.0241,2,       25,-999.000,9,  23.8021,2, -999.00,9,  -999.0,9,  -999.0,  65.26420154,2,         4.67,2,    28.1,      6.889,2,    36.4427,2,     -999.0,9,         -999.0,9,  -999.0,9,20140110,       0219
33RO20131223,       A16S,      49,          2,         22,         22,2,20140110,       0019,   -30.0002,   -24.9975,       5593,    62.4,  21.5987,  36.4323,2,  36.4291,2,      228,2,   228.1,2,     0.9,2,     0.0,2,    0.00,2,   0.053,2,   1.943,3,   1.227,2,   1.424,2,  2084.5,2, 2390.12,2,   355.12,2,      20,   8.0237,2,       25,-999.000,9,  21.5993,2, -999.00,9,  -999.0,9,  -999.0,  64.21135643,2,         3.46,2,    62.4,      7.258,2,    36.6009,2,     -999.0,9,         -999.0,9,  -999.0,9,20140110,       0217
33RO20131223,       A16S,      49,          2,         21,         21,2,20140110,       0019,   -30.0002,   -24.9975,       5593,   112.6,  20.5250,  36.3696,2,  36.3689,2,    223.3,2,   223.5,2,     0.9,2,     0.0,2,    0.00,2,   0.094,2,   2.000,3,   1.248,2,   1.431,2,  2091.6,2, 2389.19,6,   368.16,2,      20,   8.0076,2,       25,-999.000,9,  20.5248,2, -999.00,9,  -999.0,9,  -999.0,  62.16257676,2,         3.69,2,   112.6,      7.453,2,    36.5404,2,     -999.0,9,         -999.0,9,  -999.0,9,20140110,       0214
33RO20131223,       A16S,      49,          2,         20,         20,2,20140110,       0019,   -30.0002,   -24.9975,       5593,   183.2,  17.6823,  35.8972,2,  35.8977,2,    211.8,2,   211.2,2,     1.3,2,     1.6,2,    0.02,2,   0.285,2,   2.298,3,   1.411,2,   1.438,2,  2106.3,2, 2360.77,2,   442.04,2,      20,   7.9368,2,       25,-999.000,9,  17.6795,2, -999.00,9,  -999.0,9,  -999.0,  52.77233661,2,         5.13,2,   183.2,      8.677,2,     36.067,2,     -999.0,9,         -999.0,9,  -999.0,9,20140110,       0212
33RO20131223,       A16S,      49,          2,         19,         19,2,20140110,       0019,   -30.0002,   -24.9975,       5593,   257.7,  15.1639,  35.5159,2,  35.5161,2,      209,2,   209.5,2,     2.0,2,     5.6,2,    0.01,2,   0.502,2,   2.592,3,   1.565,6,   1.441,6,  2113.3,2, 2335.06,2,   504.72,2,      20,   7.8849,2,       25,-999.000,9,  15.1621,2, -999.00,9,  -999.0,9,  -999.0,  47.15242016,2,         8.56,2,   257.7,     10.417,6,    35.6836,2,     -999.0,9,         -999.0,9,  -999.0,9,20140110,       0210
33RO20131223,       A16S,      49,          2,         18,         18,2,20140110,       0019,   -30.0002,   -24.9975,       5593,     348,  13.6410,  35.3095,2,  35.3089,2,    210.6,2,   211.6,2,     2.8,2,     8.5,2,    0.01,2,   0.678,2,   2.779,3,   1.658,2,   1.382,2,  2121.7,2,  2323.1,2,   553.06,6,      20,   7.8504,2,       25,-999.000,9,  13.6392,2, -999.00,9,  -999.0,9,  -999.0,  45.53046959,2,        11.05,2,   348.0,     11.946,2,    35.4754,2,     -999.0,9,         -999.0,9,  -999.0,9,20140110,       0207
33RO20131223,       A16S,      49,          2,         17,         17,2,20140110,       0019,   -30.0002,   -24.9975,       5593,   447.6,  12.1132,  35.0904,2,  35.0883,2,    209.1,2,   209.5,2,     4.3,2,    12.3,2,    0.00,2,   0.909,2,   2.922,3,   1.714,2,   1.296,2,  2132.7,2,  2312.5,2,  621.005,6,      20,   7.8061,2,       25,-999.000,9,   12.113,2, -999.00,9,  -999.0,9,  -999.0,  44.58433176,2,        14.74,2,   447.6,     13.475,2,    35.2537,2,     -999.0,9,         -999.0,9,  -999.0,9,20140110,       0204
33RO20131223,       A16S,      49,          2,         16,         16,2,20140110,       0019,   -30.0002,   -24.9975,       5593,   572.7,   9.5586,  34.7514,2,  34.7469,2,    201.6,2,   201.6,2,     8.2,2,    19.2,2,    0.00,2,   1.328,2,   3.019,3,   1.704,2,   1.044,2,  2152.2,2, 2298.77,2,   762.46,2,      20,   7.7228,2,       25,-999.000,9,    9.556,2, -999.00,9,  -999.0,9,  -999.0,  43.90851902,2,        21.73,2,   572.7,     15.834,2,    34.9108,2,     -999.0,9,         -999.0,9,  -999.0,9,20140110,       0201
33RO20131223,       A16S,      49,          2,         15,         15,2,20140110,       0019,   -30.0002,   -24.9975,       5593,     723,   7.0325,  34.4680,2,  34.4692,2,    210.4,2,   210.4,2,    12.7,2,    24.5,2,    0.00,2,   1.674,2,   3.110,3,   1.699,2,   0.945,2,  2166.2,2, 2286.14,2,    873.7,2,      20,   7.6725,2,       25,-999.000,9,   7.0254,2, -999.00,9,  -999.0,9,  -999.0,  41.27640625,2,        27.11,2,   723.0,     16.768,2,    34.6317,2,     -999.0,9,         -999.0,9,  -999.0,9,20140110,       0157
33RO20131223,       A16S,      49,          2,         14,         14,2,20140110,       0019,   -30.0002,   -24.9975,       5593,   872.6,   5.0115,  34.3234,2,  34.3244,2,    216.7,2,   215.8,2,    21.4,2,    28.6,2,    0.00,2,   1.948,2,   2.791,3,   1.475,6,   0.737,6,  2181.9,2, 2292.98,2,   960.52,2,      20,   7.6281,2,       25,-999.000,9,   5.0172,2, -999.00,9,  -999.0,9,  -999.0,  40.22356115,2,        31.09,2,   872.6,     18.230,6,    34.4862,6,     -999.0,9,         -999.0,9,  -999.0,9,20140110,       0153
33RO20131223,       A16S,      49,          2,         13,         13,2,20140110,       0019,   -30.0002,   -24.9975,       5593,  1048.3,   3.9035,  34.3289,2,  34.3298,2,    208.1,2,   207.9,2,    33.5,2,    31.1,2,    0.00,2,   2.128,2,   2.010,3,   1.038,2,   0.459,2,  2201.2,2, 2298.88,2,  1035.01,2,      20,   7.6012,2,       25,-999.000,9,   3.9035,2, -999.00,9,  -999.0,9,  -999.0,  39.36278913,2,        33.74,2,  1048.3,     19.806,2,    34.4917,2,     -999.0,9,         -999.0,9,  -999.0,9,20140110,       0149
33RO20131223,       A16S,      49,          2,         12,         12,2,20140110,       0019,   -30.0002,   -24.9975,       5593,  1197.6,   3.4288,  34.4072,2,  34.4064,2,    193.2,2,   193.2,2,    44.2,2,    32.4,2,    0.00,2,   2.216,2,   1.207,3,   0.616,2,   0.237,2,  2217.7,2, 2311.87,6,  1096.27,2,      20,   7.5809,2,       25,-999.000,9,   3.4293,2, -999.00,9,  -999.0,9,  -999.0,  39.60465895,2,        35.04,2,  1197.6,     21.172,2,    34.5686,2,     -999.0,9,         -999.0,9,  -999.0,9,20140110,       0145
33RO20131223,       A16S,      49,          2,         11,         11,2,20140110,       0019,   -30.0002,   -24.9975,       5593,  1448.2,   3.0099,  34.5706,2,  34.5701,2,    185.5,2,   186.1,2,    54.2,2,    31.7,2,    0.00,2,   2.172,2,   0.405,3,   0.203,2,   0.052,2,    2230,6, 2323.53,2,  1092.57,2,      20,   7.5837,2,       25,-999.000,9,   3.0102,2, -999.00,9,  -999.0,9,  -999.0,  39.45526877,2,        34.36,2,  1448.2,     21.153,2,    34.7331,2,     -999.0,9,         -999.0,9,  -999.0,9,20140110,       0140
33RO20131223,       A16S,      49,          2,         10,         10,2,20140110,       0019,   -30.0002,   -24.9975,       5593,  1747.4,   2.8162,  34.7139,2,  34.7138,2,    198.7,2,   198.8,2,    53.8,2,    28.9,2,    0.00,2,   1.965,2,   0.126,3,   0.059,2,   0.000,2,  2222.8,2, 2331.82,2,   996.21,2,      20,   7.6215,6,       25,-999.000,9,   2.8164,2, -999.00,9,  -999.0,9,  -999.0,  40.35160988,2,        31.45,2,  1747.4,     19.122,2,    34.8774,2,     -999.0,9,         -999.0,9,  -999.0,9,20140110,       0134
33RO20131223,       A16S,      49,          2,          9,          9,2,20140110,       0019,   -30.0002,   -24.9975,       5593,  2196.9,   2.6910,  34.8279,2,  34.8278,2,    222.8,2,   223.9,2,    47.1,2,    25.1,2,    0.00,2,   1.692,2,   0.033,3,   0.012,2,   0.000,2,  2202.6,2, 2334.77,2,  872.435,2,      20,   7.6769,2,       25,-999.000,9,   2.6912,2, -999.00,9,  -999.0,9,  -999.0,  40.87803243,2,        27.68,2,  2196.9,     16.311,2,     34.992,2,     -999.0,9,         -999.0,9,  -999.0,9,20140110,       0126
33RO20131223,       A16S,      49,          2,          8,          8,2,20140110,       0019,   -30.0002,   -24.9975,       5593,  2497.6,   2.7267,  34.8689,2,  34.8702,2,    234.6,2,   235.1,2,    41.4,2,    23.2,2,    0.00,2,   1.566,2,   0.022,3,   0.006,2,   0.000,2,    2193,2, 2328.98,2,   824.35,2,      20,   7.6975,2,       25,-999.000,9,   2.7265,2, -999.00,9,  -999.0,9,  -999.0,  41.40445498,2,        25.76,2,  2497.6,     15.169,2,    35.0346,2,     -999.0,9,         -999.0,9,  -999.0,9,20140110,       0119
33RO20131223,       A16S,      49,          2,          7,          7,2,20140110,       0019,   -30.0002,   -24.9975,       5593,  2797.4,   2.7350,  34.8947,2,  34.8951,2,    242.3,2,   242.8,2,    37.6,2,    22.1,2,    0.00,2,   1.484,2,   0.023,3,   0.007,2,   0.000,2,    2186,2, 2329.34,2,  789.675,2,      20,   7.7121,2,       25,-999.000,9,    2.735,2, -999.00,9,  -999.0,9,  -999.0,  41.63311343,2,        24.49,2,  2797.4,     14.366,2,    35.0596,2,     -999.0,9,         -999.0,9,  -999.0,9,20140110,       0113
33RO20131223,       A16S,      49,          2,          6,          6,2,20140110,       0019,   -30.0002,   -24.9975,       5593,  3197.3,   2.5902,  34.8977,2,  34.8976,2,    246.3,2,   246.6,2,    39.2,2,    21.9,2,    0.00,2,   1.466,2,   0.020,3,   0.005,2,   0.054,2,  2184.7,2, 2330.09,2,  782.105,2,      20,   7.7181,2,       25,-999.000,9,   2.5908,2, -999.00,9,  -999.0,9,  -999.0,  40.86482105,2,        24.29,2,  3197.3,     14.039,2,    35.0622,2,     -999.0,9,         -999.0,9,  -999.0,9,20140110,       0106
33RO20131223,       A16S,      49,          2,          5,          5,2,20140110,       0019,   -30.0002,   -24.9975,       5593,  3598.2,   2.1583,  34.8590,2,  34.8587,2,    242.2,2,   242.2,2,    54.2,2,    23.6,2,    0.00,2,   1.594,2,   0.028,3,   0.009,6,   0.135,6,  2199.9,2,  2341.8,2,  823.595,2,      20,   7.6999,2,       25,-999.000,9,   2.1571,2, -999.00,9,  -999.0,9,  -999.0,  40.44510577,2,        25.96,2,  3598.2,     14.744,6,    35.0231,2,     -999.0,9,         -999.0,9,  -999.0,9,20140110,       0058
33RO20131223,       A16S,      49,          2,          4,          4,2,20140110,       0019,   -30.0002,   -24.9975,       5593,  4598.2,   1.2604,  34.7569,2,  34.7568,2,      224,2,   224.9,2,    92.4,6,    28.8,6,    0.00,6,   1.962,6,   0.089,3,   0.039,2,   0.115,2,  2239.6,2,  2361.9,2,   958.44,2,      20,    7.644,2,       25,-999.000,9,   1.2607,2, -999.00,9,  -999.0,9,  -999.0,  40.00404904,2,        31.33,2,  4598.2,     16.895,2,    34.9207,2,     -999.0,9,         -999.0,9,  -999.0,9,20140110,       0041
33RO20131223,       A16S,      49,          2,          3,          3,2,20140110,       0019,   -30.0002,   -24.9975,       5593,  5097.6,   1.2339,  34.7461,2,  34.7467,2,    223.2,2,   222.9,2,    96.4,6,    29.3,6,    0.00,6,   2.003,6,   0.116,3,   0.053,2,   0.091,2,  2243.2,2, 2361.04,6,   974.09,2,      20,   7.6369,2,       25,-999.000,9,   1.2342,2, -999.00,9,  -999.0,9,  -999.0,  40.03961813,2,        31.75,2,  5097.6,     17.052,2,    34.9105,6,     -999.0,9,         -999.0,9,  -999.0,9,20140110,       0031
33RO20131223,       A16S,      49,          2,          2,          2,2,20140110,       0019,   -30.0002,   -24.9975,       5593,  5497.9,   1.2805,  34.7452,2,  34.7468,2,      223,2,   222.8,2,    96.5,6,    29.3,6,    0.00,6,   2.004,6,   0.125,3,   0.058,2,   0.071,2,    2243,2, 2359.61,2,  973.065,6,      20,   7.6353,6,       25,-999.000,9,   1.2806,2, -999.00,9,  -999.0,9,  -999.0,  39.63413049,2,        31.69,2,  5497.9,     17.087,2,    34.9107,2,     -999.0,9,         -999.0,9,  -999.0,9,20140110,       0023
33RO20131223,       A16S,      49,          2,          1,          1,2,20140110,       0019,   -30.0002,   -24.9975,       5593,  5686.9,   1.3023,  34.7444,2,  34.7451,2,    223.5,2,   223.9,2,    96.8,6,    29.4,6,    0.00,6,   2.005,6,   0.122,3,   0.056,2,   0.103,2,  2245.2,6, 2360.06,2,   975.66,2,      20,   7.6523,3,       25,-999.000,9,   1.3026,2, -999.00,9,  -999.0,9,  -999.0,  39.69104103,2,        31.79,2,  5686.9,     17.223,2,    34.9089,2,     -999.0,9,         -999.0,9,  -999.0,9,20140110,       0019