BOTTLE,20220815CCHSIOAMB
EXPOCODE,SECT_ID,STNNBR,CASTNO,SAMPNO,BTLNBR,BTLNBR_FLAG_W,DATE,TIME,LATITUDE,LONGITUDE,DEPTH,CTDPRS,CTDTMP,CTDSAL,CTDSAL_FLAG_W,SALNTY,SALNTY_FLAG_W,CTDOXY,CTDOXY_FLAG_W,OXYGEN,OXYGEN_FLAG_W,SILCAT,SILCAT_FLAG_W,NITRAT,NITRAT_FLAG_W,NITRIT,NITRIT_FLAG_W,PHSPHT,PHSPHT_FLAG_W,CFC-11,CFC-11_FLAG_W,CFC-12,CFC-12_FLAG_W,SF6,SF6_FLAG_W,TCARBN,TCARBN_FLAG_W,ALKALI,ALKALI_FLAG_W,PCO2,PCO2_FLAG_W,PCO2TMP,PH_SWS,PH_SWS_FLAG_W,PH_TMP,TRITUM,TRITUM_FLAG_W,REFTMP,REFTMP_FLAG_W,DELC13,DELC13_FLAG_W,DELC14,DELC14_FLAG_W,C14ERR,DOC,DOC_FLAG_W,TDN,TDN_FLAG_W,CTDRAW,N2O,N2O_FLAG_W,SALTREF,SALTREF_FLAG_W,HELIUM,HELIUM_FLAG_W,DELO18,DELO18_FLAG_W,CCL4,CCL4_FLAG_W,BTL_DATE,BTL_TIME
,,,,,,,,,,,METERS,DBAR,ITS-90,PSS-78,,PSS-78,,UMOL/KG,,UMOL/KG,,UMOL/KG,,UMOL/KG,,UMOL/KG,,UMOL/KG,,PMOL/KG,,PMOL/KG,,FMOL/KG,,UMOL/KG,,UMOL/KG,,UATM,,DEG C,,,DEG C,TU,,DEG C,,/MILLE,,/MILLE,,/MILLE,UMOL/KG,,UMOL/KG,,DBAR,NMOL/KG,,G/KG,,NMOL/KG,,/MILLE,,PMOL/KG,,,
33RO20131223,       A16S,     105,          1,         24,         24,2,20140127,       0824,   -55.9992,   -33.6328,       2552,     4.9,   1.6424,  33.8756,2,  33.8758,2,    332.8,2,   332.7,2,    26.2,2,    21.2,2,    0.23,2,   1.361,2,   5.623,6,   3.100,2,   3.087,6,  2155.5,6, 2298.45,2,-999.0000,9, -999.00,   7.7307,2,       25,-999.000,9,   1.6428,2,    1.48,2,   -97.1,2,     2.1,  49.37430952,2,  25.13694385,2,     4.9,     14.358,6,    34.0355,2,     -999.0,9,         -999.0,9,  -999.0,9,20140127,       0932
33RO20131223,       A16S,     105,          1,         23,         23,2,20140127,       0824,   -55.9992,   -33.6328,       2552,    27.6,   1.6322,  33.8766,2,  33.8767,2,    331.9,2,   332.8,2,    25.1,2,    21.2,2,    0.22,2,   1.360,2,   5.647,2,   3.096,2,   3.043,2,  2155.6,2, 2295.33,2,-999.0000,9, -999.00,   7.7319,2,       25,-999.000,9,   1.6324,2,    1.50,2,   -90.6,2,     2.4,  48.30449287,2,  25.21638639,2,    27.6,     14.416,2,    34.0365,2,     -999.0,9,         -999.0,9,  -999.0,9,20140127,       0930
33RO20131223,       A16S,     105,          1,         22,         22,2,20140127,       0824,   -55.9992,   -33.6328,       2552,    48.2,   1.5473,  33.8815,2,  33.8828,2,    333.1,2,   333.2,2,    26.3,6,    21.2,6,    0.22,6,   1.359,6,   5.673,2,   3.115,2,   3.042,2,  2156.1,2, 2300.39,6,-999.0000,9, -999.00,   7.7319,2,       25,-999.000,9,   1.5497,2,    1.47,2,   -99.0,2,     2.0,  48.15693196,2,   25.0508811,2,    48.2,     14.487,2,    34.0426,2,     -999.0,9,         -999.0,9,  -999.0,9,20140127,       0929
33RO20131223,       A16S,     105,          1,         21,         21,2,20140127,       0824,   -55.9992,   -33.6328,       2552,      67,   1.2846,  33.9272,2,  33.9271,2,      333,2,   334.1,2,    27.5,6,    20.9,6,    0.21,6,   1.346,6,   5.714,2,   3.125,2,   3.074,2,  2157.4,2, 2303.67,2,-999.0000,9, -999.00,   7.7352,6,       25,-999.000,9,   1.2845,2,    1.44,2,   -98.9,2,     3.0,  47.28632255,2,  24.88537581,2,    67.0,     14.712,2,     34.087,2,     -999.0,9,         -999.0,9,  -999.0,9,20140127,       0927
33RO20131223,       A16S,     105,          1,         20,         20,2,20140127,       0824,   -55.9992,   -33.6328,       2552,    88.8,   0.1560,  34.0182,2,  34.0175,2,    325.4,2,     326,2,    42.4,2,    22.8,2,    0.19,2,   1.677,2,   5.647,2,   3.077,2,   2.931,2,  2178.9,2, 2310.88,2,-999.0000,9, -999.00,   7.6946,2,       25,-999.000,9,   0.1563,2,    1.17,2,  -111.4,2,     2.7,  45.28687213,2,  26.96585366,2,    88.8,     16.151,2,     34.178,2,     -999.0,9,         -999.0,9,  -999.0,9,20140127,       0925
33RO20131223,       A16S,     105,          1,         19,         19,2,20140127,       0824,   -55.9992,   -33.6328,       2552,   118.3,  -0.0361,  34.0968,2,  34.0995,2,    305.8,2,   304.4,2,    53.0,2,    25.7,2,    0.19,2,   1.971,2,   5.112,2,   2.768,2,   2.624,2,  2198.6,2, 2312.66,2,-999.0000,9, -999.00,   7.6472,2,       25,-999.000,9,  -0.0353,2,    0.93,2,  -120.4,2,     2.0,   43.7522386,2,  29.49268293,2,   118.3,     17.540,2,    34.2603,2,     -999.0,9,         -999.0,9,  -999.0,9,20140127,       0924
33RO20131223,       A16S,     105,          1,         18,         18,2,20140127,       0824,   -55.9992,   -33.6328,       2552,     167,   1.0055,  34.3245,2,  34.3242,2,    222.8,2,     222,2,    64.7,2,    33.2,2,    0.22,2,   2.424,3,   2.863,2,   1.512,2,   1.243,2,  2241.8,2, 2319.46,2,-999.0000,9, -999.00,    7.535,2,       25,-999.000,9,   1.0034,2,    0.52,2,  -126.3,2,     2.0,  42.57912931,2,  36.64390244,2,   167.0,     22.013,2,     34.486,2,     -999.0,9,         -999.0,9,  -999.0,9,20140127,       0921
33RO20131223,       A16S,     105,          1,         17,         17,2,20140127,       0824,   -55.9992,   -33.6328,       2552,   217.3,   1.2533,  34.4268,2,  34.4243,2,    207.1,2,   207.4,2,    71.9,2,    34.4,2,    0.06,2,   2.381,2,   2.185,2,   1.143,2,   0.935,2,    2250,2, 2324.99,2,-999.0000,9, -999.00,   7.5305,2,       25,-999.000,9,   1.2515,2,    0.42,2,  -136.4,2,     1.9,  41.73065404,2,  37.57073171,2,   217.3,     22.460,2,    34.5866,2,     -999.0,9,         -999.0,9,  -999.0,9,20140127,       0920
33RO20131223,       A16S,     105,          1,         16,         16,2,20140127,       0824,   -55.9992,   -33.6328,       2552,     316,   1.6606,  34.5645,2,  34.5654,2,      188,2,   188.2,2,    79.4,2,    33.9,2,    0.01,2,   2.326,2,   1.162,2,   0.600,2,   0.480,2,  2257.5,2, 2336.72,2,-999.0000,9, -999.00,   7.5398,2,       25,-999.000,9,   1.6608,2, -999.00,5,  -999.0,5,  -999.0,  40.86004463,2,  36.95609756,2,   316.0,     22.178,2,    34.7284,2,     -999.0,9,         -999.0,9,  -999.0,9,20140127,       0917
33RO20131223,       A16S,     105,          1,         15,         15,2,20140127,       0824,   -55.9992,   -33.6328,       2552,   426.5,   2.0768,  34.6579,2,  34.6578,2,    172.1,2,   171.8,2,    84.6,2,    33.3,2,    0.01,2,   2.291,2,   0.309,2,   0.148,2,   0.092,2,  2262.5,6, 2348.65,2,-999.0000,9, -999.00,   7.5538,2,       25,-999.000,9,    2.076,2,    0.42,2,  -154.3,2,     1.8,   39.8566304,2,  36.12649529,2,   426.5,     21.867,2,    34.8212,2,     -999.0,9,         -999.0,9,  -999.0,9,20140127,       0914
33RO20131223,       A16S,     105,          1,         14,         14,2,20140127,       0824,   -55.9992,   -33.6328,       2552,   509.4,   1.7260,  34.6564,2,  34.6564,2,    184.4,2,   184.1,2,    86.3,2,    32.8,2,    0.02,2,   2.261,2,   0.600,2,   0.301,2,   0.224,2,  2259.8,2, 2348.58,6,-999.0000,9, -999.00,   7.5581,2,       25,-999.000,9,   1.7265,2,    0.47,2,  -153.5,2,     1.7,  39.53199638,2,        35.56,2,   509.4,     21.375,2,    34.8198,2,     -999.0,9,         -999.0,9,  -999.0,9,20140127,       0911
33RO20131223,       A16S,     105,          1,         13,         13,2,20140127,       0824,   -55.9992,   -33.6328,       2552,   597.5,   1.7141,  34.6787,2,  34.6778,2,    183.1,2,     184,2,    89.4,6,    32.7,6,    0.02,6,   2.240,6,   0.464,2,   0.229,2,   0.165,2,  2260.4,2, 2351.88,2,-999.0000,9, -999.00,   7.5646,2,       25,-999.000,9,   1.7147,2,    0.48,2,  -158.7,2,     1.8,  39.59839879,2,        35.35,2,   597.5,     20.990,2,    34.8413,2,     -999.0,9,         -999.0,9,  -999.0,9,20140127,       0909
33RO20131223,       A16S,     105,          1,         12,         12,2,20140127,       0824,   -55.9992,   -33.6328,       2552,   697.1,   1.6578,  34.6979,2,  34.6979,2,      184,2,   184.4,2,    93.7,2,    32.4,2,    0.02,2,   2.226,2,   0.332,6,   0.161,2,   0.093,6,    2263,2, 2357.42,2,-999.0000,9, -999.00,    7.574,2,       25,-999.000,9,   1.6577,2,    0.48,2,  -158.8,2,     2.1,  39.47297202,2,        35.04,2,   697.1,     20.464,6,    34.8615,2,     -999.0,9,         -999.0,9,  -999.0,9,20140127,       0906
33RO20131223,       A16S,     105,          1,         11,         11,2,20140127,       0824,   -55.9992,   -33.6328,       2552,   798.3,   1.5710,  34.7034,2,  34.7041,2,    186.5,2,     187,2,    96.2,2,    32.2,2,    0.01,2,   2.213,2,   0.305,2,   0.147,2,   0.111,2,  2262.7,2, 2356.17,2,-999.0000,9, -999.00,   7.5771,2,       25,-999.000,9,   1.5707,2,    0.51,2,  -161.8,2,     1.7,  39.28852087,2,  34.93658537,2,   798.3,     20.199,2,    34.8678,2,     -999.0,9,         -999.0,9,  -999.0,9,20140127,       0903
33RO20131223,       A16S,     105,          1,         10,         10,2,20140127,       0824,   -55.9992,   -33.6328,       2552,   898.4,   1.4241,  34.6993,2,  34.6995,2,    191.7,2,   191.9,2,    97.2,6,    32.0,6,    0.02,6,   2.203,6,   0.398,2,   0.195,2,   0.199,2,  2260.5,2, 2356.59,2,-999.0000,9, -999.00,   7.5804,2,       25,-999.000,9,   1.4253,2,    0.51,2,  -161.4,2,     1.7,  39.46559397,2,        34.73,2,   898.4,     19.883,2,    34.8631,6,     -999.0,9,         -999.0,9,  -999.0,9,20140127,       0901
33RO20131223,       A16S,     105,          1,          9,          9,2,20140127,       0824,   -55.9992,   -33.6328,       2552,   997.3,   1.3472,  34.7046,2,  34.7066,2,    193.1,2,   192.9,2,   100.5,6,    32.0,6,    0.01,6,   2.197,6,   0.343,2,   0.168,2,   0.130,2,  2261.5,2, 2356.83,2,-999.0000,9, -999.00,    7.585,2,       25,-999.000,9,   1.3468,2,    0.48,2,  -162.8,2,     1.8,  39.39919156,2,  34.72195122,2,   997.3,     19.728,2,    34.8703,2,     -999.0,9,         -999.0,9,  -999.0,9,20140127,       0858
33RO20131223,       A16S,     105,          1,          8,          8,2,20140127,       0824,   -55.9992,   -33.6328,       2552,  1196.8,   1.1910,  34.7076,2,  34.7081,2,    195.9,2,   196.2,2,   105.8,6,    32.0,6,    0.01,6,   2.196,6,   0.300,2,   0.141,2,   0.075,2,  2262.1,2, 2360.57,2,-999.0000,9, -999.00,   7.5837,2,       25,-999.000,9,   1.1909,2,    0.48,2,  -163.7,2,     2.1,  39.28114282,2,  34.75121951,2,  1196.8,     19.566,2,    34.8717,2,     -999.0,9,         -999.0,9,  -999.0,9,20140127,       0854
33RO20131223,       A16S,     105,          1,          7,          7,2,20140127,       0824,   -55.9992,   -33.6328,       2552,    1397,   0.9432,  34.6988,2,  34.6990,2,    201.4,2,   202.3,2,   110.4,2,    32.0,2,    0.01,2,   2.205,2,   0.395,2,   0.195,2,   0.145,2,  2262.5,2, 2358.83,2,-999.0000,9, -999.00,   7.5861,2,       25,-999.000,9,   0.9442,2,    0.51,2,  -162.5,2,     1.7,  39.36967937,2,        34.68,2,  1397.0,     19.391,2,    34.8627,2,     -999.0,9,         -999.0,9,  -999.0,9,20140127,       0849
33RO20131223,       A16S,     105,          1,          6,          6,2,20140127,       0824,   -55.9992,   -33.6328,       2552,  1596.4,   0.7713,  34.6922,2,  34.6929,2,    205.9,2,   205.4,2,   113.5,2,    32.3,2,    0.00,2,   2.216,2,   0.481,2,   0.236,2,   0.163,2,  2262.7,2, 2362.26,2,-999.0000,9, -999.00,   7.5849,2,       25,-999.000,9,   0.7717,2,    0.51,2,  -163.3,2,     1.8,  39.46559397,2,   34.7902439,2,  1596.4,     19.198,2,    34.8565,2,     -999.0,9,         -999.0,9,  -999.0,9,20140127,       0845
33RO20131223,       A16S,     105,          1,          5,          5,2,20140127,       0824,   -55.9992,   -33.6328,       2552,  1797.4,   0.6534,  34.6905,2,  34.6897,2,    208.1,2,   207.8,2,   116.6,2,    32.2,2,    0.00,2,   2.221,2,   0.495,2,   0.242,2,   0.153,2,  2262.3,2, -999.00,5,-999.0000,9, -999.00,   7.7463,4,       25,-999.000,9,    0.653,2,    0.48,2,  -164.0,2,     1.8,  39.39181351,2,        34.76,2,  1797.4,     19.004,2,    34.8533,2,     -999.0,9,         -999.0,9,  -999.0,9,20140127,       0841
33RO20131223,       A16S,     105,          1,          4,          4,2,20140127,       0824,   -55.9992,   -33.6328,       2552,  1997.3,   0.5397,  34.6860,2,  34.6856,2,    211.6,2,   210.6,2,   118.1,6,    32.4,6,    0.00,6,   2.225,6,   0.565,2,   0.276,2,   0.136,2,  2261.8,2, 2412.76,4,-999.0000,9, -999.00,    7.584,6,       25,-999.000,9,   0.5395,2, -999.00,5,  -999.0,5,  -999.0,  39.30327696,2,   34.7902439,2,  1997.3,     18.973,2,    34.8491,2,     -999.0,9,         -999.0,9,  -999.0,9,20140127,       0836
33RO20131223,       A16S,     105,          1,          3,          3,2,20140127,       0824,   -55.9992,   -33.6328,       2552,  2197.1,   0.4418,  34.6812,2,  34.6830,2,    213.7,2,   213.7,2,   119.3,6,    32.4,6,    0.00,6,   2.230,6,   0.640,2,   0.312,2,   0.158,2,  2260.8,2, 2361.98,6,-999.0000,9, -999.00,    7.585,2,       25,-999.000,9,   0.4417,2,    0.46,2,  -161.6,2,     2.8,  39.44345983,2,   34.8097561,2,  2197.1,     18.915,2,    34.8466,2,     -999.0,9,         -999.0,9,  -999.0,9,20140127,       0832
33RO20131223,       A16S,     105,          1,          2,          2,2,20140127,       0824,   -55.9992,   -33.6328,       2552,  2396.5,   0.3342,  34.6760,2,  34.6768,2,    216.8,2,   216.6,2,   121.0,2,    32.6,2,    0.00,2,   2.237,2,   0.721,2,   0.350,2,   0.191,2,  2261.7,2, 2361.47,2,-999.0000,9, -999.00,   7.5858,2,       25,-999.000,9,   0.3334,2,    0.48,2,  -161.2,2,     1.8,  39.38443547,2,  34.89756098,2,  2396.5,     18.800,2,    34.8403,2,     -999.0,9,         -999.0,9,  -999.0,9,20140127,       0828
33RO20131223,       A16S,     105,          1,          1,          1,2,20140127,       0824,   -55.9992,   -33.6328,       2552,  2576.1,   0.1754,  34.6688,2,  34.6693,2,    221.7,2,   192.8,4,   122.1,6,    32.5,6,    0.00,6,   2.242,6,   0.840,6,   0.407,2,   0.246,6,  2262.5,6, 2359.41,2,-999.0000,9, -999.00,   7.5983,3,       25,-999.000,9,    0.176,2, -999.00,5,  -999.0,5,  -999.0,  39.20736237,2,  34.95609756,2,  2576.1,     18.780,6,    34.8327,6,     -999.0,9,         -999.0,9,  -999.0,9,20140127,       0824