BOTTLE,20220815CCHSIOAMB
EXPOCODE,SECT_ID,STNNBR,CASTNO,SAMPNO,BTLNBR,BTLNBR_FLAG_W,DATE,TIME,LATITUDE,LONGITUDE,DEPTH,CTDPRS,CTDTMP,CTDSAL,CTDSAL_FLAG_W,SALNTY,SALNTY_FLAG_W,CTDOXY,CTDOXY_FLAG_W,OXYGEN,OXYGEN_FLAG_W,SILCAT,SILCAT_FLAG_W,NITRAT,NITRAT_FLAG_W,NITRIT,NITRIT_FLAG_W,PHSPHT,PHSPHT_FLAG_W,CFC-11,CFC-11_FLAG_W,CFC-12,CFC-12_FLAG_W,SF6,SF6_FLAG_W,TCARBN,TCARBN_FLAG_W,ALKALI,ALKALI_FLAG_W,PCO2,PCO2_FLAG_W,PCO2TMP,PH_SWS,PH_SWS_FLAG_W,PH_TMP,TRITUM,TRITUM_FLAG_W,REFTMP,REFTMP_FLAG_W,DELC13,DELC13_FLAG_W,DELC14,DELC14_FLAG_W,C14ERR,DOC,DOC_FLAG_W,TDN,TDN_FLAG_W,CTDRAW,N2O,N2O_FLAG_W,SALTREF,SALTREF_FLAG_W,HELIUM,HELIUM_FLAG_W,DELO18,DELO18_FLAG_W,CCL4,CCL4_FLAG_W,BTL_DATE,BTL_TIME
,,,,,,,,,,,METERS,DBAR,ITS-90,PSS-78,,PSS-78,,UMOL/KG,,UMOL/KG,,UMOL/KG,,UMOL/KG,,UMOL/KG,,UMOL/KG,,PMOL/KG,,PMOL/KG,,FMOL/KG,,UMOL/KG,,UMOL/KG,,UATM,,DEG C,,,DEG C,TU,,DEG C,,/MILLE,,/MILLE,,/MILLE,UMOL/KG,,UMOL/KG,,DBAR,NMOL/KG,,G/KG,,NMOL/KG,,/MILLE,,PMOL/KG,,,
33RO20131223,       A16S,      82,          1,         24,         24,2,20140120,       1427,   -46.4987,   -31.8079,       5240,       4,   7.6038,  34.0239,2,  34.0228,2,      292,2,   293.1,2,     1.5,2,    18.4,2,    0.18,2,   1.280,2,   4.018,2,   2.290,2,   2.352,2,  2107.1,6, 2280.47,2,-999.0000,9, -999.00,    7.799,2,       25,-999.000,9,   7.6042,2, -999.00,9,  -999.0,9,  -999.0,-999.00000000,9,-999.00000000,9,     4.0,     11.145,2,    34.1832,2,     -999.0,9,         -999.0,9,  -999.0,9,20140120,       1625
33RO20131223,       A16S,      82,          1,         23,         23,2,20140120,       1427,   -46.4987,   -31.8079,       5240,    28.8,   7.4834,  34.0256,2,  34.0242,2,    293.4,2,   293.9,2,     1.5,2,    18.4,2,    0.17,2,   1.282,2,   4.018,2,   2.295,2,   2.365,2,  2107.5,2, 2281.06,2,-999.0000,9, -999.00,   7.8009,2,       25,-999.000,9,   7.4854,2, -999.00,9,  -999.0,9,  -999.0,-999.00000000,9,-999.00000000,9,    28.8,     11.150,2,    34.1846,2,     -999.0,9,         -999.0,9,  -999.0,9,20140120,       1623
33RO20131223,       A16S,      82,          1,         22,         22,2,20140120,       1427,   -46.4987,   -31.8079,       5240,    68.8,   7.6933,  34.4758,2,  34.4753,2,    253.9,2,   257.1,2,     4.5,2,    18.5,2,    0.04,2,   1.301,2,   3.773,2,   2.148,2,   2.035,2,  2137.8,4, 2294.26,6,-999.0000,9, -999.00,   7.7486,2,       25,-999.000,9,   7.6967,2, -999.00,9,  -999.0,9,  -999.0,-999.00000000,9,-999.00000000,9,    68.8,     11.877,2,    34.6378,2,     -999.0,9,         -999.0,9,  -999.0,9,20140120,       1621
33RO20131223,       A16S,      82,          1,         21,         21,2,20140120,       1427,   -46.4987,   -31.8079,       5240,   109.2,   5.9622,  34.2606,2,  34.2616,2,    259.9,2,   259.1,2,     6.7,2,    22.6,2,    0.02,2,   1.554,2,-999.000,9,-999.000,9,-999.000,9,  2148.6,3, 2284.81,2,-999.0000,9, -999.00,   7.7015,2,       25,-999.000,9,   5.9685,2, -999.00,9,  -999.0,9,  -999.0,-999.00000000,9,-999.00000000,9,   109.2,     -999.0,9,    34.4231,2,     -999.0,9,         -999.0,9,  -999.0,9,20140120,       1618
33RO20131223,       A16S,      82,          1,         20,         20,2,20140120,       1427,   -46.4987,   -31.8079,       5240,   174.1,   4.8230,  34.1536,2,  34.1537,2,    270.1,2,   267.6,2,     9.4,2,    24.7,2,    0.01,2,   1.701,2,   4.130,2,   2.331,2,   1.974,2,    2153,2, 2282.22,2,-999.0000,9, -999.00,   7.6807,2,       25,-999.000,9,   4.8254,2, -999.00,9,  -999.0,9,  -999.0,-999.00000000,9,-999.00000000,9,   174.1,     13.326,2,    34.3147,6,     -999.0,9,         -999.0,9,  -999.0,9,20140120,       1616
33RO20131223,       A16S,      82,          1,         19,         19,2,20140120,       1427,   -46.4987,   -31.8079,       5240,   257.5,   4.2702,  34.1300,2,  34.1278,2,    270.6,2,   272.2,2,    11.8,2,    25.7,2,    0.01,2,   1.765,2,-999.000,9,-999.000,9,-999.000,9,  2157.2,2, 2280.32,2,-999.0000,9, -999.00,   7.6739,2,       25,-999.000,9,   4.2714,2, -999.00,9,  -999.0,9,  -999.0,-999.00000000,9,-999.00000000,9,   257.5,     -999.0,9,    34.2888,2,     -999.0,9,         -999.0,9,  -999.0,9,20140120,       1614
33RO20131223,       A16S,      82,          1,         18,         18,2,20140120,       1427,   -46.4987,   -31.8079,       5240,   368.6,   3.7386,  34.1373,2,  34.1360,2,      263,2,   263.4,2,    16.9,2,    27.4,2,    0.01,2,   1.883,2,   3.980,2,   2.174,2,   1.753,2,  2169.3,2, 2286.39,2,-999.0000,9, -999.00,   7.6505,2,       25,-999.000,9,   3.7381,2, -999.00,9,  -999.0,9,  -999.0,-999.00000000,9,-999.00000000,9,   368.6,     15.167,2,    34.2969,2,     -999.0,9,         -999.0,9,  -999.0,9,20140120,       1610
33RO20131223,       A16S,      82,          1,         17,         17,2,20140120,       1427,   -46.4987,   -31.8079,       5240,     469,   3.3981,  34.1690,2,  34.1651,2,    252.9,2,   247.8,2,    22.4,2,    29.2,2,    0.00,2,   1.991,2,-999.000,9,-999.000,9,-999.000,9,  -999.0,9, -999.00,9,-999.0000,9, -999.00,-999.0000,9,  -999.00,-999.000,9,   3.4003,2, -999.00,9,  -999.0,9,  -999.0,-999.00000000,9,-999.00000000,9,   469.0,     -999.0,9,    34.3262,2,     -999.0,9,         -999.0,9,  -999.0,9,20140120,       1607
33RO20131223,       A16S,      82,          1,         16,         16,2,20140120,       1427,   -46.4987,   -31.8079,       5240,   597.3,   3.1507,  34.2450,2,  34.2420,2,    225.1,2,   224.2,2,    32.8,2,    31.2,2,    0.00,2,   2.122,2,-999.000,9,-999.000,9,-999.000,9,  2203.5,2, 2300.69,2,-999.0000,9, -999.00,   7.5943,2,       25,-999.000,9,   3.1505,2, -999.00,9,  -999.0,9,  -999.0,-999.00000000,9,-999.00000000,9,   597.3,     -999.0,9,    34.4034,2,     -999.0,9,         -999.0,9,  -999.0,9,20140120,       1604
33RO20131223,       A16S,      82,          1,         15,         15,2,20140120,       1427,   -46.4987,   -31.8079,       5240,   774.1,   2.9434,  34.3490,2,  34.3465,2,    198.1,2,     198,2,    45.9,2,    32.8,2,    0.01,2,   2.246,2,-999.000,9,-999.000,9,-999.000,9,  2225.5,2, 2316.36,2,-999.0000,9, -999.00,   7.5648,2,       25,-999.000,9,   2.9438,2, -999.00,9,  -999.0,9,  -999.0,-999.00000000,9,-999.00000000,9,   774.1,     -999.0,9,    34.5085,2,     -999.0,9,         -999.0,9,  -999.0,9,20140120,       1600
33RO20131223,       A16S,      82,          1,         14,         14,2,20140120,       1427,   -46.4987,   -31.8079,       5240,   923.9,   2.8192,  34.4464,2,  34.4451,2,    182.1,2,   180.6,2,    55.5,2,    33.5,2,    0.00,2,   2.290,2,   1.084,6,   0.539,2,   0.250,6,  2239.3,2, 2326.43,2,-999.0000,9, -999.00,     7.55,6,       25,-999.000,9,   2.8199,2, -999.00,9,  -999.0,9,  -999.0,-999.00000000,9,-999.00000000,9,   923.9,     22.111,6,    34.6076,2,     -999.0,9,         -999.0,9,  -999.0,9,20140120,       1556
33RO20131223,       A16S,      82,          1,         13,         13,2,20140120,       1427,   -46.4987,   -31.8079,       5240,  1049.1,   2.7010,  34.5019,2,  34.5000,2,      176,2,   174.5,2,    62.2,2,    33.6,2,    0.00,2,   2.301,2,-999.000,9,-999.000,9,-999.000,9,  -999.0,9, -999.00,9,-999.0000,9, -999.00,-999.0000,9,  -999.00,-999.000,9,   2.7012,2, -999.00,9,  -999.0,9,  -999.0,-999.00000000,9,-999.00000000,9,  1049.1,     -999.0,9,    34.6627,2,     -999.0,9,         -999.0,9,  -999.0,9,20140120,       1552
33RO20131223,       A16S,      82,          1,         12,         12,2,20140120,       1427,   -46.4987,   -31.8079,       5240,  1199.9,   2.7146,  34.5759,2,  34.5747,2,    172.9,2,   173.7,2,    63.8,2,    32.8,2,    0.00,2,   2.244,2,-999.000,9,-999.000,9,-999.000,9,  2247.1,6, 2338.53,2,-999.0000,9, -999.00,   7.5571,2,       25,-999.000,9,    2.715,2, -999.00,9,  -999.0,9,  -999.0,-999.00000000,9,-999.00000000,9,  1199.9,     -999.0,9,    34.7378,2,     -999.0,9,         -999.0,9,  -999.0,9,20140120,       1549
33RO20131223,       A16S,      82,          1,         11,         11,2,20140120,       1427,   -46.4987,   -31.8079,       5240,  1400.6,   2.7415,  34.6588,2,  34.6575,2,    177.8,2,   178.4,2,    63.6,2,    31.3,2,    0.01,2,   2.139,2,   0.307,2,   0.151,2,   0.076,2,  2244.7,2, 2340.08,6,-999.0000,9, -999.00,   7.5759,2,       25,-999.000,9,   2.7418,2, -999.00,9,  -999.0,9,  -999.0,-999.00000000,9,-999.00000000,9,  1400.6,     20.946,2,     34.821,2,     -999.0,9,         -999.0,9,  -999.0,9,20140120,       1543
33RO20131223,       A16S,      82,          1,         10,         10,2,20140120,       1427,   -46.4987,   -31.8079,       5240,  1554.4,   2.4817,  34.6685,2,  34.6672,2,    172.9,2,   175.4,2,    72.3,2,    31.8,2,    0.00,2,   2.180,2,-999.000,9,-999.000,9,-999.000,9,  -999.0,9, -999.00,9,-999.0000,9, -999.00,-999.0000,9,  -999.00,-999.000,9,    2.485,2, -999.00,9,  -999.0,9,  -999.0,-999.00000000,9,-999.00000000,9,  1554.4,     -999.0,9,    34.8306,2,     -999.0,9,         -999.0,9,  -999.0,9,20140120,       1539
33RO20131223,       A16S,      82,          1,          9,          9,2,20140120,       1427,   -46.4987,   -31.8079,       5240,  1750.1,   2.5641,  34.7485,2,  34.7472,2,    189.8,2,     190,2,    66.2,2,    29.3,2,    0.00,2,   1.999,2,   0.191,2,   0.094,2,   0.000,2,  2239.6,2, 2345.16,2,-999.0000,9, -999.00,   7.6059,2,       25,-999.000,9,   2.5636,2, -999.00,9,  -999.0,9,  -999.0,-999.00000000,9,-999.00000000,9,  1750.1,     18.877,2,     34.911,2,     -999.0,9,         -999.0,9,  -999.0,9,20140120,       1534
33RO20131223,       A16S,      82,          1,          8,          8,2,20140120,       1427,   -46.4987,   -31.8079,       5240,  1999.9,   2.4217,  34.7783,2,  34.7770,2,    197.1,2,     199,2,    67.1,2,    28.2,2,    0.00,2,   1.925,2,-999.000,9,-999.000,9,-999.000,9,  -999.0,9, -999.00,9,-999.0000,9, -999.00,-999.0000,9,  -999.00,-999.000,9,   2.4223,2, -999.00,9,  -999.0,9,  -999.0,-999.00000000,9,-999.00000000,9,  1999.9,     -999.0,9,     34.941,2,     -999.0,9,         -999.0,9,  -999.0,9,20140120,       1529
33RO20131223,       A16S,      82,          1,          7,          7,2,20140120,       1427,   -46.4987,   -31.8079,       5240,  2399.8,   1.8015,  34.7424,2,  34.7424,2,    192.6,2,   193.6,2,    88.0,2,    30.2,2,    0.00,2,   2.065,2,-999.000,9,-999.000,9,-999.000,9,  2251.9,2, 2363.37,2,-999.0000,9, -999.00,   7.6018,3,       25,-999.000,9,   1.8006,2, -999.00,9,  -999.0,9,  -999.0,-999.00000000,9,-999.00000000,9,  2399.8,     -999.0,9,    34.9063,2,     -999.0,9,         -999.0,9,  -999.0,9,20140120,       1521
33RO20131223,       A16S,      82,          1,          6,          6,2,20140120,       1427,   -46.4987,   -31.8079,       5240,    2899,   1.3424,  34.7290,2,  34.7285,2,    199.8,2,   200.3,2,    99.8,2,    30.5,2,    0.00,2,   2.105,2,   0.188,2,   0.093,2,   0.088,2,  2254.5,2, 2364.65,2,-999.0000,9, -999.00,   7.6014,2,       25,-999.000,9,   1.3425,2, -999.00,9,  -999.0,9,  -999.0,-999.00000000,9,-999.00000000,9,  2899.0,     18.987,2,    34.8922,2,     -999.0,9,         -999.0,9,  -999.0,9,20140120,       1512
33RO20131223,       A16S,      82,          1,          5,          5,2,20140120,       1427,   -46.4987,   -31.8079,       5240,  3397.6,   0.8753,  34.7024,2,  34.7019,2,    207.1,2,   206.4,2,   110.8,2,    31.3,2,    0.00,2,   2.162,2,-999.000,9,-999.000,9,-999.000,9,  -999.0,9, -999.00,9,-999.0000,9, -999.00,-999.0000,9,  -999.00,-999.000,9,    0.875,2, -999.00,9,  -999.0,9,  -999.0,-999.00000000,9,-999.00000000,9,  3397.6,     -999.0,9,    34.8656,6,     -999.0,9,         -999.0,9,  -999.0,9,20140120,       1503
33RO20131223,       A16S,      82,          1,          4,          4,2,20140120,       1427,   -46.4987,   -31.8079,       5240,  3896.8,   0.4945,  34.6833,2,  34.6821,2,    214.3,2,     214,2,   118.1,6,    31.8,6,    0.00,6,   2.196,6,   0.416,2,   0.203,2,   0.097,2,  2260.9,2, 2364.59,6,-999.0000,9, -999.00,   7.5881,2,       25,-999.000,9,   0.4948,2, -999.00,9,  -999.0,9,  -999.0,-999.00000000,9,-999.00000000,9,  3896.8,     18.668,2,    34.8456,2,     -999.0,9,         -999.0,9,  -999.0,9,20140120,       1454
33RO20131223,       A16S,      82,          1,          3,          3,2,20140120,       1427,   -46.4987,   -31.8079,       5240,  4399.5,   0.2976,  34.6731,2,  34.6727,2,    219.9,2,   218.6,2,   122.9,6,    32.0,6,    0.00,6,   2.213,6,-999.000,9,-999.000,9,-999.000,9,  -999.0,9, -999.00,9,-999.0000,9, -999.00,-999.0000,9,  -999.00,-999.000,9,   0.2974,2, -999.00,9,  -999.0,9,  -999.0,-999.00000000,9,-999.00000000,9,  4399.5,     -999.0,9,    34.8362,2,     -999.0,9,         -999.0,9,  -999.0,9,20140120,       1444
33RO20131223,       A16S,      82,          1,          2,          2,2,20140120,       1427,   -46.4987,   -31.8079,       5240,  4898.5,   0.2483,  34.6681,2,  34.6670,2,    221.4,2,   221.1,2,   124.7,6,    32.0,6,    0.01,6,   2.221,6,-999.000,9,-999.000,9,-999.000,9,  2263.8,2, 2366.39,2,-999.0000,9, -999.00,   7.5889,6,       25,-999.000,9,   0.2481,2, -999.00,9,  -999.0,9,  -999.0,-999.00000000,9,-999.00000000,9,  4898.5,     -999.0,9,    34.8304,2,     -999.0,9,         -999.0,9,  -999.0,9,20140120,       1435
33RO20131223,       A16S,      82,          1,          1,          1,2,20140120,       1427,   -46.4987,   -31.8079,       5240,  5341.4,   0.1947,  34.6627,2,  34.6621,2,    226.7,2,   225.9,2,   124.5,6,    31.9,6,    0.01,6,   2.218,6,   0.737,2,   0.362,2,   0.163,2,  2262.2,6, 2363.01,2,-999.0000,9, -999.00,   7.5875,2,       25,-999.000,9,   0.1946,2, -999.00,9,  -999.0,9,  -999.0,-999.00000000,9,-999.00000000,9,  5341.4,     18.406,2,    34.8255,2,     -999.0,9,         -999.0,9,  -999.0,9,20140120,       1427