BOTTLE,20220815CCHSIOAMB
EXPOCODE,SECT_ID,STNNBR,CASTNO,SAMPNO,BTLNBR,BTLNBR_FLAG_W,DATE,TIME,LATITUDE,LONGITUDE,DEPTH,CTDPRS,CTDTMP,CTDSAL,CTDSAL_FLAG_W,SALNTY,SALNTY_FLAG_W,CTDOXY,CTDOXY_FLAG_W,OXYGEN,OXYGEN_FLAG_W,SILCAT,SILCAT_FLAG_W,NITRAT,NITRAT_FLAG_W,NITRIT,NITRIT_FLAG_W,PHSPHT,PHSPHT_FLAG_W,CFC-11,CFC-11_FLAG_W,CFC-12,CFC-12_FLAG_W,SF6,SF6_FLAG_W,TCARBN,TCARBN_FLAG_W,ALKALI,ALKALI_FLAG_W,PCO2,PCO2_FLAG_W,PCO2TMP,PH_SWS,PH_SWS_FLAG_W,PH_TMP,TRITUM,TRITUM_FLAG_W,REFTMP,REFTMP_FLAG_W,DELC13,DELC13_FLAG_W,DELC14,DELC14_FLAG_W,C14ERR,DOC,DOC_FLAG_W,TDN,TDN_FLAG_W,CTDRAW,N2O,N2O_FLAG_W,SALTREF,SALTREF_FLAG_W,HELIUM,HELIUM_FLAG_W,DELO18,DELO18_FLAG_W,CCL4,CCL4_FLAG_W,BTL_DATE,BTL_TIME
,,,,,,,,,,,METERS,DBAR,ITS-90,PSS-78,,PSS-78,,UMOL/KG,,UMOL/KG,,UMOL/KG,,UMOL/KG,,UMOL/KG,,UMOL/KG,,PMOL/KG,,PMOL/KG,,FMOL/KG,,UMOL/KG,,UMOL/KG,,UATM,,DEG C,,,DEG C,TU,,DEG C,,/MILLE,,/MILLE,,/MILLE,UMOL/KG,,UMOL/KG,,DBAR,NMOL/KG,,G/KG,,NMOL/KG,,/MILLE,,PMOL/KG,,,
33RO20131223,       A16S,      17,          2,         24,         24,2,20131231,       0549,   -14.0001,   -25.0002,       5922,     2.9,  25.6027,  36.9331,2,  36.9327,2,    203.4,2,   203.6,2,     0.8,2,     0.2,2,    0.00,2,   0.069,2,   1.521,6,   1.005,6,   1.224,6,  2081.7,6, 2419.68,2,   310.24,2,      20,   8.0675,2,       25,-999.000,1,  25.6021,2,    1.31,2,    42.6,2,     2.9,  77.21820489,2,         5.34,2,     2.9,      6.364,6,    37.1069,2,     -999.0,1,         -999.0,1,  -999.0,9,20131231,       0753
33RO20131223,       A16S,      17,          2,         23,         23,2,20131231,       0549,   -14.0001,   -25.0002,       5922,    17.8,  25.6099,  36.9325,2,  36.9327,2,    203.7,2,     204,2,     0.8,2,     0.2,2,    0.00,2,   0.070,2,   1.553,2,   1.025,2,   1.295,2,  2080.6,2, 2419.61,6,   310.48,2,      20,   8.0695,2,       25,-999.000,1,  25.6078,2,    1.28,2,    56.0,2,     2.3,  77.17073171,2,         5.56,2,    17.8,      6.593,2,    37.1069,2,     -999.0,1,         -999.0,1,  -999.0,9,20131231,       0751
33RO20131223,       A16S,      17,          2,         22,         22,2,20131231,       0549,   -14.0001,   -25.0002,       5922,    47.8,  25.1790,  37.0307,2,  37.0338,2,    207.7,2,   208.9,2,     0.9,2,     0.3,2,    0.00,2,   0.082,2,   1.598,2,   1.054,2,   1.296,2,  2086.1,2, 2420.92,3,   322.46,2,      20,   8.0679,2,       25,-999.000,1,  25.1725,2,    1.27,2,    51.6,2,     2.7,  77.14487158,2,         4.68,2,    47.8,      6.624,2,    37.2085,2,     -999.0,1,         -999.0,1,  -999.0,9,20131231,       0749
33RO20131223,       A16S,      17,          2,         21,         21,2,20131231,       0549,   -14.0001,   -25.0002,       5922,    72.5,  24.0673,  37.0983,2,  37.0928,2,    213.1,2,   213.3,2,     0.9,2,     0.4,2,    0.00,2,   0.123,2,   1.660,2,   1.096,2,   1.308,2,  2099.3,2, 2432.61,2,   311.36,2,      20,   8.0538,2,       25,-999.000,1,  24.0678,2,    1.31,2,    47.4,2,     2.2,  77.29153819,2,         5.18,2,    72.5,      6.865,2,    37.2677,2,     -999.0,1,         -999.0,1,  -999.0,9,20131231,       0747
33RO20131223,       A16S,      17,          2,         20,         20,2,20131231,       0549,   -14.0001,   -25.0002,       5922,    97.8,  23.4114,  37.0448,2,  37.0458,2,    211.4,2,   211.1,2,     0.9,2,     0.5,2,    0.00,2,   0.150,2,   1.698,2,   1.120,2,   1.344,2,  2104.8,2, 2427.24,2,   337.39,2,      20,   8.0433,2,       25,-999.000,1,  23.4194,2,    1.36,2,    46.1,2,     2.5,  72.89153995,2,         4.22,2,    97.8,      6.941,2,    37.2205,2,     -999.0,1,         -999.0,1,  -999.0,9,20131231,       0746
33RO20131223,       A16S,      17,          2,         19,         19,2,20131231,       0549,   -14.0001,   -25.0002,       5922,   147.2,  21.5268,  36.7219,2,  36.7048,2,    200.9,2,   200.9,2,     1.1,2,     1.1,2,    0.11,2,   0.296,2,   1.854,2,   1.215,2,   1.381,2,  2122.2,2, 2403.19,2,   391.19,2,      20,   7.9849,2,       25,-999.000,1,  21.5905,2,    1.12,2,    49.8,2,     2.1,  62.22887755,2,         4.68,2,   147.2,      8.059,2,    36.8779,2,     -999.0,1,         -999.0,1,  -999.0,9,20131231,       0743
33RO20131223,       A16S,      17,          2,         18,         18,2,20131231,       0549,   -14.0001,   -25.0002,       5922,   217.5,  17.0292,  35.9037,2,  35.8696,4,    172.2,2,   171.3,2,     3.0,2,     9.6,2,    0.01,2,   0.750,2,   2.235,2,   1.394,2,   1.231,2,  2145.5,2, 2351.05,2,   546.09,2,      20,   7.8567,2,       25,-999.000,1,   16.998,2,    0.80,2,    42.9,2,     2.1,        53.47,2,        12.51,2,   217.5,     13.122,2,    36.0388,2,     -999.0,1,         -999.0,1,  -999.0,9,20131231,       0741
33RO20131223,       A16S,      17,          2,         17,         17,2,20131231,       0549,   -14.0001,   -25.0002,       5922,   297.5,  12.0106,  35.1214,2,  35.1229,2,    126.8,2,   128.4,2,     8.2,2,    22.1,2,    0.00,2,   1.432,2,   2.175,2,   1.260,2,   0.715,2,  2185.1,2, 2310.68,2, 863.1475,6,      20,    7.676,2,       25,-999.000,1,  12.0453,2, -999.00,9,  -999.0,9,  -999.0,        46.69,2,        24.96,2,   297.5,     24.085,2,    35.2885,6,     -999.0,1,         -999.0,1,  -999.0,9,20131231,       0739
33RO20131223,       A16S,      17,          2,         16,         16,2,20131231,       0549,   -14.0001,   -25.0002,       5922,   393.4,   9.2195,  34.7891,2,-999.0000,9,      126,2,   127.2,2,    13.7,2,    28.5,2,    0.00,2,   1.823,2,   1.646,6,   0.903,6,   0.343,6,  2199.4,6,  2296.6,2,  1036.96,2,      20,   7.5985,6,       25,-999.000,1,   9.2152,2,    0.68,6,    -1.4,6,     1.6,      45.7112,2,        30.67,2,   393.4,     25.873,6,     -999.0,9,     -999.0,1,         -999.0,1,  -999.0,9,20131231,       0736
33RO20131223,       A16S,      17,          2,         15,         15,2,20131231,       0549,   -14.0001,   -25.0002,       5922,   568.2,   5.8445,  34.4810,2,  34.4785,2,    158.6,2,   158.7,2,    22.9,2,    32.5,2,    0.00,2,   2.109,2,   1.120,2,   0.578,2,   0.195,2,  2206.2,2, 2293.39,2,  1099.02,2,      20,   7.5774,2,       25,-999.000,1,   5.8439,2,    0.85,2,   -55.9,2,     2.0,  44.95155113,2,        34.97,2,   568.2,     22.789,2,    34.6411,2,     -999.0,1,         -999.0,1,  -999.0,9,20131231,       0732
33RO20131223,       A16S,      17,          2,         14,         14,2,20131231,       0549,   -14.0001,   -25.0002,       5922,   717.4,   4.7724,  34.4333,2,  34.4344,2,    167.4,2,   167.7,2,    29.6,2,    33.7,2,    0.00,2,   2.213,2,   0.714,2,   0.361,2,   0.102,2,  2211.9,2, 2296.03,2,  1115.42,2,      20,   7.5687,2,       25,-999.000,1,   4.7724,2,    0.87,2,   -83.3,2,     2.0,  43.47755171,2,        35.93,2,   717.4,     21.980,2,    34.5967,2,     -999.0,1,         -999.0,1,  -999.0,9,20131231,       0729
33RO20131223,       A16S,      17,          2,         13,         13,2,20131231,       0549,   -14.0001,   -25.0002,       5922,   872.3,   4.1111,  34.4617,2,  34.4636,2,    171.3,2,   171.4,2,    35.5,2,    33.7,2,    0.00,2,   2.238,2,   0.332,2,   0.164,2,   0.030,2,  2218.4,2, 2302.21,2,  1111.27,2,      20,   7.5697,2,       25,-999.000,1,   4.1107,2,    0.81,2,  -107.2,2,     2.1,  41.18955263,2,        36.11,2,   872.3,     21.629,2,    34.6261,2,     -999.0,1,         -999.0,1,  -999.0,9,20131231,       0725
33RO20131223,       A16S,      17,          2,         12,         12,2,20131231,       0549,   -14.0001,   -25.0002,       5922,  1047.9,   3.9328,  34.5628,2,  34.5652,2,    172.4,2,   172.6,2,    36.3,2,    32.6,2,    0.00,2,   2.174,2,   0.098,2,   0.048,2,   0.000,2,  2219.2,2, 2306.31,2, 1084.495,6,      20,   7.5799,2,       25,-999.000,1,   3.9328,2,    0.80,2,  -118.3,2,     2.5,  40.78026824,2,        35.18,2,  1047.9,     21.022,2,    34.7281,2,     -999.0,1,         -999.0,1,  -999.0,9,20131231,       0721
33RO20131223,       A16S,      17,          2,         11,         11,2,20131231,       0549,   -14.0001,   -25.0002,       5922,    1348,   4.0942,  34.8262,2,  34.8319,2,    198.7,2,   199.6,2,    26.7,2,    26.7,2,    0.00,2,   1.747,2,   0.047,2,   0.026,2,   0.021,2,  2197.8,2, 2313.37,2,    906.2,2,      20,   7.6557,2,       25,-999.000,1,   4.0943,2,    0.92,2,   -95.2,2,     2.2,  41.98524743,2,        29.26,2,  1348.0,     17.544,2,    34.9961,2,     -999.0,1,         -999.0,1,  -999.0,9,20131231,       0715
33RO20131223,       A16S,      17,          2,         10,         10,2,20131231,       0549,   -14.0001,   -25.0002,       5922,  1748.2,   3.7195,  34.9390,2,  34.9386,2,    237.1,2,   235.8,2,    22.9,2,    22.0,2,    0.00,2,   1.423,2,   0.099,2,   0.048,2,   0.060,2,  2177.6,2, 2315.69,2,   783.78,2,      20,   7.7104,2,       25,-999.000,1,   3.7195,2, -999.00,9,  -999.0,9,  -999.0,  42.00689377,2,        24.43,2,  1748.2,     14.402,2,    35.1033,2,     -999.0,1,         -999.0,9,  -999.0,9,20131231,       0708
33RO20131223,       A16S,      17,          2,          9,          9,2,20131231,       0549,   -14.0001,   -25.0002,       5922,  2146.2,   3.1206,  34.9205,2,  34.9214,2,    242.7,2,   241.5,2,    30.8,2,    22.1,2,    0.00,2,   1.434,2,   0.032,2,   0.017,2,   0.000,2,  2180.9,2,  2321.6,2,  773.485,2,      20,   7.7159,2,       25,-999.000,1,   3.1187,2,    1.04,6,  -102.0,6,     1.9,  41.81207677,2,        24.32,2,  2146.2,     13.851,2,     35.086,2,     -999.0,1,         -999.0,9,  -999.0,9,20131231,       0700
33RO20131223,       A16S,      17,          2,          8,          8,2,20131231,       0549,   -14.0001,   -25.0002,       5922,  2597.9,   2.7793,  34.9012,2,  34.9031,2,    240.5,2,   240.3,2,    38.8,2,    22.7,2,    0.00,2,   1.483,2,   0.012,2,   0.007,2,   0.000,2,  2189.7,2, 2330.49,2,   783.75,2,      20,   7.7133,2,       25,-999.000,9,    2.779,2, -999.00,9,  -999.0,9,  -999.0,  41.58118255,2,        25.22,2,  2597.9,     13.936,2,    35.0677,2,     -999.0,1,         -999.0,9,  -999.0,9,20131231,       0652
33RO20131223,       A16S,      17,          2,          7,          7,2,20131231,       0549,   -14.0001,   -25.0002,       5922,  3096.5,   2.6163,  34.8954,2,  34.8955,2,    242.5,2,   241.6,2,    42.3,2,    22.9,2,    0.00,2,   1.492,2,   0.007,2,   0.005,2,   0.014,2,  2192.7,2,  2333.6,2,   784.69,2,      20,   7.7162,2,       25,-999.000,1,   2.6166,2,    1.01,6,  -116.1,6,     1.4,  41.18433312,2,        25.46,2,  3096.5,     13.645,2,    35.0601,2,     -999.0,1,         -999.0,9,  -999.0,9,20131231,       0643
33RO20131223,       A16S,      17,          2,          6,          6,2,20131231,       0549,   -14.0001,   -25.0002,       5922,    3597,   2.3751,  34.8869,2,  34.8866,2,    249.4,2,   245.8,4,    44.0,6,    22.4,6,    0.00,6,   1.470,6,   0.048,2,   0.025,2,   0.029,2,    2191,2, 2334.25,2,   778.43,2,      20,   7.7159,2,       25,-999.000,9,   2.3758,2, -999.00,9,  -999.0,9,  -999.0,  41.18433312,2,        24.86,2,  3597.0,     13.546,2,    35.0511,2,     -999.0,1,         -999.0,9,  -999.0,9,20131231,       0634
33RO20131223,       A16S,      17,          2,          5,          5,2,20131231,       0549,   -14.0001,   -25.0002,       5922,  4097.4,   1.6605,  34.8141,2,  34.8152,2,    237.8,2,   237.7,2,    71.9,6,    26.2,6,    0.00,6,   1.734,6,   0.027,2,   0.013,2,   0.051,2,    2218,2, 2362.85,4,   857.19,2,      20,   7.6804,2,       25,-999.000,1,   1.6608,2, -999.00,9,  -999.0,9,  -999.0,  40.88128446,2,        28.48,2,  4097.4,     14.953,2,    34.9794,2,     -999.0,1,         -999.0,9,  -999.0,9,20131231,       0625
33RO20131223,       A16S,      17,          2,          4,          4,2,20131231,       0549,   -14.0001,   -25.0002,       5922,  4597.6,   1.0267,  34.7457,2,  34.7486,2,    227.2,2,   227.5,2,    98.4,6,    29.7,6,    0.00,6,   1.991,6,   0.050,2,   0.025,2,   0.042,2,  2241.8,2, 2359.94,2,   950.38,2,      20,   7.6421,2,       25,-999.000,9,   1.0271,2, -999.00,9,  -999.0,9,  -999.0,  40.67925202,2,        31.94,2,  4597.6,     16.243,2,    34.9124,2,     -999.0,1,         -999.0,9,  -999.0,9,20131231,       0615
33RO20131223,       A16S,      17,          2,          3,          3,2,20131231,       0549,   -14.0001,   -25.0002,       5922,  5097.7,   0.7932,  34.7160,2,  34.7156,2,    222.9,2,   223.2,2,   109.7,2,    31.3,2,    0.00,2,   2.092,2,   0.112,2,   0.052,2,   0.060,2,  2253.3,2, 2360.56,6,   996.48,2,      20,   7.6233,2,       25,-999.000,1,   0.7934,2, -999.00,9,  -999.0,9,  -999.0,  40.29683347,2,        33.74,2,  5097.7,     16.738,2,    34.8793,2,     -999.0,1,         -999.0,9,  -999.0,9,20131231,       0606
33RO20131223,       A16S,      17,          2,          2,          2,2,20131231,       0549,   -14.0001,   -25.0002,       5922,  5596.7,   0.7590,  34.7057,2,  34.7071,2,    221.5,2,   221.9,2,   113.2,6,    31.5,6,    0.00,6,   2.131,6,   0.159,2,   0.074,2,   0.054,2,  2256.3,2, 2362.66,2,  1009.28,6,      20,   7.7886,4,       25,-999.000,9,   0.7591,2, -999.00,9,  -999.0,9,  -999.0,  39.35882572,2,        33.84,2,  5596.7,     16.997,2,    34.8708,2,     -999.0,1,         -999.0,9,  -999.0,9,20131231,       0557
33RO20131223,       A16S,      17,          2,          1,          1,2,20131231,       0549,   -14.0001,   -25.0002,       5922,  6017.8,   0.8091,  34.7046,2,  34.7052,2,    222.3,2,   222.4,2,   113.7,6,    31.5,6,    0.00,6,   2.135,6,   0.165,6,   0.074,6,   0.050,6,  2259.1,6, 2357.93,3,  1009.62,2,      20,   8.6145,4,       25,-999.000,1,   0.8095,2, -999.00,9,  -999.0,9,  -999.0,  38.80323651,2,        33.74,2,  6017.8,     16.983,6,    34.8688,2,     -999.0,1,         -999.0,9,  -999.0,9,20131231,       0549