BOTTLE,20220815CCHSIOAMB
EXPOCODE,SECT_ID,STNNBR,CASTNO,SAMPNO,BTLNBR,BTLNBR_FLAG_W,DATE,TIME,LATITUDE,LONGITUDE,DEPTH,CTDPRS,CTDTMP,CTDSAL,CTDSAL_FLAG_W,SALNTY,SALNTY_FLAG_W,CTDOXY,CTDOXY_FLAG_W,OXYGEN,OXYGEN_FLAG_W,SILCAT,SILCAT_FLAG_W,NITRAT,NITRAT_FLAG_W,NITRIT,NITRIT_FLAG_W,PHSPHT,PHSPHT_FLAG_W,CFC-11,CFC-11_FLAG_W,CFC-12,CFC-12_FLAG_W,SF6,SF6_FLAG_W,TCARBN,TCARBN_FLAG_W,ALKALI,ALKALI_FLAG_W,PCO2,PCO2_FLAG_W,PCO2TMP,PH_SWS,PH_SWS_FLAG_W,PH_TMP,TRITUM,TRITUM_FLAG_W,REFTMP,REFTMP_FLAG_W,DELC13,DELC13_FLAG_W,DELC14,DELC14_FLAG_W,C14ERR,DOC,DOC_FLAG_W,TDN,TDN_FLAG_W,CTDRAW,N2O,N2O_FLAG_W,SALTREF,SALTREF_FLAG_W,HELIUM,HELIUM_FLAG_W,DELO18,DELO18_FLAG_W,CCL4,CCL4_FLAG_W,BTL_DATE,BTL_TIME
,,,,,,,,,,,METERS,DBAR,ITS-90,PSS-78,,PSS-78,,UMOL/KG,,UMOL/KG,,UMOL/KG,,UMOL/KG,,UMOL/KG,,UMOL/KG,,PMOL/KG,,PMOL/KG,,FMOL/KG,,UMOL/KG,,UMOL/KG,,UATM,,DEG C,,,DEG C,TU,,DEG C,,/MILLE,,/MILLE,,/MILLE,UMOL/KG,,UMOL/KG,,DBAR,NMOL/KG,,G/KG,,NMOL/KG,,/MILLE,,PMOL/KG,,,
33RO20131223,       A16S,      57,          2,         24,         24,2,20140112,       0713,   -34.0002,   -25.0005,       4079,       3,  21.8479,  35.3687,2,  35.3694,2,    226.5,2,   225.2,2,     0.9,6,     0.0,6,    0.00,6,   0.101,6,   1.987,3,   1.266,2,   1.506,2,  2065.3,6, 2324.85,2,   402.25,2,      20,   7.9706,2,       25,-999.000,9,  21.8769,2, -999.00,9,  -999.0,9,  -999.0,  61.59119488,2,         4.62,2,     3.0,      7.282,2,    35.5362,2,     -999.0,9,         -999.0,9,  -999.0,9,20140112,       0846
33RO20131223,       A16S,      57,          2,         23,         23,2,20140112,       0713,   -34.0002,   -25.0005,       4079,    17.7,  20.0785,  35.3481,2,  35.3484,2,    229.1,2,   231.5,2,     0.9,6,     0.0,6,    0.00,6,   0.102,6,   2.106,3,   1.319,2,   1.528,2,    2066,2, 2325.46,2,   401.91,2,      20,    7.966,2,       25,-999.000,9,  20.0804,2, -999.00,9,  -999.0,9,  -999.0,  59.81558583,2,         4.52,2,    17.7,      7.546,2,    35.5151,2,     -999.0,9,         -999.0,9,  -999.0,9,20140112,       0845
33RO20131223,       A16S,      57,          2,         22,         22,2,20140112,       0713,   -34.0002,   -25.0005,       4079,    47.8,  17.3397,  35.3690,2,  35.3714,2,    246.3,2,   248.4,2,     0.9,6,     0.0,6,    0.00,6,   0.118,6,   2.394,3,   1.475,2,   1.680,2,  2071.1,2, 2327.65,2,   409.96,2,      20,   7.9608,2,       25,-999.000,9,  17.3425,2, -999.00,9,  -999.0,9,  -999.0,  57.47030222,2,         4.83,2,    47.8,      8.297,2,    35.5382,2,     -999.0,9,         -999.0,9,  -999.0,9,20140112,       0843
33RO20131223,       A16S,      57,          2,         21,         21,2,20140112,       0713,   -34.0002,   -25.0005,       4079,    73.6,  15.8140,  35.3849,2,  35.3876,2,    247.7,2,   247.5,2,     0.9,6,     0.0,6,    0.01,6,   0.155,6,   2.520,3,   1.530,2,   1.698,2,  2081.1,2, 2328.98,6,   427.56,2,      20,   7.9451,2,       25,-999.000,9,   15.817,2, -999.00,9,  -999.0,9,  -999.0,  55.05103489,2,         4.58,2,    73.6,      8.697,2,    35.5545,2,     -999.0,9,         -999.0,9,  -999.0,9,20140112,       0841
33RO20131223,       A16S,      57,          2,         20,         20,2,20140112,       0713,   -34.0002,   -25.0005,       4079,    97.8,  15.2619,  35.4005,2,  35.4011,2,      241,2,   238.6,2,     1.1,6,     0.7,6,    0.17,6,   0.236,6,   2.562,3,   1.546,2,   1.682,2,    2093,2, 2328.59,2,   451.79,2,      20,    7.925,2,       25,-999.000,9,  15.2614,2, -999.00,9,  -999.0,9,  -999.0,  52.27664576,2,         5.36,2,    97.8,      9.181,2,    35.5681,2,     -999.0,9,         -999.0,9,  -999.0,9,20140112,       0839
33RO20131223,       A16S,      57,          2,         19,         19,2,20140112,       0713,   -34.0002,   -25.0005,       4079,   147.3,  14.3924,  35.3853,2,  35.3862,2,    226.5,2,   232.7,2,     1.4,6,     4.5,6,    0.02,6,   0.420,6,   2.677,3,   1.607,2,   1.695,2,  2105.7,2, 2325.99,2,   487.65,2,      20,   7.8972,6,       25,-999.000,9,  14.3929,2, -999.00,9,  -999.0,9,  -999.0,  48.96957391,2,         7.59,2,   147.3,      9.708,2,    35.5531,2,     -999.0,9,         -999.0,9,  -999.0,9,20140112,       0837
33RO20131223,       A16S,      57,          2,         18,         18,2,20140112,       0713,   -34.0002,   -25.0005,       4079,   217.2,  13.6787,  35.3604,2,  35.3636,2,    226.1,2,   220.1,2,     2.2,6,     7.7,6,    0.01,6,   0.606,6,   2.756,3,   1.643,6,   1.555,6,    2121,2, 2325.18,2,    531.8,6,      20,   7.8639,2,       25,-999.000,9,  13.6775,2, -999.00,9,  -999.0,9,  -999.0,  45.82526622,2,        10.75,2,   217.2,     11.299,6,    35.5303,2,     -999.0,9,         -999.0,9,  -999.0,9,20140112,       0835
33RO20131223,       A16S,      57,          2,         17,         17,2,20140112,       0713,   -34.0002,   -25.0005,       4079,   296.8,  12.8806,  35.2303,2,  35.2317,2,      241,2,   240.8,2,     2.0,6,     7.1,6,    0.01,6,   0.583,6,   2.873,3,   1.704,2,   1.753,3,  2113.9,3, 2320.64,2,  528.155,6,      20,   7.8673,2,       25,-999.000,9,  12.8785,2, -999.00,9,  -999.0,9,  -999.0,  44.34559202,2,        10.01,2,   296.8,     10.270,2,    35.3979,2,     -999.0,9,         -999.0,9,  -999.0,9,20140112,       0832
33RO20131223,       A16S,      57,          2,         16,         16,2,20140112,       0713,   -34.0002,   -25.0005,       4079,   407.1,  11.4834,  35.0190,2,  35.0015,2,    212.2,2,   212.5,2,     4.0,6,    14.0,6,    0.01,6,   0.994,6,   3.012,3,   1.759,2,   1.442,2,  2137.2,2, 2306.32,2,   644.44,2,      20,   7.7903,2,       25,-999.000,9,  11.4864,2, -999.00,9,  -999.0,9,  -999.0,  42.41461718,2,        16.58,2,   407.1,     12.818,2,    35.1666,2,     -999.0,9,         -999.0,9,  -999.0,9,20140112,       0830
33RO20131223,       A16S,      57,          2,         15,         15,2,20140112,       0713,   -34.0002,   -25.0005,       4079,   567.8,   7.2231,  34.4555,2,  34.4559,2,    220.3,2,   221.6,2,     9.2,2,    23.3,2,    0.00,2,   1.595,2,   3.411,3,   1.893,2,   1.240,2,  2157.6,2, 2283.51,2,   830.32,2,      20,    7.686,2,       25,-999.000,9,   7.2181,2, -999.00,9,  -999.0,9,  -999.0,  40.60941465,2,        25.98,2,   567.8,     15.236,2,    34.6184,2,     -999.0,9,         -999.0,9,  -999.0,9,20140112,       0826
33RO20131223,       A16S,      57,          2,         14,         14,2,20140112,       0713,   -34.0002,   -25.0005,       4079,   714.6,   5.2033,  34.2571,2,  34.2554,2,    240.9,2,     241,2,    12.9,2,    26.5,2,    0.00,2,   1.808,2,   3.626,3,   1.967,2,   1.223,2,  2162.7,2, 2279.76,2,   882.14,2,      20,   7.6631,2,       25,-999.000,9,   5.1985,2, -999.00,9,  -999.0,9,  -999.0,  39.98055311,2,        29.11,2,   714.6,     15.402,2,    34.4169,2,     -999.0,9,         -999.0,9,  -999.0,9,20140112,       0823
33RO20131223,       A16S,      57,          2,         13,         13,2,20140112,       0713,   -34.0002,   -25.0005,       4079,   872.4,   4.1527,  34.2255,2,  34.2261,2,    237.4,2,   237.1,2,    20.7,2,    29.1,2,    0.00,2,   1.984,2,   3.199,3,   1.690,6,   0.983,6,  2176.2,2, 2286.72,2,   943.85,2,      20,   7.6357,2,       25,-999.000,9,    4.153,2, -999.00,9,  -999.0,9,  -999.0,  39.47006551,2,        31.78,2,   872.4,     16.757,6,    34.3875,2,     -999.0,9,         -999.0,9,  -999.0,9,20140112,       0819
33RO20131223,       A16S,      57,          2,         12,         12,2,20140112,       0713,   -34.0002,   -25.0005,       4079,  1047.4,   3.4762,  34.2612,2,  34.2623,2,      223,2,   222.3,2,    31.2,2,    31.3,2,    0.00,2,   2.137,2,   2.475,3,   1.281,2,   0.649,2,  2196.5,2, 2294.93,2,  1026.02,2,      20,   7.6047,2,       25,-999.000,9,   3.4739,2, -999.00,9,  -999.0,9,  -999.0,  39.38128506,2,        34.06,2,  1047.4,     18.641,2,    34.4238,2,     -999.0,9,         -999.0,9,  -999.0,9,20140112,       0815
33RO20131223,       A16S,      57,          2,         11,         11,2,20140112,       0713,   -34.0002,   -25.0005,       4079,    1337,   2.9909,  34.4484,2,  34.4475,2,    189.4,2,     190,2,    51.3,6,    33.1,6,    0.00,6,   2.268,6,   0.848,3,   0.430,2,   0.170,2,  2228.2,2, 2315.69,6,  1123.48,2,      20,    7.571,2,       25,-999.000,9,   2.9909,2, -999.00,9,  -999.0,9,  -999.0,  39.34429321,2,        35.78,2,  1337.0,     20.994,2,    34.6099,2,     -999.0,9,         -999.0,9,  -999.0,9,20140112,       0809
33RO20131223,       A16S,      57,          2,         10,         10,2,20140112,       0713,   -34.0002,   -25.0005,       4079,    1623,   2.8481,  34.6345,2,  34.6333,2,    184.7,2,   186.2,2,    58.2,6,    31.4,6,    0.00,6,   2.147,6,   0.258,3,   0.127,2,   0.056,2,  2233.8,6, 2327.35,2,  1082.75,2,      20,   7.5858,2,       25,-999.000,9,   2.8482,2, -999.00,9,  -999.0,9,  -999.0,  39.12974045,2,        34.11,2,  1623.0,     20.528,2,    34.7966,2,     -999.0,9,         -999.0,9,  -999.0,9,20140112,       0804
33RO20131223,       A16S,      57,          2,          9,          9,2,20140112,       0713,   -34.0002,   -25.0005,       4079,  1757.8,   2.8511,  34.6908,2,  34.6901,2,    192.4,2,   192.4,2,    56.1,6,    30.1,6,    0.00,6,   2.044,6,   0.166,3,   0.080,2,   0.028,2,    2229,2, 2327.74,2,  1032.43,2,      20,   7.6098,2,       25,-999.000,9,    2.851,2, -999.00,9,  -999.0,9,  -999.0,  40.05453682,2,        32.63,2,  1757.8,     19.552,2,    34.8537,2,     -999.0,9,         -999.0,9,  -999.0,9,20140112,       0800
33RO20131223,       A16S,      57,          2,          8,          8,2,20140112,       0713,   -34.0002,   -25.0005,       4079,  1898.5,   2.8605,  34.7439,2,  34.7437,2,    200.9,2,     201,2,    53.3,6,    28.5,6,    0.00,6,   1.934,6,   0.112,3,   0.052,2,   0.026,2,  2221.4,2, 2329.38,2,   980.07,6,      20,   7.6257,2,       25,-999.000,9,   2.8603,2, -999.00,9,  -999.0,9,  -999.0,  40.65380488,2,        31.06,2,  1898.5,     18.411,2,    34.9075,2,     -999.0,9,         -999.0,9,  -999.0,9,20140112,       0757
33RO20131223,       A16S,      57,          2,          7,          7,2,20140112,       0713,   -34.0002,   -25.0005,       4079,    2198,   2.8495,  34.8196,2,  34.8199,2,      218,2,   217.8,2,    46.7,2,    25.8,2,    0.00,2,   1.745,2,   0.061,3,   0.026,2,   0.051,2,  2207.1,2, 2330.37,2,  892.935,2,      20,   7.6658,2,       25,-999.000,9,   2.8493,2, -999.00,9,  -999.0,9,  -999.0,  41.25307293,2,        28.49,2,  2198.0,     16.562,2,     34.984,2,     -999.0,9,         -999.0,9,  -999.0,9,20140112,       0751
33RO20131223,       A16S,      57,          2,          6,          6,2,20140112,       0713,   -34.0002,   -25.0005,       4079,  2497.5,   2.8103,  34.8653,2,  34.8655,2,      232,2,   231.4,2,    41.6,2,    23.8,2,    0.00,2,   1.603,2,   0.036,3,   0.013,2,   0.000,2,  2197.5,2, 2327.15,2,   834.82,2,      20,   7.6901,2,       25,-999.000,9,     2.81,2, -999.00,9,  -999.0,9,  -999.0,  41.71177193,2,        26.45,2,  2497.5,     15.255,2,    35.0299,2,     -999.0,9,         -999.0,9,  -999.0,9,20140112,       0745
33RO20131223,       A16S,      57,          2,          5,          5,2,20140112,       0713,   -34.0002,   -25.0005,       4079,  2796.7,   2.7175,  34.8850,2,  34.8863,2,    240.4,2,   239.2,2,    39.5,2,    22.8,2,    0.00,2,   1.532,2,   0.024,3,   0.007,2,   0.000,2,  2190.6,2, 2326.93,2,  803.575,2,      20,   7.7063,2,       25,-999.000,9,   2.7172,2, -999.00,9,  -999.0,9,  -999.0,  41.91152795,2,        25.36,2,  2796.7,     14.426,2,    35.0508,2,     -999.0,9,         -999.0,9,  -999.0,9,20140112,       0739
33RO20131223,       A16S,      57,          2,          4,          4,2,20140112,       0713,   -34.0002,   -25.0005,       4079,  3197.9,   2.4242,  34.8717,2,  34.8722,2,    240.6,2,   239.9,2,    47.5,2,    23.3,2,    0.00,2,   1.573,2,   0.034,3,   0.012,6,   0.000,6,  2196.7,2, 2332.15,6,   815.22,2,      20,   7.7024,2,       25,-999.000,9,   2.4246,2, -999.00,9,  -999.0,9,  -999.0,  41.07551203,2,        25.89,2,  3197.9,     14.486,6,    35.0366,2,     -999.0,9,         -999.0,9,  -999.0,9,20140112,       0731
33RO20131223,       A16S,      57,          2,          3,          3,2,20140112,       0713,   -34.0002,   -25.0005,       4079,  3596.5,   1.9189,  34.8286,2,  34.8287,2,    235.7,2,   235.7,2,    65.1,2,    25.5,2,    0.00,2,   1.726,2,   0.041,3,   0.015,2,   0.062,2,  2213.4,2, 2343.35,2,  857.365,2,      20,   7.6811,6,       25,-999.000,9,   1.9191,2, -999.00,9,  -999.0,9,  -999.0,  40.58721954,2,        28.03,2,  3596.5,     15.139,2,     34.993,2,     -999.0,9,         -999.0,9,  -999.0,9,20140112,       0724
33RO20131223,       A16S,      57,          2,          2,          2,2,20140112,       0713,   -34.0002,   -25.0005,       4079,  3996.4,   1.3749,  34.7711,2,  34.7713,2,    227.4,2,   226.1,2,    88.0,6,    28.3,6,    0.00,6,   1.930,6,   0.103,3,   0.047,2,   0.083,2,  2236.7,2, 2354.37,2,   932.04,6,      20,   7.6515,2,       25,-999.000,9,   1.3755,2, -999.00,9,  -999.0,9,  -999.0,  40.44665049,2,        30.84,2,  3996.4,     16.292,2,    34.9352,6,     -999.0,9,         -999.0,9,  -999.0,9,20140112,       0717
33RO20131223,       A16S,      57,          2,          1,          1,2,20140112,       0713,   -34.0002,   -25.0005,       4079,  4138.9,   1.3302,  34.7646,2,  34.7644,2,    226.3,2,   226.8,2,    90.8,6,    28.6,6,    0.00,6,   1.949,6,   0.117,3,   0.053,2,   0.055,2,  2239.1,6, 2357.36,2,    941.8,2,      20,   7.6638,3,       25,-999.000,9,   1.3297,2, -999.00,9,  -999.0,9,  -999.0,  39.79559384,2,        31.23,2,  4138.9,     16.391,2,    34.9284,2,     -999.0,9,         -999.0,9,  -999.0,9,20140112,       0713