BOTTLE,20220815CCHSIOAMB
EXPOCODE,SECT_ID,STNNBR,CASTNO,SAMPNO,BTLNBR,BTLNBR_FLAG_W,DATE,TIME,LATITUDE,LONGITUDE,DEPTH,CTDPRS,CTDTMP,CTDSAL,CTDSAL_FLAG_W,SALNTY,SALNTY_FLAG_W,CTDOXY,CTDOXY_FLAG_W,OXYGEN,OXYGEN_FLAG_W,SILCAT,SILCAT_FLAG_W,NITRAT,NITRAT_FLAG_W,NITRIT,NITRIT_FLAG_W,PHSPHT,PHSPHT_FLAG_W,CFC-11,CFC-11_FLAG_W,CFC-12,CFC-12_FLAG_W,SF6,SF6_FLAG_W,TCARBN,TCARBN_FLAG_W,ALKALI,ALKALI_FLAG_W,PCO2,PCO2_FLAG_W,PCO2TMP,PH_SWS,PH_SWS_FLAG_W,PH_TMP,TRITUM,TRITUM_FLAG_W,REFTMP,REFTMP_FLAG_W,DELC13,DELC13_FLAG_W,DELC14,DELC14_FLAG_W,C14ERR,DOC,DOC_FLAG_W,TDN,TDN_FLAG_W,CTDRAW,N2O,N2O_FLAG_W,SALTREF,SALTREF_FLAG_W,HELIUM,HELIUM_FLAG_W,DELO18,DELO18_FLAG_W,CCL4,CCL4_FLAG_W,BTL_DATE,BTL_TIME
,,,,,,,,,,,METERS,DBAR,ITS-90,PSS-78,,PSS-78,,UMOL/KG,,UMOL/KG,,UMOL/KG,,UMOL/KG,,UMOL/KG,,UMOL/KG,,PMOL/KG,,PMOL/KG,,FMOL/KG,,UMOL/KG,,UMOL/KG,,UATM,,DEG C,,,DEG C,TU,,DEG C,,/MILLE,,/MILLE,,/MILLE,UMOL/KG,,UMOL/KG,,DBAR,NMOL/KG,,G/KG,,NMOL/KG,,/MILLE,,PMOL/KG,,,
33RO20131223,       A16S,      15,          1,         24,         24,2,20131230,       1233,   -12.9992,   -24.9997,       5778,     3.4,  25.8000,  36.8992,2,  36.9004,2,    202.3,2,   202.9,2,     0.8,2,     0.3,2,    0.00,2,   0.068,2,-999.000,5,-999.000,5,-999.000,5,  2077.6,6,  2407.2,2,-999.0000,9, -999.00,   8.0707,2,       25,-999.000,9,  25.8004,2, -999.00,9,  -999.0,9,  -999.0,  78.22460286,2,         5.42,2,     3.4,     -999.0,5,    37.0744,2,     -999.0,9,         -999.0,9,  -999.0,9,20131230,       1437
33RO20131223,       A16S,      15,          1,         23,         23,2,20131230,       1233,   -12.9992,   -24.9997,       5778,    10.2,  25.7434,  36.8977,2,  36.9026,2,    202.5,2,   203.1,2,     0.8,2,     0.3,2,    0.00,2,   0.070,2,   1.526,2,   1.020,2,   1.244,2,  2078.3,2, 2419.73,2,-999.0000,9, -999.00,   8.0694,6,       25,-999.000,9,  25.7444,2, -999.00,9,  -999.0,9,  -999.0,  77.36118857,2,         4.72,2,    10.2,      6.212,2,    37.0766,2,     -999.0,9,         -999.0,9,  -999.0,9,20131230,       1436
33RO20131223,       A16S,      15,          1,         22,         22,2,20131230,       1233,   -12.9992,   -24.9997,       5778,    38.4,  25.5590,  36.9899,2,  36.9949,2,    203.7,2,   205.7,2,     0.8,2,     0.4,2,    0.00,2,   0.076,2,   1.607,2,   1.070,2,   1.282,2,    2082,2, 2416.23,6,-999.0000,9, -999.00,   8.0709,3,       25,-999.000,9,  25.5675,2, -999.00,9,  -999.0,9,  -999.0,  75.20265285,2,         4.75,2,    38.4,      6.548,2,    37.1694,2,     -999.0,9,         -999.0,9,  -999.0,9,20131230,       1434
33RO20131223,       A16S,      15,          1,         21,         21,2,20131230,       1233,   -12.9992,   -24.9997,       5778,    68.1,  24.4252,  37.1386,2,  37.1320,2,    212.6,2,   212.7,2,     0.9,2,     0.6,2,    0.00,2,   0.125,2,   1.648,2,   1.091,2,   1.281,2,  2099.1,2, 2436.97,2,-999.0000,9, -999.00,   8.0585,2,       25,-999.000,9,  24.4156,2, -999.00,9,  -999.0,9,  -999.0,  71.17338616,2,         5.29,2,    68.1,      6.582,2,    37.3071,2,     -999.0,9,         -999.0,9,  -999.0,9,20131230,       1432
33RO20131223,       A16S,      15,          1,         20,         20,2,20131230,       1233,   -12.9992,   -24.9997,       5778,   118.2,  22.6669,  36.9289,2,  36.9278,2,    207.5,2,   206.8,2,     1.0,2,     0.6,2,    0.00,2,   0.198,2,   1.751,2,   1.159,2,   1.320,2,  2113.4,2, 2424.13,2,-999.0000,9, -999.00,   8.0192,2,       25,-999.000,9,  22.7068,2, -999.00,9,  -999.0,9,  -999.0,  65.34533972,2,         4.58,2,   118.2,      7.186,2,     37.102,2,     -999.0,9,         -999.0,9,  -999.0,9,20131230,       1430
33RO20131223,       A16S,      15,          1,         19,         19,2,20131230,       1233,   -12.9992,   -24.9997,       5778,   196.7,  16.9145,  35.8871,2,  35.8847,2,      172,2,   171.5,2,     3.0,2,     9.8,2,    0.01,2,   0.733,2,   2.236,2,   1.403,2,   1.238,2,  2143.8,2, 2356.77,2,-999.0000,9, -999.00,   7.8587,2,       25,-999.000,9,  16.9101,2, -999.00,9,  -999.0,9,  -999.0,  51.55229645,2,        12.91,2,   196.7,     12.830,2,    36.0539,2,     -999.0,9,         -999.0,9,  -999.0,9,20131230,       1427
33RO20131223,       A16S,      15,          1,         18,         18,2,20131230,       1233,   -12.9992,   -24.9997,       5778,   331.4,  10.2730,  34.9272,2,  34.9288,2,    104.9,2,   104.9,2,    11.8,2,    28.0,2,    0.00,2,   1.778,2,   1.633,6,   0.914,6,   0.404,6,  2207.1,6,  2304.3,2,-999.0000,9, -999.00,   7.5913,2,       25,-999.000,9,  10.2696,2, -999.00,9,  -999.0,9,  -999.0,  47.16327382,2,        30.74,2,   331.4,     29.449,6,    35.0935,2,     -999.0,9,         -999.0,9,  -999.0,9,20131230,       1424
33RO20131223,       A16S,      15,          1,         17,         17,2,20131230,       1233,   -12.9992,   -24.9997,       5778,   397.4,   8.5766,  34.7358,2,  34.7396,2,    121.8,2,     123,2,    15.0,2,    29.8,2,    0.00,2,   1.908,2,   1.408,2,   0.766,2,   0.287,2,  2205.4,2, 2297.91,2,-999.0000,9, -999.00,   7.5806,2,       25,-999.000,9,   8.5744,2, -999.00,9,  -999.0,9,  -999.0,  45.88973774,2,        32.15,2,   397.4,     27.275,2,    34.9034,2,     -999.0,9,         -999.0,9,  -999.0,9,20131230,       1421
33RO20131223,       A16S,      15,          1,         16,         16,2,20131230,       1233,   -12.9992,   -24.9997,       5778,   517.5,   6.7091,  34.5592,2,  34.5563,2,    141.8,2,   140.2,2,    19.9,2,    32.0,2,    0.00,2,   2.074,2,   1.118,2,   0.591,2,   0.179,2,  2207.9,2, 2294.61,2,-999.0000,9, -999.00,   7.5629,6,       25,-999.000,9,   6.7177,2, -999.00,9,  -999.0,9,  -999.0,  43.55132404,2,        34.43,2,   517.5,     25.186,2,    34.7192,2,     -999.0,9,         -999.0,9,  -999.0,9,20131230,       1418
33RO20131223,       A16S,      15,          1,         15,         15,2,20131230,       1233,   -12.9992,   -24.9997,       5778,   669.1,   5.3921,  34.4682,2,  34.4781,2,    152.4,2,   151.5,2,    25.9,2,    33.7,2,    0.00,2,   2.206,2,   0.741,2,   0.384,2,   0.116,2,  2213.4,2, 2295.67,2,-999.0000,9, -999.00,   7.5552,2,       25,-999.000,9,   5.3909,2, -999.00,9,  -999.0,9,  -999.0,  42.55839761,2,        36.05,2,   669.1,     23.909,2,    34.6407,2,     -999.0,9,         -999.0,9,  -999.0,9,20131230,       1415
33RO20131223,       A16S,      15,          1,         14,         14,2,20131230,       1233,   -12.9992,   -24.9997,       5778,   817.6,   4.4804,  34.4561,2,  34.4570,2,    159.5,2,   159.5,2,    32.4,2,    34.2,2,    0.00,2,   2.274,2,   0.337,2,   0.172,2,   0.038,2,  2217.7,2, 2294.38,2,-999.0000,9, -999.00,   7.5539,2,       25,-999.000,9,   4.4813,2, -999.00,9,  -999.0,9,  -999.0,  41.52949558,2,        36.56,2,   817.6,     23.070,2,    34.6195,2,     -999.0,9,         -999.0,9,  -999.0,9,20131230,       1411
33RO20131223,       A16S,      15,          1,         13,         13,2,20131230,       1233,   -12.9992,   -24.9997,       5778,   998.1,   4.0244,  34.5426,2,  34.5567,3,    165.9,2,   165.8,2,    35.8,2,    33.1,2,    0.00,2,   2.215,2,   0.077,2,   0.042,2,   0.000,2,  2220.6,2, 2309.09,2,-999.0000,9, -999.00,   7.5677,2,       25,-999.000,9,   4.0238,2, -999.00,9,  -999.0,9,  -999.0,   40.7452276,2,        35.54,2,   998.1,     21.956,2,    34.7196,2,     -999.0,9,         -999.0,9,  -999.0,9,20131230,       1407
33RO20131223,       A16S,      15,          1,         12,         12,2,20131230,       1233,   -12.9992,   -24.9997,       5778,  1146.4,   3.9662,  34.6527,2,  34.6553,2,    177.1,2,   176.9,2,    34.1,2,    30.8,2,    0.00,2,   2.059,2,   0.048,6,   0.026,6,   0.000,6,    2214,2, 2311.77,2,-999.0000,9, -999.00,   7.5978,2,       25,-999.000,9,   3.9659,2, -999.00,9,  -999.0,9,  -999.0,  41.16254451,2,        33.12,2,  1146.4,     20.370,6,    34.8187,6,     -999.0,9,         -999.0,9,  -999.0,9,20131230,       1404
33RO20131223,       A16S,      15,          1,         11,         11,2,20131230,       1233,   -12.9992,   -24.9997,       5778,  1297.3,   4.0606,  34.7814,2,  34.7836,2,    191.3,2,   190.2,2,    29.0,2,    28.1,2,    0.00,2,   1.854,2,   0.028,2,   0.018,2,   0.000,2,  2204.1,2, 2316.14,2,-999.0000,9, -999.00,    7.632,2,       25,-999.000,9,   4.0604,2, -999.00,9,  -999.0,9,  -999.0,   41.5726663,2,        30.45,2,  1297.3,     18.647,2,    34.9476,2,     -999.0,9,         -999.0,9,  -999.0,9,20131230,       1400
33RO20131223,       A16S,      15,          1,         10,         10,2,20131230,       1233,   -12.9992,   -24.9997,       5778,  1599.1,   3.9639,  34.9297,2,  34.9294,2,    225.2,2,   225.4,2,    22.2,2,    23.0,2,    0.00,2,   1.485,2,   0.119,2,   0.063,2,   0.000,2,  2181.1,2,  2317.2,2,-999.0000,9, -999.00,   7.6954,2,       25,-999.000,9,   3.9638,2, -999.00,9,  -999.0,9,  -999.0,  42.10510511,2,        25.57,2,  1599.1,     15.308,2,    35.0941,2,     -999.0,9,         -999.0,9,  -999.0,9,20131230,       1354
33RO20131223,       A16S,      15,          1,          9,          9,2,20131230,       1233,   -12.9992,   -24.9997,       5778,  1948.8,   3.4280,  34.9378,2,  34.9393,2,    241.4,2,   240.9,2,    25.6,2,    21.8,2,    0.00,2,   1.398,2,   0.076,2,   0.041,2,   0.000,2,    2177,2, 2322.15,2,-999.0000,9, -999.00,   7.7173,2,       25,-999.000,9,   3.4274,2, -999.00,9,  -999.0,9,  -999.0,  42.27059285,2,        23.94,2,  1948.8,     14.052,2,     35.104,2,     -999.0,9,         -999.0,9,  -999.0,9,20131230,       1347
33RO20131223,       A16S,      15,          1,          8,          8,2,20131230,       1233,   -12.9992,   -24.9997,       5778,  2348.4,   2.9394,  34.9123,2,  34.9392,4,      241,2,   240.8,2,    34.5,2,    22.4,2,    0.00,2,   1.451,2,   0.022,2,   0.013,2,   0.000,2,  2184.6,2, 2330.49,2,-999.0000,9, -999.00,   7.7159,2,       25,-999.000,9,   2.9396,2, -999.00,9,  -999.0,9,  -999.0,  41.78851987,2,        24.78,2,  2348.4,     14.018,2,    35.1039,2,     -999.0,9,         -999.0,9,  -999.0,9,20131230,       1339
33RO20131223,       A16S,      15,          1,          7,          7,2,20131230,       1233,   -12.9992,   -24.9997,       5778,  2746.8,   2.7441,  34.9038,2,  34.9181,4,    241.4,2,   241.1,2,    38.8,2,    22.7,2,    0.00,2,   1.470,2,   0.014,2,   0.011,2,   0.027,2,  2190.1,2, 2334.71,2,-999.0000,9, -999.00,   7.7136,2,       25,-999.000,9,   2.7442,2, -999.00,9,  -999.0,9,  -999.0,  41.25608106,2,        25.04,2,  2746.8,     13.946,2,    35.0828,2,     -999.0,9,         -999.0,9,  -999.0,9,20131230,       1332
33RO20131223,       A16S,      15,          1,          6,          6,2,20131230,       1233,   -12.9992,   -24.9997,       5778,  3246.8,   2.5975,  34.8986,2,  34.9023,2,    243.7,2,   243.8,2,    41.2,2,    22.6,2,    0.00,2,   1.469,2,   0.016,6,   0.011,6,   0.000,6,  2190.6,2, 2338.28,2,-999.0000,9, -999.00,   7.7195,2,       25,-999.000,9,    2.597,2, -999.00,9,  -999.0,9,  -999.0,  40.70925201,2,        25.08,2,  3246.8,     13.823,6,    35.0669,2,     -999.0,9,         -999.0,9,  -999.0,9,20131230,       1322
33RO20131223,       A16S,      15,          1,          5,          5,2,20131230,       1233,   -12.9992,   -24.9997,       5778,  3747.8,   2.2473,  34.8737,2,  34.8733,2,    245.4,2,   246.2,2,    49.2,2,    23.1,2,    0.00,2,   1.513,2,   0.027,2,   0.015,2,   0.000,2,  2196.9,2, 2340.28,2,-999.0000,9, -999.00,    7.713,2,       25,-999.000,9,   2.2462,2, -999.00,9,  -999.0,9,  -999.0,  40.66608129,2,        25.46,2,  3747.8,     13.990,2,    35.0377,2,     -999.0,9,         -999.0,9,  -999.0,9,20131230,       1313
33RO20131223,       A16S,      15,          1,          4,          4,2,20131230,       1233,   -12.9992,   -24.9997,       5778,  4247.9,   1.3815,  34.7843,2,  34.7868,2,    231.8,2,     233,2,    83.6,2,    27.6,2,    0.00,2,   1.844,2,   0.031,2,   0.018,2,   0.043,2,  2229.9,2, 2357.12,2,-999.0000,9, -999.00,   7.6658,2,       25,-999.000,9,   1.3827,2, -999.00,9,  -999.0,9,  -999.0,  40.27754486,2,        29.96,2,  4247.9,     15.634,2,    34.9508,2,     -999.0,9,         -999.0,9,  -999.0,9,20131230,       1304
33RO20131223,       A16S,      15,          1,          3,          3,2,20131230,       1233,   -12.9992,   -24.9997,       5778,  4748.9,   0.9526,  34.7368,2,  34.7368,2,    226.4,2,   226.1,2,   101.8,2,    29.9,2,    0.00,2,   2.020,2,   0.045,2,   0.024,2,   0.000,2,  2247.7,2, 2366.28,2,-999.0000,9, -999.00,   7.6359,2,       25,-999.000,9,   0.9527,2, -999.00,9,  -999.0,9,  -999.0,  40.03291082,2,        31.95,2,  4748.9,     16.604,2,    34.9006,2,     -999.0,9,         -999.0,9,  -999.0,9,20131230,       1254
33RO20131223,       A16S,      15,          1,          2,          2,2,20131230,       1233,   -12.9992,   -24.9997,       5778,  5250.1,   0.8135,  34.7164,2,  34.7302,4,    222.7,2,     223,2,   109.4,2,    30.8,2,    0.01,2,   2.091,2,   0.089,2,   0.044,2,   0.043,2,  2254.6,2, 2367.14,2,-999.0000,9, -999.00,   7.6246,2,       25,-999.000,9,   0.8136,2, -999.00,9,  -999.0,9,  -999.0,  39.86022796,2,        33.09,2,  5250.1,     16.998,2,    34.8939,2,     -999.0,9,         -999.0,9,  -999.0,9,20131230,       1244
33RO20131223,       A16S,      15,          1,          1,          1,2,20131230,       1233,   -12.9992,   -24.9997,       5778,  5869.1,   0.8336,  34.7092,2,  34.7090,2,    221.7,2,   222.3,2,   112.1,2,    31.2,2,    0.00,2,   2.114,2,   0.121,2,   0.058,2,   0.044,2,    2258,6,  2372.6,2,-999.0000,9, -999.00,   7.6417,2,       25,-999.000,9,   0.8329,2, -999.00,9,  -999.0,9,  -999.0,  39.66595974,2,        33.58,2,  5869.1,     17.134,2,    34.8727,2,     -999.0,9,         -999.0,9,  -999.0,9,20131230,       1233