BOTTLE,20220815CCHSIOAMB
EXPOCODE,SECT_ID,STNNBR,CASTNO,SAMPNO,BTLNBR,BTLNBR_FLAG_W,DATE,TIME,LATITUDE,LONGITUDE,DEPTH,CTDPRS,CTDTMP,CTDSAL,CTDSAL_FLAG_W,SALNTY,SALNTY_FLAG_W,CTDOXY,CTDOXY_FLAG_W,OXYGEN,OXYGEN_FLAG_W,SILCAT,SILCAT_FLAG_W,NITRAT,NITRAT_FLAG_W,NITRIT,NITRIT_FLAG_W,PHSPHT,PHSPHT_FLAG_W,CFC-11,CFC-11_FLAG_W,CFC-12,CFC-12_FLAG_W,SF6,SF6_FLAG_W,TCARBN,TCARBN_FLAG_W,ALKALI,ALKALI_FLAG_W,PCO2,PCO2_FLAG_W,PCO2TMP,PH_SWS,PH_SWS_FLAG_W,PH_TMP,TRITUM,TRITUM_FLAG_W,REFTMP,REFTMP_FLAG_W,DELC13,DELC13_FLAG_W,DELC14,DELC14_FLAG_W,C14ERR,DOC,DOC_FLAG_W,TDN,TDN_FLAG_W,CTDRAW,N2O,N2O_FLAG_W,SALTREF,SALTREF_FLAG_W,HELIUM,HELIUM_FLAG_W,DELO18,DELO18_FLAG_W,CCL4,CCL4_FLAG_W,BTL_DATE,BTL_TIME
,,,,,,,,,,,METERS,DBAR,ITS-90,PSS-78,,PSS-78,,UMOL/KG,,UMOL/KG,,UMOL/KG,,UMOL/KG,,UMOL/KG,,UMOL/KG,,PMOL/KG,,PMOL/KG,,FMOL/KG,,UMOL/KG,,UMOL/KG,,UATM,,DEG C,,,DEG C,TU,,DEG C,,/MILLE,,/MILLE,,/MILLE,UMOL/KG,,UMOL/KG,,DBAR,NMOL/KG,,G/KG,,NMOL/KG,,/MILLE,,PMOL/KG,,,
33RO20131223,       A16S,     107,          1,         24,         24,2,20140127,       2233,   -56.9988,   -32.2876,       3703,     3.7,   1.2147,  33.7786,2,  33.7774,2,    335.5,2,   337.1,2,    40.5,2,    21.6,2,    0.25,2,   1.343,2,   5.804,2,   3.172,2,   3.077,2,  2153.6,6, 2293.58,2,   758.22,2,      20,   7.7249,2,       25,-999.000,1,   1.2149,2,    1.34,2,  -111.9,2,     2.2,  48.24851729,2,  25.46656071,2,     3.7,     14.505,2,    33.9367,2,     -999.0,1,         -999.0,1,  -999.0,9,20140128,       0005
33RO20131223,       A16S,     107,          1,         23,         23,2,20140127,       2233,   -56.9988,   -32.2876,       3703,    23.2,   1.2138,  33.7790,2,  33.7793,2,    336.4,2,   336.7,2,    40.5,2,    21.6,2,    0.25,2,   1.344,2,   5.805,2,   3.169,2,   3.109,2,  2155.3,2, 2293.19,6,   758.19,2,      20,   7.7268,2,       25,-999.000,1,   1.2143,2, -999.00,9,  -999.0,9,  -999.0,  47.22022501,2,  25.27804878,2,    23.2,     14.511,2,    33.9386,2,     -999.0,1,         -999.0,1,  -999.0,9,20140128,       0003
33RO20131223,       A16S,     107,          1,         22,         22,2,20140127,       2233,   -56.9988,   -32.2876,       3703,    73.2,   0.3488,  33.9947,2,  34.0012,2,    324.7,2,   326.5,2,    41.9,2,    22.7,2,    0.20,2,   1.642,2,   5.610,6,   3.059,2,   2.918,6,    2178,2, 2307.34,2,   821.14,2,      20,   7.6985,6,       25,-999.000,1,   0.3481,2, -999.00,9,  -999.0,9,  -999.0,  45.53412813,2,  26.23414634,2,    73.2,     15.736,6,    34.1615,2,     -999.0,1,         -999.0,1,  -999.0,9,20140127,       0000
33RO20131223,       A16S,     107,          1,         21,         21,3,20140127,       2233,   -56.9988,   -32.2876,       3703,   122.8,  -0.1133,  34.1726,2,  34.1801,2,    284.7,2,   283.2,2,    62.1,2,    28.6,2,    0.23,3,   2.222,3,-999.000,5,-999.000,5,-999.000,5,  2219.8,2,  2313.8,2,  1051.38,2,      20,   7.5997,2,       25,-999.000,1,  -0.1137,2, -999.00,9,  -999.0,9,  -999.0,        43.38,2,  32.06829268,2,   122.8,     -999.0,5,    34.3413,2,     -999.0,1,         -999.0,1,  -999.0,9,20140127,       2358
33RO20131223,       A16S,     107,          1,         20,         20,2,20140127,       2233,   -56.9988,   -32.2876,       3703,   172.9,   0.4528,  34.3502,2,  34.3494,2,    231.4,2,   235.6,2,    72.2,2,    32.9,2,    0.17,2,   2.379,2,   3.054,2,   1.624,2,   1.436,2,  2244.7,2,    2321,2,  1203.34,2,      20,   7.5462,2,       25,-999.000,1,   0.4533,2, -999.00,9,  -999.0,9,  -999.0,        42.34,2,  36.21463415,2,   172.9,     20.489,2,    34.5114,2,     -999.0,1,         -999.0,1,  -999.0,9,20140127,       2356
33RO20131223,       A16S,     107,          1,         19,         19,2,20140127,       2233,   -56.9988,   -32.2876,       3703,   223.8,   1.3349,  34.5111,2,  34.5125,2,    206.3,2,   197.9,2,    77.4,2,    33.9,2,    0.09,2,   2.349,2,   1.650,2,   0.852,2,   0.687,2,  2256.2,2,  2334.7,2,  1237.63,2,      20,   7.5359,2,       25,-999.000,1,   1.3417,2, -999.00,9,  -999.0,9,  -999.0,        41.56,2,  37.10243902,2,   223.8,     21.794,2,    34.6753,6,     -999.0,1,         -999.0,1,  -999.0,9,20140127,       2353
33RO20131223,       A16S,     107,          1,         18,         18,2,20140127,       2233,   -56.9988,   -32.2876,       3703,   298.7,   1.5600,  34.5892,2,  34.5890,2,    187.5,2,   188.3,2,    81.2,2,    33.5,2,    0.03,2,   2.311,2,   1.104,2,   0.561,2,   0.411,2,  2259.8,2, 2339.95,2,  1213.34,6,      20,   7.5457,2,       25,-999.000,1,   1.5583,2, -999.00,9,  -999.0,9,  -999.0,        41.03,2,        36.44,2,   298.7,     21.614,2,    34.7521,2,     -999.0,1,         -999.0,1,  -999.0,9,20140127,       2351
33RO20131223,       A16S,     107,          1,         17,         17,2,20140127,       2233,   -56.9988,   -32.2876,       3703,   397.6,   1.4388,  34.6252,2,  34.6271,2,    192.7,2,   190.8,2,    85.2,2,    32.9,2,    0.02,2,   2.270,2,   0.962,2,   0.487,2,   0.360,2,  2260.2,2, 2342.24,2, 1173.035,6,      20,   7.5601,2,       25,-999.000,1,   1.4478,2, -999.00,9,  -999.0,9,  -999.0,  40.36803223,2,        35.58,2,   397.6,     20.848,2,    34.7904,2,     -999.0,1,         -999.0,1,  -999.0,9,20140127,       2348
33RO20131223,       A16S,     107,          1,         16,         16,2,20140127,       2233,   -56.9988,   -32.2876,       3703,   498.4,   1.5827,  34.6736,2,  34.6737,2,    186.6,2,     187,2,    89.9,2,    32.5,2,    0.02,2,   2.240,2,   0.571,2,   0.288,2,   0.204,2,    2261,6, 2355.57,2,  1145.43,2,      20,   7.5667,2,       25,-999.000,1,   1.5833,2, -999.00,9,  -999.0,9,  -999.0,  39.88412999,2,        35.05,2,   498.4,     20.618,2,    34.8372,2,     -999.0,1,         -999.0,1,  -999.0,9,20140127,       2345
33RO20131223,       A16S,     107,          1,         15,         15,2,20140127,       2233,   -56.9988,   -32.2876,       3703,     598,   1.5076,  34.6887,2,  34.6874,2,    187.5,2,     188,2,    93.6,2,    32.3,2,    0.01,2,   2.226,2,   0.471,2,   0.237,2,   0.175,2,  2262.9,2, 2353.01,6,  1136.95,2,      20,    7.574,2,       25,-999.000,1,   1.5083,2, -999.00,9,  -999.0,9,  -999.0,  39.78583734,2,  34.74146341,2,   598.0,     20.301,2,     34.851,2,     -999.0,1,         -999.0,1,  -999.0,9,20140127,       2342
33RO20131223,       A16S,     107,          1,         14,         14,2,20140127,       2233,   -56.9988,   -32.2876,       3703,   699.2,   1.4264,  34.6974,2,  34.6961,2,    189.2,2,   189.9,2,    96.8,2,    32.2,2,    0.01,2,   2.214,2,   0.409,2,   0.207,2,   0.149,2,  2261.7,2, 2358.13,2,  1121.65,2,      20,   7.5791,2,       25,-999.000,1,   1.4262,2, -999.00,9,  -999.0,9,  -999.0,  39.48339844,2,   34.7902439,2,   699.2,     20.046,2,    34.8597,2,     -999.0,1,         -999.0,1,  -999.0,9,20140127,       2339
33RO20131223,       A16S,     107,          1,         13,         13,2,20140127,       2233,   -56.9988,   -32.2876,       3703,   897.7,   1.1962,  34.7010,2,  34.7009,2,    197.4,2,   195.8,2,   102.9,2,    32.0,2,    0.01,2,   2.205,2,   0.395,6,   0.198,2,   0.152,6,  2262.5,2, 2360.46,2,  1111.64,2,      20,   7.5858,2,       25,-999.000,1,   1.1964,2, -999.00,9,  -999.0,9,  -999.0,  39.59681303,2,       34.685,2,   897.7,     19.524,6,    34.8645,2,     -999.0,1,         -999.0,1,  -999.0,9,20140127,       2334
33RO20131223,       A16S,     107,          1,         12,         12,2,20140127,       2233,   -56.9988,   -32.2876,       3703,    1098,   0.6895,  34.6680,2,  34.6686,2,    205.7,2,   206.4,2,   106.2,2,    32.3,2,    0.01,2,   2.227,2,   0.854,3,   0.428,2,   0.330,2,  2260.3,2, 2357.08,2, 1124.165,6,      20,   7.5697,4,       25,-999.000,1,   0.6897,2, -999.00,9,  -999.0,9,  -999.0,  39.74803248,2,        34.92,2,  1098.0,     19.365,2,    34.8321,2,     -999.0,1,         -999.0,1,  -999.0,9,20140127,       2330
33RO20131223,       A16S,     107,          1,         11,         11,2,20140127,       2233,   -56.9988,   -32.2876,       3703,  1298.3,   0.7464,  34.6911,2,  34.6951,2,    203.7,2,   204.4,2,   112.7,2,    32.2,2,    0.00,2,   2.218,2,   0.498,2,   0.251,2,   0.157,2,    2263,2, 2357.55,2,  1112.09,2,      20,   7.7305,4,       25,-999.000,1,   0.7464,2, -999.00,9,  -999.0,9,  -999.0,  39.50608136,2,        34.83,2,  1298.3,     19.126,2,    34.8587,2,     -999.0,1,         -999.0,1,  -999.0,9,20140127,       2326
33RO20131223,       A16S,     107,          1,         10,         10,2,20140127,       2233,   -56.9988,   -32.2876,       3703,  1498.5,   0.6076,  34.6859,2,  34.6853,2,    206.3,2,   207.1,2,   114.6,2,    32.4,2,    0.00,2,   2.233,2,   0.566,2,   0.281,2,   0.168,2,    2263,2, 2356.66,2,  1118.99,2,      20,   7.5808,3,       25,-999.000,1,   0.6066,2, -999.00,9,  -999.0,9,  -999.0,   39.3851058,2,  35.09268293,2,  1498.5,     19.061,2,    34.8489,2,     -999.0,1,         -999.0,9,  -999.0,9,20140127,       2321
33RO20131223,       A16S,     107,          1,          9,          9,2,20140127,       2233,   -56.9988,   -32.2876,       3703,  1697.8,   0.5330,  34.6852,2,  34.6871,2,      209,2,   209.5,2,   116.7,2,    32.4,2,    0.00,2,   2.232,2,   0.574,2,   0.282,2,   0.185,2,  2263.1,2, 2358.03,2,     1116,2,      20,    7.582,2,       25,-999.000,1,    0.533,2, -999.00,9,  -999.0,9,  -999.0,  39.44559358,2,  35.01463415,2,  1697.8,     18.944,2,    34.8507,2,     -999.0,1,         -999.0,9,  -999.0,9,20140127,       2317
33RO20131223,       A16S,     107,          1,          8,          8,2,20140127,       2233,   -56.9988,   -32.2876,       3703,  1898.6,   0.4363,  34.6806,2,  34.6806,2,    211.6,2,   212.3,2,   117.8,2,    32.5,2,    0.00,2,   2.243,2,   0.628,2,   0.307,2,   0.146,2,  2262.5,2, 2361.64,2,  1121.97,2,      20,   7.5792,2,       25,-999.000,9,   0.4367,2, -999.00,9,  -999.0,9,  -999.0,  39.41534969,2,  34.90731707,2,  1898.6,     19.011,2,    34.8442,2,     -999.0,1,         -999.0,9,  -999.0,9,20140127,       2312
33RO20131223,       A16S,     107,          1,          7,          7,2,20140127,       2233,   -56.9988,   -32.2876,       3703,  2097.8,   0.3501,  34.6771,2,  34.6779,2,    213.5,2,   213.9,2,   119.0,2,    32.5,2,    0.00,2,   2.246,2,   0.672,2,   0.327,2,   0.161,2,  2263.4,2, 2362.57,2,  1119.25,2,      20,   7.5811,2,       25,-999.000,1,   0.3501,2, -999.00,9,  -999.0,9,  -999.0,  39.26413024,2,  34.98536585,2,  2097.8,     18.922,2,    34.8414,2,     -999.0,1,         -999.0,9,  -999.0,9,20140127,       2307
33RO20131223,       A16S,     107,          1,          6,          6,2,20140127,       2233,   -56.9988,   -32.2876,       3703,  2298.6,   0.2582,  34.6731,2,  34.6742,2,    216.5,2,   216.5,2,   120.1,2,    32.6,2,    0.00,2,   2.250,2,   0.724,2,   0.353,2,   0.193,2,  2261.4,2, 2361.05,2,  1118.67,2,      20,   7.5787,2,       25,-999.000,9,   0.2581,2, -999.00,9,  -999.0,9,  -999.0,  39.24144732,2,  35.15121951,2,  2298.6,     18.791,2,    34.8377,2,     -999.0,1,         -999.0,9,  -999.0,9,20140127,       2303
33RO20131223,       A16S,     107,          1,          5,          5,2,20140127,       2233,   -56.9988,   -32.2876,       3703,  2597.4,   0.1672,  34.6692,2,  34.6681,2,    221.1,2,   220.6,2,   120.8,2,    32.6,2,    0.00,2,   2.250,2,   0.825,2,   0.402,2,   0.219,2,  2260.7,2, 2354.52,2,  1112.05,2,      20,   7.5803,6,       25,-999.000,1,   0.1673,2, -999.00,9,  -999.0,9,  -999.0,  39.35486191,2,  35.17073171,2,  2597.4,     18.681,2,    34.8315,2,     -999.0,1,         -999.0,9,  -999.0,9,20140127,       2257
33RO20131223,       A16S,     107,          1,          4,          4,2,20140127,       2233,   -56.9988,   -32.2876,       3703,  2898.3,   0.0856,  34.6650,2,  34.6643,2,    224.1,2,   223.9,2,   121.8,6,    32.6,6,    0.01,6,   2.250,6,   0.892,6,   0.434,2,   0.254,6,  2261.3,2, 2354.98,6,  1117.15,2,      20,   7.5832,2,       25,-999.000,9,   0.0855,2, -999.00,9,  -999.0,9,  -999.0,  39.30949607,2,  35.22926829,2,  2898.3,     18.616,6,    34.8278,6,     -999.0,1,         -999.0,9,  -999.0,9,20140127,       2250
33RO20131223,       A16S,     107,          1,          3,          3,2,20140127,       2233,   -56.9988,   -32.2876,       3703,  3197.7,   0.0572,  34.6630,2,  34.6624,2,    225.6,2,   225.6,2,   122.1,6,    32.6,6,    0.02,6,   2.256,6,   0.945,2,   0.460,2,   0.223,2,  2258.9,2, 2359.74,2,  1113.21,2,      20,   7.5818,2,       25,-999.000,1,    0.057,2, -999.00,9,  -999.0,9,  -999.0,  39.14315467,2,  35.29756098,2,  3197.7,     18.531,2,    34.8259,2,     -999.0,1,         -999.0,9,  -999.0,9,20140127,       2244
33RO20131223,       A16S,     107,          1,          2,          2,2,20140127,       2233,   -56.9988,   -32.2876,       3703,  3497.4,   0.0574,  34.6621,2,  34.6622,2,    227.1,2,   226.5,2,   122.4,6,    32.5,6,    0.01,6,   2.248,6,   0.968,2,   0.471,2,   0.252,2,  2258.9,2,  2358.9,2, 1113.155,6,      20,   7.5847,2,       25,-999.000,9,   0.0575,2, -999.00,9,  -999.0,9,  -999.0,    39.052423,2,        35.17,2,  3497.4,     18.541,2,    34.8257,2,     -999.0,1,         -999.0,9,  -999.0,9,20140127,       2238
33RO20131223,       A16S,     107,          1,          1,          1,2,20140127,       2233,   -56.9988,   -32.2876,       3703,  3751.5,   0.0733,  34.6616,2,  34.6612,2,    228.7,2,   227.6,2,   122.8,6,    32.6,6,    0.01,6,   2.248,6,   0.974,2,   0.476,2,   0.289,2,  2260.2,6, 2352.85,2,  1115.43,2,      20,   7.5856,2,       25,-999.000,1,   0.0731,2, -999.00,9,  -999.0,9,  -999.0,  39.01461814,2,        35.12,2,  3751.5,     18.519,2,    34.8247,2,     -999.0,1,         -999.0,9,  -999.0,9,20140127,       2233