BOTTLE,20220815CCHSIOAMB
EXPOCODE,SECT_ID,STNNBR,CASTNO,SAMPNO,BTLNBR,BTLNBR_FLAG_W,DATE,TIME,LATITUDE,LONGITUDE,DEPTH,CTDPRS,CTDTMP,CTDSAL,CTDSAL_FLAG_W,SALNTY,SALNTY_FLAG_W,CTDOXY,CTDOXY_FLAG_W,OXYGEN,OXYGEN_FLAG_W,SILCAT,SILCAT_FLAG_W,NITRAT,NITRAT_FLAG_W,NITRIT,NITRIT_FLAG_W,PHSPHT,PHSPHT_FLAG_W,CFC-11,CFC-11_FLAG_W,CFC-12,CFC-12_FLAG_W,SF6,SF6_FLAG_W,TCARBN,TCARBN_FLAG_W,ALKALI,ALKALI_FLAG_W,PCO2,PCO2_FLAG_W,PCO2TMP,PH_SWS,PH_SWS_FLAG_W,PH_TMP,TRITUM,TRITUM_FLAG_W,REFTMP,REFTMP_FLAG_W,DELC13,DELC13_FLAG_W,DELC14,DELC14_FLAG_W,C14ERR,DOC,DOC_FLAG_W,TDN,TDN_FLAG_W,CTDRAW,N2O,N2O_FLAG_W,SALTREF,SALTREF_FLAG_W,HELIUM,HELIUM_FLAG_W,DELO18,DELO18_FLAG_W,CCL4,CCL4_FLAG_W,BTL_DATE,BTL_TIME
,,,,,,,,,,,METERS,DBAR,ITS-90,PSS-78,,PSS-78,,UMOL/KG,,UMOL/KG,,UMOL/KG,,UMOL/KG,,UMOL/KG,,UMOL/KG,,PMOL/KG,,PMOL/KG,,FMOL/KG,,UMOL/KG,,UMOL/KG,,UATM,,DEG C,,,DEG C,TU,,DEG C,,/MILLE,,/MILLE,,/MILLE,UMOL/KG,,UMOL/KG,,DBAR,NMOL/KG,,G/KG,,NMOL/KG,,/MILLE,,PMOL/KG,,,
33RO20131223,       A16S,      86,          1,         24,         24,2,20140121,       2152,   -48.5033,   -33.0671,       4961,     3.9,   7.0350,  33.9802,2,  33.9791,2,    299.5,2,   301.3,2,     3.3,2,    19.3,2,    0.19,2,   1.360,2,   4.273,2,   2.390,2,   2.490,2,  2110.2,6, 2279.89,2,-999.0000,9, -999.00,   7.7811,2,       25,-999.000,9,   7.0345,2, -999.00,9,  -999.0,9,  -999.0,-999.00000000,9,-999.00000000,9,     3.9,     11.935,2,    34.1393,2,     -999.0,9,         -999.0,9,  -999.0,9,20140121,       2342
33RO20131223,       A16S,      86,          1,         23,         23,2,20140121,       2152,   -48.5033,   -33.0671,       4961,    27.6,   6.7998,  33.9767,2,  33.9780,2,    300.9,2,   302.1,2,     3.2,2,    19.3,2,    0.18,2,   1.360,2,-999.000,9,-999.000,9,-999.000,9,  2109.7,2, 2277.35,2,-999.0000,9, -999.00,   7.7834,6,       25,-999.000,9,   6.8131,2, -999.00,9,  -999.0,9,  -999.0,-999.00000000,9,-999.00000000,9,    27.6,     -999.0,9,    34.1382,2,     -999.0,9,         -999.0,9,  -999.0,9,20140121,       2340
33RO20131223,       A16S,      86,          1,         22,         22,2,20140121,       2152,   -48.5033,   -33.0671,       4961,    67.8,   6.5653,  34.0350,2,  34.0363,2,    294.1,2,   294.4,2,     3.9,2,    19.7,2,    0.22,2,   1.426,2,   4.289,2,   2.398,2,   2.488,2,  -999.0,9, -999.00,9,-999.0000,9, -999.00,-999.0000,9,  -999.00,-999.000,9,   6.5608,2, -999.00,9,  -999.0,9,  -999.0,-999.00000000,9,-999.00000000,9,    67.8,     12.127,2,    34.1968,2,     -999.0,9,         -999.0,9,  -999.0,9,20140121,       2338
33RO20131223,       A16S,      86,          1,         21,         21,2,20140121,       2152,   -48.5033,   -33.0671,       4961,   107.6,   4.4474,  34.1035,2,  34.1042,2,    283.9,2,   282.7,2,     9.4,2,    24.9,2,    0.04,2,   1.714,2,-999.000,9,-999.000,9,-999.000,9,  2152.2,2, 2278.38,6,-999.0000,9, -999.00,   7.6859,2,       25,-999.000,9,   4.4485,2, -999.00,9,  -999.0,9,  -999.0,-999.00000000,9,-999.00000000,9,   107.6,     -999.0,9,     34.265,2,     -999.0,9,         -999.0,9,  -999.0,9,20140121,       2336
33RO20131223,       A16S,      86,          1,         20,         20,2,20140121,       2152,   -48.5033,   -33.0671,       4961,   172.5,   3.8705,  34.1086,2,  34.1094,2,    278.8,2,   278.9,2,    13.1,2,    26.2,2,    0.01,2,   1.799,2,   4.351,2,   2.367,2,   2.051,2,  -999.0,9, -999.00,9,-999.0000,9, -999.00,-999.0000,9,  -999.00,-999.000,9,   3.8702,2, -999.00,9,  -999.0,9,  -999.0,-999.00000000,9,-999.00000000,9,   172.5,     14.593,2,    34.2702,2,     -999.0,9,         -999.0,9,  -999.0,9,20140121,       2333
33RO20131223,       A16S,      86,          1,         19,         19,2,20140121,       2152,   -48.5033,   -33.0671,       4961,   258.7,   3.4560,  34.1099,2,  34.1094,2,    278.1,2,   276.7,2,    16.5,6,    27.2,6,    0.01,6,   1.868,6,-999.000,9,-999.000,9,-999.000,9,  2166.1,2, 2288.33,2,-999.0000,9, -999.00,   7.6583,2,       25,-999.000,9,   3.4564,2, -999.00,9,  -999.0,9,  -999.0,-999.00000000,9,-999.00000000,9,   258.7,     -999.0,9,    34.2702,2,     -999.0,9,         -999.0,9,  -999.0,9,20140121,       2331
33RO20131223,       A16S,      86,          1,         18,         18,2,20140121,       2152,   -48.5033,   -33.0671,       4961,   367.9,   2.9667,  34.1347,2,  34.1351,2,    262.9,2,   263.1,2,    23.4,6,    28.9,6,    0.01,6,   1.982,6,   3.921,2,   2.097,2,   1.769,2,  2180.2,2, 2292.67,2,-999.0000,9, -999.00,   7.6337,2,       25,-999.000,9,   2.9681,2, -999.00,9,  -999.0,9,  -999.0,-999.00000000,9,-999.00000000,9,   367.9,     16.788,2,     34.296,2,     -999.0,9,         -999.0,9,  -999.0,9,20140121,       2328
33RO20131223,       A16S,      86,          1,         17,         17,2,20140121,       2152,   -48.5033,   -33.0671,       4961,   467.4,   2.9637,  34.2133,2,  34.2124,2,    235.3,2,   233.8,2,    31.2,6,    30.7,6,    0.01,6,   2.108,6,-999.000,9,-999.000,9,-999.000,9,  -999.0,9, -999.00,9,-999.0000,9, -999.00,-999.0000,9,  -999.00,-999.000,9,   2.9635,2, -999.00,9,  -999.0,9,  -999.0,-999.00000000,9,-999.00000000,9,   467.4,     -999.0,9,    34.3737,6,     -999.0,9,         -999.0,9,  -999.0,9,20140121,       2325
33RO20131223,       A16S,      86,          1,         16,         16,2,20140121,       2152,   -48.5033,   -33.0671,       4961,   597.5,   2.7497,  34.2843,2,  34.2835,2,    206.2,2,   213.1,2,    41.2,2,    32.1,2,    0.01,2,   2.217,2,   2.527,2,   1.294,2,   0.851,2,    2217,2, 2307.55,2,-999.0000,9, -999.00,   7.5677,2,       25,-999.000,9,     2.75,2, -999.00,9,  -999.0,9,  -999.0,-999.00000000,9,-999.00000000,9,   597.5,     20.583,2,    34.4452,2,     -999.0,9,         -999.0,9,  -999.0,9,20140121,       2322
33RO20131223,       A16S,      86,          1,         15,         15,2,20140121,       2152,   -48.5033,   -33.0671,       4961,   773.4,   2.7905,  34.4263,2,  34.4309,2,      184,2,   184.8,2,    54.0,2,    33.0,2,    0.00,2,   2.286,2,-999.000,9,-999.000,9,-999.000,9,  2237.7,2, 2323.45,2,-999.0000,9, -999.00,   7.5552,2,       25,-999.000,9,   2.7974,2, -999.00,9,  -999.0,9,  -999.0,-999.00000000,9,-999.00000000,9,   773.4,     -999.0,9,    34.5933,2,     -999.0,9,         -999.0,9,  -999.0,9,20140121,       2317
33RO20131223,       A16S,      86,          1,         14,         14,2,20140121,       2152,   -48.5033,   -33.0671,       4961,   923.1,   2.5496,  34.4964,2,  34.4954,2,    177.3,2,   175.8,2,    63.9,2,    33.5,2,    0.00,2,   2.315,2,   0.956,2,   0.474,2,   0.252,2,  -999.0,9, -999.00,9,-999.0000,9, -999.00,-999.0000,9,  -999.00,-999.000,9,   2.5494,2, -999.00,9,  -999.0,9,  -999.0,-999.00000000,9,-999.00000000,9,   923.1,     22.628,2,    34.6581,2,     -999.0,9,         -999.0,9,  -999.0,9,20140121,       2314
33RO20131223,       A16S,      86,          1,         13,         13,2,20140121,       2152,   -48.5033,   -33.0671,       4961,  1097.3,   2.5280,  34.5787,2,  34.5790,2,    171.8,2,   171.9,2,    69.0,2,    33.0,2,    0.00,2,   2.279,2,-999.000,9,-999.000,9,-999.000,9,  2253.3,6, 2338.88,2,-999.0000,9, -999.00,   7.5483,2,       25,-999.000,9,   2.5277,2, -999.00,9,  -999.0,9,  -999.0,-999.00000000,9,-999.00000000,9,  1097.3,     -999.0,9,     34.742,2,     -999.0,9,         -999.0,9,  -999.0,9,20140121,       2310
33RO20131223,       A16S,      86,          1,         12,         12,2,20140121,       2152,   -48.5033,   -33.0671,       4961,  1248.5,   2.6431,  34.6542,2,  34.6548,2,    176.7,2,   177.1,2,    66.2,2,    31.5,2,    0.00,2,   2.164,2,-999.000,9,-999.000,9,-999.000,9,  2249.3,2, 2344.05,6,-999.0000,9, -999.00,   7.5709,2,       25,-999.000,9,   2.6433,2, -999.00,9,  -999.0,9,  -999.0,-999.00000000,9,-999.00000000,9,  1248.5,     -999.0,9,    34.8182,2,     -999.0,9,         -999.0,9,  -999.0,9,20140121,       2306
33RO20131223,       A16S,      86,          1,         11,         11,2,20140121,       2152,   -48.5033,   -33.0671,       4961,  1397.6,   2.6292,  34.7063,2,  34.7057,2,      184,2,   183.4,2,    65.7,2,    30.2,2,    0.00,2,   2.075,2,   0.245,2,   0.115,2,   0.043,2,    2244,2, 2344.62,2,-999.0000,9, -999.00,   7.5883,2,       25,-999.000,9,   2.6292,2, -999.00,9,  -999.0,9,  -999.0,-999.00000000,9,-999.00000000,9,  1397.6,     20.423,2,    34.8694,2,     -999.0,9,         -999.0,9,  -999.0,9,20140121,       2302
33RO20131223,       A16S,      86,          1,         10,         10,2,20140121,       2152,   -48.5033,   -33.0671,       4961,  1548.3,   2.4707,  34.7269,2,  34.7258,2,    184.1,2,   185.3,2,    70.5,2,    30.0,2,    0.00,2,   2.063,2,-999.000,9,-999.000,9,-999.000,9,  -999.0,9, -999.00,9,-999.0000,9, -999.00,-999.0000,9,  -999.00,-999.000,9,   2.4709,2, -999.00,9,  -999.0,9,  -999.0,-999.00000000,9,-999.00000000,9,  1548.3,     -999.0,9,    34.8895,2,     -999.0,9,         -999.0,9,  -999.0,9,20140121,       2259
33RO20131223,       A16S,      86,          1,          9,          9,2,20140121,       2152,   -48.5033,   -33.0671,       4961,  1747.3,   2.3434,  34.7489,2,  34.7493,2,    187.3,2,   191.8,2,    72.2,2,    29.3,2,    0.00,2,   2.017,2,-999.000,9,-999.000,9,-999.000,9,  2244.2,2, 2350.66,2,-999.0000,9, -999.00,   7.6037,2,       25,-999.000,9,   2.3432,2, -999.00,9,  -999.0,9,  -999.0,-999.00000000,9,-999.00000000,9,  1747.3,     -999.0,9,    34.9132,2,     -999.0,9,         -999.0,9,  -999.0,9,20140121,       2254
33RO20131223,       A16S,      86,          1,          8,          8,2,20140121,       2152,   -48.5033,   -33.0671,       4961,  1998.3,   2.1836,  34.7653,2,  34.7657,2,    196.2,2,   197.2,2,    74.7,2,    28.7,2,    0.00,2,   1.978,2,   0.149,2,   0.070,2,   0.038,2,  2242.8,2, 2350.72,2,-999.0000,9, -999.00,   7.6107,2,       25,-999.000,9,   2.1828,2, -999.00,9,  -999.0,9,  -999.0,-999.00000000,9,-999.00000000,9,  1998.3,     18.776,2,    34.9296,2,     -999.0,9,         -999.0,9,  -999.0,9,20140121,       2249
33RO20131223,       A16S,      86,          1,          7,          7,2,20140121,       2152,   -48.5033,   -33.0671,       4961,  2397.9,   1.8046,  34.7570,2,  34.7582,2,    201.2,2,   200.6,2,    84.5,2,    29.1,2,    0.00,2,   2.009,2,-999.000,9,-999.000,9,-999.000,9,  2246.9,2, 2355.78,2,-999.0000,9, -999.00,   7.6133,2,       25,-999.000,9,   1.8044,2, -999.00,9,  -999.0,9,  -999.0,-999.00000000,9,-999.00000000,9,  2397.9,     -999.0,9,    34.9221,2,     -999.0,9,         -999.0,9,  -999.0,9,20140121,       2241
33RO20131223,       A16S,      86,          1,          6,          6,2,20140121,       2152,   -48.5033,   -33.0671,       4961,  2798.5,   1.3119,  34.7251,2,  34.7256,2,      201,2,   200.7,2,   100.8,2,    30.6,2,    0.00,2,   2.111,2,-999.000,9,-999.000,9,-999.000,9,  -999.0,9, -999.00,9,-999.0000,9, -999.00,-999.0000,9,  -999.00,-999.000,9,    1.312,2, -999.00,9,  -999.0,9,  -999.0,-999.00000000,9,-999.00000000,9,  2798.5,     -999.0,9,    34.8893,2,     -999.0,9,         -999.0,9,  -999.0,9,20140121,       2234
33RO20131223,       A16S,      86,          1,          5,          5,2,20140121,       2152,   -48.5033,   -33.0671,       4961,  3197.6,   0.9204,  34.7051,2,  34.7049,2,    206.6,2,   207.2,2,   109.8,6,    31.1,6,    0.00,6,   2.152,6,   0.325,2,   0.157,2,   0.117,2,  2259.2,2, 2364.81,2,-999.0000,9, -999.00,   7.5921,2,       25,-999.000,9,   0.9201,2, -999.00,9,  -999.0,9,  -999.0,-999.00000000,9,-999.00000000,9,  3197.6,     18.714,2,    34.8686,6,     -999.0,9,         -999.0,9,  -999.0,9,20140121,       2226
33RO20131223,       A16S,      86,          1,          4,          4,2,20140121,       2152,   -48.5033,   -33.0671,       4961,  3596.6,   0.6315,  34.6914,2,  34.6912,2,    211.7,2,   212.4,2,   115.5,6,    31.5,6,    0.00,6,   2.180,6,-999.000,9,-999.000,9,-999.000,9,  2260.7,2, 2365.61,2,-999.0000,9, -999.00,   7.5909,6,       25,-999.000,9,   0.6312,2, -999.00,9,  -999.0,9,  -999.0,-999.00000000,9,-999.00000000,9,  3596.6,     -999.0,9,    34.8548,2,     -999.0,9,         -999.0,9,  -999.0,9,20140121,       2218
33RO20131223,       A16S,      86,          1,          3,          3,2,20140121,       2152,   -48.5033,   -33.0671,       4961,  3997.1,   0.3626,  34.6779,2,  34.6779,2,    216.8,2,     218,2,   121.4,2,    31.8,2,    0.00,2,   2.207,2,   0.405,2,   0.190,2,   0.071,2,  2262.7,2, 2369.11,2,-999.0000,9, -999.00,   7.5856,2,       25,-999.000,9,   0.3628,2, -999.00,9,  -999.0,9,  -999.0,-999.00000000,9,-999.00000000,9,  3997.1,     18.390,2,    34.8414,2,     -999.0,9,         -999.0,9,  -999.0,9,20140121,       2211
33RO20131223,       A16S,      86,          1,          2,          2,2,20140121,       2152,   -48.5033,   -33.0671,       4961,  4497.4,   0.2532,  34.6708,2,  34.6709,2,    221.1,2,   221.2,2,   124.3,6,    31.9,6,    0.00,6,   2.216,6,-999.000,9,-999.000,9,-999.000,9,  2264.2,2,  2366.3,6,-999.0000,9, -999.00,   7.5901,2,       25,-999.000,9,   0.2533,2, -999.00,9,  -999.0,9,  -999.0,-999.00000000,9,-999.00000000,9,  4497.4,     -999.0,9,    34.8344,2,     -999.0,9,         -999.0,9,  -999.0,9,20140121,       2202
33RO20131223,       A16S,      86,          1,          1,          1,2,20140121,       2152,   -48.5033,   -33.0671,       4961,  5047.6,   0.2184,  34.6656,2,  34.6659,2,    224.1,2,   223.5,2,   125.7,6,    32.0,6,    0.01,6,   2.221,6,   0.624,6,   0.299,2,   0.127,6,  2265.5,6, 2367.14,2,-999.0000,9, -999.00,   7.5917,2,       25,-999.000,9,   0.2185,2, -999.00,9,  -999.0,9,  -999.0,-999.00000000,9,-999.00000000,9,  5047.6,     18.278,6,    34.8293,2,     -999.0,9,         -999.0,9,  -999.0,9,20140121,       2152