BOTTLE,20220815CCHSIOAMB
EXPOCODE,SECT_ID,STNNBR,CASTNO,SAMPNO,BTLNBR,BTLNBR_FLAG_W,DATE,TIME,LATITUDE,LONGITUDE,DEPTH,CTDPRS,CTDTMP,CTDSAL,CTDSAL_FLAG_W,SALNTY,SALNTY_FLAG_W,CTDOXY,CTDOXY_FLAG_W,OXYGEN,OXYGEN_FLAG_W,SILCAT,SILCAT_FLAG_W,NITRAT,NITRAT_FLAG_W,NITRIT,NITRIT_FLAG_W,PHSPHT,PHSPHT_FLAG_W,CFC-11,CFC-11_FLAG_W,CFC-12,CFC-12_FLAG_W,SF6,SF6_FLAG_W,TCARBN,TCARBN_FLAG_W,ALKALI,ALKALI_FLAG_W,PCO2,PCO2_FLAG_W,PCO2TMP,PH_SWS,PH_SWS_FLAG_W,PH_TMP,TRITUM,TRITUM_FLAG_W,REFTMP,REFTMP_FLAG_W,DELC13,DELC13_FLAG_W,DELC14,DELC14_FLAG_W,C14ERR,DOC,DOC_FLAG_W,TDN,TDN_FLAG_W,CTDRAW,N2O,N2O_FLAG_W,SALTREF,SALTREF_FLAG_W,HELIUM,HELIUM_FLAG_W,DELO18,DELO18_FLAG_W,CCL4,CCL4_FLAG_W,BTL_DATE,BTL_TIME
,,,,,,,,,,,METERS,DBAR,ITS-90,PSS-78,,PSS-78,,UMOL/KG,,UMOL/KG,,UMOL/KG,,UMOL/KG,,UMOL/KG,,UMOL/KG,,PMOL/KG,,PMOL/KG,,FMOL/KG,,UMOL/KG,,UMOL/KG,,UATM,,DEG C,,,DEG C,TU,,DEG C,,/MILLE,,/MILLE,,/MILLE,UMOL/KG,,UMOL/KG,,DBAR,NMOL/KG,,G/KG,,NMOL/KG,,/MILLE,,PMOL/KG,,,
33RO20131223,       A16S,      96,          1,         24,         24,2,20140125,       1525,    -53.257,   -36.0277,       3295,     2.6,   2.0566,  33.8218,2,  33.8204,2,    327.3,2,   328.6,2,    15.8,2,    22.0,2,    0.23,2,   1.554,2,   5.600,2,   3.110,2,   2.986,2,  2153.5,6, 2293.45,2,-999.0000,9, -999.00,    7.714,2,       25,-999.000,9,   2.0575,2, -999.00,9,  -999.0,9,  -999.0,-999.00000000,9,-999.00000000,9,     2.6,     14.093,2,    33.9799,2,     -999.0,9,         -999.0,9,  -999.0,9,20140125,       1650
33RO20131223,       A16S,      96,          1,         23,         23,2,20140125,       1525,    -53.257,   -36.0277,       3295,    18.9,   1.9759,  33.8221,2,  33.8204,2,    326.8,2,   328.6,2,    15.9,2,    22.0,2,    0.23,2,   1.555,2,-999.000,9,-999.000,9,-999.000,9,  2152.6,2, 2295.36,2,-999.0000,9, -999.00,   7.7129,6,       25,-999.000,9,   1.9804,2, -999.00,9,  -999.0,9,  -999.0,-999.00000000,9,-999.00000000,9,    18.9,     -999.0,9,    33.9799,2,     -999.0,9,         -999.0,9,  -999.0,9,20140125,       1649
33RO20131223,       A16S,      96,          1,         22,         22,2,20140125,       1525,    -53.257,   -36.0277,       3295,    47.5,   1.8893,  33.8211,2,  33.8184,2,    327.8,2,   329.2,2,    15.8,2,    22.0,2,    0.22,2,   1.551,2,   5.583,2,   3.103,2,   2.994,2,  2153.5,2, 2289.85,6,-999.0000,9, -999.00,    7.713,2,       25,-999.000,9,   1.8891,2, -999.00,9,  -999.0,9,  -999.0,-999.00000000,9,-999.00000000,9,    47.5,     14.056,2,    33.9778,2,     -999.0,9,         -999.0,9,  -999.0,9,20140125,       1646
33RO20131223,       A16S,      96,          1,         21,         21,2,20140125,       1525,    -53.257,   -36.0277,       3295,    98.4,   0.4485,  33.9973,2,  34.0113,2,    293.5,2,   289.3,2,    34.7,2,    27.9,2,    0.30,2,   2.065,2,-999.000,9,-999.000,9,-999.000,9,  2193.9,2, 2297.65,2,-999.0000,9, -999.00,   7.6125,2,       25,-999.000,9,   0.4461,2, -999.00,9,  -999.0,9,  -999.0,-999.00000000,9,-999.00000000,9,    98.4,     -999.0,9,    34.1716,2,     -999.0,9,         -999.0,9,  -999.0,9,20140125,       1644
33RO20131223,       A16S,      96,          1,         20,         20,2,20140125,       1525,    -53.257,   -36.0277,       3295,   172.8,   1.7620,  34.3079,2,  34.3042,2,    222.6,2,   211.8,2,    54.3,2,    33.7,2,    0.03,2,   2.331,2,-999.000,9,-999.000,9,-999.000,9,  -999.0,9, -999.00,9,-999.0000,9, -999.00,-999.0000,9,  -999.00,-999.000,9,    1.751,2, -999.00,9,  -999.0,9,  -999.0,-999.00000000,9,-999.00000000,9,   172.8,     -999.0,9,     34.466,2,     -999.0,9,         -999.0,9,  -999.0,9,20140125,       1641
33RO20131223,       A16S,      96,          1,         19,         19,2,20140125,       1525,    -53.257,   -36.0277,       3295,   247.9,   2.1127,  34.4451,2,  34.4434,2,    188.3,2,   184.5,2,    64.4,2,    34.1,2,    0.02,2,   2.362,2,   1.543,2,   0.792,2,   0.540,2,  2248.8,2, 2330.56,2,-999.0000,9, -999.00,   7.5272,2,       25,-999.000,9,   2.1123,2, -999.00,9,  -999.0,9,  -999.0,-999.00000000,9,-999.00000000,9,   247.9,     22.619,2,    34.6058,2,     -999.0,9,         -999.0,9,  -999.0,9,20140125,       1639
33RO20131223,       A16S,      96,          1,         18,         18,2,20140125,       1525,    -53.257,   -36.0277,       3295,   322.7,   2.0513,  34.5101,2,  34.5109,2,    176.1,2,   175.7,2,    71.0,2,    34.2,2,    0.00,2,   2.363,2,-999.000,9,-999.000,9,-999.000,9,  -999.0,9, -999.00,9,-999.0000,9, -999.00,-999.0000,9,  -999.00,-999.000,9,   2.0522,2, -999.00,9,  -999.0,9,  -999.0,-999.00000000,9,-999.00000000,9,   322.7,     -999.0,9,    34.6737,2,     -999.0,9,         -999.0,9,  -999.0,9,20140125,       1636
33RO20131223,       A16S,      96,          1,         17,         17,2,20140125,       1525,    -53.257,   -36.0277,       3295,   397.9,   2.0726,  34.5699,2,  34.5700,2,    172.2,2,   172.9,2,    75.2,2,    33.7,2,    0.00,2,   2.329,2,   0.805,2,   0.406,2,   0.270,2,    2259,2, 2343.64,2,-999.0000,9, -999.00,   7.5342,2,       25,-999.000,9,   2.0727,2, -999.00,9,  -999.0,9,  -999.0,-999.00000000,9,-999.00000000,9,   397.9,     22.376,2,    34.7331,2,     -999.0,9,         -999.0,9,  -999.0,9,20140125,       1633
33RO20131223,       A16S,      96,          1,         16,         16,2,20140125,       1525,    -53.257,   -36.0277,       3295,   467.8,   2.0533,  34.6078,2,  34.6065,2,    171.9,2,   171.1,2,    77.9,2,    33.3,2,    0.00,2,   2.301,2,-999.000,9,-999.000,9,-999.000,9,  -999.0,9, -999.00,9,-999.0000,9, -999.00,-999.0000,9,  -999.00,-999.000,9,   2.0531,2, -999.00,9,  -999.0,9,  -999.0,-999.00000000,9,-999.00000000,9,   467.8,     -999.0,9,    34.7697,2,     -999.0,9,         -999.0,9,  -999.0,9,20140125,       1631
33RO20131223,       A16S,      96,          1,         15,         15,2,20140125,       1525,    -53.257,   -36.0277,       3295,     598,   1.9771,  34.6571,2,  34.6570,2,    173.7,2,   173.7,2,    82.7,2,    32.6,2,    0.00,2,   2.253,2,   0.397,6,   0.198,2,   0.143,6,  2262.7,2, 2353.73,2,-999.0000,9, -999.00,   7.5542,2,       25,-999.000,9,   1.9768,2, -999.00,9,  -999.0,9,  -999.0,-999.00000000,9,-999.00000000,9,   598.0,     20.864,6,    34.8204,6,     -999.0,9,         -999.0,9,  -999.0,9,20140125,       1627
33RO20131223,       A16S,      96,          1,         14,         14,2,20140125,       1525,    -53.257,   -36.0277,       3295,   698.2,   1.8987,  34.6783,2,  34.6773,2,      175,2,   175.6,2,    85.9,2,    32.2,2,    0.00,2,   2.231,2,-999.000,9,-999.000,9,-999.000,9,  -999.0,9, -999.00,9,-999.0000,9, -999.00,-999.0000,9,  -999.00,-999.000,9,   1.8988,2, -999.00,9,  -999.0,9,  -999.0,-999.00000000,9,-999.00000000,9,   698.2,     -999.0,9,    34.8408,2,     -999.0,9,         -999.0,9,  -999.0,9,20140125,       1625
33RO20131223,       A16S,      96,          1,         13,         13,2,20140125,       1525,    -53.257,   -36.0277,       3295,   798.3,   1.8137,  34.6920,2,  34.6914,2,    178.1,2,   177.5,2,    88.8,2,    32.0,2,    0.00,2,   2.216,2,   0.269,2,   0.131,2,   0.071,2,    2263,2, 2360.26,2,-999.0000,9, -999.00,    7.567,2,       25,-999.000,9,   1.8132,2, -999.00,9,  -999.0,9,  -999.0,-999.00000000,9,-999.00000000,9,   798.3,     20.286,2,     34.855,2,     -999.0,9,         -999.0,9,  -999.0,9,20140125,       1622
33RO20131223,       A16S,      96,          1,         12,         12,2,20140125,       1525,    -53.257,   -36.0277,       3295,   948.3,   1.6430,  34.7030,2,  34.7021,2,    182.6,2,   182.8,2,    92.2,2,    31.7,2,    0.00,2,   2.196,2,-999.000,9,-999.000,9,-999.000,9,  -999.0,9, -999.00,9,-999.0000,9, -999.00,-999.0000,9,  -999.00,-999.000,9,   1.6432,2, -999.00,9,  -999.0,9,  -999.0,-999.00000000,9,-999.00000000,9,   948.3,     -999.0,9,    34.8657,2,     -999.0,9,         -999.0,9,  -999.0,9,20140125,       1618
33RO20131223,       A16S,      96,          1,         11,         11,2,20140125,       1525,    -53.257,   -36.0277,       3295,  1097.6,   1.4659,  34.7056,2,  34.7083,2,    187.2,2,   188.7,2,    95.8,2,    31.5,2,    0.00,2,   2.183,2,-999.000,9,-999.000,9,-999.000,9,    2263,2, 2358.01,2,-999.0000,9, -999.00,   7.5821,2,       25,-999.000,9,   1.4657,2, -999.00,9,  -999.0,9,  -999.0,-999.00000000,9,-999.00000000,9,  1097.6,     -999.0,9,    34.8719,2,     -999.0,9,         -999.0,9,  -999.0,9,20140125,       1614
33RO20131223,       A16S,      96,          1,         10,         10,2,20140125,       1525,    -53.257,   -36.0277,       3295,  1247.7,   1.3150,  34.7068,2,  34.7064,2,    190.9,2,   191.8,2,    99.1,2,    31.4,2,    0.00,2,   2.176,2,-999.000,9,-999.000,9,-999.000,9,  -999.0,9, -999.00,9,-999.0000,9, -999.00,-999.0000,9,  -999.00,-999.000,9,   1.3149,2, -999.00,9,  -999.0,9,  -999.0,-999.00000000,9,-999.00000000,9,  1247.7,     -999.0,9,    34.8701,2,     -999.0,9,         -999.0,9,  -999.0,9,20140125,       1610
33RO20131223,       A16S,      96,          1,          9,          9,2,20140125,       1525,    -53.257,   -36.0277,       3295,  1349.3,   1.2444,  34.7071,2,  34.7067,2,    191.8,2,   193.2,2,   101.4,2,    31.4,2,    0.01,2,   2.179,2,   0.287,2,   0.143,2,   0.116,2,  2262.5,2, 2359.36,2,-999.0000,9, -999.00,   7.5848,2,       25,-999.000,9,   1.2445,2, -999.00,9,  -999.0,9,  -999.0,-999.00000000,9,-999.00000000,9,  1349.3,     19.105,2,    34.8704,2,     -999.0,9,         -999.0,9,  -999.0,9,20140125,       1607
33RO20131223,       A16S,      96,          1,          8,          8,2,20140125,       1525,    -53.257,   -36.0277,       3295,  1548.4,   1.0395,  34.7018,2,  34.7007,2,      196,2,   197.9,2,   105.1,2,    31.5,2,    0.00,2,   2.179,2,-999.000,9,-999.000,9,-999.000,9,  -999.0,9, -999.00,9,-999.0000,9, -999.00,-999.0000,9,  -999.00,-999.000,9,   1.0387,2, -999.00,9,  -999.0,9,  -999.0,-999.00000000,9,-999.00000000,9,  1548.4,     -999.0,9,    34.8644,2,     -999.0,9,         -999.0,9,  -999.0,9,20140125,       1603
33RO20131223,       A16S,      96,          1,          7,          7,2,20140125,       1525,    -53.257,   -36.0277,       3295,  1748.5,   0.8758,  34.6965,2,  34.6968,2,    200.8,2,   201.4,2,   108.5,2,    31.5,2,    0.00,2,   2.186,2,-999.000,9,-999.000,9,-999.000,9,  2262.6,2, 2360.03,2,-999.0000,9, -999.00,   7.5817,2,       25,-999.000,9,   0.8759,2, -999.00,9,  -999.0,9,  -999.0,-999.00000000,9,-999.00000000,9,  1748.5,     -999.0,9,    34.8604,2,     -999.0,9,         -999.0,9,  -999.0,9,20140125,       1558
33RO20131223,       A16S,      96,          1,          6,          6,2,20140125,       1525,    -53.257,   -36.0277,       3295,  1946.8,   0.7414,  34.6915,2,  34.6919,2,    203.4,2,   204.5,2,   110.5,2,    31.6,2,    0.00,2,   2.191,2,-999.000,9,-999.000,9,-999.000,9,  -999.0,9, -999.00,9,-999.0000,9, -999.00,-999.0000,9,  -999.00,-999.000,9,   0.7415,2, -999.00,9,  -999.0,9,  -999.0,-999.00000000,9,-999.00000000,9,  1946.8,     -999.0,9,    34.8555,2,     -999.0,9,         -999.0,9,  -999.0,9,20140125,       1554
33RO20131223,       A16S,      96,          1,          5,          5,2,20140125,       1525,    -53.257,   -36.0277,       3295,  2148.1,   0.6462,  34.6888,2,  34.6886,2,    205.9,2,   206.6,2,   112.7,2,    31.7,2,    0.01,2,   2.198,2,   0.530,2,   0.259,2,   0.161,2,  2263.3,2, 2364.73,6,-999.0000,9, -999.00,   7.5853,2,       25,-999.000,9,   0.6461,2, -999.00,9,  -999.0,9,  -999.0,-999.00000000,9,-999.00000000,9,  2148.1,     18.572,2,    34.8521,2,     -999.0,9,         -999.0,9,  -999.0,9,20140125,       1549
33RO20131223,       A16S,      96,          1,          4,          4,2,20140125,       1525,    -53.257,   -36.0277,       3295,  2448.2,   0.5624,  34.6853,2,  34.6860,2,    208.3,2,   208.5,2,   114.4,6,    31.8,6,    0.01,6,   2.203,6,-999.000,9,-999.000,9,-999.000,9,  -999.0,9, -999.00,9,-999.0000,9, -999.00,-999.0000,9,  -999.00,-999.000,9,    0.562,2, -999.00,9,  -999.0,9,  -999.0,-999.00000000,9,-999.00000000,9,  2448.2,     -999.0,9,    34.8496,2,     -999.0,9,         -999.0,9,  -999.0,9,20140125,       1543
33RO20131223,       A16S,      96,          1,          3,          3,2,20140125,       1525,    -53.257,   -36.0277,       3295,  2748.4,   0.4389,  34.6799,2,  34.6810,2,    211.6,2,   212.9,2,   115.6,6,    31.8,6,    0.00,6,   2.208,6,-999.000,9,-999.000,9,-999.000,9,  -999.0,9, -999.00,9,-999.0000,9, -999.00,-999.0000,9,  -999.00,-999.000,9,   0.4386,2, -999.00,9,  -999.0,9,  -999.0,-999.00000000,9,-999.00000000,9,  2748.4,     -999.0,9,    34.8446,6,     -999.0,9,         -999.0,9,  -999.0,9,20140125,       1537
33RO20131223,       A16S,      96,          1,          2,          2,2,20140125,       1525,    -53.257,   -36.0277,       3295,  3047.3,   0.3109,  34.6748,2,  34.6749,2,    215.2,2,   216.3,2,   118.1,6,    31.9,6,    0.00,6,   2.214,6,   0.619,2,   0.302,2,   0.167,2,  2260.9,2, 2359.61,2,-999.0000,9, -999.00,    7.583,6,       25,-999.000,9,   0.3106,2, -999.00,9,  -999.0,9,  -999.0,-999.00000000,9,-999.00000000,9,  3047.3,     18.246,2,    34.8384,2,     -999.0,9,         -999.0,9,  -999.0,9,20140125,       1531
33RO20131223,       A16S,      96,          1,          1,          1,2,20140125,       1525,    -53.257,   -36.0277,       3295,  3338.5,   0.1074,  34.6674,2,  34.6740,4,    220.9,2,     217,3,   118.1,6,    31.9,6,    0.00,6,   2.221,6,   0.636,2,   0.307,2,   0.169,2,  2262.5,6, 2359.01,2,-999.0000,9, -999.00,   7.5857,2,       25,-999.000,9,    0.107,2, -999.00,9,  -999.0,9,  -999.0,-999.00000000,9,-999.00000000,9,  3338.5,     18.251,2,    34.8375,2,     -999.0,9,         -999.0,9,  -999.0,9,20140125,       1525