BOTTLE,20220815CCHSIOAMB
EXPOCODE,SECT_ID,STNNBR,CASTNO,SAMPNO,BTLNBR,BTLNBR_FLAG_W,DATE,TIME,LATITUDE,LONGITUDE,DEPTH,CTDPRS,CTDTMP,CTDSAL,CTDSAL_FLAG_W,SALNTY,SALNTY_FLAG_W,CTDOXY,CTDOXY_FLAG_W,OXYGEN,OXYGEN_FLAG_W,SILCAT,SILCAT_FLAG_W,NITRAT,NITRAT_FLAG_W,NITRIT,NITRIT_FLAG_W,PHSPHT,PHSPHT_FLAG_W,CFC-11,CFC-11_FLAG_W,CFC-12,CFC-12_FLAG_W,SF6,SF6_FLAG_W,TCARBN,TCARBN_FLAG_W,ALKALI,ALKALI_FLAG_W,PCO2,PCO2_FLAG_W,PCO2TMP,PH_SWS,PH_SWS_FLAG_W,PH_TMP,TRITUM,TRITUM_FLAG_W,REFTMP,REFTMP_FLAG_W,DELC13,DELC13_FLAG_W,DELC14,DELC14_FLAG_W,C14ERR,DOC,DOC_FLAG_W,TDN,TDN_FLAG_W,CTDRAW,N2O,N2O_FLAG_W,SALTREF,SALTREF_FLAG_W,HELIUM,HELIUM_FLAG_W,DELO18,DELO18_FLAG_W,CCL4,CCL4_FLAG_W,BTL_DATE,BTL_TIME
,,,,,,,,,,,METERS,DBAR,ITS-90,PSS-78,,PSS-78,,UMOL/KG,,UMOL/KG,,UMOL/KG,,UMOL/KG,,UMOL/KG,,UMOL/KG,,PMOL/KG,,PMOL/KG,,FMOL/KG,,UMOL/KG,,UMOL/KG,,UATM,,DEG C,,,DEG C,TU,,DEG C,,/MILLE,,/MILLE,,/MILLE,UMOL/KG,,UMOL/KG,,DBAR,NMOL/KG,,G/KG,,NMOL/KG,,/MILLE,,PMOL/KG,,,
33RO20131223,       A16S,      45,          2,         24,         24,2,20140108,       1938,   -28.0001,   -25.0002,       5323,     3.3,  26.0035,  36.4385,2,  36.4393,2,    204.7,2,   205.4,2,     0.9,2,     0.0,2,    0.00,2,   0.048,2,   1.604,3,   1.035,2,   1.230,2,  2082.3,6, 2390.28,2,   347.69,2,      20,   8.0297,2,       25,-999.000,9,  26.0043,2,    1.29,2,    52.0,2,     2.4,  68.13875323,2,         4.33,2,     3.3,      6.346,2,    36.6112,2,     -999.0,9,         -999.0,9,  -999.0,9,20140108,       2132
33RO20131223,       A16S,      45,          2,         23,         23,2,20140108,       1938,   -28.0001,   -25.0002,       5323,      18,  25.8876,  36.4415,2,  36.4452,2,    204.4,2,   206.2,2,     0.9,2,     0.0,2,    0.00,2,   0.047,2,   1.614,3,   1.042,6,   1.261,6,  2082.9,2, 2394.78,6,   346.88,2,      20,   8.0272,2,       25,-999.000,9,  25.8849,2,    1.29,2,    64.1,2,     2.6,        66.54,2,         3.85,2,    18.0,      6.353,6,     36.617,2,     -999.0,9,         -999.0,9,  -999.0,9,20140108,       2131
33RO20131223,       A16S,      45,          2,         22,         22,2,20140108,       1938,   -28.0001,   -25.0002,       5323,    48.5,  22.9508,  36.5380,2,  36.5239,2,      223,2,   224.5,2,     0.9,2,     0.0,2,    0.00,2,   0.062,2,   1.856,3,   1.186,2,   1.331,2,  2089.2,2, 2400.16,2,   348.07,2,      20,    8.029,2,       25,-999.000,9,   22.952,2,    1.36,2,    58.4,2,     2.4,        64.58,2,         3.81,2,    48.5,      7.010,2,    36.6962,2,     -999.0,9,         -999.0,9,  -999.0,9,20140108,       2129
33RO20131223,       A16S,      45,          2,         21,         21,2,20140108,       1938,   -28.0001,   -25.0002,       5323,      73,  21.3032,  36.3932,2,  36.4042,2,    228.3,2,   229.3,2,     0.9,2,     0.0,2,    0.00,2,   0.069,2,   1.967,3,   1.239,2,   1.364,2,  2087.1,2, 2389.72,2,   354.46,2,      20,   8.0198,2,       25,-999.000,9,  21.3015,2,    1.33,2,    57.8,2,     2.6,        63.49,2,         3.53,2,    73.0,      7.246,2,    36.5758,2,     -999.0,9,         -999.0,9,  -999.0,9,20140108,       2127
33RO20131223,       A16S,      45,          2,         20,         20,2,20140108,       1938,   -28.0001,   -25.0002,       5323,    97.9,  20.5428,  36.3276,2,  36.3319,2,    226.1,2,   226.8,2,     1.0,2,     0.0,2,    0.00,2,   0.082,2,   2.003,3,   1.250,2,   1.399,2,  2088.8,2, 2386.17,2,   363.75,2,      20,   8.0099,2,       25,-999.000,9,  20.5445,2,    1.26,2,    59.2,2,     2.6,        61.48,2,         3.25,2,    97.9,      7.395,2,    36.5032,2,     -999.0,9,         -999.0,9,  -999.0,9,20140108,       2125
33RO20131223,       A16S,      45,          2,         19,         19,2,20140108,       1938,   -28.0001,   -25.0002,       5323,     147,  18.3741,  35.9806,2,  35.9736,2,    220.8,2,   219.3,2,     1.1,2,     0.1,2,    0.03,2,   0.175,2,   2.215,3,   1.365,2,   1.452,2,  2098.7,2, 2362.55,2,   414.31,2,      20,   7.9593,2,       25,-999.000,9,  18.3825,2,    1.09,2,    56.1,2,     2.9,        57.36,2,         3.05,2,   147.0,      8.114,2,    36.1433,2,     -999.0,9,         -999.0,9,  -999.0,9,20140108,       2123
33RO20131223,       A16S,      45,          2,         18,         18,2,20140108,       1938,   -28.0001,   -25.0002,       5323,   217.5,  15.9269,  35.6186,2,  35.6197,2,    210.6,2,   209.7,2,     2.0,2,     4.0,2,    0.01,2,   0.424,2,   2.476,3,   1.501,2,   1.459,2,    2112,2, 2343.04,2,   479.99,6,      20,   7.8975,2,       25,-999.000,9,  15.9385,2,    0.94,2,    54.6,2,     2.8,        52.19,2,         6.75,2,   217.5,      9.779,2,    35.7876,2,     -999.0,9,         -999.0,9,  -999.0,9,20140108,       2121
33RO20131223,       A16S,      45,          2,         17,         17,2,20140108,       1938,   -28.0001,   -25.0002,       5323,   298.9,  14.0523,  35.3406,2,  35.3376,2,    210.4,2,   209.3,2,     2.8,2,     7.7,2,    0.01,2,   0.632,2,   2.710,3,   1.620,2,   1.419,2,  2119.2,2, 2325.12,2,   540.69,6,      20,    7.855,2,       25,-999.000,9,  14.0564,2,    0.96,2,    63.3,2,     3.2,        47.46,2,        10.29,2,   298.9,     11.561,2,    35.5043,2,     -999.0,9,         -999.0,9,  -999.0,9,20140108,       2119
33RO20131223,       A16S,      45,          2,         16,         16,2,20140108,       1938,   -28.0001,   -25.0002,       5323,   408.3,  12.3604,  35.1254,2,  35.1232,2,    209.9,2,   208.9,2,     4.1,2,    11.7,2,    0.01,2,   0.868,2,   2.903,3,   1.708,2,   1.310,2,  2132.6,2, 2317.25,2,   608.32,2,      20,   7.8119,2,       25,-999.000,9,  12.3593,2,    0.94,2,    50.6,2,     2.4,        45.04,2,        14.29,2,   408.3,     13.099,2,    35.2888,2,     -999.0,9,         -999.0,9,  -999.0,9,20140108,       2116
33RO20131223,       A16S,      45,          2,         15,         15,2,20140108,       1938,   -28.0001,   -25.0002,       5323,   566.7,   9.4927,  34.7452,2,  34.7385,2,    202.8,2,   201.6,2,     8.4,2,    19.3,2,    0.00,2,   1.343,2,   3.029,3,   1.710,2,   1.042,2,  2153.6,2, 2295.97,2,   760.44,2,      20,   7.7248,2,       25,-999.000,9,   9.5076,2,    0.94,2,    26.7,2,     2.4,        43.05,2,        21.66,2,   566.7,     15.541,2,    34.9023,2,     -999.0,9,         -999.0,9,  -999.0,9,20140108,       2112
33RO20131223,       A16S,      45,          2,         14,         14,2,20140108,       1938,   -28.0001,   -25.0002,       5323,   718.1,   6.6410,  34.4443,2,  34.4405,2,    205.9,2,   205.4,2,    15.4,2,    26.0,2,    0.00,2,   1.769,2,   2.978,3,   1.612,2,   0.816,2,  2173.5,2, 2288.86,2,   903.81,2,      20,   7.6567,2,       25,-999.000,9,   6.6381,2,    0.94,2,    -9.6,2,     2.1,  41.00152831,2,        28.56,2,   718.1,     17.473,2,    34.6029,2,     -999.0,9,         -999.0,9,  -999.0,9,20140108,       2109
33RO20131223,       A16S,      45,          2,         13,         13,2,20140108,       1938,   -28.0001,   -25.0002,       5323,   871.5,   4.6416,  34.3155,2,  34.3152,2,    213.6,2,   213.8,2,    24.7,2,    29.5,2,    0.00,2,   2.009,2,   2.592,3,   1.359,2,   0.650,2,  2188.9,2, 2291.77,2,   980.48,2,      20,   7.6202,2,       25,-999.000,9,    4.643,2,    0.97,2,   -46.5,2,     2.0,  39.66242316,2,        32.06,2,   871.5,     18.491,2,     34.477,6,     -999.0,9,         -999.0,9,  -999.0,9,20140108,       2105
33RO20131223,       A16S,      45,          2,         12,         12,2,20140108,       1938,   -28.0001,   -25.0002,       5323,    1048,   3.7567,  34.3559,2,  34.3553,2,    200.5,2,   200.8,2,    37.4,2,    31.7,2,    0.00,2,   2.170,2,   1.711,3,   0.879,6,   0.360,6,  2209.4,2, 2304.23,6,   1054.6,2,      20,   7.5927,2,       25,-999.000,9,   3.7559,2,    0.83,2,   -89.0,2,     2.1,  39.33689483,2,        34.36,2,  1048.0,     20.123,6,    34.5173,2,     -999.0,9,         -999.0,9,  -999.0,9,20140108,       2101
33RO20131223,       A16S,      45,          2,         11,         11,2,20140108,       1938,   -28.0001,   -25.0002,       5323,  1347.9,   3.1038,  34.5633,2,  34.5619,2,    182.7,2,   183.5,2,    53.1,2,    31.9,2,    0.00,2,   2.188,2,   0.417,3,   0.209,2,   0.067,2,  2230.4,6, 2326.76,2,  1089.38,2,      20,   7.5811,2,       25,-999.000,9,   3.1041,2,    0.66,2,  -124.8,2,     1.9,  39.75860198,2,        34.58,2,  1347.9,     21.011,2,    34.7248,2,     -999.0,9,         -999.0,9,  -999.0,9,20140108,       2055
33RO20131223,       A16S,      45,          2,         10,         10,2,20140108,       1938,   -28.0001,   -25.0002,       5323,  1747.6,   2.8252,  34.7528,2,  34.7523,2,    204.1,2,   205.1,2,    51.0,2,    27.7,2,    0.00,2,   1.883,2,   0.079,3,   0.035,2,   0.000,2,  2217.9,2, 2333.09,2,   950.54,2,      20,   7.6373,6,       25,-999.000,9,   2.8251,2,    0.75,2,  -126.5,2,     2.0,  40.35047166,2,        30.21,2,  1747.6,     18.100,2,    34.9161,2,     -999.0,9,         -999.0,9,  -999.0,9,20140108,       2048
33RO20131223,       A16S,      45,          2,          9,          9,2,20140108,       1938,   -28.0001,   -25.0002,       5323,  2146.4,   2.8666,  34.8672,2,  34.8673,2,      232,2,   232.6,2,    38.9,2,    23.3,2,    0.00,2,   1.569,2,   0.032,3,   0.011,2,   0.000,2,  2193.3,2, 2330.37,2,   821.79,2,      20,   7.6924,2,       25,-999.000,9,   2.8662,2,    0.96,2,  -112.3,2,     2.0,  41.47502406,2,        25.95,2,  2146.4,     15.204,2,    35.0317,2,     -999.0,9,         -999.0,9,  -999.0,9,20140108,       2040
33RO20131223,       A16S,      45,          2,          8,          8,2,20140108,       1938,   -28.0001,   -25.0002,       5323,  2597.2,   2.8517,  34.9098,2,  34.9091,2,    244.8,2,   244.9,2,    33.6,2,    21.5,2,    0.00,2,   1.437,2,   0.036,3,   0.013,2,   0.047,2,  2182.8,2, 2326.18,2, 777.4275,6,      20,   7.7193,2,       25,-999.000,9,   2.8518,2,    1.01,2,  -108.8,2,     1.9,  41.94112143,2,        24.03,2,  2597.2,     14.033,2,    35.0737,2,     -999.0,9,         -999.0,9,  -999.0,9,20140108,       2032
33RO20131223,       A16S,      45,          2,          7,          7,2,20140108,       1938,   -28.0001,   -25.0002,       5323,  3097.5,   2.6384,  34.9068,2,  34.9076,2,    248.1,2,   248.4,2,    36.4,2,    21.3,2,    0.00,2,   1.429,2,   0.040,3,   0.015,2,   0.000,2,  2184.2,2, 2328.96,2,    769.8,2,      20,   7.7191,2,       25,-999.000,9,   2.6384,2,    1.01,2,  -105.6,2,     1.8,  41.67478008,2,        23.69,2,  3097.5,     13.723,2,    35.0722,2,     -999.0,9,         -999.0,9,  -999.0,9,20140108,       2023
33RO20131223,       A16S,      45,          2,          6,          6,2,20140108,       1938,   -28.0001,   -25.0002,       5323,  3497.1,   2.2800,  34.8760,2,  34.8756,2,    246.3,2,   245.5,2,    47.7,2,    22.5,2,    0.00,2,   1.522,2,   0.034,3,   0.012,2,   0.074,2,  2194.7,2, 2335.88,2,   794.75,2,      20,   7.7084,2,       25,-999.000,9,   2.2803,2,    0.97,2,  -113.2,2,     2.3,  41.17908922,2,        25.06,2,  3497.1,     14.136,2,      35.04,2,     -999.0,9,         -999.0,9,  -999.0,9,20140108,       2015
33RO20131223,       A16S,      45,          2,          5,          5,2,20140108,       1938,   -28.0001,   -25.0002,       5323,  3897.7,   1.6997,  34.8160,2,  34.8148,2,    235.6,2,   236.6,2,    70.6,2,    25.7,2,    0.00,2,   1.742,2,   0.030,3,   0.009,2,   0.282,2,    2217,2, 2350.73,2,   862.37,2,      20,   7.6803,2,       25,-999.000,9,   1.7008,2,    0.83,2,  -129.2,2,     1.8,  40.43185375,2,        28.22,2,  3897.7,     15.371,2,     34.979,2,     -999.0,9,         -999.0,9,  -999.0,9,20140108,       2007
33RO20131223,       A16S,      45,          2,          4,          4,2,20140108,       1938,   -28.0001,   -25.0002,       5323,  4296.1,   1.3429,  34.7740,2,  34.7735,2,    228.4,2,   229.3,2,    86.5,6,    27.8,6,    0.00,6,   1.898,6,   0.049,3,   0.019,6,   0.239,6,  2233.7,2, 2359.57,2,    919.9,2,      20,   7.6548,2,       25,-999.000,9,    1.343,2,    0.74,2,  -151.8,2,     3.4,  39.66242316,2,        30.33,2,  4296.1,     16.192,6,    34.9375,2,     -999.0,9,         -999.0,9,  -999.0,9,20140108,       1959
33RO20131223,       A16S,      45,          2,          3,          3,2,20140108,       1938,   -28.0001,   -25.0002,       5323,  4696.2,   1.2476,  34.7608,2,  34.7608,2,    227.4,2,   227.6,2,    91.4,6,    28.4,6,    0.00,6,   1.945,6,   0.051,3,   0.020,2,   0.212,2,  2237.7,2, 2356.44,2,   928.88,2,      20,   7.6475,6,       25,-999.000,9,   1.2479,2,    0.69,2,  -142.9,2,     2.1,  39.55144759,2,        30.92,2,  4696.2,     16.461,2,    34.9247,6,     -999.0,9,         -999.0,9,  -999.0,9,20140108,       1952
33RO20131223,       A16S,      45,          2,          2,          2,2,20140108,       1938,   -28.0001,   -25.0002,       5323,  5096.9,   1.2388,  34.7562,2,  34.7552,2,    227.8,2,   227.4,2,    93.0,6,    28.6,6,    0.00,6,   1.959,6,   0.059,3,   0.024,2,   0.275,2,  2239.5,2, 2359.81,6,  936.755,6,      20,    7.646,2,       25,-999.000,9,    1.239,2,    0.67,2,  -150.0,2,     1.9,  38.94478117,2,        31.16,2,  5096.9,     16.510,2,    34.9191,2,     -999.0,9,         -999.0,9,  -999.0,9,20140108,       1944
33RO20131223,       A16S,      45,          2,          1,          1,2,20140108,       1938,   -28.0001,   -25.0002,       5323,  5401.8,   1.1763,  34.7467,2,  34.7468,2,    226.9,2,   226.4,2,    96.2,6,    29.1,6,    0.00,6,   1.987,6,   0.064,3,   0.026,2,   0.183,2,  2245.1,6, -999.00,5,    951.3,2,      20,   7.6477,2,       25,-999.000,9,   1.1764,2,    0.67,2,  -152.5,2,     2.2,  38.82640723,2,        31.74,2,  5401.8,     16.588,2,    34.9106,2,     -999.0,9,         -999.0,9,  -999.0,9,20140108,       1938