BOTTLE,20220815CCHSIOAMB
EXPOCODE,SECT_ID,STNNBR,CASTNO,SAMPNO,BTLNBR,BTLNBR_FLAG_W,DATE,TIME,LATITUDE,LONGITUDE,DEPTH,CTDPRS,CTDTMP,CTDSAL,CTDSAL_FLAG_W,SALNTY,SALNTY_FLAG_W,CTDOXY,CTDOXY_FLAG_W,OXYGEN,OXYGEN_FLAG_W,SILCAT,SILCAT_FLAG_W,NITRAT,NITRAT_FLAG_W,NITRIT,NITRIT_FLAG_W,PHSPHT,PHSPHT_FLAG_W,CFC-11,CFC-11_FLAG_W,CFC-12,CFC-12_FLAG_W,SF6,SF6_FLAG_W,TCARBN,TCARBN_FLAG_W,ALKALI,ALKALI_FLAG_W,PCO2,PCO2_FLAG_W,PCO2TMP,PH_SWS,PH_SWS_FLAG_W,PH_TMP,TRITUM,TRITUM_FLAG_W,REFTMP,REFTMP_FLAG_W,DELC13,DELC13_FLAG_W,DELC14,DELC14_FLAG_W,C14ERR,DOC,DOC_FLAG_W,TDN,TDN_FLAG_W,CTDRAW,N2O,N2O_FLAG_W,SALTREF,SALTREF_FLAG_W,HELIUM,HELIUM_FLAG_W,DELO18,DELO18_FLAG_W,CCL4,CCL4_FLAG_W,BTL_DATE,BTL_TIME
,,,,,,,,,,,METERS,DBAR,ITS-90,PSS-78,,PSS-78,,UMOL/KG,,UMOL/KG,,UMOL/KG,,UMOL/KG,,UMOL/KG,,UMOL/KG,,PMOL/KG,,PMOL/KG,,FMOL/KG,,UMOL/KG,,UMOL/KG,,UATM,,DEG C,,,DEG C,TU,,DEG C,,/MILLE,,/MILLE,,/MILLE,UMOL/KG,,UMOL/KG,,DBAR,NMOL/KG,,G/KG,,NMOL/KG,,/MILLE,,PMOL/KG,,,
33RO20131223,       A16S,      74,          1,         24,         24,2,20140117,       1425,   -42.5005,   -29.3474,       4506,     6.2,  13.0777,  34.4964,2,  34.4977,2,    268.4,2,   268.2,2,     0.7,2,     5.1,2,    0.08,2,   0.509,2,   3.007,2,   1.766,2,   1.893,2,  2067.6,6, 2298.53,2,-999.0000,9, -999.00,   7.9155,6,       25,-999.000,9,  13.0797,2, -999.00,9,  -999.0,9,  -999.0,-999.00000000,9,-999.00000000,9,     6.2,      9.480,2,    34.6604,2,     -999.0,9,         -999.0,9,  -999.0,9,20140117,       1609
33RO20131223,       A16S,      74,          1,         23,         23,2,20140117,       1425,   -42.5005,   -29.3474,       4506,    29.5,  12.9452,  34.6119,2,  34.5668,2,    268.3,2,   268.1,2,     0.8,2,     5.0,2,    0.09,2,   0.507,2,-999.000,9,-999.000,9,-999.000,9,  -999.0,9, -999.00,9,-999.0000,9, -999.00,-999.0000,9,  -999.00,-999.000,9,   12.927,2, -999.00,9,  -999.0,9,  -999.0,-999.00000000,9,-999.00000000,9,    29.5,     -999.0,9,    34.7298,2,     -999.0,9,         -999.0,9,  -999.0,9,20140117,       1607
33RO20131223,       A16S,      74,          1,         22,         22,2,20140117,       1425,   -42.5005,   -29.3474,       4506,      64,  12.1239,  34.8503,2,  34.8512,2,      260,2,   259.3,2,     1.3,2,     6.0,2,    0.31,2,   0.610,2,-999.000,9,-999.000,9,-999.000,9,  2096.6,2, 2308.47,6,-999.0000,9, -999.00,   7.8803,2,       25,-999.000,9,  12.1271,2, -999.00,9,  -999.0,9,  -999.0,-999.00000000,9,-999.00000000,9,    64.0,     -999.0,9,    35.0156,2,     -999.0,9,         -999.0,9,  -999.0,9,20140117,       1605
33RO20131223,       A16S,      74,          1,         21,         21,2,20140117,       1425,   -42.5005,   -29.3474,       4506,   114.1,  11.5419,  34.9235,2,  34.9255,2,    254.4,2,   254.6,2,     1.9,2,     8.5,2,    0.02,2,   0.701,2,-999.000,9,-999.000,9,-999.000,9,  2108.3,2, 2317.76,2,-999.0000,9, -999.00,   7.8565,2,       25,-999.000,9,  11.5473,2, -999.00,9,  -999.0,9,  -999.0,-999.00000000,9,-999.00000000,9,   114.1,     -999.0,9,    35.0902,2,     -999.0,9,         -999.0,9,  -999.0,9,20140117,       1603
33RO20131223,       A16S,      74,          1,         20,         20,2,20140117,       1425,   -42.5005,   -29.3474,       4506,   182.1,  10.9224,  34.9180,2,  34.9299,2,    253.3,2,   252.2,2,     2.5,2,    10.3,2,    0.02,2,   0.810,2,-999.000,9,-999.000,9,-999.000,9,  2118.3,2, 2313.02,2,-999.0000,9, -999.00,   7.8321,2,       25,-999.000,9,  10.9222,2, -999.00,9,  -999.0,9,  -999.0,-999.00000000,9,-999.00000000,9,   182.1,     -999.0,9,    35.0946,2,     -999.0,9,         -999.0,9,  -999.0,9,20140117,       1601
33RO20131223,       A16S,      74,          1,         19,         19,2,20140117,       1425,   -42.5005,   -29.3474,       4506,   258.3,   9.2106,  34.6649,2,  34.6668,2,      240,2,   240.2,2,     4.4,2,    16.0,2,    0.02,2,   1.149,2,-999.000,9,-999.000,9,-999.000,9,    2135,2, 2301.01,2,-999.0000,9, -999.00,   7.7688,2,       25,-999.000,9,   9.2128,2, -999.00,9,  -999.0,9,  -999.0,-999.00000000,9,-999.00000000,9,   258.3,     -999.0,9,    34.8302,2,     -999.0,9,         -999.0,9,  -999.0,9,20140117,       1558
33RO20131223,       A16S,      74,          1,         18,         18,2,20140117,       1425,   -42.5005,   -29.3474,       4506,   348.3,   7.0034,  34.3983,2,  34.4002,2,    238.5,2,   238.6,2,     7.4,2,    22.2,2,    0.03,2,   1.531,2,-999.000,9,-999.000,9,-999.000,9,  2152.2,2, 2282.69,2,-999.0000,9, -999.00,   7.7002,2,       25,-999.000,9,    7.008,2, -999.00,9,  -999.0,9,  -999.0,-999.00000000,9,-999.00000000,9,   348.3,     -999.0,9,    34.5624,2,     -999.0,9,         -999.0,9,  -999.0,9,20140117,       1556
33RO20131223,       A16S,      74,          1,         17,         17,2,20140117,       1425,   -42.5005,   -29.3474,       4506,     448,   5.2262,  34.2135,2,  34.2156,2,    251.3,2,     253,2,    10.1,2,    25.3,2,    0.01,2,   1.744,2,-999.000,9,-999.000,9,-999.000,9,  2157.5,2, 2276.05,2,-999.0000,9, -999.00,   7.6722,2,       25,-999.000,9,   5.2264,2, -999.00,9,  -999.0,9,  -999.0,-999.00000000,9,-999.00000000,9,   448.0,     -999.0,9,    34.3769,2,     -999.0,9,         -999.0,9,  -999.0,9,20140117,       1553
33RO20131223,       A16S,      74,          1,         16,         16,2,20140117,       1425,   -42.5005,   -29.3474,       4506,   573.6,   4.4076,  34.1783,2,  34.1776,2,    256.8,2,   257.6,2,    14.1,2,    26.8,2,    0.01,2,   1.847,2,   4.061,2,   2.165,2,   1.617,2,  2164.2,2, 2280.08,2,-999.0000,9, -999.00,   7.6589,2,       25,-999.000,9,   4.4079,2, -999.00,9,  -999.0,9,  -999.0,-999.00000000,9,-999.00000000,9,   573.6,     15.351,2,    34.3387,2,     -999.0,9,         -999.0,9,  -999.0,9,20140117,       1549
33RO20131223,       A16S,      74,          1,         15,         15,2,20140117,       1425,   -42.5005,   -29.3474,       4506,   722.2,   3.7418,  34.1803,2,  34.1799,2,    248.9,2,   248.5,2,    20.6,2,    28.8,2,    0.01,2,   1.978,2,-999.000,9,-999.000,9,-999.000,9,  -999.0,9, -999.00,9,-999.0000,9, -999.00,-999.0000,9,  -999.00,-999.000,9,   3.7425,2, -999.00,9,  -999.0,9,  -999.0,-999.00000000,9,-999.00000000,9,   722.2,     -999.0,9,    34.3411,6,     -999.0,9,         -999.0,9,  -999.0,9,20140117,       1545
33RO20131223,       A16S,      74,          1,         14,         14,2,20140117,       1425,   -42.5005,   -29.3474,       4506,   873.2,   3.2467,  34.2265,2,  34.2259,2,    231.4,2,   230.3,2,    30.4,2,    30.9,2,    0.01,2,   2.119,2,-999.000,9,-999.000,9,-999.000,9,  2195.8,2,  2297.5,2,-999.0000,9, -999.00,   7.6043,2,       25,-999.000,9,   3.2474,2, -999.00,9,  -999.0,9,  -999.0,-999.00000000,9,-999.00000000,9,   873.2,     -999.0,9,    34.3873,2,     -999.0,9,         -999.0,9,  -999.0,9,20140117,       1542
33RO20131223,       A16S,      74,          1,         13,         13,2,20140117,       1425,   -42.5005,   -29.3474,       4506,  1047.5,   3.0645,  34.3393,2,  34.3392,2,      201,2,   201.5,2,    43.5,2,    32.6,2,    0.01,2,   2.251,2,   1.852,2,   0.937,2,   0.515,2,  2219.3,2, 2307.55,2,-999.0000,9, -999.00,   7.5735,2,       25,-999.000,9,   3.0649,2, -999.00,9,  -999.0,9,  -999.0,-999.00000000,9,-999.00000000,9,  1047.5,     20.960,2,    34.5011,2,     -999.0,9,         -999.0,9,  -999.0,9,20140117,       1537
33RO20131223,       A16S,      74,          1,         12,         12,2,20140117,       1425,   -42.5005,   -29.3474,       4506,  1248.5,   2.8426,  34.4419,2,  34.4407,2,    182.7,2,   182.9,2,    56.2,2,    33.8,2,    0.01,2,   2.322,2,-999.000,5,-999.000,5,-999.000,5,  2237.6,2, 2319.24,2,-999.0000,9, -999.00,    7.553,2,       25,-999.000,9,   2.8432,2, -999.00,9,  -999.0,9,  -999.0,-999.00000000,9,-999.00000000,9,  1248.5,     -999.0,5,    34.6031,2,     -999.0,9,         -999.0,9,  -999.0,9,20140117,       1533
33RO20131223,       A16S,      74,          1,         11,         11,2,20140117,       1425,   -42.5005,   -29.3474,       4506,  1449.4,   2.7722,  34.5553,2,  34.5536,2,    174.8,2,   175.4,2,    62.4,2,    33.2,2,    0.01,2,   2.283,2,-999.000,9,-999.000,9,-999.000,9,  -999.0,9, -999.00,9,-999.0000,9, -999.00,-999.0000,9,  -999.00,-999.000,9,   2.7727,2, -999.00,9,  -999.0,9,  -999.0,-999.00000000,9,-999.00000000,9,  1449.4,     -999.0,9,    34.7165,2,     -999.0,9,         -999.0,9,  -999.0,9,20140117,       1528
33RO20131223,       A16S,      74,          1,         10,         10,2,20140117,       1425,   -42.5005,   -29.3474,       4506,  1649.1,   2.6828,  34.6304,2,  34.6304,2,    174.7,2,     175,2,    67.2,2,    32.5,2,    0.00,2,   2.230,2,   0.367,2,   0.178,2,   0.077,2,  2247.9,6, 2340.67,2,-999.0000,9, -999.00,   7.5645,2,       25,-999.000,9,   2.6828,2, -999.00,9,  -999.0,9,  -999.0,-999.00000000,9,-999.00000000,9,  1649.1,     21.752,2,    34.7937,2,     -999.0,9,         -999.0,9,  -999.0,9,20140117,       1524
33RO20131223,       A16S,      74,          1,          9,          9,2,20140117,       1425,   -42.5005,   -29.3474,       4506,  1899.3,   2.6621,  34.7162,2,  34.7189,2,    184.1,2,   184.6,2,    66.7,2,    30.4,2,    0.00,2,   2.088,2,   0.233,2,   0.111,2,   0.057,2,  2241.4,2,  2341.3,6,-999.0000,9, -999.00,   7.5937,2,       25,-999.000,9,    2.662,2, -999.00,9,  -999.0,9,  -999.0,-999.00000000,9,-999.00000000,9,  1899.3,     20.313,2,    34.8826,2,     -999.0,9,         -999.0,9,  -999.0,9,20140117,       1519
33RO20131223,       A16S,      74,          1,          8,          8,2,20140117,       1425,   -42.5005,   -29.3474,       4506,  2098.6,   2.5137,  34.7518,2,  34.7517,2,    191.1,2,   191.7,2,    69.3,2,    29.6,2,    0.00,2,   2.026,2,-999.000,9,-999.000,9,-999.000,9,  2240.7,2, 2341.26,2,-999.0000,9, -999.00,   7.6062,2,       25,-999.000,9,   2.5136,2, -999.00,9,  -999.0,9,  -999.0,-999.00000000,9,-999.00000000,9,  2098.6,     -999.0,9,    34.9155,2,     -999.0,9,         -999.0,9,  -999.0,9,20140117,       1514
33RO20131223,       A16S,      74,          1,          7,          7,2,20140117,       1425,   -42.5005,   -29.3474,       4506,  2299.1,   2.5521,  34.8019,2,  34.8035,2,      205,2,   206.4,2,    61.9,2,    27.3,2,    0.00,2,   1.870,2,-999.000,9,-999.000,9,-999.000,9,  -999.0,9, -999.00,9,-999.0000,9, -999.00,-999.0000,9,  -999.00,-999.000,9,   2.5519,2, -999.00,9,  -999.0,9,  -999.0,-999.00000000,9,-999.00000000,9,  2299.1,     -999.0,9,    34.9676,2,     -999.0,9,         -999.0,9,  -999.0,9,20140117,       1510
33RO20131223,       A16S,      74,          1,          6,          6,2,20140117,       1425,   -42.5005,   -29.3474,       4506,  2599.8,   2.3384,  34.8061,2,  34.8078,2,    209.8,2,   210.5,2,    65.5,2,    27.1,2,    0.00,2,   1.853,2,   0.110,2,   0.053,2,   0.049,2,  2226.6,2, 2342.21,2,-999.0000,9, -999.00,   7.6432,2,       25,-999.000,9,   2.3386,2, -999.00,9,  -999.0,9,  -999.0,-999.00000000,9,-999.00000000,9,  2599.8,     17.620,2,    34.9719,2,     -999.0,9,         -999.0,9,  -999.0,9,20140117,       1504
33RO20131223,       A16S,      74,          1,          5,          5,2,20140117,       1425,   -42.5005,   -29.3474,       4506,  2998.7,   1.7327,  34.7550,2,  34.7556,2,    201.3,2,   202.8,2,    88.8,2,    29.7,2,    0.00,2,   2.041,2,   0.138,2,   0.067,2,   0.048,2,  2246.5,2, 2352.39,2,-999.0000,9, -999.00,   7.6147,6,       25,-999.000,9,   1.7326,2, -999.00,9,  -999.0,9,  -999.0,-999.00000000,9,-999.00000000,9,  2998.7,     18.565,2,    34.9195,2,     -999.0,9,         -999.0,9,  -999.0,9,20140117,       1456
33RO20131223,       A16S,      74,          1,          4,          4,2,20140117,       1425,   -42.5005,   -29.3474,       4506,  3398.5,   1.2358,  34.7256,2,  34.7354,4,      205,2,   205.2,2,   103.2,6,    30.9,6,    0.00,6,   2.125,6,   0.200,2,   0.096,2,   0.049,2,  -999.0,9, -999.00,9,-999.0000,9, -999.00,-999.0000,9,  -999.00,-999.000,9,   1.2358,2, -999.00,9,  -999.0,9,  -999.0,-999.00000000,9,-999.00000000,9,  3398.5,     18.637,2,    34.8992,2,     -999.0,9,         -999.0,9,  -999.0,9,20140117,       1448
33RO20131223,       A16S,      74,          1,          3,          3,2,20140117,       1425,   -42.5005,   -29.3474,       4506,  3798.5,   0.7902,  34.6993,2,  34.6998,2,    210.3,2,   210.2,2,   114.1,6,    31.8,6,    0.00,6,   2.190,6,   0.312,6,   0.149,2,   0.077,6,  2259.7,2, 2365.57,6,-999.0000,9, -999.00,   7.5935,2,       25,-999.000,9,   0.7901,2, -999.00,9,  -999.0,9,  -999.0,-999.00000000,9,-999.00000000,9,  3798.5,     18.631,6,    34.8634,2,     -999.0,9,         -999.0,9,  -999.0,9,20140117,       1441
33RO20131223,       A16S,      74,          1,          2,          2,2,20140117,       1425,   -42.5005,   -29.3474,       4506,    4198,   0.4398,  34.6802,2,  34.6806,2,    216.8,2,   216.1,2,   122.7,6,    32.3,6,    0.00,6,   2.229,6,   0.432,2,   0.203,2,   0.104,2,  -999.0,9, -999.00,9,-999.0000,9, -999.00,-999.0000,9,  -999.00,-999.000,9,   0.4399,2, -999.00,9,  -999.0,9,  -999.0,-999.00000000,9,-999.00000000,9,  4198.0,     18.439,2,    34.8441,2,     -999.0,9,         -999.0,9,  -999.0,9,20140117,       1433
33RO20131223,       A16S,      74,          1,          1,          1,2,20140117,       1425,   -42.5005,   -29.3474,       4506,  4578.3,   0.3150,  34.6726,2,  34.6729,2,    219.2,2,     219,2,   125.9,6,    32.4,6,    0.01,6,   2.248,6,   0.480,2,   0.226,2,   0.091,2,  2267.1,6, 2369.94,2,-999.0000,9, -999.00,-999.0000,5,       25,-999.000,9,   0.3148,2, -999.00,9,  -999.0,9,  -999.0,-999.00000000,9,-999.00000000,9,  4578.3,     18.321,2,    34.8364,2,     -999.0,9,         -999.0,9,  -999.0,9,20140117,       1425