BOTTLE,20220815CCHSIOAMB
EXPOCODE,SECT_ID,STNNBR,CASTNO,SAMPNO,BTLNBR,BTLNBR_FLAG_W,DATE,TIME,LATITUDE,LONGITUDE,DEPTH,CTDPRS,CTDTMP,CTDSAL,CTDSAL_FLAG_W,SALNTY,SALNTY_FLAG_W,CTDOXY,CTDOXY_FLAG_W,OXYGEN,OXYGEN_FLAG_W,SILCAT,SILCAT_FLAG_W,NITRAT,NITRAT_FLAG_W,NITRIT,NITRIT_FLAG_W,PHSPHT,PHSPHT_FLAG_W,CFC-11,CFC-11_FLAG_W,CFC-12,CFC-12_FLAG_W,SF6,SF6_FLAG_W,TCARBN,TCARBN_FLAG_W,ALKALI,ALKALI_FLAG_W,PCO2,PCO2_FLAG_W,PCO2TMP,PH_SWS,PH_SWS_FLAG_W,PH_TMP,TRITUM,TRITUM_FLAG_W,REFTMP,REFTMP_FLAG_W,DELC13,DELC13_FLAG_W,DELC14,DELC14_FLAG_W,C14ERR,DOC,DOC_FLAG_W,TDN,TDN_FLAG_W,CTDRAW,N2O,N2O_FLAG_W,SALTREF,SALTREF_FLAG_W,HELIUM,HELIUM_FLAG_W,DELO18,DELO18_FLAG_W,CCL4,CCL4_FLAG_W,BTL_DATE,BTL_TIME
,,,,,,,,,,,METERS,DBAR,ITS-90,PSS-78,,PSS-78,,UMOL/KG,,UMOL/KG,,UMOL/KG,,UMOL/KG,,UMOL/KG,,UMOL/KG,,PMOL/KG,,PMOL/KG,,FMOL/KG,,UMOL/KG,,UMOL/KG,,UATM,,DEG C,,,DEG C,TU,,DEG C,,/MILLE,,/MILLE,,/MILLE,UMOL/KG,,UMOL/KG,,DBAR,NMOL/KG,,G/KG,,NMOL/KG,,/MILLE,,PMOL/KG,,,
33RO20131223,       A16S,      23,          2,         24,         24,2,20140102,       0212,        -17,        -25,       5279,       3,  25.3953,  37.2540,2,  37.2536,2,    203.4,2,   204.5,2,     0.8,2,     0.0,2,    0.00,2,   0.101,2,   1.558,2,   1.057,2,   1.267,2,  2103.2,6, 2439.27,2,-999.0000,9, -999.00,   8.0586,2,       25,-999.000,1,  25.3914,2, -999.00,9,  -999.0,9,  -999.0,  77.59805839,2,         4.78,2,     3.0,      6.347,2,    37.4292,2,     -999.0,1,         -999.0,1,  -999.0,9,20140102,       0410
33RO20131223,       A16S,      23,          2,         23,         23,2,20140102,       0212,        -17,        -25,       5279,      10,  25.3995,  37.2540,2,  37.2538,2,    203.6,2,   204.5,2,     0.8,2,     0.0,2,    0.00,2,   0.103,2,   1.551,6,   1.045,6,   1.218,6,  2104.7,2,  2437.5,2,-999.0000,9, -999.00,    8.058,2,       25,-999.000,1,   25.399,2, -999.00,9,  -999.0,9,  -999.0,  76.96110743,2,         4.93,2,    10.0,      6.253,6,    37.4295,2,     -999.0,1,         -999.0,1,  -999.0,9,20140102,       0408
33RO20131223,       A16S,      23,          2,         22,         22,2,20140102,       0212,        -17,        -25,       5279,    38.1,  25.0145,  37.2529,2,  37.2499,2,    206.1,2,   207.2,2,     0.8,2,     0.0,2,    0.00,2,   0.118,2,   1.575,2,   1.114,2,   1.291,2,  2105.6,2, 2442.51,6,-999.0000,9, -999.00,   8.0576,2,       25,-999.000,1,  25.0141,2, -999.00,9,  -999.0,9,  -999.0,  71.15777641,2,         4.95,2,    38.1,      6.348,2,    37.4255,2,     -999.0,1,         -999.0,1,  -999.0,9,20140102,       0406
33RO20131223,       A16S,      23,          2,         21,         21,2,20140102,       0212,        -17,        -25,       5279,    68.6,  24.1624,  37.1526,2,  37.1495,2,      213,2,   214.1,2,     0.8,2,     0.0,2,    0.00,2,   0.143,2,   1.643,2,   1.105,2,   1.302,2,  2105.4,2, 2432.81,2,-999.0000,9, -999.00,   8.0484,2,       25,-999.000,1,  24.1801,2, -999.00,9,  -999.0,9,  -999.0,  66.76989199,2,         4.76,2,    68.6,      6.522,2,    37.3247,2,     -999.0,1,         -999.0,1,  -999.0,9,20140102,       0404
33RO20131223,       A16S,      23,          2,         20,         20,2,20140102,       0212,        -17,        -25,       5279,   117.4,  23.0640,  37.0427,2,  37.0494,2,      214,2,   214.3,2,     0.8,2,     0.0,2,    0.00,2,   0.173,2,   1.718,2,   1.142,2,   1.306,2,  2109.8,2,  2429.3,2,-999.0000,9, -999.00,   8.0345,2,       25,-999.000,1,  23.0642,2, -999.00,9,  -999.0,9,  -999.0,  60.65516273,2,         3.91,2,   117.4,      6.767,2,    37.2241,2,     -999.0,1,         -999.0,1,  -999.0,9,20140102,       0402
33RO20131223,       A16S,      23,          2,         19,         19,2,20140102,       0212,        -17,        -25,       5279,   198.1,  19.1161,  36.2275,2,  36.2048,3,    198.2,2,   197.3,2,     1.5,2,     3.1,2,    0.04,2,   0.439,2,   2.086,2,   1.352,2,   1.302,2,  2124.3,2, 2373.76,2,-999.0000,9, -999.00,   7.9335,2,       25,-999.000,1,  19.1097,2, -999.00,9,  -999.0,9,  -999.0,  54.20780352,2,         6.06,2,   198.1,      8.630,2,    36.3755,2,     -999.0,1,         -999.0,1,  -999.0,9,20140102,       0359
33RO20131223,       A16S,      23,          2,         18,         18,2,20140102,       0212,        -17,        -25,       5279,   297.6,  13.5831,  35.2711,2,  35.2604,2,      180,2,   176.7,2,     4.6,2,    12.9,2,    0.01,2,   0.954,2,   2.629,2,   1.586,2,   1.178,2,  2143.8,2,  2313.9,2,-999.0000,9, -999.00,   7.7895,2,       25,-999.000,1,  13.6189,2, -999.00,9,  -999.0,9,  -999.0,       46.588,2,        15.65,2,   297.6,     15.034,2,    35.4266,6,     -999.0,1,         -999.0,1,  -999.0,9,20140102,       0356
33RO20131223,       A16S,      23,          2,         17,         17,2,20140102,       0212,        -17,        -25,       5279,   398.1,  10.4037,  34.8701,2,  34.8714,2,    161.5,2,   161.8,2,     9.1,2,    21.1,2,    0.00,2,   1.446,2,   2.595,2,   1.469,2,   0.820,2,  2172.9,2, 2305.68,2,-999.0000,9, -999.00,   7.6837,6,       25,-999.000,1,  10.4104,2, -999.00,9,  -999.0,9,  -999.0,        45.53,2,        23.55,2,   398.1,     20.258,2,    35.0359,2,     -999.0,1,         -999.0,1,  -999.0,9,20140102,       0353
33RO20131223,       A16S,      23,          2,         16,         16,2,20140102,       0212,        -17,        -25,       5279,   518.2,   7.2205,  34.5801,2,  34.5775,2,    148.5,2,   148.6,2,    18.2,2,    29.6,2,    0.00,2,   1.974,2,   1.557,2,   0.825,2,   0.278,2,  2200.2,2, 2290.57,6,-999.0000,9, -999.00,   7.5829,2,       25,-999.000,1,   7.2204,2, -999.00,9,  -999.0,9,  -999.0,        43.87,2,        32.14,2,   518.2,     23.497,2,    34.7405,2,     -999.0,1,         -999.0,1,  -999.0,9,20140102,       0349
33RO20131223,       A16S,      23,          2,         15,         15,2,20140102,       0212,        -17,        -25,       5279,   669.7,   5.2770,  34.4528,2,  34.4523,2,    162.1,2,   162.5,2,    26.6,2,    32.4,2,    0.00,2,   2.171,2,   0.797,6,   0.413,6,   0.119,6,  2208.1,2, 2297.23,2,-999.0000,9, -999.00,   7.5744,2,       25,-999.000,1,   5.2689,2, -999.00,9,  -999.0,9,  -999.0,       42.631,2,        35.03,2,   669.7,     22.667,6,    34.6148,2,     -999.0,1,         -999.0,1,  -999.0,9,20140102,       0346
33RO20131223,       A16S,      23,          2,         14,         14,2,20140102,       0212,        -17,        -25,       5279,   818.9,   4.1533,  34.4410,2,  34.4398,2,    176.6,2,   175.6,2,    34.8,2,    32.7,2,    0.00,2,   2.222,2,   0.425,2,   0.222,2,   0.062,2,  2213.6,2,  2302.8,2,-999.0000,9, -999.00,   7.5731,2,       25,-999.000,1,   4.1526,2, -999.00,9,  -999.0,9,  -999.0,       41.391,2,        35.29,2,   818.9,     21.478,2,    34.6022,2,     -999.0,1,         -999.0,1,  -999.0,9,20140102,       0342
33RO20131223,       A16S,      23,          2,         13,         13,2,20140102,       0212,        -17,        -25,       5279,   997.6,   3.7728,  34.5378,2,  34.5364,2,    179.8,2,   180.7,2,    38.4,2,    31.7,2,    0.00,2,   2.158,2,   0.235,2,   0.125,2,   0.038,2,  2215.9,6, 2311.32,2,-999.0000,9, -999.00,    7.587,2,       25,-999.000,1,    3.773,2, -999.00,9,  -999.0,9,  -999.0,  40.91676006,2,        34.31,2,   997.6,     20.836,2,    34.6993,2,     -999.0,1,         -999.0,1,  -999.0,9,20140102,       0337
33RO20131223,       A16S,      23,          2,         12,         12,2,20140102,       0212,        -17,        -25,       5279,  1148.2,   3.9283,  34.6588,2,  34.6614,2,    182.6,2,   183.2,2,    34.4,2,    29.9,2,    0.00,2,   2.028,2,   0.108,2,   0.060,2,   0.000,2,  2211.9,2, 2314.03,2,-999.0000,9, -999.00,   7.6041,2,       25,-999.000,1,   3.9283,2, -999.00,9,  -999.0,9,  -999.0,   41.2918534,2,        32.57,2,  1148.2,     19.940,2,    34.8248,2,     -999.0,1,         -999.0,1,  -999.0,9,20140102,       0334
33RO20131223,       A16S,      23,          2,         11,         11,2,20140102,       0212,        -17,        -25,       5279,  1298.2,   4.0477,  34.7769,2,  34.7775,2,    192.3,2,     192,2,    29.2,2,    27.4,2,    0.00,2,   1.853,2,   0.040,2,   0.025,2,   0.000,2,  2202.9,2,  2314.7,2,-999.0000,9, -999.00,   7.6319,2,       25,-999.000,1,   4.0475,2, -999.00,9,  -999.0,9,  -999.0,  41.81556864,2,        30.11,2,  1298.2,     18.741,2,    34.9415,2,     -999.0,1,         -999.0,1,  -999.0,9,20140102,       0330
33RO20131223,       A16S,      23,          2,         10,         10,2,20140102,       0212,        -17,        -25,       5279,  1597.9,   3.7944,  34.8930,2,  34.8916,2,    221.5,2,   220.6,2,    25.7,2,    23.4,2,    0.00,2,   1.568,2,   0.049,2,   0.029,2,   0.000,2,  2186.1,2, 2317.06,2,-999.0000,9, -999.00,   7.6857,2,       25,-999.000,1,   3.7939,2, -999.00,9,  -999.0,9,  -999.0,  42.31097495,2,        26.02,2,  1597.9,     15.840,2,    35.0561,2,     -999.0,1,         -999.0,9,  -999.0,9,20140102,       0324
33RO20131223,       A16S,      23,          2,          9,          9,2,20140102,       0212,        -17,        -25,       5279,  1947.9,   3.3426,  34.9256,2,  34.9262,2,    239.7,2,   239.7,2,    27.2,2,    21.4,2,    0.00,2,   1.428,2,   0.065,2,   0.038,2,   0.019,2,  2178.3,2, 2322.88,2,-999.0000,9, -999.00,   7.6573,4,       25,-999.000,1,   3.3411,2, -999.00,9,  -999.0,9,  -999.0,   41.9995767,2,        23.88,2,  1947.9,     14.207,2,    35.0909,2,     -999.0,1,         -999.0,9,  -999.0,9,20140102,       0317
33RO20131223,       A16S,      23,          2,          8,          8,2,20140102,       0212,        -17,        -25,       5279,  2346.8,   2.9691,  34.9144,2,  34.9150,2,    243.3,2,   242.2,2,    33.2,2,    21.5,2,    0.00,2,   1.443,2,   0.032,2,   0.019,2,   0.016,2,    2182,2, 2327.63,2,-999.0000,9, -999.00,   7.7158,2,       25,-999.000,9,   2.9686,2, -999.00,9,  -999.0,9,  -999.0,  41.36970296,2,        24.04,2,  2346.8,     13.970,2,    35.0796,2,     -999.0,1,         -999.0,9,  -999.0,9,20140102,       0309
33RO20131223,       A16S,      23,          2,          7,          7,2,20140102,       0212,        -17,        -25,       5279,    2748,   2.7750,  34.9054,2,  34.9062,2,    243.9,2,   242.2,2,    37.4,2,    21.8,2,    0.00,2,   1.464,2,   0.013,2,   0.009,2,   0.000,2,  2186.8,2, 2331.61,2,-999.0000,9, -999.00,   7.7148,2,       25,-999.000,1,   2.7747,2, -999.00,9,  -999.0,9,  -999.0,  40.81767879,2,        24.06,2,  2748.0,     13.788,2,    35.0708,2,     -999.0,1,         -999.0,9,  -999.0,9,20140102,       0301
33RO20131223,       A16S,      23,          2,          6,          6,2,20140102,       0212,        -17,        -25,       5279,  3248.6,   2.6324,  34.9010,2,  34.8996,2,    244.7,2,   244.3,2,    39.4,6,    21.7,6,    0.00,6,   1.455,6,   0.012,2,   0.010,2,   0.036,2,  2187.8,2, 2333.98,6,-999.0000,9, -999.00,   7.7197,2,       25,-999.000,9,   2.6325,2, -999.00,9,  -999.0,9,  -999.0,        40.57,2,        24.29,2,  3248.6,     13.847,2,    35.0641,2,     -999.0,1,         -999.0,9,  -999.0,9,20140102,       0252
33RO20131223,       A16S,      23,          2,          5,          5,2,20140102,       0212,        -17,        -25,       5279,  3747.8,   2.2649,  34.8735,2,  34.8719,2,    245.6,2,   245.7,2,    48.7,6,    22.4,6,    0.00,6,   1.521,6,   0.012,2,   0.009,2,   0.000,2,  2193.8,2, 2341.73,2,-999.0000,9, -999.00,   7.7106,6,       25,-999.000,1,   2.2651,2, -999.00,9,  -999.0,9,  -999.0,        40.52,2,        25.19,2,  3747.8,     14.038,2,    35.0364,2,     -999.0,1,         -999.0,9,  -999.0,9,20140102,       0242
33RO20131223,       A16S,      23,          2,          4,          4,2,20140102,       0212,        -17,        -25,       5279,  4249.3,   1.4252,  34.7881,2,  34.7875,2,      233,2,   233.3,2,    81.2,6,    26.8,6,    0.00,6,   1.832,6,   0.014,2,   0.011,2,   0.052,2,  2225.4,2, 2357.51,2,-999.0000,9, -999.00,   7.6661,2,       25,-999.000,9,   1.4253,2, -999.00,9,  -999.0,9,  -999.0,        40.14,2,        29.51,2,  4249.3,     15.651,2,    34.9515,2,     -999.0,1,         -999.0,9,  -999.0,9,20140102,       0233
33RO20131223,       A16S,      23,          2,          3,          3,2,20140102,       0212,        -17,        -25,       5279,  4746.5,   0.9422,  34.7348,2,  34.7361,2,    225.4,2,   225.7,2,   101.2,6,    29.5,6,    0.00,6,   2.023,6,   0.056,2,   0.035,2,   0.024,2,  2246.1,2, 2362.01,2,-999.0000,9, -999.00,   7.6349,2,       25,-999.000,1,   0.9421,2, -999.00,9,  -999.0,9,  -999.0,  39.39515497,2,        32.03,2,  4746.5,     16.684,2,    34.8998,6,     -999.0,1,         -999.0,9,  -999.0,9,20140102,       0223
33RO20131223,       A16S,      23,          2,          2,          2,2,20140102,       0212,        -17,        -25,       5279,  5247.8,   0.8182,  34.7158,2,  34.7156,2,    223.1,2,     223,2,   108.4,6,    30.5,6,    0.00,6,   2.091,6,   0.100,2,   0.055,2,   0.048,2,  2252.2,2, 2365.32,2,-999.0000,9, -999.00,   7.6218,2,       25,-999.000,9,   0.8181,2, -999.00,9,  -999.0,9,  -999.0,  39.16868352,2,        32.95,2,  5247.8,     17.028,2,    34.8793,2,     -999.0,1,         -999.0,9,  -999.0,9,20140102,       0214
33RO20131223,       A16S,      23,          2,          1,          1,2,20140102,       0212,        -17,        -25,       5279,    5341,   0.7979,  34.7125,2,  34.7115,2,    222.8,2,   223.5,2,   109.6,6,    30.6,6,    0.00,6,   2.101,6,   0.113,2,   0.061,2,   0.054,2,  2254.5,6, 2368.53,2,-999.0000,9, -999.00,   7.6407,4,       25,-999.000,1,   0.7981,2, -999.00,9,  -999.0,9,  -999.0,        39.35,2,        32.85,2,  5341.0,     17.214,2,    34.8752,2,     -999.0,1,         -999.0,9,  -999.0,9,20140102,       0212