BOTTLE,20220815CCHSIOAMB
EXPOCODE,SECT_ID,STNNBR,CASTNO,SAMPNO,BTLNBR,BTLNBR_FLAG_W,DATE,TIME,LATITUDE,LONGITUDE,DEPTH,CTDPRS,CTDTMP,CTDSAL,CTDSAL_FLAG_W,SALNTY,SALNTY_FLAG_W,CTDOXY,CTDOXY_FLAG_W,OXYGEN,OXYGEN_FLAG_W,SILCAT,SILCAT_FLAG_W,NITRAT,NITRAT_FLAG_W,NITRIT,NITRIT_FLAG_W,PHSPHT,PHSPHT_FLAG_W,CFC-11,CFC-11_FLAG_W,CFC-12,CFC-12_FLAG_W,SF6,SF6_FLAG_W,TCARBN,TCARBN_FLAG_W,ALKALI,ALKALI_FLAG_W,PCO2,PCO2_FLAG_W,PCO2TMP,PH_SWS,PH_SWS_FLAG_W,PH_TMP,TRITUM,TRITUM_FLAG_W,REFTMP,REFTMP_FLAG_W,DELC13,DELC13_FLAG_W,DELC14,DELC14_FLAG_W,C14ERR,DOC,DOC_FLAG_W,TDN,TDN_FLAG_W,CTDRAW,N2O,N2O_FLAG_W,SALTREF,SALTREF_FLAG_W,HELIUM,HELIUM_FLAG_W,DELO18,DELO18_FLAG_W,CCL4,CCL4_FLAG_W,BTL_DATE,BTL_TIME
,,,,,,,,,,,METERS,DBAR,ITS-90,PSS-78,,PSS-78,,UMOL/KG,,UMOL/KG,,UMOL/KG,,UMOL/KG,,UMOL/KG,,UMOL/KG,,PMOL/KG,,PMOL/KG,,FMOL/KG,,UMOL/KG,,UMOL/KG,,UATM,,DEG C,,,DEG C,TU,,DEG C,,/MILLE,,/MILLE,,/MILLE,UMOL/KG,,UMOL/KG,,DBAR,NMOL/KG,,G/KG,,NMOL/KG,,/MILLE,,PMOL/KG,,,
33RO20131223,       A16S,       6,          1,         24,         24,2,20131227,       1920,    -8.4998,   -24.9999,       5739,     2.8,  26.6030,  36.3817,2,  36.3824,2,    199.9,2,   200.9,2,     1.1,2,     0.0,2,    0.00,2,   0.077,2,   1.608,3,   1.075,3,   1.308,3,  2061.3,6, 2387.45,2,-999.0000,9, -999.00,   8.0565,2,       25,-999.000,9,-999.0000,9, -999.00,9,  -999.0,9,  -999.0,-999.00000000,9,-999.00000000,9,     2.8,      6.476,3,    36.5539,2,     -999.0,9,         -999.0,9,  -999.0,9,20131227,       2122
33RO20131223,       A16S,       6,          1,         23,         23,2,20131227,       1920,    -8.4998,   -24.9999,       5739,    27.6,  26.5882,  36.3829,2,  36.3863,2,    200.6,2,     201,2,     1.1,2,     0.0,2,    0.00,2,   0.081,2,-999.000,5,-999.000,5,-999.000,5,  -999.0,9, -999.00,9,-999.0000,9, -999.00,-999.0000,9,  -999.00,-999.000,9,-999.0000,9, -999.00,9,  -999.0,9,  -999.0,-999.00000000,9,-999.00000000,9,    27.6,     -999.0,5,    36.5579,2,     -999.0,9,         -999.0,9,  -999.0,9,20131227,       2120
33RO20131223,       A16S,       6,          1,         22,         22,2,20131227,       1920,    -8.4998,   -24.9999,       5739,    68.3,  26.4901,  36.4109,2,  36.4178,2,    200.9,2,   201.7,2,     1.0,2,     0.0,2,    0.00,2,   0.078,2,-999.000,5,-999.000,5,-999.000,5,  2058.9,2, 2386.99,2,-999.0000,9, -999.00,   8.0607,2,       25,-999.000,9,-999.0000,9, -999.00,9,  -999.0,9,  -999.0,-999.00000000,9,-999.00000000,9,    68.3,     -999.0,5,    36.5896,2,     -999.0,9,         -999.0,9,  -999.0,9,20131227,       2118
33RO20131223,       A16S,       6,          1,         21,         21,2,20131227,       1920,    -8.4998,   -24.9999,       5739,   107.5,  23.8685,  36.7965,2,  36.8112,2,    209.5,2,   209.1,2,     1.0,2,     0.1,2,    0.00,2,   0.130,2,   1.826,3,   1.203,3,   1.321,3,  2092.6,2, 2414.18,2,-999.0000,9, -999.00,   8.0424,2,       25,-999.000,9,-999.0000,9, -999.00,9,  -999.0,9,  -999.0,-999.00000000,9,-999.00000000,9,   107.5,      7.534,3,    36.9848,2,     -999.0,9,         -999.0,9,  -999.0,9,20131227,       2115
33RO20131223,       A16S,       6,          1,         20,         20,2,20131227,       1920,    -8.4998,   -24.9999,       5739,   172.8,  17.4664,  36.0055,2,  35.9553,3,    155.1,2,     150,2,     3.6,2,    11.8,2,    0.03,2,   0.855,2,   2.246,3,   1.400,3,   1.183,3,  2158.8,2, 2356.85,2,-999.0000,9, -999.00,   7.2445,4,       25,-999.000,9,-999.0000,9, -999.00,9,  -999.0,9,  -999.0,-999.00000000,9,-999.00000000,9,   172.8,     16.830,3,    36.1249,2,     -999.0,9,         -999.0,9,  -999.0,9,20131227,       2113
33RO20131223,       A16S,       6,          1,         19,         19,2,20131227,       1920,    -8.4998,   -24.9999,       5739,   282.7,  10.5313,  34.9865,2,  34.9786,2,       97,2,    97.9,2,    11.8,2,    27.7,2,    0.00,2,   1.841,2,-999.000,5,-999.000,5,-999.000,5,  2210.2,2, 2310.24,2,-999.0000,9, -999.00,   7.5891,2,       25,-999.000,9,-999.0000,9, -999.00,9,  -999.0,9,  -999.0,-999.00000000,9,-999.00000000,9,   282.7,     -999.0,5,    35.1436,2,     -999.0,9,         -999.0,9,  -999.0,9,20131227,       2110
33RO20131223,       A16S,       6,          1,         18,         18,2,20131227,       1920,    -8.4998,   -24.9999,       5739,   368.2,   8.4125,  34.7445,2,  34.7446,2,     98.7,2,    98.5,2,    16.4,2,    32.1,2,    0.00,2,   2.128,2,   1.108,3,   0.605,3,   0.189,3,  2220.7,2, 2295.58,6,-999.0000,9, -999.00,   7.5331,2,       25,-999.000,9,-999.0000,9, -999.00,9,  -999.0,9,  -999.0,-999.00000000,9,-999.00000000,9,   368.2,     32.754,3,    34.9084,2,     -999.0,9,         -999.0,9,  -999.0,9,20131227,       2108
33RO20131223,       A16S,       6,          1,         17,         17,2,20131227,       1920,    -8.4998,   -24.9999,       5739,   467.9,   7.2482,  34.6303,2,  34.6278,2,    105.9,2,   105.4,2,    19.9,2,    34.1,2,    0.00,2,   2.285,2,   0.837,3,   0.451,3,   0.154,3,  2223.5,6, 2285.02,2,-999.0000,9, -999.00,   7.5131,2,       25,-999.000,9,-999.0000,9, -999.00,9,  -999.0,9,  -999.0,-999.00000000,9,-999.00000000,9,   467.9,     31.317,3,     34.791,2,     -999.0,9,         -999.0,9,  -999.0,9,20131227,       2105
33RO20131223,       A16S,       6,          1,         16,         16,2,20131227,       1920,    -8.4998,   -24.9999,       5739,   597.7,   5.9070,  34.5243,2,  34.5249,2,    125.6,2,   125.3,2,    24.7,2,    34.7,2,    0.00,2,   2.385,2,-999.000,5,-999.000,5,-999.000,5,  2222.7,2, 2296.14,2,-999.0000,9, -999.00,   7.5199,2,       25,-999.000,9,-999.0000,9, -999.00,9,  -999.0,9,  -999.0,-999.00000000,9,-999.00000000,9,   597.7,     -999.0,5,    34.6877,2,     -999.0,9,         -999.0,9,  -999.0,9,20131227,       2102
33RO20131223,       A16S,       6,          1,         15,         15,2,20131227,       1920,    -8.4998,   -24.9999,       5739,   772.7,   4.7666,  34.4886,2,  34.4908,2,      139,2,   139.3,2,    31.2,2,    35.2,2,    0.00,2,   2.459,2,   0.182,3,   0.100,3,   0.066,3,  2225.5,2, 2298.17,2,-999.0000,9, -999.00,   7.5274,2,       25,-999.000,9,-999.0000,9, -999.00,9,  -999.0,9,  -999.0,-999.00000000,9,-999.00000000,9,   772.7,     26.079,3,    34.6534,2,     -999.0,9,         -999.0,9,  -999.0,9,20131227,       2058
33RO20131223,       A16S,       6,          1,         14,         14,2,20131227,       1920,    -8.4998,   -24.9999,       5739,     923,   4.2827,  34.5269,2,  34.5260,2,    154.4,2,   154.3,2,    34.4,2,    33.9,2,    0.00,2,   2.381,2,   0.098,3,   0.054,3,   0.000,3,  2222.9,2, 2305.93,2,-999.0000,9, -999.00,   7.5502,2,       25,-999.000,9,-999.0000,9, -999.00,9,  -999.0,9,  -999.0,-999.00000000,9,-999.00000000,9,   923.0,     24.274,3,    34.6888,2,     -999.0,9,         -999.0,9,  -999.0,9,20131227,       2054
33RO20131223,       A16S,       6,          1,         13,         13,2,20131227,       1920,    -8.4998,   -24.9999,       5739,  1097.8,   4.1527,  34.6586,2,  34.6563,2,    168.9,2,   168.7,2,    32.6,2,    31.1,2,    0.00,2,   2.180,2,-999.000,5,-999.000,5,-999.000,5,  2215.2,2, 2312.46,2,-999.0000,9, -999.00,   7.5879,2,       25,-999.000,9,-999.0000,9, -999.00,9,  -999.0,9,  -999.0,-999.00000000,9,-999.00000000,9,  1097.8,     -999.0,5,    34.8197,2,     -999.0,9,         -999.0,9,  -999.0,9,20131227,       2050
33RO20131223,       A16S,       6,          1,         12,         12,2,20131227,       1920,    -8.4998,   -24.9999,       5739,  1248.1,   4.2586,  34.7966,2,  34.7971,2,    185.7,2,   185.8,2,    27.3,2,    27.7,2,    0.00,2,   1.920,2,   0.062,3,   0.035,3,   0.000,3,  2203.7,2, 2312.93,2,-999.0000,9, -999.00,-999.0000,5,       25,-999.000,9,-999.0000,9, -999.00,9,  -999.0,9,  -999.0,-999.00000000,9,-999.00000000,9,  1248.1,     20.052,3,    34.9612,6,     -999.0,9,         -999.0,9,  -999.0,9,20131227,       2047
33RO20131223,       A16S,       6,          1,         11,         11,2,20131227,       1920,    -8.4998,   -24.9999,       5739,  1397.9,   4.2340,  34.9026,2,  34.9017,2,    209.1,2,   208.2,2,    22.5,2,    24.2,2,    0.00,2,   1.642,2,-999.000,5,-999.000,5,-999.000,5,  2188.9,2, 2315.12,2,-999.0000,9, -999.00,-999.0000,5,       25,-999.000,9,-999.0000,9, -999.00,9,  -999.0,9,  -999.0,-999.00000000,9,-999.00000000,9,  1397.9,     -999.0,5,    35.0663,2,     -999.0,9,         -999.0,9,  -999.0,9,20131227,       2043
33RO20131223,       A16S,       6,          1,         10,         10,2,20131227,       1920,    -8.4998,   -24.9999,       5739,  1586.6,   4.0118,  34.9521,2,  34.9515,2,    230.4,2,   230.2,2,    23.6,2,    20.6,2,    0.00,2,   1.384,2,   0.195,3,   0.107,3,   0.030,3,    2177,2, 2316.28,2,-999.0000,9, -999.00,   7.8981,4,       25,-999.000,9,-999.0000,9, -999.00,9,  -999.0,9,  -999.0,-999.00000000,9,-999.00000000,9,  1586.6,     15.741,3,    35.1163,2,     -999.0,9,         -999.0,9,  -999.0,9,20131227,       2039
33RO20131223,       A16S,       6,          1,          9,          9,2,20131227,       1920,    -8.4998,   -24.9999,       5739,  1948.2,   3.5094,  34.9522,2,  34.9506,2,    243.9,2,   243.7,2,    23.6,2,    20.6,2,    0.00,2,   1.380,2,   0.166,3,   0.090,3,   0.040,3,  2174.7,2, 2321.22,2,-999.0000,9, -999.00,   7.7207,2,       25,-999.000,9,-999.0000,9, -999.00,9,  -999.0,9,  -999.0,-999.00000000,9,-999.00000000,9,  1948.2,     14.683,3,    35.1154,2,     -999.0,9,         -999.0,9,  -999.0,9,20131227,       2032
33RO20131223,       A16S,       6,          1,          8,          8,2,20131227,       1920,    -8.4998,   -24.9999,       5739,    2399,   2.9918,  34.9230,2,  34.9258,2,    241.2,2,   241.5,2,    33.2,2,    21.5,2,    0.00,2,   1.453,2,-999.000,5,-999.000,5,-999.000,5,  2183.4,2, 2332.17,6,-999.0000,9, -999.00,   7.7178,2,       25,-999.000,9,-999.0000,9, -999.00,9,  -999.0,9,  -999.0,-999.00000000,9,-999.00000000,9,  2399.0,     -999.0,5,    35.0905,2,     -999.0,9,         -999.0,9,  -999.0,9,20131227,       2024
33RO20131223,       A16S,       6,          1,          7,          7,2,20131227,       1920,    -8.4998,   -24.9999,       5739,  2948.5,   2.7071,  34.9104,2,  34.9110,2,      243,2,   244.1,2,    37.7,2,    21.7,2,    0.00,2,   1.465,2,   0.018,3,   0.014,3,   0.000,3,  2186.4,2, 2332.53,2,-999.0000,9, -999.00,   7.7198,2,       25,-999.000,9,-999.0000,9, -999.00,9,  -999.0,9,  -999.0,-999.00000000,9,-999.00000000,9,  2948.5,     14.476,3,    35.0756,2,     -999.0,9,         -999.0,9,  -999.0,9,20131227,       2013
33RO20131223,       A16S,       6,          1,          6,          6,3,20131227,       1920,    -8.4998,   -24.9999,       5739,  3448.7,   2.5246,  34.9056,2,  34.9495,4,    250.3,2,   243.6,4,    34.7,2,    20.4,2,    0.00,4,   1.383,4,-999.000,5,-999.000,5,-999.000,5,  -999.0,9, -999.00,9,-999.0000,9, -999.00,-999.0000,9,  -999.00,-999.000,9,-999.0000,9, -999.00,9,  -999.0,9,  -999.0,-999.00000000,9,-999.00000000,9,  3448.7,     -999.0,5,    35.1143,2,     -999.0,9,         -999.0,9,  -999.0,9,20131227,       2004
33RO20131223,       A16S,       6,          1,          5,          5,2,20131227,       1920,    -8.4998,   -24.9999,       5739,  3947.4,   1.9690,  34.8488,2,  34.8469,2,    242.5,2,     243,2,    58.5,6,    23.7,6,    0.00,6,   1.625,6,   0.034,3,   0.021,3,   0.000,3,  2204.6,2, 2346.63,2,-999.0000,9, -999.00,    7.701,2,       25,-999.000,9,-999.0000,9, -999.00,9,  -999.0,9,  -999.0,-999.00000000,9,-999.00000000,9,  3947.4,     15.217,3,    35.0112,2,     -999.0,9,         -999.0,9,  -999.0,9,20131227,       1955
33RO20131223,       A16S,       6,          1,          4,          4,2,20131227,       1920,    -8.4998,   -24.9999,       5739,  4447.1,   1.0939,  34.7555,2,  34.7555,2,    226.7,2,   227.9,2,  -999.0,5,  -999.0,5, -999.00,5,-999.000,5,   0.027,3,   0.017,3,   0.024,3,  2240.6,2, 2361.66,2,-999.0000,9, -999.00,   7.6493,6,       25,-999.000,9,-999.0000,9, -999.00,9,  -999.0,9,  -999.0,-999.00000000,9,-999.00000000,9,  4447.1,     17.143,3,    34.9194,2,     -999.0,9,         -999.0,9,  -999.0,9,20131227,       1946
33RO20131223,       A16S,       6,          1,          3,          3,2,20131227,       1920,    -8.4998,   -24.9999,       5739,  4947.9,   0.8256,  34.7223,2,  34.7229,2,      221,2,   222.5,2,   107.7,6,    30.4,6,    0.00,6,   2.148,6,-999.000,5,-999.000,5,-999.000,5,  -999.0,9, -999.00,9,-999.0000,9, -999.00,-999.0000,9,  -999.00,-999.000,9,-999.0000,9, -999.00,9,  -999.0,9,  -999.0,-999.00000000,9,-999.00000000,9,  4947.9,     -999.0,5,    34.8866,6,     -999.0,9,         -999.0,9,  -999.0,9,20131227,       1937
33RO20131223,       A16S,       6,          1,          2,          2,2,20131227,       1920,    -8.4998,   -24.9999,       5739,  5447.9,   0.7390,  34.7062,2,  34.7073,2,    219.8,2,   220.2,2,   113.8,6,    31.1,6,    0.00,6,   2.209,6,-999.000,5,-999.000,5,-999.000,5,  2259.1,6, 2368.88,2,-999.0000,9, -999.00,   7.5435,4,       25,-999.000,9,-999.0000,9, -999.00,9,  -999.0,9,  -999.0,-999.00000000,9,-999.00000000,9,  5447.9,     -999.0,5,    34.8709,2,     -999.0,9,         -999.0,9,  -999.0,9,20131227,       1928
33RO20131223,       A16S,       6,          1,          1,          1,2,20131227,       1920,    -8.4998,   -24.9999,       5739,  5828.9,   0.7511,  34.7015,2,  34.7015,2,    219.7,2,   219.1,2,   115.5,6,    31.3,6,    0.00,6,   2.220,6,   0.144,3,   0.074,3,   0.054,3,  2259.7,2,  2369.2,6,-999.0000,9, -999.00,   7.6346,2,       25,-999.000,9,-999.0000,9, -999.00,9,  -999.0,9,  -999.0,-999.00000000,9,-999.00000000,9,  5828.9,     18.270,3,    34.8651,2,     -999.0,9,         -999.0,9,  -999.0,9,20131227,       1920