BOTTLE,20220815CCHSIOAMB
EXPOCODE,SECT_ID,STNNBR,CASTNO,SAMPNO,BTLNBR,BTLNBR_FLAG_W,DATE,TIME,LATITUDE,LONGITUDE,DEPTH,CTDPRS,CTDTMP,CTDSAL,CTDSAL_FLAG_W,SALNTY,SALNTY_FLAG_W,CTDOXY,CTDOXY_FLAG_W,OXYGEN,OXYGEN_FLAG_W,SILCAT,SILCAT_FLAG_W,NITRAT,NITRAT_FLAG_W,NITRIT,NITRIT_FLAG_W,PHSPHT,PHSPHT_FLAG_W,CFC-11,CFC-11_FLAG_W,CFC-12,CFC-12_FLAG_W,SF6,SF6_FLAG_W,TCARBN,TCARBN_FLAG_W,ALKALI,ALKALI_FLAG_W,PCO2,PCO2_FLAG_W,PCO2TMP,PH_SWS,PH_SWS_FLAG_W,PH_TMP,TRITUM,TRITUM_FLAG_W,REFTMP,REFTMP_FLAG_W,DELC13,DELC13_FLAG_W,DELC14,DELC14_FLAG_W,C14ERR,DOC,DOC_FLAG_W,TDN,TDN_FLAG_W,CTDRAW,N2O,N2O_FLAG_W,SALTREF,SALTREF_FLAG_W,HELIUM,HELIUM_FLAG_W,DELO18,DELO18_FLAG_W,CCL4,CCL4_FLAG_W,BTL_DATE,BTL_TIME
,,,,,,,,,,,METERS,DBAR,ITS-90,PSS-78,,PSS-78,,UMOL/KG,,UMOL/KG,,UMOL/KG,,UMOL/KG,,UMOL/KG,,UMOL/KG,,PMOL/KG,,PMOL/KG,,FMOL/KG,,UMOL/KG,,UMOL/KG,,UATM,,DEG C,,,DEG C,TU,,DEG C,,/MILLE,,/MILLE,,/MILLE,UMOL/KG,,UMOL/KG,,DBAR,NMOL/KG,,G/KG,,NMOL/KG,,/MILLE,,PMOL/KG,,,
33RO20131223,       A16S,      77,          1,         24,         24,2,20140119,       0005,   -44.0015,   -30.2636,       4620,       5,  11.2606,  34.3346,2,  34.3355,2,    273.6,2,     275,2,     0.7,2,     8.7,2,    0.13,2,   0.773,2,   3.369,2,   1.932,2,   2.104,2,    2080,6, 2284.77,2,   509.05,2,      20,   7.8749,2,       25,-999.000,1,  11.2604,2,    1.82,2,     9.7,2,     2.2,  53.48825096,2,        11.98,2,     5.0,     10.141,2,    34.4974,2,     -999.0,1,         -999.0,1,  -999.0,9,20140119,       0152
33RO20131223,       A16S,      77,          1,         23,         23,2,20140119,       0005,   -44.0015,   -30.2636,       4620,      10,  11.2606,  34.3347,2,  34.3350,2,    273.6,2,   274.7,2,     0.8,2,     8.7,2,    0.13,2,   0.773,2,   3.365,6,   1.934,2,   2.088,6,  2079.5,2, 2284.79,2,   509.44,2,      20,   7.8759,2,       25,-999.000,1,  11.2607,2, -999.00,9,  -999.0,9,  -999.0,  53.22556814,2,        11.89,2,    10.0,     10.144,6,    34.4969,2,     -999.0,1,         -999.0,1,  -999.0,9,20140119,       0150
33RO20131223,       A16S,      77,          1,         22,         22,2,20140119,       0005,   -44.0015,   -30.2636,       4620,    38.4,  11.2630,  34.3347,2,  34.3351,2,    274.5,2,   274.6,2,     0.8,2,     8.7,2,    0.13,2,   0.773,2,   3.366,2,   1.936,2,   2.084,2,  2079.1,2, 2289.17,6,   510.32,2,      20,   7.8755,2,       25,-999.000,1,  11.2625,2, -999.00,9,  -999.0,9,  -999.0,  51.24085349,2,        12.41,2,    38.4,     10.184,2,     34.497,2,     -999.0,1,         -999.0,1,  -999.0,9,20140119,       0148
33RO20131223,       A16S,      77,          1,         21,         21,2,20140119,       0005,   -44.0015,   -30.2636,       4620,      67,  10.6583,  34.3569,2,  34.3651,2,    273.7,2,   273.9,2,     0.7,2,     9.3,2,    0.17,2,   0.849,2,   3.488,2,   2.006,2,   2.158,2,  2090.4,2, 2290.26,2,   539.91,2,      20,   7.8539,6,       25,-999.000,1,  10.6115,2, -999.00,9,  -999.0,9,  -999.0,  50.48928875,2,         13.5,2,    67.0,     10.571,2,    34.5272,2,     -999.0,1,         -999.0,1,  -999.0,9,20140119,       0146
33RO20131223,       A16S,      77,          1,         20,         20,2,20140119,       0005,   -44.0015,   -30.2636,       4620,   118.7,   8.7135,  34.4660,2,  34.4711,2,    266.8,2,   267.1,2,     2.0,2,    12.9,2,    0.37,2,   1.036,2,   3.751,2,   2.135,2,   2.285,2,  2115.5,2, 2296.14,2,   625.64,2,      20,   7.7981,2,       25,-999.000,1,   8.7201,2, -999.00,9,  -999.0,9,  -999.0,  48.67969598,2,        15.44,2,   118.7,     11.486,2,    34.6337,2,     -999.0,1,         -999.0,1,  -999.0,9,20140119,       0144
33RO20131223,       A16S,      77,          1,         19,         19,2,20140119,       0005,   -44.0015,   -30.2636,       4620,   198.2,   6.8614,  34.3812,2,  34.3831,2,    269.6,2,   269.2,2,     5.1,2,    18.7,2,    0.02,2,   1.334,2,   4.024,2,   2.260,2,   2.205,2,  2134.8,2, 2284.37,2,  723.925,2,      20,   7.7402,2,       25,-999.000,1,   6.8891,2, -999.00,9,  -999.0,9,  -999.0,  46.64390411,2,        21.56,2,   198.2,     12.794,2,    34.5452,2,     -999.0,1,         -999.0,1,  -999.0,9,20140119,       0142
33RO20131223,       A16S,      77,          1,         18,         18,2,20140119,       0005,   -44.0015,   -30.2636,       4620,   297.7,   4.8339,  34.1570,2,  34.1872,4,    264.3,2,   264.5,2,     9.4,2,    25.1,2,    0.01,2,   1.728,2,   4.348,2,   2.383,2,   2.025,2,  2152.8,2, 2276.64,2,   860.31,6,      20,   7.6716,2,       25,-999.000,1,   4.8376,2, -999.00,9,  -999.0,9,  -999.0,  44.57892526,2,        28.11,2,   297.7,     14.495,2,    34.3484,2,     -999.0,1,         -999.0,1,  -999.0,9,20140119,       0139
33RO20131223,       A16S,      77,          1,         17,         17,2,20140119,       0005,   -44.0015,   -30.2636,       4620,   397.2,   4.2573,  34.1348,2,  34.1368,2,    265.9,2,   266.3,2,    12.2,2,    26.4,2,    0.01,2,   1.805,2,   4.330,2,   2.342,2,   1.980,2,  2159.3,2, 2276.94,2,   882.48,6,      20,   7.6629,2,       25,-999.000,1,   4.2589,2, -999.00,9,  -999.0,9,  -999.0,   43.1925437,2,        28.92,2,   397.2,     14.841,2,    34.2978,2,     -999.0,1,         -999.0,1,  -999.0,9,20140119,       0136
33RO20131223,       A16S,      77,          1,         16,         16,2,20140119,       0005,   -44.0015,   -30.2636,       4620,   517.3,   3.8175,  34.1450,2,  34.1448,2,    258.3,2,   258.8,2,    17.0,2,    27.7,2,    0.01,2,   1.903,2,   4.039,2,   2.152,2,   1.634,2,    2169,2, 2284.88,2,   925.03,2,      20,   7.6447,2,       25,-999.000,1,   3.8178,2, -999.00,9,  -999.0,9,  -999.0,  41.74049143,2,        30.38,2,   517.3,     15.914,2,    34.3058,6,     -999.0,1,         -999.0,1,  -999.0,9,20140119,       0133
33RO20131223,       A16S,      77,          1,         15,         15,2,20140119,       0005,   -44.0015,   -30.2636,       4620,   668.8,   3.3149,  34.1939,2,  34.1942,2,      238,2,   239.1,2,    26.3,2,    30.0,2,    0.00,2,   2.051,2,   3.396,2,   1.776,2,   1.223,2,  2187.9,2, 2294.58,2,  1006.23,2,      20,   7.6128,2,       25,-999.000,1,   3.3148,2, -999.00,9,  -999.0,9,  -999.0,  40.94514622,2,        32.53,2,   668.8,     17.918,2,    34.3554,2,     -999.0,1,         -999.0,1,  -999.0,9,20140119,       0129
33RO20131223,       A16S,      77,          1,         14,         14,2,20140119,       0005,   -44.0015,   -30.2636,       4620,   818.9,   3.0889,  34.2763,2,  34.2761,2,    213.5,2,   214.5,2,    37.4,2,    31.8,2,    0.00,2,   2.177,2,   2.503,2,   1.280,2,   0.823,2,  2207.9,2, 2301.83,2,  1083.41,2,      20,   7.5846,2,       25,-999.000,1,   3.0891,2, -999.00,9,  -999.0,9,  -999.0,  40.14980101,2,        34.28,2,   818.9,     20.034,2,    34.4377,2,     -999.0,1,         -999.0,1,  -999.0,9,20140119,       0125
33RO20131223,       A16S,      77,          1,         13,         13,2,20140119,       0005,   -44.0015,   -30.2636,       4620,   998.2,   2.8208,  34.3737,2,  34.3727,2,      192,2,   193.2,2,    51.1,2,    33.3,2,    0.00,2,   2.286,2,   1.717,6,   0.859,2,   0.504,6,  2229.8,2, 2316.53,2,  1171.03,2,      20,   7.5541,2,       25,-999.000,1,   2.8216,2, -999.00,9,  -999.0,9,  -999.0,  39.46390698,2,        36.02,2,   998.2,     21.817,6,    34.5347,2,     -999.0,1,         -999.0,1,  -999.0,9,20140119,       0121
33RO20131223,       A16S,      77,          1,         12,         12,2,20140119,       0005,   -44.0015,   -30.2636,       4620,  1148.3,   2.8289,  34.4822,2,  34.4835,2,    178.1,2,     179,2,    57.6,2,    33.3,2,    0.00,2,   2.287,2,   0.858,2,   0.424,2,   0.168,2,  2238.9,2, 2327.07,6,   1176.7,2,      20,    7.554,2,       25,-999.000,1,   2.8294,2, -999.00,9,  -999.0,9,  -999.0,  39.27419161,2,        36.02,2,  1148.3,     22.250,2,    34.6461,2,     -999.0,1,         -999.0,1,  -999.0,9,20140119,       0117
33RO20131223,       A16S,      77,          1,         11,         11,2,20140119,       0005,   -44.0015,   -30.2636,       4620,  1398.7,   2.7606,  34.6041,2,  34.6042,2,    174.3,2,   175.8,2,    63.1,2,    32.2,2,    0.00,2,   2.214,2,   0.421,2,   0.207,2,   0.145,2,  2243.9,6, 2336.23,2,  1155.53,2,      20,   7.5636,2,       25,-999.000,1,   2.7608,2, -999.00,9,  -999.0,9,  -999.0,  39.53687443,2,        34.75,2,  1398.7,     21.817,2,    34.7673,2,     -999.0,1,         -999.0,1,  -999.0,9,20140119,       0112
33RO20131223,       A16S,      77,          1,         10,         10,2,20140119,       0005,   -44.0015,   -30.2636,       4620,  1697.4,   2.8339,  34.7204,2,  34.7207,2,    187.8,2,   187.5,2,    59.5,2,    29.6,2,    0.00,2,   2.025,2,   0.230,2,   0.112,2,   0.057,2,  2234.5,2, 2338.65,2,  1060.25,2,      20,   7.5992,2,       25,-999.000,1,   2.8344,2, -999.00,9,  -999.0,9,  -999.0,  40.10602054,2,        32.19,2,  1697.4,     20.116,2,    34.8844,2,     -999.0,1,         -999.0,9,  -999.0,9,20140119,       0106
33RO20131223,       A16S,      77,          1,          9,          9,2,20140119,       0005,   -44.0015,   -30.2636,       4620,  1999.7,   2.6862,  34.7777,2,  34.7781,2,    197.2,2,   197.8,2,    60.6,2,    28.0,2,    0.00,2,   1.915,2,   0.176,2,   0.085,2,   0.046,2,  2229.7,2, -999.00,5,   1003.3,2,      20,   7.6233,2,       25,-999.000,1,   2.6862,2, -999.00,9,  -999.0,9,  -999.0,  40.75543085,2,        30.64,2,  1999.7,     18.860,2,    34.9421,2,     -999.0,1,         -999.0,9,  -999.0,9,20140119,       0100
33RO20131223,       A16S,      77,          1,          8,          8,2,20140119,       0005,   -44.0015,   -30.2636,       4620,  2297.8,   2.4408,  34.7907,2,  34.7907,2,    202.1,2,   202.4,2,    65.6,2,    27.6,2,    0.00,2,   1.893,2,   0.137,2,   0.066,2,   0.042,2,  2230.6,2, 2343.97,2,   983.63,6,      20,   7.6314,2,       25,-999.000,9,   2.4409,2, -999.00,9,  -999.0,9,  -999.0,  41.10567461,2,        30.29,2,  2297.8,     18.384,2,    34.9548,2,     -999.0,1,         -999.0,9,  -999.0,9,20140119,       0053
33RO20131223,       A16S,      77,          1,          7,          7,2,20140119,       0005,   -44.0015,   -30.2636,       4620,  2598.3,   2.2232,  34.8003,2,  34.8000,2,    209.2,2,   209.2,2,    68.3,2,    27.2,2,    0.00,2,   1.856,2,   0.110,2,   0.054,2,   0.037,2,  2229.5,2, 2346.97,2,   961.62,2,      20,   7.6399,2,       25,-999.000,1,   2.2231,2, -999.00,9,  -999.0,9,  -999.0,  40.71894713,2,        29.87,2,  2598.3,     17.832,2,    34.9641,2,     -999.0,1,         -999.0,9,  -999.0,9,20140119,       0047
33RO20131223,       A16S,      77,          1,          6,          6,2,20140119,       0005,   -44.0015,   -30.2636,       4620,  2897.3,   1.8176,  34.7677,2,  34.7682,2,    204.4,2,   205.1,2,    83.0,2,    28.8,2,    0.00,2,   1.969,2,   0.119,2,   0.058,2,   0.030,2,  2241.5,2, 2352.07,2,  1009.09,2,      20,   7.6317,2,       25,-999.000,9,    1.819,2, -999.00,9,  -999.0,9,  -999.0,  40.28114242,2,        31.38,2,  2897.3,     18.318,2,    34.9322,6,     -999.0,1,         -999.0,9,  -999.0,9,20140119,       0041
33RO20131223,       A16S,      77,          1,          5,          5,2,20140119,       0005,   -44.0015,   -30.2636,       4620,  3197.5,   1.3867,  34.7359,2,  34.7361,2,    202.8,2,   203.2,2,    98.2,2,    30.3,2,    0.00,2,   2.078,2,   0.169,2,   0.083,2,   0.047,2,  2252.5,2, 2360.58,2,  1051.86,2,      20,   7.6063,2,       25,-999.000,1,   1.3861,2, -999.00,9,  -999.0,9,  -999.0,  39.48579721,2,        33.01,2,  3197.5,     18.741,2,    34.8999,2,     -999.0,1,         -999.0,9,  -999.0,9,20140119,       0035
33RO20131223,       A16S,      77,          1,          4,          4,2,20140119,       0005,   -44.0015,   -30.2636,       4620,  3498.9,   1.0576,  34.7144,2,  34.7157,2,    206.3,2,   205.8,2,   107.6,6,    31.0,6,    0.00,6,   2.134,6,   0.247,2,   0.122,2,   0.039,2,  2256.6,2, 2365.16,3,  1075.31,2,      20,   7.5971,6,       25,-999.000,9,   1.0577,2, -999.00,9,  -999.0,9,  -999.0,  39.09177298,2,        33.32,2,  3498.9,     19.095,2,    34.8794,2,     -999.0,1,         -999.0,9,  -999.0,9,20140119,       0029
33RO20131223,       A16S,      77,          1,          3,          3,2,20140119,       0005,   -44.0015,   -30.2636,       4620,  3896.7,   0.6471,  34.6916,2,  34.6933,2,      212,2,   211.8,2,   116.7,6,    31.7,6,    0.00,6,   2.184,6,   0.339,6,   0.164,2,   0.059,6,  2259.7,2,  2360.5,2,  1083.02,2,      20,   7.5932,2,       25,-999.000,1,    0.647,2, -999.00,9,  -999.0,9,  -999.0,  39.01150879,2,        34.28,2,  3896.7,     18.858,6,    34.8569,2,     -999.0,1,         -999.0,9,  -999.0,9,20140119,       0021
33RO20131223,       A16S,      77,          1,          2,          2,2,20140119,       0005,   -44.0015,   -30.2636,       4620,  4298.5,   0.3698,  34.6766,2,  34.6768,2,    217.5,2,   217.1,2,   123.4,6,    32.1,6,    0.00,6,   2.214,6,   0.441,2,   0.212,2,   0.066,2,  2262.7,2, 2365.18,6, 1089.945,6,      20,   7.5928,2,       25,-999.000,9,   0.3698,2, -999.00,9,  -999.0,9,  -999.0,  38.96772832,2,        34.58,2,  4298.5,     18.685,2,    34.8403,2,     -999.0,1,         -999.0,9,  -999.0,9,20140119,       0013
33RO20131223,       A16S,      77,          1,          1,          1,2,20140119,       0005,   -44.0015,   -30.2636,       4620,    4690,   0.3197,  34.6722,2,  34.6723,2,    220.2,2,     220,2,   125.4,6,    32.2,6,    0.01,6,   2.220,6,   0.492,2,   0.238,2,   0.099,2,  2265.1,6, 2362.46,2,  1096.45,2,      20,   7.7869,4,       25,-999.000,1,   0.3195,2, -999.00,9,  -999.0,9,  -999.0,  39.03339902,2,        34.81,2,  4690.0,     18.634,2,    34.8358,2,     -999.0,1,         -999.0,9,  -999.0,9,20140119,       0005