BOTTLE,20220815CCHSIOAMB
EXPOCODE,SECT_ID,STNNBR,CASTNO,SAMPNO,BTLNBR,BTLNBR_FLAG_W,DATE,TIME,LATITUDE,LONGITUDE,DEPTH,CTDPRS,CTDTMP,CTDSAL,CTDSAL_FLAG_W,SALNTY,SALNTY_FLAG_W,CTDOXY,CTDOXY_FLAG_W,OXYGEN,OXYGEN_FLAG_W,SILCAT,SILCAT_FLAG_W,NITRAT,NITRAT_FLAG_W,NITRIT,NITRIT_FLAG_W,PHSPHT,PHSPHT_FLAG_W,CFC-11,CFC-11_FLAG_W,CFC-12,CFC-12_FLAG_W,SF6,SF6_FLAG_W,TCARBN,TCARBN_FLAG_W,ALKALI,ALKALI_FLAG_W,PCO2,PCO2_FLAG_W,PCO2TMP,PH_SWS,PH_SWS_FLAG_W,PH_TMP,TRITUM,TRITUM_FLAG_W,REFTMP,REFTMP_FLAG_W,DELC13,DELC13_FLAG_W,DELC14,DELC14_FLAG_W,C14ERR,DOC,DOC_FLAG_W,TDN,TDN_FLAG_W,CTDRAW,N2O,N2O_FLAG_W,SALTREF,SALTREF_FLAG_W,HELIUM,HELIUM_FLAG_W,DELO18,DELO18_FLAG_W,CCL4,CCL4_FLAG_W,BTL_DATE,BTL_TIME
,,,,,,,,,,,METERS,DBAR,ITS-90,PSS-78,,PSS-78,,UMOL/KG,,UMOL/KG,,UMOL/KG,,UMOL/KG,,UMOL/KG,,UMOL/KG,,PMOL/KG,,PMOL/KG,,FMOL/KG,,UMOL/KG,,UMOL/KG,,UATM,,DEG C,,,DEG C,TU,,DEG C,,/MILLE,,/MILLE,,/MILLE,UMOL/KG,,UMOL/KG,,DBAR,NMOL/KG,,G/KG,,NMOL/KG,,/MILLE,,PMOL/KG,,,
33RO20131223,       A16S,      13,          2,         24,         24,2,20131229,       2201,   -11.9984,   -24.9999,       5808,     2.5,  25.8978,  36.5535,2,  36.5525,2,    203.1,2,   203.5,2,     0.9,2,     0.1,2,    0.00,2,   0.095,2,   1.542,6,   1.023,6,   1.243,6,  2065.1,6, 2398.99,2,   314.92,2,      20,   8.0648,2,       25,-999.000,9,  25.8964,2,    1.35,2,    49.3,2,     2.2,  77.36487149,2,         3.35,2,     2.5,      6.221,6,    36.7248,2,     -999.0,9,         -999.0,9,  -999.0,9,20131230,       0003
33RO20131223,       A16S,      13,          2,         23,         23,2,20131229,       2201,   -11.9984,   -24.9999,       5808,    17.8,  25.8806,  36.5536,2,  36.5533,2,    203.3,2,   203.8,2,     0.9,2,     0.2,2,    0.00,2,   0.096,2,   1.544,2,   1.025,2,   1.219,2,  2065.2,2, 2399.78,2,    314.7,6,      20,   8.0597,2,       25,-999.000,9,  25.8848,2,    1.28,2,    47.4,2,     3.4,  77.29153819,2,         5.07,2,    17.8,      6.231,2,    36.7256,2,     -999.0,9,         -999.0,9,  -999.0,9,20131230,       0002
33RO20131223,       A16S,      13,          2,         22,         22,2,20131229,       2201,   -11.9984,   -24.9999,       5808,    47.5,  25.8116,  36.5660,2,  36.6097,2,    203.5,2,   205.7,2,     0.9,2,     0.2,2,    0.00,2,   0.096,2,   1.555,2,   1.034,2,   1.260,2,  2067.5,2, 2402.45,6,-999.0000,5, -999.00,   8.0651,2,       25,-999.000,9,  25.8094,2,    1.23,2,    48.8,2,     2.4,   77.5115381,2,         4.82,2,    47.5,      6.332,2,    36.7824,2,     -999.0,9,         -999.0,9,  -999.0,9,20131230,       0000
33RO20131223,       A16S,      13,          2,         21,         21,2,20131229,       2201,   -11.9984,   -24.9999,       5808,    72.9,  24.4910,  36.9341,2,  36.9413,2,    212.6,2,   212.9,2,     0.8,2,     0.3,2,    0.00,2,   0.109,2,   1.648,2,   1.085,2,   1.269,2,  2084.2,2, 2423.98,2,   317.12,2,      20,   8.0641,2,       25,-999.000,9,  24.4947,2,    1.28,2,    48.8,2,     2.2,  77.29153819,2,         3.88,2,    72.9,      6.588,2,    37.1155,2,     -999.0,9,         -999.0,9,  -999.0,9,20131229,       2358
33RO20131223,       A16S,      13,          2,         20,         20,2,20131229,       2201,   -11.9984,   -24.9999,       5808,    97.9,  23.6266,  36.9149,2,  36.9268,2,    212.9,2,     213,2,     0.9,2,     0.4,2,    0.00,2,   0.145,2,   1.702,2,   1.122,2,   1.303,2,  2093.6,2, 2419.46,2,   332.73,2,      20,   8.0483,2,       25,-999.000,9,  23.6084,2,    1.27,2,    47.8,2,     2.3,  73.92195122,2,         4.03,2,    97.9,      6.788,2,    37.1009,2,     -999.0,9,         -999.0,9,  -999.0,9,20131229,       2357
33RO20131223,       A16S,      13,          2,         19,         19,2,20131229,       2201,   -11.9984,   -24.9999,       5808,   147.6,  20.9017,  36.6012,2,  36.5544,2,    196.3,2,   192.9,2,     1.3,2,     2.4,2,    0.19,2,   0.403,2,   1.946,2,   1.253,2,   1.311,2,  2129.5,2, 2401.19,2,    425.3,2,      20,   7.9584,2,       25,-999.000,9,  20.9071,2,    1.05,2,    44.8,2,     2.7,  64.37021002,2,         5.92,2,   147.6,      8.980,2,    36.7268,2,     -999.0,9,         -999.0,9,  -999.0,9,20131229,       2355
33RO20131223,       A16S,      13,          2,         18,         18,2,20131229,       2201,   -11.9984,   -24.9999,       5808,   217.2,  15.6350,  35.6857,2,  35.6702,3,    151.1,2,   149.6,2,     4.3,2,    14.2,2,    0.01,2,   0.991,2,   2.258,2,   1.378,2,   1.061,2,  2160.6,2, 2349.65,2,   643.41,2,      20,    7.796,2,       25,-999.000,9,  15.6334,2,    0.62,2,    45.6,2,     3.3,  55.28421366,2,        17.17,2,   217.2,     17.092,2,    35.8384,2,     -999.0,9,         -999.0,9,  -999.0,9,20131229,       2352
33RO20131223,       A16S,      13,          2,         17,         17,2,20131229,       2201,   -11.9984,   -24.9999,       5808,   297.8,  11.2770,  35.0150,2,  35.0100,2,    130.4,2,   130.2,2,     9.0,2,    23.2,2,    0.00,2,   1.507,2,   2.169,2,   1.226,2,   0.627,2,  2186.5,2, 2308.61,2,   899.36,2,      20,-999.0000,5,       25,-999.000,9,  11.2613,2, -999.00,9,  -999.0,9,  -999.0,  49.83554917,2,        26.05,2,   297.8,     24.190,2,    35.1751,2,     -999.0,9,         -999.0,9,  -999.0,9,20131229,       2350
33RO20131223,       A16S,      13,          2,         16,         16,2,20131229,       2201,   -11.9984,   -24.9999,       5808,   377.6,   8.8431,  34.7732,2,  34.7657,2,    110.7,2,   111.5,2,    14.7,2,    30.3,2,    0.00,2,   1.938,2,   1.286,6,   0.695,6,   0.247,6,  2209.8,6, 2298.29,6,  1128.33,2,      20,   7.7696,4,       25,-999.000,9,   8.8431,2,    0.57,2,   -17.6,2,     2.3,   47.6097561,2,        33.01,2,   377.6,     28.917,6,    34.9296,2,     -999.0,9,         -999.0,9,  -999.0,9,20131229,       2347
33RO20131223,       A16S,      13,          2,         15,         15,2,20131229,       2201,   -11.9984,   -24.9999,       5808,     567,   5.8988,  34.5039,2,  34.5038,2,    142.1,2,   142.3,2,    23.1,2,    33.3,2,    0.00,2,   2.179,2,   0.777,2,   0.401,2,   0.104,2,  2214.1,2, 2303.39,2,  1169.01,2,      20,   7.5536,2,       25,-999.000,9,   5.8991,2,    0.63,2,   -65.2,2,     4.3,  44.89756098,2,        35.99,2,   567.0,     24.785,2,    34.6665,2,     -999.0,9,         -999.0,9,  -999.0,9,20131229,       2343
33RO20131223,       A16S,      13,          2,         14,         14,2,20131229,       2201,   -11.9984,   -24.9999,       5808,   717.5,   4.9416,  34.4571,2,  34.4565,2,    152.6,2,   153.9,2,    28.7,2,    34.1,2,    0.00,2,   2.259,2,   0.470,2,   0.238,2,   0.071,2,  2218.2,2, 2275.78,4,   1171.1,2,      20,   7.5465,2,       25,-999.000,9,   4.9432,2,    0.78,2,   -82.2,2,     3.1,         43.2,2,        36.21,2,   717.5,     23.677,2,    34.6189,2,     -999.0,9,         -999.0,9,  -999.0,9,20131229,       2339
33RO20131223,       A16S,      13,          2,         13,         13,2,20131229,       2201,   -11.9984,   -24.9999,       5808,   871.9,   4.2674,  34.4748,2,  34.4811,2,      161,2,   160.9,2,    33.8,2,    33.8,2,    0.00,2,   2.267,2,   0.204,2,   0.104,2,   0.028,2,  2220.5,2, 2304.92,2,  1143.35,2,      20,   7.5565,2,       25,-999.000,9,   4.2673,2,    0.79,2,  -104.0,2,     2.6,  41.77621906,2,        36.02,2,   871.9,     22.738,2,    34.6437,2,     -999.0,9,         -999.0,9,  -999.0,9,20131229,       2336
33RO20131223,       A16S,      13,          2,         12,         12,2,20131229,       2201,   -11.9984,   -24.9999,       5808,    1049,   3.9638,  34.5904,2,  34.5906,2,    170.1,2,   170.5,2,    35.1,2,    32.1,2,    0.00,2,   2.153,2,   0.048,2,   0.028,2,   0.000,2,  2218.6,2, 2311.27,2,  1089.88,2,      20,   7.5775,2,       25,-999.000,9,   3.9641,2,    0.74,2,  -114.2,2,     2.5,  41.27091845,2,        34.41,2,  1049.0,     21.365,2,    34.7537,2,     -999.0,9,         -999.0,9,  -999.0,9,20131229,       2332
33RO20131223,       A16S,      13,          2,         11,         11,2,20131229,       2201,   -11.9984,   -24.9999,       5808,  1348.1,   4.0704,  34.8424,2,  34.8443,2,    201.4,2,     201,2,    25.9,2,    26.3,2,    0.00,2,   1.724,2,   0.042,2,   0.026,2,   0.036,2,  2195.3,2, 2305.87,2,   902.06,2,      20,   7.6552,2,       25,-999.000,9,   4.0705,2,    0.87,2,   -99.5,2,     2.0,  41.95638566,2,        28.66,2,  1348.1,     17.652,2,    35.0086,2,     -999.0,9,         -999.0,9,  -999.0,9,20131229,       2326
33RO20131223,       A16S,      13,          2,         10,         10,2,20131229,       2201,   -11.9984,   -24.9999,       5808,  1748.1,   3.7073,  34.9460,2,  34.9441,2,    238.7,2,     237,2,    22.2,2,    21.8,2,    0.00,2,   1.404,2,   0.121,2,   0.063,2,   0.000,2,    2176,2, 2318.14,2,  782.885,2,      20,   7.7106,2,       25,-999.000,9,   3.7068,2,    1.00,2,   -80.7,2,     2.5,  42.25221887,2,        24.16,2,  1748.1,     14.455,2,    35.1088,6,     -999.0,9,         -999.0,9,  -999.0,9,20131229,       2318
33RO20131223,       A16S,      13,          2,          9,          9,2,20131229,       2201,   -11.9984,   -24.9999,       5808,  2148.4,   3.2349,  34.9422,2,  34.9417,2,    248.3,2,   248.7,2,    25.6,2,    20.9,2,    0.00,2,   1.350,2,   0.180,2,   0.090,2,   0.083,2,  2174.5,2,  2321.4,2,  759.685,2,      20,   7.7235,2,       25,-999.000,9,   3.2352,2,    1.01,2,   -88.8,2,     2.0,  42.17284898,2,        23.33,2,  2148.4,     13.679,2,    35.1065,2,     -999.0,9,         -999.0,9,  -999.0,9,20131229,       2310
33RO20131223,       A16S,      13,          2,          8,          8,2,20131229,       2201,   -11.9984,   -24.9999,       5808,  2598.5,   2.8488,  34.9178,2,  34.9175,2,    245.3,2,   245.2,2,    33.8,2,    21.8,2,    0.00,2,   1.416,2,   0.063,2,   0.027,2,   0.000,2,  2181.6,2, 2330.37,2,    769.7,2,      20,   7.7204,2,       25,-999.000,9,   2.8485,2,    0.97,2,  -105.8,2,     2.0,  41.75435322,2,        24.15,2,  2598.5,     13.666,2,    35.0822,2,     -999.0,9,         -999.0,9,  -999.0,9,20131229,       2302
33RO20131223,       A16S,      13,          2,          7,          7,2,20131229,       2201,   -11.9984,   -24.9999,       5808,    3099,   2.6718,  34.9080,2,  34.9067,2,    246.4,2,   245.6,2,    37.3,2,    22.1,2,    0.00,2,   1.432,2,   0.050,2,   0.028,2,   0.000,2,  2186.6,2, 2334.54,2,  772.335,2,      20,   7.7192,2,       25,-999.000,9,   2.6716,2,    0.96,2,  -108.4,2,     1.9,  41.19876401,2,        24.51,2,  3099.0,     13.708,2,    35.0713,2,     -999.0,9,         -999.0,9,  -999.0,9,20131229,       2253
33RO20131223,       A16S,      13,          2,          6,          6,2,20131229,       2201,   -11.9984,   -24.9999,       5808,  3598.4,   2.4220,  34.8906,2,  34.8904,2,    248.5,2,   243.7,4,    42.4,2,    22.3,2,    0.00,2,   1.459,2,   0.044,2,   0.023,2,   0.000,2,  2189.8,2, 2336.38,2,  778.025,2,      20,   7.7176,2,       25,-999.000,9,   2.4223,2,    0.93,2,  -109.1,2,     2.0,   40.6431748,2,        24.79,2,  3598.4,     13.726,2,    35.0549,2,     -999.0,9,         -999.0,9,  -999.0,9,20131229,       2243
33RO20131223,       A16S,      13,          2,          5,          5,2,20131229,       2201,   -11.9984,   -24.9999,       5808,  4098.9,   1.6725,  34.8144,2,  34.8145,2,    236.3,2,   237.2,2,    71.4,2,    26.2,2,    0.00,2,   1.731,2,   0.028,2,   0.017,2,   0.018,2,    2218,2, 2350.63,2,   860.26,2,      20,     7.68,2,       25,-999.000,9,   1.6744,2,    0.76,2,  -127.4,2,     2.1,  40.40506514,2,        28.54,2,  4098.9,     15.221,2,    34.9786,2,     -999.0,9,         -999.0,9,  -999.0,9,20131229,       2234
33RO20131223,       A16S,      13,          2,          4,          4,2,20131229,       2201,   -11.9984,   -24.9999,       5808,  4598.2,   0.9723,  34.7408,2,  34.7425,2,    225.5,2,   226.5,2,    99.5,6,    29.6,6,    0.00,6,   2.001,6,   0.038,2,   0.020,2,   0.000,2,  2244.5,2, 2359.28,2,   957.78,2,      20,   7.6422,2,       25,-999.000,9,   0.9723,2,    0.69,6,  -150.8,6,     1.3,  40.15252459,2,        32.21,2,  4598.2,     16.605,2,    34.9063,6,     -999.0,9,         -999.0,9,  -999.0,9,20131229,       2225
33RO20131223,       A16S,      13,          2,          3,          3,2,20131229,       2201,   -11.9984,   -24.9999,       5808,    5098,   0.8151,  34.7194,2,  34.7314,4,    221.6,2,   223.1,2,   107.7,6,    30.5,6,    0.00,6,   2.078,6,   0.045,2,   0.025,2,   0.073,2,  2252.4,2, 2369.67,6,   989.76,2,      20,   7.9969,4,       25,-999.000,9,   0.8155,2,    0.61,2,  -158.0,2,     2.6,  39.44541105,2,        32.89,2,  5098.0,     16.795,2,    34.8952,2,     -999.0,9,         -999.0,9,  -999.0,9,20131229,       2216
33RO20131223,       A16S,      13,          2,          2,          2,2,20131229,       2201,   -11.9984,   -24.9999,       5808,  5598.2,   0.8063,  34.7113,2,  34.7123,2,    222.1,2,   221.7,2,   110.7,6,    30.8,6,    0.00,6,   2.104,6,   0.064,2,   0.033,2,   0.036,2,  2255.1,2, 2368.79,2, 1001.495,6,      20,   7.6225,6,       25,-999.000,9,   0.8063,2,    0.63,2,  -164.5,2,     1.8,  38.73829751,2,        33.22,2,  5598.2,     17.184,2,     34.876,2,     -999.0,9,         -999.0,9,  -999.0,9,20131229,       2207
33RO20131223,       A16S,      13,          2,          1,          1,2,20131229,       2201,   -11.9984,   -24.9999,       5808,  5912.4,   0.8254,  34.7085,2,  34.7082,2,    221.7,2,   221.1,2,   111.8,6,    30.9,6,    0.00,6,   2.117,6,   0.076,6,   0.037,6,   0.014,6,    2259,6,  2369.6,2,   997.33,2,      20,   7.6422,3,       25,-999.000,9,   0.8251,2,    0.56,2,  -159.3,2,     2.1,  39.04134617,2,        33.51,2,  5912.4,     17.194,6,    34.8718,2,     -999.0,9,         -999.0,9,  -999.0,9,20131229,       2201