BOTTLE,20220815CCHSIOAMB
EXPOCODE,SECT_ID,STNNBR,CASTNO,SAMPNO,BTLNBR,BTLNBR_FLAG_W,DATE,TIME,LATITUDE,LONGITUDE,DEPTH,CTDPRS,CTDTMP,CTDSAL,CTDSAL_FLAG_W,SALNTY,SALNTY_FLAG_W,CTDOXY,CTDOXY_FLAG_W,OXYGEN,OXYGEN_FLAG_W,SILCAT,SILCAT_FLAG_W,NITRAT,NITRAT_FLAG_W,NITRIT,NITRIT_FLAG_W,PHSPHT,PHSPHT_FLAG_W,CFC-11,CFC-11_FLAG_W,CFC-12,CFC-12_FLAG_W,SF6,SF6_FLAG_W,TCARBN,TCARBN_FLAG_W,ALKALI,ALKALI_FLAG_W,PCO2,PCO2_FLAG_W,PCO2TMP,PH_SWS,PH_SWS_FLAG_W,PH_TMP,TRITUM,TRITUM_FLAG_W,REFTMP,REFTMP_FLAG_W,DELC13,DELC13_FLAG_W,DELC14,DELC14_FLAG_W,C14ERR,DOC,DOC_FLAG_W,TDN,TDN_FLAG_W,CTDRAW,N2O,N2O_FLAG_W,SALTREF,SALTREF_FLAG_W,HELIUM,HELIUM_FLAG_W,DELO18,DELO18_FLAG_W,CCL4,CCL4_FLAG_W,BTL_DATE,BTL_TIME
,,,,,,,,,,,METERS,DBAR,ITS-90,PSS-78,,PSS-78,,UMOL/KG,,UMOL/KG,,UMOL/KG,,UMOL/KG,,UMOL/KG,,UMOL/KG,,PMOL/KG,,PMOL/KG,,FMOL/KG,,UMOL/KG,,UMOL/KG,,UATM,,DEG C,,,DEG C,TU,,DEG C,,/MILLE,,/MILLE,,/MILLE,UMOL/KG,,UMOL/KG,,DBAR,NMOL/KG,,G/KG,,NMOL/KG,,/MILLE,,PMOL/KG,,,
33RO20131223,       A16S,      39,          2,         24,         24,2,20140107,       0142,   -25.0005,   -25.0004,       5430,     2.4,  26.8557,  36.8628,2,  36.8611,2,    203.8,2,   209.8,2,     1.0,6,     0.0,6,    0.00,6,   0.095,6,   1.568,3,   1.022,2,   1.252,2,  2100.6,6, 2424.72,2,-999.0000,9, -999.00,   8.0325,2,       25,-999.000,9,  26.8338,2,    1.32,2,    45.5,2,     3.0,  68.69428147,2,         3.81,2,     2.4,      6.230,2,    37.0349,2,     -999.0,9,         -999.0,9,  -999.0,9,20140107,       0342
33RO20131223,       A16S,      39,          2,         23,         23,2,20140107,       0142,   -25.0005,   -25.0004,       5430,    10.2,  26.1470,  36.8197,2,  36.8109,2,    205.5,2,   207.9,2,     1.0,6,     0.0,6,    0.00,6,   0.094,6,   1.626,3,   1.061,6,   1.285,6,  2099.1,2, 2419.15,2,-999.0000,9, -999.00,   8.0328,2,       25,-999.000,9,  26.2243,2, -999.00,9,  -999.0,9,  -999.0,  66.45688399,2,         4.24,2,    10.2,      6.400,6,    36.9845,2,     -999.0,9,         -999.0,9,  -999.0,9,20140107,       0341
33RO20131223,       A16S,      39,          2,         22,         22,2,20140107,       0142,   -25.0005,   -25.0004,       5430,    39.1,  23.8421,  36.6564,2,  36.6585,2,    219.2,2,   220.4,2,     1.0,6,     0.0,6,    0.00,6,   0.099,6,   1.790,3,   1.151,2,   1.369,2,  2094.5,2, 2404.67,2,-999.0000,9, -999.00,   8.0245,2,       25,-999.000,9,  23.8706,2,    1.38,2,    46.5,2,     2.2,  65.33818525,2,         4.12,2,    39.1,      6.840,2,    36.8314,2,     -999.0,9,         -999.0,9,  -999.0,9,20140107,       0339
33RO20131223,       A16S,      39,          2,         21,         21,2,20140107,       0142,   -25.0005,   -25.0004,       5430,    66.9,  22.1046,  36.5671,2,  36.5692,2,      228,2,   227.7,2,     1.1,2,     0.0,2,    0.00,2,   0.125,2,   1.903,3,   1.206,2,   1.391,2,    2093,2, 2403.62,6,-999.0000,9, -999.00,   8.0231,2,       25,-999.000,9,  22.1059,2,    1.35,2,    42.7,2,     3.0,  63.79997448,2,         3.57,2,    66.9,      7.090,2,    36.7417,2,     -999.0,9,         -999.0,9,  -999.0,9,20140107,       0337
33RO20131223,       A16S,      39,          2,         20,         20,2,20140107,       0142,   -25.0005,   -25.0004,       5430,   117.4,  20.9122,  36.4350,2,  36.4336,2,    223.2,2,   223.3,2,     1.1,2,     0.1,2,    0.00,2,   0.147,2,   1.981,3,   1.241,2,   1.413,2,  2096.8,2, 2394.53,2,-999.0000,9, -999.00,   8.0046,2,       25,-999.000,9,  20.9091,2,    1.28,2,    46.6,2,     2.3,  60.91233336,2,         4.08,2,   117.4,      7.344,2,    36.6054,2,     -999.0,9,         -999.0,9,  -999.0,9,20140107,       0334
33RO20131223,       A16S,      39,          2,         19,         19,2,20140107,       0142,   -25.0005,   -25.0004,       5430,     199,  16.4778,  35.7048,2,  35.7175,2,    210.3,2,   210.1,2,     2.0,2,     3.6,2,    0.02,2,   0.416,2,   2.421,3,   1.476,2,   1.464,2,  2109.4,2, 2343.01,2,-999.0000,9, -999.00,   7.9099,2,       25,-999.000,9,   16.554,2,    0.95,2,    47.4,2,     2.3,  52.38924734,2,         6.73,2,   199.0,      9.331,2,    35.8859,2,     -999.0,9,         -999.0,9,  -999.0,9,20140107,       0332
33RO20131223,       A16S,      39,          2,         18,         18,2,20140107,       0142,   -25.0005,   -25.0004,       5430,     299,  13.7851,  35.2736,2,  35.2721,2,    207.9,2,   207.8,2,     3.3,2,     8.7,2,    0.01,2,   0.697,2,   2.748,3,   1.639,2,   1.417,2,  2121.2,2, 2317.63,2,-999.0000,9, -999.00,   7.8451,2,       25,-999.000,9,  13.7859,2,    0.96,2,    46.3,2,     2.7,  47.46697288,2,        11.46,2,   299.0,     11.924,2,    35.4385,2,     -999.0,9,         -999.0,9,  -999.0,9,20140107,       0329
33RO20131223,       A16S,      39,          2,         17,         17,2,20140107,       0142,   -25.0005,   -25.0004,       5430,   398.1,  11.5638,  35.0042,2,  35.0056,2,    205.6,2,   204.6,2,     5.3,2,    14.1,2,    0.00,2,   1.020,2,   2.944,3,   1.712,2,   1.243,2,  2138.2,2, 2309.75,2,-999.0000,9, -999.00,   7.7826,2,       25,-999.000,9,  11.5616,2,    0.96,6,    39.1,6,     1.8,  45.48827449,2,        16.84,2,   398.1,     14.054,2,    35.1707,2,     -999.0,9,         -999.0,9,  -999.0,9,20140107,       0326
33RO20131223,       A16S,      39,          2,         16,         16,2,20140107,       0142,   -25.0005,   -25.0004,       5430,   517.5,   9.3655,  34.7294,2,  34.7187,2,    195.9,2,   195.1,2,     9.6,2,    20.5,2,    0.00,2,   1.420,2,   2.951,3,   1.656,2,   0.985,2,  2158.5,2, 2298.74,2,-999.0000,9, -999.00,   7.7061,2,       25,-999.000,9,   9.3691,2,    0.97,2,    21.5,2,     2.4,  43.50258422,2,        23.12,2,   517.5,     16.596,2,    34.8825,2,     -999.0,9,         -999.0,9,  -999.0,9,20140107,       0323
33RO20131223,       A16S,      39,          2,         15,         15,2,20140107,       0142,   -25.0005,   -25.0004,       5430,   668.9,   6.7760,  34.4735,2,  34.4726,2,    195.8,2,   194.7,2,    16.4,2,    26.6,2,    0.00,2,   1.814,2,   2.732,3,   1.470,2,   0.711,2,  2178.2,2, 2287.52,2,-999.0000,9, -999.00,    7.642,2,       25,-999.000,9,   6.7775,2,    0.97,6,   -12.9,6,     4.5,  41.87347919,2,        29.06,2,   668.9,     18.653,2,    34.6352,2,     -999.0,9,         -999.0,9,  -999.0,9,20140107,       0319
33RO20131223,       A16S,      39,          2,         14,         14,2,20140107,       0142,   -25.0005,   -25.0004,       5430,     819,   4.6920,  34.3424,2,  34.3403,2,    206.4,2,   206.4,2,    26.8,2,    30.1,2,    0.00,2,   2.058,2,   2.333,3,   1.219,6,   0.541,6,  2192.5,2, 2290.69,2,-999.0000,9, -999.00,   7.6152,2,       25,-999.000,9,   4.6912,2,    0.94,2,   -48.0,2,     2.2,  40.04860187,2,        32.68,2,   819.0,     19.188,6,    34.5023,6,     -999.0,9,         -999.0,9,  -999.0,9,20140107,       0315
33RO20131223,       A16S,      39,          2,         13,         13,2,20140107,       0142,   -25.0005,   -25.0004,       5430,   997.3,   3.7865,  34.4006,2,  34.4003,2,    190.9,2,   191.1,2,    40.3,6,    32.3,6,    0.00,6,   2.212,6,   1.280,3,   0.656,2,   0.262,2,  2214.9,2, 2307.36,2,-999.0000,9, -999.00,   7.5841,6,       25,-999.000,9,   3.7871,2,    0.82,2,   -91.6,2,     1.9,  39.71299224,2,        34.82,2,   997.3,     20.892,2,    34.5625,2,     -999.0,9,         -999.0,9,  -999.0,9,20140107,       0311
33RO20131223,       A16S,      39,          2,         12,         12,2,20140107,       0142,   -25.0005,   -25.0004,       5430,  1150.7,   3.4472,  34.4942,2,  34.4950,2,    185.2,2,   184.3,2,    46.5,6,    32.4,6,    0.00,6,   2.218,6,   0.578,3,   0.292,2,   0.102,2,  2222.7,6, 2318.28,2,-999.0000,9, -999.00,   7.5821,2,       25,-999.000,9,   3.4509,2,    0.73,2,  -114.7,2,     1.8,  39.90177266,2,        35.05,2,  1150.7,     21.353,2,    34.6577,2,     -999.0,9,         -999.0,9,  -999.0,9,20140107,       0307
33RO20131223,       A16S,      39,          2,         11,         11,2,20140107,       0142,   -25.0005,   -25.0004,       5430,    1298,   3.1826,  34.6018,2,  34.6020,2,    187.7,2,   187.7,2,    49.9,6,    31.1,6,    0.00,6,   2.129,6,   0.247,3,   0.122,2,   0.053,2,  2224.6,2, 2324.09,6,-999.0000,9, -999.00,   7.5944,2,       25,-999.000,9,   3.1824,2,    0.65,2,  -126.0,2,     1.9,  39.77591905,2,        33.62,2,  1298.0,     20.513,2,    34.7652,2,     -999.0,9,         -999.0,9,  -999.0,9,20140107,       0303
33RO20131223,       A16S,      39,          2,         10,         10,2,20140107,       0142,   -25.0005,   -25.0004,       5430,  1597.1,   3.0598,  34.7696,2,  34.7679,2,    208.7,2,   208.8,2,    44.8,2,    27.1,2,    0.00,2,   1.838,2,   0.055,3,   0.023,2,   0.000,2,  2208.8,2, 2322.65,2,-999.0000,9, -999.00,    7.648,2,       25,-999.000,9,   3.0601,2,    0.81,2,  -128.0,2,     2.1,   40.6149431,2,        29.65,2,  1597.1,     17.799,2,    34.9319,2,     -999.0,9,         -999.0,9,  -999.0,9,20140107,       0257
33RO20131223,       A16S,      39,          2,          9,          9,2,20140107,       0142,   -25.0005,   -25.0004,       5430,  1948.6,   3.0838,  34.8853,2,  34.8861,2,      236,2,   235.3,2,    34.1,2,    22.8,2,    0.00,2,   1.531,2,   0.068,3,   0.030,2,   0.000,2,  2186.2,2, 2324.46,2,-999.0000,9, -999.00,   7.7009,2,       25,-999.000,9,   3.0837,2,    0.96,2,  -102.7,2,     2.0,  41.35608102,2,        25.41,2,  1948.6,     15.088,2,    35.0506,2,     -999.0,9,         -999.0,9,  -999.0,9,20140107,       0250
33RO20131223,       A16S,      39,          2,          8,          8,2,20140107,       0142,   -25.0005,   -25.0004,       5430,    2348,   2.9869,  34.9269,2,  34.9276,2,    246.9,2,   247.9,2,    29.5,2,    20.9,2,    0.00,2,   1.392,2,   0.076,3,   0.034,2,   0.000,2,  2177.3,2, 2326.54,2,-999.0000,9, -999.00,   7.7222,2,       25,-999.000,9,    2.987,2, -999.00,9,  -999.0,9,  -999.0,  41.88047105,2,        23.34,2,  2348.0,     13.710,2,    35.0923,2,     -999.0,9,         -999.0,9,  -999.0,9,20140107,       0242
33RO20131223,       A16S,      39,          2,          7,          7,2,20140107,       0142,   -25.0005,   -25.0004,       5430,  2747.1,   2.8000,  34.9220,2,  34.9245,2,    249.8,2,   250.1,2,    31.8,2,    20.8,2,    0.00,2,   1.390,2,   0.071,3,   0.031,2,   0.000,2,  2178.5,2, 2328.41,2,-999.0000,9, -999.00,    7.724,2,       25,-999.000,9,   2.8004,2, -999.00,9,  -999.0,9,  -999.0,  42.39786922,2,         23.4,2,  2747.1,     13.542,2,    35.0892,2,     -999.0,9,         -999.0,9,  -999.0,9,20140107,       0235
33RO20131223,       A16S,      39,          2,          6,          6,2,20140107,       0142,   -25.0005,   -25.0004,       5430,  3248.3,   2.5497,  34.9049,2,  34.9050,2,    250.4,2,   251.2,2,    37.0,2,    21.2,2,    0.00,2,   1.420,2,   0.057,3,   0.024,2,   0.000,2,  2182.4,2, 2332.66,2,-999.0000,9, -999.00,    7.723,2,       25,-999.000,9,   2.5522,2, -999.00,9,  -999.0,9,  -999.0,  42.09022707,2,        23.74,2,  3248.3,     13.637,2,    35.0696,2,     -999.0,9,         -999.0,9,  -999.0,9,20140107,       0225
33RO20131223,       A16S,      39,          2,          5,          5,2,20140107,       0142,   -25.0005,   -25.0004,       5430,  3748.3,   2.0166,  34.8499,2,  34.8497,2,      243,2,   243.3,2,    57.5,2,    23.9,2,    0.00,2,   1.619,2,   0.029,3,   0.009,6,   0.169,6,  2202.9,2, 2343.27,2,-999.0000,9, -999.00,   7.6991,2,       25,-999.000,9,   2.0166,2, -999.00,9,  -999.0,9,  -999.0,  41.60778823,2,        26.56,2,  3748.3,     14.643,6,    35.0141,2,     -999.0,9,         -999.0,9,  -999.0,9,20140107,       0216
33RO20131223,       A16S,      39,          2,          4,          4,2,20140107,       0142,   -25.0005,   -25.0004,       5430,  4250.5,   1.3367,  34.7777,2,  34.7789,2,    231.4,2,     232,2,    85.2,2,    27.6,2,    0.00,2,   1.887,2,   0.045,3,   0.017,2,   0.208,2,  2229.9,2, 2357.63,2,-999.0000,9, -999.00,   7.6578,2,       25,-999.000,9,   1.3372,2, -999.00,9,  -999.0,9,  -999.0,        40.76,2,        30.29,2,  4250.5,     15.869,2,    34.9429,6,     -999.0,9,         -999.0,9,  -999.0,9,20140107,       0207
33RO20131223,       A16S,      39,          2,          3,          3,2,20140107,       0142,   -25.0005,   -25.0004,       5430,  4747.3,   1.0900,  34.7477,2,  34.7483,2,      228,2,   227.7,2,    96.5,6,    29.1,6,    0.00,6,   1.995,6,   0.071,3,   0.030,2,   0.207,2,  2241.2,2, 2361.86,2,-999.0000,9, -999.00,   7.6411,2,       25,-999.000,9,   1.0899,2, -999.00,9,  -999.0,9,  -999.0,        40.34,2,        31.52,2,  4747.3,     16.375,2,    34.9121,2,     -999.0,9,         -999.0,9,  -999.0,9,20140107,       0158
33RO20131223,       A16S,      39,          2,          2,          2,2,20140107,       0142,   -25.0005,   -25.0004,       5430,  5249.1,   0.8742,  34.7208,2,  34.7202,2,    224.6,2,   224.4,2,   106.7,6,    30.4,6,    0.00,6,   2.088,6,   0.125,3,   0.057,2,   0.061,2,  2249.8,2, 2365.68,2,-999.0000,9, -999.00,   7.6243,6,       25,-999.000,9,    0.874,2, -999.00,9,  -999.0,9,  -999.0,  40.34226029,2,        33.13,2,  5249.1,     17.166,2,    34.8839,2,     -999.0,9,         -999.0,9,  -999.0,9,20140107,       0149
33RO20131223,       A16S,      39,          2,          1,          1,2,20140107,       0142,   -25.0005,   -25.0004,       5430,  5549.5,   0.7847,  34.7078,2,  34.7083,2,      224,2,   223.4,2,   111.4,6,    31.0,6,    0.00,6,   2.134,6,   0.155,3,   0.072,2,   0.000,2,  2257.1,6, 2367.57,2,-999.0000,9, -999.00,   7.6361,3,       25,-999.000,9,   0.7848,2, -999.00,9,  -999.0,9,  -999.0,  39.73396785,2,        33.64,2,  5549.5,     17.335,2,     34.872,2,     -999.0,9,         -999.0,9,  -999.0,9,20140107,       0142