BOTTLE,20220815CCHSIOAMB
EXPOCODE,SECT_ID,STNNBR,CASTNO,SAMPNO,BTLNBR,BTLNBR_FLAG_W,DATE,TIME,LATITUDE,LONGITUDE,DEPTH,CTDPRS,CTDTMP,CTDSAL,CTDSAL_FLAG_W,SALNTY,SALNTY_FLAG_W,CTDOXY,CTDOXY_FLAG_W,OXYGEN,OXYGEN_FLAG_W,SILCAT,SILCAT_FLAG_W,NITRAT,NITRAT_FLAG_W,NITRIT,NITRIT_FLAG_W,PHSPHT,PHSPHT_FLAG_W,CFC-11,CFC-11_FLAG_W,CFC-12,CFC-12_FLAG_W,SF6,SF6_FLAG_W,TCARBN,TCARBN_FLAG_W,ALKALI,ALKALI_FLAG_W,PCO2,PCO2_FLAG_W,PCO2TMP,PH_SWS,PH_SWS_FLAG_W,PH_TMP,TRITUM,TRITUM_FLAG_W,REFTMP,REFTMP_FLAG_W,DELC13,DELC13_FLAG_W,DELC14,DELC14_FLAG_W,C14ERR,DOC,DOC_FLAG_W,TDN,TDN_FLAG_W,CTDRAW,N2O,N2O_FLAG_W,SALTREF,SALTREF_FLAG_W,HELIUM,HELIUM_FLAG_W,DELO18,DELO18_FLAG_W,CCL4,CCL4_FLAG_W,BTL_DATE,BTL_TIME
,,,,,,,,,,,METERS,DBAR,ITS-90,PSS-78,,PSS-78,,UMOL/KG,,UMOL/KG,,UMOL/KG,,UMOL/KG,,UMOL/KG,,UMOL/KG,,PMOL/KG,,PMOL/KG,,FMOL/KG,,UMOL/KG,,UMOL/KG,,UATM,,DEG C,,,DEG C,TU,,DEG C,,/MILLE,,/MILLE,,/MILLE,UMOL/KG,,UMOL/KG,,DBAR,NMOL/KG,,G/KG,,NMOL/KG,,/MILLE,,PMOL/KG,,,
33RO20131223,       A16S,      18,          1,         24,         24,2,20131231,       1253,   -14.5005,   -25.0008,       5405,     3.7,  25.7151,  37.0748,2,  37.0746,2,    202.5,2,   203.8,2,     0.8,2,     0.0,2,    0.00,2,   0.076,2,   1.540,2,   1.035,2,   1.291,2,  2086.2,6, 2432.19,2,-999.0000,9, -999.00,   8.0695,2,       25,-999.000,9,  25.7116,2, -999.00,9,  -999.0,9,  -999.0,-999.00000000,9,-999.00000000,9,     3.7,      6.121,2,    37.2494,2,     -999.0,9,         -999.0,9,  -999.0,9,20131231,       1453
33RO20131223,       A16S,      18,          1,         23,         23,2,20131231,       1253,   -14.5005,   -25.0008,       5405,    28.3,  25.3992,  37.0751,2,  37.0822,2,    202.9,2,   205.1,2,     0.8,2,     0.0,2,    0.00,2,   0.082,2,-999.000,9,-999.000,9,-999.000,9,  -999.0,9, -999.00,9,-999.0000,9, -999.00,-999.0000,9,  -999.00,-999.000,9,  25.4005,2, -999.00,9,  -999.0,9,  -999.0,-999.00000000,9,-999.00000000,9,    28.3,     -999.0,9,     37.257,2,     -999.0,9,         -999.0,9,  -999.0,9,20131231,       1450
33RO20131223,       A16S,      18,          1,         22,         22,2,20131231,       1253,   -14.5005,   -25.0008,       5405,    68.4,  23.9242,  37.1366,2,  37.1261,2,    213.9,2,   214.7,2,     0.8,2,     0.0,2,    0.00,2,   0.155,2,-999.000,9,-999.000,9,-999.000,9,  2107.2,2, 2435.77,2,-999.0000,9, -999.00,   8.0425,6,       25,-999.000,9,   23.921,2, -999.00,9,  -999.0,9,  -999.0,-999.00000000,9,-999.00000000,9,    68.4,     -999.0,9,    37.3011,2,     -999.0,9,         -999.0,9,  -999.0,9,20131231,       1448
33RO20131223,       A16S,      18,          1,         21,         21,2,20131231,       1253,   -14.5005,   -25.0008,       5405,   107.7,  22.9689,  37.0278,2,  37.0221,2,    213.1,2,   213.5,2,     0.9,2,     0.1,2,    0.00,2,   0.177,2,-999.000,9,-999.000,9,-999.000,9,  2108.4,2,  2431.3,6,-999.0000,9, -999.00,   8.0303,2,       25,-999.000,9,  22.9635,2, -999.00,9,  -999.0,9,  -999.0,-999.00000000,9,-999.00000000,9,   107.7,     -999.0,9,    37.1967,2,     -999.0,9,         -999.0,9,  -999.0,9,20131231,       1446
33RO20131223,       A16S,      18,          1,         20,         20,2,20131231,       1253,   -14.5005,   -25.0008,       5405,   172.7,  20.2177,  36.4809,2,  36.4705,2,    199.8,2,     200,2,     1.2,2,     1.5,2,    0.12,2,   0.357,2,   1.956,2,   1.280,2,   1.408,2,  2122.3,2, 2396.56,2,-999.0000,9, -999.00,   7.9608,2,       25,-999.000,9,     20.2,2, -999.00,9,  -999.0,9,  -999.0,-999.00000000,9,-999.00000000,9,   172.7,      7.876,2,    36.6425,2,     -999.0,9,         -999.0,9,  -999.0,9,20131231,       1443
33RO20131223,       A16S,      18,          1,         19,         19,2,20131231,       1253,   -14.5005,   -25.0008,       5405,   257.1,  14.4180,  35.4568,2,  35.4263,3,    160.9,2,   158.1,2,     4.8,2,    14.1,2,    0.01,2,   1.021,2,   2.425,2,   1.481,2,   1.130,2,  2157.3,2, 2329.65,2,-999.0000,9, -999.00,   7.7787,2,       25,-999.000,9,  14.4136,2, -999.00,9,  -999.0,9,  -999.0,-999.00000000,9,-999.00000000,9,   257.1,     16.563,2,    35.5934,2,     -999.0,9,         -999.0,9,  -999.0,9,20131231,       1440
33RO20131223,       A16S,      18,          1,         18,         18,2,20131231,       1253,   -14.5005,   -25.0008,       5405,   368.4,  10.3222,  34.8897,2,  34.8869,2,    138.3,2,   136.8,2,    10.5,2,    23.8,2,    0.00,2,   1.591,2,-999.000,9,-999.000,9,-999.000,9,  2187.9,2, 2302.92,2,-999.0000,9, -999.00,   7.6421,3,       25,-999.000,9,  10.3326,2, -999.00,9,  -999.0,9,  -999.0,-999.00000000,9,-999.00000000,9,   368.4,     -999.0,9,    35.0514,2,     -999.0,9,         -999.0,9,  -999.0,9,20131231,       1437
33RO20131223,       A16S,      18,          1,         17,         17,2,20131231,       1253,   -14.5005,   -25.0008,       5405,   410.2,   9.5062,  34.8109,2,  34.8065,2,    133.3,2,   131.2,2,    12.5,2,    26.2,2,    0.00,2,   1.737,2,-999.000,9,-999.000,9,-999.000,9,  2195.5,6, 2299.38,2,-999.0000,9, -999.00,   7.6153,2,       25,-999.000,9,   9.4963,2, -999.00,9,  -999.0,9,  -999.0,-999.00000000,9,-999.00000000,9,   410.2,     -999.0,9,    34.9706,2,     -999.0,9,         -999.0,9,  -999.0,9,20131231,       1435
33RO20131223,       A16S,      18,          1,         16,         16,2,20131231,       1253,   -14.5005,   -25.0008,       5405,     499,   7.4392,  34.6137,2,  34.6127,2,    140.4,2,   140.5,2,    17.7,2,    29.8,2,    0.00,2,   1.968,2,-999.000,9,-999.000,9,-999.000,9,  2204.3,2, 2295.92,6,-999.0000,9, -999.00,    7.582,2,       25,-999.000,9,    7.442,2, -999.00,9,  -999.0,9,  -999.0,-999.00000000,9,-999.00000000,9,   499.0,     -999.0,9,    34.7759,6,     -999.0,9,         -999.0,9,  -999.0,9,20131231,       1432
33RO20131223,       A16S,      18,          1,         15,         15,2,20131231,       1253,   -14.5005,   -25.0008,       5405,   772.4,   4.3116,  34.4250,2,  34.4260,2,    176.2,2,   175.9,2,    32.8,2,    32.6,2,    0.00,2,   2.198,2,   0.670,6,   0.338,6,   0.100,6,    2211,2, 2303.03,2,-999.0000,9, -999.00,   7.5778,2,       25,-999.000,9,   4.3094,2, -999.00,9,  -999.0,9,  -999.0,-999.00000000,9,-999.00000000,9,   772.4,     21.024,6,    34.5883,2,     -999.0,9,         -999.0,9,  -999.0,9,20131231,       1426
33RO20131223,       A16S,      18,          1,         14,         14,2,20131231,       1253,   -14.5005,   -25.0008,       5405,   923.4,   3.9237,  34.4877,2,  34.4893,2,    175.8,2,     175,2,    36.9,2,    32.5,2,    0.00,2,   2.198,2,   0.319,2,   0.160,2,   0.034,2,  2218.6,2, 2305.85,2,-999.0000,9, -999.00,    7.574,2,       25,-999.000,9,   3.9236,2, -999.00,9,  -999.0,9,  -999.0,-999.00000000,9,-999.00000000,9,   923.4,     20.907,2,    34.6519,2,     -999.0,9,         -999.0,9,  -999.0,9,20131231,       1422
33RO20131223,       A16S,      18,          1,         13,         13,2,20131231,       1253,   -14.5005,   -25.0008,       5405,  1098.5,   3.9103,  34.6195,2,  34.6191,2,    176.8,2,   177.2,2,    35.2,2,    30.8,2,    0.00,2,   2.086,2,-999.000,9,-999.000,9,-999.000,9,  -999.0,9, -999.00,9,-999.0000,9, -999.00,-999.0000,9,  -999.00,-999.000,9,   3.9099,2, -999.00,9,  -999.0,9,  -999.0,-999.00000000,9,-999.00000000,9,  1098.5,     -999.0,9,    34.7823,2,     -999.0,9,         -999.0,9,  -999.0,9,20131231,       1418
33RO20131223,       A16S,      18,          1,         12,         12,2,20131231,       1253,   -14.5005,   -25.0008,       5405,  1248.1,   4.0799,  34.7626,2,  34.7649,2,    187.9,2,   188.7,2,    29.5,2,    27.8,2,    0.00,2,   1.873,2,-999.000,9,-999.000,9,-999.000,9,  2207.4,2, 2314.31,2,-999.0000,9, -999.00,   7.6275,2,       25,-999.000,9,   4.0803,2, -999.00,9,  -999.0,9,  -999.0,-999.00000000,9,-999.00000000,9,  1248.1,     -999.0,9,    34.9289,2,     -999.0,9,         -999.0,9,  -999.0,9,20131231,       1415
33RO20131223,       A16S,      18,          1,         11,         11,2,20131231,       1253,   -14.5005,   -25.0008,       5405,  1398.1,   4.1042,  34.8458,2,  34.8469,2,    202.7,2,   203.5,2,    25.9,2,    25.5,2,    0.00,2,   1.701,2,-999.000,9,-999.000,9,-999.000,9,  -999.0,9, -999.00,9,-999.0000,9, -999.00,-999.0000,9,  -999.00,-999.000,9,   4.1042,2, -999.00,9,  -999.0,9,  -999.0,-999.00000000,9,-999.00000000,9,  1398.1,     -999.0,9,    35.0113,2,     -999.0,9,         -999.0,9,  -999.0,9,20131231,       1411
33RO20131223,       A16S,      18,          1,         10,         10,2,20131231,       1253,   -14.5005,   -25.0008,       5405,  1586.3,   3.9120,  34.9162,2,  34.9156,2,    223.7,2,   222.6,2,    23.3,2,    22.5,2,    0.00,2,   1.506,2,   0.128,2,   0.064,2,   0.023,2,  2186.1,2, 2318.64,2,-999.0000,9, -999.00,   7.6929,2,       25,-999.000,9,   3.9116,2, -999.00,9,  -999.0,9,  -999.0,-999.00000000,9,-999.00000000,9,  1586.3,     15.230,2,    35.0802,2,     -999.0,9,         -999.0,9,  -999.0,9,20131231,       1406
33RO20131223,       A16S,      18,          1,          9,          9,2,20131231,       1253,   -14.5005,   -25.0008,       5405,  1947.8,   3.2832,  34.9225,2,  34.9217,2,    237.9,2,   238.9,2,    28.4,2,    21.4,2,    0.00,2,   1.433,2,-999.000,9,-999.000,9,-999.000,9,  -999.0,9, -999.00,9,-999.0000,9, -999.00,-999.0000,9,  -999.00,-999.000,9,   3.2831,2, -999.00,9,  -999.0,9,  -999.0,-999.00000000,9,-999.00000000,9,  1947.8,     -999.0,9,    35.0864,2,     -999.0,9,         -999.0,9,  -999.0,9,20131231,       1359
33RO20131223,       A16S,      18,          1,          8,          8,2,20131231,       1253,   -14.5005,   -25.0008,       5405,  2397.7,   2.8668,  34.9038,2,  34.9052,2,    238.9,2,   239.2,2,    36.7,2,    22.0,2,    0.00,2,   1.471,2,-999.000,9,-999.000,9,-999.000,9,  2187.3,2, 2331.19,2,-999.0000,9, -999.00,   7.7092,2,       25,-999.000,9,   2.8664,2, -999.00,9,  -999.0,9,  -999.0,-999.00000000,9,-999.00000000,9,  2397.7,     -999.0,9,    35.0698,2,     -999.0,9,         -999.0,9,  -999.0,9,20131231,       1351
33RO20131223,       A16S,      18,          1,          7,          7,2,20131231,       1253,   -14.5005,   -25.0008,       5405,  2949.8,   2.6607,  34.8956,2,  34.8979,2,    239.5,2,   240.1,2,    41.3,2,    22.2,2,    0.00,2,   1.491,2,-999.000,9,-999.000,9,-999.000,9,  2192.8,2, 2336.51,2,-999.0000,9, -999.00,   7.7163,2,       25,-999.000,9,   2.6606,2, -999.00,9,  -999.0,9,  -999.0,-999.00000000,9,-999.00000000,9,  2949.8,     -999.0,9,    35.0625,2,     -999.0,9,         -999.0,9,  -999.0,9,20131231,       1341
33RO20131223,       A16S,      18,          1,          6,          6,2,20131231,       1253,   -14.5005,   -25.0008,       5405,    3448,   2.4499,  34.8861,2,  34.8853,2,    242.5,2,   243.2,2,    45.0,2,    22.3,2,    0.00,2,   1.497,2,-999.000,9,-999.000,9,-999.000,9,  2194.1,2, 2339.83,2,-999.0000,9, -999.00,   7.7115,2,       25,-999.000,9,   2.4498,2, -999.00,9,  -999.0,9,  -999.0,-999.00000000,9,-999.00000000,9,  3448.0,     -999.0,9,    35.0498,2,     -999.0,9,         -999.0,9,  -999.0,9,20131231,       1331
33RO20131223,       A16S,      18,          1,          5,          5,2,20131231,       1253,   -14.5005,   -25.0008,       5405,  3948.2,   1.8412,  34.8325,2,  34.8336,2,      239,2,   239.8,2,    64.0,2,    24.4,2,    0.00,2,   1.658,2,   0.027,2,   0.017,2,   0.000,2,  2209.8,2, 2348.94,2,-999.0000,9, -999.00,   7.6903,2,       25,-999.000,9,   1.8408,2, -999.00,9,  -999.0,9,  -999.0,-999.00000000,9,-999.00000000,9,  3948.2,     14.461,2,    34.9979,6,     -999.0,9,         -999.0,9,  -999.0,9,20131231,       1322
33RO20131223,       A16S,      18,          1,          4,          4,2,20131231,       1253,   -14.5005,   -25.0008,       5405,  4447.3,   1.1107,  34.7551,2,  34.7562,2,    227.1,2,   228.2,2,    93.3,6,    28.5,6,    0.00,6,   1.943,6,-999.000,9,-999.000,9,-999.000,9,  -999.0,9, -999.00,9,-999.0000,9, -999.00,-999.0000,9,  -999.00,-999.000,9,   1.1105,2, -999.00,9,  -999.0,9,  -999.0,-999.00000000,9,-999.00000000,9,  4447.3,     -999.0,9,      34.92,2,     -999.0,9,         -999.0,9,  -999.0,9,20131231,       1313
33RO20131223,       A16S,      18,          1,          3,          3,2,20131231,       1253,   -14.5005,   -25.0008,       5405,  4948.7,   0.8321,  34.7216,2,  34.7240,2,    222.6,2,   223.3,2,   105.9,6,    30.2,6,    0.00,6,   2.057,6,-999.000,9,-999.000,9,-999.000,9,  2251.5,2, 2360.08,2,-999.0000,9, -999.00,   7.6263,6,       25,-999.000,9,   0.8319,2, -999.00,9,  -999.0,9,  -999.0,-999.00000000,9,-999.00000000,9,  4948.7,     -999.0,9,    34.8878,2,     -999.0,9,         -999.0,9,  -999.0,9,20131231,       1304
33RO20131223,       A16S,      18,          1,          2,          2,2,20131231,       1253,   -14.5005,   -25.0008,       5405,  5348.5,   0.7535,  34.7080,2,  34.7098,2,    221.7,2,   221.6,2,   110.9,6,    30.8,6,    0.00,6,   2.107,6,-999.000,9,-999.000,9,-999.000,9,  -999.0,9, -999.00,9,-999.0000,9, -999.00,-999.0000,9,  -999.00,-999.000,9,   0.7531,2, -999.00,9,  -999.0,9,  -999.0,-999.00000000,9,-999.00000000,9,  5348.5,     -999.0,9,    34.8735,2,     -999.0,9,         -999.0,9,  -999.0,9,20131231,       1257
33RO20131223,       A16S,      18,          1,          1,          1,2,20131231,       1253,   -14.5005,   -25.0008,       5405,  5486.3,   0.7543,  34.7062,2,  34.7065,2,    221.3,2,   222.3,2,   111.7,6,    30.8,6,    0.00,6,   2.112,6,   0.161,2,   0.075,2,   0.050,2,  2256.7,6, 2365.63,2,-999.0000,9, -999.00,   7.6164,2,       25,-999.000,9,   0.7538,2, -999.00,9,  -999.0,9,  -999.0,-999.00000000,9,-999.00000000,9,  5486.3,     17.028,2,    34.8701,2,     -999.0,9,         -999.0,9,  -999.0,9,20131231,       1253