BOTTLE,20220815CCHSIOAMB
EXPOCODE,SECT_ID,STNNBR,CASTNO,SAMPNO,BTLNBR,BTLNBR_FLAG_W,DATE,TIME,LATITUDE,LONGITUDE,DEPTH,CTDPRS,CTDTMP,CTDSAL,CTDSAL_FLAG_W,SALNTY,SALNTY_FLAG_W,CTDOXY,CTDOXY_FLAG_W,OXYGEN,OXYGEN_FLAG_W,SILCAT,SILCAT_FLAG_W,NITRAT,NITRAT_FLAG_W,NITRIT,NITRIT_FLAG_W,PHSPHT,PHSPHT_FLAG_W,CFC-11,CFC-11_FLAG_W,CFC-12,CFC-12_FLAG_W,SF6,SF6_FLAG_W,TCARBN,TCARBN_FLAG_W,ALKALI,ALKALI_FLAG_W,PCO2,PCO2_FLAG_W,PCO2TMP,PH_SWS,PH_SWS_FLAG_W,PH_TMP,TRITUM,TRITUM_FLAG_W,REFTMP,REFTMP_FLAG_W,DELC13,DELC13_FLAG_W,DELC14,DELC14_FLAG_W,C14ERR,DOC,DOC_FLAG_W,TDN,TDN_FLAG_W,CTDRAW,N2O,N2O_FLAG_W,SALTREF,SALTREF_FLAG_W,HELIUM,HELIUM_FLAG_W,DELO18,DELO18_FLAG_W,CCL4,CCL4_FLAG_W,BTL_DATE,BTL_TIME
,,,,,,,,,,,METERS,DBAR,ITS-90,PSS-78,,PSS-78,,UMOL/KG,,UMOL/KG,,UMOL/KG,,UMOL/KG,,UMOL/KG,,UMOL/KG,,PMOL/KG,,PMOL/KG,,FMOL/KG,,UMOL/KG,,UMOL/KG,,UATM,,DEG C,,,DEG C,TU,,DEG C,,/MILLE,,/MILLE,,/MILLE,UMOL/KG,,UMOL/KG,,DBAR,NMOL/KG,,G/KG,,NMOL/KG,,/MILLE,,PMOL/KG,,,
33RO20131223,       A16S,      76,          1,         24,         24,2,20140118,       1652,   -43.4997,   -29.9633,       4689,     4.2,  12.1409,  34.3171,2,  34.3182,2,    271.1,2,   270.4,2,     0.5,2,     7.1,2,    0.12,2,   0.676,2,   3.194,2,   1.844,2,   2.046,2,  2072.8,6,  2288.6,2,-999.0000,9, -999.00,    7.893,2,       25,-999.000,9,  12.1434,2, -999.00,9,  -999.0,9,  -999.0,-999.00000000,9,-999.00000000,9,     4.2,      9.808,2,      34.48,2,     -999.0,9,         -999.0,9,  -999.0,9,20140118,       1838
33RO20131223,       A16S,      76,          1,         23,         23,2,20140118,       1652,   -43.4997,   -29.9633,       4689,    27.6,  12.1393,  34.3174,2,  34.3189,2,      272,2,   270.2,2,     0.5,2,     7.1,2,    0.12,2,   0.674,2,-999.000,9,-999.000,9,-999.000,9,  2073.2,2, 2286.67,6,-999.0000,9, -999.00,   7.8933,2,       25,-999.000,9,  12.1393,2, -999.00,9,  -999.0,9,  -999.0,-999.00000000,9,-999.00000000,9,    27.6,     -999.0,9,    34.4808,2,     -999.0,9,         -999.0,9,  -999.0,9,20140118,       1836
33RO20131223,       A16S,      76,          1,         22,         22,3,20140118,       1652,   -43.4997,   -29.9633,       4689,    67.6,  10.8118,  34.5923,2,-999.0000,9,    259.4,2,  -999.0,9,  -999.0,9,  -999.0,9, -999.00,9,-999.000,9,-999.000,9,-999.000,9,-999.000,9,  -999.0,9, -999.00,9,-999.0000,9, -999.00,-999.0000,9,  -999.00,-999.000,9,  10.8062,2, -999.00,9,  -999.0,9,  -999.0,-999.00000000,9,-999.00000000,9,    67.6,     -999.0,9,     -999.0,9,     -999.0,9,         -999.0,9,  -999.0,9,20140118,       1834
33RO20131223,       A16S,      76,          1,         21,         21,2,20140118,       1652,   -43.4997,   -29.9633,       4689,   108.1,   8.8505,  34.5342,2,  34.5436,2,      260,2,   252.2,2,     3.0,2,    15.2,2,    0.02,2,   1.116,2,-999.000,9,-999.000,9,-999.000,9,  2127.5,2, 2293.12,2,-999.0000,9, -999.00,   7.7764,2,       25,-999.000,9,   8.8463,2, -999.00,9,  -999.0,9,  -999.0,-999.00000000,9,-999.00000000,9,   108.1,     -999.0,9,    34.7065,2,     -999.0,9,         -999.0,9,  -999.0,9,20140118,       1832
33RO20131223,       A16S,      76,          1,         20,         20,2,20140118,       1652,   -43.4997,   -29.9633,       4689,   173.3,   7.7585,  34.4641,2,  34.4657,2,    252.5,2,   256.2,2,     4.7,2,    18.0,2,    0.01,2,   1.273,2,   3.794,2,   2.133,2,   2.020,2,  2136.5,2, 2291.13,2,-999.0000,9, -999.00,   7.7475,2,       25,-999.000,9,   7.7601,2, -999.00,9,  -999.0,9,  -999.0,-999.00000000,9,-999.00000000,9,   173.3,     12.980,2,    34.6283,2,     -999.0,9,         -999.0,9,  -999.0,9,20140118,       1830
33RO20131223,       A16S,      76,          1,         19,         19,2,20140118,       1652,   -43.4997,   -29.9633,       4689,   258.9,   5.8273,  34.2588,2,  34.2587,2,    249.1,2,   246.5,2,     8.3,2,    24.4,2,    0.01,2,   1.666,2,-999.000,9,-999.000,9,-999.000,9,  2155.7,2, 2276.35,2,-999.0000,9, -999.00,   7.7593,3,       25,-999.000,9,   5.8286,2, -999.00,9,  -999.0,9,  -999.0,-999.00000000,9,-999.00000000,9,   258.9,     -999.0,9,    34.4203,2,     -999.0,9,         -999.0,9,  -999.0,9,20140118,       1827
33RO20131223,       A16S,      76,          1,         18,         18,2,20140118,       1652,   -43.4997,   -29.9633,       4689,   369.5,   4.5092,  34.1447,2,  34.1494,2,    269.5,2,   266.2,2,    10.8,2,    26.0,2,    0.01,2,   1.777,2,-999.000,9,-999.000,9,-999.000,9,  -999.0,9, -999.00,9,-999.0000,9, -999.00,-999.0000,9,  -999.00,-999.000,9,   4.5091,2, -999.00,9,  -999.0,9,  -999.0,-999.00000000,9,-999.00000000,9,   369.5,     -999.0,9,    34.3104,2,     -999.0,9,         -999.0,9,  -999.0,9,20140118,       1824
33RO20131223,       A16S,      76,          1,         17,         17,2,20140118,       1652,   -43.4997,   -29.9633,       4689,   469.2,   4.0338,  34.1448,2,  34.1443,2,    258.7,2,   261.4,2,    14.8,2,    27.3,2,    0.01,2,   1.869,2,   4.126,2,   2.231,2,   1.769,2,  2166.9,2, 2280.12,2,-999.0000,9, -999.00,   7.6544,2,       25,-999.000,9,   4.0335,2, -999.00,9,  -999.0,9,  -999.0,-999.00000000,9,-999.00000000,9,   469.2,     15.503,2,    34.3053,6,     -999.0,9,         -999.0,9,  -999.0,9,20140118,       1822
33RO20131223,       A16S,      76,          1,         16,         16,2,20140118,       1652,   -43.4997,   -29.9633,       4689,   600.5,   3.6428,  34.1763,2,  34.1758,2,    245.6,2,     248,2,    21.1,2,    28.9,2,    0.01,2,   1.978,2,   3.655,2,   1.938,2,   1.360,2,  2179.6,2, 2284.18,2,-999.0000,9, -999.00,   7.6297,2,       25,-999.000,9,   3.6443,2, -999.00,9,  -999.0,9,  -999.0,-999.00000000,9,-999.00000000,9,   600.5,     17.246,2,    34.3369,2,     -999.0,9,         -999.0,9,  -999.0,9,20140118,       1818
33RO20131223,       A16S,      76,          1,         15,         15,2,20140118,       1652,   -43.4997,   -29.9633,       4689,   773.5,   3.1752,  34.2250,2,  34.2240,2,    227.4,2,   229.5,2,    30.9,2,    30.9,2,    0.00,2,   2.115,2,-999.000,9,-999.000,9,-999.000,9,  2198.6,2, 2297.49,2,-999.0000,9, -999.00,   7.6016,2,       25,-999.000,9,   3.1755,2, -999.00,9,  -999.0,9,  -999.0,-999.00000000,9,-999.00000000,9,   773.5,     -999.0,9,    34.3854,2,     -999.0,9,         -999.0,9,  -999.0,9,20140118,       1814
33RO20131223,       A16S,      76,          1,         14,         14,2,20140118,       1652,   -43.4997,   -29.9633,       4689,     923,   3.0389,  34.3050,2,  34.3062,2,    206.5,2,   208.2,2,    40.9,2,    32.3,2,    0.00,2,   2.218,2,-999.000,9,-999.000,9,-999.000,9,  -999.0,9, -999.00,9,-999.0000,9, -999.00,-999.0000,9,  -999.00,-999.000,9,   3.0393,2, -999.00,9,  -999.0,9,  -999.0,-999.00000000,9,-999.00000000,9,   923.0,     -999.0,9,     34.468,2,     -999.0,9,         -999.0,9,  -999.0,9,20140118,       1811
33RO20131223,       A16S,      76,          1,         13,         13,2,20140118,       1652,   -43.4997,   -29.9633,       4689,  1098.9,   2.9205,  34.4234,2,  34.4218,2,    186.1,2,   186.2,2,    52.4,2,    33.4,2,    0.00,2,   2.286,2,   1.234,2,   0.607,2,   0.297,2,  2234.7,2, 2322.81,2,-999.0000,9, -999.00,   7.5578,2,       25,-999.000,9,   2.9205,2, -999.00,9,  -999.0,9,  -999.0,-999.00000000,9,-999.00000000,9,  1098.9,     22.142,2,    34.5841,2,     -999.0,9,         -999.0,9,  -999.0,9,20140118,       1807
33RO20131223,       A16S,      76,          1,         12,         12,2,20140118,       1652,   -43.4997,   -29.9633,       4689,  1249.4,   2.8396,  34.5093,2,  34.5082,2,    178.1,2,   178.4,2,    58.2,2,    33.2,2,    0.00,2,   2.279,2,-999.000,9,-999.000,9,-999.000,9,  -999.0,9, -999.00,9,-999.0000,9, -999.00,-999.0000,9,  -999.00,-999.000,9,   2.8399,2, -999.00,9,  -999.0,9,  -999.0,-999.00000000,9,-999.00000000,9,  1249.4,     -999.0,9,    34.6709,2,     -999.0,9,         -999.0,9,  -999.0,9,20140118,       1803
33RO20131223,       A16S,      76,          1,         11,         11,2,20140118,       1652,   -43.4997,   -29.9633,       4689,  1418.4,   2.8101,  34.5890,2,  34.5881,2,    176.5,2,     177,2,    61.2,2,    32.4,2,    0.00,2,   2.225,2,   0.455,2,   0.220,2,   0.095,2,  2244.7,2, 2331.78,2,-999.0000,9, -999.00,   7.5667,6,       25,-999.000,9,   2.8107,2, -999.00,9,  -999.0,9,  -999.0,-999.00000000,9,-999.00000000,9,  1418.4,     22.039,2,    34.7512,2,     -999.0,9,         -999.0,9,  -999.0,9,20140118,       1759
33RO20131223,       A16S,      76,          1,         10,         10,2,20140118,       1652,   -43.4997,   -29.9633,       4689,  1549.6,   2.7973,  34.6382,2,  34.6357,2,    179.1,2,   178.9,2,    62.6,2,    31.7,2,    0.00,2,   2.171,2,   0.345,6,   0.168,2,   0.079,6,  2242.9,6, 2334.74,6,-999.0000,9, -999.00,   7.5764,2,       25,-999.000,9,   2.7974,2, -999.00,9,  -999.0,9,  -999.0,-999.00000000,9,-999.00000000,9,  1549.6,     21.559,6,     34.799,2,     -999.0,9,         -999.0,9,  -999.0,9,20140118,       1755
33RO20131223,       A16S,      76,          1,          9,          9,2,20140118,       1652,   -43.4997,   -29.9633,       4689,  1749.1,   2.7712,  34.7070,2,  34.7077,2,    185.8,2,   184.8,2,    62.6,2,    30.3,2,    0.00,2,   2.072,2,   0.242,2,   0.119,2,   0.053,2,  2240.6,2,  2337.4,2,-999.0000,9, -999.00,    7.594,2,       25,-999.000,9,   2.7712,2, -999.00,9,  -999.0,9,  -999.0,-999.00000000,9,-999.00000000,9,  1749.1,     20.612,2,    34.8714,2,     -999.0,9,         -999.0,9,  -999.0,9,20140118,       1751
33RO20131223,       A16S,      76,          1,          8,          8,2,20140118,       1652,   -43.4997,   -29.9633,       4689,  1999.6,   2.7426,  34.7750,2,  34.7754,2,    199.7,2,   197.9,2,    59.7,2,    28.2,2,    0.00,2,   1.921,2,-999.000,9,-999.000,9,-999.000,9,  -999.0,9, -999.00,9,-999.0000,9, -999.00,-999.0000,9,  -999.00,-999.000,9,   2.7431,2, -999.00,9,  -999.0,9,  -999.0,-999.00000000,9,-999.00000000,9,  1999.6,     -999.0,9,    34.9393,2,     -999.0,9,         -999.0,9,  -999.0,9,20140118,       1746
33RO20131223,       A16S,      76,          1,          7,          7,2,20140118,       1652,   -43.4997,   -29.9633,       4689,    2398,   2.5621,  34.8161,2,  34.8169,2,    210.3,2,   210.8,2,    59.3,2,    26.4,2,    0.00,2,   1.806,2,   0.126,2,   0.061,2,   0.000,2,  2223.3,2, 2343.49,2,-999.0000,9, -999.00,   7.6461,2,       25,-999.000,9,   2.5628,2, -999.00,9,  -999.0,9,  -999.0,-999.00000000,9,-999.00000000,9,  2398.0,     17.703,2,     34.981,2,     -999.0,9,         -999.0,9,  -999.0,9,20140118,       1738
33RO20131223,       A16S,      76,          1,          6,          6,2,20140118,       1652,   -43.4997,   -29.9633,       4689,  2798.8,   2.1871,  34.8083,2,  34.8088,2,      214,2,   214.5,2,    67.1,2,    26.7,2,    0.00,2,   1.832,2,-999.000,9,-999.000,9,-999.000,9,  2227.1,2, 2348.12,2,-999.0000,9, -999.00,   7.6491,2,       25,-999.000,9,   2.1872,2, -999.00,9,  -999.0,9,  -999.0,-999.00000000,9,-999.00000000,9,  2798.8,     -999.0,9,    34.9729,2,     -999.0,9,         -999.0,9,  -999.0,9,20140118,       1731
33RO20131223,       A16S,      76,          1,          5,          5,2,20140118,       1652,   -43.4997,   -29.9633,       4689,  3197.3,   1.5031,  34.7457,2,  34.7457,2,    204.6,2,     205,2,    94.0,2,    29.9,2,    0.00,2,   2.052,2,-999.000,9,-999.000,9,-999.000,9,    2251,2, 2359.18,2,-999.0000,9, -999.00,   7.6136,2,       25,-999.000,9,   1.5031,2, -999.00,9,  -999.0,9,  -999.0,-999.00000000,9,-999.00000000,9,  3197.3,     -999.0,9,    34.9095,6,     -999.0,9,         -999.0,9,  -999.0,9,20140118,       1723
33RO20131223,       A16S,      76,          1,          4,          4,2,20140118,       1652,   -43.4997,   -29.9633,       4689,  3597.9,   1.1038,  34.7168,2,  34.7161,2,    206.2,2,   206.2,2,   106.8,6,    31.0,6,    0.00,6,   2.135,6,   0.235,2,   0.116,2,   0.076,2,  2258.8,2, 2358.32,6,-999.0000,9, -999.00,   7.6008,2,       25,-999.000,9,    1.103,2, -999.00,9,  -999.0,9,  -999.0,-999.00000000,9,-999.00000000,9,  3597.9,     18.899,2,    34.8798,2,     -999.0,9,         -999.0,9,  -999.0,9,20140118,       1715
33RO20131223,       A16S,      76,          1,          3,          3,2,20140118,       1652,   -43.4997,   -29.9633,       4689,  3997.4,   0.7323,  34.6952,2,  34.6940,2,    212.1,2,   211.4,2,   115.4,6,    31.7,6,    0.00,6,   2.184,6,-999.000,9,-999.000,9,-999.000,9,  -999.0,9, -999.00,9,-999.0000,9, -999.00,-999.0000,9,  -999.00,-999.000,9,   0.7318,2, -999.00,9,  -999.0,9,  -999.0,-999.00000000,9,-999.00000000,9,  3997.4,     -999.0,9,    34.8576,2,     -999.0,9,         -999.0,9,  -999.0,9,20140118,       1707
33RO20131223,       A16S,      76,          1,          2,          2,2,20140118,       1652,   -43.4997,   -29.9633,       4689,  4400.5,   0.4141,  34.6780,2,  34.6773,2,    217.6,2,   216.8,2,   123.1,6,    32.1,6,    0.00,6,   2.221,6,-999.000,9,-999.000,9,-999.000,9,  -999.0,9, -999.00,9,-999.0000,9, -999.00,-999.0000,9,  -999.00,-999.000,9,   0.4141,2, -999.00,9,  -999.0,9,  -999.0,-999.00000000,9,-999.00000000,9,  4400.5,     -999.0,9,    34.8408,2,     -999.0,9,         -999.0,9,  -999.0,9,20140118,       1659
33RO20131223,       A16S,      76,          1,          1,          1,2,20140118,       1652,   -43.4997,   -29.9633,       4689,  4760.5,   0.3839,  34.6744,2,  34.6747,2,    218.6,2,   218.8,2,   124.9,6,    32.3,6,    0.00,6,   2.230,6,   0.457,2,   0.219,2,   0.090,2,  2266.1,6, 2366.76,2,-999.0000,9, -999.00,    7.586,2,       25,-999.000,9,   0.3837,2, -999.00,9,  -999.0,9,  -999.0,-999.00000000,9,-999.00000000,9,  4760.5,     18.645,2,    34.8382,2,     -999.0,9,         -999.0,9,  -999.0,9,20140118,       1652