BOTTLE,20220815CCHSIOAMB
EXPOCODE,SECT_ID,STNNBR,CASTNO,SAMPNO,BTLNBR,BTLNBR_FLAG_W,DATE,TIME,LATITUDE,LONGITUDE,DEPTH,CTDPRS,CTDTMP,CTDSAL,CTDSAL_FLAG_W,SALNTY,SALNTY_FLAG_W,CTDOXY,CTDOXY_FLAG_W,OXYGEN,OXYGEN_FLAG_W,SILCAT,SILCAT_FLAG_W,NITRAT,NITRAT_FLAG_W,NITRIT,NITRIT_FLAG_W,PHSPHT,PHSPHT_FLAG_W,CFC-11,CFC-11_FLAG_W,CFC-12,CFC-12_FLAG_W,SF6,SF6_FLAG_W,TCARBN,TCARBN_FLAG_W,ALKALI,ALKALI_FLAG_W,PCO2,PCO2_FLAG_W,PCO2TMP,PH_SWS,PH_SWS_FLAG_W,PH_TMP,TRITUM,TRITUM_FLAG_W,REFTMP,REFTMP_FLAG_W,DELC13,DELC13_FLAG_W,DELC14,DELC14_FLAG_W,C14ERR,DOC,DOC_FLAG_W,TDN,TDN_FLAG_W,CTDRAW,N2O,N2O_FLAG_W,SALTREF,SALTREF_FLAG_W,HELIUM,HELIUM_FLAG_W,DELO18,DELO18_FLAG_W,CCL4,CCL4_FLAG_W,BTL_DATE,BTL_TIME
,,,,,,,,,,,METERS,DBAR,ITS-90,PSS-78,,PSS-78,,UMOL/KG,,UMOL/KG,,UMOL/KG,,UMOL/KG,,UMOL/KG,,UMOL/KG,,PMOL/KG,,PMOL/KG,,FMOL/KG,,UMOL/KG,,UMOL/KG,,UATM,,DEG C,,,DEG C,TU,,DEG C,,/MILLE,,/MILLE,,/MILLE,UMOL/KG,,UMOL/KG,,DBAR,NMOL/KG,,G/KG,,NMOL/KG,,/MILLE,,PMOL/KG,,,
33RO20131223,       A16S,      43,          2,         24,         24,2,20140108,       0550,   -26.9998,   -25.0002,       4721,     2.9,  26.3965,  36.7996,2,  36.7993,2,    203.2,2,   205.1,2,     1.0,2,     0.0,2,    0.00,2,   0.097,2,   1.598,3,   1.039,2,   1.250,2,  2100.2,6, 2412.98,2,-999.0000,9, -999.00,    8.031,2,       25,-999.000,9,  26.3756,2, -999.00,9,  -999.0,9,  -999.0,        68.38,2,         4.01,2,     2.9,      6.311,2,    36.9728,2,     -999.0,9,         -999.0,9,  -999.0,9,20140108,       0735
33RO20131223,       A16S,      43,          2,         23,         23,2,20140108,       0550,   -26.9998,   -25.0002,       4721,     9.9,  25.9295,  36.7716,2,  36.7572,2,    204.7,2,     208,2,     1.0,2,     0.0,2,    0.00,2,   0.104,2,   1.641,3,   1.069,6,   1.290,6,  2100.3,2, 2410.88,2,-999.0000,9, -999.00,   8.0286,2,       25,-999.000,9,  25.9517,2, -999.00,9,  -999.0,9,  -999.0,        68.42,2,         4.38,2,     9.9,      6.410,6,    36.9305,2,     -999.0,9,         -999.0,9,  -999.0,9,20140108,       0734
33RO20131223,       A16S,      43,          2,         22,         22,2,20140108,       0550,   -26.9998,   -25.0002,       4721,    37.2,  24.1605,  36.6515,2,  36.6579,2,    217.3,2,   218.5,2,     1.1,2,     0.0,2,    0.00,2,   0.108,2,   1.782,3,   1.152,2,   1.349,2,  2096.5,2, 2409.57,2,-999.0000,9, -999.00,    8.026,2,       25,-999.000,9,  24.1564,2, -999.00,9,  -999.0,9,  -999.0,        65.38,2,         4.47,2,    37.2,      6.749,2,    36.8308,2,     -999.0,9,         -999.0,9,  -999.0,9,20140108,       0732
33RO20131223,       A16S,      43,          2,         21,         21,2,20140108,       0550,   -26.9998,   -25.0002,       4721,      68,  22.3126,  36.5701,2,  36.5708,2,    226.6,2,   226.8,2,     1.1,2,     0.0,2,    0.00,2,   0.116,2,   1.894,3,   1.204,2,   1.389,2,  2092.3,2, 2400.98,2,-999.0000,9, -999.00,   8.0229,2,       25,-999.000,9,  22.3135,2, -999.00,9,  -999.0,9,  -999.0,        63.57,2,         4.14,2,    68.0,      7.101,2,    36.7432,2,     -999.0,9,         -999.0,9,  -999.0,9,20140108,       0730
33RO20131223,       A16S,      43,          2,         20,         20,2,20140108,       0550,   -26.9998,   -25.0002,       4721,   117.7,  20.5473,  36.3896,2,  36.3934,2,    220.4,2,   221.6,2,     1.1,2,     0.1,2,    0.00,2,   0.151,2,   2.020,3,   1.265,2,   1.410,2,  2098.8,2, 2388.05,2,-999.0000,9, -999.00,   7.9969,6,       25,-999.000,9,  20.5435,2, -999.00,9,  -999.0,9,  -999.0,        60.72,2,         4.12,2,   117.7,      7.438,2,     36.565,2,     -999.0,9,         -999.0,9,  -999.0,9,20140108,       0727
33RO20131223,       A16S,      43,          2,         19,         19,2,20140108,       0550,   -26.9998,   -25.0002,       4721,   197.8,  17.2106,  35.8351,2,  35.8390,2,    210.9,2,   210.4,2,     1.8,2,     2.6,2,    0.02,2,   0.364,2,   2.357,3,   1.445,2,   1.454,2,  2110.4,2, 2351.55,2,-999.0000,9, -999.00,   7.9239,2,       25,-999.000,9,  17.2173,2, -999.00,9,  -999.0,9,  -999.0,        52.32,2,         6.05,2,   197.8,      8.937,2,     36.008,2,     -999.0,9,         -999.0,9,  -999.0,9,20140108,       0725
33RO20131223,       A16S,      43,          2,         18,         18,5,20140108,       0550,   -26.9998,   -25.0002,       4721,   298.6,  14.7005,  35.4270,2,-999.0000,9,    210.6,2,  -999.0,9,  -999.0,9,  -999.0,9, -999.00,9,-999.000,9,-999.000,5,-999.000,9,-999.000,9,  -999.0,9, -999.00,9,-999.0000,9, -999.00,-999.0000,9,  -999.00,-999.000,9,  14.6959,2, -999.00,9,  -999.0,9,  -999.0,-999.00000000,9,-999.00000000,9,   298.6,     -999.0,9,     -999.0,9,     -999.0,9,         -999.0,9,  -999.0,9,20140108,       0722
33RO20131223,       A16S,      43,          2,         17,         17,2,20140108,       0550,   -26.9998,   -25.0002,       4721,   397.5,  12.7560,  35.1769,2,  35.1767,2,      211,2,   210.6,2,     3.7,2,    10.7,2,    0.00,2,   0.814,2,   2.873,3,   1.700,2,   1.350,2,  2128.4,2, 2317.32,2,-999.0000,9, -999.00,   7.8243,2,       25,-999.000,9,  12.7692,2, -999.00,9,  -999.0,9,  -999.0,        45.32,2,        13.62,2,   397.5,     12.811,2,    35.3426,2,     -999.0,9,         -999.0,9,  -999.0,9,20140108,       0719
33RO20131223,       A16S,      43,          2,         16,         16,2,20140108,       0550,   -26.9998,   -25.0002,       4721,   518.5,  10.1134,  34.8218,2,  34.8228,2,    203.2,2,   203.5,2,     7.2,2,    17.7,2,    0.00,2,   1.244,2,   3.007,3,   1.712,2,   1.117,2,  2147.9,2, 2299.14,2,-999.0000,9, -999.00,   7.7436,2,       25,-999.000,9,  10.1136,2, -999.00,9,  -999.0,9,  -999.0,        43.36,2,        20.37,2,   518.5,     14.812,2,     34.987,2,     -999.0,9,         -999.0,9,  -999.0,9,20140108,       0716
33RO20131223,       A16S,      43,          2,         15,         15,2,20140108,       0550,   -26.9998,   -25.0002,       4721,   669.7,   7.0346,  34.4766,2,  34.4753,2,    208.3,2,   206.7,2,    13.8,2,    24.9,2,    0.00,2,   1.707,2,   3.050,3,   1.663,2,   0.907,2,  2168.9,2, 2293.46,2,-999.0000,9, -999.00,   7.6635,2,       25,-999.000,9,   7.0345,2, -999.00,9,  -999.0,9,  -999.0,        41.73,2,        27.46,2,   669.7,     16.860,2,    34.6378,6,     -999.0,9,         -999.0,9,  -999.0,9,20140108,       0713
33RO20131223,       A16S,      43,          2,         14,         14,2,20140108,       0550,   -26.9998,   -25.0002,       4721,     818,   5.0368,  34.3354,2,  34.3354,2,    213.1,2,   212.5,2,    22.4,2,    28.8,2,    0.00,2,   1.976,2,   2.733,3,   1.443,2,   0.671,2,  2183.6,2, 2290.38,2,-999.0000,9, -999.00,   7.6264,2,       25,-999.000,9,   5.0455,2, -999.00,9,  -999.0,9,  -999.0,        40.81,2,        31.43,2,   818.0,     18.235,2,    34.4973,2,     -999.0,9,         -999.0,9,  -999.0,9,20140108,       0709
33RO20131223,       A16S,      43,          2,         13,         13,2,20140108,       0550,   -26.9998,   -25.0002,       4721,   998.1,   3.9027,  34.3718,2,  34.3737,2,    196.1,2,   196.7,2,    37.5,2,    31.7,2,    0.00,2,   2.191,2,   1.617,3,   0.831,2,   0.335,2,  2208.1,6, 2302.91,2,-999.0000,9, -999.00,   7.5901,2,       25,-999.000,9,   3.9017,2, -999.00,9,  -999.0,9,  -999.0,  39.98585799,2,        34.37,2,   998.1,     20.369,2,    34.5358,2,     -999.0,9,         -999.0,9,  -999.0,9,20140108,       0705
33RO20131223,       A16S,      43,          2,         12,         12,2,20140108,       0550,   -26.9998,   -25.0002,       4721,  1147.1,   3.4366,  34.4600,2,  34.4616,2,    185.8,2,   185.6,2,    47.1,6,    32.5,6,    0.00,6,   2.241,6,   0.838,3,   0.426,6,   0.156,6,  2223.3,2, 2312.96,2,-999.0000,9, -999.00,   7.5758,2,       25,-999.000,9,    3.438,2, -999.00,9,  -999.0,9,  -999.0,  40.14165061,2,        34.94,2,  1147.1,     21.206,6,    34.6241,2,     -999.0,9,         -999.0,9,  -999.0,9,20140108,       0702
33RO20131223,       A16S,      43,          2,         11,         11,2,20140108,       0550,   -26.9998,   -25.0002,       4721,  1297.4,   3.1782,  34.5554,2,  34.5565,2,    183.2,2,   183.8,2,    51.8,6,    31.9,6,    0.00,6,   2.197,6,   0.426,3,   0.214,2,   0.068,2,    2229,2, 2321.46,6,-999.0000,9, -999.00,   7.5812,2,       25,-999.000,9,    3.179,2, -999.00,9,  -999.0,9,  -999.0,  40.22325627,2,        34.22,2,  1297.4,     20.894,2,    34.7194,2,     -999.0,9,         -999.0,9,  -999.0,9,20140108,       0658
33RO20131223,       A16S,      43,          2,         10,         10,2,20140108,       0550,   -26.9998,   -25.0002,       4721,  1597.2,   2.9454,  34.7093,2,  34.7087,2,      197,2,     198,2,    51.1,6,    28.9,6,    0.00,6,   1.976,6,   0.111,3,   0.052,2,   0.000,2,  2221.7,2, 2331.02,2,-999.0000,9, -999.00,   7.6195,2,       25,-999.000,9,   2.9454,2, -999.00,9,  -999.0,9,  -999.0,  40.18616279,2,        31.21,2,  1597.2,     18.898,2,    34.8724,2,     -999.0,9,         -999.0,9,  -999.0,9,20140108,       0652
33RO20131223,       A16S,      43,          2,          9,          9,2,20140108,       0550,   -26.9998,   -25.0002,       4721,  1947.7,   2.8971,  34.8355,2,  34.8367,2,    223.6,2,   224.5,2,    41.9,2,    24.6,2,    0.00,2,   1.666,2,   0.032,3,   0.011,2,   0.026,2,  2199.8,2, 2328.65,2,-999.0000,9, -999.00,    7.679,2,       25,-999.000,9,   2.8969,2, -999.00,9,  -999.0,9,  -999.0,  40.76482109,2,        27.15,2,  1947.7,     16.232,2,     35.001,2,     -999.0,9,         -999.0,9,  -999.0,9,20140108,       0646
33RO20131223,       A16S,      43,          2,          8,          8,2,20140108,       0550,   -26.9998,   -25.0002,       4721,  2347.7,   2.9467,  34.9029,2,  34.9026,2,    242.4,2,   241.9,2,    33.4,2,    21.9,2,    0.00,2,   1.466,2,   0.031,3,   0.011,2,   0.000,2,  2183.4,2, 2328.89,2,-999.0000,9, -999.00,   7.7124,2,       25,-999.000,9,   2.9466,2, -999.00,9,  -999.0,9,  -999.0,  41.07640633,2,        24.18,2,  2347.7,     14.196,2,    35.0672,2,     -999.0,9,         -999.0,9,  -999.0,9,20140108,       0638
33RO20131223,       A16S,      43,          2,          7,          7,2,20140108,       0550,   -26.9998,   -25.0002,       4721,  2647.8,   2.8573,  34.9170,2,  34.9168,2,    248.1,2,   247.8,2,    32.3,2,    21.1,2,    0.00,2,   1.411,2,   0.036,3,   0.013,2,   0.000,2,  2180.3,2, 2325.26,2,-999.0000,9, -999.00,   7.7208,2,       25,-999.000,9,   2.8573,2, -999.00,9,  -999.0,9,  -999.0,  41.75150769,2,        23.72,2,  2647.8,     13.795,2,    35.0814,2,     -999.0,9,         -999.0,9,  -999.0,9,20140108,       0632
33RO20131223,       A16S,      43,          2,          6,          6,2,20140108,       0550,   -26.9998,   -25.0002,       4721,  3047.5,   2.6805,  34.9123,2,  34.9119,2,    250.4,2,   249.6,2,    34.7,2,    21.0,2,    0.00,2,   1.408,2,   0.039,3,   0.014,2,   0.000,2,  2181.7,2, 2329.04,2,-999.0000,9, -999.00,    7.724,2,       25,-999.000,9,   2.6805,2, -999.00,9,  -999.0,9,  -999.0,  41.84053204,2,        23.54,2,  3047.5,     13.694,2,    35.0766,2,     -999.0,9,         -999.0,9,  -999.0,9,20140108,       0625
33RO20131223,       A16S,      43,          2,          5,          5,2,20140108,       0550,   -26.9998,   -25.0002,       4721,  3349.2,   2.4773,  34.8968,2,  34.8965,2,      249,2,   249.4,2,    39.9,2,    21.5,2,    0.00,2,   1.444,2,   0.039,3,   0.014,2,   0.000,2,  2185.3,2, 2332.23,2,-999.0000,9, -999.00,   7.7203,2,       25,-999.000,9,   2.4772,2, -999.00,9,  -999.0,9,  -999.0,  40.77965848,2,        24.13,2,  3349.2,     13.846,2,    35.0611,2,     -999.0,9,         -999.0,9,  -999.0,9,20140108,       0619
33RO20131223,       A16S,      43,          2,          4,          4,2,20140108,       0550,   -26.9998,   -25.0002,       4721,  3748.2,   2.0109,  34.8491,2,  34.8495,2,    243.4,2,   242.9,2,    57.8,2,    23.8,2,    0.00,2,   1.619,2,   0.029,3,   0.009,2,   0.171,2,  2203.3,2, 2344.01,2,-999.0000,9, -999.00,   7.6978,6,       25,-999.000,9,   2.0112,2, -999.00,9,  -999.0,9,  -999.0,   40.3642115,2,        26.44,2,  3748.2,     14.709,2,    35.0138,2,     -999.0,9,         -999.0,9,  -999.0,9,20140108,       0611
33RO20131223,       A16S,      43,          2,          3,          3,2,20140108,       0550,   -26.9998,   -25.0002,       4721,  4148.3,   1.4870,  34.7932,2,  34.7921,2,    234.1,2,   234.3,2,    79.2,2,    26.7,2,    0.00,2,   1.832,2,   0.036,3,   0.013,6,   0.260,6,  2224.4,2,  2355.3,2,-999.0000,9, -999.00,   7.6683,2,       25,-999.000,9,   1.4867,2, -999.00,9,  -999.0,9,  -999.0,  40.08971974,2,        29.12,2,  4148.3,     15.841,6,    34.9561,2,     -999.0,9,         -999.0,9,  -999.0,9,20140108,       0603
33RO20131223,       A16S,      43,          2,          2,          2,2,20140108,       0550,   -26.9998,   -25.0002,       4721,  4549.4,   1.1598,  34.7565,2,  34.7568,2,    228.5,2,   229.1,2,    92.9,6,    28.5,6,    0.00,6,   1.961,6,   0.055,3,   0.022,2,   0.225,2,    2238,2, 2357.87,6,-999.0000,9, -999.00,   7.6477,2,       25,-999.000,9,   1.1595,2, -999.00,9,  -999.0,9,  -999.0,  39.60750448,2,        30.85,2,  4549.4,     16.518,2,    34.9207,6,     -999.0,9,         -999.0,9,  -999.0,9,20140108,       0556
33RO20131223,       A16S,      43,          2,          1,          1,2,20140108,       0550,   -26.9998,   -25.0002,       4721,  4782.9,   1.1136,  34.7491,2,  34.7476,2,    228.5,2,   228.4,2,    95.6,6,    28.9,6,    0.00,6,   1.986,6,   0.067,3,   0.028,2,   0.181,2,  2241.9,6, 2358.97,2,-999.0000,9, -999.00,   7.6543,2,       25,-999.000,9,    1.113,2, -999.00,9,  -999.0,9,  -999.0,  39.87457755,2,        31.52,2,  4782.9,     16.666,2,    34.9115,2,     -999.0,9,         -999.0,9,  -999.0,9,20140108,       0550