BOTTLE,20220815CCHSIOAMB
EXPOCODE,SECT_ID,STNNBR,CASTNO,SAMPNO,BTLNBR,BTLNBR_FLAG_W,DATE,TIME,LATITUDE,LONGITUDE,DEPTH,CTDPRS,CTDTMP,CTDSAL,CTDSAL_FLAG_W,SALNTY,SALNTY_FLAG_W,CTDOXY,CTDOXY_FLAG_W,OXYGEN,OXYGEN_FLAG_W,SILCAT,SILCAT_FLAG_W,NITRAT,NITRAT_FLAG_W,NITRIT,NITRIT_FLAG_W,PHSPHT,PHSPHT_FLAG_W,CFC-11,CFC-11_FLAG_W,CFC-12,CFC-12_FLAG_W,SF6,SF6_FLAG_W,TCARBN,TCARBN_FLAG_W,ALKALI,ALKALI_FLAG_W,PCO2,PCO2_FLAG_W,PCO2TMP,PH_SWS,PH_SWS_FLAG_W,PH_TMP,TRITUM,TRITUM_FLAG_W,REFTMP,REFTMP_FLAG_W,DELC13,DELC13_FLAG_W,DELC14,DELC14_FLAG_W,C14ERR,DOC,DOC_FLAG_W,TDN,TDN_FLAG_W,CTDRAW,N2O,N2O_FLAG_W,SALTREF,SALTREF_FLAG_W,HELIUM,HELIUM_FLAG_W,DELO18,DELO18_FLAG_W,CCL4,CCL4_FLAG_W,BTL_DATE,BTL_TIME
,,,,,,,,,,,METERS,DBAR,ITS-90,PSS-78,,PSS-78,,UMOL/KG,,UMOL/KG,,UMOL/KG,,UMOL/KG,,UMOL/KG,,UMOL/KG,,PMOL/KG,,PMOL/KG,,FMOL/KG,,UMOL/KG,,UMOL/KG,,UATM,,DEG C,,,DEG C,TU,,DEG C,,/MILLE,,/MILLE,,/MILLE,UMOL/KG,,UMOL/KG,,DBAR,NMOL/KG,,G/KG,,NMOL/KG,,/MILLE,,PMOL/KG,,,
33RO20131223,       A16S,      25,          2,         24,         24,2,20140102,       1700,   -18.0003,   -25.0001,       5564,     2.7,  25.4441,  37.1893,2,  37.1884,2,    204.7,2,     206,2,     0.8,2,     0.0,2,    0.00,2,   0.165,2,   1.597,2,   1.048,6,   1.277,6,  2114.4,6, 2439.71,2,   342.74,2,      20,   8.0391,2,       25,-999.000,9,  25.2701,2,    1.05,2,    44.4,2,     2.7,  71.80533713,2,         4.25,2,     2.7,      6.111,6,    37.3638,2,     -999.0,9,         -999.0,9,  -999.0,9,20140102,       1858
33RO20131223,       A16S,      25,          2,         23,         23,2,20140102,       1700,   -18.0003,   -25.0001,       5564,    18.2,  25.3096,  37.1852,2,  37.1751,2,    205.2,2,   206.8,2,     0.8,2,     0.0,2,    0.00,2,   0.167,2,   1.608,2,   1.063,2,   1.248,2,  2113.7,2, 2441.17,6,   342.58,2,      20,    8.037,2,       25,-999.000,9,  25.2307,2, -999.00,9,  -999.0,9,  -999.0,  71.27436173,2,          4.8,2,    18.2,      6.260,2,    37.3504,2,     -999.0,9,         -999.0,9,  -999.0,9,20140102,       1857
33RO20131223,       A16S,      25,          2,         22,         22,2,20140102,       1700,   -18.0003,   -25.0001,       5564,    48.3,  24.4904,  37.1306,2,  37.1227,2,      211,2,   213.5,2,     0.8,2,     0.0,2,    0.00,2,   0.169,2,   1.676,2,   1.102,2,   1.299,2,  2110.8,2, 2438.46,2,   340.93,2,      20,   8.0398,2,       25,-999.000,9,  24.4866,2,    1.13,6,    35.5,6,     1.6,  70.89509359,2,          4.5,2,    48.3,      6.447,2,    37.2977,2,     -999.0,9,         -999.0,9,  -999.0,9,20140102,       1855
33RO20131223,       A16S,      25,          2,         21,         21,2,20140102,       1700,   -18.0003,   -25.0001,       5564,    72.9,  23.8120,  37.0694,2,  37.0662,2,    215.9,2,   216.6,2,     0.8,2,     0.0,2,    0.00,2,   0.171,2,   1.713,2,   1.128,2,   1.243,2,  2107.7,2, 2435.35,2,   341.25,2,      20,   8.0374,2,       25,-999.000,9,  23.8093,2,    1.19,2,    44.3,2,     2.7,  70.21241094,2,         4.01,2,    72.9,      6.525,2,     37.241,2,     -999.0,9,         -999.0,9,  -999.0,9,20140102,       1853
33RO20131223,       A16S,      25,          2,         20,         20,2,20140102,       1700,   -18.0003,   -25.0001,       5564,    97.5,  23.4839,  37.0573,2,  37.0526,2,    216.6,2,     216,2,     0.8,2,     0.0,2,    0.00,2,   0.178,2,   1.714,2,   1.126,2,   1.263,2,  2107.9,2, 2427.84,2,   344.74,2,      20,   8.0345,2,       25,-999.000,9,  23.4863,2,    1.10,6,    34.5,6,     1.6,   67.4058267,2,         3.93,2,    97.5,      6.599,2,    37.2274,2,     -999.0,9,         -999.0,9,  -999.0,9,20140102,       1851
33RO20131223,       A16S,      25,          2,         19,         19,2,20140102,       1700,   -18.0003,   -25.0001,       5564,   148.4,  22.4856,  36.8862,2,  36.8232,4,    209.6,2,   209.8,2,     0.9,2,     0.1,2,    0.01,2,   0.216,2,   1.817,2,   1.184,2,   1.302,2,  2113.9,2,  2419.8,2,   371.68,2,      20,   8.0103,6,       25,-999.000,9,  22.5054,2,    1.04,2,    47.8,2,     2.5,        60.62,2,         3.72,2,   148.4,      7.030,2,    36.9969,2,     -999.0,9,         -999.0,9,  -999.0,9,20140102,       1849
33RO20131223,       A16S,      25,          2,         18,         18,2,20140102,       1700,   -18.0003,   -25.0001,       5564,   217.6,  17.6379,  35.9522,2,  35.9444,2,      191,2,   190.8,2,     2.0,2,     5.5,2,    0.01,2,   0.549,2,   2.254,3,   1.417,2,   1.327,2,    2126,2, 2362.19,2,  488.995,6,      20,   7.9007,2,       25,-999.000,9,  17.6352,2,    0.73,2,    47.9,2,     2.4,   53.8583687,2,         8.69,2,   217.6,      9.727,2,    36.1139,2,     -999.0,9,         -999.0,9,  -999.0,9,20140102,       1847
33RO20131223,       A16S,      25,          2,         17,         17,2,20140102,       1700,   -18.0003,   -25.0001,       5564,     298,  13.7695,  35.2986,2,  35.2938,2,      182,2,   180.6,2,     4.3,2,    11.8,2,    0.01,2,   0.901,2,   1.785,3,   1.550,2,   1.189,2,  2139.1,2, 2322.32,2,   623.82,6,      20,   7.8049,2,       25,-999.000,9,  13.7791,2,    0.78,2,    46.0,2,     2.3,  46.72812765,2,        14.72,2,   298.0,     13.655,2,    35.4603,2,     -999.0,9,         -999.0,9,  -999.0,9,20140102,       1844
33RO20131223,       A16S,      25,          2,         16,         16,2,20140102,       1700,   -18.0003,   -25.0001,       5564,   408.3,  10.6717,  34.8995,2,  34.8961,2,    164.2,2,     163,2,     8.6,2,    20.1,2,    0.00,2,   1.381,2,   1.702,3,   1.444,2,   0.845,2,  2168.4,2, 2304.74,6,   822.19,2,      20,   7.6934,2,       25,-999.000,9,  10.6654,2,    0.75,2,    29.4,2,     2.2,  44.04290921,2,        22.75,2,   408.3,     18.933,2,    35.0607,2,     -999.0,9,         -999.0,9,  -999.0,9,20140102,       1841
33RO20131223,       A16S,      25,          2,         15,         15,2,20140102,       1700,   -18.0003,   -25.0001,       5564,     568,   6.9317,  34.5473,2,  34.5422,2,    155.3,2,   155.4,2,    18.7,2,    29.4,2,    0.00,2,   1.971,2,   1.021,3,   0.812,2,   0.350,2,  2198.8,2, 2295.06,2,  1057.42,2,      20,   7.5373,4,       25,-999.000,9,   6.9272,2,   -0.12,3,   -55.9,2,     2.1,   42.1693246,2,           32,2,   568.0,     22.416,6,    34.7051,6,     -999.0,9,         -999.0,9,  -999.0,9,20140102,       1838
33RO20131223,       A16S,      25,          2,         14,         14,2,20140102,       1700,   -18.0003,   -25.0001,       5564,   717.8,   5.0665,  34.4393,2,  34.4387,2,      167,2,   165.9,2,    27.3,2,    32.0,2,    0.00,2,   2.165,2,-999.000,5,-999.000,5,-999.000,5,    2209,2, 2299.37,2,  1111.72,2,      20,   7.5807,2,       25,-999.000,9,   5.0665,2,    0.50,3,   -84.9,2,     2.9,  41.32734932,2,        34.69,2,   717.8,     -999.0,5,     34.601,2,     -999.0,9,         -999.0,9,  -999.0,9,20140102,       1834
33RO20131223,       A16S,      25,          2,         13,         13,3,20140102,       1700,   -18.0003,   -25.0001,       5564,   872.1,   4.0572,  34.4477,2,  34.4487,2,    176.3,2,   175.9,2,    35.4,2,    32.3,2,    0.00,2,   2.197,2,   0.248,3,   0.200,2,   0.063,2,  2214.8,2, 2307.93,2,  1105.38,2,      20,   7.5769,2,       25,-999.000,9,   4.0571,2,    0.41,3,  -111.0,2,     2.7,  40.48537405,2,        34.87,2,   872.1,     20.496,2,    34.6111,2,     -999.0,9,         -999.0,9,  -999.0,9,20140102,       1831
33RO20131223,       A16S,      25,          2,         12,         12,2,20140102,       1700,   -18.0003,   -25.0001,       5564,  1047.8,   3.7879,  34.5508,2,  34.5513,2,    178.6,2,   178.2,2,    37.6,2,    31.3,2,    0.00,2,   2.133,2,   0.093,2,   0.082,2,   0.056,2,  2216.5,6, 2312.92,2,  1076.24,6,      20,   7.5852,2,       25,-999.000,9,   3.7879,2,    0.17,3,  -130.9,2,     2.0,  40.37159361,2,        33.99,2,  1047.8,     19.715,2,    34.7142,2,     -999.0,9,         -999.0,9,  -999.0,9,20140102,       1827
33RO20131223,       A16S,      25,          2,         11,         11,2,20140102,       1700,   -18.0003,   -25.0001,       5564,  1348.2,   3.9104,  34.7920,2,  34.7929,2,    199.2,2,   198.2,2,    29.9,2,    26.4,2,    0.00,2,   1.792,2,   0.026,2,   0.028,2,   0.037,2,  2199.3,2, 2316.23,2,   933.22,2,      20,   7.6444,2,       25,-999.000,9,   3.9105,2,    0.62,2,  -110.9,2,     3.3,  40.46261796,2,        29.21,2,  1348.2,     17.168,2,    34.9569,2,     -999.0,9,         -999.0,9,  -999.0,9,20140102,       1821
33RO20131223,       A16S,      25,          2,         10,         10,2,20140102,       1700,   -18.0003,   -25.0001,       5564,  1747.8,   3.5311,  34.9205,2,  34.9201,2,    234.7,2,   234.8,2,    25.7,2,    21.6,2,    0.00,2,   1.443,2,   0.065,2,   0.060,2,   0.042,2,  2179.1,2,  2320.8,2,  796.625,2,      20,   7.7063,2,       25,-999.000,9,   3.5313,2,    0.83,2,   -99.6,2,     2.2,  41.84315399,2,        24.21,2,  1747.8,     14.007,2,    35.0848,2,     -999.0,9,         -999.0,9,  -999.0,9,20140102,       1813
33RO20131223,       A16S,      25,          2,          9,          9,2,20140102,       1700,   -18.0003,   -25.0001,       5564,  2148.9,   3.1328,  34.9265,2,  34.9260,2,    243.6,2,     244,2,    28.9,2,    20.8,2,    0.00,2,   1.390,2,   0.036,2,   0.032,2,   0.000,2,  2178.1,2, 2326.04,2,   772.15,2,      20,    7.721,2,       25,-999.000,9,   3.1319,2,    0.76,2,  -104.9,2,     2.7,  42.30586113,2,        23.38,2,  2148.9,     13.098,2,    35.0907,2,     -999.0,9,         -999.0,9,  -999.0,9,20140102,       1806
33RO20131223,       A16S,      25,          2,          8,          8,2,20140102,       1700,   -18.0003,   -25.0001,       5564,  2596.7,   2.8295,  34.9130,2,  34.9144,2,    244.8,2,     244,2,    34.4,2,    21.2,2,    0.00,2,   1.419,2,   0.024,2,   0.018,2,   0.000,2,  2183.5,2, 2329.82,2,  774.415,4,      20,   7.7209,2,       25,-999.000,9,   2.8296,2,    0.77,2,  -111.5,2,     2.5,  41.42595904,2,        23.74,2,  2596.7,     13.302,2,     35.079,2,     -999.0,9,         -999.0,9,  -999.0,9,20140102,       1757
33RO20131223,       A16S,      25,          2,          7,          7,2,20140102,       1700,   -18.0003,   -25.0001,       5564,  3098.2,   2.6757,  34.9091,2,  34.9105,2,    246.2,2,   246.9,2,    36.1,2,    21.0,2,    0.00,2,   1.408,2,-999.000,5,-999.000,5,-999.000,5,  2184.7,2, 2334.09,2,  771.255,4,      20,   7.7201,2,       25,-999.000,9,    2.676,2,    0.73,6,  -112.5,6,     2.2,   41.4942273,2,        23.35,2,  3098.2,     -999.0,5,    35.0751,2,     -999.0,9,         -999.0,9,  -999.0,9,20140102,       1748
33RO20131223,       A16S,      25,          2,          6,          6,2,20140102,       1700,   -18.0003,   -25.0001,       5564,  3597.7,   2.4194,  34.8905,2,  34.8903,2,      247,2,   248.3,4,    42.0,2,    21.4,2,    0.00,2,   1.446,2,   0.026,2,   0.021,2,   0.000,2,  2188.9,2, 2336.28,2,  779.265,2,      20,   7.7168,2,       25,-999.000,9,   2.4193,2,    0.31,2,  -123.5,2,     1.9,  41.36527614,2,        23.76,2,  3597.7,     13.314,2,    35.0548,2,     -999.0,9,         -999.0,9,  -999.0,9,20140102,       1739
33RO20131223,       A16S,      25,          2,          5,          5,2,20140102,       1700,   -18.0003,   -25.0001,       5564,  4099.2,   1.6264,  34.8088,2,  34.8095,2,    235.1,2,   235.8,2,    73.0,2,    25.6,2,    0.00,2,   1.740,2,   0.012,2,   0.011,2,   0.066,2,  2219.6,2, 2351.85,2,   872.13,2,      20,-999.0000,5,       25,-999.000,9,   1.6255,2,    0.02,3,  -145.7,2,     3.1,   40.7205203,2,        28.22,2,  4099.2,     14.856,2,    34.9737,6,     -999.0,9,         -999.0,9,  -999.0,9,20140102,       1730
33RO20131223,       A16S,      25,          2,          4,          4,2,20140102,       1700,   -18.0003,   -25.0001,       5564,  4599.1,   1.0435,  34.7466,2,  34.7490,2,    225.8,2,   226.9,2,    96.1,6,    28.7,6,    0.00,6,   1.962,6,   0.045,2,   0.033,2,   0.045,2,  2242.2,2, 2362.35,2,   954.33,2,      20,-999.0000,5,       25,-999.000,9,   1.0441,2,    0.32,2,  -157.8,2,     2.3,  40.04542301,2,        31.33,2,  4599.1,     16.136,2,    34.9129,2,     -999.0,9,         -999.0,9,  -999.0,9,20140102,       1721
33RO20131223,       A16S,      25,          2,          3,          3,2,20140102,       1700,   -18.0003,   -25.0001,       5564,  5098.2,   0.8011,  34.7162,2,  34.7166,2,    221.4,2,   222.7,2,   107.5,6,    30.2,6,    0.00,6,   2.073,6,   0.075,2,   0.052,2,   0.036,2,  2252.6,2, 2367.07,6,   1003.7,2,      20,-999.0000,5,       25,-999.000,9,   0.8012,2,    0.28,2,  -156.4,2,     2.3,   39.3930818,2,        32.68,2,  5098.2,     16.803,2,    34.8803,2,     -999.0,9,         -999.0,9,  -999.0,9,20140102,       1711
33RO20131223,       A16S,      25,          2,          2,          2,2,20140102,       1700,   -18.0003,   -25.0001,       5564,  5597.2,   0.7653,  34.7057,2,  34.7068,2,    221.2,2,   221.3,2,   111.2,6,    30.6,6,    0.00,6,   2.102,6,   0.106,2,   0.071,2,   0.034,2,  2256.3,2, 2368.39,2,   1020.2,6,      20,   7.6163,2,       25,-999.000,9,   0.7655,2,    0.23,2,  -165.8,2,     2.1,  39.67374023,2,        33.31,2,  5597.2,     17.059,2,    34.8704,2,     -999.0,9,         -999.0,9,  -999.0,9,20140102,       1702
33RO20131223,       A16S,      25,          2,          1,          1,2,20140102,       1700,   -18.0003,   -25.0001,       5564,  5648.5,   0.7653,  34.7048,2,  34.7041,2,    221.4,2,   221.5,2,   111.5,6,    30.6,6,    0.00,6,   2.105,6,   0.110,6,   0.075,6,   0.032,6,  2257.8,6, 2370.62,2,  1014.78,2,      20,   7.6306,2,       25,-999.000,9,   0.7653,2,    0.30,2,  -161.0,2,     1.9,  39.81027676,2,        33.33,2,  5648.5,     16.923,6,    34.8678,2,     -999.0,9,         -999.0,9,  -999.0,9,20140102,       1700