BOTTLE,20220815CCHSIOAMB
EXPOCODE,SECT_ID,STNNBR,CASTNO,SAMPNO,BTLNBR,BTLNBR_FLAG_W,DATE,TIME,LATITUDE,LONGITUDE,DEPTH,CTDPRS,CTDTMP,CTDSAL,CTDSAL_FLAG_W,SALNTY,SALNTY_FLAG_W,CTDOXY,CTDOXY_FLAG_W,OXYGEN,OXYGEN_FLAG_W,SILCAT,SILCAT_FLAG_W,NITRAT,NITRAT_FLAG_W,NITRIT,NITRIT_FLAG_W,PHSPHT,PHSPHT_FLAG_W,CFC-11,CFC-11_FLAG_W,CFC-12,CFC-12_FLAG_W,SF6,SF6_FLAG_W,TCARBN,TCARBN_FLAG_W,ALKALI,ALKALI_FLAG_W,PCO2,PCO2_FLAG_W,PCO2TMP,PH_SWS,PH_SWS_FLAG_W,PH_TMP,TRITUM,TRITUM_FLAG_W,REFTMP,REFTMP_FLAG_W,DELC13,DELC13_FLAG_W,DELC14,DELC14_FLAG_W,C14ERR,DOC,DOC_FLAG_W,TDN,TDN_FLAG_W,CTDRAW,N2O,N2O_FLAG_W,SALTREF,SALTREF_FLAG_W,HELIUM,HELIUM_FLAG_W,DELO18,DELO18_FLAG_W,CCL4,CCL4_FLAG_W,BTL_DATE,BTL_TIME
,,,,,,,,,,,METERS,DBAR,ITS-90,PSS-78,,PSS-78,,UMOL/KG,,UMOL/KG,,UMOL/KG,,UMOL/KG,,UMOL/KG,,UMOL/KG,,PMOL/KG,,PMOL/KG,,FMOL/KG,,UMOL/KG,,UMOL/KG,,UATM,,DEG C,,,DEG C,TU,,DEG C,,/MILLE,,/MILLE,,/MILLE,UMOL/KG,,UMOL/KG,,DBAR,NMOL/KG,,G/KG,,NMOL/KG,,/MILLE,,PMOL/KG,,,
33RO20131223,       A16S,      62,          1,         24,         24,2,20140113,       1757,   -36.4999,   -25.6001,       4093,     4.6,  19.3167,  35.4449,2,  35.4454,2,    234.8,2,   235.7,2,     0.9,2,     0.1,2,    0.00,2,   0.138,2,-999.000,9,-999.000,9,-999.000,9,  2067.9,6, 2336.59,2,-999.0000,9, -999.00,   7.9702,2,       25,-999.000,9,  19.3038,2, -999.00,9,  -999.0,9,  -999.0,-999.00000000,9,-999.00000000,9,     4.6,     -999.0,9,    35.6126,2,     -999.0,9,         -999.0,9,  -999.0,9,20140113,       1933
33RO20131223,       A16S,      62,          1,         23,         23,2,20140113,       1757,   -36.4999,   -25.6001,       4093,    27.7,  18.5292,  35.4175,2,  35.4227,2,    238.3,2,   241.3,2,     0.9,2,     0.1,2,    0.00,2,   0.144,2,-999.000,9,-999.000,9,-999.000,9,  2066.1,2, 2337.81,6,-999.0000,9, -999.00,   7.9751,2,       25,-999.000,9,  18.5336,2, -999.00,9,  -999.0,9,  -999.0,-999.00000000,9,-999.00000000,9,    27.7,     -999.0,9,    35.5898,2,     -999.0,9,         -999.0,9,  -999.0,9,20140113,       1930
33RO20131223,       A16S,      62,          1,         22,         22,2,20140113,       1757,   -36.4999,   -25.6001,       4093,    67.4,  14.7785,  35.4178,2,  35.4187,2,    237.5,2,   238.8,2,     1.1,2,     2.9,2,    0.11,2,   0.337,2,-999.000,9,-999.000,9,-999.000,9,  -999.0,9, -999.00,9,-999.0000,9, -999.00,-999.0000,9,  -999.00,-999.000,9,  14.7782,2, -999.00,9,  -999.0,9,  -999.0,-999.00000000,9,-999.00000000,9,    67.4,     -999.0,9,    35.5857,2,     -999.0,9,         -999.0,9,  -999.0,9,20140113,       1928
33RO20131223,       A16S,      62,          1,         21,         21,2,20140113,       1757,   -36.4999,   -25.6001,       4093,   107.8,  14.0925,  35.4031,2,  35.4032,2,    232.8,2,   235.2,2,     1.6,2,     5.1,2,    0.01,2,   0.455,2,-999.000,9,-999.000,9,-999.000,9,  2105.7,2, 2337.24,2,-999.0000,9, -999.00,   7.8901,2,       25,-999.000,9,  14.0909,2, -999.00,9,  -999.0,9,  -999.0,-999.00000000,9,-999.00000000,9,   107.8,     -999.0,9,    35.5702,2,     -999.0,9,         -999.0,9,  -999.0,9,20140113,       1926
33RO20131223,       A16S,      62,          1,         20,         20,2,20140113,       1757,   -36.4999,   -25.6001,       4093,   172.9,  13.7788,  35.3975,2,  35.3976,2,    241.4,2,   241.2,2,     1.7,2,     5.4,2,    0.01,2,   0.473,2,-999.000,9,-999.000,9,-999.000,9,  2107.2,2, 2336.65,2,-999.0000,9, -999.00,   7.8903,2,       25,-999.000,9,  13.7787,2, -999.00,9,  -999.0,9,  -999.0,-999.00000000,9,-999.00000000,9,   172.9,     -999.0,9,    35.5645,2,     -999.0,9,         -999.0,9,  -999.0,9,20140113,       1924
33RO20131223,       A16S,      62,          1,         19,         19,2,20140113,       1757,   -36.4999,   -25.6001,       4093,   257.7,  13.5829,  35.3813,2,  35.3795,2,    242.1,2,   240.6,2,     1.9,2,     5.9,2,    0.01,2,   0.511,2,-999.000,9,-999.000,9,-999.000,9,  2109.5,2, 2333.83,2,-999.0000,9, -999.00,    7.887,2,       25,-999.000,9,    13.58,2, -999.00,9,  -999.0,9,  -999.0,-999.00000000,9,-999.00000000,9,   257.7,     -999.0,9,    35.5463,6,     -999.0,9,         -999.0,9,  -999.0,9,20140113,       1921
33RO20131223,       A16S,      62,          1,         18,         18,2,20140113,       1757,   -36.4999,   -25.6001,       4093,   367.4,  12.1821,  35.1188,2,  35.1190,2,    222.1,2,   221.6,2,     3.0,2,    11.1,2,    0.01,2,   0.829,2,-999.000,9,-999.000,9,-999.000,9,  -999.0,9, -999.00,9,-999.0000,9, -999.00,-999.0000,9,  -999.00,-999.000,9,  12.1813,2, -999.00,9,  -999.0,9,  -999.0,-999.00000000,9,-999.00000000,9,   367.4,     -999.0,9,    35.2846,2,     -999.0,9,         -999.0,9,  -999.0,9,20140113,       1918
33RO20131223,       A16S,      62,          1,         17,         17,2,20140113,       1757,   -36.4999,   -25.6001,       4093,   468.4,   9.9262,  34.7877,2,  34.7891,2,    215.8,2,   214.6,2,     5.2,2,    17.2,2,    0.01,2,   1.206,2,-999.000,9,-999.000,9,-999.000,9,  2141.7,2,  2299.8,2,-999.0000,9, -999.00,   7.7523,2,       25,-999.000,9,   9.9229,2, -999.00,9,  -999.0,9,  -999.0,-999.00000000,9,-999.00000000,9,   468.4,     -999.0,9,    34.9532,2,     -999.0,9,         -999.0,9,  -999.0,9,20140113,       1916
33RO20131223,       A16S,      62,          1,         16,         16,2,20140113,       1757,   -36.4999,   -25.6001,       4093,   598.1,   6.2475,  34.3326,2,  34.3315,2,    235.9,2,   235.1,2,     9.5,2,    24.3,2,    0.00,2,   1.674,2,-999.000,9,-999.000,9,-999.000,9,  2156.1,2, 2280.67,2,-999.0000,9, -999.00,   7.6762,2,       25,-999.000,9,   6.2467,2, -999.00,9,  -999.0,9,  -999.0,-999.00000000,9,-999.00000000,9,   598.1,     -999.0,9,    34.4934,2,     -999.0,9,         -999.0,9,  -999.0,9,20140113,       1912
33RO20131223,       A16S,      62,          1,         15,         15,2,20140113,       1757,   -36.4999,   -25.6001,       4093,   772.2,   4.5185,  34.1981,2,  34.1972,2,    252.7,2,   251.8,2,    14.4,2,    27.0,2,    0.00,2,   1.852,2,-999.000,9,-999.000,9,-999.000,9,  2169.7,2, 2282.08,2,-999.0000,9, -999.00,   7.6567,2,       25,-999.000,9,   4.5173,2, -999.00,9,  -999.0,9,  -999.0,-999.00000000,9,-999.00000000,9,   772.2,     -999.0,9,    34.3585,2,     -999.0,9,         -999.0,9,  -999.0,9,20140113,       1908
33RO20131223,       A16S,      62,          1,         14,         14,2,20140113,       1757,   -36.4999,   -25.6001,       4093,     922,   3.8507,  34.2122,2,  34.2119,2,    239.2,2,   239.5,2,    22.3,2,    29.2,2,    0.00,2,   2.005,2,-999.000,9,-999.000,9,-999.000,9,  -999.0,9, -999.00,9,-999.0000,9, -999.00,-999.0000,9,  -999.00,-999.000,9,   3.8505,2, -999.00,9,  -999.0,9,  -999.0,-999.00000000,9,-999.00000000,9,   922.0,     -999.0,9,    34.3732,2,     -999.0,9,         -999.0,9,  -999.0,9,20140113,       1905
33RO20131223,       A16S,      62,          1,         13,         13,2,20140113,       1757,   -36.4999,   -25.6001,       4093,  1046.8,   3.4530,  34.2530,2,  34.2517,2,    225.2,2,   224.6,2,    30.3,2,    30.9,2,    0.00,2,   2.114,2,-999.000,9,-999.000,9,-999.000,9,  2195.3,2, 2298.21,2,-999.0000,9, -999.00,   7.6055,2,       25,-999.000,9,   3.4538,2, -999.00,9,  -999.0,9,  -999.0,-999.00000000,9,-999.00000000,9,  1046.8,     -999.0,9,    34.4132,2,     -999.0,9,         -999.0,9,  -999.0,9,20140113,       1901
33RO20131223,       A16S,      62,          1,         12,         12,2,20140113,       1757,   -36.4999,   -25.6001,       4093,  1171.1,   3.1840,  34.3123,2,  34.3117,2,    209.2,2,     209,2,    39.0,2,    32.2,2,    0.00,2,   2.206,2,-999.000,9,-999.000,9,-999.000,9,  2209.9,2, 2306.62,2,-999.0000,9, -999.00,   7.6166,4,       25,-999.000,9,   3.1838,2, -999.00,9,  -999.0,9,  -999.0,-999.00000000,9,-999.00000000,9,  1171.1,     -999.0,9,    34.4735,2,     -999.0,9,         -999.0,9,  -999.0,9,20140113,       1858
33RO20131223,       A16S,      62,          1,         11,         11,2,20140113,       1757,   -36.4999,   -25.6001,       4093,  1346.9,   2.9723,  34.4266,2,  34.4253,2,      191,2,   190.7,2,    50.3,2,    33.1,2,    0.00,2,   2.270,2,-999.000,9,-999.000,9,-999.000,9,  -999.0,9, -999.00,9,-999.0000,9, -999.00,-999.0000,9,  -999.00,-999.000,9,   2.9724,2, -999.00,9,  -999.0,9,  -999.0,-999.00000000,9,-999.00000000,9,  1346.9,     -999.0,9,    34.5876,2,     -999.0,9,         -999.0,9,  -999.0,9,20140113,       1854
33RO20131223,       A16S,      62,          1,         10,         10,2,20140113,       1757,   -36.4999,   -25.6001,       4093,  1499.2,   2.8692,  34.5179,2,  34.5160,2,    182.4,2,   182.5,2,    56.6,2,    32.9,2,    0.00,2,   2.253,2,-999.000,9,-999.000,9,-999.000,9,  2235.7,2, 2327.17,6,-999.0000,9, -999.00,   7.5643,2,       25,-999.000,9,   2.8693,2, -999.00,9,  -999.0,9,  -999.0,-999.00000000,9,-999.00000000,9,  1499.2,     -999.0,9,    34.6788,2,     -999.0,9,         -999.0,9,  -999.0,9,20140113,       1850
33RO20131223,       A16S,      62,          1,          9,          9,2,20140113,       1757,   -36.4999,   -25.6001,       4093,  1668.8,   2.8497,  34.6116,2,  34.6097,2,    180.6,2,   180.7,2,    59.9,2,    32.0,2,    0.00,2,   2.192,2,-999.000,9,-999.000,9,-999.000,9,  2239.1,6, 2329.99,2,-999.0000,9, -999.00,   7.5735,6,       25,-999.000,9,   2.8496,2, -999.00,9,  -999.0,9,  -999.0,-999.00000000,9,-999.00000000,9,  1668.8,     -999.0,9,    34.7729,2,     -999.0,9,         -999.0,9,  -999.0,9,20140113,       1846
33RO20131223,       A16S,      62,          1,          8,          8,2,20140113,       1757,   -36.4999,   -25.6001,       4093,    1947,   2.9580,  34.7468,2,  34.7461,2,    197.9,2,   197.9,2,    53.0,2,    28.5,2,    0.00,2,   1.943,2,-999.000,9,-999.000,9,-999.000,9,  2222.4,2, 2333.34,2,-999.0000,9, -999.00,   7.6192,2,       25,-999.000,9,   2.9581,2, -999.00,9,  -999.0,9,  -999.0,-999.00000000,9,-999.00000000,9,  1947.0,     -999.0,9,    34.9099,2,     -999.0,9,         -999.0,9,  -999.0,9,20140113,       1841
33RO20131223,       A16S,      62,          1,          7,          7,2,20140113,       1757,   -36.4999,   -25.6001,       4093,  2196.5,   2.9445,  34.8171,2,  34.8169,2,    215.3,2,   215.6,2,    46.3,2,    25.9,2,    0.00,2,   1.754,2,-999.000,9,-999.000,9,-999.000,9,  -999.0,9, -999.00,9,-999.0000,9, -999.00,-999.0000,9,  -999.00,-999.000,9,   2.9444,2, -999.00,9,  -999.0,9,  -999.0,-999.00000000,9,-999.00000000,9,  2196.5,     -999.0,9,     34.981,2,     -999.0,9,         -999.0,9,  -999.0,9,20140113,       1836
33RO20131223,       A16S,      62,          1,          6,          6,2,20140113,       1757,   -36.4999,   -25.6001,       4093,  2497.7,   2.9730,  34.8817,2,  34.8819,2,    232.4,2,   232.5,2,    38.4,2,    23.2,2,    0.00,2,   1.562,2,-999.000,9,-999.000,9,-999.000,9,  2192.4,2, 2330.71,2,-999.0000,9, -999.00,   7.6892,2,       25,-999.000,9,   2.9726,2, -999.00,9,  -999.0,9,  -999.0,-999.00000000,9,-999.00000000,9,  2497.7,     -999.0,9,    35.0463,2,     -999.0,9,         -999.0,9,  -999.0,9,20140113,       1830
33RO20131223,       A16S,      62,          1,          5,          5,2,20140113,       1757,   -36.4999,   -25.6001,       4093,  2798.7,   2.8226,  34.8974,2,  34.8963,2,    240.8,2,   240.5,2,    37.1,2,    22.2,2,    0.00,2,   1.494,2,-999.000,9,-999.000,9,-999.000,9,  2188.6,2, 2333.77,2,-999.0000,9, -999.00,   7.7055,2,       25,-999.000,9,   2.8237,2, -999.00,9,  -999.0,9,  -999.0,-999.00000000,9,-999.00000000,9,  2798.7,     -999.0,9,    35.0609,2,     -999.0,9,         -999.0,9,  -999.0,9,20140113,       1824
33RO20131223,       A16S,      62,          1,          4,          4,2,20140113,       1757,   -36.4999,   -25.6001,       4093,  3099.1,   2.5438,  34.8790,2,  34.8785,2,    239.4,2,   239.3,2,    44.6,6,    22.8,6,    0.00,6,   1.543,6,-999.000,9,-999.000,9,-999.000,9,  2198.5,2, 2336.72,2,-999.0000,9, -999.00,   7.6974,6,       25,-999.000,9,   2.5445,2, -999.00,9,  -999.0,9,  -999.0,-999.00000000,9,-999.00000000,9,  3099.1,     -999.0,9,     35.043,2,     -999.0,9,         -999.0,9,  -999.0,9,20140113,       1818
33RO20131223,       A16S,      62,          1,          3,          3,2,20140113,       1757,   -36.4999,   -25.6001,       4093,  3396.7,   2.0261,  34.8200,2,  34.8186,2,      227,2,   226.8,2,    66.7,6,    25.9,6,    0.00,6,   1.764,6,-999.000,9,-999.000,9,-999.000,9,  -999.0,9, -999.00,9,-999.0000,9, -999.00,-999.0000,9,  -999.00,-999.000,9,    2.025,2, -999.00,9,  -999.0,9,  -999.0,-999.00000000,9,-999.00000000,9,  3396.7,     -999.0,9,    34.9828,6,     -999.0,9,         -999.0,9,  -999.0,9,20140113,       1812
33RO20131223,       A16S,      62,          1,          2,          2,2,20140113,       1757,   -36.4999,   -25.6001,       4093,  3698.4,   1.4942,  34.7749,2,  34.7736,2,    222.8,2,   223.2,2,    85.7,6,    28.0,6,    0.00,6,   1.914,6,-999.000,9,-999.000,9,-999.000,9,  2235.2,2, 2354.55,6,-999.0000,9, -999.00,   7.6416,2,       25,-999.000,9,   1.4955,2, -999.00,9,  -999.0,9,  -999.0,-999.00000000,9,-999.00000000,9,  3698.4,     -999.0,9,    34.9376,2,     -999.0,9,         -999.0,9,  -999.0,9,20140113,       1806
33RO20131223,       A16S,      62,          1,          1,          1,2,20140113,       1757,   -36.4999,   -25.6001,       4093,  4139.1,   0.9886,  34.7235,2,  34.7235,2,    216.5,2,   216.5,2,   106.5,6,    30.5,6,    0.00,6,   2.093,6,-999.000,9,-999.000,9,-999.000,9,  2252.8,6, 2363.62,2,-999.0000,9, -999.00,   7.6139,2,       25,-999.000,9,    0.988,2, -999.00,9,  -999.0,9,  -999.0,-999.00000000,9,-999.00000000,9,  4139.1,     -999.0,9,    34.8872,2,     -999.0,9,         -999.0,9,  -999.0,9,20140113,       1757