BOTTLE,20220815CCHSIOAMB
EXPOCODE,SECT_ID,STNNBR,CASTNO,SAMPNO,BTLNBR,BTLNBR_FLAG_W,DATE,TIME,LATITUDE,LONGITUDE,DEPTH,CTDPRS,CTDTMP,CTDSAL,CTDSAL_FLAG_W,SALNTY,SALNTY_FLAG_W,CTDOXY,CTDOXY_FLAG_W,OXYGEN,OXYGEN_FLAG_W,SILCAT,SILCAT_FLAG_W,NITRAT,NITRAT_FLAG_W,NITRIT,NITRIT_FLAG_W,PHSPHT,PHSPHT_FLAG_W,CFC-11,CFC-11_FLAG_W,CFC-12,CFC-12_FLAG_W,SF6,SF6_FLAG_W,TCARBN,TCARBN_FLAG_W,ALKALI,ALKALI_FLAG_W,PCO2,PCO2_FLAG_W,PCO2TMP,PH_SWS,PH_SWS_FLAG_W,PH_TMP,TRITUM,TRITUM_FLAG_W,REFTMP,REFTMP_FLAG_W,DELC13,DELC13_FLAG_W,DELC14,DELC14_FLAG_W,C14ERR,DOC,DOC_FLAG_W,TDN,TDN_FLAG_W,CTDRAW,N2O,N2O_FLAG_W,SALTREF,SALTREF_FLAG_W,HELIUM,HELIUM_FLAG_W,DELO18,DELO18_FLAG_W,CCL4,CCL4_FLAG_W,BTL_DATE,BTL_TIME
,,,,,,,,,,,METERS,DBAR,ITS-90,PSS-78,,PSS-78,,UMOL/KG,,UMOL/KG,,UMOL/KG,,UMOL/KG,,UMOL/KG,,UMOL/KG,,PMOL/KG,,PMOL/KG,,FMOL/KG,,UMOL/KG,,UMOL/KG,,UATM,,DEG C,,,DEG C,TU,,DEG C,,/MILLE,,/MILLE,,/MILLE,UMOL/KG,,UMOL/KG,,DBAR,NMOL/KG,,G/KG,,NMOL/KG,,/MILLE,,PMOL/KG,,,
33RO20131223,       A16S,      19,          2,         24,         24,2,20131231,       2044,        -15,   -25.0001,       5247,     3.2,  25.4566,  37.1625,2,  37.1622,2,    204.4,2,   204.9,2,     0.9,2,     0.0,2,    0.00,2,   0.083,2,   1.570,6,   1.048,6,   1.239,6,  2095.8,6, 2440.11,2,-999.0000,9, -999.00,     8.06,2,       25,-999.000,9,  25.4584,2, -999.00,9,  -999.0,9,  -999.0,  75.05875046,2,         5.31,2,     3.2,      6.151,6,    37.3375,2,     -999.0,9,         -999.0,9,  -999.0,9,20131231,       2235
33RO20131223,       A16S,      19,          2,         23,         23,2,20131231,       2044,        -15,   -25.0001,       5247,     9.9,  25.4657,  37.1622,2,  37.1614,2,    204.6,2,   205.2,2,     0.9,2,     0.0,2,    0.00,2,   0.085,2,   1.573,2,   1.050,2,   1.200,2,  2094.9,2, 2441.22,2,-999.0000,9, -999.00,   8.0603,2,       25,-999.000,9,  25.4648,2, -999.00,9,  -999.0,9,  -999.0,  72.97216593,2,         5.55,2,     9.9,      6.213,2,    37.3367,2,     -999.0,9,         -999.0,9,  -999.0,9,20131231,       2233
33RO20131223,       A16S,      19,          2,         22,         22,2,20131231,       2044,        -15,   -25.0001,       5247,    37.7,  25.1731,  37.1427,2,  37.1387,2,    205.6,2,   206.3,2,     0.9,2,     0.0,2,    0.00,2,   0.088,2,   1.586,2,   1.056,2,   1.230,2,  2092.9,2, 2444.57,2,-999.0000,9, -999.00,   8.0609,2,       25,-999.000,9,  25.1502,2, -999.00,9,  -999.0,9,  -999.0,  71.17338616,2,         5.06,2,    37.7,      6.247,2,    37.3138,2,     -999.0,9,         -999.0,9,  -999.0,9,20131231,       2232
33RO20131223,       A16S,      19,          2,         21,         21,2,20131231,       2044,        -15,   -25.0001,       5247,    67.7,  23.8612,  37.0780,2,  37.0530,2,    213.8,2,   215.6,2,     0.9,2,     0.0,2,    0.00,2,   0.142,2,   1.702,2,   1.126,2,   1.325,2,  2101.8,2, 2432.23,2,-999.0000,9, -999.00,   8.0423,2,       25,-999.000,9,  23.8644,2, -999.00,9,  -999.0,9,  -999.0,  69.59045997,2,         4.61,2,    67.7,      6.529,2,    37.2277,2,     -999.0,9,         -999.0,9,  -999.0,9,20131231,       2230
33RO20131223,       A16S,      19,          2,         20,         20,2,20131231,       2044,        -15,   -25.0001,       5247,   117.4,  22.6241,  36.9403,2,  36.9410,2,    214.2,2,   214.6,2,     0.9,6,     0.1,6,    0.00,6,   0.173,6,   1.760,2,   1.164,2,   1.298,2,  2105.6,2, 2436.16,2,-999.0000,9, -999.00,   8.0267,2,       25,-999.000,9,   22.626,2, -999.00,9,  -999.0,9,  -999.0,  61.21534137,2,         4.23,2,   117.4,      6.737,2,    37.1152,2,     -999.0,9,         -999.0,9,  -999.0,9,20131231,       2228
33RO20131223,       A16S,      19,          2,         19,         19,2,20131231,       2044,        -15,   -25.0001,       5247,   197.4,  17.0795,  35.8999,2,  35.8951,2,    179.4,2,   178.8,2,     2.6,6,     8.2,6,    0.02,6,   0.696,6,   2.249,2,   1.422,2,   1.304,2,  2138.1,2, 2360.11,2,-999.0000,9, -999.00,   7.8675,2,       25,-999.000,9,  17.0898,2, -999.00,9,  -999.0,9,  -999.0,        53.88,2,        11.53,2,   197.4,     11.672,2,    36.0644,2,     -999.0,9,         -999.0,9,  -999.0,9,20131231,       2225
33RO20131223,       A16S,      19,          2,         18,         18,2,20131231,       2044,        -15,   -25.0001,       5247,   297.7,  12.6372,  35.1937,2,  35.1837,2,    138.3,2,   138.2,2,     7.0,6,    19.3,6,    0.01,6,   1.304,6,   2.376,2,   1.401,2,   0.871,2,  2175.5,2, 2317.91,2,-999.0000,9, -999.00,   7.7002,2,       25,-999.000,9,  12.6819,2, -999.00,9,  -999.0,9,  -999.0,  46.16315227,2,        22.19,2,   297.7,     21.662,2,    35.3496,2,     -999.0,9,         -999.0,9,  -999.0,9,20131231,       2222
33RO20131223,       A16S,      19,          2,         17,         17,2,20131231,       2044,        -15,   -25.0001,       5247,   408.2,   9.4026,  34.8087,2,  34.8054,2,    121.1,2,   120.1,2,    13.3,6,    27.5,6,    0.00,6,   1.806,6,   1.697,2,   0.935,2,   0.398,2,  2202.5,2, 2300.31,2,-999.0000,9, -999.00,   7.5913,2,       25,-999.000,9,   9.3922,2, -999.00,9,  -999.0,9,  -999.0,  44.01900678,2,        29.95,2,   408.2,     26.565,2,    34.9695,2,     -999.0,9,         -999.0,9,  -999.0,9,20131231,       2220
33RO20131223,       A16S,      19,          2,         16,         16,2,20131231,       2044,        -15,   -25.0001,       5247,   517.2,   6.7922,  34.5557,2,  34.5551,2,      149,2,   148.6,2,    19.4,6,    30.3,6,    0.00,6,   2.005,6,   1.261,2,   0.663,2,   0.204,2,  2201.5,2, 2296.65,2,-999.0000,9, -999.00,   7.5813,2,       25,-999.000,9,   6.7928,2, -999.00,9,  -999.0,9,  -999.0,  42.50083666,2,        32.85,2,   517.2,     23.379,2,    34.7181,2,     -999.0,9,         -999.0,9,  -999.0,9,20131231,       2217
33RO20131223,       A16S,      19,          2,         15,         15,2,20131231,       2044,        -15,   -25.0001,       5247,   667.4,   4.9690,  34.4294,2,  34.4290,2,      172,2,   170.7,2,    27.5,6,    32.0,6,    0.00,6,   2.145,6,   0.885,6,   0.453,6,   0.125,6,  2204.9,6, 2300.21,2,-999.0000,9, -999.00,   7.5778,2,       25,-999.000,9,   4.9754,2, -999.00,9,  -999.0,9,  -999.0,  41.01864213,2,        34.65,2,   667.4,     21.413,6,    34.5913,2,     -999.0,9,         -999.0,9,  -999.0,9,20131231,       2213
33RO20131223,       A16S,      19,          2,         14,         14,2,20131231,       2044,        -15,   -25.0001,       5247,   817.8,   4.2077,  34.4351,2,  34.4393,2,    175.6,2,   174.7,2,    34.1,6,    32.7,6,    0.00,6,   2.205,6,   0.516,2,   0.260,2,   0.064,2,  2212.1,2, 2304.92,2,-999.0000,9, -999.00,   7.5744,6,       25,-999.000,9,   4.2073,2, -999.00,9,  -999.0,9,  -999.0,  40.57973987,2,        35.12,2,   817.8,     21.080,2,    34.6017,2,     -999.0,9,         -999.0,9,  -999.0,9,20131231,       2210
33RO20131223,       A16S,      19,          2,         13,         13,2,20131231,       2044,        -15,   -25.0001,       5247,   997.1,   3.8896,  34.5323,2,  34.5324,2,    173.8,2,     174,2,    37.0,6,    32.1,6,    0.00,6,   2.173,6,   0.164,2,   0.086,2,   0.031,2,  2216.3,2, 2312.55,6,-999.0000,9, -999.00,   7.5783,2,       25,-999.000,9,   3.8896,2, -999.00,9,  -999.0,9,  -999.0,   40.8963251,2,        34.66,2,   997.1,     20.893,2,    34.6952,2,     -999.0,9,         -999.0,9,  -999.0,9,20131231,       2206
33RO20131223,       A16S,      19,          2,         12,         12,2,20131231,       2044,        -15,   -25.0001,       5247,  1148.3,   3.9348,  34.6385,2,  34.6404,2,    178.1,2,   178.3,2,    34.6,6,    30.5,6,    0.00,6,   2.055,6,   0.080,2,   0.046,2,   0.000,2,  2211.4,2, 2314.39,2,-999.0000,9, -999.00,   7.5958,2,       25,-999.000,9,   3.9348,2, -999.00,9,  -999.0,9,  -999.0,   41.3855932,2,        32.86,2,  1148.3,     20.048,2,    34.8038,2,     -999.0,9,         -999.0,9,  -999.0,9,20131231,       2202
33RO20131223,       A16S,      19,          2,         11,         11,2,20131231,       2044,        -15,   -25.0001,       5247,  1297.7,   4.0886,  34.7828,2,  34.7847,2,      191,2,   191.3,2,    28.7,6,    27.3,6,    0.00,6,   1.833,6,   0.051,2,   0.032,2,   0.000,2,  2202.1,2, 2317.35,2,-999.0000,9, -999.00,   7.6334,2,       25,-999.000,9,   4.0885,2, -999.00,9,  -999.0,9,  -999.0,  41.78851987,2,        29.88,2,  1297.7,     18.363,2,    34.9487,2,     -999.0,9,         -999.0,9,  -999.0,9,20131231,       2159
33RO20131223,       A16S,      19,          2,         10,         10,2,20131231,       2044,        -15,   -25.0001,       5247,  1597.1,   3.8139,  34.9071,2,  34.9068,2,    223.1,2,   223.5,2,    24.6,6,    22.8,6,    0.00,6,   1.517,6,   0.081,2,   0.047,2,   0.016,2,  2183.7,2,  2318.5,2,-999.0000,9, -999.00,   7.6886,2,       25,-999.000,9,   3.8153,2, -999.00,9,  -999.0,9,  -999.0,  42.19864166,2,        25.34,2,  1597.1,     15.311,2,    35.0714,2,     -999.0,9,         -999.0,9,  -999.0,9,20131231,       2153
33RO20131223,       A16S,      19,          2,          9,          9,2,20131231,       2044,        -15,   -25.0001,       5247,  1947.8,   3.2637,  34.9187,2,  34.9204,2,    238.2,2,   237.8,2,    29.1,6,    21.6,6,    0.00,6,   1.437,6,   0.033,2,   0.021,2,   0.022,2,  2180.8,2, 2326.76,2,-999.0000,9, -999.00,   7.7126,2,       25,-999.000,9,   3.2638,2, -999.00,9,  -999.0,9,  -999.0,  42.14827582,2,        24.16,2,  1947.8,     14.130,2,    35.0851,2,     -999.0,9,         -999.0,9,  -999.0,9,20131231,       2146
33RO20131223,       A16S,      19,          2,          8,          8,2,20131231,       2044,        -15,   -25.0001,       5247,    2347,   2.8698,  34.9035,2,  34.9053,2,    239.4,2,   239.1,2,    36.6,6,    22.0,6,    0.00,6,   1.466,6,   0.008,2,   0.008,2,   0.000,2,  2186.4,2, 2331.32,2,-999.0000,9, -999.00,   7.7105,2,       25,-999.000,9,   2.8703,2, -999.00,9,  -999.0,9,  -999.0,  41.58705654,2,        24.55,2,  2347.0,     14.056,2,    35.0699,2,     -999.0,9,         -999.0,9,  -999.0,9,20131231,       2139
33RO20131223,       A16S,      19,          2,          7,          7,2,20131231,       2044,        -15,   -25.0001,       5247,  2747.2,   2.7133,  34.8966,2,  34.8984,2,      239,2,   239.8,2,    40.3,6,    22.2,6,    0.00,6,   1.480,6,   0.010,2,   0.010,2,   0.000,2,  2189.5,2, -999.00,5,-999.0000,9, -999.00,   7.7101,2,       25,-999.000,9,   2.7129,2, -999.00,9,  -999.0,9,  -999.0,  41.04742261,2,        24.77,2,  2747.2,     14.009,2,     35.063,2,     -999.0,9,         -999.0,9,  -999.0,9,20131231,       2131
33RO20131223,       A16S,      19,          2,          6,          6,2,20131231,       2044,        -15,   -25.0001,       5247,  3248.1,   2.5846,  34.8954,2,  34.8947,2,    243.3,2,   242.8,2,    41.6,6,    22.0,6,    0.00,6,   1.465,6,   0.012,2,   0.010,2,   0.000,2,  2190.2,2, 2336.38,2,-999.0000,9, -999.00,   7.7137,2,       25,-999.000,9,   2.5846,2, -999.00,9,  -999.0,9,  -999.0,  40.37108141,2,        24.53,2,  3248.1,     13.745,2,    35.0593,6,     -999.0,9,         -999.0,9,  -999.0,9,20131231,       2122
33RO20131223,       A16S,      19,          2,          5,          5,2,20131231,       2044,        -15,   -25.0001,       5247,  3745.9,   2.1950,  34.8643,2,  34.8634,2,    243.4,2,   242.7,2,    52.7,2,    23.0,2,    0.00,2,   1.550,2,   0.014,2,   0.013,2,   0.042,2,  2199.4,2, 2344.53,2,-999.0000,9, -999.00,        0,4,       25,-999.000,9,   2.1969,2, -999.00,9,  -999.0,9,  -999.0,  40.55815451,2,        25.33,2,  3745.9,     14.084,2,    35.0278,2,     -999.0,9,         -999.0,9,  -999.0,9,20131231,       2113
33RO20131223,       A16S,      19,          2,          4,          4,2,20131231,       2044,        -15,   -25.0001,       5247,  4147.9,   1.4994,  34.7970,2,  34.7981,2,      234,2,   234.8,2,    77.9,6,    26.3,6,    0.00,6,   1.784,6,   0.028,2,   0.016,2,   0.052,2,  2223.3,2, 2355.99,2,-999.0000,9, -999.00,   7.6702,2,       25,-999.000,9,   1.5008,2, -999.00,9,  -999.0,9,  -999.0,  40.66608129,2,        28.89,2,  4147.9,     15.274,2,    34.9622,2,     -999.0,9,         -999.0,9,  -999.0,9,20131231,       2106
33RO20131223,       A16S,      19,          2,          3,          3,2,20131231,       2044,        -15,   -25.0001,       5247,  4597.1,   0.9709,  34.7398,2,  34.7425,2,    225.4,2,     226,2,    99.5,6,    29.3,6,    0.00,6,   2.000,6,   0.052,2,   0.029,2,   0.036,2,  2244.4,2, 2367.75,4,-999.0000,9, -999.00,   7.6392,2,       25,-999.000,9,   0.9718,2, -999.00,9,  -999.0,9,  -999.0,  40.34949606,2,        31.91,2,  4597.1,     16.421,2,    34.9063,2,     -999.0,9,         -999.0,9,  -999.0,9,20131231,       2058
33RO20131223,       A16S,      19,          2,          2,          2,2,20131231,       2044,        -15,   -25.0001,       5247,  4997.6,   0.8315,  34.7207,2,  34.7222,2,    223.1,2,   223.5,2,   106.7,6,    30.2,6,    0.00,6,   2.061,6,   0.091,2,   0.047,2,   0.051,2,  2250.5,2, 2365.54,2,-999.0000,9, -999.00,   7.6263,6,       25,-999.000,9,   0.8314,2, -999.00,9,  -999.0,9,  -999.0,  39.32778915,2,        32.77,2,  4997.6,     16.830,2,     34.886,2,     -999.0,9,         -999.0,9,  -999.0,9,20131231,       2050
33RO20131223,       A16S,      19,          2,          1,          1,2,20131231,       2044,        -15,   -25.0001,       5247,  5321.6,   0.8098,  34.7142,2,  34.7138,2,    222.4,2,   223.2,2,   109.2,6,    30.5,6,    0.00,6,   2.087,6,   0.117,6,   0.060,6,   0.046,6,    2255,6, 2365.69,6,-999.0000,9, -999.00,   7.6373,2,       25,-999.000,9,   0.8099,2, -999.00,9,  -999.0,9,  -999.0,  39.30620379,2,        33.12,2,  5321.6,     16.861,6,    34.8775,2,     -999.0,9,         -999.0,9,  -999.0,9,20131231,       2044