BOTTLE,20220815CCHSIOAMB
EXPOCODE,SECT_ID,STNNBR,CASTNO,SAMPNO,BTLNBR,BTLNBR_FLAG_W,DATE,TIME,LATITUDE,LONGITUDE,DEPTH,CTDPRS,CTDTMP,CTDSAL,CTDSAL_FLAG_W,SALNTY,SALNTY_FLAG_W,CTDOXY,CTDOXY_FLAG_W,OXYGEN,OXYGEN_FLAG_W,SILCAT,SILCAT_FLAG_W,NITRAT,NITRAT_FLAG_W,NITRIT,NITRIT_FLAG_W,PHSPHT,PHSPHT_FLAG_W,CFC-11,CFC-11_FLAG_W,CFC-12,CFC-12_FLAG_W,SF6,SF6_FLAG_W,TCARBN,TCARBN_FLAG_W,ALKALI,ALKALI_FLAG_W,PCO2,PCO2_FLAG_W,PCO2TMP,PH_SWS,PH_SWS_FLAG_W,PH_TMP,TRITUM,TRITUM_FLAG_W,REFTMP,REFTMP_FLAG_W,DELC13,DELC13_FLAG_W,DELC14,DELC14_FLAG_W,C14ERR,DOC,DOC_FLAG_W,TDN,TDN_FLAG_W,CTDRAW,N2O,N2O_FLAG_W,SALTREF,SALTREF_FLAG_W,HELIUM,HELIUM_FLAG_W,DELO18,DELO18_FLAG_W,CCL4,CCL4_FLAG_W,BTL_DATE,BTL_TIME
,,,,,,,,,,,METERS,DBAR,ITS-90,PSS-78,,PSS-78,,UMOL/KG,,UMOL/KG,,UMOL/KG,,UMOL/KG,,UMOL/KG,,UMOL/KG,,PMOL/KG,,PMOL/KG,,FMOL/KG,,UMOL/KG,,UMOL/KG,,UATM,,DEG C,,,DEG C,TU,,DEG C,,/MILLE,,/MILLE,,/MILLE,UMOL/KG,,UMOL/KG,,DBAR,NMOL/KG,,G/KG,,NMOL/KG,,/MILLE,,PMOL/KG,,,
33RO20131223,       A16S,     108,          1,         24,         24,2,20140128,       0636,   -57.4997,   -31.5992,       3399,     5.3,   1.2354,  33.7940,2,  33.7927,2,    336.4,2,   336.7,2,    23.6,2,    21.9,2,    0.27,2,   1.343,2,   5.784,2,   3.151,2,   3.072,2,  2151.5,6, 2288.16,2,-999.0000,9, -999.00,   7.7252,2,       25,-999.000,9,   1.2362,2, -999.00,9,  -999.0,9,  -999.0,-999.00000000,9,-999.00000000,9,     5.3,     14.271,2,     33.952,2,     -999.0,9,         -999.0,9,  -999.0,9,20140128,       0800
33RO20131223,       A16S,     108,          1,         23,         23,2,20140128,       0636,   -57.4997,   -31.5992,       3399,    17.4,   1.2342,  33.7941,2,  33.7932,2,      337,2,   336.3,2,    23.5,2,    21.9,2,    0.27,2,   1.343,2,-999.000,9,-999.000,9,-999.000,9,  -999.0,9, -999.00,9,-999.0000,9, -999.00,-999.0000,9,  -999.00,-999.000,9,   1.2351,2, -999.00,9,  -999.0,9,  -999.0,-999.00000000,9,-999.00000000,9,    17.4,     -999.0,9,    33.9526,2,     -999.0,9,         -999.0,9,  -999.0,9,20140128,       0758
33RO20131223,       A16S,     108,          1,         22,         22,2,20140128,       0636,   -57.4997,   -31.5992,       3399,    47.4,   1.2157,  33.7987,2,  33.7983,2,    337.3,2,   336.7,2,    22.9,2,    21.9,2,    0.27,2,   1.343,2,-999.000,9,-999.000,9,-999.000,9,  2151.6,2, 2291.08,6,-999.0000,9, -999.00,   7.7266,2,       25,-999.000,9,   1.2149,2, -999.00,9,  -999.0,9,  -999.0,-999.00000000,9,-999.00000000,9,    47.4,     -999.0,9,    33.9577,2,     -999.0,9,         -999.0,9,  -999.0,9,20140128,       0756
33RO20131223,       A16S,     108,          1,         21,         21,2,20140128,       0636,   -57.4997,   -31.5992,       3399,    72.6,   0.3068,  33.8650,2,  33.8715,2,    327.6,2,   327.9,2,    33.7,2,    24.0,2,    0.25,2,   1.698,2,-999.000,9,-999.000,9,-999.000,9,  2171.7,2,    2294,2,-999.0000,9, -999.00,   7.6875,6,       25,-999.000,9,   0.3165,2, -999.00,9,  -999.0,9,  -999.0,-999.00000000,9,-999.00000000,9,    72.6,     -999.0,9,    34.0312,2,     -999.0,9,         -999.0,9,  -999.0,9,20140128,       0754
33RO20131223,       A16S,     108,          1,         20,         20,2,20140128,       0636,   -57.4997,   -31.5992,       3399,    98.8,   0.1922,  34.1160,2,  34.1180,2,    272.5,2,   275.7,2,    52.2,2,    31.1,2,    0.15,2,   2.260,2,-999.000,9,-999.000,9,-999.000,9,  2213.6,2, 2300.81,2,-999.0000,9, -999.00,   7.5805,2,       25,-999.000,9,   0.1962,2, -999.00,9,  -999.0,9,  -999.0,-999.00000000,9,-999.00000000,9,    98.8,     -999.0,9,    34.2789,2,     -999.0,9,         -999.0,9,  -999.0,9,20140128,       0753
33RO20131223,       A16S,     108,          1,         19,         19,2,20140128,       0636,   -57.4997,   -31.5992,       3399,   147.6,   1.1688,  34.3224,2,  34.3212,2,    223.8,2,   221.8,2,    63.4,2,    34.4,2,    0.01,2,   2.371,2,   2.850,2,   1.506,2,   1.178,2,  2239.8,2, 2313.01,2,-999.0000,9, -999.00,   7.5385,2,       25,-999.000,9,   1.1677,2, -999.00,9,  -999.0,9,  -999.0,-999.00000000,9,-999.00000000,9,   147.6,     21.707,2,     34.483,2,     -999.0,9,         -999.0,9,  -999.0,9,20140128,       0750
33RO20131223,       A16S,     108,          1,         18,         18,2,20140128,       0636,   -57.4997,   -31.5992,       3399,   247.5,   1.9344,  34.5257,2,  34.5271,2,    181.3,2,     181,2,    74.4,2,    34.6,2,    0.01,2,   2.369,2,-999.000,9,-999.000,9,-999.000,9,  2258.8,2, 2332.39,2,-999.0000,9, -999.00,   7.5294,2,       25,-999.000,9,   1.9345,2, -999.00,9,  -999.0,9,  -999.0,-999.00000000,9,-999.00000000,9,   247.5,     -999.0,9,    34.6899,2,     -999.0,9,         -999.0,9,  -999.0,9,20140128,       0748
33RO20131223,       A16S,     108,          1,         17,         17,2,20140128,       0636,   -57.4997,   -31.5992,       3399,   347.9,   1.8882,  34.5877,2,  34.5864,2,    179.1,2,     179,2,    79.0,2,    34.1,2,    0.01,2,   2.329,2,   0.878,2,   0.440,2,   0.315,2,  2261.3,2, 2337.23,2,-999.0000,9, -999.00,   7.5396,2,       25,-999.000,9,   1.8884,2, -999.00,9,  -999.0,9,  -999.0,-999.00000000,9,-999.00000000,9,   347.9,     22.365,2,    34.7495,2,     -999.0,9,         -999.0,9,  -999.0,9,20140128,       0745
33RO20131223,       A16S,     108,          1,         16,         16,2,20140128,       0636,   -57.4997,   -31.5992,       3399,   443.1,   1.9992,  34.6509,2,  34.6532,2,    174.9,2,   174.2,2,    83.8,2,    33.5,2,    0.01,2,   2.287,2,-999.000,9,-999.000,9,-999.000,9,  2263.2,6, 2347.01,2,-999.0000,9, -999.00,   7.5506,2,       25,-999.000,9,   1.9993,2, -999.00,9,  -999.0,9,  -999.0,-999.00000000,9,-999.00000000,9,   443.1,     -999.0,9,    34.8166,2,     -999.0,9,         -999.0,9,  -999.0,9,20140128,       0742
33RO20131223,       A16S,     108,          1,         15,         15,2,20140128,       0636,   -57.4997,   -31.5992,       3399,   548.2,   1.8064,  34.6700,2,  34.6721,2,      180,2,   179.9,2,    87.0,2,    33.0,2,    0.01,2,   2.256,2,   0.459,2,   0.227,2,   0.165,2,  2263.8,2, 2347.12,2,-999.0000,9, -999.00,   7.5604,2,       25,-999.000,9,   1.8069,2, -999.00,9,  -999.0,9,  -999.0,-999.00000000,9,-999.00000000,9,   548.2,     21.171,2,    34.8356,2,     -999.0,9,         -999.0,9,  -999.0,9,20140128,       0738
33RO20131223,       A16S,     108,          1,         14,         14,2,20140128,       0636,   -57.4997,   -31.5992,       3399,   648.4,   1.7638,  34.6937,2,  34.6964,2,    179.9,2,     181,2,    91.4,2,    32.6,2,    0.00,2,   2.235,2,-999.000,9,-999.000,9,-999.000,9,  2265.2,2, 2357.55,2,-999.0000,9, -999.00,   7.5701,2,       25,-999.000,9,   1.7637,2, -999.00,9,  -999.0,9,  -999.0,-999.00000000,9,-999.00000000,9,   648.4,     -999.0,9,      34.86,2,     -999.0,9,         -999.0,9,  -999.0,9,20140128,       0736
33RO20131223,       A16S,     108,          1,         13,         13,2,20140128,       0636,   -57.4997,   -31.5992,       3399,   796.6,   1.6450,  34.7051,2,  34.7040,2,    184.4,2,   183.8,2,    95.3,2,    32.3,2,    0.00,2,   2.218,2,   0.254,2,   0.127,2,   0.093,2,  2265.2,2, 2356.16,2,-999.0000,9, -999.00,   7.5762,6,       25,-999.000,9,   1.6455,2, -999.00,9,  -999.0,9,  -999.0,-999.00000000,9,-999.00000000,9,   796.6,     20.203,2,    34.8676,2,     -999.0,9,         -999.0,9,  -999.0,9,20140128,       0732
33RO20131223,       A16S,     108,          1,         12,         12,2,20140128,       0636,   -57.4997,   -31.5992,       3399,   999.9,   1.3834,  34.7082,2,  34.7083,2,    190.6,2,   191.4,2,   100.6,2,    32.1,2,    0.00,2,   2.200,2,-999.000,9,-999.000,9,-999.000,9,  -999.0,9, -999.00,9,-999.0000,9, -999.00,-999.0000,9,  -999.00,-999.000,9,   1.3834,2, -999.00,9,  -999.0,9,  -999.0,-999.00000000,9,-999.00000000,9,   999.9,     -999.0,9,     34.872,2,     -999.0,9,         -999.0,9,  -999.0,9,20140128,       0728
33RO20131223,       A16S,     108,          1,         11,         11,2,20140128,       0636,   -57.4997,   -31.5992,       3399,  1197.3,   1.1720,  34.7058,2,  34.7063,2,    196.1,2,   197.1,2,   105.5,2,    32.1,2,    0.00,2,   2.197,2,   0.325,6,   0.155,2,   0.093,6,  2264.3,2,  2358.5,2,-999.0000,9, -999.00,   7.5853,2,       25,-999.000,9,   1.1719,2, -999.00,9,  -999.0,9,  -999.0,-999.00000000,9,-999.00000000,9,  1197.3,     19.404,6,      34.87,2,     -999.0,9,         -999.0,9,  -999.0,9,20140128,       0723
33RO20131223,       A16S,     108,          1,         10,         10,2,20140128,       0636,   -57.4997,   -31.5992,       3399,  1397.3,   0.9644,  34.7006,2,  34.7008,2,    200.9,2,   200.8,2,   109.8,2,    32.2,2,    0.00,2,   2.206,2,-999.000,9,-999.000,9,-999.000,9,  -999.0,9, -999.00,9,-999.0000,9, -999.00,-999.0000,9,  -999.00,-999.000,9,   0.9644,2, -999.00,9,  -999.0,9,  -999.0,-999.00000000,9,-999.00000000,9,  1397.3,     -999.0,9,    34.8644,2,     -999.0,9,         -999.0,9,  -999.0,9,20140128,       0719
33RO20131223,       A16S,     108,          1,          9,          9,2,20140128,       0636,   -57.4997,   -31.5992,       3399,  1597.5,   0.7927,  34.6945,2,  34.6945,2,    204.2,2,   204.5,2,   113.0,2,    32.3,2,    0.00,2,   2.213,2,   0.452,2,   0.214,2,   0.128,2,  2264.3,2, 2356.38,2,-999.0000,9, -999.00,   7.5868,2,       25,-999.000,9,   0.7928,2, -999.00,9,  -999.0,9,  -999.0,-999.00000000,9,-999.00000000,9,  1597.5,     19.139,2,    34.8581,2,     -999.0,9,         -999.0,9,  -999.0,9,20140128,       0715
33RO20131223,       A16S,     108,          1,          8,          8,2,20140128,       0636,   -57.4997,   -31.5992,       3399,  1798.3,   0.6167,  34.6862,2,  34.6863,2,    207.2,2,   207.8,2,   115.1,2,    32.4,2,    0.00,2,   2.229,2,-999.000,9,-999.000,9,-999.000,9,  2263.4,2, 2361.62,2,-999.0000,9, -999.00,   7.5814,2,       25,-999.000,9,   0.6167,2, -999.00,9,  -999.0,9,  -999.0,-999.00000000,9,-999.00000000,9,  1798.3,     -999.0,9,    34.8499,6,     -999.0,9,         -999.0,9,  -999.0,9,20140128,       0711
33RO20131223,       A16S,     108,          1,          7,          7,2,20140128,       0636,   -57.4997,   -31.5992,       3399,    1997,   0.5529,  34.6864,2,  34.6906,4,    210.1,2,   210.8,2,   117.5,2,    32.4,2,    0.00,2,   2.229,2,   0.568,2,   0.278,2,   0.150,2,  2262.8,2, 2354.03,3,-999.0000,9, -999.00,   7.5833,2,       25,-999.000,9,   0.5527,2, -999.00,9,  -999.0,9,  -999.0,-999.00000000,9,-999.00000000,9,  1997.0,     18.959,2,    34.8542,2,     -999.0,9,         -999.0,9,  -999.0,9,20140128,       0706
33RO20131223,       A16S,     108,          1,          6,          6,2,20140128,       0636,   -57.4997,   -31.5992,       3399,  2197.9,   0.4550,  34.6825,2,  34.6828,2,    212.9,2,     213,2,   118.7,2,    32.5,2,    0.00,2,   2.232,2,-999.000,9,-999.000,9,-999.000,9,  -999.0,9, -999.00,9,-999.0000,9, -999.00,-999.0000,9,  -999.00,-999.000,9,    0.455,2, -999.00,9,  -999.0,9,  -999.0,-999.00000000,9,-999.00000000,9,  2197.9,     -999.0,9,    34.8464,2,     -999.0,9,         -999.0,9,  -999.0,9,20140128,       0702
33RO20131223,       A16S,     108,          1,          5,          5,2,20140128,       0636,   -57.4997,   -31.5992,       3399,  2497.5,   0.3113,  34.6744,2,  34.6746,2,    216.3,2,   216.5,2,   119.8,6,    32.6,6,    0.00,6,   2.244,6,   0.728,2,   0.342,2,   0.183,2,  2261.4,2, 2355.45,6,-999.0000,9, -999.00,   7.5816,2,       25,-999.000,9,   0.3114,2, -999.00,9,  -999.0,9,  -999.0,-999.00000000,9,-999.00000000,9,  2497.5,     18.841,2,    34.8381,2,     -999.0,9,         -999.0,9,  -999.0,9,20140128,       0656
33RO20131223,       A16S,     108,          1,          4,          4,2,20140128,       0636,   -57.4997,   -31.5992,       3399,  2797.5,   0.1900,  34.6692,2,  34.6697,2,    221.2,2,   220.7,2,   121.1,6,    32.6,6,    0.01,6,   2.245,6,-999.000,9,-999.000,9,-999.000,9,  -999.0,9, -999.00,9,-999.0000,9, -999.00,-999.0000,9,  -999.00,-999.000,9,     0.19,2, -999.00,9,  -999.0,9,  -999.0,-999.00000000,9,-999.00000000,9,  2797.5,     -999.0,9,    34.8332,2,     -999.0,9,         -999.0,9,  -999.0,9,20140128,       0650
33RO20131223,       A16S,     108,          1,          3,          3,2,20140128,       0636,   -57.4997,   -31.5992,       3399,  3096.8,   0.0854,  34.6642,2,  34.6652,2,    225.1,2,   224.2,2,   121.7,6,    32.6,6,    0.01,6,   2.248,6,   0.913,2,   0.443,2,   0.221,2,  2259.2,2, 2354.94,2,-999.0000,9, -999.00,   7.5818,2,       25,-999.000,9,   0.0853,2, -999.00,9,  -999.0,9,  -999.0,-999.00000000,9,-999.00000000,9,  3096.8,     18.543,2,    34.8286,2,     -999.0,9,         -999.0,9,  -999.0,9,20140128,       0644
33RO20131223,       A16S,     108,          1,          2,          2,2,20140128,       0636,   -57.4997,   -31.5992,       3399,    3297,   0.0455,  34.6620,2,  34.6601,2,    227.7,2,   226.1,2,   122.5,6,    32.6,6,    0.01,6,   2.248,6,-999.000,9,-999.000,9,-999.000,9,  -999.0,9, -999.00,9,-999.0000,9, -999.00,-999.0000,9,  -999.00,-999.000,9,   0.0452,2, -999.00,9,  -999.0,9,  -999.0,-999.00000000,9,-999.00000000,9,  3297.0,     -999.0,9,    34.8235,2,     -999.0,9,         -999.0,9,  -999.0,9,20140128,       0640
33RO20131223,       A16S,     108,          1,          1,          1,2,20140128,       0636,   -57.4997,   -31.5992,       3399,  3437.3,   0.0396,  34.6614,2,  34.6613,2,      228,2,   228.6,2,   122.8,6,    32.6,6,    0.01,6,   2.248,6,   0.983,2,   0.483,2,   0.236,2,  2261.4,6, 2357.56,2,-999.0000,9, -999.00,   7.5855,2,       25,-999.000,9,   0.0392,2, -999.00,9,  -999.0,9,  -999.0,-999.00000000,9,-999.00000000,9,  3437.3,     18.478,2,    34.8247,2,     -999.0,9,         -999.0,9,  -999.0,9,20140128,       0636