BOTTLE,20220815CCHSIOAMB
EXPOCODE,SECT_ID,STNNBR,CASTNO,SAMPNO,BTLNBR,BTLNBR_FLAG_W,DATE,TIME,LATITUDE,LONGITUDE,DEPTH,CTDPRS,CTDTMP,CTDSAL,CTDSAL_FLAG_W,SALNTY,SALNTY_FLAG_W,CTDOXY,CTDOXY_FLAG_W,OXYGEN,OXYGEN_FLAG_W,SILCAT,SILCAT_FLAG_W,NITRAT,NITRAT_FLAG_W,NITRIT,NITRIT_FLAG_W,PHSPHT,PHSPHT_FLAG_W,CFC-11,CFC-11_FLAG_W,CFC-12,CFC-12_FLAG_W,SF6,SF6_FLAG_W,TCARBN,TCARBN_FLAG_W,ALKALI,ALKALI_FLAG_W,PCO2,PCO2_FLAG_W,PCO2TMP,PH_SWS,PH_SWS_FLAG_W,PH_TMP,TRITUM,TRITUM_FLAG_W,REFTMP,REFTMP_FLAG_W,DELC13,DELC13_FLAG_W,DELC14,DELC14_FLAG_W,C14ERR,DOC,DOC_FLAG_W,TDN,TDN_FLAG_W,CTDRAW,N2O,N2O_FLAG_W,SALTREF,SALTREF_FLAG_W,HELIUM,HELIUM_FLAG_W,DELO18,DELO18_FLAG_W,CCL4,CCL4_FLAG_W,BTL_DATE,BTL_TIME
,,,,,,,,,,,METERS,DBAR,ITS-90,PSS-78,,PSS-78,,UMOL/KG,,UMOL/KG,,UMOL/KG,,UMOL/KG,,UMOL/KG,,UMOL/KG,,PMOL/KG,,PMOL/KG,,FMOL/KG,,UMOL/KG,,UMOL/KG,,UATM,,DEG C,,,DEG C,TU,,DEG C,,/MILLE,,/MILLE,,/MILLE,UMOL/KG,,UMOL/KG,,DBAR,NMOL/KG,,G/KG,,NMOL/KG,,/MILLE,,PMOL/KG,,,
33RO20131223,       A16S,      36,          1,         24,         24,2,20140106,       0311,   -23.5002,   -25.0002,       5435,       3,  26.4432,  36.9544,2,  36.9547,2,    205.9,2,   203.6,2,     0.9,2,     0.0,2,    0.00,2,   0.090,2,-999.000,5,-999.000,9,-999.000,9,  2103.9,6, 2423.41,2,-999.0000,9, -999.00,   8.0367,2,       25,-999.000,9,  26.4364,2, -999.00,9,  -999.0,9,  -999.0,-999.00000000,9,-999.00000000,9,     3.0,     -999.0,9,    37.1289,2,     -999.0,9,         -999.0,9,  -999.0,9,20140106,       0510
33RO20131223,       A16S,      36,          1,         23,         23,2,20140106,       0311,   -23.5002,   -25.0002,       5435,    27.6,  25.2223,  36.8762,2,  36.8646,2,    209.9,2,   211.5,2,     0.9,2,     0.0,2,    0.00,2,   0.088,2,-999.000,5,-999.000,9,-999.000,9,  2100.5,2, 2422.94,2,-999.0000,9, -999.00,   8.0352,2,       25,-999.000,9,  25.2183,2, -999.00,9,  -999.0,9,  -999.0,-999.00000000,9,-999.00000000,9,    27.6,     -999.0,9,    37.0385,2,     -999.0,9,         -999.0,9,  -999.0,9,20140106,       0508
33RO20131223,       A16S,      36,          1,         22,         22,2,20140106,       0311,   -23.5002,   -25.0002,       5435,    63.1,  22.5488,  36.6458,2,  36.6669,2,    224.6,2,     225,2,     1.0,2,     0.0,2,    0.00,2,   0.098,2,-999.000,5,-999.000,9,-999.000,9,  -999.0,9, -999.00,9,-999.0000,9, -999.00,-999.0000,9,  -999.00,-999.000,9,  22.5389,2, -999.00,9,  -999.0,9,  -999.0,-999.00000000,9,-999.00000000,9,    63.1,     -999.0,9,    36.8398,2,     -999.0,9,         -999.0,9,  -999.0,9,20140106,       0506
33RO20131223,       A16S,      36,          1,         21,         21,2,20140106,       0311,   -23.5002,   -25.0002,       5435,     113,  21.8330,  36.7158,2,  36.7104,2,    220.8,2,   220.5,2,     1.0,2,     0.1,2,    0.00,2,   0.110,2,-999.000,5,-999.000,9,-999.000,9,  2100.3,2, 2412.17,2,-999.0000,9, -999.00,   8.0229,2,       25,-999.000,9,   21.834,2, -999.00,9,  -999.0,9,  -999.0,-999.00000000,9,-999.00000000,9,   113.0,     -999.0,9,    36.8835,2,     -999.0,9,         -999.0,9,  -999.0,9,20140106,       0504
33RO20131223,       A16S,      36,          1,         20,         20,2,20140106,       0311,   -23.5002,   -25.0002,       5435,   182.9,  18.9349,  36.1563,2,  36.1285,2,    213.1,2,   211.3,2,     1.4,2,     0.7,2,    0.07,2,   0.252,2,-999.000,5,-999.000,9,-999.000,9,  2109.7,2, 2375.85,2,-999.0000,9, -999.00,   7.9549,6,       25,-999.000,9,  18.9392,2, -999.00,9,  -999.0,9,  -999.0,-999.00000000,9,-999.00000000,9,   182.9,     -999.0,9,    36.2988,2,     -999.0,9,         -999.0,9,  -999.0,9,20140106,       0501
33RO20131223,       A16S,      36,          1,         19,         19,2,20140106,       0311,   -23.5002,   -25.0002,       5435,     258,  15.1239,  35.4951,2,  35.4884,2,    209.2,2,     209,2,     2.4,2,     5.9,2,    0.01,2,   0.526,2,-999.000,5,-999.000,9,-999.000,9,  2114.9,2, 2337.37,2,-999.0000,9, -999.00,   7.8822,2,       25,-999.000,9,  15.1152,2, -999.00,9,  -999.0,9,  -999.0,-999.00000000,9,-999.00000000,9,   258.0,     -999.0,9,    35.6557,2,     -999.0,9,         -999.0,9,  -999.0,9,20140106,       0458
33RO20131223,       A16S,      36,          1,         18,         18,2,20140106,       0311,   -23.5002,   -25.0002,       5435,   347.8,  12.9280,  35.1720,2,  35.1674,2,    206.7,2,   205.8,2,     4.0,2,    10.8,2,    0.00,2,   0.819,2,-999.000,5,-999.000,9,-999.000,9,  2129.8,2, 2319.84,2,-999.0000,9, -999.00,   7.8183,2,       25,-999.000,9,  12.9297,2, -999.00,9,  -999.0,9,  -999.0,-999.00000000,9,-999.00000000,9,   347.8,     -999.0,9,    35.3333,6,     -999.0,9,         -999.0,9,  -999.0,9,20140106,       0456
33RO20131223,       A16S,      36,          1,         17,         17,2,20140106,       0311,   -23.5002,   -25.0002,       5435,   448.1,  10.9342,  34.9183,2,  34.9099,2,    197.9,2,   197.8,2,     6.6,2,    16.4,2,    0.00,2,   1.158,2,-999.000,5,-999.000,9,-999.000,9,  2147.2,2, 2302.06,2,-999.0000,9, -999.00,   7.7544,2,       25,-999.000,9,  10.9341,2, -999.00,9,  -999.0,9,  -999.0,-999.00000000,9,-999.00000000,9,   448.1,     -999.0,9,    35.0745,2,     -999.0,9,         -999.0,9,  -999.0,9,20140106,       0453
33RO20131223,       A16S,      36,          1,         16,         16,2,20140106,       0311,   -23.5002,   -25.0002,       5435,   572.7,   8.1362,  34.6022,2,  34.5995,2,    190.4,2,   189.7,2,    12.8,2,    23.7,2,    0.00,2,   1.621,2,-999.000,5,-999.000,9,-999.000,9,    2171,2, 2290.17,2,-999.0000,9, -999.00,   7.6684,2,       25,-999.000,9,   8.1345,2, -999.00,9,  -999.0,9,  -999.0,-999.00000000,9,-999.00000000,9,   572.7,     -999.0,9,    34.7626,2,     -999.0,9,         -999.0,9,  -999.0,9,20140106,       0449
33RO20131223,       A16S,      36,          1,         15,         15,2,20140106,       0311,   -23.5002,   -25.0002,       5435,   722.5,   5.4972,  34.3840,2,  34.3830,2,      201,2,   199.3,2,    21.9,2,    28.9,2,    0.00,2,   1.961,2,-999.000,5,-999.000,9,-999.000,9,    2187,2, 2289.33,2,-999.0000,9, -999.00,   7.6229,2,       25,-999.000,9,    5.498,2, -999.00,9,  -999.0,9,  -999.0,-999.00000000,9,-999.00000000,9,   722.5,     -999.0,9,    34.5452,2,     -999.0,9,         -999.0,9,  -999.0,9,20140106,       0446
33RO20131223,       A16S,      36,          1,         14,         14,2,20140106,       0311,   -23.5002,   -25.0002,       5435,   907.8,   4.0347,  34.3891,2,  34.3886,2,    191.8,2,   191.6,2,    36.4,6,    32.0,6,    0.00,6,   2.180,6,-999.000,5,-999.000,9,-999.000,9,  2210.4,2, 2300.72,6,-999.0000,9, -999.00,   7.5887,2,       25,-999.000,9,   4.0368,2, -999.00,9,  -999.0,9,  -999.0,-999.00000000,9,-999.00000000,9,   907.8,     -999.0,9,    34.5508,2,     -999.0,9,         -999.0,9,  -999.0,9,20140106,       0441
33RO20131223,       A16S,      36,          1,         13,         13,2,20140106,       0311,   -23.5002,   -25.0002,       5435,  1128.1,   3.3965,  34.5341,2,  34.5358,2,    183.8,2,   184.4,2,    46.4,6,    31.8,6,    0.00,6,   2.177,6,-999.000,5,-999.000,9,-999.000,9,  2222.5,6, 2319.37,2,-999.0000,9, -999.00,   7.5863,2,       25,-999.000,9,   3.3974,2, -999.00,9,  -999.0,9,  -999.0,-999.00000000,9,-999.00000000,9,  1128.1,     -999.0,9,    34.6986,2,     -999.0,9,         -999.0,9,  -999.0,9,20140106,       0436
33RO20131223,       A16S,      36,          1,         12,         12,2,20140106,       0311,   -23.5002,   -25.0002,       5435,  1288.6,   3.2512,  34.6341,2,  34.6380,2,    189.5,2,   189.7,2,    47.0,2,    30.3,2,    0.00,2,   2.062,2,-999.000,5,-999.000,9,-999.000,9,  2220.2,2, 2324.52,2,-999.0000,9, -999.00,    7.606,2,       25,-999.000,9,   3.2523,2, -999.00,9,  -999.0,9,  -999.0,-999.00000000,9,-999.00000000,9,  1288.6,     -999.0,9,    34.8014,2,     -999.0,9,         -999.0,9,  -999.0,9,20140106,       0432
33RO20131223,       A16S,      36,          1,         11,         11,2,20140106,       0311,   -23.5002,   -25.0002,       5435,  1447.7,   3.1849,  34.7348,2,  34.7363,2,    201.4,2,   201.6,2,    44.5,2,    27.9,2,    0.00,2,   1.894,2,-999.000,5,-999.000,9,-999.000,9,  -999.0,9, -999.00,9,-999.0000,9, -999.00,-999.0000,9,  -999.00,-999.000,9,   3.1846,2, -999.00,9,  -999.0,9,  -999.0,-999.00000000,9,-999.00000000,9,  1447.7,     -999.0,9,    34.9001,2,     -999.0,9,         -999.0,9,  -999.0,9,20140106,       0429
33RO20131223,       A16S,      36,          1,         10,         10,2,20140106,       0311,   -23.5002,   -25.0002,       5435,  1747.9,   3.2345,  34.8766,2,  34.8763,2,    230.5,2,   229.8,2,    33.5,2,    23.2,2,    0.00,2,   1.556,2,-999.000,5,-999.000,9,-999.000,9,  2188.4,2, 2324.55,2,-999.0000,9, -999.00,   7.6924,2,       25,-999.000,9,   3.2344,2, -999.00,9,  -999.0,9,  -999.0,-999.00000000,9,-999.00000000,9,  1747.9,     -999.0,9,    35.0408,2,     -999.0,9,         -999.0,9,  -999.0,9,20140106,       0422
33RO20131223,       A16S,      36,          1,          9,          9,2,20140106,       0311,   -23.5002,   -25.0002,       5435,  2197.7,   3.1129,  34.9356,2,  34.9357,2,    248.5,2,   248.4,2,    27.1,2,    20.5,2,    0.00,2,   1.366,2,-999.000,5,-999.000,9,-999.000,9,  -999.0,9, -999.00,9,-999.0000,9, -999.00,-999.0000,9,  -999.00,-999.000,9,   3.1131,2, -999.00,9,  -999.0,9,  -999.0,-999.00000000,9,-999.00000000,9,  2197.7,     -999.0,9,    35.1005,2,     -999.0,9,         -999.0,9,  -999.0,9,20140106,       0414
33RO20131223,       A16S,      36,          1,          8,          8,2,20140106,       0311,   -23.5002,   -25.0002,       5435,  2497.5,   2.9531,  34.9303,2,  34.9304,2,    249.5,2,   249.4,2,    29.4,2,    20.5,2,    0.00,2,   1.369,2,-999.000,5,-999.000,9,-999.000,9,  2177.3,2, 2324.17,2,-999.0000,9, -999.00,   7.7252,2,       25,-999.000,9,    2.954,2, -999.00,9,  -999.0,9,  -999.0,-999.00000000,9,-999.00000000,9,  2497.5,     -999.0,9,    35.0951,2,     -999.0,9,         -999.0,9,  -999.0,9,20140106,       0408
33RO20131223,       A16S,      36,          1,          7,          7,2,20140106,       0311,   -23.5002,   -25.0002,       5435,  2947.9,   2.7169,  34.9172,2,  34.9176,2,    250.3,2,   250.5,2,    33.3,2,    20.8,2,    0.00,2,   1.391,2,-999.000,5,-999.000,9,-999.000,9,  -999.0,9, -999.00,9,-999.0000,9, -999.00,-999.0000,9,  -999.00,-999.000,9,   2.7167,2, -999.00,9,  -999.0,9,  -999.0,-999.00000000,9,-999.00000000,9,  2947.9,     -999.0,9,    35.0823,2,     -999.0,9,         -999.0,9,  -999.0,9,20140106,       0359
33RO20131223,       A16S,      36,          1,          6,          6,2,20140106,       0311,   -23.5002,   -25.0002,       5435,    3448,   2.3669,  34.8877,2,  34.8871,2,    250.1,2,   249.3,2,    43.3,2,    21.9,2,    0.00,2,   1.475,2,-999.000,5,-999.000,9,-999.000,9,  2189.2,2, 2332.04,2,-999.0000,9, -999.00,   7.7161,2,       25,-999.000,9,   2.3667,2, -999.00,9,  -999.0,9,  -999.0,-999.00000000,9,-999.00000000,9,  3448.0,     -999.0,9,    35.0517,2,     -999.0,9,         -999.0,9,  -999.0,9,20140106,       0350
33RO20131223,       A16S,      36,          1,          5,          5,2,20140106,       0311,   -23.5002,   -25.0002,       5435,  3948.3,   1.6999,  34.8182,2,  34.8164,2,    236.8,2,   237.8,2,    69.7,2,    25.5,2,    0.00,2,   1.732,2,-999.000,5,-999.000,9,-999.000,9,  -999.0,9, -999.00,9,-999.0000,9, -999.00,-999.0000,9,  -999.00,-999.000,9,   1.6995,2, -999.00,9,  -999.0,9,  -999.0,-999.00000000,9,-999.00000000,9,  3948.3,     -999.0,9,    34.9805,2,     -999.0,9,         -999.0,9,  -999.0,9,20140106,       0341
33RO20131223,       A16S,      36,          1,          4,          4,2,20140106,       0311,   -23.5002,   -25.0002,       5435,  4447.3,   1.1940,  34.7624,2,  34.7621,2,    230.1,2,     230,2,    91.0,2,    28.3,2,    0.00,2,   1.936,2,-999.000,5,-999.000,9,-999.000,9,  2236.4,2, 2355.26,2,-999.0000,9, -999.00,    7.647,6,       25,-999.000,9,   1.1933,2, -999.00,9,  -999.0,9,  -999.0,-999.00000000,9,-999.00000000,9,  4447.3,     -999.0,9,     34.926,2,     -999.0,9,         -999.0,9,  -999.0,9,20140106,       0332
33RO20131223,       A16S,      36,          1,          3,          3,2,20140106,       0311,   -23.5002,   -25.0002,       5435,  4947.6,   0.8790,  34.7253,2,  34.7239,2,    224.6,2,   226.1,2,   105.1,6,    30.2,6,    0.00,6,   2.066,6,-999.000,5,-999.000,9,-999.000,9,  -999.0,9, -999.00,9,-999.0000,9, -999.00,-999.0000,9,  -999.00,-999.000,9,   0.8791,2, -999.00,9,  -999.0,9,  -999.0,-999.00000000,9,-999.00000000,9,  4947.6,     -999.0,9,    34.8876,2,     -999.0,9,         -999.0,9,  -999.0,9,20140106,       0323
33RO20131223,       A16S,      36,          1,          2,          2,2,20140106,       0311,   -23.5002,   -25.0002,       5435,  5347.9,   0.7762,  34.7098,2,  34.7090,2,    223.1,2,   222.7,2,   110.9,6,    30.8,6,    0.00,6,   2.120,6,-999.000,5,-999.000,9,-999.000,9,  2255.1,2, 2367.97,6,-999.0000,9, -999.00,   7.6181,2,       25,-999.000,9,   0.7765,2, -999.00,9,  -999.0,9,  -999.0,-999.00000000,9,-999.00000000,9,  5347.9,     -999.0,9,    34.8727,2,     -999.0,9,         -999.0,9,  -999.0,9,20140106,       0315
33RO20131223,       A16S,      36,          1,          1,          1,3,20140106,       0311,   -23.5002,   -25.0002,       5435,  5502.3,   0.7644,  34.7062,2,  34.7078,2,    223.5,2,   222.9,2,   112.0,6,    31.0,6,    0.00,3,   2.130,3,-999.000,5,-999.000,9,-999.000,9,  2256.5,6, 2366.15,2,-999.0000,9, -999.00,   7.6161,2,       25,-999.000,9,   0.7643,2, -999.00,9,  -999.0,9,  -999.0,-999.00000000,9,-999.00000000,9,  5502.3,     -999.0,9,    34.8715,6,     -999.0,9,         -999.0,9,  -999.0,9,20140106,       0311