BOTTLE,20220815CCHSIOAMB
EXPOCODE,SECT_ID,STNNBR,CASTNO,SAMPNO,BTLNBR,BTLNBR_FLAG_W,DATE,TIME,LATITUDE,LONGITUDE,DEPTH,CTDPRS,CTDTMP,CTDSAL,CTDSAL_FLAG_W,SALNTY,SALNTY_FLAG_W,CTDOXY,CTDOXY_FLAG_W,OXYGEN,OXYGEN_FLAG_W,SILCAT,SILCAT_FLAG_W,NITRAT,NITRAT_FLAG_W,NITRIT,NITRIT_FLAG_W,PHSPHT,PHSPHT_FLAG_W,CFC-11,CFC-11_FLAG_W,CFC-12,CFC-12_FLAG_W,SF6,SF6_FLAG_W,TCARBN,TCARBN_FLAG_W,ALKALI,ALKALI_FLAG_W,PCO2,PCO2_FLAG_W,PCO2TMP,PH_SWS,PH_SWS_FLAG_W,PH_TMP,DELC13,DELC13_FLAG_W,DELC14,DELC14_FLAG_W,C14ERR,DOC,DOC_FLAG_W,TDN,TDN_FLAG_W,N2O,N2O_FLAG_W,CDOM325,CDOM325_FLAG_W,CDOM340,CDOM340_FLAG_W,CDOM380,CDOM380_FLAG_W,CDOM412,CDOM412_FLAG_W,CDOM443,CDOM443_FLAG_W,CDOM490,CDOM490_FLAG_W,CDOM555,CDOM555_FLAG_W,CDOMSL,CDOMSL_FLAG_W,CDOMSN,CDOMSN_FLAG_W,CCL4,CCL4_FLAG_W,14C-DOC,14C-DOC_FLAG_W,14C-DOCERR,13C-DOC,13C-DOC_FLAG_W,13C-DOCERR,BTL_DATE,BTL_TIME
,,,,,,,,,,,METERS,DBAR,ITS-90,PSS-78,,PSS-78,,UMOL/KG,,UMOL/KG,,UMOL/KG,,UMOL/KG,,UMOL/KG,,UMOL/KG,,PMOL/KG,,PMOL/KG,,FMOL/KG,,UMOL/KG,,UMOL/KG,,UATM,,DEG C,,,DEG C,/MILLE,,/MILLE,,/MILLE,UMOL/KG,,UMOL/KG,,NMOL/KG,,1/M,,1/M,,1/M,,1/M,,1/M,,1/M,,1/M,,1/NM,,1/NM,,PMOL/KG,,/MILLE,,/MILLE,/MILLE,,/MILLE,,
33RO20130803,       A16N,     103,          2,         24,         24,2,20130920,       0116,    12.3341,   -29.0004,       5677,     2.9,  28.4973,  35.8837,2,  35.8994,2,    196.9,2,   198.6,2,    1.00,2,    0.10,2,    0.00,2,    0.01,2,   1.495,2,   0.947,2,   1.193,2,  2002.6,6,  2348.3,2,   275.8,2,      20,   8.1010,2,    25.00,    1.47,2,    45.2,2,     0.2,   74.23,2,    4.57,2,      5.983,2,-999.0000,9,-999.0000,9,-999.0000,9,-999.0000,9,-999.0000,9,-999.0000,9,-999.0000,9,-999.0000,9,-999.0000,9,     -999.0,5,  -999.0,9,     -999.0,     -999.0,9,     -999.0,20130920,       0315
33RO20130803,       A16N,     103,          2,         23,         23,2,20130920,       0116,    12.3341,   -29.0004,       5677,    22.9,  25.0477,  35.9452,2,  35.9569,2,    237.9,2,   233.5,4,    1.00,2,    0.00,2,    0.00,2,    0.02,2,   1.829,2,   1.121,2,   1.235,2,  2026.0,2,  2354.9,6,   313.2,2,      20,   8.0665,2,    25.00,    1.55,2,    44.8,2,     0.2,   74.01,2,    4.53,2,      9.264,2,-999.0000,9,-999.0000,9,-999.0000,9,-999.0000,9,-999.0000,9,-999.0000,9,-999.0000,9,-999.0000,9,-999.0000,9,     -999.0,5,  -999.0,9,     -999.0,     -999.0,9,     -999.0,20130920,       0314
33RO20130803,       A16N,     103,          2,         22,         22,2,20130920,       0116,    12.3341,   -29.0004,       5677,    47.3,  19.1952,  36.1172,2,  36.0725,2,    159.1,2,   133.6,2,    3.30,2,    7.10,2,    0.34,2,    0.57,2,   1.991,2,   1.171,2,   1.018,2,  2173.2,2,  2366.4,2,   599.2,2,      20,   7.8193,2,    25.00,    0.60,2,    50.7,2,     0.3,   66.47,2,   10.03,2,     25.121,2,-999.0000,9,-999.0000,9,-999.0000,9,-999.0000,9,-999.0000,9,-999.0000,9,-999.0000,9,-999.0000,9,-999.0000,9,     -999.0,5,  -999.0,9,     -999.0,     -999.0,9,     -999.0,20130920,       0312
33RO20130803,       A16N,     103,          2,         21,         21,2,20130920,       0116,    12.3341,   -29.0004,       5677,    72.9,  15.8615,  35.8125,2,  35.7904,2,     90.4,2,    85.6,2,    6.00,2,   21.00,2,    0.07,2,    1.28,2,   2.058,2,   1.167,2,   0.814,2,  2209.7,2,  2344.4,2,   836.7,2,      20,   7.6801,2,    25.00,   -0.12,4,    39.0,2,     0.2,   60.28,2,   23.69,2,     32.910,2,-999.0000,9,-999.0000,9,-999.0000,9,-999.0000,9,-999.0000,9,-999.0000,9,-999.0000,9,-999.0000,9,-999.0000,9,     -999.0,5,  -999.0,9,     -999.0,     -999.0,9,     -999.0,20130920,       0310
33RO20130803,       A16N,     103,          2,         20,         20,2,20130920,       0116,    12.3341,   -29.0004,       5677,    97.7,  13.9554,  35.5175,2,  35.5136,2,     77.9,2,    77.3,2,    7.90,2,   24.70,2,    0.02,2,    1.52,2,   2.040,2,   1.125,2,   0.686,2,  2216.9,2,  2331.3,2,   949.3,2,      20,   7.6253,2,    25.00,    0.21,2,    39.5,2,     0.2,   48.43,2,    27.1,2,     36.539,2,-999.0000,9,-999.0000,9,-999.0000,9,-999.0000,9,-999.0000,9,-999.0000,9,-999.0000,9,-999.0000,9,-999.0000,9,     -999.0,5,  -999.0,9,     -999.0,     -999.0,9,     -999.0,20130920,       0308
33RO20130803,       A16N,     103,          2,         19,         19,2,20130920,       0116,    12.3341,   -29.0004,       5677,   147.6,  12.6271,  35.3043,2,  35.3104,2,     78.9,2,    81.6,2,    9.40,2,   26.50,2,    0.01,2,    1.66,2,   1.934,6,   1.053,6,   0.555,6,  2217.2,2,  2320.0,2,  1008.9,2,      20,   7.6022,2,    25.00,    0.29,2,    35.3,2,     0.2,   47.49,2,   29.14,2,     35.538,6,-999.0000,9,-999.0000,9,-999.0000,9,-999.0000,9,-999.0000,9,-999.0000,9,-999.0000,9,-999.0000,9,-999.0000,9,     -999.0,5,  -999.0,9,     -999.0,     -999.0,9,     -999.0,20130920,       0306
33RO20130803,       A16N,     103,          2,         18,         18,2,20130920,       0116,    12.3341,   -29.0004,       5677,   223.1,  11.8695,  35.2499,2,  35.2615,2,     78.7,2,    79.2,2,   10.40,6,   27.60,6,    0.01,6,    1.70,6,   1.738,2,   0.944,2,   0.488,2,  2220.8,2,  2321.2,2,  1052.3,2,      20,   7.5856,2,    25.00,    0.33,2,    20.8,2,     0.2,   45.54,2,   30.17,2,     36.822,2,-999.0000,9,-999.0000,9,-999.0000,9,-999.0000,9,-999.0000,9,-999.0000,9,-999.0000,9,-999.0000,9,-999.0000,9,     -999.0,5,  -999.0,9,     -999.0,     -999.0,9,     -999.0,20130920,       0304
33RO20130803,       A16N,     103,          2,         17,         17,5,20130920,       0116,    12.3341,   -29.0004,       5677,   297.7,  11.1740,  35.2126,2,-999.0000,9,     67.8,2,  -999.0,9, -999.00,9, -999.00,9, -999.00,9, -999.00,9,-999.000,9,-999.000,9,-999.000,9,  -999.0,9,  -999.0,9,  -999.0,9, -999.00,-999.0000,9,  -999.00, -999.00,9,  -999.0,9,  -999.0, -999.00,9, -999.00,9,     -999.0,9,-999.0000,9,-999.0000,9,-999.0000,9,-999.0000,9,-999.0000,9,-999.0000,9,-999.0000,9,-999.0000,9,-999.0000,9,     -999.0,9,  -999.0,9,     -999.0,     -999.0,9,     -999.0,20130920,       0302
33RO20130803,       A16N,     103,          2,         16,         16,2,20130920,       0116,    12.3341,   -29.0004,       5677,   398.3,  10.4958,  35.1693,2,  35.1708,2,     63.6,2,      65,2,   13.40,2,   31.90,2,    0.00,2,    1.93,2,   1.065,2,   0.562,2,   0.289,2,  2236.9,2,  2316.7,2,  1205.4,2,      20,   7.5294,2,    25.00,    0.27,6,    -6.8,6,     2.4,   45.13,2,   34.66,2,     38.047,2,-999.0000,9,-999.0000,9,-999.0000,9,-999.0000,9,-999.0000,9,-999.0000,9,-999.0000,9,-999.0000,9,-999.0000,9,     -999.0,5,  -999.0,9,     -999.0,     -999.0,9,     -999.0,20130920,       0259
33RO20130803,       A16N,     103,          2,         15,         15,2,20130920,       0116,    12.3341,   -29.0004,       5677,   497.8,   9.6733,  35.1116,2,  35.1184,2,     54.3,2,    54.5,2,   15.70,2,   34.50,2,    0.00,2,    2.10,2,   0.619,2,   0.329,2,   0.236,2,  2248.2,2,  2309.9,2,  1309.9,2,      20,   7.4943,2,    25.00,    0.27,2,   -33.8,2,     0.3,   44.71,2,   37.05,2,     37.625,2,-999.0000,9,-999.0000,9,-999.0000,9,-999.0000,9,-999.0000,9,-999.0000,9,-999.0000,9,-999.0000,9,-999.0000,9,     -999.0,5,  -999.0,9,     -999.0,     -999.0,9,     -999.0,20130920,       0256
33RO20130803,       A16N,     103,          2,         14,         14,2,20130920,       0116,    12.3341,   -29.0004,       5677,   647.9,   8.2150,  34.9695,2,  34.9683,2,     73.3,2,    72.5,2,   19.40,2,   35.20,2,    0.00,2,    2.22,2,   0.285,2,   0.155,2,   0.090,2,  2243.0,6,  2311.2,2,  1294.1,2,      20,   7.4982,2,    25.00,    0.41,2,   -62.4,2,     0.2,   44.04,2,   37.77,2,     32.296,2,-999.0000,9,-999.0000,9,-999.0000,9,-999.0000,9,-999.0000,9,-999.0000,9,-999.0000,9,-999.0000,9,-999.0000,9,     -999.0,5,  -999.0,9,     -999.0,     -999.0,9,     -999.0,20130920,       0253
33RO20130803,       A16N,     103,          2,         13,         13,2,20130920,       0116,    12.3341,   -29.0004,       5677,   798.1,   6.7439,  34.8406,2,  34.8421,2,     91.1,2,    90.6,2,   23.20,6,   35.70,6,    0.00,6,    2.31,6,   0.077,2,   0.045,2,   0.000,2,  2242.3,2,  2307.2,6,  1288.0,2,      20,   7.4997,2,    25.00,    0.48,2,   -90.6,2,     0.2,   43.01,2,   38.15,2,     29.436,2,-999.0000,9,-999.0000,9,-999.0000,9,-999.0000,9,-999.0000,9,-999.0000,9,-999.0000,9,-999.0000,9,-999.0000,9,     -999.0,5,  -999.0,9,     -999.0,     -999.0,9,     -999.0,20130920,       0249
33RO20130803,       A16N,     103,          2,         12,         12,2,20130920,       0116,    12.3341,   -29.0004,       5677,   948.1,   5.8014,  34.8183,2,  34.8195,2,    121.1,2,   120.5,2,   25.10,6,   33.40,6,    0.02,6,    2.19,6,   0.024,2,   0.015,2,   0.000,2,  2232.0,2,  2311.5,2,  1159.2,2,      20,   7.5410,2,    25.00, -999.00,9,  -999.0,9,  -999.0,   42.53,2,   36.21,2,     25.415,2,-999.0000,9,-999.0000,9,-999.0000,9,-999.0000,9,-999.0000,9,-999.0000,9,-999.0000,9,-999.0000,9,-999.0000,9,     -999.0,5,  -999.0,9,     -999.0,     -999.0,9,     -999.0,20130920,       0245
33RO20130803,       A16N,     103,          2,         11,         11,2,20130920,       0116,    12.3341,   -29.0004,       5677,  1097.8,   5.4312,  34.8840,2,  34.8872,2,    143.2,2,   143.5,2,   24.30,6,   30.60,6,    0.01,6,    2.02,6,   0.020,2,   0.013,2,   0.000,2,  2220.5,2,  2314.4,2,  1045.5,2,      20,   7.5838,2,    25.00,    0.68,6,  -104.2,6,     0.4,   41.94,2,   33.38,2,     22.419,2,-999.0000,9,-999.0000,9,-999.0000,9,-999.0000,9,-999.0000,9,-999.0000,9,-999.0000,9,-999.0000,9,-999.0000,9,     -999.0,5,  -999.0,9,     -999.0,     -999.0,9,     -999.0,20130920,       0242
33RO20130803,       A16N,     103,          2,         10,         10,2,20130920,       0116,    12.3341,   -29.0004,       5677,  1398.1,   4.6225,  34.9704,2,  34.9765,2,    202.0,2,   201.4,2,   20.20,6,   24.10,6,    0.01,6,    1.60,6,   0.079,2,   0.043,2,   0.025,2,  2190.5,2,  2321.6,2,   834.6,2,      20,   7.6722,6,    25.00,    1.00,3,   -90.6,2,     0.2,   41.37,2,   26.89,2,     16.895,2,-999.0000,9,-999.0000,9,-999.0000,9,-999.0000,9,-999.0000,9,-999.0000,9,-999.0000,9,-999.0000,9,-999.0000,9,     -999.0,5,  -999.0,9,     -999.0,     -999.0,9,     -999.0,20130920,       0236
33RO20130803,       A16N,     103,          2,          9,          9,2,20130920,       0116,    12.3341,   -29.0004,       5677,  1697.9,   4.0495,  34.9823,2,  34.9838,2,    232.3,2,   231.5,2,   19.00,2,   21.30,2,    0.00,2,    1.41,2,   0.083,2,   0.046,2,   0.000,2,  2176.1,2,  2317.2,2,   755.2,2,      20,   7.7107,2,    25.00,    0.78,2,  -100.8,2,     0.2,   40.74,2,   23.88,2,     14.649,2,-999.0000,9,-999.0000,9,-999.0000,9,-999.0000,9,-999.0000,9,-999.0000,9,-999.0000,9,-999.0000,9,-999.0000,9,     -999.0,5,  -999.0,9,     -999.0,     -999.0,9,     -999.0,20130920,       0230
33RO20130803,       A16N,     103,          2,          8,          8,2,20130920,       0116,    12.3341,   -29.0004,       5677,  2098.1,   3.4691,  34.9657,2,  34.9657,2,    242.4,2,   242.6,2,   22.60,2,   20.70,2,    0.01,2,    1.37,2,   0.012,2,   0.009,2,   0.000,2,  2174.3,2,  2321.7,2,   738.0,2,      20,   7.7230,2,    25.00,    0.95,2,   -97.9,2,     0.2,   40.31,2,   23.16,2,     13.773,2,-999.0000,9,-999.0000,9,-999.0000,9,-999.0000,9,-999.0000,9,-999.0000,9,-999.0000,9,-999.0000,9,-999.0000,9,     -999.0,5,  -999.0,9,     -999.0,     -999.0,9,     -999.0,20130920,       0222
33RO20130803,       A16N,     103,          2,          7,          7,2,20130920,       0116,    12.3341,   -29.0004,       5677,  2497.9,   3.0648,  34.9479,2,  34.9497,2,    241.0,2,   241.4,2,   29.00,2,   21.10,2,    0.01,2,    1.40,2,   0.000,2,   0.003,2,   0.000,2,  2181.6,2,  2328.4,2,   740.2,2,      20,   7.7232,2,    25.00,    0.98,2,  -104.8,2,     0.2,   40.17,2,   23.54,2,     12.812,3,-999.0000,9,-999.0000,9,-999.0000,9,-999.0000,9,-999.0000,9,-999.0000,9,-999.0000,9,-999.0000,9,-999.0000,9,     -999.0,5,  -999.0,9,     -999.0,     -999.0,9,     -999.0,20130920,       0215
33RO20130803,       A16N,     103,          2,          6,          6,2,20130920,       0116,    12.3341,   -29.0004,       5677,  2997.4,   2.7170,  34.9252,2,  34.9256,2,    248.2,2,   248.1,2,   33.50,2,   20.90,2,    0.01,2,    1.40,2,   0.010,2,   0.008,2,   0.000,2,  2183.0,2,  2332.7,2,   726.0,2,      20,   7.7283,2,    25.00,    0.98,2,  -111.2,2,     0.2,   40.01,2,   23.45,2,     13.395,2,-999.0000,9,-999.0000,9,-999.0000,9,-999.0000,9,-999.0000,9,-999.0000,9,-999.0000,9,-999.0000,9,-999.0000,9,     -999.0,5,  -999.0,9,     -999.0,     -999.0,9,     -999.0,20130920,       0206
33RO20130803,       A16N,     103,          2,          5,          5,2,20130920,       0116,    12.3341,   -29.0004,       5677,  3497.1,   2.5229,  34.9095,2,  34.9106,2,    244.4,2,   245.7,2,   38.90,2,   21.60,2,    0.01,2,    1.43,2,   0.000,2,   0.003,2,   0.000,2,  2190.2,2,  2339.0,2,   735.3,2,      20,   7.7246,2,    25.00,    0.95,2,  -117.4,2,     0.2,   40.23,2,   24.16,2,     13.505,2,-999.0000,9,-999.0000,9,-999.0000,9,-999.0000,9,-999.0000,9,-999.0000,9,-999.0000,9,-999.0000,9,-999.0000,9,     -999.0,5,  -999.0,9,     -999.0,     -999.0,9,     -999.0,20130920,       0156
33RO20130803,       A16N,     103,          2,          4,          4,2,20130920,       0116,    12.3341,   -29.0004,       5677,  3996.2,   2.3841,  34.8944,2,  34.8949,2,    238.8,2,   239.7,2,   45.30,2,   22.40,2,    0.00,2,    1.51,2,   0.001,2,   0.004,2,   0.000,2,  2202.5,2,  2355.3,2,   756.1,2,      20,   7.7202,2,    25.00,    0.89,2,  -115.0,2,     0.2,   39.72,2,   25.02,2,     13.677,2,-999.0000,9,-999.0000,9,-999.0000,9,-999.0000,9,-999.0000,9,-999.0000,9,-999.0000,9,-999.0000,9,-999.0000,9,     -999.0,5,  -999.0,9,     -999.0,     -999.0,9,     -999.0,20130920,       0147
33RO20130803,       A16N,     103,          2,          3,          3,2,20130920,       0116,    12.3341,   -29.0004,       5677,  4496.7,   2.3004,  34.8797,2,  34.8836,3,    235.4,2,   236.3,2,   50.10,6,   23.00,6,    0.01,6,    1.52,6,   0.005,2,   0.005,2,   0.000,2,  2212.2,2,  2362.8,4,   772.4,2,      20,   7.7133,6,    25.00,    0.83,2,  -117.1,2,     0.2,    40.2,2,   25.49,2,     13.840,2,-999.0000,9,-999.0000,9,-999.0000,9,-999.0000,9,-999.0000,9,-999.0000,9,-999.0000,9,-999.0000,9,-999.0000,9,     -999.0,5,  -999.0,9,     -999.0,     -999.0,9,     -999.0,20130920,       0138
33RO20130803,       A16N,     103,          2,          2,          2,2,20130920,       0116,    12.3341,   -29.0004,       5677,  4997.0,   2.2936,  34.8741,2,  34.8744,2,    242.6,2,   242.7,2,   49.50,2,   22.70,2,    0.00,2,    1.52,2,   0.014,2,   0.013,2,   0.000,2,  2205.5,2,  2352.2,3,   761.7,2,      20,   7.7186,2,    25.00,    0.86,2,  -121.7,2,     0.3,   40.66,2,   24.98,2,     13.884,2,-999.0000,9,-999.0000,9,-999.0000,9,-999.0000,9,-999.0000,9,-999.0000,9,-999.0000,9,-999.0000,9,-999.0000,9,     -999.0,5,  -999.0,9,     -999.0,     -999.0,9,     -999.0,20130920,       0129
33RO20130803,       A16N,     103,          2,          1,          1,2,20130920,       0116,    12.3341,   -29.0004,       5677,  5751.9,   2.3321,  34.8671,2,  34.8699,2,    246.5,2,     245,2,   50.30,2,   22.60,2,    0.00,2,    1.53,2,   0.060,6,   0.038,6,   0.021,6,  2205.8,6,  2352.1,2,   753.9,6,      20,   7.6515,3,    25.00,    0.83,2,  -111.5,2,     0.3,   40.52,2,      25,2,     13.954,6,-999.0000,9,-999.0000,9,-999.0000,9,-999.0000,9,-999.0000,9,-999.0000,9,-999.0000,9,-999.0000,9,-999.0000,9,     -999.0,5,  -999.0,9,     -999.0,     -999.0,9,     -999.0,20130920,       0116