BOTTLE,20220815CCHSIOAMB
EXPOCODE,SECT_ID,STNNBR,CASTNO,SAMPNO,BTLNBR,BTLNBR_FLAG_W,DATE,TIME,LATITUDE,LONGITUDE,DEPTH,CTDPRS,CTDTMP,CTDSAL,CTDSAL_FLAG_W,SALNTY,SALNTY_FLAG_W,CTDOXY,CTDOXY_FLAG_W,OXYGEN,OXYGEN_FLAG_W,SILCAT,SILCAT_FLAG_W,NITRAT,NITRAT_FLAG_W,NITRIT,NITRIT_FLAG_W,PHSPHT,PHSPHT_FLAG_W,CFC-11,CFC-11_FLAG_W,CFC-12,CFC-12_FLAG_W,SF6,SF6_FLAG_W,TCARBN,TCARBN_FLAG_W,ALKALI,ALKALI_FLAG_W,PCO2,PCO2_FLAG_W,PCO2TMP,PH_SWS,PH_SWS_FLAG_W,PH_TMP,DELC13,DELC13_FLAG_W,DELC14,DELC14_FLAG_W,C14ERR,DOC,DOC_FLAG_W,TDN,TDN_FLAG_W,N2O,N2O_FLAG_W,CDOM325,CDOM325_FLAG_W,CDOM340,CDOM340_FLAG_W,CDOM380,CDOM380_FLAG_W,CDOM412,CDOM412_FLAG_W,CDOM443,CDOM443_FLAG_W,CDOM490,CDOM490_FLAG_W,CDOM555,CDOM555_FLAG_W,CDOMSL,CDOMSL_FLAG_W,CDOMSN,CDOMSN_FLAG_W,CCL4,CCL4_FLAG_W,14C-DOC,14C-DOC_FLAG_W,14C-DOCERR,13C-DOC,13C-DOC_FLAG_W,13C-DOCERR,BTL_DATE,BTL_TIME
,,,,,,,,,,,METERS,DBAR,ITS-90,PSS-78,,PSS-78,,UMOL/KG,,UMOL/KG,,UMOL/KG,,UMOL/KG,,UMOL/KG,,UMOL/KG,,PMOL/KG,,PMOL/KG,,FMOL/KG,,UMOL/KG,,UMOL/KG,,UATM,,DEG C,,,DEG C,/MILLE,,/MILLE,,/MILLE,UMOL/KG,,UMOL/KG,,NMOL/KG,,1/M,,1/M,,1/M,,1/M,,1/M,,1/M,,1/M,,1/NM,,1/NM,,PMOL/KG,,/MILLE,,/MILLE,/MILLE,,/MILLE,,
33RO20130803,       A16N,     100,          1,         24,         24,2,20130919,       0051,    14.3324,   -28.9999,       5419,     3.4,  27.3199,  36.2628,2,  36.2673,2,    201.3,2,   201.7,2,    0.90,2,    0.00,2,    0.00,2,    0.02,2,   1.557,2,   0.993,2,   1.245,2,  2030.5,6,  2372.2,2,   293.0,2,      20,   8.0857,2,    25.00, -999.00,9,  -999.0,9,  -999.0,   69.61,2,    5.23,2,      6.349,2,-999.0000,9,-999.0000,9,-999.0000,9,-999.0000,9,-999.0000,9,-999.0000,9,-999.0000,9,-999.0000,9,-999.0000,9,     -999.0,5,  -999.0,9,     -999.0,     -999.0,9,     -999.0,20130919,       0248
33RO20130803,       A16N,     100,          1,         23,         23,2,20130919,       0051,    14.3324,   -28.9999,       5419,    27.7,  24.8205,  36.4135,2,  36.3933,2,    218.5,2,     217,2,    0.90,2,    0.00,2,    0.00,2,    0.02,2,   1.765,2,   1.097,2,   1.292,2,  2051.2,2,  2384.8,2,   325.6,2,      20,   8.0637,2,    25.00, -999.00,9,  -999.0,9,  -999.0,   67.85,2,     5.3,2,      8.882,2,-999.0000,9,-999.0000,9,-999.0000,9,-999.0000,9,-999.0000,9,-999.0000,9,-999.0000,9,-999.0000,9,-999.0000,9,     -999.0,5,  -999.0,9,     -999.0,     -999.0,9,     -999.0,20130919,       0245
33RO20130803,       A16N,     100,          1,         22,         22,2,20130919,       0051,    14.3324,   -28.9999,       5419,    62.3,  17.5078,  36.1841,2,  36.1645,2,    107.1,2,   102.2,2,    4.00,2,   16.40,2,    0.07,2,    1.00,2,   2.042,2,   1.193,2,   0.935,2,  2198.8,2,  2364.8,6,   711.4,2,      20,   7.7518,2,    25.00, -999.00,9,  -999.0,9,  -999.0,   63.46,2,   18.68,2,     26.238,2,-999.0000,9,-999.0000,9,-999.0000,9,-999.0000,9,-999.0000,9,-999.0000,9,-999.0000,9,-999.0000,9,-999.0000,9,     -999.0,5,  -999.0,9,     -999.0,     -999.0,9,     -999.0,20130919,       0243
33RO20130803,       A16N,     100,          1,         21,         21,2,20130919,       0051,    14.3324,   -28.9999,       5419,   112.3,  14.1890,  35.6868,2,  35.6680,2,     89.5,2,    87.5,2,    7.40,2,   23.10,2,    0.01,2,    1.40,2,   1.954,6,   1.098,6,   0.706,6,  2210.8,2,  2340.1,2,   887.2,2,      20,   7.6593,2,    25.00, -999.00,9,  -999.0,9,  -999.0,   55.45,2,   25.17,2,     31.179,6,-999.0000,9,-999.0000,9,-999.0000,9,-999.0000,9,-999.0000,9,-999.0000,9,-999.0000,9,-999.0000,9,-999.0000,9,     -999.0,5,  -999.0,9,     -999.0,     -999.0,9,     -999.0,20130919,       0240
33RO20130803,       A16N,     100,          1,         20,         20,5,20130919,       0051,    14.3324,   -28.9999,       5419,   184.5,  11.8675,  35.2662,2,-999.0000,9,     79.1,2,  -999.0,9, -999.00,9, -999.00,9, -999.00,9, -999.00,9,-999.000,9,-999.000,9,-999.000,9,  -999.0,9,  -999.0,9,  -999.0,9, -999.00,-999.0000,9,  -999.00, -999.00,9,  -999.0,9,  -999.0, -999.00,9, -999.00,9,     -999.0,9,-999.0000,9,-999.0000,9,-999.0000,9,-999.0000,9,-999.0000,9,-999.0000,9,-999.0000,9,-999.0000,9,-999.0000,9,     -999.0,9,  -999.0,9,     -999.0,     -999.0,9,     -999.0,20130919,       0238
33RO20130803,       A16N,     100,          1,         19,         19,2,20130919,       0051,    14.3324,   -28.9999,       5419,   259.7,  11.3249,  35.2383,2,  35.2400,2,     65.5,2,    65.1,2,   11.40,2,   29.80,2,    0.00,2,    1.82,2,   1.412,2,   0.764,2,   0.353,2,  2232.1,2,  2315.8,2,  1145.2,2,      20,   7.5532,2,    25.00, -999.00,9,  -999.0,9,  -999.0,   49.46,2,   34.31,2,     38.925,2,-999.0000,9,-999.0000,9,-999.0000,9,-999.0000,9,-999.0000,9,-999.0000,9,-999.0000,9,-999.0000,9,-999.0000,9,     -999.0,5,  -999.0,9,     -999.0,     -999.0,9,     -999.0,20130919,       0236
33RO20130803,       A16N,     100,          1,         18,         18,2,20130919,       0051,    14.3324,   -28.9999,       5419,   347.2,  10.7483,  35.2070,2,  35.2058,2,     56.6,2,    57.4,2,   12.70,2,   31.80,2,    0.01,2,    1.91,2,   1.088,2,   0.579,2,   0.283,2,  2239.5,2,  2312.5,2,  1222.6,2,      20,   7.5228,2,    25.00, -999.00,9,  -999.0,9,  -999.0,   48.21,2,   35.78,2,     39.165,2,-999.0000,9,-999.0000,9,-999.0000,9,-999.0000,9,-999.0000,9,-999.0000,9,-999.0000,9,-999.0000,9,-999.0000,9,     -999.0,5,  -999.0,9,     -999.0,     -999.0,9,     -999.0,20130919,       0233
33RO20130803,       A16N,     100,          1,         17,         17,5,20130919,       0051,    14.3324,   -28.9999,       5419,   446.9,   9.8736,  35.1293,2,-999.0000,9,     54.8,2,  -999.0,9, -999.00,9, -999.00,9, -999.00,9, -999.00,9,-999.000,9,-999.000,9,-999.000,9,  -999.0,9,  -999.0,9,  -999.0,9, -999.00,-999.0000,9,  -999.00, -999.00,9,  -999.0,9,  -999.0, -999.00,9, -999.00,9,     -999.0,9,-999.0000,9,-999.0000,9,-999.0000,9,-999.0000,9,-999.0000,9,-999.0000,9,-999.0000,9,-999.0000,9,-999.0000,9,     -999.0,9,  -999.0,9,     -999.0,     -999.0,9,     -999.0,20130919,       0231
33RO20130803,       A16N,     100,          1,         16,         16,2,20130919,       0051,    14.3324,   -28.9999,       5419,   572.7,   8.5978,  34.9870,2,  34.9857,2,     78.6,2,    79.3,2,   17.50,2,   33.50,2,    0.00,2,    2.10,2,   0.464,2,   0.248,2,   0.187,2,  2233.6,6,  2307.8,2,  1225.0,2,      20,   7.5226,2,    25.00, -999.00,9,  -999.0,9,  -999.0,   45.02,2,   36.11,2,     31.545,2,-999.0000,9,-999.0000,9,-999.0000,9,-999.0000,9,-999.0000,9,-999.0000,9,-999.0000,9,-999.0000,9,-999.0000,9,     -999.0,5,  -999.0,9,     -999.0,     -999.0,9,     -999.0,20130919,       0227
33RO20130803,       A16N,     100,          1,         15,         15,2,20130919,       0051,    14.3324,   -28.9999,       5419,   722.1,   7.4538,  34.9060,2,  34.9059,2,     94.8,2,    94.5,2,   20.60,2,   33.90,2,    0.00,2,    2.17,2,   0.213,6,   0.118,6,   0.103,6,  2232.3,2,  2309.3,2,  1208.0,2,      20,   7.5078,3,    25.00, -999.00,9,  -999.0,9,  -999.0,    44.1,2,   37.87,2,     28.699,6,-999.0000,9,-999.0000,9,-999.0000,9,-999.0000,9,-999.0000,9,-999.0000,9,-999.0000,9,-999.0000,9,-999.0000,9,     -999.0,5,  -999.0,9,     -999.0,     -999.0,9,     -999.0,20130919,       0224
33RO20130803,       A16N,     100,          1,         14,         14,2,20130919,       0051,    14.3324,   -28.9999,       5419,   872.1,   6.5725,  34.8822,2,  34.8816,2,    108.0,2,     108,2,   22.90,6,   33.50,6,    0.00,6,    2.18,6,   0.068,2,   0.041,2,   0.000,2,  2229.9,2,  2311.8,2,  1171.2,6,      20,   7.5377,2,    25.00, -999.00,9,  -999.0,9,  -999.0,   43.63,2,   37.56,2,     26.743,2,-999.0000,9,-999.0000,9,-999.0000,9,-999.0000,9,-999.0000,9,-999.0000,9,-999.0000,9,-999.0000,9,-999.0000,9,     -999.0,5,  -999.0,9,     -999.0,     -999.0,9,     -999.0,20130919,       0220
33RO20130803,       A16N,     100,          1,         13,         13,2,20130919,       0051,    14.3324,   -28.9999,       5419,  1021.7,   5.9188,  34.9101,2,  34.9094,2,    131.0,2,     131,2,   23.40,6,   31.40,6,    0.00,6,    2.06,6,   0.032,2,   0.019,2,   0.000,2,  2222.7,2,  2314.3,2,  1076.7,2,      20,   7.5727,2,    25.00, -999.00,9,  -999.0,9,  -999.0,    42.7,2,   34.55,2,     23.772,2,-999.0000,9,-999.0000,9,-999.0000,9,-999.0000,9,-999.0000,9,-999.0000,9,-999.0000,9,-999.0000,9,-999.0000,9,     -999.0,5,  -999.0,9,     -999.0,     -999.0,9,     -999.0,20130919,       0217
33RO20130803,       A16N,     100,          1,         12,         12,2,20130919,       0051,    14.3324,   -28.9999,       5419,  1196.7,   5.3573,  34.9676,2,  34.9676,2,    158.4,2,   159.5,2,   22.70,6,   28.10,6,    0.00,6,    1.86,6,   0.022,2,   0.014,2,   0.000,2,  2211.1,2,  2319.9,6,   954.9,2,      20,   7.6200,2,    25.00, -999.00,9,  -999.0,9,  -999.0,   41.77,2,   31.36,2,     20.324,2,-999.0000,9,-999.0000,9,-999.0000,9,-999.0000,9,-999.0000,9,-999.0000,9,-999.0000,9,-999.0000,9,-999.0000,9,     -999.0,5,  -999.0,9,     -999.0,     -999.0,9,     -999.0,20130919,       0213
33RO20130803,       A16N,     100,          1,         11,         11,2,20130919,       0051,    14.3324,   -28.9999,       5419,  1398.6,   4.7526,  34.9942,2,  34.9947,2,    188.7,2,   189.4,2,   22.00,6,   25.10,6,    0.00,6,    1.67,6,   0.015,2,   0.011,2,   0.029,2,  2199.3,2,  2322.3,2,   864.9,2,      20,   7.6611,2,    25.00, -999.00,9,  -999.0,9,  -999.0,   41.95,2,   27.69,2,     17.692,2,-999.0000,9,-999.0000,9,-999.0000,9,-999.0000,9,-999.0000,9,-999.0000,9,-999.0000,9,-999.0000,9,-999.0000,9,     -999.0,5,  -999.0,9,     -999.0,     -999.0,9,     -999.0,20130919,       0208
33RO20130803,       A16N,     100,          1,         10,         10,2,20130919,       0051,    14.3324,   -28.9999,       5419,  1647.9,   4.1536,  34.9890,2,  34.9891,2,    215.8,2,   216.9,2,   21.20,2,   22.40,2,    0.00,2,    1.51,2,-999.000,5,-999.000,5,-999.000,5,  2184.5,2,  2322.4,2,   786.0,2,      20,   7.6958,2,    25.00, -999.00,9,  -999.0,9,  -999.0,   41.67,2,   24.68,2,     -999.0,5,-999.0000,9,-999.0000,9,-999.0000,9,-999.0000,9,-999.0000,9,-999.0000,9,-999.0000,9,-999.0000,9,-999.0000,9,     -999.0,5,  -999.0,9,     -999.0,     -999.0,9,     -999.0,20130919,       0203
33RO20130803,       A16N,     100,          1,          9,          9,2,20130919,       0051,    14.3324,   -28.9999,       5419,  2196.8,   3.3257,  34.9622,2,  34.9621,2,    234.3,2,   235.6,2,   26.40,2,   21.30,2,    0.00,2,    1.43,2,   0.002,2,   0.002,2,   0.000,2,  2181.6,2,  2327.1,2,   743.5,2,      20,   7.6646,3,    25.00, -999.00,9,  -999.0,9,  -999.0,   41.31,2,    23.8,2,     13.961,2,-999.0000,9,-999.0000,9,-999.0000,9,-999.0000,9,-999.0000,9,-999.0000,9,-999.0000,9,-999.0000,9,-999.0000,9,     -999.0,5,  -999.0,9,     -999.0,     -999.0,9,     -999.0,20130919,       0153
33RO20130803,       A16N,     100,          1,          8,          8,2,20130919,       0051,    14.3324,   -28.9999,       5419,  2397.4,   3.1346,  34.9528,2,  34.9524,2,    236.0,2,     238,2,   28.80,2,   21.30,2,    0.00,2,    1.43,2,   0.000,2,   0.002,2,   0.000,2,  2182.8,2,  2331.7,2,   746.2,2,      20,   7.7193,2,    25.00, -999.00,9,  -999.0,9,  -999.0,   41.32,2,   23.77,2,     13.673,2,-999.0000,9,-999.0000,9,-999.0000,9,-999.0000,9,-999.0000,9,-999.0000,9,-999.0000,9,-999.0000,9,-999.0000,9,     -999.0,5,  -999.0,9,     -999.0,     -999.0,9,     -999.0,20130919,       0149
33RO20130803,       A16N,     100,          1,          7,          7,2,20130919,       0051,    14.3324,   -28.9999,       5419,  2848.2,   2.8429,  34.9359,2,  34.9354,2,    240.8,2,   241.8,2,   32.80,2,   21.30,2,    0.00,2,    1.43,2,  -0.001,2,   0.001,2,   0.000,2,  2186.1,2,  2335.3,2,   738.0,2,      20,   7.7260,2,    25.00, -999.00,9,  -999.0,9,  -999.0,   41.06,2,   24.11,2,     13.554,2,-999.0000,9,-999.0000,9,-999.0000,9,-999.0000,9,-999.0000,9,-999.0000,9,-999.0000,9,-999.0000,9,-999.0000,9,     -999.0,5,  -999.0,9,     -999.0,     -999.0,9,     -999.0,20130919,       0140
33RO20130803,       A16N,     100,          1,          6,          6,2,20130919,       0051,    14.3324,   -28.9999,       5419,  3346.4,   2.5981,  34.9177,2,  34.9167,2,    243.5,2,     245,2,   37.20,2,   21.40,2,    0.00,2,    1.43,2,  -0.001,2,   0.002,2,   0.000,2,  2189.3,2,  2313.1,3,   736.6,2,      20,   7.7265,2,    25.00, -999.00,9,  -999.0,9,  -999.0,   40.89,2,   24.27,2,     13.382,2,-999.0000,9,-999.0000,9,-999.0000,9,-999.0000,9,-999.0000,9,-999.0000,9,-999.0000,9,-999.0000,9,-999.0000,9,     -999.0,5,  -999.0,9,     -999.0,     -999.0,9,     -999.0,20130919,       0131
33RO20130803,       A16N,     100,          1,          5,          5,2,20130919,       0051,    14.3324,   -28.9999,       5419,  3847.2,   2.4271,  34.9001,2,  34.8988,2,    238.1,2,   238.8,2,   43.50,2,   22.30,2,    0.00,2,    1.50,2,   0.004,2,   0.003,2,   0.000,2,  2202.3,2,  2351.3,3,   751.1,2,      20,   7.7223,2,    25.00, -999.00,9,  -999.0,9,  -999.0,   41.05,2,   25.11,2,     13.579,2,-999.0000,9,-999.0000,9,-999.0000,9,-999.0000,9,-999.0000,9,-999.0000,9,-999.0000,9,-999.0000,9,-999.0000,9,     -999.0,5,  -999.0,9,     -999.0,     -999.0,9,     -999.0,20130919,       0122
33RO20130803,       A16N,     100,          1,          4,          4,2,20130919,       0051,    14.3324,   -28.9999,       5419,  4345.5,   2.3331,  34.8845,2,  34.8840,2,    234.4,2,   235.4,2,   48.60,2,   23.00,2,    0.00,2,    1.54,2,   0.006,2,   0.005,2,   0.000,2,  2212.9,2,  2331.8,3,   763.2,2,      20,   7.7172,2,    25.00, -999.00,9,  -999.0,9,  -999.0,   40.78,2,   25.57,2,     13.726,2,-999.0000,9,-999.0000,9,-999.0000,9,-999.0000,9,-999.0000,9,-999.0000,9,-999.0000,9,-999.0000,9,-999.0000,9,     -999.0,5,  -999.0,9,     -999.0,     -999.0,9,     -999.0,20130919,       0113
33RO20130803,       A16N,     100,          1,          3,          3,2,20130919,       0051,    14.3324,   -28.9999,       5419,  4846.2,   2.3116,  34.8765,2,  34.8762,2,    237.8,2,   237.4,2,   50.00,2,   23.00,2,    0.00,2,    1.54,2,   0.010,2,   0.008,2,   0.000,2,  2211.3,2,  2353.3,2,   763.3,2,      20,   7.7136,2,    25.00, -999.00,9,  -999.0,9,  -999.0,   40.65,2,   25.64,2,     13.365,3,-999.0000,9,-999.0000,9,-999.0000,9,-999.0000,9,-999.0000,9,-999.0000,9,-999.0000,9,-999.0000,9,-999.0000,9,     -999.0,5,  -999.0,9,     -999.0,     -999.0,9,     -999.0,20130919,       0104
33RO20130803,       A16N,     100,          1,          2,          2,2,20130919,       0051,    14.3324,   -28.9999,       5419,  5297.3,   2.3110,  34.8715,2,  34.8709,2,    245.4,2,   244.7,2,   48.90,2,   22.60,2,    0.00,2,    1.52,2,   0.031,2,   0.022,2,   0.000,2,  2203.7,2,  2351.5,6,   753.4,2,      20,   7.7173,2,    25.00, -999.00,9,  -999.0,9,  -999.0,   40.76,2,   25.21,2,     13.845,2,-999.0000,9,-999.0000,9,-999.0000,9,-999.0000,9,-999.0000,9,-999.0000,9,-999.0000,9,-999.0000,9,-999.0000,9,     -999.0,5,  -999.0,9,     -999.0,     -999.0,9,     -999.0,20130919,       0055
33RO20130803,       A16N,     100,          1,          1,          1,2,20130919,       0051,    14.3324,   -28.9999,       5419,  5487.4,   2.3174,  34.8692,2,  34.8689,2,    246.9,2,   245.2,2,   49.50,2,   22.70,2,    0.00,2,    1.52,2,   0.043,2,   0.028,2,   0.000,2,  2205.4,6,  2353.9,2,   738.1,2,      20,   7.7169,2,    25.00, -999.00,9,  -999.0,9,  -999.0,   40.56,2,   25.25,2,     14.058,2,-999.0000,9,-999.0000,9,-999.0000,9,-999.0000,9,-999.0000,9,-999.0000,9,-999.0000,9,-999.0000,9,-999.0000,9,     -999.0,5,  -999.0,9,     -999.0,     -999.0,9,     -999.0,20130919,       0051