BOTTLE,20220815CCHSIOAMB
EXPOCODE,SECT_ID,STNNBR,CASTNO,SAMPNO,BTLNBR,BTLNBR_FLAG_W,DATE,TIME,LATITUDE,LONGITUDE,DEPTH,CTDPRS,CTDTMP,CTDSAL,CTDSAL_FLAG_W,SALNTY,SALNTY_FLAG_W,CTDOXY,CTDOXY_FLAG_W,OXYGEN,OXYGEN_FLAG_W,SILCAT,SILCAT_FLAG_W,NITRAT,NITRAT_FLAG_W,NITRIT,NITRIT_FLAG_W,PHSPHT,PHSPHT_FLAG_W,CFC-11,CFC-11_FLAG_W,CFC-12,CFC-12_FLAG_W,SF6,SF6_FLAG_W,TCARBN,TCARBN_FLAG_W,ALKALI,ALKALI_FLAG_W,PCO2,PCO2_FLAG_W,PCO2TMP,PH_SWS,PH_SWS_FLAG_W,PH_TMP,DELC13,DELC13_FLAG_W,DELC14,DELC14_FLAG_W,C14ERR,DOC,DOC_FLAG_W,TDN,TDN_FLAG_W,N2O,N2O_FLAG_W,CDOM325,CDOM325_FLAG_W,CDOM340,CDOM340_FLAG_W,CDOM380,CDOM380_FLAG_W,CDOM412,CDOM412_FLAG_W,CDOM443,CDOM443_FLAG_W,CDOM490,CDOM490_FLAG_W,CDOM555,CDOM555_FLAG_W,CDOMSL,CDOMSL_FLAG_W,CDOMSN,CDOMSN_FLAG_W,CCL4,CCL4_FLAG_W,14C-DOC,14C-DOC_FLAG_W,14C-DOCERR,13C-DOC,13C-DOC_FLAG_W,13C-DOCERR,BTL_DATE,BTL_TIME
,,,,,,,,,,,METERS,DBAR,ITS-90,PSS-78,,PSS-78,,UMOL/KG,,UMOL/KG,,UMOL/KG,,UMOL/KG,,UMOL/KG,,UMOL/KG,,PMOL/KG,,PMOL/KG,,FMOL/KG,,UMOL/KG,,UMOL/KG,,UATM,,DEG C,,,DEG C,/MILLE,,/MILLE,,/MILLE,UMOL/KG,,UMOL/KG,,NMOL/KG,,1/M,,1/M,,1/M,,1/M,,1/M,,1/M,,1/M,,1/NM,,1/NM,,PMOL/KG,,/MILLE,,/MILLE,/MILLE,,/MILLE,,
33RO20130803,       A16N,      18,          1,         23,         23,2,20130807,       1137,    56.4998,   -19.9997,       1371,     3.1,  13.8421,  35.2447,2,  35.2457,2,    268.1,2,   271.7,2,    0.20,2,    0.00,2,    0.01,2,    0.17,2,   2.657,3,   1.701,3,   1.890,3,  2064.6,2,  2331.0,2,  -999.0,9, -999.00,   7.9708,6,    25.00, -999.00,9,  -999.0,9,  -999.0, -999.00,9, -999.00,9,      9.422,2,   0.2522,2,   0.1854,2,   0.0840,2,   0.0587,2,   0.0338,2,   0.0198,2,   0.0034,2,   0.0191,2,   0.0203,2,     -999.0,5,  -999.0,9,     -999.0,     -999.0,9,     -999.0,20130807,       1236
33RO20130803,       A16N,      18,          1,         24,         24,2,20130807,       1137,    56.4998,   -19.9997,       1371,     3.0,  13.8421,  35.2448,2,  35.2454,2,    268.1,2,   271.6,2,    0.20,2,    0.00,2,    0.01,2,    0.16,2,-999.000,9,-999.000,9,-999.000,9,  -999.0,9,  -999.0,9,  -999.0,9, -999.00,-999.0000,9,  -999.00, -999.00,9,  -999.0,9,  -999.0, -999.00,9, -999.00,9,     -999.0,9,   0.2580,2,   0.1892,2,   0.0855,2,   0.0597,2,   0.0341,2,   0.0195,2,   0.0036,2,   0.0191,2,   0.0203,2,     -999.0,9,  -999.0,9,     -999.0,     -999.0,9,     -999.0,20130807,       1236
33RO20130803,       A16N,      18,          1,         22,         22,2,20130807,       1137,    56.4998,   -19.9997,       1371,    21.4,  13.3752,  35.2411,2,  35.2428,2,    268.9,2,   270.6,2,    0.20,2,    0.80,2,    0.05,2,    0.15,2,-999.000,9,-999.000,9,-999.000,9,  -999.0,9,  -999.0,9,  -999.0,9, -999.00,-999.0000,9,  -999.00, -999.00,9,  -999.0,9,  -999.0, -999.00,9, -999.00,9,     -999.0,9,   0.1446,2,   0.1007,2,   0.0411,2,   0.0298,2,   0.0136,2,   0.0081,3,  -0.0014,4,   0.0216,2,   0.0235,2,     -999.0,9,  -999.0,9,     -999.0,     -999.0,9,     -999.0,20130807,       1234
33RO20130803,       A16N,      18,          1,         21,         21,2,20130807,       1137,    56.4998,   -19.9997,       1371,    43.8,  11.5231,  35.2950,2,  35.2956,2,    261.7,2,   260.1,2,    0.90,2,    6.70,2,    0.32,2,    0.52,2,   3.057,3,   1.861,3,   1.901,3,  2121.5,6,  2326.4,2,  -999.0,9, -999.00,   7.8509,2,    25.00, -999.00,9,  -999.0,9,  -999.0,   62.12,2,    9.31,2,     10.773,6,   0.1521,2,   0.1071,2,   0.0451,2,   0.0330,2,   0.0161,2,   0.0096,2,  -0.0007,4,   0.0208,2,   0.0226,2,     -999.0,5,  -999.0,9,     -999.0,     -999.0,9,     -999.0,20130807,       1232
33RO20130803,       A16N,      18,          1,         20,         20,2,20130807,       1137,    56.4998,   -19.9997,       1371,    69.4,  11.0724,  35.3501,2,  35.3433,2,    251.7,2,   251.1,2,    2.60,2,    9.70,2,    0.02,2,    0.62,2,   3.062,3,   1.826,3,   1.967,3,  2133.0,2,  2326.4,6,  -999.0,9, -999.00,   7.8261,2,    25.00, -999.00,9,  -999.0,9,  -999.0,    58.2,2,   12.18,2,     11.624,2,   0.1455,2,   0.1002,2,   0.0405,2,   0.0299,2,   0.0134,2,   0.0074,4,  -0.0020,4,   0.0218,2,   0.0240,2,     -999.0,5,  -999.0,9,     -999.0,     -999.0,9,     -999.0,20130807,       1230
33RO20130803,       A16N,      18,          1,         19,         19,2,20130807,       1137,    56.4998,   -19.9997,       1371,    93.5,  10.8094,  35.3194,2,  35.3179,2,    249.2,2,   250.1,2,    3.30,2,   10.20,2,    0.01,2,    0.66,2,-999.000,9,-999.000,9,-999.000,9,  -999.0,9,  -999.0,9,  -999.0,9, -999.00,-999.0000,9,  -999.00, -999.00,9,  -999.0,9,  -999.0,   55.06,2,   12.74,2,     -999.0,9,   0.1526,2,   0.1070,2,   0.0440,2,   0.0320,2,   0.0149,3,   0.0086,4,  -0.0012,4,   0.0214,2,   0.0231,2,     -999.0,9,  -999.0,9,     -999.0,     -999.0,9,     -999.0,20130807,       1228
33RO20130803,       A16N,      18,          1,         18,         18,2,20130807,       1137,    56.4998,   -19.9997,       1371,   117.5,  10.6672,  35.3015,2,  35.2995,2,    249.8,2,   250.3,2,    3.40,2,   10.30,2,    0.01,2,    0.67,2,   2.954,3,   1.827,3,   1.842,3,  2134.4,2,  2325.1,2,  -999.0,9, -999.00,   7.8158,2,    25.00, -999.00,9,  -999.0,9,  -999.0,   52.27,2,   13.55,2,     11.276,2,   0.1511,2,   0.1042,2,   0.0433,2,   0.0315,2,   0.0148,2,   0.0086,3,  -0.0012,4,   0.0213,2,   0.0235,2,     -999.0,5,  -999.0,9,     -999.0,     -999.0,9,     -999.0,20130807,       1226
33RO20130803,       A16N,      18,          1,         17,         17,2,20130807,       1137,    56.4998,   -19.9997,       1371,   143.0,  10.5387,  35.2912,2,  35.2928,2,    249.3,2,   250.5,2,    3.30,2,   10.40,2,    0.01,2,    0.68,2,-999.000,9,-999.000,9,-999.000,9,  -999.0,9,  -999.0,9,  -999.0,9, -999.00,-999.0000,9,  -999.00, -999.00,9,  -999.0,9,  -999.0,   51.34,2,   13.12,2,     -999.0,9,   0.1521,2,   0.1051,2,   0.0438,2,   0.0319,2,   0.0148,2,   0.0083,4,  -0.0014,4,   0.0212,2,   0.0234,2,     -999.0,9,  -999.0,9,     -999.0,     -999.0,9,     -999.0,20130807,       1224
33RO20130803,       A16N,      18,          1,         16,         16,2,20130807,       1137,    56.4998,   -19.9997,       1371,   169.6,  10.4569,  35.2875,2,  35.2907,2,    250.2,2,   250.2,2,    3.30,2,   10.60,2,    0.01,2,    0.69,2,   3.051,3,   1.830,3,   1.989,3,  2136.0,2,  2323.9,2,  -999.0,9, -999.00,   7.8136,2,    25.00, -999.00,9,  -999.0,9,  -999.0,   50.74,2,   12.82,2,     12.208,2,   0.1522,2,   0.1044,2,   0.0428,2,   0.0306,2,   0.0138,2,   0.0075,4,  -0.0021,4,   0.0217,2,   0.0239,2,     -999.0,5,  -999.0,9,     -999.0,     -999.0,9,     -999.0,20130807,       1222
33RO20130803,       A16N,      18,          1,         15,         15,2,20130807,       1137,    56.4998,   -19.9997,       1371,   193.6,  10.4252,  35.2952,2,  35.2944,2,    248.5,2,   248.5,2,    3.70,2,   10.90,2,    0.01,2,    0.71,2,-999.000,9,-999.000,9,-999.000,9,  -999.0,9,  -999.0,9,  -999.0,9, -999.00,-999.0000,9,  -999.00, -999.00,9,  -999.0,9,  -999.0,   50.19,2,    13.1,2,     -999.0,9,   0.1558,2,   0.1090,2,   0.0468,2,   0.0355,2,   0.0172,3,   0.0101,4,  -0.0005,4,   0.0204,2,   0.0224,2,     -999.0,9,  -999.0,9,     -999.0,     -999.0,9,     -999.0,20130807,       1220
33RO20130803,       A16N,      18,          1,         14,         14,2,20130807,       1137,    56.4998,   -19.9997,       1371,   238.9,  10.4179,  35.3490,2,  35.3478,2,    240.3,2,   240.3,2,    4.50,2,   11.80,2,    0.01,2,    0.76,2,   2.659,3,   1.768,3,   1.803,3,  -999.0,9,  -999.0,9,  -999.0,9, -999.00,-999.0000,9,  -999.00, -999.00,9,  -999.0,9,  -999.0,    50.1,2,   14.07,2,     12.057,2,   0.1482,2,   0.1021,2,   0.0423,2,   0.0321,2,   0.0146,2,   0.0087,3,  -0.0011,4,   0.0213,2,   0.0235,2,     -999.0,5,  -999.0,9,     -999.0,     -999.0,9,     -999.0,20130807,       1218
33RO20130803,       A16N,      18,          1,         13,         13,2,20130807,       1137,    56.4998,   -19.9997,       1371,   302.8,  10.2852,  35.3783,2,  35.3782,2,    231.2,2,   230.7,2,    5.70,2,   13.00,2,    0.01,2,    0.83,2,-999.000,9,-999.000,9,-999.000,9,  2151.8,2,  2326.3,6,  -999.0,9, -999.00,   7.7832,2,    25.00, -999.00,9,  -999.0,9,  -999.0,   49.57,2,   14.99,2,     -999.0,9,   0.1421,2,   0.0984,2,   0.0414,2,   0.0310,2,   0.0148,3,   0.0090,4,  -0.0007,4,   0.0210,2,   0.0232,2,     -999.0,9,  -999.0,9,     -999.0,     -999.0,9,     -999.0,20130807,       1215
33RO20130803,       A16N,      18,          1,         12,         12,2,20130807,       1137,    56.4998,   -19.9997,       1371,   379.4,   9.5760,  35.2880,2,  35.2887,2,    258.3,2,   258.6,2,    3.60,2,   11.70,2,    0.01,2,    0.76,2,   3.152,3,   1.889,3,   2.013,3,  -999.0,9,  -999.0,9,  -999.0,9, -999.00,-999.0000,9,  -999.00, -999.00,9,  -999.0,9,  -999.0,   49.07,2,   14.01,2,     12.311,2,   0.1562,2,   0.1085,2,   0.0465,2,   0.0348,2,   0.0170,2,   0.0102,2,  -0.0002,4,   0.0206,2,   0.0227,2,     -999.0,5,  -999.0,9,     -999.0,     -999.0,9,     -999.0,20130807,       1212
33RO20130803,       A16N,      18,          1,         11,         11,2,20130807,       1137,    56.4998,   -19.9997,       1371,   455.1,   9.3280,  35.2692,2,  35.2692,2,    259.1,2,   260.1,2,    4.10,2,   11.90,2,    0.01,2,    0.78,2,-999.000,9,-999.000,9,-999.000,9,  -999.0,9,  -999.0,9,  -999.0,9, -999.00,-999.0000,9,  -999.00, -999.00,9,  -999.0,9,  -999.0,   48.51,2,   14.49,2,     -999.0,9,   0.1442,2,   0.0995,2,   0.0416,2,   0.0310,2,   0.0146,2,   0.0091,3,  -0.0006,4,   0.0212,2,   0.0234,2,     -999.0,9,  -999.0,9,     -999.0,     -999.0,9,     -999.0,20130807,       1209
33RO20130803,       A16N,      18,          1,         10,         10,2,20130807,       1137,    56.4998,   -19.9997,       1371,   529.5,   9.3215,  35.3013,2,  35.2999,2,    256.8,2,   257.6,2,    4.70,2,   12.40,2,    0.00,2,    0.80,2,   3.162,3,   1.892,3,   1.974,3,  -999.0,9,  -999.0,9,  -999.0,9, -999.00,-999.0000,9,  -999.00, -999.00,9,  -999.0,9,  -999.0,   48.11,2,   14.89,2,     12.685,2,   0.1395,2,   0.0959,2,   0.0395,2,   0.0293,2,   0.0136,2,   0.0083,4,  -0.0012,4,   0.0215,2,   0.0237,2,     -999.0,5,  -999.0,9,     -999.0,     -999.0,9,     -999.0,20130807,       1206
33RO20130803,       A16N,      18,          1,          9,          9,2,20130807,       1137,    56.4998,   -19.9997,       1371,   624.0,   9.1331,  35.3012,2,  35.3021,2,    243.0,2,   242.6,2,    6.60,2,   14.00,2,    0.00,2,    0.90,2,   2.977,3,   1.766,3,   1.748,3,  2154.9,2,  2324.9,2,  -999.0,9, -999.00,   7.7695,2,    25.00, -999.00,9,  -999.0,9,  -999.0,   47.77,2,   17.03,2,     14.010,2,   0.1527,2,   0.1075,2,   0.0481,2,   0.0367,2,   0.0195,2,   0.0120,2,   0.0006,3,   0.0196,2,   0.0216,2,     -999.0,5,  -999.0,9,     -999.0,     -999.0,9,     -999.0,20130807,       1203
33RO20130803,       A16N,      18,          1,          7,          7,2,20130807,       1137,    56.4998,   -19.9997,       1371,   722.9,   8.1099,  35.2145,2,  35.2144,2,    202.0,2,   201.4,2,   10.40,6,   18.30,6,    0.00,6,    1.18,6,   2.618,3,   1.401,3,   0.979,3,  2179.1,2,  2321.5,2,  -999.0,9, -999.00,   7.7097,6,    25.00, -999.00,9,  -999.0,9,  -999.0,   47.39,2,   20.77,2,     17.553,2,   0.1759,2,   0.1273,2,   0.0575,2,   0.0420,2,   0.0233,2,   0.0140,3,   0.0015,4,   0.0193,2,   0.0206,2,     -999.0,5,  -999.0,9,     -999.0,     -999.0,9,     -999.0,20130807,       1159
33RO20130803,       A16N,      18,          1,          8,          8,2,20130807,       1137,    56.4998,   -19.9997,       1371,   722.8,   8.1098,  35.2144,2,  35.2133,2,    202.0,2,   201.6,2,   10.40,6,   18.30,6,    0.00,6,    1.18,6,-999.000,9,-999.000,9,-999.000,9,  -999.0,9,  -999.0,9,  -999.0,9, -999.00,-999.0000,9,  -999.00, -999.00,9,  -999.0,9,  -999.0,   47.23,2,    20.8,2,     -999.0,9,-999.0000,9,-999.0000,9,-999.0000,9,-999.0000,9,-999.0000,9,-999.0000,9,-999.0000,9,-999.0000,9,-999.0000,9,     -999.0,9,  -999.0,9,     -999.0,     -999.0,9,     -999.0,20130807,       1159
33RO20130803,       A16N,      18,          1,          6,          6,2,20130807,       1137,    56.4998,   -19.9997,       1371,   861.8,   7.1875,  35.1943,2,  35.1937,2,    210.9,2,     211,2,   11.00,6,   18.40,6,    0.00,6,    1.19,6,   2.558,3,   1.447,3,   0.969,3,  -999.0,9,  -999.0,9,  -999.0,9, -999.00,-999.0000,9,  -999.00, -999.00,9,  -999.0,9,  -999.0,   46.82,2,   20.54,2,     16.755,2,   0.1520,2,   0.1071,2,   0.0490,2,   0.0368,2,   0.0197,3,   0.0111,3,  -0.0006,4,   0.0192,2,   0.0212,2,     -999.0,5,  -999.0,9,     -999.0,     -999.0,9,     -999.0,20130807,       1154
33RO20130803,       A16N,      18,          1,          5,          5,2,20130807,       1137,    56.4998,   -19.9997,       1371,  1010.7,   5.9785,  35.1120,2,  35.1116,2,    227.8,2,   228.5,2,   12.00,6,   18.30,6,    0.00,6,    1.18,6,-999.000,9,-999.000,9,-999.000,9,  2178.6,6,  2316.1,2,  -999.0,9, -999.00,   7.6979,2,    25.00, -999.00,9,  -999.0,9,  -999.0,   46.11,2,   20.52,2,     -999.0,9,   0.1519,2,   0.1076,2,   0.0501,2,   0.0377,2,   0.0207,2,   0.0122,2,   0.0002,4,   0.0188,2,   0.0207,2,     -999.0,9,  -999.0,9,     -999.0,     -999.0,9,     -999.0,20130807,       1150
33RO20130803,       A16N,      18,          1,          4,          4,2,20130807,       1137,    56.4998,   -19.9997,       1371,  1159.8,   5.0072,  35.0257,2,  35.0256,2,    245.6,2,   246.9,2,   11.80,2,   17.90,2,    0.00,2,    1.17,2,   3.338,3,   1.714,3,   1.065,3,  -999.0,9,  -999.0,9,  -999.0,9, -999.00,-999.0000,9,  -999.00, -999.00,9,  -999.0,9,  -999.0,    45.4,2,   20.48,2,     15.512,2,   0.1584,2,   0.1139,2,   0.0563,2,   0.0431,2,   0.0246,2,   0.0136,2,   0.0001,4,   0.0175,2,   0.0193,2,     -999.0,5,  -999.0,9,     -999.0,     -999.0,9,     -999.0,20130807,       1145
33RO20130803,       A16N,      18,          1,          2,          2,2,20130807,       1137,    56.4998,   -19.9997,       1371,  1299.9,   4.2556,  34.9672,2,  34.9662,2,    258.1,2,   258.2,2,   13.70,2,   17.60,2,    0.00,2,    1.16,2,-999.000,9,-999.000,9,-999.000,9,  -999.0,9,  -999.0,9,  -999.0,9, -999.00,-999.0000,9,  -999.00, -999.00,9,  -999.0,9,  -999.0,   45.82,2,   20.24,2,     -999.0,9,   0.1820,2,   0.1335,2,   0.0700,2,   0.0529,2,   0.0318,2,   0.0177,2,   0.0019,3,   0.0162,2,   0.0177,2,     -999.0,9,  -999.0,9,     -999.0,     -999.0,9,     -999.0,20130807,       1140
33RO20130803,       A16N,      18,          1,          3,          3,2,20130807,       1137,    56.4998,   -19.9997,       1371,  1299.8,   4.2572,  34.9675,2,  34.9663,2,    258.0,2,   258.1,2,   13.70,2,   17.60,2,    0.01,2,    1.17,2,   3.406,3,   1.714,3,   0.943,3,  -999.0,9,  -999.0,9,  -999.0,9, -999.00,-999.0000,9,  -999.00, -999.00,9,  -999.0,9,  -999.0,   46.16,2,   20.31,2,     15.134,6,   0.1819,2,   0.1330,2,   0.0673,2,   0.0513,2,   0.0307,2,   0.0174,3,   0.0022,4,   0.0169,2,   0.0184,2,     -999.0,5,  -999.0,9,     -999.0,     -999.0,9,     -999.0,20130807,       1140
33RO20130803,       A16N,      18,          1,          1,          1,2,20130807,       1137,    56.4998,   -19.9997,       1371,  1377.8,   3.9407,  34.9459,2,  34.9444,2,    261.2,2,   261.1,2,   16.50,2,   17.60,2,    0.14,2,    1.17,2,   3.095,3,   1.671,3,   0.866,3,  2169.9,2,  2307.8,6,  -999.0,9, -999.00,   7.7089,2,    25.00, -999.00,9,  -999.0,9,  -999.0,   45.66,2,    20.4,2,     14.868,2,   0.1846,2,   0.1376,2,   0.0741,2,   0.0567,2,   0.0346,2,   0.0192,2,   0.0026,3,   0.0155,2,   0.0168,2,     -999.0,5,  -999.0,9,     -999.0,     -999.0,9,     -999.0,20130807,       1137