BOTTLE,20220815CCHSIOAMB
EXPOCODE,SECT_ID,STNNBR,CASTNO,SAMPNO,BTLNBR,BTLNBR_FLAG_W,DATE,TIME,LATITUDE,LONGITUDE,DEPTH,CTDPRS,CTDTMP,CTDSAL,CTDSAL_FLAG_W,SALNTY,SALNTY_FLAG_W,CTDOXY,CTDOXY_FLAG_W,OXYGEN,OXYGEN_FLAG_W,SILCAT,SILCAT_FLAG_W,NITRAT,NITRAT_FLAG_W,NITRIT,NITRIT_FLAG_W,PHSPHT,PHSPHT_FLAG_W,CFC-11,CFC-11_FLAG_W,CFC-12,CFC-12_FLAG_W,SF6,SF6_FLAG_W,TCARBN,TCARBN_FLAG_W,ALKALI,ALKALI_FLAG_W,PCO2,PCO2_FLAG_W,PCO2TMP,PH_SWS,PH_SWS_FLAG_W,PH_TMP,DELC13,DELC13_FLAG_W,DELC14,DELC14_FLAG_W,C14ERR,DOC,DOC_FLAG_W,TDN,TDN_FLAG_W,N2O,N2O_FLAG_W,CDOM325,CDOM325_FLAG_W,CDOM340,CDOM340_FLAG_W,CDOM380,CDOM380_FLAG_W,CDOM412,CDOM412_FLAG_W,CDOM443,CDOM443_FLAG_W,CDOM490,CDOM490_FLAG_W,CDOM555,CDOM555_FLAG_W,CDOMSL,CDOMSL_FLAG_W,CDOMSN,CDOMSN_FLAG_W,CCL4,CCL4_FLAG_W,14C-DOC,14C-DOC_FLAG_W,14C-DOCERR,13C-DOC,13C-DOC_FLAG_W,13C-DOCERR,BTL_DATE,BTL_TIME
,,,,,,,,,,,METERS,DBAR,ITS-90,PSS-78,,PSS-78,,UMOL/KG,,UMOL/KG,,UMOL/KG,,UMOL/KG,,UMOL/KG,,UMOL/KG,,PMOL/KG,,PMOL/KG,,FMOL/KG,,UMOL/KG,,UMOL/KG,,UATM,,DEG C,,,DEG C,/MILLE,,/MILLE,,/MILLE,UMOL/KG,,UMOL/KG,,NMOL/KG,,1/M,,1/M,,1/M,,1/M,,1/M,,1/M,,1/M,,1/NM,,1/NM,,PMOL/KG,,/MILLE,,/MILLE,/MILLE,,/MILLE,,
33RO20130803,       A16N,      71,          1,         24,         24,2,20130903,       0814,    30.4997,   -23.1016,       5294,     4.7,  23.6734,  37.1860,2,  37.1852,2,    211.3,2,   212.5,2,    0.60,2,    0.00,2,    0.00,2,    0.00,2,   1.798,2,   1.129,2,   1.304,2,  2114.3,6,  2433.5,2,   348.2,2,      20,   8.0230,2,    25.00, -999.00,9,  -999.0,9,  -999.0, -999.00,9, -999.00,9,      6.669,3,   0.0547,2,   0.0246,2,   0.0003,2,   0.0019,2,   0.0019,2,   0.0024,2,   0.0019,2,   0.0181,2,   0.0189,2,     -999.0,5,  -999.0,9,     -999.0,     -999.0,9,     -999.0,20130903,       1015
33RO20130803,       A16N,      71,          1,         23,         23,2,20130903,       0814,    30.4997,   -23.1016,       5294,    23.9,  23.6616,  37.1852,2,  37.1843,2,    211.9,2,   212.7,2,    0.50,2,    0.00,2,    0.00,2,    0.00,2,   1.832,2,   1.128,2,   1.315,2,  2112.9,2,  2433.6,2,   351.2,2,      20,   8.0243,2,    25.00, -999.00,9,  -999.0,9,  -999.0, -999.00,9, -999.00,9,      6.725,3,-999.0000,9,-999.0000,9,-999.0000,9,-999.0000,9,-999.0000,9,-999.0000,9,-999.0000,9,-999.0000,9,-999.0000,9,     -999.0,5,  -999.0,9,     -999.0,     -999.0,9,     -999.0,20130903,       1013
33RO20130803,       A16N,      71,          1,         22,         22,2,20130903,       0814,    30.4997,   -23.1016,       5294,    48.8,  22.0563,  36.9324,2,  36.8940,2,    228.4,2,   230.9,2,    0.60,2,    0.00,2,    0.00,2,    0.00,2,   2.015,2,   1.248,2,   1.445,2,  2098.4,2,  2414.3,6,   347.7,2,      20,   8.0225,2,    25.00, -999.00,9,  -999.0,9,  -999.0, -999.00,9, -999.00,9,      7.191,3,   0.0956,2,   0.0521,2,   0.0121,2,   0.0087,2,   0.0053,2,   0.0037,2,   0.0023,2,   0.0190,2,   0.0200,2,     -999.0,5,  -999.0,9,     -999.0,     -999.0,9,     -999.0,20130903,       1011
33RO20130803,       A16N,      71,          1,         21,         21,2,20130903,       0814,    30.4997,   -23.1016,       5294,    79.1,  19.7160,  36.7177,2,  36.7175,2,    230.2,2,   229.8,2,    0.60,2,    0.00,2,    0.00,2,    0.01,2,   2.147,6,   1.321,6,   1.479,6,  2099.7,2,  2404.9,2,   366.8,2,      20,   8.0079,2,    25.00, -999.00,9,  -999.0,9,  -999.0, -999.00,9, -999.00,9,      7.734,3,   0.1330,2,   0.0827,2,   0.0288,2,   0.0197,2,   0.0111,2,   0.0060,2,   0.0030,2,   0.0177,2,   0.0185,2,     -999.0,5,  -999.0,9,     -999.0,     -999.0,9,     -999.0,20130903,       1009
33RO20130803,       A16N,      71,          1,         20,         20,2,20130903,       0814,    30.4997,   -23.1016,       5294,    99.3,  19.2321,  36.7013,2,  36.6885,2,    221.6,2,   221.4,2,    0.70,2,    0.10,2,    0.01,2,    0.01,2,   2.194,2,   1.332,2,   1.473,2,  2107.3,2,  2406.9,2,   377.7,2,      20,   7.9940,2,    25.00, -999.00,9,  -999.0,9,  -999.0, -999.00,9, -999.00,9,      7.757,3,   0.1205,2,   0.0756,2,   0.0267,2,   0.0202,2,   0.0112,2,   0.0058,2,   0.0031,2,   0.0169,2,   0.0176,2,     -999.0,5,  -999.0,9,     -999.0,     -999.0,9,     -999.0,20130903,       1008
33RO20130803,       A16N,      71,          1,         19,         19,2,20130903,       0814,    30.4997,   -23.1016,       5294,   149.0,  18.2961,  36.5806,2,  36.5607,2,    208.2,2,   207.6,2,    2.00,3,    5.80,3,    0.01,3,    0.31,3,   2.249,2,   1.367,2,   1.477,2,  2116.8,2,  2390.8,2,   405.4,2,      20,   7.9592,2,    25.00, -999.00,9,  -999.0,9,  -999.0, -999.00,9, -999.00,9,      8.379,3,   0.1037,2,   0.0645,2,   0.0201,2,   0.0166,2,   0.0095,2,   0.0051,2,   0.0027,2,   0.0172,2,   0.0176,2,     -999.0,5,  -999.0,9,     -999.0,     -999.0,9,     -999.0,20130903,       1005
33RO20130803,       A16N,      71,          1,         18,         18,2,20130903,       0814,    30.4997,   -23.1016,       5294,   223.7,  17.1490,  36.4068,2,  36.3982,2,    197.9,2,   196.3,2,    2.00,2,    5.80,2,    0.01,2,    0.31,2,   2.366,2,   1.398,2,   1.313,2,  2126.6,2,  2383.8,2,   440.9,2,      20,   7.9265,2,    25.00, -999.00,9,  -999.0,9,  -999.0, -999.00,9, -999.00,9,      9.516,3,   0.1026,2,   0.0615,2,   0.0226,2,   0.0175,2,   0.0102,2,   0.0052,2,   0.0027,2,   0.0160,2,   0.0168,2,     -999.0,5,  -999.0,9,     -999.0,     -999.0,9,     -999.0,20130903,       1003
33RO20130803,       A16N,      71,          1,         17,         17,2,20130903,       0814,    30.4997,   -23.1016,       5294,   299.1,  16.2323,  36.2811,2,  36.2828,2,    196.9,2,   196.5,2,    2.30,2,    6.90,2,    0.00,2,    0.40,2,   2.390,2,   1.425,2,   1.284,2,  2133.1,2,  2374.9,2,   471.0,2,      20,   7.9054,2,    25.00, -999.00,9,  -999.0,9,  -999.0, -999.00,9, -999.00,9,     10.084,3,   0.0976,2,   0.0569,2,   0.0185,2,   0.0155,2,   0.0089,2,   0.0046,2,   0.0024,2,   0.0166,2,   0.0176,2,     -999.0,5,  -999.0,9,     -999.0,     -999.0,9,     -999.0,20130903,       1000
33RO20130803,       A16N,      71,          1,         16,         16,2,20130903,       0814,    30.4997,   -23.1016,       5294,   398.9,  14.8628,  36.0621,2,  36.0546,2,    193.8,2,   192.9,2,    3.10,2,    9.30,2,    0.00,2,    0.55,2,   2.547,2,   1.469,2,   1.273,2,  2143.1,2,  2364.5,2,   515.6,2,      20,   7.8605,6,    25.00, -999.00,9,  -999.0,9,  -999.0, -999.00,9, -999.00,9,     11.475,3,-999.0000,9,-999.0000,9,-999.0000,9,-999.0000,9,-999.0000,9,-999.0000,9,-999.0000,9,-999.0000,9,-999.0000,9,     -999.0,5,  -999.0,9,     -999.0,     -999.0,9,     -999.0,20130903,       0957
33RO20130803,       A16N,      71,          1,         15,         15,2,20130903,       0814,    30.4997,   -23.1016,       5294,   498.5,  13.3775,  35.8212,2,  35.5821,4,    191.3,2,   190.4,2,    4.40,2,   12.00,2,    0.00,2,    0.72,2,   2.618,2,   1.479,2,   1.148,2,  2150.9,2,  2347.9,2,   575.0,2,      20,   7.8192,2,    25.00, -999.00,9,  -999.0,9,  -999.0, -999.00,9, -999.00,9,     12.917,3,   0.1043,2,   0.0610,2,   0.0199,2,   0.0156,2,   0.0089,2,   0.0043,2,   0.0023,2,   0.0170,2,   0.0179,2,     -999.0,5,  -999.0,9,     -999.0,     -999.0,9,     -999.0,20130903,       0954
33RO20130803,       A16N,      71,          1,         14,         14,2,20130903,       0814,    30.4997,   -23.1016,       5294,   648.5,  11.5157,  35.5867,2,  35.5825,2,    177.3,2,   175.7,2,    7.20,2,   16.70,2,    0.00,2,    1.01,2,   2.260,2,   1.241,2,   0.759,2,  2168.0,2,  2340.4,2,   664.0,2,      20,   7.7608,2,    25.00, -999.00,9,  -999.0,9,  -999.0, -999.00,9, -999.00,9,     15.267,3,   0.1205,2,   0.0721,2,   0.0259,2,   0.0195,2,   0.0118,2,   0.0056,2,   0.0026,2,   0.0170,2,   0.0180,2,     -999.0,5,  -999.0,9,     -999.0,     -999.0,9,     -999.0,20130903,       0950
33RO20130803,       A16N,      71,          1,         13,         13,2,20130903,       0814,    30.4997,   -23.1016,       5294,   799.4,   9.9140,  35.4873,2,  35.4851,2,    170.0,2,     169,2,   10.60,2,   19.70,2,    0.00,2,    1.23,2,   1.599,2,   0.846,2,   0.435,2,  2181.6,2,  2340.8,2,   714.0,2,      20,   7.7250,2,    25.00, -999.00,9,  -999.0,9,  -999.0, -999.00,9, -999.00,9,     16.638,3,-999.0000,9,-999.0000,9,-999.0000,9,-999.0000,9,-999.0000,9,-999.0000,9,-999.0000,9,-999.0000,9,-999.0000,9,     -999.0,5,  -999.0,9,     -999.0,     -999.0,9,     -999.0,20130903,       0946
33RO20130803,       A16N,      71,          1,         12,         12,2,20130903,       0814,    30.4997,   -23.1016,       5294,   949.6,   9.1239,  35.5431,2,  35.5429,2,    173.6,2,     173,2,   12.20,2,   20.00,2,    0.00,2,    1.26,2,   1.287,2,   0.670,2,   0.312,2,  2193.1,6,  2346.2,2,   717.4,2,      20,   7.7258,2,    25.00, -999.00,9,  -999.0,9,  -999.0, -999.00,9, -999.00,9,     16.525,3,   0.1167,2,   0.0687,2,   0.0246,2,   0.0183,2,   0.0114,2,   0.0053,2,   0.0025,2,   0.0169,2,   0.0180,2,     -999.0,5,  -999.0,9,     -999.0,     -999.0,9,     -999.0,20130903,       0942
33RO20130803,       A16N,      71,          1,         11,         11,2,20130903,       0814,    30.4997,   -23.1016,       5294,  1098.8,   8.4145,  35.5556,2,  35.5592,2,    181.6,2,   181.8,2,   13.20,2,   19.90,2,    0.00,2,    1.26,2,   1.087,2,   0.571,2,   0.276,2,  2195.7,2,  2351.3,2,   712.4,2,      20,   7.7275,2,    25.00, -999.00,9,  -999.0,9,  -999.0, -999.00,9, -999.00,9,     15.902,3,   0.1145,2,   0.0679,2,   0.0241,2,   0.0179,2,   0.0109,2,   0.0050,2,   0.0024,2,   0.0169,2,   0.0178,2,     -999.0,5,  -999.0,9,     -999.0,     -999.0,9,     -999.0,20130903,       0938
33RO20130803,       A16N,      71,          1,         10,         10,2,20130903,       0814,    30.4997,   -23.1016,       5294,  1299.3,   7.0388,  35.4006,2,  35.4007,2,    189.9,2,   189.4,2,   16.40,2,   21.00,2,    0.00,2,    1.36,2,   0.621,2,   0.319,2,   0.082,2,  2194.8,2,  2345.1,2,   725.9,2,      20,   7.7180,2,    25.00, -999.00,9,  -999.0,9,  -999.0, -999.00,9, -999.00,9,     15.998,3,-999.0000,9,-999.0000,9,-999.0000,9,-999.0000,9,-999.0000,9,-999.0000,9,-999.0000,9,-999.0000,9,-999.0000,9,     -999.0,5,  -999.0,9,     -999.0,     -999.0,9,     -999.0,20130903,       0934
33RO20130803,       A16N,      71,          1,          9,          9,2,20130903,       0814,    30.4997,   -23.1016,       5294,  1598.1,   5.6126,  35.2589,2,  35.2589,2,    225.1,2,   223.6,2,   15.50,2,   19.20,2,    0.00,2,    1.24,2,   0.965,2,   0.478,2,   0.160,2,  2181.2,2,  2338.9,2,   701.6,2,      20,   7.7288,2,    25.00, -999.00,9,  -999.0,9,  -999.0, -999.00,9, -999.00,9,     14.249,3,   0.1290,2,   0.0789,2,   0.0311,2,   0.0217,2,   0.0132,2,   0.0064,2,   0.0029,2,   0.0165,2,   0.0174,2,     -999.0,5,  -999.0,9,     -999.0,     -999.0,9,     -999.0,20130903,       0927
33RO20130803,       A16N,      71,          1,          8,          8,2,20130903,       0814,    30.4997,   -23.1016,       5294,  1999.0,   4.2930,  35.1038,2,  35.1035,2,    245.0,2,   243.8,2,   17.80,2,   18.70,2,    0.00,2,    1.23,2,   0.799,2,   0.412,2,   0.435,4,  2175.4,2,  2327.4,2,   701.5,2,      20,   7.7299,2,    25.00, -999.00,9,  -999.0,9,  -999.0, -999.00,9, -999.00,9,     14.106,3,-999.0000,9,-999.0000,9,-999.0000,9,-999.0000,9,-999.0000,9,-999.0000,9,-999.0000,9,-999.0000,9,-999.0000,9,     -999.0,5,  -999.0,9,     -999.0,     -999.0,9,     -999.0,20130903,       0919
33RO20130803,       A16N,      71,          1,          7,          7,2,20130903,       0814,    30.4997,   -23.1016,       5294,  2399.2,   3.4612,  35.0109,2,  35.0094,2,    244.1,2,   243.4,2,   25.40,2,   19.90,2,    0.00,2,    1.32,2,   0.184,2,   0.095,2,   0.014,2,  2183.8,2,  2335.4,2,   707.2,2,      20,   7.7259,3,    25.00, -999.00,9,  -999.0,9,  -999.0, -999.00,9, -999.00,9,     14.167,3,-999.0000,9,-999.0000,9,-999.0000,9,-999.0000,9,-999.0000,9,-999.0000,9,-999.0000,9,-999.0000,9,-999.0000,9,     -999.0,5,  -999.0,9,     -999.0,     -999.0,9,     -999.0,20130903,       0912
33RO20130803,       A16N,      71,          1,          6,          6,2,20130903,       0814,    30.4997,   -23.1016,       5294,  2799.1,   2.9524,  34.9599,2,  34.9590,2,    245.6,2,   244.9,2,   31.60,2,   20.50,2,    0.00,2,    1.37,2,   0.099,2,   0.052,2,   0.011,2,  2189.7,2,  2345.1,4,   709.2,2,      20,   7.7309,2,    25.00, -999.00,9,  -999.0,9,  -999.0, -999.00,9, -999.00,9,     14.134,3,   0.1607,2,   0.1044,2,   0.0455,2,   0.0330,2,   0.0211,2,   0.0106,2,   0.0044,2,   0.0158,2,   0.0167,2,     -999.0,5,  -999.0,9,     -999.0,     -999.0,9,     -999.0,20130903,       0904
33RO20130803,       A16N,      71,          1,          5,          5,2,20130903,       0814,    30.4997,   -23.1016,       5294,  3297.2,   2.6289,  34.9270,2,  34.9258,2,    243.2,2,   243.7,2,   38.30,2,   21.30,2,    0.00,2,    1.43,2,-999.000,5,-999.000,5,-999.000,5,  2196.1,2,  2343.0,2,   712.5,2,      20,   7.7285,2,    25.00, -999.00,9,  -999.0,9,  -999.0, -999.00,9, -999.00,9,     -999.0,5,   0.1589,2,   0.1031,2,   0.0438,2,   0.0307,2,   0.0193,2,   0.0096,2,   0.0040,2,   0.0162,2,   0.0170,2,     -999.0,5,  -999.0,9,     -999.0,     -999.0,9,     -999.0,20130903,       0854
33RO20130803,       A16N,      71,          1,          4,          4,2,20130903,       0814,    30.4997,   -23.1016,       5294,  3799.1,   2.4936,  34.9083,2,  34.9074,2,    243.3,2,   243.7,2,   42.20,6,   21.80,6,    0.00,6,    1.46,6,   0.014,2,   0.007,2,   0.000,2,  2198.3,2,  2354.9,3,   706.8,2,      20,   7.7281,6,    25.00, -999.00,9,  -999.0,9,  -999.0, -999.00,9, -999.00,9,     14.128,3,   0.1454,2,   0.0921,2,   0.0379,2,   0.0269,2,   0.0174,2,   0.0088,2,   0.0038,2,   0.0163,2,   0.0172,2,     -999.0,5,  -999.0,9,     -999.0,     -999.0,9,     -999.0,20130903,       0844
33RO20130803,       A16N,      71,          1,          3,          3,2,20130903,       0814,    30.4997,   -23.1016,       5294,  4299.1,   2.4269,  34.8965,2,  34.8957,2,    243.2,2,     244,2,   44.90,6,   22.10,6,    0.00,6,    1.48,6,   0.006,6,   0.004,6,   0.000,6,  2198.5,2,  2346.3,6,   705.0,2,      20,   7.7268,2,    25.00, -999.00,9,  -999.0,9,  -999.0, -999.00,9, -999.00,9,     14.163,3,   0.1361,2,   0.0848,2,   0.0345,2,   0.0249,2,   0.0158,2,   0.0075,2,   0.0033,2,   0.0162,2,   0.0171,2,     -999.0,5,  -999.0,9,     -999.0,     -999.0,9,     -999.0,20130903,       0835
33RO20130803,       A16N,      71,          1,          2,          2,2,20130903,       0814,    30.4997,   -23.1016,       5294,  4798.4,   2.4104,  34.8886,2,  34.8873,2,    243.1,2,   243.5,2,   46.70,6,   22.20,6,    0.00,6,    1.49,6,   0.005,2,   0.004,2,   0.000,2,  2200.7,2,  2350.2,2,   706.4,2,      20,   7.7270,2,    25.00, -999.00,9,  -999.0,9,  -999.0, -999.00,9, -999.00,9,     14.225,3,   0.1417,2,   0.0884,2,   0.0357,2,   0.0247,2,   0.0153,2,   0.0072,2,   0.0031,2,   0.0165,2,   0.0174,2,     -999.0,5,  -999.0,9,     -999.0,     -999.0,9,     -999.0,20130903,       0826
33RO20130803,       A16N,      71,          1,          1,          1,2,20130903,       0814,    30.4997,   -23.1016,       5294,  5367.6,   2.4581,  34.8852,2,  34.8849,2,    243.7,2,   242.2,2,   47.30,6,   22.30,6,    0.00,6,    1.50,6,   0.008,2,   0.006,2,   0.000,2,  2202.4,6,  2355.9,2,   710.2,2,      20,   7.7492,4,    25.00, -999.00,9,  -999.0,9,  -999.0, -999.00,9, -999.00,9,     14.412,3,-999.0000,5,-999.0000,5,-999.0000,5,-999.0000,5,-999.0000,5,-999.0000,5,-999.0000,5,-999.0000,5,-999.0000,5,     -999.0,5,  -999.0,9,     -999.0,     -999.0,9,     -999.0,20130903,       0814