BOTTLE,20220815CCHSIOAMB
EXPOCODE,SECT_ID,STNNBR,CASTNO,SAMPNO,BTLNBR,BTLNBR_FLAG_W,DATE,TIME,LATITUDE,LONGITUDE,DEPTH,CTDPRS,CTDTMP,CTDSAL,CTDSAL_FLAG_W,SALNTY,SALNTY_FLAG_W,CTDOXY,CTDOXY_FLAG_W,OXYGEN,OXYGEN_FLAG_W,SILCAT,SILCAT_FLAG_W,NITRAT,NITRAT_FLAG_W,NITRIT,NITRIT_FLAG_W,PHSPHT,PHSPHT_FLAG_W,CFC-11,CFC-11_FLAG_W,CFC-12,CFC-12_FLAG_W,SF6,SF6_FLAG_W,TCARBN,TCARBN_FLAG_W,ALKALI,ALKALI_FLAG_W,PCO2,PCO2_FLAG_W,PCO2TMP,PH_SWS,PH_SWS_FLAG_W,PH_TMP,DELC13,DELC13_FLAG_W,DELC14,DELC14_FLAG_W,C14ERR,DOC,DOC_FLAG_W,TDN,TDN_FLAG_W,N2O,N2O_FLAG_W,CDOM325,CDOM325_FLAG_W,CDOM340,CDOM340_FLAG_W,CDOM380,CDOM380_FLAG_W,CDOM412,CDOM412_FLAG_W,CDOM443,CDOM443_FLAG_W,CDOM490,CDOM490_FLAG_W,CDOM555,CDOM555_FLAG_W,CDOMSL,CDOMSL_FLAG_W,CDOMSN,CDOMSN_FLAG_W,CCL4,CCL4_FLAG_W,14C-DOC,14C-DOC_FLAG_W,14C-DOCERR,13C-DOC,13C-DOC_FLAG_W,13C-DOCERR,BTL_DATE,BTL_TIME
,,,,,,,,,,,METERS,DBAR,ITS-90,PSS-78,,PSS-78,,UMOL/KG,,UMOL/KG,,UMOL/KG,,UMOL/KG,,UMOL/KG,,UMOL/KG,,PMOL/KG,,PMOL/KG,,FMOL/KG,,UMOL/KG,,UMOL/KG,,UATM,,DEG C,,,DEG C,/MILLE,,/MILLE,,/MILLE,UMOL/KG,,UMOL/KG,,NMOL/KG,,1/M,,1/M,,1/M,,1/M,,1/M,,1/M,,1/M,,1/NM,,1/NM,,PMOL/KG,,/MILLE,,/MILLE,/MILLE,,/MILLE,,
33RO20130803,       A16N,      22,          1,         16,         16,2,20130808,       0808,    54.4991,   -20.0005,       1382,     3.1,  15.3332,  35.3294,2,  35.3292,2,    254.7,2,   256.4,2,    0.20,2,    0.10,2,    0.01,2,    0.07,2,-999.000,9,-999.000,9,-999.000,9,  2064.7,6,  2333.8,6,  -999.0,9, -999.00,   7.9778,2,    25.00, -999.00,9,  -999.0,9,  -999.0,   67.62,2,    4.59,2,     -999.0,9,-999.0000,9,-999.0000,9,-999.0000,9,-999.0000,9,-999.0000,9,-999.0000,9,-999.0000,9,-999.0000,9,-999.0000,9,     -999.0,9,  -999.0,9,     -999.0,     -999.0,9,     -999.0,20130808,       0852
33RO20130803,       A16N,      22,          1,         15,         15,2,20130808,       0808,    54.4991,   -20.0005,       1382,    17.5,  15.3121,  35.3297,2,  35.3367,2,    255.2,2,   258.3,2,    0.20,2,    0.50,2,    0.02,2,    0.09,2,-999.000,9,-999.000,9,-999.000,9,  2069.5,2,  2197.3,4,  -999.0,9, -999.00,   7.9681,6,    25.00, -999.00,9,  -999.0,9,  -999.0,   64.26,2,    3.94,2,     -999.0,9,-999.0000,9,-999.0000,9,-999.0000,9,-999.0000,9,-999.0000,9,-999.0000,9,-999.0000,9,-999.0000,9,-999.0000,9,     -999.0,9,  -999.0,9,     -999.0,     -999.0,9,     -999.0,20130808,       0851
33RO20130803,       A16N,      22,          1,         14,         14,2,20130808,       0808,    54.4991,   -20.0005,       1382,    34.2,  13.2747,  35.3711,2,  35.3704,2,    268.2,2,   267.6,2,    0.20,2,    4.10,2,    0.10,2,    0.34,2,-999.000,9,-999.000,9,-999.000,9,  2105.1,2,  2331.8,2,  -999.0,9, -999.00,   7.8974,2,    25.00, -999.00,9,  -999.0,9,  -999.0,   59.61,2,    7.43,2,     -999.0,9,-999.0000,9,-999.0000,9,-999.0000,9,-999.0000,9,-999.0000,9,-999.0000,9,-999.0000,9,-999.0000,9,-999.0000,9,     -999.0,9,  -999.0,9,     -999.0,     -999.0,9,     -999.0,20130808,       0849
33RO20130803,       A16N,      22,          1,         13,         13,2,20130808,       0808,    54.4991,   -20.0005,       1382,    60.5,  12.0532,  35.4048,2,  35.4051,2,    264.5,2,   262.5,2,    0.70,2,    6.20,2,    0.20,2,    0.47,2,-999.000,9,-999.000,9,-999.000,9,  2120.1,2,  2332.9,2,  -999.0,9, -999.00,   7.8676,2,    25.00, -999.00,9,  -999.0,9,  -999.0,   54.77,2,   10.44,2,     -999.0,9,-999.0000,9,-999.0000,9,-999.0000,9,-999.0000,9,-999.0000,9,-999.0000,9,-999.0000,9,-999.0000,9,-999.0000,9,     -999.0,9,  -999.0,9,     -999.0,     -999.0,9,     -999.0,20130808,       0847
33RO20130803,       A16N,      22,          1,         12,         12,2,20130808,       0808,    54.4991,   -20.0005,       1382,    79.8,  11.4351,  35.4136,2,  35.4122,2,    258.1,2,   256.1,2,    1.50,2,    8.20,2,    0.37,2,    0.55,2,-999.000,9,-999.000,9,-999.000,9,  2131.6,2,  2330.4,6,  -999.0,9, -999.00,   7.8426,2,    25.00, -999.00,9,  -999.0,9,  -999.0,   54.29,2,   10.73,2,     -999.0,9,-999.0000,9,-999.0000,9,-999.0000,9,-999.0000,9,-999.0000,9,-999.0000,9,-999.0000,9,-999.0000,9,-999.0000,9,     -999.0,9,  -999.0,9,     -999.0,     -999.0,9,     -999.0,20130808,       0845
33RO20130803,       A16N,      22,          1,         11,         11,2,20130808,       0808,    54.4991,   -20.0005,       1382,   115.8,  11.0319,  35.3745,2,  35.3747,2,    254.9,2,   252.8,2,    2.30,2,    9.60,2,    0.01,2,    0.61,2,-999.000,9,-999.000,9,-999.000,9,  -999.0,9,  -999.0,9,  -999.0,9, -999.00,-999.0000,9,  -999.00, -999.00,9,  -999.0,9,  -999.0,   52.91,2,   13.23,2,     -999.0,9,-999.0000,9,-999.0000,9,-999.0000,9,-999.0000,9,-999.0000,9,-999.0000,9,-999.0000,9,-999.0000,9,-999.0000,9,     -999.0,9,  -999.0,9,     -999.0,     -999.0,9,     -999.0,20130808,       0843
33RO20130803,       A16N,      22,          1,         10,         10,2,20130808,       0808,    54.4991,   -20.0005,       1382,   173.6,  10.7417,  35.3452,2,  35.3410,2,    251.2,2,   249.2,2,    3.10,2,   10.40,2,    0.01,2,    0.67,2,-999.000,9,-999.000,9,-999.000,9,  2135.3,2,  2323.1,2,  -999.0,9, -999.00,   7.8169,2,    25.00, -999.00,9,  -999.0,9,  -999.0,   51.42,2,   13.76,2,     -999.0,9,-999.0000,9,-999.0000,9,-999.0000,9,-999.0000,9,-999.0000,9,-999.0000,9,-999.0000,9,-999.0000,9,-999.0000,9,     -999.0,9,  -999.0,9,     -999.0,     -999.0,9,     -999.0,20130808,       0840
33RO20130803,       A16N,      22,          1,          9,          9,2,20130808,       0808,    54.4991,   -20.0005,       1382,   237.2,  10.5568,  35.3466,2,  35.3454,2,    244.9,2,   244.3,2,    4.10,2,   11.30,2,    0.01,2,    0.73,2,-999.000,9,-999.000,9,-999.000,9,  -999.0,9,  -999.0,9,  -999.0,9, -999.00,-999.0000,9,  -999.00, -999.00,9,  -999.0,9,  -999.0,   50.57,2,   14.11,2,     -999.0,9,-999.0000,9,-999.0000,9,-999.0000,9,-999.0000,9,-999.0000,9,-999.0000,9,-999.0000,9,-999.0000,9,-999.0000,9,     -999.0,9,  -999.0,9,     -999.0,     -999.0,9,     -999.0,20130808,       0837
33RO20130803,       A16N,      22,          1,          8,          8,2,20130808,       0808,    54.4991,   -20.0005,       1382,   318.0,  10.3342,  35.3477,2,  35.3465,2,    234.6,2,     234,2,    5.30,2,   12.70,2,    0.01,2,    0.82,2,-999.000,9,-999.000,9,-999.000,9,  2150.7,2,  2325.0,2,  -999.0,9, -999.00,   7.7859,2,    25.00, -999.00,9,  -999.0,9,  -999.0,   49.77,2,   14.99,2,     -999.0,9,-999.0000,9,-999.0000,9,-999.0000,9,-999.0000,9,-999.0000,9,-999.0000,9,-999.0000,9,-999.0000,9,-999.0000,9,     -999.0,9,  -999.0,9,     -999.0,     -999.0,9,     -999.0,20130808,       0835
33RO20130803,       A16N,      22,          1,          7,          7,2,20130808,       0808,    54.4991,   -20.0005,       1382,   403.4,   9.7962,  35.2932,2,  35.2944,2,    223.4,2,   221.6,2,    6.80,2,   14.50,2,    0.01,2,    0.92,2,-999.000,9,-999.000,9,-999.000,9,  -999.0,9,  -999.0,9,  -999.0,9, -999.00,-999.0000,9,  -999.00, -999.00,9,  -999.0,9,  -999.0,    48.9,2,    16.5,2,     -999.0,9,-999.0000,9,-999.0000,9,-999.0000,9,-999.0000,9,-999.0000,9,-999.0000,9,-999.0000,9,-999.0000,9,-999.0000,9,     -999.0,9,  -999.0,9,     -999.0,     -999.0,9,     -999.0,20130808,       0832
33RO20130803,       A16N,      22,          1,          6,          6,2,20130808,       0808,    54.4991,   -20.0005,       1382,   550.6,   8.5163,  35.1822,2,  35.1812,2,    198.9,2,   197.9,2,    9.90,2,   18.20,2,    0.00,2,    1.17,2,-999.000,9,-999.000,9,-999.000,9,  2174.5,6,  2318.4,2,  -999.0,9, -999.00,   7.7100,2,    25.00, -999.00,9,  -999.0,9,  -999.0,   47.14,2,   20.18,2,     -999.0,9,-999.0000,9,-999.0000,9,-999.0000,9,-999.0000,9,-999.0000,9,-999.0000,9,-999.0000,9,-999.0000,9,-999.0000,9,     -999.0,9,  -999.0,9,     -999.0,     -999.0,9,     -999.0,20130808,       0828
33RO20130803,       A16N,      22,          1,          5,          5,2,20130808,       0808,    54.4991,   -20.0005,       1382,   647.8,   7.3317,  35.1184,2,  35.1170,2,    205.9,2,   206.9,2,   10.90,2,   18.80,2,    0.00,2,    1.21,2,-999.000,9,-999.000,9,-999.000,9,  -999.0,9,  -999.0,9,  -999.0,9, -999.00,-999.0000,9,  -999.00, -999.00,9,  -999.0,9,  -999.0,    46.7,2,   21.41,2,     -999.0,9,-999.0000,9,-999.0000,9,-999.0000,9,-999.0000,9,-999.0000,9,-999.0000,9,-999.0000,9,-999.0000,9,-999.0000,9,     -999.0,9,  -999.0,9,     -999.0,     -999.0,9,     -999.0,20130808,       0825
33RO20130803,       A16N,      22,          1,          4,          4,2,20130808,       0808,    54.4991,   -20.0005,       1382,   773.9,   7.1641,  35.2308,2,  35.2297,2,    211.8,2,   205.5,3,   10.90,2,   18.40,2,    0.00,2,    1.18,2,-999.000,9,-999.000,9,-999.000,9,  2179.1,2,  2323.4,2,  -999.0,9, -999.00,   7.7069,6,    25.00, -999.00,9,  -999.0,9,  -999.0,   45.54,2,    21.2,2,     -999.0,9,-999.0000,9,-999.0000,9,-999.0000,9,-999.0000,9,-999.0000,9,-999.0000,9,-999.0000,9,-999.0000,9,-999.0000,9,     -999.0,9,  -999.0,9,     -999.0,     -999.0,9,     -999.0,20130808,       0822
33RO20130803,       A16N,      22,          1,          3,          3,2,20130808,       0808,    54.4991,   -20.0005,       1382,   905.9,   6.0047,  35.1188,2,  35.1184,2,    229.6,2,   229.3,2,   11.10,2,   18.30,2,    0.00,2,    1.18,2,-999.000,9,-999.000,9,-999.000,9,  -999.0,9,  -999.0,9,  -999.0,9, -999.00,-999.0000,9,  -999.00, -999.00,9,  -999.0,9,  -999.0,   45.39,2,   21.15,2,     -999.0,9,-999.0000,9,-999.0000,9,-999.0000,9,-999.0000,9,-999.0000,9,-999.0000,9,-999.0000,9,-999.0000,9,-999.0000,9,     -999.0,9,  -999.0,9,     -999.0,     -999.0,9,     -999.0,20130808,       0818
33RO20130803,       A16N,      22,          1,          2,          2,2,20130808,       0808,    54.4991,   -20.0005,       1382,  1127.8,   4.7180,  34.9983,2,  34.9968,2,    254.9,2,   254.5,2,   11.00,2,   17.60,2,    0.00,2,    1.15,2,-999.000,9,-999.000,9,-999.000,9,  -999.0,9,  -999.0,9,  -999.0,9, -999.00,-999.0000,9,  -999.00, -999.00,9,  -999.0,9,  -999.0,   45.04,2,   19.89,2,     -999.0,9,-999.0000,9,-999.0000,9,-999.0000,9,-999.0000,9,-999.0000,9,-999.0000,9,-999.0000,9,-999.0000,9,-999.0000,9,     -999.0,9,  -999.0,9,     -999.0,     -999.0,9,     -999.0,20130808,       0813
33RO20130803,       A16N,      22,          1,          1,          1,2,20130808,       0808,    54.4991,   -20.0005,       1382,  1389.1,   3.6126,  34.9352,2,  34.9330,2,    268.7,2,   268.1,2,   13.50,2,   17.40,2,    0.01,2,    1.14,2,-999.000,9,-999.000,9,-999.000,9,  2166.3,2,  2306.8,6,  -999.0,9, -999.00,   7.7252,2,    25.00, -999.00,9,  -999.0,9,  -999.0,   44.99,2,   19.74,2,     -999.0,9,-999.0000,9,-999.0000,9,-999.0000,9,-999.0000,9,-999.0000,9,-999.0000,9,-999.0000,9,-999.0000,9,-999.0000,9,     -999.0,9,  -999.0,9,     -999.0,     -999.0,9,     -999.0,20130808,       0808