BOTTLE,20220815CCHSIOAMB
EXPOCODE,SECT_ID,STNNBR,CASTNO,SAMPNO,BTLNBR,BTLNBR_FLAG_W,DATE,TIME,LATITUDE,LONGITUDE,DEPTH,CTDPRS,CTDTMP,CTDSAL,CTDSAL_FLAG_W,SALNTY,SALNTY_FLAG_W,CTDOXY,CTDOXY_FLAG_W,OXYGEN,OXYGEN_FLAG_W,SILCAT,SILCAT_FLAG_W,NITRAT,NITRAT_FLAG_W,NITRIT,NITRIT_FLAG_W,PHSPHT,PHSPHT_FLAG_W,CFC-11,CFC-11_FLAG_W,CFC-12,CFC-12_FLAG_W,SF6,SF6_FLAG_W,TCARBN,TCARBN_FLAG_W,ALKALI,ALKALI_FLAG_W,PCO2,PCO2_FLAG_W,PCO2TMP,PH_SWS,PH_SWS_FLAG_W,PH_TMP,DELC13,DELC13_FLAG_W,DELC14,DELC14_FLAG_W,C14ERR,DOC,DOC_FLAG_W,TDN,TDN_FLAG_W,N2O,N2O_FLAG_W,CDOM325,CDOM325_FLAG_W,CDOM340,CDOM340_FLAG_W,CDOM380,CDOM380_FLAG_W,CDOM412,CDOM412_FLAG_W,CDOM443,CDOM443_FLAG_W,CDOM490,CDOM490_FLAG_W,CDOM555,CDOM555_FLAG_W,CDOMSL,CDOMSL_FLAG_W,CDOMSN,CDOMSN_FLAG_W,CCL4,CCL4_FLAG_W,14C-DOC,14C-DOC_FLAG_W,14C-DOCERR,13C-DOC,13C-DOC_FLAG_W,13C-DOCERR,BTL_DATE,BTL_TIME
,,,,,,,,,,,METERS,DBAR,ITS-90,PSS-78,,PSS-78,,UMOL/KG,,UMOL/KG,,UMOL/KG,,UMOL/KG,,UMOL/KG,,UMOL/KG,,PMOL/KG,,PMOL/KG,,FMOL/KG,,UMOL/KG,,UMOL/KG,,UATM,,DEG C,,,DEG C,/MILLE,,/MILLE,,/MILLE,UMOL/KG,,UMOL/KG,,NMOL/KG,,1/M,,1/M,,1/M,,1/M,,1/M,,1/M,,1/M,,1/NM,,1/NM,,PMOL/KG,,/MILLE,,/MILLE,/MILLE,,/MILLE,,
33RO20130803,       A16N,     138,          2,         24,         24,2,20130929,       1342,    -2.6669,   -25.0002,       5378,     2.7,  26.0545,  36.0996,2,  36.0986,2,    204.6,2,   204.4,2,    1.20,2,    0.00,2,    0.00,2,    0.11,2,   1.664,2,   1.044,2,   1.180,2,  2053.1,2,  2372.8,2,  -999.0,9, -999.00,   8.0375,2,    25.00,    1.22,2,    47.1,2,     0.2,   71.71,2,    4.12,2,      6.480,2,   0.1209,3,   0.0882,3,   0.0457,2,   0.0307,3,   0.0211,3,   0.0162,2,   0.0091,2,   0.0170,3,   0.0183,3,     -999.0,5,  -999.0,9,     -999.0,     -999.0,9,     -999.0,20130929,       1547
33RO20130803,       A16N,     138,          2,         23,         23,2,20130929,       1342,    -2.6669,   -25.0002,       5378,    13.2,  25.6378,  36.0910,2,  36.0906,2,    205.0,2,   205.4,2,    1.30,2,    0.00,2,    0.00,2,    0.12,2,-999.000,9,-999.000,9,-999.000,9,  -999.0,9,  -999.0,9,  -999.0,9, -999.00,-999.0000,9,  -999.00,    1.35,2,    43.6,2,     0.2,   70.84,2,    4.41,2,     -999.0,9,   0.1135,2,   0.0803,2,   0.0389,2,   0.0238,2,   0.0142,2,   0.0106,2,   0.0058,2,   0.0189,2,   0.0202,2,     -999.0,9,  -999.0,9,     -999.0,     -999.0,9,     -999.0,20130929,       1545
33RO20130803,       A16N,     138,          2,         22,         22,2,20130929,       1342,    -2.6669,   -25.0002,       5378,    53.5,  25.5498,  36.0917,2,  36.0923,2,    204.6,2,   204.5,2,    1.30,2,    0.00,2,    0.01,2,    0.13,2,   1.668,2,   1.045,2,   1.195,2,  2059.3,2,  2368.7,2,  -999.0,9, -999.00,   8.0368,6,    25.00,    1.34,2,    50.2,2,     0.2,    69.9,2,    4.25,2,      6.631,2,   0.1183,2,   0.0843,2,   0.0412,2,   0.0251,2,   0.0147,2,   0.0104,2,   0.0055,2,   0.0187,2,   0.0197,2,     -999.0,5,  -999.0,9,     -999.0,     -999.0,9,     -999.0,20130929,       1543
33RO20130803,       A16N,     138,          2,         21,         21,2,20130929,       1342,    -2.6669,   -25.0002,       5378,    83.7,  25.0719,  36.1139,2,  36.1106,2,    200.0,2,   194.5,2,    1.50,2,    0.90,2,    0.14,2,    0.22,2,   1.720,6,   1.080,6,   1.196,6,  2073.6,2,  2367.7,2,  -999.0,9, -999.00,   8.0142,2,    25.00,    1.24,2,    55.8,2,     0.3,    64.4,2,    4.73,2,      7.425,6,   0.1338,2,   0.0959,2,   0.0482,2,   0.0311,2,   0.0179,2,   0.0120,2,   0.0065,2,   0.0178,2,   0.0190,2,     -999.0,5,  -999.0,9,     -999.0,     -999.0,9,     -999.0,20130929,       1540
33RO20130803,       A16N,     138,          2,         20,         20,2,20130929,       1342,    -2.6669,   -25.0002,       5378,   112.6,  15.6688,  35.6081,2,  35.6055,2,    111.5,2,   109.2,2,    6.10,2,   18.60,2,    0.07,2,    1.28,2,-999.000,9,-999.000,9,-999.000,9,  2187.8,2,  2337.9,2,  -999.0,9, -999.00,   7.7203,2,    25.00,    0.47,2,    45.8,2,     0.2,   55.58,2,    21.6,2,     -999.0,9,   0.1795,2,   0.1297,2,   0.0701,2,   0.0500,2,   0.0285,2,   0.0161,2,   0.0086,2,   0.0160,2,   0.0174,2,     -999.0,9,  -999.0,9,     -999.0,     -999.0,9,     -999.0,20130929,       1538
33RO20130803,       A16N,     138,          2,         19,         19,2,20130929,       1342,    -2.6669,   -25.0002,       5378,   173.2,  13.0489,  35.2847,2,  35.2830,2,    114.0,2,   114.8,2,    8.40,2,   21.80,2,    0.01,2,    1.46,2,   2.188,2,   1.206,2,   0.649,2,  2192.2,2,  2321.9,2,  -999.0,9, -999.00,   7.6768,2,    25.00,    0.52,2,    35.4,2,     0.3,   49.04,2,   24.42,2,     26.484,2,   0.1658,2,   0.1218,2,   0.0703,2,   0.0512,2,   0.0325,2,   0.0194,2,   0.0104,2,   0.0146,2,   0.0158,2,     -999.0,5,  -999.0,9,     -999.0,     -999.0,9,     -999.0,20130929,       1535
33RO20130803,       A16N,     138,          2,         18,         18,2,20130929,       1342,    -2.6669,   -25.0002,       5378,   259.7,  11.9573,  35.1423,2,  35.1408,2,    106.2,2,   101.4,2,   10.20,2,   25.20,2,    0.01,2,    1.65,2,   1.993,2,   1.094,2,   0.544,2,  2204.9,2,  2312.9,2,  -999.0,9, -999.00,   7.6250,2,    25.00,    0.49,2,    28.5,2,     0.2,   47.39,2,   27.99,2,     30.985,2,   0.1899,2,   0.1402,2,   0.0804,2,   0.0572,2,   0.0353,2,   0.0200,2,   0.0100,2,   0.0147,2,   0.0158,2,     -999.0,5,  -999.0,9,     -999.0,     -999.0,9,     -999.0,20130929,       1532
33RO20130803,       A16N,     138,          2,         17,         17,2,20130929,       1342,    -2.6669,   -25.0002,       5378,   373.3,  10.0618,  34.9080,2,  34.9081,2,    111.3,2,   111.1,2,   12.70,2,   27.70,2,    0.01,2,    1.82,2,   1.842,2,   0.971,2,   0.442,2,  2207.7,2,  2304.0,2,  -999.0,9, -999.00,   7.5947,2,    25.00,    0.56,2,     2.0,2,     0.3,   45.84,2,   30.26,2,     30.699,2,   0.1730,2,   0.1259,2,   0.0720,2,   0.0513,2,   0.0315,2,   0.0170,2,   0.0084,2,   0.0149,2,   0.0162,2,     -999.0,5,  -999.0,9,     -999.0,     -999.0,9,     -999.0,20130929,       1528
33RO20130803,       A16N,     138,          2,         16,         16,2,20130929,       1342,    -2.6669,   -25.0002,       5378,   472.3,   7.6577,  34.6667,2,  34.6645,2,    107.5,2,   106.9,2,   18.50,2,   33.30,2,    0.00,2,    2.18,2,-999.000,9,-999.000,9,-999.000,9,  -999.0,9,  -999.0,9,  -999.0,9, -999.00,-999.0000,9,  -999.00,    0.57,2,   -34.2,2,     0.2,   44.33,2,   36.14,2,     -999.0,9,-999.0000,9,-999.0000,9,-999.0000,9,-999.0000,9,-999.0000,9,-999.0000,9,-999.0000,9,-999.0000,9,-999.0000,9,     -999.0,9,  -999.0,9,     -999.0,     -999.0,9,     -999.0,20130929,       1525
33RO20130803,       A16N,     138,          2,         15,         15,2,20130929,       1342,    -2.6669,   -25.0002,       5378,   611.6,   5.6445,  34.4982,2,  34.4995,2,    142.1,2,   142.1,2,   25.20,2,   33.80,2,    0.00,2,    2.29,2,   0.823,2,   0.408,2,   0.126,2,  2216.9,2,  2298.0,6,  -999.0,9, -999.00,   7.5404,2,    25.00,    0.72,2,   -71.8,2,     0.2,   44.03,2,   36.64,2,     25.106,2,   0.1578,2,   0.1127,2,   0.0657,2,   0.0454,2,   0.0290,2,   0.0162,2,   0.0081,2,   0.0149,2,   0.0162,2,     -999.0,5,  -999.0,9,     -999.0,     -999.0,9,     -999.0,20130929,       1521
33RO20130803,       A16N,     138,          2,         14,         14,2,20130929,       1342,    -2.6669,   -25.0002,       5378,   773.7,   4.6625,  34.4930,2,  34.4919,2,    159.6,2,   159.9,2,   31.20,2,   33.40,2,    0.00,2,    2.31,2,-999.000,9,-999.000,9,-999.000,9,  -999.0,9,  -999.0,9,  -999.0,9, -999.00,-999.0000,9,  -999.00,    0.77,2,   -85.4,2,     0.2,   42.03,2,   36.33,2,     -999.0,9,   0.1651,2,   0.1183,2,   0.0686,2,   0.0477,2,   0.0310,2,   0.0177,2,   0.0094,2,   0.0149,2,   0.0163,2,     -999.0,9,  -999.0,9,     -999.0,     -999.0,9,     -999.0,20130929,       1517
33RO20130803,       A16N,     138,          2,         13,         13,2,20130929,       1342,    -2.6669,   -25.0002,       5378,   922.9,   4.5035,  34.5564,2,  34.5556,2,    155.5,2,   156.4,2,   32.40,2,   33.20,2,    0.00,2,    2.30,2,   0.180,2,   0.088,2,   0.000,2,  2218.1,6,  2306.0,2,  -999.0,9, -999.00,   7.5567,2,    25.00,    0.66,2,  -106.2,2,     0.2,   41.32,2,   35.88,2,     23.000,2,   0.1685,2,   0.1207,2,   0.0685,2,   0.0469,2,   0.0298,2,   0.0166,2,   0.0085,2,   0.0154,2,   0.0167,2,     -999.0,5,  -999.0,9,     -999.0,     -999.0,9,     -999.0,20130929,       1513
33RO20130803,       A16N,     138,          2,         12,         12,2,20130929,       1342,    -2.6669,   -25.0002,       5378,  1113.3,   4.4574,  34.7164,2,  34.7146,2,    168.7,2,   169.4,2,   29.20,2,   30.30,2,    0.00,2,    2.09,2,-999.000,9,-999.000,9,-999.000,9,  -999.0,9,  -999.0,9,  -999.0,9, -999.00,-999.0000,9,  -999.00,    0.67,2,  -111.4,2,     0.2,   40.64,2,   32.83,2,     -999.0,9,-999.0000,9,-999.0000,9,-999.0000,9,-999.0000,9,-999.0000,9,-999.0000,9,-999.0000,9,-999.0000,9,-999.0000,9,     -999.0,9,  -999.0,9,     -999.0,     -999.0,9,     -999.0,20130929,       1508
33RO20130803,       A16N,     138,          2,         11,         11,2,20130929,       1342,    -2.6669,   -25.0002,       5378,  1247.6,   4.5987,  34.8232,2,  34.8212,2,    181.4,2,   182.3,2,   25.20,2,   27.60,2,    0.00,2,    1.89,2,-999.000,9,-999.000,9,-999.000,9,  -999.0,9,  -999.0,9,  -999.0,9, -999.00,-999.0000,9,  -999.00,    0.24,4,   -93.9,2,     0.3,   40.65,2,   30.13,2,     -999.0,9,   0.1635,2,   0.1175,2,   0.0654,2,   0.0435,2,   0.0274,2,   0.0154,2,   0.0080,2,   0.0158,2,   0.0170,2,     -999.0,9,  -999.0,9,     -999.0,     -999.0,9,     -999.0,20130929,       1504
33RO20130803,       A16N,     138,          2,         10,         10,2,20130929,       1342,    -2.6669,   -25.0002,       5378,  1396.8,   4.5414,  34.9145,2,  34.9138,2,    205.0,2,   206.2,2,   21.00,2,   24.00,2,    0.00,2,    1.63,2,   0.370,2,   0.184,2,   0.108,2,  2190.0,2,  2317.3,2,  -999.0,9, -999.00,   7.5057,4,    25.00,    0.76,2,   -75.9,2,     0.2,   40.61,2,   26.55,2,     16.961,2,-999.0000,9,-999.0000,9,-999.0000,9,-999.0000,9,-999.0000,9,-999.0000,9,-999.0000,9,-999.0000,9,-999.0000,9,     -999.0,5,  -999.0,9,     -999.0,     -999.0,9,     -999.0,20130929,       1500
33RO20130803,       A16N,     138,          2,          9,          9,2,20130929,       1342,    -2.6669,   -25.0002,       5378,  1573.0,   4.1885,  34.9623,2,  34.9604,2,    229.2,2,   229.5,2,   18.70,2,   21.30,2,    0.00,2,    1.44,2,   0.402,2,   0.200,2,   0.077,2,  2178.0,2,  2317.2,2,  -999.0,9, -999.00,   7.7005,2,    25.00,    0.88,2,   -78.2,2,     0.3,   40.31,2,   24.03,2,     15.050,2,   0.1594,2,   0.1136,2,   0.0600,2,   0.0374,2,   0.0216,2,   0.0126,2,   0.0060,2,   0.0171,2,   0.0182,2,     -999.0,5,  -999.0,9,     -999.0,     -999.0,9,     -999.0,20130929,       1455
33RO20130803,       A16N,     138,          2,          8,          8,2,20130929,       1342,    -2.6669,   -25.0002,       5378,  1948.5,   3.5720,  34.9639,2,  34.9638,2,    248.0,2,   247.8,2,   20.80,2,   19.70,2,    0.00,2,    1.33,2,   0.078,2,   0.039,2,   0.000,2,  2169.1,2,  2317.1,2,  -999.0,9, -999.00,   7.7231,2,    25.00,    0.96,2,   -75.4,2,     0.2,   40.11,2,   22.48,2,     13.815,2,   0.1497,2,   0.1074,2,   0.0569,2,   0.0363,2,   0.0225,2,   0.0134,2,   0.0072,2,   0.0169,2,   0.0180,2,     -999.0,5,  -999.0,9,     -999.0,     -999.0,9,     -999.0,20130929,       1448
33RO20130803,       A16N,     138,          2,          7,          7,2,20130929,       1342,    -2.6669,   -25.0002,       5378,  2397.8,   3.0542,  34.9338,2,  34.9342,2,    242.3,2,   244.3,2,   30.50,2,   20.90,2,    0.00,2,    1.41,2,-999.000,9,-999.000,9,-999.000,9,  -999.0,9,  -999.0,9,  -999.0,9, -999.00,-999.0000,9,  -999.00,    0.88,2,   -84.2,2,     0.2,   40.07,2,   23.52,2,     -999.0,9,-999.0000,9,-999.0000,9,-999.0000,9,-999.0000,9,-999.0000,9,-999.0000,9,-999.0000,9,-999.0000,9,-999.0000,9,     -999.0,9,  -999.0,9,     -999.0,     -999.0,9,     -999.0,20130929,       1440
33RO20130803,       A16N,     138,          2,          6,          6,2,20130929,       1342,    -2.6669,   -25.0002,       5378,  2898.5,   2.7064,  34.9110,2,  34.9094,2,    240.2,2,   242.2,2,   38.20,2,   21.60,2,    0.00,2,    1.47,2,   0.024,2,   0.011,2,   0.000,2,  2188.3,2,  2335.5,6,  -999.0,9, -999.00,   7.7155,2,    25.00,    0.98,2,  -104.8,2,     0.2,   40.24,2,   24.01,2,     13.872,2,-999.0000,5,-999.0000,5,-999.0000,5,-999.0000,5,-999.0000,5,-999.0000,5,-999.0000,5,-999.0000,5,-999.0000,5,     -999.0,5,  -999.0,9,     -999.0,     -999.0,9,     -999.0,20130929,       1430
33RO20130803,       A16N,     138,          2,          5,          5,2,20130929,       1342,    -2.6669,   -25.0002,       5378,  3399.0,   2.5061,  34.9067,2,  34.9058,2,    252.2,2,   253.5,2,   34.90,6,   20.30,6,    0.00,6,    1.38,6,   0.153,2,   0.075,2,   0.000,2,  2181.0,2,  -999.0,9,  -999.0,9, -999.00,-999.0000,9,  -999.00,    1.01,2,   -93.0,2,     0.2,   40.43,2,   22.68,2,     13.377,2,   0.1609,2,   0.1171,2,   0.0631,2,   0.0395,2,   0.0243,2,   0.0144,2,   0.0077,2,   0.0165,2,   0.0174,2,     -999.0,5,  -999.0,9,     -999.0,     -999.0,9,     -999.0,20130929,       1420
33RO20130803,       A16N,     138,          2,          4,          4,2,20130929,       1342,    -2.6669,   -25.0002,       5378,  3897.2,   2.1861,  34.8802,2,  34.8821,2,    256.2,2,   256.2,2,   40.50,6,   20.50,6,    0.00,6,    1.41,6,   0.327,2,   0.165,2,   0.059,2,  2183.0,2,  2333.2,2,  -999.0,9, -999.00,   7.7205,6,    25.00,    0.95,2,   -96.0,2,     0.3,   40.06,2,   23.07,2,     13.600,2,   0.1659,2,   0.1194,2,   0.0630,2,   0.0402,2,   0.0240,2,   0.0143,2,   0.0070,2,   0.0169,2,   0.0180,2,     -999.0,5,  -999.0,9,     -999.0,     -999.0,9,     -999.0,20130929,       1411
33RO20130803,       A16N,     138,          2,          3,          3,2,20130929,       1342,    -2.6669,   -25.0002,       5378,  4397.9,   1.1341,  34.7610,2,  34.7593,2,    229.1,2,   229.4,2,   92.10,6,   28.20,6,    0.00,6,    1.96,6,-999.000,9,-999.000,9,-999.000,9,  -999.0,9,  -999.0,9,  -999.0,9, -999.00,-999.0000,9,  -999.00,    0.63,2,  -143.1,2,     0.3,    40.5,2,   30.79,2,     -999.0,9,   0.1555,2,   0.1092,2,   0.0580,2,   0.0364,2,   0.0217,2,   0.0130,2,   0.0061,2,   0.0172,2,   0.0185,2,     -999.0,9,  -999.0,9,     -999.0,     -999.0,9,     -999.0,20130929,       1401
33RO20130803,       A16N,     138,          2,          2,          2,2,20130929,       1342,    -2.6669,   -25.0002,       5378,  4898.4,   0.8007,  34.7193,2,  34.7176,2,    221.9,2,   221.7,2,  108.70,6,   30.50,6,    0.00,6,    2.14,6,   0.063,2,   0.031,2,   0.013,2,  2254.7,2,  2372.1,2,  -999.0,9, -999.00,   7.6312,2,    25.00,    0.52,2,  -155.8,2,     0.3,   40.45,2,   33.01,2,     17.057,2,-999.0000,9,-999.0000,9,-999.0000,9,-999.0000,9,-999.0000,9,-999.0000,9,-999.0000,9,-999.0000,9,-999.0000,9,     -999.0,5,  -999.0,9,     -999.0,     -999.0,9,     -999.0,20130929,       1352
33RO20130803,       A16N,     138,          2,          1,          1,2,20130929,       1342,    -2.6669,   -25.0002,       5378,  5434.3,   0.7517,  34.7059,2,  34.7048,2,    222.3,2,   220.2,2,  113.70,6,   31.20,6,    0.00,6,    2.18,6,   0.118,2,   0.054,2,   0.022,2,  2258.4,2,  2376.9,2,  -999.0,9, -999.00,   7.6310,2,    25.00,    0.53,2,  -158.1,2,     0.2,   40.37,2,   33.67,2,     17.263,2,   0.1580,2,   0.1123,2,   0.0628,2,   0.0397,2,   0.0251,2,   0.0145,2,   0.0075,2,   0.0162,2,   0.0172,2,     -999.0,5,  -999.0,9,     -999.0,     -999.0,9,     -999.0,20130929,       1342