BOTTLE,20220815CCHSIOAMB
EXPOCODE,SECT_ID,STNNBR,CASTNO,SAMPNO,BTLNBR,BTLNBR_FLAG_W,DATE,TIME,LATITUDE,LONGITUDE,DEPTH,CTDPRS,CTDTMP,CTDSAL,CTDSAL_FLAG_W,SALNTY,SALNTY_FLAG_W,CTDOXY,CTDOXY_FLAG_W,OXYGEN,OXYGEN_FLAG_W,SILCAT,SILCAT_FLAG_W,NITRAT,NITRAT_FLAG_W,NITRIT,NITRIT_FLAG_W,PHSPHT,PHSPHT_FLAG_W,CFC-11,CFC-11_FLAG_W,CFC-12,CFC-12_FLAG_W,SF6,SF6_FLAG_W,TCARBN,TCARBN_FLAG_W,ALKALI,ALKALI_FLAG_W,PCO2,PCO2_FLAG_W,PCO2TMP,PH_SWS,PH_SWS_FLAG_W,PH_TMP,DELC13,DELC13_FLAG_W,DELC14,DELC14_FLAG_W,C14ERR,DOC,DOC_FLAG_W,TDN,TDN_FLAG_W,N2O,N2O_FLAG_W,CDOM325,CDOM325_FLAG_W,CDOM340,CDOM340_FLAG_W,CDOM380,CDOM380_FLAG_W,CDOM412,CDOM412_FLAG_W,CDOM443,CDOM443_FLAG_W,CDOM490,CDOM490_FLAG_W,CDOM555,CDOM555_FLAG_W,CDOMSL,CDOMSL_FLAG_W,CDOMSN,CDOMSN_FLAG_W,CCL4,CCL4_FLAG_W,14C-DOC,14C-DOC_FLAG_W,14C-DOCERR,13C-DOC,13C-DOC_FLAG_W,13C-DOCERR,BTL_DATE,BTL_TIME
,,,,,,,,,,,METERS,DBAR,ITS-90,PSS-78,,PSS-78,,UMOL/KG,,UMOL/KG,,UMOL/KG,,UMOL/KG,,UMOL/KG,,UMOL/KG,,PMOL/KG,,PMOL/KG,,FMOL/KG,,UMOL/KG,,UMOL/KG,,UATM,,DEG C,,,DEG C,/MILLE,,/MILLE,,/MILLE,UMOL/KG,,UMOL/KG,,NMOL/KG,,1/M,,1/M,,1/M,,1/M,,1/M,,1/M,,1/M,,1/NM,,1/NM,,PMOL/KG,,/MILLE,,/MILLE,/MILLE,,/MILLE,,
33RO20130803,       A16N,      86,          1,         24,         24,2,20130908,       0445,    23.0006,   -27.3157,       5542,     3.4,  25.0230,  37.0091,2,  37.0112,2,    205.5,2,   207.1,2,    0.50,2,    0.00,2,    0.00,2,    0.04,2,   1.692,2,   1.062,2,   1.269,2,  2094.8,2,  2423.6,2,   331.9,2,      20,   8.0397,2,    25.00, -999.00,9,  -999.0,9,  -999.0, -999.00,9, -999.00,9,      6.344,2,-999.0000,9,-999.0000,9,-999.0000,9,-999.0000,9,-999.0000,9,-999.0000,9,-999.0000,9,-999.0000,9,-999.0000,9,     -999.0,5,  -999.0,9,     -999.0,     -999.0,9,     -999.0,20130908,       0703
33RO20130803,       A16N,      86,          1,         23,         23,2,20130908,       0445,    23.0006,   -27.3157,       5542,    23.7,  25.0311,  37.0089,2,  37.0137,2,    206.1,2,   207.5,2,    0.50,2,    0.00,2,    0.00,2,    0.04,2,   1.689,6,   1.065,6,   1.247,6,  2097.1,2,  2425.5,6,   332.5,2,      20,   8.0374,2,    25.00, -999.00,9,  -999.0,9,  -999.0, -999.00,9, -999.00,9,      6.349,6,-999.0000,9,-999.0000,9,-999.0000,9,-999.0000,9,-999.0000,9,-999.0000,9,-999.0000,9,-999.0000,9,-999.0000,9,     -999.0,5,  -999.0,9,     -999.0,     -999.0,9,     -999.0,20130908,       0700
33RO20130803,       A16N,      86,          1,         22,         22,2,20130908,       0445,    23.0006,   -27.3157,       5542,    48.3,  25.0337,  37.0084,2,  37.0276,2,    206.7,2,   208.5,2,    0.50,2,    0.00,2,    0.00,2,    0.04,2,   1.702,2,   1.078,2,   1.280,2,  2096.9,2,  2426.4,2,   333.2,2,      20,   8.0381,2,    25.00, -999.00,9,  -999.0,9,  -999.0, -999.00,9, -999.00,9,      6.394,2,-999.0000,9,-999.0000,9,-999.0000,9,-999.0000,9,-999.0000,9,-999.0000,9,-999.0000,9,-999.0000,9,-999.0000,9,     -999.0,5,  -999.0,9,     -999.0,     -999.0,9,     -999.0,20130908,       0659
33RO20130803,       A16N,      86,          1,         21,         21,2,20130908,       0445,    23.0006,   -27.3157,       5542,    73.4,  22.7552,  37.0982,2,  37.1158,2,    221.1,2,   221.9,2,    0.60,2,    0.10,2,    0.00,2,    0.04,2,   1.906,2,   1.184,2,   1.312,2,  2104.6,2,  2429.1,2,   345.0,2,      20,   8.0295,2,    25.00, -999.00,9,  -999.0,9,  -999.0, -999.00,9, -999.00,9,      7.133,2,-999.0000,9,-999.0000,9,-999.0000,9,-999.0000,9,-999.0000,9,-999.0000,9,-999.0000,9,-999.0000,9,-999.0000,9,     -999.0,5,  -999.0,9,     -999.0,     -999.0,9,     -999.0,20130908,       0657
33RO20130803,       A16N,      86,          1,         20,         20,2,20130908,       0445,    23.0006,   -27.3157,       5542,    99.0,  21.5961,  37.2193,2,  37.2287,2,    219.4,2,   218.2,2,    0.60,2,    0.10,2,    0.01,2,    0.03,2,   1.957,2,   1.216,2,   1.359,2,  2116.5,2,  2435.9,2,   359.3,2,      20,   8.0164,2,    25.00, -999.00,9,  -999.0,9,  -999.0, -999.00,9, -999.00,9,      7.268,2,-999.0000,9,-999.0000,9,-999.0000,9,-999.0000,9,-999.0000,9,-999.0000,9,-999.0000,9,-999.0000,9,-999.0000,9,     -999.0,5,  -999.0,9,     -999.0,     -999.0,9,     -999.0,20130908,       0655
33RO20130803,       A16N,      86,          1,         19,         19,2,20130908,       0445,    23.0006,   -27.3157,       5542,   148.5,  19.9715,  37.0122,2,  36.9991,2,    192.6,2,   192.5,2,    1.00,2,    2.90,2,    0.03,2,    0.18,2,   2.088,2,   1.271,2,   1.338,2,  2140.3,2,  2394.1,3,   409.9,2,      20,   7.9607,2,    25.00, -999.00,9,  -999.0,9,  -999.0, -999.00,9, -999.00,9,      8.768,2,-999.0000,9,-999.0000,9,-999.0000,9,-999.0000,9,-999.0000,9,-999.0000,9,-999.0000,9,-999.0000,9,-999.0000,9,     -999.0,5,  -999.0,9,     -999.0,     -999.0,9,     -999.0,20130908,       0653
33RO20130803,       A16N,      86,          1,         18,         18,2,20130908,       0445,    23.0006,   -27.3157,       5542,   223.3,  17.7169,  36.5871,2,  36.5859,2,    179.1,2,   178.6,2,    1.90,2,    7.00,2,    0.01,2,    0.40,2,   2.267,2,   1.352,2,   1.270,2,  2149.9,2,  2417.1,3,   486.4,2,      20,   7.8991,2,    25.00, -999.00,9,  -999.0,9,  -999.0, -999.00,9, -999.00,9,     11.337,2,-999.0000,9,-999.0000,9,-999.0000,9,-999.0000,9,-999.0000,9,-999.0000,9,-999.0000,9,-999.0000,9,-999.0000,9,     -999.0,5,  -999.0,9,     -999.0,     -999.0,9,     -999.0,20130908,       0650
33RO20130803,       A16N,      86,          1,         17,         17,2,20130908,       0445,    23.0006,   -27.3157,       5542,   298.8,  15.9915,  36.2370,2,  36.2300,2,    161.0,2,   162.5,2,    3.30,2,   11.10,2,    0.01,2,    0.65,2,   2.336,2,   1.365,2,   1.123,2,  2162.2,2,  2367.5,2,   561.1,2,      20,   7.8448,2,    25.00, -999.00,9,  -999.0,9,  -999.0, -999.00,9, -999.00,9,     14.140,2,-999.0000,9,-999.0000,9,-999.0000,9,-999.0000,9,-999.0000,9,-999.0000,9,-999.0000,9,-999.0000,9,-999.0000,9,     -999.0,5,  -999.0,9,     -999.0,     -999.0,9,     -999.0,20130908,       0647
33RO20130803,       A16N,      86,          1,         16,         16,2,20130908,       0445,    23.0006,   -27.3157,       5542,   398.8,  14.3156,  35.9587,2,  35.9595,2,    182.0,2,   176.1,2,    4.00,2,   12.10,2,    0.01,2,    0.71,2,   2.487,2,   1.420,2,   1.118,2,  2156.5,3,  2357.2,2,   587.1,2,      20,   7.8269,6,    25.00, -999.00,9,  -999.0,9,  -999.0, -999.00,9, -999.00,9,     13.466,2,-999.0000,9,-999.0000,9,-999.0000,9,-999.0000,9,-999.0000,9,-999.0000,9,-999.0000,9,-999.0000,9,-999.0000,9,     -999.0,5,  -999.0,9,     -999.0,     -999.0,9,     -999.0,20130908,       0644
33RO20130803,       A16N,      86,          1,         15,         15,2,20130908,       0445,    23.0006,   -27.3157,       5542,   497.6,  12.7531,  35.7222,2,  35.7226,2,    153.3,2,   152.3,2,    6.40,2,   17.30,2,    0.01,2,    1.02,2,-999.000,5,-999.000,5,-999.000,5,  2178.1,2,  2342.4,2,   705.5,2,      20,   7.7537,2,    25.00, -999.00,9,  -999.0,9,  -999.0, -999.00,9, -999.00,9,     -999.0,5,-999.0000,9,-999.0000,9,-999.0000,9,-999.0000,9,-999.0000,9,-999.0000,9,-999.0000,9,-999.0000,9,-999.0000,9,     -999.0,5,  -999.0,9,     -999.0,     -999.0,9,     -999.0,20130908,       0641
33RO20130803,       A16N,      86,          1,         14,         14,2,20130908,       0445,    23.0006,   -27.3157,       5542,   649.6,  10.5420,  35.4268,2,  35.4280,2,    122.6,2,   121.6,2,   11.50,2,   24.60,2,    0.01,2,    1.51,2,   1.350,2,   0.706,2,   0.306,2,  2205.3,2,  2330.9,2,   955.7,2,      20,   7.6551,2,    25.00, -999.00,9,  -999.0,9,  -999.0, -999.00,9, -999.00,9,     21.995,2,-999.0000,9,-999.0000,9,-999.0000,9,-999.0000,9,-999.0000,9,-999.0000,9,-999.0000,9,-999.0000,9,-999.0000,9,     -999.0,5,  -999.0,9,     -999.0,     -999.0,9,     -999.0,20130908,       0636
33RO20130803,       A16N,      86,          1,         13,         13,2,20130908,       0445,    23.0006,   -27.3157,       5542,   798.2,   8.7463,  35.2456,2,  35.2480,2,    123.2,2,   123.4,2,   15.90,6,   27.30,6,    0.01,6,    1.74,6,   0.572,2,   0.300,2,   0.122,2,  2214.0,2,  2326.3,2,   891.5,3,      20,   7.6298,2,    25.00, -999.00,9,  -999.0,9,  -999.0, -999.00,9, -999.00,9,     22.180,2,-999.0000,9,-999.0000,9,-999.0000,9,-999.0000,9,-999.0000,9,-999.0000,9,-999.0000,9,-999.0000,9,-999.0000,9,     -999.0,5,  -999.0,9,     -999.0,     -999.0,9,     -999.0,20130908,       0632
33RO20130803,       A16N,      86,          1,         12,         12,2,20130908,       0445,    23.0006,   -27.3157,       5542,   948.2,   7.4402,  35.1560,2,  35.1556,2,    140.6,2,   140.7,2,   18.40,6,   27.20,6,    0.01,6,    1.78,6,   0.272,2,   0.140,2,   0.042,2,  2207.4,2,  2328.0,2,   932.7,2,      20,   7.6346,2,    25.00, -999.00,9,  -999.0,9,  -999.0, -999.00,9, -999.00,9,     20.962,2,-999.0000,9,-999.0000,9,-999.0000,9,-999.0000,9,-999.0000,9,-999.0000,9,-999.0000,9,-999.0000,9,-999.0000,9,     -999.0,5,  -999.0,9,     -999.0,     -999.0,9,     -999.0,20130908,       0628
33RO20130803,       A16N,      86,          1,         11,         11,2,20130908,       0445,    23.0006,   -27.3157,       5542,  1098.7,   6.5402,  35.1229,2,  35.1241,2,    161.2,2,   160.6,2,   19.20,6,   26.00,6,    0.01,6,    1.71,6,   0.162,2,   0.086,2,   0.000,2,  2206.0,2,  1497.4,4,   896.5,2,      20,   7.6544,2,    25.00, -999.00,9,  -999.0,9,  -999.0, -999.00,9, -999.00,9,     19.230,2,-999.0000,9,-999.0000,9,-999.0000,9,-999.0000,9,-999.0000,9,-999.0000,9,-999.0000,9,-999.0000,9,-999.0000,9,     -999.0,5,  -999.0,9,     -999.0,     -999.0,9,     -999.0,20130908,       0624
33RO20130803,       A16N,      86,          1,         10,         10,2,20130908,       0445,    23.0006,   -27.3157,       5542,  1398.0,   5.4600,  35.1299,2,  35.1310,2,    196.8,2,   196.7,2,   18.90,6,   23.00,6,    0.01,6,    1.52,6,   0.088,2,   0.047,2,   0.022,2,  2191.7,2,  2328.5,2,   809.3,2,      20,   7.6936,2,    25.00, -999.00,9,  -999.0,9,  -999.0, -999.00,9, -999.00,9,     16.203,2,-999.0000,9,-999.0000,9,-999.0000,9,-999.0000,9,-999.0000,9,-999.0000,9,-999.0000,9,-999.0000,9,-999.0000,9,     -999.0,5,  -999.0,9,     -999.0,     -999.0,9,     -999.0,20130908,       0617
33RO20130803,       A16N,      86,          1,          9,          9,2,20130908,       0445,    23.0006,   -27.3157,       5542,  1697.5,   4.5350,  35.0873,2,  35.0872,2,    216.7,2,   217.5,2,   21.10,2,   21.70,2,    0.00,2,    1.44,2,   0.031,2,   0.017,2,   0.000,2,  2184.1,2,  2329.9,2,   773.6,2,      20,   7.7122,2,    25.00, -999.00,9,  -999.0,9,  -999.0, -999.00,9, -999.00,9,     14.752,2,-999.0000,9,-999.0000,9,-999.0000,9,-999.0000,9,-999.0000,9,-999.0000,9,-999.0000,9,-999.0000,9,-999.0000,9,     -999.0,5,  -999.0,9,     -999.0,     -999.0,9,     -999.0,20130908,       0610
33RO20130803,       A16N,      86,          1,          8,          8,2,20130908,       0445,    23.0006,   -27.3157,       5542,  2099.1,   3.6262,  35.0075,2,  35.0088,2,    231.3,2,   231.6,2,   25.20,2,   21.30,2,    0.00,2,    1.42,2,   0.002,2,   0.002,2,   0.000,2,  2181.4,2,  2330.1,2,   759.8,2,      20,   7.7223,2,    25.00, -999.00,9,  -999.0,9,  -999.0, -999.00,9, -999.00,9,     13.891,2,-999.0000,9,-999.0000,9,-999.0000,9,-999.0000,9,-999.0000,9,-999.0000,9,-999.0000,9,-999.0000,9,-999.0000,9,     -999.0,5,  -999.0,9,     -999.0,     -999.0,9,     -999.0,20130908,       0601
33RO20130803,       A16N,      86,          1,          7,          7,2,20130908,       0445,    23.0006,   -27.3157,       5542,  2558.7,   3.1300,  34.9734,2,  34.9731,2,    237.0,2,   238.2,2,   30.40,2,   21.10,2,    0.00,2,    1.42,2,   0.004,2,   0.002,2,   0.000,2,  2185.4,2,  2336.9,2,   753.4,2,      20,   7.7271,2,    25.00, -999.00,9,  -999.0,9,  -999.0, -999.00,9, -999.00,9,     13.354,2,-999.0000,9,-999.0000,9,-999.0000,9,-999.0000,9,-999.0000,9,-999.0000,9,-999.0000,9,-999.0000,9,-999.0000,9,     -999.0,5,  -999.0,9,     -999.0,     -999.0,9,     -999.0,20130908,       0552
33RO20130803,       A16N,      86,          1,          6,          6,2,20130908,       0445,    23.0006,   -27.3157,       5542,  3057.9,   2.7330,  34.9372,2,  34.9373,2,    241.4,2,   241.1,2,   36.20,2,   21.40,2,    0.00,2,    1.44,2,-999.000,5,-999.000,5,-999.000,5,  2192.0,2,  2346.2,2,   754.7,2,      20,   7.7280,2,    25.00, -999.00,9,  -999.0,9,  -999.0, -999.00,9, -999.00,9,     -999.0,5,-999.0000,9,-999.0000,9,-999.0000,9,-999.0000,9,-999.0000,9,-999.0000,9,-999.0000,9,-999.0000,9,-999.0000,9,     -999.0,9,  -999.0,9,     -999.0,     -999.0,9,     -999.0,20130908,       0541
33RO20130803,       A16N,      86,          1,          5,          5,2,20130908,       0445,    23.0006,   -27.3157,       5542,  3558.4,   2.4964,  34.9117,2,  34.9110,2,    243.7,2,   243.8,2,   41.00,2,   21.80,2,    0.00,2,    1.47,2,   0.002,2,   0.003,2,   0.000,2,  2193.0,2,  2344.5,2,   751.3,2,      20,   7.7292,2,    25.00, -999.00,9,  -999.0,9,  -999.0, -999.00,9, -999.00,9,     13.370,2,-999.0000,9,-999.0000,9,-999.0000,9,-999.0000,9,-999.0000,9,-999.0000,9,-999.0000,9,-999.0000,9,-999.0000,9,     -999.0,5,  -999.0,9,     -999.0,     -999.0,9,     -999.0,20130908,       0531
33RO20130803,       A16N,      86,          1,          4,          4,2,20130908,       0445,    23.0006,   -27.3157,       5542,  4058.0,   2.4051,  34.8981,2,  34.8982,2,    243.5,2,   243.9,2,   43.90,2,   22.10,2,    0.00,2,    1.50,2,   0.001,2,   0.001,2,   0.000,2,  2196.7,2,  2349.6,2,   754.2,2,      20,   7.7267,6,    25.00, -999.00,9,  -999.0,9,  -999.0, -999.00,9, -999.00,9,     13.526,2,-999.0000,9,-999.0000,9,-999.0000,9,-999.0000,9,-999.0000,9,-999.0000,9,-999.0000,9,-999.0000,9,-999.0000,9,     -999.0,5,  -999.0,9,     -999.0,     -999.0,9,     -999.0,20130908,       0521
33RO20130803,       A16N,      86,          1,          3,          3,2,20130908,       0445,    23.0006,   -27.3157,       5542,  4557.7,   2.3773,  34.8890,2,  34.8917,2,    242.9,2,   243.2,2,   46.00,2,   22.30,2,    0.00,2,    1.51,2,   0.000,2,   0.002,2,   0.000,2,  2200.1,6,  2353.6,2,   755.7,2,      20,   7.7276,2,    25.00, -999.00,9,  -999.0,9,  -999.0, -999.00,9, -999.00,9,     13.617,2,-999.0000,9,-999.0000,9,-999.0000,9,-999.0000,9,-999.0000,9,-999.0000,9,-999.0000,9,-999.0000,9,-999.0000,9,     -999.0,5,  -999.0,9,     -999.0,     -999.0,9,     -999.0,20130908,       0510
33RO20130803,       A16N,      86,          1,          2,          2,2,20130908,       0445,    23.0006,   -27.3157,       5542,  5057.7,   2.4151,  34.8856,2,  34.8869,2,    243.3,2,   243.2,2,   46.70,2,   22.40,2,    0.00,2,    1.51,2,   0.002,6,   0.002,6,   0.000,6,  2202.6,2,  2357.0,2,   756.0,2,      20,   7.7271,2,    25.00, -999.00,9,  -999.0,9,  -999.0, -999.00,9, -999.00,9,     13.658,6,-999.0000,9,-999.0000,9,-999.0000,9,-999.0000,9,-999.0000,9,-999.0000,9,-999.0000,9,-999.0000,9,-999.0000,9,     -999.0,5,  -999.0,9,     -999.0,     -999.0,9,     -999.0,20130908,       0459
33RO20130803,       A16N,      86,          1,          1,          1,2,20130908,       0445,    23.0006,   -27.3157,       5542,  5608.2,   2.4795,  34.8837,2,  34.8846,2,    243.3,2,   243.8,2,   47.00,2,   22.40,2,    0.00,2,    1.52,2,   0.005,2,   0.004,2,   0.000,2,  2201.0,2,  2354.0,2,   756.0,6,      20,   7.7350,2,    25.00, -999.00,9,  -999.0,9,  -999.0, -999.00,9, -999.00,9,     13.642,2,-999.0000,9,-999.0000,9,-999.0000,9,-999.0000,9,-999.0000,9,-999.0000,9,-999.0000,9,-999.0000,9,-999.0000,9,     -999.0,5,  -999.0,9,     -999.0,     -999.0,9,     -999.0,20130908,       0445