BOTTLE,20220815CCHSIOAMB
EXPOCODE,SECT_ID,STNNBR,CASTNO,SAMPNO,BTLNBR,BTLNBR_FLAG_W,DATE,TIME,LATITUDE,LONGITUDE,DEPTH,CTDPRS,CTDTMP,CTDSAL,CTDSAL_FLAG_W,SALNTY,SALNTY_FLAG_W,CTDOXY,CTDOXY_FLAG_W,OXYGEN,OXYGEN_FLAG_W,SILCAT,SILCAT_FLAG_W,NITRAT,NITRAT_FLAG_W,NITRIT,NITRIT_FLAG_W,PHSPHT,PHSPHT_FLAG_W,CFC-11,CFC-11_FLAG_W,CFC-12,CFC-12_FLAG_W,SF6,SF6_FLAG_W,TCARBN,TCARBN_FLAG_W,ALKALI,ALKALI_FLAG_W,PCO2,PCO2_FLAG_W,PCO2TMP,PH_SWS,PH_SWS_FLAG_W,PH_TMP,DELC13,DELC13_FLAG_W,DELC14,DELC14_FLAG_W,C14ERR,DOC,DOC_FLAG_W,TDN,TDN_FLAG_W,N2O,N2O_FLAG_W,CDOM325,CDOM325_FLAG_W,CDOM340,CDOM340_FLAG_W,CDOM380,CDOM380_FLAG_W,CDOM412,CDOM412_FLAG_W,CDOM443,CDOM443_FLAG_W,CDOM490,CDOM490_FLAG_W,CDOM555,CDOM555_FLAG_W,CDOMSL,CDOMSL_FLAG_W,CDOMSN,CDOMSN_FLAG_W,CCL4,CCL4_FLAG_W,14C-DOC,14C-DOC_FLAG_W,14C-DOCERR,13C-DOC,13C-DOC_FLAG_W,13C-DOCERR,BTL_DATE,BTL_TIME
,,,,,,,,,,,METERS,DBAR,ITS-90,PSS-78,,PSS-78,,UMOL/KG,,UMOL/KG,,UMOL/KG,,UMOL/KG,,UMOL/KG,,UMOL/KG,,PMOL/KG,,PMOL/KG,,FMOL/KG,,UMOL/KG,,UMOL/KG,,UATM,,DEG C,,,DEG C,/MILLE,,/MILLE,,/MILLE,UMOL/KG,,UMOL/KG,,NMOL/KG,,1/M,,1/M,,1/M,,1/M,,1/M,,1/M,,1/M,,1/NM,,1/NM,,PMOL/KG,,/MILLE,,/MILLE,/MILLE,,/MILLE,,
33RO20130803,       A16N,       7,          2,         24,         24,2,20130805,       0022,    61.6141,   -19.9961,       2052,     2.7,  12.0784,  35.0286,2,  35.0323,2,    286.6,2,   287.3,2,    1.60,2,    3.20,2,    0.06,2,    0.27,2,   3.214,6,   1.881,6,   1.962,6,  2079.1,6,  -999.0,9,   449.7,2,      20,-999.0000,9,  -999.00, -999.00,9,  -999.0,9,  -999.0, -999.00,9, -999.00,9,      9.718,6,-999.0000,9,-999.0000,9,-999.0000,9,-999.0000,9,-999.0000,9,-999.0000,9,-999.0000,9,-999.0000,9,-999.0000,9,     -999.0,5,  -999.0,9,     -999.0,     -999.0,9,     -999.0,20130805,       0127
33RO20130803,       A16N,       7,          2,         23,         23,2,20130805,       0022,    61.6141,   -19.9961,       2052,    26.3,  10.4836,  35.0556,2,  35.0584,2,    277.0,2,   276.6,2,    1.70,2,    7.20,2,    0.17,2,    0.54,2,-999.000,9,-999.000,9,-999.000,9,  2115.0,2,  -999.0,9,   547.1,2,      20,-999.0000,9,  -999.00, -999.00,9,  -999.0,9,  -999.0, -999.00,9, -999.00,9,     -999.0,9,-999.0000,9,-999.0000,9,-999.0000,9,-999.0000,9,-999.0000,9,-999.0000,9,-999.0000,9,-999.0000,9,-999.0000,9,     -999.0,9,  -999.0,9,     -999.0,     -999.0,9,     -999.0,20130805,       0125
33RO20130803,       A16N,       7,          2,         22,         22,2,20130805,       0022,    61.6141,   -19.9961,       2052,    54.4,   9.6492,  35.0716,2,  35.0816,2,    271.0,2,   270.7,2,    2.20,2,    8.70,2,    0.43,2,    0.67,2,   3.517,2,   2.028,2,   2.149,2,  2129.5,2,  -999.0,9,   592.9,2,      20,-999.0000,9,  -999.00, -999.00,9,  -999.0,9,  -999.0, -999.00,9, -999.00,9,     11.038,2,-999.0000,9,-999.0000,9,-999.0000,9,-999.0000,9,-999.0000,9,-999.0000,9,-999.0000,9,-999.0000,9,-999.0000,9,     -999.0,5,  -999.0,9,     -999.0,     -999.0,9,     -999.0,20130805,       0123
33RO20130803,       A16N,       7,          2,         21,         21,2,20130805,       0022,    61.6141,   -19.9961,       2052,    80.1,   9.1131,  35.1443,2,  35.1438,2,    265.7,2,   266.2,2,    2.50,2,   11.20,2,    0.01,2,    0.75,2,-999.000,9,-999.000,9,-999.000,9,  2141.7,2,  2317.6,2,   627.3,2,      20,   7.7973,2,    25.00, -999.00,9,  -999.0,9,  -999.0, -999.00,9, -999.00,9,     -999.0,9,-999.0000,9,-999.0000,9,-999.0000,9,-999.0000,9,-999.0000,9,-999.0000,9,-999.0000,9,-999.0000,9,-999.0000,9,     -999.0,9,  -999.0,9,     -999.0,     -999.0,9,     -999.0,20130805,       0121
33RO20130803,       A16N,       7,          2,         20,         20,2,20130805,       0022,    61.6141,   -19.9961,       2052,   104.9,   9.0537,  35.1634,2,  35.1736,2,    265.6,2,   265.4,2,    2.70,2,   11.30,2,    0.01,2,    0.75,2,   3.451,2,   1.993,2,   2.024,2,  2141.9,2,  -999.0,9,   627.3,2,      20,-999.0000,9,  -999.00, -999.00,9,  -999.0,9,  -999.0, -999.00,9, -999.00,9,     11.222,2,-999.0000,9,-999.0000,9,-999.0000,9,-999.0000,9,-999.0000,9,-999.0000,9,-999.0000,9,-999.0000,9,-999.0000,9,     -999.0,5,  -999.0,9,     -999.0,     -999.0,9,     -999.0,20130805,       0119
33RO20130803,       A16N,       7,          2,         19,         19,2,20130805,       0022,    61.6141,   -19.9961,       2052,   129.9,   9.0735,  35.1792,2,  35.1810,2,    264.9,2,   265.3,2,    3.00,6,   11.40,6,    0.01,6,    0.76,6,-999.000,9,-999.000,9,-999.000,9,  2143.2,2,  1949.5,4,   629.1,2,      20,   7.7935,2,    25.00, -999.00,9,  -999.0,9,  -999.0, -999.00,9, -999.00,9,     -999.0,9,-999.0000,9,-999.0000,9,-999.0000,9,-999.0000,9,-999.0000,9,-999.0000,9,-999.0000,9,-999.0000,9,-999.0000,9,     -999.0,9,  -999.0,9,     -999.0,     -999.0,9,     -999.0,20130805,       0117
33RO20130803,       A16N,       7,          2,         18,         18,2,20130805,       0022,    61.6141,   -19.9961,       2052,   154.4,   9.0283,  35.1811,2,  35.1798,2,    265.0,2,   264.4,2,    3.40,2,   11.60,2,    0.00,2,    0.77,2,   3.433,2,   1.980,2,   2.041,2,  2143.2,2,  2321.8,2,   633.2,2,      20,   7.7920,2,    25.00, -999.00,9,  -999.0,9,  -999.0, -999.00,9, -999.00,9,     11.290,2,-999.0000,9,-999.0000,9,-999.0000,9,-999.0000,9,-999.0000,9,-999.0000,9,-999.0000,9,-999.0000,9,-999.0000,9,     -999.0,5,  -999.0,9,     -999.0,     -999.0,9,     -999.0,20130805,       0115
33RO20130803,       A16N,       7,          2,         17,         17,2,20130805,       0022,    61.6141,   -19.9961,       2052,   180.0,   8.9227,  35.1677,2,  35.1676,2,    264.6,2,   264.5,2,    3.60,2,   11.80,2,    0.00,2,    0.78,2,-999.000,9,-999.000,9,-999.000,9,  2143.2,2,  -999.0,9,   637.5,2,      20,-999.0000,9,  -999.00, -999.00,9,  -999.0,9,  -999.0, -999.00,9, -999.00,9,     -999.0,9,-999.0000,9,-999.0000,9,-999.0000,9,-999.0000,9,-999.0000,9,-999.0000,9,-999.0000,9,-999.0000,9,-999.0000,9,     -999.0,9,  -999.0,9,     -999.0,     -999.0,9,     -999.0,20130805,       0114
33RO20130803,       A16N,       7,          2,         16,         16,2,20130805,       0022,    61.6141,   -19.9961,       2052,   204.7,   8.8395,  35.1624,2,  35.1655,2,    263.9,2,   264.7,2,    3.90,2,   12.00,2,    0.00,2,    0.79,2,   3.436,2,   1.987,2,   2.108,2,  2143.4,2,  -999.0,9,   642.2,2,      20,   7.7869,2,    25.00, -999.00,9,  -999.0,9,  -999.0, -999.00,9, -999.00,9,     11.506,2,-999.0000,9,-999.0000,9,-999.0000,9,-999.0000,9,-999.0000,9,-999.0000,9,-999.0000,9,-999.0000,9,-999.0000,9,     -999.0,5,  -999.0,9,     -999.0,     -999.0,9,     -999.0,20130805,       0112
33RO20130803,       A16N,       7,          2,         15,         15,2,20130805,       0022,    61.6141,   -19.9961,       2052,   261.6,   8.6337,  35.1434,2,  35.1444,2,    260.8,2,     260,2,    4.60,2,   12.60,2,    0.00,2,    0.84,2,-999.000,9,-999.000,9,-999.000,9,  2147.0,2,  -999.0,5,   657.3,2,      20,   7.7764,2,    25.00, -999.00,9,  -999.0,9,  -999.0, -999.00,9, -999.00,9,     -999.0,9,-999.0000,9,-999.0000,9,-999.0000,9,-999.0000,9,-999.0000,9,-999.0000,9,-999.0000,9,-999.0000,9,-999.0000,9,     -999.0,9,  -999.0,9,     -999.0,     -999.0,9,     -999.0,20130805,       0109
33RO20130803,       A16N,       7,          2,         14,         14,2,20130805,       0022,    61.6141,   -19.9961,       2052,   311.2,   8.8486,  35.2162,2,  35.2173,2,    257.0,2,   258.2,2,    4.90,2,   12.70,2,    0.01,2,    0.84,2,   3.327,2,   1.911,2,   1.908,2,  2148.7,2,  2319.8,2,   654.2,2,      20,   7.7782,2,    25.00, -999.00,9,  -999.0,9,  -999.0, -999.00,9, -999.00,9,     11.969,2,-999.0000,9,-999.0000,9,-999.0000,9,-999.0000,9,-999.0000,9,-999.0000,9,-999.0000,9,-999.0000,9,-999.0000,9,     -999.0,5,  -999.0,9,     -999.0,     -999.0,9,     -999.0,20130805,       0107
33RO20130803,       A16N,       7,          2,         13,         13,2,20130805,       0022,    61.6141,   -19.9961,       2052,   392.8,   8.2073,  35.1202,2,  35.1212,2,    252.7,2,   251.1,2,    6.40,2,   14.20,2,    0.00,2,    0.93,2,-999.000,9,-999.000,9,-999.000,9,  2154.1,2,  2314.7,2,   694.5,2,      20,   7.7565,2,    25.00, -999.00,9,  -999.0,9,  -999.0, -999.00,9, -999.00,9,     -999.0,9,-999.0000,9,-999.0000,9,-999.0000,9,-999.0000,9,-999.0000,9,-999.0000,9,-999.0000,9,-999.0000,9,-999.0000,9,     -999.0,9,  -999.0,9,     -999.0,     -999.0,9,     -999.0,20130805,       0105
33RO20130803,       A16N,       7,          2,         12,         12,2,20130805,       0022,    61.6141,   -19.9961,       2052,   468.5,   7.9943,  35.1189,2,  35.1202,2,    249.0,2,   246.4,2,    7.30,2,   14.90,2,    0.00,2,    0.98,2,   3.267,2,   1.850,2,   1.713,2,  2158.8,2,  -999.0,9,   710.9,2,      20,-999.0000,9,  -999.00, -999.00,9,  -999.0,9,  -999.0, -999.00,9, -999.00,9,     13.400,2,-999.0000,9,-999.0000,9,-999.0000,9,-999.0000,9,-999.0000,9,-999.0000,9,-999.0000,9,-999.0000,9,-999.0000,9,     -999.0,5,  -999.0,9,     -999.0,     -999.0,9,     -999.0,20130805,       0102
33RO20130803,       A16N,       7,          2,         11,         11,2,20130805,       0022,    61.6141,   -19.9961,       2052,   543.1,   7.7960,  35.1245,2,  35.1239,2,    244.5,2,   240.3,2,    8.10,2,   15.70,2,    0.00,2,    1.03,2,-999.000,9,-999.000,9,-999.000,9,  2163.3,2,  -999.0,9,   731.0,2,      20,-999.0000,9,  -999.00, -999.00,9,  -999.0,9,  -999.0, -999.00,9, -999.00,9,     -999.0,9,-999.0000,9,-999.0000,9,-999.0000,9,-999.0000,9,-999.0000,9,-999.0000,9,-999.0000,9,-999.0000,9,-999.0000,9,     -999.0,9,  -999.0,9,     -999.0,     -999.0,9,     -999.0,20130805,       0100
33RO20130803,       A16N,       7,          2,         10,         10,2,20130805,       0022,    61.6141,   -19.9961,       2052,   617.3,   7.4582,  35.1142,2,  35.1139,2,    226.7,2,   225.7,2,    9.40,2,   17.10,2,    0.00,2,    1.12,2,   2.993,2,   1.662,2,   1.411,2,  2172.6,2,  2313.9,2,   768.7,2,      20,   7.7153,2,    25.00, -999.00,9,  -999.0,9,  -999.0, -999.00,9, -999.00,9,     14.834,2,-999.0000,9,-999.0000,9,-999.0000,9,-999.0000,9,-999.0000,9,-999.0000,9,-999.0000,9,-999.0000,9,-999.0000,9,     -999.0,5,  -999.0,9,     -999.0,     -999.0,9,     -999.0,20130805,       0057
33RO20130803,       A16N,       7,          2,          9,          9,2,20130805,       0022,    61.6141,   -19.9961,       2052,   723.3,   6.9706,  35.1021,2,  35.1101,2,    225.9,2,   228.8,2,    9.80,2,   17.40,2,    0.00,2,    1.13,2,   3.039,2,   1.673,2,   1.274,2,  2173.7,6,  2338.0,4,   779.3,2,      20,   7.7123,6,    25.00, -999.00,9,  -999.0,9,  -999.0, -999.00,9, -999.00,9,     14.690,2,-999.0000,9,-999.0000,9,-999.0000,9,-999.0000,9,-999.0000,9,-999.0000,9,-999.0000,9,-999.0000,9,-999.0000,9,     -999.0,5,  -999.0,9,     -999.0,     -999.0,9,     -999.0,20130805,       0054
33RO20130803,       A16N,       7,          2,          8,          8,2,20130805,       0022,    61.6141,   -19.9961,       2052,   884.9,   6.2353,  35.0934,2,  35.0934,2,    233.8,2,     234,2,   10.30,2,   17.50,2,    0.00,2,    1.15,2,   3.088,2,   1.682,2,   1.162,2,  2174.6,2,  2312.6,2,   790.1,2,      20,   7.9791,4,    25.00, -999.00,9,  -999.0,9,  -999.0, -999.00,9, -999.00,9,     14.547,2,-999.0000,9,-999.0000,9,-999.0000,9,-999.0000,9,-999.0000,9,-999.0000,9,-999.0000,9,-999.0000,9,-999.0000,9,     -999.0,5,  -999.0,9,     -999.0,     -999.0,9,     -999.0,20130805,       0051
33RO20130803,       A16N,       7,          2,          7,          7,2,20130805,       0022,    61.6141,   -19.9961,       2052,  1036.4,   5.6394,  35.0798,2,  35.0778,2,    255.7,2,   256.6,2,    9.00,2,   15.90,2,    0.00,2,    1.04,2,   3.434,2,   1.883,2,   1.503,2,  2167.2,2,  -999.0,9,   760.3,2,      20,-999.0000,9,  -999.00, -999.00,9,  -999.0,9,  -999.0, -999.00,9, -999.00,9,     13.625,2,-999.0000,9,-999.0000,9,-999.0000,9,-999.0000,9,-999.0000,9,-999.0000,9,-999.0000,9,-999.0000,9,-999.0000,9,     -999.0,5,  -999.0,9,     -999.0,     -999.0,9,     -999.0,20130805,       0047
33RO20130803,       A16N,       7,          2,          6,          6,2,20130805,       0022,    61.6141,   -19.9961,       2052,  1249.0,   4.7847,  35.0283,2,  35.0259,2,    264.5,2,   265.8,2,    9.40,2,   15.90,2,    0.00,2,    1.05,2,   3.568,2,   1.931,2,   1.431,2,  2166.0,2,  2308.2,2,   769.4,2,      20,   7.7134,2,    25.00, -999.00,9,  -999.0,9,  -999.0, -999.00,9, -999.00,9,     13.616,2,-999.0000,9,-999.0000,9,-999.0000,9,-999.0000,9,-999.0000,9,-999.0000,9,-999.0000,9,-999.0000,9,-999.0000,9,     -999.0,5,  -999.0,9,     -999.0,     -999.0,9,     -999.0,20130805,       0042
33RO20130803,       A16N,       7,          2,          5,          5,2,20130805,       0022,    61.6141,   -19.9961,       2052,  1448.9,   3.8622,  34.9639,2,  34.9641,2,    273.0,2,   272.4,2,   10.70,2,   16.30,2,    0.00,2,    1.08,2,   3.380,2,   1.755,2,   1.216,2,  2163.2,2,  2305.4,2,   772.8,2,      20,   7.7119,6,    25.00, -999.00,9,  -999.0,9,  -999.0, -999.00,9, -999.00,9,     13.460,2,-999.0000,9,-999.0000,9,-999.0000,9,-999.0000,9,-999.0000,9,-999.0000,9,-999.0000,9,-999.0000,9,-999.0000,9,     -999.0,5,  -999.0,9,     -999.0,     -999.0,9,     -999.0,20130805,       0038
33RO20130803,       A16N,       7,          2,          4,          4,2,20130805,       0022,    61.6141,   -19.9961,       2052,  1599.9,   3.6202,  34.9850,2,  34.9826,2,    277.5,2,     278,2,   10.10,2,   15.50,2,    0.00,2,    1.03,2,   3.410,2,   1.809,2,   1.375,2,  2163.4,2,  2307.1,2,   769.4,2,      20,   7.7164,2,    25.00, -999.00,9,  -999.0,9,  -999.0, -999.00,9, -999.00,9,     13.375,2,-999.0000,9,-999.0000,9,-999.0000,9,-999.0000,9,-999.0000,9,-999.0000,9,-999.0000,9,-999.0000,9,-999.0000,9,     -999.0,5,  -999.0,9,     -999.0,     -999.0,9,     -999.0,20130805,       0034
33RO20130803,       A16N,       7,          2,          3,          3,2,20130805,       0022,    61.6141,   -19.9961,       2052,  1700.5,   3.3479,  34.9733,2,  34.9737,2,    274.3,2,   274.7,2,   11.50,6,   15.90,6,    0.00,6,    1.06,6,   3.077,6,   1.589,6,   0.998,6,  2163.8,2,  -999.0,9,   770.6,2,      20,-999.0000,9,  -999.00, -999.00,9,  -999.0,9,  -999.0, -999.00,9, -999.00,9,     13.394,6,-999.0000,9,-999.0000,9,-999.0000,9,-999.0000,9,-999.0000,9,-999.0000,9,-999.0000,9,-999.0000,9,-999.0000,9,     -999.0,5,  -999.0,9,     -999.0,     -999.0,9,     -999.0,20130805,       0031
33RO20130803,       A16N,       7,          2,          2,          2,2,20130805,       0022,    61.6141,   -19.9961,       2052,  1849.6,   2.9927,  34.9985,2,  34.9979,2,    278.9,2,   279.7,2,   10.00,6,   15.10,6,    0.01,6,    1.01,6,   3.320,2,   1.746,2,   1.204,2,  2165.3,2,  2308.4,2,   778.7,2,      20,   7.7117,2,    25.00, -999.00,9,  -999.0,9,  -999.0, -999.00,9, -999.00,9,     13.624,2,-999.0000,9,-999.0000,9,-999.0000,9,-999.0000,9,-999.0000,9,-999.0000,9,-999.0000,9,-999.0000,9,-999.0000,9,     -999.0,5,  -999.0,9,     -999.0,     -999.0,9,     -999.0,20130805,       0028
33RO20130803,       A16N,       7,          2,          1,          1,2,20130805,       0022,    61.6141,   -19.9961,       2052,  2069.6,   2.5885,  34.9914,2,  34.9919,2,    281.4,2,   282.2,2,   11.10,6,   14.90,6,    0.02,6,    1.01,6,   3.291,2,   1.728,2,   1.299,2,  2170.9,6,  2307.7,2,   783.4,2,      20,   7.8950,4,    25.00, -999.00,9,  -999.0,9,  -999.0, -999.00,9, -999.00,9,     13.691,2,-999.0000,9,-999.0000,9,-999.0000,9,-999.0000,9,-999.0000,9,-999.0000,9,-999.0000,9,-999.0000,9,-999.0000,9,     -999.0,5,  -999.0,9,     -999.0,     -999.0,9,     -999.0,20130805,       0022