BOTTLE,20220815CCHSIOAMB
EXPOCODE,SECT_ID,STNNBR,CASTNO,SAMPNO,BTLNBR,BTLNBR_FLAG_W,DATE,TIME,LATITUDE,LONGITUDE,DEPTH,CTDPRS,CTDTMP,CTDSAL,CTDSAL_FLAG_W,SALNTY,SALNTY_FLAG_W,CTDOXY,CTDOXY_FLAG_W,OXYGEN,OXYGEN_FLAG_W,SILCAT,SILCAT_FLAG_W,NITRAT,NITRAT_FLAG_W,NITRIT,NITRIT_FLAG_W,PHSPHT,PHSPHT_FLAG_W,CFC-11,CFC-11_FLAG_W,CFC-12,CFC-12_FLAG_W,SF6,SF6_FLAG_W,TCARBN,TCARBN_FLAG_W,ALKALI,ALKALI_FLAG_W,PCO2,PCO2_FLAG_W,PCO2TMP,PH_SWS,PH_SWS_FLAG_W,PH_TMP,DELC13,DELC13_FLAG_W,DELC14,DELC14_FLAG_W,C14ERR,DOC,DOC_FLAG_W,TDN,TDN_FLAG_W,N2O,N2O_FLAG_W,CDOM325,CDOM325_FLAG_W,CDOM340,CDOM340_FLAG_W,CDOM380,CDOM380_FLAG_W,CDOM412,CDOM412_FLAG_W,CDOM443,CDOM443_FLAG_W,CDOM490,CDOM490_FLAG_W,CDOM555,CDOM555_FLAG_W,CDOMSL,CDOMSL_FLAG_W,CDOMSN,CDOMSN_FLAG_W,CCL4,CCL4_FLAG_W,14C-DOC,14C-DOC_FLAG_W,14C-DOCERR,13C-DOC,13C-DOC_FLAG_W,13C-DOCERR,BTL_DATE,BTL_TIME
,,,,,,,,,,,METERS,DBAR,ITS-90,PSS-78,,PSS-78,,UMOL/KG,,UMOL/KG,,UMOL/KG,,UMOL/KG,,UMOL/KG,,UMOL/KG,,PMOL/KG,,PMOL/KG,,FMOL/KG,,UMOL/KG,,UMOL/KG,,UATM,,DEG C,,,DEG C,/MILLE,,/MILLE,,/MILLE,UMOL/KG,,UMOL/KG,,NMOL/KG,,1/M,,1/M,,1/M,,1/M,,1/M,,1/M,,1/M,,1/NM,,1/NM,,PMOL/KG,,/MILLE,,/MILLE,/MILLE,,/MILLE,,
33RO20130803,       A16N,      85,          1,         24,         24,2,20130907,       2108,    23.5024,   -27.0345,       5523,     3.2,  25.1155,  36.9082,2,  36.9080,2,    205.6,2,   206.8,2,    0.50,2,    0.00,2,    0.00,2,    0.05,2,   1.683,2,   1.067,2,   1.253,2,  2096.9,6,  2418.7,2,   330.4,2,      20,   8.0399,2,    25.00, -999.00,9,  -999.0,9,  -999.0,   70.71,2,    4.18,2,      6.406,2,-999.0000,9,-999.0000,9,-999.0000,9,-999.0000,9,-999.0000,9,-999.0000,9,-999.0000,9,-999.0000,9,-999.0000,9,     -999.0,5,  -999.0,9,     -999.0,     -999.0,9,     -999.0,20130907,       2317
33RO20130803,       A16N,      85,          1,         23,         23,2,20130907,       2108,    23.5024,   -27.0345,       5523,    24.1,  25.1204,  36.9089,2,  37.0638,2,    206.2,2,   206.7,2,    0.50,2,    0.00,2,    0.00,2,    0.05,2,   1.679,2,   1.066,2,   1.259,2,  2096.7,2,  2420.1,2,   331.1,2,      20,   8.0401,2,    25.00, -999.00,9,  -999.0,9,  -999.0,   69.74,2,    4.56,2,      6.346,2,-999.0000,9,-999.0000,9,-999.0000,9,-999.0000,9,-999.0000,9,-999.0000,9,-999.0000,9,-999.0000,9,-999.0000,9,     -999.0,5,  -999.0,9,     -999.0,     -999.0,9,     -999.0,20130907,       2315
33RO20130803,       A16N,      85,          1,         22,         22,2,20130907,       2108,    23.5024,   -27.0345,       5523,    48.4,  24.6101,  37.0330,2,-999.0000,9,    211.4,2,   214.3,2,    0.50,2,    0.00,2,    0.00,2,    0.04,2,-999.000,9,-999.000,9,-999.000,9,  2102.5,2,  2424.4,2,   334.7,2,      20,   8.0387,6,    25.00, -999.00,9,  -999.0,9,  -999.0,    67.5,2,    4.27,2,     -999.0,9,-999.0000,9,-999.0000,9,-999.0000,9,-999.0000,9,-999.0000,9,-999.0000,9,-999.0000,9,-999.0000,9,-999.0000,9,     -999.0,9,  -999.0,9,     -999.0,     -999.0,9,     -999.0,20130907,       2313
33RO20130803,       A16N,      85,          1,         21,         21,2,20130907,       2108,    23.5024,   -27.0345,       5523,    73.5,  22.5908,  37.0873,2,  37.0846,2,    220.9,2,   220.5,2,    0.60,2,    0.00,2,    0.00,2,    0.05,2,   1.903,6,   1.194,6,   1.343,6,  -999.0,9,  -999.0,9,  -999.0,9, -999.00,-999.0000,9,  -999.00, -999.00,9,  -999.0,9,  -999.0,    64.6,2,    3.96,2,      7.135,6,-999.0000,9,-999.0000,9,-999.0000,9,-999.0000,9,-999.0000,9,-999.0000,9,-999.0000,9,-999.0000,9,-999.0000,9,     -999.0,5,  -999.0,9,     -999.0,     -999.0,9,     -999.0,20130907,       2311
33RO20130803,       A16N,      85,          1,         20,         20,2,20130907,       2108,    23.5024,   -27.0345,       5523,   108.7,  20.8200,  37.0618,2,  37.0616,2,    210.4,2,   207.9,2,    0.70,2,    0.50,2,    0.10,2,    0.10,2,-999.000,9,-999.000,9,-999.000,9,  2129.9,2,  2425.4,2,   386.8,2,      20,   7.9869,2,    25.00, -999.00,9,  -999.0,9,  -999.0,   59.36,2,    3.89,2,     -999.0,9,-999.0000,9,-999.0000,9,-999.0000,9,-999.0000,9,-999.0000,9,-999.0000,9,-999.0000,9,-999.0000,9,-999.0000,9,     -999.0,9,  -999.0,9,     -999.0,     -999.0,9,     -999.0,20130907,       2309
33RO20130803,       A16N,      85,          1,         19,         19,2,20130907,       2108,    23.5024,   -27.0345,       5523,   149.1,  19.4703,  36.8611,2,  36.8569,2,    185.8,2,   184.2,2,    1.30,2,    4.70,2,    0.02,2,    0.30,2,   2.099,2,   1.287,2,   1.357,2,  -999.0,9,  -999.0,9,  -999.0,9, -999.00,-999.0000,9,  -999.00, -999.00,9,  -999.0,9,  -999.0,   54.12,2,    7.84,2,      9.838,2,-999.0000,9,-999.0000,9,-999.0000,9,-999.0000,9,-999.0000,9,-999.0000,9,-999.0000,9,-999.0000,9,-999.0000,9,     -999.0,5,  -999.0,9,     -999.0,     -999.0,9,     -999.0,20130907,       2304
33RO20130803,       A16N,      85,          1,         18,         18,2,20130907,       2108,    23.5024,   -27.0345,       5523,   224.0,  17.4624,  36.5668,2,  36.5600,2,    190.4,2,   192.8,2,    1.60,2,    5.60,2,    0.01,2,    0.32,2,   2.307,2,   1.390,2,   1.340,2,  2143.9,2,  2387.1,2,   467.7,2,      20,   7.9155,2,    25.00, -999.00,9,  -999.0,9,  -999.0,   51.06,2,     8.1,2,     10.003,2,-999.0000,9,-999.0000,9,-999.0000,9,-999.0000,9,-999.0000,9,-999.0000,9,-999.0000,9,-999.0000,9,-999.0000,9,     -999.0,5,  -999.0,9,     -999.0,     -999.0,9,     -999.0,20130907,       2301
33RO20130803,       A16N,      85,          1,         17,         17,2,20130907,       2108,    23.5024,   -27.0345,       5523,   308.7,  16.0426,  36.2685,2,  36.2682,2,    177.4,2,   175.8,2,    2.90,2,    9.50,2,    0.01,2,    0.56,2,   2.364,2,   1.398,2,   1.229,2,  -999.0,9,  -999.0,9,  -999.0,9, -999.00,-999.0000,9,  -999.00, -999.00,9,  -999.0,9,  -999.0,   48.07,2,   12.19,2,     12.707,2,-999.0000,9,-999.0000,9,-999.0000,9,-999.0000,9,-999.0000,9,-999.0000,9,-999.0000,9,-999.0000,9,-999.0000,9,     -999.0,5,  -999.0,9,     -999.0,     -999.0,9,     -999.0,20130907,       2257
33RO20130803,       A16N,      85,          1,         16,         16,2,20130907,       2108,    23.5024,   -27.0345,       5523,   403.8,  14.1344,  35.9144,2,  35.9179,2,    151.0,2,   151.8,2,    5.10,2,   15.10,2,    0.01,2,    0.90,2,   2.341,2,   1.350,2,   0.982,2,  2175.5,2,  2355.0,6,   652.7,2,      20,   7.7842,2,    25.00, -999.00,9,  -999.0,9,  -999.0,   46.81,2,   17.74,2,     17.026,2,-999.0000,9,-999.0000,9,-999.0000,9,-999.0000,9,-999.0000,9,-999.0000,9,-999.0000,9,-999.0000,9,-999.0000,9,     -999.0,5,  -999.0,9,     -999.0,     -999.0,9,     -999.0,20130907,       2254
33RO20130803,       A16N,      85,          1,         15,         15,2,20130907,       2108,    23.5024,   -27.0345,       5523,   498.7,  12.5107,  35.6889,2,  35.6877,2,    149.2,2,   150.9,2,    6.80,2,   18.00,2,    0.01,2,    1.08,2,   2.223,2,   1.228,2,   0.757,2,  -999.0,9,  -999.0,9,  -999.0,9, -999.00,-999.0000,9,  -999.00, -999.00,9,  -999.0,9,  -999.0,   45.64,2,   20.33,2,     17.743,2,-999.0000,9,-999.0000,9,-999.0000,9,-999.0000,9,-999.0000,9,-999.0000,9,-999.0000,9,-999.0000,9,-999.0000,9,     -999.0,5,  -999.0,9,     -999.0,     -999.0,9,     -999.0,20130907,       2251
33RO20130803,       A16N,      85,          1,         14,         14,2,20130907,       2108,    23.5024,   -27.0345,       5523,   648.7,  10.4025,  35.4348,2,  35.4352,2,    133.6,2,   132.3,2,   11.30,2,   23.50,2,    0.00,2,    1.45,2,-999.000,9,-999.000,9,-999.000,9,  2200.1,2,  1707.8,4,   843.1,2,      20,   7.6761,2,    25.00, -999.00,9,  -999.0,9,  -999.0,   44.83,2,   26.06,2,     -999.0,9,-999.0000,9,-999.0000,9,-999.0000,9,-999.0000,9,-999.0000,9,-999.0000,9,-999.0000,9,-999.0000,9,-999.0000,9,     -999.0,9,  -999.0,9,     -999.0,     -999.0,9,     -999.0,20130907,       2247
33RO20130803,       A16N,      85,          1,         13,         13,2,20130907,       2108,    23.5024,   -27.0345,       5523,   778.7,   8.6733,  35.2415,2,  35.2403,2,    126.4,2,   126.3,2,   15.90,2,   27.10,2,    0.00,2,    1.73,2,   0.542,2,   0.285,2,   0.095,2,  2212.0,6,  2327.5,2,  -999.0,9, -999.00,   7.6357,2,    25.00, -999.00,9,  -999.0,9,  -999.0,   43.89,2,   29.63,2,     22.078,2,-999.0000,9,-999.0000,9,-999.0000,9,-999.0000,9,-999.0000,9,-999.0000,9,-999.0000,9,-999.0000,9,-999.0000,9,     -999.0,5,  -999.0,9,     -999.0,     -999.0,9,     -999.0,20130907,       2243
33RO20130803,       A16N,      85,          1,         12,         12,2,20130907,       2108,    23.5024,   -27.0345,       5523,   928.9,   7.1406,  35.1098,2,  35.1109,2,    140.7,2,   142.4,2,   19.20,2,   27.70,2,    0.00,2,    1.82,2,-999.000,9,-999.000,9,-999.000,9,  2211.7,2,  2323.2,2,   948.0,2,      20,   7.6299,2,    25.00, -999.00,9,  -999.0,9,  -999.0,   43.22,2,   30.16,2,     -999.0,9,-999.0000,9,-999.0000,9,-999.0000,9,-999.0000,9,-999.0000,9,-999.0000,9,-999.0000,9,-999.0000,9,-999.0000,9,     -999.0,9,  -999.0,9,     -999.0,     -999.0,9,     -999.0,20130907,       2239
33RO20130803,       A16N,      85,          1,         11,         11,2,20130907,       2108,    23.5024,   -27.0345,       5523,  1148.1,   6.2237,  35.1246,2,  35.1259,2,    169.5,2,   170.3,2,   19.30,2,   25.40,2,    0.00,2,    1.68,2,   0.138,2,   0.075,2,   0.029,2,  2202.0,2,  2329.2,2,  -999.0,9, -999.00,   7.6613,2,    25.00, -999.00,9,  -999.0,9,  -999.0,   42.39,2,   27.87,2,     18.634,2,-999.0000,9,-999.0000,9,-999.0000,9,-999.0000,9,-999.0000,9,-999.0000,9,-999.0000,9,-999.0000,9,-999.0000,9,     -999.0,5,  -999.0,9,     -999.0,     -999.0,9,     -999.0,20130907,       2234
33RO20130803,       A16N,      85,          1,         10,         10,2,20130907,       2108,    23.5024,   -27.0345,       5523,  1348.3,   5.5856,  35.1367,2,  35.1404,2,    190.8,2,   191.2,2,   19.30,2,   23.40,2,    0.00,2,    1.56,2,   0.087,2,   0.047,2,   0.016,2,  -999.0,9,  -999.0,9,  -999.0,9, -999.00,-999.0000,9,  -999.00, -999.00,9,  -999.0,9,  -999.0,   42.06,2,   25.61,2,     16.685,2,-999.0000,9,-999.0000,9,-999.0000,9,-999.0000,9,-999.0000,9,-999.0000,9,-999.0000,9,-999.0000,9,-999.0000,9,     -999.0,5,  -999.0,9,     -999.0,     -999.0,9,     -999.0,20130907,       2230
33RO20130803,       A16N,      85,          1,          9,          9,2,20130907,       2108,    23.5024,   -27.0345,       5523,  1648.5,   4.6369,  35.0893,2,  35.0904,2,    213.1,2,   213.4,2,   21.10,2,   22.00,2,    0.00,2,    1.47,2,-999.000,9,-999.000,9,-999.000,9,  2187.3,2,  2329.7,2,   770.4,2,      20,   7.7087,2,    25.00, -999.00,9,  -999.0,9,  -999.0,   41.65,2,   24.43,2,     -999.0,9,-999.0000,9,-999.0000,9,-999.0000,9,-999.0000,9,-999.0000,9,-999.0000,9,-999.0000,9,-999.0000,9,-999.0000,9,     -999.0,9,  -999.0,9,     -999.0,     -999.0,9,     -999.0,20130907,       2224
33RO20130803,       A16N,      85,          1,          8,          8,2,20130907,       2108,    23.5024,   -27.0345,       5523,  2048.8,   3.7855,  35.0240,2,  35.0250,2,    228.8,2,     230,2,   24.50,2,   21.30,2,    0.00,2,    1.43,2,   0.003,2,   0.002,2,   0.000,2,  2182.5,2,  2330.4,2,   762.0,2,      20,   7.7188,2,    25.00, -999.00,9,  -999.0,9,  -999.0,   41.55,2,   23.83,2,     13.995,2,-999.0000,9,-999.0000,9,-999.0000,9,-999.0000,9,-999.0000,9,-999.0000,9,-999.0000,9,-999.0000,9,-999.0000,9,     -999.0,5,  -999.0,9,     -999.0,     -999.0,9,     -999.0,20130907,       2216
33RO20130803,       A16N,      85,          1,          7,          7,2,20130907,       2108,    23.5024,   -27.0345,       5523,  2448.8,   3.2816,  34.9900,2,  34.9925,2,    237.6,2,   238.9,2,   28.30,2,   20.80,2,    0.00,2,    1.41,2,   0.007,2,   0.006,2,   0.033,2,  2183.6,2,  2337.5,2,  -999.0,9, -999.00,   7.7286,2,    25.00, -999.00,9,  -999.0,9,  -999.0,   41.72,2,   23.31,2,     13.381,2,-999.0000,9,-999.0000,9,-999.0000,9,-999.0000,9,-999.0000,9,-999.0000,9,-999.0000,9,-999.0000,9,-999.0000,9,     -999.0,5,  -999.0,9,     -999.0,     -999.0,9,     -999.0,20130907,       2208
33RO20130803,       A16N,      85,          1,          6,          6,2,20130907,       2108,    23.5024,   -27.0345,       5523,  2838.5,   2.8467,  34.9497,2,  34.9550,3,    242.6,2,   243.7,2,   33.30,2,   20.80,2,    0.00,2,    1.41,2,-999.000,9,-999.000,9,-999.000,9,  -999.0,9,  -999.0,9,  -999.0,9, -999.00,-999.0000,9,  -999.00, -999.00,9,  -999.0,9,  -999.0,   41.51,2,    22.8,2,     -999.0,9,-999.0000,9,-999.0000,9,-999.0000,9,-999.0000,9,-999.0000,9,-999.0000,9,-999.0000,9,-999.0000,9,-999.0000,9,     -999.0,9,  -999.0,9,     -999.0,     -999.0,9,     -999.0,20130907,       2200
33RO20130803,       A16N,      85,          1,          5,          5,2,20130907,       2108,    23.5024,   -27.0345,       5523,  3348.8,   2.5485,  34.9186,2,  34.9198,2,    241.8,2,   243.2,2,   39.60,2,   21.60,2,    0.00,2,    1.46,2,   0.004,2,   0.004,2,   0.000,2,  2194.2,2,  2346.1,6,   748.6,2,      20,   7.7291,2,    25.00, -999.00,9,  -999.0,9,  -999.0,   41.02,2,   24.31,2,     13.397,2,-999.0000,9,-999.0000,9,-999.0000,9,-999.0000,9,-999.0000,9,-999.0000,9,-999.0000,9,-999.0000,9,-999.0000,9,     -999.0,5,  -999.0,9,     -999.0,     -999.0,9,     -999.0,20130907,       2150
33RO20130803,       A16N,      85,          1,          4,          4,2,20130907,       2108,    23.5024,   -27.0345,       5523,  3844.4,   2.4122,  34.9009,2,  34.9007,2,    242.1,2,   243.8,2,   43.40,6,   22.00,6,    0.00,6,    1.49,6,-999.000,9,-999.000,9,-999.000,9,  -999.0,9,  -999.0,9,  -999.0,9, -999.00,-999.0000,9,  -999.00, -999.00,9,  -999.0,9,  -999.0,   41.02,2,   24.52,2,     -999.0,9,-999.0000,9,-999.0000,9,-999.0000,9,-999.0000,9,-999.0000,9,-999.0000,9,-999.0000,9,-999.0000,9,-999.0000,9,     -999.0,9,  -999.0,9,     -999.0,     -999.0,9,     -999.0,20130907,       2141
33RO20130803,       A16N,      85,          1,          3,          3,2,20130907,       2108,    23.5024,   -27.0345,       5523,  4447.9,   2.3638,  34.8893,2,  34.8898,2,    241.4,2,   243.3,2,   46.10,6,   22.30,6,    0.00,6,    1.51,6,   0.001,2,   0.003,2,   0.000,2,  -999.0,9,  -999.0,9,  -999.0,9, -999.00,-999.0000,9,  -999.00, -999.00,9,  -999.0,9,  -999.0,   40.71,2,   24.61,2,     13.690,2,-999.0000,9,-999.0000,9,-999.0000,9,-999.0000,9,-999.0000,9,-999.0000,9,-999.0000,9,-999.0000,9,-999.0000,9,     -999.0,5,  -999.0,9,     -999.0,     -999.0,9,     -999.0,20130907,       2130
33RO20130803,       A16N,      85,          1,          2,          2,2,20130907,       2108,    23.5024,   -27.0345,       5523,  4948.5,   2.3998,  34.8855,2,  34.8885,2,    241.6,2,     243,2,   46.90,6,   22.40,6,    0.00,6,    1.52,6,-999.000,9,-999.000,9,-999.000,9,  2203.8,2,  2357.0,2,  -999.0,9, -999.00,   7.7284,2,    25.00, -999.00,9,  -999.0,9,  -999.0,   40.84,2,   24.69,2,     -999.0,9,-999.0000,9,-999.0000,9,-999.0000,9,-999.0000,9,-999.0000,9,-999.0000,9,-999.0000,9,-999.0000,9,-999.0000,9,     -999.0,9,  -999.0,9,     -999.0,     -999.0,9,     -999.0,20130907,       2120
33RO20130803,       A16N,      85,          1,          1,          1,2,20130907,       2108,    23.5024,   -27.0345,       5523,  5587.4,   2.4742,  34.8835,2,  34.8835,2,    243.8,2,     243,2,   47.10,6,   22.40,6,    0.00,6,    1.51,6,   0.003,2,   0.004,2,   0.000,2,  2204.1,2,  2355.7,2,   745.9,2,      20,   7.7270,6,    25.00, -999.00,9,  -999.0,9,  -999.0,   40.82,2,   25.11,2,     13.718,2,-999.0000,9,-999.0000,9,-999.0000,9,-999.0000,9,-999.0000,9,-999.0000,9,-999.0000,9,-999.0000,9,-999.0000,9,     -999.0,5,  -999.0,9,     -999.0,     -999.0,9,     -999.0,20130907,       2108