BOTTLE,20220815CCHSIOAMB
EXPOCODE,SECT_ID,STNNBR,CASTNO,SAMPNO,BTLNBR,BTLNBR_FLAG_W,DATE,TIME,LATITUDE,LONGITUDE,DEPTH,CTDPRS,CTDTMP,CTDSAL,CTDSAL_FLAG_W,SALNTY,SALNTY_FLAG_W,CTDOXY,CTDOXY_FLAG_W,OXYGEN,OXYGEN_FLAG_W,SILCAT,SILCAT_FLAG_W,NITRAT,NITRAT_FLAG_W,NITRIT,NITRIT_FLAG_W,PHSPHT,PHSPHT_FLAG_W,CFC-11,CFC-11_FLAG_W,CFC-12,CFC-12_FLAG_W,SF6,SF6_FLAG_W,TCARBN,TCARBN_FLAG_W,ALKALI,ALKALI_FLAG_W,PCO2,PCO2_FLAG_W,PCO2TMP,PH_SWS,PH_SWS_FLAG_W,PH_TMP,DELC13,DELC13_FLAG_W,DELC14,DELC14_FLAG_W,C14ERR,DOC,DOC_FLAG_W,TDN,TDN_FLAG_W,N2O,N2O_FLAG_W,CDOM325,CDOM325_FLAG_W,CDOM340,CDOM340_FLAG_W,CDOM380,CDOM380_FLAG_W,CDOM412,CDOM412_FLAG_W,CDOM443,CDOM443_FLAG_W,CDOM490,CDOM490_FLAG_W,CDOM555,CDOM555_FLAG_W,CDOMSL,CDOMSL_FLAG_W,CDOMSN,CDOMSN_FLAG_W,CCL4,CCL4_FLAG_W,14C-DOC,14C-DOC_FLAG_W,14C-DOCERR,13C-DOC,13C-DOC_FLAG_W,13C-DOCERR,BTL_DATE,BTL_TIME
,,,,,,,,,,,METERS,DBAR,ITS-90,PSS-78,,PSS-78,,UMOL/KG,,UMOL/KG,,UMOL/KG,,UMOL/KG,,UMOL/KG,,UMOL/KG,,PMOL/KG,,PMOL/KG,,FMOL/KG,,UMOL/KG,,UMOL/KG,,UATM,,DEG C,,,DEG C,/MILLE,,/MILLE,,/MILLE,UMOL/KG,,UMOL/KG,,NMOL/KG,,1/M,,1/M,,1/M,,1/M,,1/M,,1/M,,1/M,,1/NM,,1/NM,,PMOL/KG,,/MILLE,,/MILLE,/MILLE,,/MILLE,,
33RO20130803,       A16N,     110,          1,         24,         24,2,20130922,       0608,     8.5007,   -27.7505,       4955,     2.8,  28.3450,  35.1734,2,  35.1739,2,    196.9,2,   198.1,2,    1.00,2,    0.00,2,    0.00,2,    0.01,2,   1.493,2,   0.958,2,   1.136,2,  1953.5,6,  2303.7,3,   263.8,2,      20,   8.1150,2,    25.00, -999.00,9,  -999.0,9,  -999.0,   76.16,2,    4.47,2,      6.001,2,-999.0000,9,-999.0000,9,-999.0000,9,-999.0000,9,-999.0000,9,-999.0000,9,-999.0000,9,-999.0000,9,-999.0000,9,     -999.0,5,  -999.0,9,     -999.0,     -999.0,9,     -999.0,20130922,       0808
33RO20130803,       A16N,     110,          1,         23,         23,2,20130922,       0608,     8.5007,   -27.7505,       4955,    22.5,  28.3523,  35.3590,2,  35.3656,2,    199.5,2,     201,2,    1.00,2,    0.00,2,    0.00,2,    0.02,2,   1.502,2,   0.963,2,   1.160,2,  1960.5,2,  2315.7,6,   279.2,2,      20,   8.1132,2,    25.00, -999.00,9,  -999.0,9,  -999.0,   75.08,2,    4.83,2,      6.147,2,-999.0000,9,-999.0000,9,-999.0000,9,-999.0000,9,-999.0000,9,-999.0000,9,-999.0000,9,-999.0000,9,-999.0000,9,     -999.0,5,  -999.0,9,     -999.0,     -999.0,9,     -999.0,20130922,       0806
33RO20130803,       A16N,     110,          1,         22,         22,2,20130922,       0608,     8.5007,   -27.7505,       4955,    47.5,  24.4954,  36.0875,2,  36.0907,2,    199.7,2,   195.2,2,    1.80,2,    0.10,2,    0.01,2,    0.04,2,   1.744,2,   1.079,2,   1.062,2,  2063.4,2,  2367.9,2,  -999.0,9, -999.00,   8.0174,2,    25.00, -999.00,9,  -999.0,9,  -999.0,   69.39,2,    5.26,2,     12.222,2,-999.0000,9,-999.0000,9,-999.0000,9,-999.0000,9,-999.0000,9,-999.0000,9,-999.0000,9,-999.0000,9,-999.0000,9,     -999.0,5,  -999.0,9,     -999.0,     -999.0,9,     -999.0,20130922,       0804
33RO20130803,       A16N,     110,          1,         21,         21,2,20130922,       0608,     8.5007,   -27.7505,       4955,    72.5,  19.6507,  35.9221,2,  35.9097,2,    135.5,2,   131.9,2,    4.20,2,   11.30,2,    0.05,2,    0.71,2,   1.958,2,   1.159,2,   0.887,2,  2145.4,2,  2353.8,2,   574.7,2,      20,   7.8413,2,    25.00, -999.00,9,  -999.0,9,  -999.0,   59.61,2,   14.96,2,     19.092,2,-999.0000,9,-999.0000,9,-999.0000,9,-999.0000,9,-999.0000,9,-999.0000,9,-999.0000,9,-999.0000,9,-999.0000,9,     -999.0,5,  -999.0,9,     -999.0,     -999.0,9,     -999.0,20130922,       0802
33RO20130803,       A16N,     110,          1,         20,         20,2,20130922,       0608,     8.5007,   -27.7505,       4955,    97.9,  15.4166,  35.5841,2,  35.5747,2,    120.6,2,   121.3,2,    6.40,2,   18.30,2,    0.02,2,    1.19,2,   2.211,2,   1.246,2,   0.801,2,  2174.6,2,  2337.9,2,  -999.0,9, -999.00,   7.7389,2,    25.00, -999.00,9,  -999.0,9,  -999.0,   51.22,2,   21.74,2,     23.092,2,-999.0000,9,-999.0000,9,-999.0000,9,-999.0000,9,-999.0000,9,-999.0000,9,-999.0000,9,-999.0000,9,-999.0000,9,     -999.0,5,  -999.0,9,     -999.0,     -999.0,9,     -999.0,20130922,       0800
33RO20130803,       A16N,     110,          1,         19,         19,2,20130922,       0608,     8.5007,   -27.7505,       4955,   157.2,  12.8300,  35.2633,2,  35.2646,2,    118.1,2,   118.8,2,    8.30,2,   21.70,2,    0.01,2,    1.42,2,   2.188,2,   1.202,2,   0.652,2,  2183.2,2,  2322.5,2,   848.1,2,      20,   7.6758,3,    25.00, -999.00,9,  -999.0,9,  -999.0,   47.64,2,   25.21,2,     26.341,2,-999.0000,9,-999.0000,9,-999.0000,9,-999.0000,9,-999.0000,9,-999.0000,9,-999.0000,9,-999.0000,9,-999.0000,9,     -999.0,5,  -999.0,9,     -999.0,     -999.0,9,     -999.0,20130922,       0757
33RO20130803,       A16N,     110,          1,         18,         18,2,20130922,       0608,     8.5007,   -27.7505,       4955,   238.1,  11.8314,  35.1484,2,  35.1452,2,    127.6,2,   123.3,2,    9.50,2,   23.10,2,    0.00,2,    1.50,2,   2.093,2,   1.144,2,   0.620,2,  -999.0,9,  -999.0,9,  -999.0,9, -999.00,-999.0000,9,  -999.00, -999.00,9,  -999.0,9,  -999.0,   46.88,2,   26.65,2,     27.070,2,-999.0000,9,-999.0000,9,-999.0000,9,-999.0000,9,-999.0000,9,-999.0000,9,-999.0000,9,-999.0000,9,-999.0000,9,     -999.0,5,  -999.0,9,     -999.0,     -999.0,9,     -999.0,20130922,       0754
33RO20130803,       A16N,     110,          1,         17,         17,2,20130922,       0608,     8.5007,   -27.7505,       4955,   327.9,  10.5886,  35.0288,2,  35.0273,2,     89.2,2,    87.7,2,   12.50,2,   29.30,2,    0.00,2,    1.83,2,   1.534,2,   0.823,2,   0.345,2,  2213.5,2,  2309.2,2,  1117.2,2,      20,   7.5644,2,    25.00, -999.00,9,  -999.0,9,  -999.0,   45.92,2,   31.97,2,     36.007,2,-999.0000,9,-999.0000,9,-999.0000,9,-999.0000,9,-999.0000,9,-999.0000,9,-999.0000,9,-999.0000,9,-999.0000,9,     -999.0,5,  -999.0,9,     -999.0,     -999.0,9,     -999.0,20130922,       0750
33RO20130803,       A16N,     110,          1,         16,         16,2,20130922,       0608,     8.5007,   -27.7505,       4955,   407.8,   9.6676,  34.9570,2,  34.9531,2,     68.7,2,    68.3,2,   14.90,2,   33.20,2,    0.00,2,    2.05,2,   1.014,2,   0.535,2,   0.209,2,  2231.9,2,  2305.1,2,  -999.0,9, -999.00,   7.5029,2,    25.00, -999.00,9,  -999.0,9,  -999.0,   45.22,2,   35.88,2,     39.200,2,-999.0000,9,-999.0000,9,-999.0000,9,-999.0000,9,-999.0000,9,-999.0000,9,-999.0000,9,-999.0000,9,-999.0000,9,     -999.0,5,  -999.0,9,     -999.0,     -999.0,9,     -999.0,20130922,       0747
33RO20130803,       A16N,     110,          1,         15,         15,2,20130922,       0608,     8.5007,   -27.7505,       4955,   497.4,   8.9669,  34.9338,2,  34.9311,2,     61.5,2,    62.4,2,   16.80,2,   35.20,2,    0.00,2,    2.17,2,   0.637,2,   0.338,2,   0.134,2,  2241.3,6,  2307.0,2,  1368.0,2,      20,   7.4770,6,    25.00, -999.00,9,  -999.0,9,  -999.0,   44.36,2,   37.83,2,     38.196,2,-999.0000,9,-999.0000,9,-999.0000,9,-999.0000,9,-999.0000,9,-999.0000,9,-999.0000,9,-999.0000,9,-999.0000,9,     -999.0,5,  -999.0,9,     -999.0,     -999.0,9,     -999.0,20130922,       0744
33RO20130803,       A16N,     110,          1,         14,         14,2,20130922,       0608,     8.5007,   -27.7505,       4955,   647.6,   7.3450,  34.7986,2,  34.7980,2,     74.8,2,    75.6,2,   21.30,6,   36.90,6,    0.00,6,    2.34,6,   0.215,2,   0.117,2,   0.033,2,  2249.8,2,  2304.4,2,  1389.2,2,      20,   7.4706,2,    25.00, -999.00,9,  -999.0,9,  -999.0,   43.71,2,   39.67,2,     33.537,2,-999.0000,9,-999.0000,9,-999.0000,9,-999.0000,9,-999.0000,9,-999.0000,9,-999.0000,9,-999.0000,9,-999.0000,9,     -999.0,5,  -999.0,9,     -999.0,     -999.0,9,     -999.0,20130922,       0740
33RO20130803,       A16N,     110,          1,         13,         13,2,20130922,       0608,     8.5007,   -27.7505,       4955,   798.0,   5.8496,  34.6691,2,  34.6681,2,    106.8,2,   107.3,2,   26.00,6,   36.10,6,    0.00,6,    2.36,6,-999.000,9,-999.000,9,-999.000,9,  2239.3,2,  2305.2,2,  -999.0,9, -999.00,   7.4975,3,    25.00, -999.00,9,  -999.0,9,  -999.0,   43.13,2,   38.65,2,     -999.0,9,-999.0000,9,-999.0000,9,-999.0000,9,-999.0000,9,-999.0000,9,-999.0000,9,-999.0000,9,-999.0000,9,-999.0000,9,     -999.0,9,  -999.0,9,     -999.0,     -999.0,9,     -999.0,20130922,       0735
33RO20130803,       A16N,     110,          1,         12,         12,2,20130922,       0608,     8.5007,   -27.7505,       4955,   946.5,   5.2154,  34.6862,2,  34.6865,2,    129.2,2,   129.4,2,   27.60,6,   34.10,6,    0.00,6,    2.27,6,   0.034,2,   0.022,2,   0.000,2,  2234.8,2,  2310.2,2,  1192.1,2,      20,   7.5352,2,    25.00, -999.00,9,  -999.0,9,  -999.0,   42.95,2,   37.05,2,     25.145,2,-999.0000,9,-999.0000,9,-999.0000,9,-999.0000,9,-999.0000,9,-999.0000,9,-999.0000,9,-999.0000,9,-999.0000,9,     -999.0,5,  -999.0,9,     -999.0,     -999.0,9,     -999.0,20130922,       0730
33RO20130803,       A16N,     110,          1,         11,         11,2,20130922,       0608,     8.5007,   -27.7505,       4955,  1097.0,   4.9546,  34.7816,2,  34.7808,2,    153.4,2,   154.2,2,   26.00,6,   30.90,6,    0.00,6,    2.06,6,-999.000,9,-999.000,9,-999.000,9,  2223.5,2,  2311.3,2,  1052.3,2,      20,   7.5834,2,    25.00, -999.00,9,  -999.0,9,  -999.0,   42.47,2,   33.67,2,     -999.0,9,-999.0000,9,-999.0000,9,-999.0000,9,-999.0000,9,-999.0000,9,-999.0000,9,-999.0000,9,-999.0000,9,-999.0000,9,     -999.0,9,  -999.0,9,     -999.0,     -999.0,9,     -999.0,20130922,       0727
33RO20130803,       A16N,     110,          1,         10,         10,2,20130922,       0608,     8.5007,   -27.7505,       4955,  1346.8,   4.6837,  34.9203,2,  34.9202,2,    193.3,2,   193.1,2,   21.40,6,   25.50,6,    0.00,6,    1.68,6,   0.141,2,   0.074,2,   0.000,2,  -999.0,9,  -999.0,9,  -999.0,9, -999.00,-999.0000,9,  -999.00, -999.00,9,  -999.0,9,  -999.0,   41.79,2,   28.21,2,     18.023,2,-999.0000,9,-999.0000,9,-999.0000,9,-999.0000,9,-999.0000,9,-999.0000,9,-999.0000,9,-999.0000,9,-999.0000,9,     -999.0,5,  -999.0,9,     -999.0,     -999.0,9,     -999.0,20130922,       0721
33RO20130803,       A16N,     110,          1,          9,          9,2,20130922,       0608,     8.5007,   -27.7505,       4955,  1647.4,   4.1259,  34.9732,2,  34.9736,2,    231.4,2,   231.3,2,   18.30,2,   21.30,2,    0.00,2,    1.40,2,-999.000,9,-999.000,9,-999.000,9,  2179.7,2,  2317.8,2,   779.6,2,      20,   7.7075,2,    25.00, -999.00,9,  -999.0,9,  -999.0,   41.36,2,   23.96,2,     -999.0,9,-999.0000,9,-999.0000,9,-999.0000,9,-999.0000,9,-999.0000,9,-999.0000,9,-999.0000,9,-999.0000,9,-999.0000,9,     -999.0,9,  -999.0,9,     -999.0,     -999.0,9,     -999.0,20130922,       0715
33RO20130803,       A16N,     110,          1,          8,          8,2,20130922,       0608,     8.5007,   -27.7505,       4955,  2047.9,   3.5273,  34.9603,2,  34.9604,2,    241.9,2,   241.9,2,   21.90,2,   20.70,2,    0.00,2,    1.37,2,   0.046,2,   0.025,2,   0.000,2,  -999.0,9,  -999.0,9,  -999.0,9, -999.00,-999.0000,9,  -999.00, -999.00,9,  -999.0,9,  -999.0,   40.59,2,   23.17,2,     13.930,2,-999.0000,9,-999.0000,9,-999.0000,9,-999.0000,9,-999.0000,9,-999.0000,9,-999.0000,9,-999.0000,9,-999.0000,9,     -999.0,5,  -999.0,9,     -999.0,     -999.0,9,     -999.0,20130922,       0707
33RO20130803,       A16N,     110,          1,          7,          7,2,20130922,       0608,     8.5007,   -27.7505,       4955,  2443.8,   3.1162,  34.9463,2,  34.9472,2,    247.4,2,   248.1,2,   26.10,2,   20.40,2,    0.00,2,    1.35,2,-999.000,9,-999.000,9,-999.000,9,  2176.4,2,  2324.4,2,  -999.0,9, -999.00,   7.7285,3,    25.00, -999.00,9,  -999.0,9,  -999.0,   40.51,2,    23.2,2,     -999.0,9,-999.0000,9,-999.0000,9,-999.0000,9,-999.0000,9,-999.0000,9,-999.0000,9,-999.0000,9,-999.0000,9,-999.0000,9,     -999.0,9,  -999.0,9,     -999.0,     -999.0,9,     -999.0,20130922,       0659
33RO20130803,       A16N,     110,          1,          6,          6,2,20130922,       0608,     8.5007,   -27.7505,       4955,  2840.4,   2.8373,  34.9292,2,  34.9289,2,    249.6,2,   249.4,2,   30.60,2,   20.70,2,    0.00,2,    1.37,2,   0.020,2,   0.013,2,   0.000,2,  -999.0,9,  -999.0,9,  -999.0,9, -999.00,-999.0000,9,  -999.00, -999.00,9,  -999.0,9,  -999.0,   41.06,2,   23.26,2,     13.405,2,-999.0000,9,-999.0000,9,-999.0000,9,-999.0000,9,-999.0000,9,-999.0000,9,-999.0000,9,-999.0000,9,-999.0000,9,     -999.0,5,  -999.0,9,     -999.0,     -999.0,9,     -999.0,20130922,       0651
33RO20130803,       A16N,     110,          1,          5,          5,2,20130922,       0608,     8.5007,   -27.7505,       4955,  3248.0,   2.6429,  34.9140,2,  34.9134,2,    248.3,2,   246.6,2,   35.10,2,   21.20,2,    0.00,2,    1.41,2,-999.000,9,-999.000,9,-999.000,9,  2184.5,2,  2333.0,2,   749.4,2,      20,   7.7316,3,    25.00, -999.00,9,  -999.0,9,  -999.0,   40.67,2,   23.85,2,     -999.0,9,-999.0000,9,-999.0000,9,-999.0000,9,-999.0000,9,-999.0000,9,-999.0000,9,-999.0000,9,-999.0000,9,-999.0000,9,     -999.0,9,  -999.0,9,     -999.0,     -999.0,9,     -999.0,20130922,       0643
33RO20130803,       A16N,     110,          1,          4,          4,2,20130922,       0608,     8.5007,   -27.7505,       4955,  3643.0,   2.4807,  34.9002,2,  34.8994,2,    247.7,2,   248.2,2,   39.30,2,   21.50,2,    0.00,2,    1.43,2,   0.017,2,   0.012,2,   0.000,2,  -999.0,9,  -999.0,9,  -999.0,9, -999.00,-999.0000,9,  -999.00, -999.00,9,  -999.0,9,  -999.0,   40.07,2,   24.09,2,     13.585,2,-999.0000,9,-999.0000,9,-999.0000,9,-999.0000,9,-999.0000,9,-999.0000,9,-999.0000,9,-999.0000,9,-999.0000,9,     -999.0,5,  -999.0,9,     -999.0,     -999.0,9,     -999.0,20130922,       0636
33RO20130803,       A16N,     110,          1,          3,          3,2,20130922,       0608,     8.5007,   -27.7505,       4955,  4047.1,   2.3688,  34.8894,2,  34.8897,2,    250.9,2,   250.1,2,   41.50,2,   21.50,2,    0.00,2,    1.44,2,-999.000,9,-999.000,9,-999.000,9,  2189.8,2,  2339.8,6,  -999.0,9, -999.00,   7.7602,3,    25.00, -999.00,9,  -999.0,9,  -999.0,   40.24,2,   24.03,2,     -999.0,9,-999.0000,9,-999.0000,9,-999.0000,9,-999.0000,9,-999.0000,9,-999.0000,9,-999.0000,9,-999.0000,9,-999.0000,9,     -999.0,9,  -999.0,9,     -999.0,     -999.0,9,     -999.0,20130922,       0628
33RO20130803,       A16N,     110,          1,          2,          2,2,20130922,       0608,     8.5007,   -27.7505,       4955,  4447.4,   2.2954,  34.8792,2,  34.8788,2,    246.6,2,     247,2,   45.70,2,   22.00,2,    0.00,2,    1.47,2,   0.073,6,   0.040,6,   0.000,6,  -999.0,9,  -999.0,9,  -999.0,9, -999.00,-999.0000,9,  -999.00, -999.00,9,  -999.0,9,  -999.0,   40.45,2,   24.53,2,     13.815,6,-999.0000,9,-999.0000,9,-999.0000,9,-999.0000,9,-999.0000,9,-999.0000,9,-999.0000,9,-999.0000,9,-999.0000,9,     -999.0,5,  -999.0,9,     -999.0,     -999.0,9,     -999.0,20130922,       0620
33RO20130803,       A16N,     110,          1,          1,          1,2,20130922,       0608,     8.5007,   -27.7505,       4955,  5001.4,   2.3132,  34.8746,2,  34.8751,2,    243.8,2,   243.1,2,   49.00,2,   22.70,2,    0.00,2,    1.51,2,-999.000,5,-999.000,5,-999.000,5,  2205.1,6,  2356.4,2,   755.1,2,      20,   7.8048,4,    25.00, -999.00,9,  -999.0,9,  -999.0,   40.31,2,   25.26,2,     -999.0,5,-999.0000,9,-999.0000,9,-999.0000,9,-999.0000,9,-999.0000,9,-999.0000,9,-999.0000,9,-999.0000,9,-999.0000,9,     -999.0,5,  -999.0,9,     -999.0,     -999.0,9,     -999.0,20130922,       0608