BOTTLE,20220815CCHSIOAMB
EXPOCODE,SECT_ID,STNNBR,CASTNO,SAMPNO,BTLNBR,BTLNBR_FLAG_W,DATE,TIME,LATITUDE,LONGITUDE,DEPTH,CTDPRS,CTDTMP,CTDSAL,CTDSAL_FLAG_W,SALNTY,SALNTY_FLAG_W,CTDOXY,CTDOXY_FLAG_W,OXYGEN,OXYGEN_FLAG_W,SILCAT,SILCAT_FLAG_W,NITRAT,NITRAT_FLAG_W,NITRIT,NITRIT_FLAG_W,PHSPHT,PHSPHT_FLAG_W,CFC-11,CFC-11_FLAG_W,CFC-12,CFC-12_FLAG_W,SF6,SF6_FLAG_W,TCARBN,TCARBN_FLAG_W,ALKALI,ALKALI_FLAG_W,PCO2,PCO2_FLAG_W,PCO2TMP,PH_SWS,PH_SWS_FLAG_W,PH_TMP,DELC13,DELC13_FLAG_W,DELC14,DELC14_FLAG_W,C14ERR,DOC,DOC_FLAG_W,TDN,TDN_FLAG_W,N2O,N2O_FLAG_W,CDOM325,CDOM325_FLAG_W,CDOM340,CDOM340_FLAG_W,CDOM380,CDOM380_FLAG_W,CDOM412,CDOM412_FLAG_W,CDOM443,CDOM443_FLAG_W,CDOM490,CDOM490_FLAG_W,CDOM555,CDOM555_FLAG_W,CDOMSL,CDOMSL_FLAG_W,CDOMSN,CDOMSN_FLAG_W,CCL4,CCL4_FLAG_W,14C-DOC,14C-DOC_FLAG_W,14C-DOCERR,13C-DOC,13C-DOC_FLAG_W,13C-DOCERR,BTL_DATE,BTL_TIME
,,,,,,,,,,,METERS,DBAR,ITS-90,PSS-78,,PSS-78,,UMOL/KG,,UMOL/KG,,UMOL/KG,,UMOL/KG,,UMOL/KG,,UMOL/KG,,PMOL/KG,,PMOL/KG,,FMOL/KG,,UMOL/KG,,UMOL/KG,,UATM,,DEG C,,,DEG C,/MILLE,,/MILLE,,/MILLE,UMOL/KG,,UMOL/KG,,NMOL/KG,,1/M,,1/M,,1/M,,1/M,,1/M,,1/M,,1/M,,1/NM,,1/NM,,PMOL/KG,,/MILLE,,/MILLE,/MILLE,,/MILLE,,
33RO20130803,       A16N,      41,          1,         24,         24,2,20130813,       0910,    44.9997,   -20.0005,       4319,     2.6,  20.6549,  35.7152,2,  35.7187,2,    230.4,2,     231,2,    0.30,2,    0.00,2,    0.00,2,    0.04,2,   2.237,2,   1.363,2,   1.554,2,  2067.9,6,  2353.4,2,   373.2,2,      20,   7.9889,2,    25.00,    1.27,2,    52.6,2,     0.3, -999.00,9, -999.00,9,      7.545,2,   0.2653,2,   0.1877,2,   0.0784,2,   0.0498,2,   0.0274,2,   0.0174,2,   0.0026,2,   0.0214,2,   0.0226,2,     -999.0,5,  -999.0,9,     -999.0,     -999.0,9,     -999.0,20130813,       1056
33RO20130803,       A16N,      41,          1,         23,         23,2,20130813,       0910,    44.9997,   -20.0005,       4319,    29.5,  18.1072,  35.7296,2,  35.7298,2,    235.3,2,   237.6,2,    0.30,2,    0.00,2,    0.00,2,    0.05,2,   2.423,6,   1.462,6,   1.663,6,  2076.9,2,  2354.1,2,   389.2,2,      20,   7.9769,2,    25.00,    1.15,2,    55.8,2,     0.2, -999.00,9, -999.00,9,      8.014,6,   0.2880,2,   0.2089,2,   0.0932,2,   0.0609,2,   0.0344,2,   0.0207,2,   0.0043,2,   0.0198,2,   0.0208,2,     -999.0,5,  -999.0,9,     -999.0,     -999.0,9,     -999.0,20130813,       1054
33RO20130803,       A16N,      41,          1,         22,         22,2,20130813,       0910,    44.9997,   -20.0005,       4319,    61.2,  14.0006,  35.6955,2,  35.6969,2,    240.7,2,   241.7,2,    0.80,2,    3.10,2,    0.90,2,    0.31,2,   2.860,2,   1.697,2,   1.857,2,  2115.3,2,  2348.7,6,   483.3,2,      20,   7.8570,3,    25.00,    0.77,2,    57.2,2,     0.4, -999.00,9, -999.00,9,      9.770,2,   0.1648,2,   0.1196,2,   0.0507,2,   0.0356,2,   0.0167,2,   0.0099,3,  -0.0008,4,   0.0208,2,   0.0217,2,     -999.0,5,  -999.0,9,     -999.0,     -999.0,9,     -999.0,20130813,       1051
33RO20130803,       A16N,      41,          1,         21,         21,2,20130813,       0910,    44.9997,   -20.0005,       4319,    85.2,  13.0885,  35.6943,2,  35.6931,2,    238.8,2,   237.5,2,    2.50,2,    7.30,2,    0.02,2,    0.47,2,   2.874,2,   1.695,2,   1.830,2,  2127.6,2,  2346.0,2,   523.2,2,      20,   7.8647,2,    25.00,    0.60,2,    65.0,2,     0.3, -999.00,9, -999.00,9,      9.855,2,   0.1286,2,   0.0886,2,   0.0369,2,   0.0280,2,   0.0124,2,   0.0078,3,  -0.0019,4,   0.0213,2,   0.0236,2,     -999.0,5,  -999.0,9,     -999.0,     -999.0,9,     -999.0,20130813,       1049
33RO20130803,       A16N,      41,          1,         20,         20,2,20130813,       0910,    44.9997,   -20.0005,       4319,   111.6,  12.8828,  35.6770,2,  35.6779,2,    239.4,2,   240.6,2,    2.60,2,    7.20,2,    0.01,2,    0.46,2,   2.904,2,   1.711,2,   1.840,2,  2128.3,2,  2345.9,2,   525.4,2,      20,   7.8639,2,    25.00,   -0.21,4,    28.8,3,     1.6, -999.00,9, -999.00,9,      9.757,2,   0.1305,2,   0.0901,2,   0.0379,2,   0.0286,2,   0.0128,2,   0.0081,3,  -0.0019,4,   0.0211,2,   0.0234,2,     -999.0,5,  -999.0,9,     -999.0,     -999.0,9,     -999.0,20130813,       1047
33RO20130803,       A16N,      41,          1,         19,         19,2,20130813,       0910,    44.9997,   -20.0005,       4319,   137.1,  12.8840,  35.6810,2,  35.6822,2,    241.7,2,   227.5,4,    2.60,2,    7.10,2,    0.01,2,    0.46,2,   2.894,2,   1.715,2,   1.883,2,  2128.5,2,  2345.3,2,   523.7,2,      20,   7.8636,2,    25.00,    0.51,2,    60.5,2,     0.2, -999.00,9, -999.00,9,      9.606,2,   0.1287,2,   0.0886,2,   0.0357,2,   0.0274,2,   0.0125,2,   0.0082,3,  -0.0016,4,   0.0219,2,   0.0241,2,     -999.0,5,  -999.0,9,     -999.0,     -999.0,9,     -999.0,20130813,       1045
33RO20130803,       A16N,      41,          1,         18,         18,2,20130813,       0910,    44.9997,   -20.0005,       4319,   199.4,  12.7972,  35.6692,2,  35.6690,2,    241.9,2,   242.1,2,    2.70,2,    7.20,2,    0.01,2,    0.47,2,   2.909,2,   1.712,2,   1.832,2,  2127.4,2,  2343.9,2,   524.6,2,      20,   7.8611,2,    25.00,    0.57,2,    53.2,2,     0.2, -999.00,9, -999.00,9,      9.715,2,   0.1448,2,   0.1035,2,   0.0458,2,   0.0328,2,   0.0148,2,   0.0090,3,  -0.0019,4,   0.0200,2,   0.0214,2,     -999.0,5,  -999.0,9,     -999.0,     -999.0,9,     -999.0,20130813,       1042
33RO20130803,       A16N,      41,          1,         17,         17,2,20130813,       0910,    44.9997,   -20.0005,       4319,   284.7,  12.3642,  35.6272,2,  35.6277,2,    241.2,2,   237.8,2,    3.10,2,    8.40,2,    0.01,2,    0.55,2,   2.952,2,   1.728,2,   1.796,2,  2134.8,2,  2341.5,2,   550.7,2,      20,   7.8489,2,    25.00,    0.55,2,    58.3,2,     0.3, -999.00,9, -999.00,9,     10.468,2,   0.1359,2,   0.0936,2,   0.0390,2,   0.0296,2,   0.0138,2,   0.0089,3,  -0.0011,4,   0.0212,2,   0.0235,2,     -999.0,5,  -999.0,9,     -999.0,     -999.0,9,     -999.0,20130813,       1039
33RO20130803,       A16N,      41,          1,         16,         16,2,20130813,       0910,    44.9997,   -20.0005,       4319,   359.7,  12.1395,  35.6267,2,  35.6269,2,    230.5,2,   236.1,2,    3.20,2,    9.10,2,    0.01,2,    0.58,2,   2.986,2,   1.748,2,   1.775,2,  2138.9,2,  2345.0,6,   564.1,2,      20,   7.8372,2,    25.00,    0.68,2,    46.9,2,     0.3, -999.00,9, -999.00,9,     10.810,2,   0.1349,2,   0.0930,2,   0.0389,2,   0.0287,2,   0.0129,2,   0.0079,3,  -0.0020,4,   0.0213,2,   0.0234,2,     -999.0,5,  -999.0,9,     -999.0,     -999.0,9,     -999.0,20130813,       1036
33RO20130803,       A16N,      41,          1,         15,         15,2,20130813,       0910,    44.9997,   -20.0005,       4319,   436.5,  11.9356,  35.6189,2,  35.6188,2,    226.1,2,   229.3,2,    3.70,2,   10.30,2,    0.01,2,    0.65,2,   2.971,2,   1.734,2,   1.707,2,  2143.4,2,  2342.0,2,   588.2,2,      20,   7.8215,6,    25.00,    0.61,2,    51.1,2,     0.2, -999.00,9, -999.00,9,     11.414,2,   0.1325,2,   0.0907,2,   0.0379,2,   0.0281,2,   0.0126,2,   0.0079,3,  -0.0018,4,   0.0214,2,   0.0237,2,     -999.0,5,  -999.0,9,     -999.0,     -999.0,9,     -999.0,20130813,       1033
33RO20130803,       A16N,      41,          1,         14,         14,2,20130813,       0910,    44.9997,   -20.0005,       4319,   544.8,  11.5087,  35.5875,2,  35.5891,2,    226.8,2,   224.8,2,    4.20,2,   11.50,2,    0.00,2,    0.72,2,   2.986,2,   1.726,2,   1.559,2,  2150.8,2,  2339.4,2,   614.2,2,      20,   7.8040,2,    25.00,    0.65,2,    47.6,2,     0.3, -999.00,9, -999.00,9,     12.009,2,   0.1489,2,   0.1039,2,   0.0480,2,   0.0364,2,   0.0222,2,   0.0154,2,   0.0050,2,   0.0192,2,   0.0214,2,     -999.0,5,  -999.0,9,     -999.0,     -999.0,9,     -999.0,20130813,       1030
33RO20130803,       A16N,      41,          1,         13,         13,2,20130813,       0910,    44.9997,   -20.0005,       4319,   721.8,  10.5383,  35.4865,2,  35.4872,2,    197.2,2,   197.3,2,    7.30,2,   15.70,2,    0.00,2,    1.00,2,   2.591,2,   1.442,2,   1.058,2,  2168.7,2,  2336.3,2,   692.6,2,      20,   7.7559,2,    25.00,    0.62,2,    28.9,2,     0.2, -999.00,9, -999.00,9,     14.536,2,   0.1406,2,   0.0955,2,   0.0426,2,   0.0324,2,   0.0193,2,   0.0131,2,   0.0036,2,   0.0202,2,   0.0227,2,     -999.0,5,  -999.0,9,     -999.0,     -999.0,9,     -999.0,20130813,       1026
33RO20130803,       A16N,      41,          1,         12,         12,2,20130813,       0910,    44.9997,   -20.0005,       4319,   878.0,   9.6494,  35.5069,2,  35.5074,2,    184.6,2,   185.2,2,    9.50,2,   17.70,2,    0.01,2,    1.14,2,   2.226,2,   1.197,2,   0.742,2,  2183.3,6,  2342.4,2,   737.6,2,      20,   7.7335,2,    25.00,    0.66,2,    11.6,2,     0.2, -999.00,9, -999.00,9,     15.586,2,   0.1321,2,   0.0895,2,   0.0390,2,   0.0283,2,   0.0159,2,   0.0106,2,   0.0019,3,   0.0209,2,   0.0233,2,     -999.0,5,  -999.0,9,     -999.0,     -999.0,9,     -999.0,20130813,       1022
33RO20130803,       A16N,      41,          1,         11,         11,2,20130813,       0910,    44.9997,   -20.0005,       4319,  1015.6,   7.2015,  35.1708,2,  35.1736,2,    203.3,2,   189.3,2,   11.10,2,   18.90,2,    0.01,2,    1.24,2,   2.538,2,   1.354,2,   0.915,2,  2180.8,2,  2322.6,2,   805.0,2,      20,   7.6975,2,    25.00,    0.71,2,    -2.0,2,     0.2, -999.00,9, -999.00,9,     15.957,2,   0.1461,2,   0.1003,2,   0.0457,2,   0.0330,2,   0.0190,2,   0.0125,2,   0.0029,3,   0.0199,2,   0.0221,2,     -999.0,5,  -999.0,9,     -999.0,     -999.0,9,     -999.0,20130813,       1018
33RO20130803,       A16N,      41,          1,         10,         10,2,20130813,       0910,    44.9997,   -20.0005,       4319,  1141.6,   7.0014,  35.2869,2,  35.2857,2,    212.9,2,   213.9,2,   10.90,2,   18.20,2,    0.01,2,    1.19,2,   2.570,2,   1.351,2,   0.839,2,  2181.2,2,  2330.8,2,   775.9,2,      20,   7.7132,2,    25.00,    0.77,2,    -4.6,2,     0.2, -999.00,9, -999.00,9,     14.990,2,   0.1413,2,   0.0968,2,   0.0418,2,   0.0307,2,   0.0174,2,   0.0115,2,   0.0024,3,   0.0209,2,   0.0230,2,     -999.0,5,  -999.0,9,     -999.0,     -999.0,9,     -999.0,20130813,       1015
33RO20130803,       A16N,      41,          1,          9,          9,2,20130813,       0910,    44.9997,   -20.0005,       4319,  1352.1,   5.5580,  35.1330,2,  35.1329,2,    240.0,2,   239.1,2,   10.90,2,   17.80,2,    0.00,2,    1.17,2,   3.028,2,   1.578,2,   0.945,2,  2174.1,2,  2320.9,2,   780.3,2,      20,   7.7098,2,    25.00,    0.76,2,    -3.3,2,     0.2, -999.00,9, -999.00,9,     14.353,2,   0.1362,2,   0.0925,2,   0.0406,2,   0.0298,2,   0.0167,2,   0.0110,2,   0.0019,3,   0.0206,2,   0.0231,2,     -999.0,5,  -999.0,9,     -999.0,     -999.0,9,     -999.0,20130813,       1009
33RO20130803,       A16N,      41,          1,          8,          8,2,20130813,       0910,    44.9997,   -20.0005,       4319,  1663.6,   4.0283,  34.9308,2,  34.9294,2,    268.0,2,     268,2,   10.70,2,   17.20,2,    0.01,2,    1.16,2,   3.609,2,   1.873,2,   1.070,2,  2162.7,2,  2307.0,2,   787.6,2,      20,   7.7007,2,    25.00,    0.83,2,    -1.5,2,     0.2, -999.00,9, -999.00,9,     13.690,2,   0.1527,2,   0.1061,2,   0.0473,2,   0.0346,2,   0.0201,2,   0.0131,2,   0.0031,3,   0.0201,2,   0.0220,2,     -999.0,5,  -999.0,9,     -999.0,     -999.0,9,     -999.0,20130813,       1003
33RO20130803,       A16N,      41,          1,          7,          7,2,20130813,       0910,    44.9997,   -20.0005,       4319,  2104.2,   3.6285,  34.9267,2,  34.9264,2,    268.8,2,   271.3,2,   12.30,6,   17.40,6,    0.00,6,    1.17,6,   2.893,2,   1.415,2,   0.627,2,  2160.0,2,  2312.4,2,   770.5,2,      20,   7.7138,2,    25.00,    0.94,2,   -13.5,2,     0.2, -999.00,9, -999.00,9,     13.362,2,   0.1362,2,   0.0927,2,   0.0400,2,   0.0285,2,   0.0154,2,   0.0100,2,   0.0012,3,   0.0211,2,   0.0233,2,     -999.0,5,  -999.0,9,     -999.0,     -999.0,9,     -999.0,20130813,       0954
33RO20130803,       A16N,      41,          1,          6,          6,2,20130813,       0910,    44.9997,   -20.0005,       4319,  2526.7,   3.2426,  34.9269,2,  34.9254,2,    268.7,2,   269.5,2,   15.30,6,   17.30,6,    0.00,6,    1.18,6,   2.296,2,   1.118,2,   0.461,2,  2161.6,2,  2311.0,6,   759.3,2,      20,   7.7209,2,    25.00,    1.02,2,   -24.7,2,     0.2, -999.00,9, -999.00,9,     13.128,2,   0.1433,2,   0.0984,2,   0.0430,2,   0.0320,2,   0.0181,2,   0.0121,2,   0.0022,3,   0.0205,2,   0.0227,2,     -999.0,5,  -999.0,9,     -999.0,     -999.0,9,     -999.0,20130813,       0946
33RO20130803,       A16N,      41,          1,          5,          5,2,20130813,       0910,    44.9997,   -20.0005,       4319,  2943.7,   2.9809,  34.9424,2,  34.9414,2,    258.3,2,     260,2,   22.90,6,   18.30,6,    0.00,6,    1.25,6,   1.413,2,   0.696,2,   0.290,2,  2171.3,2,  2323.0,2,   757.4,2,      20,   7.7210,6,    25.00,    0.96,2,   -53.5,2,     0.3, -999.00,9, -999.00,9,     13.227,2,   0.1445,2,   0.0991,2,   0.0439,2,   0.0313,2,   0.0172,2,   0.0111,2,   0.0013,3,   0.0205,2,   0.0226,2,     -999.0,5,  -999.0,9,     -999.0,     -999.0,9,     -999.0,20130813,       0938
33RO20130803,       A16N,      41,          1,          4,          4,2,20130813,       0910,    44.9997,   -20.0005,       4319,  3355.6,   2.7427,  34.9336,2,  34.9326,2,    249.0,2,     250,2,   32.20,6,   19.80,6,    0.00,6,    1.36,6,   0.767,2,   0.382,2,   0.203,2,  2184.8,2,  2337.9,2,   760.9,2,      20,   7.7216,2,    25.00,    0.96,2,   -83.5,2,     0.2, -999.00,9, -999.00,9,     13.306,2,   0.1341,2,   0.0910,2,   0.0390,2,   0.0277,2,   0.0145,2,   0.0091,3,   0.0002,4,   0.0213,2,   0.0235,2,     -999.0,5,  -999.0,9,     -999.0,     -999.0,9,     -999.0,20130813,       0930
33RO20130803,       A16N,      41,          1,          3,          3,2,20130813,       0910,    44.9997,   -20.0005,       4319,  3720.0,   2.6258,  34.9212,2,  34.9193,2,    243.6,2,   244.3,2,   38.60,2,   21.00,2,    0.00,2,    1.44,2,   0.376,6,   0.189,6,   0.123,6,  2194.5,2,  2347.4,2,   762.0,2,      20,   7.7227,2,    25.00,    0.96,2,  -101.5,2,     0.2, -999.00,9, -999.00,9,     13.484,6,   0.1384,2,   0.0935,2,   0.0403,2,   0.0287,2,   0.0152,2,   0.0096,2,   0.0002,4,   0.0212,2,   0.0235,2,     -999.0,5,  -999.0,9,     -999.0,     -999.0,9,     -999.0,20130813,       0923
33RO20130803,       A16N,      41,          1,          2,          2,2,20130813,       0910,    44.9997,   -20.0005,       4319,  4097.0,   2.5806,  34.9132,2,  34.9124,2,    240.2,2,   240.5,2,   42.10,2,   21.80,2,    0.00,2,    1.48,2,   0.175,2,   0.091,2,   0.080,2,  2200.1,2,  2349.7,2,   760.7,2,      20,   7.7249,2,    25.00,    0.93,2,  -110.0,2,     0.2, -999.00,9, -999.00,9,     13.523,2,   0.1354,2,   0.0921,2,   0.0398,2,   0.0278,2,   0.0146,2,   0.0092,3,  -0.0001,4,   0.0212,2,   0.0233,2,     -999.0,5,  -999.0,9,     -999.0,     -999.0,9,     -999.0,20130813,       0916
33RO20130803,       A16N,      41,          1,          1,          1,2,20130813,       0910,    44.9997,   -20.0005,       4319,  4382.0,   2.5841,  34.9099,2,  34.9091,2,    239.6,2,   238.9,2,   43.30,2,   22.00,2,    0.00,2,    1.50,2,   0.116,2,   0.060,2,   0.066,2,  2201.2,6,  2355.7,2,   758.4,2,      20,   7.7409,3,    25.00,    0.95,2,  -113.7,2,     0.2, -999.00,9, -999.00,9,     13.566,2,   0.1332,2,   0.0895,2,   0.0377,2,   0.0270,2,   0.0138,2,   0.0086,3,  -0.0008,4,   0.0216,2,   0.0241,2,     -999.0,5,  -999.0,9,     -999.0,     -999.0,9,     -999.0,20130813,       0910