BOTTLE,20220815CCHSIOAMB
EXPOCODE,SECT_ID,STNNBR,CASTNO,SAMPNO,BTLNBR,BTLNBR_FLAG_W,DATE,TIME,LATITUDE,LONGITUDE,DEPTH,CTDPRS,CTDTMP,CTDSAL,CTDSAL_FLAG_W,SALNTY,SALNTY_FLAG_W,CTDOXY,CTDOXY_FLAG_W,OXYGEN,OXYGEN_FLAG_W,SILCAT,SILCAT_FLAG_W,NITRAT,NITRAT_FLAG_W,NITRIT,NITRIT_FLAG_W,PHSPHT,PHSPHT_FLAG_W,CFC-11,CFC-11_FLAG_W,CFC-12,CFC-12_FLAG_W,SF6,SF6_FLAG_W,TCARBN,TCARBN_FLAG_W,ALKALI,ALKALI_FLAG_W,PCO2,PCO2_FLAG_W,PCO2TMP,PH_SWS,PH_SWS_FLAG_W,PH_TMP,DELC13,DELC13_FLAG_W,DELC14,DELC14_FLAG_W,C14ERR,DOC,DOC_FLAG_W,TDN,TDN_FLAG_W,N2O,N2O_FLAG_W,CDOM325,CDOM325_FLAG_W,CDOM340,CDOM340_FLAG_W,CDOM380,CDOM380_FLAG_W,CDOM412,CDOM412_FLAG_W,CDOM443,CDOM443_FLAG_W,CDOM490,CDOM490_FLAG_W,CDOM555,CDOM555_FLAG_W,CDOMSL,CDOMSL_FLAG_W,CDOMSN,CDOMSN_FLAG_W,CCL4,CCL4_FLAG_W,14C-DOC,14C-DOC_FLAG_W,14C-DOCERR,13C-DOC,13C-DOC_FLAG_W,13C-DOCERR,BTL_DATE,BTL_TIME
,,,,,,,,,,,METERS,DBAR,ITS-90,PSS-78,,PSS-78,,UMOL/KG,,UMOL/KG,,UMOL/KG,,UMOL/KG,,UMOL/KG,,UMOL/KG,,PMOL/KG,,PMOL/KG,,FMOL/KG,,UMOL/KG,,UMOL/KG,,UATM,,DEG C,,,DEG C,/MILLE,,/MILLE,,/MILLE,UMOL/KG,,UMOL/KG,,NMOL/KG,,1/M,,1/M,,1/M,,1/M,,1/M,,1/M,,1/M,,1/NM,,1/NM,,PMOL/KG,,/MILLE,,/MILLE,/MILLE,,/MILLE,,
33RO20130803,       A16N,      37,          1,         24,         24,2,20130812,       0548,    46.9985,   -19.9929,       4544,     3.0,  19.0736,  35.7341,2,  35.7370,2,    226.9,2,   234.6,2,    0.30,2,    0.00,2,    0.01,2,    0.05,2,   2.272,2,   1.390,2,   1.612,2,  2071.8,6,  2347.6,2,   376.7,2,      20,   7.9905,2,    25.00, -999.00,9,  -999.0,9,  -999.0, -999.00,9, -999.00,9,      7.683,2,-999.0000,9,-999.0000,9,-999.0000,9,-999.0000,9,-999.0000,9,-999.0000,9,-999.0000,9,-999.0000,9,-999.0000,9,     -999.0,5,  -999.0,9,     -999.0,     -999.0,9,     -999.0,20130812,       0732
33RO20130803,       A16N,      37,          1,         23,         23,2,20130812,       0548,    46.9985,   -19.9929,       4544,    24.0,  17.2109,  35.7164,2,  35.7278,2,    242.6,2,   245.8,2,    0.20,2,    0.00,2,    0.01,2,    0.06,2,   2.479,2,   1.495,2,   1.684,2,  2074.3,2,  2352.0,2,   384.7,2,      20,   7.9865,2,    25.00, -999.00,9,  -999.0,9,  -999.0, -999.00,9, -999.00,9,      8.156,2,-999.0000,9,-999.0000,9,-999.0000,9,-999.0000,9,-999.0000,9,-999.0000,9,-999.0000,9,-999.0000,9,-999.0000,9,     -999.0,5,  -999.0,9,     -999.0,     -999.0,9,     -999.0,20130812,       0729
33RO20130803,       A16N,      37,          1,         22,         22,2,20130812,       0548,    46.9985,   -19.9929,       4544,    48.9,  14.0058,  35.6843,2,  35.6872,2,    242.1,2,   242.1,2,    0.80,2,    2.90,2,    0.89,2,    0.32,2,   2.852,2,   1.687,2,   1.898,2,  2116.6,2,  2346.6,2,   485.7,2,      20,   7.8943,2,    25.00, -999.00,9,  -999.0,9,  -999.0, -999.00,9, -999.00,9,      9.743,2,-999.0000,9,-999.0000,9,-999.0000,9,-999.0000,9,-999.0000,9,-999.0000,9,-999.0000,9,-999.0000,9,-999.0000,9,     -999.0,5,  -999.0,9,     -999.0,     -999.0,9,     -999.0,20130812,       0728
33RO20130803,       A16N,      37,          1,         21,         21,2,20130812,       0548,    46.9985,   -19.9929,       4544,    73.2,  13.0927,  35.6854,2,  35.6921,2,    237.5,2,   239.3,2,    1.80,2,    6.20,2,    0.03,2,    0.43,2,   2.909,2,   1.711,2,   1.887,2,  2128.4,2,  -999.0,5,   521.2,2,      20,   7.8683,2,    25.00, -999.00,9,  -999.0,9,  -999.0, -999.00,9, -999.00,9,      9.759,2,-999.0000,9,-999.0000,9,-999.0000,9,-999.0000,9,-999.0000,9,-999.0000,9,-999.0000,9,-999.0000,9,-999.0000,9,     -999.0,5,  -999.0,9,     -999.0,     -999.0,9,     -999.0,20130812,       0726
33RO20130803,       A16N,      37,          1,         20,         20,2,20130812,       0548,    46.9985,   -19.9929,       4544,    98.7,  12.8498,  35.6597,2,  35.6594,2,    238.7,2,     241,2,    2.20,2,    6.70,2,    0.02,2,    0.46,2,   2.935,2,   1.719,2,   1.913,2,  2128.7,2,  2345.8,2,   528.9,2,      20,   7.8596,2,    25.00, -999.00,9,  -999.0,9,  -999.0, -999.00,9, -999.00,9,      9.855,2,-999.0000,9,-999.0000,9,-999.0000,9,-999.0000,9,-999.0000,9,-999.0000,9,-999.0000,9,-999.0000,9,-999.0000,9,     -999.0,5,  -999.0,9,     -999.0,     -999.0,9,     -999.0,20130812,       0724
33RO20130803,       A16N,      37,          1,         19,         19,2,20130812,       0548,    46.9985,   -19.9929,       4544,   123.4,  12.7210,  35.6486,2,  35.6508,2,    239.9,2,   240.8,2,    2.40,2,    7.00,2,    0.02,2,    0.48,2,   2.936,2,   1.719,2,   1.876,2,  2130.4,2,  2341.6,2,   532.1,2,      20,   7.8591,2,    25.00, -999.00,9,  -999.0,9,  -999.0, -999.00,9, -999.00,9,     10.072,2,-999.0000,9,-999.0000,9,-999.0000,9,-999.0000,9,-999.0000,9,-999.0000,9,-999.0000,9,-999.0000,9,-999.0000,9,     -999.0,5,  -999.0,9,     -999.0,     -999.0,9,     -999.0,20130812,       0722
33RO20130803,       A16N,      37,          1,         18,         18,2,20130812,       0548,    46.9985,   -19.9929,       4544,   173.3,  12.5148,  35.6360,2,  35.6341,2,    238.3,2,   239.1,2,    2.70,2,    7.70,2,    0.02,2,    0.52,2,   2.944,2,   1.723,2,   1.845,2,  2133.0,2,  2339.8,2,   545.3,2,      20,   7.8491,2,    25.00, -999.00,9,  -999.0,9,  -999.0, -999.00,9, -999.00,9,     10.499,2,-999.0000,9,-999.0000,9,-999.0000,9,-999.0000,9,-999.0000,9,-999.0000,9,-999.0000,9,-999.0000,9,-999.0000,9,     -999.0,5,  -999.0,9,     -999.0,     -999.0,9,     -999.0,20130812,       0720
33RO20130803,       A16N,      37,          1,         17,         17,2,20130812,       0548,    46.9985,   -19.9929,       4544,   250.0,  12.2590,  35.6198,2,  35.6207,2,    233.1,2,   241.8,2,    2.70,2,    7.80,2,    0.01,2,    0.53,2,   2.974,2,   1.745,2,   1.847,2,  2133.8,2,  2340.7,6,   548.2,2,      20,   7.8487,2,    25.00, -999.00,9,  -999.0,9,  -999.0, -999.00,9, -999.00,9,     10.423,2,-999.0000,9,-999.0000,9,-999.0000,9,-999.0000,9,-999.0000,9,-999.0000,9,-999.0000,9,-999.0000,9,-999.0000,9,     -999.0,5,  -999.0,9,     -999.0,     -999.0,9,     -999.0,20130812,       0718
33RO20130803,       A16N,      37,          1,         16,         16,2,20130812,       0548,    46.9985,   -19.9929,       4544,   323.5,  12.0888,  35.6194,2,  35.6215,2,    236.9,2,   236.6,2,    3.10,2,    8.70,2,    0.01,2,    0.58,2,   2.972,2,   1.733,2,   1.784,2,  2138.0,2,  2344.3,2,   565.4,2,      20,   7.8343,2,    25.00, -999.00,9,  -999.0,9,  -999.0, -999.00,9, -999.00,9,     10.879,2,-999.0000,9,-999.0000,9,-999.0000,9,-999.0000,9,-999.0000,9,-999.0000,9,-999.0000,9,-999.0000,9,-999.0000,9,     -999.0,5,  -999.0,9,     -999.0,     -999.0,9,     -999.0,20130812,       0715
33RO20130803,       A16N,      37,          1,         15,         15,2,20130812,       0548,    46.9985,   -19.9929,       4544,   399.0,  11.8922,  35.6095,2,  35.6100,2,    227.7,2,     232,2,    3.50,2,    9.80,2,    0.01,2,    0.64,2,   2.983,2,   1.726,2,   1.684,2,  2144.6,2,  2339.1,2,   586.5,2,      20,   7.8224,6,    25.00, -999.00,9,  -999.0,9,  -999.0, -999.00,9, -999.00,9,     11.529,2,-999.0000,9,-999.0000,9,-999.0000,9,-999.0000,9,-999.0000,9,-999.0000,9,-999.0000,9,-999.0000,9,-999.0000,9,     -999.0,5,  -999.0,9,     -999.0,     -999.0,9,     -999.0,20130812,       0713
33RO20130803,       A16N,      37,          1,         14,         14,2,20130812,       0548,    46.9985,   -19.9929,       4544,   498.6,  11.5972,  35.5916,2,  35.5905,2,    229.3,2,   228.6,2,    3.80,2,   10.50,2,    0.01,2,    0.69,2,   2.994,2,   1.727,2,   1.659,2,  2148.1,2,  2336.7,2,   602.7,2,      20,   7.8112,2,    25.00, -999.00,9,  -999.0,9,  -999.0, -999.00,9, -999.00,9,     11.752,2,-999.0000,9,-999.0000,9,-999.0000,9,-999.0000,9,-999.0000,9,-999.0000,9,-999.0000,9,-999.0000,9,-999.0000,9,     -999.0,5,  -999.0,9,     -999.0,     -999.0,9,     -999.0,20130812,       0710
33RO20130803,       A16N,      37,          1,         13,         13,2,20130812,       0548,    46.9985,   -19.9929,       4544,   648.3,  11.1012,  35.5551,2,  35.5548,2,    216.6,2,   216.7,2,    5.00,2,   12.50,2,    0.01,2,    0.81,2,   2.895,2,   1.643,2,   1.399,2,  2157.9,2,  2337.1,2,   640.6,2,      20,   7.7867,2,    25.00, -999.00,9,  -999.0,9,  -999.0, -999.00,9, -999.00,9,     12.732,2,-999.0000,9,-999.0000,9,-999.0000,9,-999.0000,9,-999.0000,9,-999.0000,9,-999.0000,9,-999.0000,9,-999.0000,9,     -999.0,5,  -999.0,9,     -999.0,     -999.0,9,     -999.0,20130812,       0707
33RO20130803,       A16N,      37,          1,         12,         12,2,20130812,       0548,    46.9985,   -19.9929,       4544,   799.3,  10.2946,  35.5620,2,  35.5641,2,    185.1,2,     185,2,    8.40,2,   16.60,2,    0.01,2,    1.06,2,   2.306,2,   1.261,2,   0.823,2,  2180.6,6,  2341.0,2,   714.5,2,      20,   7.7479,2,    25.00, -999.00,9,  -999.0,9,  -999.0, -999.00,9, -999.00,9,     15.202,2,-999.0000,9,-999.0000,9,-999.0000,9,-999.0000,9,-999.0000,9,-999.0000,9,-999.0000,9,-999.0000,9,-999.0000,9,     -999.0,5,  -999.0,9,     -999.0,     -999.0,9,     -999.0,20130812,       0703
33RO20130803,       A16N,      37,          1,         11,         11,2,20130812,       0548,    46.9985,   -19.9929,       4544,   948.3,   9.6232,  35.6363,2,  35.6365,2,    184.8,2,   185.9,2,    9.50,2,   17.10,2,    0.01,2,    1.11,2,   2.081,2,   1.107,2,   0.634,2,  2190.0,2,  2354.6,2,   723.5,2,      20,   7.7415,2,    25.00, -999.00,9,  -999.0,9,  -999.0, -999.00,9, -999.00,9,     15.198,2,-999.0000,9,-999.0000,9,-999.0000,9,-999.0000,9,-999.0000,9,-999.0000,9,-999.0000,9,-999.0000,9,-999.0000,9,     -999.0,5,  -999.0,9,     -999.0,     -999.0,9,     -999.0,20130812,       0700
33RO20130803,       A16N,      37,          1,         10,         10,2,20130812,       0548,    46.9985,   -19.9929,       4544,  1099.0,   7.9301,  35.4556,2,  35.4581,2,    201.6,2,   203.9,2,   10.60,2,   17.50,2,    0.00,2,    1.14,2,   2.292,2,   1.200,2,   0.686,2,  2187.3,2,  2342.0,2,   750.6,2,      20,   7.7266,2,    25.00, -999.00,9,  -999.0,9,  -999.0, -999.00,9, -999.00,9,     14.974,2,-999.0000,9,-999.0000,9,-999.0000,9,-999.0000,9,-999.0000,9,-999.0000,9,-999.0000,9,-999.0000,9,-999.0000,9,     -999.0,5,  -999.0,9,     -999.0,     -999.0,9,     -999.0,20130812,       0656
33RO20130803,       A16N,      37,          1,          9,          9,2,20130812,       0548,    46.9985,   -19.9929,       4544,  1298.6,   5.1120,  35.0299,2,  35.0310,2,    247.1,2,   246.5,2,   10.50,2,   17.40,2,    0.00,2,    1.17,2,   3.300,2,   1.737,2,   1.113,2,  2171.4,2,  2311.1,2,   798.4,2,      20,   7.7014,2,    25.00, -999.00,9,  -999.0,9,  -999.0, -999.00,9, -999.00,9,     14.287,2,-999.0000,9,-999.0000,9,-999.0000,9,-999.0000,9,-999.0000,9,-999.0000,9,-999.0000,9,-999.0000,9,-999.0000,9,     -999.0,5,  -999.0,9,     -999.0,     -999.0,9,     -999.0,20130812,       0652
33RO20130803,       A16N,      37,          1,          8,          8,2,20130812,       0548,    46.9985,   -19.9929,       4544,  1598.8,   4.2753,  34.9615,2,  34.9606,2,    263.3,2,   262.8,2,   10.80,2,   17.00,2,    0.00,2,    1.15,2,   3.494,2,   1.806,2,   1.051,2,  2166.3,2,  2305.6,2,   787.6,2,      20,   7.7024,2,    25.00, -999.00,9,  -999.0,9,  -999.0, -999.00,9, -999.00,9,     13.827,2,-999.0000,9,-999.0000,9,-999.0000,9,-999.0000,9,-999.0000,9,-999.0000,9,-999.0000,9,-999.0000,9,-999.0000,9,     -999.0,5,  -999.0,9,     -999.0,     -999.0,9,     -999.0,20130812,       0646
33RO20130803,       A16N,      37,          1,          7,          7,2,20130812,       0548,    46.9985,   -19.9929,       4544,  1998.7,   3.6855,  34.9245,2,  34.9257,2,    268.4,2,   269.6,2,   12.00,2,   16.90,2,    0.00,2,    1.15,2,   3.100,2,   1.521,2,   0.726,2,  2161.9,2,  2303.9,2,   775.5,2,      20,   7.7083,6,    25.00, -999.00,9,  -999.0,9,  -999.0, -999.00,9, -999.00,9,     13.446,2,-999.0000,9,-999.0000,9,-999.0000,9,-999.0000,9,-999.0000,9,-999.0000,9,-999.0000,9,-999.0000,9,-999.0000,9,     -999.0,5,  -999.0,9,     -999.0,     -999.0,9,     -999.0,20130812,       0638
33RO20130803,       A16N,      37,          1,          6,          6,2,20130812,       0548,    46.9985,   -19.9929,       4544,  2399.3,   3.3230,  34.9229,2,  34.9230,2,    269.6,2,   270.8,2,   14.20,2,   16.90,2,    0.00,2,    1.15,2,   2.556,2,   1.240,2,   0.505,2,  2161.6,2,  2306.4,2,   764.0,2,      20,   7.7177,2,    25.00, -999.00,9,  -999.0,9,  -999.0, -999.00,9, -999.00,9,     13.267,2,-999.0000,9,-999.0000,9,-999.0000,9,-999.0000,9,-999.0000,9,-999.0000,9,-999.0000,9,-999.0000,9,-999.0000,9,     -999.0,5,  -999.0,9,     -999.0,     -999.0,9,     -999.0,20130812,       0631
33RO20130803,       A16N,      37,          1,          5,          5,2,20130812,       0548,    46.9985,   -19.9929,       4544,  2777.0,   3.0583,  34.9415,2,  34.9411,2,    261.1,2,   261.5,2,   21.60,2,   17.80,2,    0.00,2,    1.22,2,   1.597,2,   0.779,2,   0.361,2,  2171.2,2,  2317.9,2,   758.2,2,      20,   7.7214,2,    25.00, -999.00,9,  -999.0,9,  -999.0, -999.00,9, -999.00,9,     13.274,2,-999.0000,9,-999.0000,9,-999.0000,9,-999.0000,9,-999.0000,9,-999.0000,9,-999.0000,9,-999.0000,9,-999.0000,9,     -999.0,5,  -999.0,9,     -999.0,     -999.0,9,     -999.0,20130812,       0623
33RO20130803,       A16N,      37,          1,          4,          4,2,20130812,       0548,    46.9985,   -19.9929,       4544,  3198.9,   2.8247,  34.9395,2,  34.9439,4,    251.0,2,   250.8,2,   31.20,6,   19.50,6,    0.00,6,    1.33,6,   0.733,2,   0.359,2,   0.170,2,  2183.4,2,  2331.5,2,   758.7,2,      20,   7.7239,2,    25.00, -999.00,9,  -999.0,9,  -999.0, -999.00,9, -999.00,9,     13.351,2,-999.0000,9,-999.0000,9,-999.0000,9,-999.0000,9,-999.0000,9,-999.0000,9,-999.0000,9,-999.0000,9,-999.0000,9,     -999.0,5,  -999.0,9,     -999.0,     -999.0,9,     -999.0,20130812,       0615
33RO20130803,       A16N,      37,          1,          3,          3,2,20130812,       0548,    46.9985,   -19.9929,       4544,  3599.3,   2.6435,  34.9242,2,  34.9242,2,    243.9,2,   244.6,2,   38.80,6,   20.80,6,    0.00,6,    1.42,6,   0.261,2,   0.133,2,   0.084,2,  2192.7,2,  2343.2,2,   758.9,2,      20,   7.7244,2,    25.00, -999.00,9,  -999.0,9,  -999.0, -999.00,9, -999.00,9,     13.402,2,-999.0000,9,-999.0000,9,-999.0000,9,-999.0000,9,-999.0000,9,-999.0000,9,-999.0000,9,-999.0000,9,-999.0000,9,     -999.0,5,  -999.0,9,     -999.0,     -999.0,9,     -999.0,20130812,       0607
33RO20130803,       A16N,      37,          1,          2,          2,2,20130812,       0548,    46.9985,   -19.9929,       4544,  4059.1,   2.5525,  34.9113,2,  34.9106,2,    239.0,2,   240.7,2,   43.50,6,   21.60,6,    0.00,6,    1.47,6,   0.106,6,   0.056,6,   0.075,6,  2200.4,2,  2349.6,2,   759.2,2,      20,   7.7238,2,    25.00, -999.00,9,  -999.0,9,  -999.0, -999.00,9, -999.00,9,     13.477,6,-999.0000,9,-999.0000,9,-999.0000,9,-999.0000,9,-999.0000,9,-999.0000,9,-999.0000,9,-999.0000,9,-999.0000,9,     -999.0,5,  -999.0,9,     -999.0,     -999.0,9,     -999.0,20130812,       0559
33RO20130803,       A16N,      37,          1,          1,          1,2,20130812,       0548,    46.9985,   -19.9929,       4544,  4604.3,   2.5615,  34.9053,2,  34.9063,2,    239.6,2,   239.7,2,   45.20,6,   21.90,6,    0.00,6,    1.49,6,   0.058,2,   0.033,2,   0.048,2,  2203.3,6,  2352.5,2,   759.1,2,      20,   7.7256,2,    25.00, -999.00,9,  -999.0,9,  -999.0, -999.00,9, -999.00,9,     13.512,2,-999.0000,9,-999.0000,9,-999.0000,9,-999.0000,9,-999.0000,9,-999.0000,9,-999.0000,9,-999.0000,9,-999.0000,9,     -999.0,5,  -999.0,9,     -999.0,     -999.0,9,     -999.0,20130812,       0548