BOTTLE,20220815CCHSIOAMB
EXPOCODE,SECT_ID,STNNBR,CASTNO,SAMPNO,BTLNBR,BTLNBR_FLAG_W,DATE,TIME,LATITUDE,LONGITUDE,DEPTH,CTDPRS,CTDTMP,CTDSAL,CTDSAL_FLAG_W,SALNTY,SALNTY_FLAG_W,CTDOXY,CTDOXY_FLAG_W,OXYGEN,OXYGEN_FLAG_W,SILCAT,SILCAT_FLAG_W,NITRAT,NITRAT_FLAG_W,NITRIT,NITRIT_FLAG_W,PHSPHT,PHSPHT_FLAG_W,CFC-11,CFC-11_FLAG_W,CFC-12,CFC-12_FLAG_W,SF6,SF6_FLAG_W,TCARBN,TCARBN_FLAG_W,ALKALI,ALKALI_FLAG_W,PCO2,PCO2_FLAG_W,PCO2TMP,PH_SWS,PH_SWS_FLAG_W,PH_TMP,DELC13,DELC13_FLAG_W,DELC14,DELC14_FLAG_W,C14ERR,DOC,DOC_FLAG_W,TDN,TDN_FLAG_W,N2O,N2O_FLAG_W,CDOM325,CDOM325_FLAG_W,CDOM340,CDOM340_FLAG_W,CDOM380,CDOM380_FLAG_W,CDOM412,CDOM412_FLAG_W,CDOM443,CDOM443_FLAG_W,CDOM490,CDOM490_FLAG_W,CDOM555,CDOM555_FLAG_W,CDOMSL,CDOMSL_FLAG_W,CDOMSN,CDOMSN_FLAG_W,CCL4,CCL4_FLAG_W,14C-DOC,14C-DOC_FLAG_W,14C-DOCERR,13C-DOC,13C-DOC_FLAG_W,13C-DOCERR,BTL_DATE,BTL_TIME
,,,,,,,,,,,METERS,DBAR,ITS-90,PSS-78,,PSS-78,,UMOL/KG,,UMOL/KG,,UMOL/KG,,UMOL/KG,,UMOL/KG,,UMOL/KG,,PMOL/KG,,PMOL/KG,,FMOL/KG,,UMOL/KG,,UMOL/KG,,UATM,,DEG C,,,DEG C,/MILLE,,/MILLE,,/MILLE,UMOL/KG,,UMOL/KG,,NMOL/KG,,1/M,,1/M,,1/M,,1/M,,1/M,,1/M,,1/M,,1/NM,,1/NM,,PMOL/KG,,/MILLE,,/MILLE,/MILLE,,/MILLE,,
33RO20130803,       A16N,     144,          1,         24,         24,2,20131001,       0650,    -5.4995,   -24.9998,       5687,     3.0,  25.9910,  36.1229,2,  36.1219,2,    202.7,2,   202.7,2,    0.90,2,    0.10,2,    0.00,2,    0.10,2,   1.625,2,   1.042,2,   1.126,2,  2053.5,6,  2370.0,2,   328.2,2,      20,-999.0000,5,  -999.00, -999.00,9,  -999.0,9,  -999.0,   71.73,2,    4.11,2,      6.376,2,-999.0000,9,-999.0000,9,-999.0000,9,-999.0000,9,-999.0000,9,-999.0000,9,-999.0000,9,-999.0000,9,-999.0000,9,     -999.0,5,  -999.0,9,     -999.0,     -999.0,9,     -999.0,20131001,       0902
33RO20130803,       A16N,     144,          1,         23,         23,2,20131001,       0650,    -5.4995,   -24.9998,       5687,    27.4,  25.9993,  36.1215,2,  36.1284,2,    202.3,2,   203.1,2,    0.90,2,    0.00,2,    0.00,2,    0.10,2,-999.000,9,-999.000,9,-999.000,9,  -999.0,9,  -999.0,9,  -999.0,9, -999.00,-999.0000,9,  -999.00, -999.00,9,  -999.0,9,  -999.0,   71.26,2,    5.25,2,     -999.0,9,-999.0000,9,-999.0000,9,-999.0000,9,-999.0000,9,-999.0000,9,-999.0000,9,-999.0000,9,-999.0000,9,-999.0000,9,     -999.0,9,  -999.0,9,     -999.0,     -999.0,9,     -999.0,20131001,       0859
33RO20130803,       A16N,     144,          1,         22,         22,2,20131001,       0650,    -5.4995,   -24.9998,       5687,    67.3,  25.5289,  36.2021,2,  36.1888,2,    205.3,2,   204.8,2,    1.00,2,    0.00,2,    0.00,2,    0.11,2,   1.655,2,   1.062,2,   1.151,2,  2058.2,2,  2372.8,6,   360.6,2,      20,   8.0461,2,    25.00, -999.00,9,  -999.0,9,  -999.0,   67.95,2,    4.93,2,      6.452,2,-999.0000,9,-999.0000,9,-999.0000,9,-999.0000,9,-999.0000,9,-999.0000,9,-999.0000,9,-999.0000,9,-999.0000,9,     -999.0,5,  -999.0,9,     -999.0,     -999.0,9,     -999.0,20131001,       0857
33RO20130803,       A16N,     144,          1,         21,         21,2,20131001,       0650,    -5.4995,   -24.9998,       5687,   112.7,  19.2206,  36.1610,2,  36.1293,2,    142.1,2,   138.7,2,    3.40,2,   10.90,2,    0.07,2,    0.85,2,-999.000,9,-999.000,9,-999.000,9,  -999.0,9,  -999.0,9,  -999.0,9, -999.00,-999.0000,9,  -999.00, -999.00,9,  -999.0,9,  -999.0,    60.1,2,    14.2,2,     -999.0,9,-999.0000,9,-999.0000,9,-999.0000,9,-999.0000,9,-999.0000,9,-999.0000,9,-999.0000,9,-999.0000,9,-999.0000,9,     -999.0,9,  -999.0,9,     -999.0,     -999.0,9,     -999.0,20131001,       0855
33RO20130803,       A16N,     144,          1,         20,         20,2,20131001,       0650,    -5.4995,   -24.9998,       5687,   173.8,  11.8821,  35.1574,2,  35.1580,2,    102.8,2,    98.6,2,    9.50,2,   25.30,2,    0.01,2,    1.66,2,   1.947,2,   1.060,2,   0.486,2,  2208.9,2,  2315.1,2,   986.5,2,      20,   7.6230,2,    25.00, -999.00,9,  -999.0,9,  -999.0,   50.66,2,    28.5,2,     31.331,2,-999.0000,9,-999.0000,9,-999.0000,9,-999.0000,9,-999.0000,9,-999.0000,9,-999.0000,9,-999.0000,9,-999.0000,9,     -999.0,5,  -999.0,9,     -999.0,     -999.0,9,     -999.0,20131001,       0852
33RO20130803,       A16N,     144,          1,         19,         19,2,20131001,       0650,    -5.4995,   -24.9998,       5687,   263.1,   9.7816,  34.8905,2,  34.8879,2,     90.0,2,    91.2,2,   13.50,2,   30.30,2,    0.00,2,    1.96,2,   1.478,2,   0.793,2,   0.207,2,  -999.0,9,  -999.0,9,  -999.0,9, -999.00,-999.0000,9,  -999.00, -999.00,9,  -999.0,9,  -999.0,   48.37,2,   33.38,2,     34.447,2,-999.0000,9,-999.0000,9,-999.0000,9,-999.0000,9,-999.0000,9,-999.0000,9,-999.0000,9,-999.0000,9,-999.0000,9,     -999.0,5,  -999.0,9,     -999.0,     -999.0,9,     -999.0,20131001,       0849
33RO20130803,       A16N,     144,          1,         18,         18,2,20131001,       0650,    -5.4995,   -24.9998,       5687,   373.0,   8.0100,  34.7106,2,  34.7143,2,     87.2,2,    88.2,2,   18.10,2,   34.60,2,    0.00,2,    2.24,2,   0.911,2,   0.481,2,   0.060,2,  2236.3,2,  2296.2,2,  1296.2,2,      20,   7.4943,6,    25.00, -999.00,9,  -999.0,9,  -999.0,   46.03,2,   37.32,2,     33.932,2,-999.0000,9,-999.0000,9,-999.0000,9,-999.0000,9,-999.0000,9,-999.0000,9,-999.0000,9,-999.0000,9,-999.0000,9,     -999.0,5,  -999.0,9,     -999.0,     -999.0,9,     -999.0,20131001,       0845
33RO20130803,       A16N,     144,          1,         17,         17,2,20131001,       0650,    -5.4995,   -24.9998,       5687,   472.7,   7.0230,  34.6181,2,  34.6815,4,     99.4,2,   114.8,2,   19.70,2,   34.10,2,    0.00,2,    2.24,2,-999.000,9,-999.000,9,-999.000,9,  -999.0,9,  -999.0,9,  -999.0,9, -999.00,-999.0000,9,  -999.00, -999.00,9,  -999.0,9,  -999.0,   43.92,2,   36.97,2,     -999.0,9,-999.0000,9,-999.0000,9,-999.0000,9,-999.0000,9,-999.0000,9,-999.0000,9,-999.0000,9,-999.0000,9,-999.0000,9,     -999.0,9,  -999.0,9,     -999.0,     -999.0,9,     -999.0,20131001,       0841
33RO20130803,       A16N,     144,          1,         16,         16,2,20131001,       0650,    -5.4995,   -24.9998,       5687,   613.2,   5.5543,  34.5004,2,  34.5003,2,    136.8,2,   136.6,2,   25.80,2,   34.70,2,    0.00,2,    2.35,2,   0.602,6,   0.309,6,   0.079,6,  2223.8,2,  2297.4,6,  1213.1,2,      20,   7.5317,2,    25.00, -999.00,9,  -999.0,9,  -999.0,    42.9,2,   37.51,2,     25.814,6,-999.0000,9,-999.0000,9,-999.0000,9,-999.0000,9,-999.0000,9,-999.0000,9,-999.0000,9,-999.0000,9,-999.0000,9,     -999.0,5,  -999.0,9,     -999.0,     -999.0,9,     -999.0,20131001,       0837
33RO20130803,       A16N,     144,          1,         15,         15,2,20131001,       0650,    -5.4995,   -24.9998,       5687,   773.2,   4.7341,  34.4676,2,  34.4690,2,    155.0,2,   154.3,2,   30.80,2,   34.30,2,    0.00,2,    2.34,2,-999.000,9,-999.000,9,-999.000,9,  -999.0,9,  -999.0,9,  -999.0,9, -999.00,-999.0000,9,  -999.00, -999.00,9,  -999.0,9,  -999.0,    41.9,2,   36.97,2,     -999.0,9,-999.0000,9,-999.0000,9,-999.0000,9,-999.0000,9,-999.0000,9,-999.0000,9,-999.0000,9,-999.0000,9,-999.0000,9,     -999.0,9,  -999.0,9,     -999.0,     -999.0,9,     -999.0,20131001,       0833
33RO20130803,       A16N,     144,          1,         14,         14,2,20131001,       0650,    -5.4995,   -24.9998,       5687,   921.6,   4.3545,  34.5245,2,  34.5284,2,    154.7,2,   154.1,2,   33.50,2,   34.30,2,    0.00,2,    2.35,2,   0.133,2,   0.082,2,   0.055,2,  2225.8,2,  2306.4,2,  1152.6,2,      20,   7.5913,3,    25.00, -999.00,9,  -999.0,9,  -999.0,   40.96,2,   36.83,2,     23.328,2,-999.0000,9,-999.0000,9,-999.0000,9,-999.0000,9,-999.0000,9,-999.0000,9,-999.0000,9,-999.0000,9,-999.0000,9,     -999.0,5,  -999.0,9,     -999.0,     -999.0,9,     -999.0,20131001,       0829
33RO20130803,       A16N,     144,          1,         13,         13,2,20131001,       0650,    -5.4995,   -24.9998,       5687,  1112.4,   4.2746,  34.6765,2,  34.6766,2,    167.9,2,   167.3,2,   31.20,2,   31.40,2,    0.00,2,    2.15,2,-999.000,9,-999.000,9,-999.000,9,  -999.0,9,  -999.0,9,  -999.0,9, -999.00,-999.0000,9,  -999.00, -999.00,9,  -999.0,9,  -999.0,   40.81,2,   34.11,2,     -999.0,9,-999.0000,9,-999.0000,9,-999.0000,9,-999.0000,9,-999.0000,9,-999.0000,9,-999.0000,9,-999.0000,9,-999.0000,9,     -999.0,9,  -999.0,9,     -999.0,     -999.0,9,     -999.0,20131001,       0825
33RO20130803,       A16N,     144,          1,         12,         12,2,20131001,       0650,    -5.4995,   -24.9998,       5687,  1247.7,   4.3278,  34.8190,2,  34.8181,2,    187.5,2,   186.7,2,   26.10,2,   27.70,2,    0.00,2,    1.88,2,   0.056,2,   0.040,2,   0.000,2,  2204.0,2,  2314.9,2,   946.8,2,      20,   7.5884,3,    25.00, -999.00,9,  -999.0,9,  -999.0,   40.68,2,   30.47,2,     19.064,2,-999.0000,9,-999.0000,9,-999.0000,9,-999.0000,9,-999.0000,9,-999.0000,9,-999.0000,9,-999.0000,9,-999.0000,9,     -999.0,5,  -999.0,9,     -999.0,     -999.0,9,     -999.0,20131001,       0821
33RO20130803,       A16N,     144,          1,         11,         11,2,20131001,       0650,    -5.4995,   -24.9998,       5687,  1397.9,   4.3152,  34.9095,2,  34.9104,2,    208.5,2,     208,2,   21.90,2,   24.40,2,    0.00,2,    1.64,2,   0.152,2,   0.083,2,   0.000,2,  -999.0,9,  -999.0,9,  -999.0,9, -999.00,-999.0000,9,  -999.00, -999.00,9,  -999.0,9,  -999.0,   40.82,2,   27.01,2,     17.132,2,-999.0000,9,-999.0000,9,-999.0000,9,-999.0000,9,-999.0000,9,-999.0000,9,-999.0000,9,-999.0000,9,-999.0000,9,     -999.0,5,  -999.0,9,     -999.0,     -999.0,9,     -999.0,20131001,       0818
33RO20130803,       A16N,     144,          1,         10,         10,2,20131001,       0650,    -5.4995,   -24.9998,       5687,  1588.8,   4.1533,  34.9573,2,  34.9570,2,    227.8,2,   228.5,2,   19.30,2,   21.80,2,    0.00,2,    1.47,2,   0.226,2,   0.119,2,   0.102,2,  2178.6,2,  2315.3,2,   799.1,2,      20,   7.8112,4,    25.00, -999.00,9,  -999.0,9,  -999.0,      41,2,    24.4,2,     15.337,2,-999.0000,9,-999.0000,9,-999.0000,9,-999.0000,9,-999.0000,9,-999.0000,9,-999.0000,9,-999.0000,9,-999.0000,9,     -999.0,5,  -999.0,9,     -999.0,     -999.0,9,     -999.0,20131001,       0813
33RO20130803,       A16N,     144,          1,          9,          9,2,20131001,       0650,    -5.4995,   -24.9998,       5687,  1948.7,   3.6189,  34.9603,2,  34.9607,2,    244.7,2,   244.2,2,   21.40,2,   20.40,2,    0.00,2,    1.37,2,   0.194,2,   0.103,2,   0.023,2,  -999.0,9,  -999.0,9,  -999.0,9, -999.00,-999.0000,9,  -999.00, -999.00,9,  -999.0,9,  -999.0,   40.59,2,   22.95,2,     14.087,2,-999.0000,9,-999.0000,9,-999.0000,9,-999.0000,9,-999.0000,9,-999.0000,9,-999.0000,9,-999.0000,9,-999.0000,9,     -999.0,5,  -999.0,9,     -999.0,     -999.0,9,     -999.0,20131001,       0806
33RO20130803,       A16N,     144,          1,          8,          8,2,20131001,       0650,    -5.4995,   -24.9998,       5687,  2398.9,   2.9884,  34.9256,2,  34.9262,2,    242.4,2,   243.7,2,   32.50,2,   21.40,2,    0.00,2,    1.44,2,   0.053,2,   0.027,2,   0.000,2,  2183.3,2,  2330.0,2,   769.6,2,      20,   7.7190,2,    25.00, -999.00,9,  -999.0,9,  -999.0,   40.27,2,   24.04,2,     14.056,2,-999.0000,9,-999.0000,9,-999.0000,9,-999.0000,9,-999.0000,9,-999.0000,9,-999.0000,9,-999.0000,9,-999.0000,9,     -999.0,5,  -999.0,9,     -999.0,     -999.0,9,     -999.0,20131001,       0757
33RO20130803,       A16N,     144,          1,          7,          7,2,20131001,       0650,    -5.4995,   -24.9998,       5687,  2947.8,   2.7119,  34.9178,2,  34.9189,2,    248.7,2,   248.9,2,   33.80,2,   20.90,2,    0.00,2,    1.41,2,-999.000,9,-999.000,9,-999.000,9,  -999.0,9,  -999.0,9,  -999.0,9, -999.00,-999.0000,9,  -999.00, -999.00,9,  -999.0,9,  -999.0,   40.05,2,   23.44,2,     -999.0,9,-999.0000,9,-999.0000,9,-999.0000,9,-999.0000,9,-999.0000,9,-999.0000,9,-999.0000,9,-999.0000,9,-999.0000,9,     -999.0,9,  -999.0,9,     -999.0,     -999.0,9,     -999.0,20131001,       0746
33RO20130803,       A16N,     144,          1,          6,          6,2,20131001,       0650,    -5.4995,   -24.9998,       5687,  3449.4,   2.5374,  34.9111,2,  34.9121,2,    255.2,2,   256.3,2,   32.50,2,   20.00,2,    0.00,2,    1.35,2,   0.192,2,   0.098,2,   0.000,2,  2179.2,2,  2329.7,2,   757.4,2,      20,   7.7312,2,    25.00, -999.00,9,  -999.0,9,  -999.0,   39.74,2,   22.43,2,     13.446,2,-999.0000,9,-999.0000,9,-999.0000,9,-999.0000,9,-999.0000,9,-999.0000,9,-999.0000,9,-999.0000,9,-999.0000,9,     -999.0,5,  -999.0,9,     -999.0,     -999.0,9,     -999.0,20131001,       0736
33RO20130803,       A16N,     144,          1,          5,          5,2,20131001,       0650,    -5.4995,   -24.9998,       5687,  3947.5,   2.0491,  34.8620,2,  34.8612,2,    247.5,2,   248.3,2,   50.60,6,   22.40,6,    0.00,6,    1.53,6,-999.000,9,-999.000,9,-999.000,9,  -999.0,9,  -999.0,9,  -999.0,9, -999.00,-999.0000,9,  -999.00, -999.00,9,  -999.0,9,  -999.0,   39.98,2,   24.74,2,     -999.0,9,-999.0000,9,-999.0000,9,-999.0000,9,-999.0000,9,-999.0000,9,-999.0000,9,-999.0000,9,-999.0000,9,-999.0000,9,     -999.0,9,  -999.0,9,     -999.0,     -999.0,9,     -999.0,20131001,       0727
33RO20130803,       A16N,     144,          1,          4,          4,2,20131001,       0650,    -5.4995,   -24.9998,       5687,  4446.2,   1.0994,  34.7571,2,  34.7569,2,    227.7,2,   228.9,2,   93.70,6,   28.60,6,    0.00,6,    1.98,6,   0.034,6,   0.018,6,   0.039,6,  2242.2,2,  2366.2,6,   926.0,2,      20,   7.5922,4,    25.00, -999.00,9,  -999.0,9,  -999.0,    39.7,2,    31.1,2,     16.411,6,-999.0000,9,-999.0000,9,-999.0000,9,-999.0000,9,-999.0000,9,-999.0000,9,-999.0000,9,-999.0000,9,-999.0000,9,     -999.0,5,  -999.0,9,     -999.0,     -999.0,9,     -999.0,20131001,       0717
33RO20130803,       A16N,     144,          1,          3,          3,2,20131001,       0650,    -5.4995,   -24.9998,       5687,  4947.2,   0.8149,  34.7201,2,  34.7193,2,    222.0,2,   222.8,2,  108.10,6,   30.60,6,    0.00,6,    2.13,6,-999.000,9,-999.000,9,-999.000,9,  -999.0,9,  -999.0,9,  -999.0,9, -999.00,-999.0000,9,  -999.00, -999.00,9,  -999.0,9,  -999.0,   39.01,2,   33.18,2,     -999.0,9,-999.0000,9,-999.0000,9,-999.0000,9,-999.0000,9,-999.0000,9,-999.0000,9,-999.0000,9,-999.0000,9,-999.0000,9,     -999.0,9,  -999.0,9,     -999.0,     -999.0,9,     -999.0,20131001,       0707
33RO20130803,       A16N,     144,          1,          2,          2,2,20131001,       0650,    -5.4995,   -24.9998,       5687,  5438.4,   0.7346,  34.7053,2,  34.7048,2,    220.0,2,   221.6,2,  113.60,6,   31.30,6,    0.00,6,    2.18,6,   0.109,2,   0.049,2,   0.113,2,  -999.0,9,  -999.0,9,  -999.0,9, -999.00,-999.0000,9,  -999.00, -999.00,9,  -999.0,9,  -999.0,   39.18,2,   33.81,2,     17.596,2,-999.0000,9,-999.0000,9,-999.0000,9,-999.0000,9,-999.0000,9,-999.0000,9,-999.0000,9,-999.0000,9,-999.0000,9,     -999.0,5,  -999.0,9,     -999.0,     -999.0,9,     -999.0,20131001,       0658
33RO20130803,       A16N,     144,          1,          1,          1,2,20131001,       0650,    -5.4995,   -24.9998,       5687,  5733.1,   0.7640,  34.7042,2,  34.7039,2,    220.4,2,   223.1,2,  113.80,6,   31.40,6,    0.00,6,    2.18,6,   0.108,2,   0.047,2,   0.000,2,  2262.5,6,  2371.8,2,   969.0,2,      20,   7.4808,4,    25.00, -999.00,9,  -999.0,9,  -999.0,    39.2,2,   33.94,2,     17.597,2,-999.0000,9,-999.0000,9,-999.0000,9,-999.0000,9,-999.0000,9,-999.0000,9,-999.0000,9,-999.0000,9,-999.0000,9,     -999.0,5,  -999.0,9,     -999.0,     -999.0,9,     -999.0,20131001,       0650