BOTTLE,20220815CCHSIOAMB
EXPOCODE,SECT_ID,STNNBR,CASTNO,SAMPNO,BTLNBR,BTLNBR_FLAG_W,DATE,TIME,LATITUDE,LONGITUDE,DEPTH,CTDPRS,CTDTMP,CTDSAL,CTDSAL_FLAG_W,SALNTY,SALNTY_FLAG_W,CTDOXY,CTDOXY_FLAG_W,OXYGEN,OXYGEN_FLAG_W,SILCAT,SILCAT_FLAG_W,NITRAT,NITRAT_FLAG_W,NITRIT,NITRIT_FLAG_W,PHSPHT,PHSPHT_FLAG_W,CFC-11,CFC-11_FLAG_W,CFC-12,CFC-12_FLAG_W,SF6,SF6_FLAG_W,TCARBN,TCARBN_FLAG_W,ALKALI,ALKALI_FLAG_W,PCO2,PCO2_FLAG_W,PCO2TMP,PH_SWS,PH_SWS_FLAG_W,PH_TMP,DELC13,DELC13_FLAG_W,DELC14,DELC14_FLAG_W,C14ERR,DOC,DOC_FLAG_W,TDN,TDN_FLAG_W,N2O,N2O_FLAG_W,CDOM325,CDOM325_FLAG_W,CDOM340,CDOM340_FLAG_W,CDOM380,CDOM380_FLAG_W,CDOM412,CDOM412_FLAG_W,CDOM443,CDOM443_FLAG_W,CDOM490,CDOM490_FLAG_W,CDOM555,CDOM555_FLAG_W,CDOMSL,CDOMSL_FLAG_W,CDOMSN,CDOMSN_FLAG_W,CCL4,CCL4_FLAG_W,14C-DOC,14C-DOC_FLAG_W,14C-DOCERR,13C-DOC,13C-DOC_FLAG_W,13C-DOCERR,BTL_DATE,BTL_TIME
,,,,,,,,,,,METERS,DBAR,ITS-90,PSS-78,,PSS-78,,UMOL/KG,,UMOL/KG,,UMOL/KG,,UMOL/KG,,UMOL/KG,,UMOL/KG,,PMOL/KG,,PMOL/KG,,FMOL/KG,,UMOL/KG,,UMOL/KG,,UATM,,DEG C,,,DEG C,/MILLE,,/MILLE,,/MILLE,UMOL/KG,,UMOL/KG,,NMOL/KG,,1/M,,1/M,,1/M,,1/M,,1/M,,1/M,,1/M,,1/NM,,1/NM,,PMOL/KG,,/MILLE,,/MILLE,/MILLE,,/MILLE,,
33RO20130803,       A16N,     129,          1,         24,         24,2,20130927,       0915,     0.3348,   -24.9989,       3597,     3.6,  26.1966,  35.8825,2,  35.8831,2,    200.0,2,   199.9,2,    1.20,2,    0.00,2,    0.01,2,    0.04,2,-999.000,9,-999.000,9,-999.000,9,  2029.3,6,  2348.9,2,   315.3,2,      20,   8.0471,3,    25.00,    1.25,2,    61.9,2,     0.3, -999.00,9, -999.00,9,     -999.0,9,   0.1136,2,   0.0639,2,   0.0186,2,   0.0142,2,   0.0079,2,   0.0045,2,   0.0023,2,   0.0184,2,   0.0200,2,     -999.0,9,  -999.0,9,     -999.0,     -999.0,9,     -999.0,20130927,       1054
33RO20130803,       A16N,     129,          1,         23,         23,2,20130927,       0915,     0.3348,   -24.9989,       3597,    28.4,  26.1633,  35.8813,2,  35.8818,2,    199.6,2,   198.9,2,    1.20,2,    0.10,2,    0.01,2,    0.05,2,   1.630,2,   1.030,2,   1.200,2,  2032.6,2,  2339.8,6,   326.8,2,      20,   8.0476,4,    25.00,    1.26,2,    57.4,2,     0.4, -999.00,9, -999.00,9,      7.151,2,   0.0966,2,   0.0550,2,   0.0159,2,   0.0134,2,   0.0078,2,   0.0045,2,   0.0023,2,   0.0174,2,   0.0184,2,     -999.0,5,  -999.0,9,     -999.0,     -999.0,9,     -999.0,20130927,       1052
33RO20130803,       A16N,     129,          1,         22,         22,2,20130927,       0915,     0.3348,   -24.9989,       3597,    63.3,  24.6765,  36.2288,2,  36.2066,2,    190.7,2,   190.2,2,    1.40,2,    1.50,2,    0.20,2,    0.21,2,-999.000,9,-999.000,9,-999.000,9,  -999.0,9,  -999.0,9,  -999.0,9, -999.00,-999.0000,9,  -999.00,    1.17,2,    61.6,2,     0.2, -999.00,9, -999.00,9,     -999.0,9,   0.0937,2,   0.0534,2,   0.0160,2,   0.0142,2,   0.0073,2,   0.0037,2,   0.0021,2,   0.0169,2,   0.0179,2,     -999.0,9,  -999.0,9,     -999.0,     -999.0,9,     -999.0,20130927,       1050
33RO20130803,       A16N,     129,          1,         21,         21,2,20130927,       0915,     0.3348,   -24.9989,       3597,    87.5,  21.3835,  36.2000,2,  36.1992,2,    166.3,2,   167.3,2,    2.70,2,    6.10,2,    0.08,2,    0.49,2,-999.000,9,-999.000,9,-999.000,9,  2118.4,2,  2378.2,2,   457.5,2,      20,   7.9324,2,    25.00,    0.87,2,    65.1,2,     0.2, -999.00,9, -999.00,9,     -999.0,9,-999.0000,5,-999.0000,5,-999.0000,5,-999.0000,5,-999.0000,5,-999.0000,5,-999.0000,5,-999.0000,5,-999.0000,5,     -999.0,9,  -999.0,9,     -999.0,     -999.0,9,     -999.0,20130927,       1047
33RO20130803,       A16N,     129,          1,         20,         20,2,20130927,       0915,     0.3348,   -24.9989,       3597,   112.1,  18.4378,  35.9802,2,  35.9386,2,    160.3,2,   157.3,2,    4.30,2,   10.70,2,    0.05,2,    0.79,2,   2.150,2,   1.266,2,   1.053,2,  -999.0,9,  -999.0,9,  -999.0,9, -999.00,-999.0000,9,  -999.00,    0.73,2,    64.3,2,     0.2, -999.00,9, -999.00,9,     14.901,2,-999.0000,9,-999.0000,9,-999.0000,9,-999.0000,9,-999.0000,9,-999.0000,9,-999.0000,9,-999.0000,9,-999.0000,9,     -999.0,5,  -999.0,9,     -999.0,     -999.0,9,     -999.0,20130927,       1045
33RO20130803,       A16N,     129,          1,         19,         19,2,20130927,       0915,     0.3348,   -24.9989,       3597,   137.9,  14.2357,  35.4660,2,  35.4654,2,    163.0,2,   161.9,2,    6.20,2,   14.70,2,    0.02,2,    1.06,2,-999.000,9,-999.000,9,-999.000,9,  -999.0,9,  -999.0,9,  -999.0,9, -999.00,-999.0000,9,  -999.00,    0.68,2,    43.6,2,     0.2, -999.00,9, -999.00,9,     -999.0,9,   0.0942,2,   0.0528,2,   0.0192,2,   0.0161,2,   0.0085,2,   0.0038,2,   0.0020,2,   0.0157,2,   0.0169,2,     -999.0,9,  -999.0,9,     -999.0,     -999.0,9,     -999.0,20130927,       1043
33RO20130803,       A16N,     129,          1,         18,         18,2,20130927,       0915,     0.3348,   -24.9989,       3597,   163.2,  13.9053,  35.4128,2,  35.4122,2,    150.8,2,   150.7,2, -999.00,9, -999.00,9, -999.00,9, -999.00,9,   2.347,2,   1.331,2,   0.907,2,  2163.4,2,  -999.0,5,   703.7,2,      20,-999.0000,9,  -999.00, -999.00,9,  -999.0,9,  -999.0, -999.00,9, -999.00,9,     19.935,2,-999.0000,9,-999.0000,9,-999.0000,9,-999.0000,9,-999.0000,9,-999.0000,9,-999.0000,9,-999.0000,9,-999.0000,9,     -999.0,5,  -999.0,9,     -999.0,     -999.0,9,     -999.0,20130927,       1041
33RO20130803,       A16N,     129,          1,         17,         17,2,20130927,       0915,     0.3348,   -24.9989,       3597,   222.3,  12.8691,  35.2611,2,  35.2612,2,    146.3,2,   141.4,2,    7.90,2,   19.10,2,    0.01,2,    1.31,2,-999.000,9,-999.000,9,-999.000,9,  -999.0,9,  -999.0,9,  -999.0,9, -999.00,-999.0000,9,  -999.00,    0.58,2,    33.4,2,     0.2, -999.00,9, -999.00,9,     -999.0,9,   0.1058,2,   0.0613,2,   0.0224,2,   0.0204,2,   0.0112,2,   0.0047,2,   0.0022,2,   0.0158,2,   0.0172,2,     -999.0,9,  -999.0,9,     -999.0,     -999.0,9,     -999.0,20130927,       1038
33RO20130803,       A16N,     129,          1,         16,         16,2,20130927,       0915,     0.3348,   -24.9989,       3597,   312.3,  11.3499,  35.0759,2,  35.0717,2,     94.8,2,    97.1,2,   11.40,2,   26.90,2,    0.01,2,    1.75,2,   1.839,2,   0.992,2,   0.490,2,  2207.8,2,  2311.1,2,  1003.7,2,      20,   7.6005,2,    25.00, -999.00,9,  -999.0,9,  -999.0, -999.00,9, -999.00,9,     32.595,2,   0.1266,2,   0.0763,2,   0.0327,2,   0.0272,2,   0.0153,2,   0.0059,2,   0.0025,2,   0.0152,2,   0.0165,2,     -999.0,5,  -999.0,9,     -999.0,     -999.0,9,     -999.0,20130927,       1035
33RO20130803,       A16N,     129,          1,         15,         15,2,20130927,       0915,     0.3348,   -24.9989,       3597,   387.4,   9.1309,  34.8246,2,  34.8218,2,    109.0,2,   108.3,2,   15.10,2,   30.10,2,    0.01,2,    1.96,2,   1.544,2,   0.808,2,   0.326,2,  2212.6,6,  2293.1,2,  -999.0,9, -999.00,   7.5632,2,    25.00,    0.42,2,   -12.7,2,     0.3, -999.00,9, -999.00,9,     31.656,2,   0.1235,2,   0.0740,2,   0.0352,2,   0.0272,2,   0.0154,2,   0.0057,2,   0.0023,2,   0.0143,2,   0.0155,2,     -999.0,5,  -999.0,9,     -999.0,     -999.0,9,     -999.0,20130927,       1032
33RO20130803,       A16N,     129,          1,         14,         14,2,20130927,       0915,     0.3348,   -24.9989,       3597,   462.7,   8.1484,  34.7159,2,  34.7143,2,    116.3,2,   117.6,2,   17.30,2,   31.20,2,    0.01,2,    2.06,2,   1.390,2,   0.715,2,   0.297,2,  2211.7,2,  2298.5,6,  1133.9,2,      20,   7.5535,2,    25.00,    0.35,6,    16.7,4,     2.6, -999.00,9, -999.00,9,     29.629,2,   0.1202,2,   0.0699,2,   0.0289,2,   0.0243,2,   0.0143,2,   0.0057,2,   0.0023,2,   0.0155,3,   0.0170,3,     -999.0,5,  -999.0,9,     -999.0,     -999.0,9,     -999.0,20130927,       1029
33RO20130803,       A16N,     129,          1,         13,         13,2,20130927,       0915,     0.3348,   -24.9989,       3597,   537.5,   7.4242,  34.6437,2,  34.6432,2,    130.0,2,   129.4,2,   19.00,2,   31.50,2,    0.01,2,    2.09,2,   1.319,2,   0.670,2,   0.227,2,  2208.4,2,  2294.1,2,  1120.1,2,      20,   7.5612,6,    25.00,    0.54,2,   -39.6,2,     0.2, -999.00,9, -999.00,9,     27.501,2,   0.1131,2,   0.0646,2,   0.0262,2,   0.0226,2,   0.0133,2,   0.0052,2,   0.0022,2,   0.0154,2,   0.0170,2,     -999.0,5,  -999.0,9,     -999.0,     -999.0,9,     -999.0,20130927,       1026
33RO20130803,       A16N,     129,          1,         12,         12,2,20130927,       0915,     0.3348,   -24.9989,       3597,   648.7,   5.2941,  34.4901,2,  34.4904,2,    153.4,2,   152.6,2,   27.30,2,   33.30,2,    0.00,2,    2.28,2,-999.000,9,-999.000,9,-999.000,9,  -999.0,9,  -999.0,9,  -999.0,9, -999.00,-999.0000,9,  -999.00,    0.66,2,   -78.6,2,     0.2, -999.00,9, -999.00,9,     -999.0,9,-999.0000,9,-999.0000,9,-999.0000,9,-999.0000,9,-999.0000,9,-999.0000,9,-999.0000,9,-999.0000,9,-999.0000,9,     -999.0,9,  -999.0,9,     -999.0,     -999.0,9,     -999.0,20130927,       1023
33RO20130803,       A16N,     129,          1,         11,         11,2,20130927,       0915,     0.3348,   -24.9989,       3597,   822.8,   4.9572,  34.5004,2,  34.5007,2,    150.4,2,   149.9,2,   29.70,2,   34.00,2,    0.00,2,    2.33,2,   0.435,2,   0.221,2,   0.072,2,  2217.6,2,  2296.6,2,  1133.9,2,      20,   7.5473,2,    25.00,    0.66,2,   -97.3,2,     0.2, -999.00,9, -999.00,9,     24.134,2,   0.1092,2,   0.0608,2,   0.0242,2,   0.0211,2,   0.0127,2,   0.0047,2,   0.0020,2,   0.0155,2,   0.0172,2,     -999.0,5,  -999.0,9,     -999.0,     -999.0,9,     -999.0,20130927,       1018
33RO20130803,       A16N,     129,          1,         10,         10,2,20130927,       0915,     0.3348,   -24.9989,       3597,   972.4,   4.5574,  34.6340,2,  34.6346,2,    159.1,2,   158.9,2,   30.60,2,   32.20,2,    0.00,2,    2.22,2,-999.000,9,-999.000,9,-999.000,9,  -999.0,9,  -999.0,9,  -999.0,9, -999.00,-999.0000,9,  -999.00,    0.68,2,  -107.5,2,     0.2, -999.00,9, -999.00,9,     -999.0,9,   0.1022,2,   0.0588,2,   0.0189,2,   0.0164,2,   0.0082,2,   0.0034,2,   0.0019,2,   0.0168,2,   0.0181,2,     -999.0,9,  -999.0,9,     -999.0,     -999.0,9,     -999.0,20130927,       1014
33RO20130803,       A16N,     129,          1,          9,          9,2,20130927,       0915,     0.3348,   -24.9989,       3597,  1123.3,   4.5527,  34.7428,2,  34.7443,2,    168.0,2,   168.8,2,   28.00,2,   29.90,2,    0.00,2,    2.05,2,   0.069,2,   0.036,2,   0.000,2,  2208.6,2,  2310.7,2,  -999.0,9, -999.00,   7.5954,2,    25.00, -999.00,9,  -999.0,9,  -999.0, -999.00,9, -999.00,9,     21.062,2,   0.1166,2,   0.0663,2,   0.0244,2,   0.0192,2,   0.0114,2,   0.0046,2,   0.0020,2,   0.0166,2,   0.0181,2,     -999.0,5,  -999.0,9,     -999.0,     -999.0,9,     -999.0,20130927,       1010
33RO20130803,       A16N,     129,          1,          8,          8,2,20130927,       0915,     0.3348,   -24.9989,       3597,  1272.7,   4.5514,  34.8613,2,  34.8623,2,    191.2,2,   191.7,2,   23.50,2,   26.20,2,    0.00,2,    1.79,2,   0.161,2,   0.084,2,   0.000,2,  2195.4,2,  2309.5,2,   895.7,2,      20,   7.6431,2,    25.00,    0.81,2,   -91.1,2,     0.2, -999.00,9, -999.00,9,     18.643,2,   0.1210,2,   0.0711,2,   0.0274,2,   0.0211,2,   0.0123,2,   0.0047,2,   0.0021,2,   0.0164,2,   0.0176,2,     -999.0,5,  -999.0,9,     -999.0,     -999.0,9,     -999.0,20130927,       1006
33RO20130803,       A16N,     129,          1,          7,          7,2,20130927,       0915,     0.3348,   -24.9989,       3597,  1497.9,   4.2657,  34.9654,2,  34.9666,2,    227.6,2,   228.2,2,   18.40,2,   21.40,2,    0.00,2,    1.44,2,-999.000,9,-999.000,9,-999.000,9,  -999.0,9,  -999.0,9,  -999.0,9, -999.00,-999.0000,9,  -999.00,    0.89,2,   -77.9,2,     0.2, -999.00,9, -999.00,9,     -999.0,9,-999.0000,9,-999.0000,9,-999.0000,9,-999.0000,9,-999.0000,9,-999.0000,9,-999.0000,9,-999.0000,9,-999.0000,9,     -999.0,9,  -999.0,9,     -999.0,     -999.0,9,     -999.0,20130927,       1001
33RO20130803,       A16N,     129,          1,          6,          6,2,20130927,       0915,     0.3348,   -24.9989,       3597,  1747.8,   3.8670,  34.9732,2,  34.9736,2,    243.9,2,   244.8,2,   18.30,2,   19.70,2,    0.00,2,    1.33,2,   0.443,2,   0.222,2,   0.107,2,  2168.9,2,  2315.1,2,   748.9,2,      20,   7.7194,2,    25.00, -999.00,9,  -999.0,9,  -999.0, -999.00,9, -999.00,9,     14.075,2,   0.1142,2,   0.0660,2,   0.0226,2,   0.0170,2,   0.0097,2,   0.0041,2,   0.0020,2,   0.0172,2,   0.0184,2,     -999.0,5,  -999.0,9,     -999.0,     -999.0,9,     -999.0,20130927,       0955
33RO20130803,       A16N,     129,          1,          5,          5,2,20130927,       0915,     0.3348,   -24.9989,       3597,  2147.3,   3.3950,  34.9582,2,  34.9589,2,    250.8,2,   251.1,2,   22.10,2,   19.50,2,    0.00,2,    1.32,2,   0.318,2,   0.160,2,   0.080,2,  2169.1,2,  2318.4,2,   737.9,2,      20,   7.7269,6,    25.00, -999.00,9,  -999.0,9,  -999.0, -999.00,9, -999.00,9,     13.561,2,   0.1162,2,   0.0674,2,   0.0220,2,   0.0162,2,   0.0092,2,   0.0041,2,   0.0022,2,   0.0177,2,   0.0188,2,     -999.0,5,  -999.0,9,     -999.0,     -999.0,9,     -999.0,20130927,       0946
33RO20130803,       A16N,     129,          1,          4,          4,2,20130927,       0915,     0.3348,   -24.9989,       3597,  2597.2,   2.9878,  34.9323,2,  34.9326,2,    246.1,2,   246.5,2,   30.80,6,   20.60,6,    0.00,6,    1.40,6,-999.000,9,-999.000,9,-999.000,9,  2179.6,2,  2327.0,6,  -999.0,9, -999.00,   7.7252,2,    25.00, -999.00,9,  -999.0,9,  -999.0, -999.00,9, -999.00,9,     -999.0,9,   0.1138,2,   0.0660,2,   0.0224,2,   0.0169,2,   0.0095,2,   0.0037,2,   0.0019,2,   0.0172,2,   0.0184,2,     -999.0,9,  -999.0,9,     -999.0,     -999.0,9,     -999.0,20130927,       0937
33RO20130803,       A16N,     129,          1,          3,          3,2,20130927,       0915,     0.3348,   -24.9989,       3597,  2998.2,   2.6506,  34.9108,2,  34.9115,2,    246.7,2,   246.3,2,   36.80,6,   21.10,6,    0.00,6,    1.43,6,   0.087,2,   0.046,2,   0.000,2,  2185.1,2,  2331.9,2,  -999.0,9, -999.00,   7.7207,2,    25.00, -999.00,9,  -999.0,9,  -999.0, -999.00,9, -999.00,9,     13.787,2,   0.1160,2,   0.0678,2,   0.0233,2,   0.0170,2,   0.0093,2,   0.0034,2,   0.0016,2,   0.0172,2,   0.0184,2,     -999.0,5,  -999.0,9,     -999.0,     -999.0,9,     -999.0,20130927,       0929
33RO20130803,       A16N,     129,          1,          2,          2,2,20130927,       0915,     0.3348,   -24.9989,       3597,  3397.5,   2.5019,  34.9002,2,  34.9007,2,    248.6,2,   248.5,2,   38.90,6,   21.00,6,    0.00,6,    1.43,6,-999.000,9,-999.000,9,-999.000,9,  -999.0,9,  -999.0,9,  -999.0,9, -999.00,-999.0000,9,  -999.00, -999.00,9,  -999.0,9,  -999.0, -999.00,9, -999.00,9,     -999.0,9,   0.1276,2,   0.0780,2,   0.0303,2,   0.0221,2,   0.0141,2,   0.0065,2,   0.0031,2,   0.0165,2,   0.0174,2,     -999.0,9,  -999.0,9,     -999.0,     -999.0,9,     -999.0,20130927,       0921
33RO20130803,       A16N,     129,          1,          1,          1,2,20130927,       0915,     0.3348,   -24.9989,       3597,  3608.6,   2.4475,  34.8957,2,  34.8965,2,    249.5,2,   249.5,2,   39.80,6,   21.00,6,    0.00,6,    1.43,6,   0.154,2,   0.083,2,   0.046,2,  2187.5,2,  2338.6,2,   733.9,2,      20,   7.7285,2,    25.00, -999.00,9,  -999.0,9,  -999.0, -999.00,9, -999.00,9,     13.761,2,   0.1234,2,   0.0742,2,   0.0286,2,   0.0198,2,   0.0122,2,   0.0053,2,   0.0026,2,   0.0166,2,   0.0175,2,     -999.0,5,  -999.0,9,     -999.0,     -999.0,9,     -999.0,20130927,       0915