BOTTLE,20220815CCHSIOAMB
EXPOCODE,SECT_ID,STNNBR,CASTNO,SAMPNO,BTLNBR,BTLNBR_FLAG_W,DATE,TIME,LATITUDE,LONGITUDE,DEPTH,CTDPRS,CTDTMP,CTDSAL,CTDSAL_FLAG_W,SALNTY,SALNTY_FLAG_W,CTDOXY,CTDOXY_FLAG_W,OXYGEN,OXYGEN_FLAG_W,SILCAT,SILCAT_FLAG_W,NITRAT,NITRAT_FLAG_W,NITRIT,NITRIT_FLAG_W,PHSPHT,PHSPHT_FLAG_W,CFC-11,CFC-11_FLAG_W,CFC-12,CFC-12_FLAG_W,SF6,SF6_FLAG_W,TCARBN,TCARBN_FLAG_W,ALKALI,ALKALI_FLAG_W,PCO2,PCO2_FLAG_W,PCO2TMP,PH_SWS,PH_SWS_FLAG_W,PH_TMP,DELC13,DELC13_FLAG_W,DELC14,DELC14_FLAG_W,C14ERR,DOC,DOC_FLAG_W,TDN,TDN_FLAG_W,N2O,N2O_FLAG_W,CDOM325,CDOM325_FLAG_W,CDOM340,CDOM340_FLAG_W,CDOM380,CDOM380_FLAG_W,CDOM412,CDOM412_FLAG_W,CDOM443,CDOM443_FLAG_W,CDOM490,CDOM490_FLAG_W,CDOM555,CDOM555_FLAG_W,CDOMSL,CDOMSL_FLAG_W,CDOMSN,CDOMSN_FLAG_W,CCL4,CCL4_FLAG_W,14C-DOC,14C-DOC_FLAG_W,14C-DOCERR,13C-DOC,13C-DOC_FLAG_W,13C-DOCERR,BTL_DATE,BTL_TIME
,,,,,,,,,,,METERS,DBAR,ITS-90,PSS-78,,PSS-78,,UMOL/KG,,UMOL/KG,,UMOL/KG,,UMOL/KG,,UMOL/KG,,UMOL/KG,,PMOL/KG,,PMOL/KG,,FMOL/KG,,UMOL/KG,,UMOL/KG,,UATM,,DEG C,,,DEG C,/MILLE,,/MILLE,,/MILLE,UMOL/KG,,UMOL/KG,,NMOL/KG,,1/M,,1/M,,1/M,,1/M,,1/M,,1/M,,1/M,,1/NM,,1/NM,,PMOL/KG,,/MILLE,,/MILLE,/MILLE,,/MILLE,,
33RO20130803,       A16N,      68,          1,         24,         24,2,20130821,       0942,    31.5001,   -22.5339,       5238,     2.8,  23.6658,  37.0925,2,  37.0929,2,    208.8,2,   212.5,2,    0.60,2,    0.00,2,    0.00,2,    0.01,2,   1.839,2,   1.142,2,   1.331,2,  2114.4,6,  2426.7,2,   350.2,2,      20,   8.0112,2,    25.00, -999.00,9,  -999.0,9,  -999.0,   64.92,2,    4.45,2,      6.671,2,   0.0824,2,   0.0552,2,   0.0145,3,   0.0121,2,   0.0039,2,   0.0066,3,  -0.0011,4,   0.0306,3,   0.0320,3,     -999.0,5,  -999.0,9,     -999.0,     -999.0,9,     -999.0,20130821,       1142
33RO20130803,       A16N,      68,          1,         23,         23,2,20130821,       0942,    31.5001,   -22.5339,       5238,    29.2,  23.4783,  37.1056,2,  37.1082,2,    211.2,2,   213.7,2,    0.60,2,    0.00,2,    0.00,2,    0.01,2,-999.000,9,-999.000,9,-999.000,9,  2115.9,2,  2428.4,6,   350.1,2,      20,   8.0160,2,    25.00, -999.00,9,  -999.0,9,  -999.0,   64.84,2,    3.45,2,     -999.0,9,   0.0884,2,   0.0594,2,   0.0182,2,   0.0150,2,   0.0060,2,   0.0076,3,  -0.0007,4,   0.0276,3,   0.0294,3,     -999.0,9,  -999.0,9,     -999.0,     -999.0,9,     -999.0,20130821,       1140
33RO20130803,       A16N,      68,          1,         22,         22,2,20130821,       0942,    31.5001,   -22.5339,       5238,    60.7,  20.5891,  36.7831,2,  36.7717,2,    235.9,2,   237.5,2,    0.60,2,    0.00,2,    0.00,2,    0.02,2,   2.165,2,   1.320,2,   1.498,2,  2100.3,2,  2406.4,2,   351.9,2,      20,   8.0118,6,    25.00, -999.00,9,  -999.0,9,  -999.0,   62.11,2,    3.83,2,      7.525,2,   0.1529,2,   0.1034,2,   0.0356,2,   0.0240,2,   0.0096,2,   0.0086,3,  -0.0005,4,   0.0255,2,   0.0270,2,     -999.0,5,  -999.0,9,     -999.0,     -999.0,9,     -999.0,20130821,       1138
33RO20130803,       A16N,      68,          1,         21,         21,2,20130821,       0942,    31.5001,   -22.5339,       5238,    81.7,  19.2026,  36.7046,2,  36.7063,2,    234.6,2,   233.3,2,    0.70,2,    0.00,2,    0.00,2,    0.02,2,-999.000,9,-999.000,9,-999.000,9,  2104.8,2,  2402.8,2,   365.1,2,      20,   7.9997,2,    25.00, -999.00,9,  -999.0,9,  -999.0,   58.33,2,    3.25,2,     -999.0,9,   0.1715,2,   0.1204,2,   0.0460,2,   0.0327,2,   0.0143,2,   0.0107,3,   0.0003,4,   0.0228,2,   0.0243,2,     -999.0,9,  -999.0,9,     -999.0,     -999.0,9,     -999.0,20130821,       1136
33RO20130803,       A16N,      68,          1,         20,         20,2,20130821,       0942,    31.5001,   -22.5339,       5238,   110.4,  18.5474,  36.6913,2,  36.6818,2,    220.3,2,   218.1,2,    0.80,2,    0.20,2,    0.05,2,    0.06,2,   2.259,2,   1.369,2,   1.472,2,  2119.4,2,  2400.2,2,   392.1,2,      20,   7.9754,2,    25.00, -999.00,9,  -999.0,9,  -999.0,    55.8,2,     4.1,2,      8.114,2,   0.1366,2,   0.0987,2,   0.0399,2,   0.0322,2,   0.0137,2,   0.0101,3,   0.0003,4,   0.0210,2,   0.0226,2,     -999.0,5,  -999.0,9,     -999.0,     -999.0,9,     -999.0,20130821,       1134
33RO20130803,       A16N,      68,          1,         19,         19,2,20130821,       0942,    31.5001,   -22.5339,       5238,   173.6,  17.3920,  36.4895,2,  36.4866,2,    204.4,2,   204.3,2,    1.50,2,    4.10,2,    0.02,2,    0.23,2,-999.000,9,-999.000,9,-999.000,9,  2127.3,2,  2386.4,2,   430.8,2,      20,   7.9379,2,    25.00, -999.00,9,  -999.0,9,  -999.0,   52.85,2,    7.32,2,     -999.0,9,   0.1106,2,   0.0742,2,   0.0243,2,   0.0178,2,   0.0060,2,   0.0061,3,   0.0015,3,   0.0267,2,   0.0282,2,     -999.0,9,  -999.0,9,     -999.0,     -999.0,9,     -999.0,20130821,       1131
33RO20130803,       A16N,      68,          1,         18,         18,2,20130821,       0942,    31.5001,   -22.5339,       5238,   258.2,  16.1595,  36.2800,2,  36.2763,2,    199.8,2,   200.3,2,    2.10,2,    6.50,2,    0.01,2,    0.38,2,-999.000,9,-999.000,9,-999.000,9,  2135.9,2,  2373.5,2,   472.3,2,      20,   7.9020,2,    25.00, -999.00,9,  -999.0,9,  -999.0,   49.27,2,    8.81,2,     -999.0,9,   0.1141,2,   0.0772,2,   0.0254,2,   0.0180,2,   0.0064,2,   0.0063,3,   0.0016,3,   0.0267,2,   0.0278,2,     -999.0,9,  -999.0,9,     -999.0,     -999.0,9,     -999.0,20130821,       1128
33RO20130803,       A16N,      68,          1,         17,         17,2,20130821,       0942,    31.5001,   -22.5339,       5238,   337.7,  14.8491,  36.0547,2,  36.0494,2,    197.9,2,   198.2,2,    3.00,2,    8.90,2,    0.01,2,    0.53,2,   2.590,2,   1.490,2,   1.362,2,  -999.0,9,  -999.0,9,  -999.0,9, -999.00,-999.0000,9,  -999.00, -999.00,9,  -999.0,9,  -999.0,   47.47,2,   10.86,2,     11.085,2,   0.1280,2,   0.0871,2,   0.0324,2,   0.0242,2,   0.0099,2,   0.0080,3,   0.0007,3,   0.0238,2,   0.0257,2,     -999.0,5,  -999.0,9,     -999.0,     -999.0,9,     -999.0,20130821,       1125
33RO20130803,       A16N,      68,          1,         16,         16,2,20130821,       0942,    31.5001,   -22.5339,       5238,   447.0,  13.3929,  35.8214,2,  35.8242,2,    198.3,2,     200,2,    4.00,2,   11.10,2,    0.01,2,    0.67,2,-999.000,9,-999.000,9,-999.000,9,  2150.5,2,  2348.4,2,   567.9,2,      20,   7.8311,2,    25.00, -999.00,9,  -999.0,9,  -999.0,   46.39,2,   13.11,2,     -999.0,9,   0.1440,2,   0.1010,2,   0.0424,2,   0.0317,2,   0.0166,2,   0.0129,3,   0.0033,2,   0.0210,2,   0.0228,2,     -999.0,9,  -999.0,9,     -999.0,     -999.0,9,     -999.0,20130821,       1122
33RO20130803,       A16N,      68,          1,         15,         15,2,20130821,       0942,    31.5001,   -22.5339,       5238,   549.7,  12.4263,  35.6952,2,  35.6930,2,    197.9,2,     197,2,    4.90,2,   13.10,2,    0.01,2,    0.80,2,   2.712,2,   1.516,2,   1.215,2,  -999.0,9,  -999.0,9,  -999.0,9, -999.00,-999.0000,9,  -999.00, -999.00,9,  -999.0,9,  -999.0,   45.31,2,   15.27,2,     13.204,2,   0.1293,2,   0.0862,2,   0.0338,2,   0.0248,2,   0.0129,2,   0.0098,3,   0.0031,2,   0.0231,2,   0.0255,2,     -999.0,5,  -999.0,9,     -999.0,     -999.0,9,     -999.0,20130821,       1118
33RO20130803,       A16N,      68,          1,         14,         14,2,20130821,       0942,    31.5001,   -22.5339,       5238,   716.5,  10.9445,  35.5614,2,  35.5605,2,    180.5,2,   179.9,2,    8.00,2,   17.30,2,    0.00,2,    1.06,2,-999.000,9,-999.000,9,-999.000,9,  2176.0,2,  2338.6,2,   694.9,2,      20,   7.7513,2,    25.00, -999.00,9,  -999.0,9,  -999.0,   44.56,2,   19.89,2,     -999.0,9,   0.1420,2,   0.0960,2,   0.0387,2,   0.0279,2,   0.0152,2,   0.0112,3,   0.0038,2,   0.0224,2,   0.0245,2,     -999.0,9,  -999.0,9,     -999.0,     -999.0,9,     -999.0,20130821,       1115
33RO20130803,       A16N,      68,          1,         13,         13,2,20130821,       0942,    31.5001,   -22.5339,       5238,   857.8,  10.0915,  35.6237,2,  35.6249,2,    171.8,2,   172.4,2,   10.30,2,   19.00,2,    0.00,2,    1.18,2,-999.000,9,-999.000,9,-999.000,9,  2192.0,2,  2347.7,6,   722.4,2,      20,   7.7222,4,    25.00, -999.00,9,  -999.0,9,  -999.0,   43.81,2,   21.09,2,     -999.0,9,   0.1594,2,   0.1106,2,   0.0497,2,   0.0366,2,   0.0224,2,   0.0163,2,   0.0067,2,   0.0199,2,   0.0219,2,     -999.0,9,  -999.0,9,     -999.0,     -999.0,9,     -999.0,20130821,       1111
33RO20130803,       A16N,      68,          1,         12,         12,2,20130821,       0942,    31.5001,   -22.5339,       5238,   952.5,   9.5559,  35.6339,2,  35.6470,2,    176.2,2,   176.1,2,   11.10,2,   19.10,2,    0.00,2,    1.20,2,   1.511,2,   0.792,2,   0.392,2,  2194.6,6,  2351.6,2,   723.6,2,      20,   7.7385,2,    25.00, -999.00,9,  -999.0,9,  -999.0,   43.45,2,   21.23,2,     15.883,2,   0.1445,2,   0.0966,2,   0.0386,2,   0.0274,2,   0.0147,2,   0.0107,3,   0.0032,2,   0.0227,2,   0.0250,2,     -999.0,5,  -999.0,9,     -999.0,     -999.0,9,     -999.0,20130821,       1108
33RO20130803,       A16N,      68,          1,         11,         11,2,20130821,       0942,    31.5001,   -22.5339,       5238,  1106.1,   8.9153,  35.6803,2,  35.6863,2,    183.8,2,   184.6,2,   12.00,2,   18.80,2,    0.00,2,    1.19,2,   1.360,2,   0.703,2,   0.308,2,  -999.0,9,  -999.0,9,  -999.0,9, -999.00,-999.0000,9,  -999.00, -999.00,9,  -999.0,9,  -999.0,   43.14,2,   21.02,2,     15.443,2,   0.1507,2,   0.1029,2,   0.0441,2,   0.0321,2,   0.0186,2,   0.0137,2,   0.0050,2,   0.0211,2,   0.0232,2,     -999.0,5,  -999.0,9,     -999.0,     -999.0,9,     -999.0,20130821,       1104
33RO20130803,       A16N,      68,          1,         10,         10,2,20130821,       0942,    31.5001,   -22.5339,       5238,  1398.8,   6.6895,  35.4130,2,  35.4166,2,    212.0,2,   211.9,2,   13.90,2,   19.00,2,    0.00,2,    1.22,2,   1.220,2,   0.605,2,   0.206,2,  2189.8,2,  2341.8,2,   731.2,2,      20,   7.7311,2,    25.00, -999.00,9,  -999.0,9,  -999.0,    42.3,2,   21.16,2,     14.738,2,   0.1379,2,   0.0924,2,   0.0369,2,   0.0262,2,   0.0137,2,   0.0103,3,   0.0032,2,   0.0228,2,   0.0250,2,     -999.0,5,  -999.0,9,     -999.0,     -999.0,9,     -999.0,20130821,       1057
33RO20130803,       A16N,      68,          1,          9,          9,2,20130821,       0942,    31.5001,   -22.5339,       5238,  1781.6,   4.8585,  35.1753,2,  35.1759,2,    239.9,2,   239.4,2,   15.50,6,   18.60,6,    0.00,6,    1.21,6,-999.000,9,-999.000,9,-999.000,9,  -999.0,9,  -999.0,9,  -999.0,9, -999.00,-999.0000,9,  -999.00, -999.00,9,  -999.0,9,  -999.0,   41.46,2,   20.92,2,     -999.0,9,   0.1469,2,   0.0991,2,   0.0408,2,   0.0290,2,   0.0155,2,   0.0113,3,   0.0035,2,   0.0220,2,   0.0242,2,     -999.0,9,  -999.0,9,     -999.0,     -999.0,9,     -999.0,20130821,       1050
33RO20130803,       A16N,      68,          1,          8,          8,2,20130821,       0942,    31.5001,   -22.5339,       5238,  2105.6,   4.0071,  35.0744,2,  35.0781,2,    241.4,2,   242.6,2,   20.80,6,   19.40,6,    0.01,6,    1.28,6,   0.431,2,   0.214,2,   0.078,2,  2178.9,2,  2328.0,2,   732.4,2,      20,   7.7291,2,    25.00, -999.00,9,  -999.0,9,  -999.0,   40.62,2,   21.81,2,     13.502,2,-999.0000,5,-999.0000,5,-999.0000,5,-999.0000,5,-999.0000,5,-999.0000,5,-999.0000,5,-999.0000,5,-999.0000,5,     -999.0,5,  -999.0,9,     -999.0,     -999.0,9,     -999.0,20130821,       1043
33RO20130803,       A16N,      68,          1,          7,          7,2,20130821,       0942,    31.5001,   -22.5339,       5238,  2559.8,   3.1881,  34.9835,2,  34.9828,2,    245.2,2,   243.3,2,   29.10,6,   20.40,6,    0.01,6,    1.36,6,   0.143,2,   0.074,2,   0.024,2,  2185.6,2,  2334.2,2,   740.5,2,      20,   7.7268,2,    25.00, -999.00,9,  -999.0,9,  -999.0,   40.57,2,   22.92,2,     13.391,2,-999.0000,5,-999.0000,5,-999.0000,5,-999.0000,5,-999.0000,5,-999.0000,5,-999.0000,5,-999.0000,5,-999.0000,5,     -999.0,5,  -999.0,9,     -999.0,     -999.0,9,     -999.0,20130821,       1034
33RO20130803,       A16N,      68,          1,          6,          6,2,20130821,       0942,    31.5001,   -22.5339,       5238,  2770.5,   2.9719,  34.9606,2,  34.9612,2,    245.5,2,   242.6,4,   30.90,6,   20.40,6,    0.01,6,    1.36,6,   0.147,2,   0.075,2,   0.011,2,  2186.2,2,  2334.4,2,   738.8,2,      20,   7.7292,4,    25.00, -999.00,9,  -999.0,9,  -999.0,   40.73,2,      23,2,     13.395,2,   0.1498,2,   0.1015,2,   0.0412,2,   0.0288,2,   0.0147,2,   0.0105,3,   0.0028,2,   0.0223,2,   0.0243,2,     -999.0,5,  -999.0,9,     -999.0,     -999.0,9,     -999.0,20130821,       1029
33RO20130803,       A16N,      68,          1,          5,          5,2,20130821,       0942,    31.5001,   -22.5339,       5238,  3404.8,   2.5870,  34.9212,2,  34.9208,2,    243.0,2,   247.5,4,   39.50,2,   21.60,2,    0.00,2,    1.45,2,   0.039,2,   0.023,2,   0.006,2,  -999.0,9,  -999.0,9,  -999.0,9, -999.00,-999.0000,9,  -999.00, -999.00,9,  -999.0,9,  -999.0,   40.64,2,    23.9,2,     13.492,2,   0.1640,2,   0.1120,2,   0.0446,2,   0.0303,2,   0.0158,2,   0.0113,3,   0.0030,2,   0.0227,2,   0.0244,2,     -999.0,5,  -999.0,9,     -999.0,     -999.0,9,     -999.0,20130821,       1018
33RO20130803,       A16N,      68,          1,          4,          4,2,20130821,       0942,    31.5001,   -22.5339,       5238,  3826.3,   2.4816,  34.9067,2,  34.9063,2,    243.2,2,   243.9,2,   42.80,2,   22.00,2,    0.00,2,    1.48,2,   0.008,2,   0.006,2,   0.015,2,  2197.6,2,  2346.2,2,   746.5,2,      20,   7.7270,2,    25.00, -999.00,9,  -999.0,9,  -999.0,   39.95,2,   24.15,2,     13.558,2,   0.1561,2,   0.1059,2,   0.0441,2,   0.0306,2,   0.0164,2,   0.0119,3,   0.0032,2,   0.0219,2,   0.0238,2,     -999.0,5,  -999.0,9,     -999.0,     -999.0,9,     -999.0,20130821,       1010
33RO20130803,       A16N,      68,          1,          3,          3,2,20130821,       0942,    31.5001,   -22.5339,       5238,  4326.9,   2.4160,  34.8948,2,  34.8963,2,    243.6,2,     244,2,   45.40,2,   22.20,2,    0.00,2,    1.50,2,   0.001,2,   0.002,2,   0.000,2,  -999.0,9,  -999.0,9,  -999.0,9, -999.00,-999.0000,9,  -999.00, -999.00,9,  -999.0,9,  -999.0,    40.7,2,   24.27,2,     13.697,2,   0.1577,2,   0.1074,2,   0.0450,2,   0.0313,2,   0.0168,2,   0.0121,3,   0.0032,2,   0.0217,2,   0.0236,2,     -999.0,5,  -999.0,9,     -999.0,     -999.0,9,     -999.0,20130821,       1000
33RO20130803,       A16N,      68,          1,          2,          2,2,20130821,       0942,    31.5001,   -22.5339,       5238,  4786.6,   2.4131,  34.8883,2,-999.0000,9,    244.0,2,   244.1,2,   46.80,2,   22.40,2,    0.00,2,    1.51,2,   0.002,6,   0.003,6,   0.012,6,  2202.1,2,  2349.6,6,   749.2,2,      20,   7.7266,2,    25.00, -999.00,9,  -999.0,9,  -999.0,   39.97,2,   25.25,2,     13.759,6,   0.1616,2,   0.1106,2,   0.0490,2,   0.0350,2,   0.0198,2,   0.0143,2,   0.0045,2,   0.0205,2,   0.0225,2,     -999.0,5,  -999.0,9,     -999.0,     -999.0,9,     -999.0,20130821,       0952
33RO20130803,       A16N,      68,          1,          1,          1,2,20130821,       0942,    31.5001,   -22.5339,       5238,  5309.0,   2.4595,  34.8854,2,  34.8856,2,    243.9,2,   243.7,2,   47.50,2,   22.50,2,    0.00,2,    1.52,2,   0.004,2,   0.005,2,   0.000,2,  2202.6,6,  2352.7,2,   746.4,2,      20,   7.7415,2,    25.00, -999.00,9,  -999.0,9,  -999.0,   40.28,2,   25.22,2,     13.883,2,   0.1514,2,   0.1038,2,   0.0444,2,   0.0310,2,   0.0163,2,   0.0118,3,   0.0029,2,   0.0212,2,   0.0231,2,     -999.0,5,  -999.0,9,     -999.0,     -999.0,9,     -999.0,20130821,       0942