BOTTLE,20220815CCHSIOAMB
EXPOCODE,SECT_ID,STNNBR,CASTNO,SAMPNO,BTLNBR,BTLNBR_FLAG_W,DATE,TIME,LATITUDE,LONGITUDE,DEPTH,CTDPRS,CTDTMP,CTDSAL,CTDSAL_FLAG_W,SALNTY,SALNTY_FLAG_W,CTDOXY,CTDOXY_FLAG_W,OXYGEN,OXYGEN_FLAG_W,SILCAT,SILCAT_FLAG_W,NITRAT,NITRAT_FLAG_W,NITRIT,NITRIT_FLAG_W,PHSPHT,PHSPHT_FLAG_W,CFC-11,CFC-11_FLAG_W,CFC-12,CFC-12_FLAG_W,SF6,SF6_FLAG_W,TCARBN,TCARBN_FLAG_W,ALKALI,ALKALI_FLAG_W,PCO2,PCO2_FLAG_W,PCO2TMP,PH_SWS,PH_SWS_FLAG_W,PH_TMP,DELC13,DELC13_FLAG_W,DELC14,DELC14_FLAG_W,C14ERR,DOC,DOC_FLAG_W,TDN,TDN_FLAG_W,N2O,N2O_FLAG_W,CDOM325,CDOM325_FLAG_W,CDOM340,CDOM340_FLAG_W,CDOM380,CDOM380_FLAG_W,CDOM412,CDOM412_FLAG_W,CDOM443,CDOM443_FLAG_W,CDOM490,CDOM490_FLAG_W,CDOM555,CDOM555_FLAG_W,CDOMSL,CDOMSL_FLAG_W,CDOMSN,CDOMSN_FLAG_W,CCL4,CCL4_FLAG_W,14C-DOC,14C-DOC_FLAG_W,14C-DOCERR,13C-DOC,13C-DOC_FLAG_W,13C-DOCERR,BTL_DATE,BTL_TIME
,,,,,,,,,,,METERS,DBAR,ITS-90,PSS-78,,PSS-78,,UMOL/KG,,UMOL/KG,,UMOL/KG,,UMOL/KG,,UMOL/KG,,UMOL/KG,,PMOL/KG,,PMOL/KG,,FMOL/KG,,UMOL/KG,,UMOL/KG,,UATM,,DEG C,,,DEG C,/MILLE,,/MILLE,,/MILLE,UMOL/KG,,UMOL/KG,,NMOL/KG,,1/M,,1/M,,1/M,,1/M,,1/M,,1/M,,1/M,,1/NM,,1/NM,,PMOL/KG,,/MILLE,,/MILLE,/MILLE,,/MILLE,,
33RO20130803,       A16N,     127,          2,         24,         24,2,20130927,       2255,     1.0159,   -25.0002,       3144,     3.4,  26.3702,  35.8128,2,  35.8140,2,    203.2,2,   202.5,2,    1.10,2,    0.00,2,    0.00,2,    0.03,2,   1.624,2,   1.027,2,   1.201,2,  2027.9,6,  2346.2,2,   308.3,2,      20,   8.0597,2,    25.00, -999.00,9,  -999.0,9,  -999.0, -999.00,9, -999.00,9,      6.503,2,-999.0000,9,-999.0000,9,-999.0000,9,-999.0000,9,-999.0000,9,-999.0000,9,-999.0000,9,-999.0000,9,-999.0000,9,     -999.0,5,  -999.0,9,     -999.0,     -999.0,9,     -999.0,20130927,       0015
33RO20130803,       A16N,     127,          2,         23,         23,2,20130927,       2255,     1.0159,   -25.0002,       3144,    12.4,  26.3720,  35.8116,2,  35.8123,2,    203.4,2,   202.2,2,    1.10,2,    0.00,2,    0.00,2,    0.04,2,   1.630,2,   1.026,2,   1.190,2,  2027.8,2,  2348.9,6,   310.1,6,      20,   8.0603,2,    25.00, -999.00,9,  -999.0,9,  -999.0, -999.00,9, -999.00,9,      6.540,2,-999.0000,9,-999.0000,9,-999.0000,9,-999.0000,9,-999.0000,9,-999.0000,9,-999.0000,9,-999.0000,9,-999.0000,9,     -999.0,5,  -999.0,9,     -999.0,     -999.0,9,     -999.0,20130927,       0014
33RO20130803,       A16N,     127,          2,         22,         22,2,20130927,       2255,     1.0159,   -25.0002,       3144,    32.8,  26.3281,  35.8091,2,  35.8107,2,    204.2,2,   202.3,2,    1.10,2,    0.00,2,    0.00,2,    0.04,2,   1.635,2,   1.030,2,   1.171,2,  2029.2,2,  2347.2,2,   315.4,2,      20,   8.0573,2,    25.00, -999.00,9,  -999.0,9,  -999.0, -999.00,9, -999.00,9,      6.639,2,-999.0000,9,-999.0000,9,-999.0000,9,-999.0000,9,-999.0000,9,-999.0000,9,-999.0000,9,-999.0000,9,-999.0000,9,     -999.0,5,  -999.0,9,     -999.0,     -999.0,9,     -999.0,20130927,       0013
33RO20130803,       A16N,     127,          2,         21,         21,2,20130927,       2255,     1.0159,   -25.0002,       3144,    57.4,  25.9103,  35.7774,2,  35.7792,2,    205.0,2,   203.6,2,    1.20,2,    0.10,2,    0.00,2,    0.06,2,   1.662,6,   1.045,6,   1.207,6,  2032.7,2,  2350.2,2,   342.9,2,      20,   8.0519,2,    25.00, -999.00,9,  -999.0,9,  -999.0, -999.00,9, -999.00,9,      6.901,6,-999.0000,9,-999.0000,9,-999.0000,9,-999.0000,9,-999.0000,9,-999.0000,9,-999.0000,9,-999.0000,9,-999.0000,9,     -999.0,5,  -999.0,9,     -999.0,     -999.0,9,     -999.0,20130927,       0011
33RO20130803,       A16N,     127,          2,         20,         20,2,20130927,       2255,     1.0159,   -25.0002,       3144,    82.5,  22.1292,  35.8570,2,  35.8276,2,    157.0,2,   138.8,2,    3.50,2,    8.70,2,    0.17,2,    0.63,2,   1.862,2,   1.115,2,   1.000,2,  2135.0,2,  2350.0,2,   536.5,2,      20,   7.8688,2,    25.00, -999.00,9,  -999.0,9,  -999.0, -999.00,9, -999.00,9,     16.196,2,-999.0000,9,-999.0000,9,-999.0000,9,-999.0000,9,-999.0000,9,-999.0000,9,-999.0000,9,-999.0000,9,-999.0000,9,     -999.0,5,  -999.0,9,     -999.0,     -999.0,9,     -999.0,20130927,       0009
33RO20130803,       A16N,     127,          2,         19,         19,2,20130927,       2255,     1.0159,   -25.0002,       3144,   107.4,  15.4563,  35.5763,2,  35.5735,2,     90.2,2,    91.4,2,    6.80,2,   21.20,2,    0.02,2,    1.40,2,   2.184,2,   1.244,2,   0.791,2,  2201.0,2,  2343.6,2,   822.7,2,      20,   7.6854,3,    25.00, -999.00,9,  -999.0,9,  -999.0, -999.00,9, -999.00,9,     26.145,2,-999.0000,9,-999.0000,9,-999.0000,9,-999.0000,9,-999.0000,9,-999.0000,9,-999.0000,9,-999.0000,9,-999.0000,9,     -999.0,5,  -999.0,9,     -999.0,     -999.0,9,     -999.0,20130927,       0007
33RO20130803,       A16N,     127,          2,         18,         18,2,20130927,       2255,     1.0159,   -25.0002,       3144,   131.9,  14.0764,  35.4323,2,  35.4306,2,    137.9,2,   144.4,2,    6.80,2,   17.10,2,    0.01,2,    1.18,2,   2.322,2,   1.319,2,   0.904,2,  2170.4,2,  2330.7,2,   695.3,2,      20,   7.7558,2,    25.00, -999.00,9,  -999.0,9,  -999.0, -999.00,9, -999.00,9,     20.137,2,-999.0000,9,-999.0000,9,-999.0000,9,-999.0000,9,-999.0000,9,-999.0000,9,-999.0000,9,-999.0000,9,-999.0000,9,     -999.0,5,  -999.0,9,     -999.0,     -999.0,9,     -999.0,20130927,       0006
33RO20130803,       A16N,     127,          2,         17,         17,2,20130927,       2255,     1.0159,   -25.0002,       3144,   172.3,  13.5363,  35.3606,2,  35.3579,2,    156.6,2,   155.8,2,    7.00,2,   16.60,2,    0.01,2,    1.16,2,   2.371,2,   1.334,2,   0.950,2,  2165.0,2,  2328.8,2,   689.2,2,      20,   7.7639,2,    25.00, -999.00,9,  -999.0,9,  -999.0, -999.00,9, -999.00,9,     18.975,2,-999.0000,9,-999.0000,9,-999.0000,9,-999.0000,9,-999.0000,9,-999.0000,9,-999.0000,9,-999.0000,9,-999.0000,9,     -999.0,5,  -999.0,9,     -999.0,     -999.0,9,     -999.0,20130927,       0004
33RO20130803,       A16N,     127,          2,         16,         16,2,20130927,       2255,     1.0159,   -25.0002,       3144,   232.0,  12.6988,  35.2337,2,  35.2339,2,    135.5,2,   136.3,2,    8.20,2,   20.00,2,    0.01,2,    1.35,2,   2.268,2,   1.264,2,   0.714,2,  2177.9,2,  2319.2,2,   793.9,2,      20,   7.7099,6,    25.00, -999.00,9,  -999.0,9,  -999.0, -999.00,9, -999.00,9,     23.411,2,-999.0000,9,-999.0000,9,-999.0000,9,-999.0000,9,-999.0000,9,-999.0000,9,-999.0000,9,-999.0000,9,-999.0000,9,     -999.0,5,  -999.0,9,     -999.0,     -999.0,9,     -999.0,20130927,       0002
33RO20130803,       A16N,     127,          2,         15,         15,2,20130927,       2255,     1.0159,   -25.0002,       3144,   309.4,   9.9938,  34.9175,2,  34.9176,2,    120.0,2,   120.4,2,   12.80,2,   27.10,2,    0.00,2,    1.76,2,   1.841,2,   0.978,2,   0.484,2,  2202.3,2,  2307.2,2,  1001.6,2,      20,   7.6108,2,    25.00, -999.00,9,  -999.0,9,  -999.0, -999.00,9, -999.00,9,     28.579,2,-999.0000,9,-999.0000,9,-999.0000,9,-999.0000,9,-999.0000,9,-999.0000,9,-999.0000,9,-999.0000,9,-999.0000,9,     -999.0,5,  -999.0,9,     -999.0,     -999.0,9,     -999.0,20130927,       0000
33RO20130803,       A16N,     127,          2,         14,         14,2,20130927,       2255,     1.0159,   -25.0002,       3144,   382.0,   9.0160,  34.8122,2,  34.8100,2,    104.1,2,   104.7,2,   15.40,2,   30.80,2,    0.00,2,    1.98,2,   1.467,2,   0.770,2,   0.293,2,  2216.0,6,  2304.2,2,  1135.0,2,      20,   7.5523,2,    25.00, -999.00,9,  -999.0,9,  -999.0, -999.00,9, -999.00,9,     31.724,2,-999.0000,9,-999.0000,9,-999.0000,9,-999.0000,9,-999.0000,9,-999.0000,9,-999.0000,9,-999.0000,9,-999.0000,9,     -999.0,5,  -999.0,9,     -999.0,     -999.0,9,     -999.0,20130927,       2357
33RO20130803,       A16N,     127,          2,         13,         13,2,20130927,       2255,     1.0159,   -25.0002,       3144,   447.9,   8.4790,  34.7534,2,  34.7524,2,    110.3,2,   110.9,2,   16.50,2,   31.30,2,    0.00,2,    2.03,2,-999.000,5,-999.000,5,-999.000,5,  2217.1,2,  2303.4,2,  1117.5,2,      20,   7.5517,2,    25.00, -999.00,9,  -999.0,9,  -999.0, -999.00,9, -999.00,9,     -999.0,5,-999.0000,9,-999.0000,9,-999.0000,9,-999.0000,9,-999.0000,9,-999.0000,9,-999.0000,9,-999.0000,9,-999.0000,9,     -999.0,5,  -999.0,9,     -999.0,     -999.0,9,     -999.0,20130927,       2355
33RO20130803,       A16N,     127,          2,         12,         12,2,20130927,       2255,     1.0159,   -25.0002,       3144,   546.8,   7.2294,  34.6288,2,  34.6293,2,    128.1,2,   128.2,2,   19.60,6,   32.10,6,    0.00,6,    2.11,6,-999.000,5,-999.000,5,-999.000,5,  2213.5,2,  2295.8,6,  1147.5,2,      20,   7.5540,2,    25.00, -999.00,9,  -999.0,9,  -999.0, -999.00,9, -999.00,9,     -999.0,5,-999.0000,9,-999.0000,9,-999.0000,9,-999.0000,9,-999.0000,9,-999.0000,9,-999.0000,9,-999.0000,9,-999.0000,9,     -999.0,5,  -999.0,9,     -999.0,     -999.0,9,     -999.0,20130927,       2352
33RO20130803,       A16N,     127,          2,         11,         11,2,20130927,       2255,     1.0159,   -25.0002,       3144,   672.1,   5.6006,  34.5143,2,  34.5158,2,    143.1,2,   143.4,2,   26.10,6,   33.90,6,    0.00,6,    2.28,6,   0.695,6,   0.349,6,   0.099,6,  2218.8,2,  2299.4,2,  1171.4,2,      20,   7.5447,2,    25.00, -999.00,9,  -999.0,9,  -999.0, -999.00,9, -999.00,9,     24.865,6,-999.0000,9,-999.0000,9,-999.0000,9,-999.0000,9,-999.0000,9,-999.0000,9,-999.0000,9,-999.0000,9,-999.0000,9,     -999.0,5,  -999.0,9,     -999.0,     -999.0,9,     -999.0,20130927,       2349
33RO20130803,       A16N,     127,          2,         10,         10,2,20130927,       2255,     1.0159,   -25.0002,       3144,   821.7,   4.9074,  34.5277,2,  34.5290,2,    148.5,2,   148.3,2,   30.10,6,   34.10,6,    0.00,6,    2.32,6,   0.315,2,   0.161,2,   0.037,2,  2222.4,2,  2301.2,2,  1164.5,2,      20,   7.5457,2,    25.00, -999.00,9,  -999.0,9,  -999.0, -999.00,9, -999.00,9,     24.033,2,-999.0000,9,-999.0000,9,-999.0000,9,-999.0000,9,-999.0000,9,-999.0000,9,-999.0000,9,-999.0000,9,-999.0000,9,     -999.0,5,  -999.0,9,     -999.0,     -999.0,9,     -999.0,20130927,       2346
33RO20130803,       A16N,     127,          2,          9,          9,2,20130927,       2255,     1.0159,   -25.0002,       3144,   972.8,   4.6873,  34.6380,2,  34.6366,2,    154.1,2,   154.7,2,   30.00,6,   32.60,6,    0.00,6,    2.22,6,   0.127,2,   0.066,2,   0.000,2,  2221.6,2,  2310.0,2,  1079.8,2,      20,   7.5687,2,    25.00, -999.00,9,  -999.0,9,  -999.0, -999.00,9, -999.00,9,     22.670,2,-999.0000,9,-999.0000,9,-999.0000,9,-999.0000,9,-999.0000,9,-999.0000,9,-999.0000,9,-999.0000,9,-999.0000,9,     -999.0,5,  -999.0,9,     -999.0,     -999.0,9,     -999.0,20130927,       2342
33RO20130803,       A16N,     127,          2,          8,          8,2,20130927,       2255,     1.0159,   -25.0002,       3144,  1122.5,   4.5470,  34.7660,2,  34.7671,2,    171.9,2,   171.9,2,   27.30,2,   29.50,2,    0.00,2,    2.01,2,   0.067,2,   0.037,2,   0.000,2,  2210.4,2,  2310.8,2,  -999.0,5, -999.00,   7.6026,2,    25.00, -999.00,9,  -999.0,9,  -999.0, -999.00,9, -999.00,9,     20.668,2,-999.0000,9,-999.0000,9,-999.0000,9,-999.0000,9,-999.0000,9,-999.0000,9,-999.0000,9,-999.0000,9,-999.0000,9,     -999.0,5,  -999.0,9,     -999.0,     -999.0,9,     -999.0,20130927,       2339
33RO20130803,       A16N,     127,          2,          7,          7,2,20130927,       2255,     1.0159,   -25.0002,       3144,  1297.6,   4.5740,  34.8684,2,  34.8699,2,    191.1,2,   191.4,2,   23.40,2,   26.20,2,    0.00,2,    1.77,2,   0.159,2,   0.084,2,   0.013,2,  2199.1,2,  2316.6,2,   906.0,2,      20,   7.6450,2,    25.00, -999.00,9,  -999.0,9,  -999.0, -999.00,9, -999.00,9,     18.455,2,-999.0000,9,-999.0000,9,-999.0000,9,-999.0000,9,-999.0000,9,-999.0000,9,-999.0000,9,-999.0000,9,-999.0000,9,     -999.0,5,  -999.0,9,     -999.0,     -999.0,9,     -999.0,20130927,       2335
33RO20130803,       A16N,     127,          2,          6,          6,2,20130927,       2255,     1.0159,   -25.0002,       3144,  1498.0,   4.3082,  34.9607,2,  34.9655,2,    224.4,2,   225.4,2,   18.80,2,   21.80,2,    0.00,2,    1.46,2,   0.367,2,   0.186,2,   0.087,2,  2179.6,2,  2313.9,2,   803.1,2,      20,   7.6968,2,    25.00, -999.00,9,  -999.0,9,  -999.0, -999.00,9, -999.00,9,     15.488,2,-999.0000,9,-999.0000,9,-999.0000,9,-999.0000,9,-999.0000,9,-999.0000,9,-999.0000,9,-999.0000,9,-999.0000,9,     -999.0,5,  -999.0,9,     -999.0,     -999.0,9,     -999.0,20130927,       2330
33RO20130803,       A16N,     127,          2,          5,          5,2,20130927,       2255,     1.0159,   -25.0002,       3144,  1797.8,   3.8600,  34.9730,2,  34.9770,2,    245.3,2,   245.6,2,   18.20,2,   19.80,2,    0.00,2,    1.32,2,   0.451,2,   0.227,2,   0.102,2,  2170.5,2,  2319.0,2,   758.6,2,      20,   7.7208,2,    25.00, -999.00,9,  -999.0,9,  -999.0, -999.00,9, -999.00,9,     13.912,2,-999.0000,9,-999.0000,9,-999.0000,9,-999.0000,9,-999.0000,9,-999.0000,9,-999.0000,9,-999.0000,9,-999.0000,9,     -999.0,5,  -999.0,9,     -999.0,     -999.0,9,     -999.0,20130927,       2324
33RO20130803,       A16N,     127,          2,          4,          4,2,20130927,       2255,     1.0159,   -25.0002,       3144,  2198.1,   3.2990,  34.9526,2,  34.9533,2,    249.5,2,   249.8,2,   24.00,2,   19.90,2,    0.00,2,    1.33,2,   0.227,2,   0.117,2,   0.033,2,  2173.4,2,  2321.2,2,   749.5,2,      20,   7.7272,2,    25.00, -999.00,9,  -999.0,9,  -999.0, -999.00,9, -999.00,9,     13.497,2,-999.0000,9,-999.0000,9,-999.0000,9,-999.0000,9,-999.0000,9,-999.0000,9,-999.0000,9,-999.0000,9,-999.0000,9,     -999.0,5,  -999.0,9,     -999.0,     -999.0,9,     -999.0,20130927,       2316
33RO20130803,       A16N,     127,          2,          3,          3,2,20130927,       2255,     1.0159,   -25.0002,       3144,  2598.1,   2.9465,  34.9293,2,  34.9303,2,    244.8,2,   245.6,2,   31.80,2,   20.80,2,    0.00,2,    1.40,2,   0.086,2,   0.047,2,   0.013,2,  2181.2,2,  2330.9,6,   762.2,2,      20,   7.7216,2,    25.00, -999.00,9,  -999.0,9,  -999.0, -999.00,9, -999.00,9,     13.679,2,-999.0000,9,-999.0000,9,-999.0000,9,-999.0000,9,-999.0000,9,-999.0000,9,-999.0000,9,-999.0000,9,-999.0000,9,     -999.0,5,  -999.0,9,     -999.0,     -999.0,9,     -999.0,20130927,       2308
33RO20130803,       A16N,     127,          2,          2,          2,2,20130927,       2255,     1.0159,   -25.0002,       3144,  2998.3,   2.6704,  34.9124,2,  34.9140,2,    244.6,2,   245.5,2,   36.80,2,   21.20,2,    0.00,2,    1.44,2,   0.051,2,   0.029,2,   0.000,2,  2187.1,2,  2338.0,2,   768.4,2,      20,   7.7189,2,    25.00, -999.00,9,  -999.0,9,  -999.0, -999.00,9, -999.00,9,     13.729,2,-999.0000,9,-999.0000,9,-999.0000,9,-999.0000,9,-999.0000,9,-999.0000,9,-999.0000,9,-999.0000,9,-999.0000,9,     -999.0,5,  -999.0,9,     -999.0,     -999.0,9,     -999.0,20130927,       2300
33RO20130803,       A16N,     127,          2,          1,          1,2,20130927,       2255,     1.0159,   -25.0002,       3144,  3166.2,   2.6298,  34.9091,2,  34.9096,2,    245.4,2,   245.2,2,   37.90,2,   21.30,2,    0.00,2,    1.44,2,   0.047,6,   0.028,6,   0.000,6,  2189.9,6,  2335.2,2,   760.8,2,      20,   7.7431,3,    25.00, -999.00,9,  -999.0,9,  -999.0, -999.00,9, -999.00,9,     13.665,6,-999.0000,9,-999.0000,9,-999.0000,9,-999.0000,9,-999.0000,9,-999.0000,9,-999.0000,9,-999.0000,9,-999.0000,9,     -999.0,5,  -999.0,9,     -999.0,     -999.0,9,     -999.0,20130927,       2255