BOTTLE,20220815CCHSIOAMB
EXPOCODE,SECT_ID,STNNBR,CASTNO,SAMPNO,BTLNBR,BTLNBR_FLAG_W,DATE,TIME,LATITUDE,LONGITUDE,DEPTH,CTDPRS,CTDTMP,CTDSAL,CTDSAL_FLAG_W,SALNTY,SALNTY_FLAG_W,CTDOXY,CTDOXY_FLAG_W,OXYGEN,OXYGEN_FLAG_W,SILCAT,SILCAT_FLAG_W,NITRAT,NITRAT_FLAG_W,NITRIT,NITRIT_FLAG_W,PHSPHT,PHSPHT_FLAG_W,CFC-11,CFC-11_FLAG_W,CFC-12,CFC-12_FLAG_W,SF6,SF6_FLAG_W,TCARBN,TCARBN_FLAG_W,ALKALI,ALKALI_FLAG_W,PCO2,PCO2_FLAG_W,PCO2TMP,PH_SWS,PH_SWS_FLAG_W,PH_TMP,DELC13,DELC13_FLAG_W,DELC14,DELC14_FLAG_W,C14ERR,DOC,DOC_FLAG_W,TDN,TDN_FLAG_W,N2O,N2O_FLAG_W,CDOM325,CDOM325_FLAG_W,CDOM340,CDOM340_FLAG_W,CDOM380,CDOM380_FLAG_W,CDOM412,CDOM412_FLAG_W,CDOM443,CDOM443_FLAG_W,CDOM490,CDOM490_FLAG_W,CDOM555,CDOM555_FLAG_W,CDOMSL,CDOMSL_FLAG_W,CDOMSN,CDOMSN_FLAG_W,CCL4,CCL4_FLAG_W,14C-DOC,14C-DOC_FLAG_W,14C-DOCERR,13C-DOC,13C-DOC_FLAG_W,13C-DOCERR,BTL_DATE,BTL_TIME
,,,,,,,,,,,METERS,DBAR,ITS-90,PSS-78,,PSS-78,,UMOL/KG,,UMOL/KG,,UMOL/KG,,UMOL/KG,,UMOL/KG,,UMOL/KG,,PMOL/KG,,PMOL/KG,,FMOL/KG,,UMOL/KG,,UMOL/KG,,UATM,,DEG C,,,DEG C,/MILLE,,/MILLE,,/MILLE,UMOL/KG,,UMOL/KG,,NMOL/KG,,1/M,,1/M,,1/M,,1/M,,1/M,,1/M,,1/M,,1/NM,,1/NM,,PMOL/KG,,/MILLE,,/MILLE,/MILLE,,/MILLE,,
33RO20130803,       A16N,      57,          2,         24,         24,2,20130818,       2311,    36.9993,   -19.9996,       3828,     2.9,  22.1728,  36.5024,2,  36.4935,2,    220.1,2,   222.7,2,    0.30,2,    0.00,2,    0.00,2,    0.01,2,   2.026,2,   1.244,2,   1.464,2,  2106.4,6,  2394.3,2,   376.2,2,      20,   7.9852,2,    25.00, -999.00,9,  -999.0,9,  -999.0, -999.00,9, -999.00,9,      7.178,2,-999.0000,9,-999.0000,9,-999.0000,9,-999.0000,9,-999.0000,9,-999.0000,9,-999.0000,9,-999.0000,9,-999.0000,9,     -999.0,5,  -999.0,9,     -999.0,     -999.0,9,     -999.0,20130818,       0046
33RO20130803,       A16N,      57,          2,         23,         23,2,20130818,       2311,    36.9993,   -19.9996,       3828,    15.7,  21.5484,  36.4855,2,  36.4861,2,    220.8,2,   222.6,2,    0.30,2,    0.00,2,    0.00,2,    0.01,2,   2.026,2,   1.248,2,   1.512,2,  2106.3,2,  2392.0,6,   376.2,2,      20,   7.9850,2,    25.00, -999.00,9,  -999.0,9,  -999.0, -999.00,9, -999.00,9,      7.209,2,-999.0000,9,-999.0000,9,-999.0000,9,-999.0000,9,-999.0000,9,-999.0000,9,-999.0000,9,-999.0000,9,-999.0000,9,     -999.0,5,  -999.0,9,     -999.0,     -999.0,9,     -999.0,20130818,       0044
33RO20130803,       A16N,      57,          2,         22,         22,2,20130818,       2311,    36.9993,   -19.9996,       3828,    35.4,  19.4742,  36.3941,2,  36.3962,2,    239.5,2,   240.8,2,    0.30,2,    0.00,2,    0.00,2,    0.01,2,   2.291,6,   1.387,6,   1.602,6,  2102.8,2,  2387.8,2,   377.7,2,      20,   7.9843,2,    25.00, -999.00,9,  -999.0,9,  -999.0, -999.00,9, -999.00,9,      7.803,6,-999.0000,9,-999.0000,9,-999.0000,9,-999.0000,9,-999.0000,9,-999.0000,9,-999.0000,9,-999.0000,9,-999.0000,9,     -999.0,5,  -999.0,9,     -999.0,     -999.0,9,     -999.0,20130818,       0043
33RO20130803,       A16N,      57,          2,         21,         21,2,20130818,       2311,    36.9993,   -19.9996,       3828,    60.7,  17.9627,  36.3143,2,  36.3044,2,    243.9,2,   243.7,2,    0.40,2,    0.00,2,    0.00,2,    0.02,2,   2.407,2,   1.444,2,   1.650,2,  2101.8,2,  2383.2,2,   385.2,2,      20,   7.9801,2,    25.00, -999.00,9,  -999.0,9,  -999.0, -999.00,9, -999.00,9,      8.232,2,-999.0000,9,-999.0000,9,-999.0000,9,-999.0000,9,-999.0000,9,-999.0000,9,-999.0000,9,-999.0000,9,-999.0000,9,     -999.0,5,  -999.0,9,     -999.0,     -999.0,9,     -999.0,20130818,       0041
33RO20130803,       A16N,      57,          2,         20,         20,2,20130818,       2311,    36.9993,   -19.9996,       3828,    85.7,  16.8973,  36.2824,2,  36.2816,2,    234.9,2,   232.5,2,    0.60,2,    0.10,2,    0.01,2,    0.04,2,   2.450,2,   1.467,2,   1.675,2,  2114.3,2,  2382.7,2,   409.7,2,      20,   7.9557,2,    25.00, -999.00,9,  -999.0,9,  -999.0, -999.00,9, -999.00,9,      8.672,2,-999.0000,9,-999.0000,9,-999.0000,9,-999.0000,9,-999.0000,9,-999.0000,9,-999.0000,9,-999.0000,9,-999.0000,9,     -999.0,5,  -999.0,9,     -999.0,     -999.0,9,     -999.0,20130818,       0039
33RO20130803,       A16N,      57,          2,         19,         19,2,20130818,       2311,    36.9993,   -19.9996,       3828,   110.3,  16.1457,  36.2007,2,  36.2025,2,    221.3,2,   219.7,2,    1.20,2,    2.60,2,    0.13,2,    0.18,2,   2.496,2,   1.489,2,   1.592,2,  2124.2,2,  2374.9,2,   444.3,2,      20,   7.9250,2,    25.00, -999.00,9,  -999.0,9,  -999.0, -999.00,9, -999.00,9,      9.099,2,-999.0000,9,-999.0000,9,-999.0000,9,-999.0000,9,-999.0000,9,-999.0000,9,-999.0000,9,-999.0000,9,-999.0000,9,     -999.0,5,  -999.0,9,     -999.0,     -999.0,9,     -999.0,20130818,       0038
33RO20130803,       A16N,      57,          2,         18,         18,2,20130818,       2311,    36.9993,   -19.9996,       3828,   136.0,  15.6328,  36.1612,2,  36.1534,2,    215.3,2,   214.9,2,    1.80,2,    4.80,2,    0.02,2,    0.30,2,   2.546,2,   1.507,2,   1.586,2,  2132.2,2,  2391.1,4,   466.8,2,      20,   7.9050,2,    25.00, -999.00,9,  -999.0,9,  -999.0, -999.00,9, -999.00,9,      9.652,2,-999.0000,9,-999.0000,9,-999.0000,9,-999.0000,9,-999.0000,9,-999.0000,9,-999.0000,9,-999.0000,9,-999.0000,9,     -999.0,5,  -999.0,9,     -999.0,     -999.0,9,     -999.0,20130818,       0036
33RO20130803,       A16N,      57,          2,         17,         17,2,20130818,       2311,    36.9993,   -19.9996,       3828,   173.8,  14.8292,  36.0479,2,  36.0407,2,    210.2,2,   209.7,2,    2.50,2,    6.90,2,    0.01,2,    0.43,2,   2.600,2,   1.527,2,   1.517,2,  2138.1,2,  2365.6,2,   498.8,2,      20,   7.8805,2,    25.00, -999.00,9,  -999.0,9,  -999.0, -999.00,9, -999.00,9,     10.432,2,-999.0000,9,-999.0000,9,-999.0000,9,-999.0000,9,-999.0000,9,-999.0000,9,-999.0000,9,-999.0000,9,-999.0000,9,     -999.0,5,  -999.0,9,     -999.0,     -999.0,9,     -999.0,20130818,       0034
33RO20130803,       A16N,      57,          2,         16,         16,2,20130818,       2311,    36.9993,   -19.9996,       3828,   235.9,  13.9500,  35.9118,2,  35.9073,2,    205.3,2,   205.5,2,    3.30,2,    9.20,2,    0.01,2,    0.57,2,   2.652,2,   1.545,2,   1.450,2,  2145.5,2,  2355.4,2,   537.1,2,      20,   7.8537,2,    25.00, -999.00,9,  -999.0,9,  -999.0, -999.00,9, -999.00,9,     11.371,2,-999.0000,9,-999.0000,9,-999.0000,9,-999.0000,9,-999.0000,9,-999.0000,9,-999.0000,9,-999.0000,9,-999.0000,9,     -999.0,5,  -999.0,9,     -999.0,     -999.0,9,     -999.0,20130818,       0031
33RO20130803,       A16N,      57,          2,         15,         15,2,20130818,       2311,    36.9993,   -19.9996,       3828,   311.0,  13.1264,  35.7915,2,  35.7850,2,    205.5,2,   204.9,2,    4.00,2,   10.80,2,    0.00,2,    0.66,2,   2.708,2,   1.561,2,   1.380,2,  2151.0,2,  2348.0,2,   568.8,2,      20,   7.8312,2,    25.00, -999.00,9,  -999.0,9,  -999.0, -999.00,9, -999.00,9,     12.093,2,-999.0000,9,-999.0000,9,-999.0000,9,-999.0000,9,-999.0000,9,-999.0000,9,-999.0000,9,-999.0000,9,-999.0000,9,     -999.0,5,  -999.0,9,     -999.0,     -999.0,9,     -999.0,20130818,       0028
33RO20130803,       A16N,      57,          2,         14,         14,2,20130818,       2311,    36.9993,   -19.9996,       3828,   379.9,  12.5826,  35.7288,2,  35.7269,2,    205.7,2,   205.4,2,    4.30,2,   11.70,2,    0.00,2,    0.72,2,   2.766,2,   1.582,2,   1.368,2,  2155.2,2,  2344.9,2,   594.6,2,      20,   7.8146,6,    25.00, -999.00,9,  -999.0,9,  -999.0, -999.00,9, -999.00,9,     12.554,2,-999.0000,9,-999.0000,9,-999.0000,9,-999.0000,9,-999.0000,9,-999.0000,9,-999.0000,9,-999.0000,9,-999.0000,9,     -999.0,5,  -999.0,9,     -999.0,     -999.0,9,     -999.0,20130818,       0026
33RO20130803,       A16N,      57,          2,         13,         13,2,20130818,       2311,    36.9993,   -19.9996,       3828,   460.6,  11.9640,  35.6573,2,  35.6563,2,    204.8,2,   206.3,2,    4.70,2,   12.80,2,    0.00,2,    0.78,2,   2.810,2,   1.599,2,   1.300,2,  2160.6,2,  2344.5,2,   620.4,2,      20,   7.7958,2,    25.00, -999.00,9,  -999.0,9,  -999.0, -999.00,9, -999.00,9,     13.047,2,-999.0000,9,-999.0000,9,-999.0000,9,-999.0000,9,-999.0000,9,-999.0000,9,-999.0000,9,-999.0000,9,-999.0000,9,     -999.0,5,  -999.0,9,     -999.0,     -999.0,9,     -999.0,20130818,       0023
33RO20130803,       A16N,      57,          2,         12,         12,2,20130818,       2311,    36.9993,   -19.9996,       3828,   574.0,  11.2700,  35.5993,2,  35.5971,2,    192.4,2,   192.3,2,    6.70,2,   15.30,2,    0.00,2,    0.95,2,   2.554,2,   1.407,2,   1.030,2,  2170.8,2,  2343.7,2,   668.9,2,      20,   7.7697,2,    25.00, -999.00,9,  -999.0,9,  -999.0, -999.00,9, -999.00,9,     14.374,2,-999.0000,9,-999.0000,9,-999.0000,9,-999.0000,9,-999.0000,9,-999.0000,9,-999.0000,9,-999.0000,9,-999.0000,9,     -999.0,5,  -999.0,9,     -999.0,     -999.0,9,     -999.0,20130818,       0020
33RO20130803,       A16N,      57,          2,         11,         11,2,20130818,       2311,    36.9993,   -19.9996,       3828,   724.4,  10.8142,  35.6937,2,  35.7018,2,    177.1,2,   177.7,2,    8.70,2,   17.10,2,    0.00,2,    1.07,2,   2.057,2,   1.107,2,   0.649,2,  2185.0,2,  2353.1,6,   695.7,2,      20,   7.7553,2,    25.00, -999.00,9,  -999.0,9,  -999.0, -999.00,9, -999.00,9,     15.302,2,-999.0000,9,-999.0000,9,-999.0000,9,-999.0000,9,-999.0000,9,-999.0000,9,-999.0000,9,-999.0000,9,-999.0000,9,     -999.0,5,  -999.0,9,     -999.0,     -999.0,9,     -999.0,20130818,       0016
33RO20130803,       A16N,      57,          2,         10,         10,2,20130818,       2311,    36.9993,   -19.9996,       3828,   874.3,  10.8233,  35.9181,2,  35.9144,2,    177.0,2,   177.9,2,    9.40,2,   16.70,2,    0.00,2,    1.04,2,   1.793,2,   0.973,2,   0.547,2,  2198.4,2,  2370.8,2,   681.2,2,      20,   7.7676,2,    25.00, -999.00,9,  -999.0,9,  -999.0, -999.00,9, -999.00,9,     14.965,2,-999.0000,9,-999.0000,9,-999.0000,9,-999.0000,9,-999.0000,9,-999.0000,9,-999.0000,9,-999.0000,9,-999.0000,9,     -999.0,5,  -999.0,9,     -999.0,     -999.0,9,     -999.0,20130818,       0012
33RO20130803,       A16N,      57,          2,          9,          9,2,20130818,       2311,    36.9993,   -19.9996,       3828,  1050.9,   9.6628,  35.8244,2,  35.8088,2,    186.0,2,   184.9,2,   10.80,2,   17.60,2,    0.00,2,    1.11,2,   1.622,2,   0.858,2,   0.437,2,  2199.6,6,  2366.6,2,   701.4,2,      20,   7.7569,2,    25.00, -999.00,9,  -999.0,9,  -999.0, -999.00,9, -999.00,9,     15.059,2,-999.0000,9,-999.0000,9,-999.0000,9,-999.0000,9,-999.0000,9,-999.0000,9,-999.0000,9,-999.0000,9,-999.0000,9,     -999.0,5,  -999.0,9,     -999.0,     -999.0,9,     -999.0,20130818,       0008
33RO20130803,       A16N,      57,          2,          8,          8,2,20130818,       2311,    36.9993,   -19.9996,       3828,  1248.6,   8.1129,  35.6358,2,  35.6362,2,    202.2,2,     202,2,   11.80,2,   17.80,2,    0.00,2,    1.14,2,   1.623,2,   0.833,2,   0.374,2,  2195.1,2,  2355.9,2,   715.1,2,      20,   7.7618,2,    25.00, -999.00,9,  -999.0,9,  -999.0, -999.00,9, -999.00,9,     14.682,2,-999.0000,9,-999.0000,9,-999.0000,9,-999.0000,9,-999.0000,9,-999.0000,9,-999.0000,9,-999.0000,9,-999.0000,9,     -999.0,5,  -999.0,9,     -999.0,     -999.0,9,     -999.0,20130818,       0004
33RO20130803,       A16N,      57,          2,          7,          7,2,20130818,       2311,    36.9993,   -19.9996,       3828,  1523.6,   6.0229,  35.3254,2,  35.3260,2,    230.3,2,   229.4,2,   12.60,2,   18.00,2,    0.00,2,    1.17,2,   1.880,2,   0.938,2,   0.387,2,  2181.8,2,  2336.3,2,   736.4,2,      20,   7.7336,2,    25.00, -999.00,9,  -999.0,9,  -999.0, -999.00,9, -999.00,9,     14.113,2,-999.0000,9,-999.0000,9,-999.0000,9,-999.0000,9,-999.0000,9,-999.0000,9,-999.0000,9,-999.0000,9,-999.0000,9,     -999.0,5,  -999.0,9,     -999.0,     -999.0,9,     -999.0,20130818,       2358
33RO20130803,       A16N,      57,          2,          6,          6,2,20130818,       2311,    36.9993,   -19.9996,       3828,  1898.8,   4.4037,  35.0969,2,  35.0972,2,    252.3,2,   250.9,2,   14.70,2,   18.20,2,    0.00,2,    1.19,2,   1.656,2,   0.803,2,   0.277,2,  2171.4,2,  2322.3,2,   742.3,2,      20,   7.7179,2,    25.00, -999.00,9,  -999.0,9,  -999.0, -999.00,9, -999.00,9,     13.583,2,-999.0000,9,-999.0000,9,-999.0000,9,-999.0000,9,-999.0000,9,-999.0000,9,-999.0000,9,-999.0000,9,-999.0000,9,     -999.0,5,  -999.0,9,     -999.0,     -999.0,9,     -999.0,20130818,       2350
33RO20130803,       A16N,      57,          2,          5,          5,2,20130818,       2311,    36.9993,   -19.9996,       3828,  2298.5,   3.5018,  34.9936,2,  34.9945,2,    256.5,2,   256.7,2,   19.50,2,   18.60,2,    0.00,2,    1.24,2,   0.912,2,   0.443,2,   0.155,2,  2170.1,2,  2324.3,2,   738.4,2,      20,   7.7279,6,    25.00, -999.00,9,  -999.0,9,  -999.0, -999.00,9, -999.00,9,     13.285,2,-999.0000,9,-999.0000,9,-999.0000,9,-999.0000,9,-999.0000,9,-999.0000,9,-999.0000,9,-999.0000,9,-999.0000,9,     -999.0,5,  -999.0,9,     -999.0,     -999.0,9,     -999.0,20130818,       2342
33RO20130803,       A16N,      57,          2,          4,          4,2,20130818,       2311,    36.9993,   -19.9996,       3828,  2698.3,   2.9799,  34.9513,2,  34.9507,2,    255.0,2,   254.1,2,   26.30,6,   19.30,6,    0.00,6,    1.30,6,   0.650,2,   0.318,2,   0.101,2,  2177.7,2,  2331.0,2,   746.4,2,      20,   7.7282,2,    25.00, -999.00,9,  -999.0,9,  -999.0, -999.00,9, -999.00,9,     13.320,2,-999.0000,9,-999.0000,9,-999.0000,9,-999.0000,9,-999.0000,9,-999.0000,9,-999.0000,9,-999.0000,9,-999.0000,9,     -999.0,5,  -999.0,9,     -999.0,     -999.0,9,     -999.0,20130818,       2335
33RO20130803,       A16N,      57,          2,          3,          3,2,20130818,       2311,    36.9993,   -19.9996,       3828,  3098.0,   2.7334,  34.9348,2,  34.9340,2,    248.2,2,   247.9,2,   34.00,6,   20.50,6,    0.00,6,    1.38,6,   0.326,2,   0.163,2,   0.066,2,  2189.3,6,  2341.6,2,   752.0,2,      20,   7.7276,2,    25.00, -999.00,9,  -999.0,9,  -999.0, -999.00,9, -999.00,9,     13.406,2,-999.0000,9,-999.0000,9,-999.0000,9,-999.0000,9,-999.0000,9,-999.0000,9,-999.0000,9,-999.0000,9,-999.0000,9,     -999.0,5,  -999.0,9,     -999.0,     -999.0,9,     -999.0,20130818,       2326
33RO20130803,       A16N,      57,          2,          2,          2,2,20130818,       2311,    36.9993,   -19.9996,       3828,  3498.2,   2.6021,  34.9205,2,  34.9196,2,    245.1,2,   243.9,2,   39.10,6,   21.30,6,    0.00,6,    1.44,6,   0.227,6,   0.112,6,   0.059,6,  2193.9,2,  2348.5,2,   755.9,2,      20,   7.7278,2,    25.00, -999.00,9,  -999.0,9,  -999.0, -999.00,9, -999.00,9,     13.460,6,-999.0000,9,-999.0000,9,-999.0000,9,-999.0000,9,-999.0000,9,-999.0000,9,-999.0000,9,-999.0000,9,-999.0000,9,     -999.0,5,  -999.0,9,     -999.0,     -999.0,9,     -999.0,20130818,       2319
33RO20130803,       A16N,      57,          2,          1,          1,2,20130818,       2311,    36.9993,   -19.9996,       3828,  3879.2,   2.5531,  34.9120,2,  34.9114,2,    243.3,2,   243.4,2,   41.90,6,   21.80,6,    0.00,6,    1.47,6,   0.131,2,   0.066,2,   0.039,2,  2196.7,2,  2354.0,6,   755.6,2,      20,   7.7263,2,    25.00, -999.00,9,  -999.0,9,  -999.0, -999.00,9, -999.00,9,     13.577,2,-999.0000,9,-999.0000,9,-999.0000,9,-999.0000,9,-999.0000,9,-999.0000,9,-999.0000,9,-999.0000,9,-999.0000,9,     -999.0,5,  -999.0,9,     -999.0,     -999.0,9,     -999.0,20130818,       2311