BOTTLE,20220815CCHSIOAMB
EXPOCODE,SECT_ID,STNNBR,CASTNO,SAMPNO,BTLNBR,BTLNBR_FLAG_W,DATE,TIME,LATITUDE,LONGITUDE,DEPTH,CTDPRS,CTDTMP,CTDSAL,CTDSAL_FLAG_W,SALNTY,SALNTY_FLAG_W,CTDOXY,CTDOXY_FLAG_W,OXYGEN,OXYGEN_FLAG_W,SILCAT,SILCAT_FLAG_W,NITRAT,NITRAT_FLAG_W,NITRIT,NITRIT_FLAG_W,PHSPHT,PHSPHT_FLAG_W,CFC-11,CFC-11_FLAG_W,CFC-12,CFC-12_FLAG_W,SF6,SF6_FLAG_W,TCARBN,TCARBN_FLAG_W,ALKALI,ALKALI_FLAG_W,PCO2,PCO2_FLAG_W,PCO2TMP,PH_SWS,PH_SWS_FLAG_W,PH_TMP,DELC13,DELC13_FLAG_W,DELC14,DELC14_FLAG_W,C14ERR,DOC,DOC_FLAG_W,TDN,TDN_FLAG_W,N2O,N2O_FLAG_W,CDOM325,CDOM325_FLAG_W,CDOM340,CDOM340_FLAG_W,CDOM380,CDOM380_FLAG_W,CDOM412,CDOM412_FLAG_W,CDOM443,CDOM443_FLAG_W,CDOM490,CDOM490_FLAG_W,CDOM555,CDOM555_FLAG_W,CDOMSL,CDOMSL_FLAG_W,CDOMSN,CDOMSN_FLAG_W,CCL4,CCL4_FLAG_W,14C-DOC,14C-DOC_FLAG_W,14C-DOCERR,13C-DOC,13C-DOC_FLAG_W,13C-DOCERR,BTL_DATE,BTL_TIME
,,,,,,,,,,,METERS,DBAR,ITS-90,PSS-78,,PSS-78,,UMOL/KG,,UMOL/KG,,UMOL/KG,,UMOL/KG,,UMOL/KG,,UMOL/KG,,PMOL/KG,,PMOL/KG,,FMOL/KG,,UMOL/KG,,UMOL/KG,,UATM,,DEG C,,,DEG C,/MILLE,,/MILLE,,/MILLE,UMOL/KG,,UMOL/KG,,NMOL/KG,,1/M,,1/M,,1/M,,1/M,,1/M,,1/M,,1/M,,1/NM,,1/NM,,PMOL/KG,,/MILLE,,/MILLE,/MILLE,,/MILLE,,
33RO20130803,       A16N,      67,          2,         24,         24,2,20130821,       0244,    32.0001,   -22.2501,       5184,     2.8,  23.4716,  36.8166,2,  36.8159,2,    212.9,2,   214.3,2,    0.50,2,    0.00,2,    0.00,2,    0.01,2,   1.881,2,   1.167,2,   1.394,2,  2104.6,6,  2409.8,2,   356.7,2,      20,   8.0034,2,    25.00, -999.00,9,  -999.0,9,  -999.0, -999.00,9, -999.00,9,      6.788,2,-999.0000,9,-999.0000,9,-999.0000,9,-999.0000,9,-999.0000,9,-999.0000,9,-999.0000,9,-999.0000,9,-999.0000,9,     -999.0,5,  -999.0,9,     -999.0,     -999.0,9,     -999.0,20130821,       0440
33RO20130803,       A16N,      67,          2,         23,         23,2,20130821,       0244,    32.0001,   -22.2501,       5184,    24.0,  21.5533,  36.6694,2,  36.6814,2,    223.6,2,     231,2,    0.40,2,    0.00,2,    0.00,2,    0.02,2,   2.113,2,   1.285,2,   1.539,2,  2098.7,2,  2401.8,6,   359.4,2,      20,-999.0000,5,  -999.00, -999.00,9,  -999.0,9,  -999.0, -999.00,9, -999.00,9,      7.317,2,-999.0000,9,-999.0000,9,-999.0000,9,-999.0000,9,-999.0000,9,-999.0000,9,-999.0000,9,-999.0000,9,-999.0000,9,     -999.0,5,  -999.0,9,     -999.0,     -999.0,9,     -999.0,20130821,       0438
33RO20130803,       A16N,      67,          2,         22,         22,2,20130821,       0244,    32.0001,   -22.2501,       5184,    48.8,  19.8348,  36.6109,2,  36.6013,2,    239.9,2,   240.1,2,    0.50,2,    0.00,2,    0.00,2,    0.02,2,   2.233,6,   1.349,6,   1.563,6,  2093.1,2,  2395.2,2,   357.7,2,      20,   8.0066,2,    25.00, -999.00,9,  -999.0,9,  -999.0, -999.00,9, -999.00,9,      7.668,6,-999.0000,9,-999.0000,9,-999.0000,9,-999.0000,9,-999.0000,9,-999.0000,9,-999.0000,9,-999.0000,9,-999.0000,9,     -999.0,5,  -999.0,9,     -999.0,     -999.0,9,     -999.0,20130821,       0436
33RO20130803,       A16N,      67,          2,         21,         21,2,20130821,       0244,    32.0001,   -22.2501,       5184,    73.6,  18.8056,  36.5383,2,  36.5341,2,    236.4,2,   234.9,2,    0.40,2,    0.00,2,    0.00,2,    0.02,2,   2.281,2,   1.381,2,   1.525,2,  2101.0,2,  2393.1,2,   372.0,2,      20,   7.9901,2,    25.00, -999.00,9,  -999.0,9,  -999.0, -999.00,9, -999.00,9,      7.821,2,-999.0000,9,-999.0000,9,-999.0000,9,-999.0000,9,-999.0000,9,-999.0000,9,-999.0000,9,-999.0000,9,-999.0000,9,     -999.0,5,  -999.0,9,     -999.0,     -999.0,9,     -999.0,20130821,       0435
33RO20130803,       A16N,      67,          2,         20,         20,2,20130821,       0244,    32.0001,   -22.2501,       5184,    98.2,  18.1691,  36.4945,2,  36.5022,2,    226.3,2,   223.5,2,    0.60,2,    0.10,2,    0.01,2,    0.03,2,   2.292,2,   1.378,2,   1.570,2,  2108.3,2,  2390.5,2,   389.4,2,      20,   7.9735,2,    25.00, -999.00,9,  -999.0,9,  -999.0, -999.00,9, -999.00,9,      7.988,2,-999.0000,9,-999.0000,9,-999.0000,9,-999.0000,9,-999.0000,9,-999.0000,9,-999.0000,9,-999.0000,9,-999.0000,9,     -999.0,5,  -999.0,9,     -999.0,     -999.0,9,     -999.0,20130821,       0433
33RO20130803,       A16N,      67,          2,         19,         19,2,20130821,       0244,    32.0001,   -22.2501,       5184,   148.4,  18.0122,  36.5596,2,  36.5613,2,    213.8,2,     214,2,    1.00,2,    1.70,2,    0.02,2,    0.11,2,   2.281,2,   1.372,2,   1.556,2,  2116.7,2,  2392.6,2,   403.5,2,      20,   7.9590,2,    25.00, -999.00,9,  -999.0,9,  -999.0, -999.00,9, -999.00,9,      8.133,2,-999.0000,9,-999.0000,9,-999.0000,9,-999.0000,9,-999.0000,9,-999.0000,9,-999.0000,9,-999.0000,9,-999.0000,9,     -999.0,5,  -999.0,9,     -999.0,     -999.0,9,     -999.0,20130821,       0430
33RO20130803,       A16N,      67,          2,         18,         18,2,20130821,       0244,    32.0001,   -22.2501,       5184,   223.5,  16.6930,  36.3301,2,  36.3253,2,    200.1,2,   200.2,2,    2.00,2,    5.70,2,    0.01,2,    0.33,2,   2.420,2,   1.430,2,   1.416,2,  2129.3,2,  2376.9,2,   451.2,2,      20,   7.9160,2,    25.00, -999.00,9,  -999.0,9,  -999.0, -999.00,9, -999.00,9,      9.560,2,-999.0000,9,-999.0000,9,-999.0000,9,-999.0000,9,-999.0000,9,-999.0000,9,-999.0000,9,-999.0000,9,-999.0000,9,     -999.0,5,  -999.0,9,     -999.0,     -999.0,9,     -999.0,20130821,       0428
33RO20130803,       A16N,      67,          2,         17,         17,2,20130821,       0244,    32.0001,   -22.2501,       5184,   298.6,  15.5900,  36.1627,2,  36.1538,2,    198.9,2,   199.7,2,    2.60,2,    7.60,2,    0.01,2,    0.46,2,   2.496,2,   1.461,2,   1.359,2,  2135.5,2,  2366.7,2,  -999.0,5,      20,   7.8891,2,    25.00, -999.00,9,  -999.0,9,  -999.0, -999.00,9, -999.00,9,     10.361,2,-999.0000,9,-999.0000,9,-999.0000,9,-999.0000,9,-999.0000,9,-999.0000,9,-999.0000,9,-999.0000,9,-999.0000,9,     -999.0,5,  -999.0,9,     -999.0,     -999.0,9,     -999.0,20130821,       0425
33RO20130803,       A16N,      67,          2,         16,         16,2,20130821,       0244,    32.0001,   -22.2501,       5184,   398.0,  14.1552,  35.9258,2,  35.9234,2,    199.7,2,   199.6,2,    3.60,2,    9.90,2,    0.00,2,    0.60,2,   2.586,2,   1.501,2,   1.301,2,  2141.9,2,  2355.4,2,   536.5,2,      20,   7.8524,2,    25.00, -999.00,9,  -999.0,9,  -999.0, -999.00,9, -999.00,9,     11.414,2,-999.0000,9,-999.0000,9,-999.0000,9,-999.0000,9,-999.0000,9,-999.0000,9,-999.0000,9,-999.0000,9,-999.0000,9,     -999.0,5,  -999.0,9,     -999.0,     -999.0,9,     -999.0,20130821,       0422
33RO20130803,       A16N,      67,          2,         15,         15,2,20130821,       0244,    32.0001,   -22.2501,       5184,   498.3,  12.9813,  35.7582,2,  35.7557,2,    198.0,2,   197.3,2,    4.60,2,   12.10,2,    0.00,2,    0.74,2,   2.627,2,   1.490,2,   1.252,2,  2150.4,2,  2347.6,2,   585.9,2,      20,   7.8189,2,    25.00, -999.00,9,  -999.0,9,  -999.0, -999.00,9, -999.00,9,     12.593,2,-999.0000,9,-999.0000,9,-999.0000,9,-999.0000,9,-999.0000,9,-999.0000,9,-999.0000,9,-999.0000,9,-999.0000,9,     -999.0,5,  -999.0,9,     -999.0,     -999.0,9,     -999.0,20130821,       0420
33RO20130803,       A16N,      67,          2,         14,         14,2,20130821,       0244,    32.0001,   -22.2501,       5184,   649.4,  11.6763,  35.6094,2,  35.6110,2,    192.5,2,   192.8,2,    6.10,2,   14.80,2,    0.00,2,    0.91,2,   2.589,2,   1.433,2,   1.041,2,  2161.7,2,  2340.3,2,   648.3,2,      20,   7.7807,2,    25.00, -999.00,9,  -999.0,9,  -999.0, -999.00,9, -999.00,9,     13.956,2,-999.0000,9,-999.0000,9,-999.0000,9,-999.0000,9,-999.0000,9,-999.0000,9,-999.0000,9,-999.0000,9,-999.0000,9,     -999.0,5,  -999.0,9,     -999.0,     -999.0,9,     -999.0,20130821,       0416
33RO20130803,       A16N,      67,          2,         13,         13,2,20130821,       0244,    32.0001,   -22.2501,       5184,   798.7,  10.4290,  35.5196,2,  35.5221,2,    177.0,2,     174,2,    9.40,2,   18.60,2,    0.00,2,    1.16,2,   1.955,2,   1.039,2,   0.566,2,  2178.2,2,  2336.2,2,   719.1,2,      20,   7.7397,6,    25.00, -999.00,9,  -999.0,9,  -999.0, -999.00,9, -999.00,9,     15.972,2,-999.0000,9,-999.0000,9,-999.0000,9,-999.0000,9,-999.0000,9,-999.0000,9,-999.0000,9,-999.0000,9,-999.0000,9,     -999.0,5,  -999.0,9,     -999.0,     -999.0,9,     -999.0,20130821,       0412
33RO20130803,       A16N,      67,          2,         12,         12,2,20130821,       0244,    32.0001,   -22.2501,       5184,   948.5,   9.7153,  35.6373,2,  35.6398,2,    177.0,2,   174.8,2,   11.10,2,   19.10,2,    0.00,2,    1.20,2,   1.539,2,   0.808,2,   0.406,2,  2191.0,2,  2350.3,2,   724.3,2,      20,   7.7304,2,    25.00, -999.00,9,  -999.0,9,  -999.0, -999.00,9, -999.00,9,     15.865,2,-999.0000,9,-999.0000,9,-999.0000,9,-999.0000,9,-999.0000,9,-999.0000,9,-999.0000,9,-999.0000,9,-999.0000,9,     -999.0,5,  -999.0,9,     -999.0,     -999.0,9,     -999.0,20130821,       0409
33RO20130803,       A16N,      67,          2,         11,         11,2,20130821,       0244,    32.0001,   -22.2501,       5184,  1098.2,   8.9416,  35.6522,2,  35.6525,2,    181.8,2,     183,2,   12.10,2,   19.20,2,    0.00,2,    1.21,2,   1.340,2,   0.697,2,   0.318,2,  2195.4,6,  2355.5,2,   724.7,2,      20,   7.7364,2,    25.00, -999.00,9,  -999.0,9,  -999.0, -999.00,9, -999.00,9,     15.496,2,-999.0000,9,-999.0000,9,-999.0000,9,-999.0000,9,-999.0000,9,-999.0000,9,-999.0000,9,-999.0000,9,-999.0000,9,     -999.0,5,  -999.0,9,     -999.0,     -999.0,9,     -999.0,20130821,       0405
33RO20130803,       A16N,      67,          2,         10,         10,2,20130821,       0244,    32.0001,   -22.2501,       5184,  1298.9,   7.9201,  35.5948,2,  35.5933,2,    197.3,2,   199.1,2,   12.80,2,   18.60,2,    0.00,2,    1.19,2,   1.326,2,   0.680,2,   0.291,2,  2191.5,2,  2353.4,2,   719.3,2,      20,   7.7411,2,    25.00, -999.00,9,  -999.0,9,  -999.0, -999.00,9, -999.00,9,     14.751,2,-999.0000,9,-999.0000,9,-999.0000,9,-999.0000,9,-999.0000,9,-999.0000,9,-999.0000,9,-999.0000,9,-999.0000,9,     -999.0,5,  -999.0,9,     -999.0,     -999.0,9,     -999.0,20130821,       0400
33RO20130803,       A16N,      67,          2,          9,          9,2,20130821,       0244,    32.0001,   -22.2501,       5184,  1598.6,   5.8500,  35.3191,2,  35.3183,2,    226.0,2,   226.4,2,   14.60,2,   18.60,2,    0.00,2,    1.21,2,   1.213,2,   0.600,2,   0.218,2,  2179.6,2,  2333.4,2,   727.0,2,      20,   7.7336,2,    25.00, -999.00,9,  -999.0,9,  -999.0, -999.00,9, -999.00,9,     13.943,2,-999.0000,9,-999.0000,9,-999.0000,9,-999.0000,9,-999.0000,9,-999.0000,9,-999.0000,9,-999.0000,9,-999.0000,9,     -999.0,5,  -999.0,9,     -999.0,     -999.0,9,     -999.0,20130821,       0354
33RO20130803,       A16N,      67,          2,          8,          8,2,20130821,       0244,    32.0001,   -22.2501,       5184,  1998.7,   4.3333,  35.1179,2,  35.1204,2,    241.7,2,   242.1,2,   18.60,2,   18.90,2,    0.00,2,    1.26,2,   0.670,2,   0.331,2,   0.077,2,  2173.6,2,  2328.0,2,   730.1,2,      20,   7.7314,2,    25.00, -999.00,9,  -999.0,9,  -999.0, -999.00,9, -999.00,9,     13.483,2,-999.0000,9,-999.0000,9,-999.0000,9,-999.0000,9,-999.0000,9,-999.0000,9,-999.0000,9,-999.0000,9,-999.0000,9,     -999.0,5,  -999.0,9,     -999.0,     -999.0,9,     -999.0,20130821,       0346
33RO20130803,       A16N,      67,          2,          7,          7,2,20130821,       0244,    32.0001,   -22.2501,       5184,  2398.7,   3.5043,  35.0165,2,  35.0169,2,    246.5,2,   244.7,2,   25.10,2,   19.90,2,    0.00,2,    1.33,2,   0.251,2,   0.127,2,   0.026,2,  2177.7,2,  2329.8,2,   736.8,2,      20,   7.7294,2,    25.00, -999.00,9,  -999.0,9,  -999.0, -999.00,9, -999.00,9,     13.256,2,-999.0000,9,-999.0000,9,-999.0000,9,-999.0000,9,-999.0000,9,-999.0000,9,-999.0000,9,-999.0000,9,-999.0000,9,     -999.0,5,  -999.0,9,     -999.0,     -999.0,9,     -999.0,20130821,       0339
33RO20130803,       A16N,      67,          2,          6,          6,2,20130821,       0244,    32.0001,   -22.2501,       5184,  2792.4,   2.9679,  34.9597,2,  34.9599,2,    248.0,2,   247.7,2,   30.50,2,   20.20,2,    0.00,2,    1.36,2,   0.189,2,   0.097,2,   0.040,2,  2181.8,2,  2333.2,2,   739.2,2,      20,   7.7286,2,    25.00, -999.00,9,  -999.0,9,  -999.0, -999.00,9, -999.00,9,     13.216,2,-999.0000,9,-999.0000,9,-999.0000,9,-999.0000,9,-999.0000,9,-999.0000,9,-999.0000,9,-999.0000,9,-999.0000,9,     -999.0,5,  -999.0,9,     -999.0,     -999.0,9,     -999.0,20130821,       0331
33RO20130803,       A16N,      67,          2,          5,          5,2,20130821,       0244,    32.0001,   -22.2501,       5184,  3197.8,   2.6759,  34.9310,2,  34.9301,2,    244.8,2,   244.6,2,   37.00,2,   21.20,2,    0.00,2,    1.43,2,   0.080,2,   0.041,2,   0.022,2,  2188.8,2,  2340.4,2,   743.3,2,      20,   7.7281,2,    25.00, -999.00,9,  -999.0,9,  -999.0, -999.00,9, -999.00,9,     13.272,2,-999.0000,9,-999.0000,9,-999.0000,9,-999.0000,9,-999.0000,9,-999.0000,9,-999.0000,9,-999.0000,9,-999.0000,9,     -999.0,5,  -999.0,9,     -999.0,     -999.0,9,     -999.0,20130821,       0323
33RO20130803,       A16N,      67,          2,          4,          4,2,20130821,       0244,    32.0001,   -22.2501,       5184,  3698.8,   2.5167,  34.9115,2,  34.9114,2,    242.6,2,     243,2,   42.30,6,   22.00,6,    0.00,6,    1.48,6,   0.017,2,   0.013,2,   0.000,2,  2194.8,2,  2354.7,4,   747.1,2,      20,   7.7278,2,    25.00, -999.00,9,  -999.0,9,  -999.0, -999.00,9, -999.00,9,     13.385,2,-999.0000,9,-999.0000,9,-999.0000,9,-999.0000,9,-999.0000,9,-999.0000,9,-999.0000,9,-999.0000,9,-999.0000,9,     -999.0,5,  -999.0,9,     -999.0,     -999.0,9,     -999.0,20130821,       0313
33RO20130803,       A16N,      67,          2,          3,          3,2,20130821,       0244,    32.0001,   -22.2501,       5184,  4138.2,   2.4336,  34.8987,2,  34.8986,2,    243.0,2,   243.8,2,   45.00,6,   22.20,6,    0.00,6,    1.50,6,   0.004,2,   0.004,2,   0.023,2,  2195.8,2,  2348.1,2,   749.7,2,      20,   7.7251,6,    25.00, -999.00,9,  -999.0,9,  -999.0, -999.00,9, -999.00,9,     13.535,2,-999.0000,9,-999.0000,9,-999.0000,9,-999.0000,9,-999.0000,9,-999.0000,9,-999.0000,9,-999.0000,9,-999.0000,9,     -999.0,5,  -999.0,9,     -999.0,     -999.0,9,     -999.0,20130821,       0305
33RO20130803,       A16N,      67,          2,          2,          2,2,20130821,       0244,    32.0001,   -22.2501,       5184,  4698.2,   2.4100,  34.8892,2,  34.8880,2,    243.1,2,   243.5,2,   47.10,6,   22.40,6,    0.00,6,    1.51,6,   0.003,2,   0.003,2,   0.000,2,  2198.9,2,  2400.1,4,   750.1,2,      20,   7.7204,4,    25.00, -999.00,9,  -999.0,9,  -999.0, -999.00,9, -999.00,9,     13.677,2,-999.0000,9,-999.0000,9,-999.0000,9,-999.0000,9,-999.0000,9,-999.0000,9,-999.0000,9,-999.0000,9,-999.0000,9,     -999.0,5,  -999.0,9,     -999.0,     -999.0,9,     -999.0,20130821,       0254
33RO20130803,       A16N,      67,          2,          1,          1,2,20130821,       0244,    32.0001,   -22.2501,       5184,  5252.7,   2.4592,  34.8859,2,  34.8874,2,    243.7,2,   243.2,2,   47.70,6,   22.50,6,    0.00,6,    1.52,6,   0.004,6,   0.006,6,   0.000,6,  2201.9,6,  2353.3,2,   748.2,2,      20,   7.7262,2,    25.00, -999.00,9,  -999.0,9,  -999.0, -999.00,9, -999.00,9,     13.696,6,-999.0000,9,-999.0000,9,-999.0000,9,-999.0000,9,-999.0000,9,-999.0000,9,-999.0000,9,-999.0000,9,-999.0000,9,     -999.0,5,  -999.0,9,     -999.0,     -999.0,9,     -999.0,20130821,       0244