BOTTLE,20220815CCHSIOAMB
EXPOCODE,SECT_ID,STNNBR,CASTNO,SAMPNO,BTLNBR,BTLNBR_FLAG_W,DATE,TIME,LATITUDE,LONGITUDE,DEPTH,CTDPRS,CTDTMP,CTDSAL,CTDSAL_FLAG_W,SALNTY,SALNTY_FLAG_W,CTDOXY,CTDOXY_FLAG_W,OXYGEN,OXYGEN_FLAG_W,SILCAT,SILCAT_FLAG_W,NITRAT,NITRAT_FLAG_W,NITRIT,NITRIT_FLAG_W,PHSPHT,PHSPHT_FLAG_W,CFC-11,CFC-11_FLAG_W,CFC-12,CFC-12_FLAG_W,SF6,SF6_FLAG_W,TCARBN,TCARBN_FLAG_W,ALKALI,ALKALI_FLAG_W,PCO2,PCO2_FLAG_W,PCO2TMP,PH_SWS,PH_SWS_FLAG_W,PH_TMP,DELC13,DELC13_FLAG_W,DELC14,DELC14_FLAG_W,C14ERR,DOC,DOC_FLAG_W,TDN,TDN_FLAG_W,N2O,N2O_FLAG_W,CDOM325,CDOM325_FLAG_W,CDOM340,CDOM340_FLAG_W,CDOM380,CDOM380_FLAG_W,CDOM412,CDOM412_FLAG_W,CDOM443,CDOM443_FLAG_W,CDOM490,CDOM490_FLAG_W,CDOM555,CDOM555_FLAG_W,CDOMSL,CDOMSL_FLAG_W,CDOMSN,CDOMSN_FLAG_W,CCL4,CCL4_FLAG_W,14C-DOC,14C-DOC_FLAG_W,14C-DOCERR,13C-DOC,13C-DOC_FLAG_W,13C-DOCERR,BTL_DATE,BTL_TIME
,,,,,,,,,,,METERS,DBAR,ITS-90,PSS-78,,PSS-78,,UMOL/KG,,UMOL/KG,,UMOL/KG,,UMOL/KG,,UMOL/KG,,UMOL/KG,,PMOL/KG,,PMOL/KG,,FMOL/KG,,UMOL/KG,,UMOL/KG,,UATM,,DEG C,,,DEG C,/MILLE,,/MILLE,,/MILLE,UMOL/KG,,UMOL/KG,,NMOL/KG,,1/M,,1/M,,1/M,,1/M,,1/M,,1/M,,1/M,,1/NM,,1/NM,,PMOL/KG,,/MILLE,,/MILLE,/MILLE,,/MILLE,,
33RO20130803,       A16N,      29,          2,         24,         24,2,20130810,       0003,    50.9996,   -20.0009,       3670,     3.6,  16.2365,  35.1456,2,  35.1463,2,    248.5,2,   254.6,2,    0.20,6,    0.10,6,    0.01,6,    0.07,6,   2.578,2,   1.560,2,   1.728,2,  2062.1,6,  2326.3,2,   390.7,2,      20,   7.9519,3,    25.00, -999.00,9,  -999.0,9,  -999.0, -999.00,9, -999.00,9,      8.493,2,-999.0000,9,-999.0000,9,-999.0000,9,-999.0000,9,-999.0000,9,-999.0000,9,-999.0000,9,-999.0000,9,-999.0000,9,     -999.0,5,  -999.0,9,     -999.0,     -999.0,9,     -999.0,20130810,       0133
33RO20130803,       A16N,      29,          2,         23,         23,2,20130810,       0003,    50.9996,   -20.0009,       3670,    31.2,  13.1594,  35.1613,2,  35.1644,2,    280.3,2,   278.9,2,    0.20,2,    3.00,2,    0.08,2,    0.25,2,   3.080,2,   1.821,2,   1.983,2,  2091.1,2,  2323.1,6,   454.3,2,      20,   7.9169,2,    25.00, -999.00,9,  -999.0,9,  -999.0, -999.00,9, -999.00,9,      9.578,2,-999.0000,9,-999.0000,9,-999.0000,9,-999.0000,9,-999.0000,9,-999.0000,9,-999.0000,9,-999.0000,9,-999.0000,9,     -999.0,5,  -999.0,9,     -999.0,     -999.0,9,     -999.0,20130810,       0131
33RO20130803,       A16N,      29,          2,         22,         22,2,20130810,       0003,    50.9996,   -20.0009,       3670,    60.6,  11.5219,  35.1648,2,  35.1682,2,    267.5,2,   267.8,2,    0.30,2,    5.30,2,    0.19,2,    0.45,2,   3.216,2,   1.900,2,   2.088,2,  2114.7,2,  2324.8,2,   517.8,2,      20,   7.8682,2,    25.00, -999.00,9,  -999.0,9,  -999.0, -999.00,9, -999.00,9,     10.163,2,-999.0000,9,-999.0000,9,-999.0000,9,-999.0000,9,-999.0000,9,-999.0000,9,-999.0000,9,-999.0000,9,-999.0000,9,     -999.0,5,  -999.0,9,     -999.0,     -999.0,9,     -999.0,20130810,       0129
33RO20130803,       A16N,      29,          2,         21,         21,2,20130810,       0003,    50.9996,   -20.0009,       3670,    86.8,  10.6153,  35.1806,2,  35.1794,2,    259.2,2,     259,2,    1.10,2,    7.70,2,    0.54,2,    0.60,2,   3.302,6,   1.939,6,   2.097,6,  2131.4,2,  2322.0,2,   570.7,2,      20,   7.8301,2,    25.00, -999.00,9,  -999.0,9,  -999.0, -999.00,9, -999.00,9,     11.335,6,-999.0000,9,-999.0000,9,-999.0000,9,-999.0000,9,-999.0000,9,-999.0000,9,-999.0000,9,-999.0000,9,-999.0000,9,     -999.0,5,  -999.0,9,     -999.0,     -999.0,9,     -999.0,20130810,       0128
33RO20130803,       A16N,      29,          2,         20,         20,2,20130810,       0003,    50.9996,   -20.0009,       3670,   111.3,  10.1958,  35.1862,2,  35.1837,2,    255.9,2,   255.2,2,    2.20,2,   10.10,2,    0.01,2,    0.67,2,   3.266,2,   1.919,2,   2.097,2,  2136.5,2,  2321.4,2,   594.9,2,      20,   7.8126,2,    25.00, -999.00,9,  -999.0,9,  -999.0, -999.00,9, -999.00,9,     11.102,2,-999.0000,9,-999.0000,9,-999.0000,9,-999.0000,9,-999.0000,9,-999.0000,9,-999.0000,9,-999.0000,9,-999.0000,9,     -999.0,5,  -999.0,9,     -999.0,     -999.0,9,     -999.0,20130810,       0126
33RO20130803,       A16N,      29,          2,         19,         19,2,20130810,       0003,    50.9996,   -20.0009,       3670,   137.3,   9.9659,  35.1736,2,  35.1733,2,    253.0,2,   252.8,2,    3.00,2,   10.80,2,    0.01,2,    0.72,2,   3.250,2,   1.904,2,   2.086,2,  2140.0,2,  2319.4,2,   609.2,2,      20,   7.8041,2,    25.00, -999.00,9,  -999.0,9,  -999.0, -999.00,9, -999.00,9,     11.320,2,-999.0000,9,-999.0000,9,-999.0000,9,-999.0000,9,-999.0000,9,-999.0000,9,-999.0000,9,-999.0000,9,-999.0000,9,     -999.0,5,  -999.0,9,     -999.0,     -999.0,9,     -999.0,20130810,       0125
33RO20130803,       A16N,      29,          2,         18,         18,2,20130810,       0003,    50.9996,   -20.0009,       3670,   161.1,   9.8083,  35.1608,2,  35.1649,2,    247.3,2,   247.9,2,    4.00,2,   11.70,2,    0.01,2,    0.77,2,   3.207,2,   1.868,2,   1.976,2,  2143.5,2,  2318.5,2,   629.5,2,      20,   7.7935,6,    25.00, -999.00,9,  -999.0,9,  -999.0, -999.00,9, -999.00,9,     11.669,2,-999.0000,9,-999.0000,9,-999.0000,9,-999.0000,9,-999.0000,9,-999.0000,9,-999.0000,9,-999.0000,9,-999.0000,9,     -999.0,5,  -999.0,9,     -999.0,     -999.0,9,     -999.0,20130810,       0123
33RO20130803,       A16N,      29,          2,         17,         17,2,20130810,       0003,    50.9996,   -20.0009,       3670,   223.7,   8.9374,  35.0605,2,  35.0571,2,    238.3,2,   236.1,2,    6.30,2,   14.30,2,    0.01,2,    0.94,2,   3.150,2,   1.820,2,   1.851,2,  2155.2,2,  2313.0,6,   698.1,2,      20,   7.7530,2,    25.00, -999.00,9,  -999.0,9,  -999.0, -999.00,9, -999.00,9,     13.286,2,-999.0000,9,-999.0000,9,-999.0000,9,-999.0000,9,-999.0000,9,-999.0000,9,-999.0000,9,-999.0000,9,-999.0000,9,     -999.0,5,  -999.0,9,     -999.0,     -999.0,9,     -999.0,20130810,       0120
33RO20130803,       A16N,      29,          2,         16,         16,2,20130810,       0003,    50.9996,   -20.0009,       3670,   312.8,   7.8589,  34.9935,2,  34.9904,2,    208.5,2,   206.7,2,    9.80,2,   18.20,2,    0.01,2,    1.19,2,   2.768,2,   1.555,2,   1.441,2,  2174.0,2,  2310.2,2,   800.7,2,      20,   7.6957,2,    25.00, -999.00,9,  -999.0,9,  -999.0, -999.00,9, -999.00,9,     16.549,2,-999.0000,9,-999.0000,9,-999.0000,9,-999.0000,9,-999.0000,9,-999.0000,9,-999.0000,9,-999.0000,9,-999.0000,9,     -999.0,5,  -999.0,9,     -999.0,     -999.0,9,     -999.0,20130810,       0117
33RO20130803,       A16N,      29,          2,         15,         15,2,20130810,       0003,    50.9996,   -20.0009,       3670,   387.0,   7.3726,  35.0355,2,  35.0347,2,    205.9,2,   205.7,2,   10.50,6,   18.80,6,    0.01,6,    1.23,6,   2.717,2,   1.502,2,   1.243,2,  2180.7,6,  2314.2,2,   821.6,2,      20,   7.6890,2,    25.00, -999.00,9,  -999.0,9,  -999.0, -999.00,9, -999.00,9,     16.820,2,-999.0000,9,-999.0000,9,-999.0000,9,-999.0000,9,-999.0000,9,-999.0000,9,-999.0000,9,-999.0000,9,-999.0000,9,     -999.0,5,  -999.0,9,     -999.0,     -999.0,9,     -999.0,20130810,       0115
33RO20130803,       A16N,      29,          2,         14,         14,2,20130810,       0003,    50.9996,   -20.0009,       3670,   461.6,   6.0320,  34.9176,2,  34.9167,2,    224.1,2,   223.7,2,   10.70,2,   18.60,2,    0.01,2,    1.23,2,   3.001,2,   1.662,2,   1.381,2,  2178.2,2,  2306.1,2,   838.7,2,      20,   7.6776,2,    25.00, -999.00,9,  -999.0,9,  -999.0, -999.00,9, -999.00,9,     16.227,2,-999.0000,9,-999.0000,9,-999.0000,9,-999.0000,9,-999.0000,9,-999.0000,9,-999.0000,9,-999.0000,9,-999.0000,9,     -999.0,5,  -999.0,9,     -999.0,     -999.0,9,     -999.0,20130810,       0112
33RO20130803,       A16N,      29,          2,         13,         13,2,20130810,       0003,    50.9996,   -20.0009,       3670,   537.2,   5.6297,  34.9561,2,  34.9562,2,    232.3,2,   233.1,2,   10.70,2,   18.30,2,    0.01,2,    1.21,2,   3.150,2,   1.726,2,   1.337,2,  2178.2,2,  2307.7,2,   828.1,2,      20,   7.6856,2,    25.00, -999.00,9,  -999.0,9,  -999.0, -999.00,9, -999.00,9,     15.364,2,-999.0000,9,-999.0000,9,-999.0000,9,-999.0000,9,-999.0000,9,-999.0000,9,-999.0000,9,-999.0000,9,-999.0000,9,     -999.0,5,  -999.0,9,     -999.0,     -999.0,9,     -999.0,20130810,       0109
33RO20130803,       A16N,      29,          2,         12,         12,2,20130810,       0003,    50.9996,   -20.0009,       3670,   648.6,   5.5537,  35.0338,2,  35.0347,2,    237.4,2,   235.9,2,   10.70,2,   18.20,2,    0.01,2,    1.19,2,   3.149,2,   1.710,2,   1.242,2,  2178.2,2,  2310.2,2,   814.4,2,      20,   7.6916,2,    25.00, -999.00,9,  -999.0,9,  -999.0, -999.00,9, -999.00,9,     15.080,2,-999.0000,9,-999.0000,9,-999.0000,9,-999.0000,9,-999.0000,9,-999.0000,9,-999.0000,9,-999.0000,9,-999.0000,9,     -999.0,5,  -999.0,9,     -999.0,     -999.0,9,     -999.0,20130810,       0106
33RO20130803,       A16N,      29,          2,         11,         11,2,20130810,       0003,    50.9996,   -20.0009,       3670,   823.9,   5.2059,  35.0604,2,  35.0609,2,    248.0,2,   245.2,2,   10.80,2,   17.80,2,    0.00,2,    1.16,2,   3.193,2,   1.714,2,   1.154,2,  2176.4,2,  2314.4,2,   797.0,2,      20,   7.7041,2,    25.00, -999.00,9,  -999.0,9,  -999.0, -999.00,9, -999.00,9,     14.646,2,-999.0000,9,-999.0000,9,-999.0000,9,-999.0000,9,-999.0000,9,-999.0000,9,-999.0000,9,-999.0000,9,-999.0000,9,     -999.0,5,  -999.0,9,     -999.0,     -999.0,9,     -999.0,20130810,       0102
33RO20130803,       A16N,      29,          2,         10,         10,2,20130810,       0003,    50.9996,   -20.0009,       3670,   973.6,   4.5660,  34.9887,2,  34.9897,2,    257.9,2,   258.6,2,   10.70,2,   17.50,2,    0.00,2,    1.15,2,   3.446,2,   1.828,2,   1.133,2,  2171.6,2,  2309.2,2,   794.9,2,      20,   7.7023,2,    25.00, -999.00,9,  -999.0,9,  -999.0, -999.00,9, -999.00,9,     14.217,2,-999.0000,9,-999.0000,9,-999.0000,9,-999.0000,9,-999.0000,9,-999.0000,9,-999.0000,9,-999.0000,9,-999.0000,9,     -999.0,5,  -999.0,9,     -999.0,     -999.0,9,     -999.0,20130810,       0059
33RO20130803,       A16N,      29,          2,          9,          9,2,20130810,       0003,    50.9996,   -20.0009,       3670,  1086.1,   4.3080,  34.9678,2,  34.9676,2,    263.9,2,   262.7,2,   10.80,2,   17.40,2,    0.00,2,    1.15,2,   3.469,2,   1.830,2,   1.147,2,  2170.3,2,  2307.8,2,   791.9,2,      20,   7.7038,2,    25.00, -999.00,9,  -999.0,9,  -999.0, -999.00,9, -999.00,9,     14.109,2,-999.0000,9,-999.0000,9,-999.0000,9,-999.0000,9,-999.0000,9,-999.0000,9,-999.0000,9,-999.0000,9,-999.0000,9,     -999.0,5,  -999.0,9,     -999.0,     -999.0,9,     -999.0,20130810,       0056
33RO20130803,       A16N,      29,          2,          8,          8,2,20130810,       0003,    50.9996,   -20.0009,       3670,  1250.5,   3.8683,  34.9155,2,  34.9158,2,    271.7,2,   272.5,2,   10.60,2,   17.10,2,    0.00,2,    1.13,2,   3.697,2,   1.945,2,   1.194,2,  2165.0,2,  2391.7,4,   787.6,2,      20,   7.7029,2,    25.00, -999.00,9,  -999.0,9,  -999.0, -999.00,9, -999.00,9,     13.707,2,-999.0000,9,-999.0000,9,-999.0000,9,-999.0000,9,-999.0000,9,-999.0000,9,-999.0000,9,-999.0000,9,-999.0000,9,     -999.0,5,  -999.0,9,     -999.0,     -999.0,9,     -999.0,20130810,       0052
33RO20130803,       A16N,      29,          2,          7,          7,2,20130810,       0003,    50.9996,   -20.0009,       3670,  1448.7,   3.7146,  34.9172,2,  34.9155,2,    271.9,2,   273.6,2,   11.20,2,   17.10,2,    0.00,2,    1.14,2,   3.369,2,   1.733,2,   0.943,2,  2166.1,2,  2303.7,2,   780.1,2,      20,   7.7077,2,    25.00, -999.00,9,  -999.0,9,  -999.0, -999.00,9, -999.00,9,     13.641,2,-999.0000,9,-999.0000,9,-999.0000,9,-999.0000,9,-999.0000,9,-999.0000,9,-999.0000,9,-999.0000,9,-999.0000,9,     -999.0,5,  -999.0,9,     -999.0,     -999.0,9,     -999.0,20130810,       0047
33RO20130803,       A16N,      29,          2,          6,          6,2,20130810,       0003,    50.9996,   -20.0009,       3670,  1649.1,   3.5642,  34.9200,2,  34.9198,2,    271.1,2,   271.8,2,   11.80,2,   17.20,2,    0.00,2,    1.14,2,   3.076,2,   1.556,2,   0.764,2,  2165.9,2,  2304.3,2,   776.3,2,      20,   7.7079,2,    25.00, -999.00,9,  -999.0,9,  -999.0, -999.00,9, -999.00,9,     13.592,2,-999.0000,9,-999.0000,9,-999.0000,9,-999.0000,9,-999.0000,9,-999.0000,9,-999.0000,9,-999.0000,9,-999.0000,9,     -999.0,5,  -999.0,9,     -999.0,     -999.0,9,     -999.0,20130810,       0043
33RO20130803,       A16N,      29,          2,          5,          5,2,20130810,       0003,    50.9996,   -20.0009,       3670,  2098.9,   3.2123,  34.9240,2,  34.9232,2,    272.2,2,   273.9,2,   13.40,2,   16.90,2,    0.00,2,    1.13,2,   2.665,2,   1.334,2,   0.648,2,  2166.1,2,  2306.6,6,   763.7,2,      20,   7.7178,2,    25.00, -999.00,9,  -999.0,9,  -999.0, -999.00,9, -999.00,9,     13.339,2,-999.0000,9,-999.0000,9,-999.0000,9,-999.0000,9,-999.0000,9,-999.0000,9,-999.0000,9,-999.0000,9,-999.0000,9,     -999.0,5,  -999.0,9,     -999.0,     -999.0,9,     -999.0,20130810,       0034
33RO20130803,       A16N,      29,          2,          4,          4,2,20130810,       0003,    50.9996,   -20.0009,       3670,  2500.6,   2.9923,  34.9415,2,  34.9413,2,    265.1,2,   265.3,2,   19.80,2,   17.80,2,    0.00,2,    1.19,2,   1.924,2,   0.963,2,   0.456,2,  2174.1,2,  2316.9,2,   765.2,2,      20,   7.7166,2,    25.00, -999.00,9,  -999.0,9,  -999.0, -999.00,9, -999.00,9,     13.438,2,-999.0000,9,-999.0000,9,-999.0000,9,-999.0000,9,-999.0000,9,-999.0000,9,-999.0000,9,-999.0000,9,-999.0000,9,     -999.0,5,  -999.0,9,     -999.0,     -999.0,9,     -999.0,20130810,       0027
33RO20130803,       A16N,      29,          2,          3,          3,2,20130810,       0003,    50.9996,   -20.0009,       3670,  2898.4,   2.7428,  34.9383,2,  34.9380,2,    253.0,2,   253.3,2,   30.20,2,   19.50,2,    0.00,2,    1.31,2,   1.065,6,   0.530,6,   0.305,6,  2188.1,2,  2332.2,2,   766.0,2,      20,   7.7197,6,    25.00, -999.00,9,  -999.0,9,  -999.0, -999.00,9, -999.00,9,     13.526,6,-999.0000,9,-999.0000,9,-999.0000,9,-999.0000,9,-999.0000,9,-999.0000,9,-999.0000,9,-999.0000,9,-999.0000,9,     -999.0,5,  -999.0,9,     -999.0,     -999.0,9,     -999.0,20130810,       0019
33RO20130803,       A16N,      29,          2,          2,          2,2,20130810,       0003,    50.9996,   -20.0009,       3670,  3299.8,   2.5626,  34.9202,2,  34.9195,2,    244.8,2,   243.8,2,   39.40,2,   21.20,2,    0.00,2,    1.43,2,   0.422,2,   0.206,2,   0.160,2,  2199.6,2,  2345.2,2,   765.4,2,      20,   7.7226,2,    25.00, -999.00,9,  -999.0,9,  -999.0, -999.00,9, -999.00,9,     13.532,2,-999.0000,9,-999.0000,9,-999.0000,9,-999.0000,9,-999.0000,9,-999.0000,9,-999.0000,9,-999.0000,9,-999.0000,9,     -999.0,5,  -999.0,9,     -999.0,     -999.0,9,     -999.0,20130810,       0011
33RO20130803,       A16N,      29,          2,          1,          1,2,20130810,       0003,    50.9996,   -20.0009,       3670,  3711.7,   2.4657,  34.9065,2,  34.9056,2,    240.4,2,   238.7,2,   45.50,6,   22.10,6,    0.01,6,    1.50,6,   0.086,2,   0.038,2,   0.049,2,  2208.5,6,  2438.6,4,   766.1,2,      20,   7.7229,2,    25.00, -999.00,9,  -999.0,9,  -999.0, -999.00,9, -999.00,9,     13.791,2,-999.0000,9,-999.0000,9,-999.0000,9,-999.0000,9,-999.0000,9,-999.0000,9,-999.0000,9,-999.0000,9,-999.0000,9,     -999.0,5,  -999.0,9,     -999.0,     -999.0,9,     -999.0,20130810,       0003