BOTTLE,20220815CCHSIOAMB
EXPOCODE,SECT_ID,STNNBR,CASTNO,SAMPNO,BTLNBR,BTLNBR_FLAG_W,DATE,TIME,LATITUDE,LONGITUDE,DEPTH,CTDPRS,CTDTMP,CTDSAL,CTDSAL_FLAG_W,SALNTY,SALNTY_FLAG_W,CTDOXY,CTDOXY_FLAG_W,OXYGEN,OXYGEN_FLAG_W,SILCAT,SILCAT_FLAG_W,NITRAT,NITRAT_FLAG_W,NITRIT,NITRIT_FLAG_W,PHSPHT,PHSPHT_FLAG_W,CFC-11,CFC-11_FLAG_W,CFC-12,CFC-12_FLAG_W,SF6,SF6_FLAG_W,TCARBN,TCARBN_FLAG_W,ALKALI,ALKALI_FLAG_W,PCO2,PCO2_FLAG_W,PCO2TMP,PH_SWS,PH_SWS_FLAG_W,PH_TMP,DELC13,DELC13_FLAG_W,DELC14,DELC14_FLAG_W,C14ERR,DOC,DOC_FLAG_W,TDN,TDN_FLAG_W,N2O,N2O_FLAG_W,CDOM325,CDOM325_FLAG_W,CDOM340,CDOM340_FLAG_W,CDOM380,CDOM380_FLAG_W,CDOM412,CDOM412_FLAG_W,CDOM443,CDOM443_FLAG_W,CDOM490,CDOM490_FLAG_W,CDOM555,CDOM555_FLAG_W,CDOMSL,CDOMSL_FLAG_W,CDOMSN,CDOMSN_FLAG_W,CCL4,CCL4_FLAG_W,14C-DOC,14C-DOC_FLAG_W,14C-DOCERR,13C-DOC,13C-DOC_FLAG_W,13C-DOCERR,BTL_DATE,BTL_TIME
,,,,,,,,,,,METERS,DBAR,ITS-90,PSS-78,,PSS-78,,UMOL/KG,,UMOL/KG,,UMOL/KG,,UMOL/KG,,UMOL/KG,,UMOL/KG,,PMOL/KG,,PMOL/KG,,FMOL/KG,,UMOL/KG,,UMOL/KG,,UATM,,DEG C,,,DEG C,/MILLE,,/MILLE,,/MILLE,UMOL/KG,,UMOL/KG,,NMOL/KG,,1/M,,1/M,,1/M,,1/M,,1/M,,1/M,,1/M,,1/NM,,1/NM,,PMOL/KG,,/MILLE,,/MILLE,/MILLE,,/MILLE,,
33RO20130803,       A16N,      91,          1,         24,         24,2,20130909,       2113,    20.5043,   -28.7185,       5165,     3.2,  25.6639,  36.5753,2,  36.5768,2,    203.6,2,   205.1,2,    0.40,2,    0.00,2,    0.00,2,    0.09,2,   1.650,2,   1.048,2,   1.264,2,  2079.2,6,  2401.0,2,  -999.0,9, -999.00,   8.0544,2,    25.00, -999.00,9,  -999.0,9,  -999.0,   68.88,2,    4.13,2,      6.221,2,   0.1022,2,   0.0629,2,   0.0128,3,   0.0072,3,  -0.0008,4,   0.0011,3,  -0.0041,4,   0.0388,3,   0.0372,3,     -999.0,5,  -999.0,9,     -999.0,     -999.0,9,     -999.0,20130909,       2335
33RO20130803,       A16N,      91,          1,         23,         23,2,20130909,       2113,    20.5043,   -28.7185,       5165,    24.1,  25.6639,  36.5750,2,  36.5753,2,    204.1,2,     205,2,    0.40,2,    0.00,2,    0.00,2,    0.09,2,   1.651,2,   1.043,2,   1.230,2,  2079.6,2,  2397.2,2,  -999.0,9, -999.00,   8.0718,3,    25.00, -999.00,9,  -999.0,9,  -999.0,   67.85,2,    4.45,2,      6.243,2,   0.0913,2,   0.0567,2,   0.0126,3,   0.0074,3,  -0.0001,4,   0.0027,3,  -0.0021,4,   0.0369,3,   0.0362,3,     -999.0,5,  -999.0,9,     -999.0,     -999.0,9,     -999.0,20130909,       2333
33RO20130803,       A16N,      91,          1,         22,         22,2,20130909,       2113,    20.5043,   -28.7185,       5165,    48.3,  24.5149,  37.0840,2,  37.0787,2,    215.0,2,   215.3,2,    0.60,2,    0.00,2,    0.00,2,    0.03,2,-999.000,9,-999.000,9,-999.000,9,  -999.0,9,  -999.0,9,  -999.0,9, -999.00,-999.0000,9,  -999.00, -999.00,9,  -999.0,9,  -999.0,   65.66,2,    4.22,2,     -999.0,9,   0.1354,2,   0.0920,2,   0.0346,2,   0.0243,2,   0.0126,2,   0.0108,3,   0.0020,3,   0.0237,2,   0.0256,2,     -999.0,9,  -999.0,9,     -999.0,     -999.0,9,     -999.0,20130909,       2331
33RO20130803,       A16N,      91,          1,         21,         21,2,20130909,       2113,    20.5043,   -28.7185,       5165,    73.3,  22.7265,  37.1358,2,  37.1453,2,    220.0,2,   218.9,2,    0.60,2,    0.00,2,    0.00,2,    0.04,2,   1.909,2,   1.184,2,   1.350,2,  2107.6,2,  2430.2,2,  -999.0,9, -999.00,   8.0331,2,    25.00, -999.00,9,  -999.0,9,  -999.0,   62.42,2,    4.06,2,      7.156,2,   0.1467,2,   0.0985,2,   0.0332,2,   0.0223,2,   0.0076,2,   0.0056,3,  -0.0011,4,   0.0260,2,   0.0276,2,     -999.0,5,  -999.0,9,     -999.0,     -999.0,9,     -999.0,20130909,       2329
33RO20130803,       A16N,      91,          1,         20,         20,2,20130909,       2113,    20.5043,   -28.7185,       5165,    98.9,  22.0405,  37.2046,2,  37.1852,2,    209.0,2,   206.8,2,    0.70,2,    0.30,2,    0.04,2,    0.08,2,-999.000,9,-999.000,9,-999.000,9,  -999.0,9,  -999.0,9,  -999.0,9, -999.00,-999.0000,9,  -999.00, -999.00,9,  -999.0,9,  -999.0,   59.62,2,    4.41,2,     -999.0,9,   0.1628,2,   0.1153,2,   0.0465,2,   0.0356,2,   0.0180,2,   0.0124,4,   0.0024,4,   0.0214,2,   0.0231,2,     -999.0,9,  -999.0,9,     -999.0,     -999.0,9,     -999.0,20130909,       2327
33RO20130803,       A16N,      91,          1,         19,         19,2,20130909,       2113,    20.5043,   -28.7185,       5165,   123.3,  20.7691,  37.0790,2,  37.0694,2,    184.8,2,   185.2,2,    1.00,2,    3.20,2,    0.04,2,    0.23,2,   1.991,2,   1.237,2,   1.319,2,  2145.1,2,  2423.6,2,  -999.0,9, -999.00,   7.9584,2,    25.00, -999.00,9,  -999.0,9,  -999.0,   56.69,2,    7.33,2,      9.108,2,   0.1400,2,   0.0986,2,   0.0395,2,   0.0314,2,   0.0132,2,   0.0083,3,   0.0005,4,   0.0215,2,   0.0235,2,     -999.0,5,  -999.0,9,     -999.0,     -999.0,9,     -999.0,20130909,       2325
33RO20130803,       A16N,      91,          1,         18,         18,2,20130909,       2113,    20.5043,   -28.7185,       5165,   198.4,  18.0099,  36.6166,2,  36.6300,2,    166.1,2,   163.6,2,    2.20,2,    8.40,2,    0.01,2,    0.50,2,   2.184,2,   1.314,2,   1.264,2,  -999.0,9,  -999.0,9,  -999.0,9, -999.00,-999.0000,9,  -999.00, -999.00,9,  -999.0,9,  -999.0,   51.58,2,    11.9,2,     12.711,2,   0.1488,2,   0.1074,2,   0.0454,2,   0.0350,2,   0.0156,2,   0.0092,3,   0.0008,3,   0.0204,2,   0.0218,2,     -999.0,5,  -999.0,9,     -999.0,     -999.0,9,     -999.0,20130909,       2322
33RO20130803,       A16N,      91,          1,         17,         17,2,20130909,       2113,    20.5043,   -28.7185,       5165,   274.1,  16.0855,  36.2364,2,  36.2115,2,    155.1,2,     152,2,    3.70,2,   12.30,2,    0.01,2,    0.72,2,   2.283,2,   1.338,2,   1.094,2,  2167.2,2,  2372.0,2,  -999.0,9, -999.00,   7.8271,2,    25.00, -999.00,9,  -999.0,9,  -999.0,   50.37,2,   15.47,2,     15.587,2,   0.1589,2,   0.1158,2,   0.0514,2,   0.0394,2,   0.0202,2,   0.0128,3,   0.0030,3,   0.0194,2,   0.0207,2,     -999.0,5,  -999.0,9,     -999.0,     -999.0,9,     -999.0,20130909,       2319
33RO20130803,       A16N,      91,          1,         16,         16,2,20130909,       2113,    20.5043,   -28.7185,       5165,   373.3,  13.5403,  35.7712,2,  35.7719,2,    112.2,2,   115.3,2,    6.80,2,   20.10,2,    0.00,2,    1.19,2,   2.062,2,   1.163,2,   0.724,2,  -999.0,9,  -999.0,9,  -999.0,9, -999.00,-999.0000,9,  -999.00, -999.00,9,  -999.0,9,  -999.0,   48.05,2,   23.39,2,     23.012,2,   0.1615,2,   0.1156,2,   0.0505,2,   0.0384,2,   0.0190,2,   0.0108,4,   0.0012,4,   0.0200,2,   0.0214,2,     -999.0,5,  -999.0,9,     -999.0,     -999.0,9,     -999.0,20130909,       2315
33RO20130803,       A16N,      91,          1,         15,         15,2,20130909,       2113,    20.5043,   -28.7185,       5165,   469.3,  12.2602,  35.6016,2,  35.5965,2,     95.9,2,   108.3,2,    8.70,2,   23.10,2,    0.00,2,    1.37,2,   1.806,2,   0.992,2,   0.583,2,  2205.7,2,  2334.8,2,  -999.0,9, -999.00,   7.6697,2,    25.00, -999.00,9,  -999.0,9,  -999.0,   46.75,2,   25.92,2,     24.139,2,   0.1447,2,   0.0991,2,   0.0415,2,   0.0306,2,   0.0133,2,   0.0069,4,  -0.0009,4,   0.0214,2,   0.0235,2,     -999.0,5,  -999.0,9,     -999.0,     -999.0,9,     -999.0,20130909,       2312
33RO20130803,       A16N,      91,          1,         14,         14,2,20130909,       2113,    20.5043,   -28.7185,       5165,   548.6,  10.9794,  35.4405,2,  35.4409,2,    103.3,2,   103.1,2,   11.20,2,   25.90,2,    0.01,2,    1.57,2,   1.357,2,   0.724,2,   0.356,2,  2212.8,2,  2327.6,6,  -999.0,9, -999.00,   7.5959,3,    25.00, -999.00,9,  -999.0,9,  -999.0,   46.05,2,   28.32,2,     24.515,2,   0.1641,2,   0.1163,2,   0.0556,2,   0.0429,2,   0.0241,2,   0.0149,2,   0.0036,3,   0.0183,2,   0.0202,2,     -999.0,5,  -999.0,9,     -999.0,     -999.0,9,     -999.0,20130909,       2309
33RO20130803,       A16N,      91,          1,         13,         13,2,20130909,       2113,    20.5043,   -28.7185,       5165,   678.9,   9.1713,  35.2105,2,  35.2096,2,    100.6,2,    97.8,2,   15.80,2,   29.80,2,    0.00,2,    1.86,2,   0.630,6,   0.330,6,   0.135,6,  2223.3,6,  2321.4,2,  -999.0,9, -999.00,   7.5840,2,    25.00, -999.00,9,  -999.0,9,  -999.0,   43.93,2,    31.9,2,     25.958,6,   0.1532,2,   0.1064,2,   0.0488,2,   0.0360,2,   0.0183,2,   0.0103,3,   0.0008,4,   0.0195,2,   0.0215,2,     -999.0,5,  -999.0,9,     -999.0,     -999.0,9,     -999.0,20130909,       2303
33RO20130803,       A16N,      91,          1,         12,         12,2,20130909,       2113,    20.5043,   -28.7185,       5165,   828.7,   7.5245,  35.0308,2,  35.0330,2,    110.2,2,   109.9,2,   19.80,2,   31.10,2,    0.00,2,    2.01,2,   0.212,2,   0.114,2,   0.034,2,  2223.0,2,  2316.9,2,  -999.0,9, -999.00,   7.5746,2,    25.00, -999.00,9,  -999.0,9,  -999.0,   43.03,2,   33.28,2,     25.083,2,   0.1476,2,   0.1031,2,   0.0456,2,   0.0328,2,   0.0158,2,   0.0083,4,  -0.0006,4,   0.0203,2,   0.0220,2,     -999.0,5,  -999.0,9,     -999.0,     -999.0,9,     -999.0,20130909,       2259
33RO20130803,       A16N,      91,          1,         11,         11,2,20130909,       2113,    20.5043,   -28.7185,       5165,   998.9,   6.5441,  34.9988,2,  35.0000,2,    134.7,2,   134.4,2,   21.30,2,   29.60,2,    0.00,2,    1.94,2,   0.096,2,   0.054,2,   0.026,2,  -999.0,9,  -999.0,9,  -999.0,9, -999.00,-999.0000,9,  -999.00, -999.00,9,  -999.0,9,  -999.0,   42.29,2,   31.95,2,     22.435,2,   0.1315,2,   0.0882,2,   0.0373,2,   0.0263,2,   0.0115,2,   0.0060,3,  -0.0018,4,   0.0217,2,   0.0240,2,     -999.0,5,  -999.0,9,     -999.0,     -999.0,9,     -999.0,20130909,       2254
33RO20130803,       A16N,      91,          1,         10,         10,2,20130909,       2113,    20.5043,   -28.7185,       5165,  1147.9,   6.1081,  35.0339,2,  35.0344,2,    156.4,2,   155.5,2,   20.80,2,   27.40,2,    0.00,2,    1.82,2,-999.000,9,-999.000,9,-999.000,9,  2207.1,2,  2320.0,2,  -999.0,9, -999.00,   7.6335,2,    25.00, -999.00,9,  -999.0,9,  -999.0,   41.43,2,   29.78,2,     -999.0,9,   0.1447,2,   0.1007,2,   0.0482,2,   0.0344,2,   0.0187,2,   0.0122,3,   0.0025,3,   0.0189,2,   0.0208,2,     -999.0,9,  -999.0,9,     -999.0,     -999.0,9,     -999.0,20130909,       2250
33RO20130803,       A16N,      91,          1,          9,          9,2,20130909,       2113,    20.5043,   -28.7185,       5165,  1448.5,   5.0794,  35.0701,2,  35.0706,2,    196.0,2,   195.7,2,   20.20,2,   23.60,2,    0.00,2,    1.57,2,   0.030,2,   0.017,2,   0.000,2,  -999.0,9,  -999.0,9,  -999.0,9, -999.00,-999.0000,9,  -999.00, -999.00,9,  -999.0,9,  -999.0,   41.01,2,   26.11,2,     16.514,2,   0.1311,2,   0.0884,2,   0.0352,2,   0.0237,2,   0.0098,2,   0.0058,3,  -0.0016,4,   0.0230,2,   0.0249,2,     -999.0,5,  -999.0,9,     -999.0,     -999.0,9,     -999.0,20130909,       2235
33RO20130803,       A16N,      91,          1,          8,          8,2,20130909,       2113,    20.5043,   -28.7185,       5165,  1848.7,   3.9983,  35.0156,2,  35.0141,2,    223.3,2,   223.2,2,   22.70,2,   21.80,2,    0.00,2,    1.46,2,   0.003,2,   0.003,2,   0.000,2,  2182.9,2,  2322.5,2,  -999.0,9, -999.00,   7.7082,2,    25.00, -999.00,9,  -999.0,9,  -999.0,   40.91,2,   24.37,2,     14.591,2,   0.1487,2,   0.1040,2,   0.0451,2,   0.0322,2,   0.0169,2,   0.0115,3,   0.0022,3,   0.0206,2,   0.0223,2,     -999.0,5,  -999.0,9,     -999.0,     -999.0,9,     -999.0,20130909,       2227
33RO20130803,       A16N,      91,          1,          7,          7,2,20130909,       2113,    20.5043,   -28.7185,       5165,  2248.7,   3.4892,  34.9894,2,  34.9897,2,    234.3,2,   233.7,2,   26.00,2,   21.20,2,    0.00,2,    1.43,2,-999.000,9,-999.000,9,-999.000,9,  2182.6,2,  2328.6,2,  -999.0,9, -999.00,   7.7190,2,    25.00, -999.00,9,  -999.0,9,  -999.0,   40.96,2,   23.74,2,     -999.0,9,   0.1308,2,   0.0893,2,   0.0369,2,   0.0254,2,   0.0113,2,   0.0071,3,  -0.0007,4,   0.0221,2,   0.0240,2,     -999.0,9,  -999.0,9,     -999.0,     -999.0,9,     -999.0,20130909,       2217
33RO20130803,       A16N,      91,          1,          6,          6,2,20130909,       2113,    20.5043,   -28.7185,       5165,  2649.4,   3.0769,  34.9648,2,  34.9642,2,    240.6,2,     239,2,   30.80,2,   21.10,2,    0.00,2,    1.42,2,   0.001,2,   0.002,2,   0.015,2,  -999.0,9,  -999.0,9,  -999.0,9, -999.00,-999.0000,9,  -999.00, -999.00,9,  -999.0,9,  -999.0,   41.09,2,   23.57,2,     13.348,2,   0.1504,2,   0.1058,2,   0.0480,2,   0.0335,2,   0.0177,2,   0.0121,3,   0.0024,3,   0.0199,2,   0.0215,2,     -999.0,5,  -999.0,9,     -999.0,     -999.0,9,     -999.0,20130909,       2209
33RO20130803,       A16N,      91,          1,          5,          5,2,20130909,       2113,    20.5043,   -28.7185,       5165,  3137.8,   2.6541,  34.9300,2,  34.9290,2,    243.3,2,     242,2,   37.30,2,   21.40,2,    0.00,2,    1.45,2,   0.003,2,   0.003,2,   0.000,2,  2193.2,2,  2344.4,2,  -999.0,9, -999.00,   7.7278,6,    25.00, -999.00,9,  -999.0,9,  -999.0,   40.63,2,    23.8,2,     13.249,2,   0.1287,2,   0.0864,2,   0.0337,2,   0.0218,2,   0.0082,2,   0.0053,4,  -0.0014,4,   0.0236,2,   0.0254,2,     -999.0,5,  -999.0,9,     -999.0,     -999.0,9,     -999.0,20130909,       2158
33RO20130803,       A16N,      91,          1,          4,          4,2,20130909,       2113,    20.5043,   -28.7185,       5165,  3648.5,   2.4425,  34.9058,2,  34.9055,2,    243.3,2,   242.9,2,   42.30,6,   21.90,6,    0.00,6,    1.48,6,   0.001,2,   0.003,2,   0.000,2,  -999.0,9,  -999.0,9,  -999.0,9, -999.00,-999.0000,9,  -999.00, -999.00,9,  -999.0,9,  -999.0,   40.86,2,   24.17,2,     13.390,2,   0.1344,2,   0.0927,2,   0.0339,2,   0.0213,2,   0.0080,2,   0.0052,3,  -0.0015,4,   0.0247,2,   0.0255,2,     -999.0,5,  -999.0,9,     -999.0,     -999.0,9,     -999.0,20130909,       2146
33RO20130803,       A16N,      91,          1,          3,          3,2,20130909,       2113,    20.5043,   -28.7185,       5165,  4148.8,   2.3630,  34.8922,2,  34.8916,2,    243.8,2,     243,2,   45.30,6,   22.20,6,    0.00,6,    1.50,6,   0.001,2,   0.003,2,   0.000,2,  -999.0,9,  -999.0,9,  -999.0,9, -999.00,-999.0000,9,  -999.00, -999.00,9,  -999.0,9,  -999.0,   40.67,2,   24.79,2,     13.539,2,   0.1349,2,   0.0902,2,   0.0324,2,   0.0211,2,   0.0078,2,   0.0050,3,  -0.0016,4,   0.0251,2,   0.0267,2,     -999.0,5,  -999.0,9,     -999.0,     -999.0,9,     -999.0,20130909,       2135
33RO20130803,       A16N,      91,          1,          2,          2,2,20130909,       2113,    20.5043,   -28.7185,       5165,  4648.8,   2.3752,  34.8868,2,  34.8876,2,    242.0,2,   242.8,2,   46.50,6,   22.40,6,    0.00,6,    1.50,6,-999.000,9,-999.000,9,-999.000,9,  2203.8,2,  2357.1,6,  -999.0,9, -999.00,   7.8556,4,    25.00, -999.00,9,  -999.0,9,  -999.0,   41.04,2,    24.8,2,     -999.0,9,   0.1633,2,   0.1158,2,   0.0495,2,   0.0336,2,   0.0175,2,   0.0119,3,   0.0022,3,   0.0210,2,   0.0222,2,     -999.0,9,  -999.0,9,     -999.0,     -999.0,9,     -999.0,20130909,       2124
33RO20130803,       A16N,      91,          1,          1,          1,2,20130909,       2113,    20.5043,   -28.7185,       5165,  5228.4,   2.4340,  34.8844,2,  34.8845,2,    243.2,2,   242.7,2,   46.90,6,   22.40,6,    0.00,6,    1.50,6,   0.003,2,   0.004,2,   0.000,2,  2204.0,2,  2354.0,2,  -999.0,9, -999.00,   7.7270,2,    25.00, -999.00,9,  -999.0,9,  -999.0,   40.84,2,   24.84,2,     13.671,2,   0.1422,2,   0.0956,2,   0.0366,2,   0.0230,2,   0.0088,2,   0.0053,4,  -0.0021,4,   0.0240,2,   0.0256,2,     -999.0,5,  -999.0,9,     -999.0,     -999.0,9,     -999.0,20130909,       2113