BOTTLE,20220815CCHSIOAMB
EXPOCODE,SECT_ID,STNNBR,CASTNO,SAMPNO,BTLNBR,BTLNBR_FLAG_W,DATE,TIME,LATITUDE,LONGITUDE,DEPTH,CTDPRS,CTDTMP,CTDSAL,CTDSAL_FLAG_W,SALNTY,SALNTY_FLAG_W,CTDOXY,CTDOXY_FLAG_W,OXYGEN,OXYGEN_FLAG_W,SILCAT,SILCAT_FLAG_W,NITRAT,NITRAT_FLAG_W,NITRIT,NITRIT_FLAG_W,PHSPHT,PHSPHT_FLAG_W,CFC-11,CFC-11_FLAG_W,CFC-12,CFC-12_FLAG_W,SF6,SF6_FLAG_W,TCARBN,TCARBN_FLAG_W,ALKALI,ALKALI_FLAG_W,PCO2,PCO2_FLAG_W,PCO2TMP,PH_SWS,PH_SWS_FLAG_W,PH_TMP,DELC13,DELC13_FLAG_W,DELC14,DELC14_FLAG_W,C14ERR,DOC,DOC_FLAG_W,TDN,TDN_FLAG_W,N2O,N2O_FLAG_W,CDOM325,CDOM325_FLAG_W,CDOM340,CDOM340_FLAG_W,CDOM380,CDOM380_FLAG_W,CDOM412,CDOM412_FLAG_W,CDOM443,CDOM443_FLAG_W,CDOM490,CDOM490_FLAG_W,CDOM555,CDOM555_FLAG_W,CDOMSL,CDOMSL_FLAG_W,CDOMSN,CDOMSN_FLAG_W,CCL4,CCL4_FLAG_W,14C-DOC,14C-DOC_FLAG_W,14C-DOCERR,13C-DOC,13C-DOC_FLAG_W,13C-DOCERR,BTL_DATE,BTL_TIME
,,,,,,,,,,,METERS,DBAR,ITS-90,PSS-78,,PSS-78,,UMOL/KG,,UMOL/KG,,UMOL/KG,,UMOL/KG,,UMOL/KG,,UMOL/KG,,PMOL/KG,,PMOL/KG,,FMOL/KG,,UMOL/KG,,UMOL/KG,,UATM,,DEG C,,,DEG C,/MILLE,,/MILLE,,/MILLE,UMOL/KG,,UMOL/KG,,NMOL/KG,,1/M,,1/M,,1/M,,1/M,,1/M,,1/M,,1/M,,1/NM,,1/NM,,PMOL/KG,,/MILLE,,/MILLE,/MILLE,,/MILLE,,
33RO20130803,       A16N,      99,          2,         24,         24,2,20130918,       1723,    14.9999,   -29.0000,       5319,     2.9,  27.5774,  36.3141,2,  36.3155,2,    199.7,2,   200.8,2,    0.90,2,    0.10,2,    0.01,2,    0.01,2,   1.549,2,   0.984,2,   1.185,2,  2031.9,6,  2377.8,2,   281.6,6,      20,   8.0881,2,    25.00, -999.00,9,  -999.0,9,  -999.0, -999.00,9, -999.00,9,      6.263,2,-999.0000,9,-999.0000,9,-999.0000,9,-999.0000,9,-999.0000,9,-999.0000,9,-999.0000,9,-999.0000,9,-999.0000,9,     -999.0,5,  -999.0,9,     -999.0,     -999.0,9,     -999.0,20130918,       1935
33RO20130803,       A16N,      99,          2,         23,         23,2,20130918,       1723,    14.9999,   -29.0000,       5319,    33.1,  24.5817,  36.4080,2,  36.4074,2,    223.1,2,     221,2,    0.90,2,    0.10,2,    0.01,2,    0.02,2,   1.792,2,   1.113,2,   1.282,2,  2056.2,2,  2386.6,2,   321.9,2,      20,   8.0550,6,    25.00, -999.00,9,  -999.0,9,  -999.0, -999.00,9, -999.00,9,      9.454,2,-999.0000,9,-999.0000,9,-999.0000,9,-999.0000,9,-999.0000,9,-999.0000,9,-999.0000,9,-999.0000,9,-999.0000,9,     -999.0,5,  -999.0,9,     -999.0,     -999.0,9,     -999.0,20130918,       1931
33RO20130803,       A16N,      99,          2,         22,         22,2,20130918,       1723,    14.9999,   -29.0000,       5319,    63.2,  18.2096,  36.3235,2,  36.3228,2,    116.3,2,   115.3,2,    3.30,2,   13.70,2,    0.09,2,    0.84,2,   2.038,6,   1.214,6,   1.079,6,  2193.0,2,  2374.5,2,   635.3,2,      20,   7.7873,2,    25.00, -999.00,9,  -999.0,9,  -999.0, -999.00,9, -999.00,9,     22.261,6,-999.0000,9,-999.0000,9,-999.0000,9,-999.0000,9,-999.0000,9,-999.0000,9,-999.0000,9,-999.0000,9,-999.0000,9,     -999.0,5,  -999.0,9,     -999.0,     -999.0,9,     -999.0,20130918,       1929
33RO20130803,       A16N,      99,          2,         21,         21,2,20130918,       1723,    14.9999,   -29.0000,       5319,    98.5,  16.0240,  36.0582,2,  36.0575,2,    102.2,2,   101.2,2,    5.10,2,   18.70,2,    0.03,2,    1.11,2,   2.048,2,   1.191,2,   0.948,2,  2204.7,2,  2358.9,6,   730.9,2,      20,   7.7310,2,    25.00, -999.00,9,  -999.0,9,  -999.0, -999.00,9, -999.00,9,     26.319,2,-999.0000,9,-999.0000,9,-999.0000,9,-999.0000,9,-999.0000,9,-999.0000,9,-999.0000,9,-999.0000,9,-999.0000,9,     -999.0,5,  -999.0,9,     -999.0,     -999.0,9,     -999.0,20130918,       1926
33RO20130803,       A16N,      99,          2,         20,         20,2,20130918,       1723,    14.9999,   -29.0000,       5319,   147.4,  14.6348,  35.8879,2,  35.8885,2,     99.3,2,    98.8,2,    6.20,2,   20.50,2,    0.01,2,    1.22,2,   2.032,2,   1.161,2,   0.854,2,  2207.9,2,  2352.1,2,   782.3,2,      20,   7.7025,2,    25.00, -999.00,9,  -999.0,9,  -999.0, -999.00,9, -999.00,9,     26.429,2,-999.0000,9,-999.0000,9,-999.0000,9,-999.0000,9,-999.0000,9,-999.0000,9,-999.0000,9,-999.0000,9,-999.0000,9,     -999.0,5,  -999.0,9,     -999.0,     -999.0,9,     -999.0,20130918,       1923
33RO20130803,       A16N,      99,          2,         19,         19,2,20130918,       1723,    14.9999,   -29.0000,       5319,   217.3,  12.5374,  35.4997,2,  35.5063,2,     85.7,2,    84.8,2,    9.00,2,   25.30,2,    0.01,2,    1.53,2,   1.724,2,   0.947,2,   0.511,2,  2218.7,2,  2330.7,2,   925.9,2,      20,   7.6288,2,    25.00, -999.00,9,  -999.0,9,  -999.0, -999.00,9, -999.00,9,     31.489,2,-999.0000,9,-999.0000,9,-999.0000,9,-999.0000,9,-999.0000,9,-999.0000,9,-999.0000,9,-999.0000,9,-999.0000,9,     -999.0,5,  -999.0,9,     -999.0,     -999.0,9,     -999.0,20130918,       1919
33RO20130803,       A16N,      99,          2,         18,         18,2,20130918,       1723,    14.9999,   -29.0000,       5319,   298.2,  10.8213,  35.2236,2,  35.2235,2,     78.4,2,    75.9,2,   12.00,2,   29.40,2,    0.01,2,    1.80,2,   1.267,2,   0.678,2,   0.354,2,  2227.5,2,  2317.3,2,  1075.9,2,      20,   7.5696,2,    25.00, -999.00,9,  -999.0,9,  -999.0, -999.00,9, -999.00,9,     34.915,2,-999.0000,9,-999.0000,9,-999.0000,9,-999.0000,9,-999.0000,9,-999.0000,9,-999.0000,9,-999.0000,9,-999.0000,9,     -999.0,5,  -999.0,9,     -999.0,     -999.0,9,     -999.0,20130918,       1917
33RO20130803,       A16N,      99,          2,         17,         17,2,20130918,       1723,    14.9999,   -29.0000,       5319,   407.3,   9.7992,  35.1052,2,  35.4184,4,     73.7,2,    80.9,4,    9.90,2,   26.80,2,    0.01,2,    1.62,2,   1.576,2,   0.861,2,   0.486,2,  2222.8,2,  2317.5,2,   991.2,3,      20,   7.6087,3,    25.00, -999.00,9,  -999.0,9,  -999.0, -999.00,9, -999.00,9,     32.762,2,-999.0000,9,-999.0000,9,-999.0000,9,-999.0000,9,-999.0000,9,-999.0000,9,-999.0000,9,-999.0000,9,-999.0000,9,     -999.0,5,  -999.0,9,     -999.0,     -999.0,9,     -999.0,20130918,       1913
33RO20130803,       A16N,      99,          2,         16,         16,2,20130918,       1723,    14.9999,   -29.0000,       5319,   522.2,   8.8991,  35.0209,2,  35.0203,2,     81.9,2,    81.1,2,   16.50,2,   32.80,2,    0.00,2,    2.04,2,   0.575,2,   0.305,2,   0.232,2,  2234.0,2,  2311.5,2,  1182.5,2,      20,   7.5328,2,    25.00, -999.00,9,  -999.0,9,  -999.0, -999.00,9, -999.00,9,     31.344,2,-999.0000,9,-999.0000,9,-999.0000,9,-999.0000,9,-999.0000,9,-999.0000,9,-999.0000,9,-999.0000,9,-999.0000,9,     -999.0,5,  -999.0,9,     -999.0,     -999.0,9,     -999.0,20130918,       1910
33RO20130803,       A16N,      99,          2,         15,         15,2,20130918,       1723,    14.9999,   -29.0000,       5319,   648.1,   7.9747,  34.9550,2,  34.9541,2,     83.6,2,    84.3,2,   19.30,2,   34.10,2,    0.01,2,    2.16,2,   0.281,2,   0.152,2,   0.107,2,  2237.0,6,  2310.9,2,  1212.2,2,      20,   7.5195,2,    25.00, -999.00,9,  -999.0,9,  -999.0, -999.00,9, -999.00,9,     30.507,2,-999.0000,9,-999.0000,9,-999.0000,9,-999.0000,9,-999.0000,9,-999.0000,9,-999.0000,9,-999.0000,9,-999.0000,9,     -999.0,5,  -999.0,9,     -999.0,     -999.0,9,     -999.0,20130918,       1906
33RO20130803,       A16N,      99,          2,         14,         14,2,20130918,       1723,    14.9999,   -29.0000,       5319,   748.4,   7.2558,  34.9051,2,  34.9059,2,     93.9,2,    94.4,2,   21.20,2,   34.10,2,    0.00,2,    2.19,2,   0.151,2,   0.086,2,   0.025,2,  2236.2,2,  2318.2,3,  1175.1,2,      20,   7.5228,2,    25.00, -999.00,9,  -999.0,9,  -999.0, -999.00,9, -999.00,9,     28.790,2,-999.0000,9,-999.0000,9,-999.0000,9,-999.0000,9,-999.0000,9,-999.0000,9,-999.0000,9,-999.0000,9,-999.0000,9,     -999.0,5,  -999.0,9,     -999.0,     -999.0,9,     -999.0,20130918,       1902
33RO20130803,       A16N,      99,          2,         13,         13,2,20130918,       1723,    14.9999,   -29.0000,       5319,   872.4,   6.5372,  34.8897,2,  34.8894,2,    108.3,2,   108.7,2,   22.80,2,   33.30,2,    0.00,2,    2.17,2,   0.066,6,   0.039,6,   0.012,6,  2233.5,2,  2307.9,2,  1134.4,2,      20,   7.5392,2,    25.00, -999.00,9,  -999.0,9,  -999.0, -999.00,9, -999.00,9,     26.613,6,-999.0000,9,-999.0000,9,-999.0000,9,-999.0000,9,-999.0000,9,-999.0000,9,-999.0000,9,-999.0000,9,-999.0000,9,     -999.0,5,  -999.0,9,     -999.0,     -999.0,9,     -999.0,20130918,       1858
33RO20130803,       A16N,      99,          2,         12,         12,2,20130918,       1723,    14.9999,   -29.0000,       5319,  1023.1,   5.8158,  34.9082,2,  34.9089,2,    134.0,2,   134.7,2,   23.40,2,   30.90,2,    0.00,2,    2.04,2,   0.028,2,   0.018,2,   0.000,2,  2224.2,2,  2320.0,2,  1047.9,2,      20,   7.5771,2,    25.00, -999.00,9,  -999.0,9,  -999.0, -999.00,9, -999.00,9,     23.182,2,-999.0000,9,-999.0000,9,-999.0000,9,-999.0000,9,-999.0000,9,-999.0000,9,-999.0000,9,-999.0000,9,-999.0000,9,     -999.0,5,  -999.0,9,     -999.0,     -999.0,9,     -999.0,20130918,       1854
33RO20130803,       A16N,      99,          2,         11,         11,2,20130918,       1723,    14.9999,   -29.0000,       5319,  1173.5,   5.4130,  34.9507,2,  34.9504,2,    156.4,2,   156.6,2,   22.70,2,   28.60,2,    0.00,2,    1.89,2,   0.021,2,   0.014,2,   0.000,2,  2212.4,2,  2311.6,6,   964.8,2,      20,   7.6128,2,    25.00, -999.00,9,  -999.0,9,  -999.0, -999.00,9, -999.00,9,     20.668,2,-999.0000,9,-999.0000,9,-999.0000,9,-999.0000,9,-999.0000,9,-999.0000,9,-999.0000,9,-999.0000,9,-999.0000,9,     -999.0,5,  -999.0,9,     -999.0,     -999.0,9,     -999.0,20130918,       1850
33RO20130803,       A16N,      99,          2,         10,         10,2,20130918,       1723,    14.9999,   -29.0000,       5319,  1398.7,   4.7356,  34.9891,2,  34.9896,2,    193.8,2,   194.2,2,   21.00,2,   24.70,2,    0.00,2,    1.64,2,   0.034,2,   0.019,2,   0.000,2,  2194.6,2,  2326.6,2,   860.8,2,      20,   7.6677,2,    25.00, -999.00,9,  -999.0,9,  -999.0, -999.00,9, -999.00,9,     17.330,2,-999.0000,9,-999.0000,9,-999.0000,9,-999.0000,9,-999.0000,9,-999.0000,9,-999.0000,9,-999.0000,9,-999.0000,9,     -999.0,5,  -999.0,9,     -999.0,     -999.0,9,     -999.0,20130918,       1844
33RO20130803,       A16N,      99,          2,          9,          9,5,20130918,       1723,    14.9999,   -29.0000,       5319,  1748.0,   3.9478,  34.9825,2,-999.0000,9,    219.5,2,  -999.0,9, -999.00,9, -999.00,9, -999.00,9, -999.00,9,-999.000,9,-999.000,9,-999.000,9,  -999.0,9,  -999.0,9,  -999.0,9, -999.00,-999.0000,9,  -999.00, -999.00,9,  -999.0,9,  -999.0, -999.00,9, -999.00,9,     -999.0,9,-999.0000,9,-999.0000,9,-999.0000,9,-999.0000,9,-999.0000,9,-999.0000,9,-999.0000,9,-999.0000,9,-999.0000,9,     -999.0,9,  -999.0,9,     -999.0,     -999.0,9,     -999.0,20130918,       1837
33RO20130803,       A16N,      99,          2,          8,          8,2,20130918,       1723,    14.9999,   -29.0000,       5319,  2199.5,   3.3847,  34.9650,2,  34.9649,2,    232.3,2,   233.3,2,   26.30,2,   21.60,2,    0.00,2,    1.44,2,   0.001,2,   0.002,2,   0.000,2,  2183.1,2,  2332.5,2,   772.0,2,      20,   7.7166,2,    25.00, -999.00,9,  -999.0,9,  -999.0, -999.00,9, -999.00,9,     14.230,2,-999.0000,9,-999.0000,9,-999.0000,9,-999.0000,9,-999.0000,9,-999.0000,9,-999.0000,9,-999.0000,9,-999.0000,9,     -999.0,5,  -999.0,9,     -999.0,     -999.0,9,     -999.0,20130918,       1828
33RO20130803,       A16N,      99,          2,          7,          7,2,20130918,       1723,    14.9999,   -29.0000,       5319,  2597.2,   3.0298,  34.9474,2,  34.9474,2,    238.0,2,   239.3,2,   30.30,2,   21.30,2,    0.00,2,    1.43,2,   0.001,2,   0.002,2,   0.000,2,  2185.6,2,  2328.8,2,   762.2,2,      20,   7.7224,2,    25.00, -999.00,9,  -999.0,9,  -999.0, -999.00,9, -999.00,9,     13.754,2,-999.0000,9,-999.0000,9,-999.0000,9,-999.0000,9,-999.0000,9,-999.0000,9,-999.0000,9,-999.0000,9,-999.0000,9,     -999.0,5,  -999.0,9,     -999.0,     -999.0,9,     -999.0,20130918,       1819
33RO20130803,       A16N,      99,          2,          6,          6,2,20130918,       1723,    14.9999,   -29.0000,       5319,  2998.9,   2.7917,  34.9326,2,  34.9317,2,    242.1,2,   243.8,2,   33.60,2,   21.20,2,    0.00,2,    1.42,2,   0.000,2,   0.002,2,   0.000,2,  2186.3,2,  2341.0,2,   753.3,2,      20,   7.7288,2,    25.00, -999.00,9,  -999.0,9,  -999.0, -999.00,9, -999.00,9,     13.514,2,-999.0000,9,-999.0000,9,-999.0000,9,-999.0000,9,-999.0000,9,-999.0000,9,-999.0000,9,-999.0000,9,-999.0000,9,     -999.0,5,  -999.0,9,     -999.0,     -999.0,9,     -999.0,20130918,       1810
33RO20130803,       A16N,      99,          2,          5,          5,2,20130918,       1723,    14.9999,   -29.0000,       5319,  3397.1,   2.5871,  34.9168,2,  34.9166,2,    243.1,2,   244.9,2,   37.80,2,   21.40,2,    0.00,2,    1.44,2,   0.000,2,   0.002,2,   0.000,2,  2190.8,2,  2336.5,2,   755.3,2,      20,   7.7275,2,    25.00, -999.00,9,  -999.0,9,  -999.0, -999.00,9, -999.00,9,     13.549,2,-999.0000,9,-999.0000,9,-999.0000,9,-999.0000,9,-999.0000,9,-999.0000,9,-999.0000,9,-999.0000,9,-999.0000,9,     -999.0,5,  -999.0,9,     -999.0,     -999.0,9,     -999.0,20130918,       1802
33RO20130803,       A16N,      99,          2,          4,          4,2,20130918,       1723,    14.9999,   -29.0000,       5319,  3798.6,   2.4382,  34.9019,2,  34.9012,2,    238.2,2,   239.9,2,   43.20,6,   22.20,6,    0.00,6,    1.49,6,   0.001,2,   0.003,2,   0.000,2,  2201.1,2,  2357.8,2,   765.1,2,      20,   7.7229,2,    25.00, -999.00,9,  -999.0,9,  -999.0, -999.00,9, -999.00,9,     13.677,2,-999.0000,9,-999.0000,9,-999.0000,9,-999.0000,9,-999.0000,9,-999.0000,9,-999.0000,9,-999.0000,9,-999.0000,9,     -999.0,5,  -999.0,9,     -999.0,     -999.0,9,     -999.0,20130918,       1754
33RO20130803,       A16N,      99,          2,          3,          3,2,20130918,       1723,    14.9999,   -29.0000,       5319,  4197.7,   2.3545,  34.8889,2,  34.8892,2,    234.5,2,   236.1,2,   47.20,6,   22.80,6,    0.00,6,    1.53,6,   0.004,2,   0.004,2,   0.000,2,  2209.3,2,  2354.6,2,   782.0,2,      20,   7.7182,6,    25.00, -999.00,9,  -999.0,9,  -999.0, -999.00,9, -999.00,9,     13.721,2,-999.0000,9,-999.0000,9,-999.0000,9,-999.0000,9,-999.0000,9,-999.0000,9,-999.0000,9,-999.0000,9,-999.0000,9,     -999.0,5,  -999.0,9,     -999.0,     -999.0,9,     -999.0,20130918,       1745
33RO20130803,       A16N,      99,          2,          2,          2,2,20130918,       1723,    14.9999,   -29.0000,       5319,  4747.3,   2.3172,  34.8777,2,  34.8778,2,    234.4,2,   235.1,2,   50.50,6,   23.20,6,    0.00,6,    1.54,6,   0.009,6,   0.007,6,   0.000,6,  2216.9,6,  2361.0,6,   788.4,2,      20,   7.7140,2,    25.00, -999.00,9,  -999.0,9,  -999.0, -999.00,9, -999.00,9,     13.944,6,-999.0000,9,-999.0000,9,-999.0000,9,-999.0000,9,-999.0000,9,-999.0000,9,-999.0000,9,-999.0000,9,-999.0000,9,     -999.0,5,  -999.0,9,     -999.0,     -999.0,9,     -999.0,20130918,       1735
33RO20130803,       A16N,      99,          2,          1,          1,2,20130918,       1723,    14.9999,   -29.0000,       5319,  5379.1,   2.3159,  34.8703,2,  34.8692,2,    245.7,2,   244.3,2,   49.20,6,   22.50,6,    0.00,6,    1.52,6,   0.040,2,   0.024,2,   0.000,2,  2205.0,2,  2356.4,2,   787.4,2,      20,   7.7358,3,    25.00, -999.00,9,  -999.0,9,  -999.0, -999.00,9, -999.00,9,     13.967,2,-999.0000,9,-999.0000,9,-999.0000,9,-999.0000,9,-999.0000,9,-999.0000,9,-999.0000,9,-999.0000,9,-999.0000,9,     -999.0,5,  -999.0,9,     -999.0,     -999.0,9,     -999.0,20130918,       1723