BOTTLE,20220815CCHSIOAMB
EXPOCODE,SECT_ID,STNNBR,CASTNO,SAMPNO,BTLNBR,BTLNBR_FLAG_W,DATE,TIME,LATITUDE,LONGITUDE,DEPTH,CTDPRS,CTDTMP,CTDSAL,CTDSAL_FLAG_W,SALNTY,SALNTY_FLAG_W,CTDOXY,CTDOXY_FLAG_W,OXYGEN,OXYGEN_FLAG_W,SILCAT,SILCAT_FLAG_W,NITRAT,NITRAT_FLAG_W,NITRIT,NITRIT_FLAG_W,PHSPHT,PHSPHT_FLAG_W,CFC-11,CFC-11_FLAG_W,CFC-12,CFC-12_FLAG_W,SF6,SF6_FLAG_W,TCARBN,TCARBN_FLAG_W,ALKALI,ALKALI_FLAG_W,PCO2,PCO2_FLAG_W,PCO2TMP,PH_SWS,PH_SWS_FLAG_W,PH_TMP,DELC13,DELC13_FLAG_W,DELC14,DELC14_FLAG_W,C14ERR,DOC,DOC_FLAG_W,TDN,TDN_FLAG_W,N2O,N2O_FLAG_W,CDOM325,CDOM325_FLAG_W,CDOM340,CDOM340_FLAG_W,CDOM380,CDOM380_FLAG_W,CDOM412,CDOM412_FLAG_W,CDOM443,CDOM443_FLAG_W,CDOM490,CDOM490_FLAG_W,CDOM555,CDOM555_FLAG_W,CDOMSL,CDOMSL_FLAG_W,CDOMSN,CDOMSN_FLAG_W,CCL4,CCL4_FLAG_W,14C-DOC,14C-DOC_FLAG_W,14C-DOCERR,13C-DOC,13C-DOC_FLAG_W,13C-DOCERR,BTL_DATE,BTL_TIME
,,,,,,,,,,,METERS,DBAR,ITS-90,PSS-78,,PSS-78,,UMOL/KG,,UMOL/KG,,UMOL/KG,,UMOL/KG,,UMOL/KG,,UMOL/KG,,PMOL/KG,,PMOL/KG,,FMOL/KG,,UMOL/KG,,UMOL/KG,,UATM,,DEG C,,,DEG C,/MILLE,,/MILLE,,/MILLE,UMOL/KG,,UMOL/KG,,NMOL/KG,,1/M,,1/M,,1/M,,1/M,,1/M,,1/M,,1/M,,1/NM,,1/NM,,PMOL/KG,,/MILLE,,/MILLE,/MILLE,,/MILLE,,
33RO20130803,       A16N,      42,          1,         24,         24,2,20130813,       1652,    44.4983,   -19.9967,       4297,     2.7,  20.6979,  35.6963,2,  35.6991,2,    230.0,2,   234.2,2,    0.50,2,    0.00,2,    0.00,2,    0.04,2,-999.000,9,-999.000,9,-999.000,9,  2065.6,6,  2352.5,2,   363.6,2,      20,   8.0015,2,    25.00, -999.00,9,  -999.0,9,  -999.0, -999.00,9, -999.00,9,     -999.0,9,-999.0000,9,-999.0000,9,-999.0000,9,-999.0000,9,-999.0000,9,-999.0000,9,-999.0000,9,-999.0000,9,-999.0000,9,     -999.0,9,  -999.0,9,     -999.0,     -999.0,9,     -999.0,20130813,       1830
33RO20130803,       A16N,      42,          1,         23,         23,2,20130813,       1652,    44.4983,   -19.9967,       4297,    15.6,  19.2807,  35.7393,2,  35.7433,2,    232.7,2,   234.9,2,    0.50,2,    0.00,2,    0.00,2,    0.05,2,-999.000,9,-999.000,9,-999.000,9,  2068.8,2,  2351.6,2,  -999.0,9, -999.00,   7.9982,2,    25.00, -999.00,9,  -999.0,9,  -999.0, -999.00,9, -999.00,9,     -999.0,9,-999.0000,9,-999.0000,9,-999.0000,9,-999.0000,9,-999.0000,9,-999.0000,9,-999.0000,9,-999.0000,9,-999.0000,9,     -999.0,9,  -999.0,9,     -999.0,     -999.0,9,     -999.0,20130813,       1829
33RO20130803,       A16N,      42,          1,         22,         22,2,20130813,       1652,    44.4983,   -19.9967,       4297,    35.5,  17.7231,  35.7619,2,  35.7654,2,    239.1,2,   245.2,2,    0.50,2,    0.00,2,    0.00,2,    0.05,2,-999.000,9,-999.000,9,-999.000,9,  2077.8,2,  2354.9,2,   384.3,2,      20,   8.0372,4,    25.00, -999.00,9,  -999.0,9,  -999.0, -999.00,9, -999.00,9,     -999.0,9,-999.0000,9,-999.0000,9,-999.0000,9,-999.0000,9,-999.0000,9,-999.0000,9,-999.0000,9,-999.0000,9,-999.0000,9,     -999.0,9,  -999.0,9,     -999.0,     -999.0,9,     -999.0,20130813,       1827
33RO20130803,       A16N,      42,          1,         21,         21,2,20130813,       1652,    44.4983,   -19.9967,       4297,    60.5,  14.7792,  35.7403,2,  35.7421,2,    242.9,2,   240.9,2,    0.60,2,    1.40,2,    0.52,2,    0.22,2,-999.000,9,-999.000,9,-999.000,9,  -999.0,9,  -999.0,9,  -999.0,9, -999.00,-999.0000,9,  -999.00, -999.00,9,  -999.0,9,  -999.0, -999.00,9, -999.00,9,     -999.0,9,-999.0000,9,-999.0000,9,-999.0000,9,-999.0000,9,-999.0000,9,-999.0000,9,-999.0000,9,-999.0000,9,-999.0000,9,     -999.0,9,  -999.0,9,     -999.0,     -999.0,9,     -999.0,20130813,       1825
33RO20130803,       A16N,      42,          1,         20,         20,2,20130813,       1652,    44.4983,   -19.9967,       4297,    85.5,  13.6089,  35.7490,2,  35.7499,2,    235.9,2,   235.7,2,    1.40,2,    5.50,2,    0.02,2,    0.37,2,-999.000,9,-999.000,9,-999.000,9,  2126.1,2,  2349.0,2,   506.4,2,      20,   7.8774,2,    25.00, -999.00,9,  -999.0,9,  -999.0, -999.00,9, -999.00,9,     -999.0,9,-999.0000,9,-999.0000,9,-999.0000,9,-999.0000,9,-999.0000,9,-999.0000,9,-999.0000,9,-999.0000,9,-999.0000,9,     -999.0,9,  -999.0,9,     -999.0,     -999.0,9,     -999.0,20130813,       1824
33RO20130803,       A16N,      42,          1,         19,         19,2,20130813,       1652,    44.4983,   -19.9967,       4297,   123.5,  12.8411,  35.6668,2,  35.6650,2,    238.7,2,   237.5,2,    2.80,2,    7.80,2,    0.01,2,    0.50,2,-999.000,9,-999.000,9,-999.000,9,  -999.0,9,  -999.0,9,  -999.0,9, -999.00,-999.0000,9,  -999.00, -999.00,9,  -999.0,9,  -999.0, -999.00,9, -999.00,9,     -999.0,9,-999.0000,9,-999.0000,9,-999.0000,9,-999.0000,9,-999.0000,9,-999.0000,9,-999.0000,9,-999.0000,9,-999.0000,9,     -999.0,9,  -999.0,9,     -999.0,     -999.0,9,     -999.0,20130813,       1822
33RO20130803,       A16N,      42,          1,         18,         18,2,20130813,       1652,    44.4983,   -19.9967,       4297,   185.3,  12.6041,  35.6665,2,  35.6731,2,    233.7,2,     235,2,    2.90,2,    8.10,2,    0.01,2,    0.52,2,-999.000,9,-999.000,9,-999.000,9,  2135.9,2,  2343.2,2,   545.0,2,      20,   7.8500,2,    25.00, -999.00,9,  -999.0,9,  -999.0, -999.00,9, -999.00,9,     -999.0,9,-999.0000,9,-999.0000,9,-999.0000,9,-999.0000,9,-999.0000,9,-999.0000,9,-999.0000,9,-999.0000,9,-999.0000,9,     -999.0,9,  -999.0,9,     -999.0,     -999.0,9,     -999.0,20130813,       1820
33RO20130803,       A16N,      42,          1,         17,         17,2,20130813,       1652,    44.4983,   -19.9967,       4297,   260.6,  12.0798,  35.5872,2,  35.5859,2,    227.3,2,   227.8,2,    3.80,2,   10.20,2,    0.01,2,    0.64,2,-999.000,9,-999.000,9,-999.000,9,  -999.0,9,  -999.0,9,  -999.0,9, -999.00,-999.0000,9,  -999.00, -999.00,9,  -999.0,9,  -999.0, -999.00,9, -999.00,9,     -999.0,9,-999.0000,9,-999.0000,9,-999.0000,9,-999.0000,9,-999.0000,9,-999.0000,9,-999.0000,9,-999.0000,9,-999.0000,9,     -999.0,9,  -999.0,9,     -999.0,     -999.0,9,     -999.0,20130813,       1817
33RO20130803,       A16N,      42,          1,         16,         16,2,20130813,       1652,    44.4983,   -19.9967,       4297,   348.6,  12.0273,  35.6269,2,  35.6259,2,    230.4,2,   229.1,2,    3.60,2,   10.20,2,    0.01,2,    0.64,2,-999.000,9,-999.000,9,-999.000,9,  2144.5,2,  2341.0,2,   583.2,2,      20,   7.8217,2,    25.00, -999.00,9,  -999.0,9,  -999.0, -999.00,9, -999.00,9,     -999.0,9,-999.0000,9,-999.0000,9,-999.0000,9,-999.0000,9,-999.0000,9,-999.0000,9,-999.0000,9,-999.0000,9,-999.0000,9,     -999.0,9,  -999.0,9,     -999.0,     -999.0,9,     -999.0,20130813,       1815
33RO20130803,       A16N,      42,          1,         15,         15,2,20130813,       1652,    44.4983,   -19.9967,       4297,   449.1,  11.7389,  35.6119,2,  35.6109,2,    223.0,2,   221.9,2,    4.10,2,   11.40,2,    0.01,2,    0.71,2,-999.000,9,-999.000,9,-999.000,9,  -999.0,9,  -999.0,9,  -999.0,9, -999.00,-999.0000,9,  -999.00, -999.00,9,  -999.0,9,  -999.0, -999.00,9, -999.00,9,     -999.0,9,-999.0000,9,-999.0000,9,-999.0000,9,-999.0000,9,-999.0000,9,-999.0000,9,-999.0000,9,-999.0000,9,-999.0000,9,     -999.0,9,  -999.0,9,     -999.0,     -999.0,9,     -999.0,20130813,       1812
33RO20130803,       A16N,      42,          1,         14,         14,2,20130813,       1652,    44.4983,   -19.9967,       4297,   573.2,  11.2886,  35.5722,2,  35.5708,2,    218.7,2,   218.4,2,    4.80,2,   12.60,2,    0.00,2,    0.78,2,-999.000,9,-999.000,9,-999.000,9,  2156.2,2,  2339.2,2,  -999.0,9, -999.00,   7.7926,2,    25.00, -999.00,9,  -999.0,9,  -999.0, -999.00,9, -999.00,9,     -999.0,9,-999.0000,9,-999.0000,9,-999.0000,9,-999.0000,9,-999.0000,9,-999.0000,9,-999.0000,9,-999.0000,9,-999.0000,9,     -999.0,9,  -999.0,9,     -999.0,     -999.0,9,     -999.0,20130813,       1809
33RO20130803,       A16N,      42,          1,         13,         13,2,20130813,       1652,    44.4983,   -19.9967,       4297,   713.6,  10.5500,  35.5178,2,  35.5066,2,    196.3,2,   194.6,2,    7.50,2,   16.00,2,    0.00,2,    1.00,2,-999.000,9,-999.000,9,-999.000,9,  2171.6,2,  2338.7,6,   698.0,6,      20,   7.7558,2,    25.00, -999.00,9,  -999.0,9,  -999.0, -999.00,9, -999.00,9,     -999.0,9,-999.0000,9,-999.0000,9,-999.0000,9,-999.0000,9,-999.0000,9,-999.0000,9,-999.0000,9,-999.0000,9,-999.0000,9,     -999.0,9,  -999.0,9,     -999.0,     -999.0,9,     -999.0,20130813,       1805
33RO20130803,       A16N,      42,          1,         12,         12,2,20130813,       1652,    44.4983,   -19.9967,       4297,   807.8,   9.7846,  35.4788,2,  35.4820,2,    183.9,2,   184.7,2,    9.20,2,   17.80,2,    0.00,2,    1.13,2,   2.267,2,   1.224,2,   0.775,2,  2182.5,6,  2339.3,2,  -999.0,9, -999.00,   7.7344,2,    25.00, -999.00,9,  -999.0,9,  -999.0, -999.00,9, -999.00,9,     15.816,2,-999.0000,9,-999.0000,9,-999.0000,9,-999.0000,9,-999.0000,9,-999.0000,9,-999.0000,9,-999.0000,9,-999.0000,9,     -999.0,5,  -999.0,9,     -999.0,     -999.0,9,     -999.0,20130813,       1803
33RO20130803,       A16N,      42,          1,         11,         11,2,20130813,       1652,    44.4983,   -19.9967,       4297,  1022.7,   7.0280,  35.2137,2,  35.2176,2,    211.0,2,   210.1,2,   10.90,2,   18.70,2,    0.00,2,    1.21,2,   2.580,2,   1.363,2,   0.879,2,  2181.5,2,  2325.8,2,   792.5,2,      20,   7.7032,6,    25.00, -999.00,9,  -999.0,9,  -999.0, -999.00,9, -999.00,9,     15.539,2,-999.0000,9,-999.0000,9,-999.0000,9,-999.0000,9,-999.0000,9,-999.0000,9,-999.0000,9,-999.0000,9,-999.0000,9,     -999.0,5,  -999.0,9,     -999.0,     -999.0,9,     -999.0,20130813,       1758
33RO20130803,       A16N,      42,          1,         10,         10,2,20130813,       1652,    44.4983,   -19.9967,       4297,  1167.6,   6.4189,  35.2259,2,  35.2265,2,    222.9,2,   224.2,2,   10.80,2,   18.10,2,    0.00,2,    1.18,2,-999.000,9,-999.000,9,-999.000,9,  -999.0,9,  -999.0,9,  -999.0,9, -999.00,-999.0000,9,  -999.00, -999.00,9,  -999.0,9,  -999.0, -999.00,9, -999.00,9,     -999.0,9,-999.0000,9,-999.0000,9,-999.0000,9,-999.0000,9,-999.0000,9,-999.0000,9,-999.0000,9,-999.0000,9,-999.0000,9,     -999.0,9,  -999.0,9,     -999.0,     -999.0,9,     -999.0,20130813,       1754
33RO20130803,       A16N,      42,          1,          9,          9,2,20130813,       1652,    44.4983,   -19.9967,       4297,  1240.5,   5.3417,  35.0601,2,  35.0615,2,    239.5,2,   241.9,2,   10.70,2,   17.80,2,    0.00,2,    1.18,2,-999.000,9,-999.000,9,-999.000,9,  2173.8,2,  2315.9,2,  -999.0,9, -999.00,   7.7015,2,    25.00, -999.00,9,  -999.0,9,  -999.0, -999.00,9, -999.00,9,     -999.0,9,-999.0000,9,-999.0000,9,-999.0000,9,-999.0000,9,-999.0000,9,-999.0000,9,-999.0000,9,-999.0000,9,-999.0000,9,     -999.0,9,  -999.0,9,     -999.0,     -999.0,9,     -999.0,20130813,       1752
33RO20130803,       A16N,      42,          1,          8,          8,2,20130813,       1652,    44.4983,   -19.9967,       4297,  1525.7,   4.7407,  35.0632,2,  35.0645,2,    252.4,2,   251.5,2,   11.40,2,   17.70,2,    0.00,2,    1.16,2,   3.030,2,   1.548,2,   0.777,2,  -999.0,9,  -999.0,9,  -999.0,9, -999.00,-999.0000,9,  -999.00, -999.00,9,  -999.0,9,  -999.0, -999.00,9, -999.00,9,     13.943,2,-999.0000,9,-999.0000,9,-999.0000,9,-999.0000,9,-999.0000,9,-999.0000,9,-999.0000,9,-999.0000,9,-999.0000,9,     -999.0,5,  -999.0,9,     -999.0,     -999.0,9,     -999.0,20130813,       1746
33RO20130803,       A16N,      42,          1,          7,          7,2,20130813,       1652,    44.4983,   -19.9967,       4297,  1899.3,   3.6682,  34.9355,2,  34.9352,2,    266.0,2,   267.7,2,   12.30,2,   17.50,2,    0.00,2,    1.16,2,   2.882,2,   1.414,2,   0.574,2,  2162.1,2,  2308.1,2,   768.7,2,      20,   7.7137,2,    25.00, -999.00,9,  -999.0,9,  -999.0, -999.00,9, -999.00,9,     13.411,2,-999.0000,9,-999.0000,9,-999.0000,9,-999.0000,9,-999.0000,9,-999.0000,9,-999.0000,9,-999.0000,9,-999.0000,9,     -999.0,5,  -999.0,9,     -999.0,     -999.0,9,     -999.0,20130813,       1739
33RO20130803,       A16N,      42,          1,          6,          6,2,20130813,       1652,    44.4983,   -19.9967,       4297,  2302.2,   3.3191,  34.9354,2,  34.9350,2,    268.5,2,   267.1,2,   15.60,2,   17.60,2,    0.00,2,    1.18,2,-999.000,9,-999.000,9,-999.000,9,  -999.0,9,  -999.0,9,  -999.0,9, -999.00,-999.0000,9,  -999.00, -999.00,9,  -999.0,9,  -999.0, -999.00,9, -999.00,9,     -999.0,9,-999.0000,9,-999.0000,9,-999.0000,9,-999.0000,9,-999.0000,9,-999.0000,9,-999.0000,9,-999.0000,9,-999.0000,9,     -999.0,9,  -999.0,9,     -999.0,     -999.0,9,     -999.0,20130813,       1731
33RO20130803,       A16N,      42,          1,          5,          5,2,20130813,       1652,    44.4983,   -19.9967,       4297,  2710.4,   3.0439,  34.9454,2,  34.9445,2,    257.4,2,   258.7,2,   22.20,2,   18.50,2,    0.00,2,    1.24,2,   1.312,2,   0.642,2,   0.273,2,  2172.6,2,  2321.3,2,  -999.0,9, -999.00,   7.7234,2,    25.00, -999.00,9,  -999.0,9,  -999.0, -999.00,9, -999.00,9,     13.291,2,-999.0000,9,-999.0000,9,-999.0000,9,-999.0000,9,-999.0000,9,-999.0000,9,-999.0000,9,-999.0000,9,-999.0000,9,     -999.0,5,  -999.0,9,     -999.0,     -999.0,9,     -999.0,20130813,       1723
33RO20130803,       A16N,      42,          1,          4,          4,2,20130813,       1652,    44.4983,   -19.9967,       4297,  3098.7,   2.7884,  34.9381,2,  34.9375,2,    251.0,2,   251.4,2,   29.80,6,   19.60,6,    0.00,6,    1.32,6,-999.000,9,-999.000,9,-999.000,9,  -999.0,9,  -999.0,9,  -999.0,9, -999.00,-999.0000,9,  -999.00, -999.00,9,  -999.0,9,  -999.0, -999.00,9, -999.00,9,     -999.0,9,-999.0000,9,-999.0000,9,-999.0000,9,-999.0000,9,-999.0000,9,-999.0000,9,-999.0000,9,-999.0000,9,-999.0000,9,     -999.0,9,  -999.0,9,     -999.0,     -999.0,9,     -999.0,20130813,       1715
33RO20130803,       A16N,      42,          1,          3,          3,2,20130813,       1652,    44.4983,   -19.9967,       4297,  3499.3,   2.6219,  34.9230,2,  34.9224,2,    244.0,2,     244,2,   37.50,6,   20.90,6,    0.00,6,    1.42,6,   0.436,2,   0.217,2,   0.122,2,  2192.6,2,  2345.1,6,   761.5,2,      20,   7.7236,2,    25.00, -999.00,9,  -999.0,9,  -999.0, -999.00,9, -999.00,9,     13.469,2,-999.0000,9,-999.0000,9,-999.0000,9,-999.0000,9,-999.0000,9,-999.0000,9,-999.0000,9,-999.0000,9,-999.0000,9,     -999.0,5,  -999.0,9,     -999.0,     -999.0,9,     -999.0,20130813,       1708
33RO20130803,       A16N,      42,          1,          2,          2,2,20130813,       1652,    44.4983,   -19.9967,       4297,  3898.0,   2.5634,  34.9137,2,  34.9147,2,    240.1,2,   240.1,2,   41.60,6,   21.70,6,    0.00,6,    1.46,6,-999.000,9,-999.000,9,-999.000,9,  2199.2,2,  2351.2,2,  -999.0,9, -999.00,   7.7241,6,    25.00, -999.00,9,  -999.0,9,  -999.0, -999.00,9, -999.00,9,     -999.0,9,-999.0000,9,-999.0000,9,-999.0000,9,-999.0000,9,-999.0000,9,-999.0000,9,-999.0000,9,-999.0000,9,-999.0000,9,     -999.0,9,  -999.0,9,     -999.0,     -999.0,9,     -999.0,20130813,       1700
33RO20130803,       A16N,      42,          1,          1,          1,2,20130813,       1652,    44.4983,   -19.9967,       4297,  4287.2,   2.5686,  34.9095,2,  34.9087,2,    239.8,2,   239.3,2,   43.30,6,   22.00,6,    0.00,6,    1.50,2,   0.114,6,   0.057,6,   0.063,6,  2202.8,6,  2355.2,2,   760.0,2,      20,   7.7247,2,    25.00, -999.00,9,  -999.0,9,  -999.0, -999.00,9, -999.00,9,     13.608,6,-999.0000,9,-999.0000,9,-999.0000,9,-999.0000,9,-999.0000,9,-999.0000,9,-999.0000,9,-999.0000,9,-999.0000,9,     -999.0,5,  -999.0,9,     -999.0,     -999.0,9,     -999.0,20130813,       1652