BOTTLE,20220815CCHSIOAMB
EXPOCODE,SECT_ID,STNNBR,CASTNO,SAMPNO,BTLNBR,BTLNBR_FLAG_W,DATE,TIME,LATITUDE,LONGITUDE,DEPTH,CTDPRS,CTDTMP,CTDSAL,CTDSAL_FLAG_W,SALNTY,SALNTY_FLAG_W,CTDOXY,CTDOXY_FLAG_W,OXYGEN,OXYGEN_FLAG_W,SILCAT,SILCAT_FLAG_W,NITRAT,NITRAT_FLAG_W,NITRIT,NITRIT_FLAG_W,PHSPHT,PHSPHT_FLAG_W,CFC-11,CFC-11_FLAG_W,CFC-12,CFC-12_FLAG_W,SF6,SF6_FLAG_W,TCARBN,TCARBN_FLAG_W,ALKALI,ALKALI_FLAG_W,PCO2,PCO2_FLAG_W,PCO2TMP,PH_SWS,PH_SWS_FLAG_W,PH_TMP,DELC13,DELC13_FLAG_W,DELC14,DELC14_FLAG_W,C14ERR,DOC,DOC_FLAG_W,TDN,TDN_FLAG_W,N2O,N2O_FLAG_W,CDOM325,CDOM325_FLAG_W,CDOM340,CDOM340_FLAG_W,CDOM380,CDOM380_FLAG_W,CDOM412,CDOM412_FLAG_W,CDOM443,CDOM443_FLAG_W,CDOM490,CDOM490_FLAG_W,CDOM555,CDOM555_FLAG_W,CDOMSL,CDOMSL_FLAG_W,CDOMSN,CDOMSN_FLAG_W,CCL4,CCL4_FLAG_W,14C-DOC,14C-DOC_FLAG_W,14C-DOCERR,13C-DOC,13C-DOC_FLAG_W,13C-DOCERR,BTL_DATE,BTL_TIME
,,,,,,,,,,,METERS,DBAR,ITS-90,PSS-78,,PSS-78,,UMOL/KG,,UMOL/KG,,UMOL/KG,,UMOL/KG,,UMOL/KG,,UMOL/KG,,PMOL/KG,,PMOL/KG,,FMOL/KG,,UMOL/KG,,UMOL/KG,,UATM,,DEG C,,,DEG C,/MILLE,,/MILLE,,/MILLE,UMOL/KG,,UMOL/KG,,NMOL/KG,,1/M,,1/M,,1/M,,1/M,,1/M,,1/M,,1/M,,1/NM,,1/NM,,PMOL/KG,,/MILLE,,/MILLE,/MILLE,,/MILLE,,
33RO20130803,       A16N,      80,          1,         24,         24,2,20130906,       0434,    25.9986,   -25.6324,       4496,     3.8,  24.5750,  37.5100,2,  37.5114,2,    206.5,2,   207.5,2,    0.50,2,    0.00,2,    0.00,2,    0.00,2,   1.713,2,   1.079,2,   1.295,2,  2116.8,6,  2456.7,2,   330.6,2,      20,   8.0434,2,    25.00, -999.00,9,  -999.0,9,  -999.0, -999.00,9, -999.00,9,      6.461,2,-999.0000,9,-999.0000,9,-999.0000,9,-999.0000,9,-999.0000,9,-999.0000,9,-999.0000,9,-999.0000,9,-999.0000,9,     -999.0,5,  -999.0,9,     -999.0,     -999.0,9,     -999.0,20130906,       0636
33RO20130803,       A16N,      80,          1,         23,         23,2,20130906,       0434,    25.9986,   -25.6324,       4496,    58.9,  24.4546,  37.4988,2,  37.4942,2,    208.3,2,   209.7,2,    0.50,2,    0.00,2,    0.00,2,    0.01,2,   1.734,2,   1.090,2,   1.269,2,  2115.6,2,  2433.8,3,   332.9,2,      20,   8.0434,2,    25.00, -999.00,9,  -999.0,9,  -999.0, -999.00,9, -999.00,9,      6.499,2,-999.0000,9,-999.0000,9,-999.0000,9,-999.0000,9,-999.0000,9,-999.0000,9,-999.0000,9,-999.0000,9,-999.0000,9,     -999.0,5,  -999.0,9,     -999.0,     -999.0,9,     -999.0,20130906,       0631
33RO20130803,       A16N,      80,          1,         22,         22,2,20130906,       0434,    25.9986,   -25.6324,       4496,    88.5,  21.6040,  37.2196,2,  37.2197,2,    223.9,2,   223.6,2,    0.60,2,    0.00,2,    0.00,2,    0.01,2,   1.980,6,   1.226,6,   1.378,6,  2111.6,2,  2416.2,3,   343.4,3,      20,-999.0000,5,  -999.00, -999.00,9,  -999.0,9,  -999.0, -999.00,9, -999.00,9,      7.168,6,-999.0000,9,-999.0000,9,-999.0000,9,-999.0000,9,-999.0000,9,-999.0000,9,-999.0000,9,-999.0000,9,-999.0000,9,     -999.0,5,  -999.0,9,     -999.0,     -999.0,9,     -999.0,20130906,       0629
33RO20130803,       A16N,      80,          1,         21,         21,2,20130906,       0434,    25.9986,   -25.6324,       4496,    88.6,  21.6005,  37.2195,2,  37.2199,2,    223.7,2,   224.1,2,    0.60,2,    0.00,2,    0.00,2,    0.01,2,-999.000,9,-999.000,9,-999.000,9,  -999.0,9,  -999.0,9,   344.4,2,      20,-999.0000,9,  -999.00, -999.00,9,  -999.0,9,  -999.0, -999.00,9, -999.00,9,     -999.0,9,-999.0000,9,-999.0000,9,-999.0000,9,-999.0000,9,-999.0000,9,-999.0000,9,-999.0000,9,-999.0000,9,-999.0000,9,     -999.0,9,  -999.0,9,     -999.0,     -999.0,9,     -999.0,20130906,       0629
33RO20130803,       A16N,      80,          1,         20,         20,2,20130906,       0434,    25.9986,   -25.6324,       4496,   108.4,  21.0746,  37.1823,2,  37.1781,2,    217.2,2,   216.9,2,    0.60,2,    0.00,2,    0.01,2,    0.02,2,   2.011,2,   1.240,2,   1.411,2,  2117.6,2,  2419.4,3,   358.3,2,      20,   8.0147,2,    25.00, -999.00,9,  -999.0,9,  -999.0, -999.00,9, -999.00,9,      7.238,2,-999.0000,9,-999.0000,9,-999.0000,9,-999.0000,9,-999.0000,9,-999.0000,9,-999.0000,9,-999.0000,9,-999.0000,9,     -999.0,5,  -999.0,9,     -999.0,     -999.0,9,     -999.0,20130906,       0627
33RO20130803,       A16N,      80,          1,         19,         19,2,20130906,       0434,    25.9986,   -25.6324,       4496,   138.1,  20.0675,  37.0250,2,  37.0256,2,    204.9,2,   205.5,2,    0.70,2,    0.40,2,    0.07,2,    0.03,2,   2.076,2,   1.272,2,   1.386,2,  2124.8,2,  2421.2,2,   387.7,2,      20,   7.9845,6,    25.00, -999.00,9,  -999.0,9,  -999.0, -999.00,9, -999.00,9,      7.718,2,-999.0000,9,-999.0000,9,-999.0000,9,-999.0000,9,-999.0000,9,-999.0000,9,-999.0000,9,-999.0000,9,-999.0000,9,     -999.0,5,  -999.0,9,     -999.0,     -999.0,9,     -999.0,20130906,       0625
33RO20130803,       A16N,      80,          1,         18,         18,2,20130906,       0434,    25.9986,   -25.6324,       4496,   198.5,  18.3946,  36.7307,2,  36.7151,2,    192.7,2,   193.4,2,    1.30,2,    4.00,2,    0.01,2,    0.22,2,   2.244,2,   1.354,2,   1.337,2,  2136.1,2,  2395.0,2,   437.1,2,      20,   7.9404,2,    25.00, -999.00,9,  -999.0,9,  -999.0, -999.00,9, -999.00,9,      9.129,2,-999.0000,9,-999.0000,9,-999.0000,9,-999.0000,9,-999.0000,9,-999.0000,9,-999.0000,9,-999.0000,9,-999.0000,9,     -999.0,5,  -999.0,9,     -999.0,     -999.0,9,     -999.0,20130906,       0622
33RO20130803,       A16N,      80,          1,         17,         17,2,20130906,       0434,    25.9986,   -25.6324,       4496,   288.4,  16.8127,  36.4124,2,  36.4043,2,    194.2,2,   193.5,2,    2.00,2,    6.40,2,    0.01,2,    0.37,2,   2.367,2,   1.409,2,   1.277,2,  2136.1,2,  2382.4,2,   469.9,2,      20,   7.9089,2,    25.00, -999.00,9,  -999.0,9,  -999.0, -999.00,9, -999.00,9,     10.186,2,-999.0000,9,-999.0000,9,-999.0000,9,-999.0000,9,-999.0000,9,-999.0000,9,-999.0000,9,-999.0000,9,-999.0000,9,     -999.0,5,  -999.0,9,     -999.0,     -999.0,9,     -999.0,20130906,       0619
33RO20130803,       A16N,      80,          1,         16,         16,2,20130906,       0434,    25.9986,   -25.6324,       4496,   357.8,  15.4058,  36.1407,2,  36.1419,2,    187.1,2,   186.3,2,    3.00,2,    9.20,2,    0.00,2,    0.54,2,   2.447,2,   1.434,2,   1.227,2,  2142.4,2,  2357.0,2,   518.7,2,      20,   7.8718,2,    25.00, -999.00,9,  -999.0,9,  -999.0, -999.00,9, -999.00,9,     11.653,2,-999.0000,9,-999.0000,9,-999.0000,9,-999.0000,9,-999.0000,9,-999.0000,9,-999.0000,9,-999.0000,9,-999.0000,9,     -999.0,5,  -999.0,9,     -999.0,     -999.0,9,     -999.0,20130906,       0616
33RO20130803,       A16N,      80,          1,         15,         15,2,20130906,       0434,    25.9986,   -25.6324,       4496,   438.3,  13.9490,  35.9012,2,  35.8954,2,    176.2,2,   175.7,2,    4.40,2,   12.70,2,    0.00,2,    0.77,2,   2.483,2,   1.412,2,   1.064,2,  2158.6,2,  2352.5,3,   597.0,2,      20,   7.8151,2,    25.00, -999.00,9,  -999.0,9,  -999.0, -999.00,9, -999.00,9,     14.085,2,-999.0000,9,-999.0000,9,-999.0000,9,-999.0000,9,-999.0000,9,-999.0000,9,-999.0000,9,-999.0000,9,-999.0000,9,     -999.0,5,  -999.0,9,     -999.0,     -999.0,9,     -999.0,20130906,       0613
33RO20130803,       A16N,      80,          1,         14,         14,2,20130906,       0434,    25.9986,   -25.6324,       4496,   548.0,  12.5182,  35.7020,2,  35.7009,2,    181.2,2,   183.2,2,    5.60,2,   14.30,2,    0.00,2,    0.87,2,   2.463,2,   1.367,2,   0.936,2,  2160.4,2,  2337.8,2,   632.6,2,      20,   7.7959,2,    25.00, -999.00,9,  -999.0,9,  -999.0, -999.00,9, -999.00,9,     14.135,2,-999.0000,9,-999.0000,9,-999.0000,9,-999.0000,9,-999.0000,9,-999.0000,9,-999.0000,9,-999.0000,9,-999.0000,9,     -999.0,5,  -999.0,9,     -999.0,     -999.0,9,     -999.0,20130906,       0610
33RO20130803,       A16N,      80,          1,         13,         13,2,20130906,       0434,    25.9986,   -25.6324,       4496,   723.2,  10.4662,  35.4632,2,  35.4606,2,    146.1,2,   145.7,2,   10.70,2,   21.70,2,    0.00,2,    1.36,2,   1.473,2,   0.773,2,   0.345,2,  2189.2,2,  2333.4,6,   795.9,2,      20,   7.7004,2,    25.00, -999.00,9,  -999.0,9,  -999.0, -999.00,9, -999.00,9,     18.916,2,-999.0000,9,-999.0000,9,-999.0000,9,-999.0000,9,-999.0000,9,-999.0000,9,-999.0000,9,-999.0000,9,-999.0000,9,     -999.0,5,  -999.0,9,     -999.0,     -999.0,9,     -999.0,20130906,       0559
33RO20130803,       A16N,      80,          1,         12,         12,2,20130906,       0434,    25.9986,   -25.6324,       4496,   872.7,   8.7646,  35.3045,2,  35.3048,2,    140.3,2,   140.2,2,   15.20,2,   25.00,2,    0.00,2,    1.62,2,   0.686,2,   0.357,2,   0.139,2,  2201.8,6,  2325.8,2,   879.1,2,      20,   7.6614,2,    25.00, -999.00,9,  -999.0,9,  -999.0, -999.00,9, -999.00,9,     20.413,2,-999.0000,9,-999.0000,9,-999.0000,9,-999.0000,9,-999.0000,9,-999.0000,9,-999.0000,9,-999.0000,9,-999.0000,9,     -999.0,5,  -999.0,9,     -999.0,     -999.0,9,     -999.0,20130906,       0555
33RO20130803,       A16N,      80,          1,         11,         11,2,20130906,       0434,    25.9986,   -25.6324,       4496,  1023.2,   7.6988,  35.2476,2,  35.2482,2,    153.1,2,   153.5,2,   17.00,2,   25.00,2,    0.00,2,    1.63,2,   0.411,2,   0.215,2,   0.080,2,  2202.0,2,  2376.6,3,   869.4,2,      20,   7.6650,2,    25.00, -999.00,9,  -999.0,9,  -999.0, -999.00,9, -999.00,9,     19.565,2,-999.0000,9,-999.0000,9,-999.0000,9,-999.0000,9,-999.0000,9,-999.0000,9,-999.0000,9,-999.0000,9,-999.0000,9,     -999.0,5,  -999.0,9,     -999.0,     -999.0,9,     -999.0,20130906,       0551
33RO20130803,       A16N,      80,          1,         10,         10,2,20130906,       0434,    25.9986,   -25.6324,       4496,  1173.2,   7.0705,  35.2808,2,  35.2820,2,    171.6,2,     172,2,   17.20,2,   23.50,2,    0.00,2,    1.54,2,-999.000,9,-999.000,9,-999.000,9,  2199.0,2,  2328.3,2,   825.2,2,      20,   7.6871,2,    25.00, -999.00,9,  -999.0,9,  -999.0, -999.00,9, -999.00,9,     -999.0,9,-999.0000,9,-999.0000,9,-999.0000,9,-999.0000,9,-999.0000,9,-999.0000,9,-999.0000,9,-999.0000,9,-999.0000,9,     -999.0,9,  -999.0,9,     -999.0,     -999.0,9,     -999.0,20130906,       0547
33RO20130803,       A16N,      80,          1,          9,          9,2,20130906,       0434,    25.9986,   -25.6324,       4496,  1399.4,   6.3242,  35.2989,2,  35.3003,2,    199.1,2,   198.5,2,   16.70,2,   21.00,2,    0.00,2,    1.38,2,   0.449,2,   0.231,2,   0.061,2,  2189.0,2,  2340.0,2,   770.4,2,      20,   7.7163,2,    25.00, -999.00,9,  -999.0,9,  -999.0, -999.00,9, -999.00,9,     15.733,2,-999.0000,9,-999.0000,9,-999.0000,9,-999.0000,9,-999.0000,9,-999.0000,9,-999.0000,9,-999.0000,9,-999.0000,9,     -999.0,5,  -999.0,9,     -999.0,     -999.0,9,     -999.0,20130906,       0536
33RO20130803,       A16N,      80,          1,          8,          8,2,20130906,       0434,    25.9986,   -25.6324,       4496,  1766.8,   4.8732,  35.1606,2,  35.1613,2,    221.2,2,     220,2,   20.10,2,   20.50,2,    0.00,2,    1.37,2,   0.254,2,   0.129,2,   0.023,2,  2184.3,2,  2330.6,2,   757.7,2,      20,   7.7208,2,    25.00, -999.00,9,  -999.0,9,  -999.0, -999.00,9, -999.00,9,     14.657,2,-999.0000,9,-999.0000,9,-999.0000,9,-999.0000,9,-999.0000,9,-999.0000,9,-999.0000,9,-999.0000,9,-999.0000,9,     -999.0,5,  -999.0,9,     -999.0,     -999.0,9,     -999.0,20130906,       0529
33RO20130803,       A16N,      80,          1,          7,          7,2,20130906,       0434,    25.9986,   -25.6324,       4496,  2199.5,   3.7535,  35.0403,2,  35.0404,2,    237.6,2,     236,2,   24.40,6,   20.40,6,    0.00,6,    1.37,6,   0.086,2,   0.045,2,   0.000,2,  2180.5,2,  2332.6,2,   748.3,2,      20,   7.7261,2,    25.00, -999.00,9,  -999.0,9,  -999.0, -999.00,9, -999.00,9,     13.866,2,-999.0000,9,-999.0000,9,-999.0000,9,-999.0000,9,-999.0000,9,-999.0000,9,-999.0000,9,-999.0000,9,-999.0000,9,     -999.0,5,  -999.0,9,     -999.0,     -999.0,9,     -999.0,20130906,       0521
33RO20130803,       A16N,      80,          1,          6,          6,2,20130906,       0434,    25.9986,   -25.6324,       4496,  2598.1,   3.1730,  34.9807,2,  34.9810,2,    244.0,2,   244.1,2,   28.50,6,   20.30,6,    0.00,6,    1.37,6,   0.082,2,   0.044,2,   0.000,2,  2180.4,2,  2330.6,2,   743.7,2,      20,   7.7302,6,    25.00, -999.00,9,  -999.0,9,  -999.0, -999.00,9, -999.00,9,     13.596,2,-999.0000,9,-999.0000,9,-999.0000,9,-999.0000,9,-999.0000,9,-999.0000,9,-999.0000,9,-999.0000,9,-999.0000,9,     -999.0,5,  -999.0,9,     -999.0,     -999.0,9,     -999.0,20130906,       0513
33RO20130803,       A16N,      80,          1,          5,          5,2,20130906,       0434,    25.9986,   -25.6324,       4496,  2999.4,   2.7003,  34.9351,2,  34.9349,2,    244.0,2,   244.5,2,   36.00,6,   21.10,6,    0.00,6,    1.43,6,   0.043,2,   0.023,2,   0.000,2,  2189.2,2,  2349.4,3,   749.2,2,      20,   7.7652,4,    25.00, -999.00,9,  -999.0,9,  -999.0, -999.00,9, -999.00,9,     13.514,2,-999.0000,9,-999.0000,9,-999.0000,9,-999.0000,9,-999.0000,9,-999.0000,9,-999.0000,9,-999.0000,9,-999.0000,9,     -999.0,5,  -999.0,9,     -999.0,     -999.0,9,     -999.0,20130906,       0505
33RO20130803,       A16N,      80,          1,          4,          4,2,20130906,       0434,    25.9986,   -25.6324,       4496,  3398.6,   2.5493,  34.9177,2,  34.9178,2,    243.0,2,   243.8,2,   39.80,6,   21.60,6,    0.01,6,    1.46,6,   0.018,2,   0.010,2,   0.000,2,  2192.8,2,  2345.8,2,   751.0,2,      20,   7.7293,2,    25.00, -999.00,9,  -999.0,9,  -999.0, -999.00,9, -999.00,9,     13.608,2,-999.0000,9,-999.0000,9,-999.0000,9,-999.0000,9,-999.0000,9,-999.0000,9,-999.0000,9,-999.0000,9,-999.0000,9,     -999.0,5,  -999.0,9,     -999.0,     -999.0,9,     -999.0,20130906,       0457
33RO20130803,       A16N,      80,          1,          3,          3,2,20130906,       0434,    25.9986,   -25.6324,       4496,  3798.5,   2.4988,  34.9088,2,  34.9089,2,    244.0,2,   243.4,2,   41.90,2,   21.80,2,    0.01,2,    1.48,2,   0.010,2,   0.005,2,   0.000,2,  2195.1,2,  2345.2,6,   754.1,2,      20,   7.7280,2,    25.00, -999.00,9,  -999.0,9,  -999.0, -999.00,9, -999.00,9,     13.635,2,-999.0000,9,-999.0000,9,-999.0000,9,-999.0000,9,-999.0000,9,-999.0000,9,-999.0000,9,-999.0000,9,-999.0000,9,     -999.0,5,  -999.0,9,     -999.0,     -999.0,9,     -999.0,20130906,       0449
33RO20130803,       A16N,      80,          1,          2,          2,2,20130906,       0434,    25.9986,   -25.6324,       4496,  4199.9,   2.4335,  34.8982,2,  34.8982,2,    243.9,2,   243.4,2,   44.30,2,   22.00,2,    0.01,2,    1.50,2,   0.005,6,   0.004,6,   0.000,6,  2195.8,2,  2348.8,2,   757.6,2,      20,   7.7279,2,    25.00, -999.00,9,  -999.0,9,  -999.0, -999.00,9, -999.00,9,     13.793,6,-999.0000,9,-999.0000,9,-999.0000,9,-999.0000,9,-999.0000,9,-999.0000,9,-999.0000,9,-999.0000,9,-999.0000,9,     -999.0,5,  -999.0,9,     -999.0,     -999.0,9,     -999.0,20130906,       0442
33RO20130803,       A16N,      80,          1,          1,          1,2,20130906,       0434,    25.9986,   -25.6324,       4496,  4584.4,   2.4019,  34.8903,2,  34.8915,2,    243.1,2,   243.7,2,   45.90,2,   22.10,2,    0.01,2,    1.51,2,   0.006,2,   0.005,2,   0.000,2,  2198.6,6,  2349.8,2,   757.1,2,      20,   7.7400,3,    25.00, -999.00,9,  -999.0,9,  -999.0, -999.00,9, -999.00,9,     13.921,2,-999.0000,9,-999.0000,9,-999.0000,9,-999.0000,9,-999.0000,9,-999.0000,9,-999.0000,9,-999.0000,9,-999.0000,9,     -999.0,5,  -999.0,9,     -999.0,     -999.0,9,     -999.0,20130906,       0434