BOTTLE,20220815CCHSIOAMB
EXPOCODE,SECT_ID,STNNBR,CASTNO,SAMPNO,BTLNBR,BTLNBR_FLAG_W,DATE,TIME,LATITUDE,LONGITUDE,DEPTH,CTDPRS,CTDTMP,CTDSAL,CTDSAL_FLAG_W,SALNTY,SALNTY_FLAG_W,CTDOXY,CTDOXY_FLAG_W,OXYGEN,OXYGEN_FLAG_W,SILCAT,SILCAT_FLAG_W,NITRAT,NITRAT_FLAG_W,NITRIT,NITRIT_FLAG_W,PHSPHT,PHSPHT_FLAG_W,CFC-11,CFC-11_FLAG_W,CFC-12,CFC-12_FLAG_W,SF6,SF6_FLAG_W,TCARBN,TCARBN_FLAG_W,ALKALI,ALKALI_FLAG_W,PCO2,PCO2_FLAG_W,PCO2TMP,PH_SWS,PH_SWS_FLAG_W,PH_TMP,DELC13,DELC13_FLAG_W,DELC14,DELC14_FLAG_W,C14ERR,DOC,DOC_FLAG_W,TDN,TDN_FLAG_W,N2O,N2O_FLAG_W,CDOM325,CDOM325_FLAG_W,CDOM340,CDOM340_FLAG_W,CDOM380,CDOM380_FLAG_W,CDOM412,CDOM412_FLAG_W,CDOM443,CDOM443_FLAG_W,CDOM490,CDOM490_FLAG_W,CDOM555,CDOM555_FLAG_W,CDOMSL,CDOMSL_FLAG_W,CDOMSN,CDOMSN_FLAG_W,CCL4,CCL4_FLAG_W,14C-DOC,14C-DOC_FLAG_W,14C-DOCERR,13C-DOC,13C-DOC_FLAG_W,13C-DOCERR,BTL_DATE,BTL_TIME
,,,,,,,,,,,METERS,DBAR,ITS-90,PSS-78,,PSS-78,,UMOL/KG,,UMOL/KG,,UMOL/KG,,UMOL/KG,,UMOL/KG,,UMOL/KG,,PMOL/KG,,PMOL/KG,,FMOL/KG,,UMOL/KG,,UMOL/KG,,UATM,,DEG C,,,DEG C,/MILLE,,/MILLE,,/MILLE,UMOL/KG,,UMOL/KG,,NMOL/KG,,1/M,,1/M,,1/M,,1/M,,1/M,,1/M,,1/M,,1/NM,,1/NM,,PMOL/KG,,/MILLE,,/MILLE,/MILLE,,/MILLE,,
33RO20130803,       A16N,     108,          1,         24,         24,2,20130921,       1525,     9.5009,   -28.2506,       5424,     2.6,  28.6850,  35.8311,2,  35.8333,2,    197.7,2,   198.5,2,    0.80,2,    0.00,2,    0.00,2,    0.01,2,   1.493,2,   0.957,2,   1.141,2,  2000.4,6,  2346.2,2,  -999.0,9, -999.00,   8.0951,2,    25.00, -999.00,9,  -999.0,9,  -999.0, -999.00,9, -999.00,9,      5.912,2,-999.0000,9,-999.0000,9,-999.0000,9,-999.0000,9,-999.0000,9,-999.0000,9,-999.0000,9,-999.0000,9,-999.0000,9,     -999.0,5,  -999.0,9,     -999.0,     -999.0,9,     -999.0,20130921,       1729
33RO20130803,       A16N,     108,          1,         23,         23,2,20130921,       1525,     9.5009,   -28.2506,       5424,    13.3,  28.4597,  35.8489,2,  35.8505,2,    198.7,2,   198.9,2,    0.80,2,    0.10,2,    0.00,2,    0.02,2,-999.000,9,-999.000,9,-999.000,9,  2003.0,2,  2348.5,6,  -999.0,9, -999.00,   8.0943,2,    25.00, -999.00,9,  -999.0,9,  -999.0, -999.00,9, -999.00,9,     -999.0,9,-999.0000,9,-999.0000,9,-999.0000,9,-999.0000,9,-999.0000,9,-999.0000,9,-999.0000,9,-999.0000,9,-999.0000,9,     -999.0,9,  -999.0,9,     -999.0,     -999.0,9,     -999.0,20130921,       1727
33RO20130803,       A16N,     108,          1,         22,         22,2,20130921,       1525,     9.5009,   -28.2506,       5424,    52.7,  20.0180,  35.7977,2,  35.7873,2,    170.2,2,   154.6,2,    2.90,2,    2.30,2,    0.07,2,    0.35,2,   1.998,2,   1.156,2,   0.854,2,  2140.1,2,  2356.8,2,  -999.0,9, -999.00,   7.8633,2,    25.00, -999.00,9,  -999.0,9,  -999.0, -999.00,9, -999.00,9,     25.286,2,-999.0000,9,-999.0000,9,-999.0000,9,-999.0000,9,-999.0000,9,-999.0000,9,-999.0000,9,-999.0000,9,-999.0000,9,     -999.0,5,  -999.0,9,     -999.0,     -999.0,9,     -999.0,20130921,       1725
33RO20130803,       A16N,     108,          1,         21,         21,2,20130921,       1525,     9.5009,   -28.2506,       5424,    82.7,  15.0672,  35.5259,2,  35.5210,2,     68.7,2,    68.5,2,    6.90,2,   24.50,2,    0.14,2,    1.52,2,-999.000,9,-999.000,9,-999.000,9,  2214.6,2,  2328.3,2,  -999.0,9, -999.00,   7.6197,2,    25.00, -999.00,9,  -999.0,9,  -999.0, -999.00,9, -999.00,9,     -999.0,9,-999.0000,9,-999.0000,9,-999.0000,9,-999.0000,9,-999.0000,9,-999.0000,9,-999.0000,9,-999.0000,9,-999.0000,9,     -999.0,9,  -999.0,9,     -999.0,     -999.0,9,     -999.0,20130921,       1723
33RO20130803,       A16N,     108,          1,         20,         20,2,20130921,       1525,     9.5009,   -28.2506,       5424,   112.0,  13.5411,  35.3763,2,  35.3757,2,     71.7,2,      74,2,    8.40,2,   25.80,2,    0.03,2,    1.61,2,   2.039,2,   1.136,2,   0.568,2,  2214.2,2,  2322.0,2,  -999.0,9, -999.00,   7.6049,2,    25.00, -999.00,9,  -999.0,9,  -999.0, -999.00,9, -999.00,9,     36.716,2,-999.0000,9,-999.0000,9,-999.0000,9,-999.0000,9,-999.0000,9,-999.0000,9,-999.0000,9,-999.0000,9,-999.0000,9,     -999.0,5,  -999.0,9,     -999.0,     -999.0,9,     -999.0,20130921,       1721
33RO20130803,       A16N,     108,          1,         19,         19,2,20130921,       1525,     9.5009,   -28.2506,       5424,   172.4,  11.9432,  35.1803,2,  35.1781,2,    103.6,2,    99.2,2,    9.80,2,   25.50,2,    0.01,2,    1.62,2,   1.951,2,   1.058,2,   0.489,2,  -999.0,9,  -999.0,9,  -999.0,9, -999.00,-999.0000,9,  -999.00, -999.00,9,  -999.0,9,  -999.0, -999.00,9, -999.00,9,     32.567,2,-999.0000,9,-999.0000,9,-999.0000,9,-999.0000,9,-999.0000,9,-999.0000,9,-999.0000,9,-999.0000,9,-999.0000,9,     -999.0,5,  -999.0,9,     -999.0,     -999.0,9,     -999.0,20130921,       1719
33RO20130803,       A16N,     108,          1,         18,         18,2,20130921,       1525,     9.5009,   -28.2506,       5424,   260.2,  10.8079,  35.0515,2,  35.0490,2,     92.9,2,      91,2,   11.80,2,   28.50,2,    0.01,2,    1.79,2,   1.617,2,   0.873,2,   0.341,2,  2213.7,2,  2308.1,2,  -999.0,9, -999.00,   7.5777,2,    25.00, -999.00,9,  -999.0,9,  -999.0, -999.00,9, -999.00,9,     35.569,2,-999.0000,9,-999.0000,9,-999.0000,9,-999.0000,9,-999.0000,9,-999.0000,9,-999.0000,9,-999.0000,9,-999.0000,9,     -999.0,5,  -999.0,9,     -999.0,     -999.0,9,     -999.0,20130921,       1716
33RO20130803,       A16N,     108,          1,         17,         17,2,20130921,       1525,     9.5009,   -28.2506,       5424,   371.9,   9.7583,  34.9797,2,  34.9777,2,     69.9,2,    69.7,2,   14.50,2,   32.90,2,    0.01,2,    2.03,2,   1.046,2,   0.552,2,   0.216,2,  2232.4,2,  2310.3,2,  -999.0,9, -999.00,   7.5104,2,    25.00, -999.00,9,  -999.0,9,  -999.0, -999.00,9, -999.00,9,     39.025,2,-999.0000,9,-999.0000,9,-999.0000,9,-999.0000,9,-999.0000,9,-999.0000,9,-999.0000,9,-999.0000,9,-999.0000,9,     -999.0,5,  -999.0,9,     -999.0,     -999.0,9,     -999.0,20130921,       1713
33RO20130803,       A16N,     108,          1,         16,         16,2,20130921,       1525,     9.5009,   -28.2506,       5424,   471.9,   9.0308,  34.9612,2,  34.9597,2,     62.6,2,      63,2,   16.60,2,   35.00,2,    0.00,2,    2.16,2,   0.612,2,   0.320,2,   0.172,2,  2239.6,6,  2305.8,2,  -999.0,9, -999.00,   7.4852,2,    25.00, -999.00,9,  -999.0,9,  -999.0, -999.00,9, -999.00,9,     37.386,2,-999.0000,9,-999.0000,9,-999.0000,9,-999.0000,9,-999.0000,9,-999.0000,9,-999.0000,9,-999.0000,9,-999.0000,9,     -999.0,5,  -999.0,9,     -999.0,     -999.0,9,     -999.0,20130921,       1710
33RO20130803,       A16N,     108,          1,         15,         15,2,20130921,       1525,     9.5009,   -28.2506,       5424,   610.3,   7.1883,  34.7840,2,  34.7829,2,     84.4,2,    85.1,2,   21.40,2,   36.10,2,    0.00,2,    2.31,2,   0.235,2,   0.128,2,   0.054,2,  2236.8,2,  2305.7,6,  -999.0,9, -999.00,   7.4870,2,    25.00, -999.00,9,  -999.0,9,  -999.0, -999.00,9, -999.00,9,     31.889,2,-999.0000,9,-999.0000,9,-999.0000,9,-999.0000,9,-999.0000,9,-999.0000,9,-999.0000,9,-999.0000,9,-999.0000,9,     -999.0,5,  -999.0,9,     -999.0,     -999.0,9,     -999.0,20130921,       1707
33RO20130803,       A16N,     108,          1,         14,         14,2,20130921,       1525,     9.5009,   -28.2506,       5424,   772.6,   6.0387,  34.6958,2,  34.6990,2,    100.8,2,   100.7,2,   25.10,2,   36.30,2,    0.00,2,    2.37,2,-999.000,9,-999.000,9,-999.000,9,  2234.9,2,  2307.5,2,  -999.0,9, -999.00,   7.4939,2,    25.00, -999.00,9,  -999.0,9,  -999.0, -999.00,9, -999.00,9,     -999.0,9,-999.0000,9,-999.0000,9,-999.0000,9,-999.0000,9,-999.0000,9,-999.0000,9,-999.0000,9,-999.0000,9,-999.0000,9,     -999.0,9,  -999.0,9,     -999.0,     -999.0,9,     -999.0,20130921,       1703
33RO20130803,       A16N,     108,          1,         13,         13,2,20130921,       1525,     9.5009,   -28.2506,       5424,   921.9,   5.3288,  34.7018,2,  34.6994,2,    125.8,2,   125.4,2,   27.20,2,   34.50,2,    0.00,2,    2.30,2,   0.029,2,   0.016,2,   0.000,2,  2227.4,2,  2306.7,2,  -999.0,9, -999.00,   7.5262,2,    25.00, -999.00,9,  -999.0,9,  -999.0, -999.00,9, -999.00,9,     25.649,2,-999.0000,9,-999.0000,9,-999.0000,9,-999.0000,9,-999.0000,9,-999.0000,9,-999.0000,9,-999.0000,9,-999.0000,9,     -999.0,5,  -999.0,9,     -999.0,     -999.0,9,     -999.0,20130921,       1659
33RO20130803,       A16N,     108,          1,         12,         12,2,20130921,       1525,     9.5009,   -28.2506,       5424,  1110.4,   5.0253,  34.8259,2,  34.8258,2,    148.4,2,   148.9,2,   25.30,2,   30.90,2,    0.00,2,    2.06,2,-999.000,9,-999.000,9,-999.000,9,  -999.0,9,  -999.0,9,  -999.0,9, -999.00,-999.0000,9,  -999.00, -999.00,9,  -999.0,9,  -999.0, -999.00,9, -999.00,9,     -999.0,9,-999.0000,9,-999.0000,9,-999.0000,9,-999.0000,9,-999.0000,9,-999.0000,9,-999.0000,9,-999.0000,9,-999.0000,9,     -999.0,9,  -999.0,9,     -999.0,     -999.0,9,     -999.0,20130921,       1654
33RO20130803,       A16N,     108,          1,         11,         11,2,20130921,       1525,     9.5009,   -28.2506,       5424,  1248.4,   4.8092,  34.9021,2,  34.8984,2,    176.7,2,   176.3,2,   22.70,2,   27.30,2,    0.00,2,    1.82,2,   0.055,2,   0.031,2,   0.000,2,  2201.0,2,  2316.0,2,  -999.0,9, -999.00,   7.6289,2,    25.00, -999.00,9,  -999.0,9,  -999.0, -999.00,9, -999.00,9,     19.380,2,-999.0000,9,-999.0000,9,-999.0000,9,-999.0000,9,-999.0000,9,-999.0000,9,-999.0000,9,-999.0000,9,-999.0000,9,     -999.0,5,  -999.0,9,     -999.0,     -999.0,9,     -999.0,20130921,       1651
33RO20130803,       A16N,     108,          1,         10,         10,2,20130921,       1525,     9.5009,   -28.2506,       5424,  1398.1,   4.5502,  34.9431,2,  34.9444,2,    197.8,2,   197.9,2,   20.80,2,   24.80,2,    0.00,2,    1.65,2,-999.000,9,-999.000,9,-999.000,9,  -999.0,9,  -999.0,9,  -999.0,9, -999.00,-999.0000,9,  -999.00, -999.00,9,  -999.0,9,  -999.0, -999.00,9, -999.00,9,     -999.0,9,-999.0000,9,-999.0000,9,-999.0000,9,-999.0000,9,-999.0000,9,-999.0000,9,-999.0000,9,-999.0000,9,-999.0000,9,     -999.0,9,  -999.0,9,     -999.0,     -999.0,9,     -999.0,20130921,       1646
33RO20130803,       A16N,     108,          1,          9,          9,2,20130921,       1525,     9.5009,   -28.2506,       5424,  1586.4,   4.1652,  34.9666,2,  34.9665,2,    221.3,2,     221,2,   19.30,2,   22.30,2,    0.00,2,    1.48,2,   0.078,2,   0.043,2,   0.000,2,  2178.2,2,  2315.7,2,  -999.0,9, -999.00,   7.6948,2,    25.00, -999.00,9,  -999.0,9,  -999.0, -999.00,9, -999.00,9,     15.584,2,-999.0000,9,-999.0000,9,-999.0000,9,-999.0000,9,-999.0000,9,-999.0000,9,-999.0000,9,-999.0000,9,-999.0000,9,     -999.0,5,  -999.0,9,     -999.0,     -999.0,9,     -999.0,20130921,       1642
33RO20130803,       A16N,     108,          1,          8,          8,2,20130921,       1525,     9.5009,   -28.2506,       5424,  1948.4,   3.6413,  34.9673,2,  34.9689,2,    241.2,2,   241.8,2,   20.20,2,   20.60,2,    0.00,2,    1.36,2,-999.000,9,-999.000,9,-999.000,9,  2169.9,2,  2319.6,2,  -999.0,9, -999.00,   7.7212,2,    25.00, -999.00,9,  -999.0,9,  -999.0, -999.00,9, -999.00,9,     -999.0,9,-999.0000,9,-999.0000,9,-999.0000,9,-999.0000,9,-999.0000,9,-999.0000,9,-999.0000,9,-999.0000,9,-999.0000,9,     -999.0,9,  -999.0,9,     -999.0,     -999.0,9,     -999.0,20130921,       1634
33RO20130803,       A16N,     108,          1,          7,          7,2,20130921,       1525,     9.5009,   -28.2506,       5424,  2397.2,   3.1445,  34.9497,2,  34.9494,2,    246.1,2,   247.1,2,   25.50,2,   20.40,2,    0.00,2,    1.36,2,   0.023,2,   0.014,2,   0.000,2,  2171.8,2,  2333.5,3,  -999.0,9, -999.00,   7.7270,6,    25.00, -999.00,9,  -999.0,9,  -999.0, -999.00,9, -999.00,9,     13.439,2,-999.0000,9,-999.0000,9,-999.0000,9,-999.0000,9,-999.0000,9,-999.0000,9,-999.0000,9,-999.0000,9,-999.0000,9,     -999.0,5,  -999.0,9,     -999.0,     -999.0,9,     -999.0,20130921,       1625
33RO20130803,       A16N,     108,          1,          6,          6,2,20130921,       1525,     9.5009,   -28.2506,       5424,  2899.2,   2.7905,  34.9278,2,  34.9278,2,    248.6,2,   249.2,2,   30.80,2,   20.60,2,    0.00,2,    1.37,2,-999.000,9,-999.000,9,-999.000,9,  -999.0,9,  -999.0,9,  -999.0,9, -999.00,-999.0000,9,  -999.00, -999.00,9,  -999.0,9,  -999.0, -999.00,9, -999.00,9,     -999.0,9,-999.0000,9,-999.0000,9,-999.0000,9,-999.0000,9,-999.0000,9,-999.0000,9,-999.0000,9,-999.0000,9,-999.0000,9,     -999.0,9,  -999.0,9,     -999.0,     -999.0,9,     -999.0,20130921,       1616
33RO20130803,       A16N,     108,          1,          5,          5,2,20130921,       1525,     9.5009,   -28.2506,       5424,  3397.7,   2.5580,  34.9085,2,  34.9093,2,    247.0,2,   248.4,2,   36.40,2,   21.20,2,    0.00,2,    1.42,2,   0.018,2,   0.012,2,   0.000,2,  2184.2,2,  2334.7,6,  -999.0,9, -999.00,   7.7228,2,    25.00, -999.00,9,  -999.0,9,  -999.0, -999.00,9, -999.00,9,     13.542,2,-999.0000,9,-999.0000,9,-999.0000,9,-999.0000,9,-999.0000,9,-999.0000,9,-999.0000,9,-999.0000,9,-999.0000,9,     -999.0,5,  -999.0,9,     -999.0,     -999.0,9,     -999.0,20130921,       1606
33RO20130803,       A16N,     108,          1,          4,          4,2,20130921,       1525,     9.5009,   -28.2506,       5424,  3897.4,   2.3978,  34.8936,2,  34.8937,2,    247.6,2,   249.1,2,   40.40,6,   21.50,6,    0.00,6,    1.44,6,-999.000,9,-999.000,9,-999.000,9,  -999.0,9,  -999.0,9,  -999.0,9, -999.00,-999.0000,9,  -999.00, -999.00,9,  -999.0,9,  -999.0, -999.00,9, -999.00,9,     -999.0,9,-999.0000,9,-999.0000,9,-999.0000,9,-999.0000,9,-999.0000,9,-999.0000,9,-999.0000,9,-999.0000,9,-999.0000,9,     -999.0,9,  -999.0,9,     -999.0,     -999.0,9,     -999.0,20130921,       1557
33RO20130803,       A16N,     108,          1,          3,          3,2,20130921,       1525,     9.5009,   -28.2506,       5424,  4397.8,   2.2970,  34.8805,2,  34.8796,2,    245.5,2,   247.1,2,   45.10,6,   22.00,6,    0.00,6,    1.48,6,   0.053,2,   0.032,2,   0.000,2,  2196.0,2,  2164.5,4,  -999.0,9, -999.00,   7.7195,2,    25.00, -999.00,9,  -999.0,9,  -999.0, -999.00,9, -999.00,9,     13.868,2,-999.0000,9,-999.0000,9,-999.0000,9,-999.0000,9,-999.0000,9,-999.0000,9,-999.0000,9,-999.0000,9,-999.0000,9,     -999.0,5,  -999.0,9,     -999.0,     -999.0,9,     -999.0,20130921,       1547
33RO20130803,       A16N,     108,          1,          2,          2,2,20130921,       1525,     9.5009,   -28.2506,       5424,  4897.2,   2.2702,  34.8728,2,  34.8727,2,    242.0,2,   242.7,2,   49.20,6,   22.70,6,    0.00,6,    1.52,6,-999.000,9,-999.000,9,-999.000,9,  -999.0,9,  -999.0,9,  -999.0,9, -999.00,-999.0000,9,  -999.00, -999.00,9,  -999.0,9,  -999.0, -999.00,9, -999.00,9,     -999.0,9,-999.0000,9,-999.0000,9,-999.0000,9,-999.0000,9,-999.0000,9,-999.0000,9,-999.0000,9,-999.0000,9,-999.0000,9,     -999.0,9,  -999.0,9,     -999.0,     -999.0,9,     -999.0,20130921,       1536
33RO20130803,       A16N,     108,          1,          1,          1,2,20130921,       1525,     9.5009,   -28.2506,       5424,  5500.7,   2.3211,  34.8696,2,  34.8715,2,    244.2,2,   242.9,2,   49.60,6,   22.70,6,    0.00,6,    1.52,6,   0.043,2,   0.026,2,   0.000,2,  2204.5,6,  2397.9,3,  -999.0,9, -999.00,   7.7157,2,    25.00, -999.00,9,  -999.0,9,  -999.0, -999.00,9, -999.00,9,     13.980,2,-999.0000,9,-999.0000,9,-999.0000,9,-999.0000,9,-999.0000,9,-999.0000,9,-999.0000,9,-999.0000,9,-999.0000,9,     -999.0,5,  -999.0,9,     -999.0,     -999.0,9,     -999.0,20130921,       1525