BOTTLE,20220815CCHSIOAMB
EXPOCODE,SECT_ID,STNNBR,CASTNO,SAMPNO,BTLNBR,BTLNBR_FLAG_W,DATE,TIME,LATITUDE,LONGITUDE,DEPTH,CTDPRS,CTDTMP,CTDSAL,CTDSAL_FLAG_W,SALNTY,SALNTY_FLAG_W,CTDOXY,CTDOXY_FLAG_W,OXYGEN,OXYGEN_FLAG_W,SILCAT,SILCAT_FLAG_W,NITRAT,NITRAT_FLAG_W,NITRIT,NITRIT_FLAG_W,PHSPHT,PHSPHT_FLAG_W,CFC-11,CFC-11_FLAG_W,CFC-12,CFC-12_FLAG_W,SF6,SF6_FLAG_W,TCARBN,TCARBN_FLAG_W,ALKALI,ALKALI_FLAG_W,PCO2,PCO2_FLAG_W,PCO2TMP,PH_SWS,PH_SWS_FLAG_W,PH_TMP,DELC13,DELC13_FLAG_W,DELC14,DELC14_FLAG_W,C14ERR,DOC,DOC_FLAG_W,TDN,TDN_FLAG_W,N2O,N2O_FLAG_W,CDOM325,CDOM325_FLAG_W,CDOM340,CDOM340_FLAG_W,CDOM380,CDOM380_FLAG_W,CDOM412,CDOM412_FLAG_W,CDOM443,CDOM443_FLAG_W,CDOM490,CDOM490_FLAG_W,CDOM555,CDOM555_FLAG_W,CDOMSL,CDOMSL_FLAG_W,CDOMSN,CDOMSN_FLAG_W,CCL4,CCL4_FLAG_W,14C-DOC,14C-DOC_FLAG_W,14C-DOCERR,13C-DOC,13C-DOC_FLAG_W,13C-DOCERR,BTL_DATE,BTL_TIME
,,,,,,,,,,,METERS,DBAR,ITS-90,PSS-78,,PSS-78,,UMOL/KG,,UMOL/KG,,UMOL/KG,,UMOL/KG,,UMOL/KG,,UMOL/KG,,PMOL/KG,,PMOL/KG,,FMOL/KG,,UMOL/KG,,UMOL/KG,,UATM,,DEG C,,,DEG C,/MILLE,,/MILLE,,/MILLE,UMOL/KG,,UMOL/KG,,NMOL/KG,,1/M,,1/M,,1/M,,1/M,,1/M,,1/M,,1/M,,1/NM,,1/NM,,PMOL/KG,,/MILLE,,/MILLE,/MILLE,,/MILLE,,
33RO20130803,       A16N,      74,          1,         24,         24,2,20130904,       0638,    28.9998,   -23.9350,       5208,     4.7,  23.9470,  37.2671,2,  37.2662,2,    209.0,2,   210.8,2,    0.50,2,    0.00,2,    0.00,2,    0.00,2,   1.788,2,   1.110,2,   1.286,2,  2118.6,6,  2434.2,2,   344.3,2,      20,   8.0248,2,    25.00, -999.00,9,  -999.0,9,  -999.0, -999.00,9, -999.00,9,      6.579,2,-999.0000,9,-999.0000,9,-999.0000,9,-999.0000,9,-999.0000,9,-999.0000,9,-999.0000,9,-999.0000,9,-999.0000,9,     -999.0,5,  -999.0,9,     -999.0,     -999.0,9,     -999.0,20130904,       0845
33RO20130803,       A16N,      74,          1,         23,         23,2,20130904,       0638,    28.9998,   -23.9350,       5208,    18.9,  23.9456,  37.2661,2,  37.2679,2,    209.5,2,   210.7,2,    0.50,2,    0.00,2,    0.00,2,    0.00,2,   1.768,2,   1.112,2,   1.265,2,  2117.2,2,  2436.9,2,   345.0,2,      20,   8.0261,2,    25.00, -999.00,9,  -999.0,9,  -999.0, -999.00,9, -999.00,9,      6.531,2,-999.0000,9,-999.0000,9,-999.0000,9,-999.0000,9,-999.0000,9,-999.0000,9,-999.0000,9,-999.0000,9,-999.0000,9,     -999.0,5,  -999.0,9,     -999.0,     -999.0,9,     -999.0,20130904,       0843
33RO20130803,       A16N,      74,          1,         22,         22,2,20130904,       0638,    28.9998,   -23.9350,       5208,    38.7,  23.8641,  37.2500,2,  37.2523,2,    211.0,2,   211.1,2,    0.50,2,    0.00,2,    0.00,2,    0.01,2,   1.793,6,   1.116,6,   1.290,6,  2117.8,2,  2433.8,6,   344.9,2,      20,   8.0263,2,    25.00, -999.00,9,  -999.0,9,  -999.0, -999.00,9, -999.00,9,      6.587,6,-999.0000,9,-999.0000,9,-999.0000,9,-999.0000,9,-999.0000,9,-999.0000,9,-999.0000,9,-999.0000,9,-999.0000,9,     -999.0,5,  -999.0,9,     -999.0,     -999.0,9,     -999.0,20130904,       0841
33RO20130803,       A16N,      74,          1,         21,         21,2,20130904,       0638,    28.9998,   -23.9350,       5208,    58.2,  21.9664,  36.9136,2,  36.9187,2,    229.0,2,   229.7,2,    0.50,2,    0.00,2,    0.00,2,    0.00,2,   2.007,2,   1.240,2,   1.388,2,  2100.7,2,  2416.2,2,   345.7,2,      20,   8.0251,2,    25.00, -999.00,9,  -999.0,9,  -999.0, -999.00,9, -999.00,9,      7.233,2,-999.0000,9,-999.0000,9,-999.0000,9,-999.0000,9,-999.0000,9,-999.0000,9,-999.0000,9,-999.0000,9,-999.0000,9,     -999.0,5,  -999.0,9,     -999.0,     -999.0,9,     -999.0,20130904,       0839
33RO20130803,       A16N,      74,          1,         20,         20,2,20130904,       0638,    28.9998,   -23.9350,       5208,    88.5,  20.5616,  36.8523,2,  36.8512,2,    232.4,2,   231.5,2,    0.60,2,    0.00,2,    0.00,2,    0.01,2,   2.102,2,   1.286,2,   1.424,2,  2101.6,2,  2408.0,2,   352.5,2,      20,   8.0189,2,    25.00, -999.00,9,  -999.0,9,  -999.0, -999.00,9, -999.00,9,      7.357,2,-999.0000,9,-999.0000,9,-999.0000,9,-999.0000,9,-999.0000,9,-999.0000,9,-999.0000,9,-999.0000,9,-999.0000,9,     -999.0,5,  -999.0,9,     -999.0,     -999.0,9,     -999.0,20130904,       0837
33RO20130803,       A16N,      74,          1,         19,         19,2,20130904,       0638,    28.9998,   -23.9350,       5208,   123.1,  19.7977,  36.8386,2,  36.8420,2,    223.3,2,   223.7,2,    0.60,2,    0.00,2,    0.00,2,    0.01,2,   2.136,2,   1.300,2,   1.439,2,  2109.1,2,  2406.2,2,   367.7,2,      20,   8.0027,2,    25.00, -999.00,9,  -999.0,9,  -999.0, -999.00,9, -999.00,9,      7.572,2,-999.0000,9,-999.0000,9,-999.0000,9,-999.0000,9,-999.0000,9,-999.0000,9,-999.0000,9,-999.0000,9,-999.0000,9,     -999.0,5,  -999.0,9,     -999.0,     -999.0,9,     -999.0,20130904,       0835
33RO20130803,       A16N,      74,          1,         18,         18,2,20130904,       0638,    28.9998,   -23.9350,       5208,   198.8,  17.9993,  36.5970,2,  36.5943,2,    199.1,2,   199.9,2,    1.30,2,    3.90,2,    0.02,2,    0.20,2,   2.286,2,   1.365,2,   1.336,2,  2128.2,2,  2390.3,2,   427.4,2,      20,   7.9443,2,    25.00, -999.00,9,  -999.0,9,  -999.0, -999.00,9, -999.00,9,      8.834,2,-999.0000,9,-999.0000,9,-999.0000,9,-999.0000,9,-999.0000,9,-999.0000,9,-999.0000,9,-999.0000,9,-999.0000,9,     -999.0,5,  -999.0,9,     -999.0,     -999.0,9,     -999.0,20130904,       0831
33RO20130803,       A16N,      74,          1,         17,         17,2,20130904,       0638,    28.9998,   -23.9350,       5208,   273.6,  16.8090,  36.3879,2,  36.3847,2,    197.4,2,   197.3,2,    2.00,2,    6.20,2,    0.01,2,    0.34,2,-999.000,5,-999.000,5,-999.000,5,  2135.0,2,  2375.6,2,   460.0,2,      20,   7.9194,2,    25.00, -999.00,9,  -999.0,9,  -999.0, -999.00,9, -999.00,9,     -999.0,5,-999.0000,9,-999.0000,9,-999.0000,9,-999.0000,9,-999.0000,9,-999.0000,9,-999.0000,9,-999.0000,9,-999.0000,9,     -999.0,5,  -999.0,9,     -999.0,     -999.0,9,     -999.0,20130904,       0828
33RO20130803,       A16N,      74,          1,         16,         16,2,20130904,       0638,    28.9998,   -23.9350,       5208,   374.1,  15.3552,  36.1239,2,  36.1153,2,    195.5,2,   195.6,2,    2.90,2,    8.60,2,    0.01,2,    0.50,2,   2.474,2,   1.443,2,   1.230,2,  2142.2,2,  2367.5,2,   502.7,2,      20,   8.1425,4,    25.00, -999.00,9,  -999.0,9,  -999.0, -999.00,9, -999.00,9,     10.713,2,-999.0000,9,-999.0000,9,-999.0000,9,-999.0000,9,-999.0000,9,-999.0000,9,-999.0000,9,-999.0000,9,-999.0000,9,     -999.0,5,  -999.0,9,     -999.0,     -999.0,9,     -999.0,20130904,       0824
33RO20130803,       A16N,      74,          1,         15,         15,2,20130904,       0638,    28.9998,   -23.9350,       5208,   468.4,  13.9731,  35.8984,2,  35.8966,2,    194.2,2,   193.4,2,    3.90,2,   11.00,2,    0.01,2,    0.65,2,   2.558,2,   1.457,2,   1.156,2,  2149.3,2,  2348.6,2,   554.1,2,      20,   7.8469,2,    25.00, -999.00,9,  -999.0,9,  -999.0, -999.00,9, -999.00,9,     11.920,2,-999.0000,9,-999.0000,9,-999.0000,9,-999.0000,9,-999.0000,9,-999.0000,9,-999.0000,9,-999.0000,9,-999.0000,9,     -999.0,5,  -999.0,9,     -999.0,     -999.0,9,     -999.0,20130904,       0820
33RO20130803,       A16N,      74,          1,         14,         14,2,20130904,       0638,    28.9998,   -23.9350,       5208,   548.7,  12.8394,  35.7431,2,  35.7445,2,    188.7,2,   187.9,2,    5.00,2,   13.30,2,    0.00,2,    0.80,2,   2.520,2,   1.411,2,   1.012,2,  2159.8,2,  2342.7,2,   606.0,2,      20,   7.8080,6,    25.00, -999.00,9,  -999.0,9,  -999.0, -999.00,9, -999.00,9,     13.205,2,-999.0000,9,-999.0000,9,-999.0000,9,-999.0000,9,-999.0000,9,-999.0000,9,-999.0000,9,-999.0000,9,-999.0000,9,     -999.0,5,  -999.0,9,     -999.0,     -999.0,9,     -999.0,20130904,       0817
33RO20130803,       A16N,      74,          1,         13,         13,2,20130904,       0638,    28.9998,   -23.9350,       5208,   678.5,  11.1841,  35.5536,2,-999.0000,9,    175.9,2,   175.1,2,    7.80,2,   17.40,2,    0.00,2,    1.06,2,   2.137,2,   1.149,2,   0.684,2,  2175.7,2,  2333.0,6,   689.3,2,      20,   7.7562,2,    25.00, -999.00,9,  -999.0,9,  -999.0, -999.00,9, -999.00,9,     15.401,2,-999.0000,9,-999.0000,9,-999.0000,9,-999.0000,9,-999.0000,9,-999.0000,9,-999.0000,9,-999.0000,9,-999.0000,9,     -999.0,5,  -999.0,9,     -999.0,     -999.0,9,     -999.0,20130904,       0813
33RO20130803,       A16N,      74,          1,         12,         12,2,20130904,       0638,    28.9998,   -23.9350,       5208,   828.5,   9.7381,  35.4506,2,  35.4499,2,    167.5,2,     167,2,   11.10,2,   20.30,2,    0.00,2,    1.27,2,   1.465,2,   0.765,2,   0.347,2,  2185.6,6,  2336.5,2,   759.6,2,      20,   7.7220,2,    25.00, -999.00,9,  -999.0,9,  -999.0, -999.00,9, -999.00,9,     16.945,2,-999.0000,9,-999.0000,9,-999.0000,9,-999.0000,9,-999.0000,9,-999.0000,9,-999.0000,9,-999.0000,9,-999.0000,9,     -999.0,5,  -999.0,9,     -999.0,     -999.0,9,     -999.0,20130904,       0809
33RO20130803,       A16N,      74,          1,         11,         11,2,20130904,       0638,    28.9998,   -23.9350,       5208,   999.2,   8.3140,  35.4030,2,  35.4074,2,    174.9,2,   175.2,2,   13.40,2,   21.20,2,    0.00,2,    1.35,2,   1.019,2,   0.530,2,   0.222,2,  2192.7,2,  2334.4,2,   773.4,2,      20,   7.7128,2,    25.00, -999.00,9,  -999.0,9,  -999.0, -999.00,9, -999.00,9,     16.683,2,-999.0000,9,-999.0000,9,-999.0000,9,-999.0000,9,-999.0000,9,-999.0000,9,-999.0000,9,-999.0000,9,-999.0000,9,     -999.0,5,  -999.0,9,     -999.0,     -999.0,9,     -999.0,20130904,       0804
33RO20130803,       A16N,      74,          1,         10,         10,2,20130904,       0638,    28.9998,   -23.9350,       5208,  1148.7,   7.5353,  35.3908,2,  35.3933,2,    182.6,2,   183.2,2,   14.80,2,   21.30,2,    0.00,2,    1.36,2,   0.757,2,   0.394,2,   0.137,2,  2193.8,2,  2341.7,2,   772.3,2,      20,   7.7111,2,    25.00, -999.00,9,  -999.0,9,  -999.0, -999.00,9, -999.00,9,     16.213,2,-999.0000,9,-999.0000,9,-999.0000,9,-999.0000,9,-999.0000,9,-999.0000,9,-999.0000,9,-999.0000,9,-999.0000,9,     -999.0,5,  -999.0,9,     -999.0,     -999.0,9,     -999.0,20130904,       0800
33RO20130803,       A16N,      74,          1,          9,          9,2,20130904,       0638,    28.9998,   -23.9350,       5208,  1449.1,   6.2988,  35.3233,2,  35.3230,2,    206.3,2,   208.8,2,   15.40,2,   19.90,2,    0.00,2,    1.29,2,   0.806,2,   0.411,2,   0.163,2,  2187.6,2,  2339.2,2,   749.3,2,      20,   7.7304,2,    25.00, -999.00,9,  -999.0,9,  -999.0, -999.00,9, -999.00,9,     14.922,2,-999.0000,9,-999.0000,9,-999.0000,9,-999.0000,9,-999.0000,9,-999.0000,9,-999.0000,9,-999.0000,9,-999.0000,9,     -999.0,5,  -999.0,9,     -999.0,     -999.0,9,     -999.0,20130904,       0754
33RO20130803,       A16N,      74,          1,          8,          8,2,20130904,       0638,    28.9998,   -23.9350,       5208,  1848.5,   4.7414,  35.1559,2,  35.1558,2,    224.7,2,   223.5,2,   20.80,2,   20.30,2,    0.00,2,    1.34,2,   0.315,2,   0.162,2,   0.038,2,  2184.9,2,  2336.4,2,   750.2,2,      20,   7.7236,2,    25.00, -999.00,9,  -999.0,9,  -999.0, -999.00,9, -999.00,9,     14.171,2,-999.0000,9,-999.0000,9,-999.0000,9,-999.0000,9,-999.0000,9,-999.0000,9,-999.0000,9,-999.0000,9,-999.0000,9,     -999.0,5,  -999.0,9,     -999.0,     -999.0,9,     -999.0,20130904,       0746
33RO20130803,       A16N,      74,          1,          7,          7,2,20130904,       0638,    28.9998,   -23.9350,       5208,  2248.5,   3.6918,  35.0357,2,  35.0357,2,    241.8,2,   241.6,2,   23.50,2,   19.70,2,    0.00,2,    1.31,2,   0.192,2,   0.101,2,   0.036,2,  2178.6,2,  2330.8,2,   738.1,2,      20,   7.7298,6,    25.00, -999.00,9,  -999.0,9,  -999.0, -999.00,9, -999.00,9,     13.384,2,-999.0000,9,-999.0000,9,-999.0000,9,-999.0000,9,-999.0000,9,-999.0000,9,-999.0000,9,-999.0000,9,-999.0000,9,     -999.0,5,  -999.0,9,     -999.0,     -999.0,9,     -999.0,20130904,       0737
33RO20130803,       A16N,      74,          1,          6,          6,2,20130904,       0638,    28.9998,   -23.9350,       5208,  2648.2,   3.0896,  34.9731,2,  34.9720,2,    243.9,2,   243.4,2,   30.00,2,   20.40,2,    0.00,2,    1.36,2,   0.103,2,   0.056,2,   0.016,2,  2184.0,2,  2340.5,2,   744.8,2,      20,   7.7303,2,    25.00, -999.00,9,  -999.0,9,  -999.0, -999.00,9, -999.00,9,     13.303,2,-999.0000,9,-999.0000,9,-999.0000,9,-999.0000,9,-999.0000,9,-999.0000,9,-999.0000,9,-999.0000,9,-999.0000,9,     -999.0,5,  -999.0,9,     -999.0,     -999.0,9,     -999.0,20130904,       0729
33RO20130803,       A16N,      74,          1,          5,          5,2,20130904,       0638,    28.9998,   -23.9350,       5208,  3148.8,   2.6787,  34.9330,2,  34.9362,2,    243.7,2,   243.1,2,   36.90,2,   21.20,2,    0.00,2,    1.42,2,   0.040,2,   0.026,2,   0.000,2,  2190.8,2,  2339.3,2,   747.0,2,      20,   7.7280,2,    25.00, -999.00,9,  -999.0,9,  -999.0, -999.00,9, -999.00,9,     13.327,2,-999.0000,9,-999.0000,9,-999.0000,9,-999.0000,9,-999.0000,9,-999.0000,9,-999.0000,9,-999.0000,9,-999.0000,9,     -999.0,5,  -999.0,9,     -999.0,     -999.0,9,     -999.0,20130904,       0718
33RO20130803,       A16N,      74,          1,          4,          4,2,20130904,       0638,    28.9998,   -23.9350,       5208,  3648.3,   2.4926,  34.9107,2,  34.9106,2,    242.8,2,   243.3,2,   41.80,6,   21.60,6,    0.00,6,    1.47,6,   0.012,6,   0.009,6,   0.015,6,  2194.0,2,  2341.6,2,   748.9,2,      20,   7.7291,2,    25.00, -999.00,9,  -999.0,9,  -999.0, -999.00,9, -999.00,9,     13.413,6,-999.0000,9,-999.0000,9,-999.0000,9,-999.0000,9,-999.0000,9,-999.0000,9,-999.0000,9,-999.0000,9,-999.0000,9,     -999.0,5,  -999.0,9,     -999.0,     -999.0,9,     -999.0,20130904,       0709
33RO20130803,       A16N,      74,          1,          3,          3,2,20130904,       0638,    28.9998,   -23.9350,       5208,  4149.2,   2.4015,  34.8962,2,  34.8970,2,    243.6,2,   243.6,2,   44.80,6,   22.00,6,    0.00,6,    1.48,6,  -0.001,2,   0.002,2,   0.000,2,  2197.4,2,  2344.0,2,   750.5,2,      20,   7.7268,2,    25.00, -999.00,9,  -999.0,9,  -999.0, -999.00,9, -999.00,9,     13.549,2,-999.0000,9,-999.0000,9,-999.0000,9,-999.0000,9,-999.0000,9,-999.0000,9,-999.0000,9,-999.0000,9,-999.0000,9,     -999.0,5,  -999.0,9,     -999.0,     -999.0,9,     -999.0,20130904,       0659
33RO20130803,       A16N,      74,          1,          2,          2,2,20130904,       0638,    28.9998,   -23.9350,       5208,  4548.3,   2.3899,  34.8901,2,  34.8900,2,    243.2,2,   243.7,2,   46.20,6,   22.30,6,    0.01,6,    1.49,6,   0.000,2,   0.003,2,   0.000,2,  2198.5,2,  2345.8,6,   752.4,2,      20,   7.7325,3,    25.00, -999.00,9,  -999.0,9,  -999.0, -999.00,9, -999.00,9,     13.610,2,-999.0000,9,-999.0000,9,-999.0000,9,-999.0000,9,-999.0000,9,-999.0000,9,-999.0000,9,-999.0000,9,-999.0000,9,     -999.0,5,  -999.0,9,     -999.0,     -999.0,9,     -999.0,20130904,       0651
33RO20130803,       A16N,      74,          1,          1,          1,2,20130904,       0638,    28.9998,   -23.9350,       5208,  5274.8,   2.4499,  34.8857,2,  34.8858,2,    240.3,2,   244.3,2,   47.00,6,   22.40,6,    0.01,6,    1.50,6,   0.006,2,   0.008,2,   0.000,2,  2201.7,6,  2348.4,2,   745.4,2,      20,   7.7258,2,    25.00, -999.00,9,  -999.0,9,  -999.0, -999.00,9, -999.00,9,     13.662,2,-999.0000,9,-999.0000,9,-999.0000,9,-999.0000,9,-999.0000,9,-999.0000,9,-999.0000,9,-999.0000,9,-999.0000,9,     -999.0,5,  -999.0,9,     -999.0,     -999.0,9,     -999.0,20130904,       0638