BOTTLE,20220815CCHSIOAMB
EXPOCODE,SECT_ID,STNNBR,CASTNO,SAMPNO,BTLNBR,BTLNBR_FLAG_W,DATE,TIME,LATITUDE,LONGITUDE,DEPTH,CTDPRS,CTDTMP,CTDSAL,CTDSAL_FLAG_W,SALNTY,SALNTY_FLAG_W,CTDOXY,CTDOXY_FLAG_W,OXYGEN,OXYGEN_FLAG_W,SILCAT,SILCAT_FLAG_W,NITRAT,NITRAT_FLAG_W,NITRIT,NITRIT_FLAG_W,PHSPHT,PHSPHT_FLAG_W,CFC-11,CFC-11_FLAG_W,CFC-12,CFC-12_FLAG_W,SF6,SF6_FLAG_W,TCARBN,TCARBN_FLAG_W,ALKALI,ALKALI_FLAG_W,PCO2,PCO2_FLAG_W,PCO2TMP,PH_SWS,PH_SWS_FLAG_W,PH_TMP,DELC13,DELC13_FLAG_W,DELC14,DELC14_FLAG_W,C14ERR,DOC,DOC_FLAG_W,TDN,TDN_FLAG_W,N2O,N2O_FLAG_W,CDOM325,CDOM325_FLAG_W,CDOM340,CDOM340_FLAG_W,CDOM380,CDOM380_FLAG_W,CDOM412,CDOM412_FLAG_W,CDOM443,CDOM443_FLAG_W,CDOM490,CDOM490_FLAG_W,CDOM555,CDOM555_FLAG_W,CDOMSL,CDOMSL_FLAG_W,CDOMSN,CDOMSN_FLAG_W,CCL4,CCL4_FLAG_W,14C-DOC,14C-DOC_FLAG_W,14C-DOCERR,13C-DOC,13C-DOC_FLAG_W,13C-DOCERR,BTL_DATE,BTL_TIME
,,,,,,,,,,,METERS,DBAR,ITS-90,PSS-78,,PSS-78,,UMOL/KG,,UMOL/KG,,UMOL/KG,,UMOL/KG,,UMOL/KG,,UMOL/KG,,PMOL/KG,,PMOL/KG,,FMOL/KG,,UMOL/KG,,UMOL/KG,,UATM,,DEG C,,,DEG C,/MILLE,,/MILLE,,/MILLE,UMOL/KG,,UMOL/KG,,NMOL/KG,,1/M,,1/M,,1/M,,1/M,,1/M,,1/M,,1/M,,1/NM,,1/NM,,PMOL/KG,,/MILLE,,/MILLE,/MILLE,,/MILLE,,
33RO20130803,       A16N,     107,          1,         24,         24,5,20130921,       0723,    10.0004,   -28.5005,       5373,     2.8,  28.2921,  35.6522,2,-999.0000,9,    197.1,2,  -999.0,9, -999.00,9, -999.00,9, -999.00,9, -999.00,9,-999.000,9,-999.000,9,-999.000,9,  -999.0,9,  -999.0,9,  -999.0,9, -999.00,-999.0000,9,  -999.00, -999.00,9,  -999.0,9,  -999.0, -999.00,9, -999.00,9,     -999.0,9,   0.0677,2,   0.0339,2,   0.0052,2,   0.0034,2,   0.0015,2,   0.0020,2,   0.0014,2,   0.0182,2,   0.0187,2,     -999.0,9,  -999.0,9,     -999.0,     -999.0,9,     -999.0,20130921,       0928
33RO20130803,       A16N,     107,          1,         23,         23,2,20130921,       0723,    10.0004,   -28.5005,       5373,    22.4,  28.1370,  35.9480,2,  35.9619,2,    199.7,2,   200.5,2,    1.00,2,    0.00,2,    0.01,2,    0.04,2,   1.540,2,   0.975,2,   1.076,2,  2020.2,6,  2355.5,6,   305.0,2,      20,   8.5849,3,    25.00,    1.33,2,    54.5,2,     0.3, -999.00,9, -999.00,9,      7.632,3,   0.0890,2,   0.0485,2,   0.0123,2,   0.0087,2,   0.0045,2,   0.0034,2,   0.0019,2,   0.0181,2,   0.0189,2,     -999.0,5,  -999.0,9,     -999.0,     -999.0,9,     -999.0,20130921,       0926
33RO20130803,       A16N,     107,          1,         22,         22,2,20130921,       0723,    10.0004,   -28.5005,       5373,    47.6,  19.7707,  35.8614,2,  35.8460,2,    193.7,2,   169.6,2,    2.90,2,    3.50,2,    0.12,2,    0.44,2,   1.954,2,   1.168,2,   0.827,2,  2134.7,2,  2357.6,2,   526.5,2,      20,   7.8757,2,    25.00,    0.83,2,    41.0,2,     0.3, -999.00,9, -999.00,9,     25.170,3,   0.2933,2,   0.2028,2,   0.0914,2,   0.0604,2,   0.0319,2,   0.0137,2,   0.0052,2,   0.0167,2,   0.0177,2,     -999.0,5,  -999.0,9,     -999.0,     -999.0,9,     -999.0,20130921,       0924
33RO20130803,       A16N,     107,          1,         21,         21,2,20130921,       0723,    10.0004,   -28.5005,       5373,    73.0,  14.6309,  35.4773,2,  35.4727,2,     68.8,2,      71,2,    7.20,2,   24.80,2,    0.11,2,    1.54,2,   2.068,2,   1.158,2,   0.657,2,  2215.9,2,  2325.4,2,   981.5,2,      20,   7.6142,2,    25.00,    0.18,6,    38.8,6,     5.7, -999.00,9, -999.00,9,     36.658,3,   0.1867,2,   0.1248,2,   0.0597,2,   0.0425,2,   0.0237,2,   0.0105,2,   0.0045,2,   0.0150,2,   0.0159,2,     -999.0,5,  -999.0,9,     -999.0,     -999.0,9,     -999.0,20130921,       0922
33RO20130803,       A16N,     107,          1,         20,         20,2,20130921,       0723,    10.0004,   -28.5005,       5373,    98.2,  13.4102,  35.3559,2,  35.3522,2,     96.1,2,   100.5,2,    8.10,2,   23.10,2,    0.02,2,    1.47,2,   2.102,2,   1.176,2,   0.611,2,  2198.0,2,  2323.8,2,   885.0,2,      20,   7.6572,2,    25.00,    0.38,2,    31.2,2,     0.4, -999.00,9, -999.00,9,     30.702,3,   0.1461,2,   0.0924,2,   0.0404,2,   0.0322,2,   0.0173,2,   0.0075,2,   0.0031,2,   0.0153,2,   0.0165,2,     -999.0,5,  -999.0,9,     -999.0,     -999.0,9,     -999.0,20130921,       0920
33RO20130803,       A16N,     107,          1,         19,         19,2,20130921,       0723,    10.0004,   -28.5005,       5373,   147.3,  12.4516,  35.2481,2,  35.2474,2,     91.7,2,    92.3,2,    9.30,2,   25.30,2,    0.01,2,    1.60,2,   1.959,2,   1.089,2,   0.490,2,  2205.7,2,  2315.8,2,   970.8,2,      20,   7.6218,2,    25.00,    0.34,2,    34.4,2,     0.3, -999.00,9, -999.00,9,     32.776,3,   0.1487,2,   0.0943,2,   0.0405,2,   0.0329,2,   0.0183,2,   0.0079,2,   0.0030,2,   0.0155,2,   0.0167,2,     -999.0,5,  -999.0,9,     -999.0,     -999.0,9,     -999.0,20130921,       0918
33RO20130803,       A16N,     107,          1,         18,         18,2,20130921,       0723,    10.0004,   -28.5005,       5373,   223.4,  11.7100,  35.2124,2,  35.2115,2,     73.9,2,    72.3,2,   10.70,2,   28.60,2,    0.01,2,    1.76,2,   1.625,2,   0.895,2,   0.350,2,  2222.1,2,  2314.0,2,  1108.6,2,      20,   7.5664,2,    25.00,    0.28,2,    18.1,2,     0.2, -999.00,9, -999.00,9,     37.246,3,-999.0000,5,-999.0000,5,-999.0000,5,-999.0000,5,-999.0000,5,-999.0000,5,-999.0000,5,-999.0000,5,-999.0000,5,     -999.0,5,  -999.0,9,     -999.0,     -999.0,9,     -999.0,20130921,       0915
33RO20130803,       A16N,     107,          1,         17,         17,2,20130921,       0723,    10.0004,   -28.5005,       5373,   297.7,  10.7742,  35.1277,2,  35.1260,2,     56.0,2,    55.7,2,   12.80,2,   32.10,2,    0.01,2,    1.94,2,   1.222,2,   0.667,2,   0.227,2,  2235.6,2,  2309.2,2,  1257.7,2,      20,   7.5128,2,    25.00,    0.21,2,    -0.6,2,     0.2, -999.00,9, -999.00,9,     41.243,3,   0.1515,2,   0.0962,2,   0.0446,2,   0.0352,2,   0.0197,2,   0.0076,2,   0.0029,2,   0.0148,2,   0.0160,2,     -999.0,5,  -999.0,9,     -999.0,     -999.0,9,     -999.0,20130921,       0912
33RO20130803,       A16N,     107,          1,         16,         16,2,20130921,       0723,    10.0004,   -28.5005,       5373,   391.5,  10.1101,  35.1142,2,  35.1141,2,     42.2,2,    41.5,2,   14.70,2,   35.00,2,    0.00,2,    2.11,2,   0.737,2,   0.405,2,   0.180,2,  2250.8,6,  2309.5,2,  1374.6,2,      20,   7.4733,6,    25.00,    0.18,2,   -22.0,2,     0.3, -999.00,9, -999.00,9,     41.943,3,-999.0000,9,-999.0000,9,-999.0000,9,-999.0000,9,-999.0000,9,-999.0000,9,-999.0000,9,-999.0000,9,-999.0000,9,     -999.0,5,  -999.0,9,     -999.0,     -999.0,9,     -999.0,20130921,       0909
33RO20130803,       A16N,     107,          1,         15,         15,2,20130921,       0723,    10.0004,   -28.5005,       5373,   498.0,   8.7595,  34.9646,2,  34.9633,2,     62.8,2,    61.2,2,   17.50,6,   35.50,6,    0.00,6,    2.20,6,   0.449,2,   0.243,2,   0.153,2,  2242.9,2,  2304.2,2,  1345.0,2,      20,   7.4823,2,    25.00,    0.24,2,   -52.2,2,     0.2, -999.00,9, -999.00,9,     35.162,3,   0.1540,2,   0.0968,2,   0.0442,2,   0.0358,2,   0.0215,2,   0.0089,2,   0.0033,2,   0.0150,2,   0.0163,2,     -999.0,5,  -999.0,9,     -999.0,     -999.0,9,     -999.0,20130921,       0906
33RO20130803,       A16N,     107,          1,         14,         14,2,20130921,       0723,    10.0004,   -28.5005,       5373,   647.5,   7.0569,  34.7731,2,  34.7754,2,     86.8,2,    86.4,2,   21.80,6,   36.30,6,    0.00,6,    2.32,6,   0.216,2,   0.123,2,   0.099,2,  2236.7,2,  2300.9,6,  1316.6,2,      20,   7.4879,2,    25.00,    0.44,2,   -67.6,2,     0.2, -999.00,9, -999.00,9,     29.996,3,   0.1622,2,   0.1008,2,   0.0450,2,   0.0359,2,   0.0211,2,   0.0085,2,   0.0031,2,   0.0155,2,   0.0169,2,     -999.0,5,  -999.0,9,     -999.0,     -999.0,9,     -999.0,20130921,       0901
33RO20130803,       A16N,     107,          1,         13,         13,2,20130921,       0723,    10.0004,   -28.5005,       5373,   797.8,   6.0280,  34.6979,2,  34.6984,2,    104.1,2,   102.7,2,   25.20,6,   36.10,6,    0.00,6,    2.36,6,   0.075,2,   0.043,2,   0.018,2,  2234.4,2,  2302.3,2,  1274.3,2,      20,   7.4986,2,    25.00,    0.52,2,   -99.4,2,     0.2, -999.00,9, -999.00,9,     28.745,3,   0.1404,2,   0.0858,2,   0.0384,2,   0.0313,2,   0.0192,2,   0.0077,2,   0.0029,2,   0.0150,2,   0.0164,2,     -999.0,5,  -999.0,9,     -999.0,     -999.0,9,     -999.0,20130921,       0857
33RO20130803,       A16N,     107,          1,         12,         12,2,20130921,       0723,    10.0004,   -28.5005,       5373,   947.6,   5.4388,  34.7131,2,  34.7125,2,    118.9,2,   118.3,2,   26.90,6,   34.90,6,    0.00,6,    2.32,6,   0.019,2,   0.013,2,   0.000,2,  2231.4,2,  2304.8,6,  1204.6,2,      20,   7.5189,2,    25.00,    0.53,6,  -108.8,6,     0.5, -999.00,9, -999.00,9,     26.041,3,-999.0000,9,-999.0000,9,-999.0000,9,-999.0000,9,-999.0000,9,-999.0000,9,-999.0000,9,-999.0000,9,-999.0000,9,     -999.0,5,  -999.0,9,     -999.0,     -999.0,9,     -999.0,20130921,       0853
33RO20130803,       A16N,     107,          1,         11,         11,2,20130921,       0723,    10.0004,   -28.5005,       5373,  1097.7,   5.1612,  34.8131,2,  34.8149,2,    146.0,2,   145.5,2,   25.40,2,   31.20,2,    0.00,2,    2.08,2,   0.022,2,   0.015,2,   0.000,2,  2218.7,2,  2310.2,2,  1067.8,2,      20,   7.5739,2,    25.00,    0.62,6,   -98.3,6,     1.5, -999.00,9, -999.00,9,     22.251,3,   0.1568,2,   0.1002,2,   0.0461,2,   0.0350,2,   0.0216,2,   0.0099,2,   0.0038,2,   0.0151,2,   0.0162,2,     -999.0,5,  -999.0,9,     -999.0,     -999.0,9,     -999.0,20130921,       0849
33RO20130803,       A16N,     107,          1,         10,         10,2,20130921,       0723,    10.0004,   -28.5005,       5373,  1298.0,   4.7961,  34.9062,2,  34.9064,2,    175.3,2,   174.6,2,   23.00,2,   27.50,2,    0.00,2,    1.83,2,   0.028,2,   0.018,2,   0.000,2,  2203.1,2,  2313.9,2,   937.1,2,      20,   7.6281,2,    25.00,    0.61,2,   -89.3,2,     0.2, -999.00,9, -999.00,9,     19.450,3,-999.0000,9,-999.0000,9,-999.0000,9,-999.0000,9,-999.0000,9,-999.0000,9,-999.0000,9,-999.0000,9,-999.0000,9,     -999.0,5,  -999.0,9,     -999.0,     -999.0,9,     -999.0,20130921,       0844
33RO20130803,       A16N,     107,          1,          9,          9,2,20130921,       0723,    10.0004,   -28.5005,       5373,  1595.9,   4.2067,  34.9627,2,  34.9629,2,    217.5,2,   216.5,2,   20.00,2,   22.80,2,    0.00,2,    1.52,2,   0.059,2,   0.035,2,   0.000,2,  2180.9,2,  2314.9,2,   803.7,2,      20,   7.6894,2,    25.00,    0.78,2,   -91.4,2,     0.2, -999.00,9, -999.00,9,     15.706,3,   0.1192,2,   0.0699,2,   0.0260,2,   0.0185,2,   0.0106,2,   0.0045,2,   0.0021,2,   0.0167,2,   0.0179,2,     -999.0,5,  -999.0,9,     -999.0,     -999.0,9,     -999.0,20130921,       0838
33RO20130803,       A16N,     107,          1,          8,          8,2,20130921,       0723,    10.0004,   -28.5005,       5373,  1997.8,   3.5994,  34.9656,2,  34.9676,2,    240.5,2,   241.2,2,   20.90,2,   20.70,2,    0.00,2,    1.37,2,   0.030,2,   0.020,2,   0.000,2,  2171.2,2,  2317.2,2,   754.4,2,      20,   7.7206,2,    25.00,    0.95,2,   -92.4,2,     0.2, -999.00,9, -999.00,9,     13.756,3,   0.1174,2,   0.0694,2,   0.0282,2,   0.0181,2,   0.0099,2,   0.0042,2,   0.0020,2,   0.0161,2,   0.0170,2,     -999.0,5,  -999.0,9,     -999.0,     -999.0,9,     -999.0,20130921,       0830
33RO20130803,       A16N,     107,          1,          7,          7,2,20130921,       0723,    10.0004,   -28.5005,       5373,  2397.7,   3.1463,  34.9492,2,  34.9503,2,    244.4,2,     246,2,   26.00,2,   20.60,2,    0.00,2,    1.37,2,   0.010,2,   0.009,2,   0.000,2,  2175.0,2,  2322.5,2,   740.8,2,      20,   7.7287,2,    25.00,    0.96,2,   -92.3,2,     0.3, -999.00,9, -999.00,9,     13.216,3,-999.0000,9,-999.0000,9,-999.0000,9,-999.0000,9,-999.0000,9,-999.0000,9,-999.0000,9,-999.0000,9,-999.0000,9,     -999.0,5,  -999.0,9,     -999.0,     -999.0,9,     -999.0,20130921,       0822
33RO20130803,       A16N,     107,          1,          6,          6,2,20130921,       0723,    10.0004,   -28.5005,       5373,  2797.7,   2.8323,  34.9310,2,  34.9330,2,    247.1,2,   248.8,2,   30.40,2,   20.60,2,    0.00,2,    1.38,2,   0.018,2,   0.011,2,   0.000,2,  2178.6,2,  2327.6,2,   739.9,2,      20,   7.7297,2,    25.00,    0.94,2,   -93.8,2,     0.2, -999.00,9, -999.00,9,     13.026,3,   0.1499,2,   0.0930,2,   0.0377,2,   0.0274,2,   0.0155,2,   0.0064,2,   0.0026,2,   0.0165,2,   0.0177,2,     -999.0,5,  -999.0,9,     -999.0,     -999.0,9,     -999.0,20130921,       0813
33RO20130803,       A16N,     107,          1,          5,          5,2,20130921,       0723,    10.0004,   -28.5005,       5373,  3295.1,   2.6019,  34.9124,2,  34.9124,2,    246.2,2,   247.6,2,   35.90,2,   21.20,2,    0.00,2,    1.42,2,   0.009,2,   0.009,2,   0.000,2,  2183.7,2,  2331.1,2,   750.6,2,      20,   7.7254,2,    25.00,    0.95,2,   -96.7,2,     0.2, -999.00,9, -999.00,9,     13.153,3,   0.1208,2,   0.0719,2,   0.0269,2,   0.0201,2,   0.0118,2,   0.0053,2,   0.0024,2,   0.0166,2,   0.0177,2,     -999.0,5,  -999.0,9,     -999.0,     -999.0,9,     -999.0,20130921,       0804
33RO20130803,       A16N,     107,          1,          4,          4,2,20130921,       0723,    10.0004,   -28.5005,       5373,  3797.9,   2.4230,  34.8959,2,  34.8972,2,    247.5,2,     249,2,   40.00,2,   21.40,2,    0.00,2,    1.44,2,   0.033,2,   0.021,2,   0.000,2,  2188.4,2,  2336.1,2,   756.4,2,      20,   7.7227,6,    25.00,    0.93,6,  -101.7,6,     0.8, -999.00,9, -999.00,9,     13.210,3,   0.1295,2,   0.0775,2,   0.0291,2,   0.0210,2,   0.0123,2,   0.0054,2,   0.0023,2,   0.0169,2,   0.0181,2,     -999.0,5,  -999.0,9,     -999.0,     -999.0,9,     -999.0,20130921,       0755
33RO20130803,       A16N,     107,          1,          3,          3,2,20130921,       0723,    10.0004,   -28.5005,       5373,  4297.9,   2.3293,  34.8842,2,  34.8844,2,    247.2,2,   249.4,2,   43.80,2,   21.70,2,    0.00,2,    1.46,2,   0.049,2,   0.030,2,   0.000,2,  2196.0,2,  2339.8,2,   761.8,2,      20,   7.7200,2,    25.00,    0.87,2,  -107.7,2,     0.2, -999.00,9, -999.00,9,     13.507,3,   0.1306,3,   0.0817,3,   0.0372,3,   0.0271,3,   0.0180,3,   0.0091,3,   0.0039,3,   0.0149,3,   0.0158,3,     -999.0,5,  -999.0,9,     -999.0,     -999.0,9,     -999.0,20130921,       0745
33RO20130803,       A16N,     107,          1,          2,          2,2,20130921,       0723,    10.0004,   -28.5005,       5373,  4797.4,   2.2802,  34.8750,2,  34.8761,2,    242.8,2,   243.7,2,   48.50,2,   22.50,2,    0.00,2,    1.51,2,   0.023,2,   0.015,2,   0.000,2,  2202.3,2,  2351.2,2,   757.4,6,      20,   7.7186,2,    25.00,    0.86,2,  -115.4,2,     0.2, -999.00,9, -999.00,9,     13.444,3,-999.0000,5,-999.0000,5,-999.0000,5,-999.0000,5,-999.0000,5,-999.0000,5,-999.0000,5,-999.0000,5,-999.0000,5,     -999.0,5,  -999.0,9,     -999.0,     -999.0,9,     -999.0,20130921,       0735
33RO20130803,       A16N,     107,          1,          1,          1,2,20130921,       0723,    10.0004,   -28.5005,       5373,  5420.1,   2.2927,  34.8679,2,  34.8677,2,    246.0,2,   245.7,2,   50.00,2,   22.60,2,    0.00,2,    1.52,2,   0.064,2,   0.036,2,   0.000,2,  2204.9,6,  2348.1,2,   756.6,2,      20,   7.7209,2,    25.00,    0.82,2,  -110.0,2,     0.2, -999.00,9, -999.00,9,     13.549,3,   0.1321,2,   0.0804,2,   0.0336,2,   0.0231,2,   0.0139,2,   0.0063,2,   0.0028,2,   0.0161,2,   0.0170,2,     -999.0,5,  -999.0,9,     -999.0,     -999.0,9,     -999.0,20130921,       0723