BOTTLE,20220815CCHSIOAMB
EXPOCODE,SECT_ID,STNNBR,CASTNO,SAMPNO,BTLNBR,BTLNBR_FLAG_W,DATE,TIME,LATITUDE,LONGITUDE,DEPTH,CTDPRS,CTDTMP,CTDSAL,CTDSAL_FLAG_W,SALNTY,SALNTY_FLAG_W,CTDOXY,CTDOXY_FLAG_W,OXYGEN,OXYGEN_FLAG_W,SILCAT,SILCAT_FLAG_W,NITRAT,NITRAT_FLAG_W,NITRIT,NITRIT_FLAG_W,PHSPHT,PHSPHT_FLAG_W,CFC-11,CFC-11_FLAG_W,CFC-12,CFC-12_FLAG_W,SF6,SF6_FLAG_W,TCARBN,TCARBN_FLAG_W,ALKALI,ALKALI_FLAG_W,PCO2,PCO2_FLAG_W,PCO2TMP,PH_SWS,PH_SWS_FLAG_W,PH_TMP,DELC13,DELC13_FLAG_W,DELC14,DELC14_FLAG_W,C14ERR,DOC,DOC_FLAG_W,TDN,TDN_FLAG_W,N2O,N2O_FLAG_W,CDOM325,CDOM325_FLAG_W,CDOM340,CDOM340_FLAG_W,CDOM380,CDOM380_FLAG_W,CDOM412,CDOM412_FLAG_W,CDOM443,CDOM443_FLAG_W,CDOM490,CDOM490_FLAG_W,CDOM555,CDOM555_FLAG_W,CDOMSL,CDOMSL_FLAG_W,CDOMSN,CDOMSN_FLAG_W,CCL4,CCL4_FLAG_W,14C-DOC,14C-DOC_FLAG_W,14C-DOCERR,13C-DOC,13C-DOC_FLAG_W,13C-DOCERR,BTL_DATE,BTL_TIME
,,,,,,,,,,,METERS,DBAR,ITS-90,PSS-78,,PSS-78,,UMOL/KG,,UMOL/KG,,UMOL/KG,,UMOL/KG,,UMOL/KG,,UMOL/KG,,PMOL/KG,,PMOL/KG,,FMOL/KG,,UMOL/KG,,UMOL/KG,,UATM,,DEG C,,,DEG C,/MILLE,,/MILLE,,/MILLE,UMOL/KG,,UMOL/KG,,NMOL/KG,,1/M,,1/M,,1/M,,1/M,,1/M,,1/M,,1/M,,1/NM,,1/NM,,PMOL/KG,,/MILLE,,/MILLE,/MILLE,,/MILLE,,
33RO20130803,       A16N,      87,          1,         24,         24,2,20130908,       1314,    22.4997,   -27.5992,       5505,     2.9,  25.4063,  36.9888,2,  36.9879,2,    204.2,2,   205.2,2,    0.50,2,    0.00,2,    0.00,2,    0.04,2,   1.670,2,   1.054,2,   1.254,2,  2094.2,6,  2420.0,2,  -999.0,9, -999.00,   8.0447,2,    25.00,    1.37,2,    47.4,2,     0.2,   68.83,2,     4.3,2,      6.338,2,   0.0623,2,   0.0345,3,  -0.0048,4,  -0.0051,4,  -0.0102,4,  -0.0038,4,  -0.0071,4,   0.0685,4,   0.0522,4,     -999.0,5,  -999.0,9,     -999.0,     -999.0,9,     -999.0,20130908,       1519
33RO20130803,       A16N,      87,          1,         23,         23,2,20130908,       1314,    22.4997,   -27.5992,       5505,    28.6,  25.3299,  36.9740,2,  36.9739,2,    205.0,2,   205.2,2,    0.50,2,    0.00,2,    0.00,2,    0.05,2,   1.659,6,   1.054,6,   1.281,6,  2094.1,2,  2420.5,2,  -999.0,9, -999.00,   8.0457,2,    25.00,    1.35,2,    51.4,2,     0.3,   67.53,2,    3.79,2,      6.309,6,   0.0817,2,   0.0505,2,   0.0079,3,   0.0063,3,  -0.0001,3,   0.0045,3,  -0.0023,4,   0.0442,3,   0.0398,4,     -999.0,5,  -999.0,9,     -999.0,     -999.0,9,     -999.0,20130908,       1517
33RO20130803,       A16N,      87,          1,         22,         22,2,20130908,       1314,    22.4997,   -27.5992,       5505,    58.5,  24.6174,  37.2223,2,  37.2309,2,    212.5,2,   213.9,2,    0.50,2,    0.00,2,    0.00,2,    0.01,2,   1.758,2,   1.102,2,   1.270,2,  2103.2,2,  2434.5,6,  -999.0,9, -999.00,   8.0483,2,    25.00,    1.31,2,    56.6,2,     0.3,   65.28,2,    4.01,2,      6.545,2,   0.1050,2,   0.0691,2,   0.0166,3,   0.0109,2,   0.0022,3,   0.0053,2,  -0.0024,4,   0.0338,3,   0.0324,3,     -999.0,5,  -999.0,9,     -999.0,     -999.0,9,     -999.0,20130908,       1515
33RO20130803,       A16N,      87,          1,         21,         21,2,20130908,       1314,    22.4997,   -27.5992,       5505,    85.2,  23.1317,  37.3057,2,  37.3025,2,    218.9,2,   219.3,2,    0.60,2,    0.00,2,    0.00,2,    0.02,2,   1.890,2,   1.171,2,   1.322,2,  2114.6,2,  2442.0,2,  -999.0,9, -999.00,   8.0335,2,    25.00,    1.18,2,    56.5,2,     0.2,   62.63,2,    4.01,2,      6.940,2,   0.1133,2,   0.0740,2,   0.0196,3,   0.0107,2,  -0.0015,4,   0.0004,4,  -0.0051,4,   0.0325,3,   0.0318,3,     -999.0,5,  -999.0,9,     -999.0,     -999.0,9,     -999.0,20130908,       1513
33RO20130803,       A16N,      87,          1,         20,         20,2,20130908,       1314,    22.4997,   -27.5992,       5505,   114.3,  21.6404,  37.1905,2,  37.1904,2,    205.9,2,   204.3,2,    0.70,2,    0.20,2,    0.07,2,    0.08,2,   1.951,2,   1.209,2,   1.304,2,  2130.1,2,  2433.4,2,  -999.0,9, -999.00,   7.9996,2,    25.00,    1.02,2,    58.2,2,     0.2,   60.11,2,    4.33,2,      7.914,2,   0.1456,2,   0.1021,2,   0.0406,2,   0.0325,2,   0.0154,2,   0.0117,3,   0.0022,2,   0.0216,2,   0.0237,2,     -999.0,5,  -999.0,9,     -999.0,     -999.0,9,     -999.0,20130908,       1511
33RO20130803,       A16N,      87,          1,         19,         19,2,20130908,       1314,    22.4997,   -27.5992,       5505,   230.8,  18.1398,  36.6787,2,  36.6579,2,    187.1,2,   186.4,2,    1.50,2,    5.50,2,    0.01,2,    0.31,2,   2.261,2,   1.355,2,   1.308,2,  -999.0,9,  -999.0,9,  -999.0,9, -999.00,-999.0000,9,  -999.00,    0.61,2,    58.2,2,     0.2,   52.05,2,    6.41,2,     10.163,2,   0.0986,2,   0.0668,2,   0.0213,2,   0.0161,2,   0.0022,3,   0.0019,3,  -0.0037,3,   0.0269,3,   0.0284,3,     -999.0,5,  -999.0,9,     -999.0,     -999.0,9,     -999.0,20130908,       1508
33RO20130803,       A16N,      87,          1,         18,         18,2,20130908,       1314,    22.4997,   -27.5992,       5505,   349.5,  15.0939,  36.0776,2,  36.0775,2,    169.7,2,   172.5,2,    3.60,2,   11.30,2,    0.00,2,    0.66,2,   2.424,2,   1.408,2,   1.124,2,  2157.5,2,  2351.4,2,  -999.0,9, -999.00,   7.8424,2,    25.00,    0.50,2,    64.2,2,     0.2,   49.79,2,    10.1,2,     13.508,2,   0.0959,2,   0.0618,2,   0.0167,3,   0.0111,2,  -0.0012,4,  -0.0010,4,  -0.0056,4,   0.0317,3,   0.0323,3,     -999.0,5,  -999.0,9,     -999.0,     -999.0,9,     -999.0,20130908,       1501
33RO20130803,       A16N,      87,          1,         17,         17,2,20130908,       1314,    22.4997,   -27.5992,       5505,   349.6,  15.0775,  36.0747,2,  36.0690,2,    168.5,2,   175.4,2,    3.50,2,   11.10,2,    0.00,2,    0.65,2,   2.437,2,   1.419,2,   1.087,2,  -999.0,9,  -999.0,9,  -999.0,9, -999.00,-999.0000,9,  -999.00,    0.50,2,    60.2,2,     0.2,   49.66,2,   14.27,2,     13.090,2,   0.0993,2,   0.0653,2,   0.0207,2,   0.0144,2,   0.0020,3,   0.0018,3,  -0.0039,4,   0.0279,3,   0.0295,3,     -999.0,5,  -999.0,9,     -999.0,     -999.0,9,     -999.0,20130908,       1500
33RO20130803,       A16N,      87,          1,         16,         16,2,20130908,       1314,    22.4997,   -27.5992,       5505,   448.7,  13.4074,  35.8231,2,  35.8244,2,    173.0,2,   172.1,2,    4.90,2,   14.00,2,    0.00,2,    0.84,2,   2.449,2,   1.382,2,   0.909,2,  2164.6,2,  2350.7,2,  -999.0,9, -999.00,   7.8000,2,    25.00,    0.54,2,    55.2,2,     0.2,    48.1,2,   15.34,2,     14.371,2,   0.1050,2,   0.0689,2,   0.0213,2,   0.0137,2,   0.0016,3,   0.0016,3,  -0.0039,3,   0.0287,3,   0.0297,3,     -999.0,5,  -999.0,9,     -999.0,     -999.0,9,     -999.0,20130908,       1457
33RO20130803,       A16N,      87,          1,         15,         15,2,20130908,       1314,    22.4997,   -27.5992,       5505,   548.4,  12.0237,  35.6387,2,  35.6336,2,    164.3,2,   162.7,2,    7.00,2,   17.40,2,    0.00,2,    1.06,2,   2.174,2,   1.184,2,   0.684,2,  -999.0,9,  -999.0,9,  -999.0,9, -999.00,-999.0000,9,  -999.00,    0.55,2,    35.4,2,     0.2,   46.64,2,   19.74,2,     16.107,2,   0.1044,2,   0.0665,2,   0.0177,3,   0.0116,2,  -0.0001,4,  -0.0001,4,  -0.0054,4,   0.0320,3,   0.0326,3,     -999.0,5,  -999.0,9,     -999.0,     -999.0,9,     -999.0,20130908,       1454
33RO20130803,       A16N,      87,          1,         14,         14,2,20130908,       1314,    22.4997,   -27.5992,       5505,   699.4,   9.6495,  35.3355,2,  35.3295,2,    123.7,2,     124,2,   13.60,2,   25.90,2,    0.00,2,    1.63,2,   0.908,2,   0.472,2,   0.139,2,  2208.3,2,  2329.8,2,  -999.0,9, -999.00,   7.6480,6,    25.00,    0.54,2,   -28.4,2,     0.2,   45.18,2,   27.43,2,     22.063,2,   0.1411,2,   0.0970,2,   0.0405,2,   0.0278,2,   0.0126,2,   0.0078,3,  -0.0008,4,   0.0218,2,   0.0234,2,     -999.0,5,  -999.0,9,     -999.0,     -999.0,9,     -999.0,20130908,       1451
33RO20130803,       A16N,      87,          1,         13,         13,2,20130908,       1314,    22.4997,   -27.5992,       5505,   848.6,   8.0801,  35.1749,2,  35.1697,2,    131.1,2,   131.1,2,   17.40,2,   27.70,2,    0.00,2,    1.79,2,   0.363,2,   0.192,2,   0.055,2,  2210.9,2,  2323.2,2,  -999.0,9, -999.00,   7.6323,2,    25.00,    0.64,2,   -69.5,2,     0.2,   44.39,2,   29.84,2,     21.814,2,   0.1247,2,   0.0814,2,   0.0296,2,   0.0208,2,   0.0076,2,   0.0049,3,  -0.0028,4,   0.0249,2,   0.0273,2,     -999.0,5,  -999.0,9,     -999.0,     -999.0,9,     -999.0,20130908,       1447
33RO20130803,       A16N,      87,          1,         12,         12,2,20130908,       1314,    22.4997,   -27.5992,       5505,  1048.6,   6.6169,  35.0850,2,  35.0834,2,    154.4,2,   154.1,2,   19.70,2,   27.10,2,    0.00,2,    1.79,2,   0.163,2,   0.087,2,   0.071,2,  2207.0,6,  2322.1,2,  -999.0,9, -999.00,   7.6389,2,    25.00,    0.72,2,   -82.9,2,     0.2,   43.53,2,   29.83,2,     20.111,2,   0.1199,2,   0.0785,2,   0.0272,2,   0.0185,2,   0.0057,3,   0.0032,3,  -0.0028,3,   0.0261,2,   0.0280,2,     -999.0,5,  -999.0,9,     -999.0,     -999.0,9,     -999.0,20130908,       1443
33RO20130803,       A16N,      87,          1,         11,         11,2,20130908,       1314,    22.4997,   -27.5992,       5505,  1248.8,   5.9075,  35.1209,2,  35.1210,2,    180.1,2,   180.5,2,   19.10,2,   24.50,2,    0.00,2,    1.63,2,   0.122,2,   0.068,2,   0.028,2,  2198.0,2,  2325.4,2,  -999.0,9, -999.00,   7.6759,2,    25.00,    0.84,2,   -87.6,2,     0.2,   43.08,2,   28.62,2,     17.552,2,   0.1048,2,   0.0665,2,   0.0209,2,   0.0127,2,   0.0015,3,   0.0007,3,  -0.0043,3,   0.0290,3,   0.0307,3,     -999.0,5,  -999.0,9,     -999.0,     -999.0,9,     -999.0,20130908,       1438
33RO20130803,       A16N,      87,          1,         10,         10,2,20130908,       1314,    22.4997,   -27.5992,       5505,  1498.6,   5.2220,  35.1213,2,  35.1208,2,    201.5,2,   201.6,2,   19.50,2,   22.60,2,    0.00,2,    1.52,2,   0.065,2,   0.036,2,   0.000,2,  2189.8,2,  2331.8,2,  -999.0,9, -999.00,   7.6983,2,    25.00,    0.88,2,   -92.8,2,     0.2,   42.58,2,   25.48,2,     15.821,2,   0.1084,2,   0.0700,2,   0.0249,2,   0.0151,2,   0.0036,3,   0.0025,3,  -0.0031,3,   0.0263,2,   0.0283,2,     -999.0,5,  -999.0,9,     -999.0,     -999.0,9,     -999.0,20130908,       1433
33RO20130803,       A16N,      87,          1,          9,          9,2,20130908,       1314,    22.4997,   -27.5992,       5505,  1821.9,   4.2788,  35.0602,2,  35.0592,2,    221.9,2,   221.2,2,   21.90,2,   21.60,2,    0.00,2,    1.45,2,   0.013,2,   0.009,2,   0.000,2,  -999.0,9,  -999.0,9,  -999.0,9, -999.00,-999.0000,9,  -999.00,    0.87,2,  -101.4,2,     0.2,   41.64,2,   24.38,2,     14.494,2,   0.1153,2,   0.0750,2,   0.0249,2,   0.0157,2,   0.0039,3,   0.0029,3,  -0.0028,3,   0.0274,2,   0.0289,2,     -999.0,5,  -999.0,9,     -999.0,     -999.0,9,     -999.0,20130908,       1426
33RO20130803,       A16N,      87,          1,          8,          8,2,20130908,       1314,    22.4997,   -27.5992,       5505,  2248.7,   3.5351,  35.0034,2,  35.0019,2,    234.4,2,   233.9,2,   26.10,2,   21.00,2,    0.00,2,    1.43,2,   0.002,2,   0.002,2,   0.000,2,  2182.8,2,  2332.1,2,  -999.0,9, -999.00,   7.7217,2,    25.00,    0.93,2,  -103.1,2,     0.2,   40.94,2,   23.72,2,     13.726,2,   0.1120,2,   0.0736,2,   0.0255,2,   0.0158,2,   0.0040,3,   0.0028,3,  -0.0027,3,   0.0265,2,   0.0281,2,     -999.0,5,  -999.0,9,     -999.0,     -999.0,9,     -999.0,20130908,       1417
33RO20130803,       A16N,      87,          1,          7,          7,2,20130908,       1314,    22.4997,   -27.5992,       5505,  2649.3,   3.0778,  34.9697,2,  34.9684,2,    240.2,2,   239.3,2,   30.90,2,   21.00,2,    0.00,2,    1.43,2,   0.005,2,   0.004,2,   0.000,2,  -999.0,9,  -999.0,9,  -999.0,9, -999.00,-999.0000,9,  -999.00,    0.85,2,  -114.0,2,     0.2,   40.87,2,   23.64,2,     13.449,2,   0.1133,2,   0.0732,2,   0.0234,2,   0.0132,2,   0.0015,3,   0.0010,3,  -0.0040,4,   0.0287,2,   0.0297,2,     -999.0,5,  -999.0,9,     -999.0,     -999.0,9,     -999.0,20130908,       1409
33RO20130803,       A16N,      87,          1,          6,          6,2,20130908,       1314,    22.4997,   -27.5992,       5505,  3048.7,   2.7216,  34.9367,2,  34.9354,2,    242.9,2,   242.7,2,   36.00,2,   21.20,2,    0.00,2,    1.45,2,   0.011,2,   0.008,2,   0.000,2,  2191.8,2,  2347.3,2,  -999.0,9, -999.00,   7.7288,2,    25.00,    0.54,4,  -124.6,2,     0.2,   40.71,2,   23.81,2,     13.378,2,   0.1321,2,   0.0917,2,   0.0416,2,   0.0298,2,   0.0168,2,   0.0134,3,   0.0043,2,   0.0199,2,   0.0219,2,     -999.0,5,  -999.0,9,     -999.0,     -999.0,9,     -999.0,20130908,       1401
33RO20130803,       A16N,      87,          1,          5,          5,2,20130908,       1314,    22.4997,   -27.5992,       5505,  3500.3,   2.4972,  34.9126,2,  34.9104,2,    242.8,2,   242.8,2,   40.90,2,   21.70,2,    0.00,2,    1.48,2,   0.000,2,   0.002,2,   0.000,2,  -999.0,9,  -999.0,9,  -999.0,9, -999.00,-999.0000,9,  -999.00,    0.92,2,  -119.3,2,     0.2,   40.25,2,   24.16,2,     13.455,2,   0.1139,2,   0.0738,2,   0.0249,2,   0.0154,2,   0.0040,3,   0.0033,3,  -0.0025,4,   0.0272,2,   0.0289,2,     -999.0,5,  -999.0,9,     -999.0,     -999.0,9,     -999.0,20130908,       1353
33RO20130803,       A16N,      87,          1,          4,          4,2,20130908,       1314,    22.4997,   -27.5992,       5505,  3948.3,   2.4049,  34.8993,2,  34.8976,2,    243.1,2,   243.3,2,   43.80,6,   22.10,6,    0.00,6,    1.50,6,  -0.001,2,   0.001,2,   0.000,2,  2197.8,2,  2349.4,2,  -999.0,9, -999.00,   7.7276,6,    25.00,    0.42,4,  -128.8,2,     0.2,   40.15,2,   24.42,2,     13.526,2,   0.1089,2,   0.0700,2,   0.0227,2,   0.0128,2,   0.0017,3,   0.0014,3,  -0.0036,4,   0.0285,2,   0.0298,2,     -999.0,5,  -999.0,9,     -999.0,     -999.0,9,     -999.0,20130908,       1344
33RO20130803,       A16N,      87,          1,          3,          3,2,20130908,       1314,    22.4997,   -27.5992,       5505,  4447.8,   2.3669,  34.8895,2,  34.8873,2,    242.2,2,   242.7,2,   46.00,6,   22.30,6,    0.00,6,    1.52,6,  -0.001,6,   0.002,6,   0.000,6,  -999.0,9,  -999.0,9,  -999.0,9, -999.00,-999.0000,9,  -999.00,    0.86,2,  -122.3,2,     0.2,   40.15,2,   24.82,2,     13.613,6,   0.1126,2,   0.0714,2,   0.0216,2,   0.0125,2,   0.0013,3,   0.0009,3,  -0.0041,4,   0.0299,3,   0.0311,3,     -999.0,5,  -999.0,9,     -999.0,     -999.0,9,     -999.0,20130908,       1335
33RO20130803,       A16N,      87,          1,          2,          2,2,20130908,       1314,    22.4997,   -27.5992,       5505,  4947.9,   2.3986,  34.8854,2,  34.8842,2,    242.3,2,   242.6,2,   46.80,6,   22.30,6,    0.00,6,    1.52,6,   0.001,2,   0.003,2,   0.000,2,  2203.1,2,  2357.9,2,  -999.0,9, -999.00,   7.7268,2,    25.00,    0.93,2,  -123.5,2,     0.2,   40.12,2,   25.01,2,     13.634,2,   0.1392,2,   0.0954,2,   0.0406,2,   0.0290,2,   0.0154,2,   0.0120,3,   0.0024,2,   0.0212,2,   0.0232,2,     -999.0,5,  -999.0,9,     -999.0,     -999.0,9,     -999.0,20130908,       1326
33RO20130803,       A16N,      87,          1,          1,          1,2,20130908,       1314,    22.4997,   -27.5992,       5505,  5582.8,   2.4722,  34.8832,2,  34.8818,2,    243.7,2,   242.9,2,   47.10,6,   22.40,6,    0.00,6,    1.52,6,   0.004,2,   0.006,2,   0.017,2,  2205.2,6,  2355.1,2,  -999.0,9, -999.00,   7.6526,3,    25.00,    0.94,2,  -122.8,2,     0.2,   40.29,2,   24.99,2,     13.705,2,   0.1301,2,   0.0870,2,   0.0326,2,   0.0200,2,   0.0070,2,   0.0048,2,  -0.0017,4,   0.0247,2,   0.0262,2,     -999.0,5,  -999.0,9,     -999.0,     -999.0,9,     -999.0,20130908,       1314