BOTTLE,20220815CCHSIOAMB
EXPOCODE,SECT_ID,STNNBR,CASTNO,SAMPNO,BTLNBR,BTLNBR_FLAG_W,DATE,TIME,LATITUDE,LONGITUDE,DEPTH,CTDPRS,CTDTMP,CTDSAL,CTDSAL_FLAG_W,SALNTY,SALNTY_FLAG_W,CTDOXY,CTDOXY_FLAG_W,OXYGEN,OXYGEN_FLAG_W,SILCAT,SILCAT_FLAG_W,NITRAT,NITRAT_FLAG_W,NITRIT,NITRIT_FLAG_W,PHSPHT,PHSPHT_FLAG_W,CFC-11,CFC-11_FLAG_W,CFC-12,CFC-12_FLAG_W,SF6,SF6_FLAG_W,TCARBN,TCARBN_FLAG_W,ALKALI,ALKALI_FLAG_W,PCO2,PCO2_FLAG_W,PCO2TMP,PH_SWS,PH_SWS_FLAG_W,PH_TMP,DELC13,DELC13_FLAG_W,DELC14,DELC14_FLAG_W,C14ERR,DOC,DOC_FLAG_W,TDN,TDN_FLAG_W,N2O,N2O_FLAG_W,CDOM325,CDOM325_FLAG_W,CDOM340,CDOM340_FLAG_W,CDOM380,CDOM380_FLAG_W,CDOM412,CDOM412_FLAG_W,CDOM443,CDOM443_FLAG_W,CDOM490,CDOM490_FLAG_W,CDOM555,CDOM555_FLAG_W,CDOMSL,CDOMSL_FLAG_W,CDOMSN,CDOMSN_FLAG_W,CCL4,CCL4_FLAG_W,14C-DOC,14C-DOC_FLAG_W,14C-DOCERR,13C-DOC,13C-DOC_FLAG_W,13C-DOCERR,BTL_DATE,BTL_TIME
,,,,,,,,,,,METERS,DBAR,ITS-90,PSS-78,,PSS-78,,UMOL/KG,,UMOL/KG,,UMOL/KG,,UMOL/KG,,UMOL/KG,,UMOL/KG,,PMOL/KG,,PMOL/KG,,FMOL/KG,,UMOL/KG,,UMOL/KG,,UATM,,DEG C,,,DEG C,/MILLE,,/MILLE,,/MILLE,UMOL/KG,,UMOL/KG,,NMOL/KG,,1/M,,1/M,,1/M,,1/M,,1/M,,1/M,,1/M,,1/NM,,1/NM,,PMOL/KG,,/MILLE,,/MILLE,/MILLE,,/MILLE,,
33RO20130803,       A16N,      40,          1,         24,         24,2,20130813,       0311,    45.4982,   -19.9999,       4559,     2.7,  20.3058,  35.7002,2,  35.7013,2,    228.0,2,   231.3,2,    0.50,2,    0.00,2,    0.00,2,    0.03,2,   2.233,2,   1.363,2,   1.532,2,  2067.0,6,  2352.1,2,  -999.0,9, -999.00,   7.9939,2,    25.00, -999.00,9,  -999.0,9,  -999.0,   66.83,2,    3.42,2,      7.591,2,-999.0000,9,-999.0000,9,-999.0000,9,-999.0000,9,-999.0000,9,-999.0000,9,-999.0000,9,-999.0000,9,-999.0000,9,     -999.0,5,  -999.0,9,     -999.0,     -999.0,9,     -999.0,20130813,       0453
33RO20130803,       A16N,      40,          1,         23,         23,2,20130813,       0311,    45.4982,   -19.9999,       4559,    22.8,  17.0260,  35.7146,2,  35.7177,2,    242.7,2,   247.8,2,    0.50,2,    0.00,2,    0.00,2,    0.06,2,-999.000,9,-999.000,9,-999.000,9,  2078.9,2,  2353.7,2,  -999.0,9, -999.00,   7.9725,2,    25.00, -999.00,9,  -999.0,9,  -999.0,    62.5,2,    3.84,2,     -999.0,9,-999.0000,9,-999.0000,9,-999.0000,9,-999.0000,9,-999.0000,9,-999.0000,9,-999.0000,9,-999.0000,9,-999.0000,9,     -999.0,9,  -999.0,9,     -999.0,     -999.0,9,     -999.0,20130813,       0451
33RO20130803,       A16N,      40,          1,         22,         22,2,20130813,       0311,    45.4982,   -19.9999,       4559,    49.0,  14.4205,  35.7011,2,  35.7031,2,    246.0,2,   245.1,2,    0.60,2,    1.90,2,    0.28,2,    0.27,2,   2.835,2,   1.679,2,   1.857,2,  2111.5,2,  2350.8,2,  -999.0,9, -999.00,   7.9082,6,    25.00, -999.00,9,  -999.0,9,  -999.0,   58.54,2,    6.16,2,      9.353,2,-999.0000,9,-999.0000,9,-999.0000,9,-999.0000,9,-999.0000,9,-999.0000,9,-999.0000,9,-999.0000,9,-999.0000,9,     -999.0,5,  -999.0,9,     -999.0,     -999.0,9,     -999.0,20130813,       0449
33RO20130803,       A16N,      40,          1,         21,         21,2,20130813,       0311,    45.4982,   -19.9999,       4559,    73.6,  13.3289,  35.6858,2,  35.6854,2,    241.8,2,     241,2,    1.60,2,    5.70,2,    0.20,2,    0.40,2,-999.000,9,-999.000,9,-999.000,9,  2124.3,2,  2351.1,2,  -999.0,9, -999.00,   7.8734,2,    25.00, -999.00,9,  -999.0,9,  -999.0,   54.47,2,     8.7,2,     -999.0,9,-999.0000,9,-999.0000,9,-999.0000,9,-999.0000,9,-999.0000,9,-999.0000,9,-999.0000,9,-999.0000,9,-999.0000,9,     -999.0,9,  -999.0,9,     -999.0,     -999.0,9,     -999.0,20130813,       0447
33RO20130803,       A16N,      40,          1,         20,         20,2,20130813,       0311,    45.4982,   -19.9999,       4559,    98.6,  12.8966,  35.6788,2,  35.6769,2,    241.0,2,   240.7,2,    2.30,2,    6.90,2,    0.02,2,    0.46,2,   2.924,2,   1.726,2,   1.879,2,  2130.7,2,  2292.7,4,  -999.0,9, -999.00,   7.8600,2,    25.00, -999.00,9,  -999.0,9,  -999.0,   53.76,2,   10.18,2,      9.761,2,-999.0000,9,-999.0000,9,-999.0000,9,-999.0000,9,-999.0000,9,-999.0000,9,-999.0000,9,-999.0000,9,-999.0000,9,     -999.0,5,  -999.0,9,     -999.0,     -999.0,9,     -999.0,20130813,       0446
33RO20130803,       A16N,      40,          1,         19,         19,2,20130813,       0311,    45.4982,   -19.9999,       4559,   117.2,  12.7173,  35.6635,2,  35.6627,2,    242.0,2,     242,2,    2.40,2,    7.10,2,    0.01,2,    0.46,2,-999.000,9,-999.000,9,-999.000,9,  2130.8,2,  2343.6,2,  -999.0,9, -999.00,   7.8597,2,    25.00, -999.00,9,  -999.0,9,  -999.0,    53.3,2,    10.3,2,     -999.0,9,-999.0000,9,-999.0000,9,-999.0000,9,-999.0000,9,-999.0000,9,-999.0000,9,-999.0000,9,-999.0000,9,-999.0000,9,     -999.0,9,  -999.0,9,     -999.0,     -999.0,9,     -999.0,20130813,       0444
33RO20130803,       A16N,      40,          1,         18,         18,2,20130813,       0311,    45.4982,   -19.9999,       4559,   173.3,  12.4993,  35.6483,2,  35.6480,2,    242.4,2,   243.1,2,    2.60,2,    7.40,2,    0.01,2,    0.48,2,-999.000,9,-999.000,9,-999.000,9,  2130.8,2,  2342.2,2,  -999.0,9, -999.00,   7.8546,2,    25.00, -999.00,9,  -999.0,9,  -999.0,   52.14,2,   10.73,2,     -999.0,9,-999.0000,9,-999.0000,9,-999.0000,9,-999.0000,9,-999.0000,9,-999.0000,9,-999.0000,9,-999.0000,9,-999.0000,9,     -999.0,9,  -999.0,9,     -999.0,     -999.0,9,     -999.0,20130813,       0442
33RO20130803,       A16N,      40,          1,         17,         17,2,20130813,       0311,    45.4982,   -19.9999,       4559,   248.4,  12.3135,  35.6422,2,  35.6417,2,    241.7,2,   243.9,2,    2.80,2,    7.80,2,    0.02,2,    0.51,2,-999.000,9,-999.000,9,-999.000,9,  2133.3,2,  2342.6,2,  -999.0,9, -999.00,   7.8523,2,    25.00, -999.00,9,  -999.0,9,  -999.0,   50.93,2,   10.42,2,     -999.0,9,-999.0000,9,-999.0000,9,-999.0000,9,-999.0000,9,-999.0000,9,-999.0000,9,-999.0000,9,-999.0000,9,-999.0000,9,     -999.0,9,  -999.0,9,     -999.0,     -999.0,9,     -999.0,20130813,       0440
33RO20130803,       A16N,      40,          1,         16,         16,2,20130813,       0311,    45.4982,   -19.9999,       4559,   323.7,  12.1456,  35.6292,2,  35.6291,2,    241.6,2,   240.4,2,    3.10,2,    8.60,2,    0.01,2,    0.55,2,-999.000,9,-999.000,9,-999.000,9,  2138.1,2,  2344.5,6,  -999.0,9, -999.00,   7.8423,2,    25.00, -999.00,9,  -999.0,9,  -999.0,   50.28,2,   10.99,2,     -999.0,9,-999.0000,9,-999.0000,9,-999.0000,9,-999.0000,9,-999.0000,9,-999.0000,9,-999.0000,9,-999.0000,9,-999.0000,9,     -999.0,9,  -999.0,9,     -999.0,     -999.0,9,     -999.0,20130813,       0438
33RO20130803,       A16N,      40,          1,         15,         15,2,20130813,       0311,    45.4982,   -19.9999,       4559,   398.5,  11.9891,  35.6220,2,  35.6220,2,    236.1,2,   234.9,2,    3.40,6,    9.50,6,    0.01,6,    0.61,2,-999.000,9,-999.000,9,-999.000,9,  2143.1,2,  2343.3,2,  -999.0,9, -999.00,   7.8304,2,    25.00, -999.00,9,  -999.0,9,  -999.0,    49.5,2,   11.85,2,     -999.0,9,-999.0000,9,-999.0000,9,-999.0000,9,-999.0000,9,-999.0000,9,-999.0000,9,-999.0000,9,-999.0000,9,-999.0000,9,     -999.0,9,  -999.0,9,     -999.0,     -999.0,9,     -999.0,20130813,       0435
33RO20130803,       A16N,      40,          1,         14,         14,2,20130813,       0311,    45.4982,   -19.9999,       4559,   498.3,  11.7320,  35.6063,2,  35.6080,2,    230.0,2,   229.5,2,    3.90,2,   10.60,2,    0.01,2,    0.67,2,   2.996,2,   1.737,2,   1.652,2,  2149.2,2,  2340.4,2,  -999.0,9, -999.00,   7.8153,2,    25.00, -999.00,9,  -999.0,9,  -999.0,   47.71,2,   12.71,2,     11.561,2,-999.0000,9,-999.0000,9,-999.0000,9,-999.0000,9,-999.0000,9,-999.0000,9,-999.0000,9,-999.0000,9,-999.0000,9,     -999.0,5,  -999.0,9,     -999.0,     -999.0,9,     -999.0,20130813,       0433
33RO20130803,       A16N,      40,          1,         13,         13,2,20130813,       0311,    45.4982,   -19.9999,       4559,   648.4,  11.4011,  35.5848,2,  35.5843,2,    227.9,2,   228.5,2,    4.20,2,   11.30,2,    0.01,2,    0.72,2,-999.000,9,-999.000,9,-999.000,9,  2152.2,2,  2339.6,2,  -999.0,9, -999.00,   7.8033,2,    25.00, -999.00,9,  -999.0,9,  -999.0,   46.89,2,   14.17,2,     -999.0,9,-999.0000,9,-999.0000,9,-999.0000,9,-999.0000,9,-999.0000,9,-999.0000,9,-999.0000,9,-999.0000,9,-999.0000,9,     -999.0,9,  -999.0,9,     -999.0,     -999.0,9,     -999.0,20130813,       0429
33RO20130803,       A16N,      40,          1,         12,         12,2,20130813,       0311,    45.4982,   -19.9999,       4559,   798.8,  10.8440,  35.5450,2,  35.5452,2,    206.4,2,   206.6,2,    6.30,6,   14.30,6,    0.00,6,    0.90,6,-999.000,9,-999.000,9,-999.000,9,  2166.2,2,  2339.2,2,  -999.0,9, -999.00,   7.7733,2,    25.00, -999.00,9,  -999.0,9,  -999.0,   46.09,2,   16.48,2,     -999.0,9,-999.0000,9,-999.0000,9,-999.0000,9,-999.0000,9,-999.0000,9,-999.0000,9,-999.0000,9,-999.0000,9,-999.0000,9,     -999.0,9,  -999.0,9,     -999.0,     -999.0,9,     -999.0,20130813,       0426
33RO20130803,       A16N,      40,          1,         11,         11,2,20130813,       0311,    45.4982,   -19.9999,       4559,   943.4,  10.4440,  35.6254,2,  35.6246,2,    187.1,2,   186.7,2,    8.40,2,   16.50,2,    0.01,2,    1.04,2,   2.316,2,   1.257,2,   0.809,2,  2183.2,6,  2347.2,2,  -999.0,9, -999.00,   7.7522,2,    25.00, -999.00,9,  -999.0,9,  -999.0,   45.07,2,   18.54,2,     14.827,2,-999.0000,9,-999.0000,9,-999.0000,9,-999.0000,9,-999.0000,9,-999.0000,9,-999.0000,9,-999.0000,9,-999.0000,9,     -999.0,5,  -999.0,9,     -999.0,     -999.0,9,     -999.0,20130813,       0422
33RO20130803,       A16N,      40,          1,         10,         10,2,20130813,       0311,    45.4982,   -19.9999,       4559,  1098.7,   9.2244,  35.5404,2,  35.5405,2,    189.2,2,     189,2,   10.00,2,   17.70,2,    0.01,2,    1.13,2,   2.187,2,   1.160,2,   0.685,2,  2189.8,2,  2346.8,2,  -999.0,9, -999.00,   7.7359,2,    25.00, -999.00,9,  -999.0,9,  -999.0,   44.56,2,   20.74,2,     15.269,2,-999.0000,9,-999.0000,9,-999.0000,9,-999.0000,9,-999.0000,9,-999.0000,9,-999.0000,9,-999.0000,9,-999.0000,9,     -999.0,5,  -999.0,9,     -999.0,     -999.0,9,     -999.0,20130813,       0418
33RO20130803,       A16N,      40,          1,          9,          9,2,20130813,       0311,    45.4982,   -19.9999,       4559,  1298.0,   7.9908,  35.4836,2,  35.4847,2,    202.4,2,   204.2,2,   10.80,2,   17.80,2,    0.01,2,    1.15,2,-999.000,9,-999.000,9,-999.000,9,  2189.0,2,  2345.7,2,  -999.0,9, -999.00,   7.7307,2,    25.00, -999.00,9,  -999.0,9,  -999.0,   44.12,2,   20.37,2,     -999.0,9,-999.0000,9,-999.0000,9,-999.0000,9,-999.0000,9,-999.0000,9,-999.0000,9,-999.0000,9,-999.0000,9,-999.0000,9,     -999.0,9,  -999.0,9,     -999.0,     -999.0,9,     -999.0,20130813,       0414
33RO20130803,       A16N,      40,          1,          8,          8,2,20130813,       0311,    45.4982,   -19.9999,       4559,  1595.4,   5.5250,  35.1594,2,  35.1589,2,    242.8,2,   241.2,2,   11.20,2,   17.70,2,    0.01,2,    1.16,2,   2.917,2,   1.507,2,   0.828,2,  2176.3,2,  2322.3,2,  -999.0,9, -999.00,   7.7146,2,    25.00, -999.00,9,  -999.0,9,  -999.0,   43.68,2,   20.51,2,     14.052,2,-999.0000,9,-999.0000,9,-999.0000,9,-999.0000,9,-999.0000,9,-999.0000,9,-999.0000,9,-999.0000,9,-999.0000,9,     -999.0,5,  -999.0,9,     -999.0,     -999.0,9,     -999.0,20130813,       0408
33RO20130803,       A16N,      40,          1,          7,          7,2,20130813,       0311,    45.4982,   -19.9999,       4559,  1998.5,   3.7635,  34.9192,2,  34.9189,2,    270.1,2,   269.4,2,   11.50,2,   17.30,2,    0.01,2,    1.15,2,   3.296,2,   1.649,2,   0.805,2,  2164.3,2,  2301.8,2,  -999.0,9, -999.00,   7.7069,2,    25.00, -999.00,9,  -999.0,9,  -999.0,   43.26,2,   19.56,2,     13.351,2,-999.0000,9,-999.0000,9,-999.0000,9,-999.0000,9,-999.0000,9,-999.0000,9,-999.0000,9,-999.0000,9,-999.0000,9,     -999.0,5,  -999.0,9,     -999.0,     -999.0,9,     -999.0,20130813,       0401
33RO20130803,       A16N,      40,          1,          6,          6,2,20130813,       0311,    45.4982,   -19.9999,       4559,  2397.7,   3.3782,  34.9148,2,  34.9148,2,    272.2,2,   272.3,2,   13.10,2,   17.30,2,    0.01,2,    1.15,2,-999.000,9,-999.000,9,-999.000,9,  2162.0,2,  2310.5,2,  -999.0,9, -999.00,   7.7158,6,    25.00, -999.00,9,  -999.0,9,  -999.0,   42.78,2,   20.11,2,     -999.0,9,-999.0000,9,-999.0000,9,-999.0000,9,-999.0000,9,-999.0000,9,-999.0000,9,-999.0000,9,-999.0000,9,-999.0000,9,     -999.0,9,  -999.0,9,     -999.0,     -999.0,9,     -999.0,20130813,       0353
33RO20130803,       A16N,      40,          1,          5,          5,2,20130813,       0311,    45.4982,   -19.9999,       4559,  2848.4,   3.1039,  34.9407,2,  34.9394,2,    263.1,2,   253.3,4,   20.30,6,   18.00,6,    0.00,6,    1.22,6,-999.000,9,-999.000,9,-999.000,9,  2169.7,2,  2319.6,6,  -999.0,9, -999.00,   7.8933,4,    25.00, -999.00,9,  -999.0,9,  -999.0,   41.96,2,   20.23,2,     -999.0,9,-999.0000,9,-999.0000,9,-999.0000,9,-999.0000,9,-999.0000,9,-999.0000,9,-999.0000,9,-999.0000,9,-999.0000,9,     -999.0,9,  -999.0,9,     -999.0,     -999.0,9,     -999.0,20130813,       0345
33RO20130803,       A16N,      40,          1,          4,          4,2,20130813,       0311,    45.4982,   -19.9999,       4559,  3348.1,   2.8206,  34.9384,2,  34.9374,2,    252.7,2,   253.4,2,   29.40,2,   19.40,2,    0.01,2,    1.31,2,   0.964,2,   0.473,2,   0.210,2,  2182.5,2,  -999.0,5,  -999.0,9, -999.00,   7.7224,2,    25.00, -999.00,9,  -999.0,9,  -999.0,   41.75,2,   21.67,2,     13.187,2,-999.0000,9,-999.0000,9,-999.0000,9,-999.0000,9,-999.0000,9,-999.0000,9,-999.0000,9,-999.0000,9,-999.0000,9,     -999.0,5,  -999.0,9,     -999.0,     -999.0,9,     -999.0,20130813,       0335
33RO20130803,       A16N,      40,          1,          3,          3,2,20130813,       0311,    45.4982,   -19.9999,       4559,  3749.4,   2.6401,  34.9223,2,  34.9197,2,    244.5,2,   244.8,2,   38.20,6,   21.00,6,    0.00,6,    1.43,6,-999.000,9,-999.000,9,-999.000,9,  2193.4,2,  -999.0,5,  -999.0,9, -999.00,   7.7220,2,    25.00, -999.00,9,  -999.0,9,  -999.0,   41.69,2,   23.66,2,     -999.0,9,-999.0000,9,-999.0000,9,-999.0000,9,-999.0000,9,-999.0000,9,-999.0000,9,-999.0000,9,-999.0000,9,-999.0000,9,     -999.0,9,  -999.0,9,     -999.0,     -999.0,9,     -999.0,20130813,       0328
33RO20130803,       A16N,      40,          1,          2,          2,2,20130813,       0311,    45.4982,   -19.9999,       4559,  4196.7,   2.5925,  34.9133,2,  34.9111,2,    240.5,2,   240.7,2,   42.20,2,   21.80,2,    0.01,2,    1.48,2,   0.183,6,   0.092,6,   0.088,6,  2198.7,2,  2352.4,2,  -999.0,9, -999.00,   7.7254,2,    25.00, -999.00,9,  -999.0,9,  -999.0,   41.56,2,   24.39,2,     13.316,6,-999.0000,9,-999.0000,9,-999.0000,9,-999.0000,9,-999.0000,9,-999.0000,9,-999.0000,9,-999.0000,9,-999.0000,9,     -999.0,5,  -999.0,9,     -999.0,     -999.0,9,     -999.0,20130813,       0319
33RO20130803,       A16N,      40,          1,          1,          1,2,20130813,       0311,    45.4982,   -19.9999,       4559,  4619.4,   2.6074,  34.9093,2,  34.9083,2,    240.3,2,   239.5,2,   43.70,6,   22.10,6,    0.01,6,    1.50,6,   0.105,2,   0.054,2,   0.062,2,  2202.2,6,  -999.0,5,  -999.0,9, -999.00,   7.7258,2,    25.00, -999.00,9,  -999.0,9,  -999.0,   41.58,2,   24.69,2,     13.422,2,-999.0000,9,-999.0000,9,-999.0000,9,-999.0000,9,-999.0000,9,-999.0000,9,-999.0000,9,-999.0000,9,-999.0000,9,     -999.0,5,  -999.0,9,     -999.0,     -999.0,9,     -999.0,20130813,       0311