BOTTLE,20220815CCHSIOAMB
EXPOCODE,SECT_ID,STNNBR,CASTNO,SAMPNO,BTLNBR,BTLNBR_FLAG_W,DATE,TIME,LATITUDE,LONGITUDE,DEPTH,CTDPRS,CTDTMP,CTDSAL,CTDSAL_FLAG_W,SALNTY,SALNTY_FLAG_W,CTDOXY,CTDOXY_FLAG_W,OXYGEN,OXYGEN_FLAG_W,SILCAT,SILCAT_FLAG_W,NITRAT,NITRAT_FLAG_W,NITRIT,NITRIT_FLAG_W,PHSPHT,PHSPHT_FLAG_W,CFC-11,CFC-11_FLAG_W,CFC-12,CFC-12_FLAG_W,SF6,SF6_FLAG_W,TCARBN,TCARBN_FLAG_W,ALKALI,ALKALI_FLAG_W,PCO2,PCO2_FLAG_W,PCO2TMP,PH_SWS,PH_SWS_FLAG_W,PH_TMP,DELC13,DELC13_FLAG_W,DELC14,DELC14_FLAG_W,C14ERR,DOC,DOC_FLAG_W,TDN,TDN_FLAG_W,N2O,N2O_FLAG_W,CDOM325,CDOM325_FLAG_W,CDOM340,CDOM340_FLAG_W,CDOM380,CDOM380_FLAG_W,CDOM412,CDOM412_FLAG_W,CDOM443,CDOM443_FLAG_W,CDOM490,CDOM490_FLAG_W,CDOM555,CDOM555_FLAG_W,CDOMSL,CDOMSL_FLAG_W,CDOMSN,CDOMSN_FLAG_W,CCL4,CCL4_FLAG_W,14C-DOC,14C-DOC_FLAG_W,14C-DOCERR,13C-DOC,13C-DOC_FLAG_W,13C-DOCERR,BTL_DATE,BTL_TIME
,,,,,,,,,,,METERS,DBAR,ITS-90,PSS-78,,PSS-78,,UMOL/KG,,UMOL/KG,,UMOL/KG,,UMOL/KG,,UMOL/KG,,UMOL/KG,,PMOL/KG,,PMOL/KG,,FMOL/KG,,UMOL/KG,,UMOL/KG,,UATM,,DEG C,,,DEG C,/MILLE,,/MILLE,,/MILLE,UMOL/KG,,UMOL/KG,,NMOL/KG,,1/M,,1/M,,1/M,,1/M,,1/M,,1/M,,1/M,,1/NM,,1/NM,,PMOL/KG,,/MILLE,,/MILLE,/MILLE,,/MILLE,,
33RO20130803,       A16N,       5,          1,         23,         23,2,20130804,       1301,    62.3319,   -19.9977,       1807,     2.6,  11.8672,  35.0677,2,  35.0700,2,    303.2,2,   298.7,2,    0.80,2,    1.90,2,    0.04,2,    0.19,2,   3.286,6,   1.915,6,   2.005,6,  2060.6,6,  2314.6,2,   416.7,2,      20,-999.0000,5,  -999.00, -999.00,9,  -999.0,9,  -999.0, -999.00,9, -999.00,9,      9.833,6,-999.0000,9,-999.0000,9,-999.0000,9,-999.0000,9,-999.0000,9,-999.0000,9,-999.0000,9,-999.0000,9,-999.0000,9,     -999.0,5,  -999.0,9,     -999.0,     -999.0,9,     -999.0,20130804,       1418
33RO20130803,       A16N,       5,          1,         22,         22,2,20130804,       1301,    62.3319,   -19.9977,       1807,    20.1,  11.5698,  35.0667,2,  35.0707,2,    299.6,2,   294.3,2,    0.80,2,    2.60,2,    0.06,2,    0.22,2,   3.317,2,   1.934,2,   2.014,2,  2067.3,2,  2315.1,2,   433.7,2,      20,   7.9320,2,    25.00, -999.00,9,  -999.0,9,  -999.0, -999.00,9, -999.00,9,      9.948,2,-999.0000,9,-999.0000,9,-999.0000,9,-999.0000,9,-999.0000,9,-999.0000,9,-999.0000,9,-999.0000,9,-999.0000,9,     -999.0,5,  -999.0,9,     -999.0,     -999.0,9,     -999.0,20130804,       1416
33RO20130803,       A16N,       5,          1,         21,         21,2,20130804,       1301,    62.3319,   -19.9977,       1807,    43.3,  10.2106,  35.1125,2,  35.1183,2,    270.3,2,   271.6,2,    1.70,2,    7.00,2,    0.34,2,    0.54,2,   3.444,2,   1.994,2,   2.129,2,  2108.5,2,  2313.7,2,   542.8,2,      20,   7.8479,6,    25.00, -999.00,9,  -999.0,9,  -999.0, -999.00,9, -999.00,9,     10.389,2,-999.0000,9,-999.0000,9,-999.0000,9,-999.0000,9,-999.0000,9,-999.0000,9,-999.0000,9,-999.0000,9,-999.0000,9,     -999.0,5,  -999.0,9,     -999.0,     -999.0,9,     -999.0,20130804,       1414
33RO20130803,       A16N,       5,          1,         20,         20,2,20130804,       1301,    62.3319,   -19.9977,       1807,    63.6,   9.7126,  35.1453,2,  35.1459,2,    267.5,2,   266.9,2,    1.90,2,    8.80,2,    0.32,2,    0.64,2,   3.441,2,   2.005,2,   2.120,2,  -999.0,9,  -999.0,9,  -999.0,9, -999.00,-999.0000,9,  -999.00, -999.00,9,  -999.0,9,  -999.0, -999.00,9, -999.00,9,     10.841,2,-999.0000,9,-999.0000,9,-999.0000,9,-999.0000,9,-999.0000,9,-999.0000,9,-999.0000,9,-999.0000,9,-999.0000,9,     -999.0,5,  -999.0,9,     -999.0,     -999.0,9,     -999.0,20130804,       1412
33RO20130803,       A16N,       5,          1,         19,         19,2,20130804,       1301,    62.3319,   -19.9977,       1807,    83.8,   9.1700,  35.1661,2,  35.1681,2,    266.9,2,   265.6,2,    2.60,2,   10.90,2,    0.04,2,    0.73,2,   3.489,2,   2.014,2,   2.076,2,  2135.0,2,  2319.7,2,   613.6,2,      20,   7.8012,2,    25.00, -999.00,9,  -999.0,9,  -999.0, -999.00,9, -999.00,9,     11.146,2,-999.0000,9,-999.0000,9,-999.0000,9,-999.0000,9,-999.0000,9,-999.0000,9,-999.0000,9,-999.0000,9,-999.0000,9,     -999.0,5,  -999.0,9,     -999.0,     -999.0,9,     -999.0,20130804,       1410
33RO20130803,       A16N,       5,          1,         18,         18,2,20130804,       1301,    62.3319,   -19.9977,       1807,   103.9,   8.8342,  35.1773,2,  35.1780,2,    264.2,2,   264.8,2,    3.30,2,   11.90,2,    0.01,2,    0.78,2,   3.438,2,   2.001,2,   2.051,2,  -999.0,9,  -999.0,9,  -999.0,9, -999.00,-999.0000,9,  -999.00, -999.00,9,  -999.0,9,  -999.0, -999.00,9, -999.00,9,     11.395,2,-999.0000,9,-999.0000,9,-999.0000,9,-999.0000,9,-999.0000,9,-999.0000,9,-999.0000,9,-999.0000,9,-999.0000,9,     -999.0,5,  -999.0,9,     -999.0,     -999.0,9,     -999.0,20130804,       1408
33RO20130803,       A16N,       5,          1,         17,         17,2,20130804,       1301,    62.3319,   -19.9977,       1807,   129.7,   8.7428,  35.1913,2,  35.1918,2,    264.5,2,     264,2,    3.80,2,   12.30,2,    0.01,2,    0.80,2,   3.427,2,   1.984,2,   1.986,2,  2144.9,2,  2319.5,6,   641.0,2,      20,   7.7852,2,    25.00, -999.00,9,  -999.0,9,  -999.0, -999.00,9, -999.00,9,     11.552,2,-999.0000,9,-999.0000,9,-999.0000,9,-999.0000,9,-999.0000,9,-999.0000,9,-999.0000,9,-999.0000,9,-999.0000,9,     -999.0,5,  -999.0,9,     -999.0,     -999.0,9,     -999.0,20130804,       1406
33RO20130803,       A16N,       5,          1,         16,         16,2,20130804,       1301,    62.3319,   -19.9977,       1807,   154.6,   8.6794,  35.1990,2,  35.1986,2,    264.7,2,   264.1,2,    4.30,2,   12.60,2,    0.01,2,    0.82,2,   3.457,2,   1.989,2,   2.002,2,  -999.0,9,  -999.0,9,  -999.0,9, -999.00,-999.0000,9,  -999.00, -999.00,9,  -999.0,9,  -999.0, -999.00,9, -999.00,9,     11.668,2,-999.0000,9,-999.0000,9,-999.0000,9,-999.0000,9,-999.0000,9,-999.0000,9,-999.0000,9,-999.0000,9,-999.0000,9,     -999.0,5,  -999.0,9,     -999.0,     -999.0,9,     -999.0,20130804,       1403
33RO20130803,       A16N,       5,          1,         15,         15,2,20130804,       1301,    62.3319,   -19.9977,       1807,   179.7,   8.6272,  35.2033,2,  35.2058,2,    267.5,2,   266.3,2,    4.40,2,   12.50,2,    0.01,2,    0.81,2,   3.434,2,   1.998,2,   2.018,2,  2146.1,2,  2321.5,2,   646.9,2,      20,   7.7849,2,    25.00, -999.00,9,  -999.0,9,  -999.0, -999.00,9, -999.00,9,     11.458,2,-999.0000,9,-999.0000,9,-999.0000,9,-999.0000,9,-999.0000,9,-999.0000,9,-999.0000,9,-999.0000,9,-999.0000,9,     -999.0,5,  -999.0,9,     -999.0,     -999.0,9,     -999.0,20130804,       1401
33RO20130803,       A16N,       5,          1,         14,         14,2,20130804,       1301,    62.3319,   -19.9977,       1807,   203.4,   8.4996,  35.1902,2,  35.1900,2,    266.2,2,   264.9,2,    5.00,2,   12.90,2,    0.01,2,    0.84,2,   3.435,2,   1.987,2,   2.072,2,  -999.0,9,  -999.0,9,  -999.0,9, -999.00,-999.0000,9,  -999.00, -999.00,9,  -999.0,9,  -999.0, -999.00,9, -999.00,9,     11.648,2,-999.0000,9,-999.0000,9,-999.0000,9,-999.0000,9,-999.0000,9,-999.0000,9,-999.0000,9,-999.0000,9,-999.0000,9,     -999.0,5,  -999.0,9,     -999.0,     -999.0,9,     -999.0,20130804,       1359
33RO20130803,       A16N,       5,          1,         13,         13,2,20130804,       1301,    62.3319,   -19.9977,       1807,   260.5,   8.4669,  35.2027,2,  35.2029,2,    265.0,2,   265.2,2,    5.30,2,   13.10,2,    0.01,2,    0.85,2,   3.438,2,   1.994,2,   2.076,2,  2149.4,2,  2324.0,2,   657.3,2,      20,   7.7750,2,    25.00, -999.00,9,  -999.0,9,  -999.0, -999.00,9, -999.00,9,     11.645,2,-999.0000,9,-999.0000,9,-999.0000,9,-999.0000,9,-999.0000,9,-999.0000,9,-999.0000,9,-999.0000,9,-999.0000,9,     -999.0,5,  -999.0,9,     -999.0,     -999.0,9,     -999.0,20130804,       1356
33RO20130803,       A16N,       5,          1,         12,         12,2,20130804,       1301,    62.3319,   -19.9977,       1807,   371.1,   8.3288,  35.2007,2,  35.2006,2,    266.3,2,   262.2,3,    6.10,2,   13.50,2,    0.01,2,    0.88,2,   3.419,2,   1.977,2,   1.937,2,  -999.0,9,  -999.0,9,  -999.0,9, -999.00,-999.0000,9,  -999.00, -999.00,9,  -999.0,9,  -999.0, -999.00,9, -999.00,9,     11.901,2,-999.0000,9,-999.0000,9,-999.0000,9,-999.0000,9,-999.0000,9,-999.0000,9,-999.0000,9,-999.0000,9,-999.0000,9,     -999.0,5,  -999.0,9,     -999.0,     -999.0,9,     -999.0,20130804,       1351
33RO20130803,       A16N,       5,          1,         11,         11,2,20130804,       1301,    62.3319,   -19.9977,       1807,   391.4,   8.2209,  35.1854,2,  35.1855,2,    264.7,2,   258.7,3,    6.40,2,   13.90,2,    0.01,2,    0.91,2,   3.395,2,   1.947,2,   1.908,2,  2154.4,2,  2323.6,2,   678.0,2,      20,   7.7622,2,    25.00, -999.00,9,  -999.0,9,  -999.0, -999.00,9, -999.00,9,     12.213,2,-999.0000,9,-999.0000,9,-999.0000,9,-999.0000,9,-999.0000,9,-999.0000,9,-999.0000,9,-999.0000,9,-999.0000,9,     -999.0,5,  -999.0,9,     -999.0,     -999.0,9,     -999.0,20130804,       1349
33RO20130803,       A16N,       5,          1,         10,         10,2,20130804,       1301,    62.3319,   -19.9977,       1807,   466.8,   8.0972,  35.1840,2,  35.1840,2,    258.5,2,   254.7,3,    6.90,2,   14.40,2,    0.01,2,    0.94,2,   3.339,2,   1.917,2,   1.880,2,  -999.0,9,  -999.0,9,  -999.0,9, -999.00,-999.0000,9,  -999.00, -999.00,9,  -999.0,9,  -999.0, -999.00,9, -999.00,9,     12.586,2,-999.0000,9,-999.0000,9,-999.0000,9,-999.0000,9,-999.0000,9,-999.0000,9,-999.0000,9,-999.0000,9,-999.0000,9,     -999.0,5,  -999.0,9,     -999.0,     -999.0,9,     -999.0,20130804,       1346
33RO20130803,       A16N,       5,          1,          9,          9,2,20130804,       1301,    62.3319,   -19.9977,       1807,   541.7,   8.0896,  35.2057,2,  35.2067,2,    251.8,2,   260.7,4,    6.50,6,   14.00,6,    0.01,6,    0.91,6,   3.398,2,   1.957,2,   1.859,2,  2155.0,2,  2326.8,6,   678.5,2,      20,   7.7640,2,    25.00, -999.00,9,  -999.0,9,  -999.0, -999.00,9, -999.00,9,     12.073,2,-999.0000,9,-999.0000,9,-999.0000,9,-999.0000,9,-999.0000,9,-999.0000,9,-999.0000,9,-999.0000,9,-999.0000,9,     -999.0,5,  -999.0,9,     -999.0,     -999.0,9,     -999.0,20130804,       1343
33RO20130803,       A16N,       5,          1,          8,          8,2,20130804,       1301,    62.3319,   -19.9977,       1807,   617.2,   7.9090,  35.2007,2,  35.2002,2,    251.8,2,   253.7,2,    7.20,6,   14.70,6,    0.01,6,    0.95,6,   3.329,2,   1.899,2,   1.718,2,  -999.0,9,  -999.0,9,  -999.0,9, -999.00,-999.0000,9,  -999.00, -999.00,9,  -999.0,9,  -999.0, -999.00,9, -999.00,9,     12.643,2,-999.0000,9,-999.0000,9,-999.0000,9,-999.0000,9,-999.0000,9,-999.0000,9,-999.0000,9,-999.0000,9,-999.0000,9,     -999.0,5,  -999.0,9,     -999.0,     -999.0,9,     -999.0,20130804,       1339
33RO20130803,       A16N,       5,          1,          7,          7,2,20130804,       1301,    62.3319,   -19.9977,       1807,   723.6,   7.3183,  35.1642,2,  35.1654,2,    237.5,2,   240.1,2,    8.70,2,   16.20,2,    0.01,2,    1.05,2,   3.172,2,   1.776,2,   1.544,2,  2168.5,2,  2323.1,2,   738.9,2,      20,   7.7305,2,    25.00, -999.00,9,  -999.0,9,  -999.0, -999.00,9, -999.00,9,     13.681,2,-999.0000,9,-999.0000,9,-999.0000,9,-999.0000,9,-999.0000,9,-999.0000,9,-999.0000,9,-999.0000,9,-999.0000,9,     -999.0,5,  -999.0,9,     -999.0,     -999.0,9,     -999.0,20130804,       1335
33RO20130803,       A16N,       5,          1,          6,          6,2,20130804,       1301,    62.3319,   -19.9977,       1807,   798.5,   6.6374,  35.1148,2,  35.1145,2,    235.3,2,   228.4,2,   10.40,2,   17.80,2,    0.00,2,    1.15,2,   3.022,2,   1.648,2,   1.201,2,  -999.0,9,  -999.0,9,  -999.0,9, -999.00,-999.0000,9,  -999.00, -999.00,9,  -999.0,9,  -999.0, -999.00,9, -999.00,9,     14.823,2,-999.0000,9,-999.0000,9,-999.0000,9,-999.0000,9,-999.0000,9,-999.0000,9,-999.0000,9,-999.0000,9,-999.0000,9,     -999.0,5,  -999.0,9,     -999.0,     -999.0,9,     -999.0,20130804,       1332
33RO20130803,       A16N,       5,          1,          5,          5,2,20130804,       1301,    62.3319,   -19.9977,       1807,  1008.4,   5.4741,  35.0569,2,  35.0577,2,    252.5,2,   251.7,2,    9.80,2,   16.80,2,    0.00,2,    1.10,2,   3.393,2,   1.833,2,   1.312,2,  2171.9,2,  2312.8,6,   779.0,2,      20,   7.7113,2,    25.00, -999.00,9,  -999.0,9,  -999.0, -999.00,9, -999.00,9,     14.053,2,-999.0000,9,-999.0000,9,-999.0000,9,-999.0000,9,-999.0000,9,-999.0000,9,-999.0000,9,-999.0000,9,-999.0000,9,     -999.0,5,  -999.0,9,     -999.0,     -999.0,9,     -999.0,20130804,       1325
33RO20130803,       A16N,       5,          1,          4,          4,2,20130804,       1301,    62.3319,   -19.9977,       1807,  1248.1,   4.3318,  35.0052,2,  35.0063,2,    271.8,2,   272.8,2,    9.90,2,   15.50,2,    0.01,2,    1.03,2,   3.466,2,   1.839,2,   1.380,2,  -999.0,9,  -999.0,9,  -999.0,9, -999.00,-999.0000,9,  -999.00, -999.00,9,  -999.0,9,  -999.0, -999.00,9, -999.00,9,     13.500,2,-999.0000,9,-999.0000,9,-999.0000,9,-999.0000,9,-999.0000,9,-999.0000,9,-999.0000,9,-999.0000,9,-999.0000,9,     -999.0,5,  -999.0,9,     -999.0,     -999.0,9,     -999.0,20130804,       1318
33RO20130803,       A16N,       5,          1,          3,          3,2,20130804,       1301,    62.3319,   -19.9977,       1807,  1448.4,   3.7716,  34.9979,2,  34.9978,2,    277.2,2,   276.2,2,    9.70,2,   15.40,2,    0.00,2,    1.02,2,   3.503,2,   1.853,2,   1.334,2,  2167.8,2,  2308.9,2,   768.5,2,      20,   7.7152,6,    25.00, -999.00,9,  -999.0,9,  -999.0, -999.00,9, -999.00,9,     13.425,2,-999.0000,9,-999.0000,9,-999.0000,9,-999.0000,9,-999.0000,9,-999.0000,9,-999.0000,9,-999.0000,9,-999.0000,9,     -999.0,5,  -999.0,9,     -999.0,     -999.0,9,     -999.0,20130804,       1312
33RO20130803,       A16N,       5,          1,          2,          2,2,20130804,       1301,    62.3319,   -19.9977,       1807,  1647.5,   3.1328,  34.9751,2,  34.9757,2,    274.8,2,   273.6,2,   12.80,6,   16.10,6,    0.00,6,    1.07,6,   2.922,2,   1.523,2,   0.967,2,  -999.0,9,  -999.0,9,  -999.0,9, -999.00,-999.0000,9,  -999.00, -999.00,9,  -999.0,9,  -999.0, -999.00,9, -999.00,9,     13.364,2,-999.0000,9,-999.0000,9,-999.0000,9,-999.0000,9,-999.0000,9,-999.0000,9,-999.0000,9,-999.0000,9,-999.0000,9,     -999.0,5,  -999.0,9,     -999.0,     -999.0,9,     -999.0,20130804,       1307
33RO20130803,       A16N,       5,          1,          1,          1,2,20130804,       1301,    62.3319,   -19.9977,       1807,  1821.3,   2.9742,  35.0049,2,  35.0058,2,    280.1,2,   279.1,2,    9.80,2,   15.00,2,    0.01,2,    1.00,2,   3.339,6,   1.777,6,   1.374,6,  2167.2,6,  2308.7,2,   777.7,2,      20,   7.7233,4,    25.00, -999.00,9,  -999.0,9,  -999.0, -999.00,9, -999.00,9,     13.491,6,-999.0000,9,-999.0000,9,-999.0000,9,-999.0000,9,-999.0000,9,-999.0000,9,-999.0000,9,-999.0000,9,-999.0000,9,     -999.0,5,  -999.0,9,     -999.0,     -999.0,9,     -999.0,20130804,       1301