BOTTLE,20220815CCHSIOAMB
EXPOCODE,SECT_ID,STNNBR,CASTNO,SAMPNO,BTLNBR,BTLNBR_FLAG_W,DATE,TIME,LATITUDE,LONGITUDE,DEPTH,CTDPRS,CTDTMP,CTDSAL,CTDSAL_FLAG_W,SALNTY,SALNTY_FLAG_W,CTDOXY,CTDOXY_FLAG_W,OXYGEN,OXYGEN_FLAG_W,SILCAT,SILCAT_FLAG_W,NITRAT,NITRAT_FLAG_W,NITRIT,NITRIT_FLAG_W,PHSPHT,PHSPHT_FLAG_W,CFC-11,CFC-11_FLAG_W,CFC-12,CFC-12_FLAG_W,SF6,SF6_FLAG_W,TCARBN,TCARBN_FLAG_W,ALKALI,ALKALI_FLAG_W,PCO2,PCO2_FLAG_W,PCO2TMP,PH_SWS,PH_SWS_FLAG_W,PH_TMP,DELC13,DELC13_FLAG_W,DELC14,DELC14_FLAG_W,C14ERR,DOC,DOC_FLAG_W,TDN,TDN_FLAG_W,N2O,N2O_FLAG_W,CDOM325,CDOM325_FLAG_W,CDOM340,CDOM340_FLAG_W,CDOM380,CDOM380_FLAG_W,CDOM412,CDOM412_FLAG_W,CDOM443,CDOM443_FLAG_W,CDOM490,CDOM490_FLAG_W,CDOM555,CDOM555_FLAG_W,CDOMSL,CDOMSL_FLAG_W,CDOMSN,CDOMSN_FLAG_W,CCL4,CCL4_FLAG_W,14C-DOC,14C-DOC_FLAG_W,14C-DOCERR,13C-DOC,13C-DOC_FLAG_W,13C-DOCERR,BTL_DATE,BTL_TIME
,,,,,,,,,,,METERS,DBAR,ITS-90,PSS-78,,PSS-78,,UMOL/KG,,UMOL/KG,,UMOL/KG,,UMOL/KG,,UMOL/KG,,UMOL/KG,,PMOL/KG,,PMOL/KG,,FMOL/KG,,UMOL/KG,,UMOL/KG,,UATM,,DEG C,,,DEG C,/MILLE,,/MILLE,,/MILLE,UMOL/KG,,UMOL/KG,,NMOL/KG,,1/M,,1/M,,1/M,,1/M,,1/M,,1/M,,1/M,,1/NM,,1/NM,,PMOL/KG,,/MILLE,,/MILLE,/MILLE,,/MILLE,,
33RO20130803,       A16N,      77,          1,         24,         24,2,20130905,       0608,    27.4998,   -24.7842,       5212,     3.3,  24.1058,  37.2637,2,  37.2632,2,    208.1,2,   209.9,2,    0.50,2,    0.00,2,    0.00,2,    0.00,2,   1.788,2,   1.104,2,   1.301,2,  2118.7,6,  2437.8,2,  -999.0,9, -999.00,   8.0265,2,    25.00,    0.93,2,    57.4,2,     0.2,    68.6,2,    3.81,2,      6.551,2,-999.0000,9,-999.0000,9,-999.0000,9,-999.0000,9,-999.0000,9,-999.0000,9,-999.0000,9,-999.0000,9,-999.0000,9,     -999.0,5,  -999.0,9,     -999.0,     -999.0,9,     -999.0,20130905,       0812
33RO20130803,       A16N,      77,          1,         23,         23,2,20130905,       0608,    27.4998,   -24.7842,       5212,    18.6,  24.1163,  37.2635,2,  37.2655,2,    208.5,2,   209.8,2,    0.50,2,    0.00,2,    0.00,2,    0.00,2,   1.779,6,   1.103,6,   1.307,6,  2118.0,2,  2434.4,2,  -999.0,9, -999.00,   8.0239,2,    25.00,    0.91,2,    56.6,2,     0.2,   67.96,2,    3.57,2,      6.542,6,-999.0000,9,-999.0000,9,-999.0000,9,-999.0000,9,-999.0000,9,-999.0000,9,-999.0000,9,-999.0000,9,-999.0000,9,     -999.0,5,  -999.0,9,     -999.0,     -999.0,9,     -999.0,20130905,       0810
33RO20130803,       A16N,      77,          1,         22,         22,2,20130905,       0608,    27.4998,   -24.7842,       5212,    38.6,  24.1088,  37.2630,2,  37.2618,2,    209.1,2,   212.3,2,    0.50,2,    0.00,2,    0.00,2,    0.00,2,-999.000,9,-999.000,9,-999.000,9,  2117.4,2,  2435.2,6,  -999.0,9, -999.00,   8.0253,2,    25.00,    0.96,2,    61.3,2,     0.2,   67.94,2,    2.93,2,     -999.0,9,-999.0000,9,-999.0000,9,-999.0000,9,-999.0000,9,-999.0000,9,-999.0000,9,-999.0000,9,-999.0000,9,-999.0000,9,     -999.0,9,  -999.0,9,     -999.0,     -999.0,9,     -999.0,20130905,       0808
33RO20130803,       A16N,      77,          1,         21,         21,2,20130905,       0608,    27.4998,   -24.7842,       5212,    58.3,  22.3455,  37.1921,2,  37.1960,2,    223.4,2,   224.6,2,    0.50,2,    0.00,2,    0.00,2,    0.01,2,   1.961,2,   1.207,2,   1.362,2,  2115.4,2,  -999.0,5,  -999.0,9, -999.00,   8.0226,2,    25.00,    1.00,2,    53.6,2,     0.2,   67.92,2,    3.87,2,      7.073,2,-999.0000,9,-999.0000,9,-999.0000,9,-999.0000,9,-999.0000,9,-999.0000,9,-999.0000,9,-999.0000,9,-999.0000,9,     -999.0,5,  -999.0,9,     -999.0,     -999.0,9,     -999.0,20130905,       0806
33RO20130803,       A16N,      77,          1,         20,         20,2,20130905,       0608,    27.4998,   -24.7842,       5212,    88.6,  20.7778,  37.0029,2,  37.0388,2,    226.3,2,     225,2,    0.50,2,    0.00,2,    0.00,2,    0.01,2,-999.000,9,-999.000,9,-999.000,9,  2114.8,2,  2427.1,2,  -999.0,9, -999.00,   8.0139,2,    25.00,    0.89,2,    63.6,2,     0.2,   62.32,2,    4.03,2,     -999.0,9,-999.0000,9,-999.0000,9,-999.0000,9,-999.0000,9,-999.0000,9,-999.0000,9,-999.0000,9,-999.0000,9,-999.0000,9,     -999.0,9,  -999.0,9,     -999.0,     -999.0,9,     -999.0,20130905,       0804
33RO20130803,       A16N,      77,          1,         19,         19,2,20130905,       0608,    27.4998,   -24.7842,       5212,   123.4,  19.7791,  36.9611,2,  36.9621,2,    207.8,2,   208.3,2,    0.60,2,    0.30,2,    0.07,2,    0.03,2,-999.000,9,-999.000,9,-999.000,9,  -999.0,5,  2414.9,2,  -999.0,9, -999.00,   7.9836,2,    25.00,    0.69,2,    68.9,2,     0.2,   56.56,2,    4.54,2,     -999.0,9,-999.0000,9,-999.0000,9,-999.0000,9,-999.0000,9,-999.0000,9,-999.0000,9,-999.0000,9,-999.0000,9,-999.0000,9,     -999.0,9,  -999.0,9,     -999.0,     -999.0,9,     -999.0,20130905,       0801
33RO20130803,       A16N,      77,          1,         18,         18,2,20130905,       0608,    27.4998,   -24.7842,       5212,   198.6,  17.9801,  36.6517,2,  36.6514,2,    194.5,2,     195,2,    1.30,2,    4.50,2,    0.01,2,    0.24,2,   2.292,2,   1.365,2,   1.338,2,  2142.3,2,  2395.6,2,  -999.0,9, -999.00,   7.9354,2,    25.00,    0.58,2,    68.0,2,     0.2,   51.58,2,    6.98,2,      9.239,2,-999.0000,9,-999.0000,9,-999.0000,9,-999.0000,9,-999.0000,9,-999.0000,9,-999.0000,9,-999.0000,9,-999.0000,9,     -999.0,5,  -999.0,9,     -999.0,     -999.0,9,     -999.0,20130905,       0758
33RO20130803,       A16N,      77,          1,         17,         17,2,20130905,       0608,    27.4998,   -24.7842,       5212,   273.8,  16.5253,  36.3527,2,  36.3518,2,    196.2,2,   196.5,2,    2.00,2,    6.50,2,    0.01,2,    0.37,2,-999.000,9,-999.000,9,-999.000,9,  2140.4,2,  2374.9,2,  -999.0,9, -999.00,   7.9087,2,    25.00,    0.46,2,    50.7,3,     0.2,   49.89,2,    8.72,2,     -999.0,9,-999.0000,9,-999.0000,9,-999.0000,9,-999.0000,9,-999.0000,9,-999.0000,9,-999.0000,9,-999.0000,9,-999.0000,9,     -999.0,9,  -999.0,9,     -999.0,     -999.0,9,     -999.0,20130905,       0755
33RO20130803,       A16N,      77,          1,         16,         16,2,20130905,       0608,    27.4998,   -24.7842,       5212,   373.4,  14.7295,  36.0332,2,  36.0222,2,    194.1,2,   193.5,2,    3.10,2,    9.60,2,    0.01,2,    0.58,2,-999.000,9,-999.000,9,-999.000,9,  2149.0,2,  2362.6,2,  -999.0,9, -999.00,   7.8593,2,    25.00,    0.61,2,    64.5,2,     0.2,   49.01,2,   11.93,2,     -999.0,9,-999.0000,9,-999.0000,9,-999.0000,9,-999.0000,9,-999.0000,9,-999.0000,9,-999.0000,9,-999.0000,9,-999.0000,9,     -999.0,9,  -999.0,9,     -999.0,     -999.0,9,     -999.0,20130905,       0751
33RO20130803,       A16N,      77,          1,         15,         15,2,20130905,       0608,    27.4998,   -24.7842,       5212,   468.4,  13.2977,  35.8065,2,  35.8056,2,    191.6,2,   192.3,2,    4.30,2,   12.10,2,    0.01,2,    0.73,2,-999.000,9,-999.000,9,-999.000,9,  2157.5,2,  2331.0,3,  -999.0,9, -999.00,   7.8222,6,    25.00,    0.47,2,    52.1,2,     0.2,   46.73,2,   14.44,2,     -999.0,9,-999.0000,9,-999.0000,9,-999.0000,9,-999.0000,9,-999.0000,9,-999.0000,9,-999.0000,9,-999.0000,9,-999.0000,9,     -999.0,9,  -999.0,9,     -999.0,     -999.0,9,     -999.0,20130905,       0747
33RO20130803,       A16N,      77,          1,         14,         14,2,20130905,       0608,    27.4998,   -24.7842,       5212,   548.2,  12.6195,  35.7170,2,  35.7159,2,    190.1,2,   189.2,2,    5.00,2,   13.50,2,    0.01,2,    0.82,2,   2.592,2,   1.436,2,   1.084,2,  2161.0,2,  2345.3,6,  -999.0,9, -999.00,   7.8013,2,    25.00,    0.58,2,    51.6,2,     0.2,   45.87,2,    15.5,2,     13.543,2,-999.0000,9,-999.0000,9,-999.0000,9,-999.0000,9,-999.0000,9,-999.0000,9,-999.0000,9,-999.0000,9,-999.0000,9,     -999.0,5,  -999.0,9,     -999.0,     -999.0,9,     -999.0,20130905,       0744
33RO20130803,       A16N,      77,          1,         13,         13,2,20130905,       0608,    27.4998,   -24.7842,       5212,   678.4,  11.2836,  35.5658,2,  35.5693,2,    171.6,2,     170,2,    7.70,2,   17.60,2,    0.00,2,    1.09,2,-999.000,9,-999.000,9,-999.000,9,  -999.0,9,  -999.0,9,  -999.0,9, -999.00,-999.0000,9,  -999.00,    0.57,2,    28.8,2,     0.2,   44.79,2,   19.85,2,     -999.0,9,-999.0000,9,-999.0000,9,-999.0000,9,-999.0000,9,-999.0000,9,-999.0000,9,-999.0000,9,-999.0000,9,-999.0000,9,     -999.0,9,  -999.0,9,     -999.0,     -999.0,9,     -999.0,20130905,       0740
33RO20130803,       A16N,      77,          1,         12,         12,2,20130905,       0608,    27.4998,   -24.7842,       5212,   828.8,   9.7575,  35.4424,2,  35.4425,2,    152.5,2,   151.8,2,   12.00,2,   22.10,2,    0.00,2,    1.40,2,   1.273,2,   0.659,2,   0.302,2,  2198.0,2,  2330.1,2,  -999.0,9, -999.00,   7.6965,2,    25.00,    0.39,4,   -26.3,2,     0.2,   43.34,2,   24.77,2,     18.517,2,-999.0000,9,-999.0000,9,-999.0000,9,-999.0000,9,-999.0000,9,-999.0000,9,-999.0000,9,-999.0000,9,-999.0000,9,     -999.0,5,  -999.0,9,     -999.0,     -999.0,9,     -999.0,20130905,       0736
33RO20130803,       A16N,      77,          1,         11,         11,2,20130905,       0608,    27.4998,   -24.7842,       5212,   999.2,   8.1444,  35.3460,2,  35.3481,2,    156.9,2,     157,2,   15.60,2,   23.70,2,    0.00,2,    1.54,2,-999.000,9,-999.000,9,-999.000,9,  2203.8,6,  2336.7,2,  -999.0,9, -999.00,   7.6791,2,    25.00,    0.73,2,   -50.5,2,     0.2,   42.48,2,    25.8,2,     -999.0,9,-999.0000,9,-999.0000,9,-999.0000,9,-999.0000,9,-999.0000,9,-999.0000,9,-999.0000,9,-999.0000,9,-999.0000,9,     -999.0,9,  -999.0,9,     -999.0,     -999.0,9,     -999.0,20130905,       0732
33RO20130803,       A16N,      77,          1,         10,         10,2,20130905,       0608,    27.4998,   -24.7842,       5212,  1148.6,   7.6889,  35.3865,2,  35.3857,2,    171.9,2,   172.8,2,   15.70,2,   22.40,2,    0.00,2,    1.46,2,-999.000,9,-999.000,9,-999.000,9,  2202.2,2,  2336.1,2,  -999.0,9, -999.00,   7.7007,2,    25.00,    0.79,2,   -50.9,2,     0.2,   41.82,2,   24.71,2,     -999.0,9,-999.0000,9,-999.0000,9,-999.0000,9,-999.0000,9,-999.0000,9,-999.0000,9,-999.0000,9,-999.0000,9,-999.0000,9,     -999.0,9,  -999.0,9,     -999.0,     -999.0,9,     -999.0,20130905,       0728
33RO20130803,       A16N,      77,          1,          9,          9,2,20130905,       0608,    27.4998,   -24.7842,       5212,  1425.2,   6.5135,  35.3462,2,  35.3472,2,    200.1,2,     200,2,   16.10,2,   20.50,2,    0.00,2,    1.35,2,-999.000,9,-999.000,9,-999.000,9,  2192.8,2,  2338.8,2,  -999.0,9, -999.00,   7.7219,2,    25.00,    0.74,2,   -58.9,2,     0.2,   41.49,2,   23.11,2,     -999.0,9,-999.0000,9,-999.0000,9,-999.0000,9,-999.0000,9,-999.0000,9,-999.0000,9,-999.0000,9,-999.0000,9,-999.0000,9,     -999.0,9,  -999.0,9,     -999.0,     -999.0,9,     -999.0,20130905,       0722
33RO20130803,       A16N,      77,          1,          8,          8,2,20130905,       0608,    27.4998,   -24.7842,       5212,  1848.5,   4.6642,  35.1443,2,  35.1447,2,    220.7,2,   221.4,2,   21.60,2,   20.70,2,    0.00,2,    1.38,2,-999.000,9,-999.000,9,-999.000,9,  2189.0,2,  2333.1,2,  -999.0,9, -999.00,   7.7227,2,    25.00,    0.89,2,   -83.2,2,     0.2,    41.3,2,   22.92,2,     -999.0,9,-999.0000,9,-999.0000,9,-999.0000,9,-999.0000,9,-999.0000,9,-999.0000,9,-999.0000,9,-999.0000,9,-999.0000,9,     -999.0,9,  -999.0,9,     -999.0,     -999.0,9,     -999.0,20130905,       0713
33RO20130803,       A16N,      77,          1,          7,          7,2,20130905,       0608,    27.4998,   -24.7842,       5212,  2248.7,   3.6994,  35.0367,2,  35.0380,2,    236.2,2,   235.9,2,   25.20,2,   20.20,2,    0.00,2,    1.38,2,   0.125,6,   0.065,6,   0.000,6,  2185.2,2,  2334.2,2,  -999.0,9, -999.00,   7.7262,2,    25.00,    1.00,2,   -88.6,2,     0.2,   41.06,2,   22.49,2,     13.625,6,-999.0000,9,-999.0000,9,-999.0000,9,-999.0000,9,-999.0000,9,-999.0000,9,-999.0000,9,-999.0000,9,-999.0000,9,     -999.0,5,  -999.0,9,     -999.0,     -999.0,9,     -999.0,20130905,       0705
33RO20130803,       A16N,      77,          1,          6,          6,2,20130905,       0608,    27.4998,   -24.7842,       5212,  2648.0,   3.0451,  34.9695,2,  34.9745,4,    242.1,2,   243.3,2,   30.30,2,   20.30,2,    0.01,2,    1.39,2,-999.000,9,-999.000,9,-999.000,9,  2186.7,2,  2316.2,3,  -999.0,9, -999.00,   7.7291,2,    25.00, -999.00,9,  -999.0,9,  -999.0,    40.3,2,   22.54,2,     -999.0,9,-999.0000,9,-999.0000,9,-999.0000,9,-999.0000,9,-999.0000,9,-999.0000,9,-999.0000,9,-999.0000,9,-999.0000,9,     -999.0,9,  -999.0,9,     -999.0,     -999.0,9,     -999.0,20130905,       0658
33RO20130803,       A16N,      77,          1,          5,          5,2,20130905,       0608,    27.4998,   -24.7842,       5212,  3149.0,   2.6532,  34.9301,2,  34.9294,2,    243.3,2,   244.6,2,   36.70,2,   21.00,2,    0.00,2,    1.44,2,-999.000,9,-999.000,9,-999.000,9,  -999.0,9,  -999.0,9,  -999.0,9, -999.00,-999.0000,9,  -999.00,    0.89,6,  -114.4,6,     0.9,    40.2,2,   23.74,2,     -999.0,9,-999.0000,9,-999.0000,9,-999.0000,9,-999.0000,9,-999.0000,9,-999.0000,9,-999.0000,9,-999.0000,9,-999.0000,9,     -999.0,9,  -999.0,9,     -999.0,     -999.0,9,     -999.0,20130905,       0648
33RO20130803,       A16N,      77,          1,          4,          4,2,20130905,       0608,    27.4998,   -24.7842,       5212,  3648.9,   2.4831,  34.9090,2,  34.9095,2,    242.4,2,   243.9,2,   41.40,6,   21.70,6,    0.00,6,    1.48,6,   0.008,2,   0.007,2,   0.000,2,  2196.4,2,  2346.7,6,  -999.0,9, -999.00,   7.7259,6,    25.00,    0.99,2,  -112.0,2,     0.2,   40.41,2,   24.18,2,     13.525,2,-999.0000,9,-999.0000,9,-999.0000,9,-999.0000,9,-999.0000,9,-999.0000,9,-999.0000,9,-999.0000,9,-999.0000,9,     -999.0,5,  -999.0,9,     -999.0,     -999.0,9,     -999.0,20130905,       0639
33RO20130803,       A16N,      77,          1,          3,          3,2,20130905,       0608,    27.4998,   -24.7842,       5212,  4148.0,   2.4174,  34.8974,2,  34.8965,2,    242.2,2,   243.8,2,   44.00,6,   22.00,6,    0.00,6,    1.50,6,-999.000,9,-999.000,9,-999.000,9,  -999.0,9,  -999.0,9,  -999.0,9, -999.00,-999.0000,9,  -999.00,    0.95,2,  -114.4,2,     0.3,   40.27,2,   24.47,2,     -999.0,9,-999.0000,9,-999.0000,9,-999.0000,9,-999.0000,9,-999.0000,9,-999.0000,9,-999.0000,9,-999.0000,9,-999.0000,9,     -999.0,9,  -999.0,9,     -999.0,     -999.0,9,     -999.0,20130905,       0630
33RO20130803,       A16N,      77,          1,          2,          2,2,20130905,       0608,    27.4998,   -24.7842,       5212,  4647.8,   2.3868,  34.8884,2,  34.8887,2,    242.3,2,   243.9,2,   46.00,6,   22.20,6,    0.00,6,    1.51,6,-999.000,9,-999.000,9,-999.000,9,  2200.9,2,  2351.3,2,  -999.0,9, -999.00,   7.7255,2,    25.00,    0.96,2,  -114.9,2,     0.2,   40.35,2,   24.58,2,     -999.0,9,-999.0000,9,-999.0000,9,-999.0000,9,-999.0000,9,-999.0000,9,-999.0000,9,-999.0000,9,-999.0000,9,-999.0000,9,     -999.0,9,  -999.0,9,     -999.0,     -999.0,9,     -999.0,20130905,       0620
33RO20130803,       A16N,      77,          1,          1,          1,2,20130905,       0608,    27.4998,   -24.7842,       5212,  5287.8,   2.4434,  34.8848,2,  34.8851,2,    243.8,2,   244.4,2,   46.60,6,   22.20,6,    0.00,6,    1.51,6,   0.005,2,   0.006,2,   0.000,2,  2202.3,6,  2346.3,2,  -999.0,9, -999.00,   7.7252,2,    25.00,    0.97,2,  -116.2,2,     0.2,   40.39,2,   24.25,2,     13.795,2,-999.0000,9,-999.0000,9,-999.0000,9,-999.0000,9,-999.0000,9,-999.0000,9,-999.0000,9,-999.0000,9,-999.0000,9,     -999.0,5,  -999.0,9,     -999.0,     -999.0,9,     -999.0,20130905,       0608