BOTTLE,20220815CCHSIOAMB
EXPOCODE,SECT_ID,STNNBR,CASTNO,SAMPNO,BTLNBR,BTLNBR_FLAG_W,DATE,TIME,LATITUDE,LONGITUDE,DEPTH,CTDPRS,CTDTMP,CTDSAL,CTDSAL_FLAG_W,SALNTY,SALNTY_FLAG_W,CTDOXY,CTDOXY_FLAG_W,OXYGEN,OXYGEN_FLAG_W,SILCAT,SILCAT_FLAG_W,NITRAT,NITRAT_FLAG_W,NITRIT,NITRIT_FLAG_W,PHSPHT,PHSPHT_FLAG_W,CFC-11,CFC-11_FLAG_W,CFC-12,CFC-12_FLAG_W,SF6,SF6_FLAG_W,TCARBN,TCARBN_FLAG_W,ALKALI,ALKALI_FLAG_W,PCO2,PCO2_FLAG_W,PCO2TMP,PH_SWS,PH_SWS_FLAG_W,PH_TMP,DELC13,DELC13_FLAG_W,DELC14,DELC14_FLAG_W,C14ERR,DOC,DOC_FLAG_W,TDN,TDN_FLAG_W,N2O,N2O_FLAG_W,CDOM325,CDOM325_FLAG_W,CDOM340,CDOM340_FLAG_W,CDOM380,CDOM380_FLAG_W,CDOM412,CDOM412_FLAG_W,CDOM443,CDOM443_FLAG_W,CDOM490,CDOM490_FLAG_W,CDOM555,CDOM555_FLAG_W,CDOMSL,CDOMSL_FLAG_W,CDOMSN,CDOMSN_FLAG_W,CCL4,CCL4_FLAG_W,14C-DOC,14C-DOC_FLAG_W,14C-DOCERR,13C-DOC,13C-DOC_FLAG_W,13C-DOCERR,BTL_DATE,BTL_TIME
,,,,,,,,,,,METERS,DBAR,ITS-90,PSS-78,,PSS-78,,UMOL/KG,,UMOL/KG,,UMOL/KG,,UMOL/KG,,UMOL/KG,,UMOL/KG,,PMOL/KG,,PMOL/KG,,FMOL/KG,,UMOL/KG,,UMOL/KG,,UATM,,DEG C,,,DEG C,/MILLE,,/MILLE,,/MILLE,UMOL/KG,,UMOL/KG,,NMOL/KG,,1/M,,1/M,,1/M,,1/M,,1/M,,1/M,,1/M,,1/NM,,1/NM,,PMOL/KG,,/MILLE,,/MILLE,/MILLE,,/MILLE,,
33RO20130803,       A16N,      32,          1,         24,         24,2,20130810,       1927,    49.5084,   -20.0015,       3919,     2.8,  16.8724,  35.4562,2,  35.4602,2,    241.7,2,   246.5,2,    0.50,2,    0.00,2,    0.01,2,    0.05,2,   2.513,2,   1.518,2,   1.742,2,  2062.0,2,  2340.3,2,   375.3,2,      20,   7.9889,2,    25.00, -999.00,9,  -999.0,9,  -999.0,   68.13,2,    5.06,2,      8.348,2,-999.0000,9,-999.0000,9,-999.0000,9,-999.0000,9,-999.0000,9,-999.0000,9,-999.0000,9,-999.0000,9,-999.0000,9,     -999.0,5,  -999.0,9,     -999.0,     -999.0,9,     -999.0,20130810,       2104
33RO20130803,       A16N,      32,          1,         23,         23,2,20130810,       1927,    49.5084,   -20.0015,       3919,    31.7,  15.2440,  35.5041,2,  35.5106,2,    244.7,2,   247.1,2,    0.50,2,    0.60,2,    0.06,2,    0.16,2,-999.000,9,-999.000,9,-999.000,9,  -999.0,9,  -999.0,9,  -999.0,9, -999.00,-999.0000,9,  -999.00, -999.00,9,  -999.0,9,  -999.0,   58.55,2,     5.3,2,     -999.0,9,-999.0000,9,-999.0000,9,-999.0000,9,-999.0000,9,-999.0000,9,-999.0000,9,-999.0000,9,-999.0000,9,-999.0000,9,     -999.0,9,  -999.0,9,     -999.0,     -999.0,9,     -999.0,20130810,       2102
33RO20130803,       A16N,      32,          1,         22,         22,2,20130810,       1927,    49.5084,   -20.0015,       3919,    62.0,  13.1742,  35.5195,2,  35.5196,2,    249.0,2,   248.6,2,    0.80,2,    4.50,2,    0.90,2,    0.41,2,-999.000,9,-999.000,9,-999.000,9,  2122.8,2,  2340.5,6,   501.6,2,      20,   7.8806,2,    25.00, -999.00,9,  -999.0,9,  -999.0,   53.81,2,   10.68,2,     -999.0,9,-999.0000,9,-999.0000,9,-999.0000,9,-999.0000,9,-999.0000,9,-999.0000,9,-999.0000,9,-999.0000,9,-999.0000,9,     -999.0,9,  -999.0,9,     -999.0,     -999.0,9,     -999.0,20130810,       2100
33RO20130803,       A16N,      32,          1,         21,         21,2,20130810,       1927,    49.5084,   -20.0015,       3919,    87.5,  12.4428,  35.5055,2,  35.5096,2,    250.6,2,   252.3,2,    1.20,2,    6.70,2,    0.72,2,    0.48,2,   3.056,2,   1.796,2,   2.007,2,  -999.0,9,  -999.0,9,  -999.0,9, -999.00,-999.0000,9,  -999.00, -999.00,9,  -999.0,9,  -999.0,   52.92,2,   11.48,2,      9.925,2,-999.0000,9,-999.0000,9,-999.0000,9,-999.0000,9,-999.0000,9,-999.0000,9,-999.0000,9,-999.0000,9,-999.0000,9,     -999.0,5,  -999.0,9,     -999.0,     -999.0,9,     -999.0,20130810,       2058
33RO20130803,       A16N,      32,          1,         20,         20,2,20130810,       1927,    49.5084,   -20.0015,       3919,   111.7,  12.0813,  35.4905,2,  35.4948,2,    253.5,2,   255.7,2,    1.30,2,    7.60,2,    0.22,2,    0.50,2,-999.000,9,-999.000,9,-999.000,9,  2132.4,2,  2337.0,2,   535.0,2,      20,   7.8561,2,    25.00, -999.00,9,  -999.0,9,  -999.0,   51.64,2,   10.57,2,     -999.0,9,-999.0000,9,-999.0000,9,-999.0000,9,-999.0000,9,-999.0000,9,-999.0000,9,-999.0000,9,-999.0000,9,-999.0000,9,     -999.0,9,  -999.0,9,     -999.0,     -999.0,9,     -999.0,20130810,       2056
33RO20130803,       A16N,      32,          1,         19,         19,2,20130810,       1927,    49.5084,   -20.0015,       3919,   136.6,  11.8988,  35.4835,2,  35.4826,2,    256.0,2,     255,2,    1.60,2,    8.10,2,    0.01,2,    0.52,2,-999.000,9,-999.000,9,-999.000,9,  -999.0,9,  -999.0,9,  -999.0,9, -999.00,-999.0000,9,  -999.00, -999.00,9,  -999.0,9,  -999.0,   50.86,2,   11.03,2,     -999.0,9,-999.0000,9,-999.0000,9,-999.0000,9,-999.0000,9,-999.0000,9,-999.0000,9,-999.0000,9,-999.0000,9,-999.0000,9,     -999.0,9,  -999.0,9,     -999.0,     -999.0,9,     -999.0,20130810,       2054
33RO20130803,       A16N,      32,          1,         18,         18,2,20130810,       1927,    49.5084,   -20.0015,       3919,   161.3,  11.7175,  35.4738,2,  35.4786,2,    256.0,2,   254.8,2,    1.90,2,    8.50,2,    0.01,2,    0.54,2,-999.000,9,-999.000,9,-999.000,9,  2132.7,2,  2333.6,2,   549.5,6,      20,   7.8439,2,    25.00, -999.00,9,  -999.0,9,  -999.0,   50.47,2,   12.19,2,     -999.0,9,-999.0000,9,-999.0000,9,-999.0000,9,-999.0000,9,-999.0000,9,-999.0000,9,-999.0000,9,-999.0000,9,-999.0000,9,     -999.0,9,  -999.0,9,     -999.0,     -999.0,9,     -999.0,20130810,       2052
33RO20130803,       A16N,      32,          1,         17,         17,2,20130810,       1927,    49.5084,   -20.0015,       3919,   223.6,  11.3608,  35.4485,2,  35.4473,2,    249.6,2,   246.7,2,    3.50,6,    9.90,6,    0.01,6,    0.64,6,   3.083,2,   1.794,2,   1.931,2,  -999.0,9,  -999.0,9,  -999.0,9, -999.00,-999.0000,9,  -999.00, -999.00,9,  -999.0,9,  -999.0,   50.25,2,   11.93,2,     10.814,2,-999.0000,9,-999.0000,9,-999.0000,9,-999.0000,9,-999.0000,9,-999.0000,9,-999.0000,9,-999.0000,9,-999.0000,9,     -999.0,5,  -999.0,9,     -999.0,     -999.0,9,     -999.0,20130810,       2050
33RO20130803,       A16N,      32,          1,         16,         16,2,20130810,       1927,    49.5084,   -20.0015,       3919,   311.6,  10.8529,  35.3954,2,  35.3966,2,    229.3,2,   229.6,2,    5.20,6,   12.20,6,    0.01,6,    0.78,6,-999.000,9,-999.000,9,-999.000,9,  -999.0,9,  -999.0,9,  -999.0,9, -999.00,-999.0000,9,  -999.00, -999.00,9,  -999.0,9,  -999.0,   49.18,2,   14.08,2,     -999.0,9,-999.0000,9,-999.0000,9,-999.0000,9,-999.0000,9,-999.0000,9,-999.0000,9,-999.0000,9,-999.0000,9,-999.0000,9,     -999.0,9,  -999.0,9,     -999.0,     -999.0,9,     -999.0,20130810,       2047
33RO20130803,       A16N,      32,          1,         15,         15,2,20130810,       1927,    49.5084,   -20.0015,       3919,   383.0,  11.0028,  35.4700,2,  35.4727,2,    228.0,2,   238.2,2,    4.50,6,   11.30,6,    0.01,6,    0.72,6,   3.014,2,   1.755,2,   1.763,2,  2145.9,2,  2333.5,6,   607.4,2,      20,   7.8072,2,    25.00, -999.00,9,  -999.0,9,  -999.0,    48.7,2,   13.96,2,     11.902,2,-999.0000,9,-999.0000,9,-999.0000,9,-999.0000,9,-999.0000,9,-999.0000,9,-999.0000,9,-999.0000,9,-999.0000,9,     -999.0,5,  -999.0,9,     -999.0,     -999.0,9,     -999.0,20130810,       2045
33RO20130803,       A16N,      32,          1,         14,         14,2,20130810,       1927,    49.5084,   -20.0015,       3919,   435.3,  10.9324,  35.4725,2,  35.4751,2,    225.8,2,   235.1,2,    4.80,2,   11.70,2,    0.01,2,    0.75,2,-999.000,9,-999.000,9,-999.000,9,  -999.0,9,  -999.0,9,  -999.0,9, -999.00,-999.0000,9,  -999.00, -999.00,9,  -999.0,9,  -999.0,   48.24,2,   14.67,2,     -999.0,9,-999.0000,9,-999.0000,9,-999.0000,9,-999.0000,9,-999.0000,9,-999.0000,9,-999.0000,9,-999.0000,9,-999.0000,9,     -999.0,9,  -999.0,9,     -999.0,     -999.0,9,     -999.0,20130810,       2043
33RO20130803,       A16N,      32,          1,         13,         13,2,20130810,       1927,    49.5084,   -20.0015,       3919,   537.1,  10.3542,  35.4150,2,  35.4138,2,    211.4,2,   211.5,2,    6.80,2,   14.70,2,    0.00,2,    0.93,2,   2.763,2,   1.574,2,   1.381,2,  -999.0,9,  -999.0,9,  -999.0,9, -999.00,-999.0000,9,  -999.00, -999.00,9,  -999.0,9,  -999.0,   47.53,2,   17.13,2,     14.221,2,-999.0000,9,-999.0000,9,-999.0000,9,-999.0000,9,-999.0000,9,-999.0000,9,-999.0000,9,-999.0000,9,-999.0000,9,     -999.0,5,  -999.0,9,     -999.0,     -999.0,9,     -999.0,20130810,       2040
33RO20130803,       A16N,      32,          1,         12,         12,2,20130810,       1927,    49.5084,   -20.0015,       3919,   698.6,   8.9843,  35.3158,2,  35.3065,2,    190.6,2,   191.5,2,    9.90,2,   18.30,2,    0.00,2,    1.17,2,   2.394,2,   1.309,2,   0.908,2,  2180.9,2,  2327.4,2,   768.2,2,      20,   7.7167,6,    25.00, -999.00,9,  -999.0,9,  -999.0,   46.61,2,   20.96,2,     16.389,2,-999.0000,9,-999.0000,9,-999.0000,9,-999.0000,9,-999.0000,9,-999.0000,9,-999.0000,9,-999.0000,9,-999.0000,9,     -999.0,5,  -999.0,9,     -999.0,     -999.0,9,     -999.0,20130810,       2036
33RO20130803,       A16N,      32,          1,         11,         11,2,20130810,       1927,    49.5084,   -20.0015,       3919,   873.9,   6.9018,  35.1681,2,  35.1677,2,    211.2,2,   212.8,2,   10.90,2,   18.70,2,    0.00,2,    1.21,2,-999.000,9,-999.000,9,-999.000,9,  -999.0,9,  -999.0,9,  -999.0,9, -999.00,-999.0000,9,  -999.00, -999.00,9,  -999.0,9,  -999.0,   45.95,2,   21.05,2,     -999.0,9,-999.0000,9,-999.0000,9,-999.0000,9,-999.0000,9,-999.0000,9,-999.0000,9,-999.0000,9,-999.0000,9,-999.0000,9,     -999.0,9,  -999.0,9,     -999.0,     -999.0,9,     -999.0,20130810,       2031
33RO20130803,       A16N,      32,          1,         10,         10,2,20130810,       1927,    49.5084,   -20.0015,       3919,  1024.1,   5.0872,  34.9782,2,  34.9822,2,    246.6,2,   248.7,2,   10.40,2,   17.80,2,    0.00,2,    1.17,2,   3.454,2,   1.867,2,   1.391,2,  -999.0,9,  -999.0,9,  -999.0,9, -999.00,-999.0000,9,  -999.00, -999.00,9,  -999.0,9,  -999.0,    45.2,2,   20.49,2,     14.593,2,-999.0000,9,-999.0000,9,-999.0000,9,-999.0000,9,-999.0000,9,-999.0000,9,-999.0000,9,-999.0000,9,-999.0000,9,     -999.0,5,  -999.0,9,     -999.0,     -999.0,9,     -999.0,20130810,       2027
33RO20130803,       A16N,      32,          1,          9,          9,2,20130810,       1927,    49.5084,   -20.0015,       3919,  1136.0,   4.7097,  34.9651,2,  34.9635,2,    259.2,2,   258.8,2,   10.10,2,   17.50,2,    0.00,2,    1.15,2,-999.000,9,-999.000,9,-999.000,9,  -999.0,9,  -999.0,9,  -999.0,9, -999.00,-999.0000,9,  -999.00, -999.00,9,  -999.0,9,  -999.0,   44.94,2,   19.64,2,     -999.0,9,-999.0000,9,-999.0000,9,-999.0000,9,-999.0000,9,-999.0000,9,-999.0000,9,-999.0000,9,-999.0000,9,-999.0000,9,     -999.0,9,  -999.0,9,     -999.0,     -999.0,9,     -999.0,20130810,       2024
33RO20130803,       A16N,      32,          1,          8,          8,2,20130810,       1927,    49.5084,   -20.0015,       3919,  1348.8,   4.2750,  34.9303,2,  34.9324,2,    269.5,2,   268.7,2,   10.00,2,   17.20,2,    0.00,2,    1.13,2,   3.869,2,   2.066,2,   1.463,2,  -999.0,9,  -999.0,9,  -999.0,9, -999.00,-999.0000,9,  -999.00, -999.00,9,  -999.0,9,  -999.0,   44.79,2,   19.68,2,     13.895,2,-999.0000,9,-999.0000,9,-999.0000,9,-999.0000,9,-999.0000,9,-999.0000,9,-999.0000,9,-999.0000,9,-999.0000,9,     -999.0,5,  -999.0,9,     -999.0,     -999.0,9,     -999.0,20130810,       2020
33RO20130803,       A16N,      32,          1,          7,          7,2,20130810,       1927,    49.5084,   -20.0015,       3919,  1675.4,   3.8793,  34.9212,2,  34.9220,2,    269.4,2,   272.8,2,   10.90,2,   17.30,2,    0.00,2,    1.14,2,-999.000,9,-999.000,9,-999.000,9,  -999.0,9,  -999.0,9,  -999.0,9, -999.00,-999.0000,9,  -999.00, -999.00,9,  -999.0,9,  -999.0,   44.55,2,   19.79,2,     -999.0,9,-999.0000,9,-999.0000,9,-999.0000,9,-999.0000,9,-999.0000,9,-999.0000,9,-999.0000,9,-999.0000,9,-999.0000,9,     -999.0,9,  -999.0,9,     -999.0,     -999.0,9,     -999.0,20130810,       2013
33RO20130803,       A16N,      32,          1,          6,          6,2,20130810,       1927,    49.5084,   -20.0015,       3919,  2097.9,   3.4970,  34.9173,2,  34.9185,2,    270.9,2,   272.1,2,   12.40,2,   17.30,2,    0.00,2,    1.14,2,   2.940,2,   1.453,2,   0.648,2,  -999.0,9,  -999.0,9,  -999.0,9, -999.00,-999.0000,9,  -999.00, -999.00,9,  -999.0,9,  -999.0,    44.3,2,   20.17,2,     13.398,2,-999.0000,9,-999.0000,9,-999.0000,9,-999.0000,9,-999.0000,9,-999.0000,9,-999.0000,9,-999.0000,9,-999.0000,9,     -999.0,5,  -999.0,9,     -999.0,     -999.0,9,     -999.0,20130810,       2005
33RO20130803,       A16N,      32,          1,          5,          5,2,20130810,       1927,    49.5084,   -20.0015,       3919,  2498.5,   3.2026,  34.9263,2,  34.9267,2,    270.5,2,   271.5,2,   15.10,2,   17.30,2,    0.00,2,    1.15,2,-999.000,9,-999.000,9,-999.000,9,  2164.2,2,  2309.3,6,   760.6,2,      20,   7.7186,2,    25.00, -999.00,9,  -999.0,9,  -999.0,   43.21,2,   20.06,2,     -999.0,9,-999.0000,9,-999.0000,9,-999.0000,9,-999.0000,9,-999.0000,9,-999.0000,9,-999.0000,9,-999.0000,9,-999.0000,9,     -999.0,9,  -999.0,9,     -999.0,     -999.0,9,     -999.0,20130810,       1957
33RO20130803,       A16N,      32,          1,          4,          4,2,20130810,       1927,    49.5084,   -20.0015,       3919,  2899.2,   2.9578,  34.9444,2,  34.9462,2,    257.5,2,   257.3,2,   25.40,6,   18.90,6,    0.00,6,    1.27,6,   1.200,2,   0.591,2,   0.260,2,  -999.0,9,  -999.0,9,  -999.0,9, -999.00,-999.0000,9,  -999.00, -999.00,9,  -999.0,9,  -999.0,   44.16,2,   21.49,2,     13.387,2,-999.0000,9,-999.0000,9,-999.0000,9,-999.0000,9,-999.0000,9,-999.0000,9,-999.0000,9,-999.0000,9,-999.0000,9,     -999.0,5,  -999.0,9,     -999.0,     -999.0,9,     -999.0,20130810,       1949
33RO20130803,       A16N,      32,          1,          3,          3,2,20130810,       1927,    49.5084,   -20.0015,       3919,  3298.0,   2.7342,  34.9346,2,  34.9345,2,    249.7,2,     251,2,   32.40,6,   19.90,6,    0.00,6,    1.34,6,-999.000,9,-999.000,9,-999.000,9,  -999.0,9,  -999.0,9,  -999.0,9, -999.00,-999.0000,9,  -999.00, -999.00,9,  -999.0,9,  -999.0,   44.15,2,   22.53,2,     -999.0,9,-999.0000,9,-999.0000,9,-999.0000,9,-999.0000,9,-999.0000,9,-999.0000,9,-999.0000,9,-999.0000,9,-999.0000,9,     -999.0,9,  -999.0,9,     -999.0,     -999.0,9,     -999.0,20130810,       1941
33RO20130803,       A16N,      32,          1,          2,          2,2,20130810,       1927,    49.5084,   -20.0015,       3919,  3699.3,   2.5977,  34.9191,2,  34.9260,4,    243.8,2,   243.6,2,   39.80,6,   21.30,6,    0.00,6,    1.43,6,   0.299,6,   0.149,6,   0.095,6,  -999.0,9,  -999.0,9,  -999.0,9, -999.00,-999.0000,9,  -999.00, -999.00,9,  -999.0,9,  -999.0,   44.05,2,   23.55,2,     13.590,6,-999.0000,9,-999.0000,9,-999.0000,9,-999.0000,9,-999.0000,9,-999.0000,9,-999.0000,9,-999.0000,9,-999.0000,9,     -999.0,5,  -999.0,9,     -999.0,     -999.0,9,     -999.0,20130810,       1933
33RO20130803,       A16N,      32,          1,          1,          1,2,20130810,       1927,    49.5084,   -20.0015,       3919,  3973.7,   2.5177,  34.9085,2,  34.9089,2,    240.1,2,   239.9,2,   43.90,6,   22.00,6,    0.00,6,    1.48,6,   0.101,2,   0.052,2,   0.054,2,  2201.9,2,  2354.0,2,   761.4,2,      20,   7.7250,2,    25.00, -999.00,9,  -999.0,9,  -999.0,   43.74,2,   24.53,2,     13.676,2,-999.0000,9,-999.0000,9,-999.0000,9,-999.0000,9,-999.0000,9,-999.0000,9,-999.0000,9,-999.0000,9,-999.0000,9,     -999.0,5,  -999.0,9,     -999.0,     -999.0,9,     -999.0,20130810,       1927