BOTTLE,20220815CCHSIOAMB
EXPOCODE,SECT_ID,STNNBR,CASTNO,SAMPNO,BTLNBR,BTLNBR_FLAG_W,DATE,TIME,LATITUDE,LONGITUDE,DEPTH,CTDPRS,CTDTMP,CTDSAL,CTDSAL_FLAG_W,SALNTY,SALNTY_FLAG_W,CTDOXY,CTDOXY_FLAG_W,OXYGEN,OXYGEN_FLAG_W,SILCAT,SILCAT_FLAG_W,NITRAT,NITRAT_FLAG_W,NITRIT,NITRIT_FLAG_W,PHSPHT,PHSPHT_FLAG_W,CFC-11,CFC-11_FLAG_W,CFC-12,CFC-12_FLAG_W,SF6,SF6_FLAG_W,TCARBN,TCARBN_FLAG_W,ALKALI,ALKALI_FLAG_W,PCO2,PCO2_FLAG_W,PCO2TMP,PH_SWS,PH_SWS_FLAG_W,PH_TMP,DELC13,DELC13_FLAG_W,DELC14,DELC14_FLAG_W,C14ERR,DOC,DOC_FLAG_W,TDN,TDN_FLAG_W,N2O,N2O_FLAG_W,CDOM325,CDOM325_FLAG_W,CDOM340,CDOM340_FLAG_W,CDOM380,CDOM380_FLAG_W,CDOM412,CDOM412_FLAG_W,CDOM443,CDOM443_FLAG_W,CDOM490,CDOM490_FLAG_W,CDOM555,CDOM555_FLAG_W,CDOMSL,CDOMSL_FLAG_W,CDOMSN,CDOMSN_FLAG_W,CCL4,CCL4_FLAG_W,14C-DOC,14C-DOC_FLAG_W,14C-DOCERR,13C-DOC,13C-DOC_FLAG_W,13C-DOCERR,BTL_DATE,BTL_TIME
,,,,,,,,,,,METERS,DBAR,ITS-90,PSS-78,,PSS-78,,UMOL/KG,,UMOL/KG,,UMOL/KG,,UMOL/KG,,UMOL/KG,,UMOL/KG,,PMOL/KG,,PMOL/KG,,FMOL/KG,,UMOL/KG,,UMOL/KG,,UATM,,DEG C,,,DEG C,/MILLE,,/MILLE,,/MILLE,UMOL/KG,,UMOL/KG,,NMOL/KG,,1/M,,1/M,,1/M,,1/M,,1/M,,1/M,,1/M,,1/NM,,1/NM,,PMOL/KG,,/MILLE,,/MILLE,/MILLE,,/MILLE,,
33RO20130803,       A16N,      73,          1,         24,         24,2,20130904,       2329,    29.5025,   -23.6518,       5247,     3.5,  23.8785,  37.0729,2,  37.0739,2,    211.0,2,   212.2,2,    0.40,2,    0.00,2,    0.00,2,    0.00,2,   1.791,2,   1.127,2,   1.332,2,  2115.0,6,  2422.1,4,  -999.0,9, -999.00,   8.0237,2,    25.00, -999.00,9,  -999.0,9,  -999.0,   64.74,2,    3.76,2,      6.613,2,-999.0000,9,-999.0000,9,-999.0000,9,-999.0000,9,-999.0000,9,-999.0000,9,-999.0000,9,-999.0000,9,-999.0000,9,     -999.0,5,  -999.0,9,     -999.0,     -999.0,9,     -999.0,20130904,       0127
33RO20130803,       A16N,      73,          1,         23,         23,2,20130904,       2329,    29.5025,   -23.6518,       5247,    23.4,  23.8718,  37.0729,2,  37.0727,2,    211.4,2,   212.6,2,    0.30,2,    0.00,2,    0.00,2,    0.00,2,-999.000,9,-999.000,9,-999.000,9,  2111.8,2,  2423.8,2,  -999.0,9, -999.00,   8.0252,2,    25.00, -999.00,9,  -999.0,9,  -999.0,   64.82,2,    4.55,2,     -999.0,9,-999.0000,9,-999.0000,9,-999.0000,9,-999.0000,9,-999.0000,9,-999.0000,9,-999.0000,9,-999.0000,9,-999.0000,9,     -999.0,9,  -999.0,9,     -999.0,     -999.0,9,     -999.0,20130904,       0125
33RO20130803,       A16N,      73,          1,         22,         22,2,20130904,       2329,    29.5025,   -23.6518,       5247,    48.0,  21.9699,  36.8537,2,  36.8370,2,    231.3,2,   233.4,2,    0.40,2,    0.00,2,    0.00,2,    0.00,2,-999.000,9,-999.000,9,-999.000,9,  2099.0,2,  -999.0,9,  -999.0,9, -999.00,   8.0253,2,    25.00, -999.00,9,  -999.0,9,  -999.0,   64.04,2,    4.39,2,     -999.0,9,-999.0000,9,-999.0000,9,-999.0000,9,-999.0000,9,-999.0000,9,-999.0000,9,-999.0000,9,-999.0000,9,-999.0000,9,     -999.0,9,  -999.0,9,     -999.0,     -999.0,9,     -999.0,20130904,       0123
33RO20130803,       A16N,      73,          1,         21,         21,2,20130904,       2329,    29.5025,   -23.6518,       5247,    73.4,  20.2173,  36.7757,2,  36.7747,2,    232.8,2,   233.6,2,    0.40,2,    0.00,2,    0.00,2,    0.00,2,   2.120,6,   1.308,6,   1.474,6,  2104.7,2,  2404.6,2,  -999.0,9, -999.00,   8.0113,2,    25.00, -999.00,9,  -999.0,9,  -999.0,   62.49,2,    3.76,2,      7.515,6,-999.0000,9,-999.0000,9,-999.0000,9,-999.0000,9,-999.0000,9,-999.0000,9,-999.0000,9,-999.0000,9,-999.0000,9,     -999.0,5,  -999.0,9,     -999.0,     -999.0,9,     -999.0,20130904,       0122
33RO20130803,       A16N,      73,          1,         20,         20,2,20130904,       2329,    29.5025,   -23.6518,       5247,    98.3,  19.4689,  36.7140,2,  36.7208,2,    229.1,2,   225.9,2,    0.50,2,    0.00,2,    0.00,2,    0.01,2,-999.000,9,-999.000,9,-999.000,9,  2109.6,2,  -999.0,9,  -999.0,9, -999.00,   7.9993,2,    25.00, -999.00,9,  -999.0,9,  -999.0,   59.55,2,    4.68,2,     -999.0,9,-999.0000,9,-999.0000,9,-999.0000,9,-999.0000,9,-999.0000,9,-999.0000,9,-999.0000,9,-999.0000,9,-999.0000,9,     -999.0,9,  -999.0,9,     -999.0,     -999.0,9,     -999.0,20130904,       0120
33RO20130803,       A16N,      73,          1,         19,         19,2,20130904,       2329,    29.5025,   -23.6518,       5247,   148.5,  18.3312,  36.5792,2,  36.5675,2,    210.1,2,   210.1,2,    0.90,2,    1.60,2,    0.05,2,    0.08,2,   2.250,2,   1.362,2,   1.473,2,  2121.5,2,  2388.9,2,  -999.0,9, -999.00,   7.9657,2,    25.00, -999.00,9,  -999.0,9,  -999.0,   54.57,2,     4.2,2,      8.300,2,-999.0000,9,-999.0000,9,-999.0000,9,-999.0000,9,-999.0000,9,-999.0000,9,-999.0000,9,-999.0000,9,-999.0000,9,     -999.0,5,  -999.0,9,     -999.0,     -999.0,9,     -999.0,20130904,       0117
33RO20130803,       A16N,      73,          1,         18,         18,2,20130904,       2329,    29.5025,   -23.6518,       5247,   223.3,  17.3562,  36.4585,2,  36.4565,2,    200.1,2,   198.5,2,    1.60,2,    5.10,2,    0.01,2,    0.27,2,-999.000,9,-999.000,9,-999.000,9,  2132.2,2,  2378.4,2,  -999.0,9, -999.00,   7.9327,6,    25.00, -999.00,9,  -999.0,9,  -999.0,   52.66,2,    7.63,2,     -999.0,9,-999.0000,9,-999.0000,9,-999.0000,9,-999.0000,9,-999.0000,9,-999.0000,9,-999.0000,9,-999.0000,9,-999.0000,9,     -999.0,9,  -999.0,9,     -999.0,     -999.0,9,     -999.0,20130904,       0115
33RO20130803,       A16N,      73,          1,         17,         17,2,20130904,       2329,    29.5025,   -23.6518,       5247,   298.8,  16.1956,  36.2556,2,  36.2555,2,    197.3,2,   197.9,2,    2.20,2,    7.00,2,    0.01,2,    0.40,2,   2.407,2,   1.429,2,   1.336,2,  2139.2,2,  2374.5,2,  -999.0,9, -999.00,   7.9049,2,    25.00, -999.00,9,  -999.0,9,  -999.0,   48.78,2,     9.7,2,     10.129,2,-999.0000,9,-999.0000,9,-999.0000,9,-999.0000,9,-999.0000,9,-999.0000,9,-999.0000,9,-999.0000,9,-999.0000,9,     -999.0,5,  -999.0,9,     -999.0,     -999.0,9,     -999.0,20130904,       0112
33RO20130803,       A16N,      73,          1,         16,         16,2,20130904,       2329,    29.5025,   -23.6518,       5247,   398.6,  14.9073,  36.0588,2,  36.0555,2,    199.1,2,   198.3,2,    2.80,2,    8.70,2,    0.01,2,    0.51,2,-999.000,9,-999.000,9,-999.000,9,  2147.1,2,  2363.7,2,  -999.0,9, -999.00,   7.8706,2,    25.00, -999.00,9,  -999.0,9,  -999.0,   47.62,2,   11.52,2,     -999.0,9,-999.0000,9,-999.0000,9,-999.0000,9,-999.0000,9,-999.0000,9,-999.0000,9,-999.0000,9,-999.0000,9,-999.0000,9,     -999.0,9,  -999.0,9,     -999.0,     -999.0,9,     -999.0,20130904,       0109
33RO20130803,       A16N,      73,          1,         15,         15,2,20130904,       2329,    29.5025,   -23.6518,       5247,   497.9,  13.5014,  35.8301,2,  36.0553,4,    196.5,2,   195.9,2,    4.00,2,   11.40,2,    0.01,2,    0.68,2,   2.586,2,   1.483,2,   1.209,2,  2154.7,2,  2349.2,2,  -999.0,9, -999.00,   7.8338,2,    25.00, -999.00,9,  -999.0,9,  -999.0,   46.43,2,    14.1,2,     12.260,2,-999.0000,9,-999.0000,9,-999.0000,9,-999.0000,9,-999.0000,9,-999.0000,9,-999.0000,9,-999.0000,9,-999.0000,9,     -999.0,5,  -999.0,9,     -999.0,     -999.0,9,     -999.0,20130904,       0107
33RO20130803,       A16N,      73,          1,         14,         14,2,20130904,       2329,    29.5025,   -23.6518,       5247,   648.0,  11.6342,  35.5929,2,  35.5910,2,    185.4,2,     184,2,    6.60,2,   15.70,2,    0.00,2,    0.95,2,-999.000,9,-999.000,9,-999.000,9,  2170.0,2,  2321.0,3,  -999.0,9, -999.00,   7.7728,2,    25.00, -999.00,9,  -999.0,9,  -999.0,   45.62,2,   18.11,2,     -999.0,9,-999.0000,9,-999.0000,9,-999.0000,9,-999.0000,9,-999.0000,9,-999.0000,9,-999.0000,9,-999.0000,9,-999.0000,9,     -999.0,9,  -999.0,9,     -999.0,     -999.0,9,     -999.0,20130904,       0103
33RO20130803,       A16N,      73,          1,         13,         13,2,20130904,       2329,    29.5025,   -23.6518,       5247,   797.8,  10.0229,  35.4844,2,  35.4849,2,    174.6,2,   173.8,2,    9.70,2,   19.00,2,    0.00,2,    1.18,2,   1.779,2,   0.942,2,   0.528,2,  -999.0,9,  -999.0,9,  -999.0,9, -999.00,-999.0000,9,  -999.00, -999.00,9,  -999.0,9,  -999.0,   44.25,2,   21.49,2,     16.288,2,-999.0000,9,-999.0000,9,-999.0000,9,-999.0000,9,-999.0000,9,-999.0000,9,-999.0000,9,-999.0000,9,-999.0000,9,     -999.0,5,  -999.0,9,     -999.0,     -999.0,9,     -999.0,20130904,       0059
33RO20130803,       A16N,      73,          1,         12,         12,2,20130904,       2329,    29.5025,   -23.6518,       5247,   948.4,   8.7912,  35.4715,2,  35.4745,2,    175.4,2,   174.9,2,   12.20,2,   20.40,2,    0.00,2,    1.29,2,-999.000,9,-999.000,9,-999.000,9,  2197.1,2,  2340.2,2,  -999.0,9, -999.00,   7.7209,2,    25.00, -999.00,9,  -999.0,9,  -999.0,   43.47,2,   22.37,2,     -999.0,9,-999.0000,9,-999.0000,9,-999.0000,9,-999.0000,9,-999.0000,9,-999.0000,9,-999.0000,9,-999.0000,9,-999.0000,9,     -999.0,9,  -999.0,9,     -999.0,     -999.0,9,     -999.0,20130904,       0055
33RO20130803,       A16N,      73,          1,         11,         11,2,20130904,       2329,    29.5025,   -23.6518,       5247,  1098.6,   8.0522,  35.4698,2,  35.4717,2,    184.6,2,     185,2,   13.00,2,   20.20,2,    0.00,2,    1.28,2,-999.000,9,-999.000,9,-999.000,9,  2196.2,6,  2333.2,2,  -999.0,9, -999.00,   7.7228,2,    25.00, -999.00,9,  -999.0,9,  -999.0,   42.81,2,   22.58,2,     -999.0,9,-999.0000,9,-999.0000,9,-999.0000,9,-999.0000,9,-999.0000,9,-999.0000,9,-999.0000,9,-999.0000,9,-999.0000,9,     -999.0,9,  -999.0,9,     -999.0,     -999.0,9,     -999.0,20130904,       0051
33RO20130803,       A16N,      73,          1,         10,         10,2,20130904,       2329,    29.5025,   -23.6518,       5247,  1298.8,   6.9574,  35.3893,2,  35.3891,2,    199.5,2,   200.7,2,   14.10,2,   19.90,2,    0.00,2,    1.28,2,   0.921,2,   0.470,2,   0.172,2,  2194.4,2,  2334.8,2,  -999.0,9, -999.00,   7.7228,2,    25.00, -999.00,9,  -999.0,9,  -999.0,   41.74,2,   22.29,2,     15.174,2,-999.0000,9,-999.0000,9,-999.0000,9,-999.0000,9,-999.0000,9,-999.0000,9,-999.0000,9,-999.0000,9,-999.0000,9,     -999.0,5,  -999.0,9,     -999.0,     -999.0,9,     -999.0,20130904,       0047
33RO20130803,       A16N,      73,          1,          9,          9,2,20130904,       2329,    29.5025,   -23.6518,       5247,  1599.4,   5.5076,  35.2459,2,  35.2466,2,    222.0,2,   221.7,2,   16.20,2,   19.50,2,    0.00,2,    1.27,2,   0.727,2,   0.363,2,   0.104,2,  2186.8,2,  -999.0,9,  -999.0,9, -999.00,   7.7269,2,    25.00, -999.00,9,  -999.0,9,  -999.0,   40.96,2,   21.96,2,     14.308,2,-999.0000,9,-999.0000,9,-999.0000,9,-999.0000,9,-999.0000,9,-999.0000,9,-999.0000,9,-999.0000,9,-999.0000,9,     -999.0,5,  -999.0,9,     -999.0,     -999.0,9,     -999.0,20130904,       0040
33RO20130803,       A16N,      73,          1,          8,          8,4,20130904,       2329,    29.5025,   -23.6518,       5247,  1998.4,   4.2528,  35.1010,2,  35.2555,4,    236.0,2,   229.2,4,   17.70,2,   18.40,2,    0.00,2,    1.20,2,-999.000,9,-999.000,9,-999.000,9,  -999.0,9,  -999.0,9,  -999.0,9, -999.00,-999.0000,9,  -999.00, -999.00,9,  -999.0,9,  -999.0,   40.22,2,   20.87,2,     -999.0,9,-999.0000,9,-999.0000,9,-999.0000,9,-999.0000,9,-999.0000,9,-999.0000,9,-999.0000,9,-999.0000,9,-999.0000,9,     -999.0,9,  -999.0,9,     -999.0,     -999.0,9,     -999.0,20130904,       0033
33RO20130803,       A16N,      73,          1,          7,          7,2,20130904,       2329,    29.5025,   -23.6518,       5247,  2398.1,   3.4487,  35.0093,2,  35.0101,2,    240.5,2,   239.2,2,   26.70,2,   20.40,2,    0.00,2,    1.36,2,-999.000,9,-999.000,9,-999.000,9,  2188.0,2,  -999.0,9,  -999.0,9, -999.00,   7.7278,2,    25.00, -999.00,9,  -999.0,9,  -999.0,   40.31,2,   22.89,2,     -999.0,9,-999.0000,9,-999.0000,9,-999.0000,9,-999.0000,9,-999.0000,9,-999.0000,9,-999.0000,9,-999.0000,9,-999.0000,9,     -999.0,9,  -999.0,9,     -999.0,     -999.0,9,     -999.0,20130904,       0025
33RO20130803,       A16N,      73,          1,          6,          6,2,20130904,       2329,    29.5025,   -23.6518,       5247,  2798.6,   2.9418,  34.9591,2,  34.9585,2,    243.7,2,     244,2,   31.50,2,   20.60,2,    0.00,2,    1.38,2,-999.000,9,-999.000,9,-999.000,9,  2191.2,2,  2333.8,2,  -999.0,9, -999.00,   7.7308,6,    25.00, -999.00,9,  -999.0,9,  -999.0,   40.35,2,   23.07,2,     -999.0,9,-999.0000,9,-999.0000,9,-999.0000,9,-999.0000,9,-999.0000,9,-999.0000,9,-999.0000,9,-999.0000,9,-999.0000,9,     -999.0,9,  -999.0,9,     -999.0,     -999.0,9,     -999.0,20130904,       0017
33RO20130803,       A16N,      73,          1,          5,          5,2,20130904,       2329,    29.5025,   -23.6518,       5247,  3347.8,   2.6094,  34.9248,2,  34.9257,2,    244.5,2,   243.4,2,   38.20,2,   21.40,2,    0.00,2,    1.43,2,   0.031,2,   0.021,2,   0.000,2,  -999.0,9,  -999.0,9,  -999.0,9, -999.00,-999.0000,9,  -999.00, -999.00,9,  -999.0,9,  -999.0,   40.38,2,   23.87,2,     13.356,2,-999.0000,9,-999.0000,9,-999.0000,9,-999.0000,9,-999.0000,9,-999.0000,9,-999.0000,9,-999.0000,9,-999.0000,9,     -999.0,5,  -999.0,9,     -999.0,     -999.0,9,     -999.0,20130904,       0006
33RO20130803,       A16N,      73,          1,          4,          4,2,20130904,       2329,    29.5025,   -23.6518,       5247,  3798.4,   2.4745,  34.9071,2,  34.9062,2,    244.6,2,     244,2,   42.00,6,   21.90,6,    0.00,6,    1.46,6,-999.000,9,-999.000,9,-999.000,9,  2197.5,2,  2343.3,6,  -999.0,9, -999.00,   7.7284,2,    25.00, -999.00,9,  -999.0,9,  -999.0,    40.1,2,   24.06,2,     -999.0,9,-999.0000,9,-999.0000,9,-999.0000,9,-999.0000,9,-999.0000,9,-999.0000,9,-999.0000,9,-999.0000,9,-999.0000,9,     -999.0,9,  -999.0,9,     -999.0,     -999.0,9,     -999.0,20130904,       2358
33RO20130803,       A16N,      73,          1,          3,          3,2,20130904,       2329,    29.5025,   -23.6518,       5247,  4300.0,   2.4106,  34.8952,2,  34.8945,2,    244.4,2,   244.8,2,   44.50,6,   22.20,6,    0.00,6,    1.48,6,   0.001,2,   0.004,2,   0.034,2,  -999.0,9,  -999.0,9,  -999.0,9, -999.00,-999.0000,9,  -999.00, -999.00,9,  -999.0,9,  -999.0,   40.14,2,   24.26,2,     13.623,2,-999.0000,9,-999.0000,9,-999.0000,9,-999.0000,9,-999.0000,9,-999.0000,9,-999.0000,9,-999.0000,9,-999.0000,9,     -999.0,5,  -999.0,9,     -999.0,     -999.0,9,     -999.0,20130904,       2348
33RO20130803,       A16N,      73,          1,          2,          2,2,20130904,       2329,    29.5025,   -23.6518,       5247,  4799.1,   2.4047,  34.8880,2,  34.8877,2,    243.8,2,   243.7,2,   46.00,6,   22.30,6,    0.00,6,    1.49,6,-999.000,9,-999.000,9,-999.000,9,  2204.1,2,  2349.6,2,  -999.0,9, -999.00,   7.7274,2,    25.00, -999.00,9,  -999.0,9,  -999.0,   40.35,2,   24.71,2,     -999.0,9,-999.0000,9,-999.0000,9,-999.0000,9,-999.0000,9,-999.0000,9,-999.0000,9,-999.0000,9,-999.0000,9,-999.0000,9,     -999.0,9,  -999.0,9,     -999.0,     -999.0,9,     -999.0,20130904,       2339
33RO20130803,       A16N,      73,          1,          1,          1,2,20130904,       2329,    29.5025,   -23.6518,       5247,  5313.4,   2.4511,  34.8853,2,  34.8847,2,    244.0,2,   243.5,2,   46.40,6,   22.40,6,    0.00,6,    1.49,6,   0.025,4,   0.043,4,   0.517,4,  2201.2,2,  2350.3,2,  -999.0,9, -999.00,   7.7461,2,    25.00, -999.00,9,  -999.0,9,  -999.0,   40.39,2,   24.41,2,     13.602,4,-999.0000,9,-999.0000,9,-999.0000,9,-999.0000,9,-999.0000,9,-999.0000,9,-999.0000,9,-999.0000,9,-999.0000,9,     -999.0,5,  -999.0,9,     -999.0,     -999.0,9,     -999.0,20130904,       2329