BOTTLE,20220815CCHSIOAMB
EXPOCODE,SECT_ID,STNNBR,CASTNO,SAMPNO,BTLNBR,BTLNBR_FLAG_W,DATE,TIME,LATITUDE,LONGITUDE,DEPTH,CTDPRS,CTDTMP,CTDSAL,CTDSAL_FLAG_W,SALNTY,SALNTY_FLAG_W,CTDOXY,CTDOXY_FLAG_W,OXYGEN,OXYGEN_FLAG_W,SILCAT,SILCAT_FLAG_W,NITRAT,NITRAT_FLAG_W,NITRIT,NITRIT_FLAG_W,PHSPHT,PHSPHT_FLAG_W,CFC-11,CFC-11_FLAG_W,CFC-12,CFC-12_FLAG_W,SF6,SF6_FLAG_W,TCARBN,TCARBN_FLAG_W,ALKALI,ALKALI_FLAG_W,PCO2,PCO2_FLAG_W,PCO2TMP,PH_SWS,PH_SWS_FLAG_W,PH_TMP,DELC13,DELC13_FLAG_W,DELC14,DELC14_FLAG_W,C14ERR,DOC,DOC_FLAG_W,TDN,TDN_FLAG_W,N2O,N2O_FLAG_W,CDOM325,CDOM325_FLAG_W,CDOM340,CDOM340_FLAG_W,CDOM380,CDOM380_FLAG_W,CDOM412,CDOM412_FLAG_W,CDOM443,CDOM443_FLAG_W,CDOM490,CDOM490_FLAG_W,CDOM555,CDOM555_FLAG_W,CDOMSL,CDOMSL_FLAG_W,CDOMSN,CDOMSN_FLAG_W,CCL4,CCL4_FLAG_W,14C-DOC,14C-DOC_FLAG_W,14C-DOCERR,13C-DOC,13C-DOC_FLAG_W,13C-DOCERR,BTL_DATE,BTL_TIME
,,,,,,,,,,,METERS,DBAR,ITS-90,PSS-78,,PSS-78,,UMOL/KG,,UMOL/KG,,UMOL/KG,,UMOL/KG,,UMOL/KG,,UMOL/KG,,PMOL/KG,,PMOL/KG,,FMOL/KG,,UMOL/KG,,UMOL/KG,,UATM,,DEG C,,,DEG C,/MILLE,,/MILLE,,/MILLE,UMOL/KG,,UMOL/KG,,NMOL/KG,,1/M,,1/M,,1/M,,1/M,,1/M,,1/M,,1/M,,1/NM,,1/NM,,PMOL/KG,,/MILLE,,/MILLE,/MILLE,,/MILLE,,
33RO20130803,       A16N,     141,          1,         24,         24,2,20130930,       0940,    -3.9999,   -24.9982,       5352,     3.0,  25.8224,  36.0932,2,  36.0970,2,    204.8,2,   204.1,2,    1.10,2,    0.10,2,    0.00,2,    0.11,2,   1.655,2,   1.056,2,   1.197,2,  2054.5,6,  2370.9,2,   332.5,2,      20,   8.0409,2,    25.00, -999.00,9,  -999.0,9,  -999.0, -999.00,9, -999.00,9,      6.370,2,-999.0000,9,-999.0000,9,-999.0000,9,-999.0000,9,-999.0000,9,-999.0000,9,-999.0000,9,-999.0000,9,-999.0000,9,     -999.0,5,  -999.0,9,     -999.0,     -999.0,9,     -999.0,20130930,       1143
33RO20130803,       A16N,     141,          1,         23,         23,2,20130930,       0940,    -3.9999,   -24.9982,       5352,    12.5,  25.7441,  36.0907,2,  36.0910,2,    205.1,2,   204.4,2,    1.10,2,    0.10,2,    0.00,2,    0.11,2,   1.658,2,   1.061,2,   1.223,2,  2053.4,2,  2361.7,6,   339.7,6,      20,   8.0419,2,    25.00, -999.00,9,  -999.0,9,  -999.0, -999.00,9, -999.00,9,      6.363,2,-999.0000,9,-999.0000,9,-999.0000,9,-999.0000,9,-999.0000,9,-999.0000,9,-999.0000,9,-999.0000,9,-999.0000,9,     -999.0,5,  -999.0,9,     -999.0,     -999.0,9,     -999.0,20130930,       1141
33RO20130803,       A16N,     141,          1,         22,         22,2,20130930,       0940,    -3.9999,   -24.9982,       5352,    52.5,  25.7315,  36.0892,2,  36.0886,2,    206.2,2,     204,2,    1.10,2,    0.10,2,    0.00,2,    0.11,2,   1.656,6,   1.059,6,   1.227,6,  2054.3,2,  2361.0,2,   341.6,2,      20,   8.0415,2,    25.00, -999.00,9,  -999.0,9,  -999.0, -999.00,9, -999.00,9,      6.417,6,-999.0000,9,-999.0000,9,-999.0000,9,-999.0000,9,-999.0000,9,-999.0000,9,-999.0000,9,-999.0000,9,-999.0000,9,     -999.0,5,  -999.0,9,     -999.0,     -999.0,9,     -999.0,20130930,       1139
33RO20130803,       A16N,     141,          1,         21,         21,2,20130930,       0940,    -3.9999,   -24.9982,       5352,    82.4,  25.6846,  36.0812,2,  36.0883,2,    204.5,2,   203.4,2,    1.10,2,    0.10,2,    0.01,2,    0.13,2,   1.662,2,   1.062,2,   1.204,2,  2054.7,2,  2369.7,2,   355.8,2,      20,   8.0396,6,    25.00, -999.00,9,  -999.0,9,  -999.0, -999.00,9, -999.00,9,      6.482,2,-999.0000,9,-999.0000,9,-999.0000,9,-999.0000,9,-999.0000,9,-999.0000,9,-999.0000,9,-999.0000,9,-999.0000,9,     -999.0,5,  -999.0,9,     -999.0,     -999.0,9,     -999.0,20130930,       1137
33RO20130803,       A16N,     141,          1,         20,         20,2,20130930,       0940,    -3.9999,   -24.9982,       5352,   111.5,  20.4223,  36.2911,2,  36.3665,2,    153.3,2,   155.2,2,    2.70,2,    7.30,2,    0.08,2,    0.65,2,   1.975,2,   1.205,2,   1.092,2,  2144.4,2,  2382.9,2,   517.1,2,      20,   7.9025,2,    25.00, -999.00,9,  -999.0,9,  -999.0, -999.00,9, -999.00,9,     13.314,2,-999.0000,9,-999.0000,9,-999.0000,9,-999.0000,9,-999.0000,9,-999.0000,9,-999.0000,9,-999.0000,9,-999.0000,9,     -999.0,5,  -999.0,9,     -999.0,     -999.0,9,     -999.0,20130930,       1135
33RO20130803,       A16N,     141,          1,         19,         19,2,20130930,       0940,    -3.9999,   -24.9982,       5352,   164.4,  12.3403,  35.2011,2,  35.2003,2,    118.0,2,   117.7,2,    8.30,2,   22.40,2,    0.01,2,    1.50,2,   2.167,2,   1.202,2,   0.662,2,  2189.6,2,  2315.7,2,   893.3,2,      20,   7.6687,2,    25.00, -999.00,9,  -999.0,9,  -999.0, -999.00,9, -999.00,9,     26.138,2,-999.0000,9,-999.0000,9,-999.0000,9,-999.0000,9,-999.0000,9,-999.0000,9,-999.0000,9,-999.0000,9,-999.0000,9,     -999.0,5,  -999.0,9,     -999.0,     -999.0,9,     -999.0,20130930,       1132
33RO20130803,       A16N,     141,          1,         18,         18,2,20130930,       0940,    -3.9999,   -24.9982,       5352,   260.4,   9.5171,  34.8552,2,  34.8557,2,    101.1,2,   102.9,2,   13.70,2,   29.80,2,    0.01,2,    1.94,2,   1.569,2,   0.830,2,   0.330,2,  2212.6,2,  2299.1,2,  1144.2,2,      20,   7.5634,2,    25.00, -999.00,9,  -999.0,9,  -999.0, -999.00,9, -999.00,9,     31.761,2,-999.0000,9,-999.0000,9,-999.0000,9,-999.0000,9,-999.0000,9,-999.0000,9,-999.0000,9,-999.0000,9,-999.0000,9,     -999.0,5,  -999.0,9,     -999.0,     -999.0,9,     -999.0,20130930,       1130
33RO20130803,       A16N,     141,          1,         17,         17,2,20130930,       0940,    -3.9999,   -24.9982,       5352,   373.0,   7.6185,  34.6713,2,  34.6766,2,     94.8,2,    95.2,2,   19.10,2,   34.90,2,    0.00,2,    2.28,2,   0.872,2,   0.450,2,   0.150,2,  2231.0,6,  2300.3,2,  1329.6,2,      20,   7.4967,2,    25.00, -999.00,9,  -999.0,9,  -999.0, -999.00,9, -999.00,9,     32.373,2,-999.0000,9,-999.0000,9,-999.0000,9,-999.0000,9,-999.0000,9,-999.0000,9,-999.0000,9,-999.0000,9,-999.0000,9,     -999.0,5,  -999.0,9,     -999.0,     -999.0,9,     -999.0,20130930,       1127
33RO20130803,       A16N,     141,          1,         16,         16,2,20130930,       0940,    -3.9999,   -24.9982,       5352,   473.3,   6.5888,  34.5778,2,  34.5762,2,    115.6,2,   116.7,2,   22.00,2,   34.80,2,    0.00,2,    2.32,2,   0.801,2,   0.408,2,   0.115,2,  2223.6,2,  2292.6,2,  1266.1,2,      20,   7.5130,2,    25.00, -999.00,9,  -999.0,9,  -999.0, -999.00,9, -999.00,9,     28.676,2,-999.0000,9,-999.0000,9,-999.0000,9,-999.0000,9,-999.0000,9,-999.0000,9,-999.0000,9,-999.0000,9,-999.0000,9,     -999.0,5,  -999.0,9,     -999.0,     -999.0,9,     -999.0,20130930,       1124
33RO20130803,       A16N,     141,          1,         15,         15,2,20130930,       0940,    -3.9999,   -24.9982,       5352,   633.7,   5.2720,  34.4749,2,  34.4739,2,    151.8,2,   150.3,2,   27.10,2,   33.90,2,    0.01,2,    2.31,2,   0.785,2,   0.390,2,   0.126,2,  2215.2,2,  2295.4,2,  1171.2,2,      20,   7.5495,2,    25.00, -999.00,9,  -999.0,9,  -999.0, -999.00,9, -999.00,9,     23.979,2,-999.0000,9,-999.0000,9,-999.0000,9,-999.0000,9,-999.0000,9,-999.0000,9,-999.0000,9,-999.0000,9,-999.0000,9,     -999.0,5,  -999.0,9,     -999.0,     -999.0,9,     -999.0,20130930,       1119
33RO20130803,       A16N,     141,          1,         14,         14,2,20130930,       0940,    -3.9999,   -24.9982,       5352,   773.6,   4.6155,  34.4915,2,  34.4902,2,    154.4,2,   154.3,2,   31.80,2,   34.20,2,    0.00,2,    2.36,2,   0.340,2,   0.166,2,   0.050,2,  2219.4,2,  2307.6,6,  1169.5,2,      20,   7.5495,2,    25.00, -999.00,9,  -999.0,9,  -999.0, -999.00,9, -999.00,9,     23.286,2,-999.0000,9,-999.0000,9,-999.0000,9,-999.0000,9,-999.0000,9,-999.0000,9,-999.0000,9,-999.0000,9,-999.0000,9,     -999.0,5,  -999.0,9,     -999.0,     -999.0,9,     -999.0,20130930,       1116
33RO20130803,       A16N,     141,          1,         13,         13,2,20130930,       0940,    -3.9999,   -24.9982,       5352,   922.4,   4.4457,  34.5670,2,  34.5662,2,    158.2,2,   158.2,2,   32.30,2,   33.20,2,    0.00,2,    2.30,2,   0.164,2,   0.081,2,   0.000,2,  2219.2,2,  2306.6,2,  1132.0,2,      20,   7.5607,2,    25.00, -999.00,9,  -999.0,9,  -999.0, -999.00,9, -999.00,9,     22.619,2,-999.0000,9,-999.0000,9,-999.0000,9,-999.0000,9,-999.0000,9,-999.0000,9,-999.0000,9,-999.0000,9,-999.0000,9,     -999.0,5,  -999.0,9,     -999.0,     -999.0,9,     -999.0,20130930,       1112
33RO20130803,       A16N,     141,          1,         12,         12,2,20130930,       0940,    -3.9999,   -24.9982,       5352,  1111.0,   4.4125,  34.6885,2,  34.6885,2,    166.0,2,   165.6,2,   29.90,6,   31.10,6,    0.00,6,    2.13,6,   0.062,6,   0.027,6,   0.000,6,  2216.9,2,  2314.8,2,  1072.2,2,      20,   7.5835,2,    25.00, -999.00,9,  -999.0,9,  -999.0, -999.00,9, -999.00,9,     21.247,6,-999.0000,9,-999.0000,9,-999.0000,9,-999.0000,9,-999.0000,9,-999.0000,9,-999.0000,9,-999.0000,9,-999.0000,9,     -999.0,5,  -999.0,9,     -999.0,     -999.0,9,     -999.0,20130930,       1107
33RO20130803,       A16N,     141,          1,         11,         11,2,20130930,       0940,    -3.9999,   -24.9982,       5352,  1247.7,   4.5101,  34.8121,2,  34.8111,2,    182.4,2,   182.1,2,   25.60,6,   28.00,6,    0.00,6,    1.91,6,   0.108,2,   0.049,2,   0.000,2,  2205.0,2,  2311.3,2,   965.4,2,      20,   7.6246,2,    25.00, -999.00,9,  -999.0,9,  -999.0, -999.00,9, -999.00,9,     19.331,2,-999.0000,9,-999.0000,9,-999.0000,9,-999.0000,9,-999.0000,9,-999.0000,9,-999.0000,9,-999.0000,9,-999.0000,9,     -999.0,5,  -999.0,9,     -999.0,     -999.0,9,     -999.0,20130930,       1104
33RO20130803,       A16N,     141,          1,         10,         10,2,20130930,       0940,    -3.9999,   -24.9982,       5352,  1397.7,   4.3612,  34.9051,2,  34.9044,2,    206.6,2,   206.4,2,   21.90,2,   24.50,2,    0.00,2,    1.66,2,   0.169,2,   0.084,2,   0.046,2,  2191.1,2,  2321.6,3,   868.0,2,      20,   7.6672,2,    25.00, -999.00,9,  -999.0,9,  -999.0, -999.00,9, -999.00,9,     17.024,2,-999.0000,9,-999.0000,9,-999.0000,9,-999.0000,9,-999.0000,9,-999.0000,9,-999.0000,9,-999.0000,9,-999.0000,9,     -999.0,5,  -999.0,9,     -999.0,     -999.0,9,     -999.0,20130930,       1100
33RO20130803,       A16N,     141,          1,          9,          9,2,20130930,       0940,    -3.9999,   -24.9982,       5352,  1645.1,   3.9802,  34.9739,2,  34.9732,2,    242.1,2,   241.6,2,   17.80,2,   20.20,2,    0.00,2,    1.35,2,   0.508,2,   0.252,2,   0.104,2,  2172.8,2,  2315.3,2,   771.5,2,      20,   7.7162,2,    25.00, -999.00,9,  -999.0,9,  -999.0, -999.00,9, -999.00,9,     14.025,2,-999.0000,9,-999.0000,9,-999.0000,9,-999.0000,9,-999.0000,9,-999.0000,9,-999.0000,9,-999.0000,9,-999.0000,9,     -999.0,5,  -999.0,9,     -999.0,     -999.0,9,     -999.0,20130930,       1054
33RO20130803,       A16N,     141,          1,          8,          8,2,20130930,       0940,    -3.9999,   -24.9982,       5352,  1997.7,   3.5307,  34.9647,2,  34.9646,2,    250.6,2,   250.9,2,   20.30,2,   19.50,2,    0.00,2,    1.32,2,   0.385,2,   0.188,2,   0.073,2,  2170.6,2,  2322.3,2,   753.2,2,      20,   7.7237,2,    25.00, -999.00,9,  -999.0,9,  -999.0, -999.00,9, -999.00,9,     13.354,2,-999.0000,9,-999.0000,9,-999.0000,9,-999.0000,9,-999.0000,9,-999.0000,9,-999.0000,9,-999.0000,9,-999.0000,9,     -999.0,5,  -999.0,9,     -999.0,     -999.0,9,     -999.0,20130930,       1047
33RO20130803,       A16N,     141,          1,          7,          7,2,20130930,       0940,    -3.9999,   -24.9982,       5352,  2415.7,   3.1243,  34.9388,2,  34.9382,2,    245.9,2,   245.3,2,   28.80,2,   20.80,2,    0.00,2,    1.40,2,   0.106,2,   0.050,2,   0.000,2,  2180.4,2,  2325.3,2,   764.3,2,      20,   7.7211,2,    25.00, -999.00,9,  -999.0,9,  -999.0, -999.00,9, -999.00,9,     13.610,2,-999.0000,9,-999.0000,9,-999.0000,9,-999.0000,9,-999.0000,9,-999.0000,9,-999.0000,9,-999.0000,9,-999.0000,9,     -999.0,5,  -999.0,9,     -999.0,     -999.0,9,     -999.0,20130930,       1038
33RO20130803,       A16N,     141,          1,          6,          6,2,20130930,       0940,    -3.9999,   -24.9982,       5352,  2896.9,   2.7584,  34.9161,2,  34.9156,2,    245.0,2,   244.6,2,   35.80,2,   21.40,2,    0.01,2,    1.45,2,   0.041,2,   0.020,2,   0.000,2,  2187.1,2,  2339.4,3,   769.5,2,      20,   7.7200,2,    25.00, -999.00,9,  -999.0,9,  -999.0, -999.00,9, -999.00,9,     13.606,2,-999.0000,9,-999.0000,9,-999.0000,9,-999.0000,9,-999.0000,9,-999.0000,9,-999.0000,9,-999.0000,9,-999.0000,9,     -999.0,5,  -999.0,9,     -999.0,     -999.0,9,     -999.0,20130930,       1029
33RO20130803,       A16N,     141,          1,          5,          5,2,20130930,       0940,    -3.9999,   -24.9982,       5352,  3397.9,   2.5945,  34.9131,2,  34.9115,2,    253.0,2,   253.2,2,   33.40,2,   20.40,2,    0.01,2,    1.38,2,   0.112,2,   0.057,2,   0.000,2,  2182.2,2,  2330.8,2,   754.0,2,      20,   7.7293,2,    25.00, -999.00,9,  -999.0,9,  -999.0, -999.00,9, -999.00,9,     13.244,2,-999.0000,9,-999.0000,9,-999.0000,9,-999.0000,9,-999.0000,9,-999.0000,9,-999.0000,9,-999.0000,9,-999.0000,9,     -999.0,5,  -999.0,9,     -999.0,     -999.0,9,     -999.0,20130930,       1020
33RO20130803,       A16N,     141,          1,          4,          4,2,20130930,       0940,    -3.9999,   -24.9982,       5352,  3898.4,   2.2526,  34.8855,2,  34.8847,2,    255.6,2,   256.4,2,   39.40,6,   20.70,6,    0.00,6,    1.41,6,   0.216,2,   0.114,2,   0.042,2,  2187.3,2,  2335.0,2,   773.0,2,      20,   7.7218,6,    25.00, -999.00,9,  -999.0,9,  -999.0, -999.00,9, -999.00,9,     13.434,2,-999.0000,9,-999.0000,9,-999.0000,9,-999.0000,9,-999.0000,9,-999.0000,9,-999.0000,9,-999.0000,9,-999.0000,9,     -999.0,5,  -999.0,9,     -999.0,     -999.0,9,     -999.0,20130930,       1010
33RO20130803,       A16N,     141,          1,          3,          3,2,20130930,       0940,    -3.9999,   -24.9982,       5352,  4398.4,   1.1691,  34.7646,2,  34.7635,2,    230.1,2,     230,2,   90.40,6,   28.10,6,    0.00,6,    1.95,6,   0.041,6,   0.024,6,   0.000,6,  2238.4,2,  2359.5,2,   917.3,2,      20,   7.6544,2,    25.00, -999.00,9,  -999.0,9,  -999.0, -999.00,9, -999.00,9,     15.958,6,-999.0000,9,-999.0000,9,-999.0000,9,-999.0000,9,-999.0000,9,-999.0000,9,-999.0000,9,-999.0000,9,-999.0000,9,     -999.0,5,  -999.0,9,     -999.0,     -999.0,9,     -999.0,20130930,       1000
33RO20130803,       A16N,     141,          1,          2,          2,2,20130930,       0940,    -3.9999,   -24.9982,       5352,  4897.5,   0.8163,  34.7208,2,  34.7195,2,    222.5,2,   222.1,2,  107.60,6,   30.60,6,    0.01,6,    2.13,6,   0.065,2,   0.038,2,   0.000,2,  2254.8,2,  2370.6,2,   977.1,2,      20,   7.6289,2,    25.00, -999.00,9,  -999.0,9,  -999.0, -999.00,9, -999.00,9,     16.923,2,-999.0000,9,-999.0000,9,-999.0000,9,-999.0000,9,-999.0000,9,-999.0000,9,-999.0000,9,-999.0000,9,-999.0000,9,     -999.0,5,  -999.0,9,     -999.0,     -999.0,9,     -999.0,20130930,       0950
33RO20130803,       A16N,     141,          1,          1,          1,2,20130930,       0940,    -3.9999,   -24.9982,       5352,  5405.7,   0.7795,  34.7097,2,  34.7095,2,    221.2,2,   220.6,2,  111.90,6,   31.20,6,    0.01,6,    2.18,6,   0.091,2,   0.053,2,   0.080,2,  2260.2,6,  2377.7,3,   960.2,2,      20,   7.7004,4,    25.00, -999.00,9,  -999.0,9,  -999.0, -999.00,9, -999.00,9,     17.203,2,-999.0000,9,-999.0000,9,-999.0000,9,-999.0000,9,-999.0000,9,-999.0000,9,-999.0000,9,-999.0000,9,-999.0000,9,     -999.0,5,  -999.0,9,     -999.0,     -999.0,9,     -999.0,20130930,       0940