BOTTLE,20220815CCHSIOAMB
EXPOCODE,SECT_ID,STNNBR,CASTNO,SAMPNO,BTLNBR,BTLNBR_FLAG_W,DATE,TIME,LATITUDE,LONGITUDE,DEPTH,CTDPRS,CTDTMP,CTDSAL,CTDSAL_FLAG_W,SALNTY,SALNTY_FLAG_W,CTDOXY,CTDOXY_FLAG_W,OXYGEN,OXYGEN_FLAG_W,SILCAT,SILCAT_FLAG_W,NITRAT,NITRAT_FLAG_W,NITRIT,NITRIT_FLAG_W,PHSPHT,PHSPHT_FLAG_W,CFC-11,CFC-11_FLAG_W,CFC-12,CFC-12_FLAG_W,SF6,SF6_FLAG_W,TCARBN,TCARBN_FLAG_W,ALKALI,ALKALI_FLAG_W,PCO2,PCO2_FLAG_W,PCO2TMP,PH_SWS,PH_SWS_FLAG_W,PH_TMP,DELC13,DELC13_FLAG_W,DELC14,DELC14_FLAG_W,C14ERR,DOC,DOC_FLAG_W,TDN,TDN_FLAG_W,N2O,N2O_FLAG_W,CDOM325,CDOM325_FLAG_W,CDOM340,CDOM340_FLAG_W,CDOM380,CDOM380_FLAG_W,CDOM412,CDOM412_FLAG_W,CDOM443,CDOM443_FLAG_W,CDOM490,CDOM490_FLAG_W,CDOM555,CDOM555_FLAG_W,CDOMSL,CDOMSL_FLAG_W,CDOMSN,CDOMSN_FLAG_W,CCL4,CCL4_FLAG_W,14C-DOC,14C-DOC_FLAG_W,14C-DOCERR,13C-DOC,13C-DOC_FLAG_W,13C-DOCERR,BTL_DATE,BTL_TIME
,,,,,,,,,,,METERS,DBAR,ITS-90,PSS-78,,PSS-78,,UMOL/KG,,UMOL/KG,,UMOL/KG,,UMOL/KG,,UMOL/KG,,UMOL/KG,,PMOL/KG,,PMOL/KG,,FMOL/KG,,UMOL/KG,,UMOL/KG,,UATM,,DEG C,,,DEG C,/MILLE,,/MILLE,,/MILLE,UMOL/KG,,UMOL/KG,,NMOL/KG,,1/M,,1/M,,1/M,,1/M,,1/M,,1/M,,1/M,,1/NM,,1/NM,,PMOL/KG,,/MILLE,,/MILLE,/MILLE,,/MILLE,,
33RO20130803,       A16N,     142,          1,         24,         24,2,20130930,       1633,    -4.4989,   -25.0000,       5558,     2.3,  25.9305,  36.0936,2,  36.0951,2,    203.8,2,   204.5,2,    1.00,2,    0.10,2,    0.00,2,    0.11,2,   1.632,2,   1.047,2,   1.191,2,  2054.4,6,  2360.0,2,  -999.0,9, -999.00,   8.0418,2,    25.00, -999.00,9,  -999.0,9,  -999.0,   68.89,2,    5.21,2,      6.397,2,-999.0000,9,-999.0000,9,-999.0000,9,-999.0000,9,-999.0000,9,-999.0000,9,-999.0000,9,-999.0000,9,-999.0000,9,     -999.0,5,  -999.0,9,     -999.0,     -999.0,9,     -999.0,20130930,       1840
33RO20130803,       A16N,     142,          1,         23,         23,2,20130930,       1633,    -4.4989,   -25.0000,       5558,    28.4,  25.7922,  36.0912,2,  36.0908,2,    204.3,2,   204.6,2,    1.00,2,    0.10,2,    0.00,2,    0.12,2,-999.000,9,-999.000,9,-999.000,9,  -999.0,9,  -999.0,9,  -999.0,9, -999.00,-999.0000,9,  -999.00, -999.00,9,  -999.0,9,  -999.0,   68.31,2,    4.06,2,     -999.0,9,-999.0000,9,-999.0000,9,-999.0000,9,-999.0000,9,-999.0000,9,-999.0000,9,-999.0000,9,-999.0000,9,-999.0000,9,     -999.0,9,  -999.0,9,     -999.0,     -999.0,9,     -999.0,20130930,       1838
33RO20130803,       A16N,     142,          1,         22,         22,2,20130930,       1633,    -4.4989,   -25.0000,       5558,    62.9,  25.7854,  36.0918,2,  36.0935,2,    205.6,2,   204.2,2,    1.10,2,    0.10,2,    0.00,2,    0.13,2,   1.644,2,   1.048,2,   1.198,2,  2054.8,2,  2370.7,2,  -999.0,9, -999.00,   8.0400,2,    25.00, -999.00,9,  -999.0,9,  -999.0,   64.03,2,    3.89,2,      6.412,2,-999.0000,9,-999.0000,9,-999.0000,9,-999.0000,9,-999.0000,9,-999.0000,9,-999.0000,9,-999.0000,9,-999.0000,9,     -999.0,5,  -999.0,9,     -999.0,     -999.0,9,     -999.0,20130930,       1836
33RO20130803,       A16N,     142,          1,         21,         21,2,20130930,       1633,    -4.4989,   -25.0000,       5558,   114.8,  20.6674,  36.2652,2,  36.2746,2,    156.4,2,   154.9,2,    2.80,2,    7.60,2,    0.11,2,    0.66,2,   1.955,2,   1.191,2,   1.065,2,  -999.0,9,  -999.0,9,  -999.0,9, -999.00,-999.0000,9,  -999.00, -999.00,9,  -999.0,9,  -999.0,   58.64,2,   11.15,2,     14.350,2,-999.0000,9,-999.0000,9,-999.0000,9,-999.0000,9,-999.0000,9,-999.0000,9,-999.0000,9,-999.0000,9,-999.0000,9,     -999.0,5,  -999.0,9,     -999.0,     -999.0,9,     -999.0,20130930,       1834
33RO20130803,       A16N,     142,          1,         20,         20,2,20130930,       1633,    -4.4989,   -25.0000,       5558,   185.0,  11.0476,  35.0516,2,  35.0539,2,     92.8,2,    93.5,2,   11.00,2,   27.50,2,    0.01,2,    1.80,2,   1.771,2,   0.957,2,   0.437,2,  2212.6,2,  2312.5,2,  -999.0,9, -999.00,   7.5898,2,    25.00, -999.00,9,  -999.0,9,  -999.0,   49.54,2,   30.65,2,     33.054,2,-999.0000,9,-999.0000,9,-999.0000,9,-999.0000,9,-999.0000,9,-999.0000,9,-999.0000,9,-999.0000,9,-999.0000,9,     -999.0,5,  -999.0,9,     -999.0,     -999.0,9,     -999.0,20130930,       1831
33RO20130803,       A16N,     142,          1,         19,         19,2,20130930,       1633,    -4.4989,   -25.0000,       5558,   259.5,   9.5349,  34.8663,2,  34.8653,2,     80.2,2,    79.6,2,   14.50,2,   32.30,2,    0.00,2,    2.08,2,   1.226,2,   0.640,2,   0.243,2,  -999.0,9,  -999.0,9,  -999.0,9, -999.00,-999.0000,9,  -999.00, -999.00,9,  -999.0,9,  -999.0,   46.01,2,   35.58,2,     36.854,2,-999.0000,9,-999.0000,9,-999.0000,9,-999.0000,9,-999.0000,9,-999.0000,9,-999.0000,9,-999.0000,9,-999.0000,9,     -999.0,5,  -999.0,9,     -999.0,     -999.0,9,     -999.0,20130930,       1828
33RO20130803,       A16N,     142,          1,         18,         18,2,20130930,       1633,    -4.4989,   -25.0000,       5558,   348.8,   7.9285,  34.7003,2,  34.7010,2,     89.6,2,    91.7,2,   18.30,2,   34.60,2,    0.00,2,    2.24,2,   0.930,2,   0.479,2,   0.169,2,  2232.0,2,  2296.3,2,  -999.0,9, -999.00,   7.4975,2,    25.00, -999.00,9,  -999.0,9,  -999.0,   45.09,2,    37.3,2,     33.301,2,-999.0000,9,-999.0000,9,-999.0000,9,-999.0000,9,-999.0000,9,-999.0000,9,-999.0000,9,-999.0000,9,-999.0000,9,     -999.0,5,  -999.0,9,     -999.0,     -999.0,9,     -999.0,20130930,       1825
33RO20130803,       A16N,     142,          1,         17,         17,2,20130930,       1633,    -4.4989,   -25.0000,       5558,   449.1,   6.7542,  34.5933,2,  34.5922,2,    111.0,2,   110.6,2,   21.40,2,   34.90,2,    0.00,2,    2.31,2,   0.764,2,   0.385,2,   0.125,2,  -999.0,9,  -999.0,9,  -999.0,9, -999.00,-999.0000,9,  -999.00, -999.00,9,  -999.0,9,  -999.0,   43.67,2,    37.5,2,     29.522,2,-999.0000,9,-999.0000,9,-999.0000,9,-999.0000,9,-999.0000,9,-999.0000,9,-999.0000,9,-999.0000,9,-999.0000,9,     -999.0,5,  -999.0,9,     -999.0,     -999.0,9,     -999.0,20130930,       1822
33RO20130803,       A16N,     142,          1,         16,         16,2,20130930,       1633,    -4.4989,   -25.0000,       5558,   573.9,   5.7856,  34.5197,2,  34.5192,2,    127.8,2,   127.7,2,   25.20,2,   35.30,2,    0.00,2,    2.38,2,   0.560,6,   0.281,6,   0.069,6,  2225.1,2,  2298.6,2,  -999.0,9, -999.00,   7.5169,2,    25.00, -999.00,9,  -999.0,9,  -999.0,   42.43,2,   37.84,2,     26.773,6,-999.0000,9,-999.0000,9,-999.0000,9,-999.0000,9,-999.0000,9,-999.0000,9,-999.0000,9,-999.0000,9,-999.0000,9,     -999.0,5,  -999.0,9,     -999.0,     -999.0,9,     -999.0,20130930,       1818
33RO20130803,       A16N,     142,          1,         15,         15,2,20130930,       1633,    -4.4989,   -25.0000,       5558,   723.1,   4.8167,  34.4752,2,  34.4756,2,    154.6,2,   153.2,2,   30.10,2,   34.10,2,    0.00,2,    2.34,2,-999.000,9,-999.000,9,-999.000,9,  -999.0,9,  -999.0,9,  -999.0,9, -999.00,-999.0000,9,  -999.00, -999.00,9,  -999.0,9,  -999.0,   40.77,2,   36.77,2,     -999.0,9,-999.0000,9,-999.0000,9,-999.0000,9,-999.0000,9,-999.0000,9,-999.0000,9,-999.0000,9,-999.0000,9,-999.0000,9,     -999.0,9,  -999.0,9,     -999.0,     -999.0,9,     -999.0,20130930,       1814
33RO20130803,       A16N,     142,          1,         14,         14,2,20130930,       1633,    -4.4989,   -25.0000,       5558,   873.6,   4.4574,  34.5168,2,  34.5167,2,    159.4,2,   158.3,2,   32.70,2,   33.80,2,    0.00,2,    2.33,2,   0.244,2,   0.121,2,   0.045,2,  2220.5,2,  2306.5,6,  -999.0,9, -999.00,   7.5545,2,    25.00, -999.00,9,  -999.0,9,  -999.0,   40.61,2,   36.42,2,     23.033,2,-999.0000,9,-999.0000,9,-999.0000,9,-999.0000,9,-999.0000,9,-999.0000,9,-999.0000,9,-999.0000,9,-999.0000,9,     -999.0,5,  -999.0,9,     -999.0,     -999.0,9,     -999.0,20130930,       1810
33RO20130803,       A16N,     142,          1,         13,         13,2,20130930,       1633,    -4.4989,   -25.0000,       5558,  1024.0,   4.2878,  34.6056,2,  34.6033,2,    165.2,2,   165.7,2,   32.60,2,   32.30,2,    0.00,2,    2.23,2,-999.000,9,-999.000,9,-999.000,9,  -999.0,9,  -999.0,9,  -999.0,9, -999.00,-999.0000,9,  -999.00, -999.00,9,  -999.0,9,  -999.0,    39.9,2,   34.82,2,     -999.0,9,-999.0000,9,-999.0000,9,-999.0000,9,-999.0000,9,-999.0000,9,-999.0000,9,-999.0000,9,-999.0000,9,-999.0000,9,     -999.0,9,  -999.0,9,     -999.0,     -999.0,9,     -999.0,20130930,       1806
33RO20130803,       A16N,     142,          1,         12,         12,2,20130930,       1633,    -4.4989,   -25.0000,       5558,  1199.5,   4.4349,  34.8040,2,  34.8043,2,    182.7,2,   182.1,2,   26.20,2,   28.10,2,    0.00,2,    1.92,2,   0.080,2,   0.038,2,   0.020,2,  2205.3,2,  2314.6,2,  -999.0,9, -999.00,   7.6223,2,    25.00, -999.00,9,  -999.0,9,  -999.0,   40.04,2,    30.6,2,     19.438,2,-999.0000,9,-999.0000,9,-999.0000,9,-999.0000,9,-999.0000,9,-999.0000,9,-999.0000,9,-999.0000,9,-999.0000,9,     -999.0,5,  -999.0,9,     -999.0,     -999.0,9,     -999.0,20130930,       1801
33RO20130803,       A16N,     142,          1,         11,         11,2,20130930,       1633,    -4.4989,   -25.0000,       5558,  1449.3,   4.3465,  34.9414,2,  34.9417,2,    217.8,2,   217.4,2,   19.90,2,   22.90,2,    0.00,2,    1.54,2,-999.000,9,-999.000,9,-999.000,9,  -999.0,9,  -999.0,9,  -999.0,9, -999.00,-999.0000,9,  -999.00, -999.00,9,  -999.0,9,  -999.0,   40.66,2,   25.41,2,     -999.0,9,-999.0000,9,-999.0000,9,-999.0000,9,-999.0000,9,-999.0000,9,-999.0000,9,-999.0000,9,-999.0000,9,-999.0000,9,     -999.0,9,  -999.0,9,     -999.0,     -999.0,9,     -999.0,20130930,       1755
33RO20130803,       A16N,     142,          1,         10,         10,2,20130930,       1633,    -4.4989,   -25.0000,       5558,  1747.0,   3.8468,  34.9731,2,  34.9734,2,    246.4,2,   245.7,2,   18.10,2,   19.80,2,    0.00,2,    1.33,2,   0.492,2,   0.245,2,   0.121,2,  2169.5,2,  2319.3,2,  -999.0,9, -999.00,   7.7192,2,    25.00, -999.00,9,  -999.0,9,  -999.0,   40.69,2,   22.41,2,     13.898,2,-999.0000,9,-999.0000,9,-999.0000,9,-999.0000,9,-999.0000,9,-999.0000,9,-999.0000,9,-999.0000,9,-999.0000,9,     -999.0,5,  -999.0,9,     -999.0,     -999.0,9,     -999.0,20130930,       1749
33RO20130803,       A16N,     142,          1,          9,          9,2,20130930,       1633,    -4.4989,   -25.0000,       5558,  2198.0,   3.2884,  34.9491,2,  34.9490,2,    246.9,2,   247.1,2,   25.20,2,   20.30,2,    0.00,2,    1.37,2,-999.000,9,-999.000,9,-999.000,9,  -999.0,9,  -999.0,9,  -999.0,9, -999.00,-999.0000,9,  -999.00, -999.00,9,  -999.0,9,  -999.0,   41.25,2,   22.89,2,     -999.0,9,-999.0000,9,-999.0000,9,-999.0000,9,-999.0000,9,-999.0000,9,-999.0000,9,-999.0000,9,-999.0000,9,-999.0000,9,     -999.0,9,  -999.0,9,     -999.0,     -999.0,9,     -999.0,20130930,       1740
33RO20130803,       A16N,     142,          1,          8,          8,2,20130930,       1633,    -4.4989,   -25.0000,       5558,  2498.1,   3.0127,  34.9333,2,  34.9339,2,    246.3,2,   246.4,2,   30.00,2,   20.80,2,    0.00,2,    1.40,2,   0.093,2,   0.043,2,   0.000,2,  2178.5,2,  2328.4,2,  -999.0,9, -999.00,   7.7238,2,    25.00, -999.00,9,  -999.0,9,  -999.0,   40.93,2,    23.4,2,     13.597,2,-999.0000,9,-999.0000,9,-999.0000,9,-999.0000,9,-999.0000,9,-999.0000,9,-999.0000,9,-999.0000,9,-999.0000,9,     -999.0,5,  -999.0,9,     -999.0,     -999.0,9,     -999.0,20130930,       1734
33RO20130803,       A16N,     142,          1,          7,          7,2,20130930,       1633,    -4.4989,   -25.0000,       5558,  2947.8,   2.7352,  34.9186,2,  34.9193,2,    248.4,2,   248.3,2,   33.90,2,   20.90,2,    0.00,2,    1.42,2,   0.085,2,   0.035,2,   0.019,2,  -999.0,9,  -999.0,9,  -999.0,9, -999.00,-999.0000,9,  -999.00, -999.00,9,  -999.0,9,  -999.0,   40.94,2,   23.51,2,     13.518,2,-999.0000,9,-999.0000,9,-999.0000,9,-999.0000,9,-999.0000,9,-999.0000,9,-999.0000,9,-999.0000,9,-999.0000,9,     -999.0,5,  -999.0,9,     -999.0,     -999.0,9,     -999.0,20130930,       1724
33RO20130803,       A16N,     142,          1,          6,          6,2,20130930,       1633,    -4.4989,   -25.0000,       5558,  3447.6,   2.5685,  34.9122,2,  34.9127,2,    255.0,2,   254.8,2,   32.90,2,   20.10,2,    0.00,2,    1.37,2,   0.150,2,   0.073,2,   0.000,2,  2179.1,2,  2332.8,6,  -999.0,9, -999.00,   7.7287,2,    25.00, -999.00,9,  -999.0,9,  -999.0,      41,2,   22.65,2,     13.198,2,-999.0000,9,-999.0000,9,-999.0000,9,-999.0000,9,-999.0000,9,-999.0000,9,-999.0000,9,-999.0000,9,-999.0000,9,     -999.0,5,  -999.0,9,     -999.0,     -999.0,9,     -999.0,20130930,       1715
33RO20130803,       A16N,     142,          1,          5,          5,2,20130930,       1633,    -4.4989,   -25.0000,       5558,  3945.6,   2.2081,  34.8792,2,  34.8784,2,    253.3,2,   253.6,2,   42.90,2,   21.20,2,    0.00,2,    1.45,2,   0.151,2,   0.075,2,   0.000,2,  -999.0,9,  -999.0,9,  -999.0,9, -999.00,-999.0000,9,  -999.00, -999.00,9,  -999.0,9,  -999.0,   41.12,2,   23.64,2,     13.632,2,-999.0000,9,-999.0000,9,-999.0000,9,-999.0000,9,-999.0000,9,-999.0000,9,-999.0000,9,-999.0000,9,-999.0000,9,     -999.0,5,  -999.0,9,     -999.0,     -999.0,9,     -999.0,20130930,       1706
33RO20130803,       A16N,     142,          1,          4,          4,2,20130930,       1633,    -4.4989,   -25.0000,       5558,  4448.5,   1.0530,  34.7522,2,  34.7505,2,    227.0,2,   228.4,2,   95.30,6,   28.80,6,    0.00,6,    2.01,6,-999.000,9,-999.000,9,-999.000,9,  -999.0,9,  -999.0,9,  -999.0,9, -999.00,-999.0000,9,  -999.00, -999.00,9,  -999.0,9,  -999.0,   41.06,2,   31.35,2,     -999.0,9,-999.0000,9,-999.0000,9,-999.0000,9,-999.0000,9,-999.0000,9,-999.0000,9,-999.0000,9,-999.0000,9,-999.0000,9,     -999.0,9,  -999.0,9,     -999.0,     -999.0,9,     -999.0,20130930,       1657
33RO20130803,       A16N,     142,          1,          3,          3,2,20130930,       1633,    -4.4989,   -25.0000,       5558,  4946.5,   0.8199,  34.7209,2,  34.7196,2,    221.5,2,   222.8,2,  107.60,6,   30.60,6,    0.00,6,    2.13,6,   0.062,2,   0.026,2,   0.041,2,  2255.5,2,  2368.9,2,  -999.0,9, -999.00,   7.6303,2,    25.00, -999.00,9,  -999.0,9,  -999.0,   40.84,2,   33.23,2,     16.963,2,-999.0000,9,-999.0000,9,-999.0000,9,-999.0000,9,-999.0000,9,-999.0000,9,-999.0000,9,-999.0000,9,-999.0000,9,     -999.0,5,  -999.0,9,     -999.0,     -999.0,9,     -999.0,20130930,       1647
33RO20130803,       A16N,     142,          1,          2,          2,2,20130930,       1633,    -4.4989,   -25.0000,       5558,  5447.5,   0.7748,  34.7090,2,  34.7079,2,    220.0,2,   220.9,2,  111.80,6,   31.10,6,    0.00,6,    2.18,6,-999.000,9,-999.000,9,-999.000,9,  -999.0,9,  -999.0,9,  -999.0,9, -999.00,-999.0000,9,  -999.00, -999.00,9,  -999.0,9,  -999.0,    40.1,2,   33.72,2,     -999.0,9,-999.0000,9,-999.0000,9,-999.0000,9,-999.0000,9,-999.0000,9,-999.0000,9,-999.0000,9,-999.0000,9,-999.0000,9,     -999.0,9,  -999.0,9,     -999.0,     -999.0,9,     -999.0,20130930,       1638
33RO20130803,       A16N,     142,          1,          1,          1,2,20130930,       1633,    -4.4989,   -25.0000,       5558,  5618.8,   0.7965,  34.7088,2,  34.7076,2,    221.6,2,   220.4,2,  111.90,6,   31.20,6,    0.00,6,    2.18,6,   0.089,2,   0.039,2,   0.000,2,  2259.3,6,  2370.1,2,  -999.0,9, -999.00,   7.5756,4,    25.00, -999.00,9,  -999.0,9,  -999.0,   40.48,2,   33.68,2,     17.136,2,-999.0000,9,-999.0000,9,-999.0000,9,-999.0000,9,-999.0000,9,-999.0000,9,-999.0000,9,-999.0000,9,-999.0000,9,     -999.0,5,  -999.0,9,     -999.0,     -999.0,9,     -999.0,20130930,       1633