BOTTLE,20220815CCHSIOAMB
EXPOCODE,SECT_ID,STNNBR,CASTNO,SAMPNO,BTLNBR,BTLNBR_FLAG_W,DATE,TIME,LATITUDE,LONGITUDE,DEPTH,CTDPRS,CTDTMP,CTDSAL,CTDSAL_FLAG_W,SALNTY,SALNTY_FLAG_W,CTDOXY,CTDOXY_FLAG_W,OXYGEN,OXYGEN_FLAG_W,SILCAT,SILCAT_FLAG_W,NITRAT,NITRAT_FLAG_W,NITRIT,NITRIT_FLAG_W,PHSPHT,PHSPHT_FLAG_W,CFC-11,CFC-11_FLAG_W,CFC-12,CFC-12_FLAG_W,SF6,SF6_FLAG_W,TCARBN,TCARBN_FLAG_W,ALKALI,ALKALI_FLAG_W,PCO2,PCO2_FLAG_W,PCO2TMP,PH_SWS,PH_SWS_FLAG_W,PH_TMP,DELC13,DELC13_FLAG_W,DELC14,DELC14_FLAG_W,C14ERR,DOC,DOC_FLAG_W,TDN,TDN_FLAG_W,N2O,N2O_FLAG_W,CDOM325,CDOM325_FLAG_W,CDOM340,CDOM340_FLAG_W,CDOM380,CDOM380_FLAG_W,CDOM412,CDOM412_FLAG_W,CDOM443,CDOM443_FLAG_W,CDOM490,CDOM490_FLAG_W,CDOM555,CDOM555_FLAG_W,CDOMSL,CDOMSL_FLAG_W,CDOMSN,CDOMSN_FLAG_W,CCL4,CCL4_FLAG_W,14C-DOC,14C-DOC_FLAG_W,14C-DOCERR,13C-DOC,13C-DOC_FLAG_W,13C-DOCERR,BTL_DATE,BTL_TIME
,,,,,,,,,,,METERS,DBAR,ITS-90,PSS-78,,PSS-78,,UMOL/KG,,UMOL/KG,,UMOL/KG,,UMOL/KG,,UMOL/KG,,UMOL/KG,,PMOL/KG,,PMOL/KG,,FMOL/KG,,UMOL/KG,,UMOL/KG,,UATM,,DEG C,,,DEG C,/MILLE,,/MILLE,,/MILLE,UMOL/KG,,UMOL/KG,,NMOL/KG,,1/M,,1/M,,1/M,,1/M,,1/M,,1/M,,1/M,,1/NM,,1/NM,,PMOL/KG,,/MILLE,,/MILLE,/MILLE,,/MILLE,,
33RO20130803,       A16N,      43,          2,         24,         24,2,20130814,       2342,    43.9989,   -20.0013,       4016,     3.0,  21.3488,  35.6793,2,  35.6851,2,    227.3,2,   228.8,2,    0.70,2,    0.00,6,    0.00,6,    0.03,6,   2.176,2,   1.327,2,   1.542,2,  2067.3,6,  2349.2,2,   369.5,2,      20,   7.9936,2,    25.00, -999.00,9,  -999.0,9,  -999.0,   69.87,2,    3.88,2,      7.403,2,-999.0000,9,-999.0000,9,-999.0000,9,-999.0000,9,-999.0000,9,-999.0000,9,-999.0000,9,-999.0000,9,-999.0000,9,     -999.0,5,  -999.0,9,     -999.0,     -999.0,9,     -999.0,20130814,       0119
33RO20130803,       A16N,      43,          2,         23,         23,2,20130814,       2342,    43.9989,   -20.0013,       4016,    23.7,  17.2954,  35.7274,2,  35.7221,2,    253.4,2,   258.4,2,    0.60,2,    0.10,6,    0.02,6,    0.06,6,   2.622,2,   1.561,2,   1.768,2,  2081.2,2,  2351.0,6,   393.9,2,      20,   7.9705,2,    25.00, -999.00,9,  -999.0,9,  -999.0,    61.8,2,     5.3,2,      8.462,2,-999.0000,9,-999.0000,9,-999.0000,9,-999.0000,9,-999.0000,9,-999.0000,9,-999.0000,9,-999.0000,9,-999.0000,9,     -999.0,5,  -999.0,9,     -999.0,     -999.0,9,     -999.0,20130814,       0117
33RO20130803,       A16N,      43,          2,         22,         22,2,20130814,       2342,    43.9989,   -20.0013,       4016,    48.3,  14.1265,  35.7009,2,  35.7006,2,    243.2,2,   243.3,2,    0.90,2,    2.50,6,    1.00,6,    0.28,6,-999.000,5,-999.000,5,-999.000,5,  2116.1,2,  -999.0,5,   478.9,2,      20,   7.8995,2,    25.00, -999.00,9,  -999.0,9,  -999.0,   56.23,2,    7.94,2,     -999.0,5,-999.0000,9,-999.0000,9,-999.0000,9,-999.0000,9,-999.0000,9,-999.0000,9,-999.0000,9,-999.0000,9,-999.0000,9,     -999.0,9,  -999.0,9,     -999.0,     -999.0,9,     -999.0,20130814,       0115
33RO20130803,       A16N,      43,          2,         21,         21,2,20130814,       2342,    43.9989,   -20.0013,       4016,    73.8,  13.3392,  35.7037,2,  35.7045,2,    238.6,2,   238.7,2,    1.80,2,    6.10,6,    0.03,6,    0.40,6,   2.898,6,   1.707,6,   1.882,6,  2126.3,2,  2345.9,2,   515.2,2,      20,   7.8705,2,    25.00, -999.00,9,  -999.0,9,  -999.0,   54.87,2,    9.16,2,      9.744,6,-999.0000,9,-999.0000,9,-999.0000,9,-999.0000,9,-999.0000,9,-999.0000,9,-999.0000,9,-999.0000,9,-999.0000,9,     -999.0,5,  -999.0,9,     -999.0,     -999.0,9,     -999.0,20130814,       0114
33RO20130803,       A16N,      43,          2,         20,         20,2,20130814,       2342,    43.9989,   -20.0013,       4016,    99.1,  13.0179,  35.7032,2,  35.7016,2,    239.3,2,   238.1,2,    2.40,2,    6.90,6,    0.02,6,    0.44,6,   2.898,2,   1.709,2,   1.804,2,  2129.9,2,  2346.9,2,   525.9,2,      20,   7.8638,2,    25.00, -999.00,9,  -999.0,9,  -999.0,   54.22,2,    9.65,2,      9.790,2,-999.0000,9,-999.0000,9,-999.0000,9,-999.0000,9,-999.0000,9,-999.0000,9,-999.0000,9,-999.0000,9,-999.0000,9,     -999.0,5,  -999.0,9,     -999.0,     -999.0,9,     -999.0,20130814,       0112
33RO20130803,       A16N,      43,          2,         19,         19,2,20130814,       2342,    43.9989,   -20.0013,       4016,   123.4,  12.8753,  35.6905,2,  35.6891,2,    239.1,2,   238.2,2,    2.50,2,    7.10,6,    0.02,6,    0.46,6,   2.929,2,   1.713,2,   1.810,2,  2130.6,2,  2345.2,2,   530.0,2,      20,   7.8609,2,    25.00, -999.00,9,  -999.0,9,  -999.0,   53.58,2,   10.45,2,      9.917,2,-999.0000,9,-999.0000,9,-999.0000,9,-999.0000,9,-999.0000,9,-999.0000,9,-999.0000,9,-999.0000,9,-999.0000,9,     -999.0,5,  -999.0,9,     -999.0,     -999.0,9,     -999.0,20130814,       0110
33RO20130803,       A16N,      43,          2,         18,         18,2,20130814,       2342,    43.9989,   -20.0013,       4016,   148.8,  12.4635,  35.6110,2,  35.6189,2,    237.6,2,   236.4,2,    3.40,2,    8.50,6,    0.02,6,    0.54,6,   2.897,2,   1.694,2,   1.974,2,  2133.7,2,  2342.6,2,   544.7,2,      20,   7.8497,2,    25.00, -999.00,9,  -999.0,9,  -999.0,   53.21,2,   11.13,2,     10.415,2,-999.0000,9,-999.0000,9,-999.0000,9,-999.0000,9,-999.0000,9,-999.0000,9,-999.0000,9,-999.0000,9,-999.0000,9,     -999.0,5,  -999.0,9,     -999.0,     -999.0,9,     -999.0,20130814,       0108
33RO20130803,       A16N,      43,          2,         17,         17,2,20130814,       2342,    43.9989,   -20.0013,       4016,   198.8,  12.2486,  35.6012,2,  35.6025,2,    236.5,2,     235,2,    3.50,6,    9.00,6,    0.01,6,    0.57,6,   2.918,2,   1.708,2,   1.759,2,  2138.1,2,  2340.8,2,   557.9,2,      20,   7.8399,6,    25.00, -999.00,9,  -999.0,9,  -999.0,   52.45,2,   11.97,2,     10.715,2,-999.0000,9,-999.0000,9,-999.0000,9,-999.0000,9,-999.0000,9,-999.0000,9,-999.0000,9,-999.0000,9,-999.0000,9,     -999.0,5,  -999.0,9,     -999.0,     -999.0,9,     -999.0,20130814,       0106
33RO20130803,       A16N,      43,          2,         16,         16,2,20130814,       2342,    43.9989,   -20.0013,       4016,   273.5,  12.0876,  35.6099,2,  35.6092,2,    234.5,2,   236.7,2,    3.50,2,    9.20,2,    0.01,2,    0.58,2,   2.961,2,   1.720,2,   1.744,2,  2141.4,2,  2342.5,2,   565.5,2,      20,   7.8367,2,    25.00, -999.00,9,  -999.0,9,  -999.0,    51.8,2,   12.05,2,     10.891,2,-999.0000,9,-999.0000,9,-999.0000,9,-999.0000,9,-999.0000,9,-999.0000,9,-999.0000,9,-999.0000,9,-999.0000,9,     -999.0,5,  -999.0,9,     -999.0,     -999.0,9,     -999.0,20130814,       0103
33RO20130803,       A16N,      43,          2,         15,         15,2,20130814,       2342,    43.9989,   -20.0013,       4016,   348.4,  11.9285,  35.6099,2,  35.6081,2,    231.4,2,   230.6,2,    3.80,2,   10.10,2,    0.01,2,    0.64,2,   2.961,2,   1.728,2,   1.709,2,  2145.7,2,  2353.2,4,   582.9,2,      20,   7.8240,2,    25.00, -999.00,9,  -999.0,9,  -999.0,   50.27,2,   12.24,2,     11.342,2,-999.0000,9,-999.0000,9,-999.0000,9,-999.0000,9,-999.0000,9,-999.0000,9,-999.0000,9,-999.0000,9,-999.0000,9,     -999.0,5,  -999.0,9,     -999.0,     -999.0,9,     -999.0,20130814,       0101
33RO20130803,       A16N,      43,          2,         14,         14,2,20130814,       2342,    43.9989,   -20.0013,       4016,   421.8,  11.6963,  35.6059,2,  35.6065,2,    221.4,2,   224.9,2,    4.10,2,   11.20,2,    0.01,2,    0.70,2,   2.971,2,   1.717,2,   1.645,2,  2152.6,2,  2328.1,4,   606.9,2,      20,   7.8083,2,    25.00, -999.00,9,  -999.0,9,  -999.0,    48.9,2,   13.71,2,     11.774,2,-999.0000,9,-999.0000,9,-999.0000,9,-999.0000,9,-999.0000,9,-999.0000,9,-999.0000,9,-999.0000,9,-999.0000,9,     -999.0,5,  -999.0,9,     -999.0,     -999.0,9,     -999.0,20130814,       0058
33RO20130803,       A16N,      43,          2,         13,         13,2,20130814,       2342,    43.9989,   -20.0013,       4016,   499.0,  11.4932,  35.5891,2,  35.5876,2,    225.7,2,   222.8,2,    4.40,2,   11.80,2,    0.01,2,    0.73,2,   2.967,2,   1.707,2,   1.541,2,  2155.9,2,  2337.9,2,   617.3,2,      20,   7.8044,2,    25.00, -999.00,9,  -999.0,9,  -999.0,   47.55,2,   14.31,2,     12.069,2,-999.0000,9,-999.0000,9,-999.0000,9,-999.0000,9,-999.0000,9,-999.0000,9,-999.0000,9,-999.0000,9,-999.0000,9,     -999.0,5,  -999.0,9,     -999.0,     -999.0,9,     -999.0,20130814,       0056
33RO20130803,       A16N,      43,          2,         12,         12,2,20130814,       2342,    43.9989,   -20.0013,       4016,   649.2,  10.4390,  35.4677,2,  35.4651,2,    199.6,2,   197.3,2,    7.40,2,   15.80,2,    0.01,2,    0.99,2,-999.000,5,-999.000,5,-999.000,5,  2173.3,2,  2332.4,2,   696.5,2,      20,   7.7575,2,    25.00, -999.00,9,  -999.0,9,  -999.0,   46.52,2,    18.2,2,     -999.0,5,-999.0000,9,-999.0000,9,-999.0000,9,-999.0000,9,-999.0000,9,-999.0000,9,-999.0000,9,-999.0000,9,-999.0000,9,     -999.0,5,  -999.0,9,     -999.0,     -999.0,9,     -999.0,20130814,       0052
33RO20130803,       A16N,      43,          2,         11,         11,2,20130814,       2342,    43.9989,   -20.0013,       4016,   838.3,   9.6707,  35.6134,2,  35.6124,2,    184.0,2,   184.8,2,    9.70,2,   17.60,2,    0.00,2,    1.11,2,   2.111,2,   1.134,2,   0.684,2,  2190.9,6,  2423.1,4,   726.5,2,      20,   7.7413,2,    25.00, -999.00,9,  -999.0,9,  -999.0,   45.76,2,   20.31,2,     15.382,2,-999.0000,9,-999.0000,9,-999.0000,9,-999.0000,9,-999.0000,9,-999.0000,9,-999.0000,9,-999.0000,9,-999.0000,9,     -999.0,5,  -999.0,9,     -999.0,     -999.0,9,     -999.0,20130814,       0048
33RO20130803,       A16N,      43,          2,         10,         10,2,20130814,       2342,    43.9989,   -20.0013,       4016,   948.5,   9.1903,  35.6646,2,  35.6642,2,    189.5,2,   190.1,2,   10.20,2,   17.60,2,    0.00,2,    1.10,2,   2.049,2,   1.084,2,   0.625,2,  2196.0,2,  2394.8,4,   723.2,2,      20,   7.7438,2,    25.00, -999.00,9,  -999.0,9,  -999.0,   44.65,2,   20.23,2,     15.121,2,-999.0000,9,-999.0000,9,-999.0000,9,-999.0000,9,-999.0000,9,-999.0000,9,-999.0000,9,-999.0000,9,-999.0000,9,     -999.0,5,  -999.0,9,     -999.0,     -999.0,9,     -999.0,20130814,       0045
33RO20130803,       A16N,      43,          2,          9,          9,2,20130814,       2342,    43.9989,   -20.0013,       4016,  1099.5,   7.6029,  35.4538,2,  35.4626,2,    208.2,2,   209.2,2,   10.90,2,   17.80,2,    0.00,2,    1.14,2,   2.322,2,   1.228,2,   0.630,2,  2189.8,2,  2400.5,4,   748.7,2,      20,   7.7296,2,    25.00, -999.00,9,  -999.0,9,  -999.0,   44.05,2,   20.18,2,     14.755,2,-999.0000,9,-999.0000,9,-999.0000,9,-999.0000,9,-999.0000,9,-999.0000,9,-999.0000,9,-999.0000,9,-999.0000,9,     -999.0,5,  -999.0,9,     -999.0,     -999.0,9,     -999.0,20130814,       0041
33RO20130803,       A16N,      43,          2,          8,          8,2,20130814,       2342,    43.9989,   -20.0013,       4016,  1298.3,   5.6933,  35.1785,2,  35.1774,2,    236.4,2,   236.8,2,   11.20,2,   17.80,2,    0.00,2,    1.16,2,   2.882,2,   1.490,2,   0.836,2,  2179.1,2,  2380.3,4,   773.7,2,      20,   7.7131,2,    25.00, -999.00,9,  -999.0,9,  -999.0,   43.89,2,   20.35,2,     14.363,2,-999.0000,9,-999.0000,9,-999.0000,9,-999.0000,9,-999.0000,9,-999.0000,9,-999.0000,9,-999.0000,9,-999.0000,9,     -999.0,5,  -999.0,9,     -999.0,     -999.0,9,     -999.0,20130814,       0036
33RO20130803,       A16N,      43,          2,          7,          7,2,20130814,       2342,    43.9989,   -20.0013,       4016,  1598.9,   4.2236,  34.9771,2,  34.9765,2,    261.9,2,     261,2,   11.50,2,   17.60,2,    0.00,2,    1.16,2,   3.264,2,   1.661,2,   0.866,2,  2167.6,2,  2336.7,4,   781.9,2,      20,   7.7061,2,    25.00, -999.00,9,  -999.0,9,  -999.0,   43.63,2,   20.37,2,     13.767,2,-999.0000,9,-999.0000,9,-999.0000,9,-999.0000,9,-999.0000,9,-999.0000,9,-999.0000,9,-999.0000,9,-999.0000,9,     -999.0,5,  -999.0,9,     -999.0,     -999.0,9,     -999.0,20130814,       0030
33RO20130803,       A16N,      43,          2,          6,          6,2,20130814,       2342,    43.9989,   -20.0013,       4016,  1999.1,   3.5875,  34.9346,2,  34.9341,2,    268.6,2,   289.5,4,   13.30,2,   17.60,2,    0.00,2,    1.16,2,   2.709,2,   1.315,2,   0.740,2,  2164.6,2,  2314.2,2,   766.8,2,      20,   7.7150,2,    25.00, -999.00,9,  -999.0,9,  -999.0,   43.58,2,   20.19,2,     13.293,2,-999.0000,9,-999.0000,9,-999.0000,9,-999.0000,9,-999.0000,9,-999.0000,9,-999.0000,9,-999.0000,9,-999.0000,9,     -999.0,5,  -999.0,9,     -999.0,     -999.0,9,     -999.0,20130814,       0022
33RO20130803,       A16N,      43,          2,          5,          5,2,20130814,       2342,    43.9989,   -20.0013,       4016,  2399.3,   3.1965,  34.9385,2,  34.9382,2,    265.2,2,     264,2,   18.40,2,   18.00,2,    0.00,2,    1.20,2,   1.873,2,   0.914,2,   0.359,2,  2171.9,2,  -999.0,5,   757.4,2,      20,   7.7201,2,    25.00, -999.00,9,  -999.0,9,  -999.0,   43.26,2,   20.49,2,     13.210,2,-999.0000,9,-999.0000,9,-999.0000,9,-999.0000,9,-999.0000,9,-999.0000,9,-999.0000,9,-999.0000,9,-999.0000,9,     -999.0,5,  -999.0,9,     -999.0,     -999.0,9,     -999.0,20130814,       0014
33RO20130803,       A16N,      43,          2,          4,          4,2,20130814,       2342,    43.9989,   -20.0013,       4016,  2799.1,   2.9149,  34.9433,2,  34.9429,2,    257.4,2,   256.7,2,   25.10,2,   18.90,2,    0.00,2,    1.26,2,   1.192,2,   0.587,2,   0.236,2,  2180.3,2,  2324.5,2,   757.5,2,      20,   7.7220,6,    25.00, -999.00,9,  -999.0,9,  -999.0,   43.12,2,   21.46,2,     13.294,2,-999.0000,9,-999.0000,9,-999.0000,9,-999.0000,9,-999.0000,9,-999.0000,9,-999.0000,9,-999.0000,9,-999.0000,9,     -999.0,5,  -999.0,9,     -999.0,     -999.0,9,     -999.0,20130814,       0007
33RO20130803,       A16N,      43,          2,          3,          3,2,20130814,       2342,    43.9989,   -20.0013,       4016,  3203.9,   2.6864,  34.9309,2,  34.9294,2,    247.7,2,   247.4,2,   34.30,2,   20.40,2,    0.00,2,    1.37,2,   0.588,2,   0.292,2,   0.148,2,  2189.2,2,  2338.6,2,   762.1,2,      20,   7.7242,2,    25.00, -999.00,9,  -999.0,9,  -999.0,    42.8,2,   23.51,2,     13.388,2,-999.0000,9,-999.0000,9,-999.0000,9,-999.0000,9,-999.0000,9,-999.0000,9,-999.0000,9,-999.0000,9,-999.0000,9,     -999.0,5,  -999.0,9,     -999.0,     -999.0,9,     -999.0,20130814,       2359
33RO20130803,       A16N,      43,          2,          2,          2,2,20130814,       2342,    43.9989,   -20.0013,       4016,  3599.7,   2.5507,  34.9157,2,  34.9152,2,    241.1,2,   241.1,2,   41.30,2,   21.70,2,    0.00,2,    1.46,2,   0.225,6,   0.113,6,   0.088,6,  2201.0,2,  2348.7,2,   761.9,2,      20,   7.7225,2,    25.00, -999.00,9,  -999.0,9,  -999.0,   42.29,2,   24.31,2,     13.493,6,-999.0000,9,-999.0000,9,-999.0000,9,-999.0000,9,-999.0000,9,-999.0000,9,-999.0000,9,-999.0000,9,-999.0000,9,     -999.0,5,  -999.0,9,     -999.0,     -999.0,9,     -999.0,20130814,       2351
33RO20130803,       A16N,      43,          2,          1,          1,2,20130814,       2342,    43.9989,   -20.0013,       4016,  4072.6,   2.5470,  34.9099,2,  34.9090,2,    239.3,2,   237.9,2,   43.60,2,   22.10,2,    0.00,2,    1.49,2,   0.113,2,   0.059,2,   0.058,2,  2202.3,6,  2357.2,2,   762.2,2,      20,   7.7231,2,    25.00, -999.00,9,  -999.0,9,  -999.0,   41.81,2,    24.7,2,     13.461,2,-999.0000,9,-999.0000,9,-999.0000,9,-999.0000,9,-999.0000,9,-999.0000,9,-999.0000,9,-999.0000,9,-999.0000,9,     -999.0,5,  -999.0,9,     -999.0,     -999.0,9,     -999.0,20130814,       2342