BOTTLE,20220815CCHSIOAMB
EXPOCODE,SECT_ID,STNNBR,CASTNO,SAMPNO,BTLNBR,BTLNBR_FLAG_W,DATE,TIME,LATITUDE,LONGITUDE,DEPTH,CTDPRS,CTDTMP,CTDSAL,CTDSAL_FLAG_W,SALNTY,SALNTY_FLAG_W,CTDOXY,CTDOXY_FLAG_W,OXYGEN,OXYGEN_FLAG_W,SILCAT,SILCAT_FLAG_W,NITRAT,NITRAT_FLAG_W,NITRIT,NITRIT_FLAG_W,PHSPHT,PHSPHT_FLAG_W,CFC-11,CFC-11_FLAG_W,CFC-12,CFC-12_FLAG_W,SF6,SF6_FLAG_W,TCARBN,TCARBN_FLAG_W,ALKALI,ALKALI_FLAG_W,PCO2,PCO2_FLAG_W,PCO2TMP,PH_SWS,PH_SWS_FLAG_W,PH_TMP,DELC13,DELC13_FLAG_W,DELC14,DELC14_FLAG_W,C14ERR,DOC,DOC_FLAG_W,TDN,TDN_FLAG_W,N2O,N2O_FLAG_W,CDOM325,CDOM325_FLAG_W,CDOM340,CDOM340_FLAG_W,CDOM380,CDOM380_FLAG_W,CDOM412,CDOM412_FLAG_W,CDOM443,CDOM443_FLAG_W,CDOM490,CDOM490_FLAG_W,CDOM555,CDOM555_FLAG_W,CDOMSL,CDOMSL_FLAG_W,CDOMSN,CDOMSN_FLAG_W,CCL4,CCL4_FLAG_W,14C-DOC,14C-DOC_FLAG_W,14C-DOCERR,13C-DOC,13C-DOC_FLAG_W,13C-DOCERR,BTL_DATE,BTL_TIME
,,,,,,,,,,,METERS,DBAR,ITS-90,PSS-78,,PSS-78,,UMOL/KG,,UMOL/KG,,UMOL/KG,,UMOL/KG,,UMOL/KG,,UMOL/KG,,PMOL/KG,,PMOL/KG,,FMOL/KG,,UMOL/KG,,UMOL/KG,,UATM,,DEG C,,,DEG C,/MILLE,,/MILLE,,/MILLE,UMOL/KG,,UMOL/KG,,NMOL/KG,,1/M,,1/M,,1/M,,1/M,,1/M,,1/M,,1/M,,1/NM,,1/NM,,PMOL/KG,,/MILLE,,/MILLE,/MILLE,,/MILLE,,
33RO20130803,       A16N,      28,          1,         24,         24,2,20130809,       1706,    51.5016,   -19.9998,       3638,     2.9,  16.0915,  35.1919,2,  35.1931,2,    234.9,2,   257.4,2,    0.30,2,    0.00,2,    0.01,2,    0.08,2,-999.000,9,-999.000,9,-999.000,9,  2059.3,6,  2329.2,2,   385.7,2,      20,   7.9801,2,    25.00, -999.00,9,  -999.0,9,  -999.0,   65.68,2,    5.26,2,     -999.0,9,-999.0000,9,-999.0000,9,-999.0000,9,-999.0000,9,-999.0000,9,-999.0000,9,-999.0000,9,-999.0000,9,-999.0000,9,     -999.0,9,  -999.0,9,     -999.0,     -999.0,9,     -999.0,20130809,       1832
33RO20130803,       A16N,      28,          1,         23,         23,2,20130809,       1706,    51.5016,   -19.9998,       3638,    23.3,  13.1474,  35.1511,2,  35.1568,2,    268.5,2,   273.5,2,    0.20,2,    3.50,2,    0.10,2,    0.30,2,-999.000,9,-999.000,9,-999.000,9,  2092.3,2,  2322.0,2,  -999.0,9, -999.00,   7.9074,6,    25.00, -999.00,9,  -999.0,9,  -999.0,   60.24,2,    9.01,2,     -999.0,9,-999.0000,9,-999.0000,9,-999.0000,9,-999.0000,9,-999.0000,9,-999.0000,9,-999.0000,9,-999.0000,9,-999.0000,9,     -999.0,9,  -999.0,9,     -999.0,     -999.0,9,     -999.0,20130809,       1830
33RO20130803,       A16N,      28,          1,         22,         22,2,20130809,       1706,    51.5016,   -19.9998,       3638,    49.1,  10.9106,  35.1510,2,  35.1520,2,    261.4,2,   261.7,2,    0.60,2,    6.10,2,    0.35,2,    0.56,2,-999.000,9,-999.000,9,-999.000,9,  2121.7,2,  2322.6,2,   551.8,2,      20,   7.8434,2,    25.00, -999.00,9,  -999.0,9,  -999.0,   56.34,2,    9.91,2,     -999.0,9,-999.0000,9,-999.0000,9,-999.0000,9,-999.0000,9,-999.0000,9,-999.0000,9,-999.0000,9,-999.0000,9,-999.0000,9,     -999.0,9,  -999.0,9,     -999.0,     -999.0,9,     -999.0,20130809,       1828
33RO20130803,       A16N,      28,          1,         21,         21,2,20130809,       1706,    51.5016,   -19.9998,       3638,    73.3,  10.2790,  35.1549,2,  35.1579,2,    256.3,2,   257.7,2,    1.40,2,    8.80,2,    0.49,2,    0.65,2,-999.000,9,-999.000,9,-999.000,9,  2129.0,2,  -999.0,5,  -999.0,9, -999.00,   7.8217,2,    25.00, -999.00,9,  -999.0,9,  -999.0,   52.88,2,   13.24,2,     -999.0,9,-999.0000,9,-999.0000,9,-999.0000,9,-999.0000,9,-999.0000,9,-999.0000,9,-999.0000,9,-999.0000,9,-999.0000,9,     -999.0,9,  -999.0,9,     -999.0,     -999.0,9,     -999.0,20130809,       1826
33RO20130803,       A16N,      28,          1,         20,         20,2,20130809,       1706,    51.5016,   -19.9998,       3638,    99.4,  10.0503,  35.1725,2,  35.1786,2,    254.3,2,   255.4,2,    2.50,2,   10.20,2,    0.01,2,    0.70,2,-999.000,9,-999.000,9,-999.000,9,  -999.0,9,  -999.0,9,  -999.0,9, -999.00,-999.0000,9,  -999.00, -999.00,9,  -999.0,9,  -999.0,   52.06,2,   12.83,2,     -999.0,9,-999.0000,9,-999.0000,9,-999.0000,9,-999.0000,9,-999.0000,9,-999.0000,9,-999.0000,9,-999.0000,9,-999.0000,9,     -999.0,9,  -999.0,9,     -999.0,     -999.0,9,     -999.0,20130809,       1825
33RO20130803,       A16N,      28,          1,         19,         19,2,20130809,       1706,    51.5016,   -19.9998,       3638,   124.0,   9.8960,  35.1698,2,  35.1698,2,    251.0,2,   249.9,2,    3.70,2,   11.30,2,    0.01,2,    0.76,2,-999.000,9,-999.000,9,-999.000,9,  2140.2,2,  2319.4,2,   620.9,2,      20,   7.7982,2,    25.00, -999.00,9,  -999.0,9,  -999.0,   51.43,2,   14.24,2,     -999.0,9,-999.0000,9,-999.0000,9,-999.0000,9,-999.0000,9,-999.0000,9,-999.0000,9,-999.0000,9,-999.0000,9,-999.0000,9,     -999.0,9,  -999.0,9,     -999.0,     -999.0,9,     -999.0,20130809,       1823
33RO20130803,       A16N,      28,          1,         18,         18,2,20130809,       1706,    51.5016,   -19.9998,       3638,   149.7,   9.7020,  35.1502,2,  35.1513,2,    249.0,2,   246.7,2,    4.50,2,   12.00,2,    0.01,2,    0.80,2,-999.000,9,-999.000,9,-999.000,9,  -999.0,9,  -999.0,9,  -999.0,9, -999.00,-999.0000,9,  -999.00, -999.00,9,  -999.0,9,  -999.0,   50.86,2,   14.86,2,     -999.0,9,-999.0000,9,-999.0000,9,-999.0000,9,-999.0000,9,-999.0000,9,-999.0000,9,-999.0000,9,-999.0000,9,-999.0000,9,     -999.0,9,  -999.0,9,     -999.0,     -999.0,9,     -999.0,20130809,       1821
33RO20130803,       A16N,      28,          1,         17,         17,2,20130809,       1706,    51.5016,   -19.9998,       3638,   272.5,   8.3303,  35.0164,2,  35.0154,2,    223.6,2,   220.6,2,    8.40,2,   16.40,2,    0.01,2,    1.09,2,-999.000,9,-999.000,9,-999.000,9,  2163.4,2,  2313.5,6,   753.2,2,      20,   7.7230,2,    25.00, -999.00,9,  -999.0,9,  -999.0,   49.85,2,   18.89,2,     -999.0,9,-999.0000,9,-999.0000,9,-999.0000,9,-999.0000,9,-999.0000,9,-999.0000,9,-999.0000,9,-999.0000,9,-999.0000,9,     -999.0,9,  -999.0,9,     -999.0,     -999.0,9,     -999.0,20130809,       1818
33RO20130803,       A16N,      28,          1,         16,         16,2,20130809,       1706,    51.5016,   -19.9998,       3638,   349.4,   7.1608,  34.9581,2,  34.9581,2,    201.6,2,   203.6,2,   10.80,2,   19.20,2,    0.01,2,    1.28,2,-999.000,9,-999.000,9,-999.000,9,  2177.8,2,  2308.7,2,  -999.0,9, -999.00,   7.6818,2,    25.00, -999.00,9,  -999.0,9,  -999.0,    49.2,2,   22.51,2,     -999.0,9,-999.0000,9,-999.0000,9,-999.0000,9,-999.0000,9,-999.0000,9,-999.0000,9,-999.0000,9,-999.0000,9,-999.0000,9,     -999.0,9,  -999.0,9,     -999.0,     -999.0,9,     -999.0,20130809,       1816
33RO20130803,       A16N,      28,          1,         15,         15,2,20130809,       1706,    51.5016,   -19.9998,       3638,   425.0,   6.8637,  35.0448,2,  35.0440,2,    211.5,2,   210.3,2,   10.70,2,   18.80,2,    0.01,2,    1.25,2,-999.000,9,-999.000,9,-999.000,9,  2178.6,6,  2313.6,2,   820.9,2,      20,   7.6879,2,    25.00, -999.00,9,  -999.0,9,  -999.0,    48.5,2,   20.94,2,     -999.0,9,-999.0000,9,-999.0000,9,-999.0000,9,-999.0000,9,-999.0000,9,-999.0000,9,-999.0000,9,-999.0000,9,-999.0000,9,     -999.0,9,  -999.0,9,     -999.0,     -999.0,9,     -999.0,20130809,       1814
33RO20130803,       A16N,      28,          1,         14,         14,2,20130809,       1706,    51.5016,   -19.9998,       3638,   499.3,   6.5529,  35.0985,2,  35.0999,2,    218.1,2,   217.2,2,   10.80,2,   18.50,2,    0.01,2,    1.23,2,-999.000,9,-999.000,9,-999.000,9,  2178.9,2,  2317.2,2,  -999.0,9, -999.00,   7.6929,2,    25.00, -999.00,9,  -999.0,9,  -999.0,   48.21,2,   22.76,2,     -999.0,9,-999.0000,9,-999.0000,9,-999.0000,9,-999.0000,9,-999.0000,9,-999.0000,9,-999.0000,9,-999.0000,9,-999.0000,9,     -999.0,9,  -999.0,9,     -999.0,     -999.0,9,     -999.0,20130809,       1812
33RO20130803,       A16N,      28,          1,         13,         13,2,20130809,       1706,    51.5016,   -19.9998,       3638,   599.0,   6.1740,  35.1225,2,  35.1235,2,    225.3,2,   224.9,2,   10.90,2,   18.30,2,    0.01,2,    1.21,2,-999.000,9,-999.000,9,-999.000,9,  2179.6,2,  2318.5,2,   805.0,6,      20,   7.6978,2,    25.00, -999.00,9,  -999.0,9,  -999.0,   47.69,2,   21.43,2,     -999.0,9,-999.0000,9,-999.0000,9,-999.0000,9,-999.0000,9,-999.0000,9,-999.0000,9,-999.0000,9,-999.0000,9,-999.0000,9,     -999.0,9,  -999.0,9,     -999.0,     -999.0,9,     -999.0,20130809,       1809
33RO20130803,       A16N,      28,          1,         12,         12,2,20130809,       1706,    51.5016,   -19.9998,       3638,   748.5,   5.4793,  35.0911,2,  35.0964,2,    237.5,2,   239.3,2,   10.80,2,   17.90,2,    0.00,2,    1.18,2,-999.000,9,-999.000,9,-999.000,9,  -999.0,9,  -999.0,9,  -999.0,9, -999.00,-999.0000,9,  -999.00, -999.00,9,  -999.0,9,  -999.0,   46.97,2,   20.86,2,     -999.0,9,-999.0000,9,-999.0000,9,-999.0000,9,-999.0000,9,-999.0000,9,-999.0000,9,-999.0000,9,-999.0000,9,-999.0000,9,     -999.0,9,  -999.0,9,     -999.0,     -999.0,9,     -999.0,20130809,       1805
33RO20130803,       A16N,      28,          1,         11,         11,2,20130809,       1706,    51.5016,   -19.9998,       3638,   898.6,   4.6697,  34.9938,2,  34.9958,2,    255.8,2,   255.5,2,   10.60,2,   17.50,2,    0.00,2,    1.17,2,-999.000,9,-999.000,9,-999.000,9,  2170.8,2,  2309.0,2,   797.1,2,      20,   7.7010,2,    25.00, -999.00,9,  -999.0,9,  -999.0,   46.53,2,   19.58,2,     -999.0,9,-999.0000,9,-999.0000,9,-999.0000,9,-999.0000,9,-999.0000,9,-999.0000,9,-999.0000,9,-999.0000,9,-999.0000,9,     -999.0,9,  -999.0,9,     -999.0,     -999.0,9,     -999.0,20130809,       1802
33RO20130803,       A16N,      28,          1,         10,         10,2,20130809,       1706,    51.5016,   -19.9998,       3638,  1008.1,   4.3087,  34.9568,2,  34.9626,2,    263.2,2,   263.6,2,   10.50,2,   17.30,2,    0.00,2,    1.16,2,-999.000,9,-999.000,9,-999.000,9,  -999.0,9,  -999.0,9,  -999.0,9, -999.00,-999.0000,9,  -999.00, -999.00,9,  -999.0,9,  -999.0,    45.8,2,   19.84,2,     -999.0,9,-999.0000,9,-999.0000,9,-999.0000,9,-999.0000,9,-999.0000,9,-999.0000,9,-999.0000,9,-999.0000,9,-999.0000,9,     -999.0,9,  -999.0,9,     -999.0,     -999.0,9,     -999.0,20130809,       1759
33RO20130803,       A16N,      28,          1,          9,          9,2,20130809,       1706,    51.5016,   -19.9998,       3638,  1197.7,   4.0122,  34.9352,2,  34.9344,2,    268.1,2,   268.5,2,   10.80,2,   17.20,2,    0.00,2,    1.15,2,-999.000,9,-999.000,9,-999.000,9,  2165.5,2,  2309.7,2,  -999.0,9, -999.00,   7.7037,2,    25.00, -999.00,9,  -999.0,9,  -999.0,   45.38,2,    19.5,2,     -999.0,9,-999.0000,9,-999.0000,9,-999.0000,9,-999.0000,9,-999.0000,9,-999.0000,9,-999.0000,9,-999.0000,9,-999.0000,9,     -999.0,9,  -999.0,9,     -999.0,     -999.0,9,     -999.0,20130809,       1755
33RO20130803,       A16N,      28,          1,          8,          8,2,20130809,       1706,    51.5016,   -19.9998,       3638,  1398.5,   3.7753,  34.9208,2,  34.9242,2,    269.2,2,   270.7,2,   11.20,2,   17.10,2,    0.00,2,    1.15,2,-999.000,9,-999.000,9,-999.000,9,  -999.0,9,  -999.0,9,  -999.0,9, -999.00,-999.0000,9,  -999.00, -999.00,9,  -999.0,9,  -999.0,   44.88,2,   19.64,2,     -999.0,9,-999.0000,9,-999.0000,9,-999.0000,9,-999.0000,9,-999.0000,9,-999.0000,9,-999.0000,9,-999.0000,9,-999.0000,9,     -999.0,9,  -999.0,9,     -999.0,     -999.0,9,     -999.0,20130809,       1750
33RO20130803,       A16N,      28,          1,          7,          7,2,20130809,       1706,    51.5016,   -19.9998,       3638,  1594.0,   3.6125,  34.9191,2,  34.9234,2,    270.3,2,   271.6,2,   11.70,2,   17.20,2,    0.00,2,    1.16,2,-999.000,9,-999.000,9,-999.000,9,  2161.3,2,  2304.7,2,  -999.0,9, -999.00,   7.7080,2,    25.00, -999.00,9,  -999.0,9,  -999.0,   44.54,2,   19.95,2,     -999.0,9,-999.0000,9,-999.0000,9,-999.0000,9,-999.0000,9,-999.0000,9,-999.0000,9,-999.0000,9,-999.0000,9,-999.0000,9,     -999.0,9,  -999.0,9,     -999.0,     -999.0,9,     -999.0,20130809,       1746
33RO20130803,       A16N,      28,          1,          6,          6,2,20130809,       1706,    51.5016,   -19.9998,       3638,  2048.8,   3.2630,  34.9227,2,  35.1214,4,    271.0,2,   271.8,2,   14.10,2,   17.20,2,    0.00,2,    1.16,2,-999.000,9,-999.000,9,-999.000,9,  -999.0,9,  -999.0,9,  -999.0,9, -999.00,-999.0000,9,  -999.00, -999.00,9,  -999.0,9,  -999.0,   44.31,2,   20.11,2,     -999.0,9,-999.0000,9,-999.0000,9,-999.0000,9,-999.0000,9,-999.0000,9,-999.0000,9,-999.0000,9,-999.0000,9,-999.0000,9,     -999.0,9,  -999.0,9,     -999.0,     -999.0,9,     -999.0,20130809,       1737
33RO20130803,       A16N,      28,          1,          5,          5,2,20130809,       1706,    51.5016,   -19.9998,       3638,  2396.3,   3.0513,  34.9382,2,  34.9396,2,    268.9,2,   269.4,2,   16.80,2,   17.20,2,    0.00,2,    1.16,2,   2.274,2,   1.147,2,   0.577,2,  2165.8,2,  2312.7,6,   763.1,2,      20,   7.7160,2,    25.00, -999.00,9,  -999.0,9,  -999.0,   44.42,2,   19.84,2,     13.455,2,-999.0000,9,-999.0000,9,-999.0000,9,-999.0000,9,-999.0000,9,-999.0000,9,-999.0000,9,-999.0000,9,-999.0000,9,     -999.0,5,  -999.0,9,     -999.0,     -999.0,9,     -999.0,20130809,       1730
33RO20130803,       A16N,      28,          1,          4,          4,2,20130809,       1706,    51.5016,   -19.9998,       3638,  2797.8,   2.7954,  34.9436,2,  34.9437,2,    253.7,2,   259.1,2,   25.60,6,   18.50,6,    0.00,6,    1.25,6,   1.584,2,   0.796,2,   0.504,2,  -999.0,9,  -999.0,9,  -999.0,9, -999.00,-999.0000,9,  -999.00, -999.00,9,  -999.0,9,  -999.0,   44.54,2,   20.58,2,     13.618,2,-999.0000,9,-999.0000,9,-999.0000,9,-999.0000,9,-999.0000,9,-999.0000,9,-999.0000,9,-999.0000,9,-999.0000,9,     -999.0,5,  -999.0,9,     -999.0,     -999.0,9,     -999.0,20130809,       1723
33RO20130803,       A16N,      28,          1,          3,          3,2,20130809,       1706,    51.5016,   -19.9998,       3638,  3198.9,   2.5787,  34.9228,2,  34.9238,2,    245.1,2,     246,2,   38.20,6,   20.90,6,    0.00,6,    1.42,6,   0.512,2,   0.246,2,   0.143,2,  2193.4,2,  2345.7,2,   765.0,2,      20,   7.7232,6,    25.00, -999.00,9,  -999.0,9,  -999.0,   44.04,2,   23.02,2,     13.763,2,-999.0000,9,-999.0000,9,-999.0000,9,-999.0000,9,-999.0000,9,-999.0000,9,-999.0000,9,-999.0000,9,-999.0000,9,     -999.0,5,  -999.0,9,     -999.0,     -999.0,9,     -999.0,20130809,       1714
33RO20130803,       A16N,      28,          1,          1,          1,2,20130809,       1706,    51.5016,   -19.9998,       3638,  3676.6,   2.4566,  34.9063,2,  34.9124,4,    239.3,2,   238.4,2,   45.50,6,   22.10,6,    0.01,6,    1.52,6,   0.077,2,   0.035,2,   0.039,2,  2204.3,6,  2355.9,2,   762.6,2,      20,   7.7356,2,    25.00, -999.00,9,  -999.0,9,  -999.0,   44.66,2,   24.32,2,     13.849,2,-999.0000,9,-999.0000,9,-999.0000,9,-999.0000,9,-999.0000,9,-999.0000,9,-999.0000,9,-999.0000,9,-999.0000,9,     -999.0,5,  -999.0,9,     -999.0,     -999.0,9,     -999.0,20130809,       1705
33RO20130803,       A16N,      28,          1,          2,          2,2,20130809,       1706,    51.5016,   -19.9998,       3638,  3676.1,   2.4566,  34.9063,2,  34.9063,2,    239.2,2,   239.4,2,   45.60,6,   22.10,6,    0.01,6,    1.51,6,   0.078,2,   0.035,2,   0.051,2,  -999.0,9,  -999.0,9,  -999.0,9, -999.00,-999.0000,9,  -999.00, -999.00,9,  -999.0,9,  -999.0,   44.28,2,   24.07,2,     13.903,2,-999.0000,9,-999.0000,9,-999.0000,9,-999.0000,9,-999.0000,9,-999.0000,9,-999.0000,9,-999.0000,9,-999.0000,9,     -999.0,5,  -999.0,9,     -999.0,     -999.0,9,     -999.0,20130809,       1706