BOTTLE,20220815CCHSIOAMB
EXPOCODE,SECT_ID,STNNBR,CASTNO,SAMPNO,BTLNBR,BTLNBR_FLAG_W,DATE,TIME,LATITUDE,LONGITUDE,DEPTH,CTDPRS,CTDTMP,CTDSAL,CTDSAL_FLAG_W,SALNTY,SALNTY_FLAG_W,CTDOXY,CTDOXY_FLAG_W,OXYGEN,OXYGEN_FLAG_W,SILCAT,SILCAT_FLAG_W,NITRAT,NITRAT_FLAG_W,NITRIT,NITRIT_FLAG_W,PHSPHT,PHSPHT_FLAG_W,CFC-11,CFC-11_FLAG_W,CFC-12,CFC-12_FLAG_W,SF6,SF6_FLAG_W,TCARBN,TCARBN_FLAG_W,ALKALI,ALKALI_FLAG_W,PCO2,PCO2_FLAG_W,PCO2TMP,PH_SWS,PH_SWS_FLAG_W,PH_TMP,DELC13,DELC13_FLAG_W,DELC14,DELC14_FLAG_W,C14ERR,DOC,DOC_FLAG_W,TDN,TDN_FLAG_W,N2O,N2O_FLAG_W,CDOM325,CDOM325_FLAG_W,CDOM340,CDOM340_FLAG_W,CDOM380,CDOM380_FLAG_W,CDOM412,CDOM412_FLAG_W,CDOM443,CDOM443_FLAG_W,CDOM490,CDOM490_FLAG_W,CDOM555,CDOM555_FLAG_W,CDOMSL,CDOMSL_FLAG_W,CDOMSN,CDOMSN_FLAG_W,CCL4,CCL4_FLAG_W,14C-DOC,14C-DOC_FLAG_W,14C-DOCERR,13C-DOC,13C-DOC_FLAG_W,13C-DOCERR,BTL_DATE,BTL_TIME
,,,,,,,,,,,METERS,DBAR,ITS-90,PSS-78,,PSS-78,,UMOL/KG,,UMOL/KG,,UMOL/KG,,UMOL/KG,,UMOL/KG,,UMOL/KG,,PMOL/KG,,PMOL/KG,,FMOL/KG,,UMOL/KG,,UMOL/KG,,UATM,,DEG C,,,DEG C,/MILLE,,/MILLE,,/MILLE,UMOL/KG,,UMOL/KG,,NMOL/KG,,1/M,,1/M,,1/M,,1/M,,1/M,,1/M,,1/M,,1/NM,,1/NM,,PMOL/KG,,/MILLE,,/MILLE,/MILLE,,/MILLE,,
33RO20130803,       A16N,      55,          1,         24,         24,2,20130817,       0756,    38.0029,   -20.0056,       5125,     3.1,  21.6353,  36.4789,2,  36.4819,2,    220.0,2,   221.5,2,    0.30,2,    0.00,2,    0.00,2,    0.02,2,   2.010,2,   1.241,2,   1.482,2,  2102.9,6,  2397.6,2,   378.9,2,      20,   7.9879,2,    25.00, -999.00,9,  -999.0,9,  -999.0, -999.00,9, -999.00,9,      7.171,2,   0.0723,2,   0.0425,3,   0.0012,3,  -0.0013,4,  -0.0073,4,  -0.0021,4,  -0.0059,4,   0.0728,4,   0.0467,4,     -999.0,5,  -999.0,9,     -999.0,     -999.0,9,     -999.0,20130817,       0956
33RO20130803,       A16N,      55,          1,         23,         23,2,20130817,       0756,    38.0029,   -20.0056,       5125,    20.1,  21.6021,  36.4777,2,  36.4757,2,    219.8,2,   222.1,2,    0.20,2,    0.00,2,    0.00,2,    0.02,2,   2.012,2,   1.247,2,   1.462,2,  2102.2,2,  2395.4,6,   379.1,2,      20,   7.9862,2,    25.00, -999.00,9,  -999.0,9,  -999.0, -999.00,9, -999.00,9,      7.174,2,   0.0767,2,   0.0470,2,   0.0052,3,   0.0025,3,  -0.0039,4,   0.0002,4,  -0.0046,3,   0.0556,4,   0.0423,4,     -999.0,5,  -999.0,9,     -999.0,     -999.0,9,     -999.0,20130817,       0954
33RO20130803,       A16N,      55,          1,         22,         22,2,20130817,       0756,    38.0029,   -20.0056,       5125,    48.2,  19.1402,  36.2912,2,  36.2896,2,    241.5,2,   242.4,2,    0.20,2,    0.00,2,    0.00,2,    0.02,2,   2.339,6,   1.413,6,   1.636,6,  2098.0,2,  2381.8,2,   388.1,2,      20,   7.9757,2,    25.00, -999.00,9,  -999.0,9,  -999.0, -999.00,9, -999.00,9,      7.887,6,   0.1139,2,   0.0717,2,   0.0168,3,   0.0098,2,   0.0004,4,   0.0019,3,  -0.0031,3,   0.0352,3,   0.0346,3,     -999.0,5,  -999.0,9,     -999.0,     -999.0,9,     -999.0,20130817,       0952
33RO20130803,       A16N,      55,          1,         21,         21,2,20130817,       0756,    38.0029,   -20.0056,       5125,    71.9,  17.0327,  36.1650,2,  36.1667,2,    248.1,2,   247.5,2,    0.30,2,    0.00,2,    0.00,2,    0.03,2,   2.530,2,   1.520,2,   1.703,2,  2098.6,2,  2372.7,2,   401.0,2,      20,   7.9649,2,    25.00, -999.00,9,  -999.0,9,  -999.0, -999.00,9, -999.00,9,      8.420,2,   0.1767,2,   0.1211,2,   0.0407,2,   0.0260,2,   0.0094,2,   0.0062,3,  -0.0010,4,   0.0260,2,   0.0270,2,     -999.0,5,  -999.0,9,     -999.0,     -999.0,9,     -999.0,20130817,       0950
33RO20130803,       A16N,      55,          1,         20,         20,2,20130817,       0756,    38.0029,   -20.0056,       5125,    95.9,  16.2020,  36.1637,2,  36.1571,2,    241.8,2,   239.4,2,    0.70,2,    0.20,2,    0.02,2,    0.07,2,   2.555,2,   1.523,2,   1.713,2,  2110.4,2,  2373.0,2,   423.6,2,      20,   7.9498,2,    25.00, -999.00,9,  -999.0,9,  -999.0, -999.00,9, -999.00,9,      8.765,2,   0.1485,2,   0.1026,2,   0.0377,2,   0.0275,2,   0.0109,2,   0.0068,3,  -0.0011,4,   0.0238,2,   0.0254,2,     -999.0,5,  -999.0,9,     -999.0,     -999.0,9,     -999.0,20130817,       0948
33RO20130803,       A16N,      55,          1,         19,         19,2,20130817,       0756,    38.0029,   -20.0056,       5125,   147.3,  15.0230,  36.0434,2,  36.0442,2,    226.2,2,   224.9,2,    1.30,2,    3.50,2,    0.02,2,    0.26,2,   2.649,2,   1.575,2,   1.708,2,  2124.1,2,  2369.4,2,   473.2,2,      20,   7.9037,6,    25.00, -999.00,9,  -999.0,9,  -999.0, -999.00,9, -999.00,9,      9.406,2,   0.1112,2,   0.0735,2,   0.0217,2,   0.0157,2,   0.0016,3,   0.0008,3,  -0.0042,4,   0.0287,3,   0.0300,3,     -999.0,5,  -999.0,9,     -999.0,     -999.0,9,     -999.0,20130817,       0945
33RO20130803,       A16N,      55,          1,         18,         18,2,20130817,       0756,    38.0029,   -20.0056,       5125,   224.6,  14.0733,  35.9328,2,  35.9233,2,    214.8,2,   212.8,2,    2.60,2,    7.40,2,    0.01,2,    0.49,2,   2.727,2,   1.592,2,   1.562,2,  2138.5,2,  2360.8,2,   528.4,2,      20,   7.8615,2,    25.00, -999.00,9,  -999.0,9,  -999.0, -999.00,9, -999.00,9,     10.781,2,   0.1091,2,   0.0717,2,   0.0217,2,   0.0158,2,   0.0019,3,   0.0013,3,  -0.0041,4,   0.0282,3,   0.0300,3,     -999.0,5,  -999.0,9,     -999.0,     -999.0,9,     -999.0,20130817,       0942
33RO20130803,       A16N,      55,          1,         17,         17,2,20130817,       0756,    38.0029,   -20.0056,       5125,   300.0,  13.2243,  35.8159,2,  35.8174,2,    210.4,2,   208.8,2,    3.50,2,    9.70,2,    0.01,2,    0.62,2,   2.759,2,   1.598,2,   1.437,2,  2146.0,2,  2355.3,2,   564.4,2,      20,   7.8363,2,    25.00, -999.00,9,  -999.0,9,  -999.0, -999.00,9, -999.00,9,     11.802,2,   0.1079,2,   0.0703,2,   0.0211,2,   0.0149,2,   0.0020,3,   0.0015,3,  -0.0039,3,   0.0288,3,   0.0304,3,     -999.0,5,  -999.0,9,     -999.0,     -999.0,9,     -999.0,20130817,       0939
33RO20130803,       A16N,      55,          1,         16,         16,2,20130817,       0756,    38.0029,   -20.0056,       5125,   383.7,  12.5630,  35.7263,2,  35.7263,2,    209.7,2,     209,2,    4.00,2,   10.90,2,    0.01,2,    0.70,2,   2.812,2,   1.627,2,   1.442,2,  2150.5,2,  2345.8,2,   591.3,2,      20,   7.8156,2,    25.00, -999.00,9,  -999.0,9,  -999.0, -999.00,9, -999.00,9,     12.423,2,   0.1065,2,   0.0691,2,   0.0201,2,   0.0138,2,   0.0014,3,   0.0010,3,  -0.0043,4,   0.0296,3,   0.0309,3,     -999.0,5,  -999.0,9,     -999.0,     -999.0,9,     -999.0,20130817,       0937
33RO20130803,       A16N,      55,          1,         15,         15,2,20130817,       0756,    38.0029,   -20.0056,       5125,   505.5,  11.8328,  35.6397,2,  35.6397,2,    201.1,2,   204.1,2,    5.00,2,   12.90,2,    0.00,2,    0.81,2,   2.794,2,   1.585,2,   1.288,2,  2156.9,2,  2338.3,2,   630.0,2,      20,   7.7902,2,    25.00, -999.00,9,  -999.0,9,  -999.0, -999.00,9, -999.00,9,     13.162,2,   0.1094,2,   0.0704,2,   0.0205,2,   0.0138,2,   0.0014,3,   0.0010,3,  -0.0042,4,   0.0298,3,   0.0312,3,     -999.0,5,  -999.0,9,     -999.0,     -999.0,9,     -999.0,20130817,       0932
33RO20130803,       A16N,      55,          1,         14,         14,2,20130817,       0756,    38.0029,   -20.0056,       5125,   639.7,  10.7939,  35.5478,2,  35.5511,2,    182.5,2,   181.5,2,    8.10,2,   16.90,2,    0.00,2,    1.08,2,   2.229,2,   1.212,2,   0.776,2,  2174.6,2,  2336.5,2,   698.9,2,      20,   7.7534,2,    25.00, -999.00,9,  -999.0,9,  -999.0, -999.00,9, -999.00,9,     15.475,2,   0.1101,2,   0.0702,2,   0.0207,2,   0.0139,2,   0.0018,3,   0.0013,3,  -0.0041,4,   0.0296,3,   0.0312,3,     -999.0,5,  -999.0,9,     -999.0,     -999.0,9,     -999.0,20130817,       0929
33RO20130803,       A16N,      55,          1,         13,         13,2,20130817,       0756,    38.0029,   -20.0056,       5125,   822.5,  10.4331,  35.7422,2,  35.7449,2,    176.7,2,   177.5,2,    9.60,2,   17.40,2,    0.00,2,    1.10,2,   1.831,2,   0.978,2,   0.530,2,  2190.6,2,  2372.9,3,   700.3,2,      20,   7.7528,2,    25.00, -999.00,9,  -999.0,9,  -999.0, -999.00,9, -999.00,9,     15.413,2,   0.1139,2,   0.0735,2,   0.0223,2,   0.0144,2,   0.0021,3,   0.0013,3,  -0.0042,4,   0.0292,3,   0.0305,3,     -999.0,5,  -999.0,9,     -999.0,     -999.0,9,     -999.0,20130817,       0925
33RO20130803,       A16N,      55,          1,         12,         12,2,20130817,       0756,    38.0029,   -20.0056,       5125,   962.7,  10.0772,  35.8376,2,  35.8389,2,    179.4,2,   180.6,2,   10.30,2,   17.30,2,    0.00,2,    1.10,2,   1.677,2,   0.886,2,   0.487,2,  2198.5,6,  2374.3,2,   695.4,2,      20,   7.7575,2,    25.00, -999.00,9,  -999.0,9,  -999.0, -999.00,9, -999.00,9,     15.095,2,   0.1045,2,   0.0666,2,   0.0188,3,   0.0120,2,   0.0007,3,   0.0007,3,  -0.0044,3,   0.0308,3,   0.0319,3,     -999.0,5,  -999.0,9,     -999.0,     -999.0,9,     -999.0,20130817,       0921
33RO20130803,       A16N,      55,          1,         11,         11,2,20130817,       0756,    38.0029,   -20.0056,       5125,  1090.9,   9.8133,  35.8901,2,  35.8927,2,    183.9,2,   184.9,2,   10.60,2,   17.00,2,    0.00,2,    1.08,2,   1.625,2,   0.866,2,   0.431,2,  2200.8,2,  2379.1,6,   691.0,2,      20,   7.7613,2,    25.00, -999.00,9,  -999.0,9,  -999.0, -999.00,9, -999.00,9,     14.993,2,   0.1073,2,   0.0697,2,   0.0205,2,   0.0133,2,   0.0016,3,   0.0012,3,  -0.0041,4,   0.0298,3,   0.0307,3,     -999.0,5,  -999.0,9,     -999.0,     -999.0,9,     -999.0,20130817,       0918
33RO20130803,       A16N,      55,          1,         10,         10,2,20130817,       0756,    38.0029,   -20.0056,       5125,  1306.9,   9.0854,  35.8752,2,  35.8743,2,    194.0,2,   195.1,2,   11.30,2,   16.80,2,    0.00,2,    1.08,2,   1.542,2,   0.809,2,   0.394,2,  2202.2,2,  2380.5,2,   687.7,2,      20,   7.7634,2,    25.00, -999.00,9,  -999.0,9,  -999.0, -999.00,9, -999.00,9,     14.342,2,   0.1127,2,   0.0732,2,   0.0227,2,   0.0149,2,   0.0029,3,   0.0021,3,  -0.0034,3,   0.0285,2,   0.0300,2,     -999.0,5,  -999.0,9,     -999.0,     -999.0,9,     -999.0,20130817,       0913
33RO20130803,       A16N,      55,          1,          9,          9,2,20130817,       0756,    38.0029,   -20.0056,       5125,  1612.7,   5.9135,  35.3171,2,  35.3170,2,    232.6,2,   231.7,2,   12.80,2,   17.70,2,    0.00,2,    1.16,2,   1.890,2,   0.947,2,   0.378,2,  2181.2,2,  2341.9,2,   735.1,2,      20,   7.7338,6,    25.00, -999.00,9,  -999.0,9,  -999.0, -999.00,9, -999.00,9,     13.982,2,   0.1184,2,   0.0770,2,   0.0243,2,   0.0156,2,   0.0030,3,   0.0018,3,  -0.0037,4,   0.0282,2,   0.0296,2,     -999.0,5,  -999.0,9,     -999.0,     -999.0,9,     -999.0,20130817,       0906
33RO20130803,       A16N,      55,          1,          8,          8,2,20130817,       0756,    38.0029,   -20.0056,       5125,  1939.9,   4.4389,  35.1025,2,  35.1108,2,    252.0,2,   250.5,2,   14.60,2,   17.90,2,    0.00,2,    1.20,2,   1.608,2,   0.778,2,   0.283,2,  2171.4,2,  2329.2,2,   740.0,2,      20,   7.7269,2,    25.00, -999.00,9,  -999.0,9,  -999.0, -999.00,9, -999.00,9,     13.594,2,   0.1197,2,   0.0773,2,   0.0247,2,   0.0160,2,   0.0033,3,   0.0021,3,  -0.0035,4,   0.0279,2,   0.0296,2,     -999.0,5,  -999.0,9,     -999.0,     -999.0,9,     -999.0,20130817,       0859
33RO20130803,       A16N,      55,          1,          7,          7,2,20130817,       0756,    38.0029,   -20.0056,       5125,  2407.1,   3.4707,  34.9931,2,  34.9944,2,    254.6,2,   255.1,2,   20.60,2,   18.50,2,    0.00,2,    1.25,2,   0.784,2,   0.386,2,   0.137,2,  2171.4,2,  2342.1,3,   739.5,2,      20,   7.7282,2,    25.00, -999.00,9,  -999.0,9,  -999.0, -999.00,9, -999.00,9,     13.333,2,   0.1155,2,   0.0742,2,   0.0225,2,   0.0137,2,   0.0014,3,   0.0008,3,  -0.0044,4,   0.0294,2,   0.0306,2,     -999.0,5,  -999.0,9,     -999.0,     -999.0,9,     -999.0,20130817,       0850
33RO20130803,       A16N,      55,          1,          6,          6,2,20130817,       0756,    38.0029,   -20.0056,       5125,  2778.2,   3.0528,  34.9599,2,  34.9604,2,    254.8,2,   252.8,2,   26.60,2,   19.20,2,    0.00,2,    1.31,2,   0.460,2,   0.229,2,   0.053,2,  2176.8,2,  2339.4,2,   742.8,2,      20,   7.7278,2,    25.00, -999.00,9,  -999.0,9,  -999.0, -999.00,9, -999.00,9,     13.273,2,   0.1278,2,   0.0851,2,   0.0315,2,   0.0216,2,   0.0079,2,   0.0053,3,  -0.0016,4,   0.0245,2,   0.0265,2,     -999.0,5,  -999.0,9,     -999.0,     -999.0,9,     -999.0,20130817,       0843
33RO20130803,       A16N,      55,          1,          5,          5,2,20130817,       0756,    38.0029,   -20.0056,       5125,  3212.0,   2.7316,  34.9336,2,  34.9337,2,    248.7,2,   247.9,2,   34.20,2,   20.30,2,    0.00,2,    1.38,2,   0.367,2,   0.181,2,   0.064,2,  2187.8,2,  2332.8,2,   752.0,2,      20,   7.7629,4,    25.00, -999.00,9,  -999.0,9,  -999.0, -999.00,9, -999.00,9,     13.502,2,   0.1228,2,   0.0813,2,   0.0293,2,   0.0195,2,   0.0063,2,   0.0040,2,  -0.0024,4,   0.0252,2,   0.0271,2,     -999.0,5,  -999.0,9,     -999.0,     -999.0,9,     -999.0,20130817,       0835
33RO20130803,       A16N,      55,          1,          4,          4,2,20130817,       0756,    38.0029,   -20.0056,       5125,  3643.4,   2.6035,  34.9198,2,  34.9219,2,    244.5,2,   243.9,2,   39.90,6,   21.20,6,    0.00,6,    1.45,6,   0.175,2,   0.087,2,   0.051,2,  2195.2,2,  2344.1,2,   755.0,2,      20,   7.7271,2,    25.00, -999.00,9,  -999.0,9,  -999.0, -999.00,9, -999.00,9,     12.525,3,   0.1262,2,   0.0844,2,   0.0322,2,   0.0221,2,   0.0086,2,   0.0057,3,  -0.0015,4,   0.0238,2,   0.0259,2,     -999.0,5,  -999.0,9,     -999.0,     -999.0,9,     -999.0,20130817,       0827
33RO20130803,       A16N,      55,          1,          3,          3,2,20130817,       0756,    38.0029,   -20.0056,       5125,  4161.6,   2.5406,  34.9085,2,  34.9083,2,    242.7,2,   242.3,2,   43.40,6,   21.80,6,    0.00,6,    1.49,6,   0.075,6,   0.040,6,   0.039,6,  2199.1,2,  2348.1,2,   756.4,2,      20,   7.7258,2,    25.00, -999.00,9,  -999.0,9,  -999.0, -999.00,9, -999.00,9,     13.611,6,   0.1276,2,   0.0841,2,   0.0308,2,   0.0207,2,   0.0073,2,   0.0044,2,  -0.0024,4,   0.0248,2,   0.0269,2,     -999.0,5,  -999.0,9,     -999.0,     -999.0,9,     -999.0,20130817,       0816
33RO20130803,       A16N,      55,          1,          2,          2,2,20130817,       0756,    38.0029,   -20.0056,       5125,  4628.2,   2.5291,  34.9015,2,  34.9035,2,    242.6,2,   242.3,2,   45.00,6,   22.00,6,    0.00,6,    1.50,6,   0.035,2,   0.023,2,   0.042,2,  2200.9,2,  2347.6,6,   754.3,2,      20,   7.7307,2,    25.00, -999.00,9,  -999.0,9,  -999.0, -999.00,9, -999.00,9,     13.648,2,   0.1262,2,   0.0846,2,   0.0328,2,   0.0225,2,   0.0091,2,   0.0060,3,  -0.0013,4,   0.0235,2,   0.0255,2,     -999.0,5,  -999.0,9,     -999.0,     -999.0,9,     -999.0,20130817,       0807
33RO20130803,       A16N,      55,          1,          1,          1,2,20130817,       0756,    38.0029,   -20.0056,       5125,  5210.0,   2.5148,  34.8923,2,  34.8963,2,    243.5,2,   243.1,2,   46.70,6,   22.20,6,    0.00,6,    1.52,6,   0.008,2,   0.008,2,   0.011,2,  2200.2,6,  2356.0,2,   752.1,2,      20,   7.7276,2,    25.00, -999.00,9,  -999.0,9,  -999.0, -999.00,9, -999.00,9,     13.764,2,   0.1319,2,   0.0879,2,   0.0337,2,   0.0226,2,   0.0088,2,   0.0056,3,  -0.0016,4,   0.0238,2,   0.0258,2,     -999.0,5,  -999.0,9,     -999.0,     -999.0,9,     -999.0,20130817,       0756