BOTTLE,20220815CCHSIOAMB
EXPOCODE,SECT_ID,STNNBR,CASTNO,SAMPNO,BTLNBR,BTLNBR_FLAG_W,DATE,TIME,LATITUDE,LONGITUDE,DEPTH,CTDPRS,CTDTMP,CTDSAL,CTDSAL_FLAG_W,SALNTY,SALNTY_FLAG_W,CTDOXY,CTDOXY_FLAG_W,OXYGEN,OXYGEN_FLAG_W,SILCAT,SILCAT_FLAG_W,NITRAT,NITRAT_FLAG_W,NITRIT,NITRIT_FLAG_W,PHSPHT,PHSPHT_FLAG_W,CFC-11,CFC-11_FLAG_W,CFC-12,CFC-12_FLAG_W,SF6,SF6_FLAG_W,TCARBN,TCARBN_FLAG_W,ALKALI,ALKALI_FLAG_W,PCO2,PCO2_FLAG_W,PCO2TMP,PH_SWS,PH_SWS_FLAG_W,PH_TMP,DELC13,DELC13_FLAG_W,DELC14,DELC14_FLAG_W,C14ERR,DOC,DOC_FLAG_W,TDN,TDN_FLAG_W,N2O,N2O_FLAG_W,CDOM325,CDOM325_FLAG_W,CDOM340,CDOM340_FLAG_W,CDOM380,CDOM380_FLAG_W,CDOM412,CDOM412_FLAG_W,CDOM443,CDOM443_FLAG_W,CDOM490,CDOM490_FLAG_W,CDOM555,CDOM555_FLAG_W,CDOMSL,CDOMSL_FLAG_W,CDOMSN,CDOMSN_FLAG_W,CCL4,CCL4_FLAG_W,14C-DOC,14C-DOC_FLAG_W,14C-DOCERR,13C-DOC,13C-DOC_FLAG_W,13C-DOCERR,BTL_DATE,BTL_TIME
,,,,,,,,,,,METERS,DBAR,ITS-90,PSS-78,,PSS-78,,UMOL/KG,,UMOL/KG,,UMOL/KG,,UMOL/KG,,UMOL/KG,,UMOL/KG,,PMOL/KG,,PMOL/KG,,FMOL/KG,,UMOL/KG,,UMOL/KG,,UATM,,DEG C,,,DEG C,/MILLE,,/MILLE,,/MILLE,UMOL/KG,,UMOL/KG,,NMOL/KG,,1/M,,1/M,,1/M,,1/M,,1/M,,1/M,,1/M,,1/NM,,1/NM,,PMOL/KG,,/MILLE,,/MILLE,/MILLE,,/MILLE,,
33RO20130803,       A16N,      44,          1,         24,         24,2,20130814,       0547,    43.5003,   -20.0032,       4009,     2.1,  21.2460,  35.7092,2,  35.7151,2,    229.5,2,   231.9,2,    0.30,2,    0.00,2,    0.01,2,    0.03,2,-999.000,9,-999.000,9,-999.000,9,  2058.1,6,  2352.7,2,  -999.0,9, -999.00,   8.0110,2,    25.00, -999.00,9,  -999.0,9,  -999.0,   69.49,2,    3.66,2,     -999.0,9,-999.0000,9,-999.0000,9,-999.0000,9,-999.0000,9,-999.0000,9,-999.0000,9,-999.0000,9,-999.0000,9,-999.0000,9,     -999.0,9,  -999.0,9,     -999.0,     -999.0,9,     -999.0,20130814,       0722
33RO20130803,       A16N,      44,          1,         23,         23,2,20130814,       0547,    43.5003,   -20.0032,       4009,    31.6,  17.6327,  35.6977,2,  35.6915,2,    243.5,2,   250.1,2,    0.30,2,    0.10,2,    0.01,2,    0.08,2,-999.000,9,-999.000,9,-999.000,9,  2078.5,2,  2350.8,6,  -999.0,9, -999.00,   7.9711,2,    25.00, -999.00,9,  -999.0,9,  -999.0,      61,2,    4.32,2,     -999.0,9,-999.0000,9,-999.0000,9,-999.0000,9,-999.0000,9,-999.0000,9,-999.0000,9,-999.0000,9,-999.0000,9,-999.0000,9,     -999.0,9,  -999.0,9,     -999.0,     -999.0,9,     -999.0,20130814,       0720
33RO20130803,       A16N,      44,          1,         22,         22,2,20130814,       0547,    43.5003,   -20.0032,       4009,    61.3,  14.1126,  35.6486,2,  35.6511,2,    241.9,2,   242.7,2,    0.50,2,    2.40,2,    0.46,2,    0.31,2,-999.000,9,-999.000,9,-999.000,9,  2116.1,2,  2346.8,2,  -999.0,9, -999.00,   7.8994,2,    25.00, -999.00,9,  -999.0,9,  -999.0,   59.82,2,    7.07,2,     -999.0,9,-999.0000,9,-999.0000,9,-999.0000,9,-999.0000,9,-999.0000,9,-999.0000,9,-999.0000,9,-999.0000,9,-999.0000,9,     -999.0,9,  -999.0,9,     -999.0,     -999.0,9,     -999.0,20130814,       0718
33RO20130803,       A16N,      44,          1,         21,         21,2,20130814,       0547,    43.5003,   -20.0032,       4009,    86.9,  13.0540,  35.6408,2,  35.6503,2,    244.0,2,   244.3,2,    1.30,2,    5.90,2,    0.52,2,    0.43,2,-999.000,9,-999.000,9,-999.000,9,  2125.7,2,  2342.4,2,  -999.0,9, -999.00,   7.8712,2,    25.00, -999.00,9,  -999.0,9,  -999.0,    58.5,2,    9.54,2,     -999.0,9,-999.0000,9,-999.0000,9,-999.0000,9,-999.0000,9,-999.0000,9,-999.0000,9,-999.0000,9,-999.0000,9,-999.0000,9,     -999.0,9,  -999.0,9,     -999.0,     -999.0,9,     -999.0,20130814,       0716
33RO20130803,       A16N,      44,          1,         20,         20,2,20130814,       0547,    43.5003,   -20.0032,       4009,   111.5,  12.5674,  35.6241,2,  35.6241,2,    244.7,2,   244.3,2,    2.40,2,    7.50,2,    0.01,2,    0.49,2,-999.000,9,-999.000,9,-999.000,9,  -999.0,9,  -999.0,9,  -999.0,9, -999.00,-999.0000,9,  -999.00, -999.00,9,  -999.0,9,  -999.0,   56.87,2,   10.19,2,     -999.0,9,-999.0000,9,-999.0000,9,-999.0000,9,-999.0000,9,-999.0000,9,-999.0000,9,-999.0000,9,-999.0000,9,-999.0000,9,     -999.0,9,  -999.0,9,     -999.0,     -999.0,9,     -999.0,20130814,       0714
33RO20130803,       A16N,      44,          1,         19,         19,2,20130814,       0547,    43.5003,   -20.0032,       4009,   127.2,  12.3513,  35.6106,2,  35.6123,2,    243.9,2,   242.7,2,    2.90,2,    8.10,2,    0.01,2,    0.52,2,-999.000,9,-999.000,9,-999.000,9,  2131.2,2,  2341.5,2,  -999.0,9, -999.00,   7.8500,6,    25.00, -999.00,9,  -999.0,9,  -999.0,   55.67,2,   11.24,2,     -999.0,9,-999.0000,9,-999.0000,9,-999.0000,9,-999.0000,9,-999.0000,9,-999.0000,9,-999.0000,9,-999.0000,9,-999.0000,9,     -999.0,9,  -999.0,9,     -999.0,     -999.0,9,     -999.0,20130814,       0713
33RO20130803,       A16N,      44,          1,         18,         18,2,20130814,       0547,    43.5003,   -20.0032,       4009,   161.5,  12.0846,  35.5910,2,  35.5914,2,    241.4,2,     241,2,    3.40,2,    8.90,2,    0.01,2,    0.57,2,-999.000,9,-999.000,9,-999.000,9,  -999.0,9,  -999.0,9,  -999.0,9, -999.00,-999.0000,9,  -999.00, -999.00,9,  -999.0,9,  -999.0,   53.17,2,   12.03,2,     -999.0,9,-999.0000,9,-999.0000,9,-999.0000,9,-999.0000,9,-999.0000,9,-999.0000,9,-999.0000,9,-999.0000,9,-999.0000,9,     -999.0,9,  -999.0,9,     -999.0,     -999.0,9,     -999.0,20130814,       0711
33RO20130803,       A16N,      44,          1,         17,         17,2,20130814,       0547,    43.5003,   -20.0032,       4009,   223.6,  11.9019,  35.5850,2,  35.5849,2,    238.9,2,   236.2,2,    3.70,2,    9.70,2,    0.01,2,    0.61,2,-999.000,9,-999.000,9,-999.000,9,  -999.0,9,  -999.0,9,  -999.0,9, -999.00,-999.0000,9,  -999.00, -999.00,9,  -999.0,9,  -999.0,   51.15,2,   12.89,2,     -999.0,9,-999.0000,9,-999.0000,9,-999.0000,9,-999.0000,9,-999.0000,9,-999.0000,9,-999.0000,9,-999.0000,9,-999.0000,9,     -999.0,9,  -999.0,9,     -999.0,     -999.0,9,     -999.0,20130814,       0709
33RO20130803,       A16N,      44,          1,         16,         16,2,20130814,       0547,    43.5003,   -20.0032,       4009,   310.1,  11.5236,  35.5499,2,  35.5522,2,    224.4,2,   224.2,2,    4.60,2,   11.70,2,    0.01,2,    0.73,2,-999.000,9,-999.000,9,-999.000,9,  2147.4,2,  2364.4,4,  -999.0,9, -999.00,   7.8093,2,    25.00, -999.00,9,  -999.0,9,  -999.0,   49.76,2,    15.2,2,     -999.0,9,-999.0000,9,-999.0000,9,-999.0000,9,-999.0000,9,-999.0000,9,-999.0000,9,-999.0000,9,-999.0000,9,-999.0000,9,     -999.0,9,  -999.0,9,     -999.0,     -999.0,9,     -999.0,20130814,       0707
33RO20130803,       A16N,      44,          1,         15,         15,2,20130814,       0547,    43.5003,   -20.0032,       4009,   372.6,  11.2975,  35.5316,2,  35.5348,2,    222.0,2,   223.1,2,    4.80,2,   12.10,2,    0.01,2,    0.76,2,-999.000,9,-999.000,9,-999.000,9,  -999.0,9,  -999.0,9,  -999.0,9, -999.00,-999.0000,9,  -999.00, -999.00,9,  -999.0,9,  -999.0,   49.11,2,   15.82,2,     -999.0,9,-999.0000,9,-999.0000,9,-999.0000,9,-999.0000,9,-999.0000,9,-999.0000,9,-999.0000,9,-999.0000,9,-999.0000,9,     -999.0,9,  -999.0,9,     -999.0,     -999.0,9,     -999.0,20130814,       0705
33RO20130803,       A16N,      44,          1,         14,         14,2,20130814,       0547,    43.5003,   -20.0032,       4009,   461.6,  10.9306,  35.5068,2,  35.5064,2,    213.8,2,   213.3,2,    5.70,2,   13.60,2,    0.01,2,    0.85,2,-999.000,9,-999.000,9,-999.000,9,  -999.0,9,  -999.0,9,  -999.0,9, -999.00,-999.0000,9,  -999.00, -999.00,9,  -999.0,9,  -999.0,   47.89,2,   16.05,2,     -999.0,9,-999.0000,9,-999.0000,9,-999.0000,9,-999.0000,9,-999.0000,9,-999.0000,9,-999.0000,9,-999.0000,9,-999.0000,9,     -999.0,9,  -999.0,9,     -999.0,     -999.0,9,     -999.0,20130814,       0702
33RO20130803,       A16N,      44,          1,         13,         13,2,20130814,       0547,    43.5003,   -20.0032,       4009,   536.6,  10.4896,  35.4647,2,  35.4624,2,    202.2,2,     201,2,    7.10,2,   15.40,2,    0.01,2,    0.96,2,   2.669,2,   1.490,2,   1.179,2,  2165.4,2,  2334.2,2,  -999.0,9, -999.00,   7.7596,2,    25.00, -999.00,9,  -999.0,9,  -999.0,   46.96,2,   17.76,2,     14.471,2,-999.0000,9,-999.0000,9,-999.0000,9,-999.0000,9,-999.0000,9,-999.0000,9,-999.0000,9,-999.0000,9,-999.0000,9,     -999.0,5,  -999.0,9,     -999.0,     -999.0,9,     -999.0,20130814,       0700
33RO20130803,       A16N,      44,          1,         12,         12,2,20130814,       0547,    43.5003,   -20.0032,       4009,   723.7,   9.5262,  35.4906,2,  35.4922,2,    185.0,2,   185.1,2,    9.60,2,   17.90,2,    0.00,2,    1.13,2,   2.235,2,   1.196,2,   0.743,2,  2184.8,6,  2340.8,2,  -999.0,9, -999.00,   7.7330,2,    25.00, -999.00,9,  -999.0,9,  -999.0,   45.85,2,   20.33,2,     15.853,2,-999.0000,9,-999.0000,9,-999.0000,9,-999.0000,9,-999.0000,9,-999.0000,9,-999.0000,9,-999.0000,9,-999.0000,9,     -999.0,5,  -999.0,9,     -999.0,     -999.0,9,     -999.0,20130814,       0656
33RO20130803,       A16N,      44,          1,         11,         11,2,20130814,       0547,    43.5003,   -20.0032,       4009,   873.4,   8.4132,  35.4613,2,  35.4619,2,    195.2,2,   195.5,2,   10.50,2,   18.20,2,    0.00,2,    1.16,2,   2.237,2,   1.181,2,   0.707,2,  2185.7,2,  2339.8,2,  -999.0,9, -999.00,   7.7287,2,    25.00, -999.00,9,  -999.0,9,  -999.0,    44.7,2,   20.99,2,     15.458,2,-999.0000,9,-999.0000,9,-999.0000,9,-999.0000,9,-999.0000,9,-999.0000,9,-999.0000,9,-999.0000,9,-999.0000,9,     -999.0,5,  -999.0,9,     -999.0,     -999.0,9,     -999.0,20130814,       0652
33RO20130803,       A16N,      44,          1,         10,         10,2,20130814,       0547,    43.5003,   -20.0032,       4009,  1023.6,   7.8089,  35.4796,2,  35.4802,2,    205.9,2,   206.7,2,   10.80,2,   17.80,2,    0.00,2,    1.14,2,   2.310,2,   1.209,2,   0.677,2,  -999.0,9,  -999.0,9,  -999.0,9, -999.00,-999.0000,9,  -999.00, -999.00,9,  -999.0,9,  -999.0,   43.55,2,   20.65,2,     14.886,2,-999.0000,9,-999.0000,9,-999.0000,9,-999.0000,9,-999.0000,9,-999.0000,9,-999.0000,9,-999.0000,9,-999.0000,9,     -999.0,5,  -999.0,9,     -999.0,     -999.0,9,     -999.0,20130814,       0648
33RO20130803,       A16N,      44,          1,          9,          9,2,20130814,       0547,    43.5003,   -20.0032,       4009,  1136.8,   6.4310,  35.2699,2,  35.2765,2,    224.8,2,   223.9,2,   11.00,2,   17.90,2,    0.00,2,    1.16,2,-999.000,9,-999.000,9,-999.000,9,  -999.0,9,  -999.0,9,  -999.0,9, -999.00,-999.0000,9,  -999.00, -999.00,9,  -999.0,9,  -999.0,   43.67,2,   21.01,2,     -999.0,9,-999.0000,9,-999.0000,9,-999.0000,9,-999.0000,9,-999.0000,9,-999.0000,9,-999.0000,9,-999.0000,9,-999.0000,9,     -999.0,9,  -999.0,9,     -999.0,     -999.0,9,     -999.0,20130814,       0645
33RO20130803,       A16N,      44,          1,          8,          8,2,20130814,       0547,    43.5003,   -20.0032,       4009,  1349.1,   4.8865,  35.0529,2,  35.0535,2,    249.7,2,   249.8,2,   11.10,2,   17.70,2,    0.00,2,    1.16,2,-999.000,9,-999.000,9,-999.000,9,  -999.0,9,  -999.0,9,  -999.0,9, -999.00,-999.0000,9,  -999.00, -999.00,9,  -999.0,9,  -999.0,   43.37,2,   20.49,2,     -999.0,9,-999.0000,9,-999.0000,9,-999.0000,9,-999.0000,9,-999.0000,9,-999.0000,9,-999.0000,9,-999.0000,9,-999.0000,9,     -999.0,9,  -999.0,9,     -999.0,     -999.0,9,     -999.0,20130814,       0641
33RO20130803,       A16N,      44,          1,          7,          7,2,20130814,       0547,    43.5003,   -20.0032,       4009,  1670.2,   4.0115,  34.9628,2,  34.9637,2,    264.2,2,   264.9,2,   12.00,2,   17.60,2,    0.00,2,    1.16,2,-999.000,9,-999.000,9,-999.000,9,  2164.5,2,  2307.2,2,  -999.0,9, -999.00,   7.7095,6,    25.00, -999.00,9,  -999.0,9,  -999.0,   42.67,2,   20.53,2,     -999.0,9,-999.0000,9,-999.0000,9,-999.0000,9,-999.0000,9,-999.0000,9,-999.0000,9,-999.0000,9,-999.0000,9,-999.0000,9,     -999.0,9,  -999.0,9,     -999.0,     -999.0,9,     -999.0,20130814,       0634
33RO20130803,       A16N,      44,          1,          6,          6,2,20130814,       0547,    43.5003,   -20.0032,       4009,  2095.3,   3.3675,  34.9195,2,  34.9204,2,    271.9,2,   270.7,2,   13.50,2,   17.40,2,    0.00,2,    1.15,2,   2.669,2,   1.291,2,   0.502,2,  -999.0,9,  -999.0,9,  -999.0,9, -999.00,-999.0000,9,  -999.00, -999.00,9,  -999.0,9,  -999.0,   41.99,2,      20,2,     13.169,2,-999.0000,9,-999.0000,9,-999.0000,9,-999.0000,9,-999.0000,9,-999.0000,9,-999.0000,9,-999.0000,9,-999.0000,9,     -999.0,5,  -999.0,9,     -999.0,     -999.0,9,     -999.0,20130814,       0626
33RO20130803,       A16N,      44,          1,          5,          5,2,20130814,       0547,    43.5003,   -20.0032,       4009,  2499.3,   3.0857,  34.9431,2,  34.9418,2,    260.8,2,   261.7,2,   20.40,6,   18.20,6,    0.00,6,    1.21,6,-999.000,9,-999.000,9,-999.000,9,  -999.0,9,  -999.0,9,  -999.0,9, -999.00,-999.0000,9,  -999.00, -999.00,9,  -999.0,9,  -999.0,   41.71,2,   20.98,2,     -999.0,9,-999.0000,9,-999.0000,9,-999.0000,9,-999.0000,9,-999.0000,9,-999.0000,9,-999.0000,9,-999.0000,9,-999.0000,9,     -999.0,9,  -999.0,9,     -999.0,     -999.0,9,     -999.0,20130814,       0618
33RO20130803,       A16N,      44,          1,          4,          4,2,20130814,       0547,    43.5003,   -20.0032,       4009,  2898.0,   2.8292,  34.9411,2,  34.9433,2,    253.2,2,   253.8,2,   28.40,6,   19.30,6,    0.00,6,    1.30,6,   0.913,2,   0.448,2,   0.197,2,  2179.7,2,  2329.2,6,  -999.0,9, -999.00,   7.7261,2,    25.00, -999.00,9,  -999.0,9,  -999.0,   41.66,2,   22.29,2,     13.291,2,-999.0000,9,-999.0000,9,-999.0000,9,-999.0000,9,-999.0000,9,-999.0000,9,-999.0000,9,-999.0000,9,-999.0000,9,     -999.0,5,  -999.0,9,     -999.0,     -999.0,9,     -999.0,20130814,       0610
33RO20130803,       A16N,      44,          1,          3,          3,2,20130814,       0547,    43.5003,   -20.0032,       4009,  2998.6,   2.7738,  34.9378,2,  34.9381,2,    251.5,2,   251.5,2,   30.20,6,   19.60,6,    0.00,6,    1.32,6,-999.000,9,-999.000,9,-999.000,9,  -999.0,9,  -999.0,9,  -999.0,9, -999.00,-999.0000,9,  -999.00, -999.00,9,  -999.0,9,  -999.0,   41.42,2,   21.98,2,     -999.0,9,-999.0000,9,-999.0000,9,-999.0000,9,-999.0000,9,-999.0000,9,-999.0000,9,-999.0000,9,-999.0000,9,-999.0000,9,     -999.0,9,  -999.0,9,     -999.0,     -999.0,9,     -999.0,20130814,       0607
33RO20130803,       A16N,      44,          1,          2,          2,2,20130814,       0547,    43.5003,   -20.0032,       4009,  3698.7,   2.5421,  34.9138,2,  34.9141,2,    240.3,2,     240,2,   42.10,6,   21.70,6,    0.00,6,    1.46,6,   0.186,6,   0.093,6,   0.085,6,  -999.0,9,  -999.0,9,  -999.0,9, -999.00,-999.0000,9,  -999.00, -999.00,9,  -999.0,9,  -999.0,   41.44,2,   23.96,2,     13.491,6,-999.0000,9,-999.0000,9,-999.0000,9,-999.0000,9,-999.0000,9,-999.0000,9,-999.0000,9,-999.0000,9,-999.0000,9,     -999.0,5,  -999.0,9,     -999.0,     -999.0,9,     -999.0,20130814,       0554
33RO20130803,       A16N,      44,          1,          1,          1,2,20130814,       0547,    43.5003,   -20.0032,       4009,  4059.1,   2.5426,  34.9096,2,  34.9091,2,    239.5,2,   238.6,2,   43.70,6,   22.00,6,    0.00,6,    1.48,6,   0.112,2,   0.071,2,   0.049,2,  2201.2,2,  2352.9,2,  -999.0,9, -999.00,   7.7350,2,    25.00, -999.00,9,  -999.0,9,  -999.0,   41.56,2,   24.16,2,     13.516,2,-999.0000,9,-999.0000,9,-999.0000,9,-999.0000,9,-999.0000,9,-999.0000,9,-999.0000,9,-999.0000,9,-999.0000,9,     -999.0,5,  -999.0,9,     -999.0,     -999.0,9,     -999.0,20130814,       0547