BOTTLE,20220815CCHSIOAMB
EXPOCODE,SECT_ID,STNNBR,CASTNO,SAMPNO,BTLNBR,BTLNBR_FLAG_W,DATE,TIME,LATITUDE,LONGITUDE,DEPTH,CTDPRS,CTDTMP,CTDSAL,CTDSAL_FLAG_W,SALNTY,SALNTY_FLAG_W,CTDOXY,CTDOXY_FLAG_W,OXYGEN,OXYGEN_FLAG_W,SILCAT,SILCAT_FLAG_W,NITRAT,NITRAT_FLAG_W,NITRIT,NITRIT_FLAG_W,PHSPHT,PHSPHT_FLAG_W,CFC-11,CFC-11_FLAG_W,CFC-12,CFC-12_FLAG_W,SF6,SF6_FLAG_W,TCARBN,TCARBN_FLAG_W,ALKALI,ALKALI_FLAG_W,PCO2,PCO2_FLAG_W,PCO2TMP,PH_SWS,PH_SWS_FLAG_W,PH_TMP,DELC13,DELC13_FLAG_W,DELC14,DELC14_FLAG_W,C14ERR,DOC,DOC_FLAG_W,TDN,TDN_FLAG_W,N2O,N2O_FLAG_W,CDOM325,CDOM325_FLAG_W,CDOM340,CDOM340_FLAG_W,CDOM380,CDOM380_FLAG_W,CDOM412,CDOM412_FLAG_W,CDOM443,CDOM443_FLAG_W,CDOM490,CDOM490_FLAG_W,CDOM555,CDOM555_FLAG_W,CDOMSL,CDOMSL_FLAG_W,CDOMSN,CDOMSN_FLAG_W,CCL4,CCL4_FLAG_W,14C-DOC,14C-DOC_FLAG_W,14C-DOCERR,13C-DOC,13C-DOC_FLAG_W,13C-DOCERR,BTL_DATE,BTL_TIME
,,,,,,,,,,,METERS,DBAR,ITS-90,PSS-78,,PSS-78,,UMOL/KG,,UMOL/KG,,UMOL/KG,,UMOL/KG,,UMOL/KG,,UMOL/KG,,PMOL/KG,,PMOL/KG,,FMOL/KG,,UMOL/KG,,UMOL/KG,,UATM,,DEG C,,,DEG C,/MILLE,,/MILLE,,/MILLE,UMOL/KG,,UMOL/KG,,NMOL/KG,,1/M,,1/M,,1/M,,1/M,,1/M,,1/M,,1/M,,1/NM,,1/NM,,PMOL/KG,,/MILLE,,/MILLE,/MILLE,,/MILLE,,
33RO20130803,       A16N,     126,          1,         24,         24,2,20130926,       1717,     1.3336,   -25.0003,       3641,     3.7,  26.9670,  35.8088,2,  35.8088,2,    201.7,2,     201,2,    0.90,2,    0.00,2,    0.00,2,    0.02,2,-999.000,9,-999.000,9,-999.000,9,  2006.5,6,  2343.7,2,  -999.0,9, -999.00,   8.0861,2,    25.00, -999.00,9,  -999.0,9,  -999.0, -999.00,9, -999.00,9,     -999.0,9,-999.0000,9,-999.0000,9,-999.0000,9,-999.0000,9,-999.0000,9,-999.0000,9,-999.0000,9,-999.0000,9,-999.0000,9,     -999.0,9,  -999.0,9,     -999.0,     -999.0,9,     -999.0,20130926,       1856
33RO20130803,       A16N,     126,          1,         23,         23,2,20130926,       1717,     1.3336,   -25.0003,       3641,    27.7,  26.7852,  35.8040,2,  35.8056,2,    202.5,2,   201.6,2,    1.00,2,    0.00,2,    0.00,2,    0.02,2,   1.577,2,   1.008,2,   1.184,2,  -999.0,9,  -999.0,9,  -999.0,9, -999.00,-999.0000,9,  -999.00, -999.00,9,  -999.0,9,  -999.0, -999.00,9, -999.00,9,      6.246,2,-999.0000,9,-999.0000,9,-999.0000,9,-999.0000,9,-999.0000,9,-999.0000,9,-999.0000,9,-999.0000,9,-999.0000,9,     -999.0,5,  -999.0,9,     -999.0,     -999.0,9,     -999.0,20130926,       1854
33RO20130803,       A16N,     126,          1,         22,         22,2,20130926,       1717,     1.3336,   -25.0003,       3641,    57.8,  24.3876,  35.7289,2,  35.7328,2,    205.5,2,   205.4,2,    1.40,2,    0.30,2,    0.02,2,    0.14,2,-999.000,9,-999.000,9,-999.000,9,  2050.0,2,  2347.5,2,  -999.0,9, -999.00,   8.0181,6,    25.00, -999.00,9,  -999.0,9,  -999.0, -999.00,9, -999.00,9,     -999.0,9,-999.0000,9,-999.0000,9,-999.0000,9,-999.0000,9,-999.0000,9,-999.0000,9,-999.0000,9,-999.0000,9,-999.0000,9,     -999.0,9,  -999.0,9,     -999.0,     -999.0,9,     -999.0,20130926,       1852
33RO20130803,       A16N,     126,          1,         21,         21,2,20130926,       1717,     1.3336,   -25.0003,       3641,    88.2,  17.0548,  35.6767,2,  35.6714,2,     97.3,2,    97.1,2,    5.70,2,   18.50,2,    0.04,2,    1.24,2,-999.000,9,-999.000,9,-999.000,9,  -999.0,9,  -999.0,9,  -999.0,9, -999.00,-999.0000,9,  -999.00, -999.00,9,  -999.0,9,  -999.0, -999.00,9, -999.00,9,     -999.0,9,-999.0000,9,-999.0000,9,-999.0000,9,-999.0000,9,-999.0000,9,-999.0000,9,-999.0000,9,-999.0000,9,-999.0000,9,     -999.0,9,  -999.0,9,     -999.0,     -999.0,9,     -999.0,20130926,       1850
33RO20130803,       A16N,     126,          1,         20,         20,2,20130926,       1717,     1.3336,   -25.0003,       3641,   112.6,  15.0174,  35.5319,2,  35.5220,2,     92.0,2,    94.4,2,    7.20,2,   21.50,2,    0.01,2,    1.42,2,-999.000,9,-999.000,9,-999.000,9,  2196.4,2,  2330.3,6,  -999.0,9, -999.00,   7.6796,2,    25.00, -999.00,9,  -999.0,9,  -999.0, -999.00,9, -999.00,9,     -999.0,9,-999.0000,9,-999.0000,9,-999.0000,9,-999.0000,9,-999.0000,9,-999.0000,9,-999.0000,9,-999.0000,9,-999.0000,9,     -999.0,9,  -999.0,9,     -999.0,     -999.0,9,     -999.0,20130926,       1848
33RO20130803,       A16N,     126,          1,         19,         19,2,20130926,       1717,     1.3336,   -25.0003,       3641,   138.0,  14.1075,  35.4204,2,  35.4183,2,    104.2,2,   109.1,2,    7.50,2,   21.00,2,    0.01,2,    1.39,2,   2.198,6,   1.240,6,   0.722,6,  2189.6,2,  2326.8,2,  -999.0,9, -999.00,   7.6908,2,    25.00, -999.00,9,  -999.0,9,  -999.0, -999.00,9, -999.00,9,     25.546,6,-999.0000,9,-999.0000,9,-999.0000,9,-999.0000,9,-999.0000,9,-999.0000,9,-999.0000,9,-999.0000,9,-999.0000,9,     -999.0,5,  -999.0,9,     -999.0,     -999.0,9,     -999.0,20130926,       1846
33RO20130803,       A16N,     126,          1,         18,         18,2,20130926,       1717,     1.3336,   -25.0003,       3641,   163.2,  13.5353,  35.3488,2,  35.3478,2,    124.0,2,     129,2,    7.40,2,   19.30,2,    0.01,2,    1.30,2,-999.000,9,-999.000,9,-999.000,9,  -999.0,9,  -999.0,9,  -999.0,9, -999.00,-999.0000,9,  -999.00, -999.00,9,  -999.0,9,  -999.0, -999.00,9, -999.00,9,     -999.0,9,-999.0000,9,-999.0000,9,-999.0000,9,-999.0000,9,-999.0000,9,-999.0000,9,-999.0000,9,-999.0000,9,-999.0000,9,     -999.0,9,  -999.0,9,     -999.0,     -999.0,9,     -999.0,20130926,       1843
33RO20130803,       A16N,     126,          1,         17,         17,2,20130926,       1717,     1.3336,   -25.0003,       3641,   223.2,  12.7258,  35.2397,2,  35.2388,2,    142.5,2,   142.6,2,    8.00,2,   19.20,2,    0.01,2,    1.30,2,-999.000,9,-999.000,9,-999.000,9,  -999.0,9,  -999.0,9,  -999.0,9, -999.00,-999.0000,9,  -999.00, -999.00,9,  -999.0,9,  -999.0, -999.00,9, -999.00,9,     -999.0,9,-999.0000,9,-999.0000,9,-999.0000,9,-999.0000,9,-999.0000,9,-999.0000,9,-999.0000,9,-999.0000,9,-999.0000,9,     -999.0,9,  -999.0,9,     -999.0,     -999.0,9,     -999.0,20130926,       1841
33RO20130803,       A16N,     126,          1,         16,         16,2,20130926,       1717,     1.3336,   -25.0003,       3641,   313.4,   9.6924,  34.8854,2,  34.8783,2,    123.8,2,   117.8,2,   13.70,2,   28.00,2,    0.00,2,    1.82,2,   1.765,2,   0.938,2,   0.429,2,  2204.0,2,  2304.1,2,  -999.0,9, -999.00,   7.5958,2,    25.00, -999.00,9,  -999.0,9,  -999.0, -999.00,9, -999.00,9,     29.531,2,-999.0000,9,-999.0000,9,-999.0000,9,-999.0000,9,-999.0000,9,-999.0000,9,-999.0000,9,-999.0000,9,-999.0000,9,     -999.0,5,  -999.0,9,     -999.0,     -999.0,9,     -999.0,20130926,       1837
33RO20130803,       A16N,     126,          1,         15,         15,2,20130926,       1717,     1.3336,   -25.0003,       3641,   388.1,   8.9902,  34.8069,2,  34.8050,2,    111.5,2,     112,2,   15.40,2,   30.10,2,    0.00,2,    1.94,2,-999.000,9,-999.000,9,-999.000,9,  2211.6,6,  2300.1,2,  -999.0,9, -999.00,   7.5680,2,    25.00, -999.00,9,  -999.0,9,  -999.0, -999.00,9, -999.00,9,     -999.0,9,-999.0000,9,-999.0000,9,-999.0000,9,-999.0000,9,-999.0000,9,-999.0000,9,-999.0000,9,-999.0000,9,-999.0000,9,     -999.0,9,  -999.0,9,     -999.0,     -999.0,9,     -999.0,20130926,       1834
33RO20130803,       A16N,     126,          1,         14,         14,2,20130926,       1717,     1.3336,   -25.0003,       3641,   463.3,   8.3117,  34.7363,2,  34.7342,2,    114.5,2,   115.6,2,   16.90,2,   31.20,2,    0.00,2,    2.02,2,   1.402,2,   0.729,2,   0.278,2,  2212.9,2,  2300.2,6,  -999.0,9, -999.00,   7.5548,2,    25.00, -999.00,9,  -999.0,9,  -999.0, -999.00,9, -999.00,9,     29.920,2,-999.0000,9,-999.0000,9,-999.0000,9,-999.0000,9,-999.0000,9,-999.0000,9,-999.0000,9,-999.0000,9,-999.0000,9,     -999.0,5,  -999.0,9,     -999.0,     -999.0,9,     -999.0,20130926,       1831
33RO20130803,       A16N,     126,          1,         13,         13,2,20130926,       1717,     1.3336,   -25.0003,       3641,   538.1,   6.7300,  34.5864,2,  34.5837,2,    134.1,2,   133.9,2,   21.20,2,   32.50,2,    0.00,2,    2.14,2,-999.000,9,-999.000,9,-999.000,9,  -999.0,9,  -999.0,9,  -999.0,9, -999.00,-999.0000,9,  -999.00, -999.00,9,  -999.0,9,  -999.0, -999.00,9, -999.00,9,     -999.0,9,-999.0000,9,-999.0000,9,-999.0000,9,-999.0000,9,-999.0000,9,-999.0000,9,-999.0000,9,-999.0000,9,-999.0000,9,     -999.0,9,  -999.0,9,     -999.0,     -999.0,9,     -999.0,20130926,       1829
33RO20130803,       A16N,     126,          1,         12,         12,2,20130926,       1717,     1.3336,   -25.0003,       3641,   648.4,   6.0552,  34.5378,2,  34.5371,2,    138.9,2,   138.7,2,   24.00,2,   33.40,2,    0.00,2,    2.22,2,-999.000,9,-999.000,9,-999.000,9,  -999.0,9,  -999.0,9,  -999.0,9, -999.00,-999.0000,9,  -999.00, -999.00,9,  -999.0,9,  -999.0, -999.00,9, -999.00,9,     -999.0,9,-999.0000,9,-999.0000,9,-999.0000,9,-999.0000,9,-999.0000,9,-999.0000,9,-999.0000,9,-999.0000,9,-999.0000,9,     -999.0,9,  -999.0,9,     -999.0,     -999.0,9,     -999.0,20130926,       1825
33RO20130803,       A16N,     126,          1,         11,         11,2,20130926,       1717,     1.3336,   -25.0003,       3641,   823.3,   4.9384,  34.5216,2,  34.5203,2,    148.1,2,   148.2,2,   30.10,2,   34.20,2,    0.00,2,    2.31,2,   0.341,2,   0.173,2,   0.070,2,  2219.6,2,  2307.7,2,  -999.0,9, -999.00,   7.5454,2,    25.00, -999.00,9,  -999.0,9,  -999.0, -999.00,9, -999.00,9,     24.101,2,-999.0000,9,-999.0000,9,-999.0000,9,-999.0000,9,-999.0000,9,-999.0000,9,-999.0000,9,-999.0000,9,-999.0000,9,     -999.0,5,  -999.0,9,     -999.0,     -999.0,9,     -999.0,20130926,       1820
33RO20130803,       A16N,     126,          1,         10,         10,2,20130926,       1717,     1.3336,   -25.0003,       3641,   947.9,   4.7400,  34.5820,2,  34.5810,2,    150.6,2,   149.9,2,   30.90,2,   33.60,2,    0.00,2,    2.28,2,-999.000,9,-999.000,9,-999.000,9,  -999.0,9,  -999.0,9,  -999.0,9, -999.00,-999.0000,9,  -999.00, -999.00,9,  -999.0,9,  -999.0, -999.00,9, -999.00,9,     -999.0,9,-999.0000,9,-999.0000,9,-999.0000,9,-999.0000,9,-999.0000,9,-999.0000,9,-999.0000,9,-999.0000,9,-999.0000,9,     -999.0,9,  -999.0,9,     -999.0,     -999.0,9,     -999.0,20130926,       1817
33RO20130803,       A16N,     126,          1,          9,          9,2,20130926,       1717,     1.3336,   -25.0003,       3641,  1122.6,   4.5567,  34.7413,2,  34.7425,2,    168.3,2,   169.2,2,   28.10,2,   30.00,2,    0.00,2,    2.04,2,   0.075,2,   0.039,2,   0.000,2,  2209.7,2,  2312.7,2,  -999.0,9, -999.00,   7.5958,2,    25.00, -999.00,9,  -999.0,9,  -999.0, -999.00,9, -999.00,9,     21.062,2,-999.0000,9,-999.0000,9,-999.0000,9,-999.0000,9,-999.0000,9,-999.0000,9,-999.0000,9,-999.0000,9,-999.0000,9,     -999.0,5,  -999.0,9,     -999.0,     -999.0,9,     -999.0,20130926,       1812
33RO20130803,       A16N,     126,          1,          8,          8,2,20130926,       1717,     1.3336,   -25.0003,       3641,  1272.8,   4.5698,  34.8624,2,  34.8615,2,    190.2,2,     190,2,   23.70,2,   26.50,2,    0.00,2,    1.78,2,-999.000,9,-999.000,9,-999.000,9,  -999.0,9,  -999.0,9,  -999.0,9, -999.00,-999.0000,9,  -999.00, -999.00,9,  -999.0,9,  -999.0, -999.00,9, -999.00,9,     -999.0,9,-999.0000,9,-999.0000,9,-999.0000,9,-999.0000,9,-999.0000,9,-999.0000,9,-999.0000,9,-999.0000,9,-999.0000,9,     -999.0,9,  -999.0,9,     -999.0,     -999.0,9,     -999.0,20130926,       1808
33RO20130803,       A16N,     126,          1,          7,          7,2,20130926,       1717,     1.3336,   -25.0003,       3641,  1498.0,   4.3148,  34.9639,2,  34.9638,2,    230.4,2,   226.1,2,   18.60,2,   21.60,2,    0.00,2,    1.44,2,   0.414,2,   0.209,2,   0.060,2,  2177.0,2,  2316.5,6,  -999.0,9, -999.00,   7.7013,2,    25.00, -999.00,9,  -999.0,9,  -999.0, -999.00,9, -999.00,9,     15.303,2,-999.0000,9,-999.0000,9,-999.0000,9,-999.0000,9,-999.0000,9,-999.0000,9,-999.0000,9,-999.0000,9,-999.0000,9,     -999.0,5,  -999.0,9,     -999.0,     -999.0,9,     -999.0,20130926,       1803
33RO20130803,       A16N,     126,          1,          6,          6,2,20130926,       1717,     1.3336,   -25.0003,       3641,  1697.0,   4.0225,  34.9761,2,  34.9768,2,    242.8,2,   241.4,2,   17.70,2,   20.00,2,    0.00,2,    1.34,2,   0.523,2,   0.264,2,   0.133,2,  2169.8,2,  2315.7,2,  -999.0,9, -999.00,   7.7077,2,    25.00, -999.00,9,  -999.0,9,  -999.0, -999.00,9, -999.00,9,     14.164,2,-999.0000,9,-999.0000,9,-999.0000,9,-999.0000,9,-999.0000,9,-999.0000,9,-999.0000,9,-999.0000,9,-999.0000,9,     -999.0,5,  -999.0,9,     -999.0,     -999.0,9,     -999.0,20130926,       1758
33RO20130803,       A16N,     126,          1,          5,          5,2,20130926,       1717,     1.3336,   -25.0003,       3641,  2197.8,   3.3328,  34.9540,2,  34.9540,2,    248.5,2,   248.8,2,   24.10,2,   20.00,2,    0.00,2,    1.33,2,   0.203,2,   0.103,2,   0.000,2,  2171.2,2,  2323.6,2,  -999.0,9, -999.00,   7.7203,2,    25.00, -999.00,9,  -999.0,9,  -999.0, -999.00,9, -999.00,9,     13.511,2,-999.0000,9,-999.0000,9,-999.0000,9,-999.0000,9,-999.0000,9,-999.0000,9,-999.0000,9,-999.0000,9,-999.0000,9,     -999.0,5,  -999.0,9,     -999.0,     -999.0,9,     -999.0,20130926,       1748
33RO20130803,       A16N,     126,          1,          4,          4,2,20130926,       1717,     1.3336,   -25.0003,       3641,  2597.9,   2.9625,  34.9305,2,  34.9306,2,    245.5,2,   245.9,2,   31.60,6,   20.80,6,    0.00,6,    1.40,6,-999.000,9,-999.000,9,-999.000,9,  -999.0,9,  -999.0,9,  -999.0,9, -999.00,-999.0000,9,  -999.00, -999.00,9,  -999.0,9,  -999.0, -999.00,9, -999.00,9,     -999.0,9,-999.0000,9,-999.0000,9,-999.0000,9,-999.0000,9,-999.0000,9,-999.0000,9,-999.0000,9,-999.0000,9,-999.0000,9,     -999.0,9,  -999.0,9,     -999.0,     -999.0,9,     -999.0,20130926,       1739
33RO20130803,       A16N,     126,          1,          3,          3,2,20130926,       1717,     1.3336,   -25.0003,       3641,  2998.7,   2.6764,  34.9134,2,  34.9146,2,    245.2,2,   245.7,2,   36.80,6,   21.20,6,    0.00,6,    1.43,6,   0.046,2,   0.026,2,   0.045,2,  2185.9,2,  2327.5,2,  -999.0,9, -999.00,   7.7201,2,    25.00, -999.00,9,  -999.0,9,  -999.0, -999.00,9, -999.00,9,     13.663,2,-999.0000,9,-999.0000,9,-999.0000,9,-999.0000,9,-999.0000,9,-999.0000,9,-999.0000,9,-999.0000,9,-999.0000,9,     -999.0,5,  -999.0,9,     -999.0,     -999.0,9,     -999.0,20130926,       1731
33RO20130803,       A16N,     126,          1,          2,          2,2,20130926,       1717,     1.3336,   -25.0003,       3641,  3397.7,   2.5219,  34.9018,2,  34.9019,2,    245.7,2,   245.9,2,   40.10,6,   21.40,6,    0.00,6,    1.44,6,-999.000,9,-999.000,9,-999.000,9,  -999.0,9,  -999.0,9,  -999.0,9, -999.00,-999.0000,9,  -999.00, -999.00,9,  -999.0,9,  -999.0, -999.00,9, -999.00,9,     -999.0,9,-999.0000,9,-999.0000,9,-999.0000,9,-999.0000,9,-999.0000,9,-999.0000,9,-999.0000,9,-999.0000,9,-999.0000,9,     -999.0,9,  -999.0,9,     -999.0,     -999.0,9,     -999.0,20130926,       1723
33RO20130803,       A16N,     126,          1,          1,          1,2,20130926,       1717,     1.3336,   -25.0003,       3641,  3677.1,   2.3925,  34.8909,2,  34.8915,2,    244.2,2,   244.3,2,   44.10,6,   21.90,6,    0.00,6,    1.47,6,   0.032,2,   0.020,2,   0.000,2,  2195.7,2,  2356.0,3,  -999.0,9, -999.00,   7.7192,2,    25.00, -999.00,9,  -999.0,9,  -999.0, -999.00,9, -999.00,9,     13.751,2,-999.0000,9,-999.0000,9,-999.0000,9,-999.0000,9,-999.0000,9,-999.0000,9,-999.0000,9,-999.0000,9,-999.0000,9,     -999.0,5,  -999.0,9,     -999.0,     -999.0,9,     -999.0,20130926,       1717