BOTTLE,20220815CCHSIOAMB
EXPOCODE,SECT_ID,STNNBR,CASTNO,SAMPNO,BTLNBR,BTLNBR_FLAG_W,DATE,TIME,LATITUDE,LONGITUDE,DEPTH,CTDPRS,CTDTMP,CTDSAL,CTDSAL_FLAG_W,SALNTY,SALNTY_FLAG_W,CTDOXY,CTDOXY_FLAG_W,OXYGEN,OXYGEN_FLAG_W,SILCAT,SILCAT_FLAG_W,NITRAT,NITRAT_FLAG_W,NITRIT,NITRIT_FLAG_W,PHSPHT,PHSPHT_FLAG_W,CFC-11,CFC-11_FLAG_W,CFC-12,CFC-12_FLAG_W,SF6,SF6_FLAG_W,TCARBN,TCARBN_FLAG_W,ALKALI,ALKALI_FLAG_W,PCO2,PCO2_FLAG_W,PCO2TMP,PH_SWS,PH_SWS_FLAG_W,PH_TMP,DELC13,DELC13_FLAG_W,DELC14,DELC14_FLAG_W,C14ERR,DOC,DOC_FLAG_W,TDN,TDN_FLAG_W,N2O,N2O_FLAG_W,CDOM325,CDOM325_FLAG_W,CDOM340,CDOM340_FLAG_W,CDOM380,CDOM380_FLAG_W,CDOM412,CDOM412_FLAG_W,CDOM443,CDOM443_FLAG_W,CDOM490,CDOM490_FLAG_W,CDOM555,CDOM555_FLAG_W,CDOMSL,CDOMSL_FLAG_W,CDOMSN,CDOMSN_FLAG_W,CCL4,CCL4_FLAG_W,14C-DOC,14C-DOC_FLAG_W,14C-DOCERR,13C-DOC,13C-DOC_FLAG_W,13C-DOCERR,BTL_DATE,BTL_TIME
,,,,,,,,,,,METERS,DBAR,ITS-90,PSS-78,,PSS-78,,UMOL/KG,,UMOL/KG,,UMOL/KG,,UMOL/KG,,UMOL/KG,,UMOL/KG,,PMOL/KG,,PMOL/KG,,FMOL/KG,,UMOL/KG,,UMOL/KG,,UATM,,DEG C,,,DEG C,/MILLE,,/MILLE,,/MILLE,UMOL/KG,,UMOL/KG,,NMOL/KG,,1/M,,1/M,,1/M,,1/M,,1/M,,1/M,,1/M,,1/NM,,1/NM,,PMOL/KG,,/MILLE,,/MILLE,/MILLE,,/MILLE,,
33RO20130803,       A16N,      53,          2,         24,         24,2,20130816,       1905,    38.9992,   -19.9991,       4762,     2.9,  21.3264,  36.1916,2,  36.1896,2,    222.2,2,   224.6,2,    0.40,2,    0.10,2,    0.00,2,    0.02,2,   2.081,2,   1.277,2,   1.534,2,  2099.5,6,  2372.8,2,   390.1,2,      20,   7.9767,2,    25.00, -999.00,9,  -999.0,9,  -999.0, -999.00,9, -999.00,9,      7.287,2,-999.0000,9,-999.0000,9,-999.0000,9,-999.0000,9,-999.0000,9,-999.0000,9,-999.0000,9,-999.0000,9,-999.0000,9,     -999.0,5,  -999.0,9,     -999.0,     -999.0,9,     -999.0,20130816,       2054
33RO20130803,       A16N,      53,          2,         23,         23,2,20130816,       1905,    38.9992,   -19.9991,       4762,    31.7,  18.9911,  36.0793,2,  36.0768,2,    236.5,2,   243.5,2,    0.60,2,    0.10,2,    0.00,2,    0.03,2,   2.391,2,   1.442,2,   1.671,2,  2099.1,2,  2367.2,2,   396.5,2,      20,   7.9668,2,    25.00, -999.00,9,  -999.0,9,  -999.0, -999.00,9, -999.00,9,      7.989,2,-999.0000,9,-999.0000,9,-999.0000,9,-999.0000,9,-999.0000,9,-999.0000,9,-999.0000,9,-999.0000,9,-999.0000,9,     -999.0,5,  -999.0,9,     -999.0,     -999.0,9,     -999.0,20130816,       2052
33RO20130803,       A16N,      53,          2,         22,         22,2,20130816,       1905,    38.9992,   -19.9991,       4762,    62.2,  15.9292,  35.9725,2,  35.9592,2,    258.7,2,   254.5,2,    0.80,2,    0.20,2,    0.03,2,    0.06,2,   2.678,6,   1.593,6,   1.780,6,  2103.7,2,  2360.0,2,   418.2,2,      20,   7.9495,2,    25.00, -999.00,9,  -999.0,9,  -999.0, -999.00,9, -999.00,9,      8.883,6,-999.0000,9,-999.0000,9,-999.0000,9,-999.0000,9,-999.0000,9,-999.0000,9,-999.0000,9,-999.0000,9,-999.0000,9,     -999.0,5,  -999.0,9,     -999.0,     -999.0,9,     -999.0,20130816,       2049
33RO20130803,       A16N,      53,          2,         21,         21,2,20130816,       1905,    38.9992,   -19.9991,       4762,    87.0,  15.1162,  35.9937,2,  35.9896,2,    234.1,2,   231.7,2,    1.20,2,    3.20,2,    0.04,2,    0.22,2,   2.654,2,   1.574,2,   1.752,2,  2122.5,2,  2356.7,6,   460.8,2,      20,   7.9111,2,    25.00, -999.00,9,  -999.0,9,  -999.0, -999.00,9, -999.00,9,      9.097,2,-999.0000,9,-999.0000,9,-999.0000,9,-999.0000,9,-999.0000,9,-999.0000,9,-999.0000,9,-999.0000,9,-999.0000,9,     -999.0,5,  -999.0,9,     -999.0,     -999.0,9,     -999.0,20130816,       2047
33RO20130803,       A16N,      53,          2,         20,         20,2,20130816,       1905,    38.9992,   -19.9991,       4762,   112.1,  14.7733,  35.9553,2,  35.9537,2,    231.2,2,   229.9,2,    1.40,2,    4.10,2,    0.01,2,    0.28,2,   2.692,2,   1.591,2,   1.750,2,  2125.4,2,  2354.8,2,   473.3,2,      20,   7.9049,2,    25.00, -999.00,9,  -999.0,9,  -999.0, -999.00,9, -999.00,9,      9.251,2,-999.0000,9,-999.0000,9,-999.0000,9,-999.0000,9,-999.0000,9,-999.0000,9,-999.0000,9,-999.0000,9,-999.0000,9,     -999.0,5,  -999.0,9,     -999.0,     -999.0,9,     -999.0,20130816,       2046
33RO20130803,       A16N,      53,          2,         19,         19,2,20130816,       1905,    38.9992,   -19.9991,       4762,   173.8,  14.0666,  35.8395,2,  35.8383,2,    236.0,2,   234.8,2,    1.80,2,    5.60,2,    0.01,2,    0.36,2,   2.746,2,   1.626,2,   1.787,2,  2127.2,2,  2350.8,2,   488.8,2,      20,   7.8909,2,    25.00, -999.00,9,  -999.0,9,  -999.0, -999.00,9, -999.00,9,      9.385,2,-999.0000,9,-999.0000,9,-999.0000,9,-999.0000,9,-999.0000,9,-999.0000,9,-999.0000,9,-999.0000,9,-999.0000,9,     -999.0,5,  -999.0,9,     -999.0,     -999.0,9,     -999.0,20130816,       2043
33RO20130803,       A16N,      53,          2,         18,         18,2,20130816,       1905,    38.9992,   -19.9991,       4762,   261.8,  13.5739,  35.7928,2,  35.7928,2,    229.2,2,   229.8,2,    2.30,2,    7.00,2,    0.01,2,    0.44,2,   2.796,2,   1.645,2,   1.750,2,  2132.6,2,  2347.9,2,   514.6,2,      20,   7.8707,2,    25.00, -999.00,9,  -999.0,9,  -999.0, -999.00,9, -999.00,9,     10.138,2,-999.0000,9,-999.0000,9,-999.0000,9,-999.0000,9,-999.0000,9,-999.0000,9,-999.0000,9,-999.0000,9,-999.0000,9,     -999.0,5,  -999.0,9,     -999.0,     -999.0,9,     -999.0,20130816,       2040
33RO20130803,       A16N,      53,          2,         17,         17,2,20130816,       1905,    38.9992,   -19.9991,       4762,   335.8,  13.1188,  35.7537,2,  35.7522,2,    218.3,2,   218.6,2,    3.30,2,    9.60,2,    0.00,2,    0.59,2,   2.803,2,   1.643,2,   1.610,2,  2142.3,2,  2344.9,2,   554.6,2,      20,   7.8459,2,    25.00, -999.00,9,  -999.0,9,  -999.0, -999.00,9, -999.00,9,     11.233,2,-999.0000,9,-999.0000,9,-999.0000,9,-999.0000,9,-999.0000,9,-999.0000,9,-999.0000,9,-999.0000,9,-999.0000,9,     -999.0,5,  -999.0,9,     -999.0,     -999.0,9,     -999.0,20130816,       2038
33RO20130803,       A16N,      53,          2,         16,         16,2,20130816,       1905,    38.9992,   -19.9991,       4762,   448.7,  12.4654,  35.6970,2,  35.6953,2,    216.1,2,   216.3,2,    3.80,2,   11.10,2,    0.00,2,    0.68,2,   2.863,2,   1.658,2,   1.530,2,  2148.8,2,  2340.1,2,   586.6,2,      20,   7.8205,2,    25.00, -999.00,9,  -999.0,9,  -999.0, -999.00,9, -999.00,9,     11.971,2,-999.0000,9,-999.0000,9,-999.0000,9,-999.0000,9,-999.0000,9,-999.0000,9,-999.0000,9,-999.0000,9,-999.0000,9,     -999.0,5,  -999.0,9,     -999.0,     -999.0,9,     -999.0,20130816,       2035
33RO20130803,       A16N,      53,          2,         15,         15,2,20130816,       1905,    38.9992,   -19.9991,       4762,   548.4,  11.9154,  35.6369,2,  35.6367,2,    215.5,2,   215.7,2,    4.30,2,   12.00,2,    0.00,2,    0.74,2,   2.896,2,   1.657,2,   1.450,2,  2154.3,2,  2335.6,2,   608.7,2,      20,   7.8082,2,    25.00, -999.00,9,  -999.0,9,  -999.0, -999.00,9, -999.00,9,     12.485,2,-999.0000,9,-999.0000,9,-999.0000,9,-999.0000,9,-999.0000,9,-999.0000,9,-999.0000,9,-999.0000,9,-999.0000,9,     -999.0,5,  -999.0,9,     -999.0,     -999.0,9,     -999.0,20130816,       2032
33RO20130803,       A16N,      53,          2,         14,         14,2,20130816,       1905,    38.9992,   -19.9991,       4762,   723.2,  11.0548,  35.5647,2,  35.5641,2,    199.7,2,   198.7,2,    6.50,2,   15.10,2,    0.00,2,    0.94,2,   2.635,2,   1.463,2,   1.087,2,  2167.9,2,  2335.4,6,   667.4,2,      20,   7.7723,2,    25.00, -999.00,9,  -999.0,9,  -999.0, -999.00,9, -999.00,9,     14.285,2,-999.0000,9,-999.0000,9,-999.0000,9,-999.0000,9,-999.0000,9,-999.0000,9,-999.0000,9,-999.0000,9,-999.0000,9,     -999.0,5,  -999.0,9,     -999.0,     -999.0,9,     -999.0,20130816,       2028
33RO20130803,       A16N,      53,          2,         13,         13,2,20130816,       1905,    38.9992,   -19.9991,       4762,   873.8,  10.6052,  35.6657,2,  35.6687,2,    180.7,2,   181.3,2,    8.70,2,   17.20,2,    0.00,2,    1.08,2,   2.114,2,   1.138,2,   0.665,2,  2184.4,2,  2348.6,2,   699.2,2,      20,   7.7544,6,    25.00, -999.00,9,  -999.0,9,  -999.0, -999.00,9, -999.00,9,     15.400,2,-999.0000,9,-999.0000,9,-999.0000,9,-999.0000,9,-999.0000,9,-999.0000,9,-999.0000,9,-999.0000,9,-999.0000,9,     -999.0,5,  -999.0,9,     -999.0,     -999.0,9,     -999.0,20130816,       2024
33RO20130803,       A16N,      53,          2,         12,         12,2,20130816,       1905,    38.9992,   -19.9991,       4762,  1022.7,   9.9275,  35.7414,2,  35.7416,2,    182.0,2,   184.3,2,    9.90,2,   17.60,2,    0.00,2,    1.11,2,   1.879,2,   1.003,2,   0.558,2,  2194.2,6,  2357.1,2,   705.2,2,      20,   7.7508,2,    25.00, -999.00,9,  -999.0,9,  -999.0, -999.00,9, -999.00,9,     15.319,2,-999.0000,9,-999.0000,9,-999.0000,9,-999.0000,9,-999.0000,9,-999.0000,9,-999.0000,9,-999.0000,9,-999.0000,9,     -999.0,5,  -999.0,9,     -999.0,     -999.0,9,     -999.0,20130816,       2020
33RO20130803,       A16N,      53,          2,         11,         11,2,20130816,       1905,    38.9992,   -19.9991,       4762,  1173.3,   8.4365,  35.5866,2,  35.5859,2,    198.4,2,   199.9,2,   10.80,2,   17.90,2,    0.00,2,    1.14,2,   2.058,2,   1.077,2,   0.566,2,  2194.6,2,  2347.0,2,   728.6,2,      20,   7.7394,2,    25.00, -999.00,9,  -999.0,9,  -999.0, -999.00,9, -999.00,9,     15.086,2,-999.0000,9,-999.0000,9,-999.0000,9,-999.0000,9,-999.0000,9,-999.0000,9,-999.0000,9,-999.0000,9,-999.0000,9,     -999.0,5,  -999.0,9,     -999.0,     -999.0,9,     -999.0,20130816,       2017
33RO20130803,       A16N,      53,          2,         10,         10,2,20130816,       1905,    38.9992,   -19.9991,       4762,  1399.3,   6.1642,  35.2841,2,  35.2849,2,    231.1,2,   230.7,2,   11.30,2,   17.90,2,    0.00,2,    1.16,2,   2.560,2,   1.316,2,   0.692,2,  2183.3,2,  2330.7,2,   755.2,2,      20,   7.7202,2,    25.00, -999.00,9,  -999.0,9,  -999.0, -999.00,9, -999.00,9,     14.500,2,-999.0000,9,-999.0000,9,-999.0000,9,-999.0000,9,-999.0000,9,-999.0000,9,-999.0000,9,-999.0000,9,-999.0000,9,     -999.0,5,  -999.0,9,     -999.0,     -999.0,9,     -999.0,20130816,       2012
33RO20130803,       A16N,      53,          2,          9,          9,2,20130816,       1905,    38.9992,   -19.9991,       4762,  1673.8,   4.7917,  35.1073,2,  35.1057,2,    249.8,2,   250.2,2,   12.20,2,   17.90,2,    0.00,2,    1.18,2,   2.514,2,   1.247,2,   0.523,2,  2172.8,2,  2319.4,2,   758.7,2,      20,   7.7201,2,    25.00, -999.00,9,  -999.0,9,  -999.0, -999.00,9, -999.00,9,     13.978,2,-999.0000,9,-999.0000,9,-999.0000,9,-999.0000,9,-999.0000,9,-999.0000,9,-999.0000,9,-999.0000,9,-999.0000,9,     -999.0,5,  -999.0,9,     -999.0,     -999.0,9,     -999.0,20130816,       2006
33RO20130803,       A16N,      53,          2,          8,          8,2,20130816,       1905,    38.9992,   -19.9991,       4762,  2098.1,   3.7694,  34.9859,2,  34.9852,2,    264.4,2,   262.7,2,   14.30,2,   17.90,2,    0.00,2,    1.19,2,   2.109,2,   1.022,2,   0.356,2,  2166.8,2,  2310.0,2,   753.2,2,      20,   7.7219,2,    25.00, -999.00,9,  -999.0,9,  -999.0, -999.00,9, -999.00,9,     13.469,2,-999.0000,9,-999.0000,9,-999.0000,9,-999.0000,9,-999.0000,9,-999.0000,9,-999.0000,9,-999.0000,9,-999.0000,9,     -999.0,5,  -999.0,9,     -999.0,     -999.0,9,     -999.0,20130816,       1958
33RO20130803,       A16N,      53,          2,          7,          7,2,20130816,       1905,    38.9992,   -19.9991,       4762,  2495.8,   3.2756,  34.9672,2,  34.9659,2,    257.2,2,   257.9,2,   20.90,2,   18.60,2,    0.00,2,    1.25,2,   0.982,2,   0.485,2,   0.139,2,  2171.4,2,  2320.6,2,   744.9,2,      20,   7.7267,2,    25.00, -999.00,9,  -999.0,9,  -999.0, -999.00,9, -999.00,9,     13.371,2,-999.0000,9,-999.0000,9,-999.0000,9,-999.0000,9,-999.0000,9,-999.0000,9,-999.0000,9,-999.0000,9,-999.0000,9,     -999.0,5,  -999.0,9,     -999.0,     -999.0,9,     -999.0,20130816,       1950
33RO20130803,       A16N,      53,          2,          6,          6,2,20130816,       1905,    38.9992,   -19.9991,       4762,  2898.7,   2.9344,  34.9503,2,  34.9485,2,    252.8,2,   252.5,2,   28.40,2,   19.70,2,    0.00,2,    1.33,2,   0.481,2,   0.241,2,   0.064,2,  2180.8,2,  2335.2,2,   748.6,2,      20,   7.7276,2,    25.00, -999.00,9,  -999.0,9,  -999.0, -999.00,9, -999.00,9,     13.479,2,-999.0000,9,-999.0000,9,-999.0000,9,-999.0000,9,-999.0000,9,-999.0000,9,-999.0000,9,-999.0000,9,-999.0000,9,     -999.0,5,  -999.0,9,     -999.0,     -999.0,9,     -999.0,20130816,       1943
33RO20130803,       A16N,      53,          2,          5,          5,2,20130816,       1905,    38.9992,   -19.9991,       4762,  3298.6,   2.6995,  34.9311,2,  34.9299,2,    246.9,2,   247.3,2,   35.20,2,   20.70,2,    0.00,2,    1.40,2,   0.336,2,   0.167,2,   0.072,2,  2190.8,2,  2338.3,2,   754.5,2,      20,   7.7250,2,    25.00, -999.00,9,  -999.0,9,  -999.0, -999.00,9, -999.00,9,     13.607,2,-999.0000,9,-999.0000,9,-999.0000,9,-999.0000,9,-999.0000,9,-999.0000,9,-999.0000,9,-999.0000,9,-999.0000,9,     -999.0,5,  -999.0,9,     -999.0,     -999.0,9,     -999.0,20130816,       1935
33RO20130803,       A16N,      53,          2,          4,          4,2,20130816,       1905,    38.9992,   -19.9991,       4762,  3699.0,   2.5871,  34.9182,2,  34.9168,2,    242.6,2,   243.4,2,   40.40,6,   21.50,6,    0.00,6,    1.46,6,   0.173,2,   0.086,2,   0.054,2,  2197.7,2,  2345.4,6,   757.2,2,      20,   7.7268,2,    25.00, -999.00,9,  -999.0,9,  -999.0, -999.00,9, -999.00,9,     13.642,2,-999.0000,9,-999.0000,9,-999.0000,9,-999.0000,9,-999.0000,9,-999.0000,9,-999.0000,9,-999.0000,9,-999.0000,9,     -999.0,5,  -999.0,9,     -999.0,     -999.0,9,     -999.0,20130816,       1927
33RO20130803,       A16N,      53,          2,          3,          3,2,20130816,       1905,    38.9992,   -19.9991,       4762,  4097.2,   2.5471,  34.9100,2,  34.9095,2,    241.3,2,   242.2,2,   42.80,6,   21.90,6,    0.00,6,    1.49,6,   0.095,6,   0.050,6,   0.068,6,  2198.5,2,  2349.0,2,   756.8,2,      20,   7.7251,6,    25.00, -999.00,9,  -999.0,9,  -999.0, -999.00,9, -999.00,9,     13.751,6,-999.0000,9,-999.0000,9,-999.0000,9,-999.0000,9,-999.0000,9,-999.0000,9,-999.0000,9,-999.0000,9,-999.0000,9,     -999.0,5,  -999.0,9,     -999.0,     -999.0,9,     -999.0,20130816,       1919
33RO20130803,       A16N,      53,          2,          2,          2,2,20130816,       1905,    38.9992,   -19.9991,       4762,  4497.3,   2.5353,  34.9040,2,  34.9036,2,    242.0,2,   241.9,2,   44.30,6,   22.10,6,    0.00,6,    1.51,6,   0.054,2,   0.031,2,   0.042,2,  2203.3,6,  2360.0,2,   755.4,2,      20,   7.7273,2,    25.00, -999.00,9,  -999.0,9,  -999.0, -999.00,9, -999.00,9,     13.768,2,-999.0000,9,-999.0000,9,-999.0000,9,-999.0000,9,-999.0000,9,-999.0000,9,-999.0000,9,-999.0000,9,-999.0000,9,     -999.0,5,  -999.0,9,     -999.0,     -999.0,9,     -999.0,20130816,       1911
33RO20130803,       A16N,      53,          2,          1,          1,2,20130816,       1905,    38.9992,   -19.9991,       4762,  4822.3,   2.5289,  34.8991,2,  34.8991,2,    242.5,2,   241.9,2,   45.30,6,   22.30,6,    0.00,6,    1.51,6,   0.024,2,   0.017,2,   0.051,2,  2201.2,2,  2351.9,2,   754.0,2,      20,   7.7329,2,    25.00, -999.00,9,  -999.0,9,  -999.0, -999.00,9, -999.00,9,     13.804,2,-999.0000,9,-999.0000,9,-999.0000,9,-999.0000,9,-999.0000,9,-999.0000,9,-999.0000,9,-999.0000,9,-999.0000,9,     -999.0,5,  -999.0,9,     -999.0,     -999.0,9,     -999.0,20130816,       1905