BOTTLE,20220815CCHSIOAMB
EXPOCODE,SECT_ID,STNNBR,CASTNO,SAMPNO,BTLNBR,BTLNBR_FLAG_W,DATE,TIME,LATITUDE,LONGITUDE,DEPTH,CTDPRS,CTDTMP,CTDSAL,CTDSAL_FLAG_W,SALNTY,SALNTY_FLAG_W,CTDOXY,CTDOXY_FLAG_W,OXYGEN,OXYGEN_FLAG_W,SILCAT,SILCAT_FLAG_W,NITRAT,NITRAT_FLAG_W,NITRIT,NITRIT_FLAG_W,PHSPHT,PHSPHT_FLAG_W,CFC-11,CFC-11_FLAG_W,CFC-12,CFC-12_FLAG_W,SF6,SF6_FLAG_W,TCARBN,TCARBN_FLAG_W,ALKALI,ALKALI_FLAG_W,PCO2,PCO2_FLAG_W,PCO2TMP,PH_SWS,PH_SWS_FLAG_W,PH_TMP,DELC13,DELC13_FLAG_W,DELC14,DELC14_FLAG_W,C14ERR,DOC,DOC_FLAG_W,TDN,TDN_FLAG_W,N2O,N2O_FLAG_W,CDOM325,CDOM325_FLAG_W,CDOM340,CDOM340_FLAG_W,CDOM380,CDOM380_FLAG_W,CDOM412,CDOM412_FLAG_W,CDOM443,CDOM443_FLAG_W,CDOM490,CDOM490_FLAG_W,CDOM555,CDOM555_FLAG_W,CDOMSL,CDOMSL_FLAG_W,CDOMSN,CDOMSN_FLAG_W,CCL4,CCL4_FLAG_W,14C-DOC,14C-DOC_FLAG_W,14C-DOCERR,13C-DOC,13C-DOC_FLAG_W,13C-DOCERR,BTL_DATE,BTL_TIME
,,,,,,,,,,,METERS,DBAR,ITS-90,PSS-78,,PSS-78,,UMOL/KG,,UMOL/KG,,UMOL/KG,,UMOL/KG,,UMOL/KG,,UMOL/KG,,PMOL/KG,,PMOL/KG,,FMOL/KG,,UMOL/KG,,UMOL/KG,,UATM,,DEG C,,,DEG C,/MILLE,,/MILLE,,/MILLE,UMOL/KG,,UMOL/KG,,NMOL/KG,,1/M,,1/M,,1/M,,1/M,,1/M,,1/M,,1/M,,1/NM,,1/NM,,PMOL/KG,,/MILLE,,/MILLE,/MILLE,,/MILLE,,
33RO20130803,       A16N,      38,          1,         24,         24,2,20130812,       1300,    46.4994,   -20.0001,       4878,     2.7,  19.1292,  35.7398,2,  35.7399,2,    231.2,2,   234.7,2,    0.40,2,    0.00,2,    0.00,2,    0.04,2,   2.313,2,   1.391,2,   1.600,2,  2068.8,6,  2355.8,2,   373.1,2,      20,   7.9903,2,    25.00, -999.00,9,  -999.0,9,  -999.0,   69.58,2,    4.07,2,      7.786,2,   0.3113,2,   0.2262,2,   0.1020,2,   0.0663,2,   0.0386,2,   0.0238,2,   0.0059,2,   0.0195,2,   0.0205,2,     -999.0,5,  -999.0,9,     -999.0,     -999.0,9,     -999.0,20130812,       1458
33RO20130803,       A16N,      38,          1,         23,         23,2,20130812,       1300,    46.4994,   -20.0001,       4878,    31.1,  17.8323,  35.7372,2,  35.7453,2,    236.4,2,   239.3,2,    0.40,2,    0.00,2,    0.00,2,    0.05,2,-999.000,9,-999.000,9,-999.000,9,  2073.5,2,  2354.3,2,  -999.0,9, -999.00,   7.9854,2,    25.00, -999.00,9,  -999.0,9,  -999.0,   67.38,2,    3.27,2,     -999.0,9,   0.3508,2,   0.2565,2,   0.1186,2,   0.0765,2,   0.0438,2,   0.0257,2,   0.0066,2,   0.0190,2,   0.0199,2,     -999.0,9,  -999.0,9,     -999.0,     -999.0,9,     -999.0,20130812,       1456
33RO20130803,       A16N,      38,          1,         22,         22,2,20130812,       1300,    46.4994,   -20.0001,       4878,    62.5,  13.9576,  35.6812,2,  35.6819,2,    243.1,2,     242,2,    0.90,2,    2.90,2,    1.02,2,    0.32,2,   2.882,2,   1.697,2,   1.892,2,  2115.5,2,  2348.7,6,   486.3,2,      20,   7.8917,2,    25.00, -999.00,9,  -999.0,9,  -999.0,   57.16,2,    8.17,2,      9.888,2,   0.1770,2,   0.1308,2,   0.0594,2,   0.0424,2,   0.0222,2,   0.0135,2,   0.0012,4,   0.0191,2,   0.0200,2,     -999.0,5,  -999.0,9,     -999.0,     -999.0,9,     -999.0,20130812,       1454
33RO20130803,       A16N,      38,          1,         21,         21,2,20130812,       1300,    46.4994,   -20.0001,       4878,    85.4,  13.1851,  35.6778,2,  35.6776,2,    241.5,2,   240.8,2,    1.70,2,    6.10,2,    0.04,2,    0.42,2,-999.000,9,-999.000,9,-999.000,9,  2124.0,2,  2344.6,2,  -999.0,9, -999.00,   7.8706,2,    25.00, -999.00,9,  -999.0,9,  -999.0,   56.57,2,    8.63,2,     -999.0,9,   0.1633,2,   0.1163,2,   0.0512,2,   0.0383,2,   0.0193,2,   0.0114,2,   0.0002,4,   0.0198,2,   0.0216,2,     -999.0,9,  -999.0,9,     -999.0,     -999.0,9,     -999.0,20130812,       1452
33RO20130803,       A16N,      38,          1,         20,         20,2,20130812,       1300,    46.4994,   -20.0001,       4878,   107.5,  12.9647,  35.6716,2,  35.6705,2,    241.8,2,   240.7,2,    2.20,2,    6.70,2,    0.02,2,    0.44,2,   2.980,2,   1.740,2,   1.920,2,  2126.5,2,  2345.4,2,   524.6,2,      20,   7.8666,2,    25.00, -999.00,9,  -999.0,9,  -999.0,   55.17,2,    9.18,2,      9.963,2,   0.1441,2,   0.1026,2,   0.0454,2,   0.0347,2,   0.0175,2,   0.0110,2,   0.0002,4,   0.0197,2,   0.0216,2,     -999.0,5,  -999.0,9,     -999.0,     -999.0,9,     -999.0,20130812,       1451
33RO20130803,       A16N,      38,          1,         19,         19,2,20130812,       1300,    46.4994,   -20.0001,       4878,   172.6,  12.6017,  35.6456,2,  35.6456,2,    241.1,2,   240.6,2,    2.80,2,    7.50,2,    0.01,2,    0.49,2,   2.965,2,   1.728,2,   1.860,2,  2130.3,2,  2341.9,2,  -999.0,9, -999.00,   7.8543,2,    25.00, -999.00,9,  -999.0,9,  -999.0,   53.62,2,    9.66,2,     10.249,2,   0.1399,2,   0.0981,2,   0.0432,2,   0.0324,2,   0.0158,2,   0.0098,3,  -0.0004,4,   0.0200,2,   0.0221,2,     -999.0,5,  -999.0,9,     -999.0,     -999.0,9,     -999.0,20130812,       1448
33RO20130803,       A16N,      38,          1,         18,         18,2,20130812,       1300,    46.4994,   -20.0001,       4878,   260.8,  12.2800,  35.6170,2,  35.6168,2,    244.3,2,   241.3,2,    3.10,2,    8.20,2,    0.01,2,    0.53,2,-999.000,9,-999.000,9,-999.000,9,  2132.0,2,  2340.3,2,   547.9,6,      20,   7.8455,2,    25.00, -999.00,9,  -999.0,9,  -999.0,   52.27,2,   10.88,2,     -999.0,9,   0.1385,2,   0.0968,2,   0.0420,2,   0.0316,2,   0.0154,2,   0.0097,3,  -0.0006,4,   0.0203,2,   0.0224,2,     -999.0,9,  -999.0,9,     -999.0,     -999.0,9,     -999.0,20130812,       1445
33RO20130803,       A16N,      38,          1,         17,         17,2,20130812,       1300,    46.4994,   -20.0001,       4878,   335.8,  12.2353,  35.6434,2,  35.6428,2,    238.5,2,   233.4,2,    3.30,2,    9.10,2,    0.02,2,    0.58,2,-999.000,9,-999.000,9,-999.000,9,  2139.0,2,  2341.7,2,  -999.0,9, -999.00,   7.8357,2,    25.00, -999.00,9,  -999.0,9,  -999.0,   50.92,2,   11.95,2,     -999.0,9,   0.1379,2,   0.0951,2,   0.0398,2,   0.0299,2,   0.0141,2,   0.0090,3,  -0.0008,4,   0.0212,2,   0.0234,2,     -999.0,9,  -999.0,9,     -999.0,     -999.0,9,     -999.0,20130812,       1442
33RO20130803,       A16N,      38,          1,         16,         16,2,20130812,       1300,    46.4994,   -20.0001,       4878,   456.0,  11.8919,  35.6177,2,  35.6172,2,    224.8,2,     221,2,    4.20,2,   11.20,2,    0.01,2,    0.70,2,-999.000,9,-999.000,9,-999.000,9,  2148.6,2,  2341.6,2,  -999.0,9, -999.00,   7.8090,2,    25.00, -999.00,9,  -999.0,9,  -999.0,   48.88,2,   14.47,2,     -999.0,9,   0.1271,2,   0.0885,2,   0.0400,2,   0.0274,2,   0.0125,2,   0.0079,3,  -0.0011,4,   0.0202,2,   0.0221,2,     -999.0,9,  -999.0,9,     -999.0,     -999.0,9,     -999.0,20130812,       1438
33RO20130803,       A16N,      38,          1,         15,         15,2,20130812,       1300,    46.4994,   -20.0001,       4878,   552.2,  11.1470,  35.5008,2,  35.5006,2,    216.3,2,   216.2,2,    5.40,2,   13.00,2,    0.01,2,    0.82,2,-999.000,9,-999.000,9,-999.000,9,  2155.4,2,  2333.5,6,   638.8,2,      20,   7.7873,2,    25.00, -999.00,9,  -999.0,9,  -999.0,   47.59,2,   15.35,2,     -999.0,9,   0.1340,2,   0.0922,2,   0.0391,2,   0.0296,2,   0.0146,2,   0.0090,3,  -0.0008,4,   0.0209,2,   0.0232,2,     -999.0,9,  -999.0,9,     -999.0,     -999.0,9,     -999.0,20130812,       1435
33RO20130803,       A16N,      38,          1,         14,         14,2,20130812,       1300,    46.4994,   -20.0001,       4878,   722.7,  10.7149,  35.5379,2,  35.5369,2,    195.7,2,   195.2,2,    7.20,2,   15.50,2,    0.00,2,    0.97,2,   2.577,2,   1.418,2,   1.133,2,  2168.8,2,  2338.1,2,  -999.0,9, -999.00,   7.7596,6,    25.00, -999.00,9,  -999.0,9,  -999.0,   46.69,2,   18.09,2,     14.607,2,   0.1332,2,   0.0905,2,   0.0384,2,   0.0293,2,   0.0154,2,   0.0099,3,   0.0005,4,   0.0210,2,   0.0235,2,     -999.0,5,  -999.0,9,     -999.0,     -999.0,9,     -999.0,20130812,       1431
33RO20130803,       A16N,      38,          1,         13,         13,2,20130812,       1300,    46.4994,   -20.0001,       4878,   874.4,   8.8907,  35.3523,2,  35.3482,2,    187.8,2,   188.7,2,   10.30,2,   18.40,2,    0.00,2,    1.18,2,   2.327,2,   1.246,2,   0.835,2,  2180.6,6,  2331.2,2,   769.0,2,      20,   7.7157,2,    25.00, -999.00,9,  -999.0,9,  -999.0,   45.41,2,   21.22,2,     16.319,2,   0.1458,2,   0.0998,2,   0.0437,2,   0.0325,2,   0.0173,2,   0.0107,2,   0.0007,3,   0.0204,2,   0.0227,2,     -999.0,5,  -999.0,9,     -999.0,     -999.0,9,     -999.0,20130812,       1427
33RO20130803,       A16N,      38,          1,         12,         12,2,20130812,       1300,    46.4994,   -20.0001,       4878,  1018.8,   7.9055,  35.3473,2,  35.3484,2,    198.8,2,   199.3,2,   10.90,2,   18.40,2,    0.00,2,    1.18,2,   2.372,2,   1.247,2,   0.762,2,  2184.3,2,  2332.3,2,  -999.0,9, -999.00,   7.7140,2,    25.00, -999.00,9,  -999.0,9,  -999.0,   44.41,2,   21.05,2,     15.673,2,   0.1447,2,   0.0983,2,   0.0413,2,   0.0308,2,   0.0163,2,   0.0104,2,   0.0006,3,   0.0212,2,   0.0236,2,     -999.0,5,  -999.0,9,     -999.0,     -999.0,9,     -999.0,20130812,       1424
33RO20130803,       A16N,      38,          1,         11,         11,2,20130812,       1300,    46.4994,   -20.0001,       4878,  1172.3,   6.6111,  35.2484,2,  35.2489,2,    220.0,2,   221.3,2,   11.00,2,   18.10,2,    0.00,2,    1.17,2,   2.746,2,   1.428,2,   0.852,2,  2180.2,2,  2327.8,2,   778.3,2,      20,   7.7116,2,    25.00, -999.00,9,  -999.0,9,  -999.0,   44.13,2,   20.56,2,     15.059,2,   0.1484,2,   0.1007,2,   0.0433,2,   0.0324,2,   0.0172,2,   0.0107,2,   0.0007,3,   0.0208,2,   0.0233,2,     -999.0,5,  -999.0,9,     -999.0,     -999.0,9,     -999.0,20130812,       1420
33RO20130803,       A16N,      38,          1,         10,         10,2,20130812,       1300,    46.4994,   -20.0001,       4878,  1403.3,   5.0578,  35.0601,2,  35.0594,2,    246.3,2,   248.1,2,   11.00,2,   17.70,2,    0.00,2,    1.16,2,   3.270,2,   1.691,2,   1.009,2,  2172.6,2,  2313.9,2,  -999.0,9, -999.00,   7.7078,2,    25.00, -999.00,9,  -999.0,9,  -999.0,   43.58,2,   20.45,2,     14.289,2,   0.1428,2,   0.0969,2,   0.0420,2,   0.0313,2,   0.0164,2,   0.0103,2,   0.0006,3,   0.0207,2,   0.0232,2,     -999.0,5,  -999.0,9,     -999.0,     -999.0,9,     -999.0,20130812,       1415
33RO20130803,       A16N,      38,          1,          9,          9,2,20130812,       1300,    46.4994,   -20.0001,       4878,  1665.3,   4.2107,  34.9618,2,  34.9616,2,    264.3,2,   263.5,2,   11.10,2,   17.30,2,    0.00,2,    1.15,2,-999.000,9,-999.000,9,-999.000,9,  2165.9,2,  2308.9,2,   785.8,2,      20,   7.7056,2,    25.00, -999.00,9,  -999.0,9,  -999.0,   43.05,2,   20.03,2,     -999.0,9,   0.1481,2,   0.1012,2,   0.0450,2,   0.0332,2,   0.0177,2,   0.0114,2,   0.0013,3,   0.0202,2,   0.0225,2,     -999.0,9,  -999.0,9,     -999.0,     -999.0,9,     -999.0,20130812,       1410
33RO20130803,       A16N,      38,          1,          8,          8,2,20130812,       1300,    46.4994,   -20.0001,       4878,  2090.7,   3.5584,  34.9239,2,  34.9241,2,    270.7,2,   269.7,2,   12.80,2,   17.30,2,    0.00,2,    1.15,2,   2.897,2,   1.413,2,   0.587,2,  2161.7,2,  2306.5,2,  -999.0,9, -999.00,   7.7090,2,    25.00, -999.00,9,  -999.0,9,  -999.0,   42.65,2,   19.82,2,     13.371,2,   0.1488,2,   0.1008,2,   0.0422,2,   0.0309,2,   0.0160,2,   0.0102,2,   0.0004,4,   0.0214,2,   0.0237,2,     -999.0,5,  -999.0,9,     -999.0,     -999.0,9,     -999.0,20130812,       1401
33RO20130803,       A16N,      38,          1,          7,          7,2,20130812,       1300,    46.4994,   -20.0001,       4878,  2499.5,   3.2533,  34.9270,2,  34.9268,2,    270.0,2,   271.2,2,   15.70,2,   17.40,2,    0.00,2,    1.16,2,-999.000,9,-999.000,9,-999.000,9,  2162.9,2,  2309.6,2,  -999.0,9, -999.00,   7.7150,2,    25.00, -999.00,9,  -999.0,9,  -999.0,   42.41,2,   19.95,2,     -999.0,9,   0.1487,2,   0.1011,2,   0.0426,2,   0.0312,2,   0.0162,2,   0.0102,2,   0.0003,4,   0.0213,2,   0.0236,2,     -999.0,9,  -999.0,9,     -999.0,     -999.0,9,     -999.0,20130812,       1353
33RO20130803,       A16N,      38,          1,          6,          6,2,20130812,       1300,    46.4994,   -20.0001,       4878,  2892.7,   2.9574,  34.9421,2,  34.9410,2,    259.8,2,   259.5,2,   23.50,2,   18.40,2,    0.00,2,    1.24,2,   1.446,2,   0.705,2,   0.311,2,  2173.6,2,  2322.7,2,   759.8,2,      20,   7.7206,2,    25.00, -999.00,9,  -999.0,9,  -999.0,   42.26,2,   20.98,2,     13.297,2,   0.1449,2,   0.0990,2,   0.0430,2,   0.0309,2,   0.0161,2,   0.0103,2,   0.0003,4,   0.0208,2,   0.0230,2,     -999.0,5,  -999.0,9,     -999.0,     -999.0,9,     -999.0,20130812,       1345
33RO20130803,       A16N,      38,          1,          5,          5,2,20130812,       1300,    46.4994,   -20.0001,       4878,  3305.5,   2.7620,  34.9354,2,  34.9339,2,    249.2,2,   250.1,2,   32.40,2,   19.90,2,    0.00,2,    1.34,2,-999.000,9,-999.000,9,-999.000,9,  2184.9,2,  2335.6,2,  -999.0,9, -999.00,   7.7216,6,    25.00, -999.00,9,  -999.0,9,  -999.0,   42.22,2,   22.22,2,     -999.0,9,   0.1464,2,   0.0992,2,   0.0418,2,   0.0303,2,   0.0158,2,   0.0099,2,   0.0000,4,   0.0214,2,   0.0237,2,     -999.0,9,  -999.0,9,     -999.0,     -999.0,9,     -999.0,20130812,       1338
33RO20130803,       A16N,      38,          1,          4,          4,2,20130812,       1300,    46.4994,   -20.0001,       4878,  3772.5,   2.6233,  34.9208,2,  34.9203,2,    243.3,2,   243.1,2,   39.60,6,   21.20,6,    0.00,6,    1.43,6,   0.316,2,   0.158,2,   0.116,2,  2194.4,2,  2345.5,6,  -999.0,9, -999.00,   7.7247,2,    25.00, -999.00,9,  -999.0,9,  -999.0,   41.96,2,   23.87,2,     13.462,2,   0.1408,2,   0.0955,2,   0.0411,2,   0.0298,2,   0.0156,2,   0.0099,2,  -0.0000,4,   0.0210,2,   0.0234,2,     -999.0,5,  -999.0,9,     -999.0,     -999.0,9,     -999.0,20130812,       1329
33RO20130803,       A16N,      38,          1,          3,          3,2,20130812,       1300,    46.4994,   -20.0001,       4878,  4125.8,   2.5740,  34.9126,2,  34.9119,2,    239.7,2,   240.3,2,   43.00,6,   21.80,6,    0.00,6,    1.47,6,-999.000,9,-999.000,9,-999.000,9,  2198.0,2,  2359.7,4,   761.5,2,      20,   7.7254,2,    25.00, -999.00,9,  -999.0,9,  -999.0,   42.09,2,   24.39,2,     -999.0,9,   0.1482,2,   0.1000,2,   0.0432,2,   0.0310,2,   0.0164,2,   0.0103,2,   0.0002,4,   0.0210,2,   0.0235,2,     -999.0,9,  -999.0,9,     -999.0,     -999.0,9,     -999.0,20130812,       1316
33RO20130803,       A16N,      38,          1,          2,          2,2,20130812,       1300,    46.4994,   -20.0001,       4878,  4461.1,   2.5833,  34.9094,2,  34.9084,2,    239.7,2,   239.4,2,   44.00,6,   22.00,6,    0.00,6,    1.48,6,   0.093,6,   0.051,6,   0.089,6,  2199.2,2,  2352.4,2,  -999.0,9, -999.00,   7.7240,2,    25.00, -999.00,9,  -999.0,9,  -999.0,   42.12,2,      25,2,     13.535,6,   0.1371,2,   0.0930,2,   0.0398,2,   0.0287,2,   0.0150,2,   0.0095,3,  -0.0004,4,   0.0212,2,   0.0235,2,     -999.0,5,  -999.0,9,     -999.0,     -999.0,9,     -999.0,20130812,       1310
33RO20130803,       A16N,      38,          1,          1,          1,2,20130812,       1300,    46.4994,   -20.0001,       4878,  4946.5,   2.6146,  34.9060,2,  34.9053,2,    241.3,2,   238.9,2,   45.00,6,   22.10,6,    0.00,6,    1.49,6,   0.062,2,   0.034,2,   0.062,2,  2201.3,6,  2355.0,2,   759.0,2,      20,   7.7265,2,    25.00, -999.00,9,  -999.0,9,  -999.0,   41.96,2,   24.45,2,     13.537,2,   0.1385,2,   0.0934,2,   0.0400,2,   0.0286,2,   0.0146,2,   0.0091,3,  -0.0008,4,   0.0212,2,   0.0236,2,     -999.0,5,  -999.0,9,     -999.0,     -999.0,9,     -999.0,20130812,       1300