BOTTLE,20220815CCHSIOAMB
EXPOCODE,SECT_ID,STNNBR,CASTNO,SAMPNO,BTLNBR,BTLNBR_FLAG_W,DATE,TIME,LATITUDE,LONGITUDE,DEPTH,CTDPRS,CTDTMP,CTDSAL,CTDSAL_FLAG_W,SALNTY,SALNTY_FLAG_W,CTDOXY,CTDOXY_FLAG_W,OXYGEN,OXYGEN_FLAG_W,SILCAT,SILCAT_FLAG_W,NITRAT,NITRAT_FLAG_W,NITRIT,NITRIT_FLAG_W,PHSPHT,PHSPHT_FLAG_W,CFC-11,CFC-11_FLAG_W,CFC-12,CFC-12_FLAG_W,SF6,SF6_FLAG_W,TCARBN,TCARBN_FLAG_W,ALKALI,ALKALI_FLAG_W,PCO2,PCO2_FLAG_W,PCO2TMP,PH_SWS,PH_SWS_FLAG_W,PH_TMP,DELC13,DELC13_FLAG_W,DELC14,DELC14_FLAG_W,C14ERR,DOC,DOC_FLAG_W,TDN,TDN_FLAG_W,N2O,N2O_FLAG_W,CDOM325,CDOM325_FLAG_W,CDOM340,CDOM340_FLAG_W,CDOM380,CDOM380_FLAG_W,CDOM412,CDOM412_FLAG_W,CDOM443,CDOM443_FLAG_W,CDOM490,CDOM490_FLAG_W,CDOM555,CDOM555_FLAG_W,CDOMSL,CDOMSL_FLAG_W,CDOMSN,CDOMSN_FLAG_W,CCL4,CCL4_FLAG_W,14C-DOC,14C-DOC_FLAG_W,14C-DOCERR,13C-DOC,13C-DOC_FLAG_W,13C-DOCERR,BTL_DATE,BTL_TIME
,,,,,,,,,,,METERS,DBAR,ITS-90,PSS-78,,PSS-78,,UMOL/KG,,UMOL/KG,,UMOL/KG,,UMOL/KG,,UMOL/KG,,UMOL/KG,,PMOL/KG,,PMOL/KG,,FMOL/KG,,UMOL/KG,,UMOL/KG,,UATM,,DEG C,,,DEG C,/MILLE,,/MILLE,,/MILLE,UMOL/KG,,UMOL/KG,,NMOL/KG,,1/M,,1/M,,1/M,,1/M,,1/M,,1/M,,1/M,,1/NM,,1/NM,,PMOL/KG,,/MILLE,,/MILLE,/MILLE,,/MILLE,,
33RO20130803,       A16N,      88,          2,         24,         24,2,20130909,       2144,    22.0024,   -27.8872,       5469,     2.7,  25.3722,  36.7924,2,  36.7926,2,    203.1,2,   206.1,2,    0.50,2,    0.00,2,    0.00,2,    0.07,2,   1.676,2,   1.056,2,   1.253,2,  2089.8,6,  2416.6,2,   328.3,2,      20,   8.0433,2,    25.00, -999.00,9,  -999.0,9,  -999.0, -999.00,9, -999.00,9,      6.290,2,-999.0000,9,-999.0000,9,-999.0000,9,-999.0000,9,-999.0000,9,-999.0000,9,-999.0000,9,-999.0000,9,-999.0000,9,     -999.0,5,  -999.0,9,     -999.0,     -999.0,9,     -999.0,20130909,       0001
33RO20130803,       A16N,      88,          2,         23,         23,2,20130909,       2144,    22.0024,   -27.8872,       5469,    23.3,  25.3814,  36.7925,2,  36.7914,2,    203.7,2,   205.8,2,    0.50,2,    0.00,2,    0.00,2,    0.07,2,   1.663,2,   1.052,2,   1.258,2,  2088.5,2,  2412.7,2,   328.0,2,      20,   8.0423,2,    25.00, -999.00,9,  -999.0,9,  -999.0, -999.00,9, -999.00,9,      6.273,2,-999.0000,9,-999.0000,9,-999.0000,9,-999.0000,9,-999.0000,9,-999.0000,9,-999.0000,9,-999.0000,9,-999.0000,9,     -999.0,5,  -999.0,9,     -999.0,     -999.0,9,     -999.0,20130909,       2359
33RO20130803,       A16N,      88,          2,         22,         22,2,20130909,       2144,    22.0024,   -27.8872,       5469,    48.5,  24.8703,  37.0564,2,  37.0549,2,    210.3,2,   215.3,2,    0.60,2,    0.00,2,    0.00,2,    0.02,2,   1.747,6,   1.104,6,   1.285,6,  2096.6,2,  2429.8,2,   325.4,2,      20,   8.0469,2,    25.00, -999.00,9,  -999.0,9,  -999.0, -999.00,9, -999.00,9,      6.560,6,-999.0000,9,-999.0000,9,-999.0000,9,-999.0000,9,-999.0000,9,-999.0000,9,-999.0000,9,-999.0000,9,-999.0000,9,     -999.0,5,  -999.0,9,     -999.0,     -999.0,9,     -999.0,20130909,       2357
33RO20130803,       A16N,      88,          2,         21,         21,2,20130909,       2144,    22.0024,   -27.8872,       5469,    73.3,  22.8792,  37.2387,2,  37.2365,2,    220.0,2,   221.1,2,    0.60,2,    0.00,2,    0.00,2,    0.03,2,   1.912,2,   1.183,2,   1.355,2,  2112.2,2,  2437.1,6,   339.6,2,      20,   8.0337,2,    25.00, -999.00,9,  -999.0,9,  -999.0, -999.00,9, -999.00,9,      7.090,2,-999.0000,9,-999.0000,9,-999.0000,9,-999.0000,9,-999.0000,9,-999.0000,9,-999.0000,9,-999.0000,9,-999.0000,9,     -999.0,5,  -999.0,9,     -999.0,     -999.0,9,     -999.0,20130909,       2355
33RO20130803,       A16N,      88,          2,         20,         20,2,20130909,       2144,    22.0024,   -27.8872,       5469,   107.6,  21.6746,  37.2468,2,  37.2452,2,    207.5,2,     208,2,    0.70,2,    0.30,2,    0.09,2,    0.06,2,   1.940,2,   1.207,2,   1.344,2,  2126.9,2,  2439.2,2,   366.8,2,      20,   8.0078,2,    25.00, -999.00,9,  -999.0,9,  -999.0, -999.00,9, -999.00,9,      7.489,2,-999.0000,9,-999.0000,9,-999.0000,9,-999.0000,9,-999.0000,9,-999.0000,9,-999.0000,9,-999.0000,9,-999.0000,9,     -999.0,5,  -999.0,9,     -999.0,     -999.0,9,     -999.0,20130909,       2354
33RO20130803,       A16N,      88,          2,         19,         19,2,20130909,       2144,    22.0024,   -27.8872,       5469,   147.5,  20.4257,  37.0886,2,  37.0749,2,    187.3,2,   187.3,2,    1.00,2,    3.20,2,    0.03,2,    0.20,2,   2.038,2,   1.254,2,   1.316,2,  2145.8,2,  2427.8,2,   419.2,2,      20,   7.9584,2,    25.00, -999.00,9,  -999.0,9,  -999.0, -999.00,9, -999.00,9,      8.864,2,-999.0000,9,-999.0000,9,-999.0000,9,-999.0000,9,-999.0000,9,-999.0000,9,-999.0000,9,-999.0000,9,-999.0000,9,     -999.0,5,  -999.0,9,     -999.0,     -999.0,9,     -999.0,20130909,       2352
33RO20130803,       A16N,      88,          2,         18,         18,2,20130909,       2144,    22.0024,   -27.8872,       5469,   222.7,  17.6446,  36.5477,2,  36.5445,2,    169.8,2,   170.7,2,    2.30,2,    8.10,2,    0.01,2,    0.47,2,   2.214,2,   1.339,2,   1.196,2,  2156.5,2,  2394.1,2,   500.7,2,      20,   7.8883,2,    25.00, -999.00,9,  -999.0,9,  -999.0, -999.00,9, -999.00,9,     12.260,2,-999.0000,9,-999.0000,9,-999.0000,9,-999.0000,9,-999.0000,9,-999.0000,9,-999.0000,9,-999.0000,9,-999.0000,9,     -999.0,5,  -999.0,9,     -999.0,     -999.0,9,     -999.0,20130909,       2349
33RO20130803,       A16N,      88,          2,         17,         17,2,20130909,       2144,    22.0024,   -27.8872,       5469,   307.9,  15.6648,  36.1541,2,  36.1523,2,    150.2,2,   151.5,2,    3.90,2,   12.80,2,    0.01,2,    0.75,2,   2.290,2,   1.344,2,   1.061,2,  2168.4,2,  2366.9,2,   595.7,2,      20,   7.8193,2,    25.00, -999.00,9,  -999.0,9,  -999.0, -999.00,9, -999.00,9,     15.992,2,-999.0000,9,-999.0000,9,-999.0000,9,-999.0000,9,-999.0000,9,-999.0000,9,-999.0000,9,-999.0000,9,-999.0000,9,     -999.0,5,  -999.0,9,     -999.0,     -999.0,9,     -999.0,20130909,       2344
33RO20130803,       A16N,      88,          2,         16,         16,2,20130909,       2144,    22.0024,   -27.8872,       5469,   403.1,  13.9175,  35.8928,2,  35.8908,2,    163.1,2,     163,2,    4.80,2,   14.20,2,    0.00,2,    0.83,2,   2.401,2,   1.371,2,   0.963,2,  2167.7,2,  2352.6,2,   629.7,2,      20,   7.7992,6,    25.00, -999.00,9,  -999.0,9,  -999.0, -999.00,9, -999.00,9,     15.304,2,-999.0000,9,-999.0000,9,-999.0000,9,-999.0000,9,-999.0000,9,-999.0000,9,-999.0000,9,-999.0000,9,-999.0000,9,     -999.0,5,  -999.0,9,     -999.0,     -999.0,9,     -999.0,20130909,       2342
33RO20130803,       A16N,      88,          2,         15,         15,2,20130909,       2144,    22.0024,   -27.8872,       5469,   497.7,  12.2747,  35.6630,2,  35.6635,2,    150.1,2,   149.3,2,    7.10,2,   18.50,2,    0.00,2,    1.10,2,   2.173,2,   1.193,2,   0.686,2,  2181.9,2,  2338.1,2,   736.8,2,      20,   7.7384,2,    25.00, -999.00,9,  -999.0,9,  -999.0, -999.00,9, -999.00,9,     17.847,2,-999.0000,9,-999.0000,9,-999.0000,9,-999.0000,9,-999.0000,9,-999.0000,9,-999.0000,9,-999.0000,9,-999.0000,9,     -999.0,5,  -999.0,9,     -999.0,     -999.0,9,     -999.0,20130909,       2339
33RO20130803,       A16N,      88,          2,         14,         14,2,20130909,       2144,    22.0024,   -27.8872,       5469,   648.4,   9.8933,  35.3487,2,  35.3396,2,    120.1,2,   118.8,2,   13.30,2,   26.10,2,    0.00,2,    1.62,2,   0.983,2,   0.520,2,   0.205,2,  2208.8,2,  2325.2,2,   935.3,2,      20,   7.6393,2,    25.00, -999.00,9,  -999.0,9,  -999.0, -999.00,9, -999.00,9,     22.582,2,-999.0000,9,-999.0000,9,-999.0000,9,-999.0000,9,-999.0000,9,-999.0000,9,-999.0000,9,-999.0000,9,-999.0000,9,     -999.0,5,  -999.0,9,     -999.0,     -999.0,9,     -999.0,20130909,       2335
33RO20130803,       A16N,      88,          2,         13,         13,2,20130909,       2144,    22.0024,   -27.8872,       5469,   779.3,   7.9195,  35.0965,2,  35.0950,2,    116.7,2,   116.9,2,   18.50,6,   29.50,6,    0.00,6,    1.90,6,   0.304,2,   0.161,2,   0.049,2,  2216.9,6,  2318.4,2,  1023.6,2,      20,   7.5988,2,    25.00, -999.00,9,  -999.0,9,  -999.0, -999.00,9, -999.00,9,     23.852,2,-999.0000,9,-999.0000,9,-999.0000,9,-999.0000,9,-999.0000,9,-999.0000,9,-999.0000,9,-999.0000,9,-999.0000,9,     -999.0,5,  -999.0,9,     -999.0,     -999.0,9,     -999.0,20130909,       2331
33RO20130803,       A16N,      88,          2,         12,         12,2,20130909,       2144,    22.0024,   -27.8872,       5469,   929.2,   6.6827,  35.0090,2,  35.0073,2,    137.5,2,   137.7,2,   20.90,6,   29.00,6,    0.00,6,    1.91,6,   0.128,2,   0.068,2,   0.014,2,  2213.3,2,  2322.5,2,  1000.1,2,      20,   7.6087,2,    25.00, -999.00,9,  -999.0,9,  -999.0, -999.00,9, -999.00,9,     21.944,2,-999.0000,9,-999.0000,9,-999.0000,9,-999.0000,9,-999.0000,9,-999.0000,9,-999.0000,9,-999.0000,9,-999.0000,9,     -999.0,5,  -999.0,9,     -999.0,     -999.0,9,     -999.0,20130909,       2326
33RO20130803,       A16N,      88,          2,         11,         11,2,20130909,       2144,    22.0024,   -27.8872,       5469,  1149.2,   5.9459,  35.0454,2,  35.0448,2,    165.9,2,   165.5,2,   20.40,6,   26.40,6,    0.00,6,    1.74,6,   0.088,2,   0.048,2,   0.027,2,  2205.0,2,  2316.3,3,   914.3,2,      20,   7.6463,2,    25.00, -999.00,9,  -999.0,9,  -999.0, -999.00,9, -999.00,9,     19.229,2,-999.0000,9,-999.0000,9,-999.0000,9,-999.0000,9,-999.0000,9,-999.0000,9,-999.0000,9,-999.0000,9,-999.0000,9,     -999.0,5,  -999.0,9,     -999.0,     -999.0,9,     -999.0,20130909,       2321
33RO20130803,       A16N,      88,          2,         10,         10,2,20130909,       2144,    22.0024,   -27.8872,       5469,  1298.3,   5.4887,  35.0769,2,  35.0762,2,    184.0,2,   185.4,2,   19.80,6,   24.40,6,    0.01,6,    1.63,6,   0.061,2,   0.033,2,   0.000,2,  2197.9,2,  2324.5,2,   853.1,2,      20,   7.6737,2,    25.00, -999.00,9,  -999.0,9,  -999.0, -999.00,9, -999.00,9,     17.172,2,-999.0000,9,-999.0000,9,-999.0000,9,-999.0000,9,-999.0000,9,-999.0000,9,-999.0000,9,-999.0000,9,-999.0000,9,     -999.0,5,  -999.0,9,     -999.0,     -999.0,9,     -999.0,20130909,       2317
33RO20130803,       A16N,      88,          2,          9,          9,2,20130909,       2144,    22.0024,   -27.8872,       5469,  1497.3,   5.0050,  35.0889,2,  35.0913,2,    201.1,2,   200.7,2,   20.30,2,   23.00,2,    0.00,2,    1.53,2,   0.034,2,   0.019,2,   0.000,2,  2190.9,2,  2323.9,6,   811.9,2,      20,   7.6940,2,    25.00, -999.00,9,  -999.0,9,  -999.0, -999.00,9, -999.00,9,     15.820,2,-999.0000,9,-999.0000,9,-999.0000,9,-999.0000,9,-999.0000,9,-999.0000,9,-999.0000,9,-999.0000,9,-999.0000,9,     -999.0,5,  -999.0,9,     -999.0,     -999.0,9,     -999.0,20130909,       2303
33RO20130803,       A16N,      88,          2,          8,          8,2,20130909,       2144,    22.0024,   -27.8872,       5469,  2084.0,   3.6572,  34.9964,2,  34.9964,2,    231.5,2,   231.4,2,   24.70,2,   21.40,2,    0.00,2,    1.43,2,   0.002,2,   0.001,2,   0.000,2,  2182.3,2,  2324.3,2,   766.1,2,      20,   7.7162,2,    25.00, -999.00,9,  -999.0,9,  -999.0, -999.00,9, -999.00,9,     14.148,2,-999.0000,9,-999.0000,9,-999.0000,9,-999.0000,9,-999.0000,9,-999.0000,9,-999.0000,9,-999.0000,9,-999.0000,9,     -999.0,5,  -999.0,9,     -999.0,     -999.0,9,     -999.0,20130909,       2253
33RO20130803,       A16N,      88,          2,          7,          7,2,20130909,       2144,    22.0024,   -27.8872,       5469,  2348.5,   3.3933,  34.9862,2,  34.9850,2,    235.3,2,   235.2,2,   27.30,2,   21.20,2,    0.00,2,    1.42,2,   0.001,2,   0.001,2,   0.000,2,  2184.6,2,  2328.1,2,   758.5,2,      20,   7.7101,3,    25.00, -999.00,9,  -999.0,9,  -999.0, -999.00,9, -999.00,9,     13.739,2,-999.0000,9,-999.0000,9,-999.0000,9,-999.0000,9,-999.0000,9,-999.0000,9,-999.0000,9,-999.0000,9,-999.0000,9,     -999.0,5,  -999.0,9,     -999.0,     -999.0,9,     -999.0,20130909,       2248
33RO20130803,       A16N,      88,          2,          6,          6,2,20130909,       2144,    22.0024,   -27.8872,       5469,  2849.3,   2.8976,  34.9518,2,  34.9508,2,    239.6,2,   239.9,2,   33.80,2,   21.20,2,    0.00,2,    1.43,2,   0.008,2,   0.004,2,   0.000,2,  2192.3,2,  2332.3,2,   754.5,2,      20,   7.7257,2,    25.00, -999.00,9,  -999.0,9,  -999.0, -999.00,9, -999.00,9,     13.323,2,-999.0000,9,-999.0000,9,-999.0000,9,-999.0000,9,-999.0000,9,-999.0000,9,-999.0000,9,-999.0000,9,-999.0000,9,     -999.0,5,  -999.0,9,     -999.0,     -999.0,9,     -999.0,20130909,       2238
33RO20130803,       A16N,      88,          2,          5,          5,2,20130909,       2144,    22.0024,   -27.8872,       5469,  3347.7,   2.5477,  34.9185,2,  34.9175,2,    242.0,2,   242.7,2,   39.90,2,   21.70,2,    0.00,2,    1.46,2,   0.004,2,   0.003,2,   0.000,2,  2196.5,2,  2347.0,2,   751.4,2,      20,   7.7288,2,    25.00, -999.00,9,  -999.0,9,  -999.0, -999.00,9, -999.00,9,     13.384,2,-999.0000,9,-999.0000,9,-999.0000,9,-999.0000,9,-999.0000,9,-999.0000,9,-999.0000,9,-999.0000,9,-999.0000,9,     -999.0,5,  -999.0,9,     -999.0,     -999.0,9,     -999.0,20130909,       2229
33RO20130803,       A16N,      88,          2,          4,          4,2,20130909,       2144,    22.0024,   -27.8872,       5469,  3849.0,   2.4134,  34.9010,2,  34.9002,2,    241.6,2,   243.4,2,   43.60,2,   22.10,2,    0.00,2,    1.49,2,   0.002,2,   0.002,2,   0.000,2,  2199.4,2,  2347.4,2,   754.3,2,      20,   7.7287,2,    25.00, -999.00,9,  -999.0,9,  -999.0, -999.00,9, -999.00,9,     13.436,2,-999.0000,9,-999.0000,9,-999.0000,9,-999.0000,9,-999.0000,9,-999.0000,9,-999.0000,9,-999.0000,9,-999.0000,9,     -999.0,5,  -999.0,9,     -999.0,     -999.0,9,     -999.0,20130909,       2219
33RO20130803,       A16N,      88,          2,          3,          3,2,20130909,       2144,    22.0024,   -27.8872,       5469,  4450.3,   2.3765,  34.8900,2,  34.8899,2,    242.7,2,   242.9,2,   46.10,2,   22.30,2,    0.00,2,    1.50,2,   0.002,6,   0.002,6,   0.011,6,  2203.0,2,  2353.8,2,   756.0,2,      20,   7.7263,2,    25.00, -999.00,9,  -999.0,9,  -999.0, -999.00,9, -999.00,9,     13.564,6,-999.0000,9,-999.0000,9,-999.0000,9,-999.0000,9,-999.0000,9,-999.0000,9,-999.0000,9,-999.0000,9,-999.0000,9,     -999.0,5,  -999.0,9,     -999.0,     -999.0,9,     -999.0,20130909,       2208
33RO20130803,       A16N,      88,          2,          2,          2,2,20130909,       2144,    22.0024,   -27.8872,       5469,  4947.9,   2.3943,  34.8848,2,  34.8844,2,    242.1,2,   242.7,2,   47.10,2,   22.40,2,    0.00,2,    1.51,2,   0.003,2,   0.003,2,   0.000,2,  2204.0,2,  2355.4,2,   751.1,6,      20,   7.7273,6,    25.00, -999.00,9,  -999.0,9,  -999.0, -999.00,9, -999.00,9,     13.611,2,-999.0000,9,-999.0000,9,-999.0000,9,-999.0000,9,-999.0000,9,-999.0000,9,-999.0000,9,-999.0000,9,-999.0000,9,     -999.0,5,  -999.0,9,     -999.0,     -999.0,9,     -999.0,20130909,       2158
33RO20130803,       A16N,      88,          2,          1,          1,2,20130909,       2144,    22.0024,   -27.8872,       5469,  5536.3,   2.4625,  34.8828,2,  34.8829,2,    243.9,2,   243.2,2,   47.30,2,   22.40,2,    0.00,2,    1.51,2,   0.006,2,   0.005,2,   0.000,2,  2204.8,6,  2354.0,2,   747.7,2,      20,   7.7412,2,    25.00, -999.00,9,  -999.0,9,  -999.0, -999.00,9, -999.00,9,     13.715,2,-999.0000,9,-999.0000,9,-999.0000,9,-999.0000,9,-999.0000,9,-999.0000,9,-999.0000,9,-999.0000,9,-999.0000,9,     -999.0,5,  -999.0,9,     -999.0,     -999.0,9,     -999.0,20130909,       2144