BOTTLE,20220815CCHSIOAMB
EXPOCODE,SECT_ID,STNNBR,CASTNO,SAMPNO,BTLNBR,BTLNBR_FLAG_W,DATE,TIME,LATITUDE,LONGITUDE,DEPTH,CTDPRS,CTDTMP,CTDSAL,CTDSAL_FLAG_W,SALNTY,SALNTY_FLAG_W,CTDOXY,CTDOXY_FLAG_W,OXYGEN,OXYGEN_FLAG_W,SILCAT,SILCAT_FLAG_W,NITRAT,NITRAT_FLAG_W,NITRIT,NITRIT_FLAG_W,PHSPHT,PHSPHT_FLAG_W,CFC-11,CFC-11_FLAG_W,CFC-12,CFC-12_FLAG_W,SF6,SF6_FLAG_W,TCARBN,TCARBN_FLAG_W,ALKALI,ALKALI_FLAG_W,PCO2,PCO2_FLAG_W,PCO2TMP,PH_SWS,PH_SWS_FLAG_W,PH_TMP,DELC13,DELC13_FLAG_W,DELC14,DELC14_FLAG_W,C14ERR,DOC,DOC_FLAG_W,TDN,TDN_FLAG_W,N2O,N2O_FLAG_W,CDOM325,CDOM325_FLAG_W,CDOM340,CDOM340_FLAG_W,CDOM380,CDOM380_FLAG_W,CDOM412,CDOM412_FLAG_W,CDOM443,CDOM443_FLAG_W,CDOM490,CDOM490_FLAG_W,CDOM555,CDOM555_FLAG_W,CDOMSL,CDOMSL_FLAG_W,CDOMSN,CDOMSN_FLAG_W,CCL4,CCL4_FLAG_W,14C-DOC,14C-DOC_FLAG_W,14C-DOCERR,13C-DOC,13C-DOC_FLAG_W,13C-DOCERR,BTL_DATE,BTL_TIME
,,,,,,,,,,,METERS,DBAR,ITS-90,PSS-78,,PSS-78,,UMOL/KG,,UMOL/KG,,UMOL/KG,,UMOL/KG,,UMOL/KG,,UMOL/KG,,PMOL/KG,,PMOL/KG,,FMOL/KG,,UMOL/KG,,UMOL/KG,,UATM,,DEG C,,,DEG C,/MILLE,,/MILLE,,/MILLE,UMOL/KG,,UMOL/KG,,NMOL/KG,,1/M,,1/M,,1/M,,1/M,,1/M,,1/M,,1/M,,1/NM,,1/NM,,PMOL/KG,,/MILLE,,/MILLE,/MILLE,,/MILLE,,
33RO20130803,       A16N,     145,          1,         24,         24,2,20131001,       1357,    -5.9982,   -25.0001,       5814,     3.9,  26.0969,  36.1057,2,  36.1071,2,    202.8,2,   202.9,2,    0.90,2,    0.10,2,    0.00,2,    0.09,2,   1.619,2,   1.036,2,   1.161,2,  2047.2,6,  2366.3,2,   320.7,2,      20,   8.0540,2,    25.00,    1.24,2,    50.0,2,     0.4,   70.84,2,     5.2,2,      6.246,2,   0.0744,2,   0.0382,2,   0.0072,2,   0.0073,2,   0.0052,2,   0.0039,2,   0.0023,2,   0.0177,2,   0.0189,2,     -999.0,5,  -999.0,9,     -999.0,     -999.0,9,     -999.0,20131001,       1618
33RO20130803,       A16N,     145,          1,         23,         23,2,20131001,       1357,    -5.9982,   -25.0001,       5814,    22.6,  26.0025,  36.0996,2,  36.0997,2,    203.5,2,   203.2,2,    0.90,2,    0.00,2,    0.00,2,    0.09,2,   1.623,2,   1.033,2,   1.173,2,  2046.5,2,  2364.8,6,   328.5,2,      20,   8.0460,2,    25.00,    1.28,2,    34.1,2,     0.3,   71.08,2,    4.72,2,      6.282,2,   0.0575,2,   0.0219,2,  -0.0078,2,  -0.0067,3,  -0.0060,3,  -0.0047,4,   0.0001,4,   0.0251,2,   0.0251,2,     -999.0,5,  -999.0,9,     -999.0,     -999.0,9,     -999.0,20131001,       1616
33RO20130803,       A16N,     145,          1,         22,         22,2,20131001,       1357,    -5.9982,   -25.0001,       5814,    48.1,  25.7742,  36.1387,2,  36.1456,2,    203.7,2,   204.3,2,    1.00,2,    0.00,2,    0.00,2,    0.11,2,   1.637,6,   1.046,6,   1.202,6,  2052.7,2,  2369.4,2,   329.3,2,      20,   8.0469,2,    25.00,    1.23,2,    38.4,2,     0.3,   69.22,2,    4.92,2,      6.448,6,   0.0857,2,   0.0463,2,   0.0111,2,   0.0087,2,   0.0053,2,   0.0034,2,   0.0021,2,   0.0180,2,   0.0188,2,     -999.0,5,  -999.0,9,     -999.0,     -999.0,9,     -999.0,20131001,       1614
33RO20130803,       A16N,     145,          1,         21,         21,2,20131001,       1357,    -5.9982,   -25.0001,       5814,    72.4,  24.9957,  36.3970,2,  36.3645,2,    202.6,2,   203.8,2,    1.20,2,    0.10,2,    0.02,2,    0.13,2,   1.693,2,   1.077,2,   1.191,2,  2068.0,2,  2382.0,2,   343.9,2,      20,   8.0409,2,    25.00,    1.26,2,    38.0,2,     0.3,   66.47,2,    5.02,2,      7.349,2,   0.1454,2,   0.0952,2,   0.0423,2,   0.0315,2,   0.0212,2,   0.0113,2,   0.0059,2,   0.0151,2,   0.0160,2,     -999.0,5,  -999.0,9,     -999.0,     -999.0,9,     -999.0,20131001,       1612
33RO20130803,       A16N,     145,          1,         20,         20,2,20131001,       1357,    -5.9982,   -25.0001,       5814,    99.6,  20.7545,  36.4297,2,  36.4308,2,    179.1,2,   176.5,2,    2.30,2,    4.70,2,    0.22,2,    0.50,2,   1.966,2,   1.216,2,   1.157,2,  2131.1,2,  2390.0,2,   468.1,2,      20,   7.9367,6,    25.00,    0.93,2,    46.7,2,     0.2,   60.47,2,    8.66,2,     12.147,2,   0.1452,2,   0.0914,2,   0.0352,2,   0.0274,2,   0.0151,2,   0.0072,2,   0.0036,2,   0.0167,2,   0.0178,2,     -999.0,5,  -999.0,9,     -999.0,     -999.0,9,     -999.0,20131001,       1610
33RO20130803,       A16N,     145,          1,         19,         19,2,20131001,       1357,    -5.9982,   -25.0001,       5814,   147.7,  13.9396,  35.4379,2,  35.4382,2,    104.6,2,   105.5,2,    7.20,2,   21.40,2,    0.01,2,    1.42,2,   2.040,2,   1.172,2,   0.686,2,  2194.0,2,  2325.4,2,   856.8,2,      20,   7.6837,2,    25.00,    0.37,2,    29.3,2,     0.4,   50.59,2,   24.37,2,     27.129,2,   0.1315,2,   0.0809,2,   0.0333,2,   0.0284,2,   0.0159,2,   0.0069,2,   0.0033,2,   0.0156,2,   0.0169,2,     -999.0,5,  -999.0,9,     -999.0,     -999.0,9,     -999.0,20131001,       1607
33RO20130803,       A16N,     145,          1,         18,         18,2,20131001,       1357,    -5.9982,   -25.0001,       5814,   224.2,  10.5954,  34.9914,2,  34.9937,2,     89.4,2,      90,2,   12.00,2,   28.60,2,    0.00,2,    1.86,2,   1.645,2,   0.910,2,   0.368,2,  2215.2,2,  2303.5,2,  1118.0,2,      20,   7.5695,2,    25.00,    0.43,2,    14.6,2,     0.2,    48.4,2,   31.34,2,     34.002,2,   0.1459,2,   0.0939,2,   0.0452,2,   0.0382,2,   0.0238,2,   0.0109,2,   0.0044,2,   0.0140,2,   0.0152,2,     -999.0,5,  -999.0,9,     -999.0,     -999.0,9,     -999.0,20131001,       1604
33RO20130803,       A16N,     145,          1,         17,         17,2,20131001,       1357,    -5.9982,   -25.0001,       5814,   298.1,   9.5146,  34.8639,2,  34.8606,2,     79.4,2,    79.9,2,   14.60,2,   32.20,2,    0.00,2,    2.06,2,   1.235,2,   0.646,2,   0.216,2,  2226.9,2,  2297.8,2,  1266.8,2,      20,   7.5187,2,    25.00,    0.36,2,    -2.9,2,     0.2,   47.14,2,   34.91,2,     36.535,2,   0.1370,2,   0.0829,2,   0.0364,2,   0.0309,2,   0.0181,2,   0.0071,2,   0.0030,2,   0.0151,2,   0.0166,2,     -999.0,5,  -999.0,9,     -999.0,     -999.0,9,     -999.0,20131001,       1602
33RO20130803,       A16N,     145,          1,         16,         16,2,20131001,       1357,    -5.9982,   -25.0001,       5814,   408.3,   8.0570,  34.7193,2,  34.7193,2,     75.7,2,    76.1,2,   18.40,2,   35.60,2,    0.00,2,    2.30,2,   0.713,2,   0.365,2,   0.101,2,  2237.5,6,  2295.4,2,  1395.9,2,      20,   7.4721,2,    25.00,    0.38,2,   -46.8,2,     0.2,   46.09,2,   38.14,2,     35.424,2,-999.0000,9,-999.0000,9,-999.0000,9,-999.0000,9,-999.0000,9,-999.0000,9,-999.0000,9,-999.0000,9,-999.0000,9,     -999.0,5,  -999.0,9,     -999.0,     -999.0,9,     -999.0,20131001,       1559
33RO20130803,       A16N,     145,          1,         15,         15,2,20131001,       1357,    -5.9982,   -25.0001,       5814,   572.1,   6.1899,  34.5572,2,  34.5575,2,    106.6,2,   109.3,2,   24.00,2,   36.20,2,    0.00,2,    2.40,2,   0.384,2,   0.210,2,   0.080,2,  2230.0,2,  2292.4,2,  1328.9,2,      20,   7.4943,2,    25.00,    0.52,2,   -76.2,2,     0.2,   44.97,2,    38.7,2,     29.108,2,   0.1228,2,   0.0720,2,   0.0317,2,   0.0276,2,   0.0170,2,   0.0065,2,   0.0027,2,   0.0148,2,   0.0164,2,     -999.0,5,  -999.0,9,     -999.0,     -999.0,9,     -999.0,20131001,       1554
33RO20130803,       A16N,     145,          1,         14,         14,2,20131001,       1357,    -5.9982,   -25.0001,       5814,   721.9,   5.0708,  34.4907,2,  34.4908,2,    136.0,2,     135,2,   29.30,2,   35.60,2,    0.00,2,    2.42,2,   0.248,2,   0.120,2,   0.000,2,  2225.7,2,  2295.6,2,  1250.8,2,      20,   7.5197,2,    25.00,    0.61,2,   -99.8,2,     0.2,    43.9,2,   38.06,2,     25.720,2,   0.1205,2,   0.0687,2,   0.0284,2,   0.0244,2,   0.0152,2,   0.0061,2,   0.0025,2,   0.0155,2,   0.0172,2,     -999.0,5,  -999.0,9,     -999.0,     -999.0,9,     -999.0,20131001,       1551
33RO20130803,       A16N,     145,          1,         13,         13,2,20131001,       1357,    -5.9982,   -25.0001,       5814,   874.2,   4.3528,  34.5064,2,  34.5053,2,    155.6,2,   155.9,2,   33.70,2,   34.20,2,    0.00,2,    2.35,2,   0.161,2,   0.071,2,   0.000,2,  2221.2,2,  2303.0,6,  1158.6,2,      20,   7.5523,2,    25.00,    0.67,2,  -115.3,2,     0.2,   42.37,2,   36.82,2,     23.040,2,-999.0000,5,-999.0000,5,-999.0000,5,-999.0000,5,-999.0000,5,-999.0000,5,-999.0000,5,-999.0000,5,-999.0000,5,     -999.0,5,  -999.0,9,     -999.0,     -999.0,9,     -999.0,20131001,       1546
33RO20130803,       A16N,     145,          1,         12,         12,2,20131001,       1357,    -5.9982,   -25.0001,       5814,  1047.7,   4.2446,  34.6205,2,  34.6197,2,    161.6,2,   161.8,2,   32.80,2,   32.40,2,    0.00,2,    2.23,2,   0.047,2,   0.011,2,   0.000,2,  2218.0,2,  2311.5,2,  1096.2,2,      20,   7.5696,2,    25.00,    0.67,2,  -117.9,2,     0.2,   41.54,2,   34.79,2,     22.100,2,-999.0000,9,-999.0000,9,-999.0000,9,-999.0000,9,-999.0000,9,-999.0000,9,-999.0000,9,-999.0000,9,-999.0000,9,     -999.0,5,  -999.0,9,     -999.0,     -999.0,9,     -999.0,20131001,       1542
33RO20130803,       A16N,     145,          1,         11,         11,2,20131001,       1357,    -5.9982,   -25.0001,       5814,  1348.6,   4.3153,  34.8619,2,  34.8609,2,    197.3,2,   195.9,2,   24.30,2,   26.00,2,    0.00,2,    1.77,2,   0.079,2,   0.031,2,   0.000,2,  2195.1,2,  2312.5,2,   892.3,2,      20,   7.6484,2,    25.00,    0.78,2,   -97.6,2,     0.2,   40.66,2,   28.61,2,     18.124,2,   0.1211,2,   0.0719,2,   0.0281,2,   0.0215,2,   0.0137,2,   0.0059,2,   0.0027,2,   0.0162,2,   0.0174,2,     -999.0,5,  -999.0,9,     -999.0,     -999.0,9,     -999.0,20131001,       1535
33RO20130803,       A16N,     145,          1,         10,         10,2,20131001,       1357,    -5.9982,   -25.0001,       5814,  1747.5,   3.9706,  34.9625,2,  34.9669,2,    236.1,2,   235.9,2,   19.50,2,   20.90,2,    0.00,2,    1.40,2,   0.203,2,   0.097,2,   0.000,2,  2173.4,2,  2316.2,2,   782.1,2,      20,   7.7060,3,    25.00,    0.93,2,   -87.1,2,     0.2,   40.48,2,   23.53,2,     14.642,2,-999.0000,9,-999.0000,9,-999.0000,9,-999.0000,9,-999.0000,9,-999.0000,9,-999.0000,9,-999.0000,9,-999.0000,9,     -999.0,5,  -999.0,9,     -999.0,     -999.0,9,     -999.0,20131001,       1527
33RO20130803,       A16N,     145,          1,          9,          9,2,20131001,       1357,    -5.9982,   -25.0001,       5814,  2147.5,   3.2551,  34.9345,2,  34.9344,2,    240.4,2,   240.3,2,   28.90,2,   21.30,2,    0.00,2,    1.44,2,   0.065,2,   0.024,2,   0.000,2,  2178.8,2,  2326.0,2,   774.9,2,      20,   7.7188,3,    25.00,    0.96,2,  -101.9,2,     0.2,   40.41,2,   23.96,2,     14.194,2,   0.1301,2,   0.0796,2,   0.0300,2,   0.0224,2,   0.0145,2,   0.0069,2,   0.0033,2,   0.0168,2,   0.0178,2,     -999.0,5,  -999.0,9,     -999.0,     -999.0,9,     -999.0,20131001,       1520
33RO20130803,       A16N,     145,          1,          8,          8,2,20131001,       1357,    -5.9982,   -25.0001,       5814,  2597.9,   2.8222,  34.9133,2,  34.9141,2,    238.7,2,   240.3,2,   37.00,2,   22.00,2,    0.00,2,    1.48,2,   0.016,2,   0.005,2,   0.000,2,  2186.5,2,  2330.4,2,   777.8,2,      20,-999.0000,9,  -999.00,    0.99,2,  -110.6,2,     0.3,   40.53,2,    24.6,2,     14.123,2,   0.1202,2,   0.0707,2,   0.0257,2,   0.0199,2,   0.0126,2,   0.0054,2,   0.0024,2,   0.0168,2,   0.0181,2,     -999.0,5,  -999.0,9,     -999.0,     -999.0,9,     -999.0,20131001,       1510
33RO20130803,       A16N,     145,          1,          7,          7,2,20131001,       1357,    -5.9982,   -25.0001,       5814,  3097.6,   2.6591,  34.9172,2,  34.9171,2,    250.9,2,   251.5,2,   33.20,2,   20.50,2,    0.00,2,    1.39,2,   0.099,2,   0.042,2,   0.000,2,  2178.2,2,  2330.5,2,   754.4,2,      20,   7.0763,4,    25.00,    1.04,2,  -101.3,2,     0.2,   40.34,2,   22.92,2,     13.548,2,-999.0000,9,-999.0000,9,-999.0000,9,-999.0000,9,-999.0000,9,-999.0000,9,-999.0000,9,-999.0000,9,-999.0000,9,     -999.0,5,  -999.0,9,     -999.0,     -999.0,9,     -999.0,20131001,       1500
33RO20130803,       A16N,     145,          1,          6,          6,2,20131001,       1357,    -5.9982,   -25.0001,       5814,  3599.6,   2.5060,  34.9068,2,  34.9083,2,    254.8,2,   254.7,2,   34.50,2,   20.30,2,    0.00,2,    1.37,2,   0.133,2,   0.053,2,   0.016,2,  2178.7,2,  2330.7,2,   757.3,2,      20,   7.7302,2,    25.00,    1.00,2,   -96.3,2,     0.2,   40.68,2,   22.92,2,     13.427,2,   0.1276,2,   0.0779,2,   0.0296,2,   0.0228,2,   0.0146,2,   0.0070,2,   0.0030,2,   0.0165,2,   0.0176,2,     -999.0,5,  -999.0,9,     -999.0,     -999.0,9,     -999.0,20131001,       1450
33RO20130803,       A16N,     145,          1,          5,          5,2,20131001,       1357,    -5.9982,   -25.0001,       5814,  4097.6,   1.7907,  34.8305,2,  34.8300,2,    241.1,2,   241.2,2,   64.90,6,   24.50,6,    0.00,6,    1.68,6,   0.053,2,   0.017,2,   0.000,2,  2211.3,2,  2347.7,2,   840.5,2,      20,   7.6914,2,    25.00,    0.85,2,  -125.6,2,     0.3,   40.52,2,   26.82,2,     14.963,2,   0.1247,2,   0.0745,2,   0.0278,2,   0.0210,2,   0.0130,2,   0.0058,2,   0.0027,2,   0.0167,2,   0.0178,2,     -999.0,5,  -999.0,9,     -999.0,     -999.0,9,     -999.0,20131001,       1440
33RO20130803,       A16N,     145,          1,          4,          4,2,20131001,       1357,    -5.9982,   -25.0001,       5814,  4598.4,   1.0238,  34.7476,2,  34.7471,2,    227.2,2,   227.1,2,   97.70,6,   29.10,6,    0.00,6,    2.03,6,   0.028,2,   0.002,2,   0.000,2,  2244.0,2,  2366.5,2,   941.1,6,      20,-999.0000,5,  -999.00,    0.64,2,  -151.0,2,     0.2,    40.5,2,   31.77,2,     16.578,2,   0.1242,2,   0.0740,2,   0.0308,2,   0.0241,2,   0.0155,2,   0.0070,2,   0.0031,2,   0.0156,2,   0.0169,2,     -999.0,5,  -999.0,9,     -999.0,     -999.0,9,     -999.0,20131001,       1430
33RO20130803,       A16N,     145,          1,          3,          3,2,20131001,       1357,    -5.9982,   -25.0001,       5814,  5098.2,   0.7966,  34.7164,2,  34.7156,2,    222.5,2,   221.9,2,  109.60,6,   30.80,6,    0.00,6,    2.15,6,   0.084,6,   0.032,6,   0.000,6,  2254.1,2,  2366.5,6,   991.1,2,      20,   7.6269,2,    25.00,    0.56,2,  -158.6,2,     0.2,   40.03,2,   33.29,2,     17.299,6,   0.1161,2,   0.0663,2,   0.0253,2,   0.0204,2,   0.0127,2,   0.0054,2,   0.0025,2,   0.0162,2,   0.0177,2,     -999.0,5,  -999.0,9,     -999.0,     -999.0,9,     -999.0,20131001,       1419
33RO20130803,       A16N,     145,          1,          2,          2,2,20131001,       1357,    -5.9982,   -25.0001,       5814,  5598.8,   0.7389,  34.7034,2,  34.7030,2,    221.0,2,   220.1,2,  114.50,6,   31.50,6,    0.00,6,    2.19,6,   0.110,2,   0.045,2,   0.000,2,  2259.4,2,  2369.8,2,  1006.8,2,      20,   7.6208,6,    25.00,    0.50,2,  -154.7,2,     0.2,   40.46,2,   33.93,2,     17.609,2,   0.1178,2,   0.0670,2,   0.0245,2,   0.0192,2,   0.0117,2,   0.0049,2,   0.0023,2,   0.0167,2,   0.0182,2,     -999.0,5,  -999.0,9,     -999.0,     -999.0,9,     -999.0,20131001,       1409
33RO20130803,       A16N,     145,          1,          1,          1,2,20131001,       1357,    -5.9982,   -25.0001,       5814,  5886.6,   0.7739,  34.7030,2,  34.7029,2,    220.8,2,   219.9,2,  114.60,2,   31.50,2,    0.00,2,    2.19,2,   0.112,2,   0.046,2,   0.000,2,  2260.8,6,  2369.9,2,   967.0,2,      20,   7.6195,2,    25.00,    0.47,2,  -158.4,2,     0.2,    39.7,2,   33.72,2,     17.641,2,-999.0000,9,-999.0000,9,-999.0000,9,-999.0000,9,-999.0000,9,-999.0000,9,-999.0000,9,-999.0000,9,-999.0000,9,     -999.0,5,  -999.0,9,     -999.0,     -999.0,9,     -999.0,20131001,       1357