BOTTLE,20220815CCHSIOAMB
EXPOCODE,SECT_ID,STNNBR,CASTNO,SAMPNO,BTLNBR,BTLNBR_FLAG_W,DATE,TIME,LATITUDE,LONGITUDE,DEPTH,CTDPRS,CTDTMP,CTDSAL,CTDSAL_FLAG_W,SALNTY,SALNTY_FLAG_W,CTDOXY,CTDOXY_FLAG_W,OXYGEN,OXYGEN_FLAG_W,SILCAT,SILCAT_FLAG_W,NITRAT,NITRAT_FLAG_W,NITRIT,NITRIT_FLAG_W,PHSPHT,PHSPHT_FLAG_W,CFC-11,CFC-11_FLAG_W,CFC-12,CFC-12_FLAG_W,SF6,SF6_FLAG_W,TCARBN,TCARBN_FLAG_W,ALKALI,ALKALI_FLAG_W,PCO2,PCO2_FLAG_W,PCO2TMP,PH_SWS,PH_SWS_FLAG_W,PH_TMP,DELC13,DELC13_FLAG_W,DELC14,DELC14_FLAG_W,C14ERR,DOC,DOC_FLAG_W,TDN,TDN_FLAG_W,N2O,N2O_FLAG_W,CDOM325,CDOM325_FLAG_W,CDOM340,CDOM340_FLAG_W,CDOM380,CDOM380_FLAG_W,CDOM412,CDOM412_FLAG_W,CDOM443,CDOM443_FLAG_W,CDOM490,CDOM490_FLAG_W,CDOM555,CDOM555_FLAG_W,CDOMSL,CDOMSL_FLAG_W,CDOMSN,CDOMSN_FLAG_W,CCL4,CCL4_FLAG_W,14C-DOC,14C-DOC_FLAG_W,14C-DOCERR,13C-DOC,13C-DOC_FLAG_W,13C-DOCERR,BTL_DATE,BTL_TIME
,,,,,,,,,,,METERS,DBAR,ITS-90,PSS-78,,PSS-78,,UMOL/KG,,UMOL/KG,,UMOL/KG,,UMOL/KG,,UMOL/KG,,UMOL/KG,,PMOL/KG,,PMOL/KG,,FMOL/KG,,UMOL/KG,,UMOL/KG,,UATM,,DEG C,,,DEG C,/MILLE,,/MILLE,,/MILLE,UMOL/KG,,UMOL/KG,,NMOL/KG,,1/M,,1/M,,1/M,,1/M,,1/M,,1/M,,1/M,,1/NM,,1/NM,,PMOL/KG,,/MILLE,,/MILLE,/MILLE,,/MILLE,,
33RO20130803,       A16N,     115,          2,         24,         24,2,20130923,       1910,     5.9970,   -26.5050,       4307,     3.2,  28.1624,  34.6789,2,  34.7258,2,    198.5,2,   199.4,2,    1.80,2,    0.00,2,    0.00,2,    0.00,2,   1.494,2,   0.962,2,   1.159,2,  1940.3,6,  2276.7,2,   260.6,2,      20,   8.1143,2,    25.00, -999.00,9,  -999.0,9,  -999.0, -999.00,9, -999.00,9,      5.879,2,-999.0000,9,-999.0000,9,-999.0000,9,-999.0000,9,-999.0000,9,-999.0000,9,-999.0000,9,-999.0000,9,-999.0000,9,     -999.0,5,  -999.0,9,     -999.0,     -999.0,9,     -999.0,20130923,       2057
33RO20130803,       A16N,     115,          2,         23,         23,2,20130923,       1910,     5.9970,   -26.5050,       4307,    17.9,  28.2164,  34.9036,2,  34.8993,2,    198.8,2,   199.5,2,    1.80,2,    0.00,2,    0.00,2,    0.00,2,   1.484,6,   0.959,6,   1.154,6,  1950.7,2,  2282.7,2,   263.2,2,      20,   8.1128,2,    25.00, -999.00,9,  -999.0,9,  -999.0, -999.00,9, -999.00,9,      5.892,6,-999.0000,9,-999.0000,9,-999.0000,9,-999.0000,9,-999.0000,9,-999.0000,9,-999.0000,9,-999.0000,9,-999.0000,9,     -999.0,5,  -999.0,9,     -999.0,     -999.0,9,     -999.0,20130923,       2055
33RO20130803,       A16N,     115,          2,         22,         22,2,20130923,       1910,     5.9970,   -26.5050,       4307,    37.8,  28.1642,  35.4601,2,  35.5235,2,    200.4,2,   200.5,2,    1.60,2,    0.10,2,    0.00,2,    0.01,2,   1.495,2,   0.963,2,   1.141,2,  1988.7,2,  2327.0,6,   278.2,2,      20,   8.1014,2,    25.00, -999.00,9,  -999.0,9,  -999.0, -999.00,9, -999.00,9,      5.941,2,-999.0000,9,-999.0000,9,-999.0000,9,-999.0000,9,-999.0000,9,-999.0000,9,-999.0000,9,-999.0000,9,-999.0000,9,     -999.0,5,  -999.0,9,     -999.0,     -999.0,9,     -999.0,20130923,       2054
33RO20130803,       A16N,     115,          2,         21,         21,2,20130923,       1910,     5.9970,   -26.5050,       4307,    61.8,  27.3105,  35.9244,2,  35.9498,2,    195.8,2,   191.7,2,    1.20,2,    0.30,2,    0.02,2,    0.05,2,   1.582,2,   1.001,2,   1.138,2,  2033.8,2,  2353.2,2,   316.8,2,      20,   8.0598,2,    25.00, -999.00,9,  -999.0,9,  -999.0, -999.00,9, -999.00,9,      7.163,2,-999.0000,9,-999.0000,9,-999.0000,9,-999.0000,9,-999.0000,9,-999.0000,9,-999.0000,9,-999.0000,9,-999.0000,9,     -999.0,5,  -999.0,9,     -999.0,     -999.0,9,     -999.0,20130923,       2052
33RO20130803,       A16N,     115,          2,         20,         20,2,20130923,       1910,     5.9970,   -26.5050,       4307,    88.4,  22.9392,  36.1099,2,  36.1035,2,    153.9,2,   150.7,2,    2.60,2,    5.20,2,    0.08,2,    0.37,2,   1.794,2,   1.100,2,   1.038,2,  2117.0,2,  2366.4,2,   453.8,2,      20,   7.9301,2,    25.00, -999.00,9,  -999.0,9,  -999.0, -999.00,9, -999.00,9,     13.203,2,-999.0000,9,-999.0000,9,-999.0000,9,-999.0000,9,-999.0000,9,-999.0000,9,-999.0000,9,-999.0000,9,-999.0000,9,     -999.0,5,  -999.0,9,     -999.0,     -999.0,9,     -999.0,20130923,       2050
33RO20130803,       A16N,     115,          2,         19,         19,2,20130923,       1910,     5.9970,   -26.5050,       4307,   122.5,  15.4812,  35.6035,2,  35.5893,2,    126.2,2,     125,2,    6.30,2,   18.00,2,    0.01,2,    1.19,2,   2.181,2,   1.239,2,   0.826,2,  2178.1,2,  2336.9,2,   707.7,2,      20,   7.7494,2,    25.00, -999.00,9,  -999.0,9,  -999.0, -999.00,9, -999.00,9,     22.247,2,-999.0000,9,-999.0000,9,-999.0000,9,-999.0000,9,-999.0000,9,-999.0000,9,-999.0000,9,-999.0000,9,-999.0000,9,     -999.0,5,  -999.0,9,     -999.0,     -999.0,9,     -999.0,20130923,       2048
33RO20130803,       A16N,     115,          2,         18,         18,2,20130923,       1910,     5.9970,   -26.5050,       4307,   188.3,  13.0895,  35.3059,2,  35.3135,2,    146.2,2,   145.9,2,    7.40,2,   18.50,2,    0.01,2,    1.26,2,   2.203,2,   1.220,2,   0.772,2,  2171.0,2,  2321.2,2,   723.1,2,      20,   7.7379,6,    25.00, -999.00,9,  -999.0,9,  -999.0, -999.00,9, -999.00,9,     20.193,2,-999.0000,9,-999.0000,9,-999.0000,9,-999.0000,9,-999.0000,9,-999.0000,9,-999.0000,9,-999.0000,9,-999.0000,9,     -999.0,5,  -999.0,9,     -999.0,     -999.0,9,     -999.0,20130923,       2046
33RO20130803,       A16N,     115,          2,         17,         17,2,20130923,       1910,     5.9970,   -26.5050,       4307,   257.7,  12.0023,  35.1649,2,  35.1630,2,    121.7,2,     117,2,    9.30,2,   23.70,2,    0.00,2,    1.55,2,   2.048,2,   1.124,2,   0.556,2,  2194.4,2,  2315.5,2,   901.3,2,      20,   7.6553,2,    25.00, -999.00,9,  -999.0,9,  -999.0, -999.00,9, -999.00,9,     27.894,2,-999.0000,9,-999.0000,9,-999.0000,9,-999.0000,9,-999.0000,9,-999.0000,9,-999.0000,9,-999.0000,9,-999.0000,9,     -999.0,5,  -999.0,9,     -999.0,     -999.0,9,     -999.0,20130923,       2043
33RO20130803,       A16N,     115,          2,         16,         16,2,20130923,       1910,     5.9970,   -26.5050,       4307,   347.6,  10.6100,  35.0161,2,  35.0135,2,     90.6,2,    89.3,2,   12.40,2,   29.30,2,    0.00,2,    1.87,2,   1.540,2,   0.827,2,   0.319,2,  2217.7,2,  2302.3,2,  1112.2,2,      20,   7.5681,2,    25.00, -999.00,9,  -999.0,9,  -999.0, -999.00,9, -999.00,9,     34.538,2,-999.0000,9,-999.0000,9,-999.0000,9,-999.0000,9,-999.0000,9,-999.0000,9,-999.0000,9,-999.0000,9,-999.0000,9,     -999.0,5,  -999.0,9,     -999.0,     -999.0,9,     -999.0,20130923,       2040
33RO20130803,       A16N,     115,          2,         15,         15,2,20130923,       1910,     5.9970,   -26.5050,       4307,   448.6,   9.0187,  34.8656,2,  34.8680,2,     85.9,2,    83.3,2,   15.80,2,   33.30,2,    0.00,2,    2.11,2,   0.980,2,   0.516,2,   0.189,2,  2230.5,2,  2304.1,2,  1267.5,2,      20,   7.5519,3,    25.00, -999.00,9,  -999.0,9,  -999.0, -999.00,9, -999.00,9,     35.606,2,-999.0000,9,-999.0000,9,-999.0000,9,-999.0000,9,-999.0000,9,-999.0000,9,-999.0000,9,-999.0000,9,-999.0000,9,     -999.0,5,  -999.0,9,     -999.0,     -999.0,9,     -999.0,20130923,       2037
33RO20130803,       A16N,     115,          2,         14,         14,2,20130923,       1910,     5.9970,   -26.5050,       4307,   547.5,   8.0265,  34.8198,2,  34.8181,2,     72.1,2,    72.3,2,   18.90,2,   36.30,2,    0.00,2,    2.31,2,   0.445,2,   0.237,2,   0.093,2,  2241.7,6,  2300.7,2,  1383.8,2,      20,   7.4749,2,    25.00, -999.00,9,  -999.0,9,  -999.0, -999.00,9, -999.00,9,     35.197,2,-999.0000,9,-999.0000,9,-999.0000,9,-999.0000,9,-999.0000,9,-999.0000,9,-999.0000,9,-999.0000,9,-999.0000,9,     -999.0,5,  -999.0,9,     -999.0,     -999.0,9,     -999.0,20130923,       2034
33RO20130803,       A16N,     115,          2,         13,         13,2,20130923,       1910,     5.9970,   -26.5050,       4307,   627.6,   6.9163,  34.7121,2,  34.7124,2,     85.9,2,    85.6,2,   22.00,2,   36.90,2,    0.00,2,    2.41,2,   0.238,2,   0.129,2,   0.029,2,  2240.9,2,  2297.5,2,  1379.6,2,      20,   7.4777,2,    25.00, -999.00,9,  -999.0,9,  -999.0, -999.00,9, -999.00,9,     32.095,2,-999.0000,9,-999.0000,9,-999.0000,9,-999.0000,9,-999.0000,9,-999.0000,9,-999.0000,9,-999.0000,9,-999.0000,9,     -999.0,5,  -999.0,9,     -999.0,     -999.0,9,     -999.0,20130923,       2031
33RO20130803,       A16N,     115,          2,         12,         12,2,20130923,       1910,     5.9970,   -26.5050,       4307,   717.5,   6.0900,  34.6571,2,  34.6563,2,     99.5,2,    99.7,2,   24.90,2,   37.00,2,    0.00,2,    2.44,2,   0.111,2,   0.064,2,   0.000,2,  2238.7,2,  2299.3,6,  1342.1,2,      20,   7.4882,2,    25.00, -999.00,9,  -999.0,9,  -999.0, -999.00,9, -999.00,9,     29.706,2,-999.0000,9,-999.0000,9,-999.0000,9,-999.0000,9,-999.0000,9,-999.0000,9,-999.0000,9,-999.0000,9,-999.0000,9,     -999.0,5,  -999.0,9,     -999.0,     -999.0,9,     -999.0,20130923,       2028
33RO20130803,       A16N,     115,          2,         11,         11,2,20130923,       1910,     5.9970,   -26.5050,       4307,   873.6,   5.1403,  34.6374,2,  34.6377,2,    130.9,2,   130.8,2,   28.10,2,   34.70,2,    0.00,2,    2.35,2,   0.062,2,   0.036,2,   0.000,2,  2229.1,2,  2301.8,2,  1206.0,2,      20,   7.5324,2,    25.00, -999.00,9,  -999.0,9,  -999.0, -999.00,9, -999.00,9,     25.271,2,-999.0000,9,-999.0000,9,-999.0000,9,-999.0000,9,-999.0000,9,-999.0000,9,-999.0000,9,-999.0000,9,-999.0000,9,     -999.0,5,  -999.0,9,     -999.0,     -999.0,9,     -999.0,20130923,       2024
33RO20130803,       A16N,     115,          2,         10,         10,2,20130923,       1910,     5.9970,   -26.5050,       4307,  1022.5,   4.8382,  34.7161,2,  34.7157,2,    151.3,2,   151.3,2,   27.40,2,   32.00,2,    0.00,2,    2.18,2,   0.050,2,   0.030,2,   0.000,2,  2219.2,2,  2308.7,2,  1094.0,2,      20,   7.5714,2,    25.00, -999.00,9,  -999.0,9,  -999.0, -999.00,9, -999.00,9,     22.710,2,-999.0000,9,-999.0000,9,-999.0000,9,-999.0000,9,-999.0000,9,-999.0000,9,-999.0000,9,-999.0000,9,-999.0000,9,     -999.0,5,  -999.0,9,     -999.0,     -999.0,9,     -999.0,20130923,       2020
33RO20130803,       A16N,     115,          2,          9,          9,2,20130923,       1910,     5.9970,   -26.5050,       4307,  1199.1,   4.7070,  34.8429,2,  34.8425,2,    171.9,2,   171.9,2,   24.20,2,   28.60,2,    0.00,2,    1.94,2,   0.044,2,   0.025,2,   0.000,2,  2208.2,2,  2316.0,2,   977.9,2,      20,   7.6161,2,    25.00, -999.00,9,  -999.0,9,  -999.0, -999.00,9, -999.00,9,     20.199,2,-999.0000,9,-999.0000,9,-999.0000,9,-999.0000,9,-999.0000,9,-999.0000,9,-999.0000,9,-999.0000,9,-999.0000,9,     -999.0,5,  -999.0,9,     -999.0,     -999.0,9,     -999.0,20130923,       2016
33RO20130803,       A16N,     115,          2,          8,          8,2,20130923,       1910,     5.9970,   -26.5050,       4307,  1448.2,   4.3025,  34.9500,2,  34.9499,2,    214.0,2,   214.6,2,   19.70,2,   23.20,2,    0.00,2,    1.56,2,   0.134,2,   0.074,2,   0.017,2,  2184.7,2,  2315.0,2,   824.8,2,      20,   7.6840,2,    25.00, -999.00,9,  -999.0,9,  -999.0, -999.00,9, -999.00,9,     16.201,2,-999.0000,9,-999.0000,9,-999.0000,9,-999.0000,9,-999.0000,9,-999.0000,9,-999.0000,9,-999.0000,9,-999.0000,9,     -999.0,5,  -999.0,9,     -999.0,     -999.0,9,     -999.0,20130923,       2010
33RO20130803,       A16N,     115,          2,          7,          7,2,20130923,       1910,     5.9970,   -26.5050,       4307,  1798.8,   3.8125,  34.9635,2,  34.9645,2,    235.4,2,   235.3,2,   20.20,2,   21.20,2,    0.00,2,    1.43,2,   0.094,2,   0.054,2,   0.000,2,  2176.1,2,  2317.4,2,   771.2,2,      20,   7.7101,2,    25.00, -999.00,9,  -999.0,9,  -999.0, -999.00,9, -999.00,9,     14.605,2,-999.0000,9,-999.0000,9,-999.0000,9,-999.0000,9,-999.0000,9,-999.0000,9,-999.0000,9,-999.0000,9,-999.0000,9,     -999.0,5,  -999.0,9,     -999.0,     -999.0,9,     -999.0,20130923,       2003
33RO20130803,       A16N,     115,          2,          6,          6,2,20130923,       1910,     5.9970,   -26.5050,       4307,  2197.7,   3.3580,  34.9519,2,  34.9547,2,    242.6,2,   242.3,2,   24.20,2,   20.80,2,    0.00,2,    1.40,2,   0.047,2,   0.027,2,   0.000,2,  2176.6,2,  2320.2,2,   743.3,2,      20,   7.7202,2,    25.00, -999.00,9,  -999.0,9,  -999.0, -999.00,9, -999.00,9,     13.921,2,-999.0000,9,-999.0000,9,-999.0000,9,-999.0000,9,-999.0000,9,-999.0000,9,-999.0000,9,-999.0000,9,-999.0000,9,     -999.0,5,  -999.0,9,     -999.0,     -999.0,9,     -999.0,20130923,       1955
33RO20130803,       A16N,     115,          2,          5,          5,2,20130923,       1910,     5.9970,   -26.5050,       4307,  2598.1,   2.9610,  34.9331,2,  34.9334,2,    244.0,2,   244.5,2,   29.90,2,   21.10,2,    0.00,2,    1.42,2,   0.021,2,   0.016,2,   0.000,2,  2180.5,2,  2328.7,2,   753.7,2,      20,   7.7241,2,    25.00, -999.00,9,  -999.0,9,  -999.0, -999.00,9, -999.00,9,     13.719,2,-999.0000,9,-999.0000,9,-999.0000,9,-999.0000,9,-999.0000,9,-999.0000,9,-999.0000,9,-999.0000,9,-999.0000,9,     -999.0,5,  -999.0,9,     -999.0,     -999.0,9,     -999.0,20130923,       1947
33RO20130803,       A16N,     115,          2,          4,          4,2,20130923,       1910,     5.9970,   -26.5050,       4307,  2998.8,   2.7028,  34.9161,2,  34.9156,2,    244.3,2,   244.5,2,   35.00,2,   21.40,2,    0.00,2,    1.45,2,   0.017,2,   0.014,2,   0.000,2,  2185.3,2,  2332.5,2,   759.0,2,      20,   7.7203,2,    25.00, -999.00,9,  -999.0,9,  -999.0, -999.00,9, -999.00,9,     13.734,2,-999.0000,9,-999.0000,9,-999.0000,9,-999.0000,9,-999.0000,9,-999.0000,9,-999.0000,9,-999.0000,9,-999.0000,9,     -999.0,5,  -999.0,9,     -999.0,     -999.0,9,     -999.0,20130923,       1938
33RO20130803,       A16N,     115,          2,          3,          3,2,20130923,       1910,     5.9970,   -26.5050,       4307,  3397.5,   2.5562,  34.9054,2,  34.9054,2,    246.8,2,   246.4,2,   37.20,2,   21.40,2,    0.00,2,    1.44,2,   0.038,2,   0.023,2,   0.000,2,  2185.9,2,  2334.9,2,   757.5,2,      20,   7.7222,6,    25.00, -999.00,9,  -999.0,9,  -999.0, -999.00,9, -999.00,9,     13.678,2,-999.0000,9,-999.0000,9,-999.0000,9,-999.0000,9,-999.0000,9,-999.0000,9,-999.0000,9,-999.0000,9,-999.0000,9,     -999.0,5,  -999.0,9,     -999.0,     -999.0,9,     -999.0,20130923,       1930
33RO20130803,       A16N,     115,          2,          2,          2,2,20130923,       1910,     5.9970,   -26.5050,       4307,  3847.6,   2.3894,  34.8913,2,  34.8912,2,    248.4,2,   248.2,2,   41.10,2,   21.60,2,    0.00,2,    1.46,2,   0.060,2,   0.036,2,   0.000,2,  2190.0,2,  2337.5,3,   759.2,2,      20,   7.4376,3,    25.00, -999.00,9,  -999.0,9,  -999.0, -999.00,9, -999.00,9,     13.696,2,-999.0000,9,-999.0000,9,-999.0000,9,-999.0000,9,-999.0000,9,-999.0000,9,-999.0000,9,-999.0000,9,-999.0000,9,     -999.0,5,  -999.0,9,     -999.0,     -999.0,9,     -999.0,20130923,       1920
33RO20130803,       A16N,     115,          2,          1,          1,2,20130923,       1910,     5.9970,   -26.5050,       4307,  4324.2,   2.3668,  34.8852,2,  34.8850,2,    246.7,2,   245.5,2,   43.80,2,   22.00,2,    0.00,2,    1.49,2,   0.049,6,   0.030,6,   0.012,6,  2198.6,6,  2344.1,2,   746.1,2,      20,   7.7276,2,    25.00, -999.00,9,  -999.0,9,  -999.0, -999.00,9, -999.00,9,     13.763,6,-999.0000,9,-999.0000,9,-999.0000,9,-999.0000,9,-999.0000,9,-999.0000,9,-999.0000,9,-999.0000,9,-999.0000,9,     -999.0,5,  -999.0,9,     -999.0,     -999.0,9,     -999.0,20130923,       1910