BOTTLE,20220815CCHSIOAMB
EXPOCODE,SECT_ID,STNNBR,CASTNO,SAMPNO,BTLNBR,BTLNBR_FLAG_W,DATE,TIME,LATITUDE,LONGITUDE,DEPTH,CTDPRS,CTDTMP,CTDSAL,CTDSAL_FLAG_W,SALNTY,SALNTY_FLAG_W,CTDOXY,CTDOXY_FLAG_W,OXYGEN,OXYGEN_FLAG_W,SILCAT,SILCAT_FLAG_W,NITRAT,NITRAT_FLAG_W,NITRIT,NITRIT_FLAG_W,PHSPHT,PHSPHT_FLAG_W,CFC-11,CFC-11_FLAG_W,CFC-12,CFC-12_FLAG_W,SF6,SF6_FLAG_W,TCARBN,TCARBN_FLAG_W,ALKALI,ALKALI_FLAG_W,PCO2,PCO2_FLAG_W,PCO2TMP,PH_SWS,PH_SWS_FLAG_W,PH_TMP,DELC13,DELC13_FLAG_W,DELC14,DELC14_FLAG_W,C14ERR,DOC,DOC_FLAG_W,TDN,TDN_FLAG_W,N2O,N2O_FLAG_W,CDOM325,CDOM325_FLAG_W,CDOM340,CDOM340_FLAG_W,CDOM380,CDOM380_FLAG_W,CDOM412,CDOM412_FLAG_W,CDOM443,CDOM443_FLAG_W,CDOM490,CDOM490_FLAG_W,CDOM555,CDOM555_FLAG_W,CDOMSL,CDOMSL_FLAG_W,CDOMSN,CDOMSN_FLAG_W,CCL4,CCL4_FLAG_W,14C-DOC,14C-DOC_FLAG_W,14C-DOCERR,13C-DOC,13C-DOC_FLAG_W,13C-DOCERR,BTL_DATE,BTL_TIME
,,,,,,,,,,,METERS,DBAR,ITS-90,PSS-78,,PSS-78,,UMOL/KG,,UMOL/KG,,UMOL/KG,,UMOL/KG,,UMOL/KG,,UMOL/KG,,PMOL/KG,,PMOL/KG,,FMOL/KG,,UMOL/KG,,UMOL/KG,,UATM,,DEG C,,,DEG C,/MILLE,,/MILLE,,/MILLE,UMOL/KG,,UMOL/KG,,NMOL/KG,,1/M,,1/M,,1/M,,1/M,,1/M,,1/M,,1/M,,1/NM,,1/NM,,PMOL/KG,,/MILLE,,/MILLE,/MILLE,,/MILLE,,
33RO20130803,       A16N,     143,          1,         24,         24,2,20131001,       2341,    -4.9995,   -25.0005,       5698,     3.3,  26.1533,  36.1264,2,  36.1253,2,    202.5,2,   202.8,2,    0.90,2,    0.00,2,    0.00,2,    0.08,2,   1.610,2,   1.032,2,   1.199,2,  2050.4,6,  2368.2,2,   315.0,2,      20,   8.0577,2,    25.00, -999.00,9,  -999.0,9,  -999.0, -999.00,9, -999.00,9,      6.314,2,-999.0000,9,-999.0000,9,-999.0000,9,-999.0000,9,-999.0000,9,-999.0000,9,-999.0000,9,-999.0000,9,-999.0000,9,     -999.0,5,  -999.0,9,     -999.0,     -999.0,9,     -999.0,20131001,       0142
33RO20130803,       A16N,     143,          1,         23,         23,2,20131001,       2341,    -4.9995,   -25.0005,       5698,    12.9,  26.1602,  36.1256,2,  36.1257,2,    202.7,2,   203.5,2,    0.90,2,    0.00,2,    0.00,2,    0.09,2,   1.607,2,   1.028,2,   1.143,2,  2051.5,2,  2368.3,6,   316.1,2,      20,   8.0566,2,    25.00, -999.00,9,  -999.0,9,  -999.0, -999.00,9, -999.00,9,      6.319,2,-999.0000,9,-999.0000,9,-999.0000,9,-999.0000,9,-999.0000,9,-999.0000,9,-999.0000,9,-999.0000,9,-999.0000,9,     -999.0,5,  -999.0,9,     -999.0,     -999.0,9,     -999.0,20131001,       0141
33RO20130803,       A16N,     143,          1,         22,         22,2,20131001,       2341,    -4.9995,   -25.0005,       5698,    41.5,  26.1639,  36.1233,2,  36.1260,2,    203.5,2,   202.4,2,    0.90,2,    0.00,2,    0.00,2,    0.09,2,   1.613,2,   1.028,2,   1.202,2,  2051.9,2,  -999.0,9,   319.2,2,      20,   8.0570,2,    25.00, -999.00,9,  -999.0,9,  -999.0, -999.00,9, -999.00,9,      6.332,2,-999.0000,9,-999.0000,9,-999.0000,9,-999.0000,9,-999.0000,9,-999.0000,9,-999.0000,9,-999.0000,9,-999.0000,9,     -999.0,5,  -999.0,9,     -999.0,     -999.0,9,     -999.0,20131001,       0139
33RO20130803,       A16N,     143,          1,         21,         21,2,20131001,       2341,    -4.9995,   -25.0005,       5698,    72.3,  26.1461,  36.1201,2,  36.1286,2,    202.9,2,   203.2,2,    1.00,2,    0.10,2,    0.00,2,    0.10,2,   1.600,6,   1.028,6,   1.188,6,  2052.5,2,  2368.0,2,   335.2,2,      20,   8.0563,2,    25.00, -999.00,9,  -999.0,9,  -999.0, -999.00,9, -999.00,9,      6.328,6,-999.0000,9,-999.0000,9,-999.0000,9,-999.0000,9,-999.0000,9,-999.0000,9,-999.0000,9,-999.0000,9,-999.0000,9,     -999.0,5,  -999.0,9,     -999.0,     -999.0,9,     -999.0,20131001,       0137
33RO20130803,       A16N,     143,          1,         20,         20,2,20131001,       2341,    -4.9995,   -25.0005,       5698,   122.6,  18.0462,  35.9975,2,  35.9824,2,    131.4,2,   130.5,2,    4.20,2,   13.50,2,    0.03,2,    0.99,2,   2.054,2,   1.221,2,   0.967,2,  2173.7,2,  -999.0,9,   639.8,2,      20,   7.8127,2,    25.00, -999.00,9,  -999.0,9,  -999.0, -999.00,9, -999.00,9,     18.786,2,-999.0000,9,-999.0000,9,-999.0000,9,-999.0000,9,-999.0000,9,-999.0000,9,-999.0000,9,-999.0000,9,-999.0000,9,     -999.0,5,  -999.0,9,     -999.0,     -999.0,9,     -999.0,20131001,       0135
33RO20130803,       A16N,     143,          1,         19,         19,2,20131001,       2341,    -4.9995,   -25.0005,       5698,   197.1,  10.3163,  34.9516,2,  34.9501,2,    105.0,2,   103.6,2,   12.00,2,   27.90,2,    0.00,2,    1.83,2,   1.757,2,   0.939,2,   0.394,2,  2212.5,2,  2304.0,2,  1064.9,2,      20,   7.5894,2,    25.00, -999.00,9,  -999.0,9,  -999.0, -999.00,9, -999.00,9,     31.230,2,-999.0000,9,-999.0000,9,-999.0000,9,-999.0000,9,-999.0000,9,-999.0000,9,-999.0000,9,-999.0000,9,-999.0000,9,     -999.0,5,  -999.0,9,     -999.0,     -999.0,9,     -999.0,20131001,       0133
33RO20130803,       A16N,     143,          1,         18,         18,2,20131001,       2341,    -4.9995,   -25.0005,       5698,   297.6,   8.7994,  34.7814,2,  34.7812,2,     92.2,2,    93.4,2,   15.80,2,   32.40,2,    0.00,2,    2.10,2,   1.221,2,   0.635,2,   0.258,2,  2226.9,2,  -999.0,9,  1237.8,2,      20,   7.5258,2,    25.00, -999.00,9,  -999.0,9,  -999.0, -999.00,9, -999.00,9,     33.577,2,-999.0000,9,-999.0000,9,-999.0000,9,-999.0000,9,-999.0000,9,-999.0000,9,-999.0000,9,-999.0000,9,-999.0000,9,     -999.0,5,  -999.0,9,     -999.0,     -999.0,9,     -999.0,20131001,       0130
33RO20130803,       A16N,     143,          1,         17,         17,2,20131001,       2341,    -4.9995,   -25.0005,       5698,   397.5,   7.4423,  34.6554,2,  34.6533,2,     96.0,2,    96.8,2,   19.60,2,   35.00,2,    0.00,2,    2.29,2,   0.814,2,   0.417,2,   0.112,2,  2233.2,6,  2293.7,2,  1321.5,2,      20,   7.4994,3,    25.00, -999.00,9,  -999.0,9,  -999.0, -999.00,9, -999.00,9,     32.001,2,-999.0000,9,-999.0000,9,-999.0000,9,-999.0000,9,-999.0000,9,-999.0000,9,-999.0000,9,-999.0000,9,-999.0000,9,     -999.0,5,  -999.0,9,     -999.0,     -999.0,9,     -999.0,20131001,       0127
33RO20130803,       A16N,     143,          1,         16,         16,2,20131001,       2341,    -4.9995,   -25.0005,       5698,   522.1,   6.3190,  34.5580,2,  34.5566,2,    119.7,2,   118.9,2,   22.80,2,   35.00,2,    0.00,2,    2.34,2,-999.000,5,-999.000,5,-999.000,5,  2227.0,2,  2294.9,2,  1268.9,2,      20,   7.5422,4,    25.00, -999.00,9,  -999.0,9,  -999.0, -999.00,9, -999.00,9,     -999.0,5,-999.0000,9,-999.0000,9,-999.0000,9,-999.0000,9,-999.0000,9,-999.0000,9,-999.0000,9,-999.0000,9,-999.0000,9,     -999.0,5,  -999.0,9,     -999.0,     -999.0,9,     -999.0,20131001,       0124
33RO20130803,       A16N,     143,          1,         15,         15,2,20131001,       2341,    -4.9995,   -25.0005,       5698,   671.2,   5.4588,  34.5014,2,  34.5001,2,    133.2,2,   132.4,2,   26.70,2,   35.40,2,    0.00,2,    2.38,2,   0.473,6,   0.243,6,   0.070,6,  2229.3,3,  -999.0,9,  1246.1,2,      20,   7.5195,2,    25.00, -999.00,9,  -999.0,9,  -999.0, -999.00,9, -999.00,9,     26.023,6,-999.0000,9,-999.0000,9,-999.0000,9,-999.0000,9,-999.0000,9,-999.0000,9,-999.0000,9,-999.0000,9,-999.0000,9,     -999.0,5,  -999.0,9,     -999.0,     -999.0,9,     -999.0,20131001,       0121
33RO20130803,       A16N,     143,          1,         14,         14,2,20131001,       2341,    -4.9995,   -25.0005,       5698,   821.4,   4.7392,  34.4840,2,  34.4832,2,    152.1,2,   148.5,2,   30.90,2,   34.80,2,    0.00,2,    2.37,2,   0.293,2,   0.151,2,   0.041,2,  2225.7,2,  2299.6,2,  1192.6,2,      20,   7.5393,2,    25.00, -999.00,9,  -999.0,9,  -999.0, -999.00,9, -999.00,9,     24.131,2,-999.0000,9,-999.0000,9,-999.0000,9,-999.0000,9,-999.0000,9,-999.0000,9,-999.0000,9,-999.0000,9,-999.0000,9,     -999.0,5,  -999.0,9,     -999.0,     -999.0,9,     -999.0,20131001,       0117
33RO20130803,       A16N,     143,          1,         13,         13,2,20131001,       2341,    -4.9995,   -25.0005,       5698,   997.8,   4.2610,  34.5659,2,  34.5653,2,    159.5,2,   158.5,2,   33.50,2,   33.40,2,    0.00,2,    2.30,2,   0.098,2,   0.053,2,   0.000,2,  2224.8,2,  2306.8,2,  1132.7,2,      20,   7.5603,6,    25.00, -999.00,9,  -999.0,9,  -999.0, -999.00,9, -999.00,9,     22.783,2,-999.0000,9,-999.0000,9,-999.0000,9,-999.0000,9,-999.0000,9,-999.0000,9,-999.0000,9,-999.0000,9,-999.0000,9,     -999.0,5,  -999.0,9,     -999.0,     -999.0,9,     -999.0,20131001,       0113
33RO20130803,       A16N,     143,          1,         12,         12,2,20131001,       2341,    -4.9995,   -25.0005,       5698,  1147.3,   4.3719,  34.7633,2,  34.7613,2,    176.2,2,   176.1,2,   27.90,2,   29.30,2,    0.00,2,    2.01,2,   0.054,2,   0.022,2,   0.000,2,  2213.8,2,  2310.5,6,  1003.7,2,      20,   7.6074,2,    25.00, -999.00,9,  -999.0,9,  -999.0, -999.00,9, -999.00,9,     20.558,2,-999.0000,9,-999.0000,9,-999.0000,9,-999.0000,9,-999.0000,9,-999.0000,9,-999.0000,9,-999.0000,9,-999.0000,9,     -999.0,5,  -999.0,9,     -999.0,     -999.0,9,     -999.0,20131001,       0110
33RO20130803,       A16N,     143,          1,         11,         11,2,20131001,       2341,    -4.9995,   -25.0005,       5698,  1296.7,   4.3669,  34.8700,2,  34.8714,2,    196.5,2,   196.7,2,   23.60,6,   25.80,6,    0.00,6,    1.76,6,   0.104,2,   0.057,2,   0.029,2,  2199.6,2,  2316.5,2,   901.1,2,      20,   7.6491,2,    25.00, -999.00,9,  -999.0,9,  -999.0, -999.00,9, -999.00,9,     18.000,2,-999.0000,9,-999.0000,9,-999.0000,9,-999.0000,9,-999.0000,9,-999.0000,9,-999.0000,9,-999.0000,9,-999.0000,9,     -999.0,5,  -999.0,9,     -999.0,     -999.0,9,     -999.0,20131001,       0106
33RO20130803,       A16N,     143,          1,         10,         10,2,20131001,       2341,    -4.9995,   -25.0005,       5698,  1597.4,   4.0760,  34.9637,2,  34.9641,2,    233.3,2,   232.6,2,   18.80,2,   21.20,2,    0.00,2,    1.43,2,   0.253,2,   0.135,2,   0.046,2,  2179.0,2,  -999.0,9,   785.6,2,      20,   7.7067,2,    25.00, -999.00,9,  -999.0,9,  -999.0, -999.00,9, -999.00,9,     14.772,2,-999.0000,9,-999.0000,9,-999.0000,9,-999.0000,9,-999.0000,9,-999.0000,9,-999.0000,9,-999.0000,9,-999.0000,9,     -999.0,5,  -999.0,9,     -999.0,     -999.0,9,     -999.0,20131001,       0100
33RO20130803,       A16N,     143,          1,          9,          9,2,20131001,       2341,    -4.9995,   -25.0005,       5698,  1946.5,   3.6367,  34.9666,2,  34.9670,2,    247.7,2,   248.1,2,   19.70,2,   19.80,2,    0.00,2,    1.32,2,   0.370,2,   0.191,2,   0.097,2,  2173.3,2,  2319.3,2,   751.3,2,      20,   7.7243,2,    25.00, -999.00,9,  -999.0,9,  -999.0, -999.00,9, -999.00,9,     13.600,2,-999.0000,9,-999.0000,9,-999.0000,9,-999.0000,9,-999.0000,9,-999.0000,9,-999.0000,9,-999.0000,9,-999.0000,9,     -999.0,5,  -999.0,9,     -999.0,     -999.0,9,     -999.0,20131001,       0054
33RO20130803,       A16N,     143,          1,          8,          8,2,20131001,       2341,    -4.9995,   -25.0005,       5698,  2346.7,   3.1234,  34.9365,2,  34.9377,2,    245.9,2,   245.8,2,   28.50,2,   20.70,2,    0.00,2,    1.41,2,   0.107,2,   0.054,2,   0.033,2,  2181.7,2,  -999.0,9,   764.4,2,      20,   7.7216,2,    25.00, -999.00,9,  -999.0,9,  -999.0, -999.00,9, -999.00,9,     13.726,2,-999.0000,9,-999.0000,9,-999.0000,9,-999.0000,9,-999.0000,9,-999.0000,9,-999.0000,9,-999.0000,9,-999.0000,9,     -999.0,5,  -999.0,9,     -999.0,     -999.0,9,     -999.0,20131001,       0046
33RO20130803,       A16N,     143,          1,          7,          7,2,20131001,       2341,    -4.9995,   -25.0005,       5698,  2746.9,   2.8062,  34.9175,2,  34.9187,2,    244.4,2,   243.9,2,   35.00,2,   21.40,2,    0.00,2,    1.45,2,   0.041,2,   0.020,2,   0.000,2,  2188.5,2,  2330.3,2,   769.3,2,      20,   7.7209,2,    25.00, -999.00,9,  -999.0,9,  -999.0, -999.00,9, -999.00,9,     13.816,2,-999.0000,9,-999.0000,9,-999.0000,9,-999.0000,9,-999.0000,9,-999.0000,9,-999.0000,9,-999.0000,9,-999.0000,9,     -999.0,5,  -999.0,9,     -999.0,     -999.0,9,     -999.0,20131001,       0039
33RO20130803,       A16N,     143,          1,          6,          6,2,20131001,       2341,    -4.9995,   -25.0005,       5698,  3248.0,   2.6202,  34.9155,2,  34.9156,2,    253.5,2,   253.2,2,   32.90,2,   20.30,2,    0.00,2,    1.38,2,   0.112,2,   0.059,2,   0.000,2,  2183.3,2,  -999.0,9,   753.8,2,      20,   7.7267,2,    25.00, -999.00,9,  -999.0,9,  -999.0, -999.00,9, -999.00,9,     13.343,2,-999.0000,9,-999.0000,9,-999.0000,9,-999.0000,9,-999.0000,9,-999.0000,9,-999.0000,9,-999.0000,9,-999.0000,9,     -999.0,5,  -999.0,9,     -999.0,     -999.0,9,     -999.0,20131001,       0029
33RO20130803,       A16N,     143,          1,          5,          5,2,20131001,       2341,    -4.9995,   -25.0005,       5698,  3748.3,   2.3931,  34.8990,2,  34.8995,2,    256.3,2,   257.4,2,   35.30,2,   20.10,2,    0.00,2,    1.38,2,   0.198,6,   0.103,6,   0.000,6,  2184.5,2,  2330.6,6,   764.0,2,      20,   7.7275,2,    25.00, -999.00,9,  -999.0,9,  -999.0, -999.00,9, -999.00,9,     13.414,6,-999.0000,9,-999.0000,9,-999.0000,9,-999.0000,9,-999.0000,9,-999.0000,9,-999.0000,9,-999.0000,9,-999.0000,9,     -999.0,5,  -999.0,9,     -999.0,     -999.0,9,     -999.0,20131001,       0020
33RO20130803,       A16N,     143,          1,          4,          4,2,20131001,       2341,    -4.9995,   -25.0005,       5698,  4248.0,   1.5076,  34.8018,2,  34.8008,2,    235.9,2,   237.6,2,   75.80,6,   26.00,6,    0.00,6,    1.79,6,   0.048,2,   0.024,2,   0.000,2,  2226.5,2,  -999.0,9,   876.0,2,      20,   7.6760,2,    25.00, -999.00,9,  -999.0,9,  -999.0, -999.00,9, -999.00,9,     15.307,2,-999.0000,9,-999.0000,9,-999.0000,9,-999.0000,9,-999.0000,9,-999.0000,9,-999.0000,9,-999.0000,9,-999.0000,9,     -999.0,5,  -999.0,9,     -999.0,     -999.0,9,     -999.0,20131001,       0010
33RO20130803,       A16N,     143,          1,          3,          3,2,20131001,       2341,    -4.9995,   -25.0005,       5698,  4747.4,   0.9070,  34.7331,2,  34.7328,2,    224.2,2,   224.5,2,  102.90,6,   29.90,6,    0.00,6,    2.08,6,   0.044,2,   0.024,2,   0.000,2,  2252.9,2,  2367.6,2,   967.5,2,      20,   7.6366,6,    25.00, -999.00,9,  -999.0,9,  -999.0, -999.00,9, -999.00,9,     16.782,2,-999.0000,9,-999.0000,9,-999.0000,9,-999.0000,9,-999.0000,9,-999.0000,9,-999.0000,9,-999.0000,9,-999.0000,9,     -999.0,5,  -999.0,9,     -999.0,     -999.0,9,     -999.0,20131001,       0001
33RO20130803,       A16N,     143,          1,          2,          2,2,20131001,       2341,    -4.9995,   -25.0005,       5698,  5248.3,   0.7598,  34.7104,2,  34.7113,2,    220.6,2,   220.8,2,  111.60,6,   31.10,6,    0.00,6,    2.17,2,   0.089,2,   0.044,2,   0.000,2,  2261.0,2,  2370.3,2,   999.9,6,      20,   7.6220,2,    25.00, -999.00,9,  -999.0,9,  -999.0, -999.00,9, -999.00,9,     17.297,2,-999.0000,9,-999.0000,9,-999.0000,9,-999.0000,9,-999.0000,9,-999.0000,9,-999.0000,9,-999.0000,9,-999.0000,9,     -999.0,5,  -999.0,9,     -999.0,     -999.0,9,     -999.0,20131001,       2351
33RO20130803,       A16N,     143,          1,          1,          1,2,20131001,       2341,    -4.9995,   -25.0005,       5698,  5765.4,   0.8065,  34.7080,2,  34.7074,2,    221.6,2,   220.4,2,  112.30,6,   31.20,6,    0.00,6,    2.17,6,   0.095,2,   0.049,2,   0.000,2,  2260.0,2,  2367.6,2,   962.4,2,      20,   7.6214,2,    25.00, -999.00,9,  -999.0,9,  -999.0, -999.00,9, -999.00,9,     17.348,2,-999.0000,9,-999.0000,9,-999.0000,9,-999.0000,9,-999.0000,9,-999.0000,9,-999.0000,9,-999.0000,9,-999.0000,9,     -999.0,5,  -999.0,9,     -999.0,     -999.0,9,     -999.0,20131001,       2341