BOTTLE,20220815CCHSIOAMB
EXPOCODE,SECT_ID,STNNBR,CASTNO,SAMPNO,BTLNBR,BTLNBR_FLAG_W,DATE,TIME,LATITUDE,LONGITUDE,DEPTH,CTDPRS,CTDTMP,CTDSAL,CTDSAL_FLAG_W,SALNTY,SALNTY_FLAG_W,CTDOXY,CTDOXY_FLAG_W,OXYGEN,OXYGEN_FLAG_W,SILCAT,SILCAT_FLAG_W,NITRAT,NITRAT_FLAG_W,NITRIT,NITRIT_FLAG_W,PHSPHT,PHSPHT_FLAG_W,CFC-11,CFC-11_FLAG_W,CFC-12,CFC-12_FLAG_W,SF6,SF6_FLAG_W,TCARBN,TCARBN_FLAG_W,ALKALI,ALKALI_FLAG_W,PCO2,PCO2_FLAG_W,PCO2TMP,PH_SWS,PH_SWS_FLAG_W,PH_TMP,DELC13,DELC13_FLAG_W,DELC14,DELC14_FLAG_W,C14ERR,DOC,DOC_FLAG_W,TDN,TDN_FLAG_W,N2O,N2O_FLAG_W,CDOM325,CDOM325_FLAG_W,CDOM340,CDOM340_FLAG_W,CDOM380,CDOM380_FLAG_W,CDOM412,CDOM412_FLAG_W,CDOM443,CDOM443_FLAG_W,CDOM490,CDOM490_FLAG_W,CDOM555,CDOM555_FLAG_W,CDOMSL,CDOMSL_FLAG_W,CDOMSN,CDOMSN_FLAG_W,CCL4,CCL4_FLAG_W,14C-DOC,14C-DOC_FLAG_W,14C-DOCERR,13C-DOC,13C-DOC_FLAG_W,13C-DOCERR,BTL_DATE,BTL_TIME
,,,,,,,,,,,METERS,DBAR,ITS-90,PSS-78,,PSS-78,,UMOL/KG,,UMOL/KG,,UMOL/KG,,UMOL/KG,,UMOL/KG,,UMOL/KG,,PMOL/KG,,PMOL/KG,,FMOL/KG,,UMOL/KG,,UMOL/KG,,UATM,,DEG C,,,DEG C,/MILLE,,/MILLE,,/MILLE,UMOL/KG,,UMOL/KG,,NMOL/KG,,1/M,,1/M,,1/M,,1/M,,1/M,,1/M,,1/M,,1/NM,,1/NM,,PMOL/KG,,/MILLE,,/MILLE,/MILLE,,/MILLE,,
33RO20130803,       A16N,     112,          1,         24,         24,2,20130922,       2118,     7.5015,   -27.2498,       4640,     2.7,  28.4891,  34.7342,2,  34.7968,2,    197.5,2,   198.9,2,    1.00,2,    0.00,2,    0.00,2,    0.00,2,-999.000,5,-999.000,5,-999.000,5,  1935.1,2,  2275.8,2,  -999.0,9, -999.00,   8.1228,2,    25.00, -999.00,9,  -999.0,9,  -999.0, -999.00,9, -999.00,9,     -999.0,5,-999.0000,9,-999.0000,9,-999.0000,9,-999.0000,9,-999.0000,9,-999.0000,9,-999.0000,9,-999.0000,9,-999.0000,9,     -999.0,5,  -999.0,9,     -999.0,     -999.0,9,     -999.0,20130922,       2306
33RO20130803,       A16N,     112,          1,         23,         23,2,20130922,       2118,     7.5015,   -27.2498,       4640,    17.6,  28.6219,  35.2718,2,  35.2983,2,    200.1,2,   200.4,2,    1.10,2,    0.00,2,    0.00,2,    0.00,2,-999.000,9,-999.000,9,-999.000,9,  1961.7,2,  2299.5,4,  -999.0,9, -999.00,   8.1196,2,    25.00, -999.00,9,  -999.0,9,  -999.0, -999.00,9, -999.00,9,     -999.0,9,-999.0000,9,-999.0000,9,-999.0000,9,-999.0000,9,-999.0000,9,-999.0000,9,-999.0000,9,-999.0000,9,-999.0000,9,     -999.0,9,  -999.0,9,     -999.0,     -999.0,9,     -999.0,20130922,       2305
33RO20130803,       A16N,     112,          1,         22,         22,2,20130922,       2118,     7.5015,   -27.2498,       4640,    37.9,  28.1786,  35.7868,2,  35.8586,2,    207.6,2,   205.1,2,    1.00,2,    0.00,2,    0.00,2,    0.01,2,   1.553,2,   0.986,2,   1.154,2,  2001.4,2,  2349.3,6,  -999.0,9, -999.00,-999.0000,5,  -999.00, -999.00,9,  -999.0,9,  -999.0, -999.00,9, -999.00,9,      6.364,2,-999.0000,9,-999.0000,9,-999.0000,9,-999.0000,9,-999.0000,9,-999.0000,9,-999.0000,9,-999.0000,9,-999.0000,9,     -999.0,5,  -999.0,9,     -999.0,     -999.0,9,     -999.0,20130922,       2303
33RO20130803,       A16N,     112,          1,         21,         21,2,20130922,       2118,     7.5015,   -27.2498,       4640,    62.5,  25.7966,  36.3137,2,  36.2883,2,    184.9,2,   180.8,2,    1.60,2,    0.40,2,    0.04,2,    0.08,2,-999.000,9,-999.000,9,-999.000,9,  2073.4,2,  2379.1,2,  -999.0,9, -999.00,   8.0223,6,    25.00, -999.00,9,  -999.0,9,  -999.0, -999.00,9, -999.00,9,     -999.0,9,-999.0000,9,-999.0000,9,-999.0000,9,-999.0000,9,-999.0000,9,-999.0000,9,-999.0000,9,-999.0000,9,-999.0000,9,     -999.0,9,  -999.0,9,     -999.0,     -999.0,9,     -999.0,20130922,       2301
33RO20130803,       A16N,     112,          1,         20,         20,2,20130922,       2118,     7.5015,   -27.2498,       4640,    82.7,  20.9865,  36.0044,2,  36.0008,2,    145.4,2,   138.5,2,    3.50,2,    8.60,2,    0.06,2,    0.57,2,   1.906,2,   1.140,2,   0.975,2,  2138.6,2,  2360.4,2,  -999.0,9, -999.00,   7.8754,2,    25.00, -999.00,9,  -999.0,9,  -999.0, -999.00,9, -999.00,9,     16.435,2,-999.0000,9,-999.0000,9,-999.0000,9,-999.0000,9,-999.0000,9,-999.0000,9,-999.0000,9,-999.0000,9,-999.0000,9,     -999.0,5,  -999.0,9,     -999.0,     -999.0,9,     -999.0,20130922,       2300
33RO20130803,       A16N,     112,          1,         19,         19,2,20130922,       2118,     7.5015,   -27.2498,       4640,   122.6,  15.5589,  35.5995,2,  35.6027,2,    111.7,2,   109.7,2,    6.20,2,   19.30,2,    0.03,2,    1.26,2,   2.197,2,   1.243,2,   0.786,2,  -999.0,9,  -999.0,9,  -999.0,9, -999.00,-999.0000,9,  -999.00, -999.00,9,  -999.0,9,  -999.0, -999.00,9, -999.00,9,     24.782,2,-999.0000,9,-999.0000,9,-999.0000,9,-999.0000,9,-999.0000,9,-999.0000,9,-999.0000,9,-999.0000,9,-999.0000,9,     -999.0,5,  -999.0,9,     -999.0,     -999.0,9,     -999.0,20130922,       2257
33RO20130803,       A16N,     112,          1,         18,         18,2,20130922,       2118,     7.5015,   -27.2498,       4640,   188.2,  13.4720,  35.3442,2,  35.3433,2,    119.2,2,   120.4,2,    7.50,2,   20.70,2,    0.01,2,    1.38,2,   2.244,2,   1.243,2,   0.706,2,  2188.4,2,  2328.0,2,  -999.0,9, -999.00,   7.6976,2,    25.00, -999.00,9,  -999.0,9,  -999.0, -999.00,9, -999.00,9,     25.234,2,-999.0000,9,-999.0000,9,-999.0000,9,-999.0000,9,-999.0000,9,-999.0000,9,-999.0000,9,-999.0000,9,-999.0000,9,     -999.0,5,  -999.0,9,     -999.0,     -999.0,9,     -999.0,20130922,       2255
33RO20130803,       A16N,     112,          1,         17,         17,2,20130922,       2118,     7.5015,   -27.2498,       4640,   258.2,  12.1707,  35.1881,2,  35.1861,2,    122.0,2,   117.7,2,    9.10,2,   23.10,2,    0.01,2,    1.52,2,   2.094,2,   1.145,2,   0.614,2,  -999.0,9,  -999.0,9,  -999.0,9, -999.00,-999.0000,9,  -999.00, -999.00,9,  -999.0,9,  -999.0, -999.00,9, -999.00,9,     27.524,2,-999.0000,9,-999.0000,9,-999.0000,9,-999.0000,9,-999.0000,9,-999.0000,9,-999.0000,9,-999.0000,9,-999.0000,9,     -999.0,5,  -999.0,9,     -999.0,     -999.0,9,     -999.0,20130922,       2252
33RO20130803,       A16N,     112,          1,         16,         16,2,20130922,       2118,     7.5015,   -27.2498,       4640,   323.6,  10.5971,  35.0286,2,  35.0276,2,     78.4,2,    79.7,2,   12.70,2,   30.30,2,    0.00,2,    1.92,2,   1.439,2,   0.759,2,   0.280,2,  2226.6,2,  2310.2,2,  -999.0,9, -999.00,   7.5472,2,    25.00, -999.00,9,  -999.0,9,  -999.0, -999.00,9, -999.00,9,     37.589,2,-999.0000,9,-999.0000,9,-999.0000,9,-999.0000,9,-999.0000,9,-999.0000,9,-999.0000,9,-999.0000,9,-999.0000,9,     -999.0,5,  -999.0,9,     -999.0,     -999.0,9,     -999.0,20130922,       2250
33RO20130803,       A16N,     112,          1,         15,         15,2,20130922,       2118,     7.5015,   -27.2498,       4640,   398.1,   9.8753,  34.9821,2,  34.9802,2,     70.6,2,    71.1,2,   14.30,2,   32.60,2,    0.00,2,    2.05,2,   1.110,2,   0.583,2,   0.206,2,  2235.1,2,  2307.0,6,  -999.0,9, -999.00,   7.5134,2,    25.00, -999.00,9,  -999.0,9,  -999.0, -999.00,9, -999.00,9,     39.053,2,-999.0000,9,-999.0000,9,-999.0000,9,-999.0000,9,-999.0000,9,-999.0000,9,-999.0000,9,-999.0000,9,-999.0000,9,     -999.0,5,  -999.0,9,     -999.0,     -999.0,9,     -999.0,20130922,       2247
33RO20130803,       A16N,     112,          1,         14,         14,2,20130922,       2118,     7.5015,   -27.2498,       4640,   498.0,   9.2172,  34.9778,2,  34.9759,2,     47.8,2,    49.1,2,   16.60,2,   36.30,2,    0.00,2,    2.26,2,   0.567,2,   0.301,2,   0.092,2,  2250.8,6,  2306.1,2,  -999.0,9, -999.00,   7.4637,2,    25.00, -999.00,9,  -999.0,9,  -999.0, -999.00,9, -999.00,9,     41.029,2,-999.0000,9,-999.0000,9,-999.0000,9,-999.0000,9,-999.0000,9,-999.0000,9,-999.0000,9,-999.0000,9,-999.0000,9,     -999.0,5,  -999.0,9,     -999.0,     -999.0,9,     -999.0,20130922,       2244
33RO20130803,       A16N,     112,          1,         13,         13,2,20130922,       2118,     7.5015,   -27.2498,       4640,   627.7,   7.1398,  34.7568,2,  34.7543,2,     83.3,2,    84.1,2,   21.60,2,   36.60,2,    0.00,2,    2.38,2,   0.249,2,   0.134,2,   0.044,2,  2242.3,2,  2303.2,2,  -999.0,9, -999.00,   7.4804,2,    25.00, -999.00,9,  -999.0,9,  -999.0, -999.00,9, -999.00,9,     32.531,2,-999.0000,9,-999.0000,9,-999.0000,9,-999.0000,9,-999.0000,9,-999.0000,9,-999.0000,9,-999.0000,9,-999.0000,9,     -999.0,5,  -999.0,9,     -999.0,     -999.0,9,     -999.0,20130922,       2240
33RO20130803,       A16N,     112,          1,         12,         12,2,20130922,       2118,     7.5015,   -27.2498,       4640,   712.9,   6.2214,  34.6704,2,  34.6691,2,    102.9,2,   102.3,2,   24.40,2,   36.30,2,    0.00,2,    2.41,2,   0.166,2,   0.089,2,   0.029,2,  -999.0,9,  -999.0,9,  -999.0,9, -999.00,-999.0000,9,  -999.00, -999.00,9,  -999.0,9,  -999.0, -999.00,9, -999.00,9,     29.547,2,-999.0000,9,-999.0000,9,-999.0000,9,-999.0000,9,-999.0000,9,-999.0000,9,-999.0000,9,-999.0000,9,-999.0000,9,     -999.0,5,  -999.0,9,     -999.0,     -999.0,9,     -999.0,20130922,       2237
33RO20130803,       A16N,     112,          1,         11,         11,2,20130922,       2118,     7.5015,   -27.2498,       4640,   873.3,   5.3323,  34.6482,2,  34.6473,2,    123.7,2,   124.2,2,   27.50,2,   35.20,2,    0.00,2,    2.37,2,-999.000,9,-999.000,9,-999.000,9,  2232.9,2,  2308.8,2,  -999.0,9, -999.00,   7.5204,2,    25.00, -999.00,9,  -999.0,9,  -999.0, -999.00,9, -999.00,9,     -999.0,9,-999.0000,9,-999.0000,9,-999.0000,9,-999.0000,9,-999.0000,9,-999.0000,9,-999.0000,9,-999.0000,9,-999.0000,9,     -999.0,9,  -999.0,9,     -999.0,     -999.0,9,     -999.0,20130922,       2233
33RO20130803,       A16N,     112,          1,         10,         10,2,20130922,       2118,     7.5015,   -27.2498,       4640,  1023.1,   5.0191,  34.7224,2,  34.7233,2,    141.3,2,   142.3,2,   27.10,6,   32.80,6,    0.00,6,    2.23,2,   0.030,2,   0.017,2,   0.000,2,  -999.0,9,  -999.0,9,  -999.0,9, -999.00,-999.0000,9,  -999.00, -999.00,9,  -999.0,9,  -999.0, -999.00,9, -999.00,9,     23.801,2,-999.0000,9,-999.0000,9,-999.0000,9,-999.0000,9,-999.0000,9,-999.0000,9,-999.0000,9,-999.0000,9,-999.0000,9,     -999.0,5,  -999.0,9,     -999.0,     -999.0,9,     -999.0,20130922,       2229
33RO20130803,       A16N,     112,          1,          9,          9,2,20130922,       2118,     7.5015,   -27.2498,       4640,  1198.2,   4.8681,  34.8562,2,  34.8570,2,    170.2,2,   170.2,2,   23.70,2,   28.40,2,    0.00,2,    1.92,2,-999.000,9,-999.000,9,-999.000,9,  2210.9,2,  2315.0,2,  -999.0,9, -999.00,   7.6163,2,    25.00, -999.00,9,  -999.0,9,  -999.0, -999.00,9, -999.00,9,     -999.0,9,-999.0000,9,-999.0000,9,-999.0000,9,-999.0000,9,-999.0000,9,-999.0000,9,-999.0000,9,-999.0000,9,-999.0000,9,     -999.0,9,  -999.0,9,     -999.0,     -999.0,9,     -999.0,20130922,       2225
33RO20130803,       A16N,     112,          1,          8,          8,2,20130922,       2118,     7.5015,   -27.2498,       4640,  1697.4,   4.0472,  34.9768,2,  34.9773,2,    237.3,2,   237.1,2,   17.60,2,   20.60,2,    0.00,2,    1.38,2,   0.290,2,   0.145,2,   0.052,2,  2172.0,2,  2317.0,2,  -999.0,9, -999.00,   7.7119,6,    25.00, -999.00,9,  -999.0,9,  -999.0, -999.00,9, -999.00,9,     14.561,2,-999.0000,9,-999.0000,9,-999.0000,9,-999.0000,9,-999.0000,9,-999.0000,9,-999.0000,9,-999.0000,9,-999.0000,9,     -999.0,5,  -999.0,9,     -999.0,     -999.0,9,     -999.0,20130922,       2216
33RO20130803,       A16N,     112,          1,          7,          7,2,20130922,       2118,     7.5015,   -27.2498,       4640,  1898.9,   3.6762,  34.9660,2,  34.9664,2,    241.7,2,   241.7,2,   20.00,2,   20.50,2,    0.00,2,    1.38,2,-999.000,9,-999.000,9,-999.000,9,  2171.0,2,  2320.0,2,  -999.0,9, -999.00,   7.7189,2,    25.00, -999.00,9,  -999.0,9,  -999.0, -999.00,9, -999.00,9,     -999.0,9,-999.0000,9,-999.0000,9,-999.0000,9,-999.0000,9,-999.0000,9,-999.0000,9,-999.0000,9,-999.0000,9,-999.0000,9,     -999.0,9,  -999.0,9,     -999.0,     -999.0,9,     -999.0,20130922,       2211
33RO20130803,       A16N,     112,          1,          6,          6,2,20130922,       2118,     7.5015,   -27.2498,       4640,  2298.4,   3.1972,  34.9476,2,  34.9480,2,    244.3,2,   244.6,2,   25.40,2,   20.70,2,    0.00,2,    1.39,2,   0.023,2,   0.014,2,   0.000,2,  2174.4,2,  2321.8,2,  -999.0,9, -999.00,   7.7255,2,    25.00, -999.00,9,  -999.0,9,  -999.0, -999.00,9, -999.00,9,     13.806,2,-999.0000,9,-999.0000,9,-999.0000,9,-999.0000,9,-999.0000,9,-999.0000,9,-999.0000,9,-999.0000,9,-999.0000,9,     -999.0,5,  -999.0,9,     -999.0,     -999.0,9,     -999.0,20130922,       2203
33RO20130803,       A16N,     112,          1,          5,          5,2,20130922,       2118,     7.5015,   -27.2498,       4640,  2698.1,   2.8760,  34.9296,2,  34.9294,2,    245.3,2,   246.3,2,   30.70,2,   21.00,2,    0.00,2,    1.42,2,-999.000,9,-999.000,9,-999.000,9,  2178.7,2,  2331.2,6,  -999.0,9, -999.00,   7.7239,2,    25.00, -999.00,9,  -999.0,9,  -999.0, -999.00,9, -999.00,9,     -999.0,9,-999.0000,9,-999.0000,9,-999.0000,9,-999.0000,9,-999.0000,9,-999.0000,9,-999.0000,9,-999.0000,9,-999.0000,9,     -999.0,9,  -999.0,9,     -999.0,     -999.0,9,     -999.0,20130922,       2155
33RO20130803,       A16N,     112,          1,          4,          4,2,20130922,       2118,     7.5015,   -27.2498,       4640,  3147.4,   2.6349,  34.9122,2,  34.9113,2,    244.8,2,   245.9,2,   35.80,6,   21.30,6,    0.00,6,    1.44,6,   0.014,2,   0.010,2,   0.000,2,  -999.0,9,  -999.0,9,  -999.0,9, -999.00,-999.0000,9,  -999.00, -999.00,9,  -999.0,9,  -999.0, -999.00,9, -999.00,9,     13.774,2,-999.0000,9,-999.0000,9,-999.0000,9,-999.0000,9,-999.0000,9,-999.0000,9,-999.0000,9,-999.0000,9,-999.0000,9,     -999.0,5,  -999.0,9,     -999.0,     -999.0,9,     -999.0,20130922,       2147
33RO20130803,       A16N,     112,          1,          3,          3,2,20130922,       2118,     7.5015,   -27.2498,       4640,  3648.2,   2.4531,  34.8980,2,  34.8991,2,    248.8,2,   248.8,2,   38.80,6,   21.30,6,    0.00,6,    1.45,6,-999.000,9,-999.000,9,-999.000,9,  2186.6,2,  2340.3,2,  -999.0,9, -999.00,   7.7232,2,    25.00, -999.00,9,  -999.0,9,  -999.0, -999.00,9, -999.00,9,     -999.0,9,-999.0000,9,-999.0000,9,-999.0000,9,-999.0000,9,-999.0000,9,-999.0000,9,-999.0000,9,-999.0000,9,-999.0000,9,     -999.0,9,  -999.0,9,     -999.0,     -999.0,9,     -999.0,20130922,       2138
33RO20130803,       A16N,     112,          1,          2,          2,2,20130922,       2118,     7.5015,   -27.2498,       4640,  4148.2,   2.3312,  34.8846,2,  34.8843,2,    248.6,2,   248.4,2,   42.80,6,   21.70,6,    0.01,6,    1.47,6,   0.077,2,   0.041,2,   0.000,2,  -999.0,9,  -999.0,9,  -999.0,9, -999.00,-999.0000,9,  -999.00, -999.00,9,  -999.0,9,  -999.0, -999.00,9, -999.00,9,     13.874,2,-999.0000,9,-999.0000,9,-999.0000,9,-999.0000,9,-999.0000,9,-999.0000,9,-999.0000,9,-999.0000,9,-999.0000,9,     -999.0,5,  -999.0,9,     -999.0,     -999.0,9,     -999.0,20130922,       2128
33RO20130803,       A16N,     112,          1,          1,          1,2,20130922,       2118,     7.5015,   -27.2498,       4640,  4688.3,   2.3389,  34.8798,2,  34.8793,2,    246.2,2,   244.9,2,   45.50,6,   22.10,6,    0.01,6,    1.50,6,   0.058,2,   0.033,2,   0.017,2,  2199.2,2,  2350.3,2,  -999.0,9, -999.00,   7.7186,2,    25.00, -999.00,9,  -999.0,9,  -999.0, -999.00,9, -999.00,9,     13.754,2,-999.0000,9,-999.0000,9,-999.0000,9,-999.0000,9,-999.0000,9,-999.0000,9,-999.0000,9,-999.0000,9,-999.0000,9,     -999.0,5,  -999.0,9,     -999.0,     -999.0,9,     -999.0,20130922,       2118