BOTTLE,20220815CCHSIOAMB
EXPOCODE,SECT_ID,STNNBR,CASTNO,SAMPNO,BTLNBR,BTLNBR_FLAG_W,DATE,TIME,LATITUDE,LONGITUDE,DEPTH,CTDPRS,CTDTMP,CTDSAL,CTDSAL_FLAG_W,SALNTY,SALNTY_FLAG_W,CTDOXY,CTDOXY_FLAG_W,OXYGEN,OXYGEN_FLAG_W,SILCAT,SILCAT_FLAG_W,NITRAT,NITRAT_FLAG_W,NITRIT,NITRIT_FLAG_W,PHSPHT,PHSPHT_FLAG_W,CFC-11,CFC-11_FLAG_W,CFC-12,CFC-12_FLAG_W,SF6,SF6_FLAG_W,TCARBN,TCARBN_FLAG_W,ALKALI,ALKALI_FLAG_W,PCO2,PCO2_FLAG_W,PCO2TMP,PH_SWS,PH_SWS_FLAG_W,PH_TMP,DELC13,DELC13_FLAG_W,DELC14,DELC14_FLAG_W,C14ERR,DOC,DOC_FLAG_W,TDN,TDN_FLAG_W,N2O,N2O_FLAG_W,CDOM325,CDOM325_FLAG_W,CDOM340,CDOM340_FLAG_W,CDOM380,CDOM380_FLAG_W,CDOM412,CDOM412_FLAG_W,CDOM443,CDOM443_FLAG_W,CDOM490,CDOM490_FLAG_W,CDOM555,CDOM555_FLAG_W,CDOMSL,CDOMSL_FLAG_W,CDOMSN,CDOMSN_FLAG_W,CCL4,CCL4_FLAG_W,14C-DOC,14C-DOC_FLAG_W,14C-DOCERR,13C-DOC,13C-DOC_FLAG_W,13C-DOCERR,BTL_DATE,BTL_TIME
,,,,,,,,,,,METERS,DBAR,ITS-90,PSS-78,,PSS-78,,UMOL/KG,,UMOL/KG,,UMOL/KG,,UMOL/KG,,UMOL/KG,,UMOL/KG,,PMOL/KG,,PMOL/KG,,FMOL/KG,,UMOL/KG,,UMOL/KG,,UATM,,DEG C,,,DEG C,/MILLE,,/MILLE,,/MILLE,UMOL/KG,,UMOL/KG,,NMOL/KG,,1/M,,1/M,,1/M,,1/M,,1/M,,1/M,,1/M,,1/NM,,1/NM,,PMOL/KG,,/MILLE,,/MILLE,/MILLE,,/MILLE,,
33RO20130803,       A16N,      12,          1,         24,         24,2,20130806,       0258,    59.4972,   -19.9973,       2772,     2.9,  12.6145,  35.0983,2,  35.0988,2,    270.4,2,   271.2,2,    0.40,2,    1.40,2,    0.05,2,    0.17,2,   3.112,6,   1.842,6,   1.999,6,  2074.8,6,  2317.6,2,  -999.0,9, -999.00,   7.9442,2,    25.00, -999.00,9,  -999.0,9,  -999.0,   63.77,2,    5.13,2,      9.744,6,-999.0000,9,-999.0000,9,-999.0000,9,-999.0000,9,-999.0000,9,-999.0000,9,-999.0000,9,-999.0000,9,-999.0000,9,     -999.0,5,  -999.0,9,     -999.0,     -999.0,9,     -999.0,20130806,       0410
33RO20130803,       A16N,      12,          1,         23,         23,2,20130806,       0258,    59.4972,   -19.9973,       2772,    20.9,  12.6184,  35.0971,2,  35.0973,2,    271.3,2,   271.3,2,    0.50,2,    1.60,2,    0.05,2,    0.18,2,-999.000,9,-999.000,9,-999.000,9,  -999.0,9,  -999.0,9,  -999.0,9, -999.00,-999.0000,9,  -999.00, -999.00,9,  -999.0,9,  -999.0,   62.52,2,    5.01,2,     -999.0,9,-999.0000,9,-999.0000,9,-999.0000,9,-999.0000,9,-999.0000,9,-999.0000,9,-999.0000,9,-999.0000,9,-999.0000,9,     -999.0,9,  -999.0,9,     -999.0,     -999.0,9,     -999.0,20130806,       0408
33RO20130803,       A16N,      12,          1,         22,         22,2,20130806,       0258,    59.4972,   -19.9973,       2772,    42.9,  10.1538,  35.0431,2,  35.0461,2,    273.9,2,     272,2,    2.00,2,    7.50,2,    0.22,2,    0.62,2,   3.535,2,   2.078,2,   2.220,2,  2118.5,2,  2309.3,2,  -999.0,9, -999.00,   7.8705,3,    25.00, -999.00,9,  -999.0,9,  -999.0,   54.17,2,   11.36,2,     10.674,2,-999.0000,9,-999.0000,9,-999.0000,9,-999.0000,9,-999.0000,9,-999.0000,9,-999.0000,9,-999.0000,9,-999.0000,9,     -999.0,5,  -999.0,9,     -999.0,     -999.0,9,     -999.0,20130806,       0407
33RO20130803,       A16N,      12,          1,         21,         21,2,20130806,       0258,    59.4972,   -19.9973,       2772,    68.4,   9.5642,  35.0671,2,  35.0676,2,    272.5,2,     271,2,    2.20,2,    8.40,2,    0.39,2,    0.67,2,-999.000,9,-999.000,9,-999.000,9,  2127.5,2,  2312.1,2,  -999.0,9, -999.00,   7.8215,2,    25.00, -999.00,9,  -999.0,9,  -999.0,   52.14,2,    12.9,2,     -999.0,9,-999.0000,9,-999.0000,9,-999.0000,9,-999.0000,9,-999.0000,9,-999.0000,9,-999.0000,9,-999.0000,9,-999.0000,9,     -999.0,9,  -999.0,9,     -999.0,     -999.0,9,     -999.0,20130806,       0405
33RO20130803,       A16N,      12,          1,         20,         20,2,20130806,       0258,    59.4972,   -19.9973,       2772,    93.2,   8.5885,  35.0392,2,  35.0414,2,    271.2,2,   270.1,2,    3.10,2,   11.40,2,    0.02,2,    0.78,2,   3.665,2,   2.135,2,   2.186,2,  2140.6,2,  2309.9,2,  -999.0,9, -999.00,   7.7882,2,    25.00, -999.00,9,  -999.0,9,  -999.0,    50.1,2,   14.49,2,     11.668,2,-999.0000,9,-999.0000,9,-999.0000,9,-999.0000,9,-999.0000,9,-999.0000,9,-999.0000,9,-999.0000,9,-999.0000,9,     -999.0,5,  -999.0,9,     -999.0,     -999.0,9,     -999.0,20130806,       0403
33RO20130803,       A16N,      12,          1,         19,         19,2,20130806,       0258,    59.4972,   -19.9973,       2772,   118.4,   8.4602,  35.0783,2,  35.0834,2,    270.3,2,   267.1,2,    3.70,2,   12.10,2,    0.01,2,    0.82,2,-999.000,9,-999.000,9,-999.000,9,  -999.0,9,  -999.0,9,  -999.0,9, -999.00,-999.0000,9,  -999.00, -999.00,9,  -999.0,9,  -999.0,   49.23,2,   15.21,2,     -999.0,9,-999.0000,9,-999.0000,9,-999.0000,9,-999.0000,9,-999.0000,9,-999.0000,9,-999.0000,9,-999.0000,9,-999.0000,9,     -999.0,9,  -999.0,9,     -999.0,     -999.0,9,     -999.0,20130806,       0402
33RO20130803,       A16N,      12,          1,         18,         18,2,20130806,       0258,    59.4972,   -19.9973,       2772,   142.6,   8.4375,  35.0966,2,  35.0975,2,    266.5,2,   264.4,2,    4.10,2,   12.40,2,    0.01,2,    0.84,2,-999.000,9,-999.000,9,-999.000,9,  2148.4,2,  2311.7,2,  -999.0,9, -999.00,   7.7765,2,    25.00, -999.00,9,  -999.0,9,  -999.0,   49.06,2,   15.19,2,     -999.0,9,-999.0000,9,-999.0000,9,-999.0000,9,-999.0000,9,-999.0000,9,-999.0000,9,-999.0000,9,-999.0000,9,-999.0000,9,     -999.0,9,  -999.0,9,     -999.0,     -999.0,9,     -999.0,20130806,       0400
33RO20130803,       A16N,      12,          1,         17,         17,2,20130806,       0258,    59.4972,   -19.9973,       2772,   185.0,   8.4715,  35.1431,2,  35.1423,2,    257.5,2,   256.5,2,    5.30,2,   13.30,2,    0.01,2,    0.88,2,   3.426,2,   1.982,2,   1.930,2,  -999.0,9,  -999.0,9,  -999.0,9, -999.00,-999.0000,9,  -999.00, -999.00,9,  -999.0,9,  -999.0,   48.85,2,   16.13,2,     12.824,2,-999.0000,9,-999.0000,9,-999.0000,9,-999.0000,9,-999.0000,9,-999.0000,9,-999.0000,9,-999.0000,9,-999.0000,9,     -999.0,5,  -999.0,9,     -999.0,     -999.0,9,     -999.0,20130806,       0358
33RO20130803,       A16N,      12,          1,         16,         16,2,20130806,       0258,    59.4972,   -19.9973,       2772,   237.6,   8.0560,  35.0978,2,  35.0962,2,    256.5,2,   254.8,2,    6.10,2,   14.10,2,    0.01,2,    0.94,2,-999.000,9,-999.000,9,-999.000,9,  2155.9,2,  2310.5,6,  -999.0,9, -999.00,   7.7570,6,    25.00, -999.00,9,  -999.0,9,  -999.0,   48.58,2,   16.39,2,     -999.0,9,-999.0000,9,-999.0000,9,-999.0000,9,-999.0000,9,-999.0000,9,-999.0000,9,-999.0000,9,-999.0000,9,-999.0000,9,     -999.0,9,  -999.0,9,     -999.0,     -999.0,9,     -999.0,20130806,       0356
33RO20130803,       A16N,      12,          1,         15,         15,2,20130806,       0258,    59.4972,   -19.9973,       2772,   304.1,   7.7356,  35.0881,2,  35.0864,2,    254.3,2,   247.4,2,    7.50,2,   15.10,2,    0.01,2,    1.00,2,   3.336,2,   1.915,2,   1.852,2,  -999.0,9,  -999.0,9,  -999.0,9, -999.00,-999.0000,9,  -999.00, -999.00,9,  -999.0,9,  -999.0,   47.32,2,   17.81,2,     13.724,2,-999.0000,9,-999.0000,9,-999.0000,9,-999.0000,9,-999.0000,9,-999.0000,9,-999.0000,9,-999.0000,9,-999.0000,9,     -999.0,5,  -999.0,9,     -999.0,     -999.0,9,     -999.0,20130806,       0355
33RO20130803,       A16N,      12,          1,         14,         14,2,20130806,       0258,    59.4972,   -19.9973,       2772,   378.7,   7.7072,  35.1327,2,  35.1307,2,    253.5,2,   254.7,2,    7.20,2,   14.70,2,    0.01,2,    0.98,2,-999.000,9,-999.000,9,-999.000,9,  -999.0,9,  -999.0,9,  -999.0,9, -999.00,-999.0000,9,  -999.00, -999.00,9,  -999.0,9,  -999.0,    46.7,2,   16.65,2,     -999.0,9,-999.0000,9,-999.0000,9,-999.0000,9,-999.0000,9,-999.0000,9,-999.0000,9,-999.0000,9,-999.0000,9,-999.0000,9,     -999.0,9,  -999.0,9,     -999.0,     -999.0,9,     -999.0,20130806,       0352
33RO20130803,       A16N,      12,          1,         13,         13,2,20130806,       0258,    59.4972,   -19.9973,       2772,   450.0,   7.3158,  35.1092,2,  35.1096,2,    230.9,2,     236,2,    8.90,2,   16.50,2,    0.01,2,    1.09,2,   3.211,2,   1.807,2,   1.543,2,  2171.4,2,  2313.7,2,  -999.0,9, -999.00,   7.7234,2,    25.00, -999.00,9,  -999.0,9,  -999.0,   45.65,2,   18.92,2,     14.741,2,-999.0000,9,-999.0000,9,-999.0000,9,-999.0000,9,-999.0000,9,-999.0000,9,-999.0000,9,-999.0000,9,-999.0000,9,     -999.0,5,  -999.0,9,     -999.0,     -999.0,9,     -999.0,20130806,       0350
33RO20130803,       A16N,      12,          1,         12,         12,2,20130806,       0258,    59.4972,   -19.9973,       2772,   529.2,   6.7425,  35.0763,2,  35.0765,2,    226.3,2,     226,2,   10.20,2,   17.80,2,    0.00,2,    1.18,2,-999.000,9,-999.000,9,-999.000,9,  -999.0,9,  -999.0,9,  -999.0,9, -999.00,-999.0000,9,  -999.00, -999.00,9,  -999.0,9,  -999.0,   45.53,2,   20.43,2,     -999.0,9,-999.0000,9,-999.0000,9,-999.0000,9,-999.0000,9,-999.0000,9,-999.0000,9,-999.0000,9,-999.0000,9,-999.0000,9,     -999.0,9,  -999.0,9,     -999.0,     -999.0,9,     -999.0,20130806,       0348
33RO20130803,       A16N,      12,          1,         11,         11,2,20130806,       0258,    59.4972,   -19.9973,       2772,   623.6,   5.9714,  35.0381,2,  35.0388,2,    226.9,2,   228.8,2,   10.80,6,   18.30,6,    0.00,6,    1.21,6,   3.130,2,   1.710,2,   1.188,2,  2181.2,2,  2310.8,2,  -999.0,9, -999.00,   7.6915,2,    25.00, -999.00,9,  -999.0,9,  -999.0,   45.41,2,    20.3,2,     15.528,2,-999.0000,9,-999.0000,9,-999.0000,9,-999.0000,9,-999.0000,9,-999.0000,9,-999.0000,9,-999.0000,9,-999.0000,9,     -999.0,5,  -999.0,9,     -999.0,     -999.0,9,     -999.0,20130806,       0345
33RO20130803,       A16N,      12,          1,         10,         10,2,20130806,       0258,    59.4972,   -19.9973,       2772,   723.1,   5.5065,  35.0211,2,  35.0186,2,    236.5,2,   234.7,2,   11.00,2,   18.30,2,    0.00,2,    1.21,2,   3.271,2,   1.772,2,   1.276,2,  -999.0,9,  -999.0,9,  -999.0,9, -999.00,-999.0000,9,  -999.00, -999.00,9,  -999.0,9,  -999.0,   45.96,2,   20.62,2,     15.436,2,-999.0000,9,-999.0000,9,-999.0000,9,-999.0000,9,-999.0000,9,-999.0000,9,-999.0000,9,-999.0000,9,-999.0000,9,     -999.0,5,  -999.0,9,     -999.0,     -999.0,9,     -999.0,20130806,       0342
33RO20130803,       A16N,      12,          1,          9,          9,2,20130806,       0258,    59.4972,   -19.9973,       2772,   859.9,   4.8430,  34.9774,2,  34.9766,2,    250.5,2,   249.7,2,   10.70,2,   17.70,2,    0.00,2,    1.18,2,   3.546,2,   1.914,2,   1.344,2,  2175.5,2,  2305.9,2,  -999.0,9, -999.00,   8.0072,4,    25.00, -999.00,9,  -999.0,9,  -999.0,   46.05,2,   21.14,2,     14.769,2,-999.0000,9,-999.0000,9,-999.0000,9,-999.0000,9,-999.0000,9,-999.0000,9,-999.0000,9,-999.0000,9,-999.0000,9,     -999.0,5,  -999.0,9,     -999.0,     -999.0,9,     -999.0,20130806,       0339
33RO20130803,       A16N,      12,          1,          8,          8,2,20130806,       0258,    59.4972,   -19.9973,       2772,  1008.8,   4.4085,  34.9447,2,  34.9444,2,    261.4,2,   260.7,2,   10.60,6,   17.40,6,    0.00,6,    1.16,6,-999.000,9,-999.000,9,-999.000,9,  -999.0,9,  -999.0,9,  -999.0,9, -999.00,-999.0000,9,  -999.00, -999.00,9,  -999.0,9,  -999.0,   46.27,2,   20.74,2,     -999.0,9,-999.0000,9,-999.0000,9,-999.0000,9,-999.0000,9,-999.0000,9,-999.0000,9,-999.0000,9,-999.0000,9,-999.0000,9,     -999.0,9,  -999.0,9,     -999.0,     -999.0,9,     -999.0,20130806,       0336
33RO20130803,       A16N,      12,          1,          7,          7,2,20130806,       0258,    59.4972,   -19.9973,       2772,  1158.6,   4.1344,  34.9263,2,  34.9259,2,    267.6,2,   266.5,2,   10.60,2,   17.20,2,    0.00,2,    1.14,2,   3.842,2,   2.055,2,   1.295,2,  2170.7,2,  2302.4,6,  -999.0,9, -999.00,   7.6993,6,    25.00, -999.00,9,  -999.0,9,  -999.0,   46.19,2,   19.47,2,     14.244,2,-999.0000,9,-999.0000,9,-999.0000,9,-999.0000,9,-999.0000,9,-999.0000,9,-999.0000,9,-999.0000,9,-999.0000,9,     -999.0,5,  -999.0,9,     -999.0,     -999.0,9,     -999.0,20130806,       0332
33RO20130803,       A16N,      12,          1,          6,          6,2,20130806,       0258,    59.4972,   -19.9973,       2772,  1378.4,   3.8804,  34.9135,2,  34.9131,2,    271.6,2,   270.7,2,   10.90,2,   17.00,2,    0.00,2,    1.14,2,-999.000,9,-999.000,9,-999.000,9,  -999.0,9,  -999.0,9,  -999.0,9, -999.00,-999.0000,9,  -999.00, -999.00,9,  -999.0,9,  -999.0,   45.47,2,   20.08,2,     -999.0,9,-999.0000,9,-999.0000,9,-999.0000,9,-999.0000,9,-999.0000,9,-999.0000,9,-999.0000,9,-999.0000,9,-999.0000,9,     -999.0,9,  -999.0,9,     -999.0,     -999.0,9,     -999.0,20130806,       0327
33RO20130803,       A16N,      12,          1,          5,          5,2,20130806,       0258,    59.4972,   -19.9973,       2772,  1538.8,   3.7739,  34.9153,2,  34.9153,2,    270.9,2,   270.7,2,   11.30,2,   17.10,2,    0.00,2,    1.14,2,   3.573,2,   1.848,2,   0.944,2,  -999.0,9,  -999.0,9,  -999.0,9, -999.00,-999.0000,9,  -999.00, -999.00,9,  -999.0,9,  -999.0,   45.53,2,   19.73,2,     14.109,2,-999.0000,9,-999.0000,9,-999.0000,9,-999.0000,9,-999.0000,9,-999.0000,9,-999.0000,9,-999.0000,9,-999.0000,9,     -999.0,5,  -999.0,9,     -999.0,     -999.0,9,     -999.0,20130806,       0323
33RO20130803,       A16N,      12,          1,          4,          4,2,20130806,       0258,    59.4972,   -19.9973,       2772,  1899.0,   3.5410,  34.9216,2,  34.9208,2,    272.6,2,   271.7,2,   12.00,6,   16.90,6,    0.00,6,    1.14,6,-999.000,9,-999.000,9,-999.000,9,  2163.6,2,  2303.1,2,  -999.0,9, -999.00,   7.7130,2,    25.00, -999.00,9,  -999.0,9,  -999.0,   46.21,2,   19.47,2,     -999.0,9,-999.0000,9,-999.0000,9,-999.0000,9,-999.0000,9,-999.0000,9,-999.0000,9,-999.0000,9,-999.0000,9,-999.0000,9,     -999.0,9,  -999.0,9,     -999.0,     -999.0,9,     -999.0,20130806,       0316
33RO20130803,       A16N,      12,          1,          3,          3,2,20130806,       0258,    59.4972,   -19.9973,       2772,  2300.4,   3.2844,  34.9525,2,  34.9527,2,    272.9,2,   272.6,2,   12.90,2,   16.30,2,    0.00,2,    1.10,2,   2.858,2,   1.459,2,   0.872,2,  -999.0,9,  -999.0,9,  -999.0,9, -999.00,-999.0000,9,  -999.00, -999.00,9,  -999.0,9,  -999.0,   45.89,2,   19.04,2,     13.654,2,-999.0000,9,-999.0000,9,-999.0000,9,-999.0000,9,-999.0000,9,-999.0000,9,-999.0000,9,-999.0000,9,-999.0000,9,     -999.0,5,  -999.0,9,     -999.0,     -999.0,9,     -999.0,20130806,       0308
33RO20130803,       A16N,      12,          1,          2,          2,2,20130806,       0258,    59.4972,   -19.9973,       2772,  2698.5,   2.7881,  34.9697,2,  34.9702,2,    267.6,2,   266.4,2,   20.20,2,   16.90,2,    0.01,2,    1.14,2,   2.489,2,   1.293,2,   0.851,2,  -999.0,9,  -999.0,9,  -999.0,9, -999.00,-999.0000,9,  -999.00, -999.00,9,  -999.0,9,  -999.0,   46.04,2,   19.73,2,     13.932,2,-999.0000,9,-999.0000,9,-999.0000,9,-999.0000,9,-999.0000,9,-999.0000,9,-999.0000,9,-999.0000,9,-999.0000,9,     -999.0,5,  -999.0,9,     -999.0,     -999.0,9,     -999.0,20130806,       0300
33RO20130803,       A16N,      12,          1,          1,          1,2,20130806,       0258,    59.4972,   -19.9973,       2772,  2798.8,   2.7220,  34.9880,2,  34.9874,2,    276.4,2,   275.1,2,   14.40,6,   15.30,6,    0.02,6,    1.05,6,   3.231,2,   1.719,2,   1.329,2,  2176.2,6,  2310.0,6,  -999.0,9, -999.00,   7.7114,2,    25.00, -999.00,9,  -999.0,9,  -999.0,   45.91,2,   18.33,2,     14.178,2,-999.0000,9,-999.0000,9,-999.0000,9,-999.0000,9,-999.0000,9,-999.0000,9,-999.0000,9,-999.0000,9,-999.0000,9,     -999.0,5,  -999.0,9,     -999.0,     -999.0,9,     -999.0,20130806,       0258