BOTTLE,20220815CCHSIOAMB
EXPOCODE,SECT_ID,STNNBR,CASTNO,SAMPNO,BTLNBR,BTLNBR_FLAG_W,DATE,TIME,LATITUDE,LONGITUDE,DEPTH,CTDPRS,CTDTMP,CTDSAL,CTDSAL_FLAG_W,SALNTY,SALNTY_FLAG_W,CTDOXY,CTDOXY_FLAG_W,OXYGEN,OXYGEN_FLAG_W,SILCAT,SILCAT_FLAG_W,NITRAT,NITRAT_FLAG_W,NITRIT,NITRIT_FLAG_W,PHSPHT,PHSPHT_FLAG_W,CFC-11,CFC-11_FLAG_W,CFC-12,CFC-12_FLAG_W,SF6,SF6_FLAG_W,TCARBN,TCARBN_FLAG_W,ALKALI,ALKALI_FLAG_W,PCO2,PCO2_FLAG_W,PCO2TMP,PH_SWS,PH_SWS_FLAG_W,PH_TMP,DELC13,DELC13_FLAG_W,DELC14,DELC14_FLAG_W,C14ERR,DOC,DOC_FLAG_W,TDN,TDN_FLAG_W,N2O,N2O_FLAG_W,CDOM325,CDOM325_FLAG_W,CDOM340,CDOM340_FLAG_W,CDOM380,CDOM380_FLAG_W,CDOM412,CDOM412_FLAG_W,CDOM443,CDOM443_FLAG_W,CDOM490,CDOM490_FLAG_W,CDOM555,CDOM555_FLAG_W,CDOMSL,CDOMSL_FLAG_W,CDOMSN,CDOMSN_FLAG_W,CCL4,CCL4_FLAG_W,14C-DOC,14C-DOC_FLAG_W,14C-DOCERR,13C-DOC,13C-DOC_FLAG_W,13C-DOCERR,BTL_DATE,BTL_TIME
,,,,,,,,,,,METERS,DBAR,ITS-90,PSS-78,,PSS-78,,UMOL/KG,,UMOL/KG,,UMOL/KG,,UMOL/KG,,UMOL/KG,,UMOL/KG,,PMOL/KG,,PMOL/KG,,FMOL/KG,,UMOL/KG,,UMOL/KG,,UATM,,DEG C,,,DEG C,/MILLE,,/MILLE,,/MILLE,UMOL/KG,,UMOL/KG,,NMOL/KG,,1/M,,1/M,,1/M,,1/M,,1/M,,1/M,,1/M,,1/NM,,1/NM,,PMOL/KG,,/MILLE,,/MILLE,/MILLE,,/MILLE,,
33RO20130803,       A16N,      58,          1,         24,         24,2,20130818,       0532,    36.5005,   -20.0026,       5176,     2.7,  21.9915,  36.5501,2,  36.5487,2,    210.3,2,   220.4,2,    0.40,2,    0.00,2,    0.00,2,    0.01,2,-999.000,9,-999.000,9,-999.000,9,  2101.1,6,  2397.2,2,  -999.0,9, -999.00,   7.9978,2,    25.00, -999.00,9,  -999.0,9,  -999.0,   65.62,2,    3.72,2,     -999.0,9,-999.0000,9,-999.0000,9,-999.0000,9,-999.0000,9,-999.0000,9,-999.0000,9,-999.0000,9,-999.0000,9,-999.0000,9,     -999.0,9,  -999.0,9,     -999.0,     -999.0,9,     -999.0,20130818,       0727
33RO20130803,       A16N,      58,          1,         23,         23,2,20130818,       0532,    36.5005,   -20.0026,       5176,    23.7,  21.7003,  36.5387,2,  36.5275,2,    218.4,2,   223.4,2,    0.40,2,    0.00,2,    0.00,2,    0.01,2,-999.000,9,-999.000,9,-999.000,9,  2099.6,2,  2394.1,6,  -999.0,9, -999.00,   7.9965,2,    25.00, -999.00,9,  -999.0,9,  -999.0,   63.14,2,    3.85,2,     -999.0,9,-999.0000,9,-999.0000,9,-999.0000,9,-999.0000,9,-999.0000,9,-999.0000,9,-999.0000,9,-999.0000,9,-999.0000,9,     -999.0,9,  -999.0,9,     -999.0,     -999.0,9,     -999.0,20130818,       0725
33RO20130803,       A16N,      58,          1,         22,         22,2,20130818,       0532,    36.5005,   -20.0026,       5176,    49.2,  18.5059,  36.3851,2,  36.3690,2,    239.6,2,   242.5,2,    0.40,2,    0.00,2,    0.00,2,    0.02,2,-999.000,9,-999.000,9,-999.000,9,  2100.4,2,  2386.5,2,  -999.0,9, -999.00,   7.9820,2,    25.00, -999.00,9,  -999.0,9,  -999.0,   61.35,2,    4.09,2,     -999.0,9,-999.0000,9,-999.0000,9,-999.0000,9,-999.0000,9,-999.0000,9,-999.0000,9,-999.0000,9,-999.0000,9,-999.0000,9,     -999.0,9,  -999.0,9,     -999.0,     -999.0,9,     -999.0,20130818,       0723
33RO20130803,       A16N,      58,          1,         21,         21,2,20130818,       0532,    36.5005,   -20.0026,       5176,    74.1,  17.4359,  36.3348,2,  36.3213,2,    240.4,2,   238.9,2,    0.50,2,    0.00,2,    0.00,2,    0.03,2,-999.000,9,-999.000,9,-999.000,9,  -999.0,9,  -999.0,9,  -999.0,9, -999.00,-999.0000,9,  -999.00, -999.00,9,  -999.0,9,  -999.0,   58.51,2,    2.95,2,     -999.0,9,-999.0000,9,-999.0000,9,-999.0000,9,-999.0000,9,-999.0000,9,-999.0000,9,-999.0000,9,-999.0000,9,-999.0000,9,     -999.0,9,  -999.0,9,     -999.0,     -999.0,9,     -999.0,20130818,       0721
33RO20130803,       A16N,      58,          1,         20,         20,2,20130818,       0532,    36.5005,   -20.0026,       5176,    98.7,  16.5871,  36.2496,2,  36.2360,2,    232.5,2,   228.7,2,    0.90,2,    0.70,2,    0.08,2,    0.08,2,-999.000,9,-999.000,9,-999.000,9,  2114.2,2,  2378.7,2,  -999.0,9, -999.00,   7.9428,2,    25.00, -999.00,9,  -999.0,9,  -999.0,   55.37,2,    3.53,2,     -999.0,9,-999.0000,9,-999.0000,9,-999.0000,9,-999.0000,9,-999.0000,9,-999.0000,9,-999.0000,9,-999.0000,9,-999.0000,9,     -999.0,9,  -999.0,9,     -999.0,     -999.0,9,     -999.0,20130818,       0719
33RO20130803,       A16N,      58,          1,         19,         19,2,20130818,       0532,    36.5005,   -20.0026,       5176,   148.3,  15.7495,  36.1850,2,  36.1776,2,    215.5,2,   218.3,2,    1.60,2,    4.00,2,    0.03,2,    0.26,2,-999.000,9,-999.000,9,-999.000,9,  -999.0,9,  -999.0,9,  -999.0,9, -999.00,-999.0000,9,  -999.00, -999.00,9,  -999.0,9,  -999.0,   51.25,2,    6.28,2,     -999.0,9,-999.0000,9,-999.0000,9,-999.0000,9,-999.0000,9,-999.0000,9,-999.0000,9,-999.0000,9,-999.0000,9,-999.0000,9,     -999.0,9,  -999.0,9,     -999.0,     -999.0,9,     -999.0,20130818,       0717
33RO20130803,       A16N,      58,          1,         18,         18,2,20130818,       0532,    36.5005,   -20.0026,       5176,   223.3,  14.6774,  36.0434,2,  36.0404,2,    216.5,2,   211.6,2,    2.30,2,    6.30,2,    0.01,2,    0.40,2,-999.000,9,-999.000,9,-999.000,9,  2134.9,2,  2363.6,2,  -999.0,9, -999.00,   7.8812,6,    25.00, -999.00,9,  -999.0,9,  -999.0,   49.34,2,    8.99,2,     -999.0,9,-999.0000,9,-999.0000,9,-999.0000,9,-999.0000,9,-999.0000,9,-999.0000,9,-999.0000,9,-999.0000,9,-999.0000,9,     -999.0,9,  -999.0,9,     -999.0,     -999.0,9,     -999.0,20130818,       0715
33RO20130803,       A16N,      58,          1,         17,         17,2,20130818,       0532,    36.5005,   -20.0026,       5176,   298.3,  13.7002,  35.8987,2,  35.9001,2,    212.3,2,     211,2,    3.10,2,    8.80,2,    0.01,2,    0.55,2,-999.000,9,-999.000,9,-999.000,9,  -999.0,9,  -999.0,9,  -999.0,9, -999.00,-999.0000,9,  -999.00, -999.00,9,  -999.0,9,  -999.0,   47.95,2,   11.38,2,     -999.0,9,-999.0000,9,-999.0000,9,-999.0000,9,-999.0000,9,-999.0000,9,-999.0000,9,-999.0000,9,-999.0000,9,-999.0000,9,     -999.0,9,  -999.0,9,     -999.0,     -999.0,9,     -999.0,20130818,       0712
33RO20130803,       A16N,      58,          1,         16,         16,2,20130818,       0532,    36.5005,   -20.0026,       5176,   398.6,  12.6207,  35.7419,2,  35.7368,2,    207.7,2,   206.5,2,    4.10,2,   11.50,2,    0.01,2,    0.71,2,-999.000,9,-999.000,9,-999.000,9,  2153.1,2,  2346.0,2,  -999.0,9, -999.00,   7.8150,2,    25.00, -999.00,9,  -999.0,9,  -999.0,   46.54,2,    14.2,2,     -999.0,9,-999.0000,9,-999.0000,9,-999.0000,9,-999.0000,9,-999.0000,9,-999.0000,9,-999.0000,9,-999.0000,9,-999.0000,9,     -999.0,9,  -999.0,9,     -999.0,     -999.0,9,     -999.0,20130818,       0709
33RO20130803,       A16N,      58,          1,         15,         15,2,20130818,       0532,    36.5005,   -20.0026,       5176,   498.5,  11.8179,  35.6471,2,  35.6435,2,    202.8,2,   180.8,4,    5.20,2,   13.40,2,    0.01,2,    0.83,2,-999.000,9,-999.000,9,-999.000,9,  -999.0,9,  -999.0,9,  -999.0,9, -999.00,-999.0000,9,  -999.00, -999.00,9,  -999.0,9,  -999.0,   45.56,2,   16.14,2,     -999.0,9,-999.0000,9,-999.0000,9,-999.0000,9,-999.0000,9,-999.0000,9,-999.0000,9,-999.0000,9,-999.0000,9,-999.0000,9,     -999.0,9,  -999.0,9,     -999.0,     -999.0,9,     -999.0,20130818,       0707
33RO20130803,       A16N,      58,          1,         14,         14,2,20130818,       0532,    36.5005,   -20.0026,       5176,   648.4,  11.0149,  35.6295,2,  35.6545,2,    181.0,2,   181.3,2,    7.80,2,   16.60,2,    0.01,2,    1.03,2,-999.000,9,-999.000,9,-999.000,9,  2177.3,2,  2348.7,2,  -999.0,9, -999.00,   7.7562,2,    25.00, -999.00,9,  -999.0,9,  -999.0,   44.55,2,    19.4,2,     -999.0,9,-999.0000,9,-999.0000,9,-999.0000,9,-999.0000,9,-999.0000,9,-999.0000,9,-999.0000,9,-999.0000,9,-999.0000,9,     -999.0,9,  -999.0,9,     -999.0,     -999.0,9,     -999.0,20130818,       0703
33RO20130803,       A16N,      58,          1,         13,         13,2,20130818,       0532,    36.5005,   -20.0026,       5176,   798.6,  10.4001,  35.7277,2,  35.7281,2,    173.1,2,   174.6,2,    9.90,2,   18.10,2,    0.01,2,    1.13,2,-999.000,9,-999.000,9,-999.000,9,  2195.8,6,  2359.6,2,  -999.0,9, -999.00,   7.7532,2,    25.00, -999.00,9,  -999.0,9,  -999.0,   43.66,2,   20.38,2,     -999.0,9,-999.0000,9,-999.0000,9,-999.0000,9,-999.0000,9,-999.0000,9,-999.0000,9,-999.0000,9,-999.0000,9,-999.0000,9,     -999.0,9,  -999.0,9,     -999.0,     -999.0,9,     -999.0,20130818,       0659
33RO20130803,       A16N,      58,          1,         12,         12,2,20130818,       0532,    36.5005,   -20.0026,       5176,   934.8,   9.7534,  35.7285,2,  35.7264,2,    177.9,2,   178.9,2,   10.90,2,   18.30,2,    0.01,2,    1.16,2,-999.000,9,-999.000,9,-999.000,9,  2195.1,2,  2360.3,6,  -999.0,9, -999.00,   7.7443,2,    25.00, -999.00,9,  -999.0,9,  -999.0,   43.73,2,      21,2,     -999.0,9,-999.0000,9,-999.0000,9,-999.0000,9,-999.0000,9,-999.0000,9,-999.0000,9,-999.0000,9,-999.0000,9,-999.0000,9,     -999.0,9,  -999.0,9,     -999.0,     -999.0,9,     -999.0,20130818,       0656
33RO20130803,       A16N,      58,          1,         11,         11,2,20130818,       0532,    36.5005,   -20.0026,       5176,  1095.2,   9.9474,  35.9602,2,  35.9585,2,    183.3,2,   184.7,2,   10.60,2,   17.00,2,    0.01,2,    1.07,2,-999.000,9,-999.000,9,-999.000,9,  -999.0,9,  -999.0,9,  -999.0,9, -999.00,-999.0000,9,  -999.00, -999.00,9,  -999.0,9,  -999.0,    42.9,2,   19.64,2,     -999.0,9,-999.0000,9,-999.0000,9,-999.0000,9,-999.0000,9,-999.0000,9,-999.0000,9,-999.0000,9,-999.0000,9,-999.0000,9,     -999.0,9,  -999.0,9,     -999.0,     -999.0,9,     -999.0,20130818,       0652
33RO20130803,       A16N,      58,          1,         10,         10,2,20130818,       0532,    36.5005,   -20.0026,       5176,  1298.6,   7.3975,  35.5223,2,  35.5278,2,    209.4,2,   209.7,2,   12.10,2,   18.10,2,    0.00,2,    1.16,2,-999.000,9,-999.000,9,-999.000,9,  -999.0,9,  -999.0,9,  -999.0,9, -999.00,-999.0000,9,  -999.00, -999.00,9,  -999.0,9,  -999.0,   42.46,2,    20.5,2,     -999.0,9,-999.0000,9,-999.0000,9,-999.0000,9,-999.0000,9,-999.0000,9,-999.0000,9,-999.0000,9,-999.0000,9,-999.0000,9,     -999.0,9,  -999.0,9,     -999.0,     -999.0,9,     -999.0,20130818,       0648
33RO20130803,       A16N,      58,          1,          9,          9,2,20130818,       0532,    36.5005,   -20.0026,       5176,  1598.0,   6.0200,  35.3550,2,  35.3553,2,    226.7,2,   228.1,2,   13.60,2,   18.20,2,    0.00,2,    1.17,2,-999.000,9,-999.000,9,-999.000,9,  2183.8,2,  2338.0,2,  -999.0,9, -999.00,   7.7375,2,    25.00, -999.00,9,  -999.0,9,  -999.0,   42.24,2,   20.71,2,     -999.0,9,-999.0000,9,-999.0000,9,-999.0000,9,-999.0000,9,-999.0000,9,-999.0000,9,-999.0000,9,-999.0000,9,-999.0000,9,     -999.0,9,  -999.0,9,     -999.0,     -999.0,9,     -999.0,20130818,       0641
33RO20130803,       A16N,      58,          1,          8,          8,2,20130818,       0532,    36.5005,   -20.0026,       5176,  1998.7,   4.2201,  35.0842,2,  35.0854,2,    250.4,2,   249.8,2,   16.20,2,   18.30,2,    0.00,2,    1.22,2,   1.225,2,   0.597,2,   0.210,2,  -999.0,9,  -999.0,9,  -999.0,9, -999.00,-999.0000,9,  -999.00, -999.00,9,  -999.0,9,  -999.0,   41.37,2,   20.87,2,     13.486,2,-999.0000,9,-999.0000,9,-999.0000,9,-999.0000,9,-999.0000,9,-999.0000,9,-999.0000,9,-999.0000,9,-999.0000,9,     -999.0,5,  -999.0,9,     -999.0,     -999.0,9,     -999.0,20130818,       0634
33RO20130803,       A16N,      58,          1,          7,          7,2,20130818,       0532,    36.5005,   -20.0026,       5176,  2398.5,   3.4390,  34.9955,2,  34.9961,2,    253.7,2,   253.1,2,   21.70,2,   18.90,2,    0.00,2,    1.27,2,   0.630,2,   0.312,2,   0.081,2,  -999.0,9,  -999.0,9,  -999.0,9, -999.00,-999.0000,9,  -999.00, -999.00,9,  -999.0,9,  -999.0,   41.36,2,   21.49,2,     13.334,2,-999.0000,9,-999.0000,9,-999.0000,9,-999.0000,9,-999.0000,9,-999.0000,9,-999.0000,9,-999.0000,9,-999.0000,9,     -999.0,5,  -999.0,9,     -999.0,     -999.0,9,     -999.0,20130818,       0625
33RO20130803,       A16N,      58,          1,          6,          6,2,20130818,       0532,    36.5005,   -20.0026,       5176,  2795.8,   2.9882,  34.9573,2,  34.9600,2,    252.1,2,   250.9,2,   28.40,2,   19.80,2,    0.00,2,    1.34,2,   0.339,2,   0.170,2,   0.031,2,  2182.2,2,  2332.8,2,  -999.0,9, -999.00,   7.7287,6,    25.00, -999.00,9,  -999.0,9,  -999.0,   41.42,2,   22.48,2,     13.327,2,-999.0000,9,-999.0000,9,-999.0000,9,-999.0000,9,-999.0000,9,-999.0000,9,-999.0000,9,-999.0000,9,-999.0000,9,     -999.0,5,  -999.0,9,     -999.0,     -999.0,9,     -999.0,20130818,       0618
33RO20130803,       A16N,      58,          1,          5,          5,2,20130818,       0532,    36.5005,   -20.0026,       5176,  3198.3,   2.7351,  34.9353,2,  34.9364,2,    247.5,2,   246.5,2,   35.20,2,   20.80,2,    0.00,2,    1.40,2,   0.185,2,   0.093,2,   0.042,2,  -999.0,9,  -999.0,9,  -999.0,9, -999.00,-999.0000,9,  -999.00, -999.00,9,  -999.0,9,  -999.0,   41.38,2,   23.42,2,     13.399,2,-999.0000,9,-999.0000,9,-999.0000,9,-999.0000,9,-999.0000,9,-999.0000,9,-999.0000,9,-999.0000,9,-999.0000,9,     -999.0,5,  -999.0,9,     -999.0,     -999.0,9,     -999.0,20130818,       0610
33RO20130803,       A16N,      58,          1,          4,          4,2,20130818,       0532,    36.5005,   -20.0026,       5176,  3698.3,   2.5790,  34.9173,2,  34.9170,2,    244.5,2,   243.9,2,   40.40,6,   21.60,6,    0.00,6,    1.46,6,   0.056,2,   0.029,2,   0.036,2,  2195.3,2,  2348.1,2,  -999.0,9, -999.00,   7.7287,2,    25.00, -999.00,9,  -999.0,9,  -999.0,   41.34,2,   24.15,2,     13.509,2,-999.0000,9,-999.0000,9,-999.0000,9,-999.0000,9,-999.0000,9,-999.0000,9,-999.0000,9,-999.0000,9,-999.0000,9,     -999.0,5,  -999.0,9,     -999.0,     -999.0,9,     -999.0,20130818,       0600
33RO20130803,       A16N,      58,          1,          3,          3,2,20130818,       0532,    36.5005,   -20.0026,       5176,  4198.2,   2.4747,  34.9019,2,  34.9020,2,    243.4,2,   243.4,2,   44.20,6,   22.10,6,    0.00,6,    1.50,6,   0.011,2,   0.009,2,   0.037,2,  -999.0,9,  -999.0,9,  -999.0,9, -999.00,-999.0000,9,  -999.00, -999.00,9,  -999.0,9,  -999.0,    40.8,2,    24.6,2,     13.675,2,-999.0000,9,-999.0000,9,-999.0000,9,-999.0000,9,-999.0000,9,-999.0000,9,-999.0000,9,-999.0000,9,-999.0000,9,     -999.0,5,  -999.0,9,     -999.0,     -999.0,9,     -999.0,20130818,       0551
33RO20130803,       A16N,      58,          1,          2,          2,2,20130818,       0532,    36.5005,   -20.0026,       5176,  4697.9,   2.4344,  34.8918,2,  34.8961,4,    243.3,2,   243.3,2,   46.50,6,   22.30,6,    0.00,6,    1.51,6,   0.004,6,   0.006,6,   0.022,6,  2202.4,2,  2354.8,2,  -999.0,9, -999.00,   7.7265,2,    25.00, -999.00,9,  -999.0,9,  -999.0,   41.01,2,   24.85,2,     13.744,6,-999.0000,9,-999.0000,9,-999.0000,9,-999.0000,9,-999.0000,9,-999.0000,9,-999.0000,9,-999.0000,9,-999.0000,9,     -999.0,5,  -999.0,9,     -999.0,     -999.0,9,     -999.0,20130818,       0542
33RO20130803,       A16N,      58,          1,          1,          1,2,20130818,       0532,    36.5005,   -20.0026,       5176,  5244.2,   2.4899,  34.8895,2,  34.8895,2,    243.6,2,   243.1,2,   47.00,6,   22.40,6,    0.00,6,    1.51,6,   0.004,2,   0.007,2,   0.011,2,  2202.2,2,  2356.2,6,  -999.0,9, -999.00,   7.7418,2,    25.00, -999.00,9,  -999.0,9,  -999.0,   40.48,2,   25.12,2,     13.763,2,-999.0000,9,-999.0000,9,-999.0000,9,-999.0000,9,-999.0000,9,-999.0000,9,-999.0000,9,-999.0000,9,-999.0000,9,     -999.0,5,  -999.0,9,     -999.0,     -999.0,9,     -999.0,20130818,       0532