BOTTLE,20220815CCHSIOAMB
EXPOCODE,SECT_ID,STNNBR,CASTNO,SAMPNO,BTLNBR,BTLNBR_FLAG_W,DATE,TIME,LATITUDE,LONGITUDE,DEPTH,CTDPRS,CTDTMP,CTDSAL,CTDSAL_FLAG_W,SALNTY,SALNTY_FLAG_W,CTDOXY,CTDOXY_FLAG_W,OXYGEN,OXYGEN_FLAG_W,SILCAT,SILCAT_FLAG_W,NITRAT,NITRAT_FLAG_W,NITRIT,NITRIT_FLAG_W,PHSPHT,PHSPHT_FLAG_W,CFC-11,CFC-11_FLAG_W,CFC-12,CFC-12_FLAG_W,SF6,SF6_FLAG_W,TCARBN,TCARBN_FLAG_W,ALKALI,ALKALI_FLAG_W,PCO2,PCO2_FLAG_W,PCO2TMP,PH_SWS,PH_SWS_FLAG_W,PH_TMP,DELC13,DELC13_FLAG_W,DELC14,DELC14_FLAG_W,C14ERR,DOC,DOC_FLAG_W,TDN,TDN_FLAG_W,N2O,N2O_FLAG_W,CDOM325,CDOM325_FLAG_W,CDOM340,CDOM340_FLAG_W,CDOM380,CDOM380_FLAG_W,CDOM412,CDOM412_FLAG_W,CDOM443,CDOM443_FLAG_W,CDOM490,CDOM490_FLAG_W,CDOM555,CDOM555_FLAG_W,CDOMSL,CDOMSL_FLAG_W,CDOMSN,CDOMSN_FLAG_W,CCL4,CCL4_FLAG_W,14C-DOC,14C-DOC_FLAG_W,14C-DOCERR,13C-DOC,13C-DOC_FLAG_W,13C-DOCERR,BTL_DATE,BTL_TIME
,,,,,,,,,,,METERS,DBAR,ITS-90,PSS-78,,PSS-78,,UMOL/KG,,UMOL/KG,,UMOL/KG,,UMOL/KG,,UMOL/KG,,UMOL/KG,,PMOL/KG,,PMOL/KG,,FMOL/KG,,UMOL/KG,,UMOL/KG,,UATM,,DEG C,,,DEG C,/MILLE,,/MILLE,,/MILLE,UMOL/KG,,UMOL/KG,,NMOL/KG,,1/M,,1/M,,1/M,,1/M,,1/M,,1/M,,1/M,,1/NM,,1/NM,,PMOL/KG,,/MILLE,,/MILLE,/MILLE,,/MILLE,,
33RO20130803,       A16N,      76,          2,         24,         24,2,20130905,       2257,    28.0022,   -24.5034,       5239,     3.5,  24.2581,  37.3881,2,  37.3879,2,    207.8,2,   209.7,2,    0.50,2,    0.00,2,    0.00,2,    0.00,2,   1.740,2,   1.099,2,   1.312,2,  2119.2,6,  2441.2,2,   341.3,2,      20,   8.0328,2,    25.00, -999.00,9,  -999.0,9,  -999.0, -999.00,9, -999.00,9,      6.528,2,-999.0000,9,-999.0000,9,-999.0000,9,-999.0000,9,-999.0000,9,-999.0000,9,-999.0000,9,-999.0000,9,-999.0000,9,     -999.0,5,  -999.0,9,     -999.0,     -999.0,9,     -999.0,20130905,       0055
33RO20130803,       A16N,      76,          2,         23,         23,2,20130905,       2257,    28.0022,   -24.5034,       5239,    23.8,  24.2616,  37.3876,2,  37.3860,2,    208.3,2,   209.1,2,    0.50,2,    0.00,2,    0.00,2,    0.00,2,   1.730,2,   1.094,2,   1.315,2,  2119.3,2,  2439.4,2,   341.4,2,      20,   8.0288,2,    25.00, -999.00,9,  -999.0,9,  -999.0, -999.00,9, -999.00,9,      6.507,2,-999.0000,9,-999.0000,9,-999.0000,9,-999.0000,9,-999.0000,9,-999.0000,9,-999.0000,9,-999.0000,9,-999.0000,9,     -999.0,5,  -999.0,9,     -999.0,     -999.0,9,     -999.0,20130905,       0053
33RO20130803,       A16N,      76,          2,         22,         22,2,20130905,       2257,    28.0022,   -24.5034,       5239,    48.4,  24.1629,  37.3648,2,  37.3084,2,    209.6,2,   213.3,2,    0.50,2,    0.00,2,    0.00,2,    0.00,2,   1.787,6,   1.123,6,   1.310,6,  2118.6,2,  2441.3,6,   343.1,2,      20,   8.0328,2,    25.00, -999.00,9,  -999.0,9,  -999.0, -999.00,9, -999.00,9,      6.625,6,-999.0000,9,-999.0000,9,-999.0000,9,-999.0000,9,-999.0000,9,-999.0000,9,-999.0000,9,-999.0000,9,-999.0000,9,     -999.0,5,  -999.0,9,     -999.0,     -999.0,9,     -999.0,20130905,       0051
33RO20130803,       A16N,      76,          2,         21,         21,2,20130905,       2257,    28.0022,   -24.5034,       5239,    73.6,  21.5218,  36.9390,2,  36.9177,2,    230.0,2,   232.2,2,    0.60,2,    0.00,2,    0.00,2,    0.00,2,   2.030,2,   1.270,2,   1.465,2,  2109.5,3,  2405.1,3,   350.0,2,      20,   8.0184,2,    25.00, -999.00,9,  -999.0,9,  -999.0, -999.00,9, -999.00,9,      7.268,2,-999.0000,9,-999.0000,9,-999.0000,9,-999.0000,9,-999.0000,9,-999.0000,9,-999.0000,9,-999.0000,9,-999.0000,9,     -999.0,5,  -999.0,9,     -999.0,     -999.0,9,     -999.0,20130905,       0050
33RO20130803,       A16N,      76,          2,         20,         20,2,20130905,       2257,    28.0022,   -24.5034,       5239,    98.4,  20.1623,  36.8284,2,  36.8291,2,    234.2,2,   231.5,2,    0.60,2,    0.00,2,    0.00,2,    0.01,2,   2.113,2,   1.302,2,   1.475,2,  2104.9,3,  2408.1,2,   358.2,2,      20,   8.0137,2,    25.00, -999.00,9,  -999.0,9,  -999.0, -999.00,9, -999.00,9,      7.460,2,-999.0000,9,-999.0000,9,-999.0000,9,-999.0000,9,-999.0000,9,-999.0000,9,-999.0000,9,-999.0000,9,-999.0000,9,     -999.0,5,  -999.0,9,     -999.0,     -999.0,9,     -999.0,20130905,       0048
33RO20130803,       A16N,      76,          2,         19,         19,2,20130905,       2257,    28.0022,   -24.5034,       5239,   148.2,  19.0648,  36.7491,2,  36.7461,2,    214.5,2,     212,2,    0.80,2,    0.50,2,    0.08,2,    0.03,2,   2.165,2,   1.323,2,   1.464,2,  2120.8,2,  2406.2,2,   393.9,2,      20,   7.9784,2,    25.00, -999.00,9,  -999.0,9,  -999.0, -999.00,9, -999.00,9,      7.889,2,-999.0000,9,-999.0000,9,-999.0000,9,-999.0000,9,-999.0000,9,-999.0000,9,-999.0000,9,-999.0000,9,-999.0000,9,     -999.0,5,  -999.0,9,     -999.0,     -999.0,9,     -999.0,20130905,       0046
33RO20130803,       A16N,      76,          2,         18,         18,2,20130905,       2257,    28.0022,   -24.5034,       5239,   223.0,  17.6211,  36.5345,2,  36.5278,2,    198.7,2,   198.1,2,    1.50,2,    4.70,2,    0.01,2,    0.25,2,   2.298,2,   1.388,2,   1.345,2,  2131.3,2,  2389.9,2,   439.7,2,      20,   7.9354,2,    25.00, -999.00,9,  -999.0,9,  -999.0, -999.00,9, -999.00,9,      9.128,2,-999.0000,9,-999.0000,9,-999.0000,9,-999.0000,9,-999.0000,9,-999.0000,9,-999.0000,9,-999.0000,9,-999.0000,9,     -999.0,5,  -999.0,9,     -999.0,     -999.0,9,     -999.0,20130905,       0043
33RO20130803,       A16N,      76,          2,         17,         17,2,20130905,       2257,    28.0022,   -24.5034,       5239,   298.6,  16.4517,  36.3366,2,  36.3331,2,    198.6,2,   197.7,2,    2.10,2,    6.50,2,    0.01,2,    0.37,2,   2.397,2,   1.426,2,   1.328,2,  2136.1,2,  2377.9,2,   472.5,2,      20,   7.9080,2,    25.00, -999.00,9,  -999.0,9,  -999.0, -999.00,9, -999.00,9,      9.896,2,-999.0000,9,-999.0000,9,-999.0000,9,-999.0000,9,-999.0000,9,-999.0000,9,-999.0000,9,-999.0000,9,-999.0000,9,     -999.0,5,  -999.0,9,     -999.0,     -999.0,9,     -999.0,20130905,       0041
33RO20130803,       A16N,      76,          2,         16,         16,2,20130905,       2257,    28.0022,   -24.5034,       5239,   399.0,  14.5409,  35.9969,2,  35.9944,2,    192.4,2,   191.5,2,    3.40,2,   10.10,2,    0.00,2,    0.59,2,   2.531,2,   1.464,2,   1.209,2,  2148.3,2,  2343.8,3,   540.9,2,      20,   7.8546,6,    25.00, -999.00,9,  -999.0,9,  -999.0, -999.00,9, -999.00,9,     11.754,2,-999.0000,9,-999.0000,9,-999.0000,9,-999.0000,9,-999.0000,9,-999.0000,9,-999.0000,9,-999.0000,9,-999.0000,9,     -999.0,5,  -999.0,9,     -999.0,     -999.0,9,     -999.0,20130905,       0038
33RO20130803,       A16N,      76,          2,         15,         15,2,20130905,       2257,    28.0022,   -24.5034,       5239,   497.9,  13.3083,  35.8162,2,  35.8117,2,    187.5,2,   186.1,2,    4.50,2,   12.70,2,    0.00,2,    0.75,2,   2.575,2,   1.462,2,   1.105,2,  2157.4,2,  2350.1,2,   601.9,2,      20,   7.8131,2,    25.00, -999.00,9,  -999.0,9,  -999.0, -999.00,9, -999.00,9,     13.245,2,-999.0000,9,-999.0000,9,-999.0000,9,-999.0000,9,-999.0000,9,-999.0000,9,-999.0000,9,-999.0000,9,-999.0000,9,     -999.0,5,  -999.0,9,     -999.0,     -999.0,9,     -999.0,20130905,       0035
33RO20130803,       A16N,      76,          2,         14,         14,2,20130905,       2257,    28.0022,   -24.5034,       5239,   647.6,  11.5738,  35.5989,2,  35.5987,2,    171.9,2,   170.7,2,    7.20,2,   17.20,2,    0.00,2,    1.03,2,   2.258,2,   1.225,2,   0.756,2,  -999.0,5,  2338.0,2,   697.9,2,      20,   7.7524,2,    25.00, -999.00,9,  -999.0,9,  -999.0, -999.00,9, -999.00,9,     15.649,2,-999.0000,9,-999.0000,9,-999.0000,9,-999.0000,9,-999.0000,9,-999.0000,9,-999.0000,9,-999.0000,9,-999.0000,9,     -999.0,5,  -999.0,9,     -999.0,     -999.0,9,     -999.0,20130905,       0031
33RO20130803,       A16N,      76,          2,         13,         13,2,20130905,       2257,    28.0022,   -24.5034,       5239,   799.0,   9.9143,  35.4368,2,  35.4345,2,    149.3,2,   149.1,2,   11.80,2,   22.30,2,    0.00,2,    1.38,2,   1.293,2,   0.676,2,   0.307,2,  2193.3,6,  2329.4,2,   803.3,2,      20,   7.6958,2,    25.00, -999.00,9,  -999.0,9,  -999.0, -999.00,9, -999.00,9,     18.735,2,-999.0000,9,-999.0000,9,-999.0000,9,-999.0000,9,-999.0000,9,-999.0000,9,-999.0000,9,-999.0000,9,-999.0000,9,     -999.0,5,  -999.0,9,     -999.0,     -999.0,9,     -999.0,20130905,       0027
33RO20130803,       A16N,      76,          2,         12,         12,2,20130905,       2257,    28.0022,   -24.5034,       5239,   997.2,   8.3268,  35.3681,2,  35.3673,2,    163.5,2,   163.7,2,   14.50,2,   22.70,2,    0.00,2,    1.44,2,   0.790,2,   0.408,2,   0.160,2,  2195.6,2,  2335.9,2,   809.2,2,      20,   7.6936,2,    25.00, -999.00,9,  -999.0,9,  -999.0, -999.00,9, -999.00,9,     17.960,2,-999.0000,9,-999.0000,9,-999.0000,9,-999.0000,9,-999.0000,9,-999.0000,9,-999.0000,9,-999.0000,9,-999.0000,9,     -999.0,5,  -999.0,9,     -999.0,     -999.0,9,     -999.0,20130905,       0023
33RO20130803,       A16N,      76,          2,         11,         11,2,20130905,       2257,    28.0022,   -24.5034,       5239,  1098.5,   7.8938,  35.3823,2,  35.3815,2,    172.3,2,   172.8,2,   14.90,2,   22.10,2,    0.00,2,    1.41,2,   0.730,2,   0.380,2,   0.121,2,  2197.6,2,  2338.1,2,   792.9,2,      20,   7.7047,2,    25.00, -999.00,9,  -999.0,9,  -999.0, -999.00,9, -999.00,9,     17.171,2,-999.0000,9,-999.0000,9,-999.0000,9,-999.0000,9,-999.0000,9,-999.0000,9,-999.0000,9,-999.0000,9,-999.0000,9,     -999.0,5,  -999.0,9,     -999.0,     -999.0,9,     -999.0,20130905,       0020
33RO20130803,       A16N,      76,          2,         10,         10,2,20130905,       2257,    28.0022,   -24.5034,       5239,  1298.1,   7.0658,  35.3775,2,  35.3776,2,    191.3,2,   191.1,2,   15.30,2,   20.90,2,    0.00,2,    1.34,2,   0.695,2,   0.357,2,   0.116,2,  2195.4,2,  2334.4,2,   768.5,2,      20,   7.7164,2,    25.00, -999.00,9,  -999.0,9,  -999.0, -999.00,9, -999.00,9,     15.686,2,-999.0000,9,-999.0000,9,-999.0000,9,-999.0000,9,-999.0000,9,-999.0000,9,-999.0000,9,-999.0000,9,-999.0000,9,     -999.0,5,  -999.0,9,     -999.0,     -999.0,9,     -999.0,20130905,       0016
33RO20130803,       A16N,      76,          2,          9,          9,2,20130905,       2257,    28.0022,   -24.5034,       5239,  1598.4,   5.6308,  35.2574,2,  35.2576,2,    220.8,2,   220.6,2,   15.90,2,   19.50,2,    0.00,2,    1.26,2,   0.775,2,   0.388,2,   0.123,2,  2183.6,2,  2334.4,2,   745.2,2,      20,   7.7291,2,    25.00, -999.00,9,  -999.0,9,  -999.0, -999.00,9, -999.00,9,     14.266,2,-999.0000,9,-999.0000,9,-999.0000,9,-999.0000,9,-999.0000,9,-999.0000,9,-999.0000,9,-999.0000,9,-999.0000,9,     -999.0,5,  -999.0,9,     -999.0,     -999.0,9,     -999.0,20130905,       0010
33RO20130803,       A16N,      76,          2,          8,          8,2,20130905,       2257,    28.0022,   -24.5034,       5239,  1998.2,   4.2932,  35.1038,2,  35.1038,2,    234.8,2,   235.2,2,   20.30,2,   19.80,2,    0.00,2,    1.30,2,   0.306,2,   0.158,2,   0.030,2,  2176.6,2,  2324.1,3,   742.3,2,      20,   7.7295,2,    25.00, -999.00,9,  -999.0,9,  -999.0, -999.00,9, -999.00,9,     13.665,2,-999.0000,9,-999.0000,9,-999.0000,9,-999.0000,9,-999.0000,9,-999.0000,9,-999.0000,9,-999.0000,9,-999.0000,9,     -999.0,5,  -999.0,9,     -999.0,     -999.0,9,     -999.0,20130905,       0002
33RO20130803,       A16N,      76,          2,          7,          7,2,20130905,       2257,    28.0022,   -24.5034,       5239,  2398.8,   3.4069,  35.0057,2,  35.0055,2,    241.4,2,   241.4,2,   26.50,2,   20.30,2,    0.00,2,    1.34,2,   0.119,2,   0.062,2,   0.000,2,  2179.0,2,  2333.0,2,   746.2,2,      20,   7.7296,2,    25.00, -999.00,9,  -999.0,9,  -999.0, -999.00,9, -999.00,9,     13.351,2,-999.0000,9,-999.0000,9,-999.0000,9,-999.0000,9,-999.0000,9,-999.0000,9,-999.0000,9,-999.0000,9,-999.0000,9,     -999.0,5,  -999.0,9,     -999.0,     -999.0,9,     -999.0,20130905,       2353
33RO20130803,       A16N,      76,          2,          6,          6,2,20130905,       2257,    28.0022,   -24.5034,       5239,  2798.0,   2.9193,  34.9567,2,  34.9552,2,    244.9,2,   245.4,2,   31.60,2,   20.50,2,    0.00,2,    1.37,2,   0.095,2,   0.052,2,   0.000,2,  2182.2,2,  2334.4,2,   746.3,2,      20,   7.7307,2,    25.00, -999.00,9,  -999.0,9,  -999.0, -999.00,9, -999.00,9,     13.189,2,-999.0000,9,-999.0000,9,-999.0000,9,-999.0000,9,-999.0000,9,-999.0000,9,-999.0000,9,-999.0000,9,-999.0000,9,     -999.0,5,  -999.0,9,     -999.0,     -999.0,9,     -999.0,20130905,       2345
33RO20130803,       A16N,      76,          2,          5,          5,2,20130905,       2257,    28.0022,   -24.5034,       5239,  3347.4,   2.5819,  34.9212,2,  34.9200,2,    243.8,2,   245.2,2,   38.80,2,   21.30,2,    0.00,2,    1.43,2,   0.035,2,   0.021,2,   0.000,2,  2190.5,2,  2344.7,2,   750.4,2,      20,   7.7291,2,    25.00, -999.00,9,  -999.0,9,  -999.0, -999.00,9, -999.00,9,     13.290,2,-999.0000,9,-999.0000,9,-999.0000,9,-999.0000,9,-999.0000,9,-999.0000,9,-999.0000,9,-999.0000,9,-999.0000,9,     -999.0,5,  -999.0,9,     -999.0,     -999.0,9,     -999.0,20130905,       2335
33RO20130803,       A16N,      76,          2,          4,          4,2,20130905,       2257,    28.0022,   -24.5034,       5239,  3797.9,   2.4715,  34.9065,2,  34.9050,2,    243.6,2,   244.1,2,   42.20,6,   21.80,6,    0.00,6,    1.46,6,   0.004,2,   0.004,2,   0.000,2,  2194.7,2,  2350.1,2,   752.5,2,      20,   7.7274,2,    25.00, -999.00,9,  -999.0,9,  -999.0, -999.00,9, -999.00,9,     13.413,2,-999.0000,9,-999.0000,9,-999.0000,9,-999.0000,9,-999.0000,9,-999.0000,9,-999.0000,9,-999.0000,9,-999.0000,9,     -999.0,5,  -999.0,9,     -999.0,     -999.0,9,     -999.0,20130905,       2326
33RO20130803,       A16N,      76,          2,          3,          3,2,20130905,       2257,    28.0022,   -24.5034,       5239,  4298.1,   2.4045,  34.8945,2,  34.8936,2,    243.6,2,   244.1,2,   44.80,6,   22.00,6,    0.00,6,    1.48,6,   0.000,2,   0.004,2,   0.000,2,  2196.2,2,  2345.0,6,   756.1,2,      20,   7.7241,2,    25.00, -999.00,9,  -999.0,9,  -999.0, -999.00,9, -999.00,9,     13.565,2,-999.0000,9,-999.0000,9,-999.0000,9,-999.0000,9,-999.0000,9,-999.0000,9,-999.0000,9,-999.0000,9,-999.0000,9,     -999.0,5,  -999.0,9,     -999.0,     -999.0,9,     -999.0,20130905,       2317
33RO20130803,       A16N,      76,          2,          2,          2,2,20130905,       2257,    28.0022,   -24.5034,       5239,  4888.0,   2.3988,  34.8863,2,  34.8857,2,    243.9,2,   244.3,2,   46.50,6,   22.20,6,    0.00,6,    1.49,6,   0.004,6,   0.005,6,   0.000,6,  2201.0,6,  2352.2,2,   758.5,2,      20,   7.7262,2,    25.00, -999.00,9,  -999.0,9,  -999.0, -999.00,9, -999.00,9,     13.697,6,-999.0000,9,-999.0000,9,-999.0000,9,-999.0000,9,-999.0000,9,-999.0000,9,-999.0000,9,-999.0000,9,-999.0000,9,     -999.0,5,  -999.0,9,     -999.0,     -999.0,9,     -999.0,20130905,       2306
33RO20130803,       A16N,      76,          2,          1,          1,2,20130905,       2257,    28.0022,   -24.5034,       5239,  5304.7,   2.4433,  34.8846,2,  34.8847,2,    244.1,2,   243.6,2,   46.80,6,   22.20,6,    0.00,6,    1.49,6,   0.005,2,   0.007,2,   0.000,2,  2201.7,2,  2349.4,2,   754.6,2,      20,   7.7407,3,    25.00, -999.00,9,  -999.0,9,  -999.0, -999.00,9, -999.00,9,     13.715,2,-999.0000,9,-999.0000,9,-999.0000,9,-999.0000,9,-999.0000,9,-999.0000,9,-999.0000,9,-999.0000,9,-999.0000,9,     -999.0,5,  -999.0,9,     -999.0,     -999.0,9,     -999.0,20130905,       2257