BOTTLE,20220815CCHSIOAMB
EXPOCODE,SECT_ID,STNNBR,CASTNO,SAMPNO,BTLNBR,BTLNBR_FLAG_W,DATE,TIME,LATITUDE,LONGITUDE,DEPTH,CTDPRS,CTDTMP,CTDSAL,CTDSAL_FLAG_W,SALNTY,SALNTY_FLAG_W,CTDOXY,CTDOXY_FLAG_W,OXYGEN,OXYGEN_FLAG_W,SILCAT,SILCAT_FLAG_W,NITRAT,NITRAT_FLAG_W,NITRIT,NITRIT_FLAG_W,PHSPHT,PHSPHT_FLAG_W,CFC-11,CFC-11_FLAG_W,CFC-12,CFC-12_FLAG_W,SF6,SF6_FLAG_W,TCARBN,TCARBN_FLAG_W,ALKALI,ALKALI_FLAG_W,PCO2,PCO2_FLAG_W,PCO2TMP,PH_SWS,PH_SWS_FLAG_W,PH_TMP,DELC13,DELC13_FLAG_W,DELC14,DELC14_FLAG_W,C14ERR,DOC,DOC_FLAG_W,TDN,TDN_FLAG_W,N2O,N2O_FLAG_W,CDOM325,CDOM325_FLAG_W,CDOM340,CDOM340_FLAG_W,CDOM380,CDOM380_FLAG_W,CDOM412,CDOM412_FLAG_W,CDOM443,CDOM443_FLAG_W,CDOM490,CDOM490_FLAG_W,CDOM555,CDOM555_FLAG_W,CDOMSL,CDOMSL_FLAG_W,CDOMSN,CDOMSN_FLAG_W,CCL4,CCL4_FLAG_W,14C-DOC,14C-DOC_FLAG_W,14C-DOCERR,13C-DOC,13C-DOC_FLAG_W,13C-DOCERR,BTL_DATE,BTL_TIME
,,,,,,,,,,,METERS,DBAR,ITS-90,PSS-78,,PSS-78,,UMOL/KG,,UMOL/KG,,UMOL/KG,,UMOL/KG,,UMOL/KG,,UMOL/KG,,PMOL/KG,,PMOL/KG,,FMOL/KG,,UMOL/KG,,UMOL/KG,,UATM,,DEG C,,,DEG C,/MILLE,,/MILLE,,/MILLE,UMOL/KG,,UMOL/KG,,NMOL/KG,,1/M,,1/M,,1/M,,1/M,,1/M,,1/M,,1/M,,1/NM,,1/NM,,PMOL/KG,,/MILLE,,/MILLE,/MILLE,,/MILLE,,
33RO20130803,       A16N,      46,          1,         24,         24,2,20130814,       1935,    42.5032,   -19.9975,       4197,     2.3,  22.6917,  35.7905,2,  35.7883,2,    226.7,2,     227,2,    0.40,2,    0.10,2,    0.00,2,    0.03,2,-999.000,9,-999.000,9,-999.000,9,  2069.5,6,  2355.5,2,   363.1,2,      20,   8.0026,2,    25.00, -999.00,9,  -999.0,9,  -999.0,   68.62,2,    3.81,2,     -999.0,9,-999.0000,9,-999.0000,9,-999.0000,9,-999.0000,9,-999.0000,9,-999.0000,9,-999.0000,9,-999.0000,9,-999.0000,9,     -999.0,9,  -999.0,9,     -999.0,     -999.0,9,     -999.0,20130814,       2118
33RO20130803,       A16N,      46,          1,         23,         23,2,20130814,       1935,    42.5032,   -19.9975,       4197,    23.4,  20.4284,  35.7358,2,  35.7415,2,    233.2,2,   237.7,2,    0.40,2,    0.10,2,    0.00,2,    0.04,2,-999.000,9,-999.000,9,-999.000,9,  2068.8,2,  2352.5,2,  -999.0,9, -999.00,   7.9996,2,    25.00, -999.00,9,  -999.0,9,  -999.0,   67.27,2,     4.6,2,     -999.0,9,-999.0000,9,-999.0000,9,-999.0000,9,-999.0000,9,-999.0000,9,-999.0000,9,-999.0000,9,-999.0000,9,-999.0000,9,     -999.0,9,  -999.0,9,     -999.0,     -999.0,9,     -999.0,20130814,       2116
33RO20130803,       A16N,      46,          1,         22,         22,2,20130814,       1935,    42.5032,   -19.9975,       4197,    48.8,  14.0660,  35.6848,2,  35.6890,2,    245.5,2,     243,2,    1.10,2,    3.90,2,    0.66,2,    0.31,2,-999.000,9,-999.000,9,-999.000,9,  2120.1,2,  2328.5,4,   485.8,2,      20,   7.8949,6,    25.00, -999.00,9,  -999.0,9,  -999.0,      59,2,    7.63,2,     -999.0,9,-999.0000,9,-999.0000,9,-999.0000,9,-999.0000,9,-999.0000,9,-999.0000,9,-999.0000,9,-999.0000,9,-999.0000,9,     -999.0,9,  -999.0,9,     -999.0,     -999.0,9,     -999.0,20130814,       2114
33RO20130803,       A16N,      46,          1,         21,         21,2,20130814,       1935,    42.5032,   -19.9975,       4197,    73.1,  13.0537,  35.6876,2,  35.6844,2,    238.8,2,   237.5,2,    2.40,2,    7.20,2,    0.02,2,    0.45,2,-999.000,9,-999.000,9,-999.000,9,  -999.0,9,  -999.0,9,  -999.0,9, -999.00,-999.0000,9,  -999.00, -999.00,9,  -999.0,9,  -999.0,   56.08,2,    9.37,2,     -999.0,9,-999.0000,9,-999.0000,9,-999.0000,9,-999.0000,9,-999.0000,9,-999.0000,9,-999.0000,9,-999.0000,9,-999.0000,9,     -999.0,9,  -999.0,9,     -999.0,     -999.0,9,     -999.0,20130814,       2112
33RO20130803,       A16N,      46,          1,         20,         20,2,20130814,       1935,    42.5032,   -19.9975,       4197,    88.9,  12.8399,  35.6621,2,  35.6610,2,    240.4,2,   239.7,2,    2.70,2,    7.50,2,    0.02,2,    0.47,2,-999.000,9,-999.000,9,-999.000,9,  2131.0,2,  2340.6,2,   527.7,2,      20,   7.8614,2,    25.00, -999.00,9,  -999.0,9,  -999.0,   55.52,2,    12.4,2,     -999.0,9,-999.0000,9,-999.0000,9,-999.0000,9,-999.0000,9,-999.0000,9,-999.0000,9,-999.0000,9,-999.0000,9,-999.0000,9,     -999.0,9,  -999.0,9,     -999.0,     -999.0,9,     -999.0,20130814,       2110
33RO20130803,       A16N,      46,          1,         19,         19,2,20130814,       1935,    42.5032,   -19.9975,       4197,   108.3,  12.7367,  35.6486,2,  35.6483,2,    241.3,2,   240.1,2,    2.80,2,    7.70,2,    0.01,2,    0.48,2,-999.000,9,-999.000,9,-999.000,9,  -999.0,9,  -999.0,9,  -999.0,9, -999.00,-999.0000,9,  -999.00, -999.00,9,  -999.0,9,  -999.0,      54,2,   10.03,2,     -999.0,9,-999.0000,9,-999.0000,9,-999.0000,9,-999.0000,9,-999.0000,9,-999.0000,9,-999.0000,9,-999.0000,9,-999.0000,9,     -999.0,9,  -999.0,9,     -999.0,     -999.0,9,     -999.0,20130814,       2109
33RO20130803,       A16N,      46,          1,         18,         18,2,20130814,       1935,    42.5032,   -19.9975,       4197,   149.0,  12.5475,  35.6251,2,  35.6260,2,    240.5,2,   238.3,2,    3.00,2,    8.20,2,    0.01,2,    0.51,2,-999.000,9,-999.000,9,-999.000,9,  -999.0,9,  -999.0,9,  -999.0,9, -999.00,-999.0000,9,  -999.00, -999.00,9,  -999.0,9,  -999.0,   52.81,2,   10.69,2,     -999.0,9,-999.0000,9,-999.0000,9,-999.0000,9,-999.0000,9,-999.0000,9,-999.0000,9,-999.0000,9,-999.0000,9,-999.0000,9,     -999.0,9,  -999.0,9,     -999.0,     -999.0,9,     -999.0,20130814,       2107
33RO20130803,       A16N,      46,          1,         17,         17,2,20130814,       1935,    42.5032,   -19.9975,       4197,   200.1,  12.3608,  35.6202,2,  35.6217,2,    240.9,2,   238.9,2,    3.00,2,    8.30,2,    0.01,2,    0.52,2,-999.000,9,-999.000,9,-999.000,9,  2135.4,2,  2352.4,2,   545.0,6,      20,   7.8469,2,    25.00, -999.00,9,  -999.0,9,  -999.0,   51.85,2,   10.96,2,     -999.0,9,-999.0000,9,-999.0000,9,-999.0000,9,-999.0000,9,-999.0000,9,-999.0000,9,-999.0000,9,-999.0000,9,-999.0000,9,     -999.0,9,  -999.0,9,     -999.0,     -999.0,9,     -999.0,20130814,       2105
33RO20130803,       A16N,      46,          1,         16,         16,2,20130814,       1935,    42.5032,   -19.9975,       4197,   272.9,  12.1332,  35.6152,2,  35.6148,2,    240.2,2,     239,2,    3.20,2,    8.90,2,    0.01,2,    0.56,2,-999.000,9,-999.000,9,-999.000,9,  -999.0,9,  -999.0,9,  -999.0,9, -999.00,-999.0000,9,  -999.00, -999.00,9,  -999.0,9,  -999.0,   51.06,2,    11.3,2,     -999.0,9,-999.0000,9,-999.0000,9,-999.0000,9,-999.0000,9,-999.0000,9,-999.0000,9,-999.0000,9,-999.0000,9,-999.0000,9,     -999.0,9,  -999.0,9,     -999.0,     -999.0,9,     -999.0,20130814,       2102
33RO20130803,       A16N,      46,          1,         15,         15,2,20130814,       1935,    42.5032,   -19.9975,       4197,   348.8,  11.9451,  35.6111,2,  35.6105,2,    234.3,2,   232.7,2,    3.60,2,   10.00,2,    0.01,2,    0.62,2,-999.000,9,-999.000,9,-999.000,9,  -999.0,9,  -999.0,9,  -999.0,9, -999.00,-999.0000,9,  -999.00, -999.00,9,  -999.0,9,  -999.0,   50.26,2,   12.34,2,     -999.0,9,-999.0000,9,-999.0000,9,-999.0000,9,-999.0000,9,-999.0000,9,-999.0000,9,-999.0000,9,-999.0000,9,-999.0000,9,     -999.0,9,  -999.0,9,     -999.0,     -999.0,9,     -999.0,20130814,       2059
33RO20130803,       A16N,      46,          1,         14,         14,2,20130814,       1935,    42.5032,   -19.9975,       4197,   416.1,  11.7210,  35.5984,2,  35.5980,2,    229.9,2,     229,2,    3.80,2,   10.70,2,    0.01,2,    0.66,2,-999.000,9,-999.000,9,-999.000,9,  2147.8,2,  2336.2,2,   593.6,2,      20,   7.8152,2,    25.00, -999.00,9,  -999.0,9,  -999.0,   49.33,2,   13.14,2,     -999.0,9,-999.0000,9,-999.0000,9,-999.0000,9,-999.0000,9,-999.0000,9,-999.0000,9,-999.0000,9,-999.0000,9,-999.0000,9,     -999.0,9,  -999.0,9,     -999.0,     -999.0,9,     -999.0,20130814,       2056
33RO20130803,       A16N,      46,          1,         13,         13,2,20130814,       1935,    42.5032,   -19.9975,       4197,   495.5,  11.4588,  35.5815,2,  35.5793,2,    224.5,2,   225.4,2,    4.20,2,   11.60,2,    0.01,2,    0.71,2,   3.007,2,   1.725,2,   1.639,2,  -999.0,9,  -999.0,9,  -999.0,9, -999.00,-999.0000,9,  -999.00, -999.00,9,  -999.0,9,  -999.0,   47.68,2,   13.97,2,     12.385,2,-999.0000,9,-999.0000,9,-999.0000,9,-999.0000,9,-999.0000,9,-999.0000,9,-999.0000,9,-999.0000,9,-999.0000,9,     -999.0,5,  -999.0,9,     -999.0,     -999.0,9,     -999.0,20130814,       2054
33RO20130803,       A16N,      46,          1,         12,         12,2,20130814,       1935,    42.5032,   -19.9975,       4197,   648.4,  10.6478,  35.5199,2,  35.5209,2,    200.7,2,     199,2,    6.90,2,   15.30,2,    0.01,2,    0.95,2,-999.000,9,-999.000,9,-999.000,9,  -999.0,9,  -999.0,9,  -999.0,9, -999.00,-999.0000,9,  -999.00, -999.00,9,  -999.0,9,  -999.0,   46.84,2,   17.33,2,     -999.0,9,-999.0000,9,-999.0000,9,-999.0000,9,-999.0000,9,-999.0000,9,-999.0000,9,-999.0000,9,-999.0000,9,-999.0000,9,     -999.0,9,  -999.0,9,     -999.0,     -999.0,9,     -999.0,20130814,       2050
33RO20130803,       A16N,      46,          1,         11,         11,2,20130814,       1935,    42.5032,   -19.9975,       4197,   798.6,   9.7856,  35.5943,2,  35.5994,2,    183.7,2,   183.6,2,    9.50,2,   17.70,2,    0.00,2,    1.10,2,   2.136,2,   1.140,2,   0.659,2,  2188.6,2,  2342.8,2,   723.4,2,      20,   7.7399,2,    25.00, -999.00,9,  -999.0,9,  -999.0,   46.19,2,   20.03,2,     16.075,2,-999.0000,9,-999.0000,9,-999.0000,9,-999.0000,9,-999.0000,9,-999.0000,9,-999.0000,9,-999.0000,9,-999.0000,9,     -999.0,5,  -999.0,9,     -999.0,     -999.0,9,     -999.0,20130814,       2046
33RO20130803,       A16N,      46,          1,         10,         10,2,20130814,       1935,    42.5032,   -19.9975,       4197,   948.7,   9.4238,  35.7046,2,  35.7135,2,    185.7,2,   186.8,2,   10.00,2,   17.50,2,    0.00,2,    1.09,2,   1.971,2,   1.039,2,   0.535,2,  2194.8,6,  2356.8,2,  -999.0,9, -999.00,   7.7495,2,    25.00, -999.00,9,  -999.0,9,  -999.0,   45.14,2,   19.73,2,     15.599,2,-999.0000,9,-999.0000,9,-999.0000,9,-999.0000,9,-999.0000,9,-999.0000,9,-999.0000,9,-999.0000,9,-999.0000,9,     -999.0,5,  -999.0,9,     -999.0,     -999.0,9,     -999.0,20130814,       2042
33RO20130803,       A16N,      46,          1,          9,          9,2,20130814,       1935,    42.5032,   -19.9975,       4197,  1098.9,   7.9433,  35.5318,2,  35.5319,2,    205.0,2,     205,2,   10.70,2,   17.70,2,    0.00,2,    1.12,2,-999.000,9,-999.000,9,-999.000,9,  2190.3,2,  2345.6,2,   735.1,2,      20,   7.7340,2,    25.00, -999.00,9,  -999.0,9,  -999.0,   43.66,2,   19.79,2,     -999.0,9,-999.0000,9,-999.0000,9,-999.0000,9,-999.0000,9,-999.0000,9,-999.0000,9,-999.0000,9,-999.0000,9,-999.0000,9,     -999.0,9,  -999.0,9,     -999.0,     -999.0,9,     -999.0,20130814,       2039
33RO20130803,       A16N,      46,          1,          8,          8,2,20130814,       1935,    42.5032,   -19.9975,       4197,  1298.4,   6.0218,  35.2503,2,  35.2515,2,    230.7,2,   231.8,2,   11.20,2,   17.80,2,    0.00,2,    1.14,2,-999.000,9,-999.000,9,-999.000,9,  -999.0,9,  -999.0,9,  -999.0,9, -999.00,-999.0000,9,  -999.00, -999.00,9,  -999.0,9,  -999.0,   42.32,2,   20.15,2,     -999.0,9,-999.0000,9,-999.0000,9,-999.0000,9,-999.0000,9,-999.0000,9,-999.0000,9,-999.0000,9,-999.0000,9,-999.0000,9,     -999.0,9,  -999.0,9,     -999.0,     -999.0,9,     -999.0,20130814,       2034
33RO20130803,       A16N,      46,          1,          7,          7,2,20130814,       1935,    42.5032,   -19.9975,       4197,  1581.8,   4.6357,  35.0497,2,  35.0494,2,    253.8,2,     254,2,   11.50,2,   17.70,2,    0.00,2,    1.15,2,   3.058,2,   1.548,2,   0.793,2,  -999.0,9,  -999.0,9,  -999.0,9, -999.00,-999.0000,9,  -999.00, -999.00,9,  -999.0,9,  -999.0,   41.52,2,   20.26,2,     14.363,2,-999.0000,9,-999.0000,9,-999.0000,9,-999.0000,9,-999.0000,9,-999.0000,9,-999.0000,9,-999.0000,9,-999.0000,9,     -999.0,5,  -999.0,9,     -999.0,     -999.0,9,     -999.0,20130814,       2028
33RO20130803,       A16N,      46,          1,          6,          6,2,20130814,       1935,    42.5032,   -19.9975,       4197,  1997.5,   3.6405,  34.9436,2,  34.9431,2,    266.4,2,     267,2,   13.00,2,   17.60,2,    0.00,2,    1.16,2,-999.000,9,-999.000,9,-999.000,9,  -999.0,9,  -999.0,9,  -999.0,9, -999.00,-999.0000,9,  -999.00, -999.00,9,  -999.0,9,  -999.0,   41.77,2,   19.86,2,     -999.0,9,-999.0000,9,-999.0000,9,-999.0000,9,-999.0000,9,-999.0000,9,-999.0000,9,-999.0000,9,-999.0000,9,-999.0000,9,     -999.0,9,  -999.0,9,     -999.0,     -999.0,9,     -999.0,20130814,       2020
33RO20130803,       A16N,      46,          1,          5,          5,2,20130814,       1935,    42.5032,   -19.9975,       4197,  2398.8,   3.2216,  34.9342,2,  34.9335,2,    267.2,2,   266.5,2,   16.50,2,   17.70,2,    0.00,2,    1.17,2,   2.035,2,   0.988,2,   0.367,2,  2165.8,2,  2310.5,6,   754.4,2,      20,   7.7199,2,    25.00, -999.00,9,  -999.0,9,  -999.0,   41.65,2,   20.15,2,     13.581,2,-999.0000,9,-999.0000,9,-999.0000,9,-999.0000,9,-999.0000,9,-999.0000,9,-999.0000,9,-999.0000,9,-999.0000,9,     -999.0,5,  -999.0,9,     -999.0,     -999.0,9,     -999.0,20130814,       2011
33RO20130803,       A16N,      46,          1,          4,          4,2,20130814,       1935,    42.5032,   -19.9975,       4197,  2791.4,   2.9619,  34.9439,2,  34.9443,2,    258.5,2,   257.3,2,   24.10,6,   18.80,6,    0.00,6,    1.25,6,-999.000,9,-999.000,9,-999.000,9,  -999.0,9,  -999.0,9,  -999.0,9, -999.00,-999.0000,9,  -999.00, -999.00,9,  -999.0,9,  -999.0,   41.54,2,   21.46,2,     -999.0,9,-999.0000,9,-999.0000,9,-999.0000,9,-999.0000,9,-999.0000,9,-999.0000,9,-999.0000,9,-999.0000,9,-999.0000,9,     -999.0,9,  -999.0,9,     -999.0,     -999.0,9,     -999.0,20130814,       2003
33RO20130803,       A16N,      46,          1,          3,          3,2,20130814,       1935,    42.5032,   -19.9975,       4197,  3249.5,   2.6990,  34.9303,2,  34.9291,2,    248.7,2,   247.6,2,   33.70,6,   20.30,6,    0.00,6,    1.36,6,   0.651,6,   0.321,6,   0.138,6,  -999.0,9,  -999.0,9,  -999.0,9, -999.00,-999.0000,9,  -999.00, -999.00,9,  -999.0,9,  -999.0,   41.68,2,   22.44,2,     13.777,6,-999.0000,9,-999.0000,9,-999.0000,9,-999.0000,9,-999.0000,9,-999.0000,9,-999.0000,9,-999.0000,9,-999.0000,9,     -999.0,5,  -999.0,9,     -999.0,     -999.0,9,     -999.0,20130814,       1954
33RO20130803,       A16N,      46,          1,          2,          2,2,20130814,       1935,    42.5032,   -19.9975,       4197,  3698.2,   2.5922,  34.9182,2,  34.9176,2,    242.1,2,   242.3,2,   39.80,6,   21.40,6,    0.00,6,    1.43,6,-999.000,9,-999.000,9,-999.000,9,  2196.7,2,  2345.4,2,   759.5,2,      20,   7.7244,2,    25.00, -999.00,9,  -999.0,9,  -999.0,   41.57,2,   23.96,2,     -999.0,9,-999.0000,9,-999.0000,9,-999.0000,9,-999.0000,9,-999.0000,9,-999.0000,9,-999.0000,9,-999.0000,9,-999.0000,9,     -999.0,9,  -999.0,9,     -999.0,     -999.0,9,     -999.0,20130814,       1945
33RO20130803,       A16N,      46,          1,          1,          1,2,20130814,       1935,    42.5032,   -19.9975,       4197,  4256.6,   2.5687,  34.9099,2,  34.9103,2,    240.7,2,     240,2,   42.60,6,   21.90,6,    0.00,6,    1.47,6,   0.137,2,   0.070,2,   0.076,2,  2198.9,2,  2351.0,2,   755.5,2,      20,   7.7248,2,    25.00, -999.00,9,  -999.0,9,  -999.0,   41.71,2,    24.6,2,     13.885,2,-999.0000,9,-999.0000,9,-999.0000,9,-999.0000,9,-999.0000,9,-999.0000,9,-999.0000,9,-999.0000,9,-999.0000,9,     -999.0,5,  -999.0,9,     -999.0,     -999.0,9,     -999.0,20130814,       1935