BOTTLE,20220815CCHSIOAMB
EXPOCODE,SECT_ID,STNNBR,CASTNO,SAMPNO,BTLNBR,BTLNBR_FLAG_W,DATE,TIME,LATITUDE,LONGITUDE,DEPTH,CTDPRS,CTDTMP,CTDSAL,CTDSAL_FLAG_W,SALNTY,SALNTY_FLAG_W,CTDOXY,CTDOXY_FLAG_W,OXYGEN,OXYGEN_FLAG_W,SILCAT,SILCAT_FLAG_W,NITRAT,NITRAT_FLAG_W,NITRIT,NITRIT_FLAG_W,PHSPHT,PHSPHT_FLAG_W,CFC-11,CFC-11_FLAG_W,CFC-12,CFC-12_FLAG_W,SF6,SF6_FLAG_W,TCARBN,TCARBN_FLAG_W,ALKALI,ALKALI_FLAG_W,PCO2,PCO2_FLAG_W,PCO2TMP,PH_SWS,PH_SWS_FLAG_W,PH_TMP,DELC13,DELC13_FLAG_W,DELC14,DELC14_FLAG_W,C14ERR,DOC,DOC_FLAG_W,TDN,TDN_FLAG_W,N2O,N2O_FLAG_W,CDOM325,CDOM325_FLAG_W,CDOM340,CDOM340_FLAG_W,CDOM380,CDOM380_FLAG_W,CDOM412,CDOM412_FLAG_W,CDOM443,CDOM443_FLAG_W,CDOM490,CDOM490_FLAG_W,CDOM555,CDOM555_FLAG_W,CDOMSL,CDOMSL_FLAG_W,CDOMSN,CDOMSN_FLAG_W,CCL4,CCL4_FLAG_W,14C-DOC,14C-DOC_FLAG_W,14C-DOCERR,13C-DOC,13C-DOC_FLAG_W,13C-DOCERR,BTL_DATE,BTL_TIME
,,,,,,,,,,,METERS,DBAR,ITS-90,PSS-78,,PSS-78,,UMOL/KG,,UMOL/KG,,UMOL/KG,,UMOL/KG,,UMOL/KG,,UMOL/KG,,PMOL/KG,,PMOL/KG,,FMOL/KG,,UMOL/KG,,UMOL/KG,,UATM,,DEG C,,,DEG C,/MILLE,,/MILLE,,/MILLE,UMOL/KG,,UMOL/KG,,NMOL/KG,,1/M,,1/M,,1/M,,1/M,,1/M,,1/M,,1/M,,1/NM,,1/NM,,PMOL/KG,,/MILLE,,/MILLE,/MILLE,,/MILLE,,
33RO20130803,       A16N,     119,          2,         24,         24,2,20130925,       0006,     4.0027,   -25.5025,       4043,     2.6,  27.8472,  35.5224,2,  35.5241,2,    198.8,2,     198,2,    1.10,2,    0.10,2,    0.00,2,    0.00,2,   1.498,2,   0.971,2,   1.153,2,  1981.7,6,  2324.2,2,   266.3,2,      20,   8.1048,2,    25.00, -999.00,9,  -999.0,9,  -999.0, -999.00,9, -999.00,9,      5.874,2,-999.0000,9,-999.0000,9,-999.0000,9,-999.0000,9,-999.0000,9,-999.0000,9,-999.0000,9,-999.0000,9,-999.0000,9,     -999.0,5,  -999.0,9,     -999.0,     -999.0,9,     -999.0,20130925,       0138
33RO20130803,       A16N,     119,          2,         23,         23,2,20130925,       0006,     4.0027,   -25.5025,       4043,    21.7,  27.8547,  35.5230,2,  35.5367,2,    199.1,2,   198.3,2,    1.10,2,    0.10,2,    0.00,2,    0.01,2,   1.503,6,   0.967,6,   1.163,6,  1981.8,2,  2321.4,6,   268.4,6,      20,   8.1041,2,    25.00, -999.00,9,  -999.0,9,  -999.0, -999.00,9, -999.00,9,      5.898,6,-999.0000,9,-999.0000,9,-999.0000,9,-999.0000,9,-999.0000,9,-999.0000,9,-999.0000,9,-999.0000,9,-999.0000,9,     -999.0,5,  -999.0,9,     -999.0,     -999.0,9,     -999.0,20130925,       0136
33RO20130803,       A16N,     119,          2,         22,         22,2,20130925,       0006,     4.0027,   -25.5025,       4043,    47.3,  27.8121,  35.6803,2,  35.6933,2,    199.8,2,   198.5,2,    1.00,2,    0.10,2,    0.00,2,    0.01,2,   1.511,2,   0.962,2,   1.114,2,  1991.3,2,  2337.6,2,   280.7,2,      20,   8.0998,2,    25.00, -999.00,9,  -999.0,9,  -999.0, -999.00,9, -999.00,9,      6.004,2,-999.0000,9,-999.0000,9,-999.0000,9,-999.0000,9,-999.0000,9,-999.0000,9,-999.0000,9,-999.0000,9,-999.0000,9,     -999.0,5,  -999.0,9,     -999.0,     -999.0,9,     -999.0,20130925,       0135
33RO20130803,       A16N,     119,          2,         21,         21,2,20130925,       0006,     4.0027,   -25.5025,       4043,    72.4,  26.1000,  35.9185,2,  35.9374,2,    188.0,2,   175.9,2,    1.60,2,    1.10,2,    0.06,2,    0.10,2,   1.672,2,   1.039,2,   1.077,2,  2055.5,2,  2355.2,2,   363.4,2,      20,   8.0195,2,    25.00, -999.00,9,  -999.0,9,  -999.0, -999.00,9, -999.00,9,      9.635,2,-999.0000,9,-999.0000,9,-999.0000,9,-999.0000,9,-999.0000,9,-999.0000,9,-999.0000,9,-999.0000,9,-999.0000,9,     -999.0,5,  -999.0,9,     -999.0,     -999.0,9,     -999.0,20130925,       0133
33RO20130803,       A16N,     119,          2,         20,         20,5,20130925,       0006,     4.0027,   -25.5025,       4043,    97.8,  18.1813,  35.7699,2,  35.7625,2,    108.1,2,   116.8,2, -999.00,9, -999.00,9, -999.00,9, -999.00,9,-999.000,9,-999.000,9,-999.000,9,  -999.0,9,  -999.0,9,  -999.0,9, -999.00,-999.0000,9,  -999.00, -999.00,9,  -999.0,9,  -999.0, -999.00,9, -999.00,9,     -999.0,9,-999.0000,9,-999.0000,9,-999.0000,9,-999.0000,9,-999.0000,9,-999.0000,9,-999.0000,9,-999.0000,9,-999.0000,9,     -999.0,9,  -999.0,9,     -999.0,     -999.0,9,     -999.0,20130925,       0131
33RO20130803,       A16N,     119,          2,         19,         19,2,20130925,       0006,     4.0027,   -25.5025,       4043,   122.1,  15.9549,  35.6249,2,  35.6266,2,     85.8,2,    86.2,2,    6.20,2,   21.40,2,    0.02,2,    1.37,2,   2.188,2,   1.253,2,   0.770,2,  2198.0,2,  2335.4,2,   809.0,2,      20,   7.6807,2,    25.00, -999.00,9,  -999.0,9,  -999.0, -999.00,9, -999.00,9,     26.398,2,-999.0000,9,-999.0000,9,-999.0000,9,-999.0000,9,-999.0000,9,-999.0000,9,-999.0000,9,-999.0000,9,-999.0000,9,     -999.0,5,  -999.0,9,     -999.0,     -999.0,9,     -999.0,20130925,       0129
33RO20130803,       A16N,     119,          2,         18,         18,2,20130925,       0006,     4.0027,   -25.5025,       4043,   147.3,  15.3536,  35.5712,2,  35.5702,2,     89.2,2,    90.3,2,    6.60,2,   21.60,2,    0.01,2,    1.38,2,   2.197,2,   1.245,2,   0.748,2,  2195.4,2,  2329.1,2,   782.7,2,      20,   7.6806,2,    25.00, -999.00,9,  -999.0,9,  -999.0, -999.00,9, -999.00,9,     26.374,2,-999.0000,9,-999.0000,9,-999.0000,9,-999.0000,9,-999.0000,9,-999.0000,9,-999.0000,9,-999.0000,9,-999.0000,9,     -999.0,5,  -999.0,9,     -999.0,     -999.0,9,     -999.0,20130925,       0128
33RO20130803,       A16N,     119,          2,         17,         17,2,20130925,       0006,     4.0027,   -25.5025,       4043,   198.1,  14.4111,  35.4608,2,  35.4602,2,     87.1,2,    88.1,2,    7.60,2,   22.90,2,    0.01,2,    1.46,2,   2.104,2,   1.179,2,   0.695,2,  2200.8,2,  2327.7,2,   908.5,2,      20,   7.6606,2,    25.00, -999.00,9,  -999.0,9,  -999.0, -999.00,9, -999.00,9,     27.909,2,-999.0000,9,-999.0000,9,-999.0000,9,-999.0000,9,-999.0000,9,-999.0000,9,-999.0000,9,-999.0000,9,-999.0000,9,     -999.0,5,  -999.0,9,     -999.0,     -999.0,9,     -999.0,20130925,       0126
33RO20130803,       A16N,     119,          2,         16,         16,2,20130925,       0006,     4.0027,   -25.5025,       4043,   272.2,  12.3595,  35.2162,2,  35.2134,2,     67.2,2,    68.1,2,   10.50,2,   28.30,2,    0.00,2,    1.77,2,   1.688,2,   0.914,2,   0.419,2,  2223.0,6,  2317.0,2,  1125.9,2,      20,   7.5688,2,    25.00, -999.00,9,  -999.0,9,  -999.0, -999.00,9, -999.00,9,     35.457,2,-999.0000,9,-999.0000,9,-999.0000,9,-999.0000,9,-999.0000,9,-999.0000,9,-999.0000,9,-999.0000,9,-999.0000,9,     -999.0,5,  -999.0,9,     -999.0,     -999.0,9,     -999.0,20130925,       0124
33RO20130803,       A16N,     119,          2,         15,         15,2,20130925,       0006,     4.0027,   -25.5025,       4043,   347.2,  10.3729,  34.9869,2,  34.9861,2,     74.8,2,    75.9,2,   13.20,2,   31.10,2,    0.00,2,    1.93,2,   1.407,2,   0.746,2,   0.269,2,  2224.6,2,  2306.7,2,  1239.3,2,      20,   7.5337,2,    25.00, -999.00,9,  -999.0,9,  -999.0, -999.00,9, -999.00,9,     36.293,2,-999.0000,9,-999.0000,9,-999.0000,9,-999.0000,9,-999.0000,9,-999.0000,9,-999.0000,9,-999.0000,9,-999.0000,9,     -999.0,5,  -999.0,9,     -999.0,     -999.0,9,     -999.0,20130925,       0121
33RO20130803,       A16N,     119,          2,         14,         14,2,20130925,       0006,     4.0027,   -25.5025,       4043,   421.9,   9.1930,  34.8580,2,  34.8576,2,     85.4,2,    86.4,2,   15.20,2,   32.40,2,    0.00,2,    2.02,2,   1.204,2,   0.631,2,   0.236,2,  2226.0,2,  2301.7,6,  1247.5,2,      20,   7.5245,2,    25.00, -999.00,9,  -999.0,9,  -999.0, -999.00,9, -999.00,9,     34.154,2,-999.0000,9,-999.0000,9,-999.0000,9,-999.0000,9,-999.0000,9,-999.0000,9,-999.0000,9,-999.0000,9,-999.0000,9,     -999.0,5,  -999.0,9,     -999.0,     -999.0,9,     -999.0,20130925,       0119
33RO20130803,       A16N,     119,          2,         13,         13,2,20130925,       0006,     4.0027,   -25.5025,       4043,   497.5,   8.0832,  34.7484,2,  34.7473,2,    100.1,2,   101.2,2,   17.50,6,   33.20,6,    0.00,6,    2.10,6,   0.975,2,   0.501,2,   0.174,2,  2221.2,2,  2302.3,2,  1233.6,2,      20,   7.5262,2,    25.00, -999.00,9,  -999.0,9,  -999.0, -999.00,9, -999.00,9,     31.114,2,-999.0000,9,-999.0000,9,-999.0000,9,-999.0000,9,-999.0000,9,-999.0000,9,-999.0000,9,-999.0000,9,-999.0000,9,     -999.0,5,  -999.0,9,     -999.0,     -999.0,9,     -999.0,20130925,       0117
33RO20130803,       A16N,     119,          2,         12,         12,2,20130925,       0006,     4.0027,   -25.5025,       4043,   647.0,   6.1580,  34.5962,2,  34.5957,2,    122.5,2,   122.4,2,   23.50,6,   34.80,6,    0.00,6,    2.27,6,   0.472,2,   0.246,2,   0.057,2,  2220.2,2,  2296.1,2,  1236.0,2,      20,   7.5246,6,    25.00, -999.00,9,  -999.0,9,  -999.0, -999.00,9, -999.00,9,     27.231,2,-999.0000,9,-999.0000,9,-999.0000,9,-999.0000,9,-999.0000,9,-999.0000,9,-999.0000,9,-999.0000,9,-999.0000,9,     -999.0,5,  -999.0,9,     -999.0,     -999.0,9,     -999.0,20130925,       0113
33RO20130803,       A16N,     119,          2,         11,         11,2,20130925,       0006,     4.0027,   -25.5025,       4043,   797.9,   5.1451,  34.5728,2,  34.5740,2,    135.5,2,   136.1,2,   28.00,6,   34.70,6,    0.00,6,    2.31,6,   0.193,2,   0.104,2,   0.000,2,  2221.8,2,  2302.8,2,  1205.0,2,      20,   7.5327,2,    25.00, -999.00,9,  -999.0,9,  -999.0, -999.00,9, -999.00,9,     25.119,2,-999.0000,9,-999.0000,9,-999.0000,9,-999.0000,9,-999.0000,9,-999.0000,9,-999.0000,9,-999.0000,9,-999.0000,9,     -999.0,5,  -999.0,9,     -999.0,     -999.0,9,     -999.0,20130925,       0110
33RO20130803,       A16N,     119,          2,         10,         10,2,20130925,       0006,     4.0027,   -25.5025,       4043,   948.2,   4.7697,  34.6257,2,  34.6282,2,    148.5,2,   147.4,2,   28.90,6,   33.40,6,    0.00,6,    2.23,6,   0.095,2,   0.054,2,   0.000,2,  2220.4,2,  2306.6,2,  1144.1,2,      20,   7.5542,2,    25.00, -999.00,9,  -999.0,9,  -999.0, -999.00,9, -999.00,9,     23.351,2,-999.0000,9,-999.0000,9,-999.0000,9,-999.0000,9,-999.0000,9,-999.0000,9,-999.0000,9,-999.0000,9,-999.0000,9,     -999.0,5,  -999.0,9,     -999.0,     -999.0,9,     -999.0,20130925,       0106
33RO20130803,       A16N,     119,          2,          9,          9,2,20130925,       0006,     4.0027,   -25.5025,       4043,  1096.9,   4.7278,  34.7684,2,  34.7674,2,    162.0,2,   163.8,2,   26.00,2,   30.20,2,    0.00,2,    2.02,2,   0.058,2,   0.036,2,   0.000,2,  2210.5,2,  2309.4,2,  1038.6,2,      20,   7.5963,2,    25.00, -999.00,9,  -999.0,9,  -999.0, -999.00,9, -999.00,9,     21.187,2,-999.0000,9,-999.0000,9,-999.0000,9,-999.0000,9,-999.0000,9,-999.0000,9,-999.0000,9,-999.0000,9,-999.0000,9,     -999.0,5,  -999.0,9,     -999.0,     -999.0,9,     -999.0,20130925,       0103
33RO20130803,       A16N,     119,          2,          8,          8,2,20130925,       0006,     4.0027,   -25.5025,       4043,  1296.5,   4.4917,  34.8793,2,  34.8794,2,    190.0,2,   190.4,2,   22.60,2,   26.30,2,    0.00,2,    1.74,2,   0.068,2,   0.037,2,   0.000,2,  2195.2,2,   380.0,4,   911.8,2,      20,   7.6465,2,    25.00, -999.00,9,  -999.0,9,  -999.0, -999.00,9, -999.00,9,     18.566,2,-999.0000,9,-999.0000,9,-999.0000,9,-999.0000,9,-999.0000,9,-999.0000,9,-999.0000,9,-999.0000,9,-999.0000,9,     -999.0,5,  -999.0,9,     -999.0,     -999.0,9,     -999.0,20130925,       0059
33RO20130803,       A16N,     119,          2,          7,          7,2,20130925,       0006,     4.0027,   -25.5025,       4043,  1598.0,   4.1784,  34.9669,2,  34.9681,2,    229.4,2,   230.3,2,   18.00,2,   21.50,2,    0.00,2,    1.41,2,   0.310,2,   0.159,2,   0.044,2,  2173.1,2,  2314.5,2,   791.8,2,      20,   7.6998,2,    25.00, -999.00,9,  -999.0,9,  -999.0, -999.00,9, -999.00,9,     15.094,2,-999.0000,9,-999.0000,9,-999.0000,9,-999.0000,9,-999.0000,9,-999.0000,9,-999.0000,9,-999.0000,9,-999.0000,9,     -999.0,5,  -999.0,9,     -999.0,     -999.0,9,     -999.0,20130925,       0053
33RO20130803,       A16N,     119,          2,          6,          6,2,20130925,       0006,     4.0027,   -25.5025,       4043,  1997.6,   3.6200,  34.9638,2,  34.9643,2,    242.9,2,   242.9,2,   20.40,2,   20.50,2,    0.00,2,    1.34,2,   0.135,2,   0.071,2,   0.022,2,  2169.8,2,  -999.0,5,   758.2,2,      20,   7.7223,2,    25.00, -999.00,9,  -999.0,9,  -999.0, -999.00,9, -999.00,9,     13.947,2,-999.0000,9,-999.0000,9,-999.0000,9,-999.0000,9,-999.0000,9,-999.0000,9,-999.0000,9,-999.0000,9,-999.0000,9,     -999.0,5,  -999.0,9,     -999.0,     -999.0,9,     -999.0,20130925,       0045
33RO20130803,       A16N,     119,          2,          5,          5,2,20130925,       0006,     4.0027,   -25.5025,       4043,  2387.7,   3.1358,  34.9429,2,  34.9424,2,    244.2,2,   246.3,2,   26.70,2,   20.80,2,    0.00,2,    1.36,2,   0.056,2,   0.034,2,   0.000,2,  2176.4,2,  2323.3,2,   755.4,2,      20,   7.7229,2,    25.00, -999.00,9,  -999.0,9,  -999.0, -999.00,9, -999.00,9,     13.635,2,-999.0000,9,-999.0000,9,-999.0000,9,-999.0000,9,-999.0000,9,-999.0000,9,-999.0000,9,-999.0000,9,-999.0000,9,     -999.0,5,  -999.0,9,     -999.0,     -999.0,9,     -999.0,20130925,       0038
33RO20130803,       A16N,     119,          2,          4,          4,2,20130925,       0006,     4.0027,   -25.5025,       4043,  2798.0,   2.7372,  34.9192,2,  34.9200,2,    243.1,2,   244.1,2,   34.00,2,   21.50,2,    0.00,2,    1.42,2,   0.012,2,   0.009,2,   0.000,2,  2183.8,2,  -999.0,5,   761.8,2,      20,   7.7208,6,    25.00, -999.00,9,  -999.0,9,  -999.0, -999.00,9, -999.00,9,     13.609,2,-999.0000,9,-999.0000,9,-999.0000,9,-999.0000,9,-999.0000,9,-999.0000,9,-999.0000,9,-999.0000,9,-999.0000,9,     -999.0,5,  -999.0,9,     -999.0,     -999.0,9,     -999.0,20130925,       0030
33RO20130803,       A16N,     119,          2,          3,          3,2,20130925,       0006,     4.0027,   -25.5025,       4043,  3198.0,   2.5788,  34.9070,2,  34.9074,2,    242.5,2,     244,2,   37.80,2,   21.70,2,    0.00,2,    1.44,2,   0.016,6,   0.015,6,   0.000,6,  2190.6,2,  2338.6,2,   763.7,2,      20,   7.7189,2,    25.00, -999.00,9,  -999.0,9,  -999.0, -999.00,9, -999.00,9,     13.658,6,-999.0000,9,-999.0000,9,-999.0000,9,-999.0000,9,-999.0000,9,-999.0000,9,-999.0000,9,-999.0000,9,-999.0000,9,     -999.0,5,  -999.0,9,     -999.0,     -999.0,9,     -999.0,20130925,       0023
33RO20130803,       A16N,     119,          2,          2,          2,2,20130925,       0006,     4.0027,   -25.5025,       4043,  3597.2,   2.4492,  34.8969,2,  34.8969,2,    246.4,2,   247.1,2,   39.60,2,   21.60,2,    0.00,2,    1.43,2,   0.041,2,   0.027,2,   0.000,2,  2192.3,2,  2336.0,2,   757.7,2,      20,   7.7218,2,    25.00, -999.00,9,  -999.0,9,  -999.0, -999.00,9, -999.00,9,     13.597,2,-999.0000,9,-999.0000,9,-999.0000,9,-999.0000,9,-999.0000,9,-999.0000,9,-999.0000,9,-999.0000,9,-999.0000,9,     -999.0,5,  -999.0,9,     -999.0,     -999.0,9,     -999.0,20130925,       0015
33RO20130803,       A16N,     119,          2,          1,          1,2,20130925,       0006,     4.0027,   -25.5025,       4043,  4088.2,   2.3434,  34.8843,2,  34.8878,2,    243.4,2,   243.8,2,   44.60,2,   22.30,2,    0.00,2,    1.48,2,   0.032,2,   0.022,2,   0.000,2,  2198.8,6,  2348.0,2,   754.4,2,      20,   7.7234,2,    25.00, -999.00,9,  -999.0,9,  -999.0, -999.00,9, -999.00,9,     13.812,2,-999.0000,9,-999.0000,9,-999.0000,9,-999.0000,9,-999.0000,9,-999.0000,9,-999.0000,9,-999.0000,9,-999.0000,9,     -999.0,5,  -999.0,9,     -999.0,     -999.0,9,     -999.0,20130925,       0006