BOTTLE,20220815CCHSIOAMB
EXPOCODE,SECT_ID,STNNBR,CASTNO,SAMPNO,BTLNBR,BTLNBR_FLAG_W,DATE,TIME,LATITUDE,LONGITUDE,DEPTH,CTDPRS,CTDTMP,CTDSAL,CTDSAL_FLAG_W,SALNTY,SALNTY_FLAG_W,CTDOXY,CTDOXY_FLAG_W,OXYGEN,OXYGEN_FLAG_W,SILCAT,SILCAT_FLAG_W,NITRAT,NITRAT_FLAG_W,NITRIT,NITRIT_FLAG_W,PHSPHT,PHSPHT_FLAG_W,CFC-11,CFC-11_FLAG_W,CFC-12,CFC-12_FLAG_W,SF6,SF6_FLAG_W,TCARBN,TCARBN_FLAG_W,ALKALI,ALKALI_FLAG_W,PCO2,PCO2_FLAG_W,PCO2TMP,PH_SWS,PH_SWS_FLAG_W,PH_TMP,DELC13,DELC13_FLAG_W,DELC14,DELC14_FLAG_W,C14ERR,DOC,DOC_FLAG_W,TDN,TDN_FLAG_W,N2O,N2O_FLAG_W,CDOM325,CDOM325_FLAG_W,CDOM340,CDOM340_FLAG_W,CDOM380,CDOM380_FLAG_W,CDOM412,CDOM412_FLAG_W,CDOM443,CDOM443_FLAG_W,CDOM490,CDOM490_FLAG_W,CDOM555,CDOM555_FLAG_W,CDOMSL,CDOMSL_FLAG_W,CDOMSN,CDOMSN_FLAG_W,CCL4,CCL4_FLAG_W,14C-DOC,14C-DOC_FLAG_W,14C-DOCERR,13C-DOC,13C-DOC_FLAG_W,13C-DOCERR,BTL_DATE,BTL_TIME
,,,,,,,,,,,METERS,DBAR,ITS-90,PSS-78,,PSS-78,,UMOL/KG,,UMOL/KG,,UMOL/KG,,UMOL/KG,,UMOL/KG,,UMOL/KG,,PMOL/KG,,PMOL/KG,,FMOL/KG,,UMOL/KG,,UMOL/KG,,UATM,,DEG C,,,DEG C,/MILLE,,/MILLE,,/MILLE,UMOL/KG,,UMOL/KG,,NMOL/KG,,1/M,,1/M,,1/M,,1/M,,1/M,,1/M,,1/M,,1/NM,,1/NM,,PMOL/KG,,/MILLE,,/MILLE,/MILLE,,/MILLE,,
33RO20130803,       A16N,     122,          1,         24,         24,2,20130925,       2005,     2.6675,   -25.0000,       4103,     3.1,  27.6460,  35.7631,2,  35.7623,2,    199.1,2,   198.6,2,    0.90,2,    0.00,2,    0.00,2,    0.00,2,-999.000,9,-999.000,9,-999.000,9,  1994.2,6,  2342.6,2,   280.0,2,      20,   8.0977,2,    25.00,    1.37,2,    49.8,2,     0.3,   73.97,2,    5.28,2,     -999.0,9,-999.0000,9,-999.0000,9,-999.0000,9,-999.0000,9,-999.0000,9,-999.0000,9,-999.0000,9,-999.0000,9,-999.0000,9,     -999.0,9,  -999.0,9,     -999.0,     -999.0,9,     -999.0,20130925,       2146
33RO20130803,       A16N,     122,          1,         23,         23,2,20130925,       2005,     2.6675,   -25.0000,       4103,    23.2,  27.6280,  35.7604,2,  35.7617,2,    199.8,2,   198.4,2,    1.00,2,    0.00,2,    0.00,2,    0.01,2,-999.000,9,-999.000,9,-999.000,9,  1994.2,2,  2339.4,2,   284.6,2,      20,   8.0986,2,    25.00,    1.35,2,    44.9,2,     0.3,   73.59,2,    4.96,2,     -999.0,9,-999.0000,9,-999.0000,9,-999.0000,9,-999.0000,9,-999.0000,9,-999.0000,9,-999.0000,9,-999.0000,9,-999.0000,9,     -999.0,9,  -999.0,9,     -999.0,     -999.0,9,     -999.0,20130925,       2144
33RO20130803,       A16N,     122,          1,         22,         22,2,20130925,       2005,     2.6675,   -25.0000,       4103,    47.7,  27.5832,  35.7596,2,  35.7617,2,    198.9,2,   198.1,2,    1.00,2,    0.00,2,    0.00,2,    0.01,2,-999.000,9,-999.000,9,-999.000,9,  -999.0,9,  -999.0,9,  -999.0,9, -999.00,-999.0000,9,  -999.00, -999.00,9,  -999.0,9,  -999.0,   72.52,2,    4.67,2,     -999.0,9,-999.0000,9,-999.0000,9,-999.0000,9,-999.0000,9,-999.0000,9,-999.0000,9,-999.0000,9,-999.0000,9,-999.0000,9,     -999.0,9,  -999.0,9,     -999.0,     -999.0,9,     -999.0,20130925,       2142
33RO20130803,       A16N,     122,          1,         21,         21,2,20130925,       2005,     2.6675,   -25.0000,       4103,    72.7,  26.5845,  35.8559,2,  35.8609,2,    193.2,2,     184,2,    1.50,2,    0.80,2,    0.02,2,    0.09,2,-999.000,9,-999.000,9,-999.000,9,  2041.4,2,  2350.7,2,   355.8,2,      20,   8.0359,6,    25.00,    1.17,2,    51.2,2,     0.2,   69.69,2,    4.78,2,     -999.0,9,-999.0000,9,-999.0000,9,-999.0000,9,-999.0000,9,-999.0000,9,-999.0000,9,-999.0000,9,-999.0000,9,-999.0000,9,     -999.0,9,  -999.0,9,     -999.0,     -999.0,9,     -999.0,20130925,       2140
33RO20130803,       A16N,     122,          1,         20,         20,2,20130925,       2005,     2.6675,   -25.0000,       4103,    97.9,  17.4917,  35.7230,2,  35.7208,2,    105.2,2,   110.2,2,    4.90,2,   16.30,2,    0.09,2,    1.13,2,-999.000,9,-999.000,9,-999.000,9,  -999.0,9,  -999.0,9,  -999.0,9, -999.00,-999.0000,9,  -999.00,    0.40,2,    46.7,2,     0.3,   51.86,2,   19.83,2,     -999.0,9,-999.0000,9,-999.0000,9,-999.0000,9,-999.0000,9,-999.0000,9,-999.0000,9,-999.0000,9,-999.0000,9,-999.0000,9,     -999.0,9,  -999.0,9,     -999.0,     -999.0,9,     -999.0,20130925,       2138
33RO20130803,       A16N,     122,          1,         19,         19,2,20130925,       2005,     2.6675,   -25.0000,       4103,   123.2,  15.6264,  35.6042,2,  35.5939,2,    101.9,2,   104.7,2,    6.40,2,   19.40,2,    0.02,2,    1.30,2,-999.000,9,-999.000,9,-999.000,9,  2186.5,2,  2337.0,2,   778.7,2,      20,   7.7139,2,    25.00,    0.39,2,    42.6,2,     0.2,   50.61,2,   22.49,2,     -999.0,9,-999.0000,9,-999.0000,9,-999.0000,9,-999.0000,9,-999.0000,9,-999.0000,9,-999.0000,9,-999.0000,9,-999.0000,9,     -999.0,9,  -999.0,9,     -999.0,     -999.0,9,     -999.0,20130925,       2137
33RO20130803,       A16N,     122,          1,         18,         18,2,20130925,       2005,     2.6675,   -25.0000,       4103,   148.2,  15.0441,  35.5400,2,  35.5365,2,    103.9,2,    98.8,2,    7.10,2,   20.90,2,    0.01,2,    1.38,2,   2.172,2,   1.252,2,   0.785,2,  -999.0,9,  -999.0,9,  -999.0,9, -999.00,-999.0000,9,  -999.00,    0.29,2,    41.2,2,     0.2,   49.15,2,   23.74,2,     25.200,2,-999.0000,9,-999.0000,9,-999.0000,9,-999.0000,9,-999.0000,9,-999.0000,9,-999.0000,9,-999.0000,9,-999.0000,9,     -999.0,5,  -999.0,9,     -999.0,     -999.0,9,     -999.0,20130925,       2135
33RO20130803,       A16N,     122,          1,         17,         17,2,20130925,       2005,     2.6675,   -25.0000,       4103,   197.6,  14.2655,  35.4411,2,  35.4398,2,    107.5,2,   107.6,2,    7.40,2,   20.80,2,    0.01,2,    1.38,2,-999.000,9,-999.000,9,-999.000,9,  2188.7,2,  2310.7,3,   821.6,2,      20,   7.6889,4,    25.00,    0.39,2,    42.5,2,     0.4,   48.38,2,   23.73,2,     -999.0,9,-999.0000,9,-999.0000,9,-999.0000,9,-999.0000,9,-999.0000,9,-999.0000,9,-999.0000,9,-999.0000,9,-999.0000,9,     -999.0,9,  -999.0,9,     -999.0,     -999.0,9,     -999.0,20130925,       2133
33RO20130803,       A16N,     122,          1,         16,         16,2,20130925,       2005,     2.6675,   -25.0000,       4103,   272.8,  12.4158,  35.2130,2,  35.2081,2,    105.8,2,   104.5,2,    9.60,2,   24.30,2,    0.01,2,    1.57,2,   1.969,2,   1.092,2,   0.520,2,  2198.1,2,  2317.6,2,   937.3,2,      20,   7.6421,2,    25.00,    0.43,2,    28.0,2,     0.3,   47.62,2,   27.18,2,     29.319,2,-999.0000,9,-999.0000,9,-999.0000,9,-999.0000,9,-999.0000,9,-999.0000,9,-999.0000,9,-999.0000,9,-999.0000,9,     -999.0,5,  -999.0,9,     -999.0,     -999.0,9,     -999.0,20130925,       2129
33RO20130803,       A16N,     122,          1,         15,         15,2,20130925,       2005,     2.6675,   -25.0000,       4103,   348.3,  10.0441,  34.9559,2,  34.9508,2,     78.4,2,      79,2,   14.40,2,   31.50,2,    0.00,2,    1.99,2,-999.000,9,-999.000,9,-999.000,9,  2225.4,6,  2305.1,2,  1204.7,2,      20,   7.5350,2,    25.00,    0.43,2,    -7.8,2,     0.2,   46.56,2,   34.17,2,     -999.0,9,-999.0000,9,-999.0000,9,-999.0000,9,-999.0000,9,-999.0000,9,-999.0000,9,-999.0000,9,-999.0000,9,-999.0000,9,     -999.0,9,  -999.0,9,     -999.0,     -999.0,9,     -999.0,20130925,       2127
33RO20130803,       A16N,     122,          1,         14,         14,2,20130925,       2005,     2.6675,   -25.0000,       4103,   422.6,   8.5169,  34.7897,2,  34.7875,2,     95.5,2,    96.5,2,   17.30,2,   32.80,2,    0.00,2,    2.10,2,   1.063,2,   0.550,2,   0.209,2,  2222.6,2,  2301.8,2,  1210.2,2,      20,   7.5286,2,    25.00,    0.53,2,   -29.2,2,     0.2,   46.29,2,   35.33,2,     32.277,2,-999.0000,9,-999.0000,9,-999.0000,9,-999.0000,9,-999.0000,9,-999.0000,9,-999.0000,9,-999.0000,9,-999.0000,9,     -999.0,5,  -999.0,9,     -999.0,     -999.0,9,     -999.0,20130925,       2124
33RO20130803,       A16N,     122,          1,         13,         13,2,20130925,       2005,     2.6675,   -25.0000,       4103,   497.8,   7.5419,  34.6958,2,  34.6929,2,    107.3,2,   107.5,2,   19.80,2,   33.60,2,    0.00,2,    2.17,2,-999.000,9,-999.000,9,-999.000,9,  -999.0,9,  -999.0,9,  -999.0,9, -999.00,-999.0000,9,  -999.00,    0.60,2,   -48.6,2,     0.2,   45.95,2,   36.44,2,     -999.0,9,-999.0000,9,-999.0000,9,-999.0000,9,-999.0000,9,-999.0000,9,-999.0000,9,-999.0000,9,-999.0000,9,-999.0000,9,     -999.0,9,  -999.0,9,     -999.0,     -999.0,9,     -999.0,20130925,       2121
33RO20130803,       A16N,     122,          1,         12,         12,2,20130925,       2005,     2.6675,   -25.0000,       4103,   647.8,   5.9100,  34.5828,2,  34.5817,2,    121.8,2,     124,2,   25.90,2,   35.20,2,    0.00,2,    2.34,2,   0.384,2,   0.191,2,   0.073,2,  -999.0,9,  -999.0,9,  -999.0,9, -999.00,-999.0000,9,  -999.00,   -0.29,4,   -80.0,6,     1.4,   44.91,2,   37.78,2,     26.855,2,-999.0000,9,-999.0000,9,-999.0000,9,-999.0000,9,-999.0000,9,-999.0000,9,-999.0000,9,-999.0000,9,-999.0000,9,     -999.0,5,  -999.0,9,     -999.0,     -999.0,9,     -999.0,20130925,       2117
33RO20130803,       A16N,     122,          1,         11,         11,2,20130925,       2005,     2.6675,   -25.0000,       4103,   797.4,   4.8660,  34.5360,2,  34.5355,2,    150.1,2,   150.3,2,   30.40,2,   34.00,2,    0.00,2,    2.30,2,-999.000,9,-999.000,9,-999.000,9,  2218.7,2,  2302.7,6,  1132.6,2,      20,   7.5497,2,    25.00,    0.74,2,   -96.6,2,     0.2,   44.65,2,   36.54,2,     -999.0,9,-999.0000,9,-999.0000,9,-999.0000,9,-999.0000,9,-999.0000,9,-999.0000,9,-999.0000,9,-999.0000,9,-999.0000,9,     -999.0,9,  -999.0,9,     -999.0,     -999.0,9,     -999.0,20130925,       2113
33RO20130803,       A16N,     122,          1,         10,         10,2,20130925,       2005,     2.6675,   -25.0000,       4103,   947.6,   4.7308,  34.6034,2,  34.6072,2,    149.4,2,   150.3,2,   30.70,2,   33.40,2,    0.00,2,    2.27,2,   0.133,3,   0.064,2,   0.000,2,  -999.0,9,  -999.0,9,  -999.0,9, -999.00,-999.0000,9,  -999.00,    0.73,2,  -108.2,2,     0.2,   43.87,2,   36.01,2,     23.233,2,-999.0000,9,-999.0000,9,-999.0000,9,-999.0000,9,-999.0000,9,-999.0000,9,-999.0000,9,-999.0000,9,-999.0000,9,     -999.0,5,  -999.0,9,     -999.0,     -999.0,9,     -999.0,20130925,       2109
33RO20130803,       A16N,     122,          1,          9,          9,2,20130925,       2005,     2.6675,   -25.0000,       4103,  1097.5,   4.6674,  34.7216,2,  34.7212,2,    160.8,2,   161.7,2,   28.60,2,   31.10,2,    0.00,2,    2.10,2,-999.000,9,-999.000,9,-999.000,9,  -999.0,9,  -999.0,9,  -999.0,9, -999.00,-999.0000,9,  -999.00,    0.64,2,  -109.1,2,     0.2,   42.65,2,   33.61,2,     -999.0,9,-999.0000,9,-999.0000,9,-999.0000,9,-999.0000,9,-999.0000,9,-999.0000,9,-999.0000,9,-999.0000,9,-999.0000,9,     -999.0,9,  -999.0,9,     -999.0,     -999.0,9,     -999.0,20130925,       2105
33RO20130803,       A16N,     122,          1,          8,          8,2,20130925,       2005,     2.6675,   -25.0000,       4103,  1297.3,   4.5078,  34.8632,2,  34.8637,2,    186.7,2,   187.5,2,   24.40,2,   26.80,2,    0.00,2,    1.82,2,   0.075,3,   0.035,2,   0.000,2,  -999.0,9,  -999.0,9,  -999.0,9, -999.00,-999.0000,9,  -999.00,    0.80,2,   -93.0,2,     0.2,   42.21,2,    29.5,2,     18.654,2,-999.0000,9,-999.0000,9,-999.0000,9,-999.0000,9,-999.0000,9,-999.0000,9,-999.0000,9,-999.0000,9,-999.0000,9,     -999.0,5,  -999.0,9,     -999.0,     -999.0,9,     -999.0,20130925,       2101
33RO20130803,       A16N,     122,          1,          7,          7,2,20130925,       2005,     2.6675,   -25.0000,       4103,  1598.1,   4.1048,  34.9715,2,  34.9714,2,    233.0,2,   234.3,2,   18.40,2,   20.80,2,    0.00,2,    1.39,2,-999.000,9,-999.000,9,-999.000,9,  2172.5,2,  2313.6,2,   782.4,2,      20,   7.7085,2,    25.00,    0.96,6,   -76.0,6,     3.3,   41.46,2,   23.43,2,     -999.0,9,-999.0000,9,-999.0000,9,-999.0000,9,-999.0000,9,-999.0000,9,-999.0000,9,-999.0000,9,-999.0000,9,-999.0000,9,     -999.0,9,  -999.0,9,     -999.0,     -999.0,9,     -999.0,20130925,       2055
33RO20130803,       A16N,     122,          1,          6,          6,2,20130925,       2005,     2.6675,   -25.0000,       4103,  1997.9,   3.5542,  34.9639,2,  34.9651,2,    247.2,2,     247,2,   21.40,2,   19.90,2,    0.00,2,    1.33,2,-999.000,9,-999.000,9,-999.000,9,  2169.2,2,  2318.0,2,  -999.0,9, -999.00,   7.6883,4,    25.00,    1.05,2,   -82.9,2,     0.2,   41.46,2,   22.55,2,     -999.0,9,-999.0000,9,-999.0000,9,-999.0000,9,-999.0000,9,-999.0000,9,-999.0000,9,-999.0000,9,-999.0000,9,-999.0000,9,     -999.0,9,  -999.0,9,     -999.0,     -999.0,9,     -999.0,20130925,       2047
33RO20130803,       A16N,     122,          1,          5,          5,2,20130925,       2005,     2.6675,   -25.0000,       4103,  2397.9,   3.1936,  34.9459,2,  34.9448,2,    245.7,2,   246.6,2,   26.90,2,   20.40,2,    0.00,2,    1.37,2,-999.000,9,-999.000,9,-999.000,9,  2172.6,2,  2323.5,2,   758.5,2,      20,   7.7250,2,    25.00,    1.02,2,   -88.9,2,     0.2,   41.15,2,   22.89,2,     -999.0,9,-999.0000,9,-999.0000,9,-999.0000,9,-999.0000,9,-999.0000,9,-999.0000,9,-999.0000,9,-999.0000,9,-999.0000,9,     -999.0,9,  -999.0,9,     -999.0,     -999.0,9,     -999.0,20130925,       2039
33RO20130803,       A16N,     122,          1,          4,          4,2,20130925,       2005,     2.6675,   -25.0000,       4103,  2798.2,   2.7534,  34.9190,2,  34.9188,2,    241.5,2,   242.9,2,   36.00,6,   21.40,6,    0.00,6,    1.44,6,-999.000,9,-999.000,9,-999.000,9,  -999.0,9,  -999.0,9,  -999.0,9, -999.00,-999.0000,9,  -999.00,    0.98,2,  -107.0,2,     0.2,   40.86,2,   23.96,2,     -999.0,9,-999.0000,9,-999.0000,9,-999.0000,9,-999.0000,9,-999.0000,9,-999.0000,9,-999.0000,9,-999.0000,9,-999.0000,9,     -999.0,9,  -999.0,9,     -999.0,     -999.0,9,     -999.0,20130925,       2031
33RO20130803,       A16N,     122,          1,          3,          3,2,20130925,       2005,     2.6675,   -25.0000,       4103,  3197.4,   2.5626,  34.9050,2,  34.9043,2,    241.9,2,   242.1,2,   40.50,6,   21.80,6,    0.00,6,    1.47,6,   0.023,3,   0.013,2,   0.035,2,  -999.0,9,  -999.0,9,  -999.0,9, -999.00,-999.0000,9,  -999.00,    0.96,2,  -110.8,2,     0.2,   40.73,2,   24.25,2,     13.733,2,-999.0000,9,-999.0000,9,-999.0000,9,-999.0000,9,-999.0000,9,-999.0000,9,-999.0000,9,-999.0000,9,-999.0000,9,     -999.0,5,  -999.0,9,     -999.0,     -999.0,9,     -999.0,20130925,       2023
33RO20130803,       A16N,     122,          1,          2,          2,2,20130925,       2005,     2.6675,   -25.0000,       4103,  3597.6,   2.4490,  34.8960,2,  34.8960,2,    243.9,2,   244.9,2,   42.40,6,   21.80,6,    0.00,6,    1.46,6,   0.033,2,   0.017,2,   0.000,2,  2191.0,2,  2338.6,2,  -999.0,9, -999.00,   7.7187,6,    25.00,    0.98,2,  -113.0,2,     0.2,    40.3,2,   24.26,2,     13.777,2,-999.0000,9,-999.0000,9,-999.0000,9,-999.0000,9,-999.0000,9,-999.0000,9,-999.0000,9,-999.0000,9,-999.0000,9,     -999.0,5,  -999.0,9,     -999.0,     -999.0,9,     -999.0,20130925,       2015
33RO20130803,       A16N,     122,          1,          1,          1,2,20130925,       2005,     2.6675,   -25.0000,       4103,  4151.6,   2.3382,  34.8823,2,  34.8829,2,    243.0,2,   242.8,2,   47.20,6,   22.30,6,    0.01,6,    1.50,6,   0.042,2,   0.023,2,   0.000,2,  2198.6,2,  2345.8,6,   798.6,2,      20,   7.7144,2,    25.00,    0.94,2,  -109.4,2,     0.2,   40.87,2,   24.81,2,     13.744,2,-999.0000,9,-999.0000,9,-999.0000,9,-999.0000,9,-999.0000,9,-999.0000,9,-999.0000,9,-999.0000,9,-999.0000,9,     -999.0,5,  -999.0,9,     -999.0,     -999.0,9,     -999.0,20130925,       2005