BOTTLE,20220815CCHSIOAMB
EXPOCODE,SECT_ID,STNNBR,CASTNO,SAMPNO,BTLNBR,BTLNBR_FLAG_W,DATE,TIME,LATITUDE,LONGITUDE,DEPTH,CTDPRS,CTDTMP,CTDSAL,CTDSAL_FLAG_W,SALNTY,SALNTY_FLAG_W,CTDOXY,CTDOXY_FLAG_W,OXYGEN,OXYGEN_FLAG_W,SILCAT,SILCAT_FLAG_W,NITRAT,NITRAT_FLAG_W,NITRIT,NITRIT_FLAG_W,PHSPHT,PHSPHT_FLAG_W,CFC-11,CFC-11_FLAG_W,CFC-12,CFC-12_FLAG_W,SF6,SF6_FLAG_W,TCARBN,TCARBN_FLAG_W,ALKALI,ALKALI_FLAG_W,PCO2,PCO2_FLAG_W,PCO2TMP,PH_SWS,PH_SWS_FLAG_W,PH_TMP,DELC13,DELC13_FLAG_W,DELC14,DELC14_FLAG_W,C14ERR,DOC,DOC_FLAG_W,TDN,TDN_FLAG_W,N2O,N2O_FLAG_W,CDOM325,CDOM325_FLAG_W,CDOM340,CDOM340_FLAG_W,CDOM380,CDOM380_FLAG_W,CDOM412,CDOM412_FLAG_W,CDOM443,CDOM443_FLAG_W,CDOM490,CDOM490_FLAG_W,CDOM555,CDOM555_FLAG_W,CDOMSL,CDOMSL_FLAG_W,CDOMSN,CDOMSN_FLAG_W,CCL4,CCL4_FLAG_W,14C-DOC,14C-DOC_FLAG_W,14C-DOCERR,13C-DOC,13C-DOC_FLAG_W,13C-DOCERR,BTL_DATE,BTL_TIME
,,,,,,,,,,,METERS,DBAR,ITS-90,PSS-78,,PSS-78,,UMOL/KG,,UMOL/KG,,UMOL/KG,,UMOL/KG,,UMOL/KG,,UMOL/KG,,PMOL/KG,,PMOL/KG,,FMOL/KG,,UMOL/KG,,UMOL/KG,,UATM,,DEG C,,,DEG C,/MILLE,,/MILLE,,/MILLE,UMOL/KG,,UMOL/KG,,NMOL/KG,,1/M,,1/M,,1/M,,1/M,,1/M,,1/M,,1/M,,1/NM,,1/NM,,PMOL/KG,,/MILLE,,/MILLE,/MILLE,,/MILLE,,
33RO20130803,       A16N,      78,          1,         24,         24,2,20130905,       1317,    27.0007,   -25.0661,       5256,     3.5,  24.5565,  37.5011,2,  37.5006,2,    205.2,2,   208.4,2,    0.60,2,    0.00,2,    0.00,2,    0.01,2,   1.757,2,   1.085,2,   1.313,2,  2122.8,2,  2448.8,2,   335.1,2,      20,   8.0383,2,    25.00, -999.00,9,  -999.0,9,  -999.0, -999.00,9, -999.00,9,      6.490,2,   0.0613,2,   0.0332,3,  -0.0069,4,  -0.0055,4,  -0.0098,4,  -0.0022,4,  -0.0058,4,   0.0767,4,   0.0543,4,     -999.0,5,  -999.0,9,     -999.0,     -999.0,9,     -999.0,20130905,       1517
33RO20130803,       A16N,      78,          1,         23,         23,2,20130905,       1317,    27.0007,   -25.0661,       5256,    28.8,  24.4485,  37.4965,2,  37.4965,2,    205.9,2,   208.6,2,    0.60,2,    0.00,2,    0.00,2,    0.01,2,   1.733,2,   1.085,2,   1.313,2,  2128.1,3,  2453.4,2,   334.0,2,      20,   8.0378,2,    25.00, -999.00,9,  -999.0,9,  -999.0, -999.00,9, -999.00,9,      6.499,2,   0.0703,2,   0.0422,2,   0.0014,3,   0.0010,3,  -0.0041,4,   0.0017,3,  -0.0035,3,   0.0629,4,   0.0449,4,     -999.0,5,  -999.0,9,     -999.0,     -999.0,9,     -999.0,20130905,       1515
33RO20130803,       A16N,      78,          1,         22,         22,2,20130905,       1317,    27.0007,   -25.0661,       5256,    58.5,  24.3426,  37.4832,2,  37.4765,2,    207.7,2,   209.8,2,    0.60,2,    0.00,2,    0.00,2,    0.01,2,   1.750,6,   1.097,6,   1.289,6,  2124.4,3,  2449.4,2,   335.1,2,      20,   8.0309,2,    25.00, -999.00,9,  -999.0,9,  -999.0, -999.00,9, -999.00,9,      6.507,6,   0.0751,2,   0.0457,2,   0.0064,3,   0.0055,3,  -0.0001,3,   0.0050,3,  -0.0020,4,   0.0486,4,   0.0409,4,     -999.0,5,  -999.0,9,     -999.0,     -999.0,9,     -999.0,20130905,       1512
33RO20130803,       A16N,      78,          1,         21,         21,2,20130905,       1317,    27.0007,   -25.0661,       5256,    81.2,  21.9506,  37.0943,2,  37.0888,2,    226.3,2,   227.4,2,    0.60,2,    0.00,2,    0.00,2,    0.01,2,   1.992,2,   1.229,2,   1.421,2,  2110.7,2,  2426.3,6,   345.6,2,      20,   8.0270,2,    25.00, -999.00,9,  -999.0,9,  -999.0, -999.00,9, -999.00,9,      7.163,2,   0.1403,2,   0.0945,2,   0.0268,2,   0.0167,2,   0.0055,2,   0.0076,3,  -0.0005,4,   0.0300,3,   0.0295,3,     -999.0,5,  -999.0,9,     -999.0,     -999.0,9,     -999.0,20130905,       1510
33RO20130803,       A16N,      78,          1,         20,         20,2,20130905,       1317,    27.0007,   -25.0661,       5256,   114.4,  20.3018,  36.9884,2,  36.9686,2,    221.7,2,   219.4,2,    0.70,2,    0.10,2,    0.01,2,    0.02,2,   2.087,2,   1.278,2,   1.440,2,  2117.4,2,  2420.6,2,   369.1,2,      20,   8.0449,4,    25.00, -999.00,9,  -999.0,9,  -999.0, -999.00,9, -999.00,9,      7.528,2,   0.1223,2,   0.0860,2,   0.0212,3,   0.0147,2,   0.0016,3,   0.0029,2,  -0.0028,4,   0.0320,3,   0.0297,3,     -999.0,5,  -999.0,9,     -999.0,     -999.0,9,     -999.0,20130905,       1508
33RO20130803,       A16N,      78,          1,         19,         19,2,20130905,       1317,    27.0007,   -25.0661,       5256,   172.4,  19.1469,  36.8616,2,  36.8483,2,    196.6,2,   196.2,2,    1.00,2,    2.60,2,    0.03,2,    0.14,2,   2.166,2,   1.313,2,   1.384,2,  2136.1,2,  2409.0,2,   419.6,2,      20,   7.9578,2,    25.00, -999.00,9,  -999.0,9,  -999.0, -999.00,9, -999.00,9,      8.643,2,   0.1260,2,   0.0873,2,   0.0278,2,   0.0213,2,   0.0067,2,   0.0068,3,  -0.0012,4,   0.0265,2,   0.0272,2,     -999.0,5,  -999.0,9,     -999.0,     -999.0,9,     -999.0,20130905,       1505
33RO20130803,       A16N,      78,          1,         18,         18,2,20130905,       1317,    27.0007,   -25.0661,       5256,   258.7,  17.0978,  36.4734,2,  36.4710,2,    193.1,2,   196.7,2,    1.90,2,    5.90,2,    0.01,2,    0.34,2,   2.348,2,   1.397,2,   1.314,2,  2138.7,2,  2386.2,2,   468.0,2,      20,   7.9163,2,    25.00, -999.00,9,  -999.0,9,  -999.0, -999.00,9, -999.00,9,      9.978,2,   0.1117,2,   0.0766,2,   0.0263,2,   0.0211,2,   0.0079,2,   0.0076,3,  -0.0000,4,   0.0250,2,   0.0267,2,     -999.0,5,  -999.0,9,     -999.0,     -999.0,9,     -999.0,20130905,       1502
33RO20130803,       A16N,      78,          1,         17,         17,2,20130905,       1317,    27.0007,   -25.0661,       5256,   338.9,  15.6914,  36.1959,2,  36.2029,2,    186.0,2,   188.1,2,    2.80,2,    8.60,2,    0.01,2,    0.50,2,   2.447,2,   1.437,2,   1.267,2,  2143.4,2,  2368.1,2,   506.8,2,      20,   7.8808,2,    25.00, -999.00,9,  -999.0,9,  -999.0, -999.00,9, -999.00,9,     11.212,2,   0.1055,2,   0.0703,2,   0.0221,2,   0.0174,2,   0.0050,2,   0.0053,3,  -0.0015,4,   0.0272,3,   0.0290,3,     -999.0,5,  -999.0,9,     -999.0,     -999.0,9,     -999.0,20130905,       1500
33RO20130803,       A16N,      78,          1,         16,         16,2,20130905,       1317,    27.0007,   -25.0661,       5256,   448.9,  13.9737,  35.9081,2,  35.9088,2,    189.4,2,   189.7,2,    3.90,2,   11.20,2,    0.01,2,    0.67,2,   2.566,2,   1.469,2,   1.172,2,  2152.5,2,  2357.1,2,   563.8,2,      20,   7.8390,2,    25.00, -999.00,9,  -999.0,9,  -999.0, -999.00,9, -999.00,9,     12.332,2,   0.1025,2,   0.0662,2,   0.0170,3,   0.0122,2,   0.0010,3,   0.0028,3,  -0.0036,3,   0.0322,3,   0.0325,3,     -999.0,5,  -999.0,9,     -999.0,     -999.0,9,     -999.0,20130905,       1457
33RO20130803,       A16N,      78,          1,         15,         15,2,20130905,       1317,    27.0007,   -25.0661,       5256,   548.0,  12.5258,  35.7077,2,  35.7066,2,    183.6,2,   183.9,2,    5.40,2,   14.20,2,    0.01,2,    0.87,2,   2.521,2,   1.400,2,   0.960,2,  2163.2,2,  2340.6,2,   631.4,2,      20,   7.7938,6,    25.00, -999.00,9,  -999.0,9,  -999.0, -999.00,9, -999.00,9,     13.917,2,   0.1061,2,   0.0686,2,   0.0188,3,   0.0134,2,   0.0024,3,   0.0047,3,  -0.0027,4,   0.0308,3,   0.0316,3,     -999.0,5,  -999.0,9,     -999.0,     -999.0,9,     -999.0,20130905,       1454
33RO20130803,       A16N,      78,          1,         14,         14,2,20130905,       1317,    27.0007,   -25.0661,       5256,   698.6,  10.6766,  35.5071,2,  35.5072,2,    161.9,2,   162.7,2,    9.30,2,   19.40,2,    0.00,2,    1.22,2,   1.808,2,   0.953,2,   0.498,2,  2185.3,2,  2336.9,2,   741.9,2,      20,   7.7290,2,    25.00, -999.00,9,  -999.0,9,  -999.0, -999.00,9, -999.00,9,     16.839,2,   0.1430,2,   0.0969,2,   0.0392,2,   0.0292,3,   0.0154,3,   0.0125,4,   0.0023,3,   0.0221,3,   0.0243,3,     -999.0,5,  -999.0,9,     -999.0,     -999.0,9,     -999.0,20130905,       1450
33RO20130803,       A16N,      78,          1,         13,         13,2,20130905,       1317,    27.0007,   -25.0661,       5256,   847.8,   9.1695,  35.3822,2,  35.3830,2,    152.6,2,   153.5,2,   13.20,2,   22.70,2,    0.00,2,    1.46,2,   0.987,2,   0.513,2,   0.218,2,  2198.2,2,  2330.0,2,   810.4,2,      20,   7.6906,2,    25.00, -999.00,9,  -999.0,9,  -999.0, -999.00,9, -999.00,9,     18.624,2,   0.1259,2,   0.0825,2,   0.0283,2,   0.0200,2,   0.0075,2,   0.0064,3,  -0.0014,4,   0.0260,2,   0.0280,2,     -999.0,5,  -999.0,9,     -999.0,     -999.0,9,     -999.0,20130905,       1446
33RO20130803,       A16N,      78,          1,         12,         12,2,20130905,       1317,    27.0007,   -25.0661,       5256,  1048.0,   7.7073,  35.3158,2,  35.3191,2,    164.5,2,   164.6,2,   16.00,2,   23.40,2,    0.00,2,    1.54,2,   0.532,2,   0.278,2,   0.091,2,  2202.4,2,  2337.5,2,   826.6,2,      20,   7.6844,2,    25.00, -999.00,9,  -999.0,9,  -999.0, -999.00,9, -999.00,9,     18.199,2,   0.1309,2,   0.0843,2,   0.0257,2,   0.0163,2,   0.0036,3,   0.0032,3,  -0.0035,3,   0.0290,2,   0.0302,2,     -999.0,5,  -999.0,9,     -999.0,     -999.0,9,     -999.0,20130905,       1442
33RO20130803,       A16N,      78,          1,         11,         11,2,20130905,       1317,    27.0007,   -25.0661,       5256,  1199.0,   7.3021,  35.3656,2,  35.3687,2,    178.7,2,   178.5,2,   16.10,2,   21.90,2,    0.01,2,    1.46,2,   0.540,2,   0.282,2,   0.105,2,  2198.6,6,  2338.3,6,   791.0,2,      20,   7.7053,2,    25.00, -999.00,9,  -999.0,9,  -999.0, -999.00,9, -999.00,9,     16.903,2,   0.1092,2,   0.0692,2,   0.0196,2,   0.0129,2,   0.0020,3,   0.0022,3,  -0.0035,3,   0.0307,3,   0.0320,3,     -999.0,5,  -999.0,9,     -999.0,     -999.0,9,     -999.0,20130905,       1438
33RO20130803,       A16N,      78,          1,         10,         10,2,20130905,       1317,    27.0007,   -25.0661,       5256,  1449.3,   6.2272,  35.3048,2,  35.3065,2,    201.1,2,   201.5,2,   17.10,2,   20.90,2,    0.01,2,    1.38,2,   0.482,2,   0.247,2,   0.073,2,  2192.2,2,  2339.8,2,   766.4,2,      20,   7.7209,2,    25.00, -999.00,9,  -999.0,9,  -999.0, -999.00,9, -999.00,9,     15.366,2,   0.1430,2,   0.0878,2,   0.0313,2,   0.0216,2,   0.0089,2,   0.0078,3,   0.0001,4,   0.0259,2,   0.0296,2,     -999.0,5,  -999.0,9,     -999.0,     -999.0,9,     -999.0,20130905,       1432
33RO20130803,       A16N,      78,          1,          9,          9,2,20130905,       1317,    27.0007,   -25.0661,       5256,  1773.7,   4.9496,  35.1781,2,  35.1777,2,    223.1,2,   221.8,2,   19.50,2,   20.10,2,    0.01,2,    1.36,2,   0.360,2,   0.181,2,   0.058,2,  2185.3,2,  2331.6,3,   753.3,2,      20,   7.7248,2,    25.00, -999.00,9,  -999.0,9,  -999.0, -999.00,9, -999.00,9,     14.403,2,   0.1599,2,   0.1103,2,   0.0418,2,   0.0286,2,   0.0138,2,   0.0109,3,   0.0011,3,   0.0236,2,   0.0247,2,     -999.0,5,  -999.0,9,     -999.0,     -999.0,9,     -999.0,20130905,       1426
33RO20130803,       A16N,      78,          1,          8,          8,2,20130905,       1317,    27.0007,   -25.0661,       5256,  2196.9,   3.7654,  35.0439,2,  35.0432,2,    238.1,2,   237.7,2,   23.80,2,   20.10,2,    0.01,2,    1.36,2,   0.139,2,   0.070,2,   0.010,2,  2182.5,2,  2333.3,2,   744.7,2,      20,   7.7276,2,    25.00, -999.00,9,  -999.0,9,  -999.0, -999.00,9, -999.00,9,     13.704,2,   0.1233,2,   0.0781,2,   0.0221,2,   0.0131,2,   0.0015,3,   0.0023,3,  -0.0040,3,   0.0311,3,   0.0318,3,     -999.0,5,  -999.0,9,     -999.0,     -999.0,9,     -999.0,20130905,       1418
33RO20130803,       A16N,      78,          1,          7,          7,2,20130905,       1317,    27.0007,   -25.0661,       5256,  2598.8,   3.0889,  34.9722,2,  34.9708,2,    246.2,2,   245.8,2,   28.70,2,   20.20,2,    0.00,2,    1.37,2,   0.121,2,   0.062,2,   0.026,2,  2183.9,2,  2329.7,3,   743.2,2,      20,   7.7319,2,    25.00, -999.00,9,  -999.0,9,  -999.0, -999.00,9, -999.00,9,     13.415,2,   0.1358,2,   0.0881,2,   0.0251,2,   0.0144,2,   0.0020,3,   0.0021,3,  -0.0037,3,   0.0307,2,   0.0308,2,     -999.0,5,  -999.0,9,     -999.0,     -999.0,9,     -999.0,20130905,       1410
33RO20130803,       A16N,      78,          1,          6,          6,2,20130905,       1317,    27.0007,   -25.0661,       5256,  2999.1,   2.7609,  34.9397,2,  34.9389,2,    245.7,2,   245.3,2,   34.20,2,   20.90,2,    0.00,2,    1.42,2,   0.089,2,   0.046,2,   0.044,2,  2189.6,2,  2339.4,2,   740.6,2,      20,   7.7293,2,    25.00, -999.00,9,  -999.0,9,  -999.0, -999.00,9, -999.00,9,     13.416,2,   0.1185,2,   0.0751,2,   0.0224,2,   0.0140,2,   0.0028,3,   0.0032,3,  -0.0030,3,   0.0298,3,   0.0312,3,     -999.0,5,  -999.0,9,     -999.0,     -999.0,9,     -999.0,20130905,       1402
33RO20130803,       A16N,      78,          1,          5,          5,2,20130905,       1317,    27.0007,   -25.0661,       5256,  3499.6,   2.5352,  34.9151,2,  34.9157,2,    243.4,2,     244,2,   40.00,2,   21.60,2,    0.00,2,    1.47,2,   0.028,2,   0.014,2,   0.000,2,  2192.4,2,  2342.2,3,  -999.0,5, -999.00,   7.7282,2,    25.00, -999.00,9,  -999.0,9,  -999.0, -999.00,9, -999.00,9,     13.597,2,-999.0000,5,-999.0000,5,-999.0000,5,-999.0000,5,-999.0000,5,-999.0000,5,-999.0000,5,-999.0000,5,-999.0000,5,     -999.0,5,  -999.0,9,     -999.0,     -999.0,9,     -999.0,20130905,       1352
33RO20130803,       A16N,      78,          1,          4,          4,2,20130905,       1317,    27.0007,   -25.0661,       5256,  3898.3,   2.4544,  34.9034,2,  34.9039,2,    242.8,2,   243.8,2,   42.60,6,   21.90,6,    0.00,6,    1.50,6,   0.010,2,   0.005,2,   0.018,2,  2195.6,2,  2348.1,6,   753.3,2,      20,   7.7262,2,    25.00, -999.00,9,  -999.0,9,  -999.0, -999.00,9, -999.00,9,     13.721,2,   0.1311,2,   0.0789,2,   0.0204,3,   0.0109,2,  -0.0003,4,   0.0008,3,  -0.0044,4,   0.0340,3,   0.0347,3,     -999.0,5,  -999.0,9,     -999.0,     -999.0,9,     -999.0,20130905,       1345
33RO20130803,       A16N,      78,          1,          3,          3,2,20130905,       1317,    27.0007,   -25.0661,       5256,  4398.3,   2.4037,  34.8930,2,  34.8927,2,    242.6,2,   243.7,2,   45.00,6,   22.10,6,    0.01,6,    1.52,6,   0.005,6,   0.004,6,   0.011,6,  2198.7,2,  2346.2,2,   756.1,2,      20,   7.7271,2,    25.00, -999.00,9,  -999.0,9,  -999.0, -999.00,9, -999.00,9,     13.775,6,   0.1178,2,   0.0741,2,   0.0193,3,   0.0107,2,  -0.0001,4,   0.0003,4,  -0.0046,4,   0.0333,3,   0.0331,3,     -999.0,5,  -999.0,9,     -999.0,     -999.0,9,     -999.0,20130905,       1335
33RO20130803,       A16N,      78,          1,          2,          2,2,20130905,       1317,    27.0007,   -25.0661,       5256,  4898.2,   2.4000,  34.8862,2,  34.8861,2,    243.1,2,   244.1,2,   46.40,6,   22.20,6,    0.00,6,    1.53,6,   0.009,2,   0.007,2,   0.014,2,  2199.3,2,  2353.1,2,   757.4,2,      20,   7.7263,6,    25.00, -999.00,9,  -999.0,9,  -999.0, -999.00,9, -999.00,9,     13.799,2,   0.1185,2,   0.0757,2,   0.0225,2,   0.0136,2,   0.0025,3,   0.0026,3,  -0.0031,3,   0.0300,3,   0.0310,3,     -999.0,5,  -999.0,9,     -999.0,     -999.0,9,     -999.0,20130905,       1326
33RO20130803,       A16N,      78,          1,          1,          1,2,20130905,       1317,    27.0007,   -25.0661,       5256,  5329.2,   2.4411,  34.8840,2,  34.8844,2,    244.2,2,   246.1,2,   46.80,6,   22.30,6,    0.01,6,    1.53,6,   0.010,2,   0.007,2,   0.000,2,  2201.9,2,  2348.9,2,   748.5,2,      20,   7.7311,2,    25.00, -999.00,9,  -999.0,9,  -999.0, -999.00,9, -999.00,9,     13.871,2,-999.0000,9,-999.0000,9,-999.0000,9,-999.0000,9,-999.0000,9,-999.0000,9,-999.0000,9,-999.0000,9,-999.0000,9,     -999.0,5,  -999.0,9,     -999.0,     -999.0,9,     -999.0,20130905,       1317