BOTTLE,20220815CCHSIOAMB
EXPOCODE,SECT_ID,STNNBR,CASTNO,SAMPNO,BTLNBR,BTLNBR_FLAG_W,DATE,TIME,LATITUDE,LONGITUDE,DEPTH,CTDPRS,CTDTMP,CTDSAL,CTDSAL_FLAG_W,SALNTY,SALNTY_FLAG_W,CTDOXY,CTDOXY_FLAG_W,OXYGEN,OXYGEN_FLAG_W,SILCAT,SILCAT_FLAG_W,NITRAT,NITRAT_FLAG_W,NITRIT,NITRIT_FLAG_W,PHSPHT,PHSPHT_FLAG_W,CFC-11,CFC-11_FLAG_W,CFC-12,CFC-12_FLAG_W,SF6,SF6_FLAG_W,TCARBN,TCARBN_FLAG_W,ALKALI,ALKALI_FLAG_W,PCO2,PCO2_FLAG_W,PCO2TMP,PH_SWS,PH_SWS_FLAG_W,PH_TMP,DELC13,DELC13_FLAG_W,DELC14,DELC14_FLAG_W,C14ERR,DOC,DOC_FLAG_W,TDN,TDN_FLAG_W,N2O,N2O_FLAG_W,CDOM325,CDOM325_FLAG_W,CDOM340,CDOM340_FLAG_W,CDOM380,CDOM380_FLAG_W,CDOM412,CDOM412_FLAG_W,CDOM443,CDOM443_FLAG_W,CDOM490,CDOM490_FLAG_W,CDOM555,CDOM555_FLAG_W,CDOMSL,CDOMSL_FLAG_W,CDOMSN,CDOMSN_FLAG_W,CCL4,CCL4_FLAG_W,14C-DOC,14C-DOC_FLAG_W,14C-DOCERR,13C-DOC,13C-DOC_FLAG_W,13C-DOCERR,BTL_DATE,BTL_TIME
,,,,,,,,,,,METERS,DBAR,ITS-90,PSS-78,,PSS-78,,UMOL/KG,,UMOL/KG,,UMOL/KG,,UMOL/KG,,UMOL/KG,,UMOL/KG,,PMOL/KG,,PMOL/KG,,FMOL/KG,,UMOL/KG,,UMOL/KG,,UATM,,DEG C,,,DEG C,/MILLE,,/MILLE,,/MILLE,UMOL/KG,,UMOL/KG,,NMOL/KG,,1/M,,1/M,,1/M,,1/M,,1/M,,1/M,,1/M,,1/NM,,1/NM,,PMOL/KG,,/MILLE,,/MILLE,/MILLE,,/MILLE,,
33RO20130803,       A16N,      72,          1,         24,         24,2,20130903,       1516,    30.0008,   -23.3668,       5260,     3.0,  24.1145,  37.2495,2,  37.2504,2,    209.5,2,   211.2,2,    0.40,2,    0.00,2,    0.00,2,    0.00,2,   1.781,2,   1.117,2,   1.298,2,  2117.0,6,  2435.8,2,   346.4,2,      20,   8.0248,2,    25.00,    1.05,2,    59.5,2,     0.2, -999.00,9, -999.00,9,      6.607,2,-999.0000,9,-999.0000,9,-999.0000,9,-999.0000,9,-999.0000,9,-999.0000,9,-999.0000,9,-999.0000,9,-999.0000,9,     -999.0,5,  -999.0,9,     -999.0,     -999.0,9,     -999.0,20130903,       1718
33RO20130803,       A16N,      72,          1,         23,         23,2,20130903,       1516,    30.0008,   -23.3668,       5260,    31.8,  23.9018,  37.2357,2,  37.2342,2,    211.2,2,   212.3,2,    0.40,2,    0.00,2,    0.00,2,    0.00,2,   1.802,6,   1.124,6,   1.340,6,  2117.0,2,  2434.6,2,   347.1,2,      20,   8.0246,2,    25.00,    1.06,2,    63.3,2,     0.3, -999.00,9, -999.00,9,      6.634,6,-999.0000,9,-999.0000,9,-999.0000,9,-999.0000,9,-999.0000,9,-999.0000,9,-999.0000,9,-999.0000,9,-999.0000,9,     -999.0,5,  -999.0,9,     -999.0,     -999.0,9,     -999.0,20130903,       1715
33RO20130803,       A16N,      72,          1,         22,         22,2,20130903,       1516,    30.0008,   -23.3668,       5260,    64.7,  22.5858,  37.0302,2,  37.0124,2,    221.7,2,   224.6,2,    0.40,2,    0.00,2,    0.00,2,    0.00,2,   1.810,2,   1.177,2,   1.292,2,  2107.7,2,  2420.9,2,   346.9,2,      20,   8.0233,2,    25.00,    0.98,2,    59.9,2,     0.3, -999.00,9, -999.00,9,      6.050,2,-999.0000,9,-999.0000,9,-999.0000,9,-999.0000,9,-999.0000,9,-999.0000,9,-999.0000,9,-999.0000,9,-999.0000,9,     -999.0,5,  -999.0,9,     -999.0,     -999.0,9,     -999.0,20130903,       1713
33RO20130803,       A16N,      72,          1,         21,         21,2,20130903,       1516,    30.0008,   -23.3668,       5260,    87.0,  20.4760,  36.8412,2,  36.8534,2,    232.5,2,   231.3,2,    0.40,2,    0.00,2,    0.00,2,    0.01,2,   2.113,2,   1.292,2,   1.429,2,  2104.8,2,  2398.0,3,   354.6,2,      20,   8.0147,2,    25.00,    0.93,2,    63.2,2,     0.3, -999.00,9, -999.00,9,      7.473,2,-999.0000,9,-999.0000,9,-999.0000,9,-999.0000,9,-999.0000,9,-999.0000,9,-999.0000,9,-999.0000,9,-999.0000,9,     -999.0,5,  -999.0,9,     -999.0,     -999.0,9,     -999.0,20130903,       1711
33RO20130803,       A16N,      72,          1,         20,         20,2,20130903,       1516,    30.0008,   -23.3668,       5260,   111.6,  19.7266,  36.8078,2,  36.8095,2,    224.2,2,   223.1,2,    0.50,2,    0.10,2,    0.01,2,    0.01,2,   2.145,2,   1.305,2,   1.452,2,  2109.5,2,  2402.2,3,   370.5,2,      20,   8.0010,2,    25.00,    0.79,2,    56.7,2,     0.2, -999.00,9, -999.00,9,      7.614,2,-999.0000,9,-999.0000,9,-999.0000,9,-999.0000,9,-999.0000,9,-999.0000,9,-999.0000,9,-999.0000,9,-999.0000,9,     -999.0,5,  -999.0,9,     -999.0,     -999.0,9,     -999.0,20130903,       1709
33RO20130803,       A16N,      72,          1,         19,         19,2,20130903,       1516,    30.0008,   -23.3668,       5260,   173.4,  18.3341,  36.6317,2,  36.6249,2,    202.5,2,     201,2,    1.10,2,    3.10,2,    0.02,2,    0.17,2,   2.242,2,   1.350,2,   1.374,2,  2127.4,2,  2402.1,2,   419.2,2,      20,   7.9527,2,    25.00,    0.60,2,    61.4,2,     0.2, -999.00,9, -999.00,9,      8.607,2,-999.0000,9,-999.0000,9,-999.0000,9,-999.0000,9,-999.0000,9,-999.0000,9,-999.0000,9,-999.0000,9,-999.0000,9,     -999.0,5,  -999.0,9,     -999.0,     -999.0,9,     -999.0,20130903,       1706
33RO20130803,       A16N,      72,          1,         18,         18,2,20130903,       1516,    30.0008,   -23.3668,       5260,   261.2,  17.0685,  36.4373,2,  36.4355,2,    197.5,2,   197.6,2,    1.70,2,    5.60,2,    0.01,2,    0.32,2,   2.352,2,   1.400,2,   1.296,2,  2131.8,2,  2383.1,2,   453.3,2,      20,   7.9256,2,    25.00,    0.58,2,    60.8,2,     0.2, -999.00,9, -999.00,9,      9.488,2,-999.0000,9,-999.0000,9,-999.0000,9,-999.0000,9,-999.0000,9,-999.0000,9,-999.0000,9,-999.0000,9,-999.0000,9,     -999.0,5,  -999.0,9,     -999.0,     -999.0,9,     -999.0,20130903,       1703
33RO20130803,       A16N,      72,          1,         17,         17,2,20130903,       1516,    30.0008,   -23.3668,       5260,   336.5,  15.6607,  36.1593,2,  36.1471,2,    195.3,2,     196,2,    2.70,2,    8.10,2,    0.01,2,    0.48,2,   2.447,2,   1.431,2,   1.287,2,  2137.6,2,  2370.4,2,   492.9,2,      20,   7.8915,2,    25.00,    0.43,2,    56.1,2,     0.2, -999.00,9, -999.00,9,     10.565,2,-999.0000,9,-999.0000,9,-999.0000,9,-999.0000,9,-999.0000,9,-999.0000,9,-999.0000,9,-999.0000,9,-999.0000,9,     -999.0,5,  -999.0,9,     -999.0,     -999.0,9,     -999.0,20130903,       1701
33RO20130803,       A16N,      72,          1,         16,         16,2,20130903,       1516,    30.0008,   -23.3668,       5260,   448.5,  13.8723,  35.8741,2,  35.8657,2,    194.5,2,   194.6,2,    4.00,2,   11.00,2,    0.00,2,    0.66,2,   2.554,2,   1.462,2,   1.204,2,  2147.2,2,  2353.7,2,   555.8,2,      20,   7.8429,2,    25.00,    0.56,2,    46.9,2,     0.2, -999.00,9, -999.00,9,     12.054,2,-999.0000,9,-999.0000,9,-999.0000,9,-999.0000,9,-999.0000,9,-999.0000,9,-999.0000,9,-999.0000,9,-999.0000,9,     -999.0,5,  -999.0,9,     -999.0,     -999.0,9,     -999.0,20130903,       1657
33RO20130803,       A16N,      72,          1,         15,         15,2,20130903,       1516,    30.0008,   -23.3668,       5260,   548.1,  12.4997,  35.6955,2,  35.6946,2,    190.0,2,   189.6,2,    5.30,2,   13.70,2,    0.01,2,    0.83,2,   2.526,2,   1.408,2,   1.042,2,  -999.0,5,  2359.9,3,   608.6,2,      20,   7.8012,2,    25.00,    0.46,2,    33.6,2,     0.2, -999.00,9, -999.00,9,     13.538,2,-999.0000,9,-999.0000,9,-999.0000,9,-999.0000,9,-999.0000,9,-999.0000,9,-999.0000,9,-999.0000,9,-999.0000,9,     -999.0,5,  -999.0,9,     -999.0,     -999.0,9,     -999.0,20130903,       1654
33RO20130803,       A16N,      72,          1,         14,         14,2,20130903,       1516,    30.0008,   -23.3668,       5260,   723.9,  10.6588,  35.5144,2,  35.5129,2,    178.2,2,   176.4,2,    8.50,2,   17.90,2,    0.00,2,    1.11,2,   2.089,2,   1.108,2,   0.648,2,  2174.6,2,  2335.3,2,  -999.0,5,      20,   7.7447,2,    25.00,    0.59,2,    10.8,2,     0.2, -999.00,9, -999.00,9,     15.782,2,-999.0000,9,-999.0000,9,-999.0000,9,-999.0000,9,-999.0000,9,-999.0000,9,-999.0000,9,-999.0000,9,-999.0000,9,     -999.0,5,  -999.0,9,     -999.0,     -999.0,9,     -999.0,20130903,       1650
33RO20130803,       A16N,      72,          1,         13,         13,2,20130903,       1516,    30.0008,   -23.3668,       5260,   873.8,   9.5550,  35.4954,2,  35.4935,2,    172.5,2,   172.6,2,   11.00,2,   19.70,2,    0.00,2,    1.24,2,   1.527,2,   0.792,2,   0.377,2,  2186.7,2,  2320.4,4,   745.9,2,      20,   7.7268,2,    25.00,    0.62,2,   -15.9,2,     0.2, -999.00,9, -999.00,9,     16.519,2,-999.0000,9,-999.0000,9,-999.0000,9,-999.0000,9,-999.0000,9,-999.0000,9,-999.0000,9,-999.0000,9,-999.0000,9,     -999.0,5,  -999.0,9,     -999.0,     -999.0,9,     -999.0,20130903,       1646
33RO20130803,       A16N,      72,          1,         12,         12,2,20130903,       1516,    30.0008,   -23.3668,       5260,  1024.0,   8.0316,  35.3924,2,  35.3918,2,    177.0,2,   177.1,2,   13.90,2,   21.40,2,    0.00,2,    1.37,2,   0.924,2,   0.473,2,   0.195,2,  2191.8,6,  2337.2,2,   784.7,2,      20,   7.7098,2,    25.00,    0.68,2,   -42.2,2,     0.2, -999.00,9, -999.00,9,     16.870,2,-999.0000,9,-999.0000,9,-999.0000,9,-999.0000,9,-999.0000,9,-999.0000,9,-999.0000,9,-999.0000,9,-999.0000,9,     -999.0,5,  -999.0,9,     -999.0,     -999.0,9,     -999.0,20130903,       1642
33RO20130803,       A16N,      72,          1,         11,         11,2,20130903,       1516,    30.0008,   -23.3668,       5260,  1173.8,   7.4330,  35.3986,2,  35.3979,2,    188.6,2,   188.7,2,   14.40,2,   20.70,2,    0.00,2,    1.34,2,   0.849,2,   0.432,2,   0.150,2,  2190.0,2,  2336.2,2,   769.2,2,      20,   7.7178,2,    25.00,    0.82,2,   -41.4,2,     0.4, -999.00,9, -999.00,9,     16.030,2,-999.0000,9,-999.0000,9,-999.0000,9,-999.0000,9,-999.0000,9,-999.0000,9,-999.0000,9,-999.0000,9,-999.0000,9,     -999.0,5,  -999.0,9,     -999.0,     -999.0,9,     -999.0,20130903,       1638
33RO20130803,       A16N,      72,          1,         10,         10,2,20130903,       1516,    30.0008,   -23.3668,       5260,  1548.5,   5.7580,  35.2733,2,  35.2720,2,    218.8,2,   218.4,2,   15.90,2,   19.50,2,    0.00,2,    1.27,2,   0.787,2,   0.392,2,   0.129,2,  2183.7,2,  2337.4,2,   748.3,2,      20,   7.7277,2,    25.00,    0.93,2,   -53.6,2,     0.3, -999.00,9, -999.00,9,     14.463,2,-999.0000,9,-999.0000,9,-999.0000,9,-999.0000,9,-999.0000,9,-999.0000,9,-999.0000,9,-999.0000,9,-999.0000,9,     -999.0,5,  -999.0,9,     -999.0,     -999.0,9,     -999.0,20130903,       1630
33RO20130803,       A16N,      72,          1,          9,          9,2,20130903,       1516,    30.0008,   -23.3668,       5260,  1873.7,   4.6509,  35.1502,2,  35.1504,2,    233.5,2,   233.3,2,   18.50,2,   19.30,2,    0.00,2,    1.28,2,   0.534,2,   0.269,2,   0.109,2,  2179.1,2,  2332.7,6,   743.6,2,      20,   7.7317,2,    25.00,    0.90,2,   -71.1,2,     0.2, -999.00,9, -999.00,9,     13.808,2,-999.0000,9,-999.0000,9,-999.0000,9,-999.0000,9,-999.0000,9,-999.0000,9,-999.0000,9,-999.0000,9,-999.0000,9,     -999.0,5,  -999.0,9,     -999.0,     -999.0,9,     -999.0,20130903,       1624
33RO20130803,       A16N,      72,          1,          8,          8,2,20130903,       1516,    30.0008,   -23.3668,       5260,  2299.1,   3.5686,  35.0232,2,  35.0225,2,    244.2,2,   244.9,2,   23.90,2,   19.60,2,    0.00,2,    1.31,2,   0.263,2,   0.135,2,   0.017,2,  2178.6,2,  2331.5,2,   744.2,2,      20,   7.7306,6,    25.00,    0.95,2,   -84.8,2,     0.2, -999.00,9, -999.00,9,     13.357,2,-999.0000,9,-999.0000,9,-999.0000,9,-999.0000,9,-999.0000,9,-999.0000,9,-999.0000,9,-999.0000,9,-999.0000,9,     -999.0,5,  -999.0,9,     -999.0,     -999.0,9,     -999.0,20130903,       1615
33RO20130803,       A16N,      72,          1,          7,          7,2,20130903,       1516,    30.0008,   -23.3668,       5260,  2699.0,   3.0090,  34.9658,2,  34.9647,2,    244.3,2,   245.7,2,   30.60,2,   20.30,2,    0.00,2,    1.36,2,   0.113,2,   0.060,2,   0.011,2,  2185.2,2,  2338.0,2,   747.3,2,      20,   8.5420,4,    25.00,    0.82,3,  -106.2,2,     0.2, -999.00,9, -999.00,9,     13.312,2,-999.0000,9,-999.0000,9,-999.0000,9,-999.0000,9,-999.0000,9,-999.0000,9,-999.0000,9,-999.0000,9,-999.0000,9,     -999.0,5,  -999.0,9,     -999.0,     -999.0,9,     -999.0,20130903,       1607
33RO20130803,       A16N,      72,          1,          6,          6,2,20130903,       1516,    30.0008,   -23.3668,       5260,  3123.8,   2.6982,  34.9351,2,  34.9352,2,    243.0,2,   243.6,2,   36.70,2,   21.10,2,    0.00,2,    1.42,2,   0.049,2,   0.028,2,   0.007,2,  2191.5,2,  2345.0,2,   746.4,2,      20,   7.7313,2,    25.00,    0.89,2,  -117.4,2,     0.2, -999.00,9, -999.00,9,     13.472,2,-999.0000,9,-999.0000,9,-999.0000,9,-999.0000,9,-999.0000,9,-999.0000,9,-999.0000,9,-999.0000,9,-999.0000,9,     -999.0,5,  -999.0,9,     -999.0,     -999.0,9,     -999.0,20130903,       1559
33RO20130803,       A16N,      72,          1,          5,          5,2,20130903,       1516,    30.0008,   -23.3668,       5260,  3572.7,   2.5227,  34.9142,2,  34.9126,2,    242.6,2,   243.8,2,   41.20,2,   21.70,2,    0.00,2,    1.46,2,   0.011,2,   0.010,2,   0.018,2,  2194.6,2,  2347.9,2,   746.4,2,      20,   7.7283,2,    25.00,    0.89,2,  -115.8,2,     0.2, -999.00,9, -999.00,9,     13.437,2,-999.0000,9,-999.0000,9,-999.0000,9,-999.0000,9,-999.0000,9,-999.0000,9,-999.0000,9,-999.0000,9,-999.0000,9,     -999.0,5,  -999.0,9,     -999.0,     -999.0,9,     -999.0,20130903,       1550
33RO20130803,       A16N,      72,          1,          4,          4,2,20130903,       1516,    30.0008,   -23.3668,       5260,  4023.7,   2.4439,  34.9015,2,  34.9032,2,    243.1,2,   244.1,2,   43.50,6,   22.00,6,    0.00,6,    1.47,6,   0.004,2,   0.006,2,   0.039,3,  2196.1,2,  2350.8,2,   748.6,2,      20,   7.7272,2,    25.00,    0.89,2,  -120.6,2,     0.2, -999.00,9, -999.00,9,     13.600,2,-999.0000,9,-999.0000,9,-999.0000,9,-999.0000,9,-999.0000,9,-999.0000,9,-999.0000,9,-999.0000,9,-999.0000,9,     -999.0,5,  -999.0,9,     -999.0,     -999.0,9,     -999.0,20130903,       1542
33RO20130803,       A16N,      72,          1,          3,          3,2,20130903,       1516,    30.0008,   -23.3668,       5260,  4474.3,   2.3986,  34.8916,2,  34.8908,2,    243.1,2,   244.1,2,   45.60,6,   22.20,6,    0.00,6,    1.49,6,   0.001,2,   0.004,2,   0.000,2,  2198.2,2,  2354.4,2,   748.5,2,      20,   7.7261,2,    25.00,    0.95,2,  -115.3,2,     0.3, -999.00,9, -999.00,9,     13.686,2,-999.0000,9,-999.0000,9,-999.0000,9,-999.0000,9,-999.0000,9,-999.0000,9,-999.0000,9,-999.0000,9,-999.0000,9,     -999.0,5,  -999.0,9,     -999.0,     -999.0,9,     -999.0,20130903,       1533
33RO20130803,       A16N,      72,          1,          2,          2,2,20130903,       1516,    30.0008,   -23.3668,       5260,  4922.6,   2.4121,  34.8870,2,  34.8872,2,    243.5,2,   243.9,2,   46.70,6,   22.20,6,    0.00,6,    1.49,6,   0.002,2,   0.004,2,   0.000,2,  2201.1,6,  2353.8,6,   745.1,2,      20,   7.7252,2,    25.00,    0.95,2,  -110.4,2,     0.2, -999.00,9, -999.00,9,     13.717,2,-999.0000,9,-999.0000,9,-999.0000,9,-999.0000,9,-999.0000,9,-999.0000,9,-999.0000,9,-999.0000,9,-999.0000,9,     -999.0,5,  -999.0,9,     -999.0,     -999.0,9,     -999.0,20130903,       1525
33RO20130803,       A16N,      72,          1,          1,          1,2,20130903,       1516,    30.0008,   -23.3668,       5260,  5328.6,   2.4526,  34.8852,2,  34.8855,2,    244.0,2,   243.4,2,   47.00,6,   22.30,6,    0.00,6,    1.49,6,   0.004,6,   0.006,6,   0.000,6,  2200.5,2,  2354.1,2,   734.8,2,      20,   7.7248,6,    25.00,    0.98,2,  -115.9,2,     0.2, -999.00,9, -999.00,9,     13.818,6,-999.0000,9,-999.0000,9,-999.0000,9,-999.0000,9,-999.0000,9,-999.0000,9,-999.0000,9,-999.0000,9,-999.0000,9,     -999.0,5,  -999.0,9,     -999.0,     -999.0,9,     -999.0,20130903,       1516