BOTTLE,20220815CCHSIOAMB
EXPOCODE,SECT_ID,STNNBR,CASTNO,SAMPNO,BTLNBR,BTLNBR_FLAG_W,DATE,TIME,LATITUDE,LONGITUDE,DEPTH,CTDPRS,CTDTMP,CTDSAL,CTDSAL_FLAG_W,SALNTY,SALNTY_FLAG_W,CTDOXY,CTDOXY_FLAG_W,OXYGEN,OXYGEN_FLAG_W,SILCAT,SILCAT_FLAG_W,NITRAT,NITRAT_FLAG_W,NITRIT,NITRIT_FLAG_W,PHSPHT,PHSPHT_FLAG_W,CFC-11,CFC-11_FLAG_W,CFC-12,CFC-12_FLAG_W,SF6,SF6_FLAG_W,TCARBN,TCARBN_FLAG_W,ALKALI,ALKALI_FLAG_W,PCO2,PCO2_FLAG_W,PCO2TMP,PH_SWS,PH_SWS_FLAG_W,PH_TMP,DELC13,DELC13_FLAG_W,DELC14,DELC14_FLAG_W,C14ERR,DOC,DOC_FLAG_W,TDN,TDN_FLAG_W,N2O,N2O_FLAG_W,CDOM325,CDOM325_FLAG_W,CDOM340,CDOM340_FLAG_W,CDOM380,CDOM380_FLAG_W,CDOM412,CDOM412_FLAG_W,CDOM443,CDOM443_FLAG_W,CDOM490,CDOM490_FLAG_W,CDOM555,CDOM555_FLAG_W,CDOMSL,CDOMSL_FLAG_W,CDOMSN,CDOMSN_FLAG_W,CCL4,CCL4_FLAG_W,14C-DOC,14C-DOC_FLAG_W,14C-DOCERR,13C-DOC,13C-DOC_FLAG_W,13C-DOCERR,BTL_DATE,BTL_TIME
,,,,,,,,,,,METERS,DBAR,ITS-90,PSS-78,,PSS-78,,UMOL/KG,,UMOL/KG,,UMOL/KG,,UMOL/KG,,UMOL/KG,,UMOL/KG,,PMOL/KG,,PMOL/KG,,FMOL/KG,,UMOL/KG,,UMOL/KG,,UATM,,DEG C,,,DEG C,/MILLE,,/MILLE,,/MILLE,UMOL/KG,,UMOL/KG,,NMOL/KG,,1/M,,1/M,,1/M,,1/M,,1/M,,1/M,,1/M,,1/NM,,1/NM,,PMOL/KG,,/MILLE,,/MILLE,/MILLE,,/MILLE,,
33RO20130803,       A16N,       3,          2,         18,         18,2,20130804,       0427,    63.1167,   -20.0018,        985,     3.2,  12.1936,  34.9390,2,  34.9409,2,    303.0,2,     303,2,    0.60,2,    0.00,2,    0.01,2,    0.06,2,   3.277,6,   1.900,6,   2.009,6,  2031.0,6,  2310.4,2,   361.2,2,      20,   7.9989,2,    25.00, -999.00,9,  -999.0,9,  -999.0, -999.00,9, -999.00,9,      9.810,6,-999.0000,9,-999.0000,9,-999.0000,9,-999.0000,9,-999.0000,9,-999.0000,9,-999.0000,9,-999.0000,9,-999.0000,9,     -999.0,5,  -999.0,9,     -999.0,     -999.0,9,     -999.0,20130804,       0507
33RO20130803,       A16N,       3,          2,         17,         17,2,20130804,       0427,    63.1167,   -20.0018,        985,    26.1,  10.3949,  35.0254,2,  35.0266,2,    275.3,2,   273.3,2,    1.20,2,    4.50,2,    0.25,2,    0.41,2,-999.000,9,-999.000,9,-999.000,9,  2094.8,2,  2314.9,2,   498.7,2,      20,   7.8798,2,    25.00, -999.00,9,  -999.0,9,  -999.0, -999.00,9, -999.00,9,     -999.0,9,-999.0000,9,-999.0000,9,-999.0000,9,-999.0000,9,-999.0000,9,-999.0000,9,-999.0000,9,-999.0000,9,-999.0000,9,     -999.0,9,  -999.0,9,     -999.0,     -999.0,9,     -999.0,20130804,       0505
33RO20130803,       A16N,       3,          2,         16,         16,2,20130804,       0427,    63.1167,   -20.0018,        985,    54.2,   8.9779,  35.1253,2,  35.1268,2,    263.8,2,     264,2,    2.30,2,   10.80,2,    0.13,2,    0.73,2,   3.574,2,   2.045,2,   2.126,2,  2132.0,2,  2315.9,2,   610.1,2,      20,   7.8058,2,    25.00, -999.00,9,  -999.0,9,  -999.0, -999.00,9, -999.00,9,     11.131,2,-999.0000,9,-999.0000,9,-999.0000,9,-999.0000,9,-999.0000,9,-999.0000,9,-999.0000,9,-999.0000,9,-999.0000,9,     -999.0,5,  -999.0,9,     -999.0,     -999.0,9,     -999.0,20130804,       0503
33RO20130803,       A16N,       3,          2,         15,         15,2,20130804,       0427,    63.1167,   -20.0018,        985,    79.5,   8.5151,  35.1525,2,  35.1520,2,    264.3,2,   264.8,2,    3.30,2,   12.10,2,    0.02,2,    0.80,2,-999.000,9,-999.000,9,-999.000,9,  2142.7,2,  2319.4,2,   637.5,2,      20,   7.7866,2,    25.00, -999.00,9,  -999.0,9,  -999.0, -999.00,9, -999.00,9,     -999.0,9,-999.0000,9,-999.0000,9,-999.0000,9,-999.0000,9,-999.0000,9,-999.0000,9,-999.0000,9,-999.0000,9,-999.0000,9,     -999.0,9,  -999.0,9,     -999.0,     -999.0,9,     -999.0,20130804,       0501
33RO20130803,       A16N,       3,          2,         14,         14,2,20130804,       0427,    63.1167,   -20.0018,        985,   104.7,   8.2946,  35.1620,2,  35.1689,2,    265.3,2,   271.8,4,    4.50,2,   12.80,2,    0.02,2,    0.85,2,   3.546,2,   2.028,2,   2.122,2,  2148.1,2,  2319.7,2,   655.9,2,      20,   7.7810,2,    25.00, -999.00,9,  -999.0,9,  -999.0, -999.00,9, -999.00,9,     11.601,2,-999.0000,9,-999.0000,9,-999.0000,9,-999.0000,9,-999.0000,9,-999.0000,9,-999.0000,9,-999.0000,9,-999.0000,9,     -999.0,5,  -999.0,9,     -999.0,     -999.0,9,     -999.0,20130804,       0459
33RO20130803,       A16N,       3,          2,         13,         13,2,20130804,       0427,    63.1167,   -20.0018,        985,   129.1,   8.1374,  35.1638,2,  35.1634,2,    264.7,2,   265.2,2,    5.20,2,   13.30,2,    0.02,2,    0.86,2,-999.000,9,-999.000,9,-999.000,9,  2149.9,2,  2324.0,2,   664.0,2,      20,   7.7711,2,    25.00, -999.00,9,  -999.0,9,  -999.0, -999.00,9, -999.00,9,     -999.0,9,-999.0000,9,-999.0000,9,-999.0000,9,-999.0000,9,-999.0000,9,-999.0000,9,-999.0000,9,-999.0000,9,-999.0000,9,     -999.0,9,  -999.0,9,     -999.0,     -999.0,9,     -999.0,20130804,       0457
33RO20130803,       A16N,       3,          2,         12,         12,2,20130804,       0427,    63.1167,   -20.0018,        985,   154.1,   8.0691,  35.1694,2,  35.1673,2,    264.5,2,   264.6,2,    5.70,2,   13.60,2,    0.01,2,    0.88,2,   3.527,2,   2.018,2,   2.025,2,  2151.9,2,  -999.0,5,   670.3,2,      20,   7.7670,2,    25.00, -999.00,9,  -999.0,9,  -999.0, -999.00,9, -999.00,9,     11.781,2,-999.0000,9,-999.0000,9,-999.0000,9,-999.0000,9,-999.0000,9,-999.0000,9,-999.0000,9,-999.0000,9,-999.0000,9,     -999.0,5,  -999.0,9,     -999.0,     -999.0,9,     -999.0,20130804,       0455
33RO20130803,       A16N,       3,          2,         11,         11,2,20130804,       0427,    63.1167,   -20.0018,        985,   178.9,   8.0285,  35.1793,2,  35.1784,2,    264.0,2,     265,2,    6.00,2,   13.70,2,    0.01,2,    0.89,2,-999.000,9,-999.000,9,-999.000,9,  2152.7,2,  2319.5,2,   674.4,2,      20,   7.7668,2,    25.00, -999.00,9,  -999.0,9,  -999.0, -999.00,9, -999.00,9,     -999.0,9,-999.0000,9,-999.0000,9,-999.0000,9,-999.0000,9,-999.0000,9,-999.0000,9,-999.0000,9,-999.0000,9,-999.0000,9,     -999.0,9,  -999.0,9,     -999.0,     -999.0,9,     -999.0,20130804,       0453
33RO20130803,       A16N,       3,          2,         10,         10,2,20130804,       0427,    63.1167,   -20.0018,        985,   204.1,   8.0049,  35.1855,2,  35.1837,2,    265.9,2,   265.6,2,    6.00,2,   13.70,2,    0.01,2,    0.89,2,   3.529,2,   2.016,2,   2.104,2,  2154.5,2,  2321.9,2,   673.6,2,      20,   7.7660,2,    25.00, -999.00,9,  -999.0,9,  -999.0, -999.00,9, -999.00,9,     11.745,2,-999.0000,9,-999.0000,9,-999.0000,9,-999.0000,9,-999.0000,9,-999.0000,9,-999.0000,9,-999.0000,9,-999.0000,9,     -999.0,5,  -999.0,9,     -999.0,     -999.0,9,     -999.0,20130804,       0451
33RO20130803,       A16N,       3,          2,          9,          9,2,20130804,       0427,    63.1167,   -20.0018,        985,   260.4,   7.9004,  35.1880,2,  35.1857,2,    265.2,2,   266.1,2,    6.00,2,   13.80,2,    0.01,2,    0.89,2,   3.523,2,   2.017,2,   2.077,2,  2154.3,2,  2317.6,2,   674.7,2,      20,   7.7751,2,    25.00, -999.00,9,  -999.0,9,  -999.0, -999.00,9, -999.00,9,     11.767,2,-999.0000,9,-999.0000,9,-999.0000,9,-999.0000,9,-999.0000,9,-999.0000,9,-999.0000,9,-999.0000,9,-999.0000,9,     -999.0,5,  -999.0,9,     -999.0,     -999.0,9,     -999.0,20130804,       0449
33RO20130803,       A16N,       3,          2,          8,          8,2,20130804,       0427,    63.1167,   -20.0018,        985,   340.4,   7.7551,  35.1819,2,  35.1821,2,    259.8,2,     260,2,    6.80,6,   14.40,6,    0.01,6,    0.94,6,   3.452,2,   1.954,2,   1.829,2,  2158.4,2,  2318.4,2,   690.6,2,      20,   7.7572,2,    25.00, -999.00,9,  -999.0,9,  -999.0, -999.00,9, -999.00,9,     12.365,2,-999.0000,9,-999.0000,9,-999.0000,9,-999.0000,9,-999.0000,9,-999.0000,9,-999.0000,9,-999.0000,9,-999.0000,9,     -999.0,5,  -999.0,9,     -999.0,     -999.0,9,     -999.0,20130804,       0446
33RO20130803,       A16N,       3,          2,          7,          7,2,20130804,       0427,    63.1167,   -20.0018,        985,   416.4,   7.5505,  35.1709,2,  35.1702,2,    255.9,2,   255.5,2,    7.40,2,   15.00,2,    0.01,2,    0.97,2,   3.408,2,   1.922,2,   1.804,2,  2160.4,2,  2318.9,2,   705.1,2,      20,   7.7495,2,    25.00, -999.00,9,  -999.0,9,  -999.0, -999.00,9, -999.00,9,     12.745,2,-999.0000,9,-999.0000,9,-999.0000,9,-999.0000,9,-999.0000,9,-999.0000,9,-999.0000,9,-999.0000,9,-999.0000,9,     -999.0,5,  -999.0,9,     -999.0,     -999.0,9,     -999.0,20130804,       0444
33RO20130803,       A16N,       3,          2,          6,          6,2,20130804,       0427,    63.1167,   -20.0018,        985,   491.6,   7.2042,  35.1567,2,  35.1568,2,    248.6,2,   248.5,2,    8.20,2,   15.70,2,    0.01,2,    1.02,2,   3.297,2,   1.840,2,   1.745,2,  2165.3,2,  2320.6,2,   728.5,2,      20,   7.7365,2,    25.00, -999.00,9,  -999.0,9,  -999.0, -999.00,9, -999.00,9,     13.246,2,-999.0000,9,-999.0000,9,-999.0000,9,-999.0000,9,-999.0000,9,-999.0000,9,-999.0000,9,-999.0000,9,-999.0000,9,     -999.0,5,  -999.0,9,     -999.0,     -999.0,9,     -999.0,20130804,       0441
33RO20130803,       A16N,       3,          2,          5,          5,2,20130804,       0427,    63.1167,   -20.0018,        985,   565.0,   6.8641,  35.1371,2,  35.1364,2,    238.8,2,   239.3,2,    9.20,6,   16.70,6,    0.01,6,    1.08,6,   3.175,2,   1.742,2,   1.501,2,  2169.7,2,  2320.6,2,   757.3,2,      20,   7.7211,2,    25.00, -999.00,9,  -999.0,9,  -999.0, -999.00,9, -999.00,9,     14.018,2,-999.0000,9,-999.0000,9,-999.0000,9,-999.0000,9,-999.0000,9,-999.0000,9,-999.0000,9,-999.0000,9,-999.0000,9,     -999.0,5,  -999.0,9,     -999.0,     -999.0,9,     -999.0,20130804,       0439
33RO20130803,       A16N,       3,          2,          4,          4,2,20130804,       0427,    63.1167,   -20.0018,        985,   673.1,   5.9441,  35.0876,2,  35.0886,2,    244.5,2,   244.4,2,    9.80,2,   16.90,2,    0.01,2,    1.10,2,   3.261,2,   1.777,2,   1.307,2,  2171.1,2,  2319.2,2,   776.6,2,      20,   7.7131,2,    25.00, -999.00,9,  -999.0,9,  -999.0, -999.00,9, -999.00,9,     14.143,2,-999.0000,9,-999.0000,9,-999.0000,9,-999.0000,9,-999.0000,9,-999.0000,9,-999.0000,9,-999.0000,9,-999.0000,9,     -999.0,5,  -999.0,9,     -999.0,     -999.0,9,     -999.0,20130804,       0436
33RO20130803,       A16N,       3,          2,          3,          3,2,20130804,       0427,    63.1167,   -20.0018,        985,   773.4,   5.5608,  35.0754,2,  35.0747,2,    255.5,2,   256.8,2,    9.30,6,   16.00,6,    0.01,6,    1.04,6,   3.471,2,   1.889,2,   1.609,2,  2167.6,2,  2316.1,2,   762.3,2,      20,   7.7184,2,    25.00, -999.00,9,  -999.0,9,  -999.0, -999.00,9, -999.00,9,     13.601,2,-999.0000,9,-999.0000,9,-999.0000,9,-999.0000,9,-999.0000,9,-999.0000,9,-999.0000,9,-999.0000,9,-999.0000,9,     -999.0,5,  -999.0,9,     -999.0,     -999.0,9,     -999.0,20130804,       0432
33RO20130803,       A16N,       3,          2,          2,          2,2,20130804,       0427,    63.1167,   -20.0018,        985,   932.3,   5.2132,  35.0576,2,  35.0594,2,    263.6,2,     263,2,    9.20,6,   15.70,6,    0.00,6,    1.03,6,   3.567,2,   1.931,2,   1.618,2,  2166.7,2,  2314.5,2,   761.2,2,      20,   7.7190,2,    25.00, -999.00,9,  -999.0,9,  -999.0, -999.00,9, -999.00,9,     13.602,2,-999.0000,9,-999.0000,9,-999.0000,9,-999.0000,9,-999.0000,9,-999.0000,9,-999.0000,9,-999.0000,9,-999.0000,9,     -999.0,5,  -999.0,9,     -999.0,     -999.0,9,     -999.0,20130804,       0428
33RO20130803,       A16N,       3,          2,          1,          1,2,20130804,       0427,    63.1167,   -20.0018,        985,   976.1,   5.0849,  35.0493,2,  35.0494,2,    263.1,2,   263.2,2,    9.40,6,   15.70,6,    0.01,6,    1.03,6,   3.560,2,   1.937,2,   1.557,2,  2169.0,6,  2314.9,2,   762.7,2,      20,   7.7169,2,    25.00, -999.00,9,  -999.0,9,  -999.0, -999.00,9, -999.00,9,     13.478,2,-999.0000,9,-999.0000,9,-999.0000,9,-999.0000,9,-999.0000,9,-999.0000,9,-999.0000,9,-999.0000,9,-999.0000,9,     -999.0,5,  -999.0,9,     -999.0,     -999.0,9,     -999.0,20130804,       0427