BOTTLE,20220815CCHSIOAMB
EXPOCODE,SECT_ID,STNNBR,CASTNO,SAMPNO,BTLNBR,BTLNBR_FLAG_W,DATE,TIME,LATITUDE,LONGITUDE,DEPTH,CTDPRS,CTDTMP,CTDSAL,CTDSAL_FLAG_W,SALNTY,SALNTY_FLAG_W,CTDOXY,CTDOXY_FLAG_W,OXYGEN,OXYGEN_FLAG_W,SILCAT,SILCAT_FLAG_W,NITRAT,NITRAT_FLAG_W,NITRIT,NITRIT_FLAG_W,PHSPHT,PHSPHT_FLAG_W,CFC-11,CFC-11_FLAG_W,CFC-12,CFC-12_FLAG_W,SF6,SF6_FLAG_W,TCARBN,TCARBN_FLAG_W,ALKALI,ALKALI_FLAG_W,PCO2,PCO2_FLAG_W,PCO2TMP,PH_SWS,PH_SWS_FLAG_W,PH_TMP,DELC13,DELC13_FLAG_W,DELC14,DELC14_FLAG_W,C14ERR,DOC,DOC_FLAG_W,TDN,TDN_FLAG_W,N2O,N2O_FLAG_W,CDOM325,CDOM325_FLAG_W,CDOM340,CDOM340_FLAG_W,CDOM380,CDOM380_FLAG_W,CDOM412,CDOM412_FLAG_W,CDOM443,CDOM443_FLAG_W,CDOM490,CDOM490_FLAG_W,CDOM555,CDOM555_FLAG_W,CDOMSL,CDOMSL_FLAG_W,CDOMSN,CDOMSN_FLAG_W,CCL4,CCL4_FLAG_W,14C-DOC,14C-DOC_FLAG_W,14C-DOCERR,13C-DOC,13C-DOC_FLAG_W,13C-DOCERR,BTL_DATE,BTL_TIME
,,,,,,,,,,,METERS,DBAR,ITS-90,PSS-78,,PSS-78,,UMOL/KG,,UMOL/KG,,UMOL/KG,,UMOL/KG,,UMOL/KG,,UMOL/KG,,PMOL/KG,,PMOL/KG,,FMOL/KG,,UMOL/KG,,UMOL/KG,,UATM,,DEG C,,,DEG C,/MILLE,,/MILLE,,/MILLE,UMOL/KG,,UMOL/KG,,NMOL/KG,,1/M,,1/M,,1/M,,1/M,,1/M,,1/M,,1/M,,1/NM,,1/NM,,PMOL/KG,,/MILLE,,/MILLE,/MILLE,,/MILLE,,
33RO20130803,       A16N,     125,          1,         24,         24,2,20130926,       1146,     1.6652,   -25.0006,       3829,     3.3,  27.2412,  35.8358,2,  35.8353,2,    198.7,2,   199.5,2,    1.00,2,    0.00,2,    0.00,2,    0.02,2,-999.000,9,-999.000,9,-999.000,9,  2003.2,6,  2344.3,2,   294.7,2,      20,   8.0907,2,    25.00, -999.00,9,  -999.0,9,  -999.0,    70.7,2,    4.26,2,     -999.0,9,-999.0000,9,-999.0000,9,-999.0000,9,-999.0000,9,-999.0000,9,-999.0000,9,-999.0000,9,-999.0000,9,-999.0000,9,     -999.0,9,  -999.0,9,     -999.0,     -999.0,9,     -999.0,20130926,       1324
33RO20130803,       A16N,     125,          1,         23,         23,2,20130926,       1146,     1.6652,   -25.0006,       3829,    22.4,  27.1569,  35.8350,2,  35.8357,2,    199.5,2,   199.3,2,    1.00,2,    0.00,2,    0.00,2,    0.01,2,-999.000,9,-999.000,9,-999.000,9,  -999.0,9,  -999.0,9,  -999.0,9, -999.00,-999.0000,9,  -999.00, -999.00,9,  -999.0,9,  -999.0,   69.44,2,    4.33,2,     -999.0,9,-999.0000,9,-999.0000,9,-999.0000,9,-999.0000,9,-999.0000,9,-999.0000,9,-999.0000,9,-999.0000,9,-999.0000,9,     -999.0,9,  -999.0,9,     -999.0,     -999.0,9,     -999.0,20130926,       1322
33RO20130803,       A16N,     125,          1,         22,         22,2,20130926,       1146,     1.6652,   -25.0006,       3829,    48.0,  27.1518,  35.8341,2,  35.8263,2,    199.9,2,   199.5,2,    1.00,2,    0.00,2,    0.01,2,    0.02,2,-999.000,9,-999.000,9,-999.000,9,  -999.0,9,  -999.0,9,  -999.0,9, -999.00,-999.0000,9,  -999.00, -999.00,9,  -999.0,9,  -999.0,   68.48,2,    3.18,2,     -999.0,9,-999.0000,9,-999.0000,9,-999.0000,9,-999.0000,9,-999.0000,9,-999.0000,9,-999.0000,9,-999.0000,9,-999.0000,9,     -999.0,9,  -999.0,9,     -999.0,     -999.0,9,     -999.0,20130926,       1320
33RO20130803,       A16N,     125,          1,         21,         21,2,20130926,       1146,     1.6652,   -25.0006,       3829,    72.7,  24.1729,  35.8095,2,  35.7719,2,    199.4,2,   181.3,2,    1.80,2,    1.50,2,    0.03,2,    0.19,2,   1.828,2,   1.125,2,   1.104,2,  2073.6,2,  2348.0,6,   416.1,2,      20,   7.9757,6,    25.00, -999.00,9,  -999.0,9,  -999.0,   64.28,2,    5.53,2,     11.754,2,-999.0000,9,-999.0000,9,-999.0000,9,-999.0000,9,-999.0000,9,-999.0000,9,-999.0000,9,-999.0000,9,-999.0000,9,     -999.0,5,  -999.0,9,     -999.0,     -999.0,9,     -999.0,20130926,       1318
33RO20130803,       A16N,     125,          1,         20,         20,2,20130926,       1146,     1.6652,   -25.0006,       3829,    97.7,  15.8010,  35.6128,2,  35.6162,2,     92.4,2,    93.8,2,    6.50,2,   20.30,2,    0.02,2,    1.34,2,-999.000,9,-999.000,9,-999.000,9,  -999.0,9,  -999.0,9,  -999.0,9, -999.00,-999.0000,9,  -999.00, -999.00,9,  -999.0,9,  -999.0,   58.73,2,   23.92,2,     -999.0,9,-999.0000,9,-999.0000,9,-999.0000,9,-999.0000,9,-999.0000,9,-999.0000,9,-999.0000,9,-999.0000,9,-999.0000,9,     -999.0,9,  -999.0,9,     -999.0,     -999.0,9,     -999.0,20130926,       1315
33RO20130803,       A16N,     125,          1,         19,         19,2,20130926,       1146,     1.6652,   -25.0006,       3829,   122.5,  14.7011,  35.4965,2,-999.0000,9,     94.8,2,    97.7,2,    7.40,2,   21.40,2,    0.01,2,    1.41,2,   2.169,2,   1.237,2,   0.753,2,  2194.5,2,  2329.4,2,   834.3,2,      20,   7.6807,2,    25.00, -999.00,9,  -999.0,9,  -999.0,   48.05,2,   24.93,2,     26.069,2,-999.0000,9,-999.0000,9,-999.0000,9,-999.0000,9,-999.0000,9,-999.0000,9,-999.0000,9,-999.0000,9,-999.0000,9,     -999.0,5,  -999.0,9,     -999.0,     -999.0,9,     -999.0,20130926,       1313
33RO20130803,       A16N,     125,          1,         18,         18,2,20130926,       1146,     1.6652,   -25.0006,       3829,   147.9,  13.9210,  35.3992,2,  35.3988,2,    105.3,2,   105.3,2,    7.90,2,   21.60,2,    0.01,2,    1.42,2,-999.000,9,-999.000,9,-999.000,9,  -999.0,9,  -999.0,9,  -999.0,9, -999.00,-999.0000,9,  -999.00, -999.00,9,  -999.0,9,  -999.0,   47.74,2,   25.06,2,     -999.0,9,-999.0000,9,-999.0000,9,-999.0000,9,-999.0000,9,-999.0000,9,-999.0000,9,-999.0000,9,-999.0000,9,-999.0000,9,     -999.0,9,  -999.0,9,     -999.0,     -999.0,9,     -999.0,20130926,       1311
33RO20130803,       A16N,     125,          1,         17,         17,2,20130926,       1146,     1.6652,   -25.0006,       3829,   197.2,  13.3812,  35.3294,2,  35.3281,2,    137.4,2,   136.7,2,    7.50,2,   18.70,2,    0.01,2,    1.27,2,   2.300,2,   1.296,2,   0.829,2,  2174.1,2,  2324.7,2,   767.1,2,      20,   7.7275,2,    25.00, -999.00,9,  -999.0,9,  -999.0,   46.53,2,   21.26,2,     22.489,2,-999.0000,9,-999.0000,9,-999.0000,9,-999.0000,9,-999.0000,9,-999.0000,9,-999.0000,9,-999.0000,9,-999.0000,9,     -999.0,5,  -999.0,9,     -999.0,     -999.0,9,     -999.0,20130926,       1309
33RO20130803,       A16N,     125,          1,         16,         16,2,20130926,       1146,     1.6652,   -25.0006,       3829,   272.8,  11.5001,  35.0847,2,  35.0873,2,    142.9,2,   141.2,2,    9.70,2,   21.50,2,    0.01,2,    1.44,2,-999.000,9,-999.000,9,-999.000,9,  -999.0,9,  -999.0,9,  -999.0,9, -999.00,-999.0000,9,  -999.00, -999.00,9,  -999.0,9,  -999.0,   46.05,2,   23.96,2,     -999.0,9,-999.0000,9,-999.0000,9,-999.0000,9,-999.0000,9,-999.0000,9,-999.0000,9,-999.0000,9,-999.0000,9,-999.0000,9,     -999.0,9,  -999.0,9,     -999.0,     -999.0,9,     -999.0,20130926,       1306
33RO20130803,       A16N,     125,          1,         15,         15,2,20130926,       1146,     1.6652,   -25.0006,       3829,   347.4,   9.3755,  34.8521,2,  34.8510,2,    107.1,2,   106.9,2,   14.60,2,   29.80,2,    0.01,2,    1.91,2,   1.589,2,   0.836,2,   0.361,2,  2212.1,2,  2302.9,6,  1111.1,2,      20,   7.5665,2,    25.00, -999.00,9,  -999.0,9,  -999.0,   45.48,2,    32.4,2,     31.886,2,-999.0000,9,-999.0000,9,-999.0000,9,-999.0000,9,-999.0000,9,-999.0000,9,-999.0000,9,-999.0000,9,-999.0000,9,     -999.0,5,  -999.0,9,     -999.0,     -999.0,9,     -999.0,20130926,       1303
33RO20130803,       A16N,     125,          1,         14,         14,2,20130926,       1146,     1.6652,   -25.0006,       3829,   422.0,   8.8708,  34.7956,2,  34.7957,2,    106.8,2,   107.1,2,   15.70,2,   30.80,2,    0.01,2,    1.98,2,-999.000,9,-999.000,9,-999.000,9,  2214.0,6,  2300.2,2,  1140.1,2,      20,   7.5542,2,    25.00, -999.00,9,  -999.0,9,  -999.0,      45,2,   33.45,2,     -999.0,9,-999.0000,9,-999.0000,9,-999.0000,9,-999.0000,9,-999.0000,9,-999.0000,9,-999.0000,9,-999.0000,9,-999.0000,9,     -999.0,9,  -999.0,9,     -999.0,     -999.0,9,     -999.0,20130926,       1300
33RO20130803,       A16N,     125,          1,         13,         13,2,20130926,       1146,     1.6652,   -25.0006,       3829,   497.2,   7.9721,  34.7017,2,  34.7029,2,    122.0,2,   122.1,2,   17.60,2,   31.10,2,    0.01,2,    2.02,2,   1.378,2,   0.714,2,   0.256,2,  2209.5,2,  2298.6,2,  1126.0,2,      20,   7.5610,2,    25.00, -999.00,9,  -999.0,9,  -999.0,   44.57,2,   33.87,2,     28.690,2,-999.0000,9,-999.0000,9,-999.0000,9,-999.0000,9,-999.0000,9,-999.0000,9,-999.0000,9,-999.0000,9,-999.0000,9,     -999.0,5,  -999.0,9,     -999.0,     -999.0,9,     -999.0,20130926,       1258
33RO20130803,       A16N,     125,          1,         12,         12,2,20130926,       1146,     1.6652,   -25.0006,       3829,   597.8,   6.1184,  34.5421,2,  34.5423,2,    138.8,2,   138.6,2,   23.60,2,   33.30,2,    0.00,2,    2.21,2,-999.000,9,-999.000,9,-999.000,9,  -999.0,9,  -999.0,9,  -999.0,9, -999.00,-999.0000,9,  -999.00, -999.00,9,  -999.0,9,  -999.0,   44.13,2,    35.6,2,     -999.0,9,-999.0000,9,-999.0000,9,-999.0000,9,-999.0000,9,-999.0000,9,-999.0000,9,-999.0000,9,-999.0000,9,-999.0000,9,     -999.0,9,  -999.0,9,     -999.0,     -999.0,9,     -999.0,20130926,       1254
33RO20130803,       A16N,     125,          1,         11,         11,2,20130926,       1146,     1.6652,   -25.0006,       3829,   747.0,   5.2655,  34.5150,2,  34.5144,2,    146.3,2,   147.2,2,   28.10,2,   34.00,2,    0.00,2,    2.29,2,   0.531,2,   0.262,2,   0.072,2,  2217.4,2,  2299.0,2,  1152.9,2,      20,   7.5464,2,    25.00, -999.00,9,  -999.0,9,  -999.0,   43.75,2,   36.48,2,     24.543,2,-999.0000,9,-999.0000,9,-999.0000,9,-999.0000,9,-999.0000,9,-999.0000,9,-999.0000,9,-999.0000,9,-999.0000,9,     -999.0,5,  -999.0,9,     -999.0,     -999.0,9,     -999.0,20130926,       1250
33RO20130803,       A16N,     125,          1,         10,         10,2,20130926,       1146,     1.6652,   -25.0006,       3829,   897.6,   4.7354,  34.5582,2,  34.5576,2,    151.3,2,   151.8,2,   30.90,2,   33.70,2,    0.00,2,    2.28,2,-999.000,9,-999.000,9,-999.000,9,  -999.0,9,  -999.0,9,  -999.0,9, -999.00,-999.0000,9,  -999.00, -999.00,9,  -999.0,9,  -999.0,    43.3,2,   36.21,2,     -999.0,9,-999.0000,9,-999.0000,9,-999.0000,9,-999.0000,9,-999.0000,9,-999.0000,9,-999.0000,9,-999.0000,9,-999.0000,9,     -999.0,9,  -999.0,9,     -999.0,     -999.0,9,     -999.0,20130926,       1246
33RO20130803,       A16N,     125,          1,          9,          9,2,20130926,       1146,     1.6652,   -25.0006,       3829,  1046.7,   4.5855,  34.7044,2,  34.7040,2,    162.6,2,   162.5,2,   29.10,2,   31.10,2,    0.00,2,    2.11,2,-999.000,9,-999.000,9,-999.000,9,  -999.0,9,  -999.0,9,  -999.0,9, -999.00,-999.0000,9,  -999.00, -999.00,9,  -999.0,9,  -999.0,   42.63,2,   33.52,2,     -999.0,9,-999.0000,9,-999.0000,9,-999.0000,9,-999.0000,9,-999.0000,9,-999.0000,9,-999.0000,9,-999.0000,9,-999.0000,9,     -999.0,9,  -999.0,9,     -999.0,     -999.0,9,     -999.0,20130926,       1242
33RO20130803,       A16N,     125,          1,          8,          8,2,20130926,       1146,     1.6652,   -25.0006,       3829,  1197.5,   4.5830,  34.8135,2,  34.8127,2,    179.2,2,   179.5,2,   25.60,2,   28.10,2,    0.00,2,    1.89,2,   0.105,2,   0.052,2,   0.000,2,  2204.0,2,  2312.7,2,   959.2,2,      20,   7.6212,2,    25.00, -999.00,9,  -999.0,9,  -999.0,   42.48,2,   30.47,2,     19.887,2,-999.0000,9,-999.0000,9,-999.0000,9,-999.0000,9,-999.0000,9,-999.0000,9,-999.0000,9,-999.0000,9,-999.0000,9,     -999.0,5,  -999.0,9,     -999.0,     -999.0,9,     -999.0,20130926,       1238
33RO20130803,       A16N,     125,          1,          7,          7,2,20130926,       1146,     1.6652,   -25.0006,       3829,  1497.5,   4.2619,  34.9734,2,  34.9742,2,    230.6,2,   230.5,2,   17.90,2,   20.90,2,    0.00,2,    1.40,2,-999.000,9,-999.000,9,-999.000,9,  2175.5,2,  2315.8,2,   785.0,2,      20,   7.7030,6,    25.00, -999.00,9,  -999.0,9,  -999.0,   41.54,2,   23.39,2,     -999.0,9,-999.0000,9,-999.0000,9,-999.0000,9,-999.0000,9,-999.0000,9,-999.0000,9,-999.0000,9,-999.0000,9,-999.0000,9,     -999.0,9,  -999.0,9,     -999.0,     -999.0,9,     -999.0,20130926,       1232
33RO20130803,       A16N,     125,          1,          6,          6,2,20130926,       1146,     1.6652,   -25.0006,       3829,  1897.2,   3.6422,  34.9673,2,  34.9669,2,    246.7,2,     247,2,   20.00,2,   19.60,2,    0.00,2,    1.31,2,   0.332,2,   0.165,2,   0.080,2,  2168.9,2,  2317.4,2,  -999.0,9, -999.00,   7.7204,2,    25.00, -999.00,9,  -999.0,9,  -999.0,   40.92,2,   22.08,2,     13.804,2,-999.0000,9,-999.0000,9,-999.0000,9,-999.0000,9,-999.0000,9,-999.0000,9,-999.0000,9,-999.0000,9,-999.0000,9,     -999.0,5,  -999.0,9,     -999.0,     -999.0,9,     -999.0,20130926,       1225
33RO20130803,       A16N,     125,          1,          5,          5,2,20130926,       1146,     1.6652,   -25.0006,       3829,  2297.4,   3.1992,  34.9461,2,  34.9457,2,    246.7,2,   246.6,2,   26.60,2,   20.20,2,    0.00,2,    1.36,2,-999.000,9,-999.000,9,-999.000,9,  2173.4,2,  2324.1,6,  -999.0,9, -999.00,   7.7244,2,    25.00, -999.00,9,  -999.0,9,  -999.0,   40.29,2,   22.57,2,     -999.0,9,-999.0000,9,-999.0000,9,-999.0000,9,-999.0000,9,-999.0000,9,-999.0000,9,-999.0000,9,-999.0000,9,-999.0000,9,     -999.0,9,  -999.0,9,     -999.0,     -999.0,9,     -999.0,20130926,       1217
33RO20130803,       A16N,     125,          1,          4,          4,2,20130926,       1146,     1.6652,   -25.0006,       3829,  2698.6,   2.8615,  34.9250,2,  34.9257,2,    244.5,2,   245.2,2,   33.40,6,   21.00,6,    0.00,6,    1.41,6,-999.000,9,-999.000,9,-999.000,9,  -999.0,9,  -999.0,9,  -999.0,9, -999.00,-999.0000,9,  -999.00, -999.00,9,  -999.0,9,  -999.0,   40.07,2,   23.38,2,     -999.0,9,-999.0000,9,-999.0000,9,-999.0000,9,-999.0000,9,-999.0000,9,-999.0000,9,-999.0000,9,-999.0000,9,-999.0000,9,     -999.0,9,  -999.0,9,     -999.0,     -999.0,9,     -999.0,20130926,       1209
33RO20130803,       A16N,     125,          1,          3,          3,2,20130926,       1146,     1.6652,   -25.0006,       3829,  3096.5,   2.6119,  34.9094,2,  34.9097,2,    244.5,2,   245.4,2,   38.00,6,   21.30,6,    0.00,6,    1.43,6,-999.000,9,-999.000,9,-999.000,9,  -999.0,9,  -999.0,9,  -999.0,9, -999.00,-999.0000,9,  -999.00, -999.00,9,  -999.0,9,  -999.0,   40.15,2,   23.77,2,     -999.0,9,-999.0000,9,-999.0000,9,-999.0000,9,-999.0000,9,-999.0000,9,-999.0000,9,-999.0000,9,-999.0000,9,-999.0000,9,     -999.0,9,  -999.0,9,     -999.0,     -999.0,9,     -999.0,20130926,       1201
33RO20130803,       A16N,     125,          1,          2,          2,2,20130926,       1146,     1.6652,   -25.0006,       3829,  3496.9,   2.4943,  34.8996,2,  34.8989,2,    245.5,2,   245.2,2,   40.90,6,   21.60,6,    0.00,6,    1.45,6,   0.046,2,   0.023,2,   0.000,2,  2189.3,2,  2338.2,2,   764.0,2,      20,   7.7189,2,    25.00, -999.00,9,  -999.0,9,  -999.0,   40.22,2,   24.09,2,     13.794,2,-999.0000,9,-999.0000,9,-999.0000,9,-999.0000,9,-999.0000,9,-999.0000,9,-999.0000,9,-999.0000,9,-999.0000,9,     -999.0,5,  -999.0,9,     -999.0,     -999.0,9,     -999.0,20130926,       1153
33RO20130803,       A16N,     125,          1,          1,          1,2,20130926,       1146,     1.6652,   -25.0006,       3829,  3864.3,   2.3992,  34.8900,2,  34.8903,2,    245.6,2,   244.1,2,   44.40,6,   21.90,6,    0.00,6,    1.47,6,   0.035,2,   0.018,2,   0.000,2,  2194.9,2,  2345.4,2,   771.2,2,      20,   7.7300,2,    25.00, -999.00,9,  -999.0,9,  -999.0,   40.23,2,   24.18,2,     13.900,2,-999.0000,9,-999.0000,9,-999.0000,9,-999.0000,9,-999.0000,9,-999.0000,9,-999.0000,9,-999.0000,9,-999.0000,9,     -999.0,5,  -999.0,9,     -999.0,     -999.0,9,     -999.0,20130926,       1146