BOTTLE,20220815CCHSIOAMB
EXPOCODE,SECT_ID,STNNBR,CASTNO,SAMPNO,BTLNBR,BTLNBR_FLAG_W,DATE,TIME,LATITUDE,LONGITUDE,DEPTH,CTDPRS,CTDTMP,CTDSAL,CTDSAL_FLAG_W,SALNTY,SALNTY_FLAG_W,CTDOXY,CTDOXY_FLAG_W,OXYGEN,OXYGEN_FLAG_W,SILCAT,SILCAT_FLAG_W,NITRAT,NITRAT_FLAG_W,NITRIT,NITRIT_FLAG_W,PHSPHT,PHSPHT_FLAG_W,CFC-11,CFC-11_FLAG_W,CFC-12,CFC-12_FLAG_W,SF6,SF6_FLAG_W,TCARBN,TCARBN_FLAG_W,ALKALI,ALKALI_FLAG_W,PCO2,PCO2_FLAG_W,PCO2TMP,PH_SWS,PH_SWS_FLAG_W,PH_TMP,DELC13,DELC13_FLAG_W,DELC14,DELC14_FLAG_W,C14ERR,DOC,DOC_FLAG_W,TDN,TDN_FLAG_W,N2O,N2O_FLAG_W,CDOM325,CDOM325_FLAG_W,CDOM340,CDOM340_FLAG_W,CDOM380,CDOM380_FLAG_W,CDOM412,CDOM412_FLAG_W,CDOM443,CDOM443_FLAG_W,CDOM490,CDOM490_FLAG_W,CDOM555,CDOM555_FLAG_W,CDOMSL,CDOMSL_FLAG_W,CDOMSN,CDOMSN_FLAG_W,CCL4,CCL4_FLAG_W,14C-DOC,14C-DOC_FLAG_W,14C-DOCERR,13C-DOC,13C-DOC_FLAG_W,13C-DOCERR,BTL_DATE,BTL_TIME
,,,,,,,,,,,METERS,DBAR,ITS-90,PSS-78,,PSS-78,,UMOL/KG,,UMOL/KG,,UMOL/KG,,UMOL/KG,,UMOL/KG,,UMOL/KG,,PMOL/KG,,PMOL/KG,,FMOL/KG,,UMOL/KG,,UMOL/KG,,UATM,,DEG C,,,DEG C,/MILLE,,/MILLE,,/MILLE,UMOL/KG,,UMOL/KG,,NMOL/KG,,1/M,,1/M,,1/M,,1/M,,1/M,,1/M,,1/M,,1/NM,,1/NM,,PMOL/KG,,/MILLE,,/MILLE,/MILLE,,/MILLE,,
33RO20130803,       A16N,      65,          1,         24,         24,2,20130820,       1026,    32.9994,   -21.6835,       5271,     2.6,  23.3016,  36.8606,2,  36.8616,2,    212.4,2,   214.4,2,    0.50,2,    0.00,2,    0.00,2,    0.01,2,   1.858,2,   1.153,2,   1.390,2,  2104.5,6,  2412.8,2,   354.3,2,      20,   8.0102,2,    25.00, -999.00,9,  -999.0,9,  -999.0, -999.00,9, -999.00,9,      6.805,2,   0.0793,2,   0.0518,2,   0.0121,3,   0.0096,3,   0.0019,3,   0.0052,3,  -0.0021,4,   0.0336,3,   0.0342,3,     -999.0,5,  -999.0,9,     -999.0,     -999.0,9,     -999.0,20130820,       1226
33RO20130803,       A16N,      65,          1,         23,         23,2,20130820,       1026,    32.9994,   -21.6835,       5271,    15.6,  23.2819,  36.8601,2,  36.8612,2,    212.8,2,   214.5,2,    0.50,2,    0.00,2,    0.00,2,    0.01,2,   1.864,2,   1.161,2,   1.375,2,  2105.4,2,  2412.9,6,   353.9,2,      20,   8.0102,2,    25.00, -999.00,9,  -999.0,9,  -999.0, -999.00,9, -999.00,9,      6.795,2,   0.0711,2,   0.0451,2,   0.0084,3,   0.0067,2,  -0.0008,4,   0.0030,2,  -0.0034,3,   0.0396,3,   0.0377,3,     -999.0,5,  -999.0,9,     -999.0,     -999.0,9,     -999.0,20130820,       1225
33RO20130803,       A16N,      65,          1,         22,         22,2,20130820,       1026,    32.9994,   -21.6835,       5271,    49.5,  21.0922,  36.7423,2,  36.7176,2,    232.1,2,   234.3,2,    0.50,2,    0.00,2,    0.00,2,    0.02,2,   2.125,6,   1.296,6,   1.490,6,  2096.1,2,  2404.5,2,   351.4,2,      20,   8.0136,2,    25.00, -999.00,9,  -999.0,9,  -999.0, -999.00,9, -999.00,9,      7.420,6,   0.1350,2,   0.0910,2,   0.0318,2,   0.0219,2,   0.0095,2,   0.0091,3,  -0.0003,4,   0.0252,2,   0.0269,2,     -999.0,5,  -999.0,9,     -999.0,     -999.0,9,     -999.0,20130820,       1222
33RO20130803,       A16N,      65,          1,         21,         21,2,20130820,       1026,    32.9994,   -21.6835,       5271,    79.0,  19.1556,  36.5803,2,  36.5875,2,    233.4,2,   232.7,2,    0.50,2,    0.00,2,    0.00,2,    0.02,2,   2.223,2,   1.351,2,   1.508,2,  2097.6,2,  2395.8,2,   363.9,2,      20,   7.9989,6,    25.00, -999.00,9,  -999.0,9,  -999.0, -999.00,9, -999.00,9,      7.826,2,   0.1665,2,   0.1163,2,   0.0445,2,   0.0308,2,   0.0137,2,   0.0103,3,   0.0003,4,   0.0230,2,   0.0244,2,     -999.0,5,  -999.0,9,     -999.0,     -999.0,9,     -999.0,20130820,       1221
33RO20130803,       A16N,      65,          1,         20,         20,2,20130820,       1026,    32.9994,   -21.6835,       5271,   112.7,  18.3214,  36.5263,2,  36.5250,2,    219.5,2,   218.2,2,    0.80,2,    0.40,2,    0.07,2,    0.04,2,   2.269,2,   1.379,2,   1.530,2,  2110.6,2,  2392.7,2,   392.9,2,      20,   7.9705,2,    25.00, -999.00,9,  -999.0,9,  -999.0, -999.00,9, -999.00,9,      8.159,2,   0.1443,2,   0.1043,2,   0.0453,2,   0.0365,2,   0.0195,2,   0.0150,2,   0.0024,2,   0.0197,2,   0.0213,2,     -999.0,5,  -999.0,9,     -999.0,     -999.0,9,     -999.0,20130820,       1219
33RO20130803,       A16N,      65,          1,         19,         19,2,20130820,       1026,    32.9994,   -21.6835,       5271,   160.1,  18.2788,  36.6397,2,  36.6402,2,    211.0,2,   212.5,2,    0.90,2,    1.60,2,    0.03,2,    0.10,2,   2.256,2,   1.362,2,   1.488,2,  2119.8,2,  2399.3,2,   402.3,2,      20,   7.9628,2,    25.00, -999.00,9,  -999.0,9,  -999.0, -999.00,9, -999.00,9,      8.199,2,   0.1035,2,   0.0712,2,   0.0253,2,   0.0202,2,   0.0056,2,   0.0051,2,  -0.0025,4,   0.0243,2,   0.0263,2,     -999.0,5,  -999.0,9,     -999.0,     -999.0,9,     -999.0,20130820,       1217
33RO20130803,       A16N,      65,          1,         18,         18,2,20130820,       1026,    32.9994,   -21.6835,       5271,   261.5,  16.2678,  36.2686,2,  36.2632,2,    197.9,2,     198,2,    2.30,2,    6.60,2,    0.00,2,    0.41,2,   2.428,2,   1.439,2,   1.380,2,  2131.6,2,  2374.1,2,   469.1,2,      20,   7.9039,2,    25.00, -999.00,9,  -999.0,9,  -999.0, -999.00,9, -999.00,9,     10.100,2,   0.1407,2,   0.1017,2,   0.0437,2,   0.0332,2,   0.0169,2,   0.0130,3,   0.0025,2,   0.0202,2,   0.0215,2,     -999.0,5,  -999.0,9,     -999.0,     -999.0,9,     -999.0,20130820,       1213
33RO20130803,       A16N,      65,          1,         17,         17,2,20130820,       1026,    32.9994,   -21.6835,       5271,   331.9,  15.1869,  36.0949,2,  36.0878,2,    197.5,2,     199,2,    2.90,2,    8.10,2,    0.01,2,    0.50,2,   2.530,2,   1.473,2,   1.341,2,  2136.8,2,  2364.3,2,   502.7,2,      20,   7.8799,2,    25.00, -999.00,9,  -999.0,9,  -999.0, -999.00,9, -999.00,9,     10.716,2,   0.1239,2,   0.0855,2,   0.0328,2,   0.0252,2,   0.0101,2,   0.0079,3,  -0.0009,4,   0.0229,2,   0.0248,2,     -999.0,5,  -999.0,9,     -999.0,     -999.0,9,     -999.0,20130820,       1211
33RO20130803,       A16N,      65,          1,         16,         16,2,20130820,       1026,    32.9994,   -21.6835,       5271,   429.0,  13.6910,  35.8541,2,  35.8506,2,    195.5,2,   197.8,2,    4.10,2,   10.80,2,    0.00,2,    0.67,2,   2.618,2,   1.490,2,   1.268,2,  2145.7,2,  2351.3,2,   556.2,2,      20,   7.8383,2,    25.00, -999.00,9,  -999.0,9,  -999.0, -999.00,9, -999.00,9,     12.028,2,   0.1270,2,   0.0866,2,   0.0324,2,   0.0240,2,   0.0091,2,   0.0068,3,  -0.0015,4,   0.0236,2,   0.0254,2,     -999.0,5,  -999.0,9,     -999.0,     -999.0,9,     -999.0,20130820,       1207
33RO20130803,       A16N,      65,          1,         15,         15,2,20130820,       1026,    32.9994,   -21.6835,       5271,   502.6,  13.0598,  35.7757,2,  35.7743,2,    197.6,2,     198,2,    4.40,2,   11.70,2,    0.00,2,    0.72,2,   2.679,2,   1.530,2,   1.266,2,  2149.6,2,  2348.1,2,   583.0,2,      20,   7.8223,2,    25.00, -999.00,9,  -999.0,9,  -999.0, -999.00,9, -999.00,9,     12.440,2,   0.1140,2,   0.0762,2,   0.0264,2,   0.0197,2,   0.0058,2,   0.0047,2,  -0.0028,4,   0.0253,2,   0.0274,2,     -999.0,5,  -999.0,9,     -999.0,     -999.0,9,     -999.0,20130820,       1204
33RO20130803,       A16N,      65,          1,         14,         14,2,20130820,       1026,    32.9994,   -21.6835,       5271,   720.4,  10.8953,  35.5453,2,  35.5467,2,    179.7,2,   180.3,2,    8.00,2,   17.00,2,    0.00,2,    1.07,2,   2.256,2,   1.219,2,   0.772,2,  2171.7,2,  2336.0,2,   693.2,2,      20,   7.7516,2,    25.00, -999.00,9,  -999.0,9,  -999.0, -999.00,9, -999.00,9,     15.500,2,   0.1288,2,   0.0876,2,   0.0330,2,   0.0239,2,   0.0094,2,   0.0070,3,  -0.0014,4,   0.0236,2,   0.0254,2,     -999.0,5,  -999.0,9,     -999.0,     -999.0,9,     -999.0,20130820,       1200
33RO20130803,       A16N,      65,          1,         13,         13,2,20130820,       1026,    32.9994,   -21.6835,       5271,   866.7,   9.9793,  35.5658,2,  35.5677,2,    174.5,2,   175.3,2,   10.30,2,   18.80,2,    0.00,2,    1.19,2,   1.775,2,   0.932,2,   0.487,2,  2184.2,2,  2347.2,2,   722.6,2,      20,   7.7342,6,    25.00, -999.00,9,  -999.0,9,  -999.0, -999.00,9, -999.00,9,     16.199,2,   0.1264,2,   0.0844,2,   0.0316,2,   0.0228,2,   0.0086,2,   0.0064,3,  -0.0018,4,   0.0239,2,   0.0261,2,     -999.0,5,  -999.0,9,     -999.0,     -999.0,9,     -999.0,20130820,       1156
33RO20130803,       A16N,      65,          1,         12,         12,2,20130820,       1026,    32.9994,   -21.6835,       5271,  1017.6,   8.8174,  35.5265,2,  35.5294,2,    181.7,2,     183,2,   11.90,2,   19.40,2,    0.00,2,    1.24,2,   1.461,2,   0.755,2,   0.324,2,  2189.2,6,  -999.0,5,   739.7,2,      20,   7.7285,2,    25.00, -999.00,9,  -999.0,9,  -999.0, -999.00,9, -999.00,9,     15.853,2,   0.1285,2,   0.0865,2,   0.0325,2,   0.0231,2,   0.0088,2,   0.0065,3,  -0.0018,4,   0.0238,2,   0.0258,2,     -999.0,5,  -999.0,9,     -999.0,     -999.0,9,     -999.0,20130820,       1152
33RO20130803,       A16N,      65,          1,         11,         11,2,20130820,       1026,    32.9994,   -21.6835,       5271,  1173.6,   8.0994,  35.5284,2,  35.5290,2,    196.4,2,   196.2,2,   12.10,2,   18.70,2,    0.00,2,    1.20,2,   1.529,2,   0.777,2,   0.328,2,  2187.6,2,  2346.3,2,   730.0,2,      20,   7.6410,4,    25.00, -999.00,9,  -999.0,9,  -999.0, -999.00,9, -999.00,9,     15.050,2,   0.1342,2,   0.0908,2,   0.0346,2,   0.0248,2,   0.0100,2,   0.0071,3,  -0.0013,4,   0.0235,2,   0.0253,2,     -999.0,5,  -999.0,9,     -999.0,     -999.0,9,     -999.0,20130820,       1148
33RO20130803,       A16N,      65,          1,         10,         10,2,20130820,       1026,    32.9994,   -21.6835,       5271,  1549.6,   5.8916,  35.3009,2,  35.3013,2,    228.5,2,   228.3,2,   13.30,2,   18.20,2,    0.00,2,    1.20,2,   1.591,2,   0.788,2,   0.302,2,  2177.7,2,  2333.8,2,   733.0,2,      20,   7.7307,2,    25.00, -999.00,9,  -999.0,9,  -999.0, -999.00,9, -999.00,9,     14.076,2,   0.1285,2,   0.0855,2,   0.0316,2,   0.0223,2,   0.0079,2,   0.0059,3,  -0.0021,4,   0.0243,2,   0.0263,2,     -999.0,5,  -999.0,9,     -999.0,     -999.0,9,     -999.0,20130820,       1140
33RO20130803,       A16N,      65,          1,          9,          9,2,20130820,       1026,    32.9994,   -21.6835,       5271,  1876.8,   4.5811,  35.1341,2,  35.1363,2,    244.7,2,   244.9,2,   15.50,2,   18.30,2,    0.00,2,    1.22,2,   1.172,2,   0.571,2,   0.161,2,  2169.6,2,  2325.5,2,   730.9,2,      20,   7.7308,2,    25.00, -999.00,9,  -999.0,9,  -999.0, -999.00,9, -999.00,9,     13.599,2,   0.1325,2,   0.0875,2,   0.0320,2,   0.0221,2,   0.0075,2,   0.0052,3,  -0.0026,4,   0.0247,2,   0.0268,2,     -999.0,5,  -999.0,9,     -999.0,     -999.0,9,     -999.0,20130820,       1133
33RO20130803,       A16N,      65,          1,          8,          8,2,20130820,       1026,    32.9994,   -21.6835,       5271,  2304.3,   3.5779,  35.0165,2,  35.0181,2,    249.3,2,   249.6,2,   21.90,2,   19.10,2,    0.00,2,    1.28,2,   0.484,2,   0.242,2,   0.053,2,  2171.3,2,  2351.7,4,   734.1,2,      20,   7.7291,2,    25.00, -999.00,9,  -999.0,9,  -999.0, -999.00,9, -999.00,9,     13.267,2,-999.0000,5,-999.0000,5,-999.0000,5,-999.0000,5,-999.0000,5,-999.0000,5,-999.0000,5,-999.0000,5,-999.0000,5,     -999.0,5,  -999.0,9,     -999.0,     -999.0,9,     -999.0,20130820,       1124
33RO20130803,       A16N,      65,          1,          7,          7,2,20130820,       1026,    32.9994,   -21.6835,       5271,  2718.1,   3.0377,  34.9648,2,  34.9651,2,    248.2,2,   248.5,2,   28.80,2,   19.90,2,    0.00,2,    1.35,2,   0.219,2,   0.111,2,   0.000,2,  2177.8,2,  2331.4,2,   738.5,2,      20,   7.7289,2,    25.00, -999.00,9,  -999.0,9,  -999.0, -999.00,9, -999.00,9,     13.191,2,-999.0000,5,-999.0000,5,-999.0000,5,-999.0000,5,-999.0000,5,-999.0000,5,-999.0000,5,-999.0000,5,-999.0000,5,     -999.0,5,  -999.0,9,     -999.0,     -999.0,9,     -999.0,20130820,       1116
33RO20130803,       A16N,      65,          1,          6,          6,2,20130820,       1026,    32.9994,   -21.6835,       5271,  3114.5,   2.7617,  34.9391,2,  34.9394,2,    245.7,2,   245.9,2,   34.80,2,   20.80,2,    0.00,2,    1.41,2,   0.101,2,   0.054,2,   0.012,2,  2185.2,2,  2339.3,2,   742.5,2,      20,   7.7263,2,    25.00, -999.00,9,  -999.0,9,  -999.0, -999.00,9, -999.00,9,     13.249,2,-999.0000,5,-999.0000,5,-999.0000,5,-999.0000,5,-999.0000,5,-999.0000,5,-999.0000,5,-999.0000,5,-999.0000,5,     -999.0,5,  -999.0,9,     -999.0,     -999.0,9,     -999.0,20130820,       1109
33RO20130803,       A16N,      65,          1,          5,          5,2,20130820,       1026,    32.9994,   -21.6835,       5271,  3538.5,   2.5847,  34.9197,2,  34.9195,2,    243.4,2,   244.4,2,   40.00,2,   21.50,2,    0.00,2,    1.46,2,   0.037,2,   0.022,2,   0.009,2,  2190.8,2,  2299.4,4,   746.3,2,      20,   7.7264,2,    25.00, -999.00,9,  -999.0,9,  -999.0, -999.00,9, -999.00,9,     13.349,2,   0.1335,2,   0.0888,2,   0.0331,2,   0.0223,2,   0.0080,2,   0.0056,3,  -0.0023,4,   0.0244,2,   0.0262,2,     -999.0,5,  -999.0,9,     -999.0,     -999.0,9,     -999.0,20130820,       1101
33RO20130803,       A16N,      65,          1,          4,          4,2,20130820,       1026,    32.9994,   -21.6835,       5271,  4025.5,   2.4724,  34.9037,2,  34.9037,2,    243.2,2,   244.2,2,   43.60,6,   22.00,6,    0.00,6,    1.49,6,   0.005,2,   0.005,2,   0.000,2,  2193.4,2,  2348.3,6,   747.8,2,      20,   7.7275,2,    25.00, -999.00,9,  -999.0,9,  -999.0, -999.00,9, -999.00,9,     13.440,2,   0.1407,2,   0.0946,2,   0.0373,2,   0.0255,2,   0.0109,2,   0.0078,3,  -0.0009,4,   0.0231,2,   0.0250,2,     -999.0,5,  -999.0,9,     -999.0,     -999.0,9,     -999.0,20130820,       1052
33RO20130803,       A16N,      65,          1,          3,          3,2,20130820,       1026,    32.9994,   -21.6835,       5271,  4451.8,   2.4249,  34.8941,2,  34.8939,2,    243.9,2,   244.2,2,   45.70,6,   22.20,6,    0.00,6,    1.50,6,   0.002,2,   0.004,2,   0.000,2,  2195.8,2,  2349.0,2,   751.2,2,      20,   7.7256,2,    25.00, -999.00,9,  -999.0,9,  -999.0, -999.00,9, -999.00,9,     13.592,2,   0.1376,2,   0.0911,2,   0.0350,2,   0.0239,2,   0.0096,2,   0.0068,3,  -0.0016,4,   0.0237,2,   0.0258,2,     -999.0,5,  -999.0,9,     -999.0,     -999.0,9,     -999.0,20130820,       1043
33RO20130803,       A16N,      65,          1,          2,          2,2,20130820,       1026,    32.9994,   -21.6835,       5271,  4915.0,   2.4262,  34.8880,2,  34.8888,2,    243.7,2,   244.1,2,   47.10,6,   22.30,6,    0.00,6,    1.51,6,   0.003,6,   0.005,6,   0.000,6,  2197.8,2,  2350.5,2,   751.1,2,      20,   7.7254,2,    25.00, -999.00,9,  -999.0,9,  -999.0, -999.00,9, -999.00,9,     13.615,6,   0.1464,2,   0.0992,2,   0.0419,2,   0.0293,2,   0.0142,2,   0.0103,3,   0.0007,3,   0.0216,2,   0.0236,2,     -999.0,5,  -999.0,9,     -999.0,     -999.0,9,     -999.0,20130820,       1035
33RO20130803,       A16N,      65,          1,          1,          1,2,20130820,       1026,    32.9994,   -21.6835,       5271,  5343.0,   2.4686,  34.8860,2,  34.8865,2,    244.1,2,     244,2,   47.50,6,   22.40,6,    0.00,6,    1.52,6,   0.004,2,   0.007,2,   0.016,2,  2200.4,6,  2352.1,2,   749.1,2,      20,   7.7241,2,    25.00, -999.00,9,  -999.0,9,  -999.0, -999.00,9, -999.00,9,     13.670,2,   0.1409,2,   0.0944,2,   0.0372,2,   0.0253,2,   0.0107,2,   0.0075,3,  -0.0011,4,   0.0231,2,   0.0251,2,     -999.0,5,  -999.0,9,     -999.0,     -999.0,9,     -999.0,20130820,       1026