BOTTLE,20220815CCHSIOAMB
EXPOCODE,SECT_ID,STNNBR,CASTNO,SAMPNO,BTLNBR,BTLNBR_FLAG_W,DATE,TIME,LATITUDE,LONGITUDE,DEPTH,CTDPRS,CTDTMP,CTDSAL,CTDSAL_FLAG_W,SALNTY,SALNTY_FLAG_W,CTDOXY,CTDOXY_FLAG_W,OXYGEN,OXYGEN_FLAG_W,SILCAT,SILCAT_FLAG_W,NITRAT,NITRAT_FLAG_W,NITRIT,NITRIT_FLAG_W,PHSPHT,PHSPHT_FLAG_W,CFC-11,CFC-11_FLAG_W,CFC-12,CFC-12_FLAG_W,SF6,SF6_FLAG_W,TCARBN,TCARBN_FLAG_W,ALKALI,ALKALI_FLAG_W,PCO2,PCO2_FLAG_W,PCO2TMP,PH_SWS,PH_SWS_FLAG_W,PH_TMP,DELC13,DELC13_FLAG_W,DELC14,DELC14_FLAG_W,C14ERR,DOC,DOC_FLAG_W,TDN,TDN_FLAG_W,N2O,N2O_FLAG_W,CDOM325,CDOM325_FLAG_W,CDOM340,CDOM340_FLAG_W,CDOM380,CDOM380_FLAG_W,CDOM412,CDOM412_FLAG_W,CDOM443,CDOM443_FLAG_W,CDOM490,CDOM490_FLAG_W,CDOM555,CDOM555_FLAG_W,CDOMSL,CDOMSL_FLAG_W,CDOMSN,CDOMSN_FLAG_W,CCL4,CCL4_FLAG_W,14C-DOC,14C-DOC_FLAG_W,14C-DOCERR,13C-DOC,13C-DOC_FLAG_W,13C-DOCERR,BTL_DATE,BTL_TIME
,,,,,,,,,,,METERS,DBAR,ITS-90,PSS-78,,PSS-78,,UMOL/KG,,UMOL/KG,,UMOL/KG,,UMOL/KG,,UMOL/KG,,UMOL/KG,,PMOL/KG,,PMOL/KG,,FMOL/KG,,UMOL/KG,,UMOL/KG,,UATM,,DEG C,,,DEG C,/MILLE,,/MILLE,,/MILLE,UMOL/KG,,UMOL/KG,,NMOL/KG,,1/M,,1/M,,1/M,,1/M,,1/M,,1/M,,1/M,,1/NM,,1/NM,,PMOL/KG,,/MILLE,,/MILLE,/MILLE,,/MILLE,,
33RO20130803,       A16N,      49,          1,         24,         24,2,20130815,       1348,    40.9993,   -19.9999,       4716,     2.7,  21.8515,  36.0695,2,  36.0720,2,    220.9,2,   223.2,2,    0.30,2,    0.10,2,    0.00,2,    0.02,2,   2.067,2,   1.269,2,   1.466,2,  2090.2,6,  2368.8,2,   383.6,2,      20,   7.9778,2,    25.00, -999.00,9,  -999.0,9,  -999.0, -999.00,9, -999.00,9,      7.191,2,   0.0915,2,   0.0564,2,   0.0090,3,   0.0047,2,  -0.0027,4,   0.0005,4,  -0.0042,4,   0.0451,3,   0.0398,4,     -999.0,5,  -999.0,9,     -999.0,     -999.0,9,     -999.0,20130815,       1537
33RO20130803,       A16N,      49,          1,         23,         23,2,20130815,       1348,    40.9993,   -19.9999,       4716,    22.9,  20.6458,  36.0213,2,  36.0256,2,    227.3,2,   228.9,2,    0.30,2,    0.10,2,    0.00,2,    0.02,2,   2.159,2,   1.319,2,   1.516,2,  2086.0,2,  2366.2,2,   383.5,2,      20,   7.9809,6,    25.00, -999.00,9,  -999.0,9,  -999.0, -999.00,9, -999.00,9,      7.404,2,   0.0986,2,   0.0608,2,   0.0114,3,   0.0062,2,  -0.0019,4,   0.0008,3,  -0.0039,4,   0.0407,3,   0.0383,3,     -999.0,5,  -999.0,9,     -999.0,     -999.0,9,     -999.0,20130815,       1534
33RO20130803,       A16N,      49,          1,         22,         22,2,20130815,       1348,    40.9993,   -19.9999,       4716,    47.6,  17.4196,  35.9008,2,  35.8935,2,    258.0,2,   260.1,2,    0.40,2,    0.10,2,    0.00,2,    0.04,2,   2.601,6,   1.550,6,   1.740,6,  2082.6,2,  2360.2,6,   388.0,2,      20,   7.9759,2,    25.00, -999.00,9,  -999.0,9,  -999.0, -999.00,9, -999.00,9,      8.516,6,   0.2018,2,   0.1366,2,   0.0485,2,   0.0298,2,   0.0122,2,   0.0080,3,  -0.0006,4,   0.0252,2,   0.0264,2,     -999.0,5,  -999.0,9,     -999.0,     -999.0,9,     -999.0,20130815,       1532
33RO20130803,       A16N,      49,          1,         21,         21,2,20130815,       1348,    40.9993,   -19.9999,       4716,    72.8,  15.0312,  35.8421,2,  35.8466,2,    259.2,2,   257.8,2,    0.80,2,    0.90,2,    0.11,2,    0.12,2,   2.740,2,   1.628,2,   1.775,2,  2099.2,2,  2357.7,2,   427.5,2,      20,   7.9408,2,    25.00, -999.00,9,  -999.0,9,  -999.0, -999.00,9, -999.00,9,      9.147,2,   0.1890,2,   0.1337,2,   0.0536,2,   0.0369,2,   0.0160,2,   0.0091,3,   0.0004,4,   0.0220,2,   0.0233,2,     -999.0,5,  -999.0,9,     -999.0,     -999.0,9,     -999.0,20130815,       1530
33RO20130803,       A16N,      49,          1,         20,         20,2,20130815,       1348,    40.9993,   -19.9999,       4716,   100.6,  14.2547,  35.8297,2,  35.8309,2,    239.6,2,   236.9,2,    1.50,2,    4.90,2,    0.16,2,    0.32,2,   2.779,2,   1.638,2,   1.790,2,  2117.9,2,  2354.9,2,   481.5,2,      20,   7.8949,2,    25.00, -999.00,9,  -999.0,9,  -999.0, -999.00,9, -999.00,9,      9.579,2,   0.1309,2,   0.0890,2,   0.0315,2,   0.0233,2,   0.0074,2,   0.0045,2,  -0.0021,4,   0.0246,2,   0.0264,2,     -999.0,5,  -999.0,9,     -999.0,     -999.0,9,     -999.0,20130815,       1528
33RO20130803,       A16N,      49,          1,         19,         19,2,20130815,       1348,    40.9993,   -19.9999,       4716,   123.4,  14.1036,  35.8482,2,  35.8491,2,    232.8,2,   230.1,2,    1.90,2,    5.90,2,    0.01,2,    0.37,2,   2.751,2,   1.630,2,   1.753,2,  2125.7,2,  2351.8,2,   495.9,2,      20,   7.8838,2,    25.00, -999.00,9,  -999.0,9,  -999.0, -999.00,9, -999.00,9,      9.688,2,   0.1183,2,   0.0794,2,   0.0270,2,   0.0199,2,   0.0054,3,   0.0033,3,  -0.0027,3,   0.0257,2,   0.0276,2,     -999.0,5,  -999.0,9,     -999.0,     -999.0,9,     -999.0,20130815,       1526
33RO20130803,       A16N,      49,          1,         18,         18,2,20130815,       1348,    40.9993,   -19.9999,       4716,   167.6,  13.4385,  35.7479,2,  35.7489,2,    233.9,2,   232.7,2,    2.40,2,    7.10,2,    0.01,2,    0.45,2,   2.829,2,   1.660,2,   1.802,2,  2126.3,2,  2347.4,2,   515.4,2,      20,   7.8700,2,    25.00, -999.00,9,  -999.0,9,  -999.0, -999.00,9, -999.00,9,      9.883,2,   0.1165,2,   0.0770,2,   0.0253,2,   0.0181,2,   0.0045,3,   0.0030,3,  -0.0029,3,   0.0267,2,   0.0286,2,     -999.0,5,  -999.0,9,     -999.0,     -999.0,9,     -999.0,20130815,       1524
33RO20130803,       A16N,      49,          1,         17,         17,2,20130815,       1348,    40.9993,   -19.9999,       4716,   245.3,  13.0268,  35.7166,2,  35.7194,2,    227.8,2,   226.8,2,    2.90,2,    8.50,2,    0.01,2,    0.53,2,   2.848,2,   1.670,2,   1.714,2,  2134.0,2,  2345.6,2,   540.0,2,      20,   7.8544,2,    25.00, -999.00,9,  -999.0,9,  -999.0, -999.00,9, -999.00,9,     10.635,2,   0.1181,2,   0.0784,2,   0.0265,2,   0.0190,2,   0.0051,3,   0.0031,3,  -0.0028,3,   0.0261,2,   0.0280,2,     -999.0,5,  -999.0,9,     -999.0,     -999.0,9,     -999.0,20130815,       1521
33RO20130803,       A16N,      49,          1,         16,         16,2,20130815,       1348,    40.9993,   -19.9999,       4716,   315.8,  12.5719,  35.6623,2,  35.6627,2,    220.5,2,   220.9,2,    3.60,2,   10.10,2,    0.01,2,    0.63,2,   2.856,2,   1.660,2,   1.602,2,  2141.3,2,  2344.6,2,   568.3,2,      20,   7.8317,2,    25.00, -999.00,9,  -999.0,9,  -999.0, -999.00,9, -999.00,9,     11.561,2,   0.1225,2,   0.0816,2,   0.0283,2,   0.0202,2,   0.0062,3,   0.0040,2,  -0.0024,4,   0.0255,2,   0.0275,2,     -999.0,5,  -999.0,9,     -999.0,     -999.0,9,     -999.0,20130815,       1519
33RO20130803,       A16N,      49,          1,         15,         15,2,20130815,       1348,    40.9993,   -19.9999,       4716,   402.4,  12.2124,  35.6481,2,  35.6467,2,    213.2,2,   214.8,2,    4.10,2,   11.50,2,    0.00,2,    0.71,2,   2.875,2,   1.651,2,   1.507,2,  2148.6,2,  2344.3,2,   596.1,2,      20,   7.8160,2,    25.00, -999.00,9,  -999.0,9,  -999.0, -999.00,9, -999.00,9,     12.360,2,   0.1222,2,   0.0808,2,   0.0278,2,   0.0196,2,   0.0059,3,   0.0037,3,  -0.0026,4,   0.0258,2,   0.0278,2,     -999.0,5,  -999.0,9,     -999.0,     -999.0,9,     -999.0,20130815,       1517
33RO20130803,       A16N,      49,          1,         14,         14,2,20130815,       1348,    40.9993,   -19.9999,       4716,   507.6,  11.6088,  35.5863,2,  35.5878,2,    211.0,2,   211.3,2,    4.80,2,   12.80,2,    0.01,2,    0.79,2,   2.861,2,   1.622,2,   1.454,2,  2154.6,2,  2337.2,6,   625.8,2,      20,   7.7969,2,    25.00, -999.00,9,  -999.0,9,  -999.0, -999.00,9, -999.00,9,     13.070,2,   0.1160,2,   0.0773,2,   0.0288,2,   0.0226,2,   0.0094,2,   0.0059,3,  -0.0026,4,   0.0237,2,   0.0264,2,     -999.0,5,  -999.0,9,     -999.0,     -999.0,9,     -999.0,20130815,       1514
33RO20130803,       A16N,      49,          1,         13,         13,2,20130815,       1348,    40.9993,   -19.9999,       4716,   652.0,  10.7603,  35.5277,2,  35.5281,2,    191.4,2,   190.8,2,    7.20,2,   16.10,2,    0.00,2,    1.00,2,   2.512,2,   1.378,2,   0.969,2,  2169.7,2,  2337.2,2,   690.0,2,      20,   7.7575,6,    25.00, -999.00,9,  -999.0,9,  -999.0, -999.00,9, -999.00,9,     15.032,2,   0.1131,2,   0.0749,2,   0.0277,2,   0.0212,2,   0.0088,2,   0.0054,3,  -0.0028,3,   0.0240,2,   0.0268,2,     -999.0,5,  -999.0,9,     -999.0,     -999.0,9,     -999.0,20130815,       1510
33RO20130803,       A16N,      49,          1,         12,         12,2,20130815,       1348,    40.9993,   -19.9999,       4716,   855.4,   9.5635,  35.5438,2,  35.5442,2,    182.0,2,   183.2,2,    9.80,2,   18.10,2,    0.00,2,    1.14,2,   2.092,2,   1.111,2,   0.614,2,  2185.8,6,  2343.0,2,   734.1,2,      20,   7.7343,2,    25.00, -999.00,9,  -999.0,9,  -999.0, -999.00,9, -999.00,9,     16.139,2,   0.1174,2,   0.0775,2,   0.0284,2,   0.0212,2,   0.0087,2,   0.0050,3,  -0.0031,3,   0.0244,2,   0.0270,2,     -999.0,5,  -999.0,9,     -999.0,     -999.0,9,     -999.0,20130815,       1506
33RO20130803,       A16N,      49,          1,         11,         11,2,20130815,       1348,    40.9993,   -19.9999,       4716,   952.3,   9.3642,  35.6208,2,  35.6226,2,    185.1,2,   185.8,2,   10.10,2,   17.90,2,    0.00,2,    1.13,2,   1.976,2,   1.038,2,   0.517,2,  2188.9,2,  2413.5,4,   725.5,2,      20,   7.7399,2,    25.00, -999.00,9,  -999.0,9,  -999.0, -999.00,9, -999.00,9,     15.651,2,   0.1118,2,   0.0732,2,   0.0257,2,   0.0191,2,   0.0072,2,   0.0043,3,  -0.0035,3,   0.0254,2,   0.0279,2,     -999.0,5,  -999.0,9,     -999.0,     -999.0,9,     -999.0,20130815,       1503
33RO20130803,       A16N,      49,          1,         10,         10,2,20130815,       1348,    40.9993,   -19.9999,       4716,  1140.7,   8.3332,  35.5960,2,  35.5971,2,    200.4,2,   200.5,2,   10.70,2,   17.70,2,    0.00,2,    1.12,2,   2.078,2,   1.086,2,   0.550,2,  2190.9,2,  2354.2,2,   728.2,2,      20,   7.7410,2,    25.00, -999.00,9,  -999.0,9,  -999.0, -999.00,9, -999.00,9,     15.066,2,   0.1182,2,   0.0775,2,   0.0285,2,   0.0214,2,   0.0090,2,   0.0056,3,  -0.0028,3,   0.0243,2,   0.0271,2,     -999.0,5,  -999.0,9,     -999.0,     -999.0,9,     -999.0,20130815,       1458
33RO20130803,       A16N,      49,          1,          9,          9,2,20130815,       1348,    40.9993,   -19.9999,       4716,  1324.4,   6.4219,  35.3233,2,  35.3250,2,    226.0,2,   214.5,4,   11.20,2,   17.80,2,    0.00,2,    1.15,2,   2.540,2,   1.305,2,   0.683,2,  2181.9,2,  2307.0,4,   752.0,2,      20,   7.7245,2,    25.00, -999.00,9,  -999.0,9,  -999.0, -999.00,9, -999.00,9,     14.594,2,   0.1185,2,   0.0778,2,   0.0281,2,   0.0206,2,   0.0082,2,   0.0048,3,  -0.0030,3,   0.0247,2,   0.0273,2,     -999.0,5,  -999.0,9,     -999.0,     -999.0,9,     -999.0,20130815,       1454
33RO20130803,       A16N,      49,          1,          8,          8,2,20130815,       1348,    40.9993,   -19.9999,       4716,  1590.8,   5.1420,  35.1578,2,  35.1598,2,    244.9,2,     244,2,   11.90,2,   17.80,2,    0.00,2,    1.16,2,   2.584,2,   1.294,2,   0.582,2,  2171.9,2,  2325.2,2,   757.2,2,      20,   7.7187,2,    25.00, -999.00,9,  -999.0,9,  -999.0, -999.00,9, -999.00,9,     14.206,2,   0.1249,2,   0.0819,2,   0.0299,2,   0.0219,2,   0.0090,2,   0.0054,3,  -0.0026,4,   0.0245,2,   0.0272,2,     -999.0,5,  -999.0,9,     -999.0,     -999.0,9,     -999.0,20130815,       1449
33RO20130803,       A16N,      49,          1,          7,          7,2,20130815,       1348,    40.9993,   -19.9999,       4716,  2020.0,   3.7322,  34.9737,2,  34.9752,2,    263.0,2,   263.1,2,   13.90,2,   17.80,2,    0.00,2,    1.17,2,   2.295,2,   1.115,2,   0.426,2,  2163.6,2,  2313.2,2,   756.0,2,      20,   7.7206,2,    25.00, -999.00,9,  -999.0,9,  -999.0, -999.00,9, -999.00,9,     13.634,2,   0.1254,2,   0.0834,2,   0.0315,2,   0.0230,2,   0.0101,2,   0.0062,3,  -0.0019,4,   0.0237,2,   0.0261,2,     -999.0,5,  -999.0,9,     -999.0,     -999.0,9,     -999.0,20130815,       1440
33RO20130803,       A16N,      49,          1,          6,          6,2,20130815,       1348,    40.9993,   -19.9999,       4716,  2392.4,   3.3075,  34.9550,2,  34.9551,2,    262.0,2,   261.1,2,   18.60,2,   18.20,2,    0.00,2,    1.21,2,   1.536,2,   0.744,2,   0.268,2,  2166.8,2,  2318.5,2,   751.2,2,      20,   7.7244,2,    25.00, -999.00,9,  -999.0,9,  -999.0, -999.00,9, -999.00,9,     13.506,2,   0.1205,2,   0.0795,2,   0.0289,2,   0.0208,2,   0.0085,2,   0.0050,3,  -0.0028,3,   0.0247,2,   0.0270,2,     -999.0,5,  -999.0,9,     -999.0,     -999.0,9,     -999.0,20130815,       1433
33RO20130803,       A16N,      49,          1,          5,          5,2,20130815,       1348,    40.9993,   -19.9999,       4716,  2807.6,   2.9487,  34.9476,2,  34.9549,2,    252.9,2,   253.3,2,   26.90,2,   19.30,2,    0.00,2,    1.29,2,   0.810,2,   0.396,2,   0.144,2,  2177.0,2,  2326.9,2,   751.8,2,      20,   7.7250,2,    25.00, -999.00,9,  -999.0,9,  -999.0, -999.00,9, -999.00,9,     13.576,2,   0.1212,2,   0.0795,2,   0.0289,2,   0.0206,2,   0.0084,2,   0.0048,3,  -0.0030,3,   0.0248,2,   0.0272,2,     -999.0,5,  -999.0,9,     -999.0,     -999.0,9,     -999.0,20130815,       1425
33RO20130803,       A16N,      49,          1,          4,          4,2,20130815,       1348,    40.9993,   -19.9999,       4716,  3185.3,   2.7340,  34.9332,2,  34.9351,2,    247.6,2,   247.9,2,   33.60,6,   20.30,6,    0.00,6,    1.36,6,   0.564,2,   0.276,2,   0.148,2,  2186.5,2,  2335.8,2,   756.5,2,      20,   7.7268,2,    25.00, -999.00,9,  -999.0,9,  -999.0, -999.00,9, -999.00,9,     13.694,2,   0.1246,2,   0.0815,2,   0.0299,2,   0.0211,2,   0.0088,2,   0.0051,3,  -0.0029,3,   0.0247,2,   0.0271,2,     -999.0,5,  -999.0,9,     -999.0,     -999.0,9,     -999.0,20130815,       1418
33RO20130803,       A16N,      49,          1,          3,          3,2,20130815,       1348,    40.9993,   -19.9999,       4716,  3699.1,   2.5962,  34.9185,2,  34.9189,2,    241.5,2,   241.9,2,   40.40,6,   21.50,6,    0.00,6,    1.44,6,   0.281,2,   0.140,2,   0.090,2,  2195.4,2,  2345.9,2,   758.7,2,      20,   7.7238,2,    25.00, -999.00,9,  -999.0,9,  -999.0, -999.00,9, -999.00,9,     13.734,2,   0.1294,2,   0.0834,2,   0.0304,2,   0.0212,2,   0.0086,2,   0.0047,3,  -0.0032,3,   0.0250,2,   0.0277,2,     -999.0,5,  -999.0,9,     -999.0,     -999.0,9,     -999.0,20130815,       1408
33RO20130803,       A16N,      49,          1,          2,          2,2,20130815,       1348,    40.9993,   -19.9999,       4716,  4249.6,   2.5339,  34.9068,2,  34.9078,2,    240.5,2,   240.6,2,   43.90,6,   22.00,6,    0.00,6,    1.48,6,   0.097,6,   0.052,6,   0.067,6,  2197.8,2,  2351.3,6,   755.9,2,      20,   7.7245,2,    25.00, -999.00,9,  -999.0,9,  -999.0, -999.00,9, -999.00,9,     13.791,6,   0.1220,2,   0.0806,2,   0.0292,2,   0.0203,2,   0.0085,2,   0.0050,3,  -0.0030,3,   0.0249,2,   0.0270,2,     -999.0,5,  -999.0,9,     -999.0,     -999.0,9,     -999.0,20130815,       1358
33RO20130803,       A16N,      49,          1,          1,          1,2,20130815,       1348,    40.9993,   -19.9999,       4716,  4774.8,   2.5129,  34.8978,2,  34.8983,2,    241.7,2,   240.8,2,   45.80,6,   22.30,6,    0.01,6,    1.50,6,   0.019,2,   0.014,2,   0.031,2,  2201.8,6,  2354.7,2,   752.2,2,      20,   7.7274,2,    25.00, -999.00,9,  -999.0,9,  -999.0, -999.00,9, -999.00,9,     13.899,2,   0.1203,2,   0.0785,2,   0.0296,2,   0.0196,2,   0.0074,2,   0.0039,2,  -0.0038,4,   0.0245,2,   0.0269,2,     -999.0,5,  -999.0,9,     -999.0,     -999.0,9,     -999.0,20130815,       1348