BOTTLE,20220815CCHSIOAMB
EXPOCODE,SECT_ID,STNNBR,CASTNO,SAMPNO,BTLNBR,BTLNBR_FLAG_W,DATE,TIME,LATITUDE,LONGITUDE,DEPTH,CTDPRS,CTDTMP,CTDSAL,CTDSAL_FLAG_W,SALNTY,SALNTY_FLAG_W,CTDOXY,CTDOXY_FLAG_W,OXYGEN,OXYGEN_FLAG_W,SILCAT,SILCAT_FLAG_W,NITRAT,NITRAT_FLAG_W,NITRIT,NITRIT_FLAG_W,PHSPHT,PHSPHT_FLAG_W,CFC-11,CFC-11_FLAG_W,CFC-12,CFC-12_FLAG_W,SF6,SF6_FLAG_W,TCARBN,TCARBN_FLAG_W,ALKALI,ALKALI_FLAG_W,PCO2,PCO2_FLAG_W,PCO2TMP,PH_SWS,PH_SWS_FLAG_W,PH_TMP,DELC13,DELC13_FLAG_W,DELC14,DELC14_FLAG_W,C14ERR,DOC,DOC_FLAG_W,TDN,TDN_FLAG_W,N2O,N2O_FLAG_W,CDOM325,CDOM325_FLAG_W,CDOM340,CDOM340_FLAG_W,CDOM380,CDOM380_FLAG_W,CDOM412,CDOM412_FLAG_W,CDOM443,CDOM443_FLAG_W,CDOM490,CDOM490_FLAG_W,CDOM555,CDOM555_FLAG_W,CDOMSL,CDOMSL_FLAG_W,CDOMSN,CDOMSN_FLAG_W,CCL4,CCL4_FLAG_W,14C-DOC,14C-DOC_FLAG_W,14C-DOCERR,13C-DOC,13C-DOC_FLAG_W,13C-DOCERR,BTL_DATE,BTL_TIME
,,,,,,,,,,,METERS,DBAR,ITS-90,PSS-78,,PSS-78,,UMOL/KG,,UMOL/KG,,UMOL/KG,,UMOL/KG,,UMOL/KG,,UMOL/KG,,PMOL/KG,,PMOL/KG,,FMOL/KG,,UMOL/KG,,UMOL/KG,,UATM,,DEG C,,,DEG C,/MILLE,,/MILLE,,/MILLE,UMOL/KG,,UMOL/KG,,NMOL/KG,,1/M,,1/M,,1/M,,1/M,,1/M,,1/M,,1/M,,1/NM,,1/NM,,PMOL/KG,,/MILLE,,/MILLE,/MILLE,,/MILLE,,
33RO20130803,       A16N,      21,          1,         22,         22,2,20130808,       0226,    54.9992,   -19.9934,       1649,     3.9,  14.8460,  35.2881,2,  35.2889,2,    256.6,2,     259,2,    0.30,2,    0.10,2,    0.01,2,    0.08,2,   2.742,2,   1.635,2,   1.885,2,  2067.7,6,  2332.5,2,   391.6,2,      20,   7.9736,2,    25.00, -999.00,9,  -999.0,9,  -999.0, -999.00,9, -999.00,9,      8.848,2,-999.0000,9,-999.0000,9,-999.0000,9,-999.0000,9,-999.0000,9,-999.0000,9,-999.0000,9,-999.0000,9,-999.0000,9,     -999.0,5,  -999.0,9,     -999.0,     -999.0,9,     -999.0,20130808,       0321
33RO20130803,       A16N,      21,          1,         21,         21,2,20130808,       0226,    54.9992,   -19.9934,       1649,    20.7,  12.4661,  35.2792,2,  35.2833,2,    264.9,2,   267.4,2,    0.40,2,    4.50,2,    0.14,2,    0.37,2,   3.108,2,   1.827,2,   2.078,2,  2110.3,2,  2329.9,6,   497.2,2,      20,   7.8867,2,    25.00, -999.00,9,  -999.0,9,  -999.0, -999.00,9, -999.00,9,      9.720,2,-999.0000,9,-999.0000,9,-999.0000,9,-999.0000,9,-999.0000,9,-999.0000,9,-999.0000,9,-999.0000,9,-999.0000,9,     -999.0,5,  -999.0,9,     -999.0,     -999.0,9,     -999.0,20130808,       0319
33RO20130803,       A16N,      21,          1,         20,         20,2,20130808,       0226,    54.9992,   -19.9934,       1649,    42.9,  11.2737,  35.3173,2,  35.3191,2,    254.9,2,   255.1,2,    1.40,2,    7.90,2,    0.53,2,    0.58,2,-999.000,9,-999.000,9,-999.000,9,  2133.0,2,  2327.6,2,   564.3,2,      20,   7.8356,2,    25.00, -999.00,9,  -999.0,9,  -999.0, -999.00,9, -999.00,9,     -999.0,9,-999.0000,9,-999.0000,9,-999.0000,9,-999.0000,9,-999.0000,9,-999.0000,9,-999.0000,9,-999.0000,9,-999.0000,9,     -999.0,9,  -999.0,9,     -999.0,     -999.0,9,     -999.0,20130808,       0317
33RO20130803,       A16N,      21,          1,         19,         19,2,20130808,       0226,    54.9992,   -19.9934,       1649,    64.1,  10.6615,  35.3087,2,  35.3074,2,    252.1,2,   251.7,2,    2.20,2,   10.10,2,    0.03,2,    0.65,2,   3.186,6,   1.874,6,   2.014,6,  2137.2,2,  2325.2,2,   592.9,2,      20,   7.8167,2,    25.00, -999.00,9,  -999.0,9,  -999.0, -999.00,9, -999.00,9,     10.703,6,-999.0000,9,-999.0000,9,-999.0000,9,-999.0000,9,-999.0000,9,-999.0000,9,-999.0000,9,-999.0000,9,-999.0000,9,     -999.0,5,  -999.0,9,     -999.0,     -999.0,9,     -999.0,20130808,       0316
33RO20130803,       A16N,      21,          1,         18,         18,2,20130808,       0226,    54.9992,   -19.9934,       1649,    82.6,  10.5414,  35.2971,2,  35.2980,2,    253.9,2,   253.6,2,    2.40,2,   10.10,2,    0.02,2,    0.65,2,-999.000,9,-999.000,9,-999.000,9,  2136.6,2,  -999.0,5,   591.3,2,      20,   7.8170,2,    25.00, -999.00,9,  -999.0,9,  -999.0, -999.00,9, -999.00,9,     -999.0,9,-999.0000,9,-999.0000,9,-999.0000,9,-999.0000,9,-999.0000,9,-999.0000,9,-999.0000,9,-999.0000,9,-999.0000,9,     -999.0,9,  -999.0,9,     -999.0,     -999.0,9,     -999.0,20130808,       0314
33RO20130803,       A16N,      21,          1,         17,         17,2,20130808,       0226,    54.9992,   -19.9934,       1649,   101.1,  10.4628,  35.2899,2,  35.2893,2,    254.0,2,   254.6,2,    2.50,2,   10.20,2,    0.02,2,    0.66,2,   3.222,2,   1.885,2,   2.069,2,  2137.3,2,  2325.2,2,   592.5,2,      20,   7.7630,4,    25.00, -999.00,9,  -999.0,9,  -999.0, -999.00,9, -999.00,9,     10.763,2,-999.0000,9,-999.0000,9,-999.0000,9,-999.0000,9,-999.0000,9,-999.0000,9,-999.0000,9,-999.0000,9,-999.0000,9,     -999.0,5,  -999.0,9,     -999.0,     -999.0,9,     -999.0,20130808,       0312
33RO20130803,       A16N,      21,          1,         16,         16,2,20130808,       0226,    54.9992,   -19.9934,       1649,   127.9,  10.4336,  35.2941,2,  35.2943,2,    256.8,2,   255.8,2,    2.80,2,   10.30,2,    0.01,2,    0.66,2,-999.000,9,-999.000,9,-999.000,9,  2138.7,2,  2324.1,6,   594.2,2,      20,   7.8150,2,    25.00, -999.00,9,  -999.0,9,  -999.0, -999.00,9, -999.00,9,     -999.0,9,-999.0000,9,-999.0000,9,-999.0000,9,-999.0000,9,-999.0000,9,-999.0000,9,-999.0000,9,-999.0000,9,-999.0000,9,     -999.0,9,  -999.0,9,     -999.0,     -999.0,9,     -999.0,20130808,       0311
33RO20130803,       A16N,      21,          1,         15,         15,2,20130808,       0226,    54.9992,   -19.9934,       1649,   151.9,  10.4149,  35.2990,2,  35.3013,2,    257.5,2,   254.6,2,    3.10,2,   10.50,2,    0.01,2,    0.67,2,   3.174,2,   1.864,2,   2.059,2,  2139.3,2,  2322.3,2,   596.6,2,      20,   7.8144,2,    25.00, -999.00,9,  -999.0,9,  -999.0, -999.00,9, -999.00,9,     10.999,2,-999.0000,9,-999.0000,9,-999.0000,9,-999.0000,9,-999.0000,9,-999.0000,9,-999.0000,9,-999.0000,9,-999.0000,9,     -999.0,5,  -999.0,9,     -999.0,     -999.0,9,     -999.0,20130808,       0309
33RO20130803,       A16N,      21,          1,         14,         14,2,20130808,       0226,    54.9992,   -19.9934,       1649,   177.2,  10.4525,  35.3254,2,  35.3256,2,    258.7,2,   258.3,2,    2.40,2,   10.20,2,    0.01,2,    0.65,2,-999.000,9,-999.000,9,-999.000,9,  2137.1,2,  2327.4,2,   589.5,2,      20,   7.8188,2,    25.00, -999.00,9,  -999.0,9,  -999.0, -999.00,9, -999.00,9,     -999.0,9,-999.0000,9,-999.0000,9,-999.0000,9,-999.0000,9,-999.0000,9,-999.0000,9,-999.0000,9,-999.0000,9,-999.0000,9,     -999.0,9,  -999.0,9,     -999.0,     -999.0,9,     -999.0,20130808,       0307
33RO20130803,       A16N,      21,          1,         13,         13,2,20130808,       0226,    54.9992,   -19.9934,       1649,   193.9,  10.4560,  35.3341,2,  35.3342,2,    259.2,2,   258.7,2,    2.40,2,   10.10,2,    0.01,2,    0.65,2,   3.200,2,   1.882,2,   2.132,2,  2135.5,2,  2329.4,2,   588.6,2,      20,   7.8195,2,    25.00, -999.00,9,  -999.0,9,  -999.0, -999.00,9, -999.00,9,     10.733,2,-999.0000,9,-999.0000,9,-999.0000,9,-999.0000,9,-999.0000,9,-999.0000,9,-999.0000,9,-999.0000,9,-999.0000,9,     -999.0,5,  -999.0,9,     -999.0,     -999.0,9,     -999.0,20130808,       0306
33RO20130803,       A16N,      21,          1,         12,         12,2,20130808,       0226,    54.9992,   -19.9934,       1649,   255.4,  10.5072,  35.3705,2,  35.3742,2,    253.7,2,   253.9,2,    3.70,2,   10.60,2,    0.01,2,    0.68,2,-999.000,9,-999.000,9,-999.000,9,  2140.3,2,  2326.9,2,   598.9,2,      20,   7.8138,2,    25.00, -999.00,9,  -999.0,9,  -999.0, -999.00,9, -999.00,9,     -999.0,9,-999.0000,9,-999.0000,9,-999.0000,9,-999.0000,9,-999.0000,9,-999.0000,9,-999.0000,9,-999.0000,9,-999.0000,9,     -999.0,9,  -999.0,9,     -999.0,     -999.0,9,     -999.0,20130808,       0303
33RO20130803,       A16N,      21,          1,         11,         11,2,20130808,       0226,    54.9992,   -19.9934,       1649,   304.9,  10.5676,  35.4064,2,  35.4060,2,    251.0,2,   250.7,2,    4.20,2,   10.90,2,    0.01,2,    0.69,2,   3.125,2,   1.835,2,   1.959,2,  2145.0,2,  2328.1,2,   603.8,2,      20,   7.8083,2,    25.00, -999.00,9,  -999.0,9,  -999.0, -999.00,9, -999.00,9,     11.068,2,-999.0000,9,-999.0000,9,-999.0000,9,-999.0000,9,-999.0000,9,-999.0000,9,-999.0000,9,-999.0000,9,-999.0000,9,     -999.0,5,  -999.0,9,     -999.0,     -999.0,9,     -999.0,20130808,       0301
33RO20130803,       A16N,      21,          1,         10,         10,2,20130808,       0226,    54.9992,   -19.9934,       1649,   383.5,  10.4858,  35.4187,2,  35.4178,2,    251.8,2,   251.7,2,    4.40,2,   11.10,2,    0.02,2,    0.70,2,-999.000,9,-999.000,9,-999.000,9,  2144.8,2,  2326.6,2,   606.3,2,      20,   7.8089,6,    25.00, -999.00,9,  -999.0,9,  -999.0, -999.00,9, -999.00,9,     -999.0,9,-999.0000,9,-999.0000,9,-999.0000,9,-999.0000,9,-999.0000,9,-999.0000,9,-999.0000,9,-999.0000,9,-999.0000,9,     -999.0,9,  -999.0,9,     -999.0,     -999.0,9,     -999.0,20130808,       0258
33RO20130803,       A16N,      21,          1,          9,          9,2,20130808,       0226,    54.9992,   -19.9934,       1649,   421.3,  10.3381,  35.3955,2,  35.3940,2,    251.0,2,   254.6,2,    4.50,2,   11.00,2,    0.01,2,    0.70,2,   3.174,2,   1.852,2,   1.917,2,  2144.7,2,  2328.5,2,   606.5,2,      20,   7.8083,2,    25.00, -999.00,9,  -999.0,9,  -999.0, -999.00,9, -999.00,9,     11.078,2,-999.0000,9,-999.0000,9,-999.0000,9,-999.0000,9,-999.0000,9,-999.0000,9,-999.0000,9,-999.0000,9,-999.0000,9,     -999.0,5,  -999.0,9,     -999.0,     -999.0,9,     -999.0,20130808,       0256
33RO20130803,       A16N,      21,          1,          8,          8,2,20130808,       0226,    54.9992,   -19.9934,       1649,   531.1,  10.0015,  35.4049,2,  35.4040,2,    240.5,2,   242.3,2,    5.60,2,   12.70,2,    0.01,2,    0.81,2,   3.046,2,   1.764,2,   1.758,2,  2153.7,2,  2330.4,2,   638.7,2,      20,   7.7901,2,    25.00, -999.00,9,  -999.0,9,  -999.0, -999.00,9, -999.00,9,     12.233,2,-999.0000,9,-999.0000,9,-999.0000,9,-999.0000,9,-999.0000,9,-999.0000,9,-999.0000,9,-999.0000,9,-999.0000,9,     -999.0,5,  -999.0,9,     -999.0,     -999.0,9,     -999.0,20130808,       0252
33RO20130803,       A16N,      21,          1,          7,          7,2,20130808,       0226,    54.9992,   -19.9934,       1649,   602.5,   9.7313,  35.3751,2,  35.3758,2,    236.9,2,   236.6,2,    6.30,6,   13.50,6,    0.01,6,    0.86,6,   2.983,2,   1.719,2,   1.692,2,  2157.8,2,  2326.4,2,   658.2,2,      20,   7.7773,2,    25.00, -999.00,9,  -999.0,9,  -999.0, -999.00,9, -999.00,9,     12.938,2,-999.0000,9,-999.0000,9,-999.0000,9,-999.0000,9,-999.0000,9,-999.0000,9,-999.0000,9,-999.0000,9,-999.0000,9,     -999.0,5,  -999.0,9,     -999.0,     -999.0,9,     -999.0,20130808,       0249
33RO20130803,       A16N,      21,          1,          6,          6,2,20130808,       0226,    54.9992,   -19.9934,       1649,   673.5,   8.7543,  35.2864,2,  35.2858,2,    201.1,2,   200.6,2,    9.70,2,   17.70,2,    0.01,2,    1.13,2,   2.537,2,   1.401,2,   1.048,2,  2178.0,6,  2325.1,2,   757.1,2,      20,   7.7222,2,    25.00, -999.00,9,  -999.0,9,  -999.0, -999.00,9, -999.00,9,     15.815,2,-999.0000,9,-999.0000,9,-999.0000,9,-999.0000,9,-999.0000,9,-999.0000,9,-999.0000,9,-999.0000,9,-999.0000,9,     -999.0,5,  -999.0,9,     -999.0,     -999.0,9,     -999.0,20130808,       0247
33RO20130803,       A16N,      21,          1,          5,          5,2,20130808,       0226,    54.9992,   -19.9934,       1649,   866.5,   7.0950,  35.2357,2,  35.2377,2,    211.4,2,   212.7,2,   11.00,6,   18.40,6,    0.00,6,    1.18,6,   2.640,2,   1.415,2,   0.919,2,  2183.8,2,  2323.3,2,   784.8,2,      20,   7.7066,6,    25.00, -999.00,9,  -999.0,9,  -999.0, -999.00,9, -999.00,9,     15.462,2,-999.0000,9,-999.0000,9,-999.0000,9,-999.0000,9,-999.0000,9,-999.0000,9,-999.0000,9,-999.0000,9,-999.0000,9,     -999.0,5,  -999.0,9,     -999.0,     -999.0,9,     -999.0,20130808,       0243
33RO20130803,       A16N,      21,          1,          4,          4,2,20130808,       0226,    54.9992,   -19.9934,       1649,  1011.9,   5.6219,  35.0779,2,  35.0778,2,    235.8,2,   236.9,2,   11.10,2,   18.20,2,    0.00,2,    1.18,2,   3.081,6,   1.655,6,   1.095,6,  2178.2,2,  2314.5,2,   800.5,2,      20,   7.6991,2,    25.00, -999.00,9,  -999.0,9,  -999.0, -999.00,9, -999.00,9,     14.792,6,-999.0000,9,-999.0000,9,-999.0000,9,-999.0000,9,-999.0000,9,-999.0000,9,-999.0000,9,-999.0000,9,-999.0000,9,     -999.0,5,  -999.0,9,     -999.0,     -999.0,9,     -999.0,20130808,       0240
33RO20130803,       A16N,      21,          1,          3,          3,2,20130808,       0226,    54.9992,   -19.9934,       1649,  1219.6,   4.4249,  34.9469,2,  34.9458,2,    263.4,2,   263.6,2,   10.40,2,   17.40,2,    0.00,2,    1.14,2,   3.711,2,   1.994,2,   1.390,2,  2169.2,2,  2303.7,6,   798.5,2,      20,   7.6993,2,    25.00, -999.00,9,  -999.0,9,  -999.0, -999.00,9, -999.00,9,     13.997,2,-999.0000,9,-999.0000,9,-999.0000,9,-999.0000,9,-999.0000,9,-999.0000,9,-999.0000,9,-999.0000,9,-999.0000,9,     -999.0,5,  -999.0,9,     -999.0,     -999.0,9,     -999.0,20130808,       0235
33RO20130803,       A16N,      21,          1,          2,          2,2,20130808,       0226,    54.9992,   -19.9934,       1649,  1415.8,   4.3086,  34.9610,2,  34.9606,2,    263.3,2,     263,2,   11.10,2,   17.40,2,    0.00,2,    1.14,2,   3.470,2,   1.825,2,   1.143,2,  2167.9,2,  2305.8,2,   787.0,2,      20,   7.7042,2,    25.00, -999.00,9,  -999.0,9,  -999.0, -999.00,9, -999.00,9,     14.034,2,-999.0000,9,-999.0000,9,-999.0000,9,-999.0000,9,-999.0000,9,-999.0000,9,-999.0000,9,-999.0000,9,-999.0000,9,     -999.0,5,  -999.0,9,     -999.0,     -999.0,9,     -999.0,20130808,       0231
33RO20130803,       A16N,      21,          1,          1,          1,2,20130808,       0226,    54.9992,   -19.9934,       1649,  1659.1,   3.4973,  34.9323,2,  34.9315,2,    269.5,2,   268.6,2,   14.70,6,   17.40,6,    0.01,6,    1.15,6,   2.794,2,   1.407,2,   0.657,2,  2167.1,6,  2308.5,2,   772.2,2,      20,   7.7106,2,    25.00, -999.00,9,  -999.0,9,  -999.0, -999.00,9, -999.00,9,     13.429,2,-999.0000,9,-999.0000,9,-999.0000,9,-999.0000,9,-999.0000,9,-999.0000,9,-999.0000,9,-999.0000,9,-999.0000,9,     -999.0,5,  -999.0,9,     -999.0,     -999.0,9,     -999.0,20130808,       0226