BOTTLE,20220815CCHSIOAMB
EXPOCODE,SECT_ID,STNNBR,CASTNO,SAMPNO,BTLNBR,BTLNBR_FLAG_W,DATE,TIME,LATITUDE,LONGITUDE,DEPTH,CTDPRS,CTDTMP,CTDSAL,CTDSAL_FLAG_W,SALNTY,SALNTY_FLAG_W,CTDOXY,CTDOXY_FLAG_W,OXYGEN,OXYGEN_FLAG_W,SILCAT,SILCAT_FLAG_W,NITRAT,NITRAT_FLAG_W,NITRIT,NITRIT_FLAG_W,PHSPHT,PHSPHT_FLAG_W,CFC-11,CFC-11_FLAG_W,CFC-12,CFC-12_FLAG_W,SF6,SF6_FLAG_W,TCARBN,TCARBN_FLAG_W,ALKALI,ALKALI_FLAG_W,PCO2,PCO2_FLAG_W,PCO2TMP,PH_SWS,PH_SWS_FLAG_W,PH_TMP,DELC13,DELC13_FLAG_W,DELC14,DELC14_FLAG_W,C14ERR,DOC,DOC_FLAG_W,TDN,TDN_FLAG_W,N2O,N2O_FLAG_W,CDOM325,CDOM325_FLAG_W,CDOM340,CDOM340_FLAG_W,CDOM380,CDOM380_FLAG_W,CDOM412,CDOM412_FLAG_W,CDOM443,CDOM443_FLAG_W,CDOM490,CDOM490_FLAG_W,CDOM555,CDOM555_FLAG_W,CDOMSL,CDOMSL_FLAG_W,CDOMSN,CDOMSN_FLAG_W,CCL4,CCL4_FLAG_W,14C-DOC,14C-DOC_FLAG_W,14C-DOCERR,13C-DOC,13C-DOC_FLAG_W,13C-DOCERR,BTL_DATE,BTL_TIME
,,,,,,,,,,,METERS,DBAR,ITS-90,PSS-78,,PSS-78,,UMOL/KG,,UMOL/KG,,UMOL/KG,,UMOL/KG,,UMOL/KG,,UMOL/KG,,PMOL/KG,,PMOL/KG,,FMOL/KG,,UMOL/KG,,UMOL/KG,,UATM,,DEG C,,,DEG C,/MILLE,,/MILLE,,/MILLE,UMOL/KG,,UMOL/KG,,NMOL/KG,,1/M,,1/M,,1/M,,1/M,,1/M,,1/M,,1/M,,1/NM,,1/NM,,PMOL/KG,,/MILLE,,/MILLE,/MILLE,,/MILLE,,
33RO20130803,       A16N,     124,          1,         24,         24,2,20130926,       0557,     1.9997,   -25.0004,       3890,     3.7,  27.3870,  35.8170,2,  35.8176,2,    200.0,2,   198.9,2,    1.00,2,    0.00,2,    0.00,2,    0.00,2,   1.518,2,   0.979,2,   1.187,2,  1999.0,6,  2343.2,2,   279.4,2,      20,   8.0972,2,    25.00, -999.00,9,  -999.0,9,  -999.0, -999.00,9, -999.00,9,      6.057,2,-999.0000,9,-999.0000,9,-999.0000,9,-999.0000,9,-999.0000,9,-999.0000,9,-999.0000,9,-999.0000,9,-999.0000,9,     -999.0,5,  -999.0,9,     -999.0,     -999.0,9,     -999.0,20130926,       0736
33RO20130803,       A16N,     124,          1,         23,         23,2,20130926,       0557,     1.9997,   -25.0004,       3890,    13.0,  27.3977,  35.8165,2,  35.8171,2,    200.2,2,   198.6,2,    1.00,2,    0.00,2,    0.00,2,    0.01,2,   1.522,2,   0.979,2,   1.162,2,  2000.1,2,  2343.1,2,   280.5,2,      20,   8.0960,2,    25.00, -999.00,9,  -999.0,9,  -999.0, -999.00,9, -999.00,9,      6.064,2,-999.0000,9,-999.0000,9,-999.0000,9,-999.0000,9,-999.0000,9,-999.0000,9,-999.0000,9,-999.0000,9,-999.0000,9,     -999.0,5,  -999.0,9,     -999.0,     -999.0,9,     -999.0,20130926,       0734
33RO20130803,       A16N,     124,          1,         22,         22,2,20130926,       0557,     1.9997,   -25.0004,       3890,    32.5,  27.3925,  35.8151,2,  35.8172,2,    200.8,2,   198.7,2,    1.00,2,    0.00,2,    0.00,2,    0.01,2,   1.524,6,   0.980,6,   1.167,6,  2000.9,2,  2343.1,2,   283.0,2,      20,   8.0983,2,    25.00, -999.00,9,  -999.0,9,  -999.0, -999.00,9, -999.00,9,      6.109,6,-999.0000,9,-999.0000,9,-999.0000,9,-999.0000,9,-999.0000,9,-999.0000,9,-999.0000,9,-999.0000,9,-999.0000,9,     -999.0,5,  -999.0,9,     -999.0,     -999.0,9,     -999.0,20130926,       0732
33RO20130803,       A16N,     124,          1,         21,         21,2,20130926,       0557,     1.9997,   -25.0004,       3890,    58.0,  27.2176,  35.8200,2,  35.8244,2,    199.4,2,   195.7,2,    1.20,2,    0.10,2,    0.01,2,    0.03,2,   1.579,2,   1.001,2,   1.135,2,  2015.4,2,  2344.8,6,   308.9,2,      20,   8.0772,2,    25.00, -999.00,9,  -999.0,9,  -999.0, -999.00,9, -999.00,9,      7.104,2,-999.0000,9,-999.0000,9,-999.0000,9,-999.0000,9,-999.0000,9,-999.0000,9,-999.0000,9,-999.0000,9,-999.0000,9,     -999.0,5,  -999.0,9,     -999.0,     -999.0,9,     -999.0,20130926,       0730
33RO20130803,       A16N,     124,          1,         20,         20,2,20130926,       0557,     1.9997,   -25.0004,       3890,    83.2,  21.0278,  35.7835,2,  35.7837,2,    150.3,2,     146,2,    3.20,2,    7.20,2,    0.22,2,    0.59,2,   1.965,2,   1.181,2,   0.974,2,  2129.5,2,  2348.1,2,   526.7,2,      20,   7.8758,2,    25.00, -999.00,9,  -999.0,9,  -999.0, -999.00,9, -999.00,9,     16.848,2,-999.0000,9,-999.0000,9,-999.0000,9,-999.0000,9,-999.0000,9,-999.0000,9,-999.0000,9,-999.0000,9,-999.0000,9,     -999.0,5,  -999.0,9,     -999.0,     -999.0,9,     -999.0,20130926,       0728
33RO20130803,       A16N,     124,          1,         19,         19,2,20130926,       0557,     1.9997,   -25.0004,       3890,   107.8,  15.7508,  35.6114,2,  35.6141,2,     94.1,2,    94.7,2,    6.50,2,   20.10,2,    0.03,2,    1.34,2,   2.209,2,   1.266,2,   0.825,2,  2198.0,2,  2334.9,2,   805.5,2,      20,   7.6996,2,    25.00, -999.00,9,  -999.0,9,  -999.0, -999.00,9, -999.00,9,     25.460,2,-999.0000,9,-999.0000,9,-999.0000,9,-999.0000,9,-999.0000,9,-999.0000,9,-999.0000,9,-999.0000,9,-999.0000,9,     -999.0,5,  -999.0,9,     -999.0,     -999.0,9,     -999.0,20130926,       0726
33RO20130803,       A16N,     124,          1,         18,         18,2,20130926,       0557,     1.9997,   -25.0004,       3890,   148.1,  14.1769,  35.4305,2,  35.4293,2,    107.1,2,   106.7,2,    7.60,2,   21.10,2,    0.01,2,    1.39,2,   2.186,2,   1.234,2,   0.734,2,  2192.0,6,  2327.5,2,   823.1,2,      20,   7.6878,2,    25.00, -999.00,9,  -999.0,9,  -999.0, -999.00,9, -999.00,9,     25.506,2,-999.0000,9,-999.0000,9,-999.0000,9,-999.0000,9,-999.0000,9,-999.0000,9,-999.0000,9,-999.0000,9,-999.0000,9,     -999.0,5,  -999.0,9,     -999.0,     -999.0,9,     -999.0,20130926,       0724
33RO20130803,       A16N,     124,          1,         17,         17,2,20130926,       0557,     1.9997,   -25.0004,       3890,   206.6,  12.5614,  35.2248,2,  35.2252,2,    141.4,2,   142.9,2,    8.30,2,   19.60,2,    0.01,2,    1.32,2,   2.303,2,   1.287,2,   0.733,2,  2175.7,2,  2320.7,2,   776.7,2,      20,   7.7176,2,    25.00, -999.00,9,  -999.0,9,  -999.0, -999.00,9, -999.00,9,     22.549,2,-999.0000,9,-999.0000,9,-999.0000,9,-999.0000,9,-999.0000,9,-999.0000,9,-999.0000,9,-999.0000,9,-999.0000,9,     -999.0,5,  -999.0,9,     -999.0,     -999.0,9,     -999.0,20130926,       0722
33RO20130803,       A16N,     124,          1,         16,         16,2,20130926,       0557,     1.9997,   -25.0004,       3890,   283.1,  10.4442,  34.9654,2,  34.9637,2,    130.5,2,   129.8,2,   11.80,2,   25.00,2,    0.00,2,    1.64,2,   2.013,2,   1.081,2,   0.528,2,  2195.0,2,  2307.6,2,   935.1,2,      20,   7.6404,2,    25.00, -999.00,9,  -999.0,9,  -999.0, -999.00,9, -999.00,9,     26.654,2,-999.0000,9,-999.0000,9,-999.0000,9,-999.0000,9,-999.0000,9,-999.0000,9,-999.0000,9,-999.0000,9,-999.0000,9,     -999.0,5,  -999.0,9,     -999.0,     -999.0,9,     -999.0,20130926,       0719
33RO20130803,       A16N,     124,          1,         15,         15,2,20130926,       0557,     1.9997,   -25.0004,       3890,   358.0,   9.3438,  34.8495,2,  34.8485,2,    103.8,2,     104,2,   14.70,2,   30.10,2,    0.00,2,    1.93,2,   1.551,2,   0.821,2,   0.361,2,  2216.8,2,  2300.1,2,  1125.9,2,      20,   7.5628,2,    25.00, -999.00,9,  -999.0,9,  -999.0, -999.00,9, -999.00,9,     32.460,2,-999.0000,9,-999.0000,9,-999.0000,9,-999.0000,9,-999.0000,9,-999.0000,9,-999.0000,9,-999.0000,9,-999.0000,9,     -999.0,5,  -999.0,9,     -999.0,     -999.0,9,     -999.0,20130926,       0716
33RO20130803,       A16N,     124,          1,         14,         14,2,20130926,       0557,     1.9997,   -25.0004,       3890,   448.0,   8.5424,  34.7591,2,  34.7515,2,    111.4,2,   112.7,2,   16.50,2,   31.10,2,    0.00,2,    2.00,2,   1.424,2,   0.744,2,   0.304,2,  2216.8,2,  2298.6,2,  1139.1,2,      20,   7.5534,2,    25.00, -999.00,9,  -999.0,9,  -999.0, -999.00,9, -999.00,9,     30.437,2,-999.0000,9,-999.0000,9,-999.0000,9,-999.0000,9,-999.0000,9,-999.0000,9,-999.0000,9,-999.0000,9,-999.0000,9,     -999.0,5,  -999.0,9,     -999.0,     -999.0,9,     -999.0,20130926,       0713
33RO20130803,       A16N,     124,          1,         13,         13,2,20130926,       0557,     1.9997,   -25.0004,       3890,   573.3,   6.4509,  34.5687,2,  34.5668,2,    138.3,2,   137.6,2,   22.30,2,   32.60,2,    0.00,2,    2.16,2,   1.017,6,   0.515,6,   0.183,6,  2214.8,2,  2296.0,2,  1124.1,2,      20,   7.5525,2,    25.00, -999.00,9,  -999.0,9,  -999.0, -999.00,9, -999.00,9,     25.694,6,-999.0000,9,-999.0000,9,-999.0000,9,-999.0000,9,-999.0000,9,-999.0000,9,-999.0000,9,-999.0000,9,-999.0000,9,     -999.0,5,  -999.0,9,     -999.0,     -999.0,9,     -999.0,20130926,       0709
33RO20130803,       A16N,     124,          1,         12,         12,2,20130926,       0557,     1.9997,   -25.0004,       3890,   722.9,   5.3473,  34.5260,2,  34.5258,2,    143.0,2,   142.8,2,   27.80,6,   34.20,6,    0.00,6,    2.29,6,   0.503,2,   0.250,2,   0.087,2,  2219.7,2,  2299.9,2,  1176.1,2,      20,   7.5432,6,    25.00, -999.00,9,  -999.0,9,  -999.0, -999.00,9, -999.00,9,     24.901,2,-999.0000,9,-999.0000,9,-999.0000,9,-999.0000,9,-999.0000,9,-999.0000,9,-999.0000,9,-999.0000,9,-999.0000,9,     -999.0,5,  -999.0,9,     -999.0,     -999.0,9,     -999.0,20130926,       0705
33RO20130803,       A16N,     124,          1,         11,         11,2,20130926,       0557,     1.9997,   -25.0004,       3890,   871.9,   4.8390,  34.5441,2,  34.5428,2,    149.8,2,   149.6,2,   30.50,6,   33.90,6,    0.00,6,    2.29,6,   0.289,2,   0.145,2,   0.048,2,  2221.5,2,  2303.7,6,  1155.6,2,      20,   7.5513,2,    25.00, -999.00,9,  -999.0,9,  -999.0, -999.00,9, -999.00,9,     23.936,2,-999.0000,9,-999.0000,9,-999.0000,9,-999.0000,9,-999.0000,9,-999.0000,9,-999.0000,9,-999.0000,9,-999.0000,9,     -999.0,5,  -999.0,9,     -999.0,     -999.0,9,     -999.0,20130926,       0702
33RO20130803,       A16N,     124,          1,         10,         10,2,20130926,       0557,     1.9997,   -25.0004,       3890,  1022.6,   4.6425,  34.7016,2,  34.6993,2,    159.9,2,     160,2,   29.10,6,   31.50,2,    0.00,6,    2.13,6,   0.076,2,   0.039,2,   0.000,2,  2218.0,2,  2313.5,3,  1069.9,2,      20,   7.5814,2,    25.00, -999.00,9,  -999.0,9,  -999.0, -999.00,9, -999.00,9,     22.156,2,-999.0000,9,-999.0000,9,-999.0000,9,-999.0000,9,-999.0000,9,-999.0000,9,-999.0000,9,-999.0000,9,-999.0000,9,     -999.0,5,  -999.0,9,     -999.0,     -999.0,9,     -999.0,20130926,       0658
33RO20130803,       A16N,     124,          1,          9,          9,2,20130926,       0557,     1.9997,   -25.0004,       3890,  1197.5,   4.6813,  34.8294,2,  34.8274,2,    178.2,2,   178.2,2,   25.10,6,   27.90,6,    0.00,6,    1.89,6,   0.120,2,   0.059,2,   0.000,2,  2207.0,2,  2312.4,2,   959.8,2,      20,   7.6239,2,    25.00, -999.00,9,  -999.0,9,  -999.0, -999.00,9, -999.00,9,     19.869,2,-999.0000,9,-999.0000,9,-999.0000,9,-999.0000,9,-999.0000,9,-999.0000,9,-999.0000,9,-999.0000,9,-999.0000,9,     -999.0,5,  -999.0,9,     -999.0,     -999.0,9,     -999.0,20130926,       0653
33RO20130803,       A16N,     124,          1,          8,          8,2,20130926,       0557,     1.9997,   -25.0004,       3890,  1447.3,   4.3191,  34.9611,2,  34.9614,2,    222.7,2,   223.2,2,   19.10,6,   21.90,6,    0.00,6,    1.46,6,   0.341,2,   0.172,2,   0.072,2,  2181.5,2,  2315.1,2,   808.1,2,      20,   7.6958,2,    25.00, -999.00,9,  -999.0,9,  -999.0, -999.00,9, -999.00,9,     15.637,2,-999.0000,9,-999.0000,9,-999.0000,9,-999.0000,9,-999.0000,9,-999.0000,9,-999.0000,9,-999.0000,9,-999.0000,9,     -999.0,5,  -999.0,9,     -999.0,     -999.0,9,     -999.0,20130926,       0648
33RO20130803,       A16N,     124,          1,          7,          7,2,20130926,       0557,     1.9997,   -25.0004,       3890,  1796.9,   3.8149,  34.9726,2,  34.9747,2,    245.3,2,   245.9,2,   18.60,2,   19.70,2,    0.00,2,    1.31,2,   0.449,2,   0.225,2,   0.076,2,  2172.4,2,  2317.2,2,   756.7,2,      20,   7.7226,2,    25.00, -999.00,9,  -999.0,9,  -999.0, -999.00,9, -999.00,9,     13.909,2,-999.0000,9,-999.0000,9,-999.0000,9,-999.0000,9,-999.0000,9,-999.0000,9,-999.0000,9,-999.0000,9,-999.0000,9,     -999.0,5,  -999.0,9,     -999.0,     -999.0,9,     -999.0,20130926,       0641
33RO20130803,       A16N,     124,          1,          6,          6,2,20130926,       0557,     1.9997,   -25.0004,       3890,  2197.6,   3.3385,  34.9537,2,  34.9545,2,    246.4,2,   246.7,2,   24.70,2,   20.20,2,    0.00,2,    1.35,2,   0.120,2,   0.062,2,   0.000,2,  2175.3,2,  2320.7,2,   752.6,2,      20,   7.7274,2,    25.00, -999.00,9,  -999.0,9,  -999.0, -999.00,9, -999.00,9,     13.684,2,-999.0000,9,-999.0000,9,-999.0000,9,-999.0000,9,-999.0000,9,-999.0000,9,-999.0000,9,-999.0000,9,-999.0000,9,     -999.0,5,  -999.0,9,     -999.0,     -999.0,9,     -999.0,20130926,       0633
33RO20130803,       A16N,     124,          1,          5,          5,2,20130926,       0557,     1.9997,   -25.0004,       3890,  2597.3,   2.9848,  34.9330,2,  34.9334,2,    244.5,2,   246.6,2,   30.80,2,   20.60,2,    0.00,2,    1.39,2,   0.084,2,   0.044,2,   0.000,2,  2181.8,2,  2328.0,2,   754.0,2,      20,   7.7226,2,    25.00, -999.00,9,  -999.0,9,  -999.0, -999.00,9, -999.00,9,     13.684,2,-999.0000,9,-999.0000,9,-999.0000,9,-999.0000,9,-999.0000,9,-999.0000,9,-999.0000,9,-999.0000,9,-999.0000,9,     -999.0,5,  -999.0,9,     -999.0,     -999.0,9,     -999.0,20130926,       0625
33RO20130803,       A16N,     124,          1,          4,          4,2,20130926,       0557,     1.9997,   -25.0004,       3890,  2998.4,   2.6680,  34.9128,2,  34.9126,2,    242.6,2,   243.3,2,   38.10,2,   21.50,2,    0.00,2,    1.45,2,   0.015,2,   0.009,2,   0.000,2,  2190.5,2,  2335.2,2,   764.7,2,      20,   7.7199,2,    25.00, -999.00,9,  -999.0,9,  -999.0, -999.00,9, -999.00,9,     13.780,2,-999.0000,9,-999.0000,9,-999.0000,9,-999.0000,9,-999.0000,9,-999.0000,9,-999.0000,9,-999.0000,9,-999.0000,9,     -999.0,5,  -999.0,9,     -999.0,     -999.0,9,     -999.0,20130926,       0617
33RO20130803,       A16N,     124,          1,          3,          3,2,20130926,       0557,     1.9997,   -25.0004,       3890,  3347.4,   2.5370,  34.9033,2,  34.9041,2,    243.9,2,   244.8,2,   40.20,2,   21.50,2,    0.00,2,    1.45,2,   0.036,2,   0.020,2,   0.000,2,  2192.1,2,  2338.2,2,   757.0,6,      20,   7.7187,6,    25.00, -999.00,9,  -999.0,9,  -999.0, -999.00,9, -999.00,9,     13.702,2,-999.0000,9,-999.0000,9,-999.0000,9,-999.0000,9,-999.0000,9,-999.0000,9,-999.0000,9,-999.0000,9,-999.0000,9,     -999.0,5,  -999.0,9,     -999.0,     -999.0,9,     -999.0,20130926,       0610
33RO20130803,       A16N,     124,          1,          2,          2,2,20130926,       0557,     1.9997,   -25.0004,       3890,  3697.2,   2.4099,  34.8924,2,  34.8922,2,    244.4,2,   245.1,2,   43.60,2,   21.80,2,    0.00,2,    1.47,2,   0.033,2,   0.020,2,   0.000,2,  2196.5,2,  2341.5,2,   770.8,2,      20,   7.7177,2,    25.00, -999.00,9,  -999.0,9,  -999.0, -999.00,9, -999.00,9,     13.780,2,-999.0000,9,-999.0000,9,-999.0000,9,-999.0000,9,-999.0000,9,-999.0000,9,-999.0000,9,-999.0000,9,-999.0000,9,     -999.0,5,  -999.0,9,     -999.0,     -999.0,9,     -999.0,20130926,       0603
33RO20130803,       A16N,     124,          1,          1,          1,2,20130926,       0557,     1.9997,   -25.0004,       3890,  3926.0,   2.3923,  34.8889,2,  34.8896,2,    243.9,2,   244.5,2,   45.00,2,   22.00,2,    0.00,2,    1.48,2,   0.036,6,   0.023,6,   0.012,6,  2198.7,6,  2345.4,2,   758.6,2,      20,   7.7163,2,    25.00, -999.00,9,  -999.0,9,  -999.0, -999.00,9, -999.00,9,     13.779,6,-999.0000,9,-999.0000,9,-999.0000,9,-999.0000,9,-999.0000,9,-999.0000,9,-999.0000,9,-999.0000,9,-999.0000,9,     -999.0,5,  -999.0,9,     -999.0,     -999.0,9,     -999.0,20130926,       0557