BOTTLE,20220815CCHSIOAMB
EXPOCODE,SECT_ID,STNNBR,CASTNO,SAMPNO,BTLNBR,BTLNBR_FLAG_W,DATE,TIME,LATITUDE,LONGITUDE,DEPTH,CTDPRS,CTDTMP,CTDSAL,CTDSAL_FLAG_W,SALNTY,SALNTY_FLAG_W,CTDOXY,CTDOXY_FLAG_W,OXYGEN,OXYGEN_FLAG_W,SILCAT,SILCAT_FLAG_W,NITRAT,NITRAT_FLAG_W,NITRIT,NITRIT_FLAG_W,PHSPHT,PHSPHT_FLAG_W,CFC-11,CFC-11_FLAG_W,CFC-12,CFC-12_FLAG_W,SF6,SF6_FLAG_W,TCARBN,TCARBN_FLAG_W,ALKALI,ALKALI_FLAG_W,PCO2,PCO2_FLAG_W,PCO2TMP,PH_SWS,PH_SWS_FLAG_W,PH_TMP,DELC13,DELC13_FLAG_W,DELC14,DELC14_FLAG_W,C14ERR,DOC,DOC_FLAG_W,TDN,TDN_FLAG_W,N2O,N2O_FLAG_W,CDOM325,CDOM325_FLAG_W,CDOM340,CDOM340_FLAG_W,CDOM380,CDOM380_FLAG_W,CDOM412,CDOM412_FLAG_W,CDOM443,CDOM443_FLAG_W,CDOM490,CDOM490_FLAG_W,CDOM555,CDOM555_FLAG_W,CDOMSL,CDOMSL_FLAG_W,CDOMSN,CDOMSN_FLAG_W,CCL4,CCL4_FLAG_W,14C-DOC,14C-DOC_FLAG_W,14C-DOCERR,13C-DOC,13C-DOC_FLAG_W,13C-DOCERR,BTL_DATE,BTL_TIME
,,,,,,,,,,,METERS,DBAR,ITS-90,PSS-78,,PSS-78,,UMOL/KG,,UMOL/KG,,UMOL/KG,,UMOL/KG,,UMOL/KG,,UMOL/KG,,PMOL/KG,,PMOL/KG,,FMOL/KG,,UMOL/KG,,UMOL/KG,,UATM,,DEG C,,,DEG C,/MILLE,,/MILLE,,/MILLE,UMOL/KG,,UMOL/KG,,NMOL/KG,,1/M,,1/M,,1/M,,1/M,,1/M,,1/M,,1/M,,1/NM,,1/NM,,PMOL/KG,,/MILLE,,/MILLE,/MILLE,,/MILLE,,
33RO20130803,       A16N,      16,          1,         24,         24,2,20130807,       0159,    57.5002,   -19.9990,       1167,     2.5,  13.1703,  35.2056,2,  35.2061,2,    269.0,2,     271,2,    0.30,2,    0.40,2,    0.04,2,    0.13,2,-999.000,9,-999.000,9,-999.000,9,  2070.4,6,  -999.0,5,   408.8,2,      20,   7.9586,2,    25.00, -999.00,9,  -999.0,9,  -999.0,   61.07,2,    4.29,2,     -999.0,9,-999.0000,9,-999.0000,9,-999.0000,9,-999.0000,9,-999.0000,9,-999.0000,9,-999.0000,9,-999.0000,9,-999.0000,9,     -999.0,9,  -999.0,9,     -999.0,     -999.0,9,     -999.0,20130807,       0244
33RO20130803,       A16N,      16,          1,         23,         23,2,20130807,       0159,    57.5002,   -19.9990,       1167,    20.4,  13.0072,  35.2109,2,  35.2133,2,    269.7,2,   269.5,2,    0.30,2,    0.80,2,    0.04,2,    0.14,2,-999.000,9,-999.000,9,-999.000,9,  -999.0,9,  -999.0,9,  -999.0,9, -999.00,-999.0000,9,  -999.00, -999.00,9,  -999.0,9,  -999.0,   59.87,2,    3.21,2,     -999.0,9,-999.0000,9,-999.0000,9,-999.0000,9,-999.0000,9,-999.0000,9,-999.0000,9,-999.0000,9,-999.0000,9,-999.0000,9,     -999.0,9,  -999.0,9,     -999.0,     -999.0,9,     -999.0,20130807,       0242
33RO20130803,       A16N,      16,          1,         22,         22,2,20130807,       0159,    57.5002,   -19.9990,       1167,    42.7,  11.0795,  35.2413,2,  35.2439,2,    263.5,2,   263.2,2,    1.00,2,    6.80,2,    0.23,2,    0.55,2,-999.000,9,-999.000,9,-999.000,9,  2122.0,2,  2323.6,6,   548.5,2,      20,   7.8478,2,    25.00, -999.00,9,  -999.0,9,  -999.0,   56.06,2,   10.52,2,     -999.0,9,-999.0000,9,-999.0000,9,-999.0000,9,-999.0000,9,-999.0000,9,-999.0000,9,-999.0000,9,-999.0000,9,-999.0000,9,     -999.0,9,  -999.0,9,     -999.0,     -999.0,9,     -999.0,20130807,       0240
33RO20130803,       A16N,      16,          1,         17,         17,2,20130807,       0159,    57.5002,   -19.9990,       1167,    67.5,  10.4847,  35.2490,2,  35.2498,2,    258.4,2,     257,2,    2.10,2,    9.90,2,    0.06,2,    0.64,2,-999.000,9,-999.000,9,-999.000,9,  -999.0,9,  2403.3,4,  -999.0,9, -999.00,-999.0000,9,  -999.00, -999.00,9,  -999.0,9,  -999.0,    55.7,2,   11.35,2,     -999.0,9,-999.0000,9,-999.0000,9,-999.0000,9,-999.0000,9,-999.0000,9,-999.0000,9,-999.0000,9,-999.0000,9,-999.0000,9,     -999.0,9,  -999.0,9,     -999.0,     -999.0,9,     -999.0,20130807,       0238
33RO20130803,       A16N,      16,          1,         20,         20,2,20130807,       0159,    57.5002,   -19.9990,       1167,    67.5,  10.4859,  35.2486,2,-999.0000,9,    258.5,2,  -999.0,9, -999.00,9, -999.00,9, -999.00,9, -999.00,9,-999.000,9,-999.000,9,-999.000,9,  -999.0,9,  -999.0,9,  -999.0,9, -999.00,-999.0000,9,  -999.00, -999.00,9,  -999.0,9,  -999.0, -999.00,9, -999.00,9,     -999.0,9,-999.0000,9,-999.0000,9,-999.0000,9,-999.0000,9,-999.0000,9,-999.0000,9,-999.0000,9,-999.0000,9,-999.0000,9,     -999.0,9,  -999.0,9,     -999.0,     -999.0,9,     -999.0,20130807,       0238
33RO20130803,       A16N,      16,          1,         19,         19,2,20130807,       0159,    57.5002,   -19.9990,       1167,    67.5,  10.4858,  35.2488,2,-999.0000,9,    258.5,2,  -999.0,9, -999.00,9, -999.00,9, -999.00,9, -999.00,9,-999.000,9,-999.000,9,-999.000,9,  -999.0,9,  -999.0,9,  -999.0,9, -999.00,-999.0000,9,  -999.00, -999.00,9,  -999.0,9,  -999.0, -999.00,9, -999.00,9,     -999.0,9,-999.0000,9,-999.0000,9,-999.0000,9,-999.0000,9,-999.0000,9,-999.0000,9,-999.0000,9,-999.0000,9,-999.0000,9,     -999.0,9,  -999.0,9,     -999.0,     -999.0,9,     -999.0,20130807,       0238
33RO20130803,       A16N,      16,          1,         18,         18,2,20130807,       0159,    57.5002,   -19.9990,       1167,    67.5,  10.4856,  35.2486,2,-999.0000,9,    258.5,2,  -999.0,9, -999.00,9, -999.00,9, -999.00,9, -999.00,9,-999.000,9,-999.000,9,-999.000,9,  -999.0,9,  -999.0,9,  -999.0,9, -999.00,-999.0000,9,  -999.00,    0.69,2,    39.5,2,     0.2, -999.00,9, -999.00,9,     -999.0,9,-999.0000,9,-999.0000,9,-999.0000,9,-999.0000,9,-999.0000,9,-999.0000,9,-999.0000,9,-999.0000,9,-999.0000,9,     -999.0,9,    -302,2,          4,      -22.0,2,        0.2,20130807,       0238
33RO20130803,       A16N,      16,          1,         21,         21,2,20130807,       0159,    57.5002,   -19.9990,       1167,    67.5,  10.4856,  35.2490,2,-999.0000,9,    258.4,2,  -999.0,9, -999.00,9, -999.00,9, -999.00,9, -999.00,9,-999.000,9,-999.000,9,-999.000,9,  -999.0,9,  -999.0,9,  -999.0,9, -999.00,-999.0000,9,  -999.00, -999.00,9,  -999.0,9,  -999.0, -999.00,9, -999.00,9,     -999.0,9,-999.0000,9,-999.0000,9,-999.0000,9,-999.0000,9,-999.0000,9,-999.0000,9,-999.0000,9,-999.0000,9,-999.0000,9,     -999.0,9,  -999.0,9,     -999.0,     -999.0,9,     -999.0,20130807,       0238
33RO20130803,       A16N,      16,          1,         16,         16,2,20130807,       0159,    57.5002,   -19.9990,       1167,    92.6,  10.1480,  35.2446,2,  35.2473,2,    251.8,2,   252.9,2,    3.00,2,   11.00,2,    0.01,2,    0.71,2,-999.000,9,-999.000,9,-999.000,9,  2137.4,2,  2320.8,2,   610.5,2,      20,   7.8068,2,    25.00,    0.62,2,    40.0,2,     0.2,   53.76,2,    13.7,2,     -999.0,9,-999.0000,9,-999.0000,9,-999.0000,9,-999.0000,9,-999.0000,9,-999.0000,9,-999.0000,9,-999.0000,9,-999.0000,9,     -999.0,9,  -999.0,9,     -999.0,     -999.0,9,     -999.0,20130807,       0236
33RO20130803,       A16N,      16,          1,         15,         15,2,20130807,       0159,    57.5002,   -19.9990,       1167,   118.9,  10.0623,  35.2488,2,  35.2493,2,    250.8,2,   251.8,2,    3.30,6,   11.20,6,    0.02,6,    0.73,6,-999.000,9,-999.000,9,-999.000,9,  -999.0,9,  -999.0,9,  -999.0,9, -999.00,-999.0000,9,  -999.00,    0.69,2,    36.2,2,     0.2,   53.18,2,   13.96,2,     -999.0,9,-999.0000,9,-999.0000,9,-999.0000,9,-999.0000,9,-999.0000,9,-999.0000,9,-999.0000,9,-999.0000,9,-999.0000,9,     -999.0,9,  -999.0,9,     -999.0,     -999.0,9,     -999.0,20130807,       0234
33RO20130803,       A16N,      16,          1,         14,         14,2,20130807,       0159,    57.5002,   -19.9990,       1167,   149.2,   9.9078,  35.2471,2,  35.2490,2,    251.1,2,   252.2,2,    3.50,2,   11.60,2,    0.01,2,    0.75,2,-999.000,9,-999.000,9,-999.000,9,  2141.0,2,  2423.8,4,   624.4,2,      20,   7.7983,2,    25.00,    0.68,2,    39.1,2,     0.2,   52.27,2,   13.71,2,     -999.0,9,-999.0000,9,-999.0000,9,-999.0000,9,-999.0000,9,-999.0000,9,-999.0000,9,-999.0000,9,-999.0000,9,-999.0000,9,     -999.0,9,  -999.0,9,     -999.0,     -999.0,9,     -999.0,20130807,       0232
33RO20130803,       A16N,      16,          1,         13,         13,2,20130807,       0159,    57.5002,   -19.9990,       1167,   168.1,   9.9181,  35.2704,2,  35.2706,2,    255.0,2,   254.1,2,    3.30,2,   11.50,2,    0.01,2,    0.74,2,-999.000,9,-999.000,9,-999.000,9,  -999.0,9,  -999.0,9,  -999.0,9, -999.00,-999.0000,9,  -999.00,    0.69,2,    37.4,2,     0.3,   51.37,2,    13.8,2,     -999.0,9,-999.0000,9,-999.0000,9,-999.0000,9,-999.0000,9,-999.0000,9,-999.0000,9,-999.0000,9,-999.0000,9,-999.0000,9,     -999.0,9,  -999.0,9,     -999.0,     -999.0,9,     -999.0,20130807,       0231
33RO20130803,       A16N,      16,          1,         12,         12,2,20130807,       0159,    57.5002,   -19.9990,       1167,   199.5,   9.7991,  35.2706,2,  35.2700,2,    258.4,2,   256.1,2,    3.10,2,   11.50,2,    0.01,2,    0.74,2,-999.000,9,-999.000,9,-999.000,9,  2141.5,2,  2321.6,2,   621.5,2,      20,   7.7990,2,    25.00,    0.29,4,    32.0,2,     0.2,    50.5,2,      14,2,     -999.0,9,-999.0000,9,-999.0000,9,-999.0000,9,-999.0000,9,-999.0000,9,-999.0000,9,-999.0000,9,-999.0000,9,-999.0000,9,     -999.0,9,  -999.0,9,     -999.0,     -999.0,9,     -999.0,20130807,       0229
33RO20130803,       A16N,      16,          1,         11,         11,2,20130807,       0159,    57.5002,   -19.9990,       1167,   248.8,   9.7198,  35.2743,2,  35.2716,2,    254.9,2,   258.6,2,    2.90,2,   11.40,2,    0.01,2,    0.74,2,-999.000,9,-999.000,9,-999.000,9,  -999.0,9,  -999.0,9,  -999.0,9, -999.00,-999.0000,9,  -999.00,    0.67,2,    34.5,2,     0.3,   49.43,2,    14.2,2,     -999.0,9,-999.0000,9,-999.0000,9,-999.0000,9,-999.0000,9,-999.0000,9,-999.0000,9,-999.0000,9,-999.0000,9,-999.0000,9,     -999.0,9,  -999.0,9,     -999.0,     -999.0,9,     -999.0,20130807,       0227
33RO20130803,       A16N,      16,          1,         10,         10,2,20130807,       0159,    57.5002,   -19.9990,       1167,   305.2,   9.5004,  35.2502,2,  35.2501,2,    264.4,2,   265.2,2,    2.90,2,   11.10,2,    0.01,2,    0.72,2,-999.000,9,-999.000,9,-999.000,9,  -999.0,9,  -999.0,9,  -999.0,9, -999.00,-999.0000,9,  -999.00,    0.71,2,    38.9,2,     0.2,   48.63,2,   14.37,2,     -999.0,9,-999.0000,9,-999.0000,9,-999.0000,9,-999.0000,9,-999.0000,9,-999.0000,9,-999.0000,9,-999.0000,9,-999.0000,9,     -999.0,9,  -999.0,9,     -999.0,     -999.0,9,     -999.0,20130807,       0224
33RO20130803,       A16N,      16,          1,          9,          9,2,20130807,       0159,    57.5002,   -19.9990,       1167,   377.5,   9.5255,  35.2709,2,  35.2710,2,    262.8,2,   263.3,2,    3.70,2,   11.40,2,    0.01,2,    0.74,2,-999.000,9,-999.000,9,-999.000,9,  2140.7,2,  2320.7,2,   620.8,6,      20,   7.8023,2,    25.00, -999.00,9,  -999.0,9,  -999.0,   48.02,2,    14.2,2,     -999.0,9,-999.0000,9,-999.0000,9,-999.0000,9,-999.0000,9,-999.0000,9,-999.0000,9,-999.0000,9,-999.0000,9,-999.0000,9,     -999.0,9,  -999.0,9,     -999.0,     -999.0,9,     -999.0,20130807,       0222
33RO20130803,       A16N,      16,          1,          8,          8,2,20130807,       0159,    57.5002,   -19.9990,       1167,   454.3,   9.3142,  35.2548,2,-999.0000,9,    258.9,2,   258.9,2, -999.00,9, -999.00,9, -999.00,9, -999.00,9,-999.000,9,-999.000,9,-999.000,9,  -999.0,9,  -999.0,9,  -999.0,9, -999.00,-999.0000,9,  -999.00, -999.00,9,  -999.0,9,  -999.0, -999.00,9, -999.00,9,     -999.0,9,-999.0000,9,-999.0000,9,-999.0000,9,-999.0000,9,-999.0000,9,-999.0000,9,-999.0000,9,-999.0000,9,-999.0000,9,     -999.0,9,  -999.0,9,     -999.0,     -999.0,9,     -999.0,20130807,       0219
33RO20130803,       A16N,      16,          1,          7,          7,2,20130807,       0159,    57.5002,   -19.9990,       1167,   529.7,   9.1576,  35.2659,2,  35.2656,2,    249.4,2,   248.6,2,    5.70,6,   13.30,6,    0.01,6,    0.86,6,-999.000,9,-999.000,9,-999.000,9,  -999.0,9,  -999.0,9,  -999.0,9, -999.00,-999.0000,9,  -999.00,    0.37,4,    22.5,2,     0.2,   47.28,2,   16.44,2,     -999.0,9,-999.0000,9,-999.0000,9,-999.0000,9,-999.0000,9,-999.0000,9,-999.0000,9,-999.0000,9,-999.0000,9,-999.0000,9,     -999.0,9,  -999.0,9,     -999.0,     -999.0,9,     -999.0,20130807,       0217
33RO20130803,       A16N,      16,          1,          6,          6,2,20130807,       0159,    57.5002,   -19.9990,       1167,   624.4,   8.7489,  35.2433,2,  35.2474,2,    233.7,2,   230.2,2,    7.90,2,   15.40,2,    0.01,2,    0.99,2,-999.000,9,-999.000,9,-999.000,9,  -999.0,9,  -999.0,9,  -999.0,9, -999.00,-999.0000,9,  -999.00,    0.60,2,    21.4,2,     0.2,   46.47,2,   17.73,2,     -999.0,9,-999.0000,9,-999.0000,9,-999.0000,9,-999.0000,9,-999.0000,9,-999.0000,9,-999.0000,9,-999.0000,9,-999.0000,9,     -999.0,9,  -999.0,9,     -999.0,     -999.0,9,     -999.0,20130807,       0214
33RO20130803,       A16N,      16,          1,          5,          5,2,20130807,       0159,    57.5002,   -19.9990,       1167,   724.2,   7.5564,  35.1437,2,  35.1435,2,    207.9,2,   207.1,2,   10.60,6,   18.50,6,    0.00,6,    1.19,6,-999.000,9,-999.000,9,-999.000,9,  2178.6,2,  2317.5,2,   796.6,2,      20,   7.7021,6,    25.00,    0.62,2,     9.6,2,     0.2,   46.26,2,   20.84,2,     -999.0,9,-999.0000,9,-999.0000,9,-999.0000,9,-999.0000,9,-999.0000,9,-999.0000,9,-999.0000,9,-999.0000,9,-999.0000,9,     -999.0,9,  -999.0,9,     -999.0,     -999.0,9,     -999.0,20130807,       0212
33RO20130803,       A16N,      16,          1,          4,          4,2,20130807,       0159,    57.5002,   -19.9990,       1167,   862.4,   6.5617,  35.1304,2,  35.1314,2,    219.4,2,   219.5,2,   11.30,2,   18.60,2,    0.00,2,    1.20,2,-999.000,9,-999.000,9,-999.000,9,  -999.0,9,  -999.0,9,  -999.0,9, -999.00,-999.0000,9,  -999.00,    0.70,6,     2.0,6,     0.6,   46.02,2,   21.01,2,     -999.0,9,-999.0000,9,-999.0000,9,-999.0000,9,-999.0000,9,-999.0000,9,-999.0000,9,-999.0000,9,-999.0000,9,-999.0000,9,     -999.0,9,  -999.0,9,     -999.0,     -999.0,9,     -999.0,20130807,       0208
33RO20130803,       A16N,      16,          1,          3,          3,2,20130807,       0159,    57.5002,   -19.9990,       1167,  1011.6,   5.3968,  35.0613,2,  35.0617,2,    237.4,2,   238.2,2,   12.40,2,   18.20,2,    0.00,2,    1.18,2,-999.000,9,-999.000,9,-999.000,9,  -999.0,9,  -999.0,9,  -999.0,9, -999.00,-999.0000,9,  -999.00,    0.67,2,     0.8,2,     0.2,   46.22,2,    20.7,2,     -999.0,9,-999.0000,9,-999.0000,9,-999.0000,9,-999.0000,9,-999.0000,9,-999.0000,9,-999.0000,9,-999.0000,9,-999.0000,9,     -999.0,9,  -999.0,9,     -999.0,     -999.0,9,     -999.0,20130807,       0204
33RO20130803,       A16N,      16,          1,          2,          2,2,20130807,       0159,    57.5002,   -19.9990,       1167,  1053.5,   5.0105,  35.0250,2,  35.0227,2,    246.5,2,   247.4,2,   11.80,2,   17.90,2,    0.01,2,    1.17,2,-999.000,9,-999.000,9,-999.000,9,  -999.0,9,  -999.0,9,  -999.0,9, -999.00,-999.0000,9,  -999.00,    0.72,2,     1.0,2,     0.2,   46.01,2,   20.61,2,     -999.0,9,-999.0000,9,-999.0000,9,-999.0000,9,-999.0000,9,-999.0000,9,-999.0000,9,-999.0000,9,-999.0000,9,-999.0000,9,     -999.0,9,  -999.0,9,     -999.0,     -999.0,9,     -999.0,20130807,       0202
33RO20130803,       A16N,      16,          1,          1,          1,2,20130807,       0159,    57.5002,   -19.9990,       1167,  1166.4,   4.7622,  35.0071,2,  35.0072,2,    248.9,2,   248.7,2,   13.90,6,   18.00,6,    0.02,6,    1.19,6,-999.000,9,-999.000,9,-999.000,9,  2173.9,2,  2310.1,6,   810.1,2,      20,   7.7098,3,    25.00,    0.70,2,    -0.4,2,     0.2,   45.26,2,   20.43,2,     -999.0,9,-999.0000,9,-999.0000,9,-999.0000,9,-999.0000,9,-999.0000,9,-999.0000,9,-999.0000,9,-999.0000,9,-999.0000,9,     -999.0,9,  -999.0,9,     -999.0,     -999.0,9,     -999.0,20130807,       0159