BOTTLE,20220815CCHSIOAMB
EXPOCODE,SECT_ID,STNNBR,CASTNO,SAMPNO,BTLNBR,BTLNBR_FLAG_W,DATE,TIME,LATITUDE,LONGITUDE,DEPTH,CTDPRS,CTDTMP,CTDSAL,CTDSAL_FLAG_W,SALNTY,SALNTY_FLAG_W,CTDOXY,CTDOXY_FLAG_W,OXYGEN,OXYGEN_FLAG_W,SILCAT,SILCAT_FLAG_W,NITRAT,NITRAT_FLAG_W,NITRIT,NITRIT_FLAG_W,PHSPHT,PHSPHT_FLAG_W,CFC-11,CFC-11_FLAG_W,CFC-12,CFC-12_FLAG_W,SF6,SF6_FLAG_W,TCARBN,TCARBN_FLAG_W,ALKALI,ALKALI_FLAG_W,PCO2,PCO2_FLAG_W,PCO2TMP,PH_SWS,PH_SWS_FLAG_W,PH_TMP,DELC13,DELC13_FLAG_W,DELC14,DELC14_FLAG_W,C14ERR,DOC,DOC_FLAG_W,TDN,TDN_FLAG_W,N2O,N2O_FLAG_W,CDOM325,CDOM325_FLAG_W,CDOM340,CDOM340_FLAG_W,CDOM380,CDOM380_FLAG_W,CDOM412,CDOM412_FLAG_W,CDOM443,CDOM443_FLAG_W,CDOM490,CDOM490_FLAG_W,CDOM555,CDOM555_FLAG_W,CDOMSL,CDOMSL_FLAG_W,CDOMSN,CDOMSN_FLAG_W,CCL4,CCL4_FLAG_W,14C-DOC,14C-DOC_FLAG_W,14C-DOCERR,13C-DOC,13C-DOC_FLAG_W,13C-DOCERR,BTL_DATE,BTL_TIME
,,,,,,,,,,,METERS,DBAR,ITS-90,PSS-78,,PSS-78,,UMOL/KG,,UMOL/KG,,UMOL/KG,,UMOL/KG,,UMOL/KG,,UMOL/KG,,PMOL/KG,,PMOL/KG,,FMOL/KG,,UMOL/KG,,UMOL/KG,,UATM,,DEG C,,,DEG C,/MILLE,,/MILLE,,/MILLE,UMOL/KG,,UMOL/KG,,NMOL/KG,,1/M,,1/M,,1/M,,1/M,,1/M,,1/M,,1/M,,1/NM,,1/NM,,PMOL/KG,,/MILLE,,/MILLE,/MILLE,,/MILLE,,
33RO20130803,       A16N,      81,          1,         24,         24,2,20130906,       1242,    25.4994,   -25.9012,       5372,     3.1,  24.6681,  37.4468,2,  37.4464,2,    205.9,2,   207.5,2,    0.50,2,    0.00,2,    0.00,2,    0.01,2,   1.723,2,   1.079,2,   1.263,2,  2120.0,2,  2446.8,2,  -999.0,9, -999.00,   8.0317,2,    25.00, -999.00,9,  -999.0,9,  -999.0,   69.22,2,    4.13,2,      6.501,2,   0.0472,2,   0.0232,3,  -0.0108,4,  -0.0088,4,  -0.0112,4,  -0.0031,4,  -0.0054,4,   0.1042,4,   0.0618,4,     -999.0,5,  -999.0,9,     -999.0,     -999.0,9,     -999.0,20130906,       1441
33RO20130803,       A16N,      81,          1,         23,         23,2,20130906,       1242,    25.4994,   -25.9012,       5372,    29.2,  24.5641,  37.4424,2,  37.4418,2,    206.1,2,     207,2,    0.60,2,    0.00,2,    0.00,2,    0.01,2,   1.722,2,   1.080,2,   1.260,2,  2122.0,2,  2443.8,2,  -999.0,9, -999.00,   8.0334,2,    25.00, -999.00,9,  -999.0,9,  -999.0,   68.64,2,    3.96,2,      6.483,2,   0.0500,2,   0.0263,3,  -0.0059,4,  -0.0047,4,  -0.0077,4,  -0.0005,4,  -0.0037,3,   0.0791,4,   0.0566,4,     -999.0,5,  -999.0,9,     -999.0,     -999.0,9,     -999.0,20130906,       1439
33RO20130803,       A16N,      81,          1,         22,         22,2,20130906,       1242,    25.4994,   -25.9012,       5372,    66.3,  24.0474,  37.3908,2,  37.4166,2,    209.9,2,     211,2,    0.60,2,    0.00,2,    0.00,2,    0.01,2,-999.000,9,-999.000,9,-999.000,9,  2120.4,2,  2444.9,2,  -999.0,9, -999.00,   8.0340,2,    25.00, -999.00,9,  -999.0,9,  -999.0,   67.94,2,       4,2,     -999.0,9,   0.0747,2,   0.0423,3,   0.0024,3,   0.0006,4,  -0.0044,4,   0.0012,3,  -0.0029,4,   0.0667,4,   0.0467,4,     -999.0,9,  -999.0,9,     -999.0,     -999.0,9,     -999.0,20130906,       1437
33RO20130803,       A16N,      81,          1,         21,         21,2,20130906,       1242,    25.4994,   -25.9012,       5372,    83.9,  22.9376,  37.3716,2,  37.3680,2,    220.1,2,   220.3,2,    0.60,2,    0.00,2,    0.00,2,    0.01,2,   1.891,6,   1.179,6,   1.369,6,  2118.3,2,  2450.4,2,  -999.0,9, -999.00,   8.0336,2,    25.00, -999.00,9,  -999.0,9,  -999.0,   67.04,2,    3.31,2,      6.936,6,   0.0858,2,   0.0498,3,   0.0051,3,   0.0017,3,  -0.0040,4,   0.0016,3,  -0.0025,4,   0.0572,4,   0.0437,4,     -999.0,5,  -999.0,9,     -999.0,     -999.0,9,     -999.0,20130906,       1435
33RO20130803,       A16N,      81,          1,         20,         20,2,20130906,       1242,    25.4994,   -25.9012,       5372,   114.0,  20.7679,  37.1105,2,  37.1114,2,    219.3,2,   218.7,2,    0.60,2,    0.10,2,    0.01,2,    0.02,2,-999.000,9,-999.000,9,-999.000,9,  2118.9,2,  2425.9,2,  -999.0,9, -999.00,   8.5343,4,    25.00, -999.00,9,  -999.0,9,  -999.0,    64.5,2,    3.18,2,     -999.0,9,   0.1269,2,   0.0841,2,   0.0249,2,   0.0178,2,   0.0040,3,   0.0045,2,  -0.0027,4,   0.0285,3,   0.0298,3,     -999.0,9,  -999.0,9,     -999.0,     -999.0,9,     -999.0,20130906,       1433
33RO20130803,       A16N,      81,          1,         19,         19,2,20130906,       1242,    25.4994,   -25.9012,       5372,   183.7,  18.7377,  36.7920,2,  36.7711,2,    193.2,2,   193.6,2,    1.20,2,    3.60,2,    0.01,2,    0.20,2,   2.205,2,   1.341,2,   1.340,2,  2139.4,2,  2400.7,2,  -999.0,9, -999.00,   7.9418,2,    25.00, -999.00,9,  -999.0,9,  -999.0,   51.59,2,    6.27,2,      9.093,2,   0.1172,2,   0.0813,2,   0.0279,2,   0.0219,2,   0.0065,2,   0.0052,3,  -0.0019,4,   0.0249,2,   0.0264,2,     -999.0,5,  -999.0,9,     -999.0,     -999.0,9,     -999.0,20130906,       1431
33RO20130803,       A16N,      81,          1,         18,         18,2,20130906,       1242,    25.4994,   -25.9012,       5372,   258.4,  17.0795,  36.4683,2,  36.4629,2,    196.3,2,   196.1,2,    1.80,2,    5.70,2,    0.01,2,    0.32,2,   2.361,2,   1.405,2,   1.311,2,  2136.2,2,  2383.7,2,  -999.0,9, -999.00,   7.9200,2,    25.00, -999.00,9,  -999.0,9,  -999.0,   49.94,2,    8.11,2,      9.697,2,   0.1006,2,   0.0683,2,   0.0246,2,   0.0166,2,   0.0029,3,   0.0026,3,  -0.0035,3,   0.0251,2,   0.0267,2,     -999.0,5,  -999.0,9,     -999.0,     -999.0,9,     -999.0,20130906,       1428
33RO20130803,       A16N,      81,          1,         17,         17,2,20130906,       1242,    25.4994,   -25.9012,       5372,   348.6,  15.5274,  36.1618,2,  36.1587,2,    191.7,2,   190.6,2,    2.90,2,    8.70,2,    0.01,2,    0.51,2,-999.000,9,-999.000,9,-999.000,9,  2142.8,2,  2368.7,6,  -999.0,9, -999.00,   7.8762,3,    25.00, -999.00,9,  -999.0,9,  -999.0,   48.31,2,   11.04,2,     -999.0,9,   0.1007,2,   0.0665,2,   0.0210,2,   0.0154,2,   0.0026,3,   0.0023,3,  -0.0038,3,   0.0275,3,   0.0294,3,     -999.0,9,  -999.0,9,     -999.0,     -999.0,9,     -999.0,20130906,       1426
33RO20130803,       A16N,      81,          1,         16,         16,2,20130906,       1242,    25.4994,   -25.9012,       5372,   449.2,  14.0371,  35.9189,2,  35.9123,2,    187.8,2,   185.3,2,    4.00,2,   11.60,2,    0.01,2,    0.69,2,   2.543,2,   1.460,2,   1.153,2,  2153.0,2,  2353.0,2,  -999.0,9, -999.00,-999.0000,5,  -999.00, -999.00,9,  -999.0,9,  -999.0,   47.42,2,   13.79,2,     12.786,2,   0.1077,2,   0.0719,2,   0.0214,2,   0.0143,2,   0.0015,3,   0.0013,3,  -0.0047,4,   0.0291,3,   0.0296,3,     -999.0,5,  -999.0,9,     -999.0,     -999.0,9,     -999.0,20130906,       1423
33RO20130803,       A16N,      81,          1,         15,         15,2,20130906,       1242,    25.4994,   -25.9012,       5372,   549.1,  12.6049,  35.7138,2,  35.7129,2,    168.9,2,   167.7,2,    6.00,2,   15.90,2,    0.00,2,    0.96,2,   2.374,2,   1.304,2,   0.797,2,  2169.7,2,  2342.9,2,  -999.0,9, -999.00,   7.7754,2,    25.00, -999.00,9,  -999.0,9,  -999.0,   45.95,2,   18.37,2,     15.422,2,   0.1086,2,   0.0715,2,   0.0237,2,   0.0157,2,   0.0031,3,   0.0021,3,  -0.0043,3,   0.0270,2,   0.0287,2,     -999.0,5,  -999.0,9,     -999.0,     -999.0,9,     -999.0,20130906,       1420
33RO20130803,       A16N,      81,          1,         14,         14,2,20130906,       1242,    25.4994,   -25.9012,       5372,   699.0,  10.6074,  35.4735,2,  35.4738,2,    148.4,2,   146.8,2,   10.30,2,   21.60,2,    0.00,2,    1.34,2,-999.000,9,-999.000,9,-999.000,9,  2190.4,2,  2333.8,2,  -999.0,9, -999.00,   7.7073,2,    25.00, -999.00,9,  -999.0,9,  -999.0,   45.13,2,   24.11,2,     -999.0,9,   0.1266,2,   0.0840,2,   0.0312,2,   0.0218,2,   0.0079,2,   0.0052,3,  -0.0023,4,   0.0243,2,   0.0265,2,     -999.0,9,  -999.0,9,     -999.0,     -999.0,9,     -999.0,20130906,       1416
33RO20130803,       A16N,      81,          1,         13,         13,2,20130906,       1242,    25.4994,   -25.9012,       5372,   849.2,   8.7248,  35.2796,2,  35.2765,2,    139.6,2,   138.5,2,   15.30,2,   25.60,2,    0.00,2,    1.64,2,   0.630,2,   0.330,2,   0.123,2,  2204.1,2,  2332.1,2,  -999.0,9, -999.00,   7.6586,2,    25.00, -999.00,9,  -999.0,9,  -999.0,   44.15,2,   28.19,2,     20.707,2,   0.1175,2,   0.0773,2,   0.0287,2,   0.0193,2,   0.0060,2,   0.0036,3,  -0.0034,3,   0.0247,2,   0.0269,2,     -999.0,5,  -999.0,9,     -999.0,     -999.0,9,     -999.0,20130906,       1412
33RO20130803,       A16N,      81,          1,         12,         12,2,20130906,       1242,    25.4994,   -25.9012,       5372,  1050.0,   7.1053,  35.1758,2,  35.1766,2,    154.2,2,   153.8,2,   18.50,2,   26.10,2,    0.00,2,    1.71,2,   0.248,2,   0.132,2,   0.029,2,  2204.6,6,  2326.5,2,  -999.0,9, -999.00,   7.6531,2,    25.00, -999.00,9,  -999.0,9,  -999.0,   42.71,2,   28.36,2,     19.865,2,   0.1211,2,   0.0790,2,   0.0278,2,   0.0181,2,   0.0049,3,   0.0028,3,  -0.0041,3,   0.0259,2,   0.0278,2,     -999.0,5,  -999.0,9,     -999.0,     -999.0,9,     -999.0,20130906,       1407
33RO20130803,       A16N,      81,          1,         11,         11,2,20130906,       1242,    25.4994,   -25.9012,       5372,  1224.2,   6.5318,  35.2109,2,  35.2121,2,    176.6,2,   176.5,2,   18.10,2,   23.90,2,    0.00,2,    1.58,2,   0.225,2,   0.120,2,   0.033,2,  2198.7,2,  2331.8,2,  -999.0,9, -999.00,   7.6825,2,    25.00, -999.00,9,  -999.0,9,  -999.0,   42.07,2,    26.1,2,     17.702,2,   0.1145,2,   0.0743,2,   0.0255,2,   0.0165,2,   0.0040,3,   0.0026,3,  -0.0040,3,   0.0266,2,   0.0286,2,     -999.0,5,  -999.0,9,     -999.0,     -999.0,9,     -999.0,20130906,       1403
33RO20130803,       A16N,      81,          1,         10,         10,2,20130906,       1242,    25.4994,   -25.9012,       5372,  1449.1,   5.8409,  35.2203,2,  35.2231,2,    197.0,2,   196.3,2,   18.60,2,   22.20,2,    0.00,2,    1.47,2,   0.190,2,   0.099,2,   0.022,2,  -999.0,9,  -999.0,9,  -999.0,9, -999.00,-999.0000,9,  -999.00, -999.00,9,  -999.0,9,  -999.0,   41.62,2,   24.56,2,     16.004,2,   0.1195,2,   0.0785,2,   0.0290,2,   0.0190,2,   0.0062,2,   0.0044,2,  -0.0026,4,   0.0249,2,   0.0270,2,     -999.0,5,  -999.0,9,     -999.0,     -999.0,9,     -999.0,20130906,       1358
33RO20130803,       A16N,      81,          1,          9,          9,2,20130906,       1242,    25.4994,   -25.9012,       5372,  1773.6,   4.6560,  35.1192,2,  35.1193,2,    218.7,2,   218.1,2,   21.10,2,   21.30,2,    0.00,2,    1.43,2,-999.000,9,-999.000,9,-999.000,9,  2185.3,2,  2330.6,2,  -999.0,9, -999.00,   7.7175,2,    25.00, -999.00,9,  -999.0,9,  -999.0,   40.88,2,   23.77,2,     -999.0,9,   0.1250,2,   0.0833,2,   0.0314,2,   0.0201,2,   0.0067,2,   0.0044,2,  -0.0027,4,   0.0244,2,   0.0262,2,     -999.0,9,  -999.0,9,     -999.0,     -999.0,9,     -999.0,20130906,       1351
33RO20130803,       A16N,      81,          1,          8,          8,2,20130906,       1242,    25.4994,   -25.9012,       5372,  2198.7,   3.7478,  35.0360,2,  35.0373,2,    235.3,2,   234.6,2,   24.60,2,   20.70,2,    0.00,2,    1.39,2,-999.000,9,-999.000,9,-999.000,9,  2181.8,2,  2331.1,2,  -999.0,9, -999.00,   7.7245,2,    25.00, -999.00,9,  -999.0,9,  -999.0,   40.56,2,   22.97,2,     -999.0,9,   0.1169,2,   0.0767,2,   0.0265,2,   0.0159,2,   0.0030,3,   0.0017,3,  -0.0044,3,   0.0267,2,   0.0281,2,     -999.0,9,  -999.0,9,     -999.0,     -999.0,9,     -999.0,20130906,       1343
33RO20130803,       A16N,      81,          1,          7,          7,2,20130906,       1242,    25.4994,   -25.9012,       5372,  2598.6,   3.1527,  34.9789,2,  34.9826,3,    241.6,2,   242.4,2,   29.20,2,   20.60,2,    0.01,2,    1.39,2,   0.047,2,   0.026,2,   0.000,2,  2184.2,2,  2336.5,6,  -999.0,9, -999.00,   7.7301,2,    25.00, -999.00,9,  -999.0,9,  -999.0,   40.36,2,   22.64,2,     13.430,2,   0.1402,2,   0.0981,2,   0.0356,2,   0.0213,2,   0.0066,2,   0.0038,2,  -0.0034,3,   0.0250,2,   0.0250,2,     -999.0,5,  -999.0,9,     -999.0,     -999.0,9,     -999.0,20130906,       1335
33RO20130803,       A16N,      81,          1,          6,          6,2,20130906,       1242,    25.4994,   -25.9012,       5372,  2998.6,   2.7952,  34.9436,2,  34.9432,2,    243.8,2,   244.4,2,   34.20,2,   20.90,2,    0.00,2,    1.42,2,-999.000,9,-999.000,9,-999.000,9,  2187.2,2,  2339.8,2,  -999.0,9, -999.00,   6.0683,4,    25.00, -999.00,9,  -999.0,9,  -999.0,   40.16,2,   23.21,2,     -999.0,9,   0.1308,2,   0.0889,2,   0.0326,2,   0.0206,2,   0.0067,2,   0.0043,2,  -0.0029,3,   0.0249,2,   0.0259,2,     -999.0,9,  -999.0,9,     -999.0,     -999.0,9,     -999.0,20130906,       1328
33RO20130803,       A16N,      81,          1,          5,          5,2,20130906,       1242,    25.4994,   -25.9012,       5372,  3449.1,   2.5775,  34.9200,2,  34.9207,2,    243.0,2,   243.4,2,   39.40,2,   21.60,2,    0.00,2,    1.46,2,   0.015,2,   0.010,2,   0.015,2,  -999.0,9,  -999.0,9,  -999.0,9, -999.00,-999.0000,9,  -999.00, -999.00,9,  -999.0,9,  -999.0,   40.13,2,   23.95,2,     13.471,2,   0.1290,2,   0.0865,2,   0.0333,2,   0.0209,2,   0.0072,2,   0.0051,3,  -0.0021,4,   0.0240,2,   0.0256,2,     -999.0,5,  -999.0,9,     -999.0,     -999.0,9,     -999.0,20130906,       1319
33RO20130803,       A16N,      81,          1,          4,          4,2,20130906,       1242,    25.4994,   -25.9012,       5372,  3898.1,   2.4659,  34.9054,2,  34.9068,2,    242.3,2,   243.1,2,   42.50,6,   21.90,6,    0.01,6,    1.49,6,-999.000,9,-999.000,9,-999.000,9,  2195.2,2,  2346.7,2,  -999.0,9, -999.00,   7.7255,2,    25.00, -999.00,9,  -999.0,9,  -999.0,   40.45,2,   24.42,2,     -999.0,9,   0.1136,2,   0.0733,2,   0.0246,2,   0.0141,2,   0.0018,3,   0.0011,3,  -0.0046,4,   0.0277,2,   0.0291,2,     -999.0,9,  -999.0,9,     -999.0,     -999.0,9,     -999.0,20130906,       1311
33RO20130803,       A16N,      81,          1,          3,          3,2,20130906,       1242,    25.4994,   -25.9012,       5372,  4398.8,   2.3961,  34.8930,2,  34.8916,2,    242.5,2,   242.6,2,   45.20,6,   22.20,6,    0.01,6,    1.51,6,   0.000,2,   0.002,2,   0.000,2,  -999.0,9,  -999.0,9,  -999.0,9, -999.00,-999.0000,9,  -999.00, -999.00,9,  -999.0,9,  -999.0,   40.06,2,   24.61,2,     13.687,2,   0.1309,2,   0.0895,2,   0.0315,2,   0.0181,2,   0.0043,3,   0.0024,3,  -0.0038,3,   0.0261,2,   0.0262,2,     -999.0,5,  -999.0,9,     -999.0,     -999.0,9,     -999.0,20130906,       1301
33RO20130803,       A16N,      81,          1,          2,          2,2,20130906,       1242,    25.4994,   -25.9012,       5372,  4898.5,   2.4060,  34.8871,2,  34.8878,2,    242.4,2,   242.7,2,   46.50,6,   22.30,6,    0.01,6,    1.52,6,-999.000,9,-999.000,9,-999.000,9,  2200.3,2,  2353.1,2,  -999.0,9, -999.00,   7.7241,6,    25.00, -999.00,9,  -999.0,9,  -999.0,   39.81,2,   24.81,2,     -999.0,9,   0.1274,2,   0.0845,2,   0.0321,2,   0.0196,2,   0.0060,2,   0.0039,2,  -0.0030,3,   0.0246,2,   0.0262,2,     -999.0,9,  -999.0,9,     -999.0,     -999.0,9,     -999.0,20130906,       1252
33RO20130803,       A16N,      81,          1,          1,          1,2,20130906,       1242,    25.4994,   -25.9012,       5372,  5433.7,   2.4604,  34.8847,2,  34.8848,2,    243.6,2,   242.7,2,   46.90,6,   22.40,6,    0.01,6,    1.52,6,   0.002,6,   0.004,6,   0.000,6,  2202.8,6,  2353.6,2,  -999.0,9, -999.00,   7.7262,2,    25.00, -999.00,9,  -999.0,9,  -999.0,   39.82,2,      25,2,     13.798,6,   0.1312,2,   0.0877,2,   0.0324,2,   0.0207,2,   0.0072,2,   0.0045,2,  -0.0027,4,   0.0248,2,   0.0263,2,     -999.0,5,  -999.0,9,     -999.0,     -999.0,9,     -999.0,20130906,       1242