BOTTLE,20220815CCHSIOAMB
EXPOCODE,SECT_ID,STNNBR,CASTNO,SAMPNO,BTLNBR,BTLNBR_FLAG_W,DATE,TIME,LATITUDE,LONGITUDE,DEPTH,CTDPRS,CTDTMP,CTDSAL,CTDSAL_FLAG_W,SALNTY,SALNTY_FLAG_W,CTDOXY,CTDOXY_FLAG_W,OXYGEN,OXYGEN_FLAG_W,SILCAT,SILCAT_FLAG_W,NITRAT,NITRAT_FLAG_W,NITRIT,NITRIT_FLAG_W,PHSPHT,PHSPHT_FLAG_W,CFC-11,CFC-11_FLAG_W,CFC-12,CFC-12_FLAG_W,SF6,SF6_FLAG_W,TCARBN,TCARBN_FLAG_W,ALKALI,ALKALI_FLAG_W,PCO2,PCO2_FLAG_W,PCO2TMP,PH_SWS,PH_SWS_FLAG_W,PH_TMP,DELC13,DELC13_FLAG_W,DELC14,DELC14_FLAG_W,C14ERR,DOC,DOC_FLAG_W,TDN,TDN_FLAG_W,N2O,N2O_FLAG_W,CDOM325,CDOM325_FLAG_W,CDOM340,CDOM340_FLAG_W,CDOM380,CDOM380_FLAG_W,CDOM412,CDOM412_FLAG_W,CDOM443,CDOM443_FLAG_W,CDOM490,CDOM490_FLAG_W,CDOM555,CDOM555_FLAG_W,CDOMSL,CDOMSL_FLAG_W,CDOMSN,CDOMSN_FLAG_W,CCL4,CCL4_FLAG_W,14C-DOC,14C-DOC_FLAG_W,14C-DOCERR,13C-DOC,13C-DOC_FLAG_W,13C-DOCERR,BTL_DATE,BTL_TIME
,,,,,,,,,,,METERS,DBAR,ITS-90,PSS-78,,PSS-78,,UMOL/KG,,UMOL/KG,,UMOL/KG,,UMOL/KG,,UMOL/KG,,UMOL/KG,,PMOL/KG,,PMOL/KG,,FMOL/KG,,UMOL/KG,,UMOL/KG,,UATM,,DEG C,,,DEG C,/MILLE,,/MILLE,,/MILLE,UMOL/KG,,UMOL/KG,,NMOL/KG,,1/M,,1/M,,1/M,,1/M,,1/M,,1/M,,1/M,,1/NM,,1/NM,,PMOL/KG,,/MILLE,,/MILLE,/MILLE,,/MILLE,,
33RO20130803,       A16N,      97,          1,         24,         24,2,20130915,       1150,    16.3325,   -28.9988,       5132,     2.8,  27.2719,  36.3084,2,  36.3094,2,    202.1,2,   201.6,2,    0.70,2,    0.00,2,    0.00,2,    0.02,2,   1.552,2,   0.993,2,   1.249,2,  2034.2,6,  2377.2,2,   295.9,2,      20,   8.0769,2,    25.00, -999.00,9,  -999.0,9,  -999.0,   73.46,2,    4.93,2,      6.371,2,-999.0000,9,-999.0000,9,-999.0000,9,-999.0000,9,-999.0000,9,-999.0000,9,-999.0000,9,-999.0000,9,-999.0000,9,     -999.0,5,  -999.0,9,     -999.0,     -999.0,9,     -999.0,20130915,       1440
33RO20130803,       A16N,      97,          1,         23,         23,2,20130915,       1150,    16.3325,   -28.9988,       5132,    15.6,  27.1552,  36.3053,2,  36.3090,2,    202.4,2,   201.5,2,    0.70,2,    0.00,2,    0.00,2,    0.02,2,   1.555,2,   0.995,2,   1.226,2,  2035.0,2,  2375.5,2,   300.5,2,      20,   8.0761,2,    25.00, -999.00,9,  -999.0,9,  -999.0,   73.38,2,    4.74,2,      6.407,2,-999.0000,9,-999.0000,9,-999.0000,9,-999.0000,9,-999.0000,9,-999.0000,9,-999.0000,9,-999.0000,9,-999.0000,9,     -999.0,5,  -999.0,9,     -999.0,     -999.0,9,     -999.0,20130915,       1438
33RO20130803,       A16N,      97,          1,         22,         22,2,20130915,       1150,    16.3325,   -28.9988,       5132,    34.2,  25.3070,  36.3639,2,  36.3660,2,    208.6,2,   211.9,2,    0.90,2,    0.00,2,    0.00,2,    0.05,2,   1.717,2,   1.078,2,   1.254,2,  2056.0,2,  2380.0,2,   332.9,2,      20,   8.0529,2,    25.00, -999.00,9,  -999.0,9,  -999.0,   69.96,2,    4.58,2,      8.757,2,-999.0000,9,-999.0000,9,-999.0000,9,-999.0000,9,-999.0000,9,-999.0000,9,-999.0000,9,-999.0000,9,-999.0000,9,     -999.0,5,  -999.0,9,     -999.0,     -999.0,9,     -999.0,20130915,       1435
33RO20130803,       A16N,      97,          1,         21,         21,2,20130915,       1150,    16.3325,   -28.9988,       5132,    60.4,  19.0962,  36.4856,2,  36.4848,2,    139.4,2,   133.1,2,    2.60,2,   10.40,2,    0.28,2,    0.69,2,   2.027,6,   1.225,6,   1.144,6,  2178.8,2,  2383.8,6,   597.5,2,      20,   7.8297,2,    25.00, -999.00,9,  -999.0,9,  -999.0,   56.61,2,   14.31,2,     18.448,6,-999.0000,9,-999.0000,9,-999.0000,9,-999.0000,9,-999.0000,9,-999.0000,9,-999.0000,9,-999.0000,9,-999.0000,9,     -999.0,5,  -999.0,9,     -999.0,     -999.0,9,     -999.0,20130915,       1433
33RO20130803,       A16N,      97,          1,         20,         20,5,20130915,       1150,    16.3325,   -28.9988,       5132,    85.0,  17.4040,  36.3408,2,-999.0000,9,    115.6,2,  -999.0,9,    3.80,2,   14.80,2,    0.04,2,    0.90,2,-999.000,9,-999.000,9,-999.000,9,  -999.0,9,  -999.0,9,  -999.0,9, -999.00,-999.0000,9,  -999.00, -999.00,9,  -999.0,9,  -999.0, -999.00,9, -999.00,9,     -999.0,9,-999.0000,9,-999.0000,9,-999.0000,9,-999.0000,9,-999.0000,9,-999.0000,9,-999.0000,9,-999.0000,9,-999.0000,9,     -999.0,9,  -999.0,9,     -999.0,     -999.0,9,     -999.0,20130915,       1431
33RO20130803,       A16N,      97,          1,         19,         19,5,20130915,       1150,    16.3325,   -28.9988,       5132,   123.5,  15.2042,  35.9379,2,-999.0000,9,     92.6,2,  -999.0,9, -999.00,9, -999.00,9, -999.00,9, -999.00,9,-999.000,9,-999.000,9,-999.000,9,  -999.0,9,  -999.0,9,  -999.0,9, -999.00,-999.0000,9,  -999.00, -999.00,9,  -999.0,9,  -999.0, -999.00,9, -999.00,9,     -999.0,9,-999.0000,9,-999.0000,9,-999.0000,9,-999.0000,9,-999.0000,9,-999.0000,9,-999.0000,9,-999.0000,9,-999.0000,9,     -999.0,9,  -999.0,9,     -999.0,     -999.0,9,     -999.0,20130915,       1429
33RO20130803,       A16N,      97,          1,         18,         18,2,20130915,       1150,    16.3325,   -28.9988,       5132,   185.6,  13.3398,  35.6306,2,  35.6278,2,     78.8,2,    80.4,2,    8.30,2,   24.70,2,    0.01,2,    1.49,2,   1.821,2,   1.026,2,   0.627,2,  2217.3,2,  2363.7,4,   953.4,2,      20,   7.6323,6,    25.00, -999.00,9,  -999.0,9,  -999.0,   52.18,2,   27.36,2,     32.005,2,-999.0000,9,-999.0000,9,-999.0000,9,-999.0000,9,-999.0000,9,-999.0000,9,-999.0000,9,-999.0000,9,-999.0000,9,     -999.0,5,  -999.0,9,     -999.0,     -999.0,9,     -999.0,20130915,       1426
33RO20130803,       A16N,      97,          1,         17,         17,2,20130915,       1150,    16.3325,   -28.9988,       5132,   259.9,  11.9964,  35.4363,2,  35.4421,2,     72.3,2,    74.6,2,   10.40,2,   27.60,2,    0.00,2,    1.66,2,   1.498,2,   0.819,2,   0.476,2,  2223.9,2,  2325.0,2,  1056.0,2,      20,   7.5904,2,    25.00, -999.00,9,  -999.0,9,  -999.0,   47.01,2,      30,2,     33.654,2,-999.0000,9,-999.0000,9,-999.0000,9,-999.0000,9,-999.0000,9,-999.0000,9,-999.0000,9,-999.0000,9,-999.0000,9,     -999.0,5,  -999.0,9,     -999.0,     -999.0,9,     -999.0,20130915,       1423
33RO20130803,       A16N,      97,          1,         16,         16,2,20130915,       1150,    16.3325,   -28.9988,       5132,   347.8,  10.9330,  35.2950,2,  35.2985,2,     65.2,2,      67,2,   12.60,2,   30.40,2,    0.00,2,    1.84,2,   1.123,2,   0.610,2,   0.349,2,  2230.5,2,  2317.8,2,  1149.2,2,      20,   7.5547,2,    25.00, -999.00,9,  -999.0,9,  -999.0,   45.89,2,   33.03,2,     34.225,2,-999.0000,9,-999.0000,9,-999.0000,9,-999.0000,9,-999.0000,9,-999.0000,9,-999.0000,9,-999.0000,9,-999.0000,9,     -999.0,5,  -999.0,9,     -999.0,     -999.0,9,     -999.0,20130915,       1420
33RO20130803,       A16N,      97,          1,         15,         15,2,20130915,       1150,    16.3325,   -28.9988,       5132,   448.1,   9.7324,  35.1449,2,  35.1549,2,     69.9,2,    72.1,2,   15.20,2,   32.40,2,    0.00,2,    1.98,2,   0.742,2,   0.400,2,   0.266,2,  2231.7,6,  2313.4,2,  1205.7,2,      20,   7.5349,2,    25.00, -999.00,9,  -999.0,9,  -999.0,   44.83,2,   34.84,2,     32.929,2,-999.0000,9,-999.0000,9,-999.0000,9,-999.0000,9,-999.0000,9,-999.0000,9,-999.0000,9,-999.0000,9,-999.0000,9,     -999.0,5,  -999.0,9,     -999.0,     -999.0,9,     -999.0,20130915,       1417
33RO20130803,       A16N,      97,          1,         14,         14,2,20130915,       1150,    16.3325,   -28.9988,       5132,   572.0,   8.4982,  35.0062,2,  35.0060,2,     81.5,2,    82.2,2,   18.20,2,   33.70,2,    0.00,2,    2.12,2,   0.416,2,   0.224,2,   0.164,2,  2232.1,2,  2309.0,2,  1229.8,2,      20,   7.5256,2,    25.00, -999.00,9,  -999.0,9,  -999.0,   43.78,2,   36.32,2,     30.818,2,-999.0000,9,-999.0000,9,-999.0000,9,-999.0000,9,-999.0000,9,-999.0000,9,-999.0000,9,-999.0000,9,-999.0000,9,     -999.0,5,  -999.0,9,     -999.0,     -999.0,9,     -999.0,20130915,       1414
33RO20130803,       A16N,      97,          1,         13,         13,2,20130915,       1150,    16.3325,   -28.9988,       5132,   724.0,   7.3793,  34.9123,2,  34.9260,4,     93.4,2,    93.7,2,   21.30,2,   34.30,2,    0.00,2,    2.20,2,   0.178,2,   0.099,2,   0.070,2,  2230.8,2,  2309.6,6,  1232.7,2,      20,   7.5263,2,    25.00, -999.00,9,  -999.0,9,  -999.0,   43.29,2,   37.08,2,     28.630,2,-999.0000,9,-999.0000,9,-999.0000,9,-999.0000,9,-999.0000,9,-999.0000,9,-999.0000,9,-999.0000,9,-999.0000,9,     -999.0,5,  -999.0,9,     -999.0,     -999.0,9,     -999.0,20130915,       1348
33RO20130803,       A16N,      97,          1,         12,         12,2,20130915,       1150,    16.3325,   -28.9988,       5132,   873.6,   6.6238,  34.8899,2,  34.8941,2,    109.1,2,   109.2,2,   23.10,2,   33.70,2,    0.00,2,    2.18,2,   0.075,2,   0.043,2,   0.030,2,  2227.6,2,  2310.4,2,  1179.8,2,      20,   7.5413,2,    25.00, -999.00,9,  -999.0,9,  -999.0,   42.33,2,   36.22,2,     26.571,2,-999.0000,9,-999.0000,9,-999.0000,9,-999.0000,9,-999.0000,9,-999.0000,9,-999.0000,9,-999.0000,9,-999.0000,9,     -999.0,5,  -999.0,9,     -999.0,     -999.0,9,     -999.0,20130915,       1344
33RO20130803,       A16N,      97,          1,         11,         11,2,20130915,       1150,    16.3325,   -28.9988,       5132,  1022.8,   5.9979,  34.9123,2,  34.9177,2,    128.7,2,   129.4,2,   23.80,2,   31.50,2,    0.00,2,    2.08,2,   0.045,2,   0.026,2,   0.018,2,  2220.6,2,  2315.4,2,  1094.7,2,      20,   7.5726,2,    25.00, -999.00,9,  -999.0,9,  -999.0,   41.93,2,   34.04,2,     23.754,2,-999.0000,9,-999.0000,9,-999.0000,9,-999.0000,9,-999.0000,9,-999.0000,9,-999.0000,9,-999.0000,9,-999.0000,9,     -999.0,5,  -999.0,9,     -999.0,     -999.0,9,     -999.0,20130915,       1340
33RO20130803,       A16N,      97,          1,         10,         10,2,20130915,       1150,    16.3325,   -28.9988,       5132,  1197.4,   5.4564,  34.9765,2,  34.9836,2,    160.4,2,   160.4,2,   22.70,2,   28.00,2,    0.00,2,    1.86,2,   0.025,2,   0.015,2,   0.000,2,  2207.3,2,  2325.4,3,   956.7,2,      20,   7.6220,2,    25.00, -999.00,9,  -999.0,9,  -999.0,   41.46,2,   30.77,2,     20.130,2,-999.0000,9,-999.0000,9,-999.0000,9,-999.0000,9,-999.0000,9,-999.0000,9,-999.0000,9,-999.0000,9,-999.0000,9,     -999.0,5,  -999.0,9,     -999.0,     -999.0,9,     -999.0,20130915,       1336
33RO20130803,       A16N,      97,          1,          9,          9,2,20130915,       1150,    16.3325,   -28.9988,       5132,  1448.5,   4.6944,  35.0087,2,  35.0120,2,    196.6,2,   197.7,2,   21.80,2,   24.30,2,    0.00,2,    1.63,2,   0.012,2,   0.009,2,   0.000,2,  2190.6,2,  2321.6,2,   847.9,2,      20,   7.6757,2,    25.00, -999.00,9,  -999.0,9,  -999.0,   41.18,2,   26.96,2,     16.820,2,-999.0000,9,-999.0000,9,-999.0000,9,-999.0000,9,-999.0000,9,-999.0000,9,-999.0000,9,-999.0000,9,-999.0000,9,     -999.0,5,  -999.0,9,     -999.0,     -999.0,9,     -999.0,20130915,       1328
33RO20130803,       A16N,      97,          1,          8,          8,2,20130915,       1150,    16.3325,   -28.9988,       5132,  1798.2,   3.9287,  34.9900,2,  34.9913,2,    224.0,2,   224.9,2,   22.70,2,   21.90,2,    0.00,2,    1.47,2,   0.007,2,   0.005,2,   0.000,2,  2178.8,2,  2320.7,2,   785.6,2,      20,   7.7063,2,    25.00, -999.00,9,  -999.0,9,  -999.0,   40.92,2,    24.6,2,     14.756,2,-999.0000,9,-999.0000,9,-999.0000,9,-999.0000,9,-999.0000,9,-999.0000,9,-999.0000,9,-999.0000,9,-999.0000,9,     -999.0,5,  -999.0,9,     -999.0,     -999.0,9,     -999.0,20130915,       1321
33RO20130803,       A16N,      97,          1,          7,          7,2,20130915,       1150,    16.3325,   -28.9988,       5132,  2197.8,   3.3765,  34.9671,2,  34.9734,2,    237.4,2,   238.9,2,   26.00,2,   21.10,2,    0.00,2,    1.42,2,   0.003,2,   0.004,2,   0.000,2,  2175.1,2,  2326.5,6,   752.8,2,      20,   7.7221,2,    25.00, -999.00,9,  -999.0,9,  -999.0,   40.93,2,   23.74,2,     13.695,2,-999.0000,9,-999.0000,9,-999.0000,9,-999.0000,9,-999.0000,9,-999.0000,9,-999.0000,9,-999.0000,9,-999.0000,9,     -999.0,5,  -999.0,9,     -999.0,     -999.0,9,     -999.0,20130915,       1256
33RO20130803,       A16N,      97,          1,          6,          6,2,20130915,       1150,    16.3325,   -28.9988,       5132,  2648.2,   2.9595,  34.9457,2,  34.9470,2,    242.5,2,   244.5,2,   31.40,2,   21.10,2,    0.00,2,    1.41,2,   0.001,2,   0.002,2,   0.000,2,  2180.1,2,  2333.8,2,   744.5,2,      20,   7.7278,2,    25.00, -999.00,9,  -999.0,9,  -999.0,   40.93,2,   23.58,2,     13.339,2,-999.0000,9,-999.0000,9,-999.0000,9,-999.0000,9,-999.0000,9,-999.0000,9,-999.0000,9,-999.0000,9,-999.0000,9,     -999.0,5,  -999.0,9,     -999.0,     -999.0,9,     -999.0,20130915,       1247
33RO20130803,       A16N,      97,          1,          5,          5,5,20130915,       1150,    16.3325,   -28.9988,       5132,  3147.1,   2.6479,  34.9242,2,-999.0000,9,    242.2,2,  -999.0,9, -999.00,9, -999.00,9, -999.00,9, -999.00,9,-999.000,9,-999.000,9,-999.000,9,  -999.0,9,  -999.0,9,  -999.0,9, -999.00,-999.0000,9,  -999.00, -999.00,9,  -999.0,9,  -999.0, -999.00,9, -999.00,9,     -999.0,9,-999.0000,9,-999.0000,9,-999.0000,9,-999.0000,9,-999.0000,9,-999.0000,9,-999.0000,9,-999.0000,9,-999.0000,9,     -999.0,9,  -999.0,9,     -999.0,     -999.0,9,     -999.0,20130915,       1229
33RO20130803,       A16N,      97,          1,          4,          4,2,20130915,       1150,    16.3325,   -28.9988,       5132,  3648.0,   2.4517,  34.9049,2,  34.9164,4,    238.0,2,   240.4,2,   43.30,6,   22.10,6,    0.00,6,    1.50,6,   0.002,6,   0.003,6,   0.000,6,  2199.7,2,  2349.8,2,   757.7,2,      20,   7.7251,2,    25.00, -999.00,9,  -999.0,9,  -999.0,   40.88,2,   24.64,2,     13.458,6,-999.0000,9,-999.0000,9,-999.0000,9,-999.0000,9,-999.0000,9,-999.0000,9,-999.0000,9,-999.0000,9,-999.0000,9,     -999.0,5,  -999.0,9,     -999.0,     -999.0,9,     -999.0,20130915,       1219
33RO20130803,       A16N,      97,          1,          3,          3,2,20130915,       1150,    16.3325,   -28.9988,       5132,  4146.9,   2.3420,  34.8886,2,  34.8984,4,    237.0,2,   238.6,2,   47.40,6,   22.70,6,    0.00,6,    1.52,6,   0.006,2,   0.004,2,   0.000,2,  2204.5,2,  2363.3,2,   768.6,2,      20,   7.7195,6,    25.00, -999.00,9,  -999.0,9,  -999.0,   40.57,2,   25.35,2,     13.594,2,-999.0000,9,-999.0000,9,-999.0000,9,-999.0000,9,-999.0000,9,-999.0000,9,-999.0000,9,-999.0000,9,-999.0000,9,     -999.0,5,  -999.0,9,     -999.0,     -999.0,9,     -999.0,20130915,       1209
33RO20130803,       A16N,      97,          1,          2,          2,2,20130915,       1150,    16.3325,   -28.9988,       5132,  4497.8,   2.3242,  34.8820,2,  34.8890,4,    236.6,2,   237.9,2,   49.30,6,   22.80,6,    0.00,6,    1.54,6,   0.007,2,   0.005,2,   0.000,2,  2208.1,2,  2390.5,3,   770.7,2,      20,   7.7180,2,    25.00, -999.00,9,  -999.0,9,  -999.0,    40.5,2,   25.06,2,     13.666,2,-999.0000,9,-999.0000,9,-999.0000,9,-999.0000,9,-999.0000,9,-999.0000,9,-999.0000,9,-999.0000,9,-999.0000,9,     -999.0,5,  -999.0,9,     -999.0,     -999.0,9,     -999.0,20130915,       1202
33RO20130803,       A16N,      97,          1,          1,          1,2,20130915,       1150,    16.3325,   -28.9988,       5132,  5186.3,   2.3105,  34.8723,2,  34.8847,4,    244.6,2,   237.8,4,   49.20,6,   22.90,6,    0.00,6,    1.54,6,   0.009,2,   0.005,2,   0.000,2,  2208.2,6,  2357.6,2,   755.7,2,      20,   7.7249,2,    25.00, -999.00,9,  -999.0,9,  -999.0,   40.42,2,   25.39,2,     13.716,2,-999.0000,9,-999.0000,9,-999.0000,9,-999.0000,9,-999.0000,9,-999.0000,9,-999.0000,9,-999.0000,9,-999.0000,9,     -999.0,5,  -999.0,9,     -999.0,     -999.0,9,     -999.0,20130915,       1150