BOTTLE,20220815CCHSIOAMB
EXPOCODE,SECT_ID,STNNBR,CASTNO,SAMPNO,BTLNBR,BTLNBR_FLAG_W,DATE,TIME,LATITUDE,LONGITUDE,DEPTH,CTDPRS,CTDTMP,CTDSAL,CTDSAL_FLAG_W,SALNTY,SALNTY_FLAG_W,CTDOXY,CTDOXY_FLAG_W,OXYGEN,OXYGEN_FLAG_W,SILCAT,SILCAT_FLAG_W,NITRAT,NITRAT_FLAG_W,NITRIT,NITRIT_FLAG_W,PHSPHT,PHSPHT_FLAG_W,CFC-11,CFC-11_FLAG_W,CFC-12,CFC-12_FLAG_W,SF6,SF6_FLAG_W,TCARBN,TCARBN_FLAG_W,ALKALI,ALKALI_FLAG_W,PCO2,PCO2_FLAG_W,PCO2TMP,PH_SWS,PH_SWS_FLAG_W,PH_TMP,DELC13,DELC13_FLAG_W,DELC14,DELC14_FLAG_W,C14ERR,DOC,DOC_FLAG_W,TDN,TDN_FLAG_W,N2O,N2O_FLAG_W,CDOM325,CDOM325_FLAG_W,CDOM340,CDOM340_FLAG_W,CDOM380,CDOM380_FLAG_W,CDOM412,CDOM412_FLAG_W,CDOM443,CDOM443_FLAG_W,CDOM490,CDOM490_FLAG_W,CDOM555,CDOM555_FLAG_W,CDOMSL,CDOMSL_FLAG_W,CDOMSN,CDOMSN_FLAG_W,CCL4,CCL4_FLAG_W,14C-DOC,14C-DOC_FLAG_W,14C-DOCERR,13C-DOC,13C-DOC_FLAG_W,13C-DOCERR,BTL_DATE,BTL_TIME
,,,,,,,,,,,METERS,DBAR,ITS-90,PSS-78,,PSS-78,,UMOL/KG,,UMOL/KG,,UMOL/KG,,UMOL/KG,,UMOL/KG,,UMOL/KG,,PMOL/KG,,PMOL/KG,,FMOL/KG,,UMOL/KG,,UMOL/KG,,UATM,,DEG C,,,DEG C,/MILLE,,/MILLE,,/MILLE,UMOL/KG,,UMOL/KG,,NMOL/KG,,1/M,,1/M,,1/M,,1/M,,1/M,,1/M,,1/M,,1/NM,,1/NM,,PMOL/KG,,/MILLE,,/MILLE,/MILLE,,/MILLE,,
33RO20130803,       A16N,      94,          1,         24,         24,2,20130913,       1457,    18.9999,   -29.0001,       4586,     3.9,  26.6155,  36.6514,2,  36.6533,2,    143.3,2,   202.6,2,    0.40,2,    0.10,2,    0.01,2,    0.07,2,   1.615,2,   1.023,2,   1.239,2,  2073.9,6,  2401.8,2,   322.9,2,      20,   8.0472,2,    25.00, -999.00,9,  -999.0,9,  -999.0, -999.00,9, -999.00,9,      6.182,2,   0.0976,2,   0.0546,2,   0.0136,2,   0.0116,2,   0.0086,2,   0.0062,2,   0.0033,2,   0.0184,2,   0.0197,2,     -999.0,5,  -999.0,9,     -999.0,     -999.0,9,     -999.0,20130913,       1727
33RO20130803,       A16N,      94,          1,         23,         23,2,20130913,       1457,    18.9999,   -29.0001,       4586,    19.0,  25.9718,  36.6453,2,  36.6487,2,    200.9,2,   203.9,2,    0.40,2,    0.10,2,    0.00,2,    0.07,2,   1.623,2,   1.033,2,   1.313,2,  2073.6,2,  2399.1,2,   325.6,2,      20,   8.0461,2,    25.00, -999.00,9,  -999.0,9,  -999.0, -999.00,9, -999.00,9,      6.227,2,   0.0827,2,   0.0417,2,   0.0065,2,   0.0071,2,   0.0054,2,   0.0043,2,   0.0028,2,   0.0192,2,   0.0208,2,     -999.0,5,  -999.0,9,     -999.0,     -999.0,9,     -999.0,20130913,       1725
33RO20130803,       A16N,      94,          1,         22,         22,2,20130913,       1457,    18.9999,   -29.0001,       4586,    38.6,  25.0025,  36.7656,2,  36.7806,2,    209.3,2,   212.4,2,    0.50,2,    0.10,2,    0.01,2,    0.06,2,   1.734,2,   1.090,2,   1.319,2,  2083.8,2,  2409.0,2,   334.3,2,      20,   8.0447,2,    25.00, -999.00,9,  -999.0,9,  -999.0, -999.00,9, -999.00,9,      6.585,2,   0.1256,2,   0.0715,2,   0.0202,2,   0.0144,2,   0.0091,2,   0.0058,2,   0.0031,2,   0.0193,2,   0.0207,2,     -999.0,5,  -999.0,9,     -999.0,     -999.0,9,     -999.0,20130913,       1723
33RO20130803,       A16N,      94,          1,         21,         21,2,20130913,       1457,    18.9999,   -29.0001,       4586,    59.2,  21.7365,  36.9905,2,  36.9810,2,    216.4,2,   210.3,2,    0.70,2,    0.30,2,    0.04,2,    0.10,2,   1.963,6,   1.216,6,   1.380,6,  2118.6,2,  2419.0,2,   377.2,2,      20,   7.9999,2,    25.00, -999.00,9,  -999.0,9,  -999.0, -999.00,9, -999.00,9,      8.318,6,   0.1583,2,   0.1006,2,   0.0378,2,   0.0288,2,   0.0164,2,   0.0085,2,   0.0043,2,   0.0173,2,   0.0184,2,     -999.0,5,  -999.0,9,     -999.0,     -999.0,9,     -999.0,20130913,       1722
33RO20130803,       A16N,      94,          1,         20,         20,2,20130913,       1457,    18.9999,   -29.0001,       4586,    88.2,  20.0855,  36.9427,2,  36.9223,2,    162.5,2,   175.2,2,    1.30,2,    5.50,2,    0.07,2,    0.35,2,   2.041,2,   1.251,2,   1.330,2,  2151.7,2,  2414.2,2,   453.7,2,      20,   7.9288,2,    25.00, -999.00,9,  -999.0,9,  -999.0, -999.00,9, -999.00,9,     10.656,2,   0.1353,2,   0.0842,2,   0.0319,2,   0.0256,2,   0.0144,2,   0.0074,2,   0.0038,2,   0.0166,2,   0.0177,2,     -999.0,5,  -999.0,9,     -999.0,     -999.0,9,     -999.0,20130913,       1720
33RO20130803,       A16N,      94,          1,         19,         19,2,20130913,       1457,    18.9999,   -29.0001,       4586,   123.1,  18.1652,  36.6368,2,  36.6295,2,    158.9,2,   163.7,2,    2.10,2,    8.40,2,    0.02,2,    0.48,2,   2.158,2,   1.319,2,   1.297,2,  2162.3,2,  2393.1,6,   515.2,2,      20,   7.8809,2,    25.00, -999.00,9,  -999.0,9,  -999.0, -999.00,9, -999.00,9,     12.753,2,   0.1127,2,   0.0684,2,   0.0249,2,   0.0218,2,   0.0122,2,   0.0062,2,   0.0034,2,   0.0161,2,   0.0172,2,     -999.0,5,  -999.0,9,     -999.0,     -999.0,9,     -999.0,20130913,       1718
33RO20130803,       A16N,      94,          1,         18,         18,2,20130913,       1457,    18.9999,   -29.0001,       4586,   172.7,  16.6230,  36.3209,2,  36.3187,2,    148.6,2,   145.8,2,    3.50,2,   12.50,2,    0.02,2,    0.72,2,   2.189,2,   1.302,2,   1.158,2,  2171.8,2,  2376.0,2,   597.6,2,      20,   7.8256,2,    25.00, -999.00,9,  -999.0,9,  -999.0, -999.00,9, -999.00,9,     16.663,2,   0.1397,3,   0.0891,3,   0.0389,3,   0.0306,3,   0.0207,3,   0.0103,3,   0.0059,3,   0.0152,3,   0.0162,3,     -999.0,5,  -999.0,9,     -999.0,     -999.0,9,     -999.0,20130913,       1716
33RO20130803,       A16N,      94,          1,         17,         17,2,20130913,       1457,    18.9999,   -29.0001,       4586,   259.0,  13.9061,  35.7677,2,  35.7541,2,     95.2,2,    93.9,2,    7.30,2,   22.30,2,    0.02,2,    1.31,2,   1.942,2,   1.109,2,   0.761,2,  2209.1,2,  2338.6,2,   866.9,2,      20,   7.6734,2,    25.00, -999.00,9,  -999.0,9,  -999.0, -999.00,9, -999.00,9,     27.483,2,   0.1418,2,   0.0893,2,   0.0382,2,   0.0307,2,   0.0175,2,   0.0076,2,   0.0032,2,   0.0155,2,   0.0166,2,     -999.0,5,  -999.0,9,     -999.0,     -999.0,9,     -999.0,20130913,       1713
33RO20130803,       A16N,      94,          1,         16,         16,2,20130913,       1457,    18.9999,   -29.0001,       4586,   348.4,  12.1423,  35.4856,2,  35.4852,2,     71.0,2,    70.3,2,   10.10,2,   27.70,2,    0.02,2,    1.63,2,   1.510,2,   0.836,2,   0.451,2,  2227.4,2,  2327.0,2,  1061.6,2,      20,   7.6115,2,    25.00, -999.00,9,  -999.0,9,  -999.0, -999.00,9, -999.00,9,     33.150,2,-999.0000,9,-999.0000,9,-999.0000,9,-999.0000,9,-999.0000,9,-999.0000,9,-999.0000,9,-999.0000,9,-999.0000,9,     -999.0,5,  -999.0,9,     -999.0,     -999.0,9,     -999.0,20130913,       1710
33RO20130803,       A16N,      94,          1,         15,         15,2,20130913,       1457,    18.9999,   -29.0001,       4586,   448.0,  11.0485,  35.3460,2,  35.3466,2,     64.0,2,    65.3,2,   12.30,2,   30.30,2,    0.01,2,    1.80,2,   1.137,6,   0.619,6,   0.330,6,  2234.1,6,  2321.7,2,  1150.4,2,      20,   7.5534,2,    25.00, -999.00,9,  -999.0,9,  -999.0, -999.00,9, -999.00,9,     33.843,6,   0.1448,2,   0.0899,2,   0.0400,2,   0.0321,2,   0.0198,2,   0.0086,2,   0.0034,2,   0.0152,2,   0.0165,2,     -999.0,5,  -999.0,9,     -999.0,     -999.0,9,     -999.0,20130913,       1707
33RO20130803,       A16N,      94,          1,         14,         14,2,20130913,       1457,    18.9999,   -29.0001,       4586,   573.0,   9.6265,  35.1836,2,  35.1905,2,     70.9,2,    73.1,2,   15.40,2,   32.20,2,    0.01,2,    1.97,2,   0.678,2,   0.367,2,   0.228,2,  2234.5,2,  2317.0,2,  1197.5,2,      20,   7.5361,2,    25.00, -999.00,9,  -999.0,9,  -999.0, -999.00,9, -999.00,9,     31.812,2,   0.1591,2,   0.1006,2,   0.0440,2,   0.0342,2,   0.0204,2,   0.0091,2,   0.0036,2,   0.0157,2,   0.0169,2,     -999.0,5,  -999.0,9,     -999.0,     -999.0,9,     -999.0,20130913,       1704
33RO20130803,       A16N,      94,          1,         13,         13,2,20130913,       1457,    18.9999,   -29.0001,       4586,   722.8,   8.0801,  35.0182,2,  35.0160,2,     87.9,2,    88.9,2,   18.90,2,   33.10,2,    0.01,2,    2.09,2,   0.308,2,   0.167,2,   0.086,2,  2231.7,2,  2312.2,2,  1187.0,2,      20,   7.5341,2,    25.00, -999.00,9,  -999.0,9,  -999.0, -999.00,9, -999.00,9,     29.204,2,-999.0000,9,-999.0000,9,-999.0000,9,-999.0000,9,-999.0000,9,-999.0000,9,-999.0000,9,-999.0000,9,-999.0000,9,     -999.0,5,  -999.0,9,     -999.0,     -999.0,9,     -999.0,20130913,       1659
33RO20130803,       A16N,      94,          1,         12,         12,2,20130913,       1457,    18.9999,   -29.0001,       4586,   873.7,   7.0764,  34.9500,2,  34.9499,2,    103.4,2,   106.9,2,   21.20,2,   32.60,2,    0.01,2,    2.10,2,   0.128,2,   0.071,2,   0.024,2,  2227.2,2,  2313.1,2,  1155.8,2,      20,   7.5503,2,    25.00, -999.00,9,  -999.0,9,  -999.0, -999.00,9, -999.00,9,     26.582,2,-999.0000,9,-999.0000,9,-999.0000,9,-999.0000,9,-999.0000,9,-999.0000,9,-999.0000,9,-999.0000,9,-999.0000,9,     -999.0,5,  -999.0,9,     -999.0,     -999.0,9,     -999.0,20130913,       1654
33RO20130803,       A16N,      94,          1,         11,         11,2,20130913,       1457,    18.9999,   -29.0001,       4586,  1023.6,   6.2892,  34.9505,2,  34.9513,2,    130.2,2,   130.5,2,   22.20,2,   30.70,2,    0.01,2,    2.01,2,   0.064,2,   0.038,2,   0.000,2,  2219.6,2,  2315.3,2,  1074.7,2,      20,   7.5821,6,    25.00, -999.00,9,  -999.0,9,  -999.0, -999.00,9, -999.00,9,     23.523,2,   0.1347,2,   0.0823,2,   0.0362,2,   0.0283,2,   0.0192,2,   0.0090,2,   0.0043,2,   0.0152,2,   0.0164,2,     -999.0,5,  -999.0,9,     -999.0,     -999.0,9,     -999.0,20130913,       1649
33RO20130803,       A16N,      94,          1,         10,         10,2,20130913,       1457,    18.9999,   -29.0001,       4586,  1198.3,   5.7347,  34.9962,2,  34.9977,2,    156.3,2,   156.4,2,   21.70,2,   28.00,2,    0.01,2,    1.83,2,   0.043,2,   0.024,2,   0.000,2,  2209.6,2,  2320.2,6,   972.8,2,      20,   7.6223,2,    25.00, -999.00,9,  -999.0,9,  -999.0, -999.00,9, -999.00,9,     20.355,2,-999.0000,9,-999.0000,9,-999.0000,9,-999.0000,9,-999.0000,9,-999.0000,9,-999.0000,9,-999.0000,9,-999.0000,9,     -999.0,5,  -999.0,9,     -999.0,     -999.0,9,     -999.0,20130913,       1644
33RO20130803,       A16N,      94,          1,          9,          9,2,20130913,       1457,    18.9999,   -29.0001,       4586,  1448.8,   5.0201,  35.0401,2,  35.0395,2,    188.4,2,   187.1,2,   21.30,2,   24.80,2,    0.01,2,    1.64,2,   0.017,2,   0.011,2,   0.000,2,  2196.4,2,  2321.8,2,   870.1,2,      20,   7.6691,2,    25.00, -999.00,9,  -999.0,9,  -999.0, -999.00,9, -999.00,9,     17.442,2,   0.1367,2,   0.0852,2,   0.0356,2,   0.0271,2,   0.0181,2,   0.0089,2,   0.0040,2,   0.0158,2,   0.0168,2,     -999.0,5,  -999.0,9,     -999.0,     -999.0,9,     -999.0,20130913,       1638
33RO20130803,       A16N,      94,          1,          8,          8,2,20130913,       1457,    18.9999,   -29.0001,       4586,  1799.3,   4.0836,  35.0076,2,  35.0084,2,    216.7,2,   217.9,2,   22.50,2,   22.50,2,    0.01,2,    1.49,2,   0.003,2,   0.004,2,   0.000,2,  2185.2,2,  2323.5,2,   798.3,2,      20,-999.0000,5,  -999.00, -999.00,9,  -999.0,9,  -999.0, -999.00,9, -999.00,9,     15.121,2,   0.1250,2,   0.0763,2,   0.0301,2,   0.0230,2,   0.0153,2,   0.0074,2,   0.0037,2,   0.0161,2,   0.0172,2,     -999.0,5,  -999.0,9,     -999.0,     -999.0,9,     -999.0,20130913,       1630
33RO20130803,       A16N,      94,          1,          7,          7,2,20130913,       1457,    18.9999,   -29.0001,       4586,  2199.5,   3.4762,  34.9769,2,  34.9759,2,    232.6,2,  -999.0,5,   26.00,2,   21.60,2,    0.02,2,    1.42,2,   0.001,2,   0.002,2,   0.000,2,  2182.7,2,  2326.2,2,   772.3,2,      20,   7.7139,2,    25.00, -999.00,9,  -999.0,9,  -999.0, -999.00,9, -999.00,9,     14.086,2,-999.0000,9,-999.0000,9,-999.0000,9,-999.0000,9,-999.0000,9,-999.0000,9,-999.0000,9,-999.0000,9,-999.0000,9,     -999.0,5,  -999.0,9,     -999.0,     -999.0,9,     -999.0,20130913,       1614
33RO20130803,       A16N,      94,          1,          6,          6,2,20130913,       1457,    18.9999,   -29.0001,       4586,  2598.2,   3.1222,  34.9586,2,  34.9582,2,    241.6,2,   239.3,2,   29.10,2,   21.10,2,    0.01,2,    1.40,2,   0.001,2,   0.002,2,   0.024,2,  2182.7,2,  2331.8,2,   755.1,2,      20,   7.7254,2,    25.00, -999.00,9,  -999.0,9,  -999.0, -999.00,9, -999.00,9,     13.447,2,   0.1208,2,   0.0725,2,   0.0271,2,   0.0203,2,   0.0132,2,   0.0063,2,   0.0033,2,   0.0166,2,   0.0176,2,     -999.0,5,  -999.0,9,     -999.0,     -999.0,9,     -999.0,20130913,       1605
33RO20130803,       A16N,      94,          1,          5,          5,2,20130913,       1457,    18.9999,   -29.0001,       4586,  2997.7,   2.8201,  34.9405,2,  34.9414,2,    242.8,2,   241.7,2,   34.20,2,   21.30,2,    0.01,2,    1.41,2,   0.001,2,   0.002,2,   0.000,2,  2189.3,2,  2338.4,2,   753.7,2,      20,   7.7264,2,    25.00, -999.00,9,  -999.0,9,  -999.0, -999.00,9, -999.00,9,     13.278,2,   0.1337,2,   0.0851,2,   0.0369,2,   0.0277,2,   0.0184,2,   0.0092,2,   0.0042,2,   0.0153,2,   0.0161,2,     -999.0,5,  -999.0,9,     -999.0,     -999.0,9,     -999.0,20130913,       1552
33RO20130803,       A16N,      94,          1,          4,          4,2,20130913,       1457,    18.9999,   -29.0001,       4586,  3448.2,   2.5278,  34.9150,2,  34.9161,2,    240.3,2,   240.2,2,   40.50,6,   21.90,6,    0.01,6,    1.46,6,   0.007,2,   0.006,2,   0.000,2,  2199.6,2,  2351.1,2,   757.6,2,      20,   7.7271,6,    25.00, -999.00,9,  -999.0,9,  -999.0, -999.00,9, -999.00,9,     13.392,2,   0.1326,2,   0.0832,2,   0.0350,2,   0.0252,2,   0.0163,2,   0.0078,2,   0.0037,2,   0.0158,2,   0.0166,2,     -999.0,5,  -999.0,9,     -999.0,     -999.0,9,     -999.0,20130913,       1531
33RO20130803,       A16N,      94,          1,          3,          3,2,20130913,       1457,    18.9999,   -29.0001,       4586,  3948.2,   2.3711,  34.8951,2,  34.8952,2,    241.3,2,   242.6,2,   44.30,6,   22.20,6,    0.01,6,    1.48,6,   0.002,2,   0.003,2,   0.000,2,  2200.6,2,  2350.4,2,   755.6,6,      20,   7.7272,3,    25.00, -999.00,9,  -999.0,9,  -999.0, -999.00,9, -999.00,9,     13.491,2,   0.1332,2,   0.0813,2,   0.0311,2,   0.0222,2,   0.0140,2,   0.0064,2,   0.0031,2,   0.0169,2,   0.0178,2,     -999.0,5,  -999.0,9,     -999.0,     -999.0,9,     -999.0,20130913,       1518
33RO20130803,       A16N,      94,          1,          2,          2,2,20130913,       1457,    18.9999,   -29.0001,       4586,  4447.6,   2.3604,  34.8873,2,  34.8898,2,    242.4,2,  -999.0,9,   45.90,6,   22.40,6,    0.00,6,    1.49,6,-999.000,9,-999.000,9,-999.000,9,  -999.0,9,  -999.0,9,  -999.0,9, -999.00,-999.0000,9,  -999.00, -999.00,9,  -999.0,9,  -999.0, -999.00,9, -999.00,9,     -999.0,9,   0.1343,2,   0.0837,2,   0.0340,2,   0.0239,2,   0.0150,2,   0.0070,2,   0.0033,2,   0.0163,2,   0.0171,2,     -999.0,9,  -999.0,9,     -999.0,     -999.0,9,     -999.0,20130913,       1504
33RO20130803,       A16N,      94,          1,          1,          1,2,20130913,       1457,    18.9999,   -29.0001,       4586,  4627.4,   2.3772,  34.8865,2,  34.8874,2,    241.9,2,   241.8,2,   46.10,6,   22.50,6,    0.00,6,    1.50,6,   0.003,2,   0.003,2,   0.000,2,  2205.1,6,  2359.7,2,   747.7,2,      20,   7.7374,2,    25.00, -999.00,9,  -999.0,9,  -999.0, -999.00,9, -999.00,9,     13.588,2,   0.1263,2,   0.0778,2,   0.0308,2,   0.0219,2,   0.0138,2,   0.0064,2,   0.0029,2,   0.0164,2,   0.0171,2,     -999.0,5,  -999.0,9,     -999.0,     -999.0,9,     -999.0,20130913,       1457