BOTTLE,20220815CCHSIOAMB
EXPOCODE,SECT_ID,STNNBR,CASTNO,SAMPNO,BTLNBR,BTLNBR_FLAG_W,DATE,TIME,LATITUDE,LONGITUDE,DEPTH,CTDPRS,CTDTMP,CTDSAL,CTDSAL_FLAG_W,SALNTY,SALNTY_FLAG_W,CTDOXY,CTDOXY_FLAG_W,OXYGEN,OXYGEN_FLAG_W,SILCAT,SILCAT_FLAG_W,NITRAT,NITRAT_FLAG_W,NITRIT,NITRIT_FLAG_W,PHSPHT,PHSPHT_FLAG_W,CFC-11,CFC-11_FLAG_W,CFC-12,CFC-12_FLAG_W,SF6,SF6_FLAG_W,TCARBN,TCARBN_FLAG_W,ALKALI,ALKALI_FLAG_W,PCO2,PCO2_FLAG_W,PCO2TMP,PH_SWS,PH_SWS_FLAG_W,PH_TMP,DELC13,DELC13_FLAG_W,DELC14,DELC14_FLAG_W,C14ERR,DOC,DOC_FLAG_W,TDN,TDN_FLAG_W,N2O,N2O_FLAG_W,CDOM325,CDOM325_FLAG_W,CDOM340,CDOM340_FLAG_W,CDOM380,CDOM380_FLAG_W,CDOM412,CDOM412_FLAG_W,CDOM443,CDOM443_FLAG_W,CDOM490,CDOM490_FLAG_W,CDOM555,CDOM555_FLAG_W,CDOMSL,CDOMSL_FLAG_W,CDOMSN,CDOMSN_FLAG_W,CCL4,CCL4_FLAG_W,14C-DOC,14C-DOC_FLAG_W,14C-DOCERR,13C-DOC,13C-DOC_FLAG_W,13C-DOCERR,BTL_DATE,BTL_TIME
,,,,,,,,,,,METERS,DBAR,ITS-90,PSS-78,,PSS-78,,UMOL/KG,,UMOL/KG,,UMOL/KG,,UMOL/KG,,UMOL/KG,,UMOL/KG,,PMOL/KG,,PMOL/KG,,FMOL/KG,,UMOL/KG,,UMOL/KG,,UATM,,DEG C,,,DEG C,/MILLE,,/MILLE,,/MILLE,UMOL/KG,,UMOL/KG,,NMOL/KG,,1/M,,1/M,,1/M,,1/M,,1/M,,1/M,,1/M,,1/NM,,1/NM,,PMOL/KG,,/MILLE,,/MILLE,/MILLE,,/MILLE,,
33RO20130803,       A16N,      11,          2,         24,         24,2,20130805,       2124,    60.0002,   -19.9985,       2726,     3.2,  12.0076,  35.0242,2,  35.0252,2,    281.2,2,     283,2,    1.60,2,    3.30,2,    0.09,2,    0.27,2,-999.000,9,-999.000,9,-999.000,9,  2075.8,6,  2311.3,2,   449.5,2,      20,   7.9239,2,    25.00, -999.00,9,  -999.0,9,  -999.0, -999.00,9, -999.00,9,     -999.0,9,-999.0000,9,-999.0000,9,-999.0000,9,-999.0000,9,-999.0000,9,-999.0000,9,-999.0000,9,-999.0000,9,-999.0000,9,     -999.0,9,  -999.0,9,     -999.0,     -999.0,9,     -999.0,20130805,       2242
33RO20130803,       A16N,      11,          2,         23,         23,2,20130805,       2124,    60.0002,   -19.9985,       2726,    28.4,  10.5264,  35.0176,2,  35.0244,2,    278.6,2,   275.8,2,    2.00,2,    7.00,2,    0.18,2,    0.55,2,-999.000,9,-999.000,9,-999.000,9,  2111.4,2,  2311.2,6,   545.3,2,      20,   7.8486,2,    25.00, -999.00,9,  -999.0,9,  -999.0, -999.00,9, -999.00,9,     -999.0,9,-999.0000,9,-999.0000,9,-999.0000,9,-999.0000,9,-999.0000,9,-999.0000,9,-999.0000,9,-999.0000,9,-999.0000,9,     -999.0,9,  -999.0,9,     -999.0,     -999.0,9,     -999.0,20130805,       2240
33RO20130803,       A16N,      11,          2,         22,         22,2,20130805,       2124,    60.0002,   -19.9985,       2726,    55.8,   9.9090,  35.0596,2,  35.0603,2,    271.4,2,   275.3,2,    2.00,2,    7.80,2,    0.27,2,    0.59,2,-999.000,9,-999.000,9,-999.000,9,  2116.3,2,  -999.0,9,   565.7,2,      20,   7.8354,6,    25.00, -999.00,9,  -999.0,9,  -999.0, -999.00,9, -999.00,9,     -999.0,9,-999.0000,9,-999.0000,9,-999.0000,9,-999.0000,9,-999.0000,9,-999.0000,9,-999.0000,9,-999.0000,9,-999.0000,9,     -999.0,9,  -999.0,9,     -999.0,     -999.0,9,     -999.0,20130805,       2238
33RO20130803,       A16N,      11,          2,         21,         21,2,20130805,       2124,    60.0002,   -19.9985,       2726,    80.1,   9.5221,  35.0677,2,  35.0682,2,    270.0,2,   269.3,2,    2.40,2,    9.00,2,    0.34,2,    0.68,2,-999.000,9,-999.000,9,-999.000,9,  2128.7,2,  -999.0,5,   594.9,2,      20,   7.8157,2,    25.00, -999.00,9,  -999.0,9,  -999.0, -999.00,9, -999.00,9,     -999.0,9,-999.0000,9,-999.0000,9,-999.0000,9,-999.0000,9,-999.0000,9,-999.0000,9,-999.0000,9,-999.0000,9,-999.0000,9,     -999.0,9,  -999.0,9,     -999.0,     -999.0,9,     -999.0,20130805,       2236
33RO20130803,       A16N,      11,          2,         20,         20,2,20130805,       2124,    60.0002,   -19.9985,       2726,   104.8,   9.4898,  35.1314,2,  35.1325,2,    251.8,2,   258.9,2,    3.00,2,   11.00,2,    0.25,2,    0.74,2,-999.000,9,-999.000,9,-999.000,9,  2137.5,2,  -999.0,9,   620.7,2,      20,   7.6516,4,    25.00, -999.00,9,  -999.0,9,  -999.0, -999.00,9, -999.00,9,     -999.0,9,-999.0000,9,-999.0000,9,-999.0000,9,-999.0000,9,-999.0000,9,-999.0000,9,-999.0000,9,-999.0000,9,-999.0000,9,     -999.0,9,  -999.0,9,     -999.0,     -999.0,9,     -999.0,20130805,       2234
33RO20130803,       A16N,      11,          2,         19,         19,2,20130805,       2124,    60.0002,   -19.9985,       2726,   120.1,   9.3766,  35.1389,2,  35.1361,2,    249.9,2,   258.6,2,    3.10,2,   11.50,2,    0.05,2,    0.76,2,-999.000,9,-999.000,9,-999.000,9,  2140.5,2,  2300.6,4,   631.1,2,      20,   7.7916,2,    25.00, -999.00,9,  -999.0,9,  -999.0, -999.00,9, -999.00,9,     -999.0,9,-999.0000,9,-999.0000,9,-999.0000,9,-999.0000,9,-999.0000,9,-999.0000,9,-999.0000,9,-999.0000,9,-999.0000,9,     -999.0,9,  -999.0,9,     -999.0,     -999.0,9,     -999.0,20130805,       2233
33RO20130803,       A16N,      11,          2,         18,         18,2,20130805,       2124,    60.0002,   -19.9985,       2726,   154.9,   8.9243,  35.1225,2,  35.1889,3,    253.3,2,   243.8,2,    5.40,3,   13.60,3,    0.02,3,    0.89,3,-999.000,9,-999.000,9,-999.000,9,  2151.5,2,  -999.0,9,   678.1,3,      20,   7.7642,2,    25.00, -999.00,9,  -999.0,9,  -999.0, -999.00,9, -999.00,9,     -999.0,9,-999.0000,9,-999.0000,9,-999.0000,9,-999.0000,9,-999.0000,9,-999.0000,9,-999.0000,9,-999.0000,9,-999.0000,9,     -999.0,9,  -999.0,9,     -999.0,     -999.0,9,     -999.0,20130805,       2231
33RO20130803,       A16N,      11,          2,         17,         17,2,20130805,       2124,    60.0002,   -19.9985,       2726,   211.8,   8.8253,  35.1489,2,  35.1491,2,    250.8,2,   257.7,2,    4.50,6,   12.60,6,    0.02,6,    0.83,6,-999.000,9,-999.000,9,-999.000,9,  2146.6,2,  2318.8,2,   655.3,2,      20,   7.7784,2,    25.00, -999.00,9,  -999.0,9,  -999.0, -999.00,9, -999.00,9,     -999.0,9,-999.0000,9,-999.0000,9,-999.0000,9,-999.0000,9,-999.0000,9,-999.0000,9,-999.0000,9,-999.0000,9,-999.0000,9,     -999.0,9,  -999.0,9,     -999.0,     -999.0,9,     -999.0,20130805,       2229
33RO20130803,       A16N,      11,          2,         16,         16,2,20130805,       2124,    60.0002,   -19.9985,       2726,   261.7,   8.6192,  35.1379,2,  35.1380,2,    261.8,2,   262.6,2,    4.30,6,   12.50,6,    0.02,6,    0.82,6,-999.000,9,-999.000,9,-999.000,9,  2145.9,2,  -999.0,9,   652.9,2,      20,   7.7805,2,    25.00, -999.00,9,  -999.0,9,  -999.0, -999.00,9, -999.00,9,     -999.0,9,-999.0000,9,-999.0000,9,-999.0000,9,-999.0000,9,-999.0000,9,-999.0000,9,-999.0000,9,-999.0000,9,-999.0000,9,     -999.0,9,  -999.0,9,     -999.0,     -999.0,9,     -999.0,20130805,       2226
33RO20130803,       A16N,      11,          2,         15,         15,2,20130805,       2124,    60.0002,   -19.9985,       2726,   342.8,   8.3411,  35.1432,2,  35.1353,2,    250.3,2,   247.6,2,    6.50,2,   14.50,2,    0.03,2,    0.94,2,-999.000,9,-999.000,9,-999.000,9,  2156.8,2,  2310.8,3,   696.0,2,      20,   7.7530,2,    25.00, -999.00,9,  -999.0,9,  -999.0, -999.00,9, -999.00,9,     -999.0,9,-999.0000,9,-999.0000,9,-999.0000,9,-999.0000,9,-999.0000,9,-999.0000,9,-999.0000,9,-999.0000,9,-999.0000,9,     -999.0,9,  -999.0,9,     -999.0,     -999.0,9,     -999.0,20130805,       2224
33RO20130803,       A16N,      11,          2,         14,         14,2,20130805,       2124,    60.0002,   -19.9985,       2726,   418.1,   7.9100,  35.1150,2,  35.1147,2,    253.9,2,   231.3,2,    8.40,2,   16.40,2,    0.02,2,    1.06,2,-999.000,9,-999.000,9,-999.000,9,  2165.4,2,  -999.0,9,   742.6,2,      20,   7.7291,2,    25.00, -999.00,9,  -999.0,9,  -999.0, -999.00,9, -999.00,9,     -999.0,9,-999.0000,9,-999.0000,9,-999.0000,9,-999.0000,9,-999.0000,9,-999.0000,9,-999.0000,9,-999.0000,9,-999.0000,9,     -999.0,9,  -999.0,9,     -999.0,     -999.0,9,     -999.0,20130805,       2221
33RO20130803,       A16N,      11,          2,         13,         13,2,20130805,       2124,    60.0002,   -19.9985,       2726,   493.0,   7.8944,  35.1667,2,  35.1667,2,    261.7,2,   266.2,2,    6.30,3,   13.90,3,    0.02,3,    0.90,3,-999.000,9,-999.000,9,-999.000,9,  2152.0,4,  2319.3,2,   678.2,3,      20,   7.7644,4,    25.00, -999.00,9,  -999.0,9,  -999.0, -999.00,9, -999.00,9,     -999.0,9,-999.0000,9,-999.0000,9,-999.0000,9,-999.0000,9,-999.0000,9,-999.0000,9,-999.0000,9,-999.0000,9,-999.0000,9,     -999.0,9,  -999.0,9,     -999.0,     -999.0,9,     -999.0,20130805,       2218
33RO20130803,       A16N,      11,          2,         12,         12,2,20130805,       2124,    60.0002,   -19.9985,       2726,   567.5,   7.2335,  35.1020,2,  35.1009,2,    220.0,2,     221,2,   10.00,6,   17.80,6,    0.02,6,    1.16,6,-999.000,9,-999.000,9,-999.000,9,  2174.7,6,  -999.0,9,   788.2,2,      20,   7.7060,2,    25.00, -999.00,9,  -999.0,9,  -999.0, -999.00,9, -999.00,9,     -999.0,9,-999.0000,9,-999.0000,9,-999.0000,9,-999.0000,9,-999.0000,9,-999.0000,9,-999.0000,9,-999.0000,9,-999.0000,9,     -999.0,9,  -999.0,9,     -999.0,     -999.0,9,     -999.0,20130805,       2216
33RO20130803,       A16N,      11,          2,         11,         11,2,20130805,       2124,    60.0002,   -19.9985,       2726,   673.6,   6.4873,  35.0707,2,  35.0765,2,    223.2,2,   225.6,2,   10.50,2,   18.20,2,    0.02,2,    1.18,2,   3.040,2,   1.640,2,   1.345,2,  2176.5,2,  -999.0,9,  -999.0,5,      20,   7.6953,2,    25.00, -999.00,9,  -999.0,9,  -999.0, -999.00,9, -999.00,9,     15.396,2,-999.0000,9,-999.0000,9,-999.0000,9,-999.0000,9,-999.0000,9,-999.0000,9,-999.0000,9,-999.0000,9,-999.0000,9,     -999.0,5,  -999.0,9,     -999.0,     -999.0,9,     -999.0,20130805,       2212
33RO20130803,       A16N,      11,          2,         10,         10,2,20130805,       2124,    60.0002,   -19.9985,       2726,   773.6,   5.9836,  35.0682,2,  35.0659,2,    228.1,2,   227.5,2,   11.20,2,   18.50,2,    0.02,2,    1.20,2,   3.062,2,   1.615,2,   1.111,2,  2177.9,2,  2313.1,2,   818.8,2,      20,   7.6925,2,    25.00, -999.00,9,  -999.0,9,  -999.0, -999.00,9, -999.00,9,     15.502,2,-999.0000,9,-999.0000,9,-999.0000,9,-999.0000,9,-999.0000,9,-999.0000,9,-999.0000,9,-999.0000,9,-999.0000,9,     -999.0,5,  -999.0,9,     -999.0,     -999.0,9,     -999.0,20130805,       2209
33RO20130803,       A16N,      11,          2,          9,          9,2,20130805,       2124,    60.0002,   -19.9985,       2726,   936.5,   4.9567,  34.9855,2,  34.9852,2,    247.6,2,   248.2,2,   10.80,2,   17.90,2,    0.02,2,    1.17,2,   4.842,4,   2.829,4,   3.402,4,  2173.4,2,  -999.0,9,   816.4,2,      20,   7.6904,2,    25.00, -999.00,9,  -999.0,9,  -999.0, -999.00,9, -999.00,9,     18.813,4,-999.0000,9,-999.0000,9,-999.0000,9,-999.0000,9,-999.0000,9,-999.0000,9,-999.0000,9,-999.0000,9,-999.0000,9,     -999.0,5,  -999.0,9,     -999.0,     -999.0,9,     -999.0,20130805,       2205
33RO20130803,       A16N,      11,          2,          8,          8,2,20130805,       2124,    60.0002,   -19.9985,       2726,  1088.0,   4.4457,  34.9500,2,  34.9494,2,    261.3,2,     261,2,   10.60,2,   17.40,2,    0.02,2,    1.14,2,-999.000,9,-999.000,9,-999.000,9,  2168.0,2,  -999.0,9,   808.0,2,      20,-999.0000,5,  -999.00, -999.00,9,  -999.0,9,  -999.0, -999.00,9, -999.00,9,     -999.0,9,-999.0000,9,-999.0000,9,-999.0000,9,-999.0000,9,-999.0000,9,-999.0000,9,-999.0000,9,-999.0000,9,-999.0000,9,     -999.0,9,  -999.0,9,     -999.0,     -999.0,9,     -999.0,20130805,       2201
33RO20130803,       A16N,      11,          2,          7,          7,2,20130805,       2124,    60.0002,   -19.9985,       2726,  1226.2,   4.1687,  34.9300,2,  34.9297,2,    266.7,2,   266.7,2,   10.70,2,   17.20,2,    0.02,2,    1.13,2,   3.793,2,   1.969,2,   1.201,2,  2168.5,2,  2304.9,2,   803.0,2,      20,   7.6987,2,    25.00, -999.00,9,  -999.0,9,  -999.0, -999.00,9, -999.00,9,     14.104,2,-999.0000,9,-999.0000,9,-999.0000,9,-999.0000,9,-999.0000,9,-999.0000,9,-999.0000,9,-999.0000,9,-999.0000,9,     -999.0,5,  -999.0,9,     -999.0,     -999.0,9,     -999.0,20130805,       2158
33RO20130803,       A16N,      11,          2,          6,          6,2,20130805,       2124,    60.0002,   -19.9985,       2726,  1387.4,   3.9519,  34.9165,2,  34.9161,2,    269.9,2,   270.7,2,   10.80,2,   17.20,2,    0.01,2,    1.12,2,-999.000,9,-999.000,9,-999.000,9,  2166.0,2,  -999.0,9,   796.0,2,      20,   7.6989,2,    25.00, -999.00,9,  -999.0,9,  -999.0, -999.00,9, -999.00,9,     -999.0,9,-999.0000,9,-999.0000,9,-999.0000,9,-999.0000,9,-999.0000,9,-999.0000,9,-999.0000,9,-999.0000,9,-999.0000,9,     -999.0,9,  -999.0,9,     -999.0,     -999.0,9,     -999.0,20130805,       2154
33RO20130803,       A16N,      11,          2,          5,          5,2,20130805,       2124,    60.0002,   -19.9985,       2726,  1662.5,   3.7578,  34.9172,2,  34.9174,2,    271.6,2,   271.5,2,   11.40,2,   17.20,2,    0.01,2,    1.13,2,   3.493,2,   1.751,2,   0.865,2,  2164.9,2,  -999.0,9,   785.7,2,      20,   7.7086,2,    25.00, -999.00,9,  -999.0,9,  -999.0, -999.00,9, -999.00,9,     13.789,2,-999.0000,9,-999.0000,9,-999.0000,9,-999.0000,9,-999.0000,9,-999.0000,9,-999.0000,9,-999.0000,9,-999.0000,9,     -999.0,5,  -999.0,9,     -999.0,     -999.0,9,     -999.0,20130805,       2148
33RO20130803,       A16N,      11,          2,          4,          4,2,20130805,       2124,    60.0002,   -19.9985,       2726,  1898.4,   3.5669,  34.9204,2,  34.9206,2,    271.8,2,     272,2,   12.00,2,   17.10,2,    0.01,2,    1.13,2,-999.000,9,-999.000,9,-999.000,9,  2163.3,2,  2303.3,6,   779.3,2,      20,   7.7123,2,    25.00, -999.00,9,  -999.0,9,  -999.0, -999.00,9, -999.00,9,     -999.0,9,-999.0000,9,-999.0000,9,-999.0000,9,-999.0000,9,-999.0000,9,-999.0000,9,-999.0000,9,-999.0000,9,-999.0000,9,     -999.0,9,  -999.0,9,     -999.0,     -999.0,9,     -999.0,20130805,       2143
33RO20130803,       A16N,      11,          2,          3,          3,2,20130805,       2124,    60.0002,   -19.9985,       2726,  2186.7,   3.3718,  34.9329,2,  34.9336,2,    273.2,2,   273.5,2,   12.50,2,   16.70,2,    0.01,2,    1.11,2,   2.904,6,   1.436,6,   0.631,6,  2163.0,2,  -999.0,9,   769.5,2,      20,   7.7157,2,    25.00, -999.00,9,  -999.0,9,  -999.0, -999.00,9, -999.00,9,     13.480,6,-999.0000,9,-999.0000,9,-999.0000,9,-999.0000,9,-999.0000,9,-999.0000,9,-999.0000,9,-999.0000,9,-999.0000,9,     -999.0,5,  -999.0,9,     -999.0,     -999.0,9,     -999.0,20130805,       2137
33RO20130803,       A16N,      11,          2,          2,          2,2,20130805,       2124,    60.0002,   -19.9985,       2726,  2499.8,   3.1681,  34.9718,2,  34.9720,2,    271.7,2,   272.7,2,   13.40,2,   16.10,2,    0.01,2,    1.08,2,   2.865,2,   1.453,2,   0.901,2,  2167.4,2,  -999.0,9,   773.2,2,      20,   7.7136,6,    25.00, -999.00,9,  -999.0,9,  -999.0, -999.00,9, -999.00,9,     13.652,2,-999.0000,9,-999.0000,9,-999.0000,9,-999.0000,9,-999.0000,9,-999.0000,9,-999.0000,9,-999.0000,9,-999.0000,9,     -999.0,5,  -999.0,9,     -999.0,     -999.0,9,     -999.0,20130805,       2130
33RO20130803,       A16N,      11,          2,          1,          1,2,20130805,       2124,    60.0002,   -19.9985,       2726,  2751.6,   2.7533,  34.9860,2,  34.9862,2,    274.2,2,   274.7,2,   15.00,2,   15.70,2,    0.03,2,    1.05,2,   3.114,2,   1.616,2,   1.152,2,  2173.8,6,  2309.0,2,   796.4,2,      20,   7.7072,2,    25.00, -999.00,9,  -999.0,9,  -999.0, -999.00,9, -999.00,9,     13.894,2,-999.0000,9,-999.0000,9,-999.0000,9,-999.0000,9,-999.0000,9,-999.0000,9,-999.0000,9,-999.0000,9,-999.0000,9,     -999.0,5,  -999.0,9,     -999.0,     -999.0,9,     -999.0,20130805,       2124