BOTTLE,20220815CCHSIOAMB
EXPOCODE,SECT_ID,STNNBR,CASTNO,SAMPNO,BTLNBR,BTLNBR_FLAG_W,DATE,TIME,LATITUDE,LONGITUDE,DEPTH,CTDPRS,CTDTMP,CTDSAL,CTDSAL_FLAG_W,SALNTY,SALNTY_FLAG_W,CTDOXY,CTDOXY_FLAG_W,OXYGEN,OXYGEN_FLAG_W,SILCAT,SILCAT_FLAG_W,NITRAT,NITRAT_FLAG_W,NITRIT,NITRIT_FLAG_W,PHSPHT,PHSPHT_FLAG_W,CFC-11,CFC-11_FLAG_W,CFC-12,CFC-12_FLAG_W,SF6,SF6_FLAG_W,TCARBN,TCARBN_FLAG_W,ALKALI,ALKALI_FLAG_W,PCO2,PCO2_FLAG_W,PCO2TMP,PH_SWS,PH_SWS_FLAG_W,PH_TMP,DELC13,DELC13_FLAG_W,DELC14,DELC14_FLAG_W,C14ERR,DOC,DOC_FLAG_W,TDN,TDN_FLAG_W,N2O,N2O_FLAG_W,CDOM325,CDOM325_FLAG_W,CDOM340,CDOM340_FLAG_W,CDOM380,CDOM380_FLAG_W,CDOM412,CDOM412_FLAG_W,CDOM443,CDOM443_FLAG_W,CDOM490,CDOM490_FLAG_W,CDOM555,CDOM555_FLAG_W,CDOMSL,CDOMSL_FLAG_W,CDOMSN,CDOMSN_FLAG_W,CCL4,CCL4_FLAG_W,14C-DOC,14C-DOC_FLAG_W,14C-DOCERR,13C-DOC,13C-DOC_FLAG_W,13C-DOCERR,BTL_DATE,BTL_TIME
,,,,,,,,,,,METERS,DBAR,ITS-90,PSS-78,,PSS-78,,UMOL/KG,,UMOL/KG,,UMOL/KG,,UMOL/KG,,UMOL/KG,,UMOL/KG,,PMOL/KG,,PMOL/KG,,FMOL/KG,,UMOL/KG,,UMOL/KG,,UATM,,DEG C,,,DEG C,/MILLE,,/MILLE,,/MILLE,UMOL/KG,,UMOL/KG,,NMOL/KG,,1/M,,1/M,,1/M,,1/M,,1/M,,1/M,,1/M,,1/NM,,1/NM,,PMOL/KG,,/MILLE,,/MILLE,/MILLE,,/MILLE,,
33RO20130803,       A16N,     101,          1,         24,         24,2,20130919,       0809,    13.6658,   -29.0007,       5545,     3.3,  28.1291,  36.0692,2,  36.0716,2,    199.5,2,   198.3,2,    1.00,2,    0.00,2,    0.00,2,    0.01,2,   1.510,2,   0.957,2,   1.215,2,  2012.8,6,  2361.0,2,  -999.0,9, -999.00,   8.0976,2,    25.00, -999.00,9,  -999.0,9,  -999.0,   75.54,2,    5.19,2,      6.333,2,   0.0714,2,   0.0366,2,   0.0068,2,   0.0079,2,   0.0058,2,   0.0041,2,   0.0024,2,   0.0174,2,   0.0185,2,     -999.0,5,  -999.0,9,     -999.0,     -999.0,9,     -999.0,20130919,       1018
33RO20130803,       A16N,     101,          1,         23,         23,2,20130919,       0809,    13.6658,   -29.0007,       5545,    23.4,  25.8148,  36.0519,2,  36.0601,2,    212.1,2,   210.9,2,    1.30,2,    0.00,2,    0.00,2,    0.02,2,   1.657,2,   1.033,2,   1.181,2,  2031.5,2,  2361.8,6,  -999.0,9, -999.00,   8.0674,2,    25.00, -999.00,9,  -999.0,9,  -999.0,   75.18,2,    4.71,2,     10.497,2,   0.1536,2,   0.0959,2,   0.0332,2,   0.0224,2,   0.0128,2,   0.0067,2,   0.0032,2,   0.0184,2,   0.0193,2,     -999.0,5,  -999.0,9,     -999.0,     -999.0,9,     -999.0,20130919,       1016
33RO20130803,       A16N,     101,          1,         22,         22,2,20130919,       0809,    13.6658,   -29.0007,       5545,    47.4,  18.6561,  35.7297,2,  35.7296,2,    164.1,2,   130.5,2,    3.70,2,    6.80,2,    0.16,2,    0.60,2,   2.004,6,   1.156,6,   0.850,6,  2168.4,2,  2351.1,2,  -999.0,9, -999.00,   7.7986,2,    25.00, -999.00,9,  -999.0,9,  -999.0,   66.23,2,    9.92,2,     29.721,6,   0.2581,2,   0.1773,2,   0.0780,2,   0.0538,2,   0.0289,2,   0.0128,2,   0.0052,2,   0.0167,2,   0.0176,2,     -999.0,5,  -999.0,9,     -999.0,     -999.0,9,     -999.0,20130919,       1014
33RO20130803,       A16N,     101,          1,         21,         21,2,20130919,       0809,    13.6658,   -29.0007,       5545,    72.6,  14.5072,  35.5177,2,  35.5024,2,     59.7,2,    62.7,2,    7.50,2,   25.80,2,    0.06,2,    1.58,2,   2.040,2,   1.153,2,   0.666,2,  2223.0,2,  2325.3,2,  -999.0,9, -999.00,   7.5990,2,    25.00, -999.00,9,  -999.0,9,  -999.0,   61.78,2,   28.42,2,     38.638,2,   0.1831,2,   0.1196,2,   0.0537,2,   0.0431,2,   0.0239,2,   0.0101,2,   0.0043,2,   0.0154,2,   0.0167,2,     -999.0,5,  -999.0,9,     -999.0,     -999.0,9,     -999.0,20130919,       1012
33RO20130803,       A16N,     101,          1,         20,         20,2,20130919,       0809,    13.6658,   -29.0007,       5545,    97.8,  13.4710,  35.4060,2,  35.4074,2,     68.9,2,    69.9,2,    8.50,2,   26.30,2,    0.01,2,    1.62,2,   1.980,2,   1.108,2,   0.615,2,  2220.7,2,  2325.4,2,  -999.0,9, -999.00,   7.5980,2,    25.00, -999.00,9,  -999.0,9,  -999.0,   55.89,2,   29.05,2,     36.931,2,   0.1585,2,   0.1015,2,   0.0448,2,   0.0369,2,   0.0206,2,   0.0086,2,   0.0038,2,   0.0153,2,   0.0166,2,     -999.0,5,  -999.0,9,     -999.0,     -999.0,9,     -999.0,20130919,       1010
33RO20130803,       A16N,     101,          1,         19,         19,2,20130919,       0809,    13.6658,   -29.0007,       5545,   147.2,  12.5208,  35.3086,2,  35.3088,2,     80.9,2,    79.6,2,    9.50,2,   26.50,2,    0.01,2,    1.63,2,   1.886,2,   1.031,2,   0.534,2,  2216.8,2,  2318.5,2,  -999.0,9, -999.00,   7.1013,3,    25.00, -999.00,9,  -999.0,9,  -999.0,   47.45,2,   29.38,2,     35.941,2,   0.1489,2,   0.0948,2,   0.0435,2,   0.0352,2,   0.0203,2,   0.0085,2,   0.0036,2,   0.0148,2,   0.0160,2,     -999.0,5,  -999.0,9,     -999.0,     -999.0,9,     -999.0,20130919,       1008
33RO20130803,       A16N,     101,          1,         18,         18,2,20130919,       0809,    13.6658,   -29.0007,       5545,   222.9,  11.6931,  35.2353,2,  35.2340,2,     81.7,2,    80.8,2,   10.50,2,   27.70,2,    0.01,2,    1.70,2,   1.687,2,   0.922,2,   0.429,2,  2220.4,2,  2317.4,2,  -999.0,9, -999.00,   7.5853,2,    25.00, -999.00,9,  -999.0,9,  -999.0,   45.79,2,   30.19,2,     36.343,2,   0.1752,2,   0.1191,2,   0.0514,2,   0.0374,2,   0.0213,2,   0.0092,2,   0.0040,2,   0.0160,2,   0.0164,2,     -999.0,5,  -999.0,9,     -999.0,     -999.0,9,     -999.0,20130919,       1005
33RO20130803,       A16N,     101,          1,         17,         17,5,20130919,       0809,    13.6658,   -29.0007,       5545,   298.2,  11.3436,  35.2568,2,-999.0000,9,     62.7,2,  -999.0,9, -999.00,9, -999.00,9, -999.00,9, -999.00,9,-999.000,9,-999.000,9,-999.000,9,  -999.0,9,  -999.0,9,  -999.0,9, -999.00,-999.0000,9,  -999.00, -999.00,9,  -999.0,9,  -999.0,   44.63,2,   35.06,2,     -999.0,9,-999.0000,9,-999.0000,9,-999.0000,9,-999.0000,9,-999.0000,9,-999.0000,9,-999.0000,9,-999.0000,9,-999.0000,9,     -999.0,9,  -999.0,9,     -999.0,     -999.0,9,     -999.0,20130919,       1002
33RO20130803,       A16N,     101,          1,         16,         16,2,20130919,       0809,    13.6658,   -29.0007,       5545,   396.5,  10.5984,  35.2044,2,  35.2030,2,     57.6,2,      58,2,   13.20,2,   32.20,2,    0.01,2,    1.92,2,   1.004,2,   0.536,2,   0.299,2,  2240.9,2,  2314.5,2,  -999.0,9, -999.00,   7.5216,2,    25.00, -999.00,9,  -999.0,9,  -999.0,   43.79,2,   34.77,2,     38.580,2,   0.1580,2,   0.0995,2,   0.0456,2,   0.0361,2,   0.0216,2,   0.0089,2,   0.0036,2,   0.0151,2,   0.0164,2,     -999.0,5,  -999.0,9,     -999.0,     -999.0,9,     -999.0,20130919,       0958
33RO20130803,       A16N,     101,          1,         15,         15,2,20130919,       0809,    13.6658,   -29.0007,       5545,   493.0,   9.6253,  35.1158,2,  35.1158,2,     61.5,2,      60,2,   15.60,2,   33.80,2,    0.00,2,    2.06,2,   0.637,2,   0.339,2,   0.230,2,  2242.7,6,  2311.6,2,  -999.0,9, -999.00,   7.5058,2,    25.00, -999.00,9,  -999.0,9,  -999.0,    43.1,2,    36.2,2,     36.100,2,   0.1538,2,   0.0972,2,   0.0470,2,   0.0362,2,   0.0221,2,   0.0091,2,   0.0038,2,   0.0145,2,   0.0157,2,     -999.0,5,  -999.0,9,     -999.0,     -999.0,9,     -999.0,20130919,       0954
33RO20130803,       A16N,     101,          1,         14,         14,2,20130919,       0809,    13.6658,   -29.0007,       5545,   647.8,   8.0843,  34.9594,2,  34.9556,2,     70.6,2,    72.2,2,   19.50,2,   35.50,2,    0.00,2,    2.23,2,   0.244,2,   0.137,2,   0.078,2,  2245.3,2,  2308.5,6,  -999.0,9, -999.00,   7.4951,2,    25.00, -999.00,9,  -999.0,9,  -999.0,   42.49,2,   38.07,2,     32.469,2,   0.1562,2,   0.0946,2,   0.0408,2,   0.0322,2,   0.0199,2,   0.0081,2,   0.0032,2,   0.0160,2,   0.0176,2,     -999.0,5,  -999.0,9,     -999.0,     -999.0,9,     -999.0,20130919,       0950
33RO20130803,       A16N,     101,          1,         13,         13,2,20130919,       0809,    13.6658,   -29.0007,       5545,   797.3,   6.7552,  34.8615,2,  34.8601,2,     98.6,2,    99.7,2,   22.80,2,   34.50,2,    0.01,2,    2.21,2,   0.083,2,   0.048,2,   0.000,2,  2237.0,2,  2309.2,2,  -999.0,9, -999.00,   7.5213,2,    25.00, -999.00,9,  -999.0,9,  -999.0,   41.97,2,   37.18,2,     27.972,2,   0.1478,2,   0.0932,2,   0.0411,2,   0.0316,2,   0.0194,2,   0.0082,2,   0.0034,2,   0.0154,2,   0.0165,2,     -999.0,5,  -999.0,9,     -999.0,     -999.0,9,     -999.0,20130919,       0945
33RO20130803,       A16N,     101,          1,         12,         12,2,20130919,       0809,    13.6658,   -29.0007,       5545,   944.9,   5.9908,  34.8609,2,  34.8609,2,    121.6,2,     121,2,   24.10,2,   32.70,2,    0.00,2,    2.13,2,   0.033,2,   0.020,2,   0.000,2,  2230.7,2,  2307.9,2,  -999.0,9, -999.00,   7.5535,2,    25.00, -999.00,9,  -999.0,9,  -999.0,   41.56,2,   35.44,2,     25.032,2,-999.0000,9,-999.0000,9,-999.0000,9,-999.0000,9,-999.0000,9,-999.0000,9,-999.0000,9,-999.0000,9,-999.0000,9,     -999.0,5,  -999.0,9,     -999.0,     -999.0,9,     -999.0,20130919,       0941
33RO20130803,       A16N,     101,          1,         11,         11,2,20130919,       0809,    13.6658,   -29.0007,       5545,  1097.6,   5.6102,  34.9279,2,  34.9290,2,    146.6,2,   145.3,2,   23.20,2,   29.70,2,    0.01,2,    1.95,2,   0.029,2,   0.015,2,   0.000,2,  2219.5,2,  2315.0,2,  -999.0,9, -999.00,   7.5946,2,    25.00, -999.00,9,  -999.0,9,  -999.0,   41.25,2,   32.09,2,     21.926,2,   0.1323,2,   0.0805,2,   0.0356,2,   0.0256,2,   0.0160,2,   0.0068,2,   0.0030,2,   0.0154,2,   0.0165,2,     -999.0,5,  -999.0,9,     -999.0,     -999.0,9,     -999.0,20130919,       0938
33RO20130803,       A16N,     101,          1,         10,         10,2,20130919,       0809,    13.6658,   -29.0007,       5545,  1398.2,   4.7410,  34.9835,2,  34.9839,2,    198.0,2,   196.3,2,   20.50,2,   24.40,2,    0.00,2,    1.61,2,   0.057,2,   0.032,2,   0.000,2,  2195.1,2,  2319.2,2,  -999.0,9, -999.00,   7.6691,2,    25.00, -999.00,9,  -999.0,9,  -999.0,   41.35,2,      27,2,     17.075,2,-999.0000,9,-999.0000,9,-999.0000,9,-999.0000,9,-999.0000,9,-999.0000,9,-999.0000,9,-999.0000,9,-999.0000,9,     -999.0,5,  -999.0,9,     -999.0,     -999.0,9,     -999.0,20130919,       0931
33RO20130803,       A16N,     101,          1,          9,          9,2,20130919,       0809,    13.6658,   -29.0007,       5545,  1698.6,   4.0347,  34.9860,2,  34.9865,2,    229.2,2,   227.5,2,   20.00,2,   21.50,2,    0.00,2,    1.42,2,   0.066,2,   0.037,2,   0.000,2,  2178.6,2,  2317.4,2,  -999.0,9, -999.00,   7.7095,2,    25.00, -999.00,9,  -999.0,9,  -999.0,   41.27,2,   24.08,2,     14.773,2,   0.1257,2,   0.0760,2,   0.0305,2,   0.0221,2,   0.0137,2,   0.0063,2,   0.0029,2,   0.0161,2,   0.0172,2,     -999.0,5,  -999.0,9,     -999.0,     -999.0,9,     -999.0,20130919,       0925
33RO20130803,       A16N,     101,          1,          8,          8,2,20130919,       0809,    13.6658,   -29.0007,       5545,  2097.7,   3.4676,  34.9677,2,  34.9686,2,    240.3,2,   238.2,2,   23.70,2,   21.10,2,    0.00,2,    1.39,2,   0.013,2,   0.010,2,   0.000,2,  2177.3,2,  2322.5,2,  -999.0,9, -999.00,   7.7205,6,    25.00, -999.00,9,  -999.0,9,  -999.0,   41.13,2,   23.65,2,     13.952,2,   0.1250,2,   0.0755,2,   0.0301,2,   0.0218,2,   0.0134,2,   0.0060,2,   0.0027,2,   0.0162,2,   0.0172,2,     -999.0,5,  -999.0,9,     -999.0,     -999.0,9,     -999.0,20130919,       0917
33RO20130803,       A16N,     101,          1,          7,          7,2,20130919,       0809,    13.6658,   -29.0007,       5545,  2497.2,   3.0814,  34.9498,2,  34.9493,2,    238.8,2,   237.3,2,   29.90,2,   21.40,2,    0.00,2,    1.43,2,  -0.001,2,   0.001,2,   0.000,2,  2185.0,2,  2328.9,2,  -999.0,9, -999.00,   7.7193,2,    25.00, -999.00,9,  -999.0,9,  -999.0,   41.14,2,   23.51,2,     13.716,2,-999.0000,9,-999.0000,9,-999.0000,9,-999.0000,9,-999.0000,9,-999.0000,9,-999.0000,9,-999.0000,9,-999.0000,9,     -999.0,5,  -999.0,9,     -999.0,     -999.0,9,     -999.0,20130919,       0909
33RO20130803,       A16N,     101,          1,          6,          6,2,20130919,       0809,    13.6658,   -29.0007,       5545,  2997.7,   2.7526,  34.9297,2,  34.9311,2,    244.6,2,   243.3,2,   34.20,2,   21.20,2,    0.00,2,    1.41,2,   0.004,2,   0.005,2,   0.000,2,  2186.6,2,  2336.3,2,  -999.0,9, -999.00,   7.7261,2,    25.00, -999.00,9,  -999.0,9,  -999.0,   41.21,2,   23.96,2,     13.468,2,   0.1313,2,   0.0811,2,   0.0336,2,   0.0246,2,   0.0154,2,   0.0071,2,   0.0032,2,   0.0159,2,   0.0169,2,     -999.0,5,  -999.0,9,     -999.0,     -999.0,9,     -999.0,20130919,       0859
33RO20130803,       A16N,     101,          1,          5,          5,2,20130919,       0809,    13.6658,   -29.0007,       5545,  3497.2,   2.5221,  34.9111,2,  34.9109,2,    244.9,2,   244.2,2,   39.30,2,   21.70,2,    0.00,2,    1.45,2,  -0.001,2,   0.002,2,   0.018,2,  2191.6,2,  2341.1,2,  -999.0,9, -999.00,   7.7268,2,    25.00, -999.00,9,  -999.0,9,  -999.0,   41.28,2,   24.23,2,     13.463,2,-999.0000,5,-999.0000,5,-999.0000,5,-999.0000,5,-999.0000,5,-999.0000,5,-999.0000,5,-999.0000,5,-999.0000,5,     -999.0,5,  -999.0,9,     -999.0,     -999.0,9,     -999.0,20130919,       0849
33RO20130803,       A16N,     101,          1,          4,          4,2,20130919,       0809,    13.6658,   -29.0007,       5545,  3996.8,   2.3784,  34.8942,2,  34.8945,2,    238.0,2,   236.8,2,   46.10,6,   22.70,6,    0.00,6,    1.50,6,   0.004,2,   0.004,2,   0.000,2,  2205.9,2,  2354.8,2,  -999.0,9, -999.00,   7.7213,2,    25.00, -999.00,9,  -999.0,9,  -999.0,   41.08,2,   25.12,2,     13.593,2,   0.1383,2,   0.0865,2,   0.0362,2,   0.0256,2,   0.0157,2,   0.0070,2,   0.0031,2,   0.0160,2,   0.0169,2,     -999.0,5,  -999.0,9,     -999.0,     -999.0,9,     -999.0,20130919,       0840
33RO20130803,       A16N,     101,          1,          3,          3,2,20130919,       0809,    13.6658,   -29.0007,       5545,  4497.1,   2.3096,  34.8804,2,  34.8815,2,    235.3,2,   235.2,2,   49.90,6,   23.10,6,    0.00,6,    1.53,6,   0.007,2,   0.006,2,   0.000,2,  2212.2,2,  2357.2,6,  -999.0,9, -999.00,   7.7153,2,    25.00, -999.00,9,  -999.0,9,  -999.0,   41.06,2,   25.68,2,     13.904,2,   0.1485,2,   0.0949,2,   0.0403,2,   0.0288,2,   0.0177,2,   0.0079,2,   0.0034,2,   0.0160,2,   0.0168,2,     -999.0,5,  -999.0,9,     -999.0,     -999.0,9,     -999.0,20130919,       0830
33RO20130803,       A16N,     101,          1,          2,          2,2,20130919,       0809,    13.6658,   -29.0007,       5545,  4997.5,   2.3001,  34.8746,2,  34.8758,2,    243.5,2,   242.3,2,   49.00,6,   22.70,6,    0.00,6,    1.51,6,   0.018,6,   0.012,6,   0.000,6,  2204.3,2,  2352.7,2,  -999.0,9, -999.00,   7.7176,6,    25.00, -999.00,9,  -999.0,9,  -999.0,   40.86,2,   25.05,2,     13.916,6,   0.1319,2,   0.0812,2,   0.0337,2,   0.0236,2,   0.0144,2,   0.0064,2,   0.0029,2,   0.0161,2,   0.0169,2,     -999.0,5,  -999.0,9,     -999.0,     -999.0,9,     -999.0,20130919,       0821
33RO20130803,       A16N,     101,          1,          1,          1,2,20130919,       0809,    13.6658,   -29.0007,       5545,  5613.0,   2.3161,  34.8673,2,  34.8790,4,    247.2,2,   237.6,4,   49.80,6,   23.00,6,    0.00,6,    1.52,6,   0.009,2,   0.007,2,   0.000,2,  2211.0,6,  2360.0,2,  -999.0,9, -999.00,   7.7346,2,    25.00, -999.00,9,  -999.0,9,  -999.0, -999.00,9, -999.00,9,     13.844,2,   0.1559,2,   0.1029,2,   0.0455,2,   0.0314,2,   0.0193,2,   0.0082,2,   0.0033,2,   0.0157,2,   0.0162,2,     -999.0,5,  -999.0,9,     -999.0,     -999.0,9,     -999.0,20130919,       0809