BOTTLE,20220815CCHSIOAMB
EXPOCODE,SECT_ID,STNNBR,CASTNO,SAMPNO,BTLNBR,BTLNBR_FLAG_W,DATE,TIME,LATITUDE,LONGITUDE,DEPTH,CTDPRS,CTDTMP,CTDSAL,CTDSAL_FLAG_W,SALNTY,SALNTY_FLAG_W,CTDOXY,CTDOXY_FLAG_W,OXYGEN,OXYGEN_FLAG_W,SILCAT,SILCAT_FLAG_W,NITRAT,NITRAT_FLAG_W,NITRIT,NITRIT_FLAG_W,PHSPHT,PHSPHT_FLAG_W,CFC-11,CFC-11_FLAG_W,CFC-12,CFC-12_FLAG_W,SF6,SF6_FLAG_W,TCARBN,TCARBN_FLAG_W,ALKALI,ALKALI_FLAG_W,PCO2,PCO2_FLAG_W,PCO2TMP,PH_SWS,PH_SWS_FLAG_W,PH_TMP,DELC13,DELC13_FLAG_W,DELC14,DELC14_FLAG_W,C14ERR,DOC,DOC_FLAG_W,TDN,TDN_FLAG_W,N2O,N2O_FLAG_W,CDOM325,CDOM325_FLAG_W,CDOM340,CDOM340_FLAG_W,CDOM380,CDOM380_FLAG_W,CDOM412,CDOM412_FLAG_W,CDOM443,CDOM443_FLAG_W,CDOM490,CDOM490_FLAG_W,CDOM555,CDOM555_FLAG_W,CDOMSL,CDOMSL_FLAG_W,CDOMSN,CDOMSN_FLAG_W,CCL4,CCL4_FLAG_W,14C-DOC,14C-DOC_FLAG_W,14C-DOCERR,13C-DOC,13C-DOC_FLAG_W,13C-DOCERR,BTL_DATE,BTL_TIME
,,,,,,,,,,,METERS,DBAR,ITS-90,PSS-78,,PSS-78,,UMOL/KG,,UMOL/KG,,UMOL/KG,,UMOL/KG,,UMOL/KG,,UMOL/KG,,PMOL/KG,,PMOL/KG,,FMOL/KG,,UMOL/KG,,UMOL/KG,,UATM,,DEG C,,,DEG C,/MILLE,,/MILLE,,/MILLE,UMOL/KG,,UMOL/KG,,NMOL/KG,,1/M,,1/M,,1/M,,1/M,,1/M,,1/M,,1/M,,1/NM,,1/NM,,PMOL/KG,,/MILLE,,/MILLE,/MILLE,,/MILLE,,
33RO20130803,       A16N,     131,          1,         24,         24,2,20130927,       2133,    -0.3323,   -25.0022,       3055,     3.1,  25.8840,  35.9793,2,  35.9804,2,    203.5,2,   203.3,2,    1.10,2,    0.00,2,    0.00,2,    0.06,2,   1.636,2,   1.042,2,   1.209,2,  2043.7,6,  2357.9,2,   319.3,2,      20,   8.0496,2,    25.00, -999.00,9,  -999.0,9,  -999.0, -999.00,9, -999.00,9,      6.848,2,-999.0000,9,-999.0000,9,-999.0000,9,-999.0000,9,-999.0000,9,-999.0000,9,-999.0000,9,-999.0000,9,-999.0000,9,     -999.0,5,  -999.0,9,     -999.0,     -999.0,9,     -999.0,20130927,       2259
33RO20130803,       A16N,     131,          1,         23,         23,2,20130927,       2133,    -0.3323,   -25.0022,       3055,    21.9,  25.8911,  35.9799,2,  35.9823,2,    204.0,2,   202.8,2,    1.10,2,    0.00,2,    0.01,2,    0.07,2,-999.000,9,-999.000,9,-999.000,9,  2044.1,2,  2362.3,2,   323.4,2,      20,   8.0501,2,    25.00, -999.00,9,  -999.0,9,  -999.0, -999.00,9, -999.00,9,     -999.0,9,-999.0000,9,-999.0000,9,-999.0000,9,-999.0000,9,-999.0000,9,-999.0000,9,-999.0000,9,-999.0000,9,-999.0000,9,     -999.0,9,  -999.0,9,     -999.0,     -999.0,9,     -999.0,20130927,       2258
33RO20130803,       A16N,     131,          1,         22,         22,2,20130927,       2133,    -0.3323,   -25.0022,       3055,    48.1,  25.5776,  36.1306,2,  36.1387,2,    202.7,2,   200.9,2,    1.10,2,    0.10,2,    0.02,2,    0.10,2,-999.000,9,-999.000,9,-999.000,9,  -999.0,9,  -999.0,9,  -999.0,9, -999.00,-999.0000,9,  -999.00, -999.00,9,  -999.0,9,  -999.0, -999.00,9, -999.00,9,     -999.0,9,-999.0000,9,-999.0000,9,-999.0000,9,-999.0000,9,-999.0000,9,-999.0000,9,-999.0000,9,-999.0000,9,-999.0000,9,     -999.0,9,  -999.0,9,     -999.0,     -999.0,9,     -999.0,20130927,       2256
33RO20130803,       A16N,     131,          1,         21,         21,2,20130927,       2133,    -0.3323,   -25.0022,       3055,    73.0,  23.3575,  36.5080,2,  36.4783,2,    183.7,2,   182.4,2,    1.80,2,    2.90,2,    0.18,2,    0.31,2,-999.000,9,-999.000,9,-999.000,9,  2108.2,2,  2394.8,6,   385.6,2,      20,   7.9883,2,    25.00, -999.00,9,  -999.0,9,  -999.0, -999.00,9, -999.00,9,     -999.0,9,-999.0000,9,-999.0000,9,-999.0000,9,-999.0000,9,-999.0000,9,-999.0000,9,-999.0000,9,-999.0000,9,-999.0000,9,     -999.0,9,  -999.0,9,     -999.0,     -999.0,9,     -999.0,20130927,       2254
33RO20130803,       A16N,     131,          1,         20,         20,2,20130927,       2133,    -0.3323,   -25.0022,       3055,    97.2,  17.9912,  35.9677,2,  35.9680,2,    176.3,2,   176.2,2,    3.60,2,    8.40,2,    0.04,2,    0.67,2,   2.239,2,   1.328,2,   1.150,2,  2135.5,2,  2366.0,2,   502.0,2,      20,   7.8893,2,    25.00, -999.00,9,  -999.0,9,  -999.0, -999.00,9, -999.00,9,     12.239,2,-999.0000,9,-999.0000,9,-999.0000,9,-999.0000,9,-999.0000,9,-999.0000,9,-999.0000,9,-999.0000,9,-999.0000,9,     -999.0,5,  -999.0,9,     -999.0,     -999.0,9,     -999.0,20130927,       2252
33RO20130803,       A16N,     131,          1,         19,         19,2,20130927,       2133,    -0.3323,   -25.0022,       3055,   127.4,  15.7050,  35.6701,2,  35.6758,2,    170.1,2,   170.3,2,    4.80,2,   11.60,2,    0.02,2,    0.87,2,-999.000,9,-999.000,9,-999.000,9,  -999.0,9,  -999.0,9,  -999.0,9, -999.00,-999.0000,9,  -999.00, -999.00,9,  -999.0,9,  -999.0, -999.00,9, -999.00,9,     -999.0,9,-999.0000,9,-999.0000,9,-999.0000,9,-999.0000,9,-999.0000,9,-999.0000,9,-999.0000,9,-999.0000,9,-999.0000,9,     -999.0,9,  -999.0,9,     -999.0,     -999.0,9,     -999.0,20130927,       2250
33RO20130803,       A16N,     131,          1,         18,         18,2,20130927,       2133,    -0.3323,   -25.0022,       3055,   158.2,  14.0641,  35.4391,2,  35.4406,2,    155.3,2,     153,2,    6.50,2,   15.90,2,    0.01,2,    1.12,2,   2.346,2,   1.326,2,   0.928,2,  2162.7,2,  2333.7,2,   666.6,2,      20,   7.7743,2,    25.00, -999.00,9,  -999.0,9,  -999.0, -999.00,9, -999.00,9,     18.972,2,-999.0000,9,-999.0000,9,-999.0000,9,-999.0000,9,-999.0000,9,-999.0000,9,-999.0000,9,-999.0000,9,-999.0000,9,     -999.0,5,  -999.0,9,     -999.0,     -999.0,9,     -999.0,20130927,       2248
33RO20130803,       A16N,     131,          1,         17,         17,2,20130927,       2133,    -0.3323,   -25.0022,       3055,   188.5,  13.2829,  35.3212,2,  35.3232,2,    144.4,2,   145.7,2,    7.30,2,   17.90,2,    0.01,2,    1.24,2,-999.000,9,-999.000,9,-999.000,9,  2170.3,2,  2325.2,2,   733.4,2,      20,   7.7358,3,    25.00, -999.00,9,  -999.0,9,  -999.0, -999.00,9, -999.00,9,     -999.0,9,-999.0000,9,-999.0000,9,-999.0000,9,-999.0000,9,-999.0000,9,-999.0000,9,-999.0000,9,-999.0000,9,-999.0000,9,     -999.0,9,  -999.0,9,     -999.0,     -999.0,9,     -999.0,20130927,       2246
33RO20130803,       A16N,     131,          1,         16,         16,2,20130927,       2133,    -0.3323,   -25.0022,       3055,   218.2,  12.5272,  35.2135,2,  35.2143,2,    132.8,2,   129.5,2,    8.60,2,   21.00,2,    0.01,2,    1.41,2,-999.000,9,-999.000,9,-999.000,9,  -999.0,9,  -999.0,9,  -999.0,9, -999.00,-999.0000,9,  -999.00, -999.00,9,  -999.0,9,  -999.0, -999.00,9, -999.00,9,     -999.0,9,-999.0000,9,-999.0000,9,-999.0000,9,-999.0000,9,-999.0000,9,-999.0000,9,-999.0000,9,-999.0000,9,-999.0000,9,     -999.0,9,  -999.0,9,     -999.0,     -999.0,9,     -999.0,20130927,       2244
33RO20130803,       A16N,     131,          1,         15,         15,2,20130927,       2133,    -0.3323,   -25.0022,       3055,   272.1,  11.3929,  35.0803,2,  35.0787,2,     93.8,2,    95.1,2,   11.30,2,   27.10,2,    0.01,2,    1.76,2,   1.816,2,   0.989,2,   0.516,2,  2211.2,2,  2309.9,2,  1028.5,2,      20,   7.5963,2,    25.00, -999.00,9,  -999.0,9,  -999.0, -999.00,9, -999.00,9,     33.153,2,-999.0000,9,-999.0000,9,-999.0000,9,-999.0000,9,-999.0000,9,-999.0000,9,-999.0000,9,-999.0000,9,-999.0000,9,     -999.0,5,  -999.0,9,     -999.0,     -999.0,9,     -999.0,20130927,       2242
33RO20130803,       A16N,     131,          1,         14,         14,2,20130927,       2133,    -0.3323,   -25.0022,       3055,   347.5,   9.1972,  34.8330,2,  34.8320,2,    103.4,2,   102.9,2,   15.00,2,   30.40,2,    0.01,2,    1.98,2,   1.504,2,   0.791,2,   0.332,2,  -999.0,9,  -999.0,9,  -999.0,9, -999.00,-999.0000,9,  -999.00, -999.00,9,  -999.0,9,  -999.0, -999.00,9, -999.00,9,     32.094,2,-999.0000,9,-999.0000,9,-999.0000,9,-999.0000,9,-999.0000,9,-999.0000,9,-999.0000,9,-999.0000,9,-999.0000,9,     -999.0,5,  -999.0,9,     -999.0,     -999.0,9,     -999.0,20130927,       2239
33RO20130803,       A16N,     131,          1,         13,         13,2,20130927,       2133,    -0.3323,   -25.0022,       3055,   447.8,   8.0763,  34.7074,2,  34.7074,2,    118.4,2,   118.8,2,   17.40,2,   31.30,2,    0.00,2,    2.06,2,   1.387,2,   0.710,2,   0.273,2,  2213.6,2,  2300.0,2,  1103.9,2,      20,   7.5108,4,    25.00, -999.00,9,  -999.0,9,  -999.0, -999.00,9, -999.00,9,     29.312,2,-999.0000,9,-999.0000,9,-999.0000,9,-999.0000,9,-999.0000,9,-999.0000,9,-999.0000,9,-999.0000,9,-999.0000,9,     -999.0,5,  -999.0,9,     -999.0,     -999.0,9,     -999.0,20130927,       2236
33RO20130803,       A16N,     131,          1,         12,         12,2,20130927,       2133,    -0.3323,   -25.0022,       3055,   548.2,   7.2925,  34.6269,2,  34.6282,2,    132.8,2,   133.7,2,   19.10,2,   31.40,2,    0.00,2,    2.09,2,   1.378,2,   0.697,2,   0.310,2,  2210.5,2,  2293.6,2,  -999.0,9, -999.00,   7.5943,4,    25.00, -999.00,9,  -999.0,9,  -999.0, -999.00,9, -999.00,9,     26.672,2,-999.0000,9,-999.0000,9,-999.0000,9,-999.0000,9,-999.0000,9,-999.0000,9,-999.0000,9,-999.0000,9,-999.0000,9,     -999.0,5,  -999.0,9,     -999.0,     -999.0,9,     -999.0,20130927,       2232
33RO20130803,       A16N,     131,          1,         11,         11,2,20130927,       2133,    -0.3323,   -25.0022,       3055,   647.6,   5.7063,  34.5131,2,  34.5149,2,    144.3,2,   144.2,2,   25.50,2,   33.50,2,    0.00,2,    2.28,2,-999.000,9,-999.000,9,-999.000,9,  -999.0,9,  -999.0,9,  -999.0,9, -999.00,-999.0000,9,  -999.00, -999.00,9,  -999.0,9,  -999.0, -999.00,9, -999.00,9,     -999.0,9,-999.0000,9,-999.0000,9,-999.0000,9,-999.0000,9,-999.0000,9,-999.0000,9,-999.0000,9,-999.0000,9,-999.0000,9,     -999.0,9,  -999.0,9,     -999.0,     -999.0,9,     -999.0,20130927,       2228
33RO20130803,       A16N,     131,          1,         10,         10,2,20130927,       2133,    -0.3323,   -25.0022,       3055,   747.5,   4.9926,  34.4757,2,  34.4786,2,    159.3,2,   159.7,2,   29.00,2,   33.20,2,    0.00,2,    2.27,2,   0.765,2,   0.382,2,   0.159,2,  2215.2,6,  2299.8,2,  -999.0,9, -999.00,   7.5602,2,    25.00, -999.00,9,  -999.0,9,  -999.0, -999.00,9, -999.00,9,     23.034,2,-999.0000,9,-999.0000,9,-999.0000,9,-999.0000,9,-999.0000,9,-999.0000,9,-999.0000,9,-999.0000,9,-999.0000,9,     -999.0,5,  -999.0,9,     -999.0,     -999.0,9,     -999.0,20130927,       2225
33RO20130803,       A16N,     131,          1,          9,          9,2,20130927,       2133,    -0.3323,   -25.0022,       3055,   897.2,   4.7327,  34.5295,2,  34.5312,2,    150.8,2,   150.9,2,   31.20,2,   34.00,2,    0.00,2,    2.33,2,   0.247,2,   0.129,2,   0.000,2,  2221.3,2,  2303.1,2,  1136.7,2,      20,   7.5496,2,    25.00, -999.00,9,  -999.0,9,  -999.0, -999.00,9, -999.00,9,     23.686,2,-999.0000,9,-999.0000,9,-999.0000,9,-999.0000,9,-999.0000,9,-999.0000,9,-999.0000,9,-999.0000,9,-999.0000,9,     -999.0,5,  -999.0,9,     -999.0,     -999.0,9,     -999.0,20130927,       2221
33RO20130803,       A16N,     131,          1,          8,          8,2,20130927,       2133,    -0.3323,   -25.0022,       3055,  1048.1,   4.5238,  34.6880,2,  34.6889,2,    164.4,2,   164.8,2,   29.60,2,   31.10,2,    0.00,2,    2.13,2,-999.000,9,-999.000,9,-999.000,9,  -999.0,9,  -999.0,9,  -999.0,9, -999.00,-999.0000,9,  -999.00, -999.00,9,  -999.0,9,  -999.0, -999.00,9, -999.00,9,     -999.0,9,-999.0000,9,-999.0000,9,-999.0000,9,-999.0000,9,-999.0000,9,-999.0000,9,-999.0000,9,-999.0000,9,-999.0000,9,     -999.0,9,  -999.0,9,     -999.0,     -999.0,9,     -999.0,20130927,       2217
33RO20130803,       A16N,     131,          1,          7,          7,2,20130927,       2133,    -0.3323,   -25.0022,       3055,  1298.3,   4.5815,  34.8827,2,  34.8843,2,    195.7,2,   195.7,2,   22.60,2,   25.60,2,    0.00,2,    1.73,2,   0.219,2,   0.112,2,   0.000,2,  2195.4,2,  2313.8,2,   886.8,2,      20,   7.6514,2,    25.00, -999.00,9,  -999.0,9,  -999.0, -999.00,9, -999.00,9,     18.160,2,-999.0000,9,-999.0000,9,-999.0000,9,-999.0000,9,-999.0000,9,-999.0000,9,-999.0000,9,-999.0000,9,-999.0000,9,     -999.0,5,  -999.0,9,     -999.0,     -999.0,9,     -999.0,20130927,       2211
33RO20130803,       A16N,     131,          1,          6,          6,2,20130927,       2133,    -0.3323,   -25.0022,       3055,  1597.2,   4.1605,  34.9712,2,  34.9728,2,    234.2,2,   233.4,2,   18.00,2,   20.80,2,    0.00,2,    1.40,2,   0.423,2,   0.213,2,   0.099,2,  -999.0,9,  -999.0,9,  -999.0,9, -999.00,-999.0000,9,  -999.00, -999.00,9,  -999.0,9,  -999.0, -999.00,9, -999.00,9,     14.768,2,-999.0000,9,-999.0000,9,-999.0000,9,-999.0000,9,-999.0000,9,-999.0000,9,-999.0000,9,-999.0000,9,-999.0000,9,     -999.0,5,  -999.0,9,     -999.0,     -999.0,9,     -999.0,20130927,       2205
33RO20130803,       A16N,     131,          1,          5,          5,2,20130927,       2133,    -0.3323,   -25.0022,       3055,  1947.6,   3.7004,  34.9695,2,  34.9707,2,    248.9,2,   248.4,2,   19.10,2,   19.60,2,    0.00,2,    1.31,2,   0.438,6,   0.220,6,   0.099,6,  2170.8,2,  2317.1,2,  -999.0,9, -999.00,   7.7238,2,    25.00, -999.00,9,  -999.0,9,  -999.0, -999.00,9, -999.00,9,     13.642,6,-999.0000,9,-999.0000,9,-999.0000,9,-999.0000,9,-999.0000,9,-999.0000,9,-999.0000,9,-999.0000,9,-999.0000,9,     -999.0,5,  -999.0,9,     -999.0,     -999.0,9,     -999.0,20130927,       2158
33RO20130803,       A16N,     131,          1,          4,          4,2,20130927,       2133,    -0.3323,   -25.0022,       3055,  2098.3,   3.5296,  34.9634,2,  34.9648,2,    250.5,2,   249.6,2,   20.70,6,   19.60,6,    0.01,6,    1.31,6,   0.356,2,   0.179,2,   0.079,2,  2169.6,2,  2318.2,2,   740.6,2,      20,   7.7264,2,    25.00, -999.00,9,  -999.0,9,  -999.0, -999.00,9, -999.00,9,     13.527,2,-999.0000,9,-999.0000,9,-999.0000,9,-999.0000,9,-999.0000,9,-999.0000,9,-999.0000,9,-999.0000,9,-999.0000,9,     -999.0,5,  -999.0,9,     -999.0,     -999.0,9,     -999.0,20130927,       2154
33RO20130803,       A16N,     131,          1,          3,          3,2,20130927,       2133,    -0.3323,   -25.0022,       3055,  2398.0,   3.1147,  34.9411,2,  34.9426,2,    248.1,2,   247.8,2,   27.80,6,   20.30,6,    0.01,6,    1.37,6,   0.154,2,   0.079,2,   0.030,2,  2176.5,2,  2324.0,6,  -999.0,9, -999.00,   7.7245,2,    25.00, -999.00,9,  -999.0,9,  -999.0, -999.00,9, -999.00,9,     13.543,2,-999.0000,9,-999.0000,9,-999.0000,9,-999.0000,9,-999.0000,9,-999.0000,9,-999.0000,9,-999.0000,9,-999.0000,9,     -999.0,5,  -999.0,9,     -999.0,     -999.0,9,     -999.0,20130927,       2148
33RO20130803,       A16N,     131,          1,          2,          2,2,20130927,       2133,    -0.3323,   -25.0022,       3055,  2698.0,   2.7743,  34.9204,2,  34.9225,2,    246.7,2,   246.7,2,   33.70,6,   20.80,6,    0.01,6,    1.41,6,-999.000,9,-999.000,9,-999.000,9,  -999.0,9,  -999.0,9,  -999.0,9, -999.00,-999.0000,9,  -999.00, -999.00,9,  -999.0,9,  -999.0, -999.00,9, -999.00,9,     -999.0,9,-999.0000,9,-999.0000,9,-999.0000,9,-999.0000,9,-999.0000,9,-999.0000,9,-999.0000,9,-999.0000,9,-999.0000,9,     -999.0,9,  -999.0,9,     -999.0,     -999.0,9,     -999.0,20130927,       2141
33RO20130803,       A16N,     131,          1,          1,          1,2,20130927,       2133,    -0.3323,   -25.0022,       3055,  3046.5,   2.6965,  34.9147,2,  34.9240,4,    249.6,2,     248,2,   34.80,6,   20.80,6,    0.01,6,    1.41,6,   0.115,2,   0.061,2,   0.000,2,  2183.8,2,  2334.4,2,   727.5,2,      20,   7.7229,2,    25.00, -999.00,9,  -999.0,9,  -999.0, -999.00,9, -999.00,9,     13.608,2,-999.0000,9,-999.0000,9,-999.0000,9,-999.0000,9,-999.0000,9,-999.0000,9,-999.0000,9,-999.0000,9,-999.0000,9,     -999.0,5,  -999.0,9,     -999.0,     -999.0,9,     -999.0,20130927,       2133