BOTTLE,20220815CCHSIOAMB
EXPOCODE,SECT_ID,STNNBR,CASTNO,SAMPNO,BTLNBR,BTLNBR_FLAG_W,DATE,TIME,LATITUDE,LONGITUDE,DEPTH,CTDPRS,CTDTMP,CTDSAL,CTDSAL_FLAG_W,SALNTY,SALNTY_FLAG_W,CTDOXY,CTDOXY_FLAG_W,OXYGEN,OXYGEN_FLAG_W,SILCAT,SILCAT_FLAG_W,NITRAT,NITRAT_FLAG_W,NITRIT,NITRIT_FLAG_W,PHSPHT,PHSPHT_FLAG_W,CFC-11,CFC-11_FLAG_W,CFC-12,CFC-12_FLAG_W,SF6,SF6_FLAG_W,TCARBN,TCARBN_FLAG_W,ALKALI,ALKALI_FLAG_W,PCO2,PCO2_FLAG_W,PCO2TMP,PH_SWS,PH_SWS_FLAG_W,PH_TMP,DELC13,DELC13_FLAG_W,DELC14,DELC14_FLAG_W,C14ERR,DOC,DOC_FLAG_W,TDN,TDN_FLAG_W,N2O,N2O_FLAG_W,CDOM325,CDOM325_FLAG_W,CDOM340,CDOM340_FLAG_W,CDOM380,CDOM380_FLAG_W,CDOM412,CDOM412_FLAG_W,CDOM443,CDOM443_FLAG_W,CDOM490,CDOM490_FLAG_W,CDOM555,CDOM555_FLAG_W,CDOMSL,CDOMSL_FLAG_W,CDOMSN,CDOMSN_FLAG_W,CCL4,CCL4_FLAG_W,14C-DOC,14C-DOC_FLAG_W,14C-DOCERR,13C-DOC,13C-DOC_FLAG_W,13C-DOCERR,BTL_DATE,BTL_TIME
,,,,,,,,,,,METERS,DBAR,ITS-90,PSS-78,,PSS-78,,UMOL/KG,,UMOL/KG,,UMOL/KG,,UMOL/KG,,UMOL/KG,,UMOL/KG,,PMOL/KG,,PMOL/KG,,FMOL/KG,,UMOL/KG,,UMOL/KG,,UATM,,DEG C,,,DEG C,/MILLE,,/MILLE,,/MILLE,UMOL/KG,,UMOL/KG,,NMOL/KG,,1/M,,1/M,,1/M,,1/M,,1/M,,1/M,,1/M,,1/NM,,1/NM,,PMOL/KG,,/MILLE,,/MILLE,/MILLE,,/MILLE,,
33RO20130803,       A16N,      34,          1,         24,         24,2,20130811,       0953,    48.4993,   -19.9996,       4046,     2.6,  18.3408,  35.5192,2,  35.5194,2,    238.3,2,     241,2,    0.40,2,    0.00,2,    0.01,2,    0.05,2,   2.363,2,   1.444,2,   1.647,2,  2054.0,6,  2345.2,2,   358.2,2,      20,   8.0044,2,    25.00, -999.00,9,  -999.0,9,  -999.0,   68.56,2,    3.95,2,      8.010,2,   0.4049,2,   0.3032,2,   0.1397,2,   0.0916,2,   0.0541,2,   0.0316,2,   0.0063,2,   0.0188,2,   0.0194,2,     -999.0,5,  -999.0,9,     -999.0,     -999.0,9,     -999.0,20130811,       1135
33RO20130803,       A16N,      34,          1,         23,         23,2,20130811,       0953,    48.4993,   -19.9996,       4046,    21.6,  15.9674,  35.5347,2,  35.5384,2,    256.9,2,   266.4,2,    0.40,2,    0.10,2,    0.01,2,    0.08,2,-999.000,9,-999.000,9,-999.000,9,  -999.0,9,  2342.4,6,   385.9,2,      20,   7.9817,2,    25.00, -999.00,9,  -999.0,9,  -999.0,   65.21,2,    3.87,2,     -999.0,9,   0.3866,2,   0.2903,2,   0.1402,2,   0.0945,2,   0.0538,2,   0.0298,2,   0.0066,2,   0.0177,2,   0.0185,2,     -999.0,9,  -999.0,9,     -999.0,     -999.0,9,     -999.0,20130811,       1132
33RO20130803,       A16N,      34,          1,         22,         22,2,20130811,       0953,    48.4993,   -19.9996,       4046,    47.0,  13.8977,  35.5906,2,  35.5926,2,    246.5,2,   246.4,2,    0.70,2,    2.90,2,    0.36,2,    0.33,2,   2.873,2,   1.709,2,   1.959,2,  -999.0,9,  2348.3,2,   479.8,2,      20,   7.8989,6,    25.00, -999.00,9,  -999.0,9,  -999.0,   62.02,2,    6.52,2,      9.519,2,   0.1795,2,   0.1308,2,   0.0582,2,   0.0432,2,   0.0220,2,   0.0130,2,  -0.0005,4,   0.0194,2,   0.0207,2,     -999.0,5,  -999.0,9,     -999.0,     -999.0,9,     -999.0,20130811,       1130
33RO20130803,       A16N,      34,          1,         21,         21,2,20130811,       0953,    48.4993,   -19.9996,       4046,    71.2,  13.1728,  35.6202,2,  35.6185,2,    242.4,2,   241.3,2,    1.60,2,    6.60,2,    0.14,2,    0.42,2,-999.000,9,-999.000,9,-999.000,9,  -999.0,9,  2342.3,2,   514.6,2,      20,   7.8719,2,    25.00, -999.00,9,  -999.0,9,  -999.0,   57.72,2,    9.28,2,     -999.0,9,   0.1769,2,   0.1281,2,   0.0600,2,   0.0463,2,   0.0268,2,   0.0175,2,   0.0036,2,   0.0183,2,   0.0200,2,     -999.0,9,  -999.0,9,     -999.0,     -999.0,9,     -999.0,20130811,       1128
33RO20130803,       A16N,      34,          1,         20,         20,2,20130811,       0953,    48.4993,   -19.9996,       4046,    97.6,  12.4997,  35.5919,2,  35.5911,2,    241.8,2,   243.9,2,    2.80,2,    8.10,2,    0.02,2,    0.49,2,   2.942,2,   1.742,2,   1.898,2,  -999.0,9,  -999.0,9,  -999.0,9, -999.00,-999.0000,9,  -999.00, -999.00,9,  -999.0,9,  -999.0,   56.83,2,   10.41,2,     10.176,2,   0.1675,2,   0.1194,2,   0.0556,2,   0.0432,2,   0.0252,2,   0.0172,2,   0.0036,2,   0.0186,2,   0.0205,2,     -999.0,5,  -999.0,9,     -999.0,     -999.0,9,     -999.0,20130811,       1126
33RO20130803,       A16N,      34,          1,         19,         19,2,20130811,       0953,    48.4993,   -19.9996,       4046,   123.2,  12.2598,  35.5611,2,  35.5595,2,    238.7,2,   241.4,2,    3.10,2,    8.70,2,    0.03,2,    0.51,2,-999.000,9,-999.000,9,-999.000,9,  -999.0,9,  2337.2,2,   548.5,2,      20,   7.8452,2,    25.00, -999.00,9,  -999.0,9,  -999.0,   56.31,2,    11.1,2,     -999.0,9,   0.1536,2,   0.1077,2,   0.0480,2,   0.0374,2,   0.0200,2,   0.0129,3,   0.0009,4,   0.0196,2,   0.0217,2,     -999.0,9,  -999.0,9,     -999.0,     -999.0,9,     -999.0,20130811,       1124
33RO20130803,       A16N,      34,          1,         18,         18,2,20130811,       0953,    48.4993,   -19.9996,       4046,   148.3,  12.0449,  35.5374,2,  35.5360,2,    245.2,2,   240.3,2,    3.10,2,    9.20,2,    0.01,2,    0.54,2,-999.000,9,-999.000,9,-999.000,9,  -999.0,9,  -999.0,9,  -999.0,9, -999.00,-999.0000,9,  -999.00, -999.00,9,  -999.0,9,  -999.0,   55.88,2,   11.56,2,     -999.0,9,   0.1639,2,   0.1152,2,   0.0523,2,   0.0411,2,   0.0234,2,   0.0150,2,   0.0031,2,   0.0192,2,   0.0213,2,     -999.0,9,  -999.0,9,     -999.0,     -999.0,9,     -999.0,20130811,       1122
33RO20130803,       A16N,      34,          1,         17,         17,2,20130811,       0953,    48.4993,   -19.9996,       4046,   205.1,  11.6702,  35.5051,2,  35.5042,2,    235.4,2,   235.8,2,    3.90,2,   10.40,2,    0.01,2,    0.60,2,   2.971,2,   1.731,2,   1.768,2,  -999.0,9,  2335.6,2,   581.1,2,      20,   7.8236,2,    25.00, -999.00,9,  -999.0,9,  -999.0,   52.64,2,   12.62,2,     11.541,2,   0.1589,2,   0.1113,2,   0.0499,2,   0.0389,2,   0.0216,2,   0.0139,2,   0.0025,2,   0.0195,2,   0.0217,2,     -999.0,5,  -999.0,9,     -999.0,     -999.0,9,     -999.0,20130811,       1119
33RO20130803,       A16N,      34,          1,         16,         16,2,20130811,       0953,    48.4993,   -19.9996,       4046,   273.8,  11.3415,  35.4885,2,  35.4869,2,    227.5,2,   225.9,2,    4.80,2,   11.90,2,    0.01,2,    0.70,2,-999.000,9,-999.000,9,-999.000,9,  -999.0,9,  -999.0,9,  -999.0,9, -999.00,-999.0000,9,  -999.00, -999.00,9,  -999.0,9,  -999.0,   51.69,2,   14.28,2,     -999.0,9,   0.1744,2,   0.1244,2,   0.0588,2,   0.0456,2,   0.0270,2,   0.0176,2,   0.0045,2,   0.0183,2,   0.0202,2,     -999.0,9,  -999.0,9,     -999.0,     -999.0,9,     -999.0,20130811,       1117
33RO20130803,       A16N,      34,          1,         15,         15,2,20130811,       0953,    48.4993,   -19.9996,       4046,   352.1,  11.0926,  35.4772,2,  35.4759,2,    223.1,2,   224.3,2,    5.10,2,   12.50,2,    0.01,2,    0.74,2,-999.000,9,-999.000,9,-999.000,9,  -999.0,9,  2333.8,2,  -999.0,9, -999.00,   7.7974,2,    25.00, -999.00,9,  -999.0,9,  -999.0,   50.34,2,   14.94,2,     -999.0,9,   0.1815,2,   0.1297,2,   0.0616,2,   0.0476,2,   0.0285,2,   0.0186,2,   0.0052,2,   0.0183,2,   0.0201,2,     -999.0,9,  -999.0,9,     -999.0,     -999.0,9,     -999.0,20130811,       1114
33RO20130803,       A16N,      34,          1,         14,         14,2,20130811,       0953,    48.4993,   -19.9996,       4046,   421.0,  10.7811,  35.4453,2,  35.4451,2,    224.7,2,   212.4,2,    6.20,2,   14.10,2,    0.01,2,    0.83,2,   2.790,2,   1.594,2,   1.443,2,  -999.0,9,  -999.0,9,  -999.0,9, -999.00,-999.0000,9,  -999.00, -999.00,9,  -999.0,9,  -999.0,   49.66,2,   16.59,2,     14.082,2,   0.1881,2,   0.1365,2,   0.0677,2,   0.0526,2,   0.0330,2,   0.0218,2,   0.0070,2,   0.0172,2,   0.0189,2,     -999.0,5,  -999.0,9,     -999.0,     -999.0,9,     -999.0,20130811,       1111
33RO20130803,       A16N,      34,          1,         13,         13,2,20130811,       0953,    48.4993,   -19.9996,       4046,   551.9,  10.3875,  35.4634,2,  35.4613,2,    205.8,2,   207.3,2,    6.90,2,   15.00,2,    0.01,2,    0.88,2,-999.000,9,-999.000,9,-999.000,9,  -999.0,9,  2334.0,2,   681.0,6,      20,   7.7622,2,    25.00, -999.00,9,  -999.0,9,  -999.0,   48.52,2,   17.58,2,     -999.0,9,   0.1596,2,   0.1119,2,   0.0494,2,   0.0376,2,   0.0205,2,   0.0126,2,   0.0012,3,   0.0199,2,   0.0219,2,     -999.0,9,  -999.0,9,     -999.0,     -999.0,9,     -999.0,20130811,       1107
33RO20130803,       A16N,      34,          1,         12,         12,2,20130811,       0953,    48.4993,   -19.9996,       4046,   700.2,   9.3963,  35.4482,2,  35.4485,2,    186.9,2,   188.7,2,    9.50,6,   17.80,6,    0.01,6,    1.10,2,   2.314,2,   1.257,2,   0.838,2,  -999.0,9,  -999.0,9,  -999.0,9, -999.00,-999.0000,9,  -999.00, -999.00,9,  -999.0,9,  -999.0,   47.95,2,   20.42,2,     15.797,2,   0.1534,2,   0.1079,2,   0.0489,2,   0.0371,2,   0.0207,2,   0.0131,2,   0.0013,3,   0.0194,2,   0.0214,2,     -999.0,5,  -999.0,9,     -999.0,     -999.0,9,     -999.0,20130811,       1104
33RO20130803,       A16N,      34,          1,         11,         11,2,20130811,       0953,    48.4993,   -19.9996,       4046,   802.2,   8.5302,  35.3953,2,  35.3941,2,    192.0,2,   192.5,2,   10.40,6,   18.40,6,    0.01,6,    1.15,2,-999.000,9,-999.000,9,-999.000,9,  -999.0,9,  -999.0,9,  -999.0,9, -999.00,-999.0000,9,  -999.00, -999.00,9,  -999.0,9,  -999.0,   47.23,2,    21.1,2,     -999.0,9,   0.1635,2,   0.1137,2,   0.0507,2,   0.0381,2,   0.0208,2,   0.0128,2,   0.0010,3,   0.0198,2,   0.0219,2,     -999.0,9,  -999.0,9,     -999.0,     -999.0,9,     -999.0,20130811,       1101
33RO20130803,       A16N,      34,          1,         10,         10,2,20130811,       0953,    48.4993,   -19.9996,       4046,   946.4,   7.5649,  35.3661,2,  35.3658,2,    206.7,2,   206.6,2,   10.90,6,   18.30,6,    0.01,6,    1.14,2,   2.423,2,   1.281,2,   0.816,2,  -999.0,9,  -999.0,9,  -999.0,9, -999.00,-999.0000,9,  -999.00, -999.00,9,  -999.0,9,  -999.0,   46.66,2,   20.84,2,     15.320,2,   0.1559,2,   0.1097,2,   0.0495,2,   0.0374,2,   0.0206,2,   0.0130,2,   0.0010,3,   0.0195,2,   0.0214,2,     -999.0,5,  -999.0,9,     -999.0,     -999.0,9,     -999.0,20130811,       1057
33RO20130803,       A16N,      34,          1,          9,          9,2,20130811,       0953,    48.4993,   -19.9996,       4046,  1100.5,   6.1460,  35.1784,2,  35.1785,2,    227.8,2,   228.4,2,   11.10,6,   18.20,6,    0.01,6,    1.15,2,   2.872,2,   1.521,2,   0.938,2,  -999.0,9,  -999.0,9,  -999.0,9, -999.00,-999.0000,9,  -999.00, -999.00,9,  -999.0,9,  -999.0,   46.46,2,    20.7,2,     14.770,2,   0.1546,2,   0.1067,2,   0.0459,2,   0.0341,2,   0.0174,2,   0.0103,2,  -0.0006,4,   0.0207,2,   0.0227,2,     -999.0,5,  -999.0,9,     -999.0,     -999.0,9,     -999.0,20130811,       1053
33RO20130803,       A16N,      34,          1,          8,          8,2,20130811,       0953,    48.4993,   -19.9996,       4046,  1310.3,   4.7206,  35.0107,2,  35.0098,2,    256.7,2,   254.6,2,   10.90,6,   17.70,6,    0.01,6,    1.13,2,-999.000,9,-999.000,9,-999.000,9,  -999.0,9,  -999.0,9,  -999.0,9, -999.00,-999.0000,9,  -999.00, -999.00,9,  -999.0,9,  -999.0,    46.3,2,   20.13,2,     -999.0,9,   0.1658,2,   0.1167,2,   0.0532,2,   0.0398,2,   0.0223,2,   0.0140,2,   0.0016,3,   0.0193,2,   0.0212,2,     -999.0,9,  -999.0,9,     -999.0,     -999.0,9,     -999.0,20130811,       1049
33RO20130803,       A16N,      34,          1,          7,          7,2,20130811,       0953,    48.4993,   -19.9996,       4046,  1600.8,   3.9670,  34.9372,2,  34.9374,2,    267.7,2,   267.3,2,   11.20,6,   17.40,6,    0.00,6,    1.13,2,-999.000,9,-999.000,9,-999.000,9,  -999.0,9,  -999.0,9,  -999.0,9, -999.00,-999.0000,9,  -999.00, -999.00,9,  -999.0,9,  -999.0,   45.64,2,   19.89,2,     -999.0,9,   0.1771,2,   0.1259,2,   0.0603,2,   0.0457,2,   0.0273,2,   0.0178,2,   0.0043,2,   0.0182,2,   0.0201,2,     -999.0,9,  -999.0,9,     -999.0,     -999.0,9,     -999.0,20130811,       1043
33RO20130803,       A16N,      34,          1,          6,          6,2,20130811,       0953,    48.4993,   -19.9996,       4046,  2009.5,   3.4832,  34.9188,2,  34.9180,2,    270.5,2,   271.1,2,   12.70,6,   17.40,6,    0.00,6,    1.13,2,   2.854,2,   1.402,2,   0.567,2,  -999.0,9,  -999.0,9,  -999.0,9, -999.00,-999.0000,9,  -999.00, -999.00,9,  -999.0,9,  -999.0,   44.87,2,   19.55,2,     13.384,2,   0.1493,2,   0.1034,2,   0.0451,2,   0.0339,2,   0.0178,2,   0.0109,2,   0.0002,4,   0.0203,2,   0.0225,2,     -999.0,5,  -999.0,9,     -999.0,     -999.0,9,     -999.0,20130811,       1035
33RO20130803,       A16N,      34,          1,          5,          5,2,20130811,       0953,    48.4993,   -19.9996,       4046,  2415.3,   3.1748,  34.9381,2,  34.9374,2,    264.6,2,   264.7,2,   18.70,6,   18.00,6,    0.00,6,    1.18,2,-999.000,9,-999.000,9,-999.000,9,  -999.0,9,  2316.0,2,   758.1,2,      20,   7.7190,6,    25.00, -999.00,9,  -999.0,9,  -999.0,   43.93,2,   20.16,2,     -999.0,9,   0.1610,2,   0.1138,2,   0.0529,2,   0.0397,2,   0.0228,2,   0.0147,2,   0.0025,2,   0.0189,2,   0.0208,2,     -999.0,9,  -999.0,9,     -999.0,     -999.0,9,     -999.0,20130811,       1026
33RO20130803,       A16N,      34,          1,          4,          4,2,20130811,       0953,    48.4993,   -19.9996,       4046,  2808.3,   2.9223,  34.9439,2,  34.9436,2,    257.0,2,   256.2,2,   25.90,6,   19.00,6,    0.00,6,    1.26,2,-999.000,9,-999.000,9,-999.000,9,  -999.0,9,  -999.0,9,  -999.0,9, -999.00,-999.0000,9,  -999.00, -999.00,9,  -999.0,9,  -999.0,   43.68,2,   21.46,2,     -999.0,9,   0.1761,2,   0.1264,2,   0.0598,2,   0.0447,2,   0.0267,2,   0.0173,2,   0.0042,2,   0.0184,2,   0.0200,2,     -999.0,9,  -999.0,9,     -999.0,     -999.0,9,     -999.0,20130811,       1019
33RO20130803,       A16N,      34,          1,          3,          3,2,20130811,       0953,    48.4993,   -19.9996,       4046,  3229.5,   2.6751,  34.9303,2,  34.9295,2,    247.4,2,   247.2,2,   35.20,6,   20.60,6,    0.00,6,    1.36,2,   0.520,6,   0.255,6,   0.125,6,  -999.0,9,  -999.0,9,  -999.0,9, -999.00,-999.0000,9,  -999.00, -999.00,9,  -999.0,9,  -999.0,   43.15,2,   23.39,2,     13.534,6,   0.1848,2,   0.1331,2,   0.0671,2,   0.0508,2,   0.0327,2,   0.0222,2,   0.0074,2,   0.0172,2,   0.0188,2,     -999.0,5,  -999.0,9,     -999.0,     -999.0,9,     -999.0,20130811,       1010
33RO20130803,       A16N,      34,          1,          2,          2,2,20130811,       0953,    48.4993,   -19.9996,       4046,  3681.0,   2.5285,  34.9132,2,  34.9128,2,    241.0,2,   240.9,2,   42.30,6,   21.80,6,    0.00,6,    1.44,2,   0.135,2,   0.070,2,   0.072,2,  -999.0,9,  -999.0,9,  -999.0,9, -999.00,-999.0000,9,  -999.00, -999.00,9,  -999.0,9,  -999.0,    42.5,2,    24.1,2,     13.594,2,   0.1436,2,   0.0990,2,   0.0428,2,   0.0313,2,   0.0171,2,   0.0109,2,   0.0008,3,   0.0207,2,   0.0228,2,     -999.0,5,  -999.0,9,     -999.0,     -999.0,9,     -999.0,20130811,       1001
33RO20130803,       A16N,      34,          1,          1,          1,2,20130811,       0953,    48.4993,   -19.9996,       4046,  4102.2,   2.5184,  34.9073,2,  34.9067,2,    240.0,2,   239.7,2,   44.30,2,   22.10,2,    0.00,2,    1.47,2,   0.076,2,   0.040,2,   0.045,2,  -999.0,9,  2355.2,6,   759.4,2,      20,   7.7244,2,    25.00, -999.00,9,  -999.0,9,  -999.0,   42.13,2,   23.67,2,     13.631,2,   0.1986,2,   0.1421,2,   0.0712,2,   0.0534,2,   0.0352,2,   0.0240,2,   0.0089,3,   0.0173,2,   0.0191,2,     -999.0,5,  -999.0,9,     -999.0,     -999.0,9,     -999.0,20130811,       0953