BOTTLE,20220815CCHSIOAMB
EXPOCODE,SECT_ID,STNNBR,CASTNO,SAMPNO,BTLNBR,BTLNBR_FLAG_W,DATE,TIME,LATITUDE,LONGITUDE,DEPTH,CTDPRS,CTDTMP,CTDSAL,CTDSAL_FLAG_W,SALNTY,SALNTY_FLAG_W,CTDOXY,CTDOXY_FLAG_W,OXYGEN,OXYGEN_FLAG_W,SILCAT,SILCAT_FLAG_W,NITRAT,NITRAT_FLAG_W,NITRIT,NITRIT_FLAG_W,PHSPHT,PHSPHT_FLAG_W,CFC-11,CFC-11_FLAG_W,CFC-12,CFC-12_FLAG_W,SF6,SF6_FLAG_W,TCARBN,TCARBN_FLAG_W,ALKALI,ALKALI_FLAG_W,PCO2,PCO2_FLAG_W,PCO2TMP,PH_SWS,PH_SWS_FLAG_W,PH_TMP,DELC13,DELC13_FLAG_W,DELC14,DELC14_FLAG_W,C14ERR,DOC,DOC_FLAG_W,TDN,TDN_FLAG_W,N2O,N2O_FLAG_W,CDOM325,CDOM325_FLAG_W,CDOM340,CDOM340_FLAG_W,CDOM380,CDOM380_FLAG_W,CDOM412,CDOM412_FLAG_W,CDOM443,CDOM443_FLAG_W,CDOM490,CDOM490_FLAG_W,CDOM555,CDOM555_FLAG_W,CDOMSL,CDOMSL_FLAG_W,CDOMSN,CDOMSN_FLAG_W,CCL4,CCL4_FLAG_W,14C-DOC,14C-DOC_FLAG_W,14C-DOCERR,13C-DOC,13C-DOC_FLAG_W,13C-DOCERR,BTL_DATE,BTL_TIME
,,,,,,,,,,,METERS,DBAR,ITS-90,PSS-78,,PSS-78,,UMOL/KG,,UMOL/KG,,UMOL/KG,,UMOL/KG,,UMOL/KG,,UMOL/KG,,PMOL/KG,,PMOL/KG,,FMOL/KG,,UMOL/KG,,UMOL/KG,,UATM,,DEG C,,,DEG C,/MILLE,,/MILLE,,/MILLE,UMOL/KG,,UMOL/KG,,NMOL/KG,,1/M,,1/M,,1/M,,1/M,,1/M,,1/M,,1/M,,1/NM,,1/NM,,PMOL/KG,,/MILLE,,/MILLE,/MILLE,,/MILLE,,
33RO20130803,       A16N,      62,          1,         24,         24,2,20130819,       1135,    34.5008,   -20.8503,       5183,     3.2,  23.4353,  36.8316,2,  36.8320,2,    208.2,2,   213.2,2,    0.50,2,    0.10,2,    0.00,2,    0.01,2,   1.854,2,   1.144,2,   1.378,2,  2100.5,6,  2411.6,2,  -999.0,9, -999.00,   8.0154,2,    25.00, -999.00,9,  -999.0,9,  -999.0,   63.77,2,     2.9,2,      6.747,2,   0.1599,2,   0.1248,2,   0.0288,3,   0.0064,2,  -0.0030,4,   0.0011,3,  -0.0021,4,   0.0388,4,   0.0270,4,     -999.0,5,  -999.0,9,     -999.0,     -999.0,9,     -999.0,20130819,       1331
33RO20130803,       A16N,      62,          1,         23,         23,2,20130819,       1135,    34.5008,   -20.8503,       5183,    23.1,  23.3673,  36.8310,2,  36.8302,2,    208.8,2,   213.8,2,    0.50,2,    0.10,2,    0.00,2,    0.01,2,-999.000,9,-999.000,9,-999.000,9,  2100.6,2,  2411.9,2,  -999.0,9, -999.00,   8.0168,6,    25.00, -999.00,9,  -999.0,9,  -999.0,   60.24,2,    3.17,2,     -999.0,9,   0.0609,2,   0.0301,3,  -0.0102,4,  -0.0118,4,  -0.0156,4,  -0.0067,4,  -0.0066,4,   0.0869,4,   0.0600,4,     -999.0,9,  -999.0,9,     -999.0,     -999.0,9,     -999.0,20130819,       1329
33RO20130803,       A16N,      62,          1,         22,         22,2,20130819,       1135,    34.5008,   -20.8503,       5183,    56.0,  20.8766,  36.6390,2,  36.6357,2,    234.8,2,   237.8,2,    0.50,2,    0.10,2,    0.00,2,    0.02,2,-999.000,9,-999.000,9,-999.000,9,  2093.9,2,  2399.4,6,  -999.0,9, -999.00,   8.0137,2,    25.00, -999.00,9,  -999.0,9,  -999.0,   58.46,2,    3.59,2,     -999.0,9,   0.1166,2,   0.0701,2,   0.0084,3,  -0.0008,4,  -0.0098,4,  -0.0040,4,  -0.0054,4,   0.0554,4,   0.0409,4,     -999.0,9,  -999.0,9,     -999.0,     -999.0,9,     -999.0,20130819,       1327
33RO20130803,       A16N,      62,          1,         21,         21,2,20130819,       1135,    34.5008,   -20.8503,       5183,    82.7,  19.1414,  36.5716,2,  36.5821,2,    238.8,2,   236.1,2,    0.50,2,    0.10,2,    0.00,2,    0.02,2,-999.000,9,-999.000,9,-999.000,9,  2100.3,2,  2393.6,2,  -999.0,9, -999.00,   7.9991,2,    25.00, -999.00,9,  -999.0,9,  -999.0,   58.92,2,    4.02,2,     -999.0,9,   0.1354,2,   0.0853,2,   0.0154,3,   0.0041,2,  -0.0082,4,  -0.0044,4,  -0.0056,4,   0.0441,4,   0.0368,4,     -999.0,9,  -999.0,9,     -999.0,     -999.0,9,     -999.0,20130819,       1325
33RO20130803,       A16N,      62,          1,         20,         20,2,20130819,       1135,    34.5008,   -20.8503,       5183,   110.1,  18.5235,  36.6549,2,  36.6548,2,    224.7,2,   221.3,2,    0.60,2,    0.20,2,    0.03,2,    0.03,2,   2.252,2,   1.367,2,   1.532,2,  2115.7,2,  2399.8,2,  -999.0,9, -999.00,   7.9712,2,    25.00, -999.00,9,  -999.0,9,  -999.0,   56.48,2,    4.15,2,      7.956,2,   0.1292,2,   0.0841,2,   0.0202,3,   0.0116,2,  -0.0032,4,  -0.0012,4,  -0.0033,3,   0.0341,3,   0.0330,3,     -999.0,5,  -999.0,9,     -999.0,     -999.0,9,     -999.0,20130819,       1323
33RO20130803,       A16N,      62,          1,         19,         19,2,20130819,       1135,    34.5008,   -20.8503,       5183,   172.3,  17.0236,  36.4262,2,  36.4178,2,    202.3,2,   201.3,2,    1.60,2,    5.00,2,    0.01,2,    0.28,2,-999.000,9,-999.000,9,-999.000,9,  -999.0,9,  -999.0,9,  -999.0,9, -999.00,-999.0000,9,  -999.00, -999.00,9,  -999.0,9,  -999.0,   53.41,2,    8.58,2,     -999.0,9,   0.0779,2,   0.0442,3,  -0.0009,4,  -0.0035,4,  -0.0139,4,  -0.0085,4,  -0.0077,4,   0.0854,4,   0.0483,4,     -999.0,9,  -999.0,9,     -999.0,     -999.0,9,     -999.0,20130819,       1320
33RO20130803,       A16N,      62,          1,         18,         18,2,20130819,       1135,    34.5008,   -20.8503,       5183,   261.3,  15.5131,  36.1541,2,  36.1486,2,    199.7,2,   199.3,2,    2.50,2,    7.80,2,    0.01,2,    0.46,2,   2.515,2,   1.470,2,   1.371,2,  2137.4,2,  2369.0,2,  -999.0,9, -999.00,   7.8853,2,    25.00, -999.00,9,  -999.0,9,  -999.0,   48.18,2,   10.49,2,     10.605,2,   0.0917,2,   0.0534,2,   0.0037,3,  -0.0013,4,  -0.0119,4,  -0.0071,4,  -0.0070,4,   0.0607,4,   0.0442,4,     -999.0,5,  -999.0,9,     -999.0,     -999.0,9,     -999.0,20130819,       1317
33RO20130803,       A16N,      62,          1,         17,         17,2,20130819,       1135,    34.5008,   -20.8503,       5183,   335.8,  14.3079,  35.9408,2,  35.9353,2,    199.4,2,   198.2,2,    3.60,2,   10.10,2,    0.00,2,    0.60,2,-999.000,9,-999.000,9,-999.000,9,  -999.0,9,  -999.0,9,  -999.0,9, -999.00,-999.0000,9,  -999.00, -999.00,9,  -999.0,9,  -999.0,   47.66,2,   12.75,2,     -999.0,9,   0.0915,2,   0.0520,2,   0.0031,3,  -0.0019,4,  -0.0121,4,  -0.0073,4,  -0.0071,4,   0.0653,4,   0.0457,4,     -999.0,9,  -999.0,9,     -999.0,     -999.0,9,     -999.0,20130819,       1315
33RO20130803,       A16N,      62,          1,         16,         16,2,20130819,       1135,    34.5008,   -20.8503,       5183,   445.9,  12.9114,  35.7422,2,  35.7427,2,    205.6,2,   200.3,2,    4.60,2,   12.10,2,    0.00,2,    0.72,2,-999.000,9,-999.000,9,-999.000,9,  2150.7,2,  2345.2,2,  -999.0,9, -999.00,   7.8173,2,    25.00, -999.00,9,  -999.0,9,  -999.0,   46.43,2,   14.75,2,     -999.0,9,   0.0927,2,   0.0535,2,   0.0038,3,  -0.0018,4,  -0.0118,4,  -0.0072,4,  -0.0069,4,   0.0603,4,   0.0443,4,     -999.0,9,  -999.0,9,     -999.0,     -999.0,9,     -999.0,20130819,       1312
33RO20130803,       A16N,      62,          1,         15,         15,2,20130819,       1135,    34.5008,   -20.8503,       5183,   555.8,  11.9681,  35.6347,2,  35.6343,2,    192.2,2,   191.4,2,    5.80,2,   14.50,2,    0.00,2,    0.88,2,   2.570,2,   1.431,2,   1.062,2,  -999.0,9,  -999.0,9,  -999.0,9, -999.00,-999.0000,9,  -999.00, -999.00,9,  -999.0,9,  -999.0,   45.62,2,   16.84,2,     13.810,2,   0.0900,2,   0.0521,2,   0.0037,3,  -0.0019,4,  -0.0114,4,  -0.0069,4,  -0.0069,4,   0.0607,4,   0.0443,4,     -999.0,5,  -999.0,9,     -999.0,     -999.0,9,     -999.0,20130819,       1309
33RO20130803,       A16N,      62,          1,         14,         14,2,20130819,       1135,    34.5008,   -20.8503,       5183,   746.2,  10.4614,  35.5151,2,  35.5141,2,    174.7,2,   173.7,2,    9.30,2,   18.60,2,    0.00,2,    1.15,2,-999.000,9,-999.000,9,-999.000,9,  2179.4,2,  2337.0,2,  -999.0,9, -999.00,   7.7370,6,    25.00, -999.00,9,  -999.0,9,  -999.0,   44.92,2,   21.01,2,     -999.0,9,   0.0975,2,   0.0563,2,   0.0053,3,  -0.0015,4,  -0.0113,4,  -0.0073,4,  -0.0073,4,   0.0672,4,   0.0435,4,     -999.0,9,  -999.0,9,     -999.0,     -999.0,9,     -999.0,20130819,       1304
33RO20130803,       A16N,      62,          1,         13,         13,2,20130819,       1135,    34.5008,   -20.8503,       5183,   887.6,   9.5196,  35.5420,2,  35.5423,2,    177.4,2,   177.1,2,   10.90,2,   19.20,2,    0.00,2,    1.20,2,-999.000,9,-999.000,9,-999.000,9,  2189.0,2,  2344.2,2,  -999.0,9, -999.00,   7.7307,2,    25.00, -999.00,9,  -999.0,9,  -999.0,   44.23,2,   21.77,2,     -999.0,9,   0.0991,2,   0.0580,2,   0.0073,3,   0.0004,4,  -0.0096,4,  -0.0060,4,  -0.0064,4,   0.0539,4,   0.0417,4,     -999.0,9,  -999.0,9,     -999.0,     -999.0,9,     -999.0,20130819,       1301
33RO20130803,       A16N,      62,          1,         12,         12,2,20130819,       1135,    34.5008,   -20.8503,       5183,  1000.5,   8.6847,  35.5296,2,  35.5335,2,    187.0,2,   186.6,2,   11.80,2,   19.10,2,    0.00,2,    1.21,2,   1.527,2,   0.785,2,   0.359,2,  2190.7,6,  2346.1,2,  -999.0,9, -999.00,   7.7318,2,    25.00, -999.00,9,  -999.0,9,  -999.0,   43.83,2,   21.47,2,     15.759,2,   0.1047,2,   0.0610,2,   0.0080,3,   0.0003,4,  -0.0101,4,  -0.0065,4,  -0.0069,4,   0.0601,4,   0.0417,4,     -999.0,5,  -999.0,9,     -999.0,     -999.0,9,     -999.0,20130819,       1258
33RO20130803,       A16N,      62,          1,         11,         11,2,20130819,       1135,    34.5008,   -20.8503,       5183,  1169.0,   7.7369,  35.4853,2,  35.4865,2,    200.7,2,   201.1,2,   12.10,2,   18.90,2,    0.00,2,    1.19,2,-999.000,9,-999.000,9,-999.000,9,  2189.2,2,  2344.5,6,  -999.0,9, -999.00,   7.7324,2,    25.00, -999.00,9,  -999.0,9,  -999.0,   43.27,2,   21.34,2,     -999.0,9,   0.1032,2,   0.0598,2,   0.0074,3,   0.0001,4,  -0.0096,4,  -0.0064,4,  -0.0062,4,   0.0560,4,   0.0419,4,     -999.0,9,  -999.0,9,     -999.0,     -999.0,9,     -999.0,20130819,       1254
33RO20130803,       A16N,      62,          1,         10,         10,2,20130819,       1135,    34.5008,   -20.8503,       5183,  1394.2,   6.4204,  35.3497,2,  35.3517,2,    222.8,2,   221.9,2,   12.60,2,   18.50,2,    0.00,2,    1.18,2,   1.755,2,   0.878,2,   0.324,2,  -999.0,9,  -999.0,9,  -999.0,9, -999.00,-999.0000,9,  -999.00, -999.00,9,  -999.0,9,  -999.0,    42.8,2,      21,2,     14.330,2,   0.1174,2,   0.0702,2,   0.0131,3,   0.0041,3,  -0.0069,4,  -0.0046,4,  -0.0051,4,   0.0446,4,   0.0383,4,     -999.0,5,  -999.0,9,     -999.0,     -999.0,9,     -999.0,20130819,       1249
33RO20130803,       A16N,      62,          1,          9,          9,2,20130819,       1135,    34.5008,   -20.8503,       5183,  1707.1,   4.6697,  35.1102,2,  35.1097,2,    249.0,2,   248.1,2,   13.40,2,   18.30,2,    0.00,2,    1.18,2,-999.000,9,-999.000,9,-999.000,9,  2172.2,2,  2319.5,2,  -999.0,9, -999.00,   7.7260,2,    25.00, -999.00,9,  -999.0,9,  -999.0,    42.6,2,   20.79,2,     -999.0,9,   0.1086,2,   0.0631,2,   0.0083,3,   0.0003,4,  -0.0101,4,  -0.0071,4,  -0.0068,4,   0.0640,4,   0.0417,4,     -999.0,9,  -999.0,9,     -999.0,     -999.0,9,     -999.0,20130819,       1242
33RO20130803,       A16N,      62,          1,          8,          8,2,20130819,       1135,    34.5008,   -20.8503,       5183,  2036.2,   3.7960,  35.0086,2,  35.0093,2,    257.7,2,   258.1,2,   15.90,2,   18.40,2,    0.00,2,    1.20,2,   1.541,2,   0.746,2,   0.225,2,  2168.3,2,  2319.2,2,  -999.0,9, -999.00,   7.7227,2,    25.00, -999.00,9,  -999.0,9,  -999.0,   42.38,2,   20.92,2,     13.327,2,   0.1085,2,   0.0633,2,   0.0084,3,   0.0001,4,  -0.0102,4,  -0.0071,4,  -0.0069,4,   0.0605,4,   0.0415,4,     -999.0,5,  -999.0,9,     -999.0,     -999.0,9,     -999.0,20130819,       1236
33RO20130803,       A16N,      62,          1,          7,          7,2,20130819,       1135,    34.5008,   -20.8503,       5183,  2515.5,   3.2270,  34.9736,2,  34.9736,2,    254.0,2,   253.8,2,   23.70,2,   19.20,2,    0.00,2,    1.28,2,   0.612,2,   0.303,2,   0.121,2,  2174.3,2,  2325.8,2,  -999.0,9, -999.00,   7.7213,2,    25.00, -999.00,9,  -999.0,9,  -999.0,   41.98,2,   21.49,2,     13.280,2,   0.1166,2,   0.0694,2,   0.0117,3,   0.0022,3,  -0.0086,4,  -0.0061,4,  -0.0063,4,   0.0499,4,   0.0392,4,     -999.0,5,  -999.0,9,     -999.0,     -999.0,9,     -999.0,20130819,       1227
33RO20130803,       A16N,      62,          1,          6,          6,2,20130819,       1135,    34.5008,   -20.8503,       5183,  3009.0,   2.8379,  34.9435,2,  34.9436,2,    250.0,2,   248.8,2,   31.70,2,   20.20,2,    0.00,2,    1.36,2,   0.328,2,   0.163,2,   0.036,2,  2184.4,2,  2333.9,2,  -999.0,9, -999.00,   7.7269,2,    25.00, -999.00,9,  -999.0,9,  -999.0,   40.53,2,   22.79,2,     13.402,2,   0.1054,2,   0.0623,2,   0.0096,3,   0.0010,3,  -0.0089,4,  -0.0058,4,  -0.0061,4,   0.0555,4,   0.0403,4,     -999.0,5,  -999.0,9,     -999.0,     -999.0,9,     -999.0,20130819,       1217
33RO20130803,       A16N,      62,          1,          5,          5,2,20130819,       1135,    34.5008,   -20.8503,       5183,  3417.5,   2.6618,  34.9274,2,  34.9277,2,    245.8,2,     245,2,   37.60,2,   21.20,2,    0.00,2,    1.43,2,   0.102,2,   0.053,2,   0.040,2,  -999.0,9,  -999.0,9,  -999.0,9, -999.00,-999.0000,9,  -999.00, -999.00,9,  -999.0,9,  -999.0,   40.16,2,   23.62,2,     13.517,2,   0.1137,2,   0.0656,2,   0.0097,3,   0.0005,4,  -0.0097,4,  -0.0068,4,  -0.0067,4,   0.0592,4,   0.0415,4,     -999.0,5,  -999.0,9,     -999.0,     -999.0,9,     -999.0,20130819,       1209
33RO20130803,       A16N,      62,          1,          4,          4,2,20130819,       1135,    34.5008,   -20.8503,       5183,  3824.2,   2.5417,  34.9125,2,  34.9125,2,    244.0,2,   244.3,2,   41.60,6,   21.70,6,    0.00,6,    1.46,6,   0.018,2,   0.013,2,   0.015,2,  2193.8,2,  2346.6,6,  -999.0,9, -999.00,   7.7276,2,    25.00, -999.00,9,  -999.0,9,  -999.0,   39.98,2,   24.17,2,     13.577,2,   0.1121,2,   0.0645,2,   0.0087,3,  -0.0006,4,  -0.0105,4,  -0.0073,4,  -0.0071,4,   0.0563,4,   0.0418,4,     -999.0,5,  -999.0,9,     -999.0,     -999.0,9,     -999.0,20130819,       1201
33RO20130803,       A16N,      62,          1,          3,          3,2,20130819,       1135,    34.5008,   -20.8503,       5183,  4280.7,   2.4672,  34.9000,2,  34.9000,2,    244.2,2,   244.4,2,   44.40,6,   22.00,6,    0.00,6,    1.48,6,   0.010,2,   0.008,2,   0.000,2,  -999.0,9,  -999.0,9,  -999.0,9, -999.00,-999.0000,9,  -999.00, -999.00,9,  -999.0,9,  -999.0,   40.14,2,   24.55,2,     13.684,2,   0.1039,2,   0.0581,2,   0.0045,3,  -0.0038,4,  -0.0131,4,  -0.0091,4,  -0.0082,4,   0.0596,4,   0.0448,4,     -999.0,5,  -999.0,9,     -999.0,     -999.0,9,     -999.0,20130819,       1153
33RO20130803,       A16N,      62,          1,          2,          2,2,20130819,       1135,    34.5008,   -20.8503,       5183,  4724.6,   2.4356,  34.8913,2,  34.8913,2,    243.8,2,   243.7,2,   46.30,6,   22.20,6,    0.00,6,    1.49,6,   0.004,6,   0.005,6,   0.000,6,  2199.7,2,  2350.8,2,  -999.0,9, -999.00,   7.7279,2,    25.00, -999.00,9,  -999.0,9,  -999.0,   40.13,2,   24.71,2,     13.819,6,   0.1078,2,   0.0625,2,   0.0084,3,  -0.0016,4,  -0.0114,4,  -0.0082,4,  -0.0079,4,   0.0532,4,   0.0413,4,     -999.0,5,  -999.0,9,     -999.0,     -999.0,9,     -999.0,20130819,       1144
33RO20130803,       A16N,      62,          1,          1,          1,2,20130819,       1135,    34.5008,   -20.8503,       5183,  5249.8,   2.4736,  34.8878,2,  34.8886,2,    245.0,2,   243.7,2,   47.20,6,   22.50,6,    0.00,6,    1.50,6,   0.004,2,   0.008,2,   0.081,2,  2201.0,6,  2352.3,2,  -999.0,9, -999.00,   7.7403,2,    25.00, -999.00,9,  -999.0,9,  -999.0,   40.01,2,    24.6,2,     13.797,2,   0.0985,2,   0.0563,2,   0.0053,3,  -0.0029,4,  -0.0121,4,  -0.0084,4,  -0.0079,4,   0.0565,4,   0.0434,4,     -999.0,5,  -999.0,9,     -999.0,     -999.0,9,     -999.0,20130819,       1135