BOTTLE,20220815CCHSIOAMB
EXPOCODE,SECT_ID,STNNBR,CASTNO,SAMPNO,BTLNBR,BTLNBR_FLAG_W,DATE,TIME,LATITUDE,LONGITUDE,DEPTH,CTDPRS,CTDTMP,CTDSAL,CTDSAL_FLAG_W,SALNTY,SALNTY_FLAG_W,CTDOXY,CTDOXY_FLAG_W,OXYGEN,OXYGEN_FLAG_W,SILCAT,SILCAT_FLAG_W,NITRAT,NITRAT_FLAG_W,NITRIT,NITRIT_FLAG_W,PHSPHT,PHSPHT_FLAG_W,CFC-11,CFC-11_FLAG_W,CFC-12,CFC-12_FLAG_W,SF6,SF6_FLAG_W,TCARBN,TCARBN_FLAG_W,ALKALI,ALKALI_FLAG_W,PCO2,PCO2_FLAG_W,PCO2TMP,PH_SWS,PH_SWS_FLAG_W,PH_TMP,DELC13,DELC13_FLAG_W,DELC14,DELC14_FLAG_W,C14ERR,DOC,DOC_FLAG_W,TDN,TDN_FLAG_W,N2O,N2O_FLAG_W,CDOM325,CDOM325_FLAG_W,CDOM340,CDOM340_FLAG_W,CDOM380,CDOM380_FLAG_W,CDOM412,CDOM412_FLAG_W,CDOM443,CDOM443_FLAG_W,CDOM490,CDOM490_FLAG_W,CDOM555,CDOM555_FLAG_W,CDOMSL,CDOMSL_FLAG_W,CDOMSN,CDOMSN_FLAG_W,CCL4,CCL4_FLAG_W,14C-DOC,14C-DOC_FLAG_W,14C-DOCERR,13C-DOC,13C-DOC_FLAG_W,13C-DOCERR,BTL_DATE,BTL_TIME
,,,,,,,,,,,METERS,DBAR,ITS-90,PSS-78,,PSS-78,,UMOL/KG,,UMOL/KG,,UMOL/KG,,UMOL/KG,,UMOL/KG,,UMOL/KG,,PMOL/KG,,PMOL/KG,,FMOL/KG,,UMOL/KG,,UMOL/KG,,UATM,,DEG C,,,DEG C,/MILLE,,/MILLE,,/MILLE,UMOL/KG,,UMOL/KG,,NMOL/KG,,1/M,,1/M,,1/M,,1/M,,1/M,,1/M,,1/M,,1/NM,,1/NM,,PMOL/KG,,/MILLE,,/MILLE,/MILLE,,/MILLE,,
33RO20130803,       A16N,     114,          1,         24,         24,2,20130923,       1133,     6.5006,   -26.7509,       4663,     2.9,  28.3657,  34.6570,2,  34.6636,2,    197.3,2,   198.5,2,    1.50,2,    0.10,2,    0.00,2,    0.00,2,   1.493,2,   0.950,2,   1.167,2,  1929.5,6,  2271.2,2,   258.3,2,      20,   8.1159,2,    25.00, -999.00,9,  -999.0,9,  -999.0,   75.39,2,    5.13,2,      5.807,2,   0.0630,2,   0.0297,2,   0.0013,2,   0.0039,2,   0.0030,2,   0.0027,2,   0.0019,2,   0.0187,2,   0.0199,2,     -999.0,5,  -999.0,9,     -999.0,     -999.0,9,     -999.0,20130923,       1321
33RO20130803,       A16N,     114,          1,         23,         23,2,20130923,       1133,     6.5006,   -26.7509,       4663,    12.7,  28.3886,  34.9068,2,  34.9310,2,    197.5,2,   198.5,2,    1.80,2,    0.10,2,    0.00,2,    0.00,2,   1.493,6,   0.954,6,   1.174,6,  1948.0,2,  2285.6,6,   265.0,2,      20,   8.1158,2,    25.00, -999.00,9,  -999.0,9,  -999.0,   73.06,2,    4.52,2,      5.877,6,   0.0796,2,   0.0416,2,   0.0024,2,   0.0037,2,   0.0025,2,   0.0022,2,   0.0017,2,   0.0211,2,   0.0223,2,     -999.0,5,  -999.0,9,     -999.0,     -999.0,9,     -999.0,20130923,       1319
33RO20130803,       A16N,     114,          1,         22,         22,2,20130923,       1133,     6.5006,   -26.7509,       4663,    30.3,  28.2531,  35.0137,2,  35.0692,2,    199.4,2,   199.8,2,    1.70,2,    0.10,2,    0.00,2,    0.01,2,   1.504,2,   0.954,2,   1.149,2,  1957.5,2,  2300.5,2,   273.0,2,      20,   8.1102,2,    25.00, -999.00,9,  -999.0,9,  -999.0,   72.01,2,    4.12,2,      5.887,2,   0.0948,2,   0.0529,2,   0.0124,2,   0.0101,2,   0.0066,2,   0.0041,2,   0.0020,2,   0.0187,2,   0.0196,2,     -999.0,5,  -999.0,9,     -999.0,     -999.0,9,     -999.0,20130923,       1317
33RO20130803,       A16N,     114,          1,         21,         21,2,20130923,       1133,     6.5006,   -26.7509,       4663,    60.8,  27.1658,  36.0646,2,  36.1005,2,    194.4,2,   191.7,2,    1.20,2,    0.10,2,    0.01,2,    0.04,2,-999.000,9,-999.000,9,-999.000,9,  -999.0,9,  -999.0,9,  -999.0,9, -999.00,-999.0000,9,  -999.00, -999.00,9,  -999.0,9,  -999.0,   66.89,2,    4.48,2,     -999.0,9,-999.0000,5,-999.0000,5,-999.0000,5,-999.0000,5,-999.0000,5,-999.0000,5,-999.0000,5,-999.0000,5,-999.0000,5,     -999.0,9,  -999.0,9,     -999.0,     -999.0,9,     -999.0,20130923,       1315
33RO20130803,       A16N,     114,          1,         20,         20,2,20130923,       1133,     6.5006,   -26.7509,       4663,    86.2,  23.7681,  36.1530,2,  36.1558,2,    168.3,2,   166.9,2,    2.00,2,    1.50,2,    0.16,2,    0.16,2,   1.768,2,   1.080,2,   1.063,2,  2094.5,2,  2370.4,2,   412.1,2,      20,   7.9688,2,    25.00, -999.00,9,  -999.0,9,  -999.0,      52,2,     5.4,2,     12.157,2,   0.1618,2,   0.1058,2,   0.0424,2,   0.0333,2,   0.0175,2,   0.0080,2,   0.0036,2,   0.0164,2,   0.0175,2,     -999.0,5,  -999.0,9,     -999.0,     -999.0,9,     -999.0,20130923,       1314
33RO20130803,       A16N,     114,          1,         19,         19,2,20130923,       1133,     6.5006,   -26.7509,       4663,   110.3,  17.4405,  35.7902,2,  35.7871,2,    121.4,2,   121.6,2,    5.30,2,   15.60,2,    0.03,2,    1.03,2,   2.104,2,   1.202,2,   0.867,2,  -999.0,9,  -999.0,9,  -999.0,9, -999.00,-999.0000,9,  -999.00, -999.00,9,  -999.0,9,  -999.0,    51.1,2,   18.91,2,     20.392,2,   0.1664,2,   0.1082,2,   0.0456,2,   0.0362,2,   0.0210,2,   0.0101,2,   0.0045,2,   0.0160,2,   0.0171,2,     -999.0,5,  -999.0,9,     -999.0,     -999.0,9,     -999.0,20130923,       1311
33RO20130803,       A16N,     114,          1,         18,         18,2,20130923,       1133,     6.5006,   -26.7509,       4663,   172.2,  13.0715,  35.3040,2,  35.3027,2,    138.2,2,   133.7,2,    7.80,2,   19.90,2,    0.01,2,    1.34,2,   2.272,2,   1.245,2,   0.736,2,  2174.7,2,  2317.0,2,   777.3,2,      20,   7.7150,2,    25.00, -999.00,9,  -999.0,9,  -999.0,   50.15,2,   22.65,2,     23.589,2,   0.1204,2,   0.0727,2,   0.0279,2,   0.0239,2,   0.0136,2,   0.0062,2,   0.0028,2,   0.0159,2,   0.0172,2,     -999.0,5,  -999.0,9,     -999.0,     -999.0,9,     -999.0,20130923,       1309
33RO20130803,       A16N,     114,          1,         17,         17,2,20130923,       1133,     6.5006,   -26.7509,       4663,   260.1,  11.6869,  35.1321,2,  35.1299,2,    110.4,2,    98.9,2,   10.40,2,   26.20,2,    0.01,2,    1.70,2,   1.863,2,   1.002,2,   0.443,2,  -999.0,9,  -999.0,9,  -999.0,9, -999.00,-999.0000,9,  -999.00, -999.00,9,  -999.0,9,  -999.0,   48.71,2,   28.73,2,     31.587,2,   0.1338,2,   0.0831,2,   0.0360,2,   0.0299,2,   0.0171,2,   0.0069,2,   0.0030,2,   0.0151,2,   0.0163,2,     -999.0,5,  -999.0,9,     -999.0,     -999.0,9,     -999.0,20130923,       1306
33RO20130803,       A16N,     114,          1,         16,         16,2,20130923,       1133,     6.5006,   -26.7509,       4663,   334.3,  10.4281,  34.9980,2,  34.9973,2,     91.2,2,    90.9,2,   12.80,2,   29.40,2,    0.00,2,    1.89,2,   1.537,2,   0.809,2,   0.307,2,  2215.8,2,  2306.5,2,  1084.7,2,      20,   7.5674,6,    25.00, -999.00,9,  -999.0,9,  -999.0,   47.11,2,   32.09,2,     34.684,2,-999.0000,9,-999.0000,9,-999.0000,9,-999.0000,9,-999.0000,9,-999.0000,9,-999.0000,9,-999.0000,9,-999.0000,9,     -999.0,5,  -999.0,9,     -999.0,     -999.0,9,     -999.0,20130923,       1303
33RO20130803,       A16N,     114,          1,         15,         15,2,20130923,       1133,     6.5006,   -26.7509,       4663,   447.8,   8.7873,  34.8378,2,  34.8393,2,     85.9,2,    87.4,2,   16.40,2,   33.30,2,    0.01,2,    2.14,2,   0.974,2,   0.500,2,   0.186,2,  2226.5,2,  2298.2,2,  1233.1,2,      20,   7.5186,2,    25.00, -999.00,9,  -999.0,9,  -999.0,   46.09,2,    36.2,2,     34.513,2,   0.1381,2,   0.0846,2,   0.0380,2,   0.0321,2,   0.0190,2,   0.0074,2,   0.0030,2,   0.0149,2,   0.0163,2,     -999.0,5,  -999.0,9,     -999.0,     -999.0,9,     -999.0,20130923,       1300
33RO20130803,       A16N,     114,          1,         14,         14,2,20130923,       1133,     6.5006,   -26.7509,       4663,   548.4,   7.7918,  34.7790,2,  34.7866,2,     82.3,2,    82.5,2,   19.40,2,   35.70,2,    0.00,2,    2.31,2,   0.490,2,   0.254,2,   0.098,2,  2235.8,2,  2300.8,2,  1329.1,2,      20,   7.4909,2,    25.00, -999.00,9,  -999.0,9,  -999.0,   45.35,2,   38.58,2,     33.814,2,   0.1570,2,   0.0954,2,   0.0412,2,   0.0333,2,   0.0198,2,   0.0084,2,   0.0033,2,   0.0159,2,   0.0175,2,     -999.0,5,  -999.0,9,     -999.0,     -999.0,9,     -999.0,20130923,       1257
33RO20130803,       A16N,     114,          1,         13,         13,2,20130923,       1133,     6.5006,   -26.7509,       4663,   722.7,   5.9790,  34.6356,2,  34.6374,2,    106.9,2,   106.4,2,   25.20,2,   36.50,2,    0.00,2,    2.45,2,   0.146,2,   0.079,2,   0.000,2,  2233.1,2,  2297.9,6,  1304.0,2,      20,   7.4951,2,    25.00, -999.00,9,  -999.0,9,  -999.0,   44.29,2,   39.14,2,     29.244,2,   0.1350,2,   0.0813,2,   0.0349,2,   0.0284,2,   0.0170,2,   0.0069,2,   0.0027,2,   0.0154,2,   0.0168,2,     -999.0,5,  -999.0,9,     -999.0,     -999.0,9,     -999.0,20130923,       1253
33RO20130803,       A16N,     114,          1,         12,         12,2,20130923,       1133,     6.5006,   -26.7509,       4663,   872.2,   5.2675,  34.6224,2,  34.6238,2,    124.8,2,   125.4,2,   27.90,2,   35.30,2,    0.00,2,    2.41,2,   0.069,2,   0.038,2,   0.000,2,  -999.0,9,  -999.0,9,  -999.0,9, -999.00,-999.0000,9,  -999.00, -999.00,9,  -999.0,9,  -999.0,   43.25,2,    38.1,2,     26.430,2,-999.0000,9,-999.0000,9,-999.0000,9,-999.0000,9,-999.0000,9,-999.0000,9,-999.0000,9,-999.0000,9,-999.0000,9,     -999.0,5,  -999.0,9,     -999.0,     -999.0,9,     -999.0,20130923,       1249
33RO20130803,       A16N,     114,          1,         11,         11,2,20130923,       1133,     6.5006,   -26.7509,       4663,  1021.8,   4.8835,  34.7180,2,  34.7183,2,    146.0,2,   145.5,2,   27.40,2,   32.60,2,    0.00,2,    2.24,2,-999.000,9,-999.000,9,-999.000,9,  2219.5,2,  2307.0,2,  1106.3,2,      20,   7.5605,2,    25.00, -999.00,9,  -999.0,9,  -999.0,   43.06,2,   35.13,2,     -999.0,9,   0.1342,2,   0.0818,2,   0.0357,2,   0.0282,2,   0.0174,2,   0.0073,2,   0.0030,2,   0.0153,2,   0.0165,2,     -999.0,9,  -999.0,9,     -999.0,     -999.0,9,     -999.0,20130923,       1245
33RO20130803,       A16N,     114,          1,         10,         10,2,20130923,       1133,     6.5006,   -26.7509,       4663,  1172.5,   4.7499,  34.8303,2,  34.8312,2,    167.2,2,   167.1,2,   24.60,2,   29.20,2,    0.00,2,    2.00,2,-999.000,9,-999.000,9,-999.000,9,  -999.0,9,  -999.0,9,  -999.0,9, -999.00,-999.0000,9,  -999.00, -999.00,9,  -999.0,9,  -999.0,   42.46,2,   31.94,2,     -999.0,9,-999.0000,9,-999.0000,9,-999.0000,9,-999.0000,9,-999.0000,9,-999.0000,9,-999.0000,9,-999.0000,9,-999.0000,9,     -999.0,9,  -999.0,9,     -999.0,     -999.0,9,     -999.0,20130923,       1242
33RO20130803,       A16N,     114,          1,          9,          9,2,20130923,       1133,     6.5006,   -26.7509,       4663,  1397.8,   4.4057,  34.9330,2,  34.9333,2,    204.9,2,     204,2,   20.70,2,   24.40,2,    0.00,2,    1.66,2,   0.092,2,   0.051,2,   0.036,2,  2186.9,2,  2312.7,2,   856.1,2,      20,   7.6715,2,    25.00, -999.00,9,  -999.0,9,  -999.0,   41.72,2,   27.09,2,     17.286,2,   0.1514,2,   0.0960,2,   0.0401,2,   0.0300,2,   0.0187,2,   0.0084,2,   0.0035,2,   0.0162,2,   0.0171,2,     -999.0,5,  -999.0,9,     -999.0,     -999.0,9,     -999.0,20130923,       1237
33RO20130803,       A16N,     114,          1,          8,          8,2,20130923,       1133,     6.5006,   -26.7509,       4663,  1746.6,   3.8858,  34.9667,2,  34.9669,2,    235.2,2,   234.9,2,   19.40,2,   21.20,2,    0.00,2,    1.43,2,-999.000,9,-999.000,9,-999.000,9,  -999.0,9,  -999.0,9,  -999.0,9, -999.00,-999.0000,9,  -999.00, -999.00,9,  -999.0,9,  -999.0,    41.6,2,   23.76,2,     -999.0,9,   0.1191,2,   0.0715,2,   0.0282,2,   0.0208,2,   0.0125,2,   0.0056,2,   0.0026,2,   0.0161,2,   0.0171,2,     -999.0,9,  -999.0,9,     -999.0,     -999.0,9,     -999.0,20130923,       1230
33RO20130803,       A16N,     114,          1,          7,          7,2,20130923,       1133,     6.5006,   -26.7509,       4663,  2197.9,   3.3433,  34.9524,2,  34.9532,2,    242.4,2,   243.5,2,   23.90,2,   20.80,2,    0.00,2,    1.40,2,   0.060,2,   0.033,2,   0.020,2,  -999.0,9,  -999.0,9,  -999.0,9, -999.00,-999.0000,9,  -999.00, -999.00,9,  -999.0,9,  -999.0,   40.69,2,   23.26,2,     14.005,2,-999.0000,9,-999.0000,9,-999.0000,9,-999.0000,9,-999.0000,9,-999.0000,9,-999.0000,9,-999.0000,9,-999.0000,9,     -999.0,5,  -999.0,9,     -999.0,     -999.0,9,     -999.0,20130923,       1221
33RO20130803,       A16N,     114,          1,          6,          6,2,20130923,       1133,     6.5006,   -26.7509,       4663,  2596.7,   2.9089,  34.9303,2,  34.9317,2,    243.7,2,     244,2,   30.70,2,   21.30,2,    0.00,2,    1.44,2,-999.000,9,-999.000,9,-999.000,9,  2179.3,2,  2332.9,2,   752.5,2,      20,   7.7224,6,    25.00, -999.00,9,  -999.0,9,  -999.0,   40.84,2,   23.96,2,     -999.0,9,   0.1197,2,   0.0718,2,   0.0275,2,   0.0203,2,   0.0120,2,   0.0052,2,   0.0025,2,   0.0164,2,   0.0174,2,     -999.0,9,  -999.0,9,     -999.0,     -999.0,9,     -999.0,20130923,       1213
33RO20130803,       A16N,     114,          1,          5,          5,2,20130923,       1133,     6.5006,   -26.7509,       4663,  2996.0,   2.7154,  34.9171,2,  34.9196,2,    244.4,2,   244.5,2,   34.70,2,   21.50,2,    0.00,2,    1.46,2,   0.015,2,   0.011,2,   0.000,2,  -999.0,9,  -999.0,9,  -999.0,9, -999.00,-999.0000,9,  -999.00, -999.00,9,  -999.0,9,  -999.0,   40.73,2,   24.14,2,     13.831,2,-999.0000,9,-999.0000,9,-999.0000,9,-999.0000,9,-999.0000,9,-999.0000,9,-999.0000,9,-999.0000,9,-999.0000,9,     -999.0,5,  -999.0,9,     -999.0,     -999.0,9,     -999.0,20130923,       1205
33RO20130803,       A16N,     114,          1,          4,          4,2,20130923,       1133,     6.5006,   -26.7509,       4663,  3396.9,   2.5505,  34.9053,2,  34.9051,2,    247.4,2,   247.5,2,   37.20,6,   21.40,6,    0.00,6,    1.46,6,   0.038,2,   0.023,2,   0.024,2,  -999.0,9,  -999.0,9,  -999.0,9, -999.00,-999.0000,9,  -999.00, -999.00,9,  -999.0,9,  -999.0,   40.68,2,   24.08,2,     13.753,2,   0.1206,2,   0.0728,2,   0.0277,2,   0.0202,2,   0.0121,2,   0.0052,2,   0.0025,2,   0.0165,2,   0.0174,2,     -999.0,5,  -999.0,9,     -999.0,     -999.0,9,     -999.0,20130923,       1157
33RO20130803,       A16N,     114,          1,          3,          3,2,20130923,       1133,     6.5006,   -26.7509,       4663,  3796.4,   2.4040,  34.8931,2,  34.8956,2,    248.7,2,   248.7,2,   40.30,6,   21.50,6,    0.00,6,    1.47,6,-999.000,9,-999.000,9,-999.000,9,  2188.9,2,  2344.8,2,   757.4,2,      20,   7.7204,2,    25.00, -999.00,9,  -999.0,9,  -999.0,   40.89,2,   23.97,2,     -999.0,9,   0.1277,2,   0.0785,2,   0.0314,2,   0.0229,2,   0.0138,2,   0.0061,2,   0.0028,2,   0.0162,2,   0.0171,2,     -999.0,9,  -999.0,9,     -999.0,     -999.0,9,     -999.0,20130923,       1150
33RO20130803,       A16N,     114,          1,          2,          2,2,20130923,       1133,     6.5006,   -26.7509,       4663,  4324.7,   2.3461,  34.8841,2,  34.8849,2,    246.4,2,   246.5,2,   43.90,6,   22.00,6,    0.00,6,    1.50,6,   0.057,2,   0.032,2,   0.000,2,  -999.0,9,  -999.0,9,  -999.0,9, -999.00,-999.0000,9,  -999.00, -999.00,9,  -999.0,9,  -999.0,   40.79,2,   24.49,2,     13.904,2,   0.1258,2,   0.0768,2,   0.0305,2,   0.0213,2,   0.0127,2,   0.0054,2,   0.0024,2,   0.0163,2,   0.0172,2,     -999.0,5,  -999.0,9,     -999.0,     -999.0,9,     -999.0,20130923,       1140
33RO20130803,       A16N,     114,          1,          1,          1,2,20130923,       1133,     6.5006,   -26.7509,       4663,  4705.9,   2.3785,  34.8826,2,  34.8830,2,    245.8,2,   245.1,2,   44.60,6,   22.10,6,    0.00,6,    1.50,6,   0.049,2,   0.029,2,   0.000,2,  2197.9,6,  2353.0,2,   747.6,2,      20,   7.8176,3,    25.00, -999.00,9,  -999.0,9,  -999.0,   40.33,2,    24.6,2,     13.865,2,   0.1272,2,   0.0782,2,   0.0323,2,   0.0211,2,   0.0126,2,   0.0057,2,   0.0026,2,   0.0162,2,   0.0168,2,     -999.0,5,  -999.0,9,     -999.0,     -999.0,9,     -999.0,20130923,       1133