BOTTLE,20220815CCHSIOAMB
EXPOCODE,SECT_ID,STNNBR,CASTNO,SAMPNO,BTLNBR,BTLNBR_FLAG_W,DATE,TIME,LATITUDE,LONGITUDE,DEPTH,CTDPRS,CTDTMP,CTDSAL,CTDSAL_FLAG_W,SALNTY,SALNTY_FLAG_W,CTDOXY,CTDOXY_FLAG_W,OXYGEN,OXYGEN_FLAG_W,SILCAT,SILCAT_FLAG_W,NITRAT,NITRAT_FLAG_W,NITRIT,NITRIT_FLAG_W,PHSPHT,PHSPHT_FLAG_W,CFC-11,CFC-11_FLAG_W,CFC-12,CFC-12_FLAG_W,SF6,SF6_FLAG_W,TCARBN,TCARBN_FLAG_W,ALKALI,ALKALI_FLAG_W,PCO2,PCO2_FLAG_W,PCO2TMP,PH_SWS,PH_SWS_FLAG_W,PH_TMP,DELC13,DELC13_FLAG_W,DELC14,DELC14_FLAG_W,C14ERR,DOC,DOC_FLAG_W,TDN,TDN_FLAG_W,N2O,N2O_FLAG_W,CDOM325,CDOM325_FLAG_W,CDOM340,CDOM340_FLAG_W,CDOM380,CDOM380_FLAG_W,CDOM412,CDOM412_FLAG_W,CDOM443,CDOM443_FLAG_W,CDOM490,CDOM490_FLAG_W,CDOM555,CDOM555_FLAG_W,CDOMSL,CDOMSL_FLAG_W,CDOMSN,CDOMSN_FLAG_W,CCL4,CCL4_FLAG_W,14C-DOC,14C-DOC_FLAG_W,14C-DOCERR,13C-DOC,13C-DOC_FLAG_W,13C-DOCERR,BTL_DATE,BTL_TIME
,,,,,,,,,,,METERS,DBAR,ITS-90,PSS-78,,PSS-78,,UMOL/KG,,UMOL/KG,,UMOL/KG,,UMOL/KG,,UMOL/KG,,UMOL/KG,,PMOL/KG,,PMOL/KG,,FMOL/KG,,UMOL/KG,,UMOL/KG,,UATM,,DEG C,,,DEG C,/MILLE,,/MILLE,,/MILLE,UMOL/KG,,UMOL/KG,,NMOL/KG,,1/M,,1/M,,1/M,,1/M,,1/M,,1/M,,1/M,,1/NM,,1/NM,,PMOL/KG,,/MILLE,,/MILLE,/MILLE,,/MILLE,,
33RO20130803,       A16N,      59,          1,         24,         24,2,20130818,       1213,    35.9998,   -19.9994,       5370,     2.8,  22.6672,  36.4622,2,  36.4632,2,    217.5,2,   218.9,2,    0.10,2,    0.00,2,    0.00,2,    0.02,2,   1.953,2,   1.206,2,   1.420,2,  2096.3,6,  2392.8,2,   366.8,2,      20,   7.9952,2,    25.00, -999.00,9,  -999.0,9,  -999.0, -999.00,9, -999.00,9,      6.978,2,   0.0939,2,   0.0602,2,   0.0092,3,   0.0044,2,  -0.0024,4,   0.0012,3,  -0.0039,4,   0.0473,4,   0.0382,4,     -999.0,5,  -999.0,9,     -999.0,     -999.0,9,     -999.0,20130818,       1411
33RO20130803,       A16N,      59,          1,         23,         23,2,20130818,       1213,    35.9998,   -19.9994,       5370,    31.5,  20.1922,  36.4110,2,  36.4121,2,    237.8,2,     238,2,    0.00,2,    0.00,2,    0.00,2,    0.02,2,   2.214,2,   1.347,2,   1.545,2,  2092.1,2,  2386.2,2,   367.7,2,      20,   7.9938,6,    25.00, -999.00,9,  -999.0,9,  -999.0, -999.00,9, -999.00,9,      7.643,2,   0.1195,2,   0.0774,2,   0.0207,3,   0.0124,2,   0.0029,3,   0.0045,2,  -0.0020,4,   0.0318,3,   0.0320,3,     -999.0,5,  -999.0,9,     -999.0,     -999.0,9,     -999.0,20130818,       1409
33RO20130803,       A16N,      59,          1,         22,         22,2,20130818,       1213,    35.9998,   -19.9994,       5370,    62.1,  18.2296,  36.3413,2,  36.3351,2,    247.2,2,   246.1,2,    0.00,2,    0.10,2,    0.00,2,    0.02,2,   2.403,6,   1.446,6,   1.635,6,  2095.1,2,  2382.4,6,   378.5,2,      20,   7.9842,2,    25.00, -999.00,9,  -999.0,9,  -999.0, -999.00,9, -999.00,9,      8.111,6,   0.1941,2,   0.1359,2,   0.0530,2,   0.0359,2,   0.0194,2,   0.0148,2,   0.0031,2,   0.0227,2,   0.0240,2,     -999.0,5,  -999.0,9,     -999.0,     -999.0,9,     -999.0,20130818,       1407
33RO20130803,       A16N,      59,          1,         21,         21,2,20130818,       1213,    35.9998,   -19.9994,       5370,    82.1,  16.8162,  36.2405,2,  36.2420,2,    239.8,2,   238.9,2,    0.30,2,    0.10,2,    0.00,2,    0.04,2,   2.487,2,   1.487,2,   1.663,2,  2105.5,2,  2377.9,2,   405.6,2,      20,   7.9594,2,    25.00, -999.00,9,  -999.0,9,  -999.0, -999.00,9, -999.00,9,      8.615,2,   0.1909,2,   0.1387,2,   0.0543,2,   0.0363,2,   0.0163,2,   0.0101,3,   0.0004,4,   0.0224,2,   0.0229,2,     -999.0,5,  -999.0,9,     -999.0,     -999.0,9,     -999.0,20130818,       1406
33RO20130803,       A16N,      59,          1,         20,         20,2,20130818,       1213,    35.9998,   -19.9994,       5370,   111.2,  15.8489,  36.1459,2,  36.1518,2,    221.7,2,   221.8,2,    1.00,2,    2.60,2,    0.07,2,    0.18,2,   2.537,2,   1.515,2,   1.624,2,  2120.5,2,  2372.7,2,   449.1,2,      20,   7.9212,2,    25.00, -999.00,9,  -999.0,9,  -999.0, -999.00,9, -999.00,9,      9.131,2,   0.1225,2,   0.0833,2,   0.0276,2,   0.0210,2,   0.0052,3,   0.0038,2,  -0.0024,4,   0.0258,2,   0.0275,2,     -999.0,5,  -999.0,9,     -999.0,     -999.0,9,     -999.0,20130818,       1404
33RO20130803,       A16N,      59,          1,         19,         19,2,20130818,       1213,    35.9998,   -19.9994,       5370,   177.5,  14.7048,  36.0096,2,  36.0115,2,    210.6,2,   210.1,2,    2.10,2,    7.00,2,    0.01,2,    0.44,2,   2.633,2,   1.550,2,   1.533,2,  2135.4,2,  2360.5,2,   502.4,2,      20,   7.8761,2,    25.00, -999.00,9,  -999.0,9,  -999.0, -999.00,9, -999.00,9,     10.537,2,   0.0992,2,   0.0635,2,   0.0160,3,   0.0107,2,  -0.0021,4,  -0.0013,4,  -0.0053,4,   0.0329,3,   0.0333,3,     -999.0,5,  -999.0,9,     -999.0,     -999.0,9,     -999.0,20130818,       1401
33RO20130803,       A16N,      59,          1,         18,         18,2,20130818,       1213,    35.9998,   -19.9994,       5370,   261.4,  13.5278,  35.8348,2,  35.8426,2,    202.4,2,   203.2,2,    3.50,2,   10.40,2,    0.00,2,    0.63,2,   2.653,2,   1.535,2,   1.393,2,  2144.8,2,  2350.8,2,   552.9,2,      20,   7.8389,2,    25.00, -999.00,9,  -999.0,9,  -999.0, -999.00,9, -999.00,9,     11.864,2,   0.0976,2,   0.0617,2,   0.0148,3,   0.0087,2,  -0.0027,4,  -0.0014,4,  -0.0056,4,   0.0349,3,   0.0344,3,     -999.0,5,  -999.0,9,     -999.0,     -999.0,9,     -999.0,20130818,       1358
33RO20130803,       A16N,      59,          1,         17,         17,2,20130818,       1213,    35.9998,   -19.9994,       5370,   337.4,  12.9689,  35.7732,2,  35.7691,2,    207.0,2,   205.5,2,    3.80,2,   11.10,2,    0.00,2,    0.68,2,   2.730,2,   1.576,2,   1.367,2,  2149.2,2,  2351.2,2,   575.2,2,      20,   7.8236,2,    25.00, -999.00,9,  -999.0,9,  -999.0, -999.00,9, -999.00,9,     12.310,2,   0.0964,2,   0.0608,2,   0.0151,3,   0.0073,3,  -0.0043,4,  -0.0028,4,  -0.0064,4,   0.0352,3,   0.0341,3,     -999.0,5,  -999.0,9,     -999.0,     -999.0,9,     -999.0,20130818,       1355
33RO20130803,       A16N,      59,          1,         16,         16,2,20130818,       1213,    35.9998,   -19.9994,       5370,   449.9,  11.9697,  35.6389,2,  35.6376,2,    199.4,2,     198,2,    5.20,2,   13.70,2,    0.00,2,    0.85,2,   2.655,2,   1.500,2,   1.172,2,  2157.4,2,  2342.4,2,   623.9,2,      20,   7.7912,2,    25.00, -999.00,9,  -999.0,9,  -999.0, -999.00,9, -999.00,9,     13.528,2,   0.1108,2,   0.0713,2,   0.0219,2,   0.0163,2,   0.0036,3,   0.0024,3,  -0.0031,4,   0.0284,3,   0.0303,3,     -999.0,5,  -999.0,9,     -999.0,     -999.0,9,     -999.0,20130818,       1352
33RO20130803,       A16N,      59,          1,         15,         15,2,20130818,       1213,    35.9998,   -19.9994,       5370,   556.1,  11.2036,  35.5805,2,  35.5792,2,    190.5,2,   189.2,2,    6.70,2,   15.80,2,    0.00,2,    0.98,2,   2.476,2,   1.365,2,   0.952,2,  2168.2,2,  2341.3,2,  -999.0,5,      20,   7.7657,2,    25.00, -999.00,9,  -999.0,9,  -999.0, -999.00,9, -999.00,9,     14.642,2,   0.1132,2,   0.0721,2,   0.0215,2,   0.0143,2,   0.0026,3,   0.0017,3,  -0.0030,4,   0.0296,3,   0.0311,3,     -999.0,5,  -999.0,9,     -999.0,     -999.0,9,     -999.0,20130818,       1349
33RO20130803,       A16N,      59,          1,         14,         14,2,20130818,       1213,    35.9998,   -19.9994,       5370,   749.5,  10.0167,  35.5817,2,  35.5832,2,    178.9,2,   178.4,2,    9.70,2,   18.30,2,    0.00,2,    1.16,2,   1.876,2,   0.996,2,   0.569,2,  2185.0,6,  2309.1,4,   716.1,2,      20,   7.7401,2,    25.00, -999.00,9,  -999.0,9,  -999.0, -999.00,9, -999.00,9,     15.829,2,   0.1161,2,   0.0742,2,   0.0230,2,   0.0159,2,   0.0041,3,   0.0030,3,  -0.0023,4,   0.0285,2,   0.0304,2,     -999.0,5,  -999.0,9,     -999.0,     -999.0,9,     -999.0,20130818,       1345
33RO20130803,       A16N,      59,          1,         13,         13,2,20130818,       1213,    35.9998,   -19.9994,       5370,   906.9,   9.5279,  35.6937,2,  35.6994,2,    180.8,2,   181.1,2,   10.70,2,   18.40,2,    0.00,2,    1.16,2,   1.588,2,   0.835,2,   0.436,2,  2193.4,2,  2360.9,2,   710.8,2,      20,   7.7436,6,    25.00, -999.00,9,  -999.0,9,  -999.0, -999.00,9, -999.00,9,     15.551,2,   0.1036,2,   0.0651,2,   0.0188,3,   0.0114,2,   0.0005,4,   0.0006,3,  -0.0038,4,   0.0309,3,   0.0322,3,     -999.0,5,  -999.0,9,     -999.0,     -999.0,9,     -999.0,20130818,       1341
33RO20130803,       A16N,      59,          1,         12,         12,2,20130818,       1213,    35.9998,   -19.9994,       5370,  1020.9,   9.5952,  35.8270,2,  35.8287,2,    184.7,2,   184.7,2,   10.70,2,   17.80,2,    0.00,2,    1.12,2,   1.556,2,   0.828,2,   0.416,2,  2197.4,2,  2370.7,6,   693.8,2,      20,   7.7564,2,    25.00, -999.00,9,  -999.0,9,  -999.0, -999.00,9, -999.00,9,     15.037,2,   0.1141,2,   0.0726,2,   0.0208,2,   0.0135,2,   0.0019,3,   0.0016,3,  -0.0035,4,   0.0305,3,   0.0317,3,     -999.0,5,  -999.0,9,     -999.0,     -999.0,9,     -999.0,20130818,       1338
33RO20130803,       A16N,      59,          1,         11,         11,2,20130818,       1213,    35.9998,   -19.9994,       5370,  1164.4,   9.5807,  35.9263,2,  35.9333,2,    189.3,2,   189.1,2,   10.70,2,   17.00,2,    0.00,2,    1.07,2,   1.566,2,   0.832,2,   0.428,2,  2201.5,2,  2379.8,2,   680.2,2,      20,   7.7640,2,    25.00, -999.00,9,  -999.0,9,  -999.0, -999.00,9, -999.00,9,     14.546,2,   0.1049,2,   0.0675,2,   0.0232,2,   0.0124,2,   0.0007,3,   0.0007,3,  -0.0038,4,   0.0278,3,   0.0290,3,     -999.0,5,  -999.0,9,     -999.0,     -999.0,9,     -999.0,20130818,       1334
33RO20130803,       A16N,      59,          1,         10,         10,2,20130818,       1213,    35.9998,   -19.9994,       5370,  1545.7,   5.6402,  35.2767,2,  35.2768,2,    233.0,2,     234,2,   13.00,2,   18.00,2,    0.00,2,    1.18,2,   1.730,2,   0.859,2,   0.295,2,  2178.1,2,  2334.2,2,   731.9,2,      20,   7.7355,2,    25.00, -999.00,9,  -999.0,9,  -999.0, -999.00,9, -999.00,9,     13.993,2,   0.1127,2,   0.0716,2,   0.0207,2,   0.0133,2,   0.0017,3,   0.0014,3,  -0.0034,4,   0.0304,3,   0.0316,3,     -999.0,5,  -999.0,9,     -999.0,     -999.0,9,     -999.0,20130818,       1327
33RO20130803,       A16N,      59,          1,          9,          9,2,20130818,       1213,    35.9998,   -19.9994,       5370,  1800.7,   4.5292,  35.1180,2,  35.1183,2,    248.6,2,   248.5,2,   14.40,2,   18.10,2,    0.00,2,    1.20,2,   1.516,2,   0.743,2,   0.232,2,  2169.9,2,  2323.8,2,   733.9,2,      20,   7.7297,2,    25.00, -999.00,9,  -999.0,9,  -999.0, -999.00,9, -999.00,9,     13.607,2,   0.1121,2,   0.0709,2,   0.0202,2,   0.0126,2,   0.0010,3,   0.0007,3,  -0.0040,4,   0.0308,3,   0.0320,3,     -999.0,5,  -999.0,9,     -999.0,     -999.0,9,     -999.0,20130818,       1321
33RO20130803,       A16N,      59,          1,          8,          8,2,20130818,       1213,    35.9998,   -19.9994,       5370,  2080.4,   3.7684,  35.0171,2,  35.0171,2,    256.5,2,   256.9,2,   17.10,2,   18.30,2,    0.00,2,    1.22,2,   1.242,2,   0.603,2,   0.136,2,  2167.9,2,  2319.1,2,   735.2,2,      20,   7.7250,2,    25.00, -999.00,9,  -999.0,9,  -999.0, -999.00,9, -999.00,9,     13.349,2,   0.1177,2,   0.0760,2,   0.0244,2,   0.0142,2,   0.0020,3,   0.0012,3,  -0.0039,4,   0.0285,2,   0.0297,2,     -999.0,5,  -999.0,9,     -999.0,     -999.0,9,     -999.0,20130818,       1315
33RO20130803,       A16N,      59,          1,          7,          7,2,20130818,       1213,    35.9998,   -19.9994,       5370,  2595.5,   3.1386,  34.9709,2,  34.9703,2,    252.0,2,   251.5,2,   26.10,2,   19.50,2,    0.00,2,    1.32,2,   0.387,2,   0.196,2,   0.040,2,  2175.9,2,  2329.8,2,   737.0,2,      20,   7.7291,2,    25.00, -999.00,9,  -999.0,9,  -999.0, -999.00,9, -999.00,9,     13.241,2,   0.1150,2,   0.0726,2,   0.0205,2,   0.0121,2,   0.0004,4,   0.0002,4,  -0.0045,4,   0.0313,3,   0.0322,3,     -999.0,5,  -999.0,9,     -999.0,     -999.0,9,     -999.0,20130818,       1306
33RO20130803,       A16N,      59,          1,          6,          6,2,20130818,       1213,    35.9998,   -19.9994,       5370,  3110.4,   2.7699,  34.9386,2,  34.9379,2,    248.5,2,   247.9,2,   33.80,2,   20.50,2,    0.00,2,    1.39,2,   0.217,2,   0.110,2,   0.023,2,  2186.3,2,  2340.0,2,   744.3,2,      20,   7.7269,2,    25.00, -999.00,9,  -999.0,9,  -999.0, -999.00,9, -999.00,9,     13.342,2,   0.1129,2,   0.0719,2,   0.0218,2,   0.0131,2,   0.0014,3,   0.0011,3,  -0.0039,4,   0.0297,3,   0.0310,3,     -999.0,5,  -999.0,9,     -999.0,     -999.0,9,     -999.0,20130818,       1256
33RO20130803,       A16N,      59,          1,          5,          5,2,20130818,       1213,    35.9998,   -19.9994,       5370,  3500.3,   2.6266,  34.9236,2,  34.9227,2,    245.8,2,   244.8,2,   38.80,2,   21.30,2,    0.00,2,    1.45,2,   0.085,2,   0.046,2,   0.014,2,  2189.8,2,  2347.3,2,   745.9,2,      20,   7.7263,2,    25.00, -999.00,9,  -999.0,9,  -999.0, -999.00,9, -999.00,9,     13.491,2,   0.1093,2,   0.0687,2,   0.0199,3,   0.0110,2,  -0.0003,4,  -0.0001,4,  -0.0048,4,   0.0312,3,   0.0321,3,     -999.0,5,  -999.0,9,     -999.0,     -999.0,9,     -999.0,20130818,       1249
33RO20130803,       A16N,      59,          1,          4,          4,2,20130818,       1213,    35.9998,   -19.9994,       5370,  4013.4,   2.5088,  34.9074,2,  34.9068,2,    244.0,2,   244.5,2,   43.00,6,   21.90,6,    0.00,6,    1.49,6,   0.016,2,   0.010,2,   0.000,2,  2195.2,2,  2351.9,2,   747.6,2,      20,   7.7268,2,    25.00, -999.00,9,  -999.0,9,  -999.0, -999.00,9, -999.00,9,     13.572,2,-999.0000,5,-999.0000,5,-999.0000,5,-999.0000,5,-999.0000,5,-999.0000,5,-999.0000,5,-999.0000,5,-999.0000,5,     -999.0,5,  -999.0,9,     -999.0,     -999.0,9,     -999.0,20130818,       1239
33RO20130803,       A16N,      59,          1,          3,          3,2,20130818,       1213,    35.9998,   -19.9994,       5370,  4538.8,   2.4389,  34.8943,2,  34.8944,2,    243.8,2,   244.5,2,   46.00,6,   22.30,6,    0.00,6,    1.51,6,   0.004,2,   0.005,2,   0.024,2,  2198.4,2,  2354.4,2,   750.0,2,      20,   7.7266,2,    25.00, -999.00,9,  -999.0,9,  -999.0, -999.00,9, -999.00,9,     13.697,2,-999.0000,5,-999.0000,5,-999.0000,5,-999.0000,5,-999.0000,5,-999.0000,5,-999.0000,5,-999.0000,5,-999.0000,5,     -999.0,5,  -999.0,9,     -999.0,     -999.0,9,     -999.0,20130818,       1230
33RO20130803,       A16N,      59,          1,          2,          2,2,20130818,       1213,    35.9998,   -19.9994,       5370,  5060.0,   2.4669,  34.8899,2,  34.8901,2,    242.3,2,   244.4,2,   47.00,6,   22.30,6,    0.00,6,    1.52,6,   0.003,6,   0.006,6,   0.011,6,  2200.1,2,  2356.8,6,   749.9,2,      20,   7.7284,2,    25.00, -999.00,9,  -999.0,9,  -999.0, -999.00,9, -999.00,9,     13.755,6,-999.0000,5,-999.0000,5,-999.0000,5,-999.0000,5,-999.0000,5,-999.0000,5,-999.0000,5,-999.0000,5,-999.0000,5,     -999.0,5,  -999.0,9,     -999.0,     -999.0,9,     -999.0,20130818,       1220
33RO20130803,       A16N,      59,          1,          1,          1,2,20130818,       1213,    35.9998,   -19.9994,       5370,  5443.1,   2.5164,  34.8893,2,  34.8896,2,    243.8,2,   243.6,2,   47.10,6,   22.30,6,    0.00,6,    1.52,6,   0.003,2,   0.007,2,   0.023,2,  2200.9,6,  2360.1,2,   745.6,2,      20,   7.7282,2,    25.00, -999.00,9,  -999.0,9,  -999.0, -999.00,9, -999.00,9,     13.777,2,-999.0000,5,-999.0000,5,-999.0000,5,-999.0000,5,-999.0000,5,-999.0000,5,-999.0000,5,-999.0000,5,-999.0000,5,     -999.0,5,  -999.0,9,     -999.0,     -999.0,9,     -999.0,20130818,       1213