BOTTLE,20220815CCHSIOAMB
EXPOCODE,SECT_ID,STNNBR,CASTNO,SAMPNO,BTLNBR,BTLNBR_FLAG_W,DATE,TIME,LATITUDE,LONGITUDE,DEPTH,CTDPRS,CTDTMP,CTDSAL,CTDSAL_FLAG_W,SALNTY,SALNTY_FLAG_W,CTDOXY,CTDOXY_FLAG_W,OXYGEN,OXYGEN_FLAG_W,SILCAT,SILCAT_FLAG_W,NITRAT,NITRAT_FLAG_W,NITRIT,NITRIT_FLAG_W,PHSPHT,PHSPHT_FLAG_W,CFC-11,CFC-11_FLAG_W,CFC-12,CFC-12_FLAG_W,SF6,SF6_FLAG_W,TCARBN,TCARBN_FLAG_W,ALKALI,ALKALI_FLAG_W,PCO2,PCO2_FLAG_W,PCO2TMP,PH_SWS,PH_SWS_FLAG_W,PH_TMP,DELC13,DELC13_FLAG_W,DELC14,DELC14_FLAG_W,C14ERR,DOC,DOC_FLAG_W,TDN,TDN_FLAG_W,N2O,N2O_FLAG_W,CDOM325,CDOM325_FLAG_W,CDOM340,CDOM340_FLAG_W,CDOM380,CDOM380_FLAG_W,CDOM412,CDOM412_FLAG_W,CDOM443,CDOM443_FLAG_W,CDOM490,CDOM490_FLAG_W,CDOM555,CDOM555_FLAG_W,CDOMSL,CDOMSL_FLAG_W,CDOMSN,CDOMSN_FLAG_W,CCL4,CCL4_FLAG_W,14C-DOC,14C-DOC_FLAG_W,14C-DOCERR,13C-DOC,13C-DOC_FLAG_W,13C-DOCERR,BTL_DATE,BTL_TIME
,,,,,,,,,,,METERS,DBAR,ITS-90,PSS-78,,PSS-78,,UMOL/KG,,UMOL/KG,,UMOL/KG,,UMOL/KG,,UMOL/KG,,UMOL/KG,,PMOL/KG,,PMOL/KG,,FMOL/KG,,UMOL/KG,,UMOL/KG,,UATM,,DEG C,,,DEG C,/MILLE,,/MILLE,,/MILLE,UMOL/KG,,UMOL/KG,,NMOL/KG,,1/M,,1/M,,1/M,,1/M,,1/M,,1/M,,1/M,,1/NM,,1/NM,,PMOL/KG,,/MILLE,,/MILLE,/MILLE,,/MILLE,,
33RO20130803,       A16N,     120,          1,         24,         24,2,20130925,       0656,     3.5002,   -25.2505,       4139,     3.7,  27.7313,  35.5926,2,  35.5925,2,    197.9,2,   197.6,2,    0.90,2,    0.10,2,    0.00,2,    0.00,2,   1.507,2,   0.965,2,   1.112,2,  1987.3,6,  2329.0,2,  -999.0,9, -999.00,   8.1045,2,    25.00, -999.00,9,  -999.0,9,  -999.0,   70.25,2,    3.89,2,      5.908,2,-999.0000,9,-999.0000,9,-999.0000,9,-999.0000,9,-999.0000,9,-999.0000,9,-999.0000,9,-999.0000,9,-999.0000,9,     -999.0,5,  -999.0,9,     -999.0,     -999.0,9,     -999.0,20130925,       0845
33RO20130803,       A16N,     120,          1,         23,         23,2,20130925,       0656,     3.5002,   -25.2505,       4139,    13.1,  27.7396,  35.5912,2,  35.5907,2,    198.2,2,   197.9,2,    0.90,2,    0.10,2,    0.00,2,    0.00,2,-999.000,9,-999.000,9,-999.000,9,  1986.4,2,  2331.7,6,  -999.0,9, -999.00,   8.1032,2,    25.00, -999.00,9,  -999.0,9,  -999.0,   68.68,2,    3.84,2,     -999.0,9,-999.0000,9,-999.0000,9,-999.0000,9,-999.0000,9,-999.0000,9,-999.0000,9,-999.0000,9,-999.0000,9,-999.0000,9,     -999.0,9,  -999.0,9,     -999.0,     -999.0,9,     -999.0,20130925,       0843
33RO20130803,       A16N,     120,          1,         22,         22,2,20130925,       0656,     3.5002,   -25.2505,       4139,    32.7,  27.7424,  35.5978,2,  35.6029,2,    198.7,2,   197.8,2,    0.90,2,    0.10,2,    0.00,2,    0.01,2,   1.504,2,   0.960,2,   1.172,2,  1987.5,2,  2329.5,2,  -999.0,9, -999.00,   8.1580,3,    25.00, -999.00,9,  -999.0,9,  -999.0,   67.49,2,    4.22,2,      5.973,2,-999.0000,9,-999.0000,9,-999.0000,9,-999.0000,9,-999.0000,9,-999.0000,9,-999.0000,9,-999.0000,9,-999.0000,9,     -999.0,5,  -999.0,9,     -999.0,     -999.0,9,     -999.0,20130925,       0841
33RO20130803,       A16N,     120,          1,         21,         21,2,20130925,       0656,     3.5002,   -25.2505,       4139,    62.5,  27.5434,  35.7719,2,  35.7818,2,    198.0,2,   196.3,2,    1.00,2,    0.10,2,    0.00,2,    0.02,2,-999.000,9,-999.000,9,-999.000,9,  2001.5,2,  2343.4,2,  -999.0,9, -999.00,   8.0934,2,    25.00, -999.00,9,  -999.0,9,  -999.0,   63.85,2,    4.21,2,     -999.0,9,-999.0000,9,-999.0000,9,-999.0000,9,-999.0000,9,-999.0000,9,-999.0000,9,-999.0000,9,-999.0000,9,-999.0000,9,     -999.0,9,  -999.0,9,     -999.0,     -999.0,9,     -999.0,20130925,       0839
33RO20130803,       A16N,     120,          1,         20,         20,2,20130925,       0656,     3.5002,   -25.2505,       4139,    87.9,  24.2028,  36.0075,2,  36.0018,2,    165.7,2,   167.5,2,    2.00,2,    1.20,2,    0.10,2,    0.14,2,-999.000,9,-999.000,9,-999.000,9,  2084.6,2,  2360.6,2,  -999.0,9, -999.00,   7.9821,2,    25.00, -999.00,9,  -999.0,9,  -999.0,   58.27,2,       5,2,     -999.0,9,-999.0000,9,-999.0000,9,-999.0000,9,-999.0000,9,-999.0000,9,-999.0000,9,-999.0000,9,-999.0000,9,-999.0000,9,     -999.0,9,  -999.0,9,     -999.0,     -999.0,9,     -999.0,20130925,       0837
33RO20130803,       A16N,     120,          1,         19,         19,2,20130925,       0656,     3.5002,   -25.2505,       4139,   112.6,  16.3617,  35.6555,2,  35.6551,2,     95.9,2,      96,2,    5.60,2,   19.40,2,    0.03,2,    1.27,2,   2.178,6,   1.253,6,   0.838,6,  2193.2,2,  2339.3,2,  -999.0,9, -999.00,   7.7573,3,    25.00, -999.00,9,  -999.0,9,  -999.0,    57.3,2,   22.31,2,     24.764,6,-999.0000,9,-999.0000,9,-999.0000,9,-999.0000,9,-999.0000,9,-999.0000,9,-999.0000,9,-999.0000,9,-999.0000,9,     -999.0,5,  -999.0,9,     -999.0,     -999.0,9,     -999.0,20130925,       0834
33RO20130803,       A16N,     120,          1,         18,         18,2,20130925,       0656,     3.5002,   -25.2505,       4139,   138.1,  15.6205,  35.6037,2,  35.6026,2,     90.5,2,    89.6,2,    6.40,2,   21.20,2,    0.01,2,    1.38,2,-999.000,9,-999.000,9,-999.000,9,  -999.0,9,  -999.0,9,  -999.0,9, -999.00,-999.0000,9,  -999.00, -999.00,9,  -999.0,9,  -999.0,   52.32,2,   23.86,2,     -999.0,9,-999.0000,9,-999.0000,9,-999.0000,9,-999.0000,9,-999.0000,9,-999.0000,9,-999.0000,9,-999.0000,9,-999.0000,9,     -999.0,9,  -999.0,9,     -999.0,     -999.0,9,     -999.0,20130925,       0833
33RO20130803,       A16N,     120,          1,         17,         17,2,20130925,       0656,     3.5002,   -25.2505,       4139,   187.8,  14.7475,  35.5008,2,  35.4948,2,     91.7,2,    92.1,2,    7.20,2,   22.10,2,    0.01,2,    1.43,2,   2.162,2,   1.214,2,   0.699,2,  2200.8,2,  2329.4,2,  -999.0,9, -999.00,   7.6740,2,    25.00, -999.00,9,  -999.0,9,  -999.0,   48.03,2,   24.83,2,     26.559,2,-999.0000,9,-999.0000,9,-999.0000,9,-999.0000,9,-999.0000,9,-999.0000,9,-999.0000,9,-999.0000,9,-999.0000,9,     -999.0,5,  -999.0,9,     -999.0,     -999.0,9,     -999.0,20130925,       0830
33RO20130803,       A16N,     120,          1,         16,         16,2,20130925,       0656,     3.5002,   -25.2505,       4139,   247.7,  13.5476,  35.3490,2,  35.3460,2,    103.4,2,   101.7,2,    8.00,2,   22.60,2,    0.00,2,    1.46,2,   2.116,2,   1.166,2,   0.645,2,  -999.0,9,  -999.0,9,  -999.0,9, -999.00,-999.0000,9,  -999.00, -999.00,9,  -999.0,9,  -999.0,   46.86,2,   25.08,2,     27.476,2,-999.0000,9,-999.0000,9,-999.0000,9,-999.0000,9,-999.0000,9,-999.0000,9,-999.0000,9,-999.0000,9,-999.0000,9,     -999.0,5,  -999.0,9,     -999.0,     -999.0,9,     -999.0,20130925,       0827
33RO20130803,       A16N,     120,          1,         15,         15,2,20130925,       0656,     3.5002,   -25.2505,       4139,   297.9,  11.6079,  35.1206,2,  35.1161,2,     99.2,2,    99.7,2,   10.50,2,   26.30,2,    0.00,2,    1.67,2,   1.849,2,   0.988,2,   0.469,2,  2207.6,2,  2315.1,2,  -999.0,9, -999.00,   7.6139,6,    25.00, -999.00,9,  -999.0,9,  -999.0,    45.8,2,   28.81,2,     30.977,2,-999.0000,9,-999.0000,9,-999.0000,9,-999.0000,9,-999.0000,9,-999.0000,9,-999.0000,9,-999.0000,9,-999.0000,9,     -999.0,5,  -999.0,9,     -999.0,     -999.0,9,     -999.0,20130925,       0824
33RO20130803,       A16N,     120,          1,         14,         14,2,20130925,       0656,     3.5002,   -25.2505,       4139,   348.6,  10.1983,  34.9698,2,  34.9687,2,     75.2,2,    76.9,2,   13.50,2,   31.40,2,    0.00,2,    1.96,2,   1.388,2,   0.722,2,   0.266,2,  2228.4,2,  2304.8,6,  -999.0,9, -999.00,   7.5342,2,    25.00, -999.00,9,  -999.0,9,  -999.0,   45.06,2,   34.01,2,     36.457,2,-999.0000,9,-999.0000,9,-999.0000,9,-999.0000,9,-999.0000,9,-999.0000,9,-999.0000,9,-999.0000,9,-999.0000,9,     -999.0,5,  -999.0,9,     -999.0,     -999.0,9,     -999.0,20130925,       0821
33RO20130803,       A16N,     120,          1,         13,         13,2,20130925,       0656,     3.5002,   -25.2505,       4139,   457.8,   8.0578,  34.7461,2,  34.7389,2,     97.2,2,    99.3,2,   17.80,2,   33.70,2,    0.00,2,    2.14,2,   0.922,2,   0.475,2,   0.142,2,  2225.2,6,  2301.1,2,  -999.0,9, -999.00,   7.4813,4,    25.00, -999.00,9,  -999.0,9,  -999.0,   44.39,2,   36.21,2,     31.159,2,-999.0000,9,-999.0000,9,-999.0000,9,-999.0000,9,-999.0000,9,-999.0000,9,-999.0000,9,-999.0000,9,-999.0000,9,     -999.0,5,  -999.0,9,     -999.0,     -999.0,9,     -999.0,20130925,       0818
33RO20130803,       A16N,     120,          1,         12,         12,2,20130925,       0656,     3.5002,   -25.2505,       4139,   537.5,   7.0551,  34.6561,2,  34.6551,2,    111.8,2,   112.2,2,   20.40,2,   34.20,2,    0.00,2,    2.20,2,-999.000,9,-999.000,9,-999.000,9,  2225.0,2,  2298.2,2,  -999.0,9, -999.00,   7.5254,2,    25.00, -999.00,9,  -999.0,9,  -999.0,   43.55,2,   36.81,2,     -999.0,9,-999.0000,9,-999.0000,9,-999.0000,9,-999.0000,9,-999.0000,9,-999.0000,9,-999.0000,9,-999.0000,9,-999.0000,9,     -999.0,9,  -999.0,9,     -999.0,     -999.0,9,     -999.0,20130925,       0814
33RO20130803,       A16N,     120,          1,         11,         11,2,20130925,       0656,     3.5002,   -25.2505,       4139,   721.9,   5.3974,  34.5485,2,  34.5470,2,    132.2,2,   131.8,2,   26.70,6,   35.10,6,    0.00,6,    2.34,6,   0.304,2,   0.159,2,   0.061,2,  2224.9,2,  2301.7,2,  -999.0,9, -999.00,   7.5277,2,    25.00, -999.00,9,  -999.0,9,  -999.0,   43.03,2,   37.52,2,     25.604,2,-999.0000,9,-999.0000,9,-999.0000,9,-999.0000,9,-999.0000,9,-999.0000,9,-999.0000,9,-999.0000,9,-999.0000,9,     -999.0,5,  -999.0,9,     -999.0,     -999.0,9,     -999.0,20130925,       0809
33RO20130803,       A16N,     120,          1,         10,         10,2,20130925,       0656,     3.5002,   -25.2505,       4139,   872.9,   4.8040,  34.5809,2,  34.5820,2,    144.3,2,   143.5,2,   29.50,6,   34.30,6,    0.00,6,    2.31,6,-999.000,9,-999.000,9,-999.000,9,  -999.0,9,  -999.0,9,  -999.0,9, -999.00,-999.0000,9,  -999.00, -999.00,9,  -999.0,9,  -999.0,   42.25,2,   36.77,2,     -999.0,9,-999.0000,9,-999.0000,9,-999.0000,9,-999.0000,9,-999.0000,9,-999.0000,9,-999.0000,9,-999.0000,9,-999.0000,9,     -999.0,9,  -999.0,9,     -999.0,     -999.0,9,     -999.0,20130925,       0805
33RO20130803,       A16N,     120,          1,          9,          9,2,20130925,       0656,     3.5002,   -25.2505,       4139,  1022.3,   4.6710,  34.6838,2,  34.6826,2,    155.7,2,   156.5,2,   28.30,6,   32.10,6,    0.00,6,    2.16,6,   0.064,2,   0.038,2,   0.000,2,  2217.6,2,  2328.1,4,  -999.0,9, -999.00,   7.5334,3,    25.00, -999.00,9,  -999.0,9,  -999.0,   41.74,2,   34.78,2,     22.238,2,-999.0000,9,-999.0000,9,-999.0000,9,-999.0000,9,-999.0000,9,-999.0000,9,-999.0000,9,-999.0000,9,-999.0000,9,     -999.0,5,  -999.0,9,     -999.0,     -999.0,9,     -999.0,20130925,       0800
33RO20130803,       A16N,     120,          1,          8,          8,2,20130925,       0656,     3.5002,   -25.2505,       4139,  1172.9,   4.6015,  34.7818,2,  34.7803,2,    169.4,2,   168.5,2,   26.00,6,   29.70,6,    0.00,6,    1.99,6,-999.000,9,-999.000,9,-999.000,9,  -999.0,9,  -999.0,9,  -999.0,9, -999.00,-999.0000,9,  -999.00, -999.00,9,  -999.0,9,  -999.0,   41.58,2,   32.18,2,     -999.0,9,-999.0000,9,-999.0000,9,-999.0000,9,-999.0000,9,-999.0000,9,-999.0000,9,-999.0000,9,-999.0000,9,-999.0000,9,     -999.0,9,  -999.0,9,     -999.0,     -999.0,9,     -999.0,20130925,       0757
33RO20130803,       A16N,     120,          1,          7,          7,2,20130925,       0656,     3.5002,   -25.2505,       4139,  1397.9,   4.3876,  34.9155,2,  34.9160,2,    205.0,2,   203.8,2,   21.20,6,   24.50,6,    0.00,6,    1.64,6,-999.000,9,-999.000,9,-999.000,9,  -999.0,9,  -999.0,9,  -999.0,9, -999.00,-999.0000,9,  -999.00, -999.00,9,  -999.0,9,  -999.0,   40.75,2,   27.08,2,     -999.0,9,-999.0000,9,-999.0000,9,-999.0000,9,-999.0000,9,-999.0000,9,-999.0000,9,-999.0000,9,-999.0000,9,-999.0000,9,     -999.0,9,  -999.0,9,     -999.0,     -999.0,9,     -999.0,20130925,       0752
33RO20130803,       A16N,     120,          1,          6,          6,2,20130925,       0656,     3.5002,   -25.2505,       4139,  1748.1,   3.9127,  34.9726,2,  34.9755,2,    240.3,2,   240.3,2,   18.00,2,   20.40,2,    0.00,2,    1.34,2,   0.303,2,   0.157,2,   0.072,2,  2170.4,2,  2315.3,2,  -999.0,9, -999.00,   7.7188,2,    25.00, -999.00,9,  -999.0,9,  -999.0,   40.33,2,   22.97,2,     14.205,2,-999.0000,9,-999.0000,9,-999.0000,9,-999.0000,9,-999.0000,9,-999.0000,9,-999.0000,9,-999.0000,9,-999.0000,9,     -999.0,5,  -999.0,9,     -999.0,     -999.0,9,     -999.0,20130925,       0744
33RO20130803,       A16N,     120,          1,          5,          5,2,20130925,       0656,     3.5002,   -25.2505,       4139,  2097.3,   3.4950,  34.9612,2,  34.9629,2,    246.4,2,   246.3,2,   21.10,2,   20.10,2,    0.00,2,    1.33,2,-999.000,9,-999.000,9,-999.000,9,  2170.3,2,  2318.5,2,  -999.0,9, -999.00,   7.7597,4,    25.00, -999.00,9,  -999.0,9,  -999.0,   40.25,2,   22.64,2,     -999.0,9,-999.0000,9,-999.0000,9,-999.0000,9,-999.0000,9,-999.0000,9,-999.0000,9,-999.0000,9,-999.0000,9,-999.0000,9,     -999.0,9,  -999.0,9,     -999.0,     -999.0,9,     -999.0,20130925,       0737
33RO20130803,       A16N,     120,          1,          4,          4,2,20130925,       0656,     3.5002,   -25.2505,       4139,  2548.5,   3.0589,  34.9381,2,  34.9379,2,    245.5,2,   245.1,2,   28.20,2,   20.80,2,    0.00,2,    1.38,2,   0.045,2,   0.025,2,   0.000,2,  2177.4,2,  2327.3,2,  -999.0,9, -999.00,   7.6863,4,    25.00, -999.00,9,  -999.0,9,  -999.0,   40.39,2,    23.4,2,     13.663,2,-999.0000,9,-999.0000,9,-999.0000,9,-999.0000,9,-999.0000,9,-999.0000,9,-999.0000,9,-999.0000,9,-999.0000,9,     -999.0,5,  -999.0,9,     -999.0,     -999.0,9,     -999.0,20130925,       0728
33RO20130803,       A16N,     120,          1,          3,          3,2,20130925,       0656,     3.5002,   -25.2505,       4139,  3046.7,   2.6206,  34.9102,2,  34.9111,2,    242.6,2,   243.2,2,   37.10,2,   21.60,2,    0.00,2,    1.45,2,-999.000,9,-999.000,9,-999.000,9,  2187.8,2,  2337.4,2,  -999.0,9, -999.00,   7.7195,6,    25.00, -999.00,9,  -999.0,9,  -999.0,   40.52,2,   24.19,2,     -999.0,9,-999.0000,9,-999.0000,9,-999.0000,9,-999.0000,9,-999.0000,9,-999.0000,9,-999.0000,9,-999.0000,9,-999.0000,9,     -999.0,9,  -999.0,9,     -999.0,     -999.0,9,     -999.0,20130925,       0718
33RO20130803,       A16N,     120,          1,          2,          2,2,20130925,       0656,     3.5002,   -25.2505,       4139,  3547.1,   2.4711,  34.8984,2,  34.8983,2,    245.6,2,   245.5,2,   39.60,2,   21.50,2,    0.00,2,    1.44,2,-999.000,5,-999.000,5,-999.000,5,  -999.0,9,  -999.0,9,  -999.0,9, -999.00,-999.0000,9,  -999.00, -999.00,9,  -999.0,9,  -999.0,   40.41,2,   23.96,2,     -999.0,5,-999.0000,9,-999.0000,9,-999.0000,9,-999.0000,9,-999.0000,9,-999.0000,9,-999.0000,9,-999.0000,9,-999.0000,9,     -999.0,5,  -999.0,9,     -999.0,     -999.0,9,     -999.0,20130925,       0709
33RO20130803,       A16N,     120,          1,          1,          1,2,20130925,       0656,     3.5002,   -25.2505,       4139,  4186.4,   2.3063,  34.8793,2,  34.8791,2,    242.5,2,   242.8,2,   46.40,2,   22.40,2,    0.00,2,    1.50,2,   0.043,2,   0.027,2,   0.000,2,  2202.6,6,  2348.7,2,  -999.0,9, -999.00,   7.7143,2,    25.00, -999.00,9,  -999.0,9,  -999.0, -999.00,9, -999.00,9,     13.822,2,-999.0000,9,-999.0000,9,-999.0000,9,-999.0000,9,-999.0000,9,-999.0000,9,-999.0000,9,-999.0000,9,-999.0000,9,     -999.0,5,  -999.0,9,     -999.0,     -999.0,9,     -999.0,20130925,       0656