BOTTLE,20220815CCHSIOAMB
EXPOCODE,SECT_ID,STNNBR,CASTNO,SAMPNO,BTLNBR,BTLNBR_FLAG_W,DATE,TIME,LATITUDE,LONGITUDE,DEPTH,CTDPRS,CTDTMP,CTDSAL,CTDSAL_FLAG_W,SALNTY,SALNTY_FLAG_W,CTDOXY,CTDOXY_FLAG_W,OXYGEN,OXYGEN_FLAG_W,SILCAT,SILCAT_FLAG_W,NITRAT,NITRAT_FLAG_W,NITRIT,NITRIT_FLAG_W,PHSPHT,PHSPHT_FLAG_W,CFC-11,CFC-11_FLAG_W,CFC-12,CFC-12_FLAG_W,SF6,SF6_FLAG_W,TCARBN,TCARBN_FLAG_W,ALKALI,ALKALI_FLAG_W,PCO2,PCO2_FLAG_W,PCO2TMP,PH_SWS,PH_SWS_FLAG_W,PH_TMP,DELC13,DELC13_FLAG_W,DELC14,DELC14_FLAG_W,C14ERR,DOC,DOC_FLAG_W,TDN,TDN_FLAG_W,N2O,N2O_FLAG_W,CDOM325,CDOM325_FLAG_W,CDOM340,CDOM340_FLAG_W,CDOM380,CDOM380_FLAG_W,CDOM412,CDOM412_FLAG_W,CDOM443,CDOM443_FLAG_W,CDOM490,CDOM490_FLAG_W,CDOM555,CDOM555_FLAG_W,CDOMSL,CDOMSL_FLAG_W,CDOMSN,CDOMSN_FLAG_W,CCL4,CCL4_FLAG_W,14C-DOC,14C-DOC_FLAG_W,14C-DOCERR,13C-DOC,13C-DOC_FLAG_W,13C-DOCERR,BTL_DATE,BTL_TIME
,,,,,,,,,,,METERS,DBAR,ITS-90,PSS-78,,PSS-78,,UMOL/KG,,UMOL/KG,,UMOL/KG,,UMOL/KG,,UMOL/KG,,UMOL/KG,,PMOL/KG,,PMOL/KG,,FMOL/KG,,UMOL/KG,,UMOL/KG,,UATM,,DEG C,,,DEG C,/MILLE,,/MILLE,,/MILLE,UMOL/KG,,UMOL/KG,,NMOL/KG,,1/M,,1/M,,1/M,,1/M,,1/M,,1/M,,1/M,,1/NM,,1/NM,,PMOL/KG,,/MILLE,,/MILLE,/MILLE,,/MILLE,,
33RO20130803,       A16N,     135,          1,         24,         24,2,20130928,       1859,    -1.6654,   -24.9996,       4951,     3.7,  25.6990,  36.1205,2,  36.1215,2,    203.6,2,   203.9,2,    1.10,2,    0.00,2,    0.01,2,    0.10,2,   1.684,2,   1.040,2,   1.172,2,  2057.8,2,  2367.3,2,  -999.0,9, -999.00,   8.0382,2,    25.00, -999.00,9,  -999.0,9,  -999.0,   69.58,2,    3.92,2,      6.755,2,-999.0000,9,-999.0000,9,-999.0000,9,-999.0000,9,-999.0000,9,-999.0000,9,-999.0000,9,-999.0000,9,-999.0000,9,     -999.0,5,  -999.0,9,     -999.0,     -999.0,9,     -999.0,20130928,       2057
33RO20130803,       A16N,     135,          1,         23,         23,2,20130928,       1859,    -1.6654,   -24.9996,       4951,    32.7,  25.6300,  36.1648,2,  36.1832,2,    204.3,2,   202.4,2,    1.10,2,    0.10,2,    0.03,2,    0.11,2,-999.000,9,-999.000,9,-999.000,9,  2063.6,2,  2370.5,2,  -999.0,9, -999.00,   8.0354,2,    25.00, -999.00,9,  -999.0,9,  -999.0,   67.66,2,    4.16,2,     -999.0,9,-999.0000,9,-999.0000,9,-999.0000,9,-999.0000,9,-999.0000,9,-999.0000,9,-999.0000,9,-999.0000,9,-999.0000,9,     -999.0,9,  -999.0,9,     -999.0,     -999.0,9,     -999.0,20130928,       2055
33RO20130803,       A16N,     135,          1,         22,         22,2,20130928,       1859,    -1.6654,   -24.9996,       4951,    63.2,  25.5326,  36.2699,2,  36.2653,2,    200.3,2,   195.6,2,    1.30,2,    0.60,2,    0.17,2,    0.17,2,   1.699,2,   1.062,2,   1.164,2,  2074.8,2,  2377.6,6,  -999.0,9, -999.00,   8.0259,2,    25.00, -999.00,9,  -999.0,9,  -999.0,   62.47,2,     4.5,2,      7.526,2,-999.0000,9,-999.0000,9,-999.0000,9,-999.0000,9,-999.0000,9,-999.0000,9,-999.0000,9,-999.0000,9,-999.0000,9,     -999.0,5,  -999.0,9,     -999.0,     -999.0,9,     -999.0,20130928,       2053
33RO20130803,       A16N,     135,          1,         21,         21,2,20130928,       1859,    -1.6654,   -24.9996,       4951,    87.7,  18.3604,  35.7985,2,  35.7807,2,    122.9,2,   119.5,2,    4.70,2,   14.80,2,    0.35,2,    1.08,2,   2.115,2,   1.214,2,   0.937,2,  2171.1,2,  2346.1,2,  -999.0,9, -999.00,   7.7732,2,    25.00, -999.00,9,  -999.0,9,  -999.0,   55.76,2,   18.76,2,     21.080,2,-999.0000,9,-999.0000,9,-999.0000,9,-999.0000,9,-999.0000,9,-999.0000,9,-999.0000,9,-999.0000,9,-999.0000,9,     -999.0,5,  -999.0,9,     -999.0,     -999.0,9,     -999.0,20130928,       2051
33RO20130803,       A16N,     135,          1,         20,         20,2,20130928,       1859,    -1.6654,   -24.9996,       4951,   112.6,  15.0744,  35.5394,2,  35.5312,2,    102.0,2,   103.3,2,    6.70,2,   20.20,2,    0.03,2,    1.36,2,   2.244,2,   1.253,2,   0.804,2,  2194.0,2,  2331.2,2,  -999.0,9, -999.00,   7.6986,2,    25.00, -999.00,9,  -999.0,9,  -999.0,   52.06,2,   22.99,2,     25.804,2,-999.0000,9,-999.0000,9,-999.0000,9,-999.0000,9,-999.0000,9,-999.0000,9,-999.0000,9,-999.0000,9,-999.0000,9,     -999.0,5,  -999.0,9,     -999.0,     -999.0,9,     -999.0,20130928,       2050
33RO20130803,       A16N,     135,          1,         19,         19,2,20130928,       1859,    -1.6654,   -24.9996,       4951,   172.6,  13.8351,  35.3869,2,  35.3860,2,     98.9,2,      96,2,    8.00,2,   22.80,2,    0.01,2,    1.50,2,-999.000,9,-999.000,9,-999.000,9,  2202.9,2,  2322.9,2,  -999.0,9, -999.00,   7.6581,6,    25.00, -999.00,9,  -999.0,9,  -999.0,   49.16,2,   25.47,2,     -999.0,9,-999.0000,9,-999.0000,9,-999.0000,9,-999.0000,9,-999.0000,9,-999.0000,9,-999.0000,9,-999.0000,9,-999.0000,9,     -999.0,9,  -999.0,9,     -999.0,     -999.0,9,     -999.0,20130928,       2047
33RO20130803,       A16N,     135,          1,         18,         18,2,20130928,       1859,    -1.6654,   -24.9996,       4951,   262.6,  12.3245,  35.1926,2,  35.1915,2,     82.8,2,    84.3,2,   10.10,2,   26.50,2,    0.00,2,    1.70,2,-999.000,5,-999.000,5,-999.000,5,  2214.9,2,  -999.0,9,  -999.0,9, -999.00,-999.0000,9,  -999.00, -999.00,9,  -999.0,9,  -999.0,    45.6,2,   29.08,2,     -999.0,5,-999.0000,9,-999.0000,9,-999.0000,9,-999.0000,9,-999.0000,9,-999.0000,9,-999.0000,9,-999.0000,9,-999.0000,9,     -999.0,5,  -999.0,9,     -999.0,     -999.0,9,     -999.0,20130928,       2044
33RO20130803,       A16N,     135,          1,         17,         17,2,20130928,       1859,    -1.6654,   -24.9996,       4951,   347.5,  10.6670,  34.9887,2,  34.9895,2,     91.0,2,    91.8,2,   12.30,2,   28.60,2,    0.00,2,    1.84,2,   1.784,2,   0.928,2,   0.413,2,  2217.8,2,  2304.6,2,  -999.0,9, -999.00,   7.5708,2,    25.00, -999.00,9,  -999.0,9,  -999.0,   44.05,2,   31.19,2,     34.952,2,-999.0000,9,-999.0000,9,-999.0000,9,-999.0000,9,-999.0000,9,-999.0000,9,-999.0000,9,-999.0000,9,-999.0000,9,     -999.0,5,  -999.0,9,     -999.0,     -999.0,9,     -999.0,20130928,       2041
33RO20130803,       A16N,     135,          1,         16,         16,2,20130928,       1859,    -1.6654,   -24.9996,       4951,   448.0,   8.3649,  34.7237,2,  34.7202,2,    119.7,2,   120.3,2,   16.20,2,   30.60,2,    0.00,2,    2.01,2,   1.545,2,   0.781,2,   0.314,2,  2212.3,2,  2295.2,2,  -999.0,9, -999.00,   7.5628,2,    25.00, -999.00,9,  -999.0,9,  -999.0,   43.31,2,    33.2,2,     29.260,2,-999.0000,9,-999.0000,9,-999.0000,9,-999.0000,9,-999.0000,9,-999.0000,9,-999.0000,9,-999.0000,9,-999.0000,9,     -999.0,5,  -999.0,9,     -999.0,     -999.0,9,     -999.0,20130928,       2038
33RO20130803,       A16N,     135,          1,         15,         15,2,20130928,       1859,    -1.6654,   -24.9996,       4951,   547.7,   6.7770,  34.5903,2,  34.5923,2,    132.8,2,   133.6,2,   21.00,2,   32.50,2,    0.00,2,    2.17,2,   1.123,2,   0.555,2,   0.218,2,  2215.0,2,  -999.0,9,  -999.0,9, -999.00,-999.0000,9,  -999.00, -999.00,9,  -999.0,9,  -999.0,   42.14,2,    35.1,2,     26.560,2,-999.0000,9,-999.0000,9,-999.0000,9,-999.0000,9,-999.0000,9,-999.0000,9,-999.0000,9,-999.0000,9,-999.0000,9,     -999.0,5,  -999.0,9,     -999.0,     -999.0,9,     -999.0,20130928,       2035
33RO20130803,       A16N,     135,          1,         14,         14,2,20130928,       1859,    -1.6654,   -24.9996,       4951,   722.5,   5.2635,  34.4868,2,  34.4872,2,    154.7,2,   155.2,2,   27.50,6,   33.30,6,    0.00,6,    2.27,6,   0.802,2,   0.398,2,   0.126,2,  2215.0,2,  2299.0,6,  -999.0,9, -999.00,   7.5564,2,    25.00, -999.00,9,  -999.0,9,  -999.0,   41.75,2,   35.99,2,     23.630,2,-999.0000,9,-999.0000,9,-999.0000,9,-999.0000,9,-999.0000,9,-999.0000,9,-999.0000,9,-999.0000,9,-999.0000,9,     -999.0,5,  -999.0,9,     -999.0,     -999.0,9,     -999.0,20130928,       2031
33RO20130803,       A16N,     135,          1,         13,         13,2,20130928,       1859,    -1.6654,   -24.9996,       4951,   872.6,   4.7162,  34.5252,2,  34.5261,2,    151.9,2,   152.3,2,   31.20,6,   34.00,6,    0.01,6,    2.33,6,   0.277,2,   0.144,2,   0.045,2,  2220.5,6,  2303.3,2,  -999.0,9, -999.00,   7.5505,2,    25.00, -999.00,9,  -999.0,9,  -999.0,    41.3,2,   36.63,2,     23.529,2,-999.0000,9,-999.0000,9,-999.0000,9,-999.0000,9,-999.0000,9,-999.0000,9,-999.0000,9,-999.0000,9,-999.0000,9,     -999.0,5,  -999.0,9,     -999.0,     -999.0,9,     -999.0,20130928,       2027
33RO20130803,       A16N,     135,          1,         12,         12,2,20130928,       1859,    -1.6654,   -24.9996,       4951,  1022.6,   4.4191,  34.6051,2,  34.6041,2,    157.1,2,   157.4,2,   32.20,6,   32.90,6,    0.01,6,    2.27,6,   0.085,2,   0.047,2,   0.000,2,  2221.6,2,  2307.6,2,  -999.0,9, -999.00,   7.5597,2,    25.00, -999.00,9,  -999.0,9,  -999.0,   41.12,2,   35.47,2,     22.701,2,-999.0000,9,-999.0000,9,-999.0000,9,-999.0000,9,-999.0000,9,-999.0000,9,-999.0000,9,-999.0000,9,-999.0000,9,     -999.0,5,  -999.0,9,     -999.0,     -999.0,9,     -999.0,20130928,       2023
33RO20130803,       A16N,     135,          1,         11,         11,2,20130928,       1859,    -1.6654,   -24.9996,       4951,  1172.8,   4.5524,  34.8115,2,  34.8136,2,    179.0,2,     180,2,   25.60,6,   28.00,6,    0.01,6,    1.92,6,   0.092,2,   0.053,2,   0.000,2,  2205.1,2,  -999.0,9,  -999.0,9, -999.00,-999.0000,9,  -999.00, -999.00,9,  -999.0,9,  -999.0,   40.99,2,   30.68,2,     19.740,2,-999.0000,9,-999.0000,9,-999.0000,9,-999.0000,9,-999.0000,9,-999.0000,9,-999.0000,9,-999.0000,9,-999.0000,9,     -999.0,5,  -999.0,9,     -999.0,     -999.0,9,     -999.0,20130928,       2019
33RO20130803,       A16N,     135,          1,         10,         10,2,20130928,       1859,    -1.6654,   -24.9996,       4951,  1397.7,   4.5496,  34.9319,2,  34.9348,2,    208.6,2,   209.4,2,   20.10,2,   23.60,2,    0.01,2,    1.58,2,-999.000,9,-999.000,9,-999.000,9,  2187.3,2,  2313.1,2,  -999.0,9, -999.00,   7.6748,2,    25.00, -999.00,9,  -999.0,9,  -999.0,   40.95,2,   26.23,2,     -999.0,9,-999.0000,9,-999.0000,9,-999.0000,9,-999.0000,9,-999.0000,9,-999.0000,9,-999.0000,9,-999.0000,9,-999.0000,9,     -999.0,9,  -999.0,9,     -999.0,     -999.0,9,     -999.0,20130928,       2014
33RO20130803,       A16N,     135,          1,          9,          9,2,20130928,       1859,    -1.6654,   -24.9996,       4951,  1747.3,   3.9897,  34.9774,2,  34.9798,2,    244.9,2,   244.1,2,   17.10,2,   19.70,2,    0.01,2,    1.31,2,   0.658,2,   0.325,2,   0.158,2,  2170.5,2,  2313.7,2,  -999.0,9, -999.00,   7.7205,2,    25.00, -999.00,9,  -999.0,9,  -999.0,   40.88,2,   22.31,2,     13.985,2,-999.0000,9,-999.0000,9,-999.0000,9,-999.0000,9,-999.0000,9,-999.0000,9,-999.0000,9,-999.0000,9,-999.0000,9,     -999.0,5,  -999.0,9,     -999.0,     -999.0,9,     -999.0,20130928,       2007
33RO20130803,       A16N,     135,          1,          8,          8,2,20130928,       1859,    -1.6654,   -24.9996,       4951,  2198.6,   3.3356,  34.9575,2,  34.9593,2,    253.2,2,   253.6,2,   21.50,2,   19.30,2,    0.01,2,    1.29,2,   0.380,2,   0.190,2,   0.092,2,  2169.7,2,  2320.2,2,  -999.0,9, -999.00,   7.7316,2,    25.00, -999.00,9,  -999.0,9,  -999.0,   40.76,2,   21.91,2,     13.338,2,-999.0000,9,-999.0000,9,-999.0000,9,-999.0000,9,-999.0000,9,-999.0000,9,-999.0000,9,-999.0000,9,-999.0000,9,     -999.0,5,  -999.0,9,     -999.0,     -999.0,9,     -999.0,20130928,       1958
33RO20130803,       A16N,     135,          1,          7,          7,2,20130928,       1859,    -1.6654,   -24.9996,       4951,  2598.5,   3.0194,  34.9415,2,  34.9435,2,    252.5,2,   253.9,2,   25.60,2,   19.60,2,    0.01,2,    1.31,2,-999.000,9,-999.000,9,-999.000,9,  2171.5,2,  -999.0,9,  -999.0,9, -999.00,-999.0000,9,  -999.00, -999.00,9,  -999.0,9,  -999.0,   40.57,2,   22.22,2,     -999.0,9,-999.0000,9,-999.0000,9,-999.0000,9,-999.0000,9,-999.0000,9,-999.0000,9,-999.0000,9,-999.0000,9,-999.0000,9,     -999.0,9,  -999.0,9,     -999.0,     -999.0,9,     -999.0,20130928,       1950
33RO20130803,       A16N,     135,          1,          6,          6,2,20130928,       1859,    -1.6654,   -24.9996,       4951,  2996.9,   2.6409,  34.9092,2,  34.9099,2,    242.4,2,   243.8,2,   38.10,2,   21.50,2,    0.01,2,    1.45,2,   0.041,2,   0.024,2,   0.023,2,  2187.7,2,  2334.8,2,  -999.0,9, -999.00,-999.0000,5,  -999.00, -999.00,9,  -999.0,9,  -999.0,   40.73,2,   23.96,2,     13.796,2,-999.0000,9,-999.0000,9,-999.0000,9,-999.0000,9,-999.0000,9,-999.0000,9,-999.0000,9,-999.0000,9,-999.0000,9,     -999.0,5,  -999.0,9,     -999.0,     -999.0,9,     -999.0,20130928,       1942
33RO20130803,       A16N,     135,          1,          5,          5,2,20130928,       1859,    -1.6654,   -24.9996,       4951,  3307.4,   2.5602,  34.9071,2,  34.9071,2,    248.1,2,   249.4,2,   36.50,2,   20.90,2,    0.01,2,    1.42,2,-999.000,9,-999.000,9,-999.000,9,  2184.2,2,  -999.0,9,  -999.0,9, -999.00,-999.0000,9,  -999.00, -999.00,9,  -999.0,9,  -999.0,    40.3,2,   23.52,2,     -999.0,9,-999.0000,9,-999.0000,9,-999.0000,9,-999.0000,9,-999.0000,9,-999.0000,9,-999.0000,9,-999.0000,9,-999.0000,9,     -999.0,9,  -999.0,9,     -999.0,     -999.0,9,     -999.0,20130928,       1935
33RO20130803,       A16N,     135,          1,          4,          4,2,20130928,       1859,    -1.6654,   -24.9996,       4951,  3797.7,   2.2994,  34.8919,2,  34.8942,2,    257.0,2,   258.1,2,   35.80,2,   19.90,2,    0.01,2,    1.36,2,   0.361,2,   0.184,2,   0.074,2,  2180.2,2,  2329.4,6,  -999.0,9, -999.00,   7.7245,3,    25.00, -999.00,9,  -999.0,9,  -999.0,    40.7,2,    22.6,2,     13.462,2,-999.0000,9,-999.0000,9,-999.0000,9,-999.0000,9,-999.0000,9,-999.0000,9,-999.0000,9,-999.0000,9,-999.0000,9,     -999.0,5,  -999.0,9,     -999.0,     -999.0,9,     -999.0,20130928,       1925
33RO20130803,       A16N,     135,          1,          3,          3,2,20130928,       1859,    -1.6654,   -24.9996,       4951,  4197.8,   1.4762,  34.7992,2,  34.8001,2,    237.4,2,   237.4,2,   75.90,2,   25.90,2,    0.01,2,    1.79,2,-999.000,9,-999.000,9,-999.000,9,  2222.2,2,  -999.0,9,  -999.0,9, -999.00,-999.0000,9,  -999.00, -999.00,9,  -999.0,9,  -999.0,   40.26,2,   28.39,2,     -999.0,9,-999.0000,9,-999.0000,9,-999.0000,9,-999.0000,9,-999.0000,9,-999.0000,9,-999.0000,9,-999.0000,9,-999.0000,9,     -999.0,9,  -999.0,9,     -999.0,     -999.0,9,     -999.0,20130928,       1916
33RO20130803,       A16N,     135,          1,          2,          2,2,20130928,       1859,    -1.6654,   -24.9996,       4951,  4597.6,   0.8708,  34.7293,2,  34.7298,2,    223.6,2,   223.3,2,  105.00,2,   30.10,2,    0.01,2,    2.10,2,   0.087,2,   0.045,2,   0.030,2,  2252.4,2,  -999.0,5,  -999.0,9, -999.00,   7.6349,6,    25.00, -999.00,9,  -999.0,9,  -999.0,   40.14,2,   32.69,2,     16.896,2,-999.0000,9,-999.0000,9,-999.0000,9,-999.0000,9,-999.0000,9,-999.0000,9,-999.0000,9,-999.0000,9,-999.0000,9,     -999.0,5,  -999.0,9,     -999.0,     -999.0,9,     -999.0,20130928,       1908
33RO20130803,       A16N,     135,          1,          1,          1,2,20130928,       1859,    -1.6654,   -24.9996,       4951,  5007.8,   0.7954,  34.7156,2,  34.7171,2,    222.1,2,     221,2,  110.40,2,   30.90,2,    0.01,2,    2.15,2,   0.086,2,   0.047,2,   0.019,2,  2257.0,2,  2370.6,2,  -999.0,9, -999.00,   7.6354,2,    25.00, -999.00,9,  -999.0,9,  -999.0,   40.06,2,   33.28,2,     17.151,2,-999.0000,9,-999.0000,9,-999.0000,9,-999.0000,9,-999.0000,9,-999.0000,9,-999.0000,9,-999.0000,9,-999.0000,9,     -999.0,5,  -999.0,9,     -999.0,     -999.0,9,     -999.0,20130928,       1859