BOTTLE,20220815CCHSIOAMB
EXPOCODE,SECT_ID,STNNBR,CASTNO,SAMPNO,BTLNBR,BTLNBR_FLAG_W,DATE,TIME,LATITUDE,LONGITUDE,DEPTH,CTDPRS,CTDTMP,CTDSAL,CTDSAL_FLAG_W,SALNTY,SALNTY_FLAG_W,CTDOXY,CTDOXY_FLAG_W,OXYGEN,OXYGEN_FLAG_W,SILCAT,SILCAT_FLAG_W,NITRAT,NITRAT_FLAG_W,NITRIT,NITRIT_FLAG_W,PHSPHT,PHSPHT_FLAG_W,CFC-11,CFC-11_FLAG_W,CFC-12,CFC-12_FLAG_W,SF6,SF6_FLAG_W,TCARBN,TCARBN_FLAG_W,ALKALI,ALKALI_FLAG_W,PCO2,PCO2_FLAG_W,PCO2TMP,PH_SWS,PH_SWS_FLAG_W,PH_TMP,DELC13,DELC13_FLAG_W,DELC14,DELC14_FLAG_W,C14ERR,DOC,DOC_FLAG_W,TDN,TDN_FLAG_W,N2O,N2O_FLAG_W,CDOM325,CDOM325_FLAG_W,CDOM340,CDOM340_FLAG_W,CDOM380,CDOM380_FLAG_W,CDOM412,CDOM412_FLAG_W,CDOM443,CDOM443_FLAG_W,CDOM490,CDOM490_FLAG_W,CDOM555,CDOM555_FLAG_W,CDOMSL,CDOMSL_FLAG_W,CDOMSN,CDOMSN_FLAG_W,CCL4,CCL4_FLAG_W,14C-DOC,14C-DOC_FLAG_W,14C-DOCERR,13C-DOC,13C-DOC_FLAG_W,13C-DOCERR,BTL_DATE,BTL_TIME
,,,,,,,,,,,METERS,DBAR,ITS-90,PSS-78,,PSS-78,,UMOL/KG,,UMOL/KG,,UMOL/KG,,UMOL/KG,,UMOL/KG,,UMOL/KG,,PMOL/KG,,PMOL/KG,,FMOL/KG,,UMOL/KG,,UMOL/KG,,UATM,,DEG C,,,DEG C,/MILLE,,/MILLE,,/MILLE,UMOL/KG,,UMOL/KG,,NMOL/KG,,1/M,,1/M,,1/M,,1/M,,1/M,,1/M,,1/M,,1/NM,,1/NM,,PMOL/KG,,/MILLE,,/MILLE,/MILLE,,/MILLE,,
33RO20130803,       A16N,     133,          1,         24,         24,2,20130928,       0656,    -0.9959,   -24.9977,       3063,     3.9,  25.5595,  36.0841,2,  36.0826,2,    203.1,2,   203.7,2,    1.10,2,    0.10,2,    0.02,2,    0.08,2,   1.666,2,   1.053,2,   1.172,2,  2053.3,6,  2363.8,2,   327.2,2,      20,   8.0405,2,    25.00, -999.00,9,  -999.0,9,  -999.0, -999.00,9, -999.00,9,      6.804,2,-999.0000,9,-999.0000,9,-999.0000,9,-999.0000,9,-999.0000,9,-999.0000,9,-999.0000,9,-999.0000,9,-999.0000,9,     -999.0,5,  -999.0,9,     -999.0,     -999.0,9,     -999.0,20130928,       0824
33RO20130803,       A16N,     133,          1,         23,         23,2,20130928,       0656,    -0.9959,   -24.9977,       3063,    12.8,  25.5653,  36.0832,2,  36.0828,2,    203.4,2,   203.4,2,    1.10,2,    0.10,2,    0.02,2,    0.09,2,   1.664,2,   1.048,2,   1.179,2,  2053.1,2,  2364.0,6,   328.1,2,      20,   8.0385,2,    25.00, -999.00,9,  -999.0,9,  -999.0, -999.00,9, -999.00,9,      6.811,2,-999.0000,9,-999.0000,9,-999.0000,9,-999.0000,9,-999.0000,9,-999.0000,9,-999.0000,9,-999.0000,9,-999.0000,9,     -999.0,5,  -999.0,9,     -999.0,     -999.0,9,     -999.0,20130928,       0822
33RO20130803,       A16N,     133,          1,         22,         22,2,20130928,       0656,    -0.9959,   -24.9977,       3063,    32.9,  25.5695,  36.0828,2,  36.0885,2,    203.9,2,     203,2,    1.10,2,    0.10,2,    0.02,2,    0.10,2,   1.682,2,   1.059,2,   1.172,2,  2054.2,2,  2364.2,2,   331.9,2,      20,   8.0386,2,    25.00, -999.00,9,  -999.0,9,  -999.0, -999.00,9, -999.00,9,      6.947,2,-999.0000,9,-999.0000,9,-999.0000,9,-999.0000,9,-999.0000,9,-999.0000,9,-999.0000,9,-999.0000,9,-999.0000,9,     -999.0,5,  -999.0,9,     -999.0,     -999.0,9,     -999.0,20130928,       0820
33RO20130803,       A16N,     133,          1,         21,         21,2,20130928,       0656,    -0.9959,   -24.9977,       3063,    57.8,  25.1174,  36.1649,2,  35.5975,4,    195.6,2,   189.9,2,    1.50,2,    1.70,2,    0.16,2,    0.22,2,-999.000,5,-999.000,5,-999.000,5,  2078.4,2,  2423.3,4,   368.8,2,      20,   8.0071,2,    25.00, -999.00,9,  -999.0,9,  -999.0, -999.00,9, -999.00,9,     -999.0,5,-999.0000,9,-999.0000,9,-999.0000,9,-999.0000,9,-999.0000,9,-999.0000,9,-999.0000,9,-999.0000,9,-999.0000,9,     -999.0,5,  -999.0,9,     -999.0,     -999.0,9,     -999.0,20130928,       0818
33RO20130803,       A16N,     133,          1,         20,         20,2,20130928,       0656,    -0.9959,   -24.9977,       3063,    88.2,  18.5827,  36.1148,2,  36.1288,2,    166.0,2,   164.2,2,    3.20,2,    8.50,2,    0.05,2,    0.70,2,   2.151,2,   1.290,2,   1.094,2,  2144.5,2,  2370.6,2,   506.9,2,      20,   7.8849,2,    25.00, -999.00,9,  -999.0,9,  -999.0, -999.00,9, -999.00,9,     13.327,2,-999.0000,9,-999.0000,9,-999.0000,9,-999.0000,9,-999.0000,9,-999.0000,9,-999.0000,9,-999.0000,9,-999.0000,9,     -999.0,5,  -999.0,9,     -999.0,     -999.0,9,     -999.0,20130928,       0816
33RO20130803,       A16N,     133,          1,         19,         19,2,20130928,       0656,    -0.9959,   -24.9977,       3063,   107.7,  16.5498,  35.7989,2,  35.7795,2,    164.0,2,   163.6,2,    4.50,2,   11.50,2,    0.03,2,    0.87,2,   2.273,2,   1.333,2,   1.031,2,  2148.9,2,  2367.3,3,   566.5,2,      20,   7.8391,2,    25.00, -999.00,9,  -999.0,9,  -999.0, -999.00,9, -999.00,9,     15.258,2,-999.0000,9,-999.0000,9,-999.0000,9,-999.0000,9,-999.0000,9,-999.0000,9,-999.0000,9,-999.0000,9,-999.0000,9,     -999.0,5,  -999.0,9,     -999.0,     -999.0,9,     -999.0,20130928,       0814
33RO20130803,       A16N,     133,          1,         18,         18,2,20130928,       0656,    -0.9959,   -24.9977,       3063,   137.9,  14.9599,  35.5688,2,  35.5617,2,    158.0,2,   156.5,2,    5.60,2,   14.20,2,    0.02,2,    1.02,2,   2.347,2,   1.350,2,   0.946,2,  2157.6,2,  2336.0,2,   634.5,2,      20,   7.7968,2,    25.00, -999.00,9,  -999.0,9,  -999.0, -999.00,9, -999.00,9,     17.447,2,-999.0000,9,-999.0000,9,-999.0000,9,-999.0000,9,-999.0000,9,-999.0000,9,-999.0000,9,-999.0000,9,-999.0000,9,     -999.0,5,  -999.0,9,     -999.0,     -999.0,9,     -999.0,20130928,       0812
33RO20130803,       A16N,     133,          1,         17,         17,2,20130928,       0656,    -0.9959,   -24.9977,       3063,   172.7,  13.2827,  35.3192,2,  35.3250,2,    116.8,2,   118.8,2,    8.00,2,   20.90,2,    0.01,2,    1.41,2,   2.188,2,   1.229,2,   0.696,2,  2186.3,2,  2324.9,2,  -999.0,5, -999.00,   7.6931,2,    25.00, -999.00,9,  -999.0,9,  -999.0, -999.00,9, -999.00,9,     25.600,2,-999.0000,9,-999.0000,9,-999.0000,9,-999.0000,9,-999.0000,9,-999.0000,9,-999.0000,9,-999.0000,9,-999.0000,9,     -999.0,5,  -999.0,9,     -999.0,     -999.0,9,     -999.0,20130928,       0810
33RO20130803,       A16N,     133,          1,         16,         16,2,20130928,       0656,    -0.9959,   -24.9977,       3063,   238.0,  12.5238,  35.2144,2,  35.2116,2,    128.2,2,   123.9,2,    8.90,2,   21.80,2,    0.01,2,    1.46,2,   2.157,4,   1.201,4,   0.704,4,  2185.6,2,  2315.1,2,   812.5,2,      20,   7.6813,2,    25.00, -999.00,9,  -999.0,9,  -999.0, -999.00,9, -999.00,9,     25.868,4,-999.0000,9,-999.0000,9,-999.0000,9,-999.0000,9,-999.0000,9,-999.0000,9,-999.0000,9,-999.0000,9,-999.0000,9,     -999.0,5,  -999.0,9,     -999.0,     -999.0,9,     -999.0,20130928,       0807
33RO20130803,       A16N,     133,          1,         15,         15,2,20130928,       0656,    -0.9959,   -24.9977,       3063,   307.8,  10.9266,  35.0194,2,  35.0138,2,     90.1,2,    91.3,2,   12.10,2,   28.40,2,    0.01,2,    1.83,2,   1.749,2,   0.933,2,   0.437,2,  2213.5,6,  2305.7,2,  1080.7,6,      20,   7.5772,2,    25.00, -999.00,9,  -999.0,9,  -999.0, -999.00,9, -999.00,9,     34.128,2,-999.0000,9,-999.0000,9,-999.0000,9,-999.0000,9,-999.0000,9,-999.0000,9,-999.0000,9,-999.0000,9,-999.0000,9,     -999.0,5,  -999.0,9,     -999.0,     -999.0,9,     -999.0,20130928,       0804
33RO20130803,       A16N,     133,          1,         14,         14,2,20130928,       0656,    -0.9959,   -24.9977,       3063,   383.1,   8.8891,  34.7950,2,  34.7942,2,    103.6,2,     106,2,   15.70,2,   31.00,2,    0.00,2,    2.01,2,   1.464,2,   0.762,2,   0.284,2,  2216.6,2,  2292.8,2,  1145.4,2,      20,   7.5525,2,    25.00, -999.00,9,  -999.0,9,  -999.0, -999.00,9, -999.00,9,     31.809,2,-999.0000,9,-999.0000,9,-999.0000,9,-999.0000,9,-999.0000,9,-999.0000,9,-999.0000,9,-999.0000,9,-999.0000,9,     -999.0,5,  -999.0,9,     -999.0,     -999.0,9,     -999.0,20130928,       0801
33RO20130803,       A16N,     133,          1,         13,         13,2,20130928,       0656,    -0.9959,   -24.9977,       3063,   458.5,   8.1680,  34.7165,2,  34.7230,2,    115.5,2,   114.9,2,   17.00,2,   31.30,2,    0.00,2,    2.05,2,   1.396,2,   0.715,2,   0.275,2,  2214.2,2,  2297.3,2,  1137.6,2,      20,   7.5533,2,    25.00, -999.00,9,  -999.0,9,  -999.0, -999.00,9, -999.00,9,     29.665,2,-999.0000,9,-999.0000,9,-999.0000,9,-999.0000,9,-999.0000,9,-999.0000,9,-999.0000,9,-999.0000,9,-999.0000,9,     -999.0,5,  -999.0,9,     -999.0,     -999.0,9,     -999.0,20130928,       0758
33RO20130803,       A16N,     133,          1,         12,         12,2,20130928,       0656,    -0.9959,   -24.9977,       3063,   547.9,   6.8528,  34.5928,2,  34.5928,2,    132.3,2,   135.9,2,   20.50,2,   32.10,2,    0.00,2,    2.14,2,   1.216,2,   0.610,2,   0.207,2,  2213.1,2,  2297.0,2,  1128.4,2,      20,   7.5579,2,    25.00, -999.00,9,  -999.0,9,  -999.0, -999.00,9, -999.00,9,     26.119,2,-999.0000,9,-999.0000,9,-999.0000,9,-999.0000,9,-999.0000,9,-999.0000,9,-999.0000,9,-999.0000,9,-999.0000,9,     -999.0,5,  -999.0,9,     -999.0,     -999.0,9,     -999.0,20130928,       0755
33RO20130803,       A16N,     133,          1,         11,         11,2,20130928,       0656,    -0.9959,   -24.9977,       3063,   673.3,   5.4681,  34.4988,2,  34.4985,2,    149.4,2,  -999.0,5,   26.60,6,   33.60,6,    0.00,6,    2.29,6,   0.761,2,   0.381,2,   0.130,2,  2217.1,2,  2296.7,2,  1145.6,2,      20,   7.5539,2,    25.00, -999.00,9,  -999.0,9,  -999.0, -999.00,9, -999.00,9,     24.286,2,-999.0000,9,-999.0000,9,-999.0000,9,-999.0000,9,-999.0000,9,-999.0000,9,-999.0000,9,-999.0000,9,-999.0000,9,     -999.0,5,  -999.0,9,     -999.0,     -999.0,9,     -999.0,20130928,       0751
33RO20130803,       A16N,     133,          1,         10,         10,2,20130928,       0656,    -0.9959,   -24.9977,       3063,   823.1,   4.7583,  34.5197,2,  34.5209,2,    150.0,2,   150.3,2,   30.90,6,   34.10,6,    0.00,6,    2.35,6,   0.282,2,   0.145,2,   0.045,2,  2222.5,2,  2303.4,2,  1157.4,2,      20,   7.5485,6,    25.00, -999.00,9,  -999.0,9,  -999.0, -999.00,9, -999.00,9,     23.781,2,-999.0000,9,-999.0000,9,-999.0000,9,-999.0000,9,-999.0000,9,-999.0000,9,-999.0000,9,-999.0000,9,-999.0000,9,     -999.0,5,  -999.0,9,     -999.0,     -999.0,9,     -999.0,20130928,       0747
33RO20130803,       A16N,     133,          1,          9,          9,2,20130928,       0656,    -0.9959,   -24.9977,       3063,   973.4,   4.4474,  34.5671,2,  34.5684,2,    157.0,2,   157.5,2,   32.40,6,   33.30,6,    0.00,6,    2.30,6,   0.154,2,   0.080,2,   0.000,2,  2221.6,2,  2305.6,2,  1118.5,2,      20,   7.5606,2,    25.00, -999.00,9,  -999.0,9,  -999.0, -999.00,9, -999.00,9,     22.811,2,-999.0000,9,-999.0000,9,-999.0000,9,-999.0000,9,-999.0000,9,-999.0000,9,-999.0000,9,-999.0000,9,-999.0000,9,     -999.0,5,  -999.0,9,     -999.0,     -999.0,9,     -999.0,20130928,       0743
33RO20130803,       A16N,     133,          1,          8,          8,2,20130928,       0656,    -0.9959,   -24.9977,       3063,  1123.1,   4.5479,  34.7760,2,  34.7760,2,    174.1,2,   174.2,2,   26.80,6,   29.10,6,    0.00,6,    1.99,6,   0.089,2,   0.049,2,   0.000,2,  2209.1,2,  2314.1,2,   988.7,2,      20,   7.6094,2,    25.00, -999.00,9,  -999.0,9,  -999.0, -999.00,9, -999.00,9,     20.229,2,-999.0000,9,-999.0000,9,-999.0000,9,-999.0000,9,-999.0000,9,-999.0000,9,-999.0000,9,-999.0000,9,-999.0000,9,     -999.0,5,  -999.0,9,     -999.0,     -999.0,9,     -999.0,20130928,       0739
33RO20130803,       A16N,     133,          1,          7,          7,2,20130928,       0656,    -0.9959,   -24.9977,       3063,  1298.0,   4.5689,  34.8641,2,  34.8651,2,    191.0,2,   190.7,2,   23.30,6,   26.30,6,    0.00,6,    1.79,6,   0.172,2,   0.091,2,   0.000,2,  2198.3,2,  2312.2,2,   907.3,2,      20,   7.6429,2,    25.00, -999.00,9,  -999.0,9,  -999.0, -999.00,9, -999.00,9,     18.483,2,-999.0000,9,-999.0000,9,-999.0000,9,-999.0000,9,-999.0000,9,-999.0000,9,-999.0000,9,-999.0000,9,-999.0000,9,     -999.0,5,  -999.0,9,     -999.0,     -999.0,9,     -999.0,20130928,       0735
33RO20130803,       A16N,     133,          1,          6,          6,2,20130928,       0656,    -0.9959,   -24.9977,       3063,  1497.4,   4.2545,  34.9653,2,  34.9656,2,    228.9,2,   228.1,2,   18.30,2,   21.40,2,    0.00,2,    1.44,2,   0.398,2,   0.204,2,   0.090,2,  2177.2,2,  2319.2,2,   790.8,2,      20,   7.7019,2,    25.00, -999.00,9,  -999.0,9,  -999.0, -999.00,9, -999.00,9,     15.191,2,-999.0000,9,-999.0000,9,-999.0000,9,-999.0000,9,-999.0000,9,-999.0000,9,-999.0000,9,-999.0000,9,-999.0000,9,     -999.0,5,  -999.0,9,     -999.0,     -999.0,9,     -999.0,20130928,       0730
33RO20130803,       A16N,     133,          1,          5,          5,2,20130928,       0656,    -0.9959,   -24.9977,       3063,  1645.8,   4.0306,  34.9749,2,  34.9754,2,    240.5,2,   240.1,2,   17.70,2,   20.20,2,    0.00,2,    1.36,2,   0.472,6,   0.238,6,   0.090,6,  2172.6,2,  2312.5,2,   751.9,2,      20,   7.7165,2,    25.00, -999.00,9,  -999.0,9,  -999.0, -999.00,9, -999.00,9,     14.257,6,-999.0000,9,-999.0000,9,-999.0000,9,-999.0000,9,-999.0000,9,-999.0000,9,-999.0000,9,-999.0000,9,-999.0000,9,     -999.0,5,  -999.0,9,     -999.0,     -999.0,9,     -999.0,20130928,       0726
33RO20130803,       A16N,     133,          1,          4,          4,2,20130928,       0656,    -0.9959,   -24.9977,       3063,  2048.1,   3.6689,  34.9683,2,  34.9690,2,    248.8,2,   248.9,2,   19.40,2,   19.60,2,    0.00,2,    1.32,2,   0.405,2,   0.205,2,   0.077,2,  2169.3,2,  2316.5,2,   747.8,2,      20,   7.7254,2,    25.00, -999.00,9,  -999.0,9,  -999.0, -999.00,9, -999.00,9,     13.676,2,-999.0000,9,-999.0000,9,-999.0000,9,-999.0000,9,-999.0000,9,-999.0000,9,-999.0000,9,-999.0000,9,-999.0000,9,     -999.0,5,  -999.0,9,     -999.0,     -999.0,9,     -999.0,20130928,       0718
33RO20130803,       A16N,     133,          1,          3,          3,2,20130928,       0656,    -0.9959,   -24.9977,       3063,  2417.1,   3.0724,  34.9387,2,  34.9400,2,    247.4,2,   247.2,2,   28.60,2,   20.40,2,    0.00,2,    1.38,2,   0.131,6,   0.071,6,   0.011,6,  2176.1,2,  2325.6,2,   751.4,2,      20,   7.7247,2,    25.00, -999.00,9,  -999.0,9,  -999.0, -999.00,9, -999.00,9,     13.639,6,-999.0000,9,-999.0000,9,-999.0000,9,-999.0000,9,-999.0000,9,-999.0000,9,-999.0000,9,-999.0000,9,-999.0000,9,     -999.0,5,  -999.0,9,     -999.0,     -999.0,9,     -999.0,20130928,       0711
33RO20130803,       A16N,     133,          1,          2,          2,2,20130928,       0656,    -0.9959,   -24.9977,       3063,  2848.1,   2.6957,  34.9137,2,  34.9141,2,    245.9,2,   245.9,2,   36.10,2,   21.20,2,    0.00,2,    1.44,2,   0.070,2,   0.038,2,   0.029,2,  2185.9,2,  2333.2,6,   758.5,2,      20,   7.7168,2,    25.00, -999.00,9,  -999.0,9,  -999.0, -999.00,9, -999.00,9,     13.729,2,-999.0000,9,-999.0000,9,-999.0000,9,-999.0000,9,-999.0000,9,-999.0000,9,-999.0000,9,-999.0000,9,-999.0000,9,     -999.0,5,  -999.0,9,     -999.0,     -999.0,9,     -999.0,20130928,       0703
33RO20130803,       A16N,     133,          1,          1,          1,2,20130928,       0656,    -0.9959,   -24.9977,       3063,  3123.0,   2.6599,  34.9117,2,  34.9125,2,    247.9,2,   248.5,2,   35.80,2,   21.00,2,    0.00,2,    1.43,2,   0.105,2,   0.054,2,   0.000,2,  2185.0,6,  2332.6,2,   731.7,2,      20,   7.7225,2,    25.00, -999.00,9,  -999.0,9,  -999.0, -999.00,9, -999.00,9,     13.678,2,-999.0000,9,-999.0000,9,-999.0000,9,-999.0000,9,-999.0000,9,-999.0000,9,-999.0000,9,-999.0000,9,-999.0000,9,     -999.0,5,  -999.0,9,     -999.0,     -999.0,9,     -999.0,20130928,       0656