BOTTLE,20220815CCHSIOAMB
EXPOCODE,SECT_ID,STNNBR,CASTNO,SAMPNO,BTLNBR,BTLNBR_FLAG_W,DATE,TIME,LATITUDE,LONGITUDE,DEPTH,CTDPRS,CTDTMP,CTDSAL,CTDSAL_FLAG_W,SALNTY,SALNTY_FLAG_W,CTDOXY,CTDOXY_FLAG_W,OXYGEN,OXYGEN_FLAG_W,SILCAT,SILCAT_FLAG_W,NITRAT,NITRAT_FLAG_W,NITRIT,NITRIT_FLAG_W,PHSPHT,PHSPHT_FLAG_W,CFC-11,CFC-11_FLAG_W,CFC-12,CFC-12_FLAG_W,SF6,SF6_FLAG_W,TCARBN,TCARBN_FLAG_W,ALKALI,ALKALI_FLAG_W,PCO2,PCO2_FLAG_W,PCO2TMP,PH_SWS,PH_SWS_FLAG_W,PH_TMP,DELC13,DELC13_FLAG_W,DELC14,DELC14_FLAG_W,C14ERR,DOC,DOC_FLAG_W,TDN,TDN_FLAG_W,N2O,N2O_FLAG_W,CDOM325,CDOM325_FLAG_W,CDOM340,CDOM340_FLAG_W,CDOM380,CDOM380_FLAG_W,CDOM412,CDOM412_FLAG_W,CDOM443,CDOM443_FLAG_W,CDOM490,CDOM490_FLAG_W,CDOM555,CDOM555_FLAG_W,CDOMSL,CDOMSL_FLAG_W,CDOMSN,CDOMSN_FLAG_W,CCL4,CCL4_FLAG_W,14C-DOC,14C-DOC_FLAG_W,14C-DOCERR,13C-DOC,13C-DOC_FLAG_W,13C-DOCERR,BTL_DATE,BTL_TIME
,,,,,,,,,,,METERS,DBAR,ITS-90,PSS-78,,PSS-78,,UMOL/KG,,UMOL/KG,,UMOL/KG,,UMOL/KG,,UMOL/KG,,UMOL/KG,,PMOL/KG,,PMOL/KG,,FMOL/KG,,UMOL/KG,,UMOL/KG,,UATM,,DEG C,,,DEG C,/MILLE,,/MILLE,,/MILLE,UMOL/KG,,UMOL/KG,,NMOL/KG,,1/M,,1/M,,1/M,,1/M,,1/M,,1/M,,1/M,,1/NM,,1/NM,,PMOL/KG,,/MILLE,,/MILLE,/MILLE,,/MILLE,,
33RO20130803,       A16N,     111,          2,         24,         24,2,20130922,       1420,     8.0000,   -27.4999,       5102,     3.1,  28.5981,  34.6000,2,  34.6314,2,    197.4,2,   201.4,2,    1.00,2,    0.00,2,    0.00,2,    0.01,2,   1.503,2,   0.963,2,   1.147,2,  1924.9,6,  2267.2,2,   236.1,2,      20,   8.1233,2,    25.00, -999.00,9,  -999.0,9,  -999.0, -999.00,9, -999.00,9,      5.909,2,-999.0000,9,-999.0000,9,-999.0000,9,-999.0000,9,-999.0000,9,-999.0000,9,-999.0000,9,-999.0000,9,-999.0000,9,     -999.0,5,  -999.0,9,     -999.0,     -999.0,9,     -999.0,20130922,       1619
33RO20130803,       A16N,     111,          2,         23,         23,2,20130922,       1420,     8.0000,   -27.4999,       5102,    12.9,  28.5115,  35.1297,2,  35.2474,2,    199.5,2,   200.6,2,    1.00,2,    0.00,2,    0.00,2,    0.01,2,   1.495,6,   0.955,6,   1.122,6,  1956.4,2,  2310.5,2,   244.7,6,      20,   8.1184,2,    25.00, -999.00,9,  -999.0,9,  -999.0, -999.00,9, -999.00,9,      5.898,6,-999.0000,9,-999.0000,9,-999.0000,9,-999.0000,9,-999.0000,9,-999.0000,9,-999.0000,9,-999.0000,9,-999.0000,9,     -999.0,5,  -999.0,9,     -999.0,     -999.0,9,     -999.0,20130922,       1618
33RO20130803,       A16N,     111,          2,         22,         22,2,20130922,       1420,     8.0000,   -27.4999,       5102,    33.1,  28.2767,  35.5295,2,  35.5312,2,    203.6,2,   203.1,2,    1.10,2,    0.10,2,    0.01,2,    0.01,2,   1.534,2,   0.981,2,   1.112,2,  1982.6,2,  2326.7,2,   259.4,2,      20,   8.1082,2,    25.00, -999.00,9,  -999.0,9,  -999.0, -999.00,9, -999.00,9,      6.564,2,-999.0000,9,-999.0000,9,-999.0000,9,-999.0000,9,-999.0000,9,-999.0000,9,-999.0000,9,-999.0000,9,-999.0000,9,     -999.0,5,  -999.0,9,     -999.0,     -999.0,9,     -999.0,20130922,       1616
33RO20130803,       A16N,     111,          2,         21,         21,2,20130922,       1420,     8.0000,   -27.4999,       5102,    61.9,  24.2075,  36.2651,2,  36.2486,2,    168.7,2,   166.7,2,    2.10,2,    2.10,2,    0.24,2,    0.20,2,   1.757,2,   1.079,2,   1.065,2,  2097.0,2,  2376.9,2,   367.2,2,      20,   7.9774,2,    25.00, -999.00,9,  -999.0,9,  -999.0, -999.00,9, -999.00,9,     11.075,2,-999.0000,9,-999.0000,9,-999.0000,9,-999.0000,9,-999.0000,9,-999.0000,9,-999.0000,9,-999.0000,9,-999.0000,9,     -999.0,5,  -999.0,9,     -999.0,     -999.0,9,     -999.0,20130922,       1613
33RO20130803,       A16N,     111,          2,         20,         20,2,20130922,       1420,     8.0000,   -27.4999,       5102,    88.0,  19.4369,  35.9159,2,  35.9193,2,    129.0,2,   127.9,2,    4.30,2,   11.80,2,    0.04,2,    0.77,2,   1.971,2,   1.170,2,   0.871,2,  2153.5,2,  2356.4,2,   539.6,2,      20,   7.8311,2,    25.00, -999.00,9,  -999.0,9,  -999.0, -999.00,9, -999.00,9,     18.325,2,-999.0000,9,-999.0000,9,-999.0000,9,-999.0000,9,-999.0000,9,-999.0000,9,-999.0000,9,-999.0000,9,-999.0000,9,     -999.0,5,  -999.0,9,     -999.0,     -999.0,9,     -999.0,20130922,       1611
33RO20130803,       A16N,     111,          2,         19,         19,2,20130922,       1420,     8.0000,   -27.4999,       5102,   113.0,  15.8693,  35.6183,2,  35.6160,2,     90.7,2,    90.2,2,    6.50,2,   21.10,2,    0.04,2,    1.36,2,   2.146,2,   1.215,2,   0.750,2,  2199.3,3,  2336.0,2,   765.1,2,      20,   7.6866,6,    25.00, -999.00,9,  -999.0,9,  -999.0, -999.00,9, -999.00,9,     29.172,2,-999.0000,9,-999.0000,9,-999.0000,9,-999.0000,9,-999.0000,9,-999.0000,9,-999.0000,9,-999.0000,9,-999.0000,9,     -999.0,5,  -999.0,9,     -999.0,     -999.0,9,     -999.0,20130922,       1609
33RO20130803,       A16N,     111,          2,         18,         18,2,20130922,       1420,     8.0000,   -27.4999,       5102,   172.9,  13.5252,  35.3498,2,  35.3471,2,    116.9,2,   115.6,2,    7.70,2,   21.10,2,    0.01,2,    1.40,2,   2.211,2,   1.224,2,   0.697,2,  2186.9,2,  2325.6,2,   762.6,2,      20,   7.6922,2,    25.00, -999.00,9,  -999.0,9,  -999.0, -999.00,9, -999.00,9,     25.937,2,-999.0000,9,-999.0000,9,-999.0000,9,-999.0000,9,-999.0000,9,-999.0000,9,-999.0000,9,-999.0000,9,-999.0000,9,     -999.0,5,  -999.0,9,     -999.0,     -999.0,9,     -999.0,20130922,       1606
33RO20130803,       A16N,     111,          2,         17,         17,2,20130922,       1420,     8.0000,   -27.4999,       5102,   262.2,  12.1072,  35.1813,2,  35.1794,2,    103.2,2,   101.4,2,    9.80,2,   25.00,2,    0.01,2,    1.62,2,   1.946,2,   1.060,2,   0.523,2,  2201.7,2,  2315.5,2,   892.0,2,      20,   7.6289,2,    25.00, -999.00,9,  -999.0,9,  -999.0, -999.00,9, -999.00,9,     30.958,2,-999.0000,9,-999.0000,9,-999.0000,9,-999.0000,9,-999.0000,9,-999.0000,9,-999.0000,9,-999.0000,9,-999.0000,9,     -999.0,5,  -999.0,9,     -999.0,     -999.0,9,     -999.0,20130922,       1602
33RO20130803,       A16N,     111,          2,         16,         16,2,20130922,       1420,     8.0000,   -27.4999,       5102,   338.2,  10.7206,  35.0413,2,  35.0400,2,     83.3,2,    81.8,2,   12.40,2,   29.60,2,    0.00,2,    1.89,2,   1.501,2,   0.805,2,   0.318,2,  2221.5,2,  2311.1,2,  1062.9,2,      20,   7.5577,2,    25.00, -999.00,9,  -999.0,9,  -999.0, -999.00,9, -999.00,9,     36.668,2,-999.0000,9,-999.0000,9,-999.0000,9,-999.0000,9,-999.0000,9,-999.0000,9,-999.0000,9,-999.0000,9,-999.0000,9,     -999.0,5,  -999.0,9,     -999.0,     -999.0,9,     -999.0,20130922,       1559
33RO20130803,       A16N,     111,          2,         15,         15,2,20130922,       1420,     8.0000,   -27.4999,       5102,   448.2,   9.3139,  34.9328,2,  34.9320,2,     66.0,2,    67.2,2,   15.70,2,   34.20,2,    0.00,2,    2.15,2,   0.856,6,   0.452,6,   0.144,6,  2239.2,2,  2307.3,6,  1239.8,2,      20,   7.4929,2,    25.00, -999.00,9,  -999.0,9,  -999.0, -999.00,9, -999.00,9,     38.829,6,-999.0000,9,-999.0000,9,-999.0000,9,-999.0000,9,-999.0000,9,-999.0000,9,-999.0000,9,-999.0000,9,-999.0000,9,     -999.0,5,  -999.0,9,     -999.0,     -999.0,9,     -999.0,20130922,       1556
33RO20130803,       A16N,     111,          2,         14,         14,2,20130922,       1420,     8.0000,   -27.4999,       5102,   548.0,   8.3100,  34.8588,2,  34.8538,2,     68.3,2,    70.3,2,   18.50,2,   35.90,2,    0.00,2,    2.29,2,   0.468,2,   0.247,2,   0.080,2,  2241.9,6,  2276.4,4,  1272.6,2,      20,   7.4772,2,    25.00, -999.00,9,  -999.0,9,  -999.0, -999.00,9, -999.00,9,     35.869,2,-999.0000,9,-999.0000,9,-999.0000,9,-999.0000,9,-999.0000,9,-999.0000,9,-999.0000,9,-999.0000,9,-999.0000,9,     -999.0,5,  -999.0,9,     -999.0,     -999.0,9,     -999.0,20130922,       1553
33RO20130803,       A16N,     111,          2,         13,         13,2,20130922,       1420,     8.0000,   -27.4999,       5102,   722.7,   6.2967,  34.6916,2,  34.6890,2,     97.9,2,    99.5,2,   24.40,2,   36.40,2,    0.00,2,    2.41,2,   0.139,2,   0.075,2,   0.020,2,  2236.7,2,  2305.7,2,  1215.3,2,      20,   7.4914,2,    25.00, -999.00,9,  -999.0,9,  -999.0, -999.00,9, -999.00,9,     29.690,2,-999.0000,9,-999.0000,9,-999.0000,9,-999.0000,9,-999.0000,9,-999.0000,9,-999.0000,9,-999.0000,9,-999.0000,9,     -999.0,5,  -999.0,9,     -999.0,     -999.0,9,     -999.0,20130922,       1548
33RO20130803,       A16N,     111,          2,         12,         12,2,20130922,       1420,     8.0000,   -27.4999,       5102,   873.5,   5.4951,  34.6732,2,  34.6724,2,    117.6,2,   117.7,2,   27.10,2,   35.30,2,    0.00,2,    2.38,2,   0.047,2,   0.028,2,   0.000,2,  2232.1,2,  2306.3,2,  1146.2,2,      20,   7.5140,2,    25.00, -999.00,9,  -999.0,9,  -999.0, -999.00,9, -999.00,9,     26.831,2,-999.0000,9,-999.0000,9,-999.0000,9,-999.0000,9,-999.0000,9,-999.0000,9,-999.0000,9,-999.0000,9,-999.0000,9,     -999.0,5,  -999.0,9,     -999.0,     -999.0,9,     -999.0,20130922,       1545
33RO20130803,       A16N,     111,          2,         11,         11,2,20130922,       1420,     8.0000,   -27.4999,       5102,  1021.7,   5.0573,  34.7149,2,  34.7163,2,    139.2,2,   139.5,2,   27.40,2,   33.00,2,    0.00,2,    2.24,2,   0.031,2,   0.019,2,   0.000,2,  2225.5,2,  2309.5,2,  1052.5,2,      20,   7.5504,2,    25.00, -999.00,9,  -999.0,9,  -999.0, -999.00,9, -999.00,9,     23.920,2,-999.0000,9,-999.0000,9,-999.0000,9,-999.0000,9,-999.0000,9,-999.0000,9,-999.0000,9,-999.0000,9,-999.0000,9,     -999.0,5,  -999.0,9,     -999.0,     -999.0,9,     -999.0,20130922,       1540
33RO20130803,       A16N,     111,          2,         10,         10,2,20130922,       1420,     8.0000,   -27.4999,       5102,  1172.7,   4.9015,  34.8312,2,  34.8301,2,    160.8,2,   160.7,2,   24.80,2,   29.70,2,    0.00,2,    2.01,2,   0.040,2,   0.023,2,   0.000,2,  2213.5,2,  2313.8,2,   939.4,2,      20,   7.5980,2,    25.00, -999.00,9,  -999.0,9,  -999.0, -999.00,9, -999.00,9,     21.168,2,-999.0000,9,-999.0000,9,-999.0000,9,-999.0000,9,-999.0000,9,-999.0000,9,-999.0000,9,-999.0000,9,-999.0000,9,     -999.0,5,  -999.0,9,     -999.0,     -999.0,9,     -999.0,20130922,       1536
33RO20130803,       A16N,     111,          2,          9,          9,2,20130922,       1420,     8.0000,   -27.4999,       5102,  1397.6,   4.5635,  34.9369,2,  34.9375,2,    202.2,2,   201.7,2,   20.40,2,   24.40,2,    0.00,2,    1.65,2,   0.161,2,   0.083,2,   0.029,2,  2190.4,2,  2323.3,3,   792.3,2,      20,   7.6671,2,    25.00, -999.00,9,  -999.0,9,  -999.0, -999.00,9, -999.00,9,     17.161,2,-999.0000,9,-999.0000,9,-999.0000,9,-999.0000,9,-999.0000,9,-999.0000,9,-999.0000,9,-999.0000,9,-999.0000,9,     -999.0,5,  -999.0,9,     -999.0,     -999.0,9,     -999.0,20130922,       1531
33RO20130803,       A16N,     111,          2,          8,          8,2,20130922,       1420,     8.0000,   -27.4999,       5102,  1747.5,   3.8922,  34.9710,2,  34.9712,2,    237.2,2,   237.9,2,   18.90,2,   20.80,2,    0.00,2,    1.40,2,   0.157,2,   0.082,2,   0.000,2,  2173.0,2,  2318.8,2,   705.7,2,      20,   7.7141,2,    25.00, -999.00,9,  -999.0,9,  -999.0, -999.00,9, -999.00,9,     14.390,2,-999.0000,9,-999.0000,9,-999.0000,9,-999.0000,9,-999.0000,9,-999.0000,9,-999.0000,9,-999.0000,9,-999.0000,9,     -999.0,5,  -999.0,9,     -999.0,     -999.0,9,     -999.0,20130922,       1524
33RO20130803,       A16N,     111,          2,          7,          7,2,20130922,       1420,     8.0000,   -27.4999,       5102,  2197.5,   3.3392,  34.9534,2,  34.9533,2,    243.6,2,   243.6,2,   23.90,2,   20.70,2,    0.00,2,    1.40,2,   0.028,2,   0.016,2,   0.000,2,  2176.3,2,  2326.4,2,   691.9,2,      20,   7.7227,2,    25.00, -999.00,9,  -999.0,9,  -999.0, -999.00,9, -999.00,9,     13.872,2,-999.0000,9,-999.0000,9,-999.0000,9,-999.0000,9,-999.0000,9,-999.0000,9,-999.0000,9,-999.0000,9,-999.0000,9,     -999.0,5,  -999.0,9,     -999.0,     -999.0,9,     -999.0,20130922,       1515
33RO20130803,       A16N,     111,          2,          6,          6,2,20130922,       1420,     8.0000,   -27.4999,       5102,  2597.5,   2.9701,  34.9370,2,  34.9372,2,    245.9,2,   246.7,2,   28.90,2,   20.80,2,    0.00,2,    1.41,2,   0.005,2,   0.006,2,   0.000,2,  2178.6,2,  2328.5,6,   697.0,2,      20,   7.7265,2,    25.00, -999.00,9,  -999.0,9,  -999.0, -999.00,9, -999.00,9,     13.598,2,-999.0000,9,-999.0000,9,-999.0000,9,-999.0000,9,-999.0000,9,-999.0000,9,-999.0000,9,-999.0000,9,-999.0000,9,     -999.0,5,  -999.0,9,     -999.0,     -999.0,9,     -999.0,20130922,       1508
33RO20130803,       A16N,     111,          2,          5,          5,2,20130922,       1420,     8.0000,   -27.4999,       5102,  3096.3,   2.6735,  34.9154,2,  34.9155,2,    245.9,2,   246.9,2,   34.90,2,   21.20,2,    0.00,2,    1.44,2,   0.011,2,   0.009,2,   0.000,2,  2186.8,2,  2340.4,2,   734.2,2,      20,   7.7222,2,    25.00, -999.00,9,  -999.0,9,  -999.0, -999.00,9, -999.00,9,     13.667,2,-999.0000,9,-999.0000,9,-999.0000,9,-999.0000,9,-999.0000,9,-999.0000,9,-999.0000,9,-999.0000,9,-999.0000,9,     -999.0,5,  -999.0,9,     -999.0,     -999.0,9,     -999.0,20130922,       1458
33RO20130803,       A16N,     111,          2,          4,          4,2,20130922,       1420,     8.0000,   -27.4999,       5102,  3598.3,   2.4859,  34.9004,2,  34.9003,2,    247.1,2,   247.7,2,   38.90,6,   21.50,6,    0.00,6,    1.46,6,   0.024,2,   0.015,2,   0.000,2,  2189.9,2,  2339.3,2,   739.4,2,      20,   7.7205,2,    25.00, -999.00,9,  -999.0,9,  -999.0, -999.00,9, -999.00,9,     13.666,2,-999.0000,9,-999.0000,9,-999.0000,9,-999.0000,9,-999.0000,9,-999.0000,9,-999.0000,9,-999.0000,9,-999.0000,9,     -999.0,5,  -999.0,9,     -999.0,     -999.0,9,     -999.0,20130922,       1449
33RO20130803,       A16N,     111,          2,          3,          3,2,20130922,       1420,     8.0000,   -27.4999,       5102,  4097.9,   2.3229,  34.8848,2,  34.8850,2,    249.4,2,   249.9,2,   42.40,6,   21.60,6,    0.00,6,    1.47,6,   0.100,2,   0.055,2,   0.000,2,  2191.7,2,  2352.6,2,   745.0,2,      20,   7.7200,2,    25.00, -999.00,9,  -999.0,9,  -999.0, -999.00,9, -999.00,9,     13.777,2,-999.0000,9,-999.0000,9,-999.0000,9,-999.0000,9,-999.0000,9,-999.0000,9,-999.0000,9,-999.0000,9,-999.0000,9,     -999.0,5,  -999.0,9,     -999.0,     -999.0,9,     -999.0,20130922,       1439
33RO20130803,       A16N,     111,          2,          2,          2,2,20130922,       1420,     8.0000,   -27.4999,       5102,  4592.0,   2.2995,  34.8781,2,  34.8774,2,    244.4,2,   244.2,2,   46.80,6,   22.40,6,    0.00,6,    1.51,6,   0.046,6,   0.027,6,   0.000,6,  2202.1,2,  2352.1,2,   750.1,2,      20,   7.7168,6,    25.00, -999.00,9,  -999.0,9,  -999.0, -999.00,9, -999.00,9,     13.916,6,-999.0000,9,-999.0000,9,-999.0000,9,-999.0000,9,-999.0000,9,-999.0000,9,-999.0000,9,-999.0000,9,-999.0000,9,     -999.0,5,  -999.0,9,     -999.0,     -999.0,9,     -999.0,20130922,       1430
33RO20130803,       A16N,     111,          2,          1,          1,2,20130922,       1420,     8.0000,   -27.4999,       5102,  5159.6,   2.3376,  34.8751,2,  34.8748,2,    241.8,2,   240.8,2,   49.00,6,   22.80,6,    0.00,6,    1.54,6,   0.023,2,   0.015,2,   0.000,2,  2208.7,6,  2356.5,2,   743.2,2,      20,   7.7080,3,    25.00, -999.00,9,  -999.0,9,  -999.0, -999.00,9, -999.00,9,     13.969,2,-999.0000,9,-999.0000,9,-999.0000,9,-999.0000,9,-999.0000,9,-999.0000,9,-999.0000,9,-999.0000,9,-999.0000,9,     -999.0,5,  -999.0,9,     -999.0,     -999.0,9,     -999.0,20130922,       1420