BOTTLE,20220815CCHSIOAMB
EXPOCODE,SECT_ID,STNNBR,CASTNO,SAMPNO,BTLNBR,BTLNBR_FLAG_W,DATE,TIME,LATITUDE,LONGITUDE,DEPTH,CTDPRS,CTDTMP,CTDSAL,CTDSAL_FLAG_W,SALNTY,SALNTY_FLAG_W,CTDOXY,CTDOXY_FLAG_W,OXYGEN,OXYGEN_FLAG_W,SILCAT,SILCAT_FLAG_W,NITRAT,NITRAT_FLAG_W,NITRIT,NITRIT_FLAG_W,PHSPHT,PHSPHT_FLAG_W,CFC-11,CFC-11_FLAG_W,CFC-12,CFC-12_FLAG_W,SF6,SF6_FLAG_W,TCARBN,TCARBN_FLAG_W,ALKALI,ALKALI_FLAG_W,PCO2,PCO2_FLAG_W,PCO2TMP,PH_SWS,PH_SWS_FLAG_W,PH_TMP,DELC13,DELC13_FLAG_W,DELC14,DELC14_FLAG_W,C14ERR,DOC,DOC_FLAG_W,TDN,TDN_FLAG_W,N2O,N2O_FLAG_W,CDOM325,CDOM325_FLAG_W,CDOM340,CDOM340_FLAG_W,CDOM380,CDOM380_FLAG_W,CDOM412,CDOM412_FLAG_W,CDOM443,CDOM443_FLAG_W,CDOM490,CDOM490_FLAG_W,CDOM555,CDOM555_FLAG_W,CDOMSL,CDOMSL_FLAG_W,CDOMSN,CDOMSN_FLAG_W,CCL4,CCL4_FLAG_W,14C-DOC,14C-DOC_FLAG_W,14C-DOCERR,13C-DOC,13C-DOC_FLAG_W,13C-DOCERR,BTL_DATE,BTL_TIME
,,,,,,,,,,,METERS,DBAR,ITS-90,PSS-78,,PSS-78,,UMOL/KG,,UMOL/KG,,UMOL/KG,,UMOL/KG,,UMOL/KG,,UMOL/KG,,PMOL/KG,,PMOL/KG,,FMOL/KG,,UMOL/KG,,UMOL/KG,,UATM,,DEG C,,,DEG C,/MILLE,,/MILLE,,/MILLE,UMOL/KG,,UMOL/KG,,NMOL/KG,,1/M,,1/M,,1/M,,1/M,,1/M,,1/M,,1/M,,1/NM,,1/NM,,PMOL/KG,,/MILLE,,/MILLE,/MILLE,,/MILLE,,
33RO20130803,       A16N,      92,          1,         24,         24,2,20130912,       2027,    17.4916,   -29.0004,       4677,     3.5,  26.4037,  36.4064,2,  36.4061,2,    201.7,2,   202.9,2,    0.60,2,    0.10,2,    0.00,2,    0.02,2,   1.594,2,   1.014,2,   1.226,2,  2053.3,6,  2387.2,2,   306.9,2,      20,   8.0561,3,    25.00,    1.37,2,    48.6,2,     0.2,   71.19,2,    4.48,2,      6.045,2,-999.0000,9,-999.0000,9,-999.0000,9,-999.0000,9,-999.0000,9,-999.0000,9,-999.0000,9,-999.0000,9,-999.0000,9,     -999.0,5,  -999.0,9,     -999.0,     -999.0,9,     -999.0,20130912,       2309
33RO20130803,       A16N,      92,          1,         23,         23,2,20130912,       2027,    17.4916,   -29.0004,       4677,    13.6,  26.4121,  36.4058,2,  36.4108,2,    201.9,2,   202.5,2,    0.60,2,    0.10,2,    0.00,2,    0.02,2,   1.594,2,   1.015,2,   1.235,2,  2056.8,2,  2400.1,3,   308.5,2,      20,   8.0517,3,    25.00,    1.33,2,    45.9,2,     0.2,   67.26,2,    4.46,2,      6.059,2,-999.0000,9,-999.0000,9,-999.0000,9,-999.0000,9,-999.0000,9,-999.0000,9,-999.0000,9,-999.0000,9,-999.0000,9,     -999.0,5,  -999.0,9,     -999.0,     -999.0,9,     -999.0,20130912,       2308
33RO20130803,       A16N,      92,          1,         22,         22,2,20130912,       2027,    17.4916,   -29.0004,       4677,    33.5,  23.7350,  36.7512,2,  36.7501,2,    220.5,2,   221.3,2,    0.60,2,    0.10,2,    0.00,2,    0.05,2,   1.863,2,   1.153,2,   1.341,2,  2089.8,2,  2405.6,2,   337.7,2,      20,   8.0342,2,    25.00,    1.30,2,    48.4,2,     0.2,   63.49,2,    4.22,2,      7.470,2,-999.0000,9,-999.0000,9,-999.0000,9,-999.0000,9,-999.0000,9,-999.0000,9,-999.0000,9,-999.0000,9,-999.0000,9,     -999.0,5,  -999.0,9,     -999.0,     -999.0,9,     -999.0,20130912,       2306
33RO20130803,       A16N,      92,          1,         21,         21,2,20130912,       2027,    17.4916,   -29.0004,       4677,    63.1,  21.4494,  36.8863,2,  36.8989,2,    205.5,2,   202.7,2,    0.80,2,    0.40,2,    0.04,2,    0.13,2,   1.952,6,   1.206,6,   1.338,6,  2121.5,2,  2416.4,2,   386.8,2,      20,   7.9879,2,    25.00,    1.07,2,    55.0,2,     0.2,   59.75,2,    4.47,2,      8.410,6,-999.0000,9,-999.0000,9,-999.0000,9,-999.0000,9,-999.0000,9,-999.0000,9,-999.0000,9,-999.0000,9,-999.0000,9,     -999.0,5,  -999.0,9,     -999.0,     -999.0,9,     -999.0,20130912,       2303
33RO20130803,       A16N,      92,          1,         20,         20,2,20130912,       2027,    17.4916,   -29.0004,       4677,    82.6,  20.4591,  36.9639,2,  36.9723,2,    175.9,2,   176.6,2,    1.20,2,    4.30,2,    0.12,2,    0.30,2,   2.014,2,   1.236,2,   1.305,2,  2161.0,2,  2416.4,2,   444.2,2,      20,   7.9407,2,    25.00,    0.67,2,    57.0,2,     0.3,   57.63,2,    8.56,2,     10.092,2,-999.0000,9,-999.0000,9,-999.0000,9,-999.0000,9,-999.0000,9,-999.0000,9,-999.0000,9,-999.0000,9,-999.0000,9,     -999.0,5,  -999.0,9,     -999.0,     -999.0,9,     -999.0,20130912,       2301
33RO20130803,       A16N,      92,          1,         19,         19,2,20130912,       2027,    17.4916,   -29.0004,       4677,   122.5,  17.9382,  36.5605,2,  36.5537,2,    153.8,2,   151.3,2,    2.70,2,   10.30,2,    0.02,2,    0.61,2,   2.143,2,   1.300,2,   1.201,2,  2175.4,2,  2389.2,2,   547.2,6,      20,   7.8553,2,    25.00,    0.39,2,    58.7,2,     0.2,   54.48,2,   13.41,2,     14.345,2,-999.0000,9,-999.0000,9,-999.0000,9,-999.0000,9,-999.0000,9,-999.0000,9,-999.0000,9,-999.0000,9,-999.0000,9,     -999.0,5,  -999.0,9,     -999.0,     -999.0,9,     -999.0,20130912,       2259
33RO20130803,       A16N,      92,          1,         18,         18,2,20130912,       2027,    17.4916,   -29.0004,       4677,   184.2,  15.0311,  35.9619,2,  35.9644,2,    107.3,2,     106,2,    5.70,2,   19.10,2,    0.01,2,    1.14,2,   2.055,2,   1.186,2,   0.866,2,  2202.9,2,  2355.0,2,   763.8,2,      20,   8.6114,4,    25.00,    0.19,2,    55.7,2,     0.2,   51.02,2,   21.66,2,     24.737,2,-999.0000,9,-999.0000,9,-999.0000,9,-999.0000,9,-999.0000,9,-999.0000,9,-999.0000,9,-999.0000,9,-999.0000,9,     -999.0,5,  -999.0,9,     -999.0,     -999.0,9,     -999.0,20130912,       2256
33RO20130803,       A16N,      92,          1,         17,         17,2,20130912,       2027,    17.4916,   -29.0004,       4677,   263.1,  13.1933,  35.6289,2,  35.6243,2,     80.0,2,    79.6,2,    8.50,2,   24.80,2,    0.00,2,    1.49,2,   1.784,2,   0.996,2,   0.581,2,  2222.1,2,  2334.2,2,   955.4,2,      20,   7.6344,2,    25.00,    0.10,2,    33.6,2,     0.4,   48.89,2,   27.27,2,     30.563,2,-999.0000,9,-999.0000,9,-999.0000,9,-999.0000,9,-999.0000,9,-999.0000,9,-999.0000,9,-999.0000,9,-999.0000,9,     -999.0,5,  -999.0,9,     -999.0,     -999.0,9,     -999.0,20130912,       2253
33RO20130803,       A16N,      92,          1,         16,         16,2,20130912,       2027,    17.4916,   -29.0004,       4677,   348.8,  12.3685,  35.5532,2,  35.5517,2,     77.7,2,    81.1,2,    9.50,2,   26.10,2,    0.00,2,    1.56,2,   1.611,6,   0.889,6,   0.508,6,  2224.7,2,  2331.9,2,   997.6,2,      20,   7.6167,2,    25.00,    0.25,2,    24.5,2,     0.2,    47.6,2,   28.35,2,     29.945,6,-999.0000,9,-999.0000,9,-999.0000,9,-999.0000,9,-999.0000,9,-999.0000,9,-999.0000,9,-999.0000,9,-999.0000,9,     -999.0,5,  -999.0,9,     -999.0,     -999.0,9,     -999.0,20130912,       2250
33RO20130803,       A16N,      92,          1,         15,         15,2,20130912,       2027,    17.4916,   -29.0004,       4677,   448.1,  10.7784,  35.3432,2,  35.3411,2,     78.3,2,    82.1,2,   12.40,2,   29.00,2,    0.00,2,    1.76,2,   1.099,2,   0.586,2,   0.305,2,  2227.0,6,  2342.0,3,  1079.8,2,      20,   7.5826,2,    25.00,    0.37,2,    -5.4,2,     0.2,   46.57,2,   31.63,2,     29.432,2,-999.0000,9,-999.0000,9,-999.0000,9,-999.0000,9,-999.0000,9,-999.0000,9,-999.0000,9,-999.0000,9,-999.0000,9,     -999.0,5,  -999.0,9,     -999.0,     -999.0,9,     -999.0,20130912,       2247
33RO20130803,       A16N,      92,          1,         14,         14,2,20130912,       2027,    17.4916,   -29.0004,       4677,   573.2,   9.0249,  35.1106,2,  35.1102,2,     81.4,2,    83.8,2,   16.50,2,   32.00,2,    0.00,2,    2.01,2,   0.544,2,   0.290,2,   0.148,2,  2235.4,2,  2314.2,2,  1177.0,2,      20,   7.5461,6,    25.00,    0.45,2,   -37.5,2,     0.2,   44.94,2,    34.3,2,     29.764,2,-999.0000,9,-999.0000,9,-999.0000,9,-999.0000,9,-999.0000,9,-999.0000,9,-999.0000,9,-999.0000,9,-999.0000,9,     -999.0,5,  -999.0,9,     -999.0,     -999.0,9,     -999.0,20130912,       2242
33RO20130803,       A16N,      92,          1,         13,         13,2,20130912,       2027,    17.4916,   -29.0004,       4677,   723.4,   7.4532,  34.9520,2,  34.9506,2,     99.7,2,   101.9,2,   20.40,2,   32.70,2,    0.00,2,    2.12,2,   0.198,2,   0.108,2,   0.041,2,  2232.6,2,  2312.3,2,  1163.3,2,      20,   7.5467,2,    25.00,    0.56,2,   -75.4,2,     0.2,   43.32,2,   35.35,2,     26.874,2,-999.0000,9,-999.0000,9,-999.0000,9,-999.0000,9,-999.0000,9,-999.0000,9,-999.0000,9,-999.0000,9,-999.0000,9,     -999.0,5,  -999.0,9,     -999.0,     -999.0,9,     -999.0,20130912,       2225
33RO20130803,       A16N,      92,          1,         12,         12,2,20130912,       2027,    17.4916,   -29.0004,       4677,   873.3,   6.4778,  34.9197,2,  34.9187,2,    122.3,2,   122.8,2,   22.30,2,   31.50,2,    0.01,2,    2.08,2,   0.077,2,   0.042,2,   0.020,2,  2226.2,2,  2310.4,2,  1108.7,2,      20,   7.5701,2,    25.00,    0.67,2,   -89.8,2,     0.2,   42.97,2,   34.13,2,     24.262,2,-999.0000,9,-999.0000,9,-999.0000,9,-999.0000,9,-999.0000,9,-999.0000,9,-999.0000,9,-999.0000,9,-999.0000,9,     -999.0,5,  -999.0,9,     -999.0,     -999.0,9,     -999.0,20130912,       2220
33RO20130803,       A16N,      92,          1,         11,         11,2,20130912,       2027,    17.4916,   -29.0004,       4677,  1023.5,   6.0111,  34.9499,2,  34.9485,2,    139.8,2,   140.4,2,   22.40,2,   29.90,2,    0.01,2,    1.97,2,   0.054,2,   0.029,2,   0.000,2,  2219.3,2,  2274.2,4,  1039.3,2,      20,   7.5964,2,    25.00,    0.71,2,   -96.3,2,     0.2,   41.98,2,   32.18,2,     22.013,2,-999.0000,9,-999.0000,9,-999.0000,9,-999.0000,9,-999.0000,9,-999.0000,9,-999.0000,9,-999.0000,9,-999.0000,9,     -999.0,5,  -999.0,9,     -999.0,     -999.0,9,     -999.0,20130912,       2215
33RO20130803,       A16N,      92,          1,         10,         10,2,20130912,       2027,    17.4916,   -29.0004,       4677,  1198.5,   5.6862,  35.0343,2,  35.0342,2,    165.0,2,   165.9,2,   21.10,2,   26.70,2,    0.00,2,    1.78,2,   0.054,2,   0.029,2,   0.000,2,  2207.6,2,  2320.8,2,   929.6,2,      20,   7.6419,2,    25.00,    0.82,2,   -96.0,2,     0.3,   41.27,2,   29.25,2,     19.033,2,-999.0000,9,-999.0000,9,-999.0000,9,-999.0000,9,-999.0000,9,-999.0000,9,-999.0000,9,-999.0000,9,-999.0000,9,     -999.0,5,  -999.0,9,     -999.0,     -999.0,9,     -999.0,20130912,       2209
33RO20130803,       A16N,      92,          1,          9,          9,2,20130912,       2027,    17.4916,   -29.0004,       4677,  1449.3,   4.8073,  35.0352,2,  35.0350,2,    194.0,2,   194.5,2,   21.50,2,   24.20,2,    0.00,2,    1.62,2,   0.013,2,   0.008,2,   0.000,2,  2196.6,2,  2320.2,2,   851.5,2,      20,   7.6756,2,    25.00,    0.90,2,   -97.4,2,     0.2,   41.13,2,   26.56,2,     16.668,2,-999.0000,9,-999.0000,9,-999.0000,9,-999.0000,9,-999.0000,9,-999.0000,9,-999.0000,9,-999.0000,9,-999.0000,9,     -999.0,5,  -999.0,9,     -999.0,     -999.0,9,     -999.0,20130912,       2147
33RO20130803,       A16N,      92,          1,          8,          8,2,20130912,       2027,    17.4916,   -29.0004,       4677,  1798.7,   3.8781,  34.9918,2,  34.9917,2,    225.8,2,   226.1,2,   22.60,2,   21.90,2,    0.01,2,    1.46,2,   0.006,2,   0.004,2,   0.000,2,  2182.0,2,  2322.8,2,   785.1,2,      20,   7.7081,2,    25.00,    0.93,2,  -100.2,2,     0.2,   41.19,2,   24.22,2,     14.542,2,-999.0000,9,-999.0000,9,-999.0000,9,-999.0000,9,-999.0000,9,-999.0000,9,-999.0000,9,-999.0000,9,-999.0000,9,     -999.0,5,  -999.0,9,     -999.0,     -999.0,9,     -999.0,20130912,       2140
33RO20130803,       A16N,      92,          1,          7,          7,2,20130912,       2027,    17.4916,   -29.0004,       4677,  2198.0,   3.3527,  34.9685,2,  34.9677,2,    236.9,2,   237.3,2,   26.10,2,   21.10,2,    0.00,2,    1.42,2,   0.002,2,   0.002,2,   0.000,2,  2181.0,2,  2323.6,2,   763.8,2,      20,   7.7234,2,    25.00,    1.01,2,  -105.9,2,     0.3,   41.08,2,   23.54,2,     13.601,2,-999.0000,9,-999.0000,9,-999.0000,9,-999.0000,9,-999.0000,9,-999.0000,9,-999.0000,9,-999.0000,9,-999.0000,9,     -999.0,5,  -999.0,9,     -999.0,     -999.0,9,     -999.0,20130912,       2128
33RO20130803,       A16N,      92,          1,          6,          6,2,20130912,       2027,    17.4916,   -29.0004,       4677,  2648.2,   2.9729,  34.9477,2,  34.9468,2,    242.3,2,   242.9,2,   30.80,2,   21.00,2,    0.00,2,    1.41,2,   0.001,2,   0.001,2,   0.000,2,  2183.7,2,  2334.3,2,   753.5,2,      20,   7.7288,2,    25.00,    1.02,2,  -116.4,2,     0.2,      41,2,   23.72,2,     13.286,2,-999.0000,9,-999.0000,9,-999.0000,9,-999.0000,9,-999.0000,9,-999.0000,9,-999.0000,9,-999.0000,9,-999.0000,9,     -999.0,5,  -999.0,9,     -999.0,     -999.0,9,     -999.0,20130912,       2119
33RO20130803,       A16N,      92,          1,          5,          5,2,20130912,       2027,    17.4916,   -29.0004,       4677,  3047.7,   2.7224,  34.9312,2,  34.9303,2,    243.4,2,   243.7,2,   35.60,2,   21.30,2,    0.00,2,    1.44,2,   0.001,2,   0.002,2,   0.000,2,  2189.7,2,  2339.5,2,   755.6,2,      20,   7.7287,2,    25.00,    1.03,2,  -114.0,2,     0.2,   41.12,2,   23.64,2,     13.202,2,-999.0000,9,-999.0000,9,-999.0000,9,-999.0000,9,-999.0000,9,-999.0000,9,-999.0000,9,-999.0000,9,-999.0000,9,     -999.0,5,  -999.0,9,     -999.0,     -999.0,9,     -999.0,20130912,       2109
33RO20130803,       A16N,      92,          1,          4,          4,2,20130912,       2027,    17.4916,   -29.0004,       4677,  3549.0,   2.5027,  34.9113,2,  34.9118,2,    240.0,2,   240.4,2,   41.20,6,   21.90,6,    0.00,6,    1.48,6,   0.004,2,   0.004,2,   0.000,2,  2199.3,2,  2350.1,2,   762.5,2,      20,   7.7279,2,    25.00,    1.03,2,  -122.2,2,     0.2,   40.85,2,   24.53,2,     13.272,2,-999.0000,9,-999.0000,9,-999.0000,9,-999.0000,9,-999.0000,9,-999.0000,9,-999.0000,9,-999.0000,9,-999.0000,9,     -999.0,5,  -999.0,9,     -999.0,     -999.0,9,     -999.0,20130912,       2057
33RO20130803,       A16N,      92,          1,          3,          3,2,20130912,       2027,    17.4916,   -29.0004,       4677,  4049.3,   2.3698,  34.8935,2,  34.8925,2,    239.4,2,   239.8,2,   45.50,6,   22.40,6,    0.00,6,    1.51,6,   0.003,2,   0.004,2,   0.000,2,  2205.3,2,  2376.2,4,   769.2,2,      20,   7.7255,2,    25.00,    0.95,2,  -124.4,2,     0.2,   40.78,2,      25,2,     13.439,2,-999.0000,9,-999.0000,9,-999.0000,9,-999.0000,9,-999.0000,9,-999.0000,9,-999.0000,9,-999.0000,9,-999.0000,9,     -999.0,5,  -999.0,9,     -999.0,     -999.0,9,     -999.0,20130912,       2046
33RO20130803,       A16N,      92,          1,          2,          2,2,20130912,       2027,    17.4916,   -29.0004,       4677,  4547.7,   2.3614,  34.8861,2,  34.8864,2,    239.5,2,   240.4,2,   47.00,6,   22.60,6,    0.00,6,    1.52,6,   0.007,2,   0.005,2,   0.000,2,  2206.4,2,  2354.5,2,   774.0,2,      20,   7.7255,6,    25.00,    0.98,2,  -120.4,2,     0.2,   40.41,2,   25.08,2,     13.500,2,-999.0000,9,-999.0000,9,-999.0000,9,-999.0000,9,-999.0000,9,-999.0000,9,-999.0000,9,-999.0000,9,-999.0000,9,     -999.0,5,  -999.0,9,     -999.0,     -999.0,9,     -999.0,20130912,       2036
33RO20130803,       A16N,      92,          1,          1,          1,2,20130912,       2027,    17.4916,   -29.0004,       4677,  4732.1,   2.3503,  34.8822,2,  34.8817,2,    239.4,2,   239.4,2,   48.10,6,   22.70,6,    0.00,6,    1.52,6,   0.009,2,   0.006,2,   0.000,2,  2210.3,6,  -999.0,5,   792.4,2,      20,   7.7233,2,    25.00,    0.95,2,  -116.9,2,     0.2,   40.55,2,   25.12,2,     13.620,2,-999.0000,9,-999.0000,9,-999.0000,9,-999.0000,9,-999.0000,9,-999.0000,9,-999.0000,9,-999.0000,9,-999.0000,9,     -999.0,5,  -999.0,9,     -999.0,     -999.0,9,     -999.0,20130912,       2027