BOTTLE,20220815CCHSIOAMB
EXPOCODE,SECT_ID,STNNBR,CASTNO,SAMPNO,BTLNBR,BTLNBR_FLAG_W,DATE,TIME,LATITUDE,LONGITUDE,DEPTH,CTDPRS,CTDTMP,CTDSAL,CTDSAL_FLAG_W,SALNTY,SALNTY_FLAG_W,CTDOXY,CTDOXY_FLAG_W,OXYGEN,OXYGEN_FLAG_W,SILCAT,SILCAT_FLAG_W,NITRAT,NITRAT_FLAG_W,NITRIT,NITRIT_FLAG_W,PHSPHT,PHSPHT_FLAG_W,CFC-11,CFC-11_FLAG_W,CFC-12,CFC-12_FLAG_W,SF6,SF6_FLAG_W,TCARBN,TCARBN_FLAG_W,ALKALI,ALKALI_FLAG_W,PCO2,PCO2_FLAG_W,PCO2TMP,PH_SWS,PH_SWS_FLAG_W,PH_TMP,DELC13,DELC13_FLAG_W,DELC14,DELC14_FLAG_W,C14ERR,DOC,DOC_FLAG_W,TDN,TDN_FLAG_W,N2O,N2O_FLAG_W,CDOM325,CDOM325_FLAG_W,CDOM340,CDOM340_FLAG_W,CDOM380,CDOM380_FLAG_W,CDOM412,CDOM412_FLAG_W,CDOM443,CDOM443_FLAG_W,CDOM490,CDOM490_FLAG_W,CDOM555,CDOM555_FLAG_W,CDOMSL,CDOMSL_FLAG_W,CDOMSN,CDOMSN_FLAG_W,CCL4,CCL4_FLAG_W,14C-DOC,14C-DOC_FLAG_W,14C-DOCERR,13C-DOC,13C-DOC_FLAG_W,13C-DOCERR,BTL_DATE,BTL_TIME
,,,,,,,,,,,METERS,DBAR,ITS-90,PSS-78,,PSS-78,,UMOL/KG,,UMOL/KG,,UMOL/KG,,UMOL/KG,,UMOL/KG,,UMOL/KG,,PMOL/KG,,PMOL/KG,,FMOL/KG,,UMOL/KG,,UMOL/KG,,UATM,,DEG C,,,DEG C,/MILLE,,/MILLE,,/MILLE,UMOL/KG,,UMOL/KG,,NMOL/KG,,1/M,,1/M,,1/M,,1/M,,1/M,,1/M,,1/M,,1/NM,,1/NM,,PMOL/KG,,/MILLE,,/MILLE,/MILLE,,/MILLE,,
33RO20130803,       A16N,      30,          1,         24,         24,2,20130810,       0613,    50.4980,   -19.9919,       3937,     3.4,  16.2705,  35.1810,2,  35.1816,2,    249.1,2,   253.3,2,    0.20,2,    0.00,2,    0.01,2,    0.07,2,   2.563,2,   1.548,2,   1.755,2,  2059.8,6,  2327.9,2,  -999.0,9, -999.00,   7.9759,2,    25.00, -999.00,9,  -999.0,9,  -999.0,   64.13,2,    4.23,2,      8.455,2,   0.2904,2,   0.2097,2,   0.0983,2,   0.0687,2,   0.0416,2,   0.0244,2,   0.0062,2,   0.0187,2,   0.0200,2,     -999.0,5,  -999.0,9,     -999.0,     -999.0,9,     -999.0,20130810,       0746
33RO20130803,       A16N,      30,          1,         23,         23,2,20130810,       0613,    50.4980,   -19.9919,       3937,    17.0,  16.2002,  35.1846,2,  35.1860,2,    250.4,2,   254.7,2,    0.20,2,    0.10,2,    0.01,2,    0.07,2,-999.000,9,-999.000,9,-999.000,9,  2059.1,2,  2328.6,6,  -999.0,9, -999.00,   7.9735,2,    25.00, -999.00,9,  -999.0,9,  -999.0,   61.42,2,    4.48,2,     -999.0,9,   0.2715,2,   0.1954,2,   0.0915,2,   0.0613,2,   0.0348,2,   0.0196,2,   0.0039,2,   0.0189,2,   0.0201,2,     -999.0,9,  -999.0,9,     -999.0,     -999.0,9,     -999.0,20130810,       0743
33RO20130803,       A16N,      30,          1,         22,         22,2,20130810,       0613,    50.4980,   -19.9919,       3937,    36.3,  12.8424,  35.2525,2,  35.2516,2,    273.5,2,   273.5,2,    0.30,2,    3.40,2,    0.11,2,    0.29,2,-999.000,9,-999.000,9,-999.000,9,  2093.8,2,  -999.0,5,  -999.0,9, -999.00,   7.9088,2,    25.00, -999.00,9,  -999.0,9,  -999.0,    58.7,2,    6.47,2,     -999.0,9,   0.2102,2,   0.1532,2,   0.0697,2,   0.0495,2,   0.0275,2,   0.0164,2,   0.0026,2,   0.0192,2,   0.0203,2,     -999.0,9,  -999.0,9,     -999.0,     -999.0,9,     -999.0,20130810,       0741
33RO20130803,       A16N,      30,          1,         21,         21,2,20130810,       0613,    50.4980,   -19.9919,       3937,    61.2,  12.2342,  35.2607,2,  35.2650,2,    258.6,2,   259.3,2,    0.40,2,    4.60,2,    0.20,2,    0.42,2,-999.000,9,-999.000,9,-999.000,9,  2110.6,2,  2328.4,2,  -999.0,9, -999.00,   7.8756,2,    25.00, -999.00,9,  -999.0,9,  -999.0,   55.86,2,    8.07,2,     -999.0,9,   0.1750,2,   0.1246,2,   0.0549,2,   0.0400,2,   0.0198,2,   0.0111,2,   0.0001,4,   0.0199,2,   0.0215,2,     -999.0,9,  -999.0,9,     -999.0,     -999.0,9,     -999.0,20130810,       0740
33RO20130803,       A16N,      30,          1,         20,         20,2,20130810,       0613,    50.4980,   -19.9919,       3937,    85.5,  11.2258,  35.2189,2,  35.2251,2,    259.5,2,   258.5,2,    0.80,2,    6.60,2,    0.41,2,    0.55,2,-999.000,9,-999.000,9,-999.000,9,  2121.0,2,  2324.8,2,  -999.0,9, -999.00,   7.8479,2,    25.00, -999.00,9,  -999.0,9,  -999.0,   54.89,2,   10.08,2,     -999.0,9,   0.1758,2,   0.1245,2,   0.0554,2,   0.0408,2,   0.0204,2,   0.0117,2,   0.0005,4,   0.0198,2,   0.0215,2,     -999.0,9,  -999.0,9,     -999.0,     -999.0,9,     -999.0,20130810,       0738
33RO20130803,       A16N,      30,          1,         19,         19,2,20130810,       0613,    50.4980,   -19.9919,       3937,   106.6,  10.5236,  35.2099,2,  35.2114,2,    253.4,2,     254,2,    2.00,2,    9.60,2,    0.16,2,    0.64,2,-999.000,9,-999.000,9,-999.000,9,  2130.3,2,  2320.6,2,  -999.0,9, -999.00,   7.8219,6,    25.00, -999.00,9,  -999.0,9,  -999.0,   53.69,2,   12.22,2,     -999.0,9,   0.1700,2,   0.1203,2,   0.0541,2,   0.0390,2,   0.0188,2,   0.0104,2,  -0.0004,4,   0.0197,2,   0.0214,2,     -999.0,9,  -999.0,9,     -999.0,     -999.0,9,     -999.0,20130810,       0736
33RO20130803,       A16N,      30,          1,         18,         18,2,20130810,       0613,    50.4980,   -19.9919,       3937,   149.2,  10.1205,  35.1961,2,  35.1965,2,    251.2,2,   251.9,2,    3.30,2,   10.90,2,    0.02,2,    0.72,2,   3.234,2,   1.880,2,   1.975,2,  2135.9,2,  2319.9,2,  -999.0,9, -999.00,   7.8053,2,    25.00, -999.00,9,  -999.0,9,  -999.0,    52.9,2,   13.11,2,     11.178,2,   0.1587,2,   0.1109,2,   0.0489,2,   0.0354,2,   0.0164,2,   0.0090,3,  -0.0012,4,   0.0201,2,   0.0221,2,     -999.0,5,  -999.0,9,     -999.0,     -999.0,9,     -999.0,20130810,       0734
33RO20130803,       A16N,      30,          1,         17,         17,2,20130810,       0613,    50.4980,   -19.9919,       3937,   210.1,   9.6694,  35.1438,2,  35.1431,2,    248.5,2,   248.4,2,    4.30,2,   12.00,2,    0.02,2,    0.79,2,-999.000,9,-999.000,9,-999.000,9,  2142.4,2,  2317.7,2,  -999.0,9, -999.00,   7.7896,2,    25.00, -999.00,9,  -999.0,9,  -999.0,   52.53,2,   14.86,2,     -999.0,9,   0.1666,2,   0.1163,2,   0.0543,2,   0.0375,2,   0.0176,2,   0.0098,3,  -0.0007,4,   0.0193,2,   0.0212,2,     -999.0,9,  -999.0,9,     -999.0,     -999.0,9,     -999.0,20130810,       0732
33RO20130803,       A16N,      30,          1,         16,         16,2,20130810,       0613,    50.4980,   -19.9919,       3937,   286.2,   9.0788,  35.1049,2,  35.1040,2,    224.5,2,   224.8,2,    7.10,6,   15.20,6,    0.01,6,    0.99,6,-999.000,9,-999.000,9,-999.000,9,  2159.2,6,  2314.7,6,  -999.0,9, -999.00,   7.7444,2,    25.00, -999.00,9,  -999.0,9,  -999.0,   50.91,2,   17.56,2,     -999.0,9,   0.1718,2,   0.1183,2,   0.0512,2,   0.0378,2,   0.0187,2,   0.0106,2,  -0.0004,4,   0.0205,2,   0.0227,2,     -999.0,9,  -999.0,9,     -999.0,     -999.0,9,     -999.0,20130810,       0730
33RO20130803,       A16N,      30,          1,         15,         15,2,20130810,       0613,    50.4980,   -19.9919,       3937,   360.2,   8.0567,  34.9978,2,  34.9958,2,    215.8,2,   215.1,2,    8.90,2,   17.30,2,    0.01,2,    1.13,2,-999.000,9,-999.000,9,-999.000,9,  2166.0,2,  2309.9,2,  -999.0,9, -999.00,   7.7099,6,    25.00, -999.00,9,  -999.0,9,  -999.0,   49.46,2,   19.86,2,     -999.0,9,   0.1666,2,   0.1148,2,   0.0516,2,   0.0359,2,   0.0168,2,   0.0089,3,  -0.0016,4,   0.0201,2,   0.0221,2,     -999.0,9,  -999.0,9,     -999.0,     -999.0,9,     -999.0,20130810,       0727
33RO20130803,       A16N,      30,          1,         14,         14,2,20130810,       0613,    50.4980,   -19.9919,       3937,   423.5,   7.4003,  34.9880,2,  34.9875,2,    206.8,2,     207,2,   10.30,2,   18.80,2,    0.01,2,    1.23,2,-999.000,9,-999.000,9,-999.000,9,  2176.0,2,  2310.7,2,  -999.0,9, -999.00,   7.6895,2,    25.00, -999.00,9,  -999.0,9,  -999.0,   48.75,2,   21.43,2,     -999.0,9,   0.1720,2,   0.1157,2,   0.0508,2,   0.0344,2,   0.0201,2,   0.0118,2,   0.0030,2,   0.0208,2,   0.0234,2,     -999.0,9,  -999.0,9,     -999.0,     -999.0,9,     -999.0,20130810,       0725
33RO20130803,       A16N,      30,          1,         13,         13,2,20130810,       0613,    50.4980,   -19.9919,       3937,   573.1,   6.8331,  35.1165,2,  35.1192,2,    211.6,2,   211.8,2,   10.90,2,   18.80,2,    0.01,2,    1.22,2,-999.000,9,-999.000,9,-999.000,9,  2180.0,2,  2319.2,2,  -999.0,9, -999.00,   7.6924,2,    25.00, -999.00,9,  -999.0,9,  -999.0,   48.06,2,   21.36,2,     -999.0,9,   0.1471,2,   0.0986,2,   0.0427,2,   0.0276,2,   0.0155,2,   0.0092,2,   0.0013,3,   0.0213,2,   0.0239,2,     -999.0,9,  -999.0,9,     -999.0,     -999.0,9,     -999.0,20130810,       0722
33RO20130803,       A16N,      30,          1,         12,         12,2,20130810,       0613,    50.4980,   -19.9919,       3937,   721.8,   5.9964,  35.1124,2,  35.1114,2,    227.5,2,   229.1,2,   10.90,2,   18.40,2,    0.01,2,    1.19,2,-999.000,9,-999.000,9,-999.000,9,  -999.0,9,  -999.0,9,  -999.0,9, -999.00,-999.0000,9,  -999.00, -999.00,9,  -999.0,9,  -999.0,   46.92,2,   20.96,2,     -999.0,9,   0.1627,2,   0.1107,2,   0.0501,2,   0.0312,2,   0.0174,2,   0.0100,2,   0.0019,3,   0.0205,2,   0.0226,2,     -999.0,9,  -999.0,9,     -999.0,     -999.0,9,     -999.0,20130810,       0718
33RO20130803,       A16N,      30,          1,         11,         11,2,20130810,       0613,    50.4980,   -19.9919,       3937,   873.9,   4.9610,  35.0097,2,  35.0092,2,    246.6,2,     250,2,   10.60,2,   17.90,2,    0.00,2,    1.17,2,-999.000,9,-999.000,9,-999.000,9,  2171.9,2,  2311.9,2,  -999.0,9, -999.00,   7.6974,2,    25.00, -999.00,9,  -999.0,9,  -999.0,   46.59,2,   20.55,2,     -999.0,9,   0.1503,2,   0.1007,2,   0.0439,2,   0.0286,2,   0.0161,2,   0.0095,2,   0.0016,3,   0.0212,2,   0.0238,2,     -999.0,9,  -999.0,9,     -999.0,     -999.0,9,     -999.0,20130810,       0715
33RO20130803,       A16N,      30,          1,         10,         10,2,20130810,       0613,    50.4980,   -19.9919,       3937,  1023.8,   4.5187,  34.9715,2,  34.9706,2,    260.0,2,   260.1,2,   10.50,2,   17.60,2,    0.00,2,    1.16,2,   3.386,2,   1.814,2,   1.179,2,  -999.0,9,  -999.0,9,  -999.0,9, -999.00,-999.0000,9,  -999.00, -999.00,9,  -999.0,9,  -999.0,   46.25,2,   20.19,2,     13.277,3,   0.1631,2,   0.1088,2,   0.0465,2,   0.0317,2,   0.0184,2,   0.0113,2,   0.0025,3,   0.0213,2,   0.0241,2,     -999.0,5,  -999.0,9,     -999.0,     -999.0,9,     -999.0,20130810,       0711
33RO20130803,       A16N,      30,          1,          9,          9,2,20130810,       0613,    50.4980,   -19.9919,       3937,  1349.2,   3.9162,  34.9180,2,  34.9175,2,    271.7,2,   271.9,2,   10.60,2,   17.30,2,    0.00,2,    1.14,2,-999.000,9,-999.000,9,-999.000,9,  2163.7,2,  2304.3,2,  -999.0,9, -999.00,   7.7043,2,    25.00, -999.00,9,  -999.0,9,  -999.0,    46.2,2,   19.73,2,     -999.0,9,   0.1497,2,   0.0986,2,   0.0405,2,   0.0271,2,   0.0148,2,   0.0087,2,   0.0010,3,   0.0223,2,   0.0253,2,     -999.0,9,  -999.0,9,     -999.0,     -999.0,9,     -999.0,20130810,       0705
33RO20130803,       A16N,      30,          1,          8,          8,2,20130810,       0613,    50.4980,   -19.9919,       3937,  1520.6,   3.7709,  34.9168,2,  34.9163,2,    271.9,2,   272.3,2,   11.00,2,   17.30,2,    0.00,2,    1.13,2,-999.000,9,-999.000,9,-999.000,9,  -999.0,9,  -999.0,9,  -999.0,9, -999.00,-999.0000,9,  -999.00, -999.00,9,  -999.0,9,  -999.0,    46.1,2,   19.86,2,     -999.0,9,   0.1484,2,   0.0987,2,   0.0416,2,   0.0257,2,   0.0132,2,   0.0075,2,   0.0002,4,   0.0221,2,   0.0247,2,     -999.0,9,  -999.0,9,     -999.0,     -999.0,9,     -999.0,20130810,       0701
33RO20130803,       A16N,      30,          1,          7,          7,2,20130810,       0613,    50.4980,   -19.9919,       3937,  1771.3,   3.5907,  34.9169,2,  34.9163,2,    270.7,2,   271.6,2,   11.80,2,   17.30,2,    0.00,2,    1.14,2,-999.000,9,-999.000,9,-999.000,9,  2160.8,2,  2304.1,2,  -999.0,9, -999.00,   7.7095,2,    25.00, -999.00,9,  -999.0,9,  -999.0,   45.73,2,   19.86,2,     -999.0,9,   0.1479,2,   0.0979,2,   0.0395,2,   0.0257,2,   0.0136,2,   0.0080,2,   0.0004,4,   0.0227,2,   0.0255,2,     -999.0,9,  -999.0,9,     -999.0,     -999.0,9,     -999.0,20130810,       0656
33RO20130803,       A16N,      30,          1,          6,          6,2,20130810,       0613,    50.4980,   -19.9919,       3937,  1948.2,   3.4639,  34.9170,2,  34.9164,2,    272.4,2,   272.8,2,   12.40,2,   17.30,2,    0.00,2,    1.14,2,-999.000,9,-999.000,9,-999.000,9,  -999.0,9,  -999.0,9,  -999.0,9, -999.00,-999.0000,9,  -999.00, -999.00,9,  -999.0,9,  -999.0,   45.26,2,   19.74,2,     -999.0,9,   0.1463,2,   0.0963,2,   0.0420,2,   0.0250,2,   0.0122,2,   0.0066,2,  -0.0005,4,   0.0217,2,   0.0244,2,     -999.0,9,  -999.0,9,     -999.0,     -999.0,9,     -999.0,20130810,       0652
33RO20130803,       A16N,      30,          1,          5,          5,2,20130810,       0613,    50.4980,   -19.9919,       3937,  2298.7,   3.2088,  34.9256,2,  34.9256,2,    272.4,2,   272.9,2,   13.90,2,   17.10,2,    0.00,2,    1.13,2,   2.593,6,   1.293,6,   0.595,6,  2161.7,2,  2306.6,2,  -999.0,9, -999.00,   7.7140,2,    25.00, -999.00,9,  -999.0,9,  -999.0,   45.44,2,   19.53,2,     13.286,6,   0.1562,2,   0.1041,2,   0.0483,2,   0.0283,2,   0.0143,2,   0.0079,2,  -0.0002,4,   0.0205,2,   0.0230,2,     -999.0,5,  -999.0,9,     -999.0,     -999.0,9,     -999.0,20130810,       0645
33RO20130803,       A16N,      30,          1,          4,          4,2,20130810,       0613,    50.4980,   -19.9919,       3937,  2698.9,   2.9561,  34.9442,2,  34.9431,2,    265.6,2,   264.8,2,   20.40,2,   17.80,2,    0.00,2,    1.19,2,   1.957,2,   0.985,2,   0.535,2,  -999.0,9,  -999.0,9,  -999.0,9, -999.00,-999.0000,9,  -999.00, -999.00,9,  -999.0,9,  -999.0,   45.25,2,   20.14,2,     13.482,2,   0.1833,2,   0.1245,2,   0.0503,2,   0.0313,2,   0.0165,2,   0.0094,2,   0.0007,4,   0.0226,2,   0.0244,2,     -999.0,5,  -999.0,9,     -999.0,     -999.0,9,     -999.0,20130810,       0638
33RO20130803,       A16N,      30,          1,          3,          3,2,20130810,       0613,    50.4980,   -19.9919,       3937,  3098.2,   2.7104,  34.9343,2,  34.9341,2,    251.5,2,   251.1,2,   32.50,6,   20.00,6,    0.00,6,    1.34,6,   0.881,2,   0.438,2,   0.250,2,  2187.7,2,  2335.0,6,  -999.0,9, -999.00,   7.7220,2,    25.00, -999.00,9,  -999.0,9,  -999.0,   44.78,2,   22.45,2,     13.567,2,   0.1618,2,   0.1053,2,   0.0440,2,   0.0268,2,   0.0133,2,   0.0072,2,  -0.0008,4,   0.0225,2,   0.0254,2,     -999.0,5,  -999.0,9,     -999.0,     -999.0,9,     -999.0,20130810,       0630
33RO20130803,       A16N,      30,          1,          2,          2,2,20130810,       0613,    50.4980,   -19.9919,       3937,  3498.6,   2.5375,  34.9157,2,  34.9140,2,    242.4,2,   242.2,2,   41.50,6,   21.70,6,    0.00,6,    1.46,6,   0.209,2,   0.103,2,   0.084,2,  -999.0,9,  -999.0,9,  -999.0,9, -999.00,-999.0000,9,  -999.00, -999.00,9,  -999.0,9,  -999.0,   44.55,2,   24.08,2,     13.603,2,   0.1509,2,   0.0986,2,   0.0425,2,   0.0251,2,   0.0123,2,   0.0065,2,  -0.0014,4,   0.0221,2,   0.0248,2,     -999.0,5,  -999.0,9,     -999.0,     -999.0,9,     -999.0,20130810,       0622
33RO20130803,       A16N,      30,          1,          1,          1,2,20130810,       0613,    50.4980,   -19.9919,       3937,  3981.6,   2.4781,  34.9048,2,  34.9046,2,    240.0,2,     240,2,   45.50,6,   22.30,6,    0.01,6,    1.50,6,   0.056,2,   0.029,2,   0.000,2,  2203.9,6,  -999.0,5,  -999.0,9, -999.00,   7.7303,2,    25.00, -999.00,9,  -999.0,9,  -999.0,   44.22,2,   24.77,2,     13.673,2,   0.1561,2,   0.1053,2,   0.0465,2,   0.0278,2,   0.0142,2,   0.0076,3,  -0.0010,4,   0.0212,2,   0.0234,2,     -999.0,5,  -999.0,9,     -999.0,     -999.0,9,     -999.0,20130810,       0613