BOTTLE,20220815CCHSIOAMB
EXPOCODE,SECT_ID,STNNBR,CASTNO,SAMPNO,BTLNBR,BTLNBR_FLAG_W,DATE,TIME,LATITUDE,LONGITUDE,DEPTH,CTDPRS,CTDTMP,CTDSAL,CTDSAL_FLAG_W,SALNTY,SALNTY_FLAG_W,CTDOXY,CTDOXY_FLAG_W,OXYGEN,OXYGEN_FLAG_W,SILCAT,SILCAT_FLAG_W,NITRAT,NITRAT_FLAG_W,NITRIT,NITRIT_FLAG_W,PHSPHT,PHSPHT_FLAG_W,CFC-11,CFC-11_FLAG_W,CFC-12,CFC-12_FLAG_W,SF6,SF6_FLAG_W,TCARBN,TCARBN_FLAG_W,ALKALI,ALKALI_FLAG_W,PCO2,PCO2_FLAG_W,PCO2TMP,PH_SWS,PH_SWS_FLAG_W,PH_TMP,DELC13,DELC13_FLAG_W,DELC14,DELC14_FLAG_W,C14ERR,DOC,DOC_FLAG_W,TDN,TDN_FLAG_W,N2O,N2O_FLAG_W,CDOM325,CDOM325_FLAG_W,CDOM340,CDOM340_FLAG_W,CDOM380,CDOM380_FLAG_W,CDOM412,CDOM412_FLAG_W,CDOM443,CDOM443_FLAG_W,CDOM490,CDOM490_FLAG_W,CDOM555,CDOM555_FLAG_W,CDOMSL,CDOMSL_FLAG_W,CDOMSN,CDOMSN_FLAG_W,CCL4,CCL4_FLAG_W,14C-DOC,14C-DOC_FLAG_W,14C-DOCERR,13C-DOC,13C-DOC_FLAG_W,13C-DOCERR,BTL_DATE,BTL_TIME
,,,,,,,,,,,METERS,DBAR,ITS-90,PSS-78,,PSS-78,,UMOL/KG,,UMOL/KG,,UMOL/KG,,UMOL/KG,,UMOL/KG,,UMOL/KG,,PMOL/KG,,PMOL/KG,,FMOL/KG,,UMOL/KG,,UMOL/KG,,UATM,,DEG C,,,DEG C,/MILLE,,/MILLE,,/MILLE,UMOL/KG,,UMOL/KG,,NMOL/KG,,1/M,,1/M,,1/M,,1/M,,1/M,,1/M,,1/M,,1/NM,,1/NM,,PMOL/KG,,/MILLE,,/MILLE,/MILLE,,/MILLE,,
33RO20130803,       A16N,      75,          1,         24,         24,2,20130904,       1441,    28.4996,   -24.2167,       5296,     3.3,  24.1650,  37.2623,2,  37.2622,2,    206.9,2,   210.7,2,    0.50,2,    0.00,2,    0.00,2,    0.00,2,   1.775,2,   1.109,2,   1.301,2,  2120.7,6,  2433.6,2,   345.9,2,      20,   7.8318,4,    25.00, -999.00,9,  -999.0,9,  -999.0,   66.67,2,     3.2,2,      6.545,2,-999.0000,9,-999.0000,9,-999.0000,9,-999.0000,9,-999.0000,9,-999.0000,9,-999.0000,9,-999.0000,9,-999.0000,9,     -999.0,5,  -999.0,9,     -999.0,     -999.0,9,     -999.0,20130904,       1642
33RO20130803,       A16N,      75,          1,         23,         23,2,20130904,       1441,    28.4996,   -24.2167,       5296,    29.3,  24.0666,  37.2622,2,  37.2622,2,    209.3,2,   211.5,2,    0.50,2,    0.00,2,    0.00,2,    0.00,2,-999.000,9,-999.000,9,-999.000,9,  2119.8,2,  2439.4,2,   342.9,2,      20,   8.0254,2,    25.00, -999.00,9,  -999.0,9,  -999.0,   65.61,2,    3.82,2,     -999.0,9,-999.0000,9,-999.0000,9,-999.0000,9,-999.0000,9,-999.0000,9,-999.0000,9,-999.0000,9,-999.0000,9,-999.0000,9,     -999.0,9,  -999.0,9,     -999.0,     -999.0,9,     -999.0,20130904,       1640
33RO20130803,       A16N,      75,          1,         22,         22,2,20130904,       1441,    28.4996,   -24.2167,       5296,    59.1,  22.7937,  37.1712,2,  37.1692,2,    223.4,2,   224.1,2,    0.50,2,    0.00,2,    0.00,2,    0.00,2,   1.919,6,   1.194,6,   1.378,6,  2114.7,2,  2428.2,2,   344.1,2,      20,   8.0251,2,    25.00, -999.00,9,  -999.0,9,  -999.0,   61.41,2,    3.36,2,      6.943,6,-999.0000,9,-999.0000,9,-999.0000,9,-999.0000,9,-999.0000,9,-999.0000,9,-999.0000,9,-999.0000,9,-999.0000,9,     -999.0,5,  -999.0,9,     -999.0,     -999.0,9,     -999.0,20130904,       1638
33RO20130803,       A16N,      75,          1,         21,         21,2,20130904,       1441,    28.4996,   -24.2167,       5296,    83.3,  21.0042,  37.0092,2,  36.9934,2,    231.9,2,   231.5,2,    0.50,2,    0.00,2,    0.00,2,    0.00,2,-999.000,9,-999.000,9,-999.000,9,  2110.3,2,  2424.0,2,  -999.0,9, -999.00,   8.0208,2,    25.00, -999.00,9,  -999.0,9,  -999.0,   60.82,2,    4.04,2,     -999.0,9,-999.0000,9,-999.0000,9,-999.0000,9,-999.0000,9,-999.0000,9,-999.0000,9,-999.0000,9,-999.0000,9,-999.0000,9,     -999.0,9,  -999.0,9,     -999.0,     -999.0,9,     -999.0,20130904,       1636
33RO20130803,       A16N,      75,          1,         20,         20,2,20130904,       1441,    28.4996,   -24.2167,       5296,   114.4,  19.6879,  36.8601,2,  36.8556,2,    220.9,2,     220,2,    0.60,2,    0.00,2,    0.00,2,    0.01,2,   2.106,2,   1.301,2,   1.445,2,  2118.3,2,  2408.4,2,   372.2,2,      20,   7.9967,2,    25.00, -999.00,9,  -999.0,9,  -999.0,   55.73,2,    3.69,2,      7.603,2,-999.0000,9,-999.0000,9,-999.0000,9,-999.0000,9,-999.0000,9,-999.0000,9,-999.0000,9,-999.0000,9,-999.0000,9,     -999.0,5,  -999.0,9,     -999.0,     -999.0,9,     -999.0,20130904,       1633
33RO20130803,       A16N,      75,          1,         19,         19,2,20130904,       1441,    28.4996,   -24.2167,       5296,   173.5,  18.3258,  36.6478,2,  36.6392,2,    202.6,2,   201.7,2,    1.10,2,    3.10,2,    0.02,2,    0.15,2,-999.000,9,-999.000,9,-999.000,9,  2131.4,2,  2397.7,2,   418.8,2,      20,   7.9535,6,    25.00, -999.00,9,  -999.0,9,  -999.0,    50.8,2,    6.32,2,     -999.0,9,-999.0000,9,-999.0000,9,-999.0000,9,-999.0000,9,-999.0000,9,-999.0000,9,-999.0000,9,-999.0000,9,-999.0000,9,     -999.0,9,  -999.0,9,     -999.0,     -999.0,9,     -999.0,20130904,       1631
33RO20130803,       A16N,      75,          1,         18,         18,2,20130904,       1441,    28.4996,   -24.2167,       5296,   258.5,  17.0479,  36.4565,2,  36.4555,2,    198.3,2,   197.9,2,    1.70,2,    5.50,2,    0.01,2,    0.30,2,   2.370,2,   1.409,2,   1.357,2,  2138.4,2,  2384.7,6,  -999.0,9, -999.00,   7.9201,2,    25.00, -999.00,9,  -999.0,9,  -999.0,   49.86,2,       9,2,      9.504,2,-999.0000,9,-999.0000,9,-999.0000,9,-999.0000,9,-999.0000,9,-999.0000,9,-999.0000,9,-999.0000,9,-999.0000,9,     -999.0,5,  -999.0,9,     -999.0,     -999.0,9,     -999.0,20130904,       1628
33RO20130803,       A16N,      75,          1,         17,         17,2,20130904,       1441,    28.4996,   -24.2167,       5296,   338.9,  15.7422,  36.2174,2,  36.2195,2,    196.1,2,   195.6,2,    2.40,2,    7.70,2,    0.01,2,    0.44,2,-999.000,9,-999.000,9,-999.000,9,  2144.1,2,  2368.4,2,   494.0,2,      20,   7.8903,2,    25.00, -999.00,9,  -999.0,9,  -999.0,   48.69,2,   11.27,2,     -999.0,9,-999.0000,9,-999.0000,9,-999.0000,9,-999.0000,9,-999.0000,9,-999.0000,9,-999.0000,9,-999.0000,9,-999.0000,9,     -999.0,9,  -999.0,9,     -999.0,     -999.0,9,     -999.0,20130904,       1625
33RO20130803,       A16N,      75,          1,         16,         16,2,20130904,       1441,    28.4996,   -24.2167,       5296,   448.3,  13.8243,  35.8910,2,  35.8873,2,    190.4,2,     190,2,    3.90,2,   11.40,2,    0.01,2,    0.67,2,   2.581,2,   1.484,2,   1.177,2,  2155.1,2,  2356.3,2,  -999.0,9, -999.00,   7.8344,2,    25.00, -999.00,9,  -999.0,9,  -999.0,   47.26,2,   14.01,2,     12.478,2,-999.0000,9,-999.0000,9,-999.0000,9,-999.0000,9,-999.0000,9,-999.0000,9,-999.0000,9,-999.0000,9,-999.0000,9,     -999.0,5,  -999.0,9,     -999.0,     -999.0,9,     -999.0,20130904,       1622
33RO20130803,       A16N,      75,          1,         15,         15,2,20130904,       1441,    28.4996,   -24.2167,       5296,   548.6,  12.3842,  35.6871,2,  35.6832,2,    187.5,2,   187.7,2,    5.50,2,   14.10,2,    0.01,2,    0.84,2,-999.000,9,-999.000,9,-999.000,9,  2164.0,2,  2338.8,3,   627.9,2,      20,   7.7969,2,    25.00, -999.00,9,  -999.0,9,  -999.0,   45.82,2,   16.18,2,     -999.0,9,-999.0000,9,-999.0000,9,-999.0000,9,-999.0000,9,-999.0000,9,-999.0000,9,-999.0000,9,-999.0000,9,-999.0000,9,     -999.0,9,  -999.0,9,     -999.0,     -999.0,9,     -999.0,20130904,       1620
33RO20130803,       A16N,      75,          1,         14,         14,2,20130904,       1441,    28.4996,   -24.2167,       5296,   698.6,  10.7670,  35.5166,2,  35.5162,2,    165.8,2,   164.8,2,    9.00,2,   19.00,2,    0.00,2,    1.16,2,   1.020,3,   0.529,3,   0.233,3,  2183.0,2,  2340.4,2,  -999.0,9, -999.00,   7.7345,2,    25.00, -999.00,9,  -999.0,9,  -999.0,   44.66,2,   21.36,2,     18.546,3,-999.0000,9,-999.0000,9,-999.0000,9,-999.0000,9,-999.0000,9,-999.0000,9,-999.0000,9,-999.0000,9,-999.0000,9,     -999.0,5,  -999.0,9,     -999.0,     -999.0,9,     -999.0,20130904,       1616
33RO20130803,       A16N,      75,          1,         13,         13,2,20130904,       1441,    28.4996,   -24.2167,       5296,   848.6,   9.2020,  35.3919,2,  35.3931,2,    155.4,2,   153.4,2,   13.20,2,   22.70,2,    0.00,2,    1.42,2,-999.000,9,-999.000,9,-999.000,9,  2196.9,6,  2337.3,2,   806.7,2,      20,   7.6947,2,    25.00, -999.00,9,  -999.0,9,  -999.0,   43.03,2,   24.96,2,     -999.0,9,-999.0000,9,-999.0000,9,-999.0000,9,-999.0000,9,-999.0000,9,-999.0000,9,-999.0000,9,-999.0000,9,-999.0000,9,     -999.0,9,  -999.0,9,     -999.0,     -999.0,9,     -999.0,20130904,       1612
33RO20130803,       A16N,      75,          1,         12,         12,2,20130904,       1441,    28.4996,   -24.2167,       5296,  1049.2,   7.9920,  35.3726,2,  35.3721,2,    172.1,2,   172.6,2,   14.60,2,   22.10,2,    0.00,2,    1.41,2,   0.780,2,   0.410,2,   0.198,2,  2199.0,2,  2333.8,2,   788.0,2,      20,   7.7060,2,    25.00, -999.00,9,  -999.0,9,  -999.0,   42.66,2,   24.36,2,     17.217,2,-999.0000,9,-999.0000,9,-999.0000,9,-999.0000,9,-999.0000,9,-999.0000,9,-999.0000,9,-999.0000,9,-999.0000,9,     -999.0,5,  -999.0,9,     -999.0,     -999.0,9,     -999.0,20130904,       1608
33RO20130803,       A16N,      75,          1,         11,         11,2,20130904,       1441,    28.4996,   -24.2167,       5296,  1198.4,   7.4435,  35.4016,2,  35.4026,2,    187.3,2,   187.8,2,   14.50,2,   20.90,2,    0.00,2,    1.33,2,-999.000,9,-999.000,9,-999.000,9,  -999.0,9,  -999.0,9,  -999.0,9, -999.00,-999.0000,9,  -999.00, -999.00,9,  -999.0,9,  -999.0,   42.22,2,   23.14,2,     -999.0,9,-999.0000,9,-999.0000,9,-999.0000,9,-999.0000,9,-999.0000,9,-999.0000,9,-999.0000,9,-999.0000,9,-999.0000,9,     -999.0,9,  -999.0,9,     -999.0,     -999.0,9,     -999.0,20130904,       1604
33RO20130803,       A16N,      75,          1,         10,         10,2,20130904,       1441,    28.4996,   -24.2167,       5296,  1448.6,   6.1998,  35.3092,2,  35.3097,2,    206.6,2,   206.2,2,   16.20,2,   20.30,2,    0.00,2,    1.31,2,   0.644,6,   0.331,6,   0.150,6,  2192.3,2,  2331.2,2,  -999.0,9, -999.00,   7.7233,2,    25.00, -999.00,9,  -999.0,9,  -999.0,    41.5,2,   22.52,2,     15.019,6,-999.0000,9,-999.0000,9,-999.0000,9,-999.0000,9,-999.0000,9,-999.0000,9,-999.0000,9,-999.0000,9,-999.0000,9,     -999.0,5,  -999.0,9,     -999.0,     -999.0,9,     -999.0,20130904,       1558
33RO20130803,       A16N,      75,          1,          9,          9,2,20130904,       1441,    28.4996,   -24.2167,       5296,  1773.6,   4.8863,  35.1716,2,  35.1733,2,    226.4,2,  -999.0,5,   18.70,2,   19.90,2,    0.00,2,    1.30,2,-999.000,9,-999.000,9,-999.000,9,  2185.1,2,  2328.8,2,   743.2,2,      20,   7.7259,2,    25.00, -999.00,9,  -999.0,9,  -999.0,   41.44,2,      22,2,     -999.0,9,-999.0000,9,-999.0000,9,-999.0000,9,-999.0000,9,-999.0000,9,-999.0000,9,-999.0000,9,-999.0000,9,-999.0000,9,     -999.0,9,  -999.0,9,     -999.0,     -999.0,9,     -999.0,20130904,       1552
33RO20130803,       A16N,      75,          1,          8,          8,2,20130904,       1441,    28.4996,   -24.2167,       5296,  2199.4,   3.7623,  35.0436,2,  35.0431,2,    238.4,2,   238.9,2,   23.70,2,   20.00,2,    0.00,2,    1.32,2,   0.178,2,   0.095,2,   0.062,2,  2182.6,2,  2331.2,2,  -999.0,9, -999.00,   7.7304,2,    25.00, -999.00,9,  -999.0,9,  -999.0,   41.12,2,   22.45,2,     13.547,2,-999.0000,9,-999.0000,9,-999.0000,9,-999.0000,9,-999.0000,9,-999.0000,9,-999.0000,9,-999.0000,9,-999.0000,9,     -999.0,5,  -999.0,9,     -999.0,     -999.0,9,     -999.0,20130904,       1543
33RO20130803,       A16N,      75,          1,          7,          7,2,20130904,       1441,    28.4996,   -24.2167,       5296,  2594.6,   3.1088,  34.9743,2,  34.9735,2,    245.5,2,   246.1,2,   28.40,2,   20.10,2,    0.00,2,    1.34,2,   0.120,2,   0.066,2,   0.041,2,  2185.4,2,  2331.2,2,  -999.0,9, -999.00,   7.7317,2,    25.00, -999.00,9,  -999.0,9,  -999.0,   40.79,2,    22.6,2,     13.294,2,-999.0000,9,-999.0000,9,-999.0000,9,-999.0000,9,-999.0000,9,-999.0000,9,-999.0000,9,-999.0000,9,-999.0000,9,     -999.0,5,  -999.0,9,     -999.0,     -999.0,9,     -999.0,20130904,       1535
33RO20130803,       A16N,      75,          1,          6,          6,2,20130904,       1441,    28.4996,   -24.2167,       5296,  2998.2,   2.7611,  34.9408,2,  34.9410,2,    243.6,2,     245,2,   34.50,2,   20.80,2,    0.00,2,    1.39,2,-999.000,9,-999.000,9,-999.000,9,  -999.0,9,  -999.0,9,  -999.0,9, -999.00,-999.0000,9,  -999.00, -999.00,9,  -999.0,9,  -999.0,   40.48,2,   22.99,2,     -999.0,9,-999.0000,9,-999.0000,9,-999.0000,9,-999.0000,9,-999.0000,9,-999.0000,9,-999.0000,9,-999.0000,9,-999.0000,9,     -999.0,9,  -999.0,9,     -999.0,     -999.0,9,     -999.0,20130904,       1527
33RO20130803,       A16N,      75,          1,          5,          5,2,20130904,       1441,    28.4996,   -24.2167,       5296,  3497.9,   2.5431,  34.9163,2,  34.9166,2,    242.8,2,   243.9,2,   40.00,2,   21.60,2,    0.00,2,    1.44,2,   0.018,2,   0.014,2,   0.000,2,  2197.1,2,  2347.6,2,   745.0,6,      20,   7.7288,6,    25.00, -999.00,9,  -999.0,9,  -999.0,   40.79,2,   23.93,2,     13.411,2,-999.0000,9,-999.0000,9,-999.0000,9,-999.0000,9,-999.0000,9,-999.0000,9,-999.0000,9,-999.0000,9,-999.0000,9,     -999.0,5,  -999.0,9,     -999.0,     -999.0,9,     -999.0,20130904,       1517
33RO20130803,       A16N,      75,          1,          4,          4,2,20130904,       1441,    28.4996,   -24.2167,       5296,  3900.2,   2.4526,  34.9037,2,  34.9033,2,    242.9,2,   243.8,2,   43.00,6,   21.90,6,    0.01,6,    1.46,6,-999.000,9,-999.000,9,-999.000,9,  -999.0,9,  -999.0,9,  -999.0,9, -999.00,-999.0000,9,  -999.00, -999.00,9,  -999.0,9,  -999.0,   40.47,2,   24.09,2,     -999.0,9,-999.0000,9,-999.0000,9,-999.0000,9,-999.0000,9,-999.0000,9,-999.0000,9,-999.0000,9,-999.0000,9,-999.0000,9,     -999.0,9,  -999.0,9,     -999.0,     -999.0,9,     -999.0,20130904,       1509
33RO20130803,       A16N,      75,          1,          3,          3,2,20130904,       1441,    28.4996,   -24.2167,       5296,  4397.4,   2.4000,  34.8929,2,  34.8923,2,    242.6,2,   243.7,2,   45.30,6,   22.10,6,    0.01,6,    1.48,6,  -0.001,2,   0.004,2,   0.040,2,  2201.2,6,  2345.4,2,  -999.0,9, -999.00,   7.5370,4,    25.00, -999.00,9,  -999.0,9,  -999.0,   39.91,2,   24.68,2,     13.638,2,-999.0000,9,-999.0000,9,-999.0000,9,-999.0000,9,-999.0000,9,-999.0000,9,-999.0000,9,-999.0000,9,-999.0000,9,     -999.0,5,  -999.0,9,     -999.0,     -999.0,9,     -999.0,20130904,       1500
33RO20130803,       A16N,      75,          1,          2,          2,2,20130904,       1441,    28.4996,   -24.2167,       5296,  4898.4,   2.4097,  34.8871,2,  34.8872,2,    242.7,2,   243.6,2,   46.50,6,   22.30,6,    0.00,6,    1.48,6,-999.000,9,-999.000,9,-999.000,9,  2202.8,2,  2349.2,2,  -999.0,9, -999.00,   7.7256,2,    25.00, -999.00,9,  -999.0,9,  -999.0,   39.75,2,   24.77,2,     -999.0,9,-999.0000,9,-999.0000,9,-999.0000,9,-999.0000,9,-999.0000,9,-999.0000,9,-999.0000,9,-999.0000,9,-999.0000,9,     -999.0,9,  -999.0,9,     -999.0,     -999.0,9,     -999.0,20130904,       1450
33RO20130803,       A16N,      75,          1,          1,          1,2,20130904,       1441,    28.4996,   -24.2167,       5296,  5285.9,   2.4435,  34.8849,2,  34.8852,2,    244.1,2,   243.8,2,   46.90,6,   22.30,6,    0.00,6,    1.48,6,   0.004,2,   0.006,2,   0.000,2,  2203.2,2,  2347.8,3,   744.6,2,      20,   7.7248,3,    25.00, -999.00,9,  -999.0,9,  -999.0,   39.47,2,   24.56,2,     13.702,2,-999.0000,9,-999.0000,9,-999.0000,9,-999.0000,9,-999.0000,9,-999.0000,9,-999.0000,9,-999.0000,9,-999.0000,9,     -999.0,5,  -999.0,9,     -999.0,     -999.0,9,     -999.0,20130904,       1441