BOTTLE,20220815CCHSIOAMB
EXPOCODE,SECT_ID,STNNBR,CASTNO,SAMPNO,BTLNBR,BTLNBR_FLAG_W,DATE,TIME,LATITUDE,LONGITUDE,DEPTH,CTDPRS,CTDTMP,CTDSAL,CTDSAL_FLAG_W,SALNTY,SALNTY_FLAG_W,CTDOXY,CTDOXY_FLAG_W,OXYGEN,OXYGEN_FLAG_W,SILCAT,SILCAT_FLAG_W,NITRAT,NITRAT_FLAG_W,NITRIT,NITRIT_FLAG_W,PHSPHT,PHSPHT_FLAG_W,CFC-11,CFC-11_FLAG_W,CFC-12,CFC-12_FLAG_W,SF6,SF6_FLAG_W,TCARBN,TCARBN_FLAG_W,ALKALI,ALKALI_FLAG_W,PCO2,PCO2_FLAG_W,PCO2TMP,PH_SWS,PH_SWS_FLAG_W,PH_TMP,DELC13,DELC13_FLAG_W,DELC14,DELC14_FLAG_W,C14ERR,DOC,DOC_FLAG_W,TDN,TDN_FLAG_W,N2O,N2O_FLAG_W,CDOM325,CDOM325_FLAG_W,CDOM340,CDOM340_FLAG_W,CDOM380,CDOM380_FLAG_W,CDOM412,CDOM412_FLAG_W,CDOM443,CDOM443_FLAG_W,CDOM490,CDOM490_FLAG_W,CDOM555,CDOM555_FLAG_W,CDOMSL,CDOMSL_FLAG_W,CDOMSN,CDOMSN_FLAG_W,CCL4,CCL4_FLAG_W,14C-DOC,14C-DOC_FLAG_W,14C-DOCERR,13C-DOC,13C-DOC_FLAG_W,13C-DOCERR,BTL_DATE,BTL_TIME
,,,,,,,,,,,METERS,DBAR,ITS-90,PSS-78,,PSS-78,,UMOL/KG,,UMOL/KG,,UMOL/KG,,UMOL/KG,,UMOL/KG,,UMOL/KG,,PMOL/KG,,PMOL/KG,,FMOL/KG,,UMOL/KG,,UMOL/KG,,UATM,,DEG C,,,DEG C,/MILLE,,/MILLE,,/MILLE,UMOL/KG,,UMOL/KG,,NMOL/KG,,1/M,,1/M,,1/M,,1/M,,1/M,,1/M,,1/M,,1/NM,,1/NM,,PMOL/KG,,/MILLE,,/MILLE,/MILLE,,/MILLE,,
33RO20130803,       A16N,      27,          1,         24,         24,2,20130809,       1004,    51.9957,   -20.0003,       3758,     2.9,  15.8248,  35.1682,2,  35.1677,2,    247.7,2,   253.7,2,    0.30,2,    0.10,2,    0.01,2,    0.08,2,   2.628,2,   1.573,2,   1.812,2,  2062.0,2,  2327.1,2,   395.7,2,      20,   7.9667,2,    25.00, -999.00,9,  -999.0,9,  -999.0, -999.00,9, -999.00,9,      8.777,2,   0.2300,2,   0.1629,2,   0.0700,2,   0.0474,2,   0.0252,2,   0.0143,2,   0.0003,4,   0.0206,2,   0.0221,2,     -999.0,5,  -999.0,9,     -999.0,     -999.0,9,     -999.0,20130809,       1139
33RO20130803,       A16N,      27,          1,         23,         23,2,20130809,       1004,    51.9957,   -20.0003,       3758,    19.1,  15.6765,  35.1665,2,  35.1660,2,    251.8,2,   255.9,2,    0.30,2,    0.40,2,    0.02,2,    0.10,2,   2.694,2,   1.605,2,   1.900,2,  2064.5,6,  2325.8,2,   402.4,2,      20,   7.9604,2,    25.00, -999.00,9,  -999.0,9,  -999.0, -999.00,9, -999.00,9,      8.918,2,   0.2354,2,   0.1742,2,   0.0928,2,   0.0550,2,   0.0302,2,   0.0178,2,   0.0025,2,   0.0168,2,   0.0175,2,     -999.0,5,  -999.0,9,     -999.0,     -999.0,9,     -999.0,20130809,       1137
33RO20130803,       A16N,      27,          1,         22,         22,2,20130809,       1004,    51.9957,   -20.0003,       3758,    42.6,  11.6605,  35.1626,2,  35.1626,2,    273.1,2,     272,2,    0.50,2,    5.00,2,    0.18,2,    0.41,2,   3.265,6,   1.898,6,   2.011,6,  2104.4,2,  2323.1,2,   503.7,2,      20,   7.8786,2,    25.00, -999.00,9,  -999.0,9,  -999.0, -999.00,9, -999.00,9,     10.380,6,   0.2575,2,   0.1919,2,   0.0955,2,   0.0659,2,   0.0372,2,   0.0217,2,   0.0044,2,   0.0173,2,   0.0183,2,     -999.0,5,  -999.0,9,     -999.0,     -999.0,9,     -999.0,20130809,       1135
33RO20130803,       A16N,      27,          1,         21,         21,2,20130809,       1004,    51.9957,   -20.0003,       3758,    68.0,  10.8825,  35.2290,2,  35.2314,2,    259.8,2,     258,2,    1.40,2,    7.80,2,    0.56,2,    0.60,2,   3.278,2,   1.903,2,   2.105,2,  2125.4,2,  2324.2,6,   563.9,2,      20,   7.8366,2,    25.00, -999.00,9,  -999.0,9,  -999.0, -999.00,9, -999.00,9,     11.123,2,   0.1722,2,   0.1223,2,   0.0531,2,   0.0390,2,   0.0188,2,   0.0105,2,  -0.0009,4,   0.0202,2,   0.0218,2,     -999.0,5,  -999.0,9,     -999.0,     -999.0,9,     -999.0,20130809,       1133
33RO20130803,       A16N,      27,          1,         20,         20,2,20130809,       1004,    51.9957,   -20.0003,       3758,    90.6,  10.5822,  35.2566,2,  35.2570,2,    254.6,2,   253.7,2,    2.80,2,    9.90,2,    0.02,2,    0.67,2,   3.243,2,   1.885,2,   1.966,2,  2132.8,2,  2324.8,2,   586.1,2,      20,   7.8190,2,    25.00, -999.00,9,  -999.0,9,  -999.0, -999.00,9, -999.00,9,     11.247,2,   0.1544,2,   0.1071,2,   0.0445,2,   0.0333,2,   0.0154,2,   0.0087,3,  -0.0019,4,   0.0212,2,   0.0232,2,     -999.0,5,  -999.0,9,     -999.0,     -999.0,9,     -999.0,20130809,       1132
33RO20130803,       A16N,      27,          1,         19,         19,2,20130809,       1004,    51.9957,   -20.0003,       3758,   119.4,  10.3602,  35.2428,2,  35.2414,2,    248.3,2,   245.1,2,    4.20,2,   11.20,2,    0.01,2,    0.75,2,   3.170,2,   1.826,2,   1.906,2,  2139.1,2,  2322.5,2,   611.0,2,      20,   7.8038,2,    25.00, -999.00,9,  -999.0,9,  -999.0, -999.00,9, -999.00,9,     11.776,2,   0.1760,2,   0.1218,2,   0.0543,2,   0.0405,2,   0.0230,3,   0.0144,3,   0.0038,3,   0.0198,2,   0.0220,2,     -999.0,5,  -999.0,9,     -999.0,     -999.0,9,     -999.0,20130809,       1130
33RO20130803,       A16N,      27,          1,         18,         18,2,20130809,       1004,    51.9957,   -20.0003,       3758,   142.1,  10.2169,  35.2260,2,  35.2262,2,    241.3,2,   240.9,2,    4.70,2,   11.80,2,    0.01,2,    0.79,2,   3.108,2,   1.800,2,   1.917,2,  2142.1,2,  2321.2,2,   624.3,2,      20,   7.7954,2,    25.00, -999.00,9,  -999.0,9,  -999.0, -999.00,9, -999.00,9,     12.251,2,   0.1760,2,   0.1234,2,   0.0559,2,   0.0419,2,   0.0241,2,   0.0154,2,   0.0043,2,   0.0194,2,   0.0214,2,     -999.0,5,  -999.0,9,     -999.0,     -999.0,9,     -999.0,20130809,       1127
33RO20130803,       A16N,      27,          1,         17,         17,2,20130809,       1004,    51.9957,   -20.0003,       3758,   187.2,   9.7211,  35.1594,2,  35.1576,2,    245.7,2,   244.3,2,    4.90,2,   12.20,2,    0.01,2,    0.82,2,   3.175,2,   1.830,2,   1.970,2,  2142.6,2,  2318.3,2,   638.3,2,      20,   7.7872,2,    25.00, -999.00,9,  -999.0,9,  -999.0, -999.00,9, -999.00,9,     12.452,2,   0.1851,2,   0.1303,2,   0.0598,2,   0.0444,2,   0.0252,2,   0.0154,2,   0.0034,2,   0.0191,2,   0.0211,2,     -999.0,5,  -999.0,9,     -999.0,     -999.0,9,     -999.0,20130809,       1125
33RO20130803,       A16N,      27,          1,         16,         16,2,20130809,       1004,    51.9957,   -20.0003,       3758,   254.4,   9.0496,  35.0932,2,  35.0935,2,    218.2,2,   214.2,2,    8.10,2,   16.00,2,    0.01,2,    1.06,2,   2.888,2,   1.625,2,   1.575,2,  2159.3,2,  2314.9,6,   730.6,2,      20,   7.7357,2,    25.00, -999.00,9,  -999.0,9,  -999.0, -999.00,9, -999.00,9,     15.431,2,   0.1730,2,   0.1203,2,   0.0525,2,   0.0384,2,   0.0206,2,   0.0123,2,   0.0014,3,   0.0203,2,   0.0223,2,     -999.0,5,  -999.0,9,     -999.0,     -999.0,9,     -999.0,20130809,       1122
33RO20130803,       A16N,      27,          1,         15,         15,2,20130809,       1004,    51.9957,   -20.0003,       3758,   316.0,   8.0851,  35.0089,2,  35.0124,2,    211.5,2,   210.4,2,    9.40,2,   17.50,2,    0.01,2,    1.16,2,   2.864,2,   1.594,2,   1.475,2,  2168.1,2,  2309.3,2,   782.2,2,      20,   7.7089,2,    25.00, -999.00,9,  -999.0,9,  -999.0, -999.00,9, -999.00,9,     16.379,2,   0.1807,2,   0.1261,2,   0.0571,2,   0.0422,2,   0.0225,2,   0.0136,2,   0.0015,4,   0.0195,2,   0.0215,2,     -999.0,5,  -999.0,9,     -999.0,     -999.0,9,     -999.0,20130809,       1120
33RO20130803,       A16N,      27,          1,         14,         14,2,20130809,       1004,    51.9957,   -20.0003,       3758,   407.9,   7.0479,  34.9802,2,  34.9797,2,    206.4,2,   207.8,2,   10.80,2,   18.90,2,    0.01,2,    1.25,2,   2.840,2,   1.543,2,   1.285,2,  2176.1,6,  2309.4,2,   828.4,2,      20,   7.6851,2,    25.00, -999.00,9,  -999.0,9,  -999.0, -999.00,9, -999.00,9,     17.079,2,   0.1668,2,   0.1155,2,   0.0497,2,   0.0362,2,   0.0181,2,   0.0103,3,  -0.0007,4,   0.0206,2,   0.0226,2,     -999.0,5,  -999.0,9,     -999.0,     -999.0,9,     -999.0,20130809,       1117
33RO20130803,       A16N,      27,          1,         13,         13,2,20130809,       1004,    51.9957,   -20.0003,       3758,   486.3,   6.1146,  34.9630,2,  34.9624,2,    220.0,2,   223.8,2,   10.80,2,   18.50,2,    0.00,2,    1.23,2,   3.055,2,   1.657,2,   1.294,2,  2174.5,2,  2308.3,2,   829.1,2,      20,   7.6843,6,    25.00, -999.00,9,  -999.0,9,  -999.0, -999.00,9, -999.00,9,     16.209,2,   0.1589,2,   0.1105,2,   0.0483,2,   0.0355,2,   0.0179,2,   0.0103,2,  -0.0007,4,   0.0203,2,   0.0223,2,     -999.0,5,  -999.0,9,     -999.0,     -999.0,9,     -999.0,20130809,       1114
33RO20130803,       A16N,      27,          1,         12,         12,2,20130809,       1004,    51.9957,   -20.0003,       3758,   620.4,   5.1721,  34.9414,2,  34.9455,2,    243.8,2,   242.9,3,   10.70,2,   18.00,2,    0.00,2,    1.20,2,   3.379,2,   1.820,2,   1.516,2,  2172.1,2,  2306.2,2,   822.3,2,      20,   7.6869,2,    25.00, -999.00,9,  -999.0,9,  -999.0, -999.00,9, -999.00,9,     15.331,2,   0.1537,2,   0.1065,2,   0.0450,2,   0.0325,2,   0.0158,2,   0.0091,3,  -0.0012,4,   0.0210,2,   0.0230,2,     -999.0,5,  -999.0,9,     -999.0,     -999.0,9,     -999.0,20130809,       1111
33RO20130803,       A16N,      27,          1,         11,         11,2,20130809,       1004,    51.9957,   -20.0003,       3758,   711.7,   5.1617,  35.0074,2,  35.0098,2,    244.4,2,   245.2,2,   10.60,2,   17.80,2,    0.00,2,    1.18,2,   3.364,2,   1.811,2,   1.262,2,  2172.5,2,  2309.9,2,   807.3,2,      20,   7.6930,2,    25.00, -999.00,9,  -999.0,9,  -999.0, -999.00,9, -999.00,9,     14.924,2,   0.1568,2,   0.1079,2,   0.0460,2,   0.0337,2,   0.0170,2,   0.0099,2,  -0.0007,4,   0.0209,2,   0.0230,2,     -999.0,5,  -999.0,9,     -999.0,     -999.0,9,     -999.0,20130809,       1108
33RO20130803,       A16N,      27,          1,         10,         10,2,20130809,       1004,    51.9957,   -20.0003,       3758,   895.7,   4.5658,  34.9629,2,  34.9614,2,    258.9,2,     259,2,   10.50,2,   17.50,2,    0.00,2,    1.16,2,   3.663,2,   1.949,2,   1.357,2,  2165.2,2,  2307.0,2,   802.9,2,      20,   7.6962,2,    25.00, -999.00,9,  -999.0,9,  -999.0, -999.00,9, -999.00,9,     14.664,2,   0.1532,2,   0.1061,2,   0.0465,2,   0.0347,2,   0.0183,2,   0.0111,2,   0.0002,4,   0.0202,2,   0.0224,2,     -999.0,5,  -999.0,9,     -999.0,     -999.0,9,     -999.0,20130809,       1104
33RO20130803,       A16N,      27,          1,          9,          9,2,20130809,       1004,    51.9957,   -20.0003,       3758,  1054.4,   4.3206,  34.9551,2,  34.9541,2,    264.1,2,   262.9,2,   10.70,2,   17.30,2,    0.00,2,    1.16,2,   3.642,2,   1.916,2,   1.166,2,  2165.3,2,  2306.1,2,   795.0,2,      20,   7.7033,2,    25.00, -999.00,9,  -999.0,9,  -999.0, -999.00,9, -999.00,9,     14.319,2,   0.1445,2,   0.0992,2,   0.0422,2,   0.0312,2,   0.0156,2,   0.0092,3,  -0.0009,4,   0.0210,2,   0.0232,2,     -999.0,5,  -999.0,9,     -999.0,     -999.0,9,     -999.0,20130809,       1100
33RO20130803,       A16N,      27,          1,          8,          8,2,20130809,       1004,    51.9957,   -20.0003,       3758,  1232.3,   4.0273,  34.9324,2,  34.9320,2,    269.3,2,   267.7,2,   10.90,2,   17.20,2,    0.00,2,    1.15,2,   3.660,2,   1.889,2,   1.138,2,  2164.4,2,  2304.8,2,   789.3,2,      20,   7.7031,2,    25.00, -999.00,9,  -999.0,9,  -999.0, -999.00,9, -999.00,9,     14.178,2,   0.1440,2,   0.0985,2,   0.0403,2,   0.0290,2,   0.0139,2,   0.0082,4,  -0.0015,4,   0.0219,2,   0.0239,2,     -999.0,5,  -999.0,9,     -999.0,     -999.0,9,     -999.0,20130809,       1056
33RO20130803,       A16N,      27,          1,          7,          7,2,20130809,       1004,    51.9957,   -20.0003,       3758,  1536.2,   3.7276,  34.9199,2,  34.9179,2,    271.3,2,   270.9,2,   11.50,2,   17.20,2,    0.00,2,    1.15,2,   3.385,2,   1.722,2,   0.886,2,  2161.3,2,  2302.3,2,   779.5,2,      20,   7.7072,2,    25.00, -999.00,9,  -999.0,9,  -999.0, -999.00,9, -999.00,9,     13.872,2,   0.1552,2,   0.1054,2,   0.0432,2,   0.0307,2,   0.0148,2,   0.0087,4,  -0.0011,4,   0.0219,2,   0.0241,2,     -999.0,5,  -999.0,9,     -999.0,     -999.0,9,     -999.0,20130809,       1049
33RO20130803,       A16N,      27,          1,          6,          6,2,20130809,       1004,    51.9957,   -20.0003,       3758,  1911.0,   3.4566,  34.9182,2,  34.9176,2,    272.6,2,   271.9,2,   12.70,2,   17.10,2,    0.00,2,    1.15,2,   2.934,2,   1.450,2,   0.686,2,  2162.5,2,  2303.7,2,   769.7,2,      20,   7.7138,2,    25.00, -999.00,9,  -999.0,9,  -999.0, -999.00,9, -999.00,9,     13.678,2,   0.1418,2,   0.0963,2,   0.0395,2,   0.0285,2,   0.0135,2,   0.0080,3,  -0.0014,4,   0.0219,2,   0.0242,2,     -999.0,5,  -999.0,9,     -999.0,     -999.0,9,     -999.0,20130809,       1042
33RO20130803,       A16N,      27,          1,          5,          5,2,20130809,       1004,    51.9957,   -20.0003,       3758,  2339.0,   3.1346,  34.9359,2,  34.9337,2,    267.1,2,   266.4,2,   18.20,2,   17.60,2,    0.00,2,    1.20,2,   2.033,2,   0.992,2,   0.424,2,  2167.3,2,  2313.4,2,   760.2,2,      20,   7.7191,6,    25.00, -999.00,9,  -999.0,9,  -999.0, -999.00,9, -999.00,9,     13.661,2,   0.1491,2,   0.1014,2,   0.0422,2,   0.0301,2,   0.0147,2,   0.0086,3,  -0.0012,4,   0.0217,2,   0.0239,2,     -999.0,5,  -999.0,9,     -999.0,     -999.0,9,     -999.0,20130809,       1033
33RO20130803,       A16N,      27,          1,          4,          4,2,20130809,       1004,    51.9957,   -20.0003,       3758,  2725.6,   2.8693,  34.9412,2,  34.9410,2,    258.0,2,   257.2,2,   26.40,6,   18.80,6,    0.00,6,    1.28,6,   1.366,2,   0.681,2,   0.408,2,  2178.3,2,  2326.1,6,   765.4,2,      20,   7.7200,2,    25.00, -999.00,9,  -999.0,9,  -999.0, -999.00,9, -999.00,9,     13.768,2,-999.0000,5,-999.0000,5,-999.0000,5,-999.0000,5,-999.0000,5,-999.0000,5,-999.0000,5,-999.0000,5,-999.0000,5,     -999.0,5,  -999.0,9,     -999.0,     -999.0,9,     -999.0,20130809,       1026
33RO20130803,       A16N,      27,          1,          3,          3,2,20130809,       1004,    51.9957,   -20.0003,       3758,  3150.6,   2.6426,  34.9286,2,  34.9267,2,    246.0,2,   246.1,2,   36.50,6,   20.60,6,    0.00,6,    1.41,6,   0.479,6,   0.239,6,   0.142,2,  2191.2,2,  2340.9,2,   760.8,2,      20,   7.8571,4,    25.00, -999.00,9,  -999.0,9,  -999.0, -999.00,9, -999.00,9,     13.837,6,   0.1476,2,   0.1007,2,   0.0421,2,   0.0297,2,   0.0147,2,   0.0084,3,  -0.0016,4,   0.0216,2,   0.0236,2,     -999.0,5,  -999.0,9,     -999.0,     -999.0,9,     -999.0,20130809,       1017
33RO20130803,       A16N,      27,          1,          2,          2,2,20130809,       1004,    51.9957,   -20.0003,       3758,  3500.0,   2.4903,  34.9117,2,  34.9102,2,    241.0,2,   240.7,2,   43.20,6,   21.80,6,    0.00,6,    1.49,6,   0.120,2,   0.059,2,   0.044,2,  2201.0,2,  2351.7,2,   761.7,2,      20,   7.7263,2,    25.00, -999.00,9,  -999.0,9,  -999.0, -999.00,9, -999.00,9,     14.037,2,-999.0000,5,-999.0000,5,-999.0000,5,-999.0000,5,-999.0000,5,-999.0000,5,-999.0000,5,-999.0000,5,-999.0000,5,     -999.0,5,  -999.0,9,     -999.0,     -999.0,9,     -999.0,20130809,       1010
33RO20130803,       A16N,      27,          1,          1,          1,2,20130809,       1004,    51.9957,   -20.0003,       3758,  3804.6,   2.4567,  34.9049,2,  34.9032,2,    240.6,2,   238.8,2,   46.00,6,   22.10,6,    0.01,6,    1.52,6,   0.055,2,   0.029,2,   0.057,2,  2204.9,6,  2355.5,2,   761.7,2,      20,   7.7251,2,    25.00, -999.00,9,  -999.0,9,  -999.0, -999.00,9, -999.00,9,     14.004,2,   0.1460,2,   0.1007,2,   0.0450,2,   0.0319,2,   0.0171,2,   0.0105,2,  -0.0001,4,   0.0202,2,   0.0223,2,     -999.0,5,  -999.0,9,     -999.0,     -999.0,9,     -999.0,20130809,       1004