BOTTLE,20220815CCHSIOAMB
EXPOCODE,SECT_ID,STNNBR,CASTNO,SAMPNO,BTLNBR,BTLNBR_FLAG_W,DATE,TIME,LATITUDE,LONGITUDE,DEPTH,CTDPRS,CTDTMP,CTDSAL,CTDSAL_FLAG_W,SALNTY,SALNTY_FLAG_W,CTDOXY,CTDOXY_FLAG_W,OXYGEN,OXYGEN_FLAG_W,SILCAT,SILCAT_FLAG_W,NITRAT,NITRAT_FLAG_W,NITRIT,NITRIT_FLAG_W,PHSPHT,PHSPHT_FLAG_W,CFC-11,CFC-11_FLAG_W,CFC-12,CFC-12_FLAG_W,SF6,SF6_FLAG_W,TCARBN,TCARBN_FLAG_W,ALKALI,ALKALI_FLAG_W,PCO2,PCO2_FLAG_W,PCO2TMP,PH_SWS,PH_SWS_FLAG_W,PH_TMP,DELC13,DELC13_FLAG_W,DELC14,DELC14_FLAG_W,C14ERR,DOC,DOC_FLAG_W,TDN,TDN_FLAG_W,N2O,N2O_FLAG_W,CDOM325,CDOM325_FLAG_W,CDOM340,CDOM340_FLAG_W,CDOM380,CDOM380_FLAG_W,CDOM412,CDOM412_FLAG_W,CDOM443,CDOM443_FLAG_W,CDOM490,CDOM490_FLAG_W,CDOM555,CDOM555_FLAG_W,CDOMSL,CDOMSL_FLAG_W,CDOMSN,CDOMSN_FLAG_W,CCL4,CCL4_FLAG_W,14C-DOC,14C-DOC_FLAG_W,14C-DOCERR,13C-DOC,13C-DOC_FLAG_W,13C-DOCERR,BTL_DATE,BTL_TIME
,,,,,,,,,,,METERS,DBAR,ITS-90,PSS-78,,PSS-78,,UMOL/KG,,UMOL/KG,,UMOL/KG,,UMOL/KG,,UMOL/KG,,UMOL/KG,,PMOL/KG,,PMOL/KG,,FMOL/KG,,UMOL/KG,,UMOL/KG,,UATM,,DEG C,,,DEG C,/MILLE,,/MILLE,,/MILLE,UMOL/KG,,UMOL/KG,,NMOL/KG,,1/M,,1/M,,1/M,,1/M,,1/M,,1/M,,1/M,,1/NM,,1/NM,,PMOL/KG,,/MILLE,,/MILLE,/MILLE,,/MILLE,,
33RO20130803,       A16N,       6,          1,         24,         24,2,20130804,       1939,    61.8329,   -19.9991,       1711,     3.2,  11.6482,  35.0555,2,  35.0569,2,    285.3,2,   287.6,2,    1.70,2,    4.50,2,    0.09,2,    0.34,2,   3.281,2,   1.917,2,   1.989,2,  2084.9,6,  2310.0,2,   469.9,2,      20,   7.9045,2,    25.00, -999.00,9,  -999.0,9,  -999.0,   63.27,2,    9.18,2,      9.923,2,   0.2656,2,   0.1966,2,   0.0898,2,   0.0624,2,   0.0389,2,   0.0250,2,   0.0051,2,   0.0189,2,   0.0201,2,     -999.0,5,  -999.0,9,     -999.0,     -999.0,9,     -999.0,20130804,       2041
33RO20130803,       A16N,       6,          1,         23,         23,2,20130804,       1939,    61.8329,   -19.9991,       1711,    18.5,  10.5026,  35.0703,2,  35.0689,2,    279.4,2,   279.4,2,    1.70,2,    6.60,2,    0.17,2,    0.49,2,-999.000,9,-999.000,9,-999.000,9,  -999.0,9,  -999.0,9,  -999.0,9, -999.00,-999.0000,9,  -999.00, -999.00,9,  -999.0,9,  -999.0,   60.35,2,   11.22,2,     -999.0,9,   0.2062,2,   0.1479,2,   0.0634,2,   0.0445,2,   0.0211,2,   0.0110,2,  -0.0009,4,   0.0204,2,   0.0218,2,     -999.0,9,  -999.0,9,     -999.0,     -999.0,9,     -999.0,20130804,       2040
33RO20130803,       A16N,       6,          1,         22,         22,2,20130804,       1939,    61.8329,   -19.9991,       1711,    33.4,  10.1246,  35.0806,2,  35.0822,2,    274.2,2,   273.7,2,    1.80,2,    7.40,2,    0.27,2,    0.57,2,   3.490,2,   2.015,2,   2.115,2,  2113.9,2,  2311.5,6,   556.1,2,      20,   7.8406,2,    25.00, -999.00,9,  -999.0,9,  -999.0,   57.31,2,   11.19,2,     10.491,2,   0.2014,2,   0.1451,2,   0.0644,2,   0.0455,2,   0.0230,2,   0.0127,2,  -0.0003,4,   0.0197,2,   0.0210,2,     -999.0,5,  -999.0,9,     -999.0,     -999.0,9,     -999.0,20130804,       2038
33RO20130803,       A16N,       6,          1,         21,         21,2,20130804,       1939,    61.8329,   -19.9991,       1711,    53.7,   9.5411,  35.1028,2,  35.1060,2,    269.6,2,   268.3,2,    2.10,2,    9.60,2,    0.36,2,    0.67,2,-999.000,9,-999.000,9,-999.000,9,  2127.6,2,  2312.0,2,   597.8,2,      20,   7.8131,6,    25.00, -999.00,9,  -999.0,9,  -999.0,   55.63,2,   12.62,2,     -999.0,9,   0.2197,2,   0.1654,2,   0.0887,2,   0.0534,2,   0.0252,2,   0.0129,2,  -0.0006,4,   0.0165,2,   0.0170,2,     -999.0,9,  -999.0,9,     -999.0,     -999.0,9,     -999.0,20130804,       2036
33RO20130803,       A16N,       6,          1,         20,         20,2,20130804,       1939,    61.8329,   -19.9991,       1711,    73.3,   8.9766,  35.1282,2,  35.1293,2,    268.1,2,   267.1,2,    2.60,2,   11.20,2,    0.01,2,    0.74,2,   3.503,2,   2.031,2,   2.194,2,  2137.0,2,  2315.7,2,   626.0,2,      20,   7.7956,2,    25.00, -999.00,9,  -999.0,9,  -999.0,   53.95,2,    13.1,2,     11.324,2,   0.1576,2,   0.1099,2,   0.0472,2,   0.0339,2,   0.0146,2,   0.0074,2,  -0.0025,4,   0.0206,2,   0.0226,2,     -999.0,5,  -999.0,9,     -999.0,     -999.0,9,     -999.0,20130804,       2034
33RO20130803,       A16N,       6,          1,         19,         19,2,20130804,       1939,    61.8329,   -19.9991,       1711,   104.6,   8.9159,  35.1603,2,  35.1606,2,    265.3,2,   265.4,2,    3.30,2,   11.70,2,    0.00,2,    0.77,2,-999.000,9,-999.000,9,-999.000,9,  -999.0,9,  -999.0,9,  -999.0,9, -999.00,-999.0000,9,  -999.00, -999.00,9,  -999.0,9,  -999.0,   53.36,2,   13.94,2,     -999.0,9,   0.2905,2,   0.2260,2,   0.1180,2,   0.0758,2,   0.0390,2,   0.0203,2,   0.0014,2,   0.0163,2,   0.0165,2,     -999.0,9,  -999.0,9,     -999.0,     -999.0,9,     -999.0,20130804,       2032
33RO20130803,       A16N,       6,          1,         18,         18,2,20130804,       1939,    61.8329,   -19.9991,       1711,   133.4,   8.8816,  35.1725,2,  35.1709,2,    265.7,2,   264.7,2,    3.60,2,   11.90,2,    0.00,2,    0.78,2,   3.421,2,   1.990,2,   2.025,2,  2141.1,2,  2318.0,2,   637.9,2,      20,   7.7903,2,    25.00, -999.00,9,  -999.0,9,  -999.0,   52.75,2,   14.14,2,     11.367,2,   0.2160,2,   0.1593,2,   0.0767,2,   0.0519,2,   0.0253,2,   0.0131,2,  -0.0008,4,   0.0181,2,   0.0191,2,     -999.0,5,  -999.0,9,     -999.0,     -999.0,9,     -999.0,20130804,       2030
33RO20130803,       A16N,       6,          1,         17,         17,2,20130804,       1939,    61.8329,   -19.9991,       1711,   163.5,   8.8293,  35.1742,2,  35.1740,2,    264.7,2,   263.6,2,    4.10,2,   12.10,2,    0.01,2,    0.80,2,-999.000,9,-999.000,9,-999.000,9,  -999.0,9,  -999.0,9,  -999.0,9, -999.00,-999.0000,9,  -999.00, -999.00,9,  -999.0,9,  -999.0,   52.18,2,   14.49,2,     -999.0,9,   0.1524,2,   0.1057,2,   0.0457,2,   0.0327,2,   0.0141,2,   0.0072,2,  -0.0026,4,   0.0207,2,   0.0226,2,     -999.0,9,  -999.0,9,     -999.0,     -999.0,9,     -999.0,20130804,       2028
33RO20130803,       A16N,       6,          1,         16,         16,2,20130804,       1939,    61.8329,   -19.9991,       1711,   187.7,   8.7781,  35.1805,2,  35.1796,2,    260.9,2,   259.9,2,    4.50,2,   12.50,2,    0.01,2,    0.82,2,   3.358,2,   1.946,2,   2.014,2,  2146.1,2,  2316.6,2,   649.4,2,      20,   7.7801,2,    25.00, -999.00,9,  -999.0,9,  -999.0,   51.45,2,   14.92,2,     11.907,2,   0.2029,2,   0.1495,2,   0.0714,2,   0.0475,2,   0.0227,2,   0.0119,2,  -0.0013,4,   0.0184,2,   0.0193,2,     -999.0,5,  -999.0,9,     -999.0,     -999.0,9,     -999.0,20130804,       2026
33RO20130803,       A16N,       6,          1,         15,         15,2,20130804,       1939,    61.8329,   -19.9991,       1711,   213.3,   8.7262,  35.1890,2,  35.1882,2,    261.1,2,     261,2,    4.50,6,   12.60,6,    0.01,6,    0.82,2,   3.388,2,   1.956,2,   2.066,2,  -999.0,9,  -999.0,9,  -999.0,9, -999.00,-999.0000,9,  -999.00, -999.00,9,  -999.0,9,  -999.0,   50.54,2,   15.07,2,     11.914,2,   0.1501,3,   0.1031,3,   0.0426,3,   0.0305,3,   0.0128,3,   0.0072,4,  -0.0020,4,   0.0216,3,   0.0237,3,     -999.0,5,  -999.0,9,     -999.0,     -999.0,9,     -999.0,20130804,       2025
33RO20130803,       A16N,       6,          1,         14,         14,2,20130804,       1939,    61.8329,   -19.9991,       1711,   248.0,   8.6922,  35.1950,2,  35.1941,2,    263.9,2,   262.3,2,    4.70,6,   12.70,2,    0.02,6,    0.82,2,   3.425,2,   1.974,2,   1.989,2,  2146.4,2,  2316.7,2,   649.7,2,      20,   7.7793,2,    25.00, -999.00,9,  -999.0,9,  -999.0,   49.67,2,   15.31,2,     11.921,2,-999.0000,5,-999.0000,5,-999.0000,5,-999.0000,5,-999.0000,5,-999.0000,5,-999.0000,5,-999.0000,5,-999.0000,5,     -999.0,5,  -999.0,9,     -999.0,     -999.0,9,     -999.0,20130804,       2023
33RO20130803,       A16N,       6,          1,         13,         13,2,20130804,       1939,    61.8329,   -19.9991,       1711,   288.1,   8.5973,  35.1960,2,  35.1957,2,    265.9,2,   266.1,2,    4.50,6,   12.60,2,    0.02,6,    0.82,2,   3.450,2,   1.995,2,   2.018,2,  -999.0,9,  -999.0,9,  -999.0,9, -999.00,-999.0000,9,  -999.00, -999.00,9,  -999.0,9,  -999.0,   49.14,2,   15.52,2,     11.649,2,   0.1703,2,   0.1242,2,   0.0656,2,   0.0451,2,   0.0239,2,   0.0139,2,   0.0013,4,   0.0166,2,   0.0179,2,     -999.0,5,  -999.0,9,     -999.0,     -999.0,9,     -999.0,20130804,       2021
33RO20130803,       A16N,       6,          1,         12,         12,2,20130804,       1939,    61.8329,   -19.9991,       1711,   358.6,   8.4677,  35.1944,2,  35.1936,2,    268.1,2,   267.5,2,    5.20,6,   12.80,6,    0.01,6,    0.83,2,   3.501,2,   2.014,2,   2.093,2,  2147.4,2,  2316.1,2,   651.8,2,      20,   7.7772,2,    25.00, -999.00,9,  -999.0,9,  -999.0,   48.87,2,   16.97,2,     11.688,2,   0.3964,2,   0.3218,2,   0.1829,2,   0.1137,2,   0.0624,2,   0.0334,2,   0.0058,2,   0.0144,2,   0.0142,2,     -999.0,5,  -999.0,9,     -999.0,     -999.0,9,     -999.0,20130804,       2019
33RO20130803,       A16N,       6,          1,         11,         11,2,20130804,       1939,    61.8329,   -19.9991,       1711,   429.5,   8.3870,  35.2091,2,  35.2075,2,    265.0,2,     264,2,    5.90,2,   13.20,2,    0.01,2,    0.86,2,   3.424,2,   1.980,2,   1.993,2,  -999.0,9,  -999.0,9,  -999.0,9, -999.00,-999.0000,9,  -999.00, -999.00,9,  -999.0,9,  -999.0,   48.73,2,   15.57,2,     11.789,2,   0.2715,2,   0.2124,2,   0.1147,2,   0.0727,2,   0.0379,2,   0.0198,2,   0.0012,3,   0.0157,2,   0.0159,2,     -999.0,5,  -999.0,9,     -999.0,     -999.0,9,     -999.0,20130804,       2015
33RO20130803,       A16N,       6,          1,         10,         10,2,20130804,       1939,    61.8329,   -19.9991,       1711,   504.2,   8.1431,  35.1889,2,  35.1878,2,    263.8,2,     262,2,    6.30,2,   13.70,2,    0.01,2,    0.90,2,   3.421,2,   1.965,2,   1.939,2,  2155.6,2,  2316.4,6,   676.3,2,      20,   7.7659,2,    25.00, -999.00,9,  -999.0,9,  -999.0,   48.62,2,   15.76,2,     12.147,2,-999.0000,5,-999.0000,5,-999.0000,5,-999.0000,5,-999.0000,5,-999.0000,5,-999.0000,5,-999.0000,5,-999.0000,5,     -999.0,5,  -999.0,9,     -999.0,     -999.0,9,     -999.0,20130804,       2013
33RO20130803,       A16N,       6,          1,          9,          9,2,20130804,       1939,    61.8329,   -19.9991,       1711,   578.8,   7.9226,  35.1762,2,  35.1766,2,    253.0,2,   254.9,2,    7.20,2,   14.70,2,    0.00,2,    0.96,2,   3.334,2,   1.896,2,   1.800,2,  -999.0,9,  -999.0,9,  -999.0,9, -999.00,-999.0000,9,  -999.00, -999.00,9,  -999.0,9,  -999.0,   48.79,2,   16.77,2,     12.864,2,   0.1590,2,   0.1126,2,   0.0509,2,   0.0356,2,   0.0168,2,   0.0090,3,  -0.0022,4,   0.0197,2,   0.0213,2,     -999.0,5,  -999.0,9,     -999.0,     -999.0,9,     -999.0,20130804,       2010
33RO20130803,       A16N,       6,          1,          8,          8,2,20130804,       1939,    61.8329,   -19.9991,       1711,   673.5,   7.2359,  35.1077,2,  35.1085,2,    233.9,2,   231.8,2,    9.30,2,   17.00,2,    0.00,2,    1.10,2,   3.112,2,   1.735,2,   1.418,2,  2172.5,2,  2313.3,2,   765.8,2,      20,   7.7160,2,    25.00, -999.00,9,  -999.0,9,  -999.0,   48.55,2,   19.56,2,     14.526,2,   0.1399,2,   0.0960,2,   0.0417,2,   0.0281,2,   0.0119,2,   0.0059,3,  -0.0034,3,   0.0210,2,   0.0230,2,     -999.0,5,  -999.0,9,     -999.0,     -999.0,9,     -999.0,20130804,       2007
33RO20130803,       A16N,       6,          1,          7,          7,2,20130804,       1939,    61.8329,   -19.9991,       1711,   723.4,   6.9608,  35.1039,2,  35.1041,2,    223.7,2,   222.1,2,   10.20,2,   17.90,2,    0.00,2,    1.16,2,   2.963,2,   1.629,2,   1.253,2,  2177.2,2,  2316.0,2,   792.8,2,      20,   7.7039,2,    25.00, -999.00,9,  -999.0,9,  -999.0,   48.23,2,   19.92,2,     15.118,2,   0.1484,2,   0.1023,2,   0.0435,2,   0.0303,2,   0.0135,2,   0.0068,3,  -0.0029,3,   0.0212,2,   0.0231,2,     -999.0,5,  -999.0,9,     -999.0,     -999.0,9,     -999.0,20130804,       2004
33RO20130803,       A16N,       6,          1,          6,          6,2,20130804,       1939,    61.8329,   -19.9991,       1711,   810.3,   6.2389,  35.0660,2,  35.0630,2,    229.4,2,   228.2,2,   10.70,2,   18.10,2,    0.00,2,    1.19,2,   3.057,2,   1.662,2,   1.149,2,  -999.0,9,  -999.0,9,  -999.0,9, -999.00,-999.0000,9,  -999.00, -999.00,9,  -999.0,9,  -999.0,   48.98,2,   20.87,2,     15.111,2,   0.1682,2,   0.1188,2,   0.0546,2,   0.0370,2,   0.0184,2,   0.0094,2,  -0.0008,4,   0.0196,2,   0.0211,2,     -999.0,5,  -999.0,9,     -999.0,     -999.0,9,     -999.0,20130804,       2001
33RO20130803,       A16N,       6,          1,          5,          5,2,20130804,       1939,    61.8329,   -19.9991,       1711,   960.2,   5.6281,  35.0755,2,  35.0754,2,    253.8,2,   253.7,2,    9.40,2,   16.20,2,    0.00,2,    1.07,2,   3.416,2,   1.867,2,   1.392,2,  2169.4,2,  2311.8,2,   767.7,2,      20,   7.7141,2,    25.00, -999.00,9,  -999.0,9,  -999.0,   48.35,2,   18.41,2,     13.900,2,   0.1947,2,   0.1425,2,   0.0708,2,   0.0433,2,   0.0208,2,   0.0102,2,  -0.0010,4,   0.0182,2,   0.0189,2,     -999.0,5,  -999.0,9,     -999.0,     -999.0,9,     -999.0,20130804,       1957
33RO20130803,       A16N,       6,          1,          4,          4,2,20130804,       1939,    61.8329,   -19.9991,       1711,  1148.1,   4.5893,  35.0230,2,  35.0222,2,    268.9,2,   268.6,2,    9.30,2,   15.80,2,    0.01,2,    1.04,2,   3.588,2,   1.938,2,   1.422,2,  -999.0,9,  -999.0,9,  -999.0,9, -999.00,-999.0000,9,  -999.00, -999.00,9,  -999.0,9,  -999.0,   48.08,2,   18.55,2,     13.535,2,   0.2335,2,   0.1750,2,   0.0853,2,   0.0540,2,   0.0272,2,   0.0139,2,   0.0003,4,   0.0181,2,   0.0185,2,     -999.0,5,  -999.0,9,     -999.0,     -999.0,9,     -999.0,20130804,       1953
33RO20130803,       A16N,       6,          1,          3,          3,2,20130804,       1939,    61.8329,   -19.9991,       1711,  1347.9,   3.6753,  34.9510,2,  34.9498,2,    273.5,2,   272.9,2,   11.10,3,   16.40,3,    0.00,3,    1.09,3,   3.271,6,   1.679,6,   0.996,6,  2162.8,2,  2304.9,2,   770.2,2,      20,   7.7142,2,    25.00, -999.00,9,  -999.0,9,  -999.0,   48.06,2,   18.66,2,     13.437,6,-999.0000,5,-999.0000,5,-999.0000,5,-999.0000,5,-999.0000,5,-999.0000,5,-999.0000,5,-999.0000,5,-999.0000,5,     -999.0,5,  -999.0,9,     -999.0,     -999.0,9,     -999.0,20130804,       1948
33RO20130803,       A16N,       6,          1,          2,          2,2,20130804,       1939,    61.8329,   -19.9991,       1711,  1548.3,   3.3871,  34.9912,2,  34.9919,2,    276.2,2,   276.4,2,   10.40,2,   15.50,2,    0.00,2,    1.03,2,   3.270,2,   1.723,2,   1.226,2,  2164.4,2,  2308.8,6,   769.5,2,      20,   7.7123,6,    25.00, -999.00,9,  -999.0,9,  -999.0,   47.53,2,   17.97,2,     13.485,2,   0.2155,2,   0.1593,2,   0.0751,2,   0.0470,2,   0.0225,2,   0.0111,2,  -0.0010,4,   0.0189,2,   0.0195,2,     -999.0,5,  -999.0,9,     -999.0,     -999.0,9,     -999.0,20130804,       1943
33RO20130803,       A16N,       6,          1,          1,          1,2,20130804,       1939,    61.8329,   -19.9991,       1711,  1718.9,   2.7735,  34.9938,2,  34.9953,2,    281.2,2,   280.8,2,   10.20,2,   15.00,2,    0.02,2,    1.01,2,   3.311,2,   1.751,2,   1.435,2,  2165.4,6,  -999.0,5,   777.4,2,      20,   7.7074,2,    25.00, -999.00,9,  -999.0,9,  -999.0,   47.14,2,   17.32,2,     13.690,2,   0.3308,2,   0.2592,2,   0.1346,2,   0.0831,2,   0.0444,2,   0.0232,2,   0.0033,2,   0.0165,2,   0.0165,2,     -999.0,5,  -999.0,9,     -999.0,     -999.0,9,     -999.0,20130804,       1939