BOTTLE,20220815CCHSIOAMB
EXPOCODE,SECT_ID,STNNBR,CASTNO,SAMPNO,BTLNBR,BTLNBR_FLAG_W,DATE,TIME,LATITUDE,LONGITUDE,DEPTH,CTDPRS,CTDTMP,CTDSAL,CTDSAL_FLAG_W,SALNTY,SALNTY_FLAG_W,CTDOXY,CTDOXY_FLAG_W,OXYGEN,OXYGEN_FLAG_W,SILCAT,SILCAT_FLAG_W,NITRAT,NITRAT_FLAG_W,NITRIT,NITRIT_FLAG_W,PHSPHT,PHSPHT_FLAG_W,CFC-11,CFC-11_FLAG_W,CFC-12,CFC-12_FLAG_W,SF6,SF6_FLAG_W,TCARBN,TCARBN_FLAG_W,ALKALI,ALKALI_FLAG_W,PCO2,PCO2_FLAG_W,PCO2TMP,PH_SWS,PH_SWS_FLAG_W,PH_TMP,DELC13,DELC13_FLAG_W,DELC14,DELC14_FLAG_W,C14ERR,DOC,DOC_FLAG_W,TDN,TDN_FLAG_W,N2O,N2O_FLAG_W,CDOM325,CDOM325_FLAG_W,CDOM340,CDOM340_FLAG_W,CDOM380,CDOM380_FLAG_W,CDOM412,CDOM412_FLAG_W,CDOM443,CDOM443_FLAG_W,CDOM490,CDOM490_FLAG_W,CDOM555,CDOM555_FLAG_W,CDOMSL,CDOMSL_FLAG_W,CDOMSN,CDOMSN_FLAG_W,CCL4,CCL4_FLAG_W,14C-DOC,14C-DOC_FLAG_W,14C-DOCERR,13C-DOC,13C-DOC_FLAG_W,13C-DOCERR,BTL_DATE,BTL_TIME
,,,,,,,,,,,METERS,DBAR,ITS-90,PSS-78,,PSS-78,,UMOL/KG,,UMOL/KG,,UMOL/KG,,UMOL/KG,,UMOL/KG,,UMOL/KG,,PMOL/KG,,PMOL/KG,,FMOL/KG,,UMOL/KG,,UMOL/KG,,UATM,,DEG C,,,DEG C,/MILLE,,/MILLE,,/MILLE,UMOL/KG,,UMOL/KG,,NMOL/KG,,1/M,,1/M,,1/M,,1/M,,1/M,,1/M,,1/M,,1/NM,,1/NM,,PMOL/KG,,/MILLE,,/MILLE,/MILLE,,/MILLE,,
33RO20130803,       A16N,     136,          2,         24,         24,2,20130929,       0146,    -1.9992,   -24.9992,       4967,     3.2,  25.6898,  36.2676,2,  36.2729,2,    203.2,2,   203.3,2,    1.00,2,    0.00,2,    0.01,2,    0.11,2,   1.668,2,   1.051,2,   1.192,2,  2058.2,2,  2377.7,2,   343.9,2,      20,   8.0415,2,    25.00, -999.00,9,  -999.0,9,  -999.0, -999.00,9, -999.00,9,      6.748,2,-999.0000,9,-999.0000,9,-999.0000,9,-999.0000,9,-999.0000,9,-999.0000,9,-999.0000,9,-999.0000,9,-999.0000,9,     -999.0,5,  -999.0,9,     -999.0,     -999.0,9,     -999.0,20130929,       0334
33RO20130803,       A16N,     136,          2,         23,         23,2,20130929,       0146,    -1.9992,   -24.9992,       4967,     8.1,  25.6921,  36.2674,2,  36.2679,2,    203.5,2,   202.9,2,    1.00,2,    0.00,2,    0.01,2,    0.11,2,   1.663,2,   1.044,2,   1.211,2,  2058.4,2,  2377.9,6,   343.9,2,      20,   8.0410,2,    25.00, -999.00,9,  -999.0,9,  -999.0, -999.00,9, -999.00,9,      6.831,2,-999.0000,9,-999.0000,9,-999.0000,9,-999.0000,9,-999.0000,9,-999.0000,9,-999.0000,9,-999.0000,9,-999.0000,9,     -999.0,5,  -999.0,9,     -999.0,     -999.0,9,     -999.0,20130929,       0332
33RO20130803,       A16N,     136,          2,         22,         22,2,20130929,       0146,    -1.9992,   -24.9992,       4967,    23.0,  25.6935,  36.2671,2,  36.2699,2,    203.7,2,   202.7,2,    1.00,2,    0.00,2,    0.01,2,    0.11,2,   1.668,2,   1.060,2,   1.176,2,  2058.7,2,  2378.7,2,   345.9,6,      20,   8.0419,2,    25.00, -999.00,9,  -999.0,9,  -999.0, -999.00,9, -999.00,9,      6.769,2,-999.0000,9,-999.0000,9,-999.0000,9,-999.0000,9,-999.0000,9,-999.0000,9,-999.0000,9,-999.0000,9,-999.0000,9,     -999.0,5,  -999.0,9,     -999.0,     -999.0,9,     -999.0,20130929,       0331
33RO20130803,       A16N,     136,          2,         21,         21,2,20130929,       0146,    -1.9992,   -24.9992,       4967,    51.7,  25.6522,  36.2697,2,  36.2709,2,    204.3,2,   202.4,2,    1.00,2,    0.00,2,    0.01,2,    0.12,2,   1.675,2,   1.044,2,   1.232,2,  2059.3,2,  2365.3,3,   351.7,2,      20,   8.0401,2,    25.00, -999.00,9,  -999.0,9,  -999.0, -999.00,9, -999.00,9,      6.861,2,-999.0000,9,-999.0000,9,-999.0000,9,-999.0000,9,-999.0000,9,-999.0000,9,-999.0000,9,-999.0000,9,-999.0000,9,     -999.0,5,  -999.0,9,     -999.0,     -999.0,9,     -999.0,20130929,       0328
33RO20130803,       A16N,     136,          2,         20,         20,2,20130929,       0146,    -1.9992,   -24.9992,       4967,    81.8,  25.4869,  36.2513,2,  36.2487,2,    201.2,2,   197.3,2,    1.20,2,    0.50,2,    0.12,2,    0.16,2,   1.692,2,   1.061,2,   1.164,2,  2065.7,2,  2376.9,2,   385.8,2,      20,   8.0288,2,    25.00, -999.00,9,  -999.0,9,  -999.0, -999.00,9, -999.00,9,      7.467,2,-999.0000,9,-999.0000,9,-999.0000,9,-999.0000,9,-999.0000,9,-999.0000,9,-999.0000,9,-999.0000,9,-999.0000,9,     -999.0,5,  -999.0,9,     -999.0,     -999.0,9,     -999.0,20130929,       0326
33RO20130803,       A16N,     136,          2,         19,         19,2,20130929,       0146,    -1.9992,   -24.9992,       4967,   121.7,  14.8951,  35.5193,2,  35.5118,2,    104.2,2,   102.9,2,    6.70,2,   20.40,2,    0.02,2,    1.37,2,   2.223,6,   1.264,6,   0.789,6,  2192.8,2,  2332.1,2,   843.3,2,      20,   7.6935,2,    25.00, -999.00,9,  -999.0,9,  -999.0, -999.00,9, -999.00,9,     26.389,6,-999.0000,9,-999.0000,9,-999.0000,9,-999.0000,9,-999.0000,9,-999.0000,9,-999.0000,9,-999.0000,9,-999.0000,9,     -999.0,5,  -999.0,9,     -999.0,     -999.0,9,     -999.0,20130929,       0324
33RO20130803,       A16N,     136,          2,         18,         18,2,20130929,       0146,    -1.9992,   -24.9992,       4967,   181.8,  13.3482,  35.3240,2,  35.3166,2,     93.9,2,    92.5,2,    8.70,2,   23.80,2,    0.01,2,    1.57,2,   2.105,2,   1.162,2,   0.659,2,  2205.0,2,  2321.2,2,   960.4,2,      20,   7.6409,2,    25.00, -999.00,9,  -999.0,9,  -999.0, -999.00,9, -999.00,9,     30.226,2,-999.0000,9,-999.0000,9,-999.0000,9,-999.0000,9,-999.0000,9,-999.0000,9,-999.0000,9,-999.0000,9,-999.0000,9,     -999.0,5,  -999.0,9,     -999.0,     -999.0,9,     -999.0,20130929,       0322
33RO20130803,       A16N,     136,          2,         17,         17,2,20130929,       0146,    -1.9992,   -24.9992,       4967,   272.3,  11.9756,  35.1493,2,  35.1493,2,     82.1,2,    82.2,2,   10.70,2,   27.10,2,    0.01,2,    1.75,2,   1.878,2,   1.024,2,   0.496,2,  2217.3,2,  2309.3,2,  1080.4,2,      20,   7.5872,2,    25.00, -999.00,9,  -999.0,9,  -999.0, -999.00,9, -999.00,9,     34.460,2,-999.0000,9,-999.0000,9,-999.0000,9,-999.0000,9,-999.0000,9,-999.0000,9,-999.0000,9,-999.0000,9,-999.0000,9,     -999.0,5,  -999.0,9,     -999.0,     -999.0,9,     -999.0,20130929,       0319
33RO20130803,       A16N,     136,          2,         16,         16,2,20130929,       0146,    -1.9992,   -24.9992,       4967,   372.1,   9.8092,  34.8871,2,  34.8842,2,    101.2,2,    99.8,2,   13.50,2,   29.50,2,    0.01,2,    1.92,2,   1.623,2,   0.850,2,   0.359,2,  2220.7,2,  2302.0,2,  1131.9,2,      20,   7.5636,2,    25.00, -999.00,9,  -999.0,9,  -999.0, -999.00,9, -999.00,9,     32.856,2,-999.0000,9,-999.0000,9,-999.0000,9,-999.0000,9,-999.0000,9,-999.0000,9,-999.0000,9,-999.0000,9,-999.0000,9,     -999.0,5,  -999.0,9,     -999.0,     -999.0,9,     -999.0,20130929,       0317
33RO20130803,       A16N,     136,          2,         15,         15,2,20130929,       0146,    -1.9992,   -24.9992,       4967,   486.9,   6.8250,  34.5679,2,  34.5668,2,    142.5,2,   144.1,2,   20.00,2,   31.20,2,    0.00,2,    2.10,2,   1.499,2,   0.769,2,   0.271,2,  2213.2,2,  2293.4,2,  1132.6,2,      20,   7.5261,4,    25.00, -999.00,9,  -999.0,9,  -999.0, -999.00,9, -999.00,9,     25.267,2,-999.0000,9,-999.0000,9,-999.0000,9,-999.0000,9,-999.0000,9,-999.0000,9,-999.0000,9,-999.0000,9,-999.0000,9,     -999.0,5,  -999.0,9,     -999.0,     -999.0,9,     -999.0,20130929,       0314
33RO20130803,       A16N,     136,          2,         14,         14,2,20130929,       0146,    -1.9992,   -24.9992,       4967,   621.4,   5.8167,  34.5198,2,  34.5232,2,    143.9,2,   143.7,2,   24.80,2,   33.20,2,    0.00,2,    2.26,2,   0.838,6,   0.426,6,   0.136,6,  2220.2,2,  2295.9,6,  1183.1,2,      20,   7.5510,2,    25.00, -999.00,9,  -999.0,9,  -999.0, -999.00,9, -999.00,9,     24.776,6,-999.0000,9,-999.0000,9,-999.0000,9,-999.0000,9,-999.0000,9,-999.0000,9,-999.0000,9,-999.0000,9,-999.0000,9,     -999.0,5,  -999.0,9,     -999.0,     -999.0,9,     -999.0,20130929,       0311
33RO20130803,       A16N,     136,          2,         13,         13,2,20130929,       0146,    -1.9992,   -24.9992,       4967,   772.2,   4.8175,  34.4969,2,  34.4969,2,    154.8,2,   154.8,2,   30.30,2,   33.60,2,    0.00,2,    2.32,2,   0.479,2,   0.243,2,   0.072,2,  2221.6,2,  2299.9,2,  1174.5,2,      20,   7.5532,2,    25.00, -999.00,9,  -999.0,9,  -999.0, -999.00,9, -999.00,9,     23.390,2,-999.0000,9,-999.0000,9,-999.0000,9,-999.0000,9,-999.0000,9,-999.0000,9,-999.0000,9,-999.0000,9,-999.0000,9,     -999.0,5,  -999.0,9,     -999.0,     -999.0,9,     -999.0,20130929,       0307
33RO20130803,       A16N,     136,          2,         12,         12,2,20130929,       0146,    -1.9992,   -24.9992,       4967,   936.7,   4.5848,  34.5463,2,  34.5470,2,    154.8,2,   154.7,2,   31.80,2,   33.40,2,    0.00,2,    2.31,2,   0.217,2,   0.117,2,   0.000,2,  2222.9,6,  2305.0,2,  1164.6,2,      20,   7.5576,2,    25.00, -999.00,9,  -999.0,9,  -999.0, -999.00,9, -999.00,9,     23.162,2,-999.0000,9,-999.0000,9,-999.0000,9,-999.0000,9,-999.0000,9,-999.0000,9,-999.0000,9,-999.0000,9,-999.0000,9,     -999.0,5,  -999.0,9,     -999.0,     -999.0,9,     -999.0,20130929,       0304
33RO20130803,       A16N,     136,          2,         11,         11,2,20130929,       0146,    -1.9992,   -24.9992,       4967,  1097.8,   4.5375,  34.7569,2,  34.7597,2,    170.7,2,   170.9,2,   27.60,2,   29.50,2,    0.00,2,    2.03,2,   0.076,2,   0.042,2,   0.000,2,  2213.0,2,  2313.6,2,  1042.0,2,      20,   7.6120,2,    25.00, -999.00,9,  -999.0,9,  -999.0, -999.00,9, -999.00,9,     20.671,2,-999.0000,9,-999.0000,9,-999.0000,9,-999.0000,9,-999.0000,9,-999.0000,9,-999.0000,9,-999.0000,9,-999.0000,9,     -999.0,5,  -999.0,9,     -999.0,     -999.0,9,     -999.0,20130929,       0300
33RO20130803,       A16N,     136,          2,         10,         10,2,20130929,       0146,    -1.9992,   -24.9992,       4967,  1248.0,   4.5659,  34.8400,2,  34.8422,2,    185.6,2,   185.9,2,   24.40,2,   27.00,2,    0.00,2,    1.85,2,   0.131,2,   0.073,2,   0.000,2,  2204.7,2,  2313.1,2,   970.4,2,      20,   7.6328,2,    25.00, -999.00,9,  -999.0,9,  -999.0, -999.00,9, -999.00,9,     19.133,2,-999.0000,9,-999.0000,9,-999.0000,9,-999.0000,9,-999.0000,9,-999.0000,9,-999.0000,9,-999.0000,9,-999.0000,9,     -999.0,5,  -999.0,9,     -999.0,     -999.0,9,     -999.0,20130929,       0256
33RO20130803,       A16N,     136,          2,          9,          9,2,20130929,       0146,    -1.9992,   -24.9992,       4967,  1406.8,   4.5791,  34.8981,2,  34.8987,2,    198.9,2,   199.4,2,   21.90,2,   24.90,2,    0.00,2,    1.69,2,   0.249,2,   0.129,2,   0.105,2,  2196.4,2,  2315.6,2,   909.5,2,      20,   7.6585,6,    25.00, -999.00,9,  -999.0,9,  -999.0, -999.00,9, -999.00,9,     17.655,2,-999.0000,9,-999.0000,9,-999.0000,9,-999.0000,9,-999.0000,9,-999.0000,9,-999.0000,9,-999.0000,9,-999.0000,9,     -999.0,5,  -999.0,9,     -999.0,     -999.0,9,     -999.0,20130929,       0253
33RO20130803,       A16N,     136,          2,          8,          8,2,20130929,       0146,    -1.9992,   -24.9992,       4967,  1646.6,   4.1867,  34.9769,2,  34.9800,2,    237.7,2,   236.4,2,   17.30,2,   20.30,2,    0.00,2,    1.36,2,   0.605,2,   0.303,2,   0.147,2,  2176.7,2,  2322.3,2,   805.4,2,      20,   7.7096,2,    25.00, -999.00,9,  -999.0,9,  -999.0, -999.00,9, -999.00,9,     14.475,2,-999.0000,9,-999.0000,9,-999.0000,9,-999.0000,9,-999.0000,9,-999.0000,9,-999.0000,9,-999.0000,9,-999.0000,9,     -999.0,5,  -999.0,9,     -999.0,     -999.0,9,     -999.0,20130929,       0248
33RO20130803,       A16N,     136,          2,          7,          7,2,20130929,       0146,    -1.9992,   -24.9992,       4967,  1997.6,   3.5584,  34.9642,2,  34.9656,2,    249.7,2,   250.1,2,   20.30,2,   19.50,2,    0.00,2,    1.31,2,   0.368,2,   0.188,2,   0.042,2,  2173.2,2,  2317.4,2,   776.4,2,      20,   7.7264,2,    25.00, -999.00,9,  -999.0,9,  -999.0, -999.00,9, -999.00,9,     13.498,2,-999.0000,9,-999.0000,9,-999.0000,9,-999.0000,9,-999.0000,9,-999.0000,9,-999.0000,9,-999.0000,9,-999.0000,9,     -999.0,5,  -999.0,9,     -999.0,     -999.0,9,     -999.0,20130929,       0241
33RO20130803,       A16N,     136,          2,          6,          6,2,20130929,       0146,    -1.9992,   -24.9992,       4967,  2446.1,   3.1469,  34.9494,2,  34.9537,2,    255.7,2,   256.8,2,   22.90,2,   19.10,2,    0.00,2,    1.29,2,   0.385,2,   0.191,2,   0.054,2,  2173.3,2,  2318.4,3,   769.9,2,      20,   7.7322,2,    25.00, -999.00,9,  -999.0,9,  -999.0, -999.00,9, -999.00,9,     13.173,2,-999.0000,9,-999.0000,9,-999.0000,9,-999.0000,9,-999.0000,9,-999.0000,9,-999.0000,9,-999.0000,9,-999.0000,9,     -999.0,5,  -999.0,9,     -999.0,     -999.0,9,     -999.0,20130929,       0233
33RO20130803,       A16N,     136,          2,          5,          5,2,20130929,       0146,    -1.9992,   -24.9992,       4967,  2947.5,   2.6797,  34.9100,2,  34.9185,4,    242.3,2,   242.5,2,   38.20,2,   21.60,2,    0.00,2,    1.47,2,   0.033,2,   0.017,2,   0.000,2,  2191.0,2,  2333.3,2,   801.7,2,      20,   7.7169,2,    25.00, -999.00,9,  -999.0,9,  -999.0, -999.00,9, -999.00,9,     13.762,2,-999.0000,9,-999.0000,9,-999.0000,9,-999.0000,9,-999.0000,9,-999.0000,9,-999.0000,9,-999.0000,9,-999.0000,9,     -999.0,5,  -999.0,9,     -999.0,     -999.0,9,     -999.0,20130929,       0224
33RO20130803,       A16N,     136,          2,          4,          4,2,20130929,       0146,    -1.9992,   -24.9992,       4967,  3447.2,   2.5032,  34.9051,2,  34.9034,2,    252.7,2,   252.3,2,   35.70,6,   20.50,6,    0.00,6,    1.39,6,   0.146,2,   0.078,2,   0.000,2,  2184.9,2,  2332.1,6,   804.2,2,      20,   7.9466,4,    25.00, -999.00,9,  -999.0,9,  -999.0, -999.00,9, -999.00,9,     13.388,2,-999.0000,9,-999.0000,9,-999.0000,9,-999.0000,9,-999.0000,9,-999.0000,9,-999.0000,9,-999.0000,9,-999.0000,9,     -999.0,5,  -999.0,9,     -999.0,     -999.0,9,     -999.0,20130929,       0215
33RO20130803,       A16N,     136,          2,          3,          3,2,20130929,       0146,    -1.9992,   -24.9992,       4967,  3946.2,   2.2488,  34.8858,2,  34.8871,2,    257.9,2,   257.4,2,   38.00,6,   20.20,6,    0.00,6,    1.38,6,   0.366,6,   0.186,6,   0.064,6,  2185.8,2,  2332.0,2,   797.5,2,      20,   7.7238,6,    25.00, -999.00,9,  -999.0,9,  -999.0, -999.00,9, -999.00,9,     13.430,6,-999.0000,9,-999.0000,9,-999.0000,9,-999.0000,9,-999.0000,9,-999.0000,9,-999.0000,9,-999.0000,9,-999.0000,9,     -999.0,5,  -999.0,9,     -999.0,     -999.0,9,     -999.0,20130929,       0206
33RO20130803,       A16N,     136,          2,          2,          2,2,20130929,       0146,    -1.9992,   -24.9992,       4967,  4446.4,   1.0314,  34.7487,2,  34.7503,2,    227.1,2,   227.1,2,   96.90,6,   28.80,6,    0.00,6,    2.01,6,   0.075,2,   0.036,2,   0.000,2,  2246.6,2,  2364.4,2,   963.3,2,      20,   7.6467,2,    25.00, -999.00,9,  -999.0,9,  -999.0, -999.00,9, -999.00,9,     16.505,2,-999.0000,9,-999.0000,9,-999.0000,9,-999.0000,9,-999.0000,9,-999.0000,9,-999.0000,9,-999.0000,9,-999.0000,9,     -999.0,5,  -999.0,9,     -999.0,     -999.0,9,     -999.0,20130929,       0156
33RO20130803,       A16N,     136,          2,          1,          1,2,20130929,       0146,    -1.9992,   -24.9992,       4967,  5014.7,   0.7656,  34.7127,2,  34.7146,2,    220.9,2,   220.5,2,  111.30,6,   30.90,6,    0.00,6,    2.16,6,   0.091,2,   0.044,2,   0.000,2,  2259.2,6,  2376.3,2,   973.9,2,      20,   7.6216,2,    25.00, -999.00,9,  -999.0,9,  -999.0, -999.00,9, -999.00,9,     17.126,2,-999.0000,9,-999.0000,9,-999.0000,9,-999.0000,9,-999.0000,9,-999.0000,9,-999.0000,9,-999.0000,9,-999.0000,9,     -999.0,5,  -999.0,9,     -999.0,     -999.0,9,     -999.0,20130929,       0146