BOTTLE,20220815CCHSIOAMB
EXPOCODE,SECT_ID,STNNBR,CASTNO,SAMPNO,BTLNBR,BTLNBR_FLAG_W,DATE,TIME,LATITUDE,LONGITUDE,DEPTH,CTDPRS,CTDTMP,CTDSAL,CTDSAL_FLAG_W,SALNTY,SALNTY_FLAG_W,CTDOXY,CTDOXY_FLAG_W,OXYGEN,OXYGEN_FLAG_W,SILCAT,SILCAT_FLAG_W,NITRAT,NITRAT_FLAG_W,NITRIT,NITRIT_FLAG_W,PHSPHT,PHSPHT_FLAG_W,CFC-11,CFC-11_FLAG_W,CFC-12,CFC-12_FLAG_W,SF6,SF6_FLAG_W,TCARBN,TCARBN_FLAG_W,ALKALI,ALKALI_FLAG_W,PCO2,PCO2_FLAG_W,PCO2TMP,PH_SWS,PH_SWS_FLAG_W,PH_TMP,DELC13,DELC13_FLAG_W,DELC14,DELC14_FLAG_W,C14ERR,DOC,DOC_FLAG_W,TDN,TDN_FLAG_W,N2O,N2O_FLAG_W,CDOM325,CDOM325_FLAG_W,CDOM340,CDOM340_FLAG_W,CDOM380,CDOM380_FLAG_W,CDOM412,CDOM412_FLAG_W,CDOM443,CDOM443_FLAG_W,CDOM490,CDOM490_FLAG_W,CDOM555,CDOM555_FLAG_W,CDOMSL,CDOMSL_FLAG_W,CDOMSN,CDOMSN_FLAG_W,CCL4,CCL4_FLAG_W,14C-DOC,14C-DOC_FLAG_W,14C-DOCERR,13C-DOC,13C-DOC_FLAG_W,13C-DOCERR,BTL_DATE,BTL_TIME
,,,,,,,,,,,METERS,DBAR,ITS-90,PSS-78,,PSS-78,,UMOL/KG,,UMOL/KG,,UMOL/KG,,UMOL/KG,,UMOL/KG,,UMOL/KG,,PMOL/KG,,PMOL/KG,,FMOL/KG,,UMOL/KG,,UMOL/KG,,UATM,,DEG C,,,DEG C,/MILLE,,/MILLE,,/MILLE,UMOL/KG,,UMOL/KG,,NMOL/KG,,1/M,,1/M,,1/M,,1/M,,1/M,,1/M,,1/M,,1/NM,,1/NM,,PMOL/KG,,/MILLE,,/MILLE,/MILLE,,/MILLE,,
33RO20130803,       A16N,      31,          1,         24,         24,2,20130810,       1217,    49.9994,   -19.9997,       4408,     2.8,  16.7925,  35.4413,2,  35.4419,2,    246.8,2,   251.5,2,    0.40,2,    0.00,2,    0.01,2,    0.06,2,   2.545,2,   1.526,2,   1.716,2,  2056.0,6,  2341.7,2,   363.3,2,      20,   8.0017,2,    25.00,    1.59,2,    49.1,2,     0.2, -999.00,9, -999.00,9,      8.417,2,-999.0000,9,-999.0000,9,-999.0000,9,-999.0000,9,-999.0000,9,-999.0000,9,-999.0000,9,-999.0000,9,-999.0000,9,     -999.0,5,  -999.0,9,     -999.0,     -999.0,9,     -999.0,20130810,       1403
33RO20130803,       A16N,      31,          1,         23,         23,2,20130810,       1217,    49.9994,   -19.9997,       4408,    23.6,  16.5657,  35.4353,2,  35.4316,2,    249.4,2,   250.5,2,    0.40,2,    0.00,2,    0.01,2,    0.07,2,   2.542,6,   1.533,6,   1.787,6,  2058.2,2,  2340.0,2,   368.7,2,      20,   7.9942,2,    25.00,    1.53,2,    45.1,2,     0.2, -999.00,9, -999.00,9,      8.392,6,-999.0000,9,-999.0000,9,-999.0000,9,-999.0000,9,-999.0000,9,-999.0000,9,-999.0000,9,-999.0000,9,-999.0000,9,     -999.0,5,  -999.0,9,     -999.0,     -999.0,9,     -999.0,20130810,       1401
33RO20130803,       A16N,      31,          1,         22,         22,2,20130810,       1217,    49.9994,   -19.9997,       4408,    49.7,  13.1404,  35.3789,2,  35.3488,2,    249.7,2,   252.3,2,    0.60,2,    3.40,2,    0.28,2,    0.36,2,   3.003,2,   1.781,2,   1.994,2,  2108.0,2,  2341.0,2,   487.1,2,      20,   7.8913,6,    25.00,    0.93,2,    59.8,2,     0.2, -999.00,9, -999.00,9,      9.645,2,-999.0000,9,-999.0000,9,-999.0000,9,-999.0000,9,-999.0000,9,-999.0000,9,-999.0000,9,-999.0000,9,-999.0000,9,     -999.0,5,  -999.0,9,     -999.0,     -999.0,9,     -999.0,20130810,       1359
33RO20130803,       A16N,      31,          1,         21,         21,2,20130810,       1217,    49.9994,   -19.9997,       4408,    72.4,  12.6677,  35.4333,2,-999.0000,9,    246.7,2,   247.1,2,    1.10,2,    6.30,2,    0.33,2,    0.44,2,   3.019,2,   1.775,2,   1.992,2,  2118.4,2,  2334.3,6,   513.4,2,      20,   7.8711,2,    25.00,    0.81,2,    64.7,2,     0.2, -999.00,9, -999.00,9,      9.823,2,-999.0000,9,-999.0000,9,-999.0000,9,-999.0000,9,-999.0000,9,-999.0000,9,-999.0000,9,-999.0000,9,-999.0000,9,     -999.0,5,  -999.0,9,     -999.0,     -999.0,9,     -999.0,20130810,       1357
33RO20130803,       A16N,      31,          1,         20,         20,2,20130810,       1217,    49.9994,   -19.9997,       4408,    98.6,  12.3398,  35.5202,2,  35.5180,2,    248.0,2,   243.3,2,    2.40,2,    8.60,2,    0.02,2,    0.54,2,   2.950,2,   1.751,2,   1.957,2,  2129.5,2,  2339.0,2,   541.4,2,      20,   7.8508,2,    25.00,    0.63,2,    61.3,2,     0.3, -999.00,9, -999.00,9,     10.190,2,-999.0000,9,-999.0000,9,-999.0000,9,-999.0000,9,-999.0000,9,-999.0000,9,-999.0000,9,-999.0000,9,-999.0000,9,     -999.0,5,  -999.0,9,     -999.0,     -999.0,9,     -999.0,20130810,       1355
33RO20130803,       A16N,      31,          1,         19,         19,2,20130810,       1217,    49.9994,   -19.9997,       4408,   125.3,  11.7918,  35.4577,2,  35.4549,2,    244.8,2,     243,2,    2.90,2,    9.50,2,    0.01,2,    0.60,2,   3.019,2,   1.769,2,   1.944,2,  2134.6,2,  2333.4,2,   560.4,2,      20,   7.8381,2,    25.00,    0.66,2,    62.3,2,     0.3, -999.00,9, -999.00,9,     10.536,2,-999.0000,9,-999.0000,9,-999.0000,9,-999.0000,9,-999.0000,9,-999.0000,9,-999.0000,9,-999.0000,9,-999.0000,9,     -999.0,5,  -999.0,9,     -999.0,     -999.0,9,     -999.0,20130810,       1354
33RO20130803,       A16N,      31,          1,         18,         18,2,20130810,       1217,    49.9994,   -19.9997,       4408,   165.6,  11.2945,  35.3891,2,  35.3873,2,    239.2,2,   239.5,2,    3.80,2,   10.60,2,    0.01,2,    0.68,2,   2.982,2,   1.751,2,   1.864,2,  2137.8,2,  2329.7,2,   585.5,2,      20,   7.8213,2,    25.00,    0.61,2,    56.7,2,     0.2, -999.00,9, -999.00,9,     11.151,2,-999.0000,9,-999.0000,9,-999.0000,9,-999.0000,9,-999.0000,9,-999.0000,9,-999.0000,9,-999.0000,9,-999.0000,9,     -999.0,5,  -999.0,9,     -999.0,     -999.0,9,     -999.0,20130810,       1352
33RO20130803,       A16N,      31,          1,         17,         17,2,20130810,       1217,    49.9994,   -19.9997,       4408,   253.6,  10.9467,  35.3538,2,  35.3508,2,    240.3,2,   239.7,2,    4.30,2,   11.20,2,    0.01,2,    0.72,2,   3.033,2,   1.773,2,   1.901,2,  2140.1,2,  2326.4,2,   602.8,2,      20,   7.8079,2,    25.00,    0.58,2,    50.0,2,     0.2, -999.00,9, -999.00,9,     11.446,2,-999.0000,9,-999.0000,9,-999.0000,9,-999.0000,9,-999.0000,9,-999.0000,9,-999.0000,9,-999.0000,9,-999.0000,9,     -999.0,5,  -999.0,9,     -999.0,     -999.0,9,     -999.0,20130810,       1349
33RO20130803,       A16N,      31,          1,         16,         16,2,20130810,       1217,    49.9994,   -19.9997,       4408,   325.1,  10.4127,  35.2786,2,  35.2785,2,    234.7,2,   232.8,2,    5.30,2,   12.60,2,    0.01,2,    0.81,2,   3.011,2,   1.740,2,   1.808,2,  2145.8,2,  2325.4,2,   635.6,2,      20,   7.7875,2,    25.00,    0.62,2,    36.5,2,     0.2, -999.00,9, -999.00,9,     12.658,2,-999.0000,9,-999.0000,9,-999.0000,9,-999.0000,9,-999.0000,9,-999.0000,9,-999.0000,9,-999.0000,9,-999.0000,9,     -999.0,5,  -999.0,9,     -999.0,     -999.0,9,     -999.0,20130810,       1347
33RO20130803,       A16N,      31,          1,         15,         15,2,20130810,       1217,    49.9994,   -19.9997,       4408,   417.8,   9.0174,  35.0933,2,-999.0000,9,    216.1,2,   218.7,2,    7.70,2,   15.80,2,    0.01,2,    1.03,2,   2.905,2,   1.660,2,   1.637,2,  2158.4,2,  2316.3,6,   723.6,2,      20,   7.7392,2,    25.00,    0.60,2,    28.0,2,     0.3, -999.00,9, -999.00,9,     14.718,2,-999.0000,9,-999.0000,9,-999.0000,9,-999.0000,9,-999.0000,9,-999.0000,9,-999.0000,9,-999.0000,9,-999.0000,9,     -999.0,5,  -999.0,9,     -999.0,     -999.0,9,     -999.0,20130810,       1344
33RO20130803,       A16N,      31,          1,         14,         14,2,20130810,       1217,    49.9994,   -19.9997,       4408,   503.9,   8.0475,  35.0276,2,  35.0248,2,    206.8,2,   204.3,2,    9.80,2,   18.30,2,    0.01,2,    1.20,2,   2.752,2,   1.522,2,   1.309,2,  2171.2,2,  2310.7,3,   797.6,2,      20,   7.6991,2,    25.00,    0.62,2,    11.7,2,     0.2, -999.00,9, -999.00,9,     16.653,2,-999.0000,9,-999.0000,9,-999.0000,9,-999.0000,9,-999.0000,9,-999.0000,9,-999.0000,9,-999.0000,9,-999.0000,9,     -999.0,5,  -999.0,9,     -999.0,     -999.0,9,     -999.0,20130810,       1341
33RO20130803,       A16N,      31,          1,         13,         13,2,20130810,       1217,    49.9994,   -19.9997,       4408,   620.1,   7.6796,  35.1612,2,  35.1646,2,    199.3,2,   199.5,2,   10.70,2,   18.90,2,    0.00,2,    1.22,2,   2.543,2,   1.383,2,   1.042,2,  2182.1,6,  2319.8,2,   803.9,2,      20,   7.6983,2,    25.00,    0.64,2,     4.2,2,     0.2, -999.00,9, -999.00,9,     16.536,2,-999.0000,9,-999.0000,9,-999.0000,9,-999.0000,9,-999.0000,9,-999.0000,9,-999.0000,9,-999.0000,9,-999.0000,9,     -999.0,5,  -999.0,9,     -999.0,     -999.0,9,     -999.0,20130810,       1338
33RO20130803,       A16N,      31,          1,         12,         12,2,20130810,       1217,    49.9994,   -19.9997,       4408,   805.3,   5.4084,  34.9764,2,  34.9758,2,    238.0,2,   238.7,3,   10.60,2,   18.30,2,    0.00,2,    1.20,2,   3.298,2,   1.776,2,   1.391,2,  2173.1,2,  2307.8,2,   821.1,2,      20,   7.6857,2,    25.00,    0.72,2,     2.0,2,     0.2, -999.00,9, -999.00,9,     15.077,2,-999.0000,9,-999.0000,9,-999.0000,9,-999.0000,9,-999.0000,9,-999.0000,9,-999.0000,9,-999.0000,9,-999.0000,9,     -999.0,5,  -999.0,9,     -999.0,     -999.0,9,     -999.0,20130810,       1333
33RO20130803,       A16N,      31,          1,         11,         11,2,20130810,       1217,    49.9994,   -19.9997,       4408,   950.7,   5.3630,  35.0579,2,  35.0567,2,    246.4,2,   242.3,2,   10.70,2,   18.00,2,    0.00,2,    1.18,2,   3.230,2,   1.724,2,   1.195,2,  2174.2,2,  2314.8,2,   801.1,2,      20,   7.6966,2,    25.00,    0.72,2,     0.3,2,     0.2, -999.00,9, -999.00,9,     14.637,2,-999.0000,9,-999.0000,9,-999.0000,9,-999.0000,9,-999.0000,9,-999.0000,9,-999.0000,9,-999.0000,9,-999.0000,9,     -999.0,5,  -999.0,9,     -999.0,     -999.0,9,     -999.0,20130810,       1330
33RO20130803,       A16N,      31,          1,         10,         10,2,20130810,       1217,    49.9994,   -19.9997,       4408,  1102.7,   4.5996,  34.9779,2,  34.9782,2,    259.5,2,   258.8,2,   10.40,2,   17.60,2,    0.00,2,    1.15,2,   3.600,2,   1.910,2,   1.321,2,  2169.3,2,  2309.1,2,   800.6,2,      20,   7.6991,2,    25.00,    0.74,2,    -1.0,2,     0.2, -999.00,9, -999.00,9,     14.225,2,-999.0000,9,-999.0000,9,-999.0000,9,-999.0000,9,-999.0000,9,-999.0000,9,-999.0000,9,-999.0000,9,-999.0000,9,     -999.0,5,  -999.0,9,     -999.0,     -999.0,9,     -999.0,20130810,       1326
33RO20130803,       A16N,      31,          1,          9,          9,2,20130810,       1217,    49.9994,   -19.9997,       4408,  1319.2,   4.0771,  34.9277,2,  34.9283,2,    268.3,2,   269.6,2,   10.40,2,   17.20,2,    0.00,2,    1.13,2,   3.756,2,   1.987,2,   1.285,2,  2164.1,2,  2305.1,2,   792.6,2,      20,   7.7029,2,    25.00, -999.00,9,  -999.0,9,  -999.0, -999.00,9, -999.00,9,     13.798,2,-999.0000,9,-999.0000,9,-999.0000,9,-999.0000,9,-999.0000,9,-999.0000,9,-999.0000,9,-999.0000,9,-999.0000,9,     -999.0,5,  -999.0,9,     -999.0,     -999.0,9,     -999.0,20130810,       1321
33RO20130803,       A16N,      31,          1,          8,          8,2,20130810,       1217,    49.9994,   -19.9997,       4408,  1721.0,   3.7110,  34.9185,2,  34.9182,2,    270.7,2,   271.3,2,   11.40,2,   17.30,2,    0.00,2,    1.14,2,   3.321,2,   1.696,2,   0.855,2,  2163.4,2,  2304.4,2,   781.0,2,      20,   7.7067,2,    25.00,    0.81,2,    -6.3,2,     0.2, -999.00,9, -999.00,9,     13.590,2,-999.0000,9,-999.0000,9,-999.0000,9,-999.0000,9,-999.0000,9,-999.0000,9,-999.0000,9,-999.0000,9,-999.0000,9,     -999.0,5,  -999.0,9,     -999.0,     -999.0,9,     -999.0,20130810,       1313
33RO20130803,       A16N,      31,          1,          7,          7,2,20130810,       1217,    49.9994,   -19.9997,       4408,  2079.3,   3.4403,  34.9179,2,  34.9176,2,    273.1,2,   272.9,2,   12.30,2,   17.20,2,    0.00,2,    1.14,2,   2.924,2,   1.461,2,   0.661,2,  2161.6,2,  2304.6,2,   768.3,2,      20,   7.7120,2,    25.00,    0.87,2,   -11.5,2,     0.2, -999.00,9, -999.00,9,     13.377,2,-999.0000,9,-999.0000,9,-999.0000,9,-999.0000,9,-999.0000,9,-999.0000,9,-999.0000,9,-999.0000,9,-999.0000,9,     -999.0,5,  -999.0,9,     -999.0,     -999.0,9,     -999.0,20130810,       1306
33RO20130803,       A16N,      31,          1,          6,          6,2,20130810,       1217,    49.9994,   -19.9997,       4408,  2511.6,   3.1869,  34.9304,2,  34.9303,2,    273.2,2,     273,2,   13.80,2,   16.90,2,    0.00,2,    1.12,2,   2.626,2,   1.314,2,   0.629,2,  2163.8,2,  2307.2,2,   765.3,2,      20,   7.7153,2,    25.00,    0.92,2,   -15.2,2,     0.2, -999.00,9, -999.00,9,     13.333,2,-999.0000,9,-999.0000,9,-999.0000,9,-999.0000,9,-999.0000,9,-999.0000,9,-999.0000,9,-999.0000,9,-999.0000,9,     -999.0,5,  -999.0,9,     -999.0,     -999.0,9,     -999.0,20130810,       1257
33RO20130803,       A16N,      31,          1,          5,          5,2,20130810,       1217,    49.9994,   -19.9997,       4408,  2843.4,   3.0001,  34.9429,2,  34.9430,2,    264.3,2,   265.3,2,   19.80,2,   17.70,2,    0.00,2,    1.19,2,   1.961,2,   0.984,2,   0.495,2,  2170.2,2,  2316.5,2,   765.2,2,      20,   7.7183,2,    25.00,    0.92,2,   -37.4,2,     0.2, -999.00,9, -999.00,9,     13.385,2,-999.0000,9,-999.0000,9,-999.0000,9,-999.0000,9,-999.0000,9,-999.0000,9,-999.0000,9,-999.0000,9,-999.0000,9,     -999.0,5,  -999.0,9,     -999.0,     -999.0,9,     -999.0,20130810,       1250
33RO20130803,       A16N,      31,          1,          4,          4,2,20130810,       1217,    49.9994,   -19.9997,       4408,  3196.5,   2.7890,  34.9399,2,  34.9399,2,    254.7,2,   254.7,2,   29.00,6,   19.30,6,    0.00,6,    1.29,6,   1.175,2,   0.591,2,   0.341,2,  2181.7,2,  2330.5,2,   766.6,2,      20,   7.7180,2,    25.00,    0.82,2,   -69.1,2,     0.2, -999.00,9, -999.00,9,     13.489,2,-999.0000,9,-999.0000,9,-999.0000,9,-999.0000,9,-999.0000,9,-999.0000,9,-999.0000,9,-999.0000,9,-999.0000,9,     -999.0,5,  -999.0,9,     -999.0,     -999.0,9,     -999.0,20130810,       1243
33RO20130803,       A16N,      31,          1,          3,          3,2,20130810,       1217,    49.9994,   -19.9997,       4408,  3598.3,   2.6132,  34.9219,2,  34.9222,2,    244.0,2,   244.1,2,   39.00,6,   21.20,6,    0.00,6,    1.43,6,   0.327,2,   0.163,2,   0.094,2,  2194.1,2,  2344.5,6,   761.8,2,      20,   7.7232,2,    25.00,    0.84,2,  -104.3,2,     0.2, -999.00,9, -999.00,9,     13.574,2,-999.0000,9,-999.0000,9,-999.0000,9,-999.0000,9,-999.0000,9,-999.0000,9,-999.0000,9,-999.0000,9,-999.0000,9,     -999.0,5,  -999.0,9,     -999.0,     -999.0,9,     -999.0,20130810,       1235
33RO20130803,       A16N,      31,          1,          2,          2,2,20130810,       1217,    49.9994,   -19.9997,       4408,  3999.5,   2.5297,  34.9098,2,  34.9108,2,    240.0,2,   240.7,2,   43.50,6,   22.00,6,    0.00,6,    1.48,6,   0.101,6,   0.051,6,   0.058,6,  -999.0,5,  2351.8,2,   761.8,2,      20,   7.7238,6,    25.00,    0.94,2,  -109.7,2,     0.2, -999.00,9, -999.00,9,     13.667,6,-999.0000,9,-999.0000,9,-999.0000,9,-999.0000,9,-999.0000,9,-999.0000,9,-999.0000,9,-999.0000,9,-999.0000,9,     -999.0,5,  -999.0,9,     -999.0,     -999.0,9,     -999.0,20130810,       1227
33RO20130803,       A16N,      31,          1,          1,          1,2,20130810,       1217,    49.9994,   -19.9997,       4408,  4471.9,   2.5288,  34.9037,2,  34.9043,2,    240.5,2,   239.6,2,   45.50,6,   22.30,6,    0.01,6,    1.50,6,   0.051,2,   0.027,2,   0.036,2,  2205.7,6,  2356.0,2,   760.7,2,      20,   7.7259,2,    25.00,    0.91,2,  -117.6,2,     0.2, -999.00,9, -999.00,9,     13.670,2,-999.0000,9,-999.0000,9,-999.0000,9,-999.0000,9,-999.0000,9,-999.0000,9,-999.0000,9,-999.0000,9,-999.0000,9,     -999.0,5,  -999.0,9,     -999.0,     -999.0,9,     -999.0,20130810,       1217