BOTTLE,20220815CCHSIOAMB
EXPOCODE,SECT_ID,STNNBR,CASTNO,SAMPNO,BTLNBR,BTLNBR_FLAG_W,DATE,TIME,LATITUDE,LONGITUDE,DEPTH,CTDPRS,CTDTMP,CTDSAL,CTDSAL_FLAG_W,SALNTY,SALNTY_FLAG_W,CTDOXY,CTDOXY_FLAG_W,OXYGEN,OXYGEN_FLAG_W,SILCAT,SILCAT_FLAG_W,NITRAT,NITRAT_FLAG_W,NITRIT,NITRIT_FLAG_W,PHSPHT,PHSPHT_FLAG_W,CFC-11,CFC-11_FLAG_W,CFC-12,CFC-12_FLAG_W,SF6,SF6_FLAG_W,TCARBN,TCARBN_FLAG_W,ALKALI,ALKALI_FLAG_W,PCO2,PCO2_FLAG_W,PCO2TMP,PH_SWS,PH_SWS_FLAG_W,PH_TMP,DELC13,DELC13_FLAG_W,DELC14,DELC14_FLAG_W,C14ERR,DOC,DOC_FLAG_W,TDN,TDN_FLAG_W,N2O,N2O_FLAG_W,CDOM325,CDOM325_FLAG_W,CDOM340,CDOM340_FLAG_W,CDOM380,CDOM380_FLAG_W,CDOM412,CDOM412_FLAG_W,CDOM443,CDOM443_FLAG_W,CDOM490,CDOM490_FLAG_W,CDOM555,CDOM555_FLAG_W,CDOMSL,CDOMSL_FLAG_W,CDOMSN,CDOMSN_FLAG_W,CCL4,CCL4_FLAG_W,14C-DOC,14C-DOC_FLAG_W,14C-DOCERR,13C-DOC,13C-DOC_FLAG_W,13C-DOCERR,BTL_DATE,BTL_TIME
,,,,,,,,,,,METERS,DBAR,ITS-90,PSS-78,,PSS-78,,UMOL/KG,,UMOL/KG,,UMOL/KG,,UMOL/KG,,UMOL/KG,,UMOL/KG,,PMOL/KG,,PMOL/KG,,FMOL/KG,,UMOL/KG,,UMOL/KG,,UATM,,DEG C,,,DEG C,/MILLE,,/MILLE,,/MILLE,UMOL/KG,,UMOL/KG,,NMOL/KG,,1/M,,1/M,,1/M,,1/M,,1/M,,1/M,,1/M,,1/NM,,1/NM,,PMOL/KG,,/MILLE,,/MILLE,/MILLE,,/MILLE,,
33RO20130803,       A16N,      35,          1,         24,         24,2,20130811,       1612,    47.9997,   -20.0008,       4367,     2.2,  18.8392,  35.5976,2,  35.5981,2,    229.9,2,   236.6,2,    0.50,2,    0.00,2,    0.00,2,    0.03,2,   2.330,2,   1.410,2,   1.653,2,  2061.6,6,  2347.2,2,   363.2,2,      20,   8.0034,2,    25.00, -999.00,9,  -999.0,9,  -999.0, -999.00,9, -999.00,9,      7.850,2,-999.0000,9,-999.0000,9,-999.0000,9,-999.0000,9,-999.0000,9,-999.0000,9,-999.0000,9,-999.0000,9,-999.0000,9,     -999.0,5,  -999.0,9,     -999.0,     -999.0,9,     -999.0,20130811,       1753
33RO20130803,       A16N,      35,          1,         23,         23,2,20130811,       1612,    47.9997,   -20.0008,       4367,    30.5,  18.0452,  35.6284,2,  35.6302,2,    232.4,2,   236.2,2,    0.50,6,    0.00,6,    0.01,6,    0.05,6,   2.404,2,   1.445,2,   1.628,2,  2070.5,2,  2348.7,2,   372.6,2,      20,   7.9932,2,    25.00, -999.00,9,  -999.0,9,  -999.0, -999.00,9, -999.00,9,      7.972,2,-999.0000,9,-999.0000,9,-999.0000,9,-999.0000,9,-999.0000,9,-999.0000,9,-999.0000,9,-999.0000,9,-999.0000,9,     -999.0,5,  -999.0,9,     -999.0,     -999.0,9,     -999.0,20130811,       1751
33RO20130803,       A16N,      35,          1,         22,         22,2,20130811,       1612,    47.9997,   -20.0008,       4367,    60.7,  13.7555,  35.5968,2,  35.5977,2,    237.9,2,   238.1,2,    0.90,6,    3.70,6,    1.31,6,    0.35,6,   2.906,2,   1.708,2,   1.847,2,  2118.7,2,  2343.4,6,   491.2,2,      20,   7.8896,2,    25.00, -999.00,9,  -999.0,9,  -999.0, -999.00,9, -999.00,9,     10.211,2,-999.0000,9,-999.0000,9,-999.0000,9,-999.0000,9,-999.0000,9,-999.0000,9,-999.0000,9,-999.0000,9,-999.0000,9,     -999.0,5,  -999.0,9,     -999.0,     -999.0,9,     -999.0,20130811,       1749
33RO20130803,       A16N,      35,          1,         21,         21,2,20130811,       1612,    47.9997,   -20.0008,       4367,    87.3,  12.9518,  35.6336,2,  35.6208,2,    239.3,2,   240.2,2,    2.20,2,    7.70,2,    0.02,2,    0.49,2,   2.931,2,   1.722,2,   1.887,2,  2132.6,2,  2341.0,2,   527.5,2,      20,   7.8609,2,    25.00, -999.00,9,  -999.0,9,  -999.0, -999.00,9, -999.00,9,     10.006,2,-999.0000,9,-999.0000,9,-999.0000,9,-999.0000,9,-999.0000,9,-999.0000,9,-999.0000,9,-999.0000,9,-999.0000,9,     -999.0,5,  -999.0,9,     -999.0,     -999.0,9,     -999.0,20130811,       1747
33RO20130803,       A16N,      35,          1,         20,         20,2,20130811,       1612,    47.9997,   -20.0008,       4367,   111.1,  12.6172,  35.6003,2,  35.6000,2,    239.7,2,   239.6,2,    3.00,2,    8.60,2,    0.02,2,    0.53,2,   2.916,2,   1.715,2,   1.845,2,  2134.7,2,  2340.4,2,   540.2,2,      20,   7.8503,2,    25.00, -999.00,9,  -999.0,9,  -999.0, -999.00,9, -999.00,9,     10.192,2,-999.0000,9,-999.0000,9,-999.0000,9,-999.0000,9,-999.0000,9,-999.0000,9,-999.0000,9,-999.0000,9,-999.0000,9,     -999.0,5,  -999.0,9,     -999.0,     -999.0,9,     -999.0,20130811,       1746
33RO20130803,       A16N,      35,          1,         19,         19,2,20130811,       1612,    47.9997,   -20.0008,       4367,   136.5,  12.3164,  35.5586,2,  35.5593,2,    240.4,2,   239.9,2,    3.50,2,    9.00,2,    0.01,2,    0.56,2,   2.941,2,   1.718,2,   1.843,2,  2135.3,2,  2337.0,2,   548.3,2,      20,   7.8478,2,    25.00, -999.00,9,  -999.0,9,  -999.0, -999.00,9, -999.00,9,     10.432,2,-999.0000,9,-999.0000,9,-999.0000,9,-999.0000,9,-999.0000,9,-999.0000,9,-999.0000,9,-999.0000,9,-999.0000,9,     -999.0,5,  -999.0,9,     -999.0,     -999.0,9,     -999.0,20130811,       1744
33RO20130803,       A16N,      35,          1,         18,         18,2,20130811,       1612,    47.9997,   -20.0008,       4367,   196.7,  11.9411,  35.5020,2,  35.5043,2,    237.9,2,   237.1,2,    3.70,2,    9.80,2,    0.01,2,    0.62,2,   2.958,2,   1.722,2,   1.809,2,  2138.4,2,  2336.2,2,   568.4,2,      20,   7.8324,2,    25.00, -999.00,9,  -999.0,9,  -999.0, -999.00,9, -999.00,9,     10.973,2,-999.0000,9,-999.0000,9,-999.0000,9,-999.0000,9,-999.0000,9,-999.0000,9,-999.0000,9,-999.0000,9,-999.0000,9,     -999.0,5,  -999.0,9,     -999.0,     -999.0,9,     -999.0,20130811,       1742
33RO20130803,       A16N,      35,          1,         17,         17,2,20130811,       1612,    47.9997,   -20.0008,       4367,   284.5,  11.3850,  35.4436,2,  35.4427,2,    227.9,2,   225.7,2,    4.90,2,   11.80,2,    0.01,2,    0.75,2,   2.909,2,   1.676,2,   1.686,2,  2149.8,2,  2332.2,2,   610.4,2,      20,   7.8063,2,    25.00, -999.00,9,  -999.0,9,  -999.0, -999.00,9, -999.00,9,     12.524,2,-999.0000,9,-999.0000,9,-999.0000,9,-999.0000,9,-999.0000,9,-999.0000,9,-999.0000,9,-999.0000,9,-999.0000,9,     -999.0,5,  -999.0,9,     -999.0,     -999.0,9,     -999.0,20130811,       1739
33RO20130803,       A16N,      35,          1,         16,         16,2,20130811,       1612,    47.9997,   -20.0008,       4367,   362.2,  11.0847,  35.4391,2,  35.4386,2,    213.1,2,   212.7,2,    5.80,2,   13.60,2,    0.01,2,    0.85,2,   2.770,2,   1.592,2,   1.489,2,  2157.6,2,  2331.5,2,   645.4,2,      20,   7.7837,2,    25.00, -999.00,9,  -999.0,9,  -999.0, -999.00,9, -999.00,9,     13.718,2,-999.0000,9,-999.0000,9,-999.0000,9,-999.0000,9,-999.0000,9,-999.0000,9,-999.0000,9,-999.0000,9,-999.0000,9,     -999.0,5,  -999.0,9,     -999.0,     -999.0,9,     -999.0,20130811,       1737
33RO20130803,       A16N,      35,          1,         15,         15,2,20130811,       1612,    47.9997,   -20.0008,       4367,   434.6,  10.5235,  35.3879,2,  35.3899,2,    202.8,2,   205.6,2,    6.90,2,   15.10,2,    0.01,2,    0.94,2,   2.708,2,   1.535,2,   1.408,2,  2163.8,2,  2327.9,6,   681.8,2,      20,   7.7640,2,    25.00, -999.00,9,  -999.0,9,  -999.0, -999.00,9, -999.00,9,     14.665,2,-999.0000,9,-999.0000,9,-999.0000,9,-999.0000,9,-999.0000,9,-999.0000,9,-999.0000,9,-999.0000,9,-999.0000,9,     -999.0,5,  -999.0,9,     -999.0,     -999.0,9,     -999.0,20130811,       1734
33RO20130803,       A16N,      35,          1,         14,         14,2,20130811,       1612,    47.9997,   -20.0008,       4367,   502.9,   9.7352,  35.2938,2,  35.2942,2,    194.3,2,   190.8,2,    8.70,2,   17.40,2,    0.00,2,    1.09,2,   2.492,2,   1.390,2,   1.164,2,  2174.5,2,  2323.4,2,   739.0,2,      20,   7.7319,6,    25.00, -999.00,9,  -999.0,9,  -999.0, -999.00,9, -999.00,9,     16.135,2,-999.0000,9,-999.0000,9,-999.0000,9,-999.0000,9,-999.0000,9,-999.0000,9,-999.0000,9,-999.0000,9,-999.0000,9,     -999.0,5,  -999.0,9,     -999.0,     -999.0,9,     -999.0,20130811,       1732
33RO20130803,       A16N,      35,          1,         13,         13,2,20130811,       1612,    47.9997,   -20.0008,       4367,   613.7,   8.6985,  35.2267,2,  35.2194,2,    188.9,2,     189,2,   10.20,2,   18.80,2,    0.00,2,    1.17,2,   2.423,2,   1.308,2,   0.942,2,  2181.2,6,  2323.0,2,   785.4,2,      20,   7.7081,2,    25.00, -999.00,9,  -999.0,9,  -999.0, -999.00,9, -999.00,9,     16.865,2,-999.0000,9,-999.0000,9,-999.0000,9,-999.0000,9,-999.0000,9,-999.0000,9,-999.0000,9,-999.0000,9,-999.0000,9,     -999.0,5,  -999.0,9,     -999.0,     -999.0,9,     -999.0,20130811,       1729
33RO20130803,       A16N,      35,          1,         12,         12,2,20130811,       1612,    47.9997,   -20.0008,       4367,   767.1,   7.4675,  35.2314,2,  35.2486,2,    203.8,2,     202,2,   10.90,2,   18.70,2,    0.00,2,    1.19,2,   2.454,2,   1.316,2,   0.859,2,  2185.8,2,  2327.0,3,   788.2,2,      20,   7.7058,2,    25.00, -999.00,9,  -999.0,9,  -999.0, -999.00,9, -999.00,9,     15.836,2,-999.0000,9,-999.0000,9,-999.0000,9,-999.0000,9,-999.0000,9,-999.0000,9,-999.0000,9,-999.0000,9,-999.0000,9,     -999.0,5,  -999.0,9,     -999.0,     -999.0,9,     -999.0,20130811,       1725
33RO20130803,       A16N,      35,          1,         11,         11,2,20130811,       1612,    47.9997,   -20.0008,       4367,  1024.0,   5.8754,  35.1555,2,  35.1570,2,    232.4,2,   232.9,2,   10.90,2,   18.00,2,    0.00,2,    1.13,2,   2.949,2,   1.554,2,   0.977,2,  2179.7,2,  2322.7,3,   785.2,2,      20,   7.7055,2,    25.00, -999.00,9,  -999.0,9,  -999.0, -999.00,9, -999.00,9,     14.578,2,-999.0000,9,-999.0000,9,-999.0000,9,-999.0000,9,-999.0000,9,-999.0000,9,-999.0000,9,-999.0000,9,-999.0000,9,     -999.0,5,  -999.0,9,     -999.0,     -999.0,9,     -999.0,20130811,       1720
33RO20130803,       A16N,      35,          1,         10,         10,2,20130811,       1612,    47.9997,   -20.0008,       4367,  1174.1,   4.8373,  35.0264,2,  35.0281,2,    248.7,2,   252.6,2,   10.70,2,   17.60,2,    0.00,2,    1.12,2,   3.388,2,   1.779,2,   1.103,2,  2172.7,2,  2310.5,2,   790.6,2,      20,   7.7022,2,    25.00, -999.00,9,  -999.0,9,  -999.0, -999.00,9, -999.00,9,     14.107,2,-999.0000,9,-999.0000,9,-999.0000,9,-999.0000,9,-999.0000,9,-999.0000,9,-999.0000,9,-999.0000,9,-999.0000,9,     -999.0,5,  -999.0,9,     -999.0,     -999.0,9,     -999.0,20130811,       1716
33RO20130803,       A16N,      35,          1,          9,          9,2,20130811,       1612,    47.9997,   -20.0008,       4367,  1348.7,   4.2156,  34.9511,2,  34.9497,2,    265.2,2,     264,2,   10.70,2,   17.40,2,    0.00,2,    1.12,2,   3.573,2,   1.860,2,   1.115,2,  2168.3,2,  2305.6,2,   789.2,2,      20,   7.7052,2,    25.00, -999.00,9,  -999.0,9,  -999.0, -999.00,9, -999.00,9,     13.835,2,-999.0000,9,-999.0000,9,-999.0000,9,-999.0000,9,-999.0000,9,-999.0000,9,-999.0000,9,-999.0000,9,-999.0000,9,     -999.0,5,  -999.0,9,     -999.0,     -999.0,9,     -999.0,20130811,       1712
33RO20130803,       A16N,      35,          1,          8,          8,2,20130811,       1612,    47.9997,   -20.0008,       4367,  1673.4,   3.7374,  34.9187,2,  34.9174,2,    270.6,2,   270.2,2,   11.30,2,   17.20,2,    0.00,2,    1.12,2,   3.342,2,   1.696,2,   0.884,2,  2163.4,2,  2303.4,2,   780.0,2,      20,   7.7093,2,    25.00, -999.00,9,  -999.0,9,  -999.0, -999.00,9, -999.00,9,     13.472,2,-999.0000,9,-999.0000,9,-999.0000,9,-999.0000,9,-999.0000,9,-999.0000,9,-999.0000,9,-999.0000,9,-999.0000,9,     -999.0,5,  -999.0,9,     -999.0,     -999.0,9,     -999.0,20130811,       1706
33RO20130803,       A16N,      35,          1,          7,          7,2,20130811,       1612,    47.9997,   -20.0008,       4367,  2099.3,   3.3541,  34.9184,2,  34.9169,2,    273.4,2,   274.4,2,   13.10,2,   17.20,2,    0.00,2,    1.12,2,   2.763,2,   1.367,2,   0.597,2,  2163.0,2,  2305.7,2,   765.9,2,      20,   7.7154,2,    25.00, -999.00,9,  -999.0,9,  -999.0, -999.00,9, -999.00,9,     13.169,2,-999.0000,9,-999.0000,9,-999.0000,9,-999.0000,9,-999.0000,9,-999.0000,9,-999.0000,9,-999.0000,9,-999.0000,9,     -999.0,5,  -999.0,9,     -999.0,     -999.0,9,     -999.0,20130811,       1657
33RO20130803,       A16N,      35,          1,          6,          6,2,20130811,       1612,    47.9997,   -20.0008,       4367,  2497.3,   3.0752,  34.9349,2,  34.9338,2,    265.9,2,   267.1,2,   17.90,2,   17.50,2,    0.00,2,    1.15,2,   2.037,2,   0.998,2,   0.430,2,  2168.5,2,  2327.5,4,   761.6,2,      20,   7.7209,2,    25.00, -999.00,9,  -999.0,9,  -999.0, -999.00,9, -999.00,9,     13.211,2,-999.0000,9,-999.0000,9,-999.0000,9,-999.0000,9,-999.0000,9,-999.0000,9,-999.0000,9,-999.0000,9,-999.0000,9,     -999.0,5,  -999.0,9,     -999.0,     -999.0,9,     -999.0,20130811,       1649
33RO20130803,       A16N,      35,          1,          5,          5,2,20130811,       1612,    47.9997,   -20.0008,       4367,  2897.8,   2.8450,  34.9415,2,  34.9405,2,    254.8,2,   254.9,2,   27.30,2,   19.10,2,    0.00,2,    1.27,2,   1.096,2,   0.538,2,   0.262,2,  2180.9,2,  2329.0,2,   759.7,2,      20,   7.7232,2,    25.00, -999.00,9,  -999.0,9,  -999.0, -999.00,9, -999.00,9,     13.336,2,-999.0000,9,-999.0000,9,-999.0000,9,-999.0000,9,-999.0000,9,-999.0000,9,-999.0000,9,-999.0000,9,-999.0000,9,     -999.0,5,  -999.0,9,     -999.0,     -999.0,9,     -999.0,20130811,       1642
33RO20130803,       A16N,      35,          1,          4,          4,2,20130811,       1612,    47.9997,   -20.0008,       4367,  3297.6,   2.6329,  34.9263,2,  34.9240,2,    246.0,2,   245.6,2,   36.60,6,   20.70,6,    0.00,6,    1.38,6,   0.460,2,   0.232,2,   0.173,2,  2194.4,2,  2342.4,2,   762.4,2,      20,   7.7225,6,    25.00, -999.00,9,  -999.0,9,  -999.0, -999.00,9, -999.00,9,     13.388,2,-999.0000,9,-999.0000,9,-999.0000,9,-999.0000,9,-999.0000,9,-999.0000,9,-999.0000,9,-999.0000,9,-999.0000,9,     -999.0,5,  -999.0,9,     -999.0,     -999.0,9,     -999.0,20130811,       1634
33RO20130803,       A16N,      35,          1,          3,          3,2,20130811,       1612,    47.9997,   -20.0008,       4367,  3696.4,   2.5292,  34.9131,2,  34.9112,2,    240.8,2,   241.2,2,   42.10,6,   21.70,6,    0.00,6,    1.45,6,   0.144,6,   0.074,6,   0.074,6,  2201.0,2,  2351.4,6,   761.7,2,      20,   7.7248,2,    25.00, -999.00,9,  -999.0,9,  -999.0, -999.00,9, -999.00,9,     13.439,6,-999.0000,9,-999.0000,9,-999.0000,9,-999.0000,9,-999.0000,9,-999.0000,9,-999.0000,9,-999.0000,9,-999.0000,9,     -999.0,5,  -999.0,9,     -999.0,     -999.0,9,     -999.0,20130811,       1626
33RO20130803,       A16N,      35,          1,          2,          2,2,20130811,       1612,    47.9997,   -20.0008,       4367,  4098.1,   2.5265,  34.9083,2,  34.9069,2,    239.5,2,   239.5,2,   43.80,6,   22.00,6,    0.00,6,    1.47,6,   0.080,2,   0.042,2,   0.061,2,  2203.6,2,  2354.1,2,   762.1,2,      20,   7.7247,2,    25.00, -999.00,9,  -999.0,9,  -999.0, -999.00,9, -999.00,9,     13.544,2,-999.0000,9,-999.0000,9,-999.0000,9,-999.0000,9,-999.0000,9,-999.0000,9,-999.0000,9,-999.0000,9,-999.0000,9,     -999.0,5,  -999.0,9,     -999.0,     -999.0,9,     -999.0,20130811,       1619
33RO20130803,       A16N,      35,          1,          1,          1,2,20130811,       1612,    47.9997,   -20.0008,       4367,  4431.7,   2.5530,  34.9065,2,  34.9060,2,    239.2,2,   238.2,2,   44.40,6,   22.10,6,    0.00,6,    1.48,6,   0.065,2,   0.035,2,   0.035,2,  2206.0,6,  2355.5,2,   762.6,2,      20,   7.7273,2,    25.00, -999.00,9,  -999.0,9,  -999.0, -999.00,9, -999.00,9,     13.517,2,-999.0000,9,-999.0000,9,-999.0000,9,-999.0000,9,-999.0000,9,-999.0000,9,-999.0000,9,-999.0000,9,-999.0000,9,     -999.0,5,  -999.0,9,     -999.0,     -999.0,9,     -999.0,20130811,       1612