BOTTLE,20220815CCHSIOAMB
EXPOCODE,SECT_ID,STNNBR,CASTNO,SAMPNO,BTLNBR,BTLNBR_FLAG_W,DATE,TIME,LATITUDE,LONGITUDE,DEPTH,CTDPRS,CTDTMP,CTDSAL,CTDSAL_FLAG_W,SALNTY,SALNTY_FLAG_W,CTDOXY,CTDOXY_FLAG_W,OXYGEN,OXYGEN_FLAG_W,SILCAT,SILCAT_FLAG_W,NITRAT,NITRAT_FLAG_W,NITRIT,NITRIT_FLAG_W,PHSPHT,PHSPHT_FLAG_W,CFC-11,CFC-11_FLAG_W,CFC-12,CFC-12_FLAG_W,SF6,SF6_FLAG_W,TCARBN,TCARBN_FLAG_W,ALKALI,ALKALI_FLAG_W,PCO2,PCO2_FLAG_W,PCO2TMP,PH_SWS,PH_SWS_FLAG_W,PH_TMP,DELC13,DELC13_FLAG_W,DELC14,DELC14_FLAG_W,C14ERR,DOC,DOC_FLAG_W,TDN,TDN_FLAG_W,N2O,N2O_FLAG_W,CDOM325,CDOM325_FLAG_W,CDOM340,CDOM340_FLAG_W,CDOM380,CDOM380_FLAG_W,CDOM412,CDOM412_FLAG_W,CDOM443,CDOM443_FLAG_W,CDOM490,CDOM490_FLAG_W,CDOM555,CDOM555_FLAG_W,CDOMSL,CDOMSL_FLAG_W,CDOMSN,CDOMSN_FLAG_W,CCL4,CCL4_FLAG_W,14C-DOC,14C-DOC_FLAG_W,14C-DOCERR,13C-DOC,13C-DOC_FLAG_W,13C-DOCERR,BTL_DATE,BTL_TIME
,,,,,,,,,,,METERS,DBAR,ITS-90,PSS-78,,PSS-78,,UMOL/KG,,UMOL/KG,,UMOL/KG,,UMOL/KG,,UMOL/KG,,UMOL/KG,,PMOL/KG,,PMOL/KG,,FMOL/KG,,UMOL/KG,,UMOL/KG,,UATM,,DEG C,,,DEG C,/MILLE,,/MILLE,,/MILLE,UMOL/KG,,UMOL/KG,,NMOL/KG,,1/M,,1/M,,1/M,,1/M,,1/M,,1/M,,1/M,,1/NM,,1/NM,,PMOL/KG,,/MILLE,,/MILLE,/MILLE,,/MILLE,,
33RO20130803,       A16N,     132,          1,         24,         24,2,20130928,       0220,    -0.6661,   -25.0006,       3219,     2.6,  25.7146,  36.0399,2,  36.0418,2,    201.5,2,   203.1,2,    1.10,2,    0.10,2,    0.01,2,    0.08,2,   1.664,2,   1.062,2,   1.169,2,  2048.6,6,  2364.7,2,  -999.0,9, -999.00,   8.0434,2,    25.00, -999.00,9,  -999.0,9,  -999.0,   69.52,2,    5.33,2,      6.878,2,-999.0000,9,-999.0000,9,-999.0000,9,-999.0000,9,-999.0000,9,-999.0000,9,-999.0000,9,-999.0000,9,-999.0000,9,     -999.0,5,  -999.0,9,     -999.0,     -999.0,9,     -999.0,20130928,       0340
33RO20130803,       A16N,     132,          1,         23,         23,2,20130928,       0220,    -0.6661,   -25.0006,       3219,    27.9,  25.6978,  36.0504,2,  36.0936,2,    201.5,2,   201.1,2,    1.10,2,    0.30,2,    0.03,2,    0.10,2,-999.000,9,-999.000,9,-999.000,9,  -999.0,9,  -999.0,9,  -999.0,9, -999.00,-999.0000,9,  -999.00, -999.00,9,  -999.0,9,  -999.0,   68.24,2,    5.19,2,     -999.0,9,-999.0000,9,-999.0000,9,-999.0000,9,-999.0000,9,-999.0000,9,-999.0000,9,-999.0000,9,-999.0000,9,-999.0000,9,     -999.0,9,  -999.0,9,     -999.0,     -999.0,9,     -999.0,20130928,       0338
33RO20130803,       A16N,     132,          1,         22,         22,2,20130928,       0220,    -0.6661,   -25.0006,       3219,    58.5,  25.1172,  36.2211,2,  36.2638,2,    195.6,2,     194,2,    1.30,2,    1.00,2,    0.14,2,    0.17,2,   1.722,2,   1.080,2,   1.182,2,  2070.5,2,  2377.4,2,  -999.0,9, -999.00,   8.0205,2,    25.00, -999.00,9,  -999.0,9,  -999.0,    62.8,2,    5.32,2,      7.609,2,-999.0000,9,-999.0000,9,-999.0000,9,-999.0000,9,-999.0000,9,-999.0000,9,-999.0000,9,-999.0000,9,-999.0000,9,     -999.0,5,  -999.0,9,     -999.0,     -999.0,9,     -999.0,20130928,       0335
33RO20130803,       A16N,     132,          1,         21,         21,2,20130928,       0220,    -0.6661,   -25.0006,       3219,    88.2,  19.9231,  36.3544,2,  36.4064,4,    177.6,2,   178.7,2,    2.40,2,    5.30,2,    0.05,2,    0.50,2,-999.000,9,-999.000,9,-999.000,9,  2127.8,2,  2391.2,6,  -999.0,9, -999.00,   7.9382,2,    25.00, -999.00,9,  -999.0,9,  -999.0,   56.32,2,    8.46,2,     -999.0,9,-999.0000,9,-999.0000,9,-999.0000,9,-999.0000,9,-999.0000,9,-999.0000,9,-999.0000,9,-999.0000,9,-999.0000,9,     -999.0,9,  -999.0,9,     -999.0,     -999.0,9,     -999.0,20130928,       0334
33RO20130803,       A16N,     132,          1,         20,         20,2,20130928,       0220,    -0.6661,   -25.0006,       3219,   111.9,  17.0089,  35.8587,2,  35.8600,2,    176.0,2,   175.8,2,    3.80,2,    9.20,2,    0.02,2,    0.73,2,   2.320,2,   1.360,2,   1.113,2,  2134.2,2,  2355.5,2,  -999.0,9, -999.00,   7.8725,2,    25.00, -999.00,9,  -999.0,9,  -999.0,    52.6,2,   12.33,2,     12.872,2,-999.0000,9,-999.0000,9,-999.0000,9,-999.0000,9,-999.0000,9,-999.0000,9,-999.0000,9,-999.0000,9,-999.0000,9,     -999.0,5,  -999.0,9,     -999.0,     -999.0,9,     -999.0,20130928,       0332
33RO20130803,       A16N,     132,          1,         19,         19,2,20130928,       0220,    -0.6661,   -25.0006,       3219,   137.7,  15.6796,  35.6818,2,  35.6809,2,    168.7,2,   167.8,2,    4.90,2,   11.90,2,    0.01,2,    0.89,2,-999.000,9,-999.000,9,-999.000,9,  -999.0,9,  -999.0,9,  -999.0,9, -999.00,-999.0000,9,  -999.00, -999.00,9,  -999.0,9,  -999.0,   50.61,2,   14.86,2,     -999.0,9,-999.0000,9,-999.0000,9,-999.0000,9,-999.0000,9,-999.0000,9,-999.0000,9,-999.0000,9,-999.0000,9,-999.0000,9,     -999.0,9,  -999.0,9,     -999.0,     -999.0,9,     -999.0,20130928,       0330
33RO20130803,       A16N,     132,          1,         18,         18,2,20130928,       0220,    -0.6661,   -25.0006,       3219,   157.9,  14.5234,  35.5080,2,  35.5136,2,    162.1,2,   159.5,2,    5.90,2,   14.40,2,    0.00,2,    1.03,2,   2.346,2,   1.362,2,   0.953,2,  2154.3,2,  2337.3,2,  -999.0,9, -999.00,   7.7958,2,    25.00, -999.00,9,  -999.0,9,  -999.0,   49.11,2,   17.45,2,     17.491,2,-999.0000,9,-999.0000,9,-999.0000,9,-999.0000,9,-999.0000,9,-999.0000,9,-999.0000,9,-999.0000,9,-999.0000,9,     -999.0,5,  -999.0,9,     -999.0,     -999.0,9,     -999.0,20130928,       0328
33RO20130803,       A16N,     132,          1,         17,         17,2,20130928,       0220,    -0.6661,   -25.0006,       3219,   222.3,  12.8470,  35.2581,2,  35.3210,4,    149.7,2,   152.5,2,    7.40,2,   17.40,2,    0.01,2,    1.21,2,   2.336,2,   1.307,2,   0.830,2,  2162.7,3,  2326.0,2,  -999.0,9, -999.00,   7.7549,2,    25.00, -999.00,9,  -999.0,9,  -999.0,   48.02,2,   20.04,2,     20.265,2,-999.0000,9,-999.0000,9,-999.0000,9,-999.0000,9,-999.0000,9,-999.0000,9,-999.0000,9,-999.0000,9,-999.0000,9,     -999.0,5,  -999.0,9,     -999.0,     -999.0,9,     -999.0,20130928,       0325
33RO20130803,       A16N,     132,          1,         16,         16,2,20130928,       0220,    -0.6661,   -25.0006,       3219,   271.8,  12.1725,  35.1739,2,  35.1714,2,    108.2,2,   111.1,2,    9.80,2,   24.20,2,    0.00,2,    1.58,2,   2.037,2,   1.113,2,   0.609,2,  2196.6,2,  2316.4,2,  -999.0,9, -999.00,   7.6471,2,    25.00, -999.00,9,  -999.0,9,  -999.0,   46.85,2,   26.79,2,     29.069,2,-999.0000,9,-999.0000,9,-999.0000,9,-999.0000,9,-999.0000,9,-999.0000,9,-999.0000,9,-999.0000,9,-999.0000,9,     -999.0,5,  -999.0,9,     -999.0,     -999.0,9,     -999.0,20130928,       0324
33RO20130803,       A16N,     132,          1,         15,         15,2,20130928,       0220,    -0.6661,   -25.0006,       3219,   357.4,  10.0182,  34.9253,2,  34.9269,2,     98.6,2,    98.9,2,   13.50,2,   29.30,2,    0.00,2,    1.89,2,   1.636,2,   0.871,2,   0.386,2,  2218.0,6,  2304.5,2,  -999.0,9, -999.00,   7.5804,3,    25.00, -999.00,9,  -999.0,9,  -999.0,   45.27,2,   31.77,2,     33.416,2,-999.0000,9,-999.0000,9,-999.0000,9,-999.0000,9,-999.0000,9,-999.0000,9,-999.0000,9,-999.0000,9,-999.0000,9,     -999.0,5,  -999.0,9,     -999.0,     -999.0,9,     -999.0,20130928,       0321
33RO20130803,       A16N,     132,          1,         14,         14,2,20130928,       0220,    -0.6661,   -25.0006,       3219,   437.1,   8.4264,  34.7472,2,  34.7469,2,    112.5,2,   112.4,2,   16.60,2,   31.10,2,    0.00,2,    2.03,2,   1.426,2,   0.731,2,   0.296,2,  2213.1,2,  2299.9,2,  -999.0,9, -999.00,   7.5556,2,    25.00, -999.00,9,  -999.0,9,  -999.0,   44.36,2,   33.85,2,     30.699,2,-999.0000,9,-999.0000,9,-999.0000,9,-999.0000,9,-999.0000,9,-999.0000,9,-999.0000,9,-999.0000,9,-999.0000,9,     -999.0,5,  -999.0,9,     -999.0,     -999.0,9,     -999.0,20130928,       0319
33RO20130803,       A16N,     132,          1,         13,         13,2,20130928,       0220,    -0.6661,   -25.0006,       3219,   507.3,   7.7927,  34.6726,2,  34.6751,2,    128.9,2,   128.9,2,   17.70,2,   30.80,2,    0.00,2,    2.04,2,   1.506,2,   0.761,2,   0.284,2,  2206.8,3,  2296.7,6,  -999.0,9, -999.00,   7.5672,2,    25.00, -999.00,9,  -999.0,9,  -999.0,   43.52,2,   33.29,2,     27.527,2,-999.0000,9,-999.0000,9,-999.0000,9,-999.0000,9,-999.0000,9,-999.0000,9,-999.0000,9,-999.0000,9,-999.0000,9,     -999.0,5,  -999.0,9,     -999.0,     -999.0,9,     -999.0,20130928,       0316
33RO20130803,       A16N,     132,          1,         12,         12,4,20130928,       0220,    -0.6661,   -25.0006,       3219,   588.0,   6.8814,  34.5999,2,  35.0734,4,    130.2,2,   144.8,4,   14.60,4,   24.00,4,    0.03,4,    1.62,4,   1.450,2,   0.799,2,   0.496,2,  2181.3,4,  2320.0,4,  -999.0,9, -999.00,   7.6971,3,    25.00, -999.00,9,  -999.0,9,  -999.0,   42.75,2,   26.58,2,     22.249,2,-999.0000,9,-999.0000,9,-999.0000,9,-999.0000,9,-999.0000,9,-999.0000,9,-999.0000,9,-999.0000,9,-999.0000,9,     -999.0,5,  -999.0,9,     -999.0,     -999.0,9,     -999.0,20130928,       0314
33RO20130803,       A16N,     132,          1,         11,         11,2,20130928,       0220,    -0.6661,   -25.0006,       3219,   696.9,   5.5045,  34.5001,2,  34.5011,2,    148.5,2,   147.6,2,   26.40,2,   33.50,2,    0.00,2,    2.28,2,-999.000,5,-999.000,5,-999.000,5,  2214.3,2,  2296.8,2,  -999.0,9, -999.00,   8.0761,4,    25.00, -999.00,9,  -999.0,9,  -999.0,   41.66,2,   36.13,2,     -999.0,5,-999.0000,9,-999.0000,9,-999.0000,9,-999.0000,9,-999.0000,9,-999.0000,9,-999.0000,9,-999.0000,9,-999.0000,9,     -999.0,5,  -999.0,9,     -999.0,     -999.0,9,     -999.0,20130928,       0311
33RO20130803,       A16N,     132,          1,         10,         10,2,20130928,       0220,    -0.6661,   -25.0006,       3219,   797.0,   4.9434,  34.5006,2,  34.5015,2,    150.5,2,     150,2,   29.80,6,   34.10,6,    0.01,6,    2.33,6,-999.000,9,-999.000,9,-999.000,9,  2222.2,2,  2303.2,2,  -999.0,9, -999.00,   7.5459,4,    25.00, -999.00,9,  -999.0,9,  -999.0,   41.24,2,   36.69,2,     -999.0,9,-999.0000,9,-999.0000,9,-999.0000,9,-999.0000,9,-999.0000,9,-999.0000,9,-999.0000,9,-999.0000,9,-999.0000,9,     -999.0,9,  -999.0,9,     -999.0,     -999.0,9,     -999.0,20130928,       0309
33RO20130803,       A16N,     132,          1,          9,          9,2,20130928,       0220,    -0.6661,   -25.0006,       3219,   972.2,   4.5002,  34.5466,2,  34.5499,2,    156.0,2,   156.9,2,   32.40,6,   33.40,6,    0.01,6,    2.30,6,   0.206,2,   0.105,2,   0.000,2,  2223.1,2,  2305.5,2,  -999.0,9, -999.00,   7.5596,2,    25.00, -999.00,9,  -999.0,9,  -999.0,   40.45,2,   36.11,2,     22.977,2,-999.0000,9,-999.0000,9,-999.0000,9,-999.0000,9,-999.0000,9,-999.0000,9,-999.0000,9,-999.0000,9,-999.0000,9,     -999.0,5,  -999.0,9,     -999.0,     -999.0,9,     -999.0,20130928,       0305
33RO20130803,       A16N,     132,          1,          8,          8,2,20130928,       0220,    -0.6661,   -25.0006,       3219,  1121.7,   4.5375,  34.7658,2,  34.7670,2,    172.8,2,   172.8,2,   27.30,6,   29.40,6,    0.01,6,    2.01,6,-999.000,9,-999.000,9,-999.000,9,  -999.0,9,  -999.0,9,  -999.0,9, -999.00,-999.0000,9,  -999.00, -999.00,9,  -999.0,9,  -999.0,   39.99,2,   31.91,2,     -999.0,9,-999.0000,9,-999.0000,9,-999.0000,9,-999.0000,9,-999.0000,9,-999.0000,9,-999.0000,9,-999.0000,9,-999.0000,9,     -999.0,9,  -999.0,9,     -999.0,     -999.0,9,     -999.0,20130928,       0301
33RO20130803,       A16N,     132,          1,          7,          7,2,20130928,       0220,    -0.6661,   -25.0006,       3219,  1271.7,   4.5689,  34.8603,2,  34.8610,2,    189.7,2,   189.6,2,   23.70,6,   26.50,6,    0.01,6,    1.80,6,   0.164,2,   0.086,2,   0.000,2,  2201.6,2,  2315.5,2,  -999.0,9, -999.00,   7.6418,2,    25.00, -999.00,9,  -999.0,9,  -999.0,   40.38,2,   29.08,2,     18.617,2,-999.0000,9,-999.0000,9,-999.0000,9,-999.0000,9,-999.0000,9,-999.0000,9,-999.0000,9,-999.0000,9,-999.0000,9,     -999.0,5,  -999.0,9,     -999.0,     -999.0,9,     -999.0,20130928,       0258
33RO20130803,       A16N,     132,          1,          6,          6,2,20130928,       0220,    -0.6661,   -25.0006,       3219,  1421.6,   4.4706,  34.9425,2,  34.9431,2,    214.5,2,   214.5,2,   19.60,6,   23.00,6,    0.01,6,    1.55,6,-999.000,9,-999.000,9,-999.000,9,  -999.0,9,  -999.0,9,  -999.0,9, -999.00,-999.0000,9,  -999.00, -999.00,9,  -999.0,9,  -999.0,   40.42,2,   25.47,2,     -999.0,9,-999.0000,9,-999.0000,9,-999.0000,9,-999.0000,9,-999.0000,9,-999.0000,9,-999.0000,9,-999.0000,9,-999.0000,9,     -999.0,9,  -999.0,9,     -999.0,     -999.0,9,     -999.0,20130928,       0254
33RO20130803,       A16N,     132,          1,          5,          5,2,20130928,       0220,    -0.6661,   -25.0006,       3219,  1722.2,   3.9986,  34.9734,2,  34.9739,2,    239.3,2,   239.7,2,   18.20,2,   20.30,2,    0.01,2,    1.36,2,   0.392,2,   0.196,2,   0.077,2,  2174.6,2,  2316.7,6,  -999.0,9, -999.00,   7.7153,2,    25.00, -999.00,9,  -999.0,9,  -999.0,   40.64,2,   22.97,2,     14.282,2,-999.0000,9,-999.0000,9,-999.0000,9,-999.0000,9,-999.0000,9,-999.0000,9,-999.0000,9,-999.0000,9,-999.0000,9,     -999.0,5,  -999.0,9,     -999.0,     -999.0,9,     -999.0,20130928,       0249
33RO20130803,       A16N,     132,          1,          4,          4,2,20130928,       0220,    -0.6661,   -25.0006,       3219,  2197.0,   3.4742,  34.9616,2,  34.9626,2,    252.0,2,   250.8,2,   21.00,2,   19.50,2,    0.01,2,    1.31,2,-999.000,9,-999.000,9,-999.000,9,  -999.0,9,  -999.0,9,  -999.0,9, -999.00,-999.0000,9,  -999.00, -999.00,9,  -999.0,9,  -999.0,   40.35,2,   22.06,2,     -999.0,9,-999.0000,9,-999.0000,9,-999.0000,9,-999.0000,9,-999.0000,9,-999.0000,9,-999.0000,9,-999.0000,9,-999.0000,9,     -999.0,9,  -999.0,9,     -999.0,     -999.0,9,     -999.0,20130928,       0240
33RO20130803,       A16N,     132,          1,          3,          3,2,20130928,       0220,    -0.6661,   -25.0006,       3219,  2597.3,   2.9265,  34.9289,2,  34.9303,2,    247.1,2,   246.6,2,   31.50,2,   20.70,2,    0.01,2,    1.40,2,   0.107,2,   0.054,2,   0.000,2,  2183.0,2,  2331.6,2,  -999.0,9, -999.00,   7.7224,6,    25.00, -999.00,9,  -999.0,9,  -999.0,    40.8,2,    23.2,2,     13.591,2,-999.0000,9,-999.0000,9,-999.0000,9,-999.0000,9,-999.0000,9,-999.0000,9,-999.0000,9,-999.0000,9,-999.0000,9,     -999.0,5,  -999.0,9,     -999.0,     -999.0,9,     -999.0,20130928,       0232
33RO20130803,       A16N,     132,          1,          2,          2,2,20130928,       0220,    -0.6661,   -25.0006,       3219,  2997.2,   2.6509,  34.9126,2,  34.9132,2,    248.1,2,   248.6,2,   35.40,2,   20.80,2,    0.01,2,    1.42,2,-999.000,9,-999.000,9,-999.000,9,  -999.0,9,  -999.0,9,  -999.0,9, -999.00,-999.0000,9,  -999.00, -999.00,9,  -999.0,9,  -999.0,   40.05,2,   23.26,2,     -999.0,9,-999.0000,9,-999.0000,9,-999.0000,9,-999.0000,9,-999.0000,9,-999.0000,9,-999.0000,9,-999.0000,9,-999.0000,9,     -999.0,9,  -999.0,9,     -999.0,     -999.0,9,     -999.0,20130928,       0225
33RO20130803,       A16N,     132,          1,          1,          1,2,20130928,       0220,    -0.6661,   -25.0006,       3219,  3238.4,   2.6596,  34.9116,2,  34.9162,4,    248.7,2,   248.2,2,   35.50,2,   20.80,2,    0.01,2,    1.42,2,   0.118,2,   0.062,2,   0.000,2,  2188.1,2,  2333.0,2,  -999.0,9, -999.00,   7.7201,2,    25.00, -999.00,9,  -999.0,9,  -999.0,   40.45,2,   23.28,2,     13.566,2,-999.0000,9,-999.0000,9,-999.0000,9,-999.0000,9,-999.0000,9,-999.0000,9,-999.0000,9,-999.0000,9,-999.0000,9,     -999.0,5,  -999.0,9,     -999.0,     -999.0,9,     -999.0,20130928,       0220