BOTTLE,20220815CCHSIOAMB
EXPOCODE,SECT_ID,STNNBR,CASTNO,SAMPNO,BTLNBR,BTLNBR_FLAG_W,DATE,TIME,LATITUDE,LONGITUDE,DEPTH,CTDPRS,CTDTMP,CTDSAL,CTDSAL_FLAG_W,SALNTY,SALNTY_FLAG_W,CTDOXY,CTDOXY_FLAG_W,OXYGEN,OXYGEN_FLAG_W,SILCAT,SILCAT_FLAG_W,NITRAT,NITRAT_FLAG_W,NITRIT,NITRIT_FLAG_W,PHSPHT,PHSPHT_FLAG_W,CFC-11,CFC-11_FLAG_W,CFC-12,CFC-12_FLAG_W,SF6,SF6_FLAG_W,TCARBN,TCARBN_FLAG_W,ALKALI,ALKALI_FLAG_W,PCO2,PCO2_FLAG_W,PCO2TMP,PH_SWS,PH_SWS_FLAG_W,PH_TMP,DELC13,DELC13_FLAG_W,DELC14,DELC14_FLAG_W,C14ERR,DOC,DOC_FLAG_W,TDN,TDN_FLAG_W,N2O,N2O_FLAG_W,CDOM325,CDOM325_FLAG_W,CDOM340,CDOM340_FLAG_W,CDOM380,CDOM380_FLAG_W,CDOM412,CDOM412_FLAG_W,CDOM443,CDOM443_FLAG_W,CDOM490,CDOM490_FLAG_W,CDOM555,CDOM555_FLAG_W,CDOMSL,CDOMSL_FLAG_W,CDOMSN,CDOMSN_FLAG_W,CCL4,CCL4_FLAG_W,14C-DOC,14C-DOC_FLAG_W,14C-DOCERR,13C-DOC,13C-DOC_FLAG_W,13C-DOCERR,BTL_DATE,BTL_TIME
,,,,,,,,,,,METERS,DBAR,ITS-90,PSS-78,,PSS-78,,UMOL/KG,,UMOL/KG,,UMOL/KG,,UMOL/KG,,UMOL/KG,,UMOL/KG,,PMOL/KG,,PMOL/KG,,FMOL/KG,,UMOL/KG,,UMOL/KG,,UATM,,DEG C,,,DEG C,/MILLE,,/MILLE,,/MILLE,UMOL/KG,,UMOL/KG,,NMOL/KG,,1/M,,1/M,,1/M,,1/M,,1/M,,1/M,,1/M,,1/NM,,1/NM,,PMOL/KG,,/MILLE,,/MILLE,/MILLE,,/MILLE,,
33RO20130803,       A16N,     134,          1,         24,         24,2,20130928,       1317,    -1.3326,   -25.0002,       4735,     2.8,  25.8649,  36.0954,2,  36.0954,2,    204.8,2,   203.8,2,    1.10,2,    0.00,2,    0.00,2,    0.08,2,   1.667,2,   1.056,2,   1.215,2,  2051.8,6,  2347.9,4,   349.5,2,      20,   8.0408,2,    25.00, -999.00,9,  -999.0,9,  -999.0, -999.00,9, -999.00,9,      6.796,2,-999.0000,9,-999.0000,9,-999.0000,9,-999.0000,9,-999.0000,9,-999.0000,9,-999.0000,9,-999.0000,9,-999.0000,9,     -999.0,5,  -999.0,9,     -999.0,     -999.0,9,     -999.0,20130928,       1509
33RO20130803,       A16N,     134,          1,         23,         23,2,20130928,       1317,    -1.3326,   -25.0002,       4735,    22.2,  25.6245,  36.1138,2,  36.1179,2,    204.2,2,   203.9,2,    1.20,2,    0.10,2,    0.01,2,    0.09,2,   1.679,2,   1.055,2,   1.135,2,  2053.8,2,  2367.9,2,   352.0,2,      20,   8.0401,2,    25.00, -999.00,9,  -999.0,9,  -999.0, -999.00,9, -999.00,9,      6.875,2,-999.0000,9,-999.0000,9,-999.0000,9,-999.0000,9,-999.0000,9,-999.0000,9,-999.0000,9,-999.0000,9,-999.0000,9,     -999.0,5,  -999.0,9,     -999.0,     -999.0,9,     -999.0,20130928,       1507
33RO20130803,       A16N,     134,          1,         22,         22,2,20130928,       1317,    -1.3326,   -25.0002,       4735,    48.6,  25.5225,  36.2151,2,  36.2364,2,    200.5,2,   199.4,2,    1.20,2,    0.30,2,    0.09,2,    0.12,2,-999.000,9,-999.000,9,-999.000,9,  -999.0,9,  -999.0,9,  -999.0,9, -999.00,-999.0000,9,  -999.00, -999.00,9,  -999.0,9,  -999.0, -999.00,9, -999.00,9,     -999.0,9,-999.0000,9,-999.0000,9,-999.0000,9,-999.0000,9,-999.0000,9,-999.0000,9,-999.0000,9,-999.0000,9,-999.0000,9,     -999.0,9,  -999.0,9,     -999.0,     -999.0,9,     -999.0,20130928,       1505
33RO20130803,       A16N,     134,          1,         21,         21,2,20130928,       1317,    -1.3326,   -25.0002,       4735,    73.0,  24.5901,  36.4308,2,  36.4136,2,    188.2,2,   182.7,2,    1.60,2,    2.10,2,    0.34,2,    0.28,2,   1.763,2,   1.086,2,   1.157,2,  2093.4,2,  2386.8,2,   393.5,2,      20,   7.9982,2,    25.00, -999.00,9,  -999.0,9,  -999.0, -999.00,9, -999.00,9,      8.711,2,-999.0000,9,-999.0000,9,-999.0000,9,-999.0000,9,-999.0000,9,-999.0000,9,-999.0000,9,-999.0000,9,-999.0000,9,     -999.0,5,  -999.0,9,     -999.0,     -999.0,9,     -999.0,20130928,       1503
33RO20130803,       A16N,     134,          1,         20,         20,2,20130928,       1317,    -1.3326,   -25.0002,       4735,    98.5,  20.1246,  36.0544,2,  36.0242,2,    142.7,2,   139.9,2,    3.60,2,   10.00,2,    0.14,2,    0.81,2,   2.015,2,   1.205,2,   1.007,2,  2150.6,2,  2363.6,2,   579.0,2,      20,   7.8528,2,    25.00, -999.00,9,  -999.0,9,  -999.0, -999.00,9, -999.00,9,     16.820,2,-999.0000,9,-999.0000,9,-999.0000,9,-999.0000,9,-999.0000,9,-999.0000,9,-999.0000,9,-999.0000,9,-999.0000,9,     -999.0,5,  -999.0,9,     -999.0,     -999.0,9,     -999.0,20130928,       1501
33RO20130803,       A16N,     134,          1,         19,         19,2,20130928,       1317,    -1.3326,   -25.0002,       4735,   122.4,  15.6456,  35.6295,2,  35.6219,2,    117.3,2,   119.6,2,    5.90,2,   17.40,2,    0.03,2,    1.20,2,   2.226,2,   1.290,2,   0.865,2,  2177.2,2,  2338.4,2,  -999.0,9, -999.00,   7.6498,3,    25.00, -999.00,9,  -999.0,9,  -999.0, -999.00,9, -999.00,9,     22.575,2,-999.0000,9,-999.0000,9,-999.0000,9,-999.0000,9,-999.0000,9,-999.0000,9,-999.0000,9,-999.0000,9,-999.0000,9,     -999.0,5,  -999.0,9,     -999.0,     -999.0,9,     -999.0,20130928,       1459
33RO20130803,       A16N,     134,          1,         18,         18,2,20130928,       1317,    -1.3326,   -25.0002,       4735,   172.9,  13.6594,  35.3623,2,  35.3605,2,     99.2,2,    99.7,2,    8.10,2,   22.50,2,    0.01,2,    1.48,2,-999.000,9,-999.000,9,-999.000,9,  -999.0,9,  -999.0,9,  -999.0,9, -999.00,-999.0000,9,  -999.00, -999.00,9,  -999.0,9,  -999.0, -999.00,9, -999.00,9,     -999.0,9,-999.0000,9,-999.0000,9,-999.0000,9,-999.0000,9,-999.0000,9,-999.0000,9,-999.0000,9,-999.0000,9,-999.0000,9,     -999.0,9,  -999.0,9,     -999.0,     -999.0,9,     -999.0,20130928,       1457
33RO20130803,       A16N,     134,          1,         17,         17,2,20130928,       1317,    -1.3326,   -25.0002,       4735,   248.2,  12.4418,  35.2059,2,  35.2046,2,    101.4,2,     102,2,    9.50,2,   24.20,2,    0.01,2,    1.59,2,   2.040,2,   1.121,2,   0.598,2,  2198.8,2,  2316.6,2,   941.1,2,      20,   7.6369,6,    25.00, -999.00,9,  -999.0,9,  -999.0, -999.00,9, -999.00,9,     30.333,2,-999.0000,9,-999.0000,9,-999.0000,9,-999.0000,9,-999.0000,9,-999.0000,9,-999.0000,9,-999.0000,9,-999.0000,9,     -999.0,5,  -999.0,9,     -999.0,     -999.0,9,     -999.0,20130928,       1455
33RO20130803,       A16N,     134,          1,         16,         16,2,20130928,       1317,    -1.3326,   -25.0002,       4735,   323.2,  10.6762,  34.9935,2,  34.9940,2,     88.8,2,    89.4,2,   12.30,2,   28.70,2,    0.01,2,    1.85,2,   1.712,2,   0.917,2,   0.401,2,  2213.8,2,  2307.5,2,  -999.0,9, -999.00,   7.5670,2,    25.00, -999.00,9,  -999.0,9,  -999.0, -999.00,9, -999.00,9,     34.652,2,-999.0000,9,-999.0000,9,-999.0000,9,-999.0000,9,-999.0000,9,-999.0000,9,-999.0000,9,-999.0000,9,-999.0000,9,     -999.0,5,  -999.0,9,     -999.0,     -999.0,9,     -999.0,20130928,       1452
33RO20130803,       A16N,     134,          1,         15,         15,2,20130928,       1317,    -1.3326,   -25.0002,       4735,   398.3,   8.6068,  34.7627,2,  34.7560,2,    110.7,2,   113.2,2,   16.10,2,   30.80,2,    0.00,2,    2.01,2,   1.474,2,   0.762,2,   0.273,2,  2211.7,2,  2299.8,2,  1118.6,2,      20,   7.5566,2,    25.00, -999.00,9,  -999.0,9,  -999.0, -999.00,9, -999.00,9,     30.668,2,-999.0000,9,-999.0000,9,-999.0000,9,-999.0000,9,-999.0000,9,-999.0000,9,-999.0000,9,-999.0000,9,-999.0000,9,     -999.0,5,  -999.0,9,     -999.0,     -999.0,9,     -999.0,20130928,       1449
33RO20130803,       A16N,     134,          1,         14,         14,2,20130928,       1317,    -1.3326,   -25.0002,       4735,   498.1,   6.9620,  34.5997,2,  34.5982,2,    137.9,2,   138.5,2,   20.00,2,   31.30,2,    0.00,2,    2.10,2,-999.000,9,-999.000,9,-999.000,9,  -999.0,9,  -999.0,9,  -999.0,9, -999.00,-999.0000,9,  -999.00, -999.00,9,  -999.0,9,  -999.0, -999.00,9, -999.00,9,     -999.0,9,-999.0000,9,-999.0000,9,-999.0000,9,-999.0000,9,-999.0000,9,-999.0000,9,-999.0000,9,-999.0000,9,-999.0000,9,     -999.0,9,  -999.0,9,     -999.0,     -999.0,9,     -999.0,20130928,       1446
33RO20130803,       A16N,     134,          1,         13,         13,2,20130928,       1317,    -1.3326,   -25.0002,       4735,   647.7,   5.6501,  34.5143,2,  34.5131,2,    142.6,2,   143.2,2,   25.70,2,   33.60,2,    0.01,2,    2.28,2,   0.728,6,   0.359,6,   0.131,6,  2213.9,2,  2296.9,2,  1150.9,2,      20,   7.5434,2,    25.00, -999.00,9,  -999.0,9,  -999.0, -999.00,9, -999.00,9,     25.027,6,-999.0000,9,-999.0000,9,-999.0000,9,-999.0000,9,-999.0000,9,-999.0000,9,-999.0000,9,-999.0000,9,-999.0000,9,     -999.0,5,  -999.0,9,     -999.0,     -999.0,9,     -999.0,20130928,       1443
33RO20130803,       A16N,     134,          1,         12,         12,2,20130928,       1317,    -1.3326,   -25.0002,       4735,   797.7,   4.8188,  34.5206,2,  34.5206,2,    148.7,2,   149.1,2,   30.60,2,   34.00,2,    0.01,2,    2.33,2,   0.288,2,   0.147,2,   0.036,2,  2217.9,2,  2301.6,2,  -999.0,9, -999.00,   7.5461,2,    25.00, -999.00,9,  -999.0,9,  -999.0, -999.00,9, -999.00,9,     23.921,2,-999.0000,9,-999.0000,9,-999.0000,9,-999.0000,9,-999.0000,9,-999.0000,9,-999.0000,9,-999.0000,9,-999.0000,9,     -999.0,5,  -999.0,9,     -999.0,     -999.0,9,     -999.0,20130928,       1439
33RO20130803,       A16N,     134,          1,         11,         11,2,20130928,       1317,    -1.3326,   -25.0002,       4735,   948.1,   4.5002,  34.5540,2,  34.5544,2,    156.2,2,   156.2,2,   32.20,2,   33.30,2,    0.01,2,    2.29,2,   0.193,2,   0.097,2,   0.022,2,  2217.2,6,  2305.8,2,  1102.2,2,      20,   7.5556,2,    25.00, -999.00,9,  -999.0,9,  -999.0, -999.00,9, -999.00,9,     22.945,2,-999.0000,9,-999.0000,9,-999.0000,9,-999.0000,9,-999.0000,9,-999.0000,9,-999.0000,9,-999.0000,9,-999.0000,9,     -999.0,5,  -999.0,9,     -999.0,     -999.0,9,     -999.0,20130928,       1435
33RO20130803,       A16N,     134,          1,         10,         10,2,20130928,       1317,    -1.3326,   -25.0002,       4735,  1247.8,   4.5612,  34.8521,2,  34.8524,2,    187.6,2,   188.7,2,   23.90,2,   26.60,2,    0.00,2,    1.81,2,-999.000,9,-999.000,9,-999.000,9,  -999.0,9,  -999.0,9,  -999.0,9, -999.00,-999.0000,9,  -999.00, -999.00,9,  -999.0,9,  -999.0, -999.00,9, -999.00,9,     -999.0,9,-999.0000,9,-999.0000,9,-999.0000,9,-999.0000,9,-999.0000,9,-999.0000,9,-999.0000,9,-999.0000,9,-999.0000,9,     -999.0,9,  -999.0,9,     -999.0,     -999.0,9,     -999.0,20130928,       1429
33RO20130803,       A16N,     134,          1,          9,          9,2,20130928,       1317,    -1.3326,   -25.0002,       4735,  1548.4,   4.2383,  34.9685,2,  34.9675,2,    229.9,2,   230.1,2,   18.10,2,   21.10,2,    0.01,2,    1.42,2,   0.429,2,   0.213,2,   0.072,2,  2173.8,2,  2311.4,2,   787.7,2,      20,   7.7039,2,    25.00, -999.00,9,  -999.0,9,  -999.0, -999.00,9, -999.00,9,     15.028,2,-999.0000,9,-999.0000,9,-999.0000,9,-999.0000,9,-999.0000,9,-999.0000,9,-999.0000,9,-999.0000,9,-999.0000,9,     -999.0,5,  -999.0,9,     -999.0,     -999.0,9,     -999.0,20130928,       1423
33RO20130803,       A16N,     134,          1,          8,          8,2,20130928,       1317,    -1.3326,   -25.0002,       4735,  1947.7,   3.7128,  34.9704,2,  34.9715,2,    247.3,2,   248.4,2,   18.90,2,   19.50,2,    0.01,2,    1.30,2,   0.439,2,   0.223,2,   0.074,2,  2166.4,2,  -999.0,9,  -999.0,9, -999.00,   7.7225,2,    25.00, -999.00,9,  -999.0,9,  -999.0, -999.00,9, -999.00,9,     13.738,2,-999.0000,9,-999.0000,9,-999.0000,9,-999.0000,9,-999.0000,9,-999.0000,9,-999.0000,9,-999.0000,9,-999.0000,9,     -999.0,5,  -999.0,9,     -999.0,     -999.0,9,     -999.0,20130928,       1415
33RO20130803,       A16N,     134,          1,          7,          7,2,20130928,       1317,    -1.3326,   -25.0002,       4735,  2346.4,   3.1326,  34.9434,2,  34.9446,2,    248.3,2,   248.2,2,   26.90,2,   20.10,2,    0.01,2,    1.36,2,   0.171,2,   0.090,2,   0.000,2,  2173.1,2,  2323.3,2,   747.0,2,      20,   7.7256,2,    25.00, -999.00,9,  -999.0,9,  -999.0, -999.00,9, -999.00,9,     13.594,2,-999.0000,9,-999.0000,9,-999.0000,9,-999.0000,9,-999.0000,9,-999.0000,9,-999.0000,9,-999.0000,9,-999.0000,9,     -999.0,5,  -999.0,9,     -999.0,     -999.0,9,     -999.0,20130928,       1406
33RO20130803,       A16N,     134,          1,          6,          6,2,20130928,       1317,    -1.3326,   -25.0002,       4735,  2748.1,   2.7720,  34.9161,2,  34.9171,2,    241.6,2,   242.7,2,   36.30,2,   21.40,2,    0.01,2,    1.45,2,-999.000,9,-999.000,9,-999.000,9,  -999.0,9,  -999.0,9,  -999.0,9, -999.00,-999.0000,9,  -999.00, -999.00,9,  -999.0,9,  -999.0, -999.00,9, -999.00,9,     -999.0,9,-999.0000,9,-999.0000,9,-999.0000,9,-999.0000,9,-999.0000,9,-999.0000,9,-999.0000,9,-999.0000,9,-999.0000,9,     -999.0,9,  -999.0,9,     -999.0,     -999.0,9,     -999.0,20130928,       1358
33RO20130803,       A16N,     134,          1,          5,          5,2,20130928,       1317,    -1.3326,   -25.0002,       4735,  3148.3,   2.5908,  34.9070,2,  34.9063,2,    245.2,2,     246,2,   38.20,2,   21.30,2,    0.01,2,    1.44,2,   0.063,2,   0.033,2,   0.000,2,  2185.6,2,  2332.6,2,  -999.0,9, -999.00,   7.7180,2,    25.00, -999.00,9,  -999.0,9,  -999.0, -999.00,9, -999.00,9,     13.765,2,-999.0000,9,-999.0000,9,-999.0000,9,-999.0000,9,-999.0000,9,-999.0000,9,-999.0000,9,-999.0000,9,-999.0000,9,     -999.0,5,  -999.0,9,     -999.0,     -999.0,9,     -999.0,20130928,       1350
33RO20130803,       A16N,     134,          1,          4,          4,2,20130928,       1317,    -1.3326,   -25.0002,       4735,  3548.1,   2.4294,  34.9010,2,  34.9002,2,    254.9,2,   255.3,2,   35.00,6,   20.10,6,    0.00,6,    1.37,6,   0.260,2,   0.133,2,   0.000,2,  2180.1,2,  -999.0,9,   758.8,2,      20,-999.0000,9,  -999.00, -999.00,9,  -999.0,9,  -999.0, -999.00,9, -999.00,9,     13.515,2,-999.0000,9,-999.0000,9,-999.0000,9,-999.0000,9,-999.0000,9,-999.0000,9,-999.0000,9,-999.0000,9,-999.0000,9,     -999.0,5,  -999.0,9,     -999.0,     -999.0,9,     -999.0,20130928,       1341
33RO20130803,       A16N,     134,          1,          3,          3,2,20130928,       1317,    -1.3326,   -25.0002,       4735,  3948.4,   2.1800,  34.8783,2,  34.8778,2,    255.3,2,   255.3,2,   41.50,6,   20.60,6,    0.00,6,    1.42,6,   0.339,6,   0.174,6,   0.064,6,  2184.6,2,  2334.2,2,  -999.0,9, -999.00,   7.7171,6,    25.00, -999.00,9,  -999.0,9,  -999.0, -999.00,9, -999.00,9,     13.772,6,-999.0000,9,-999.0000,9,-999.0000,9,-999.0000,9,-999.0000,9,-999.0000,9,-999.0000,9,-999.0000,9,-999.0000,9,     -999.0,5,  -999.0,9,     -999.0,     -999.0,9,     -999.0,20130928,       1333
33RO20130803,       A16N,     134,          1,          2,          2,2,20130928,       1317,    -1.3326,   -25.0002,       4735,  4347.1,   1.1187,  34.7590,2,  34.7592,2,    229.0,2,   229.3,2,   92.60,6,   28.20,6,    0.00,6,    1.96,6,   0.106,2,   0.053,2,   0.030,2,  2238.2,2,  -999.0,9,  -999.0,9, -999.00,   7.6511,2,    25.00, -999.00,9,  -999.0,9,  -999.0, -999.00,9, -999.00,9,     16.318,2,-999.0000,9,-999.0000,9,-999.0000,9,-999.0000,9,-999.0000,9,-999.0000,9,-999.0000,9,-999.0000,9,-999.0000,9,     -999.0,5,  -999.0,9,     -999.0,     -999.0,9,     -999.0,20130928,       1325
33RO20130803,       A16N,     134,          1,          1,          1,2,20130928,       1317,    -1.3326,   -25.0002,       4735,  4785.7,   0.8197,  34.7208,2,  34.7200,2,    222.2,2,   221.3,2,  108.20,6,   30.40,6,    0.01,6,    2.12,6,   0.096,2,   0.052,2,   0.023,2,  2254.4,2,  2370.5,2,   930.3,2,      20,   7.6302,2,    25.00, -999.00,9,  -999.0,9,  -999.0, -999.00,9, -999.00,9,     17.137,2,-999.0000,9,-999.0000,9,-999.0000,9,-999.0000,9,-999.0000,9,-999.0000,9,-999.0000,9,-999.0000,9,-999.0000,9,     -999.0,5,  -999.0,9,     -999.0,     -999.0,9,     -999.0,20130928,       1317