BOTTLE,20220815CCHSIOAMB
EXPOCODE,SECT_ID,STNNBR,CASTNO,SAMPNO,BTLNBR,BTLNBR_FLAG_W,DATE,TIME,LATITUDE,LONGITUDE,DEPTH,CTDPRS,CTDTMP,CTDSAL,CTDSAL_FLAG_W,SALNTY,SALNTY_FLAG_W,CTDOXY,CTDOXY_FLAG_W,OXYGEN,OXYGEN_FLAG_W,SILCAT,SILCAT_FLAG_W,NITRAT,NITRAT_FLAG_W,NITRIT,NITRIT_FLAG_W,PHSPHT,PHSPHT_FLAG_W,CFC-11,CFC-11_FLAG_W,CFC-12,CFC-12_FLAG_W,SF6,SF6_FLAG_W,TCARBN,TCARBN_FLAG_W,ALKALI,ALKALI_FLAG_W,PCO2,PCO2_FLAG_W,PCO2TMP,PH_SWS,PH_SWS_FLAG_W,PH_TMP,DELC13,DELC13_FLAG_W,DELC14,DELC14_FLAG_W,C14ERR,DOC,DOC_FLAG_W,TDN,TDN_FLAG_W,N2O,N2O_FLAG_W,CDOM325,CDOM325_FLAG_W,CDOM340,CDOM340_FLAG_W,CDOM380,CDOM380_FLAG_W,CDOM412,CDOM412_FLAG_W,CDOM443,CDOM443_FLAG_W,CDOM490,CDOM490_FLAG_W,CDOM555,CDOM555_FLAG_W,CDOMSL,CDOMSL_FLAG_W,CDOMSN,CDOMSN_FLAG_W,CCL4,CCL4_FLAG_W,14C-DOC,14C-DOC_FLAG_W,14C-DOCERR,13C-DOC,13C-DOC_FLAG_W,13C-DOCERR,BTL_DATE,BTL_TIME
,,,,,,,,,,,METERS,DBAR,ITS-90,PSS-78,,PSS-78,,UMOL/KG,,UMOL/KG,,UMOL/KG,,UMOL/KG,,UMOL/KG,,UMOL/KG,,PMOL/KG,,PMOL/KG,,FMOL/KG,,UMOL/KG,,UMOL/KG,,UATM,,DEG C,,,DEG C,/MILLE,,/MILLE,,/MILLE,UMOL/KG,,UMOL/KG,,NMOL/KG,,1/M,,1/M,,1/M,,1/M,,1/M,,1/M,,1/M,,1/NM,,1/NM,,PMOL/KG,,/MILLE,,/MILLE,/MILLE,,/MILLE,,
33RO20130803,       A16N,      64,          1,         24,         24,2,20130820,       0322,    33.4995,   -21.3998,       5349,     2.8,  23.3611,  36.8576,2,  36.8573,2,    211.7,2,   214.2,2,    1.00,2,    0.10,2,    0.01,2,    0.02,2,   1.847,2,   1.152,2,   1.362,2,  2105.3,6,  2411.7,2,   348.8,2,      20,   8.0193,2,    25.00, -999.00,9,  -999.0,9,  -999.0,   65.33,2,    3.51,2,      6.755,2,-999.0000,9,-999.0000,9,-999.0000,9,-999.0000,9,-999.0000,9,-999.0000,9,-999.0000,9,-999.0000,9,-999.0000,9,     -999.0,5,  -999.0,9,     -999.0,     -999.0,9,     -999.0,20130820,       0520
33RO20130803,       A16N,      64,          1,         23,         23,2,20130820,       0322,    33.4995,   -21.3998,       5349,    23.6,  23.3681,  36.8560,2,  36.8332,2,    212.2,2,   216.5,2,    1.00,2,    0.10,2,    0.01,2,    0.03,2,-999.000,9,-999.000,9,-999.000,9,  2102.8,2,  2409.7,2,  -999.0,9, -999.00,   8.0161,2,    25.00, -999.00,9,  -999.0,9,  -999.0,    65.3,2,    2.76,2,     -999.0,9,-999.0000,9,-999.0000,9,-999.0000,9,-999.0000,9,-999.0000,9,-999.0000,9,-999.0000,9,-999.0000,9,-999.0000,9,     -999.0,9,  -999.0,9,     -999.0,     -999.0,9,     -999.0,20130820,       0518
33RO20130803,       A16N,      64,          1,         22,         22,2,20130820,       0322,    33.4995,   -21.3998,       5349,    49.1,  20.9316,  36.6756,2,  36.6740,2,    234.4,2,   236.4,2,    0.90,2,    0.10,2,    0.01,2,    0.03,2,-999.000,9,-999.000,9,-999.000,9,  2094.5,2,  2401.2,2,   348.9,2,      20,   8.0175,2,    25.00, -999.00,9,  -999.0,9,  -999.0,   65.22,2,    3.16,2,     -999.0,9,-999.0000,9,-999.0000,9,-999.0000,9,-999.0000,9,-999.0000,9,-999.0000,9,-999.0000,9,-999.0000,9,-999.0000,9,     -999.0,9,  -999.0,9,     -999.0,     -999.0,9,     -999.0,20130820,       0517
33RO20130803,       A16N,      64,          1,         21,         21,2,20130820,       0322,    33.4995,   -21.3998,       5349,    73.6,  18.7559,  36.4945,2,  36.4845,2,    234.6,2,   233.5,2,    0.90,2,    0.10,2,    0.00,2,    0.04,2,-999.000,9,-999.000,9,-999.000,9,  2100.2,2,  2389.4,2,  -999.0,9, -999.00,   7.9906,2,    25.00, -999.00,9,  -999.0,9,  -999.0,   63.81,2,    4.46,2,     -999.0,9,-999.0000,9,-999.0000,9,-999.0000,9,-999.0000,9,-999.0000,9,-999.0000,9,-999.0000,9,-999.0000,9,-999.0000,9,     -999.0,9,  -999.0,9,     -999.0,     -999.0,9,     -999.0,20130820,       0515
33RO20130803,       A16N,      64,          1,         20,         20,2,20130820,       0322,    33.4995,   -21.3998,       5349,    99.1,  17.9169,  36.4098,2,  36.4110,2,    219.7,2,   219.3,2,    1.10,2,    0.60,2,    0.12,2,    0.06,2,   2.307,2,   1.396,2,   1.530,2,  2112.0,2,  2384.6,2,   402.3,2,      20,   7.9655,2,    25.00, -999.00,9,  -999.0,9,  -999.0,   58.09,2,    4.09,2,      8.322,2,-999.0000,9,-999.0000,9,-999.0000,9,-999.0000,9,-999.0000,9,-999.0000,9,-999.0000,9,-999.0000,9,-999.0000,9,     -999.0,5,  -999.0,9,     -999.0,     -999.0,9,     -999.0,20130820,       0513
33RO20130803,       A16N,      64,          1,         19,         19,2,20130820,       0322,    33.4995,   -21.3998,       5349,   148.1,  17.4517,  36.4092,2,  36.4224,2,    209.3,2,   209.1,2,    1.50,2,    3.40,2,    0.02,2,    0.20,2,-999.000,9,-999.000,9,-999.000,9,  2122.9,2,  2383.5,2,  -999.0,9, -999.00,   7.9461,2,    25.00, -999.00,9,  -999.0,9,  -999.0,   50.75,2,     5.3,2,     -999.0,9,-999.0000,9,-999.0000,9,-999.0000,9,-999.0000,9,-999.0000,9,-999.0000,9,-999.0000,9,-999.0000,9,-999.0000,9,     -999.0,9,  -999.0,9,     -999.0,     -999.0,9,     -999.0,20130820,       0510
33RO20130803,       A16N,      64,          1,         18,         18,2,20130820,       0322,    33.4995,   -21.3998,       5349,   223.3,  16.4090,  36.2987,2,  36.3003,2,    197.7,2,   198.6,2,    2.40,2,    6.60,2,    0.01,2,    0.38,2,   2.407,2,   1.427,2,   1.382,2,  -999.0,9,  -999.0,9,  -999.0,9, -999.00,-999.0000,9,  -999.00, -999.00,9,  -999.0,9,  -999.0,   49.32,2,    9.22,2,      9.875,2,-999.0000,9,-999.0000,9,-999.0000,9,-999.0000,9,-999.0000,9,-999.0000,9,-999.0000,9,-999.0000,9,-999.0000,9,     -999.0,5,  -999.0,9,     -999.0,     -999.0,9,     -999.0,20130820,       0508
33RO20130803,       A16N,      64,          1,         17,         17,2,20130820,       0322,    33.4995,   -21.3998,       5349,   299.1,  15.1930,  36.0983,2,  36.0934,2,    197.6,2,   198.2,2,    3.10,2,    8.60,2,    0.01,2,    0.52,2,-999.000,9,-999.000,9,-999.000,9,  2138.5,2,  2363.9,2,   504.0,2,      20,   7.8792,6,    25.00, -999.00,9,  -999.0,9,  -999.0,   48.25,2,   10.96,2,     -999.0,9,-999.0000,9,-999.0000,9,-999.0000,9,-999.0000,9,-999.0000,9,-999.0000,9,-999.0000,9,-999.0000,9,-999.0000,9,     -999.0,9,  -999.0,9,     -999.0,     -999.0,9,     -999.0,20130820,       0506
33RO20130803,       A16N,      64,          1,         16,         16,2,20130820,       0322,    33.4995,   -21.3998,       5349,   398.2,  13.7090,  35.8575,2,  35.8518,2,    195.6,2,     197,2,    4.30,2,   11.30,2,    0.00,2,    0.68,2,   2.581,2,   1.482,2,   1.283,2,  -999.0,9,  -999.0,9,  -999.0,9, -999.00,-999.0000,9,  -999.00, -999.00,9,  -999.0,9,  -999.0,   46.85,2,   13.77,2,     12.008,2,-999.0000,9,-999.0000,9,-999.0000,9,-999.0000,9,-999.0000,9,-999.0000,9,-999.0000,9,-999.0000,9,-999.0000,9,     -999.0,5,  -999.0,9,     -999.0,     -999.0,9,     -999.0,20130820,       0503
33RO20130803,       A16N,      64,          1,         15,         15,2,20130820,       0322,    33.4995,   -21.3998,       5349,   498.3,  12.6362,  35.7183,2,  35.7146,2,    194.9,2,     195,2,    5.10,2,   13.30,2,    0.00,2,    0.80,2,   2.632,2,   1.491,2,   1.168,2,  2155.3,2,  2343.4,2,  -999.0,9, -999.00,   7.8072,2,    25.00, -999.00,9,  -999.0,9,  -999.0,   46.26,2,   15.77,2,     13.131,2,-999.0000,9,-999.0000,9,-999.0000,9,-999.0000,9,-999.0000,9,-999.0000,9,-999.0000,9,-999.0000,9,-999.0000,9,     -999.0,5,  -999.0,9,     -999.0,     -999.0,9,     -999.0,20130820,       0500
33RO20130803,       A16N,      64,          1,         14,         14,2,20130820,       0322,    33.4995,   -21.3998,       5349,   648.6,  11.1247,  35.5464,2,  35.5454,2,    183.4,2,     182,2,    7.80,2,   16.90,2,    0.00,2,    1.05,2,-999.000,9,-999.000,9,-999.000,9,  -999.0,9,  -999.0,9,  -999.0,9, -999.00,-999.0000,9,  -999.00, -999.00,9,  -999.0,9,  -999.0,   45.67,2,   18.97,2,     -999.0,9,-999.0000,9,-999.0000,9,-999.0000,9,-999.0000,9,-999.0000,9,-999.0000,9,-999.0000,9,-999.0000,9,-999.0000,9,     -999.0,9,  -999.0,9,     -999.0,     -999.0,9,     -999.0,20130820,       0456
33RO20130803,       A16N,      64,          1,         13,         13,2,20130820,       0322,    33.4995,   -21.3998,       5349,   798.4,  10.0953,  35.5472,2,  35.5478,2,    168.7,2,   169.9,2,   10.50,2,   19.50,2,    0.00,2,    1.23,2,-999.000,9,-999.000,9,-999.000,9,  2170.6,2,  2340.7,2,   736.0,6,      20,   7.7295,2,    25.00, -999.00,9,  -999.0,9,  -999.0,   45.08,2,   21.74,2,     -999.0,9,-999.0000,9,-999.0000,9,-999.0000,9,-999.0000,9,-999.0000,9,-999.0000,9,-999.0000,9,-999.0000,9,-999.0000,9,     -999.0,9,  -999.0,9,     -999.0,     -999.0,9,     -999.0,20130820,       0452
33RO20130803,       A16N,      64,          1,         12,         12,2,20130820,       0322,    33.4995,   -21.3998,       5349,   948.6,   9.0582,  35.5339,2,  35.5346,2,    178.1,2,   190.1,4,   11.60,2,   19.60,2,    0.00,2,    1.24,2,   1.515,2,   0.787,2,   0.405,2,  2190.6,6,  2344.1,2,   738.4,2,      20,   7.7305,2,    25.00, -999.00,9,  -999.0,9,  -999.0,   44.28,2,   21.81,2,     15.919,2,-999.0000,9,-999.0000,9,-999.0000,9,-999.0000,9,-999.0000,9,-999.0000,9,-999.0000,9,-999.0000,9,-999.0000,9,     -999.0,5,  -999.0,9,     -999.0,     -999.0,9,     -999.0,20130820,       0449
33RO20130803,       A16N,      64,          1,         11,         11,2,20130820,       0322,    33.4995,   -21.3998,       5349,  1099.2,   8.2809,  35.5199,2,  35.5217,2,    187.0,2,   188.1,2,   12.60,2,   19.80,2,    0.00,2,    1.25,2,   1.322,2,   0.682,2,   0.271,2,  2195.3,2,  2345.0,6,   737.6,2,      20,   7.7334,2,    25.00, -999.00,9,  -999.0,9,  -999.0,    43.5,2,   22.22,2,     15.645,2,-999.0000,9,-999.0000,9,-999.0000,9,-999.0000,9,-999.0000,9,-999.0000,9,-999.0000,9,-999.0000,9,-999.0000,9,     -999.0,5,  -999.0,9,     -999.0,     -999.0,9,     -999.0,20130820,       0445
33RO20130803,       A16N,      64,          1,         10,         10,2,20130820,       0322,    33.4995,   -21.3998,       5349,  1298.0,   7.0791,  35.4254,2,  35.4263,2,    211.5,2,   212.2,2,   12.40,2,   18.80,2,    0.00,2,    1.20,2,-999.000,9,-999.000,9,-999.000,9,  -999.0,9,  -999.0,9,  -999.0,9, -999.00,-999.0000,9,  -999.00, -999.00,9,  -999.0,9,  -999.0,    42.9,2,   21.12,2,     -999.0,9,-999.0000,9,-999.0000,9,-999.0000,9,-999.0000,9,-999.0000,9,-999.0000,9,-999.0000,9,-999.0000,9,-999.0000,9,     -999.0,9,  -999.0,9,     -999.0,     -999.0,9,     -999.0,20130820,       0440
33RO20130803,       A16N,      64,          1,          9,          9,2,20130820,       0322,    33.4995,   -21.3998,       5349,  1599.2,   5.4821,  35.2365,2,  35.2355,2,    232.8,2,   234.9,2,   13.50,2,   18.60,2,    0.00,2,    1.20,2,-999.000,9,-999.000,9,-999.000,9,  2178.6,2,  2327.7,2,   732.5,2,      20,   7.7298,2,    25.00, -999.00,9,  -999.0,9,  -999.0,   42.16,2,   20.81,2,     -999.0,9,-999.0000,9,-999.0000,9,-999.0000,9,-999.0000,9,-999.0000,9,-999.0000,9,-999.0000,9,-999.0000,9,-999.0000,9,     -999.0,9,  -999.0,9,     -999.0,     -999.0,9,     -999.0,20130820,       0434
33RO20130803,       A16N,      64,          1,          8,          8,2,20130820,       0322,    33.4995,   -21.3998,       5349,  1998.2,   4.2362,  35.0871,2,  35.0904,2,    250.9,2,   247.5,2,   16.90,2,   18.90,2,    0.00,2,    1.24,2,   0.997,2,   0.486,2,   0.134,2,  2172.7,2,  2321.2,2,  -999.0,9, -999.00,   7.7303,2,    25.00, -999.00,9,  -999.0,9,  -999.0,   41.87,2,   21.22,2,     13.437,2,-999.0000,9,-999.0000,9,-999.0000,9,-999.0000,9,-999.0000,9,-999.0000,9,-999.0000,9,-999.0000,9,-999.0000,9,     -999.0,5,  -999.0,9,     -999.0,     -999.0,9,     -999.0,20130820,       0426
33RO20130803,       A16N,      64,          1,          7,          7,2,20130820,       0322,    33.4995,   -21.3998,       5349,  2398.6,   3.3677,  34.9828,2,  34.9825,2,    256.8,2,   254.8,2,   21.60,2,   19.10,2,    0.00,2,    1.27,2,   0.831,2,   0.406,2,   0.141,2,  2174.1,2,  2321.7,2,  -999.0,9, -999.00,   7.7259,2,    25.00, -999.00,9,  -999.0,9,  -999.0,   41.33,2,   21.47,2,     13.282,2,-999.0000,9,-999.0000,9,-999.0000,9,-999.0000,9,-999.0000,9,-999.0000,9,-999.0000,9,-999.0000,9,-999.0000,9,     -999.0,5,  -999.0,9,     -999.0,     -999.0,9,     -999.0,20130820,       0419
33RO20130803,       A16N,      64,          1,          6,          6,2,20130820,       0322,    33.4995,   -21.3998,       5349,  2847.9,   2.9470,  34.9536,2,  34.9544,2,    250.0,2,   249.6,2,   29.50,2,   20.20,2,    0.00,2,    1.35,2,   0.339,2,   0.167,2,   0.044,2,  2182.5,2,  2331.6,6,   736.8,2,      20,   7.6879,4,    25.00, -999.00,9,  -999.0,9,  -999.0,   41.28,2,   22.58,2,     13.291,2,-999.0000,9,-999.0000,9,-999.0000,9,-999.0000,9,-999.0000,9,-999.0000,9,-999.0000,9,-999.0000,9,-999.0000,9,     -999.0,5,  -999.0,9,     -999.0,     -999.0,9,     -999.0,20130820,       0410
33RO20130803,       A16N,      64,          1,          5,          5,2,20130820,       0322,    33.4995,   -21.3998,       5349,  3349.1,   2.6799,  34.9300,2,  34.9296,2,    245.1,2,   245.2,2,   37.20,2,   21.40,2,    0.00,2,    1.43,2,   0.086,2,   0.045,2,   0.010,2,  -999.0,9,  -999.0,9,  -999.0,9, -999.00,-999.0000,9,  -999.00, -999.00,9,  -999.0,9,  -999.0,   41.03,2,   23.74,2,     13.389,2,-999.0000,9,-999.0000,9,-999.0000,9,-999.0000,9,-999.0000,9,-999.0000,9,-999.0000,9,-999.0000,9,-999.0000,9,     -999.0,5,  -999.0,9,     -999.0,     -999.0,9,     -999.0,20130820,       0401
33RO20130803,       A16N,      64,          1,          4,          4,2,20130820,       0322,    33.4995,   -21.3998,       5349,  3848.3,   2.5295,  34.9110,2,  34.9111,2,    243.5,2,     244,2,   42.00,2,   22.00,6,    0.01,6,    1.48,6,   0.017,2,   0.011,2,   0.006,2,  2195.3,2,  2375.1,3,  -999.0,9, -999.00,   7.7422,3,    25.00, -999.00,9,  -999.0,9,  -999.0,    40.6,2,   24.37,2,     13.535,2,-999.0000,9,-999.0000,9,-999.0000,9,-999.0000,9,-999.0000,9,-999.0000,9,-999.0000,9,-999.0000,9,-999.0000,9,     -999.0,5,  -999.0,9,     -999.0,     -999.0,9,     -999.0,20130820,       0351
33RO20130803,       A16N,      64,          1,          3,          3,2,20130820,       0322,    33.4995,   -21.3998,       5349,  4348.4,   2.4529,  34.8981,2,  34.8989,2,    243.3,2,     244,2,   44.90,2,   22.30,6,    0.00,6,    1.50,6,   0.007,2,   0.006,2,   0.000,2,  -999.0,9,  -999.0,9,  -999.0,9, -999.00,-999.0000,9,  -999.00, -999.00,9,  -999.0,9,  -999.0,   40.44,2,   24.86,2,     13.591,2,-999.0000,9,-999.0000,9,-999.0000,9,-999.0000,9,-999.0000,9,-999.0000,9,-999.0000,9,-999.0000,9,-999.0000,9,     -999.0,5,  -999.0,9,     -999.0,     -999.0,9,     -999.0,20130820,       0342
33RO20130803,       A16N,      64,          1,          2,          2,2,20130820,       0322,    33.4995,   -21.3998,       5349,  4846.8,   2.4369,  34.8901,2,  34.8907,2,    243.2,2,   243.9,2,   46.80,2,   22.50,6,    0.00,6,    1.51,6,   0.003,6,   0.004,6,   0.000,6,  2200.5,2,  2350.7,2,   746.7,2,      20,   7.7245,2,    25.00, -999.00,9,  -999.0,9,  -999.0,   40.22,2,   25.03,2,     13.672,6,-999.0000,9,-999.0000,9,-999.0000,9,-999.0000,9,-999.0000,9,-999.0000,9,-999.0000,9,-999.0000,9,-999.0000,9,     -999.0,5,  -999.0,9,     -999.0,     -999.0,9,     -999.0,20130820,       0333
33RO20130803,       A16N,      64,          1,          1,          1,2,20130820,       0322,    33.4995,   -21.3998,       5349,  5420.7,   2.4872,  34.8868,2,  34.8876,2,    243.9,2,   243.6,2,   47.40,2,   22.70,6,    0.00,6,    1.51,6,   0.009,2,   0.008,2,   0.000,2,  2204.2,6,  2351.7,2,   744.3,2,      20,   7.7381,2,    25.00, -999.00,9,  -999.0,9,  -999.0,   40.11,2,   24.66,2,     13.706,2,-999.0000,9,-999.0000,9,-999.0000,9,-999.0000,9,-999.0000,9,-999.0000,9,-999.0000,9,-999.0000,9,-999.0000,9,     -999.0,5,  -999.0,9,     -999.0,     -999.0,9,     -999.0,20130820,       0322