BOTTLE,20220815CCHSIOAMB
EXPOCODE,SECT_ID,STNNBR,CASTNO,SAMPNO,BTLNBR,BTLNBR_FLAG_W,DATE,TIME,LATITUDE,LONGITUDE,DEPTH,CTDPRS,CTDTMP,CTDSAL,CTDSAL_FLAG_W,SALNTY,SALNTY_FLAG_W,CTDOXY,CTDOXY_FLAG_W,OXYGEN,OXYGEN_FLAG_W,SILCAT,SILCAT_FLAG_W,NITRAT,NITRAT_FLAG_W,NITRIT,NITRIT_FLAG_W,PHSPHT,PHSPHT_FLAG_W,CFC-11,CFC-11_FLAG_W,CFC-12,CFC-12_FLAG_W,SF6,SF6_FLAG_W,TCARBN,TCARBN_FLAG_W,ALKALI,ALKALI_FLAG_W,PCO2,PCO2_FLAG_W,PCO2TMP,PH_SWS,PH_SWS_FLAG_W,PH_TMP,DELC13,DELC13_FLAG_W,DELC14,DELC14_FLAG_W,C14ERR,DOC,DOC_FLAG_W,TDN,TDN_FLAG_W,N2O,N2O_FLAG_W,CDOM325,CDOM325_FLAG_W,CDOM340,CDOM340_FLAG_W,CDOM380,CDOM380_FLAG_W,CDOM412,CDOM412_FLAG_W,CDOM443,CDOM443_FLAG_W,CDOM490,CDOM490_FLAG_W,CDOM555,CDOM555_FLAG_W,CDOMSL,CDOMSL_FLAG_W,CDOMSN,CDOMSN_FLAG_W,CCL4,CCL4_FLAG_W,14C-DOC,14C-DOC_FLAG_W,14C-DOCERR,13C-DOC,13C-DOC_FLAG_W,13C-DOCERR,BTL_DATE,BTL_TIME
,,,,,,,,,,,METERS,DBAR,ITS-90,PSS-78,,PSS-78,,UMOL/KG,,UMOL/KG,,UMOL/KG,,UMOL/KG,,UMOL/KG,,UMOL/KG,,PMOL/KG,,PMOL/KG,,FMOL/KG,,UMOL/KG,,UMOL/KG,,UATM,,DEG C,,,DEG C,/MILLE,,/MILLE,,/MILLE,UMOL/KG,,UMOL/KG,,NMOL/KG,,1/M,,1/M,,1/M,,1/M,,1/M,,1/M,,1/M,,1/NM,,1/NM,,PMOL/KG,,/MILLE,,/MILLE,/MILLE,,/MILLE,,
33RO20130803,       A16N,      25,          1,         24,         24,2,20130808,       2236,    52.9995,   -20.0001,       2678,     3.4,  16.1407,  35.4767,2,  35.4772,2,    247.0,2,   249.7,2,    0.30,2,    0.00,2,    0.01,2,    0.05,2,   2.534,2,   1.523,2,   1.774,2,  2067.6,6,  -999.0,5,   372.8,2,      20,   7.9944,2,    25.00, -999.00,9,  -999.0,9,  -999.0, -999.00,9, -999.00,9,      8.628,2,-999.0000,9,-999.0000,9,-999.0000,9,-999.0000,9,-999.0000,9,-999.0000,9,-999.0000,9,-999.0000,9,-999.0000,9,     -999.0,5,  -999.0,9,     -999.0,     -999.0,9,     -999.0,20130808,       2356
33RO20130803,       A16N,      25,          1,         23,         23,2,20130808,       2236,    52.9995,   -20.0001,       2678,    23.3,  14.9104,  35.4579,2,  35.4632,2,    252.3,2,   163.3,4,    0.30,2,    0.60,2,    0.03,2,    0.10,2,   2.640,2,   1.582,2,   1.808,2,  2079.1,2,  2341.1,2,   394.2,2,      20,   7.9684,2,    25.00, -999.00,9,  -999.0,9,  -999.0, -999.00,9, -999.00,9,      8.854,2,-999.0000,9,-999.0000,9,-999.0000,9,-999.0000,9,-999.0000,9,-999.0000,9,-999.0000,9,-999.0000,9,-999.0000,9,     -999.0,5,  -999.0,9,     -999.0,     -999.0,9,     -999.0,20130808,       2353
33RO20130803,       A16N,      25,          1,         22,         22,2,20130808,       2236,    52.9995,   -20.0001,       2678,    48.9,  13.0037,  35.4515,2,  35.4550,2,    246.7,2,   249.6,2,    0.70,2,    4.80,2,    0.67,2,    0.38,2,   2.966,2,   1.749,2,   1.977,2,  2119.3,2,  2336.4,2,   494.8,2,      20,   7.8845,2,    25.00, -999.00,9,  -999.0,9,  -999.0, -999.00,9, -999.00,9,     10.044,2,-999.0000,9,-999.0000,9,-999.0000,9,-999.0000,9,-999.0000,9,-999.0000,9,-999.0000,9,-999.0000,9,-999.0000,9,     -999.0,5,  -999.0,9,     -999.0,     -999.0,9,     -999.0,20130808,       2351
33RO20130803,       A16N,      25,          1,         21,         21,2,20130808,       2236,    52.9995,   -20.0001,       2678,    73.2,  12.4050,  35.5560,2,  35.5566,2,    242.7,2,   243.7,2,    2.50,2,    8.50,2,    0.02,2,    0.52,2,   2.940,6,   1.739,6,   1.930,6,  2137.0,2,  2338.1,2,  -999.0,9, -999.00,   7.8548,2,    25.00, -999.00,9,  -999.0,9,  -999.0, -999.00,9, -999.00,9,     10.328,6,-999.0000,9,-999.0000,9,-999.0000,9,-999.0000,9,-999.0000,9,-999.0000,9,-999.0000,9,-999.0000,9,-999.0000,9,     -999.0,5,  -999.0,9,     -999.0,     -999.0,9,     -999.0,20130808,       2349
33RO20130803,       A16N,      25,          1,         20,         20,2,20130808,       2236,    52.9995,   -20.0001,       2678,   100.3,  12.1120,  35.5236,2,  35.5244,2,    242.0,2,   243.3,2,    3.10,2,    9.00,2,    0.01,2,    0.56,2,   2.955,2,   1.736,2,   1.881,2,  2139.5,2,  2337.2,2,   550.2,2,      20,   7.8460,2,    25.00, -999.00,9,  -999.0,9,  -999.0, -999.00,9, -999.00,9,     10.535,2,-999.0000,9,-999.0000,9,-999.0000,9,-999.0000,9,-999.0000,9,-999.0000,9,-999.0000,9,-999.0000,9,-999.0000,9,     -999.0,5,  -999.0,9,     -999.0,     -999.0,9,     -999.0,20130808,       2347
33RO20130803,       A16N,      25,          1,         19,         19,2,20130808,       2236,    52.9995,   -20.0001,       2678,   124.5,  11.8197,  35.4766,2,  35.4814,2,    243.4,2,   241.3,2,    3.50,2,    9.60,2,    0.01,2,    0.60,2,   2.952,2,   1.739,2,   1.853,2,  2140.1,2,  2335.2,2,  -999.0,9, -999.00,   7.8407,2,    25.00, -999.00,9,  -999.0,9,  -999.0, -999.00,9, -999.00,9,     10.857,2,-999.0000,9,-999.0000,9,-999.0000,9,-999.0000,9,-999.0000,9,-999.0000,9,-999.0000,9,-999.0000,9,-999.0000,9,     -999.0,5,  -999.0,9,     -999.0,     -999.0,9,     -999.0,20130808,       2345
33RO20130803,       A16N,      25,          1,         18,         18,2,20130808,       2236,    52.9995,   -20.0001,       2678,   149.5,  11.4968,  35.4204,2,  35.4233,2,    241.9,2,   242.2,2,    3.30,2,    9.90,2,    0.01,2,    0.63,2,   2.990,2,   1.752,2,   1.946,2,  2141.2,2,  2331.5,2,   571.3,2,      20,   7.8285,2,    25.00, -999.00,9,  -999.0,9,  -999.0, -999.00,9, -999.00,9,     11.034,2,-999.0000,9,-999.0000,9,-999.0000,9,-999.0000,9,-999.0000,9,-999.0000,9,-999.0000,9,-999.0000,9,-999.0000,9,     -999.0,5,  -999.0,9,     -999.0,     -999.0,9,     -999.0,20130808,       2343
33RO20130803,       A16N,      25,          1,         17,         17,2,20130808,       2236,    52.9995,   -20.0001,       2678,   161.8,  11.5092,  35.4331,2,  35.4239,2,    243.6,2,   243.1,2,    3.50,2,   10.00,2,    0.01,2,    0.63,2,   2.986,2,   1.748,2,   1.849,2,  2141.6,2,  2331.4,2,  -999.0,9, -999.00,   7.8301,2,    25.00, -999.00,9,  -999.0,9,  -999.0, -999.00,9, -999.00,9,     11.163,2,-999.0000,9,-999.0000,9,-999.0000,9,-999.0000,9,-999.0000,9,-999.0000,9,-999.0000,9,-999.0000,9,-999.0000,9,     -999.0,5,  -999.0,9,     -999.0,     -999.0,9,     -999.0,20130808,       2341
33RO20130803,       A16N,      25,          1,         16,         16,2,20130808,       2236,    52.9995,   -20.0001,       2678,   198.6,  11.4187,  35.4320,2,  35.4333,2,    242.9,2,     244,2,    3.40,2,    9.90,2,    0.01,2,    0.63,2,   3.017,2,   1.788,2,   1.863,2,  2142.6,2,  2332.4,2,   575.7,2,      20,   7.8279,2,    25.00, -999.00,9,  -999.0,9,  -999.0, -999.00,9, -999.00,9,     10.832,2,-999.0000,9,-999.0000,9,-999.0000,9,-999.0000,9,-999.0000,9,-999.0000,9,-999.0000,9,-999.0000,9,-999.0000,9,     -999.0,5,  -999.0,9,     -999.0,     -999.0,9,     -999.0,20130808,       2339
33RO20130803,       A16N,      25,          1,         15,         15,2,20130808,       2236,    52.9995,   -20.0001,       2678,   250.8,  10.8201,  35.3236,2,  35.3245,2,    240.9,2,   242.5,2,    4.30,2,   11.00,2,    0.01,2,    0.71,2,   3.042,2,   1.768,2,   1.893,2,  2145.0,2,  2326.8,2,   602.5,2,      20,   7.8107,2,    25.00, -999.00,9,  -999.0,9,  -999.0, -999.00,9, -999.00,9,     11.628,2,-999.0000,9,-999.0000,9,-999.0000,9,-999.0000,9,-999.0000,9,-999.0000,9,-999.0000,9,-999.0000,9,-999.0000,9,     -999.0,5,  -999.0,9,     -999.0,     -999.0,9,     -999.0,20130808,       2336
33RO20130803,       A16N,      25,          1,         14,         14,2,20130808,       2236,    52.9995,   -20.0001,       2678,   324.2,  10.5579,  35.3185,2,  35.3182,2,    223.8,2,   224.6,2,    5.60,2,   13.10,2,    0.01,2,    0.83,2,   2.845,2,   1.663,2,   1.640,2,  2155.2,2,  2324.8,2,  -999.0,9, -999.00,   7.7834,2,    25.00, -999.00,9,  -999.0,9,  -999.0, -999.00,9, -999.00,9,     13.352,2,-999.0000,9,-999.0000,9,-999.0000,9,-999.0000,9,-999.0000,9,-999.0000,9,-999.0000,9,-999.0000,9,-999.0000,9,     -999.0,5,  -999.0,9,     -999.0,     -999.0,9,     -999.0,20130808,       2334
33RO20130803,       A16N,      25,          1,         13,         13,2,20130808,       2236,    52.9995,   -20.0001,       2678,   399.4,  10.4307,  35.3708,2,  35.3667,2,    207.3,2,   211.3,2,    6.70,2,   14.70,2,    0.01,2,    0.93,2,   2.740,2,   1.564,2,   1.489,2,  2164.0,2,  2326.5,6,   677.1,2,      20,   7.7648,2,    25.00, -999.00,9,  -999.0,9,  -999.0, -999.00,9, -999.00,9,     14.554,2,-999.0000,9,-999.0000,9,-999.0000,9,-999.0000,9,-999.0000,9,-999.0000,9,-999.0000,9,-999.0000,9,-999.0000,9,     -999.0,5,  -999.0,9,     -999.0,     -999.0,9,     -999.0,20130808,       2330
33RO20130803,       A16N,      25,          1,         12,         12,2,20130808,       2236,    52.9995,   -20.0001,       2678,   474.2,  10.1438,  35.3922,2,  35.3953,2,    204.8,2,   204.5,2,    7.40,2,   15.60,2,    0.00,2,    0.98,2,   2.665,2,   1.497,2,   1.217,2,  2169.0,2,  2328.7,2,   697.3,2,      20,   7.7558,6,    25.00, -999.00,9,  -999.0,9,  -999.0, -999.00,9, -999.00,9,     15.176,2,-999.0000,9,-999.0000,9,-999.0000,9,-999.0000,9,-999.0000,9,-999.0000,9,-999.0000,9,-999.0000,9,-999.0000,9,     -999.0,5,  -999.0,9,     -999.0,     -999.0,9,     -999.0,20130808,       2327
33RO20130803,       A16N,      25,          1,         11,         11,2,20130808,       2236,    52.9995,   -20.0001,       2678,   573.3,   8.3621,  35.1671,2,  35.1734,2,    191.7,2,   190.8,2,   10.40,2,   19.00,2,    0.00,2,    1.22,2,   2.436,2,   1.327,2,   1.048,2,  2183.1,6,  2323.0,2,   797.4,2,      20,   7.7027,2,    25.00, -999.00,9,  -999.0,9,  -999.0, -999.00,9, -999.00,9,     17.188,2,-999.0000,9,-999.0000,9,-999.0000,9,-999.0000,9,-999.0000,9,-999.0000,9,-999.0000,9,-999.0000,9,-999.0000,9,     -999.0,5,  -999.0,9,     -999.0,     -999.0,9,     -999.0,20130808,       2324
33RO20130803,       A16N,      25,          1,         10,         10,2,20130808,       2236,    52.9995,   -20.0001,       2678,   648.7,   7.5173,  35.1400,2,  35.1356,2,    205.5,2,   202.9,2,   10.70,2,   18.80,2,    0.00,2,    1.22,2,   2.600,2,   1.408,2,   1.038,2,  2184.1,2,  2319.2,2,   807.5,2,      20,   7.6986,2,    25.00, -999.00,9,  -999.0,9,  -999.0, -999.00,9, -999.00,9,     16.746,2,-999.0000,9,-999.0000,9,-999.0000,9,-999.0000,9,-999.0000,9,-999.0000,9,-999.0000,9,-999.0000,9,-999.0000,9,     -999.0,5,  -999.0,9,     -999.0,     -999.0,9,     -999.0,20130808,       2321
33RO20130803,       A16N,      25,          1,          9,          9,2,20130808,       2236,    52.9995,   -20.0001,       2678,   748.1,   6.4302,  35.0831,2,  35.0856,2,    218.9,2,     220,2,   10.90,2,   18.60,2,    0.00,2,    1.21,2,   2.861,2,   1.548,2,   1.118,2,  2183.0,2,  2314.9,2,   813.5,2,      20,   7.6968,2,    25.00, -999.00,9,  -999.0,9,  -999.0, -999.00,9, -999.00,9,     15.831,2,-999.0000,9,-999.0000,9,-999.0000,9,-999.0000,9,-999.0000,9,-999.0000,9,-999.0000,9,-999.0000,9,-999.0000,9,     -999.0,5,  -999.0,9,     -999.0,     -999.0,9,     -999.0,20130808,       2318
33RO20130803,       A16N,      25,          1,          8,          8,2,20130808,       2236,    52.9995,   -20.0001,       2678,   899.3,   5.6829,  35.0901,2,  35.0919,2,    234.9,2,   235.7,2,   10.90,2,   18.10,2,    0.00,2,    1.18,2,   3.085,2,   1.642,2,   1.042,2,  2181.1,2,  2315.4,2,  -999.0,9, -999.00,   7.6993,2,    25.00, -999.00,9,  -999.0,9,  -999.0, -999.00,9, -999.00,9,     15.113,2,-999.0000,9,-999.0000,9,-999.0000,9,-999.0000,9,-999.0000,9,-999.0000,9,-999.0000,9,-999.0000,9,-999.0000,9,     -999.0,5,  -999.0,9,     -999.0,     -999.0,9,     -999.0,20130808,       2314
33RO20130803,       A16N,      25,          1,          7,          7,2,20130808,       2236,    52.9995,   -20.0001,       2678,  1049.3,   4.7008,  34.9713,2,  34.9697,2,    256.3,2,   256.9,2,   10.30,2,   17.50,2,    0.00,2,    1.15,2,   3.603,2,   1.925,2,   1.618,2,  2173.4,2,  2307.0,2,   804.1,2,      20,   7.6968,2,    25.00, -999.00,9,  -999.0,9,  -999.0, -999.00,9, -999.00,9,     14.575,2,-999.0000,9,-999.0000,9,-999.0000,9,-999.0000,9,-999.0000,9,-999.0000,9,-999.0000,9,-999.0000,9,-999.0000,9,     -999.0,5,  -999.0,9,     -999.0,     -999.0,9,     -999.0,20130808,       2311
33RO20130803,       A16N,      25,          1,          6,          6,2,20130808,       2236,    52.9995,   -20.0001,       2678,  1198.1,   4.3139,  34.9429,2,  34.9436,2,    263.8,2,   265.2,2,   10.40,2,   17.30,2,    0.00,2,    1.14,2,   3.724,2,   1.976,2,   1.397,2,  2172.5,2,  2304.9,2,  -999.0,9, -999.00,   7.6975,2,    25.00, -999.00,9,  -999.0,9,  -999.0, -999.00,9, -999.00,9,     14.220,2,-999.0000,9,-999.0000,9,-999.0000,9,-999.0000,9,-999.0000,9,-999.0000,9,-999.0000,9,-999.0000,9,-999.0000,9,     -999.0,5,  -999.0,9,     -999.0,     -999.0,9,     -999.0,20130808,       2307
33RO20130803,       A16N,      25,          1,          5,          5,2,20130808,       2236,    52.9995,   -20.0001,       2678,  1398.9,   3.9774,  34.9197,2,  34.9196,2,    272.0,2,   271.1,2,   10.60,2,   17.10,2,    0.00,2,    1.13,2,   3.768,2,   1.973,2,   1.331,2,  2169.5,2,  2302.7,2,   790.8,2,      20,   7.7021,2,    25.00, -999.00,9,  -999.0,9,  -999.0, -999.00,9, -999.00,9,     14.070,2,-999.0000,9,-999.0000,9,-999.0000,9,-999.0000,9,-999.0000,9,-999.0000,9,-999.0000,9,-999.0000,9,-999.0000,9,     -999.0,5,  -999.0,9,     -999.0,     -999.0,9,     -999.0,20130808,       2302
33RO20130803,       A16N,      25,          1,          4,          4,2,20130808,       2236,    52.9995,   -20.0001,       2678,  1598.4,   3.8101,  34.9184,2,  34.9173,2,    271.6,2,   271.2,2,   11.10,6,   17.10,6,    0.00,6,    1.13,6,   3.533,6,   1.820,6,   1.034,6,  2168.5,2,  2303.6,6,  -999.0,9, -999.00,   7.7065,2,    25.00, -999.00,9,  -999.0,9,  -999.0, -999.00,9, -999.00,9,     13.844,6,-999.0000,9,-999.0000,9,-999.0000,9,-999.0000,9,-999.0000,9,-999.0000,9,-999.0000,9,-999.0000,9,-999.0000,9,     -999.0,5,  -999.0,9,     -999.0,     -999.0,9,     -999.0,20130808,       2258
33RO20130803,       A16N,      25,          1,          3,          3,2,20130808,       2236,    52.9995,   -20.0001,       2678,  1947.5,   3.5243,  34.9243,2,  34.9281,2,    271.1,2,   270.6,2,   12.80,6,   17.20,6,    0.00,6,    1.14,6,   2.927,2,   1.465,2,   0.686,2,  2166.8,2,  2305.4,2,   771.3,2,      20,   7.7120,6,    25.00, -999.00,9,  -999.0,9,  -999.0, -999.00,9, -999.00,9,     13.570,2,-999.0000,9,-999.0000,9,-999.0000,9,-999.0000,9,-999.0000,9,-999.0000,9,-999.0000,9,-999.0000,9,-999.0000,9,     -999.0,5,  -999.0,9,     -999.0,     -999.0,9,     -999.0,20130808,       2251
33RO20130803,       A16N,      25,          1,          2,          2,2,20130808,       2236,    52.9995,   -20.0001,       2678,  2348.5,   3.1937,  34.9289,2,  34.9288,2,    271.4,2,   270.7,2,   15.30,6,   17.10,6,    0.00,6,    1.14,6,   2.490,2,   1.238,2,   0.571,2,  2168.3,2,  2309.3,2,   763.0,2,      20,   7.7180,2,    25.00, -999.00,9,  -999.0,9,  -999.0, -999.00,9, -999.00,9,     13.595,2,-999.0000,9,-999.0000,9,-999.0000,9,-999.0000,9,-999.0000,9,-999.0000,9,-999.0000,9,-999.0000,9,-999.0000,9,     -999.0,5,  -999.0,9,     -999.0,     -999.0,9,     -999.0,20130808,       2243
33RO20130803,       A16N,      25,          1,          1,          1,2,20130808,       2236,    52.9995,   -20.0001,       2678,  2699.5,   2.8802,  34.9350,2,  34.9363,2,    257.3,2,     257,2,   27.10,6,   18.80,6,    0.01,6,    1.26,6,   1.450,2,   0.719,2,   0.327,3,  2186.1,6,  2326.0,2,   767.9,2,      20,   7.7297,2,    25.00, -999.00,9,  -999.0,9,  -999.0, -999.00,9, -999.00,9,     13.599,2,-999.0000,9,-999.0000,9,-999.0000,9,-999.0000,9,-999.0000,9,-999.0000,9,-999.0000,9,-999.0000,9,-999.0000,9,     -999.0,5,  -999.0,9,     -999.0,     -999.0,9,     -999.0,20130808,       2236