BOTTLE,20220815CCHSIOAMB
EXPOCODE,SECT_ID,STNNBR,CASTNO,SAMPNO,BTLNBR,BTLNBR_FLAG_W,DATE,TIME,LATITUDE,LONGITUDE,DEPTH,CTDPRS,CTDTMP,CTDSAL,CTDSAL_FLAG_W,SALNTY,SALNTY_FLAG_W,CTDOXY,CTDOXY_FLAG_W,OXYGEN,OXYGEN_FLAG_W,SILCAT,SILCAT_FLAG_W,NITRAT,NITRAT_FLAG_W,NITRIT,NITRIT_FLAG_W,PHSPHT,PHSPHT_FLAG_W,CFC-11,CFC-11_FLAG_W,CFC-12,CFC-12_FLAG_W,SF6,SF6_FLAG_W,TCARBN,TCARBN_FLAG_W,ALKALI,ALKALI_FLAG_W,PCO2,PCO2_FLAG_W,PCO2TMP,PH_SWS,PH_SWS_FLAG_W,PH_TMP,DELC13,DELC13_FLAG_W,DELC14,DELC14_FLAG_W,C14ERR,DOC,DOC_FLAG_W,TDN,TDN_FLAG_W,N2O,N2O_FLAG_W,CDOM325,CDOM325_FLAG_W,CDOM340,CDOM340_FLAG_W,CDOM380,CDOM380_FLAG_W,CDOM412,CDOM412_FLAG_W,CDOM443,CDOM443_FLAG_W,CDOM490,CDOM490_FLAG_W,CDOM555,CDOM555_FLAG_W,CDOMSL,CDOMSL_FLAG_W,CDOMSN,CDOMSN_FLAG_W,CCL4,CCL4_FLAG_W,14C-DOC,14C-DOC_FLAG_W,14C-DOCERR,13C-DOC,13C-DOC_FLAG_W,13C-DOCERR,BTL_DATE,BTL_TIME
,,,,,,,,,,,METERS,DBAR,ITS-90,PSS-78,,PSS-78,,UMOL/KG,,UMOL/KG,,UMOL/KG,,UMOL/KG,,UMOL/KG,,UMOL/KG,,PMOL/KG,,PMOL/KG,,FMOL/KG,,UMOL/KG,,UMOL/KG,,UATM,,DEG C,,,DEG C,/MILLE,,/MILLE,,/MILLE,UMOL/KG,,UMOL/KG,,NMOL/KG,,1/M,,1/M,,1/M,,1/M,,1/M,,1/M,,1/M,,1/NM,,1/NM,,PMOL/KG,,/MILLE,,/MILLE,/MILLE,,/MILLE,,
33RO20130803,       A16N,     128,          1,         24,         24,2,20130927,       0401,     0.6666,   -25.0002,       4445,     3.4,  26.2430,  35.8552,2,  35.8535,2,    202.5,2,   201.7,2,    1.10,2,    0.10,2,    0.00,2,    0.04,2,-999.000,9,-999.000,9,-999.000,9,  2029.3,2,  2349.1,2,  -999.0,9, -999.00,   8.0552,2,    25.00, -999.00,9,  -999.0,9,  -999.0,   69.09,2,    4.21,2,     -999.0,9,-999.0000,9,-999.0000,9,-999.0000,9,-999.0000,9,-999.0000,9,-999.0000,9,-999.0000,9,-999.0000,9,-999.0000,9,     -999.0,9,  -999.0,9,     -999.0,     -999.0,9,     -999.0,20130927,       0547
33RO20130803,       A16N,     128,          1,         23,         23,2,20130927,       0401,     0.6666,   -25.0002,       4445,    23.4,  26.2482,  35.8537,2,  35.8549,2,    203.1,2,   202.4,2,    1.10,2,    0.10,2,    0.00,2,    0.05,2,   1.621,2,   1.024,2,   1.233,2,  2029.2,2,  2352.8,3,  -999.0,9, -999.00,   8.0554,2,    25.00, -999.00,9,  -999.0,9,  -999.0,   71.24,2,    4.63,2,      6.746,2,-999.0000,9,-999.0000,9,-999.0000,9,-999.0000,9,-999.0000,9,-999.0000,9,-999.0000,9,-999.0000,9,-999.0000,9,     -999.0,5,  -999.0,9,     -999.0,     -999.0,9,     -999.0,20130927,       0545
33RO20130803,       A16N,     128,          1,         22,         22,2,20130927,       0401,     0.6666,   -25.0002,       4445,    47.9,  26.2453,  35.8494,2,  35.8454,2,    203.7,2,   201.6,2,    1.10,2,    0.10,2,    0.00,2,    0.05,2,-999.000,9,-999.000,9,-999.000,9,  -999.0,9,  -999.0,9,  -999.0,9, -999.00,-999.0000,9,  -999.00, -999.00,9,  -999.0,9,  -999.0,   69.32,2,     3.5,2,     -999.0,9,-999.0000,9,-999.0000,9,-999.0000,9,-999.0000,9,-999.0000,9,-999.0000,9,-999.0000,9,-999.0000,9,-999.0000,9,     -999.0,9,  -999.0,9,     -999.0,     -999.0,9,     -999.0,20130927,       0543
33RO20130803,       A16N,     128,          1,         21,         21,2,20130927,       0401,     0.6666,   -25.0002,       4445,    73.2,  23.7464,  35.8851,2,  35.8780,2,    169.6,2,   161.9,2,    2.20,2,    3.50,2,    0.16,2,    0.31,2,-999.000,9,-999.000,9,-999.000,9,  2091.8,2,  2352.0,2,  -999.0,9, -999.00,   7.9496,2,    25.00, -999.00,9,  -999.0,9,  -999.0,   63.98,2,    6.87,2,     -999.0,9,-999.0000,9,-999.0000,9,-999.0000,9,-999.0000,9,-999.0000,9,-999.0000,9,-999.0000,9,-999.0000,9,-999.0000,9,     -999.0,9,  -999.0,9,     -999.0,     -999.0,9,     -999.0,20130927,       0540
33RO20130803,       A16N,     128,          1,         20,         20,2,20130927,       0401,     0.6666,   -25.0002,       4445,    98.1,  19.7415,  35.8203,2,  35.8199,2,    124.1,2,   124.5,2,    3.90,2,   11.90,2,    0.06,2,    0.84,2,-999.000,9,-999.000,9,-999.000,9,  2150.2,2,  2347.8,2,  -999.0,9, -999.00,   7.8268,2,    25.00, -999.00,9,  -999.0,9,  -999.0,   56.93,2,   14.75,2,     -999.0,9,-999.0000,9,-999.0000,9,-999.0000,9,-999.0000,9,-999.0000,9,-999.0000,9,-999.0000,9,-999.0000,9,-999.0000,9,     -999.0,9,  -999.0,9,     -999.0,     -999.0,9,     -999.0,20130927,       0538
33RO20130803,       A16N,     128,          1,         19,         19,2,20130927,       0401,     0.6666,   -25.0002,       4445,   123.3,  16.7094,  35.7306,2,  35.7271,2,    125.4,2,   126.9,2,    5.50,2,   15.90,2,    0.04,2,    1.09,2,-999.000,9,-999.000,9,-999.000,9,  2168.7,2,  2347.5,2,  -999.0,9, -999.00,   7.7772,2,    25.00, -999.00,9,  -999.0,9,  -999.0,   49.51,2,   18.51,2,     -999.0,9,-999.0000,9,-999.0000,9,-999.0000,9,-999.0000,9,-999.0000,9,-999.0000,9,-999.0000,9,-999.0000,9,-999.0000,9,     -999.0,9,  -999.0,9,     -999.0,     -999.0,9,     -999.0,20130927,       0537
33RO20130803,       A16N,     128,          1,         18,         18,2,20130927,       0401,     0.6666,   -25.0002,       4445,   172.3,  13.9406,  35.4184,2,  35.4187,2,    160.8,2,   158.8,2,    6.40,2,   15.50,2,    0.01,2,    1.10,2,-999.000,9,-999.000,9,-999.000,9,  -999.0,9,  -999.0,9,  -999.0,9, -999.00,-999.0000,9,  -999.00, -999.00,9,  -999.0,9,  -999.0,   48.33,2,   18.18,2,     -999.0,9,-999.0000,9,-999.0000,9,-999.0000,9,-999.0000,9,-999.0000,9,-999.0000,9,-999.0000,9,-999.0000,9,-999.0000,9,     -999.0,9,  -999.0,9,     -999.0,     -999.0,9,     -999.0,20130927,       0534
33RO20130803,       A16N,     128,          1,         17,         17,2,20130927,       0401,     0.6666,   -25.0002,       4445,   248.0,  12.3446,  35.1892,2,  35.1887,2,    135.5,2,   132.9,2,    8.60,2,   21.10,2,    0.00,2,    1.42,2,   2.221,2,   1.229,2,   0.725,2,  2179.7,2,  2322.2,2,  -999.0,9, -999.00,   7.6951,2,    25.00, -999.00,9,  -999.0,9,  -999.0,   47.15,2,   23.77,2,     24.443,2,-999.0000,9,-999.0000,9,-999.0000,9,-999.0000,9,-999.0000,9,-999.0000,9,-999.0000,9,-999.0000,9,-999.0000,9,     -999.0,5,  -999.0,9,     -999.0,     -999.0,9,     -999.0,20130927,       0532
33RO20130803,       A16N,     128,          1,         16,         16,2,20130927,       0401,     0.6666,   -25.0002,       4445,   318.9,  10.0141,  34.9238,2,  34.9196,2,    106.4,2,   109.8,2,   13.10,2,   28.10,2,    0.01,2,    1.83,2,-999.000,9,-999.000,9,-999.000,9,  2209.4,6,  2305.1,2,  -999.0,9, -999.00,   7.5908,2,    25.00, -999.00,9,  -999.0,9,  -999.0,   47.21,2,   30.79,2,     -999.0,9,-999.0000,9,-999.0000,9,-999.0000,9,-999.0000,9,-999.0000,9,-999.0000,9,-999.0000,9,-999.0000,9,-999.0000,9,     -999.0,9,  -999.0,9,     -999.0,     -999.0,9,     -999.0,20130927,       0529
33RO20130803,       A16N,     128,          1,         15,         15,2,20130927,       0401,     0.6666,   -25.0002,       4445,   398.2,   8.9317,  34.8018,2,  34.7996,2,    106.5,2,   109.4,2,   15.50,2,   30.70,2,    0.00,2,    1.99,2,   1.487,6,   0.773,6,   0.312,6,  2214.5,2,  2304.0,2,  -999.0,9, -999.00,   7.5577,2,    25.00, -999.00,9,  -999.0,9,  -999.0,   44.64,2,    33.2,2,     31.569,6,-999.0000,9,-999.0000,9,-999.0000,9,-999.0000,9,-999.0000,9,-999.0000,9,-999.0000,9,-999.0000,9,-999.0000,9,     -999.0,5,  -999.0,9,     -999.0,     -999.0,9,     -999.0,20130927,       0527
33RO20130803,       A16N,     128,          1,         14,         14,2,20130927,       0401,     0.6666,   -25.0002,       4445,   497.5,   7.9503,  34.6965,2,  34.6946,2,    119.1,2,   119.4,2,   17.70,2,   31.60,2,    0.01,2,    2.07,2,-999.000,9,-999.000,9,-999.000,9,  -999.0,9,  -999.0,9,  -999.0,9, -999.00,-999.0000,9,  -999.00, -999.00,9,  -999.0,9,  -999.0,   44.03,2,   34.13,2,     -999.0,9,-999.0000,9,-999.0000,9,-999.0000,9,-999.0000,9,-999.0000,9,-999.0000,9,-999.0000,9,-999.0000,9,-999.0000,9,     -999.0,9,  -999.0,9,     -999.0,     -999.0,9,     -999.0,20130927,       0523
33RO20130803,       A16N,     128,          1,         13,         13,2,20130927,       0401,     0.6666,   -25.0002,       4445,   647.0,   5.6068,  34.5078,2,  34.5097,2,    145.0,2,   145.1,2,   25.70,2,   33.60,2,    0.00,2,    2.27,2,   0.778,2,   0.391,2,   0.128,2,  2218.7,2,  2296.6,6,  -999.0,9, -999.00,   7.5143,4,    25.00, -999.00,9,  -999.0,9,  -999.0,      43,2,   35.99,2,     24.416,2,-999.0000,9,-999.0000,9,-999.0000,9,-999.0000,9,-999.0000,9,-999.0000,9,-999.0000,9,-999.0000,9,-999.0000,9,     -999.0,5,  -999.0,9,     -999.0,     -999.0,9,     -999.0,20130927,       0519
33RO20130803,       A16N,     128,          1,         12,         12,2,20130927,       0401,     0.6666,   -25.0002,       4445,   797.7,   5.1015,  34.5155,2,  34.5151,2,    148.7,2,   148.2,2,   28.90,2,   34.00,2,    0.00,2,    2.31,2,-999.000,9,-999.000,9,-999.000,9,  -999.0,9,  -999.0,9,  -999.0,9, -999.00,-999.0000,9,  -999.00, -999.00,9,  -999.0,9,  -999.0,   42.62,2,   36.48,2,     -999.0,9,-999.0000,9,-999.0000,9,-999.0000,9,-999.0000,9,-999.0000,9,-999.0000,9,-999.0000,9,-999.0000,9,-999.0000,9,     -999.0,9,  -999.0,9,     -999.0,     -999.0,9,     -999.0,20130927,       0516
33RO20130803,       A16N,     128,          1,         11,         11,2,20130927,       0401,     0.6666,   -25.0002,       4445,   947.8,   4.6658,  34.5562,2,  34.5685,2,    152.4,2,   152.9,2,   31.20,2,   33.60,2,    0.00,2,    2.30,2,   0.182,2,   0.096,2,   0.000,2,  2221.8,2,  2306.7,2,  -999.0,9, -999.00,   7.5584,2,    25.00, -999.00,9,  -999.0,9,  -999.0,   42.37,2,    36.2,2,     23.327,2,-999.0000,9,-999.0000,9,-999.0000,9,-999.0000,9,-999.0000,9,-999.0000,9,-999.0000,9,-999.0000,9,-999.0000,9,     -999.0,5,  -999.0,9,     -999.0,     -999.0,9,     -999.0,20130927,       0512
33RO20130803,       A16N,     128,          1,         10,         10,2,20130927,       0401,     0.6666,   -25.0002,       4445,  1222.0,   4.5770,  34.8312,2,  34.8342,2,    182.1,2,   183.9,2,   24.70,2,   27.50,2,    0.00,2,    1.86,2,   0.122,2,   0.065,2,   0.000,2,  2204.1,2,  2316.2,2,  -999.0,9, -999.00,   7.6506,4,    25.00, -999.00,9,  -999.0,9,  -999.0,   41.32,2,   30.06,2,     19.161,2,-999.0000,9,-999.0000,9,-999.0000,9,-999.0000,9,-999.0000,9,-999.0000,9,-999.0000,9,-999.0000,9,-999.0000,9,     -999.0,5,  -999.0,9,     -999.0,     -999.0,9,     -999.0,20130927,       0506
33RO20130803,       A16N,     128,          1,          9,          9,2,20130927,       0401,     0.6666,   -25.0002,       4445,  1596.8,   4.2347,  34.9684,2,  34.9690,2,    231.0,2,   230.6,2,   18.20,2,   21.20,2,    0.00,2,    1.42,2,   0.413,2,   0.212,2,   0.084,2,  2177.7,2,  2315.0,2,  -999.0,9, -999.00,   7.7044,2,    25.00, -999.00,9,  -999.0,9,  -999.0,   40.85,2,   23.85,2,     14.853,2,-999.0000,9,-999.0000,9,-999.0000,9,-999.0000,9,-999.0000,9,-999.0000,9,-999.0000,9,-999.0000,9,-999.0000,9,     -999.0,5,  -999.0,9,     -999.0,     -999.0,9,     -999.0,20130927,       0459
33RO20130803,       A16N,     128,          1,          8,          8,2,20130927,       0401,     0.6666,   -25.0002,       4445,  1997.7,   3.6018,  34.9677,2,  34.9686,2,    252.3,2,   251.8,2,   19.10,2,   19.30,2,    0.00,2,    1.29,2,-999.000,9,-999.000,9,-999.000,9,  -999.0,9,  -999.0,9,  -999.0,9, -999.00,-999.0000,9,  -999.00, -999.00,9,  -999.0,9,  -999.0,   40.24,2,   21.84,2,     -999.0,9,-999.0000,9,-999.0000,9,-999.0000,9,-999.0000,9,-999.0000,9,-999.0000,9,-999.0000,9,-999.0000,9,-999.0000,9,     -999.0,9,  -999.0,9,     -999.0,     -999.0,9,     -999.0,20130927,       0451
33RO20130803,       A16N,     128,          1,          7,          7,2,20130927,       0401,     0.6666,   -25.0002,       4445,  1997.6,   3.6017,  34.9676,2,  34.9688,2,    252.3,2,   251.8,2,   19.00,2,   19.30,2,    0.00,2,    1.29,2,   0.505,2,   0.253,2,   0.083,2,  2169.5,2,  2319.9,2,  -999.0,9, -999.00,   7.7270,2,    25.00, -999.00,9,  -999.0,9,  -999.0,   40.59,2,   21.69,2,     13.431,2,-999.0000,9,-999.0000,9,-999.0000,9,-999.0000,9,-999.0000,9,-999.0000,9,-999.0000,9,-999.0000,9,-999.0000,9,     -999.0,5,  -999.0,9,     -999.0,     -999.0,9,     -999.0,20130927,       0450
33RO20130803,       A16N,     128,          1,          6,          6,2,20130927,       0401,     0.6666,   -25.0002,       4445,  2397.9,   3.1049,  34.9409,2,  34.9422,2,    246.8,2,   247.6,2,   27.90,2,   20.40,2,    0.00,2,    1.37,2,   0.143,2,   0.077,2,   0.000,2,  2177.3,2,  2322.6,2,  -999.0,9, -999.00,   7.7239,6,    25.00, -999.00,9,  -999.0,9,  -999.0,   40.84,2,   22.91,2,     13.442,2,-999.0000,9,-999.0000,9,-999.0000,9,-999.0000,9,-999.0000,9,-999.0000,9,-999.0000,9,-999.0000,9,-999.0000,9,     -999.0,5,  -999.0,9,     -999.0,     -999.0,9,     -999.0,20130927,       0442
33RO20130803,       A16N,     128,          1,          5,          5,2,20130927,       0401,     0.6666,   -25.0002,       4445,  2797.9,   2.8053,  34.9204,2,  34.9200,2,    245.9,2,   245.8,2,   34.50,6,   21.10,6,    0.00,6,    1.43,6,-999.000,9,-999.000,9,-999.000,9,  -999.0,9,  -999.0,9,  -999.0,9, -999.00,-999.0000,9,  -999.00, -999.00,9,  -999.0,9,  -999.0,   40.85,2,   23.54,2,     -999.0,9,-999.0000,9,-999.0000,9,-999.0000,9,-999.0000,9,-999.0000,9,-999.0000,9,-999.0000,9,-999.0000,9,-999.0000,9,     -999.0,9,  -999.0,9,     -999.0,     -999.0,9,     -999.0,20130927,       0434
33RO20130803,       A16N,     128,          1,          4,          4,2,20130927,       0401,     0.6666,   -25.0002,       4445,  3197.1,   2.5618,  34.9057,2,  34.9072,2,    246.7,2,   247.4,2,   37.90,6,   21.10,6,    0.00,6,    1.44,6,-999.000,5,-999.000,5,-999.000,5,  2187.3,2,  2333.2,2,  -999.0,9, -999.00,   7.7213,2,    25.00, -999.00,9,  -999.0,9,  -999.0,   41.23,2,   23.77,2,     -999.0,5,-999.0000,9,-999.0000,9,-999.0000,9,-999.0000,9,-999.0000,9,-999.0000,9,-999.0000,9,-999.0000,9,-999.0000,9,     -999.0,5,  -999.0,9,     -999.0,     -999.0,9,     -999.0,20130927,       0426
33RO20130803,       A16N,     128,          1,          3,          3,2,20130927,       0401,     0.6666,   -25.0002,       4445,  3647.2,   2.4072,  34.8934,2,  34.8932,2,    249.3,2,   249.3,2,   40.50,6,   21.20,6,    0.00,6,    1.44,6,-999.000,9,-999.000,9,-999.000,9,  -999.0,9,  -999.0,9,  -999.0,9, -999.00,-999.0000,9,  -999.00, -999.00,9,  -999.0,9,  -999.0,   41.17,2,   23.77,2,     -999.0,9,-999.0000,9,-999.0000,9,-999.0000,9,-999.0000,9,-999.0000,9,-999.0000,9,-999.0000,9,-999.0000,9,-999.0000,9,     -999.0,9,  -999.0,9,     -999.0,     -999.0,9,     -999.0,20130927,       0418
33RO20130803,       A16N,     128,          1,          2,          2,2,20130927,       0401,     0.6666,   -25.0002,       4445,  4111.4,   2.3726,  34.8868,2,  34.8861,2,    248.9,2,   248.4,2,   42.60,6,   21.40,6,    0.00,6,    1.45,6,-999.000,9,-999.000,9,-999.000,9,  -999.0,9,  -999.0,9,  -999.0,9, -999.00,-999.0000,9,  -999.00, -999.00,9,  -999.0,9,  -999.0,   40.98,2,   23.96,2,     -999.0,9,-999.0000,9,-999.0000,9,-999.0000,9,-999.0000,9,-999.0000,9,-999.0000,9,-999.0000,9,-999.0000,9,-999.0000,9,     -999.0,9,  -999.0,9,     -999.0,     -999.0,9,     -999.0,20130927,       0409
33RO20130803,       A16N,     128,          1,          1,          1,2,20130927,       0401,     0.6666,   -25.0002,       4445,  4486.8,   2.4127,  34.8860,2,  34.8861,2,    248.4,2,   248.6,2,   43.30,6,   21.50,6,    0.00,6,    1.46,6,   0.140,2,   0.075,2,   0.000,2,  2193.7,2,  2340.4,2,  -999.0,9, -999.00,   7.7161,2,    25.00, -999.00,9,  -999.0,9,  -999.0,   40.89,2,   23.96,2,     13.737,2,-999.0000,9,-999.0000,9,-999.0000,9,-999.0000,9,-999.0000,9,-999.0000,9,-999.0000,9,-999.0000,9,-999.0000,9,     -999.0,5,  -999.0,9,     -999.0,     -999.0,9,     -999.0,20130927,       0401