BOTTLE,20220815CCHSIOAMB
EXPOCODE,SECT_ID,STNNBR,CASTNO,SAMPNO,BTLNBR,BTLNBR_FLAG_W,DATE,TIME,LATITUDE,LONGITUDE,DEPTH,CTDPRS,CTDTMP,CTDSAL,CTDSAL_FLAG_W,SALNTY,SALNTY_FLAG_W,CTDOXY,CTDOXY_FLAG_W,OXYGEN,OXYGEN_FLAG_W,SILCAT,SILCAT_FLAG_W,NITRAT,NITRAT_FLAG_W,NITRIT,NITRIT_FLAG_W,PHSPHT,PHSPHT_FLAG_W,CFC-11,CFC-11_FLAG_W,CFC-12,CFC-12_FLAG_W,SF6,SF6_FLAG_W,TCARBN,TCARBN_FLAG_W,ALKALI,ALKALI_FLAG_W,PCO2,PCO2_FLAG_W,PCO2TMP,PH_SWS,PH_SWS_FLAG_W,PH_TMP,DELC13,DELC13_FLAG_W,DELC14,DELC14_FLAG_W,C14ERR,DOC,DOC_FLAG_W,TDN,TDN_FLAG_W,N2O,N2O_FLAG_W,CDOM325,CDOM325_FLAG_W,CDOM340,CDOM340_FLAG_W,CDOM380,CDOM380_FLAG_W,CDOM412,CDOM412_FLAG_W,CDOM443,CDOM443_FLAG_W,CDOM490,CDOM490_FLAG_W,CDOM555,CDOM555_FLAG_W,CDOMSL,CDOMSL_FLAG_W,CDOMSN,CDOMSN_FLAG_W,CCL4,CCL4_FLAG_W,14C-DOC,14C-DOC_FLAG_W,14C-DOCERR,13C-DOC,13C-DOC_FLAG_W,13C-DOCERR,BTL_DATE,BTL_TIME
,,,,,,,,,,,METERS,DBAR,ITS-90,PSS-78,,PSS-78,,UMOL/KG,,UMOL/KG,,UMOL/KG,,UMOL/KG,,UMOL/KG,,UMOL/KG,,PMOL/KG,,PMOL/KG,,FMOL/KG,,UMOL/KG,,UMOL/KG,,UATM,,DEG C,,,DEG C,/MILLE,,/MILLE,,/MILLE,UMOL/KG,,UMOL/KG,,NMOL/KG,,1/M,,1/M,,1/M,,1/M,,1/M,,1/M,,1/M,,1/NM,,1/NM,,PMOL/KG,,/MILLE,,/MILLE,/MILLE,,/MILLE,,
33RO20130803,       A16N,      56,          1,         24,         24,2,20130817,       1555,    37.5040,   -20.0012,       4842,     2.5,  22.7430,  36.4962,2,  36.4972,2,    218.4,2,   220.7,2,    0.30,2,    0.00,2,    0.00,2,    0.02,2,   2.020,2,   1.242,2,   1.464,2,  2105.8,6,  2393.3,2,   377.9,2,      20,   7.9891,2,    25.00,    1.11,2,    65.8,2,     0.3,   62.47,2,    3.86,2,      7.147,2,-999.0000,9,-999.0000,9,-999.0000,9,-999.0000,9,-999.0000,9,-999.0000,9,-999.0000,9,-999.0000,9,-999.0000,9,     -999.0,5,  -999.0,9,     -999.0,     -999.0,9,     -999.0,20130817,       1746
33RO20130803,       A16N,      56,          1,         23,         23,2,20130817,       1555,    37.5040,   -20.0012,       4842,    31.2,  21.6102,  36.4967,2,  36.4847,2,    220.5,2,   224.2,2,    0.30,2,    0.00,2,    0.00,2,    0.02,2,   2.053,2,   1.258,2,   1.439,2,  2101.6,2,  2393.7,2,  -999.0,9, -999.00,   7.9904,6,    25.00,    1.08,2,    63.1,2,     0.3,    65.8,2,    4.05,2,      7.206,2,-999.0000,9,-999.0000,9,-999.0000,9,-999.0000,9,-999.0000,9,-999.0000,9,-999.0000,9,-999.0000,9,-999.0000,9,     -999.0,5,  -999.0,9,     -999.0,     -999.0,9,     -999.0,20130817,       1744
33RO20130803,       A16N,      56,          1,         22,         22,2,20130817,       1555,    37.5040,   -20.0012,       4842,    61.6,  18.1217,  36.2328,2,  36.2419,2,    246.0,2,   246.4,2,    0.30,2,    0.00,2,    0.00,2,    0.02,2,   2.442,2,   1.467,2,   1.686,2,  2098.7,2,  2380.0,6,   389.8,2,      20,   7.9730,2,    25.00,    1.14,2,    61.3,2,     0.3,   59.34,2,    3.64,2,      8.168,2,-999.0000,9,-999.0000,9,-999.0000,9,-999.0000,9,-999.0000,9,-999.0000,9,-999.0000,9,-999.0000,9,-999.0000,9,     -999.0,5,  -999.0,9,     -999.0,     -999.0,9,     -999.0,20130817,       1742
33RO20130803,       A16N,      56,          1,         21,         21,2,20130817,       1555,    37.5040,   -20.0012,       4842,    86.4,  16.8822,  36.2082,2,  36.2120,2,    247.4,2,   244.2,2,    0.40,2,    0.00,2,    0.00,2,    0.03,2,-999.000,9,-999.000,9,-999.000,9,  2104.6,2,  2378.7,2,  -999.0,9, -999.00,   7.9622,2,    25.00,    1.04,2,    66.7,2,     0.4,   59.72,2,    4.03,2,     -999.0,9,-999.0000,9,-999.0000,9,-999.0000,9,-999.0000,9,-999.0000,9,-999.0000,9,-999.0000,9,-999.0000,9,-999.0000,9,     -999.0,9,  -999.0,9,     -999.0,     -999.0,9,     -999.0,20130817,       1740
33RO20130803,       A16N,      56,          1,         20,         20,2,20130817,       1555,    37.5040,   -20.0012,       4842,   111.4,  15.8325,  36.1274,2,  36.1306,2,    238.1,2,   234.8,2,    0.80,2,    0.50,2,    0.08,2,    0.10,2,-999.000,9,-999.000,9,-999.000,9,  2117.7,2,  2375.3,2,   436.2,2,      20,   7.9341,2,    25.00,    0.91,2,    60.8,2,     0.2,   55.76,2,    4.09,2,     -999.0,9,-999.0000,9,-999.0000,9,-999.0000,9,-999.0000,9,-999.0000,9,-999.0000,9,-999.0000,9,-999.0000,9,-999.0000,9,     -999.0,9,  -999.0,9,     -999.0,     -999.0,9,     -999.0,20130817,       1738
33RO20130803,       A16N,      56,          1,         19,         19,2,20130817,       1555,    37.5040,   -20.0012,       4842,   172.6,  14.9272,  36.0617,2,  36.0536,2,    226.0,2,   224.6,2,    1.50,2,    4.10,2,    0.02,2,    0.28,2,   2.665,6,   1.571,6,   1.682,6,  -999.0,9,  -999.0,9,  -999.0,9, -999.00,-999.0000,9,  -999.00,    0.82,2,    57.2,2,     0.2,   54.13,2,    7.19,2,      9.512,6,-999.0000,9,-999.0000,9,-999.0000,9,-999.0000,9,-999.0000,9,-999.0000,9,-999.0000,9,-999.0000,9,-999.0000,9,     -999.0,5,  -999.0,9,     -999.0,     -999.0,9,     -999.0,20130817,       1736
33RO20130803,       A16N,      56,          1,         18,         18,2,20130817,       1555,    37.5040,   -20.0012,       4842,   260.4,  13.7604,  35.8929,2,  35.8880,2,    212.6,2,   210.9,2,    2.90,2,    8.50,2,    0.01,2,    0.53,2,-999.000,9,-999.000,9,-999.000,9,  2146.9,2,  2358.2,2,   540.3,2,      20,   7.8537,2,    25.00,    0.64,2,    53.0,2,     0.2,   49.91,2,   11.17,2,     -999.0,9,-999.0000,9,-999.0000,9,-999.0000,9,-999.0000,9,-999.0000,9,-999.0000,9,-999.0000,9,-999.0000,9,-999.0000,9,     -999.0,9,  -999.0,9,     -999.0,     -999.0,9,     -999.0,20130817,       1734
33RO20130803,       A16N,      56,          1,         17,         17,2,20130817,       1555,    37.5040,   -20.0012,       4842,   335.7,  12.8361,  35.7643,2,  35.7615,2,    210.9,2,   209.6,2,    3.70,2,   10.50,2,    0.00,2,    0.66,2,-999.000,9,-999.000,9,-999.000,9,  -999.0,9,  -999.0,9,  -999.0,9, -999.00,-999.0000,9,  -999.00,    0.67,2,    50.6,2,     0.2,   48.95,2,   12.76,2,     -999.0,9,-999.0000,9,-999.0000,9,-999.0000,9,-999.0000,9,-999.0000,9,-999.0000,9,-999.0000,9,-999.0000,9,-999.0000,9,     -999.0,9,  -999.0,9,     -999.0,     -999.0,9,     -999.0,20130817,       1731
33RO20130803,       A16N,      56,          1,         16,         16,2,20130817,       1555,    37.5040,   -20.0012,       4842,   448.7,  12.0336,  35.6626,2,  35.6623,2,    209.4,2,   207.8,2,    4.50,2,   12.10,2,    0.00,2,    0.76,2,   2.860,2,   1.617,2,   1.379,2,  2159.6,2,  2343.1,2,   615.3,2,      20,   7.8020,2,    25.00,    0.49,2,    49.6,2,     0.2,   47.46,2,   14.73,2,     12.877,2,-999.0000,9,-999.0000,9,-999.0000,9,-999.0000,9,-999.0000,9,-999.0000,9,-999.0000,9,-999.0000,9,-999.0000,9,     -999.0,5,  -999.0,9,     -999.0,     -999.0,9,     -999.0,20130817,       1728
33RO20130803,       A16N,      56,          1,         15,         15,2,20130817,       1555,    37.5040,   -20.0012,       4842,   548.9,  11.5016,  35.6088,2,  35.6086,2,    207.1,2,   202.4,2,    5.50,2,   13.80,2,    0.00,2,    0.85,2,-999.000,9,-999.000,9,-999.000,9,  -999.0,9,  -999.0,9,  -999.0,9, -999.00,-999.0000,9,  -999.00,    0.51,2,    53.3,2,     0.2,   46.05,2,   16.12,2,     -999.0,9,-999.0000,9,-999.0000,9,-999.0000,9,-999.0000,9,-999.0000,9,-999.0000,9,-999.0000,9,-999.0000,9,-999.0000,9,     -999.0,9,  -999.0,9,     -999.0,     -999.0,9,     -999.0,20130817,       1725
33RO20130803,       A16N,      56,          1,         14,         14,2,20130817,       1555,    37.5040,   -20.0012,       4842,   723.7,  10.8591,  35.6616,2,  35.6621,2,    181.5,2,   180.2,2,    8.30,2,   16.90,2,    0.00,2,    1.05,2,   2.185,2,   1.176,2,   0.751,2,  2184.4,2,  2348.5,2,   695.5,2,      20,   7.7564,2,    25.00,    0.56,2,    29.1,2,     0.2,   44.77,2,   19.52,2,     15.362,2,-999.0000,9,-999.0000,9,-999.0000,9,-999.0000,9,-999.0000,9,-999.0000,9,-999.0000,9,-999.0000,9,-999.0000,9,     -999.0,5,  -999.0,9,     -999.0,     -999.0,9,     -999.0,20130817,       1721
33RO20130803,       A16N,      56,          1,         13,         13,2,20130817,       1555,    37.5040,   -20.0012,       4842,   829.5,  10.6367,  35.7761,2,  35.7792,2,    178.1,2,   177.3,2,    9.20,2,   17.20,2,    0.00,2,    1.07,2,   1.923,2,   1.030,2,   0.602,2,  -999.0,9,  -999.0,9,  -999.0,9, -999.00,-999.0000,9,  -999.00,    0.56,2,    16.0,2,     0.2,   43.76,2,   19.72,2,     15.276,2,-999.0000,9,-999.0000,9,-999.0000,9,-999.0000,9,-999.0000,9,-999.0000,9,-999.0000,9,-999.0000,9,-999.0000,9,     -999.0,5,  -999.0,9,     -999.0,     -999.0,9,     -999.0,20130817,       1717
33RO20130803,       A16N,      56,          1,         12,         12,2,20130817,       1555,    37.5040,   -20.0012,       4842,  1013.0,  10.1152,  35.8892,2,  35.8891,2,    181.2,2,   181.7,2,   10.30,2,   17.00,2,    0.00,2,    1.08,2,   1.691,2,   0.901,2,   0.517,2,  2201.0,2,  2372.2,2,   689.8,2,      20,   7.7625,6,    25.00,    0.53,2,    -6.3,2,     0.2,   43.22,2,   19.52,2,     15.037,2,-999.0000,9,-999.0000,9,-999.0000,9,-999.0000,9,-999.0000,9,-999.0000,9,-999.0000,9,-999.0000,9,-999.0000,9,     -999.0,5,  -999.0,9,     -999.0,     -999.0,9,     -999.0,20130817,       1713
33RO20130803,       A16N,      56,          1,         11,         11,2,20130817,       1555,    37.5040,   -20.0012,       4842,  1173.1,   9.2034,  35.8318,2,  35.8339,2,    191.9,2,   192.6,2,   11.00,2,   17.30,2,    0.00,2,    1.08,2,   1.676,2,   0.881,2,   0.439,2,  2202.1,6,  2381.3,2,  -999.0,9, -999.00,   7.7588,2,    25.00,    0.67,2,     1.5,2,     0.2,   42.88,2,   19.81,2,     14.672,2,-999.0000,9,-999.0000,9,-999.0000,9,-999.0000,9,-999.0000,9,-999.0000,9,-999.0000,9,-999.0000,9,-999.0000,9,     -999.0,5,  -999.0,9,     -999.0,     -999.0,9,     -999.0,20130817,       1709
33RO20130803,       A16N,      56,          1,         10,         10,2,20130817,       1555,    37.5040,   -20.0012,       4842,  1398.5,   6.9228,  35.4629,2,  35.4609,2,    219.5,2,     220,2,   11.90,2,   17.70,2,    0.00,2,    1.14,2,-999.000,9,-999.000,9,-999.000,9,  2189.1,2,  2347.4,6,   727.9,2,      20,   7.7383,2,    25.00,    0.81,2,   -11.9,2,     0.2,   42.56,2,   19.95,2,     -999.0,9,-999.0000,9,-999.0000,9,-999.0000,9,-999.0000,9,-999.0000,9,-999.0000,9,-999.0000,9,-999.0000,9,-999.0000,9,     -999.0,9,  -999.0,9,     -999.0,     -999.0,9,     -999.0,20130817,       1704
33RO20130803,       A16N,      56,          1,          9,          9,2,20130817,       1555,    37.5040,   -20.0012,       4842,  1673.4,   4.7422,  35.1221,2,  35.1237,2,    248.4,2,   248.4,2,   12.90,2,   18.00,2,    0.00,2,    1.17,2,-999.000,9,-999.000,9,-999.000,9,  -999.0,9,  -999.0,9,  -999.0,9, -999.00,-999.0000,9,  -999.00,    0.89,2,   -24.0,2,     0.3,   41.57,2,   20.54,2,     -999.0,9,-999.0000,9,-999.0000,9,-999.0000,9,-999.0000,9,-999.0000,9,-999.0000,9,-999.0000,9,-999.0000,9,-999.0000,9,     -999.0,9,  -999.0,9,     -999.0,     -999.0,9,     -999.0,20130817,       1658
33RO20130803,       A16N,      56,          1,          8,          8,2,20130817,       1555,    37.5040,   -20.0012,       4842,  2099.4,   3.9760,  35.0536,2,  35.0542,2,    252.9,2,   236.6,4,   17.50,2,   18.50,2,    0.00,2,    1.22,2,   0.999,2,   0.497,2,   0.143,2,  2172.7,2,  2327.0,2,  -999.0,9, -999.00,   7.7280,2,    25.00,    0.93,2,   -48.2,2,     0.2,   42.01,2,   21.01,2,     13.298,2,-999.0000,9,-999.0000,9,-999.0000,9,-999.0000,9,-999.0000,9,-999.0000,9,-999.0000,9,-999.0000,9,-999.0000,9,     -999.0,5,  -999.0,9,     -999.0,     -999.0,9,     -999.0,20130817,       1650
33RO20130803,       A16N,      56,          1,          7,          7,2,20130817,       1555,    37.5040,   -20.0012,       4842,  2499.1,   3.3160,  34.9865,2,  34.9865,2,    252.7,2,   252.2,2,   23.60,2,   19.30,2,    0.00,2,    1.29,2,-999.000,9,-999.000,9,-999.000,9,  2176.6,2,  2331.2,2,  -999.0,9, -999.00,   7.7287,2,    25.00,    0.94,2,   -70.8,2,     0.2,   41.14,2,   21.56,2,     -999.0,9,-999.0000,9,-999.0000,9,-999.0000,9,-999.0000,9,-999.0000,9,-999.0000,9,-999.0000,9,-999.0000,9,-999.0000,9,     -999.0,9,  -999.0,9,     -999.0,     -999.0,9,     -999.0,20130817,       1642
33RO20130803,       A16N,      56,          1,          6,          6,2,20130817,       1555,    37.5040,   -20.0012,       4842,  2899.8,   2.9042,  34.9497,2,  34.9499,2,    251.4,2,   250.5,2,   30.10,2,   19.80,2,    0.00,2,    1.34,2,   0.341,2,   0.170,2,   0.043,2,  -999.0,9,  -999.0,9,  -999.0,9, -999.00,-999.0000,9,  -999.00,    0.97,2,   -82.6,2,     0.2,   40.94,2,   22.48,2,     13.357,2,-999.0000,9,-999.0000,9,-999.0000,9,-999.0000,9,-999.0000,9,-999.0000,9,-999.0000,9,-999.0000,9,-999.0000,9,     -999.0,5,  -999.0,9,     -999.0,     -999.0,9,     -999.0,20130817,       1634
33RO20130803,       A16N,      56,          1,          5,          5,2,20130817,       1555,    37.5040,   -20.0012,       4842,  3285.8,   2.6922,  34.9305,2,  34.9303,2,    246.2,2,   246.5,2,   35.80,2,   20.60,2,    0.00,2,    1.40,2,-999.000,9,-999.000,9,-999.000,9,  2192.7,2,  2345.7,2,   751.8,6,      20,   7.7252,2,    25.00,    0.93,2,   -98.2,2,     0.2,    40.8,2,   23.17,2,     -999.0,9,-999.0000,9,-999.0000,9,-999.0000,9,-999.0000,9,-999.0000,9,-999.0000,9,-999.0000,9,-999.0000,9,-999.0000,9,     -999.0,9,  -999.0,9,     -999.0,     -999.0,9,     -999.0,20130817,       1626
33RO20130803,       A16N,      56,          1,          4,          4,2,20130817,       1555,    37.5040,   -20.0012,       4842,  3698.7,   2.5890,  34.9181,2,  34.9177,2,    242.9,2,   243.4,2,   40.50,6,   21.50,6,    0.00,6,    1.45,6,   0.150,2,   0.076,2,   0.051,2,  -999.0,9,  -999.0,9,  -999.0,9, -999.00,-999.0000,9,  -999.00,    0.94,2,  -104.5,2,     0.2,    40.7,2,   24.08,2,     13.564,2,-999.0000,9,-999.0000,9,-999.0000,9,-999.0000,9,-999.0000,9,-999.0000,9,-999.0000,9,-999.0000,9,-999.0000,9,     -999.0,5,  -999.0,9,     -999.0,     -999.0,9,     -999.0,20130817,       1618
33RO20130803,       A16N,      56,          1,          3,          3,2,20130817,       1555,    37.5040,   -20.0012,       4842,  4096.1,   2.5442,  34.9095,2,  34.9091,2,    242.3,2,   242.2,2,   42.90,6,   21.90,6,    0.00,6,    1.48,6,-999.000,9,-999.000,9,-999.000,9,  -999.0,9,  -999.0,9,  -999.0,9, -999.00,-999.0000,9,  -999.00,    0.95,2,  -109.2,2,     0.2,   39.92,2,   24.11,2,     -999.0,9,-999.0000,9,-999.0000,9,-999.0000,9,-999.0000,9,-999.0000,9,-999.0000,9,-999.0000,9,-999.0000,9,-999.0000,9,     -999.0,9,  -999.0,9,     -999.0,     -999.0,9,     -999.0,20130817,       1611
33RO20130803,       A16N,      56,          1,          2,          2,2,20130817,       1555,    37.5040,   -20.0012,       4842,  4498.2,   2.4924,  34.8997,2,  34.8996,2,    242.6,2,   242.3,2,   45.30,6,   22.20,6,    0.00,6,    1.50,6,   0.026,6,   0.019,6,   0.041,6,  2201.7,2,  2357.2,6,   752.8,2,      20,   7.7242,2,    25.00,    0.94,2,  -118.4,2,     0.2,   39.76,2,    24.5,2,     13.726,6,-999.0000,9,-999.0000,9,-999.0000,9,-999.0000,9,-999.0000,9,-999.0000,9,-999.0000,9,-999.0000,9,-999.0000,9,     -999.0,5,  -999.0,9,     -999.0,     -999.0,9,     -999.0,20130817,       1603
33RO20130803,       A16N,      56,          1,          1,          1,2,20130817,       1555,    37.5040,   -20.0012,       4842,  4903.6,   2.4743,  34.8924,2,  34.8922,2,    243.2,2,   242.8,2,   46.70,6,   22.30,6,    0.00,6,    1.50,6,   0.006,2,   0.007,2,   0.012,2,  2202.3,2,  2359.4,2,   750.9,2,      20,   7.6958,4,    25.00,    0.91,2,  -111.0,2,     0.2,   39.67,2,   24.61,2,     13.790,2,-999.0000,9,-999.0000,9,-999.0000,9,-999.0000,9,-999.0000,9,-999.0000,9,-999.0000,9,-999.0000,9,-999.0000,9,     -999.0,5,  -999.0,9,     -999.0,     -999.0,9,     -999.0,20130817,       1555