BOTTLE,20220815CCHSIOAMB
EXPOCODE,SECT_ID,STNNBR,CASTNO,SAMPNO,BTLNBR,BTLNBR_FLAG_W,DATE,TIME,LATITUDE,LONGITUDE,DEPTH,CTDPRS,CTDTMP,CTDSAL,CTDSAL_FLAG_W,SALNTY,SALNTY_FLAG_W,CTDOXY,CTDOXY_FLAG_W,OXYGEN,OXYGEN_FLAG_W,SILCAT,SILCAT_FLAG_W,NITRAT,NITRAT_FLAG_W,NITRIT,NITRIT_FLAG_W,PHSPHT,PHSPHT_FLAG_W,CFC-11,CFC-11_FLAG_W,CFC-12,CFC-12_FLAG_W,SF6,SF6_FLAG_W,TCARBN,TCARBN_FLAG_W,ALKALI,ALKALI_FLAG_W,PCO2,PCO2_FLAG_W,PCO2TMP,PH_SWS,PH_SWS_FLAG_W,PH_TMP,DELC13,DELC13_FLAG_W,DELC14,DELC14_FLAG_W,C14ERR,DOC,DOC_FLAG_W,TDN,TDN_FLAG_W,N2O,N2O_FLAG_W,CDOM325,CDOM325_FLAG_W,CDOM340,CDOM340_FLAG_W,CDOM380,CDOM380_FLAG_W,CDOM412,CDOM412_FLAG_W,CDOM443,CDOM443_FLAG_W,CDOM490,CDOM490_FLAG_W,CDOM555,CDOM555_FLAG_W,CDOMSL,CDOMSL_FLAG_W,CDOMSN,CDOMSN_FLAG_W,CCL4,CCL4_FLAG_W,14C-DOC,14C-DOC_FLAG_W,14C-DOCERR,13C-DOC,13C-DOC_FLAG_W,13C-DOCERR,BTL_DATE,BTL_TIME
,,,,,,,,,,,METERS,DBAR,ITS-90,PSS-78,,PSS-78,,UMOL/KG,,UMOL/KG,,UMOL/KG,,UMOL/KG,,UMOL/KG,,UMOL/KG,,PMOL/KG,,PMOL/KG,,FMOL/KG,,UMOL/KG,,UMOL/KG,,UATM,,DEG C,,,DEG C,/MILLE,,/MILLE,,/MILLE,UMOL/KG,,UMOL/KG,,NMOL/KG,,1/M,,1/M,,1/M,,1/M,,1/M,,1/M,,1/M,,1/NM,,1/NM,,PMOL/KG,,/MILLE,,/MILLE,/MILLE,,/MILLE,,
33RO20130803,       A16N,     113,          1,         24,         24,2,20130923,       0354,     7.0003,   -26.9987,       4380,     3.7,  28.0823,  34.3406,2,  34.4138,2,    197.4,2,   198.9,2,    1.30,2,    0.00,2,    0.00,2,    0.00,2,   1.493,2,   0.960,2,   1.097,2,  1917.3,6,  2256.6,2,   252.9,2,      20,   8.1224,2,    25.00,    1.35,2,    56.3,2,     0.3,   75.82,2,    4.08,2,      5.870,2,-999.0000,9,-999.0000,9,-999.0000,9,-999.0000,9,-999.0000,9,-999.0000,9,-999.0000,9,-999.0000,9,-999.0000,9,     -999.0,5,  -999.0,9,     -999.0,     -999.0,9,     -999.0,20130923,       0543
33RO20130803,       A16N,     113,          1,         23,         23,2,20130923,       0354,     7.0003,   -26.9987,       4380,    23.3,  28.4917,  34.9784,2,  34.9702,2,    199.7,2,   199.4,2,    1.20,2,    0.00,2,    0.00,2,    0.00,2,-999.000,9,-999.000,9,-999.000,9,  1945.4,2,  2284.2,2,   257.4,2,      20,   8.1171,2,    25.00,    1.41,6,    48.3,6,     1.2,   75.67,2,    3.25,2,     -999.0,9,-999.0000,9,-999.0000,9,-999.0000,9,-999.0000,9,-999.0000,9,-999.0000,9,-999.0000,9,-999.0000,9,-999.0000,9,     -999.0,9,  -999.0,9,     -999.0,     -999.0,9,     -999.0,20130923,       0541
33RO20130803,       A16N,     113,          1,         22,         22,2,20130923,       0354,     7.0003,   -26.9987,       4380,    48.0,  28.5348,  35.5563,2,  35.5451,2,    200.2,2,   199.7,2,    1.20,2,    0.00,2,    0.00,2,    0.02,2,   1.507,2,   0.958,2,   1.130,2,  1984.3,2,  2329.7,6,   275.3,2,      20,   8.1045,2,    25.00,    1.54,2,    58.4,2,     0.4,   74.09,2,    3.93,2,      6.011,2,-999.0000,9,-999.0000,9,-999.0000,9,-999.0000,9,-999.0000,9,-999.0000,9,-999.0000,9,-999.0000,9,-999.0000,9,     -999.0,5,  -999.0,9,     -999.0,     -999.0,9,     -999.0,20130923,       0538
33RO20130803,       A16N,     113,          1,         21,         21,2,20130923,       0354,     7.0003,   -26.9987,       4380,    73.3,  24.2864,  36.1606,2,  36.1643,2,    165.1,2,   164.2,2,    1.90,2,    2.10,2,    0.17,2,    0.20,2,-999.000,9,-999.000,9,-999.000,9,  2093.6,2,  2364.3,2,   394.8,2,      20,   7.9760,2,    25.00,    1.02,2,    49.2,2,     0.2,   64.23,2,    6.11,2,     -999.0,9,-999.0000,9,-999.0000,9,-999.0000,9,-999.0000,9,-999.0000,9,-999.0000,9,-999.0000,9,-999.0000,9,-999.0000,9,     -999.0,9,  -999.0,9,     -999.0,     -999.0,9,     -999.0,20130923,       0536
33RO20130803,       A16N,     113,          1,         20,         20,2,20130923,       0354,     7.0003,   -26.9987,       4380,    97.9,  20.0054,  35.9495,2,  35.9453,2,    131.5,2,   130.3,2,    4.00,2,   11.20,2,    0.04,2,    0.73,2,   1.970,2,   1.168,2,   0.944,2,  2148.9,2,  2357.4,2,   547.5,2,      20,   7.8440,2,    25.00,    0.66,2,    55.3,2,     0.3,   58.37,2,   14.11,2,     17.821,2,-999.0000,9,-999.0000,9,-999.0000,9,-999.0000,9,-999.0000,9,-999.0000,9,-999.0000,9,-999.0000,9,-999.0000,9,     -999.0,5,  -999.0,9,     -999.0,     -999.0,9,     -999.0,20130923,       0534
33RO20130803,       A16N,     113,          1,         19,         19,2,20130923,       0354,     7.0003,   -26.9987,       4380,   122.4,  17.1007,  35.7387,2,  35.7411,2,    117.5,2,   117.3,2,    5.30,2,   16.50,2,    0.03,2,    1.08,2,-999.000,9,-999.000,9,-999.000,9,  2174.0,2,  2342.9,2,   925.8,4,      20,   7.7699,2,    25.00,    0.52,2,    46.2,2,     0.2,   55.88,2,   19.52,2,     -999.0,9,-999.0000,9,-999.0000,9,-999.0000,9,-999.0000,9,-999.0000,9,-999.0000,9,-999.0000,9,-999.0000,9,-999.0000,9,     -999.0,9,  -999.0,9,     -999.0,     -999.0,9,     -999.0,20130923,       0532
33RO20130803,       A16N,     113,          1,         18,         18,2,20130923,       0354,     7.0003,   -26.9987,       4380,   148.4,  15.4162,  35.5852,2,  35.5911,2,    117.7,2,   119.9,2,    6.20,2,   18.50,2,    0.01,2,    1.22,2,   2.203,2,   1.243,2,   0.778,2,  2178.1,2,  2337.5,2,   932.4,4,      20,   7.7386,2,    25.00,    0.50,2,    53.3,2,     0.2,   50.27,2,   21.35,2,     23.057,2,-999.0000,9,-999.0000,9,-999.0000,9,-999.0000,9,-999.0000,9,-999.0000,9,-999.0000,9,-999.0000,9,-999.0000,9,     -999.0,5,  -999.0,9,     -999.0,     -999.0,9,     -999.0,20130923,       0530
33RO20130803,       A16N,     113,          1,         17,         17,2,20130923,       0354,     7.0003,   -26.9987,       4380,   207.8,  12.5230,  35.2280,2,  35.2250,2,    115.1,2,   115.1,2,    8.70,2,   22.90,2,    0.00,2,    1.51,2,   2.131,2,   1.164,2,   0.603,2,  2191.0,2,  2313.4,2,   937.7,3,      20,   7.6639,2,    25.00,    0.46,2,    30.4,2,     0.2,   49.11,2,    25.4,2,     27.686,2,-999.0000,9,-999.0000,9,-999.0000,9,-999.0000,9,-999.0000,9,-999.0000,9,-999.0000,9,-999.0000,9,-999.0000,9,     -999.0,5,  -999.0,9,     -999.0,     -999.0,9,     -999.0,20130923,       0527
33RO20130803,       A16N,     113,          1,         16,         16,2,20130923,       0354,     7.0003,   -26.9987,       4380,   268.4,  11.5594,  35.1286,2,  35.1265,2,    107.9,2,   104.3,2,   10.20,2,   25.80,2,    0.00,2,    1.67,2,   1.920,2,   1.036,2,   0.461,2,  2203.3,2,  2313.2,2,   943.4,3,      20,   7.6199,2,    25.00,    0.46,2,    17.6,2,     0.3,   47.96,2,   28.42,2,     32.130,2,-999.0000,9,-999.0000,9,-999.0000,9,-999.0000,9,-999.0000,9,-999.0000,9,-999.0000,9,-999.0000,9,-999.0000,9,     -999.0,5,  -999.0,9,     -999.0,     -999.0,9,     -999.0,20130923,       0525
33RO20130803,       A16N,     113,          1,         15,         15,2,20130923,       0354,     7.0003,   -26.9987,       4380,   323.0,  10.6306,  35.0174,2,  35.0163,2,     92.5,2,    98.4,2,   12.20,2,   28.80,2,    0.00,2,    1.86,2,   1.605,2,   0.855,2,   0.364,2,  2214.8,2,  2309.3,2,  1050.0,2,      20,   7.5774,2,    25.00, -999.00,9,  -999.0,9,  -999.0, -999.00,9, -999.00,9,     34.042,2,-999.0000,9,-999.0000,9,-999.0000,9,-999.0000,9,-999.0000,9,-999.0000,9,-999.0000,9,-999.0000,9,-999.0000,9,     -999.0,5,  -999.0,9,     -999.0,     -999.0,9,     -999.0,20130923,       0522
33RO20130803,       A16N,     113,          1,         14,         14,2,20130923,       0354,     7.0003,   -26.9987,       4380,   413.0,   9.4356,  34.9144,2,  34.9151,2,     79.6,2,    80.2,2,   14.90,2,   32.70,2,    0.00,2,    2.08,2,   1.081,2,   0.574,2,   0.197,2,  2230.0,6,  2305.5,2,  1233.5,2,      20,   7.4389,4,    25.00,    0.35,6,   -23.6,6,     4.4,   46.12,2,    35.3,2,     37.305,2,-999.0000,9,-999.0000,9,-999.0000,9,-999.0000,9,-999.0000,9,-999.0000,9,-999.0000,9,-999.0000,9,-999.0000,9,     -999.0,5,  -999.0,9,     -999.0,     -999.0,9,     -999.0,20130923,       0519
33RO20130803,       A16N,     113,          1,         13,         13,2,20130923,       0354,     7.0003,   -26.9987,       4380,   497.5,   8.5630,  34.8588,2,  34.8540,2,     69.6,2,    71.1,2,   17.60,6,   35.40,6,    0.00,6,    2.26,6,   0.611,2,   0.320,2,   0.098,2,  2241.3,2,  2294.2,2,  1344.7,2,      20,   7.4823,2,    25.00,    0.37,2,   -43.4,2,     0.2,   45.32,2,   38.23,2,     36.236,2,-999.0000,9,-999.0000,9,-999.0000,9,-999.0000,9,-999.0000,9,-999.0000,9,-999.0000,9,-999.0000,9,-999.0000,9,     -999.0,5,  -999.0,9,     -999.0,     -999.0,9,     -999.0,20130923,       0516
33RO20130803,       A16N,     113,          1,         12,         12,2,20130923,       0354,     7.0003,   -26.9987,       4380,   646.5,   6.5564,  34.6815,2,  34.6816,2,     96.7,2,    99.6,2,   23.10,6,   36.20,6,    0.00,6,    2.39,6,   0.253,2,   0.132,2,   0.000,2,  2236.1,2,  2299.3,2,  1302.0,2,      20,   7.4933,2,    25.00,    0.47,2,   -78.6,2,     0.2,   44.46,2,   38.81,2,     30.190,2,-999.0000,9,-999.0000,9,-999.0000,9,-999.0000,9,-999.0000,9,-999.0000,9,-999.0000,9,-999.0000,9,-999.0000,9,     -999.0,5,  -999.0,9,     -999.0,     -999.0,9,     -999.0,20130923,       0512
33RO20130803,       A16N,     113,          1,         11,         11,2,20130923,       0354,     7.0003,   -26.9987,       4380,   797.8,   5.6489,  34.6356,2,  34.6354,2,    115.3,2,     115,2,   26.50,6,   35.90,6,    0.00,6,    2.42,6,   0.105,2,   0.057,2,   0.000,2,  2234.9,2,  2300.1,2,  1257.2,2,      20,   7.5079,6,    25.00,    0.53,2,   -85.2,2,     0.2,   43.59,2,   38.44,2,     27.667,2,-999.0000,9,-999.0000,9,-999.0000,9,-999.0000,9,-999.0000,9,-999.0000,9,-999.0000,9,-999.0000,9,-999.0000,9,     -999.0,5,  -999.0,9,     -999.0,     -999.0,9,     -999.0,20130923,       0508
33RO20130803,       A16N,     113,          1,         10,         10,2,20130923,       0354,     7.0003,   -26.9987,       4380,   948.2,   5.1256,  34.6720,2,  34.6725,2,    132.5,2,   132.6,2,   27.90,6,   34.30,6,    0.00,6,    2.34,6,   0.035,2,   0.020,2,   0.000,2,  2230.9,2,  2306.5,2,  1166.8,6,      20,   7.5406,3,    25.00,    0.42,2,   -91.4,2,     0.2,   43.34,2,   36.85,2,     25.234,2,-999.0000,9,-999.0000,9,-999.0000,9,-999.0000,9,-999.0000,9,-999.0000,9,-999.0000,9,-999.0000,9,-999.0000,9,     -999.0,5,  -999.0,9,     -999.0,     -999.0,9,     -999.0,20130923,       0504
33RO20130803,       A16N,     113,          1,          9,          9,2,20130923,       0354,     7.0003,   -26.9987,       4380,  1095.3,   4.8917,  34.7628,2,  34.7637,2,    153.1,2,   152.5,2,   26.40,2,   31.30,2,    0.00,2,    2.14,2,   0.033,2,   0.019,2,   0.000,2,  2219.0,2,  2310.7,2,  1015.9,2,      20,   7.5596,4,    25.00,    0.55,2,   -99.4,2,     0.2,   43.05,2,   33.84,2,     22.505,2,-999.0000,9,-999.0000,9,-999.0000,9,-999.0000,9,-999.0000,9,-999.0000,9,-999.0000,9,-999.0000,9,-999.0000,9,     -999.0,5,  -999.0,9,     -999.0,     -999.0,9,     -999.0,20130923,       0501
33RO20130803,       A16N,     113,          1,          8,          8,2,20130923,       0354,     7.0003,   -26.9987,       4380,  1297.7,   4.6669,  34.9038,2,  34.9050,2,    189.1,2,   188.7,2,   21.90,2,   26.10,2,    0.00,2,    1.78,2,   0.108,2,   0.058,2,   0.000,2,  2198.3,2,  2314.6,2,   846.6,2,      20,   7.6457,2,    25.00,    0.76,2,   -93.7,2,     0.3,   42.75,2,   28.69,2,     18.552,2,-999.0000,9,-999.0000,9,-999.0000,9,-999.0000,9,-999.0000,9,-999.0000,9,-999.0000,9,-999.0000,9,-999.0000,9,     -999.0,5,  -999.0,9,     -999.0,     -999.0,9,     -999.0,20130923,       0455
33RO20130803,       A16N,     113,          1,          7,          7,2,20130923,       0354,     7.0003,   -26.9987,       4380,  1597.2,   4.1527,  34.9601,2,  34.9615,2,    223.5,2,   223.4,2,   19.40,2,   22.30,2,    0.00,2,    1.51,2,   0.127,2,   0.067,2,   0.000,2,  2180.7,2,  2314.6,2,   760.2,2,      20,   7.6954,2,    25.00,    0.84,2,   -97.4,2,     0.2,   42.34,2,   24.97,2,     15.571,2,-999.0000,9,-999.0000,9,-999.0000,9,-999.0000,9,-999.0000,9,-999.0000,9,-999.0000,9,-999.0000,9,-999.0000,9,     -999.0,5,  -999.0,9,     -999.0,     -999.0,9,     -999.0,20130923,       0449
33RO20130803,       A16N,     113,          1,          6,          6,2,20130923,       0354,     7.0003,   -26.9987,       4380,  1997.3,   3.5573,  34.9598,2,  34.9601,2,    241.1,2,   241.1,2,   21.70,2,   20.80,2,    0.00,2,    1.41,2,   0.076,2,   0.041,2,   0.000,2,  2174.8,2,  2320.2,2,   714.6,2,      20,   7.7207,2,    25.00,    0.91,2,   -92.7,2,     0.2,   41.98,2,   23.44,2,     14.229,2,-999.0000,9,-999.0000,9,-999.0000,9,-999.0000,9,-999.0000,9,-999.0000,9,-999.0000,9,-999.0000,9,-999.0000,9,     -999.0,5,  -999.0,9,     -999.0,     -999.0,9,     -999.0,20130923,       0441
33RO20130803,       A16N,     113,          1,          5,          5,2,20130923,       0354,     7.0003,   -26.9987,       4380,  2398.0,   3.1358,  34.9429,2,  34.9433,2,    244.4,2,   244.4,2,   26.80,2,   20.90,2,    0.00,2,    1.42,2,   0.022,2,   0.014,2,   0.000,2,  2177.3,2,  2325.0,2,   700.8,2,      20,   7.7251,2,    25.00,    0.95,2,  -100.8,2,     0.2,    41.7,2,   23.57,2,     13.912,2,-999.0000,9,-999.0000,9,-999.0000,9,-999.0000,9,-999.0000,9,-999.0000,9,-999.0000,9,-999.0000,9,-999.0000,9,     -999.0,5,  -999.0,9,     -999.0,     -999.0,9,     -999.0,20130923,       0433
33RO20130803,       A16N,     113,          1,          4,          4,2,20130923,       0354,     7.0003,   -26.9987,       4380,  2898.2,   2.7653,  34.9214,2,  34.9216,2,    244.7,2,   245.5,2,   33.20,2,   21.30,2,    0.00,2,    1.45,2,-999.000,9,-999.000,9,-999.000,9,  2184.6,2,  2331.5,2,   699.0,2,      20,   7.7236,2,    25.00,    0.86,2,  -110.4,2,     0.2,   41.36,2,   24.09,2,     -999.0,9,-999.0000,9,-999.0000,9,-999.0000,9,-999.0000,9,-999.0000,9,-999.0000,9,-999.0000,9,-999.0000,9,-999.0000,9,     -999.0,9,  -999.0,9,     -999.0,     -999.0,9,     -999.0,20130923,       0424
33RO20130803,       A16N,     113,          1,          3,          3,2,20130923,       0354,     7.0003,   -26.9987,       4380,  3397.5,   2.5376,  34.9043,2,  34.9048,2,    246.2,2,   247.2,2,   37.70,2,   21.40,2,    0.00,2,    1.46,2,   0.028,2,   0.018,2,   0.000,2,  2188.5,2,  2337.5,2,   705.6,2,      20,   7.7205,6,    25.00,    0.91,2,  -105.2,2,     0.2,   40.97,2,    23.7,2,     13.824,2,-999.0000,9,-999.0000,9,-999.0000,9,-999.0000,9,-999.0000,9,-999.0000,9,-999.0000,9,-999.0000,9,-999.0000,9,     -999.0,5,  -999.0,9,     -999.0,     -999.0,9,     -999.0,20130923,       0414
33RO20130803,       A16N,     113,          1,          2,          2,2,20130923,       0354,     7.0003,   -26.9987,       4380,  3897.7,   2.3653,  34.8894,2,  34.8900,2,    248.3,2,   248.8,2,   41.30,2,   21.50,2,    0.00,2,    1.48,2,   0.068,2,   0.037,2,   0.000,2,  2191.6,2,  2339.5,6,   706.7,2,      20,   7.7215,2,    25.00,    0.89,2,  -105.0,2,     0.3,   40.66,2,   24.09,2,     13.762,2,-999.0000,9,-999.0000,9,-999.0000,9,-999.0000,9,-999.0000,9,-999.0000,9,-999.0000,9,-999.0000,9,-999.0000,9,     -999.0,5,  -999.0,9,     -999.0,     -999.0,9,     -999.0,20130923,       0404
33RO20130803,       A16N,     113,          1,          1,          1,2,20130923,       0354,     7.0003,   -26.9987,       4380,  4419.5,   2.3340,  34.8820,2,  34.8826,2,    246.2,2,   247.3,2,   44.50,2,   22.00,2,    0.00,2,    1.51,2,   0.060,2,   0.033,2,   0.000,2,  2198.6,6,  2346.6,2,   694.8,2,      20,   8.0971,4,    25.00,    0.84,2,  -108.7,2,     0.2,    40.8,2,   24.77,2,     13.904,2,-999.0000,9,-999.0000,9,-999.0000,9,-999.0000,9,-999.0000,9,-999.0000,9,-999.0000,9,-999.0000,9,-999.0000,9,     -999.0,5,  -999.0,9,     -999.0,     -999.0,9,     -999.0,20130923,       0354