BOTTLE,20220815CCHSIOAMB
EXPOCODE,SECT_ID,STNNBR,CASTNO,SAMPNO,BTLNBR,BTLNBR_FLAG_W,DATE,TIME,LATITUDE,LONGITUDE,DEPTH,CTDPRS,CTDTMP,CTDSAL,CTDSAL_FLAG_W,SALNTY,SALNTY_FLAG_W,CTDOXY,CTDOXY_FLAG_W,OXYGEN,OXYGEN_FLAG_W,SILCAT,SILCAT_FLAG_W,NITRAT,NITRAT_FLAG_W,NITRIT,NITRIT_FLAG_W,PHSPHT,PHSPHT_FLAG_W,CFC-11,CFC-11_FLAG_W,CFC-12,CFC-12_FLAG_W,SF6,SF6_FLAG_W,TCARBN,TCARBN_FLAG_W,ALKALI,ALKALI_FLAG_W,PCO2,PCO2_FLAG_W,PCO2TMP,PH_SWS,PH_SWS_FLAG_W,PH_TMP,DELC13,DELC13_FLAG_W,DELC14,DELC14_FLAG_W,C14ERR,DOC,DOC_FLAG_W,TDN,TDN_FLAG_W,N2O,N2O_FLAG_W,CDOM325,CDOM325_FLAG_W,CDOM340,CDOM340_FLAG_W,CDOM380,CDOM380_FLAG_W,CDOM412,CDOM412_FLAG_W,CDOM443,CDOM443_FLAG_W,CDOM490,CDOM490_FLAG_W,CDOM555,CDOM555_FLAG_W,CDOMSL,CDOMSL_FLAG_W,CDOMSN,CDOMSN_FLAG_W,CCL4,CCL4_FLAG_W,14C-DOC,14C-DOC_FLAG_W,14C-DOCERR,13C-DOC,13C-DOC_FLAG_W,13C-DOCERR,BTL_DATE,BTL_TIME
,,,,,,,,,,,METERS,DBAR,ITS-90,PSS-78,,PSS-78,,UMOL/KG,,UMOL/KG,,UMOL/KG,,UMOL/KG,,UMOL/KG,,UMOL/KG,,PMOL/KG,,PMOL/KG,,FMOL/KG,,UMOL/KG,,UMOL/KG,,UATM,,DEG C,,,DEG C,/MILLE,,/MILLE,,/MILLE,UMOL/KG,,UMOL/KG,,NMOL/KG,,1/M,,1/M,,1/M,,1/M,,1/M,,1/M,,1/M,,1/NM,,1/NM,,PMOL/KG,,/MILLE,,/MILLE,/MILLE,,/MILLE,,
33RO20130803,       A16N,     106,          1,         24,         24,2,20130921,       0046,    10.5009,   -28.7487,       5392,     3.4,  28.5502,  35.7665,2,  35.7687,2,    199.6,2,   198.8,2,    0.90,2,    0.10,2,    0.00,2,    0.01,2,   1.482,2,   0.956,2,   1.161,2,  2000.9,6,  2340.5,2,   287.4,2,      20,   8.0914,2,    25.00, -999.00,9,  -999.0,9,  -999.0,   78.23,2,    4.95,2,      5.745,2,-999.0000,9,-999.0000,9,-999.0000,9,-999.0000,9,-999.0000,9,-999.0000,9,-999.0000,9,-999.0000,9,-999.0000,9,     -999.0,5,  -999.0,9,     -999.0,     -999.0,9,     -999.0,20130921,       0240
33RO20130803,       A16N,     106,          1,         23,         23,2,20130921,       0046,    10.5009,   -28.7487,       5392,    28.0,  27.7704,  35.7822,2,  35.7971,2,    203.7,2,   205.4,2,    1.10,2,    0.10,2,    0.00,2,    0.02,2,   1.543,2,   0.986,2,   1.072,2,  2011.0,2,  2344.4,6,   311.7,2,      20,   8.0798,2,    25.00, -999.00,9,  -999.0,9,  -999.0,   75.63,2,     5.4,2,      7.350,2,-999.0000,9,-999.0000,9,-999.0000,9,-999.0000,9,-999.0000,9,-999.0000,9,-999.0000,9,-999.0000,9,-999.0000,9,     -999.0,5,  -999.0,9,     -999.0,     -999.0,9,     -999.0,20130921,       0238
33RO20130803,       A16N,     106,          1,         22,         22,2,20130921,       0046,    10.5009,   -28.7487,       5392,    62.5,  16.6379,  35.6442,2,  35.6046,2,     92.9,2,    93.1,2,    6.00,2,   19.80,2,    0.22,2,    1.24,2,   2.055,2,   1.177,2,   0.754,2,  2198.1,2,  2335.3,2,   817.9,2,      20,   7.7044,3,    25.00, -999.00,9,  -999.0,9,  -999.0,   55.27,2,   23.84,2,     29.625,2,-999.0000,9,-999.0000,9,-999.0000,9,-999.0000,9,-999.0000,9,-999.0000,9,-999.0000,9,-999.0000,9,-999.0000,9,     -999.0,5,  -999.0,9,     -999.0,     -999.0,9,     -999.0,20130921,       0236
33RO20130803,       A16N,     106,          1,         21,         21,2,20130921,       0046,    10.5009,   -28.7487,       5392,   112.3,  13.1536,  35.3499,2,  35.3307,2,    123.5,2,   123.5,2,    8.60,2,   21.50,2,    0.02,2,    1.38,2,   2.125,2,   1.191,2,   0.717,2,  2188.0,2,  2323.2,2,   824.9,2,      20,   7.6926,2,    25.00, -999.00,9,  -999.0,9,  -999.0,   49.82,2,   25.02,2,     26.808,2,-999.0000,9,-999.0000,9,-999.0000,9,-999.0000,9,-999.0000,9,-999.0000,9,-999.0000,9,-999.0000,9,-999.0000,9,     -999.0,5,  -999.0,9,     -999.0,     -999.0,9,     -999.0,20130921,       0234
33RO20130803,       A16N,     106,          1,         20,         20,2,20130921,       0046,    10.5009,   -28.7487,       5392,   183.2,  11.0527,  35.0776,2,  35.0753,2,    108.8,2,   106.6,2,   11.30,2,   26.30,2,    0.01,2,    1.67,2,   1.813,2,   0.982,2,   0.463,2,  2205.5,2,  2287.8,3,  -999.0,9, -999.00,   7.6132,2,    25.00, -999.00,9,  -999.0,9,  -999.0,   48.69,2,   30.33,2,     30.519,2,-999.0000,9,-999.0000,9,-999.0000,9,-999.0000,9,-999.0000,9,-999.0000,9,-999.0000,9,-999.0000,9,-999.0000,9,     -999.0,5,  -999.0,9,     -999.0,     -999.0,9,     -999.0,20130921,       0232
33RO20130803,       A16N,     106,          1,         19,         19,2,20130921,       0046,    10.5009,   -28.7487,       5392,   259.8,  10.6333,  35.0688,2,  35.0671,2,     73.8,2,    73.8,2,   12.90,2,   30.60,2,    0.00,2,    1.89,2,   1.377,2,   0.736,2,   0.312,2,  2230.2,2,  2307.0,2,  1187.5,2,      20,   7.5413,2,    25.00, -999.00,9,  -999.0,9,  -999.0,   47.94,2,   33.48,2,     38.234,2,-999.0000,9,-999.0000,9,-999.0000,9,-999.0000,9,-999.0000,9,-999.0000,9,-999.0000,9,-999.0000,9,-999.0000,9,     -999.0,5,  -999.0,9,     -999.0,     -999.0,9,     -999.0,20130921,       0229
33RO20130803,       A16N,     106,          1,         18,         18,2,20130921,       0046,    10.5009,   -28.7487,       5392,   358.3,   9.8001,  34.9949,2,  35.0083,2,     69.3,2,    64.4,4,   14.80,2,   33.20,2,    0.01,2,    2.03,2,   0.996,2,   0.568,2,   0.216,2,  2242.8,2,  2305.2,2,  1295.4,2,      20,   7.5022,2,    25.00, -999.00,9,  -999.0,9,  -999.0,   46.27,2,   35.86,2,     39.598,2,-999.0000,9,-999.0000,9,-999.0000,9,-999.0000,9,-999.0000,9,-999.0000,9,-999.0000,9,-999.0000,9,-999.0000,9,     -999.0,5,  -999.0,9,     -999.0,     -999.0,9,     -999.0,20130921,       0227
33RO20130803,       A16N,     106,          1,         17,         17,2,20130921,       0046,    10.5009,   -28.7487,       5392,   447.5,   9.3197,  35.0370,2,  35.0382,2,     45.4,2,    45.6,2,   16.80,2,   36.10,2,    0.00,2,    2.22,2,   0.502,2,   0.264,2,   0.121,2,  2254.0,6,  2307.1,2,  1429.2,2,      20,   7.4622,2,    25.00, -999.00,9,  -999.0,9,  -999.0,   45.16,2,   39.13,2,     40.617,2,-999.0000,9,-999.0000,9,-999.0000,9,-999.0000,9,-999.0000,9,-999.0000,9,-999.0000,9,-999.0000,9,-999.0000,9,     -999.0,5,  -999.0,9,     -999.0,     -999.0,9,     -999.0,20130921,       0224
33RO20130803,       A16N,     106,          1,         16,         16,2,20130921,       0046,    10.5009,   -28.7487,       5392,   573.1,   7.6317,  34.8421,2,  34.8403,2,     69.0,2,      69,2,   20.80,2,   36.90,2,    0.00,2,    2.34,2,-999.000,5,-999.000,5,-999.000,5,  2249.4,2,  2303.0,2,  -999.0,9, -999.00,   7.4666,2,    25.00, -999.00,9,  -999.0,9,  -999.0,   44.48,2,   39.89,2,     -999.0,5,-999.0000,9,-999.0000,9,-999.0000,9,-999.0000,9,-999.0000,9,-999.0000,9,-999.0000,9,-999.0000,9,-999.0000,9,     -999.0,5,  -999.0,9,     -999.0,     -999.0,9,     -999.0,20130921,       0221
33RO20130803,       A16N,     106,          1,         15,         15,2,20130921,       0046,    10.5009,   -28.7487,       5392,   723.0,   6.3371,  34.7254,2,  34.7255,2,     92.2,2,    92.3,2,   24.50,6,   36.70,6,    0.00,6,    2.38,6,   0.085,2,   0.046,2,   0.000,2,  2243.2,2,  2301.0,2,  1340.2,2,      20,   7.4842,2,    25.00, -999.00,9,  -999.0,9,  -999.0,   43.63,2,   39.17,2,     30.202,2,-999.0000,9,-999.0000,9,-999.0000,9,-999.0000,9,-999.0000,9,-999.0000,9,-999.0000,9,-999.0000,9,-999.0000,9,     -999.0,5,  -999.0,9,     -999.0,     -999.0,9,     -999.0,20130921,       0218
33RO20130803,       A16N,     106,          1,         14,         14,2,20130921,       0046,    10.5009,   -28.7487,       5392,   871.9,   5.6021,  34.7158,2,  34.7151,2,    117.8,2,   118.9,2,   26.60,6,   34.80,6,    0.00,6,    2.30,6,   0.034,2,   0.022,2,   0.000,2,  2230.8,2,  2306.6,6,  -999.0,9, -999.00,   7.5209,2,    25.00, -999.00,9,  -999.0,9,  -999.0,   43.13,2,    37.4,2,     26.094,2,-999.0000,9,-999.0000,9,-999.0000,9,-999.0000,9,-999.0000,9,-999.0000,9,-999.0000,9,-999.0000,9,-999.0000,9,     -999.0,5,  -999.0,9,     -999.0,     -999.0,9,     -999.0,20130921,       0214
33RO20130803,       A16N,     106,          1,         13,         13,2,20130921,       0046,    10.5009,   -28.7487,       5392,  1023.6,   5.3541,  34.8040,2,  34.8051,2,    134.8,2,  -999.0,9,   25.80,6,   32.20,6,    0.01,6,    2.13,6,-999.000,9,-999.000,9,-999.000,9,  -999.0,9,  -999.0,9,  -999.0,9, -999.00,-999.0000,9,  -999.00, -999.00,9,  -999.0,9,  -999.0, -999.00,9, -999.00,9,     -999.0,9,-999.0000,9,-999.0000,9,-999.0000,9,-999.0000,9,-999.0000,9,-999.0000,9,-999.0000,9,-999.0000,9,-999.0000,9,     -999.0,9,  -999.0,9,     -999.0,     -999.0,9,     -999.0,20130921,       0211
33RO20130803,       A16N,     106,          1,         12,         12,2,20130921,       0046,    10.5009,   -28.7487,       5392,  1197.9,   5.0177,  34.8948,2,  34.8941,2,    162.0,2,   163.6,2,   23.70,6,   28.70,6,    0.00,6,    1.90,6,-999.000,9,-999.000,9,-999.000,9,  2211.0,2,  2314.4,2,   987.8,2,      20,   7.6074,2,    25.00, -999.00,9,  -999.0,9,  -999.0,   42.69,2,   31.42,2,     -999.0,9,-999.0000,9,-999.0000,9,-999.0000,9,-999.0000,9,-999.0000,9,-999.0000,9,-999.0000,9,-999.0000,9,-999.0000,9,     -999.0,9,  -999.0,9,     -999.0,     -999.0,9,     -999.0,20130921,       0207
33RO20130803,       A16N,     106,          1,         11,         11,2,20130921,       0046,    10.5009,   -28.7487,       5392,  1398.1,   4.5399,  34.9435,2,  34.9432,2,    197.0,2,   197.4,2,   21.20,6,   24.90,6,    0.00,6,    1.66,2,   0.054,2,   0.031,2,   0.000,2,  2194.7,2,  2317.4,2,  -999.0,9, -999.00,   7.6610,6,    25.00, -999.00,9,  -999.0,9,  -999.0,   42.21,2,   27.69,2,     17.215,2,-999.0000,9,-999.0000,9,-999.0000,9,-999.0000,9,-999.0000,9,-999.0000,9,-999.0000,9,-999.0000,9,-999.0000,9,     -999.0,5,  -999.0,9,     -999.0,     -999.0,9,     -999.0,20130921,       0202
33RO20130803,       A16N,     106,          1,         10,         10,2,20130921,       0046,    10.5009,   -28.7487,       5392,  1647.2,   4.0506,  34.9691,2,  34.9687,2,    225.2,2,   225.9,2,   19.80,2,   22.00,2,    0.00,2,    1.46,2,-999.000,9,-999.000,9,-999.000,9,  2178.0,2,  2314.8,2,  -999.0,9, -999.00,   7.7012,2,    25.00, -999.00,9,  -999.0,9,  -999.0,   41.51,2,    24.5,2,     -999.0,9,-999.0000,9,-999.0000,9,-999.0000,9,-999.0000,9,-999.0000,9,-999.0000,9,-999.0000,9,-999.0000,9,-999.0000,9,     -999.0,9,  -999.0,9,     -999.0,     -999.0,9,     -999.0,20130921,       0157
33RO20130803,       A16N,     106,          1,          9,          9,2,20130921,       0046,    10.5009,   -28.7487,       5392,  1997.6,   3.5776,  34.9657,2,  34.9654,2,    242.0,2,   243.1,2,   21.10,2,   20.60,2,    0.00,2,    1.36,2,   0.038,2,   0.020,2,   0.000,2,  2170.0,2,  2317.4,2,   751.3,2,      20,   7.7237,2,    25.00, -999.00,9,  -999.0,9,  -999.0,   41.38,2,    23.2,2,     13.829,2,-999.0000,9,-999.0000,9,-999.0000,9,-999.0000,9,-999.0000,9,-999.0000,9,-999.0000,9,-999.0000,9,-999.0000,9,     -999.0,5,  -999.0,9,     -999.0,     -999.0,9,     -999.0,20130921,       0150
33RO20130803,       A16N,     106,          1,          8,          8,2,20130921,       0046,    10.5009,   -28.7487,       5392,  2397.1,   3.1571,  34.9501,2,  34.9495,2,    244.9,2,   246.5,2,   26.00,2,   20.60,2,    0.00,2,    1.36,2,-999.000,9,-999.000,9,-999.000,9,  2174.5,2,  2322.4,2,  -999.0,9, -999.00,   7.7260,2,    25.00, -999.00,9,  -999.0,9,  -999.0,   41.33,2,   23.28,2,     -999.0,9,-999.0000,9,-999.0000,9,-999.0000,9,-999.0000,9,-999.0000,9,-999.0000,9,-999.0000,9,-999.0000,9,-999.0000,9,     -999.0,9,  -999.0,9,     -999.0,     -999.0,9,     -999.0,20130921,       0143
33RO20130803,       A16N,     106,          1,          7,          7,2,20130921,       0046,    10.5009,   -28.7487,       5392,  2797.7,   2.8707,  34.9335,2,  34.9330,2,    246.8,2,   248.1,2,   30.40,2,   20.70,2,    0.00,2,    1.38,2,   0.010,2,   0.007,2,   0.000,2,  2178.6,2,  2326.7,2,  -999.0,9, -999.00,   7.7276,2,    25.00, -999.00,9,  -999.0,9,  -999.0,   41.27,2,   23.19,2,     13.476,2,-999.0000,9,-999.0000,9,-999.0000,9,-999.0000,9,-999.0000,9,-999.0000,9,-999.0000,9,-999.0000,9,-999.0000,9,     -999.0,5,  -999.0,9,     -999.0,     -999.0,9,     -999.0,20130921,       0135
33RO20130803,       A16N,     106,          1,          6,          6,2,20130921,       0046,    10.5009,   -28.7487,       5392,  3198.2,   2.6664,  34.9185,2,  34.9188,2,    245.8,2,   247.8,2,   34.70,2,   21.10,2,    0.00,2,    1.41,2,-999.000,9,-999.000,9,-999.000,9,  2181.8,2,  2332.2,2,  -999.0,9, -999.00,   7.7272,2,    25.00, -999.00,9,  -999.0,9,  -999.0,   41.16,2,   23.76,2,     -999.0,9,-999.0000,9,-999.0000,9,-999.0000,9,-999.0000,9,-999.0000,9,-999.0000,9,-999.0000,9,-999.0000,9,-999.0000,9,     -999.0,9,  -999.0,9,     -999.0,     -999.0,9,     -999.0,20130921,       0128
33RO20130803,       A16N,     106,          1,          5,          5,2,20130921,       0046,    10.5009,   -28.7487,       5392,  3696.8,   2.4851,  34.9025,2,  34.9022,2,    244.8,2,   245.7,2,   40.00,2,   21.70,2,    0.00,2,    1.45,2,   0.003,2,   0.003,2,   0.000,2,  2194.2,2,  2336.9,2,   760.3,2,      20,   7.7225,2,    25.00, -999.00,9,  -999.0,9,  -999.0,   40.88,2,   24.27,2,     13.604,2,-999.0000,9,-999.0000,9,-999.0000,9,-999.0000,9,-999.0000,9,-999.0000,9,-999.0000,9,-999.0000,9,-999.0000,9,     -999.0,5,  -999.0,9,     -999.0,     -999.0,9,     -999.0,20130921,       0119
33RO20130803,       A16N,     106,          1,          4,          4,2,20130921,       0046,    10.5009,   -28.7487,       5392,  4097.7,   2.3730,  34.8904,2,  34.8902,2,    244.5,2,     247,2,   43.50,2,   22.00,2,    0.00,2,    1.47,2,-999.000,9,-999.000,9,-999.000,9,  2197.7,2,  2342.3,2,  -999.0,9, -999.00,   7.7193,6,    25.00, -999.00,9,  -999.0,9,  -999.0,   40.74,2,   24.52,2,     -999.0,9,-999.0000,9,-999.0000,9,-999.0000,9,-999.0000,9,-999.0000,9,-999.0000,9,-999.0000,9,-999.0000,9,-999.0000,9,     -999.0,9,  -999.0,9,     -999.0,     -999.0,9,     -999.0,20130921,       0111
33RO20130803,       A16N,     106,          1,          3,          3,2,20130921,       0046,    10.5009,   -28.7487,       5392,  4496.5,   2.3149,  34.8816,2,  34.8819,2,    242.4,2,   243.4,2,   46.80,2,   22.40,2,    0.00,2,    1.50,2,   0.011,2,   0.008,2,   0.000,2,  2202.3,2,  2346.5,2,  -999.0,9, -999.00,   7.7178,2,    25.00, -999.00,9,  -999.0,9,  -999.0,   40.63,2,   24.94,2,     13.908,2,-999.0000,9,-999.0000,9,-999.0000,9,-999.0000,9,-999.0000,9,-999.0000,9,-999.0000,9,-999.0000,9,-999.0000,9,     -999.0,5,  -999.0,9,     -999.0,     -999.0,9,     -999.0,20130921,       0104
33RO20130803,       A16N,     106,          1,          2,          2,2,20130921,       0046,    10.5009,   -28.7487,       5392,  4896.8,   2.2725,  34.8732,2,  34.8730,2,    242.9,2,   244.3,2,   49.20,2,   22.60,2,    0.00,2,    1.51,2,-999.000,9,-999.000,9,-999.000,9,  2203.7,2,  2349.1,6,  -999.0,9, -999.00,   7.7162,2,    25.00, -999.00,9,  -999.0,9,  -999.0,   40.53,2,   25.03,2,     -999.0,9,-999.0000,9,-999.0000,9,-999.0000,9,-999.0000,9,-999.0000,9,-999.0000,9,-999.0000,9,-999.0000,9,-999.0000,9,     -999.0,9,  -999.0,9,     -999.0,     -999.0,9,     -999.0,20130921,       0056
33RO20130803,       A16N,     106,          1,          1,          1,2,20130921,       0046,    10.5009,   -28.7487,       5392,  5447.2,   2.2969,  34.8679,2,  34.8674,2,    244.7,2,     242,2,   50.00,2,   22.60,2,    0.00,2,    1.52,2,   0.062,2,   0.035,2,   0.000,2,  2205.7,6,  2349.3,2,   781.8,2,      20,   7.7173,3,    25.00, -999.00,9,  -999.0,9,  -999.0,   40.65,2,   25.08,2,     14.329,3,-999.0000,9,-999.0000,9,-999.0000,9,-999.0000,9,-999.0000,9,-999.0000,9,-999.0000,9,-999.0000,9,-999.0000,9,     -999.0,5,  -999.0,9,     -999.0,     -999.0,9,     -999.0,20130921,       0046