BOTTLE,20220815CCHSIOAMB
EXPOCODE,SECT_ID,STNNBR,CASTNO,SAMPNO,BTLNBR,BTLNBR_FLAG_W,DATE,TIME,LATITUDE,LONGITUDE,DEPTH,CTDPRS,CTDTMP,CTDSAL,CTDSAL_FLAG_W,SALNTY,SALNTY_FLAG_W,CTDOXY,CTDOXY_FLAG_W,OXYGEN,OXYGEN_FLAG_W,SILCAT,SILCAT_FLAG_W,NITRAT,NITRAT_FLAG_W,NITRIT,NITRIT_FLAG_W,PHSPHT,PHSPHT_FLAG_W,CFC-11,CFC-11_FLAG_W,CFC-12,CFC-12_FLAG_W,SF6,SF6_FLAG_W,TCARBN,TCARBN_FLAG_W,ALKALI,ALKALI_FLAG_W,PCO2,PCO2_FLAG_W,PCO2TMP,PH_SWS,PH_SWS_FLAG_W,PH_TMP,DELC13,DELC13_FLAG_W,DELC14,DELC14_FLAG_W,C14ERR,DOC,DOC_FLAG_W,TDN,TDN_FLAG_W,N2O,N2O_FLAG_W,CDOM325,CDOM325_FLAG_W,CDOM340,CDOM340_FLAG_W,CDOM380,CDOM380_FLAG_W,CDOM412,CDOM412_FLAG_W,CDOM443,CDOM443_FLAG_W,CDOM490,CDOM490_FLAG_W,CDOM555,CDOM555_FLAG_W,CDOMSL,CDOMSL_FLAG_W,CDOMSN,CDOMSN_FLAG_W,CCL4,CCL4_FLAG_W,14C-DOC,14C-DOC_FLAG_W,14C-DOCERR,13C-DOC,13C-DOC_FLAG_W,13C-DOCERR,BTL_DATE,BTL_TIME
,,,,,,,,,,,METERS,DBAR,ITS-90,PSS-78,,PSS-78,,UMOL/KG,,UMOL/KG,,UMOL/KG,,UMOL/KG,,UMOL/KG,,UMOL/KG,,PMOL/KG,,PMOL/KG,,FMOL/KG,,UMOL/KG,,UMOL/KG,,UATM,,DEG C,,,DEG C,/MILLE,,/MILLE,,/MILLE,UMOL/KG,,UMOL/KG,,NMOL/KG,,1/M,,1/M,,1/M,,1/M,,1/M,,1/M,,1/M,,1/NM,,1/NM,,PMOL/KG,,/MILLE,,/MILLE,/MILLE,,/MILLE,,
33RO20130803,       A16N,      24,          1,         24,         24,2,20130808,       1714,    53.5008,   -19.9968,       2290,     3.3,  15.4500,  35.2604,2,  35.2642,2,    255.1,2,   257.9,2,    0.20,2,    0.10,2,    0.02,2,    0.08,2,-999.000,9,-999.000,9,-999.000,9,  2060.9,6,  2331.5,2,   385.1,2,      20,   7.9800,2,    25.00, -999.00,9,  -999.0,9,  -999.0,   66.02,2,    4.37,2,     -999.0,9,-999.0000,9,-999.0000,9,-999.0000,9,-999.0000,9,-999.0000,9,-999.0000,9,-999.0000,9,-999.0000,9,-999.0000,9,     -999.0,9,  -999.0,9,     -999.0,     -999.0,9,     -999.0,20130808,       1821
33RO20130803,       A16N,      24,          1,         23,         23,2,20130808,       1714,    53.5008,   -19.9968,       2290,    19.9,  15.4433,  35.2593,2,  35.2619,2,    255.6,2,   257.7,2,    0.20,2,    0.20,2,    0.01,2,    0.08,2,-999.000,9,-999.000,9,-999.000,9,  2061.4,2,  2330.5,2,  -999.0,9, -999.00,   7.8202,4,    25.00, -999.00,9,  -999.0,9,  -999.0,   63.93,2,    4.54,2,     -999.0,9,-999.0000,9,-999.0000,9,-999.0000,9,-999.0000,9,-999.0000,9,-999.0000,9,-999.0000,9,-999.0000,9,-999.0000,9,     -999.0,9,  -999.0,9,     -999.0,     -999.0,9,     -999.0,20130808,       1819
33RO20130803,       A16N,      24,          1,         22,         22,2,20130808,       1714,    53.5008,   -19.9968,       2290,    43.0,  12.5075,  35.2711,2,  35.2788,2,    264.3,2,   263.1,2,    0.30,2,    4.70,2,    0.13,2,    0.39,2,-999.000,9,-999.000,9,-999.000,9,  2108.1,2,  2330.3,6,   500.8,2,      20,   7.8806,2,    25.00, -999.00,9,  -999.0,9,  -999.0,   57.51,2,     8.8,2,     -999.0,9,-999.0000,9,-999.0000,9,-999.0000,9,-999.0000,9,-999.0000,9,-999.0000,9,-999.0000,9,-999.0000,9,-999.0000,9,     -999.0,9,  -999.0,9,     -999.0,     -999.0,9,     -999.0,20130808,       1817
33RO20130803,       A16N,      24,          1,         21,         21,2,20130808,       1714,    53.5008,   -19.9968,       2290,    71.1,  11.4173,  35.2614,2,  35.2568,2,    262.0,2,   260.7,2,    0.70,2,    6.50,2,    0.44,2,    0.52,2,-999.000,9,-999.000,9,-999.000,9,  -999.0,9,  -999.0,9,  -999.0,9, -999.00,-999.0000,9,  -999.00, -999.00,9,  -999.0,9,  -999.0,   55.09,2,   10.57,2,     -999.0,9,-999.0000,9,-999.0000,9,-999.0000,9,-999.0000,9,-999.0000,9,-999.0000,9,-999.0000,9,-999.0000,9,-999.0000,9,     -999.0,9,  -999.0,9,     -999.0,     -999.0,9,     -999.0,20130808,       1815
33RO20130803,       A16N,      24,          1,         20,         20,2,20130808,       1714,    53.5008,   -19.9968,       2290,    97.3,  10.4617,  35.1973,2,  35.1985,2,    259.1,2,   259.3,2,    1.20,2,    8.70,2,    0.33,2,    0.60,2,-999.000,9,-999.000,9,-999.000,9,  2126.6,2,  2320.9,2,   578.2,2,      20,   7.8292,2,    25.00, -999.00,9,  -999.0,9,  -999.0,   53.66,2,   12.07,2,     -999.0,9,-999.0000,9,-999.0000,9,-999.0000,9,-999.0000,9,-999.0000,9,-999.0000,9,-999.0000,9,-999.0000,9,-999.0000,9,     -999.0,9,  -999.0,9,     -999.0,     -999.0,9,     -999.0,20130808,       1813
33RO20130803,       A16N,      24,          1,         19,         19,2,20130808,       1714,    53.5008,   -19.9968,       2290,   123.6,  10.2063,  35.1968,2,  35.1966,2,    256.4,2,     255,2,    2.20,2,   10.00,2,    0.01,2,    0.67,2,-999.000,9,-999.000,9,-999.000,9,  -999.0,9,  -999.0,9,  -999.0,9, -999.00,-999.0000,9,  -999.00, -999.00,9,  -999.0,9,  -999.0,    52.7,2,   12.85,2,     -999.0,9,-999.0000,9,-999.0000,9,-999.0000,9,-999.0000,9,-999.0000,9,-999.0000,9,-999.0000,9,-999.0000,9,-999.0000,9,     -999.0,9,  -999.0,9,     -999.0,     -999.0,9,     -999.0,20130808,       1812
33RO20130803,       A16N,      24,          1,         18,         18,2,20130808,       1714,    53.5008,   -19.9968,       2290,   151.6,  10.0967,  35.2040,2,  35.2066,2,    252.7,2,   251.3,2,    3.10,2,   10.90,2,    0.01,2,    0.72,2,-999.000,9,-999.000,9,-999.000,9,  2137.2,2,  2320.2,2,   611.3,2,      20,   7.8044,2,    25.00, -999.00,9,  -999.0,9,  -999.0,   51.94,2,   12.91,2,     -999.0,9,-999.0000,9,-999.0000,9,-999.0000,9,-999.0000,9,-999.0000,9,-999.0000,9,-999.0000,9,-999.0000,9,-999.0000,9,     -999.0,9,  -999.0,9,     -999.0,     -999.0,9,     -999.0,20130808,       1810
33RO20130803,       A16N,      24,          1,         17,         17,2,20130808,       1714,    53.5008,   -19.9968,       2290,   178.4,   9.8511,  35.1876,2,  35.1902,2,    245.5,2,   244.6,2,    4.10,2,   12.00,2,    0.01,2,    0.79,2,-999.000,9,-999.000,9,-999.000,9,  -999.0,9,  -999.0,9,  -999.0,9, -999.00,-999.0000,9,  -999.00, -999.00,9,  -999.0,9,  -999.0,   51.44,2,   14.42,2,     -999.0,9,-999.0000,9,-999.0000,9,-999.0000,9,-999.0000,9,-999.0000,9,-999.0000,9,-999.0000,9,-999.0000,9,-999.0000,9,     -999.0,9,  -999.0,9,     -999.0,     -999.0,9,     -999.0,20130808,       1808
33RO20130803,       A16N,      24,          1,         16,         16,2,20130808,       1714,    53.5008,   -19.9968,       2290,   204.9,   9.5642,  35.1589,2,  35.1583,2,    239.0,2,   236.4,2,    5.30,2,   13.30,2,    0.01,2,    0.87,2,-999.000,9,-999.000,9,-999.000,9,  2148.1,2,  2317.6,2,   665.1,2,      20,   7.7720,2,    25.00, -999.00,9,  -999.0,9,  -999.0,   50.85,2,   15.49,2,     -999.0,9,-999.0000,9,-999.0000,9,-999.0000,9,-999.0000,9,-999.0000,9,-999.0000,9,-999.0000,9,-999.0000,9,-999.0000,9,     -999.0,9,  -999.0,9,     -999.0,     -999.0,9,     -999.0,20130808,       1806
33RO20130803,       A16N,      24,          1,         15,         15,2,20130808,       1714,    53.5008,   -19.9968,       2290,   249.3,   9.2917,  35.1410,2,  35.1409,2,    232.0,2,   231.2,2,    6.20,2,   14.30,2,    0.01,2,    0.93,2,-999.000,9,-999.000,9,-999.000,9,  -999.0,9,  -999.0,9,  -999.0,9, -999.00,-999.0000,9,  -999.00, -999.00,9,  -999.0,9,  -999.0,   49.99,2,   16.46,2,     -999.0,9,-999.0000,9,-999.0000,9,-999.0000,9,-999.0000,9,-999.0000,9,-999.0000,9,-999.0000,9,-999.0000,9,-999.0000,9,     -999.0,9,  -999.0,9,     -999.0,     -999.0,9,     -999.0,20130808,       1804
33RO20130803,       A16N,      24,          1,         14,         14,2,20130808,       1714,    53.5008,   -19.9968,       2290,   302.0,   8.9814,  35.1355,2,  35.1373,2,    217.5,2,   216.2,2,    7.90,2,   16.10,2,    0.01,2,    1.04,2,-999.000,9,-999.000,9,-999.000,9,  2163.2,2,  2316.3,6,  -999.0,9, -999.00,   7.7362,2,    25.00, -999.00,9,  -999.0,9,  -999.0,    49.2,2,   18.23,2,     -999.0,9,-999.0000,9,-999.0000,9,-999.0000,9,-999.0000,9,-999.0000,9,-999.0000,9,-999.0000,9,-999.0000,9,-999.0000,9,     -999.0,9,  -999.0,9,     -999.0,     -999.0,9,     -999.0,20130808,       1802
33RO20130803,       A16N,      24,          1,         13,         13,2,20130808,       1714,    53.5008,   -19.9968,       2290,   374.2,   8.0806,  35.0632,2,  35.0641,2,    206.7,2,   204.7,2,    9.70,2,   18.10,2,    0.00,2,    1.18,2,-999.000,9,-999.000,9,-999.000,9,  2171.6,2,  2312.6,2,   793.9,2,      20,   7.7032,2,    25.00, -999.00,9,  -999.0,9,  -999.0,   48.39,2,   20.57,2,     -999.0,9,-999.0000,9,-999.0000,9,-999.0000,9,-999.0000,9,-999.0000,9,-999.0000,9,-999.0000,9,-999.0000,9,-999.0000,9,     -999.0,9,  -999.0,9,     -999.0,     -999.0,9,     -999.0,20130808,       1800
33RO20130803,       A16N,      24,          1,         12,         12,2,20130808,       1714,    53.5008,   -19.9968,       2290,   452.1,   8.1409,  35.2300,2,  35.2323,2,    205.2,2,     205,2,   10.00,2,   18.00,2,    0.00,2,    1.16,2,-999.000,9,-999.000,9,-999.000,9,  -999.0,9,  -999.0,9,  -999.0,9, -999.00,-999.0000,9,  -999.00, -999.00,9,  -999.0,9,  -999.0,   47.47,2,   20.17,2,     -999.0,9,-999.0000,9,-999.0000,9,-999.0000,9,-999.0000,9,-999.0000,9,-999.0000,9,-999.0000,9,-999.0000,9,-999.0000,9,     -999.0,9,  -999.0,9,     -999.0,     -999.0,9,     -999.0,20130808,       1758
33RO20130803,       A16N,      24,          1,         11,         11,2,20130808,       1714,    53.5008,   -19.9968,       2290,   530.0,   8.0647,  35.3025,2,  35.3026,2,    205.7,2,   205.8,2,   10.20,2,   18.00,2,    0.00,2,    1.15,2,   2.562,6,   1.388,6,   0.987,6,  2181.0,6,  2339.3,4,   767.8,2,      20,   7.7172,2,    25.00, -999.00,9,  -999.0,9,  -999.0,   47.07,2,   20.38,2,     15.608,6,-999.0000,9,-999.0000,9,-999.0000,9,-999.0000,9,-999.0000,9,-999.0000,9,-999.0000,9,-999.0000,9,-999.0000,9,     -999.0,5,  -999.0,9,     -999.0,     -999.0,9,     -999.0,20130808,       1755
33RO20130803,       A16N,      24,          1,         10,         10,2,20130808,       1714,    53.5008,   -19.9968,       2290,   611.4,   6.5180,  35.1095,2,  35.1094,2,    218.7,2,   218.4,3,   10.80,2,   18.50,2,    0.00,2,    1.21,2,-999.000,9,-999.000,9,-999.000,9,  -999.0,9,  -999.0,9,  -999.0,9, -999.00,-999.0000,9,  -999.00, -999.00,9,  -999.0,9,  -999.0,   46.48,2,   20.61,2,     -999.0,9,-999.0000,9,-999.0000,9,-999.0000,9,-999.0000,9,-999.0000,9,-999.0000,9,-999.0000,9,-999.0000,9,-999.0000,9,     -999.0,9,  -999.0,9,     -999.0,     -999.0,9,     -999.0,20130808,       1753
33RO20130803,       A16N,      24,          1,          9,          9,2,20130808,       1714,    53.5008,   -19.9968,       2290,   709.5,   6.2885,  35.1490,2,  35.1489,2,    224.6,2,   223.7,2,   11.00,2,   18.30,2,    0.00,2,    1.20,2,   2.863,2,   1.533,2,   1.039,2,  2177.6,2,  2320.7,2,   799.9,2,      20,   7.7016,2,    25.00, -999.00,9,  -999.0,9,  -999.0,   46.33,2,   20.63,2,     15.311,2,-999.0000,9,-999.0000,9,-999.0000,9,-999.0000,9,-999.0000,9,-999.0000,9,-999.0000,9,-999.0000,9,-999.0000,9,     -999.0,5,  -999.0,9,     -999.0,     -999.0,9,     -999.0,20130808,       1750
33RO20130803,       A16N,      24,          1,          8,          8,2,20130808,       1714,    53.5008,   -19.9968,       2290,   854.4,   5.1807,  35.0374,2,  35.0397,2,    244.8,2,   244.7,2,   10.80,2,   18.00,2,    0.00,2,    1.18,2,-999.000,9,-999.000,9,-999.000,9,  -999.0,9,  -999.0,9,  -999.0,9, -999.00,-999.0000,9,  -999.00, -999.00,9,  -999.0,9,  -999.0,   46.01,2,   20.63,2,     -999.0,9,-999.0000,9,-999.0000,9,-999.0000,9,-999.0000,9,-999.0000,9,-999.0000,9,-999.0000,9,-999.0000,9,-999.0000,9,     -999.0,9,  -999.0,9,     -999.0,     -999.0,9,     -999.0,20130808,       1746
33RO20130803,       A16N,      24,          1,          7,          7,2,20130808,       1714,    53.5008,   -19.9968,       2290,  1016.2,   4.6220,  34.9861,2,  34.9867,2,    257.3,2,   257.2,2,   10.70,2,   17.60,2,    0.00,2,    1.15,2,   3.500,2,   1.851,2,   1.254,2,  2168.1,2,  2308.0,2,   797.9,2,      20,   8.0922,4,    25.00, -999.00,9,  -999.0,9,  -999.0,   45.57,2,   19.61,2,     14.338,2,-999.0000,9,-999.0000,9,-999.0000,9,-999.0000,9,-999.0000,9,-999.0000,9,-999.0000,9,-999.0000,9,-999.0000,9,     -999.0,5,  -999.0,9,     -999.0,     -999.0,9,     -999.0,20130808,       1743
33RO20130803,       A16N,      24,          1,          6,          6,2,20130808,       1714,    53.5008,   -19.9968,       2290,  1210.4,   4.1395,  34.9486,2,  34.9500,2,    266.1,2,     265,2,   11.00,2,   17.30,2,    0.00,2,    1.14,2,-999.000,9,-999.000,9,-999.000,9,  -999.0,9,  -999.0,9,  -999.0,9, -999.00,-999.0000,9,  -999.00, -999.00,9,  -999.0,9,  -999.0,    45.6,2,   19.52,2,     -999.0,9,-999.0000,9,-999.0000,9,-999.0000,9,-999.0000,9,-999.0000,9,-999.0000,9,-999.0000,9,-999.0000,9,-999.0000,9,     -999.0,9,  -999.0,9,     -999.0,     -999.0,9,     -999.0,20130808,       1738
33RO20130803,       A16N,      24,          1,          5,          5,2,20130808,       1714,    53.5008,   -19.9968,       2290,  1428.6,   3.8395,  34.9379,2,  34.9382,2,    268.1,2,   267.7,2,   11.90,2,   17.30,2,    0.00,2,    1.14,2,   3.254,2,   1.666,2,   0.948,2,  2162.6,2,  2305.5,2,   777.5,2,      20,   7.7063,2,    25.00, -999.00,9,  -999.0,9,  -999.0,   45.49,2,   19.77,2,     13.808,2,-999.0000,9,-999.0000,9,-999.0000,9,-999.0000,9,-999.0000,9,-999.0000,9,-999.0000,9,-999.0000,9,-999.0000,9,     -999.0,5,  -999.0,9,     -999.0,     -999.0,9,     -999.0,20130808,       1734
33RO20130803,       A16N,      24,          1,          4,          4,2,20130808,       1714,    53.5008,   -19.9968,       2290,  1643.9,   3.6049,  34.9341,2,  34.9350,2,    269.2,2,   268.8,2,   13.20,6,   17.30,6,    0.00,6,    1.15,6,   2.933,2,   1.472,2,   0.691,2,  -999.0,9,  -999.0,9,  -999.0,9, -999.00,-999.0000,9,  -999.00, -999.00,9,  -999.0,9,  -999.0,   45.17,2,   19.11,2,     13.683,2,-999.0000,9,-999.0000,9,-999.0000,9,-999.0000,9,-999.0000,9,-999.0000,9,-999.0000,9,-999.0000,9,-999.0000,9,     -999.0,5,  -999.0,9,     -999.0,     -999.0,9,     -999.0,20130808,       1729
33RO20130803,       A16N,      24,          1,          3,          3,2,20130808,       1714,    53.5008,   -19.9968,       2290,  1856.8,   3.3138,  34.9207,2,  34.9229,2,    273.5,2,   272.5,2,   13.00,6,   17.10,6,    0.00,6,    1.14,6,   2.817,2,   1.405,2,   0.638,2,  -999.0,9,  -999.0,9,  -999.0,9, -999.00,-999.0000,9,  -999.00, -999.00,9,  -999.0,9,  -999.0,   44.91,2,   19.03,2,     13.367,2,-999.0000,9,-999.0000,9,-999.0000,9,-999.0000,9,-999.0000,9,-999.0000,9,-999.0000,9,-999.0000,9,-999.0000,9,     -999.0,5,  -999.0,9,     -999.0,     -999.0,9,     -999.0,20130808,       1724
33RO20130803,       A16N,      24,          1,          2,          2,2,20130808,       1714,    53.5008,   -19.9968,       2290,  2071.9,   3.1232,  34.9312,2,  34.9309,2,    270.2,2,   270.7,2,   15.20,6,   17.10,6,    0.00,6,    1.14,6,   2.503,2,   1.245,2,   0.657,2,  2164.1,2,  2308.7,6,   762.8,2,      20,   7.7175,2,    25.00, -999.00,9,  -999.0,9,  -999.0,   45.14,2,   19.13,2,     13.494,2,-999.0000,9,-999.0000,9,-999.0000,9,-999.0000,9,-999.0000,9,-999.0000,9,-999.0000,9,-999.0000,9,-999.0000,9,     -999.0,5,  -999.0,9,     -999.0,     -999.0,9,     -999.0,20130808,       1720
33RO20130803,       A16N,      24,          1,          1,          1,2,20130808,       1714,    53.5008,   -19.9968,       2290,  2307.0,   2.9819,  34.9344,2,  34.9345,2,    262.7,2,   262.2,2,   22.40,6,   18.30,6,    0.00,6,    1.23,6,   1.818,2,   0.891,2,   0.453,2,  2172.0,2,  2320.6,2,   765.6,2,      20,   7.7177,2,    25.00, -999.00,9,  -999.0,9,  -999.0,   45.04,2,   20.46,2,     13.540,2,-999.0000,9,-999.0000,9,-999.0000,9,-999.0000,9,-999.0000,9,-999.0000,9,-999.0000,9,-999.0000,9,-999.0000,9,     -999.0,5,  -999.0,9,     -999.0,     -999.0,9,     -999.0,20130808,       1714