BOTTLE,20220815CCHSIOAMB
EXPOCODE,SECT_ID,STNNBR,CASTNO,SAMPNO,BTLNBR,BTLNBR_FLAG_W,DATE,TIME,LATITUDE,LONGITUDE,DEPTH,CTDPRS,CTDTMP,CTDSAL,CTDSAL_FLAG_W,SALNTY,SALNTY_FLAG_W,CTDOXY,CTDOXY_FLAG_W,OXYGEN,OXYGEN_FLAG_W,SILCAT,SILCAT_FLAG_W,NITRAT,NITRAT_FLAG_W,NITRIT,NITRIT_FLAG_W,PHSPHT,PHSPHT_FLAG_W,CFC-11,CFC-11_FLAG_W,CFC-12,CFC-12_FLAG_W,SF6,SF6_FLAG_W,TCARBN,TCARBN_FLAG_W,ALKALI,ALKALI_FLAG_W,PCO2,PCO2_FLAG_W,PCO2TMP,PH_SWS,PH_SWS_FLAG_W,PH_TMP,DELC13,DELC13_FLAG_W,DELC14,DELC14_FLAG_W,C14ERR,DOC,DOC_FLAG_W,TDN,TDN_FLAG_W,N2O,N2O_FLAG_W,CDOM325,CDOM325_FLAG_W,CDOM340,CDOM340_FLAG_W,CDOM380,CDOM380_FLAG_W,CDOM412,CDOM412_FLAG_W,CDOM443,CDOM443_FLAG_W,CDOM490,CDOM490_FLAG_W,CDOM555,CDOM555_FLAG_W,CDOMSL,CDOMSL_FLAG_W,CDOMSN,CDOMSN_FLAG_W,CCL4,CCL4_FLAG_W,14C-DOC,14C-DOC_FLAG_W,14C-DOCERR,13C-DOC,13C-DOC_FLAG_W,13C-DOCERR,BTL_DATE,BTL_TIME
,,,,,,,,,,,METERS,DBAR,ITS-90,PSS-78,,PSS-78,,UMOL/KG,,UMOL/KG,,UMOL/KG,,UMOL/KG,,UMOL/KG,,UMOL/KG,,PMOL/KG,,PMOL/KG,,FMOL/KG,,UMOL/KG,,UMOL/KG,,UATM,,DEG C,,,DEG C,/MILLE,,/MILLE,,/MILLE,UMOL/KG,,UMOL/KG,,NMOL/KG,,1/M,,1/M,,1/M,,1/M,,1/M,,1/M,,1/M,,1/NM,,1/NM,,PMOL/KG,,/MILLE,,/MILLE,/MILLE,,/MILLE,,
33RO20130803,       A16N,      17,          1,         18,         18,2,20130807,       0617,    57.0009,   -20.0015,        977,     2.2,  13.6680,  35.2226,2,  35.2227,2,    259.2,2,     261,2,    0.20,6,    0.70,6,    0.03,6,    0.13,6,   2.973,2,   1.709,2,   1.785,2,  2076.0,6,  2328.7,2,   418.8,2,      20,   7.9496,2,    25.00, -999.00,9,  -999.0,9,  -999.0, -999.00,9, -999.00,9,      9.608,2,-999.0000,9,-999.0000,9,-999.0000,9,-999.0000,9,-999.0000,9,-999.0000,9,-999.0000,9,-999.0000,9,-999.0000,9,     -999.0,5,  -999.0,9,     -999.0,     -999.0,9,     -999.0,20130807,       0652
33RO20130803,       A16N,      17,          1,         17,         17,2,20130807,       0617,    57.0009,   -20.0015,        977,    28.1,  13.4330,  35.2256,2,  35.2281,2,    261.3,2,   262.8,2,    0.20,6,    1.50,6,    0.05,6,    0.20,6,   3.033,2,   1.744,2,   1.933,2,  2084.3,2,  2327.9,2,   440.7,2,      20,   7.9326,2,    25.00, -999.00,9,  -999.0,9,  -999.0, -999.00,9, -999.00,9,      9.863,2,-999.0000,9,-999.0000,9,-999.0000,9,-999.0000,9,-999.0000,9,-999.0000,9,-999.0000,9,-999.0000,9,-999.0000,9,     -999.0,5,  -999.0,9,     -999.0,     -999.0,9,     -999.0,20130807,       0650
33RO20130803,       A16N,      17,          1,         16,         16,2,20130807,       0617,    57.0009,   -20.0015,        977,    54.8,  11.8903,  35.2387,2,  35.2389,2,    263.6,2,   264.3,2,    0.20,2,    5.10,2,    0.12,2,    0.45,2,-999.000,9,-999.000,9,-999.000,9,  2113.9,2,  2325.8,6,   515.7,2,      20,   7.8689,2,    25.00, -999.00,9,  -999.0,9,  -999.0, -999.00,9, -999.00,9,     -999.0,9,-999.0000,9,-999.0000,9,-999.0000,9,-999.0000,9,-999.0000,9,-999.0000,9,-999.0000,9,-999.0000,9,-999.0000,9,     -999.0,9,  -999.0,9,     -999.0,     -999.0,9,     -999.0,20130807,       0649
33RO20130803,       A16N,      17,          1,         15,         15,2,20130807,       0617,    57.0009,   -20.0015,        977,    79.6,  11.3281,  35.2584,2,  35.2626,2,    263.8,2,   264.8,2,    0.70,2,    6.50,2,    0.16,2,    0.55,2,   3.316,6,   1.869,6,   1.984,6,  2123.0,2,  2326.0,2,   545.2,2,      20,   7.8500,2,    25.00, -999.00,9,  -999.0,9,  -999.0, -999.00,9, -999.00,9,     10.862,6,-999.0000,9,-999.0000,9,-999.0000,9,-999.0000,9,-999.0000,9,-999.0000,9,-999.0000,9,-999.0000,9,-999.0000,9,     -999.0,5,  -999.0,9,     -999.0,     -999.0,9,     -999.0,20130807,       0647
33RO20130803,       A16N,      17,          1,         14,         14,2,20130807,       0617,    57.0009,   -20.0015,        977,    99.0,  10.0925,  35.2941,2,  35.2930,2,    263.8,2,   264.5,2,    2.10,6,    9.30,6,    0.60,6,    0.67,6,-999.000,9,-999.000,9,-999.000,9,  2138.1,2,  2323.8,2,   596.5,2,      20,   7.8158,2,    25.00, -999.00,9,  -999.0,9,  -999.0, -999.00,9, -999.00,9,     -999.0,9,-999.0000,9,-999.0000,9,-999.0000,9,-999.0000,9,-999.0000,9,-999.0000,9,-999.0000,9,-999.0000,9,-999.0000,9,     -999.0,9,  -999.0,9,     -999.0,     -999.0,9,     -999.0,20130807,       0645
33RO20130803,       A16N,      17,          1,         13,         13,2,20130807,       0617,    57.0009,   -20.0015,        977,   130.1,   9.6077,  35.2908,2,  35.2907,2,    248.5,2,     246,2,    3.80,2,   12.70,2,    0.02,2,    0.81,2,   3.270,2,   1.827,2,   1.852,2,  2150.3,2,  2323.0,2,   648.7,2,      20,   7.7830,6,    25.00, -999.00,9,  -999.0,9,  -999.0, -999.00,9, -999.00,9,     13.051,2,-999.0000,9,-999.0000,9,-999.0000,9,-999.0000,9,-999.0000,9,-999.0000,9,-999.0000,9,-999.0000,9,-999.0000,9,     -999.0,5,  -999.0,9,     -999.0,     -999.0,9,     -999.0,20130807,       0643
33RO20130803,       A16N,      17,          1,         12,         12,2,20130807,       0617,    57.0009,   -20.0015,        977,   155.1,   9.3495,  35.2788,2,  35.2773,2,    234.4,2,   233.6,2,    5.70,2,   14.20,2,    0.02,2,    0.92,2,-999.000,9,-999.000,9,-999.000,9,  2157.1,2,  2322.0,2,   681.4,2,      20,   7.7632,2,    25.00, -999.00,9,  -999.0,9,  -999.0, -999.00,9, -999.00,9,     -999.0,9,-999.0000,9,-999.0000,9,-999.0000,9,-999.0000,9,-999.0000,9,-999.0000,9,-999.0000,9,-999.0000,9,-999.0000,9,     -999.0,9,  -999.0,9,     -999.0,     -999.0,9,     -999.0,20130807,       0642
33RO20130803,       A16N,      17,          1,         11,         11,2,20130807,       0617,    57.0009,   -20.0015,        977,   180.3,   9.2103,  35.2689,2,  35.2684,2,    231.2,2,   230.9,2,    6.40,2,   14.70,2,    0.02,2,    0.94,2,   3.118,2,   1.724,2,   1.508,2,  2158.7,2,  2321.2,6,   690.5,2,      20,   7.7602,2,    25.00, -999.00,9,  -999.0,9,  -999.0, -999.00,9, -999.00,9,     14.638,2,-999.0000,9,-999.0000,9,-999.0000,9,-999.0000,9,-999.0000,9,-999.0000,9,-999.0000,9,-999.0000,9,-999.0000,9,     -999.0,5,  -999.0,9,     -999.0,     -999.0,9,     -999.0,20130807,       0640
33RO20130803,       A16N,      17,          1,         10,         10,2,20130807,       0617,    57.0009,   -20.0015,        977,   204.5,   9.1260,  35.2653,2,  35.2637,2,    228.5,2,   228.4,2,    7.00,2,   15.10,2,    0.02,2,    0.97,2,-999.000,9,-999.000,9,-999.000,9,  2161.5,2,  2320.8,2,   698.8,2,      20,   7.7541,2,    25.00, -999.00,9,  -999.0,9,  -999.0, -999.00,9, -999.00,9,     -999.0,9,-999.0000,9,-999.0000,9,-999.0000,9,-999.0000,9,-999.0000,9,-999.0000,9,-999.0000,9,-999.0000,9,-999.0000,9,     -999.0,9,  -999.0,9,     -999.0,     -999.0,9,     -999.0,20130807,       0639
33RO20130803,       A16N,      17,          1,          9,          9,2,20130807,       0617,    57.0009,   -20.0015,        977,   273.8,   8.9733,  35.2700,2,  35.2688,2,    226.8,2,     228,2,    7.50,6,   15.30,6,    0.01,6,    0.98,6,   3.029,2,   1.673,2,   1.504,2,  2163.1,2,  2321.8,2,   702.2,2,      20,   7.7540,2,    25.00, -999.00,9,  -999.0,9,  -999.0, -999.00,9, -999.00,9,     15.026,2,-999.0000,9,-999.0000,9,-999.0000,9,-999.0000,9,-999.0000,9,-999.0000,9,-999.0000,9,-999.0000,9,-999.0000,9,     -999.0,5,  -999.0,9,     -999.0,     -999.0,9,     -999.0,20130807,       0637
33RO20130803,       A16N,      17,          1,          8,          8,2,20130807,       0617,    57.0009,   -20.0015,        977,   342.6,   8.6390,  35.2504,2,  35.2493,2,    215.6,2,   215.5,2,    8.90,2,   16.70,2,    0.02,2,    1.07,2,-999.000,9,-999.000,9,-999.000,9,  2170.7,2,  2337.1,3,   739.4,2,      20,   7.7313,6,    25.00, -999.00,9,  -999.0,9,  -999.0, -999.00,9, -999.00,9,     -999.0,9,-999.0000,9,-999.0000,9,-999.0000,9,-999.0000,9,-999.0000,9,-999.0000,9,-999.0000,9,-999.0000,9,-999.0000,9,     -999.0,9,  -999.0,9,     -999.0,     -999.0,9,     -999.0,20130807,       0635
33RO20130803,       A16N,      17,          1,          7,          7,2,20130807,       0617,    57.0009,   -20.0015,        977,   418.5,   8.2028,  35.2250,2,  35.2246,2,    208.4,2,   208.9,2,    9.80,2,   17.70,2,    0.02,2,    1.14,2,   2.747,2,   1.476,2,   1.133,2,  2175.2,2,  2321.5,2,   767.0,2,      20,   7.7154,2,    25.00, -999.00,9,  -999.0,9,  -999.0, -999.00,9, -999.00,9,     16.530,2,-999.0000,9,-999.0000,9,-999.0000,9,-999.0000,9,-999.0000,9,-999.0000,9,-999.0000,9,-999.0000,9,-999.0000,9,     -999.0,5,  -999.0,9,     -999.0,     -999.0,9,     -999.0,20130807,       0632
33RO20130803,       A16N,      17,          1,          6,          6,2,20130807,       0617,    57.0009,   -20.0015,        977,   499.1,   7.8521,  35.2128,2,  35.2117,2,    206.8,2,   207.6,2,   10.40,2,   18.20,2,    0.01,2,    1.17,2,-999.000,9,-999.000,9,-999.000,9,  2178.7,2,  2326.1,3,   780.8,2,      20,   7.7107,2,    25.00, -999.00,9,  -999.0,9,  -999.0, -999.00,9, -999.00,9,     -999.0,9,-999.0000,9,-999.0000,9,-999.0000,9,-999.0000,9,-999.0000,9,-999.0000,9,-999.0000,9,-999.0000,9,-999.0000,9,     -999.0,9,  -999.0,9,     -999.0,     -999.0,9,     -999.0,20130807,       0630
33RO20130803,       A16N,      17,          1,          5,          5,2,20130807,       0617,    57.0009,   -20.0015,        977,   560.8,   7.4548,  35.1930,2,  35.1913,2,    207.8,2,   209.1,2,   10.80,2,   18.40,2,    0.01,2,    1.19,2,   2.720,2,   1.438,2,   1.041,2,  2180.5,2,  2319.4,2,   793.2,2,      20,   7.7036,2,    25.00, -999.00,9,  -999.0,9,  -999.0, -999.00,9, -999.00,9,     16.976,2,-999.0000,9,-999.0000,9,-999.0000,9,-999.0000,9,-999.0000,9,-999.0000,9,-999.0000,9,-999.0000,9,-999.0000,9,     -999.0,5,  -999.0,9,     -999.0,     -999.0,9,     -999.0,20130807,       0628
33RO20130803,       A16N,      17,          1,          4,          4,2,20130807,       0617,    57.0009,   -20.0015,        977,   673.5,   6.7380,  35.1655,2,  35.1638,2,    215.9,2,   216.5,2,   11.40,2,   18.50,2,    0.01,2,    1.20,2,   2.808,2,   1.471,2,   1.001,2,  2180.9,2,  2319.7,2,   799.9,2,      20,   7.6990,2,    25.00, -999.00,9,  -999.0,9,  -999.0, -999.00,9, -999.00,9,     16.513,2,-999.0000,9,-999.0000,9,-999.0000,9,-999.0000,9,-999.0000,9,-999.0000,9,-999.0000,9,-999.0000,9,-999.0000,9,     -999.0,5,  -999.0,9,     -999.0,     -999.0,9,     -999.0,20130807,       0625
33RO20130803,       A16N,      17,          1,          3,          3,2,20130807,       0617,    57.0009,   -20.0015,        977,   773.7,   6.0614,  35.1210,2,  35.1197,2,    226.6,2,   226.7,2,   11.80,2,   18.40,2,    0.01,2,    1.19,2,   2.979,6,   1.541,6,   0.968,6,  2179.1,2,  2314.0,2,   805.2,2,      20,   7.7007,2,    25.00, -999.00,9,  -999.0,9,  -999.0, -999.00,9, -999.00,9,     16.041,6,-999.0000,9,-999.0000,9,-999.0000,9,-999.0000,9,-999.0000,9,-999.0000,9,-999.0000,9,-999.0000,9,-999.0000,9,     -999.0,5,  -999.0,9,     -999.0,     -999.0,9,     -999.0,20130807,       0622
33RO20130803,       A16N,      17,          1,          2,          2,2,20130807,       0617,    57.0009,   -20.0015,        977,   873.2,   5.3719,  35.0602,2,  35.0590,2,    238.5,2,   239.3,2,   11.90,2,   18.10,2,    0.01,2,    1.18,2,   3.219,2,   1.654,2,   0.951,2,  2176.8,6,  2310.5,2,   806.0,2,      20,   7.6962,2,    25.00, -999.00,9,  -999.0,9,  -999.0, -999.00,9, -999.00,9,     15.545,2,-999.0000,9,-999.0000,9,-999.0000,9,-999.0000,9,-999.0000,9,-999.0000,9,-999.0000,9,-999.0000,9,-999.0000,9,     -999.0,5,  -999.0,9,     -999.0,     -999.0,9,     -999.0,20130807,       0620
33RO20130803,       A16N,      17,          1,          1,          1,2,20130807,       0617,    57.0009,   -20.0015,        977,   976.9,   5.0988,  35.0393,2,  35.0376,2,    241.6,2,   241.3,2,   14.00,6,   18.20,6,    0.02,6,    1.18,6,   3.264,2,   1.667,2,   0.997,2,  2178.3,2,  2313.9,2,   824.5,2,      20,   7.6938,2,    25.00, -999.00,9,  -999.0,9,  -999.0, -999.00,9, -999.00,9,     15.311,2,-999.0000,9,-999.0000,9,-999.0000,9,-999.0000,9,-999.0000,9,-999.0000,9,-999.0000,9,-999.0000,9,-999.0000,9,     -999.0,5,  -999.0,9,     -999.0,     -999.0,9,     -999.0,20130807,       0617