BOTTLE,20220815CCHSIOAMB
EXPOCODE,SECT_ID,STNNBR,CASTNO,SAMPNO,BTLNBR,BTLNBR_FLAG_W,DATE,TIME,LATITUDE,LONGITUDE,DEPTH,CTDPRS,CTDTMP,CTDSAL,CTDSAL_FLAG_W,SALNTY,SALNTY_FLAG_W,CTDOXY,CTDOXY_FLAG_W,OXYGEN,OXYGEN_FLAG_W,SILCAT,SILCAT_FLAG_W,NITRAT,NITRAT_FLAG_W,NITRIT,NITRIT_FLAG_W,PHSPHT,PHSPHT_FLAG_W,CFC-11,CFC-11_FLAG_W,CFC-12,CFC-12_FLAG_W,SF6,SF6_FLAG_W,TCARBN,TCARBN_FLAG_W,ALKALI,ALKALI_FLAG_W,PCO2,PCO2_FLAG_W,PCO2TMP,PH_SWS,PH_SWS_FLAG_W,PH_TMP,DELC13,DELC13_FLAG_W,DELC14,DELC14_FLAG_W,C14ERR,DOC,DOC_FLAG_W,TDN,TDN_FLAG_W,N2O,N2O_FLAG_W,CDOM325,CDOM325_FLAG_W,CDOM340,CDOM340_FLAG_W,CDOM380,CDOM380_FLAG_W,CDOM412,CDOM412_FLAG_W,CDOM443,CDOM443_FLAG_W,CDOM490,CDOM490_FLAG_W,CDOM555,CDOM555_FLAG_W,CDOMSL,CDOMSL_FLAG_W,CDOMSN,CDOMSN_FLAG_W,CCL4,CCL4_FLAG_W,14C-DOC,14C-DOC_FLAG_W,14C-DOCERR,13C-DOC,13C-DOC_FLAG_W,13C-DOCERR,BTL_DATE,BTL_TIME
,,,,,,,,,,,METERS,DBAR,ITS-90,PSS-78,,PSS-78,,UMOL/KG,,UMOL/KG,,UMOL/KG,,UMOL/KG,,UMOL/KG,,UMOL/KG,,PMOL/KG,,PMOL/KG,,FMOL/KG,,UMOL/KG,,UMOL/KG,,UATM,,DEG C,,,DEG C,/MILLE,,/MILLE,,/MILLE,UMOL/KG,,UMOL/KG,,NMOL/KG,,1/M,,1/M,,1/M,,1/M,,1/M,,1/M,,1/M,,1/NM,,1/NM,,PMOL/KG,,/MILLE,,/MILLE,/MILLE,,/MILLE,,
33RO20130803,       A16N,      89,          1,         24,         24,2,20130909,       0529,    21.4998,   -28.1503,       5364,     3.2,  25.5311,  36.8380,2,  36.8449,2,    198.0,2,   203.9,2,    0.50,2,    0.00,2,    0.01,2,    0.06,2,   1.651,2,   1.033,2,   1.244,2,  2082.6,6,  2415.3,2,   323.3,2,      20,   8.0467,2,    25.00, -999.00,9,  -999.0,9,  -999.0,   71.89,2,    4.82,2,      6.241,2,-999.0000,9,-999.0000,9,-999.0000,9,-999.0000,9,-999.0000,9,-999.0000,9,-999.0000,9,-999.0000,9,-999.0000,9,     -999.0,5,  -999.0,9,     -999.0,     -999.0,9,     -999.0,20130909,       0754
33RO20130803,       A16N,      89,          1,         23,         23,2,20130909,       0529,    21.4998,   -28.1503,       5364,    23.2,  25.5282,  36.8423,2,  36.8468,2,    202.0,2,   204.3,2,    0.50,2,    0.00,2,    0.01,2,    0.06,2,   1.656,2,   1.036,2,   1.247,2,  2082.9,2,  2419.0,6,   322.8,2,      20,   8.0472,6,    25.00, -999.00,9,  -999.0,9,  -999.0,   70.61,2,    3.89,2,      6.235,2,-999.0000,9,-999.0000,9,-999.0000,9,-999.0000,9,-999.0000,9,-999.0000,9,-999.0000,9,-999.0000,9,-999.0000,9,     -999.0,5,  -999.0,9,     -999.0,     -999.0,9,     -999.0,20130909,       0752
33RO20130803,       A16N,      89,          1,         22,         22,2,20130909,       0529,    21.4998,   -28.1503,       5364,    48.1,  24.8957,  37.1585,2,  37.1575,2,    210.7,2,     213,2,    0.50,2,    0.00,2,    0.01,2,    0.02,2,   1.740,2,   1.088,2,   1.284,2,  2095.0,2,  2430.0,3,   322.1,2,      20,   8.0503,2,    25.00, -999.00,9,  -999.0,9,  -999.0,   69.87,2,    3.92,2,      6.497,2,-999.0000,9,-999.0000,9,-999.0000,9,-999.0000,9,-999.0000,9,-999.0000,9,-999.0000,9,-999.0000,9,-999.0000,9,     -999.0,5,  -999.0,9,     -999.0,     -999.0,9,     -999.0,20130909,       0750
33RO20130803,       A16N,      89,          1,         21,         21,2,20130909,       0529,    21.4998,   -28.1503,       5364,    73.6,  23.2760,  37.2299,2,  37.2330,2,    219.3,2,   220.2,2,    0.50,6,    0.00,6,    0.01,6,    0.02,6,-999.000,9,-999.000,9,-999.000,9,  2104.6,2,  1644.2,4,  -999.0,9, -999.00,   8.0404,2,    25.00, -999.00,9,  -999.0,9,  -999.0,   66.87,2,       4,2,     -999.0,9,-999.0000,9,-999.0000,9,-999.0000,9,-999.0000,9,-999.0000,9,-999.0000,9,-999.0000,9,-999.0000,9,-999.0000,9,     -999.0,9,  -999.0,9,     -999.0,     -999.0,9,     -999.0,20130909,       0748
33RO20130803,       A16N,      89,          1,         20,         20,2,20130909,       0529,    21.4998,   -28.1503,       5364,    98.0,  21.9280,  37.2575,2,  37.2550,2,    210.5,2,   211.2,2,    0.60,2,    0.10,2,    0.05,2,    0.06,6,   1.967,2,   1.196,2,   1.349,2,  2121.5,2,  2435.8,2,   353.6,2,      20,   8.0172,2,    25.00, -999.00,9,  -999.0,9,  -999.0,    59.9,2,     4.6,2,      7.453,2,-999.0000,9,-999.0000,9,-999.0000,9,-999.0000,9,-999.0000,9,-999.0000,9,-999.0000,9,-999.0000,9,-999.0000,9,     -999.0,5,  -999.0,9,     -999.0,     -999.0,9,     -999.0,20130909,       0746
33RO20130803,       A16N,      89,          1,         19,         19,2,20130909,       0529,    21.4998,   -28.1503,       5364,   148.5,  20.0268,  36.9833,2,  36.9764,2,    175.8,2,   175.7,2,    1.50,2,    4.90,2,    0.04,2,    0.31,6,   2.083,2,   1.255,2,   1.266,2,  2153.4,2,  2436.6,2,  -999.0,9, -999.00,   7.9328,2,    25.00, -999.00,9,  -999.0,9,  -999.0,   52.81,2,    9.48,2,     10.053,2,-999.0000,9,-999.0000,9,-999.0000,9,-999.0000,9,-999.0000,9,-999.0000,9,-999.0000,9,-999.0000,9,-999.0000,9,     -999.0,5,  -999.0,9,     -999.0,     -999.0,9,     -999.0,20130909,       0743
33RO20130803,       A16N,      89,          1,         18,         18,2,20130909,       0529,    21.4998,   -28.1503,       5364,   224.4,  17.7856,  36.5689,2,  36.5588,2,    165.5,2,     164,2,    2.60,2,    8.80,2,    0.02,2,    0.52,6,-999.000,9,-999.000,9,-999.000,9,  2162.7,2,  2383.3,2,   503.5,2,      20,   7.8778,2,    25.00, -999.00,9,  -999.0,9,  -999.0,   51.17,2,   13.12,2,     -999.0,9,-999.0000,9,-999.0000,9,-999.0000,9,-999.0000,9,-999.0000,9,-999.0000,9,-999.0000,9,-999.0000,9,-999.0000,9,     -999.0,9,  -999.0,9,     -999.0,     -999.0,9,     -999.0,20130909,       0740
33RO20130803,       A16N,      89,          1,         17,         17,2,20130909,       0529,    21.4998,   -28.1503,       5364,   297.9,  15.9136,  36.2046,2,  36.1931,2,    163.0,2,     162,2,    3.60,2,   11.40,2,    0.01,2,    0.67,6,   2.341,2,   1.358,2,   1.130,2,  -999.0,9,  -999.0,9,  -999.0,9, -999.00,-999.0000,9,  -999.00, -999.00,9,  -999.0,9,  -999.0,   49.21,2,   14.57,2,     14.401,2,-999.0000,9,-999.0000,9,-999.0000,9,-999.0000,9,-999.0000,9,-999.0000,9,-999.0000,9,-999.0000,9,-999.0000,9,     -999.0,5,  -999.0,9,     -999.0,     -999.0,9,     -999.0,20130909,       0738
33RO20130803,       A16N,      89,          1,         16,         16,2,20130909,       0529,    21.4998,   -28.1503,       5364,   398.0,  14.3611,  35.9617,2,  35.9538,2,    167.9,2,   169.3,2,    4.40,2,   12.80,2,    0.01,2,    0.76,6,   2.479,2,   1.397,2,   1.045,2,  2161.7,2,  2355.7,2,   588.1,2,      20,   7.8186,2,    25.00, -999.00,9,  -999.0,9,  -999.0,   47.02,2,   15.62,2,     14.071,2,-999.0000,9,-999.0000,9,-999.0000,9,-999.0000,9,-999.0000,9,-999.0000,9,-999.0000,9,-999.0000,9,-999.0000,9,     -999.0,5,  -999.0,9,     -999.0,     -999.0,9,     -999.0,20130909,       0735
33RO20130803,       A16N,      89,          1,         15,         15,2,20130909,       0529,    21.4998,   -28.1503,       5364,   498.4,  12.3318,  35.6741,2,  33.7080,4,    155.7,2,   154.7,2,    6.90,2,   17.70,2,    0.01,2,    1.05,6,   2.243,2,   1.209,2,   0.711,2,  -999.0,9,  -999.0,9,  -999.0,9, -999.00,-999.0000,9,  -999.00, -999.00,9,  -999.0,9,  -999.0,   45.39,2,   20.45,2,     16.876,2,-999.0000,9,-999.0000,9,-999.0000,9,-999.0000,9,-999.0000,9,-999.0000,9,-999.0000,9,-999.0000,9,-999.0000,9,     -999.0,5,  -999.0,9,     -999.0,     -999.0,9,     -999.0,20130909,       0731
33RO20130803,       A16N,      89,          1,         14,         14,2,20130909,       0529,    21.4998,   -28.1503,       5364,   648.7,   9.9105,  35.3612,2,  33.4088,4,    123.6,2,   124.1,2,   13.00,2,   25.30,2,    0.01,2,    1.56,6,   1.052,2,   0.545,2,   0.225,2,  2203.9,2,  2327.0,2,   892.3,2,      20,   7.6514,2,    25.00, -999.00,9,  -999.0,9,  -999.0,   43.99,2,   27.42,2,     21.746,2,-999.0000,9,-999.0000,9,-999.0000,9,-999.0000,9,-999.0000,9,-999.0000,9,-999.0000,9,-999.0000,9,-999.0000,9,     -999.0,5,  -999.0,9,     -999.0,     -999.0,9,     -999.0,20130909,       0728
33RO20130803,       A16N,      89,          1,         13,         13,2,20130909,       0529,    21.4998,   -28.1503,       5364,   798.3,   7.4049,  35.0375,2,  33.0788,4,    125.2,2,   125.4,2,   19.70,2,   29.60,2,    0.01,2,    1.90,6,   0.241,6,   0.125,6,   0.055,6,  2214.4,2,  2316.1,2,  -999.0,9, -999.00,   7.6017,2,    25.00, -999.00,9,  -999.0,9,  -999.0,   42.71,2,   31.95,2,     23.170,6,-999.0000,9,-999.0000,9,-999.0000,9,-999.0000,9,-999.0000,9,-999.0000,9,-999.0000,9,-999.0000,9,-999.0000,9,     -999.0,5,  -999.0,9,     -999.0,     -999.0,9,     -999.0,20130909,       0724
33RO20130803,       A16N,      89,          1,         12,         12,2,20130909,       0529,    21.4998,   -28.1503,       5364,   948.7,   6.5966,  34.9962,2,  33.0376,4,    140.1,2,   139.8,2,   19.50,2,   28.80,2,    0.00,2,    1.91,2,   0.130,2,   0.070,2,   0.000,2,  2211.5,2,  2321.7,6,   994.3,2,      20,   7.6108,2,    25.00, -999.00,9,  -999.0,9,  -999.0,   41.37,2,    31.3,2,     21.824,2,-999.0000,9,-999.0000,9,-999.0000,9,-999.0000,9,-999.0000,9,-999.0000,9,-999.0000,9,-999.0000,9,-999.0000,9,     -999.0,5,  -999.0,9,     -999.0,     -999.0,9,     -999.0,20130909,       0720
33RO20130803,       A16N,      89,          1,         11,         11,2,20130909,       0529,    21.4998,   -28.1503,       5364,  1098.5,   6.0064,  35.0237,2,  33.0649,4,    158.6,2,   158.1,2,   20.20,2,   27.20,2,    0.00,2,    1.82,2,   0.079,2,   0.042,2,   0.000,2,  2205.3,2,  2319.8,2,  -999.0,9, -999.00,   7.6346,2,    25.00, -999.00,9,  -999.0,9,  -999.0,   41.08,2,   29.86,2,     19.891,2,-999.0000,9,-999.0000,9,-999.0000,9,-999.0000,9,-999.0000,9,-999.0000,9,-999.0000,9,-999.0000,9,-999.0000,9,     -999.0,5,  -999.0,9,     -999.0,     -999.0,9,     -999.0,20130909,       0715
33RO20130803,       A16N,      89,          1,         10,         10,2,20130909,       0529,    21.4998,   -28.1503,       5364,  1398.7,   5.2196,  35.0650,2,  33.1063,4,    190.9,2,   189.9,2,   20.20,2,   24.10,2,    0.00,2,    1.62,2,   0.034,2,   0.019,2,   0.000,2,  2194.0,2,  2324.3,2,  -999.0,9, -999.00,   7.6760,2,    25.00, -999.00,9,  -999.0,9,  -999.0,   41.16,2,   26.55,2,     16.905,2,-999.0000,9,-999.0000,9,-999.0000,9,-999.0000,9,-999.0000,9,-999.0000,9,-999.0000,9,-999.0000,9,-999.0000,9,     -999.0,5,  -999.0,9,     -999.0,     -999.0,9,     -999.0,20130909,       0706
33RO20130803,       A16N,      89,          1,          9,          9,2,20130909,       0529,    21.4998,   -28.1503,       5364,  1698.6,   4.3753,  35.0321,2,  33.0745,4,    215.9,2,   211.9,2,   22.00,2,   22.50,2,    0.00,2,    1.52,2,-999.000,9,-999.000,9,-999.000,9,  -999.0,9,  -999.0,9,  -999.0,9, -999.00,-999.0000,9,  -999.00, -999.00,9,  -999.0,9,  -999.0,   41.24,2,   24.94,2,     -999.0,9,-999.0000,9,-999.0000,9,-999.0000,9,-999.0000,9,-999.0000,9,-999.0000,9,-999.0000,9,-999.0000,9,-999.0000,9,     -999.0,9,  -999.0,9,     -999.0,     -999.0,9,     -999.0,20130909,       0659
33RO20130803,       A16N,      89,          1,          8,          8,2,20130909,       0529,    21.4998,   -28.1503,       5364,  2098.5,   3.6409,  34.9930,2,  33.0343,4,    232.4,2,   230.6,2,   25.10,2,   21.30,2,    0.00,2,    1.44,2,   0.001,2,   0.002,2,   0.013,2,  2183.0,2,  2327.6,2,   777.1,2,      20,   7.7153,2,    25.00, -999.00,9,  -999.0,9,  -999.0,   40.69,2,   23.81,2,     14.027,2,-999.0000,9,-999.0000,9,-999.0000,9,-999.0000,9,-999.0000,9,-999.0000,9,-999.0000,9,-999.0000,9,-999.0000,9,     -999.0,5,  -999.0,9,     -999.0,     -999.0,9,     -999.0,20130909,       0642
33RO20130803,       A16N,      89,          1,          7,          7,2,20130909,       0529,    21.4998,   -28.1503,       5364,  2558.0,   3.1486,  34.9713,2,  34.9736,2,    238.7,2,   238.3,2,   30.30,2,   20.90,2,    0.00,2,    1.42,2,   0.001,2,   0.001,2,   0.000,2,  -999.0,9,  -999.0,9,  -999.0,9, -999.00,-999.0000,9,  -999.00, -999.00,9,  -999.0,9,  -999.0,   40.75,2,   23.29,2,     13.320,2,-999.0000,9,-999.0000,9,-999.0000,9,-999.0000,9,-999.0000,9,-999.0000,9,-999.0000,9,-999.0000,9,-999.0000,9,     -999.0,5,  -999.0,9,     -999.0,     -999.0,9,     -999.0,20130909,       0632
33RO20130803,       A16N,      89,          1,          6,          6,2,20130909,       0529,    21.4998,   -28.1503,       5364,  3058.5,   2.7089,  34.9349,2,  34.9362,2,    240.9,2,   240.8,2,   36.80,2,   21.40,2,    0.00,2,    1.44,2,   0.006,2,   0.005,2,   0.000,2,  2192.5,2,  2340.3,2,   748.6,2,      20,   7.7291,6,    25.00, -999.00,9,  -999.0,9,  -999.0,    40.8,2,   23.87,2,     13.253,2,-999.0000,9,-999.0000,9,-999.0000,9,-999.0000,9,-999.0000,9,-999.0000,9,-999.0000,9,-999.0000,9,-999.0000,9,     -999.0,5,  -999.0,9,     -999.0,     -999.0,9,     -999.0,20130909,       0622
33RO20130803,       A16N,      89,          1,          5,          5,2,20130909,       0529,    21.4998,   -28.1503,       5364,  3558.6,   2.4692,  34.9091,2,  34.9087,2,    242.0,2,   243.1,2,   41.90,2,   21.80,2,    0.00,2,    1.47,2,   0.001,2,   0.001,2,   0.000,2,  -999.0,9,  -999.0,9,  -999.0,9, -999.00,-999.0000,9,  -999.00, -999.00,9,  -999.0,9,  -999.0,   40.82,2,   24.25,2,     13.387,2,-999.0000,9,-999.0000,9,-999.0000,9,-999.0000,9,-999.0000,9,-999.0000,9,-999.0000,9,-999.0000,9,-999.0000,9,     -999.0,5,  -999.0,9,     -999.0,     -999.0,9,     -999.0,20130909,       0612
33RO20130803,       A16N,      89,          1,          4,          4,2,20130909,       0529,    21.4998,   -28.1503,       5364,  4058.4,   2.3772,  34.8947,2,  34.8982,2,    241.8,2,   242.7,2,   45.20,6,   22.30,6,    0.00,6,    1.50,6,-999.000,9,-999.000,9,-999.000,9,  2199.6,2,  2355.3,2,   754.7,2,      20,   7.7274,2,    25.00, -999.00,9,  -999.0,9,  -999.0,   40.68,2,   24.69,2,     -999.0,9,-999.0000,9,-999.0000,9,-999.0000,9,-999.0000,9,-999.0000,9,-999.0000,9,-999.0000,9,-999.0000,9,-999.0000,9,     -999.0,9,  -999.0,9,     -999.0,     -999.0,9,     -999.0,20130909,       0601
33RO20130803,       A16N,      89,          1,          3,          3,2,20130909,       0529,    21.4998,   -28.1503,       5364,  4558.9,   2.3674,  34.8873,2,  34.8882,2,    242.1,2,   242.5,2,   46.80,6,   22.40,6,    0.01,6,    1.51,6,   0.003,2,   0.003,2,   0.000,2,  -999.0,9,  -999.0,9,  -999.0,9, -999.00,-999.0000,9,  -999.00, -999.00,9,  -999.0,9,  -999.0,   40.31,2,   24.84,2,     13.640,2,-999.0000,9,-999.0000,9,-999.0000,9,-999.0000,9,-999.0000,9,-999.0000,9,-999.0000,9,-999.0000,9,-999.0000,9,     -999.0,5,  -999.0,9,     -999.0,     -999.0,9,     -999.0,20130909,       0551
33RO20130803,       A16N,      89,          1,          2,          2,2,20130909,       0529,    21.4998,   -28.1503,       5364,  5058.5,   2.4024,  34.8837,2,  34.8863,2,    243.9,2,   243.5,2,   47.40,6,   22.50,6,    0.00,6,    1.51,6,-999.000,9,-999.000,9,-999.000,9,  2202.0,2,  2350.5,6,  -999.0,9, -999.00,   7.7272,2,    25.00, -999.00,9,  -999.0,9,  -999.0,   40.24,2,   24.97,2,     -999.0,9,-999.0000,9,-999.0000,9,-999.0000,9,-999.0000,9,-999.0000,9,-999.0000,9,-999.0000,9,-999.0000,9,-999.0000,9,     -999.0,9,  -999.0,9,     -999.0,     -999.0,9,     -999.0,20130909,       0540
33RO20130803,       A16N,      89,          1,          1,          1,2,20130909,       0529,    21.4998,   -28.1503,       5364,  5429.2,   2.4470,  34.8827,2,  34.8837,2,    243.5,2,   243.9,2,   47.60,6,   22.50,6,    0.01,6,    1.51,6,   0.007,2,   0.006,2,   0.000,2,  2202.0,6,  2353.8,2,   760.9,2,      20,   7.7237,2,    25.00, -999.00,9,  -999.0,9,  -999.0,   39.57,2,      25,2,     13.763,2,-999.0000,9,-999.0000,9,-999.0000,9,-999.0000,9,-999.0000,9,-999.0000,9,-999.0000,9,-999.0000,9,-999.0000,9,     -999.0,5,  -999.0,9,     -999.0,     -999.0,9,     -999.0,20130909,       0529