BOTTLE,20220815CCHSIOAMB
EXPOCODE,SECT_ID,STNNBR,CASTNO,SAMPNO,BTLNBR,BTLNBR_FLAG_W,DATE,TIME,LATITUDE,LONGITUDE,DEPTH,CTDPRS,CTDTMP,CTDSAL,CTDSAL_FLAG_W,SALNTY,SALNTY_FLAG_W,CTDOXY,CTDOXY_FLAG_W,OXYGEN,OXYGEN_FLAG_W,SILCAT,SILCAT_FLAG_W,NITRAT,NITRAT_FLAG_W,NITRIT,NITRIT_FLAG_W,PHSPHT,PHSPHT_FLAG_W,CFC-11,CFC-11_FLAG_W,CFC-12,CFC-12_FLAG_W,SF6,SF6_FLAG_W,TCARBN,TCARBN_FLAG_W,ALKALI,ALKALI_FLAG_W,PCO2,PCO2_FLAG_W,PCO2TMP,PH_SWS,PH_SWS_FLAG_W,PH_TMP,DELC13,DELC13_FLAG_W,DELC14,DELC14_FLAG_W,C14ERR,DOC,DOC_FLAG_W,TDN,TDN_FLAG_W,N2O,N2O_FLAG_W,CDOM325,CDOM325_FLAG_W,CDOM340,CDOM340_FLAG_W,CDOM380,CDOM380_FLAG_W,CDOM412,CDOM412_FLAG_W,CDOM443,CDOM443_FLAG_W,CDOM490,CDOM490_FLAG_W,CDOM555,CDOM555_FLAG_W,CDOMSL,CDOMSL_FLAG_W,CDOMSN,CDOMSN_FLAG_W,CCL4,CCL4_FLAG_W,14C-DOC,14C-DOC_FLAG_W,14C-DOCERR,13C-DOC,13C-DOC_FLAG_W,13C-DOCERR,BTL_DATE,BTL_TIME
,,,,,,,,,,,METERS,DBAR,ITS-90,PSS-78,,PSS-78,,UMOL/KG,,UMOL/KG,,UMOL/KG,,UMOL/KG,,UMOL/KG,,UMOL/KG,,PMOL/KG,,PMOL/KG,,FMOL/KG,,UMOL/KG,,UMOL/KG,,UATM,,DEG C,,,DEG C,/MILLE,,/MILLE,,/MILLE,UMOL/KG,,UMOL/KG,,NMOL/KG,,1/M,,1/M,,1/M,,1/M,,1/M,,1/M,,1/M,,1/NM,,1/NM,,PMOL/KG,,/MILLE,,/MILLE,/MILLE,,/MILLE,,
33RO20130803,       A16N,      70,          1,         24,         24,2,20130822,       0047,    30.5005,   -23.0993,       5296,     3.8,  24.0053,  37.2112,2,  37.2134,2,    208.2,2,   210.6,2,    0.60,2,    0.00,2,    0.00,2,    0.01,2,   1.776,2,   1.122,2,   1.359,2,  2118.7,6,  2434.6,2,   346.3,2,      20,   8.0190,2,    25.00, -999.00,9,  -999.0,9,  -999.0,   65.08,2,    4.02,2,      6.543,2,-999.0000,9,-999.0000,9,-999.0000,9,-999.0000,9,-999.0000,9,-999.0000,9,-999.0000,9,-999.0000,9,-999.0000,9,     -999.0,5,  -999.0,9,     -999.0,     -999.0,9,     -999.0,20130822,       0251
33RO20130803,       A16N,      70,          1,         23,         23,2,20130822,       0047,    30.5005,   -23.0993,       5296,    23.7,  24.0072,  37.2098,2,  37.1919,2,    208.8,2,   212.2,2,    0.60,2,    0.00,2,    0.00,2,    0.01,2,   1.809,6,   1.132,6,   1.372,6,  2117.7,2,  2433.3,6,   346.3,2,      20,   8.0222,6,    25.00, -999.00,9,  -999.0,9,  -999.0,   64.38,2,    3.63,2,      6.589,6,-999.0000,9,-999.0000,9,-999.0000,9,-999.0000,9,-999.0000,9,-999.0000,9,-999.0000,9,-999.0000,9,-999.0000,9,     -999.0,5,  -999.0,9,     -999.0,     -999.0,9,     -999.0,20130822,       0249
33RO20130803,       A16N,      70,          1,         22,         22,2,20130822,       0047,    30.5005,   -23.0993,       5296,    48.4,  22.2874,  37.1066,2,  37.0998,2,    222.0,2,   223.7,2,    0.60,2,    0.00,2,    0.00,2,    0.01,2,   1.967,2,   1.218,2,   1.432,2,  2113.6,2,  2427.4,2,   347.0,2,      20,   8.0175,2,    25.00, -999.00,9,  -999.0,9,  -999.0,   63.59,2,       3,2,      6.984,2,-999.0000,9,-999.0000,9,-999.0000,9,-999.0000,9,-999.0000,9,-999.0000,9,-999.0000,9,-999.0000,9,-999.0000,9,     -999.0,5,  -999.0,9,     -999.0,     -999.0,9,     -999.0,20130822,       0248
33RO20130803,       A16N,      70,          1,         21,         21,2,20130822,       0047,    30.5005,   -23.0993,       5296,    68.7,  21.7646,  37.0674,2,  36.5451,4,    224.7,2,   226.1,2,    0.60,2,    0.00,2,    0.00,2,    0.02,2,   2.006,2,   1.247,2,   1.468,2,  2109.3,2,  2418.3,2,   349.8,2,      20,   8.0153,2,    25.00, -999.00,9,  -999.0,9,  -999.0,   62.28,2,    3.24,2,      7.186,2,-999.0000,9,-999.0000,9,-999.0000,9,-999.0000,9,-999.0000,9,-999.0000,9,-999.0000,9,-999.0000,9,-999.0000,9,     -999.0,5,  -999.0,9,     -999.0,     -999.0,9,     -999.0,20130822,       0246
33RO20130803,       A16N,      70,          1,         20,         20,2,20130822,       0047,    30.5005,   -23.0993,       5296,    98.8,  19.7989,  36.8043,2,  36.8001,2,    227.7,2,   225.7,2,    0.70,2,    0.00,2,    0.00,2,    0.02,2,   2.129,2,   1.309,2,   1.499,2,  2109.5,2,  2408.8,2,   362.4,2,      20,   8.0012,2,    25.00, -999.00,9,  -999.0,9,  -999.0,   60.39,2,     3.2,2,      7.517,2,-999.0000,9,-999.0000,9,-999.0000,9,-999.0000,9,-999.0000,9,-999.0000,9,-999.0000,9,-999.0000,9,-999.0000,9,     -999.0,5,  -999.0,9,     -999.0,     -999.0,9,     -999.0,20130822,       0243
33RO20130803,       A16N,      70,          1,         19,         19,2,20130822,       0047,    30.5005,   -23.0993,       5296,   149.4,  18.7303,  36.7446,2,  36.7432,2,    208.6,2,   209.5,2,    0.90,2,    1.50,2,    0.04,2,    0.09,2,   2.208,2,   1.342,2,   1.479,2,  2124.9,2,  2402.8,2,   396.4,2,      20,   7.9668,2,    25.00, -999.00,9,  -999.0,9,  -999.0,   51.33,2,    4.66,2,      8.058,2,-999.0000,9,-999.0000,9,-999.0000,9,-999.0000,9,-999.0000,9,-999.0000,9,-999.0000,9,-999.0000,9,-999.0000,9,     -999.0,5,  -999.0,9,     -999.0,     -999.0,9,     -999.0,20130822,       0240
33RO20130803,       A16N,      70,          1,         18,         18,2,20130822,       0047,    30.5005,   -23.0993,       5296,   223.9,  17.3455,  36.5128,2,  36.5152,2,    197.0,2,   197.3,2,    1.60,2,    5.10,2,    0.01,2,    0.29,2,   2.323,2,   1.398,2,   1.399,2,  2136.6,2,  2388.5,2,   443.9,2,      20,   7.9238,2,    25.00, -999.00,9,  -999.0,9,  -999.0,   49.47,2,    8.15,2,      9.445,2,-999.0000,9,-999.0000,9,-999.0000,9,-999.0000,9,-999.0000,9,-999.0000,9,-999.0000,9,-999.0000,9,-999.0000,9,     -999.0,5,  -999.0,9,     -999.0,     -999.0,9,     -999.0,20130822,       0238
33RO20130803,       A16N,      70,          1,         17,         17,2,20130822,       0047,    30.5005,   -23.0993,       5296,   298.5,  16.2383,  36.3168,2,  36.3115,2,    196.0,2,   195.2,2,    2.30,2,    7.00,2,    0.01,2,    0.42,2,   2.455,2,   1.434,2,   1.376,2,  2141.0,2,  2375.4,2,   478.7,2,      20,   7.8949,2,    25.00, -999.00,9,  -999.0,9,  -999.0,   48.17,2,    9.86,2,     10.403,2,-999.0000,9,-999.0000,9,-999.0000,9,-999.0000,9,-999.0000,9,-999.0000,9,-999.0000,9,-999.0000,9,-999.0000,9,     -999.0,5,  -999.0,9,     -999.0,     -999.0,9,     -999.0,20130822,       0235
33RO20130803,       A16N,      70,          1,         16,         16,2,20130822,       0047,    30.5005,   -23.0993,       5296,   397.9,  14.6747,  36.0333,2,  36.0309,2,    192.2,2,   191.6,2,    3.30,2,    9.80,2,    0.00,2,    0.59,2,   2.572,2,   1.477,2,   1.240,2,  2147.9,2,  2360.2,2,   531.0,2,      20,   7.8546,2,    25.00, -999.00,9,  -999.0,9,  -999.0,   45.84,2,    12.2,2,     11.755,2,-999.0000,9,-999.0000,9,-999.0000,9,-999.0000,9,-999.0000,9,-999.0000,9,-999.0000,9,-999.0000,9,-999.0000,9,     -999.0,5,  -999.0,9,     -999.0,     -999.0,9,     -999.0,20130822,       0232
33RO20130803,       A16N,      70,          1,         15,         15,2,20130822,       0047,    30.5005,   -23.0993,       5296,   498.5,  13.0435,  35.7825,2,  35.7776,2,    187.6,2,   185.7,2,    4.80,2,   13.20,2,    0.00,2,    0.79,2,   2.616,2,   1.465,2,   1.127,2,  2160.0,2,  2346.2,2,   602.7,2,      20,   7.8057,6,    25.00, -999.00,9,  -999.0,9,  -999.0,   45.01,2,   15.69,2,     13.694,2,-999.0000,9,-999.0000,9,-999.0000,9,-999.0000,9,-999.0000,9,-999.0000,9,-999.0000,9,-999.0000,9,-999.0000,9,     -999.0,5,  -999.0,9,     -999.0,     -999.0,9,     -999.0,20130822,       0229
33RO20130803,       A16N,      70,          1,         14,         14,2,20130822,       0047,    30.5005,   -23.0993,       5296,   649.0,  11.3031,  35.5692,2,  35.5691,2,    169.2,2,   168.2,2,    8.00,2,   17.90,2,    0.00,2,    1.10,2,   2.177,2,   1.158,2,   0.715,2,  2177.6,2,  2336.6,2,   709.5,2,      20,   7.7466,2,    25.00, -999.00,9,  -999.0,9,  -999.0,   44.27,2,   20.59,2,     16.211,2,-999.0000,9,-999.0000,9,-999.0000,9,-999.0000,9,-999.0000,9,-999.0000,9,-999.0000,9,-999.0000,9,-999.0000,9,     -999.0,5,  -999.0,9,     -999.0,     -999.0,9,     -999.0,20130822,       0225
33RO20130803,       A16N,      70,          1,         13,         13,2,20130822,       0047,    30.5005,   -23.0993,       5296,   799.4,   9.6734,  35.4420,2,  35.4422,2,    160.6,2,   155.7,2,   12.10,2,   21.90,2,    0.00,2,    1.37,2,   1.286,2,   0.666,2,   0.308,2,  2192.7,2,  2332.9,2,   786.8,6,      20,   7.7040,2,    25.00, -999.00,9,  -999.0,9,  -999.0,   43.47,2,   24.24,2,     18.307,2,-999.0000,9,-999.0000,9,-999.0000,9,-999.0000,9,-999.0000,9,-999.0000,9,-999.0000,9,-999.0000,9,-999.0000,9,     -999.0,5,  -999.0,9,     -999.0,     -999.0,9,     -999.0,20130822,       0221
33RO20130803,       A16N,      70,          1,         12,         12,2,20130822,       0047,    30.5005,   -23.0993,       5296,   949.3,   8.3944,  35.3583,2,  35.3574,2,    153.8,2,   153.7,2,   15.60,2,   24.10,2,    0.00,2,    1.53,2,   0.711,2,   0.369,2,   0.152,2,  2202.5,2,  2337.9,6,   834.5,2,      20,   7.6798,2,    25.00, -999.00,9,  -999.0,9,  -999.0,   42.86,2,   26.47,2,     18.965,2,-999.0000,9,-999.0000,9,-999.0000,9,-999.0000,9,-999.0000,9,-999.0000,9,-999.0000,9,-999.0000,9,-999.0000,9,     -999.0,5,  -999.0,9,     -999.0,     -999.0,9,     -999.0,20130822,       0217
33RO20130803,       A16N,      70,          1,         11,         11,2,20130822,       0047,    30.5005,   -23.0993,       5296,  1099.1,   7.8624,  35.4171,2,  35.4180,2,    174.4,2,   174.4,2,   15.30,2,   21.90,2,    0.00,2,    1.41,2,   0.752,2,   0.386,2,   0.142,2,  2197.7,6,  2342.5,2,   785.0,2,      20,   7.7055,2,    25.00, -999.00,9,  -999.0,9,  -999.0,   42.17,2,   23.96,2,     17.157,2,-999.0000,9,-999.0000,9,-999.0000,9,-999.0000,9,-999.0000,9,-999.0000,9,-999.0000,9,-999.0000,9,-999.0000,9,     -999.0,5,  -999.0,9,     -999.0,     -999.0,9,     -999.0,20130822,       0213
33RO20130803,       A16N,      70,          1,         10,         10,2,20130822,       0047,    30.5005,   -23.0993,       5296,  1298.7,   7.0616,  35.4032,2,  35.4030,2,    195.6,2,   196.2,2,   14.80,2,   20.40,2,    0.00,2,    1.31,2,   0.856,2,   0.431,2,   0.171,2,  2191.6,2,  2343.0,2,   751.7,2,      20,   7.7211,2,    25.00, -999.00,9,  -999.0,9,  -999.0,   41.53,2,   22.56,2,     15.482,2,-999.0000,9,-999.0000,9,-999.0000,9,-999.0000,9,-999.0000,9,-999.0000,9,-999.0000,9,-999.0000,9,-999.0000,9,     -999.0,5,  -999.0,9,     -999.0,     -999.0,9,     -999.0,20130822,       0208
33RO20130803,       A16N,      70,          1,          9,          9,2,20130822,       0047,    30.5005,   -23.0993,       5296,  1595.6,   5.6692,  35.2637,2,  35.2642,2,    222.7,2,   228.9,2,   14.00,2,   18.70,2,    0.00,2,    1.21,2,   1.415,2,   0.694,2,   0.236,2,  2180.8,2,  2332.9,2,   736.5,2,      20,   7.7307,2,    25.00, -999.00,9,  -999.0,9,  -999.0,   40.87,2,   20.92,2,     14.233,2,-999.0000,9,-999.0000,9,-999.0000,9,-999.0000,9,-999.0000,9,-999.0000,9,-999.0000,9,-999.0000,9,-999.0000,9,     -999.0,5,  -999.0,9,     -999.0,     -999.0,9,     -999.0,20130822,       0202
33RO20130803,       A16N,      70,          1,          8,          8,2,20130822,       0047,    30.5005,   -23.0993,       5296,  1998.9,   4.2228,  35.0940,2,  35.0943,2,    245.9,2,   244.4,2,   18.00,2,   19.00,2,    0.00,2,    1.25,2,   0.773,2,   0.381,2,   0.083,2,  2174.5,2,  2324.7,2,   731.9,2,      20,   7.7290,2,    25.00, -999.00,9,  -999.0,9,  -999.0,   40.31,2,   21.57,2,     13.581,2,-999.0000,9,-999.0000,9,-999.0000,9,-999.0000,9,-999.0000,9,-999.0000,9,-999.0000,9,-999.0000,9,-999.0000,9,     -999.0,5,  -999.0,9,     -999.0,     -999.0,9,     -999.0,20130822,       0154
33RO20130803,       A16N,      70,          1,          7,          7,2,20130822,       0047,    30.5005,   -23.0993,       5296,  2398.6,   3.4215,  35.0065,2,  35.0055,2,    244.8,2,   243.9,2,   25.90,2,   20.10,2,    0.00,2,    1.34,2,   0.184,2,   0.091,2,   0.046,2,  2180.3,2,  2332.2,2,   736.7,2,      20,   7.7293,2,    25.00, -999.00,9,  -999.0,9,  -999.0,   40.15,2,   22.85,2,     13.504,2,-999.0000,9,-999.0000,9,-999.0000,9,-999.0000,9,-999.0000,9,-999.0000,9,-999.0000,9,-999.0000,9,-999.0000,9,     -999.0,5,  -999.0,9,     -999.0,     -999.0,9,     -999.0,20130822,       0146
33RO20130803,       A16N,      70,          1,          6,          6,2,20130822,       0047,    30.5005,   -23.0993,       5296,  2797.0,   2.9328,  34.9570,2,  34.9567,2,    246.6,2,   245.8,2,   31.50,2,   20.60,2,    0.00,2,    1.38,2,   0.109,2,   0.056,2,   0.023,2,  2185.9,2,  2338.1,2,   739.2,2,      20,   7.7284,6,    25.00, -999.00,9,  -999.0,9,  -999.0,   40.02,2,   23.26,2,     13.358,2,-999.0000,9,-999.0000,9,-999.0000,9,-999.0000,9,-999.0000,9,-999.0000,9,-999.0000,9,-999.0000,9,-999.0000,9,     -999.0,5,  -999.0,9,     -999.0,     -999.0,9,     -999.0,20130822,       0138
33RO20130803,       A16N,      70,          1,          5,          5,2,20130822,       0047,    30.5005,   -23.0993,       5296,  3298.3,   2.6187,  34.9242,2,  34.9229,2,    244.6,2,   244.5,2,   38.30,2,   21.40,2,    0.00,2,    1.44,2,   0.052,2,   0.028,2,   0.017,2,  2191.7,2,  2342.1,2,   744.2,2,      20,   7.7282,2,    25.00, -999.00,9,  -999.0,9,  -999.0,   40.27,2,   23.96,2,     13.521,2,-999.0000,9,-999.0000,9,-999.0000,9,-999.0000,9,-999.0000,9,-999.0000,9,-999.0000,9,-999.0000,9,-999.0000,9,     -999.0,5,  -999.0,9,     -999.0,     -999.0,9,     -999.0,20130822,       0128
33RO20130803,       A16N,      70,          1,          4,          4,2,20130822,       0047,    30.5005,   -23.0993,       5296,  3798.4,   2.4836,  34.9068,2,  34.9063,2,    243.8,2,   243.7,2,   42.50,6,   22.00,6,    0.00,6,    1.48,6,   0.009,2,   0.007,2,   0.000,2,  2195.6,2,  2345.8,2,   745.7,2,      20,   7.7256,2,    25.00, -999.00,9,  -999.0,9,  -999.0,    40.3,2,    24.4,2,     13.615,2,-999.0000,9,-999.0000,9,-999.0000,9,-999.0000,9,-999.0000,9,-999.0000,9,-999.0000,9,-999.0000,9,-999.0000,9,     -999.0,5,  -999.0,9,     -999.0,     -999.0,9,     -999.0,20130822,       0119
33RO20130803,       A16N,      70,          1,          3,          3,2,20130822,       0047,    30.5005,   -23.0993,       5296,  4299.4,   2.4247,  34.8956,2,  34.8953,2,    243.4,2,   244.1,2,   45.10,6,   22.20,6,    0.00,6,    1.50,6,   0.002,2,   0.003,2,   0.000,2,  2198.5,2,  2348.3,2,   749.1,2,      20,   7.7257,2,    25.00, -999.00,9,  -999.0,9,  -999.0,   40.21,2,   24.75,2,     13.717,2,-999.0000,9,-999.0000,9,-999.0000,9,-999.0000,9,-999.0000,9,-999.0000,9,-999.0000,9,-999.0000,9,-999.0000,9,     -999.0,5,  -999.0,9,     -999.0,     -999.0,9,     -999.0,20130822,       0109
33RO20130803,       A16N,      70,          1,          2,          2,2,20130822,       0047,    30.5005,   -23.0993,       5296,  4799.5,   2.4076,  34.8876,2,  34.8878,2,    243.7,2,   243.6,2,   46.80,6,   22.40,6,    0.00,6,    1.50,6,   0.006,2,   0.006,2,   0.000,2,  2202.2,6,  2350.2,2,   751.8,2,      20,   7.7263,2,    25.00, -999.00,9,  -999.0,9,  -999.0,   40.12,2,   25.03,2,     13.828,2,-999.0000,9,-999.0000,9,-999.0000,9,-999.0000,9,-999.0000,9,-999.0000,9,-999.0000,9,-999.0000,9,-999.0000,9,     -999.0,5,  -999.0,9,     -999.0,     -999.0,9,     -999.0,20130822,       0058
33RO20130803,       A16N,      70,          1,          1,          1,2,20130822,       0047,    30.5005,   -23.0993,       5296,  5366.9,   2.4544,  34.8842,2,  34.8841,2,    245.9,2,   243.9,2,   47.40,6,   22.40,6,    0.00,6,    1.50,6,   0.006,6,   0.006,6,   0.000,6,  2201.6,2,  2351.0,6,   753.4,2,      20,   7.7412,3,    25.00, -999.00,9,  -999.0,9,  -999.0,   40.14,2,    24.5,2,     13.846,6,-999.0000,9,-999.0000,9,-999.0000,9,-999.0000,9,-999.0000,9,-999.0000,9,-999.0000,9,-999.0000,9,-999.0000,9,     -999.0,5,  -999.0,9,     -999.0,     -999.0,9,     -999.0,20130822,       0047