BOTTLE,20220815CCHSIOAMB
EXPOCODE,SECT_ID,STNNBR,CASTNO,SAMPNO,BTLNBR,BTLNBR_FLAG_W,DATE,TIME,LATITUDE,LONGITUDE,DEPTH,CTDPRS,CTDTMP,CTDSAL,CTDSAL_FLAG_W,SALNTY,SALNTY_FLAG_W,CTDOXY,CTDOXY_FLAG_W,OXYGEN,OXYGEN_FLAG_W,SILCAT,SILCAT_FLAG_W,NITRAT,NITRAT_FLAG_W,NITRIT,NITRIT_FLAG_W,PHSPHT,PHSPHT_FLAG_W,CFC-11,CFC-11_FLAG_W,CFC-12,CFC-12_FLAG_W,SF6,SF6_FLAG_W,TCARBN,TCARBN_FLAG_W,ALKALI,ALKALI_FLAG_W,PCO2,PCO2_FLAG_W,PCO2TMP,PH_SWS,PH_SWS_FLAG_W,PH_TMP,DELC13,DELC13_FLAG_W,DELC14,DELC14_FLAG_W,C14ERR,DOC,DOC_FLAG_W,TDN,TDN_FLAG_W,N2O,N2O_FLAG_W,CDOM325,CDOM325_FLAG_W,CDOM340,CDOM340_FLAG_W,CDOM380,CDOM380_FLAG_W,CDOM412,CDOM412_FLAG_W,CDOM443,CDOM443_FLAG_W,CDOM490,CDOM490_FLAG_W,CDOM555,CDOM555_FLAG_W,CDOMSL,CDOMSL_FLAG_W,CDOMSN,CDOMSN_FLAG_W,CCL4,CCL4_FLAG_W,14C-DOC,14C-DOC_FLAG_W,14C-DOCERR,13C-DOC,13C-DOC_FLAG_W,13C-DOCERR,BTL_DATE,BTL_TIME
,,,,,,,,,,,METERS,DBAR,ITS-90,PSS-78,,PSS-78,,UMOL/KG,,UMOL/KG,,UMOL/KG,,UMOL/KG,,UMOL/KG,,UMOL/KG,,PMOL/KG,,PMOL/KG,,FMOL/KG,,UMOL/KG,,UMOL/KG,,UATM,,DEG C,,,DEG C,/MILLE,,/MILLE,,/MILLE,UMOL/KG,,UMOL/KG,,NMOL/KG,,1/M,,1/M,,1/M,,1/M,,1/M,,1/M,,1/M,,1/NM,,1/NM,,PMOL/KG,,/MILLE,,/MILLE,/MILLE,,/MILLE,,
33RO20130803,       A16N,       9,          1,         24,         24,2,20130805,       0818,    60.9981,   -20.0049,       2404,     2.2,  11.8617,  35.0531,2,  35.0539,2,    278.1,2,   282.6,2,    1.40,2,    4.00,2,    0.07,2,    0.32,2,   3.256,6,   1.897,6,   2.051,6,  2079.0,6,  2308.0,2,   461.8,2,      20,   7.9118,2,    25.00, -999.00,9,  -999.0,9,  -999.0, -999.00,9, -999.00,9,      9.883,6,-999.0000,9,-999.0000,9,-999.0000,9,-999.0000,9,-999.0000,9,-999.0000,9,-999.0000,9,-999.0000,9,-999.0000,9,     -999.0,5,  -999.0,9,     -999.0,     -999.0,9,     -999.0,20130805,       0933
33RO20130803,       A16N,       9,          1,         23,         23,2,20130805,       0818,    60.9981,   -20.0049,       2404,    27.7,  10.5500,  35.0661,2,  35.0734,2,    277.8,2,   276.5,2,    1.50,2,    6.80,2,    0.19,2,    0.51,2,-999.000,9,-999.000,9,-999.000,9,  2105.4,2,  -999.0,9,  -999.0,9, -999.00,-999.0000,9,  -999.00, -999.00,9,  -999.0,9,  -999.0, -999.00,9, -999.00,9,     -999.0,9,-999.0000,9,-999.0000,9,-999.0000,9,-999.0000,9,-999.0000,9,-999.0000,9,-999.0000,9,-999.0000,9,-999.0000,9,     -999.0,9,  -999.0,9,     -999.0,     -999.0,9,     -999.0,20130805,       0931
33RO20130803,       A16N,       9,          1,         22,         22,2,20130805,       0818,    60.9981,   -20.0049,       2404,    54.6,   9.8154,  35.0966,2,  35.0959,2,    269.1,2,   270.7,2,    1.80,2,    8.00,2,    0.40,2,    0.62,2,   3.494,2,   2.013,2,   2.130,2,  2120.4,2,  2334.2,3,   572.1,2,      20,   7.8303,2,    25.00, -999.00,9,  -999.0,9,  -999.0, -999.00,9, -999.00,9,     10.818,2,-999.0000,9,-999.0000,9,-999.0000,9,-999.0000,9,-999.0000,9,-999.0000,9,-999.0000,9,-999.0000,9,-999.0000,9,     -999.0,5,  -999.0,9,     -999.0,     -999.0,9,     -999.0,20130805,       0929
33RO20130803,       A16N,       9,          1,         21,         21,2,20130805,       0818,    60.9981,   -20.0049,       2404,    79.6,   9.1707,  35.1095,2,  35.1079,2,    267.4,2,     268,2,    2.60,2,   10.70,2,    0.07,2,    0.72,2,-999.000,9,-999.000,9,-999.000,9,  2134.9,2,  -999.0,9,  -999.0,9, -999.00,-999.0000,9,  -999.00, -999.00,9,  -999.0,9,  -999.0, -999.00,9, -999.00,9,     -999.0,9,-999.0000,9,-999.0000,9,-999.0000,9,-999.0000,9,-999.0000,9,-999.0000,9,-999.0000,9,-999.0000,9,-999.0000,9,     -999.0,9,  -999.0,9,     -999.0,     -999.0,9,     -999.0,20130805,       0927
33RO20130803,       A16N,       9,          1,         20,         20,2,20130805,       0818,    60.9981,   -20.0049,       2404,   104.8,   8.9341,  35.1642,2,  35.1650,2,    266.3,2,   265.4,2,    2.90,2,   11.50,2,    0.01,2,    0.76,2,   3.497,2,   2.014,2,   2.114,2,  2141.2,2,  2314.2,2,   627.3,2,      20,   7.7943,2,    25.00, -999.00,9,  -999.0,9,  -999.0, -999.00,9, -999.00,9,     11.359,2,-999.0000,9,-999.0000,9,-999.0000,9,-999.0000,9,-999.0000,9,-999.0000,9,-999.0000,9,-999.0000,9,-999.0000,9,     -999.0,5,  -999.0,9,     -999.0,     -999.0,9,     -999.0,20130805,       0925
33RO20130803,       A16N,       9,          1,         19,         19,2,20130805,       0818,    60.9981,   -20.0049,       2404,   129.6,   8.8094,  35.1718,2,  35.1685,2,    266.2,2,   264.2,2,    3.70,2,   12.10,2,    0.01,2,    0.79,2,-999.000,9,-999.000,9,-999.000,9,  2145.4,2,  -999.0,9,  -999.0,9, -999.00,-999.0000,9,  -999.00, -999.00,9,  -999.0,9,  -999.0, -999.00,9, -999.00,9,     -999.0,9,-999.0000,9,-999.0000,9,-999.0000,9,-999.0000,9,-999.0000,9,-999.0000,9,-999.0000,9,-999.0000,9,-999.0000,9,     -999.0,9,  -999.0,9,     -999.0,     -999.0,9,     -999.0,20130805,       0923
33RO20130803,       A16N,       9,          1,         18,         18,2,20130805,       0818,    60.9981,   -20.0049,       2404,   155.6,   8.7157,  35.1705,2,  35.1752,2,    264.4,2,   262.2,2,    4.10,2,   12.40,2,    0.01,2,    0.81,2,   3.437,2,   1.966,2,   2.073,2,  2146.1,2,  2316.2,2,   645.4,2,      20,   7.7862,2,    25.00, -999.00,9,  -999.0,9,  -999.0, -999.00,9, -999.00,9,     11.851,2,-999.0000,9,-999.0000,9,-999.0000,9,-999.0000,9,-999.0000,9,-999.0000,9,-999.0000,9,-999.0000,9,-999.0000,9,     -999.0,5,  -999.0,9,     -999.0,     -999.0,9,     -999.0,20130805,       0921
33RO20130803,       A16N,       9,          1,         17,         17,2,20130805,       0818,    60.9981,   -20.0049,       2404,   179.5,   8.7493,  35.1945,2,  35.1937,2,    258.2,2,   256.6,2,    5.20,2,   13.00,2,    0.01,2,    0.85,2,-999.000,9,-999.000,9,-999.000,9,  2149.8,2,  -999.0,9,  -999.0,9, -999.00,-999.0000,9,  -999.00, -999.00,9,  -999.0,9,  -999.0, -999.00,9, -999.00,9,     -999.0,9,-999.0000,9,-999.0000,9,-999.0000,9,-999.0000,9,-999.0000,9,-999.0000,9,-999.0000,9,-999.0000,9,-999.0000,9,     -999.0,9,  -999.0,9,     -999.0,     -999.0,9,     -999.0,20130805,       0919
33RO20130803,       A16N,       9,          1,         16,         16,2,20130805,       0818,    60.9981,   -20.0049,       2404,   202.1,   8.7648,  35.2078,2,  35.2008,2,    258.9,2,   259.3,2,    5.10,2,   13.00,2,    0.01,2,    0.84,2,   3.365,2,   1.937,2,   1.901,2,  2148.1,2,  2316.7,2,   656.6,2,      20,   7.7774,2,    25.00, -999.00,9,  -999.0,9,  -999.0, -999.00,9, -999.00,9,     12.131,2,-999.0000,9,-999.0000,9,-999.0000,9,-999.0000,9,-999.0000,9,-999.0000,9,-999.0000,9,-999.0000,9,-999.0000,9,     -999.0,5,  -999.0,9,     -999.0,     -999.0,9,     -999.0,20130805,       0918
33RO20130803,       A16N,       9,          1,         15,         15,2,20130805,       0818,    60.9981,   -20.0049,       2404,   260.2,   8.5087,  35.1861,2,  35.1884,2,    263.1,2,   265.1,2,    4.80,2,   12.80,2,    0.01,2,    0.83,2,-999.000,9,-999.000,9,-999.000,9,  2148.1,2,  -999.0,9,  -999.0,9, -999.00,-999.0000,9,  -999.00, -999.00,9,  -999.0,9,  -999.0, -999.00,9, -999.00,9,     -999.0,9,-999.0000,9,-999.0000,9,-999.0000,9,-999.0000,9,-999.0000,9,-999.0000,9,-999.0000,9,-999.0000,9,-999.0000,9,     -999.0,9,  -999.0,9,     -999.0,     -999.0,9,     -999.0,20130805,       0915
33RO20130803,       A16N,       9,          1,         14,         14,2,20130805,       0818,    60.9981,   -20.0049,       2404,   342.6,   8.2418,  35.1637,2,  35.1656,2,    258.8,2,  -999.0,5,    6.40,2,   14.00,2,    0.01,2,    0.91,2,   3.376,2,   1.918,2,   1.831,2,  2154.6,2,  2313.5,2,   682.0,2,      20,   7.7630,2,    25.00, -999.00,9,  -999.0,9,  -999.0, -999.00,9, -999.00,9,     12.569,2,-999.0000,9,-999.0000,9,-999.0000,9,-999.0000,9,-999.0000,9,-999.0000,9,-999.0000,9,-999.0000,9,-999.0000,9,     -999.0,5,  -999.0,9,     -999.0,     -999.0,9,     -999.0,20130805,       0913
33RO20130803,       A16N,       9,          1,         13,         13,2,20130805,       0818,    60.9981,   -20.0049,       2404,   417.0,   8.0251,  35.1596,2,  35.1593,2,    255.9,2,   255.1,2,    6.90,2,   14.50,2,    0.01,2,    0.94,2,-999.000,9,-999.000,9,-999.000,9,  2156.7,2,  -999.0,9,  -999.0,9, -999.00,-999.0000,9,  -999.00, -999.00,9,  -999.0,9,  -999.0, -999.00,9, -999.00,9,     -999.0,9,-999.0000,9,-999.0000,9,-999.0000,9,-999.0000,9,-999.0000,9,-999.0000,9,-999.0000,9,-999.0000,9,-999.0000,9,     -999.0,9,  -999.0,9,     -999.0,     -999.0,9,     -999.0,20130805,       0910
33RO20130803,       A16N,       9,          1,         12,         12,2,20130805,       0818,    60.9981,   -20.0049,       2404,   492.9,   7.7565,  35.1472,2,  35.1524,2,    245.8,2,   244.8,2,    7.90,2,   15.50,2,    0.01,2,    1.01,2,-999.000,9,-999.000,9,-999.000,9,  2162.8,2,  2316.2,2,   721.8,2,      20,   7.7422,6,    25.00, -999.00,9,  -999.0,9,  -999.0, -999.00,9, -999.00,9,     -999.0,9,-999.0000,9,-999.0000,9,-999.0000,9,-999.0000,9,-999.0000,9,-999.0000,9,-999.0000,9,-999.0000,9,-999.0000,9,     -999.0,9,  -999.0,9,     -999.0,     -999.0,9,     -999.0,20130805,       0907
33RO20130803,       A16N,       9,          1,         11,         11,2,20130805,       0818,    60.9981,   -20.0049,       2404,   567.3,   7.4856,  35.1505,2,  35.1480,2,    237.4,2,   237.8,2,    8.70,2,   16.30,2,    0.00,2,    1.06,2,   3.154,2,   1.766,2,   1.500,2,  2167.4,2,  -999.0,9,  -999.0,9, -999.00,-999.0000,9,  -999.00, -999.00,9,  -999.0,9,  -999.0, -999.00,9, -999.00,9,     14.063,2,-999.0000,9,-999.0000,9,-999.0000,9,-999.0000,9,-999.0000,9,-999.0000,9,-999.0000,9,-999.0000,9,-999.0000,9,     -999.0,5,  -999.0,9,     -999.0,     -999.0,9,     -999.0,20130805,       0904
33RO20130803,       A16N,       9,          1,         10,         10,2,20130805,       0818,    60.9981,   -20.0049,       2404,   673.6,   6.7483,  35.1180,2,  35.1169,2,    232.5,2,   231.7,2,    9.90,2,   17.40,2,    0.00,2,    1.13,2,-999.000,9,-999.000,9,-999.000,9,  2174.4,2,  2315.2,2,   780.2,2,      20,   7.7105,2,    25.00, -999.00,9,  -999.0,9,  -999.0, -999.00,9, -999.00,9,     -999.0,9,-999.0000,9,-999.0000,9,-999.0000,9,-999.0000,9,-999.0000,9,-999.0000,9,-999.0000,9,-999.0000,9,-999.0000,9,     -999.0,9,  -999.0,9,     -999.0,     -999.0,9,     -999.0,20130805,       0901
33RO20130803,       A16N,       9,          1,          9,          9,2,20130805,       0818,    60.9981,   -20.0049,       2404,   743.5,   6.1806,  35.0764,2,  35.0720,2,    223.1,2,     225,2,   11.30,6,   18.40,6,    0.00,6,    1.20,6,   3.013,2,   1.618,2,   1.113,2,  2180.3,6,  -999.0,9,  -999.0,9, -999.00,-999.0000,9,  -999.00, -999.00,9,  -999.0,9,  -999.0, -999.00,9, -999.00,9,     15.347,2,-999.0000,9,-999.0000,9,-999.0000,9,-999.0000,9,-999.0000,9,-999.0000,9,-999.0000,9,-999.0000,9,-999.0000,9,     -999.0,5,  -999.0,9,     -999.0,     -999.0,9,     -999.0,20130805,       0858
33RO20130803,       A16N,       9,          1,          8,          8,2,20130805,       0818,    60.9981,   -20.0049,       2404,   938.2,   4.9020,  34.9824,2,  34.9821,2,    248.9,2,   249.9,2,   10.80,2,   17.80,2,    0.00,2,    1.17,2,   3.481,2,   1.860,2,   1.226,2,  2173.4,2,  2308.5,2,   814.9,2,      20,   7.6929,2,    25.00, -999.00,9,  -999.0,9,  -999.0, -999.00,9, -999.00,9,     14.596,2,-999.0000,9,-999.0000,9,-999.0000,9,-999.0000,9,-999.0000,9,-999.0000,9,-999.0000,9,-999.0000,9,-999.0000,9,     -999.0,5,  -999.0,9,     -999.0,     -999.0,9,     -999.0,20130805,       0853
33RO20130803,       A16N,       9,          1,          7,          7,2,20130805,       0818,    60.9981,   -20.0049,       2404,  1088.2,   4.4379,  34.9486,2,  34.9474,2,    259.4,2,   260.3,2,   10.70,2,   17.60,2,    0.00,2,    1.15,2,   3.682,2,   1.954,2,   1.188,2,  2170.3,2,  -999.0,9,  -999.0,9, -999.00,-999.0000,9,  -999.00, -999.00,9,  -999.0,9,  -999.0, -999.00,9, -999.00,9,     14.136,2,-999.0000,9,-999.0000,9,-999.0000,9,-999.0000,9,-999.0000,9,-999.0000,9,-999.0000,9,-999.0000,9,-999.0000,9,     -999.0,5,  -999.0,9,     -999.0,     -999.0,9,     -999.0,20130805,       0849
33RO20130803,       A16N,       9,          1,          6,          6,2,20130805,       0818,    60.9981,   -20.0049,       2404,  1236.5,   4.1212,  34.9256,2,  34.9252,2,    267.1,2,   268.1,2,   10.80,2,   17.40,2,    0.00,2,    1.14,2,   3.772,2,   1.983,2,   1.257,2,  2168.1,2,  2304.3,2,   799.4,2,      20,   7.6983,6,    25.00, -999.00,9,  -999.0,9,  -999.0, -999.00,9, -999.00,9,     13.898,2,-999.0000,9,-999.0000,9,-999.0000,9,-999.0000,9,-999.0000,9,-999.0000,9,-999.0000,9,-999.0000,9,-999.0000,9,     -999.0,5,  -999.0,9,     -999.0,     -999.0,9,     -999.0,20130805,       0845
33RO20130803,       A16N,       9,          1,          5,          5,2,20130805,       0818,    60.9981,   -20.0049,       2404,  1387.2,   3.9546,  34.9179,2,  34.9170,2,    270.2,2,   270.1,2,   11.00,2,   17.30,2,    0.00,2,    1.14,2,   3.748,2,   1.942,2,   1.084,2,  2167.3,2,  -999.0,9,  -999.0,9, -999.00,-999.0000,9,  -999.00, -999.00,9,  -999.0,9,  -999.0, -999.00,9, -999.00,9,     13.856,2,-999.0000,9,-999.0000,9,-999.0000,9,-999.0000,9,-999.0000,9,-999.0000,9,-999.0000,9,-999.0000,9,-999.0000,9,     -999.0,5,  -999.0,9,     -999.0,     -999.0,9,     -999.0,20130805,       0841
33RO20130803,       A16N,       9,          1,          4,          4,2,20130805,       0818,    60.9981,   -20.0049,       2404,  1658.6,   3.7424,  34.9173,2,  34.9166,2,    270.6,2,   270.8,2,   11.70,2,   17.30,2,    0.00,2,    1.14,2,   3.417,2,   1.732,2,   0.780,2,  2164.6,2,  2302.6,2,   782.5,2,      20,   7.7071,2,    25.00, -999.00,9,  -999.0,9,  -999.0, -999.00,9, -999.00,9,     13.635,2,-999.0000,9,-999.0000,9,-999.0000,9,-999.0000,9,-999.0000,9,-999.0000,9,-999.0000,9,-999.0000,9,-999.0000,9,     -999.0,5,  -999.0,9,     -999.0,     -999.0,9,     -999.0,20130805,       0835
33RO20130803,       A16N,       9,          1,          3,          3,2,20130805,       0818,    60.9981,   -20.0049,       2404,  1849.0,   3.6385,  34.9314,2,  34.9320,2,    271.8,2,   271.6,2,   11.70,6,   16.90,6,    0.00,6,    1.12,6,   3.176,6,   1.604,6,   0.823,6,  2162.1,2,  -999.0,9,  -999.0,9, -999.00,-999.0000,9,  -999.00, -999.00,9,  -999.0,9,  -999.0, -999.00,9, -999.00,9,     13.509,6,-999.0000,9,-999.0000,9,-999.0000,9,-999.0000,9,-999.0000,9,-999.0000,9,-999.0000,9,-999.0000,9,-999.0000,9,     -999.0,5,  -999.0,9,     -999.0,     -999.0,9,     -999.0,20130805,       0830
33RO20130803,       A16N,       9,          1,          2,          2,2,20130805,       0818,    60.9981,   -20.0049,       2404,  2147.4,   3.4215,  34.9953,2,  34.9964,2,    277.1,2,   277.6,2,   10.30,2,   15.40,2,    0.00,2,    1.03,2,   3.308,2,   1.746,2,   1.329,2,  2165.5,2,  2308.4,4,   772.7,2,      20,   7.7130,2,    25.00, -999.00,9,  -999.0,9,  -999.0, -999.00,9, -999.00,9,     13.564,2,-999.0000,9,-999.0000,9,-999.0000,9,-999.0000,9,-999.0000,9,-999.0000,9,-999.0000,9,-999.0000,9,-999.0000,9,     -999.0,5,  -999.0,9,     -999.0,     -999.0,9,     -999.0,20130805,       0824
33RO20130803,       A16N,       9,          1,          1,          1,2,20130805,       0818,    60.9981,   -20.0049,       2404,  2414.8,   2.6283,  34.9915,2,  34.9909,2,    278.2,2,     278,2,   13.50,6,   15.10,6,    0.02,6,    1.02,6,   3.267,2,   1.726,2,   1.315,2,  2172.1,6,  -999.0,9,  -999.0,9, -999.00,-999.0000,9,  -999.00, -999.00,9,  -999.0,9,  -999.0, -999.00,9, -999.00,9,     13.926,2,-999.0000,9,-999.0000,9,-999.0000,9,-999.0000,9,-999.0000,9,-999.0000,9,-999.0000,9,-999.0000,9,-999.0000,9,     -999.0,5,  -999.0,9,     -999.0,     -999.0,9,     -999.0,20130805,       0818