BOTTLE,20220815CCHSIOAMB
EXPOCODE,SECT_ID,STNNBR,CASTNO,SAMPNO,BTLNBR,BTLNBR_FLAG_W,DATE,TIME,LATITUDE,LONGITUDE,DEPTH,CTDPRS,CTDTMP,CTDSAL,CTDSAL_FLAG_W,SALNTY,SALNTY_FLAG_W,CTDOXY,CTDOXY_FLAG_W,OXYGEN,OXYGEN_FLAG_W,SILCAT,SILCAT_FLAG_W,NITRAT,NITRAT_FLAG_W,NITRIT,NITRIT_FLAG_W,PHSPHT,PHSPHT_FLAG_W,CFC-11,CFC-11_FLAG_W,CFC-12,CFC-12_FLAG_W,SF6,SF6_FLAG_W,TCARBN,TCARBN_FLAG_W,ALKALI,ALKALI_FLAG_W,PCO2,PCO2_FLAG_W,PCO2TMP,PH_SWS,PH_SWS_FLAG_W,PH_TMP,DELC13,DELC13_FLAG_W,DELC14,DELC14_FLAG_W,C14ERR,DOC,DOC_FLAG_W,TDN,TDN_FLAG_W,N2O,N2O_FLAG_W,CDOM325,CDOM325_FLAG_W,CDOM340,CDOM340_FLAG_W,CDOM380,CDOM380_FLAG_W,CDOM412,CDOM412_FLAG_W,CDOM443,CDOM443_FLAG_W,CDOM490,CDOM490_FLAG_W,CDOM555,CDOM555_FLAG_W,CDOMSL,CDOMSL_FLAG_W,CDOMSN,CDOMSN_FLAG_W,CCL4,CCL4_FLAG_W,14C-DOC,14C-DOC_FLAG_W,14C-DOCERR,13C-DOC,13C-DOC_FLAG_W,13C-DOCERR,BTL_DATE,BTL_TIME
,,,,,,,,,,,METERS,DBAR,ITS-90,PSS-78,,PSS-78,,UMOL/KG,,UMOL/KG,,UMOL/KG,,UMOL/KG,,UMOL/KG,,UMOL/KG,,PMOL/KG,,PMOL/KG,,FMOL/KG,,UMOL/KG,,UMOL/KG,,UATM,,DEG C,,,DEG C,/MILLE,,/MILLE,,/MILLE,UMOL/KG,,UMOL/KG,,NMOL/KG,,1/M,,1/M,,1/M,,1/M,,1/M,,1/M,,1/M,,1/NM,,1/NM,,PMOL/KG,,/MILLE,,/MILLE,/MILLE,,/MILLE,,
33RO20130803,       A16N,      82,          2,         24,         24,2,20130906,       2048,    25.0004,   -26.1834,       5414,     3.4,  24.6407,  37.2722,2,  37.2714,2,    206.7,2,   207.9,2,    0.50,2,    0.00,2,    0.00,2,    0.01,2,   1.725,2,   1.079,2,   1.278,2,  2113.0,6,  2435.2,6,   345.4,2,      20,   8.0355,2,    25.00, -999.00,9,  -999.0,9,  -999.0, -999.00,9, -999.00,9,      6.443,2,-999.0000,9,-999.0000,9,-999.0000,9,-999.0000,9,-999.0000,9,-999.0000,9,-999.0000,9,-999.0000,9,-999.0000,9,     -999.0,5,  -999.0,9,     -999.0,     -999.0,9,     -999.0,20130906,       2300
33RO20130803,       A16N,      82,          2,         23,         23,2,20130906,       2048,    25.0004,   -26.1834,       5414,    18.9,  24.6480,  37.2720,2,  37.2713,2,    207.1,2,   207.7,2,    0.50,2,    0.00,2,    0.00,2,    0.02,2,   1.710,6,   1.077,6,   1.283,6,  2114.5,2,  2436.4,2,   351.1,2,      20,   8.0351,2,    25.00, -999.00,9,  -999.0,9,  -999.0, -999.00,9, -999.00,9,      6.441,6,-999.0000,9,-999.0000,9,-999.0000,9,-999.0000,9,-999.0000,9,-999.0000,9,-999.0000,9,-999.0000,9,-999.0000,9,     -999.0,5,  -999.0,9,     -999.0,     -999.0,9,     -999.0,20130906,       2258
33RO20130803,       A16N,      82,          2,         22,         22,2,20130906,       2048,    25.0004,   -26.1834,       5414,    38.3,  24.5951,  37.2746,2,  37.2891,2,    207.7,2,   210.4,2,    0.50,2,    0.00,2,    0.00,2,    0.01,2,   1.751,2,   1.092,2,   1.301,2,  2112.5,2,  2437.5,2,   346.6,2,      20,   8.0351,2,    25.00, -999.00,9,  -999.0,9,  -999.0, -999.00,9, -999.00,9,      6.551,2,-999.0000,9,-999.0000,9,-999.0000,9,-999.0000,9,-999.0000,9,-999.0000,9,-999.0000,9,-999.0000,9,-999.0000,9,     -999.0,5,  -999.0,9,     -999.0,     -999.0,9,     -999.0,20130906,       2256
33RO20130803,       A16N,      82,          2,         21,         21,2,20130906,       2048,    25.0004,   -26.1834,       5414,    59.1,  23.2631,  37.4011,2,  37.4030,2,    218.3,2,   218.9,2,    0.50,2,    0.00,2,    0.00,2,    0.01,2,   1.878,2,   1.160,2,   1.362,2,  2119.1,2,  2445.6,2,   348.0,2,      20,   8.0336,2,    25.00, -999.00,9,  -999.0,9,  -999.0, -999.00,9, -999.00,9,      6.818,2,-999.0000,9,-999.0000,9,-999.0000,9,-999.0000,9,-999.0000,9,-999.0000,9,-999.0000,9,-999.0000,9,-999.0000,9,     -999.0,5,  -999.0,9,     -999.0,     -999.0,9,     -999.0,20130906,       2254
33RO20130803,       A16N,      82,          2,         20,         20,2,20130906,       2048,    25.0004,   -26.1834,       5414,    87.9,  21.6522,  37.2671,2,  37.2630,2,    222.4,2,   221.8,2,    0.50,2,    0.00,2,    0.00,2,    0.01,2,   1.966,2,   1.217,2,   1.368,2,  2117.4,2,  2435.0,2,   356.2,2,      20,   8.0220,2,    25.00, -999.00,9,  -999.0,9,  -999.0, -999.00,9, -999.00,9,      7.148,2,-999.0000,9,-999.0000,9,-999.0000,9,-999.0000,9,-999.0000,9,-999.0000,9,-999.0000,9,-999.0000,9,-999.0000,9,     -999.0,5,  -999.0,9,     -999.0,     -999.0,9,     -999.0,20130906,       2252
33RO20130803,       A16N,      82,          2,         19,         19,2,20130906,       2048,    25.0004,   -26.1834,       5414,   123.9,  20.7967,  37.1704,2,  37.1660,2,    215.7,2,   214.6,2,    0.50,2,    0.10,2,    0.01,2,    0.02,2,   2.007,2,   1.247,2,   1.378,2,  2123.4,2,  2431.0,2,   374.6,2,      20,   8.0069,2,    25.00, -999.00,9,  -999.0,9,  -999.0, -999.00,9, -999.00,9,      7.398,2,-999.0000,9,-999.0000,9,-999.0000,9,-999.0000,9,-999.0000,9,-999.0000,9,-999.0000,9,-999.0000,9,-999.0000,9,     -999.0,5,  -999.0,9,     -999.0,     -999.0,9,     -999.0,20130906,       2249
33RO20130803,       A16N,      82,          2,         18,         18,2,20130906,       2048,    25.0004,   -26.1834,       5414,   198.4,  18.6919,  36.7901,2,  36.7769,2,    197.1,2,   195.4,2,    1.10,2,    3.50,2,    0.01,2,    0.19,2,   2.215,2,   1.336,2,   1.327,2,  2138.7,2,  2400.8,2,   439.4,2,      20,   7.9457,2,    25.00, -999.00,9,  -999.0,9,  -999.0, -999.00,9, -999.00,9,      8.954,2,-999.0000,9,-999.0000,9,-999.0000,9,-999.0000,9,-999.0000,9,-999.0000,9,-999.0000,9,-999.0000,9,-999.0000,9,     -999.0,5,  -999.0,9,     -999.0,     -999.0,9,     -999.0,20130906,       2247
33RO20130803,       A16N,      82,          2,         17,         17,2,20130906,       2048,    25.0004,   -26.1834,       5414,   273.9,  17.0469,  36.4661,2,  36.4485,2,    191.7,2,   189.2,2,    1.90,2,    6.70,2,    0.01,2,    0.38,2,   2.345,2,   1.394,2,   1.278,2,  2143.1,2,  2385.8,2,   483.3,2,      20,   7.9061,6,    25.00, -999.00,9,  -999.0,9,  -999.0, -999.00,9, -999.00,9,     10.504,2,-999.0000,9,-999.0000,9,-999.0000,9,-999.0000,9,-999.0000,9,-999.0000,9,-999.0000,9,-999.0000,9,-999.0000,9,     -999.0,5,  -999.0,9,     -999.0,     -999.0,9,     -999.0,20130906,       2244
33RO20130803,       A16N,      82,          2,         16,         16,2,20130906,       2048,    25.0004,   -26.1834,       5414,   373.2,  14.8994,  36.0514,2,  36.0527,2,    168.8,2,     175,2,    3.60,2,   11.20,2,    0.01,2,    0.66,2,   2.444,2,   1.423,2,   1.173,2,  2158.1,2,  2361.0,6,   569.8,2,      20,   7.8381,2,    25.00, -999.00,9,  -999.0,9,  -999.0, -999.00,9, -999.00,9,     13.266,2,-999.0000,9,-999.0000,9,-999.0000,9,-999.0000,9,-999.0000,9,-999.0000,9,-999.0000,9,-999.0000,9,-999.0000,9,     -999.0,5,  -999.0,9,     -999.0,     -999.0,9,     -999.0,20130906,       2240
33RO20130803,       A16N,      82,          2,         15,         15,2,20130906,       2048,    25.0004,   -26.1834,       5414,   468.9,  13.2179,  35.7852,2,  35.7865,2,    155.1,2,   152.7,2,    5.80,2,   16.50,2,    0.00,2,    0.99,2,   2.328,2,   1.308,2,   0.914,2,  2178.9,2,  2347.4,2,   688.2,2,      20,   7.7653,2,    25.00, -999.00,9,  -999.0,9,  -999.0, -999.00,9, -999.00,9,     17.326,2,-999.0000,9,-999.0000,9,-999.0000,9,-999.0000,9,-999.0000,9,-999.0000,9,-999.0000,9,-999.0000,9,-999.0000,9,     -999.0,5,  -999.0,9,     -999.0,     -999.0,9,     -999.0,20130906,       2236
33RO20130803,       A16N,      82,          2,         14,         14,2,20130906,       2048,    25.0004,   -26.1834,       5414,   548.0,  12.1738,  35.6417,2,  35.6424,2,    147.4,2,   145.4,2,    7.40,2,   19.10,2,    0.01,2,    1.16,2,   2.135,6,   1.163,6,   0.702,6,  2184.7,2,  2336.8,2,   748.5,2,      20,   7.7301,2,    25.00, -999.00,9,  -999.0,9,  -999.0, -999.00,9, -999.00,9,     18.594,6,-999.0000,9,-999.0000,9,-999.0000,9,-999.0000,9,-999.0000,9,-999.0000,9,-999.0000,9,-999.0000,9,-999.0000,9,     -999.0,5,  -999.0,9,     -999.0,     -999.0,9,     -999.0,20130906,       2233
33RO20130803,       A16N,      82,          2,         13,         13,2,20130906,       2048,    25.0004,   -26.1834,       5414,   678.9,  10.6104,  35.4638,2,  35.4602,2,    139.3,2,   138.2,2,   10.60,2,   22.50,2,    0.01,2,    1.40,2,   1.478,2,   0.772,2,   0.329,2,  2195.3,2,  2331.7,2,   810.8,2,      20,   7.6901,2,    25.00, -999.00,9,  -999.0,9,  -999.0, -999.00,9, -999.00,9,     19.591,2,-999.0000,9,-999.0000,9,-999.0000,9,-999.0000,9,-999.0000,9,-999.0000,9,-999.0000,9,-999.0000,9,-999.0000,9,     -999.0,5,  -999.0,9,     -999.0,     -999.0,9,     -999.0,20130906,       2230
33RO20130803,       A16N,      82,          2,         12,         12,2,20130906,       2048,    25.0004,   -26.1834,       5414,   829.7,   8.6288,  35.2501,2,  35.2525,2,    128.8,2,     129,2,   16.00,2,   26.80,2,    0.00,2,    1.73,2,   0.554,2,   0.289,2,   0.077,2,  2209.6,6,  2324.6,2,   935.8,2,      20,   7.6396,2,    25.00, -999.00,9,  -999.0,9,  -999.0, -999.00,9, -999.00,9,     21.824,2,-999.0000,9,-999.0000,9,-999.0000,9,-999.0000,9,-999.0000,9,-999.0000,9,-999.0000,9,-999.0000,9,-999.0000,9,     -999.0,5,  -999.0,9,     -999.0,     -999.0,9,     -999.0,20130906,       2226
33RO20130803,       A16N,      82,          2,         11,         11,2,20130906,       2048,    25.0004,   -26.1834,       5414,   999.3,   7.3872,  35.1760,2,  35.1765,2,    144.5,2,     145,2,   18.40,2,   26.70,2,    0.00,2,    1.76,2,   0.286,2,   0.150,2,   0.064,2,  2207.4,2,  2352.0,3,   919.6,2,      20,   7.6439,2,    25.00, -999.00,9,  -999.0,9,  -999.0, -999.00,9, -999.00,9,     20.372,2,-999.0000,9,-999.0000,9,-999.0000,9,-999.0000,9,-999.0000,9,-999.0000,9,-999.0000,9,-999.0000,9,-999.0000,9,     -999.0,5,  -999.0,9,     -999.0,     -999.0,9,     -999.0,20130906,       2221
33RO20130803,       A16N,      82,          2,         10,         10,2,20130906,       2048,    25.0004,   -26.1834,       5414,  1198.7,   6.7817,  35.2321,2,  35.2327,2,    169.1,2,   169.2,2,   18.20,2,   24.30,2,    0.00,2,    1.62,2,   0.258,2,   0.136,2,   0.043,2,  2201.6,2,  2331.6,2,   847.6,2,      20,   7.6761,2,    25.00, -999.00,9,  -999.0,9,  -999.0, -999.00,9, -999.00,9,     17.937,2,-999.0000,9,-999.0000,9,-999.0000,9,-999.0000,9,-999.0000,9,-999.0000,9,-999.0000,9,-999.0000,9,-999.0000,9,     -999.0,5,  -999.0,9,     -999.0,     -999.0,9,     -999.0,20130906,       2217
33RO20130803,       A16N,      82,          2,          9,          9,2,20130906,       2048,    25.0004,   -26.1834,       5414,  1499.3,   5.6841,  35.2002,2,  35.2010,2,    194.3,2,   194.2,2,   19.90,2,   22.60,2,    0.00,2,    1.52,2,   0.157,2,   0.080,2,   0.000,2,  2193.2,2,  2334.0,2,   804.9,2,      20,   7.6990,2,    25.00, -999.00,9,  -999.0,9,  -999.0, -999.00,9, -999.00,9,     16.021,2,-999.0000,9,-999.0000,9,-999.0000,9,-999.0000,9,-999.0000,9,-999.0000,9,-999.0000,9,-999.0000,9,-999.0000,9,     -999.0,5,  -999.0,9,     -999.0,     -999.0,9,     -999.0,20130906,       2210
33RO20130803,       A16N,      82,          2,          8,          8,2,20130906,       2048,    25.0004,   -26.1834,       5414,  1848.1,   4.4870,  35.0997,2,  35.1001,2,    218.2,2,   218.6,2,   22.30,2,   21.50,2,    0.00,2,    1.45,2,   0.069,2,   0.034,2,   0.000,2,  2185.6,2,  2324.0,2,   774.1,2,      20,   7.7170,3,    25.00, -999.00,9,  -999.0,9,  -999.0, -999.00,9, -999.00,9,     14.682,2,-999.0000,9,-999.0000,9,-999.0000,9,-999.0000,9,-999.0000,9,-999.0000,9,-999.0000,9,-999.0000,9,-999.0000,9,     -999.0,5,  -999.0,9,     -999.0,     -999.0,9,     -999.0,20130906,       2203
33RO20130803,       A16N,      82,          2,          7,          7,2,20130906,       2048,    25.0004,   -26.1834,       5414,  2298.4,   3.5753,  35.0163,2,  35.0184,2,    236.3,2,   235.5,2,   25.90,2,   20.80,2,    0.00,2,    1.41,2,   0.015,2,   0.008,2,   0.000,2,  2180.6,2,  2330.4,2,   753.0,2,      20,   7.7265,2,    25.00, -999.00,9,  -999.0,9,  -999.0, -999.00,9, -999.00,9,     13.654,2,-999.0000,9,-999.0000,9,-999.0000,9,-999.0000,9,-999.0000,9,-999.0000,9,-999.0000,9,-999.0000,9,-999.0000,9,     -999.0,5,  -999.0,9,     -999.0,     -999.0,9,     -999.0,20130906,       2154
33RO20130803,       A16N,      82,          2,          6,          6,2,20130906,       2048,    25.0004,   -26.1834,       5414,  2748.0,   3.0038,  34.9635,2,  34.9643,2,    241.3,2,   240.6,2,   31.90,2,   20.90,2,    0.00,2,    1.42,2,   0.026,2,   0.013,2,   0.000,2,  2187.0,2,  2338.7,2,   750.7,2,      20,   7.7266,2,    25.00, -999.00,9,  -999.0,9,  -999.0, -999.00,9, -999.00,9,     13.400,2,-999.0000,9,-999.0000,9,-999.0000,9,-999.0000,9,-999.0000,9,-999.0000,9,-999.0000,9,-999.0000,9,-999.0000,9,     -999.0,5,  -999.0,9,     -999.0,     -999.0,9,     -999.0,20130906,       2145
33RO20130803,       A16N,      82,          2,          5,          5,2,20130906,       2048,    25.0004,   -26.1834,       5414,  3248.2,   2.6329,  34.9270,2,  34.9267,2,    243.9,2,   243.8,2,   37.90,2,   21.40,2,    0.00,2,    1.46,2,   0.024,2,   0.013,2,   0.000,2,  2192.3,2,  2346.0,2,   752.2,2,      20,   7.7295,2,    25.00, -999.00,9,  -999.0,9,  -999.0, -999.00,9, -999.00,9,     13.432,2,-999.0000,9,-999.0000,9,-999.0000,9,-999.0000,9,-999.0000,9,-999.0000,9,-999.0000,9,-999.0000,9,-999.0000,9,     -999.0,5,  -999.0,9,     -999.0,     -999.0,9,     -999.0,20130906,       2135
33RO20130803,       A16N,      82,          2,          4,          4,2,20130906,       2048,    25.0004,   -26.1834,       5414,  3748.7,   2.4700,  34.9072,2,  34.9073,2,    243.4,2,   243.3,2,   42.30,6,   21.90,6,    0.00,6,    1.50,6,   0.006,2,   0.004,2,   0.000,2,  2194.8,2,  2345.8,6,   754.6,2,      20,   7.7298,3,    25.00, -999.00,9,  -999.0,9,  -999.0, -999.00,9, -999.00,9,     13.583,2,-999.0000,9,-999.0000,9,-999.0000,9,-999.0000,9,-999.0000,9,-999.0000,9,-999.0000,9,-999.0000,9,-999.0000,9,     -999.0,5,  -999.0,9,     -999.0,     -999.0,9,     -999.0,20130906,       2125
33RO20130803,       A16N,      82,          2,          3,          3,2,20130906,       2048,    25.0004,   -26.1834,       5414,  4258.5,   2.3916,  34.8941,2,  34.8937,2,    243.2,2,     243,2,   45.10,6,   22.20,6,    0.01,6,    1.52,6,   0.002,6,   0.002,6,   0.000,6,  2198.2,2,  2377.4,4,   756.4,2,      20,   7.7267,2,    25.00, -999.00,9,  -999.0,9,  -999.0, -999.00,9, -999.00,9,     13.658,6,-999.0000,9,-999.0000,9,-999.0000,9,-999.0000,9,-999.0000,9,-999.0000,9,-999.0000,9,-999.0000,9,-999.0000,9,     -999.0,5,  -999.0,9,     -999.0,     -999.0,9,     -999.0,20130906,       2116
33RO20130803,       A16N,      82,          2,          2,          2,2,20130906,       2048,    25.0004,   -26.1834,       5414,  4747.9,   2.3885,  34.8874,2,  34.8872,2,    242.6,2,   243.2,2,   46.60,6,   22.40,6,    0.01,6,    1.53,6,   0.003,2,   0.003,2,   0.000,2,  2201.9,6,  2349.1,2,   755.6,2,      20,   7.7262,2,    25.00, -999.00,9,  -999.0,9,  -999.0, -999.00,9, -999.00,9,     13.726,2,-999.0000,9,-999.0000,9,-999.0000,9,-999.0000,9,-999.0000,9,-999.0000,9,-999.0000,9,-999.0000,9,-999.0000,9,     -999.0,5,  -999.0,9,     -999.0,     -999.0,9,     -999.0,20130906,       2105
33RO20130803,       A16N,      82,          2,          1,          1,2,20130906,       2048,    25.0004,   -26.1834,       5414,  5489.5,   2.4668,  34.8843,2,  34.8846,2,    243.1,2,     241,2,   47.20,6,   22.50,6,    0.01,6,    1.53,6,   0.004,2,   0.004,2,   0.000,2,  2201.8,2,  -999.0,5,   750.1,6,      20,   7.7286,6,    25.00, -999.00,9,  -999.0,9,  -999.0, -999.00,9, -999.00,9,     13.761,2,-999.0000,9,-999.0000,9,-999.0000,9,-999.0000,9,-999.0000,9,-999.0000,9,-999.0000,9,-999.0000,9,-999.0000,9,     -999.0,5,  -999.0,9,     -999.0,     -999.0,9,     -999.0,20130906,       2048