BOTTLE,20220815CCHSIOAMB
EXPOCODE,SECT_ID,STNNBR,CASTNO,SAMPNO,BTLNBR,BTLNBR_FLAG_W,DATE,TIME,LATITUDE,LONGITUDE,DEPTH,CTDPRS,CTDTMP,CTDSAL,CTDSAL_FLAG_W,SALNTY,SALNTY_FLAG_W,CTDOXY,CTDOXY_FLAG_W,OXYGEN,OXYGEN_FLAG_W,SILCAT,SILCAT_FLAG_W,NITRAT,NITRAT_FLAG_W,NITRIT,NITRIT_FLAG_W,PHSPHT,PHSPHT_FLAG_W,CFC-11,CFC-11_FLAG_W,CFC-12,CFC-12_FLAG_W,SF6,SF6_FLAG_W,TCARBN,TCARBN_FLAG_W,ALKALI,ALKALI_FLAG_W,PCO2,PCO2_FLAG_W,PCO2TMP,PH_SWS,PH_SWS_FLAG_W,PH_TMP,DELC13,DELC13_FLAG_W,DELC14,DELC14_FLAG_W,C14ERR,DOC,DOC_FLAG_W,TDN,TDN_FLAG_W,N2O,N2O_FLAG_W,CDOM325,CDOM325_FLAG_W,CDOM340,CDOM340_FLAG_W,CDOM380,CDOM380_FLAG_W,CDOM412,CDOM412_FLAG_W,CDOM443,CDOM443_FLAG_W,CDOM490,CDOM490_FLAG_W,CDOM555,CDOM555_FLAG_W,CDOMSL,CDOMSL_FLAG_W,CDOMSN,CDOMSN_FLAG_W,CCL4,CCL4_FLAG_W,14C-DOC,14C-DOC_FLAG_W,14C-DOCERR,13C-DOC,13C-DOC_FLAG_W,13C-DOCERR,BTL_DATE,BTL_TIME
,,,,,,,,,,,METERS,DBAR,ITS-90,PSS-78,,PSS-78,,UMOL/KG,,UMOL/KG,,UMOL/KG,,UMOL/KG,,UMOL/KG,,UMOL/KG,,PMOL/KG,,PMOL/KG,,FMOL/KG,,UMOL/KG,,UMOL/KG,,UATM,,DEG C,,,DEG C,/MILLE,,/MILLE,,/MILLE,UMOL/KG,,UMOL/KG,,NMOL/KG,,1/M,,1/M,,1/M,,1/M,,1/M,,1/M,,1/M,,1/NM,,1/NM,,PMOL/KG,,/MILLE,,/MILLE,/MILLE,,/MILLE,,
33RO20130803,       A16N,      20,          1,         15,         15,2,20130807,       2212,    55.5010,   -19.9996,       1097,     4.6,  14.7055,  35.1253,2,  35.1248,2,    258.3,2,   259.6,2,    0.10,2,    0.10,2,    0.00,2,    0.09,2,-999.000,9,-999.000,9,-999.000,9,  2057.1,6,  2322.9,6,  -999.0,9, -999.00,   7.9756,2,    25.00, -999.00,9,  -999.0,9,  -999.0,   66.65,2,     3.9,2,     -999.0,9,-999.0000,9,-999.0000,9,-999.0000,9,-999.0000,9,-999.0000,9,-999.0000,9,-999.0000,9,-999.0000,9,-999.0000,9,     -999.0,9,  -999.0,9,     -999.0,     -999.0,9,     -999.0,20130807,       2249
33RO20130803,       A16N,      20,          1,         14,         14,2,20130807,       2212,    55.5010,   -19.9996,       1097,    16.5,  14.6999,  35.1243,2,  35.1347,2,    258.8,2,   260.1,2,    0.10,2,    0.40,2,    0.01,2,    0.11,2,-999.000,9,-999.000,9,-999.000,9,  2061.1,2,  2322.7,3,  -999.0,9, -999.00,   7.9682,2,    25.00, -999.00,9,  -999.0,9,  -999.0,   64.59,2,    4.07,2,     -999.0,9,-999.0000,9,-999.0000,9,-999.0000,9,-999.0000,9,-999.0000,9,-999.0000,9,-999.0000,9,-999.0000,9,-999.0000,9,     -999.0,9,  -999.0,9,     -999.0,     -999.0,9,     -999.0,20130807,       2247
33RO20130803,       A16N,      20,          1,         13,         13,2,20130807,       2212,    55.5010,   -19.9996,       1097,    33.8,  12.4622,  35.2933,2,  35.2952,2,    260.6,2,     262,2,    0.20,2,    4.60,2,    0.14,2,    0.42,2,-999.000,9,-999.000,9,-999.000,9,  2110.6,2,  2329.2,2,  -999.0,9, -999.00,   7.8792,2,    25.00, -999.00,9,  -999.0,9,  -999.0,   56.38,2,    8.39,2,     -999.0,9,-999.0000,9,-999.0000,9,-999.0000,9,-999.0000,9,-999.0000,9,-999.0000,9,-999.0000,9,-999.0000,9,-999.0000,9,     -999.0,9,  -999.0,9,     -999.0,     -999.0,9,     -999.0,20130807,       2245
33RO20130803,       A16N,      20,          1,         12,         12,2,20130807,       2212,    55.5010,   -19.9996,       1097,    56.2,  12.1304,  35.3047,2,  35.3060,2,    261.1,2,   261.8,2,    0.30,2,    5.30,2,    0.17,2,    0.46,2,-999.000,9,-999.000,9,-999.000,9,  2116.0,2,  2328.3,6,  -999.0,9, -999.00,   7.8680,2,    25.00, -999.00,9,  -999.0,9,  -999.0,   54.76,2,    9.39,2,     -999.0,9,-999.0000,9,-999.0000,9,-999.0000,9,-999.0000,9,-999.0000,9,-999.0000,9,-999.0000,9,-999.0000,9,-999.0000,9,     -999.0,9,  -999.0,9,     -999.0,     -999.0,9,     -999.0,20130807,       2244
33RO20130803,       A16N,      20,          1,         11,         11,2,20130807,       2212,    55.5010,   -19.9996,       1097,    76.4,  11.4241,  35.3003,2,  35.2990,2,    255.5,2,   256.2,2,    1.00,2,    7.20,2,    0.50,2,    0.55,2,-999.000,9,-999.000,9,-999.000,9,  2126.0,2,  2326.5,2,  -999.0,9, -999.00,   7.8456,6,    25.00, -999.00,9,  -999.0,9,  -999.0,   53.68,2,   11.49,2,     -999.0,9,-999.0000,9,-999.0000,9,-999.0000,9,-999.0000,9,-999.0000,9,-999.0000,9,-999.0000,9,-999.0000,9,-999.0000,9,     -999.0,9,  -999.0,9,     -999.0,     -999.0,9,     -999.0,20130807,       2242
33RO20130803,       A16N,      20,          1,         10,         10,2,20130807,       2212,    55.5010,   -19.9996,       1097,   111.5,  10.7421,  35.2904,2,  35.2900,2,    251.6,2,   250.8,2,    2.40,2,    9.90,2,    0.01,2,    0.65,2,-999.000,9,-999.000,9,-999.000,9,  -999.0,9,  -999.0,9,  -999.0,9, -999.00,-999.0000,9,  -999.00, -999.00,9,  -999.0,9,  -999.0,   52.56,2,   12.37,2,     -999.0,9,-999.0000,9,-999.0000,9,-999.0000,9,-999.0000,9,-999.0000,9,-999.0000,9,-999.0000,9,-999.0000,9,-999.0000,9,     -999.0,9,  -999.0,9,     -999.0,     -999.0,9,     -999.0,20130807,       2240
33RO20130803,       A16N,      20,          1,          9,          9,2,20130807,       2212,    55.5010,   -19.9996,       1097,   169.2,  10.4276,  35.2647,2,  35.2647,2,    252.5,2,   251.7,2,    2.80,2,   10.30,2,    0.01,2,    0.68,2,-999.000,9,-999.000,9,-999.000,9,  2135.9,2,  2322.4,2,  -999.0,9, -999.00,   7.8145,2,    25.00, -999.00,9,  -999.0,9,  -999.0,    51.1,2,   12.33,2,     -999.0,9,-999.0000,9,-999.0000,9,-999.0000,9,-999.0000,9,-999.0000,9,-999.0000,9,-999.0000,9,-999.0000,9,-999.0000,9,     -999.0,9,  -999.0,9,     -999.0,     -999.0,9,     -999.0,20130807,       2238
33RO20130803,       A16N,      20,          1,          8,          8,2,20130807,       2212,    55.5010,   -19.9996,       1097,   229.9,  10.0931,  35.2416,2,  35.2424,2,    251.1,2,   249.5,2,    3.40,2,   11.10,2,    0.01,2,    0.74,2,-999.000,9,-999.000,9,-999.000,9,  -999.0,9,  -999.0,9,  -999.0,9, -999.00,-999.0000,9,  -999.00, -999.00,9,  -999.0,9,  -999.0,   50.19,2,   14.15,2,     -999.0,9,-999.0000,9,-999.0000,9,-999.0000,9,-999.0000,9,-999.0000,9,-999.0000,9,-999.0000,9,-999.0000,9,-999.0000,9,     -999.0,9,  -999.0,9,     -999.0,     -999.0,9,     -999.0,20130807,       2235
33RO20130803,       A16N,      20,          1,          7,          7,2,20130807,       2212,    55.5010,   -19.9996,       1097,   307.6,   9.7779,  35.2433,2,  35.2432,2,    221.9,2,   222.7,2,    6.50,2,   14.30,2,    0.01,2,    0.93,2,-999.000,9,-999.000,9,-999.000,9,  2153.8,2,  2331.7,2,  -999.0,9, -999.00,   7.7624,2,    25.00, -999.00,9,  -999.0,9,  -999.0,   49.23,2,   16.62,2,     -999.0,9,-999.0000,9,-999.0000,9,-999.0000,9,-999.0000,9,-999.0000,9,-999.0000,9,-999.0000,9,-999.0000,9,-999.0000,9,     -999.0,9,  -999.0,9,     -999.0,     -999.0,9,     -999.0,20130807,       2233
33RO20130803,       A16N,      20,          1,          6,          6,2,20130807,       2212,    55.5010,   -19.9996,       1097,   369.4,   9.2788,  35.2095,2,  35.2083,2,    215.3,2,   214.5,2,    7.80,2,   15.80,2,    0.00,2,    1.02,2,-999.000,9,-999.000,9,-999.000,9,  -999.0,9,  -999.0,9,  -999.0,9, -999.00,-999.0000,9,  -999.00, -999.00,9,  -999.0,9,  -999.0,   48.43,2,   18.92,2,     -999.0,9,-999.0000,9,-999.0000,9,-999.0000,9,-999.0000,9,-999.0000,9,-999.0000,9,-999.0000,9,-999.0000,9,-999.0000,9,     -999.0,9,  -999.0,9,     -999.0,     -999.0,9,     -999.0,20130807,       2230
33RO20130803,       A16N,      20,          1,          5,          5,2,20130807,       2212,    55.5010,   -19.9996,       1097,   446.7,   8.5330,  35.1703,2,  35.1699,2,    204.8,2,   202.7,2,    9.50,2,   17.70,2,    0.01,2,    1.15,2,-999.000,9,-999.000,9,-999.000,9,  2171.3,2,  2318.7,2,  -999.0,9, -999.00,   7.7155,2,    25.00, -999.00,9,  -999.0,9,  -999.0,   47.63,2,   20.14,2,     -999.0,9,-999.0000,9,-999.0000,9,-999.0000,9,-999.0000,9,-999.0000,9,-999.0000,9,-999.0000,9,-999.0000,9,-999.0000,9,     -999.0,9,  -999.0,9,     -999.0,     -999.0,9,     -999.0,20130807,       2228
33RO20130803,       A16N,      20,          1,          4,          4,2,20130807,       2212,    55.5010,   -19.9996,       1097,   624.9,   6.1583,  34.9854,2,  34.9836,2,    224.2,2,   223.4,2,   10.90,6,   18.50,6,    0.01,6,    1.22,6,-999.000,9,-999.000,9,-999.000,9,  -999.0,9,  -999.0,9,  -999.0,9, -999.00,-999.0000,9,  -999.00, -999.00,9,  -999.0,9,  -999.0,   46.83,2,    20.8,2,     -999.0,9,-999.0000,9,-999.0000,9,-999.0000,9,-999.0000,9,-999.0000,9,-999.0000,9,-999.0000,9,-999.0000,9,-999.0000,9,     -999.0,9,  -999.0,9,     -999.0,     -999.0,9,     -999.0,20130807,       2223
33RO20130803,       A16N,      20,          1,          3,          3,2,20130807,       2212,    55.5010,   -19.9996,       1097,   749.4,   5.9897,  35.0627,2,  35.0612,2,    229.1,2,   228.1,2,   10.90,6,   18.30,6,    0.01,6,    1.20,6,-999.000,9,-999.000,9,-999.000,9,  2176.2,2,  2314.0,6,  -999.0,9, -999.00,   8.3744,4,    25.00, -999.00,9,  -999.0,9,  -999.0,   46.85,2,   20.93,2,     -999.0,9,-999.0000,9,-999.0000,9,-999.0000,9,-999.0000,9,-999.0000,9,-999.0000,9,-999.0000,9,-999.0000,9,-999.0000,9,     -999.0,9,  -999.0,9,     -999.0,     -999.0,9,     -999.0,20130807,       2220
33RO20130803,       A16N,      20,          1,          2,          2,2,20130807,       2212,    55.5010,   -19.9996,       1097,   872.4,   5.1523,  35.0210,2,  35.0201,2,    244.9,2,     245,2,   11.00,6,   17.90,6,    0.01,6,    1.17,6,-999.000,9,-999.000,9,-999.000,9,  -999.0,9,  -999.0,9,  -999.0,9, -999.00,-999.0000,9,  -999.00, -999.00,9,  -999.0,9,  -999.0,   46.18,2,    21.6,2,     -999.0,9,-999.0000,9,-999.0000,9,-999.0000,9,-999.0000,9,-999.0000,9,-999.0000,9,-999.0000,9,-999.0000,9,-999.0000,9,     -999.0,9,  -999.0,9,     -999.0,     -999.0,9,     -999.0,20130807,       2216
33RO20130803,       A16N,      20,          1,          1,          1,2,20130807,       2212,    55.5010,   -19.9996,       1097,  1093.0,   4.2457,  34.9573,2,  34.9551,2,    263.3,2,   263.1,2,   11.30,6,   17.30,6,    0.01,6,    1.14,6,-999.000,9,-999.000,9,-999.000,9,  2167.2,2,  2307.6,2,  -999.0,9, -999.00,   7.7160,2,    25.00, -999.00,9,  -999.0,9,  -999.0,   45.52,2,   21.26,2,     -999.0,9,-999.0000,9,-999.0000,9,-999.0000,9,-999.0000,9,-999.0000,9,-999.0000,9,-999.0000,9,-999.0000,9,-999.0000,9,     -999.0,9,  -999.0,9,     -999.0,     -999.0,9,     -999.0,20130807,       2212