BOTTLE,20220815CCHSIOAMB
EXPOCODE,SECT_ID,STNNBR,CASTNO,SAMPNO,BTLNBR,BTLNBR_FLAG_W,DATE,TIME,LATITUDE,LONGITUDE,DEPTH,CTDPRS,CTDTMP,CTDSAL,CTDSAL_FLAG_W,SALNTY,SALNTY_FLAG_W,CTDOXY,CTDOXY_FLAG_W,OXYGEN,OXYGEN_FLAG_W,SILCAT,SILCAT_FLAG_W,NITRAT,NITRAT_FLAG_W,NITRIT,NITRIT_FLAG_W,PHSPHT,PHSPHT_FLAG_W,CFC-11,CFC-11_FLAG_W,CFC-12,CFC-12_FLAG_W,SF6,SF6_FLAG_W,TCARBN,TCARBN_FLAG_W,ALKALI,ALKALI_FLAG_W,PCO2,PCO2_FLAG_W,PCO2TMP,PH_SWS,PH_SWS_FLAG_W,PH_TMP,DELC13,DELC13_FLAG_W,DELC14,DELC14_FLAG_W,C14ERR,DOC,DOC_FLAG_W,TDN,TDN_FLAG_W,N2O,N2O_FLAG_W,CDOM325,CDOM325_FLAG_W,CDOM340,CDOM340_FLAG_W,CDOM380,CDOM380_FLAG_W,CDOM412,CDOM412_FLAG_W,CDOM443,CDOM443_FLAG_W,CDOM490,CDOM490_FLAG_W,CDOM555,CDOM555_FLAG_W,CDOMSL,CDOMSL_FLAG_W,CDOMSN,CDOMSN_FLAG_W,CCL4,CCL4_FLAG_W,14C-DOC,14C-DOC_FLAG_W,14C-DOCERR,13C-DOC,13C-DOC_FLAG_W,13C-DOCERR,BTL_DATE,BTL_TIME
,,,,,,,,,,,METERS,DBAR,ITS-90,PSS-78,,PSS-78,,UMOL/KG,,UMOL/KG,,UMOL/KG,,UMOL/KG,,UMOL/KG,,UMOL/KG,,PMOL/KG,,PMOL/KG,,FMOL/KG,,UMOL/KG,,UMOL/KG,,UATM,,DEG C,,,DEG C,/MILLE,,/MILLE,,/MILLE,UMOL/KG,,UMOL/KG,,NMOL/KG,,1/M,,1/M,,1/M,,1/M,,1/M,,1/M,,1/M,,1/NM,,1/NM,,PMOL/KG,,/MILLE,,/MILLE,/MILLE,,/MILLE,,
33RO20130803,       A16N,      33,          2,         24,         24,2,20130811,       0343,    49.0003,   -19.9906,       4413,     2.5,  18.1560,  35.6271,2,  35.6188,2,    229.3,2,   240.2,2,    0.50,2,    0.00,2,    0.03,2,    0.06,2,   2.348,2,   1.429,2,   1.646,2,  2058.8,6,  2348.1,2,   362.9,2,      20,   8.0022,2,    25.00, -999.00,9,  -999.0,9,  -999.0, -999.00,9, -999.00,9,      8.029,2,-999.0000,9,-999.0000,9,-999.0000,9,-999.0000,9,-999.0000,9,-999.0000,9,-999.0000,9,-999.0000,9,-999.0000,9,     -999.0,5,  -999.0,9,     -999.0,     -999.0,9,     -999.0,20130811,       0522
33RO20130803,       A16N,      33,          2,         23,         23,2,20130811,       0343,    49.0003,   -19.9906,       4413,    15.5,  18.1722,  35.6312,2,  35.6478,2,    229.7,2,   240.3,2,    0.50,2,    0.00,2,    0.03,2,    0.06,2,   2.361,2,   1.436,2,   1.629,2,  2063.5,2,  2349.7,6,   370.2,2,      20,   7.9938,2,    25.00, -999.00,9,  -999.0,9,  -999.0, -999.00,9, -999.00,9,      8.056,2,-999.0000,9,-999.0000,9,-999.0000,9,-999.0000,9,-999.0000,9,-999.0000,9,-999.0000,9,-999.0000,9,-999.0000,9,     -999.0,5,  -999.0,9,     -999.0,     -999.0,9,     -999.0,20130811,       0520
33RO20130803,       A16N,      33,          2,         22,         22,2,20130811,       0343,    49.0003,   -19.9906,       4413,    35.9,  16.0254,  35.5712,2,  35.5678,2,    252.6,2,   259.4,2,    0.40,2,    0.30,2,    0.07,2,    0.12,2,   2.689,6,   1.611,6,   1.806,6,  2078.0,2,  2344.2,2,   402.0,2,      20,   7.9644,2,    25.00, -999.00,9,  -999.0,9,  -999.0, -999.00,9, -999.00,9,      8.801,6,-999.0000,9,-999.0000,9,-999.0000,9,-999.0000,9,-999.0000,9,-999.0000,9,-999.0000,9,-999.0000,9,-999.0000,9,     -999.0,5,  -999.0,9,     -999.0,     -999.0,9,     -999.0,20130811,       0519
33RO20130803,       A16N,      33,          2,         21,         21,2,20130811,       0343,    49.0003,   -19.9906,       4413,    61.0,  13.2481,  35.5632,2,  35.5644,2,    245.4,2,   246.9,2,    1.00,2,    5.30,2,    0.85,2,    0.42,2,   2.936,2,   1.732,2,   1.924,2,  2118.2,2,  2339.8,2,   505.6,2,      20,   7.8796,2,    25.00, -999.00,9,  -999.0,9,  -999.0, -999.00,9, -999.00,9,      9.770,2,-999.0000,9,-999.0000,9,-999.0000,9,-999.0000,9,-999.0000,9,-999.0000,9,-999.0000,9,-999.0000,9,-999.0000,9,     -999.0,5,  -999.0,9,     -999.0,     -999.0,9,     -999.0,20130811,       0517
33RO20130803,       A16N,      33,          2,         20,         20,2,20130811,       0343,    49.0003,   -19.9906,       4413,    85.2,  12.9021,  35.6351,2,  35.6278,2,    244.4,2,   243.6,2,    2.20,2,    7.60,2,    0.04,2,    0.49,2,   2.916,2,   1.718,2,   1.901,2,  2126.5,2,  2341.5,2,   525.5,2,      20,   7.8632,2,    25.00, -999.00,9,  -999.0,9,  -999.0, -999.00,9, -999.00,9,      9.956,2,-999.0000,9,-999.0000,9,-999.0000,9,-999.0000,9,-999.0000,9,-999.0000,9,-999.0000,9,-999.0000,9,-999.0000,9,     -999.0,5,  -999.0,9,     -999.0,     -999.0,9,     -999.0,20130811,       0516
33RO20130803,       A16N,      33,          2,         19,         19,2,20130811,       0343,    49.0003,   -19.9906,       4413,   123.2,  12.5253,  35.5969,2,  35.5955,2,    241.4,2,   242.6,2,    2.80,2,    8.20,2,    0.03,2,    0.53,2,   2.931,2,   1.724,2,   1.863,2,  2130.0,2,  2341.3,2,   538.6,2,      20,   7.8558,2,    25.00, -999.00,9,  -999.0,9,  -999.0, -999.00,9, -999.00,9,     10.164,2,-999.0000,9,-999.0000,9,-999.0000,9,-999.0000,9,-999.0000,9,-999.0000,9,-999.0000,9,-999.0000,9,-999.0000,9,     -999.0,5,  -999.0,9,     -999.0,     -999.0,9,     -999.0,20130811,       0514
33RO20130803,       A16N,      33,          2,         18,         18,2,20130811,       0343,    49.0003,   -19.9906,       4413,   185.8,  11.8846,  35.5042,2,  35.5033,2,    248.5,2,   244.6,2,    2.70,2,    9.10,2,    0.03,2,    0.59,2,   3.004,2,   1.761,2,   1.903,2,  2133.2,2,  2336.7,2,   559.4,2,      20,   7.8384,2,    25.00, -999.00,9,  -999.0,9,  -999.0, -999.00,9, -999.00,9,     10.658,2,-999.0000,9,-999.0000,9,-999.0000,9,-999.0000,9,-999.0000,9,-999.0000,9,-999.0000,9,-999.0000,9,-999.0000,9,     -999.0,5,  -999.0,9,     -999.0,     -999.0,9,     -999.0,20130811,       0512
33RO20130803,       A16N,      33,          2,         17,         17,2,20130811,       0343,    49.0003,   -19.9906,       4413,   259.7,  11.5800,  35.4992,2,  35.4984,2,    241.7,2,   238.6,2,    3.70,2,   10.30,2,    0.03,2,    0.66,2,   2.979,2,   1.743,2,   1.812,2,  2138.7,2,  2334.8,6,   582.3,2,      20,   7.8244,2,    25.00, -999.00,9,  -999.0,9,  -999.0, -999.00,9, -999.00,9,     11.334,2,-999.0000,9,-999.0000,9,-999.0000,9,-999.0000,9,-999.0000,9,-999.0000,9,-999.0000,9,-999.0000,9,-999.0000,9,     -999.0,5,  -999.0,9,     -999.0,     -999.0,9,     -999.0,20130811,       0510
33RO20130803,       A16N,      33,          2,         16,         16,2,20130811,       0343,    49.0003,   -19.9906,       4413,   348.2,  11.1797,  35.4643,2,  35.4653,2,    240.3,2,   242.4,2,    3.80,2,   10.60,2,    0.02,2,    0.68,2,   3.057,2,   1.782,2,   1.851,2,  2140.2,2,  2331.4,2,   592.2,2,      20,   7.8173,2,    25.00, -999.00,9,  -999.0,9,  -999.0, -999.00,9, -999.00,9,     11.254,2,-999.0000,9,-999.0000,9,-999.0000,9,-999.0000,9,-999.0000,9,-999.0000,9,-999.0000,9,-999.0000,9,-999.0000,9,     -999.0,5,  -999.0,9,     -999.0,     -999.0,9,     -999.0,20130811,       0507
33RO20130803,       A16N,      33,          2,         15,         15,2,20130811,       0343,    49.0003,   -19.9906,       4413,   448.4,  11.1529,  35.5143,2,  35.5157,2,    240.1,2,     241,2,    4.00,2,   10.70,2,    0.02,2,    0.69,2,   3.058,2,   1.765,2,   1.820,2,  2144.0,2,  2301.3,4,   598.9,2,      20,   7.8125,2,    25.00, -999.00,9,  -999.0,9,  -999.0, -999.00,9, -999.00,9,     11.340,2,-999.0000,9,-999.0000,9,-999.0000,9,-999.0000,9,-999.0000,9,-999.0000,9,-999.0000,9,-999.0000,9,-999.0000,9,     -999.0,5,  -999.0,9,     -999.0,     -999.0,9,     -999.0,20130811,       0505
33RO20130803,       A16N,      33,          2,         14,         14,2,20130811,       0343,    49.0003,   -19.9906,       4413,   573.4,  10.5691,  35.4445,2,  35.4451,2,    216.1,2,   213.5,2,    6.30,2,   14.30,2,    0.02,2,    0.90,2,   2.783,2,   1.578,2,   1.402,2,  2159.6,2,  2334.0,2,   667.4,2,      20,   7.7707,2,    25.00, -999.00,9,  -999.0,9,  -999.0, -999.00,9, -999.00,9,     13.870,2,-999.0000,9,-999.0000,9,-999.0000,9,-999.0000,9,-999.0000,9,-999.0000,9,-999.0000,9,-999.0000,9,-999.0000,9,     -999.0,5,  -999.0,9,     -999.0,     -999.0,9,     -999.0,20130811,       0501
33RO20130803,       A16N,      33,          2,         13,         13,2,20130811,       0343,    49.0003,   -19.9906,       4413,   748.1,   9.0156,  35.3281,2,  35.3343,2,    188.2,2,   188.8,2,    9.90,2,   18.40,2,    0.02,2,    1.18,2,   2.343,2,   1.267,2,   0.854,2,  2180.9,6,  2332.5,2,   764.2,2,      20,   7.7182,2,    25.00, -999.00,9,  -999.0,9,  -999.0, -999.00,9, -999.00,9,     16.433,2,-999.0000,9,-999.0000,9,-999.0000,9,-999.0000,9,-999.0000,9,-999.0000,9,-999.0000,9,-999.0000,9,-999.0000,9,     -999.0,5,  -999.0,9,     -999.0,     -999.0,9,     -999.0,20130811,       0457
33RO20130803,       A16N,      33,          2,         12,         12,2,20130811,       0343,    49.0003,   -19.9906,       4413,   874.0,   7.0041,  35.1011,2,  35.1033,2,    206.0,2,   205.9,2,   11.20,2,   19.20,2,    0.02,2,    1.26,2,   2.590,2,   1.379,2,   0.994,2,  2180.4,2,  2275.4,4,   815.0,2,      20,   7.6910,6,    25.00, -999.00,9,  -999.0,9,  -999.0, -999.00,9, -999.00,9,     16.352,2,-999.0000,9,-999.0000,9,-999.0000,9,-999.0000,9,-999.0000,9,-999.0000,9,-999.0000,9,-999.0000,9,-999.0000,9,     -999.0,5,  -999.0,9,     -999.0,     -999.0,9,     -999.0,20130811,       0454
33RO20130803,       A16N,      33,          2,         11,         11,2,20130811,       0343,    49.0003,   -19.9906,       4413,  1023.5,   6.8878,  35.2652,2,  35.2671,2,    214.9,2,   215.9,2,   10.90,2,   18.30,2,    0.02,2,    1.18,2,   2.617,2,   1.368,2,   0.838,2,  2183.7,2,  2327.0,2,   782.4,2,      20,   7.7092,2,    25.00, -999.00,9,  -999.0,9,  -999.0, -999.00,9, -999.00,9,     15.165,2,-999.0000,9,-999.0000,9,-999.0000,9,-999.0000,9,-999.0000,9,-999.0000,9,-999.0000,9,-999.0000,9,-999.0000,9,     -999.0,5,  -999.0,9,     -999.0,     -999.0,9,     -999.0,20130811,       0451
33RO20130803,       A16N,      33,          2,         10,         10,2,20130811,       0343,    49.0003,   -19.9906,       4413,  1199.3,   5.6103,  35.1206,2,  35.1214,2,    236.9,2,   238.1,2,   11.00,2,   18.00,2,    0.02,2,    1.18,2,   3.038,2,   1.599,2,   0.990,2,  2176.3,2,  2317.0,2,   789.0,2,      20,   7.7055,2,    25.00, -999.00,9,  -999.0,9,  -999.0, -999.00,9, -999.00,9,     14.559,2,-999.0000,9,-999.0000,9,-999.0000,9,-999.0000,9,-999.0000,9,-999.0000,9,-999.0000,9,-999.0000,9,-999.0000,9,     -999.0,5,  -999.0,9,     -999.0,     -999.0,9,     -999.0,20130811,       0447
33RO20130803,       A16N,      33,          2,          9,          9,2,20130811,       0343,    49.0003,   -19.9906,       4413,  1497.8,   4.3512,  34.9794,2,  34.9795,2,    260.9,2,   260.8,2,   11.20,2,   17.60,2,    0.02,2,    1.16,2,   3.381,2,   1.747,2,   0.994,2,  2168.1,2,  2307.0,2,   787.3,2,      20,   7.7057,2,    25.00, -999.00,9,  -999.0,9,  -999.0, -999.00,9, -999.00,9,     13.943,2,-999.0000,9,-999.0000,9,-999.0000,9,-999.0000,9,-999.0000,9,-999.0000,9,-999.0000,9,-999.0000,9,-999.0000,9,     -999.0,5,  -999.0,9,     -999.0,     -999.0,9,     -999.0,20130811,       0441
33RO20130803,       A16N,      33,          2,          8,          8,2,20130811,       0343,    49.0003,   -19.9906,       4413,  2097.7,   3.4412,  34.9211,2,  34.9210,2,    271.3,2,   271.4,2,   13.20,2,   17.40,2,    0.01,2,    1.16,2,   2.781,2,   1.372,2,   0.572,2,  2161.1,2,  2310.0,2,   767.2,2,      20,   7.7136,2,    25.00, -999.00,9,  -999.0,9,  -999.0, -999.00,9, -999.00,9,     13.339,2,-999.0000,9,-999.0000,9,-999.0000,9,-999.0000,9,-999.0000,9,-999.0000,9,-999.0000,9,-999.0000,9,-999.0000,9,     -999.0,5,  -999.0,9,     -999.0,     -999.0,9,     -999.0,20130811,       0430
33RO20130803,       A16N,      33,          2,          7,          7,2,20130811,       0343,    49.0003,   -19.9906,       4413,  2398.9,   3.1900,  34.9306,2,  34.9301,2,    269.7,2,     269,2,   16.30,2,   17.60,2,    0.01,2,    1.17,2,   2.208,2,   1.085,2,   0.454,2,  2164.1,2,  2326.7,4,   760.2,2,      20,   7.7185,2,    25.00, -999.00,9,  -999.0,9,  -999.0, -999.00,9, -999.00,9,     13.293,2,-999.0000,9,-999.0000,9,-999.0000,9,-999.0000,9,-999.0000,9,-999.0000,9,-999.0000,9,-999.0000,9,-999.0000,9,     -999.0,5,  -999.0,9,     -999.0,     -999.0,9,     -999.0,20130811,       0424
33RO20130803,       A16N,      33,          2,          6,          6,2,20130811,       0343,    49.0003,   -19.9906,       4413,  2697.8,   3.0058,  34.9418,2,  34.9428,2,    263.5,2,   263.6,2,   20.80,2,   18.10,2,    0.01,2,    1.21,2,   1.738,2,   0.863,2,   0.418,2,  2170.8,2,  2318.0,2,   760.1,2,      20,   7.7194,6,    25.00, -999.00,9,  -999.0,9,  -999.0, -999.00,9, -999.00,9,     13.380,2,-999.0000,9,-999.0000,9,-999.0000,9,-999.0000,9,-999.0000,9,-999.0000,9,-999.0000,9,-999.0000,9,-999.0000,9,     -999.0,5,  -999.0,9,     -999.0,     -999.0,9,     -999.0,20130811,       0418
33RO20130803,       A16N,      33,          2,          5,          5,2,20130811,       0343,    49.0003,   -19.9906,       4413,  3098.4,   2.7856,  34.9392,2,  34.9384,2,    254.4,2,   254.8,2,   28.90,2,   19.30,2,    0.01,2,    1.30,2,   1.158,2,   0.576,2,   0.339,2,  2180.6,2,  2328.8,2,   764.0,2,      20,   7.7177,2,    25.00, -999.00,9,  -999.0,9,  -999.0, -999.00,9, -999.00,9,     13.457,2,-999.0000,9,-999.0000,9,-999.0000,9,-999.0000,9,-999.0000,9,-999.0000,9,-999.0000,9,-999.0000,9,-999.0000,9,     -999.0,5,  -999.0,9,     -999.0,     -999.0,9,     -999.0,20130811,       0411
33RO20130803,       A16N,      33,          2,          4,          4,2,20130811,       0343,    49.0003,   -19.9906,       4413,  3497.0,   2.6224,  34.9235,2,  34.9246,2,    244.7,2,   245.5,2,   38.10,6,   21.10,6,    0.01,6,    1.42,6,   0.363,2,   0.180,2,   0.126,4,  2192.2,2,  2343.9,2,   760.1,2,      20,   7.7236,2,    25.00, -999.00,9,  -999.0,9,  -999.0, -999.00,9, -999.00,9,     13.588,2,-999.0000,9,-999.0000,9,-999.0000,9,-999.0000,9,-999.0000,9,-999.0000,9,-999.0000,9,-999.0000,9,-999.0000,9,     -999.0,5,  -999.0,9,     -999.0,     -999.0,9,     -999.0,20130811,       0403
33RO20130803,       A16N,      33,          2,          3,          3,2,20130811,       0343,    49.0003,   -19.9906,       4413,  3898.6,   2.5452,  34.9123,2,  34.9116,2,    240.9,2,   241.4,2,   42.60,6,   21.90,6,    0.01,6,    1.47,6,   0.149,6,   0.075,6,   0.070,6,  2198.8,2,  2351.0,2,   761.4,2,      20,   7.7234,2,    25.00, -999.00,9,  -999.0,9,  -999.0, -999.00,9, -999.00,9,     13.580,6,-999.0000,9,-999.0000,9,-999.0000,9,-999.0000,9,-999.0000,9,-999.0000,9,-999.0000,9,-999.0000,9,-999.0000,9,     -999.0,5,  -999.0,9,     -999.0,     -999.0,9,     -999.0,20130811,       0356
33RO20130803,       A16N,      33,          2,          2,          2,2,20130811,       0343,    49.0003,   -19.9906,       4413,  4156.5,   2.5377,  34.9088,2,  34.9097,2,    239.8,2,   240.6,2,   43.90,6,   22.10,6,    0.01,6,    1.49,6,   0.089,2,   0.046,2,   0.051,2,  2200.6,2,  2351.8,2,   762.0,2,      20,   7.7237,2,    25.00, -999.00,9,  -999.0,9,  -999.0, -999.00,9, -999.00,9,     13.629,2,-999.0000,9,-999.0000,9,-999.0000,9,-999.0000,9,-999.0000,9,-999.0000,9,-999.0000,9,-999.0000,9,-999.0000,9,     -999.0,5,  -999.0,9,     -999.0,     -999.0,9,     -999.0,20130811,       0350
33RO20130803,       A16N,      33,          2,          1,          1,2,20130811,       0343,    49.0003,   -19.9906,       4413,  4484.3,   2.5485,  34.9055,2,  34.9064,2,    240.0,2,   240.6,2,   44.90,6,   22.20,6,    0.01,6,    1.50,6,   0.062,2,   0.031,2,   0.039,2,  2203.2,6,  2354.9,2,   760.2,2,      20,   7.7245,2,    25.00, -999.00,9,  -999.0,9,  -999.0, -999.00,9, -999.00,9,     13.560,2,-999.0000,9,-999.0000,9,-999.0000,9,-999.0000,9,-999.0000,9,-999.0000,9,-999.0000,9,-999.0000,9,-999.0000,9,     -999.0,5,  -999.0,9,     -999.0,     -999.0,9,     -999.0,20130811,       0343