BOTTLE,20220815CCHSIOAMB
EXPOCODE,SECT_ID,STNNBR,CASTNO,SAMPNO,BTLNBR,BTLNBR_FLAG_W,DATE,TIME,LATITUDE,LONGITUDE,DEPTH,CTDPRS,CTDTMP,CTDSAL,CTDSAL_FLAG_W,SALNTY,SALNTY_FLAG_W,CTDOXY,CTDOXY_FLAG_W,OXYGEN,OXYGEN_FLAG_W,SILCAT,SILCAT_FLAG_W,NITRAT,NITRAT_FLAG_W,NITRIT,NITRIT_FLAG_W,PHSPHT,PHSPHT_FLAG_W,CFC-11,CFC-11_FLAG_W,CFC-12,CFC-12_FLAG_W,SF6,SF6_FLAG_W,TCARBN,TCARBN_FLAG_W,ALKALI,ALKALI_FLAG_W,PCO2,PCO2_FLAG_W,PCO2TMP,PH_SWS,PH_SWS_FLAG_W,PH_TMP,DELC13,DELC13_FLAG_W,DELC14,DELC14_FLAG_W,C14ERR,DOC,DOC_FLAG_W,TDN,TDN_FLAG_W,N2O,N2O_FLAG_W,CDOM325,CDOM325_FLAG_W,CDOM340,CDOM340_FLAG_W,CDOM380,CDOM380_FLAG_W,CDOM412,CDOM412_FLAG_W,CDOM443,CDOM443_FLAG_W,CDOM490,CDOM490_FLAG_W,CDOM555,CDOM555_FLAG_W,CDOMSL,CDOMSL_FLAG_W,CDOMSN,CDOMSN_FLAG_W,CCL4,CCL4_FLAG_W,14C-DOC,14C-DOC_FLAG_W,14C-DOCERR,13C-DOC,13C-DOC_FLAG_W,13C-DOCERR,BTL_DATE,BTL_TIME
,,,,,,,,,,,METERS,DBAR,ITS-90,PSS-78,,PSS-78,,UMOL/KG,,UMOL/KG,,UMOL/KG,,UMOL/KG,,UMOL/KG,,UMOL/KG,,PMOL/KG,,PMOL/KG,,FMOL/KG,,UMOL/KG,,UMOL/KG,,UATM,,DEG C,,,DEG C,/MILLE,,/MILLE,,/MILLE,UMOL/KG,,UMOL/KG,,NMOL/KG,,1/M,,1/M,,1/M,,1/M,,1/M,,1/M,,1/M,,1/NM,,1/NM,,PMOL/KG,,/MILLE,,/MILLE,/MILLE,,/MILLE,,
33RO20130803,       A16N,      63,          2,         24,         24,2,20130819,       2011,    34.0018,   -21.1303,       5250,     2.8,  23.3776,  36.8253,2,  36.8272,2,    205.8,2,   214.7,2,    0.50,2,    0.10,2,    0.00,2,    0.02,2,   1.844,2,   1.148,2,   1.375,2,  2106.0,6,  2413.3,2,   346.8,2,      20,   8.0138,2,    25.00, -999.00,9,  -999.0,9,  -999.0, -999.00,9, -999.00,9,      6.709,2,-999.0000,9,-999.0000,9,-999.0000,9,-999.0000,9,-999.0000,9,-999.0000,9,-999.0000,9,-999.0000,9,-999.0000,9,     -999.0,5,  -999.0,9,     -999.0,     -999.0,9,     -999.0,20130819,       2209
33RO20130803,       A16N,      63,          2,         23,         23,2,20130819,       2011,    34.0018,   -21.1303,       5250,    28.1,  23.3900,  36.8249,2,  36.8222,2,    206.5,2,   215.1,2,    0.50,2,    0.10,2,    0.00,2,    0.02,2,   1.865,2,   1.153,2,   1.450,2,  2103.9,2,  2410.5,2,   346.9,2,      20,   8.0159,2,    25.00, -999.00,9,  -999.0,9,  -999.0, -999.00,9, -999.00,9,      6.743,2,-999.0000,9,-999.0000,9,-999.0000,9,-999.0000,9,-999.0000,9,-999.0000,9,-999.0000,9,-999.0000,9,-999.0000,9,     -999.0,5,  -999.0,9,     -999.0,     -999.0,9,     -999.0,20130819,       2207
33RO20130803,       A16N,      63,          2,         22,         22,2,20130819,       2011,    34.0018,   -21.1303,       5250,    63.8,  20.1254,  36.5684,2,  36.5436,3,    239.8,2,   240.9,2,    0.50,2,    0.10,2,    0.00,2,    0.02,2,   2.211,6,   1.351,6,   1.566,6,  2094.2,2,  2393.0,6,   353.0,2,      20,   8.0102,2,    25.00, -999.00,9,  -999.0,9,  -999.0, -999.00,9, -999.00,9,      7.673,6,-999.0000,9,-999.0000,9,-999.0000,9,-999.0000,9,-999.0000,9,-999.0000,9,-999.0000,9,-999.0000,9,-999.0000,9,     -999.0,5,  -999.0,9,     -999.0,     -999.0,9,     -999.0,20130819,       2204
33RO20130803,       A16N,      63,          2,         21,         21,2,20130819,       2011,    34.0018,   -21.1303,       5250,   114.3,  18.0592,  36.4846,2,  36.4921,2,    222.5,2,   223.1,2,    0.70,2,    0.30,2,    0.07,2,    0.04,2,   2.315,2,   1.394,2,   1.569,2,  2114.5,2,  2391.8,2,   393.9,2,      20,   7.9668,2,    25.00, -999.00,9,  -999.0,9,  -999.0, -999.00,9, -999.00,9,      8.232,2,-999.0000,9,-999.0000,9,-999.0000,9,-999.0000,9,-999.0000,9,-999.0000,9,-999.0000,9,-999.0000,9,-999.0000,9,     -999.0,5,  -999.0,9,     -999.0,     -999.0,9,     -999.0,20130819,       2201
33RO20130803,       A16N,      63,          2,         20,         20,2,20130819,       2011,    34.0018,   -21.1303,       5250,   186.3,  16.9285,  36.4060,2,  36.4004,2,    200.3,2,   201.3,2,    1.70,2,    5.20,2,    0.01,2,    0.30,2,   2.377,2,   1.421,2,   1.452,2,  2133.8,2,  2384.5,2,   446.2,2,      20,   7.9217,2,    25.00, -999.00,9,  -999.0,9,  -999.0, -999.00,9, -999.00,9,      9.397,2,-999.0000,9,-999.0000,9,-999.0000,9,-999.0000,9,-999.0000,9,-999.0000,9,-999.0000,9,-999.0000,9,-999.0000,9,     -999.0,5,  -999.0,9,     -999.0,     -999.0,9,     -999.0,20130819,       2158
33RO20130803,       A16N,      63,          2,         19,         19,2,20130819,       2011,    34.0018,   -21.1303,       5250,   260.9,  15.6143,  36.1638,2,  36.1575,2,    198.4,2,   199.1,2,    2.50,2,    7.80,2,    0.01,2,    0.45,2,   2.480,2,   1.453,2,   1.391,2,  2139.6,2,  2368.4,2,   486.4,2,      20,   7.8891,2,    25.00, -999.00,9,  -999.0,9,  -999.0, -999.00,9, -999.00,9,     10.456,2,-999.0000,9,-999.0000,9,-999.0000,9,-999.0000,9,-999.0000,9,-999.0000,9,-999.0000,9,-999.0000,9,-999.0000,9,     -999.0,5,  -999.0,9,     -999.0,     -999.0,9,     -999.0,20130819,       2155
33RO20130803,       A16N,      63,          2,         18,         18,2,20130819,       2011,    34.0018,   -21.1303,       5250,   349.0,  14.2607,  35.9273,2,  35.9209,2,    199.3,2,   200.1,2,    3.60,2,   10.00,2,    0.01,2,    0.59,2,   2.559,2,   1.486,2,   1.339,2,  2144.6,2,  2354.7,2,   529.9,2,      20,   7.8552,2,    25.00, -999.00,9,  -999.0,9,  -999.0, -999.00,9, -999.00,9,     11.419,2,-999.0000,9,-999.0000,9,-999.0000,9,-999.0000,9,-999.0000,9,-999.0000,9,-999.0000,9,-999.0000,9,-999.0000,9,     -999.0,5,  -999.0,9,     -999.0,     -999.0,9,     -999.0,20130819,       2152
33RO20130803,       A16N,      63,          2,         16,         16,2,20130819,       2011,    34.0018,   -21.1303,       5250,   574.3,  11.7732,  35.6017,2,  35.6001,2,    189.9,2,   189.7,2,    6.40,2,   15.10,2,    0.00,2,    0.92,2,   2.480,2,   1.379,2,   1.059,2,  2164.8,2,  2339.3,2,   643.6,2,      20,   7.7793,2,    25.00, -999.00,9,  -999.0,9,  -999.0, -999.00,9, -999.00,9,     14.153,2,-999.0000,9,-999.0000,9,-999.0000,9,-999.0000,9,-999.0000,9,-999.0000,9,-999.0000,9,-999.0000,9,-999.0000,9,     -999.0,5,  -999.0,9,     -999.0,     -999.0,9,     -999.0,20130819,       2146
33RO20130803,       A16N,      63,          2,         17,         17,2,20130819,       2011,    34.0018,   -21.1303,       5250,   574.2,  11.7712,  35.6016,2,  35.6009,2,    189.9,2,   189.4,2,    6.30,2,   15.10,2,    0.00,2,    0.92,2,   2.474,3,   1.380,3,   1.082,3,  2164.6,2,  2338.1,2,   642.4,2,      20,   7.7787,2,    25.00, -999.00,9,  -999.0,9,  -999.0, -999.00,9, -999.00,9,     14.124,3,-999.0000,9,-999.0000,9,-999.0000,9,-999.0000,9,-999.0000,9,-999.0000,9,-999.0000,9,-999.0000,9,-999.0000,9,     -999.0,5,  -999.0,9,     -999.0,     -999.0,9,     -999.0,20130819,       2147
33RO20130803,       A16N,      63,          2,         15,         15,2,20130819,       2011,    34.0018,   -21.1303,       5250,   723.6,  10.4762,  35.5113,2,  35.5031,2,    175.0,2,   174.7,2,    9.30,2,   18.60,2,    0.01,2,    1.16,2,   1.960,2,   1.045,2,   0.620,2,  2181.1,2,  2335.7,2,   715.9,2,      20,   7.7384,2,    25.00, -999.00,9,  -999.0,9,  -999.0, -999.00,9, -999.00,9,     15.962,2,-999.0000,9,-999.0000,9,-999.0000,9,-999.0000,9,-999.0000,9,-999.0000,9,-999.0000,9,-999.0000,9,-999.0000,9,     -999.0,5,  -999.0,9,     -999.0,     -999.0,9,     -999.0,20130819,       2143
33RO20130803,       A16N,      63,          2,         14,         14,2,20130819,       2011,    34.0018,   -21.1303,       5250,   873.8,   9.5516,  35.5623,2,  35.5603,2,    176.0,2,   175.1,2,   11.10,2,   19.50,2,    0.00,2,    1.22,2,   1.561,2,   0.812,2,   0.385,2,  2191.9,2,  2345.2,2,   730.2,2,      20,   7.7321,2,    25.00, -999.00,9,  -999.0,9,  -999.0, -999.00,9, -999.00,9,     16.190,2,-999.0000,9,-999.0000,9,-999.0000,9,-999.0000,9,-999.0000,9,-999.0000,9,-999.0000,9,-999.0000,9,-999.0000,9,     -999.0,5,  -999.0,9,     -999.0,     -999.0,9,     -999.0,20130819,       2139
33RO20130803,       A16N,      63,          2,         13,         13,2,20130819,       2011,    34.0018,   -21.1303,       5250,  1023.5,   8.6240,  35.5430,2,  35.5421,2,    182.7,2,   184.7,2,   12.30,2,   19.70,2,    0.00,2,    1.24,2,   1.366,2,   0.702,2,   0.320,2,  2192.5,6,  2348.8,2,   732.5,2,      20,   7.7297,2,    25.00, -999.00,9,  -999.0,9,  -999.0, -999.00,9, -999.00,9,     15.802,2,-999.0000,9,-999.0000,9,-999.0000,9,-999.0000,9,-999.0000,9,-999.0000,9,-999.0000,9,-999.0000,9,-999.0000,9,     -999.0,5,  -999.0,9,     -999.0,     -999.0,9,     -999.0,20130819,       2135
33RO20130803,       A16N,      63,          2,         12,         12,2,20130819,       2011,    34.0018,   -21.1303,       5250,  1173.8,   7.6355,  35.4790,2,  35.4778,2,    201.1,2,   203.2,2,   12.30,2,   18.90,2,    0.00,2,    1.20,2,   1.567,2,   0.797,2,   0.341,2,  2191.2,2,  2343.8,6,   728.3,2,      20,   7.7295,2,    25.00, -999.00,9,  -999.0,9,  -999.0, -999.00,9, -999.00,9,     14.954,2,-999.0000,9,-999.0000,9,-999.0000,9,-999.0000,9,-999.0000,9,-999.0000,9,-999.0000,9,-999.0000,9,-999.0000,9,     -999.0,5,  -999.0,9,     -999.0,     -999.0,9,     -999.0,20130819,       2131
33RO20130803,       A16N,      63,          2,         11,         11,2,20130819,       2011,    34.0018,   -21.1303,       5250,  1323.1,   6.8141,  35.4013,2,  35.4019,2,    215.0,2,   216.3,2,   12.50,2,   18.50,2,    0.00,2,    1.18,2,   1.682,2,   0.853,2,   0.360,2,  2186.4,2,  2339.2,2,   729.6,2,      20,   7.7286,6,    25.00, -999.00,9,  -999.0,9,  -999.0, -999.00,9, -999.00,9,     14.478,2,-999.0000,9,-999.0000,9,-999.0000,9,-999.0000,9,-999.0000,9,-999.0000,9,-999.0000,9,-999.0000,9,-999.0000,9,     -999.0,5,  -999.0,9,     -999.0,     -999.0,9,     -999.0,20130819,       2128
33RO20130803,       A16N,      63,          2,         10,         10,2,20130819,       2011,    34.0018,   -21.1303,       5250,  1499.3,   5.8828,  35.2955,2,  35.2953,2,    227.0,2,     229,2,   13.20,2,   18.50,2,    0.00,2,    1.19,2,   1.621,2,   0.803,2,   0.320,2,  2181.8,2,  2333.0,2,   729.2,2,      20,   7.7305,2,    25.00, -999.00,9,  -999.0,9,  -999.0, -999.00,9, -999.00,9,     14.002,2,-999.0000,9,-999.0000,9,-999.0000,9,-999.0000,9,-999.0000,9,-999.0000,9,-999.0000,9,-999.0000,9,-999.0000,9,     -999.0,5,  -999.0,9,     -999.0,     -999.0,9,     -999.0,20130819,       2124
33RO20130803,       A16N,      63,          2,          9,          9,2,20130819,       2011,    34.0018,   -21.1303,       5250,  1723.6,   4.8470,  35.1565,2,  35.1574,2,    242.8,2,   243.6,2,   14.30,2,   18.30,2,    0.00,2,    1.20,2,   1.525,2,   0.747,2,   0.253,2,  2173.7,2,  2324.7,2,   731.0,2,      20,   7.7280,2,    25.00, -999.00,9,  -999.0,9,  -999.0, -999.00,9, -999.00,9,     13.703,2,-999.0000,9,-999.0000,9,-999.0000,9,-999.0000,9,-999.0000,9,-999.0000,9,-999.0000,9,-999.0000,9,-999.0000,9,     -999.0,5,  -999.0,9,     -999.0,     -999.0,9,     -999.0,20130819,       2118
33RO20130803,       A16N,      63,          2,          8,          8,2,20130819,       2011,    34.0018,   -21.1303,       5250,  2098.7,   3.7327,  35.0038,2,  35.0044,2,    258.1,2,   258.2,2,   16.60,2,   18.40,2,    0.00,2,    1.21,2,   1.448,2,   0.701,2,   0.233,2,  2169.3,2,  2317.2,2,   736.2,2,      20,   7.7241,2,    25.00, -999.00,9,  -999.0,9,  -999.0, -999.00,9, -999.00,9,     13.344,2,-999.0000,9,-999.0000,9,-999.0000,9,-999.0000,9,-999.0000,9,-999.0000,9,-999.0000,9,-999.0000,9,-999.0000,9,     -999.0,5,  -999.0,9,     -999.0,     -999.0,9,     -999.0,20130819,       2111
33RO20130803,       A16N,      63,          2,          7,          7,2,20130819,       2011,    34.0018,   -21.1303,       5250,  2573.8,   3.2214,  34.9781,2,  34.9781,2,    252.0,2,   251.6,2,   25.00,2,   19.50,2,    0.00,2,    1.30,2,   0.450,2,   0.221,2,   0.058,2,  2177.3,2,  2326.4,2,   733.2,2,      20,   7.7265,2,    25.00, -999.00,9,  -999.0,9,  -999.0, -999.00,9, -999.00,9,     13.331,2,-999.0000,9,-999.0000,9,-999.0000,9,-999.0000,9,-999.0000,9,-999.0000,9,-999.0000,9,-999.0000,9,-999.0000,9,     -999.0,5,  -999.0,9,     -999.0,     -999.0,9,     -999.0,20130819,       2102
33RO20130803,       A16N,      63,          2,          6,          6,2,20130819,       2011,    34.0018,   -21.1303,       5250,  3073.5,   2.8041,  34.9414,2,  34.9417,2,    248.0,2,   247.7,2,   33.20,2,   20.60,2,    0.00,2,    1.38,2,   0.224,2,   0.111,2,   0.041,2,  2187.3,2,  2368.8,3,   739.4,2,      20,   7.7259,2,    25.00, -999.00,9,  -999.0,9,  -999.0, -999.00,9, -999.00,9,     13.407,2,-999.0000,9,-999.0000,9,-999.0000,9,-999.0000,9,-999.0000,9,-999.0000,9,-999.0000,9,-999.0000,9,-999.0000,9,     -999.0,5,  -999.0,9,     -999.0,     -999.0,9,     -999.0,20130819,       2053
33RO20130803,       A16N,      63,          2,          5,          5,2,20130819,       2011,    34.0018,   -21.1303,       5250,  3573.2,   2.6052,  34.9208,2,  34.9200,2,    244.5,2,   245.1,2,   39.40,2,   21.60,2,    0.00,2,    1.45,2,   0.065,2,   0.035,2,   0.032,2,  2193.4,2,  2344.0,2,   742.4,2,      20,   7.7298,2,    25.00, -999.00,9,  -999.0,9,  -999.0, -999.00,9, -999.00,9,     13.457,2,-999.0000,9,-999.0000,9,-999.0000,9,-999.0000,9,-999.0000,9,-999.0000,9,-999.0000,9,-999.0000,9,-999.0000,9,     -999.0,5,  -999.0,9,     -999.0,     -999.0,9,     -999.0,20130819,       2044
33RO20130803,       A16N,      63,          2,          4,          4,2,20130819,       2011,    34.0018,   -21.1303,       5250,  4072.0,   2.4839,  34.9040,2,  34.9038,2,    244.1,2,   244.6,2,   43.40,6,   22.10,6,    0.00,6,    1.48,6,   0.015,2,   0.010,2,   0.000,2,  2196.8,2,  2347.1,2,   744.8,2,      20,   7.7271,2,    25.00, -999.00,9,  -999.0,9,  -999.0, -999.00,9, -999.00,9,     13.566,2,-999.0000,9,-999.0000,9,-999.0000,9,-999.0000,9,-999.0000,9,-999.0000,9,-999.0000,9,-999.0000,9,-999.0000,9,     -999.0,5,  -999.0,9,     -999.0,     -999.0,9,     -999.0,20130819,       2034
33RO20130803,       A16N,      63,          2,          3,          3,2,20130819,       2011,    34.0018,   -21.1303,       5250,  4523.3,   2.4314,  34.8935,2,  34.8929,2,    244.0,2,   244.3,2,   45.70,6,   22.30,6,    0.00,6,    1.50,6,   0.004,2,   0.004,2,   0.000,2,  2197.3,2,  2350.3,2,   747.4,2,      20,   7.7247,6,    25.00, -999.00,9,  -999.0,9,  -999.0, -999.00,9, -999.00,9,     13.727,2,-999.0000,9,-999.0000,9,-999.0000,9,-999.0000,9,-999.0000,9,-999.0000,9,-999.0000,9,-999.0000,9,-999.0000,9,     -999.0,5,  -999.0,9,     -999.0,     -999.0,9,     -999.0,20130819,       2026
33RO20130803,       A16N,      63,          2,          2,          2,2,20130819,       2011,    34.0018,   -21.1303,       5250,  4973.2,   2.4459,  34.8890,2,  34.8880,2,    243.3,2,   244.2,2,   46.80,6,   22.40,6,    0.00,6,    1.51,6,   0.003,6,   0.005,6,   0.007,6,  2199.9,2,  2351.4,6,   746.3,2,      20,   7.7276,2,    25.00, -999.00,9,  -999.0,9,  -999.0, -999.00,9, -999.00,9,     13.758,6,-999.0000,9,-999.0000,9,-999.0000,9,-999.0000,9,-999.0000,9,-999.0000,9,-999.0000,9,-999.0000,9,-999.0000,9,     -999.0,5,  -999.0,9,     -999.0,     -999.0,9,     -999.0,20130819,       2018
33RO20130803,       A16N,      63,          2,          1,          1,2,20130819,       2011,    34.0018,   -21.1303,       5250,  5320.5,   2.4738,  34.8866,2,  34.8878,2,    244.2,2,   243.5,2,   47.30,6,   22.50,6,    0.00,6,    1.51,6,   0.003,2,   0.006,2,   0.000,2,  2203.2,6,  2353.7,2,   742.8,2,      20,   7.7259,2,    25.00, -999.00,9,  -999.0,9,  -999.0, -999.00,9, -999.00,9,     13.751,2,-999.0000,9,-999.0000,9,-999.0000,9,-999.0000,9,-999.0000,9,-999.0000,9,-999.0000,9,-999.0000,9,-999.0000,9,     -999.0,5,  -999.0,9,     -999.0,     -999.0,9,     -999.0,20130819,       2011