BOTTLE,20220815CCHSIOAMB
EXPOCODE,SECT_ID,STNNBR,CASTNO,SAMPNO,BTLNBR,BTLNBR_FLAG_W,DATE,TIME,LATITUDE,LONGITUDE,DEPTH,CTDPRS,CTDTMP,CTDSAL,CTDSAL_FLAG_W,SALNTY,SALNTY_FLAG_W,CTDOXY,CTDOXY_FLAG_W,OXYGEN,OXYGEN_FLAG_W,SILCAT,SILCAT_FLAG_W,NITRAT,NITRAT_FLAG_W,NITRIT,NITRIT_FLAG_W,PHSPHT,PHSPHT_FLAG_W,CFC-11,CFC-11_FLAG_W,CFC-12,CFC-12_FLAG_W,SF6,SF6_FLAG_W,TCARBN,TCARBN_FLAG_W,ALKALI,ALKALI_FLAG_W,PCO2,PCO2_FLAG_W,PCO2TMP,PH_SWS,PH_SWS_FLAG_W,PH_TMP,DELC13,DELC13_FLAG_W,DELC14,DELC14_FLAG_W,C14ERR,DOC,DOC_FLAG_W,TDN,TDN_FLAG_W,N2O,N2O_FLAG_W,CDOM325,CDOM325_FLAG_W,CDOM340,CDOM340_FLAG_W,CDOM380,CDOM380_FLAG_W,CDOM412,CDOM412_FLAG_W,CDOM443,CDOM443_FLAG_W,CDOM490,CDOM490_FLAG_W,CDOM555,CDOM555_FLAG_W,CDOMSL,CDOMSL_FLAG_W,CDOMSN,CDOMSN_FLAG_W,CCL4,CCL4_FLAG_W,14C-DOC,14C-DOC_FLAG_W,14C-DOCERR,13C-DOC,13C-DOC_FLAG_W,13C-DOCERR,BTL_DATE,BTL_TIME
,,,,,,,,,,,METERS,DBAR,ITS-90,PSS-78,,PSS-78,,UMOL/KG,,UMOL/KG,,UMOL/KG,,UMOL/KG,,UMOL/KG,,UMOL/KG,,PMOL/KG,,PMOL/KG,,FMOL/KG,,UMOL/KG,,UMOL/KG,,UATM,,DEG C,,,DEG C,/MILLE,,/MILLE,,/MILLE,UMOL/KG,,UMOL/KG,,NMOL/KG,,1/M,,1/M,,1/M,,1/M,,1/M,,1/M,,1/M,,1/NM,,1/NM,,PMOL/KG,,/MILLE,,/MILLE,/MILLE,,/MILLE,,
33RO20130803,       A16N,     140,          1,         24,         24,2,20130930,       0246,    -3.4996,   -24.9994,       5576,     2.7,  25.7301,  36.1289,2,  36.1281,2,    201.8,2,   204.2,2,    1.00,2,    0.00,2,    0.00,2,    0.10,2,   1.652,2,   1.052,2,   1.205,2,  2057.4,6,  2374.8,2,   333.1,2,      20,   8.0366,2,    25.00, -999.00,9,  -999.0,9,  -999.0,   71.22,2,    4.06,2,      6.315,2,-999.0000,9,-999.0000,9,-999.0000,9,-999.0000,9,-999.0000,9,-999.0000,9,-999.0000,9,-999.0000,9,-999.0000,9,     -999.0,5,  -999.0,9,     -999.0,     -999.0,9,     -999.0,20130930,       0451
33RO20130803,       A16N,     140,          1,         23,         23,2,20130930,       0246,    -3.4996,   -24.9994,       5576,    23.3,  25.7353,  36.1286,2,  36.1277,2,    202.4,2,   204.8,2,    1.00,2,    0.00,2,    0.00,2,    0.10,2,-999.000,9,-999.000,9,-999.000,9,  -999.0,9,  -999.0,9,  -999.0,9, -999.00,-999.0000,9,  -999.00, -999.00,9,  -999.0,9,  -999.0,   71.92,2,    5.21,2,     -999.0,9,-999.0000,9,-999.0000,9,-999.0000,9,-999.0000,9,-999.0000,9,-999.0000,9,-999.0000,9,-999.0000,9,-999.0000,9,     -999.0,9,  -999.0,9,     -999.0,     -999.0,9,     -999.0,20130930,       0449
33RO20130803,       A16N,     140,          1,         22,         22,2,20130930,       0246,    -3.4996,   -24.9994,       5576,    47.7,  25.7236,  36.1254,2,  36.1245,2,    202.9,2,     204,2,    1.00,2,    0.00,2,    0.00,2,    0.10,2,   1.657,2,   1.066,2,   1.186,2,  2058.8,2,  2371.1,6,   336.4,2,      20,   8.0407,2,    25.00, -999.00,9,  -999.0,9,  -999.0,   65.78,2,    5.13,2,      6.515,2,-999.0000,9,-999.0000,9,-999.0000,9,-999.0000,9,-999.0000,9,-999.0000,9,-999.0000,9,-999.0000,9,-999.0000,9,     -999.0,5,  -999.0,9,     -999.0,     -999.0,9,     -999.0,20130930,       0447
33RO20130803,       A16N,     140,          1,         21,         21,2,20130930,       0246,    -3.4996,   -24.9994,       5576,    73.0,  25.6849,  36.1223,2,  36.1230,2,    202.6,2,   203.1,2,    1.00,2,    0.00,2,    0.00,2,    0.12,2,-999.000,9,-999.000,9,-999.000,9,  -999.0,9,  -999.0,9,  -999.0,9, -999.00,-999.0000,9,  -999.00, -999.00,9,  -999.0,9,  -999.0,   63.24,2,    5.18,2,     -999.0,9,-999.0000,9,-999.0000,9,-999.0000,9,-999.0000,9,-999.0000,9,-999.0000,9,-999.0000,9,-999.0000,9,-999.0000,9,     -999.0,9,  -999.0,9,     -999.0,     -999.0,9,     -999.0,20130930,       0445
33RO20130803,       A16N,     140,          1,         20,         20,2,20130930,       0246,    -3.4996,   -24.9994,       5576,    97.2,  24.9358,  36.1819,2,  36.1964,2,    189.9,2,   190.4,2,    1.20,2,    0.70,2,    0.23,2,    0.22,2,   1.730,2,   1.099,2,   1.175,2,  2084.0,2,  2374.6,2,   385.3,2,      20,   8.0081,2,    25.00, -999.00,9,  -999.0,9,  -999.0,   60.97,2,    5.51,2,      8.056,2,-999.0000,9,-999.0000,9,-999.0000,9,-999.0000,9,-999.0000,9,-999.0000,9,-999.0000,9,-999.0000,9,-999.0000,9,     -999.0,5,  -999.0,9,     -999.0,     -999.0,9,     -999.0,20130930,       0443
33RO20130803,       A16N,     140,          1,         19,         19,2,20130930,       0246,    -3.4996,   -24.9994,       5576,   148.5,  13.7116,  35.3820,2,  35.3971,2,    112.7,2,   113.2,2,    7.50,2,   20.70,2,    0.02,2,    1.40,2,-999.000,9,-999.000,9,-999.000,9,  -999.0,9,  -999.0,9,  -999.0,9, -999.00,-999.0000,9,  -999.00, -999.00,9,  -999.0,9,  -999.0,   50.36,2,   24.62,2,     -999.0,9,-999.0000,9,-999.0000,9,-999.0000,9,-999.0000,9,-999.0000,9,-999.0000,9,-999.0000,9,-999.0000,9,-999.0000,9,     -999.0,9,  -999.0,9,     -999.0,     -999.0,9,     -999.0,20130930,       0440
33RO20130803,       A16N,     140,          1,         18,         18,2,20130930,       0246,    -3.4996,   -24.9994,       5576,   223.1,  12.0847,  35.1517,2,  35.1502,2,    135.6,2,   136.4,2,    8.80,2,   21.10,2,    0.01,2,    1.43,2,   2.272,2,   1.261,2,   0.737,2,  2183.8,2,  2316.3,2,   848.8,2,      20,   7.6924,6,    25.00, -999.00,9,  -999.0,9,  -999.0,   48.54,2,   24.79,2,     23.913,2,-999.0000,9,-999.0000,9,-999.0000,9,-999.0000,9,-999.0000,9,-999.0000,9,-999.0000,9,-999.0000,9,-999.0000,9,     -999.0,5,  -999.0,9,     -999.0,     -999.0,9,     -999.0,20130930,       0436
33RO20130803,       A16N,     140,          1,         17,         17,2,20130930,       0246,    -3.4996,   -24.9994,       5576,   296.6,   9.9696,  34.8982,2,  34.8965,2,    118.5,2,   114.4,2,   12.50,2,   27.60,2,    0.00,2,    1.81,2,-999.000,9,-999.000,9,-999.000,9,  -999.0,9,  -999.0,9,  -999.0,9, -999.00,-999.0000,9,  -999.00, -999.00,9,  -999.0,9,  -999.0,   45.26,2,    31.2,2,     -999.0,9,-999.0000,9,-999.0000,9,-999.0000,9,-999.0000,9,-999.0000,9,-999.0000,9,-999.0000,9,-999.0000,9,-999.0000,9,     -999.0,9,  -999.0,9,     -999.0,     -999.0,9,     -999.0,20130930,       0434
33RO20130803,       A16N,     140,          1,         16,         16,2,20130930,       0246,    -3.4996,   -24.9994,       5576,   396.9,   8.0869,  34.7164,2,  34.7139,2,     88.9,2,    89.3,2,   17.90,2,   34.40,2,    0.00,2,    2.24,2,   0.964,6,   0.498,6,   0.188,6,  2233.5,2,  2299.8,6,  1306.9,2,      20,   7.4984,2,    25.00, -999.00,9,  -999.0,9,  -999.0,   44.21,2,   37.75,2,     33.605,6,-999.0000,9,-999.0000,9,-999.0000,9,-999.0000,9,-999.0000,9,-999.0000,9,-999.0000,9,-999.0000,9,-999.0000,9,     -999.0,5,  -999.0,9,     -999.0,     -999.0,9,     -999.0,20130930,       0430
33RO20130803,       A16N,     140,          1,         15,         15,2,20130930,       0246,    -3.4996,   -24.9994,       5576,   498.2,   6.5922,  34.5791,2,  34.5783,2,    115.4,2,   115.3,2,   22.00,2,   34.80,2,    0.00,2,    2.32,2,-999.000,9,-999.000,9,-999.000,9,  -999.0,9,  -999.0,9,  -999.0,9, -999.00,-999.0000,9,  -999.00, -999.00,9,  -999.0,9,  -999.0,   42.68,2,   38.02,2,     -999.0,9,-999.0000,9,-999.0000,9,-999.0000,9,-999.0000,9,-999.0000,9,-999.0000,9,-999.0000,9,-999.0000,9,-999.0000,9,     -999.0,9,  -999.0,9,     -999.0,     -999.0,9,     -999.0,20130930,       0427
33RO20130803,       A16N,     140,          1,         14,         14,2,20130930,       0246,    -3.4996,   -24.9994,       5576,   647.9,   5.0534,  34.4662,2,  34.4685,2,    154.5,2,   154.5,2,   28.40,2,   33.80,2,    0.00,2,    2.32,2,   0.726,2,   0.363,2,   0.120,2,  2216.5,2,  2299.4,2,  1163.4,2,      20,   7.5502,2,    25.00, -999.00,9,  -999.0,9,  -999.0,   41.78,2,   36.69,2,     23.488,2,-999.0000,9,-999.0000,9,-999.0000,9,-999.0000,9,-999.0000,9,-999.0000,9,-999.0000,9,-999.0000,9,-999.0000,9,     -999.0,5,  -999.0,9,     -999.0,     -999.0,9,     -999.0,20130930,       0423
33RO20130803,       A16N,     140,          1,         13,         13,2,20130930,       0246,    -3.4996,   -24.9994,       5576,   797.1,   4.5236,  34.5050,2,  34.5052,2,    157.3,2,   157.8,2,   32.30,2,   33.80,2,    0.00,2,    2.33,2,   0.324,2,   0.160,2,   0.049,2,  -999.0,9,  -999.0,9,  -999.0,9, -999.00,-999.0000,9,  -999.00, -999.00,9,  -999.0,9,  -999.0,   41.37,2,   36.45,2,     22.785,2,-999.0000,9,-999.0000,9,-999.0000,9,-999.0000,9,-999.0000,9,-999.0000,9,-999.0000,9,-999.0000,9,-999.0000,9,     -999.0,5,  -999.0,9,     -999.0,     -999.0,9,     -999.0,20130930,       0419
33RO20130803,       A16N,     140,          1,         12,         12,2,20130930,       0246,    -3.4996,   -24.9994,       5576,   948.3,   4.4666,  34.5867,2,  34.5864,2,    158.6,2,     159,2,   31.80,6,   32.80,6,    0.00,6,    2.27,2,   0.162,2,   0.083,2,   0.000,2,  2222.0,2,  2311.2,2,  1109.8,2,      20,   7.5641,3,    25.00, -999.00,9,  -999.0,9,  -999.0,   40.95,2,    35.6,2,     22.319,2,-999.0000,9,-999.0000,9,-999.0000,9,-999.0000,9,-999.0000,9,-999.0000,9,-999.0000,9,-999.0000,9,-999.0000,9,     -999.0,5,  -999.0,9,     -999.0,     -999.0,9,     -999.0,20130930,       0415
33RO20130803,       A16N,     140,          1,         11,         11,2,20130930,       0246,    -3.4996,   -24.9994,       5576,  1098.0,   4.4101,  34.6897,2,  34.6914,2,    165.0,2,   165.9,2,   30.00,2,   31.10,2,    0.00,2,    2.14,2,   0.064,2,   0.043,2,   0.000,2,  -999.0,9,  -999.0,9,  -999.0,9, -999.00,-999.0000,9,  -999.00, -999.00,9,  -999.0,9,  -999.0,   40.55,2,   33.72,2,     21.298,2,-999.0000,9,-999.0000,9,-999.0000,9,-999.0000,9,-999.0000,9,-999.0000,9,-999.0000,9,-999.0000,9,-999.0000,9,     -999.0,5,  -999.0,9,     -999.0,     -999.0,9,     -999.0,20130930,       0411
33RO20130803,       A16N,     140,          1,         10,         10,2,20130930,       0246,    -3.4996,   -24.9994,       5576,  1398.0,   4.4891,  34.9086,2,  34.9085,2,    203.4,2,   205.4,2,   21.40,2,   24.50,2,    0.00,2,    1.66,2,   0.245,2,   0.123,2,   0.000,2,  2192.9,2,  2315.0,2,   875.4,2,      20,   7.6649,2,    25.00, -999.00,9,  -999.0,9,  -999.0,   40.51,2,   27.25,2,     17.115,2,-999.0000,9,-999.0000,9,-999.0000,9,-999.0000,9,-999.0000,9,-999.0000,9,-999.0000,9,-999.0000,9,-999.0000,9,     -999.0,5,  -999.0,9,     -999.0,     -999.0,9,     -999.0,20130930,       0405
33RO20130803,       A16N,     140,          1,          9,          9,2,20130930,       0246,    -3.4996,   -24.9994,       5576,  1697.9,   3.9222,  34.9716,2,  34.9718,2,    241.5,2,   241.7,2,   18.30,2,   20.20,2,    0.00,2,    1.36,2,   0.417,2,   0.206,2,   0.090,2,  -999.0,9,  -999.0,9,  -999.0,9, -999.00,-999.0000,9,  -999.00, -999.00,9,  -999.0,9,  -999.0,   40.35,2,   22.92,2,     14.100,2,-999.0000,9,-999.0000,9,-999.0000,9,-999.0000,9,-999.0000,9,-999.0000,9,-999.0000,9,-999.0000,9,-999.0000,9,     -999.0,5,  -999.0,9,     -999.0,     -999.0,9,     -999.0,20130930,       0359
33RO20130803,       A16N,     140,          1,          8,          8,2,20130930,       0246,    -3.4996,   -24.9994,       5576,  2147.4,   3.3621,  34.9548,2,  34.9574,2,    247.9,2,   248.3,2,   23.40,2,   20.00,2,    0.00,2,    1.34,2,   0.219,2,   0.106,2,   0.056,2,  2173.8,2,  2324.7,2,   758.4,2,      20,   7.7260,2,    25.00, -999.00,9,  -999.0,9,  -999.0,   40.15,2,   22.42,2,     13.529,2,-999.0000,9,-999.0000,9,-999.0000,9,-999.0000,9,-999.0000,9,-999.0000,9,-999.0000,9,-999.0000,9,-999.0000,9,     -999.0,5,  -999.0,9,     -999.0,     -999.0,9,     -999.0,20130930,       0350
33RO20130803,       A16N,     140,          1,          7,          7,2,20130930,       0246,    -3.4996,   -24.9994,       5576,  2596.4,   2.9578,  34.9280,2,  34.9290,2,    244.8,2,   244.3,2,   32.20,2,   21.10,2,    0.00,2,    1.42,2,-999.000,9,-999.000,9,-999.000,9,  -999.0,9,  -999.0,9,  -999.0,9, -999.00,-999.0000,9,  -999.00, -999.00,9,  -999.0,9,  -999.0,   40.29,2,   23.62,2,     -999.0,9,-999.0000,9,-999.0000,9,-999.0000,9,-999.0000,9,-999.0000,9,-999.0000,9,-999.0000,9,-999.0000,9,-999.0000,9,     -999.0,9,  -999.0,9,     -999.0,     -999.0,9,     -999.0,20130930,       0342
33RO20130803,       A16N,     140,          1,          6,          6,2,20130930,       0246,    -3.4996,   -24.9994,       5576,  3098.5,   2.7011,  34.9151,2,  34.9165,2,    246.8,2,   246.9,2,   35.20,2,   21.00,2,    0.00,2,    1.42,2,   0.058,2,   0.025,2,   0.000,2,  2186.2,2,  2334.2,6,   770.0,2,      20,   7.7223,2,    25.00, -999.00,9,  -999.0,9,  -999.0,   40.06,2,   23.54,2,     13.504,2,-999.0000,9,-999.0000,9,-999.0000,9,-999.0000,9,-999.0000,9,-999.0000,9,-999.0000,9,-999.0000,9,-999.0000,9,     -999.0,5,  -999.0,9,     -999.0,     -999.0,9,     -999.0,20130930,       0332
33RO20130803,       A16N,     140,          1,          5,          5,2,20130930,       0246,    -3.4996,   -24.9994,       5576,  3596.4,   2.5227,  34.9098,2,  34.9096,2,    256.5,2,   256.9,2,   32.30,2,   19.80,2,    0.00,2,    1.35,2,   0.191,2,   0.091,2,   0.025,2,  -999.0,9,  -999.0,9,  -999.0,9, -999.00,-999.0000,9,  -999.00, -999.00,9,  -999.0,9,  -999.0,   40.26,2,   22.33,2,     13.215,2,-999.0000,9,-999.0000,9,-999.0000,9,-999.0000,9,-999.0000,9,-999.0000,9,-999.0000,9,-999.0000,9,-999.0000,9,     -999.0,5,  -999.0,9,     -999.0,     -999.0,9,     -999.0,20130930,       0323
33RO20130803,       A16N,     140,          1,          4,          4,2,20130930,       0246,    -3.4996,   -24.9994,       5576,  4096.5,   1.8562,  34.8416,2,  34.8417,2,    246.3,2,   246.6,2,   58.00,6,   23.30,6,    0.00,6,    1.60,6,   0.149,2,   0.070,2,   0.000,2,  2207.7,2,  2345.9,2,   825.1,2,      20,   7.6992,2,    25.00, -999.00,9,  -999.0,9,  -999.0,   40.55,2,    25.8,2,     14.442,2,-999.0000,9,-999.0000,9,-999.0000,9,-999.0000,9,-999.0000,9,-999.0000,9,-999.0000,9,-999.0000,9,-999.0000,9,     -999.0,5,  -999.0,9,     -999.0,     -999.0,9,     -999.0,20130930,       0314
33RO20130803,       A16N,     140,          1,          3,          3,2,20130930,       0246,    -3.4996,   -24.9994,       5576,  4596.1,   0.8722,  34.7302,2,  34.7309,2,    224.3,2,   225.5,2,  104.00,6,   30.00,6,    0.00,6,    2.09,6,-999.000,9,-999.000,9,-999.000,9,  -999.0,9,  -999.0,9,  -999.0,9, -999.00,-999.0000,9,  -999.00, -999.00,9,  -999.0,9,  -999.0,   40.24,2,   32.43,2,     -999.0,9,-999.0000,9,-999.0000,9,-999.0000,9,-999.0000,9,-999.0000,9,-999.0000,9,-999.0000,9,-999.0000,9,-999.0000,9,     -999.0,9,  -999.0,9,     -999.0,     -999.0,9,     -999.0,20130930,       0305
33RO20130803,       A16N,     140,          1,          2,          2,2,20130930,       0246,    -3.4996,   -24.9994,       5576,  5096.9,   0.7675,  34.7129,2,  34.7131,2,    220.6,2,   220.8,2,  110.80,6,   30.90,6,    0.00,6,    2.16,6,   0.087,2,   0.035,2,   0.000,2,  -999.0,9,  -999.0,9,  -999.0,9, -999.00,-999.0000,9,  -999.00, -999.00,9,  -999.0,9,  -999.0,   40.55,2,    33.4,2,     17.176,2,-999.0000,9,-999.0000,9,-999.0000,9,-999.0000,9,-999.0000,9,-999.0000,9,-999.0000,9,-999.0000,9,-999.0000,9,     -999.0,5,  -999.0,9,     -999.0,     -999.0,9,     -999.0,20130930,       0256
33RO20130803,       A16N,     140,          1,          1,          1,2,20130930,       0246,    -3.4996,   -24.9994,       5576,  5647.4,   0.7805,  34.7062,2,  34.7064,2,    221.0,2,   221.4,2,  113.30,6,   31.30,6,    0.00,6,    2.18,6,   0.111,2,   0.049,2,   0.000,2,  2267.5,3,  2358.3,3,   971.2,2,      20,   7.6258,2,    25.00, -999.00,9,  -999.0,9,  -999.0,   40.31,2,   33.67,2,     17.213,2,-999.0000,9,-999.0000,9,-999.0000,9,-999.0000,9,-999.0000,9,-999.0000,9,-999.0000,9,-999.0000,9,-999.0000,9,     -999.0,5,  -999.0,9,     -999.0,     -999.0,9,     -999.0,20130930,       0246