BOTTLE,20220815CCHSIOAMB
EXPOCODE,SECT_ID,STNNBR,CASTNO,SAMPNO,BTLNBR,BTLNBR_FLAG_W,DATE,TIME,LATITUDE,LONGITUDE,DEPTH,CTDPRS,CTDTMP,CTDSAL,CTDSAL_FLAG_W,SALNTY,SALNTY_FLAG_W,CTDOXY,CTDOXY_FLAG_W,OXYGEN,OXYGEN_FLAG_W,SILCAT,SILCAT_FLAG_W,NITRAT,NITRAT_FLAG_W,NITRIT,NITRIT_FLAG_W,PHSPHT,PHSPHT_FLAG_W,CFC-11,CFC-11_FLAG_W,CFC-12,CFC-12_FLAG_W,SF6,SF6_FLAG_W,TCARBN,TCARBN_FLAG_W,ALKALI,ALKALI_FLAG_W,PCO2,PCO2_FLAG_W,PCO2TMP,PH_SWS,PH_SWS_FLAG_W,PH_TMP,DELC13,DELC13_FLAG_W,DELC14,DELC14_FLAG_W,C14ERR,DOC,DOC_FLAG_W,TDN,TDN_FLAG_W,N2O,N2O_FLAG_W,CDOM325,CDOM325_FLAG_W,CDOM340,CDOM340_FLAG_W,CDOM380,CDOM380_FLAG_W,CDOM412,CDOM412_FLAG_W,CDOM443,CDOM443_FLAG_W,CDOM490,CDOM490_FLAG_W,CDOM555,CDOM555_FLAG_W,CDOMSL,CDOMSL_FLAG_W,CDOMSN,CDOMSN_FLAG_W,CCL4,CCL4_FLAG_W,14C-DOC,14C-DOC_FLAG_W,14C-DOCERR,13C-DOC,13C-DOC_FLAG_W,13C-DOCERR,BTL_DATE,BTL_TIME
,,,,,,,,,,,METERS,DBAR,ITS-90,PSS-78,,PSS-78,,UMOL/KG,,UMOL/KG,,UMOL/KG,,UMOL/KG,,UMOL/KG,,UMOL/KG,,PMOL/KG,,PMOL/KG,,FMOL/KG,,UMOL/KG,,UMOL/KG,,UATM,,DEG C,,,DEG C,/MILLE,,/MILLE,,/MILLE,UMOL/KG,,UMOL/KG,,NMOL/KG,,1/M,,1/M,,1/M,,1/M,,1/M,,1/M,,1/M,,1/NM,,1/NM,,PMOL/KG,,/MILLE,,/MILLE,/MILLE,,/MILLE,,
33RO20130803,       A16N,      19,          2,         21,         21,2,20130807,       1734,    55.9999,   -19.9998,       1461,     2.9,  14.9246,  35.2887,2,  35.2893,2,    259.1,2,   260.1,2,    0.10,2,    0.00,2,    0.01,2,    0.07,2,   2.691,2,   1.627,2,   1.850,2,  2065.4,6,  2331.2,2,   390.1,2,      20,   7.9725,2,    25.00, -999.00,9,  -999.0,9,  -999.0, -999.00,9, -999.00,9,      8.758,2,-999.0000,9,-999.0000,9,-999.0000,9,-999.0000,9,-999.0000,9,-999.0000,9,-999.0000,9,-999.0000,9,-999.0000,9,     -999.0,5,  -999.0,9,     -999.0,     -999.0,9,     -999.0,20130807,       1823
33RO20130803,       A16N,      19,          2,         20,         20,2,20130807,       1734,    55.9999,   -19.9998,       1461,    26.5,  13.1162,  35.3283,2,  35.3088,3,    263.6,2,   267.4,2,    0.20,2,    3.70,2,    0.12,2,    0.36,2,   3.022,2,   1.798,2,   1.971,2,  2106.3,2,  2329.3,2,   481.8,2,      20,   7.8949,2,    25.00, -999.00,9,  -999.0,9,  -999.0, -999.00,9, -999.00,9,      9.630,2,-999.0000,9,-999.0000,9,-999.0000,9,-999.0000,9,-999.0000,9,-999.0000,9,-999.0000,9,-999.0000,9,-999.0000,9,     -999.0,5,  -999.0,9,     -999.0,     -999.0,9,     -999.0,20130807,       1821
33RO20130803,       A16N,      19,          2,         19,         19,2,20130807,       1734,    55.9999,   -19.9998,       1461,    54.5,  12.0773,  35.3112,2,  35.3092,2,    260.3,2,   260.6,2,    0.60,2,    5.80,2,    0.21,2,    0.47,2,   3.074,6,   1.827,6,   1.976,6,  2120.1,2,  2327.6,2,   522.7,2,      20,   7.8633,2,    25.00, -999.00,9,  -999.0,9,  -999.0, -999.00,9, -999.00,9,      9.792,6,-999.0000,9,-999.0000,9,-999.0000,9,-999.0000,9,-999.0000,9,-999.0000,9,-999.0000,9,-999.0000,9,-999.0000,9,     -999.0,5,  -999.0,9,     -999.0,     -999.0,9,     -999.0,20130807,       1819
33RO20130803,       A16N,      19,          2,         18,         18,2,20130807,       1734,    55.9999,   -19.9998,       1461,    79.4,  10.9753,  35.2880,2,  35.2960,2,    254.1,2,   257.2,2,    1.50,2,    8.80,2,    0.29,2,    0.59,2,   3.170,2,   1.870,2,   2.110,2,  2132.2,2,  2325.8,2,   570.1,2,      20,   7.8311,2,    25.00, -999.00,9,  -999.0,9,  -999.0, -999.00,9, -999.00,9,     10.631,2,-999.0000,9,-999.0000,9,-999.0000,9,-999.0000,9,-999.0000,9,-999.0000,9,-999.0000,9,-999.0000,9,-999.0000,9,     -999.0,5,  -999.0,9,     -999.0,     -999.0,9,     -999.0,20130807,       1817
33RO20130803,       A16N,      19,          2,         17,         17,2,20130807,       1734,    55.9999,   -19.9998,       1461,   104.3,  10.5598,  35.2749,2,  35.2708,2,    252.2,2,   251.6,2,    2.70,2,   10.20,2,    0.01,2,    0.66,2,   3.151,2,   1.856,2,   1.962,2,  2137.6,2,  2323.0,2,   592.7,2,      20,   7.8150,2,    25.00, -999.00,9,  -999.0,9,  -999.0, -999.00,9, -999.00,9,     10.799,2,-999.0000,9,-999.0000,9,-999.0000,9,-999.0000,9,-999.0000,9,-999.0000,9,-999.0000,9,-999.0000,9,-999.0000,9,     -999.0,5,  -999.0,9,     -999.0,     -999.0,9,     -999.0,20130807,       1815
33RO20130803,       A16N,      19,          2,         16,         16,2,20130807,       1734,    55.9999,   -19.9998,       1461,   129.7,  10.3625,  35.2541,2,  35.2584,2,    249.0,2,     252,2,    2.90,2,   10.40,2,    0.01,2,    0.68,2,   3.151,2,   1.858,2,   1.926,2,  2140.2,2,  2318.3,2,   598.4,2,      20,   7.8125,2,    25.00, -999.00,9,  -999.0,9,  -999.0, -999.00,9, -999.00,9,     10.976,2,-999.0000,9,-999.0000,9,-999.0000,9,-999.0000,9,-999.0000,9,-999.0000,9,-999.0000,9,-999.0000,9,-999.0000,9,     -999.0,5,  -999.0,9,     -999.0,     -999.0,9,     -999.0,20130807,       1814
33RO20130803,       A16N,      19,          2,         15,         15,2,20130807,       1734,    55.9999,   -19.9998,       1461,   154.5,  10.3549,  35.2696,2,  35.2676,2,    252.3,2,   251.9,2,    3.00,2,   10.40,2,    0.01,2,    0.69,2,   3.150,2,   1.854,2,   1.973,2,  2139.7,2,  2303.2,4,   599.4,2,      20,   7.8097,2,    25.00, -999.00,9,  -999.0,9,  -999.0, -999.00,9, -999.00,9,     11.086,2,-999.0000,9,-999.0000,9,-999.0000,9,-999.0000,9,-999.0000,9,-999.0000,9,-999.0000,9,-999.0000,9,-999.0000,9,     -999.0,5,  -999.0,9,     -999.0,     -999.0,9,     -999.0,20130807,       1812
33RO20130803,       A16N,      19,          2,         14,         14,2,20130807,       1734,    55.9999,   -19.9998,       1461,   179.5,  10.2119,  35.2518,2,  35.2544,2,    251.9,2,   250.6,2,    3.30,2,   10.90,2,    0.00,2,    0.72,2,   3.166,2,   1.859,2,   1.913,2,  2150.3,3,  2321.6,2,   608.3,2,      20,   7.8071,2,    25.00, -999.00,9,  -999.0,9,  -999.0, -999.00,9, -999.00,9,     11.294,2,-999.0000,9,-999.0000,9,-999.0000,9,-999.0000,9,-999.0000,9,-999.0000,9,-999.0000,9,-999.0000,9,-999.0000,9,     -999.0,5,  -999.0,9,     -999.0,     -999.0,9,     -999.0,20130807,       1810
33RO20130803,       A16N,      19,          2,         13,         13,2,20130807,       1734,    55.9999,   -19.9998,       1461,   205.1,  10.0896,  35.2461,2,  35.2446,2,    249.4,2,   246.3,2,    3.80,2,   11.50,2,    0.00,2,    0.75,2,   3.118,2,   1.827,2,   1.949,2,  2142.2,2,  2320.6,2,   620.1,2,      20,   7.7976,2,    25.00, -999.00,9,  -999.0,9,  -999.0, -999.00,9, -999.00,9,     11.699,2,-999.0000,9,-999.0000,9,-999.0000,9,-999.0000,9,-999.0000,9,-999.0000,9,-999.0000,9,-999.0000,9,-999.0000,9,     -999.0,5,  -999.0,9,     -999.0,     -999.0,9,     -999.0,20130807,       1809
33RO20130803,       A16N,      19,          2,         12,         12,2,20130807,       1734,    55.9999,   -19.9998,       1461,   261.2,   9.9796,  35.2574,2,  35.2580,2,    241.3,2,   244.6,2,    4.30,2,   11.90,2,    0.00,2,    0.78,2,   3.100,2,   1.810,2,   1.954,2,  2144.6,2,  2322.8,2,   632.4,2,      20,   7.7908,2,    25.00, -999.00,9,  -999.0,9,  -999.0, -999.00,9, -999.00,9,     11.985,2,-999.0000,9,-999.0000,9,-999.0000,9,-999.0000,9,-999.0000,9,-999.0000,9,-999.0000,9,-999.0000,9,-999.0000,9,     -999.0,5,  -999.0,9,     -999.0,     -999.0,9,     -999.0,20130807,       1807
33RO20130803,       A16N,      19,          2,         11,         11,2,20130807,       1734,    55.9999,   -19.9998,       1461,   341.8,  10.0863,  35.3718,2,  35.3707,2,    234.3,2,     236,2,    5.60,2,   12.80,2,    0.00,2,    0.82,2,   3.004,2,   2.247,4,  12.124,4,  2160.3,2,  2331.2,2,   648.4,2,      20,   7.7790,2,    25.00, -999.00,9,  -999.0,9,  -999.0, -999.00,9, -999.00,9,     11.894,2,-999.0000,9,-999.0000,9,-999.0000,9,-999.0000,9,-999.0000,9,-999.0000,9,-999.0000,9,-999.0000,9,-999.0000,9,     -999.0,5,  -999.0,9,     -999.0,     -999.0,9,     -999.0,20130807,       1804
33RO20130803,       A16N,      19,          2,         10,         10,2,20130807,       1734,    55.9999,   -19.9998,       1461,   417.1,   9.6193,  35.3281,2,  35.3293,2,    222.3,2,   223.9,2,    7.00,2,   14.60,2,    0.01,2,    0.94,2,   2.848,2,   1.639,2,   1.544,2,  2164.2,2,  2321.3,3,   688.0,2,      20,   7.7616,2,    25.00, -999.00,9,  -999.0,9,  -999.0, -999.00,9, -999.00,9,     13.748,2,-999.0000,9,-999.0000,9,-999.0000,9,-999.0000,9,-999.0000,9,-999.0000,9,-999.0000,9,-999.0000,9,-999.0000,9,     -999.0,5,  -999.0,9,     -999.0,     -999.0,9,     -999.0,20130807,       1801
33RO20130803,       A16N,      19,          2,          9,          9,2,20130807,       1734,    55.9999,   -19.9998,       1461,   492.5,   9.5513,  35.3855,2,  35.3859,2,    223.6,2,   223.1,2,    7.20,2,   14.70,2,    0.00,2,    0.94,2,   2.817,2,   1.612,2,   1.403,2,  2166.1,2,  2328.2,2,   687.9,2,      20,   7.7620,2,    25.00, -999.00,9,  -999.0,9,  -999.0, -999.00,9, -999.00,9,     13.597,2,-999.0000,9,-999.0000,9,-999.0000,9,-999.0000,9,-999.0000,9,-999.0000,9,-999.0000,9,-999.0000,9,-999.0000,9,     -999.0,5,  -999.0,9,     -999.0,     -999.0,9,     -999.0,20130807,       1759
33RO20130803,       A16N,      19,          2,          8,          8,2,20130807,       1734,    55.9999,   -19.9998,       1461,   573.5,   8.9564,  35.3489,2,  35.3498,2,    207.5,2,   208.7,2,    8.90,2,   16.60,2,    0.00,2,    1.06,2,   2.605,2,   1.460,2,   1.218,2,  2173.3,2,  2328.6,2,   732.0,2,      20,   7.7353,6,    25.00, -999.00,9,  -999.0,9,  -999.0, -999.00,9, -999.00,9,     14.804,2,-999.0000,9,-999.0000,9,-999.0000,9,-999.0000,9,-999.0000,9,-999.0000,9,-999.0000,9,-999.0000,9,-999.0000,9,     -999.0,5,  -999.0,9,     -999.0,     -999.0,9,     -999.0,20130807,       1757
33RO20130803,       A16N,      19,          2,          7,          7,2,20130807,       1734,    55.9999,   -19.9998,       1461,   638.6,   7.9849,  35.2392,2,  35.2363,2,    201.5,2,   201.4,2,   10.40,2,   18.30,2,    0.00,2,    1.18,2,   2.532,2,   1.389,2,   1.090,2,  2184.1,6,  2323.3,2,   785.3,2,      20,   7.7083,2,    25.00, -999.00,9,  -999.0,9,  -999.0, -999.00,9, -999.00,9,     15.926,2,-999.0000,9,-999.0000,9,-999.0000,9,-999.0000,9,-999.0000,9,-999.0000,9,-999.0000,9,-999.0000,9,-999.0000,9,     -999.0,5,  -999.0,9,     -999.0,     -999.0,9,     -999.0,20130807,       1754
33RO20130803,       A16N,      19,          2,          6,          6,2,20130807,       1734,    55.9999,   -19.9998,       1461,   774.1,   6.7911,  35.1639,2,  35.1646,2,    216.2,2,   215.9,2,   10.90,2,   18.40,2,    0.00,2,    1.20,2,   2.739,2,   1.486,2,   1.029,2,  2178.7,2,  2339.7,4,   800.3,2,      20,   7.7002,2,    25.00, -999.00,9,  -999.0,9,  -999.0, -999.00,9, -999.00,9,     15.368,2,-999.0000,9,-999.0000,9,-999.0000,9,-999.0000,9,-999.0000,9,-999.0000,9,-999.0000,9,-999.0000,9,-999.0000,9,     -999.0,5,  -999.0,9,     -999.0,     -999.0,9,     -999.0,20130807,       1751
33RO20130803,       A16N,      19,          2,          5,          5,2,20130807,       1734,    55.9999,   -19.9998,       1461,   935.3,   5.3550,  35.0167,2,  35.0171,2,    240.9,2,   240.9,2,   10.80,2,   18.00,2,    0.00,2,    1.18,2,   3.250,2,   1.759,2,   1.220,2,  2186.3,3,  2293.7,4,   814.7,2,      20,   7.6901,6,    25.00, -999.00,9,  -999.0,9,  -999.0, -999.00,9, -999.00,9,     14.716,2,-999.0000,9,-999.0000,9,-999.0000,9,-999.0000,9,-999.0000,9,-999.0000,9,-999.0000,9,-999.0000,9,-999.0000,9,     -999.0,5,  -999.0,9,     -999.0,     -999.0,9,     -999.0,20130807,       1747
33RO20130803,       A16N,      19,          2,          4,          4,2,20130807,       1734,    55.9999,   -19.9998,       1461,  1059.1,   5.0248,  35.0235,2,  35.0254,2,    247.1,2,   246.6,2,   11.40,6,   17.80,6,    0.00,6,    1.17,6,   3.249,2,   1.732,2,   1.122,2,  2174.1,2,  2310.9,2,   801.3,6,      20,   7.9550,4,    25.00, -999.00,9,  -999.0,9,  -999.0, -999.00,9, -999.00,9,     14.434,2,-999.0000,9,-999.0000,9,-999.0000,9,-999.0000,9,-999.0000,9,-999.0000,9,-999.0000,9,-999.0000,9,-999.0000,9,     -999.0,5,  -999.0,9,     -999.0,     -999.0,9,     -999.0,20130807,       1744
33RO20130803,       A16N,      19,          2,          3,          3,2,20130807,       1734,    55.9999,   -19.9998,       1461,  1235.4,   4.3041,  34.9637,2,  34.9621,2,    261.0,2,   260.4,2,   11.70,6,   17.40,6,    0.00,6,    1.15,6,   3.404,6,   1.797,6,   1.082,6,  2173.9,2,  2311.8,2,   797.3,2,      20,   7.8767,4,    25.00, -999.00,9,  -999.0,9,  -999.0, -999.00,9, -999.00,9,     13.907,6,-999.0000,9,-999.0000,9,-999.0000,9,-999.0000,9,-999.0000,9,-999.0000,9,-999.0000,9,-999.0000,9,-999.0000,9,     -999.0,5,  -999.0,9,     -999.0,     -999.0,9,     -999.0,20130807,       1740
33RO20130803,       A16N,      19,          2,          2,          2,2,20130807,       1734,    55.9999,   -19.9998,       1461,  1378.2,   4.0084,  34.9452,2,-999.0000,9,    265.4,2,  -999.0,9,   12.00,6,   17.30,6,    0.00,6,    1.14,6,   3.327,2,   1.734,2,   0.964,2,  -999.0,9,  -999.0,9,  -999.0,9, -999.00,-999.0000,9,  -999.00, -999.00,9,  -999.0,9,  -999.0, -999.00,9, -999.00,9,     13.694,2,-999.0000,9,-999.0000,9,-999.0000,9,-999.0000,9,-999.0000,9,-999.0000,9,-999.0000,9,-999.0000,9,-999.0000,9,     -999.0,5,  -999.0,9,     -999.0,     -999.0,9,     -999.0,20130807,       1737
33RO20130803,       A16N,      19,          2,          1,          1,2,20130807,       1734,    55.9999,   -19.9998,       1461,  1466.1,   3.8580,  34.9398,2,  34.9419,2,    264.5,2,   264.3,2,   14.90,6,   17.40,6,    0.07,6,    1.15,6,   3.200,2,   1.651,2,   0.876,2,  2168.3,6,  2307.6,2,   793.2,2,      20,   7.7026,2,    25.00, -999.00,9,  -999.0,9,  -999.0, -999.00,9, -999.00,9,     13.617,2,-999.0000,9,-999.0000,9,-999.0000,9,-999.0000,9,-999.0000,9,-999.0000,9,-999.0000,9,-999.0000,9,-999.0000,9,     -999.0,5,  -999.0,9,     -999.0,     -999.0,9,     -999.0,20130807,       1734