BOTTLE,20220815CCHSIOAMB
EXPOCODE,SECT_ID,STNNBR,CASTNO,SAMPNO,BTLNBR,BTLNBR_FLAG_W,DATE,TIME,LATITUDE,LONGITUDE,DEPTH,CTDPRS,CTDTMP,CTDSAL,CTDSAL_FLAG_W,SALNTY,SALNTY_FLAG_W,CTDOXY,CTDOXY_FLAG_W,OXYGEN,OXYGEN_FLAG_W,SILCAT,SILCAT_FLAG_W,NITRAT,NITRAT_FLAG_W,NITRIT,NITRIT_FLAG_W,PHSPHT,PHSPHT_FLAG_W,CFC-11,CFC-11_FLAG_W,CFC-12,CFC-12_FLAG_W,SF6,SF6_FLAG_W,TCARBN,TCARBN_FLAG_W,ALKALI,ALKALI_FLAG_W,PCO2,PCO2_FLAG_W,PCO2TMP,PH_SWS,PH_SWS_FLAG_W,PH_TMP,DELC13,DELC13_FLAG_W,DELC14,DELC14_FLAG_W,C14ERR,DOC,DOC_FLAG_W,TDN,TDN_FLAG_W,N2O,N2O_FLAG_W,CDOM325,CDOM325_FLAG_W,CDOM340,CDOM340_FLAG_W,CDOM380,CDOM380_FLAG_W,CDOM412,CDOM412_FLAG_W,CDOM443,CDOM443_FLAG_W,CDOM490,CDOM490_FLAG_W,CDOM555,CDOM555_FLAG_W,CDOMSL,CDOMSL_FLAG_W,CDOMSN,CDOMSN_FLAG_W,CCL4,CCL4_FLAG_W,14C-DOC,14C-DOC_FLAG_W,14C-DOCERR,13C-DOC,13C-DOC_FLAG_W,13C-DOCERR,BTL_DATE,BTL_TIME
,,,,,,,,,,,METERS,DBAR,ITS-90,PSS-78,,PSS-78,,UMOL/KG,,UMOL/KG,,UMOL/KG,,UMOL/KG,,UMOL/KG,,UMOL/KG,,PMOL/KG,,PMOL/KG,,FMOL/KG,,UMOL/KG,,UMOL/KG,,UATM,,DEG C,,,DEG C,/MILLE,,/MILLE,,/MILLE,UMOL/KG,,UMOL/KG,,NMOL/KG,,1/M,,1/M,,1/M,,1/M,,1/M,,1/M,,1/M,,1/NM,,1/NM,,PMOL/KG,,/MILLE,,/MILLE,/MILLE,,/MILLE,,
33RO20130803,       A16N,      26,          1,         24,         24,2,20130809,       0428,    52.4999,   -20.0009,       2779,     4.5,  15.5217,  35.4446,2,  35.4444,2,    253.0,2,   254.5,2,    0.40,2,    0.30,2,    0.02,2,    0.08,2,-999.000,9,-999.000,9,-999.000,9,  2065.9,2,  2339.2,2,  -999.0,9, -999.00,   7.9818,2,    25.00, -999.00,9,  -999.0,9,  -999.0,    66.9,2,     5.5,2,     -999.0,9,-999.0000,9,-999.0000,9,-999.0000,9,-999.0000,9,-999.0000,9,-999.0000,9,-999.0000,9,-999.0000,9,-999.0000,9,     -999.0,9,  -999.0,9,     -999.0,     -999.0,9,     -999.0,20130809,       0539
33RO20130803,       A16N,      26,          1,         23,         23,2,20130809,       0428,    52.4999,   -20.0009,       2779,    27.8,  15.4103,  35.4387,2,  35.4431,2,    254.9,2,   254.8,2,    0.40,2,    0.40,2,    0.02,2,    0.08,2,-999.000,9,-999.000,9,-999.000,9,  2066.8,6,  2339.4,2,  -999.0,9, -999.00,   7.9765,2,    25.00,    1.38,2,    44.8,2,     0.3,   62.37,2,    5.02,2,     -999.0,9,-999.0000,9,-999.0000,9,-999.0000,9,-999.0000,9,-999.0000,9,-999.0000,9,-999.0000,9,-999.0000,9,-999.0000,9,     -999.0,9,  -999.0,9,     -999.0,     -999.0,9,     -999.0,20130809,       0537
33RO20130803,       A16N,      26,          1,         22,         22,2,20130809,       0428,    52.4999,   -20.0009,       2779,    55.2,  12.7872,  35.5559,2,  35.5531,2,    250.8,2,   242.5,2,    1.70,2,    7.50,2,    0.03,2,    0.48,2,-999.000,9,-999.000,9,-999.000,9,  2124.2,2,  2338.7,6,  -999.0,9, -999.00,   7.8658,2,    25.00,    1.37,2,    44.6,2,     0.2,   58.52,2,    9.84,2,     -999.0,9,-999.0000,9,-999.0000,9,-999.0000,9,-999.0000,9,-999.0000,9,-999.0000,9,-999.0000,9,-999.0000,9,-999.0000,9,     -999.0,9,  -999.0,9,     -999.0,     -999.0,9,     -999.0,20130809,       0535
33RO20130803,       A16N,      26,          1,         21,         21,2,20130809,       0428,    52.4999,   -20.0009,       2779,    79.3,  12.3395,  35.5636,2,  35.5618,2,    242.8,2,   243.7,2,    3.00,2,    8.60,2,    0.02,2,    0.55,2,-999.000,9,-999.000,9,-999.000,9,  2131.2,2,  2339.1,2,  -999.0,9, -999.00,   7.8537,2,    25.00,    0.62,2,    50.2,2,     0.2,   56.59,2,    11.4,2,     -999.0,9,-999.0000,9,-999.0000,9,-999.0000,9,-999.0000,9,-999.0000,9,-999.0000,9,-999.0000,9,-999.0000,9,-999.0000,9,     -999.0,9,  -999.0,9,     -999.0,     -999.0,9,     -999.0,20130809,       0534
33RO20130803,       A16N,      26,          1,         20,         20,2,20130809,       0428,    52.4999,   -20.0009,       2779,   103.0,  11.9813,  35.5085,2,  35.5087,2,    242.0,2,   242.9,2,    3.30,2,    9.20,2,    0.01,2,    0.59,2,-999.000,9,-999.000,9,-999.000,9,  2134.9,2,  2336.6,2,  -999.0,9, -999.00,   7.8434,6,    25.00,    0.64,2,    51.6,2,     0.3,   54.39,2,   11.58,2,     -999.0,9,-999.0000,9,-999.0000,9,-999.0000,9,-999.0000,9,-999.0000,9,-999.0000,9,-999.0000,9,-999.0000,9,-999.0000,9,     -999.0,9,  -999.0,9,     -999.0,     -999.0,9,     -999.0,20130809,       0532
33RO20130803,       A16N,      26,          1,         19,         19,2,20130809,       0428,    52.4999,   -20.0009,       2779,   128.7,  11.7142,  35.4634,2,  35.4588,2,    242.4,2,   241.7,2,    3.80,2,    9.90,2,    0.01,2,    0.63,2,-999.000,9,-999.000,9,-999.000,9,  2134.9,2,  2333.4,2,  -999.0,9, -999.00,   7.8334,2,    25.00,    0.66,2,    48.3,2,     0.2,   53.25,2,   12.93,2,     -999.0,9,-999.0000,9,-999.0000,9,-999.0000,9,-999.0000,9,-999.0000,9,-999.0000,9,-999.0000,9,-999.0000,9,-999.0000,9,     -999.0,9,  -999.0,9,     -999.0,     -999.0,9,     -999.0,20130809,       0530
33RO20130803,       A16N,      26,          1,         18,         18,2,20130809,       0428,    52.4999,   -20.0009,       2779,   153.9,  11.5929,  35.4587,2,  35.4527,2,    241.5,2,   242.6,2,    3.60,2,   10.00,2,    0.01,2,    0.64,2,-999.000,9,-999.000,9,-999.000,9,  -999.0,9,  -999.0,9,  -999.0,9, -999.00,-999.0000,9,  -999.00,    0.63,2,    45.2,2,     0.2,   52.71,2,   13.16,2,     -999.0,9,-999.0000,9,-999.0000,9,-999.0000,9,-999.0000,9,-999.0000,9,-999.0000,9,-999.0000,9,-999.0000,9,-999.0000,9,     -999.0,9,  -999.0,9,     -999.0,     -999.0,9,     -999.0,20130809,       0529
33RO20130803,       A16N,      26,          1,         17,         17,2,20130809,       0428,    52.4999,   -20.0009,       2779,   178.8,  11.4025,  35.4394,2,  35.4391,2,    243.0,2,   245.5,2,    3.40,2,    9.90,2,    0.01,2,    0.64,2,-999.000,9,-999.000,9,-999.000,9,  2135.9,2,  2332.2,2,  -999.0,9, -999.00,   8.0975,4,    25.00,    0.64,2,    43.3,2,     0.3,   51.74,2,   13.22,2,     -999.0,9,-999.0000,9,-999.0000,9,-999.0000,9,-999.0000,9,-999.0000,9,-999.0000,9,-999.0000,9,-999.0000,9,-999.0000,9,     -999.0,9,  -999.0,9,     -999.0,     -999.0,9,     -999.0,20130809,       0528
33RO20130803,       A16N,      26,          1,         16,         16,2,20130809,       0428,    52.4999,   -20.0009,       2779,   204.8,  11.1202,  35.3942,2,  35.3930,2,    248.7,2,   245.5,2,    3.70,6,   10.20,6,    0.01,6,    0.68,6,-999.000,9,-999.000,9,-999.000,9,  -999.0,9,  -999.0,9,  -999.0,9, -999.00,-999.0000,9,  -999.00,    0.66,2,    41.4,2,     0.2,   50.91,2,   13.21,2,     -999.0,9,-999.0000,9,-999.0000,9,-999.0000,9,-999.0000,9,-999.0000,9,-999.0000,9,-999.0000,9,-999.0000,9,-999.0000,9,     -999.0,9,  -999.0,9,     -999.0,     -999.0,9,     -999.0,20130809,       0526
33RO20130803,       A16N,      26,          1,         15,         15,2,20130809,       0428,    52.4999,   -20.0009,       2779,   260.7,  10.9407,  35.3897,2,  35.3908,2,    242.4,2,   244.4,2,    3.90,2,   10.50,2,    0.00,2,    0.70,2,-999.000,9,-999.000,9,-999.000,9,  2139.3,2,  2328.6,6,  -999.0,9, -999.00,   7.8153,2,    25.00, -999.00,9,  -999.0,9,  -999.0,   49.92,2,   13.04,2,     -999.0,9,-999.0000,9,-999.0000,9,-999.0000,9,-999.0000,9,-999.0000,9,-999.0000,9,-999.0000,9,-999.0000,9,-999.0000,9,     -999.0,9,  -999.0,9,     -999.0,     -999.0,9,     -999.0,20130809,       0524
33RO20130803,       A16N,      26,          1,         14,         14,2,20130809,       0428,    52.4999,   -20.0009,       2779,   342.4,  10.9732,  35.4516,2,  35.4502,2,    239.0,2,   241.2,2,    4.30,2,   10.90,2,    0.00,2,    0.72,2,-999.000,9,-999.000,9,-999.000,9,  -999.0,9,  -999.0,9,  -999.0,9, -999.00,-999.0000,9,  -999.00,    0.65,2,    46.9,2,     0.2,   48.68,2,   13.13,2,     -999.0,9,-999.0000,9,-999.0000,9,-999.0000,9,-999.0000,9,-999.0000,9,-999.0000,9,-999.0000,9,-999.0000,9,-999.0000,9,     -999.0,9,  -999.0,9,     -999.0,     -999.0,9,     -999.0,20130809,       0522
33RO20130803,       A16N,      26,          1,         13,         13,2,20130809,       0428,    52.4999,   -20.0009,       2779,   417.3,  10.8577,  35.4611,2,  35.4577,2,    237.8,2,   237.2,2,    4.70,2,   11.50,2,    0.00,2,    0.76,2,-999.000,9,-999.000,9,-999.000,9,  -999.0,9,  -999.0,9,  -999.0,9, -999.00,-999.0000,9,  -999.00,    0.67,2,    41.2,2,     0.3,    47.8,2,   13.97,2,     -999.0,9,-999.0000,9,-999.0000,9,-999.0000,9,-999.0000,9,-999.0000,9,-999.0000,9,-999.0000,9,-999.0000,9,-999.0000,9,     -999.0,9,  -999.0,9,     -999.0,     -999.0,9,     -999.0,20130809,       0520
33RO20130803,       A16N,      26,          1,         12,         12,2,20130809,       0428,    52.4999,   -20.0009,       2779,   491.5,  10.6138,  35.4579,2,  35.4588,2,    205.0,2,   230.4,2,    5.50,6,   12.70,6,    0.01,6,    0.82,6,-999.000,9,-999.000,9,-999.000,9,  2152.7,2,  2332.6,4,  -999.0,9, -999.00,   7.7863,2,    25.00,    0.13,4,    24.4,2,     0.2,   46.85,2,   15.15,2,     -999.0,9,-999.0000,9,-999.0000,9,-999.0000,9,-999.0000,9,-999.0000,9,-999.0000,9,-999.0000,9,-999.0000,9,-999.0000,9,     -999.0,9,  -999.0,9,     -999.0,     -999.0,9,     -999.0,20130809,       0517
33RO20130803,       A16N,      26,          1,         11,         11,2,20130809,       0428,    52.4999,   -20.0009,       2779,   566.5,   9.6167,  35.3214,2,  35.3234,2,    203.6,2,   203.3,2,    8.30,2,   16.40,2,    0.00,2,    1.07,2,-999.000,9,-999.000,9,-999.000,9,  -999.0,9,  2325.9,2,  -999.0,9, -999.00,   7.7436,2,    25.00,    0.67,2,    23.2,2,     0.2,   46.34,2,   18.56,2,     -999.0,9,-999.0000,9,-999.0000,9,-999.0000,9,-999.0000,9,-999.0000,9,-999.0000,9,-999.0000,9,-999.0000,9,-999.0000,9,     -999.0,9,  -999.0,9,     -999.0,     -999.0,9,     -999.0,20130809,       0515
33RO20130803,       A16N,      26,          1,         10,         10,3,20130809,       0428,    52.4999,   -20.0009,       2779,   697.9,   8.5926,  35.3022,2,-999.0000,9,    192.9,2,   193.4,2, -999.00,9, -999.00,9, -999.00,9, -999.00,9,-999.000,9,-999.000,9,-999.000,9,  2181.7,3,  -999.0,9,  -999.0,9, -999.00,-999.0000,9,  -999.00, -999.00,9,  -999.0,9,  -999.0, -999.00,9, -999.00,9,     -999.0,9,-999.0000,9,-999.0000,9,-999.0000,9,-999.0000,9,-999.0000,9,-999.0000,9,-999.0000,9,-999.0000,9,-999.0000,9,     -999.0,9,  -999.0,9,     -999.0,     -999.0,9,     -999.0,20130809,       0512
33RO20130803,       A16N,      26,          1,          9,          9,2,20130809,       0428,    52.4999,   -20.0009,       2779,   799.0,   7.5104,  35.2478,2,  35.2479,2,    203.0,2,   204.5,2,   11.00,6,   18.60,6,    0.00,6,    1.23,6,-999.000,9,-999.000,9,-999.000,9,  -999.0,9,  -999.0,9,  -999.0,9, -999.00,-999.0000,9,  -999.00,    0.73,6,     1.6,6,     0.4,   45.78,2,   20.56,2,     -999.0,9,-999.0000,9,-999.0000,9,-999.0000,9,-999.0000,9,-999.0000,9,-999.0000,9,-999.0000,9,-999.0000,9,-999.0000,9,     -999.0,9,  -999.0,9,     -999.0,     -999.0,9,     -999.0,20130809,       0510
33RO20130803,       A16N,      26,          1,          8,          8,2,20130809,       0428,    52.4999,   -20.0009,       2779,   896.6,   6.7646,  35.2066,2,  35.2065,2,    217.1,2,   217.5,2,   11.10,2,   18.30,2,    0.00,2,    1.22,2,-999.000,9,-999.000,9,-999.000,9,  2182.3,2,  2321.6,2,  -999.0,9, -999.00,   7.7056,2,    25.00,    0.77,2,    -6.0,2,     0.2,   45.49,2,   21.01,2,     -999.0,9,-999.0000,9,-999.0000,9,-999.0000,9,-999.0000,9,-999.0000,9,-999.0000,9,-999.0000,9,-999.0000,9,-999.0000,9,     -999.0,9,  -999.0,9,     -999.0,     -999.0,9,     -999.0,20130809,       0507
33RO20130803,       A16N,      26,          1,          7,          7,2,20130809,       0428,    52.4999,   -20.0009,       2779,  1099.0,   4.8512,  34.9887,2,  34.9876,2,    254.2,2,   255.8,2,   10.50,2,   17.50,2,    0.00,2,    1.18,2,-999.000,9,-999.000,9,-999.000,9,  -999.0,9,  -999.0,9,  -999.0,9, -999.00,-999.0000,9,  -999.00,    0.69,2,     4.3,2,     0.2,   45.26,2,   19.73,2,     -999.0,9,-999.0000,9,-999.0000,9,-999.0000,9,-999.0000,9,-999.0000,9,-999.0000,9,-999.0000,9,-999.0000,9,-999.0000,9,     -999.0,9,  -999.0,9,     -999.0,     -999.0,9,     -999.0,20130809,       0503
33RO20130803,       A16N,      26,          1,          6,          6,2,20130809,       0428,    52.4999,   -20.0009,       2779,  1398.6,   4.2472,  34.9498,2,  34.9540,2,    270.4,2,   275.8,4,   10.70,2,   17.20,2,    0.00,2,    1.17,2,-999.000,9,-999.000,9,-999.000,9,  2166.6,2,  2305.3,6,  -999.0,9, -999.00,   7.7028,2,    25.00,    0.74,2,     0.3,2,     0.2,   45.03,2,    19.3,2,     -999.0,9,-999.0000,9,-999.0000,9,-999.0000,9,-999.0000,9,-999.0000,9,-999.0000,9,-999.0000,9,-999.0000,9,-999.0000,9,     -999.0,9,  -999.0,9,     -999.0,     -999.0,9,     -999.0,20130809,       0457
33RO20130803,       A16N,      26,          1,          5,          5,2,20130809,       0428,    52.4999,   -20.0009,       2779,  1500.0,   4.1163,  34.9414,2,  34.9412,2,    266.4,2,   267.2,2,   11.00,2,   17.20,2,    0.00,2,    1.17,2,-999.000,9,-999.000,9,-999.000,9,  -999.0,9,  -999.0,9,  -999.0,9, -999.00,-999.0000,9,  -999.00,    0.76,6,     0.7,6,     0.7,   45.08,2,   19.91,2,     -999.0,9,-999.0000,9,-999.0000,9,-999.0000,9,-999.0000,9,-999.0000,9,-999.0000,9,-999.0000,9,-999.0000,9,-999.0000,9,     -999.0,9,  -999.0,9,     -999.0,     -999.0,9,     -999.0,20130809,       0454
33RO20130803,       A16N,      26,          1,          4,          4,5,20130809,       0428,    52.4999,   -20.0009,       2779,  1698.2,   3.8149,  34.9161,2,-999.0000,9,    273.1,2,  -999.0,9, -999.00,9, -999.00,9, -999.00,9, -999.00,9,-999.000,9,-999.000,9,-999.000,9,  -999.0,9,  -999.0,9,  -999.0,9, -999.00,-999.0000,9,  -999.00, -999.00,9,  -999.0,9,  -999.0, -999.00,9, -999.00,9,     -999.0,9,-999.0000,9,-999.0000,9,-999.0000,9,-999.0000,9,-999.0000,9,-999.0000,9,-999.0000,9,-999.0000,9,-999.0000,9,     -999.0,9,  -999.0,9,     -999.0,     -999.0,9,     -999.0,20130809,       0449
33RO20130803,       A16N,      26,          1,          3,          3,2,20130809,       0428,    52.4999,   -20.0009,       2779,  2098.1,   3.4557,  34.9207,2,  34.9208,2,    270.7,2,   271.7,2,   12.90,6,   17.10,6,    0.00,6,    1.16,6,   2.897,6,   1.427,6,   0.660,6,  2162.2,6,  2305.0,2,  -999.0,9, -999.00,   7.7135,2,    25.00,    0.86,6,    -8.5,6,     0.1,   44.72,2,    19.4,2,     13.674,6,-999.0000,9,-999.0000,9,-999.0000,9,-999.0000,9,-999.0000,9,-999.0000,9,-999.0000,9,-999.0000,9,-999.0000,9,     -999.0,5,  -999.0,9,     -999.0,     -999.0,9,     -999.0,20130809,       0442
33RO20130803,       A16N,      26,          1,          2,          2,2,20130809,       0428,    52.4999,   -20.0009,       2779,  2448.3,   3.1765,  34.9303,2,  34.9296,2,    268.6,2,     270,2,   16.60,2,   17.30,2,    0.00,2,    1.18,2,   2.384,2,   1.169,2,   0.516,2,  -999.0,9,  -999.0,9,  -999.0,9, -999.00,-999.0000,9,  -999.00,    0.86,2,   -25.5,2,     0.2,   44.56,2,   20.57,2,     13.640,2,-999.0000,9,-999.0000,9,-999.0000,9,-999.0000,9,-999.0000,9,-999.0000,9,-999.0000,9,-999.0000,9,-999.0000,9,     -999.0,5,  -999.0,9,     -999.0,     -999.0,9,     -999.0,20130809,       0435
33RO20130803,       A16N,      26,          1,          1,          1,2,20130809,       0428,    52.4999,   -20.0009,       2779,  2807.0,   2.8894,  34.9381,2,  34.9370,2,    260.4,2,   258.8,2,   25.70,2,   18.50,2,    0.01,2,    1.28,2,   1.614,2,   0.808,2,   0.431,2,  2179.2,2,  2324.6,2,  -999.0,9, -999.00,   7.7183,2,    25.00,    0.88,2,   -49.2,2,     0.3,   44.26,2,   21.18,2,     13.765,2,-999.0000,9,-999.0000,9,-999.0000,9,-999.0000,9,-999.0000,9,-999.0000,9,-999.0000,9,-999.0000,9,-999.0000,9,     -999.0,5,  -999.0,9,     -999.0,     -999.0,9,     -999.0,20130809,       0428