BOTTLE,20220815CCHSIOAMB
EXPOCODE,SECT_ID,STNNBR,CASTNO,SAMPNO,BTLNBR,BTLNBR_FLAG_W,DATE,TIME,LATITUDE,LONGITUDE,DEPTH,CTDPRS,CTDTMP,CTDSAL,CTDSAL_FLAG_W,SALNTY,SALNTY_FLAG_W,CTDOXY,CTDOXY_FLAG_W,OXYGEN,OXYGEN_FLAG_W,SILCAT,SILCAT_FLAG_W,NITRAT,NITRAT_FLAG_W,NITRIT,NITRIT_FLAG_W,PHSPHT,PHSPHT_FLAG_W,CFC-11,CFC-11_FLAG_W,CFC-12,CFC-12_FLAG_W,SF6,SF6_FLAG_W,TCARBN,TCARBN_FLAG_W,ALKALI,ALKALI_FLAG_W,PCO2,PCO2_FLAG_W,PCO2TMP,PH_SWS,PH_SWS_FLAG_W,PH_TMP,DELC13,DELC13_FLAG_W,DELC14,DELC14_FLAG_W,C14ERR,DOC,DOC_FLAG_W,TDN,TDN_FLAG_W,N2O,N2O_FLAG_W,CDOM325,CDOM325_FLAG_W,CDOM340,CDOM340_FLAG_W,CDOM380,CDOM380_FLAG_W,CDOM412,CDOM412_FLAG_W,CDOM443,CDOM443_FLAG_W,CDOM490,CDOM490_FLAG_W,CDOM555,CDOM555_FLAG_W,CDOMSL,CDOMSL_FLAG_W,CDOMSN,CDOMSN_FLAG_W,CCL4,CCL4_FLAG_W,14C-DOC,14C-DOC_FLAG_W,14C-DOCERR,13C-DOC,13C-DOC_FLAG_W,13C-DOCERR,BTL_DATE,BTL_TIME
,,,,,,,,,,,METERS,DBAR,ITS-90,PSS-78,,PSS-78,,UMOL/KG,,UMOL/KG,,UMOL/KG,,UMOL/KG,,UMOL/KG,,UMOL/KG,,PMOL/KG,,PMOL/KG,,FMOL/KG,,UMOL/KG,,UMOL/KG,,UATM,,DEG C,,,DEG C,/MILLE,,/MILLE,,/MILLE,UMOL/KG,,UMOL/KG,,NMOL/KG,,1/M,,1/M,,1/M,,1/M,,1/M,,1/M,,1/M,,1/NM,,1/NM,,PMOL/KG,,/MILLE,,/MILLE,/MILLE,,/MILLE,,
33RO20130803,       A16N,       8,          1,         24,         24,2,20130805,       0412,    61.3326,   -19.9947,       2356,     2.3,  11.8362,  35.0393,2,  35.0397,2,    280.1,2,   283.9,2,    1.60,2,    4.20,2,    0.07,2,    0.32,2,   3.241,2,   1.901,2,   1.964,2,  2082.1,6,  -999.0,9,  -999.0,9, -999.00,-999.0000,9,  -999.00, -999.00,9,  -999.0,9,  -999.0,   55.99,2,    6.84,2,      9.803,2,-999.0000,9,-999.0000,9,-999.0000,9,-999.0000,9,-999.0000,9,-999.0000,9,-999.0000,9,-999.0000,9,-999.0000,9,     -999.0,5,  -999.0,9,     -999.0,     -999.0,9,     -999.0,20130805,       0518
33RO20130803,       A16N,       8,          1,         23,         23,2,20130805,       0412,    61.3326,   -19.9947,       2356,    19.3,  11.0533,  35.0482,2,  35.0566,2,    283.6,2,   280.3,2,    1.60,2,    6.10,2,    0.12,2,    0.45,2,-999.000,9,-999.000,9,-999.000,9,  -999.0,9,  2306.4,2,  -999.0,9, -999.00,   7.8670,6,    25.00, -999.00,9,  -999.0,9,  -999.0,   54.12,2,    8.79,2,     -999.0,9,-999.0000,9,-999.0000,9,-999.0000,9,-999.0000,9,-999.0000,9,-999.0000,9,-999.0000,9,-999.0000,9,-999.0000,9,     -999.0,9,  -999.0,9,     -999.0,     -999.0,9,     -999.0,20130805,       0517
33RO20130803,       A16N,       8,          1,         22,         22,2,20130805,       0412,    61.3326,   -19.9947,       2356,    43.5,   9.9613,  35.0846,2,  35.0843,2,    271.2,2,   271.8,2,    1.60,2,    7.50,2,    0.29,2,    0.58,2,   3.467,2,   2.006,2,   2.050,2,  2116.4,2,  -999.0,9,  -999.0,9, -999.00,-999.0000,9,  -999.00, -999.00,9,  -999.0,9,  -999.0,   53.31,2,    10.6,2,     10.453,2,-999.0000,9,-999.0000,9,-999.0000,9,-999.0000,9,-999.0000,9,-999.0000,9,-999.0000,9,-999.0000,9,-999.0000,9,     -999.0,5,  -999.0,9,     -999.0,     -999.0,9,     -999.0,20130805,       0515
33RO20130803,       A16N,       8,          1,         21,         21,2,20130805,       0412,    61.3326,   -19.9947,       2356,    68.2,   9.2793,  35.1113,2,  35.1099,2,    267.5,2,   268.2,2,    2.20,2,   10.30,2,    0.18,2,    0.69,2,-999.000,9,-999.000,9,-999.000,9,  2131.7,2,  2310.4,2,  -999.0,9, -999.00,   7.8076,2,    25.00, -999.00,9,  -999.0,9,  -999.0,   52.61,2,   12.83,2,     -999.0,9,-999.0000,9,-999.0000,9,-999.0000,9,-999.0000,9,-999.0000,9,-999.0000,9,-999.0000,9,-999.0000,9,-999.0000,9,     -999.0,9,  -999.0,9,     -999.0,     -999.0,9,     -999.0,20130805,       0513
33RO20130803,       A16N,       8,          1,         20,         20,2,20130805,       0412,    61.3326,   -19.9947,       2356,    93.1,   8.8902,  35.1371,2,  35.1393,2,    267.2,2,   267.4,2,    2.90,2,   11.40,2,    0.00,2,    0.76,2,   3.492,2,   2.020,2,   2.044,2,  2140.3,2,  -999.0,9,  -999.0,9, -999.00,-999.0000,9,  -999.00, -999.00,9,  -999.0,9,  -999.0,   51.48,2,   13.66,2,     11.264,2,-999.0000,9,-999.0000,9,-999.0000,9,-999.0000,9,-999.0000,9,-999.0000,9,-999.0000,9,-999.0000,9,-999.0000,9,     -999.0,5,  -999.0,9,     -999.0,     -999.0,9,     -999.0,20130805,       0512
33RO20130803,       A16N,       8,          1,         19,         19,2,20130805,       0412,    61.3326,   -19.9947,       2356,   118.3,   8.8167,  35.1455,2,  35.1446,2,    265.1,2,     266,2,    3.30,2,   11.70,2,    0.01,2,    0.77,2,-999.000,9,-999.000,9,-999.000,9,  -999.0,9,  2315.4,2,  -999.0,9, -999.00,   7.7883,2,    25.00, -999.00,9,  -999.0,9,  -999.0,   51.64,2,   14.29,2,     -999.0,9,-999.0000,9,-999.0000,9,-999.0000,9,-999.0000,9,-999.0000,9,-999.0000,9,-999.0000,9,-999.0000,9,-999.0000,9,     -999.0,9,  -999.0,9,     -999.0,     -999.0,9,     -999.0,20130805,       0510
33RO20130803,       A16N,       8,          1,         18,         18,2,20130805,       0412,    61.3326,   -19.9947,       2356,   142.8,   8.8318,  35.1626,2,  35.1653,2,    264.9,2,     265,2,    3.60,2,   11.90,2,    0.00,2,    0.78,2,-999.000,9,-999.000,9,-999.000,9,  2143.1,2,  -999.0,9,  -999.0,9, -999.00,-999.0000,9,  -999.00, -999.00,9,  -999.0,9,  -999.0,   51.11,2,   14.48,2,     -999.0,9,-999.0000,9,-999.0000,9,-999.0000,9,-999.0000,9,-999.0000,9,-999.0000,9,-999.0000,9,-999.0000,9,-999.0000,9,     -999.0,9,  -999.0,9,     -999.0,     -999.0,9,     -999.0,20130805,       0508
33RO20130803,       A16N,       8,          1,         17,         17,2,20130805,       0412,    61.3326,   -19.9947,       2356,   167.6,   8.7970,  35.1692,2,  35.1694,2,    264.1,2,     264,2,    3.90,6,   12.20,6,    0.01,6,    0.80,6,-999.000,9,-999.000,9,-999.000,9,  -999.0,9,  2317.2,2,  -999.0,9, -999.00,   7.7858,2,    25.00, -999.00,9,  -999.0,9,  -999.0,   50.78,2,   14.77,2,     -999.0,9,-999.0000,9,-999.0000,9,-999.0000,9,-999.0000,9,-999.0000,9,-999.0000,9,-999.0000,9,-999.0000,9,-999.0000,9,     -999.0,9,  -999.0,9,     -999.0,     -999.0,9,     -999.0,20130805,       0507
33RO20130803,       A16N,       8,          1,         16,         16,2,20130805,       0412,    61.3326,   -19.9947,       2356,   191.0,   8.7474,  35.1726,2,  35.1739,2,    264.4,2,   262.2,2,    4.10,2,   12.40,2,    0.01,2,    0.80,2,   3.411,2,   1.971,2,   2.034,2,  2146.1,2,  -999.0,9,  -999.0,9, -999.00,-999.0000,9,  -999.00, -999.00,9,  -999.0,9,  -999.0,   49.98,2,   14.91,2,     11.764,2,-999.0000,9,-999.0000,9,-999.0000,9,-999.0000,9,-999.0000,9,-999.0000,9,-999.0000,9,-999.0000,9,-999.0000,9,     -999.0,5,  -999.0,9,     -999.0,     -999.0,9,     -999.0,20130805,       0505
33RO20130803,       A16N,       8,          1,         15,         15,2,20130805,       0412,    61.3326,   -19.9947,       2356,   237.4,   8.7018,  35.1912,2,  35.1923,2,    261.7,2,   261.5,2,    4.70,2,   12.70,2,    0.01,2,    0.82,2,-999.000,9,-999.000,9,-999.000,9,  -999.0,9,  2317.2,2,  -999.0,9, -999.00,   7.7763,2,    25.00, -999.00,9,  -999.0,9,  -999.0,   49.42,2,   15.82,2,     -999.0,9,-999.0000,9,-999.0000,9,-999.0000,9,-999.0000,9,-999.0000,9,-999.0000,9,-999.0000,9,-999.0000,9,-999.0000,9,     -999.0,9,  -999.0,9,     -999.0,     -999.0,9,     -999.0,20130805,       0503
33RO20130803,       A16N,       8,          1,         14,         14,2,20130805,       0412,    61.3326,   -19.9947,       2356,   303.7,   8.5621,  35.1919,2,  35.1909,2,    261.8,2,   261.5,2,    5.20,2,   13.10,2,    0.01,2,    0.84,2,   3.384,2,   1.953,2,   1.832,2,  -999.0,9,  -999.0,9,  -999.0,9, -999.00,-999.0000,9,  -999.00, -999.00,9,  -999.0,9,  -999.0,   49.18,2,   16.16,2,     11.923,2,-999.0000,9,-999.0000,9,-999.0000,9,-999.0000,9,-999.0000,9,-999.0000,9,-999.0000,9,-999.0000,9,-999.0000,9,     -999.0,5,  -999.0,9,     -999.0,     -999.0,9,     -999.0,20130805,       0501
33RO20130803,       A16N,       8,          1,         13,         13,2,20130805,       0412,    61.3326,   -19.9947,       2356,   378.7,   8.3301,  35.1745,2,  35.1746,2,    255.2,2,   263.3,2,    5.70,2,   13.40,2,    0.01,2,    0.87,2,-999.000,9,-999.000,9,-999.000,9,  2150.4,2,  2315.8,2,  -999.0,9, -999.00,   7.7703,6,    25.00, -999.00,9,  -999.0,9,  -999.0,   48.34,2,   16.29,2,     -999.0,9,-999.0000,9,-999.0000,9,-999.0000,9,-999.0000,9,-999.0000,9,-999.0000,9,-999.0000,9,-999.0000,9,-999.0000,9,     -999.0,9,  -999.0,9,     -999.0,     -999.0,9,     -999.0,20130805,       0459
33RO20130803,       A16N,       8,          1,         12,         12,2,20130805,       0412,    61.3326,   -19.9947,       2356,   455.2,   8.2103,  35.1813,2,  35.1804,2,    259.4,2,   259.3,2,    6.50,2,   13.90,2,    0.01,2,    0.90,2,-999.000,9,-999.000,9,-999.000,9,  -999.0,9,  -999.0,9,  -999.0,9, -999.00,-999.0000,9,  -999.00, -999.00,9,  -999.0,9,  -999.0,   48.17,2,   17.17,2,     -999.0,9,-999.0000,9,-999.0000,9,-999.0000,9,-999.0000,9,-999.0000,9,-999.0000,9,-999.0000,9,-999.0000,9,-999.0000,9,     -999.0,9,  -999.0,9,     -999.0,     -999.0,9,     -999.0,20130805,       0456
33RO20130803,       A16N,       8,          1,         11,         11,2,20130805,       0412,    61.3326,   -19.9947,       2356,   530.0,   7.9521,  35.1654,2,  35.1653,2,    250.7,2,   250.9,2,    7.30,2,   14.90,2,    0.01,2,    0.97,2,   3.308,2,   1.874,2,   1.724,2,  -999.0,9,  2350.4,4,  -999.0,9, -999.00,   7.7568,2,    25.00, -999.00,9,  -999.0,9,  -999.0,      48,2,   18.36,2,     13.002,2,-999.0000,9,-999.0000,9,-999.0000,9,-999.0000,9,-999.0000,9,-999.0000,9,-999.0000,9,-999.0000,9,-999.0000,9,     -999.0,5,  -999.0,9,     -999.0,     -999.0,9,     -999.0,20130805,       0454
33RO20130803,       A16N,       8,          1,         10,         10,2,20130805,       0412,    61.3326,   -19.9947,       2356,   624.3,   7.3569,  35.1152,2,  35.1129,2,    229.1,2,   228.2,2,    9.50,2,   17.10,2,    0.01,2,    1.11,2,-999.000,9,-999.000,9,-999.000,9,  2171.1,2,  -999.0,9,  -999.0,9, -999.00,-999.0000,9,  -999.00, -999.00,9,  -999.0,9,  -999.0,   47.41,2,   19.75,2,     -999.0,9,-999.0000,9,-999.0000,9,-999.0000,9,-999.0000,9,-999.0000,9,-999.0000,9,-999.0000,9,-999.0000,9,-999.0000,9,     -999.0,9,  -999.0,9,     -999.0,     -999.0,9,     -999.0,20130805,       0451
33RO20130803,       A16N,       8,          1,          9,          9,2,20130805,       0412,    61.3326,   -19.9947,       2356,   722.8,   6.6821,  35.0957,2,  35.0963,2,    222.2,2,   221.3,2,   10.80,2,   18.30,2,    0.01,2,    1.18,2,-999.000,9,-999.000,9,-999.000,9,  -999.0,9,  2314.5,2,  -999.0,9, -999.00,   7.7003,2,    25.00, -999.00,9,  -999.0,9,  -999.0,   47.34,2,   20.71,2,     -999.0,9,-999.0000,9,-999.0000,9,-999.0000,9,-999.0000,9,-999.0000,9,-999.0000,9,-999.0000,9,-999.0000,9,-999.0000,9,     -999.0,9,  -999.0,9,     -999.0,     -999.0,9,     -999.0,20130805,       0449
33RO20130803,       A16N,       8,          1,          8,          8,2,20130805,       0412,    61.3326,   -19.9947,       2356,   859.6,   5.6158,  35.0292,2,  35.0283,2,    233.0,2,   234.1,2,   11.10,6,   18.30,6,    0.00,6,    1.19,6,   3.169,2,   1.708,2,   1.264,2,  2179.1,2,  -999.0,9,  -999.0,9, -999.00,-999.0000,9,  -999.00, -999.00,9,  -999.0,9,  -999.0,   47.15,2,   20.94,2,     14.916,2,-999.0000,9,-999.0000,9,-999.0000,9,-999.0000,9,-999.0000,9,-999.0000,9,-999.0000,9,-999.0000,9,-999.0000,9,     -999.0,5,  -999.0,9,     -999.0,     -999.0,9,     -999.0,20130805,       0445
33RO20130803,       A16N,       8,          1,          7,          7,2,20130805,       0412,    61.3326,   -19.9947,       2356,  1010.4,   4.9060,  34.9871,2,  34.9873,2,    249.9,2,     250,2,   10.90,2,   17.80,2,    0.00,2,    1.16,2,   3.460,6,   1.851,6,   1.251,6,  -999.0,9,  2307.3,2,  -999.0,9, -999.00,   7.6938,2,    25.00, -999.00,9,  -999.0,9,  -999.0,   47.03,2,   20.35,2,     14.342,6,-999.0000,9,-999.0000,9,-999.0000,9,-999.0000,9,-999.0000,9,-999.0000,9,-999.0000,9,-999.0000,9,-999.0000,9,     -999.0,5,  -999.0,9,     -999.0,     -999.0,9,     -999.0,20130805,       0442
33RO20130803,       A16N,       8,          1,          6,          6,2,20130805,       0412,    61.3326,   -19.9947,       2356,  1152.7,   4.3925,  34.9433,2,  34.9432,2,    261.7,2,     262,2,   10.70,2,   17.50,2,    0.00,2,    1.14,2,   3.692,2,   1.969,2,   1.304,2,  2170.5,2,  -999.0,9,  -999.0,9, -999.00,-999.0000,9,  -999.00, -999.00,9,  -999.0,9,  -999.0,   46.56,2,   20.05,2,     13.951,2,-999.0000,9,-999.0000,9,-999.0000,9,-999.0000,9,-999.0000,9,-999.0000,9,-999.0000,9,-999.0000,9,-999.0000,9,     -999.0,5,  -999.0,9,     -999.0,     -999.0,9,     -999.0,20130805,       0438
33RO20130803,       A16N,       8,          1,          5,          5,2,20130805,       0412,    61.3326,   -19.9947,       2356,  1310.6,   4.1206,  34.9243,2,  34.9246,2,    268.2,2,   268.2,2,   10.70,2,   17.30,2,    0.00,2,    1.13,2,-999.000,9,-999.000,9,-999.000,9,  -999.0,9,  2302.2,2,  -999.0,9, -999.00,   7.7023,2,    25.00, -999.00,9,  -999.0,9,  -999.0,   46.93,2,   19.96,2,     -999.0,9,-999.0000,9,-999.0000,9,-999.0000,9,-999.0000,9,-999.0000,9,-999.0000,9,-999.0000,9,-999.0000,9,-999.0000,9,     -999.0,9,  -999.0,9,     -999.0,     -999.0,9,     -999.0,20130805,       0434
33RO20130803,       A16N,       8,          1,          4,          4,2,20130805,       0412,    61.3326,   -19.9947,       2356,  1534.0,   3.9082,  34.9221,2,  34.9200,2,    270.8,2,   270.7,2,   11.10,6,   17.20,6,    0.00,6,    1.12,6,   3.628,2,   1.872,2,   1.028,2,  -999.0,9,  -999.0,9,  -999.0,9, -999.00,-999.0000,9,  -999.00, -999.00,9,  -999.0,9,  -999.0,   46.54,2,    19.7,2,     13.616,2,-999.0000,9,-999.0000,9,-999.0000,9,-999.0000,9,-999.0000,9,-999.0000,9,-999.0000,9,-999.0000,9,-999.0000,9,     -999.0,5,  -999.0,9,     -999.0,     -999.0,9,     -999.0,20130805,       0430
33RO20130803,       A16N,       8,          1,          3,          3,2,20130805,       0412,    61.3326,   -19.9947,       2356,  1897.0,   3.8163,  34.9917,2,  34.9923,2,    274.3,2,   274.7,2,   10.10,2,   15.70,2,    0.01,2,    1.04,2,-999.000,9,-999.000,9,-999.000,9,  2165.8,2,  2306.3,2,  -999.0,9, -999.00,   7.6861,2,    25.00, -999.00,9,  -999.0,9,  -999.0,   46.91,2,    17.9,2,     -999.0,9,-999.0000,9,-999.0000,9,-999.0000,9,-999.0000,9,-999.0000,9,-999.0000,9,-999.0000,9,-999.0000,9,-999.0000,9,     -999.0,9,  -999.0,9,     -999.0,     -999.0,9,     -999.0,20130805,       0422
33RO20130803,       A16N,       8,          1,          2,          2,2,20130805,       0412,    61.3326,   -19.9947,       2356,  2147.1,   3.2438,  35.0008,2,  35.0015,2,    278.4,2,   279.6,2,   10.00,2,   15.20,2,    0.01,2,    1.01,2,   3.348,2,   1.789,2,   1.369,2,  -999.0,9,  -999.0,9,  -999.0,9, -999.00,-999.0000,9,  -999.00, -999.00,9,  -999.0,9,  -999.0,    47.3,2,   17.42,2,     13.538,2,-999.0000,9,-999.0000,9,-999.0000,9,-999.0000,9,-999.0000,9,-999.0000,9,-999.0000,9,-999.0000,9,-999.0000,9,     -999.0,5,  -999.0,9,     -999.0,     -999.0,9,     -999.0,20130805,       0417
33RO20130803,       A16N,       8,          1,          1,          1,2,20130805,       0412,    61.3326,   -19.9947,       2356,  2377.8,   2.4415,  34.9892,2,  34.9944,4,    281.9,2,   282.4,2,   11.60,6,   14.90,6,    0.02,6,    1.01,6,   3.286,2,   1.736,2,   1.273,2,  2170.3,6,  2310.1,2,  -999.0,9, -999.00,   7.7075,2,    25.00, -999.00,9,  -999.0,9,  -999.0,   47.21,2,   17.67,2,     13.641,2,-999.0000,9,-999.0000,9,-999.0000,9,-999.0000,9,-999.0000,9,-999.0000,9,-999.0000,9,-999.0000,9,-999.0000,9,     -999.0,5,  -999.0,9,     -999.0,     -999.0,9,     -999.0,20130805,       0412