BOTTLE,20220815CCHSIOAMB
EXPOCODE,SECT_ID,STNNBR,CASTNO,SAMPNO,BTLNBR,BTLNBR_FLAG_W,DATE,TIME,LATITUDE,LONGITUDE,DEPTH,CTDPRS,CTDTMP,CTDSAL,CTDSAL_FLAG_W,SALNTY,SALNTY_FLAG_W,CTDOXY,CTDOXY_FLAG_W,OXYGEN,OXYGEN_FLAG_W,SILCAT,SILCAT_FLAG_W,NITRAT,NITRAT_FLAG_W,NITRIT,NITRIT_FLAG_W,PHSPHT,PHSPHT_FLAG_W,CFC-11,CFC-11_FLAG_W,CFC-12,CFC-12_FLAG_W,SF6,SF6_FLAG_W,TCARBN,TCARBN_FLAG_W,ALKALI,ALKALI_FLAG_W,PCO2,PCO2_FLAG_W,PCO2TMP,PH_SWS,PH_SWS_FLAG_W,PH_TMP,DELC13,DELC13_FLAG_W,DELC14,DELC14_FLAG_W,C14ERR,DOC,DOC_FLAG_W,TDN,TDN_FLAG_W,N2O,N2O_FLAG_W,CDOM325,CDOM325_FLAG_W,CDOM340,CDOM340_FLAG_W,CDOM380,CDOM380_FLAG_W,CDOM412,CDOM412_FLAG_W,CDOM443,CDOM443_FLAG_W,CDOM490,CDOM490_FLAG_W,CDOM555,CDOM555_FLAG_W,CDOMSL,CDOMSL_FLAG_W,CDOMSN,CDOMSN_FLAG_W,CCL4,CCL4_FLAG_W,14C-DOC,14C-DOC_FLAG_W,14C-DOCERR,13C-DOC,13C-DOC_FLAG_W,13C-DOCERR,BTL_DATE,BTL_TIME
,,,,,,,,,,,METERS,DBAR,ITS-90,PSS-78,,PSS-78,,UMOL/KG,,UMOL/KG,,UMOL/KG,,UMOL/KG,,UMOL/KG,,UMOL/KG,,PMOL/KG,,PMOL/KG,,FMOL/KG,,UMOL/KG,,UMOL/KG,,UATM,,DEG C,,,DEG C,/MILLE,,/MILLE,,/MILLE,UMOL/KG,,UMOL/KG,,NMOL/KG,,1/M,,1/M,,1/M,,1/M,,1/M,,1/M,,1/M,,1/NM,,1/NM,,PMOL/KG,,/MILLE,,/MILLE,/MILLE,,/MILLE,,
33RO20130803,       A16N,     109,          2,         24,         24,5,20130922,       2306,     8.9996,   -27.9983,       5224,     2.7,  28.3077,  35.2170,2,-999.0000,9,    198.5,2,  -999.0,9, -999.00,9, -999.00,9, -999.00,9, -999.00,9,-999.000,9,-999.000,9,-999.000,9,  -999.0,9,  -999.0,9,  -999.0,9, -999.00,-999.0000,9,  -999.00, -999.00,9,  -999.0,9,  -999.0, -999.00,9, -999.00,9,     -999.0,9,-999.0000,9,-999.0000,9,-999.0000,9,-999.0000,9,-999.0000,9,-999.0000,9,-999.0000,9,-999.0000,9,-999.0000,9,     -999.0,9,  -999.0,9,     -999.0,     -999.0,9,     -999.0,20130922,       0058
33RO20130803,       A16N,     109,          2,         23,         23,2,20130922,       2306,     8.9996,   -27.9983,       5224,     7.7,  28.3348,  35.2360,2,  35.2755,2,    198.7,2,   199.8,2,    1.00,2,    0.00,2,    0.00,2,    0.02,2,   1.497,2,   0.958,2,   1.144,2,  1964.9,6,  2307.1,6,   278.3,2,      20,   8.1098,2,    25.00, -999.00,9,  -999.0,9,  -999.0,   77.41,2,    4.42,2,      6.008,2,-999.0000,9,-999.0000,9,-999.0000,9,-999.0000,9,-999.0000,9,-999.0000,9,-999.0000,9,-999.0000,9,-999.0000,9,     -999.0,5,  -999.0,9,     -999.0,     -999.0,9,     -999.0,20130922,       0057
33RO20130803,       A16N,     109,          2,         22,         22,5,20130922,       2306,     8.9996,   -27.9983,       5224,    32.9,  28.0078,  35.6485,2,-999.0000,9,    202.5,2,  -999.0,9, -999.00,9, -999.00,9, -999.00,9, -999.00,9,-999.000,9,-999.000,9,-999.000,9,  -999.0,9,  -999.0,9,  -999.0,9, -999.00,-999.0000,9,  -999.00, -999.00,9,  -999.0,9,  -999.0, -999.00,9, -999.00,9,     -999.0,9,-999.0000,9,-999.0000,9,-999.0000,9,-999.0000,9,-999.0000,9,-999.0000,9,-999.0000,9,-999.0000,9,-999.0000,9,     -999.0,9,  -999.0,9,     -999.0,     -999.0,9,     -999.0,20130922,       0055
33RO20130803,       A16N,     109,          2,         21,         21,2,20130922,       2306,     8.9996,   -27.9983,       5224,    68.2,  19.5219,  35.8442,2,  35.8304,2,    165.2,2,   150.1,2,    3.90,2,    6.50,2,    0.14,2,    0.48,2,   1.998,2,   1.165,2,   0.900,2,  2147.3,2,  2350.2,2,   549.4,2,      20,   7.8536,2,    25.00, -999.00,9,  -999.0,9,  -999.0,   66.61,2,    9.98,2,     21.347,2,-999.0000,9,-999.0000,9,-999.0000,9,-999.0000,9,-999.0000,9,-999.0000,9,-999.0000,9,-999.0000,9,-999.0000,9,     -999.0,5,  -999.0,9,     -999.0,     -999.0,9,     -999.0,20130922,       0053
33RO20130803,       A16N,     109,          2,         20,         20,2,20130922,       2306,     8.9996,   -27.9983,       5224,   112.5,  14.0670,  35.4368,2,  35.4353,2,    118.0,2,     116,2,    7.50,2,   20.70,2,    0.04,2,    1.32,2,   2.160,2,   1.209,2,   0.735,2,  2193.8,2,  2328.4,2,   803.5,2,      20,   7.7017,2,    25.00, -999.00,9,  -999.0,9,  -999.0,   51.23,2,   24.16,2,     27.071,2,-999.0000,9,-999.0000,9,-999.0000,9,-999.0000,9,-999.0000,9,-999.0000,9,-999.0000,9,-999.0000,9,-999.0000,9,     -999.0,5,  -999.0,9,     -999.0,     -999.0,9,     -999.0,20130922,       0051
33RO20130803,       A16N,     109,          2,         19,         19,2,20130922,       2306,     8.9996,   -27.9983,       5224,   187.5,  11.4642,  35.1169,2,  35.1170,2,    110.2,2,   108.8,2,   10.30,2,   25.40,2,    0.01,2,    1.61,2,   1.937,2,   1.046,2,   0.514,2,  2204.7,2,  2312.8,2,   955.8,2,      20,   7.6274,6,    25.00, -999.00,9,  -999.0,9,  -999.0,   49.73,2,   28.83,2,     31.104,2,-999.0000,9,-999.0000,9,-999.0000,9,-999.0000,9,-999.0000,9,-999.0000,9,-999.0000,9,-999.0000,9,-999.0000,9,     -999.0,5,  -999.0,9,     -999.0,     -999.0,9,     -999.0,20130922,       0048
33RO20130803,       A16N,     109,          2,         18,         18,2,20130922,       2306,     8.9996,   -27.9983,       5224,   268.0,  10.4943,  35.0212,2,  35.0206,2,     88.2,2,    86.7,2,   12.50,2,   29.60,2,    0.01,2,    1.84,2,   1.493,2,   0.806,2,   0.303,2,  2222.0,2,  2310.2,2,  1123.9,2,      20,   7.5624,2,    25.00, -999.00,9,  -999.0,9,  -999.0,   48.84,2,   32.35,2,     36.761,2,-999.0000,9,-999.0000,9,-999.0000,9,-999.0000,9,-999.0000,9,-999.0000,9,-999.0000,9,-999.0000,9,-999.0000,9,     -999.0,5,  -999.0,9,     -999.0,     -999.0,9,     -999.0,20130922,       0046
33RO20130803,       A16N,     109,          2,         17,         17,2,20130922,       2306,     8.9996,   -27.9983,       5224,   347.3,   9.8065,  34.9644,2,  34.9659,2,     76.3,2,    75.5,2,   14.20,2,   32.30,2,    0.01,2,    1.98,2,   1.156,2,   0.612,2,   0.227,2,  2235.4,2,  2304.3,2,  1235.2,2,      20,   7.5209,2,    25.00, -999.00,9,  -999.0,9,  -999.0,   47.96,2,    35.7,2,     38.566,2,-999.0000,9,-999.0000,9,-999.0000,9,-999.0000,9,-999.0000,9,-999.0000,9,-999.0000,9,-999.0000,9,-999.0000,9,     -999.0,5,  -999.0,9,     -999.0,     -999.0,9,     -999.0,20130922,       0044
33RO20130803,       A16N,     109,          2,         16,         16,2,20130922,       2306,     8.9996,   -27.9983,       5224,   447.9,   9.2701,  34.9584,2,  34.9563,2,     64.6,2,    63.8,2,   15.90,2,   34.70,2,    0.01,2,    2.12,2,   0.740,2,   0.389,2,   0.136,2,  2242.7,2,  2306.0,2,  1328.9,2,      20,   7.4865,2,    25.00, -999.00,9,  -999.0,9,  -999.0,   47.27,2,   38.13,2,     38.366,2,-999.0000,9,-999.0000,9,-999.0000,9,-999.0000,9,-999.0000,9,-999.0000,9,-999.0000,9,-999.0000,9,-999.0000,9,     -999.0,5,  -999.0,9,     -999.0,     -999.0,9,     -999.0,20130922,       0041
33RO20130803,       A16N,     109,          2,         15,         15,2,20130922,       2306,     8.9996,   -27.9983,       5224,   572.2,   8.2025,  34.8840,2,  34.8868,2,     69.6,2,      70,2,   18.70,6,   35.90,6,    0.01,6,    2.23,6,   0.386,2,   0.206,2,   0.109,2,  2241.9,6,  2303.5,2,  1345.2,2,      20,   7.4810,2,    25.00, -999.00,9,  -999.0,9,  -999.0,   46.36,2,   39.13,2,     34.960,2,-999.0000,9,-999.0000,9,-999.0000,9,-999.0000,9,-999.0000,9,-999.0000,9,-999.0000,9,-999.0000,9,-999.0000,9,     -999.0,5,  -999.0,9,     -999.0,     -999.0,9,     -999.0,20130922,       0038
33RO20130803,       A16N,     109,          2,         14,         14,2,20130922,       2306,     8.9996,   -27.9983,       5224,   722.6,   6.5341,  34.7269,2,  34.7260,2,     90.6,2,    91.9,2,   23.50,6,   36.60,6,    0.01,6,    2.35,6,   0.139,2,   0.076,2,   0.000,2,  2240.0,2,  2302.0,6,  1328.3,2,      20,   7.4847,2,    25.00, -999.00,9,  -999.0,9,  -999.0,   45.48,2,   39.25,2,     30.612,2,-999.0000,9,-999.0000,9,-999.0000,9,-999.0000,9,-999.0000,9,-999.0000,9,-999.0000,9,-999.0000,9,-999.0000,9,     -999.0,5,  -999.0,9,     -999.0,     -999.0,9,     -999.0,20130922,       0035
33RO20130803,       A16N,     109,          2,         13,         13,2,20130922,       2306,     8.9996,   -27.9983,       5224,   872.7,   5.5471,  34.6711,2,  34.6716,2,    116.6,2,     117,2,   26.80,6,   35.30,6,    0.01,6,    2.33,6,-999.000,9,-999.000,9,-999.000,9,  2232.0,2,  2303.9,2,  1235.1,2,      20,   7.5157,2,    25.00, -999.00,9,  -999.0,9,  -999.0,   44.62,2,   38.02,2,     -999.0,9,-999.0000,9,-999.0000,9,-999.0000,9,-999.0000,9,-999.0000,9,-999.0000,9,-999.0000,9,-999.0000,9,-999.0000,9,     -999.0,9,  -999.0,9,     -999.0,     -999.0,9,     -999.0,20130922,       0031
33RO20130803,       A16N,     109,          2,         12,         12,2,20130922,       2306,     8.9996,   -27.9983,       5224,  1022.4,   5.0505,  34.7389,2,  34.7408,2,    140.7,2,   140.8,2,   26.80,6,   32.60,6,    0.01,6,    2.17,6,   0.026,2,   0.015,2,   0.000,2,  2222.9,2,  2308.2,6,  1117.9,6,      20,   7.5566,2,    25.00, -999.00,9,  -999.0,9,  -999.0,   43.14,2,   35.11,2,     23.601,2,-999.0000,9,-999.0000,9,-999.0000,9,-999.0000,9,-999.0000,9,-999.0000,9,-999.0000,9,-999.0000,9,-999.0000,9,     -999.0,5,  -999.0,9,     -999.0,     -999.0,9,     -999.0,20130922,       0028
33RO20130803,       A16N,     109,          2,         11,         11,2,20130922,       2306,     8.9996,   -27.9983,       5224,  1172.8,   4.8918,  34.8526,2,  34.8544,2,    163.8,2,   165.3,2,   24.00,2,   29.00,2,    0.01,2,    1.92,2,-999.000,9,-999.000,9,-999.000,9,  2208.9,2,  2313.7,2,   979.2,2,      20,   7.6079,2,    25.00, -999.00,9,  -999.0,9,  -999.0,   42.17,2,   31.42,2,     -999.0,9,-999.0000,9,-999.0000,9,-999.0000,9,-999.0000,9,-999.0000,9,-999.0000,9,-999.0000,9,-999.0000,9,-999.0000,9,     -999.0,9,  -999.0,9,     -999.0,     -999.0,9,     -999.0,20130922,       0024
33RO20130803,       A16N,     109,          2,         10,         10,2,20130922,       2306,     8.9996,   -27.9983,       5224,  1322.8,   4.7015,  34.9148,2,  34.9157,2,    186.1,2,   187.6,2,   21.70,2,   26.20,2,    0.00,2,    1.73,2,   0.097,2,   0.050,2,   0.000,2,  2196.7,2,  2315.9,2,   897.1,2,      20,   7.6447,2,    25.00, -999.00,9,  -999.0,9,  -999.0,   41.73,2,   28.69,2,     18.390,2,-999.0000,9,-999.0000,9,-999.0000,9,-999.0000,9,-999.0000,9,-999.0000,9,-999.0000,9,-999.0000,9,-999.0000,9,     -999.0,5,  -999.0,9,     -999.0,     -999.0,9,     -999.0,20130922,       0021
33RO20130803,       A16N,     109,          2,          9,          9,2,20130922,       2306,     8.9996,   -27.9983,       5224,  1497.0,   4.2997,  34.9517,2,  34.9527,2,    212.3,2,   211.7,2,   20.20,2,   23.50,2,    0.00,2,    1.55,2,-999.000,9,-999.000,9,-999.000,9,  2185.0,2,  2319.2,2,   820.8,2,      20,   7.6807,2,    25.00, -999.00,9,  -999.0,9,  -999.0,   41.48,2,   26.04,2,     -999.0,9,-999.0000,9,-999.0000,9,-999.0000,9,-999.0000,9,-999.0000,9,-999.0000,9,-999.0000,9,-999.0000,9,-999.0000,9,     -999.0,9,  -999.0,9,     -999.0,     -999.0,9,     -999.0,20130922,       0017
33RO20130803,       A16N,     109,          2,          8,          8,2,20130922,       2306,     8.9996,   -27.9983,       5224,  1797.1,   3.8412,  34.9709,2,  34.9711,2,    239.9,2,   239.1,2,   18.90,2,   20.80,2,    0.00,2,    1.36,2,   0.127,2,   0.067,2,   0.000,2,  2174.2,2,  2316.3,2,   756.5,2,      20,   7.7145,2,    25.00, -999.00,9,  -999.0,9,  -999.0,   41.45,2,   23.35,2,     14.321,2,-999.0000,9,-999.0000,9,-999.0000,9,-999.0000,9,-999.0000,9,-999.0000,9,-999.0000,9,-999.0000,9,-999.0000,9,     -999.0,5,  -999.0,9,     -999.0,     -999.0,9,     -999.0,20130922,       0011
33RO20130803,       A16N,     109,          2,          7,          7,2,20130922,       2306,     8.9996,   -27.9983,       5224,  2197.2,   3.3714,  34.9583,2,  34.9598,2,    247.2,2,   246.8,2,   22.50,2,   20.40,2,    0.00,2,    1.34,2,-999.000,9,-999.000,9,-999.000,9,  2174.7,2,  2320.1,2,   743.0,2,      20,   7.7285,2,    25.00, -999.00,9,  -999.0,9,  -999.0,   41.26,2,   22.65,2,     -999.0,9,-999.0000,9,-999.0000,9,-999.0000,9,-999.0000,9,-999.0000,9,-999.0000,9,-999.0000,9,-999.0000,9,-999.0000,9,     -999.0,9,  -999.0,9,     -999.0,     -999.0,9,     -999.0,20130922,       0003
33RO20130803,       A16N,     109,          2,          6,          6,2,20130922,       2306,     8.9996,   -27.9983,       5224,  2696.5,   2.9257,  34.9348,2,  34.9344,2,    249.2,2,   249.1,2,   28.80,2,   20.60,2,    0.00,2,    1.36,2,   0.025,2,   0.015,2,   0.000,2,  2180.7,2,  2326.7,2,   739.0,2,      20,   7.7286,2,    25.00, -999.00,9,  -999.0,9,  -999.0,   41.13,2,   23.06,2,     13.494,2,-999.0000,9,-999.0000,9,-999.0000,9,-999.0000,9,-999.0000,9,-999.0000,9,-999.0000,9,-999.0000,9,-999.0000,9,     -999.0,5,  -999.0,9,     -999.0,     -999.0,9,     -999.0,20130922,       2354
33RO20130803,       A16N,     109,          2,          5,          5,2,20130922,       2306,     8.9996,   -27.9983,       5224,  3197.7,   2.6255,  34.9133,2,  34.9134,2,    248.2,2,   248.6,2,   35.00,2,   21.10,2,    0.00,2,    1.40,2,-999.000,9,-999.000,9,-999.000,9,  2185.4,2,  2333.7,2,   745.2,2,      20,   7.7245,2,    25.00, -999.00,9,  -999.0,9,  -999.0,   41.15,2,   23.73,2,     -999.0,9,-999.0000,9,-999.0000,9,-999.0000,9,-999.0000,9,-999.0000,9,-999.0000,9,-999.0000,9,-999.0000,9,-999.0000,9,     -999.0,9,  -999.0,9,     -999.0,     -999.0,9,     -999.0,20130922,       2345
33RO20130803,       A16N,     109,          2,          4,          4,2,20130922,       2306,     8.9996,   -27.9983,       5224,  3697.4,   2.4439,  34.8979,2,  34.8984,2,    249.5,2,   250.1,2,   38.80,2,   21.30,2,    0.00,2,    1.42,2,   0.050,2,   0.029,2,   0.000,2,  2189.3,2,  2335.7,2,   753.8,2,      20,   7.7235,2,    25.00, -999.00,9,  -999.0,9,  -999.0,   41.23,2,   23.84,2,     13.608,2,-999.0000,9,-999.0000,9,-999.0000,9,-999.0000,9,-999.0000,9,-999.0000,9,-999.0000,9,-999.0000,9,-999.0000,9,     -999.0,5,  -999.0,9,     -999.0,     -999.0,9,     -999.0,20130922,       2336
33RO20130803,       A16N,     109,          2,          3,          3,2,20130922,       2306,     8.9996,   -27.9983,       5224,  4198.2,   2.3178,  34.8838,2,  34.8847,2,    248.5,2,   249.4,2,   43.20,2,   21.70,2,    0.00,2,    1.45,2,-999.000,9,-999.000,9,-999.000,9,  2195.2,2,  2341.0,2,   761.2,2,      20,   7.7188,2,    25.00, -999.00,9,  -999.0,9,  -999.0,   41.09,2,   24.09,2,     -999.0,9,-999.0000,9,-999.0000,9,-999.0000,9,-999.0000,9,-999.0000,9,-999.0000,9,-999.0000,9,-999.0000,9,-999.0000,9,     -999.0,9,  -999.0,9,     -999.0,     -999.0,9,     -999.0,20130922,       2327
33RO20130803,       A16N,     109,          2,          2,          2,2,20130922,       2306,     8.9996,   -27.9983,       5224,  4698.9,   2.2839,  34.8759,2,  34.8754,2,    243.6,2,     244,2,   47.90,2,   22.50,2,    0.00,2,    1.50,2,   0.035,2,   0.022,2,   0.000,2,  2204.4,2,  2351.9,2,   765.9,2,      20,   7.7171,2,    25.00, -999.00,9,  -999.0,9,  -999.0,   40.96,2,   25.13,2,     13.943,2,-999.0000,9,-999.0000,9,-999.0000,9,-999.0000,9,-999.0000,9,-999.0000,9,-999.0000,9,-999.0000,9,-999.0000,9,     -999.0,5,  -999.0,9,     -999.0,     -999.0,9,     -999.0,20130922,       2317
33RO20130803,       A16N,     109,          2,          1,          1,2,20130922,       2306,     8.9996,   -27.9983,       5224,  5296.5,   2.3117,  34.8711,2,  34.8717,2,    242.8,2,   242.2,2,   49.90,2,   22.90,2,    0.00,2,    1.52,2,   0.029,2,   0.019,2,   0.000,2,  2209.4,6,  2355.8,2,   749.7,2,      20,   7.7369,2,    25.00, -999.00,9,  -999.0,9,  -999.0,   40.64,2,   25.26,2,     14.007,2,-999.0000,9,-999.0000,9,-999.0000,9,-999.0000,9,-999.0000,9,-999.0000,9,-999.0000,9,-999.0000,9,-999.0000,9,     -999.0,5,  -999.0,9,     -999.0,     -999.0,9,     -999.0,20130922,       2306