BOTTLE,20220815CCHSIOAMB
EXPOCODE,SECT_ID,STNNBR,CASTNO,SAMPNO,BTLNBR,BTLNBR_FLAG_W,DATE,TIME,LATITUDE,LONGITUDE,DEPTH,CTDPRS,CTDTMP,CTDSAL,CTDSAL_FLAG_W,SALNTY,SALNTY_FLAG_W,CTDOXY,CTDOXY_FLAG_W,OXYGEN,OXYGEN_FLAG_W,SILCAT,SILCAT_FLAG_W,NITRAT,NITRAT_FLAG_W,NITRIT,NITRIT_FLAG_W,PHSPHT,PHSPHT_FLAG_W,CFC-11,CFC-11_FLAG_W,CFC-12,CFC-12_FLAG_W,SF6,SF6_FLAG_W,TCARBN,TCARBN_FLAG_W,ALKALI,ALKALI_FLAG_W,PCO2,PCO2_FLAG_W,PCO2TMP,PH_SWS,PH_SWS_FLAG_W,PH_TMP,DELC13,DELC13_FLAG_W,DELC14,DELC14_FLAG_W,C14ERR,DOC,DOC_FLAG_W,TDN,TDN_FLAG_W,N2O,N2O_FLAG_W,CDOM325,CDOM325_FLAG_W,CDOM340,CDOM340_FLAG_W,CDOM380,CDOM380_FLAG_W,CDOM412,CDOM412_FLAG_W,CDOM443,CDOM443_FLAG_W,CDOM490,CDOM490_FLAG_W,CDOM555,CDOM555_FLAG_W,CDOMSL,CDOMSL_FLAG_W,CDOMSN,CDOMSN_FLAG_W,CCL4,CCL4_FLAG_W,14C-DOC,14C-DOC_FLAG_W,14C-DOCERR,13C-DOC,13C-DOC_FLAG_W,13C-DOCERR,BTL_DATE,BTL_TIME
,,,,,,,,,,,METERS,DBAR,ITS-90,PSS-78,,PSS-78,,UMOL/KG,,UMOL/KG,,UMOL/KG,,UMOL/KG,,UMOL/KG,,UMOL/KG,,PMOL/KG,,PMOL/KG,,FMOL/KG,,UMOL/KG,,UMOL/KG,,UATM,,DEG C,,,DEG C,/MILLE,,/MILLE,,/MILLE,UMOL/KG,,UMOL/KG,,NMOL/KG,,1/M,,1/M,,1/M,,1/M,,1/M,,1/M,,1/M,,1/NM,,1/NM,,PMOL/KG,,/MILLE,,/MILLE,/MILLE,,/MILLE,,
33RO20130803,       A16N,      48,          1,         24,         24,2,20130815,       0755,    41.4988,   -19.9938,       2737,     3.2,  21.5784,  35.8897,2,  35.8912,2,    223.4,2,   224.8,2,    0.60,2,    0.10,2,    0.00,2,    0.03,2,   2.096,2,   1.287,2,   1.511,2,  2076.6,6,  2361.9,2,  -999.0,9, -999.00,   7.9933,2,    25.00, -999.00,9,  -999.0,9,  -999.0,   69.24,2,     3.9,2,      7.377,2,-999.0000,9,-999.0000,9,-999.0000,9,-999.0000,9,-999.0000,9,-999.0000,9,-999.0000,9,-999.0000,9,-999.0000,9,     -999.0,5,  -999.0,9,     -999.0,     -999.0,9,     -999.0,20130815,       0911
33RO20130803,       A16N,      48,          1,         23,         23,2,20130815,       0755,    41.4988,   -19.9938,       2737,    13.9,  21.0902,  35.8757,2,  35.8742,2,    224.6,2,   229.7,2,    0.60,2,    0.10,2,    0.00,2,    0.03,2,-999.000,9,-999.000,9,-999.000,9,  -999.0,9,  -999.0,9,  -999.0,9, -999.00,-999.0000,9,  -999.00, -999.00,9,  -999.0,9,  -999.0,   68.03,2,    3.23,2,     -999.0,9,-999.0000,9,-999.0000,9,-999.0000,9,-999.0000,9,-999.0000,9,-999.0000,9,-999.0000,9,-999.0000,9,-999.0000,9,     -999.0,9,  -999.0,9,     -999.0,     -999.0,9,     -999.0,20130815,       0909
33RO20130803,       A16N,      48,          1,         22,         22,2,20130815,       0755,    41.4988,   -19.9938,       2737,    30.2,  17.4488,  35.8045,2,  35.8054,2,    251.9,2,   253.1,2,    0.70,2,    0.10,2,    0.02,2,    0.06,2,-999.000,9,-999.000,9,-999.000,9,  2083.9,2,  2359.8,6,  -999.0,9, -999.00,   7.9765,2,    25.00, -999.00,9,  -999.0,9,  -999.0,   65.37,2,    3.75,2,     -999.0,9,-999.0000,9,-999.0000,9,-999.0000,9,-999.0000,9,-999.0000,9,-999.0000,9,-999.0000,9,-999.0000,9,-999.0000,9,     -999.0,9,  -999.0,9,     -999.0,     -999.0,9,     -999.0,20130815,       0907
33RO20130803,       A16N,      48,          1,         21,         21,2,20130815,       0755,    41.4988,   -19.9938,       2737,    60.1,  14.3440,  35.7767,2,  35.7803,2,    240.5,2,   240.4,2,    1.40,2,    3.90,2,    0.24,2,    0.27,2,-999.000,9,-999.000,9,-999.000,9,  2113.8,2,  2354.1,2,  -999.0,9, -999.00,   7.9060,2,    25.00, -999.00,9,  -999.0,9,  -999.0,   57.66,2,    7.16,2,     -999.0,9,-999.0000,9,-999.0000,9,-999.0000,9,-999.0000,9,-999.0000,9,-999.0000,9,-999.0000,9,-999.0000,9,-999.0000,9,     -999.0,9,  -999.0,9,     -999.0,     -999.0,9,     -999.0,20130815,       0905
33RO20130803,       A16N,      48,          1,         20,         20,2,20130815,       0755,    41.4988,   -19.9938,       2737,    83.1,  13.7184,  35.7658,2,  35.7659,2,    235.5,2,   234.7,2,    2.20,2,    6.30,2,    0.02,2,    0.39,2,-999.000,9,-999.000,9,-999.000,9,  -999.0,9,  -999.0,9,  -999.0,9, -999.00,-999.0000,9,  -999.00, -999.00,9,  -999.0,9,  -999.0,   56.13,2,    8.97,2,     -999.0,9,-999.0000,9,-999.0000,9,-999.0000,9,-999.0000,9,-999.0000,9,-999.0000,9,-999.0000,9,-999.0000,9,-999.0000,9,     -999.0,9,  -999.0,9,     -999.0,     -999.0,9,     -999.0,20130815,       0903
33RO20130803,       A16N,      48,          1,         19,         19,2,20130815,       0755,    41.4988,   -19.9938,       2737,   108.4,  13.5151,  35.7482,2,  35.7482,2,    235.3,2,   235.2,2,    2.50,2,    6.90,2,    0.02,2,    0.42,2,-999.000,9,-999.000,9,-999.000,9,  2126.0,2,  2351.0,2,  -999.0,9, -999.00,   7.8768,6,    25.00, -999.00,9,  -999.0,9,  -999.0,   55.36,2,    9.78,2,     -999.0,9,-999.0000,9,-999.0000,9,-999.0000,9,-999.0000,9,-999.0000,9,-999.0000,9,-999.0000,9,-999.0000,9,-999.0000,9,     -999.0,9,  -999.0,9,     -999.0,     -999.0,9,     -999.0,20130815,       0901
33RO20130803,       A16N,      48,          1,         18,         18,2,20130815,       0755,    41.4988,   -19.9938,       2737,   134.2,  13.2808,  35.7219,2,  35.7207,2,    235.5,2,   235.2,2,    2.80,2,    7.40,2,    0.01,2,    0.46,2,   2.822,2,   1.662,2,   1.786,2,  -999.0,9,  -999.0,9,  -999.0,9, -999.00,-999.0000,9,  -999.00, -999.00,9,  -999.0,9,  -999.0,   54.28,2,   10.14,2,     10.059,2,-999.0000,9,-999.0000,9,-999.0000,9,-999.0000,9,-999.0000,9,-999.0000,9,-999.0000,9,-999.0000,9,-999.0000,9,     -999.0,5,  -999.0,9,     -999.0,     -999.0,9,     -999.0,20130815,       0859
33RO20130803,       A16N,      48,          1,         17,         17,2,20130815,       0755,    41.4988,   -19.9938,       2737,   159.4,  13.0372,  35.6897,2,  35.6887,2,    236.1,2,     235,2,    2.90,2,    7.80,2,    0.01,2,    0.48,2,-999.000,9,-999.000,9,-999.000,9,  -999.0,9,  -999.0,9,  -999.0,9, -999.00,-999.0000,9,  -999.00, -999.00,9,  -999.0,9,  -999.0,   53.64,2,    10.3,2,     -999.0,9,-999.0000,9,-999.0000,9,-999.0000,9,-999.0000,9,-999.0000,9,-999.0000,9,-999.0000,9,-999.0000,9,-999.0000,9,     -999.0,9,  -999.0,9,     -999.0,     -999.0,9,     -999.0,20130815,       0857
33RO20130803,       A16N,      48,          1,         16,         16,2,20130815,       0755,    41.4988,   -19.9938,       2737,   182.4,  12.8510,  35.6646,2,  35.6648,2,    236.1,2,     236,2,    3.00,2,    8.00,2,    0.01,2,    0.50,2,-999.000,9,-999.000,9,-999.000,9,  2130.0,2,  2344.0,2,  -999.0,9, -999.00,   7.8619,2,    25.00, -999.00,9,  -999.0,9,  -999.0,   52.64,2,   10.38,2,     -999.0,9,-999.0000,9,-999.0000,9,-999.0000,9,-999.0000,9,-999.0000,9,-999.0000,9,-999.0000,9,-999.0000,9,-999.0000,9,     -999.0,9,  -999.0,9,     -999.0,     -999.0,9,     -999.0,20130815,       0856
33RO20130803,       A16N,      48,          1,         15,         15,2,20130815,       0755,    41.4988,   -19.9938,       2737,   221.0,  12.7989,  35.6694,2,  35.6607,2,    240.0,2,   235.8,2,    3.00,2,    8.10,2,    0.01,2,    0.50,2,-999.000,9,-999.000,9,-999.000,9,  -999.0,9,  -999.0,9,  -999.0,9, -999.00,-999.0000,9,  -999.00, -999.00,9,  -999.0,9,  -999.0,   52.18,2,   10.29,2,     -999.0,9,-999.0000,9,-999.0000,9,-999.0000,9,-999.0000,9,-999.0000,9,-999.0000,9,-999.0000,9,-999.0000,9,-999.0000,9,     -999.0,9,  -999.0,9,     -999.0,     -999.0,9,     -999.0,20130815,       0854
33RO20130803,       A16N,      48,          1,         14,         14,2,20130815,       0755,    41.4988,   -19.9938,       2737,   282.0,  12.4528,  35.6156,2,  35.6155,2,    232.9,2,     232,2,    3.60,2,    9.20,2,    0.01,2,    0.57,2,   2.894,2,   1.682,2,   1.757,2,  2134.6,2,  2343.0,2,  -999.0,9, -999.00,   7.8424,2,    25.00, -999.00,9,  -999.0,9,  -999.0,   51.13,2,   11.71,2,     11.041,2,-999.0000,9,-999.0000,9,-999.0000,9,-999.0000,9,-999.0000,9,-999.0000,9,-999.0000,9,-999.0000,9,-999.0000,9,     -999.0,5,  -999.0,9,     -999.0,     -999.0,9,     -999.0,20130815,       0852
33RO20130803,       A16N,      48,          1,         13,         13,2,20130815,       0755,    41.4988,   -19.9938,       2737,   348.4,  12.3573,  35.6410,2,  35.6405,2,    223.8,2,   223.6,2,    3.90,2,   10.30,2,    0.01,2,    0.63,2,   2.883,2,   1.668,2,   1.674,2,  -999.0,9,  -999.0,9,  -999.0,9, -999.00,-999.0000,9,  -999.00, -999.00,9,  -999.0,9,  -999.0,    50.5,2,   12.69,2,     11.803,2,-999.0000,9,-999.0000,9,-999.0000,9,-999.0000,9,-999.0000,9,-999.0000,9,-999.0000,9,-999.0000,9,-999.0000,9,     -999.0,5,  -999.0,9,     -999.0,     -999.0,9,     -999.0,20130815,       0849
33RO20130803,       A16N,      48,          1,         12,         12,2,20130815,       0755,    41.4988,   -19.9938,       2737,   410.3,  12.1721,  35.6454,2,  35.6457,2,    223.0,2,   221.9,2,    4.00,2,   10.70,2,    0.01,2,    0.66,2,   2.902,2,   1.678,2,   1.613,2,  2145.6,2,  2341.6,2,  -999.0,9, -999.00,   7.8183,2,    25.00, -999.00,9,  -999.0,9,  -999.0,   49.84,2,   13.07,2,     12.109,2,-999.0000,9,-999.0000,9,-999.0000,9,-999.0000,9,-999.0000,9,-999.0000,9,-999.0000,9,-999.0000,9,-999.0000,9,     -999.0,5,  -999.0,9,     -999.0,     -999.0,9,     -999.0,20130815,       0847
33RO20130803,       A16N,      48,          1,         11,         11,2,20130815,       0755,    41.4988,   -19.9938,       2737,   503.1,  11.8954,  35.6281,2,  35.6277,2,    219.9,2,   219.1,2,    4.30,2,   11.60,2,    0.01,2,    0.71,2,-999.000,9,-999.000,9,-999.000,9,  -999.0,9,  -999.0,9,  -999.0,9, -999.00,-999.0000,9,  -999.00, -999.00,9,  -999.0,9,  -999.0,   49.24,2,   14.02,2,     -999.0,9,-999.0000,9,-999.0000,9,-999.0000,9,-999.0000,9,-999.0000,9,-999.0000,9,-999.0000,9,-999.0000,9,-999.0000,9,     -999.0,9,  -999.0,9,     -999.0,     -999.0,9,     -999.0,20130815,       0844
33RO20130803,       A16N,      48,          1,         10,         10,2,20130815,       0755,    41.4988,   -19.9938,       2737,   596.5,  11.1491,  35.5309,2,  35.5298,2,    212.7,2,   211.6,2,    5.60,2,   13.50,2,    0.01,2,    0.84,2,-999.000,9,-999.000,9,-999.000,9,  2157.7,2,  2340.6,6,  -999.0,9, -999.00,   7.7853,2,    25.00, -999.00,9,  -999.0,9,  -999.0,   48.58,2,   16.05,2,     -999.0,9,-999.0000,9,-999.0000,9,-999.0000,9,-999.0000,9,-999.0000,9,-999.0000,9,-999.0000,9,-999.0000,9,-999.0000,9,     -999.0,9,  -999.0,9,     -999.0,     -999.0,9,     -999.0,20130815,       0841
33RO20130803,       A16N,      48,          1,          9,          9,2,20130815,       0755,    41.4988,   -19.9938,       2737,   716.1,  10.3129,  35.4787,2,  35.4924,2,    189.4,2,   188.9,2,    8.30,2,   16.80,2,    0.00,2,    1.05,2,-999.000,9,-999.000,9,-999.000,9,  2175.8,6,  2339.1,2,  -999.0,9, -999.00,   7.7506,2,    25.00, -999.00,9,  -999.0,9,  -999.0,   47.88,2,   19.79,2,     -999.0,9,-999.0000,9,-999.0000,9,-999.0000,9,-999.0000,9,-999.0000,9,-999.0000,9,-999.0000,9,-999.0000,9,-999.0000,9,     -999.0,9,  -999.0,9,     -999.0,     -999.0,9,     -999.0,20130815,       0838
33RO20130803,       A16N,      48,          1,          8,          8,2,20130815,       0755,    41.4988,   -19.9938,       2737,   805.3,  10.0697,  35.5453,2,  35.5448,2,    183.7,2,   183.1,2,    9.30,2,   17.50,2,    0.00,2,    1.10,2,-999.000,9,-999.000,9,-999.000,9,  2183.4,2,  2345.7,2,  -999.0,9, -999.00,   7.7406,6,    25.00, -999.00,9,  -999.0,9,  -999.0,    46.9,2,   20.23,2,     -999.0,9,-999.0000,9,-999.0000,9,-999.0000,9,-999.0000,9,-999.0000,9,-999.0000,9,-999.0000,9,-999.0000,9,-999.0000,9,     -999.0,9,  -999.0,9,     -999.0,     -999.0,9,     -999.0,20130815,       0836
33RO20130803,       A16N,      48,          1,          7,          7,2,20130815,       0755,    41.4988,   -19.9938,       2737,  1017.2,   9.0181,  35.6450,2,  35.6465,2,    190.4,2,   191.3,2,   10.80,2,   17.80,2,    0.00,2,    1.11,2,   2.016,6,   1.067,6,   0.574,6,  -999.0,9,  -999.0,9,  -999.0,9, -999.00,-999.0000,9,  -999.00, -999.00,9,  -999.0,9,  -999.0,   46.07,2,   20.36,2,     15.700,6,-999.0000,9,-999.0000,9,-999.0000,9,-999.0000,9,-999.0000,9,-999.0000,9,-999.0000,9,-999.0000,9,-999.0000,9,     -999.0,5,  -999.0,9,     -999.0,     -999.0,9,     -999.0,20130815,       0831
33RO20130803,       A16N,      48,          1,          6,          6,2,20130815,       0755,    41.4988,   -19.9938,       2737,  1169.6,   7.8712,  35.5282,2,  35.5292,2,    205.8,2,   206.8,2,   11.30,2,   17.80,2,    0.00,2,    1.12,2,-999.000,9,-999.000,9,-999.000,9,  -999.0,9,  -999.0,9,  -999.0,9, -999.00,-999.0000,9,  -999.00, -999.00,9,  -999.0,9,  -999.0,   45.61,2,   20.49,2,     -999.0,9,-999.0000,9,-999.0000,9,-999.0000,9,-999.0000,9,-999.0000,9,-999.0000,9,-999.0000,9,-999.0000,9,-999.0000,9,     -999.0,9,  -999.0,9,     -999.0,     -999.0,9,     -999.0,20130815,       0827
33RO20130803,       A16N,      48,          1,          5,          5,2,20130815,       0755,    41.4988,   -19.9938,       2737,  1346.9,   6.0531,  35.2704,2,  35.2698,2,    228.8,2,   231.6,2,   11.60,6,   17.90,6,    0.00,6,    1.14,6,   2.591,2,   1.328,2,   0.693,2,  -999.0,9,  -999.0,9,  -999.0,9, -999.00,-999.0000,9,  -999.00, -999.00,9,  -999.0,9,  -999.0,   44.92,2,    20.6,2,     14.792,2,-999.0000,9,-999.0000,9,-999.0000,9,-999.0000,9,-999.0000,9,-999.0000,9,-999.0000,9,-999.0000,9,-999.0000,9,     -999.0,5,  -999.0,9,     -999.0,     -999.0,9,     -999.0,20130815,       0822
33RO20130803,       A16N,      48,          1,          4,          4,2,20130815,       0755,    41.4988,   -19.9938,       2737,  1716.9,   4.1689,  34.9985,2,  35.0006,2,    260.0,2,   259.5,2,   12.40,6,   17.70,6,    0.00,6,    1.16,6,-999.000,9,-999.000,9,-999.000,9,  2166.1,2,  2314.0,2,  -999.0,9, -999.00,   7.7160,2,    25.00, -999.00,9,  -999.0,9,  -999.0,   43.27,2,   20.56,2,     -999.0,9,-999.0000,9,-999.0000,9,-999.0000,9,-999.0000,9,-999.0000,9,-999.0000,9,-999.0000,9,-999.0000,9,-999.0000,9,     -999.0,9,  -999.0,9,     -999.0,     -999.0,9,     -999.0,20130815,       0815
33RO20130803,       A16N,      48,          1,          3,          3,2,20130815,       0755,    41.4988,   -19.9938,       2737,  2297.8,   3.3396,  34.9478,2,  34.9479,2,    264.6,2,     264,2,   17.30,6,   18.00,6,    0.00,6,    1.19,6,-999.000,9,-999.000,9,-999.000,9,  -999.0,9,  -999.0,9,  -999.0,9, -999.00,-999.0000,9,  -999.00, -999.00,9,  -999.0,9,  -999.0,   42.94,2,   20.61,2,     -999.0,9,-999.0000,9,-999.0000,9,-999.0000,9,-999.0000,9,-999.0000,9,-999.0000,9,-999.0000,9,-999.0000,9,-999.0000,9,     -999.0,9,  -999.0,9,     -999.0,     -999.0,9,     -999.0,20130815,       0804
33RO20130803,       A16N,      48,          1,          2,          2,2,20130815,       0755,    41.4988,   -19.9938,       2737,  2769.3,   2.9320,  34.9424,2,  34.9451,2,    254.8,2,   254.5,2,   27.20,6,   19.30,6,    0.00,6,    1.28,6,-999.000,9,-999.000,9,-999.000,9,  -999.0,9,  -999.0,9,  -999.0,9, -999.00,-999.0000,9,  -999.00, -999.00,9,  -999.0,9,  -999.0,   42.66,2,   21.46,2,     -999.0,9,-999.0000,9,-999.0000,9,-999.0000,9,-999.0000,9,-999.0000,9,-999.0000,9,-999.0000,9,-999.0000,9,-999.0000,9,     -999.0,9,  -999.0,9,     -999.0,     -999.0,9,     -999.0,20130815,       0755
33RO20130803,       A16N,      48,          1,          1,          1,2,20130815,       0755,    41.4988,   -19.9938,       2737,  2769.2,   2.9330,  34.9426,2,  34.9418,2,    254.8,2,   254.3,2,   27.20,6,   19.30,6,    0.00,6,    1.29,6,   0.980,2,   0.480,2,   0.198,2,  2179.4,2,  2332.2,6,  -999.0,9, -999.00,   7.7340,2,    25.00, -999.00,9,  -999.0,9,  -999.0,   42.57,2,   21.81,2,     13.798,2,-999.0000,9,-999.0000,9,-999.0000,9,-999.0000,9,-999.0000,9,-999.0000,9,-999.0000,9,-999.0000,9,-999.0000,9,     -999.0,5,  -999.0,9,     -999.0,     -999.0,9,     -999.0,20130815,       0755