BOTTLE,20220815CCHSIOAMB
EXPOCODE,SECT_ID,STNNBR,CASTNO,SAMPNO,BTLNBR,BTLNBR_FLAG_W,DATE,TIME,LATITUDE,LONGITUDE,DEPTH,CTDPRS,CTDTMP,CTDSAL,CTDSAL_FLAG_W,SALNTY,SALNTY_FLAG_W,CTDOXY,CTDOXY_FLAG_W,OXYGEN,OXYGEN_FLAG_W,SILCAT,SILCAT_FLAG_W,NITRAT,NITRAT_FLAG_W,NITRIT,NITRIT_FLAG_W,PHSPHT,PHSPHT_FLAG_W,CFC-11,CFC-11_FLAG_W,CFC-12,CFC-12_FLAG_W,SF6,SF6_FLAG_W,TCARBN,TCARBN_FLAG_W,ALKALI,ALKALI_FLAG_W,PCO2,PCO2_FLAG_W,PCO2TMP,PH_SWS,PH_SWS_FLAG_W,PH_TMP,DELC13,DELC13_FLAG_W,DELC14,DELC14_FLAG_W,C14ERR,DOC,DOC_FLAG_W,TDN,TDN_FLAG_W,N2O,N2O_FLAG_W,CDOM325,CDOM325_FLAG_W,CDOM340,CDOM340_FLAG_W,CDOM380,CDOM380_FLAG_W,CDOM412,CDOM412_FLAG_W,CDOM443,CDOM443_FLAG_W,CDOM490,CDOM490_FLAG_W,CDOM555,CDOM555_FLAG_W,CDOMSL,CDOMSL_FLAG_W,CDOMSN,CDOMSN_FLAG_W,CCL4,CCL4_FLAG_W,14C-DOC,14C-DOC_FLAG_W,14C-DOCERR,13C-DOC,13C-DOC_FLAG_W,13C-DOCERR,BTL_DATE,BTL_TIME
,,,,,,,,,,,METERS,DBAR,ITS-90,PSS-78,,PSS-78,,UMOL/KG,,UMOL/KG,,UMOL/KG,,UMOL/KG,,UMOL/KG,,UMOL/KG,,PMOL/KG,,PMOL/KG,,FMOL/KG,,UMOL/KG,,UMOL/KG,,UATM,,DEG C,,,DEG C,/MILLE,,/MILLE,,/MILLE,UMOL/KG,,UMOL/KG,,NMOL/KG,,1/M,,1/M,,1/M,,1/M,,1/M,,1/M,,1/M,,1/NM,,1/NM,,PMOL/KG,,/MILLE,,/MILLE,/MILLE,,/MILLE,,
33RO20130803,       A16N,      23,          1,         22,         22,2,20130808,       1223,    53.9986,   -19.9983,       1419,     3.9,  15.5249,  35.3211,2,  35.3209,2,    256.2,2,   258.3,2,    0.20,2,    0.20,2,    0.01,2,    0.08,2,   2.661,6,   1.579,6,   1.876,6,  2060.8,2,  2335.6,2,   382.7,2,      20,   7.9794,2,    25.00, -999.00,9,  -999.0,9,  -999.0, -999.00,9, -999.00,9,      8.708,6,   0.2600,2,   0.1924,2,   0.0887,2,   0.0593,2,   0.0339,2,   0.0195,2,   0.0030,2,   0.0189,2,   0.0198,2,     -999.0,5,  -999.0,9,     -999.0,     -999.0,9,     -999.0,20130808,       1314
33RO20130803,       A16N,      23,          1,         21,         21,2,20130808,       1223,    53.9986,   -19.9983,       1419,    21.0,  14.0226,  35.2870,2,  35.1659,4,    266.9,2,   266.4,2,    0.20,2,    1.10,2,    0.03,2,    0.14,2,   2.819,2,   1.674,2,   1.904,2,  2072.2,6,  2332.0,2,   406.8,2,      20,   8.4322,4,    25.00, -999.00,9,  -999.0,9,  -999.0, -999.00,9, -999.00,9,      9.056,2,   0.2374,2,   0.1759,2,   0.0826,2,   0.0558,2,   0.0313,2,   0.0181,2,   0.0024,2,   0.0186,2,   0.0194,2,     -999.0,5,  -999.0,9,     -999.0,     -999.0,9,     -999.0,20130808,       1312
33RO20130803,       A16N,      23,          1,         20,         20,2,20130808,       1223,    53.9986,   -19.9983,       1419,    41.6,  12.5199,  35.2971,2,  35.2983,2,    259.8,2,   261.7,2,    0.30,2,    4.70,2,    0.16,2,    0.41,2,   3.095,2,   1.811,2,   1.996,2,  2111.3,2,  2331.3,6,   502.2,2,      20,   7.8812,2,    25.00, -999.00,9,  -999.0,9,  -999.0, -999.00,9, -999.00,9,      9.743,2,   0.1368,2,   0.0994,2,   0.0471,2,   0.0336,2,   0.0167,2,   0.0101,2,  -0.0009,4,   0.0186,2,   0.0200,2,     -999.0,5,  -999.0,9,     -999.0,     -999.0,9,     -999.0,20130808,       1311
33RO20130803,       A16N,      23,          1,         19,         19,2,20130808,       1223,    53.9986,   -19.9983,       1419,    62.8,  11.8157,  35.3051,2,  35.3074,2,    257.6,2,   259.1,2,    0.70,2,    6.20,2,    0.42,2,    0.50,2,   3.157,2,   1.846,2,   2.009,2,  2120.0,2,  2329.4,2,   532.5,2,      20,   7.8587,2,    25.00, -999.00,9,  -999.0,9,  -999.0, -999.00,9, -999.00,9,     10.064,2,   0.1430,2,   0.1034,2,   0.0479,2,   0.0347,2,   0.0167,2,   0.0099,2,  -0.0010,4,   0.0190,2,   0.0204,2,     -999.0,5,  -999.0,9,     -999.0,     -999.0,9,     -999.0,20130808,       1309
33RO20130803,       A16N,      23,          1,         18,         18,2,20130808,       1223,    53.9986,   -19.9983,       1419,    79.2,  11.1532,  35.3110,2,  35.3109,2,    255.2,2,   254.7,2,    1.50,2,    8.80,2,    0.27,2,    0.59,2,   3.202,2,   1.859,2,   2.044,2,  2129.5,2,  2326.2,2,   566.1,2,      20,   7.8326,2,    25.00, -999.00,9,  -999.0,9,  -999.0, -999.00,9, -999.00,9,     10.595,2,   0.1459,2,   0.1064,2,   0.0499,2,   0.0371,2,   0.0186,2,   0.0112,3,  -0.0004,4,   0.0185,2,   0.0199,2,     -999.0,5,  -999.0,9,     -999.0,     -999.0,9,     -999.0,20130808,       1307
33RO20130803,       A16N,      23,          1,         17,         17,2,20130808,       1223,    53.9986,   -19.9983,       1419,   103.0,  10.8754,  35.3110,2,  35.3075,2,    253.4,2,   251.9,2,    2.40,2,    9.80,2,    0.01,2,    0.64,2,   3.193,2,   1.857,2,   2.022,2,  2132.8,2,  2328.6,2,   580.9,2,      20,   7.8240,2,    25.00, -999.00,9,  -999.0,9,  -999.0, -999.00,9, -999.00,9,     10.783,2,   0.1425,2,   0.1024,2,   0.0475,2,   0.0369,2,   0.0188,2,   0.0116,2,  -0.0001,4,   0.0187,2,   0.0205,2,     -999.0,5,  -999.0,9,     -999.0,     -999.0,9,     -999.0,20130808,       1305
33RO20130803,       A16N,      23,          1,         16,         16,2,20130808,       1223,    53.9986,   -19.9983,       1419,   126.4,  10.6448,  35.2837,2,  35.2829,2,    251.1,2,   250.8,2,    2.80,2,   10.20,2,    0.01,2,    0.67,2,   3.162,2,   1.857,2,   1.968,2,  2135.2,2,  2326.6,2,   591.1,2,      20,   7.8164,2,    25.00, -999.00,9,  -999.0,9,  -999.0, -999.00,9, -999.00,9,     10.891,2,   0.1400,2,   0.0987,2,   0.0419,2,   0.0311,2,   0.0149,2,   0.0091,4,  -0.0007,4,   0.0207,2,   0.0225,2,     -999.0,5,  -999.0,9,     -999.0,     -999.0,9,     -999.0,20130808,       1304
33RO20130803,       A16N,      23,          1,         15,         15,2,20130808,       1223,    53.9986,   -19.9983,       1419,   152.4,  10.4960,  35.2697,2,  35.2665,2,    251.2,2,   250.1,2,    3.00,2,   10.50,2,    0.01,2,    0.69,2,   3.201,2,   1.864,2,   2.035,2,  2136.6,2,  2322.0,2,   598.7,2,      20,   7.8118,2,    25.00, -999.00,9,  -999.0,9,  -999.0, -999.00,9, -999.00,9,     11.064,2,-999.0000,5,-999.0000,5,-999.0000,5,-999.0000,5,-999.0000,5,-999.0000,5,-999.0000,5,-999.0000,5,-999.0000,5,     -999.0,5,  -999.0,9,     -999.0,     -999.0,9,     -999.0,20130808,       1302
33RO20130803,       A16N,      23,          1,         14,         14,2,20130808,       1223,    53.9986,   -19.9983,       1419,   176.9,  10.3681,  35.2559,2,  35.2547,2,    250.3,2,   248.5,2,    3.40,2,   10.90,2,    0.01,2,    0.72,2,   3.162,2,   1.847,2,   1.918,2,  2138.4,2,  2323.6,2,   606.5,2,      20,   7.8088,2,    25.00, -999.00,9,  -999.0,9,  -999.0, -999.00,9, -999.00,9,     11.303,2,   0.1449,2,   0.1029,2,   0.0450,2,   0.0335,2,   0.0155,2,   0.0089,3,  -0.0014,4,   0.0201,2,   0.0218,2,     -999.0,5,  -999.0,9,     -999.0,     -999.0,9,     -999.0,20130808,       1300
33RO20130803,       A16N,      23,          1,         13,         13,2,20130808,       1223,    53.9986,   -19.9983,       1419,   200.2,  10.3041,  35.2554,2,  35.2543,2,    249.1,2,   248.1,2,    3.50,2,   11.10,2,    0.01,2,    0.73,2,   3.203,2,   1.842,2,   2.038,2,  2139.4,2,  2324.0,2,   611.0,2,      20,   7.8031,2,    25.00, -999.00,9,  -999.0,9,  -999.0, -999.00,9, -999.00,9,     11.410,2,   0.1477,2,   0.1065,2,   0.0515,2,   0.0364,2,   0.0174,2,   0.0098,2,  -0.0012,4,   0.0182,2,   0.0197,2,     -999.0,5,  -999.0,9,     -999.0,     -999.0,9,     -999.0,20130808,       1258
33RO20130803,       A16N,      23,          1,         12,         12,2,20130808,       1223,    53.9986,   -19.9983,       1419,   223.9,  10.0606,  35.2251,2,  35.2237,2,    247.3,2,   246.1,2,    3.90,2,   11.70,2,    0.01,2,    0.77,2,   3.157,2,   1.835,2,   1.898,2,  2142.5,2,  2317.1,2,   625.5,2,      20,   7.7950,2,    25.00, -999.00,9,  -999.0,9,  -999.0, -999.00,9, -999.00,9,     11.784,2,   0.1559,2,   0.1112,2,   0.0517,2,   0.0359,2,   0.0167,2,   0.0092,3,  -0.0011,4,   0.0191,2,   0.0207,2,     -999.0,5,  -999.0,9,     -999.0,     -999.0,9,     -999.0,20130808,       1256
33RO20130803,       A16N,      23,          1,         11,         11,2,20130808,       1223,    53.9986,   -19.9983,       1419,   250.0,  10.0829,  35.2603,2,  35.2604,2,    244.1,2,   243.5,2,    4.20,2,   12.10,2,    0.01,2,    0.79,2,   3.133,2,   1.803,2,   1.933,2,  2143.3,2,  2323.6,2,   631.2,2,      20,   7.7914,2,    25.00, -999.00,9,  -999.0,9,  -999.0, -999.00,9, -999.00,9,     12.114,2,   0.1424,2,   0.1005,2,   0.0439,2,   0.0326,2,   0.0153,2,   0.0086,3,  -0.0013,4,   0.0202,2,   0.0221,2,     -999.0,5,  -999.0,9,     -999.0,     -999.0,9,     -999.0,20130808,       1255
33RO20130803,       A16N,      23,          1,         10,         10,2,20130808,       1223,    53.9986,   -19.9983,       1419,   302.0,   9.7245,  35.2373,2,  35.2397,2,    230.9,2,   229.5,2,    6.00,2,   13.90,2,    0.00,2,    0.91,2,   2.983,2,   1.716,2,   1.681,2,  2152.8,2,  2320.7,6,   672.0,2,      20,   7.7699,2,    25.00, -999.00,9,  -999.0,9,  -999.0, -999.00,9, -999.00,9,     13.397,2,   0.1628,2,   0.1156,2,   0.0519,2,   0.0389,2,   0.0203,2,   0.0118,2,   0.0004,4,   0.0195,2,   0.0213,2,     -999.0,5,  -999.0,9,     -999.0,     -999.0,9,     -999.0,20130808,       1253
33RO20130803,       A16N,      23,          1,          9,          9,2,20130808,       1223,    53.9986,   -19.9983,       1419,   380.2,   8.9041,  35.1452,2,  35.1474,2,    213.9,2,   213.7,2,    8.30,2,   16.40,2,    0.00,2,    1.07,2,   2.838,2,   1.606,2,   1.482,2,  2162.5,2,  2318.1,2,   737.5,2,      20,   7.7307,6,    25.00, -999.00,9,  -999.0,9,  -999.0, -999.00,9, -999.00,9,     15.184,2,   0.1461,2,   0.1026,2,   0.0455,2,   0.0327,2,   0.0152,2,   0.0083,3,  -0.0016,4,   0.0201,2,   0.0219,2,     -999.0,5,  -999.0,9,     -999.0,     -999.0,9,     -999.0,20130808,       1250
33RO20130803,       A16N,      23,          1,          8,          8,2,20130808,       1223,    53.9986,   -19.9983,       1419,   438.1,   8.0958,  35.0924,2,  35.0907,2,    203.0,2,   204.3,2,    9.90,2,   18.30,2,    0.01,2,    1.20,2,   2.727,2,   1.507,2,   1.269,2,  2175.1,6,  2313.4,2,   792.0,2,      20,   7.7019,2,    25.00, -999.00,9,  -999.0,9,  -999.0, -999.00,9, -999.00,9,     16.558,2,   0.1725,2,   0.1225,2,   0.0546,2,   0.0399,2,   0.0208,2,   0.0122,2,   0.0006,3,   0.0197,2,   0.0215,2,     -999.0,5,  -999.0,9,     -999.0,     -999.0,9,     -999.0,20130808,       1248
33RO20130803,       A16N,      23,          1,          7,          7,2,20130808,       1223,    53.9986,   -19.9983,       1419,   529.6,   7.4006,  35.1366,2,  35.1363,2,    205.9,2,   205.8,2,   10.80,2,   18.70,2,    0.00,2,    1.23,2,   2.688,2,   1.458,2,   1.152,2,  2179.6,2,  2318.3,2,   805.4,2,      20,   7.6991,2,    25.00, -999.00,9,  -999.0,9,  -999.0, -999.00,9, -999.00,9,     16.309,2,   0.1576,2,   0.1113,2,   0.0509,2,   0.0345,2,   0.0164,2,   0.0088,3,  -0.0014,4,   0.0197,2,   0.0213,2,     -999.0,5,  -999.0,9,     -999.0,     -999.0,9,     -999.0,20130808,       1245
33RO20130803,       A16N,      23,          1,          6,          6,2,20130808,       1223,    53.9986,   -19.9983,       1419,   603.4,   6.7213,  35.1095,2,  35.1083,2,    214.9,2,   216.4,3,   11.00,2,   18.70,2,    0.00,2,    1.23,2,   2.797,2,   1.509,2,   1.130,2,  2179.6,2,  2317.4,2,   806.2,2,      20,   7.6952,2,    25.00, -999.00,9,  -999.0,9,  -999.0, -999.00,9, -999.00,9,     15.870,2,   0.1613,2,   0.1142,2,   0.0492,2,   0.0363,2,   0.0178,2,   0.0101,2,  -0.0007,4,   0.0204,2,   0.0222,2,     -999.0,5,  -999.0,9,     -999.0,     -999.0,9,     -999.0,20130808,       1243
33RO20130803,       A16N,      23,          1,          5,          5,2,20130808,       1223,    53.9986,   -19.9983,       1419,   707.6,   6.3714,  35.1457,2,  35.1541,2,    221.7,2,   221.3,2,   11.10,2,   18.40,2,    0.00,2,    1.21,2,   2.814,2,   1.516,2,   1.051,2,  2179.5,2,  2313.2,2,   801.0,6,      20,   7.7004,2,    25.00, -999.00,9,  -999.0,9,  -999.0, -999.00,9, -999.00,9,     15.344,2,   0.1395,2,   0.0970,2,   0.0421,2,   0.0304,2,   0.0141,2,   0.0077,3,  -0.0018,4,   0.0207,2,   0.0226,2,     -999.0,5,  -999.0,9,     -999.0,     -999.0,9,     -999.0,20130808,       1240
33RO20130803,       A16N,      23,          1,          4,          4,2,20130808,       1223,    53.9986,   -19.9983,       1419,   864.6,   5.3142,  35.0491,2,  35.0481,2,    240.5,2,     242,2,   10.90,6,   18.10,6,    0.00,6,    1.19,6,   3.238,2,   1.726,2,   1.182,2,  2174.4,2,  2317.7,2,   804.0,2,      20,   7.6983,2,    25.00, -999.00,9,  -999.0,9,  -999.0, -999.00,9, -999.00,9,     14.752,2,   0.1480,2,   0.1024,2,   0.0447,2,   0.0321,2,   0.0151,2,   0.0083,3,  -0.0014,4,   0.0206,2,   0.0226,2,     -999.0,5,  -999.0,9,     -999.0,     -999.0,9,     -999.0,20130808,       1236
33RO20130803,       A16N,      23,          1,          3,          3,2,20130808,       1223,    53.9986,   -19.9983,       1419,  1038.1,   4.5217,  34.9677,2,  34.9659,2,    260.0,2,   259.8,2,   10.60,6,   17.60,6,    0.00,6,    1.16,6,   3.599,6,   1.915,6,   1.288,6,  2170.2,2,  2305.5,2,   799.9,2,      20,   7.8581,4,    25.00, -999.00,9,  -999.0,9,  -999.0, -999.00,9, -999.00,9,     14.220,6,   0.1508,2,   0.1025,2,   0.0456,2,   0.0313,2,   0.0138,2,   0.0071,3,  -0.0020,4,   0.0207,2,   0.0229,2,     -999.0,5,  -999.0,9,     -999.0,     -999.0,9,     -999.0,20130808,       1232
33RO20130803,       A16N,      23,          1,          2,          2,2,20130808,       1223,    53.9986,   -19.9983,       1419,  1223.4,   4.1855,  34.9555,2,  34.9541,2,    264.1,2,   264.2,2,   11.30,6,   17.40,6,    0.00,6,    1.15,6,   3.478,2,   1.812,2,   1.194,2,  2168.7,6,  2309.7,2,   790.6,2,      20,   7.7056,2,    25.00, -999.00,9,  -999.0,9,  -999.0, -999.00,9, -999.00,9,     13.946,2,   0.1518,2,   0.1035,2,   0.0454,2,   0.0320,2,   0.0145,2,   0.0076,3,  -0.0020,4,   0.0208,2,   0.0230,2,     -999.0,5,  -999.0,9,     -999.0,     -999.0,9,     -999.0,20130808,       1228
33RO20130803,       A16N,      23,          1,          1,          1,2,20130808,       1223,    53.9986,   -19.9983,       1419,  1419.1,   3.8006,  34.9430,2,  34.9481,2,    267.6,2,   265.8,2,   13.10,6,   17.40,6,    0.01,6,    1.16,6,   3.132,2,   1.592,2,   0.861,2,  2166.9,2,  -999.0,5,   779.8,2,      20,   7.7105,2,    25.00, -999.00,9,  -999.0,9,  -999.0, -999.00,9, -999.00,9,     13.630,2,   0.1407,3,   0.0987,3,   0.0474,3,   0.0305,3,   0.0130,3,   0.0066,4,  -0.0023,4,   0.0193,3,   0.0208,3,     -999.0,5,  -999.0,9,     -999.0,     -999.0,9,     -999.0,20130808,       1223