BOTTLE,20220815CCHSIOAMB
EXPOCODE,SECT_ID,STNNBR,CASTNO,SAMPNO,BTLNBR,BTLNBR_FLAG_W,DATE,TIME,LATITUDE,LONGITUDE,DEPTH,CTDPRS,CTDTMP,CTDSAL,CTDSAL_FLAG_W,SALNTY,SALNTY_FLAG_W,CTDOXY,CTDOXY_FLAG_W,OXYGEN,OXYGEN_FLAG_W,SILCAT,SILCAT_FLAG_W,NITRAT,NITRAT_FLAG_W,NITRIT,NITRIT_FLAG_W,PHSPHT,PHSPHT_FLAG_W,CFC-11,CFC-11_FLAG_W,CFC-12,CFC-12_FLAG_W,SF6,SF6_FLAG_W,TCARBN,TCARBN_FLAG_W,ALKALI,ALKALI_FLAG_W,PCO2,PCO2_FLAG_W,PCO2TMP,PH_SWS,PH_SWS_FLAG_W,PH_TMP,DELC13,DELC13_FLAG_W,DELC14,DELC14_FLAG_W,C14ERR,DOC,DOC_FLAG_W,TDN,TDN_FLAG_W,N2O,N2O_FLAG_W,CDOM325,CDOM325_FLAG_W,CDOM340,CDOM340_FLAG_W,CDOM380,CDOM380_FLAG_W,CDOM412,CDOM412_FLAG_W,CDOM443,CDOM443_FLAG_W,CDOM490,CDOM490_FLAG_W,CDOM555,CDOM555_FLAG_W,CDOMSL,CDOMSL_FLAG_W,CDOMSN,CDOMSN_FLAG_W,CCL4,CCL4_FLAG_W,14C-DOC,14C-DOC_FLAG_W,14C-DOCERR,13C-DOC,13C-DOC_FLAG_W,13C-DOCERR,BTL_DATE,BTL_TIME
,,,,,,,,,,,METERS,DBAR,ITS-90,PSS-78,,PSS-78,,UMOL/KG,,UMOL/KG,,UMOL/KG,,UMOL/KG,,UMOL/KG,,UMOL/KG,,PMOL/KG,,PMOL/KG,,FMOL/KG,,UMOL/KG,,UMOL/KG,,UATM,,DEG C,,,DEG C,/MILLE,,/MILLE,,/MILLE,UMOL/KG,,UMOL/KG,,NMOL/KG,,1/M,,1/M,,1/M,,1/M,,1/M,,1/M,,1/M,,1/NM,,1/NM,,PMOL/KG,,/MILLE,,/MILLE,/MILLE,,/MILLE,,
33RO20130803,       A16N,      54,          1,         24,         24,2,20130817,       0126,    38.4999,   -19.9994,       4244,     3.1,  21.6659,  36.3622,2,  36.3623,2,    218.7,2,   222.2,2,    0.30,2,    0.00,2,    0.00,2,    0.01,2,   2.022,2,   1.249,2,   1.435,2,  2104.8,6,  2383.5,2,  -999.0,9, -999.00,   7.9798,2,    25.00, -999.00,9,  -999.0,9,  -999.0,   65.14,2,    3.62,2,      7.147,2,-999.0000,9,-999.0000,9,-999.0000,9,-999.0000,9,-999.0000,9,-999.0000,9,-999.0000,9,-999.0000,9,-999.0000,9,     -999.0,5,  -999.0,9,     -999.0,     -999.0,9,     -999.0,20130817,       0312
33RO20130803,       A16N,      54,          1,         23,         23,2,20130817,       0126,    38.4999,   -19.9994,       4244,    15.5,  21.5494,  36.3578,2,  36.3582,2,    219.4,2,     222,2,    0.30,2,    0.00,2,    0.00,2,    0.02,2,   2.018,2,   1.248,2,   1.461,2,  2104.3,2,  2378.4,6,  -999.0,9, -999.00,   7.9799,2,    25.00, -999.00,9,  -999.0,9,  -999.0,    65.3,2,    4.15,2,      7.179,2,-999.0000,9,-999.0000,9,-999.0000,9,-999.0000,9,-999.0000,9,-999.0000,9,-999.0000,9,-999.0000,9,-999.0000,9,     -999.0,5,  -999.0,9,     -999.0,     -999.0,9,     -999.0,20130817,       0310
33RO20130803,       A16N,      54,          1,         22,         22,2,20130817,       0126,    38.4999,   -19.9994,       4244,    35.7,  19.6051,  36.3822,2,  36.3851,2,    234.9,2,     241,2,    0.30,2,    0.00,2,    0.00,2,    0.02,2,-999.000,9,-999.000,9,-999.000,9,  -999.0,9,  -999.0,9,  -999.0,9, -999.00,-999.0000,9,  -999.00, -999.00,9,  -999.0,9,  -999.0,    63.6,2,    3.35,2,     -999.0,9,-999.0000,9,-999.0000,9,-999.0000,9,-999.0000,9,-999.0000,9,-999.0000,9,-999.0000,9,-999.0000,9,-999.0000,9,     -999.0,9,  -999.0,9,     -999.0,     -999.0,9,     -999.0,20130817,       0308
33RO20130803,       A16N,      54,          1,         21,         21,2,20130817,       0126,    38.4999,   -19.9994,       4244,    61.1,  17.6483,  36.2820,2,  36.2713,2,    244.1,2,   245.5,2,    0.40,2,    0.00,2,    0.00,2,    0.02,2,   2.441,6,   1.474,6,   1.677,6,  2101.9,2,  2370.4,2,  -999.0,9, -999.00,   7.9728,2,    25.00, -999.00,9,  -999.0,9,  -999.0,   61.57,2,    3.28,2,      8.309,6,-999.0000,9,-999.0000,9,-999.0000,9,-999.0000,9,-999.0000,9,-999.0000,9,-999.0000,9,-999.0000,9,-999.0000,9,     -999.0,5,  -999.0,9,     -999.0,     -999.0,9,     -999.0,20130817,       0306
33RO20130803,       A16N,      54,          1,         20,         20,2,20130817,       0126,    38.4999,   -19.9994,       4244,    78.8,  16.6482,  36.2295,2,  36.2171,2,    238.8,2,   234.1,2,    0.80,2,    0.50,2,    0.06,2,    0.08,2,-999.000,9,-999.000,9,-999.000,9,  -999.0,9,  -999.0,9,  -999.0,9, -999.00,-999.0000,9,  -999.00, -999.00,9,  -999.0,9,  -999.0,   57.34,2,    3.28,2,     -999.0,9,-999.0000,9,-999.0000,9,-999.0000,9,-999.0000,9,-999.0000,9,-999.0000,9,-999.0000,9,-999.0000,9,-999.0000,9,     -999.0,9,  -999.0,9,     -999.0,     -999.0,9,     -999.0,20130817,       0305
33RO20130803,       A16N,      54,          1,         19,         19,2,20130817,       0126,    38.4999,   -19.9994,       4244,   109.8,  15.9091,  36.1870,2,  36.1823,2,    226.6,2,   221.4,2,    1.30,2,    2.70,2,    0.12,2,    0.21,2,   2.519,2,   1.511,2,   1.617,2,  2126.1,2,  2363.7,2,  -999.0,9, -999.00,   7.9201,6,    25.00, -999.00,9,  -999.0,9,  -999.0,   55.87,2,    5.35,2,      9.197,2,-999.0000,9,-999.0000,9,-999.0000,9,-999.0000,9,-999.0000,9,-999.0000,9,-999.0000,9,-999.0000,9,-999.0000,9,     -999.0,5,  -999.0,9,     -999.0,     -999.0,9,     -999.0,20130817,       0303
33RO20130803,       A16N,      54,          1,         18,         18,2,20130817,       0126,    38.4999,   -19.9994,       4244,   138.2,  15.3756,  36.1326,2,  36.1288,2,    223.4,2,   224.4,2,    1.40,2,    3.10,2,    0.03,2,    0.24,2,-999.000,9,-999.000,9,-999.000,9,  -999.0,9,  -999.0,9,  -999.0,9, -999.00,-999.0000,9,  -999.00, -999.00,9,  -999.0,9,  -999.0,   54.38,2,    6.32,2,     -999.0,9,-999.0000,9,-999.0000,9,-999.0000,9,-999.0000,9,-999.0000,9,-999.0000,9,-999.0000,9,-999.0000,9,-999.0000,9,     -999.0,9,  -999.0,9,     -999.0,     -999.0,9,     -999.0,20130817,       0301
33RO20130803,       A16N,      54,          1,         17,         17,2,20130817,       0126,    38.4999,   -19.9994,       4244,   210.5,  14.4499,  36.0034,2,  36.0048,2,    217.4,2,   215.6,2,    2.40,2,    6.40,2,    0.01,2,    0.43,2,   2.631,2,   1.562,2,   1.549,2,  2138.0,2,  2355.4,6,  -999.0,9, -999.00,   7.8763,2,    25.00, -999.00,9,  -999.0,9,  -999.0,   53.14,2,    9.76,2,     10.405,2,-999.0000,9,-999.0000,9,-999.0000,9,-999.0000,9,-999.0000,9,-999.0000,9,-999.0000,9,-999.0000,9,-999.0000,9,     -999.0,5,  -999.0,9,     -999.0,     -999.0,9,     -999.0,20130817,       0258
33RO20130803,       A16N,      54,          1,         16,         16,2,20130817,       0126,    38.4999,   -19.9994,       4244,   285.8,  13.7619,  35.9052,2,  35.9060,2,    208.1,2,   210.7,2,    3.10,2,    8.30,2,    0.01,2,    0.54,2,   2.698,2,   1.577,2,   1.530,2,  -999.0,9,  -999.0,9,  -999.0,9, -999.00,-999.0000,9,  -999.00, -999.00,9,  -999.0,9,  -999.0,   51.91,2,   11.33,2,     11.153,2,-999.0000,9,-999.0000,9,-999.0000,9,-999.0000,9,-999.0000,9,-999.0000,9,-999.0000,9,-999.0000,9,-999.0000,9,     -999.0,5,  -999.0,9,     -999.0,     -999.0,9,     -999.0,20130817,       0255
33RO20130803,       A16N,      54,          1,         15,         15,2,20130817,       0126,    38.4999,   -19.9994,       4244,   360.5,  13.0747,  35.8064,2,  35.8043,2,    210.1,2,   210.6,2,    3.50,2,    9.70,2,    0.01,2,    0.63,2,-999.000,9,-999.000,9,-999.000,9,  -999.0,9,  -999.0,9,  -999.0,9, -999.00,-999.0000,9,  -999.00, -999.00,9,  -999.0,9,  -999.0,   50.04,2,   13.05,2,     -999.0,9,-999.0000,9,-999.0000,9,-999.0000,9,-999.0000,9,-999.0000,9,-999.0000,9,-999.0000,9,-999.0000,9,-999.0000,9,     -999.0,9,  -999.0,9,     -999.0,     -999.0,9,     -999.0,20130817,       0252
33RO20130803,       A16N,      54,          1,         14,         14,2,20130817,       0126,    38.4999,   -19.9994,       4244,   449.0,  12.3561,  35.7077,2,  35.7071,2,    207.7,2,   208.5,2,    4.20,2,   11.40,2,    0.00,2,    0.73,2,   2.825,2,   1.622,2,   1.426,2,  2152.8,2,  2341.8,2,  -999.0,9, -999.00,   7.8098,2,    25.00, -999.00,9,  -999.0,9,  -999.0,   48.74,2,   13.66,2,     12.573,2,-999.0000,9,-999.0000,9,-999.0000,9,-999.0000,9,-999.0000,9,-999.0000,9,-999.0000,9,-999.0000,9,-999.0000,9,     -999.0,5,  -999.0,9,     -999.0,     -999.0,9,     -999.0,20130817,       0249
33RO20130803,       A16N,      54,          1,         13,         13,2,20130817,       0126,    38.4999,   -19.9994,       4244,   573.9,  11.6288,  35.6343,2,  35.6337,2,    202.4,2,   200.7,2,    5.50,2,   13.50,2,    0.00,2,    0.86,2,-999.000,9,-999.000,9,-999.000,9,  -999.0,9,  -999.0,9,  -999.0,9, -999.00,-999.0000,9,  -999.00, -999.00,9,  -999.0,9,  -999.0,   47.56,2,   15.73,2,     -999.0,9,-999.0000,9,-999.0000,9,-999.0000,9,-999.0000,9,-999.0000,9,-999.0000,9,-999.0000,9,-999.0000,9,-999.0000,9,     -999.0,9,  -999.0,9,     -999.0,     -999.0,9,     -999.0,20130817,       0245
33RO20130803,       A16N,      54,          1,         12,         12,2,20130817,       0126,    38.4999,   -19.9994,       4244,   722.7,  10.9651,  35.6534,2,  35.6566,2,    183.1,2,   182.3,2,    8.00,2,   16.20,2,    0.00,2,    1.03,2,   2.265,2,   1.234,2,   0.780,2,  -999.0,9,  -999.0,9,  -999.0,9, -999.00,-999.0000,9,  -999.00, -999.00,9,  -999.0,9,  -999.0,   46.82,2,   18.34,2,     14.985,2,-999.0000,9,-999.0000,9,-999.0000,9,-999.0000,9,-999.0000,9,-999.0000,9,-999.0000,9,-999.0000,9,-999.0000,9,     -999.0,5,  -999.0,9,     -999.0,     -999.0,9,     -999.0,20130817,       0241
33RO20130803,       A16N,      54,          1,         11,         11,2,20130817,       0126,    38.4999,   -19.9994,       4244,   874.3,  10.4470,  35.7435,2,-999.0000,9,    180.4,2,   180.1,2,    9.40,2,   16.90,2,    0.00,2,    1.09,2,-999.000,9,-999.000,9,-999.000,9,  2189.9,2,  2354.8,2,  -999.0,9, -999.00,   7.7557,2,    25.00, -999.00,9,  -999.0,9,  -999.0,   45.38,2,   19.33,2,     -999.0,9,-999.0000,9,-999.0000,9,-999.0000,9,-999.0000,9,-999.0000,9,-999.0000,9,-999.0000,9,-999.0000,9,-999.0000,9,     -999.0,9,  -999.0,9,     -999.0,     -999.0,9,     -999.0,20130817,       0238
33RO20130803,       A16N,      54,          1,         10,         10,2,20130817,       0126,    38.4999,   -19.9994,       4244,  1023.4,  10.2724,  35.8961,2,  35.8954,2,    180.1,2,   179.1,2,   10.30,2,   17.00,2,    0.00,2,    1.09,2,   1.638,2,   0.887,2,   0.473,2,  2200.3,6,  2364.2,2,  -999.0,9, -999.00,   7.7631,2,    25.00, -999.00,9,  -999.0,9,  -999.0,   43.95,2,   19.35,2,     15.108,2,-999.0000,9,-999.0000,9,-999.0000,9,-999.0000,9,-999.0000,9,-999.0000,9,-999.0000,9,-999.0000,9,-999.0000,9,     -999.0,5,  -999.0,9,     -999.0,     -999.0,9,     -999.0,20130817,       0234
33RO20130803,       A16N,      54,          1,          9,          9,2,20130817,       0126,    38.4999,   -19.9994,       4244,  1248.1,   9.2266,  35.8464,2,  35.8468,2,    191.2,2,   191.6,2,   11.20,2,   17.20,2,    0.00,2,    1.09,2,   1.573,2,   0.831,2,   0.391,2,  2200.2,2,  2363.9,2,  -999.0,9, -999.00,   7.7659,2,    25.00, -999.00,9,  -999.0,9,  -999.0,   43.45,2,   19.72,2,     14.651,2,-999.0000,9,-999.0000,9,-999.0000,9,-999.0000,9,-999.0000,9,-999.0000,9,-999.0000,9,-999.0000,9,-999.0000,9,     -999.0,5,  -999.0,9,     -999.0,     -999.0,9,     -999.0,20130817,       0229
33RO20130803,       A16N,      54,          1,          8,          8,2,20130817,       0126,    38.4999,   -19.9994,       4244,  1523.5,   6.5612,  35.4125,2,  35.4145,2,    222.9,2,   223.6,2,   12.40,2,   17.70,2,    0.00,2,    1.16,2,   1.859,2,   0.939,2,   0.403,2,  -999.0,9,  -999.0,9,  -999.0,9, -999.00,-999.0000,9,  -999.00, -999.00,9,  -999.0,9,  -999.0,   43.04,2,   20.33,2,     14.264,2,-999.0000,9,-999.0000,9,-999.0000,9,-999.0000,9,-999.0000,9,-999.0000,9,-999.0000,9,-999.0000,9,-999.0000,9,     -999.0,5,  -999.0,9,     -999.0,     -999.0,9,     -999.0,20130817,       0222
33RO20130803,       A16N,      54,          1,          7,          7,2,20130817,       0126,    38.4999,   -19.9994,       4244,  1898.8,   4.4412,  35.0874,2,  35.0887,2,    251.6,2,   252.8,2,   13.90,2,   17.80,2,    0.00,2,    1.19,2,-999.000,9,-999.000,9,-999.000,9,  2170.1,2,  2312.9,2,  -999.0,9, -999.00,   7.7253,2,    25.00, -999.00,9,  -999.0,9,  -999.0,   43.08,2,   20.41,2,     -999.0,9,-999.0000,9,-999.0000,9,-999.0000,9,-999.0000,9,-999.0000,9,-999.0000,9,-999.0000,9,-999.0000,9,-999.0000,9,     -999.0,9,  -999.0,9,     -999.0,     -999.0,9,     -999.0,20130817,       0215
33RO20130803,       A16N,      54,          1,          6,          6,2,20130817,       0126,    38.4999,   -19.9994,       4244,  2298.8,   3.5386,  34.9829,2,  34.9826,2,    260.1,2,   260.2,2,   17.80,2,   18.10,2,    0.00,2,    1.22,2,-999.000,9,-999.000,9,-999.000,9,  -999.0,9,  -999.0,9,  -999.0,9, -999.00,-999.0000,9,  -999.00, -999.00,9,  -999.0,9,  -999.0,   42.28,2,   20.47,2,     -999.0,9,-999.0000,9,-999.0000,9,-999.0000,9,-999.0000,9,-999.0000,9,-999.0000,9,-999.0000,9,-999.0000,9,-999.0000,9,     -999.0,9,  -999.0,9,     -999.0,     -999.0,9,     -999.0,20130817,       0207
33RO20130803,       A16N,      54,          1,          5,          5,2,20130817,       0126,    38.4999,   -19.9994,       4244,  2698.4,   3.0961,  34.9620,2,  34.9619,2,    254.7,2,   254.3,2,   25.40,2,   19.00,2,    0.00,2,    1.30,2,-999.000,9,-999.000,9,-999.000,9,  -999.0,9,  -999.0,9,  -999.0,9, -999.00,-999.0000,9,  -999.00, -999.00,9,  -999.0,9,  -999.0,   41.98,2,   21.26,2,     -999.0,9,-999.0000,9,-999.0000,9,-999.0000,9,-999.0000,9,-999.0000,9,-999.0000,9,-999.0000,9,-999.0000,9,-999.0000,9,     -999.0,9,  -999.0,9,     -999.0,     -999.0,9,     -999.0,20130817,       0159
33RO20130803,       A16N,      54,          1,          4,          4,2,20130817,       0126,    38.4999,   -19.9994,       4244,  3098.4,   2.7889,  34.9396,2,  34.9396,2,    249.2,2,     250,2,   32.60,6,   20.00,6,    0.00,6,    1.38,6,   0.328,2,   0.162,2,   0.038,2,  2186.2,2,  2334.4,6,  -999.0,9, -999.00,   7.7245,2,    25.00, -999.00,9,  -999.0,9,  -999.0,   41.46,2,   22.17,2,     13.450,2,-999.0000,9,-999.0000,9,-999.0000,9,-999.0000,9,-999.0000,9,-999.0000,9,-999.0000,9,-999.0000,9,-999.0000,9,     -999.0,5,  -999.0,9,     -999.0,     -999.0,9,     -999.0,20130817,       0151
33RO20130803,       A16N,      54,          1,          3,          3,2,20130817,       0126,    38.4999,   -19.9994,       4244,  3498.9,   2.6340,  34.9243,2,  34.9240,2,    245.3,2,   244.4,2,   38.50,6,   21.00,6,    0.00,6,    1.44,6,-999.000,9,-999.000,9,-999.000,9,  -999.0,9,  -999.0,9,  -999.0,9, -999.00,-999.0000,9,  -999.00, -999.00,9,  -999.0,9,  -999.0,   40.92,2,   22.98,2,     -999.0,9,-999.0000,9,-999.0000,9,-999.0000,9,-999.0000,9,-999.0000,9,-999.0000,9,-999.0000,9,-999.0000,9,-999.0000,9,     -999.0,9,  -999.0,9,     -999.0,     -999.0,9,     -999.0,20130817,       0143
33RO20130803,       A16N,      54,          1,          2,          2,2,20130817,       0126,    38.4999,   -19.9994,       4244,  3849.3,   2.5528,  34.9133,2,  34.9129,2,    242.3,2,   242.8,2,   42.10,6,   21.50,6,    0.00,6,    1.48,6,   0.122,6,   0.062,6,   0.065,6,  -999.0,9,  -999.0,9,  -999.0,9, -999.00,-999.0000,9,  -999.00, -999.00,9,  -999.0,9,  -999.0,   40.61,2,   23.71,2,     13.617,6,-999.0000,9,-999.0000,9,-999.0000,9,-999.0000,9,-999.0000,9,-999.0000,9,-999.0000,9,-999.0000,9,-999.0000,9,     -999.0,5,  -999.0,9,     -999.0,     -999.0,9,     -999.0,20130817,       0136
33RO20130803,       A16N,      54,          1,          1,          1,2,20130817,       0126,    38.4999,   -19.9994,       4244,  4301.4,   2.5221,  34.9050,2,  34.9057,2,    242.6,2,   242.2,2,   44.20,6,   22.00,6,    0.00,6,    1.49,6,   0.056,2,   0.032,2,   0.033,2,  2199.4,2,  2349.8,2,  -999.0,9, -999.00,   7.7285,2,    25.00, -999.00,9,  -999.0,9,  -999.0,   40.99,2,   24.03,2,     13.687,2,-999.0000,9,-999.0000,9,-999.0000,9,-999.0000,9,-999.0000,9,-999.0000,9,-999.0000,9,-999.0000,9,-999.0000,9,     -999.0,5,  -999.0,9,     -999.0,     -999.0,9,     -999.0,20130817,       0126