BOTTLE,20220815CCHSIOAMB
EXPOCODE,SECT_ID,STNNBR,CASTNO,SAMPNO,BTLNBR,BTLNBR_FLAG_W,DATE,TIME,LATITUDE,LONGITUDE,DEPTH,CTDPRS,CTDTMP,CTDSAL,CTDSAL_FLAG_W,SALNTY,SALNTY_FLAG_W,CTDOXY,CTDOXY_FLAG_W,OXYGEN,OXYGEN_FLAG_W,SILCAT,SILCAT_FLAG_W,NITRAT,NITRAT_FLAG_W,NITRIT,NITRIT_FLAG_W,PHSPHT,PHSPHT_FLAG_W,CFC-11,CFC-11_FLAG_W,CFC-12,CFC-12_FLAG_W,SF6,SF6_FLAG_W,TCARBN,TCARBN_FLAG_W,ALKALI,ALKALI_FLAG_W,PCO2,PCO2_FLAG_W,PCO2TMP,PH_SWS,PH_SWS_FLAG_W,PH_TMP,DELC13,DELC13_FLAG_W,DELC14,DELC14_FLAG_W,C14ERR,DOC,DOC_FLAG_W,TDN,TDN_FLAG_W,N2O,N2O_FLAG_W,CDOM325,CDOM325_FLAG_W,CDOM340,CDOM340_FLAG_W,CDOM380,CDOM380_FLAG_W,CDOM412,CDOM412_FLAG_W,CDOM443,CDOM443_FLAG_W,CDOM490,CDOM490_FLAG_W,CDOM555,CDOM555_FLAG_W,CDOMSL,CDOMSL_FLAG_W,CDOMSN,CDOMSN_FLAG_W,CCL4,CCL4_FLAG_W,14C-DOC,14C-DOC_FLAG_W,14C-DOCERR,13C-DOC,13C-DOC_FLAG_W,13C-DOCERR,BTL_DATE,BTL_TIME
,,,,,,,,,,,METERS,DBAR,ITS-90,PSS-78,,PSS-78,,UMOL/KG,,UMOL/KG,,UMOL/KG,,UMOL/KG,,UMOL/KG,,UMOL/KG,,PMOL/KG,,PMOL/KG,,FMOL/KG,,UMOL/KG,,UMOL/KG,,UATM,,DEG C,,,DEG C,/MILLE,,/MILLE,,/MILLE,UMOL/KG,,UMOL/KG,,NMOL/KG,,1/M,,1/M,,1/M,,1/M,,1/M,,1/M,,1/M,,1/NM,,1/NM,,PMOL/KG,,/MILLE,,/MILLE,/MILLE,,/MILLE,,
33RO20130803,       A16N,      69,          2,         24,         24,2,20130821,       1747,    31.0003,   -22.8182,       5254,     2.8,  23.8342,  37.0703,2,  37.0696,2,    208.8,2,   213.2,2,    0.60,2,    0.00,2,    0.00,2,    0.01,2,   1.809,2,   1.132,2,   1.309,2,  2111.2,6,  2425.9,2,   349.1,2,      20,   8.0186,2,    25.00, -999.00,9,  -999.0,9,  -999.0, -999.00,9, -999.00,9,      6.630,2,-999.0000,9,-999.0000,9,-999.0000,9,-999.0000,9,-999.0000,9,-999.0000,9,-999.0000,9,-999.0000,9,-999.0000,9,     -999.0,5,  -999.0,9,     -999.0,     -999.0,9,     -999.0,20130821,       1943
33RO20130803,       A16N,      69,          2,         23,         23,2,20130821,       1747,    31.0003,   -22.8182,       5254,    31.9,  21.5710,  36.8129,2,  36.8084,2,    227.9,2,   230.5,2,    0.60,2,    0.00,2,    0.00,2,    0.01,2,   2.065,2,   1.265,2,   1.473,2,  2105.9,2,  2410.0,6,   355.2,2,      20,   8.0092,2,    25.00, -999.00,9,  -999.0,9,  -999.0, -999.00,9, -999.00,9,      7.251,2,-999.0000,9,-999.0000,9,-999.0000,9,-999.0000,9,-999.0000,9,-999.0000,9,-999.0000,9,-999.0000,9,-999.0000,9,     -999.0,5,  -999.0,9,     -999.0,     -999.0,9,     -999.0,20130821,       1941
33RO20130803,       A16N,      69,          2,         22,         22,2,20130821,       1747,    31.0003,   -22.8182,       5254,    62.2,  19.7200,  36.6217,2,  36.6100,2,    240.0,2,   241.1,2,    0.50,2,    0.00,2,    0.00,2,    0.02,2,   2.222,6,   1.357,6,   1.559,6,  2097.2,2,  2391.5,2,   358.1,2,      20,   8.0029,2,    25.00, -999.00,9,  -999.0,9,  -999.0, -999.00,9, -999.00,9,      7.628,6,-999.0000,9,-999.0000,9,-999.0000,9,-999.0000,9,-999.0000,9,-999.0000,9,-999.0000,9,-999.0000,9,-999.0000,9,     -999.0,5,  -999.0,9,     -999.0,     -999.0,9,     -999.0,20130821,       1939
33RO20130803,       A16N,      69,          2,         21,         21,2,20130821,       1747,    31.0003,   -22.8182,       5254,    86.7,  18.6687,  36.5428,2,  36.5417,2,    235.8,2,     235,2,    0.50,2,    0.00,2,    0.00,2,    0.02,2,   2.278,2,   1.374,2,   1.558,2,  2100.8,2,  2393.0,2,   371.1,2,      20,   7.9906,2,    25.00, -999.00,9,  -999.0,9,  -999.0, -999.00,9, -999.00,9,      7.798,2,-999.0000,9,-999.0000,9,-999.0000,9,-999.0000,9,-999.0000,9,-999.0000,9,-999.0000,9,-999.0000,9,-999.0000,9,     -999.0,5,  -999.0,9,     -999.0,     -999.0,9,     -999.0,20130821,       1937
33RO20130803,       A16N,      69,          2,         20,         20,2,20130821,       1747,    31.0003,   -22.8182,       5254,   111.5,  18.2023,  36.5187,2,  36.5205,2,    225.7,2,   223.4,2,    0.70,2,    0.10,2,    0.03,2,    0.03,2,   2.283,2,   1.381,2,   1.551,2,  2110.2,2,  2391.9,2,   390.7,2,      20,   7.9738,6,    25.00, -999.00,9,  -999.0,9,  -999.0, -999.00,9, -999.00,9,      7.963,2,-999.0000,9,-999.0000,9,-999.0000,9,-999.0000,9,-999.0000,9,-999.0000,9,-999.0000,9,-999.0000,9,-999.0000,9,     -999.0,5,  -999.0,9,     -999.0,     -999.0,9,     -999.0,20130821,       1935
33RO20130803,       A16N,      69,          2,         19,         19,2,20130821,       1747,    31.0003,   -22.8182,       5254,   173.7,  17.7775,  36.5400,2,  36.5330,2,    212.2,2,   212.7,2,    1.10,2,    2.40,2,    0.02,2,    0.14,2,   2.310,2,   1.391,2,   1.518,2,  2120.7,2,  2389.2,2,   413.5,2,      20,   7.9498,2,    25.00, -999.00,9,  -999.0,9,  -999.0, -999.00,9, -999.00,9,      8.400,2,-999.0000,9,-999.0000,9,-999.0000,9,-999.0000,9,-999.0000,9,-999.0000,9,-999.0000,9,-999.0000,9,-999.0000,9,     -999.0,5,  -999.0,9,     -999.0,     -999.0,9,     -999.0,20130821,       1932
33RO20130803,       A16N,      69,          2,         18,         18,2,20130821,       1747,    31.0003,   -22.8182,       5254,   261.4,  16.3353,  36.2957,2,  36.2785,2,    201.0,2,   200.6,2,    2.20,2,    6.40,2,    0.01,2,    0.38,2,   2.443,2,   1.450,2,   1.465,2,  2133.3,2,  2372.0,2,   467.5,2,      20,   7.9050,2,    25.00, -999.00,9,  -999.0,9,  -999.0, -999.00,9, -999.00,9,      9.892,2,-999.0000,9,-999.0000,9,-999.0000,9,-999.0000,9,-999.0000,9,-999.0000,9,-999.0000,9,-999.0000,9,-999.0000,9,     -999.0,5,  -999.0,9,     -999.0,     -999.0,9,     -999.0,20130821,       1929
33RO20130803,       A16N,      69,          2,         17,         17,2,20130821,       1747,    31.0003,   -22.8182,       5254,   336.6,  15.0265,  36.0694,2,  36.0589,2,    200.6,2,   200.3,2,    2.90,2,    8.40,2,    0.00,2,    0.51,2,   2.534,2,   1.485,2,   1.332,2,  2138.4,2,  2372.1,3,   506.7,2,      20,   7.8752,2,    25.00, -999.00,9,  -999.0,9,  -999.0, -999.00,9, -999.00,9,     10.744,2,-999.0000,9,-999.0000,9,-999.0000,9,-999.0000,9,-999.0000,9,-999.0000,9,-999.0000,9,-999.0000,9,-999.0000,9,     -999.0,5,  -999.0,9,     -999.0,     -999.0,9,     -999.0,20130821,       1927
33RO20130803,       A16N,      69,          2,         16,         16,2,20130821,       1747,    31.0003,   -22.8182,       5254,   448.0,  13.6086,  35.8527,2,  35.8419,2,    201.3,2,   201.2,2,    3.80,2,   10.70,2,    0.00,2,    0.65,2,   2.651,2,   1.528,2,   1.283,2,  2146.9,2,  2349.4,2,   558.8,2,      20,   7.8379,2,    25.00, -999.00,9,  -999.0,9,  -999.0, -999.00,9, -999.00,9,     11.805,2,-999.0000,9,-999.0000,9,-999.0000,9,-999.0000,9,-999.0000,9,-999.0000,9,-999.0000,9,-999.0000,9,-999.0000,9,     -999.0,5,  -999.0,9,     -999.0,     -999.0,9,     -999.0,20130821,       1924
33RO20130803,       A16N,      69,          2,         15,         15,2,20130821,       1747,    31.0003,   -22.8182,       5254,   548.2,  12.4111,  35.6855,2,  35.6829,2,    193.1,2,   192.3,2,    5.30,2,   13.60,2,    0.00,2,    0.83,2,   2.595,2,   1.458,2,   1.133,2,  2157.6,2,  2342.6,2,   616.4,2,      20,   7.7978,2,    25.00, -999.00,9,  -999.0,9,  -999.0, -999.00,9, -999.00,9,     13.453,2,-999.0000,9,-999.0000,9,-999.0000,9,-999.0000,9,-999.0000,9,-999.0000,9,-999.0000,9,-999.0000,9,-999.0000,9,     -999.0,5,  -999.0,9,     -999.0,     -999.0,9,     -999.0,20130821,       1921
33RO20130803,       A16N,      69,          2,         14,         14,2,20130821,       1747,    31.0003,   -22.8182,       5254,   723.3,  10.5083,  35.5037,2,  35.5106,2,    173.3,2,     171,2,    9.30,2,   18.80,2,    0.00,2,    1.17,2,   1.891,2,   1.003,2,   0.544,2,  2178.5,2,  2333.7,6,   722.9,2,      20,   7.7359,2,    25.00, -999.00,9,  -999.0,9,  -999.0, -999.00,9, -999.00,9,     16.223,2,-999.0000,9,-999.0000,9,-999.0000,9,-999.0000,9,-999.0000,9,-999.0000,9,-999.0000,9,-999.0000,9,-999.0000,9,     -999.0,5,  -999.0,9,     -999.0,     -999.0,9,     -999.0,20130821,       1917
33RO20130803,       A16N,      69,          2,         13,         13,2,20130821,       1747,    31.0003,   -22.8182,       5254,   873.2,   9.0748,  35.4379,2,  35.4376,2,    170.1,2,   169.5,2,   12.40,2,   20.90,2,    0.00,2,    1.33,2,   1.230,2,   0.639,2,   0.291,2,  2188.7,2,  2336.9,2,   765.0,6,      20,   7.7126,2,    25.00, -999.00,9,  -999.0,9,  -999.0, -999.00,9, -999.00,9,     17.117,2,-999.0000,9,-999.0000,9,-999.0000,9,-999.0000,9,-999.0000,9,-999.0000,9,-999.0000,9,-999.0000,9,-999.0000,9,     -999.0,5,  -999.0,9,     -999.0,     -999.0,9,     -999.0,20130821,       1914
33RO20130803,       A16N,      69,          2,         12,         12,2,20130821,       1747,    31.0003,   -22.8182,       5254,  1022.9,   8.1370,  35.4209,2,  35.4286,2,    178.3,2,   178.1,2,   13.70,2,   21.10,2,    0.00,2,    1.36,2,   0.976,2,   0.504,2,   0.202,2,  2191.8,6,  2338.5,2,   767.9,2,      20,   7.7115,2,    25.00, -999.00,9,  -999.0,9,  -999.0, -999.00,9, -999.00,9,     16.650,2,-999.0000,9,-999.0000,9,-999.0000,9,-999.0000,9,-999.0000,9,-999.0000,9,-999.0000,9,-999.0000,9,-999.0000,9,     -999.0,5,  -999.0,9,     -999.0,     -999.0,9,     -999.0,20130821,       1910
33RO20130803,       A16N,      69,          2,         11,         11,2,20130821,       1747,    31.0003,   -22.8182,       5254,  1174.2,   7.4751,  35.4094,2,  35.4173,2,    189.0,2,     189,2,   14.30,2,   20.80,2,    0.00,2,    1.34,2,   0.864,2,   0.442,2,   0.154,2,  2191.0,2,  2342.3,2,   759.1,2,      20,   7.7180,2,    25.00, -999.00,9,  -999.0,9,  -999.0, -999.00,9, -999.00,9,     16.002,2,-999.0000,9,-999.0000,9,-999.0000,9,-999.0000,9,-999.0000,9,-999.0000,9,-999.0000,9,-999.0000,9,-999.0000,9,     -999.0,5,  -999.0,9,     -999.0,     -999.0,9,     -999.0,20130821,       1907
33RO20130803,       A16N,      69,          2,         10,         10,2,20130821,       1747,    31.0003,   -22.8182,       5254,  1398.0,   6.7178,  35.3905,2,  35.3908,2,    209.3,2,   209.4,2,   14.00,2,   19.40,2,    0.00,2,    1.25,2,   1.116,2,   0.559,2,   0.217,2,  2185.5,2,  2341.8,2,   737.9,2,      20,   7.7290,2,    25.00, -999.00,9,  -999.0,9,  -999.0, -999.00,9, -999.00,9,     14.795,2,-999.0000,9,-999.0000,9,-999.0000,9,-999.0000,9,-999.0000,9,-999.0000,9,-999.0000,9,-999.0000,9,-999.0000,9,     -999.0,5,  -999.0,9,     -999.0,     -999.0,9,     -999.0,20130821,       1902
33RO20130803,       A16N,      69,          2,          9,          9,2,20130821,       1747,    31.0003,   -22.8182,       5254,  1712.9,   5.1248,  35.1998,2,  35.2012,2,    236.0,2,   236.3,2,   14.60,2,   18.70,2,    0.00,2,    1.21,2,   1.286,2,   0.635,2,   0.232,2,  2175.9,2,  2327.6,2,   733.3,2,      20,   7.7285,2,    25.00, -999.00,9,  -999.0,9,  -999.0, -999.00,9, -999.00,9,     13.853,2,-999.0000,9,-999.0000,9,-999.0000,9,-999.0000,9,-999.0000,9,-999.0000,9,-999.0000,9,-999.0000,9,-999.0000,9,     -999.0,5,  -999.0,9,     -999.0,     -999.0,9,     -999.0,20130821,       1855
33RO20130803,       A16N,      69,          2,          8,          8,2,20130821,       1747,    31.0003,   -22.8182,       5254,  2197.7,   3.7758,  35.0394,2,  35.0391,2,    248.7,2,   248.9,2,   20.40,2,   19.10,2,    0.00,2,    1.27,2,   0.574,2,   0.289,2,   0.108,2,  2172.1,2,  2322.8,2,   732.7,2,      20,   7.7298,2,    25.00, -999.00,9,  -999.0,9,  -999.0, -999.00,9, -999.00,9,     13.352,2,-999.0000,9,-999.0000,9,-999.0000,9,-999.0000,9,-999.0000,9,-999.0000,9,-999.0000,9,-999.0000,9,-999.0000,9,     -999.0,5,  -999.0,9,     -999.0,     -999.0,9,     -999.0,20130821,       1846
33RO20130803,       A16N,      69,          2,          7,          7,2,20130821,       1747,    31.0003,   -22.8182,       5254,  2599.4,   3.1327,  34.9727,2,  34.9752,2,    250.1,2,   249.6,2,   26.60,2,   19.80,2,    0.00,2,    1.32,2,   0.305,2,   0.154,2,   0.045,2,  2179.3,2,  2326.2,2,   736.7,2,      20,   7.7288,2,    25.00, -999.00,9,  -999.0,9,  -999.0, -999.00,9, -999.00,9,     13.199,2,-999.0000,9,-999.0000,9,-999.0000,9,-999.0000,9,-999.0000,9,-999.0000,9,-999.0000,9,-999.0000,9,-999.0000,9,     -999.0,5,  -999.0,9,     -999.0,     -999.0,9,     -999.0,20130821,       1839
33RO20130803,       A16N,      69,          2,          6,          6,2,20130821,       1747,    31.0003,   -22.8182,       5254,  3023.6,   2.7755,  34.9413,2,  34.9415,2,    245.5,2,   245.7,2,   34.10,2,   20.90,2,    0.00,2,    1.40,2,   0.113,2,   0.059,2,   0.031,2,  2189.4,2,  2340.4,2,   742.4,2,      20,   7.7295,2,    25.00, -999.00,9,  -999.0,9,  -999.0, -999.00,9, -999.00,9,     13.363,2,-999.0000,9,-999.0000,9,-999.0000,9,-999.0000,9,-999.0000,9,-999.0000,9,-999.0000,9,-999.0000,9,-999.0000,9,     -999.0,5,  -999.0,9,     -999.0,     -999.0,9,     -999.0,20130821,       1831
33RO20130803,       A16N,      69,          2,          5,          5,2,20130821,       1747,    31.0003,   -22.8182,       5254,  3412.8,   2.5739,  34.9201,2,  34.9248,4,    243.3,2,   243.6,2,   39.50,2,   21.70,2,    0.00,2,    1.46,2,   0.027,2,   0.017,2,   0.000,2,  2194.4,2,  2344.0,2,   745.3,2,      20,   7.7241,2,    25.00, -999.00,9,  -999.0,9,  -999.0, -999.00,9, -999.00,9,     13.468,2,-999.0000,9,-999.0000,9,-999.0000,9,-999.0000,9,-999.0000,9,-999.0000,9,-999.0000,9,-999.0000,9,-999.0000,9,     -999.0,5,  -999.0,9,     -999.0,     -999.0,9,     -999.0,20130821,       1823
33RO20130803,       A16N,      69,          2,          4,          4,2,20130821,       1747,    31.0003,   -22.8182,       5254,  3823.6,   2.4630,  34.9051,2,  34.9111,4,    243.0,2,   244.1,2,   42.90,6,   22.10,6,    0.00,6,    1.48,6,   0.003,2,   0.004,2,   0.000,2,  2196.3,2,  2346.5,2,   746.4,2,      20,   7.9375,4,    25.00, -999.00,9,  -999.0,9,  -999.0, -999.00,9, -999.00,9,     13.571,2,-999.0000,9,-999.0000,9,-999.0000,9,-999.0000,9,-999.0000,9,-999.0000,9,-999.0000,9,-999.0000,9,-999.0000,9,     -999.0,5,  -999.0,9,     -999.0,     -999.0,9,     -999.0,20130821,       1815
33RO20130803,       A16N,      69,          2,          3,          3,2,20130821,       1747,    31.0003,   -22.8182,       5254,  4323.2,   2.4010,  34.8931,2,  34.8965,2,    243.8,2,     244,2,   45.40,6,   22.40,6,    0.00,6,    1.50,6,   0.002,2,   0.003,2,   0.000,2,  2197.8,2,  2347.7,6,   750.1,2,      20,   7.7264,2,    25.00, -999.00,9,  -999.0,9,  -999.0, -999.00,9, -999.00,9,     13.640,2,-999.0000,9,-999.0000,9,-999.0000,9,-999.0000,9,-999.0000,9,-999.0000,9,-999.0000,9,-999.0000,9,-999.0000,9,     -999.0,5,  -999.0,9,     -999.0,     -999.0,9,     -999.0,20130821,       1806
33RO20130803,       A16N,      69,          2,          2,          2,2,20130821,       1747,    31.0003,   -22.8182,       5254,  4873.8,   2.4089,  34.8867,2,  34.8865,2,    243.9,2,   244.2,2,   46.90,6,   22.50,6,    0.00,6,    1.51,6,   0.001,2,   0.003,2,   0.000,2,  2201.5,6,  2350.1,2,   749.7,2,      20,   7.7258,2,    25.00, -999.00,9,  -999.0,9,  -999.0, -999.00,9, -999.00,9,     13.733,2,-999.0000,9,-999.0000,9,-999.0000,9,-999.0000,9,-999.0000,9,-999.0000,9,-999.0000,9,-999.0000,9,-999.0000,9,     -999.0,5,  -999.0,9,     -999.0,     -999.0,9,     -999.0,20130821,       1756
33RO20130803,       A16N,      69,          2,          1,          1,2,20130821,       1747,    31.0003,   -22.8182,       5254,  5323.1,   2.4561,  34.8848,2,  34.8859,2,    244.1,2,   243.9,2,   47.20,6,   22.40,6,    0.00,6,    1.51,6,   0.003,6,   0.005,6,   0.028,6,  2200.5,2,  2350.1,2,   749.4,2,      20,   7.7246,2,    25.00, -999.00,9,  -999.0,9,  -999.0, -999.00,9, -999.00,9,     13.777,6,-999.0000,9,-999.0000,9,-999.0000,9,-999.0000,9,-999.0000,9,-999.0000,9,-999.0000,9,-999.0000,9,-999.0000,9,     -999.0,5,  -999.0,9,     -999.0,     -999.0,9,     -999.0,20130821,       1747