BOTTLE,20220815CCHSIOAMB
EXPOCODE,SECT_ID,STNNBR,CASTNO,SAMPNO,BTLNBR,BTLNBR_FLAG_W,DATE,TIME,LATITUDE,LONGITUDE,DEPTH,CTDPRS,CTDTMP,CTDSAL,CTDSAL_FLAG_W,SALNTY,SALNTY_FLAG_W,CTDOXY,CTDOXY_FLAG_W,OXYGEN,OXYGEN_FLAG_W,SILCAT,SILCAT_FLAG_W,NITRAT,NITRAT_FLAG_W,NITRIT,NITRIT_FLAG_W,PHSPHT,PHSPHT_FLAG_W,CFC-11,CFC-11_FLAG_W,CFC-12,CFC-12_FLAG_W,SF6,SF6_FLAG_W,TCARBN,TCARBN_FLAG_W,ALKALI,ALKALI_FLAG_W,PCO2,PCO2_FLAG_W,PCO2TMP,PH_SWS,PH_SWS_FLAG_W,PH_TMP,DELC13,DELC13_FLAG_W,DELC14,DELC14_FLAG_W,C14ERR,DOC,DOC_FLAG_W,TDN,TDN_FLAG_W,N2O,N2O_FLAG_W,CDOM325,CDOM325_FLAG_W,CDOM340,CDOM340_FLAG_W,CDOM380,CDOM380_FLAG_W,CDOM412,CDOM412_FLAG_W,CDOM443,CDOM443_FLAG_W,CDOM490,CDOM490_FLAG_W,CDOM555,CDOM555_FLAG_W,CDOMSL,CDOMSL_FLAG_W,CDOMSN,CDOMSN_FLAG_W,CCL4,CCL4_FLAG_W,14C-DOC,14C-DOC_FLAG_W,14C-DOCERR,13C-DOC,13C-DOC_FLAG_W,13C-DOCERR,BTL_DATE,BTL_TIME
,,,,,,,,,,,METERS,DBAR,ITS-90,PSS-78,,PSS-78,,UMOL/KG,,UMOL/KG,,UMOL/KG,,UMOL/KG,,UMOL/KG,,UMOL/KG,,PMOL/KG,,PMOL/KG,,FMOL/KG,,UMOL/KG,,UMOL/KG,,UATM,,DEG C,,,DEG C,/MILLE,,/MILLE,,/MILLE,UMOL/KG,,UMOL/KG,,NMOL/KG,,1/M,,1/M,,1/M,,1/M,,1/M,,1/M,,1/M,,1/NM,,1/NM,,PMOL/KG,,/MILLE,,/MILLE,/MILLE,,/MILLE,,
33RO20130803,       A16N,     102,          1,         24,         24,2,20130919,       1644,    13.0023,   -29.0002,       5720,     2.8,  28.3754,  35.9684,2,  35.9722,2,    198.9,2,   198.5,2,    1.00,2,    0.10,2,    0.00,2,    0.01,2,   1.494,2,   0.954,2,   1.185,2,  2001.0,6,  2354.6,2,   276.9,2,      20,   8.1041,2,    25.00, -999.00,9,  -999.0,9,  -999.0, -999.00,9, -999.00,9,      6.199,2,-999.0000,9,-999.0000,9,-999.0000,9,-999.0000,9,-999.0000,9,-999.0000,9,-999.0000,9,-999.0000,9,-999.0000,9,     -999.0,5,  -999.0,9,     -999.0,     -999.0,9,     -999.0,20130919,       1859
33RO20130803,       A16N,     102,          1,         23,         23,2,20130919,       1644,    13.0023,   -29.0002,       5720,    37.8,  22.7082,  35.9483,2,  35.9758,2,    199.8,2,   193.8,2,    2.00,2,    0.10,2,    0.01,2,    0.08,2,   1.838,2,   1.110,2,   1.039,2,  2085.9,2,  2366.1,2,   394.0,6,      20,   7.9804,2,    25.00, -999.00,9,  -999.0,9,  -999.0, -999.00,9, -999.00,9,     18.416,2,-999.0000,9,-999.0000,9,-999.0000,9,-999.0000,9,-999.0000,9,-999.0000,9,-999.0000,9,-999.0000,9,-999.0000,9,     -999.0,5,  -999.0,9,     -999.0,     -999.0,9,     -999.0,20130919,       1857
33RO20130803,       A16N,     102,          1,         22,         22,2,20130919,       1644,    13.0023,   -29.0002,       5720,    79.0,  14.0207,  35.4541,2,  35.4511,2,     65.7,2,    66.9,2,    7.90,2,   25.90,2,    0.04,2,    1.60,2,   2.052,2,   1.135,2,   0.653,2,  2220.3,2,  2325.3,2,  1016.4,2,      20,   7.5985,2,    25.00, -999.00,9,  -999.0,9,  -999.0, -999.00,9, -999.00,9,     38.233,2,-999.0000,9,-999.0000,9,-999.0000,9,-999.0000,9,-999.0000,9,-999.0000,9,-999.0000,9,-999.0000,9,-999.0000,9,     -999.0,5,  -999.0,9,     -999.0,     -999.0,9,     -999.0,20130919,       1854
33RO20130803,       A16N,     102,          1,         21,         21,2,20130919,       1644,    13.0023,   -29.0002,       5720,   117.7,  13.1996,  35.3666,2,  35.3622,2,     72.6,2,    73.7,2,    8.80,2,   26.30,2,    0.01,2,    1.63,2,   1.987,2,   1.093,2,   0.604,2,  2218.0,2,  2322.6,2,  1026.3,2,      20,   7.5982,2,    25.00, -999.00,9,  -999.0,9,  -999.0, -999.00,9, -999.00,9,     36.572,2,-999.0000,9,-999.0000,9,-999.0000,9,-999.0000,9,-999.0000,9,-999.0000,9,-999.0000,9,-999.0000,9,-999.0000,9,     -999.0,5,  -999.0,9,     -999.0,     -999.0,9,     -999.0,20130919,       1852
33RO20130803,       A16N,     102,          1,         20,         20,2,20130919,       1644,    13.0023,   -29.0002,       5720,   208.8,  11.9420,  35.2614,2,  35.2596,2,     71.9,2,    72.6,2,   10.40,2,   28.10,2,    0.01,2,    1.73,2,   1.683,2,   0.919,2,   0.460,2,  2224.3,2,  2318.6,2,  1096.0,2,      20,   7.5747,2,    25.00, -999.00,9,  -999.0,9,  -999.0, -999.00,9, -999.00,9,     38.009,2,-999.0000,9,-999.0000,9,-999.0000,9,-999.0000,9,-999.0000,9,-999.0000,9,-999.0000,9,-999.0000,9,-999.0000,9,     -999.0,5,  -999.0,9,     -999.0,     -999.0,9,     -999.0,20130919,       1848
33RO20130803,       A16N,     102,          1,         19,         19,2,20130919,       1644,    13.0023,   -29.0002,       5720,   317.6,  11.0954,  35.2303,2,  35.2300,2,     57.5,2,    58.8,2,   12.10,2,   31.00,2,    0.01,2,    1.87,2,   1.254,2,   0.674,2,   0.307,2,  2237.3,2,  2320.0,2,  1210.2,2,      20,   7.5296,6,    25.00, -999.00,9,  -999.0,9,  -999.0, -999.00,9, -999.00,9,     40.108,2,-999.0000,9,-999.0000,9,-999.0000,9,-999.0000,9,-999.0000,9,-999.0000,9,-999.0000,9,-999.0000,9,-999.0000,9,     -999.0,5,  -999.0,9,     -999.0,     -999.0,9,     -999.0,20130919,       1845
33RO20130803,       A16N,     102,          1,         18,         18,2,20130919,       1644,    13.0023,   -29.0002,       5720,   438.0,  10.0656,  35.1593,2,  35.1593,2,     47.0,2,    49.3,2,   14.80,2,   34.00,2,    0.01,2,    2.06,2,   0.716,6,   0.384,6,   0.251,6,  2247.1,2,  2312.2,6,  1324.8,2,      20,   7.4904,2,    25.00, -999.00,9,  -999.0,9,  -999.0, -999.00,9, -999.00,9,     39.597,6,-999.0000,9,-999.0000,9,-999.0000,9,-999.0000,9,-999.0000,9,-999.0000,9,-999.0000,9,-999.0000,9,-999.0000,9,     -999.0,5,  -999.0,9,     -999.0,     -999.0,9,     -999.0,20130919,       1840
33RO20130803,       A16N,     102,          1,         17,         17,2,20130919,       1644,    13.0023,   -29.0002,       5720,   547.3,   8.9398,  35.0517,2,-999.0000,9,     58.0,2,  -999.0,9, -999.00,9, -999.00,9, -999.00,9, -999.00,9,-999.000,9,-999.000,9,-999.000,9,  -999.0,9,  -999.0,9,  -999.0,9, -999.00,-999.0000,9,  -999.00, -999.00,9,  -999.0,9,  -999.0, -999.00,9, -999.00,9,     -999.0,9,-999.0000,9,-999.0000,9,-999.0000,9,-999.0000,9,-999.0000,9,-999.0000,9,-999.0000,9,-999.0000,9,-999.0000,9,     -999.0,9,  -999.0,9,     -999.0,     -999.0,9,     -999.0,20130919,       1836
33RO20130803,       A16N,     102,          1,         16,         16,2,20130919,       1644,    13.0023,   -29.0002,       5720,   698.5,   7.1847,  34.8754,2,  34.8740,2,     78.8,2,    78.8,2,   22.00,2,   35.90,2,    0.01,2,    2.31,2,   0.119,2,   0.069,2,   0.063,2,  2243.8,6,  2310.0,2,  1333.8,2,      20,   7.4860,2,    25.00, -999.00,9,  -999.0,9,  -999.0, -999.00,9, -999.00,9,     31.699,2,-999.0000,9,-999.0000,9,-999.0000,9,-999.0000,9,-999.0000,9,-999.0000,9,-999.0000,9,-999.0000,9,-999.0000,9,     -999.0,5,  -999.0,9,     -999.0,     -999.0,9,     -999.0,20130919,       1832
33RO20130803,       A16N,     102,          1,         15,         15,2,20130919,       1644,    13.0023,   -29.0002,       5720,   847.9,   6.2547,  34.8304,2,  34.8295,2,    103.5,2,   104.1,2,   24.20,2,   34.40,2,    0.00,2,    2.26,2,   0.045,2,   0.027,2,   0.000,2,  2237.0,2,  2309.5,2,  1232.4,2,      20,   7.5168,2,    25.00, -999.00,9,  -999.0,9,  -999.0, -999.00,9, -999.00,9,     27.753,2,-999.0000,9,-999.0000,9,-999.0000,9,-999.0000,9,-999.0000,9,-999.0000,9,-999.0000,9,-999.0000,9,-999.0000,9,     -999.0,5,  -999.0,9,     -999.0,     -999.0,9,     -999.0,20130919,       1828
33RO20130803,       A16N,     102,          1,         14,         14,2,20130919,       1644,    13.0023,   -29.0002,       5720,   948.3,   5.8524,  34.8515,2,  34.8513,2,    120.3,2,   120.9,2,   24.50,2,   32.70,2,    0.00,2,    2.17,2,   0.030,2,   0.018,2,   0.000,2,  2229.9,2,  2316.6,3,  1152.0,2,      20,   7.5456,2,    25.00, -999.00,9,  -999.0,9,  -999.0, -999.00,9, -999.00,9,     25.373,2,-999.0000,9,-999.0000,9,-999.0000,9,-999.0000,9,-999.0000,9,-999.0000,9,-999.0000,9,-999.0000,9,-999.0000,9,     -999.0,5,  -999.0,9,     -999.0,     -999.0,9,     -999.0,20130919,       1825
33RO20130803,       A16N,     102,          1,         13,         13,2,20130919,       1644,    13.0023,   -29.0002,       5720,  1123.6,   5.4095,  34.9169,2,  34.9164,2,    148.9,2,   148.9,2,   23.40,2,   29.50,2,    0.00,2,    1.96,2,   0.020,2,   0.013,2,   0.000,2,  2216.0,2,  2315.2,2,  1018.7,2,      20,   7.5980,2,    25.00, -999.00,9,  -999.0,9,  -999.0, -999.00,9, -999.00,9,     21.580,2,-999.0000,9,-999.0000,9,-999.0000,9,-999.0000,9,-999.0000,9,-999.0000,9,-999.0000,9,-999.0000,9,-999.0000,9,     -999.0,5,  -999.0,9,     -999.0,     -999.0,9,     -999.0,20130919,       1820
33RO20130803,       A16N,     102,          1,         12,         12,2,20130919,       1644,    13.0023,   -29.0002,       5720,  1272.4,   4.9547,  34.9604,2,  34.9597,2,    175.4,2,   175.5,2,   22.00,2,   26.50,2,    0.00,2,    1.77,2,-999.000,9,-999.000,9,-999.000,9,  2202.9,2,  2315.6,2,   912.3,2,      20,   7.6405,2,    25.00, -999.00,9,  -999.0,9,  -999.0, -999.00,9, -999.00,9,     -999.0,9,-999.0000,9,-999.0000,9,-999.0000,9,-999.0000,9,-999.0000,9,-999.0000,9,-999.0000,9,-999.0000,9,-999.0000,9,     -999.0,9,  -999.0,9,     -999.0,     -999.0,9,     -999.0,20130919,       1816
33RO20130803,       A16N,     102,          1,         11,         11,2,20130919,       1644,    13.0023,   -29.0002,       5720,  1423.0,   4.5535,  34.9777,2,  34.9763,2,    199.6,2,     199,2,   20.80,2,   24.20,2,    0.00,2,    1.62,2,   0.025,2,   0.017,2,   0.000,2,  2191.2,2,  2318.7,2,   847.9,2,      20,   7.6688,2,    25.00, -999.00,9,  -999.0,9,  -999.0, -999.00,9, -999.00,9,     16.898,2,-999.0000,9,-999.0000,9,-999.0000,9,-999.0000,9,-999.0000,9,-999.0000,9,-999.0000,9,-999.0000,9,-999.0000,9,     -999.0,5,  -999.0,9,     -999.0,     -999.0,9,     -999.0,20130919,       1812
33RO20130803,       A16N,     102,          1,         10,         10,2,20130919,       1644,    13.0023,   -29.0002,       5720,  1598.0,   4.1760,  34.9854,2,  34.9857,2,    223.0,2,   222.2,2,   19.50,2,   22.00,2,    0.00,2,    1.46,2,-999.000,9,-999.000,9,-999.000,9,  2179.3,2,  2320.8,2,   786.3,2,      20,   7.6979,2,    25.00, -999.00,9,  -999.0,9,  -999.0, -999.00,9, -999.00,9,     -999.0,9,-999.0000,9,-999.0000,9,-999.0000,9,-999.0000,9,-999.0000,9,-999.0000,9,-999.0000,9,-999.0000,9,-999.0000,9,     -999.0,9,  -999.0,9,     -999.0,     -999.0,9,     -999.0,20130919,       1807
33RO20130803,       A16N,     102,          1,          9,          9,2,20130919,       1644,    13.0023,   -29.0002,       5720,  1897.3,   3.7148,  34.9768,2,  34.9766,2,    237.7,2,   236.4,2,   20.90,2,   20.80,2,    0.00,2,    1.39,2,   0.035,2,   0.022,2,   0.024,2,  2173.8,2,  2323.5,2,   757.9,2,      20,   7.7176,2,    25.00, -999.00,9,  -999.0,9,  -999.0, -999.00,9, -999.00,9,     14.060,2,-999.0000,9,-999.0000,9,-999.0000,9,-999.0000,9,-999.0000,9,-999.0000,9,-999.0000,9,-999.0000,9,-999.0000,9,     -999.0,5,  -999.0,9,     -999.0,     -999.0,9,     -999.0,20130919,       1801
33RO20130803,       A16N,     102,          1,          8,          8,2,20130919,       1644,    13.0023,   -29.0002,       5720,  2299.0,   3.2366,  34.9577,2,  34.9564,2,    236.5,2,   236.1,2,   27.60,2,   21.30,2,    0.00,2,    1.43,2,-999.000,9,-999.000,9,-999.000,9,  2181.0,2,  2332.2,3,   758.2,2,      20,   7.7167,2,    25.00, -999.00,9,  -999.0,9,  -999.0, -999.00,9, -999.00,9,     -999.0,9,-999.0000,9,-999.0000,9,-999.0000,9,-999.0000,9,-999.0000,9,-999.0000,9,-999.0000,9,-999.0000,9,-999.0000,9,     -999.0,9,  -999.0,9,     -999.0,     -999.0,9,     -999.0,20130919,       1752
33RO20130803,       A16N,     102,          1,          7,          7,2,20130919,       1644,    13.0023,   -29.0002,       5720,  2798.4,   2.8488,  34.9359,2,  34.9362,2,    243.3,2,   243.2,2,   32.10,2,   21.00,2,    0.00,2,    1.41,2,   0.000,2,   0.002,2,   0.000,2,  2182.6,2,  2332.0,2,   745.2,2,      20,   7.7211,2,    25.00, -999.00,9,  -999.0,9,  -999.0, -999.00,9, -999.00,9,     13.479,2,-999.0000,9,-999.0000,9,-999.0000,9,-999.0000,9,-999.0000,9,-999.0000,9,-999.0000,9,-999.0000,9,-999.0000,9,     -999.0,5,  -999.0,9,     -999.0,     -999.0,9,     -999.0,20130919,       1743
33RO20130803,       A16N,     102,          1,          6,          6,2,20130919,       1644,    13.0023,   -29.0002,       5720,  3298.5,   2.5993,  34.9174,2,  34.9165,2,    246.7,2,   246.4,2,   36.70,2,   21.20,2,    0.00,2,    1.42,2,-999.000,9,-999.000,9,-999.000,9,  2186.3,2,  2343.0,2,   743.8,2,      20,   7.7277,6,    25.00, -999.00,9,  -999.0,9,  -999.0, -999.00,9, -999.00,9,     -999.0,9,-999.0000,9,-999.0000,9,-999.0000,9,-999.0000,9,-999.0000,9,-999.0000,9,-999.0000,9,-999.0000,9,-999.0000,9,     -999.0,9,  -999.0,9,     -999.0,     -999.0,9,     -999.0,20130919,       1733
33RO20130803,       A16N,     102,          1,          5,          5,2,20130919,       1644,    13.0023,   -29.0002,       5720,  3796.4,   2.4332,  34.9008,2,  34.9000,2,    243.6,2,   243.1,2,   42.10,2,   22.00,2,    0.00,2,    1.47,2,   0.002,2,   0.004,2,   0.000,2,  2195.3,2,  2346.0,2,   755.2,2,      20,   7.7236,2,    25.00, -999.00,9,  -999.0,9,  -999.0, -999.00,9, -999.00,9,     13.539,2,-999.0000,9,-999.0000,9,-999.0000,9,-999.0000,9,-999.0000,9,-999.0000,9,-999.0000,9,-999.0000,9,-999.0000,9,     -999.0,5,  -999.0,9,     -999.0,     -999.0,9,     -999.0,20130919,       1724
33RO20130803,       A16N,     102,          1,          4,          4,2,20130919,       1644,    13.0023,   -29.0002,       5720,  4297.5,   2.3257,  34.8849,2,  34.8844,2,    236.0,2,   235.8,2,   48.60,6,   23.00,6,    0.00,6,    1.53,6,-999.000,9,-999.000,9,-999.000,9,  2210.1,2,  2355.8,2,   774.2,2,      20,   7.7139,2,    25.00, -999.00,9,  -999.0,9,  -999.0, -999.00,9, -999.00,9,     -999.0,9,-999.0000,9,-999.0000,9,-999.0000,9,-999.0000,9,-999.0000,9,-999.0000,9,-999.0000,9,-999.0000,9,-999.0000,9,     -999.0,9,  -999.0,9,     -999.0,     -999.0,9,     -999.0,20130919,       1714
33RO20130803,       A16N,     102,          1,          3,          3,2,20130919,       1644,    13.0023,   -29.0002,       5720,  4797.5,   2.2974,  34.8766,2,  34.8765,2,    240.0,2,   239.7,2,   49.60,6,   22.80,6,    0.00,6,    1.53,6,   0.010,2,   0.009,2,   0.000,2,  2206.9,2,  2355.4,2,   770.8,2,      20,   7.7149,2,    25.00, -999.00,9,  -999.0,9,  -999.0, -999.00,9, -999.00,9,     13.841,2,-999.0000,9,-999.0000,9,-999.0000,9,-999.0000,9,-999.0000,9,-999.0000,9,-999.0000,9,-999.0000,9,-999.0000,9,     -999.0,5,  -999.0,9,     -999.0,     -999.0,9,     -999.0,20130919,       1705
33RO20130803,       A16N,     102,          1,          2,          2,2,20130919,       1644,    13.0023,   -29.0002,       5720,  5298.3,   2.2965,  34.8704,2,  34.8699,2,    245.3,2,   244.5,2,   49.50,6,   22.50,6,    0.01,6,    1.51,6,   0.035,2,   0.023,2,   0.000,2,  2203.0,2,  2351.9,2,   765.8,2,      20,   7.7170,2,    25.00, -999.00,9,  -999.0,9,  -999.0, -999.00,9, -999.00,9,     13.932,2,-999.0000,9,-999.0000,9,-999.0000,9,-999.0000,9,-999.0000,9,-999.0000,9,-999.0000,9,-999.0000,9,-999.0000,9,     -999.0,5,  -999.0,9,     -999.0,     -999.0,9,     -999.0,20130919,       1655
33RO20130803,       A16N,     102,          1,          1,          1,2,20130919,       1644,    13.0023,   -29.0002,       5720,  5792.5,   2.3396,  34.8674,2,  34.8662,2,    246.7,2,   244.5,2,   50.00,6,   22.60,6,    0.01,6,    1.52,6,   0.062,6,   0.038,6,   0.034,6,  2204.5,6,  2352.3,2,   753.1,2,      20,   7.7148,2,    25.00, -999.00,9,  -999.0,9,  -999.0, -999.00,9, -999.00,9,     13.975,6,-999.0000,9,-999.0000,9,-999.0000,9,-999.0000,9,-999.0000,9,-999.0000,9,-999.0000,9,-999.0000,9,-999.0000,9,     -999.0,5,  -999.0,9,     -999.0,     -999.0,9,     -999.0,20130919,       1644