BOTTLE,20220815CCHSIOAMB
EXPOCODE,SECT_ID,STNNBR,CASTNO,SAMPNO,BTLNBR,BTLNBR_FLAG_W,DATE,TIME,LATITUDE,LONGITUDE,DEPTH,CTDPRS,CTDTMP,CTDSAL,CTDSAL_FLAG_W,SALNTY,SALNTY_FLAG_W,CTDOXY,CTDOXY_FLAG_W,OXYGEN,OXYGEN_FLAG_W,SILCAT,SILCAT_FLAG_W,NITRAT,NITRAT_FLAG_W,NITRIT,NITRIT_FLAG_W,PHSPHT,PHSPHT_FLAG_W,CFC-11,CFC-11_FLAG_W,CFC-12,CFC-12_FLAG_W,SF6,SF6_FLAG_W,TCARBN,TCARBN_FLAG_W,ALKALI,ALKALI_FLAG_W,PCO2,PCO2_FLAG_W,PCO2TMP,PH_SWS,PH_SWS_FLAG_W,PH_TMP,DELC13,DELC13_FLAG_W,DELC14,DELC14_FLAG_W,C14ERR,DOC,DOC_FLAG_W,TDN,TDN_FLAG_W,N2O,N2O_FLAG_W,CDOM325,CDOM325_FLAG_W,CDOM340,CDOM340_FLAG_W,CDOM380,CDOM380_FLAG_W,CDOM412,CDOM412_FLAG_W,CDOM443,CDOM443_FLAG_W,CDOM490,CDOM490_FLAG_W,CDOM555,CDOM555_FLAG_W,CDOMSL,CDOMSL_FLAG_W,CDOMSN,CDOMSN_FLAG_W,CCL4,CCL4_FLAG_W,14C-DOC,14C-DOC_FLAG_W,14C-DOCERR,13C-DOC,13C-DOC_FLAG_W,13C-DOCERR,BTL_DATE,BTL_TIME
,,,,,,,,,,,METERS,DBAR,ITS-90,PSS-78,,PSS-78,,UMOL/KG,,UMOL/KG,,UMOL/KG,,UMOL/KG,,UMOL/KG,,UMOL/KG,,PMOL/KG,,PMOL/KG,,FMOL/KG,,UMOL/KG,,UMOL/KG,,UATM,,DEG C,,,DEG C,/MILLE,,/MILLE,,/MILLE,UMOL/KG,,UMOL/KG,,NMOL/KG,,1/M,,1/M,,1/M,,1/M,,1/M,,1/M,,1/M,,1/NM,,1/NM,,PMOL/KG,,/MILLE,,/MILLE,/MILLE,,/MILLE,,
33RO20130803,       A16N,      10,          1,         24,         24,2,20130805,       1502,    60.4994,   -20.0003,       2534,     3.1,  12.0857,  35.0264,2,-999.0000,9,    275.7,2,     281,2,    1.50,2,    3.60,2,    0.07,2,    0.29,2,   3.210,6,   1.868,6,   1.966,6,  2079.4,6,  2311.8,2,   454.3,2,      20,   7.9175,2,    25.00,    1.41,2,    29.3,2,     0.2,   59.36,2,    7.38,2,      9.758,6,-999.0000,9,-999.0000,9,-999.0000,9,-999.0000,9,-999.0000,9,-999.0000,9,-999.0000,9,-999.0000,9,-999.0000,9,     -999.0,5,  -999.0,9,     -999.0,     -999.0,9,     -999.0,20130805,       1616
33RO20130803,       A16N,      10,          1,         23,         23,2,20130805,       1502,    60.4994,   -20.0003,       2534,    18.7,  11.6486,  35.0265,2,  35.0287,2,    279.0,2,   279.4,2,    1.60,2,    4.80,2,    0.09,2,    0.38,2,   3.296,2,   1.911,2,   2.052,2,  -999.0,9,  -999.0,9,  -999.0,9, -999.00,-999.0000,9,  -999.00,    1.28,2,    29.1,2,     0.2,   58.64,2,    8.91,2,      9.917,2,   0.2225,2,   0.1590,2,   0.0667,2,   0.0464,2,   0.0229,2,   0.0122,2,  -0.0003,4,   0.0208,2,   0.0222,2,     -999.0,5,  -999.0,9,     -999.0,     -999.0,9,     -999.0,20130805,       1614
33RO20130803,       A16N,      10,          1,         22,         22,2,20130805,       1502,    60.4994,   -20.0003,       2534,    42.6,   9.9369,  35.0582,2,-999.0000,9,    271.5,2,   271.8,2, -999.00,9, -999.00,9, -999.00,9, -999.00,9,   3.527,2,   2.018,2,   2.097,2,  2121.4,2,  2313.2,6,   573.1,2,      20,   7.8294,2,    25.00,    0.93,2,    33.8,2,     0.2,   55.09,2,   11.48,2,     10.546,2,   0.1678,2,   0.1181,2,   0.0481,2,   0.0338,2,   0.0144,2,   0.0073,3,  -0.0025,4,   0.0216,2,   0.0231,2,     -999.0,5,    -306,2,          4,     -999.0,9,     -999.0,20130805,       1612
33RO20130803,       A16N,      10,          1,         21,         21,2,20130805,       1502,    60.4994,   -20.0003,       2534,    67.8,   9.4168,  35.0671,2,  35.0711,2,    271.1,2,   270.4,2,    2.30,2,    9.20,2,    0.46,2,    0.69,2,   3.553,2,   2.034,2,   2.206,2,  -999.0,9,  -999.0,9,  -999.0,9, -999.00,-999.0000,9,  -999.00,    0.85,2,    32.7,2,     0.2,   54.14,2,   12.46,2,     11.442,2,   0.1877,2,   0.1343,2,   0.0583,2,   0.0414,2,   0.0204,2,   0.0112,2,  -0.0002,4,   0.0202,2,   0.0216,2,     -999.0,5,  -999.0,9,     -999.0,     -999.0,9,     -999.0,20130805,       1610
33RO20130803,       A16N,      10,          1,         20,         20,2,20130805,       1502,    60.4994,   -20.0003,       2534,    92.4,   8.8069,  35.0822,2,-999.0000,9,    262.9,2,   269.1,2, -999.00,9, -999.00,9, -999.00,9, -999.00,9,   3.588,2,   2.062,2,   2.160,2,  2139.4,2,  2313.7,2,   635.4,2,      20,   7.7884,2,    25.00,    0.77,2,    33.9,2,     0.2,    53.3,2,   13.26,2,     11.258,2,-999.0000,9,-999.0000,9,-999.0000,9,-999.0000,9,-999.0000,9,-999.0000,9,-999.0000,9,-999.0000,9,-999.0000,9,     -999.0,5,    -319,2,          4,      -22.3,2,        0.2,20130805,       1609
33RO20130803,       A16N,      10,          1,         19,         19,2,20130805,       1502,    60.4994,   -20.0003,       2534,   117.4,   8.8595,  35.1192,2,  35.1230,2,    265.8,2,   266.9,2,    2.90,2,   11.50,2,    0.01,2,    0.76,2,   3.521,2,   2.017,2,   2.096,2,  -999.0,9,  -999.0,9,  -999.0,9, -999.00,-999.0000,9,  -999.00,    0.73,2,    36.3,2,     0.2,   52.45,2,   13.77,2,     11.276,2,   0.1586,2,   0.1097,2,   0.0454,2,   0.0337,2,   0.0152,2,   0.0081,3,  -0.0019,4,   0.0213,2,   0.0234,2,     -999.0,5,  -999.0,9,     -999.0,     -999.0,9,     -999.0,20130805,       1607
33RO20130803,       A16N,      10,          1,         18,         18,2,20130805,       1502,    60.4994,   -20.0003,       2534,   138.7,   8.9131,  35.1503,2,  35.1484,2,    264.8,2,   264.9,2,    3.40,2,   11.70,2,    0.01,2,    0.78,2,   3.484,2,   1.999,2,   2.139,2,  2144.0,2,  2317.0,2,   636.4,2,      20,   7.7889,6,    25.00, -999.00,9,  -999.0,9,  -999.0,   51.01,2,   14.01,2,     11.453,2,   0.1677,2,   0.1170,2,   0.0489,2,   0.0363,2,   0.0173,2,   0.0095,3,  -0.0011,4,   0.0210,2,   0.0229,2,     -999.0,5,    -334,2,          4,      -22.5,2,        0.2,20130805,       1605
33RO20130803,       A16N,      10,          1,         17,         17,2,20130805,       1502,    60.4994,   -20.0003,       2534,   167.7,   8.7772,  35.1410,2,  35.1433,2,    264.1,2,   264.3,2,    3.80,2,   12.00,2,    0.01,2,    0.80,2,   3.517,2,   2.004,2,   2.100,2,  -999.0,9,  -999.0,9,  -999.0,9, -999.00,-999.0000,9,  -999.00,    0.70,2,    33.4,2,     0.3,   50.41,2,   14.22,2,     11.661,2,   0.1801,2,   0.1209,2,   0.0470,2,   0.0327,2,   0.0136,2,   0.0065,3,  -0.0029,3,   0.0230,2,   0.0252,2,     -999.0,5,  -999.0,9,     -999.0,     -999.0,9,     -999.0,20130805,       1603
33RO20130803,       A16N,      10,          1,         16,         16,2,20130805,       1502,    60.4994,   -20.0003,       2534,   192.1,   8.7621,  35.1515,2,  35.1498,2,    263.9,2,   263.3,2,    4.10,2,   12.20,2,    0.01,2,    0.81,2,   3.451,2,   1.973,2,   2.151,2,  -999.0,9,  2308.7,3,  -999.0,9, -999.00,-999.0000,9,  -999.00,    0.66,2,    33.7,2,     0.2,   49.63,2,    14.6,2,     11.657,2,   0.1625,2,   0.1120,2,   0.0470,2,   0.0348,2,   0.0163,2,   0.0090,3,  -0.0013,4,   0.0211,2,   0.0232,2,     -999.0,5,    -350,2,          4,      -22.8,2,        0.2,20130805,       1602
33RO20130803,       A16N,      10,          1,         15,         15,2,20130805,       1502,    60.4994,   -20.0003,       2534,   236.4,   8.4964,  35.1281,2,  35.1313,2,    256.7,2,   257.2,2,    5.10,2,   13.10,2,    0.01,2,    0.86,2,   3.398,2,   1.925,2,   1.982,2,  2151.5,2,  2308.9,3,   667.1,2,      20,   7.7705,2,    25.00,    0.67,2,    29.1,2,     0.2,      49,2,   15.72,2,     12.256,2,   0.1583,2,   0.1081,2,   0.0437,2,   0.0317,2,   0.0138,2,   0.0072,3,  -0.0025,4,   0.0220,2,   0.0241,2,     -999.0,5,  -999.0,9,     -999.0,     -999.0,9,     -999.0,20130805,       1600
33RO20130803,       A16N,      10,          1,         14,         14,2,20130805,       1502,    60.4994,   -20.0003,       2534,   304.3,   8.2129,  35.1248,2,  35.1234,2,    253.4,2,   253.1,2,    6.30,2,   14.00,2,    0.01,2,    0.92,2,   3.361,2,   1.903,2,   1.885,2,  -999.0,9,  2337.5,4,  -999.0,9, -999.00,-999.0000,9,  -999.00,    0.67,2,    29.9,2,     0.2,   48.48,2,   16.01,2,     12.817,2,   0.1554,2,   0.1068,2,   0.0437,2,   0.0317,2,   0.0144,2,   0.0078,3,  -0.0020,4,   0.0217,2,   0.0238,2,     -999.0,5,    -341,2,          4,      -22.8,2,        0.2,20130805,       1557
33RO20130803,       A16N,      10,          1,         13,         13,2,20130805,       1502,    60.4994,   -20.0003,       2534,   379.4,   7.8832,  35.1206,2,  35.1190,2,    241.6,2,   248.2,2,    7.40,2,   15.00,2,    0.01,2,    0.99,2,   3.305,2,   1.856,2,   1.894,2,  2160.8,2,  -999.0,5,   712.9,2,      20,   7.7449,2,    25.00,    0.62,2,    30.8,2,     0.2,    47.5,2,   17.09,2,     13.258,2,   0.1555,2,   0.1067,2,   0.0443,2,   0.0323,2,   0.0150,2,   0.0083,3,  -0.0017,4,   0.0215,2,   0.0235,2,     -999.0,5,  -999.0,9,     -999.0,     -999.0,9,     -999.0,20130805,       1555
33RO20130803,       A16N,      10,          1,         12,         12,2,20130805,       1502,    60.4994,   -20.0003,       2534,   452.7,   7.6054,  35.1259,2,  35.1262,2,    232.7,2,     235,2,    8.80,2,   16.40,2,    0.01,2,    1.07,2,   3.142,2,   1.749,2,   1.581,2,  -999.0,9,  2313.2,2,  -999.0,9, -999.00,-999.0000,9,  -999.00,    0.04,4,    -1.0,3,     0.2,   47.38,2,   18.71,2,     14.197,2,   0.1510,2,   0.1029,2,   0.0416,2,   0.0299,2,   0.0131,2,   0.0068,3,  -0.0026,4,   0.0221,2,   0.0243,2,     -999.0,5,  -999.0,5,     -999.0,     -999.0,5,     -999.0,20130805,       1553
33RO20130803,       A16N,      10,          1,         11,         11,2,20130805,       1502,    60.4994,   -20.0003,       2534,   529.2,   6.8133,  35.0726,2,  35.0723,2,    224.6,2,   223.7,2,   10.30,2,   18.00,2,    0.00,2,    1.17,2,   3.017,2,   1.645,2,   1.301,2,  2176.8,2,  2312.7,2,   800.0,2,      20,   7.6975,2,    25.00,    0.62,6,     5.2,6,     3.6,   47.15,2,   20.24,2,     15.314,2,   0.1548,2,   0.1055,2,   0.0431,2,   0.0309,2,   0.0137,2,   0.0069,3,  -0.0026,4,   0.0219,2,   0.0240,2,     -999.0,5,  -999.0,9,     -999.0,     -999.0,9,     -999.0,20130805,       1550
33RO20130803,       A16N,      10,          1,         10,         10,2,20130805,       1502,    60.4994,   -20.0003,       2534,   578.2,   6.5029,  35.0638,2,  35.0626,2,    224.3,2,   224.7,2,   10.50,2,   18.20,2,    0.00,2,    1.19,2,   3.030,2,   1.645,2,   1.347,2,  -999.0,9,  2313.1,2,  -999.0,9, -999.00,-999.0000,9,  -999.00,    0.65,6,     4.1,6,     4.5,   46.66,2,   19.98,2,     15.350,2,   0.1536,2,   0.1056,2,   0.0443,2,   0.0322,2,   0.0152,2,   0.0080,3,  -0.0020,4,   0.0212,2,   0.0233,2,     -999.0,5,  -999.0,5,     -999.0,     -999.0,5,     -999.0,20130805,       1548
33RO20130803,       A16N,      10,          1,          9,          9,2,20130805,       1502,    60.4994,   -20.0003,       2534,   698.7,   5.7603,  35.0392,2,  35.0392,2,    231.4,2,   230.9,2,   11.00,2,   18.40,2,    0.00,2,    1.20,2,   3.141,2,   1.672,2,   1.193,2,  2179.5,2,  2311.0,2,   821.6,2,      20,   7.6905,2,    25.00,    0.22,4,    -5.3,3,     0.3,   46.47,2,   20.33,2,     15.062,2,   0.1463,2,   0.1001,2,   0.0412,2,   0.0298,2,   0.0135,2,   0.0069,3,  -0.0026,4,   0.0217,2,   0.0238,2,     -999.0,5,  -999.0,9,     -999.0,     -999.0,9,     -999.0,20130805,       1544
33RO20130803,       A16N,      10,          1,          8,          8,2,20130805,       1502,    60.4994,   -20.0003,       2534,   845.7,   4.9975,  34.9943,2,  34.9927,2,    247.0,2,   247.6,2,   10.90,2,   17.80,2,    0.00,2,    1.17,2,   3.449,2,   1.811,2,   1.228,2,  -999.0,9,  2307.7,2,  -999.0,9, -999.00,-999.0000,9,  -999.00,    0.66,2,    13.6,2,     0.2,   46.37,2,   19.69,2,     14.448,2,-999.0000,5,-999.0000,5,-999.0000,5,-999.0000,5,-999.0000,5,-999.0000,5,-999.0000,5,-999.0000,5,-999.0000,5,     -999.0,5,    -358,2,          4,      -22.0,2,        0.2,20130805,       1541
33RO20130803,       A16N,      10,          1,          7,          7,2,20130805,       1502,    60.4994,   -20.0003,       2534,  1011.1,   4.4336,  34.9510,2,-999.0000,9,    259.2,2,   260.1,2, -999.00,9, -999.00,9, -999.00,9, -999.00,9,   3.660,2,   1.923,2,   1.253,2,  2170.6,2,  2304.5,2,   806.8,2,      20,   7.6786,4,    25.00,    0.49,4,     8.4,2,     0.3,   46.28,2,   19.67,2,     14.005,2,-999.0000,9,-999.0000,9,-999.0000,9,-999.0000,9,-999.0000,9,-999.0000,9,-999.0000,9,-999.0000,9,-999.0000,9,     -999.0,5,    -368,2,          4,      -22.0,2,        0.2,20130805,       1537
33RO20130803,       A16N,      10,          1,          6,          6,2,20130805,       1502,    60.4994,   -20.0003,       2534,  1162.0,   4.1222,  34.9295,2,  34.9301,2,    266.8,2,   267.6,2,   10.70,2,   17.20,2,    0.00,2,    1.13,2,   3.765,2,   1.957,2,   1.269,2,  -999.0,9,  2301.8,2,  -999.0,9, -999.00,-999.0000,9,  -999.00,    0.73,2,     5.6,2,     0.2,   45.86,2,   19.65,2,     13.792,2,   0.1401,2,   0.0958,2,   0.0397,2,   0.0289,2,   0.0133,2,   0.0071,2,  -0.0024,4,   0.0215,2,   0.0237,2,     -999.0,5,    -367,2,          4,     -999.0,9,     -999.0,20130805,       1533
33RO20130803,       A16N,      10,          1,          5,          5,2,20130805,       1502,    60.4994,   -20.0003,       2534,  1312.1,   3.9093,  34.9152,2,-999.0000,9,    270.9,2,   271.3,3,   10.90,2,   17.10,2,    0.00,2,    1.13,2,   3.787,2,   1.934,2,   1.148,2,  2166.4,2,  2302.7,4,   791.4,2,      20,   7.7005,2,    25.00,    0.73,2,     5.3,2,     0.2,   46.16,2,   19.73,2,     13.635,2,-999.0000,9,-999.0000,9,-999.0000,9,-999.0000,9,-999.0000,9,-999.0000,9,-999.0000,9,-999.0000,9,-999.0000,9,     -999.0,5,    -370,2,          4,      -22.4,2,        0.2,20130805,       1529
33RO20130803,       A16N,      10,          1,          4,          4,2,20130805,       1502,    60.4994,   -20.0003,       2534,  1536.1,   3.7453,  34.9172,2,  34.9164,2,    271.0,2,   271.4,2,   11.50,6,   17.10,6,    0.00,6,    1.13,6,   3.475,2,   1.749,2,   0.980,2,  -999.0,9,  2327.5,4,  -999.0,9, -999.00,-999.0000,9,  -999.00,    0.76,2,     4.8,2,     0.2,   46.15,2,   19.76,2,     13.511,2,   0.1437,2,   0.0977,2,   0.0394,2,   0.0285,2,   0.0127,2,   0.0065,3,  -0.0027,3,   0.0222,2,   0.0244,2,     -999.0,5,    -377,2,          4,      -22.1,2,        0.2,20130805,       1523
33RO20130803,       A16N,      10,          1,          3,          3,2,20130805,       1502,    60.4994,   -20.0003,       2534,  1898.6,   3.4662,  34.9293,2,-999.0000,9,    273.2,2,   273.5,2,   12.20,6,   16.80,6,    0.00,6,    1.11,6,   3.013,6,   1.498,6,   0.809,6,  2162.8,2,  2301.2,2,  -999.0,5,      20,   7.7146,6,    25.00, -999.00,9,    -6.3,2,     2.4,   45.72,2,   19.39,2,     13.247,6,-999.0000,9,-999.0000,9,-999.0000,9,-999.0000,9,-999.0000,9,-999.0000,9,-999.0000,9,-999.0000,9,-999.0000,9,     -999.0,5,    -386,2,          4,      -22.1,2,        0.2,20130805,       1516
33RO20130803,       A16N,      10,          1,          2,          2,2,20130805,       1502,    60.4994,   -20.0003,       2534,  2298.7,   3.0828,  34.9653,2,  34.9663,2,    271.6,2,   272.2,2,   14.50,6,   16.30,6,    0.00,6,    1.09,6,   2.732,2,   1.379,2,   0.826,2,  -999.0,9,  2302.7,6,  -999.0,9, -999.00,-999.0000,9,  -999.00,    0.81,6,   -10.9,6,     3.4,   45.96,2,   18.92,2,     13.369,2,   0.1485,2,   0.1024,2,   0.0433,2,   0.0308,2,   0.0144,2,   0.0075,3,  -0.0024,4,   0.0212,2,   0.0232,2,     -999.0,5,  -999.0,5,     -999.0,     -999.0,5,     -999.0,20130805,       1508
33RO20130803,       A16N,      10,          1,          1,          1,2,20130805,       1502,    60.4994,   -20.0003,       2534,  2555.8,   2.7180,  34.9876,2,  34.9884,2,    275.6,2,   274.9,2,   14.10,6,   15.30,6,    0.02,6,    1.03,6,   3.192,2,   1.652,2,   1.313,2,  2173.4,6,  2302.8,3,   794.0,2,      20,   7.7196,3,    25.00,    0.75,2,     4.0,3,     0.2,   46.23,2,    17.9,2,     13.687,2,   0.1731,2,   0.1208,2,   0.0530,2,   0.0381,2,   0.0187,2,   0.0094,2,  -0.0015,4,   0.0202,2,   0.0221,2,     -999.0,5,  -999.0,9,     -999.0,     -999.0,9,     -999.0,20130805,       1502