BOTTLE,20220815CCHSIOAMB
EXPOCODE,SECT_ID,STNNBR,CASTNO,SAMPNO,BTLNBR,BTLNBR_FLAG_W,DATE,TIME,LATITUDE,LONGITUDE,DEPTH,CTDPRS,CTDTMP,CTDSAL,CTDSAL_FLAG_W,SALNTY,SALNTY_FLAG_W,CTDOXY,CTDOXY_FLAG_W,OXYGEN,OXYGEN_FLAG_W,SILCAT,SILCAT_FLAG_W,NITRAT,NITRAT_FLAG_W,NITRIT,NITRIT_FLAG_W,PHSPHT,PHSPHT_FLAG_W,CFC-11,CFC-11_FLAG_W,CFC-12,CFC-12_FLAG_W,SF6,SF6_FLAG_W,TCARBN,TCARBN_FLAG_W,ALKALI,ALKALI_FLAG_W,PCO2,PCO2_FLAG_W,PCO2TMP,PH_SWS,PH_SWS_FLAG_W,PH_TMP,DELC13,DELC13_FLAG_W,DELC14,DELC14_FLAG_W,C14ERR,DOC,DOC_FLAG_W,TDN,TDN_FLAG_W,N2O,N2O_FLAG_W,CDOM325,CDOM325_FLAG_W,CDOM340,CDOM340_FLAG_W,CDOM380,CDOM380_FLAG_W,CDOM412,CDOM412_FLAG_W,CDOM443,CDOM443_FLAG_W,CDOM490,CDOM490_FLAG_W,CDOM555,CDOM555_FLAG_W,CDOMSL,CDOMSL_FLAG_W,CDOMSN,CDOMSN_FLAG_W,CCL4,CCL4_FLAG_W,14C-DOC,14C-DOC_FLAG_W,14C-DOCERR,13C-DOC,13C-DOC_FLAG_W,13C-DOCERR,BTL_DATE,BTL_TIME
,,,,,,,,,,,METERS,DBAR,ITS-90,PSS-78,,PSS-78,,UMOL/KG,,UMOL/KG,,UMOL/KG,,UMOL/KG,,UMOL/KG,,UMOL/KG,,PMOL/KG,,PMOL/KG,,FMOL/KG,,UMOL/KG,,UMOL/KG,,UATM,,DEG C,,,DEG C,/MILLE,,/MILLE,,/MILLE,UMOL/KG,,UMOL/KG,,NMOL/KG,,1/M,,1/M,,1/M,,1/M,,1/M,,1/M,,1/M,,1/NM,,1/NM,,PMOL/KG,,/MILLE,,/MILLE,/MILLE,,/MILLE,,
33RO20130803,       A16N,     117,          1,         24,         24,2,20130924,       0842,     4.9988,   -26.0000,       4536,     2.7,  27.7175,  34.6051,2,  34.6238,2,    196.5,2,   197.9,2,    1.80,2,    0.00,2,    0.00,2,    0.01,2,   1.486,2,   0.966,2,   1.135,2,  1936.8,6,  2272.8,2,  -999.0,9, -999.00,   8.0764,3,    25.00,    1.30,2,    49.2,2,     0.2, -999.00,9, -999.00,9,      5.652,3,-999.0000,9,-999.0000,9,-999.0000,9,-999.0000,9,-999.0000,9,-999.0000,9,-999.0000,9,-999.0000,9,-999.0000,9,     -999.0,5,  -999.0,9,     -999.0,     -999.0,9,     -999.0,20130924,       1036
33RO20130803,       A16N,     117,          1,         23,         23,2,20130924,       0842,     4.9988,   -26.0000,       4536,    28.0,  28.1894,  35.4807,2,  35.4866,2,    197.2,2,   197.2,2,    1.60,2,    0.00,2,    0.00,2,    0.01,2,   1.506,2,   0.954,2,   1.104,2,  1984.2,2,  2320.9,2,  -999.0,9, -999.00,   8.1562,3,    25.00,    1.32,2,    51.7,2,     0.2, -999.00,9, -999.00,9,      5.621,3,-999.0000,9,-999.0000,9,-999.0000,9,-999.0000,9,-999.0000,9,-999.0000,9,-999.0000,9,-999.0000,9,-999.0000,9,     -999.0,5,  -999.0,9,     -999.0,     -999.0,9,     -999.0,20130924,       1034
33RO20130803,       A16N,     117,          1,         22,         22,2,20130924,       0842,     4.9988,   -26.0000,       4536,    56.7,  27.7951,  35.9988,2,  35.8590,2,    197.0,2,   195.8,2,    1.20,2,    0.10,2,    0.00,2,    0.02,2,   1.553,2,   0.985,2,   1.134,2,  2018.2,2,  2351.9,6,  -999.0,9, -999.00,   8.0484,3,    25.00,    1.38,2,    51.4,2,     0.2, -999.00,9, -999.00,9,      6.460,3,-999.0000,9,-999.0000,9,-999.0000,9,-999.0000,9,-999.0000,9,-999.0000,9,-999.0000,9,-999.0000,9,-999.0000,9,     -999.0,5,  -999.0,9,     -999.0,     -999.0,9,     -999.0,20130924,       1032
33RO20130803,       A16N,     117,          1,         21,         21,2,20130924,       0842,     4.9988,   -26.0000,       4536,    85.9,  19.5923,  35.8406,2,  35.8485,2,    123.7,2,   119.4,2,    3.90,2,   11.90,2,    0.08,2,    0.80,2,   2.071,2,   1.186,2,   0.910,2,  2157.3,2,  2344.8,2,  -999.0,9, -999.00,   7.7792,3,    25.00, -999.00,9,  -999.0,9,  -999.0, -999.00,9, -999.00,9,     18.739,3,-999.0000,9,-999.0000,9,-999.0000,9,-999.0000,9,-999.0000,9,-999.0000,9,-999.0000,9,-999.0000,9,-999.0000,9,     -999.0,5,  -999.0,9,     -999.0,     -999.0,9,     -999.0,20130924,       1030
33RO20130803,       A16N,     117,          1,         20,         20,2,20130924,       0842,     4.9988,   -26.0000,       4536,   112.7,  16.5196,  35.6609,2,  35.6582,2,     89.7,2,    88.8,2,    5.60,2,   20.00,2,    0.02,2,    1.30,2,   2.192,2,   1.254,2,   0.752,2,  2196.1,2,  2337.9,2,  -999.0,9, -999.00,   7.6580,3,    25.00,    0.36,2,    48.3,2,     0.2, -999.00,9, -999.00,9,     24.700,3,-999.0000,9,-999.0000,9,-999.0000,9,-999.0000,9,-999.0000,9,-999.0000,9,-999.0000,9,-999.0000,9,-999.0000,9,     -999.0,5,  -999.0,9,     -999.0,     -999.0,9,     -999.0,20130924,       1028
33RO20130803,       A16N,     117,          1,         19,         19,2,20130924,       0842,     4.9988,   -26.0000,       4536,   137.4,  15.7998,  35.6135,2,  35.6136,2,     89.1,2,    89.4,2,    6.10,2,   20.90,2,    0.01,2,    1.36,2,   2.183,2,   1.255,2,   0.738,2,  2198.1,2,  2330.3,2,  -999.0,9, -999.00,   7.6863,3,    25.00,    0.38,2,    47.2,2,     0.2, -999.00,9, -999.00,9,     25.407,3,-999.0000,9,-999.0000,9,-999.0000,9,-999.0000,9,-999.0000,9,-999.0000,9,-999.0000,9,-999.0000,9,-999.0000,9,     -999.0,5,  -999.0,9,     -999.0,     -999.0,9,     -999.0,20130924,       1026
33RO20130803,       A16N,     117,          1,         18,         18,2,20130924,       0842,     4.9988,   -26.0000,       4536,   197.1,  14.2618,  35.4440,2,  35.4418,2,    116.9,2,   117.9,2,    6.80,2,   19.60,2,    0.01,2,    1.29,2,   2.220,2,   1.260,2,   0.730,2,  2183.2,2,  2329.6,2,  -999.0,9, -999.00,   7.7128,2,    25.00,    0.52,2,    43.8,2,     0.2, -999.00,9, -999.00,9,     23.494,3,-999.0000,9,-999.0000,9,-999.0000,9,-999.0000,9,-999.0000,9,-999.0000,9,-999.0000,9,-999.0000,9,-999.0000,9,     -999.0,5,  -999.0,9,     -999.0,     -999.0,9,     -999.0,20130924,       1023
33RO20130803,       A16N,     117,          1,         17,         17,2,20130924,       0842,     4.9988,   -26.0000,       4536,   288.3,  12.2560,  35.1985,2,  35.2015,2,    126.4,2,   121.5,2,    8.70,2,   22.20,2,    0.00,2,    1.44,2,   2.083,2,   1.164,2,   0.623,2,  2187.9,2,  2312.5,2,  -999.0,9, -999.00,   7.6735,2,    25.00,    0.56,2,    23.2,2,     0.2, -999.00,9, -999.00,9,     26.366,3,-999.0000,9,-999.0000,9,-999.0000,9,-999.0000,9,-999.0000,9,-999.0000,9,-999.0000,9,-999.0000,9,-999.0000,9,     -999.0,5,  -999.0,9,     -999.0,     -999.0,9,     -999.0,20130924,       1020
33RO20130803,       A16N,     117,          1,         16,         16,2,20130924,       0842,     4.9988,   -26.0000,       4536,   357.6,  10.0998,  34.9621,2,  34.9572,2,     83.0,2,    83.1,2,   13.30,2,   30.60,2,    0.00,2,    1.92,2,   1.326,2,   0.719,2,   0.280,2,  2223.0,2,  2303.8,2,  -999.0,9, -999.00,   7.5434,2,    25.00,    0.41,2,    -9.1,2,     0.2, -999.00,9, -999.00,9,     34.697,3,-999.0000,9,-999.0000,9,-999.0000,9,-999.0000,9,-999.0000,9,-999.0000,9,-999.0000,9,-999.0000,9,-999.0000,9,     -999.0,5,  -999.0,9,     -999.0,     -999.0,9,     -999.0,20130924,       1016
33RO20130803,       A16N,     117,          1,         15,         15,2,20130924,       0842,     4.9988,   -26.0000,       4536,   438.0,   8.7124,  34.8220,2,  34.8205,2,     87.8,2,    88.2,2,   16.00,2,   32.80,2,    0.00,2,    2.06,2,   0.975,2,   0.521,2,   0.168,2,  2228.0,2,  2283.8,4,  -999.0,9, -999.00,   7.5631,4,    25.00,    0.41,2,   -32.6,2,     0.2, -999.00,9, -999.00,9,     33.518,3,-999.0000,9,-999.0000,9,-999.0000,9,-999.0000,9,-999.0000,9,-999.0000,9,-999.0000,9,-999.0000,9,-999.0000,9,     -999.0,5,  -999.0,9,     -999.0,     -999.0,9,     -999.0,20130924,       1013
33RO20130803,       A16N,     117,          1,         14,         14,2,20130924,       0842,     4.9988,   -26.0000,       4536,   547.3,   7.4343,  34.7222,2,  34.7185,2,     96.2,2,    97.6,2,   19.50,2,   34.50,2,    0.00,2,    2.21,2,   0.568,2,   0.301,2,   0.088,2,  2229.3,6,  2300.8,2,  -999.0,9, -999.00,   7.5087,2,    25.00,    0.54,2,   -56.8,2,     0.2, -999.00,9, -999.00,9,     30.590,3,-999.0000,9,-999.0000,9,-999.0000,9,-999.0000,9,-999.0000,9,-999.0000,9,-999.0000,9,-999.0000,9,-999.0000,9,     -999.0,5,  -999.0,9,     -999.0,     -999.0,9,     -999.0,20130924,       1009
33RO20130803,       A16N,     117,          1,         13,         13,2,20130924,       0842,     4.9988,   -26.0000,       4536,   722.5,   5.6522,  34.5784,2,  34.5752,2,    127.4,2,   126.2,2,   25.70,2,   34.80,2,    0.00,2,    2.30,2,   0.282,2,   0.150,2,   0.033,2,  2225.8,2,  2297.8,6,  -999.0,9, -999.00,   7.5245,2,    25.00,    0.62,2,   -88.2,2,     0.2, -999.00,9, -999.00,9,     26.104,3,-999.0000,9,-999.0000,9,-999.0000,9,-999.0000,9,-999.0000,9,-999.0000,9,-999.0000,9,-999.0000,9,-999.0000,9,     -999.0,5,  -999.0,9,     -999.0,     -999.0,9,     -999.0,20130924,       1004
33RO20130803,       A16N,     117,          1,         12,         12,2,20130924,       0842,     4.9988,   -26.0000,       4536,   872.3,   5.1205,  34.6101,2,  34.6092,2,    135.2,2,   134.4,2,   27.80,2,   34.20,2,    0.00,2,    2.29,2,   0.108,2,   0.064,2,   0.000,2,  2226.4,2,  2305.6,2,  -999.0,9, -999.00,   7.5353,2,    25.00,    0.66,2,  -109.3,2,     0.2, -999.00,9, -999.00,9,     24.608,3,-999.0000,9,-999.0000,9,-999.0000,9,-999.0000,9,-999.0000,9,-999.0000,9,-999.0000,9,-999.0000,9,-999.0000,9,     -999.0,5,  -999.0,9,     -999.0,     -999.0,9,     -999.0,20130924,       1000
33RO20130803,       A16N,     117,          1,         11,         11,2,20130924,       0842,     4.9988,   -26.0000,       4536,  1023.0,   4.8837,  34.7098,2,  34.7086,2,    146.5,2,   145.6,2,   27.20,2,   32.30,2,    0.00,2,    2.16,2,   0.029,2,   0.021,2,   0.000,2,  2222.3,2,  2306.3,2,  -999.0,9, -999.00,   7.5619,6,    25.00,    0.70,2,  -111.0,2,     0.2, -999.00,9, -999.00,9,     22.897,3,-999.0000,9,-999.0000,9,-999.0000,9,-999.0000,9,-999.0000,9,-999.0000,9,-999.0000,9,-999.0000,9,-999.0000,9,     -999.0,5,  -999.0,9,     -999.0,     -999.0,9,     -999.0,20130924,       0956
33RO20130803,       A16N,     117,          1,         10,         10,2,20130924,       0842,     4.9988,   -26.0000,       4536,  1173.0,   4.7411,  34.8414,2,  34.8403,2,    172.8,2,   172.5,2,   23.80,2,   28.20,2,    0.00,2,    1.88,2,   0.062,2,   0.035,2,   0.000,2,  2207.0,2,  2313.9,2,  -999.0,9, -999.00,   7.6175,2,    25.00,    0.50,3,  -113.8,2,     0.2, -999.00,9, -999.00,9,     19.461,3,-999.0000,9,-999.0000,9,-999.0000,9,-999.0000,9,-999.0000,9,-999.0000,9,-999.0000,9,-999.0000,9,-999.0000,9,     -999.0,5,  -999.0,9,     -999.0,     -999.0,9,     -999.0,20130924,       0952
33RO20130803,       A16N,     117,          1,          9,          9,2,20130924,       0842,     4.9988,   -26.0000,       4536,  1398.4,   4.4502,  34.9420,2,  34.9420,2,    208.2,2,   210.4,2,   19.60,2,   23.50,2,    0.00,2,    1.56,2,   0.180,2,   0.102,2,   0.035,2,  2186.4,2,  2312.6,2,  -999.0,9, -999.00,   7.6783,2,    25.00,    0.89,2,   -89.3,2,     0.2, -999.00,9, -999.00,9,     16.431,3,-999.0000,9,-999.0000,9,-999.0000,9,-999.0000,9,-999.0000,9,-999.0000,9,-999.0000,9,-999.0000,9,-999.0000,9,     -999.0,5,  -999.0,9,     -999.0,     -999.0,9,     -999.0,20130924,       0947
33RO20130803,       A16N,     117,          1,          8,          8,2,20130924,       0842,     4.9988,   -26.0000,       4536,  1748.6,   3.8925,  34.9650,2,  34.9653,2,    233.3,2,   233.2,2,   19.50,2,   21.20,2,    0.00,2,    1.40,2,   0.102,2,   0.066,2,   0.000,2,  2175.7,2,  2316.7,3,  -999.0,9, -999.00,   7.7106,2,    25.00,    1.02,2,   -91.9,2,     0.2, -999.00,9, -999.00,9,     14.445,3,-999.0000,9,-999.0000,9,-999.0000,9,-999.0000,9,-999.0000,9,-999.0000,9,-999.0000,9,-999.0000,9,-999.0000,9,     -999.0,5,  -999.0,9,     -999.0,     -999.0,9,     -999.0,20130924,       0940
33RO20130803,       A16N,     117,          1,          7,          7,2,20130924,       0842,     4.9988,   -26.0000,       4536,  2197.4,   3.2679,  34.9474,2,  34.9477,2,    240.9,2,   241.4,2,   25.50,2,   21.10,2,    0.00,2,    1.39,2,   0.014,2,   0.020,2,   0.000,2,  2177.4,2,  2321.9,2,  -999.0,9, -999.00,   7.7217,2,    25.00, -999.00,9,  -999.0,9,  -999.0, -999.00,9, -999.00,9,     13.740,3,-999.0000,9,-999.0000,9,-999.0000,9,-999.0000,9,-999.0000,9,-999.0000,9,-999.0000,9,-999.0000,9,-999.0000,9,     -999.0,5,  -999.0,9,     -999.0,     -999.0,9,     -999.0,20130924,       0931
33RO20130803,       A16N,     117,          1,          6,          6,2,20130924,       0842,     4.9988,   -26.0000,       4536,  2597.7,   2.9111,  34.9301,2,  34.9304,2,    242.3,2,   243.1,2,   31.00,2,   21.30,2,    0.00,2,    1.41,2,  -0.001,2,   0.012,2,   0.000,2,  2181.7,2,  2328.9,2,  -999.0,9, -999.00,   7.7208,2,    25.00, -999.00,9,  -999.0,9,  -999.0, -999.00,9, -999.00,9,     13.413,3,-999.0000,9,-999.0000,9,-999.0000,9,-999.0000,9,-999.0000,9,-999.0000,9,-999.0000,9,-999.0000,9,-999.0000,9,     -999.0,5,  -999.0,9,     -999.0,     -999.0,9,     -999.0,20130924,       0922
33RO20130803,       A16N,     117,          1,          5,          5,2,20130924,       0842,     4.9988,   -26.0000,       4536,  2997.3,   2.6522,  34.9134,2,  34.9129,2,    243.0,2,   244.2,2,   35.80,2,   21.50,2,    0.00,2,    1.42,2,   0.005,2,   0.013,2,   0.000,2,  2187.4,2,  2332.2,2,  -999.0,9, -999.00,   7.7206,6,    25.00, -999.00,9,  -999.0,9,  -999.0, -999.00,9, -999.00,9,     13.281,3,-999.0000,9,-999.0000,9,-999.0000,9,-999.0000,9,-999.0000,9,-999.0000,9,-999.0000,9,-999.0000,9,-999.0000,9,     -999.0,5,  -999.0,9,     -999.0,     -999.0,9,     -999.0,20130924,       0914
33RO20130803,       A16N,     117,          1,          4,          4,2,20130924,       0842,     4.9988,   -26.0000,       4536,  3398.1,   2.5337,  34.9036,2,  34.9033,2,    243.8,2,   245.1,2,   38.10,6,   21.50,6,    0.00,6,    1.43,6,   0.016,2,   0.020,2,   0.000,2,  2188.6,2,  2336.2,6,  -999.0,9, -999.00,   7.7227,2,    25.00, -999.00,9,  -999.0,9,  -999.0, -999.00,9, -999.00,9,     13.788,3,-999.0000,9,-999.0000,9,-999.0000,9,-999.0000,9,-999.0000,9,-999.0000,9,-999.0000,9,-999.0000,9,-999.0000,9,     -999.0,5,  -999.0,9,     -999.0,     -999.0,9,     -999.0,20130924,       0906
33RO20130803,       A16N,     117,          1,          3,          3,2,20130924,       0842,     4.9988,   -26.0000,       4536,  3798.4,   2.3772,  34.8905,2,  34.8901,2,    245.3,2,   245.7,2,   41.90,6,   21.80,6,    0.00,6,    1.45,6,   0.024,2,   0.024,2,   0.000,2,  2193.3,2,  2348.8,4,  -999.0,9, -999.00,   7.7205,2,    25.00, -999.00,9,  -999.0,9,  -999.0, -999.00,9, -999.00,9,     13.787,3,-999.0000,9,-999.0000,9,-999.0000,9,-999.0000,9,-999.0000,9,-999.0000,9,-999.0000,9,-999.0000,9,-999.0000,9,     -999.0,5,  -999.0,9,     -999.0,     -999.0,9,     -999.0,20130924,       0858
33RO20130803,       A16N,     117,          1,          2,          2,2,20130924,       0842,     4.9988,   -26.0000,       4536,  4196.4,   2.3635,  34.8858,2,  34.8852,2,    245.0,2,   244.8,2,   43.60,6,   22.00,6,    0.00,6,    1.46,6,   0.030,6,   0.025,6,   0.000,6,  2197.2,2,  2341.7,3,  -999.0,9, -999.00,   7.7207,2,    25.00, -999.00,9,  -999.0,9,  -999.0, -999.00,9, -999.00,9,     13.919,3,-999.0000,9,-999.0000,9,-999.0000,9,-999.0000,9,-999.0000,9,-999.0000,9,-999.0000,9,-999.0000,9,-999.0000,9,     -999.0,5,  -999.0,9,     -999.0,     -999.0,9,     -999.0,20130924,       0850
33RO20130803,       A16N,     117,          1,          1,          1,2,20130924,       0842,     4.9988,   -26.0000,       4536,  4576.1,   2.4018,  34.8849,2,  34.8844,2,    244.0,2,   243.9,2,   44.00,6,   22.10,6,    0.00,6,    1.47,6,   0.030,2,   0.024,2,   0.000,2,  2200.5,6,  2356.6,2,  -999.0,9, -999.00,   7.7266,2,    25.00, -999.00,9,  -999.0,9,  -999.0, -999.00,9, -999.00,9,     14.044,3,-999.0000,9,-999.0000,9,-999.0000,9,-999.0000,9,-999.0000,9,-999.0000,9,-999.0000,9,-999.0000,9,-999.0000,9,     -999.0,5,  -999.0,9,     -999.0,     -999.0,9,     -999.0,20130924,       0842