BOTTLE,20220815CCHSIOAMB
EXPOCODE,SECT_ID,STNNBR,CASTNO,SAMPNO,BTLNBR,BTLNBR_FLAG_W,DATE,TIME,LATITUDE,LONGITUDE,DEPTH,CTDPRS,CTDTMP,CTDSAL,CTDSAL_FLAG_W,SALNTY,SALNTY_FLAG_W,CTDOXY,CTDOXY_FLAG_W,OXYGEN,OXYGEN_FLAG_W,SILCAT,SILCAT_FLAG_W,NITRAT,NITRAT_FLAG_W,NITRIT,NITRIT_FLAG_W,PHSPHT,PHSPHT_FLAG_W,CFC-11,CFC-11_FLAG_W,CFC-12,CFC-12_FLAG_W,SF6,SF6_FLAG_W,TCARBN,TCARBN_FLAG_W,ALKALI,ALKALI_FLAG_W,PCO2,PCO2_FLAG_W,PCO2TMP,PH_SWS,PH_SWS_FLAG_W,PH_TMP,DELC13,DELC13_FLAG_W,DELC14,DELC14_FLAG_W,C14ERR,DOC,DOC_FLAG_W,TDN,TDN_FLAG_W,N2O,N2O_FLAG_W,CDOM325,CDOM325_FLAG_W,CDOM340,CDOM340_FLAG_W,CDOM380,CDOM380_FLAG_W,CDOM412,CDOM412_FLAG_W,CDOM443,CDOM443_FLAG_W,CDOM490,CDOM490_FLAG_W,CDOM555,CDOM555_FLAG_W,CDOMSL,CDOMSL_FLAG_W,CDOMSN,CDOMSN_FLAG_W,CCL4,CCL4_FLAG_W,14C-DOC,14C-DOC_FLAG_W,14C-DOCERR,13C-DOC,13C-DOC_FLAG_W,13C-DOCERR,BTL_DATE,BTL_TIME
,,,,,,,,,,,METERS,DBAR,ITS-90,PSS-78,,PSS-78,,UMOL/KG,,UMOL/KG,,UMOL/KG,,UMOL/KG,,UMOL/KG,,UMOL/KG,,PMOL/KG,,PMOL/KG,,FMOL/KG,,UMOL/KG,,UMOL/KG,,UATM,,DEG C,,,DEG C,/MILLE,,/MILLE,,/MILLE,UMOL/KG,,UMOL/KG,,NMOL/KG,,1/M,,1/M,,1/M,,1/M,,1/M,,1/M,,1/M,,1/NM,,1/NM,,PMOL/KG,,/MILLE,,/MILLE,/MILLE,,/MILLE,,
33RO20130803,       A16N,      39,          2,         24,         24,2,20130812,       2042,    46.0023,   -20.0005,       4851,     2.6,  20.3459,  35.7016,2,  35.6999,2,    225.7,2,     233,2,    0.50,2,    0.00,2,    0.00,2,    0.03,2,   2.232,2,   1.359,2,   1.625,2,  2068.8,2,  2353.2,2,   367.2,2,      20,   7.9955,2,    25.00, -999.00,9,  -999.0,9,  -999.0, -999.00,9, -999.00,9,      7.590,2,-999.0000,9,-999.0000,9,-999.0000,9,-999.0000,9,-999.0000,9,-999.0000,9,-999.0000,9,-999.0000,9,-999.0000,9,     -999.0,5,  -999.0,9,     -999.0,     -999.0,9,     -999.0,20130812,       2236
33RO20130803,       A16N,      39,          2,         23,         23,2,20130812,       2042,    46.0023,   -20.0005,       4851,    15.9,  19.2810,  35.7016,2,  35.7028,2,    232.0,2,   242.7,2,    0.50,2,    0.00,2,    0.00,2,    0.05,2,   2.362,2,   1.428,2,   1.605,2,  -999.0,5,  2351.4,2,   374.0,2,      20,   7.9900,6,    25.00, -999.00,9,  -999.0,9,  -999.0, -999.00,9, -999.00,9,      7.893,2,-999.0000,9,-999.0000,9,-999.0000,9,-999.0000,9,-999.0000,9,-999.0000,9,-999.0000,9,-999.0000,9,-999.0000,9,     -999.0,5,  -999.0,9,     -999.0,     -999.0,9,     -999.0,20130812,       2234
33RO20130803,       A16N,      39,          2,         22,         22,2,20130812,       2042,    46.0023,   -20.0005,       4851,    36.1,  15.0727,  35.7035,2,  35.7033,2,    265.5,2,   257.8,2,    0.50,2,    0.40,2,    0.05,2,    0.13,2,   2.774,2,   1.653,2,   1.838,2,  2106.2,2,  2351.6,6,   430.4,2,      20,   7.9368,2,    25.00, -999.00,9,  -999.0,9,  -999.0, -999.00,9, -999.00,9,      8.965,2,-999.0000,9,-999.0000,9,-999.0000,9,-999.0000,9,-999.0000,9,-999.0000,9,-999.0000,9,-999.0000,9,-999.0000,9,     -999.0,5,  -999.0,9,     -999.0,     -999.0,9,     -999.0,20130812,       2232
33RO20130803,       A16N,      39,          2,         21,         21,2,20130812,       2042,    46.0023,   -20.0005,       4851,    60.9,  14.2068,  35.6981,2,  35.6992,2,    244.1,2,   243.1,2,    1.00,2,    2.80,2,    0.54,2,    0.31,2,   2.861,6,   1.688,6,   1.867,6,  2124.4,2,  2351.6,2,   475.5,2,      20,   7.9000,2,    25.00, -999.00,9,  -999.0,9,  -999.0, -999.00,9, -999.00,9,      9.747,6,-999.0000,9,-999.0000,9,-999.0000,9,-999.0000,9,-999.0000,9,-999.0000,9,-999.0000,9,-999.0000,9,-999.0000,9,     -999.0,5,  -999.0,9,     -999.0,     -999.0,9,     -999.0,20130812,       2230
33RO20130803,       A16N,      39,          2,         20,         20,2,20130812,       2042,    46.0023,   -20.0005,       4851,    85.8,  13.2024,  35.7013,2,  35.6992,2,    239.9,2,   237.6,2,    2.40,2,    6.80,2,    0.03,2,    0.45,2,   2.874,2,   1.696,2,   1.863,2,  2137.4,2,  2346.9,2,   523.7,2,      20,   7.8657,2,    25.00, -999.00,9,  -999.0,9,  -999.0, -999.00,9, -999.00,9,      9.831,2,-999.0000,9,-999.0000,9,-999.0000,9,-999.0000,9,-999.0000,9,-999.0000,9,-999.0000,9,-999.0000,9,-999.0000,9,     -999.0,5,  -999.0,9,     -999.0,     -999.0,9,     -999.0,20130812,       2228
33RO20130803,       A16N,      39,          2,         19,         19,2,20130812,       2042,    46.0023,   -20.0005,       4851,   124.0,  12.8533,  35.6780,2,  35.6743,2,    241.1,2,   242.5,2,    2.80,2,    7.10,2,    0.02,2,    0.46,2,   2.900,2,   1.712,2,   1.861,2,  2135.1,2,  2343.6,2,   527.1,2,      20,   7.8658,2,    25.00, -999.00,9,  -999.0,9,  -999.0, -999.00,9, -999.00,9,      9.666,2,-999.0000,9,-999.0000,9,-999.0000,9,-999.0000,9,-999.0000,9,-999.0000,9,-999.0000,9,-999.0000,9,-999.0000,9,     -999.0,5,  -999.0,9,     -999.0,     -999.0,9,     -999.0,20130812,       2226
33RO20130803,       A16N,      39,          2,         18,         18,2,20130812,       2042,    46.0023,   -20.0005,       4851,   186.7,  12.5002,  35.6343,2,  35.6305,2,    243.6,2,   236.2,2,    3.20,2,    8.30,2,    0.01,2,    0.54,2,   2.901,2,   1.707,2,   1.765,2,  2141.9,2,  2340.2,2,   550.8,2,      20,   7.8467,2,    25.00, -999.00,9,  -999.0,9,  -999.0, -999.00,9, -999.00,9,     10.438,2,-999.0000,9,-999.0000,9,-999.0000,9,-999.0000,9,-999.0000,9,-999.0000,9,-999.0000,9,-999.0000,9,-999.0000,9,     -999.0,5,  -999.0,9,     -999.0,     -999.0,9,     -999.0,20130812,       2224
33RO20130803,       A16N,      39,          2,         17,         17,2,20130812,       2042,    46.0023,   -20.0005,       4851,   261.8,  12.2470,  35.6194,2,  35.6165,2,    229.2,2,   240.5,2,    3.30,2,    8.50,2,    0.02,2,    0.55,2,   2.967,2,   1.737,2,   1.882,2,  2142.8,2,  2340.2,2,   553.7,2,      20,   7.8442,2,    25.00, -999.00,9,  -999.0,9,  -999.0, -999.00,9, -999.00,9,     10.386,2,-999.0000,9,-999.0000,9,-999.0000,9,-999.0000,9,-999.0000,9,-999.0000,9,-999.0000,9,-999.0000,9,-999.0000,9,     -999.0,5,  -999.0,9,     -999.0,     -999.0,9,     -999.0,20130812,       2221
33RO20130803,       A16N,      39,          2,         16,         16,2,20130812,       2042,    46.0023,   -20.0005,       4851,   349.7,  12.0544,  35.6080,2,  35.6079,2,    242.1,2,   245.4,2,    3.20,2,    8.40,2,    0.02,2,    0.55,2,   3.004,2,   1.757,2,   1.834,2,  2141.6,3,  2340.2,2,   555.2,2,      20,   7.8438,2,    25.00, -999.00,9,  -999.0,9,  -999.0, -999.00,9, -999.00,9,     10.169,2,-999.0000,9,-999.0000,9,-999.0000,9,-999.0000,9,-999.0000,9,-999.0000,9,-999.0000,9,-999.0000,9,-999.0000,9,     -999.0,5,  -999.0,9,     -999.0,     -999.0,9,     -999.0,20130812,       2218
33RO20130803,       A16N,      39,          2,         15,         15,2,20130812,       2042,    46.0023,   -20.0005,       4851,   448.6,  11.8873,  35.6133,2,  35.6154,2,    232.7,2,   232.6,2,    3.70,2,    9.90,2,    0.01,2,    0.64,2,   3.000,2,   1.748,2,   1.724,2,  2149.5,2,  2339.6,2,   587.8,2,      20,-999.0000,5,    25.00, -999.00,9,  -999.0,9,  -999.0, -999.00,9, -999.00,9,     11.265,2,-999.0000,9,-999.0000,9,-999.0000,9,-999.0000,9,-999.0000,9,-999.0000,9,-999.0000,9,-999.0000,9,-999.0000,9,     -999.0,5,  -999.0,9,     -999.0,     -999.0,9,     -999.0,20130812,       2215
33RO20130803,       A16N,      39,          2,         14,         14,2,20130812,       2042,    46.0023,   -20.0005,       4851,   574.9,  11.4627,  35.5766,2,  35.5755,2,    220.5,2,   230.9,2,    4.20,2,   10.90,2,    0.01,2,    0.70,2,   3.003,2,   1.736,2,   1.647,2,  2153.3,2,  2337.4,2,   608.2,2,      20,   7.8082,2,    25.00, -999.00,9,  -999.0,9,  -999.0, -999.00,9, -999.00,9,     11.599,2,-999.0000,9,-999.0000,9,-999.0000,9,-999.0000,9,-999.0000,9,-999.0000,9,-999.0000,9,-999.0000,9,-999.0000,9,     -999.0,5,  -999.0,9,     -999.0,     -999.0,9,     -999.0,20130812,       2211
33RO20130803,       A16N,      39,          2,         13,         13,2,20130812,       2042,    46.0023,   -20.0005,       4851,   724.4,  11.0834,  35.5478,2,  35.5463,2,    220.3,2,   221.1,2,    5.20,2,   12.50,2,    0.01,2,    0.80,2,   2.919,2,   1.665,2,   1.473,2,  2159.9,2,  2338.8,6,   640.9,2,      20,   7.7899,2,    25.00, -999.00,9,  -999.0,9,  -999.0, -999.00,9, -999.00,9,     12.551,2,-999.0000,9,-999.0000,9,-999.0000,9,-999.0000,9,-999.0000,9,-999.0000,9,-999.0000,9,-999.0000,9,-999.0000,9,     -999.0,5,  -999.0,9,     -999.0,     -999.0,9,     -999.0,20130812,       2207
33RO20130803,       A16N,      39,          2,         12,         12,2,20130812,       2042,    46.0023,   -20.0005,       4851,   958.0,   9.6886,  35.5310,2,  35.5317,2,    184.5,2,   184.6,2,    9.60,2,   17.80,2,    0.00,2,    1.14,2,   2.202,2,   1.184,2,   0.712,2,  2188.0,2,  2343.8,2,   734.5,2,      20,   7.7356,6,    25.00, -999.00,9,  -999.0,9,  -999.0, -999.00,9, -999.00,9,     15.562,2,-999.0000,9,-999.0000,9,-999.0000,9,-999.0000,9,-999.0000,9,-999.0000,9,-999.0000,9,-999.0000,9,-999.0000,9,     -999.0,5,  -999.0,9,     -999.0,     -999.0,9,     -999.0,20130812,       2202
33RO20130803,       A16N,      39,          2,         11,         11,2,20130812,       2042,    46.0023,   -20.0005,       4851,  1023.7,   9.5561,  35.6109,2,  35.6024,2,    185.9,2,   186.5,2,    9.90,2,   17.70,2,    0.00,2,    1.13,2,   2.124,2,   1.134,2,   0.672,2,  2191.7,6,  2351.2,2,   730.1,2,      20,   7.7395,2,    25.00, -999.00,9,  -999.0,9,  -999.0, -999.00,9, -999.00,9,     15.319,2,-999.0000,9,-999.0000,9,-999.0000,9,-999.0000,9,-999.0000,9,-999.0000,9,-999.0000,9,-999.0000,9,-999.0000,9,     -999.0,5,  -999.0,9,     -999.0,     -999.0,9,     -999.0,20130812,       2200
33RO20130803,       A16N,      39,          2,         10,         10,2,20130812,       2042,    46.0023,   -20.0005,       4851,  1248.5,   7.8291,  35.4833,2,  35.4812,2,    205.8,2,   208.1,2,   10.80,2,   17.70,2,    0.00,2,    1.15,2,   2.306,2,   1.213,2,   0.656,2,  2192.1,2,  2343.8,2,   745.0,2,      20,   7.7316,2,    25.00, -999.00,9,  -999.0,9,  -999.0, -999.00,9, -999.00,9,     14.739,2,-999.0000,9,-999.0000,9,-999.0000,9,-999.0000,9,-999.0000,9,-999.0000,9,-999.0000,9,-999.0000,9,-999.0000,9,     -999.0,5,  -999.0,9,     -999.0,     -999.0,9,     -999.0,20130812,       2155
33RO20130803,       A16N,      39,          2,          9,          9,2,20130812,       2042,    46.0023,   -20.0005,       4851,  1523.3,   4.5766,  34.9762,2,  34.9743,2,    257.0,2,   258.6,2,   10.60,2,   17.50,2,    0.00,2,    1.17,2,   3.568,2,   1.872,2,   1.231,2,  2171.8,2,  2316.5,3,   796.5,2,      20,   7.7010,2,    25.00, -999.00,9,  -999.0,9,  -999.0, -999.00,9, -999.00,9,     13.967,2,-999.0000,9,-999.0000,9,-999.0000,9,-999.0000,9,-999.0000,9,-999.0000,9,-999.0000,9,-999.0000,9,-999.0000,9,     -999.0,5,  -999.0,9,     -999.0,     -999.0,9,     -999.0,20130812,       2149
33RO20130803,       A16N,      39,          2,          8,          8,2,20130812,       2042,    46.0023,   -20.0005,       4851,  1898.5,   4.0005,  34.9491,2,  34.9484,2,    269.8,2,   266.4,2,   11.50,2,   17.40,2,    0.00,2,    1.16,2,   3.274,2,   1.648,2,   0.792,2,  2169.1,2,  2306.9,2,   778.7,2,      20,   7.7066,2,    25.00, -999.00,9,  -999.0,9,  -999.0, -999.00,9, -999.00,9,     13.533,2,-999.0000,9,-999.0000,9,-999.0000,9,-999.0000,9,-999.0000,9,-999.0000,9,-999.0000,9,-999.0000,9,-999.0000,9,     -999.0,5,  -999.0,9,     -999.0,     -999.0,9,     -999.0,20130812,       2141
33RO20130803,       A16N,      39,          2,          7,          7,2,20130812,       2042,    46.0023,   -20.0005,       4851,  2298.4,   3.4989,  34.9193,2,  34.9177,2,    271.2,2,   270.9,2,   12.70,2,   17.30,2,    0.00,2,    1.16,2,   2.833,2,   1.378,2,   0.595,2,  2165.6,2,  2306.0,2,   766.9,2,      20,   7.7129,2,    25.00, -999.00,9,  -999.0,9,  -999.0, -999.00,9, -999.00,9,     13.209,2,-999.0000,9,-999.0000,9,-999.0000,9,-999.0000,9,-999.0000,9,-999.0000,9,-999.0000,9,-999.0000,9,-999.0000,9,     -999.0,5,  -999.0,9,     -999.0,     -999.0,9,     -999.0,20130812,       2133
33RO20130803,       A16N,      39,          2,          6,          6,2,20130812,       2042,    46.0023,   -20.0005,       4851,  2773.6,   3.1607,  34.9285,2,  34.9280,2,    270.1,2,   270.3,2,   15.80,2,   17.20,2,    0.00,2,    1.17,2,   2.312,2,   1.126,2,   0.482,2,  2168.9,2,  2311.8,2,   759.9,2,      20,   7.7200,2,    25.00, -999.00,9,  -999.0,9,  -999.0, -999.00,9, -999.00,9,     13.115,2,-999.0000,9,-999.0000,9,-999.0000,9,-999.0000,9,-999.0000,9,-999.0000,9,-999.0000,9,-999.0000,9,-999.0000,9,     -999.0,5,  -999.0,9,     -999.0,     -999.0,9,     -999.0,20130812,       2124
33RO20130803,       A16N,      39,          2,          5,          5,2,20130812,       2042,    46.0023,   -20.0005,       4851,  3258.1,   2.8806,  34.9412,2,  34.9404,2,    255.1,2,   255.5,2,   27.10,2,   19.00,2,    0.00,2,    1.29,2,   1.140,2,   0.558,2,   0.268,2,  2183.5,2,  2334.6,2,   761.9,2,      20,   7.7234,2,    25.00, -999.00,9,  -999.0,9,  -999.0, -999.00,9, -999.00,9,     13.302,2,-999.0000,9,-999.0000,9,-999.0000,9,-999.0000,9,-999.0000,9,-999.0000,9,-999.0000,9,-999.0000,9,-999.0000,9,     -999.0,5,  -999.0,9,     -999.0,     -999.0,9,     -999.0,20130812,       2115
33RO20130803,       A16N,      39,          2,          4,          4,2,20130812,       2042,    46.0023,   -20.0005,       4851,  3757.9,   2.6497,  34.9233,2,  34.9223,2,    244.5,2,   244.7,2,   37.90,6,   21.00,6,    0.00,6,    1.44,6,   0.383,2,   0.191,2,   0.104,2,  2197.2,2,  2344.2,6,   760.8,2,      20,   7.7222,2,    25.00, -999.00,9,  -999.0,9,  -999.0, -999.00,9, -999.00,9,     13.430,2,-999.0000,9,-999.0000,9,-999.0000,9,-999.0000,9,-999.0000,9,-999.0000,9,-999.0000,9,-999.0000,9,-999.0000,9,     -999.0,5,  -999.0,9,     -999.0,     -999.0,9,     -999.0,20130812,       2106
33RO20130803,       A16N,      39,          2,          3,          3,2,20130812,       2042,    46.0023,   -20.0005,       4851,  4173.1,   2.5801,  34.9126,2,  34.9123,2,    239.6,2,   240.8,2,   42.40,6,   21.80,6,    0.00,6,    1.50,6,   0.145,2,   0.073,2,   0.069,2,  2202.5,2,  2351.6,2,   762.8,2,      20,   7.7287,2,    25.00, -999.00,9,  -999.0,9,  -999.0, -999.00,9, -999.00,9,     13.478,2,-999.0000,9,-999.0000,9,-999.0000,9,-999.0000,9,-999.0000,9,-999.0000,9,-999.0000,9,-999.0000,9,-999.0000,9,     -999.0,5,  -999.0,9,     -999.0,     -999.0,9,     -999.0,20130812,       2058
33RO20130803,       A16N,      39,          2,          2,          2,2,20130812,       2042,    46.0023,   -20.0005,       4851,  4473.8,   2.5872,  34.9096,2,  34.9091,2,    238.9,2,   239.9,2,   43.50,6,   22.00,6,    0.00,6,    1.51,6,   0.108,2,   0.057,2,   0.064,2,  2204.3,2,  2353.8,2,   762.0,2,      20,   7.7259,2,    25.00, -999.00,9,  -999.0,9,  -999.0, -999.00,9, -999.00,9,     13.489,2,-999.0000,9,-999.0000,9,-999.0000,9,-999.0000,9,-999.0000,9,-999.0000,9,-999.0000,9,-999.0000,9,-999.0000,9,     -999.0,5,  -999.0,9,     -999.0,     -999.0,9,     -999.0,20130812,       2051
33RO20130803,       A16N,      39,          2,          1,          1,2,20130812,       2042,    46.0023,   -20.0005,       4851,  4922.8,   2.6211,  34.9070,2,  34.9067,2,    240.5,2,     240,2,   44.20,6,   22.20,6,    0.00,6,    1.52,6,   0.073,6,   0.040,6,   0.047,6,  2205.1,2,  2354.6,2,   759.7,2,      20,   7.7380,2,    25.00, -999.00,9,  -999.0,9,  -999.0, -999.00,9, -999.00,9,     13.489,6,-999.0000,9,-999.0000,9,-999.0000,9,-999.0000,9,-999.0000,9,-999.0000,9,-999.0000,9,-999.0000,9,-999.0000,9,     -999.0,5,  -999.0,9,     -999.0,     -999.0,9,     -999.0,20130812,       2042