BOTTLE,20220815CCHSIOAMB
EXPOCODE,SECT_ID,STNNBR,CASTNO,SAMPNO,BTLNBR,BTLNBR_FLAG_W,DATE,TIME,LATITUDE,LONGITUDE,DEPTH,CTDPRS,CTDTMP,CTDSAL,CTDSAL_FLAG_W,SALNTY,SALNTY_FLAG_W,CTDOXY,CTDOXY_FLAG_W,OXYGEN,OXYGEN_FLAG_W,SILCAT,SILCAT_FLAG_W,NITRAT,NITRAT_FLAG_W,NITRIT,NITRIT_FLAG_W,PHSPHT,PHSPHT_FLAG_W,CFC-11,CFC-11_FLAG_W,CFC-12,CFC-12_FLAG_W,SF6,SF6_FLAG_W,TCARBN,TCARBN_FLAG_W,ALKALI,ALKALI_FLAG_W,PCO2,PCO2_FLAG_W,PCO2TMP,PH_SWS,PH_SWS_FLAG_W,PH_TMP,DELC13,DELC13_FLAG_W,DELC14,DELC14_FLAG_W,C14ERR,DOC,DOC_FLAG_W,TDN,TDN_FLAG_W,N2O,N2O_FLAG_W,CDOM325,CDOM325_FLAG_W,CDOM340,CDOM340_FLAG_W,CDOM380,CDOM380_FLAG_W,CDOM412,CDOM412_FLAG_W,CDOM443,CDOM443_FLAG_W,CDOM490,CDOM490_FLAG_W,CDOM555,CDOM555_FLAG_W,CDOMSL,CDOMSL_FLAG_W,CDOMSN,CDOMSN_FLAG_W,CCL4,CCL4_FLAG_W,14C-DOC,14C-DOC_FLAG_W,14C-DOCERR,13C-DOC,13C-DOC_FLAG_W,13C-DOCERR,BTL_DATE,BTL_TIME
,,,,,,,,,,,METERS,DBAR,ITS-90,PSS-78,,PSS-78,,UMOL/KG,,UMOL/KG,,UMOL/KG,,UMOL/KG,,UMOL/KG,,UMOL/KG,,PMOL/KG,,PMOL/KG,,FMOL/KG,,UMOL/KG,,UMOL/KG,,UATM,,DEG C,,,DEG C,/MILLE,,/MILLE,,/MILLE,UMOL/KG,,UMOL/KG,,NMOL/KG,,1/M,,1/M,,1/M,,1/M,,1/M,,1/M,,1/M,,1/NM,,1/NM,,PMOL/KG,,/MILLE,,/MILLE,/MILLE,,/MILLE,,
33RO20130803,       A16N,     116,          1,         24,         24,2,20130924,       0206,     5.5000,   -26.2509,       4267,     2.8,  28.0518,  34.8423,2,  34.8561,2,    198.2,2,   198.3,2,    1.90,2,    0.00,2,    0.00,2,    0.00,2,   1.475,2,   0.956,2,   1.164,2,  1948.0,6,  2272.4,2,  -999.0,9, -999.00,   8.1115,2,    25.00, -999.00,9,  -999.0,9,  -999.0,   76.14,2,    4.79,2,      5.835,3,-999.0000,9,-999.0000,9,-999.0000,9,-999.0000,9,-999.0000,9,-999.0000,9,-999.0000,9,-999.0000,9,-999.0000,9,     -999.0,5,  -999.0,9,     -999.0,     -999.0,9,     -999.0,20130924,       0343
33RO20130803,       A16N,     116,          1,         23,         23,2,20130924,       0206,     5.5000,   -26.2509,       4267,    22.6,  28.1109,  34.9684,2,  35.0401,2,    198.6,2,   199.7,2,    1.80,2,    0.00,2,    0.00,2,    0.01,2,   1.479,2,   0.962,2,   1.150,2,  1957.2,2,  2297.6,6,  -999.0,9, -999.00,   8.1111,2,    25.00, -999.00,9,  -999.0,9,  -999.0,   76.14,2,    4.92,2,      5.875,3,-999.0000,9,-999.0000,9,-999.0000,9,-999.0000,9,-999.0000,9,-999.0000,9,-999.0000,9,-999.0000,9,-999.0000,9,     -999.0,5,  -999.0,9,     -999.0,     -999.0,9,     -999.0,20130924,       0342
33RO20130803,       A16N,     116,          1,         22,         22,2,20130924,       0206,     5.5000,   -26.2509,       4267,    47.7,  28.0411,  35.4955,2,  35.5590,2,    199.6,2,   199.3,2,    1.50,2,    0.00,2,    0.00,2,    0.01,2,-999.000,9,-999.000,9,-999.000,9,  1990.4,2,  -999.0,5,  -999.0,9, -999.00,   8.0962,4,    25.00, -999.00,9,  -999.0,9,  -999.0,   73.68,2,    4.71,2,     -999.0,9,-999.0000,9,-999.0000,9,-999.0000,9,-999.0000,9,-999.0000,9,-999.0000,9,-999.0000,9,-999.0000,9,-999.0000,9,     -999.0,9,  -999.0,9,     -999.0,     -999.0,9,     -999.0,20130924,       0340
33RO20130803,       A16N,     116,          1,         21,         21,2,20130924,       0206,     5.5000,   -26.2509,       4267,    73.3,  24.7854,  36.2146,2,  36.2010,2,    176.2,2,   169.2,2,    1.70,2,    1.40,2,    0.17,2,    0.15,2,   1.706,2,   1.063,2,   1.089,2,  2088.4,2,  2367.2,2,  -999.0,9, -999.00,   7.9867,2,    25.00, -999.00,9,  -999.0,9,  -999.0,   68.75,2,    6.29,2,     10.527,3,-999.0000,9,-999.0000,9,-999.0000,9,-999.0000,9,-999.0000,9,-999.0000,9,-999.0000,9,-999.0000,9,-999.0000,9,     -999.0,5,  -999.0,9,     -999.0,     -999.0,9,     -999.0,20130924,       0338
33RO20130803,       A16N,     116,          1,         20,         20,2,20130924,       0206,     5.5000,   -26.2509,       4267,    98.1,  19.2027,  35.9337,2,  35.9315,2,    127.5,2,   125.6,2,    4.30,2,   12.60,2,    0.04,2,    0.81,2,-999.000,9,-999.000,9,-999.000,9,  2159.2,2,  2355.2,2,  -999.0,9, -999.00,   7.8299,4,    25.00, -999.00,9,  -999.0,9,  -999.0,   57.66,2,   16.18,2,     -999.0,9,-999.0000,9,-999.0000,9,-999.0000,9,-999.0000,9,-999.0000,9,-999.0000,9,-999.0000,9,-999.0000,9,-999.0000,9,     -999.0,9,  -999.0,9,     -999.0,     -999.0,9,     -999.0,20130924,       0336
33RO20130803,       A16N,     116,          1,         19,         19,2,20130924,       0206,     5.5000,   -26.2509,       4267,   122.4,  15.5348,  35.5865,2,  35.5762,2,    109.2,2,   108.4,2,    6.20,2,   19.50,2,    0.01,2,    1.26,2,   2.169,2,   1.247,2,   0.799,2,  2185.6,2,  2335.6,2,  -999.0,9, -999.00,   7.6922,3,    25.00, -999.00,9,  -999.0,9,  -999.0,   51.44,2,   23.07,2,     24.057,3,-999.0000,9,-999.0000,9,-999.0000,9,-999.0000,9,-999.0000,9,-999.0000,9,-999.0000,9,-999.0000,9,-999.0000,9,     -999.0,5,  -999.0,9,     -999.0,     -999.0,9,     -999.0,20130924,       0334
33RO20130803,       A16N,     116,          1,         18,         18,2,20130924,       0206,     5.5000,   -26.2509,       4267,   147.0,  14.5261,  35.4742,2,  35.4723,2,    103.2,2,   102.2,2,    6.90,2,   21.30,2,    0.01,2,    1.37,2,-999.000,9,-999.000,9,-999.000,9,  2192.5,2,  2326.9,2,  -999.0,9, -999.00,   7.7206,4,    25.00, -999.00,9,  -999.0,9,  -999.0,    50.6,2,   24.15,2,     -999.0,9,-999.0000,9,-999.0000,9,-999.0000,9,-999.0000,9,-999.0000,9,-999.0000,9,-999.0000,9,-999.0000,9,-999.0000,9,     -999.0,9,  -999.0,9,     -999.0,     -999.0,9,     -999.0,20130924,       0332
33RO20130803,       A16N,     116,          1,         17,         17,2,20130924,       0206,     5.5000,   -26.2509,       4267,   199.0,  13.5633,  35.3684,2,  35.3654,2,    134.5,2,   134.8,2,    7.20,2,   19.10,2,    0.01,2,    1.25,2,   2.253,2,   1.276,2,   0.788,2,  2176.0,2,  2327.2,2,  -999.0,9, -999.00,   7.6898,3,    25.00, -999.00,9,  -999.0,9,  -999.0,   49.83,2,   21.81,2,     22.536,3,-999.0000,9,-999.0000,9,-999.0000,9,-999.0000,9,-999.0000,9,-999.0000,9,-999.0000,9,-999.0000,9,-999.0000,9,     -999.0,5,  -999.0,9,     -999.0,     -999.0,9,     -999.0,20130924,       0330
33RO20130803,       A16N,     116,          1,         16,         16,2,20130924,       0206,     5.5000,   -26.2509,       4267,   274.1,  11.4292,  35.0998,2,  35.0974,2,    117.5,2,   116.6,2,   10.10,2,   24.70,2,    0.00,2,    1.57,2,   1.976,2,   1.071,2,   0.543,2,  -999.0,9,  -999.0,9,  -999.0,9, -999.00,-999.0000,9,  -999.00, -999.00,9,  -999.0,9,  -999.0,   48.32,2,   27.72,2,     28.467,3,-999.0000,9,-999.0000,9,-999.0000,9,-999.0000,9,-999.0000,9,-999.0000,9,-999.0000,9,-999.0000,9,-999.0000,9,     -999.0,5,  -999.0,9,     -999.0,     -999.0,9,     -999.0,20130924,       0327
33RO20130803,       A16N,     116,          1,         15,         15,2,20130924,       0206,     5.5000,   -26.2509,       4267,   347.4,  10.1249,  34.9647,2,  34.9625,2,     83.4,2,    83.4,2,   13.30,2,   30.80,2,    0.00,2,    1.91,2,   1.370,2,   0.733,2,   0.269,2,  2223.3,2,  2305.3,2,  -999.0,9, -999.00,   7.5438,2,    25.00, -999.00,9,  -999.0,9,  -999.0,   46.64,2,   33.61,2,     35.354,3,-999.0000,9,-999.0000,9,-999.0000,9,-999.0000,9,-999.0000,9,-999.0000,9,-999.0000,9,-999.0000,9,-999.0000,9,     -999.0,5,  -999.0,9,     -999.0,     -999.0,9,     -999.0,20130924,       0324
33RO20130803,       A16N,     116,          1,         14,         14,2,20130924,       0206,     5.5000,   -26.2509,       4267,   421.9,   8.8076,  34.8274,2,  34.8250,2,     88.1,2,    88.3,2,   15.90,2,   33.00,2,    0.00,2,    2.06,2,   1.051,2,   0.550,2,   0.186,2,  2227.6,2,  2299.3,6,  -999.0,9, -999.00,   7.5204,4,    25.00, -999.00,9,  -999.0,9,  -999.0,      45,2,   35.67,2,     33.955,3,-999.0000,9,-999.0000,9,-999.0000,9,-999.0000,9,-999.0000,9,-999.0000,9,-999.0000,9,-999.0000,9,-999.0000,9,     -999.0,5,  -999.0,9,     -999.0,     -999.0,9,     -999.0,20130924,       0322
33RO20130803,       A16N,     116,          1,         13,         13,2,20130924,       0206,     5.5000,   -26.2509,       4267,   497.2,   8.3285,  34.8084,2,  34.8060,2,     86.3,2,    86.6,2,   17.40,2,   34.30,2,    0.00,2,    2.13,2,-999.000,9,-999.000,9,-999.000,9,  2231.6,6,  2300.3,2,  -999.0,9, -999.00,   7.5091,2,    25.00, -999.00,9,  -999.0,9,  -999.0,   44.43,2,   37.02,2,     -999.0,9,-999.0000,9,-999.0000,9,-999.0000,9,-999.0000,9,-999.0000,9,-999.0000,9,-999.0000,9,-999.0000,9,-999.0000,9,     -999.0,9,  -999.0,9,     -999.0,     -999.0,9,     -999.0,20130924,       0320
33RO20130803,       A16N,     116,          1,         12,         12,2,20130924,       0206,     5.5000,   -26.2509,       4267,   647.7,   6.5347,  34.6703,2,  34.6720,2,     97.7,2,    97.7,2,   22.80,2,   36.40,2,    0.00,2,    2.34,2,   0.238,2,   0.128,2,   0.000,2,  2236.2,2,  2299.3,2,  -999.0,9, -999.00,   7.4915,2,    25.00, -999.00,9,  -999.0,9,  -999.0,   43.26,2,   38.76,2,     29.557,3,-999.0000,9,-999.0000,9,-999.0000,9,-999.0000,9,-999.0000,9,-999.0000,9,-999.0000,9,-999.0000,9,-999.0000,9,     -999.0,5,  -999.0,9,     -999.0,     -999.0,9,     -999.0,20130924,       0316
33RO20130803,       A16N,     116,          1,         11,         11,2,20130924,       0206,     5.5000,   -26.2509,       4267,   797.8,   5.5540,  34.6278,2,  34.6287,2,    116.1,2,   115.2,2,   26.60,6,   36.00,6,    0.00,6,    2.36,6,-999.000,9,-999.000,9,-999.000,9,  2234.3,2,  2300.4,2,  -999.0,9, -999.00,   7.5066,2,    25.00, -999.00,9,  -999.0,9,  -999.0,   42.92,2,   38.49,2,     -999.0,9,-999.0000,9,-999.0000,9,-999.0000,9,-999.0000,9,-999.0000,9,-999.0000,9,-999.0000,9,-999.0000,9,-999.0000,9,     -999.0,9,  -999.0,9,     -999.0,     -999.0,9,     -999.0,20130924,       0313
33RO20130803,       A16N,     116,          1,         10,         10,2,20130924,       0206,     5.5000,   -26.2509,       4267,   947.9,   4.9572,  34.6524,2,  34.6521,2,    140.9,2,   140.1,2,   28.10,6,   33.70,6,    0.00,6,    2.24,6,   0.064,2,   0.038,2,   0.000,2,  -999.0,9,  -999.0,9,  -999.0,9, -999.00,-999.0000,9,  -999.00, -999.00,9,  -999.0,9,  -999.0,   42.22,2,   36.31,2,     23.907,3,-999.0000,9,-999.0000,9,-999.0000,9,-999.0000,9,-999.0000,9,-999.0000,9,-999.0000,9,-999.0000,9,-999.0000,9,     -999.0,5,  -999.0,9,     -999.0,     -999.0,9,     -999.0,20130924,       0309
33RO20130803,       A16N,     116,          1,          9,          9,2,20130924,       0206,     5.5000,   -26.2509,       4267,  1098.2,   4.7779,  34.7730,2,  34.7703,2,    160.3,2,   158.9,2,   25.90,6,   30.60,6,    0.00,6,    2.03,6,   0.045,2,   0.024,2,   0.000,2,  2213.7,2,  2308.4,2,  -999.0,9, -999.00,   7.5902,2,    25.00, -999.00,9,  -999.0,9,  -999.0,   41.52,2,   33.03,2,     21.492,3,-999.0000,9,-999.0000,9,-999.0000,9,-999.0000,9,-999.0000,9,-999.0000,9,-999.0000,9,-999.0000,9,-999.0000,9,     -999.0,5,  -999.0,9,     -999.0,     -999.0,9,     -999.0,20130924,       0306
33RO20130803,       A16N,     116,          1,          8,          8,2,20130924,       0206,     5.5000,   -26.2509,       4267,  1297.4,   4.5717,  34.9143,2,  34.9138,2,    199.5,2,   198.9,2,   20.70,6,   25.00,6,    0.00,6,    1.64,6,   0.172,2,   0.092,2,   0.000,2,  -999.0,9,  -999.0,9,  -999.0,9, -999.00,-999.0000,9,  -999.00, -999.00,9,  -999.0,9,  -999.0,   41.23,2,   27.44,2,     17.365,3,-999.0000,9,-999.0000,9,-999.0000,9,-999.0000,9,-999.0000,9,-999.0000,9,-999.0000,9,-999.0000,9,-999.0000,9,     -999.0,5,  -999.0,9,     -999.0,     -999.0,9,     -999.0,20130924,       0301
33RO20130803,       A16N,     116,          1,          7,          7,2,20130924,       0206,     5.5000,   -26.2509,       4267,  1592.8,   4.1578,  34.9627,2,  34.9622,2,    226.2,2,   225.1,2,   18.70,2,   21.90,2,    0.00,2,    1.44,2,   0.170,2,   0.090,2,   0.000,2,  2177.3,2,  2315.4,2,  -999.0,9, -999.00,   7.7002,2,    25.00, -999.00,9,  -999.0,9,  -999.0,   40.93,2,   24.47,2,     15.167,3,-999.0000,9,-999.0000,9,-999.0000,9,-999.0000,9,-999.0000,9,-999.0000,9,-999.0000,9,-999.0000,9,-999.0000,9,     -999.0,5,  -999.0,9,     -999.0,     -999.0,9,     -999.0,20130924,       0256
33RO20130803,       A16N,     116,          1,          6,          6,2,20130924,       0206,     5.5000,   -26.2509,       4267,  1997.4,   3.5312,  34.9558,2,  34.9562,2,    238.5,2,   238.2,2,   22.50,2,   21.10,2,    0.00,2,    1.39,2,   0.039,2,   0.026,2,   0.000,2,  -999.0,9,  -999.0,9,  -999.0,9, -999.00,-999.0000,9,  -999.00, -999.00,9,  -999.0,9,  -999.0,   40.74,2,   23.61,2,     13.912,3,-999.0000,9,-999.0000,9,-999.0000,9,-999.0000,9,-999.0000,9,-999.0000,9,-999.0000,9,-999.0000,9,-999.0000,9,     -999.0,5,  -999.0,9,     -999.0,     -999.0,9,     -999.0,20130924,       0248
33RO20130803,       A16N,     116,          1,          5,          5,2,20130924,       0206,     5.5000,   -26.2509,       4267,  2396.6,   3.1541,  34.9424,2,  34.9412,2,    242.7,2,   242.6,2,   26.90,2,   21.00,2,    0.00,2,    1.38,2,   0.018,2,   0.015,2,   0.000,2,  2177.5,2,  2324.3,2,  -999.0,9, -999.00,   7.7198,6,    25.00, -999.00,9,  -999.0,9,  -999.0,   40.54,2,   23.48,2,     13.670,3,-999.0000,9,-999.0000,9,-999.0000,9,-999.0000,9,-999.0000,9,-999.0000,9,-999.0000,9,-999.0000,9,-999.0000,9,     -999.0,5,  -999.0,9,     -999.0,     -999.0,9,     -999.0,20130924,       0241
33RO20130803,       A16N,     116,          1,          4,          4,2,20130924,       0206,     5.5000,   -26.2509,       4267,  2848.0,   2.7869,  34.9220,2,  34.9216,2,    243.9,2,   244.8,2,   32.90,2,   21.30,2,    0.00,2,    1.40,2,   0.012,2,   0.012,2,   0.000,2,  -999.0,9,  -999.0,9,  -999.0,9, -999.00,-999.0000,9,  -999.00, -999.00,9,  -999.0,9,  -999.0,   40.36,2,   23.75,2,     13.136,3,-999.0000,9,-999.0000,9,-999.0000,9,-999.0000,9,-999.0000,9,-999.0000,9,-999.0000,9,-999.0000,9,-999.0000,9,     -999.0,5,  -999.0,9,     -999.0,     -999.0,9,     -999.0,20130924,       0232
33RO20130803,       A16N,     116,          1,          3,          3,2,20130924,       0206,     5.5000,   -26.2509,       4267,  3298.7,   2.6085,  34.9088,2,  34.9080,2,    245.8,2,   245.5,2,   36.60,2,   21.50,2,    0.00,2,    1.42,2,   0.020,2,   0.017,2,   0.000,2,  2186.4,2,  2335.4,2,  -999.0,9, -999.00,   7.7199,2,    25.00, -999.00,9,  -999.0,9,  -999.0,   40.48,2,   23.71,2,     13.525,3,-999.0000,9,-999.0000,9,-999.0000,9,-999.0000,9,-999.0000,9,-999.0000,9,-999.0000,9,-999.0000,9,-999.0000,9,     -999.0,5,  -999.0,9,     -999.0,     -999.0,9,     -999.0,20130924,       0224
33RO20130803,       A16N,     116,          1,          2,          2,2,20130924,       0206,     5.5000,   -26.2509,       4267,  3737.6,   2.3974,  34.8926,2,  34.8917,2,    247.3,2,   248.5,2,   40.60,2,   21.70,2,    0.00,2,    1.43,2,   0.044,2,   0.031,2,   0.000,2,  -999.0,9,  -999.0,9,  -999.0,9, -999.00,-999.0000,9,  -999.00, -999.00,9,  -999.0,9,  -999.0,    40.5,2,   24.09,2,     13.475,3,-999.0000,9,-999.0000,9,-999.0000,9,-999.0000,9,-999.0000,9,-999.0000,9,-999.0000,9,-999.0000,9,-999.0000,9,     -999.0,5,  -999.0,9,     -999.0,     -999.0,9,     -999.0,20130924,       0216
33RO20130803,       A16N,     116,          1,          1,          1,2,20130924,       0206,     5.5000,   -26.2509,       4267,  4318.1,   2.3787,  34.8857,2,  34.8850,2,    245.0,2,   245.7,2,   43.60,2,   22.10,2,    0.00,2,    1.45,2,   0.036,6,   0.025,6,   0.000,6,  2197.5,6,  2343.5,2,  -999.0,9, -999.00,   7.7201,2,    25.00, -999.00,9,  -999.0,9,  -999.0,   40.59,2,   24.53,2,     13.459,3,-999.0000,9,-999.0000,9,-999.0000,9,-999.0000,9,-999.0000,9,-999.0000,9,-999.0000,9,-999.0000,9,-999.0000,9,     -999.0,5,  -999.0,9,     -999.0,     -999.0,9,     -999.0,20130924,       0206