BOTTLE,20220815CCHSIOAMB
EXPOCODE,SECT_ID,STNNBR,CASTNO,SAMPNO,BTLNBR,BTLNBR_FLAG_W,DATE,TIME,LATITUDE,LONGITUDE,DEPTH,CTDPRS,CTDTMP,CTDSAL,CTDSAL_FLAG_W,SALNTY,SALNTY_FLAG_W,CTDOXY,CTDOXY_FLAG_W,OXYGEN,OXYGEN_FLAG_W,SILCAT,SILCAT_FLAG_W,NITRAT,NITRAT_FLAG_W,NITRIT,NITRIT_FLAG_W,PHSPHT,PHSPHT_FLAG_W,CFC-11,CFC-11_FLAG_W,CFC-12,CFC-12_FLAG_W,SF6,SF6_FLAG_W,TCARBN,TCARBN_FLAG_W,ALKALI,ALKALI_FLAG_W,PCO2,PCO2_FLAG_W,PCO2TMP,PH_SWS,PH_SWS_FLAG_W,PH_TMP,DELC13,DELC13_FLAG_W,DELC14,DELC14_FLAG_W,C14ERR,DOC,DOC_FLAG_W,TDN,TDN_FLAG_W,N2O,N2O_FLAG_W,CDOM325,CDOM325_FLAG_W,CDOM340,CDOM340_FLAG_W,CDOM380,CDOM380_FLAG_W,CDOM412,CDOM412_FLAG_W,CDOM443,CDOM443_FLAG_W,CDOM490,CDOM490_FLAG_W,CDOM555,CDOM555_FLAG_W,CDOMSL,CDOMSL_FLAG_W,CDOMSN,CDOMSN_FLAG_W,CCL4,CCL4_FLAG_W,14C-DOC,14C-DOC_FLAG_W,14C-DOCERR,13C-DOC,13C-DOC_FLAG_W,13C-DOCERR,BTL_DATE,BTL_TIME
,,,,,,,,,,,METERS,DBAR,ITS-90,PSS-78,,PSS-78,,UMOL/KG,,UMOL/KG,,UMOL/KG,,UMOL/KG,,UMOL/KG,,UMOL/KG,,PMOL/KG,,PMOL/KG,,FMOL/KG,,UMOL/KG,,UMOL/KG,,UATM,,DEG C,,,DEG C,/MILLE,,/MILLE,,/MILLE,UMOL/KG,,UMOL/KG,,NMOL/KG,,1/M,,1/M,,1/M,,1/M,,1/M,,1/M,,1/M,,1/NM,,1/NM,,PMOL/KG,,/MILLE,,/MILLE,/MILLE,,/MILLE,,
33RO20130803,       A16N,      90,          1,         24,         24,2,20130909,       1307,    20.9997,   -28.4331,       5089,     3.1,  25.6524,  36.7517,2,  36.7572,2,    191.8,2,   204.1,2,    0.50,2,    0.00,2,    0.00,2,    0.07,2,   1.662,2,   1.048,2,   1.212,2,  2087.3,6,  2407.7,6,   328.9,2,      20,   8.0430,2,    25.00, -999.00,9,  -999.0,9,  -999.0, -999.00,9, -999.00,9,      6.211,2,   0.0994,2,   0.0624,2,   0.0119,3,   0.0084,3,   0.0009,3,   0.0043,3,  -0.0027,4,   0.0389,3,   0.0372,3,     -999.0,5,  -999.0,9,     -999.0,     -999.0,9,     -999.0,20130909,       1511
33RO20130803,       A16N,      90,          1,         23,         23,2,20130909,       1307,    20.9997,   -28.4331,       5089,    18.9,  25.6302,  36.7521,2,  36.7517,2,    192.3,2,     204,2,    0.50,2,    0.00,2,    0.00,2,    0.07,2,   1.663,2,   1.045,2,   1.217,2,  2086.4,2,  2409.9,2,   329.3,2,      20,   8.0421,2,    25.00, -999.00,9,  -999.0,9,  -999.0, -999.00,9, -999.00,9,      6.219,2,   0.1215,2,   0.0851,2,   0.0218,3,   0.0151,2,   0.0060,2,   0.0077,3,  -0.0009,4,   0.0313,3,   0.0296,3,     -999.0,5,  -999.0,9,     -999.0,     -999.0,9,     -999.0,20130909,       1509
33RO20130803,       A16N,      90,          1,         22,         22,2,20130909,       1307,    20.9997,   -28.4331,       5089,    38.4,  25.6326,  36.7536,2,  36.8538,2,    192.8,2,   207.5,2,    0.50,2,    0.00,2,    0.00,2,    0.05,2,   1.691,6,   1.063,6,   1.258,6,  2087.7,2,  2412.4,2,   326.0,2,      20,   7.6194,4,    25.00, -999.00,9,  -999.0,9,  -999.0, -999.00,9, -999.00,9,      6.294,6,   0.0932,2,   0.0567,2,   0.0095,3,   0.0065,2,  -0.0014,4,   0.0023,3,  -0.0038,3,   0.0429,3,   0.0394,3,     -999.0,5,  -999.0,9,     -999.0,     -999.0,9,     -999.0,20130909,       1507
33RO20130803,       A16N,      90,          1,         21,         21,2,20130909,       1307,    20.9997,   -28.4331,       5089,    58.2,  23.9898,  37.1365,2,  37.1422,2,    218.9,2,   219.4,2,    0.60,2,    0.00,2,    0.00,2,    0.02,2,   1.837,2,   1.137,2,   1.306,2,  2098.2,2,  2430.4,2,   326.6,2,      20,   8.0481,2,    25.00, -999.00,9,  -999.0,9,  -999.0, -999.00,9, -999.00,9,      6.751,2,   0.1374,2,   0.0912,2,   0.0322,2,   0.0240,2,   0.0119,2,   0.0108,3,   0.0007,3,   0.0248,2,   0.0273,2,     -999.0,5,  -999.0,9,     -999.0,     -999.0,9,     -999.0,20130909,       1505
33RO20130803,       A16N,      90,          1,         20,         20,2,20130909,       1307,    20.9997,   -28.4331,       5089,    89.1,  22.4901,  37.1700,2,  37.1862,2,    214.7,2,   214.4,2,    0.60,2,    0.10,2,    0.01,2,    0.04,2,   1.937,2,   1.187,2,   1.343,2,  2114.9,2,  2430.4,2,   349.5,2,      20,   8.0248,2,    25.00, -999.00,9,  -999.0,9,  -999.0, -999.00,9, -999.00,9,      7.432,2,   0.1546,2,   0.1047,2,   0.0381,2,   0.0285,2,   0.0126,2,   0.0105,3,   0.0011,4,   0.0239,2,   0.0261,2,     -999.0,5,  -999.0,9,     -999.0,     -999.0,9,     -999.0,20130909,       1503
33RO20130803,       A16N,      90,          1,         19,         19,2,20130909,       1307,    20.9997,   -28.4331,       5089,   128.1,  21.4010,  37.2698,2,  37.2532,2,    202.5,2,   199.3,2,    0.60,2,    1.10,2,    0.05,2,    0.10,2,   1.977,2,   1.215,2,   1.306,2,  2134.9,2,  2437.6,2,   382.1,2,      20,   7.9937,2,    25.00, -999.00,9,  -999.0,9,  -999.0, -999.00,9, -999.00,9,      7.496,2,   0.1206,2,   0.0848,2,   0.0263,2,   0.0207,2,   0.0060,3,   0.0050,3,  -0.0024,4,   0.0266,3,   0.0271,3,     -999.0,5,  -999.0,9,     -999.0,     -999.0,9,     -999.0,20130909,       1501
33RO20130803,       A16N,      90,          1,         18,         18,2,20130909,       1307,    20.9997,   -28.4331,       5089,   188.5,  18.7867,  36.7760,2,  36.7671,2,    172.3,2,   171.7,2,    1.70,2,    6.60,2,    0.01,2,    0.39,2,   2.149,2,   1.309,2,   1.248,2,  2158.3,2,  2402.5,2,   477.8,2,      20,   7.9067,2,    25.00, -999.00,9,  -999.0,9,  -999.0, -999.00,9, -999.00,9,     11.180,2,   0.1331,2,   0.0923,2,   0.0344,2,   0.0280,2,   0.0106,2,   0.0079,3,  -0.0007,4,   0.0230,2,   0.0250,2,     -999.0,5,  -999.0,9,     -999.0,     -999.0,9,     -999.0,20130909,       1458
33RO20130803,       A16N,      90,          1,         17,         17,2,20130909,       1307,    20.9997,   -28.4331,       5089,   258.4,  16.7828,  36.3665,2,  36.3656,2,    155.9,2,   155.9,2,    3.10,2,   10.90,2,    0.01,2,    0.63,2,   2.260,2,   1.342,2,   1.191,2,  2167.8,2,  2379.5,2,   555.0,2,      20,   7.8494,6,    25.00, -999.00,9,  -999.0,9,  -999.0, -999.00,9, -999.00,9,     14.785,2,   0.1274,2,   0.0877,2,   0.0346,2,   0.0277,2,   0.0110,2,   0.0075,3,  -0.0010,4,   0.0221,2,   0.0244,2,     -999.0,5,  -999.0,9,     -999.0,     -999.0,9,     -999.0,20130909,       1455
33RO20130803,       A16N,      90,          1,         16,         16,2,20130909,       1307,    20.9997,   -28.4331,       5089,   348.8,  14.5267,  35.9330,2,  35.9236,2,    128.1,2,   125.7,2,    5.60,2,   17.40,2,    0.01,2,    1.03,2,   2.182,2,   1.244,2,   0.894,2,  2188.5,2,  2350.6,6,   707.1,2,      20,   7.7526,2,    25.00, -999.00,9,  -999.0,9,  -999.0, -999.00,9, -999.00,9,     20.409,2,   0.1421,2,   0.0978,2,   0.0400,2,   0.0310,2,   0.0138,2,   0.0093,3,  -0.0002,4,   0.0215,2,   0.0237,2,     -999.0,5,  -999.0,9,     -999.0,     -999.0,9,     -999.0,20130909,       1453
33RO20130803,       A16N,      90,          1,         15,         15,2,20130909,       1307,    20.9997,   -28.4331,       5089,   449.0,  12.9753,  35.7179,2,  35.7171,2,    122.8,2,   121.4,2,    7.40,2,   20.40,2,    0.00,2,    1.22,2,   2.069,2,   1.154,2,   0.708,2,  2198.8,2,  2339.2,2,   791.7,2,      20,   7.7051,2,    25.00, -999.00,9,  -999.0,9,  -999.0, -999.00,9, -999.00,9,     21.790,2,   0.1440,2,   0.0996,2,   0.0380,2,   0.0288,2,   0.0118,2,   0.0069,3,  -0.0017,4,   0.0229,2,   0.0246,2,     -999.0,5,  -999.0,9,     -999.0,     -999.0,9,     -999.0,20130909,       1450
33RO20130803,       A16N,      90,          1,         14,         14,2,20130909,       1307,    20.9997,   -28.4331,       5089,   547.9,  11.3980,  35.5261,2,  35.5306,2,    121.3,2,   126.3,2,    9.50,2,   22.60,2,    0.00,2,    1.36,2,   1.722,2,   0.916,2,   0.453,2,  2198.3,6,  2335.8,2,   832.9,2,      20,   7.6810,2,    25.00, -999.00,9,  -999.0,9,  -999.0, -999.00,9, -999.00,9,     21.051,2,   0.1499,2,   0.1039,2,   0.0445,2,   0.0341,2,   0.0175,2,   0.0121,3,   0.0012,3,   0.0206,2,   0.0227,2,     -999.0,5,  -999.0,9,     -999.0,     -999.0,9,     -999.0,20130909,       1447
33RO20130803,       A16N,      90,          1,         13,         13,2,20130909,       1307,    20.9997,   -28.4331,       5089,   698.2,   8.9598,  35.1892,2,  35.1918,2,    106.2,2,   106.2,2,   16.00,2,   29.10,2,    0.00,2,    1.84,2,   0.571,2,   0.298,2,   0.127,2,  2220.1,2,  2321.8,2,  1024.9,2,      20,   7.6005,2,    25.00, -999.00,9,  -999.0,9,  -999.0, -999.00,9, -999.00,9,     24.708,2,   0.1452,2,   0.0967,2,   0.0396,2,   0.0299,2,   0.0140,2,   0.0085,3,  -0.0009,4,   0.0220,2,   0.0247,2,     -999.0,5,  -999.0,9,     -999.0,     -999.0,9,     -999.0,20130909,       1442
33RO20130803,       A16N,      90,          1,         12,         12,2,20130909,       1307,    20.9997,   -28.4331,       5089,   898.6,   7.0758,  34.9989,2,  34.9993,2,    130.4,2,   124.6,2,   20.60,2,   30.30,2,    0.00,2,    1.98,2,   0.162,2,   0.085,2,   0.021,2,  2217.6,2,  2316.4,2,  1039.5,2,      20,   7.5917,2,    25.00, -999.00,9,  -999.0,9,  -999.0, -999.00,9, -999.00,9,     23.449,2,   0.1378,2,   0.0902,2,   0.0367,2,   0.0269,2,   0.0145,2,   0.0096,4,   0.0030,4,   0.0225,2,   0.0252,2,     -999.0,5,  -999.0,9,     -999.0,     -999.0,9,     -999.0,20130909,       1437
33RO20130803,       A16N,      90,          1,         11,         11,2,20130909,       1307,    20.9997,   -28.4331,       5089,  1099.2,   6.1892,  35.0174,2,  35.0176,2,    154.6,2,   153.9,2,   20.90,2,   27.80,2,    0.00,2,    1.84,2,   0.094,2,   0.049,2,   0.043,2,  2208.0,2,  2318.1,2,   950.7,2,      20,   7.6278,2,    25.00, -999.00,9,  -999.0,9,  -999.0, -999.00,9, -999.00,9,     20.393,2,   0.1361,2,   0.0896,2,   0.0331,2,   0.0232,2,   0.0116,2,   0.0081,4,   0.0022,4,   0.0245,2,   0.0266,2,     -999.0,5,  -999.0,9,     -999.0,     -999.0,9,     -999.0,20130909,       1433
33RO20130803,       A16N,      90,          1,         10,         10,2,20130909,       1307,    20.9997,   -28.4331,       5089,  1348.1,   5.5126,  35.0772,2,  35.0779,2,    188.7,2,   184.3,2,   19.80,2,   24.50,2,    0.00,2,    1.63,2,   0.061,2,   0.032,2,   0.000,2,  2196.4,2,  2323.4,2,   851.8,2,      20,   7.6717,2,    25.00, -999.00,9,  -999.0,9,  -999.0, -999.00,9, -999.00,9,     17.434,2,   0.1511,2,   0.1024,2,   0.0431,2,   0.0305,2,   0.0172,2,   0.0126,3,   0.0043,3,   0.0216,2,   0.0236,2,     -999.0,5,  -999.0,9,     -999.0,     -999.0,9,     -999.0,20130909,       1427
33RO20130803,       A16N,      90,          1,          9,          9,2,20130909,       1307,    20.9997,   -28.4331,       5089,  1674.2,   4.4113,  35.0332,2,  35.0340,2,    212.6,2,   211.2,2,   21.60,2,   22.70,2,    0.00,2,    1.52,2,   0.008,2,   0.005,2,   0.000,2,  2186.0,2,  2322.0,2,   800.5,2,      20,   7.6994,2,    25.00, -999.00,9,  -999.0,9,  -999.0, -999.00,9, -999.00,9,     15.418,2,   0.1294,2,   0.0842,2,   0.0312,2,   0.0216,2,   0.0103,2,   0.0078,3,   0.0018,4,   0.0247,2,   0.0269,2,     -999.0,5,  -999.0,9,     -999.0,     -999.0,9,     -999.0,20130909,       1420
33RO20130803,       A16N,      90,          1,          8,          8,2,20130909,       1307,    20.9997,   -28.4331,       5089,  1997.7,   3.7664,  34.9993,2,  34.9993,2,    228.9,2,   228.5,2,   23.80,2,   21.60,2,    0.00,2,    1.45,2,   0.003,2,   0.003,2,   0.000,2,  2181.7,2,  2324.0,2,   770.6,2,      20,   7.7126,2,    25.00, -999.00,9,  -999.0,9,  -999.0, -999.00,9, -999.00,9,     14.356,2,   0.1320,2,   0.0875,2,   0.0340,2,   0.0237,2,   0.0119,2,   0.0090,3,   0.0025,3,   0.0235,2,   0.0257,2,     -999.0,5,  -999.0,9,     -999.0,     -999.0,9,     -999.0,20130909,       1413
33RO20130803,       A16N,      90,          1,          7,          7,2,20130909,       1307,    20.9997,   -28.4331,       5089,  2399.3,   3.3324,  34.9801,2,  34.9793,2,    237.5,2,   236.4,2,   27.60,2,   21.10,2,    0.00,2,    1.43,2,   0.000,2,   0.001,2,   0.000,2,  2182.4,2,  2329.2,2,   753.5,2,      20,   7.7232,2,    25.00, -999.00,9,  -999.0,9,  -999.0, -999.00,9, -999.00,9,     13.657,2,   0.1149,2,   0.0730,2,   0.0227,2,   0.0140,2,   0.0025,3,   0.0017,3,  -0.0034,4,   0.0290,2,   0.0306,2,     -999.0,5,  -999.0,9,     -999.0,     -999.0,9,     -999.0,20130909,       1405
33RO20130803,       A16N,      90,          1,          6,          6,5,20130909,       1307,    20.9997,   -28.4331,       5089,  2798.6,   2.9088,  34.9534,2,-999.0000,9,    240.5,2,   240.7,2,   33.10,2,   21.10,2,    0.00,2,    1.43,2,-999.000,9,-999.000,9,-999.000,9,  -999.0,9,  -999.0,9,  -999.0,9, -999.00,-999.0000,9,  -999.00, -999.00,9,  -999.0,9,  -999.0, -999.00,9, -999.00,9,     -999.0,9,-999.0000,5,-999.0000,5,-999.0000,5,-999.0000,5,-999.0000,5,-999.0000,5,-999.0000,5,-999.0000,5,-999.0000,5,     -999.0,9,  -999.0,9,     -999.0,     -999.0,9,     -999.0,20130909,       1352
33RO20130803,       A16N,      90,          1,          5,          5,2,20130909,       1307,    20.9997,   -28.4331,       5089,  3298.3,   2.5686,  34.9208,2,  34.9208,2,    242.3,2,   242.1,2,   39.20,2,   21.60,2,    0.00,2,    1.46,2,   0.005,2,   0.004,2,   0.000,2,  2195.9,2,  2343.4,2,   752.1,2,      20,   7.7275,2,    25.00, -999.00,9,  -999.0,9,  -999.0, -999.00,9, -999.00,9,     13.372,2,   0.1234,2,   0.0808,2,   0.0278,2,   0.0180,2,   0.0063,2,   0.0055,3,  -0.0004,4,   0.0264,2,   0.0281,2,     -999.0,5,  -999.0,9,     -999.0,     -999.0,9,     -999.0,20130909,       1343
33RO20130803,       A16N,      90,          1,          4,          4,2,20130909,       1307,    20.9997,   -28.4331,       5089,  3699.1,   2.4316,  34.9042,2,  34.9070,2,    242.3,2,   243.2,2,   42.60,6,   21.90,6,    0.00,6,    1.48,6,   0.002,6,   0.002,6,   0.000,6,  2197.1,2,  2343.9,2,   755.8,2,      20,   7.7271,6,    25.00, -999.00,9,  -999.0,9,  -999.0, -999.00,9, -999.00,9,     13.555,6,   0.1291,2,   0.0850,2,   0.0314,2,   0.0210,2,   0.0094,2,   0.0073,4,   0.0007,4,   0.0248,2,   0.0267,2,     -999.0,5,  -999.0,9,     -999.0,     -999.0,9,     -999.0,20130909,       1335
33RO20130803,       A16N,      90,          1,          3,          3,2,20130909,       1307,    20.9997,   -28.4331,       5089,  4199.1,   2.3688,  34.8922,2,  34.8916,2,    241.7,2,   242.4,2,   45.40,6,   22.30,6,    0.00,6,    1.50,6,   0.001,2,   0.002,2,   0.000,2,  2199.7,2,  2351.8,6,   761.5,2,      20,   7.7254,2,    25.00, -999.00,9,  -999.0,9,  -999.0, -999.00,9, -999.00,9,     13.613,2,   0.1205,2,   0.0774,2,   0.0259,2,   0.0165,2,   0.0052,2,   0.0040,3,  -0.0015,4,   0.0272,2,   0.0291,2,     -999.0,5,  -999.0,9,     -999.0,     -999.0,9,     -999.0,20130909,       1325
33RO20130803,       A16N,      90,          1,          2,          2,2,20130909,       1307,    20.9997,   -28.4331,       5089,  4699.0,   2.3748,  34.8860,2,  34.8869,2,    241.7,2,   242.8,2,   46.60,6,   22.40,6,    0.00,6,    1.51,6,   0.004,2,   0.004,2,   0.000,2,  2202.6,2,  2347.1,2,   762.8,2,      20,   7.7242,2,    25.00, -999.00,9,  -999.0,9,  -999.0, -999.00,9, -999.00,9,     13.702,2,   0.1533,2,   0.1055,2,   0.0467,2,   0.0332,2,   0.0194,2,   0.0144,2,   0.0047,2,   0.0204,2,   0.0223,2,     -999.0,5,  -999.0,9,     -999.0,     -999.0,9,     -999.0,20130909,       1316
33RO20130803,       A16N,      90,          1,          1,          1,2,20130909,       1307,    20.9997,   -28.4331,       5089,  5148.8,   2.4209,  34.8840,2,  34.8879,2,    242.9,2,   242.1,2,   47.00,6,   22.40,6,    0.00,6,    1.51,6,   0.004,2,   0.005,2,   0.000,2,  2204.9,6,  2354.5,2,   766.9,2,      20,   7.7368,2,    25.00, -999.00,9,  -999.0,9,  -999.0, -999.00,9, -999.00,9,     13.720,2,   0.1434,2,   0.0974,2,   0.0411,2,   0.0290,2,   0.0156,2,   0.0113,3,   0.0025,3,   0.0215,2,   0.0236,2,     -999.0,5,  -999.0,9,     -999.0,     -999.0,9,     -999.0,20130909,       1307