BOTTLE,20220815CCHSIOAMB
EXPOCODE,SECT_ID,STNNBR,CASTNO,SAMPNO,BTLNBR,BTLNBR_FLAG_W,DATE,TIME,LATITUDE,LONGITUDE,DEPTH,CTDPRS,CTDTMP,CTDSAL,CTDSAL_FLAG_W,SALNTY,SALNTY_FLAG_W,CTDOXY,CTDOXY_FLAG_W,OXYGEN,OXYGEN_FLAG_W,SILCAT,SILCAT_FLAG_W,NITRAT,NITRAT_FLAG_W,NITRIT,NITRIT_FLAG_W,PHSPHT,PHSPHT_FLAG_W,CFC-11,CFC-11_FLAG_W,CFC-12,CFC-12_FLAG_W,SF6,SF6_FLAG_W,TCARBN,TCARBN_FLAG_W,ALKALI,ALKALI_FLAG_W,PCO2,PCO2_FLAG_W,PCO2TMP,PH_SWS,PH_SWS_FLAG_W,PH_TMP,DELC13,DELC13_FLAG_W,DELC14,DELC14_FLAG_W,C14ERR,DOC,DOC_FLAG_W,TDN,TDN_FLAG_W,N2O,N2O_FLAG_W,CDOM325,CDOM325_FLAG_W,CDOM340,CDOM340_FLAG_W,CDOM380,CDOM380_FLAG_W,CDOM412,CDOM412_FLAG_W,CDOM443,CDOM443_FLAG_W,CDOM490,CDOM490_FLAG_W,CDOM555,CDOM555_FLAG_W,CDOMSL,CDOMSL_FLAG_W,CDOMSN,CDOMSN_FLAG_W,CCL4,CCL4_FLAG_W,14C-DOC,14C-DOC_FLAG_W,14C-DOCERR,13C-DOC,13C-DOC_FLAG_W,13C-DOCERR,BTL_DATE,BTL_TIME
,,,,,,,,,,,METERS,DBAR,ITS-90,PSS-78,,PSS-78,,UMOL/KG,,UMOL/KG,,UMOL/KG,,UMOL/KG,,UMOL/KG,,UMOL/KG,,PMOL/KG,,PMOL/KG,,FMOL/KG,,UMOL/KG,,UMOL/KG,,UATM,,DEG C,,,DEG C,/MILLE,,/MILLE,,/MILLE,UMOL/KG,,UMOL/KG,,NMOL/KG,,1/M,,1/M,,1/M,,1/M,,1/M,,1/M,,1/M,,1/NM,,1/NM,,PMOL/KG,,/MILLE,,/MILLE,/MILLE,,/MILLE,,
33RO20130803,       A16N,      36,          1,         24,         24,2,20130812,       2333,    47.4787,   -19.9970,       4565,     2.8,  19.3296,  35.7842,2,  35.7847,2,    227.7,2,   232.7,2,    0.40,2,    0.00,2,    0.00,2,    0.04,2,   2.245,2,   1.373,2,   1.590,2,  2071.5,6,  2356.6,2,  -999.0,9, -999.00,   7.9980,2,    25.00,    1.36,2,    45.4,2,     0.2,   71.87,2,    3.91,2,      7.644,2,-999.0000,9,-999.0000,9,-999.0000,9,-999.0000,9,-999.0000,9,-999.0000,9,-999.0000,9,-999.0000,9,-999.0000,9,     -999.0,5,  -999.0,9,     -999.0,     -999.0,9,     -999.0,20130812,       0123
33RO20130803,       A16N,      36,          1,         23,         23,2,20130812,       2333,    47.4787,   -19.9970,       4565,    16.3,  19.2813,  35.7842,2,-999.0000,9,    228.2,2,   232.5,2, -999.00,9, -999.00,9, -999.00,9, -999.00,9,-999.000,9,-999.000,9,-999.000,9,  2072.8,2,  2356.9,6,  -999.0,9, -999.00,   7.9977,2,    25.00, -999.00,9,  -999.0,9,  -999.0,   64.45,2,    4.53,2,     -999.0,9,-999.0000,9,-999.0000,9,-999.0000,9,-999.0000,9,-999.0000,9,-999.0000,9,-999.0000,9,-999.0000,9,-999.0000,9,     -999.0,9,  -999.0,9,     -999.0,     -999.0,9,     -999.0,20130812,       0120
33RO20130803,       A16N,      36,          1,         22,         22,2,20130812,       2333,    47.4787,   -19.9970,       4565,    35.7,  18.1829,  35.7642,2,  35.7577,2,    233.5,2,   243.1,2,    0.50,6,    0.00,6,    0.01,6,    0.07,6,-999.000,9,-999.000,9,-999.000,9,  2078.7,2,  2349.1,2,  -999.0,9, -999.00,   7.9801,2,    25.00,    1.13,6,    48.9,6,     7.4,   60.98,2,    4.44,2,     -999.0,9,-999.0000,9,-999.0000,9,-999.0000,9,-999.0000,9,-999.0000,9,-999.0000,9,-999.0000,9,-999.0000,9,-999.0000,9,     -999.0,9,  -999.0,5,     -999.0,     -999.0,5,     -999.0,20130812,       0118
33RO20130803,       A16N,      36,          1,         21,         21,2,20130812,       2333,    47.4787,   -19.9970,       4565,    60.6,  14.5395,  35.8566,2,  35.8534,2,    238.9,2,   236.1,2,    1.80,6,    4.70,6,    0.21,6,    0.31,6,-999.000,9,-999.000,9,-999.000,9,  2121.0,2,  2354.0,2,  -999.0,9, -999.00,   7.9008,6,    25.00,    0.71,2,    57.0,2,     0.2,    55.4,2,    9.47,2,     -999.0,9,-999.0000,9,-999.0000,9,-999.0000,9,-999.0000,9,-999.0000,9,-999.0000,9,-999.0000,9,-999.0000,9,-999.0000,9,     -999.0,9,  -999.0,9,     -999.0,     -999.0,9,     -999.0,20130812,       0117
33RO20130803,       A16N,      36,          1,         20,         20,2,20130812,       2333,    47.4787,   -19.9970,       4565,    87.1,  13.7175,  35.7837,2,  35.7831,2,    234.0,2,   234.6,2,    2.60,6,    7.00,6,    0.03,6,    0.43,6,   2.768,2,   1.644,2,   1.785,2,  -999.0,9,  -999.0,9,  -999.0,9, -999.00,-999.0000,9,  -999.00,   -0.06,4,    31.8,3,     3.6,   53.84,2,   10.73,2,      9.789,2,-999.0000,9,-999.0000,9,-999.0000,9,-999.0000,9,-999.0000,9,-999.0000,9,-999.0000,9,-999.0000,9,-999.0000,9,     -999.0,5,  -999.0,9,     -999.0,     -999.0,9,     -999.0,20130812,       0114
33RO20130803,       A16N,      36,          1,         19,         19,2,20130812,       2333,    47.4787,   -19.9970,       4565,   122.7,  13.2540,  35.7214,2,  35.7260,2,    236.7,2,     238,2,    2.80,2,    7.50,2,    0.02,2,    0.47,2,-999.000,9,-999.000,9,-999.000,9,  2130.1,2,  2347.1,2,  -999.0,9, -999.00,   7.8714,2,    25.00,    0.67,2,    58.0,2,     0.3,   51.96,2,   10.99,2,     -999.0,9,-999.0000,9,-999.0000,9,-999.0000,9,-999.0000,9,-999.0000,9,-999.0000,9,-999.0000,9,-999.0000,9,-999.0000,9,     -999.0,9,    -303,2,          4,      -21.9,2,        0.2,20130812,       0112
33RO20130803,       A16N,      36,          1,         18,         18,2,20130812,       2333,    47.4787,   -19.9970,       4565,   185.8,  12.7642,  35.6496,2,  35.6532,2,    241.4,2,   236.1,2,    3.30,2,    8.40,2,    0.02,2,    0.53,2,-999.000,9,-999.000,9,-999.000,9,  -999.0,9,  -999.0,9,  -999.0,9, -999.00,-999.0000,9,  -999.00,    0.65,2,    52.5,2,     0.3,   50.93,2,   13.12,2,     -999.0,9,-999.0000,9,-999.0000,9,-999.0000,9,-999.0000,9,-999.0000,9,-999.0000,9,-999.0000,9,-999.0000,9,-999.0000,9,     -999.0,9,  -999.0,9,     -999.0,     -999.0,9,     -999.0,20130812,       0109
33RO20130803,       A16N,      36,          1,         17,         17,2,20130812,       2333,    47.4787,   -19.9970,       4565,   261.8,  12.3473,  35.6129,2,  35.6153,2,    219.8,2,   215.7,2,    4.40,2,   11.30,2,    0.01,2,    0.70,2,   2.757,2,   1.604,2,   1.526,2,  2148.0,2,  2340.5,2,  -999.0,9, -999.00,   7.8238,2,    25.00,    0.59,2,    47.4,2,     0.2,   49.91,2,    13.8,2,     12.092,2,-999.0000,9,-999.0000,9,-999.0000,9,-999.0000,9,-999.0000,9,-999.0000,9,-999.0000,9,-999.0000,9,-999.0000,9,     -999.0,5,    -339,2,          4,      -22.1,2,        0.2,20130812,       0106
33RO20130803,       A16N,      36,          1,         16,         16,2,20130812,       2333,    47.4787,   -19.9970,       4565,   349.6,  11.8929,  35.5709,2,  35.5700,2,    209.6,2,   207.2,2,    5.30,2,   13.00,2,    0.01,2,    0.80,2,-999.000,9,-999.000,9,-999.000,9,  2155.3,2,  2338.0,6,  -999.0,9, -999.00,   7.7979,2,    25.00,    0.59,2,    49.4,2,     0.2,   48.63,2,   16.09,2,     -999.0,9,-999.0000,9,-999.0000,9,-999.0000,9,-999.0000,9,-999.0000,9,-999.0000,9,-999.0000,9,-999.0000,9,-999.0000,9,     -999.0,9,  -999.0,9,     -999.0,     -999.0,9,     -999.0,20130812,       0103
33RO20130803,       A16N,      36,          1,         15,         15,2,20130812,       2333,    47.4787,   -19.9970,       4565,   449.3,  11.2509,  35.5196,2,  35.5262,2,    218.3,2,   215.3,2,    5.30,2,   13.10,2,    0.00,2,    0.81,2,-999.000,9,-999.000,9,-999.000,9,  -999.0,9,  -999.0,9,  -999.0,9, -999.00,-999.0000,9,  -999.00,    0.50,2,    40.1,2,     0.3,   48.15,2,   15.92,2,     -999.0,9,-999.0000,9,-999.0000,9,-999.0000,9,-999.0000,9,-999.0000,9,-999.0000,9,-999.0000,9,-999.0000,9,-999.0000,9,     -999.0,9,    -346,2,          4,      -21.8,2,        0.2,20130812,       0100
33RO20130803,       A16N,      36,          1,         14,         14,2,20130812,       2333,    47.4787,   -19.9970,       4565,   573.7,  10.6746,  35.4705,2,  35.4711,2,    204.1,2,   204.6,2,    6.70,2,   15.00,2,    0.00,2,    0.93,2,   2.689,2,   1.515,2,   1.196,2,  2167.2,2,  2335.1,2,  -999.0,9, -999.00,   7.7660,2,    25.00,    0.55,2,    39.1,2,     0.3,   46.98,2,   17.56,2,     14.194,2,-999.0000,9,-999.0000,9,-999.0000,9,-999.0000,9,-999.0000,9,-999.0000,9,-999.0000,9,-999.0000,9,-999.0000,9,     -999.0,5,    -357,2,          4,      -21.8,2,        0.2,20130812,       0057
33RO20130803,       A16N,      36,          1,         13,         13,2,20130812,       2333,    47.4787,   -19.9970,       4565,   781.8,   9.3923,  35.4404,2,  35.4418,2,    185.9,2,     186,2,    9.90,2,   18.20,2,    0.00,2,    1.15,2,   2.239,2,   1.204,2,   0.739,2,  2184.7,6,  2336.2,2,  -999.0,9, -999.00,   7.7263,2,    25.00,    0.51,2,     8.4,2,     0.3,   46.06,2,   20.68,2,     15.964,2,-999.0000,9,-999.0000,9,-999.0000,9,-999.0000,9,-999.0000,9,-999.0000,9,-999.0000,9,-999.0000,9,-999.0000,9,     -999.0,5,    -384,2,          4,      -21.9,2,        0.2,20130812,       0052
33RO20130803,       A16N,      36,          1,         12,         12,2,20130812,       2333,    47.4787,   -19.9970,       4565,   874.1,   7.8081,  35.2577,2,  35.2588,2,    197.7,2,     198,2,   11.00,2,   18.90,2,    0.00,2,    1.22,2,   2.395,2,   1.275,2,   0.855,2,  2186.2,2,  2325.1,2,  -999.0,9, -999.00,   7.7058,2,    25.00,    0.62,2,    -0.3,2,     0.2,   45.11,2,   21.57,2,     15.971,2,-999.0000,9,-999.0000,9,-999.0000,9,-999.0000,9,-999.0000,9,-999.0000,9,-999.0000,9,-999.0000,9,-999.0000,9,     -999.0,5,  -999.0,5,     -999.0,     -999.0,5,     -999.0,20130812,       0049
33RO20130803,       A16N,      36,          1,         11,         11,2,20130812,       2333,    47.4787,   -19.9970,       4565,  1022.7,   6.6125,  35.2016,2,  35.2009,2,    221.6,2,   218.5,2,   11.10,2,   18.40,2,    0.00,2,    1.19,2,   2.675,2,   1.412,2,   0.853,2,  2183.9,2,  2324.1,2,  -999.0,9, -999.00,   7.7061,2,    25.00,    0.52,2,    -0.9,2,     0.2,   44.87,2,      21,2,     15.088,2,-999.0000,9,-999.0000,9,-999.0000,9,-999.0000,9,-999.0000,9,-999.0000,9,-999.0000,9,-999.0000,9,-999.0000,9,     -999.0,5,    -386,2,          4,      -22.0,2,        0.2,20130812,       0045
33RO20130803,       A16N,      36,          1,         10,         10,2,20130812,       2333,    47.4787,   -19.9970,       4565,  1199.6,   6.1039,  35.2092,2,  35.2094,2,    229.7,2,   230.7,2,   11.10,6,   18.00,6,    0.00,6,    1.16,6,-999.000,9,-999.000,9,-999.000,9,  -999.0,9,  -999.0,9,  -999.0,9, -999.00,-999.0000,9,  -999.00,    0.72,2,    -5.6,2,     0.2,   44.34,2,   20.49,2,     -999.0,9,-999.0000,9,-999.0000,9,-999.0000,9,-999.0000,9,-999.0000,9,-999.0000,9,-999.0000,9,-999.0000,9,-999.0000,9,     -999.0,9,    -380,2,          4,      -21.7,2,        0.2,20130812,       0041
33RO20130803,       A16N,      36,          1,          9,          9,2,20130812,       2333,    47.4787,   -19.9970,       4565,  1524.6,   4.1591,  34.9436,2,  35.2094,4,    265.2,2,   266.1,2,   10.80,2,   17.40,2,    0.00,2,    1.14,2,   3.580,2,   1.860,2,   1.096,2,  2169.0,2,  2306.1,2,  -999.0,9, -999.00,   7.7045,2,    25.00,    0.77,2,     2.4,2,     0.2,   43.82,2,   20.48,2,     13.682,2,-999.0000,9,-999.0000,9,-999.0000,9,-999.0000,9,-999.0000,9,-999.0000,9,-999.0000,9,-999.0000,9,-999.0000,9,     -999.0,5,    -378,2,          4,      -21.8,2,        0.2,20130812,       0035
33RO20130803,       A16N,      36,          1,          8,          8,2,20130812,       2333,    47.4787,   -19.9970,       4565,  1899.0,   3.6886,  34.9190,2,  34.9186,2,    268.6,2,   270.2,2,   11.60,2,   17.40,2,    0.00,2,    1.15,2,-999.000,9,-999.000,9,-999.000,9,  -999.0,9,  -999.0,9,  -999.0,9, -999.00,-999.0000,9,  -999.00,    0.90,2,     7.7,2,     0.2,   43.29,2,   20.15,2,     -999.0,9,-999.0000,9,-999.0000,9,-999.0000,9,-999.0000,9,-999.0000,9,-999.0000,9,-999.0000,9,-999.0000,9,-999.0000,9,     -999.0,9,  -999.0,9,     -999.0,     -999.0,9,     -999.0,20130812,       0027
33RO20130803,       A16N,      36,          1,          7,          7,2,20130812,       2333,    47.4787,   -19.9970,       4565,  2249.0,   3.3700,  34.9148,2,  34.9145,2,    271.6,2,   272.9,2,   12.80,2,   17.30,6,    0.00,6,    1.14,6,   2.766,2,   1.355,2,   0.547,2,  2164.2,2,  2305.0,2,  -999.0,9, -999.00,   7.7135,2,    25.00,    0.95,2,    -4.0,2,     0.2,   42.78,2,   19.42,2,     13.096,2,-999.0000,9,-999.0000,9,-999.0000,9,-999.0000,9,-999.0000,9,-999.0000,9,-999.0000,9,-999.0000,9,-999.0000,9,     -999.0,5,    -391,2,          4,      -21.8,2,        0.2,20130812,       0020
33RO20130803,       A16N,      36,          1,          6,          6,2,20130812,       2333,    47.4787,   -19.9970,       4565,  2698.1,   3.0727,  34.9388,2,  34.9482,4,    263.7,2,   264.9,2,   19.40,2,   17.90,2,    0.00,2,    1.20,2,-999.000,9,-999.000,9,-999.000,9,  -999.0,9,  -999.0,9,  -999.0,9, -999.00,-999.0000,9,  -999.00,    0.96,2,   -30.0,2,     0.2,   42.91,2,    20.7,2,     -999.0,9,-999.0000,9,-999.0000,9,-999.0000,9,-999.0000,9,-999.0000,9,-999.0000,9,-999.0000,9,-999.0000,9,-999.0000,9,     -999.0,9,  -999.0,9,     -999.0,     -999.0,9,     -999.0,20130812,       0011
33RO20130803,       A16N,      36,          1,          5,          5,2,20130812,       2333,    47.4787,   -19.9970,       4565,  3097.9,   2.8323,  34.9405,2,  34.9397,2,    253.9,2,   254.9,2,   28.40,2,   19.30,2,    0.00,2,    1.30,2,-999.000,9,-999.000,9,-999.000,9,  2183.3,2,  2328.8,2,  -999.0,9, -999.00,   7.7225,2,    25.00,    0.96,2,   -61.5,2,     0.3,   42.79,2,   22.25,2,     -999.0,9,-999.0000,9,-999.0000,9,-999.0000,9,-999.0000,9,-999.0000,9,-999.0000,9,-999.0000,9,-999.0000,9,-999.0000,9,     -999.0,9,  -999.0,5,     -999.0,     -999.0,5,     -999.0,20130812,       0003
33RO20130803,       A16N,      36,          1,          4,          4,2,20130812,       2333,    47.4787,   -19.9970,       4565,  3499.1,   2.6402,  34.9251,2,  34.9249,2,    243.8,2,   245.7,2,   37.40,2,   21.00,6,    0.00,6,    1.41,6,   0.377,2,   0.191,2,   0.133,2,  -999.0,9,  -999.0,9,  -999.0,9, -999.00,-999.0000,9,  -999.00,    1.00,2,   -97.5,2,     0.2,   42.47,2,   23.53,2,     13.326,2,-999.0000,9,-999.0000,9,-999.0000,9,-999.0000,9,-999.0000,9,-999.0000,9,-999.0000,9,-999.0000,9,-999.0000,9,     -999.0,5,  -999.0,9,     -999.0,     -999.0,9,     -999.0,20130812,       2355
33RO20130803,       A16N,      36,          1,          3,          3,2,20130812,       2333,    47.4787,   -19.9970,       4565,  3973.8,   2.5484,  34.9119,2,  34.9114,2,    239.9,2,   241.3,2,   42.50,2,   21.90,2,    0.00,2,    1.47,2,   0.122,2,   0.063,2,   0.076,2,  2201.9,2,  2350.5,6,  -999.0,9, -999.00,   7.7240,2,    25.00,    0.99,2,   -98.2,2,     0.2,   42.55,2,   24.22,2,     13.412,2,-999.0000,9,-999.0000,9,-999.0000,9,-999.0000,9,-999.0000,9,-999.0000,9,-999.0000,9,-999.0000,9,-999.0000,9,     -999.0,5,  -999.0,5,     -999.0,     -999.0,5,     -999.0,20130812,       2346
33RO20130803,       A16N,      36,          1,          2,          2,2,20130812,       2333,    47.4787,   -19.9970,       4565,  4263.6,   2.5367,  34.9074,2,  34.9085,2,    239.5,2,   239.9,2,   44.80,2,   22.10,2,    0.00,2,    1.49,2,   0.069,6,   0.038,6,   0.060,6,  2203.6,2,  2353.4,2,  -999.0,9, -999.00,   7.7258,2,    25.00,    0.94,2,  -122.9,2,     0.2,   42.36,2,   24.89,2,     13.503,6,-999.0000,9,-999.0000,9,-999.0000,9,-999.0000,9,-999.0000,9,-999.0000,9,-999.0000,9,-999.0000,9,-999.0000,9,     -999.0,5,    -453,2,          4,      -21.6,2,        0.2,20130812,       2340
33RO20130803,       A16N,      36,          1,          1,          1,2,20130812,       2333,    47.4787,   -19.9970,       4565,  4622.2,   2.5618,  34.9051,2,  34.9043,2,    239.3,2,     240,2,   45.40,6,   22.20,6,    0.00,6,    1.49,6,   0.056,2,   0.030,2,   0.038,2,  2204.3,6,  2354.8,2,  -999.0,9, -999.00,   7.7277,2,    25.00,    0.99,2,  -113.5,2,     0.2, -999.00,9, -999.00,9,     13.510,2,-999.0000,9,-999.0000,9,-999.0000,9,-999.0000,9,-999.0000,9,-999.0000,9,-999.0000,9,-999.0000,9,-999.0000,9,     -999.0,5,  -999.0,9,     -999.0,     -999.0,9,     -999.0,20130812,       2333