BOTTLE,20220815CCHSIOAMB
EXPOCODE,SECT_ID,STNNBR,CASTNO,SAMPNO,BTLNBR,BTLNBR_FLAG_W,DATE,TIME,LATITUDE,LONGITUDE,DEPTH,CTDPRS,CTDTMP,CTDSAL,CTDSAL_FLAG_W,SALNTY,SALNTY_FLAG_W,CTDOXY,CTDOXY_FLAG_W,OXYGEN,OXYGEN_FLAG_W,SILCAT,SILCAT_FLAG_W,NITRAT,NITRAT_FLAG_W,NITRIT,NITRIT_FLAG_W,PHSPHT,PHSPHT_FLAG_W,CFC-11,CFC-11_FLAG_W,CFC-12,CFC-12_FLAG_W,SF6,SF6_FLAG_W,TCARBN,TCARBN_FLAG_W,ALKALI,ALKALI_FLAG_W,PCO2,PCO2_FLAG_W,PCO2TMP,PH_SWS,PH_SWS_FLAG_W,PH_TMP,DELC13,DELC13_FLAG_W,DELC14,DELC14_FLAG_W,C14ERR,DOC,DOC_FLAG_W,TDN,TDN_FLAG_W,N2O,N2O_FLAG_W,CDOM325,CDOM325_FLAG_W,CDOM340,CDOM340_FLAG_W,CDOM380,CDOM380_FLAG_W,CDOM412,CDOM412_FLAG_W,CDOM443,CDOM443_FLAG_W,CDOM490,CDOM490_FLAG_W,CDOM555,CDOM555_FLAG_W,CDOMSL,CDOMSL_FLAG_W,CDOMSN,CDOMSN_FLAG_W,CCL4,CCL4_FLAG_W,14C-DOC,14C-DOC_FLAG_W,14C-DOCERR,13C-DOC,13C-DOC_FLAG_W,13C-DOCERR,BTL_DATE,BTL_TIME
,,,,,,,,,,,METERS,DBAR,ITS-90,PSS-78,,PSS-78,,UMOL/KG,,UMOL/KG,,UMOL/KG,,UMOL/KG,,UMOL/KG,,UMOL/KG,,PMOL/KG,,PMOL/KG,,FMOL/KG,,UMOL/KG,,UMOL/KG,,UATM,,DEG C,,,DEG C,/MILLE,,/MILLE,,/MILLE,UMOL/KG,,UMOL/KG,,NMOL/KG,,1/M,,1/M,,1/M,,1/M,,1/M,,1/M,,1/M,,1/NM,,1/NM,,PMOL/KG,,/MILLE,,/MILLE,/MILLE,,/MILLE,,
33RO20130803,       A16N,      15,          2,         24,         24,2,20130806,       2113,    58.0017,   -20.0016,       1637,     3.3,  12.6253,  35.0909,2,  35.0924,2,    278.6,2,   279.9,2,    0.40,2,    1.20,2,    0.05,2,    0.16,2,   3.154,2,   1.793,2,   1.919,2,  2065.1,2,  2315.4,2,   416.4,2,      20,   7.9475,2,    25.00, -999.00,9,  -999.0,9,  -999.0, -999.00,9, -999.00,9,      9.978,2,-999.0000,9,-999.0000,9,-999.0000,9,-999.0000,9,-999.0000,9,-999.0000,9,-999.0000,9,-999.0000,9,-999.0000,9,     -999.0,5,  -999.0,9,     -999.0,     -999.0,9,     -999.0,20130806,       2212
33RO20130803,       A16N,      15,          2,         23,         23,2,20130806,       2113,    58.0017,   -20.0016,       1637,    20.8,  12.2917,  35.0645,2,  35.0836,2,    277.9,2,   274.4,2,    0.70,2,    2.70,2,    0.07,2,    0.26,2,   3.236,2,   1.838,2,   1.960,2,  2081.3,2,  2316.1,2,   450.8,2,      20,   7.9210,2,    25.00, -999.00,9,  -999.0,9,  -999.0, -999.00,9, -999.00,9,     10.233,2,-999.0000,9,-999.0000,9,-999.0000,9,-999.0000,9,-999.0000,9,-999.0000,9,-999.0000,9,-999.0000,9,-999.0000,9,     -999.0,5,  -999.0,9,     -999.0,     -999.0,9,     -999.0,20130806,       2210
33RO20130803,       A16N,      15,          2,         22,         22,2,20130806,       2113,    58.0017,   -20.0016,       1637,    44.2,  10.3208,  35.1477,2,  35.1452,2,    267.4,2,   267.9,2,    1.30,6,    7.40,6,    0.19,6,    0.59,6,   3.354,6,   1.887,6,   2.031,6,  2122.0,2,  2315.3,2,   562.6,2,      20,   7.8360,2,    25.00, -999.00,9,  -999.0,9,  -999.0, -999.00,9, -999.00,9,     10.543,6,-999.0000,9,-999.0000,9,-999.0000,9,-999.0000,9,-999.0000,9,-999.0000,9,-999.0000,9,-999.0000,9,-999.0000,9,     -999.0,5,  -999.0,9,     -999.0,     -999.0,9,     -999.0,20130806,       2209
33RO20130803,       A16N,      15,          2,         21,         21,2,20130806,       2113,    58.0017,   -20.0016,       1637,    63.3,  10.1006,  35.1620,2,  35.1612,2,    266.9,2,   267.4,2,    1.40,6,    8.00,6,    0.32,6,    0.62,6,   3.490,2,   1.955,2,   2.070,2,  2125.7,2,  2318.8,2,   574.8,2,      20,   7.8284,6,    25.00, -999.00,9,  -999.0,9,  -999.0, -999.00,9, -999.00,9,     11.538,2,-999.0000,9,-999.0000,9,-999.0000,9,-999.0000,9,-999.0000,9,-999.0000,9,-999.0000,9,-999.0000,9,-999.0000,9,     -999.0,5,  -999.0,9,     -999.0,     -999.0,9,     -999.0,20130806,       2207
33RO20130803,       A16N,      15,          2,         20,         20,2,20130806,       2113,    58.0017,   -20.0016,       1637,    83.5,   9.4501,  35.1990,2,  35.1982,2,    263.8,2,   263.8,2,    2.10,6,   11.00,6,    0.06,6,    0.73,6,   3.509,2,   1.958,2,   2.052,2,  2138.8,2,  2318.9,2,   620.7,2,      20,   7.7975,2,    25.00, -999.00,9,  -999.0,9,  -999.0, -999.00,9, -999.00,9,     12.005,2,-999.0000,9,-999.0000,9,-999.0000,9,-999.0000,9,-999.0000,9,-999.0000,9,-999.0000,9,-999.0000,9,-999.0000,9,     -999.0,5,  -999.0,9,     -999.0,     -999.0,9,     -999.0,20130806,       2205
33RO20130803,       A16N,      15,          2,         19,         19,2,20130806,       2113,    58.0017,   -20.0016,       1637,   104.0,   9.3317,  35.2066,2,  35.2039,2,    262.9,2,   262.4,2,    2.60,6,   11.40,6,    0.02,6,    0.75,6,   3.480,2,   1.953,2,   2.012,2,  2140.8,2,  2318.2,2,   626.8,2,      20,   7.7947,2,    25.00, -999.00,9,  -999.0,9,  -999.0, -999.00,9, -999.00,9,     11.962,2,-999.0000,9,-999.0000,9,-999.0000,9,-999.0000,9,-999.0000,9,-999.0000,9,-999.0000,9,-999.0000,9,-999.0000,9,     -999.0,5,  -999.0,9,     -999.0,     -999.0,9,     -999.0,20130806,       2204
33RO20130803,       A16N,      15,          2,         18,         18,2,20130806,       2113,    58.0017,   -20.0016,       1637,   130.1,   9.2347,  35.2073,2,  35.2065,2,    263.0,2,   262.5,2,    2.90,2,   11.40,2,    0.01,2,    0.76,2,   3.487,2,   1.952,2,   2.020,2,  2141.9,2,  2317.9,2,   630.0,2,      20,   7.7944,2,    25.00, -999.00,9,  -999.0,9,  -999.0, -999.00,9, -999.00,9,     12.002,2,-999.0000,9,-999.0000,9,-999.0000,9,-999.0000,9,-999.0000,9,-999.0000,9,-999.0000,9,-999.0000,9,-999.0000,9,     -999.0,5,  -999.0,9,     -999.0,     -999.0,9,     -999.0,20130806,       2202
33RO20130803,       A16N,      15,          2,         17,         17,2,20130806,       2113,    58.0017,   -20.0016,       1637,   154.9,   9.1434,  35.1989,2,  35.1996,2,    262.0,2,   263.6,2,    3.10,2,   11.60,2,    0.01,2,    0.76,2,   3.491,2,   1.956,2,   1.961,2,  2141.8,2,  2320.6,2,   631.1,2,      20,   7.7932,2,    25.00, -999.00,9,  -999.0,9,  -999.0, -999.00,9, -999.00,9,     12.091,2,-999.0000,9,-999.0000,9,-999.0000,9,-999.0000,9,-999.0000,9,-999.0000,9,-999.0000,9,-999.0000,9,-999.0000,9,     -999.0,5,  -999.0,9,     -999.0,     -999.0,9,     -999.0,20130806,       2200
33RO20130803,       A16N,      15,          2,         16,         16,2,20130806,       2113,    58.0017,   -20.0016,       1637,   180.0,   9.1590,  35.2080,2,  35.2093,2,    262.9,2,   262.8,2,    3.30,2,   11.60,2,    0.01,2,    0.77,2,   3.460,2,   1.936,2,   2.009,2,  2143.3,2,  2329.1,4,   630.9,2,      20,   7.7926,2,    25.00, -999.00,9,  -999.0,9,  -999.0, -999.00,9, -999.00,9,     12.138,2,-999.0000,9,-999.0000,9,-999.0000,9,-999.0000,9,-999.0000,9,-999.0000,9,-999.0000,9,-999.0000,9,-999.0000,9,     -999.0,5,  -999.0,9,     -999.0,     -999.0,9,     -999.0,20130806,       2158
33RO20130803,       A16N,      15,          2,         15,         15,2,20130806,       2113,    58.0017,   -20.0016,       1637,   204.7,   9.1478,  35.2161,2,  35.2162,2,    262.1,2,   261.3,2,    3.70,2,   11.90,2,    0.02,2,    0.78,2,   3.440,2,   1.927,2,   1.981,2,  2142.3,2,  2318.2,2,   636.1,2,      20,   7.7873,2,    25.00, -999.00,9,  -999.0,9,  -999.0, -999.00,9, -999.00,9,     12.224,2,-999.0000,9,-999.0000,9,-999.0000,9,-999.0000,9,-999.0000,9,-999.0000,9,-999.0000,9,-999.0000,9,-999.0000,9,     -999.0,5,  -999.0,9,     -999.0,     -999.0,9,     -999.0,20130806,       2156
33RO20130803,       A16N,      15,          2,         14,         14,2,20130806,       2113,    58.0017,   -20.0016,       1637,   229.7,   9.1198,  35.2181,2,  35.2201,2,    261.0,2,   261.1,2,    3.90,2,   12.00,2,    0.01,2,    0.79,2,   3.440,2,   1.922,2,   1.961,2,  2144.1,2,  2319.4,2,   637.3,2,      20,   7.7921,2,    25.00, -999.00,9,  -999.0,9,  -999.0, -999.00,9, -999.00,9,     12.240,2,-999.0000,9,-999.0000,9,-999.0000,9,-999.0000,9,-999.0000,9,-999.0000,9,-999.0000,9,-999.0000,9,-999.0000,9,     -999.0,5,  -999.0,9,     -999.0,     -999.0,9,     -999.0,20130806,       2155
33RO20130803,       A16N,      15,          2,         13,         13,2,20130806,       2113,    58.0017,   -20.0016,       1637,   254.7,   9.0805,  35.2148,2,  35.2140,2,    261.6,2,   261.7,2,    4.00,2,   12.00,2,    0.01,2,    0.79,2,   3.441,2,   1.923,2,   1.974,2,  2144.9,2,  2318.3,2,   639.4,2,      20,   7.7880,2,    25.00, -999.00,9,  -999.0,9,  -999.0, -999.00,9, -999.00,9,     12.282,2,-999.0000,9,-999.0000,9,-999.0000,9,-999.0000,9,-999.0000,9,-999.0000,9,-999.0000,9,-999.0000,9,-999.0000,9,     -999.0,5,  -999.0,9,     -999.0,     -999.0,9,     -999.0,20130806,       2153
33RO20130803,       A16N,      15,          2,         12,         12,2,20130806,       2113,    58.0017,   -20.0016,       1637,   359.7,   8.7675,  35.1962,2,  35.1957,2,    249.8,2,   250.7,2,    5.90,2,   13.60,2,    0.01,2,    0.89,2,   3.331,2,   1.848,2,   1.833,2,  2162.2,3,  2317.6,2,   673.4,2,      20,   7.7679,2,    25.00, -999.00,9,  -999.0,9,  -999.0, -999.00,9, -999.00,9,     13.390,2,-999.0000,9,-999.0000,9,-999.0000,9,-999.0000,9,-999.0000,9,-999.0000,9,-999.0000,9,-999.0000,9,-999.0000,9,     -999.0,5,  -999.0,9,     -999.0,     -999.0,9,     -999.0,20130806,       2150
33RO20130803,       A16N,      15,          2,         11,         11,2,20130806,       2113,    58.0017,   -20.0016,       1637,   388.8,   8.6473,  35.1878,2,  35.1894,2,    247.8,2,   248.1,2,    6.40,2,   14.00,2,    0.00,2,    0.92,2,   3.292,2,   1.825,2,   1.842,2,  2157.3,2,  2316.7,2,   683.8,2,      20,   7.7601,2,    25.00, -999.00,9,  -999.0,9,  -999.0, -999.00,9, -999.00,9,     13.847,2,-999.0000,9,-999.0000,9,-999.0000,9,-999.0000,9,-999.0000,9,-999.0000,9,-999.0000,9,-999.0000,9,-999.0000,9,     -999.0,5,  -999.0,9,     -999.0,     -999.0,9,     -999.0,20130806,       2148
33RO20130803,       A16N,      15,          2,         10,         10,2,20130806,       2113,    58.0017,   -20.0016,       1637,   464.2,   8.1214,  35.1513,2,  35.1508,2,    223.2,2,   222.9,2,    8.90,2,   16.70,2,    0.00,2,    1.09,2,   3.003,2,   1.634,2,   1.458,2,  2172.1,2,  2316.9,2,   751.2,2,      20,   7.7272,2,    25.00, -999.00,9,  -999.0,9,  -999.0, -999.00,9, -999.00,9,     15.837,2,-999.0000,9,-999.0000,9,-999.0000,9,-999.0000,9,-999.0000,9,-999.0000,9,-999.0000,9,-999.0000,9,-999.0000,9,     -999.0,5,  -999.0,9,     -999.0,     -999.0,9,     -999.0,20130806,       2145
33RO20130803,       A16N,      15,          2,          9,          9,2,20130806,       2113,    58.0017,   -20.0016,       1637,   518.7,   7.6627,  35.1365,2,  35.1349,2,    214.8,2,   215.3,2,   10.00,2,   17.70,2,    0.00,2,    1.16,2,   2.898,2,   1.554,2,   1.267,2,  2176.4,6,  2316.7,2,   784.1,2,      20,   7.6858,4,    25.00, -999.00,9,  -999.0,9,  -999.0, -999.00,9, -999.00,9,     16.504,2,-999.0000,9,-999.0000,9,-999.0000,9,-999.0000,9,-999.0000,9,-999.0000,9,-999.0000,9,-999.0000,9,-999.0000,9,     -999.0,5,  -999.0,9,     -999.0,     -999.0,9,     -999.0,20130806,       2143
33RO20130803,       A16N,      15,          2,          8,          8,2,20130806,       2113,    58.0017,   -20.0016,       1637,   617.8,   6.9217,  35.1032,2,  35.1028,2,    217.2,2,   217.7,2,   10.70,2,   18.30,2,    0.00,2,    1.20,2,   2.927,2,   1.554,2,   1.139,2,  2180.8,3,  2301.9,4,   803.7,2,      20,   7.6966,2,    25.00, -999.00,9,  -999.0,9,  -999.0, -999.00,9, -999.00,9,     16.582,2,-999.0000,9,-999.0000,9,-999.0000,9,-999.0000,9,-999.0000,9,-999.0000,9,-999.0000,9,-999.0000,9,-999.0000,9,     -999.0,5,  -999.0,9,     -999.0,     -999.0,9,     -999.0,20130806,       2140
33RO20130803,       A16N,      15,          2,          7,          7,2,20130806,       2113,    58.0017,   -20.0016,       1637,   723.8,   6.2578,  35.0846,2,  35.0863,2,    222.7,2,     223,2,   11.20,2,   18.50,2,    0.00,2,    1.21,2,   3.004,2,   1.571,2,   1.140,2,  2182.6,2,  2314.2,2,   816.8,2,      20,   7.6926,2,    25.00, -999.00,9,  -999.0,9,  -999.0, -999.00,9, -999.00,9,     16.366,2,-999.0000,9,-999.0000,9,-999.0000,9,-999.0000,9,-999.0000,9,-999.0000,9,-999.0000,9,-999.0000,9,-999.0000,9,     -999.0,5,  -999.0,9,     -999.0,     -999.0,9,     -999.0,20130806,       2137
33RO20130803,       A16N,      15,          2,          6,          6,2,20130806,       2113,    58.0017,   -20.0016,       1637,   887.7,   5.1846,  35.0075,2,  35.0110,2,    242.3,2,   243.7,2,   11.00,2,   18.10,2,    0.00,2,    1.19,2,   3.410,2,   1.779,2,   1.133,2,  2179.6,3,  2303.0,3,   817.2,2,      20,   7.6916,2,    25.00, -999.00,9,  -999.0,9,  -999.0, -999.00,9, -999.00,9,     15.592,2,-999.0000,9,-999.0000,9,-999.0000,9,-999.0000,9,-999.0000,9,-999.0000,9,-999.0000,9,-999.0000,9,-999.0000,9,     -999.0,5,  -999.0,9,     -999.0,     -999.0,9,     -999.0,20130806,       2133
33RO20130803,       A16N,      15,          2,          5,          5,2,20130806,       2113,    58.0017,   -20.0016,       1637,  1036.3,   4.5704,  34.9589,2,  34.9574,2,    257.0,2,   257.9,2,   10.70,2,   17.60,2,    0.00,2,    1.16,2,   3.712,2,   1.910,2,   1.220,2,  2175.3,2,  2305.0,2,   807.5,2,      20,   7.6939,2,    25.00, -999.00,9,  -999.0,9,  -999.0, -999.00,9, -999.00,9,     15.157,2,-999.0000,9,-999.0000,9,-999.0000,9,-999.0000,9,-999.0000,9,-999.0000,9,-999.0000,9,-999.0000,9,-999.0000,9,     -999.0,5,  -999.0,9,     -999.0,     -999.0,9,     -999.0,20130806,       2129
33RO20130803,       A16N,      15,          2,          4,          4,2,20130806,       2113,    58.0017,   -20.0016,       1637,  1174.0,   4.2758,  34.9377,2,  34.9458,2,    264.4,2,   264.5,2,   10.70,2,   17.40,2,    0.00,2,    1.15,2,   3.821,2,   1.964,2,   1.242,2,  2172.4,2,  2303.0,2,   803.8,2,      20,   7.6997,2,    25.00, -999.00,9,  -999.0,9,  -999.0, -999.00,9, -999.00,9,     14.896,2,-999.0000,9,-999.0000,9,-999.0000,9,-999.0000,9,-999.0000,9,-999.0000,9,-999.0000,9,-999.0000,9,-999.0000,9,     -999.0,5,  -999.0,9,     -999.0,     -999.0,9,     -999.0,20130806,       2126
33RO20130803,       A16N,      15,          2,          3,          3,2,20130806,       2113,    58.0017,   -20.0016,       1637,  1324.0,   4.0474,  34.9268,2,  34.9275,2,    268.6,2,   268.5,2,   11.00,2,   17.30,2,    0.00,2,    1.14,2,   3.807,6,   1.940,6,   1.203,6,  2171.2,2,  2302.7,2,   792.9,2,      20,   7.8297,4,    25.00, -999.00,9,  -999.0,9,  -999.0, -999.00,9, -999.00,9,     14.681,6,-999.0000,9,-999.0000,9,-999.0000,9,-999.0000,9,-999.0000,9,-999.0000,9,-999.0000,9,-999.0000,9,-999.0000,9,     -999.0,5,  -999.0,9,     -999.0,     -999.0,9,     -999.0,20130806,       2122
33RO20130803,       A16N,      15,          2,          2,          2,2,20130806,       2113,    58.0017,   -20.0016,       1637,  1473.7,   3.9066,  34.9294,2,  34.9306,2,    268.0,2,   268.3,2,   12.00,2,   17.30,2,    0.00,2,    1.14,2,   3.547,2,   1.771,2,   0.969,2,  2170.2,2,  2302.7,2,   788.4,2,      20,   7.7026,6,    25.00, -999.00,9,  -999.0,9,  -999.0, -999.00,9, -999.00,9,     14.643,2,-999.0000,9,-999.0000,9,-999.0000,9,-999.0000,9,-999.0000,9,-999.0000,9,-999.0000,9,-999.0000,9,-999.0000,9,     -999.0,5,  -999.0,9,     -999.0,     -999.0,9,     -999.0,20130806,       2118
33RO20130803,       A16N,      15,          2,          1,          1,2,20130806,       2113,    58.0017,   -20.0016,       1637,  1646.8,   3.7164,  34.9279,2,  34.9287,2,    266.8,2,   267.1,2,   14.90,2,   17.40,2,    0.05,2,    1.16,2,   3.253,2,   1.608,2,   0.762,2,  2170.6,2,  2306.2,2,   788.2,2,      20,   7.7049,2,    25.00, -999.00,9,  -999.0,9,  -999.0, -999.00,9, -999.00,9,     14.437,2,-999.0000,9,-999.0000,9,-999.0000,9,-999.0000,9,-999.0000,9,-999.0000,9,-999.0000,9,-999.0000,9,-999.0000,9,     -999.0,5,  -999.0,9,     -999.0,     -999.0,9,     -999.0,20130806,       2113