BOTTLE,20220815CCHSIOAMB
EXPOCODE,SECT_ID,STNNBR,CASTNO,SAMPNO,BTLNBR,BTLNBR_FLAG_W,DATE,TIME,LATITUDE,LONGITUDE,DEPTH,CTDPRS,CTDTMP,CTDSAL,CTDSAL_FLAG_W,SALNTY,SALNTY_FLAG_W,CTDOXY,CTDOXY_FLAG_W,OXYGEN,OXYGEN_FLAG_W,SILCAT,SILCAT_FLAG_W,NITRAT,NITRAT_FLAG_W,NITRIT,NITRIT_FLAG_W,PHSPHT,PHSPHT_FLAG_W,CFC-11,CFC-11_FLAG_W,CFC-12,CFC-12_FLAG_W,SF6,SF6_FLAG_W,TCARBN,TCARBN_FLAG_W,ALKALI,ALKALI_FLAG_W,PCO2,PCO2_FLAG_W,PCO2TMP,PH_SWS,PH_SWS_FLAG_W,PH_TMP,DELC13,DELC13_FLAG_W,DELC14,DELC14_FLAG_W,C14ERR,DOC,DOC_FLAG_W,TDN,TDN_FLAG_W,N2O,N2O_FLAG_W,CDOM325,CDOM325_FLAG_W,CDOM340,CDOM340_FLAG_W,CDOM380,CDOM380_FLAG_W,CDOM412,CDOM412_FLAG_W,CDOM443,CDOM443_FLAG_W,CDOM490,CDOM490_FLAG_W,CDOM555,CDOM555_FLAG_W,CDOMSL,CDOMSL_FLAG_W,CDOMSN,CDOMSN_FLAG_W,CCL4,CCL4_FLAG_W,14C-DOC,14C-DOC_FLAG_W,14C-DOCERR,13C-DOC,13C-DOC_FLAG_W,13C-DOCERR,BTL_DATE,BTL_TIME
,,,,,,,,,,,METERS,DBAR,ITS-90,PSS-78,,PSS-78,,UMOL/KG,,UMOL/KG,,UMOL/KG,,UMOL/KG,,UMOL/KG,,UMOL/KG,,PMOL/KG,,PMOL/KG,,FMOL/KG,,UMOL/KG,,UMOL/KG,,UATM,,DEG C,,,DEG C,/MILLE,,/MILLE,,/MILLE,UMOL/KG,,UMOL/KG,,NMOL/KG,,1/M,,1/M,,1/M,,1/M,,1/M,,1/M,,1/M,,1/NM,,1/NM,,PMOL/KG,,/MILLE,,/MILLE,/MILLE,,/MILLE,,
33RO20130803,       A16N,      95,          1,         24,         24,2,20130914,       0005,    19.7514,   -28.9983,       4764,     4.0,  26.3111,  36.7198,2,-999.0000,9,    194.2,2,     203,2,    0.40,2,    0.10,2,    0.00,2,    0.06,2,   1.630,2,   1.029,2,   1.255,2,  2080.2,6,  2405.2,2,   324.7,2,      20,   8.0496,2,    25.00, -999.00,9,  -999.0,9,  -999.0,   72.98,2,    4.28,2,      6.163,2,-999.0000,9,-999.0000,9,-999.0000,9,-999.0000,9,-999.0000,9,-999.0000,9,-999.0000,9,-999.0000,9,-999.0000,9,     -999.0,5,  -999.0,9,     -999.0,     -999.0,9,     -999.0,20130914,       0234
33RO20130803,       A16N,      95,          1,         23,         23,2,20130914,       0005,    19.7514,   -28.9983,       4764,    18.3,  25.8237,  36.7328,2,  36.7335,2,    202.5,2,   204.5,2,    0.50,2,    0.10,2,    0.00,2,    0.06,2,   1.637,2,   1.036,2,   1.277,2,  2082.8,2,  2406.1,2,   324.9,2,      20,   8.0469,2,    25.00, -999.00,9,  -999.0,9,  -999.0,   72.68,2,    4.14,2,      6.194,2,-999.0000,9,-999.0000,9,-999.0000,9,-999.0000,9,-999.0000,9,-999.0000,9,-999.0000,9,-999.0000,9,-999.0000,9,     -999.0,5,  -999.0,9,     -999.0,     -999.0,9,     -999.0,20130914,       0232
33RO20130803,       A16N,      95,          1,         22,         22,2,20130914,       0005,    19.7514,   -28.9983,       4764,    43.1,  24.4750,  36.9163,2,  36.9081,2,    215.3,2,   218.1,2,    0.50,2,    0.10,2,    0.00,2,    0.04,2,   1.800,2,   1.130,2,   1.294,2,  2091.2,2,  2417.1,6,   333.1,2,      20,   8.0420,2,    25.00, -999.00,9,  -999.0,9,  -999.0,   72.24,2,    3.72,2,      6.741,2,-999.0000,9,-999.0000,9,-999.0000,9,-999.0000,9,-999.0000,9,-999.0000,9,-999.0000,9,-999.0000,9,-999.0000,9,     -999.0,5,  -999.0,9,     -999.0,     -999.0,9,     -999.0,20130914,       0230
33RO20130803,       A16N,      95,          1,         21,         21,2,20130914,       0005,    19.7514,   -28.9983,       4764,    67.5,  22.1380,  36.9665,2,  37.0290,2,    218.8,2,   217.8,2,    0.60,2,    0.10,2,    0.00,2,    0.07,2,   1.949,6,   1.206,6,   1.369,6,  2112.9,2,  2425.8,2,  -999.0,9, -999.00,   8.0157,2,    25.00, -999.00,9,  -999.0,9,  -999.0,    65.8,2,    4.68,2,      7.512,6,-999.0000,9,-999.0000,9,-999.0000,9,-999.0000,9,-999.0000,9,-999.0000,9,-999.0000,9,-999.0000,9,-999.0000,9,     -999.0,5,  -999.0,9,     -999.0,     -999.0,9,     -999.0,20130914,       0228
33RO20130803,       A16N,      95,          1,         20,         20,2,20130914,       0005,    19.7514,   -28.9983,       4764,    93.3,  21.5905,  37.1746,2,  37.1742,2,    208.4,2,   205.2,2,    0.70,2,    0.80,2,    0.10,2,    0.10,2,   1.958,2,   1.209,2,   1.335,2,  2130.1,2,  2432.3,2,   380.2,2,      20,   7.9970,2,    25.00, -999.00,9,  -999.0,9,  -999.0,   63.85,2,    5.04,2,      7.944,2,-999.0000,9,-999.0000,9,-999.0000,9,-999.0000,9,-999.0000,9,-999.0000,9,-999.0000,9,-999.0000,9,-999.0000,9,     -999.0,5,  -999.0,9,     -999.0,     -999.0,9,     -999.0,20130914,       0227
33RO20130803,       A16N,      95,          1,         19,         19,2,20130914,       0005,    19.7514,   -28.9983,       4764,   127.9,  20.0313,  36.9979,2,  36.9975,2,    181.2,2,   181.9,2,    1.20,2,    4.30,2,    0.03,2,    0.26,2,   2.046,2,   1.261,2,   1.322,2,  2151.2,2,  2419.2,2,  -999.0,9, -999.00,   7.9431,2,    25.00, -999.00,9,  -999.0,9,  -999.0,    54.1,2,    7.94,2,      9.678,2,-999.0000,9,-999.0000,9,-999.0000,9,-999.0000,9,-999.0000,9,-999.0000,9,-999.0000,9,-999.0000,9,-999.0000,9,     -999.0,5,  -999.0,9,     -999.0,     -999.0,9,     -999.0,20130914,       0224
33RO20130803,       A16N,      95,          1,         18,         18,2,20130914,       0005,    19.7514,   -28.9983,       4764,   187.9,  17.8717,  36.5912,2,  36.5937,2,    165.6,2,   165.5,2,    2.20,2,    8.60,2,    0.01,2,    0.50,2,   2.195,2,   1.322,2,   1.255,2,  2162.6,2,  2394.6,2,   519.7,2,      20,   7.8785,2,    25.00, -999.00,9,  -999.0,9,  -999.0,    51.2,2,   11.76,2,     12.663,2,-999.0000,9,-999.0000,9,-999.0000,9,-999.0000,9,-999.0000,9,-999.0000,9,-999.0000,9,-999.0000,9,-999.0000,9,     -999.0,5,  -999.0,9,     -999.0,     -999.0,9,     -999.0,20130914,       0222
33RO20130803,       A16N,      95,          1,         17,         17,2,20130914,       0005,    19.7514,   -28.9983,       4764,   252.2,  15.9529,  36.2028,2,  36.1856,2,    144.9,2,   142.8,2,    4.00,2,   13.60,2,    0.01,2,    0.79,2,   2.234,2,   1.312,2,   1.029,2,  2175.5,2,  2369.6,2,  -999.0,9, -999.00,   7.8058,2,    25.00, -999.00,9,  -999.0,9,  -999.0,   49.99,2,    16.6,2,     17.047,2,-999.0000,9,-999.0000,9,-999.0000,9,-999.0000,9,-999.0000,9,-999.0000,9,-999.0000,9,-999.0000,9,-999.0000,9,     -999.0,5,  -999.0,9,     -999.0,     -999.0,9,     -999.0,20130914,       0220
33RO20130803,       A16N,      95,          1,         16,         16,2,20130914,       0005,    19.7514,   -28.9983,       4764,   337.7,  14.1274,  35.8856,2,  35.8861,2,    133.8,2,   133.5,2,    5.60,2,   17.30,2,    0.00,2,    1.01,2,   2.209,2,   1.255,2,   0.886,2,  2186.3,2,  2350.6,2,   709.3,2,      20,   7.7552,2,    25.00, -999.00,9,  -999.0,9,  -999.0,   48.05,2,   20.03,2,     19.584,2,-999.0000,9,-999.0000,9,-999.0000,9,-999.0000,9,-999.0000,9,-999.0000,9,-999.0000,9,-999.0000,9,-999.0000,9,     -999.0,5,  -999.0,9,     -999.0,     -999.0,9,     -999.0,20130914,       0217
33RO20130803,       A16N,      95,          1,         15,         15,2,20130914,       0005,    19.7514,   -28.9983,       4764,   447.3,  12.2900,  35.6309,2,  35.6308,2,    124.7,2,   124.5,2,    7.90,2,   21.30,2,    0.00,2,    1.26,2,   1.913,2,   1.038,2,   0.574,2,  2196.7,2,  2338.8,2,  -999.0,9, -999.00,   7.6989,2,    25.00, -999.00,9,  -999.0,9,  -999.0,   45.46,2,   23.93,2,     21.386,2,-999.0000,9,-999.0000,9,-999.0000,9,-999.0000,9,-999.0000,9,-999.0000,9,-999.0000,9,-999.0000,9,-999.0000,9,     -999.0,5,  -999.0,9,     -999.0,     -999.0,9,     -999.0,20130914,       0214
33RO20130803,       A16N,      95,          1,         14,         14,2,20130914,       0005,    19.7514,   -28.9983,       4764,   547.7,  10.5443,  35.3935,2,  35.3916,2,    112.5,2,   112.7,2,   11.80,2,   25.90,2,    0.00,2,    1.56,2,   1.174,6,   0.617,6,   0.264,6,  2207.0,6,  2327.6,2,  -999.0,9, -999.00,   7.6429,2,    25.00, -999.00,9,  -999.0,9,  -999.0,   44.67,2,    28.1,2,     23.452,6,-999.0000,9,-999.0000,9,-999.0000,9,-999.0000,9,-999.0000,9,-999.0000,9,-999.0000,9,-999.0000,9,-999.0000,9,     -999.0,5,  -999.0,9,     -999.0,     -999.0,9,     -999.0,20130914,       0212
33RO20130803,       A16N,      95,          1,         13,         13,2,20130914,       0005,    19.7514,   -28.9983,       4764,   689.7,   8.5535,  35.1486,2,  35.1481,2,    118.0,2,   117.7,2,   16.60,2,   28.80,2,    0.00,2,    1.81,2,   0.492,2,   0.259,2,   0.095,2,  2213.9,2,  2320.7,2,   991.8,2,      20,   7.6108,2,    25.00, -999.00,9,  -999.0,9,  -999.0,   44.18,2,   31.25,2,     23.764,2,-999.0000,9,-999.0000,9,-999.0000,9,-999.0000,9,-999.0000,9,-999.0000,9,-999.0000,9,-999.0000,9,-999.0000,9,     -999.0,5,  -999.0,9,     -999.0,     -999.0,9,     -999.0,20130914,       0207
33RO20130803,       A16N,      95,          1,         12,         12,2,20130914,       0005,    19.7514,   -28.9983,       4764,   813.6,   7.1708,  34.9944,2,  34.9938,2,    125.7,2,     125,2,   20.10,6,   30.30,6,    0.00,6,    1.96,6,   0.198,2,   0.108,2,   0.000,2,  2218.5,2,  2316.3,6,  -999.0,9, -999.00,   7.5929,2,    25.00, -999.00,9,  -999.0,9,  -999.0,   43.62,2,   32.84,2,     23.747,2,-999.0000,9,-999.0000,9,-999.0000,9,-999.0000,9,-999.0000,9,-999.0000,9,-999.0000,9,-999.0000,9,-999.0000,9,     -999.0,5,  -999.0,9,     -999.0,     -999.0,9,     -999.0,20130914,       0150
33RO20130803,       A16N,      95,          1,         11,         11,2,20130914,       0005,    19.7514,   -28.9983,       4764,   963.5,   6.3994,  34.9804,2,  34.9808,2,    138.4,2,   138.5,2,   21.30,6,   29.60,6,    0.00,6,    1.93,6,   0.086,2,   0.047,2,   0.023,2,  2214.3,2,  2318.5,2,  1006.5,2,      20,   7.6032,2,    25.00, -999.00,9,  -999.0,9,  -999.0,   42.88,2,   32.11,2,     22.136,2,-999.0000,9,-999.0000,9,-999.0000,9,-999.0000,9,-999.0000,9,-999.0000,9,-999.0000,9,-999.0000,9,-999.0000,9,     -999.0,5,  -999.0,9,     -999.0,     -999.0,9,     -999.0,20130914,       0146
33RO20130803,       A16N,      95,          1,         10,         10,2,20130914,       0005,    19.7514,   -28.9983,       4764,  1145.0,   5.8444,  35.0344,2,  35.0365,2,    168.3,2,     169,2,   20.10,6,   26.40,6,    0.00,6,    1.73,6,   0.084,2,   0.046,2,   0.037,2,  2201.8,2,  2322.0,2,  -999.0,9, -999.00,   7.6455,2,    25.00, -999.00,9,  -999.0,9,  -999.0,   42.15,2,   28.84,2,     18.961,2,-999.0000,9,-999.0000,9,-999.0000,9,-999.0000,9,-999.0000,9,-999.0000,9,-999.0000,9,-999.0000,9,-999.0000,9,     -999.0,5,  -999.0,9,     -999.0,     -999.0,9,     -999.0,20130914,       0142
33RO20130803,       A16N,      95,          1,          9,          9,2,20130914,       0005,    19.7514,   -28.9983,       4764,  1398.4,   5.2016,  35.0748,2,  35.0745,2,    190.5,2,   190.4,2,   20.30,6,   24.10,6,    0.00,6,    1.59,6,   0.031,2,   0.017,2,   0.000,2,  2194.5,2,  2326.8,2,   838.1,2,      20,   7.6782,2,    25.00, -999.00,9,  -999.0,9,  -999.0,   41.65,2,   26.69,2,     16.847,2,-999.0000,9,-999.0000,9,-999.0000,9,-999.0000,9,-999.0000,9,-999.0000,9,-999.0000,9,-999.0000,9,-999.0000,9,     -999.0,5,  -999.0,9,     -999.0,     -999.0,9,     -999.0,20130914,       0134
33RO20130803,       A16N,      95,          1,          8,          8,2,20130914,       0005,    19.7514,   -28.9983,       4764,  1772.8,   4.0961,  35.0134,2,  35.0142,2,    217.7,2,   218.8,2,   22.60,2,   22.50,2,    0.00,2,    1.49,2,   0.004,2,   0.003,2,   0.000,2,  2184.9,2,  2326.0,2,  -999.0,9, -999.00,   7.7003,6,    25.00, -999.00,9,  -999.0,9,  -999.0,   41.13,2,   25.03,2,     14.986,2,-999.0000,9,-999.0000,9,-999.0000,9,-999.0000,9,-999.0000,9,-999.0000,9,-999.0000,9,-999.0000,9,-999.0000,9,     -999.0,5,  -999.0,9,     -999.0,     -999.0,9,     -999.0,20130914,       0123
33RO20130803,       A16N,      95,          1,          7,          7,2,20130914,       0005,    19.7514,   -28.9983,       4764,  2196.9,   3.4553,  34.9772,2,  34.9773,2,    234.9,2,   234.3,2,   25.70,2,   21.40,2,    0.00,2,    1.43,2,   0.003,2,   0.003,2,   0.000,2,  2180.3,2,  2327.9,2,   760.6,2,      20,   7.7181,2,    25.00, -999.00,9,  -999.0,9,  -999.0,   41.16,2,   23.96,2,     13.907,2,-999.0000,9,-999.0000,9,-999.0000,9,-999.0000,9,-999.0000,9,-999.0000,9,-999.0000,9,-999.0000,9,-999.0000,9,     -999.0,5,  -999.0,9,     -999.0,     -999.0,9,     -999.0,20130914,       0106
33RO20130803,       A16N,      95,          1,          6,          6,2,20130914,       0005,    19.7514,   -28.9983,       4764,  2597.1,   3.0880,  34.9624,2,  34.9627,2,    238.8,2,   239.2,2,   30.30,2,   21.30,2,    0.00,2,    1.42,2,   0.001,2,   0.002,2,   0.000,2,  2184.9,2,  2335.0,2,  -999.0,9, -999.00,   7.7261,2,    25.00, -999.00,9,  -999.0,9,  -999.0,   41.18,2,   23.96,2,     13.394,2,-999.0000,9,-999.0000,9,-999.0000,9,-999.0000,9,-999.0000,9,-999.0000,9,-999.0000,9,-999.0000,9,-999.0000,9,     -999.0,5,  -999.0,9,     -999.0,     -999.0,9,     -999.0,20130914,       0058
33RO20130803,       A16N,      95,          1,          5,          5,2,20130914,       0005,    19.7514,   -28.9983,       4764,  3047.6,   2.7198,  34.9335,2,  34.9334,2,    239.7,2,   240.9,2,   36.10,2,   21.60,2,    0.00,2,    1.44,2,   0.004,2,   0.002,2,   0.000,2,  2191.0,2,  2340.8,2,  -999.0,9, -999.00,   7.7266,2,    25.00, -999.00,9,  -999.0,9,  -999.0,    41.6,2,   24.06,2,     13.248,2,-999.0000,9,-999.0000,9,-999.0000,9,-999.0000,9,-999.0000,9,-999.0000,9,-999.0000,9,-999.0000,9,-999.0000,9,     -999.0,5,  -999.0,9,     -999.0,     -999.0,9,     -999.0,20130914,       0040
33RO20130803,       A16N,      95,          1,          4,          4,2,20130914,       0005,    19.7514,   -28.9983,       4764,  3447.3,   2.5084,  34.9133,2,  34.9136,2,    240.0,2,   241.9,2,   40.90,2,   22.00,2,    0.00,2,    1.47,2,   0.006,2,   0.007,2,   0.000,2,  2197.6,2,  2348.9,2,   749.8,2,      20,   7.7264,2,    25.00, -999.00,9,  -999.0,9,  -999.0,   41.46,2,   24.52,2,     13.285,2,-999.0000,9,-999.0000,9,-999.0000,9,-999.0000,9,-999.0000,9,-999.0000,9,-999.0000,9,-999.0000,9,-999.0000,9,     -999.0,5,  -999.0,9,     -999.0,     -999.0,9,     -999.0,20130914,       0032
33RO20130803,       A16N,      95,          1,          3,          3,2,20130914,       0005,    19.7514,   -28.9983,       4764,  3922.4,   2.3739,  34.8958,2,  34.8959,2,    242.1,2,   243.1,2,   44.20,2,   22.30,2,    0.00,2,    1.49,2,   0.001,2,   0.002,2,   0.000,2,  2198.0,2,  2348.9,2,  -999.0,9, -999.00,   7.7267,6,    25.00, -999.00,9,  -999.0,9,  -999.0,    40.4,2,   24.71,2,     13.426,2,-999.0000,9,-999.0000,9,-999.0000,9,-999.0000,9,-999.0000,9,-999.0000,9,-999.0000,9,-999.0000,9,-999.0000,9,     -999.0,5,  -999.0,9,     -999.0,     -999.0,9,     -999.0,20130914,       0022
33RO20130803,       A16N,      95,          1,          2,          2,2,20130914,       0005,    19.7514,   -28.9983,       4764,  4421.9,   2.3557,  34.8873,2,  34.8882,2,    240.9,2,   242.9,2,   46.10,2,   22.50,2,    0.00,2,    1.50,2,   0.002,2,   0.002,2,   0.000,2,  2202.2,2,  2354.5,2,  -999.0,9, -999.00,   7.7271,2,    25.00, -999.00,9,  -999.0,9,  -999.0,    39.8,2,   24.71,2,     13.531,2,-999.0000,9,-999.0000,9,-999.0000,9,-999.0000,9,-999.0000,9,-999.0000,9,-999.0000,9,-999.0000,9,-999.0000,9,     -999.0,5,  -999.0,9,     -999.0,     -999.0,9,     -999.0,20130914,       0013
33RO20130803,       A16N,      95,          1,          1,          1,2,20130914,       0005,    19.7514,   -28.9983,       4764,  4818.4,   2.3922,  34.8855,2,  34.8830,2,    242.7,2,   243.2,2,   46.40,2,   22.50,2,    0.00,2,    1.51,2,   0.003,2,   0.003,2,   0.000,2,  2205.4,6,  2356.9,2,   741.2,2,      20,   7.7279,2,    25.00, -999.00,9,  -999.0,9,  -999.0,   39.67,2,   24.84,2,     13.557,2,-999.0000,9,-999.0000,9,-999.0000,9,-999.0000,9,-999.0000,9,-999.0000,9,-999.0000,9,-999.0000,9,-999.0000,9,     -999.0,5,  -999.0,9,     -999.0,     -999.0,9,     -999.0,20130914,       0005