BOTTLE,20220815CCHSIOAMB
EXPOCODE,SECT_ID,STNNBR,CASTNO,SAMPNO,BTLNBR,BTLNBR_FLAG_W,DATE,TIME,LATITUDE,LONGITUDE,DEPTH,CTDPRS,CTDTMP,CTDSAL,CTDSAL_FLAG_W,SALNTY,SALNTY_FLAG_W,CTDOXY,CTDOXY_FLAG_W,OXYGEN,OXYGEN_FLAG_W,SILCAT,SILCAT_FLAG_W,NITRAT,NITRAT_FLAG_W,NITRIT,NITRIT_FLAG_W,PHSPHT,PHSPHT_FLAG_W,CFC-11,CFC-11_FLAG_W,CFC-12,CFC-12_FLAG_W,SF6,SF6_FLAG_W,TCARBN,TCARBN_FLAG_W,ALKALI,ALKALI_FLAG_W,PCO2,PCO2_FLAG_W,PCO2TMP,PH_SWS,PH_SWS_FLAG_W,PH_TMP,DELC13,DELC13_FLAG_W,DELC14,DELC14_FLAG_W,C14ERR,DOC,DOC_FLAG_W,TDN,TDN_FLAG_W,N2O,N2O_FLAG_W,CDOM325,CDOM325_FLAG_W,CDOM340,CDOM340_FLAG_W,CDOM380,CDOM380_FLAG_W,CDOM412,CDOM412_FLAG_W,CDOM443,CDOM443_FLAG_W,CDOM490,CDOM490_FLAG_W,CDOM555,CDOM555_FLAG_W,CDOMSL,CDOMSL_FLAG_W,CDOMSN,CDOMSN_FLAG_W,CCL4,CCL4_FLAG_W,14C-DOC,14C-DOC_FLAG_W,14C-DOCERR,13C-DOC,13C-DOC_FLAG_W,13C-DOCERR,BTL_DATE,BTL_TIME
,,,,,,,,,,,METERS,DBAR,ITS-90,PSS-78,,PSS-78,,UMOL/KG,,UMOL/KG,,UMOL/KG,,UMOL/KG,,UMOL/KG,,UMOL/KG,,PMOL/KG,,PMOL/KG,,FMOL/KG,,UMOL/KG,,UMOL/KG,,UATM,,DEG C,,,DEG C,/MILLE,,/MILLE,,/MILLE,UMOL/KG,,UMOL/KG,,NMOL/KG,,1/M,,1/M,,1/M,,1/M,,1/M,,1/M,,1/M,,1/NM,,1/NM,,PMOL/KG,,/MILLE,,/MILLE,/MILLE,,/MILLE,,
33RO20130803,       A16N,      52,          1,         24,         24,2,20130816,       1109,    39.4990,   -19.9996,       4680,     2.8,  21.3970,  36.2137,2,  36.2145,2,    221.0,2,   223.5,2,    0.40,2,    0.00,2,    0.00,2,    0.02,2,   2.056,2,   1.267,2,   1.436,2,  2097.2,6,  2376.0,2,   390.0,2,      20,   7.9757,2,    25.00, -999.00,9,  -999.0,9,  -999.0,    67.1,2,    3.71,2,      7.253,2,   0.0960,2,   0.0604,2,   0.0118,3,   0.0064,2,  -0.0010,4,   0.0020,3,  -0.0030,3,   0.0396,3,   0.0372,3,     -999.0,5,  -999.0,9,     -999.0,     -999.0,9,     -999.0,20130816,       1300
33RO20130803,       A16N,      52,          1,         23,         23,2,20130816,       1109,    39.4990,   -19.9996,       4680,    23.4,  21.2458,  36.2097,2,  36.2001,2,    221.5,2,   227.5,2,    0.40,2,    0.00,2,    0.00,2,    0.02,2,-999.000,9,-999.000,9,-999.000,9,  2097.4,2,  2376.2,6,   392.1,2,      20,   7.9749,6,    25.00, -999.00,9,  -999.0,9,  -999.0,   61.75,2,    3.93,2,     -999.0,9,   0.0899,2,   0.0558,2,   0.0119,3,   0.0071,3,  -0.0007,4,   0.0018,3,  -0.0032,3,   0.0377,3,   0.0368,3,     -999.0,9,  -999.0,9,     -999.0,     -999.0,9,     -999.0,20130816,       1258
33RO20130803,       A16N,      52,          1,         22,         22,2,20130816,       1109,    39.4990,   -19.9996,       4680,    48.6,  18.0392,  36.0883,2,  36.0816,2,    248.0,2,   250.4,2,    0.40,2,    0.00,2,    0.00,2,    0.03,2,   2.502,2,   1.499,2,   1.675,2,  -999.0,9,  -999.0,9,  -999.0,9, -999.00,-999.0000,9,  -999.00, -999.00,9,  -999.0,9,  -999.0,   58.85,2,    4.44,2,      8.320,2,   0.1659,2,   0.1117,2,   0.0396,2,   0.0237,2,   0.0090,2,   0.0069,3,  -0.0010,4,   0.0255,2,   0.0267,2,     -999.0,5,  -999.0,9,     -999.0,     -999.0,9,     -999.0,20130816,       1256
33RO20130803,       A16N,      52,          1,         21,         21,2,20130816,       1109,    39.4990,   -19.9996,       4680,    73.8,  16.2161,  36.0172,2,  36.0225,2,    254.5,2,   251.7,2,    0.60,2,    0.00,2,    0.00,2,    0.04,2,-999.000,9,-999.000,9,-999.000,9,  2097.9,2,  2359.9,2,  -999.0,9, -999.00,   7.9599,2,    25.00, -999.00,9,  -999.0,9,  -999.0,   56.78,2,    3.48,2,     -999.0,9,   0.1996,2,   0.1412,2,   0.0568,2,   0.0378,2,   0.0170,2,   0.0105,3,   0.0012,3,   0.0220,2,   0.0232,2,     -999.0,9,  -999.0,9,     -999.0,     -999.0,9,     -999.0,20130816,       1255
33RO20130803,       A16N,      52,          1,         20,         20,2,20130816,       1109,    39.4990,   -19.9996,       4680,    99.0,  15.3479,  36.0473,2,  36.0524,2,    235.6,2,   233.6,2,    1.00,2,    1.90,2,    0.26,2,    0.17,2,   2.639,2,   1.562,2,   1.708,2,  -999.0,9,  -999.0,9,  -999.0,9, -999.00,-999.0000,9,  -999.00, -999.00,9,  -999.0,9,  -999.0,   53.24,2,    5.29,2,      9.145,2,   0.1393,2,   0.0985,2,   0.0404,2,   0.0289,2,   0.0104,2,   0.0063,3,  -0.0010,4,   0.0216,2,   0.0231,2,     -999.0,5,  -999.0,9,     -999.0,     -999.0,9,     -999.0,20130816,       1253
33RO20130803,       A16N,      52,          1,         19,         19,2,20130816,       1109,    39.4990,   -19.9996,       4680,   122.9,  14.6943,  35.9338,2,  35.9326,2,    232.8,2,   231.5,2,    1.40,2,    4.20,2,    0.02,2,    0.28,2,-999.000,9,-999.000,9,-999.000,9,  2120.7,2,  2360.4,2,   475.8,2,      20,   7.9028,2,    25.00, -999.00,9,  -999.0,9,  -999.0,   52.34,2,     7.7,2,     -999.0,9,   0.1319,2,   0.0886,2,   0.0318,2,   0.0231,2,   0.0074,2,   0.0049,2,  -0.0017,4,   0.0246,2,   0.0267,2,     -999.0,9,  -999.0,9,     -999.0,     -999.0,9,     -999.0,20130816,       1251
33RO20130803,       A16N,      52,          1,         18,         18,2,20130816,       1109,    39.4990,   -19.9996,       4680,   173.1,  14.3313,  35.9120,2,  35.9136,2,    229.6,2,   229.9,2,    1.70,2,    5.10,2,    0.01,2,    0.33,2,   2.714,2,   1.612,2,   1.756,2,  -999.0,9,  -999.0,9,  -999.0,9, -999.00,-999.0000,9,  -999.00, -999.00,9,  -999.0,9,  -999.0,   51.39,2,    8.22,2,      9.534,2,   0.1367,2,   0.0940,2,   0.0361,2,   0.0265,2,   0.0105,2,   0.0074,3,  -0.0003,4,   0.0230,2,   0.0249,2,     -999.0,5,  -999.0,9,     -999.0,     -999.0,9,     -999.0,20130816,       1248
33RO20130803,       A16N,      52,          1,         17,         17,2,20130816,       1109,    39.4990,   -19.9996,       4680,   248.4,  13.6724,  35.8358,2,  35.8300,2,    223.6,2,   221.5,2,    2.70,2,    7.90,2,    0.01,2,    0.49,2,-999.000,9,-999.000,9,-999.000,9,  2136.0,2,  2346.1,2,   528.9,2,      20,   7.8626,2,    25.00, -999.00,9,  -999.0,9,  -999.0,    49.9,2,   10.36,2,     -999.0,9,   0.1252,2,   0.0849,2,   0.0320,2,   0.0226,2,   0.0076,2,   0.0052,3,  -0.0017,4,   0.0237,2,   0.0257,2,     -999.0,9,  -999.0,9,     -999.0,     -999.0,9,     -999.0,20130816,       1246
33RO20130803,       A16N,      52,          1,         16,         16,2,20130816,       1109,    39.4990,   -19.9996,       4680,   323.2,  12.9964,  35.7581,2,  35.7576,2,    216.8,2,   216.2,2,    3.40,2,    9.90,2,    0.00,2,    0.61,2,-999.000,9,-999.000,9,-999.000,9,  -999.0,9,  -999.0,9,  -999.0,9, -999.00,-999.0000,9,  -999.00, -999.00,9,  -999.0,9,  -999.0,   48.35,2,   12.15,2,     -999.0,9,   0.1257,2,   0.0847,2,   0.0315,2,   0.0222,2,   0.0075,2,   0.0052,3,  -0.0016,4,   0.0241,2,   0.0261,2,     -999.0,9,  -999.0,9,     -999.0,     -999.0,9,     -999.0,20130816,       1243
33RO20130803,       A16N,      52,          1,         15,         15,2,20130816,       1109,    39.4990,   -19.9996,       4680,   398.5,  12.5823,  35.7126,2,  35.7106,2,    216.5,2,     216,2,    3.80,2,   10.80,2,    0.00,2,    0.67,2,   2.864,2,   1.657,2,   1.462,2,  2146.3,2,  2325.6,3,   581.5,2,      20,   7.8243,2,    25.00, -999.00,9,  -999.0,9,  -999.0,   47.45,2,   13.23,2,     12.014,2,   0.1189,2,   0.0794,2,   0.0272,2,   0.0193,2,   0.0055,3,   0.0036,3,  -0.0026,4,   0.0257,2,   0.0276,2,     -999.0,5,  -999.0,9,     -999.0,     -999.0,9,     -999.0,20130816,       1240
33RO20130803,       A16N,      52,          1,         14,         14,2,20130816,       1109,    39.4990,   -19.9996,       4680,   498.1,  12.0465,  35.6398,2,  35.6400,2,    216.6,2,   216.1,2,    4.30,2,   11.80,2,    0.00,2,    0.73,2,-999.000,9,-999.000,9,-999.000,9,  -999.0,9,  -999.0,9,  -999.0,9, -999.00,-999.0000,9,  -999.00, -999.00,9,  -999.0,9,  -999.0,   46.68,2,   14.03,2,     -999.0,9,   0.1408,2,   0.0978,2,   0.0403,2,   0.0285,2,   0.0135,2,   0.0096,3,   0.0006,3,   0.0217,2,   0.0235,2,     -999.0,9,  -999.0,9,     -999.0,     -999.0,9,     -999.0,20130816,       1236
33RO20130803,       A16N,      52,          1,         13,         13,2,20130816,       1109,    39.4990,   -19.9996,       4680,   598.9,  11.5894,  35.6092,2,  35.6091,2,    212.9,2,   212.7,2,    4.90,2,   12.90,2,    0.00,2,    0.80,2,   2.890,2,   1.640,2,   1.359,2,  2156.8,2,  2337.1,6,   628.7,2,      20,   7.7939,2,    25.00, -999.00,9,  -999.0,9,  -999.0,   46.17,2,   15.47,2,     13.094,2,   0.1222,2,   0.0816,2,   0.0293,2,   0.0201,2,   0.0063,2,   0.0043,2,  -0.0022,4,   0.0250,2,   0.0270,2,     -999.0,5,  -999.0,9,     -999.0,     -999.0,9,     -999.0,20130816,       1233
33RO20130803,       A16N,      52,          1,         12,         12,2,20130816,       1109,    39.4990,   -19.9996,       4680,   884.3,  10.0158,  35.5775,2,  35.5793,2,    183.4,2,   183.7,2,    9.40,2,   17.70,2,    0.00,2,    1.12,2,   2.134,2,   1.145,2,   0.702,2,  2184.8,6,  2348.7,2,   718.6,2,      20,   7.7430,2,    25.00, -999.00,9,  -999.0,9,  -999.0,    45.2,2,    20.3,2,     15.689,2,   0.1250,2,   0.0821,2,   0.0283,2,   0.0189,2,   0.0052,3,   0.0032,3,  -0.0030,3,   0.0261,2,   0.0280,2,     -999.0,5,  -999.0,9,     -999.0,     -999.0,9,     -999.0,20130816,       1226
33RO20130803,       A16N,      52,          1,         11,         11,2,20130816,       1109,    39.4990,   -19.9996,       4680,   991.0,   9.4007,  35.6119,2,  35.6101,2,    187.0,2,   187.6,2,   10.20,2,   18.00,2,    0.00,2,    1.14,2,   2.017,2,   1.071,2,   0.606,2,  2189.3,2,  2352.0,2,   723.7,2,      20,   7.7404,6,    25.00, -999.00,9,  -999.0,9,  -999.0,   44.24,2,   20.49,2,     15.670,2,   0.1315,2,   0.0867,2,   0.0317,2,   0.0213,2,   0.0073,2,   0.0047,2,  -0.0020,4,   0.0248,2,   0.0270,2,     -999.0,5,  -999.0,9,     -999.0,     -999.0,9,     -999.0,20130816,       1223
33RO20130803,       A16N,      52,          1,         10,         10,2,20130816,       1109,    39.4990,   -19.9996,       4680,  1103.2,   8.8741,  35.6323,2,  35.6344,2,    193.6,2,   193.8,2,   10.70,2,   17.90,2,    0.00,2,    1.14,2,   1.992,2,   1.043,2,   0.562,2,  -999.0,9,  -999.0,9,  -999.0,9, -999.00,-999.0000,9,  -999.00, -999.00,9,  -999.0,9,  -999.0,   43.58,2,   20.49,2,     15.344,2,   0.1240,2,   0.0815,2,   0.0291,2,   0.0188,2,   0.0053,3,   0.0033,3,  -0.0028,3,   0.0256,2,   0.0275,2,     -999.0,5,  -999.0,9,     -999.0,     -999.0,9,     -999.0,20130816,       1220
33RO20130803,       A16N,      52,          1,          9,          9,2,20130816,       1109,    39.4990,   -19.9996,       4680,  1329.5,   6.9907,  35.4248,2,  35.4229,2,    218.1,2,   219.5,2,   11.40,2,   17.90,2,    0.00,2,    1.16,2,-999.000,9,-999.000,9,-999.000,9,  -999.0,9,  -999.0,9,  -999.0,9, -999.00,-999.0000,9,  -999.00, -999.00,9,  -999.0,9,  -999.0,   42.92,2,   20.25,2,     -999.0,9,   0.1187,2,   0.0784,2,   0.0270,2,   0.0174,2,   0.0046,3,   0.0028,3,  -0.0031,3,   0.0263,2,   0.0279,2,     -999.0,9,  -999.0,9,     -999.0,     -999.0,9,     -999.0,20130816,       1215
33RO20130803,       A16N,      52,          1,          8,          8,2,20130816,       1109,    39.4990,   -19.9996,       4680,  1604.0,   4.9951,  35.1316,2,  35.1313,2,    247.3,2,   247.4,2,   12.10,2,   17.90,2,    0.00,2,    1.18,2,   2.645,2,   1.323,2,   0.605,2,  -999.0,9,  -999.0,9,  -999.0,9, -999.00,-999.0000,9,  -999.00, -999.00,9,  -999.0,9,  -999.0,   42.44,2,   20.49,2,     14.149,2,   0.1275,2,   0.0840,2,   0.0296,2,   0.0193,2,   0.0056,3,   0.0034,3,  -0.0027,3,   0.0257,2,   0.0276,2,     -999.0,5,  -999.0,9,     -999.0,     -999.0,9,     -999.0,20130816,       1209
33RO20130803,       A16N,      52,          1,          7,          7,2,20130816,       1109,    39.4990,   -19.9996,       4680,  1998.8,   3.9878,  35.0119,2,  35.0118,2,    261.3,2,   260.2,2,   13.90,2,   17.90,2,    0.00,2,    1.19,2,-999.000,9,-999.000,9,-999.000,9,  2166.5,2,  2352.5,4,   754.0,6,      20,   7.7198,2,    25.00, -999.00,9,  -999.0,9,  -999.0,   42.18,2,   20.26,2,     -999.0,9,   0.1312,2,   0.0863,2,   0.0304,2,   0.0195,2,   0.0058,3,   0.0035,3,  -0.0026,4,   0.0258,2,   0.0276,2,     -999.0,9,  -999.0,9,     -999.0,     -999.0,9,     -999.0,20130816,       1201
33RO20130803,       A16N,      52,          1,          6,          6,2,20130816,       1109,    39.4990,   -19.9996,       4680,  2399.3,   3.4421,  34.9698,2,  34.9685,2,    262.9,2,   261.6,2,   18.10,2,   18.30,2,    0.00,2,    1.23,2,   1.404,2,   0.684,2,   0.223,2,  -999.0,9,  -999.0,9,  -999.0,9, -999.00,-999.0000,9,  -999.00, -999.00,9,  -999.0,9,  -999.0,   41.92,2,    20.5,2,     13.344,2,   0.1284,2,   0.0855,2,   0.0319,2,   0.0201,2,   0.0063,3,   0.0039,2,  -0.0024,4,   0.0246,2,   0.0264,2,     -999.0,5,  -999.0,9,     -999.0,     -999.0,9,     -999.0,20130816,       1154
33RO20130803,       A16N,      52,          1,          5,          5,2,20130816,       1109,    39.4990,   -19.9996,       4680,  2798.2,   3.0163,  34.9514,2,  34.9504,2,    256.4,2,   255.7,2,   25.70,2,   19.20,2,    0.00,2,    1.30,2,-999.000,9,-999.000,9,-999.000,9,  -999.0,9,  -999.0,9,  -999.0,9, -999.00,-999.0000,9,  -999.00, -999.00,9,  -999.0,9,  -999.0,   41.67,2,   21.57,2,     -999.0,9,   0.1304,2,   0.0860,2,   0.0310,2,   0.0199,2,   0.0061,3,   0.0038,2,  -0.0025,4,   0.0253,2,   0.0272,2,     -999.0,9,  -999.0,9,     -999.0,     -999.0,9,     -999.0,20130816,       1146
33RO20130803,       A16N,      52,          1,          4,          4,2,20130816,       1109,    39.4990,   -19.9996,       4680,  3218.6,   2.7516,  34.9352,2,  34.9343,2,    249.2,2,   249.3,2,   33.60,6,   20.40,6,    0.00,6,    1.38,6,   0.456,6,   0.225,6,   0.086,6,  2186.4,2,  2336.0,2,   752.5,2,      20,   7.7256,2,    25.00, -999.00,9,  -999.0,9,  -999.0,   41.39,2,   22.84,2,     13.625,6,   0.1262,2,   0.0838,2,   0.0314,2,   0.0195,2,   0.0060,3,   0.0037,2,  -0.0026,4,   0.0247,2,   0.0264,2,     -999.0,5,  -999.0,9,     -999.0,     -999.0,9,     -999.0,20130816,       1138
33RO20130803,       A16N,      52,          1,          3,          3,2,20130816,       1109,    39.4990,   -19.9996,       4680,  3714.5,   2.6019,  34.9196,2,  34.9188,2,    243.3,2,   243.4,2,   40.40,6,   21.50,6,    0.00,6,    1.46,6,-999.000,9,-999.000,9,-999.000,9,  -999.0,9,  -999.0,9,  -999.0,9, -999.00,-999.0000,9,  -999.00, -999.00,9,  -999.0,9,  -999.0,    40.9,2,   24.15,2,     -999.0,9,   0.1285,2,   0.0839,2,   0.0304,2,   0.0190,2,   0.0057,3,   0.0035,3,  -0.0027,3,   0.0255,2,   0.0274,2,     -999.0,9,  -999.0,9,     -999.0,     -999.0,9,     -999.0,20130816,       1128
33RO20130803,       A16N,      52,          1,          2,          2,2,20130816,       1109,    39.4990,   -19.9996,       4680,  4155.7,   2.5325,  34.9083,2,  34.9078,2,    242.4,2,   242.5,2,   43.70,6,   22.10,6,    0.00,6,    1.50,6,   0.064,2,   0.036,2,   0.034,2,  -999.0,9,  -999.0,9,  -999.0,9, -999.00,-999.0000,9,  -999.00, -999.00,9,  -999.0,9,  -999.0,   40.71,2,    24.7,2,     13.738,2,   0.1330,2,   0.0886,2,   0.0343,2,   0.0221,2,   0.0084,2,   0.0056,3,  -0.0015,4,   0.0238,2,   0.0257,2,     -999.0,5,  -999.0,9,     -999.0,     -999.0,9,     -999.0,20130816,       1120
33RO20130803,       A16N,      52,          1,          1,          1,2,20130816,       1109,    39.4990,   -19.9996,       4680,  4736.6,   2.5100,  34.8984,2,  34.8987,2,    242.9,2,   242.3,2,   45.80,6,   22.30,6,    0.00,6,    1.52,6,   0.020,2,   0.014,2,   0.025,2,  2200.3,2,  2351.8,6,   752.6,2,      20,   7.7288,2,    25.00, -999.00,9,  -999.0,9,  -999.0,   40.71,2,   25.11,2,     13.854,2,   0.1292,2,   0.0848,2,   0.0307,2,   0.0197,2,   0.0065,2,   0.0040,2,  -0.0025,4,   0.0253,2,   0.0272,2,     -999.0,5,  -999.0,9,     -999.0,     -999.0,9,     -999.0,20130816,       1109