BOTTLE,20220815CCHSIOAMB
EXPOCODE,SECT_ID,STNNBR,CASTNO,SAMPNO,BTLNBR,BTLNBR_FLAG_W,DATE,TIME,LATITUDE,LONGITUDE,DEPTH,CTDPRS,CTDTMP,CTDSAL,CTDSAL_FLAG_W,SALNTY,SALNTY_FLAG_W,CTDOXY,CTDOXY_FLAG_W,OXYGEN,OXYGEN_FLAG_W,SILCAT,SILCAT_FLAG_W,NITRAT,NITRAT_FLAG_W,NITRIT,NITRIT_FLAG_W,PHSPHT,PHSPHT_FLAG_W,CFC-11,CFC-11_FLAG_W,CFC-12,CFC-12_FLAG_W,SF6,SF6_FLAG_W,TCARBN,TCARBN_FLAG_W,ALKALI,ALKALI_FLAG_W,PCO2,PCO2_FLAG_W,PCO2TMP,PH_SWS,PH_SWS_FLAG_W,PH_TMP,DELC13,DELC13_FLAG_W,DELC14,DELC14_FLAG_W,C14ERR,DOC,DOC_FLAG_W,TDN,TDN_FLAG_W,N2O,N2O_FLAG_W,CDOM325,CDOM325_FLAG_W,CDOM340,CDOM340_FLAG_W,CDOM380,CDOM380_FLAG_W,CDOM412,CDOM412_FLAG_W,CDOM443,CDOM443_FLAG_W,CDOM490,CDOM490_FLAG_W,CDOM555,CDOM555_FLAG_W,CDOMSL,CDOMSL_FLAG_W,CDOMSN,CDOMSN_FLAG_W,CCL4,CCL4_FLAG_W,14C-DOC,14C-DOC_FLAG_W,14C-DOCERR,13C-DOC,13C-DOC_FLAG_W,13C-DOCERR,BTL_DATE,BTL_TIME
,,,,,,,,,,,METERS,DBAR,ITS-90,PSS-78,,PSS-78,,UMOL/KG,,UMOL/KG,,UMOL/KG,,UMOL/KG,,UMOL/KG,,UMOL/KG,,PMOL/KG,,PMOL/KG,,FMOL/KG,,UMOL/KG,,UMOL/KG,,UATM,,DEG C,,,DEG C,/MILLE,,/MILLE,,/MILLE,UMOL/KG,,UMOL/KG,,NMOL/KG,,1/M,,1/M,,1/M,,1/M,,1/M,,1/M,,1/M,,1/NM,,1/NM,,PMOL/KG,,/MILLE,,/MILLE,/MILLE,,/MILLE,,
33RO20130803,       A16N,      51,          1,         24,         24,2,20130816,       0347,    40.0000,   -19.9997,       4774,     3.2,  21.2946,  36.1659,2,  36.1649,2,    221.6,2,   223.9,2,    0.30,2,    0.00,2,    0.00,2,    0.02,2,   2.059,2,   1.268,2,   1.470,2,  2098.4,6,  2375.9,2,   389.8,2,      20,   7.9728,2,    25.00, -999.00,9,  -999.0,9,  -999.0, -999.00,9, -999.00,9,      7.202,2,-999.0000,9,-999.0000,9,-999.0000,9,-999.0000,9,-999.0000,9,-999.0000,9,-999.0000,9,-999.0000,9,-999.0000,9,     -999.0,5,  -999.0,9,     -999.0,     -999.0,9,     -999.0,20130816,       0536
33RO20130803,       A16N,      51,          1,         23,         23,2,20130816,       0347,    40.0000,   -19.9997,       4774,    15.8,  21.1323,  36.1564,2,  36.1563,2,    222.1,2,   225.4,2,    0.30,2,    0.00,2,    0.00,2,    0.02,2,   2.081,2,   1.281,2,   1.491,2,  2096.9,2,  2374.8,2,   388.9,2,      20,   7.9788,2,    25.00, -999.00,9,  -999.0,9,  -999.0, -999.00,9, -999.00,9,      7.312,2,-999.0000,9,-999.0000,9,-999.0000,9,-999.0000,9,-999.0000,9,-999.0000,9,-999.0000,9,-999.0000,9,-999.0000,9,     -999.0,5,  -999.0,9,     -999.0,     -999.0,9,     -999.0,20130816,       0535
33RO20130803,       A16N,      51,          1,         22,         22,2,20130816,       0347,    40.0000,   -19.9997,       4774,    36.0,  18.4926,  36.0865,2,  36.0861,2,    246.0,2,   251.2,2,    0.40,2,    0.00,2,    0.00,2,    0.03,2,   2.484,6,   1.492,6,   1.704,6,  2095.2,2,  2366.7,2,   395.1,2,      20,   7.9731,2,    25.00, -999.00,9,  -999.0,9,  -999.0, -999.00,9, -999.00,9,      8.257,6,-999.0000,9,-999.0000,9,-999.0000,9,-999.0000,9,-999.0000,9,-999.0000,9,-999.0000,9,-999.0000,9,-999.0000,9,     -999.0,5,  -999.0,9,     -999.0,     -999.0,9,     -999.0,20130816,       0533
33RO20130803,       A16N,      51,          1,         21,         21,2,20130816,       0347,    40.0000,   -19.9997,       4774,    60.8,  16.0759,  36.0590,2,  36.0596,2,    247.1,2,   249.1,2,    0.50,2,    0.00,2,    0.00,2,    0.04,2,   2.585,2,   1.548,2,   1.728,2,  2100.5,2,  2363.8,2,   410.7,2,      20,   7.9583,2,    25.00, -999.00,9,  -999.0,9,  -999.0, -999.00,9, -999.00,9,      8.617,2,-999.0000,9,-999.0000,9,-999.0000,9,-999.0000,9,-999.0000,9,-999.0000,9,-999.0000,9,-999.0000,9,-999.0000,9,     -999.0,5,  -999.0,9,     -999.0,     -999.0,9,     -999.0,20130816,       0532
33RO20130803,       A16N,      51,          1,         20,         20,2,20130816,       0347,    40.0000,   -19.9997,       4774,    85.8,  15.5056,  36.0229,2,  36.0066,2,    235.6,2,   235.7,2,    1.00,2,    1.60,2,    0.15,2,    0.14,2,   2.622,2,   1.566,2,   1.750,2,  2116.0,2,  -999.0,5,   447.7,2,      20,   7.9223,2,    25.00, -999.00,9,  -999.0,9,  -999.0, -999.00,9, -999.00,9,      8.985,2,-999.0000,9,-999.0000,9,-999.0000,9,-999.0000,9,-999.0000,9,-999.0000,9,-999.0000,9,-999.0000,9,-999.0000,9,     -999.0,5,  -999.0,9,     -999.0,     -999.0,9,     -999.0,20130816,       0530
33RO20130803,       A16N,      51,          1,         19,         19,2,20130816,       0347,    40.0000,   -19.9997,       4774,   122.9,  14.8433,  35.9437,2,  35.9408,2,    231.0,2,   231.6,2,    1.40,2,    4.00,2,    0.02,2,    0.26,2,   2.683,2,   1.597,2,   1.745,2,  2122.3,2,  -999.0,5,   471.0,2,      20,   7.9036,2,    25.00, -999.00,9,  -999.0,9,  -999.0, -999.00,9, -999.00,9,      9.186,2,-999.0000,9,-999.0000,9,-999.0000,9,-999.0000,9,-999.0000,9,-999.0000,9,-999.0000,9,-999.0000,9,-999.0000,9,     -999.0,5,  -999.0,9,     -999.0,     -999.0,9,     -999.0,20130816,       0528
33RO20130803,       A16N,      51,          1,         18,         18,2,20130816,       0347,    40.0000,   -19.9997,       4774,   185.3,  14.2261,  35.9070,2,  35.8991,2,    219.9,2,   219.7,2,    2.30,2,    6.90,2,    0.01,2,    0.43,2,   2.704,2,   1.596,2,   1.610,2,  2134.6,2,  -999.0,5,   510.5,2,      20,   7.8740,2,    25.00, -999.00,9,  -999.0,9,  -999.0, -999.00,9, -999.00,9,     10.234,2,-999.0000,9,-999.0000,9,-999.0000,9,-999.0000,9,-999.0000,9,-999.0000,9,-999.0000,9,-999.0000,9,-999.0000,9,     -999.0,5,  -999.0,9,     -999.0,     -999.0,9,     -999.0,20130816,       0526
33RO20130803,       A16N,      51,          1,         17,         17,2,20130816,       0347,    40.0000,   -19.9997,       4774,   260.4,  13.5826,  35.8358,2,  35.8300,2,    213.6,2,     214,2,    3.10,2,    9.10,2,    0.01,2,    0.56,2,   2.750,2,   1.612,2,   1.543,2,  2143.2,2,  2351.1,2,   544.4,2,      20,   7.8518,2,    25.00, -999.00,9,  -999.0,9,  -999.0, -999.00,9, -999.00,9,     11.084,2,-999.0000,9,-999.0000,9,-999.0000,9,-999.0000,9,-999.0000,9,-999.0000,9,-999.0000,9,-999.0000,9,-999.0000,9,     -999.0,5,  -999.0,9,     -999.0,     -999.0,9,     -999.0,20130816,       0523
33RO20130803,       A16N,      51,          1,         16,         16,2,20130816,       0347,    40.0000,   -19.9997,       4774,   348.9,  12.8225,  35.7485,2,  35.7458,2,    211.5,2,   211.6,2,    3.80,2,   10.70,2,    0.00,2,    0.66,2,   2.807,2,   1.636,2,   1.513,2,  2149.5,2,  2343.7,2,   577.4,2,      20,   7.8280,2,    25.00, -999.00,9,  -999.0,9,  -999.0, -999.00,9, -999.00,9,     11.846,2,-999.0000,9,-999.0000,9,-999.0000,9,-999.0000,9,-999.0000,9,-999.0000,9,-999.0000,9,-999.0000,9,-999.0000,9,     -999.0,5,  -999.0,9,     -999.0,     -999.0,9,     -999.0,20130816,       0521
33RO20130803,       A16N,      51,          1,         15,         15,2,20130816,       0347,    40.0000,   -19.9997,       4774,   448.8,  12.2466,  35.6827,2,  35.6823,2,    212.5,2,   211.9,2,    4.20,2,   11.70,2,    0.00,2,    0.72,2,   2.859,2,   1.645,2,   1.406,2,  2152.7,2,  2341.2,2,   600.4,2,      20,   7.8133,2,    25.00, -999.00,9,  -999.0,9,  -999.0, -999.00,9, -999.00,9,     12.316,2,-999.0000,9,-999.0000,9,-999.0000,9,-999.0000,9,-999.0000,9,-999.0000,9,-999.0000,9,-999.0000,9,-999.0000,9,     -999.0,5,  -999.0,9,     -999.0,     -999.0,9,     -999.0,20130816,       0518
33RO20130803,       A16N,      51,          1,         14,         14,2,20130816,       0347,    40.0000,   -19.9997,       4774,   573.7,  11.6073,  35.6169,2,  35.6185,2,    210.4,2,     210,2,    5.00,2,   13.00,2,    0.00,2,    0.80,2,   2.841,2,   1.610,2,   1.330,2,  2159.0,2,  2339.9,2,   629.4,2,      20,   7.7914,6,    25.00, -999.00,9,  -999.0,9,  -999.0, -999.00,9, -999.00,9,     12.980,2,-999.0000,9,-999.0000,9,-999.0000,9,-999.0000,9,-999.0000,9,-999.0000,9,-999.0000,9,-999.0000,9,-999.0000,9,     -999.0,5,  -999.0,9,     -999.0,     -999.0,9,     -999.0,20130816,       0515
33RO20130803,       A16N,      51,          1,         13,         13,2,20130816,       0347,    40.0000,   -19.9997,       4774,   723.2,  10.7524,  35.5721,2,  35.5692,2,    186.8,2,   187.1,2,    7.90,2,   16.60,2,    0.00,2,    1.03,2,   2.371,2,   1.294,2,   0.832,2,  2175.6,6,  2311.3,4,   693.0,2,      20,   7.7573,2,    25.00, -999.00,9,  -999.0,9,  -999.0, -999.00,9, -999.00,9,     15.132,2,-999.0000,9,-999.0000,9,-999.0000,9,-999.0000,9,-999.0000,9,-999.0000,9,-999.0000,9,-999.0000,9,-999.0000,9,     -999.0,5,  -999.0,9,     -999.0,     -999.0,9,     -999.0,20130816,       0511
33RO20130803,       A16N,      51,          1,         12,         12,2,20130816,       0347,    40.0000,   -19.9997,       4774,   863.8,   9.8947,  35.5879,2,  35.5870,2,    181.9,2,     182,2,    9.70,2,   17.90,2,    0.00,2,    1.13,2,   2.078,2,   1.107,2,   0.644,2,  2187.3,2,  2342.9,6,   722.8,2,      20,   7.7420,2,    25.00, -999.00,9,  -999.0,9,  -999.0, -999.00,9, -999.00,9,     15.837,2,-999.0000,9,-999.0000,9,-999.0000,9,-999.0000,9,-999.0000,9,-999.0000,9,-999.0000,9,-999.0000,9,-999.0000,9,     -999.0,5,  -999.0,9,     -999.0,     -999.0,9,     -999.0,20130816,       0507
33RO20130803,       A16N,      51,          1,         11,         11,2,20130816,       0347,    40.0000,   -19.9997,       4774,  1024.0,   9.1522,  35.6320,2,  35.6312,2,    189.0,2,   189.5,2,   10.50,2,   17.90,2,    0.00,2,    1.14,2,   1.969,2,   1.037,2,   0.555,2,  2193.2,2,  2335.2,4,   724.1,2,      20,   7.7427,2,    25.00, -999.00,9,  -999.0,9,  -999.0, -999.00,9, -999.00,9,     15.434,2,-999.0000,9,-999.0000,9,-999.0000,9,-999.0000,9,-999.0000,9,-999.0000,9,-999.0000,9,-999.0000,9,-999.0000,9,     -999.0,5,  -999.0,9,     -999.0,     -999.0,9,     -999.0,20130816,       0504
33RO20130803,       A16N,      51,          1,         10,         10,2,20130816,       0347,    40.0000,   -19.9997,       4774,  1198.2,   8.1554,  35.5914,2,  35.5903,2,    202.7,2,   203.8,2,   11.10,2,   17.80,2,    0.00,2,    1.13,2,   2.040,2,   1.061,2,   0.529,2,  2191.3,2,  2346.7,4,   724.9,2,      20,   7.7407,2,    25.00, -999.00,9,  -999.0,9,  -999.0, -999.00,9, -999.00,9,     14.893,2,-999.0000,9,-999.0000,9,-999.0000,9,-999.0000,9,-999.0000,9,-999.0000,9,-999.0000,9,-999.0000,9,-999.0000,9,     -999.0,5,  -999.0,9,     -999.0,     -999.0,9,     -999.0,20130816,       0459
33RO20130803,       A16N,      51,          1,          9,          9,2,20130816,       0347,    40.0000,   -19.9997,       4774,  1522.6,   5.4894,  35.2042,2,  35.2039,2,    241.0,2,   240.1,2,   11.90,2,   17.90,2,    0.00,2,    1.17,2,   2.513,2,   1.272,2,   0.590,2,  2177.5,2,  2320.6,2,   754.9,2,      20,   7.7238,2,    25.00, -999.00,9,  -999.0,9,  -999.0, -999.00,9, -999.00,9,     14.216,2,-999.0000,9,-999.0000,9,-999.0000,9,-999.0000,9,-999.0000,9,-999.0000,9,-999.0000,9,-999.0000,9,-999.0000,9,     -999.0,5,  -999.0,9,     -999.0,     -999.0,9,     -999.0,20130816,       0452
33RO20130803,       A16N,      51,          1,          8,          8,2,20130816,       0347,    40.0000,   -19.9997,       4774,  1897.9,   4.3573,  35.0653,2,  35.0653,2,    255.2,2,   254.5,2,   13.30,2,   17.90,2,    0.00,2,    1.18,2,   2.145,2,   1.051,2,   0.347,2,  2168.3,2,  -999.0,5,   750.6,2,      20,   7.7236,2,    25.00, -999.00,9,  -999.0,9,  -999.0, -999.00,9, -999.00,9,     13.645,2,-999.0000,9,-999.0000,9,-999.0000,9,-999.0000,9,-999.0000,9,-999.0000,9,-999.0000,9,-999.0000,9,-999.0000,9,     -999.0,5,  -999.0,9,     -999.0,     -999.0,9,     -999.0,20130816,       0445
33RO20130803,       A16N,      51,          1,          7,          7,2,20130816,       0347,    40.0000,   -19.9997,       4774,  2298.5,   3.5656,  34.9823,2,  34.9816,2,    261.4,2,   260.6,2,   17.10,2,   18.20,2,    0.00,2,    1.21,2,   1.420,2,   0.689,2,   0.212,2,  2166.7,2,  -999.0,5,   744.9,2,      20,   7.7054,4,    25.00, -999.00,9,  -999.0,9,  -999.0, -999.00,9, -999.00,9,     13.336,2,-999.0000,9,-999.0000,9,-999.0000,9,-999.0000,9,-999.0000,9,-999.0000,9,-999.0000,9,-999.0000,9,-999.0000,9,     -999.0,5,  -999.0,9,     -999.0,     -999.0,9,     -999.0,20130816,       0437
33RO20130803,       A16N,      51,          1,          6,          6,2,20130816,       0347,    40.0000,   -19.9997,       4774,  2697.9,   3.1305,  34.9613,2,  34.9605,2,    254.5,2,   255.6,2,   24.30,6,   19.10,6,    0.00,6,    1.28,6,   0.688,2,   0.336,2,   0.087,2,  2174.1,2,  -999.0,5,   744.0,2,      20,   7.7274,2,    25.00, -999.00,9,  -999.0,9,  -999.0, -999.00,9, -999.00,9,     13.372,2,-999.0000,9,-999.0000,9,-999.0000,9,-999.0000,9,-999.0000,9,-999.0000,9,-999.0000,9,-999.0000,9,-999.0000,9,     -999.0,5,  -999.0,9,     -999.0,     -999.0,9,     -999.0,20130816,       0429
33RO20130803,       A16N,      51,          1,          5,          5,2,20130816,       0347,    40.0000,   -19.9997,       4774,  3169.0,   2.7854,  34.9381,2,  34.9378,2,    250.6,2,   249.4,2,   32.50,6,   20.20,6,    0.00,6,    1.37,6,   0.440,2,   0.217,2,   0.078,2,  2184.6,2,  -999.0,5,   750.8,2,      20,   7.7244,2,    25.00, -999.00,9,  -999.0,9,  -999.0, -999.00,9, -999.00,9,     13.465,2,-999.0000,9,-999.0000,9,-999.0000,9,-999.0000,9,-999.0000,9,-999.0000,9,-999.0000,9,-999.0000,9,-999.0000,9,     -999.0,5,  -999.0,9,     -999.0,     -999.0,9,     -999.0,20130816,       0420
33RO20130803,       A16N,      51,          1,          4,          4,2,20130816,       0347,    40.0000,   -19.9997,       4774,  3673.2,   2.6150,  34.9212,2,  34.9197,2,    243.7,2,   243.7,2,   39.70,6,   21.40,6,    0.00,6,    1.45,6,   0.182,2,   0.091,2,   0.064,2,  2193.8,2,  2344.5,2,   754.8,2,      20,   7.7260,6,    25.00, -999.00,9,  -999.0,9,  -999.0, -999.00,9, -999.00,9,     13.637,2,-999.0000,9,-999.0000,9,-999.0000,9,-999.0000,9,-999.0000,9,-999.0000,9,-999.0000,9,-999.0000,9,-999.0000,9,     -999.0,5,  -999.0,9,     -999.0,     -999.0,9,     -999.0,20130816,       0410
33RO20130803,       A16N,      51,          1,          3,          3,2,20130816,       0347,    40.0000,   -19.9997,       4774,  4095.6,   2.5514,  34.9107,2,  34.9097,2,    242.4,2,   242.1,2,   43.00,2,   21.90,2,    0.00,2,    1.48,2,   0.079,6,   0.043,6,   0.045,6,  2198.1,2,  2349.0,2,   755.6,2,      20,   7.7270,2,    25.00, -999.00,9,  -999.0,9,  -999.0, -999.00,9, -999.00,9,     13.691,6,-999.0000,9,-999.0000,9,-999.0000,9,-999.0000,9,-999.0000,9,-999.0000,9,-999.0000,9,-999.0000,9,-999.0000,9,     -999.0,5,  -999.0,9,     -999.0,     -999.0,9,     -999.0,20130816,       0402
33RO20130803,       A16N,      51,          1,          2,          2,2,20130816,       0347,    40.0000,   -19.9997,       4774,  4447.4,   2.5260,  34.9041,2,  34.9037,2,    242.0,2,   241.9,2,   44.50,2,   22.10,2,    0.00,2,    1.50,2,   0.047,2,   0.028,2,   0.038,2,  2198.5,2,  2351.2,6,   753.4,2,      20,   7.7260,2,    25.00, -999.00,9,  -999.0,9,  -999.0, -999.00,9, -999.00,9,     13.713,2,-999.0000,9,-999.0000,9,-999.0000,9,-999.0000,9,-999.0000,9,-999.0000,9,-999.0000,9,-999.0000,9,-999.0000,9,     -999.0,5,  -999.0,9,     -999.0,     -999.0,9,     -999.0,20130816,       0355
33RO20130803,       A16N,      51,          1,          1,          1,2,20130816,       0347,    40.0000,   -19.9997,       4774,  4848.2,   2.5304,  34.8990,2,  34.8989,2,    243.1,2,   242.2,2,   45.60,6,   22.30,6,    0.00,6,    1.52,6,   0.021,2,   0.015,2,   0.029,2,  2202.4,6,  2360.6,2,   749.9,2,      20,   7.7283,2,    25.00, -999.00,9,  -999.0,9,  -999.0, -999.00,9, -999.00,9,     13.759,2,-999.0000,9,-999.0000,9,-999.0000,9,-999.0000,9,-999.0000,9,-999.0000,9,-999.0000,9,-999.0000,9,-999.0000,9,     -999.0,5,  -999.0,9,     -999.0,     -999.0,9,     -999.0,20130816,       0347