BOTTLE,20220815CCHSIOAMB
EXPOCODE,SECT_ID,STNNBR,CASTNO,SAMPNO,BTLNBR,BTLNBR_FLAG_W,DATE,TIME,LATITUDE,LONGITUDE,DEPTH,CTDPRS,CTDTMP,CTDSAL,CTDSAL_FLAG_W,SALNTY,SALNTY_FLAG_W,CTDOXY,CTDOXY_FLAG_W,OXYGEN,OXYGEN_FLAG_W,SILCAT,SILCAT_FLAG_W,NITRAT,NITRAT_FLAG_W,NITRIT,NITRIT_FLAG_W,PHSPHT,PHSPHT_FLAG_W,CFC-11,CFC-11_FLAG_W,CFC-12,CFC-12_FLAG_W,SF6,SF6_FLAG_W,TCARBN,TCARBN_FLAG_W,ALKALI,ALKALI_FLAG_W,PCO2,PCO2_FLAG_W,PCO2TMP,PH_SWS,PH_SWS_FLAG_W,PH_TMP,DELC13,DELC13_FLAG_W,DELC14,DELC14_FLAG_W,C14ERR,DOC,DOC_FLAG_W,TDN,TDN_FLAG_W,N2O,N2O_FLAG_W,CDOM325,CDOM325_FLAG_W,CDOM340,CDOM340_FLAG_W,CDOM380,CDOM380_FLAG_W,CDOM412,CDOM412_FLAG_W,CDOM443,CDOM443_FLAG_W,CDOM490,CDOM490_FLAG_W,CDOM555,CDOM555_FLAG_W,CDOMSL,CDOMSL_FLAG_W,CDOMSN,CDOMSN_FLAG_W,CCL4,CCL4_FLAG_W,14C-DOC,14C-DOC_FLAG_W,14C-DOCERR,13C-DOC,13C-DOC_FLAG_W,13C-DOCERR,BTL_DATE,BTL_TIME
,,,,,,,,,,,METERS,DBAR,ITS-90,PSS-78,,PSS-78,,UMOL/KG,,UMOL/KG,,UMOL/KG,,UMOL/KG,,UMOL/KG,,UMOL/KG,,PMOL/KG,,PMOL/KG,,FMOL/KG,,UMOL/KG,,UMOL/KG,,UATM,,DEG C,,,DEG C,/MILLE,,/MILLE,,/MILLE,UMOL/KG,,UMOL/KG,,NMOL/KG,,1/M,,1/M,,1/M,,1/M,,1/M,,1/M,,1/M,,1/NM,,1/NM,,PMOL/KG,,/MILLE,,/MILLE,/MILLE,,/MILLE,,
33RO20130803,       A16N,     139,          1,         24,         24,2,20130929,       1954,    -2.9998,   -24.9996,       5373,     3.1,  25.8329,  36.1115,2,  36.1151,2,    205.4,2,     205,2,    1.00,2,    0.00,2,    0.00,2,    0.10,2,   1.640,2,   1.043,2,   1.209,2,  2059.1,6,  2372.6,2,   333.3,2,      20,   8.0403,2,    25.00, -999.00,9,  -999.0,9,  -999.0, -999.00,9, -999.00,9,      6.387,2,-999.0000,9,-999.0000,9,-999.0000,9,-999.0000,9,-999.0000,9,-999.0000,9,-999.0000,9,-999.0000,9,-999.0000,9,     -999.0,5,  -999.0,9,     -999.0,     -999.0,9,     -999.0,20130929,       2158
33RO20130803,       A16N,     139,          1,         23,         23,2,20130929,       1954,    -2.9998,   -24.9996,       5373,    28.0,  25.6778,  36.1040,2,  36.1046,2,    206.1,2,   205.1,2,    1.10,2,    0.00,2,    0.00,2,    0.11,2,   1.644,6,   1.044,6,   1.223,6,  2059.3,2,  2368.1,6,   343.6,2,      20,   8.0426,2,    25.00, -999.00,9,  -999.0,9,  -999.0, -999.00,9, -999.00,9,      6.430,6,-999.0000,9,-999.0000,9,-999.0000,9,-999.0000,9,-999.0000,9,-999.0000,9,-999.0000,9,-999.0000,9,-999.0000,9,     -999.0,5,  -999.0,9,     -999.0,     -999.0,9,     -999.0,20130929,       2156
33RO20130803,       A16N,     139,          1,         22,         22,2,20130929,       1954,    -2.9998,   -24.9996,       5373,    62.0,  25.6248,  36.1058,2,  36.1102,2,    205.4,2,   204.2,2,    1.10,2,    0.10,2,    0.01,2,    0.11,2,   1.647,2,   1.041,2,   1.188,2,  2059.8,2,  2372.3,2,   359.4,2,      20,   8.0378,2,    25.00, -999.00,9,  -999.0,9,  -999.0, -999.00,9, -999.00,9,      6.518,2,-999.0000,9,-999.0000,9,-999.0000,9,-999.0000,9,-999.0000,9,-999.0000,9,-999.0000,9,-999.0000,9,-999.0000,9,     -999.0,5,  -999.0,9,     -999.0,     -999.0,9,     -999.0,20130929,       2153
33RO20130803,       A16N,     139,          1,         21,         21,2,20130929,       1954,    -2.9998,   -24.9996,       5373,   114.6,  15.4167,  35.5975,2,  35.6103,2,    129.6,2,   130.5,2,    5.70,2,   16.30,2,    0.05,2,    1.15,2,   2.237,2,   1.311,2,   0.912,2,  2177.9,2,  2340.2,2,   706.0,2,      20,   7.7589,2,    25.00, -999.00,9,  -999.0,9,  -999.0, -999.00,9, -999.00,9,     21.065,2,-999.0000,9,-999.0000,9,-999.0000,9,-999.0000,9,-999.0000,9,-999.0000,9,-999.0000,9,-999.0000,9,-999.0000,9,     -999.0,5,  -999.0,9,     -999.0,     -999.0,9,     -999.0,20130929,       2151
33RO20130803,       A16N,     139,          1,         20,         20,2,20130929,       1954,    -2.9998,   -24.9996,       5373,   188.1,  12.6943,  35.2352,2,  35.2339,2,    143.3,2,   139.1,2,    8.10,2,   19.70,2,    0.01,2,    1.34,2,   2.294,2,   1.268,2,   0.771,2,  2180.4,2,  2322.8,2,   791.2,2,      20,   7.7133,2,    25.00, -999.00,9,  -999.0,9,  -999.0, -999.00,9, -999.00,9,     22.598,2,-999.0000,9,-999.0000,9,-999.0000,9,-999.0000,9,-999.0000,9,-999.0000,9,-999.0000,9,-999.0000,9,-999.0000,9,     -999.0,5,  -999.0,9,     -999.0,     -999.0,9,     -999.0,20130929,       2148
33RO20130803,       A16N,     139,          1,         19,         19,2,20130929,       1954,    -2.9998,   -24.9996,       5373,   257.0,  12.3474,  35.1904,2,  35.1853,2,    118.9,2,   116.2,2,    9.20,2,   23.00,2,    0.01,2,    1.53,2,   2.097,2,   1.161,2,   0.641,2,  2196.5,2,  2317.3,2,   902.9,2,      20,   7.6605,2,    25.00, -999.00,9,  -999.0,9,  -999.0, -999.00,9, -999.00,9,     27.336,2,-999.0000,9,-999.0000,9,-999.0000,9,-999.0000,9,-999.0000,9,-999.0000,9,-999.0000,9,-999.0000,9,-999.0000,9,     -999.0,5,  -999.0,9,     -999.0,     -999.0,9,     -999.0,20130929,       2145
33RO20130803,       A16N,     139,          1,         18,         18,2,20130929,       1954,    -2.9998,   -24.9996,       5373,   348.1,  10.2842,  34.9375,2,  34.9371,2,    108.0,2,   108.2,2,   12.30,2,   27.60,2,    0.00,2,    1.82,2,   1.816,2,   0.967,2,   0.426,2,  2209.5,2,  2307.5,2,  1071.5,2,      20,   7.5933,2,    25.00, -999.00,9,  -999.0,9,  -999.0, -999.00,9, -999.00,9,     30.970,2,-999.0000,9,-999.0000,9,-999.0000,9,-999.0000,9,-999.0000,9,-999.0000,9,-999.0000,9,-999.0000,9,-999.0000,9,     -999.0,5,  -999.0,9,     -999.0,     -999.0,9,     -999.0,20130929,       2142
33RO20130803,       A16N,     139,          1,         17,         17,2,20130929,       1954,    -2.9998,   -24.9996,       5373,   447.9,   7.9759,  34.7033,2,  34.7017,2,     92.6,2,    92.3,2,   18.20,2,   34.30,2,    0.00,2,    2.24,2,   0.955,2,   0.485,2,   0.169,2,  2231.4,6,  2295.0,2,  1312.2,2,      20,   7.5024,2,    25.00, -999.00,9,  -999.0,9,  -999.0, -999.00,9, -999.00,9,     33.133,2,-999.0000,9,-999.0000,9,-999.0000,9,-999.0000,9,-999.0000,9,-999.0000,9,-999.0000,9,-999.0000,9,-999.0000,9,     -999.0,5,  -999.0,9,     -999.0,     -999.0,9,     -999.0,20130929,       2139
33RO20130803,       A16N,     139,          1,         16,         16,2,20130929,       1954,    -2.9998,   -24.9996,       5373,   571.6,   5.8854,  34.5156,2,  34.5153,2,    137.8,2,   137.5,2,   24.10,2,   33.90,2,    0.00,2,    2.29,2,   0.842,2,   0.412,2,   0.115,2,  2219.2,2,  2298.8,2,  1204.0,2,      20,   7.5380,2,    25.00, -999.00,9,  -999.0,9,  -999.0, -999.00,9, -999.00,9,     25.613,2,-999.0000,9,-999.0000,9,-999.0000,9,-999.0000,9,-999.0000,9,-999.0000,9,-999.0000,9,-999.0000,9,-999.0000,9,     -999.0,5,  -999.0,9,     -999.0,     -999.0,9,     -999.0,20130929,       2135
33RO20130803,       A16N,     139,          1,         15,         15,2,20130929,       1954,    -2.9998,   -24.9996,       5373,   723.0,   4.7996,  34.4682,2,  34.4683,2,    158.7,2,   157.7,2,   30.10,2,   33.80,2,    0.00,2,    2.33,2,   0.588,6,   0.285,6,   0.094,6,  2219.7,2,  2300.3,2,  1161.2,2,      20,   7.5547,2,    25.00, -999.00,9,  -999.0,9,  -999.0, -999.00,9, -999.00,9,     23.258,6,-999.0000,9,-999.0000,9,-999.0000,9,-999.0000,9,-999.0000,9,-999.0000,9,-999.0000,9,-999.0000,9,-999.0000,9,     -999.0,5,  -999.0,9,     -999.0,     -999.0,9,     -999.0,20130929,       2132
33RO20130803,       A16N,     139,          1,         14,         14,2,20130929,       1954,    -2.9998,   -24.9996,       5373,   873.0,   4.3880,  34.5207,2,  34.5205,2,    161.0,2,     161,2,   33.00,2,   33.30,2,    0.00,2,    2.31,2,   0.281,2,   0.136,2,   0.039,2,  2222.4,2,  2304.6,2,  1142.5,2,      20,   7.5601,6,    25.00, -999.00,9,  -999.0,9,  -999.0, -999.00,9, -999.00,9,     22.653,2,-999.0000,9,-999.0000,9,-999.0000,9,-999.0000,9,-999.0000,9,-999.0000,9,-999.0000,9,-999.0000,9,-999.0000,9,     -999.0,5,  -999.0,9,     -999.0,     -999.0,9,     -999.0,20130929,       2128
33RO20130803,       A16N,     139,          1,         13,         13,2,20130929,       1954,    -2.9998,   -24.9996,       5373,  1021.5,   4.3914,  34.6315,2,  34.6312,2,    160.4,2,   161.6,2,   31.50,2,   32.10,2,    0.00,2,    2.23,2,   0.081,2,   0.036,2,   0.000,2,  2221.1,2,  2309.8,2,  1108.3,2,      20,   7.5705,2,    25.00, -999.00,9,  -999.0,9,  -999.0, -999.00,9, -999.00,9,     22.207,2,-999.0000,9,-999.0000,9,-999.0000,9,-999.0000,9,-999.0000,9,-999.0000,9,-999.0000,9,-999.0000,9,-999.0000,9,     -999.0,5,  -999.0,9,     -999.0,     -999.0,9,     -999.0,20130929,       2124
33RO20130803,       A16N,     139,          1,         12,         12,2,20130929,       1954,    -2.9998,   -24.9996,       5373,  1198.3,   4.4657,  34.7595,2,  34.7602,2,    173.1,2,   173.8,2,   27.60,2,   29.40,2,    0.00,2,    2.02,2,   0.072,2,   0.034,2,   0.000,2,  2212.9,2,  2314.6,6,  1014.4,2,      20,   7.5981,2,    25.00, -999.00,9,  -999.0,9,  -999.0, -999.00,9, -999.00,9,     20.420,2,-999.0000,9,-999.0000,9,-999.0000,9,-999.0000,9,-999.0000,9,-999.0000,9,-999.0000,9,-999.0000,9,-999.0000,9,     -999.0,5,  -999.0,9,     -999.0,     -999.0,9,     -999.0,20130929,       2120
33RO20130803,       A16N,     139,          1,         11,         11,2,20130929,       1954,    -2.9998,   -24.9996,       5373,  1397.1,   4.4916,  34.8995,2,  34.9009,2,    201.1,2,   202.7,2,   21.80,2,   24.70,2,    0.00,2,    1.68,2,   0.245,2,   0.121,2,   0.061,2,  2195.8,2,  2314.3,2,   883.6,2,      20,   7.6604,2,    25.00, -999.00,9,  -999.0,9,  -999.0, -999.00,9, -999.00,9,     17.410,2,-999.0000,9,-999.0000,9,-999.0000,9,-999.0000,9,-999.0000,9,-999.0000,9,-999.0000,9,-999.0000,9,-999.0000,9,     -999.0,5,  -999.0,9,     -999.0,     -999.0,9,     -999.0,20130929,       2115
33RO20130803,       A16N,     139,          1,         10,         10,2,20130929,       1954,    -2.9998,   -24.9996,       5373,  1596.6,   4.1064,  34.9631,2,  34.9644,2,    231.9,2,   231.9,2,   18.70,2,   21.10,2,    0.00,2,    1.43,2,   0.315,2,   0.154,2,   0.083,2,  2178.6,2,  2319.7,2,   799.8,2,      20,   7.7055,2,    25.00, -999.00,9,  -999.0,9,  -999.0, -999.00,9, -999.00,9,     14.831,2,-999.0000,9,-999.0000,9,-999.0000,9,-999.0000,9,-999.0000,9,-999.0000,9,-999.0000,9,-999.0000,9,-999.0000,9,     -999.0,5,  -999.0,9,     -999.0,     -999.0,9,     -999.0,20130929,       2110
33RO20130803,       A16N,     139,          1,          9,          9,2,20130929,       1954,    -2.9998,   -24.9996,       5373,  1896.1,   3.6596,  34.9683,2,  34.9688,2,    248.8,2,     249,2,   19.20,2,   19.50,2,    0.00,2,    1.32,2,   0.421,2,   0.204,2,   0.087,2,  2172.4,2,  2317.4,2,   763.1,2,      20,   7.6377,4,    25.00, -999.00,9,  -999.0,9,  -999.0, -999.00,9, -999.00,9,     13.668,2,-999.0000,9,-999.0000,9,-999.0000,9,-999.0000,9,-999.0000,9,-999.0000,9,-999.0000,9,-999.0000,9,-999.0000,9,     -999.0,5,  -999.0,9,     -999.0,     -999.0,9,     -999.0,20130929,       2104
33RO20130803,       A16N,     139,          1,          8,          8,2,20130929,       1954,    -2.9998,   -24.9996,       5373,  2299.0,   3.1606,  34.9406,2,  34.9417,2,    245.3,2,   245.4,2,   27.90,2,   20.60,2,    0.00,2,    1.40,2,   0.104,2,   0.047,2,   0.000,2,  2180.9,2,  2328.0,2,   770.3,2,      20,   7.7215,2,    25.00, -999.00,9,  -999.0,9,  -999.0, -999.00,9, -999.00,9,     13.762,2,-999.0000,9,-999.0000,9,-999.0000,9,-999.0000,9,-999.0000,9,-999.0000,9,-999.0000,9,-999.0000,9,-999.0000,9,     -999.0,5,  -999.0,9,     -999.0,     -999.0,9,     -999.0,20130929,       2056
33RO20130803,       A16N,     139,          1,          7,          7,2,20130929,       1954,    -2.9998,   -24.9996,       5373,  2747.6,   2.8136,  34.9191,2,  34.9198,2,    243.8,2,   243.8,2,   34.90,2,   21.30,2,    0.00,2,    1.45,2,   0.038,2,   0.016,2,   0.000,2,  2187.0,2,  2332.2,2,   777.5,2,      20,   7.8921,4,    25.00, -999.00,9,  -999.0,9,  -999.0, -999.00,9, -999.00,9,     13.772,2,-999.0000,9,-999.0000,9,-999.0000,9,-999.0000,9,-999.0000,9,-999.0000,9,-999.0000,9,-999.0000,9,-999.0000,9,     -999.0,5,  -999.0,9,     -999.0,     -999.0,9,     -999.0,20130929,       2047
33RO20130803,       A16N,     139,          1,          6,          6,2,20130929,       1954,    -2.9998,   -24.9996,       5373,  3247.7,   2.6098,  34.9135,2,  34.9148,2,    250.0,2,   251.9,2,   33.90,2,   20.50,2,    0.00,2,    1.40,2,   0.091,2,   0.045,2,   0.000,2,  2183.4,2,  2333.5,2,   764.2,2,      20,   7.7262,2,    25.00, -999.00,9,  -999.0,9,  -999.0, -999.00,9, -999.00,9,     13.411,2,-999.0000,9,-999.0000,9,-999.0000,9,-999.0000,9,-999.0000,9,-999.0000,9,-999.0000,9,-999.0000,9,-999.0000,9,     -999.0,5,  -999.0,9,     -999.0,     -999.0,9,     -999.0,20130929,       2038
33RO20130803,       A16N,     139,          1,          5,          5,2,20130929,       1954,    -2.9998,   -24.9996,       5373,  3748.1,   2.3982,  34.9007,2,  34.9016,2,    258.8,2,   259.1,2,   33.20,2,   19.70,2,    0.00,2,    1.35,2,   0.315,6,   0.154,6,   0.041,6,  2181.1,2,  2329.1,2,   768.2,2,      20,   7.7274,6,    25.00, -999.00,9,  -999.0,9,  -999.0, -999.00,9, -999.00,9,     13.347,6,-999.0000,9,-999.0000,9,-999.0000,9,-999.0000,9,-999.0000,9,-999.0000,9,-999.0000,9,-999.0000,9,-999.0000,9,     -999.0,5,  -999.0,9,     -999.0,     -999.0,9,     -999.0,20130929,       2028
33RO20130803,       A16N,     139,          1,          4,          4,2,20130929,       1954,    -2.9998,   -24.9996,       5373,  4247.2,   1.3968,  34.7907,2,  34.7900,2,    234.3,2,   235.7,2,   79.50,6,   26.40,6,    0.00,6,    1.83,6,   0.105,2,   0.047,2,   0.000,2,  2230.0,2,  2360.1,2,   895.0,2,      20,   7.6715,2,    25.00, -999.00,9,  -999.0,9,  -999.0, -999.00,9, -999.00,9,     15.572,2,-999.0000,9,-999.0000,9,-999.0000,9,-999.0000,9,-999.0000,9,-999.0000,9,-999.0000,9,-999.0000,9,-999.0000,9,     -999.0,5,  -999.0,9,     -999.0,     -999.0,9,     -999.0,20130929,       2018
33RO20130803,       A16N,     139,          1,          3,          3,2,20130929,       1954,    -2.9998,   -24.9996,       5373,  4747.3,   0.8582,  34.7270,2,  34.7304,2,    222.6,2,   223.5,2,  105.20,6,   30.20,6,    0.00,6,    2.11,6,   0.071,2,   0.028,2,   0.032,2,  2256.2,2,  2369.9,2,   984.2,2,      20,   7.6779,4,    25.00, -999.00,9,  -999.0,9,  -999.0, -999.00,9, -999.00,9,     16.937,2,-999.0000,9,-999.0000,9,-999.0000,9,-999.0000,9,-999.0000,9,-999.0000,9,-999.0000,9,-999.0000,9,-999.0000,9,     -999.0,5,  -999.0,9,     -999.0,     -999.0,9,     -999.0,20130929,       2009
33RO20130803,       A16N,     139,          1,          2,          2,2,20130929,       1954,    -2.9998,   -24.9996,       5373,  5249.6,   0.7519,  34.7088,2,  34.7124,2,    220.7,2,   220.7,2,  112.00,6,   31.10,6,    0.00,6,    2.18,6,   0.104,2,   0.048,2,   0.020,2,  2260.1,2,  2371.6,2,  1005.6,6,      20,   7.6420,2,    25.00, -999.00,9,  -999.0,9,  -999.0, -999.00,9, -999.00,9,     17.278,2,-999.0000,9,-999.0000,9,-999.0000,9,-999.0000,9,-999.0000,9,-999.0000,9,-999.0000,9,-999.0000,9,-999.0000,9,     -999.0,5,  -999.0,9,     -999.0,     -999.0,9,     -999.0,20130929,       1959
33RO20130803,       A16N,     139,          1,          1,          1,2,20130929,       1954,    -2.9998,   -24.9996,       5373,  5433.6,   0.7447,  34.7053,2,  34.7050,2,    221.1,2,   220.3,2,  113.30,6,   31.30,6,    0.01,6,    2.19,6,   0.123,2,   0.054,2,   0.000,2,  2261.6,2,  2372.9,2,   970.1,2,      20,   7.6197,2,    25.00, -999.00,9,  -999.0,9,  -999.0, -999.00,9, -999.00,9,     17.417,2,-999.0000,9,-999.0000,9,-999.0000,9,-999.0000,9,-999.0000,9,-999.0000,9,-999.0000,9,-999.0000,9,-999.0000,9,     -999.0,5,  -999.0,9,     -999.0,     -999.0,9,     -999.0,20130929,       1954