BOTTLE,20220815CCHSIOAMB
EXPOCODE,SECT_ID,STNNBR,CASTNO,SAMPNO,BTLNBR,BTLNBR_FLAG_W,DATE,TIME,LATITUDE,LONGITUDE,DEPTH,CTDPRS,CTDTMP,CTDSAL,CTDSAL_FLAG_W,SALNTY,SALNTY_FLAG_W,CTDOXY,CTDOXY_FLAG_W,OXYGEN,OXYGEN_FLAG_W,SILCAT,SILCAT_FLAG_W,NITRAT,NITRAT_FLAG_W,NITRIT,NITRIT_FLAG_W,PHSPHT,PHSPHT_FLAG_W,CFC-11,CFC-11_FLAG_W,CFC-12,CFC-12_FLAG_W,SF6,SF6_FLAG_W,TCARBN,TCARBN_FLAG_W,ALKALI,ALKALI_FLAG_W,PCO2,PCO2_FLAG_W,PCO2TMP,PH_SWS,PH_SWS_FLAG_W,PH_TMP,DELC13,DELC13_FLAG_W,DELC14,DELC14_FLAG_W,C14ERR,DOC,DOC_FLAG_W,TDN,TDN_FLAG_W,N2O,N2O_FLAG_W,CDOM325,CDOM325_FLAG_W,CDOM340,CDOM340_FLAG_W,CDOM380,CDOM380_FLAG_W,CDOM412,CDOM412_FLAG_W,CDOM443,CDOM443_FLAG_W,CDOM490,CDOM490_FLAG_W,CDOM555,CDOM555_FLAG_W,CDOMSL,CDOMSL_FLAG_W,CDOMSN,CDOMSN_FLAG_W,CCL4,CCL4_FLAG_W,14C-DOC,14C-DOC_FLAG_W,14C-DOCERR,13C-DOC,13C-DOC_FLAG_W,13C-DOCERR,BTL_DATE,BTL_TIME
,,,,,,,,,,,METERS,DBAR,ITS-90,PSS-78,,PSS-78,,UMOL/KG,,UMOL/KG,,UMOL/KG,,UMOL/KG,,UMOL/KG,,UMOL/KG,,PMOL/KG,,PMOL/KG,,FMOL/KG,,UMOL/KG,,UMOL/KG,,UATM,,DEG C,,,DEG C,/MILLE,,/MILLE,,/MILLE,UMOL/KG,,UMOL/KG,,NMOL/KG,,1/M,,1/M,,1/M,,1/M,,1/M,,1/M,,1/M,,1/NM,,1/NM,,PMOL/KG,,/MILLE,,/MILLE,/MILLE,,/MILLE,,
33RO20130803,       A16N,     118,          1,         24,         24,2,20130924,       1625,     4.5017,   -25.7479,       4096,     3.0,  27.8216,  35.0270,2,  35.0467,2,    197.7,2,     198,2,    1.60,2,    0.10,2,    0.00,2,    0.00,2,   1.495,2,   0.952,2,   1.179,2,  1955.0,2,  2297.8,2,   267.7,2,      20,   8.1098,2,    25.00, -999.00,9,  -999.0,9,  -999.0,   73.93,2,    3.94,2,      5.843,2,-999.0000,9,-999.0000,9,-999.0000,9,-999.0000,9,-999.0000,9,-999.0000,9,-999.0000,9,-999.0000,9,-999.0000,9,     -999.0,5,  -999.0,9,     -999.0,     -999.0,9,     -999.0,20130924,       1809
33RO20130803,       A16N,     118,          1,         23,         23,2,20130924,       1625,     4.5017,   -25.7479,       4096,    13.1,  28.1657,  35.5519,2,  35.5530,2,    196.5,2,   196.5,2,    1.50,2,    0.10,2,    0.00,2,    0.00,2,-999.000,9,-999.000,9,-999.000,9,  1984.0,2,  2327.2,6,   277.5,2,      20,   8.1008,2,    25.00, -999.00,9,  -999.0,9,  -999.0,   73.48,2,    4.54,2,     -999.0,9,-999.0000,9,-999.0000,9,-999.0000,9,-999.0000,9,-999.0000,9,-999.0000,9,-999.0000,9,-999.0000,9,-999.0000,9,     -999.0,9,  -999.0,9,     -999.0,     -999.0,9,     -999.0,20130924,       1807
33RO20130803,       A16N,     118,          1,         22,         22,2,20130924,       1625,     4.5017,   -25.7479,       4096,    32.8,  28.2474,  35.6859,2,  35.6935,2,    196.4,2,   196.2,2,    1.50,2,    0.10,2,    0.00,2,    0.01,2,   1.482,2,   0.940,2,   1.142,2,  1992.4,2,  2340.7,2,  -999.0,9, -999.00,   8.1005,2,    25.00, -999.00,9,  -999.0,9,  -999.0,   72.88,2,    4.68,2,      5.818,2,-999.0000,9,-999.0000,9,-999.0000,9,-999.0000,9,-999.0000,9,-999.0000,9,-999.0000,9,-999.0000,9,-999.0000,9,     -999.0,5,  -999.0,9,     -999.0,     -999.0,9,     -999.0,20130924,       1805
33RO20130803,       A16N,     118,          1,         21,         21,2,20130924,       1625,     4.5017,   -25.7479,       4096,    63.0,  28.2493,  35.7321,2,  35.7420,2,    196.9,2,     195,2,    1.50,2,    0.20,2,    0.01,2,    0.02,2,-999.000,9,-999.000,9,-999.000,9,  1999.5,2,  2336.2,2,   301.8,2,      20,   8.1461,3,    25.00, -999.00,9,  -999.0,9,  -999.0,   74.16,2,    4.15,2,     -999.0,9,-999.0000,9,-999.0000,9,-999.0000,9,-999.0000,9,-999.0000,9,-999.0000,9,-999.0000,9,-999.0000,9,-999.0000,9,     -999.0,9,  -999.0,9,     -999.0,     -999.0,9,     -999.0,20130924,       1803
33RO20130803,       A16N,     118,          1,         20,         20,2,20130924,       1625,     4.5017,   -25.7479,       4096,    87.8,  21.7108,  35.9775,2,  35.9857,2,    160.7,2,   142.1,2,    2.90,2,    5.80,2,    0.25,2,    0.43,2,   1.875,2,   1.118,2,   0.991,2,  -999.0,9,  -999.0,9,  -999.0,9, -999.00,-999.0000,9,  -999.00, -999.00,9,  -999.0,9,  -999.0,   58.63,2,    9.21,2,     14.695,2,-999.0000,9,-999.0000,9,-999.0000,9,-999.0000,9,-999.0000,9,-999.0000,9,-999.0000,9,-999.0000,9,-999.0000,9,     -999.0,5,  -999.0,9,     -999.0,     -999.0,9,     -999.0,20130924,       1801
33RO20130803,       A16N,     118,          1,         19,         19,2,20130924,       1625,     4.5017,   -25.7479,       4096,   112.3,  16.6327,  35.6675,2,  35.6660,2,     92.8,2,    93.7,2,    5.60,2,   19.60,2,    0.03,2,    1.26,2,   2.163,2,   1.244,2,   0.815,2,  2188.7,2,  2344.7,4,   783.3,2,      20,   7.7117,2,    25.00, -999.00,9,  -999.0,9,  -999.0,   53.16,2,   22.56,2,     24.344,2,-999.0000,9,-999.0000,9,-999.0000,9,-999.0000,9,-999.0000,9,-999.0000,9,-999.0000,9,-999.0000,9,-999.0000,9,     -999.0,5,  -999.0,9,     -999.0,     -999.0,9,     -999.0,20130924,       1759
33RO20130803,       A16N,     118,          1,         18,         18,2,20130924,       1625,     4.5017,   -25.7479,       4096,   148.3,  15.4109,  35.5815,2,  35.5798,2,     92.7,2,    92.8,2,    6.60,2,   21.20,2,    0.01,2,    1.37,2,   2.201,2,   1.246,2,   0.768,2,  -999.0,9,  -999.0,9,  -999.0,9, -999.00,-999.0000,9,  -999.00, -999.00,9,  -999.0,9,  -999.0,    51.4,2,   23.83,2,     25.915,2,-999.0000,9,-999.0000,9,-999.0000,9,-999.0000,9,-999.0000,9,-999.0000,9,-999.0000,9,-999.0000,9,-999.0000,9,     -999.0,5,  -999.0,9,     -999.0,     -999.0,9,     -999.0,20130924,       1757
33RO20130803,       A16N,     118,          1,         17,         17,2,20130924,       1625,     4.5017,   -25.7479,       4096,   212.9,  14.0030,  35.4050,2,  35.4041,2,    105.8,2,   107.6,2,    7.30,2,   21.30,2,    0.00,2,    1.38,2,   2.194,2,   1.215,2,   0.687,2,  2189.1,2,  2327.9,2,   838.7,2,      20,   7.6558,3,    25.00, -999.00,9,  -999.0,9,  -999.0,   48.89,2,   23.96,2,     25.552,2,-999.0000,9,-999.0000,9,-999.0000,9,-999.0000,9,-999.0000,9,-999.0000,9,-999.0000,9,-999.0000,9,-999.0000,9,     -999.0,5,  -999.0,9,     -999.0,     -999.0,9,     -999.0,20130924,       1753
33RO20130803,       A16N,     118,          1,         16,         16,2,20130924,       1625,     4.5017,   -25.7479,       4096,   285.1,  12.1324,  35.1879,2,  35.1863,2,     67.3,2,    67.8,2,   10.70,2,   28.60,2,    0.00,2,    1.78,2,   1.659,2,   0.892,2,   0.378,2,  2221.9,2,  2311.0,2,  1118.0,2,      20,   7.5654,2,    25.00, -999.00,9,  -999.0,9,  -999.0,   47.25,2,    31.2,2,     35.579,2,-999.0000,9,-999.0000,9,-999.0000,9,-999.0000,9,-999.0000,9,-999.0000,9,-999.0000,9,-999.0000,9,-999.0000,9,     -999.0,5,  -999.0,9,     -999.0,     -999.0,9,     -999.0,20130924,       1750
33RO20130803,       A16N,     118,          1,         15,         15,2,20130924,       1625,     4.5017,   -25.7479,       4096,   357.5,   9.9594,  34.9462,2,  34.9451,2,     80.4,2,    82.6,2,   13.70,2,   31.20,2,    0.00,2,    1.94,2,   1.330,6,   0.695,6,   0.267,6,  2225.3,6,  2305.2,2,  -999.0,9, -999.00,   7.5366,2,    25.00, -999.00,9,  -999.0,9,  -999.0,    46.3,2,   33.68,2,     35.844,6,-999.0000,9,-999.0000,9,-999.0000,9,-999.0000,9,-999.0000,9,-999.0000,9,-999.0000,9,-999.0000,9,-999.0000,9,     -999.0,5,  -999.0,9,     -999.0,     -999.0,9,     -999.0,20130924,       1747
33RO20130803,       A16N,     118,          1,         14,         14,2,20130924,       1625,     4.5017,   -25.7479,       4096,   447.6,   8.5438,  34.8019,2,  34.7988,2,     88.9,2,    91.3,2,   16.50,2,   33.40,2,    0.00,2,    2.09,2,   0.971,2,   0.495,2,   0.181,2,  2227.3,2,  2297.4,6,  1233.9,2,      20,   7.5149,6,    25.00, -999.00,9,  -999.0,9,  -999.0,   45.35,2,   35.84,2,     33.307,2,-999.0000,9,-999.0000,9,-999.0000,9,-999.0000,9,-999.0000,9,-999.0000,9,-999.0000,9,-999.0000,9,-999.0000,9,     -999.0,5,  -999.0,9,     -999.0,     -999.0,9,     -999.0,20130924,       1744
33RO20130803,       A16N,     118,          1,         13,         13,2,20130924,       1625,     4.5017,   -25.7479,       4096,   573.3,   6.7041,  34.6434,2,-999.0000,9,    111.5,2,  -999.0,9, -999.00,9, -999.00,9, -999.00,9, -999.00,9,-999.000,9,-999.000,9,-999.000,9,  -999.0,9,  -999.0,9,  -999.0,9, -999.00,-999.0000,9,  -999.00, -999.00,9,  -999.0,9,  -999.0, -999.00,9, -999.00,9,     -999.0,9,-999.0000,9,-999.0000,9,-999.0000,9,-999.0000,9,-999.0000,9,-999.0000,9,-999.0000,9,-999.0000,9,-999.0000,9,     -999.0,9,  -999.0,9,     -999.0,     -999.0,9,     -999.0,20130924,       1740
33RO20130803,       A16N,     118,          1,         12,         12,2,20130924,       1625,     4.5017,   -25.7479,       4096,   648.1,   6.3475,  34.6522,2,  34.6508,2,    102.5,2,     103,2,   23.40,2,   36.20,2,    0.00,2,    2.34,2,   0.231,2,   0.124,2,   0.031,2,  -999.0,9,  -999.0,9,  -999.0,9, -999.00,-999.0000,9,  -999.00, -999.00,9,  -999.0,9,  -999.0,   44.26,2,   38.78,2,     29.266,2,-999.0000,9,-999.0000,9,-999.0000,9,-999.0000,9,-999.0000,9,-999.0000,9,-999.0000,9,-999.0000,9,-999.0000,9,     -999.0,5,  -999.0,9,     -999.0,     -999.0,9,     -999.0,20130924,       1737
33RO20130803,       A16N,     118,          1,         11,         11,2,20130924,       1625,     4.5017,   -25.7479,       4096,   721.3,   5.4936,  34.5754,2,  34.5747,2,    129.0,2,   128.9,2,   26.30,2,   35.00,2,    0.00,2,    2.31,2,-999.000,9,-999.000,9,-999.000,9,  2226.6,2,  2297.6,2,  1217.3,2,      20,   7.5245,2,    25.00, -999.00,9,  -999.0,9,  -999.0,   43.68,2,   37.62,2,     -999.0,9,-999.0000,9,-999.0000,9,-999.0000,9,-999.0000,9,-999.0000,9,-999.0000,9,-999.0000,9,-999.0000,9,-999.0000,9,     -999.0,9,  -999.0,9,     -999.0,     -999.0,9,     -999.0,20130924,       1734
33RO20130803,       A16N,     118,          1,         10,         10,2,20130924,       1625,     4.5017,   -25.7479,       4096,   872.5,   4.9953,  34.5942,2,  34.5938,2,    140.5,2,     140,2,   28.40,2,   34.30,2,    0.00,2,    2.29,2,   0.140,2,   0.077,2,   0.050,2,  -999.0,9,  -999.0,9,  -999.0,9, -999.00,-999.0000,9,  -999.00, -999.00,9,  -999.0,9,  -999.0,    43.1,2,   36.96,2,     24.513,2,-999.0000,9,-999.0000,9,-999.0000,9,-999.0000,9,-999.0000,9,-999.0000,9,-999.0000,9,-999.0000,9,-999.0000,9,     -999.0,5,  -999.0,9,     -999.0,     -999.0,9,     -999.0,20130924,       1730
33RO20130803,       A16N,     118,          1,          9,          9,2,20130924,       1625,     4.5017,   -25.7479,       4096,  1022.2,   4.7923,  34.6957,2,  34.6944,2,    153.4,2,   153.1,2,   27.50,2,   32.00,2,    0.00,2,    2.14,2,   0.067,2,   0.040,2,   0.000,2,  2218.3,2,  2308.4,2,  1085.3,2,      20,   7.5716,2,    25.00, -999.00,9,  -999.0,9,  -999.0,   42.29,2,   34.46,2,     22.479,2,-999.0000,9,-999.0000,9,-999.0000,9,-999.0000,9,-999.0000,9,-999.0000,9,-999.0000,9,-999.0000,9,-999.0000,9,     -999.0,5,  -999.0,9,     -999.0,     -999.0,9,     -999.0,20130924,       1726
33RO20130803,       A16N,     118,          1,          8,          8,2,20130924,       1625,     4.5017,   -25.7479,       4096,  1197.8,   4.6780,  34.8443,2,  34.8458,2,    180.3,2,   180.1,2,   23.30,2,   27.50,2,    0.00,2,    1.83,2,   0.111,2,   0.062,2,   0.000,2,  -999.0,9,  -999.0,9,  -999.0,9, -999.00,-999.0000,9,  -999.00, -999.00,9,  -999.0,9,  -999.0,   41.91,2,   29.88,2,     19.330,2,-999.0000,9,-999.0000,9,-999.0000,9,-999.0000,9,-999.0000,9,-999.0000,9,-999.0000,9,-999.0000,9,-999.0000,9,     -999.0,5,  -999.0,9,     -999.0,     -999.0,9,     -999.0,20130924,       1722
33RO20130803,       A16N,     118,          1,          7,          7,2,20130924,       1625,     4.5017,   -25.7479,       4096,  1497.3,   4.3546,  34.9529,2,  34.9524,2,    217.5,2,   217.5,2,   18.80,2,   22.60,2,    0.00,2,    1.50,2,   0.246,2,   0.128,2,   0.052,2,  2183.0,2,  2311.7,2,   821.0,2,      20,   7.6875,2,    25.00, -999.00,9,  -999.0,9,  -999.0,   41.35,2,   25.13,2,     15.833,2,-999.0000,9,-999.0000,9,-999.0000,9,-999.0000,9,-999.0000,9,-999.0000,9,-999.0000,9,-999.0000,9,-999.0000,9,     -999.0,5,  -999.0,9,     -999.0,     -999.0,9,     -999.0,20130924,       1716
33RO20130803,       A16N,     118,          1,          6,          6,2,20130924,       1625,     4.5017,   -25.7479,       4096,  1897.4,   3.7045,  34.9637,2,  34.9640,2,    239.7,2,   238.6,2,   20.20,2,   20.80,2,    0.00,2,    1.37,2,   0.103,2,   0.057,2,   0.000,2,  2174.0,2,  2317.7,2,  -999.0,9, -999.00,   7.7170,2,    25.00, -999.00,9,  -999.0,9,  -999.0,    40.8,2,   23.11,2,     14.188,2,-999.0000,9,-999.0000,9,-999.0000,9,-999.0000,9,-999.0000,9,-999.0000,9,-999.0000,9,-999.0000,9,-999.0000,9,     -999.0,5,  -999.0,9,     -999.0,     -999.0,9,     -999.0,20130924,       1709
33RO20130803,       A16N,     118,          1,          5,          5,2,20130924,       1625,     4.5017,   -25.7479,       4096,  2297.3,   3.2080,  34.9454,2,  34.9451,2,    243.0,2,     242,2,   26.00,2,   20.90,2,    0.00,2,    1.38,2,-999.000,9,-999.000,9,-999.000,9,  2177.4,2,  2322.4,2,   756.0,2,      20,   7.7215,2,    25.00, -999.00,9,  -999.0,9,  -999.0,   40.64,2,    23.2,2,     -999.0,9,-999.0000,9,-999.0000,9,-999.0000,9,-999.0000,9,-999.0000,9,-999.0000,9,-999.0000,9,-999.0000,9,-999.0000,9,     -999.0,9,  -999.0,9,     -999.0,     -999.0,9,     -999.0,20130924,       1701
33RO20130803,       A16N,     118,          1,          4,          4,2,20130924,       1625,     4.5017,   -25.7479,       4096,  2698.7,   2.8299,  34.9253,2,  34.9253,2,    244.1,2,   243.2,2,   32.10,6,   21.30,6,    0.00,6,    1.40,6,   0.009,2,   0.010,2,   0.000,2,  -999.0,9,  -999.0,9,  -999.0,9, -999.00,-999.0000,9,  -999.00, -999.00,9,  -999.0,9,  -999.0,   40.45,2,   23.77,2,     13.606,2,-999.0000,9,-999.0000,9,-999.0000,9,-999.0000,9,-999.0000,9,-999.0000,9,-999.0000,9,-999.0000,9,-999.0000,9,     -999.0,5,  -999.0,9,     -999.0,     -999.0,9,     -999.0,20130924,       1653
33RO20130803,       A16N,     118,          1,          3,          3,2,20130924,       1625,     4.5017,   -25.7479,       4096,  3098.0,   2.6208,  34.9106,2,  34.9103,2,    244.0,2,   244.4,2,   36.20,6,   21.50,6,    0.00,6,    1.42,6,-999.000,9,-999.000,9,-999.000,9,  2188.6,2,  2334.9,6,  -999.0,9, -999.00,   7.7215,2,    25.00, -999.00,9,  -999.0,9,  -999.0,   40.57,2,   23.96,2,     -999.0,9,-999.0000,9,-999.0000,9,-999.0000,9,-999.0000,9,-999.0000,9,-999.0000,9,-999.0000,9,-999.0000,9,-999.0000,9,     -999.0,9,  -999.0,9,     -999.0,     -999.0,9,     -999.0,20130924,       1645
33RO20130803,       A16N,     118,          1,          2,          2,2,20130924,       1625,     4.5017,   -25.7479,       4096,  3597.5,   2.4341,  34.8958,2,  34.8953,2,    246.5,2,   246.4,2,   39.80,6,   21.60,6,    0.00,6,    1.43,6,   0.037,2,   0.025,2,   0.000,2,  -999.0,9,  -999.0,9,  -999.0,9, -999.00,-999.0000,9,  -999.00, -999.00,9,  -999.0,9,  -999.0,   40.65,2,   24.14,2,     13.600,2,-999.0000,9,-999.0000,9,-999.0000,9,-999.0000,9,-999.0000,9,-999.0000,9,-999.0000,9,-999.0000,9,-999.0000,9,     -999.0,5,  -999.0,9,     -999.0,     -999.0,9,     -999.0,20130924,       1635
33RO20130803,       A16N,     118,          1,          1,          1,2,20130924,       1625,     4.5017,   -25.7479,       4096,  4143.5,   2.3451,  34.8838,2,  34.8837,2,    243.7,2,   242.4,2,   44.50,6,   22.30,6,    0.00,6,    1.47,6,   0.032,6,   0.023,6,   0.000,6,  2199.5,6,  2345.6,2,   753.9,2,      20,   7.7145,6,    25.00, -999.00,9,  -999.0,9,  -999.0,   40.59,2,   24.79,2,     13.732,6,-999.0000,9,-999.0000,9,-999.0000,9,-999.0000,9,-999.0000,9,-999.0000,9,-999.0000,9,-999.0000,9,-999.0000,9,     -999.0,5,  -999.0,9,     -999.0,     -999.0,9,     -999.0,20130924,       1625