BOTTLE,20220815CCHSIOAMB
EXPOCODE,SECT_ID,STNNBR,CASTNO,SAMPNO,BTLNBR,BTLNBR_FLAG_W,DATE,TIME,LATITUDE,LONGITUDE,DEPTH,CTDPRS,CTDTMP,CTDSAL,CTDSAL_FLAG_W,SALNTY,SALNTY_FLAG_W,CTDOXY,CTDOXY_FLAG_W,OXYGEN,OXYGEN_FLAG_W,SILCAT,SILCAT_FLAG_W,NITRAT,NITRAT_FLAG_W,NITRIT,NITRIT_FLAG_W,PHSPHT,PHSPHT_FLAG_W,CFC-11,CFC-11_FLAG_W,CFC-12,CFC-12_FLAG_W,SF6,SF6_FLAG_W,TCARBN,TCARBN_FLAG_W,ALKALI,ALKALI_FLAG_W,PCO2,PCO2_FLAG_W,PCO2TMP,PH_SWS,PH_SWS_FLAG_W,PH_TMP,DELC13,DELC13_FLAG_W,DELC14,DELC14_FLAG_W,C14ERR,DOC,DOC_FLAG_W,TDN,TDN_FLAG_W,N2O,N2O_FLAG_W,CDOM325,CDOM325_FLAG_W,CDOM340,CDOM340_FLAG_W,CDOM380,CDOM380_FLAG_W,CDOM412,CDOM412_FLAG_W,CDOM443,CDOM443_FLAG_W,CDOM490,CDOM490_FLAG_W,CDOM555,CDOM555_FLAG_W,CDOMSL,CDOMSL_FLAG_W,CDOMSN,CDOMSN_FLAG_W,CCL4,CCL4_FLAG_W,14C-DOC,14C-DOC_FLAG_W,14C-DOCERR,13C-DOC,13C-DOC_FLAG_W,13C-DOCERR,BTL_DATE,BTL_TIME
,,,,,,,,,,,METERS,DBAR,ITS-90,PSS-78,,PSS-78,,UMOL/KG,,UMOL/KG,,UMOL/KG,,UMOL/KG,,UMOL/KG,,UMOL/KG,,PMOL/KG,,PMOL/KG,,FMOL/KG,,UMOL/KG,,UMOL/KG,,UATM,,DEG C,,,DEG C,/MILLE,,/MILLE,,/MILLE,UMOL/KG,,UMOL/KG,,NMOL/KG,,1/M,,1/M,,1/M,,1/M,,1/M,,1/M,,1/M,,1/NM,,1/NM,,PMOL/KG,,/MILLE,,/MILLE,/MILLE,,/MILLE,,
33RO20130803,       A16N,      60,          1,         24,         24,2,20130818,       2016,    35.4993,   -20.2844,       5286,     2.8,  23.2836,  36.8698,2,  36.8717,2,    213.7,2,   216.1,2,    0.50,2,    0.10,2,    0.00,2,    0.02,2,   1.862,2,   1.157,2,   1.376,2,  2102.0,2,  2411.0,2,   349.0,2,      20,   8.0142,2,    25.00, -999.00,9,  -999.0,9,  -999.0, -999.00,9, -999.00,9,      6.811,2,-999.0000,9,-999.0000,9,-999.0000,9,-999.0000,9,-999.0000,9,-999.0000,9,-999.0000,9,-999.0000,9,-999.0000,9,     -999.0,5,  -999.0,9,     -999.0,     -999.0,9,     -999.0,20130818,       2215
33RO20130803,       A16N,      60,          1,         23,         23,2,20130818,       2016,    35.4993,   -20.2844,       5286,    29.2,  21.5399,  36.6979,2,  36.7012,2,    230.2,2,   233.4,2,    0.50,2,    0.10,2,    0.00,2,    0.02,2,-999.000,9,-999.000,9,-999.000,9,  2096.3,2,  2405.6,6,  -999.0,9, -999.00,   8.0129,2,    25.00, -999.00,9,  -999.0,9,  -999.0, -999.00,9, -999.00,9,     -999.0,9,-999.0000,9,-999.0000,9,-999.0000,9,-999.0000,9,-999.0000,9,-999.0000,9,-999.0000,9,-999.0000,9,-999.0000,9,     -999.0,9,  -999.0,9,     -999.0,     -999.0,9,     -999.0,20130818,       2213
33RO20130803,       A16N,      60,          1,         22,         22,2,20130818,       2016,    35.4993,   -20.2844,       5286,    63.8,  19.3054,  36.6658,2,  36.6560,2,    237.4,2,     236,2,    0.60,2,    0.10,2,    0.00,2,    0.02,2,-999.000,9,-999.000,9,-999.000,9,  2104.2,2,  2402.4,2,   364.5,2,      20,   7.9998,6,    25.00, -999.00,9,  -999.0,9,  -999.0, -999.00,9, -999.00,9,     -999.0,9,-999.0000,9,-999.0000,9,-999.0000,9,-999.0000,9,-999.0000,9,-999.0000,9,-999.0000,9,-999.0000,9,-999.0000,9,     -999.0,9,  -999.0,9,     -999.0,     -999.0,9,     -999.0,20130818,       2211
33RO20130803,       A16N,      60,          1,         21,         21,2,20130818,       2016,    35.4993,   -20.2844,       5286,   113.5,  17.8528,  36.5483,2,  36.5180,2,    211.1,2,   209.8,2,    1.10,2,    2.60,2,    0.04,2,    0.15,2,   2.306,2,   1.393,2,   1.511,2,  2124.2,2,  2389.7,2,  -999.0,9, -999.00,   7.9488,2,    25.00, -999.00,9,  -999.0,9,  -999.0, -999.00,9, -999.00,9,      8.697,2,-999.0000,9,-999.0000,9,-999.0000,9,-999.0000,9,-999.0000,9,-999.0000,9,-999.0000,9,-999.0000,9,-999.0000,9,     -999.0,5,  -999.0,9,     -999.0,     -999.0,9,     -999.0,20130818,       2208
33RO20130803,       A16N,      60,          1,         20,         20,2,20130818,       2016,    35.4993,   -20.2844,       5286,   185.4,  16.0759,  36.2478,2,  36.2507,2,    199.9,2,   199.5,2,    2.20,2,    6.90,2,    0.01,2,    0.40,2,-999.000,9,-999.000,9,-999.000,9,  2135.3,2,  2371.7,2,   474.1,6,      20,   7.8982,2,    25.00, -999.00,9,  -999.0,9,  -999.0, -999.00,9, -999.00,9,     -999.0,9,-999.0000,9,-999.0000,9,-999.0000,9,-999.0000,9,-999.0000,9,-999.0000,9,-999.0000,9,-999.0000,9,-999.0000,9,     -999.0,9,  -999.0,9,     -999.0,     -999.0,9,     -999.0,20130818,       2205
33RO20130803,       A16N,      60,          1,         19,         19,2,20130818,       2016,    35.4993,   -20.2844,       5286,   260.6,  14.6073,  35.9793,2,  35.9726,2,    198.6,2,   199.2,2,    3.40,2,    9.50,2,    0.00,2,    0.57,2,   2.546,2,   1.479,2,   1.335,2,  2141.3,2,  2356.4,2,  -999.0,9, -999.00,   7.8673,2,    25.00, -999.00,9,  -999.0,9,  -999.0, -999.00,9, -999.00,9,     11.304,2,-999.0000,9,-999.0000,9,-999.0000,9,-999.0000,9,-999.0000,9,-999.0000,9,-999.0000,9,-999.0000,9,-999.0000,9,     -999.0,5,  -999.0,9,     -999.0,     -999.0,9,     -999.0,20130818,       2203
33RO20130803,       A16N,      60,          1,         18,         18,2,20130818,       2016,    35.4993,   -20.2844,       5286,   349.8,  13.5910,  35.8531,2,  35.8519,2,    198.3,2,   198.9,2,    3.90,2,   11.10,2,    0.00,2,    0.66,2,-999.000,9,-999.000,9,-999.000,9,  -999.0,9,  -999.0,9,  -999.0,9, -999.00,-999.0000,9,  -999.00, -999.00,9,  -999.0,9,  -999.0, -999.00,9, -999.00,9,     -999.0,9,-999.0000,9,-999.0000,9,-999.0000,9,-999.0000,9,-999.0000,9,-999.0000,9,-999.0000,9,-999.0000,9,-999.0000,9,     -999.0,9,  -999.0,9,     -999.0,     -999.0,9,     -999.0,20130818,       2200
33RO20130803,       A16N,      60,          1,         17,         17,2,20130818,       2016,    35.4993,   -20.2844,       5286,   448.6,  12.5663,  35.7093,2,  35.7025,2,    196.2,2,   195.7,2,    5.10,2,   13.30,2,    0.00,2,    0.80,2,   2.626,2,   1.485,2,   1.205,2,  2156.1,2,  1994.3,4,   607.0,2,      20,   7.8053,2,    25.00, -999.00,9,  -999.0,9,  -999.0, -999.00,9, -999.00,9,     13.264,2,-999.0000,9,-999.0000,9,-999.0000,9,-999.0000,9,-999.0000,9,-999.0000,9,-999.0000,9,-999.0000,9,-999.0000,9,     -999.0,5,  -999.0,9,     -999.0,     -999.0,9,     -999.0,20130818,       2157
33RO20130803,       A16N,      60,          1,         16,         16,2,20130818,       2016,    35.4993,   -20.2844,       5286,   573.6,  11.1341,  35.5433,2,  35.5409,2,    186.1,2,   182.1,2,    7.70,2,   16.90,2,    0.00,2,    1.04,2,-999.000,9,-999.000,9,-999.000,9,  -999.0,9,  -999.0,9,  -999.0,9, -999.00,-999.0000,9,  -999.00, -999.00,9,  -999.0,9,  -999.0, -999.00,9, -999.00,9,     -999.0,9,-999.0000,9,-999.0000,9,-999.0000,9,-999.0000,9,-999.0000,9,-999.0000,9,-999.0000,9,-999.0000,9,-999.0000,9,     -999.0,9,  -999.0,9,     -999.0,     -999.0,9,     -999.0,20130818,       2154
33RO20130803,       A16N,      60,          1,         15,         15,2,20130818,       2016,    35.4993,   -20.2844,       5286,   694.0,  10.5303,  35.5953,2,  35.5938,2,    178.8,2,   179.1,2,    8.90,2,   17.80,2,    0.00,2,    1.10,2,   2.078,2,   1.114,2,   0.681,2,  2181.2,2,  2346.3,6,   703.2,2,      20,   7.7477,2,    25.00, -999.00,9,  -999.0,9,  -999.0, -999.00,9, -999.00,9,     15.573,2,-999.0000,9,-999.0000,9,-999.0000,9,-999.0000,9,-999.0000,9,-999.0000,9,-999.0000,9,-999.0000,9,-999.0000,9,     -999.0,5,  -999.0,9,     -999.0,     -999.0,9,     -999.0,20130818,       2151
33RO20130803,       A16N,      60,          1,         14,         14,2,20130818,       2016,    35.4993,   -20.2844,       5286,   874.2,   9.3520,  35.5980,2,  35.5972,2,    183.7,2,   183.5,2,   10.80,2,   18.60,2,    0.00,2,    1.17,2,-999.000,9,-999.000,9,-999.000,9,  2189.2,2,  2351.9,2,  -999.0,9, -999.00,   7.7388,2,    25.00, -999.00,9,  -999.0,9,  -999.0, -999.00,9, -999.00,9,     -999.0,9,-999.0000,9,-999.0000,9,-999.0000,9,-999.0000,9,-999.0000,9,-999.0000,9,-999.0000,9,-999.0000,9,-999.0000,9,     -999.0,9,  -999.0,9,     -999.0,     -999.0,9,     -999.0,20130818,       2146
33RO20130803,       A16N,      60,          1,         13,         13,2,20130818,       2016,    35.4993,   -20.2844,       5286,  1023.4,   9.3533,  35.7715,2,  35.7695,2,    188.3,2,   187.8,2,   10.90,2,   17.90,2,    0.00,2,    1.11,2,   1.668,2,   0.872,2,   0.435,2,  2197.4,2,  2366.9,2,   699.0,2,      20,   7.7522,2,    25.00, -999.00,9,  -999.0,9,  -999.0, -999.00,9, -999.00,9,     14.946,2,-999.0000,9,-999.0000,9,-999.0000,9,-999.0000,9,-999.0000,9,-999.0000,9,-999.0000,9,-999.0000,9,-999.0000,9,     -999.0,5,  -999.0,9,     -999.0,     -999.0,9,     -999.0,20130818,       2142
33RO20130803,       A16N,      60,          1,         12,         12,2,20130818,       2016,    35.4993,   -20.2844,       5286,  1180.6,   7.4920,  35.4846,2,  35.4849,2,    205.5,2,   206.1,2,   12.30,2,   18.70,2,    0.00,2,    1.19,2,-999.000,9,-999.000,9,-999.000,9,  -999.0,9,  -999.0,9,  -999.0,9, -999.00,-999.0000,9,  -999.00, -999.00,9,  -999.0,9,  -999.0, -999.00,9, -999.00,9,     -999.0,9,-999.0000,9,-999.0000,9,-999.0000,9,-999.0000,9,-999.0000,9,-999.0000,9,-999.0000,9,-999.0000,9,-999.0000,9,     -999.0,9,  -999.0,9,     -999.0,     -999.0,9,     -999.0,20130818,       2138
33RO20130803,       A16N,      60,          1,         11,         11,2,20130818,       2016,    35.4993,   -20.2844,       5286,  1391.5,   6.1107,  35.3089,2,  35.3079,2,    225.9,2,   226.8,2,   12.70,2,   18.30,2,    0.00,2,    1.19,2,   1.818,2,   0.905,2,   0.378,2,  2181.1,2,  2336.8,2,   736.1,2,      20,   7.7281,6,    25.00, -999.00,9,  -999.0,9,  -999.0, -999.00,9, -999.00,9,     14.308,2,-999.0000,9,-999.0000,9,-999.0000,9,-999.0000,9,-999.0000,9,-999.0000,9,-999.0000,9,-999.0000,9,-999.0000,9,     -999.0,5,  -999.0,9,     -999.0,     -999.0,9,     -999.0,20130818,       2134
33RO20130803,       A16N,      60,          1,         10,         10,2,20130818,       2016,    35.4993,   -20.2844,       5286,  1598.2,   4.7194,  35.1030,2,  35.1014,2,    249.5,2,   249.9,2,   12.70,2,   18.10,2,    0.00,2,    1.18,2,-999.000,9,-999.000,9,-999.000,9,  -999.0,9,  -999.0,9,  -999.0,9, -999.00,-999.0000,9,  -999.00, -999.00,9,  -999.0,9,  -999.0, -999.00,9, -999.00,9,     -999.0,9,-999.0000,9,-999.0000,9,-999.0000,9,-999.0000,9,-999.0000,9,-999.0000,9,-999.0000,9,-999.0000,9,-999.0000,9,     -999.0,9,  -999.0,9,     -999.0,     -999.0,9,     -999.0,20130818,       2129
33RO20130803,       A16N,      60,          1,          9,          9,2,20130818,       2016,    35.4993,   -20.2844,       5286,  1948.7,   3.7771,  34.9900,2,  34.9900,2,    263.6,2,   262.3,2,   14.40,2,   18.10,2,    0.00,2,    1.19,2,   2.005,2,   0.971,2,   0.315,2,  2166.1,2,  2311.2,2,  -999.0,9, -999.00,   7.7238,2,    25.00, -999.00,9,  -999.0,9,  -999.0, -999.00,9, -999.00,9,     13.355,2,-999.0000,9,-999.0000,9,-999.0000,9,-999.0000,9,-999.0000,9,-999.0000,9,-999.0000,9,-999.0000,9,-999.0000,9,     -999.0,5,  -999.0,9,     -999.0,     -999.0,9,     -999.0,20130818,       2122
33RO20130803,       A16N,      60,          1,          8,          8,2,20130818,       2016,    35.4993,   -20.2844,       5286,  2380.6,   3.3306,  34.9806,2,  34.9794,2,    254.4,2,   254.9,2,   22.10,2,   19.10,2,    0.00,2,    1.27,2,-999.000,9,-999.000,9,-999.000,9,  -999.0,9,  -999.0,9,  -999.0,9, -999.00,-999.0000,9,  -999.00, -999.00,9,  -999.0,9,  -999.0, -999.00,9, -999.00,9,     -999.0,9,-999.0000,9,-999.0000,9,-999.0000,9,-999.0000,9,-999.0000,9,-999.0000,9,-999.0000,9,-999.0000,9,-999.0000,9,     -999.0,9,  -999.0,9,     -999.0,     -999.0,9,     -999.0,20130818,       2114
33RO20130803,       A16N,      60,          1,          7,          7,2,20130818,       2016,    35.4993,   -20.2844,       5286,  2848.9,   2.9069,  34.9491,2,  34.9493,2,    250.4,2,   250.7,2,   29.70,2,   20.10,2,    0.00,2,    1.34,2,   0.386,2,   0.193,2,   0.046,2,  2182.9,2,  2330.4,2,   739.0,2,      20,   7.7263,2,    25.00, -999.00,9,  -999.0,9,  -999.0, -999.00,9, -999.00,9,     13.251,2,-999.0000,9,-999.0000,9,-999.0000,9,-999.0000,9,-999.0000,9,-999.0000,9,-999.0000,9,-999.0000,9,-999.0000,9,     -999.0,5,  -999.0,9,     -999.0,     -999.0,9,     -999.0,20130818,       2105
33RO20130803,       A16N,      60,          1,          6,          6,2,20130818,       2016,    35.4993,   -20.2844,       5286,  3274.1,   2.6994,  34.9314,2,  34.9299,2,    245.9,2,   246.6,2,   36.00,2,   20.80,2,    0.00,2,    1.41,2,   0.193,2,   0.097,2,   0.027,2,  -999.0,9,  -999.0,9,  -999.0,9, -999.00,-999.0000,9,  -999.00, -999.00,9,  -999.0,9,  -999.0, -999.00,9, -999.00,9,     13.426,2,-999.0000,9,-999.0000,9,-999.0000,9,-999.0000,9,-999.0000,9,-999.0000,9,-999.0000,9,-999.0000,9,-999.0000,9,     -999.0,5,  -999.0,9,     -999.0,     -999.0,9,     -999.0,20130818,       2056
33RO20130803,       A16N,      60,          1,          5,          5,2,20130818,       2016,    35.4993,   -20.2844,       5286,  3773.6,   2.5542,  34.9142,2,  34.9132,2,    243.5,2,   244.4,2,   41.20,2,   21.90,2,    0.00,2,    1.47,2,   0.039,2,   0.022,2,   0.010,2,  2195.5,2,  2347.4,2,  -999.0,9, -999.00,   7.7271,2,    25.00, -999.00,9,  -999.0,9,  -999.0, -999.00,9, -999.00,9,     13.524,2,-999.0000,9,-999.0000,9,-999.0000,9,-999.0000,9,-999.0000,9,-999.0000,9,-999.0000,9,-999.0000,9,-999.0000,9,     -999.0,5,  -999.0,9,     -999.0,     -999.0,9,     -999.0,20130818,       2047
33RO20130803,       A16N,      60,          1,          4,          4,2,20130818,       2016,    35.4993,   -20.2844,       5286,  4172.9,   2.4832,  34.9029,2,  34.9017,2,    243.4,2,   244.6,2,   43.80,6,   22.10,6,    0.00,6,    1.49,6,   0.015,2,   0.010,2,   0.000,2,  -999.0,9,  -999.0,9,  -999.0,9, -999.00,-999.0000,9,  -999.00, -999.00,9,  -999.0,9,  -999.0, -999.00,9, -999.00,9,     13.634,2,-999.0000,9,-999.0000,9,-999.0000,9,-999.0000,9,-999.0000,9,-999.0000,9,-999.0000,9,-999.0000,9,-999.0000,9,     -999.0,5,  -999.0,9,     -999.0,     -999.0,9,     -999.0,20130818,       2039
33RO20130803,       A16N,      60,          1,          3,          3,2,20130818,       2016,    35.4993,   -20.2844,       5286,  4574.6,   2.4428,  34.8942,2,  34.8931,2,    243.5,2,   244.5,2,   45.80,6,   22.20,6,    0.00,6,    1.51,6,   0.005,2,   0.004,2,   0.007,2,  -999.0,9,  -999.0,9,  -999.0,9, -999.00,-999.0000,9,  -999.00, -999.00,9,  -999.0,9,  -999.0, -999.00,9, -999.00,9,     13.750,2,-999.0000,9,-999.0000,9,-999.0000,9,-999.0000,9,-999.0000,9,-999.0000,9,-999.0000,9,-999.0000,9,-999.0000,9,     -999.0,5,  -999.0,9,     -999.0,     -999.0,9,     -999.0,20130818,       2031
33RO20130803,       A16N,      60,          1,          2,          2,2,20130818,       2016,    35.4993,   -20.2844,       5286,  4974.0,   2.4575,  34.8903,2,  34.8897,2,    243.7,2,     244,2,   46.70,6,   22.40,6,    0.00,6,    1.51,6,   0.004,6,   0.004,6,   0.006,6,  2201.1,2,  2354.4,6,   748.8,2,      20,   7.7261,2,    25.00, -999.00,9,  -999.0,9,  -999.0, -999.00,9, -999.00,9,     13.764,6,-999.0000,9,-999.0000,9,-999.0000,9,-999.0000,9,-999.0000,9,-999.0000,9,-999.0000,9,-999.0000,9,-999.0000,9,     -999.0,5,  -999.0,9,     -999.0,     -999.0,9,     -999.0,20130818,       2024
33RO20130803,       A16N,      60,          1,          1,          1,2,20130818,       2016,    35.4993,   -20.2844,       5286,  5356.4,   2.4867,  34.8875,2,  34.8879,2,    248.4,2,   243.3,2,   47.50,6,   22.60,6,    0.00,6,    1.51,6,   0.005,2,   0.006,2,   0.031,2,  2201.6,2,  2353.2,2,   745.2,2,      20,   7.7358,2,    25.00, -999.00,9,  -999.0,9,  -999.0, -999.00,9, -999.00,9,     13.768,2,-999.0000,9,-999.0000,9,-999.0000,9,-999.0000,9,-999.0000,9,-999.0000,9,-999.0000,9,-999.0000,9,-999.0000,9,     -999.0,5,  -999.0,9,     -999.0,     -999.0,9,     -999.0,20130818,       2016