BOTTLE,20220815CCHSIOAMB
EXPOCODE,SECT_ID,STNNBR,CASTNO,SAMPNO,BTLNBR,BTLNBR_FLAG_W,DATE,TIME,LATITUDE,LONGITUDE,DEPTH,CTDPRS,CTDTMP,CTDSAL,CTDSAL_FLAG_W,SALNTY,SALNTY_FLAG_W,CTDOXY,CTDOXY_FLAG_W,OXYGEN,OXYGEN_FLAG_W,SILCAT,SILCAT_FLAG_W,NITRAT,NITRAT_FLAG_W,NITRIT,NITRIT_FLAG_W,PHSPHT,PHSPHT_FLAG_W,CFC-11,CFC-11_FLAG_W,CFC-12,CFC-12_FLAG_W,SF6,SF6_FLAG_W,TCARBN,TCARBN_FLAG_W,ALKALI,ALKALI_FLAG_W,PCO2,PCO2_FLAG_W,PCO2TMP,PH_SWS,PH_SWS_FLAG_W,PH_TMP,DELC13,DELC13_FLAG_W,DELC14,DELC14_FLAG_W,C14ERR,DOC,DOC_FLAG_W,TDN,TDN_FLAG_W,N2O,N2O_FLAG_W,CDOM325,CDOM325_FLAG_W,CDOM340,CDOM340_FLAG_W,CDOM380,CDOM380_FLAG_W,CDOM412,CDOM412_FLAG_W,CDOM443,CDOM443_FLAG_W,CDOM490,CDOM490_FLAG_W,CDOM555,CDOM555_FLAG_W,CDOMSL,CDOMSL_FLAG_W,CDOMSN,CDOMSN_FLAG_W,CCL4,CCL4_FLAG_W,14C-DOC,14C-DOC_FLAG_W,14C-DOCERR,13C-DOC,13C-DOC_FLAG_W,13C-DOCERR,BTL_DATE,BTL_TIME
,,,,,,,,,,,METERS,DBAR,ITS-90,PSS-78,,PSS-78,,UMOL/KG,,UMOL/KG,,UMOL/KG,,UMOL/KG,,UMOL/KG,,UMOL/KG,,PMOL/KG,,PMOL/KG,,FMOL/KG,,UMOL/KG,,UMOL/KG,,UATM,,DEG C,,,DEG C,/MILLE,,/MILLE,,/MILLE,UMOL/KG,,UMOL/KG,,NMOL/KG,,1/M,,1/M,,1/M,,1/M,,1/M,,1/M,,1/M,,1/NM,,1/NM,,PMOL/KG,,/MILLE,,/MILLE,/MILLE,,/MILLE,,
33RO20130803,       A16N,      83,          1,         24,         24,2,20130907,       0348,    24.5683,   -26.4323,       5434,     4.1,  24.9450,  36.8751,2,  36.8749,2,    204.7,2,   205.9,2,    0.40,2,    0.00,2,    0.00,2,    0.06,2,   1.691,2,   1.061,2,   1.274,2,  2093.1,6,  2418.9,2,  -999.0,9, -999.00,   8.0379,2,    25.00, -999.00,9,  -999.0,9,  -999.0,   69.91,2,    4.91,2,      6.441,2,-999.0000,9,-999.0000,9,-999.0000,9,-999.0000,9,-999.0000,9,-999.0000,9,-999.0000,9,-999.0000,9,-999.0000,9,     -999.0,5,  -999.0,9,     -999.0,     -999.0,9,     -999.0,20130907,       0653
33RO20130803,       A16N,      83,          1,         23,         23,2,20130907,       0348,    24.5683,   -26.4323,       5434,    23.1,  24.9481,  36.8748,2,  36.8740,2,    205.3,2,   206.3,2,    0.40,2,    0.00,2,    0.00,2,    0.06,2,-999.000,9,-999.000,9,-999.000,9,  2093.0,2,  2416.7,6,  -999.0,9, -999.00,   8.0383,2,    25.00, -999.00,9,  -999.0,9,  -999.0,   69.23,2,    5.17,2,     -999.0,9,-999.0000,9,-999.0000,9,-999.0000,9,-999.0000,9,-999.0000,9,-999.0000,9,-999.0000,9,-999.0000,9,-999.0000,9,     -999.0,9,  -999.0,9,     -999.0,     -999.0,9,     -999.0,20130907,       0647
33RO20130803,       A16N,      83,          1,         22,         22,2,20130907,       0348,    24.5683,   -26.4323,       5434,    47.7,  24.2316,  37.1730,2,  37.1663,2,    212.5,2,   214.4,2,    0.50,2,    0.00,2,    0.00,2,    0.02,2,   1.803,2,   1.125,2,   1.353,2,  2112.0,2,  2430.4,2,  -999.0,9, -999.00,   8.0264,2,    25.00, -999.00,9,  -999.0,9,  -999.0,   68.32,2,    3.76,2,      6.723,2,-999.0000,9,-999.0000,9,-999.0000,9,-999.0000,9,-999.0000,9,-999.0000,9,-999.0000,9,-999.0000,9,-999.0000,9,     -999.0,5,  -999.0,9,     -999.0,     -999.0,9,     -999.0,20130907,       0645
33RO20130803,       A16N,      83,          1,         21,         21,2,20130907,       0348,    24.5683,   -26.4323,       5434,    73.4,  22.3569,  37.0796,2,  37.2238,2,    219.9,2,   220.2,2,    0.60,2,    0.00,2,    0.00,2,    0.04,2,-999.000,9,-999.000,9,-999.000,9,  -999.0,9,  -999.0,9,  -999.0,9, -999.00,-999.0000,9,  -999.00, -999.00,9,  -999.0,9,  -999.0,   67.11,2,    3.93,2,     -999.0,9,-999.0000,9,-999.0000,9,-999.0000,9,-999.0000,9,-999.0000,9,-999.0000,9,-999.0000,9,-999.0000,9,-999.0000,9,     -999.0,9,  -999.0,9,     -999.0,     -999.0,9,     -999.0,20130907,       0643
33RO20130803,       A16N,      83,          1,         20,         20,2,20130907,       0348,    24.5683,   -26.4323,       5434,    97.9,  21.5715,  37.1222,2,  37.1796,2,    223.2,2,   219.8,2,    0.60,2,    0.10,2,    0.01,2,    0.04,2,   1.993,2,   1.228,2,   1.402,2,  2118.0,2,  2428.4,2,  -999.0,9, -999.00,   8.0104,2,    25.00, -999.00,9,  -999.0,9,  -999.0,   65.98,2,    4.24,2,      7.445,2,-999.0000,9,-999.0000,9,-999.0000,9,-999.0000,9,-999.0000,9,-999.0000,9,-999.0000,9,-999.0000,9,-999.0000,9,     -999.0,5,  -999.0,9,     -999.0,     -999.0,9,     -999.0,20130907,       0641
33RO20130803,       A16N,      83,          1,         19,         19,2,20130907,       0348,    24.5683,   -26.4323,       5434,   148.5,  19.5193,  36.8587,2,  36.8325,2,    187.1,2,   183.8,2,    1.30,2,    5.00,2,    0.03,2,    0.33,2,   2.116,2,   1.286,2,   1.347,2,  -999.0,9,  -999.0,9,  -999.0,9, -999.00,-999.0000,9,  -999.00, -999.00,9,  -999.0,9,  -999.0,   55.79,2,    8.53,2,      9.928,2,-999.0000,9,-999.0000,9,-999.0000,9,-999.0000,9,-999.0000,9,-999.0000,9,-999.0000,9,-999.0000,9,-999.0000,9,     -999.0,5,  -999.0,9,     -999.0,     -999.0,9,     -999.0,20130907,       0638
33RO20130803,       A16N,      83,          1,         18,         18,2,20130907,       0348,    24.5683,   -26.4323,       5434,   223.2,  17.6928,  36.5726,2,  36.5684,2,    171.0,2,   170.4,2,    2.10,2,    7.90,2,    0.01,2,    0.47,2,-999.000,9,-999.000,9,-999.000,9,  -999.0,9,  -999.0,9,  -999.0,9, -999.00,-999.0000,9,  -999.00, -999.00,9,  -999.0,9,  -999.0,   52.35,2,   10.62,2,     -999.0,9,-999.0000,9,-999.0000,9,-999.0000,9,-999.0000,9,-999.0000,9,-999.0000,9,-999.0000,9,-999.0000,9,-999.0000,9,     -999.0,9,  -999.0,9,     -999.0,     -999.0,9,     -999.0,20130907,       0634
33RO20130803,       A16N,      83,          1,         17,         17,2,20130907,       0348,    24.5683,   -26.4323,       5434,   298.7,  16.1162,  36.2664,2,  36.2697,2,    161.8,2,   162.1,2,    3.30,2,   10.90,2,    0.01,2,    0.65,2,   2.321,2,   1.363,2,   1.184,2,  2164.4,2,  2377.3,2,  -999.0,9, -999.00,   7.8401,6,    25.00, -999.00,9,  -999.0,9,  -999.0,   50.44,2,   13.43,2,     14.272,2,-999.0000,9,-999.0000,9,-999.0000,9,-999.0000,9,-999.0000,9,-999.0000,9,-999.0000,9,-999.0000,9,-999.0000,9,     -999.0,5,  -999.0,9,     -999.0,     -999.0,9,     -999.0,20130907,       0631
33RO20130803,       A16N,      83,          1,         16,         16,2,20130907,       0348,    24.5683,   -26.4323,       5434,   398.8,  14.0554,  35.8791,2,  35.8820,2,    128.8,2,   127.8,2,    5.80,6,   17.90,6,    0.01,6,    1.06,6,-999.000,9,-999.000,9,-999.000,9,  -999.0,9,  -999.0,9,  -999.0,9, -999.00,-999.0000,9,  -999.00, -999.00,9,  -999.0,9,  -999.0,   48.59,2,    20.5,2,     -999.0,9,-999.0000,9,-999.0000,9,-999.0000,9,-999.0000,9,-999.0000,9,-999.0000,9,-999.0000,9,-999.0000,9,-999.0000,9,     -999.0,9,  -999.0,9,     -999.0,     -999.0,9,     -999.0,20130907,       0626
33RO20130803,       A16N,      83,          1,         15,         15,2,20130907,       0348,    24.5683,   -26.4323,       5434,   498.4,  12.9913,  35.7620,2,  35.7615,2,    164.2,2,   163.2,2,    5.60,6,   15.70,6,    0.01,6,    0.94,6,   2.402,2,   1.336,2,   0.892,2,  -999.0,9,  -999.0,9,  -999.0,9, -999.00,-999.0000,9,  -999.00, -999.00,9,  -999.0,9,  -999.0,   47.08,2,   18.88,2,     16.011,2,-999.0000,9,-999.0000,9,-999.0000,9,-999.0000,9,-999.0000,9,-999.0000,9,-999.0000,9,-999.0000,9,-999.0000,9,     -999.0,5,  -999.0,9,     -999.0,     -999.0,9,     -999.0,20130907,       0621
33RO20130803,       A16N,      83,          1,         14,         14,2,20130907,       0348,    24.5683,   -26.4323,       5434,   648.8,  10.8544,  35.4815,2,  35.4811,2,    132.9,2,   133.1,2,   10.20,2,   22.70,2,    0.01,2,    1.40,2,   1.592,2,   0.848,2,   0.417,2,  2196.1,2,  2332.5,2,  -999.0,9, -999.00,   7.6820,2,    25.00, -999.00,9,  -999.0,9,  -999.0,   45.56,2,   24.87,2,     20.641,2,-999.0000,9,-999.0000,9,-999.0000,9,-999.0000,9,-999.0000,9,-999.0000,9,-999.0000,9,-999.0000,9,-999.0000,9,     -999.0,5,  -999.0,9,     -999.0,     -999.0,9,     -999.0,20130907,       0614
33RO20130803,       A16N,      83,          1,         13,         13,2,20130907,       0348,    24.5683,   -26.4323,       5434,   799.0,   8.8741,  35.2657,2,  35.2659,2,    124.8,2,     126,2,   15.40,2,   26.70,2,    0.00,2,    1.71,2,   0.624,2,   0.322,2,   0.093,2,  2207.9,2,  2302.2,3,  -999.0,9, -999.00,   7.6394,2,    25.00, -999.00,9,  -999.0,9,  -999.0,   44.81,2,   29.02,2,     21.931,2,-999.0000,9,-999.0000,9,-999.0000,9,-999.0000,9,-999.0000,9,-999.0000,9,-999.0000,9,-999.0000,9,-999.0000,9,     -999.0,5,  -999.0,9,     -999.0,     -999.0,9,     -999.0,20130907,       0608
33RO20130803,       A16N,      83,          1,         12,         12,2,20130907,       0348,    24.5683,   -26.4323,       5434,   948.8,   7.7300,  35.1846,2,  35.1845,2,    137.8,2,     139,2,   17.70,6,   26.90,6,    0.01,6,    1.75,6,   0.335,2,   0.174,2,   0.059,2,  2206.4,2,   607.6,4,  -999.0,9, -999.00,   7.6423,2,    25.00, -999.00,9,  -999.0,9,  -999.0,   43.97,2,   29.38,2,     20.987,2,-999.0000,9,-999.0000,9,-999.0000,9,-999.0000,9,-999.0000,9,-999.0000,9,-999.0000,9,-999.0000,9,-999.0000,9,     -999.0,5,  -999.0,9,     -999.0,     -999.0,9,     -999.0,20130907,       0601
33RO20130803,       A16N,      83,          1,         11,         11,2,20130907,       0348,    24.5683,   -26.4323,       5434,  1099.3,   6.8982,  35.1651,2,  35.1662,2,    157.8,2,   157.8,2,   18.60,2,   25.70,2,    0.00,2,    1.71,2,-999.000,5,-999.000,5,-999.000,5,  -999.0,9,  -999.0,9,  -999.0,9, -999.00,-999.0000,9,  -999.00, -999.00,9,  -999.0,9,  -999.0,   43.05,2,   28.51,2,     -999.0,5,-999.0000,9,-999.0000,9,-999.0000,9,-999.0000,9,-999.0000,9,-999.0000,9,-999.0000,9,-999.0000,9,-999.0000,9,     -999.0,9,  -999.0,9,     -999.0,     -999.0,9,     -999.0,20130907,       0553
33RO20130803,       A16N,      83,          1,         10,         10,2,20130907,       0348,    24.5683,   -26.4323,       5434,  1298.3,   6.1792,  35.1834,2,  35.1839,2,    183.0,2,   182.7,2,   18.30,6,   23.70,6,    0.00,6,    1.56,6,-999.000,9,-999.000,9,-999.000,9,  -999.0,9,  -999.0,9,  -999.0,9, -999.00,-999.0000,9,  -999.00, -999.00,9,  -999.0,9,  -999.0,   42.09,2,   26.23,2,     -999.0,9,-999.0000,9,-999.0000,9,-999.0000,9,-999.0000,9,-999.0000,9,-999.0000,9,-999.0000,9,-999.0000,9,-999.0000,9,     -999.0,9,  -999.0,9,     -999.0,     -999.0,9,     -999.0,20130907,       0539
33RO20130803,       A16N,      83,          1,          9,          9,2,20130907,       0348,    24.5683,   -26.4323,       5434,  1599.1,   5.0390,  35.1264,2,  35.1268,2,    208.7,2,     209,2,   19.60,2,   22.00,2,    0.00,2,    1.47,2,   0.066,2,   0.034,2,   0.000,2,  -999.0,9,  -999.0,9,  -999.0,9, -999.00,-999.0000,9,  -999.00, -999.00,9,  -999.0,9,  -999.0,   41.13,2,   24.26,2,     15.209,2,-999.0000,9,-999.0000,9,-999.0000,9,-999.0000,9,-999.0000,9,-999.0000,9,-999.0000,9,-999.0000,9,-999.0000,9,     -999.0,5,  -999.0,9,     -999.0,     -999.0,9,     -999.0,20130907,       0528
33RO20130803,       A16N,      83,          1,          8,          8,2,20130907,       0348,    24.5683,   -26.4323,       5434,  1998.5,   4.0821,  35.0589,2,  35.0593,2,    227.9,2,   227.3,2,   22.80,2,   21.10,2,    0.00,2,    1.42,2,   0.021,2,   0.012,2,   0.000,2,  2180.2,2,  2329.3,2,  -999.0,9, -999.00,   7.7201,2,    25.00, -999.00,9,  -999.0,9,  -999.0,   40.55,2,   23.46,2,     12.359,3,-999.0000,9,-999.0000,9,-999.0000,9,-999.0000,9,-999.0000,9,-999.0000,9,-999.0000,9,-999.0000,9,-999.0000,9,     -999.0,5,  -999.0,9,     -999.0,     -999.0,9,     -999.0,20130907,       0514
33RO20130803,       A16N,      83,          1,          7,          7,2,20130907,       0348,    24.5683,   -26.4323,       5434,  2498.5,   3.2736,  34.9903,2,  34.9947,3,    240.5,2,   240.4,2,   27.90,2,   20.50,2,    0.00,2,    1.39,2,   0.036,2,   0.019,2,   0.000,2,  -999.0,9,  -999.0,9,  -999.0,9, -999.00,-999.0000,9,  -999.00, -999.00,9,  -999.0,9,  -999.0,   40.27,2,   22.58,2,     13.352,2,-999.0000,9,-999.0000,9,-999.0000,9,-999.0000,9,-999.0000,9,-999.0000,9,-999.0000,9,-999.0000,9,-999.0000,9,     -999.0,5,  -999.0,9,     -999.0,     -999.0,9,     -999.0,20130907,       0451
33RO20130803,       A16N,      83,          1,          6,          6,2,20130907,       0348,    24.5683,   -26.4323,       5434,  2997.9,   2.7643,  34.9407,2,  34.9408,2,    243.4,2,   243.2,2,   34.80,2,   21.00,2,    0.00,2,    1.43,2,-999.000,9,-999.000,9,-999.000,9,  2188.5,2,  2340.4,2,  -999.0,9, -999.00,   7.7304,3,    25.00, -999.00,9,  -999.0,9,  -999.0,   40.32,2,   23.49,2,     -999.0,9,-999.0000,9,-999.0000,9,-999.0000,9,-999.0000,9,-999.0000,9,-999.0000,9,-999.0000,9,-999.0000,9,-999.0000,9,     -999.0,9,  -999.0,9,     -999.0,     -999.0,9,     -999.0,20130907,       0439
33RO20130803,       A16N,      83,          1,          5,          5,2,20130907,       0348,    24.5683,   -26.4323,       5434,  3498.7,   2.5286,  34.9150,2,  34.9144,2,    242.4,2,   242.8,2,   40.30,2,   21.70,2,    0.00,2,    1.47,2,-999.000,5,-999.000,5,-999.000,5,  -999.0,9,  -999.0,9,  -999.0,9, -999.00,-999.0000,9,  -999.00, -999.00,9,  -999.0,9,  -999.0,   40.54,2,   24.16,2,     -999.0,5,-999.0000,9,-999.0000,9,-999.0000,9,-999.0000,9,-999.0000,9,-999.0000,9,-999.0000,9,-999.0000,9,-999.0000,9,     -999.0,5,  -999.0,9,     -999.0,     -999.0,9,     -999.0,20130907,       0429
33RO20130803,       A16N,      83,          1,          4,          4,2,20130907,       0348,    24.5683,   -26.4323,       5434,  3998.3,   2.4167,  34.8995,2,  34.8992,2,    242.2,2,   243.6,2,   43.80,2,   22.00,2,    0.00,2,    1.50,2,-999.000,9,-999.000,9,-999.000,9,  2196.3,2,  2348.7,2,  -999.0,9, -999.00,   7.7266,6,    25.00, -999.00,9,  -999.0,9,  -999.0,   40.57,2,   24.42,2,     -999.0,9,-999.0000,9,-999.0000,9,-999.0000,9,-999.0000,9,-999.0000,9,-999.0000,9,-999.0000,9,-999.0000,9,-999.0000,9,     -999.0,9,  -999.0,9,     -999.0,     -999.0,9,     -999.0,20130907,       0419
33RO20130803,       A16N,      83,          1,          3,          3,2,20130907,       0348,    24.5683,   -26.4323,       5434,  4498.9,   2.3802,  34.8899,2,  34.8901,2,    242.6,2,     243,2,   46.00,2,   22.20,2,    0.00,2,    1.52,2,   0.001,6,   0.002,6,   0.000,6,  -999.0,9,  -999.0,9,  -999.0,9, -999.00,-999.0000,9,  -999.00, -999.00,9,  -999.0,9,  -999.0,   40.44,2,   24.33,2,     13.691,6,-999.0000,9,-999.0000,9,-999.0000,9,-999.0000,9,-999.0000,9,-999.0000,9,-999.0000,9,-999.0000,9,-999.0000,9,     -999.0,5,  -999.0,9,     -999.0,     -999.0,9,     -999.0,20130907,       0409
33RO20130803,       A16N,      83,          1,          2,          2,2,20130907,       0348,    24.5683,   -26.4323,       5434,  4998.9,   2.4116,  34.8859,2,  34.8857,2,    243.0,2,   242.8,2,   46.80,2,   22.30,2,    0.00,2,    1.52,2,-999.000,9,-999.000,9,-999.000,9,  2200.5,2,  2354.3,6,  -999.0,9, -999.00,   7.7258,2,    25.00, -999.00,9,  -999.0,9,  -999.0,   40.09,2,   24.74,2,     -999.0,9,-999.0000,9,-999.0000,9,-999.0000,9,-999.0000,9,-999.0000,9,-999.0000,9,-999.0000,9,-999.0000,9,-999.0000,9,     -999.0,9,  -999.0,9,     -999.0,     -999.0,9,     -999.0,20130907,       0359
33RO20130803,       A16N,      83,          1,          1,          1,2,20130907,       0348,    24.5683,   -26.4323,       5434,  5500.0,   2.4666,  34.8840,2,  34.8840,2,    243.6,2,   242.7,2,   47.10,6,   22.40,6,    0.01,6,    1.52,6,   0.004,2,   0.004,2,   0.000,2,  2203.3,6,  2354.3,2,  -999.0,9, -999.00,   7.7261,2,    25.00, -999.00,9,  -999.0,9,  -999.0,   40.09,2,   24.93,2,     13.792,2,-999.0000,9,-999.0000,9,-999.0000,9,-999.0000,9,-999.0000,9,-999.0000,9,-999.0000,9,-999.0000,9,-999.0000,9,     -999.0,5,  -999.0,9,     -999.0,     -999.0,9,     -999.0,20130907,       0348