BOTTLE,20220815CCHSIOAMB
EXPOCODE,SECT_ID,STNNBR,CASTNO,SAMPNO,BTLNBR,BTLNBR_FLAG_W,DATE,TIME,LATITUDE,LONGITUDE,DEPTH,CTDPRS,CTDTMP,CTDSAL,CTDSAL_FLAG_W,SALNTY,SALNTY_FLAG_W,CTDOXY,CTDOXY_FLAG_W,OXYGEN,OXYGEN_FLAG_W,SILCAT,SILCAT_FLAG_W,NITRAT,NITRAT_FLAG_W,NITRIT,NITRIT_FLAG_W,PHSPHT,PHSPHT_FLAG_W,CFC-11,CFC-11_FLAG_W,CFC-12,CFC-12_FLAG_W,SF6,SF6_FLAG_W,TCARBN,TCARBN_FLAG_W,ALKALI,ALKALI_FLAG_W,PCO2,PCO2_FLAG_W,PCO2TMP,PH_SWS,PH_SWS_FLAG_W,PH_TMP,DELC13,DELC13_FLAG_W,DELC14,DELC14_FLAG_W,C14ERR,DOC,DOC_FLAG_W,TDN,TDN_FLAG_W,N2O,N2O_FLAG_W,CDOM325,CDOM325_FLAG_W,CDOM340,CDOM340_FLAG_W,CDOM380,CDOM380_FLAG_W,CDOM412,CDOM412_FLAG_W,CDOM443,CDOM443_FLAG_W,CDOM490,CDOM490_FLAG_W,CDOM555,CDOM555_FLAG_W,CDOMSL,CDOMSL_FLAG_W,CDOMSN,CDOMSN_FLAG_W,CCL4,CCL4_FLAG_W,14C-DOC,14C-DOC_FLAG_W,14C-DOCERR,13C-DOC,13C-DOC_FLAG_W,13C-DOCERR,BTL_DATE,BTL_TIME
,,,,,,,,,,,METERS,DBAR,ITS-90,PSS-78,,PSS-78,,UMOL/KG,,UMOL/KG,,UMOL/KG,,UMOL/KG,,UMOL/KG,,UMOL/KG,,PMOL/KG,,PMOL/KG,,FMOL/KG,,UMOL/KG,,UMOL/KG,,UATM,,DEG C,,,DEG C,/MILLE,,/MILLE,,/MILLE,UMOL/KG,,UMOL/KG,,NMOL/KG,,1/M,,1/M,,1/M,,1/M,,1/M,,1/M,,1/M,,1/NM,,1/NM,,PMOL/KG,,/MILLE,,/MILLE,/MILLE,,/MILLE,,
33RO20130803,       A16N,      13,          1,         24,         24,2,20130806,       0818,    58.9993,   -19.9991,       2844,     2.8,  11.8487,  34.9979,2,  34.9988,2,    275.1,2,   279.6,2,    1.80,2,    3.60,2,    0.07,2,    0.29,2,   3.265,2,   1.931,2,   2.172,2,  2077.3,6,  2310.1,2,   450.2,2,      20,   7.9126,2,    25.00, -999.00,9,  -999.0,9,  -999.0, -999.00,9, -999.00,9,     10.177,2,   0.3493,2,   0.2629,2,   0.1270,2,   0.0963,2,   0.0679,2,   0.0461,2,   0.0158,2,   0.0172,2,   0.0186,2,     -999.0,5,  -999.0,9,     -999.0,     -999.0,9,     -999.0,20130806,       0939
33RO20130803,       A16N,      13,          1,         23,         23,2,20130806,       0818,    58.9993,   -19.9991,       2844,    22.9,  10.7382,  35.0556,2,  35.0667,3,    276.1,2,   271.6,2,    1.50,2,    6.70,2,    0.14,2,    0.55,2,   3.442,6,   2.026,6,   2.211,6,  2112.1,2,  2313.0,2,   536.9,2,      20,   7.8502,2,    25.00, -999.00,9,  -999.0,9,  -999.0, -999.00,9, -999.00,9,     10.691,6,   0.2081,2,   0.1501,2,   0.0661,2,   0.0476,2,   0.0257,2,   0.0156,2,   0.0018,2,   0.0197,2,   0.0212,2,     -999.0,5,  -999.0,9,     -999.0,     -999.0,9,     -999.0,20130806,       0937
33RO20130803,       A16N,      13,          1,         22,         22,2,20130806,       0818,    58.9993,   -19.9991,       2844,    55.1,   9.5250,  35.0550,2,  35.0641,2,    267.4,2,   269.2,2,    2.30,2,    8.50,2,    0.32,2,    0.67,2,   3.566,2,   2.089,2,   2.214,2,  2123.9,2,  2306.5,2,   581.4,2,      20,   7.8185,2,    25.00, -999.00,9,  -999.0,9,  -999.0, -999.00,9, -999.00,9,     11.435,2,   0.1907,2,   0.1364,2,   0.0607,2,   0.0416,2,   0.0203,2,   0.0113,2,  -0.0001,4,   0.0199,2,   0.0213,2,     -999.0,5,  -999.0,9,     -999.0,     -999.0,9,     -999.0,20130806,       0934
33RO20130803,       A16N,      13,          1,         21,         21,2,20130806,       0818,    58.9993,   -19.9991,       2844,    80.5,   9.3729,  35.1485,2,  35.1514,2,    259.6,2,   256.8,2,    3.20,2,   11.50,2,    0.04,2,    0.76,2,   3.418,2,   1.997,2,   2.168,2,  2140.2,2,  2316.1,2,   624.2,2,      20,   7.7902,2,    25.00, -999.00,9,  -999.0,9,  -999.0, -999.00,9, -999.00,9,     12.168,2,   0.1724,2,   0.1225,2,   0.0587,2,   0.0408,2,   0.0204,2,   0.0119,2,   0.0005,4,   0.0186,2,   0.0202,2,     -999.0,5,  -999.0,9,     -999.0,     -999.0,9,     -999.0,20130806,       0932
33RO20130803,       A16N,      13,          1,         20,         20,2,20130806,       0818,    58.9993,   -19.9991,       2844,   103.7,   9.1178,  35.1596,2,  35.1591,2,    259.6,2,     263,2,    2.70,2,   11.50,2,    0.01,2,    0.76,2,   3.501,2,   2.054,2,   2.163,2,  2139.7,2,  2315.5,2,   623.9,2,      20,   7.7926,2,    25.00, -999.00,9,  -999.0,9,  -999.0, -999.00,9, -999.00,9,     11.838,2,   0.1697,2,   0.1169,2,   0.0497,2,   0.0366,2,   0.0173,2,   0.0097,3,  -0.0009,4,   0.0208,2,   0.0230,2,     -999.0,5,  -999.0,9,     -999.0,     -999.0,9,     -999.0,20130806,       0930
33RO20130803,       A16N,      13,          1,         19,         19,2,20130806,       0818,    58.9993,   -19.9991,       2844,   129.6,   8.7851,  35.1188,2,  35.1226,2,    266.2,2,   265.2,2,    3.20,2,   11.70,2,    0.02,2,    0.78,2,   3.544,2,   2.070,2,   2.253,2,  2140.0,2,  2316.0,2,   631.2,2,      20,   7.7882,2,    25.00, -999.00,9,  -999.0,9,  -999.0, -999.00,9, -999.00,9,     11.966,2,   0.1756,2,   0.1233,2,   0.0560,2,   0.0415,2,   0.0213,2,   0.0124,2,   0.0007,3,   0.0194,2,   0.0213,2,     -999.0,5,  -999.0,9,     -999.0,     -999.0,9,     -999.0,20130806,       0928
33RO20130803,       A16N,      13,          1,         18,         18,2,20130806,       0818,    58.9993,   -19.9991,       2844,   159.6,   8.8235,  35.1577,2,  35.1488,2,    264.8,2,     262,2,    4.00,2,   12.20,2,    0.02,2,    0.80,2,   3.485,2,   2.036,2,   2.079,2,  2143.5,2,  2309.3,3,   638.7,2,      20,   7.7830,2,    25.00, -999.00,9,  -999.0,9,  -999.0, -999.00,9, -999.00,9,     12.235,2,   0.1601,2,   0.1120,2,   0.0494,2,   0.0359,2,   0.0172,2,   0.0097,2,  -0.0010,4,   0.0201,2,   0.0220,2,     -999.0,5,  -999.0,9,     -999.0,     -999.0,9,     -999.0,20130806,       0926
33RO20130803,       A16N,      13,          1,         17,         17,4,20130806,       0818,    58.9993,   -19.9991,       2844,   208.4,   8.8586,  35.1983,2,  35.1993,2,    262.7,2,   255.7,2,    5.00,6,   12.80,6,    0.02,6,    0.84,6,   3.375,2,   1.952,2,   2.005,2,  2147.4,3,  2324.2,2,   650.0,3,      20,   7.7753,2,    25.00, -999.00,9,  -999.0,9,  -999.0, -999.00,9, -999.00,9,     12.761,2,-999.0000,5,-999.0000,5,-999.0000,5,-999.0000,5,-999.0000,5,-999.0000,5,-999.0000,5,-999.0000,5,-999.0000,5,     -999.0,5,  -999.0,9,     -999.0,     -999.0,9,     -999.0,20130806,       0924
33RO20130803,       A16N,      13,          1,         16,         16,2,20130806,       0818,    58.9993,   -19.9991,       2844,   255.8,   8.2121,  35.1061,2,  35.1041,2,    258.0,2,     257,2,    5.60,2,   13.60,2,    0.00,2,    0.89,2,   3.480,2,   1.997,2,   2.060,2,  2150.1,2,  2312.8,2,   672.6,2,      20,   7.7626,2,    25.00, -999.00,9,  -999.0,9,  -999.0, -999.00,9, -999.00,9,     13.133,2,   0.1627,2,   0.1126,2,   0.0478,2,   0.0348,2,   0.0167,2,   0.0096,3,  -0.0008,4,   0.0209,2,   0.0229,2,     -999.0,5,  -999.0,9,     -999.0,     -999.0,9,     -999.0,20130806,       0922
33RO20130803,       A16N,      13,          1,         15,         15,2,20130806,       0818,    58.9993,   -19.9991,       2844,   335.4,   7.6623,  35.0631,2,  35.0729,2,    244.8,2,   244.1,2,    7.60,2,   15.40,2,    0.03,2,    1.01,2,   3.322,2,   1.896,2,   1.795,2,  2159.4,2,  2310.4,2,   716.6,2,      20,   7.7383,6,    25.00, -999.00,9,  -999.0,9,  -999.0, -999.00,9, -999.00,9,     14.134,2,   0.1735,2,   0.1231,2,   0.0597,2,   0.0394,2,   0.0197,2,   0.0115,2,   0.0003,4,   0.0186,2,   0.0201,2,     -999.0,5,  -999.0,9,     -999.0,     -999.0,9,     -999.0,20130806,       0919
33RO20130803,       A16N,      13,          1,         14,         14,2,20130806,       0818,    58.9993,   -19.9991,       2844,   415.0,   7.6924,  35.1337,2,  35.1350,2,    243.7,2,     243,2,    8.00,2,   15.60,2,    0.03,2,    1.02,2,   3.283,2,   1.877,2,   1.675,2,  2162.0,2,  2315.3,6,   719.3,2,      20,   7.7377,2,    25.00, -999.00,9,  -999.0,9,  -999.0, -999.00,9, -999.00,9,     14.122,2,   0.1567,2,   0.1065,2,   0.0438,2,   0.0311,2,   0.0142,2,   0.0080,3,  -0.0017,4,   0.0218,2,   0.0240,2,     -999.0,5,  -999.0,9,     -999.0,     -999.0,9,     -999.0,20130806,       0917
33RO20130803,       A16N,      13,          1,         13,         13,2,20130806,       0818,    58.9993,   -19.9991,       2844,   496.0,   6.9828,  35.0725,2,  35.0721,2,    228.4,2,   226.3,2,    9.80,6,   17.50,6,    0.02,6,    1.15,6,   3.095,2,   1.726,2,   1.456,2,  2172.3,2,  2312.7,2,   776.8,2,      20,   7.7065,6,    25.00, -999.00,9,  -999.0,9,  -999.0, -999.00,9, -999.00,9,     15.573,2,   0.1651,2,   0.1149,2,   0.0518,2,   0.0377,2,   0.0193,2,   0.0113,2,   0.0001,4,   0.0197,2,   0.0217,2,     -999.0,5,  -999.0,9,     -999.0,     -999.0,9,     -999.0,20130806,       0914
33RO20130803,       A16N,      13,          1,         12,         12,2,20130806,       0818,    58.9993,   -19.9991,       2844,   568.1,   6.5982,  35.0719,2,  35.0707,2,    227.2,2,   225.7,2,   10.40,2,   18.00,2,    0.02,2,    1.18,2,   3.090,2,   1.682,2,   1.364,2,  2175.6,2,  2313.0,2,   789.8,2,      20,   5.5038,4,    25.00, -999.00,9,  -999.0,9,  -999.0, -999.00,9, -999.00,9,     15.877,2,   0.1674,2,   0.1150,2,   0.0500,2,   0.0363,2,   0.0178,2,   0.0099,2,  -0.0009,4,   0.0205,2,   0.0227,2,     -999.0,5,  -999.0,9,     -999.0,     -999.0,9,     -999.0,20130806,       0911
33RO20130803,       A16N,      13,          1,         11,         11,2,20130806,       0818,    58.9993,   -19.9991,       2844,   675.6,   5.8994,  35.0393,2,  35.0388,2,    229.9,2,   229.6,2,   10.80,6,   18.30,6,    0.01,6,    1.20,6,   3.162,2,   1.724,2,   1.281,2,  2176.3,2,  2310.9,2,   818.6,2,      20,   7.6873,2,    25.00, -999.00,9,  -999.0,9,  -999.0, -999.00,9, -999.00,9,     15.666,2,   0.1728,2,   0.1190,2,   0.0519,2,   0.0374,2,   0.0187,2,   0.0105,2,  -0.0004,4,   0.0205,2,   0.0226,2,     -999.0,5,  -999.0,9,     -999.0,     -999.0,9,     -999.0,20130806,       0908
33RO20130803,       A16N,      13,          1,         10,         10,2,20130806,       0818,    58.9993,   -19.9991,       2844,   774.8,   5.2790,  35.0099,2,  35.0098,2,    239.3,2,   240.2,2,   10.90,2,   18.10,2,    0.02,2,    1.19,2,   3.355,2,   1.807,2,   1.257,2,  2176.5,6,  2308.6,2,   818.5,2,      20,   7.6897,2,    25.00, -999.00,9,  -999.0,9,  -999.0, -999.00,9, -999.00,9,     15.359,2,   0.1753,2,   0.1203,2,   0.0540,2,   0.0381,2,   0.0189,2,   0.0104,2,  -0.0006,4,   0.0201,2,   0.0222,2,     -999.0,5,  -999.0,9,     -999.0,     -999.0,9,     -999.0,20130806,       0906
33RO20130803,       A16N,      13,          1,          9,          9,2,20130806,       0818,    58.9993,   -19.9991,       2844,   934.6,   4.6934,  34.9686,2,  34.9677,2,    253.6,2,   253.7,2,   10.70,2,   17.70,2,    0.01,2,    1.16,2,   3.622,2,   1.950,2,   1.321,2,  2171.0,2,  2305.6,2,   810.7,2,      20,   7.6951,2,    25.00, -999.00,9,  -999.0,9,  -999.0, -999.00,9, -999.00,9,     14.813,2,   0.1634,2,   0.1124,2,   0.0496,2,   0.0360,2,   0.0178,2,   0.0100,2,  -0.0007,4,   0.0203,2,   0.0224,2,     -999.0,5,  -999.0,9,     -999.0,     -999.0,9,     -999.0,20130806,       0902
33RO20130803,       A16N,      13,          1,          8,          8,2,20130806,       0818,    58.9993,   -19.9991,       2844,  1108.7,   4.2769,  34.9365,2,  34.9357,2,    264.2,2,   263.9,2,   10.50,2,   17.30,2,    0.01,2,    1.14,2,   3.813,2,   2.036,2,   1.345,2,  2167.2,2,  2304.3,2,   802.8,2,      20,   7.6967,2,    25.00, -999.00,9,  -999.0,9,  -999.0, -999.00,9, -999.00,9,     14.767,2,   0.1535,2,   0.1055,2,   0.0453,2,   0.0328,2,   0.0157,2,   0.0088,3,  -0.0014,4,   0.0208,2,   0.0229,2,     -999.0,5,  -999.0,9,     -999.0,     -999.0,9,     -999.0,20130806,       0857
33RO20130803,       A16N,      13,          1,          7,          7,2,20130806,       0818,    58.9993,   -19.9991,       2844,  1238.5,   4.0820,  34.9252,2,  34.9225,2,    268.4,2,   267.3,2,   10.60,2,   17.10,2,    0.01,2,    1.13,2,   3.843,2,   2.024,2,   1.278,2,  2164.8,2,  2302.8,2,   797.9,2,      20,   7.6986,2,    25.00, -999.00,9,  -999.0,9,  -999.0, -999.00,9, -999.00,9,     14.380,2,-999.0000,5,-999.0000,5,-999.0000,5,-999.0000,5,-999.0000,5,-999.0000,5,-999.0000,5,-999.0000,5,-999.0000,5,     -999.0,5,  -999.0,9,     -999.0,     -999.0,9,     -999.0,20130806,       0854
33RO20130803,       A16N,      13,          1,          6,          6,2,20130806,       0818,    58.9993,   -19.9991,       2844,  1383.4,   3.9056,  34.9159,2,  34.9150,2,    271.4,2,   270.2,2,   10.80,2,   17.10,2,    0.01,2,    1.13,2,   3.784,2,   2.000,2,   1.207,2,  2164.1,2,  2307.5,3,   792.2,2,      20,   7.7018,2,    25.00, -999.00,9,  -999.0,9,  -999.0, -999.00,9, -999.00,9,     14.162,2,   0.1587,2,   0.1101,2,   0.0488,2,   0.0359,2,   0.0186,2,   0.0109,2,  -0.0002,4,   0.0200,2,   0.0221,2,     -999.0,5,  -999.0,9,     -999.0,     -999.0,9,     -999.0,20130806,       0850
33RO20130803,       A16N,      13,          1,          5,          5,2,20130806,       0818,    58.9993,   -19.9991,       2844,  1665.0,   3.7225,  34.9174,2,  34.9168,2,    270.8,2,   270.4,2,   11.50,2,   17.20,2,    0.01,2,    1.13,2,   3.452,2,   1.759,2,   0.930,2,  2163.7,2,  2308.9,3,   783.3,2,      20,   7.7079,2,    25.00, -999.00,9,  -999.0,9,  -999.0, -999.00,9, -999.00,9,     14.035,2,   0.1585,2,   0.1091,2,   0.0484,2,   0.0355,2,   0.0182,2,   0.0106,3,  -0.0003,4,   0.0201,2,   0.0224,2,     -999.0,5,  -999.0,9,     -999.0,     -999.0,9,     -999.0,20130806,       0844
33RO20130803,       A16N,      13,          1,          4,          4,2,20130806,       0818,    58.9993,   -19.9991,       2844,  1908.1,   3.5518,  34.9219,2,  34.9207,2,    271.7,2,   271.4,2,   12.00,2,   17.10,2,    0.01,2,    1.13,2,   3.115,2,   1.560,2,   0.788,2,  2162.7,2,  2303.8,2,   773.4,2,      20,   7.7114,2,    25.00, -999.00,9,  -999.0,9,  -999.0, -999.00,9, -999.00,9,     13.918,2,   0.1586,2,   0.1082,2,   0.0460,2,   0.0322,2,   0.0151,2,   0.0082,3,  -0.0017,4,   0.0213,2,   0.0233,2,     -999.0,5,  -999.0,9,     -999.0,     -999.0,9,     -999.0,20130806,       0839
33RO20130803,       A16N,      13,          1,          3,          3,2,20130806,       0818,    58.9993,   -19.9991,       2844,  2186.3,   3.3528,  34.9365,2,  34.9357,2,    272.9,2,   272.6,2,   12.60,2,   16.70,2,    0.01,2,    1.11,2,   2.914,6,   1.466,6,   0.744,6,  2163.8,2,  2304.1,2,   767.3,2,      20,   7.7173,2,    25.00, -999.00,9,  -999.0,9,  -999.0, -999.00,9, -999.00,9,     13.847,6,   0.1520,2,   0.1038,2,   0.0440,2,   0.0319,2,   0.0153,2,   0.0084,3,  -0.0015,4,   0.0212,2,   0.0234,2,     -999.0,5,  -999.0,9,     -999.0,     -999.0,9,     -999.0,20130806,       0833
33RO20130803,       A16N,      13,          1,          2,          2,2,20130806,       0818,    58.9993,   -19.9991,       2844,  2511.7,   3.1296,  34.9720,2,  34.9717,2,    272.9,2,   272.2,2,   13.70,2,   16.20,2,    0.01,2,    1.08,2,   2.846,2,   1.468,2,   0.919,2,  2168.2,2,  2310.2,2,   772.8,2,      20,   7.7139,2,    25.00, -999.00,9,  -999.0,9,  -999.0, -999.00,9, -999.00,9,     13.967,2,   0.1526,2,   0.1074,2,   0.0505,2,   0.0338,2,   0.0163,2,   0.0088,3,  -0.0014,4,   0.0193,2,   0.0209,2,     -999.0,5,  -999.0,9,     -999.0,     -999.0,9,     -999.0,20130806,       0826
33RO20130803,       A16N,      13,          1,          1,          1,2,20130806,       0818,    58.9993,   -19.9991,       2844,  2871.5,   2.7115,  34.9885,2,  34.9882,2,    277.0,2,   276.1,2,   14.50,6,   15.30,6,    0.03,6,    1.04,6,   3.263,2,   1.727,2,   1.275,2,  2172.9,6,  2327.3,3,   792.6,2,      20,   7.7046,2,    25.00, -999.00,9,  -999.0,9,  -999.0, -999.00,9, -999.00,9,     14.144,2,   0.1816,2,   0.1294,2,   0.0599,2,   0.0436,2,   0.0227,2,   0.0121,2,   0.0002,4,   0.0190,2,   0.0206,2,     -999.0,5,  -999.0,9,     -999.0,     -999.0,9,     -999.0,20130806,       0818