BOTTLE,20220815CCHSIOAMB
EXPOCODE,SECT_ID,STNNBR,CASTNO,SAMPNO,BTLNBR,BTLNBR_FLAG_W,DATE,TIME,LATITUDE,LONGITUDE,DEPTH,CTDPRS,CTDTMP,CTDSAL,CTDSAL_FLAG_W,SALNTY,SALNTY_FLAG_W,CTDOXY,CTDOXY_FLAG_W,OXYGEN,OXYGEN_FLAG_W,SILCAT,SILCAT_FLAG_W,NITRAT,NITRAT_FLAG_W,NITRIT,NITRIT_FLAG_W,PHSPHT,PHSPHT_FLAG_W,CFC-11,CFC-11_FLAG_W,CFC-12,CFC-12_FLAG_W,SF6,SF6_FLAG_W,TCARBN,TCARBN_FLAG_W,ALKALI,ALKALI_FLAG_W,PCO2,PCO2_FLAG_W,PCO2TMP,PH_SWS,PH_SWS_FLAG_W,PH_TMP,DELC13,DELC13_FLAG_W,DELC14,DELC14_FLAG_W,C14ERR,DOC,DOC_FLAG_W,TDN,TDN_FLAG_W,N2O,N2O_FLAG_W,CDOM325,CDOM325_FLAG_W,CDOM340,CDOM340_FLAG_W,CDOM380,CDOM380_FLAG_W,CDOM412,CDOM412_FLAG_W,CDOM443,CDOM443_FLAG_W,CDOM490,CDOM490_FLAG_W,CDOM555,CDOM555_FLAG_W,CDOMSL,CDOMSL_FLAG_W,CDOMSN,CDOMSN_FLAG_W,CCL4,CCL4_FLAG_W,14C-DOC,14C-DOC_FLAG_W,14C-DOCERR,13C-DOC,13C-DOC_FLAG_W,13C-DOCERR,BTL_DATE,BTL_TIME
,,,,,,,,,,,METERS,DBAR,ITS-90,PSS-78,,PSS-78,,UMOL/KG,,UMOL/KG,,UMOL/KG,,UMOL/KG,,UMOL/KG,,UMOL/KG,,PMOL/KG,,PMOL/KG,,FMOL/KG,,UMOL/KG,,UMOL/KG,,UATM,,DEG C,,,DEG C,/MILLE,,/MILLE,,/MILLE,UMOL/KG,,UMOL/KG,,NMOL/KG,,1/M,,1/M,,1/M,,1/M,,1/M,,1/M,,1/M,,1/NM,,1/NM,,PMOL/KG,,/MILLE,,/MILLE,/MILLE,,/MILLE,,
33RO20130803,       A16N,     123,          1,         24,         24,2,20130926,       0105,     2.3334,   -25.0010,       3774,     2.9,  27.5459,  35.7746,2,  35.7756,2,    198.8,2,     199,2,    0.90,2,    0.00,2,    0.00,2,    0.01,2,-999.000,9,-999.000,9,-999.000,9,  1996.2,6,  2340.2,2,  -999.0,9, -999.00,   8.1001,2,    25.00, -999.00,9,  -999.0,9,  -999.0, -999.00,9, -999.00,9,     -999.0,9,-999.0000,9,-999.0000,9,-999.0000,9,-999.0000,9,-999.0000,9,-999.0000,9,-999.0000,9,-999.0000,9,-999.0000,9,     -999.0,9,  -999.0,9,     -999.0,     -999.0,9,     -999.0,20130926,       0233
33RO20130803,       A16N,     123,          1,         23,         23,2,20130926,       0105,     2.3334,   -25.0010,       3774,    32.7,  27.5406,  35.7696,2,  35.7697,2,    199.7,2,   198.5,2,    1.00,2,    0.00,2,    0.00,2,    0.01,2,-999.000,9,-999.000,9,-999.000,9,  1996.0,2,  2341.3,6,  -999.0,9, -999.00,   8.0993,2,    25.00, -999.00,9,  -999.0,9,  -999.0, -999.00,9, -999.00,9,     -999.0,9,-999.0000,9,-999.0000,9,-999.0000,9,-999.0000,9,-999.0000,9,-999.0000,9,-999.0000,9,-999.0000,9,-999.0000,9,     -999.0,9,  -999.0,9,     -999.0,     -999.0,9,     -999.0,20130926,       0231
33RO20130803,       A16N,     123,          1,         22,         22,2,20130926,       0105,     2.3334,   -25.0010,       3774,    61.7,  27.3810,  35.7981,2,  35.7917,2,    199.5,2,     193,2,    1.30,2,    0.40,2,    0.02,2,    0.06,2,-999.000,9,-999.000,9,-999.000,9,  -999.0,9,  -999.0,9,  -999.0,9, -999.00,-999.0000,9,  -999.00, -999.00,9,  -999.0,9,  -999.0, -999.00,9, -999.00,9,     -999.0,9,-999.0000,9,-999.0000,9,-999.0000,9,-999.0000,9,-999.0000,9,-999.0000,9,-999.0000,9,-999.0000,9,-999.0000,9,     -999.0,9,  -999.0,9,     -999.0,     -999.0,9,     -999.0,20130926,       0229
33RO20130803,       A16N,     123,          1,         21,         21,2,20130926,       0105,     2.3334,   -25.0010,       3774,    87.7,  18.7115,  35.7759,2,  35.7586,2,    123.6,2,   120.4,2,    4.40,2,   14.00,2,    0.15,2,    1.01,2,-999.000,9,-999.000,9,-999.000,9,  2166.5,2,  2347.0,2,  -999.0,9, -999.00,   7.7861,2,    25.00, -999.00,9,  -999.0,9,  -999.0, -999.00,9, -999.00,9,     -999.0,9,-999.0000,9,-999.0000,9,-999.0000,9,-999.0000,9,-999.0000,9,-999.0000,9,-999.0000,9,-999.0000,9,-999.0000,9,     -999.0,9,  -999.0,9,     -999.0,     -999.0,9,     -999.0,20130926,       0227
33RO20130803,       A16N,     123,          1,         20,         20,2,20130926,       0105,     2.3334,   -25.0010,       3774,   112.8,  15.4135,  35.5838,2,  35.5826,2,     96.6,2,    99.1,2,    6.70,2,   20.20,2,    0.02,2,    1.36,2,-999.000,9,-999.000,9,-999.000,9,  2193.6,2,  2335.5,2,  -999.0,9, -999.00,   7.6993,2,    25.00, -999.00,9,  -999.0,9,  -999.0, -999.00,9, -999.00,9,     -999.0,9,-999.0000,9,-999.0000,9,-999.0000,9,-999.0000,9,-999.0000,9,-999.0000,9,-999.0000,9,-999.0000,9,-999.0000,9,     -999.0,9,  -999.0,9,     -999.0,     -999.0,9,     -999.0,20130926,       0225
33RO20130803,       A16N,     123,          1,         19,         19,2,20130926,       0105,     2.3334,   -25.0010,       3774,   136.7,  15.0573,  35.5430,2,  35.5403,2,     99.0,2,   100.6,2,    7.00,2,   20.40,2,    0.01,2,    1.37,2,-999.000,9,-999.000,9,-999.000,9,  2191.6,2,  2331.3,2,  -999.0,9, -999.00,   7.6987,2,    25.00, -999.00,9,  -999.0,9,  -999.0, -999.00,9, -999.00,9,     -999.0,9,-999.0000,9,-999.0000,9,-999.0000,9,-999.0000,9,-999.0000,9,-999.0000,9,-999.0000,9,-999.0000,9,-999.0000,9,     -999.0,9,  -999.0,9,     -999.0,     -999.0,9,     -999.0,20130926,       0224
33RO20130803,       A16N,     123,          1,         18,         18,2,20130926,       0105,     2.3334,   -25.0010,       3774,   163.2,  14.4038,  35.4586,2,  35.4577,2,    104.2,2,   106.3,2,    7.30,2,   20.80,2,    0.01,2,    1.39,2,-999.000,9,-999.000,9,-999.000,9,  2190.8,2,  2330.3,2,  -999.0,9, -999.00,   7.6925,6,    25.00, -999.00,9,  -999.0,9,  -999.0, -999.00,9, -999.00,9,     -999.0,9,-999.0000,9,-999.0000,9,-999.0000,9,-999.0000,9,-999.0000,9,-999.0000,9,-999.0000,9,-999.0000,9,-999.0000,9,     -999.0,9,  -999.0,9,     -999.0,     -999.0,9,     -999.0,20130926,       0222
33RO20130803,       A16N,     123,          1,         17,         17,2,20130926,       0105,     2.3334,   -25.0010,       3774,   220.9,  12.9609,  35.2789,2,  35.2834,2,    112.8,2,   115.1,2,    8.50,2,   22.20,2,    0.01,2,    1.46,2,   2.119,2,   1.181,2,   0.632,2,  -999.0,9,  -999.0,9,  -999.0,9, -999.00,-999.0000,9,  -999.00, -999.00,9,  -999.0,9,  -999.0, -999.00,9, -999.00,9,     27.071,2,-999.0000,9,-999.0000,9,-999.0000,9,-999.0000,9,-999.0000,9,-999.0000,9,-999.0000,9,-999.0000,9,-999.0000,9,     -999.0,5,  -999.0,9,     -999.0,     -999.0,9,     -999.0,20130926,       0220
33RO20130803,       A16N,     123,          1,         16,         16,2,20130926,       0105,     2.3334,   -25.0010,       3774,   312.5,  10.5391,  34.9828,2,  34.9847,2,    121.7,2,   123.1,2,   11.80,2,   25.70,2,    0.01,2,    1.67,2,-999.000,9,-999.000,9,-999.000,9,  -999.0,9,  -999.0,9,  -999.0,9, -999.00,-999.0000,9,  -999.00, -999.00,9,  -999.0,9,  -999.0, -999.00,9, -999.00,9,     -999.0,9,-999.0000,9,-999.0000,9,-999.0000,9,-999.0000,9,-999.0000,9,-999.0000,9,-999.0000,9,-999.0000,9,-999.0000,9,     -999.0,9,  -999.0,9,     -999.0,     -999.0,9,     -999.0,20130926,       0218
33RO20130803,       A16N,     123,          1,         15,         15,2,20130926,       0105,     2.3334,   -25.0010,       3774,   387.9,   9.1502,  34.8245,2,  34.8230,2,    112.9,2,   112.5,2,   14.80,2,   29.80,2,    0.00,2,    1.92,2,   1.603,2,   0.845,2,   0.376,2,  2209.5,2,  2303.3,2,  -999.0,9, -999.00,   7.5748,2,    25.00, -999.00,9,  -999.0,9,  -999.0, -999.00,9, -999.00,9,     30.569,2,-999.0000,9,-999.0000,9,-999.0000,9,-999.0000,9,-999.0000,9,-999.0000,9,-999.0000,9,-999.0000,9,-999.0000,9,     -999.0,5,  -999.0,9,     -999.0,     -999.0,9,     -999.0,20130926,       0215
33RO20130803,       A16N,     123,          1,         14,         14,2,20130926,       0105,     2.3334,   -25.0010,       3774,   462.5,   8.0479,  34.7124,2,  34.7151,2,    126.6,2,   125.7,2,   17.20,2,   30.90,2,    0.00,2,    2.00,2,   1.434,2,   0.743,2,   0.303,2,  2208.5,2,  2299.1,6,  -999.0,9, -999.00,   7.5707,2,    25.00, -999.00,9,  -999.0,9,  -999.0, -999.00,9, -999.00,9,     27.840,2,-999.0000,9,-999.0000,9,-999.0000,9,-999.0000,9,-999.0000,9,-999.0000,9,-999.0000,9,-999.0000,9,-999.0000,9,     -999.0,5,  -999.0,9,     -999.0,     -999.0,9,     -999.0,20130926,       0213
33RO20130803,       A16N,     123,          1,         13,         13,2,20130926,       0105,     2.3334,   -25.0010,       3774,   527.5,   7.0180,  34.6468,2,  34.6505,2,    115.3,2,   115.8,2,   21.10,2,   34.00,2,    0.00,2,    2.21,2,-999.000,9,-999.000,9,-999.000,9,  2221.0,6,  2299.6,2,  -999.0,9, -999.00,   7.5308,2,    25.00, -999.00,9,  -999.0,9,  -999.0, -999.00,9, -999.00,9,     -999.0,9,-999.0000,9,-999.0000,9,-999.0000,9,-999.0000,9,-999.0000,9,-999.0000,9,-999.0000,9,-999.0000,9,-999.0000,9,     -999.0,9,  -999.0,9,     -999.0,     -999.0,9,     -999.0,20130926,       0211
33RO20130803,       A16N,     123,          1,         12,         12,2,20130926,       0105,     2.3334,   -25.0010,       3774,   647.2,   5.7608,  34.5530,2,  34.5528,2,    133.5,2,     134,2,   26.00,2,   34.80,2,    0.00,2,    2.31,2,   0.520,2,   0.262,2,   0.061,2,  -999.0,9,  -999.0,9,  -999.0,9, -999.00,-999.0000,9,  -999.00, -999.00,9,  -999.0,9,  -999.0, -999.00,9, -999.00,9,     25.994,2,-999.0000,9,-999.0000,9,-999.0000,9,-999.0000,9,-999.0000,9,-999.0000,9,-999.0000,9,-999.0000,9,-999.0000,9,     -999.0,5,  -999.0,9,     -999.0,     -999.0,9,     -999.0,20130926,       0208
33RO20130803,       A16N,     123,          1,         11,         11,2,20130926,       0105,     2.3334,   -25.0010,       3774,   822.0,   4.8431,  34.5322,2,  34.5320,2,    150.6,2,   150.2,2,   30.40,2,   34.20,2,    0.00,2,    2.31,2,-999.000,9,-999.000,9,-999.000,9,  -999.0,9,  -999.0,9,  -999.0,9, -999.00,-999.0000,9,  -999.00, -999.00,9,  -999.0,9,  -999.0, -999.00,9, -999.00,9,     -999.0,9,-999.0000,9,-999.0000,9,-999.0000,9,-999.0000,9,-999.0000,9,-999.0000,9,-999.0000,9,-999.0000,9,-999.0000,9,     -999.0,9,  -999.0,9,     -999.0,     -999.0,9,     -999.0,20130926,       0204
33RO20130803,       A16N,     123,          1,         10,         10,2,20130926,       0105,     2.3334,   -25.0010,       3774,   972.0,   4.6600,  34.6398,2,  34.6405,2,    152.0,2,     152,2,   30.40,2,   33.10,2,    0.00,2,    2.24,2,-999.000,9,-999.000,9,-999.000,9,  -999.0,9,  -999.0,9,  -999.0,9, -999.00,-999.0000,9,  -999.00, -999.00,9,  -999.0,9,  -999.0, -999.00,9, -999.00,9,     -999.0,9,-999.0000,9,-999.0000,9,-999.0000,9,-999.0000,9,-999.0000,9,-999.0000,9,-999.0000,9,-999.0000,9,-999.0000,9,     -999.0,9,  -999.0,9,     -999.0,     -999.0,9,     -999.0,20130926,       0200
33RO20130803,       A16N,     123,          1,          9,          9,2,20130926,       0105,     2.3334,   -25.0010,       3774,  1122.1,   4.6855,  34.7723,2,  34.7731,2,    168.0,2,   168.2,2,   26.90,2,   30.00,2,    0.00,2,    2.02,2,   0.085,2,   0.043,2,   0.000,2,  2212.4,2,  2312.6,2,  -999.0,9, -999.00,   7.6029,2,    25.00, -999.00,9,  -999.0,9,  -999.0, -999.00,9, -999.00,9,     20.865,2,-999.0000,9,-999.0000,9,-999.0000,9,-999.0000,9,-999.0000,9,-999.0000,9,-999.0000,9,-999.0000,9,-999.0000,9,     -999.0,5,  -999.0,9,     -999.0,     -999.0,9,     -999.0,20130926,       0157
33RO20130803,       A16N,     123,          1,          8,          8,2,20130926,       0105,     2.3334,   -25.0010,       3774,  1270.1,   4.4839,  34.8815,2,  34.8829,2,    192.1,2,   192.5,2,   23.40,2,   26.10,2,    0.00,2,    1.76,2,   0.090,2,   0.046,2,   0.022,2,  -999.0,9,  -999.0,9,  -999.0,9, -999.00,-999.0000,9,  -999.00, -999.00,9,  -999.0,9,  -999.0, -999.00,9, -999.00,9,     18.248,2,-999.0000,9,-999.0000,9,-999.0000,9,-999.0000,9,-999.0000,9,-999.0000,9,-999.0000,9,-999.0000,9,-999.0000,9,     -999.0,5,  -999.0,9,     -999.0,     -999.0,9,     -999.0,20130926,       0153
33RO20130803,       A16N,     123,          1,          7,          7,2,20130926,       0105,     2.3334,   -25.0010,       3774,  1497.7,   4.2952,  34.9516,2,  34.9523,2,    219.0,2,   219.4,2,   19.80,2,   22.50,2,    0.00,2,    1.51,2,-999.000,9,-999.000,9,-999.000,9,  -999.0,9,  -999.0,9,  -999.0,9, -999.00,-999.0000,9,  -999.00, -999.00,9,  -999.0,9,  -999.0, -999.00,9, -999.00,9,     -999.0,9,-999.0000,9,-999.0000,9,-999.0000,9,-999.0000,9,-999.0000,9,-999.0000,9,-999.0000,9,-999.0000,9,-999.0000,9,     -999.0,9,  -999.0,9,     -999.0,     -999.0,9,     -999.0,20130926,       0148
33RO20130803,       A16N,     123,          1,          6,          6,2,20130926,       0105,     2.3334,   -25.0010,       3774,  1696.9,   3.9561,  34.9697,2,  34.9712,2,    237.6,2,   236.7,2,   19.10,2,   20.60,2,    0.00,2,    1.38,2,-999.000,9,-999.000,9,-999.000,9,  2173.0,2,  2317.0,2,  -999.0,9, -999.00,   7.7139,2,    25.00, -999.00,9,  -999.0,9,  -999.0, -999.00,9, -999.00,9,     -999.0,9,-999.0000,9,-999.0000,9,-999.0000,9,-999.0000,9,-999.0000,9,-999.0000,9,-999.0000,9,-999.0000,9,-999.0000,9,     -999.0,9,  -999.0,9,     -999.0,     -999.0,9,     -999.0,20130926,       0144
33RO20130803,       A16N,     123,          1,          5,          5,2,20130926,       0105,     2.3334,   -25.0010,       3774,  2196.6,   3.3959,  34.9564,2,  34.9572,2,    247.5,2,   247.9,2,   23.50,2,   19.90,2,    0.00,2,    1.34,2,-999.000,9,-999.000,9,-999.000,9,  2172.3,2,  2320.6,2,  -999.0,9, -999.00,   7.7244,6,    25.00, -999.00,9,  -999.0,9,  -999.0, -999.00,9, -999.00,9,     -999.0,9,-999.0000,9,-999.0000,9,-999.0000,9,-999.0000,9,-999.0000,9,-999.0000,9,-999.0000,9,-999.0000,9,-999.0000,9,     -999.0,9,  -999.0,9,     -999.0,     -999.0,9,     -999.0,20130926,       0135
33RO20130803,       A16N,     123,          1,          4,          4,2,20130926,       0105,     2.3334,   -25.0010,       3774,  2597.0,   2.9919,  34.9344,2,  34.9355,2,    246.5,2,   245.8,2,   30.40,6,   20.70,6,    0.00,6,    1.39,6,-999.000,9,-999.000,9,-999.000,9,  -999.0,9,  -999.0,9,  -999.0,9, -999.00,-999.0000,9,  -999.00, -999.00,9,  -999.0,9,  -999.0, -999.00,9, -999.00,9,     -999.0,9,-999.0000,9,-999.0000,9,-999.0000,9,-999.0000,9,-999.0000,9,-999.0000,9,-999.0000,9,-999.0000,9,-999.0000,9,     -999.0,9,  -999.0,9,     -999.0,     -999.0,9,     -999.0,20130926,       0128
33RO20130803,       A16N,     123,          1,          3,          3,2,20130926,       0105,     2.3334,   -25.0010,       3774,  2997.0,   2.6668,  34.9120,2,  34.9132,2,    242.3,2,   242.4,2,   38.10,6,   21.50,6,    0.00,6,    1.46,6,   0.022,2,   0.012,2,   0.000,2,  2189.3,2,  2337.3,6,  -999.0,9, -999.00,   7.7180,2,    25.00, -999.00,9,  -999.0,9,  -999.0, -999.00,9, -999.00,9,     13.749,2,-999.0000,9,-999.0000,9,-999.0000,9,-999.0000,9,-999.0000,9,-999.0000,9,-999.0000,9,-999.0000,9,-999.0000,9,     -999.0,5,  -999.0,9,     -999.0,     -999.0,9,     -999.0,20130926,       0120
33RO20130803,       A16N,     123,          1,          2,          2,2,20130926,       0105,     2.3334,   -25.0010,       3774,  3397.2,   2.5126,  34.9015,2,  34.9014,2,    244.8,2,   245.5,2,   40.40,6,   21.50,6,    0.00,6,    1.46,6,   0.033,2,   0.020,2,   0.000,2,  -999.0,9,  -999.0,9,  -999.0,9, -999.00,-999.0000,9,  -999.00, -999.00,9,  -999.0,9,  -999.0, -999.00,9, -999.00,9,     13.677,2,-999.0000,9,-999.0000,9,-999.0000,9,-999.0000,9,-999.0000,9,-999.0000,9,-999.0000,9,-999.0000,9,-999.0000,9,     -999.0,5,  -999.0,9,     -999.0,     -999.0,9,     -999.0,20130926,       0113
33RO20130803,       A16N,     123,          1,          1,          1,2,20130926,       0105,     2.3334,   -25.0010,       3774,  3809.0,   2.3902,  34.8899,2,  34.8900,2,    245.1,2,   245.5,2,   44.20,6,   21.90,6,    0.00,6,    1.48,6,   0.035,2,   0.021,2,   0.000,2,  2196.7,2,  2345.6,2,  -999.0,9, -999.00,   7.7341,2,    25.00, -999.00,9,  -999.0,9,  -999.0, -999.00,9, -999.00,9,     13.683,2,-999.0000,9,-999.0000,9,-999.0000,9,-999.0000,9,-999.0000,9,-999.0000,9,-999.0000,9,-999.0000,9,-999.0000,9,     -999.0,5,  -999.0,9,     -999.0,     -999.0,9,     -999.0,20130926,       0105