BOTTLE,20220815CCHSIOAMB
EXPOCODE,SECT_ID,STNNBR,CASTNO,SAMPNO,BTLNBR,BTLNBR_FLAG_W,DATE,TIME,LATITUDE,LONGITUDE,DEPTH,CTDPRS,CTDTMP,CTDSAL,CTDSAL_FLAG_W,SALNTY,SALNTY_FLAG_W,CTDOXY,CTDOXY_FLAG_W,OXYGEN,OXYGEN_FLAG_W,SILCAT,SILCAT_FLAG_W,NITRAT,NITRAT_FLAG_W,NITRIT,NITRIT_FLAG_W,PHSPHT,PHSPHT_FLAG_W,CFC-11,CFC-11_FLAG_W,CFC-12,CFC-12_FLAG_W,SF6,SF6_FLAG_W,TCARBN,TCARBN_FLAG_W,ALKALI,ALKALI_FLAG_W,PCO2,PCO2_FLAG_W,PCO2TMP,PH_SWS,PH_SWS_FLAG_W,PH_TMP,DELC13,DELC13_FLAG_W,DELC14,DELC14_FLAG_W,C14ERR,DOC,DOC_FLAG_W,TDN,TDN_FLAG_W,N2O,N2O_FLAG_W,CDOM325,CDOM325_FLAG_W,CDOM340,CDOM340_FLAG_W,CDOM380,CDOM380_FLAG_W,CDOM412,CDOM412_FLAG_W,CDOM443,CDOM443_FLAG_W,CDOM490,CDOM490_FLAG_W,CDOM555,CDOM555_FLAG_W,CDOMSL,CDOMSL_FLAG_W,CDOMSN,CDOMSN_FLAG_W,CCL4,CCL4_FLAG_W,14C-DOC,14C-DOC_FLAG_W,14C-DOCERR,13C-DOC,13C-DOC_FLAG_W,13C-DOCERR,BTL_DATE,BTL_TIME
,,,,,,,,,,,METERS,DBAR,ITS-90,PSS-78,,PSS-78,,UMOL/KG,,UMOL/KG,,UMOL/KG,,UMOL/KG,,UMOL/KG,,UMOL/KG,,PMOL/KG,,PMOL/KG,,FMOL/KG,,UMOL/KG,,UMOL/KG,,UATM,,DEG C,,,DEG C,/MILLE,,/MILLE,,/MILLE,UMOL/KG,,UMOL/KG,,NMOL/KG,,1/M,,1/M,,1/M,,1/M,,1/M,,1/M,,1/M,,1/NM,,1/NM,,PMOL/KG,,/MILLE,,/MILLE,/MILLE,,/MILLE,,
33RO20130803,       A16N,     105,          2,         24,         24,2,20130920,       1732,    11.0103,   -28.9923,       5993,     3.2,  28.9412,  36.0172,2,  36.0212,2,    197.8,2,   197.1,2,    1.00,2,    0.00,2,    0.00,2,    0.02,2,   1.483,2,   0.948,2,   1.132,2,  2013.0,6,  2358.7,2,   282.7,2,      20,   7.7098,4,    25.00, -999.00,9,  -999.0,9,  -999.0, -999.00,9, -999.00,9,      6.128,2,-999.0000,9,-999.0000,9,-999.0000,9,-999.0000,9,-999.0000,9,-999.0000,9,-999.0000,9,-999.0000,9,-999.0000,9,     -999.0,5,  -999.0,9,     -999.0,     -999.0,9,     -999.0,20130920,       2004
33RO20130803,       A16N,     105,          2,         23,         23,2,20130920,       1732,    11.0103,   -28.9923,       5993,    32.7,  27.2163,  36.0349,2,  36.0307,2,    206.2,2,   202.6,2,    1.30,2,    0.10,2,    0.01,2,    0.03,2,   1.587,6,   1.002,6,   1.109,6,  2029.4,2,  2358.5,2,   320.7,2,      20,   8.0712,2,    25.00, -999.00,9,  -999.0,9,  -999.0, -999.00,9, -999.00,9,      9.204,6,-999.0000,9,-999.0000,9,-999.0000,9,-999.0000,9,-999.0000,9,-999.0000,9,-999.0000,9,-999.0000,9,-999.0000,9,     -999.0,5,  -999.0,9,     -999.0,     -999.0,9,     -999.0,20130920,       2002
33RO20130803,       A16N,     105,          2,         22,         22,2,20130920,       1732,    11.0103,   -28.9923,       5993,    67.7,  15.0211,  35.5168,2,  35.5041,2,     69.4,2,    66.8,2,    7.10,2,   24.90,2,    0.08,2,    1.53,2,   2.071,2,   1.162,2,   0.683,2,  2221.0,2,  2326.4,2,   964.9,6,      20,   7.6139,2,    25.00, -999.00,9,  -999.0,9,  -999.0, -999.00,9, -999.00,9,     36.320,2,-999.0000,9,-999.0000,9,-999.0000,9,-999.0000,9,-999.0000,9,-999.0000,9,-999.0000,9,-999.0000,9,-999.0000,9,     -999.0,5,  -999.0,9,     -999.0,     -999.0,9,     -999.0,20130920,       1959
33RO20130803,       A16N,     105,          2,         21,         21,2,20130920,       1732,    11.0103,   -28.9923,       5993,    93.3,  13.8950,  35.4157,2,  35.4158,2,     69.3,2,    72.8,2,    8.10,2,   25.50,2,    0.02,2,    1.59,2,   2.062,2,   1.144,2,   0.592,2,  2218.0,2,  2323.4,2,   983.4,2,      20,   7.6085,2,    25.00, -999.00,9,  -999.0,9,  -999.0, -999.00,9, -999.00,9,     36.340,2,-999.0000,9,-999.0000,9,-999.0000,9,-999.0000,9,-999.0000,9,-999.0000,9,-999.0000,9,-999.0000,9,-999.0000,9,     -999.0,5,  -999.0,9,     -999.0,     -999.0,9,     -999.0,20130920,       1958
33RO20130803,       A16N,     105,          2,         20,         20,2,20130920,       1732,    11.0103,   -28.9923,       5993,   182.7,  11.9043,  35.1787,2,  35.1770,2,     92.7,2,    92.1,2,   10.20,2,   26.30,2,    0.01,2,    1.66,2,   1.885,2,   1.013,2,   0.453,2,  2211.7,2,  2313.9,6,   995.4,2,      20,   7.6075,2,    25.00, -999.00,9,  -999.0,9,  -999.0, -999.00,9, -999.00,9,     33.495,2,-999.0000,9,-999.0000,9,-999.0000,9,-999.0000,9,-999.0000,9,-999.0000,9,-999.0000,9,-999.0000,9,-999.0000,9,     -999.0,5,  -999.0,9,     -999.0,     -999.0,9,     -999.0,20130920,       1954
33RO20130803,       A16N,     105,          2,         19,         19,2,20130920,       1732,    11.0103,   -28.9923,       5993,   260.6,  11.0156,  35.0947,2,  35.0932,2,     83.1,2,    82.4,2,   11.80,2,   29.00,2,    0.01,2,    1.81,2,   1.573,2,   0.849,2,   0.357,2,  2222.4,2,  2308.7,2,  1109.8,2,      20,   7.5626,2,    25.00, -999.00,9,  -999.0,9,  -999.0, -999.00,9, -999.00,9,     36.705,2,-999.0000,9,-999.0000,9,-999.0000,9,-999.0000,9,-999.0000,9,-999.0000,9,-999.0000,9,-999.0000,9,-999.0000,9,     -999.0,5,  -999.0,9,     -999.0,     -999.0,9,     -999.0,20130920,       1951
33RO20130803,       A16N,     105,          2,         18,         18,2,20130920,       1732,    11.0103,   -28.9923,       5993,   335.9,  10.5556,  35.1171,2,  35.1144,2,     50.2,2,    50.9,2,   13.50,2,   33.20,2,    0.00,2,    2.01,2,   1.089,2,   0.591,2,   0.233,2,  2245.2,2,  2309.6,2,  1316.5,2,      20,   7.4911,2,    25.00, -999.00,9,  -999.0,9,  -999.0, -999.00,9, -999.00,9,     42.656,2,-999.0000,9,-999.0000,9,-999.0000,9,-999.0000,9,-999.0000,9,-999.0000,9,-999.0000,9,-999.0000,9,-999.0000,9,     -999.0,5,  -999.0,9,     -999.0,     -999.0,9,     -999.0,20130920,       1948
33RO20130803,       A16N,     105,          2,         17,         17,2,20130920,       1732,    11.0103,   -28.9923,       5993,   447.6,   9.4105,  35.0312,2,  35.0295,2,     46.8,2,    47.8,2,   16.20,2,   35.80,2,    0.00,2,    2.18,2,   0.584,2,   0.329,2,   0.147,2,  2251.8,6,  2306.6,2,  1396.6,2,      20,   7.4637,2,    25.00, -999.00,9,  -999.0,9,  -999.0, -999.00,9, -999.00,9,     40.262,2,-999.0000,9,-999.0000,9,-999.0000,9,-999.0000,9,-999.0000,9,-999.0000,9,-999.0000,9,-999.0000,9,-999.0000,9,     -999.0,5,  -999.0,9,     -999.0,     -999.0,9,     -999.0,20130920,       1944
33RO20130803,       A16N,     105,          2,         16,         16,2,20130920,       1732,    11.0103,   -28.9923,       5993,   547.8,   8.1083,  34.8883,2,  34.8886,2,     63.0,2,    66.6,2,   19.20,2,   36.30,2,    0.00,2,    2.28,2,   0.329,6,   0.174,6,   0.090,6,  2246.0,2,  2298.9,3,  1360.8,2,      20,   7.4730,2,    25.00, -999.00,9,  -999.0,9,  -999.0, -999.00,9, -999.00,9,     35.271,6,-999.0000,9,-999.0000,9,-999.0000,9,-999.0000,9,-999.0000,9,-999.0000,9,-999.0000,9,-999.0000,9,-999.0000,9,     -999.0,5,  -999.0,9,     -999.0,     -999.0,9,     -999.0,20130920,       1941
33RO20130803,       A16N,     105,          2,         15,         15,2,20130920,       1732,    11.0103,   -28.9923,       5993,   722.5,   6.3792,  34.7280,2,  34.7278,2,     97.8,2,    97.7,2,   24.10,2,   36.10,2,    0.00,2,    2.34,2,   0.107,2,   0.059,2,   0.000,2,  2239.3,2,  2307.5,2,  1315.8,2,      20,   7.4959,2,    25.00, -999.00,9,  -999.0,9,  -999.0, -999.00,9, -999.00,9,     29.427,2,-999.0000,9,-999.0000,9,-999.0000,9,-999.0000,9,-999.0000,9,-999.0000,9,-999.0000,9,-999.0000,9,-999.0000,9,     -999.0,5,  -999.0,9,     -999.0,     -999.0,9,     -999.0,20130920,       1936
33RO20130803,       A16N,     105,          2,         14,         14,2,20130920,       1732,    11.0103,   -28.9923,       5993,   872.0,   5.5554,  34.7007,2,  34.7002,2,    113.9,2,   113.9,2,   26.90,2,   35.30,2,    0.00,2,    2.34,2,   0.027,2,   0.015,2,   0.000,2,  2235.3,2,  2312.8,2,  1262.3,2,      20,   7.5103,6,    25.00, -999.00,9,  -999.0,9,  -999.0, -999.00,9, -999.00,9,     27.052,2,-999.0000,9,-999.0000,9,-999.0000,9,-999.0000,9,-999.0000,9,-999.0000,9,-999.0000,9,-999.0000,9,-999.0000,9,     -999.0,5,  -999.0,9,     -999.0,     -999.0,9,     -999.0,20130920,       1932
33RO20130803,       A16N,     105,          2,         13,         13,2,20130920,       1732,    11.0103,   -28.9923,       5993,  1023.1,   5.2493,  34.7695,2,  34.7677,2,    137.1,2,   136.6,2,   26.20,2,   32.50,2,    0.00,2,    2.17,2,   0.021,2,   0.012,2,   0.000,2,  2224.5,2,  2309.7,2,  1114.4,2,      20,   7.5524,2,    25.00, -999.00,9,  -999.0,9,  -999.0, -999.00,9, -999.00,9,     23.827,2,-999.0000,9,-999.0000,9,-999.0000,9,-999.0000,9,-999.0000,9,-999.0000,9,-999.0000,9,-999.0000,9,-999.0000,9,     -999.0,5,  -999.0,9,     -999.0,     -999.0,9,     -999.0,20130920,       1927
33RO20130803,       A16N,     105,          2,         12,         12,2,20130920,       1732,    11.0103,   -28.9923,       5993,  1172.0,   4.9928,  34.8727,2,  34.8725,2,    162.6,2,     162,2,   23.90,2,   28.90,2,    0.00,2,    1.93,2,   0.036,2,   0.019,2,   0.000,2,  2211.7,2,  2315.0,6,   977.8,2,      20,   7.6049,2,    25.00, -999.00,9,  -999.0,9,  -999.0, -999.00,9, -999.00,9,     20.705,2,-999.0000,9,-999.0000,9,-999.0000,9,-999.0000,9,-999.0000,9,-999.0000,9,-999.0000,9,-999.0000,9,-999.0000,9,     -999.0,5,  -999.0,9,     -999.0,     -999.0,9,     -999.0,20130920,       1922
33RO20130803,       A16N,     105,          2,         11,         11,2,20130920,       1732,    11.0103,   -28.9923,       5993,  1397.5,   4.5645,  34.9503,2,  34.9495,2,    200.3,2,   200.4,2,   20.40,2,   24.30,2,    0.00,2,    1.62,2,   0.087,2,   0.045,2,   0.000,2,  2192.2,2,  2317.0,2,   846.6,2,      20,   7.6668,2,    25.00, -999.00,9,  -999.0,9,  -999.0, -999.00,9, -999.00,9,     17.214,2,-999.0000,9,-999.0000,9,-999.0000,9,-999.0000,9,-999.0000,9,-999.0000,9,-999.0000,9,-999.0000,9,-999.0000,9,     -999.0,5,  -999.0,9,     -999.0,     -999.0,9,     -999.0,20130920,       1917
33RO20130803,       A16N,     105,          2,         10,         10,2,20130920,       1732,    11.0103,   -28.9923,       5993,  1747.1,   3.9299,  34.9753,2,  34.9754,2,    236.0,2,   236.2,2,   18.60,2,   20.80,2,    0.00,2,    1.38,2,   0.116,2,   0.060,2,   0.000,2,  2174.0,2,  2316.7,2,   752.9,2,      20,   7.7154,2,    25.00, -999.00,9,  -999.0,9,  -999.0, -999.00,9, -999.00,9,     14.386,2,-999.0000,9,-999.0000,9,-999.0000,9,-999.0000,9,-999.0000,9,-999.0000,9,-999.0000,9,-999.0000,9,-999.0000,9,     -999.0,5,  -999.0,9,     -999.0,     -999.0,9,     -999.0,20130920,       1909
33RO20130803,       A16N,     105,          2,          9,          9,2,20130920,       1732,    11.0103,   -28.9923,       5993,  2048.0,   3.5261,  34.9651,2,  34.9644,2,    243.9,2,   244.1,2,   21.10,2,   20.30,2,    0.00,2,    1.35,2,   0.043,2,   0.024,2,   0.000,2,  2172.3,2,  2319.1,2,   735.2,2,      20,   7.7263,2,    25.00, -999.00,9,  -999.0,9,  -999.0, -999.00,9, -999.00,9,     13.776,2,-999.0000,9,-999.0000,9,-999.0000,9,-999.0000,9,-999.0000,9,-999.0000,9,-999.0000,9,-999.0000,9,-999.0000,9,     -999.0,5,  -999.0,9,     -999.0,     -999.0,9,     -999.0,20130920,       1903
33RO20130803,       A16N,     105,          2,          8,          8,2,20130920,       1732,    11.0103,   -28.9923,       5993,  2497.7,   3.1210,  34.9485,2,  34.9471,2,    244.0,2,   244.4,2,   26.70,2,   20.70,2,    0.00,2,    1.38,2,   0.008,2,   0.006,2,   0.000,2,  2178.0,2,  2326.9,2,   735.1,2,      20,   7.7252,2,    25.00, -999.00,9,  -999.0,9,  -999.0, -999.00,9, -999.00,9,     13.624,2,-999.0000,9,-999.0000,9,-999.0000,9,-999.0000,9,-999.0000,9,-999.0000,9,-999.0000,9,-999.0000,9,-999.0000,9,     -999.0,5,  -999.0,9,     -999.0,     -999.0,9,     -999.0,20130920,       1854
33RO20130803,       A16N,     105,          2,          7,          7,2,20130920,       1732,    11.0103,   -28.9923,       5993,  2897.7,   2.8220,  34.9310,2,  34.9310,2,    244.2,2,   244.7,2,   31.80,2,   21.00,2,    0.00,2,    1.41,2,   0.004,2,   0.002,2,   0.000,2,  2183.1,2,  2331.2,2,   739.3,2,      20,   7.7241,2,    25.00, -999.00,9,  -999.0,9,  -999.0, -999.00,9, -999.00,9,     13.650,2,-999.0000,9,-999.0000,9,-999.0000,9,-999.0000,9,-999.0000,9,-999.0000,9,-999.0000,9,-999.0000,9,-999.0000,9,     -999.0,5,  -999.0,9,     -999.0,     -999.0,9,     -999.0,20130920,       1846
33RO20130803,       A16N,     105,          2,          6,          6,2,20130920,       1732,    11.0103,   -28.9923,       5993,  3447.2,   2.5793,  34.9134,2,  34.9131,2,    241.1,2,   241.9,2,   38.50,2,   21.70,2,    0.00,2,    1.46,2,   0.001,2,   0.002,2,   0.000,2,  2193.2,2,  2339.6,6,   746.7,2,      20,   7.7237,2,    25.00, -999.00,9,  -999.0,9,  -999.0, -999.00,9, -999.00,9,     13.578,2,-999.0000,9,-999.0000,9,-999.0000,9,-999.0000,9,-999.0000,9,-999.0000,9,-999.0000,9,-999.0000,9,-999.0000,9,     -999.0,5,  -999.0,9,     -999.0,     -999.0,9,     -999.0,20130920,       1835
33RO20130803,       A16N,     105,          2,          5,          5,2,20130920,       1732,    11.0103,   -28.9923,       5993,  3947.5,   2.4075,  34.8946,2,  34.8938,2,    242.6,2,   244.7,2,   42.20,2,   21.90,2,    0.00,2,    1.46,2,   0.005,2,   0.006,2,   0.000,2,  2195.4,2,  2342.2,2,   755.6,2,      20,   7.7222,2,    25.00, -999.00,9,  -999.0,9,  -999.0, -999.00,9, -999.00,9,     13.753,2,-999.0000,9,-999.0000,9,-999.0000,9,-999.0000,9,-999.0000,9,-999.0000,9,-999.0000,9,-999.0000,9,-999.0000,9,     -999.0,5,  -999.0,9,     -999.0,     -999.0,9,     -999.0,20130920,       1825
33RO20130803,       A16N,     105,          2,          4,          4,2,20130920,       1732,    11.0103,   -28.9923,       5993,  4447.9,   2.3255,  34.8834,2,  34.8824,2,    240.7,2,   242.6,2,   46.60,6,   22.40,6,    0.00,6,    1.50,6,   0.010,2,   0.007,2,   0.000,2,  2202.1,2,  2349.6,2,   768.0,2,      20,   7.7179,2,    25.00, -999.00,9,  -999.0,9,  -999.0, -999.00,9, -999.00,9,     13.853,2,-999.0000,9,-999.0000,9,-999.0000,9,-999.0000,9,-999.0000,9,-999.0000,9,-999.0000,9,-999.0000,9,-999.0000,9,     -999.0,5,  -999.0,9,     -999.0,     -999.0,9,     -999.0,20130920,       1811
33RO20130803,       A16N,     105,          2,          3,          3,2,20130920,       1732,    11.0103,   -28.9923,       5993,  4946.9,   2.2770,  34.8733,2,  34.8727,2,    242.7,2,     244,2,   49.20,6,   22.60,6,    0.00,6,    1.52,6,   0.031,2,   0.018,2,   0.000,2,  2204.4,2,  2350.9,2,   767.4,2,      20,-999.0000,5,  -999.00, -999.00,9,  -999.0,9,  -999.0, -999.00,9, -999.00,9,     14.021,2,-999.0000,9,-999.0000,9,-999.0000,9,-999.0000,9,-999.0000,9,-999.0000,9,-999.0000,9,-999.0000,9,-999.0000,9,     -999.0,5,  -999.0,9,     -999.0,     -999.0,9,     -999.0,20130920,       1800
33RO20130803,       A16N,     105,          2,          2,          2,2,20130920,       1732,    11.0103,   -28.9923,       5993,  5477.1,   2.2980,  34.8681,2,  34.8675,2,    245.5,2,   245.3,2,   49.90,6,   22.50,6,    0.00,6,    1.52,6,   0.068,2,   0.038,2,   0.026,2,  2202.2,2,  2348.1,2,   769.3,2,      20,   7.7157,2,    25.00, -999.00,9,  -999.0,9,  -999.0, -999.00,9, -999.00,9,     14.120,2,-999.0000,9,-999.0000,9,-999.0000,9,-999.0000,9,-999.0000,9,-999.0000,9,-999.0000,9,-999.0000,9,-999.0000,9,     -999.0,5,  -999.0,9,     -999.0,     -999.0,9,     -999.0,20130920,       1749
33RO20130803,       A16N,     105,          2,          1,          1,2,20130920,       1732,    11.0103,   -28.9923,       5993,  6066.5,   2.3639,  34.8659,2,  34.8667,2,    246.7,2,   245.3,2,   50.00,6,   22.50,6,    0.00,6,    1.52,6,   0.093,6,   0.050,6,   0.033,6,  2203.8,6,  2348.6,2,   758.0,2,      20,   7.7264,2,    25.00, -999.00,9,  -999.0,9,  -999.0, -999.00,9, -999.00,9,     14.139,6,-999.0000,9,-999.0000,9,-999.0000,9,-999.0000,9,-999.0000,9,-999.0000,9,-999.0000,9,-999.0000,9,-999.0000,9,     -999.0,5,  -999.0,9,     -999.0,     -999.0,9,     -999.0,20130920,       1732