BOTTLE,20220815CCHSIOAMB
EXPOCODE,SECT_ID,STNNBR,CASTNO,SAMPNO,BTLNBR,BTLNBR_FLAG_W,DATE,TIME,LATITUDE,LONGITUDE,DEPTH,CTDPRS,CTDTMP,CTDSAL,CTDSAL_FLAG_W,SALNTY,SALNTY_FLAG_W,CTDOXY,CTDOXY_FLAG_W,OXYGEN,OXYGEN_FLAG_W,SILCAT,SILCAT_FLAG_W,NITRAT,NITRAT_FLAG_W,NITRIT,NITRIT_FLAG_W,PHSPHT,PHSPHT_FLAG_W,CFC-11,CFC-11_FLAG_W,CFC-12,CFC-12_FLAG_W,SF6,SF6_FLAG_W,TCARBN,TCARBN_FLAG_W,ALKALI,ALKALI_FLAG_W,PCO2,PCO2_FLAG_W,PCO2TMP,PH_SWS,PH_SWS_FLAG_W,PH_TMP,DELC13,DELC13_FLAG_W,DELC14,DELC14_FLAG_W,C14ERR,DOC,DOC_FLAG_W,TDN,TDN_FLAG_W,N2O,N2O_FLAG_W,CDOM325,CDOM325_FLAG_W,CDOM340,CDOM340_FLAG_W,CDOM380,CDOM380_FLAG_W,CDOM412,CDOM412_FLAG_W,CDOM443,CDOM443_FLAG_W,CDOM490,CDOM490_FLAG_W,CDOM555,CDOM555_FLAG_W,CDOMSL,CDOMSL_FLAG_W,CDOMSN,CDOMSN_FLAG_W,CCL4,CCL4_FLAG_W,14C-DOC,14C-DOC_FLAG_W,14C-DOCERR,13C-DOC,13C-DOC_FLAG_W,13C-DOCERR,BTL_DATE,BTL_TIME
,,,,,,,,,,,METERS,DBAR,ITS-90,PSS-78,,PSS-78,,UMOL/KG,,UMOL/KG,,UMOL/KG,,UMOL/KG,,UMOL/KG,,UMOL/KG,,PMOL/KG,,PMOL/KG,,FMOL/KG,,UMOL/KG,,UMOL/KG,,UATM,,DEG C,,,DEG C,/MILLE,,/MILLE,,/MILLE,UMOL/KG,,UMOL/KG,,NMOL/KG,,1/M,,1/M,,1/M,,1/M,,1/M,,1/M,,1/M,,1/NM,,1/NM,,PMOL/KG,,/MILLE,,/MILLE,/MILLE,,/MILLE,,
33RO20130803,       A16N,      50,          1,         24,         24,2,20130815,       2116,    40.5002,   -20.0015,       4929,     2.3,  21.7654,  36.1604,2,  36.1601,2,    220.7,2,   222.5,2,    0.40,2,    0.10,2,    0.00,2,    0.02,2,   2.062,2,   1.271,2,   1.528,2,  2095.6,6,  2373.0,2,   387.9,2,      20,   7.9796,2,    25.00,    1.13,2,    51.6,2,     0.2,   65.99,2,    5.39,2,      7.205,2,-999.0000,9,-999.0000,9,-999.0000,9,-999.0000,9,-999.0000,9,-999.0000,9,-999.0000,9,-999.0000,9,-999.0000,9,     -999.0,5,  -999.0,9,     -999.0,     -999.0,9,     -999.0,20130815,       2308
33RO20130803,       A16N,      50,          1,         23,         23,2,20130815,       2116,    40.5002,   -20.0015,       4929,    31.6,  20.9984,  36.1448,2,-999.0000,9,    223.8,2,   228.5,2,    0.40,2,    0.10,2,    0.00,2,    0.02,2,   2.138,2,   1.304,2,   1.503,2,  2095.7,2,  2372.6,6,   389.6,2,      20,   7.9775,2,    25.00,    1.32,2,    54.0,2,     0.3,   64.67,2,    5.56,2,      7.363,2,-999.0000,9,-999.0000,9,-999.0000,9,-999.0000,9,-999.0000,9,-999.0000,9,-999.0000,9,-999.0000,9,-999.0000,9,     -999.0,5,  -999.0,9,     -999.0,     -999.0,9,     -999.0,20130815,       2306
33RO20130803,       A16N,      50,          1,         22,         22,2,20130815,       2116,    40.5002,   -20.0015,       4929,    48.7,  18.5760,  36.0921,2,  36.0807,2,    244.8,2,   248.1,2,    0.40,2,    0.10,2,    0.00,2,    0.02,2,-999.000,9,-999.000,9,-999.000,9,  2093.8,2,  2369.2,2,   393.9,2,      20,   7.9690,2,    25.00, -999.00,9,  -999.0,9,  -999.0,   62.99,2,    3.86,2,     -999.0,9,-999.0000,9,-999.0000,9,-999.0000,9,-999.0000,9,-999.0000,9,-999.0000,9,-999.0000,9,-999.0000,9,-999.0000,9,     -999.0,9,  -999.0,9,     -999.0,     -999.0,9,     -999.0,20130815,       2304
33RO20130803,       A16N,      50,          1,         21,         21,2,20130815,       2116,    40.5002,   -20.0015,       4929,    65.6,  16.5874,  36.0309,2,  36.0278,2,    256.2,2,   253.2,2,    0.50,2,    0.10,2,    0.00,2,    0.04,2,   2.609,6,   1.559,6,   1.776,6,  -999.0,9,  -999.0,9,  -999.0,9, -999.00,-999.0000,9,  -999.00,    1.13,2,    54.7,2,     0.3,   60.72,2,    3.72,2,      8.531,6,-999.0000,9,-999.0000,9,-999.0000,9,-999.0000,9,-999.0000,9,-999.0000,9,-999.0000,9,-999.0000,9,-999.0000,9,     -999.0,5,  -999.0,9,     -999.0,     -999.0,9,     -999.0,20130815,       2303
33RO20130803,       A16N,      50,          1,         20,         20,2,20130815,       2116,    40.5002,   -20.0015,       4929,   111.5,  15.0282,  35.9726,2,  35.9551,2,    233.2,2,   231.1,2,    1.40,2,    3.70,2,    0.03,2,    0.24,2,-999.000,9,-999.000,9,-999.000,9,  2120.3,2,  2360.5,2,   467.5,2,      20,   7.9078,2,    25.00, -999.00,9,    52.5,2,     0.2,   55.51,2,    7.42,2,     -999.0,9,-999.0000,9,-999.0000,9,-999.0000,9,-999.0000,9,-999.0000,9,-999.0000,9,-999.0000,9,-999.0000,9,-999.0000,9,     -999.0,9,  -999.0,9,     -999.0,     -999.0,9,     -999.0,20130815,       2300
33RO20130803,       A16N,      50,          1,         19,         19,2,20130815,       2116,    40.5002,   -20.0015,       4929,   173.3,  14.1914,  35.8561,2,  35.8529,2,    232.0,2,   231.3,2,    1.80,2,    5.50,2,    0.01,2,    0.34,2,   2.750,2,   1.630,2,   1.770,2,  -999.0,9,  -999.0,9,  -999.0,9, -999.00,-999.0000,9,  -999.00,    0.70,2,    52.8,2,     0.2,    53.5,2,       9,2,      9.450,2,-999.0000,9,-999.0000,9,-999.0000,9,-999.0000,9,-999.0000,9,-999.0000,9,-999.0000,9,-999.0000,9,-999.0000,9,     -999.0,5,  -999.0,9,     -999.0,     -999.0,9,     -999.0,20130815,       2258
33RO20130803,       A16N,      50,          1,         18,         18,2,20130815,       2116,    40.5002,   -20.0015,       4929,   247.6,  13.7469,  35.8375,2,  35.8330,2,    223.5,2,   220.3,2,    2.70,2,    7.80,2,    0.01,2,    0.48,2,-999.000,9,-999.000,9,-999.000,9,  2137.2,2,  2349.4,2,   524.4,6,      20,   7.8640,2,    25.00,    0.67,2,    56.4,2,     0.2,   50.79,2,   11.18,2,     -999.0,9,-999.0000,9,-999.0000,9,-999.0000,9,-999.0000,9,-999.0000,9,-999.0000,9,-999.0000,9,-999.0000,9,-999.0000,9,     -999.0,9,  -999.0,9,     -999.0,     -999.0,9,     -999.0,20130815,       2255
33RO20130803,       A16N,      50,          1,         17,         17,2,20130815,       2116,    40.5002,   -20.0015,       4929,   262.1,  13.6198,  35.8308,2,  35.8245,2,    218.8,2,   217.2,2,    2.90,2,    8.50,2,    0.01,2,    0.52,2,-999.000,9,-999.000,9,-999.000,9,  -999.0,9,  -999.0,9,  -999.0,9, -999.00,-999.0000,9,  -999.00,    0.61,2,    54.3,2,     0.2,   49.67,2,   11.17,2,     -999.0,9,-999.0000,9,-999.0000,9,-999.0000,9,-999.0000,9,-999.0000,9,-999.0000,9,-999.0000,9,-999.0000,9,-999.0000,9,     -999.0,9,  -999.0,9,     -999.0,     -999.0,9,     -999.0,20130815,       2253
33RO20130803,       A16N,      50,          1,         16,         16,2,20130815,       2116,    40.5002,   -20.0015,       4929,   449.2,  12.2758,  35.6849,2,  35.6833,2,    210.7,2,   211.6,2,    4.20,2,   11.80,2,    0.00,2,    0.71,2,   2.866,2,   1.645,2,   1.480,2,  2153.8,2,  2340.5,2,   599.1,2,      20,   7.8136,2,    25.00,    0.56,2,    46.4,2,     0.2,   48.54,2,   14.33,2,     12.398,2,-999.0000,9,-999.0000,9,-999.0000,9,-999.0000,9,-999.0000,9,-999.0000,9,-999.0000,9,-999.0000,9,-999.0000,9,     -999.0,5,  -999.0,9,     -999.0,     -999.0,9,     -999.0,20130815,       2249
33RO20130803,       A16N,      50,          1,         15,         15,2,20130815,       2116,    40.5002,   -20.0015,       4929,   548.9,  11.7383,  35.6281,2,  35.6257,2,    210.6,2,   210.4,2,    4.80,2,   12.80,2,    0.00,2,    0.78,2,-999.000,9,-999.000,9,-999.000,9,  -999.0,9,  -999.0,9,  -999.0,9, -999.00,-999.0000,9,  -999.00,    0.62,2,    44.8,2,     0.2,   47.35,2,   15.14,2,     -999.0,9,-999.0000,9,-999.0000,9,-999.0000,9,-999.0000,9,-999.0000,9,-999.0000,9,-999.0000,9,-999.0000,9,-999.0000,9,     -999.0,9,  -999.0,9,     -999.0,     -999.0,9,     -999.0,20130815,       2246
33RO20130803,       A16N,      50,          1,         14,         14,2,20130815,       2116,    40.5002,   -20.0015,       4929,   723.6,  10.7045,  35.5472,2,  35.5477,2,    188.4,2,   188.3,2,    7.80,2,   16.40,2,    0.00,2,    1.01,2,-999.000,9,-999.000,9,-999.000,9,  2173.8,2,  2337.7,6,   691.8,2,      20,   7.7565,2,    25.00,    0.59,2,    26.4,2,     0.2,   46.16,2,   18.65,2,     -999.0,9,-999.0000,9,-999.0000,9,-999.0000,9,-999.0000,9,-999.0000,9,-999.0000,9,-999.0000,9,-999.0000,9,-999.0000,9,     -999.0,9,  -999.0,9,     -999.0,     -999.0,9,     -999.0,20130815,       2242
33RO20130803,       A16N,      50,          1,         13,         13,2,20130815,       2116,    40.5002,   -20.0015,       4929,   866.8,   9.9096,  35.5647,2,  35.5760,2,    181.8,2,   181.1,2,    9.70,2,   18.00,2,    0.00,2,    1.12,2,   2.109,2,   1.123,2,   0.653,2,  2185.6,6,  2347.6,2,   722.4,2,      20,   7.7424,2,    25.00,    0.68,2,     7.5,2,     0.2,   45.65,2,   20.74,2,     15.925,2,-999.0000,9,-999.0000,9,-999.0000,9,-999.0000,9,-999.0000,9,-999.0000,9,-999.0000,9,-999.0000,9,-999.0000,9,     -999.0,5,  -999.0,9,     -999.0,     -999.0,9,     -999.0,20130815,       2238
33RO20130803,       A16N,      50,          1,         12,         12,2,20130815,       2116,    40.5002,   -20.0015,       4929,  1013.3,   9.2223,  35.6392,2,  35.6381,2,    188.4,2,   189.2,2,   10.50,2,   18.00,2,    0.00,2,    1.12,2,   1.974,2,   1.043,2,   0.568,2,  2191.4,2,  2353.8,2,   722.0,6,      20,   7.7431,6,    25.00,    0.75,2,    -2.7,2,     0.2,   44.63,2,   19.99,2,     15.486,2,-999.0000,9,-999.0000,9,-999.0000,9,-999.0000,9,-999.0000,9,-999.0000,9,-999.0000,9,-999.0000,9,-999.0000,9,     -999.0,5,  -999.0,9,     -999.0,     -999.0,9,     -999.0,20130815,       2234
33RO20130803,       A16N,      50,          1,         11,         11,2,20130815,       2116,    40.5002,   -20.0015,       4929,  1173.7,   8.4269,  35.6180,2,  35.6158,2,    199.7,2,     200,2,   11.00,2,   17.80,2,    0.00,2,    1.12,2,-999.000,9,-999.000,9,-999.000,9,  -999.0,9,  -999.0,9,  -999.0,9, -999.00,-999.0000,9,  -999.00,    0.77,2,    -9.9,2,     0.2,    43.9,2,    20.3,2,     -999.0,9,-999.0000,9,-999.0000,9,-999.0000,9,-999.0000,9,-999.0000,9,-999.0000,9,-999.0000,9,-999.0000,9,-999.0000,9,     -999.0,9,  -999.0,9,     -999.0,     -999.0,9,     -999.0,20130815,       2230
33RO20130803,       A16N,      50,          1,         10,         10,2,20130815,       2116,    40.5002,   -20.0015,       4929,  1398.9,   6.4539,  35.3506,2,  35.3480,2,    225.4,2,   225.3,2,   11.70,6,   17.90,6,    0.00,6,    1.14,6,   2.368,2,   1.206,2,   0.578,2,  -999.0,9,  -999.0,9,  -999.0,9, -999.00,-999.0000,9,  -999.00,    0.81,2,   -14.6,2,     0.2,   42.99,2,   20.02,2,     14.697,2,-999.0000,9,-999.0000,9,-999.0000,9,-999.0000,9,-999.0000,9,-999.0000,9,-999.0000,9,-999.0000,9,-999.0000,9,     -999.0,5,  -999.0,9,     -999.0,     -999.0,9,     -999.0,20130815,       2225
33RO20130803,       A16N,      50,          1,          9,          9,2,20130815,       2116,    40.5002,   -20.0015,       4929,  1663.4,   5.0429,  35.1548,2,  35.1553,2,    244.4,2,   244.7,2,   12.50,6,   17.90,6,    0.00,6,    1.16,6,   2.352,2,   1.170,2,   0.494,2,  -999.0,9,  -999.0,9,  -999.0,9, -999.00,-999.0000,9,  -999.00, -999.00,9,   -18.1,2,     0.2,   42.54,2,   20.13,2,     14.176,2,-999.0000,9,-999.0000,9,-999.0000,9,-999.0000,9,-999.0000,9,-999.0000,9,-999.0000,9,-999.0000,9,-999.0000,9,     -999.0,5,  -999.0,9,     -999.0,     -999.0,9,     -999.0,20130815,       2220
33RO20130803,       A16N,      50,          1,          8,          8,2,20130815,       2116,    40.5002,   -20.0015,       4929,  2099.2,   3.7135,  34.9811,2,  34.9807,2,    263.2,2,   262.5,2,   14.80,6,   17.90,6,    0.00,6,    1.17,6,-999.000,9,-999.000,9,-999.000,9,  2165.8,2,  2317.1,2,   750.4,2,      20,   7.7229,2,    25.00,    0.90,2,   -29.1,2,     0.2,   41.88,2,   20.27,2,     -999.0,9,-999.0000,9,-999.0000,9,-999.0000,9,-999.0000,9,-999.0000,9,-999.0000,9,-999.0000,9,-999.0000,9,-999.0000,9,     -999.0,9,  -999.0,9,     -999.0,     -999.0,9,     -999.0,20130815,       2211
33RO20130803,       A16N,      50,          1,          7,          7,2,20130815,       2116,    40.5002,   -20.0015,       4929,  2498.2,   3.2470,  34.9563,2,  34.9551,2,    261.7,2,   259.5,2,   20.10,6,   18.40,6,    0.00,6,    1.21,6,   1.286,6,   0.627,6,   0.217,6,  -999.0,9,  -999.0,9,  -999.0,9, -999.00,-999.0000,9,  -999.00,    0.87,2,   -41.8,2,     0.2,   41.81,2,   20.77,2,     13.342,6,-999.0000,9,-999.0000,9,-999.0000,9,-999.0000,9,-999.0000,9,-999.0000,9,-999.0000,9,-999.0000,9,-999.0000,9,     -999.0,5,  -999.0,9,     -999.0,     -999.0,9,     -999.0,20130815,       2204
33RO20130803,       A16N,      50,          1,          6,          6,2,20130815,       2116,    40.5002,   -20.0015,       4929,  2898.7,   2.9285,  34.9455,2,  34.9451,2,    254.3,2,   253.9,2,   27.60,2,   19.40,2,    0.00,2,    1.30,2,-999.000,9,-999.000,9,-999.000,9,  -999.0,9,  -999.0,9,  -999.0,9, -999.00,-999.0000,9,  -999.00,    0.99,2,   -73.8,2,     0.2,   42.11,2,   21.81,2,     -999.0,9,-999.0000,9,-999.0000,9,-999.0000,9,-999.0000,9,-999.0000,9,-999.0000,9,-999.0000,9,-999.0000,9,-999.0000,9,     -999.0,9,  -999.0,9,     -999.0,     -999.0,9,     -999.0,20130815,       2156
33RO20130803,       A16N,      50,          1,          5,          5,2,20130815,       2116,    40.5002,   -20.0015,       4929,  3299.3,   2.7078,  34.9304,2,  34.9291,2,    248.3,2,   247.6,2,   34.90,2,   20.50,2,    0.00,2,    1.38,2,   0.537,2,   0.263,2,   0.105,2,  -999.0,9,  -999.0,9,  -999.0,9, -999.00,-999.0000,9,  -999.00,    0.94,2,   -98.6,2,     0.2,   41.85,2,   23.11,2,     13.616,2,-999.0000,9,-999.0000,9,-999.0000,9,-999.0000,9,-999.0000,9,-999.0000,9,-999.0000,9,-999.0000,9,-999.0000,9,     -999.0,5,  -999.0,9,     -999.0,     -999.0,9,     -999.0,20130815,       2149
33RO20130803,       A16N,      50,          1,          4,          4,2,20130815,       2116,    40.5002,   -20.0015,       4929,  3823.5,   2.5862,  34.9168,2,  34.9156,2,    241.8,2,     242,2,   41.60,2,   21.70,2,    0.00,2,    1.45,2,   0.173,2,   0.086,2,   0.077,2,  2197.9,2,  2346.2,6,   755.9,2,      20,   7.7247,2,    25.00,    0.98,6,  -110.9,6,     0.8,    41.8,2,   23.98,2,     13.719,2,-999.0000,9,-999.0000,9,-999.0000,9,-999.0000,9,-999.0000,9,-999.0000,9,-999.0000,9,-999.0000,9,-999.0000,9,     -999.0,5,  -999.0,9,     -999.0,     -999.0,9,     -999.0,20130815,       2139
33RO20130803,       A16N,      50,          1,          3,          3,2,20130815,       2116,    40.5002,   -20.0015,       4929,  4323.5,   2.5246,  34.9053,2,  34.9390,4,    240.8,2,   240.6,2,   44.60,2,   22.20,2,    0.00,2,    1.49,2,   0.055,2,   0.032,2,   0.041,2,  -999.0,9,  -999.0,9,  -999.0,9, -999.00,-999.0000,9,  -999.00,    0.93,6,  -122.7,6,     1.8,   41.55,2,    24.6,2,     13.738,2,-999.0000,9,-999.0000,9,-999.0000,9,-999.0000,9,-999.0000,9,-999.0000,9,-999.0000,9,-999.0000,9,-999.0000,9,     -999.0,5,  -999.0,9,     -999.0,     -999.0,9,     -999.0,20130815,       2130
33RO20130803,       A16N,      50,          1,          2,          2,5,20130815,       2116,    40.5002,   -20.0015,       4929,  4547.9,   2.5141,  34.9015,2,-999.0000,9,    241.4,2,  -999.0,9, -999.00,9, -999.00,9, -999.00,9, -999.00,9,-999.000,9,-999.000,9,-999.000,9,  -999.0,9,  -999.0,9,  -999.0,9, -999.00,-999.0000,9,  -999.00, -999.00,9,  -999.0,9,  -999.0, -999.00,9, -999.00,9,     -999.0,9,-999.0000,9,-999.0000,9,-999.0000,9,-999.0000,9,-999.0000,9,-999.0000,9,-999.0000,9,-999.0000,9,-999.0000,9,     -999.0,9,  -999.0,9,     -999.0,     -999.0,9,     -999.0,20130815,       2125
33RO20130803,       A16N,      50,          1,          1,          1,2,20130815,       2116,    40.5002,   -20.0015,       4929,  4987.7,   2.5348,  34.8973,2,  34.8977,2,    241.8,2,   241.3,2,   46.30,2,   22.40,2,    0.00,2,    1.50,2,   0.018,2,   0.013,2,   0.072,2,  2203.2,2,  2354.0,2,   751.9,2,      20,   7.7282,2,    25.00,    0.94,2,  -127.0,2,     0.2,   41.24,2,   24.51,2,     13.782,2,-999.0000,9,-999.0000,9,-999.0000,9,-999.0000,9,-999.0000,9,-999.0000,9,-999.0000,9,-999.0000,9,-999.0000,9,     -999.0,5,  -999.0,9,     -999.0,     -999.0,9,     -999.0,20130815,       2116