BOTTLE,20220815CCHSIOAMB
EXPOCODE,SECT_ID,STNNBR,CASTNO,SAMPNO,BTLNBR,BTLNBR_FLAG_W,DATE,TIME,LATITUDE,LONGITUDE,DEPTH,CTDPRS,CTDTMP,CTDSAL,CTDSAL_FLAG_W,SALNTY,SALNTY_FLAG_W,CTDOXY,CTDOXY_FLAG_W,OXYGEN,OXYGEN_FLAG_W,SILCAT,SILCAT_FLAG_W,NITRAT,NITRAT_FLAG_W,NITRIT,NITRIT_FLAG_W,PHSPHT,PHSPHT_FLAG_W,CFC-11,CFC-11_FLAG_W,CFC-12,CFC-12_FLAG_W,SF6,SF6_FLAG_W,TCARBN,TCARBN_FLAG_W,ALKALI,ALKALI_FLAG_W,PCO2,PCO2_FLAG_W,PCO2TMP,PH_SWS,PH_SWS_FLAG_W,PH_TMP,DELC13,DELC13_FLAG_W,DELC14,DELC14_FLAG_W,C14ERR,DOC,DOC_FLAG_W,TDN,TDN_FLAG_W,N2O,N2O_FLAG_W,CDOM325,CDOM325_FLAG_W,CDOM340,CDOM340_FLAG_W,CDOM380,CDOM380_FLAG_W,CDOM412,CDOM412_FLAG_W,CDOM443,CDOM443_FLAG_W,CDOM490,CDOM490_FLAG_W,CDOM555,CDOM555_FLAG_W,CDOMSL,CDOMSL_FLAG_W,CDOMSN,CDOMSN_FLAG_W,CCL4,CCL4_FLAG_W,14C-DOC,14C-DOC_FLAG_W,14C-DOCERR,13C-DOC,13C-DOC_FLAG_W,13C-DOCERR,BTL_DATE,BTL_TIME
,,,,,,,,,,,METERS,DBAR,ITS-90,PSS-78,,PSS-78,,UMOL/KG,,UMOL/KG,,UMOL/KG,,UMOL/KG,,UMOL/KG,,UMOL/KG,,PMOL/KG,,PMOL/KG,,FMOL/KG,,UMOL/KG,,UMOL/KG,,UATM,,DEG C,,,DEG C,/MILLE,,/MILLE,,/MILLE,UMOL/KG,,UMOL/KG,,NMOL/KG,,1/M,,1/M,,1/M,,1/M,,1/M,,1/M,,1/M,,1/NM,,1/NM,,PMOL/KG,,/MILLE,,/MILLE,/MILLE,,/MILLE,,
33RO20130803,       A16N,      96,          4,         24,         24,2,20130915,       0335,    17.0074,   -28.9996,       4879,     2.4,  26.7937,  36.3155,2,  36.3157,2,    201.4,2,   202.9,2,    0.70,2,    0.00,2,    0.00,2,    0.02,2,   1.582,2,   1.008,2,   1.236,2,  2047.8,6,  2379.3,2,   306.1,2,      20,   8.0656,2,    25.00, -999.00,9,  -999.0,9,  -999.0, -999.00,9, -999.00,9,      6.774,2,-999.0000,9,-999.0000,9,-999.0000,9,-999.0000,9,-999.0000,9,-999.0000,9,-999.0000,9,-999.0000,9,-999.0000,9,     -999.0,5,  -999.0,9,     -999.0,     -999.0,9,     -999.0,20130915,       0623
33RO20130803,       A16N,      96,          4,         23,         23,2,20130915,       0335,    17.0074,   -28.9996,       4879,    22.2,  26.7961,  36.3135,2,  36.3177,2,    201.9,2,   202.6,2,    0.70,2,    0.00,2,    0.00,2,    0.03,2,   1.580,2,   1.006,2,   1.185,2,  2045.7,2,  2379.6,6,   310.1,2,      20,   8.0681,2,    25.00, -999.00,9,  -999.0,9,  -999.0, -999.00,9, -999.00,9,      6.858,2,-999.0000,9,-999.0000,9,-999.0000,9,-999.0000,9,-999.0000,9,-999.0000,9,-999.0000,9,-999.0000,9,-999.0000,9,     -999.0,5,  -999.0,9,     -999.0,     -999.0,9,     -999.0,20130915,       0622
33RO20130803,       A16N,      96,          4,         22,         22,2,20130915,       0335,    17.0074,   -28.9996,       4879,    47.7,  22.8331,  36.4187,2,  36.4171,2,    217.3,2,   216.2,2,    1.20,2,    0.20,2,    0.01,2,    0.09,2,   1.920,6,   1.180,6,   1.257,6,  2092.2,2,  2386.4,2,   379.1,2,      20,   8.0014,2,    25.00, -999.00,9,  -999.0,9,  -999.0, -999.00,9, -999.00,9,     12.723,6,-999.0000,9,-999.0000,9,-999.0000,9,-999.0000,9,-999.0000,9,-999.0000,9,-999.0000,9,-999.0000,9,-999.0000,9,     -999.0,5,  -999.0,9,     -999.0,     -999.0,9,     -999.0,20130915,       0620
33RO20130803,       A16N,      96,          4,         21,         21,5,20130915,       0335,    17.0074,   -28.9996,       4879,    72.8,  18.9366,  36.6398,2,-999.0000,9,    127.1,2,  -999.0,9, -999.00,9, -999.00,9, -999.00,9, -999.00,9,-999.000,9,-999.000,9,-999.000,9,  -999.0,9,  -999.0,9,  -999.0,9, -999.00,-999.0000,9,  -999.00, -999.00,9,  -999.0,9,  -999.0, -999.00,9, -999.00,9,     -999.0,9,-999.0000,9,-999.0000,9,-999.0000,9,-999.0000,9,-999.0000,9,-999.0000,9,-999.0000,9,-999.0000,9,-999.0000,9,     -999.0,9,  -999.0,9,     -999.0,     -999.0,9,     -999.0,20130915,       0617
33RO20130803,       A16N,      96,          4,         20,         20,2,20130915,       0335,    17.0074,   -28.9996,       4879,    97.2,  17.4018,  36.3750,2,  36.3708,2,    131.0,2,   122.3,2,    3.80,2,   14.50,2,    0.02,2,    0.87,2,   2.085,2,   1.237,2,   1.111,2,  2190.8,2,  2372.1,2,   651.8,2,      20,   7.7928,2,    25.00, -999.00,9,  -999.0,9,  -999.0, -999.00,9, -999.00,9,     20.252,2,-999.0000,9,-999.0000,9,-999.0000,9,-999.0000,9,-999.0000,9,-999.0000,9,-999.0000,9,-999.0000,9,-999.0000,9,     -999.0,5,  -999.0,9,     -999.0,     -999.0,9,     -999.0,20130915,       0615
33RO20130803,       A16N,      96,          4,         19,         19,5,20130915,       0335,    17.0074,   -28.9996,       4879,   148.2,  14.9294,  35.8749,2,-999.0000,9,     90.7,2,  -999.0,9, -999.00,9, -999.00,9, -999.00,9, -999.00,9,-999.000,9,-999.000,9,-999.000,9,  -999.0,9,  -999.0,9,  -999.0,9, -999.00,-999.0000,9,  -999.00, -999.00,9,  -999.0,9,  -999.0, -999.00,9, -999.00,9,     -999.0,9,-999.0000,9,-999.0000,9,-999.0000,9,-999.0000,9,-999.0000,9,-999.0000,9,-999.0000,9,-999.0000,9,-999.0000,9,     -999.0,9,  -999.0,9,     -999.0,     -999.0,9,     -999.0,20130915,       0612
33RO20130803,       A16N,      96,          4,         18,         18,2,20130915,       0335,    17.0074,   -28.9996,       4879,   223.0,  12.9391,  35.5812,2,  35.5813,2,     77.8,2,    76.3,2,    8.90,2,   25.50,2,    0.00,2,    1.54,2,   1.728,2,   0.965,2,   0.578,2,  2222.6,2,  2333.9,2,   982.3,2,      20,   7.6189,2,    25.00, -999.00,9,  -999.0,9,  -999.0, -999.00,9, -999.00,9,     32.328,2,-999.0000,9,-999.0000,9,-999.0000,9,-999.0000,9,-999.0000,9,-999.0000,9,-999.0000,9,-999.0000,9,-999.0000,9,     -999.0,5,  -999.0,9,     -999.0,     -999.0,9,     -999.0,20130915,       0609
33RO20130803,       A16N,      96,          4,         17,         17,2,20130915,       0335,    17.0074,   -28.9996,       4879,   297.9,  12.0922,  35.5006,2,  35.5016,2,     74.5,2,    77.5,2,   10.10,2,   26.90,2,    0.00,2,    1.61,2,   1.517,2,   0.835,2,   0.498,2,  2225.4,2,  2328.0,2,  1017.7,2,      20,   7.6043,6,    25.00, -999.00,9,  -999.0,9,  -999.0, -999.00,9, -999.00,9,     31.264,2,-999.0000,9,-999.0000,9,-999.0000,9,-999.0000,9,-999.0000,9,-999.0000,9,-999.0000,9,-999.0000,9,-999.0000,9,     -999.0,5,  -999.0,9,     -999.0,     -999.0,9,     -999.0,20130915,       0605
33RO20130803,       A16N,      96,          4,         16,         16,2,20130915,       0335,    17.0074,   -28.9996,       4879,   397.7,  10.5512,  35.2847,2,  35.2857,2,     74.6,2,    76.3,2,   13.10,2,   30.30,2,    0.00,2,    1.83,2,   1.025,2,   0.549,2,   0.303,2,  2230.6,2,  2321.1,6,  1113.4,2,      20,   7.5672,2,    25.00, -999.00,9,  -999.0,9,  -999.0, -999.00,9, -999.00,9,     31.666,2,-999.0000,9,-999.0000,9,-999.0000,9,-999.0000,9,-999.0000,9,-999.0000,9,-999.0000,9,-999.0000,9,-999.0000,9,     -999.0,5,  -999.0,9,     -999.0,     -999.0,9,     -999.0,20130915,       0601
33RO20130803,       A16N,      96,          4,         15,         15,2,20130915,       0335,    17.0074,   -28.9996,       4879,   497.4,   9.0238,  35.0731,2,  35.0726,2,     84.9,2,    88.4,2,   16.50,2,   31.90,2,    0.00,2,    2.00,2,   0.624,2,   0.332,2,   0.227,2,  2230.4,6,  2312.5,2,  1158.2,2,      20,   7.5491,2,    25.00, -999.00,9,  -999.0,9,  -999.0, -999.00,9, -999.00,9,     30.011,2,-999.0000,9,-999.0000,9,-999.0000,9,-999.0000,9,-999.0000,9,-999.0000,9,-999.0000,9,-999.0000,9,-999.0000,9,     -999.0,5,  -999.0,9,     -999.0,     -999.0,9,     -999.0,20130915,       0557
33RO20130803,       A16N,      96,          4,         14,         14,2,20130915,       0335,    17.0074,   -28.9996,       4879,   646.5,   7.5551,  34.9179,2,  34.9177,2,     97.8,2,    97.9,2,   20.40,2,   33.40,2,    0.00,2,    2.15,2,   0.254,2,   0.138,2,   0.083,2,  2233.0,2,  2309.7,2,  1193.3,2,      20,   7.5357,2,    25.00, -999.00,9,  -999.0,9,  -999.0, -999.00,9, -999.00,9,     28.424,2,-999.0000,9,-999.0000,9,-999.0000,9,-999.0000,9,-999.0000,9,-999.0000,9,-999.0000,9,-999.0000,9,-999.0000,9,     -999.0,5,  -999.0,9,     -999.0,     -999.0,9,     -999.0,20130915,       0550
33RO20130803,       A16N,      96,          4,         13,         13,2,20130915,       0335,    17.0074,   -28.9996,       4879,   797.3,   6.6324,  34.8765,2,  34.8758,2,    110.1,2,   109.4,2,   22.90,2,   33.60,2,    0.00,2,    2.19,2,   0.082,2,   0.047,2,   0.031,2,  2233.9,2,  2312.9,2,  1171.0,2,      20,   7.5423,2,    25.00, -999.00,9,  -999.0,9,  -999.0, -999.00,9, -999.00,9,     26.717,2,-999.0000,9,-999.0000,9,-999.0000,9,-999.0000,9,-999.0000,9,-999.0000,9,-999.0000,9,-999.0000,9,-999.0000,9,     -999.0,5,  -999.0,9,     -999.0,     -999.0,9,     -999.0,20130915,       0545
33RO20130803,       A16N,      96,          4,         12,         12,2,20130915,       0335,    17.0074,   -28.9996,       4879,   945.5,   6.0941,  34.8999,2,  34.8996,2,    129.1,2,   127.8,2,   23.40,2,   31.70,2,    0.00,2,    2.09,2,   0.042,2,   0.023,2,   0.000,2,  2225.8,2,  2313.8,2,  1098.5,2,      20,   7.5693,2,    25.00, -999.00,9,  -999.0,9,  -999.0, -999.00,9, -999.00,9,     24.050,2,-999.0000,9,-999.0000,9,-999.0000,9,-999.0000,9,-999.0000,9,-999.0000,9,-999.0000,9,-999.0000,9,-999.0000,9,     -999.0,5,  -999.0,9,     -999.0,     -999.0,9,     -999.0,20130915,       0541
33RO20130803,       A16N,      96,          4,         11,         11,2,20130915,       0335,    17.0074,   -28.9996,       4879,  1097.7,   5.7126,  34.9472,2,  34.9463,2,    146.6,2,   146.6,2,   22.90,2,   29.50,2,    0.00,2,    1.96,2,   0.030,2,   0.018,2,   0.000,2,  2218.1,2,  2315.8,2,  1020.4,2,      20,   7.6015,2,    25.00, -999.00,9,  -999.0,9,  -999.0, -999.00,9, -999.00,9,     21.872,2,-999.0000,9,-999.0000,9,-999.0000,9,-999.0000,9,-999.0000,9,-999.0000,9,-999.0000,9,-999.0000,9,-999.0000,9,     -999.0,5,  -999.0,9,     -999.0,     -999.0,9,     -999.0,20130915,       0536
33RO20130803,       A16N,      96,          4,         10,         10,2,20130915,       0335,    17.0074,   -28.9996,       4879,  1297.6,   5.1665,  35.0047,2,  35.0053,2,    179.0,2,   179.6,2,   21.50,2,   25.90,2,    0.00,2,    1.73,2,   0.022,2,   0.014,2,   0.022,2,  2201.5,2,  2315.9,2,   898.0,2,      20,   7.6516,2,    25.00, -999.00,9,  -999.0,9,  -999.0, -999.00,9, -999.00,9,     18.312,2,-999.0000,9,-999.0000,9,-999.0000,9,-999.0000,9,-999.0000,9,-999.0000,9,-999.0000,9,-999.0000,9,-999.0000,9,     -999.0,5,  -999.0,9,     -999.0,     -999.0,9,     -999.0,20130915,       0531
33RO20130803,       A16N,      96,          4,          9,          9,2,20130915,       0335,    17.0074,   -28.9996,       4879,  1598.0,   4.2613,  35.0021,2,  35.0033,2,    213.2,2,   214.3,2,   21.70,2,   22.90,2,    0.00,2,    1.52,2,   0.011,2,   0.009,2,   0.000,2,  2186.2,2,  2321.8,2,   810.3,2,      20,   7.6943,2,    25.00, -999.00,9,  -999.0,9,  -999.0, -999.00,9, -999.00,9,     15.521,2,-999.0000,9,-999.0000,9,-999.0000,9,-999.0000,9,-999.0000,9,-999.0000,9,-999.0000,9,-999.0000,9,-999.0000,9,     -999.0,5,  -999.0,9,     -999.0,     -999.0,9,     -999.0,20130915,       0518
33RO20130803,       A16N,      96,          4,          8,          8,2,20130915,       0335,    17.0074,   -28.9996,       4879,  1997.5,   3.6116,  34.9786,2,  34.9821,2,    232.8,2,   233.8,2,   24.00,2,   21.40,2,    0.00,2,    1.43,2,   0.006,2,   0.005,2,   0.000,2,  2180.3,2,  2354.2,3,   763.4,2,      20,   7.7143,2,    25.00, -999.00,9,  -999.0,9,  -999.0, -999.00,9, -999.00,9,     14.121,2,-999.0000,9,-999.0000,9,-999.0000,9,-999.0000,9,-999.0000,9,-999.0000,9,-999.0000,9,-999.0000,9,-999.0000,9,     -999.0,5,  -999.0,9,     -999.0,     -999.0,9,     -999.0,20130915,       0508
33RO20130803,       A16N,      96,          4,          7,          7,2,20130915,       0335,    17.0074,   -28.9996,       4879,  2377.7,   3.2213,  34.9596,2,  34.9607,2,    241.5,2,   241.6,2,   27.60,2,   20.90,2,    0.00,2,    1.41,2,   0.003,2,   0.004,2,   0.000,2,  2181.2,2,  2328.1,2,   754.6,2,      20,   7.7254,2,    25.00, -999.00,9,  -999.0,9,  -999.0, -999.00,9, -999.00,9,     13.562,2,-999.0000,9,-999.0000,9,-999.0000,9,-999.0000,9,-999.0000,9,-999.0000,9,-999.0000,9,-999.0000,9,-999.0000,9,     -999.0,5,  -999.0,9,     -999.0,     -999.0,9,     -999.0,20130915,       0450
33RO20130803,       A16N,      96,          4,          6,          6,2,20130915,       0335,    17.0074,   -28.9996,       4879,  2797.9,   2.9029,  34.9422,2,  34.9437,2,    244.1,2,   245.1,2,   32.30,2,   21.10,2,    0.00,2,    1.42,2,   0.001,2,   0.003,2,   0.000,2,  2185.3,2,  2334.6,2,   750.3,2,      20,   7.7275,2,    25.00, -999.00,9,  -999.0,9,  -999.0, -999.00,9, -999.00,9,     13.406,2,-999.0000,9,-999.0000,9,-999.0000,9,-999.0000,9,-999.0000,9,-999.0000,9,-999.0000,9,-999.0000,9,-999.0000,9,     -999.0,5,  -999.0,9,     -999.0,     -999.0,9,     -999.0,20130915,       0437
33RO20130803,       A16N,      96,          4,          5,          5,2,20130915,       0335,    17.0074,   -28.9996,       4879,  3198.6,   2.6449,  34.9238,2,  34.9235,2,    242.8,2,   244.4,2,   37.60,2,   21.50,2,    0.00,2,    1.45,2,   0.002,2,   0.003,2,   0.000,2,  2192.0,2,  2340.1,2,   752.6,2,      20,   7.7274,2,    25.00, -999.00,9,  -999.0,9,  -999.0, -999.00,9, -999.00,9,     13.381,2,-999.0000,9,-999.0000,9,-999.0000,9,-999.0000,9,-999.0000,9,-999.0000,9,-999.0000,9,-999.0000,9,-999.0000,9,     -999.0,5,  -999.0,9,     -999.0,     -999.0,9,     -999.0,20130915,       0424
33RO20130803,       A16N,      96,          4,          4,          4,2,20130915,       0335,    17.0074,   -28.9996,       4879,  3596.3,   2.4669,  34.9066,2,  34.9067,2,    240.3,2,   242.4,2,   42.50,6,   22.00,6,    0.00,6,    1.50,6,   0.002,2,   0.003,2,   0.000,2,  2200.4,2,  2352.6,2,   759.2,2,      20,   7.7268,2,    25.00, -999.00,9,  -999.0,9,  -999.0, -999.00,9, -999.00,9,     13.457,2,-999.0000,9,-999.0000,9,-999.0000,9,-999.0000,9,-999.0000,9,-999.0000,9,-999.0000,9,-999.0000,9,-999.0000,9,     -999.0,5,  -999.0,9,     -999.0,     -999.0,9,     -999.0,20130915,       0411
33RO20130803,       A16N,      96,          4,          3,          3,2,20130915,       0335,    17.0074,   -28.9996,       4879,  3997.0,   2.3519,  34.8913,2,  34.9006,4,    240.2,2,   240.6,2,   44.10,6,   22.30,6,    0.00,6,    1.51,6,   0.003,6,   0.004,6,   0.000,6,  2202.4,2,  2350.2,2,   762.1,2,      20,   7.7237,6,    25.00, -999.00,9,  -999.0,9,  -999.0, -999.00,9, -999.00,9,     13.533,6,-999.0000,9,-999.0000,9,-999.0000,9,-999.0000,9,-999.0000,9,-999.0000,9,-999.0000,9,-999.0000,9,-999.0000,9,     -999.0,5,  -999.0,9,     -999.0,     -999.0,9,     -999.0,20130915,       0400
33RO20130803,       A16N,      96,          4,          2,          2,2,20130915,       0335,    17.0074,   -28.9996,       4879,  4397.7,   2.3426,  34.8854,2,  34.8852,2,    241.6,2,   240.7,2,   47.70,6,   22.60,6,    0.00,6,    1.53,6,   0.007,2,   0.006,2,   0.000,2,  2206.2,2,  2357.6,6,   754.6,6,      20,   7.7214,2,    25.00, -999.00,9,  -999.0,9,  -999.0, -999.00,9, -999.00,9,     13.738,2,-999.0000,9,-999.0000,9,-999.0000,9,-999.0000,9,-999.0000,9,-999.0000,9,-999.0000,9,-999.0000,9,-999.0000,9,     -999.0,5,  -999.0,9,     -999.0,     -999.0,9,     -999.0,20130915,       0350
33RO20130803,       A16N,      96,          4,          1,          1,2,20130915,       0335,    17.0074,   -28.9996,       4879,  4932.7,   2.3330,  34.8770,2,  34.8860,4,    242.3,2,   240.7,2,   48.20,6,   22.60,6,    0.00,6,    1.53,6,   0.013,2,   0.009,2,   0.000,2,  2209.6,6,  2358.2,2,   751.1,2,      20,   7.7192,2,    25.00, -999.00,9,  -999.0,9,  -999.0, -999.00,9, -999.00,9,     13.871,2,-999.0000,9,-999.0000,9,-999.0000,9,-999.0000,9,-999.0000,9,-999.0000,9,-999.0000,9,-999.0000,9,-999.0000,9,     -999.0,5,  -999.0,9,     -999.0,     -999.0,9,     -999.0,20130915,       0335