BOTTLE,20220815CCHSIOAMB
EXPOCODE,SECT_ID,STNNBR,CASTNO,SAMPNO,BTLNBR,BTLNBR_FLAG_W,DATE,TIME,LATITUDE,LONGITUDE,DEPTH,CTDPRS,CTDTMP,CTDSAL,CTDSAL_FLAG_W,SALNTY,SALNTY_FLAG_W,CTDOXY,CTDOXY_FLAG_W,OXYGEN,OXYGEN_FLAG_W,SILCAT,SILCAT_FLAG_W,NITRAT,NITRAT_FLAG_W,NITRIT,NITRIT_FLAG_W,PHSPHT,PHSPHT_FLAG_W,CFC-11,CFC-11_FLAG_W,CFC-12,CFC-12_FLAG_W,SF6,SF6_FLAG_W,TCARBN,TCARBN_FLAG_W,ALKALI,ALKALI_FLAG_W,PCO2,PCO2_FLAG_W,PCO2TMP,PH_SWS,PH_SWS_FLAG_W,PH_TMP,DELC13,DELC13_FLAG_W,DELC14,DELC14_FLAG_W,C14ERR,DOC,DOC_FLAG_W,TDN,TDN_FLAG_W,N2O,N2O_FLAG_W,CDOM325,CDOM325_FLAG_W,CDOM340,CDOM340_FLAG_W,CDOM380,CDOM380_FLAG_W,CDOM412,CDOM412_FLAG_W,CDOM443,CDOM443_FLAG_W,CDOM490,CDOM490_FLAG_W,CDOM555,CDOM555_FLAG_W,CDOMSL,CDOMSL_FLAG_W,CDOMSN,CDOMSN_FLAG_W,CCL4,CCL4_FLAG_W,14C-DOC,14C-DOC_FLAG_W,14C-DOCERR,13C-DOC,13C-DOC_FLAG_W,13C-DOCERR,BTL_DATE,BTL_TIME
,,,,,,,,,,,METERS,DBAR,ITS-90,PSS-78,,PSS-78,,UMOL/KG,,UMOL/KG,,UMOL/KG,,UMOL/KG,,UMOL/KG,,UMOL/KG,,PMOL/KG,,PMOL/KG,,FMOL/KG,,UMOL/KG,,UMOL/KG,,UATM,,DEG C,,,DEG C,/MILLE,,/MILLE,,/MILLE,UMOL/KG,,UMOL/KG,,NMOL/KG,,1/M,,1/M,,1/M,,1/M,,1/M,,1/M,,1/M,,1/NM,,1/NM,,PMOL/KG,,/MILLE,,/MILLE,/MILLE,,/MILLE,,
33RO20130803,       A16N,      98,          2,         24,         24,2,20130916,       2103,    15.6684,   -28.9944,       5181,     4.3,  27.3769,  36.3416,2,  36.3436,2,    202.2,2,   200.6,2,    0.90,2,    0.20,2,    0.01,2,    0.01,2,   1.551,2,   0.987,2,   1.201,2,  2038.0,6,  2375.3,2,  -999.0,9, -999.00,   8.0823,2,    25.00, -999.00,9,  -999.0,9,  -999.0,   76.65,2,    5.38,2,      6.313,2,-999.0000,9,-999.0000,9,-999.0000,9,-999.0000,9,-999.0000,9,-999.0000,9,-999.0000,9,-999.0000,9,-999.0000,9,     -999.0,5,  -999.0,9,     -999.0,     -999.0,9,     -999.0,20130916,       0059
33RO20130803,       A16N,      98,          2,         23,         23,2,20130916,       2103,    15.6684,   -28.9944,       5181,    22.6,  26.6973,  36.3364,2,  36.3561,2,    204.7,2,   206.5,2,    1.00,2,    0.20,2,    0.01,2,    0.02,2,   1.622,2,   1.031,2,   1.225,2,  2046.8,2,  2373.9,2,  -999.0,9, -999.00,   8.0684,3,    25.00, -999.00,9,  -999.0,9,  -999.0,   72.59,2,    5.01,2,      7.366,2,-999.0000,9,-999.0000,9,-999.0000,9,-999.0000,9,-999.0000,9,-999.0000,9,-999.0000,9,-999.0000,9,-999.0000,9,     -999.0,5,  -999.0,9,     -999.0,     -999.0,9,     -999.0,20130916,       0055
33RO20130803,       A16N,      98,          2,         22,         22,2,20130916,       2103,    15.6684,   -28.9944,       5181,    48.3,  20.5154,  36.5787,2,  36.5810,2,    193.1,2,   188.3,2,    1.50,2,    0.70,2,    0.03,2,    0.19,2,-999.000,5,-999.000,5,-999.000,5,  2135.7,2,  2396.3,2,  -999.0,9, -999.00,   7.9438,2,    25.00, -999.00,9,  -999.0,9,  -999.0,   60.75,2,    5.41,2,     -999.0,5,-999.0000,9,-999.0000,9,-999.0000,9,-999.0000,9,-999.0000,9,-999.0000,9,-999.0000,9,-999.0000,9,-999.0000,9,     -999.0,5,  -999.0,9,     -999.0,     -999.0,9,     -999.0,20130916,       0052
33RO20130803,       A16N,      98,          2,         21,         21,2,20130916,       2103,    15.6684,   -28.9944,       5181,    72.9,  18.6099,  36.4796,2,  36.4846,2,    126.8,2,   126.2,2,    2.90,2,   12.40,2,    0.12,2,    0.76,2,   2.056,6,   1.234,6,   1.151,6,  2188.8,2,  2382.9,2,  -999.0,9, -999.00,   7.8154,2,    25.00, -999.00,9,  -999.0,9,  -999.0,   57.39,2,   15.56,2,     19.035,6,-999.0000,9,-999.0000,9,-999.0000,9,-999.0000,9,-999.0000,9,-999.0000,9,-999.0000,9,-999.0000,9,-999.0000,9,     -999.0,5,  -999.0,9,     -999.0,     -999.0,9,     -999.0,20130916,       0049
33RO20130803,       A16N,      98,          2,         20,         20,2,20130916,       2103,    15.6684,   -28.9944,       5181,    98.4,  16.6984,  36.2330,2,  36.2314,2,    110.6,2,   110.7,2,    4.50,2,   17.10,2,    0.03,2,    1.01,2,   2.081,2,   1.225,2,   1.058,2,  2199.6,2,  2364.4,2,  -999.0,9, -999.00,   7.7585,2,    25.00, -999.00,9,  -999.0,9,  -999.0,   54.75,2,   20.15,2,     22.642,2,-999.0000,9,-999.0000,9,-999.0000,9,-999.0000,9,-999.0000,9,-999.0000,9,-999.0000,9,-999.0000,9,-999.0000,9,     -999.0,5,  -999.0,9,     -999.0,     -999.0,9,     -999.0,20130916,       0046
33RO20130803,       A16N,      98,          2,         19,         19,2,20130916,       2103,    15.6684,   -28.9944,       5181,   148.2,  14.7573,  35.8891,2,  35.8938,2,     96.0,2,    97.2,2,    6.50,2,   21.00,2,    0.02,2,    1.24,2,   2.010,2,   1.149,2,   0.824,2,  2207.9,2,  2349.0,2,  -999.0,9, -999.00,   7.7005,2,    25.00, -999.00,9,  -999.0,9,  -999.0,   50.99,2,   24.16,2,     27.157,2,-999.0000,9,-999.0000,9,-999.0000,9,-999.0000,9,-999.0000,9,-999.0000,9,-999.0000,9,-999.0000,9,-999.0000,9,     -999.0,5,  -999.0,9,     -999.0,     -999.0,9,     -999.0,20130916,       0040
33RO20130803,       A16N,      98,          2,         18,         18,2,20130916,       2103,    15.6684,   -28.9944,       5181,   223.5,  12.4723,  35.4906,2,  35.5024,2,     81.4,2,    82.8,2,    9.70,2,   26.40,2,    0.01,2,    1.59,2,   1.671,2,   0.919,2,   0.523,2,  2219.7,2,  2314.9,3,  -999.0,9, -999.00,   7.6202,2,    25.00, -999.00,9,  -999.0,9,  -999.0,   48.41,2,   29.39,2,     31.793,2,-999.0000,9,-999.0000,9,-999.0000,9,-999.0000,9,-999.0000,9,-999.0000,9,-999.0000,9,-999.0000,9,-999.0000,9,     -999.0,5,  -999.0,9,     -999.0,     -999.0,9,     -999.0,20130916,       0027
33RO20130803,       A16N,      98,          2,         17,         17,2,20130916,       2103,    15.6684,   -28.9944,       5181,   298.4,  11.1913,  35.2983,2,  35.3001,2,     77.7,2,      78,2,   12.00,2,   29.30,2,    0.01,2,    1.77,2,   1.333,2,   0.720,2,   0.345,2,  2224.3,2,  2319.8,2,  -999.0,9, -999.00,   7.5805,2,    25.00, -999.00,9,  -999.0,9,  -999.0,    46.8,2,   32.09,2,     33.514,2,-999.0000,9,-999.0000,9,-999.0000,9,-999.0000,9,-999.0000,9,-999.0000,9,-999.0000,9,-999.0000,9,-999.0000,9,     -999.0,5,  -999.0,9,     -999.0,     -999.0,9,     -999.0,20130916,       0008
33RO20130803,       A16N,      98,          2,         16,         16,2,20130916,       2103,    15.6684,   -28.9944,       5181,   397.3,  10.1162,  35.1499,2,  35.1490,2,     77.0,2,    76.9,2,   14.50,2,   32.00,2,    0.01,2,    1.94,2,   0.977,2,   0.523,2,   0.303,2,  2229.3,2,  2314.2,2,  -999.0,9, -999.00,   7.5520,2,    25.00, -999.00,9,  -999.0,9,  -999.0,   45.69,2,   34.65,2,     33.583,2,-999.0000,9,-999.0000,9,-999.0000,9,-999.0000,9,-999.0000,9,-999.0000,9,-999.0000,9,-999.0000,9,-999.0000,9,     -999.0,5,  -999.0,9,     -999.0,     -999.0,9,     -999.0,20130916,       0005
33RO20130803,       A16N,      98,          2,         15,         15,2,20130916,       2103,    15.6684,   -28.9944,       5181,   498.4,   9.4155,  35.0927,2,  35.0925,2,     74.5,2,    74.8,2,   16.50,2,   33.10,2,    0.01,2,    2.05,2,   0.676,2,   0.362,2,   0.296,2,  2235.0,2,  2310.5,2,  -999.0,9, -999.00,   7.5338,6,    25.00, -999.00,9,  -999.0,9,  -999.0,   45.09,2,   35.94,2,     32.192,2,-999.0000,9,-999.0000,9,-999.0000,9,-999.0000,9,-999.0000,9,-999.0000,9,-999.0000,9,-999.0000,9,-999.0000,9,     -999.0,5,  -999.0,9,     -999.0,     -999.0,9,     -999.0,20130916,       0002
33RO20130803,       A16N,      98,          2,         14,         14,2,20130916,       2103,    15.6684,   -28.9944,       5181,   648.3,   7.9614,  34.9453,2,  34.9447,2,     83.4,2,    89.3,2,   19.60,2,   33.90,2,    0.01,2,    2.20,2,   0.325,6,   0.176,6,   0.105,6,  2235.2,6,  2298.6,3,  -999.0,9, -999.00,   7.5287,2,    25.00, -999.00,9,  -999.0,9,  -999.0,   44.62,2,    36.3,2,     29.563,6,-999.0000,9,-999.0000,9,-999.0000,9,-999.0000,9,-999.0000,9,-999.0000,9,-999.0000,9,-999.0000,9,-999.0000,9,     -999.0,5,  -999.0,9,     -999.0,     -999.0,9,     -999.0,20130916,       2358
33RO20130803,       A16N,      98,          2,         13,         13,2,20130916,       2103,    15.6684,   -28.9944,       5181,   797.6,   6.8811,  34.8946,2,  34.8984,2,    100.9,2,   100.2,2,   22.60,6,   34.20,6,    0.01,6,    2.24,6,   0.102,2,   0.058,2,   0.036,2,  2233.6,2,  2309.8,6,  -999.0,9, -999.00,   7.5280,2,    25.00, -999.00,9,  -999.0,9,  -999.0,   43.85,2,   36.84,2,     27.701,2,-999.0000,9,-999.0000,9,-999.0000,9,-999.0000,9,-999.0000,9,-999.0000,9,-999.0000,9,-999.0000,9,-999.0000,9,     -999.0,5,  -999.0,9,     -999.0,     -999.0,9,     -999.0,20130916,       2354
33RO20130803,       A16N,      98,          2,         12,         12,2,20130916,       2103,    15.6684,   -28.9944,       5181,   947.3,   6.1589,  34.9006,2,  34.9008,2,    121.6,2,     122,2,   23.80,6,   32.50,6,    0.01,6,    2.16,6,   0.048,2,   0.027,2,   0.000,2,  2227.5,2,  2312.1,2,  -999.0,9, -999.00,   7.5580,2,    25.00, -999.00,9,  -999.0,9,  -999.0,   43.11,2,   35.03,2,     24.845,2,-999.0000,9,-999.0000,9,-999.0000,9,-999.0000,9,-999.0000,9,-999.0000,9,-999.0000,9,-999.0000,9,-999.0000,9,     -999.0,5,  -999.0,9,     -999.0,     -999.0,9,     -999.0,20130916,       2340
33RO20130803,       A16N,      98,          2,         11,         11,2,20130916,       2103,    15.6684,   -28.9944,       5181,  1098.4,   5.5827,  34.9369,2,  34.9417,2,    146.8,2,   148.4,2,   23.40,6,   29.70,6,    0.01,6,    2.00,6,   0.023,2,   0.014,2,   0.000,2,  2217.9,2,  2314.0,2,  -999.0,9, -999.00,   7.5995,2,    25.00, -999.00,9,  -999.0,9,  -999.0,    42.7,2,   32.49,2,     21.768,2,-999.0000,9,-999.0000,9,-999.0000,9,-999.0000,9,-999.0000,9,-999.0000,9,-999.0000,9,-999.0000,9,-999.0000,9,     -999.0,5,  -999.0,9,     -999.0,     -999.0,9,     -999.0,20130916,       2337
33RO20130803,       A16N,      98,          2,         10,         10,2,20130916,       2103,    15.6684,   -28.9944,       5181,  1297.3,   5.0800,  34.9840,2,  34.9861,2,    176.5,2,   175.8,2,   22.40,6,   26.60,6,    0.01,6,    1.79,6,   0.020,2,   0.012,2,   0.000,2,  2206.3,2,  2305.2,3,  -999.0,9, -999.00,   7.6432,2,    25.00, -999.00,9,  -999.0,9,  -999.0,   41.76,2,   29.24,2,     18.670,2,-999.0000,9,-999.0000,9,-999.0000,9,-999.0000,9,-999.0000,9,-999.0000,9,-999.0000,9,-999.0000,9,-999.0000,9,     -999.0,5,  -999.0,9,     -999.0,     -999.0,9,     -999.0,20130916,       2332
33RO20130803,       A16N,      98,          2,          9,          9,2,20130916,       2103,    15.6684,   -28.9944,       5181,  1597.3,   4.2515,  34.9918,2,  34.9929,2,    212.1,2,   213.5,2,   21.50,2,   23.00,2,    0.00,2,    1.57,2,   0.021,2,   0.014,2,   0.000,2,  2188.7,2,  2319.0,2,  -999.0,9, -999.00,   7.6923,2,    25.00, -999.00,9,  -999.0,9,  -999.0,   41.87,2,   25.38,2,     15.826,2,-999.0000,9,-999.0000,9,-999.0000,9,-999.0000,9,-999.0000,9,-999.0000,9,-999.0000,9,-999.0000,9,-999.0000,9,     -999.0,5,  -999.0,9,     -999.0,     -999.0,9,     -999.0,20130916,       2317
33RO20130803,       A16N,      98,          2,          8,          8,2,20130916,       2103,    15.6684,   -28.9944,       5181,  1997.0,   3.6351,  34.9758,2,  34.9762,2,    231.8,2,     232,2,   23.90,2,   21.60,2,    0.00,2,    1.46,2,   0.006,2,   0.004,2,   0.000,2,  2182.3,2,  2314.3,3,  -999.0,9, -999.00,   7.7125,2,    25.00, -999.00,9,  -999.0,9,  -999.0,    41.2,2,   24.13,2,     14.359,2,-999.0000,9,-999.0000,9,-999.0000,9,-999.0000,9,-999.0000,9,-999.0000,9,-999.0000,9,-999.0000,9,-999.0000,9,     -999.0,5,  -999.0,9,     -999.0,     -999.0,9,     -999.0,20130916,       2309
33RO20130803,       A16N,      98,          2,          7,          7,2,20130916,       2103,    15.6684,   -28.9944,       5181,  2398.0,   3.2097,  34.9571,2,  34.9573,2,    238.3,2,   238.7,2,   28.10,2,   21.30,2,    0.00,2,    1.43,2,   0.002,4,   0.004,4,   0.000,2,  2183.6,2,  2326.8,2,  -999.0,9, -999.00,   7.7199,2,    25.00, -999.00,9,  -999.0,9,  -999.0,   41.06,2,   23.74,2,     13.809,4,-999.0000,9,-999.0000,9,-999.0000,9,-999.0000,9,-999.0000,9,-999.0000,9,-999.0000,9,-999.0000,9,-999.0000,9,     -999.0,5,  -999.0,9,     -999.0,     -999.0,9,     -999.0,20130916,       2253
33RO20130803,       A16N,      98,          2,          6,          6,2,20130916,       2103,    15.6684,   -28.9944,       5181,  2747.9,   2.9497,  34.9432,2,  34.9445,2,    245.3,2,     246,2,   31.10,2,   21.00,2,    0.00,2,    1.41,2,   0.005,4,   0.004,4,   0.000,2,  2184.0,2,  2326.2,2,  -999.0,9, -999.00,   7.7282,6,    25.00, -999.00,9,  -999.0,9,  -999.0,   40.77,2,   23.43,2,     13.388,4,-999.0000,9,-999.0000,9,-999.0000,9,-999.0000,9,-999.0000,9,-999.0000,9,-999.0000,9,-999.0000,9,-999.0000,9,     -999.0,5,  -999.0,9,     -999.0,     -999.0,9,     -999.0,20130916,       2237
33RO20130803,       A16N,      98,          2,          5,          5,5,20130916,       2103,    15.6684,   -28.9944,       5181,  3198.6,   2.6702,  34.9247,2,-999.0000,9,    245.1,2,  -999.0,9, -999.00,9, -999.00,9, -999.00,9, -999.00,9,-999.000,9,-999.000,9,-999.000,9,  -999.0,9,  -999.0,9,  -999.0,9, -999.00,-999.0000,9,  -999.00, -999.00,9,  -999.0,9,  -999.0, -999.00,9, -999.00,9,     -999.0,9,-999.0000,9,-999.0000,9,-999.0000,9,-999.0000,9,-999.0000,9,-999.0000,9,-999.0000,9,-999.0000,9,-999.0000,9,     -999.0,9,  -999.0,9,     -999.0,     -999.0,9,     -999.0,20130916,       2228
33RO20130803,       A16N,      98,          2,          4,          4,2,20130916,       2103,    15.6684,   -28.9944,       5181,  3598.6,   2.4895,  34.9081,2,  34.9111,2,    242.3,2,     244,2,   41.10,2,   21.80,2,    0.00,2,    1.48,2,   0.003,4,   0.004,4,   0.000,2,  2196.8,2,  2343.0,2,  -999.0,9, -999.00,   7.7269,2,    25.00, -999.00,9,  -999.0,9,  -999.0,   40.58,2,   24.28,2,     13.527,4,-999.0000,9,-999.0000,9,-999.0000,9,-999.0000,9,-999.0000,9,-999.0000,9,-999.0000,9,-999.0000,9,-999.0000,9,     -999.0,5,  -999.0,9,     -999.0,     -999.0,9,     -999.0,20130916,       2208
33RO20130803,       A16N,      98,          2,          3,          3,2,20130916,       2103,    15.6684,   -28.9944,       5181,  3998.8,   2.3818,  34.8946,2,  34.8999,4,    237.5,2,   238.9,2,   46.00,2,   22.60,2,    0.00,2,    1.53,2,   0.002,4,   0.003,4,   0.000,2,  2207.1,2,  2353.3,6,  -999.0,9, -999.00,   7.7194,2,    25.00, -999.00,9,  -999.0,9,  -999.0,   40.72,2,   24.52,2,     13.451,4,-999.0000,9,-999.0000,9,-999.0000,9,-999.0000,9,-999.0000,9,-999.0000,9,-999.0000,9,-999.0000,9,-999.0000,9,     -999.0,5,  -999.0,9,     -999.0,     -999.0,9,     -999.0,20130916,       2151
33RO20130803,       A16N,      98,          2,          2,          2,2,20130916,       2103,    15.6684,   -28.9944,       5181,  4497.5,   2.3199,  34.8812,2,  34.8819,2,    235.0,2,   234.8,2,   50.50,2,   23.40,2,    0.00,2,    1.56,2,   0.009,2,   0.007,2,   0.000,2,  2215.9,2,  2359.8,2,  -999.0,9, -999.00,   7.7171,2,    25.00, -999.00,9,  -999.0,9,  -999.0,   40.69,2,   24.94,2,     13.758,2,-999.0000,9,-999.0000,9,-999.0000,9,-999.0000,9,-999.0000,9,-999.0000,9,-999.0000,9,-999.0000,9,-999.0000,9,     -999.0,5,  -999.0,9,     -999.0,     -999.0,9,     -999.0,20130916,       2141
33RO20130803,       A16N,      98,          2,          1,          1,2,20130916,       2103,    15.6684,   -28.9944,       5181,  5237.5,   2.3131,  34.8720,2,  34.8732,2,    245.4,2,   243.7,2,   50.00,2,   22.80,2,    0.00,2,    1.54,2,   0.033,6,   0.021,6,   0.000,6,  2207.1,6,  2353.0,2,  -999.0,9, -999.00,   7.7205,2,    25.00, -999.00,9,  -999.0,9,  -999.0,   40.51,2,   25.63,2,     13.899,6,-999.0000,9,-999.0000,9,-999.0000,9,-999.0000,9,-999.0000,9,-999.0000,9,-999.0000,9,-999.0000,9,-999.0000,9,     -999.0,5,  -999.0,9,     -999.0,     -999.0,9,     -999.0,20130916,       2103