BOTTLE,20220815CCHSIOAMB
EXPOCODE,SECT_ID,STNNBR,CASTNO,SAMPNO,BTLNBR,BTLNBR_FLAG_W,DATE,TIME,LATITUDE,LONGITUDE,DEPTH,CTDPRS,CTDTMP,CTDSAL,CTDSAL_FLAG_W,SALNTY,SALNTY_FLAG_W,CTDOXY,CTDOXY_FLAG_W,OXYGEN,OXYGEN_FLAG_W,SILCAT,SILCAT_FLAG_W,NITRAT,NITRAT_FLAG_W,NITRIT,NITRIT_FLAG_W,PHSPHT,PHSPHT_FLAG_W,CFC-11,CFC-11_FLAG_W,CFC-12,CFC-12_FLAG_W,SF6,SF6_FLAG_W,TCARBN,TCARBN_FLAG_W,ALKALI,ALKALI_FLAG_W,PCO2,PCO2_FLAG_W,PCO2TMP,PH_SWS,PH_SWS_FLAG_W,PH_TMP,DELC13,DELC13_FLAG_W,DELC14,DELC14_FLAG_W,C14ERR,DOC,DOC_FLAG_W,TDN,TDN_FLAG_W,N2O,N2O_FLAG_W,CDOM325,CDOM325_FLAG_W,CDOM340,CDOM340_FLAG_W,CDOM380,CDOM380_FLAG_W,CDOM412,CDOM412_FLAG_W,CDOM443,CDOM443_FLAG_W,CDOM490,CDOM490_FLAG_W,CDOM555,CDOM555_FLAG_W,CDOMSL,CDOMSL_FLAG_W,CDOMSN,CDOMSN_FLAG_W,CCL4,CCL4_FLAG_W,14C-DOC,14C-DOC_FLAG_W,14C-DOCERR,13C-DOC,13C-DOC_FLAG_W,13C-DOCERR,BTL_DATE,BTL_TIME
,,,,,,,,,,,METERS,DBAR,ITS-90,PSS-78,,PSS-78,,UMOL/KG,,UMOL/KG,,UMOL/KG,,UMOL/KG,,UMOL/KG,,UMOL/KG,,PMOL/KG,,PMOL/KG,,FMOL/KG,,UMOL/KG,,UMOL/KG,,UATM,,DEG C,,,DEG C,/MILLE,,/MILLE,,/MILLE,UMOL/KG,,UMOL/KG,,NMOL/KG,,1/M,,1/M,,1/M,,1/M,,1/M,,1/M,,1/M,,1/NM,,1/NM,,PMOL/KG,,/MILLE,,/MILLE,/MILLE,,/MILLE,,
33RO20130803,       A16N,      47,          2,         24,         24,2,20130815,       0242,    41.9999,   -19.9997,       2379,     2.7,  21.3512,  35.8738,2,  35.8728,2,    229.3,2,   226.7,2,    0.70,2,    0.10,2,    0.00,2,    0.03,2,   2.143,2,   1.311,2,   1.510,2,  2081.2,6,  2362.2,2,   376.3,2,      20,   7.9893,2,    25.00, -999.00,9,  -999.0,9,  -999.0, -999.00,9, -999.00,9,      7.415,2,-999.0000,9,-999.0000,9,-999.0000,9,-999.0000,9,-999.0000,9,-999.0000,9,-999.0000,9,-999.0000,9,-999.0000,9,     -999.0,5,  -999.0,9,     -999.0,     -999.0,9,     -999.0,20130815,       0353
33RO20130803,       A16N,      47,          2,         23,         23,2,20130815,       0242,    41.9999,   -19.9997,       2379,    31.5,  15.3419,  35.7500,2,  35.7511,2,    259.9,2,     258,2,    0.80,2,    0.30,2,    0.08,2,    0.09,2,   2.762,2,   1.635,2,   1.825,2,  2096.9,2,  2351.8,6,   416.1,2,      20,   7.9502,2,    25.00, -999.00,9,  -999.0,9,  -999.0, -999.00,9, -999.00,9,      9.212,2,-999.0000,9,-999.0000,9,-999.0000,9,-999.0000,9,-999.0000,9,-999.0000,9,-999.0000,9,-999.0000,9,-999.0000,9,     -999.0,5,  -999.0,9,     -999.0,     -999.0,9,     -999.0,20130815,       0350
33RO20130803,       A16N,      47,          2,         22,         22,2,20130815,       0242,    41.9999,   -19.9997,       2379,    61.4,  14.0323,  35.7656,2,  35.7657,2,    239.6,2,   239.1,2,    1.40,2,    4.30,2,    0.33,2,    0.31,2,   2.842,2,   1.670,2,   1.842,2,  2123.1,2,  2349.9,2,   484.4,2,      20,   7.8933,2,    25.00, -999.00,9,  -999.0,9,  -999.0, -999.00,9, -999.00,9,      9.735,2,-999.0000,9,-999.0000,9,-999.0000,9,-999.0000,9,-999.0000,9,-999.0000,9,-999.0000,9,-999.0000,9,-999.0000,9,     -999.0,5,  -999.0,9,     -999.0,     -999.0,9,     -999.0,20130815,       0348
33RO20130803,       A16N,      47,          2,         21,         21,2,20130815,       0242,    41.9999,   -19.9997,       2379,    86.9,  13.6534,  35.7770,2,  35.7790,2,    236.5,2,   235.9,2,    2.00,2,    5.90,2,    0.01,2,    0.37,2,-999.000,9,-999.000,9,-999.000,9,  2128.6,2,  2349.4,2,  -999.0,9, -999.00,   7.8784,2,    25.00, -999.00,9,  -999.0,9,  -999.0, -999.00,9, -999.00,9,     -999.0,9,-999.0000,9,-999.0000,9,-999.0000,9,-999.0000,9,-999.0000,9,-999.0000,9,-999.0000,9,-999.0000,9,-999.0000,9,     -999.0,9,  -999.0,9,     -999.0,     -999.0,9,     -999.0,20130815,       0347
33RO20130803,       A16N,      47,          2,         20,         20,2,20130815,       0242,    41.9999,   -19.9997,       2379,   111.8,  13.3852,  35.7461,2,  35.7432,2,    236.7,2,   235.2,2,    2.50,2,    6.80,2,    0.01,2,    0.42,2,   2.839,2,   1.668,2,   1.816,2,  2131.4,2,  2343.9,2,   512.6,2,      20,   7.8732,2,    25.00, -999.00,9,  -999.0,9,  -999.0, -999.00,9, -999.00,9,      9.994,2,-999.0000,9,-999.0000,9,-999.0000,9,-999.0000,9,-999.0000,9,-999.0000,9,-999.0000,9,-999.0000,9,-999.0000,9,     -999.0,5,  -999.0,9,     -999.0,     -999.0,9,     -999.0,20130815,       0345
33RO20130803,       A16N,      47,          2,         19,         19,2,20130815,       0242,    41.9999,   -19.9997,       2379,   136.5,  13.0226,  35.6895,2,  35.6891,2,    236.7,2,   240.8,2,    2.60,2,    6.90,2,    0.01,2,    0.44,2,-999.000,9,-999.000,9,-999.000,9,  2131.2,2,  -999.0,5,  -999.0,9, -999.00,   7.8679,2,    25.00, -999.00,9,  -999.0,9,  -999.0, -999.00,9, -999.00,9,     -999.0,9,-999.0000,9,-999.0000,9,-999.0000,9,-999.0000,9,-999.0000,9,-999.0000,9,-999.0000,9,-999.0000,9,-999.0000,9,     -999.0,9,  -999.0,9,     -999.0,     -999.0,9,     -999.0,20130815,       0343
33RO20130803,       A16N,      47,          2,         18,         18,2,20130815,       0242,    41.9999,   -19.9997,       2379,   160.6,  12.9533,  35.6818,2,  35.6816,2,    237.4,2,   242.3,2,    2.70,2,    7.00,2,    0.01,2,    0.44,2,-999.000,9,-999.000,9,-999.000,9,  2129.7,2,  2347.7,2,   518.7,2,      20,   7.8639,2,    25.00, -999.00,9,  -999.0,9,  -999.0, -999.00,9, -999.00,9,     -999.0,9,-999.0000,9,-999.0000,9,-999.0000,9,-999.0000,9,-999.0000,9,-999.0000,9,-999.0000,9,-999.0000,9,-999.0000,9,     -999.0,9,  -999.0,9,     -999.0,     -999.0,9,     -999.0,20130815,       0341
33RO20130803,       A16N,      47,          2,         17,         17,2,20130815,       0242,    41.9999,   -19.9997,       2379,   177.5,  12.9026,  35.6759,2,  35.6753,2,    238.7,2,   241.4,2,    2.80,2,    7.20,2,    0.01,2,    0.45,2,   2.924,6,   1.707,6,   1.881,6,  2131.5,2,  2347.6,2,   521.3,2,      20,   7.8670,2,    25.00, -999.00,9,  -999.0,9,  -999.0, -999.00,9, -999.00,9,      9.942,6,-999.0000,9,-999.0000,9,-999.0000,9,-999.0000,9,-999.0000,9,-999.0000,9,-999.0000,9,-999.0000,9,-999.0000,9,     -999.0,5,  -999.0,9,     -999.0,     -999.0,9,     -999.0,20130815,       0340
33RO20130803,       A16N,      47,          2,         16,         16,2,20130815,       0242,    41.9999,   -19.9997,       2379,   211.4,  12.8414,  35.6706,2,  35.6692,2,    241.7,2,   241.5,2,    2.80,2,    7.20,2,    0.01,2,    0.46,2,-999.000,9,-999.000,9,-999.000,9,  2130.4,2,  2345.5,2,   522.6,2,      20,   7.8615,2,    25.00, -999.00,9,  -999.0,9,  -999.0, -999.00,9, -999.00,9,     -999.0,9,-999.0000,9,-999.0000,9,-999.0000,9,-999.0000,9,-999.0000,9,-999.0000,9,-999.0000,9,-999.0000,9,-999.0000,9,     -999.0,9,  -999.0,9,     -999.0,     -999.0,9,     -999.0,20130815,       0338
33RO20130803,       A16N,      47,          2,         15,         15,2,20130815,       0242,    41.9999,   -19.9997,       2379,   273.7,  12.6998,  35.6706,2,  35.6702,2,    238.8,2,   239.3,2,    2.90,2,    7.50,2,    0.01,2,    0.48,2,-999.000,9,-999.000,9,-999.000,9,  2133.0,2,  2338.8,2,  -999.0,9, -999.00,   7.8587,6,    25.00, -999.00,9,  -999.0,9,  -999.0, -999.00,9, -999.00,9,     -999.0,9,-999.0000,9,-999.0000,9,-999.0000,9,-999.0000,9,-999.0000,9,-999.0000,9,-999.0000,9,-999.0000,9,-999.0000,9,     -999.0,9,  -999.0,9,     -999.0,     -999.0,9,     -999.0,20130815,       0335
33RO20130803,       A16N,      47,          2,         14,         14,2,20130815,       0242,    41.9999,   -19.9997,       2379,   323.1,  12.4491,  35.6509,2,  35.6507,2,    232.2,2,   230.9,2,    3.50,2,    9.20,2,    0.01,2,    0.57,2,   2.926,2,   1.697,2,   1.714,2,  2141.2,2,  2340.1,2,   558.3,2,      20,   7.8391,2,    25.00, -999.00,9,  -999.0,9,  -999.0, -999.00,9, -999.00,9,     11.055,2,-999.0000,9,-999.0000,9,-999.0000,9,-999.0000,9,-999.0000,9,-999.0000,9,-999.0000,9,-999.0000,9,-999.0000,9,     -999.0,5,  -999.0,9,     -999.0,     -999.0,9,     -999.0,20130815,       0334
33RO20130803,       A16N,      47,          2,         13,         13,2,20130815,       0242,    41.9999,   -19.9997,       2379,   411.8,  12.0933,  35.6358,2,  35.6353,2,    224.4,2,   224.1,2,    3.90,2,   10.70,2,    0.01,2,    0.65,2,-999.000,9,-999.000,9,-999.000,9,  2147.9,2,  2345.6,2,   587.8,2,      20,   7.8202,2,    25.00, -999.00,9,  -999.0,9,  -999.0, -999.00,9, -999.00,9,     -999.0,9,-999.0000,9,-999.0000,9,-999.0000,9,-999.0000,9,-999.0000,9,-999.0000,9,-999.0000,9,-999.0000,9,-999.0000,9,     -999.0,9,  -999.0,9,     -999.0,     -999.0,9,     -999.0,20130815,       0331
33RO20130803,       A16N,      47,          2,         12,         12,2,20130815,       0242,    41.9999,   -19.9997,       2379,   486.8,  11.8272,  35.6187,2,  35.6179,2,    219.5,2,   219.4,2,    4.40,2,   11.70,2,    0.01,2,    0.71,2,   2.942,2,   1.691,2,   1.557,2,  2153.7,2,  2343.0,2,   607.8,2,      20,   7.8075,2,    25.00, -999.00,9,  -999.0,9,  -999.0, -999.00,9, -999.00,9,     12.542,2,-999.0000,9,-999.0000,9,-999.0000,9,-999.0000,9,-999.0000,9,-999.0000,9,-999.0000,9,-999.0000,9,-999.0000,9,     -999.0,5,  -999.0,9,     -999.0,     -999.0,9,     -999.0,20130815,       0328
33RO20130803,       A16N,      47,          2,         11,         11,2,20130815,       0242,    41.9999,   -19.9997,       2379,   561.5,  11.4677,  35.5902,2,  35.5893,2,    216.4,2,   216.5,2,    4.90,2,   12.50,2,    0.01,2,    0.76,2,   2.923,2,   1.668,2,   1.439,2,  2158.7,2,  2333.6,2,   626.8,2,      20,   7.7958,2,    25.00, -999.00,9,  -999.0,9,  -999.0, -999.00,9, -999.00,9,     13.000,2,-999.0000,9,-999.0000,9,-999.0000,9,-999.0000,9,-999.0000,9,-999.0000,9,-999.0000,9,-999.0000,9,-999.0000,9,     -999.0,5,  -999.0,9,     -999.0,     -999.0,9,     -999.0,20130815,       0325
33RO20130803,       A16N,      47,          2,         10,         10,2,20130815,       0242,    41.9999,   -19.9997,       2379,   637.1,  10.7942,  35.5041,2,  35.5023,2,    204.5,2,   204.1,2,    6.70,2,   14.80,2,    0.01,2,    0.92,2,-999.000,9,-999.000,9,-999.000,9,  2167.1,6,  2330.6,2,  -999.0,9, -999.00,   7.7674,2,    25.00, -999.00,9,  -999.0,9,  -999.0, -999.00,9, -999.00,9,     -999.0,9,-999.0000,9,-999.0000,9,-999.0000,9,-999.0000,9,-999.0000,9,-999.0000,9,-999.0000,9,-999.0000,9,-999.0000,9,     -999.0,9,  -999.0,9,     -999.0,     -999.0,9,     -999.0,20130815,       0323
33RO20130803,       A16N,      47,          2,          9,          9,2,20130815,       0242,    41.9999,   -19.9997,       2379,   773.7,   9.9770,  35.5479,2,  35.5499,2,    183.2,2,   183.6,2,    9.30,2,   17.60,2,    0.00,2,    1.10,2,   2.229,2,   1.191,2,   0.717,2,  2186.5,2,  2337.7,2,   724.0,2,      20,   7.7440,2,    25.00, -999.00,9,  -999.0,9,  -999.0, -999.00,9, -999.00,9,     16.251,2,-999.0000,9,-999.0000,9,-999.0000,9,-999.0000,9,-999.0000,9,-999.0000,9,-999.0000,9,-999.0000,9,-999.0000,9,     -999.0,5,  -999.0,9,     -999.0,     -999.0,9,     -999.0,20130815,       0319
33RO20130803,       A16N,      47,          2,          8,          8,2,20130815,       0242,    41.9999,   -19.9997,       2379,   935.6,   9.4947,  35.6373,2,  35.6375,2,    185.6,2,   187.2,2,   10.10,2,   17.70,2,    0.00,2,    1.10,2,   2.058,2,   1.098,2,   0.604,2,  2193.7,2,  2357.0,2,   723.2,2,      20,   7.7410,2,    25.00, -999.00,9,  -999.0,9,  -999.0, -999.00,9, -999.00,9,     15.841,2,-999.0000,9,-999.0000,9,-999.0000,9,-999.0000,9,-999.0000,9,-999.0000,9,-999.0000,9,-999.0000,9,-999.0000,9,     -999.0,5,  -999.0,9,     -999.0,     -999.0,9,     -999.0,20130815,       0315
33RO20130803,       A16N,      47,          2,          7,          7,2,20130815,       0242,    41.9999,   -19.9997,       2379,  1087.2,   8.1890,  35.5498,2,  35.5482,2,    201.9,2,   203.5,2,   10.80,2,   17.80,2,    0.00,2,    1.12,2,   2.201,6,   1.149,6,   0.608,6,  2193.0,2,  2356.1,2,  -999.0,9, -999.00,   7.7342,2,    25.00, -999.00,9,  -999.0,9,  -999.0, -999.00,9, -999.00,9,     15.473,6,-999.0000,9,-999.0000,9,-999.0000,9,-999.0000,9,-999.0000,9,-999.0000,9,-999.0000,9,-999.0000,9,-999.0000,9,     -999.0,5,  -999.0,9,     -999.0,     -999.0,9,     -999.0,20130815,       0311
33RO20130803,       A16N,      47,          2,          6,          6,2,20130815,       0242,    41.9999,   -19.9997,       2379,  1236.7,   6.5167,  35.3099,2,  35.3107,2,    224.4,2,   225.3,2,   11.20,2,   17.90,2,    0.00,2,    1.14,2,-999.000,9,-999.000,9,-999.000,9,  2184.3,2,  2337.2,2,   758.3,2,      20,   7.7211,2,    25.00, -999.00,9,  -999.0,9,  -999.0, -999.00,9, -999.00,9,     -999.0,9,-999.0000,9,-999.0000,9,-999.0000,9,-999.0000,9,-999.0000,9,-999.0000,9,-999.0000,9,-999.0000,9,-999.0000,9,     -999.0,9,  -999.0,9,     -999.0,     -999.0,9,     -999.0,20130815,       0307
33RO20130803,       A16N,      47,          2,          5,          5,2,20130815,       0242,    41.9999,   -19.9997,       2379,  1378.3,   5.4292,  35.1518,2,  35.1525,2,    240.9,2,   242.3,2,   11.40,2,   17.80,2,    0.00,2,    1.15,2,-999.000,9,-999.000,9,-999.000,9,  2178.8,2,  2314.7,2,   771.3,2,      20,   7.7135,6,    25.00, -999.00,9,  -999.0,9,  -999.0, -999.00,9, -999.00,9,     -999.0,9,-999.0000,9,-999.0000,9,-999.0000,9,-999.0000,9,-999.0000,9,-999.0000,9,-999.0000,9,-999.0000,9,-999.0000,9,     -999.0,9,  -999.0,9,     -999.0,     -999.0,9,     -999.0,20130815,       0304
33RO20130803,       A16N,      47,          2,          4,          4,2,20130815,       0242,    41.9999,   -19.9997,       2379,  1661.7,   4.2329,  34.9971,2,  34.9974,2,    258.5,2,   259.5,2,   11.70,6,   17.60,6,    0.00,6,    1.15,6,   3.039,2,   1.522,2,   0.735,2,  2170.1,2,  2306.0,2,  -999.0,9, -999.00,   7.7121,2,    25.00, -999.00,9,  -999.0,9,  -999.0, -999.00,9, -999.00,9,     14.095,2,-999.0000,9,-999.0000,9,-999.0000,9,-999.0000,9,-999.0000,9,-999.0000,9,-999.0000,9,-999.0000,9,-999.0000,9,     -999.0,5,  -999.0,9,     -999.0,     -999.0,9,     -999.0,20130815,       0258
33RO20130803,       A16N,      47,          2,          3,          3,2,20130815,       0242,    41.9999,   -19.9997,       2379,  1973.2,   3.6301,  34.9381,2,  34.9370,2,    267.8,2,   267.5,2,   12.80,6,   17.50,6,    0.00,6,    1.15,6,   2.749,2,   1.338,2,   0.541,2,  2165.1,2,  2305.2,2,   765.1,2,      20,   7.7164,2,    25.00, -999.00,9,  -999.0,9,  -999.0, -999.00,9, -999.00,9,     13.896,2,-999.0000,9,-999.0000,9,-999.0000,9,-999.0000,9,-999.0000,9,-999.0000,9,-999.0000,9,-999.0000,9,-999.0000,9,     -999.0,5,  -999.0,9,     -999.0,     -999.0,9,     -999.0,20130815,       0251
33RO20130803,       A16N,      47,          2,          2,          2,2,20130815,       0242,    41.9999,   -19.9997,       2379,  2145.4,   3.4129,  34.9341,2,  34.9335,2,    268.0,2,     268,2,   14.40,6,   17.60,6,    0.00,6,    1.16,6,-999.000,9,-999.000,9,-999.000,9,  2165.2,2,  2315.4,2,   757.7,2,      20,   7.7216,2,    25.00, -999.00,9,  -999.0,9,  -999.0, -999.00,9, -999.00,9,     -999.0,9,-999.0000,9,-999.0000,9,-999.0000,9,-999.0000,9,-999.0000,9,-999.0000,9,-999.0000,9,-999.0000,9,-999.0000,9,     -999.0,9,  -999.0,9,     -999.0,     -999.0,9,     -999.0,20130815,       0247
33RO20130803,       A16N,      47,          2,          1,          1,2,20130815,       0242,    41.9999,   -19.9997,       2379,  2403.0,   3.2206,  34.9402,2,  34.9396,2,    264.4,2,   265.4,2,   18.00,6,   18.00,6,    0.00,6,    1.19,6,   1.828,2,   0.884,2,   0.346,2,  2170.1,6,  2367.3,4,   752.7,2,      20,   7.7205,2,    25.00, -999.00,9,  -999.0,9,  -999.0, -999.00,9, -999.00,9,     13.670,2,-999.0000,9,-999.0000,9,-999.0000,9,-999.0000,9,-999.0000,9,-999.0000,9,-999.0000,9,-999.0000,9,-999.0000,9,     -999.0,5,  -999.0,9,     -999.0,     -999.0,9,     -999.0,20130815,       0242