BOTTLE,20220815CCHSIOAMB
EXPOCODE,SECT_ID,STNNBR,CASTNO,SAMPNO,BTLNBR,BTLNBR_FLAG_W,DATE,TIME,LATITUDE,LONGITUDE,DEPTH,CTDPRS,CTDTMP,CTDSAL,CTDSAL_FLAG_W,SALNTY,SALNTY_FLAG_W,CTDOXY,CTDOXY_FLAG_W,OXYGEN,OXYGEN_FLAG_W,SILCAT,SILCAT_FLAG_W,NITRAT,NITRAT_FLAG_W,NITRIT,NITRIT_FLAG_W,PHSPHT,PHSPHT_FLAG_W,CFC-11,CFC-11_FLAG_W,CFC-12,CFC-12_FLAG_W,SF6,SF6_FLAG_W,TCARBN,TCARBN_FLAG_W,ALKALI,ALKALI_FLAG_W,PCO2,PCO2_FLAG_W,PCO2TMP,PH_SWS,PH_SWS_FLAG_W,PH_TMP,DELC13,DELC13_FLAG_W,DELC14,DELC14_FLAG_W,C14ERR,DOC,DOC_FLAG_W,TDN,TDN_FLAG_W,N2O,N2O_FLAG_W,CDOM325,CDOM325_FLAG_W,CDOM340,CDOM340_FLAG_W,CDOM380,CDOM380_FLAG_W,CDOM412,CDOM412_FLAG_W,CDOM443,CDOM443_FLAG_W,CDOM490,CDOM490_FLAG_W,CDOM555,CDOM555_FLAG_W,CDOMSL,CDOMSL_FLAG_W,CDOMSN,CDOMSN_FLAG_W,CCL4,CCL4_FLAG_W,14C-DOC,14C-DOC_FLAG_W,14C-DOCERR,13C-DOC,13C-DOC_FLAG_W,13C-DOCERR,BTL_DATE,BTL_TIME
,,,,,,,,,,,METERS,DBAR,ITS-90,PSS-78,,PSS-78,,UMOL/KG,,UMOL/KG,,UMOL/KG,,UMOL/KG,,UMOL/KG,,UMOL/KG,,PMOL/KG,,PMOL/KG,,FMOL/KG,,UMOL/KG,,UMOL/KG,,UATM,,DEG C,,,DEG C,/MILLE,,/MILLE,,/MILLE,UMOL/KG,,UMOL/KG,,NMOL/KG,,1/M,,1/M,,1/M,,1/M,,1/M,,1/M,,1/M,,1/NM,,1/NM,,PMOL/KG,,/MILLE,,/MILLE,/MILLE,,/MILLE,,
33RO20130803,       A16N,     104,          1,         24,         24,5,20130920,       0845,    11.6661,   -29.0014,       5606,     2.8,  28.4786,  35.9235,2,-999.0000,9,    197.9,2,  -999.0,9, -999.00,9, -999.00,9, -999.00,9, -999.00,9,-999.000,9,-999.000,9,-999.000,9,  -999.0,9,  -999.0,9,  -999.0,9, -999.00,-999.0000,9,  -999.00, -999.00,9,  -999.0,9,  -999.0, -999.00,9, -999.00,9,     -999.0,9,-999.0000,9,-999.0000,9,-999.0000,9,-999.0000,9,-999.0000,9,-999.0000,9,-999.0000,9,-999.0000,9,-999.0000,9,     -999.0,9,  -999.0,9,     -999.0,     -999.0,9,     -999.0,20130920,       1054
33RO20130803,       A16N,     104,          1,         23,         23,2,20130920,       0845,    11.6661,   -29.0014,       5606,    32.2,  23.5906,  35.9306,2,  35.9210,2,    226.7,2,   212.8,2,    1.40,2,    0.60,2,    0.01,2,    0.08,2,   1.891,2,   1.149,2,   1.190,2,  2055.6,6,  2355.2,6,  -999.0,9, -999.00,   8.0199,2,    25.00, -999.00,9,  -999.0,9,  -999.0,   68.02,2,    3.86,2,     13.161,2,-999.0000,9,-999.0000,9,-999.0000,9,-999.0000,9,-999.0000,9,-999.0000,9,-999.0000,9,-999.0000,9,-999.0000,9,     -999.0,5,  -999.0,9,     -999.0,     -999.0,9,     -999.0,20130920,       1051
33RO20130803,       A16N,     104,          1,         22,         22,2,20130920,       0845,    11.6661,   -29.0014,       5606,    72.7,  14.7071,  35.4888,2,  35.4849,2,     73.4,2,    74.8,2,    7.10,2,   24.20,2,    0.06,2,    1.51,2,   2.108,2,   1.170,2,   0.693,2,  2212.4,2,  2327.6,2,  -999.0,9, -999.00,   7.6273,2,    25.00, -999.00,9,  -999.0,9,  -999.0,   61.08,2,   26.89,2,     35.642,2,-999.0000,9,-999.0000,9,-999.0000,9,-999.0000,9,-999.0000,9,-999.0000,9,-999.0000,9,-999.0000,9,-999.0000,9,     -999.0,5,  -999.0,9,     -999.0,     -999.0,9,     -999.0,20130920,       1049
33RO20130803,       A16N,     104,          1,         21,         21,2,20130920,       0845,    11.6661,   -29.0014,       5606,   107.1,  13.2408,  35.3422,2,  35.3207,2,     76.3,2,    81.6,2,    8.70,2,   25.70,2,    0.01,2,    1.63,2,   2.032,2,   1.109,2,   0.588,2,  2213.3,2,  2319.8,2,  -999.0,9, -999.00,   7.5457,3,    25.00, -999.00,9,  -999.0,9,  -999.0,   55.92,2,   28.17,2,     35.236,2,-999.0000,9,-999.0000,9,-999.0000,9,-999.0000,9,-999.0000,9,-999.0000,9,-999.0000,9,-999.0000,9,-999.0000,9,     -999.0,5,  -999.0,9,     -999.0,     -999.0,9,     -999.0,20130920,       1047
33RO20130803,       A16N,     104,          1,         20,         20,2,20130920,       0845,    11.6661,   -29.0014,       5606,   217.3,  11.6344,  35.1992,2,  35.2000,2,     86.4,2,      82,2,   10.70,2,   28.00,2,    0.01,2,    1.76,2,   1.688,2,   0.909,2,   0.408,2,  2220.9,2,  2317.0,2,  -999.0,9, -999.00,   7.5758,2,    25.00, -999.00,9,  -999.0,9,  -999.0,    51.6,2,   30.79,2,     36.945,2,-999.0000,9,-999.0000,9,-999.0000,9,-999.0000,9,-999.0000,9,-999.0000,9,-999.0000,9,-999.0000,9,-999.0000,9,     -999.0,5,  -999.0,9,     -999.0,     -999.0,9,     -999.0,20130920,       1043
33RO20130803,       A16N,     104,          1,         19,         19,2,20130920,       0845,    11.6661,   -29.0014,       5606,   327.7,  10.9032,  35.1716,2,  35.1727,2,     54.0,2,    53.7,2,   12.50,2,   32.10,2,    0.01,2,    1.96,2,   1.203,2,   0.651,2,   0.285,2,  2240.4,2,  2312.5,2,  -999.0,9, -999.00,   7.5102,2,    25.00, -999.00,9,  -999.0,9,  -999.0,    47.8,2,   34.56,2,     41.863,2,-999.0000,9,-999.0000,9,-999.0000,9,-999.0000,9,-999.0000,9,-999.0000,9,-999.0000,9,-999.0000,9,-999.0000,9,     -999.0,5,  -999.0,9,     -999.0,     -999.0,9,     -999.0,20130920,       1038
33RO20130803,       A16N,     104,          1,         18,         18,2,20130920,       0845,    11.6661,   -29.0014,       5606,   437.8,  10.1167,  35.1383,2,  35.1372,2,     48.1,2,    47.4,2,   14.50,2,   34.40,2,    0.00,2,    2.10,2,   0.747,6,   0.401,6,   0.235,6,  2247.5,2,  2311.3,2,  -999.0,9, -999.00,   7.4851,2,    25.00, -999.00,9,  -999.0,9,  -999.0,   46.53,2,   36.89,2,     40.486,6,-999.0000,9,-999.0000,9,-999.0000,9,-999.0000,9,-999.0000,9,-999.0000,9,-999.0000,9,-999.0000,9,-999.0000,9,     -999.0,5,  -999.0,9,     -999.0,     -999.0,9,     -999.0,20130920,       1034
33RO20130803,       A16N,     104,          1,         17,         17,2,20130920,       0845,    11.6661,   -29.0014,       5606,   548.0,   8.5752,  34.9764,2,  34.9752,2,     58.6,2,    58.9,2,   18.20,2,   36.10,2,    0.00,2,    2.27,2,   0.338,2,   0.184,2,   0.091,2,  2246.4,2,  2307.2,2,  -999.0,9, -999.00,   7.4722,2,    25.00, -999.00,9,  -999.0,9,  -999.0,   45.87,2,   38.51,2,     35.660,2,-999.0000,9,-999.0000,9,-999.0000,9,-999.0000,9,-999.0000,9,-999.0000,9,-999.0000,9,-999.0000,9,-999.0000,9,     -999.0,5,  -999.0,9,     -999.0,     -999.0,9,     -999.0,20130920,       1031
33RO20130803,       A16N,     104,          1,         16,         16,2,20130920,       0845,    11.6661,   -29.0014,       5606,   673.0,   7.4527,  34.8770,2,  34.8745,2,     76.9,2,    77.2,2,   21.10,2,   36.10,2,    0.00,2,    2.32,2,   0.153,2,   0.088,2,   0.047,2,  2242.0,6,  2306.8,2,  -999.0,9, -999.00,   7.4857,2,    25.00, -999.00,9,  -999.0,9,  -999.0,   45.33,2,   38.45,2,     31.703,2,-999.0000,9,-999.0000,9,-999.0000,9,-999.0000,9,-999.0000,9,-999.0000,9,-999.0000,9,-999.0000,9,-999.0000,9,     -999.0,5,  -999.0,9,     -999.0,     -999.0,9,     -999.0,20130920,       1027
33RO20130803,       A16N,     104,          1,         15,         15,2,20130920,       0845,    11.6661,   -29.0014,       5606,   798.2,   6.3997,  34.7856,2,  34.7839,2,     97.9,2,    97.4,2,   24.10,2,   35.60,2,    0.00,2,    2.34,2,   0.066,2,   0.036,2,   0.000,2,  2238.8,2,  2308.5,2,  -999.0,9, -999.00,   7.5047,2,    25.00, -999.00,9,  -999.0,9,  -999.0,   44.62,2,   37.93,2,     28.682,2,-999.0000,9,-999.0000,9,-999.0000,9,-999.0000,9,-999.0000,9,-999.0000,9,-999.0000,9,-999.0000,9,-999.0000,9,     -999.0,5,  -999.0,9,     -999.0,     -999.0,9,     -999.0,20130920,       1023
33RO20130803,       A16N,     104,          1,         14,         14,2,20130920,       0845,    11.6661,   -29.0014,       5606,   922.6,   5.6200,  34.7617,2,  34.7621,2,    121.8,2,   121.2,2,   25.90,2,   33.90,2,    0.00,2,    2.27,2,   0.023,2,   0.017,2,   0.000,2,  2229.8,2,  2309.5,2,  -999.0,9, -999.00,   7.5315,2,    25.00, -999.00,9,  -999.0,9,  -999.0,      44,2,   36.17,2,     25.367,2,-999.0000,9,-999.0000,9,-999.0000,9,-999.0000,9,-999.0000,9,-999.0000,9,-999.0000,9,-999.0000,9,-999.0000,9,     -999.0,5,  -999.0,9,     -999.0,     -999.0,9,     -999.0,20130920,       1019
33RO20130803,       A16N,     104,          1,         13,         13,2,20130920,       0845,    11.6661,   -29.0014,       5606,  1047.9,   5.3055,  34.8124,2,  34.8124,2,    139.9,2,     140,2,   25.30,6,   31.70,6,    0.00,6,    2.13,6,   0.021,2,   0.016,2,   0.000,2,  2221.6,2,  2312.9,2,  -999.0,9, -999.00,   7.5676,6,    25.00, -999.00,9,  -999.0,9,  -999.0,   43.28,2,   34.16,2,     23.015,2,-999.0000,9,-999.0000,9,-999.0000,9,-999.0000,9,-999.0000,9,-999.0000,9,-999.0000,9,-999.0000,9,-999.0000,9,     -999.0,5,  -999.0,9,     -999.0,     -999.0,9,     -999.0,20130920,       1016
33RO20130803,       A16N,     104,          1,         12,         12,2,20130920,       0845,    11.6661,   -29.0014,       5606,  1197.9,   5.0209,  34.8894,2,  34.8901,2,    164.8,2,   164.8,2,   23.30,6,   28.50,6,    0.00,6,    1.92,6,   0.037,2,   0.023,2,   0.000,2,  2209.1,2,  2315.7,6,  -999.0,9, -999.00,   7.6120,2,    25.00, -999.00,9,  -999.0,9,  -999.0,   42.84,2,   30.95,2,     20.217,2,-999.0000,9,-999.0000,9,-999.0000,9,-999.0000,9,-999.0000,9,-999.0000,9,-999.0000,9,-999.0000,9,-999.0000,9,     -999.0,5,  -999.0,9,     -999.0,     -999.0,9,     -999.0,20130920,       1011
33RO20130803,       A16N,     104,          1,         11,         11,2,20130920,       0845,    11.6661,   -29.0014,       5606,  1398.0,   4.6154,  34.9509,2,  34.9509,2,    192.6,2,   191.7,2,   21.40,6,   25.20,6,    0.00,6,    1.70,6,-999.000,9,-999.000,9,-999.000,9,  2195.0,2,  2317.6,2,  -999.0,9, -999.00,   7.6559,2,    25.00, -999.00,9,  -999.0,9,  -999.0,   42.33,2,   27.91,2,     -999.0,9,-999.0000,9,-999.0000,9,-999.0000,9,-999.0000,9,-999.0000,9,-999.0000,9,-999.0000,9,-999.0000,9,-999.0000,9,     -999.0,9,  -999.0,9,     -999.0,     -999.0,9,     -999.0,20130920,       1006
33RO20130803,       A16N,     104,          1,         10,         10,2,20130920,       0845,    11.6661,   -29.0014,       5606,  1648.0,   4.1291,  34.9663,2,  34.9668,2,    218.3,2,   217.7,2,   20.30,6,   22.70,6,    0.00,6,    1.53,6,   0.023,2,   0.019,2,   0.000,2,  2183.3,2,  2317.7,2,  -999.0,9, -999.00,   7.6922,2,    25.00, -999.00,9,  -999.0,9,  -999.0,   41.66,2,   25.39,2,     15.702,2,-999.0000,9,-999.0000,9,-999.0000,9,-999.0000,9,-999.0000,9,-999.0000,9,-999.0000,9,-999.0000,9,-999.0000,9,     -999.0,5,  -999.0,9,     -999.0,     -999.0,9,     -999.0,20130920,       1000
33RO20130803,       A16N,     104,          1,          9,          9,2,20130920,       0845,    11.6661,   -29.0014,       5606,  1947.7,   3.6873,  34.9664,2,  34.9672,2,    234.6,2,   234.2,2,   21.40,2,   21.30,2,    0.00,2,    1.44,2,-999.000,9,-999.000,9,-999.000,9,  2175.3,2,  2319.3,2,  -999.0,9, -999.00,   7.7129,2,    25.00, -999.00,9,  -999.0,9,  -999.0,   41.51,2,   23.69,2,     -999.0,9,-999.0000,9,-999.0000,9,-999.0000,9,-999.0000,9,-999.0000,9,-999.0000,9,-999.0000,9,-999.0000,9,-999.0000,9,     -999.0,9,  -999.0,9,     -999.0,     -999.0,9,     -999.0,20130920,       0954
33RO20130803,       A16N,     104,          1,          8,          8,2,20130920,       0845,    11.6661,   -29.0014,       5606,  2347.3,   3.2756,  34.9559,2,  34.9573,2,    241.9,2,   241.1,2,   25.40,2,   21.00,2,    0.00,2,    1.42,2,   0.000,2,   0.004,2,   0.000,2,  2176.4,2,  2324.3,2,  -999.0,9, -999.00,   7.7212,2,    25.00, -999.00,9,  -999.0,9,  -999.0,   41.49,2,    23.6,2,     13.743,2,-999.0000,9,-999.0000,9,-999.0000,9,-999.0000,9,-999.0000,9,-999.0000,9,-999.0000,9,-999.0000,9,-999.0000,9,     -999.0,5,  -999.0,9,     -999.0,     -999.0,9,     -999.0,20130920,       0946
33RO20130803,       A16N,     104,          1,          7,          7,2,20130920,       0845,    11.6661,   -29.0014,       5606,  2848.1,   2.8262,  34.9326,2,  34.9329,2,    244.5,2,   245.9,2,   31.80,2,   21.00,2,    0.00,2,    1.42,2,-999.000,9,-999.000,9,-999.000,9,  2182.1,2,  2331.7,2,  -999.0,9, -999.00,   7.7259,2,    25.00, -999.00,9,  -999.0,9,  -999.0,   40.71,2,   23.61,2,     -999.0,9,-999.0000,9,-999.0000,9,-999.0000,9,-999.0000,9,-999.0000,9,-999.0000,9,-999.0000,9,-999.0000,9,-999.0000,9,     -999.0,9,  -999.0,9,     -999.0,     -999.0,9,     -999.0,20130920,       0937
33RO20130803,       A16N,     104,          1,          6,          6,2,20130920,       0845,    11.6661,   -29.0014,       5606,  3598.2,   2.5070,  34.9077,2,  34.9079,2,    244.0,2,   245.8,2,   39.50,2,   21.60,2,    0.00,2,    1.47,2,   0.001,2,   0.005,2,   0.000,2,  2191.3,2,  2347.0,2,  -999.0,9, -999.00,   7.7250,2,    25.00, -999.00,9,  -999.0,9,  -999.0,   40.68,2,   23.97,2,     13.471,2,-999.0000,9,-999.0000,9,-999.0000,9,-999.0000,9,-999.0000,9,-999.0000,9,-999.0000,9,-999.0000,9,-999.0000,9,     -999.0,5,  -999.0,9,     -999.0,     -999.0,9,     -999.0,20130920,       0923
33RO20130803,       A16N,     104,          1,          5,          5,2,20130920,       0845,    11.6661,   -29.0014,       5606,  4347.6,   2.3241,  34.8842,2,  34.8838,2,    240.4,2,     241,2,   47.00,2,   22.50,2,    0.00,2,    1.53,2,-999.000,9,-999.000,9,-999.000,9,  2203.5,2,  2351.6,6,  -999.0,9, -999.00,   7.7180,2,    25.00, -999.00,9,  -999.0,9,  -999.0,   40.82,2,   25.08,2,     -999.0,9,-999.0000,9,-999.0000,9,-999.0000,9,-999.0000,9,-999.0000,9,-999.0000,9,-999.0000,9,-999.0000,9,-999.0000,9,     -999.0,9,  -999.0,9,     -999.0,     -999.0,9,     -999.0,20130920,       0910
33RO20130803,       A16N,     104,          1,          4,          4,2,20130920,       0845,    11.6661,   -29.0014,       5606,  5347.7,   2.2974,  34.8699,2,  34.8706,2,    245.1,2,  -999.0,9,   49.70,2,   22.60,2,    0.00,2,    1.54,2,   0.038,2,   0.027,2,   0.000,2,  -999.0,9,  -999.0,9,  -999.0,9, -999.00,-999.0000,9,  -999.00, -999.00,9,  -999.0,9,  -999.0, -999.00,9, -999.00,9,     13.972,2,-999.0000,9,-999.0000,9,-999.0000,9,-999.0000,9,-999.0000,9,-999.0000,9,-999.0000,9,-999.0000,9,-999.0000,9,     -999.0,5,  -999.0,9,     -999.0,     -999.0,9,     -999.0,20130920,       0852
33RO20130803,       A16N,     104,          1,          3,          3,2,20130920,       0845,    11.6661,   -29.0014,       5606,  5347.9,   2.2974,  34.8698,2,  34.8702,2,    245.2,2,   244.9,2,   49.80,2,   22.50,2,    0.00,2,    1.54,2,   0.038,2,   0.026,2,   0.000,2,  2203.5,2,  2461.4,3,  -999.0,9, -999.00,   7.7156,6,    25.00, -999.00,9,  -999.0,9,  -999.0,    40.6,2,   25.02,2,     13.990,2,-999.0000,9,-999.0000,9,-999.0000,9,-999.0000,9,-999.0000,9,-999.0000,9,-999.0000,9,-999.0000,9,-999.0000,9,     -999.0,5,  -999.0,9,     -999.0,     -999.0,9,     -999.0,20130920,       0852
33RO20130803,       A16N,     104,          1,          1,          1,2,20130920,       0845,    11.6661,   -29.0014,       5606,  5668.4,   2.3108,  34.8662,2,  34.8669,2,    246.8,2,   246.4,2,   50.20,2,   22.50,2,    0.00,2,    1.54,2,-999.000,9,-999.000,9,-999.000,9,  2203.4,6,  2506.4,3,  -999.0,9, -999.00,   7.7149,2,    25.00, -999.00,9,  -999.0,9,  -999.0,   40.42,2,   25.04,2,     -999.0,9,-999.0000,9,-999.0000,9,-999.0000,9,-999.0000,9,-999.0000,9,-999.0000,9,-999.0000,9,-999.0000,9,-999.0000,9,     -999.0,9,  -999.0,9,     -999.0,     -999.0,9,     -999.0,20130920,       0844
33RO20130803,       A16N,     104,          1,          2,          2,2,20130920,       0845,    11.6661,   -29.0014,       5606,  5668.3,   2.3109,  34.8662,2,  34.8662,2,    246.4,2,  -999.0,9,   50.20,2,   22.50,2,    0.00,2,    1.54,2,   0.083,2,   0.050,2,   0.023,2,  -999.0,9,  -999.0,9,  -999.0,9, -999.00,-999.0000,9,  -999.00, -999.00,9,  -999.0,9,  -999.0, -999.00,9, -999.00,9,     14.078,2,-999.0000,9,-999.0000,9,-999.0000,9,-999.0000,9,-999.0000,9,-999.0000,9,-999.0000,9,-999.0000,9,-999.0000,9,     -999.0,5,  -999.0,9,     -999.0,     -999.0,9,     -999.0,20130920,       0845