BOTTLE,20220815CCHSIOAMB
EXPOCODE,SECT_ID,STNNBR,CASTNO,SAMPNO,BTLNBR,BTLNBR_FLAG_W,DATE,TIME,LATITUDE,LONGITUDE,DEPTH,CTDPRS,CTDTMP,CTDSAL,CTDSAL_FLAG_W,SALNTY,SALNTY_FLAG_W,CTDOXY,CTDOXY_FLAG_W,OXYGEN,OXYGEN_FLAG_W,SILCAT,SILCAT_FLAG_W,NITRAT,NITRAT_FLAG_W,NITRIT,NITRIT_FLAG_W,PHSPHT,PHSPHT_FLAG_W,CFC-11,CFC-11_FLAG_W,CFC-12,CFC-12_FLAG_W,SF6,SF6_FLAG_W,TCARBN,TCARBN_FLAG_W,ALKALI,ALKALI_FLAG_W,PCO2,PCO2_FLAG_W,PCO2TMP,PH_SWS,PH_SWS_FLAG_W,PH_TMP,DELC13,DELC13_FLAG_W,DELC14,DELC14_FLAG_W,C14ERR,DOC,DOC_FLAG_W,TDN,TDN_FLAG_W,N2O,N2O_FLAG_W,CDOM325,CDOM325_FLAG_W,CDOM340,CDOM340_FLAG_W,CDOM380,CDOM380_FLAG_W,CDOM412,CDOM412_FLAG_W,CDOM443,CDOM443_FLAG_W,CDOM490,CDOM490_FLAG_W,CDOM555,CDOM555_FLAG_W,CDOMSL,CDOMSL_FLAG_W,CDOMSN,CDOMSN_FLAG_W,CCL4,CCL4_FLAG_W,14C-DOC,14C-DOC_FLAG_W,14C-DOCERR,13C-DOC,13C-DOC_FLAG_W,13C-DOCERR,BTL_DATE,BTL_TIME
,,,,,,,,,,,METERS,DBAR,ITS-90,PSS-78,,PSS-78,,UMOL/KG,,UMOL/KG,,UMOL/KG,,UMOL/KG,,UMOL/KG,,UMOL/KG,,PMOL/KG,,PMOL/KG,,FMOL/KG,,UMOL/KG,,UMOL/KG,,UATM,,DEG C,,,DEG C,/MILLE,,/MILLE,,/MILLE,UMOL/KG,,UMOL/KG,,NMOL/KG,,1/M,,1/M,,1/M,,1/M,,1/M,,1/M,,1/M,,1/NM,,1/NM,,PMOL/KG,,/MILLE,,/MILLE,/MILLE,,/MILLE,,
33RO20130803,       A16N,      93,          1,         24,         24,2,20130913,       0530,    18.2499,   -29.0021,       4661,     3.8,  25.7660,  36.6436,2,  36.6443,2,    201.9,2,   203.5,2,    0.40,2,    0.10,2,    0.01,2,    0.08,2,   1.646,2,   1.039,2,   1.242,2,  2074.6,6,  2399.9,2,   324.7,2,      20,   8.0465,2,    25.00, -999.00,9,  -999.0,9,  -999.0,   71.03,2,    3.58,2,      6.367,2,-999.0000,9,-999.0000,9,-999.0000,9,-999.0000,9,-999.0000,9,-999.0000,9,-999.0000,9,-999.0000,9,-999.0000,9,     -999.0,5,  -999.0,9,     -999.0,     -999.0,9,     -999.0,20130913,       0837
33RO20130803,       A16N,      93,          1,         23,         23,2,20130913,       0530,    18.2499,   -29.0021,       4661,    33.4,  25.6608,  36.6339,2,  36.6338,2,    203.6,2,   204.5,2,    0.50,2,    0.10,2,    0.01,2,    0.08,2,   1.643,2,   1.042,2,   1.275,2,  2071.9,2,  2397.1,2,   330.0,2,      20,   8.0447,2,    25.00, -999.00,9,  -999.0,9,  -999.0,   70.66,2,    4.61,2,      6.373,2,-999.0000,9,-999.0000,9,-999.0000,9,-999.0000,9,-999.0000,9,-999.0000,9,-999.0000,9,-999.0000,9,-999.0000,9,     -999.0,5,  -999.0,9,     -999.0,     -999.0,9,     -999.0,20130913,       0834
33RO20130803,       A16N,      93,          1,         22,         22,2,20130913,       0530,    18.2499,   -29.0021,       4661,    62.7,  21.9234,  36.8331,2,  36.8258,2,    219.5,2,   214.9,2,    0.80,2,    0.30,2,    0.02,2,    0.13,2,   1.973,6,   1.218,6,   1.382,6,  2109.6,2,  2408.3,2,   376.0,2,      20,   7.9979,2,    25.00, -999.00,9,  -999.0,9,  -999.0,   66.84,2,    5.04,2,      8.517,6,-999.0000,9,-999.0000,9,-999.0000,9,-999.0000,9,-999.0000,9,-999.0000,9,-999.0000,9,-999.0000,9,-999.0000,9,     -999.0,5,  -999.0,9,     -999.0,     -999.0,9,     -999.0,20130913,       0832
33RO20130803,       A16N,      93,          1,         21,         21,2,20130913,       0530,    18.2499,   -29.0021,       4661,    89.1,  20.2366,  36.8044,2,  36.8025,2,    178.2,2,   177.4,2,    1.40,2,    5.20,2,    0.12,2,    0.39,2,   2.022,2,   1.249,2,   1.346,2,  2145.7,2,  2406.0,2,   458.4,2,      20,   7.9268,2,    25.00, -999.00,9,  -999.0,9,  -999.0,   58.44,2,    9.78,2,     10.787,2,-999.0000,9,-999.0000,9,-999.0000,9,-999.0000,9,-999.0000,9,-999.0000,9,-999.0000,9,-999.0000,9,-999.0000,9,     -999.0,5,  -999.0,9,     -999.0,     -999.0,9,     -999.0,20130913,       0830
33RO20130803,       A16N,      93,          1,         20,         20,2,20130913,       0530,    18.2499,   -29.0021,       4661,   113.9,  18.8239,  36.6056,2,  36.5653,2,    152.5,2,  -999.0,5,    2.70,2,   11.20,2,    0.04,2,    0.70,2,   2.076,2,   1.263,2,   1.205,2,  2174.6,2,  2388.9,2,   566.8,2,      20,   7.8421,2,    25.00, -999.00,9,  -999.0,9,  -999.0,   52.51,2,    14.2,2,     14.911,2,-999.0000,9,-999.0000,9,-999.0000,9,-999.0000,9,-999.0000,9,-999.0000,9,-999.0000,9,-999.0000,9,-999.0000,9,     -999.0,5,  -999.0,9,     -999.0,     -999.0,9,     -999.0,20130913,       0828
33RO20130803,       A16N,      93,          1,         19,         19,2,20130913,       0530,    18.2499,   -29.0021,       4661,   138.9,  17.6272,  36.4240,2,  36.4230,2,    133.8,2,   129.2,2,    3.50,2,   13.50,2,    0.02,2,    0.81,2,   2.122,2,   1.272,2,   1.156,2,  2184.9,2,  2379.4,2,   625.0,2,      20,   7.8050,2,    25.00, -999.00,9,  -999.0,9,  -999.0,   50.36,2,   16.69,2,     17.619,2,-999.0000,9,-999.0000,9,-999.0000,9,-999.0000,9,-999.0000,9,-999.0000,9,-999.0000,9,-999.0000,9,-999.0000,9,     -999.0,5,  -999.0,9,     -999.0,     -999.0,9,     -999.0,20130913,       0826
33RO20130803,       A16N,      93,          1,         18,         18,2,20130913,       0530,    18.2499,   -29.0021,       4661,   198.1,  15.3663,  35.9654,2,  35.9664,2,     97.5,2,    92.7,2,    6.10,2,   20.50,2,    0.01,2,    1.23,2,   2.058,2,   1.192,2,   0.881,2,  2206.4,2,  2353.1,2,   811.7,2,      20,   7.6997,2,    25.00, -999.00,9,  -999.0,9,  -999.0,   48.66,2,   23.63,2,     26.129,2,-999.0000,9,-999.0000,9,-999.0000,9,-999.0000,9,-999.0000,9,-999.0000,9,-999.0000,9,-999.0000,9,-999.0000,9,     -999.0,5,  -999.0,9,     -999.0,     -999.0,9,     -999.0,20130913,       0823
33RO20130803,       A16N,      93,          1,         17,         17,2,20130913,       0530,    18.2499,   -29.0021,       4661,   288.8,  13.6323,  35.7076,2,  35.7067,2,     85.6,2,      88,2,    7.70,2,   23.30,2,    0.01,2,    1.38,2,   1.908,2,   1.078,2,   0.688,2,  2209.8,2,  2339.2,2,   900.6,2,      20,   7.6585,2,    25.00, -999.00,9,  -999.0,9,  -999.0,   47.67,2,   26.65,2,     28.601,2,-999.0000,9,-999.0000,9,-999.0000,9,-999.0000,9,-999.0000,9,-999.0000,9,-999.0000,9,-999.0000,9,-999.0000,9,     -999.0,5,  -999.0,9,     -999.0,     -999.0,9,     -999.0,20130913,       0820
33RO20130803,       A16N,      93,          1,         16,         16,2,20130913,       0530,    18.2499,   -29.0021,       4661,   363.0,  12.2368,  35.5000,2,  35.4999,2,     70.2,2,    69.4,2,   10.00,2,   27.60,2,    0.01,2,    1.64,2,   1.562,6,   0.860,6,   0.488,6,  2226.5,2,  2326.7,2,  1061.9,2,      20,   7.5908,2,    25.00, -999.00,9,  -999.0,9,  -999.0,   46.46,2,   30.75,2,     32.934,6,-999.0000,9,-999.0000,9,-999.0000,9,-999.0000,9,-999.0000,9,-999.0000,9,-999.0000,9,-999.0000,9,-999.0000,9,     -999.0,5,  -999.0,9,     -999.0,     -999.0,9,     -999.0,20130913,       0817
33RO20130803,       A16N,      93,          1,         15,         15,2,20130913,       0530,    18.2499,   -29.0021,       4661,   438.7,  11.2616,  35.3723,2,  35.3720,2,     63.0,2,    63.1,2,   11.90,2,   30.10,2,    0.01,2,    1.80,2,   1.206,2,   0.654,2,   0.336,2,  2232.8,2,  2323.3,2,  1150.7,2,      20,   7.5553,2,    25.00, -999.00,9,  -999.0,9,  -999.0,   45.57,2,    33.2,2,     33.799,2,-999.0000,9,-999.0000,9,-999.0000,9,-999.0000,9,-999.0000,9,-999.0000,9,-999.0000,9,-999.0000,9,-999.0000,9,     -999.0,5,  -999.0,9,     -999.0,     -999.0,9,     -999.0,20130913,       0814
33RO20130803,       A16N,      93,          1,         14,         14,2,20130913,       0530,    18.2499,   -29.0021,       4661,   548.5,   9.8632,  35.2161,2,  35.2141,2,     73.3,2,      73,2,   14.70,2,   31.60,2,    0.01,2,    1.93,2,   0.766,2,   0.410,2,   0.252,2,  2232.0,6,  2318.8,2,  1172.4,2,      20,   7.5466,2,    25.00, -999.00,9,  -999.0,9,  -999.0,   44.82,2,   34.39,2,     31.233,2,-999.0000,9,-999.0000,9,-999.0000,9,-999.0000,9,-999.0000,9,-999.0000,9,-999.0000,9,-999.0000,9,-999.0000,9,     -999.0,5,  -999.0,9,     -999.0,     -999.0,9,     -999.0,20130913,       0810
33RO20130803,       A16N,      93,          1,         13,         13,2,20130913,       0530,    18.2499,   -29.0021,       4661,   723.1,   7.7716,  34.9909,2,  34.9897,2,     90.6,2,    90.5,2,   19.70,6,   33.30,6,    0.01,6,    2.11,6,   0.246,2,   0.133,2,   0.056,2,  2231.4,2,  2312.6,2,  1192.6,2,      20,   7.5345,6,    25.00, -999.00,9,  -999.0,9,  -999.0,   43.85,2,   35.76,2,     28.366,2,-999.0000,9,-999.0000,9,-999.0000,9,-999.0000,9,-999.0000,9,-999.0000,9,-999.0000,9,-999.0000,9,-999.0000,9,     -999.0,5,  -999.0,9,     -999.0,     -999.0,9,     -999.0,20130913,       0803
33RO20130803,       A16N,      93,          1,         12,         12,2,20130913,       0530,    18.2499,   -29.0021,       4661,   873.6,   6.8249,  34.9444,2,  34.9456,2,    110.7,2,   110.7,2,   21.70,6,   32.40,6,    0.01,6,    2.09,6,-999.000,5,-999.000,5,-999.000,5,  2228.7,2,  2311.9,2,  1142.0,2,      20,   7.5566,2,    25.00, -999.00,9,  -999.0,9,  -999.0,   42.87,2,   34.87,2,     -999.0,5,-999.0000,9,-999.0000,9,-999.0000,9,-999.0000,9,-999.0000,9,-999.0000,9,-999.0000,9,-999.0000,9,-999.0000,9,     -999.0,5,  -999.0,9,     -999.0,     -999.0,9,     -999.0,20130913,       0758
33RO20130803,       A16N,      93,          1,         11,         11,2,20130913,       0530,    18.2499,   -29.0021,       4661,  1024.2,   6.2143,  34.9573,2,  34.9577,2,    131.3,2,   131.3,2,   22.30,6,   30.60,6,    0.01,6,    2.00,6,   0.065,2,   0.036,2,   0.000,2,  2224.0,2,  2315.9,2,  1064.1,2,      20,   7.5854,2,    25.00, -999.00,9,  -999.0,9,  -999.0,   42.47,2,   32.97,2,     23.112,2,-999.0000,9,-999.0000,9,-999.0000,9,-999.0000,9,-999.0000,9,-999.0000,9,-999.0000,9,-999.0000,9,-999.0000,9,     -999.0,5,  -999.0,9,     -999.0,     -999.0,9,     -999.0,20130913,       0753
33RO20130803,       A16N,      93,          1,         10,         10,2,20130913,       0530,    18.2499,   -29.0021,       4661,  1174.0,   5.7119,  34.9946,2,  34.9937,2,    154.8,2,   154.8,2,   22.00,6,   28.20,6,    0.01,6,    1.85,6,   0.045,2,   0.024,2,   0.000,2,  2213.9,2,  2319.7,2,   973.8,2,      20,   7.6204,2,    25.00, -999.00,9,  -999.0,9,  -999.0,   41.91,2,    30.6,2,     20.279,2,-999.0000,9,-999.0000,9,-999.0000,9,-999.0000,9,-999.0000,9,-999.0000,9,-999.0000,9,-999.0000,9,-999.0000,9,     -999.0,5,  -999.0,9,     -999.0,     -999.0,9,     -999.0,20130913,       0747
33RO20130803,       A16N,      93,          1,          9,          9,2,20130913,       0530,    18.2499,   -29.0021,       4661,  1398.8,   4.9929,  35.0266,2,  35.0275,2,    187.0,2,   186.2,2,   21.30,2,   25.00,2,    0.01,2,    1.65,2,   0.020,2,   0.014,2,   0.038,2,  2199.5,2,  2323.0,2,   872.3,2,      20,   7.6671,2,    25.00, -999.00,9,  -999.0,9,  -999.0,    41.5,2,   27.54,2,     17.330,2,-999.0000,9,-999.0000,9,-999.0000,9,-999.0000,9,-999.0000,9,-999.0000,9,-999.0000,9,-999.0000,9,-999.0000,9,     -999.0,5,  -999.0,9,     -999.0,     -999.0,9,     -999.0,20130913,       0732
33RO20130803,       A16N,      93,          1,          8,          8,2,20130913,       0530,    18.2499,   -29.0021,       4661,  1748.5,   4.1418,  35.0024,2,  35.0023,2,    216.3,2,   215.8,2,   22.30,2,   22.80,2,    0.01,2,    1.50,2,   0.006,2,   0.006,2,   0.036,2,  2187.5,2,  2321.2,2,   805.4,2,      20,   7.6967,2,    25.00, -999.00,9,  -999.0,9,  -999.0,   41.23,2,    25.4,2,     15.309,2,-999.0000,9,-999.0000,9,-999.0000,9,-999.0000,9,-999.0000,9,-999.0000,9,-999.0000,9,-999.0000,9,-999.0000,9,     -999.0,5,  -999.0,9,     -999.0,     -999.0,9,     -999.0,20130913,       0724
33RO20130803,       A16N,      93,          1,          7,          7,2,20130913,       0530,    18.2499,   -29.0021,       4661,  2224.1,   3.4110,  34.9716,2,  34.9718,2,    237.1,2,   236.4,2,   25.60,2,   21.30,2,    0.01,2,    1.41,2,   0.003,2,   0.004,2,   0.000,2,  2182.0,2,  2326.4,2,   760.7,2,      20,   7.7130,3,    25.00, -999.00,9,  -999.0,9,  -999.0,   40.87,2,   23.85,2,     13.729,2,-999.0000,9,-999.0000,9,-999.0000,9,-999.0000,9,-999.0000,9,-999.0000,9,-999.0000,9,-999.0000,9,-999.0000,9,     -999.0,5,  -999.0,9,     -999.0,     -999.0,9,     -999.0,20130913,       0705
33RO20130803,       A16N,      93,          1,          6,          6,2,20130913,       0530,    18.2499,   -29.0021,       4661,  2648.2,   3.0181,  34.9512,2,  34.9508,2,    241.1,2,   241.2,2,   30.40,2,   21.20,2,    0.01,2,    1.41,2,   0.001,2,   0.001,2,   0.000,2,  2183.3,2,  2331.6,2,   751.2,2,      20,   7.7215,3,    25.00, -999.00,9,  -999.0,9,  -999.0,   40.76,2,   23.39,2,     13.373,2,-999.0000,9,-999.0000,9,-999.0000,9,-999.0000,9,-999.0000,9,-999.0000,9,-999.0000,9,-999.0000,9,-999.0000,9,     -999.0,5,  -999.0,9,     -999.0,     -999.0,9,     -999.0,20130913,       0656
33RO20130803,       A16N,      93,          1,          5,          5,2,20130913,       0530,    18.2499,   -29.0021,       4661,  3047.6,   2.7565,  34.9344,2,  34.9341,2,    241.7,2,   242.2,2,   35.20,2,   21.40,2,    0.01,2,    1.43,2,   0.001,2,   0.001,2,   0.000,2,  2187.5,2,  2340.3,2,   752.1,2,      20,   7.7284,2,    25.00, -999.00,9,  -999.0,9,  -999.0,   40.53,2,   23.91,2,     13.248,2,-999.0000,9,-999.0000,9,-999.0000,9,-999.0000,9,-999.0000,9,-999.0000,9,-999.0000,9,-999.0000,9,-999.0000,9,     -999.0,5,  -999.0,9,     -999.0,     -999.0,9,     -999.0,20130913,       0636
33RO20130803,       A16N,      93,          1,          4,          4,2,20130913,       0530,    18.2499,   -29.0021,       4661,  3447.5,   2.5106,  34.9135,2,  34.9144,2,    239.4,2,   240.5,2,   41.00,2,   22.00,2,    0.01,2,    1.47,2,   0.006,2,   0.005,2,   0.000,2,  2197.5,2,  2349.1,2,   757.1,2,      20,   7.7288,2,    25.00, -999.00,9,  -999.0,9,  -999.0,   40.68,2,   24.64,2,     13.216,2,-999.0000,9,-999.0000,9,-999.0000,9,-999.0000,9,-999.0000,9,-999.0000,9,-999.0000,9,-999.0000,9,-999.0000,9,     -999.0,5,  -999.0,9,     -999.0,     -999.0,9,     -999.0,20130913,       0615
33RO20130803,       A16N,      93,          1,          3,          3,2,20130913,       0530,    18.2499,   -29.0021,       4661,  3848.5,   2.3693,  34.8962,2,  34.8977,2,    241.1,2,   242.2,2,   44.40,2,   22.30,2,    0.01,2,    1.49,2,   0.006,2,   0.006,2,   0.000,2,  2199.2,2,  2353.8,2,   758.1,2,      20,   7.7277,6,    25.00, -999.00,9,  -999.0,9,  -999.0,   40.58,2,   24.61,2,     13.345,2,-999.0000,9,-999.0000,9,-999.0000,9,-999.0000,9,-999.0000,9,-999.0000,9,-999.0000,9,-999.0000,9,-999.0000,9,     -999.0,5,  -999.0,9,     -999.0,     -999.0,9,     -999.0,20130913,       0607
33RO20130803,       A16N,      93,          1,          2,          2,2,20130913,       0530,    18.2499,   -29.0021,       4661,  4248.4,   2.3416,  34.8883,2,  34.8891,2,    241.6,2,   242.2,2,   45.90,2,   22.50,2,    0.01,2,    1.50,2,   0.004,2,   0.003,2,   0.000,2,  2202.2,2,  2354.8,2,   755.7,2,      20,   7.7294,2,    25.00, -999.00,9,  -999.0,9,  -999.0,   40.39,2,   24.99,2,     13.552,2,-999.0000,9,-999.0000,9,-999.0000,9,-999.0000,9,-999.0000,9,-999.0000,9,-999.0000,9,-999.0000,9,-999.0000,9,     -999.0,5,  -999.0,9,     -999.0,     -999.0,9,     -999.0,20130913,       0556
33RO20130803,       A16N,      93,          1,          1,          1,2,20130913,       0530,    18.2499,   -29.0021,       4661,  4717.6,   2.3916,  34.8869,2,  34.8890,2,    242.1,2,   242.6,2,   46.20,2,   22.50,2,    0.01,2,    1.50,2,   0.006,2,   0.003,2,   0.000,2,  2202.8,6,  2356.2,2,   754.8,2,      20,   7.7256,2,    25.00, -999.00,9,  -999.0,9,  -999.0,   40.19,2,   25.08,2,     13.568,2,-999.0000,9,-999.0000,9,-999.0000,9,-999.0000,9,-999.0000,9,-999.0000,9,-999.0000,9,-999.0000,9,-999.0000,9,     -999.0,5,  -999.0,9,     -999.0,     -999.0,9,     -999.0,20130913,       0530