BOTTLE,20220815CCHSIOAMB
EXPOCODE,SECT_ID,STNNBR,CASTNO,SAMPNO,BTLNBR,BTLNBR_FLAG_W,DATE,TIME,LATITUDE,LONGITUDE,DEPTH,CTDPRS,CTDTMP,CTDSAL,CTDSAL_FLAG_W,SALNTY,SALNTY_FLAG_W,CTDOXY,CTDOXY_FLAG_W,OXYGEN,OXYGEN_FLAG_W,SILCAT,SILCAT_FLAG_W,NITRAT,NITRAT_FLAG_W,NITRIT,NITRIT_FLAG_W,PHSPHT,PHSPHT_FLAG_W,CFC-11,CFC-11_FLAG_W,CFC-12,CFC-12_FLAG_W,SF6,SF6_FLAG_W,TCARBN,TCARBN_FLAG_W,ALKALI,ALKALI_FLAG_W,PCO2,PCO2_FLAG_W,PCO2TMP,PH_SWS,PH_SWS_FLAG_W,PH_TMP,DELC13,DELC13_FLAG_W,DELC14,DELC14_FLAG_W,C14ERR,DOC,DOC_FLAG_W,TDN,TDN_FLAG_W,N2O,N2O_FLAG_W,CDOM325,CDOM325_FLAG_W,CDOM340,CDOM340_FLAG_W,CDOM380,CDOM380_FLAG_W,CDOM412,CDOM412_FLAG_W,CDOM443,CDOM443_FLAG_W,CDOM490,CDOM490_FLAG_W,CDOM555,CDOM555_FLAG_W,CDOMSL,CDOMSL_FLAG_W,CDOMSN,CDOMSN_FLAG_W,CCL4,CCL4_FLAG_W,14C-DOC,14C-DOC_FLAG_W,14C-DOCERR,13C-DOC,13C-DOC_FLAG_W,13C-DOCERR,BTL_DATE,BTL_TIME
,,,,,,,,,,,METERS,DBAR,ITS-90,PSS-78,,PSS-78,,UMOL/KG,,UMOL/KG,,UMOL/KG,,UMOL/KG,,UMOL/KG,,UMOL/KG,,PMOL/KG,,PMOL/KG,,FMOL/KG,,UMOL/KG,,UMOL/KG,,UATM,,DEG C,,,DEG C,/MILLE,,/MILLE,,/MILLE,UMOL/KG,,UMOL/KG,,NMOL/KG,,1/M,,1/M,,1/M,,1/M,,1/M,,1/M,,1/M,,1/NM,,1/NM,,PMOL/KG,,/MILLE,,/MILLE,/MILLE,,/MILLE,,
33RO20130803,       A16N,      14,          1,         24,         24,2,20130806,       1459,    58.4995,   -19.9983,       2572,     2.8,  12.0757,  35.0282,2,  35.0287,2,    278.1,2,   279.1,2,    1.50,6,    3.90,6,    0.09,6,    0.31,6,-999.000,9,-999.000,9,-999.000,9,  2082.3,6,  2306.2,2,   462.2,2,      20,   7.9109,2,    25.00, -999.00,9,  -999.0,9,  -999.0,   60.99,2,     8.2,2,     -999.0,9,-999.0000,9,-999.0000,9,-999.0000,9,-999.0000,9,-999.0000,9,-999.0000,9,-999.0000,9,-999.0000,9,-999.0000,9,     -999.0,9,  -999.0,9,     -999.0,     -999.0,9,     -999.0,20130806,       1613
33RO20130803,       A16N,      14,          1,         23,         23,2,20130806,       1459,    58.4995,   -19.9983,       2572,    19.6,  11.8012,  35.0283,2,  35.0724,2,    279.3,2,   275.2,2,    1.30,6,    4.70,6,    0.11,6,    0.38,6,-999.000,9,-999.000,9,-999.000,9,  2094.3,2,  2311.3,6,   488.3,2,      20,   7.8901,2,    25.00, -999.00,9,  -999.0,9,  -999.0,   59.51,2,    8.06,2,     -999.0,9,-999.0000,9,-999.0000,9,-999.0000,9,-999.0000,9,-999.0000,9,-999.0000,9,-999.0000,9,-999.0000,9,-999.0000,9,     -999.0,9,  -999.0,9,     -999.0,     -999.0,9,     -999.0,20130806,       1611
33RO20130803,       A16N,      14,          1,         22,         22,2,20130806,       1459,    58.4995,   -19.9983,       2572,    42.0,  10.5953,  35.1945,2,  35.1912,2,    266.0,2,   264.8,2,    1.20,2,    7.30,2,    0.22,2,    0.59,2,-999.000,9,-999.000,9,-999.000,9,  -999.0,9,  -999.0,9,  -999.0,9, -999.00,-999.0000,9,  -999.00, -999.00,9,  -999.0,9,  -999.0,   55.15,2,   11.97,2,     -999.0,9,-999.0000,9,-999.0000,9,-999.0000,9,-999.0000,9,-999.0000,9,-999.0000,9,-999.0000,9,-999.0000,9,-999.0000,9,     -999.0,9,  -999.0,9,     -999.0,     -999.0,9,     -999.0,20130806,       1609
33RO20130803,       A16N,      14,          1,         21,         21,2,20130806,       1459,    58.4995,   -19.9983,       2572,    69.4,  10.1620,  35.2006,2,  35.2054,2,    263.7,2,     260,2,    2.10,2,    9.70,2,    0.28,2,    0.68,2,-999.000,9,-999.000,9,-999.000,9,  2134.3,2,  2318.5,2,   596.1,2,      20,   7.8145,2,    25.00, -999.00,9,  -999.0,9,  -999.0,   53.34,2,   13.96,2,     -999.0,9,-999.0000,9,-999.0000,9,-999.0000,9,-999.0000,9,-999.0000,9,-999.0000,9,-999.0000,9,-999.0000,9,-999.0000,9,     -999.0,9,  -999.0,9,     -999.0,     -999.0,9,     -999.0,20130806,       1607
33RO20130803,       A16N,      14,          1,         20,         20,2,20130806,       1459,    58.4995,   -19.9983,       2572,    92.4,  10.0128,  35.2601,2,  35.2619,2,    253.5,2,     252,2,    3.30,2,   11.30,2,    0.03,2,    0.74,2,-999.000,9,-999.000,9,-999.000,9,  -999.0,9,  -999.0,9,  -999.0,9, -999.00,-999.0000,9,  -999.00, -999.00,9,  -999.0,9,  -999.0,   51.91,2,   13.76,2,     -999.0,9,-999.0000,9,-999.0000,9,-999.0000,9,-999.0000,9,-999.0000,9,-999.0000,9,-999.0000,9,-999.0000,9,-999.0000,9,     -999.0,9,  -999.0,9,     -999.0,     -999.0,9,     -999.0,20130806,       1605
33RO20130803,       A16N,      14,          1,         19,         19,2,20130806,       1459,    58.4995,   -19.9983,       2572,   118.5,   9.7910,  35.2784,2,  35.2747,2,    255.0,2,   253.9,2,    3.30,2,   11.60,2,    0.02,2,    0.76,2,-999.000,9,-999.000,9,-999.000,9,  2143.6,2,  2322.4,2,   626.5,6,      20,   7.7967,2,    25.00, -999.00,9,  -999.0,9,  -999.0,   50.92,2,   15.23,2,     -999.0,9,-999.0000,9,-999.0000,9,-999.0000,9,-999.0000,9,-999.0000,9,-999.0000,9,-999.0000,9,-999.0000,9,-999.0000,9,     -999.0,9,  -999.0,9,     -999.0,     -999.0,9,     -999.0,20130806,       1603
33RO20130803,       A16N,      14,          1,         18,         18,2,20130806,       1459,    58.4995,   -19.9983,       2572,   143.8,   9.4072,  35.2329,2,  35.2325,2,    253.8,2,     260,2,    3.20,2,   11.60,2,    0.01,2,    0.76,2,-999.000,9,-999.000,9,-999.000,9,  -999.0,9,  -999.0,9,  -999.0,9, -999.00,-999.0000,9,  -999.00, -999.00,9,  -999.0,9,  -999.0,   50.52,2,   15.01,2,     -999.0,9,-999.0000,9,-999.0000,9,-999.0000,9,-999.0000,9,-999.0000,9,-999.0000,9,-999.0000,9,-999.0000,9,-999.0000,9,     -999.0,9,  -999.0,9,     -999.0,     -999.0,9,     -999.0,20130806,       1601
33RO20130803,       A16N,      14,          1,         17,         17,2,20130806,       1459,    58.4995,   -19.9983,       2572,   165.5,   9.2628,  35.2203,2,  35.2237,2,    255.6,2,   261.8,2,    3.30,2,   11.60,2,    0.01,2,    0.77,2,-999.000,9,-999.000,9,-999.000,9,  -999.0,9,  -999.0,9,  -999.0,9, -999.00,-999.0000,9,  -999.00, -999.00,9,  -999.0,9,  -999.0,   49.42,2,   14.98,2,     -999.0,9,-999.0000,9,-999.0000,9,-999.0000,9,-999.0000,9,-999.0000,9,-999.0000,9,-999.0000,9,-999.0000,9,-999.0000,9,     -999.0,9,  -999.0,9,     -999.0,     -999.0,9,     -999.0,20130806,       1600
33RO20130803,       A16N,      14,          1,         16,         16,2,20130806,       1459,    58.4995,   -19.9983,       2572,   193.1,   8.9846,  35.1874,2,  35.1841,2,    261.6,2,   261.6,2,    4.00,2,   12.10,2,    0.01,2,    0.80,2,-999.000,9,-999.000,9,-999.000,9,  2144.2,2,  2312.2,3,   640.4,2,      20,   7.7862,2,    25.00, -999.00,9,  -999.0,9,  -999.0,   48.65,2,   15.68,2,     -999.0,9,-999.0000,9,-999.0000,9,-999.0000,9,-999.0000,9,-999.0000,9,-999.0000,9,-999.0000,9,-999.0000,9,-999.0000,9,     -999.0,9,  -999.0,9,     -999.0,     -999.0,9,     -999.0,20130806,       1558
33RO20130803,       A16N,      14,          1,         15,         15,2,20130806,       1459,    58.4995,   -19.9983,       2572,   268.7,   9.0483,  35.2452,2,  35.2461,2,    260.3,2,   258.7,2,    4.70,6,   12.60,6,    0.01,6,    0.82,6,-999.000,9,-999.000,9,-999.000,9,  -999.0,9,  -999.0,9,  -999.0,9, -999.00,-999.0000,9,  -999.00, -999.00,9,  -999.0,9,  -999.0,   47.89,2,   15.94,2,     -999.0,9,-999.0000,9,-999.0000,9,-999.0000,9,-999.0000,9,-999.0000,9,-999.0000,9,-999.0000,9,-999.0000,9,-999.0000,9,     -999.0,9,  -999.0,9,     -999.0,     -999.0,9,     -999.0,20130806,       1555
33RO20130803,       A16N,      14,          1,         14,         14,2,20130806,       1459,    58.4995,   -19.9983,       2572,   361.6,   8.2713,  35.1437,2,  35.1398,2,    235.8,2,   239.8,2,    7.40,6,   15.20,6,    0.01,6,    1.00,6,-999.000,9,-999.000,9,-999.000,9,  2159.6,2,  2309.1,6,   713.5,2,      20,   7.7437,2,    25.00, -999.00,9,  -999.0,9,  -999.0,   47.14,2,   17.35,2,     -999.0,9,-999.0000,9,-999.0000,9,-999.0000,9,-999.0000,9,-999.0000,9,-999.0000,9,-999.0000,9,-999.0000,9,-999.0000,9,     -999.0,9,  -999.0,9,     -999.0,     -999.0,9,     -999.0,20130806,       1552
33RO20130803,       A16N,      14,          1,         13,         13,2,20130806,       1459,    58.4995,   -19.9983,       2572,   454.7,   7.7325,  35.1250,2,  35.1242,2,    245.7,2,   245.9,2,    7.80,2,   15.50,2,    0.00,2,    1.02,2,-999.000,9,-999.000,9,-999.000,9,  -999.0,9,  -999.0,9,  -999.0,9, -999.00,-999.0000,9,  -999.00, -999.00,9,  -999.0,9,  -999.0,   46.41,2,   18.28,2,     -999.0,9,-999.0000,9,-999.0000,9,-999.0000,9,-999.0000,9,-999.0000,9,-999.0000,9,-999.0000,9,-999.0000,9,-999.0000,9,     -999.0,9,  -999.0,9,     -999.0,     -999.0,9,     -999.0,20130806,       1549
33RO20130803,       A16N,      14,          1,         12,         12,2,20130806,       1459,    58.4995,   -19.9983,       2572,   549.6,   7.2365,  35.0972,2,  35.0937,2,    236.7,2,   234.4,2,    9.10,2,   16.90,2,    0.00,2,    1.11,2,-999.000,9,-999.000,9,-999.000,9,  2169.3,2,  2312.8,2,   766.9,2,      20,   7.7172,6,    25.00, -999.00,9,  -999.0,9,  -999.0,   46.64,2,   19.77,2,     -999.0,9,-999.0000,9,-999.0000,9,-999.0000,9,-999.0000,9,-999.0000,9,-999.0000,9,-999.0000,9,-999.0000,9,-999.0000,9,     -999.0,9,  -999.0,9,     -999.0,     -999.0,9,     -999.0,20130806,       1546
33RO20130803,       A16N,      14,          1,         11,         11,2,20130806,       1459,    58.4995,   -19.9983,       2572,   660.5,   6.5352,  35.0819,2,  35.1498,4,    221.7,2,   221.5,2,   10.80,2,   18.40,2,    0.00,2,    1.21,2,-999.000,9,-999.000,9,-999.000,9,  2180.5,6,  2312.6,2,   812.5,2,      20,   7.6935,2,    25.00, -999.00,9,  -999.0,9,  -999.0,   46.38,2,   20.75,2,     -999.0,9,-999.0000,9,-999.0000,9,-999.0000,9,-999.0000,9,-999.0000,9,-999.0000,9,-999.0000,9,-999.0000,9,-999.0000,9,     -999.0,9,  -999.0,9,     -999.0,     -999.0,9,     -999.0,20130806,       1543
33RO20130803,       A16N,      14,          1,         10,         10,2,20130806,       1459,    58.4995,   -19.9983,       2572,   743.4,   6.0110,  35.0522,2,  35.0518,2,    229.0,2,   227.8,2,   11.00,2,   18.50,2,    0.00,2,    1.21,2,   3.117,2,   1.633,2,   1.147,2,  -999.0,9,  -999.0,9,  -999.0,9, -999.00,-999.0000,9,  -999.00, -999.00,9,  -999.0,9,  -999.0,   46.16,2,   20.41,2,     16.202,2,-999.0000,9,-999.0000,9,-999.0000,9,-999.0000,9,-999.0000,9,-999.0000,9,-999.0000,9,-999.0000,9,-999.0000,9,     -999.0,5,  -999.0,9,     -999.0,     -999.0,9,     -999.0,20130806,       1540
33RO20130803,       A16N,      14,          1,          9,          9,2,20130806,       1459,    58.4995,   -19.9983,       2572,   743.5,   6.0103,  35.0522,2,  35.0524,2,    229.0,2,     228,2,   11.00,2,   18.40,2,    0.00,2,    1.21,2,   3.119,2,   1.622,2,   1.079,2,  2178.3,2,  2310.9,2,   818.9,2,      20,   7.6914,2,    25.00, -999.00,9,  -999.0,9,  -999.0, -999.00,9, -999.00,9,     16.194,2,-999.0000,9,-999.0000,9,-999.0000,9,-999.0000,9,-999.0000,9,-999.0000,9,-999.0000,9,-999.0000,9,-999.0000,9,     -999.0,5,  -999.0,9,     -999.0,     -999.0,9,     -999.0,20130806,       1540
33RO20130803,       A16N,      14,          1,          8,          8,2,20130806,       1459,    58.4995,   -19.9983,       2572,   857.7,   5.1978,  35.0071,2,  35.0067,2,    242.1,2,   243.1,2,   11.00,2,   18.20,2,    0.00,2,    1.19,2,   3.405,2,   1.770,2,   1.223,2,  2176.6,2,  2287.2,4,   817.5,2,      20,   7.6905,2,    25.00, -999.00,9,  -999.0,9,  -999.0,   45.72,2,   20.43,2,     15.580,2,-999.0000,9,-999.0000,9,-999.0000,9,-999.0000,9,-999.0000,9,-999.0000,9,-999.0000,9,-999.0000,9,-999.0000,9,     -999.0,5,  -999.0,9,     -999.0,     -999.0,9,     -999.0,20130806,       1537
33RO20130803,       A16N,      14,          1,          7,          7,2,20130806,       1459,    58.4995,   -19.9983,       2572,  1016.5,   4.5311,  34.9532,2,-999.0000,9,    258.8,2,   259.1,2,   10.70,2,   17.60,2,    0.00,2,    1.16,2,   3.751,2,   1.929,2,   1.303,2,  -999.0,9,  -999.0,9,  -999.0,9, -999.00,-999.0000,9,  -999.00, -999.00,9,  -999.0,9,  -999.0,   45.28,2,   20.34,2,     15.148,2,-999.0000,9,-999.0000,9,-999.0000,9,-999.0000,9,-999.0000,9,-999.0000,9,-999.0000,9,-999.0000,9,-999.0000,9,     -999.0,5,  -999.0,9,     -999.0,     -999.0,9,     -999.0,20130806,       1533
33RO20130803,       A16N,      14,          1,          6,          6,2,20130806,       1459,    58.4995,   -19.9983,       2572,  1159.4,   4.2055,  34.9316,2,  34.9315,2,    263.5,2,   266.2,2,   10.70,2,   17.30,2,    0.00,2,    1.15,2,   3.851,6,   1.965,6,   1.309,6,  2167.9,2,  2281.5,4,   803.2,2,      20,   7.6972,2,    25.00, -999.00,9,  -999.0,9,  -999.0,   45.37,2,    21.1,2,     14.819,6,-999.0000,9,-999.0000,9,-999.0000,9,-999.0000,9,-999.0000,9,-999.0000,9,-999.0000,9,-999.0000,9,-999.0000,9,     -999.0,5,  -999.0,9,     -999.0,     -999.0,9,     -999.0,20130806,       1529
33RO20130803,       A16N,      14,          1,          5,          5,2,20130806,       1459,    58.4995,   -19.9983,       2572,  1382.0,   3.8785,  34.9151,2,  34.9135,2,    271.4,2,   271.5,2,   11.10,2,   17.20,2,    0.00,2,    1.14,2,-999.000,9,-999.000,9,-999.000,9,  -999.0,9,  -999.0,9,  -999.0,9, -999.00,-999.0000,9,  -999.00, -999.00,9,  -999.0,9,  -999.0,   45.16,2,   21.04,2,     -999.0,9,-999.0000,9,-999.0000,9,-999.0000,9,-999.0000,9,-999.0000,9,-999.0000,9,-999.0000,9,-999.0000,9,-999.0000,9,     -999.0,9,  -999.0,9,     -999.0,     -999.0,9,     -999.0,20130806,       1524
33RO20130803,       A16N,      14,          1,          4,          4,2,20130806,       1459,    58.4995,   -19.9983,       2572,  1568.1,   3.7333,  34.9183,2,  34.9178,2,    271.2,2,   271.2,2,   11.80,2,   17.20,2,    0.00,2,    1.14,2,   3.480,2,   1.710,2,   0.889,2,  2165.0,2,  2278.1,4,   784.3,2,      20,   7.7062,6,    25.00, -999.00,9,  -999.0,9,  -999.0,   45.49,2,   20.28,2,     14.571,2,-999.0000,9,-999.0000,9,-999.0000,9,-999.0000,9,-999.0000,9,-999.0000,9,-999.0000,9,-999.0000,9,-999.0000,9,     -999.0,5,  -999.0,9,     -999.0,     -999.0,9,     -999.0,20130806,       1520
33RO20130803,       A16N,      14,          1,          3,          3,2,20130806,       1459,    58.4995,   -19.9983,       2572,  1948.9,   3.4334,  34.9247,2,  34.9239,2,    272.8,2,   272.9,2,   12.50,2,   16.90,2,    0.00,2,    1.13,2,-999.000,9,-999.000,9,-999.000,9,  -999.0,9,  -999.0,9,  -999.0,9, -999.00,-999.0000,9,  -999.00, -999.00,9,  -999.0,9,  -999.0,   45.03,2,   18.86,2,     -999.0,9,-999.0000,9,-999.0000,9,-999.0000,9,-999.0000,9,-999.0000,9,-999.0000,9,-999.0000,9,-999.0000,9,-999.0000,9,     -999.0,9,  -999.0,9,     -999.0,     -999.0,9,     -999.0,20130806,       1512
33RO20130803,       A16N,      14,          1,          2,          2,2,20130806,       1459,    58.4995,   -19.9983,       2572,  2246.6,   3.2086,  34.9518,2,-999.0000,9,    272.4,2,   273.3,2,   13.60,6,   16.50,6,    0.00,6,    1.10,6,   2.810,2,   1.383,2,   0.744,2,  2165.7,2,  2307.2,6,   769.6,2,      20,   7.7169,2,    25.00, -999.00,9,  -999.0,9,  -999.0,   44.81,2,   19.08,2,     14.132,2,-999.0000,9,-999.0000,9,-999.0000,9,-999.0000,9,-999.0000,9,-999.0000,9,-999.0000,9,-999.0000,9,-999.0000,9,     -999.0,5,  -999.0,9,     -999.0,     -999.0,9,     -999.0,20130806,       1506
33RO20130803,       A16N,      14,          1,          1,          1,2,20130806,       1459,    58.4995,   -19.9983,       2572,  2596.8,   2.9687,  34.9614,2,  34.9595,2,    267.8,2,   268.5,2,   18.60,6,   16.90,6,    0.01,6,    1.13,6,   2.473,2,   1.232,2,   0.776,2,  2171.7,2,  2321.8,3,   761.8,2,      20,   7.7137,2,    25.00, -999.00,9,  -999.0,9,  -999.0,   45.19,2,   19.52,2,     14.380,2,-999.0000,9,-999.0000,9,-999.0000,9,-999.0000,9,-999.0000,9,-999.0000,9,-999.0000,9,-999.0000,9,-999.0000,9,     -999.0,5,  -999.0,9,     -999.0,     -999.0,9,     -999.0,20130806,       1459