BOTTLE,20220815CCHSIOAMB
EXPOCODE,SECT_ID,STNNBR,CASTNO,SAMPNO,BTLNBR,BTLNBR_FLAG_W,DATE,TIME,LATITUDE,LONGITUDE,DEPTH,CTDPRS,CTDTMP,CTDSAL,CTDSAL_FLAG_W,SALNTY,SALNTY_FLAG_W,CTDOXY,CTDOXY_FLAG_W,OXYGEN,OXYGEN_FLAG_W,SILCAT,SILCAT_FLAG_W,NITRAT,NITRAT_FLAG_W,NITRIT,NITRIT_FLAG_W,PHSPHT,PHSPHT_FLAG_W,CFC-11,CFC-11_FLAG_W,CFC-12,CFC-12_FLAG_W,SF6,SF6_FLAG_W,TCARBN,TCARBN_FLAG_W,ALKALI,ALKALI_FLAG_W,PCO2,PCO2_FLAG_W,PCO2TMP,PH_SWS,PH_SWS_FLAG_W,PH_TMP,DELC13,DELC13_FLAG_W,DELC14,DELC14_FLAG_W,C14ERR,DOC,DOC_FLAG_W,TDN,TDN_FLAG_W,N2O,N2O_FLAG_W,CDOM325,CDOM325_FLAG_W,CDOM340,CDOM340_FLAG_W,CDOM380,CDOM380_FLAG_W,CDOM412,CDOM412_FLAG_W,CDOM443,CDOM443_FLAG_W,CDOM490,CDOM490_FLAG_W,CDOM555,CDOM555_FLAG_W,CDOMSL,CDOMSL_FLAG_W,CDOMSN,CDOMSN_FLAG_W,CCL4,CCL4_FLAG_W,14C-DOC,14C-DOC_FLAG_W,14C-DOCERR,13C-DOC,13C-DOC_FLAG_W,13C-DOCERR,BTL_DATE,BTL_TIME
,,,,,,,,,,,METERS,DBAR,ITS-90,PSS-78,,PSS-78,,UMOL/KG,,UMOL/KG,,UMOL/KG,,UMOL/KG,,UMOL/KG,,UMOL/KG,,PMOL/KG,,PMOL/KG,,FMOL/KG,,UMOL/KG,,UMOL/KG,,UATM,,DEG C,,,DEG C,/MILLE,,/MILLE,,/MILLE,UMOL/KG,,UMOL/KG,,NMOL/KG,,1/M,,1/M,,1/M,,1/M,,1/M,,1/M,,1/M,,1/NM,,1/NM,,PMOL/KG,,/MILLE,,/MILLE,/MILLE,,/MILLE,,
33RO20130803,       A16N,     137,          1,         24,         24,2,20130929,       0724,    -2.3332,   -24.9995,       5048,     2.9,  25.6448,  36.2134,2,  36.2113,2,    202.2,2,   202.6,2,    1.00,2,    0.00,2,    0.00,2,    0.12,2,   1.663,2,   1.060,2,   1.208,2,  2058.4,6,  2376.0,2,   342.9,2,      20,   8.0375,2,    25.00, -999.00,9,  -999.0,9,  -999.0, -999.00,9, -999.00,9,      6.749,2,-999.0000,9,-999.0000,9,-999.0000,9,-999.0000,9,-999.0000,9,-999.0000,9,-999.0000,9,-999.0000,9,-999.0000,9,     -999.0,5,  -999.0,9,     -999.0,     -999.0,9,     -999.0,20130929,       0924
33RO20130803,       A16N,     137,          1,         23,         23,2,20130929,       0724,    -2.3332,   -24.9995,       5048,    23.0,  25.6484,  36.2134,2,  36.2127,2,    202.6,2,   202.6,2,    1.10,2,    0.00,2,    0.00,2,    0.12,2,-999.000,9,-999.000,9,-999.000,9,  2057.5,2,  2373.6,2,  -999.0,9, -999.00,   8.0394,2,    25.00, -999.00,9,  -999.0,9,  -999.0, -999.00,9, -999.00,9,     -999.0,9,-999.0000,9,-999.0000,9,-999.0000,9,-999.0000,9,-999.0000,9,-999.0000,9,-999.0000,9,-999.0000,9,-999.0000,9,     -999.0,9,  -999.0,9,     -999.0,     -999.0,9,     -999.0,20130929,       0922
33RO20130803,       A16N,     137,          1,         22,         22,2,20130929,       0724,    -2.3332,   -24.9995,       5048,    48.2,  25.6519,  36.2121,2,  36.2115,2,    203.1,2,   202.4,2,    1.10,2,    0.00,2,    0.01,2,    0.12,2,   1.668,2,   1.056,2,   1.178,2,  2057.9,2,  2372.1,6,   349.9,6,      20,   8.0365,2,    25.00, -999.00,9,  -999.0,9,  -999.0, -999.00,9, -999.00,9,      6.799,2,-999.0000,9,-999.0000,9,-999.0000,9,-999.0000,9,-999.0000,9,-999.0000,9,-999.0000,9,-999.0000,9,-999.0000,9,     -999.0,5,  -999.0,9,     -999.0,     -999.0,9,     -999.0,20130929,       0919
33RO20130803,       A16N,     137,          1,         21,         21,2,20130929,       0724,    -2.3332,   -24.9995,       5048,    72.7,  25.5962,  36.2036,2,  36.1930,2,    203.5,2,   199.4,2,    1.20,2,    0.40,2,    0.04,2,    0.16,2,-999.000,9,-999.000,9,-999.000,9,  -999.0,9,  -999.0,9,  -999.0,9, -999.00,-999.0000,9,  -999.00, -999.00,9,  -999.0,9,  -999.0, -999.00,9, -999.00,9,     -999.0,9,-999.0000,9,-999.0000,9,-999.0000,9,-999.0000,9,-999.0000,9,-999.0000,9,-999.0000,9,-999.0000,9,-999.0000,9,     -999.0,9,  -999.0,9,     -999.0,     -999.0,9,     -999.0,20130929,       0917
33RO20130803,       A16N,     137,          1,         20,         20,2,20130929,       0724,    -2.3332,   -24.9995,       5048,    98.1,  21.5752,  36.0344,2,  36.0101,2,    152.9,2,   152.9,2,    2.90,2,    7.10,2,    0.74,2,    0.66,2,   1.923,2,   1.150,2,   1.006,2,  2126.6,2,  2362.0,2,   519.0,2,      20,   7.8962,2,    25.00, -999.00,9,  -999.0,9,  -999.0, -999.00,9, -999.00,9,     14.659,2,-999.0000,9,-999.0000,9,-999.0000,9,-999.0000,9,-999.0000,9,-999.0000,9,-999.0000,9,-999.0000,9,-999.0000,9,     -999.0,5,  -999.0,9,     -999.0,     -999.0,9,     -999.0,20130929,       0915
33RO20130803,       A16N,     137,          1,         19,         19,2,20130929,       0724,    -2.3332,   -24.9995,       5048,   147.1,  14.4075,  35.4596,2,  35.4543,2,    103.0,2,   101.9,2,    7.30,2,   21.20,2,    0.01,2,    1.42,2,   2.228,2,   1.248,2,   0.791,2,  2193.7,2,  2327.1,2,   863.9,2,      20,   7.6821,2,    25.00, -999.00,9,  -999.0,9,  -999.0, -999.00,9, -999.00,9,     27.199,2,-999.0000,9,-999.0000,9,-999.0000,9,-999.0000,9,-999.0000,9,-999.0000,9,-999.0000,9,-999.0000,9,-999.0000,9,     -999.0,5,  -999.0,9,     -999.0,     -999.0,9,     -999.0,20130929,       0912
33RO20130803,       A16N,     137,          1,         18,         18,2,20130929,       0724,    -2.3332,   -24.9995,       5048,   222.7,  12.6573,  35.2307,2,  35.2305,2,     89.9,2,   103.4,2,    9.10,2,   23.70,2,    0.01,2,    1.56,2,-999.000,9,-999.000,9,-999.000,9,  -999.0,9,  -999.0,9,  -999.0,9, -999.00,-999.0000,9,  -999.00, -999.00,9,  -999.0,9,  -999.0, -999.00,9, -999.00,9,     -999.0,9,-999.0000,9,-999.0000,9,-999.0000,9,-999.0000,9,-999.0000,9,-999.0000,9,-999.0000,9,-999.0000,9,-999.0000,9,     -999.0,9,  -999.0,9,     -999.0,     -999.0,9,     -999.0,20130929,       0910
33RO20130803,       A16N,     137,          1,         17,         17,2,20130929,       0724,    -2.3332,   -24.9995,       5048,   297.6,  11.5245,  35.0907,2,  35.1079,2,     87.6,2,    94.9,2,   10.80,2,   26.90,2,    0.01,2,    1.74,2,   1.878,2,   1.021,2,   0.506,2,  2208.2,2,  2310.3,2,  1056.6,2,      20,   7.5978,2,    25.00, -999.00,9,  -999.0,9,  -999.0, -999.00,9, -999.00,9,     33.269,2,-999.0000,9,-999.0000,9,-999.0000,9,-999.0000,9,-999.0000,9,-999.0000,9,-999.0000,9,-999.0000,9,-999.0000,9,     -999.0,5,  -999.0,9,     -999.0,     -999.0,9,     -999.0,20130929,       0907
33RO20130803,       A16N,     137,          1,         16,         16,2,20130929,       0724,    -2.3332,   -24.9995,       5048,   397.2,   9.4193,  34.8421,2,  34.8393,2,     95.2,2,    98.4,2,   14.20,2,   30.50,2,    0.00,2,    1.98,2,-999.000,9,-999.000,9,-999.000,9,  2214.2,6,  2301.6,2,  -999.0,9, -999.00,   7.5508,2,    25.00, -999.00,9,  -999.0,9,  -999.0, -999.00,9, -999.00,9,     -999.0,9,-999.0000,9,-999.0000,9,-999.0000,9,-999.0000,9,-999.0000,9,-999.0000,9,-999.0000,9,-999.0000,9,-999.0000,9,     -999.0,9,  -999.0,9,     -999.0,     -999.0,9,     -999.0,20130929,       0903
33RO20130803,       A16N,     137,          1,         15,         15,2,20130929,       0724,    -2.3332,   -24.9995,       5048,   523.1,   6.9996,  34.6053,2,  34.6012,2,    112.7,2,   114.9,2,   20.60,2,   34.10,2,    0.00,2,    2.26,2,   0.955,2,   0.476,2,   0.158,2,  2220.0,2,  2294.6,2,  1252.7,2,      20,   7.5188,2,    25.00, -999.00,9,  -999.0,9,  -999.0, -999.00,9, -999.00,9,     29.204,2,-999.0000,9,-999.0000,9,-999.0000,9,-999.0000,9,-999.0000,9,-999.0000,9,-999.0000,9,-999.0000,9,-999.0000,9,     -999.0,5,  -999.0,9,     -999.0,     -999.0,9,     -999.0,20130929,       0859
33RO20130803,       A16N,     137,          1,         14,         14,2,20130929,       0724,    -2.3332,   -24.9995,       5048,   674.0,   5.0978,  34.4550,2,  34.4525,2,    165.8,2,   165.8,2,   27.70,2,   32.60,2,    0.00,2,    2.24,2,   1.085,2,   0.530,2,   0.164,2,  2206.4,3,  2297.1,2,  -999.0,9, -999.00,   7.5708,3,    25.00, -999.00,9,  -999.0,9,  -999.0, -999.00,9, -999.00,9,     22.496,2,-999.0000,9,-999.0000,9,-999.0000,9,-999.0000,9,-999.0000,9,-999.0000,9,-999.0000,9,-999.0000,9,-999.0000,9,     -999.0,5,  -999.0,9,     -999.0,     -999.0,9,     -999.0,20130929,       0856
33RO20130803,       A16N,     137,          1,         13,         13,2,20130929,       0724,    -2.3332,   -24.9995,       5048,   822.4,   4.7332,  34.5268,2,  34.5277,2,    149.8,2,   149.7,2,   31.20,2,   34.10,2,    0.00,2,    2.35,2,   0.253,2,   0.120,2,   0.000,2,  2219.4,2,  2312.2,3,  1175.6,2,      20,   7.5479,2,    25.00, -999.00,9,  -999.0,9,  -999.0, -999.00,9, -999.00,9,     23.839,2,-999.0000,9,-999.0000,9,-999.0000,9,-999.0000,9,-999.0000,9,-999.0000,9,-999.0000,9,-999.0000,9,-999.0000,9,     -999.0,5,  -999.0,9,     -999.0,     -999.0,9,     -999.0,20130929,       0851
33RO20130803,       A16N,     137,          1,         12,         12,2,20130929,       0724,    -2.3332,   -24.9995,       5048,   971.7,   4.5029,  34.5567,2,  34.5572,2,    156.8,2,   156.4,2,   32.20,2,   33.40,2,    0.00,2,    2.31,2,-999.000,9,-999.000,9,-999.000,9,  -999.0,9,  -999.0,9,  -999.0,9, -999.00,-999.0000,9,  -999.00, -999.00,9,  -999.0,9,  -999.0, -999.00,9, -999.00,9,     -999.0,9,-999.0000,9,-999.0000,9,-999.0000,9,-999.0000,9,-999.0000,9,-999.0000,9,-999.0000,9,-999.0000,9,-999.0000,9,     -999.0,9,  -999.0,9,     -999.0,     -999.0,9,     -999.0,20130929,       0847
33RO20130803,       A16N,     137,          1,         11,         11,2,20130929,       0724,    -2.3332,   -24.9995,       5048,  1123.0,   4.5384,  34.7394,2,  34.7412,2,    169.4,2,     169,2,   28.10,2,   30.00,2,    0.00,2,    2.06,2,   0.081,2,   0.034,2,   0.000,2,  2208.7,2,  2311.8,6,  1034.5,2,      20,   7.5979,2,    25.00, -999.00,9,  -999.0,9,  -999.0, -999.00,9, -999.00,9,     20.999,2,-999.0000,9,-999.0000,9,-999.0000,9,-999.0000,9,-999.0000,9,-999.0000,9,-999.0000,9,-999.0000,9,-999.0000,9,     -999.0,5,  -999.0,9,     -999.0,     -999.0,9,     -999.0,20130929,       0843
33RO20130803,       A16N,     137,          1,         10,         10,2,20130929,       0724,    -2.3332,   -24.9995,       5048,  1322.7,   4.5712,  34.8543,2,  34.8540,2,    188.7,2,   188.4,2,   23.90,2,   26.70,2,    0.00,2,    1.82,2,   0.155,2,   0.079,2,   0.038,2,  2196.4,2,  2314.2,2,  -999.0,9, -999.00,   7.6909,3,    25.00, -999.00,9,  -999.0,9,  -999.0, -999.00,9, -999.00,9,     18.689,2,-999.0000,9,-999.0000,9,-999.0000,9,-999.0000,9,-999.0000,9,-999.0000,9,-999.0000,9,-999.0000,9,-999.0000,9,     -999.0,5,  -999.0,9,     -999.0,     -999.0,9,     -999.0,20130929,       0839
33RO20130803,       A16N,     137,          1,          9,          9,2,20130929,       0724,    -2.3332,   -24.9995,       5048,  1648.3,   4.0804,  34.9768,2,  34.9778,2,    240.3,2,   240.2,2,   17.20,2,   20.10,2,    0.00,2,    1.35,2,   0.649,2,   0.318,2,   0.135,2,  2168.9,2,  2317.0,2,   791.2,2,      20,   7.7155,2,    25.00, -999.00,9,  -999.0,9,  -999.0, -999.00,9, -999.00,9,     14.268,2,-999.0000,9,-999.0000,9,-999.0000,9,-999.0000,9,-999.0000,9,-999.0000,9,-999.0000,9,-999.0000,9,-999.0000,9,     -999.0,5,  -999.0,9,     -999.0,     -999.0,9,     -999.0,20130929,       0832
33RO20130803,       A16N,     137,          1,          8,          8,2,20130929,       0724,    -2.3332,   -24.9995,       5048,  2048.6,   3.5105,  34.9632,2,  34.9641,2,    251.3,2,   249.8,2,   20.60,2,   19.50,2,    0.00,2,    1.32,2,   0.369,2,   0.179,2,   0.088,2,  2166.0,2,  2318.6,2,  -999.0,9, -999.00,   7.7269,2,    25.00, -999.00,9,  -999.0,9,  -999.0, -999.00,9, -999.00,9,     13.491,2,-999.0000,9,-999.0000,9,-999.0000,9,-999.0000,9,-999.0000,9,-999.0000,9,-999.0000,9,-999.0000,9,-999.0000,9,     -999.0,5,  -999.0,9,     -999.0,     -999.0,9,     -999.0,20130929,       0825
33RO20130803,       A16N,     137,          1,          7,          7,2,20130929,       0724,    -2.3332,   -24.9995,       5048,  2447.6,   3.0167,  34.9322,2,  34.9329,2,    243.5,2,   244.2,2,   31.00,2,   21.00,2,    0.00,2,    1.42,2,   0.079,2,   0.036,2,   0.000,2,  2179.2,2,  2326.8,2,   789.8,2,      20,   7.7210,2,    25.00, -999.00,9,  -999.0,9,  -999.0, -999.00,9, -999.00,9,     13.749,2,-999.0000,9,-999.0000,9,-999.0000,9,-999.0000,9,-999.0000,9,-999.0000,9,-999.0000,9,-999.0000,9,-999.0000,9,     -999.0,5,  -999.0,9,     -999.0,     -999.0,9,     -999.0,20130929,       0817
33RO20130803,       A16N,     137,          1,          6,          6,2,20130929,       0724,    -2.3332,   -24.9995,       5048,  2847.5,   2.7326,  34.9141,2,  34.9155,2,    241.9,2,     243,2,   36.90,2,   21.50,2,    0.00,2,    1.46,2,-999.000,9,-999.000,9,-999.000,9,  -999.0,9,  -999.0,9,  -999.0,9, -999.00,-999.0000,9,  -999.00, -999.00,9,  -999.0,9,  -999.0, -999.00,9, -999.00,9,     -999.0,9,-999.0000,9,-999.0000,9,-999.0000,9,-999.0000,9,-999.0000,9,-999.0000,9,-999.0000,9,-999.0000,9,-999.0000,9,     -999.0,9,  -999.0,9,     -999.0,     -999.0,9,     -999.0,20130929,       0809
33RO20130803,       A16N,     137,          1,          5,          5,2,20130929,       0724,    -2.3332,   -24.9995,       5048,  3242.2,   2.5820,  34.9098,2,  34.9102,2,    249.8,2,   249.4,2,   35.90,6,   20.80,6,    0.00,6,    1.42,6,   0.074,2,   0.032,2,   0.000,2,  2181.0,2,  2333.4,2,  -999.0,9, -999.00,   7.7253,2,    25.00, -999.00,9,  -999.0,9,  -999.0, -999.00,9, -999.00,9,     13.547,2,-999.0000,9,-999.0000,9,-999.0000,9,-999.0000,9,-999.0000,9,-999.0000,9,-999.0000,9,-999.0000,9,-999.0000,9,     -999.0,5,  -999.0,9,     -999.0,     -999.0,9,     -999.0,20130929,       0801
33RO20130803,       A16N,     137,          1,          4,          4,2,20130929,       0724,    -2.3332,   -24.9995,       5048,  3648.4,   2.4482,  34.9032,2,  34.9032,2,    256.2,2,   256.7,2,   33.80,6,   19.90,6,    0.00,6,    1.36,6,   0.277,6,   0.136,6,   0.038,6,  2177.4,2,  2329.6,6,   826.0,2,      20,   7.9247,4,    25.00, -999.00,9,  -999.0,9,  -999.0, -999.00,9, -999.00,9,     13.363,6,-999.0000,9,-999.0000,9,-999.0000,9,-999.0000,9,-999.0000,9,-999.0000,9,-999.0000,9,-999.0000,9,-999.0000,9,     -999.0,5,  -999.0,9,     -999.0,     -999.0,9,     -999.0,20130929,       0753
33RO20130803,       A16N,     137,          1,          3,          3,2,20130929,       0724,    -2.3332,   -24.9995,       5048,  4046.6,   1.9622,  34.8533,2,  34.8532,2,    248.9,2,   249.6,2,   52.60,6,   22.50,6,    0.00,6,    1.54,6,   0.230,2,   0.111,2,   0.047,2,  2196.3,2,  2339.1,2,  -999.0,9, -999.00,   7.7053,2,    25.00, -999.00,9,  -999.0,9,  -999.0, -999.00,9, -999.00,9,     14.278,2,-999.0000,9,-999.0000,9,-999.0000,9,-999.0000,9,-999.0000,9,-999.0000,9,-999.0000,9,-999.0000,9,-999.0000,9,     -999.0,5,  -999.0,9,     -999.0,     -999.0,9,     -999.0,20130929,       0745
33RO20130803,       A16N,     137,          1,          2,          2,2,20130929,       0724,    -2.3332,   -24.9995,       5048,  4547.2,   0.9213,  34.7359,2,  34.7341,2,    224.5,2,   224.5,2,  102.30,6,   29.80,6,    0.00,6,    2.07,6,-999.000,9,-999.000,9,-999.000,9,  -999.0,9,  -999.0,9,  -999.0,9, -999.00,-999.0000,9,  -999.00, -999.00,9,  -999.0,9,  -999.0, -999.00,9, -999.00,9,     -999.0,9,-999.0000,9,-999.0000,9,-999.0000,9,-999.0000,9,-999.0000,9,-999.0000,9,-999.0000,9,-999.0000,9,-999.0000,9,     -999.0,9,  -999.0,9,     -999.0,     -999.0,9,     -999.0,20130929,       0735
33RO20130803,       A16N,     137,          1,          1,          1,2,20130929,       0724,    -2.3332,   -24.9995,       5048,  5102.9,   0.7466,  34.7095,2,  34.7105,2,    220.7,2,     221,2,  112.60,6,   31.20,6,    0.00,6,    2.18,6,   0.108,2,   0.049,2,   0.000,2,  2257.9,2,  2369.9,2,   975.4,2,      20,   7.6285,2,    25.00, -999.00,9,  -999.0,9,  -999.0, -999.00,9, -999.00,9,     17.210,2,-999.0000,9,-999.0000,9,-999.0000,9,-999.0000,9,-999.0000,9,-999.0000,9,-999.0000,9,-999.0000,9,-999.0000,9,     -999.0,5,  -999.0,9,     -999.0,     -999.0,9,     -999.0,20130929,       0724