BOTTLE,20220815CCHSIOAMB
EXPOCODE,SECT_ID,STNNBR,CASTNO,SAMPNO,BTLNBR,BTLNBR_FLAG_W,DATE,TIME,LATITUDE,LONGITUDE,DEPTH,CTDPRS,CTDTMP,CTDSAL,CTDSAL_FLAG_W,SALNTY,SALNTY_FLAG_W,CTDOXY,CTDOXY_FLAG_W,OXYGEN,OXYGEN_FLAG_W,SILCAT,SILCAT_FLAG_W,NITRAT,NITRAT_FLAG_W,NITRIT,NITRIT_FLAG_W,PHSPHT,PHSPHT_FLAG_W,CFC-11,CFC-11_FLAG_W,CFC-12,CFC-12_FLAG_W,SF6,SF6_FLAG_W,TCARBN,TCARBN_FLAG_W,ALKALI,ALKALI_FLAG_W,PCO2,PCO2_FLAG_W,PCO2TMP,PH_SWS,PH_SWS_FLAG_W,PH_TMP,DELC13,DELC13_FLAG_W,DELC14,DELC14_FLAG_W,C14ERR,DOC,DOC_FLAG_W,TDN,TDN_FLAG_W,N2O,N2O_FLAG_W,CDOM325,CDOM325_FLAG_W,CDOM340,CDOM340_FLAG_W,CDOM380,CDOM380_FLAG_W,CDOM412,CDOM412_FLAG_W,CDOM443,CDOM443_FLAG_W,CDOM490,CDOM490_FLAG_W,CDOM555,CDOM555_FLAG_W,CDOMSL,CDOMSL_FLAG_W,CDOMSN,CDOMSN_FLAG_W,CCL4,CCL4_FLAG_W,14C-DOC,14C-DOC_FLAG_W,14C-DOCERR,13C-DOC,13C-DOC_FLAG_W,13C-DOCERR,BTL_DATE,BTL_TIME
,,,,,,,,,,,METERS,DBAR,ITS-90,PSS-78,,PSS-78,,UMOL/KG,,UMOL/KG,,UMOL/KG,,UMOL/KG,,UMOL/KG,,UMOL/KG,,PMOL/KG,,PMOL/KG,,FMOL/KG,,UMOL/KG,,UMOL/KG,,UATM,,DEG C,,,DEG C,/MILLE,,/MILLE,,/MILLE,UMOL/KG,,UMOL/KG,,NMOL/KG,,1/M,,1/M,,1/M,,1/M,,1/M,,1/M,,1/M,,1/NM,,1/NM,,PMOL/KG,,/MILLE,,/MILLE,/MILLE,,/MILLE,,
33RO20130803,       A16N,     130,          2,         24,         24,2,20130927,       1532,    -0.0008,   -24.9899,       3100,     3.7,  25.9855,  35.9515,2,  35.9506,2,    202.5,2,   202.3,2,    1.10,2,    0.00,2,    0.00,2,    0.06,2,   1.637,2,   1.036,2,   1.185,2,  2040.6,6,  2355.5,2,   317.0,2,      20,   8.0484,2,    25.00, -999.00,9,  -999.0,9,  -999.0, -999.00,9, -999.00,9,      6.881,2,-999.0000,9,-999.0000,9,-999.0000,9,-999.0000,9,-999.0000,9,-999.0000,9,-999.0000,9,-999.0000,9,-999.0000,9,     -999.0,5,  -999.0,9,     -999.0,     -999.0,9,     -999.0,20130927,       1706
33RO20130803,       A16N,     130,          2,         23,         23,2,20130927,       1532,    -0.0008,   -24.9899,       3100,    13.0,  25.9912,  35.9513,2,  35.9516,2,    202.7,2,   202.3,2,    1.10,2,    0.00,2,    0.00,2,    0.06,2,   1.648,6,   1.035,6,   1.170,6,  2042.8,2,  2356.6,6,   318.5,2,      20,   8.0483,2,    25.00, -999.00,9,  -999.0,9,  -999.0, -999.00,9, -999.00,9,      6.924,6,-999.0000,9,-999.0000,9,-999.0000,9,-999.0000,9,-999.0000,9,-999.0000,9,-999.0000,9,-999.0000,9,-999.0000,9,     -999.0,5,  -999.0,9,     -999.0,     -999.0,9,     -999.0,20130927,       1704
33RO20130803,       A16N,     130,          2,         22,         22,2,20130927,       1532,    -0.0008,   -24.9899,       3100,    33.2,  25.8602,  35.9680,2,  35.9687,2,    202.6,2,   201.6,2,    1.10,2,    0.00,2,    0.01,2,    0.07,2,   1.646,2,   1.044,2,   1.148,2,  2043.9,2,  2357.4,2,   321.8,2,      20,   8.0472,2,    25.00, -999.00,9,  -999.0,9,  -999.0, -999.00,9, -999.00,9,      7.069,2,-999.0000,9,-999.0000,9,-999.0000,9,-999.0000,9,-999.0000,9,-999.0000,9,-999.0000,9,-999.0000,9,-999.0000,9,     -999.0,5,  -999.0,9,     -999.0,     -999.0,9,     -999.0,20130927,       1702
33RO20130803,       A16N,     130,          2,         21,         21,2,20130927,       1532,    -0.0008,   -24.9899,       3100,    58.5,  24.5274,  36.2223,2,  36.2224,2,    190.5,2,   189.6,2,    1.40,6,    1.60,6,    0.22,6,    0.21,6,   1.752,2,   1.085,2,   1.125,2,  2080.2,2,  2375.2,2,   359.7,2,      20,   8.0078,2,    25.00, -999.00,9,  -999.0,9,  -999.0, -999.00,9, -999.00,9,      8.089,2,-999.0000,9,-999.0000,9,-999.0000,9,-999.0000,9,-999.0000,9,-999.0000,9,-999.0000,9,-999.0000,9,-999.0000,9,     -999.0,5,  -999.0,9,     -999.0,     -999.0,9,     -999.0,20130927,       1700
33RO20130803,       A16N,     130,          2,         20,         20,2,20130927,       1532,    -0.0008,   -24.9899,       3100,    88.2,  21.7516,  36.6398,2,  36.6800,2,    190.1,2,   184.2,2,    1.70,6,    3.10,6,    0.11,6,    0.36,6,   1.942,2,   1.199,2,   1.192,2,  2125.8,2,  2407.4,4,   401.2,2,      20,   7.9738,2,    25.00, -999.00,9,  -999.0,9,  -999.0, -999.00,9, -999.00,9,      8.731,2,-999.0000,9,-999.0000,9,-999.0000,9,-999.0000,9,-999.0000,9,-999.0000,9,-999.0000,9,-999.0000,9,-999.0000,9,     -999.0,5,  -999.0,9,     -999.0,     -999.0,9,     -999.0,20130927,       1657
33RO20130803,       A16N,     130,          2,         19,         19,2,20130927,       1532,    -0.0008,   -24.9899,       3100,   107.3,  18.5479,  36.0643,2,  36.0639,2,    173.3,2,   174.3,2,    3.50,6,    8.00,6,    0.05,6,    0.64,6,   2.169,2,   1.293,2,   1.120,2,  2134.8,2,  2371.0,2,   489.5,2,      20,   7.8981,2,    25.00, -999.00,9,  -999.0,9,  -999.0, -999.00,9, -999.00,9,     12.081,2,-999.0000,9,-999.0000,9,-999.0000,9,-999.0000,9,-999.0000,9,-999.0000,9,-999.0000,9,-999.0000,9,-999.0000,9,     -999.0,5,  -999.0,9,     -999.0,     -999.0,9,     -999.0,20130927,       1655
33RO20130803,       A16N,     130,          2,         18,         18,2,20130927,       1532,    -0.0008,   -24.9899,       3100,   138.3,  14.8769,  35.5533,2,-999.0000,9,    160.3,2,   159.6,2, -999.00,9, -999.00,9, -999.00,9, -999.00,9,   2.325,2,   1.327,2,   0.981,2,  2156.3,2,  -999.0,9,   616.8,2,      20,-999.0000,9,  -999.00, -999.00,9,  -999.0,9,  -999.0, -999.00,9, -999.00,9,     17.127,2,-999.0000,9,-999.0000,9,-999.0000,9,-999.0000,9,-999.0000,9,-999.0000,9,-999.0000,9,-999.0000,9,-999.0000,9,     -999.0,5,  -999.0,9,     -999.0,     -999.0,9,     -999.0,20130927,       1654
33RO20130803,       A16N,     130,          2,         17,         17,2,20130927,       1532,    -0.0008,   -24.9899,       3100,   173.4,  14.0238,  35.4321,2,  35.4348,2,    155.5,2,     153,2,    6.50,6,   15.90,6,    0.01,6,    1.13,6,   2.334,2,   1.329,2,   0.886,2,  2163.1,2,  2331.8,2,   668.6,2,      20,   7.7726,6,    25.00, -999.00,9,  -999.0,9,  -999.0, -999.00,9, -999.00,9,     18.984,2,-999.0000,9,-999.0000,9,-999.0000,9,-999.0000,9,-999.0000,9,-999.0000,9,-999.0000,9,-999.0000,9,-999.0000,9,     -999.0,5,  -999.0,9,     -999.0,     -999.0,9,     -999.0,20130927,       1651
33RO20130803,       A16N,     130,          2,         16,         16,2,20130927,       1532,    -0.0008,   -24.9899,       3100,   237.0,  12.6157,  35.2246,2,  35.2235,2,    133.7,2,   132.7,2,    8.50,2,   20.60,2,    0.01,2,    1.40,2,   2.230,2,   1.231,2,   0.739,2,  2180.5,2,  2320.7,2,   818.0,2,      20,   7.6980,2,    25.00, -999.00,9,  -999.0,9,  -999.0, -999.00,9, -999.00,9,     24.349,2,-999.0000,9,-999.0000,9,-999.0000,9,-999.0000,9,-999.0000,9,-999.0000,9,-999.0000,9,-999.0000,9,-999.0000,9,     -999.0,5,  -999.0,9,     -999.0,     -999.0,9,     -999.0,20130927,       1648
33RO20130803,       A16N,     130,          2,         15,         15,2,20130927,       1532,    -0.0008,   -24.9899,       3100,   307.5,  10.5748,  34.9853,2,  34.9861,2,     97.0,2,    97.6,2,   12.60,2,   28.40,2,    0.01,2,    1.84,2,   1.703,2,   0.910,2,   0.422,2,  2212.1,2,  2305.9,2,  1075.7,2,      20,   7.5798,2,    25.00, -999.00,9,  -999.0,9,  -999.0, -999.00,9, -999.00,9,     33.006,2,-999.0000,9,-999.0000,9,-999.0000,9,-999.0000,9,-999.0000,9,-999.0000,9,-999.0000,9,-999.0000,9,-999.0000,9,     -999.0,5,  -999.0,9,     -999.0,     -999.0,9,     -999.0,20130927,       1645
33RO20130803,       A16N,     130,          2,         14,         14,2,20130927,       1532,    -0.0008,   -24.9899,       3100,   387.4,   9.0165,  34.8121,2,  34.8112,2,    105.1,2,   105.6,2,   15.40,2,   30.60,2,    0.01,2,    2.00,2,   1.486,2,   0.766,2,   0.312,2,  2215.2,2,  2300.9,2,  1137.3,2,      20,   7.5550,2,    25.00, -999.00,9,  -999.0,9,  -999.0, -999.00,9, -999.00,9,     31.797,2,-999.0000,9,-999.0000,9,-999.0000,9,-999.0000,9,-999.0000,9,-999.0000,9,-999.0000,9,-999.0000,9,-999.0000,9,     -999.0,5,  -999.0,9,     -999.0,     -999.0,9,     -999.0,20130927,       1642
33RO20130803,       A16N,     130,          2,         13,         13,2,20130927,       1532,    -0.0008,   -24.9899,       3100,   458.2,   7.9899,  34.6986,2,  34.6951,2,    120.2,2,   120.1,2,   17.50,2,   31.30,2,    0.01,2,    2.06,2,   1.381,2,   0.712,2,   0.310,2,  2212.9,2,  2298.0,2,  1134.4,2,      20,   7.5567,2,    25.00, -999.00,9,  -999.0,9,  -999.0, -999.00,9, -999.00,9,     28.706,2,-999.0000,9,-999.0000,9,-999.0000,9,-999.0000,9,-999.0000,9,-999.0000,9,-999.0000,9,-999.0000,9,-999.0000,9,     -999.0,5,  -999.0,9,     -999.0,     -999.0,9,     -999.0,20130927,       1639
33RO20130803,       A16N,     130,          2,         12,         12,2,20130927,       1532,    -0.0008,   -24.9899,       3100,   537.7,   7.3480,  34.6343,2,  34.6336,2,    132.1,2,   132.6,2,   19.00,2,   31.30,2,    0.01,2,    2.09,2,   1.352,6,   0.686,6,   0.251,6,  2210.9,2,  2295.4,2,  1118.5,2,      20,   7.5635,2,    25.00, -999.00,9,  -999.0,9,  -999.0, -999.00,9, -999.00,9,     26.840,6,-999.0000,9,-999.0000,9,-999.0000,9,-999.0000,9,-999.0000,9,-999.0000,9,-999.0000,9,-999.0000,9,-999.0000,9,     -999.0,5,  -999.0,9,     -999.0,     -999.0,9,     -999.0,20130927,       1636
33RO20130803,       A16N,     130,          2,         11,         11,2,20130927,       1532,    -0.0008,   -24.9899,       3100,   673.8,   5.1781,  34.4872,2,  34.4866,2,    153.6,2,     153,2,   27.90,2,   33.50,2,    0.00,2,    2.29,2,   0.726,2,   0.363,2,   0.115,2,  2215.2,2,  2299.6,2,  1137.5,2,      20,   7.5548,2,    25.00, -999.00,9,  -999.0,9,  -999.0, -999.00,9, -999.00,9,     23.652,2,-999.0000,9,-999.0000,9,-999.0000,9,-999.0000,9,-999.0000,9,-999.0000,9,-999.0000,9,-999.0000,9,-999.0000,9,     -999.0,5,  -999.0,9,     -999.0,     -999.0,9,     -999.0,20130927,       1632
33RO20130803,       A16N,     130,          2,         10,         10,2,20130927,       1532,    -0.0008,   -24.9899,       3100,   822.7,   4.8484,  34.5082,2,  34.5057,2,    150.5,2,   150.8,2,   30.40,2,   34.00,2,    0.00,2,    2.34,2,   0.361,2,   0.178,2,   0.056,2,  2219.0,6,  2300.1,2,  1156.4,2,      20,   7.5505,2,    25.00, -999.00,9,  -999.0,9,  -999.0, -999.00,9, -999.00,9,     23.886,2,-999.0000,9,-999.0000,9,-999.0000,9,-999.0000,9,-999.0000,9,-999.0000,9,-999.0000,9,-999.0000,9,-999.0000,9,     -999.0,5,  -999.0,9,     -999.0,     -999.0,9,     -999.0,20130927,       1628
33RO20130803,       A16N,     130,          2,          9,          9,2,20130927,       1532,    -0.0008,   -24.9899,       3100,   972.8,   4.5378,  34.6433,2,  34.6424,2,    160.4,2,   160.8,2,   30.50,2,   32.10,2,    0.00,2,    2.20,2,   0.119,2,   0.058,2,   0.044,2,  2217.6,2,  2309.2,2,  1083.0,2,      20,   7.5750,2,    25.00, -999.00,9,  -999.0,9,  -999.0, -999.00,9, -999.00,9,     22.264,2,-999.0000,9,-999.0000,9,-999.0000,9,-999.0000,9,-999.0000,9,-999.0000,9,-999.0000,9,-999.0000,9,-999.0000,9,     -999.0,5,  -999.0,9,     -999.0,     -999.0,9,     -999.0,20130927,       1624
33RO20130803,       A16N,     130,          2,          8,          8,2,20130927,       1532,    -0.0008,   -24.9899,       3100,  1123.1,   4.5538,  34.7452,2,  34.7446,2,    169.0,2,     170,2,   27.80,2,   30.00,2,    0.00,2,    2.05,2,   0.075,2,   0.040,2,   0.000,2,  2211.2,2,  2311.5,2,  1017.6,2,      20,   7.5987,2,    25.00, -999.00,9,  -999.0,9,  -999.0, -999.00,9, -999.00,9,     21.211,2,-999.0000,9,-999.0000,9,-999.0000,9,-999.0000,9,-999.0000,9,-999.0000,9,-999.0000,9,-999.0000,9,-999.0000,9,     -999.0,5,  -999.0,9,     -999.0,     -999.0,9,     -999.0,20130927,       1620
33RO20130803,       A16N,     130,          2,          7,          7,2,20130927,       1532,    -0.0008,   -24.9899,       3100,  1297.3,   4.5614,  34.8676,2,  34.8607,2,    190.3,2,   190.7,2,   23.50,2,   26.40,2,    0.00,2,    1.80,2,   0.161,2,   0.085,2,   0.044,2,  2198.3,2,  2311.8,2,   910.5,2,      20,   7.6424,2,    25.00, -999.00,9,  -999.0,9,  -999.0, -999.00,9, -999.00,9,     18.681,2,-999.0000,9,-999.0000,9,-999.0000,9,-999.0000,9,-999.0000,9,-999.0000,9,-999.0000,9,-999.0000,9,-999.0000,9,     -999.0,5,  -999.0,9,     -999.0,     -999.0,9,     -999.0,20130927,       1614
33RO20130803,       A16N,     130,          2,          6,          6,2,20130927,       1532,    -0.0008,   -24.9899,       3100,  1497.4,   4.2808,  34.9655,2,  34.9667,2,    228.4,2,   227.5,2,   18.30,2,   21.40,2,    0.00,2,    1.45,2,   0.427,2,   0.215,2,   0.073,2,  2177.3,2,  2313.6,2,   793.1,2,      20,   7.7313,3,    25.00, -999.00,9,  -999.0,9,  -999.0, -999.00,9, -999.00,9,     15.295,2,-999.0000,9,-999.0000,9,-999.0000,9,-999.0000,9,-999.0000,9,-999.0000,9,-999.0000,9,-999.0000,9,-999.0000,9,     -999.0,5,  -999.0,9,     -999.0,     -999.0,9,     -999.0,20130927,       1609
33RO20130803,       A16N,     130,          2,          5,          5,2,20130927,       1532,    -0.0008,   -24.9899,       3100,  1797.5,   3.8597,  34.9730,2,  34.9735,2,    245.7,2,   244.7,2,   18.20,6,   19.90,6,    0.00,6,    1.34,6,   0.444,6,   0.222,6,   0.092,6,  2169.6,2,  2315.3,2,   750.9,2,      20,   7.6191,4,    25.00, -999.00,9,  -999.0,9,  -999.0, -999.00,9, -999.00,9,     13.987,6,-999.0000,9,-999.0000,9,-999.0000,9,-999.0000,9,-999.0000,9,-999.0000,9,-999.0000,9,-999.0000,9,-999.0000,9,     -999.0,5,  -999.0,9,     -999.0,     -999.0,9,     -999.0,20130927,       1602
33RO20130803,       A16N,     130,          2,          4,          4,2,20130927,       1532,    -0.0008,   -24.9899,       3100,  2197.9,   3.3822,  34.9573,2,  34.9585,2,    250.5,2,   250.8,2,   22.40,6,   19.70,6,    0.00,6,    1.33,6,   0.302,2,   0.153,2,   0.076,2,  2169.2,2,  2368.1,4,   745.6,2,      20,   7.7293,2,    25.00, -999.00,9,  -999.0,9,  -999.0, -999.00,9, -999.00,9,     13.567,2,-999.0000,9,-999.0000,9,-999.0000,9,-999.0000,9,-999.0000,9,-999.0000,9,-999.0000,9,-999.0000,9,-999.0000,9,     -999.0,5,  -999.0,9,     -999.0,     -999.0,9,     -999.0,20130927,       1554
33RO20130803,       A16N,     130,          2,          3,          3,2,20130927,       1532,    -0.0008,   -24.9899,       3100,  2596.9,   2.8941,  34.9269,2,-999.0000,9,    245.0,2,   246.1,2, -999.00,9, -999.00,9, -999.00,9, -999.00,9,   0.095,2,   0.049,2,   0.000,2,  2180.5,2,  2327.7,6,   758.4,6,      20,   7.7227,2,    25.00, -999.00,9,  -999.0,9,  -999.0, -999.00,9, -999.00,9,     13.724,2,-999.0000,9,-999.0000,9,-999.0000,9,-999.0000,9,-999.0000,9,-999.0000,9,-999.0000,9,-999.0000,9,-999.0000,9,     -999.0,5,  -999.0,9,     -999.0,     -999.0,9,     -999.0,20130927,       1544
33RO20130803,       A16N,     130,          2,          2,          2,2,20130927,       1532,    -0.0008,   -24.9899,       3100,  2998.1,   2.6812,  34.9124,2,  34.9125,2,    246.7,2,   246.4,2,   36.40,6,   21.10,6,    0.00,6,    1.43,6,   0.091,2,   0.045,2,   0.000,2,  2184.7,2,  2333.0,2,   759.7,2,      20,   7.7199,6,    25.00, -999.00,9,  -999.0,9,  -999.0, -999.00,9, -999.00,9,     13.796,2,-999.0000,9,-999.0000,9,-999.0000,9,-999.0000,9,-999.0000,9,-999.0000,9,-999.0000,9,-999.0000,9,-999.0000,9,     -999.0,5,  -999.0,9,     -999.0,     -999.0,9,     -999.0,20130927,       1536
33RO20130803,       A16N,     130,          2,          1,          1,2,20130927,       1532,    -0.0008,   -24.9899,       3100,  3154.5,   2.6489,  34.9098,2,  34.9122,2,    247.2,2,   246.6,2,   36.80,6,   21.00,6,    0.00,6,    1.43,6,   0.104,2,   0.052,2,   0.000,2,  2186.7,6,  2330.5,2,   734.3,2,      20,   7.7225,2,    25.00, -999.00,9,  -999.0,9,  -999.0, -999.00,9, -999.00,9,     13.723,2,-999.0000,9,-999.0000,9,-999.0000,9,-999.0000,9,-999.0000,9,-999.0000,9,-999.0000,9,-999.0000,9,-999.0000,9,     -999.0,5,  -999.0,9,     -999.0,     -999.0,9,     -999.0,20130927,       1532