BOTTLE,20220815CCHSIOAMB
EXPOCODE,SECT_ID,STNNBR,CASTNO,SAMPNO,BTLNBR,BTLNBR_FLAG_W,DATE,TIME,LATITUDE,LONGITUDE,DEPTH,CTDPRS,CTDTMP,CTDSAL,CTDSAL_FLAG_W,SALNTY,SALNTY_FLAG_W,CTDOXY,CTDOXY_FLAG_W,OXYGEN,OXYGEN_FLAG_W,SILCAT,SILCAT_FLAG_W,NITRAT,NITRAT_FLAG_W,NITRIT,NITRIT_FLAG_W,PHSPHT,PHSPHT_FLAG_W,CFC-11,CFC-11_FLAG_W,CFC-12,CFC-12_FLAG_W,SF6,SF6_FLAG_W,TCARBN,TCARBN_FLAG_W,ALKALI,ALKALI_FLAG_W,PCO2,PCO2_FLAG_W,PCO2TMP,PH_SWS,PH_SWS_FLAG_W,PH_TMP,DELC13,DELC13_FLAG_W,DELC14,DELC14_FLAG_W,C14ERR,DOC,DOC_FLAG_W,TDN,TDN_FLAG_W,N2O,N2O_FLAG_W,CDOM325,CDOM325_FLAG_W,CDOM340,CDOM340_FLAG_W,CDOM380,CDOM380_FLAG_W,CDOM412,CDOM412_FLAG_W,CDOM443,CDOM443_FLAG_W,CDOM490,CDOM490_FLAG_W,CDOM555,CDOM555_FLAG_W,CDOMSL,CDOMSL_FLAG_W,CDOMSN,CDOMSN_FLAG_W,CCL4,CCL4_FLAG_W,14C-DOC,14C-DOC_FLAG_W,14C-DOCERR,13C-DOC,13C-DOC_FLAG_W,13C-DOCERR,BTL_DATE,BTL_TIME
,,,,,,,,,,,METERS,DBAR,ITS-90,PSS-78,,PSS-78,,UMOL/KG,,UMOL/KG,,UMOL/KG,,UMOL/KG,,UMOL/KG,,UMOL/KG,,PMOL/KG,,PMOL/KG,,FMOL/KG,,UMOL/KG,,UMOL/KG,,UATM,,DEG C,,,DEG C,/MILLE,,/MILLE,,/MILLE,UMOL/KG,,UMOL/KG,,NMOL/KG,,1/M,,1/M,,1/M,,1/M,,1/M,,1/M,,1/M,,1/NM,,1/NM,,PMOL/KG,,/MILLE,,/MILLE,/MILLE,,/MILLE,,
33RO20130803,       A16N,       2,          1,         15,         15,2,20130804,       0059,    63.2173,   -20.0014,        559,     2.9,  12.4905,  33.6174,2,  33.6477,2,    308.1,2,   293.4,2,    5.20,2,    0.00,2,    0.01,2,    0.06,2,   3.248,6,   1.894,6,   2.026,6,  1984.1,6,  2247.4,6,   359.6,2,      20,   7.7765,3,    25.00, -999.00,9,  -999.0,9,  -999.0,   56.45,2,    3.73,2,      9.842,6,-999.0000,9,-999.0000,9,-999.0000,9,-999.0000,9,-999.0000,9,-999.0000,9,-999.0000,9,-999.0000,9,-999.0000,9,     -999.0,5,  -999.0,9,     -999.0,     -999.0,9,     -999.0,20130804,       0134
33RO20130803,       A16N,       2,          1,         14,         14,2,20130804,       0059,    63.2173,   -20.0014,        559,    19.9,  10.8313,  35.0274,2,  35.0438,2,    280.9,2,   277.9,2,    1.20,2,    4.90,2,    0.18,2,    0.40,2,   3.429,2,   1.990,2,   2.182,2,  2090.2,2,  -999.0,9,   495.2,2,      20,   7.8806,2,    25.00, -999.00,9,  -999.0,9,  -999.0,   54.59,2,       8,2,     10.286,2,-999.0000,9,-999.0000,9,-999.0000,9,-999.0000,9,-999.0000,9,-999.0000,9,-999.0000,9,-999.0000,9,-999.0000,9,     -999.0,5,  -999.0,9,     -999.0,     -999.0,9,     -999.0,20130804,       0132
33RO20130803,       A16N,       2,          1,         13,         13,2,20130804,       0059,    63.2173,   -20.0014,        559,    43.0,   9.2374,  35.1148,2,  35.1149,2,    270.7,2,   269.8,2,    2.00,2,    9.20,2,    0.44,2,    0.65,2,-999.000,9,-999.000,9,-999.000,9,  2123.1,2,  2315.9,2,   585.4,2,      20,   7.8212,2,    25.00, -999.00,9,  -999.0,9,  -999.0,   52.62,2,   12.15,2,     -999.0,9,-999.0000,9,-999.0000,9,-999.0000,9,-999.0000,9,-999.0000,9,-999.0000,9,-999.0000,9,-999.0000,9,-999.0000,9,     -999.0,9,  -999.0,9,     -999.0,     -999.0,9,     -999.0,20130804,       0130
33RO20130803,       A16N,       2,          1,         12,         12,2,20130804,       0059,    63.2173,   -20.0014,        559,    67.7,   8.4989,  35.1765,2,  35.1751,2,    265.7,2,   266.3,2,    4.10,2,   12.50,2,    0.01,2,    0.81,2,   3.487,2,   2.002,2,   2.043,2,  2145.1,2,  -999.0,9,   647.4,2,      20,   8.0494,4,    25.00, -999.00,9,  -999.0,9,  -999.0,   52.07,2,   14.64,2,     11.491,2,-999.0000,9,-999.0000,9,-999.0000,9,-999.0000,9,-999.0000,9,-999.0000,9,-999.0000,9,-999.0000,9,-999.0000,9,     -999.0,5,  -999.0,9,     -999.0,     -999.0,9,     -999.0,20130804,       0128
33RO20130803,       A16N,       2,          1,         11,         11,2,20130804,       0059,    63.2173,   -20.0014,        559,    92.1,   8.4019,  35.1733,2,  35.1712,2,    265.9,2,   266.5,2,    4.40,2,   12.70,2,    0.01,2,    0.82,2,-999.000,9,-999.000,9,-999.000,9,  2147.2,2,  -999.0,5,   649.9,2,      20,   8.4630,4,    25.00, -999.00,9,  -999.0,9,  -999.0,   51.74,2,   15.28,2,     -999.0,9,-999.0000,9,-999.0000,9,-999.0000,9,-999.0000,9,-999.0000,9,-999.0000,9,-999.0000,9,-999.0000,9,-999.0000,9,     -999.0,9,  -999.0,9,     -999.0,     -999.0,9,     -999.0,20130804,       0126
33RO20130803,       A16N,       2,          1,         10,         10,2,20130804,       0059,    63.2173,   -20.0014,        559,   114.1,   8.3029,  35.1833,2,  35.1827,2,    264.9,2,     265,2,    5.30,2,   13.20,2,    0.01,2,    0.85,2,   3.474,2,   2.004,2,   2.092,2,  2149.7,2,  -999.0,9,   660.9,2,      20,   7.7724,2,    25.00, -999.00,9,  -999.0,9,  -999.0,   50.97,2,   15.42,2,     11.763,2,-999.0000,9,-999.0000,9,-999.0000,9,-999.0000,9,-999.0000,9,-999.0000,9,-999.0000,9,-999.0000,9,-999.0000,9,     -999.0,5,  -999.0,9,     -999.0,     -999.0,9,     -999.0,20130804,       0124
33RO20130803,       A16N,       2,          1,          9,          9,2,20130804,       0059,    63.2173,   -20.0014,        559,   142.9,   8.2034,  35.1828,2,  35.1824,2,    264.7,2,   265.7,2,    5.60,2,   13.30,2,    0.01,2,    0.86,2,-999.000,9,-999.000,9,-999.000,9,  2150.9,2,  2337.4,3,   665.1,2,      20,   7.7740,2,    25.00, -999.00,9,  -999.0,9,  -999.0,   50.78,2,   15.64,2,     -999.0,9,-999.0000,9,-999.0000,9,-999.0000,9,-999.0000,9,-999.0000,9,-999.0000,9,-999.0000,9,-999.0000,9,-999.0000,9,     -999.0,9,  -999.0,9,     -999.0,     -999.0,9,     -999.0,20130804,       0121
33RO20130803,       A16N,       2,          1,          8,          8,2,20130804,       0059,    63.2173,   -20.0014,        559,   165.7,   8.1929,  35.1916,2,  35.1909,2,    265.0,2,   265.6,2,    5.80,2,   13.40,2,    0.01,2,    0.87,2,   3.494,2,   1.994,2,   1.928,2,  2153.4,2,  -999.0,9,   669.7,2,      20,   7.7682,2,    25.00, -999.00,9,  -999.0,9,  -999.0,      50,2,   15.86,2,     11.815,2,-999.0000,9,-999.0000,9,-999.0000,9,-999.0000,9,-999.0000,9,-999.0000,9,-999.0000,9,-999.0000,9,-999.0000,9,     -999.0,5,  -999.0,9,     -999.0,     -999.0,9,     -999.0,20130804,       0119
33RO20130803,       A16N,       2,          1,          7,          7,2,20130804,       0059,    63.2173,   -20.0014,        559,   191.5,   8.1595,  35.1933,2,  35.1935,2,    264.8,2,   264.9,2,    6.00,2,   13.50,2,    0.01,2,    0.88,2,-999.000,9,-999.000,9,-999.000,9,  2152.4,2,  2337.0,3,   669.9,2,      20,   7.7677,2,    25.00, -999.00,9,  -999.0,9,  -999.0,   49.82,2,   15.76,2,     -999.0,9,-999.0000,9,-999.0000,9,-999.0000,9,-999.0000,9,-999.0000,9,-999.0000,9,-999.0000,9,-999.0000,9,-999.0000,9,     -999.0,9,  -999.0,9,     -999.0,     -999.0,9,     -999.0,20130804,       0117
33RO20130803,       A16N,       2,          1,          6,          6,2,20130804,       0059,    63.2173,   -20.0014,        559,   235.2,   8.0639,  35.1944,2,  35.1929,2,    264.6,2,   265.3,2,    6.10,2,   13.70,2,    0.00,2,    0.89,2,   3.483,2,   2.001,2,   2.068,2,  2155.6,2,  -999.0,9,   673.5,2,      20,   7.7644,2,    25.00, -999.00,9,  -999.0,9,  -999.0,   49.57,2,   16.07,2,     11.794,2,-999.0000,9,-999.0000,9,-999.0000,9,-999.0000,9,-999.0000,9,-999.0000,9,-999.0000,9,-999.0000,9,-999.0000,9,     -999.0,5,  -999.0,9,     -999.0,     -999.0,9,     -999.0,20130804,       0115
33RO20130803,       A16N,       2,          1,          5,          5,2,20130804,       0059,    63.2173,   -20.0014,        559,   304.5,   7.8993,  35.1858,2,  35.1827,2,    265.2,2,     266,2,    6.30,2,   13.90,2,    0.00,2,    0.90,2,   3.530,2,   2.013,2,   2.008,2,  2155.1,2,  2336.9,3,   680.1,2,      20,   7.7630,2,    25.00, -999.00,9,  -999.0,9,  -999.0,   49.28,2,   16.09,2,     11.882,2,-999.0000,9,-999.0000,9,-999.0000,9,-999.0000,9,-999.0000,9,-999.0000,9,-999.0000,9,-999.0000,9,-999.0000,9,     -999.0,5,  -999.0,9,     -999.0,     -999.0,9,     -999.0,20130804,       0112
33RO20130803,       A16N,       2,          1,          4,          4,2,20130804,       0059,    63.2173,   -20.0014,        559,   379.0,   7.7772,  35.1802,2,  35.1806,2,    263.5,2,   264.1,2,    6.60,2,   14.20,2,    0.00,2,    0.92,2,   3.503,2,   1.998,2,   2.003,2,  2157.2,2,  -999.0,9,   686.1,2,      20,   7.7582,2,    25.00, -999.00,9,  -999.0,9,  -999.0,   49.66,2,   16.14,2,     12.006,2,-999.0000,9,-999.0000,9,-999.0000,9,-999.0000,9,-999.0000,9,-999.0000,9,-999.0000,9,-999.0000,9,-999.0000,9,     -999.0,5,  -999.0,9,     -999.0,     -999.0,9,     -999.0,20130804,       0109
33RO20130803,       A16N,       2,          1,          3,          3,2,20130804,       0059,    63.2173,   -20.0014,        559,   454.5,   7.5998,  35.1706,2,  35.1646,2,    257.9,2,   258.2,2,    7.20,6,   14.80,6,    0.01,6,    0.95,6,   3.434,2,   1.942,2,   1.817,2,  2160.1,2,  2337.7,3,   702.8,2,      20,   7.7509,2,    25.00, -999.00,9,  -999.0,9,  -999.0,   49.78,2,   17.09,2,     12.534,2,-999.0000,9,-999.0000,9,-999.0000,9,-999.0000,9,-999.0000,9,-999.0000,9,-999.0000,9,-999.0000,9,-999.0000,9,     -999.0,5,  -999.0,9,     -999.0,     -999.0,9,     -999.0,20130804,       0106
33RO20130803,       A16N,       2,          1,          2,          2,2,20130804,       0059,    63.2173,   -20.0014,        559,   524.4,   7.5011,  35.1674,2,  35.1675,2,    252.8,2,   251.3,3,    7.50,6,   15.00,6,    0.01,6,    0.98,6,   3.371,2,   1.904,2,   1.789,2,  2161.2,2,  -999.0,9,   710.0,2,      20,   7.7449,2,    25.00, -999.00,9,  -999.0,9,  -999.0,   49.81,2,   17.55,2,     12.743,2,-999.0000,9,-999.0000,9,-999.0000,9,-999.0000,9,-999.0000,9,-999.0000,9,-999.0000,9,-999.0000,9,-999.0000,9,     -999.0,5,  -999.0,9,     -999.0,     -999.0,9,     -999.0,20130804,       0102
33RO20130803,       A16N,       2,          1,          1,          1,2,20130804,       0059,    63.2173,   -20.0014,        559,   554.4,   7.5127,  35.1682,2,  35.1666,2,    254.4,2,   254.3,2,    7.60,2,   15.10,6,    0.01,6,    0.98,6,   3.376,6,   1.910,6,   1.790,6,  2163.7,2,  2337.3,3,   707.5,2,      20,   7.7467,2,    25.00, -999.00,9,  -999.0,9,  -999.0,   49.71,2,   17.62,2,     12.808,6,-999.0000,9,-999.0000,9,-999.0000,9,-999.0000,9,-999.0000,9,-999.0000,9,-999.0000,9,-999.0000,9,-999.0000,9,     -999.0,5,  -999.0,9,     -999.0,     -999.0,9,     -999.0,20130804,       0059