BOTTLE,20220815CCHSIOAMB
EXPOCODE,SECT_ID,STNNBR,CASTNO,SAMPNO,BTLNBR,BTLNBR_FLAG_W,DATE,TIME,LATITUDE,LONGITUDE,DEPTH,CTDPRS,CTDTMP,CTDSAL,CTDSAL_FLAG_W,SALNTY,SALNTY_FLAG_W,CTDOXY,CTDOXY_FLAG_W,OXYGEN,OXYGEN_FLAG_W,SILCAT,SILCAT_FLAG_W,NITRAT,NITRAT_FLAG_W,NITRIT,NITRIT_FLAG_W,PHSPHT,PHSPHT_FLAG_W,CFC-11,CFC-11_FLAG_W,CFC-12,CFC-12_FLAG_W,SF6,SF6_FLAG_W,TCARBN,TCARBN_FLAG_W,ALKALI,ALKALI_FLAG_W,PCO2,PCO2_FLAG_W,PCO2TMP,PH_SWS,PH_SWS_FLAG_W,PH_TMP,DELC13,DELC13_FLAG_W,DELC14,DELC14_FLAG_W,C14ERR,DOC,DOC_FLAG_W,TDN,TDN_FLAG_W,N2O,N2O_FLAG_W,CDOM325,CDOM325_FLAG_W,CDOM340,CDOM340_FLAG_W,CDOM380,CDOM380_FLAG_W,CDOM412,CDOM412_FLAG_W,CDOM443,CDOM443_FLAG_W,CDOM490,CDOM490_FLAG_W,CDOM555,CDOM555_FLAG_W,CDOMSL,CDOMSL_FLAG_W,CDOMSN,CDOMSN_FLAG_W,CCL4,CCL4_FLAG_W,14C-DOC,14C-DOC_FLAG_W,14C-DOCERR,13C-DOC,13C-DOC_FLAG_W,13C-DOCERR,BTL_DATE,BTL_TIME
,,,,,,,,,,,METERS,DBAR,ITS-90,PSS-78,,PSS-78,,UMOL/KG,,UMOL/KG,,UMOL/KG,,UMOL/KG,,UMOL/KG,,UMOL/KG,,PMOL/KG,,PMOL/KG,,FMOL/KG,,UMOL/KG,,UMOL/KG,,UATM,,DEG C,,,DEG C,/MILLE,,/MILLE,,/MILLE,UMOL/KG,,UMOL/KG,,NMOL/KG,,1/M,,1/M,,1/M,,1/M,,1/M,,1/M,,1/M,,1/NM,,1/NM,,PMOL/KG,,/MILLE,,/MILLE,/MILLE,,/MILLE,,
33RO20130803,       A16N,     121,          2,         23,         23,2,20130925,       1447,     3.0000,   -25.0000,       4426,     3.0,  27.8218,  35.7483,2,  35.7486,2,    198.7,2,   197.9,2,    1.00,2,    0.10,2,    0.00,2,    0.00,2,   1.508,6,   0.970,6,   1.129,6,  1995.0,2,  2339.3,6,   279.9,2,      20,   8.0969,2,    25.00, -999.00,9,  -999.0,9,  -999.0, -999.00,9, -999.00,9,      6.027,6,   0.0602,2,   0.0275,2,  -0.0008,2,   0.0017,2,   0.0011,2,   0.0017,2,   0.0015,2,   0.0196,2,   0.0209,2,     -999.0,5,  -999.0,9,     -999.0,     -999.0,9,     -999.0,20130925,       1634
33RO20130803,       A16N,     121,          2,         24,         24,2,20130925,       1447,     3.0000,   -25.0000,       4426,     3.0,  27.8203,  35.7488,2,  35.7488,2,    198.7,2,     198,2,    1.00,2,    0.10,2,    0.00,2,    0.00,2,   1.507,2,   0.968,2,   1.176,2,  1995.4,6,  2339.5,2,   278.5,2,      20,   8.0979,2,    25.00, -999.00,9,  -999.0,9,  -999.0, -999.00,9, -999.00,9,      6.056,2,   0.0602,2,   0.0283,2,   0.0011,2,   0.0034,2,   0.0025,2,   0.0025,2,   0.0017,2,   0.0184,2,   0.0195,2,     -999.0,5,  -999.0,9,     -999.0,     -999.0,9,     -999.0,20130925,       1635
33RO20130803,       A16N,     121,          2,         22,         22,2,20130925,       1447,     3.0000,   -25.0000,       4426,    17.9,  27.6383,  35.7569,2,  35.7565,2,    198.8,2,   198.5,2,    1.00,2,    0.10,2,    0.00,2,    0.00,2,   1.504,2,   0.966,2,   1.110,2,  1997.3,2,  2340.7,2,   280.8,2,      20,   8.0987,2,    25.00, -999.00,9,  -999.0,9,  -999.0, -999.00,9, -999.00,9,      6.055,2,   0.0600,2,   0.0267,2,   0.0002,2,   0.0030,2,   0.0021,2,   0.0022,2,   0.0017,2,   0.0187,2,   0.0201,2,     -999.0,5,  -999.0,9,     -999.0,     -999.0,9,     -999.0,20130925,       1633
33RO20130803,       A16N,     121,          2,         21,         21,2,20130925,       1447,     3.0000,   -25.0000,       4426,    38.8,  27.6102,  35.7554,2,  35.7565,2,    199.8,2,   198.2,2,    1.00,2,    0.10,2,    0.00,2,    0.01,2,   1.511,2,   0.975,2,   1.117,2,  1996.4,2,  2340.3,2,   281.9,2,      20,   8.0976,2,    25.00, -999.00,9,  -999.0,9,  -999.0, -999.00,9, -999.00,9,      6.054,2,   0.0661,2,   0.0322,2,   0.0046,2,   0.0061,2,   0.0044,2,   0.0034,2,   0.0022,2,   0.0175,2,   0.0187,2,     -999.0,5,  -999.0,9,     -999.0,     -999.0,9,     -999.0,20130925,       1631
33RO20130803,       A16N,     121,          2,         20,         20,2,20130925,       1447,     3.0000,   -25.0000,       4426,    57.9,  27.5941,  35.7537,2,  35.7634,2,    199.0,2,     197,2,    1.10,2,    0.20,2,    0.00,2,    0.02,2,   1.515,2,   0.972,2,   1.167,2,  1998.4,2,  2341.0,2,   296.2,2,      20,   8.0955,2,    25.00, -999.00,9,  -999.0,9,  -999.0, -999.00,9, -999.00,9,      6.194,2,   0.0712,2,   0.0356,2,   0.0070,2,   0.0085,2,   0.0061,2,   0.0043,2,   0.0025,2,   0.0171,2,   0.0184,2,     -999.0,5,  -999.0,9,     -999.0,     -999.0,9,     -999.0,20130925,       1629
33RO20130803,       A16N,     121,          2,         19,         19,2,20130925,       1447,     3.0000,   -25.0000,       4426,    88.1,  20.3777,  35.9368,2,  35.9648,3,    139.9,2,   133.8,2,    3.70,2,    8.60,2,    0.19,2,    0.61,2,   1.923,2,   1.153,2,   0.934,2,  2141.6,2,  2357.9,2,   539.3,2,      20,   7.8663,2,    25.00, -999.00,9,  -999.0,9,  -999.0, -999.00,9, -999.00,9,     16.607,2,   0.1624,2,   0.1059,2,   0.0444,2,   0.0357,2,   0.0192,2,   0.0083,2,   0.0038,2,   0.0159,2,   0.0170,2,     -999.0,5,  -999.0,9,     -999.0,     -999.0,9,     -999.0,20130925,       1626
33RO20130803,       A16N,     121,          2,         18,         18,2,20130925,       1447,     3.0000,   -25.0000,       4426,   122.0,  15.7117,  35.6209,2,  35.6187,2,     98.2,2,   106.8,2,    6.40,2,   19.10,2,    0.02,2,    1.27,2,   2.225,2,   1.284,2,   0.821,2,  2187.1,2,  2337.8,2,   759.2,2,      20,   7.7204,2,    25.00, -999.00,9,  -999.0,9,  -999.0, -999.00,9, -999.00,9,     24.334,2,   0.1624,2,   0.1095,2,   0.0459,2,   0.0359,2,   0.0195,2,   0.0082,2,   0.0037,2,   0.0160,2,   0.0166,2,     -999.0,5,  -999.0,9,     -999.0,     -999.0,9,     -999.0,20130925,       1624
33RO20130803,       A16N,     121,          2,         17,         17,2,20130925,       1447,     3.0000,   -25.0000,       4426,   182.3,  14.4470,  35.4632,2,  35.4621,2,     95.8,2,    99.4,2,    7.60,2,   21.60,2,    0.01,2,    1.42,2,   2.159,2,   1.234,2,   0.684,2,  2196.3,2,  2327.2,2,   849.5,2,      20,   7.6807,2,    25.00, -999.00,9,  -999.0,9,  -999.0, -999.00,9, -999.00,9,     26.139,2,   0.1474,2,   0.0997,2,   0.0392,2,   0.0309,2,   0.0171,2,   0.0071,2,   0.0030,2,   0.0163,2,   0.0165,2,     -999.0,5,  -999.0,9,     -999.0,     -999.0,9,     -999.0,20130925,       1621
33RO20130803,       A16N,     121,          2,         16,         16,2,20130925,       1447,     3.0000,   -25.0000,       4426,   258.1,  12.5220,  35.2256,2,  35.2236,2,    109.3,2,   108.2,2,    9.40,2,   23.70,2,    0.01,2,    1.52,2,   2.030,2,   1.117,2,   0.591,2,  2196.9,2,  2318.5,2,   918.9,2,      20,   7.6523,2,    25.00, -999.00,9,  -999.0,9,  -999.0, -999.00,9, -999.00,9,     28.564,2,-999.0000,9,-999.0000,9,-999.0000,9,-999.0000,9,-999.0000,9,-999.0000,9,-999.0000,9,-999.0000,9,-999.0000,9,     -999.0,5,  -999.0,9,     -999.0,     -999.0,9,     -999.0,20130925,       1618
33RO20130803,       A16N,     121,          2,         15,         15,2,20130925,       1447,     3.0000,   -25.0000,       4426,   348.2,   9.8526,  34.9366,2,  34.9358,2,     77.6,2,    79.5,2,   14.80,2,   31.90,2,    0.00,2,    2.00,2,   1.275,6,   0.673,6,   0.258,6,  2227.3,6,  2304.4,2,  1226.6,2,      20,   7.5284,2,    25.00, -999.00,9,  -999.0,9,  -999.0, -999.00,9, -999.00,9,     36.281,6,   0.1430,2,   0.0896,2,   0.0400,2,   0.0333,2,   0.0196,2,   0.0079,2,   0.0031,2,   0.0150,2,   0.0163,2,     -999.0,5,  -999.0,9,     -999.0,     -999.0,9,     -999.0,20130925,       1615
33RO20130803,       A16N,     121,          2,         14,         14,2,20130925,       1447,     3.0000,   -25.0000,       4426,   446.8,   8.1377,  34.7544,2,  34.7533,2,     94.1,2,    94.8,2,   18.50,2,   33.90,2,    0.00,2,    2.16,2,   0.905,2,   0.468,2,   0.174,2,  2227.9,2,  2299.9,2,  1258.4,2,      20,   7.5189,2,    25.00, -999.00,9,  -999.0,9,  -999.0, -999.00,9, -999.00,9,     32.255,2,   0.1486,2,   0.0920,2,   0.0410,2,   0.0336,2,   0.0202,2,   0.0081,2,   0.0031,2,   0.0152,2,   0.0166,2,     -999.0,5,  -999.0,9,     -999.0,     -999.0,9,     -999.0,20130925,       1612
33RO20130803,       A16N,     121,          2,         13,         13,2,20130925,       1447,     3.0000,   -25.0000,       4426,   548.1,   6.7017,  34.6152,2,  34.6170,2,    120.9,2,     122,2,   22.20,2,   33.90,2,    0.00,2,    2.22,2,   0.782,2,   0.395,2,   0.142,2,  2221.0,2,  2298.4,6,  1209.1,2,      20,   7.5324,2,    25.00, -999.00,9,  -999.0,9,  -999.0, -999.00,9, -999.00,9,     27.705,2,   0.1254,2,   0.0753,2,   0.0318,2,   0.0267,2,   0.0161,2,   0.0064,2,   0.0025,2,   0.0153,2,   0.0166,2,     -999.0,5,  -999.0,9,     -999.0,     -999.0,9,     -999.0,20130925,       1609
33RO20130803,       A16N,     121,          2,         12,         12,2,20130925,       1447,     3.0000,   -25.0000,       4426,   647.3,   5.7273,  34.5566,2,  34.5556,2,    130.7,2,   131.3,2,   26.40,2,   34.90,2,    0.00,2,    2.31,2,   0.452,2,   0.229,2,   0.061,2,  2222.2,2,  2300.8,2,  1216.1,2,      20,   7.5304,2,    25.00, -999.00,9,  -999.0,9,  -999.0, -999.00,9, -999.00,9,     26.066,2,-999.0000,9,-999.0000,9,-999.0000,9,-999.0000,9,-999.0000,9,-999.0000,9,-999.0000,9,-999.0000,9,-999.0000,9,     -999.0,5,  -999.0,9,     -999.0,     -999.0,9,     -999.0,20130925,       1605
33RO20130803,       A16N,     121,          2,         11,         11,2,20130925,       1447,     3.0000,   -25.0000,       4426,   747.4,   5.0922,  34.5393,2,  34.5395,2,    142.4,2,   144.9,2,   29.50,2,   34.50,2,    0.00,2,    2.31,2,   0.334,2,   0.170,2,   0.093,2,  2220.9,2,  2300.8,2,  1178.2,2,      20,   7.5430,2,    25.00, -999.00,9,  -999.0,9,  -999.0, -999.00,9, -999.00,9,     24.498,2,   0.1281,2,   0.0771,2,   0.0335,2,   0.0276,2,   0.0172,2,   0.0071,2,   0.0029,2,   0.0151,2,   0.0164,2,     -999.0,5,  -999.0,9,     -999.0,     -999.0,9,     -999.0,20130925,       1602
33RO20130803,       A16N,     121,          2,         10,         10,2,20130925,       1447,     3.0000,   -25.0000,       4426,   898.7,   4.7639,  34.5864,2,  34.5869,2,    145.6,2,   146.7,2,   31.00,2,   34.10,2,    0.00,2,    2.31,2,   0.114,2,   0.057,2,   0.000,2,  2223.3,2,  2305.5,2,  1142.4,6,      20,   7.5469,2,    25.00, -999.00,9,  -999.0,9,  -999.0, -999.00,9, -999.00,9,     23.849,2,-999.0000,9,-999.0000,9,-999.0000,9,-999.0000,9,-999.0000,9,-999.0000,9,-999.0000,9,-999.0000,9,-999.0000,9,     -999.0,5,  -999.0,9,     -999.0,     -999.0,9,     -999.0,20130925,       1558
33RO20130803,       A16N,     121,          2,          9,          9,2,20130925,       1447,     3.0000,   -25.0000,       4426,  1147.5,   4.6404,  34.7416,2,  34.7423,2,    162.7,2,     164,2,   28.30,2,   30.70,2,    0.00,2,    2.08,2,   0.052,2,   0.028,2,   0.000,2,  2214.1,2,  2310.0,2,  1038.8,2,      20,   7.5909,2,    25.00, -999.00,9,  -999.0,9,  -999.0, -999.00,9, -999.00,9,     21.380,2,   0.1334,2,   0.0812,2,   0.0345,2,   0.0271,2,   0.0166,2,   0.0071,2,   0.0029,2,   0.0156,2,   0.0168,2,     -999.0,5,  -999.0,9,     -999.0,     -999.0,9,     -999.0,20130925,       1553
33RO20130803,       A16N,     121,          2,          8,          8,2,20130925,       1447,     3.0000,   -25.0000,       4426,  1448.3,   4.3575,  34.9269,2,  34.9272,2,    207.6,2,     208,2,   21.70,2,   24.00,2,    0.00,2,    1.61,2,   0.119,2,   0.059,2,   0.000,2,  2188.3,2,  2317.1,2,   857.0,2,      20,   7.6718,2,    25.00, -999.00,9,  -999.0,9,  -999.0, -999.00,9, -999.00,9,     16.716,2,   0.1310,2,   0.0797,2,   0.0320,2,   0.0241,2,   0.0146,2,   0.0066,2,   0.0028,2,   0.0161,2,   0.0173,2,     -999.0,5,  -999.0,9,     -999.0,     -999.0,9,     -999.0,20130925,       1546
33RO20130803,       A16N,     121,          2,          7,          7,2,20130925,       1447,     3.0000,   -25.0000,       4426,  1799.3,   3.8672,  34.9728,2,  34.9741,2,    243.1,2,   242.4,2,   18.90,2,   20.10,2,    0.00,2,    1.34,2,   0.317,2,   0.158,2,   0.064,2,  2171.6,2,  2315.6,2,   766.3,2,      20,   7.7187,2,    25.00, -999.00,9,  -999.0,9,  -999.0, -999.00,9, -999.00,9,     14.015,2,-999.0000,9,-999.0000,9,-999.0000,9,-999.0000,9,-999.0000,9,-999.0000,9,-999.0000,9,-999.0000,9,-999.0000,9,     -999.0,5,  -999.0,9,     -999.0,     -999.0,9,     -999.0,20130925,       1539
33RO20130803,       A16N,     121,          2,          6,          6,2,20130925,       1447,     3.0000,   -25.0000,       4426,  2198.3,   3.4073,  34.9573,2,  34.9581,2,    247.4,2,   246.6,2,   23.60,2,   20.20,2,    0.00,2,    1.34,2,   0.146,2,   0.074,2,   0.000,2,  2173.1,2,  2319.9,2,   750.7,2,      20,   7.7272,2,    25.00, -999.00,9,  -999.0,9,  -999.0, -999.00,9, -999.00,9,     13.602,2,   0.1399,2,   0.0887,2,   0.0332,2,   0.0236,2,   0.0137,2,   0.0061,2,   0.0025,2,   0.0172,2,   0.0178,2,     -999.0,5,  -999.0,9,     -999.0,     -999.0,9,     -999.0,20130925,       1531
33RO20130803,       A16N,     121,          2,          5,          5,2,20130925,       1447,     3.0000,   -25.0000,       4426,  2597.0,   2.9251,  34.9305,2,  34.9306,2,    243.7,2,   243.5,2,   32.40,2,   21.20,2,    0.00,2,    1.42,2,   0.025,2,   0.013,2,   0.000,2,  2181.4,2,  2328.5,2,   762.8,2,      20,   7.7215,2,    25.00, -999.00,9,  -999.0,9,  -999.0, -999.00,9, -999.00,9,     13.683,2,   0.1182,2,   0.0700,2,   0.0251,2,   0.0190,2,   0.0113,2,   0.0050,2,   0.0022,2,   0.0169,2,   0.0180,2,     -999.0,5,  -999.0,9,     -999.0,     -999.0,9,     -999.0,20130925,       1523
33RO20130803,       A16N,     121,          2,          4,          4,2,20130925,       1447,     3.0000,   -25.0000,       4426,  2997.7,   2.6405,  34.9107,2,  34.9105,2,    241.7,2,   242.5,2,   39.00,6,   21.80,6,    0.00,6,    1.46,6,   0.021,2,   0.012,2,   0.000,2,  2189.9,2,  2336.8,2,   757.1,2,      20,   7.7169,6,    25.00, -999.00,9,  -999.0,9,  -999.0, -999.00,9, -999.00,9,     13.789,2,   0.1278,2,   0.0783,2,   0.0312,2,   0.0231,2,   0.0140,2,   0.0065,2,   0.0028,2,   0.0161,2,   0.0172,2,     -999.0,5,  -999.0,9,     -999.0,     -999.0,9,     -999.0,20130925,       1515
33RO20130803,       A16N,     121,          2,          3,          3,2,20130925,       1447,     3.0000,   -25.0000,       4426,  3398.0,   2.5264,  34.9029,2,  34.9027,2,    242.3,2,   243.8,2,   41.10,6,   21.80,6,    0.00,6,    1.46,6,   0.021,2,   0.013,2,   0.000,2,  2192.0,2,  2338.4,6,   747.4,2,      20,   7.7204,2,    25.00, -999.00,9,  -999.0,9,  -999.0, -999.00,9, -999.00,9,     13.696,2,   0.1310,2,   0.0803,2,   0.0315,2,   0.0232,2,   0.0140,2,   0.0062,2,   0.0028,2,   0.0164,2,   0.0174,2,     -999.0,5,  -999.0,9,     -999.0,     -999.0,9,     -999.0,20130925,       1507
33RO20130803,       A16N,     121,          2,          2,          2,2,20130925,       1447,     3.0000,   -25.0000,       4426,  3896.2,   2.3690,  34.8888,2,  34.8883,2,    244.2,2,   244.8,2,   44.90,6,   22.00,6,    0.00,6,    1.47,6,   0.036,2,   0.021,2,   0.000,2,  2196.7,2,  2342.4,2,   757.0,2,      20,   7.7194,2,    25.00, -999.00,9,  -999.0,9,  -999.0, -999.00,9, -999.00,9,     13.761,2,   0.1474,2,   0.0934,2,   0.0386,2,   0.0270,2,   0.0164,2,   0.0076,2,   0.0032,2,   0.0163,2,   0.0171,2,     -999.0,5,  -999.0,9,     -999.0,     -999.0,9,     -999.0,20130925,       1458
33RO20130803,       A16N,     121,          2,          1,          1,2,20130925,       1447,     3.0000,   -25.0000,       4426,  4464.8,   2.3257,  34.8782,2,  34.8783,2,    242.3,2,   242.3,2,   49.00,6,   22.60,6,    0.00,6,    1.51,6,   0.049,6,   0.025,6,   0.026,6,  2202.8,6,  2348.7,2,   747.0,2,      20,   7.7158,2,    25.00, -999.00,9,  -999.0,9,  -999.0, -999.00,9, -999.00,9,     13.926,6,   0.1352,2,   0.0841,2,   0.0346,2,   0.0247,2,   0.0153,2,   0.0069,2,   0.0031,2,   0.0160,2,   0.0169,2,     -999.0,5,  -999.0,9,     -999.0,     -999.0,9,     -999.0,20130925,       1447