BOTTLE,20220815CCHSIOAMB
EXPOCODE,SECT_ID,STNNBR,CASTNO,SAMPNO,BTLNBR,BTLNBR_FLAG_W,DATE,TIME,LATITUDE,LONGITUDE,DEPTH,CTDPRS,CTDTMP,CTDSAL,CTDSAL_FLAG_W,SALNTY,SALNTY_FLAG_W,CTDOXY,CTDOXY_FLAG_W,OXYGEN,OXYGEN_FLAG_W,SILCAT,SILCAT_FLAG_W,NITRAT,NITRAT_FLAG_W,NITRIT,NITRIT_FLAG_W,PHSPHT,PHSPHT_FLAG_W,CFC-11,CFC-11_FLAG_W,CFC-12,CFC-12_FLAG_W,SF6,SF6_FLAG_W,TCARBN,TCARBN_FLAG_W,ALKALI,ALKALI_FLAG_W,PCO2,PCO2_FLAG_W,PCO2TMP,PH_SWS,PH_SWS_FLAG_W,PH_TMP,DELC13,DELC13_FLAG_W,DELC14,DELC14_FLAG_W,C14ERR,DOC,DOC_FLAG_W,TDN,TDN_FLAG_W,N2O,N2O_FLAG_W,CDOM325,CDOM325_FLAG_W,CDOM340,CDOM340_FLAG_W,CDOM380,CDOM380_FLAG_W,CDOM412,CDOM412_FLAG_W,CDOM443,CDOM443_FLAG_W,CDOM490,CDOM490_FLAG_W,CDOM555,CDOM555_FLAG_W,CDOMSL,CDOMSL_FLAG_W,CDOMSN,CDOMSN_FLAG_W,CCL4,CCL4_FLAG_W,14C-DOC,14C-DOC_FLAG_W,14C-DOCERR,13C-DOC,13C-DOC_FLAG_W,13C-DOCERR,BTL_DATE,BTL_TIME
,,,,,,,,,,,METERS,DBAR,ITS-90,PSS-78,,PSS-78,,UMOL/KG,,UMOL/KG,,UMOL/KG,,UMOL/KG,,UMOL/KG,,UMOL/KG,,PMOL/KG,,PMOL/KG,,FMOL/KG,,UMOL/KG,,UMOL/KG,,UATM,,DEG C,,,DEG C,/MILLE,,/MILLE,,/MILLE,UMOL/KG,,UMOL/KG,,NMOL/KG,,1/M,,1/M,,1/M,,1/M,,1/M,,1/M,,1/M,,1/NM,,1/NM,,PMOL/KG,,/MILLE,,/MILLE,/MILLE,,/MILLE,,
33RO20130803,       A16N,      61,          1,         24,         24,2,20130819,       0329,    35.0007,   -20.5664,       5129,     2.7,  23.1984,  36.7644,2,  36.7643,2,    212.6,2,   215.3,2,    0.60,2,    0.00,2,    0.00,2,    0.01,2,   1.866,2,   1.163,2,   1.373,2,  2100.5,6,  2407.9,2,   347.8,2,      20,   8.0156,2,    25.00,    0.89,2,    65.5,2,     0.2,   63.34,2,    4.81,2,      6.823,2,-999.0000,9,-999.0000,9,-999.0000,9,-999.0000,9,-999.0000,9,-999.0000,9,-999.0000,9,-999.0000,9,-999.0000,9,     -999.0,5,  -999.0,9,     -999.0,     -999.0,9,     -999.0,20130819,       0522
33RO20130803,       A16N,      61,          1,         23,         23,2,20130819,       0329,    35.0007,   -20.5664,       5129,    23.9,  23.2131,  36.7633,2,-999.0000,9,    212.6,2,   216.8,2,    0.60,2,    0.00,2,    0.00,2,    0.01,2,   1.888,2,   1.172,2,   1.380,2,  2101.3,2,  2404.7,6,   348.3,2,      20,   8.0115,2,    25.00,    0.92,2,    60.4,2,     0.2,   61.51,2,    4.42,2,      6.866,2,-999.0000,9,-999.0000,9,-999.0000,9,-999.0000,9,-999.0000,9,-999.0000,9,-999.0000,9,-999.0000,9,-999.0000,9,     -999.0,5,  -999.0,9,     -999.0,     -999.0,9,     -999.0,20130819,       0520
33RO20130803,       A16N,      61,          1,         22,         22,2,20130819,       0329,    35.0007,   -20.5664,       5129,    48.6,  20.3782,  36.5290,2,-999.0000,9,    242.8,2,   240.5,2,    0.60,2,    0.10,2,    0.00,2,    0.02,2,   2.189,6,   1.338,6,   1.525,6,  2091.5,2,  2393.1,2,   350.4,2,      20,   8.0068,2,    25.00,    0.98,2,    60.5,2,     0.3,   61.27,2,    4.81,2,      7.580,6,-999.0000,9,-999.0000,9,-999.0000,9,-999.0000,9,-999.0000,9,-999.0000,9,-999.0000,9,-999.0000,9,-999.0000,9,     -999.0,5,  -999.0,9,     -999.0,     -999.0,9,     -999.0,20130819,       0518
33RO20130803,       A16N,      61,          1,         21,         21,2,20130819,       0329,    35.0007,   -20.5664,       5129,    74.2,  19.0745,  36.5904,2,  36.4466,2,    236.6,2,   234.1,2,    0.70,2,    0.10,2,    0.00,2,    0.02,2,   2.264,2,   1.375,2,   1.520,2,  2102.8,2,  2399.7,2,   371.3,2,      20,   7.9897,2,    25.00,    0.89,2,    59.7,2,     0.2,   56.27,2,     4.6,2,      7.892,2,-999.0000,9,-999.0000,9,-999.0000,9,-999.0000,9,-999.0000,9,-999.0000,9,-999.0000,9,-999.0000,9,-999.0000,9,     -999.0,5,  -999.0,9,     -999.0,     -999.0,9,     -999.0,20130819,       0516
33RO20130803,       A16N,      61,          1,         20,         20,2,20130819,       0329,    35.0007,   -20.5664,       5129,    98.8,  17.7999,  36.4439,2,  36.4400,2,    219.7,2,   218.8,2,    1.00,2,    0.90,2,    0.10,2,    0.07,2,   2.324,2,   1.405,2,   1.543,2,  2115.7,2,  2542.9,4,   406.6,2,      20,   7.9591,2,    25.00,    0.66,2,    66.4,2,     0.2,   54.11,2,    5.54,2,      8.470,2,-999.0000,9,-999.0000,9,-999.0000,9,-999.0000,9,-999.0000,9,-999.0000,9,-999.0000,9,-999.0000,9,-999.0000,9,     -999.0,5,  -999.0,9,     -999.0,     -999.0,9,     -999.0,20130819,       0515
33RO20130803,       A16N,      61,          1,         19,         19,2,20130819,       0329,    35.0007,   -20.5664,       5129,   148.8,  16.4429,  36.2461,2,  36.2257,2,    206.3,2,   207.6,2,    1.90,2,    5.20,2,    0.02,2,    0.30,2,   2.436,2,   1.453,2,   1.488,2,  2126.3,2,  2372.2,2,   452.6,2,      20,   7.9198,2,    25.00,    0.52,2,    71.4,2,     0.2,    51.5,2,   10.24,2,      9.576,2,-999.0000,9,-999.0000,9,-999.0000,9,-999.0000,9,-999.0000,9,-999.0000,9,-999.0000,9,-999.0000,9,-999.0000,9,     -999.0,5,  -999.0,9,     -999.0,     -999.0,9,     -999.0,20130819,       0513
33RO20130803,       A16N,      61,          1,         18,         18,2,20130819,       0329,    35.0007,   -20.5664,       5129,   220.9,  14.9704,  36.0250,2,  36.0057,2,    201.0,2,   203.7,2,    3.00,2,    8.40,2,    0.01,2,    0.49,2,   2.554,2,   1.501,2,   1.431,2,  2137.4,2,  2359.7,2,   504.5,2,      20,   7.8730,2,    25.00,    0.52,2,    64.1,2,     0.2,   48.87,2,   12.03,2,     10.719,2,-999.0000,9,-999.0000,9,-999.0000,9,-999.0000,9,-999.0000,9,-999.0000,9,-999.0000,9,-999.0000,9,-999.0000,9,     -999.0,5,  -999.0,9,     -999.0,     -999.0,9,     -999.0,20130819,       0510
33RO20130803,       A16N,      61,          1,         17,         17,2,20130819,       0329,    35.0007,   -20.5664,       5129,   298.5,  13.5995,  35.8125,2,  35.8130,2,    215.0,2,     219,2,    3.10,2,    8.60,2,    0.01,2,    0.52,2,   2.757,2,   1.624,2,   1.601,2,  2139.8,2,  2349.0,2,   531.2,2,      20,   7.8538,2,    25.00,    0.48,2,    56.5,2,     0.2,   48.12,2,    12.3,2,     10.709,2,-999.0000,9,-999.0000,9,-999.0000,9,-999.0000,9,-999.0000,9,-999.0000,9,-999.0000,9,-999.0000,9,-999.0000,9,     -999.0,5,  -999.0,9,     -999.0,     -999.0,9,     -999.0,20130819,       0508
33RO20130803,       A16N,      61,          1,         16,         16,2,20130819,       0329,    35.0007,   -20.5664,       5129,   399.0,  12.9431,  35.7697,2,  35.7699,2,    212.7,2,   213.3,2,    3.60,2,   10.20,2,    0.01,2,    0.62,2,   2.821,2,   1.631,2,   1.500,2,  2147.9,2,  2346.5,2,   566.0,2,      20,   7.8314,6,    25.00,    0.54,2,    52.0,2,     0.2,   47.47,2,   14.59,2,     11.663,2,-999.0000,9,-999.0000,9,-999.0000,9,-999.0000,9,-999.0000,9,-999.0000,9,-999.0000,9,-999.0000,9,-999.0000,9,     -999.0,5,  -999.0,9,     -999.0,     -999.0,9,     -999.0,20130819,       0505
33RO20130803,       A16N,      61,          1,         15,         15,2,20130819,       0329,    35.0007,   -20.5664,       5129,   498.3,  12.1951,  35.6826,2,-999.0000,9,    208.4,2,   207.6,2,    4.60,2,   12.30,2,    0.01,2,    0.74,2,   2.819,2,   1.605,2,   1.373,2,  2156.7,2,  2340.6,2,   607.6,2,      20,   7.8035,2,    25.00,    0.48,2,    56.4,2,     0.2,   46.53,2,   16.81,2,     12.746,2,-999.0000,9,-999.0000,9,-999.0000,9,-999.0000,9,-999.0000,9,-999.0000,9,-999.0000,9,-999.0000,9,-999.0000,9,     -999.0,5,  -999.0,9,     -999.0,     -999.0,9,     -999.0,20130819,       0502
33RO20130803,       A16N,      61,          1,         14,         14,2,20130819,       0329,    35.0007,   -20.5664,       5129,   648.6,  10.6603,  35.5140,2,  35.5132,2,    175.9,2,   176.1,2,    8.80,2,   18.10,2,    0.01,2,    1.11,2,   2.084,2,   1.114,2,   0.683,2,  2177.6,2,  2336.2,2,   706.6,2,      20,   7.7441,2,    25.00,    0.48,2,    21.0,2,     0.3,   45.76,2,   20.59,2,     15.846,2,-999.0000,9,-999.0000,9,-999.0000,9,-999.0000,9,-999.0000,9,-999.0000,9,-999.0000,9,-999.0000,9,-999.0000,9,     -999.0,5,  -999.0,9,     -999.0,     -999.0,9,     -999.0,20130819,       0459
33RO20130803,       A16N,      61,          1,         13,         13,2,20130819,       0329,    35.0007,   -20.5664,       5129,   798.5,   9.7509,  35.5334,2,  35.5301,2,    175.6,2,   176.1,2,   10.70,2,   19.10,2,    0.01,2,    1.19,2,   1.718,2,   0.907,2,   0.508,2,  2186.7,2,  2341.8,6,   726.9,2,      20,   7.7335,2,    25.00, -999.00,9,  -999.0,9,  -999.0,   45.49,2,   21.67,2,     16.185,2,-999.0000,9,-999.0000,9,-999.0000,9,-999.0000,9,-999.0000,9,-999.0000,9,-999.0000,9,-999.0000,9,-999.0000,9,     -999.0,5,  -999.0,9,     -999.0,     -999.0,9,     -999.0,20130819,       0455
33RO20130803,       A16N,      61,          1,         12,         12,2,20130819,       0329,    35.0007,   -20.5664,       5129,   947.6,   9.1076,  35.6153,2,-999.0000,9,    185.1,2,   184.9,2, -999.00,9, -999.00,9, -999.00,9, -999.00,9,   1.636,2,   0.852,2,   0.394,2,  2191.5,6,  2351.8,2,   721.6,2,      20,   7.7393,2,    25.00,    0.64,6,    -8.1,6,    11.4,   45.21,2,   21.47,2,     15.540,2,-999.0000,9,-999.0000,9,-999.0000,9,-999.0000,9,-999.0000,9,-999.0000,9,-999.0000,9,-999.0000,9,-999.0000,9,     -999.0,5,  -999.0,9,     -999.0,     -999.0,9,     -999.0,20130819,       0451
33RO20130803,       A16N,      61,          1,         11,         11,2,20130819,       0329,    35.0007,   -20.5664,       5129,  1098.3,   7.9452,  35.5104,2,  35.5112,2,    198.3,2,   198.4,2,   12.10,2,   18.80,2,    0.00,2,    1.18,2,   1.589,2,   0.816,2,   0.392,2,  2189.0,2,  2347.0,2,   730.0,2,      20,   7.7326,2,    25.00,    0.68,2,   -20.0,2,     0.2,   44.36,2,   21.18,2,     15.172,2,-999.0000,9,-999.0000,9,-999.0000,9,-999.0000,9,-999.0000,9,-999.0000,9,-999.0000,9,-999.0000,9,-999.0000,9,     -999.0,5,  -999.0,9,     -999.0,     -999.0,9,     -999.0,20130819,       0448
33RO20130803,       A16N,      61,          1,         10,         10,2,20130819,       0329,    35.0007,   -20.5664,       5129,  1298.5,   6.5433,  35.3562,2,  35.3544,2,    219.4,2,   220.4,2,   12.50,2,   18.40,2,    0.00,2,    1.17,2,   1.834,2,   0.922,2,   0.377,2,  2183.2,2,  2334.0,2,   736.0,2,      20,   7.7299,2,    25.00,    0.72,2,   -18.6,2,     0.2,   43.64,2,   20.81,2,     14.503,2,-999.0000,9,-999.0000,9,-999.0000,9,-999.0000,9,-999.0000,9,-999.0000,9,-999.0000,9,-999.0000,9,-999.0000,9,     -999.0,5,  -999.0,9,     -999.0,     -999.0,9,     -999.0,20130819,       0443
33RO20130803,       A16N,      61,          1,          9,          9,2,20130819,       0329,    35.0007,   -20.5664,       5129,  1598.2,   4.8331,  35.1289,2,  35.9963,4,    246.3,2,     246,2,   13.30,2,   18.20,2,    0.00,2,    1.18,2,   1.991,2,   0.977,2,   0.380,2,  2172.0,2,  2320.3,2,   743.8,2,      20,   7.7254,2,    25.00,    0.66,3,   -18.7,2,     0.2,   42.95,2,    20.6,2,     13.860,2,-999.0000,9,-999.0000,9,-999.0000,9,-999.0000,9,-999.0000,9,-999.0000,9,-999.0000,9,-999.0000,9,-999.0000,9,     -999.0,5,  -999.0,9,     -999.0,     -999.0,9,     -999.0,20130819,       0437
33RO20130803,       A16N,      61,          1,          8,          8,2,20130819,       0329,    35.0007,   -20.5664,       5129,  1998.3,   3.3235,  34.9287,2,  34.9285,2,    269.5,2,     269,2,   15.30,2,   17.80,2,    0.00,2,    1.17,2,   2.303,2,   1.103,2,   0.428,2,  2164.3,2,  2308.2,2,   751.3,2,      20,   7.7169,2,    25.00,    0.97,2,   -30.0,2,     0.5,   42.71,2,   20.24,2,     13.192,2,-999.0000,9,-999.0000,9,-999.0000,9,-999.0000,9,-999.0000,9,-999.0000,9,-999.0000,9,-999.0000,9,-999.0000,9,     -999.0,5,  -999.0,9,     -999.0,     -999.0,9,     -999.0,20130819,       0429
33RO20130803,       A16N,      61,          1,          7,          7,2,20130819,       0329,    35.0007,   -20.5664,       5129,  2398.8,   3.1402,  34.9300,2,  34.9295,2,    267.1,2,   266.1,2,   18.40,2,   18.10,2,    0.00,2,    1.19,2,   1.896,2,   0.908,2,   0.350,2,  2166.9,2,  2315.8,2,   750.7,2,      20,   7.7211,2,    25.00,    0.97,2,   -32.6,2,     0.3,   41.98,2,   20.55,2,     13.259,2,-999.0000,9,-999.0000,9,-999.0000,9,-999.0000,9,-999.0000,9,-999.0000,9,-999.0000,9,-999.0000,9,-999.0000,9,     -999.0,5,  -999.0,9,     -999.0,     -999.0,9,     -999.0,20130819,       0421
33RO20130803,       A16N,      61,          1,          6,          6,2,20130819,       0329,    35.0007,   -20.5664,       5129,  2798.0,   2.9945,  34.9467,2,  34.9496,2,    257.0,2,   255.9,2,   25.70,2,   19.30,2,    0.00,2,    1.28,2,   0.877,2,   0.422,2,   0.169,2,  2175.7,2,  2326.9,2,   744.8,2,      20,   7.7273,2,    25.00,    1.01,2,   -70.0,2,     0.2,   41.34,2,   21.44,2,     13.323,2,-999.0000,9,-999.0000,9,-999.0000,9,-999.0000,9,-999.0000,9,-999.0000,9,-999.0000,9,-999.0000,9,-999.0000,9,     -999.0,5,  -999.0,9,     -999.0,     -999.0,9,     -999.0,20130819,       0413
33RO20130803,       A16N,      61,          1,          5,          5,2,20130819,       0329,    35.0007,   -20.5664,       5129,  3298.2,   2.7077,  34.9316,2,  34.9307,2,    247.5,2,   246.2,2,   36.00,2,   21.00,2,    0.00,2,    1.40,2,   0.205,2,   0.099,2,   0.044,2,  2188.8,2,  2339.1,2,   745.2,2,      20,   7.7264,2,    25.00,    1.04,2,  -106.7,2,     0.2,   40.35,2,   23.08,2,     13.414,2,-999.0000,9,-999.0000,9,-999.0000,9,-999.0000,9,-999.0000,9,-999.0000,9,-999.0000,9,-999.0000,9,-999.0000,9,     -999.0,5,  -999.0,9,     -999.0,     -999.0,9,     -999.0,20130819,       0404
33RO20130803,       A16N,      61,          1,          4,          4,2,20130819,       0329,    35.0007,   -20.5664,       5129,  3848.0,   2.5450,  34.9121,2,  34.9114,2,    242.9,2,   244.5,2,   41.60,6,   21.80,6,    0.00,6,    1.46,6,   0.061,2,   0.033,2,   0.017,2,  2192.9,2,  2345.0,2,   746.7,2,      20,   7.7280,6,    25.00,    1.05,2,  -113.7,2,     0.2,   40.15,2,   23.78,2,     13.526,2,-999.0000,9,-999.0000,9,-999.0000,9,-999.0000,9,-999.0000,9,-999.0000,9,-999.0000,9,-999.0000,9,-999.0000,9,     -999.0,5,  -999.0,9,     -999.0,     -999.0,9,     -999.0,20130819,       0353
33RO20130803,       A16N,      61,          1,          3,          3,2,20130819,       0329,    35.0007,   -20.5664,       5129,  4399.1,   2.4513,  34.8970,2,  34.8957,2,    243.4,2,   244.3,2,   45.20,6,   22.30,6,    0.00,6,    1.49,6,   0.006,2,   0.005,2,   0.007,2,  2196.9,2,  2347.7,6,   749.4,2,      20,   7.7260,2,    25.00,    1.04,2,  -114.2,2,     0.2,   40.25,2,   24.79,2,     13.650,2,-999.0000,9,-999.0000,9,-999.0000,9,-999.0000,9,-999.0000,9,-999.0000,9,-999.0000,9,-999.0000,9,-999.0000,9,     -999.0,5,  -999.0,9,     -999.0,     -999.0,9,     -999.0,20130819,       0343
33RO20130803,       A16N,      61,          1,          2,          2,2,20130819,       0329,    35.0007,   -20.5664,       5129,  4646.3,   2.4391,  34.8928,2,  34.8926,2,    243.1,2,   244.6,2,   46.20,6,   22.30,6,    0.00,6,    1.49,6,   0.012,6,   0.009,6,   0.020,6,  2197.4,2,  2348.8,2,  -999.0,5,      20,   7.7283,2,    25.00,    1.01,2,  -118.5,2,     0.2,   40.35,2,   24.85,2,     13.702,6,-999.0000,9,-999.0000,9,-999.0000,9,-999.0000,9,-999.0000,9,-999.0000,9,-999.0000,9,-999.0000,9,-999.0000,9,     -999.0,5,  -999.0,9,     -999.0,     -999.0,9,     -999.0,20130819,       0339
33RO20130803,       A16N,      61,          1,          1,          1,2,20130819,       0329,    35.0007,   -20.5664,       5129,  5192.7,   2.4673,  34.8879,2,  34.8888,2,    244.8,2,   243.6,2,   47.30,6,   22.40,6,    0.00,6,    1.50,6,   0.004,2,   0.004,2,   0.000,2,  2202.4,6,  2353.8,2,   749.5,2,      20,   7.7256,2,    25.00,    0.91,2,  -111.8,2,     0.2,   40.68,2,   24.64,2,     13.751,2,-999.0000,9,-999.0000,9,-999.0000,9,-999.0000,9,-999.0000,9,-999.0000,9,-999.0000,9,-999.0000,9,-999.0000,9,     -999.0,5,  -999.0,9,     -999.0,     -999.0,9,     -999.0,20130819,       0329