BOTTLE,20220815CCHSIOAMB
EXPOCODE,SECT_ID,STNNBR,CASTNO,SAMPNO,BTLNBR,BTLNBR_FLAG_W,DATE,TIME,LATITUDE,LONGITUDE,DEPTH,CTDPRS,CTDTMP,CTDSAL,CTDSAL_FLAG_W,SALNTY,SALNTY_FLAG_W,CTDOXY,CTDOXY_FLAG_W,OXYGEN,OXYGEN_FLAG_W,SILCAT,SILCAT_FLAG_W,NITRAT,NITRAT_FLAG_W,NITRIT,NITRIT_FLAG_W,PHSPHT,PHSPHT_FLAG_W,CFC-11,CFC-11_FLAG_W,CFC-12,CFC-12_FLAG_W,SF6,SF6_FLAG_W,TCARBN,TCARBN_FLAG_W,ALKALI,ALKALI_FLAG_W,PCO2,PCO2_FLAG_W,PCO2TMP,PH_SWS,PH_SWS_FLAG_W,PH_TMP,DELC13,DELC13_FLAG_W,DELC14,DELC14_FLAG_W,C14ERR,DOC,DOC_FLAG_W,TDN,TDN_FLAG_W,N2O,N2O_FLAG_W,CDOM325,CDOM325_FLAG_W,CDOM340,CDOM340_FLAG_W,CDOM380,CDOM380_FLAG_W,CDOM412,CDOM412_FLAG_W,CDOM443,CDOM443_FLAG_W,CDOM490,CDOM490_FLAG_W,CDOM555,CDOM555_FLAG_W,CDOMSL,CDOMSL_FLAG_W,CDOMSN,CDOMSN_FLAG_W,CCL4,CCL4_FLAG_W,14C-DOC,14C-DOC_FLAG_W,14C-DOCERR,13C-DOC,13C-DOC_FLAG_W,13C-DOCERR,BTL_DATE,BTL_TIME
,,,,,,,,,,,METERS,DBAR,ITS-90,PSS-78,,PSS-78,,UMOL/KG,,UMOL/KG,,UMOL/KG,,UMOL/KG,,UMOL/KG,,UMOL/KG,,PMOL/KG,,PMOL/KG,,FMOL/KG,,UMOL/KG,,UMOL/KG,,UATM,,DEG C,,,DEG C,/MILLE,,/MILLE,,/MILLE,UMOL/KG,,UMOL/KG,,NMOL/KG,,1/M,,1/M,,1/M,,1/M,,1/M,,1/M,,1/M,,1/NM,,1/NM,,PMOL/KG,,/MILLE,,/MILLE,/MILLE,,/MILLE,,
33RO20130803,       A16N,       4,          1,         21,         21,2,20130804,       0822,    62.7506,   -19.9975,       1411,     3.2,  12.0022,  35.0422,2,  35.0445,2,    297.8,2,   294.6,2,    1.10,2,    1.70,2,    0.07,2,    0.18,2,   3.291,6,   1.914,6,   2.032,6,  2051.6,6,  2338.5,3,  -999.0,9, -999.00,   7.9640,2,    25.00, -999.00,9,  -999.0,9,  -999.0,   62.15,2,    4.83,2,      9.853,6,-999.0000,9,-999.0000,9,-999.0000,9,-999.0000,9,-999.0000,9,-999.0000,9,-999.0000,9,-999.0000,9,-999.0000,9,     -999.0,5,  -999.0,9,     -999.0,     -999.0,9,     -999.0,20130804,       0922
33RO20130803,       A16N,       4,          1,         20,         20,2,20130804,       0822,    62.7506,   -19.9975,       1411,    19.3,  10.4729,  35.0522,2,  35.0547,2,    282.4,2,   285.5,2,    1.20,2,    4.50,2,    0.21,2,    0.35,2,   3.473,2,   2.003,2,   2.159,2,  2089.2,2,  2311.6,2,  -999.0,9, -999.00,   7.8958,2,    25.00, -999.00,9,  -999.0,9,  -999.0,   58.44,2,    8.01,2,     10.308,2,-999.0000,9,-999.0000,9,-999.0000,9,-999.0000,9,-999.0000,9,-999.0000,9,-999.0000,9,-999.0000,9,-999.0000,9,     -999.0,5,  -999.0,9,     -999.0,     -999.0,9,     -999.0,20130804,       0919
33RO20130803,       A16N,       4,          1,         19,         19,2,20130804,       0822,    62.7506,   -19.9975,       1411,    41.8,   9.5372,  35.0868,2,  35.0880,2,    271.5,2,   270.6,2,    1.80,2,    7.50,2,    0.50,2,    0.59,2,-999.000,9,-999.000,9,-999.000,9,  2115.3,2,  2317.7,2,  -999.0,9, -999.00,   7.8395,2,    25.00, -999.00,9,  -999.0,9,  -999.0,   53.69,2,   11.41,2,     -999.0,9,-999.0000,9,-999.0000,9,-999.0000,9,-999.0000,9,-999.0000,9,-999.0000,9,-999.0000,9,-999.0000,9,-999.0000,9,     -999.0,9,  -999.0,9,     -999.0,     -999.0,9,     -999.0,20130804,       0916
33RO20130803,       A16N,       4,          1,         18,         18,2,20130804,       0822,    62.7506,   -19.9975,       1411,    67.5,   8.7428,  35.1335,2,  35.1358,2,    266.8,2,   267.9,2,    2.90,2,   10.80,2,    0.22,2,    0.71,2,   3.594,2,   2.063,2,   2.161,2,  2132.7,2,  2345.7,3,  -999.0,9, -999.00,   7.8049,2,    25.00,    0.87,2,    26.7,2,     0.2,   52.56,2,   13.97,2,     11.304,2,-999.0000,9,-999.0000,9,-999.0000,9,-999.0000,9,-999.0000,9,-999.0000,9,-999.0000,9,-999.0000,9,-999.0000,9,     -999.0,5,  -999.0,9,     -999.0,     -999.0,9,     -999.0,20130804,       0914
33RO20130803,       A16N,       4,          1,         17,         17,2,20130804,       0822,    62.7506,   -19.9975,       1411,    93.1,   8.4667,  35.1488,2,  35.1477,2,    266.5,2,   265.4,2,    3.60,2,   12.00,2,    0.01,2,    0.79,2,-999.000,9,-999.000,9,-999.000,9,  2141.2,2,  2319.1,2,  -999.0,9, -999.00,   7.7894,2,    25.00, -999.00,9,  -999.0,9,  -999.0,   52.06,2,    14.2,2,     -999.0,9,-999.0000,9,-999.0000,9,-999.0000,9,-999.0000,9,-999.0000,9,-999.0000,9,-999.0000,9,-999.0000,9,-999.0000,9,     -999.0,9,  -999.0,9,     -999.0,     -999.0,9,     -999.0,20130804,       0911
33RO20130803,       A16N,       4,          1,         16,         16,4,20130804,       0822,    62.7506,   -19.9975,       1411,   116.5,   8.3290,  35.1554,2,  35.0434,4,    265.8,2,   302.2,4,    1.10,2,    1.70,2,    0.07,2,    0.18,2,   3.297,4,   1.921,4,   2.004,4,  2048.4,4,  2312.7,2,  -999.0,9, -999.00,   7.9631,4,    25.00, -999.00,9,  -999.0,9,  -999.0,   51.86,2,    5.95,2,      9.910,4,-999.0000,9,-999.0000,9,-999.0000,9,-999.0000,9,-999.0000,9,-999.0000,9,-999.0000,9,-999.0000,9,-999.0000,9,     -999.0,5,  -999.0,9,     -999.0,     -999.0,9,     -999.0,20130804,       0909
33RO20130803,       A16N,       4,          1,         15,         15,2,20130804,       0822,    62.7506,   -19.9975,       1411,   142.1,   8.1664,  35.1604,2,  35.1591,2,    264.9,2,   265.2,2,    4.90,2,   13.10,2,    0.01,2,    0.85,2,-999.000,9,-999.000,9,-999.000,9,  2149.0,2,  2320.0,2,  -999.0,9, -999.00,   7.7746,2,    25.00,    0.67,2,    30.2,2,     0.2,   51.62,2,   15.14,2,     -999.0,9,-999.0000,9,-999.0000,9,-999.0000,9,-999.0000,9,-999.0000,9,-999.0000,9,-999.0000,9,-999.0000,9,-999.0000,9,     -999.0,9,  -999.0,9,     -999.0,     -999.0,9,     -999.0,20130804,       0907
33RO20130803,       A16N,       4,          1,         14,         14,2,20130804,       0822,    62.7506,   -19.9975,       1411,   166.9,   8.1206,  35.1684,2,  35.1673,2,    264.7,2,   265.6,2,    5.40,2,   13.40,2,    0.01,2,    0.87,2,   3.536,2,   2.028,2,   2.058,2,  2150.9,2,  2320.8,2,  -999.0,9, -999.00,   7.7699,2,    25.00,    0.70,2,    22.4,2,     0.2,   51.23,2,   15.44,2,     11.798,2,-999.0000,9,-999.0000,9,-999.0000,9,-999.0000,9,-999.0000,9,-999.0000,9,-999.0000,9,-999.0000,9,-999.0000,9,     -999.0,5,  -999.0,9,     -999.0,     -999.0,9,     -999.0,20130804,       0905
33RO20130803,       A16N,       4,          1,         13,         13,2,20130804,       0822,    62.7506,   -19.9975,       1411,   191.6,   8.0543,  35.1685,2,  35.1673,2,    264.8,2,     265,2,    5.60,2,   13.60,2,    0.01,2,    0.88,2,-999.000,9,-999.000,9,-999.000,9,  2153.2,2,  2331.2,3,  -999.0,9, -999.00,   7.7670,2,    25.00,    0.71,2,    26.2,2,     0.2,   50.37,2,   15.63,2,     -999.0,9,-999.0000,9,-999.0000,9,-999.0000,9,-999.0000,9,-999.0000,9,-999.0000,9,-999.0000,9,-999.0000,9,-999.0000,9,     -999.0,9,  -999.0,9,     -999.0,     -999.0,9,     -999.0,20130804,       0902
33RO20130803,       A16N,       4,          1,         12,         12,2,20130804,       0822,    62.7506,   -19.9975,       1411,   234.9,   8.0492,  35.1899,2,  35.1912,2,    265.3,2,   266.7,2,    6.00,2,   13.60,2,    0.01,2,    0.88,2,   3.533,2,   2.023,2,   2.022,2,  2152.2,2,  2326.4,2,  -999.0,9, -999.00,   7.7670,6,    25.00,    0.03,4,    10.1,4,     0.2,   49.87,2,   15.92,2,     11.838,2,-999.0000,9,-999.0000,9,-999.0000,9,-999.0000,9,-999.0000,9,-999.0000,9,-999.0000,9,-999.0000,9,-999.0000,9,     -999.0,5,  -999.0,9,     -999.0,     -999.0,9,     -999.0,20130804,       0900
33RO20130803,       A16N,       4,          1,         11,         11,2,20130804,       0822,    62.7506,   -19.9975,       1411,   304.8,   7.9608,  35.1898,2,  35.1902,2,    266.4,2,   266.6,2,    6.10,2,   13.80,2,    0.01,2,    0.90,2,-999.000,9,-999.000,9,-999.000,9,  2152.7,2,  2323.2,2,  -999.0,9, -999.00,   7.7641,2,    25.00,    0.62,2,    19.7,2,     0.3,   49.39,2,   16.17,2,     -999.0,9,-999.0000,9,-999.0000,9,-999.0000,9,-999.0000,9,-999.0000,9,-999.0000,9,-999.0000,9,-999.0000,9,-999.0000,9,     -999.0,9,  -999.0,9,     -999.0,     -999.0,9,     -999.0,20130804,       0857
33RO20130803,       A16N,       4,          1,         10,         10,2,20130804,       0822,    62.7506,   -19.9975,       1411,   379.5,   7.8280,  35.1836,2,  35.1829,2,    262.9,2,   265.9,2,    6.40,2,   14.10,2,    0.01,2,    0.91,2,   3.520,2,   2.019,2,   2.002,2,  2156.2,2,  2322.1,2,  -999.0,9, -999.00,   7.7613,2,    25.00,    0.66,2,    19.6,2,     0.3,   49.18,2,   16.43,2,     11.835,2,-999.0000,9,-999.0000,9,-999.0000,9,-999.0000,9,-999.0000,9,-999.0000,9,-999.0000,9,-999.0000,9,-999.0000,9,     -999.0,5,  -999.0,9,     -999.0,     -999.0,9,     -999.0,20130804,       0855
33RO20130803,       A16N,       4,          1,          9,          9,2,20130804,       0822,    62.7506,   -19.9975,       1411,   453.9,   7.6785,  35.1741,2,  35.1732,2,    257.3,2,   259.9,2,    7.00,2,   14.60,2,    0.01,2,    0.95,2,-999.000,9,-999.000,9,-999.000,9,  2159.1,2,  2320.4,2,  -999.0,9, -999.00,   7.7546,2,    25.00,    0.42,4,    15.0,6,     0.1,   49.08,2,   16.55,2,     -999.0,9,-999.0000,9,-999.0000,9,-999.0000,9,-999.0000,9,-999.0000,9,-999.0000,9,-999.0000,9,-999.0000,9,-999.0000,9,     -999.0,9,  -999.0,9,     -999.0,     -999.0,9,     -999.0,20130804,       0852
33RO20130803,       A16N,       4,          1,          8,          8,2,20130804,       0822,    62.7506,   -19.9975,       1411,   529.4,   7.4488,  35.1611,2,  35.1602,2,    254.1,2,   253.9,2,    7.70,2,   15.30,2,    0.00,2,    0.99,2,   3.358,2,   1.899,2,   1.774,2,  2162.5,2,  2321.0,2,  -999.0,9, -999.00,   7.7464,2,    25.00,    0.67,2,    15.7,2,     0.2,   48.92,2,      17,2,     12.902,2,-999.0000,9,-999.0000,9,-999.0000,9,-999.0000,9,-999.0000,9,-999.0000,9,-999.0000,9,-999.0000,9,-999.0000,9,     -999.0,5,  -999.0,9,     -999.0,     -999.0,9,     -999.0,20130804,       0849
33RO20130803,       A16N,       4,          1,          7,          7,2,20130804,       0822,    62.7506,   -19.9975,       1411,   623.7,   7.1187,  35.1477,2,  35.1477,2,    241.4,2,     242,2,    8.80,2,   16.30,2,    0.00,2,    1.05,2,   3.230,2,   1.793,2,   1.531,2,  2168.5,2,  2320.9,2,  -999.0,9, -999.00,   7.7276,2,    25.00,    0.40,4,     6.5,2,     0.2,   48.57,2,    19.6,2,     13.745,2,-999.0000,9,-999.0000,9,-999.0000,9,-999.0000,9,-999.0000,9,-999.0000,9,-999.0000,9,-999.0000,9,-999.0000,9,     -999.0,5,  -999.0,9,     -999.0,     -999.0,9,     -999.0,20130804,       0846
33RO20130803,       A16N,       4,          1,          6,          6,2,20130804,       0822,    62.7506,   -19.9975,       1411,   698.6,   6.6817,  35.1262,2,  35.1266,2,    237.7,2,   237.9,2,    9.50,6,   16.90,6,    0.00,6,    1.10,6,   3.141,2,   1.726,2,   1.368,2,  2175.4,2,  2322.9,2,  -999.0,9, -999.00,   7.7149,2,    25.00,    0.69,2,    10.9,2,     0.2,    48.1,2,   18.79,2,     14.121,2,-999.0000,9,-999.0000,9,-999.0000,9,-999.0000,9,-999.0000,9,-999.0000,9,-999.0000,9,-999.0000,9,-999.0000,9,     -999.0,5,  -999.0,9,     -999.0,     -999.0,9,     -999.0,20130804,       0843
33RO20130803,       A16N,       4,          1,          5,          5,2,20130804,       0822,    62.7506,   -19.9975,       1411,   859.6,   5.5758,  35.0634,2,  35.0627,2,    249.9,2,   250.9,2,    9.80,6,   16.70,6,    0.00,6,    1.09,6,   3.363,2,   1.822,2,   1.472,2,  2173.5,2,  2317.3,2,  -999.0,9, -999.00,   7.7064,2,    25.00,    0.70,2,     9.1,2,     0.2,   48.18,2,   19.57,2,     13.956,2,-999.0000,9,-999.0000,9,-999.0000,9,-999.0000,9,-999.0000,9,-999.0000,9,-999.0000,9,-999.0000,9,-999.0000,9,     -999.0,5,  -999.0,9,     -999.0,     -999.0,9,     -999.0,20130804,       0839
33RO20130803,       A16N,       4,          1,          4,          4,2,20130804,       0822,    62.7506,   -19.9975,       1411,  1010.5,   4.6866,  35.0109,2,  35.0166,2,    269.5,2,   269.7,2,    9.10,2,   15.80,2,    0.00,2,    1.03,2,   3.707,2,   1.995,2,   1.550,2,  2169.0,2,  2315.8,2,  -999.0,9, -999.00,   7.7157,2,    25.00,    0.73,2,     8.6,2,     0.2,    48.2,2,    17.8,2,     13.394,2,-999.0000,9,-999.0000,9,-999.0000,9,-999.0000,9,-999.0000,9,-999.0000,9,-999.0000,9,-999.0000,9,-999.0000,9,     -999.0,5,  -999.0,9,     -999.0,     -999.0,9,     -999.0,20130804,       0835
33RO20130803,       A16N,       4,          1,          3,          3,2,20130804,       0822,    62.7506,   -19.9975,       1411,  1160.2,   4.5031,  35.0207,2,  35.0191,2,    272.7,2,     276,2,    8.70,6,   15.00,6,    0.01,6,    0.99,6,   3.804,2,   2.060,2,   1.799,2,  2167.3,2,  2313.7,2,  -999.0,9, -999.00,   7.7187,2,    25.00,    0.74,2,    12.1,2,     0.2,   48.21,2,   17.01,2,     13.323,2,-999.0000,9,-999.0000,9,-999.0000,9,-999.0000,9,-999.0000,9,-999.0000,9,-999.0000,9,-999.0000,9,-999.0000,9,     -999.0,5,  -999.0,9,     -999.0,     -999.0,9,     -999.0,20130804,       0830
33RO20130803,       A16N,       4,          1,          2,          2,2,20130804,       0822,    62.7506,   -19.9975,       1411,  1310.1,   4.2705,  35.0197,2,  35.0191,2,    277.7,2,   277.5,2,    8.60,2,   15.00,2,    0.00,2,    0.99,2,   3.792,2,   2.052,2,   1.701,2,  2167.8,2,  -999.0,5,  -999.0,9, -999.00,   7.7196,2,    25.00, -999.00,9,  -999.0,9,  -999.0,   48.35,2,   18.27,2,     13.409,2,-999.0000,9,-999.0000,9,-999.0000,9,-999.0000,9,-999.0000,9,-999.0000,9,-999.0000,9,-999.0000,9,-999.0000,9,     -999.0,5,  -999.0,9,     -999.0,     -999.0,9,     -999.0,20130804,       0826
33RO20130803,       A16N,       4,          1,          1,          1,2,20130804,       0822,    62.7506,   -19.9975,       1411,  1418.3,   4.0607,  35.0108,2,  35.0116,2,    276.3,2,   276.2,2,    9.20,6,   15.20,6,    0.01,6,    1.00,6,   3.669,6,   1.969,6,   1.608,6,  2167.0,6,  2295.1,4,  -999.0,9, -999.00,   7.7167,2,    25.00,    0.60,2,    -0.2,2,     0.2,   48.11,2,   19.98,2,     13.451,6,-999.0000,9,-999.0000,9,-999.0000,9,-999.0000,9,-999.0000,9,-999.0000,9,-999.0000,9,-999.0000,9,-999.0000,9,     -999.0,5,  -999.0,9,     -999.0,     -999.0,9,     -999.0,20130804,       0822