BOTTLE,20220815CCHSIOAMB
EXPOCODE,SECT_ID,STNNBR,CASTNO,SAMPNO,BTLNBR,BTLNBR_FLAG_W,DATE,TIME,LATITUDE,LONGITUDE,DEPTH,CTDPRS,CTDTMP,CTDSAL,CTDSAL_FLAG_W,SALNTY,SALNTY_FLAG_W,CTDOXY,CTDOXY_FLAG_W,OXYGEN,OXYGEN_FLAG_W,SILCAT,SILCAT_FLAG_W,NITRAT,NITRAT_FLAG_W,NITRIT,NITRIT_FLAG_W,PHSPHT,PHSPHT_FLAG_W,CFC-11,CFC-11_FLAG_W,CFC-12,CFC-12_FLAG_W,SF6,SF6_FLAG_W,TCARBN,TCARBN_FLAG_W,ALKALI,ALKALI_FLAG_W,PCO2,PCO2_FLAG_W,PCO2TMP,PH_SWS,PH_SWS_FLAG_W,PH_TMP,DELC13,DELC13_FLAG_W,DELC14,DELC14_FLAG_W,C14ERR,DOC,DOC_FLAG_W,TDN,TDN_FLAG_W,N2O,N2O_FLAG_W,CDOM325,CDOM325_FLAG_W,CDOM340,CDOM340_FLAG_W,CDOM380,CDOM380_FLAG_W,CDOM412,CDOM412_FLAG_W,CDOM443,CDOM443_FLAG_W,CDOM490,CDOM490_FLAG_W,CDOM555,CDOM555_FLAG_W,CDOMSL,CDOMSL_FLAG_W,CDOMSN,CDOMSN_FLAG_W,CCL4,CCL4_FLAG_W,14C-DOC,14C-DOC_FLAG_W,14C-DOCERR,13C-DOC,13C-DOC_FLAG_W,13C-DOCERR,BTL_DATE,BTL_TIME
,,,,,,,,,,,METERS,DBAR,ITS-90,PSS-78,,PSS-78,,UMOL/KG,,UMOL/KG,,UMOL/KG,,UMOL/KG,,UMOL/KG,,UMOL/KG,,PMOL/KG,,PMOL/KG,,FMOL/KG,,UMOL/KG,,UMOL/KG,,UATM,,DEG C,,,DEG C,/MILLE,,/MILLE,,/MILLE,UMOL/KG,,UMOL/KG,,NMOL/KG,,1/M,,1/M,,1/M,,1/M,,1/M,,1/M,,1/M,,1/NM,,1/NM,,PMOL/KG,,/MILLE,,/MILLE,/MILLE,,/MILLE,,
33RO20130803,       A16N,      79,          1,         24,         24,2,20130905,       2126,    26.5015,   -25.3517,       5268,     2.5,  24.5591,  37.5024,2,  37.5022,2,    205.2,2,   208.5,2,    0.50,2,    0.00,2,    0.00,2,    0.00,2,   1.721,2,   1.081,2,   1.286,2,  2120.1,6,  2451.6,2,   331.9,2,      20,   8.0408,2,    25.00, -999.00,9,  -999.0,9,  -999.0,   68.36,2,    5.02,2,      6.503,2,-999.0000,9,-999.0000,9,-999.0000,9,-999.0000,9,-999.0000,9,-999.0000,9,-999.0000,9,-999.0000,9,-999.0000,9,     -999.0,5,  -999.0,9,     -999.0,     -999.0,9,     -999.0,20130905,       2328
33RO20130803,       A16N,      79,          1,         23,         23,2,20130905,       2126,    26.5015,   -25.3517,       5268,    23.3,  24.5625,  37.5039,2,  37.5030,2,    206.0,2,   208.3,2,    0.50,2,    0.00,2,    0.00,2,    0.00,2,-999.000,9,-999.000,9,-999.000,9,  2120.2,2,  2452.9,2,   332.1,2,      20,   8.0398,2,    25.00, -999.00,9,  -999.0,9,  -999.0,   69.55,2,    4.33,2,     -999.0,9,-999.0000,9,-999.0000,9,-999.0000,9,-999.0000,9,-999.0000,9,-999.0000,9,-999.0000,9,-999.0000,9,-999.0000,9,     -999.0,9,  -999.0,9,     -999.0,     -999.0,9,     -999.0,20130905,       2327
33RO20130803,       A16N,      79,          1,         22,         22,2,20130905,       2126,    26.5015,   -25.3517,       5268,    48.3,  24.5354,  37.5031,2,  37.5029,2,    207.2,2,   209.1,2,    0.50,2,    0.00,2,    0.00,2,    0.01,2,   1.724,2,   1.083,2,   1.299,2,  2120.0,2,  2454.2,2,   330.8,2,      20,-999.0000,5,  -999.00, -999.00,9,  -999.0,9,  -999.0,   70.33,2,    4.01,2,      6.484,2,-999.0000,9,-999.0000,9,-999.0000,9,-999.0000,9,-999.0000,9,-999.0000,9,-999.0000,9,-999.0000,9,-999.0000,9,     -999.0,5,  -999.0,9,     -999.0,     -999.0,9,     -999.0,20130905,       2325
33RO20130803,       A16N,      79,          1,         21,         21,2,20130905,       2126,    26.5015,   -25.3517,       5268,    74.0,  22.4430,  37.2738,2,  37.2673,2,    224.7,2,   225.9,2,    0.60,2,    0.00,2,    0.00,2,    0.01,2,-999.000,9,-999.000,9,-999.000,9,  -999.0,9,  2437.1,2,  -999.0,9, -999.00,   8.0355,2,    25.00, -999.00,9,  -999.0,9,  -999.0,   65.71,2,     3.6,2,     -999.0,9,-999.0000,9,-999.0000,9,-999.0000,9,-999.0000,9,-999.0000,9,-999.0000,9,-999.0000,9,-999.0000,9,-999.0000,9,     -999.0,9,  -999.0,9,     -999.0,     -999.0,9,     -999.0,20130905,       2323
33RO20130803,       A16N,      79,          1,         20,         20,2,20130905,       2126,    26.5015,   -25.3517,       5268,    98.5,  21.5991,  37.3002,2,  37.3011,2,    212.8,2,   213.6,2,    0.60,2,    0.00,2,    0.00,2,    0.02,2,-999.000,9,-999.000,9,-999.000,9,  2123.9,2,  -999.0,9,   351.2,2,      20,-999.0000,9,  -999.00, -999.00,9,  -999.0,9,  -999.0,   61.38,2,     4.1,2,     -999.0,9,-999.0000,9,-999.0000,9,-999.0000,9,-999.0000,9,-999.0000,9,-999.0000,9,-999.0000,9,-999.0000,9,-999.0000,9,     -999.0,9,  -999.0,9,     -999.0,     -999.0,9,     -999.0,20130905,       2321
33RO20130803,       A16N,      79,          1,         19,         19,2,20130905,       2126,    26.5015,   -25.3517,       5268,   148.4,  20.2245,  37.0836,2,  37.0803,2,    197.1,2,   197.8,2,    0.80,2,    1.50,2,    0.03,2,    0.09,2,   2.063,2,   1.270,2,   1.370,2,  2136.2,2,  2425.8,2,   392.8,2,      20,   7.9764,6,    25.00, -999.00,9,  -999.0,9,  -999.0,   54.88,2,    4.88,2,      8.112,2,-999.0000,9,-999.0000,9,-999.0000,9,-999.0000,9,-999.0000,9,-999.0000,9,-999.0000,9,-999.0000,9,-999.0000,9,     -999.0,5,  -999.0,9,     -999.0,     -999.0,9,     -999.0,20130905,       2319
33RO20130803,       A16N,      79,          1,         18,         18,2,20130905,       2126,    26.5015,   -25.3517,       5268,   223.8,  17.8152,  36.6075,2,  36.6046,2,    182.8,2,   185.8,2,    1.70,2,    5.90,2,    0.01,2,    0.34,2,-999.000,9,-999.000,9,-999.000,9,  -999.0,9,  -999.0,9,  -999.0,9, -999.00,-999.0000,9,  -999.00, -999.00,9,  -999.0,9,  -999.0,    49.6,2,       9,2,     -999.0,9,-999.0000,9,-999.0000,9,-999.0000,9,-999.0000,9,-999.0000,9,-999.0000,9,-999.0000,9,-999.0000,9,-999.0000,9,     -999.0,9,  -999.0,9,     -999.0,     -999.0,9,     -999.0,20130905,       2316
33RO20130803,       A16N,      79,          1,         17,         17,2,20130905,       2126,    26.5015,   -25.3517,       5268,   298.4,  16.8275,  36.4089,2,  36.3884,2,    194.7,2,   193.4,2,    2.10,2,    6.60,2,    0.01,2,    0.38,2,   2.359,2,   1.411,2,   1.338,2,  2138.1,2,  2380.9,2,   473.5,2,      20,   7.9074,2,    25.00, -999.00,9,  -999.0,9,  -999.0,   47.95,2,   10.37,2,     10.293,2,-999.0000,9,-999.0000,9,-999.0000,9,-999.0000,9,-999.0000,9,-999.0000,9,-999.0000,9,-999.0000,9,-999.0000,9,     -999.0,5,  -999.0,9,     -999.0,     -999.0,9,     -999.0,20130905,       2313
33RO20130803,       A16N,      79,          1,         16,         16,2,20130905,       2126,    26.5015,   -25.3517,       5268,   398.5,  14.7256,  36.0231,2,  36.0174,2,    191.2,2,   191.9,2,    3.30,2,    9.90,2,    0.01,2,    0.59,2,-999.000,9,-999.000,9,-999.000,9,  -999.0,9,  -999.0,9,  -999.0,9, -999.00,-999.0000,9,  -999.00, -999.00,9,  -999.0,9,  -999.0,   47.02,2,   12.86,2,     -999.0,9,-999.0000,9,-999.0000,9,-999.0000,9,-999.0000,9,-999.0000,9,-999.0000,9,-999.0000,9,-999.0000,9,-999.0000,9,     -999.0,9,  -999.0,9,     -999.0,     -999.0,9,     -999.0,20130905,       2309
33RO20130803,       A16N,      79,          1,         15,         15,2,20130905,       2126,    26.5015,   -25.3517,       5268,   498.5,  13.3705,  35.8173,2,  35.8170,2,    187.0,2,   186.2,2,    4.50,2,   12.60,2,    0.00,2,    0.76,2,   2.527,2,   1.430,2,   1.079,2,  2154.1,2,  2350.7,2,   593.3,2,      20,   7.8178,2,    25.00, -999.00,9,  -999.0,9,  -999.0,   46.28,2,   15.75,2,     13.137,2,-999.0000,9,-999.0000,9,-999.0000,9,-999.0000,9,-999.0000,9,-999.0000,9,-999.0000,9,-999.0000,9,-999.0000,9,     -999.0,5,  -999.0,9,     -999.0,     -999.0,9,     -999.0,20130905,       2306
33RO20130803,       A16N,      79,          1,         14,         14,2,20130905,       2126,    26.5015,   -25.3517,       5268,   598.5,  11.9542,  35.6362,2,  35.6395,2,    175.5,2,   174.7,2,    6.50,2,   16.20,2,    0.00,2,    0.99,2,   2.344,2,   1.281,2,   0.785,2,  -999.0,9,  -999.0,9,  -999.0,9, -999.00,-999.0000,9,  -999.00, -999.00,9,  -999.0,9,  -999.0,   45.14,2,   19.12,2,     15.223,2,-999.0000,9,-999.0000,9,-999.0000,9,-999.0000,9,-999.0000,9,-999.0000,9,-999.0000,9,-999.0000,9,-999.0000,9,     -999.0,5,  -999.0,9,     -999.0,     -999.0,9,     -999.0,20130905,       2303
33RO20130803,       A16N,      79,          1,         13,         13,2,20130905,       2126,    26.5015,   -25.3517,       5268,   728.9,  10.3792,  35.4612,2,  35.4612,2,    152.9,2,   148.5,2,   10.70,2,   21.70,2,    0.00,2,    1.36,2,   1.467,2,   0.773,2,   0.350,2,  2190.6,2,  2333.8,2,  -999.0,9, -999.00,   7.7040,2,    25.00, -999.00,9,  -999.0,9,  -999.0,   43.78,2,   24.57,2,     18.715,2,-999.0000,9,-999.0000,9,-999.0000,9,-999.0000,9,-999.0000,9,-999.0000,9,-999.0000,9,-999.0000,9,-999.0000,9,     -999.0,5,  -999.0,9,     -999.0,     -999.0,9,     -999.0,20130905,       2259
33RO20130803,       A16N,      79,          1,         12,         12,2,20130905,       2126,    26.5015,   -25.3517,       5268,   898.7,   8.7732,  35.3413,2,  35.3424,2,    154.6,2,   153.6,2,   14.10,2,   23.40,2,    0.00,2,    1.51,2,   0.814,6,   0.423,6,   0.157,6,  2197.3,6,  -999.0,9,  -999.0,9, -999.00,-999.0000,9,  -999.00, -999.00,9,  -999.0,9,  -999.0,    42.6,2,   26.09,2,     18.899,6,-999.0000,9,-999.0000,9,-999.0000,9,-999.0000,9,-999.0000,9,-999.0000,9,-999.0000,9,-999.0000,9,-999.0000,9,     -999.0,5,  -999.0,9,     -999.0,     -999.0,9,     -999.0,20130905,       2255
33RO20130803,       A16N,      79,          1,         11,         11,2,20130905,       2126,    26.5015,   -25.3517,       5268,  1098.7,   7.3810,  35.2862,2,  35.2874,2,    171.1,2,   170.8,2,   16.10,2,   23.30,2,    0.00,2,    1.53,2,   0.474,2,   0.249,2,   0.094,2,  2194.6,2,  2336.0,2,   816.1,2,      20,   7.6914,2,    25.00, -999.00,9,  -999.0,9,  -999.0,   41.93,2,   25.87,2,     17.814,2,-999.0000,9,-999.0000,9,-999.0000,9,-999.0000,9,-999.0000,9,-999.0000,9,-999.0000,9,-999.0000,9,-999.0000,9,     -999.0,5,  -999.0,9,     -999.0,     -999.0,9,     -999.0,20130905,       2250
33RO20130803,       A16N,      79,          1,         10,         10,2,20130905,       2126,    26.5015,   -25.3517,       5268,  1297.8,   6.5819,  35.3013,2,  35.3013,2,    187.3,2,   187.3,2,   17.10,2,   22.10,2,    0.00,2,    1.46,2,   0.373,2,   0.193,2,   0.058,2,  -999.0,9,  -999.0,9,  -999.0,9, -999.00,-999.0000,9,  -999.00, -999.00,9,  -999.0,9,  -999.0,   41.35,2,   24.77,2,     16.523,2,-999.0000,9,-999.0000,9,-999.0000,9,-999.0000,9,-999.0000,9,-999.0000,9,-999.0000,9,-999.0000,9,-999.0000,9,     -999.0,5,  -999.0,9,     -999.0,     -999.0,9,     -999.0,20130905,       2245
33RO20130803,       A16N,      79,          1,          9,          9,2,20130905,       2126,    26.5015,   -25.3517,       5268,  1598.0,   5.3566,  35.2164,2,  35.2154,2,    213.7,2,   215.2,2,   18.60,2,   20.60,2,    0.00,2,    1.38,2,   0.367,2,   0.187,2,   0.082,2,  2184.3,2,  2336.2,2,   757.3,2,      20,   7.7227,2,    25.00, -999.00,9,  -999.0,9,  -999.0,    40.7,2,   23.07,2,     14.906,2,-999.0000,9,-999.0000,9,-999.0000,9,-999.0000,9,-999.0000,9,-999.0000,9,-999.0000,9,-999.0000,9,-999.0000,9,     -999.0,5,  -999.0,9,     -999.0,     -999.0,9,     -999.0,20130905,       2239
33RO20130803,       A16N,      79,          1,          8,          8,2,20130905,       2126,    26.5015,   -25.3517,       5268,  1998.9,   4.1438,  35.0845,2,  35.0854,2,    230.8,2,   232.1,2,   22.30,2,   20.40,2,    0.00,2,    1.38,2,   0.168,2,   0.087,2,   0.026,2,  2180.8,2,  2317.6,3,  -999.0,9, -999.00,   7.7251,2,    25.00, -999.00,9,  -999.0,9,  -999.0,   40.18,2,   22.97,2,     14.002,2,-999.0000,9,-999.0000,9,-999.0000,9,-999.0000,9,-999.0000,9,-999.0000,9,-999.0000,9,-999.0000,9,-999.0000,9,     -999.0,5,  -999.0,9,     -999.0,     -999.0,9,     -999.0,20130905,       2231
33RO20130803,       A16N,      79,          1,          7,          7,2,20130905,       2126,    26.5015,   -25.3517,       5268,  2397.6,   3.3040,  34.9948,2,  34.9958,2,    243.3,2,   243.5,2,   26.70,2,   20.20,2,    0.00,2,    1.37,2,-999.000,9,-999.000,9,-999.000,9,  -999.0,9,  -999.0,9,  -999.0,9, -999.00,-999.0000,9,  -999.00, -999.00,9,  -999.0,9,  -999.0,    40.5,2,   22.64,2,     -999.0,9,-999.0000,9,-999.0000,9,-999.0000,9,-999.0000,9,-999.0000,9,-999.0000,9,-999.0000,9,-999.0000,9,-999.0000,9,     -999.0,9,  -999.0,9,     -999.0,     -999.0,9,     -999.0,20130905,       2223
33RO20130803,       A16N,      79,          1,          6,          6,2,20130905,       2126,    26.5015,   -25.3517,       5268,  2799.2,   2.8755,  34.9523,2,  34.9520,2,    244.3,2,   245.5,2,   32.20,2,   20.70,2,    0.00,2,    1.41,2,   0.077,2,   0.040,2,   0.025,2,  2183.6,2,  2339.6,2,   760.0,2,      20,   7.7295,6,    25.00, -999.00,9,  -999.0,9,  -999.0,   39.92,2,   23.27,2,     13.450,2,-999.0000,9,-999.0000,9,-999.0000,9,-999.0000,9,-999.0000,9,-999.0000,9,-999.0000,9,-999.0000,9,-999.0000,9,     -999.0,5,  -999.0,9,     -999.0,     -999.0,9,     -999.0,20130905,       2215
33RO20130803,       A16N,      79,          1,          5,          5,2,20130905,       2126,    26.5015,   -25.3517,       5268,  3348.9,   2.5608,  34.9195,2,  34.9190,2,    243.2,2,   243.9,2,   39.30,2,   21.60,2,    0.00,2,    1.47,2,-999.000,9,-999.000,9,-999.000,9,  -999.0,9,  -999.0,9,  -999.0,9, -999.00,-999.0000,9,  -999.00, -999.00,9,  -999.0,9,  -999.0,   40.24,2,   24.17,2,     -999.0,9,-999.0000,9,-999.0000,9,-999.0000,9,-999.0000,9,-999.0000,9,-999.0000,9,-999.0000,9,-999.0000,9,-999.0000,9,     -999.0,9,  -999.0,9,     -999.0,     -999.0,9,     -999.0,20130905,       2205
33RO20130803,       A16N,      79,          1,          4,          4,2,20130905,       2126,    26.5015,   -25.3517,       5268,  3798.3,   2.4567,  34.9049,2,  34.9044,2,    242.9,2,   243.7,2,   42.40,6,   21.90,6,    0.00,6,    1.50,6,   0.007,2,   0.006,2,   0.000,2,  2194.9,2,  2343.3,2,   749.1,6,      20,   7.7254,2,    25.00, -999.00,9,  -999.0,9,  -999.0,   39.98,2,    24.4,2,     13.634,2,-999.0000,9,-999.0000,9,-999.0000,9,-999.0000,9,-999.0000,9,-999.0000,9,-999.0000,9,-999.0000,9,-999.0000,9,     -999.0,5,  -999.0,9,     -999.0,     -999.0,9,     -999.0,20130905,       2156
33RO20130803,       A16N,      79,          1,          3,          3,2,20130905,       2126,    26.5015,   -25.3517,       5268,  4298.1,   2.3979,  34.8939,2,  34.8938,2,    243.4,2,   243.4,2,   44.90,6,   22.10,6,    0.00,6,    1.52,6,-999.000,9,-999.000,9,-999.000,9,  -999.0,9,  -999.0,9,  -999.0,9, -999.00,-999.0000,9,  -999.00, -999.00,9,  -999.0,9,  -999.0,   40.22,2,   24.19,2,     -999.0,9,-999.0000,9,-999.0000,9,-999.0000,9,-999.0000,9,-999.0000,9,-999.0000,9,-999.0000,9,-999.0000,9,-999.0000,9,     -999.0,9,  -999.0,9,     -999.0,     -999.0,9,     -999.0,20130905,       2147
33RO20130803,       A16N,      79,          1,          2,          2,2,20130905,       2126,    26.5015,   -25.3517,       5268,  4799.3,   2.3889,  34.8866,2,  34.8858,2,    242.4,2,   243.2,2,   46.50,6,   22.30,6,    0.00,6,    1.53,6,   0.004,2,   0.004,2,   0.000,2,  2199.4,2,  2353.1,2,  -999.0,9, -999.00,   7.7271,2,    25.00, -999.00,9,  -999.0,9,  -999.0,   39.94,2,   24.28,2,     13.935,2,-999.0000,9,-999.0000,9,-999.0000,9,-999.0000,9,-999.0000,9,-999.0000,9,-999.0000,9,-999.0000,9,-999.0000,9,     -999.0,5,  -999.0,9,     -999.0,     -999.0,9,     -999.0,20130905,       2137
33RO20130803,       A16N,      79,          1,          1,          1,2,20130905,       2126,    26.5015,   -25.3517,       5268,  5335.0,   2.4441,  34.8844,2,  34.8838,2,    245.2,2,   243.8,2,   46.80,6,   22.20,6,    0.00,6,    1.52,6,   0.008,2,   0.007,2,   0.000,2,  2199.3,2,  2351.6,2,   751.2,2,      20,   7.7248,2,    25.00, -999.00,9,  -999.0,9,  -999.0,   39.72,2,   24.42,2,     13.855,2,-999.0000,9,-999.0000,9,-999.0000,9,-999.0000,9,-999.0000,9,-999.0000,9,-999.0000,9,-999.0000,9,-999.0000,9,     -999.0,5,  -999.0,9,     -999.0,     -999.0,9,     -999.0,20130905,       2126