BOTTLE,20220815CCHSIOAMB
EXPOCODE,SECT_ID,STNNBR,CASTNO,SAMPNO,BTLNBR,BTLNBR_FLAG_W,DATE,TIME,LATITUDE,LONGITUDE,DEPTH,CTDPRS,CTDTMP,CTDSAL,CTDSAL_FLAG_W,SALNTY,SALNTY_FLAG_W,CTDOXY,CTDOXY_FLAG_W,OXYGEN,OXYGEN_FLAG_W,SILCAT,SILCAT_FLAG_W,NITRAT,NITRAT_FLAG_W,NITRIT,NITRIT_FLAG_W,PHSPHT,PHSPHT_FLAG_W,CFC-11,CFC-11_FLAG_W,CFC-12,CFC-12_FLAG_W,SF6,SF6_FLAG_W,TCARBN,TCARBN_FLAG_W,ALKALI,ALKALI_FLAG_W,PCO2,PCO2_FLAG_W,PCO2TMP,PH_SWS,PH_SWS_FLAG_W,PH_TMP,DELC13,DELC13_FLAG_W,DELC14,DELC14_FLAG_W,C14ERR,DOC,DOC_FLAG_W,TDN,TDN_FLAG_W,N2O,N2O_FLAG_W,CDOM325,CDOM325_FLAG_W,CDOM340,CDOM340_FLAG_W,CDOM380,CDOM380_FLAG_W,CDOM412,CDOM412_FLAG_W,CDOM443,CDOM443_FLAG_W,CDOM490,CDOM490_FLAG_W,CDOM555,CDOM555_FLAG_W,CDOMSL,CDOMSL_FLAG_W,CDOMSN,CDOMSN_FLAG_W,CCL4,CCL4_FLAG_W,14C-DOC,14C-DOC_FLAG_W,14C-DOCERR,13C-DOC,13C-DOC_FLAG_W,13C-DOCERR,BTL_DATE,BTL_TIME
,,,,,,,,,,,METERS,DBAR,ITS-90,PSS-78,,PSS-78,,UMOL/KG,,UMOL/KG,,UMOL/KG,,UMOL/KG,,UMOL/KG,,UMOL/KG,,PMOL/KG,,PMOL/KG,,FMOL/KG,,UMOL/KG,,UMOL/KG,,UATM,,DEG C,,,DEG C,/MILLE,,/MILLE,,/MILLE,UMOL/KG,,UMOL/KG,,NMOL/KG,,1/M,,1/M,,1/M,,1/M,,1/M,,1/M,,1/M,,1/NM,,1/NM,,PMOL/KG,,/MILLE,,/MILLE,/MILLE,,/MILLE,,
33RO20130803,       A16N,      84,          1,         24,         24,2,20130907,       1251,    23.9997,   -26.7504,       5475,     3.4,  25.2800,  36.9057,2,  36.9050,2,    204.2,2,   205.3,2,    0.40,2,    0.00,2,    0.00,2,    0.06,2,   1.672,2,   1.055,2,   1.258,2,  2092.4,6,  2427.8,2,   329.9,2,      20,   8.0386,3,    25.00, -999.00,9,  -999.0,9,  -999.0, -999.00,9, -999.00,9,      6.341,2,   0.1248,2,   0.0828,2,   0.0266,2,   0.0201,2,   0.0109,2,   0.0113,3,   0.0005,4,   0.0266,2,   0.0291,2,     -999.0,5,  -999.0,9,     -999.0,     -999.0,9,     -999.0,20130907,       1455
33RO20130803,       A16N,      84,          1,         23,         23,2,20130907,       1251,    23.9997,   -26.7504,       5475,    29.0,  25.1982,  36.9096,2,  36.9209,2,    204.9,2,   205.8,2,    0.40,2,    0.00,2,    0.00,2,    0.06,2,   1.682,2,   1.057,2,   1.280,2,  2095.1,2,  2420.9,2,   332.3,2,      20,   8.0317,2,    25.00, -999.00,9,  -999.0,9,  -999.0, -999.00,9, -999.00,9,      6.360,2,   0.1151,2,   0.0794,2,   0.0244,2,   0.0183,2,   0.0087,2,   0.0093,3,   0.0004,4,   0.0273,3,   0.0284,3,     -999.0,5,  -999.0,9,     -999.0,     -999.0,9,     -999.0,20130907,       1453
33RO20130803,       A16N,      84,          1,         22,         22,2,20130907,       1251,    23.9997,   -26.7504,       5475,    58.7,  23.4052,  37.1401,2,  37.1584,2,    217.4,2,   216.3,2,    0.50,2,    0.00,2,    0.00,2,    0.03,2,   1.825,6,   1.143,6,   1.319,6,  2110.6,2,  2443.1,2,   350.9,2,      20,   8.0356,3,    25.00, -999.00,9,  -999.0,9,  -999.0, -999.00,9, -999.00,9,      6.769,6,   0.1273,2,   0.0833,2,   0.0237,2,   0.0156,2,   0.0047,2,   0.0060,3,  -0.0019,4,   0.0300,3,   0.0307,3,     -999.0,5,  -999.0,9,     -999.0,     -999.0,9,     -999.0,20130907,       1451
33RO20130803,       A16N,      84,          1,         21,         21,2,20130907,       1251,    23.9997,   -26.7504,       5475,    84.2,  21.7759,  37.1281,2,  37.1300,2,    220.9,2,   220.3,2,    0.50,2,    0.10,2,    0.00,2,    0.05,2,   1.964,2,   1.219,2,   1.376,2,  2118.5,2,  2430.2,2,   357.2,2,      20,   8.0152,2,    25.00, -999.00,9,  -999.0,9,  -999.0, -999.00,9, -999.00,9,      7.367,2,   0.1522,2,   0.1026,2,   0.0344,2,   0.0243,2,   0.0093,2,   0.0078,3,  -0.0012,4,   0.0259,2,   0.0274,2,     -999.0,5,  -999.0,9,     -999.0,     -999.0,9,     -999.0,20130907,       1449
33RO20130803,       A16N,      84,          1,         20,         20,2,20130907,       1251,    23.9997,   -26.7504,       5475,   113.3,  20.7801,  37.0685,2,  37.0577,2,    210.2,2,   204.5,2,    0.70,2,    1.00,2,    0.11,2,    0.12,2,   2.017,2,   1.245,2,   1.400,2,  2131.5,2,  2428.1,6,   393.2,2,      20,   7.8395,3,    25.00, -999.00,9,  -999.0,9,  -999.0, -999.00,9, -999.00,9,      8.047,2,   0.1398,2,   0.0979,2,   0.0385,2,   0.0310,2,   0.0147,2,   0.0119,3,   0.0003,4,   0.0219,2,   0.0239,2,     -999.0,5,  -999.0,9,     -999.0,     -999.0,9,     -999.0,20130907,       1447
33RO20130803,       A16N,      84,          1,         19,         19,2,20130907,       1251,    23.9997,   -26.7504,       5475,   183.6,  17.7818,  36.5125,2,  36.4886,2,    163.1,2,   150.3,2,    2.90,2,   10.80,2,    0.01,2,    0.66,2,   2.168,2,   1.307,2,   1.222,2,  2174.0,2,  2393.3,2,   559.7,2,      20,   8.0007,3,    25.00, -999.00,9,  -999.0,9,  -999.0, -999.00,9, -999.00,9,     14.948,2,   0.1738,2,   0.1239,2,   0.0564,2,   0.0444,2,   0.0224,2,   0.0154,2,   0.0026,2,   0.0189,2,   0.0208,2,     -999.0,5,  -999.0,9,     -999.0,     -999.0,9,     -999.0,20130907,       1445
33RO20130803,       A16N,      84,          1,         18,         18,2,20130907,       1251,    23.9997,   -26.7504,       5475,   258.6,  16.3270,  36.2506,2,  36.2528,2,    132.1,2,   138.3,2,    3.90,2,   13.50,2,    0.01,2,    0.81,2,   2.203,2,   1.301,2,   1.136,2,  2179.6,2,  2371.5,2,   615.9,2,      20,   7.8275,3,    25.00, -999.00,9,  -999.0,9,  -999.0, -999.00,9, -999.00,9,     17.714,2,   0.1367,2,   0.0954,2,   0.0389,2,   0.0311,2,   0.0129,2,   0.0082,3,  -0.0005,4,   0.0213,2,   0.0233,2,     -999.0,5,  -999.0,9,     -999.0,     -999.0,9,     -999.0,20130907,       1442
33RO20130803,       A16N,      84,          1,         17,         17,2,20130907,       1251,    23.9997,   -26.7504,       5475,   349.4,  14.4548,  35.9200,2,  35.9092,2,    117.0,2,   119.2,2,    5.90,2,   18.30,2,    0.00,2,    1.10,2,   2.149,2,   1.252,2,   0.924,2,  2194.7,2,  2356.9,2,  -999.0,5,      20,   7.7637,3,    25.00, -999.00,9,  -999.0,9,  -999.0, -999.00,9, -999.00,9,     21.536,2,   0.1368,2,   0.0936,2,   0.0376,2,   0.0292,2,   0.0114,2,   0.0065,3,  -0.0020,4,   0.0219,2,   0.0242,2,     -999.0,5,  -999.0,9,     -999.0,     -999.0,9,     -999.0,20130907,       1440
33RO20130803,       A16N,      84,          1,         16,         16,2,20130907,       1251,    23.9997,   -26.7504,       5475,   549.0,  11.7760,  35.5828,2,  35.5812,2,    133.1,2,   133.1,2,    8.50,2,   21.20,2,    0.00,2,    1.28,2,   1.924,2,   1.044,2,   0.570,2,  2196.0,2,  2339.6,2,   801.4,2,      20,   7.6982,2,    25.00, -999.00,9,  -999.0,9,  -999.0, -999.00,9, -999.00,9,     20.345,2,   0.1404,2,   0.0959,2,   0.0397,2,   0.0301,2,   0.0143,2,   0.0098,3,  -0.0001,4,   0.0214,2,   0.0237,2,     -999.0,5,  -999.0,9,     -999.0,     -999.0,9,     -999.0,20130907,       1435
33RO20130803,       A16N,      84,          1,         14,         14,2,20130907,       1251,    23.9997,   -26.7504,       5475,   698.4,   9.9245,  35.3743,2,  35.3739,2,    127.1,2,   125.8,2,   12.70,2,   25.00,2,    0.00,2,    1.56,2,   1.074,2,   0.562,2,   0.224,2,  2203.7,2,  2330.8,2,   883.8,2,      20,   7.6654,2,    25.00, -999.00,9,  -999.0,9,  -999.0, -999.00,9, -999.00,9,     21.495,2,   0.1321,2,   0.0883,2,   0.0347,2,   0.0254,2,   0.0110,2,   0.0073,3,  -0.0011,4,   0.0229,2,   0.0253,2,     -999.0,5,  -999.0,9,     -999.0,     -999.0,9,     -999.0,20130907,       1430
33RO20130803,       A16N,      84,          1,         15,         15,2,20130907,       1251,    23.9997,   -26.7504,       5475,   698.2,   9.9367,  35.3763,2,-999.0000,9,    127.2,2,   126.5,2,   12.60,2,   25.00,2,    0.00,2,    1.56,2,   1.083,2,   0.567,2,   0.191,2,  -999.0,9,  -999.0,9,  -999.0,9, -999.00,-999.0000,9,  -999.00, -999.00,9,  -999.0,9,  -999.0, -999.00,9, -999.00,9,     21.524,2,-999.0000,9,-999.0000,9,-999.0000,9,-999.0000,9,-999.0000,9,-999.0000,9,-999.0000,9,-999.0000,9,-999.0000,9,     -999.0,5,  -999.0,9,     -999.0,     -999.0,9,     -999.0,20130907,       1430
33RO20130803,       A16N,      84,          1,         13,         13,2,20130907,       1251,    23.9997,   -26.7504,       5475,   848.6,   8.2383,  35.2126,2,  35.2107,2,    131.7,2,   133.9,2,   16.70,2,   26.80,2,    0.00,2,    1.74,2,   0.433,2,   0.228,2,   0.111,2,  2207.8,6,  2326.7,2,   906.6,2,      20,   7.6772,3,    25.00, -999.00,9,  -999.0,9,  -999.0, -999.00,9, -999.00,9,     21.282,2,   0.1346,2,   0.0887,2,   0.0333,2,   0.0232,2,   0.0095,2,   0.0073,3,  -0.0021,4,   0.0242,2,   0.0264,2,     -999.0,5,  -999.0,9,     -999.0,     -999.0,9,     -999.0,20130907,       1426
33RO20130803,       A16N,      84,          1,         12,         12,2,20130907,       1251,    23.9997,   -26.7504,       5475,  1048.1,   6.9955,  35.1618,2,  35.1611,2,    155.9,2,   156.4,2,   18.40,2,   25.90,2,    0.00,2,    1.71,2,   0.233,2,   0.122,2,   0.041,2,  2204.2,2,  2332.4,2,   890.5,2,      20,   7.6550,6,    25.00, -999.00,9,  -999.0,9,  -999.0, -999.00,9, -999.00,9,     19.440,2,   0.1269,2,   0.0842,2,   0.0323,2,   0.0233,2,   0.0099,2,   0.0069,3,  -0.0017,4,   0.0235,2,   0.0259,2,     -999.0,5,  -999.0,9,     -999.0,     -999.0,9,     -999.0,20130907,       1422
33RO20130803,       A16N,      84,          1,         11,         11,2,20130907,       1251,    23.9997,   -26.7504,       5475,  1248.2,   6.3395,  35.2085,2,  35.2086,2,    182.2,2,   183.1,2,   17.70,2,   23.20,2,    0.00,2,    1.54,2,   0.226,2,   0.119,2,   0.046,2,  2194.8,2,  2332.9,6,   813.8,2,      20,   7.6888,2,    25.00, -999.00,9,  -999.0,9,  -999.0, -999.00,9, -999.00,9,     16.989,2,   0.1557,2,   0.1062,2,   0.0452,2,   0.0327,2,   0.0179,2,   0.0148,2,   0.0025,2,   0.0211,2,   0.0232,2,     -999.0,5,  -999.0,9,     -999.0,     -999.0,9,     -999.0,20130907,       1417
33RO20130803,       A16N,      84,          1,         10,         10,2,20130907,       1251,    23.9997,   -26.7504,       5475,  1498.0,   5.3731,  35.1594,2,  35.1599,2,    203.9,2,   204.7,2,   18.70,2,   21.90,2,    0.00,2,    1.46,2,   0.114,2,   0.058,2,   0.000,2,  2187.1,2,  2336.2,2,   780.5,2,      20,   7.7061,2,    25.00, -999.00,9,  -999.0,9,  -999.0, -999.00,9, -999.00,9,     15.482,2,   0.1562,2,   0.1063,2,   0.0443,2,   0.0322,2,   0.0176,2,   0.0148,2,   0.0024,2,   0.0216,2,   0.0236,2,     -999.0,5,  -999.0,9,     -999.0,     -999.0,9,     -999.0,20130907,       1412
33RO20130803,       A16N,      84,          1,          9,          9,2,20130907,       1251,    23.9997,   -26.7504,       5475,  1824.8,   4.4559,  35.0890,2,  35.0884,2,    222.7,2,   221.7,2,   21.00,2,   21.10,2,    0.00,2,    1.42,2,   0.039,2,   0.022,2,   0.028,2,  2181.5,2,  2329.9,2,   758.5,2,      20,   7.7178,2,    25.00, -999.00,9,  -999.0,9,  -999.0, -999.00,9, -999.00,9,     14.377,2,   0.1201,2,   0.0780,2,   0.0257,2,   0.0167,2,   0.0047,3,   0.0044,2,  -0.0024,4,   0.0273,2,   0.0290,2,     -999.0,5,  -999.0,9,     -999.0,     -999.0,9,     -999.0,20130907,       1405
33RO20130803,       A16N,      84,          1,          8,          8,2,20130907,       1251,    23.9997,   -26.7504,       5475,  2248.6,   3.6299,  35.0199,2,  35.0197,2,    236.9,2,   235.5,2,   25.00,2,   20.60,2,    0.00,2,    1.40,2,   0.011,2,   0.007,2,   0.013,2,  2179.8,2,  2337.1,2,   742.6,2,      20,   7.7270,2,    25.00, -999.00,9,  -999.0,9,  -999.0, -999.00,9, -999.00,9,     13.710,2,   0.1197,2,   0.0789,2,   0.0270,2,   0.0180,2,   0.0060,2,   0.0053,3,  -0.0016,4,   0.0263,2,   0.0280,2,     -999.0,5,  -999.0,9,     -999.0,     -999.0,9,     -999.0,20130907,       1357
33RO20130803,       A16N,      84,          1,          7,          7,2,20130907,       1251,    23.9997,   -26.7504,       5475,  2648.8,   3.0713,  34.9711,2,  34.9697,2,    243.1,2,   242.5,2,   30.00,2,   20.60,2,    0.00,2,    1.40,2,   0.021,2,   0.012,2,   0.000,2,  2184.5,2,  2337.6,2,   738.9,2,      20,   7.7298,2,    25.00, -999.00,9,  -999.0,9,  -999.0, -999.00,9, -999.00,9,     13.414,2,-999.0000,5,-999.0000,5,-999.0000,5,-999.0000,5,-999.0000,5,-999.0000,5,-999.0000,5,-999.0000,5,-999.0000,5,     -999.0,5,  -999.0,9,     -999.0,     -999.0,9,     -999.0,20130907,       1349
33RO20130803,       A16N,      84,          1,          6,          6,2,20130907,       1251,    23.9997,   -26.7504,       5475,  3048.0,   2.7005,  34.9351,2,  34.9351,2,    242.4,2,   243.1,2,   36.00,2,   21.20,2,    0.00,2,    1.44,2,   0.013,2,   0.008,2,   0.000,2,  2190.5,2,  2347.1,2,   742.4,2,      20,   7.7294,2,    25.00, -999.00,9,  -999.0,9,  -999.0, -999.00,9, -999.00,9,     13.427,2,   0.1276,2,   0.0850,2,   0.0319,2,   0.0215,2,   0.0088,2,   0.0072,3,  -0.0007,4,   0.0243,2,   0.0263,2,     -999.0,5,  -999.0,9,     -999.0,     -999.0,9,     -999.0,20130907,       1342
33RO20130803,       A16N,      84,          1,          5,          5,2,20130907,       1251,    23.9997,   -26.7504,       5475,  3497.8,   2.4953,  34.9123,2,  34.9110,2,    242.4,2,   243.2,2,   40.90,2,   21.80,2,    0.00,2,    1.48,2,   0.003,2,   0.003,2,   0.000,2,  2194.3,2,  2348.2,2,   747.6,2,      20,   7.7288,6,    25.00, -999.00,9,  -999.0,9,  -999.0, -999.00,9, -999.00,9,     13.498,2,   0.1133,2,   0.0727,2,   0.0225,2,   0.0138,2,   0.0025,3,   0.0027,3,  -0.0032,3,   0.0291,2,   0.0304,2,     -999.0,5,  -999.0,9,     -999.0,     -999.0,9,     -999.0,20130907,       1333
33RO20130803,       A16N,      84,          1,          4,          4,2,20130907,       1251,    23.9997,   -26.7504,       5475,  3946.8,   2.4027,  34.8991,2,  34.8991,2,    242.8,2,   243.2,2,   43.70,6,   22.10,6,    0.00,6,    1.50,6,   0.000,6,   0.002,6,   0.016,6,  2197.5,2,  2351.8,2,   745.5,2,      20,   7.7275,2,    25.00, -999.00,9,  -999.0,9,  -999.0, -999.00,9, -999.00,9,     13.715,6,   0.1260,2,   0.0832,2,   0.0292,2,   0.0193,2,   0.0070,2,   0.0062,3,  -0.0013,4,   0.0258,2,   0.0274,2,     -999.0,5,  -999.0,9,     -999.0,     -999.0,9,     -999.0,20130907,       1324
33RO20130803,       A16N,      84,          1,          3,          3,2,20130907,       1251,    23.9997,   -26.7504,       5475,  4448.7,   2.3653,  34.8895,2,  34.8893,2,    241.7,2,     243,2,   45.90,6,   22.40,6,    0.01,6,    1.52,6,   0.000,2,   0.002,2,   0.000,2,  2200.4,2,  2353.6,2,   746.9,2,      20,   7.7275,2,    25.00, -999.00,9,  -999.0,9,  -999.0, -999.00,9, -999.00,9,     13.729,2,   0.1327,2,   0.0875,2,   0.0326,2,   0.0220,2,   0.0094,2,   0.0083,3,  -0.0006,4,   0.0245,2,   0.0266,2,     -999.0,5,  -999.0,9,     -999.0,     -999.0,9,     -999.0,20130907,       1314
33RO20130803,       A16N,      84,          1,          2,          2,2,20130907,       1251,    23.9997,   -26.7504,       5475,  4948.9,   2.4019,  34.8857,2,-999.0000,9,    242.9,2,   242.3,2,   46.70,6,   22.50,6,    0.01,6,    1.52,6,   0.001,2,   0.002,2,   0.000,2,  2203.1,2,  2358.8,2,   746.6,2,      20,   7.6996,3,    25.00, -999.00,9,  -999.0,9,  -999.0, -999.00,9, -999.00,9,     13.802,2,-999.0000,9,-999.0000,9,-999.0000,9,-999.0000,9,-999.0000,9,-999.0000,9,-999.0000,9,-999.0000,9,-999.0000,9,     -999.0,5,  -999.0,9,     -999.0,     -999.0,9,     -999.0,20130907,       1305
33RO20130803,       A16N,      84,          1,          1,          1,2,20130907,       1251,    23.9997,   -26.7504,       5475,  5540.1,   2.4740,  34.8842,2,  34.8962,4,    243.0,2,   241.8,2,   46.80,6,   22.50,6,    0.00,6,    1.52,6,   0.003,2,   0.003,2,   0.000,2,  2203.5,6,  2357.2,2,   756.5,2,      20,   7.7343,2,    25.00, -999.00,9,  -999.0,9,  -999.0, -999.00,9, -999.00,9,     13.799,2,   0.1352,2,   0.0899,2,   0.0353,2,   0.0242,2,   0.0110,2,   0.0088,3,  -0.0000,4,   0.0233,2,   0.0255,2,     -999.0,5,  -999.0,9,     -999.0,     -999.0,9,     -999.0,20130907,       1251