BOTTLE,20220815CCHSIOAMB
EXPOCODE,SECT_ID,STNNBR,CASTNO,SAMPNO,BTLNBR,BTLNBR_FLAG_W,DATE,TIME,LATITUDE,LONGITUDE,DEPTH,CTDPRS,CTDTMP,CTDSAL,CTDSAL_FLAG_W,SALNTY,SALNTY_FLAG_W,CTDOXY,CTDOXY_FLAG_W,OXYGEN,OXYGEN_FLAG_W,SILCAT,SILCAT_FLAG_W,NITRAT,NITRAT_FLAG_W,NITRIT,NITRIT_FLAG_W,PHSPHT,PHSPHT_FLAG_W,CFC-11,CFC-11_FLAG_W,CFC-12,CFC-12_FLAG_W,SF6,SF6_FLAG_W,TCARBN,TCARBN_FLAG_W,ALKALI,ALKALI_FLAG_W,PCO2,PCO2_FLAG_W,PCO2TMP,PH_SWS,PH_SWS_FLAG_W,PH_TMP,TRITUM,TRITUM_FLAG_W,HELIUM,HELIUM_FLAG_W,DELC13,DELC13_FLAG_W,DELC14,DELC14_FLAG_W,C14ERR,CCL4,CCL4_FLAG_W,DELO18,DELO18_FLAG_W,DOC,DOC_FLAG_W,TDN,TDN_FLAG_W,CTDRAW,14C-DOC,14C-DOC_FLAG_W,THETA,SIG0,SALTREF,SALTREF_FLAG_W,BLACKC,BLACKC_FLAG_W,PIGMENTS,PIGMENTS_FLAG_W,14C-DOCERR,13C-DOC,13C-DOC_FLAG_W,13C-DOCERR
,,,,,,,,,,,METERS,DBAR,ITS-90,PSS-78,,PSS-78,,UMOL/KG,,UMOL/KG,,UMOL/KG,,UMOL/KG,,UMOL/KG,,UMOL/KG,,PMOL/KG,,PMOL/KG,,FMOL/KG,,UMOL/KG,,UMOL/KG,,UATM,,DEG C,,,DEG C,TU,,NMOL/KG,,/MILLE,,/MILLE,,/MILLE,PMOL/KG,,/MILLE,,UMOL/KG,,UMOL/KG,,DBAR,/MILLE,,DEG C,KG/M^3,G/KG,,,,,,/MILLE,/MILLE,,/MILLE
33RO20110926,        A10,      45,          1,         24,      11714,2,20111009,       0438,   -30.0020,    -7.3805,       3916,     9.2,  18.3534,  35.9361,2,  35.9393,2,    237.6,2,   237.8,2,     1.2,2,     0.0,2,    0.00,2,   0.144,2,   2.330,6,   1.411,6,   1.472,6,     2083.8,6,  2361.8,2,  -999.0,9, -999.00,    7.988,2,       25,-999.000,9,-999.0000,9, -999.00,9,  -999.0,9,  -999.0,   4.238,4, -999.00,9,  51.8732,3,    4.58,2,    9.20,  -999.0,9,  18.3518,     25.904,    36.1088,2,     -999.0,9,     -999.0,1,     -999.0,     -999.0,9,     -999.0
33RO20110926,        A10,      45,          1,         23,      11713,2,20111009,       0438,   -30.0020,    -7.3805,       3916,    30.0,  17.8938,  35.8806,2,  35.8873,2,    241.5,2,   241.3,2,     1.2,2,     0.0,2,    0.01,2,   0.146,2,   2.367,2,   1.433,2,   1.462,2,     2082.2,2,  2355.8,2,  -999.0,9, -999.00,-999.0000,5,  -999.00,-999.000,9,-999.0000,9, -999.00,9,  -999.0,9,  -999.0,   4.194,4, -999.00,9,  59.1317,2,    3.17,2,   30.00,  -999.0,9,  17.8887,     25.980,    36.0566,2,     -999.0,9,     -999.0,9,     -999.0,     -999.0,9,     -999.0
33RO20110926,        A10,      45,          1,         22,      11712,2,20111009,       0438,   -30.0020,    -7.3805,       3916,    59.8,  17.2546,  35.8281,2,  35.8275,2,    242.7,2,   241.8,2,     1.3,2,     0.0,2,    0.00,2,   0.157,2,   2.381,2,   1.446,2,   1.428,2,     2079.6,4,  2352.4,2,  -999.0,9, -999.00,    7.983,2,       25,-999.000,9,-999.0000,9, -999.00,9,  -999.0,9,  -999.0,   3.392,4, -999.00,9,  58.3317,2,    4.26,2,   59.80,  -999.0,9,  17.2446,     26.091,    35.9964,2,     -999.0,9,     -999.0,9,     -999.0,     -999.0,9,     -999.0
33RO20110926,        A10,      45,          1,         21,      11010,2,20111009,       0438,   -30.0020,    -7.3805,       3916,    91.4,  17.0532,  35.8232,2,  35.8289,2,    238.6,2,   235.8,2,     1.6,2,     0.4,2,    0.41,2,   0.203,2,   2.396,2,   1.449,2,   1.425,2,     2088.9,2,  2352.9,2,  -999.0,9, -999.00,   7.9699,2,       25,-999.000,9,-999.0000,9, -999.00,9,  -999.0,9,  -999.0,   2.717,4, -999.00,9,  59.2195,2,    5.01,2,   91.40,  -999.0,9,  17.0380,     26.141,    35.9979,2,     -999.0,9,     -999.0,1,     -999.0,     -999.0,9,     -999.0
33RO20110926,        A10,      45,          1,         20,      11715,2,20111009,       0438,   -30.0020,    -7.3805,       3916,   130.4,  17.0057,  35.8337,2,-999.0000,9,    232.8,2,     233,2,     1.5,6,     0.6,6,    0.44,6,   0.217,6,   2.408,2,   1.454,2,   1.448,2,     2090.1,2,  2352.9,2,  -999.0,9, -999.00,   7.9659,2,       25,-999.000,9,-999.0000,9, -999.00,9,  -999.0,9,  -999.0,   2.604,4, -999.00,9,  58.6049,2,    5.31,2,  130.40,  -999.0,9,  16.9841,     26.157,     -999.0,5,     -999.0,9,     -999.0,1,     -999.0,     -999.0,9,     -999.0
33RO20110926,        A10,      45,          1,         19,      11007,2,20111009,       0438,   -30.0020,    -7.3805,       3916,   178.1,  16.9449,  35.8444,2,  35.8442,2,    231.5,2,     233,2,     1.6,2,     0.7,2,    0.42,2,   0.222,2,   2.416,2,   1.452,2,   1.484,2,     2091.9,2,  2352.6,2,  -999.0,9, -999.00,   7.9619,2,       25,-999.000,9,-999.0000,9, -999.00,9,  -999.0,9,  -999.0,   2.621,4, -999.00,9,  59.5024,2,    3.83,2,  178.10,  -999.0,9,  16.9154,     26.182,    36.0133,3,     -999.0,9,     -999.0,9,     -999.0,     -999.0,9,     -999.0
33RO20110926,        A10,      45,          1,         18,      11710,2,20111009,       0438,   -30.0020,    -7.3805,       3916,   244.6,  15.0277,  35.4308,2,  35.4354,2,    221.3,2,   222.7,2,     2.7,2,     4.8,2,    0.01,2,   0.453,2,   2.666,2,   1.589,2,   1.450,2,     2100.7,2,  2328.3,2,  -999.0,9, -999.00,   7.9058,2,       25,-999.000,9,-999.0000,9, -999.00,9,  -999.0,9,  -999.0,   1.209,3, -999.00,9,  52.9561,2, -999.00,9,  244.60,  -999.0,9,  14.9904,     26.306,    35.6025,3,     -999.0,9,     -999.0,9,     -999.0,     -999.0,9,     -999.0
33RO20110926,        A10,      45,          1,         17,      11023,2,20111009,       0438,   -30.0020,    -7.3805,       3916,   330.6,  13.2134,  35.1781,2,  35.1788,2,    215.7,2,   217.2,2,     3.5,6,     9.0,6,    0.01,6,   0.701,6,   2.936,2,   1.698,2,   1.303,2,     2117.9,2,  2313.2,2,  -999.0,9, -999.00,   7.8497,2,       25,-999.000,9,-999.0000,9, -999.00,9,  -999.0,9,  -999.0,   1.474,3, -999.00,9,  50.7415,2, -999.00,9,  330.60,  -999.0,9,  13.1672,     26.498,    35.3447,3,     -999.0,9,     -999.0,9,     -999.0,     -999.0,9,     -999.0
33RO20110926,        A10,      45,          1,         16,      11709,2,20111009,       0438,   -30.0020,    -7.3805,       3916,   464.8,  11.0365,  34.9244,2,  34.9253,2,    211.4,2,   211.9,2,     5.6,2,    14.8,2,    0.01,2,   1.054,2,   3.156,2,   1.750,2,   1.195,2,     2136.1,2,  2304.2,2,  -999.0,9, -999.00,   7.7855,2,       25,-999.000,9,-999.0000,9, -999.00,9,  -999.0,9,  -999.0,   1.789,3, -999.00,9,  47.4537,2, -999.00,9,  464.80,  -999.0,9,  10.9784,     26.720,    35.0900,3,     -999.0,9,     -999.0,9,     -999.0,     -999.0,9,     -999.0
33RO20110926,        A10,      45,          1,         15,      11006,2,20111009,       0438,   -30.0020,    -7.3805,       3916,   614.6,   8.2211,  34.5904,2,  34.5917,2,    204.2,2,   204.6,2,    11.6,2,    22.3,2,    0.01,2,   1.542,2,   3.113,2,   1.654,2,   0.959,2,     2162.9,2,  2292.1,2,  -999.0,9, -999.00,   7.7054,2,       25,-999.000,9,-999.0000,9, -999.00,9,  -999.0,9,  -999.0,   2.681,3, -999.00,9,  43.7463,2, -999.00,9,  614.60,  -999.0,9,   8.1566,     26.931,    34.7548,3,     -999.0,9,     -999.0,9,     -999.0,     -999.0,9,     -999.0
33RO20110926,        A10,      45,          1,         14,      11708,2,20111009,       0438,   -30.0020,    -7.3805,       3916,   815.9,   5.2546,  34.3334,2,  34.3334,2,    217.0,2,   216.5,2,    19.9,2,    28.4,2,    0.00,2,   1.946,2,   3.008,2,   1.541,2,   0.784,2,     2179.1,2,  2273.1,4,  -999.0,9, -999.00,   7.6503,2,       25,-999.000,9,-999.0000,9, -999.00,9,  -999.0,9,  -999.0,   3.875,3, -999.00,9,  43.8634,2, -999.00,9,  815.90,  -999.0,9,   5.1864,     27.125,    34.4953,3,     -999.0,9,     -999.0,9,     -999.0,     -999.0,9,     -999.0
33RO20110926,        A10,      45,          1,         13,      11031,2,20111009,       0438,   -30.0020,    -7.3805,       3916,   934.8,   4.3473,  34.3322,2,  34.3318,2,    208.7,2,   208.3,2,    29.6,2,    30.8,2,    0.00,2,   2.110,2,   2.342,2,   1.174,2,   0.489,2,     2196.3,2,  2296.3,2,  -999.0,9, -999.00,   7.6194,2,       25,-999.000,9,-999.0000,9, -999.00,9,  -999.0,9,  -999.0,   3.524,3, -999.00,9,  43.9902,2, -999.00,9,  934.80,  -999.0,9,   4.2747,     27.224,    34.4937,3,     -999.0,9,     -999.0,9,     -999.0,     -999.0,9,     -999.0
33RO20110926,        A10,      45,          1,         12,      11027,2,20111009,       0438,   -30.0020,    -7.3805,       3916,  1004.8,   4.0458,  34.3540,2,  34.3535,2,    200.4,2,   200.1,2,    34.8,2,    31.7,2,    0.00,2,   2.179,2,   1.938,2,   0.962,2,   0.376,2,     2204.2,2,  2299.4,2,  -999.0,9, -999.00,   7.6074,2,       25,-999.000,9,-999.0000,9, -999.00,9,  -999.0,9,  -999.0,   3.012,3, -999.00,9,  42.3415,2, -999.00,9, 1004.80,  -999.0,9,   3.9697,     27.275,    34.5155,3,     -999.0,9,     -999.0,9,     -999.0,     -999.0,9,     -999.0
33RO20110926,        A10,      45,          1,         11,      11707,2,20111009,       0438,   -30.0020,    -7.3805,       3916,  1160.5,   3.4257,  34.4352,2,  34.4361,2,    188.8,2,   187.8,2,    47.2,2,    33.3,2,    0.01,2,   2.286,2,   1.058,2,   0.515,2,   0.181,2,     2224.6,2,    2314,2,  -999.0,9, -999.00,   7.5844,2,       25,-999.000,9,-999.0000,9, -999.00,9,  -999.0,9,  -999.0,   1.947,3, -999.00,9,  40.1171,2, -999.00,9, 1160.50,  -999.0,9,   3.3417,     27.401,    34.5985,3,     -999.0,9,     -999.0,9,     -999.0,     -999.0,9,     -999.0
33RO20110926,        A10,      45,          1,         10,      11003,2,20111009,       0438,   -30.0020,    -7.3805,       3916,  1358.9,   3.1424,  34.5567,2,  34.5566,2,    182.9,2,   183.1,2,    53.0,6,    32.3,6,    0.00,6,   2.233,6,   0.432,2,   0.206,2,   0.047,2,     2231.7,6,  2323.2,2,  -999.0,9, -999.00,   7.5909,6,       25,-999.000,9,-999.0000,9, -999.00,9,  -999.0,9,  -999.0,   1.062,3, -999.00,9,   38.761,2, -999.00,9, 1358.90,  -999.0,9,   3.0448,     27.527,    34.7195,3,     -999.0,9,     -999.0,9,     -999.0,     -999.0,9,     -999.0
33RO20110926,        A10,      45,          1,          9,      11706,2,20111009,       0438,   -30.0020,    -7.3805,       3916,  1560.8,   3.0201,  34.6797,2,  34.6791,2,    190.5,2,   192.4,2,    52.3,2,    30.2,2,    0.01,2,   2.075,2,   0.163,2,   0.076,2,   0.000,2,       2225,2,  2310.1,4,  -999.0,9, -999.00,   7.6222,2,       25,-999.000,9,-999.0000,9, -999.00,9,  -999.0,9,  -999.0,   0.688,3, -999.00,9,  39.7951,2, -999.00,9, 1560.80,  -999.0,9,   2.9066,     27.637,    34.8426,3,     -999.0,9,     -999.0,9,     -999.0,     -999.0,9,     -999.0
33RO20110926,        A10,      45,          1,          8,      11033,2,20111009,       0438,   -30.0020,    -7.3805,       3916,  1751.4,   2.8970,  34.7381,2,  34.7381,2,    200.5,2,   200.2,2,    52.2,2,    28.7,2,    0.01,2,   1.959,2,   0.088,2,   0.042,2,   0.000,2,     2220.9,2,  2326.1,2,  -999.0,9, -999.00,   7.6302,2,       25,-999.000,9,-999.0000,9, -999.00,9,  -999.0,9,  -999.0,   0.391,3, -999.00,9,  41.2976,2, -999.00,9, 1751.40,  -999.0,9,   2.7686,     27.697,    34.9019,3,     -999.0,9,     -999.0,9,     -999.0,     -999.0,9,     -999.0
33RO20110926,        A10,      45,          1,          7,      11705,2,20111009,       0438,   -30.0020,    -7.3805,       3916,  2050.4,   2.7356,  34.8045,2,  34.8053,2,    215.5,2,   215.5,2,    50.6,2,    26.5,2,    0.01,2,   1.800,2,   0.028,2,   0.014,2,   0.000,2,     2210.7,2,  2328.8,2,  -999.0,9, -999.00,   7.6653,2,       25,-999.000,9,-999.0000,9, -999.00,9,  -999.0,9,  -999.0,   0.224,3, -999.00,9,  43.3951,2, -999.00,9, 2050.40,  -999.0,9,   2.5830,     27.766,    34.9694,3,     -999.0,9,     -999.0,9,     -999.0,     -999.0,9,     -999.0
33RO20110926,        A10,      45,          1,          6,      11029,2,20111009,       0438,   -30.0020,    -7.3805,       3916,  2350.5,   2.5595,  34.8330,2,  34.8333,2,    224.9,2,   224.6,2,    51.1,6,    25.4,6,    0.01,6,   1.719,6,   0.012,2,   0.006,2,   0.000,2,     2207.1,2,  2334.7,2,  -999.0,9, -999.00,   7.6753,2,       25,-999.000,9,-999.0000,9, -999.00,9,  -999.0,9,  -999.0,   0.162,3, -999.00,9,   43.239,2, -999.00,9, 2350.50,  -999.0,9,   2.3821,     27.806,    34.9975,3,     -999.0,9,     -999.0,9,     -999.0,     -999.0,9,     -999.0
33RO20110926,        A10,      45,          1,          5,      11704,2,20111009,       0438,   -30.0020,    -7.3805,       3916,  2649.9,   2.4570,  34.8518,2,  34.8519,2,    231.6,2,   231.6,2,    50.6,2,    24.4,2,    0.00,2,   1.656,2,   0.006,2,   0.003,2,   0.000,2,     2203.1,2,  2335.2,2,  -999.0,9, -999.00,   7.6955,2,       25,-999.000,9,-999.0000,9, -999.00,9,  -999.0,9,  -999.0,   0.126,3, -999.00,9,  42.7415,2, -999.00,9, 2649.90,  -999.0,9,   2.2531,     27.832,    35.0162,6,     -999.0,9,     -999.0,9,     -999.0,     -999.0,9,     -999.0
33RO20110926,        A10,      45,          1,          4,      11030,3,20111009,       0438,   -30.0020,    -7.3805,       3916,  2899.4,   2.4074,  34.8621,2,  34.8638,2,    235.5,2,  -999.0,9, -999.00,9,  -999.0,9, -999.00,9,-999.000,9,-999.000,9,-999.000,9,-999.000,9,-999.000000,9,  -999.0,9,  -999.0,9, -999.00,-999.0000,9,  -999.00,-999.000,9,-999.0000,9, -999.00,9,  -999.0,9,  -999.0,-999.000,9, -999.00,9,-999.0000,5, -999.00,9, 2899.40,  -999.0,9,   2.1799,     27.848,    35.0282,2,     -999.0,9,     -999.0,9,     -999.0,     -999.0,9,     -999.0
33RO20110926,        A10,      45,          1,          3,      11703,2,20111009,       0438,   -30.0020,    -7.3805,       3916,  3249.8,   2.3705,  34.8717,2,  34.8723,2,    237.3,2,   238.4,2,    50.4,2,    23.6,2,    0.01,2,   1.592,2,   0.005,2,   0.003,2,   0.043,2,     2203.9,2,  2342.1,2,  -999.0,9, -999.00,   7.7126,2,       25,-999.000,9,-999.0000,9, -999.00,9,  -999.0,9,  -999.0,   0.108,3, -999.00,9,  42.4585,2, -999.00,9, 3249.80,  -999.0,9,   2.1080,     27.861,    35.0367,2,     -999.0,9,     -999.0,9,     -999.0,     -999.0,9,     -999.0
33RO20110926,        A10,      45,          1,          2,      11702,2,20111009,       0438,   -30.0020,    -7.3805,       3916,  3549.9,   2.3696,  34.8761,2,  34.8768,2,    237.2,2,   236.6,2,    50.7,2,    23.6,2,    0.00,2,   1.588,2,   0.003,2,   0.002,2,   0.000,2,     2206.4,2,  2344.9,2,  -999.0,9, -999.00,   7.7134,2,       25,-999.000,9,-999.0000,9, -999.00,9,  -999.0,9,  -999.0,   0.114,3, -999.00,9,  40.6244,2, -999.00,9, 3549.90,  -999.0,9,   2.0752,     27.867,    35.0413,2,     -999.0,9,     -999.0,9,     -999.0,     -999.0,9,     -999.0
33RO20110926,        A10,      45,          1,          1,      11701,2,20111009,       0438,   -30.0020,    -7.3805,       3916,  3832.5,   2.3765,  34.8794,2,  34.8814,2,    235.8,2,   234.9,2,    51.4,2,    23.6,2,    0.00,2,   1.585,2,   0.005,6,   0.003,6,   0.050,3,     2210.4,6,  2350.7,6,  -999.0,9, -999.00,    7.715,6,       25,-999.000,9,-999.0000,9, -999.00,9,  -999.0,9,  -999.0,   0.094,3, -999.00,9,  45.3171,3, -999.00,9, 3832.50,  -999.0,9,   2.0507,     27.873,    35.0459,2,     -999.0,9,     -999.0,9,     -999.0,     -999.0,9,     -999.0