BOTTLE,20220815CCHSIOAMB
EXPOCODE,SECT_ID,STNNBR,CASTNO,SAMPNO,BTLNBR,BTLNBR_FLAG_W,DATE,TIME,LATITUDE,LONGITUDE,DEPTH,CTDPRS,CTDTMP,CTDSAL,CTDSAL_FLAG_W,SALNTY,SALNTY_FLAG_W,CTDOXY,CTDOXY_FLAG_W,OXYGEN,OXYGEN_FLAG_W,SILCAT,SILCAT_FLAG_W,NITRAT,NITRAT_FLAG_W,NITRIT,NITRIT_FLAG_W,PHSPHT,PHSPHT_FLAG_W,CFC-11,CFC-11_FLAG_W,CFC-12,CFC-12_FLAG_W,SF6,SF6_FLAG_W,TCARBN,TCARBN_FLAG_W,ALKALI,ALKALI_FLAG_W,PCO2,PCO2_FLAG_W,PCO2TMP,PH_SWS,PH_SWS_FLAG_W,PH_TMP,TRITUM,TRITUM_FLAG_W,HELIUM,HELIUM_FLAG_W,DELC13,DELC13_FLAG_W,DELC14,DELC14_FLAG_W,C14ERR,CCL4,CCL4_FLAG_W,DELO18,DELO18_FLAG_W,DOC,DOC_FLAG_W,TDN,TDN_FLAG_W,CTDRAW,14C-DOC,14C-DOC_FLAG_W,THETA,SIG0,SALTREF,SALTREF_FLAG_W,BLACKC,BLACKC_FLAG_W,PIGMENTS,PIGMENTS_FLAG_W,14C-DOCERR,13C-DOC,13C-DOC_FLAG_W,13C-DOCERR
,,,,,,,,,,,METERS,DBAR,ITS-90,PSS-78,,PSS-78,,UMOL/KG,,UMOL/KG,,UMOL/KG,,UMOL/KG,,UMOL/KG,,UMOL/KG,,PMOL/KG,,PMOL/KG,,FMOL/KG,,UMOL/KG,,UMOL/KG,,UATM,,DEG C,,,DEG C,TU,,NMOL/KG,,/MILLE,,/MILLE,,/MILLE,PMOL/KG,,/MILLE,,UMOL/KG,,UMOL/KG,,DBAR,/MILLE,,DEG C,KG/M^3,G/KG,,,,,,/MILLE,/MILLE,,/MILLE
33RO20110926,        A10,      89,          1,         24,      11714,2,20111023,       0452,   -29.9854,   -36.0652,       1700,     6.1,  18.3293,  36.0506,2,  36.0510,2,    235.5,2,   235.5,2,     0.5,2,     0.0,2,    0.01,2,   0.034,4,   2.295,6,   1.390,6,   1.400,6,     2074.5,6,  2365.4,2,  -999.0,9, -999.00,    8.011,2,       25,-999.000,9,-999.0000,9, -999.00,9,  -999.0,9,  -999.0,   2.649,4, -999.00,9,  64.9268,2, -999.00,5,    6.10,  -999.0,9,  18.3282,     25.995,    36.2210,2,     -999.0,9,     -999.0,1,     -999.0,     -999.0,9,     -999.0
33RO20110926,        A10,      89,          1,         23,      11713,2,20111023,       0452,   -29.9854,   -36.0652,       1700,    23.9,  18.3335,  36.0507,2,  36.0525,2,    235.4,2,   236.2,2,     0.5,2,     0.0,2,    0.01,2,   0.038,4,   2.293,2,   1.389,2,   1.398,2,     2073.1,2,  2365.1,6,  -999.0,9, -999.00,    8.009,6,       25,-999.000,9,-999.0000,9, -999.00,9,  -999.0,9,  -999.0,   2.250,4, -999.00,9,  63.4049,2, -999.00,5,   23.90,  -999.0,9,  18.3293,     25.996,    36.2225,2,     -999.0,9,     -999.0,9,     -999.0,     -999.0,9,     -999.0
33RO20110926,        A10,      89,          1,         22,      11712,2,20111023,       0452,   -29.9854,   -36.0652,       1700,    39.7,  18.3282,  36.0487,2,  36.0518,2,    234.0,2,   235.2,2,     0.5,2,     0.0,2,    0.01,2,   0.039,4,   2.291,2,   1.386,2,   1.438,2,     2074.2,2,  2367.5,2,  -999.0,9, -999.00,     8.01,2,       25,-999.000,9,-999.0000,9, -999.00,9,  -999.0,9,  -999.0,   2.359,4, -999.00,9,-999.0000,5, -999.00,5,   39.70,  -999.0,9,  18.3213,     25.997,    36.2218,2,     -999.0,9,     -999.0,9,     -999.0,     -999.0,9,     -999.0
33RO20110926,        A10,      89,          1,         21,      11010,2,20111023,       0452,   -29.9854,   -36.0652,       1700,    80.3,  18.3176,  36.0448,2,  36.0443,2,    234.6,2,   235.5,2,     0.5,2,     0.0,2,    0.01,2,   0.045,4,   2.296,2,   1.391,2,   1.418,2,       2073,2,    2365,2,  -999.0,9, -999.00,    8.007,2,       25,-999.000,9,-999.0000,9, -999.00,9,  -999.0,9,  -999.0,   2.509,4, -999.00,9,  53.3463,3, -999.00,5,   80.30,  -999.0,9,  18.3036,     25.996,    36.2142,2,     -999.0,9,     -999.0,9,     -999.0,     -999.0,9,     -999.0
33RO20110926,        A10,      89,          1,         20,      11715,2,20111023,       0452,   -29.9854,   -36.0652,       1700,   100.8,  18.1663,  36.0235,2,  36.0257,2,    233.7,2,   233.8,2,     0.6,6,     0.1,6,    0.05,6,   0.051,4,   2.296,2,   1.388,2,   1.391,2,     2075.2,2,  2364.2,2,  -999.0,9, -999.00,    8.002,2,       25,-999.000,9,-999.0000,9, -999.00,9,  -999.0,9,  -999.0,   2.721,4, -999.00,9,  60.4195,2,    4.16,2,  100.80,  -999.0,9,  18.1488,     26.020,    36.1956,2,     -999.0,9,     -999.0,1,     -999.0,     -999.0,9,     -999.0
33RO20110926,        A10,      89,          1,         19,      11007,2,20111023,       0452,   -29.9854,   -36.0652,       1700,   130.8,  17.3237,  35.8960,2,  35.9022,2,    232.3,2,   232.8,2,     0.8,2,     0.4,2,    0.22,2,   0.103,4,   2.392,2,   1.440,2,   1.440,2,     2080.6,2,  2356.3,2,  -999.0,9, -999.00,    7.986,2,       25,-999.000,9,-999.0000,9, -999.00,9,  -999.0,9,  -999.0,   3.184,4, -999.00,9,  57.4244,2, -999.00,5,  130.80,  -999.0,9,  17.3018,     26.142,    36.0714,2,     -999.0,9,     -999.0,1,     -999.0,     -999.0,9,     -999.0
33RO20110926,        A10,      89,          1,         18,      11710,2,20111023,       0452,   -29.9854,   -36.0652,       1700,   178.8,  16.1935,  35.6996,2,  35.7030,2,    215.8,2,   217.8,2,     1.5,2,     3.5,2,    0.02,2,   0.268,4,   2.556,2,   1.521,2,   1.382,2,     2099.6,2,  2349.3,2,  -999.0,9, -999.00,   7.9359,2,       25,-999.000,9,-999.0000,9, -999.00,9,  -999.0,9,  -999.0,   1.535,4, -999.00,9,  54.3122,2, -999.00,5,  178.80,  -999.0,9,  16.1648,     26.251,    35.8713,2,     -999.0,9,     -999.0,9,     -999.0,     -999.0,9,     -999.0
33RO20110926,        A10,      89,          1,         17,      11023,2,20111023,       0452,   -29.9854,   -36.0652,       1700,   228.2,  15.0487,  35.5201,2,  35.5213,2,    213.5,2,   213.5,2,     2.0,6,     5.6,6,    0.02,6,   0.364,4,   2.717,2,   1.589,2,   1.375,2,     2108.8,2,  2335.2,2,  -999.0,9, -999.00,   7.8998,2,       25,-999.000,9,-999.0000,9, -999.00,9,  -999.0,9,  -999.0,   1.176,3, -999.00,9,  48.5268,2, -999.00,9,  228.20,  -999.0,9,  15.0139,     26.368,    35.6888,2,     -999.0,9,     -999.0,9,     -999.0,     -999.0,9,     -999.0
33RO20110926,        A10,      89,          1,         16,      11709,2,20111023,       0452,   -29.9854,   -36.0652,       1700,   281.0,  14.3649,  35.4326,2,  35.4327,2,    214.6,2,   213.9,2,     2.4,2,     7.0,2,    0.01,2,   0.453,4,   2.811,2,   1.634,2,   1.300,2,     2113.6,2,  2330.7,2,  -999.0,9, -999.00,   7.8837,2,       25,-999.000,9,-999.0000,9, -999.00,9,  -999.0,9,  -999.0,   1.081,3, -999.00,9,  48.3024,2, -999.00,9,  281.00,  -999.0,9,  14.3233,     26.453,    35.5998,2,     -999.0,9,     -999.0,9,     -999.0,     -999.0,9,     -999.0
33RO20110926,        A10,      89,          1,         15,      11006,2,20111023,       0452,   -29.9854,   -36.0652,       1700,   329.5,  13.3104,  35.2869,2,  35.2881,2,    214.3,2,   213.4,2,     3.0,2,     9.4,2,    0.01,2,   0.569,4,   2.946,2,   1.677,2,   1.256,2,     2120.3,2,  2323.3,2,  -999.0,9, -999.00,   7.8557,2,       25,-999.000,9,-999.0000,9, -999.00,9,  -999.0,9,  -999.0,   1.131,3, -999.00,9,  50.2732,2, -999.00,9,  329.50,  -999.0,9,  13.2640,     26.561,    35.4545,2,     -999.0,9,     -999.0,9,     -999.0,     -999.0,9,     -999.0
33RO20110926,        A10,      89,          1,         14,      11708,2,20111023,       0452,   -29.9854,   -36.0652,       1700,   372.9,  12.8006,  35.2111,2,  35.2124,2,    212.4,2,   212.7,2,     3.4,2,    10.7,2,    0.01,2,   0.634,4,   3.011,2,   1.696,2,   1.176,2,     2123.7,2,  2322.3,2,  -999.0,9, -999.00,   7.8387,2,       25,-999.000,9,-999.0000,9, -999.00,9,  -999.0,9,  -999.0,   1.061,3, -999.00,9,  42.9366,2, -999.00,9,  372.90,  -999.0,9,  12.7494,     26.608,    35.3784,2,     -999.0,9,     -999.0,9,     -999.0,     -999.0,9,     -999.0
33RO20110926,        A10,      89,          1,         13,      11031,2,20111023,       0452,   -29.9854,   -36.0652,       1700,   440.7,  11.9528,  35.0835,2,  35.0849,2,    211.9,2,   211.1,2,     4.3,2,    12.8,2,    0.01,2,   0.737,4,   3.087,2,   1.699,2,   1.167,2,     2129.2,2,  2313.2,2,  -999.0,9, -999.00,   7.8147,2,       25,-999.000,9,-999.0000,9, -999.00,9,  -999.0,9,  -999.0,   1.155,3, -999.00,9,  45.4537,2, -999.00,9,  440.70,  -999.0,9,  11.8949,     26.674,    35.2503,6,     -999.0,9,     -999.0,9,     -999.0,     -999.0,9,     -999.0
33RO20110926,        A10,      89,          1,         12,      11027,2,20111023,       0452,   -29.9854,   -36.0652,       1700,   489.8,  10.8777,  34.9266,2,  34.9297,2,    207.6,2,   207.6,2,     5.6,6,    15.4,6,    0.01,6,   0.857,4,   3.138,2,   1.696,2,   1.060,2,     2137.3,2,  2304.5,2,  -999.0,9, -999.00,   7.7827,2,       25,-999.000,9,-999.0000,9, -999.00,9,  -999.0,9,  -999.0,   1.300,3, -999.00,9,  45.7268,2, -999.00,9,  489.80,  -999.0,9,  10.8170,     26.752,    35.0944,2,     -999.0,9,     -999.0,9,     -999.0,     -999.0,9,     -999.0
33RO20110926,        A10,      89,          1,         11,      11707,2,20111023,       0452,   -29.9854,   -36.0652,       1700,   560.1,   9.2936,  34.7210,2,  34.7270,2,    206.4,2,   205.9,2,     7.9,2,    19.3,2,    0.01,2,   1.087,4,   3.201,2,   1.686,2,   0.975,2,     2148.4,2,    2296,2,  -999.0,9, -999.00,   7.7405,2,       25,-999.000,9,-999.0000,9, -999.00,9,  -999.0,9,  -999.0,   1.714,3, -999.00,9,  38.1951,2, -999.00,9,  560.10,  -999.0,9,   9.2305,     26.868,    34.8907,2,     -999.0,9,     -999.0,9,     -999.0,     -999.0,9,     -999.0
33RO20110926,        A10,      89,          1,         10,      11003,2,20111023,       0452,   -29.9854,   -36.0652,       1700,   678.8,   6.8254,  34.4515,2,  34.4533,2,    213.4,2,   212.5,2,    12.9,2,    24.8,2,    0.01,2,   1.389,4,   3.218,2,   1.633,2,   0.711,2,     2162.1,2,  2287.4,2,  -999.0,9, -999.00,   7.6833,2,       25,-999.000,9,-999.0000,9, -999.00,9,  -999.0,9,  -999.0,   2.596,3, -999.00,9,  40.6829,2, -999.00,9,  678.80,  -999.0,9,   6.7610,     27.019,    34.6158,2,     -999.0,9,     -999.0,9,     -999.0,     -999.0,9,     -999.0
33RO20110926,        A10,      89,          1,          9,      11706,2,20111023,       0452,   -29.9854,   -36.0652,       1700,   789.4,   5.2393,  34.3208,2,  34.3206,2,    224.7,2,   224.1,2,    17.8,2,    27.4,2,    0.01,2,   1.565,4,   3.146,2,   1.568,2,   0.658,2,     2171.5,2,    2287,2,  -999.0,9, -999.00,   7.6603,2,       25,-999.000,9,-999.0000,9, -999.00,9,  -999.0,9,  -999.0,   3.229,3, -999.00,9,     39.6,2, -999.00,9,  789.40,  -999.0,9,   5.1736,     27.116,    34.4824,2,     -999.0,9,     -999.0,9,     -999.0,     -999.0,9,     -999.0
33RO20110926,        A10,      89,          1,          8,      11033,2,20111023,       0452,   -29.9854,   -36.0652,       1700,   869.0,   4.5117,  34.2950,2,  34.2957,2,    223.7,2,   224.2,2,    22.9,6,    29.1,6,    0.01,6,   1.662,4,   2.827,2,   1.395,2,   0.586,2,     2180.6,2,  2289.6,2,  -999.0,9, -999.00,   7.6394,2,       25,-999.000,9,-999.0000,9, -999.00,9,  -999.0,9,  -999.0,   3.185,3, -999.00,9,   37.922,2, -999.00,9,  869.00,  -999.0,9,   4.4437,     27.179,    34.4574,2,     -999.0,9,     -999.0,9,     -999.0,     -999.0,9,     -999.0
33RO20110926,        A10,      89,          1,          7,      11705,2,20111023,       0452,   -29.9854,   -36.0652,       1700,   984.0,   3.9033,  34.3079,2,  34.3079,2,    216.3,2,   216.1,2,    30.4,2,    30.5,2,    0.01,2,   1.817,4,   2.256,2,   1.099,2,   0.396,2,     2193.2,2,  2297.2,2,  -999.0,9, -999.00,   7.6244,2,       25,-999.000,9,-999.0000,9, -999.00,9,  -999.0,9,  -999.0,   2.902,3, -999.00,9,  38.2829,2, -999.00,9,  984.00,  -999.0,9,   3.8300,     27.252,    34.4697,2,     -999.0,9,     -999.0,9,     -999.0,     -999.0,9,     -999.0
33RO20110926,        A10,      89,          1,          6,      11029,2,20111023,       0452,   -29.9854,   -36.0652,       1700,  1130.1,   3.4492,  34.3688,2,  34.3690,2,    202.3,2,   203.1,2,    40.3,2,    32.1,2,    0.01,2,   1.963,4,   1.472,2,   0.713,2,   0.225,2,     2209.7,2,  2307.1,2,  -999.0,9, -999.00,   7.6024,2,       25,-999.000,9,-999.0000,9, -999.00,9,  -999.0,9,  -999.0,   2.148,3, -999.00,9,  35.0537,2, -999.00,9, 1130.10,  -999.0,9,   3.3676,     27.347,    34.5310,2,     -999.0,9,     -999.0,9,     -999.0,     -999.0,9,     -999.0
33RO20110926,        A10,      89,          1,          5,      11704,2,20111023,       0452,   -29.9854,   -36.0652,       1700,  1261.1,   3.2050,  34.4398,2,  34.4408,2,    193.2,2,     194,2,    47.4,6,    32.5,6,    0.01,6,   2.031,4,   0.921,2,   0.445,2,   0.121,2,     2221.8,2,  2314.7,2,  -999.0,9, -999.00,   7.5992,2,       25,-999.000,9,-999.0000,9, -999.00,9,  -999.0,9,  -999.0,   1.537,3, -999.00,9,  38.2146,2, -999.00,9, 1261.10,  -999.0,9,   3.1150,     27.428,    34.6032,2,     -999.0,9,     -999.0,9,     -999.0,     -999.0,9,     -999.0
33RO20110926,        A10,      89,          1,          4,      11030,2,20111023,       0452,   -29.9854,   -36.0652,       1700,  1373.8,   3.1116,  34.4811,2,  34.4836,2,    192.1,2,   191.6,2,    49.6,2,    32.3,2,    0.01,2,   2.041,4,   0.729,2,   0.353,2,   0.086,2,     2224.3,2,  2318.5,2,  -999.0,9, -999.00,   7.5982,2,       25,-999.000,9,-999.0000,9, -999.00,9,  -999.0,9,  -999.0,   1.313,3, -999.00,9,  38.7317,2, -999.00,9, 1373.80,  -999.0,9,   3.0131,     27.472,    34.6462,2,     -999.0,9,     -999.0,9,     -999.0,     -999.0,9,     -999.0
33RO20110926,        A10,      89,          1,          3,      11703,2,20111023,       0452,   -29.9854,   -36.0652,       1700,  1517.3,   2.9396,  34.5916,2,  34.5916,2,    190.5,2,   190.7,2,    54.1,2,    31.3,2,    0.01,2,   2.018,4,   0.313,2,   0.151,2,   0.038,2,     2228.2,6,  2326.5,6,  -999.0,9, -999.00,   7.6024,2,       25,-999.000,9,-999.0000,9, -999.00,9,  -999.0,9,  -999.0,   0.777,3, -999.00,9,  40.2439,2, -999.00,9, 1517.30,  -999.0,9,   2.8310,     27.574,    34.7547,2,     -999.0,9,     -999.0,9,     -999.0,     -999.0,9,     -999.0
33RO20110926,        A10,      89,          1,          2,      11702,2,20111023,       0452,   -29.9854,   -36.0652,       1700,  1598.9,   2.8795,  34.6496,2,  34.6496,2,    193.4,2,   193.6,2,    54.3,2,    30.3,2,    0.01,2,   1.969,4,   0.189,2,   0.094,2,   0.019,2,     2226.2,2,  2328.9,2,  -999.0,9, -999.00,   7.6134,2,       25,-999.000,9,-999.0000,9, -999.00,9,  -999.0,9,  -999.0,   0.562,3, -999.00,9,  39.2976,2, -999.00,9, 1598.90,  -999.0,9,   2.7646,     27.627,    34.8130,2,     -999.0,9,     -999.0,9,     -999.0,     -999.0,9,     -999.0
33RO20110926,        A10,      89,          1,          1,      11701,2,20111023,       0452,   -29.9854,   -36.0652,       1700,  1732.0,   2.8556,  34.7003,2,  34.7017,2,    200.3,2,     201,2,    53.0,2,    29.3,2,    0.01,2,   1.884,4,   0.129,6,   0.064,6,   0.000,6,     2221.4,6,  2326.5,2,  -999.0,9, -999.00,   7.6032,2,       25,-999.000,9,-999.0000,9, -999.00,9,  -999.0,9,  -999.0,   0.447,3, -999.00,9,   40.878,2, -999.00,9, 1732.00,  -999.0,9,   2.7296,     27.671,    34.8653,2,     -999.0,9,     -999.0,9,     -999.0,     -999.0,9,     -999.0