BOTTLE,20220815CCHSIOAMB
EXPOCODE,SECT_ID,STNNBR,CASTNO,SAMPNO,BTLNBR,BTLNBR_FLAG_W,DATE,TIME,LATITUDE,LONGITUDE,DEPTH,CTDPRS,CTDTMP,CTDSAL,CTDSAL_FLAG_W,SALNTY,SALNTY_FLAG_W,CTDOXY,CTDOXY_FLAG_W,OXYGEN,OXYGEN_FLAG_W,SILCAT,SILCAT_FLAG_W,NITRAT,NITRAT_FLAG_W,NITRIT,NITRIT_FLAG_W,PHSPHT,PHSPHT_FLAG_W,CFC-11,CFC-11_FLAG_W,CFC-12,CFC-12_FLAG_W,SF6,SF6_FLAG_W,TCARBN,TCARBN_FLAG_W,ALKALI,ALKALI_FLAG_W,PCO2,PCO2_FLAG_W,PCO2TMP,PH_SWS,PH_SWS_FLAG_W,PH_TMP,TRITUM,TRITUM_FLAG_W,HELIUM,HELIUM_FLAG_W,DELC13,DELC13_FLAG_W,DELC14,DELC14_FLAG_W,C14ERR,CCL4,CCL4_FLAG_W,DELO18,DELO18_FLAG_W,DOC,DOC_FLAG_W,TDN,TDN_FLAG_W,CTDRAW,14C-DOC,14C-DOC_FLAG_W,THETA,SIG0,SALTREF,SALTREF_FLAG_W,BLACKC,BLACKC_FLAG_W,PIGMENTS,PIGMENTS_FLAG_W,14C-DOCERR,13C-DOC,13C-DOC_FLAG_W,13C-DOCERR
,,,,,,,,,,,METERS,DBAR,ITS-90,PSS-78,,PSS-78,,UMOL/KG,,UMOL/KG,,UMOL/KG,,UMOL/KG,,UMOL/KG,,UMOL/KG,,PMOL/KG,,PMOL/KG,,FMOL/KG,,UMOL/KG,,UMOL/KG,,UATM,,DEG C,,,DEG C,TU,,NMOL/KG,,/MILLE,,/MILLE,,/MILLE,PMOL/KG,,/MILLE,,UMOL/KG,,UMOL/KG,,DBAR,/MILLE,,DEG C,KG/M^3,G/KG,,,,,,/MILLE,/MILLE,,/MILLE
33RO20110926,        A10,      88,          1,         24,      11714,2,20111023,       0030,   -30.0010,   -35.4921,       2246,     5.5,  18.5071,  36.0902,2,  36.0929,2,    234.4,2,   238.9,3,     0.7,2,     0.0,2,    0.01,2,   0.031,4,-999.000,9,-999.000,9,-999.000,9,     2075.5,6,  2365.3,2,  -999.0,9, -999.00,    8.008,2,       25,-999.000,9,-999.0000,9, -999.00,9,  -999.0,9,  -999.0,-999.000,5, -999.00,9,-999.0000,9, -999.00,9,    5.50,  -999.0,9,  18.5061,     25.982,    36.2631,2,     -999.0,9,     -999.0,1,     -999.0,     -999.0,9,     -999.0
33RO20110926,        A10,      88,          1,         23,      11713,2,20111023,       0030,   -30.0010,   -35.4921,       2246,    48.6,  18.5144,  36.0900,2,  36.0895,2,    234.1,2,   234.5,2,     0.7,2,     0.0,2,    0.01,2,   0.039,4,-999.000,9,-999.000,9,-999.000,9,-999.000000,9,  2367.4,6,  -999.0,9, -999.00,    8.011,6,       25,-999.000,9,-999.0000,9, -999.00,9,  -999.0,9,  -999.0,-999.000,5, -999.00,9,-999.0000,9, -999.00,9,   48.60,  -999.0,9,  18.5058,     25.980,    36.2596,2,     -999.0,9,     -999.0,9,     -999.0,     -999.0,9,     -999.0
33RO20110926,        A10,      88,          1,         22,      11712,2,20111023,       0030,   -30.0010,   -35.4921,       2246,   101.5,  17.2937,  35.8926,2,  35.8910,2,    234.2,2,   233.1,2,     0.9,2,     0.3,2,    0.19,2,   0.099,4,-999.000,9,-999.000,9,-999.000,9,-999.000000,9,  -999.0,9,  -999.0,9, -999.00,-999.0000,9,  -999.00,-999.000,9,-999.0000,9, -999.00,9,  -999.0,9,  -999.0,-999.000,5, -999.00,9,-999.0000,9, -999.00,9,  101.50,  -999.0,9,  17.2767,     26.133,    36.0602,2,     -999.0,9,     -999.0,1,     -999.0,     -999.0,9,     -999.0
33RO20110926,        A10,      88,          1,         21,      11010,2,20111023,       0030,   -30.0010,   -35.4921,       2246,   149.0,  16.5515,  35.7633,2,  35.7541,2,    220.3,2,   220.2,2,     1.4,6,     2.5,6,    0.02,6,   0.205,4,-999.000,9,-999.000,9,-999.000,9,-999.000000,9,  2347.1,2,  -999.0,9, -999.00,   7.9479,2,       25,-999.000,9,-999.0000,9, -999.00,9,  -999.0,9,  -999.0,-999.000,5, -999.00,9,-999.0000,9, -999.00,9,  149.00,  -999.0,9,  16.5273,     26.203,    35.9227,2,     -999.0,9,     -999.0,1,     -999.0,     -999.0,9,     -999.0
33RO20110926,        A10,      88,          1,         20,      11715,2,20111023,       0030,   -30.0010,   -35.4921,       2246,   198.9,  15.5968,  35.6025,2,  35.6123,2,    211.4,2,   211.4,2,     1.8,2,     4.8,2,    0.02,2,   0.334,4,-999.000,9,-999.000,9,-999.000,9,-999.000000,9,  -999.0,9,  -999.0,9, -999.00,-999.0000,9,  -999.00,-999.000,9,-999.0000,9, -999.00,9,  -999.0,9,  -999.0,-999.000,5, -999.00,9,-999.0000,9, -999.00,9,  198.90,  -999.0,9,  15.5657,     26.325,    35.7803,2,     -999.0,9,     -999.0,9,     -999.0,     -999.0,9,     -999.0
33RO20110926,        A10,      88,          1,         19,      11007,2,20111023,       0030,   -30.0010,   -35.4921,       2246,   249.3,  14.6798,  35.4830,2,  35.4802,2,    212.5,2,   211.7,2,     2.3,2,     6.6,2,    0.01,2,   0.423,4,-999.000,9,-999.000,9,-999.000,9,-999.000000,9,  2331.6,2,  -999.0,9, -999.00,   7.8878,2,       25,-999.000,9,-999.0000,9, -999.00,9,  -999.0,9,  -999.0,-999.000,9, -999.00,9,-999.0000,9, -999.00,9,  249.30,  -999.0,9,  14.6424,     26.421,    35.6475,2,     -999.0,9,     -999.0,9,     -999.0,     -999.0,9,     -999.0
33RO20110926,        A10,      88,          1,         18,      11710,2,20111023,       0030,   -30.0010,   -35.4921,       2246,   299.9,  14.1409,  35.4139,2,  35.4153,2,    213.1,2,   213.1,2,     2.5,6,     7.6,6,    0.01,6,   0.464,4,-999.000,9,-999.000,9,-999.000,9,-999.000000,9,  -999.0,9,  -999.0,9, -999.00,-999.0000,9,  -999.00,-999.000,9,-999.0000,9, -999.00,9,  -999.0,9,  -999.0,-999.000,9, -999.00,9,-999.0000,9, -999.00,9,  299.90,  -999.0,9,  14.0970,     26.486,    35.5823,2,     -999.0,9,     -999.0,9,     -999.0,     -999.0,9,     -999.0
33RO20110926,        A10,      88,          1,         17,      11023,2,20111023,       0030,   -30.0010,   -35.4921,       2246,   348.8,  13.4142,  35.3023,2,  35.3057,2,    213.0,2,   212.4,2,     3.0,2,     9.3,2,    0.01,2,   0.561,4,-999.000,9,-999.000,9,-999.000,9,-999.000000,9,  2321.4,2,  -999.0,9, -999.00,   7.8578,2,       25,-999.000,9,-999.0000,9, -999.00,9,  -999.0,9,  -999.0,-999.000,9, -999.00,9,-999.0000,9, -999.00,9,  348.80,  -999.0,9,  13.3648,     26.559,    35.4722,2,     -999.0,9,     -999.0,9,     -999.0,     -999.0,9,     -999.0
33RO20110926,        A10,      88,          1,         16,      11709,2,20111023,       0030,   -30.0010,   -35.4921,       2246,   400.5,  12.6867,  35.1829,2,  35.1814,2,    212.9,2,   212.4,2,     3.5,2,    10.8,2,    0.01,2,   0.641,4,-999.000,9,-999.000,9,-999.000,9,-999.000000,9,  -999.0,9,  -999.0,9, -999.00,-999.0000,9,  -999.00,-999.000,9,-999.0000,9, -999.00,9,  -999.0,9,  -999.0,-999.000,9, -999.00,9,-999.0000,9, -999.00,9,  400.50,  -999.0,9,  12.6319,     26.606,    35.3473,2,     -999.0,9,     -999.0,9,     -999.0,     -999.0,9,     -999.0
33RO20110926,        A10,      88,          1,         15,      11006,2,20111023,       0030,   -30.0010,   -35.4921,       2246,   449.2,  11.9447,  35.0761,2,  35.0790,2,    210.3,2,   210.7,2,     4.4,2,    12.8,2,    0.01,2,   0.742,4,-999.000,9,-999.000,9,-999.000,9,-999.000000,9,  2313.2,2,  -999.0,9, -999.00,   7.8146,2,       25,-999.000,9,-999.0000,9, -999.00,9,  -999.0,9,  -999.0,-999.000,9, -999.00,9,-999.0000,9, -999.00,9,  449.20,  -999.0,9,  11.8856,     26.671,    35.2444,2,     -999.0,9,     -999.0,9,     -999.0,     -999.0,9,     -999.0
33RO20110926,        A10,      88,          1,         14,      11708,2,20111023,       0030,   -30.0010,   -35.4921,       2246,   550.1,   9.8776,  34.7900,2,  34.7924,2,    206.6,2,     208,2,     7.1,2,    18.0,2,    0.01,2,   1.007,4,-999.000,9,-999.000,9,-999.000,9,-999.000000,9,  -999.0,9,  -999.0,9, -999.00,-999.0000,9,  -999.00,-999.000,9,-999.0000,9, -999.00,9,  -999.0,9,  -999.0,-999.000,9, -999.00,9,-999.0000,9, -999.00,9,  550.10,  -999.0,9,   9.8133,     26.820,    34.9564,2,     -999.0,9,     -999.0,9,     -999.0,     -999.0,9,     -999.0
33RO20110926,        A10,      88,          1,         13,      11031,2,20111023,       0030,   -30.0010,   -35.4921,       2246,   650.6,   7.6784,  34.5315,2,  34.5344,2,    209.4,2,   209.2,2,    11.0,2,    23.3,2,    0.01,2,   1.294,4,-999.000,9,-999.000,9,-999.000,9,-999.000000,9,    2264,4,  -999.0,9, -999.00,   7.6413,4,       25,-999.000,9,-999.0000,9, -999.00,9,  -999.0,9,  -999.0,-999.000,9, -999.00,9,-999.0000,9, -999.00,9,  650.60,  -999.0,9,   7.6126,     26.964,    34.6972,2,     -999.0,9,     -999.0,9,     -999.0,     -999.0,9,     -999.0
33RO20110926,        A10,      88,          1,         12,      11027,2,20111023,       0030,   -30.0010,   -35.4921,       2246,   748.4,   5.8357,  34.3529,2,  34.3532,2,    221.1,2,   222.9,2,    14.8,2,    26.3,2,    0.01,2,   1.479,4,-999.000,9,-999.000,9,-999.000,9,-999.000000,9,  -999.0,9,  -999.0,9, -999.00,-999.0000,9,  -999.00,-999.000,9,-999.0000,9, -999.00,9,  -999.0,9,  -999.0,-999.000,9, -999.00,9,-999.0000,9, -999.00,9,  748.40,  -999.0,9,   5.7701,     27.070,    34.5152,2,     -999.0,9,     -999.0,9,     -999.0,     -999.0,9,     -999.0
33RO20110926,        A10,      88,          1,         11,      11707,2,20111023,       0030,   -30.0010,   -35.4921,       2246,   850.8,   4.9037,  34.2914,2,  34.2918,2,    229.4,2,   228.8,2,    18.9,2,    28.1,2,    0.01,2,   1.593,4,-999.000,9,-999.000,9,-999.000,9,-999.000000,9,    2286,2,  -999.0,9, -999.00,   7.6573,2,       25,-999.000,9,-999.0000,9, -999.00,9,  -999.0,9,  -999.0,-999.000,9, -999.00,9,-999.0000,9, -999.00,9,  850.80,  -999.0,9,   4.8347,     27.133,    34.4535,2,     -999.0,9,     -999.0,9,     -999.0,     -999.0,9,     -999.0
33RO20110926,        A10,      88,          1,         10,      11003,2,20111023,       0030,   -30.0010,   -35.4921,       2246,   949.6,   4.1191,  34.2916,2,  34.2916,2,    221.1,2,   221.9,2,    27.0,2,    30.2,2,    0.01,2,   1.757,4,-999.000,9,-999.000,9,-999.000,9,-999.000000,9,  -999.0,9,  -999.0,9, -999.00,-999.0000,9,  -999.00,-999.000,9,-999.0000,9, -999.00,9,  -999.0,9,  -999.0,-999.000,9, -999.00,9,-999.0000,9, -999.00,9,  949.60,  -999.0,9,   4.0471,     27.217,    34.4533,2,     -999.0,9,     -999.0,9,     -999.0,     -999.0,9,     -999.0
33RO20110926,        A10,      88,          1,          9,      11706,2,20111023,       0030,   -30.0010,   -35.4921,       2246,  1025.8,   3.8080,  34.3134,2,  34.3136,2,    214.2,2,   214.3,2,    32.3,2,    31.3,2,    0.01,2,   1.844,4,-999.000,9,-999.000,9,-999.000,9,-999.000000,9,  2297.2,2,  -999.0,9, -999.00,   7.6202,2,       25,-999.000,9,-999.0000,9, -999.00,9,  -999.0,9,  -999.0,-999.000,9, -999.00,9,-999.0000,9, -999.00,9, 1025.80,  -999.0,9,   3.7320,     27.267,    34.4754,2,     -999.0,9,     -999.0,9,     -999.0,     -999.0,9,     -999.0
33RO20110926,        A10,      88,          1,          8,      11033,2,20111023,       0030,   -30.0010,   -35.4921,       2246,  1198.8,   3.3488,  34.3880,2,  34.3881,2,    199.2,2,   198.4,2,    42.8,6,    32.4,6,    0.01,6,   1.979,4,-999.000,9,-999.000,9,-999.000,9,-999.000000,9,  -999.0,9,  -999.0,9, -999.00,-999.0000,9,  -999.00,-999.000,9,-999.0000,9, -999.00,9,  -999.0,9,  -999.0,-999.000,9, -999.00,9,-999.0000,9, -999.00,9, 1198.80,  -999.0,9,   3.2625,     27.372,    34.5503,2,     -999.0,9,     -999.0,9,     -999.0,     -999.0,9,     -999.0
33RO20110926,        A10,      88,          1,          7,      11705,2,20111023,       0030,   -30.0010,   -35.4921,       2246,  1323.9,   3.1098,  34.4879,2,  34.4880,2,    189.4,2,   189.6,2,    50.7,2,    32.5,2,    0.01,2,   2.056,4,-999.000,9,-999.000,9,-999.000,9,-999.000000,9,  2316.9,6,  -999.0,9, -999.00,   7.5899,6,       25,-999.000,9,-999.0000,9, -999.00,9,  -999.0,9,  -999.0,-999.000,9, -999.00,9,-999.0000,9, -999.00,9, 1323.90,  -999.0,9,   3.0154,     27.475,    34.6507,2,     -999.0,9,     -999.0,9,     -999.0,     -999.0,9,     -999.0
33RO20110926,        A10,      88,          1,          6,      11029,2,20111023,       0030,   -30.0010,   -35.4921,       2246,  1475.0,   2.9591,  34.5832,2,  34.5831,2,    188.9,2,   189.3,2,    54.2,2,    31.6,2,    0.01,2,   2.027,4,-999.000,9,-999.000,9,-999.000,9,-999.000000,9,  -999.0,9,  -999.0,9, -999.00,-999.0000,9,  -999.00,-999.000,9,-999.0000,9, -999.00,9,  -999.0,9,  -999.0,-999.000,9, -999.00,9,-999.0000,9, -999.00,9, 1475.00,  -999.0,9,   2.8538,     27.565,    34.7462,2,     -999.0,9,     -999.0,9,     -999.0,     -999.0,9,     -999.0
33RO20110926,        A10,      88,          1,          5,      11704,2,20111023,       0030,   -30.0010,   -35.4921,       2246,  1650.3,   2.8657,  34.6768,2,  34.6790,2,    195.8,2,   196.4,2,    53.6,2,    30.0,2,    0.01,2,   1.936,4,   0.140,2,   0.068,2,   0.032,2,     2224.4,2,  2328.8,2,  -999.0,9, -999.00,   7.6242,2,       25,-999.000,9,-999.0000,9, -999.00,9,  -999.0,9,  -999.0,   0.504,3, -999.00,9,-999.0000,9, -999.00,9, 1650.30,  -999.0,9,   2.7466,     27.650,    34.8425,6,     -999.0,9,     -999.0,9,     -999.0,     -999.0,9,     -999.0
33RO20110926,        A10,      88,          1,          4,      11030,2,20111023,       0030,   -30.0010,   -35.4921,       2246,  1924.5,   2.8274,  34.7597,2,  34.7596,2,    208.6,2,   209.6,2,    50.8,2,    27.6,2,    0.01,2,   1.784,4,   0.064,2,   0.034,2,   0.049,2,-999.000000,9,  -999.0,9,  -999.0,9, -999.00,-999.0000,9,  -999.00,-999.000,9,-999.0000,9, -999.00,9,  -999.0,9,  -999.0,   0.325,3, -999.00,9,-999.0000,9, -999.00,9, 1924.50,  -999.0,9,   2.6848,     27.722,    34.9235,2,     -999.0,9,     -999.0,9,     -999.0,     -999.0,9,     -999.0
33RO20110926,        A10,      88,          1,          3,      11703,2,20111023,       0030,   -30.0010,   -35.4921,       2246,  2050.9,   2.8279,  34.7851,2,  34.7853,2,    213.9,2,   214.1,2,    49.0,2,    26.7,2,    0.01,2,   1.723,4,   0.048,2,   0.025,2,   0.000,2,-999.000000,9,  2330.7,2,  -999.0,9, -999.00,   7.6643,2,       25,-999.000,9,-999.0000,9, -999.00,9,  -999.0,9,  -999.0,   0.278,3, -999.00,9,-999.0000,9, -999.00,9, 2050.90,  -999.0,9,   2.6738,     27.743,    34.9493,2,     -999.0,9,     -999.0,9,     -999.0,     -999.0,9,     -999.0
33RO20110926,        A10,      88,          1,          2,      11702,2,20111023,       0030,   -30.0010,   -35.4921,       2246,  2124.9,   2.8172,  34.8141,2,  34.8138,2,    220.6,2,   221.2,2,    46.2,6,    25.8,6,    0.02,6,   1.627,4,   0.036,2,   0.019,2,   0.015,2,-999.000000,9,  -999.0,9,  -999.0,9, -999.00,-999.0000,9,  -999.00,-999.000,9,-999.0000,9, -999.00,9,  -999.0,9,  -999.0,   0.243,3, -999.00,9,-999.0000,9, -999.00,9, 2124.90,  -999.0,9,   2.6565,     27.767,    34.9780,2,     -999.0,9,     -999.0,9,     -999.0,     -999.0,9,     -999.0
33RO20110926,        A10,      88,          1,          1,      11701,2,20111023,       0030,   -30.0010,   -35.4921,       2246,  2275.4,   2.8202,  34.8283,2,  34.8294,2,    224.5,2,   224.5,2,    44.8,2,    25.1,2,    0.01,2,   1.603,4,   0.032,6,   0.017,6,   0.000,6,     2202.2,2,  2328.4,6,  -999.0,9, -999.00,   7.6849,6,       25,-999.000,9,-999.0000,9, -999.00,9,  -999.0,9,  -999.0,   0.209,3, -999.00,9,-999.0000,9, -999.00,9, 2275.40,  -999.0,9,   2.6454,     27.781,    34.9936,2,     -999.0,9,     -999.0,9,     -999.0,     -999.0,9,     -999.0