BOTTLE,20220815CCHSIOAMB
EXPOCODE,SECT_ID,STNNBR,CASTNO,SAMPNO,BTLNBR,BTLNBR_FLAG_W,DATE,TIME,LATITUDE,LONGITUDE,DEPTH,CTDPRS,CTDTMP,CTDSAL,CTDSAL_FLAG_W,SALNTY,SALNTY_FLAG_W,CTDOXY,CTDOXY_FLAG_W,OXYGEN,OXYGEN_FLAG_W,SILCAT,SILCAT_FLAG_W,NITRAT,NITRAT_FLAG_W,NITRIT,NITRIT_FLAG_W,PHSPHT,PHSPHT_FLAG_W,CFC-11,CFC-11_FLAG_W,CFC-12,CFC-12_FLAG_W,SF6,SF6_FLAG_W,TCARBN,TCARBN_FLAG_W,ALKALI,ALKALI_FLAG_W,PCO2,PCO2_FLAG_W,PCO2TMP,PH_SWS,PH_SWS_FLAG_W,PH_TMP,TRITUM,TRITUM_FLAG_W,HELIUM,HELIUM_FLAG_W,DELC13,DELC13_FLAG_W,DELC14,DELC14_FLAG_W,C14ERR,CCL4,CCL4_FLAG_W,DELO18,DELO18_FLAG_W,DOC,DOC_FLAG_W,TDN,TDN_FLAG_W,CTDRAW,14C-DOC,14C-DOC_FLAG_W,THETA,SIG0,SALTREF,SALTREF_FLAG_W,BLACKC,BLACKC_FLAG_W,PIGMENTS,PIGMENTS_FLAG_W,14C-DOCERR,13C-DOC,13C-DOC_FLAG_W,13C-DOCERR
,,,,,,,,,,,METERS,DBAR,ITS-90,PSS-78,,PSS-78,,UMOL/KG,,UMOL/KG,,UMOL/KG,,UMOL/KG,,UMOL/KG,,UMOL/KG,,PMOL/KG,,PMOL/KG,,FMOL/KG,,UMOL/KG,,UMOL/KG,,UATM,,DEG C,,,DEG C,TU,,NMOL/KG,,/MILLE,,/MILLE,,/MILLE,PMOL/KG,,/MILLE,,UMOL/KG,,UMOL/KG,,DBAR,/MILLE,,DEG C,KG/M^3,G/KG,,,,,,/MILLE,/MILLE,,/MILLE
33RO20110926,        A10,     117,          1,         15,      11006,2,20111029,       1558,   -27.8006,   -47.0997,        501,     4.4,  22.2875,  36.4070,2,-999.0000,9,    218.5,2,  -999.0,9, -999.00,9,  -999.0,9, -999.00,9,-999.000,9,-999.000,9,-999.000,9,-999.000,9,-999.000000,9,  -999.0,9,  -999.0,9, -999.00,-999.0000,9,  -999.00,-999.000,9,-999.0000,9,    1.18,2,    53.7,2,     2.6,-999.000,5, -999.00,9,-999.0000,9, -999.00,9,    4.40,  -999.0,9,  22.2867,     25.193,     -999.0,9,     -999.0,9,     -999.0,1,     -999.0,     -999.0,9,     -999.0
33RO20110926,        A10,     117,          1,         16,      11709,2,20111029,       1558,   -27.8006,   -47.0997,        501,     4.5,  22.3459,  36.3910,2,  36.4003,2,    218.3,2,   219.6,2,     0.6,2,     0.0,2,    0.00,2,   0.098,2,   1.964,2,   1.208,2,   1.214,2,     2069.6,6,  2387.2,6,  -999.0,9, -999.00,    8.025,6,       25,-999.000,9,-999.0000,9, -999.00,9,  -999.0,9,  -999.0,   4.087,4, -999.00,9,  64.5073,2,    4.60,2,    4.50,  -999.0,9,  22.3450,     25.177,    36.5719,2,     -999.0,9,     -999.0,9,     -999.0,     -999.0,9,     -999.0
33RO20110926,        A10,     117,          1,         14,      11708,2,20111029,       1558,   -27.8006,   -47.0997,        501,    25.3,  22.2015,  36.5642,2,  36.5657,2,    218.9,2,   219.3,2,     0.5,2,     0.0,2,    0.00,2,   0.086,2,-999.000,9,-999.000,9,-999.000,9,     2082.7,2,  2395.7,2,  -999.0,9, -999.00,     8.03,2,       25,-999.000,9,-999.0000,9, -999.00,9,  -999.0,9,  -999.0,-999.000,5, -999.00,9,-999.0000,5, -999.00,5,   25.30,  -999.0,9,  22.1964,     25.352,    36.7382,2,     -999.0,9,     -999.0,9,     -999.0,     -999.0,9,     -999.0
33RO20110926,        A10,     117,          1,         13,      11031,2,20111029,       1558,   -27.8006,   -47.0997,        501,    50.6,  22.6826,  36.9858,2,-999.0000,9,    214.4,2,   214.7,2,     0.6,2,     0.0,2,    0.00,2,   0.050,2,-999.000,9,-999.000,9,-999.000,9,     2089.6,2,  2422.9,2,  -999.0,9, -999.00,   8.0521,2,       25,-999.000,9,-999.0000,9, -999.00,9,  -999.0,9,  -999.0,-999.000,5, -999.00,9,  65.9415,2,    4.39,2,   50.60,  -999.0,9,  22.6722,     25.537,     -999.0,5,     -999.0,9,     -999.0,9,     -999.0,     -999.0,9,     -999.0
33RO20110926,        A10,     117,          1,         12,      11027,2,20111029,       1558,   -27.8006,   -47.0997,        501,    75.0,  22.3492,  36.9194,2,  36.9258,2,    213.3,2,   213.6,2,     0.6,2,     0.0,2,    0.01,2,   0.055,2,   1.897,2,   1.176,2,   1.221,2,     2090.5,2,  2417.7,2,  -999.0,9, -999.00,    8.044,2,       25,-999.000,9,-999.0000,9, -999.00,9,  -999.0,9,  -999.0,   3.855,4, -999.00,9,  66.9854,2,    4.64,2,   75.00,  -999.0,9,  22.3341,     25.587,    37.0999,2,     -999.0,9,     -999.0,9,     -999.0,     -999.0,9,     -999.0
33RO20110926,        A10,     117,          1,         11,      11707,2,20111029,       1558,   -27.8006,   -47.0997,        501,    74.5,  22.3529,  36.9194,2,-999.0000,9,    213.3,2,  -999.0,9, -999.00,9,  -999.0,9, -999.00,9,-999.000,9,-999.000,9,-999.000,9,-999.000,9,-999.000000,9,  -999.0,9,  -999.0,9, -999.00,-999.0000,9,  -999.00,-999.000,9,-999.0000,9, -999.00,9,  -999.0,9,  -999.0,-999.000,5, -999.00,9,-999.0000,9, -999.00,9,   74.50,  -999.0,9,  22.3379,     25.587,     -999.0,9,     -999.0,9,     -999.0,1,     -999.0,     -999.0,9,     -999.0
33RO20110926,        A10,     117,          1,         10,      11003,2,20111029,       1558,   -27.8006,   -47.0997,        501,   101.7,  21.2440,  36.6960,2,  36.6831,2,    211.4,2,   209.7,2,     0.8,6,     0.6,6,    0.17,6,   0.111,6,-999.000,9,-999.000,9,-999.000,9,     2093.5,2,  2403.7,2,  -999.0,9, -999.00,    8.027,2,       25,-999.000,9,-999.0000,9, -999.00,9,  -999.0,9,  -999.0,-999.000,5, -999.00,9,  59.2098,2,    4.73,2,  101.70,  -999.0,9,  21.2242,     25.709,    36.8561,2,     -999.0,9,     -999.0,9,     -999.0,     -999.0,9,     -999.0
33RO20110926,        A10,     117,          1,          9,      11706,2,20111029,       1558,   -27.8006,   -47.0997,        501,   149.4,  19.3085,  36.2583,2,  36.2524,2,    200.5,2,   200.7,2,     1.0,2,     2.3,2,    0.03,2,   0.235,2,   2.203,2,   1.338,2,   1.233,2,     2101.1,2,    2377,2,  -999.0,9, -999.00,    7.979,2,       25,-999.000,9,-999.0000,9, -999.00,9,  -999.0,9,  -999.0,   1.487,4, -999.00,9,  53.0146,2,    7.15,2,  149.40,  -999.0,9,  19.2813,     25.905,    36.4233,2,     -999.0,9,     -999.0,9,     -999.0,     -999.0,9,     -999.0
33RO20110926,        A10,     117,          1,          8,      11033,2,20111029,       1558,   -27.8006,   -47.0997,        501,   149.9,  19.2859,  36.2527,2,  36.2120,2,    200.5,2,  -999.0,9, -999.00,9,  -999.0,9, -999.00,9,-999.000,9,-999.000,9,-999.000,9,-999.000,9,-999.000000,9,  -999.0,9,  -999.0,9, -999.00,-999.0000,9,  -999.00,-999.000,9,-999.0000,9, -999.00,9,  -999.0,9,  -999.0,-999.000,5, -999.00,9,-999.0000,9, -999.00,9,  149.90,  -999.0,9,  19.2587,     25.884,    36.3828,2,     -999.0,9,     -999.0,1,     -999.0,     -999.0,9,     -999.0
33RO20110926,        A10,     117,          1,          7,      11705,2,20111029,       1558,   -27.8006,   -47.0997,        501,   200.4,  16.9918,  35.8010,2,  35.8043,2,    197.3,2,   197.1,2,     1.8,2,     4.6,2,    0.02,2,   0.420,2,   2.476,2,   1.471,2,   1.238,2,     2111.5,2,  2350.5,2,  -999.0,9, -999.00,   7.9179,2,       25,-999.000,9,-999.0000,9, -999.00,9,  -999.0,9,  -999.0,   0.999,4, -999.00,9,  48.0488,2, -999.00,9,  200.40,  -999.0,9,  16.9586,     26.142,    35.9732,2,     -999.0,9,     -999.0,9,     -999.0,     -999.0,9,     -999.0
33RO20110926,        A10,     117,          1,          6,      11029,2,20111029,       1558,   -27.8006,   -47.0997,        501,   250.6,  15.2740,  35.5281,2,  35.5309,2,    200.9,2,   201.5,2,     2.3,2,     6.5,2,    0.01,2,   0.543,2,-999.000,9,-999.000,9,-999.000,9,     2114.4,2,  2335.3,2,  -999.0,9, -999.00,   7.8887,2,       25,-999.000,9,-999.0000,9, -999.00,9,  -999.0,9,  -999.0,-999.000,9, -999.00,9,   47.278,2, -999.00,9,  250.60,  -999.0,9,  15.2354,     26.331,    35.6985,2,     -999.0,9,     -999.0,9,     -999.0,     -999.0,9,     -999.0
33RO20110926,        A10,     117,          1,          5,      11704,2,20111029,       1558,   -27.8006,   -47.0997,        501,   300.2,  14.3268,  35.3992,2,  35.4061,2,    203.3,2,   202.9,2,     2.8,6,     8.3,6,    0.02,6,   0.651,6,   2.801,2,   1.611,2,   1.188,2,     2119.5,2,  2328.6,2,  -999.0,9, -999.00,   7.8677,2,       25,-999.000,9,-999.0000,9, -999.00,9,  -999.0,9,  -999.0,   1.196,3, -999.00,9,  50.9951,3, -999.00,9,  300.20,  -999.0,9,  14.2824,     26.441,    35.5730,2,     -999.0,9,     -999.0,9,     -999.0,     -999.0,9,     -999.0
33RO20110926,        A10,     117,          1,          4,      11030,2,20111029,       1558,   -27.8006,   -47.0997,        501,   350.3,  13.1021,  35.2436,2,  35.2421,2,    202.9,2,   202.3,2,     3.7,2,    11.0,2,    0.02,2,   0.819,2,-999.000,9,-999.000,9,-999.000,9,     2129.5,2,    2321,2,  -999.0,9, -999.00,   7.8336,2,       25,-999.000,9,-999.0000,9, -999.00,9,  -999.0,9,  -999.0,-999.000,9, -999.00,9,  45.4732,2, -999.00,9,  350.30,  -999.0,9,  13.0532,     26.569,    35.4083,2,     -999.0,9,     -999.0,9,     -999.0,     -999.0,9,     -999.0
33RO20110926,        A10,     117,          1,          3,      11703,2,20111029,       1558,   -27.8006,   -47.0997,        501,   400.8,  12.0108,  35.0794,2,  35.0758,2,    203.7,2,   204.3,2,     4.6,6,    13.3,6,    0.01,6,   0.962,6,   3.030,2,   1.666,2,   1.030,2,     2134.5,2,  2311.1,2,  -999.0,9, -999.00,   7.8076,2,       25,-999.000,9,-999.0000,9, -999.00,9,  -999.0,9,  -999.0,   1.378,3, -999.00,9,  46.3317,2, -999.00,9,  400.80,  -999.0,9,  11.9580,     26.653,    35.2412,2,     -999.0,9,     -999.0,9,     -999.0,     -999.0,9,     -999.0
33RO20110926,        A10,     117,          1,          2,      11702,2,20111029,       1558,   -27.8006,   -47.0997,        501,   449.7,   9.7749,  34.7803,2,  34.7818,2,    201.5,2,   201.2,2,     7.4,2,    18.7,2,    0.01,2,   1.300,2,-999.000,9,-999.000,9,-999.000,9,       2152,2,  2298.1,3,  -999.0,9, -999.00,   7.7476,3,       25,-999.000,9,-999.0000,9, -999.00,9,  -999.0,9,  -999.0,-999.000,9, -999.00,9,  44.0585,2, -999.00,9,  449.70,  -999.0,9,   9.7229,     26.829,    34.9458,2,     -999.0,9,     -999.0,9,     -999.0,     -999.0,9,     -999.0
33RO20110926,        A10,     117,          1,          1,      11701,2,20111029,       1558,   -27.8006,   -47.0997,        501,   488.3,   9.0375,  34.6987,2,  34.6991,2,    203.0,2,   201.5,2,     8.8,2,    20.4,2,    0.01,2,   1.410,2,   3.109,2,   1.629,2,   0.844,2,     2154.9,6,  2295.5,6,  -999.0,9, -999.00,   7.7286,6,       25,-999.000,9,-999.0000,9, -999.00,9,  -999.0,9,  -999.0,   2.355,3, -999.00,9,  45.2878,2, -999.00,9,  488.30,  -999.0,9,   8.9837,     26.885,    34.8628,2,     -999.0,9,     -999.0,9,     -999.0,     -999.0,9,     -999.0
33RO20110926,        A10,     118,          1,          9,      11706,2,20111029,       1802,   -27.7334,   -47.3802,        177,     4.2,  22.2462,  35.9962,2,  36.0006,2,    222.3,2,     222,2,     1.5,6,     0.0,6,    0.01,6,   0.114,6,   1.960,6,   1.206,6,   1.230,6,     2070.7,6,  2364.6,6,  -999.0,9, -999.00,    8.028,6,       25,-999.000,9,-999.0000,9, -999.00,9,  -999.0,9,  -999.0,   4.946,4, -999.00,9,-999.0000,9, -999.00,9,    4.20,  -999.0,9,  22.2453,     24.909,    36.1704,2,     -999.0,9,     -999.0,9,     -999.0,     -999.0,9,     -999.0
33RO20110926,        A10,     118,          1,          8,      11033,2,20111029,       1802,   -27.7334,   -47.3802,        177,     4.0,  22.2499,  35.9956,2,-999.0000,9,    222.3,2,  -999.0,9, -999.00,9,  -999.0,9, -999.00,9,-999.000,9,-999.000,9,-999.000,9,-999.000,9,-999.000000,9,  -999.0,9,  -999.0,9, -999.00,-999.0000,9,  -999.00,-999.000,9,-999.0000,9, -999.00,9,  -999.0,9,  -999.0,-999.000,5, -999.00,9,-999.0000,9, -999.00,9,    4.00,  -999.0,9,  22.2491,     24.904,     -999.0,9,     -999.0,9,     -999.0,1,     -999.0,     -999.0,9,     -999.0
33RO20110926,        A10,     118,          1,          7,      11705,2,20111029,       1802,   -27.7334,   -47.3802,        177,    24.0,  22.0157,  36.3484,2,  36.3964,2,    220.2,2,   219.8,2,     0.8,2,     0.0,2,    0.00,2,   0.102,2,-999.000,9,-999.000,9,-999.000,9,-999.000000,9,  2387.2,2,  -999.0,9, -999.00,    8.028,2,       25,-999.000,9,-999.0000,9, -999.00,9,  -999.0,9,  -999.0,-999.000,5, -999.00,9,-999.0000,9, -999.00,9,   24.00,  -999.0,9,  22.0109,     25.276,    36.5680,2,     -999.0,9,     -999.0,9,     -999.0,     -999.0,9,     -999.0
33RO20110926,        A10,     118,          1,          6,      11029,2,20111029,       1802,   -27.7334,   -47.3802,        177,    59.6,  21.8918,  36.7154,2,  36.7097,2,    217.3,2,   217.4,2,     0.7,2,     0.1,2,    0.01,2,   0.096,2,   1.967,2,   1.210,2,   1.198,2,-999.000000,9,  2405.2,2,  -999.0,9, -999.00,    8.029,2,       25,-999.000,9,-999.0000,9, -999.00,9,  -999.0,9,  -999.0,   3.428,4, -999.00,9,-999.0000,9, -999.00,9,   59.60,  -999.0,9,  21.8800,     25.553,    36.8828,2,     -999.0,9,     -999.0,9,     -999.0,     -999.0,9,     -999.0
33RO20110926,        A10,     118,          1,          5,      11704,2,20111029,       1802,   -27.7334,   -47.3802,        177,    91.7,  20.4351,  36.4520,2,  36.4677,2,    208.6,2,   209.6,2,     1.3,2,     0.8,2,    0.38,2,   0.187,2,   2.096,2,   1.281,2,   1.193,2,     2097.4,2,  2390.7,2,  -999.0,9, -999.00,        8,2,       25,-999.000,9,-999.0000,9, -999.00,9,  -999.0,9,  -999.0,   3.486,4, -999.00,9,-999.0000,9, -999.00,9,   91.70,  -999.0,9,  20.4178,     25.764,    36.6396,2,     -999.0,9,     -999.0,9,     -999.0,     -999.0,9,     -999.0
33RO20110926,        A10,     118,          1,          4,      11030,2,20111029,       1802,   -27.7334,   -47.3802,        177,    91.4,  20.4307,  36.4491,2,  36.4699,2,    208.8,2,  -999.0,9, -999.00,9,  -999.0,9, -999.00,9,-999.000,9,-999.000,9,-999.000,9,-999.000,9,-999.000000,9,  -999.0,9,  -999.0,9, -999.00,-999.0000,9,  -999.00,-999.000,9,-999.0000,9, -999.00,9,  -999.0,9,  -999.0,-999.000,5, -999.00,9,-999.0000,9, -999.00,9,   91.40,  -999.0,9,  20.4134,     25.786,    36.6418,2,     -999.0,9,     -999.0,1,     -999.0,     -999.0,9,     -999.0
33RO20110926,        A10,     118,          1,          3,      11703,2,20111029,       1802,   -27.7334,   -47.3802,        177,   130.6,  16.9495,  35.8031,2,  35.8032,2,    193.7,2,   193.2,2,     2.7,2,     5.2,2,    0.03,2,   0.464,2,   2.481,2,   1.470,2,   1.210,2,-999.000000,9,  2350.4,2,  -999.0,9, -999.00,   7.9138,2,       25,-999.000,9,-999.0000,9, -999.00,9,  -999.0,9,  -999.0,   1.343,4, -999.00,9,-999.0000,9, -999.00,9,  130.60,  -999.0,9,  16.9279,     26.148,    35.9720,2,     -999.0,9,     -999.0,9,     -999.0,     -999.0,9,     -999.0
33RO20110926,        A10,     118,          1,          2,      11702,2,20111029,       1802,   -27.7334,   -47.3802,        177,   130.5,  16.9487,  35.8027,2,-999.0000,9,    193.7,2,  -999.0,9, -999.00,9,  -999.0,9, -999.00,9,-999.000,9,-999.000,9,-999.000,9,-999.000,9,-999.000000,9,  -999.0,9,  -999.0,9, -999.00,-999.0000,9,  -999.00,-999.000,9,-999.0000,9, -999.00,9,  -999.0,9,  -999.0,-999.000,5, -999.00,9,-999.0000,9, -999.00,9,  130.50,  -999.0,9,  16.9271,     26.148,     -999.0,9,     -999.0,9,     -999.0,1,     -999.0,     -999.0,9,     -999.0
33RO20110926,        A10,     118,          1,          1,      11701,2,20111029,       1802,   -27.7334,   -47.3802,        177,   174.3,  15.3603,  35.5618,2,  35.5637,2,    195.1,2,   194.8,2,     3.5,6,     7.2,6,    0.05,6,   0.607,6,   2.667,2,   1.558,2,   1.266,2,     2119.3,2,  2337.8,6,  -999.0,9, -999.00,   7.8788,6,       25,-999.000,9,-999.0000,9, -999.00,9,  -999.0,9,  -999.0,   1.144,4, -999.00,9,-999.0000,9, -999.00,9,  174.30,  -999.0,9,  15.3334,     26.333,    35.7314,2,     -999.0,9,     -999.0,9,     -999.0,     -999.0,9,     -999.0