BOTTLE,20220815CCHSIOAMB
EXPOCODE,SECT_ID,STNNBR,CASTNO,SAMPNO,BTLNBR,BTLNBR_FLAG_W,DATE,TIME,LATITUDE,LONGITUDE,DEPTH,CTDPRS,CTDTMP,CTDSAL,CTDSAL_FLAG_W,SALNTY,SALNTY_FLAG_W,CTDOXY,CTDOXY_FLAG_W,OXYGEN,OXYGEN_FLAG_W,SILCAT,SILCAT_FLAG_W,NITRAT,NITRAT_FLAG_W,NITRIT,NITRIT_FLAG_W,PHSPHT,PHSPHT_FLAG_W,CFC-11,CFC-11_FLAG_W,CFC-12,CFC-12_FLAG_W,SF6,SF6_FLAG_W,TCARBN,TCARBN_FLAG_W,ALKALI,ALKALI_FLAG_W,PCO2,PCO2_FLAG_W,PCO2TMP,PH_SWS,PH_SWS_FLAG_W,PH_TMP,TRITUM,TRITUM_FLAG_W,HELIUM,HELIUM_FLAG_W,DELC13,DELC13_FLAG_W,DELC14,DELC14_FLAG_W,C14ERR,CCL4,CCL4_FLAG_W,DELO18,DELO18_FLAG_W,DOC,DOC_FLAG_W,TDN,TDN_FLAG_W,CTDRAW,14C-DOC,14C-DOC_FLAG_W,THETA,SIG0,SALTREF,SALTREF_FLAG_W,BLACKC,BLACKC_FLAG_W,PIGMENTS,PIGMENTS_FLAG_W,14C-DOCERR,13C-DOC,13C-DOC_FLAG_W,13C-DOCERR
,,,,,,,,,,,METERS,DBAR,ITS-90,PSS-78,,PSS-78,,UMOL/KG,,UMOL/KG,,UMOL/KG,,UMOL/KG,,UMOL/KG,,UMOL/KG,,PMOL/KG,,PMOL/KG,,FMOL/KG,,UMOL/KG,,UMOL/KG,,UATM,,DEG C,,,DEG C,TU,,NMOL/KG,,/MILLE,,/MILLE,,/MILLE,PMOL/KG,,/MILLE,,UMOL/KG,,UMOL/KG,,DBAR,/MILLE,,DEG C,KG/M^3,G/KG,,,,,,/MILLE,/MILLE,,/MILLE
33RO20110926,        A10,      93,          1,         24,      11714,2,20111024,       0009,   -30.0006,   -37.5663,       3524,     6.1,  19.7433,  36.4090,2,  36.4083,2,    228.2,2,   229.9,2,     0.7,2,     0.0,2,    0.00,2,   0.028,4,   2.133,6,   1.306,6,   1.335,6,     2084.2,3,  2386.9,2,  -999.0,9, -999.00,    8.027,2,       25,-999.000,9,-999.0000,9, -999.00,9,  -999.0,9,  -999.0,   2.818,4, -999.00,9,  63.6878,2,    5.27,2,    6.10,  -999.0,9,  19.7421,     25.904,    36.5800,2,     -999.0,9,     -999.0,1,     -999.0,     -999.0,9,     -999.0
33RO20110926,        A10,      93,          1,         23,      11713,2,20111024,       0009,   -30.0006,   -37.5663,       3524,    49.0,  19.7325,  36.4009,2,  36.4004,2,    229.5,2,   229.6,2,     0.7,2,     0.0,2,    0.00,2,   0.032,4,   2.141,2,   1.311,2,   1.354,2,     2084.5,2,  2386.4,6,  -999.0,9, -999.00,   8.0265,6,       25,-999.000,9,-999.0000,9, -999.00,9,  -999.0,9,  -999.0,   2.807,4, -999.00,9,  64.7317,2,    4.83,2,   49.00,  -999.0,9,  19.7234,     25.904,    36.5720,2,     -999.0,9,     -999.0,9,     -999.0,     -999.0,9,     -999.0
33RO20110926,        A10,      93,          1,         22,      11712,2,20111024,       0009,   -30.0006,   -37.5663,       3524,   120.0,  18.1994,  36.0451,2,  36.0448,2,    219.1,2,   219.6,2,     1.1,2,     1.2,2,    0.07,2,   0.121,4,   2.301,2,   1.398,2,   1.377,2,     2091.8,3,    2363,2,  -999.0,9, -999.00,    7.986,2,       25,-999.000,9,-999.0000,9, -999.00,9,  -999.0,9,  -999.0,   2.209,4, -999.00,9,  56.4781,2, -999.00,5,  120.00,  -999.0,9,  18.1786,     26.026,    36.2147,2,     -999.0,9,     -999.0,1,     -999.0,     -999.0,9,     -999.0
33RO20110926,        A10,      93,          1,         21,      11010,2,20111024,       0009,   -30.0006,   -37.5663,       3524,   155.6,  16.9714,  35.8144,2,  35.8149,2,    206.2,2,   206.9,2,     1.6,6,     3.4,6,    0.02,6,   0.251,4,   2.459,2,   1.476,2,   1.279,2,       2108,3,  2350.7,2,  -999.0,9, -999.00,   7.9349,2,       25,-999.000,9,-999.0000,9, -999.00,9,  -999.0,9,  -999.0,   1.188,4, -999.00,9,  52.6634,2,    6.19,2,  155.60,  -999.0,9,  16.9457,     26.153,    35.9838,2,     -999.0,9,     -999.0,1,     -999.0,     -999.0,9,     -999.0
33RO20110926,        A10,      93,          1,         20,      11715,2,20111024,       0009,   -30.0006,   -37.5663,       3524,   200.2,  15.8299,  35.6323,2,  35.6305,2,    209.9,2,   210.1,2,     1.8,2,     4.6,2,    0.01,2,   0.328,4,   2.610,2,   1.548,2,   1.290,2,     2109.6,2,  2341.3,2,  -999.0,9, -999.00,   7.9129,2,       25,-999.000,9,-999.0000,9, -999.00,9,  -999.0,9,  -999.0,   1.186,4, -999.00,9,  51.9122,2, -999.00,9,  200.20,  -999.0,9,  15.7983,     26.280,    35.7985,2,     -999.0,9,     -999.0,9,     -999.0,     -999.0,9,     -999.0
33RO20110926,        A10,      93,          1,         19,      11007,2,20111024,       0009,   -30.0006,   -37.5663,       3524,   270.7,  14.6047,  35.4705,2,  35.4732,2,    212.0,2,   212.3,2,     2.4,2,     6.8,2,    0.01,2,   0.434,4,   2.774,2,   1.610,2,   1.283,2,     2116.4,2,  2332.1,2,  -999.0,9, -999.00,   7.8887,2,       25,-999.000,9,-999.0000,9, -999.00,9,  -999.0,9,  -999.0,   1.162,3, -999.00,9,  45.3756,2, -999.00,9,  270.70,  -999.0,9,  14.5642,     26.431,    35.6405,6,     -999.0,9,     -999.0,9,     -999.0,     -999.0,9,     -999.0
33RO20110926,        A10,      93,          1,         18,      11710,2,20111024,       0009,   -30.0006,   -37.5663,       3524,   350.0,  13.6579,  35.3537,2,  35.4733,4,    213.0,2,     214,2,     2.9,2,     8.9,2,    0.01,2,   0.538,4,   2.895,2,   1.659,2,   1.236,2,     2121.2,2,  2325.6,2,  -999.0,9, -999.00,   7.8658,2,       25,-999.000,9,-999.0000,9, -999.00,9,  -999.0,9,  -999.0,   1.210,3, -999.00,9,  47.9317,2, -999.00,9,  350.00,  -999.0,9,  13.6077,     26.542,    35.6405,4,     -999.0,9,     -999.0,9,     -999.0,     -999.0,9,     -999.0
33RO20110926,        A10,      93,          1,         17,      11023,2,20111024,       0009,   -30.0006,   -37.5663,       3524,   439.1,  12.2713,  35.1347,2,  35.1448,3,    212.5,2,   212.1,2,     3.9,6,    11.8,6,    0.01,6,   0.675,4,   3.039,2,   1.695,2,   1.184,2,     2128.9,2,  2315.4,2,  -999.0,9, -999.00,   7.8256,2,       25,-999.000,9,-999.0000,9, -999.00,9,  -999.0,9,  -999.0,   1.368,3, -999.00,9,  46.6341,2, -999.00,9,  439.10,  -999.0,9,  12.2125,     26.659,    35.3105,2,     -999.0,9,     -999.0,9,     -999.0,     -999.0,9,     -999.0
33RO20110926,        A10,      93,          1,         16,      11709,2,20111024,       0009,   -30.0006,   -37.5663,       3524,   538.7,  10.0764,  34.8189,2,  34.8213,2,    206.5,2,   206.9,2,     6.8,2,    17.6,2,    0.00,2,   0.982,4,   3.172,2,   1.706,2,   1.010,2,     2143.8,2,  2299.6,2,  -999.0,9, -999.00,   7.7585,2,       25,-999.000,9,-999.0000,9, -999.00,9,  -999.0,9,  -999.0,   1.766,3, -999.00,9,  45.7951,2, -999.00,9,  538.70,  -999.0,9,  10.0126,     26.800,    34.9854,2,     -999.0,9,     -999.0,9,     -999.0,     -999.0,9,     -999.0
33RO20110926,        A10,      93,          1,         15,      11006,2,20111024,       0009,   -30.0006,   -37.5663,       3524,   640.3,   7.9512,  34.5634,2,  34.5694,2,    207.8,2,   207.4,2,    10.4,2,    22.5,2,    0.01,2,   1.259,4,   3.198,2,   1.659,2,   0.833,2,     2158.1,2,  2289.7,2,  -999.0,9, -999.00,   7.7054,2,       25,-999.000,9,-999.0000,9, -999.00,9,  -999.0,9,  -999.0,   2.682,3, -999.00,9,  46.7707,2, -999.00,9,  640.30,  -999.0,9,   7.8852,     26.950,    34.7324,2,     -999.0,9,     -999.0,9,     -999.0,     -999.0,9,     -999.0
33RO20110926,        A10,      93,          1,         14,      11708,2,20111024,       0009,   -30.0006,   -37.5663,       3524,   739.7,   5.9609,  34.3650,2,  34.3632,2,    222.4,2,   223.1,2,    14.6,2,    26.1,2,    0.00,2,   1.463,4,   3.313,2,   1.682,2,   0.828,2,     2166.7,2,  2285.5,2,  -999.0,9, -999.00,   7.6705,2,       25,-999.000,9,-999.0000,9, -999.00,9,  -999.0,9,  -999.0,   3.808,3, -999.00,9,  41.3854,2, -999.00,9,  739.70,  -999.0,9,   5.8954,     27.064,    34.5252,2,     -999.0,9,     -999.0,9,     -999.0,     -999.0,9,     -999.0
33RO20110926,        A10,      93,          1,         13,      11031,2,20111024,       0009,   -30.0006,   -37.5663,       3524,   840.5,   4.9090,  34.2899,2,  34.2908,2,    229.7,2,     230,2,    18.6,2,    28.1,2,    0.00,2,   1.584,4,   3.186,2,   1.597,2,   0.783,2,     2174.1,2,  2286.9,2,  -999.0,9, -999.00,   7.6575,2,       25,-999.000,9,-999.0000,9, -999.00,9,  -999.0,9,  -999.0,   4.158,3, -999.00,9,  41.6488,2, -999.00,9,  840.50,  -999.0,9,   4.8408,     27.131,    34.4525,2,     -999.0,9,     -999.0,9,     -999.0,     -999.0,9,     -999.0
33RO20110926,        A10,      93,          1,         12,      11027,2,20111024,       0009,   -30.0006,   -37.5663,       3524,   939.6,   4.1639,  34.2830,2,  34.2830,2,    224.4,2,   224.7,2,    25.6,2,    29.7,2,    0.00,2,   1.732,4,   2.677,2,   1.316,2,   0.542,2,     2186.6,2,    2292,2,  -999.0,9, -999.00,   7.6364,2,       25,-999.000,9,-999.0000,9, -999.00,9,  -999.0,9,  -999.0,   3.720,3, -999.00,9,  46.3512,3, -999.00,9,  939.60,  -999.0,9,   4.0924,     27.206,    34.4447,2,     -999.0,9,     -999.0,9,     -999.0,     -999.0,9,     -999.0
33RO20110926,        A10,      93,          1,         11,      11707,2,20111024,       0009,   -30.0006,   -37.5663,       3524,  1056.3,   3.6604,  34.3131,2,  34.3135,2,    214.5,2,   214.6,2,    33.7,2,    31.6,2,    0.00,2,   1.868,4,   2.053,2,   1.000,2,   0.404,2,     2200.4,2,  2298.2,2,  -999.0,9, -999.00,   7.6192,2,       25,-999.000,9,-999.0000,9, -999.00,9,  -999.0,9,  -999.0,   3.326,3, -999.00,9,  43.7073,2, -999.00,9, 1056.30,  -999.0,9,   3.5831,     27.282,    34.4754,2,     -999.0,9,     -999.0,9,     -999.0,     -999.0,9,     -999.0
33RO20110926,        A10,      93,          1,         10,      11003,2,20111024,       0009,   -30.0006,   -37.5663,       3524,  1181.5,   3.3317,  34.3853,2,  34.3855,2,    199.7,2,   200.3,2,    43.0,2,    32.8,2,    0.00,2,   1.992,4,   1.291,2,   0.621,2,   0.216,2,     2215.6,2,  2307.9,2,  -999.0,9, -999.00,   7.6022,2,       25,-999.000,9,-999.0000,9, -999.00,9,  -999.0,9,  -999.0,   2.546,3, -999.00,9,  41.7366,2, -999.00,9, 1181.50,  -999.0,9,   3.2470,     27.372,    34.5476,2,     -999.0,9,     -999.0,9,     -999.0,     -999.0,9,     -999.0
33RO20110926,        A10,      93,          1,          9,      11706,2,20111024,       0009,   -30.0006,   -37.5663,       3524,  1334.6,   3.0970,  34.4895,2,  34.4915,2,    189.6,2,     189,2,    50.8,6,    32.9,6,    0.00,6,   2.050,4,   0.647,2,   0.311,2,   0.087,2,     2227.4,2,  2319.1,6,  -999.0,9, -999.00,   7.5958,6,       25,-999.000,9,-999.0000,9, -999.00,9,  -999.0,9,  -999.0,   1.484,3, -999.00,9,  41.0146,2, -999.00,9, 1334.60,  -999.0,9,   3.0019,     27.479,    34.6541,2,     -999.0,9,     -999.0,9,     -999.0,     -999.0,9,     -999.0
33RO20110926,        A10,      93,          1,          8,      11033,2,20111024,       0009,   -30.0006,   -37.5663,       3524,  1539.4,   2.9296,  34.5977,2,  34.5974,2,    190.0,2,   189.6,2,    54.7,2,    31.3,2,    0.00,2,   2.018,4,   0.287,2,   0.139,2,   0.029,2,       2231,6,  2325.6,2,  -999.0,9, -999.00,   7.6034,2,       25,-999.000,9,-999.0000,9, -999.00,9,  -999.0,9,  -999.0,   0.974,3, -999.00,9,  44.6439,3, -999.00,9, 1539.40,  -999.0,9,   2.8192,     27.580,    34.7606,2,     -999.0,9,     -999.0,9,     -999.0,     -999.0,9,     -999.0
33RO20110926,        A10,      93,          1,          7,      11705,2,20111024,       0009,   -30.0006,   -37.5663,       3524,  1760.3,   2.8463,  34.7059,2,  34.7078,2,    200.2,2,   200.9,2,    53.0,2,    29.4,2,    0.00,2,   1.879,4,   0.099,2,   0.050,2,   0.000,2,     2222.5,2,  2329.5,2,  -999.0,9, -999.00,   7.6304,2,       25,-999.000,9,-999.0000,9, -999.00,9,  -999.0,9,  -999.0,   0.522,3, -999.00,9,     42.8,2, -999.00,9, 1760.30,  -999.0,9,   2.7179,     27.677,    34.8715,2,     -999.0,9,     -999.0,9,     -999.0,     -999.0,9,     -999.0
33RO20110926,        A10,      93,          1,          6,      11029,2,20111024,       0009,   -30.0006,   -37.5663,       3524,  1949.3,   2.8426,  34.7737,2,  34.7747,2,    212.3,2,     213,2,    48.9,6,    27.0,6,    0.00,6,   1.724,4,   0.058,2,   0.030,2,   0.000,2,     2211.5,2,  2329.8,2,  -999.0,9, -999.00,   7.6613,2,       25,-999.000,9,-999.0000,9, -999.00,9,  -999.0,9,  -999.0,   0.396,3, -999.00,9,  42.4976,2, -999.00,9, 1949.30,  -999.0,9,   2.6975,     27.731,    34.9387,6,     -999.0,9,     -999.0,9,     -999.0,     -999.0,9,     -999.0
33RO20110926,        A10,      93,          1,          5,      11704,2,20111024,       0009,   -30.0006,   -37.5663,       3524,  2173.6,   2.8209,  34.8268,2,  34.8269,2,    224.0,2,   224.8,2,    44.7,2,    25.3,2,    0.00,2,   1.611,4,   0.031,2,   0.018,2,   0.047,2,     2202.5,2,  2329.5,2,  -999.0,9, -999.00,   7.6873,2,       25,-999.000,9,-999.0000,9, -999.00,9,  -999.0,9,  -999.0,   0.289,3, -999.00,9,  45.2683,3, -999.00,9, 2173.60,  -999.0,9,   2.6556,     27.778,    34.9912,2,     -999.0,9,     -999.0,9,     -999.0,     -999.0,9,     -999.0
33RO20110926,        A10,      93,          1,          4,      11030,2,20111024,       0009,   -30.0006,   -37.5663,       3524,  2475.5,   2.9242,  34.8929,2,  34.8926,2,    240.3,2,   241.4,2,    35.4,2,    22.3,2,    0.01,2,   1.392,4,   0.050,2,   0.026,2,   0.000,2,       2187,2,  2326.1,2,  -999.0,9, -999.00,   7.7214,2,       25,-999.000,9,-999.0000,9, -999.00,9,  -999.0,9,  -999.0,   0.400,3, -999.00,9,  47.0732,3, -999.00,9, 2475.50,  -999.0,9,   2.7282,     27.824,    35.0572,2,     -999.0,9,     -999.0,9,     -999.0,     -999.0,9,     -999.0
33RO20110926,        A10,      93,          1,          3,      11703,9,20111024,       0009,   -30.0006,   -37.5663,       3524,  2700.4,   2.8678,  34.9051,2,  34.9076,2,    246.1,2,  -999.0,9, -999.00,5,  -999.0,5, -999.00,5,-999.000,5,-999.000,9,-999.000,9,-999.000,9,-999.000000,9,  -999.0,9,  -999.0,9, -999.00,-999.0000,9,  -999.00,-999.000,9,-999.0000,9, -999.00,9,  -999.0,9,  -999.0,-999.000,9, -999.00,9,  42.5659,2, -999.00,9, 2700.40,  -999.0,9,   2.6506,     27.840,    35.0722,2,     -999.0,9,     -999.0,9,     -999.0,     -999.0,9,     -999.0
33RO20110926,        A10,      93,          1,          2,      11702,2,20111024,       0009,   -30.0006,   -37.5663,       3524,  3051.2,   2.7387,  34.9108,2,  34.9151,3,    251.3,2,     251,2,    34.7,2,    21.1,2,    0.02,2,   1.325,4,   0.048,2,   0.028,2,   0.038,2,     2182.3,2,  2329.4,2,  -999.0,9, -999.00,   7.7216,2,       25,-999.000,9,-999.0000,9, -999.00,9,  -999.0,9,  -999.0,   0.417,3, -999.00,9,  47.6585,3, -999.00,9, 3051.20,  -999.0,9,   2.4884,     27.863,    35.0797,2,     -999.0,9,     -999.0,9,     -999.0,     -999.0,9,     -999.0
33RO20110926,        A10,      93,          1,          1,      11701,2,20111024,       0009,   -30.0006,   -37.5663,       3524,  3538.4,   2.3278,  34.8799,2,  34.8817,2,    249.1,2,   249.6,2,    45.8,2,    22.4,2,    0.02,2,   1.472,4,   0.034,6,   0.020,6,   0.049,6,     2193.5,6,  2335.5,6,  -999.0,9, -999.00,   7.7221,6,       25,-999.000,9,-999.0000,9, -999.00,9,  -999.0,9,  -999.0,   0.349,3, -999.00,9,  48.1756,3, -999.00,9, 3538.40,  -999.0,9,   2.0357,     27.874,    35.0462,2,     -999.0,9,     -999.0,9,     -999.0,     -999.0,9,     -999.0