BOTTLE,20220815CCHSIOAMB
EXPOCODE,SECT_ID,STNNBR,CASTNO,SAMPNO,BTLNBR,BTLNBR_FLAG_W,DATE,TIME,LATITUDE,LONGITUDE,DEPTH,CTDPRS,CTDTMP,CTDSAL,CTDSAL_FLAG_W,SALNTY,SALNTY_FLAG_W,CTDOXY,CTDOXY_FLAG_W,OXYGEN,OXYGEN_FLAG_W,SILCAT,SILCAT_FLAG_W,NITRAT,NITRAT_FLAG_W,NITRIT,NITRIT_FLAG_W,PHSPHT,PHSPHT_FLAG_W,CFC-11,CFC-11_FLAG_W,CFC-12,CFC-12_FLAG_W,SF6,SF6_FLAG_W,TCARBN,TCARBN_FLAG_W,ALKALI,ALKALI_FLAG_W,PCO2,PCO2_FLAG_W,PCO2TMP,PH_SWS,PH_SWS_FLAG_W,PH_TMP,TRITUM,TRITUM_FLAG_W,HELIUM,HELIUM_FLAG_W,DELC13,DELC13_FLAG_W,DELC14,DELC14_FLAG_W,C14ERR,CCL4,CCL4_FLAG_W,DELO18,DELO18_FLAG_W,DOC,DOC_FLAG_W,TDN,TDN_FLAG_W,CTDRAW,14C-DOC,14C-DOC_FLAG_W,THETA,SIG0,SALTREF,SALTREF_FLAG_W,BLACKC,BLACKC_FLAG_W,PIGMENTS,PIGMENTS_FLAG_W,14C-DOCERR,13C-DOC,13C-DOC_FLAG_W,13C-DOCERR
,,,,,,,,,,,METERS,DBAR,ITS-90,PSS-78,,PSS-78,,UMOL/KG,,UMOL/KG,,UMOL/KG,,UMOL/KG,,UMOL/KG,,UMOL/KG,,PMOL/KG,,PMOL/KG,,FMOL/KG,,UMOL/KG,,UMOL/KG,,UATM,,DEG C,,,DEG C,TU,,NMOL/KG,,/MILLE,,/MILLE,,/MILLE,PMOL/KG,,/MILLE,,UMOL/KG,,UMOL/KG,,DBAR,/MILLE,,DEG C,KG/M^3,G/KG,,,,,,/MILLE,/MILLE,,/MILLE
33RO20110926,        A10,     105,          1,         24,      11714,2,20111027,       0701,   -29.1886,   -42.5333,       4068,     5.7,  20.5935,  36.6392,2,  36.6378,2,    224.9,2,     223,2,     0.8,2,     0.0,2,    0.00,2,   0.044,4,   2.049,6,   1.257,6,   1.333,6,     2153.8,4,  2401.6,2,  -999.0,9, -999.00,    8.032,2,       25,-999.000,9,-999.0000,9, -999.00,5,  -999.0,5,  -999.0,   4.771,4, -999.00,9,  68.2049,2,    3.83,2,    5.70,  -999.0,9,  20.5924,     25.852,    36.8105,2,     -999.0,9,     -999.0,1,     -999.0,     -999.0,9,     -999.0
33RO20110926,        A10,     105,          1,         23,      11713,2,20111027,       0701,   -29.1886,   -42.5333,       4068,    35.9,  19.7894,  36.3904,2,  36.4028,2,    226.8,2,   227.1,2,     0.8,2,     0.0,2,    0.00,2,   0.044,4,   2.144,2,   1.310,2,   1.347,2,     2082.2,2,  2388.2,6,  -999.0,9, -999.00,    8.022,6,       25,-999.000,9,-999.0000,9, -999.00,9,  -999.0,9,  -999.0,   4.214,4, -999.00,9,     63.6,2,    4.57,2,   35.90,  -999.0,9,  19.7828,     25.877,    36.5744,2,     -999.0,9,     -999.0,9,     -999.0,     -999.0,9,     -999.0
33RO20110926,        A10,     105,          1,         22,      11712,2,20111027,       0701,   -29.1886,   -42.5333,       4068,    69.6,  19.2245,  36.3192,2,  36.3174,2,    229.1,2,   229.2,2,     0.8,2,     0.0,2,    0.01,2,   0.052,4,   2.190,2,   1.330,2,   1.335,2,     2080.8,2,  2381.9,2,  -999.0,9, -999.00,    8.013,2,       25,-999.000,9,-999.0000,9, -999.00,9,  -999.0,9,  -999.0,   4.869,4, -999.00,9,  63.2195,2,    3.61,2,   69.60,  -999.0,9,  19.2119,     25.976,    36.4887,2,     -999.0,9,     -999.0,1,     -999.0,     -999.0,9,     -999.0
33RO20110926,        A10,     105,          1,         21,      11010,2,20111027,       0701,   -29.1886,   -42.5333,       4068,   103.9,  18.4815,  36.1980,2,  36.1992,2,    223.6,2,   222.2,2,     0.9,2,     0.9,2,    0.07,2,   0.101,4,   2.259,2,   1.366,2,   1.383,2,       2086,2,  2362.9,4,  -999.0,9, -999.00,   7.9559,4,       25,-999.000,9,-999.0000,9, -999.00,9,  -999.0,9,  -999.0,   3.806,4, -999.00,9,-999.0000,5,    5.57,2,  103.90,  -999.0,9,  18.4632,     26.075,    36.3699,2,     -999.0,9,     -999.0,1,     -999.0,     -999.0,9,     -999.0
33RO20110926,        A10,     105,          1,         20,      11715,2,20111027,       0701,   -29.1886,   -42.5333,       4068,   155.1,  16.8801,  35.8662,2,  35.8668,2,    227.9,2,   222.8,2,     1.2,6,     1.9,6,    0.03,6,   0.156,4,   2.452,2,   1.467,2,   1.447,2,     2092.8,2,  2353.4,2,  -999.0,9, -999.00,   7.9629,2,       25,-999.000,9,-999.0000,9, -999.00,9,  -999.0,9,  -999.0,   3.460,4, -999.00,9,  54.5171,2,    5.13,2,  155.10,  -999.0,9,  16.8545,     26.216,    36.0360,2,     -999.0,9,     -999.0,9,     -999.0,     -999.0,9,     -999.0
33RO20110926,        A10,     105,          1,         19,      11007,2,20111027,       0701,   -29.1886,   -42.5333,       4068,   225.7,  15.7095,  35.6430,2,  35.6441,2,    213.2,2,     208,2,     2.0,2,     5.1,2,    0.01,2,   0.326,4,   2.627,2,   1.541,2,   1.287,2,     2109.6,2,  2342.6,2,  -999.0,9, -999.00,   7.9098,2,       25,-999.000,9,-999.0000,9, -999.00,9,  -999.0,9,  -999.0,   1.603,3, -999.00,9,  53.0829,2, -999.00,9,  225.70,  -999.0,9,  15.6740,     26.318,    35.8122,2,     -999.0,9,     -999.0,9,     -999.0,     -999.0,9,     -999.0
33RO20110926,        A10,     105,          1,         18,      11710,2,20111027,       0701,   -29.1886,   -42.5333,       4068,   279.6,  14.6325,  35.4794,2,  35.4863,2,    208.3,2,   208.6,2,     2.5,2,     7.1,2,    0.01,2,   0.420,4,   2.767,2,   1.600,2,   1.250,2,     2115.8,2,  2334.8,2,  -999.0,9, -999.00,   7.8868,2,       25,-999.000,9,-999.0000,9, -999.00,9,  -999.0,9,  -999.0,   1.338,3, -999.00,9,  51.9902,2, -999.00,9,  279.60,  -999.0,9,  14.5906,     26.432,    35.6536,2,     -999.0,9,     -999.0,9,     -999.0,     -999.0,9,     -999.0
33RO20110926,        A10,     105,          1,         17,      11023,2,20111027,       0701,   -29.1886,   -42.5333,       4068,   350.5,  13.9233,  35.4247,2,  35.4270,2,    213.2,2,   213.1,2,     2.8,2,     8.5,2,    0.01,2,   0.480,4,   2.838,2,   1.642,2,   1.316,2,     2120.7,2,  2331.7,2,  -999.0,9, -999.00,   7.8708,2,       25,-999.000,9,-999.0000,9, -999.00,9,  -999.0,9,  -999.0,   1.291,3, -999.00,9,  47.9707,2, -999.00,9,  350.50,  -999.0,9,  13.8723,     26.543,    35.5941,2,     -999.0,9,     -999.0,9,     -999.0,     -999.0,9,     -999.0
33RO20110926,        A10,     105,          1,         16,      11709,2,20111027,       0701,   -29.1886,   -42.5333,       4068,   450.0,  11.9227,  35.0890,2,  35.0911,2,    209.9,2,   209.6,2,     4.4,2,    13.1,2,    0.01,2,   0.693,4,   3.055,2,   1.699,2,   1.146,2,     2130.4,2,  2313.4,2,  -999.0,9, -999.00,   7.8146,2,       25,-999.000,9,-999.0000,9, -999.00,9,  -999.0,9,  -999.0,   1.360,3, -999.00,9,  47.2098,2, -999.00,9,  450.00,  -999.0,9,  11.8636,     26.685,    35.2565,2,     -999.0,9,     -999.0,9,     -999.0,     -999.0,9,     -999.0
33RO20110926,        A10,     105,          1,         15,      11006,2,20111027,       0701,   -29.1886,   -42.5333,       4068,   549.6,   9.5265,  34.7437,2,  34.7425,2,    205.7,2,   206.9,2,     7.4,2,    18.9,2,    0.01,2,   0.975,4,   3.220,2,   1.709,2,   0.950,2,     2146.3,3,  2296.8,2,  -999.0,9, -999.00,   7.7465,2,       25,-999.000,9,-999.0000,9, -999.00,9,  -999.0,9,  -999.0,   2.105,3, -999.00,9,  38.3317,2, -999.00,9,  549.60,  -999.0,9,   9.4637,     26.841,    34.9063,2,     -999.0,9,     -999.0,9,     -999.0,     -999.0,9,     -999.0
33RO20110926,        A10,     105,          1,         14,      11708,2,20111027,       0701,   -29.1886,   -42.5333,       4068,   649.3,   7.1207,  34.4579,2,  34.4710,2,    220.4,2,   220.3,2,    10.7,6,    23.6,6,    0.01,6,   1.201,4,   3.418,2,   1.774,2,   0.944,2,     2156.3,3,  2287.3,2,  -999.0,9, -999.00,   7.7014,2,       25,-999.000,9,-999.0000,9, -999.00,9,  -999.0,9,  -999.0,   3.539,3, -999.00,9,  39.8244,2, -999.00,9,  649.30,  -999.0,9,   7.0578,     26.994,    34.6336,2,     -999.0,9,     -999.0,9,     -999.0,     -999.0,9,     -999.0
33RO20110926,        A10,     105,          1,         13,      11031,2,20111027,       0701,   -29.1886,   -42.5333,       4068,   749.1,   5.5707,  34.3071,2,  34.3110,2,    234.4,2,   235.1,2,    13.9,2,    26.0,2,    0.00,2,   1.352,4,   3.558,2,   1.833,2,   1.018,2,     2160.2,3,    2283,2,  -999.0,9, -999.00,   7.6755,2,       25,-999.000,9,-999.0000,9, -999.00,9,  -999.0,9,  -999.0,   4.783,3, -999.00,9,  45.4829,2, -999.00,9,  749.10,  -999.0,9,   5.5066,     27.069,    34.4728,2,     -999.0,9,     -999.0,9,     -999.0,     -999.0,9,     -999.0
33RO20110926,        A10,     105,          1,         12,      11027,2,20111027,       0701,   -29.1886,   -42.5333,       4068,   899.9,   4.3885,  34.2693,2,  34.2713,2,    230.7,2,   230.2,2,    22.2,2,    29.0,2,    0.00,2,   1.570,4,   3.000,2,   1.504,2,   0.684,2,       2176,3,  2288.8,2,  -999.0,9, -999.00,   7.6485,2,       25,-999.000,9,-999.0000,9, -999.00,9,  -999.0,9,  -999.0,   4.677,3, -999.00,9,  40.5171,2, -999.00,9,  899.90,  -999.0,9,   4.3188,     27.172,    34.4329,2,     -999.0,9,     -999.0,9,     -999.0,     -999.0,9,     -999.0
33RO20110926,        A10,     105,          1,         11,      11707,2,20111027,       0701,   -29.1886,   -42.5333,       4068,  1074.6,   3.6588,  34.3394,2,  34.3460,2,    210.6,2,   207.7,2,    36.1,2,    31.7,2,    0.00,2,   1.824,4,   1.770,2,   0.861,2,   0.288,2,     2202.8,2,  2302.4,2,  -999.0,9, -999.00,   7.6114,2,       25,-999.000,9,-999.0000,9, -999.00,9,  -999.0,9,  -999.0,   3.286,3, -999.00,9,  40.9073,2, -999.00,9, 1074.60,  -999.0,9,   3.5800,     27.308,    34.5080,2,     -999.0,9,     -999.0,9,     -999.0,     -999.0,9,     -999.0
33RO20110926,        A10,     105,          1,         10,      11003,2,20111027,       0701,   -29.1886,   -42.5333,       4068,  1275.0,   3.1897,  34.4624,2,  34.4638,2,    191.6,2,   191.1,2,    48.8,2,    32.7,2,    0.00,2,   1.993,4,   0.767,2,   0.371,2,   0.102,2,     2223.3,2,  2316.1,2,  -999.0,9, -999.00,   7.5952,2,       25,-999.000,9,-999.0000,9, -999.00,9,  -999.0,9,  -999.0,   1.845,3, -999.00,9,  38.3805,2, -999.00,9, 1275.00,  -999.0,9,   3.0986,     27.448,    34.6263,2,     -999.0,9,     -999.0,9,     -999.0,     -999.0,9,     -999.0
33RO20110926,        A10,     105,          1,          9,      11706,2,20111027,       0701,   -29.1886,   -42.5333,       4068,  1475.5,   3.1109,  34.6176,2,  34.6211,2,    190.2,2,   190.5,2,    50.9,2,    31.0,2,    0.00,2,   1.927,4,   0.253,2,   0.122,2,   0.040,2,     2155.4,4,  2323.8,6,  -999.0,9, -999.00,   7.6122,6,       25,-999.000,9,-999.0000,9, -999.00,9,  -999.0,9,  -999.0,   0.924,3, -999.00,9,-999.0000,5, -999.00,9, 1475.50,  -999.0,9,   3.0037,     27.582,    34.7844,2,     -999.0,9,     -999.0,9,     -999.0,     -999.0,9,     -999.0
33RO20110926,        A10,     105,          1,          8,      11033,2,20111027,       0701,   -29.1886,   -42.5333,       4068,  1650.0,   3.2796,  34.7511,2,  34.7532,2,    202.6,2,   203.2,2,    43.7,6,    27.7,6,    0.00,6,   1.704,4,   0.131,2,   0.066,2,   0.055,2,     2211.6,2,  2325.3,2,  -999.0,9, -999.00,   7.6444,2,       25,-999.000,9,-999.0000,9, -999.00,9,  -999.0,9,  -999.0,   0.498,3, -999.00,9,-999.0000,5, -999.00,9, 1650.00,  -999.0,9,   3.1551,     27.673,    34.9171,2,     -999.0,9,     -999.0,9,     -999.0,     -999.0,9,     -999.0
33RO20110926,        A10,     105,          1,          7,      11705,2,20111027,       0701,   -29.1886,   -42.5333,       4068,  1924.2,   3.5476,  34.9040,2,  34.9076,2,    232.8,2,   232.6,2,    28.2,2,    22.5,2,    0.00,2,   1.303,4,   0.184,2,   0.092,2,   0.037,2,     2183.2,3,  2319.5,2,  -999.0,9, -999.00,   7.7035,2,       25,-999.000,9,-999.0000,9, -999.00,9,  -999.0,9,  -999.0,   0.711,3, -999.00,9,  40.9268,2, -999.00,9, 1924.20,  -999.0,9,   3.3942,     27.774,    35.0722,2,     -999.0,9,     -999.0,9,     -999.0,     -999.0,9,     -999.0
33RO20110926,        A10,     105,          1,          6,      11029,2,20111027,       0701,   -29.1886,   -42.5333,       4068,  2174.7,   3.3845,  34.9293,2,  34.9313,2,    243.4,2,   244.8,2,    26.3,2,    21.1,2,    0.00,2,   1.217,4,   0.190,2,   0.097,2,   0.078,2,     2176.1,3,  2318.2,2,  -999.0,9, -999.00,   7.7206,2,       25,-999.000,9,-999.0000,9, -999.00,9,  -999.0,9,  -999.0,   0.679,3, -999.00,9,  41.8829,2, -999.00,9, 2174.70,  -999.0,9,   3.2096,     27.809,    35.0960,6,     -999.0,9,     -999.0,9,     -999.0,     -999.0,9,     -999.0
33RO20110926,        A10,     105,          1,          5,      11704,2,20111027,       0701,   -29.1886,   -42.5333,       4068,  2450.6,   3.2003,  34.9356,2,  34.9369,2,    247.9,2,     249,2,    26.5,2,    20.5,2,    0.00,2,   1.194,4,   0.160,2,   0.080,2,   0.047,2,     2173.1,2,  2297.3,4,  -999.0,9, -999.00,   7.6893,4,       25,-999.000,9,-999.0000,9, -999.00,9,  -999.0,9,  -999.0,   0.655,3, -999.00,9,-999.0000,5, -999.00,9, 2450.60,  -999.0,9,   3.0016,     27.835,    35.1017,2,     -999.0,9,     -999.0,9,     -999.0,     -999.0,9,     -999.0
33RO20110926,        A10,     105,          1,          4,      11030,2,20111027,       0701,   -29.1886,   -42.5333,       4068,  2801.2,   2.9698,  34.9287,2,  34.9350,2,    251.2,2,   250.5,2,    29.4,6,    20.6,6,    0.00,6,   1.211,4,   0.112,2,   0.057,2,   0.025,2,       2176,2,  2325.2,2,  -999.0,9, -999.00,   7.7364,2,       25,-999.000,9,-999.0000,9, -999.00,9,  -999.0,9,  -999.0,   0.512,3, -999.00,9,-999.0000,5, -999.00,9, 2801.20,  -999.0,9,   2.7403,     27.857,    35.0997,2,     -999.0,9,     -999.0,9,     -999.0,     -999.0,9,     -999.0
33RO20110926,        A10,     105,          1,          3,      11703,2,20111027,       0701,   -29.1886,   -42.5333,       4068,  3200.4,   2.6847,  34.9115,2,  34.9124,2,    251.8,2,   251.9,2,    35.3,2,    21.0,2,    0.00,2,   1.289,4,   0.081,2,   0.042,2,   0.000,2,     2180.7,2,  2328.3,2,  -999.0,9, -999.00,   7.7306,2,       25,-999.000,9,-999.0000,9, -999.00,9,  -999.0,9,  -999.0,   0.439,3, -999.00,9,  42.1659,2, -999.00,9, 3200.40,  -999.0,9,   2.4199,     27.867,    35.0770,2,     -999.0,9,     -999.0,9,     -999.0,     -999.0,9,     -999.0
33RO20110926,        A10,     105,          1,          2,      11702,2,20111027,       0701,   -29.1886,   -42.5333,       4068,  3630.5,   1.3721,  34.7806,2,  34.7832,2,    231.6,2,   231.7,2,    84.2,2,    27.6,2,    0.00,2,   2.078,4,   0.112,2,   0.053,2,   0.099,2,     2227.4,2,  2351.8,2,  -999.0,9, -999.00,   7.6655,2,       25,-999.000,9,-999.0000,9, -999.00,9,  -999.0,9,  -999.0,   0.384,3, -999.00,9,   39.678,2, -999.00,9, 3630.50,  -999.0,9,   1.0952,     27.865,    34.9472,2,     -999.0,9,     -999.0,9,     -999.0,     -999.0,9,     -999.0
33RO20110926,        A10,     105,          1,          1,      11701,2,20111027,       0701,   -29.1886,   -42.5333,       4068,  4061.5,   0.5491,  34.6970,2,  34.6984,2,    220.4,2,   219.6,2,   116.1,2,    31.7,2,    0.00,2,   2.599,4,   0.282,6,   0.133,6,   0.053,6,     2259.4,6,  2365.5,6,  -999.0,9, -999.00,   7.6198,6,       25,-999.000,9,-999.0000,9, -999.00,9,  -999.0,9,  -999.0,   0.648,3, -999.00,9,  40.7512,2, -999.00,9, 4061.50,  -999.0,9,   0.2506,     27.849,    34.8620,2,     -999.0,9,     -999.0,9,     -999.0,     -999.0,9,     -999.0