BOTTLE,20220815CCHSIOAMB
EXPOCODE,SECT_ID,STNNBR,CASTNO,SAMPNO,BTLNBR,BTLNBR_FLAG_W,DATE,TIME,LATITUDE,LONGITUDE,DEPTH,CTDPRS,CTDTMP,CTDSAL,CTDSAL_FLAG_W,SALNTY,SALNTY_FLAG_W,CTDOXY,CTDOXY_FLAG_W,OXYGEN,OXYGEN_FLAG_W,SILCAT,SILCAT_FLAG_W,NITRAT,NITRAT_FLAG_W,NITRIT,NITRIT_FLAG_W,PHSPHT,PHSPHT_FLAG_W,CFC-11,CFC-11_FLAG_W,CFC-12,CFC-12_FLAG_W,SF6,SF6_FLAG_W,TCARBN,TCARBN_FLAG_W,ALKALI,ALKALI_FLAG_W,PCO2,PCO2_FLAG_W,PCO2TMP,PH_SWS,PH_SWS_FLAG_W,PH_TMP,TRITUM,TRITUM_FLAG_W,HELIUM,HELIUM_FLAG_W,DELC13,DELC13_FLAG_W,DELC14,DELC14_FLAG_W,C14ERR,CCL4,CCL4_FLAG_W,DELO18,DELO18_FLAG_W,DOC,DOC_FLAG_W,TDN,TDN_FLAG_W,CTDRAW,14C-DOC,14C-DOC_FLAG_W,THETA,SIG0,SALTREF,SALTREF_FLAG_W,BLACKC,BLACKC_FLAG_W,PIGMENTS,PIGMENTS_FLAG_W,14C-DOCERR,13C-DOC,13C-DOC_FLAG_W,13C-DOCERR
,,,,,,,,,,,METERS,DBAR,ITS-90,PSS-78,,PSS-78,,UMOL/KG,,UMOL/KG,,UMOL/KG,,UMOL/KG,,UMOL/KG,,UMOL/KG,,PMOL/KG,,PMOL/KG,,FMOL/KG,,UMOL/KG,,UMOL/KG,,UATM,,DEG C,,,DEG C,TU,,NMOL/KG,,/MILLE,,/MILLE,,/MILLE,PMOL/KG,,/MILLE,,UMOL/KG,,UMOL/KG,,DBAR,/MILLE,,DEG C,KG/M^3,G/KG,,,,,,/MILLE,/MILLE,,/MILLE
33RO20110926,        A10,      91,          1,         24,      11714,2,20111023,       1357,   -29.9998,   -37.1454,       2289,     6.0,  18.9377,  36.1683,2,  36.1692,2,    232.0,2,   232.7,2,     0.7,2,     0.1,2,    0.01,2,   0.035,4,   2.237,6,   1.360,6,   1.367,6,     2079.8,3,  2371.6,6,  -999.0,9, -999.00,    8.015,6,       25,-999.000,1,-999.0000,1,    1.11,2,    50.7,2,     2.9,   2.672,4, -999.00,1,  66.0976,2,    4.82,2,    6.00,  -999.0,9,  18.9366,     25.929,    36.3397,2,     -999.0,9,     -999.0,1,     -999.0,     -999.0,9,     -999.0
33RO20110926,        A10,      91,          1,         23,      11713,2,20111023,       1357,   -29.9998,   -37.1454,       2289,    50.0,  18.5552,  36.0750,2,  36.0810,2,    233.3,2,   233.9,2,     0.6,2,     0.1,2,    0.01,2,   0.043,4,   2.267,2,   1.377,2,   1.349,2,     2078.1,2,  2366.4,2,  -999.0,9, -999.00,     8.01,2,       25,-999.000,1,-999.0000,1, -999.00,9,  -999.0,9,  -999.0,   3.203,4, -999.00,1,  63.5902,2,    4.64,2,   50.00,  -999.0,9,  18.5464,     25.964,    36.2511,2,     -999.0,9,     -999.0,9,     -999.0,     -999.0,9,     -999.0
33RO20110926,        A10,      91,          1,         22,      11712,2,20111023,       1357,   -29.9998,   -37.1454,       2289,    94.3,  18.2441,  36.0403,2,  36.0335,2,    232.2,2,   231.5,2,     0.7,2,     0.3,2,    0.05,2,   0.069,4,   2.302,2,   1.391,2,   1.330,2,     2082.1,2,  2363.8,2,  -999.0,9, -999.00,        8,2,       25,-999.000,1,-999.0000,1, -999.00,9,  -999.0,9,  -999.0,   2.959,4, -999.00,1,   63.239,2,    3.63,2,   94.30,  -999.0,9,  18.2277,     26.006,    36.2034,2,     -999.0,9,     -999.0,1,     -999.0,     -999.0,9,     -999.0
33RO20110926,        A10,      91,          1,         21,      11010,2,20111023,       1357,   -29.9998,   -37.1454,       2289,   139.0,  16.7300,  35.7827,2,  35.7837,2,    213.5,2,   214.5,2,     1.4,2,     3.0,2,    0.04,2,   0.235,4,   2.484,2,   1.484,2,   1.283,2,     2101.7,3,  2349.1,2,  -999.0,9, -999.00,   7.9429,2,       25,-999.000,1,-999.0000,1, -999.00,9,  -999.0,9,  -999.0,   1.568,4, -999.00,1,-999.0000,5,    7.08,2,  139.00,  -999.0,9,  16.7072,     26.184,    35.9525,2,     -999.0,9,     -999.0,1,     -999.0,     -999.0,9,     -999.0
33RO20110926,        A10,      91,          1,         20,      11715,2,20111023,       1357,   -29.9998,   -37.1454,       2289,   214.3,  15.5056,  35.5944,2,  35.5959,2,    211.0,2,   211.4,2,     1.9,2,     5.2,2,    0.02,2,   0.351,4,   2.658,2,   1.568,2,   1.260,2,     2111.2,3,  2338.4,2,  -999.0,9, -999.00,   7.9078,2,       25,-999.000,1,-999.0000,1, -999.00,9,  -999.0,9,  -999.0,   0.998,3, -999.00,1,  53.8927,2, -999.00,9,  214.30,  -999.0,9,  15.4722,     26.326,    35.7638,2,     -999.0,9,     -999.0,9,     -999.0,     -999.0,9,     -999.0
33RO20110926,        A10,      91,          1,         19,      11007,2,20111023,       1357,   -29.9998,   -37.1454,       2289,   289.1,  14.2447,  35.4035,2,  35.4051,2,    210.8,2,     211,2,     2.4,6,     7.5,6,    0.02,6,   0.461,4,   2.834,2,   1.633,2,   1.196,2,     2119.1,3,  2328.1,2,  -999.0,9, -999.00,   7.8747,2,       25,-999.000,1,-999.0000,1, -999.00,9,  -999.0,9,  -999.0,   0.840,3, -999.00,1,  50.1854,2, -999.00,9,  289.10,  -999.0,9,  14.2021,     26.457,    35.5720,2,     -999.0,9,     -999.0,9,     -999.0,     -999.0,9,     -999.0
33RO20110926,        A10,      91,          1,         18,      11710,2,20111023,       1357,   -29.9998,   -37.1454,       2289,   339.9,  13.5785,  35.3196,2,  35.3208,2,    211.1,2,   211.6,2,     2.9,2,     9.0,2,    0.01,2,   0.546,4,   2.915,2,   1.656,2,   1.250,2,       2123,2,  2325.3,2,  -999.0,9, -999.00,   7.8598,2,       25,-999.000,1,-999.0000,1, -999.00,9,  -999.0,9,  -999.0,   1.004,3, -999.00,1,  49.1902,2, -999.00,9,  339.90,  -999.0,9,  13.5300,     26.524,    35.4874,2,     -999.0,9,     -999.0,9,     -999.0,     -999.0,9,     -999.0
33RO20110926,        A10,      91,          1,         17,      11023,2,20111023,       1357,   -29.9998,   -37.1454,       2289,   383.7,  12.8983,  35.2198,2,  35.2236,2,    210.8,2,   210.5,2,     3.4,2,    10.5,2,    0.02,2,   0.625,4,   2.990,2,   1.682,2,   1.161,2,     2128.1,2,  2320.1,2,  -999.0,9, -999.00,   7.8437,2,       25,-999.000,1,-999.0000,1, -999.00,9,  -999.0,9,  -999.0,   1.016,3, -999.00,1,  48.2829,2, -999.00,9,  383.70,  -999.0,9,  12.8453,     26.599,    35.3897,2,     -999.0,9,     -999.0,9,     -999.0,     -999.0,9,     -999.0
33RO20110926,        A10,      91,          1,         16,      11709,2,20111023,       1357,   -29.9998,   -37.1454,       2289,   425.2,  12.2218,  35.1246,2,  35.1184,2,    211.4,2,   211.4,2,     4.0,2,    12.3,2,    0.02,2,   0.708,4,   3.057,2,   1.704,2,   1.139,2,     2131.9,2,  2314.6,2,  -999.0,9, -999.00,   7.8257,2,       25,-999.000,1,-999.0000,1, -999.00,9,  -999.0,9,  -999.0,   1.156,3, -999.00,1,   48.078,2, -999.00,9,  425.20,  -999.0,9,  12.1650,     26.650,    35.2840,2,     -999.0,9,     -999.0,9,     -999.0,     -999.0,9,     -999.0
33RO20110926,        A10,      91,          1,         15,      11006,2,20111023,       1357,   -29.9998,   -37.1454,       2289,   479.4,  10.9036,  34.9344,2,  34.9344,2,    209.0,2,   208.4,2,     5.5,6,    15.2,6,    0.02,6,   0.853,4,   3.136,2,   1.707,2,   1.017,2,     2141.1,2,  2305.9,2,  -999.0,9, -999.00,   7.7877,2,       25,-999.000,1,-999.0000,1, -999.00,9,  -999.0,9,  -999.0,   1.390,3, -999.00,1,  46.2049,2, -999.00,9,  479.40,  -999.0,9,  10.8441,     26.751,    35.0991,2,     -999.0,9,     -999.0,9,     -999.0,     -999.0,9,     -999.0
33RO20110926,        A10,      91,          1,         14,      11708,2,20111023,       1357,   -29.9998,   -37.1454,       2289,   530.8,   9.9526,  34.7983,2,  34.8064,2,    206.1,2,   207.2,2,     6.9,2,    17.8,2,    0.01,2,   0.995,4,   3.180,2,   1.698,2,   0.969,2,     2146.8,2,  2300.1,2,  -999.0,9, -999.00,   7.7596,2,       25,-999.000,1,-999.0000,1, -999.00,9,  -999.0,9,  -999.0,   1.588,3, -999.00,1,  41.7951,2, -999.00,9,  530.80,  -999.0,9,   9.8903,     26.821,    34.9705,2,     -999.0,9,     -999.0,9,     -999.0,     -999.0,9,     -999.0
33RO20110926,        A10,      91,          1,         13,      11031,2,20111023,       1357,   -29.9998,   -37.1454,       2289,   629.5,   7.9376,  34.5621,2,  34.5599,2,    208.1,2,   208.5,2,    10.3,2,    22.6,2,    0.01,2,   1.254,4,   3.232,2,   1.676,2,   0.828,2,     2161.2,2,  2286.7,2,  -999.0,9, -999.00,   7.7074,2,       25,-999.000,1,-999.0000,1, -999.00,9,  -999.0,9,  -999.0,   2.231,3, -999.00,1,-999.0000,5, -999.00,9,  629.50,  -999.0,9,   7.8728,     26.945,    34.7229,2,     -999.0,9,     -999.0,9,     -999.0,     -999.0,9,     -999.0
33RO20110926,        A10,      91,          1,         12,      11027,2,20111023,       1357,   -29.9998,   -37.1454,       2289,   729.6,   6.2420,  34.3961,2,  34.3981,2,    216.7,2,   216.3,2,    14.2,2,    25.9,2,    0.01,2,   1.447,4,   3.234,2,   1.645,2,   0.816,2,     2169.1,2,  2285.5,2,  -999.0,9, -999.00,   7.6733,2,       25,-999.000,1,-999.0000,1, -999.00,9,  -999.0,9,  -999.0,   2.976,3, -999.00,1,  38.8098,2, -999.00,9,  729.60,  -999.0,9,   6.1759,     27.054,    34.5603,2,     -999.0,9,     -999.0,9,     -999.0,     -999.0,9,     -999.0
33RO20110926,        A10,      91,          1,         11,      11707,2,20111023,       1357,   -29.9998,   -37.1454,       2289,   828.9,   5.0613,  34.3177,2,  34.3189,2,    221.8,2,   222.3,2,    19.1,2,    28.1,2,    0.01,2,   1.597,4,   3.013,2,   1.495,2,   0.654,2,       2178,2,  2287.7,2,  -999.0,9, -999.00,   7.6543,2,       25,-999.000,1,-999.0000,1, -999.00,9,  -999.0,9,  -999.0,   3.263,3, -999.00,1,  39.8829,2, -999.00,9,  828.90,  -999.0,9,   4.9931,     27.136,    34.4807,2,     -999.0,9,     -999.0,9,     -999.0,     -999.0,9,     -999.0
33RO20110926,        A10,      91,          1,         10,      11003,2,20111023,       1357,   -29.9998,   -37.1454,       2289,   930.9,   4.4414,  34.3021,2,  34.3022,2,    221.9,2,   222.8,2,    24.1,2,    29.4,2,    0.01,2,   1.697,4,   2.716,2,   1.339,2,   0.598,2,       2185,2,  2291.2,2,  -999.0,9, -999.00,   7.6414,2,       25,-999.000,1,-999.0000,1, -999.00,9,  -999.0,9,  -999.0,   3.222,3, -999.00,1,  42.8976,2, -999.00,9,  930.90,  -999.0,9,   4.3686,     27.192,    34.4640,2,     -999.0,9,     -999.0,9,     -999.0,     -999.0,9,     -999.0
33RO20110926,        A10,      91,          1,          9,      11706,2,20111023,       1357,   -29.9998,   -37.1454,       2289,  1040.2,   3.8575,  34.3228,2,  34.3228,2,    213.5,2,   213.2,2,    31.9,6,    30.8,6,    0.01,6,   1.820,4,   2.109,2,   1.032,2,   0.391,2,     2198.9,2,  2298.3,2,  -999.0,9, -999.00,   7.6234,2,       25,-999.000,1,-999.0000,1, -999.00,9,  -999.0,9,  -999.0,   2.770,3, -999.00,1,  40.1463,2, -999.00,9, 1040.20,  -999.0,9,   3.7799,     27.270,    34.4847,2,     -999.0,9,     -999.0,9,     -999.0,     -999.0,9,     -999.0
33RO20110926,        A10,      91,          1,          8,      11033,2,20111023,       1357,   -29.9998,   -37.1454,       2289,  1165.5,   3.4501,  34.3797,2,  34.3805,2,    200.7,2,   200.8,2,    41.0,2,    32.1,2,    0.01,2,   1.971,4,   1.369,2,   0.663,2,   0.252,2,     2214.4,2,  2306.4,2,  -999.0,9, -999.00,   7.6014,2,       25,-999.000,9,-999.0000,1, -999.00,9,  -999.0,9,  -999.0,   2.238,3, -999.00,9,-999.0000,5, -999.00,9, 1165.50,  -999.0,9,   3.3656,     27.356,    34.5427,2,     -999.0,9,     -999.0,9,     -999.0,     -999.0,9,     -999.0
33RO20110926,        A10,      91,          1,          7,      11705,2,20111023,       1357,   -29.9998,   -37.1454,       2289,  1350.1,   3.0988,  34.4873,2,  34.4887,2,    191.6,2,   191.5,2,    49.9,2,    32.2,2,    0.01,2,   2.034,4,   0.706,2,   0.342,2,   0.089,2,     2225.1,2,    2318,2,  -999.0,9, -999.00,   7.5954,2,       25,-999.000,1,-999.0000,1, -999.00,9,  -999.0,9,  -999.0,   1.398,3, -999.00,9,  42.8878,2, -999.00,9, 1350.10,  -999.0,9,   3.0024,     27.477,    34.6513,2,     -999.0,9,     -999.0,9,     -999.0,     -999.0,9,     -999.0
33RO20110926,        A10,      91,          1,          6,      11029,2,20111023,       1357,   -29.9998,   -37.1454,       2289,  1499.2,   2.9912,  34.5720,2,  34.5728,2,    188.6,2,   188.8,2,    52.7,2,    31.6,2,    0.01,2,   2.024,4,   0.356,2,   0.172,2,   0.055,2,       2231,6,  2324.3,6,  -999.0,9, -999.00,   7.6024,6,       25,-999.000,9,-999.0000,1, -999.00,9,  -999.0,9,  -999.0,   0.886,3, -999.00,9,  40.9268,2, -999.00,9, 1499.20,  -999.0,9,   2.8835,     27.555,    34.7358,2,     -999.0,9,     -999.0,9,     -999.0,     -999.0,9,     -999.0
33RO20110926,        A10,      91,          1,          5,      11704,2,20111023,       1357,   -29.9998,   -37.1454,       2289,  1677.5,   2.8887,  34.6638,2,  34.6631,2,    195.9,2,   195.8,2,    52.7,2,    29.9,2,    0.01,2,   1.927,4,   0.178,2,   0.087,2,   0.000,2,     2224.5,2,  2328.2,2,  -999.0,9, -999.00,   7.6242,2,       25,-999.000,1,-999.0000,1, -999.00,9,  -999.0,9,  -999.0,   0.521,3, -999.00,9,  41.5707,2, -999.00,9, 1677.50,  -999.0,9,   2.7670,     27.637,    34.8266,2,     -999.0,9,     -999.0,9,     -999.0,     -999.0,9,     -999.0
33RO20110926,        A10,      91,          1,          4,      11030,2,20111023,       1357,   -29.9998,   -37.1454,       2289,  1800.7,   2.8566,  34.7151,2,  34.7160,2,    202.1,2,     203,2,    52.0,6,    28.5,6,    0.02,6,   1.844,4,   0.106,2,   0.052,2,   0.000,2,     2220.6,2,  2329.9,2,  -999.0,9, -999.00,   7.6392,2,       25,-999.000,9,-999.0000,1, -999.00,9,  -999.0,9,  -999.0,   0.391,3, -999.00,9,   38.322,2, -999.00,9, 1800.70,  -999.0,9,   2.7246,     27.683,    34.8797,2,     -999.0,9,     -999.0,9,     -999.0,     -999.0,9,     -999.0
33RO20110926,        A10,      91,          1,          3,      11703,2,20111023,       1357,   -29.9998,   -37.1454,       2289,  1973.5,   2.8378,  34.7763,2,  34.7770,2,    212.6,2,   213.8,2,    48.5,2,    26.8,2,    0.01,2,   1.723,4,   0.056,2,   0.029,2,   0.000,2,     2212.2,2,  2330.2,2,  -999.0,9, -999.00,   7.6623,2,       25,-999.000,1,-999.0000,1, -999.00,9,  -999.0,9,  -999.0,   0.286,3, -999.00,9,  38.0293,2, -999.00,9, 1973.50,  -999.0,9,   2.6906,     27.735,    34.9410,2,     -999.0,9,     -999.0,9,     -999.0,     -999.0,9,     -999.0
33RO20110926,        A10,      91,          1,          2,      11702,2,20111023,       1357,   -29.9998,   -37.1454,       2289,  2075.8,   2.8283,  34.8031,2,  34.8034,2,    218.9,2,   219.4,2,    46.4,2,    25.9,2,    0.01,2,   1.660,4,   0.042,2,   0.023,2,   0.023,2,     2207.6,2,  2328.1,2,  -999.0,9, -999.00,   7.6743,2,       25,-999.000,1,-999.0000,1, -999.00,9,  -999.0,9,  -999.0,   0.252,3, -999.00,9,  45.2976,2, -999.00,9, 2075.80,  -999.0,9,   2.6719,     27.757,    34.9675,6,     -999.0,9,     -999.0,9,     -999.0,     -999.0,9,     -999.0
33RO20110926,        A10,      91,          1,          1,      11701,2,20111023,       1357,   -29.9998,   -37.1454,       2289,  2301.2,   2.8309,  34.8448,2,  34.8466,2,    228.9,2,   229.3,2,    42.3,6,    24.1,6,    0.01,6,   1.535,4,   0.032,6,   0.018,6,   0.030,6,     2200.3,6,  2328.6,6,  -999.0,9, -999.00,   7.6944,6,       25,-999.000,1,-999.0000,1, -999.00,9,  -999.0,9,  -999.0,   0.227,3, -999.00,9,  40.9073,2, -999.00,9, 2301.20,  -999.0,9,   2.6535,     27.794,    35.0109,2,     -999.0,9,     -999.0,9,     -999.0,     -999.0,9,     -999.0