BOTTLE,20220815CCHSIOAMB
EXPOCODE,SECT_ID,STNNBR,CASTNO,SAMPNO,BTLNBR,BTLNBR_FLAG_W,DATE,TIME,LATITUDE,LONGITUDE,DEPTH,CTDPRS,CTDTMP,CTDSAL,CTDSAL_FLAG_W,SALNTY,SALNTY_FLAG_W,CTDOXY,CTDOXY_FLAG_W,OXYGEN,OXYGEN_FLAG_W,SILCAT,SILCAT_FLAG_W,NITRAT,NITRAT_FLAG_W,NITRIT,NITRIT_FLAG_W,PHSPHT,PHSPHT_FLAG_W,CFC-11,CFC-11_FLAG_W,CFC-12,CFC-12_FLAG_W,SF6,SF6_FLAG_W,TCARBN,TCARBN_FLAG_W,ALKALI,ALKALI_FLAG_W,PCO2,PCO2_FLAG_W,PCO2TMP,PH_SWS,PH_SWS_FLAG_W,PH_TMP,TRITUM,TRITUM_FLAG_W,HELIUM,HELIUM_FLAG_W,DELC13,DELC13_FLAG_W,DELC14,DELC14_FLAG_W,C14ERR,CCL4,CCL4_FLAG_W,DELO18,DELO18_FLAG_W,DOC,DOC_FLAG_W,TDN,TDN_FLAG_W,CTDRAW,14C-DOC,14C-DOC_FLAG_W,THETA,SIG0,SALTREF,SALTREF_FLAG_W,BLACKC,BLACKC_FLAG_W,PIGMENTS,PIGMENTS_FLAG_W,14C-DOCERR,13C-DOC,13C-DOC_FLAG_W,13C-DOCERR
,,,,,,,,,,,METERS,DBAR,ITS-90,PSS-78,,PSS-78,,UMOL/KG,,UMOL/KG,,UMOL/KG,,UMOL/KG,,UMOL/KG,,UMOL/KG,,PMOL/KG,,PMOL/KG,,FMOL/KG,,UMOL/KG,,UMOL/KG,,UATM,,DEG C,,,DEG C,TU,,NMOL/KG,,/MILLE,,/MILLE,,/MILLE,PMOL/KG,,/MILLE,,UMOL/KG,,UMOL/KG,,DBAR,/MILLE,,DEG C,KG/M^3,G/KG,,,,,,/MILLE,/MILLE,,/MILLE
33RO20110926,        A10,     112,          1,         24,      11714,2,20111028,       2018,   -28.1485,   -45.8288,       2753,     5.2,  22.2936,  36.7967,2,  36.8008,2,    218.6,2,   218.8,2,     0.7,2,     0.0,2,    0.01,2,   0.043,4,   1.914,2,   1.174,2,   1.247,2,     2092.2,6,  2410.7,6,  -999.0,9, -999.00,   8.0436,6,       25,-999.000,9,-999.0000,9, -999.00,9,  -999.0,9,  -999.0,   2.328,4, -999.00,9,-999.0000,9, -999.00,9,    5.20,  -999.0,9,  22.2926,     25.499,    36.9743,2,     -999.0,9,     -999.0,1,     -999.0,     -999.0,9,     -999.0
33RO20110926,        A10,     112,          1,         23,      11713,2,20111028,       2018,   -28.1485,   -45.8288,       2753,    30.3,  21.9577,  36.7987,2,  36.7997,2,    219.1,2,   219.5,2,     0.7,2,     0.0,2,    0.01,2,   0.044,4,-999.000,9,-999.000,9,-999.000,9,-999.000000,9,  2410.3,2,  -999.0,9, -999.00,   8.0451,2,       25,-999.000,9,-999.0000,9, -999.00,9,  -999.0,9,  -999.0,-999.000,5, -999.00,9,-999.0000,9, -999.00,9,   30.30,  -999.0,9,  21.9517,     25.597,    36.9732,2,     -999.0,9,     -999.0,9,     -999.0,     -999.0,9,     -999.0
33RO20110926,        A10,     112,          1,         22,      11712,2,20111028,       2018,   -28.1485,   -45.8288,       2753,    89.9,  21.6678,  36.8334,2,  36.8330,2,    213.3,2,   212.3,2,     0.7,2,     0.2,2,    0.17,2,   0.060,4,-999.000,9,-999.000,9,-999.000,9,-999.000000,9,  2413.1,2,  -999.0,9, -999.00,     8.04,2,       25,-999.000,9,-999.0000,9, -999.00,9,  -999.0,9,  -999.0,-999.000,5, -999.00,9,-999.0000,9, -999.00,9,   89.90,  -999.0,9,  21.6501,     25.711,    37.0067,2,     -999.0,9,     -999.0,1,     -999.0,     -999.0,9,     -999.0
33RO20110926,        A10,     112,          1,         21,      11010,2,20111028,       2018,   -28.1485,   -45.8288,       2753,   114.3,  21.3713,  36.7731,2,  36.7834,2,    209.5,2,   210.8,2,     0.8,2,     0.5,2,    0.09,2,   0.075,4,-999.000,9,-999.000,9,-999.000,9,-999.000000,9,  2409.6,2,  -999.0,9, -999.00,    8.033,2,       25,-999.000,9,-999.0000,9, -999.00,9,  -999.0,9,  -999.0,-999.000,5, -999.00,9,-999.0000,9, -999.00,9,  114.30,  -999.0,9,  21.3489,     25.750,    36.9569,2,     -999.0,9,     -999.0,1,     -999.0,     -999.0,9,     -999.0
33RO20110926,        A10,     112,          1,         20,      11715,2,20111028,       2018,   -28.1485,   -45.8288,       2753,   154.5,  19.8491,  36.4383,2,  36.4397,2,    208.2,2,   210.5,2,     1.0,2,     1.2,2,    0.02,2,   0.118,4,-999.000,9,-999.000,9,-999.000,9,-999.000000,9,  2388.2,2,  -999.0,9, -999.00,    8.007,2,       25,-999.000,9,-999.0000,9, -999.00,9,  -999.0,9,  -999.0,-999.000,5, -999.00,9,-999.0000,9, -999.00,9,  154.50,  -999.0,9,  19.8205,     25.909,    36.6115,2,     -999.0,9,     -999.0,9,     -999.0,     -999.0,9,     -999.0
33RO20110926,        A10,     112,          1,         19,      11007,2,20111028,       2018,   -28.1485,   -45.8288,       2753,   225.4,  17.0555,  35.8211,2,  35.8346,2,    201.9,2,     202,2,     1.6,6,     3.7,6,    0.02,6,   0.254,4,   2.449,2,   1.460,2,   1.249,2,     2106.2,2,  2352.2,2,  -999.0,9, -999.00,   7.9359,2,       25,-999.000,9,-999.0000,9, -999.00,9,  -999.0,9,  -999.0,   0.702,3, -999.00,9,-999.0000,9, -999.00,9,  225.40,  -999.0,9,  17.0180,     26.150,    36.0035,2,     -999.0,9,     -999.0,9,     -999.0,     -999.0,9,     -999.0
33RO20110926,        A10,     112,          1,         18,      11710,2,20111028,       2018,   -28.1485,   -45.8288,       2753,   279.8,  15.6816,  35.5994,2,  35.5995,2,    205.6,2,   202.2,2,     2.3,2,     5.8,2,    0.01,2,   0.370,4,-999.000,9,-999.000,9,-999.000,9,-999.000000,9,  -999.0,9,  -999.0,9, -999.00,-999.0000,5,  -999.00,-999.000,9,-999.0000,9, -999.00,9,  -999.0,9,  -999.0,-999.000,9, -999.00,9,-999.0000,9, -999.00,9,  279.80,  -999.0,9,  15.6376,     26.296,    35.7674,2,     -999.0,9,     -999.0,9,     -999.0,     -999.0,9,     -999.0
33RO20110926,        A10,     112,          1,         17,      11023,2,20111028,       2018,   -28.1485,   -45.8288,       2753,   349.8,  14.5543,  35.4521,2,  35.4542,2,    206.6,2,   206.2,2,     2.7,2,     7.7,2,    0.01,2,   0.450,4,-999.000,9,-999.000,9,-999.000,9,-999.000000,9,  2332.5,2,  -999.0,9, -999.00,   7.8768,2,       25,-999.000,9,-999.0000,9, -999.00,9,  -999.0,9,  -999.0,-999.000,9, -999.00,9,-999.0000,9, -999.00,9,  349.80,  -999.0,9,  14.5019,     26.433,    35.6214,2,     -999.0,9,     -999.0,9,     -999.0,     -999.0,9,     -999.0
33RO20110926,        A10,     112,          1,         16,      11709,2,20111028,       2018,   -28.1485,   -45.8288,       2753,   450.6,  12.8886,  35.2129,2,  35.2165,2,    207.5,2,     207,2,     3.7,2,    11.1,2,    0.01,2,   0.603,4,-999.000,9,-999.000,9,-999.000,9,-999.000000,9,  -999.0,9,  -999.0,9, -999.00,-999.0000,5,  -999.00,-999.000,9,-999.0000,9, -999.00,9,  -999.0,9,  -999.0,-999.000,9, -999.00,9,-999.0000,9, -999.00,9,  450.60,  -999.0,9,  12.8263,     26.592,    35.3826,2,     -999.0,9,     -999.0,9,     -999.0,     -999.0,9,     -999.0
33RO20110926,        A10,     112,          1,         15,      11006,2,20111028,       2018,   -28.1485,   -45.8288,       2753,   550.2,  10.7023,  34.9014,2,  34.9069,2,    203.5,2,   202.9,2,     6.0,6,    16.4,6,    0.01,6,   0.843,4,   3.108,2,   1.676,2,   1.001,2,     2140.9,2,  2303.7,2,  -999.0,9, -999.00,   7.7776,2,       25,-999.000,9,-999.0000,9, -999.00,9,  -999.0,9,  -999.0,   1.469,3, -999.00,9,-999.0000,9, -999.00,9,  550.20,  -999.0,9,  10.6346,     26.772,    35.0715,2,     -999.0,9,     -999.0,9,     -999.0,     -999.0,9,     -999.0
33RO20110926,        A10,     112,          1,         14,      11708,2,20111028,       2018,   -28.1485,   -45.8288,       2753,   650.3,   8.6390,  34.6420,2,  34.6376,2,    204.2,2,   204.2,2,     9.5,2,    21.4,2,    0.01,2,   1.110,4,-999.000,9,-999.000,9,-999.000,9,-999.000000,9,  -999.0,9,  -999.0,9, -999.00,-999.0000,5,  -999.00,-999.000,9,-999.0000,9, -999.00,9,  -999.0,9,  -999.0,-999.000,9, -999.00,9,-999.0000,9, -999.00,9,  650.30,  -999.0,9,   8.5686,     26.901,    34.8009,2,     -999.0,9,     -999.0,9,     -999.0,     -999.0,9,     -999.0
33RO20110926,        A10,     112,          1,         13,      11031,2,20111028,       2018,   -28.1485,   -45.8288,       2753,   751.0,   6.4816,  34.4102,2,  34.4124,2,    220.1,2,   218.3,2,    13.1,2,    25.2,2,    0.01,2,   1.318,4,-999.000,9,-999.000,9,-999.000,9,-999.000000,9,  2286.4,2,  -999.0,9, -999.00,   7.6845,2,       25,-999.000,9,-999.0000,9, -999.00,9,  -999.0,9,  -999.0,-999.000,9, -999.00,9,-999.0000,9, -999.00,9,  751.00,  -999.0,9,   6.4121,     27.034,    34.5747,2,     -999.0,9,     -999.0,9,     -999.0,     -999.0,9,     -999.0
33RO20110926,        A10,     112,          1,         12,      11027,2,20111028,       2018,   -28.1485,   -45.8288,       2753,   900.3,   4.5976,  34.2958,2,  34.2978,2,    223.9,2,   222.6,2,    22.1,2,    29.2,2,    0.00,2,   1.575,4,-999.000,9,-999.000,9,-999.000,9,-999.000000,9,  -999.0,9,  -999.0,9, -999.00,-999.0000,5,  -999.00,-999.000,9,-999.0000,9, -999.00,9,  -999.0,9,  -999.0,-999.000,9, -999.00,9,-999.0000,9, -999.00,9,  900.30,  -999.0,9,   4.5263,     27.172,    34.4596,2,     -999.0,9,     -999.0,9,     -999.0,     -999.0,9,     -999.0
33RO20110926,        A10,     112,          1,         11,      11707,2,20111028,       2018,   -28.1485,   -45.8288,       2753,  1010.7,   3.9707,  34.3195,2,  34.3228,2,    211.9,2,     212,2,    30.9,2,    31.0,2,    0.00,2,   1.749,4,   2.075,2,   1.006,2,   0.349,2,     2195.7,2,  2297.5,2,  -999.0,9, -999.00,   7.6262,2,       25,-999.000,9,-999.0000,9, -999.00,9,  -999.0,9,  -999.0,   3.109,3, -999.00,9,-999.0000,9, -999.00,9, 1010.70,  -999.0,9,   3.8947,     27.259,    34.4846,2,     -999.0,9,     -999.0,9,     -999.0,     -999.0,9,     -999.0
33RO20110926,        A10,     112,          1,         10,      11003,2,20111028,       2018,   -28.1485,   -45.8288,       2753,  1134.6,   3.6311,  34.3957,2,  34.3987,2,    195.5,2,   195.5,2,    40.0,2,    32.4,2,    0.00,2,   1.899,4,-999.000,9,-999.000,9,-999.000,9,-999.000000,9,  2307.7,2,  -999.0,9, -999.00,   7.6032,2,       25,-999.000,9,-999.0000,9, -999.00,9,  -999.0,9,  -999.0,-999.000,9, -999.00,9,-999.0000,9, -999.00,9, 1134.60,  -999.0,9,   3.5476,     27.353,    34.5609,2,     -999.0,9,     -999.0,9,     -999.0,     -999.0,9,     -999.0
33RO20110926,        A10,     112,          1,          9,      11706,2,20111028,       2018,   -28.1485,   -45.8288,       2753,  1275.1,   3.2185,  34.4679,2,  34.4706,2,    190.4,2,   189.9,2,    48.0,6,    32.7,6,    0.00,6,   1.982,4,-999.000,9,-999.000,9,-999.000,9,-999.000000,9,  2316.5,2,  -999.0,9, -999.00,   7.5952,2,       25,-999.000,9,-999.0000,9, -999.00,9,  -999.0,9,  -999.0,-999.000,9, -999.00,9,-999.0000,9, -999.00,9, 1275.10,  -999.0,9,   3.1271,     27.451,    34.6331,2,     -999.0,9,     -999.0,9,     -999.0,     -999.0,9,     -999.0
33RO20110926,        A10,     112,          1,          8,      11033,2,20111028,       2018,   -28.1485,   -45.8288,       2753,  1400.2,   3.2429,  34.5630,2,  34.5648,2,    188.2,2,   188.4,2,    48.5,2,    31.6,2,    0.00,2,   1.944,4,   0.345,2,   0.166,2,   0.061,2,     2223.2,2,  2320.6,6,  -999.0,9, -999.00,   7.6048,6,       25,-999.000,9,-999.0000,9, -999.00,9,  -999.0,9,  -999.0,   0.919,3, -999.00,9,-999.0000,9, -999.00,9, 1400.20,  -999.0,9,   3.1407,     27.525,    34.7278,2,     -999.0,9,     -999.0,9,     -999.0,     -999.0,9,     -999.0
33RO20110926,        A10,     112,          1,          7,      11705,2,20111028,       2018,   -28.1485,   -45.8288,       2753,  1551.7,   3.3455,  34.6827,2,  34.6965,2,    193.9,2,   194.9,2,    44.7,2,    29.6,2,    0.00,2,   1.798,4,-999.000,9,-999.000,9,-999.000,9,-999.000000,9,  2323.3,2,  -999.0,9, -999.00,   7.6292,2,       25,-999.000,9,-999.0000,9, -999.00,9,  -999.0,9,  -999.0,-999.000,9, -999.00,9,-999.0000,9, -999.00,9, 1551.70,  -999.0,9,   3.2290,     27.621,    34.8601,2,     -999.0,9,     -999.0,9,     -999.0,     -999.0,9,     -999.0
33RO20110926,        A10,     112,          1,          6,      11029,2,20111028,       2018,   -28.1485,   -45.8288,       2753,  1651.8,   3.6601,  34.7948,2,  34.7983,2,    205.1,2,     206,2,    35.0,2,    26.7,2,    0.00,2,   1.564,4,   0.130,2,   0.066,2,   0.000,2,-999.000000,9,  -999.0,9,  -999.0,9, -999.00,-999.0000,5,  -999.00,-999.000,9,-999.0000,9, -999.00,9,  -999.0,9,  -999.0,   0.526,3, -999.00,9,-999.0000,9, -999.00,9, 1651.80,  -999.0,9,   3.5306,     27.673,    34.9624,2,     -999.0,9,     -999.0,9,     -999.0,     -999.0,9,     -999.0
33RO20110926,        A10,     112,          1,          5,      11704,2,20111028,       2018,   -28.1485,   -45.8288,       2753,  1874.8,   3.7725,  34.9030,2,  34.9035,2,    225.9,2,     227,2,    25.9,2,    23.0,2,    0.00,2,   1.300,4,   0.183,2,   0.093,2,   0.023,2,-999.000000,9,  -999.0,9,  -999.0,9, -999.00,-999.0000,5,  -999.00,-999.000,9,-999.0000,9, -999.00,9,  -999.0,9,  -999.0,   0.663,3, -999.00,9,-999.0000,9, -999.00,9, 1874.80,  -999.0,9,   3.6205,     27.748,    35.0681,2,     -999.0,9,     -999.0,9,     -999.0,     -999.0,9,     -999.0
33RO20110926,        A10,     112,          1,          4,      11030,2,20111028,       2018,   -28.1485,   -45.8288,       2753,  2075.4,   3.6692,  34.9481,2,  34.9530,2,    242.7,2,   243.1,2,    21.5,6,    20.6,6,    0.00,6,   1.142,4,   0.256,2,   0.128,2,   0.000,2,     2174.2,2,  2317.8,2,  -999.0,9, -999.00,   7.7274,2,       25,-999.000,9,-999.0000,9, -999.00,9,  -999.0,9,  -999.0,   0.805,3, -999.00,9,-999.0000,9, -999.00,9, 2075.40,  -999.0,9,   3.4994,     27.800,    35.1178,2,     -999.0,9,     -999.0,9,     -999.0,     -999.0,9,     -999.0
33RO20110926,        A10,     112,          1,          3,      11703,2,20111028,       2018,   -28.1485,   -45.8288,       2753,  2250.6,   3.4165,  34.9428,2,  34.9449,2,    247.3,2,   247.3,2,    24.0,2,    20.5,2,    0.00,2,   1.164,4,   0.213,6,   0.107,6,   0.017,6,-999.000000,9,  2319.6,2,  -999.0,9, -999.00,   7.7286,2,       25,-999.000,9,-999.0000,9, -999.00,9,  -999.0,9,  -999.0,   0.738,3, -999.00,9,-999.0000,9, -999.00,9, 2250.60,  -999.0,9,   3.2337,     27.819,    35.1097,2,     -999.0,9,     -999.0,9,     -999.0,     -999.0,9,     -999.0
33RO20110926,        A10,     112,          1,          2,      11702,2,20111028,       2018,   -28.1485,   -45.8288,       2753,  2399.9,   3.2413,  34.9419,2,  34.9434,2,    250.2,2,   250.1,2,    25.2,2,    20.4,2,    0.00,2,   1.164,4,   0.181,2,   0.091,2,   0.037,2,-999.000000,9,  2323.1,2,  -999.0,9, -999.00,   7.7346,2,       25,-999.000,9,-999.0000,9, -999.00,9,  -999.0,9,  -999.0,   0.668,3, -999.00,9,-999.0000,9, -999.00,9, 2399.90,  -999.0,9,   3.0469,     27.834,    35.1082,6,     -999.0,9,     -999.0,9,     -999.0,     -999.0,9,     -999.0
33RO20110926,        A10,     112,          1,          1,      11701,2,20111028,       2018,   -28.1485,   -45.8288,       2753,  2745.9,   2.7944,  34.9193,2,  34.9231,2,    250.8,2,   250.8,2,    32.9,2,    21.0,2,    0.00,2,   1.267,4,   0.099,2,   0.052,2,   0.000,2,     2180.5,2,  2327.7,2,  -999.0,9, -999.00,   7.7336,6,       25,-999.000,9,-999.0000,9, -999.00,9,  -999.0,9,  -999.0,   0.522,3, -999.00,9,-999.0000,9, -999.00,9, 2745.90,  -999.0,9,   2.5741,     27.862,    35.0877,2,     -999.0,9,     -999.0,9,     -999.0,     -999.0,9,     -999.0