BOTTLE,20220815CCHSIOAMB
EXPOCODE,SECT_ID,STNNBR,CASTNO,SAMPNO,BTLNBR,BTLNBR_FLAG_W,DATE,TIME,LATITUDE,LONGITUDE,DEPTH,CTDPRS,CTDTMP,CTDSAL,CTDSAL_FLAG_W,SALNTY,SALNTY_FLAG_W,CTDOXY,CTDOXY_FLAG_W,OXYGEN,OXYGEN_FLAG_W,SILCAT,SILCAT_FLAG_W,NITRAT,NITRAT_FLAG_W,NITRIT,NITRIT_FLAG_W,PHSPHT,PHSPHT_FLAG_W,CFC-11,CFC-11_FLAG_W,CFC-12,CFC-12_FLAG_W,SF6,SF6_FLAG_W,TCARBN,TCARBN_FLAG_W,ALKALI,ALKALI_FLAG_W,PCO2,PCO2_FLAG_W,PCO2TMP,PH_SWS,PH_SWS_FLAG_W,PH_TMP,TRITUM,TRITUM_FLAG_W,HELIUM,HELIUM_FLAG_W,DELC13,DELC13_FLAG_W,DELC14,DELC14_FLAG_W,C14ERR,CCL4,CCL4_FLAG_W,DELO18,DELO18_FLAG_W,DOC,DOC_FLAG_W,TDN,TDN_FLAG_W,CTDRAW,14C-DOC,14C-DOC_FLAG_W,THETA,SIG0,SALTREF,SALTREF_FLAG_W,BLACKC,BLACKC_FLAG_W,PIGMENTS,PIGMENTS_FLAG_W,14C-DOCERR,13C-DOC,13C-DOC_FLAG_W,13C-DOCERR
,,,,,,,,,,,METERS,DBAR,ITS-90,PSS-78,,PSS-78,,UMOL/KG,,UMOL/KG,,UMOL/KG,,UMOL/KG,,UMOL/KG,,UMOL/KG,,PMOL/KG,,PMOL/KG,,FMOL/KG,,UMOL/KG,,UMOL/KG,,UATM,,DEG C,,,DEG C,TU,,NMOL/KG,,/MILLE,,/MILLE,,/MILLE,PMOL/KG,,/MILLE,,UMOL/KG,,UMOL/KG,,DBAR,/MILLE,,DEG C,KG/M^3,G/KG,,,,,,/MILLE,/MILLE,,/MILLE
33RO20110926,        A10,      31,          1,         24,      11714,2,20111005,       1416,   -29.8667,     0.5419,       2963,     4.4,  18.2742,  35.8073,2,  35.8081,2,    240.7,2,   241.7,2,     1.5,2,     0.0,2,    0.00,2,   0.159,2,   2.424,6,   1.459,6,   1.501,6,     2083.7,6,  2352.9,2,  -999.0,9, -999.00,   7.9759,2,       25,-999.000,9,-999.0000,9, -999.00,9,  -999.0,9,  -999.0,   2.874,3, -999.00,9,  59.3268,2,    3.68,2,    4.40,  -999.0,9,  18.2734,     25.827,    35.9770,2,     -999.0,9,     -999.0,1,     -999.0,     -999.0,9,     -999.0
33RO20110926,        A10,      31,          1,         23,      11713,2,20111005,       1416,   -29.8667,     0.5419,       2963,    73.3,  17.0113,  35.7539,2,  35.7560,2,    240.9,2,   243.7,2,     1.5,2,     0.1,2,    0.02,2,   0.183,2,   2.441,2,   1.466,2,   1.482,2,     2082.7,2,  2349.4,2,  -999.0,9, -999.00,   7.9759,2,       25,-999.000,9,-999.0000,9, -999.00,9,  -999.0,9,  -999.0,   2.398,3, -999.00,9,  60.9659,2,    4.56,2,   73.30,  -999.0,9,  16.9992,     26.097,    35.9246,2,     -999.0,9,     -999.0,1,     -999.0,     -999.0,9,     -999.0
33RO20110926,        A10,      31,          1,         22,      11712,2,20111005,       1416,   -29.8667,     0.5419,       2963,   125.0,  16.4317,  35.6739,2,  35.6758,2,    234.6,2,   234.3,2,     2.0,2,     1.3,2,    0.52,2,   0.271,2,   2.491,2,   1.496,2,   1.498,2,       2089,2,  2342.7,2,  -999.0,9, -999.00,   7.9539,2,       25,-999.000,9,-999.0000,9,    1.15,2,    48.1,2,     3.0,   1.941,3, -999.00,9,  57.0049,2,    5.34,2,  125.00,  -999.0,9,  16.4114,     26.169,    35.8441,2,     -999.0,9,     -999.0,1,     -999.0,     -999.0,9,     -999.0
33RO20110926,        A10,      31,          1,         21,      11010,2,20111005,       1416,   -29.8667,     0.5419,       2963,   185.2,  15.1133,  35.4507,2,  35.4572,2,    222.2,2,   221.9,2,     2.6,2,     4.8,2,    0.02,2,   0.462,2,   2.672,2,   1.582,2,   1.449,2,     2104.4,2,  -999.0,5,  -999.0,9, -999.00,-999.0000,5,  -999.00,-999.000,9,-999.0000,9, -999.00,9,  -999.0,9,  -999.0,   1.138,3, -999.00,9,  55.0341,2,    8.88,3,  185.20,  -999.0,9,  15.0850,     26.299,    35.6244,2,     -999.0,9,     -999.0,9,     -999.0,     -999.0,9,     -999.0
33RO20110926,        A10,      31,          1,         20,      11715,2,20111005,       1416,   -29.8667,     0.5419,       2963,   244.1,  13.7348,  35.2221,2,  35.2246,2,    221.2,2,     221,2,     3.0,2,     7.2,2,    0.01,2,   0.614,2,   2.872,2,   1.684,2,   1.445,2,     2110.8,2,  2314.7,2,  -999.0,9, -999.00,   7.8697,2,       25,-999.000,9,-999.0000,9, -999.00,9,  -999.0,9,  -999.0,   0.938,3, -999.00,9,  49.2878,2, -999.00,9,  244.10,  -999.0,9,  13.6998,     26.416,    35.3907,2,     -999.0,9,     -999.0,9,     -999.0,     -999.0,9,     -999.0
33RO20110926,        A10,      31,          1,         19,      11007,2,20111005,       1416,   -29.8667,     0.5419,       2963,   319.0,  12.7302,  35.1031,2,  35.1033,2,    218.0,2,   216.7,2,     3.7,6,    10.1,6,    0.01,6,   0.777,6,   3.019,2,   1.739,2,   1.382,2,     2121.9,2,  2309.1,2,  -999.0,9, -999.00,   7.8366,2,       25,-999.000,9,-999.0000,9, -999.00,9,  -999.0,9,  -999.0,   1.000,3, -999.00,9,  47.9512,2, -999.00,9,  319.00,  -999.0,9,  12.6867,     26.537,    35.2689,2,     -999.0,9,     -999.0,9,     -999.0,     -999.0,9,     -999.0
33RO20110926,        A10,      31,          1,         18,      11710,2,20111005,       1416,   -29.8667,     0.5419,       2963,   418.8,  11.2793,  34.9520,2,  34.9513,2,    212.9,2,   209.4,2,     5.5,2,    14.5,2,    0.00,2,   1.058,2,   3.158,2,   1.755,2,   1.217,2,     2137.4,2,  2302.8,2,  -999.0,9, -999.00,   7.7895,2,       25,-999.000,9,-999.0000,9, -999.00,9,  -999.0,9,  -999.0,   1.030,3, -999.00,9,  48.6732,2, -999.00,9,  418.80,  -999.0,9,  11.2263,     26.696,    35.1161,2,     -999.0,9,     -999.0,9,     -999.0,     -999.0,9,     -999.0
33RO20110926,        A10,      31,          1,         17,      11023,2,20111005,       1416,   -29.8667,     0.5419,       2963,   518.4,   9.5903,  34.7463,2,  34.7525,2,    197.7,2,   195.6,2,     9.0,2,    19.8,2,    0.00,2,   1.397,2,   3.101,2,   1.680,2,   1.036,2,     2158.3,3,  2293.8,2,  -999.0,9, -999.00,   7.7214,2,       25,-999.000,9,-999.0000,9, -999.00,9,  -999.0,9,  -999.0,   1.210,3, -999.00,9,   48.361,2, -999.00,9,  518.40,  -999.0,9,   9.5309,     26.835,    34.9163,2,     -999.0,9,     -999.0,9,     -999.0,     -999.0,9,     -999.0
33RO20110926,        A10,      31,          1,         16,      11709,2,20111005,       1416,   -29.8667,     0.5419,       2963,   609.9,   7.8709,  34.5605,2,  34.5594,2,    201.3,2,   199.5,2,    13.0,2,    23.7,2,    0.00,2,   1.662,2,   3.050,2,   1.610,2,   0.923,2,     2168.7,3,  2291.6,2,  -999.0,9, -999.00,   7.6815,2,       25,-999.000,9,-999.0000,9, -999.00,9,  -999.0,9,  -999.0,   1.571,3, -999.00,9,  46.0585,2, -999.00,9,  609.90,  -999.0,9,   7.8085,     26.958,    34.7224,2,     -999.0,9,     -999.0,9,     -999.0,     -999.0,9,     -999.0
33RO20110926,        A10,      31,          1,         15,      11006,2,20111005,       1416,   -29.8667,     0.5419,       2963,   709.6,   6.1813,  34.4137,2,  34.4130,2,    200.4,2,   201.5,2,    18.2,2,    28.0,2,    0.00,2,   1.927,2,   2.908,2,   1.496,2,   0.751,2,     2184.5,3,  2290.9,2,  -999.0,9, -999.00,   7.6434,3,       25,-999.000,9,-999.0000,9, -999.00,9,  -999.0,9,  -999.0,   1.888,3, -999.00,9,  41.6488,2, -999.00,9,  709.60,  -999.0,9,   6.1174,     27.071,    34.5752,2,     -999.0,9,     -999.0,9,     -999.0,     -999.0,9,     -999.0
33RO20110926,        A10,      31,          1,         14,      11708,2,20111005,       1416,   -29.8667,     0.5419,       2963,   819.4,   4.9812,  34.3518,2,  34.3508,2,    205.0,2,   204.3,2,    24.9,2,    30.2,2,    0.00,2,   2.093,2,   2.561,2,   1.286,2,   0.609,2,     2194.8,3,  2294.2,2,  -999.0,9, -999.00,   7.6224,3,       25,-999.000,9,-999.0000,9, -999.00,9,  -999.0,9,  -999.0,   1.927,3, -999.00,9,  41.5024,2, -999.00,9,  819.40,  -999.0,9,   4.9143,     27.170,    34.5127,2,     -999.0,9,     -999.0,9,     -999.0,     -999.0,9,     -999.0
33RO20110926,        A10,      31,          1,         13,      11031,2,20111005,       1416,   -29.8667,     0.5419,       2963,   920.2,   4.2050,  34.3629,2,  34.3627,2,    199.1,2,   199.9,2,    34.4,2,    32.0,2,    0.00,2,   2.223,2,   1.957,2,   0.964,2,   0.407,2,     2207.2,2,  2301.2,2,  -999.0,9, -999.00,   7.6044,3,       25,-999.000,9,-999.0000,9, -999.00,9,  -999.0,9,  -999.0,   1.650,3, -999.00,9,  39.1122,2, -999.00,9,  920.20,  -999.0,9,   4.1347,     27.265,    34.5248,2,     -999.0,9,     -999.0,9,     -999.0,     -999.0,9,     -999.0
33RO20110926,        A10,      31,          1,         12,      11027,2,20111005,       1416,   -29.8667,     0.5419,       2963,  1019.6,   3.9169,  34.3862,2,  34.3855,2,    193.7,2,   192.8,2,    39.3,2,    32.7,2,    0.00,2,   2.269,2,   1.609,2,   0.788,2,   0.329,2,     2215.9,3,  2302.8,2,  -999.0,9, -999.00,   7.5992,2,       25,-999.000,9,-999.0000,9, -999.00,9,  -999.0,9,  -999.0,   1.454,3, -999.00,9,  41.6488,2, -999.00,9, 1019.60,  -999.0,9,   3.8404,     27.314,    34.5477,2,     -999.0,9,     -999.0,9,     -999.0,     -999.0,9,     -999.0
33RO20110926,        A10,      31,          1,         11,      11707,2,20111005,       1416,   -29.8667,     0.5419,       2963,  1140.8,   3.3995,  34.4743,2,  34.4743,2,    181.4,2,   181.4,2,    50.2,6,    33.3,6,    0.00,6,   2.335,6,   0.837,2,   0.398,2,   0.166,2,     2231.6,3,    2315,2,  -999.0,9, -999.00,   7.5831,2,       25,-999.000,9,-999.0000,9, -999.00,9,  -999.0,9,  -999.0,   0.988,3, -999.00,9,  45.4146,3, -999.00,9, 1140.80,  -999.0,9,   3.3173,     27.435,    34.6369,6,     -999.0,9,     -999.0,9,     -999.0,     -999.0,9,     -999.0
33RO20110926,        A10,      31,          1,         10,      11003,2,20111005,       1416,   -29.8667,     0.5419,       2963,  1299.1,   3.2429,  34.5218,2,  34.5234,2,    180.3,2,     180,2,    53.6,2,    33.3,2,    0.00,2,   2.322,2,   0.589,2,   0.277,2,   0.074,2,     2234.5,6,  2320.4,6,  -999.0,9, -999.00,   7.5836,6,       25,-999.000,9,-999.0000,9, -999.00,9,  -999.0,9,  -999.0,   0.750,3, -999.00,9,  43.4732,3, -999.00,9, 1299.10,  -999.0,9,   3.1492,     27.491,    34.6861,2,     -999.0,9,     -999.0,9,     -999.0,     -999.0,9,     -999.0
33RO20110926,        A10,      31,          1,          9,      11706,2,20111005,       1416,   -29.8667,     0.5419,       2963,  1500.1,   3.0238,  34.6653,2,  34.6634,2,    186.9,2,   188.8,2,    54.3,2,    31.0,2,    0.00,2,   2.148,2,   0.193,2,   0.089,2,   0.000,2,     2231.1,2,  2330.6,2,  -999.0,9, -999.00,   7.6134,2,       25,-999.000,9,-999.0000,9, -999.00,9,  -999.0,9,  -999.0,   0.317,3, -999.00,9,  38.1561,2, -999.00,9, 1500.10,  -999.0,9,   2.9154,     27.624,    34.8269,2,     -999.0,9,     -999.0,9,     -999.0,     -999.0,9,     -999.0
33RO20110926,        A10,      31,          1,          8,      11033,2,20111005,       1416,   -29.8667,     0.5419,       2963,  1699.8,   3.0039,  34.7520,2,  34.7518,2,    199.7,2,   200.2,2,    49.5,2,    28.3,2,    0.00,2,   1.972,2,   0.077,2,   0.038,2,   0.000,2,     2218.9,2,    2326,2,  -999.0,9, -999.00,   7.6382,2,       25,-999.000,9,-999.0000,9, -999.00,9,  -999.0,9,  -999.0,   0.144,3, -999.00,9,  38.2439,2, -999.00,9, 1699.80,  -999.0,9,   2.8785,     27.698,    34.9157,2,     -999.0,9,     -999.0,9,     -999.0,     -999.0,9,     -999.0
33RO20110926,        A10,      31,          1,          7,      11705,2,20111005,       1416,   -29.8667,     0.5419,       2963,  1898.2,   2.8721,  34.7959,2,  34.7971,2,    209.4,2,   210.9,2,    48.9,2,    27.0,2,    0.00,2,   1.860,2,   0.043,2,   0.021,2,   0.000,2,     2213.1,2,  2327.9,2,  -999.0,9, -999.00,   7.6583,2,       25,-999.000,9,-999.0000,9, -999.00,9,  -999.0,9,  -999.0,   0.102,3, -999.00,9,  40.6244,2, -999.00,9, 1898.20,  -999.0,9,   2.7310,     27.747,    34.9612,2,     -999.0,9,     -999.0,9,     -999.0,     -999.0,9,     -999.0
33RO20110926,        A10,      31,          1,          6,      11029,2,20111005,       1416,   -29.8667,     0.5419,       2963,  2091.9,   2.7014,  34.8159,2,  34.8172,2,    217.0,2,   217.8,2,    50.7,2,    26.3,2,    0.00,2,   1.804,2,   0.032,2,   0.015,2,   0.000,2,       2212,2,  2330.5,2,  -999.0,9, -999.00,   7.6703,2,       25,-999.000,9,-999.0000,9, -999.00,9,  -999.0,9,  -999.0,   0.084,3, -999.00,9,   40.839,2, -999.00,9, 2091.90,  -999.0,9,   2.5454,     27.780,    34.9814,2,     -999.0,9,     -999.0,9,     -999.0,     -999.0,9,     -999.0
33RO20110926,        A10,      31,          1,          5,      11704,2,20111005,       1416,   -29.8667,     0.5419,       2963,  2297.7,   2.5548,  34.8302,2,  34.8308,2,    222.9,2,   223.3,2,    52.2,6,    25.3,6,    0.00,6,   1.758,6,   0.023,2,   0.012,2,   0.000,2,     2211.3,2,    2333,2,  -999.0,9, -999.00,   7.6783,2,       25,-999.000,9,-999.0000,9, -999.00,9,  -999.0,9,  -999.0,   0.069,3, -999.00,9,   41.961,2, -999.00,9, 2297.70,  -999.0,9,   2.3824,     27.805,    34.9950,2,     -999.0,9,     -999.0,9,     -999.0,     -999.0,9,     -999.0
33RO20110926,        A10,      31,          1,          4,      11030,2,20111005,       1416,   -29.8667,     0.5419,       2963,  2501.2,   2.4512,  34.8420,2,  34.8420,2,    227.7,2,   227.3,2,    52.8,2,    25.1,2,    0.00,2,   1.719,2,   0.016,2,   0.009,2,   0.000,2,     2209.5,2,  2340.6,2,  -999.0,9, -999.00,   7.6875,2,       25,-999.000,9,-999.0000,9, -999.00,9,  -999.0,9,  -999.0,   0.057,3, -999.00,9,   41.239,2, -999.00,9, 2501.20,  -999.0,9,   2.2616,     27.824,    35.0063,2,     -999.0,9,     -999.0,9,     -999.0,     -999.0,9,     -999.0
33RO20110926,        A10,      31,          1,          3,      11703,2,20111005,       1416,   -29.8667,     0.5419,       2963,  2721.4,   2.3761,  34.8502,2,  34.8510,2,    231.4,2,   232.2,2,    53.4,2,    24.7,2,    0.00,2,   1.695,2,   0.013,2,   0.007,2,   0.000,2,     2207.6,2,    2342,2,  -999.0,9, -999.00,   7.6935,2,       25,-999.000,9,-999.0000,9, -999.00,9,  -999.0,9,  -999.0,   0.047,3, -999.00,9,  40.7902,2, -999.00,9, 2721.40,  -999.0,9,   2.1669,     27.839,    35.0154,2,     -999.0,9,     -999.0,9,     -999.0,     -999.0,9,     -999.0
33RO20110926,        A10,      31,          1,          2,      11702,2,20111005,       1416,   -29.8667,     0.5419,       2963,  2876.2,   2.3453,  34.8550,2,  34.8554,2,    232.4,2,   232.9,2,    53.6,2,    24.6,2,    0.00,2,   1.680,2,   0.009,2,   0.006,2,   0.000,2,     2208.2,2,  2341.5,6,  -999.0,9, -999.00,   7.6995,6,       25,-999.000,9,-999.0000,9, -999.00,9,  -999.0,9,  -999.0,   0.040,3, -999.00,9,  40.5463,2, -999.00,9, 2876.20,  -999.0,9,   2.1215,     27.846,    35.0197,2,     -999.0,9,     -999.0,9,     -999.0,     -999.0,9,     -999.0
33RO20110926,        A10,      31,          1,          1,      11701,2,20111005,       1416,   -29.8667,     0.5419,       2963,  2994.6,   2.3329,  34.8577,2,  34.8583,2,    233.2,2,   232.3,2,    53.5,6,    24.4,6,    0.00,6,   1.667,6,   0.009,6,   0.006,6,   0.000,6,       2211,6,  2346.2,2,  -999.0,9, -999.00,   7.7005,2,       25,-999.000,9,-999.0000,9, -999.00,9,  -999.0,9,  -999.0,   0.038,3, -999.00,9,  41.3073,2, -999.00,9, 2994.60,  -999.0,9,   2.0975,     27.850,    35.0226,2,     -999.0,9,     -999.0,9,     -999.0,     -999.0,9,     -999.0