BOTTLE,20220815CCHSIOAMB
EXPOCODE,SECT_ID,STNNBR,CASTNO,SAMPNO,BTLNBR,BTLNBR_FLAG_W,DATE,TIME,LATITUDE,LONGITUDE,DEPTH,CTDPRS,CTDTMP,CTDSAL,CTDSAL_FLAG_W,SALNTY,SALNTY_FLAG_W,CTDOXY,CTDOXY_FLAG_W,OXYGEN,OXYGEN_FLAG_W,SILCAT,SILCAT_FLAG_W,NITRAT,NITRAT_FLAG_W,NITRIT,NITRIT_FLAG_W,PHSPHT,PHSPHT_FLAG_W,CFC-11,CFC-11_FLAG_W,CFC-12,CFC-12_FLAG_W,SF6,SF6_FLAG_W,TCARBN,TCARBN_FLAG_W,ALKALI,ALKALI_FLAG_W,PCO2,PCO2_FLAG_W,PCO2TMP,PH_SWS,PH_SWS_FLAG_W,PH_TMP,TRITUM,TRITUM_FLAG_W,HELIUM,HELIUM_FLAG_W,DELC13,DELC13_FLAG_W,DELC14,DELC14_FLAG_W,C14ERR,CCL4,CCL4_FLAG_W,DELO18,DELO18_FLAG_W,DOC,DOC_FLAG_W,TDN,TDN_FLAG_W,CTDRAW,14C-DOC,14C-DOC_FLAG_W,THETA,SIG0,SALTREF,SALTREF_FLAG_W,BLACKC,BLACKC_FLAG_W,PIGMENTS,PIGMENTS_FLAG_W,14C-DOCERR,13C-DOC,13C-DOC_FLAG_W,13C-DOCERR
,,,,,,,,,,,METERS,DBAR,ITS-90,PSS-78,,PSS-78,,UMOL/KG,,UMOL/KG,,UMOL/KG,,UMOL/KG,,UMOL/KG,,UMOL/KG,,PMOL/KG,,PMOL/KG,,FMOL/KG,,UMOL/KG,,UMOL/KG,,UATM,,DEG C,,,DEG C,TU,,NMOL/KG,,/MILLE,,/MILLE,,/MILLE,PMOL/KG,,/MILLE,,UMOL/KG,,UMOL/KG,,DBAR,/MILLE,,DEG C,KG/M^3,G/KG,,,,,,/MILLE,/MILLE,,/MILLE
33RO20110926,        A10,      30,          1,         24,      11714,2,20111005,       0857,   -29.7332,     1.1157,       3695,     4.7,  17.8987,  35.8280,2,  35.8277,2,    240.2,2,   241.1,2,     1.5,2,     0.0,2,    0.00,2,   0.156,2,   2.413,2,   1.455,2,   1.485,2,     2080.1,6,    2356,6,  -999.0,9, -999.00,    7.981,6,       25,-999.000,9,-999.0000,9, -999.00,9,  -999.0,9,  -999.0,   3.026,3, -999.00,9,-999.0000,9, -999.00,9,    4.70,  -999.0,9,  17.8979,     25.930,    35.9966,2,     -999.0,9,     -999.0,1,     -999.0,     -999.0,9,     -999.0
33RO20110926,        A10,      30,          1,         23,      11713,2,20111005,       0857,   -29.7332,     1.1157,       3695,    35.0,  17.2861,  35.7727,2,  35.7724,2,    242.8,2,     246,2,     1.5,2,     0.0,2,    0.00,2,   0.151,2,   2.470,2,   1.476,2,   1.485,2,     2077.3,2,  2348.4,2,  -999.0,9, -999.00,   7.9829,2,       25,-999.000,9,-999.0000,9, -999.00,9,  -999.0,9,  -999.0,   3.208,3, -999.00,9,-999.0000,9, -999.00,9,   35.00,  -999.0,9,  17.2802,     26.039,    35.9411,2,     -999.0,9,     -999.0,9,     -999.0,     -999.0,9,     -999.0
33RO20110926,        A10,      30,          1,         22,      11712,2,20111005,       0857,   -29.7332,     1.1157,       3695,    90.3,  16.5038,  35.6992,2,  35.6997,2,    238.6,2,   238.8,2,     1.9,2,     0.8,2,    0.35,2,   0.226,2,   2.483,2,   1.492,2,   1.495,2,       2082,2,  2342.1,2,  -999.0,9, -999.00,   7.9639,2,       25,-999.000,9,-999.0000,9, -999.00,9,  -999.0,9,  -999.0,   2.471,3, -999.00,9,-999.0000,9, -999.00,9,   90.30,  -999.0,9,  16.4892,     26.172,    35.8681,2,     -999.0,9,     -999.0,1,     -999.0,     -999.0,9,     -999.0
33RO20110926,        A10,      30,          1,         21,      11010,2,20111005,       0857,   -29.7332,     1.1157,       3695,   140.3,  16.2904,  35.6683,2,  35.6687,2,    235.7,2,   235.7,2,     2.1,2,     1.3,2,    0.61,2,   0.267,2,   2.521,2,   1.500,2,   1.448,2,     2085.4,2,  2340.2,2,  -999.0,9, -999.00,   7.9559,2,       25,-999.000,9,-999.0000,9, -999.00,9,  -999.0,9,  -999.0,   2.132,3, -999.00,9,-999.0000,9, -999.00,9,  140.30,  -999.0,9,  16.2678,     26.201,    35.8369,2,     -999.0,9,     -999.0,1,     -999.0,     -999.0,9,     -999.0
33RO20110926,        A10,      30,          1,         20,      11715,2,20111005,       0857,   -29.7332,     1.1157,       3695,   194.3,  14.4657,  35.3260,2,  35.3269,2,    216.8,2,   217.2,2,     3.0,2,     6.5,2,    0.01,2,   0.562,2,   2.761,2,   1.626,2,   1.454,2,-999.000000,9,  2320.2,2,  -999.0,9, -999.00,   7.8837,2,       25,-999.000,9,-999.0000,9, -999.00,9,  -999.0,9,  -999.0,   0.719,3, -999.00,9,-999.0000,9, -999.00,9,  194.30,  -999.0,9,  14.4369,     26.348,    35.4935,2,     -999.0,9,     -999.0,9,     -999.0,     -999.0,9,     -999.0
33RO20110926,        A10,      30,          1,         19,      11007,2,20111005,       0857,   -29.7332,     1.1157,       3695,   260.0,  13.2568,  35.1588,2,  35.1587,2,    219.8,2,   220.4,2,     3.3,2,     8.2,2,    0.01,2,   0.672,2,   2.945,2,   1.703,2,   1.429,2,     2110.9,2,  2312.8,2,  -999.0,9, -999.00,   7.8567,2,       25,-999.000,9,-999.0000,9, -999.00,9,  -999.0,9,  -999.0,   0.782,3, -999.00,9,-999.0000,9, -999.00,9,  260.00,  -999.0,9,  13.2204,     26.470,    35.3245,2,     -999.0,9,     -999.0,9,     -999.0,     -999.0,9,     -999.0
33RO20110926,        A10,      30,          1,         18,      11710,2,20111005,       0857,   -29.7332,     1.1157,       3695,   339.8,  12.0153,  35.0436,2,  35.0471,2,    210.6,2,   211.2,2,     4.6,6,    12.4,6,    0.01,6,   0.919,6,   3.107,2,   1.741,2,   1.277,2,-999.000000,9,    2311,2,  -999.0,9, -999.00,   7.8137,2,       25,-999.000,9,-999.0000,9, -999.00,9,  -999.0,9,  -999.0,   0.652,3, -999.00,9,-999.0000,9, -999.00,9,  339.80,  -999.0,9,  11.9707,     26.631,    35.2124,2,     -999.0,9,     -999.0,9,     -999.0,     -999.0,9,     -999.0
33RO20110926,        A10,      30,          1,         17,      11023,2,20111005,       0857,   -29.7332,     1.1157,       3695,   438.9,  10.3417,  34.8360,2,  34.8355,2,    201.4,2,   200.2,2,     7.4,2,    17.3,2,    0.01,2,   1.247,2,   3.147,2,   1.721,2,   1.125,2,     2147.7,2,  2301.1,2,  -999.0,9, -999.00,   7.7596,2,       25,-999.000,9,-999.0000,9, -999.00,9,  -999.0,9,  -999.0,   0.805,3, -999.00,9,-999.0000,9, -999.00,9,  438.90,  -999.0,9,  10.2892,     26.775,    34.9998,2,     -999.0,9,     -999.0,9,     -999.0,     -999.0,9,     -999.0
33RO20110926,        A10,      30,          1,         16,      11709,2,20111005,       0857,   -29.7332,     1.1157,       3695,   549.7,   8.3268,  34.6078,2,  34.6125,2,    196.5,2,   197.5,2,    11.8,2,    22.5,2,    0.00,2,   1.578,2,   3.054,2,   1.626,2,   0.886,2,-999.000000,9,  -999.0,5,  -999.0,9, -999.00,-999.0000,5,  -999.00,-999.000,9,-999.0000,9, -999.00,9,  -999.0,9,  -999.0,   1.273,3, -999.00,9,-999.0000,9, -999.00,9,  549.70,  -999.0,9,   8.2689,     26.926,    34.7757,2,     -999.0,9,     -999.0,9,     -999.0,     -999.0,9,     -999.0
33RO20110926,        A10,      30,          1,         15,      11006,2,20111005,       0857,   -29.7332,     1.1157,       3695,   700.0,   6.0256,  34.3975,2,  34.3981,2,    207.6,2,   206.9,2,    18.3,2,    27.3,2,    0.00,2,   1.904,2,   2.985,2,   1.531,2,   0.844,2,     2176.3,2,  2287.2,2,  -999.0,9, -999.00,   7.6493,2,       25,-999.000,9,-999.0000,9, -999.00,9,  -999.0,9,  -999.0,   1.847,3, -999.00,9,-999.0000,9, -999.00,9,  700.00,  -999.0,9,   5.9634,     27.082,    34.5603,2,     -999.0,9,     -999.0,9,     -999.0,     -999.0,9,     -999.0
33RO20110926,        A10,      30,          1,         14,      11708,2,20111005,       0857,   -29.7332,     1.1157,       3695,   850.8,   4.5942,  34.3486,2,  34.3474,2,    203.9,2,   203.3,2,    28.7,2,    30.8,2,    0.00,2,   2.139,2,   2.348,2,   1.175,2,   0.546,2,-999.000000,9,  2293.6,2,  -999.0,9, -999.00,   7.6182,2,       25,-999.000,9,-999.0000,9, -999.00,9,  -999.0,9,  -999.0,   1.949,3, -999.00,9,-999.0000,9, -999.00,9,  850.80,  -999.0,9,   4.5271,     27.211,    34.5094,2,     -999.0,9,     -999.0,9,     -999.0,     -999.0,9,     -999.0
33RO20110926,        A10,      30,          1,         13,      11031,2,20111005,       0857,   -29.7332,     1.1157,       3695,  1024.9,   3.7260,  34.4170,2,  34.4176,2,    186.9,2,   186.5,2,    43.3,6,    32.8,6,    0.00,6,   2.310,6,   1.263,2,   0.610,2,   0.247,2,     2221.1,2,  2309.6,2,  -999.0,9, -999.00,   7.5844,2,       25,-999.000,9,-999.0000,9, -999.00,9,  -999.0,9,  -999.0,   1.395,3, -999.00,9,-999.0000,9, -999.00,9, 1024.90,  -999.0,9,   3.6506,     27.357,    34.5799,6,     -999.0,9,     -999.0,9,     -999.0,     -999.0,9,     -999.0
33RO20110926,        A10,      30,          1,         12,      11027,2,20111005,       0857,   -29.7332,     1.1157,       3695,  1200.4,   3.2782,  34.5100,2,  34.5092,2,    179.7,2,     179,2,    52.9,2,    33.0,2,    0.00,2,   2.326,2,   0.644,2,   0.304,2,   0.117,2,     2231.7,2,  2320.8,6,  -999.0,9, -999.00,   7.5821,2,       25,-999.000,9,-999.0000,9, -999.00,9,  -999.0,9,  -999.0,   0.859,3, -999.00,9,-999.0000,9, -999.00,9, 1200.40,  -999.0,9,   3.1922,     27.475,    34.6719,2,     -999.0,9,     -999.0,9,     -999.0,     -999.0,9,     -999.0
33RO20110926,        A10,      30,          1,         11,      11707,2,20111005,       0857,   -29.7332,     1.1157,       3695,  1375.2,   3.0860,  34.6139,2,  34.6131,2,    181.9,2,   182.7,2,    54.5,2,    31.7,2,    0.00,2,   2.222,2,   0.291,2,   0.135,2,   0.041,2,     2232.7,2,  2324.5,2,  -999.0,9, -999.00,   7.5962,2,       25,-999.000,9,-999.0000,9, -999.00,9,  -999.0,9,  -999.0,   0.448,3, -999.00,9,-999.0000,9, -999.00,9, 1375.20,  -999.0,9,   2.9874,     27.577,    34.7763,2,     -999.0,9,     -999.0,9,     -999.0,     -999.0,9,     -999.0
33RO20110926,        A10,      30,          1,         10,      11003,2,20111005,       0857,   -29.7332,     1.1157,       3695,  1552.2,   2.9922,  34.6969,2,  34.6963,2,    190.9,2,   191.8,2,    53.3,2,    29.8,2,    0.00,2,   2.088,2,   0.142,2,   0.066,2,   0.030,2,-999.000000,9,  2326.4,2,  -999.0,9, -999.00,   7.6172,2,       25,-999.000,9,-999.0000,9, -999.00,9,  -999.0,9,  -999.0,   0.243,3, -999.00,9,-999.0000,9, -999.00,9, 1552.20,  -999.0,9,   2.8797,     27.654,    34.8599,2,     -999.0,9,     -999.0,9,     -999.0,     -999.0,9,     -999.0
33RO20110926,        A10,      30,          1,          9,      11706,2,20111005,       0857,   -29.7332,     1.1157,       3695,  1751.0,   2.9453,  34.7625,2,  34.7621,2,    202.1,2,     203,2,    50.0,2,    27.9,2,    0.00,2,   1.946,2,   0.070,2,   0.033,2,   0.000,2,     2216.5,2,  2330.5,2,  -999.0,9, -999.00,   7.6394,2,       25,-999.000,9,-999.0000,9, -999.00,9,  -999.0,9,  -999.0,   0.143,3, -999.00,9,-999.0000,9, -999.00,9, 1751.00,  -999.0,9,   2.8162,     27.712,    34.9260,2,     -999.0,9,     -999.0,9,     -999.0,     -999.0,9,     -999.0
33RO20110926,        A10,      30,          1,          8,      11033,2,20111005,       0857,   -29.7332,     1.1157,       3695,  1949.7,   2.7889,  34.7988,2,  34.7983,2,    211.3,2,   212.9,2,    50.4,6,    26.6,6,    0.00,6,   1.845,6,   0.044,2,   0.021,2,   0.000,2,-999.000000,9,  2333.9,2,  -999.0,9, -999.00,   7.6575,2,       25,-999.000,9,-999.0000,9, -999.00,9,  -999.0,9,  -999.0,   0.106,3, -999.00,9,-999.0000,9, -999.00,9, 1949.70,  -999.0,9,   2.6445,     27.756,    34.9624,2,     -999.0,9,     -999.0,9,     -999.0,     -999.0,9,     -999.0
33RO20110926,        A10,      30,          1,          7,      11705,2,20111005,       0857,   -29.7332,     1.1157,       3695,  2149.9,   2.6744,  34.8193,2,  34.8193,2,    217.9,2,   218.2,2,    50.7,2,    26.1,2,    0.00,2,   1.794,2,   0.027,2,   0.014,2,   0.000,2,-999.000000,9,  2331.4,2,  -999.0,9, -999.00,   7.6733,2,       25,-999.000,9,-999.0000,9, -999.00,9,  -999.0,9,  -999.0,   0.082,3, -999.00,9,-999.0000,9, -999.00,9, 2149.90,  -999.0,9,   2.5136,     27.784,    34.9835,2,     -999.0,9,     -999.0,9,     -999.0,     -999.0,9,     -999.0
33RO20110926,        A10,      30,          1,          6,      11029,2,20111005,       0857,   -29.7332,     1.1157,       3695,  2400.0,   2.5293,  34.8363,2,  34.8362,2,    225.1,2,   229.3,4,    51.8,2,    25.3,2,    0.00,2,   1.738,2,   0.017,2,   0.009,2,   0.000,2,     2208.8,2,    2335,2,  -999.0,9, -999.00,   7.6833,2,       25,-999.000,9,-999.0000,9, -999.00,9,  -999.0,9,  -999.0,   0.063,3, -999.00,9,-999.0000,9, -999.00,9, 2400.00,  -999.0,9,   2.3478,     27.812,    35.0004,2,     -999.0,9,     -999.0,9,     -999.0,     -999.0,9,     -999.0
33RO20110926,        A10,      30,          1,          5,      11704,2,20111005,       0857,   -29.7332,     1.1157,       3695,  2650.6,   2.4265,  34.8470,2,  34.8471,2,    229.7,2,   228.8,2,    52.5,2,    24.9,2,    0.00,2,   1.700,2,   0.013,2,   0.007,2,   0.000,2,-999.000000,9,  2338.7,2,  -999.0,9, -999.00,   7.6935,2,       25,-999.000,9,-999.0000,9, -999.00,9,  -999.0,9,  -999.0,   0.048,3, -999.00,9,-999.0000,9, -999.00,9, 2650.60,  -999.0,9,   2.2231,     27.831,    35.0114,2,     -999.0,9,     -999.0,9,     -999.0,     -999.0,9,     -999.0
33RO20110926,        A10,      30,          1,          4,      11030,2,20111005,       0857,   -29.7332,     1.1157,       3695,  2902.0,   2.3517,  34.8552,2,  34.8554,2,    232.3,2,   232.6,2,    53.2,2,    24.6,2,    0.00,2,   1.675,2,   0.017,3,   0.010,3,   0.000,2,-999.000000,9,  2342.6,2,  -999.0,9, -999.00,   7.6995,2,       25,-999.000,9,-999.0000,9, -999.00,9,  -999.0,9,  -999.0,   0.047,3, -999.00,9,-999.0000,9, -999.00,9, 2902.00,  -999.0,9,   2.1252,     27.846,    35.0197,2,     -999.0,9,     -999.0,9,     -999.0,     -999.0,9,     -999.0
33RO20110926,        A10,      30,          1,          3,      11703,2,20111005,       0857,   -29.7332,     1.1157,       3695,  3152.5,   2.3151,  34.8616,2,  34.8622,2,    233.9,2,   233.9,2,    53.7,2,    24.4,2,    0.00,2,   1.658,2,   0.008,2,   0.004,2,   0.000,2,     2211.9,2,  2348.3,2,  -999.0,9, -999.00,   7.7035,2,       25,-999.000,9,-999.0000,9, -999.00,9,  -999.0,9,  -999.0,   0.040,3, -999.00,9,-999.0000,9, -999.00,9, 3152.50,  -999.0,9,   2.0640,     27.856,    35.0265,2,     -999.0,9,     -999.0,9,     -999.0,     -999.0,9,     -999.0
33RO20110926,        A10,      30,          1,          2,      11702,2,20111005,       0857,   -29.7332,     1.1157,       3695,  3429.0,   2.2846,  34.8678,2,  34.8689,2,    233.5,2,   232.9,2,    54.1,6,    24.0,6,    0.00,6,   1.637,6,   0.005,2,   0.003,2,   0.000,2,-999.000000,9,  2350.3,6,  -999.0,9, -999.00,   7.7124,6,       25,-999.000,9,-999.0000,9, -999.00,9,  -999.0,9,  -999.0,   0.020,3, -999.00,9,-999.0000,9, -999.00,9, 3429.00,  -999.0,9,   2.0052,     27.866,    35.0334,2,     -999.0,9,     -999.0,9,     -999.0,     -999.0,9,     -999.0
33RO20110926,        A10,      30,          1,          1,      11701,2,20111005,       0857,   -29.7332,     1.1157,       3695,  3745.0,   2.2418,  34.8673,2,  34.8674,2,    232.5,2,   232.1,2,    56.5,2,    24.2,2,    0.00,2,   1.655,2,   0.007,2,   0.004,2,   0.000,2,     2215.6,6,  2354.8,2,  -999.0,9, -999.00,   7.7104,2,       25,-999.000,9,-999.0000,9, -999.00,9,  -999.0,9,  -999.0,   0.019,3, -999.00,9,-999.0000,9, -999.00,9, 3745.00,  -999.0,9,   1.9294,     27.871,    35.0318,2,     -999.0,9,     -999.0,9,     -999.0,     -999.0,9,     -999.0