BOTTLE,20220815CCHSIOAMB
EXPOCODE,SECT_ID,STNNBR,CASTNO,SAMPNO,BTLNBR,BTLNBR_FLAG_W,DATE,TIME,LATITUDE,LONGITUDE,DEPTH,CTDPRS,CTDTMP,CTDSAL,CTDSAL_FLAG_W,SALNTY,SALNTY_FLAG_W,CTDOXY,CTDOXY_FLAG_W,OXYGEN,OXYGEN_FLAG_W,SILCAT,SILCAT_FLAG_W,NITRAT,NITRAT_FLAG_W,NITRIT,NITRIT_FLAG_W,PHSPHT,PHSPHT_FLAG_W,CFC-11,CFC-11_FLAG_W,CFC-12,CFC-12_FLAG_W,SF6,SF6_FLAG_W,TCARBN,TCARBN_FLAG_W,ALKALI,ALKALI_FLAG_W,PCO2,PCO2_FLAG_W,PCO2TMP,PH_SWS,PH_SWS_FLAG_W,PH_TMP,TRITUM,TRITUM_FLAG_W,HELIUM,HELIUM_FLAG_W,DELC13,DELC13_FLAG_W,DELC14,DELC14_FLAG_W,C14ERR,CCL4,CCL4_FLAG_W,DELO18,DELO18_FLAG_W,DOC,DOC_FLAG_W,TDN,TDN_FLAG_W,CTDRAW,14C-DOC,14C-DOC_FLAG_W,THETA,SIG0,SALTREF,SALTREF_FLAG_W,BLACKC,BLACKC_FLAG_W,PIGMENTS,PIGMENTS_FLAG_W,14C-DOCERR,13C-DOC,13C-DOC_FLAG_W,13C-DOCERR
,,,,,,,,,,,METERS,DBAR,ITS-90,PSS-78,,PSS-78,,UMOL/KG,,UMOL/KG,,UMOL/KG,,UMOL/KG,,UMOL/KG,,UMOL/KG,,PMOL/KG,,PMOL/KG,,FMOL/KG,,UMOL/KG,,UMOL/KG,,UATM,,DEG C,,,DEG C,TU,,NMOL/KG,,/MILLE,,/MILLE,,/MILLE,PMOL/KG,,/MILLE,,UMOL/KG,,UMOL/KG,,DBAR,/MILLE,,DEG C,KG/M^3,G/KG,,,,,,/MILLE,/MILLE,,/MILLE
33RO20110926,        A10,      71,          1,         24,      11714,2,20111019,       0208,   -29.9983,   -26.3510,       4824,     5.8,  17.3241,  35.8463,2,  35.8461,2,    238.7,2,   240.4,2,     1.1,2,     0.0,2,    0.01,2,   0.106,4,   2.399,6,   1.454,6,   1.445,6,     2081.9,6,  2351.3,2,  -999.0,9, -999.00,    7.979,2,       25,-999.000,9,-999.0000,9, -999.00,9,  -999.0,9,  -999.0,   3.135,4, -999.00,9,  60.9561,2,    4.00,2,    5.80,  -999.0,9,  17.3232,     26.080,    36.0151,2,     -999.0,9,     -999.0,1,     -999.0,     -999.0,9,     -999.0
33RO20110926,        A10,      71,          1,         23,      11713,2,20111019,       0208,   -29.9983,   -26.3510,       4824,    35.2,  17.2856,  35.8439,2,  35.8441,2,    238.7,2,   241.1,2,     1.1,2,     0.0,2,    0.01,2,   0.110,4,   2.411,2,   1.456,2,   1.474,2,     2083.5,2,  2355.2,6,  -999.0,9, -999.00,   7.9709,6,       25,-999.000,9,-999.0000,9, -999.00,9,  -999.0,9,  -999.0,   2.978,4, -999.00,9,  59.3073,2,    4.53,2,   35.20,  -999.0,9,  17.2797,     26.092,    36.0131,2,     -999.0,9,     -999.0,9,     -999.0,     -999.0,9,     -999.0
33RO20110926,        A10,      71,          1,         22,      11712,2,20111019,       0208,   -29.9983,   -26.3510,       4824,    74.2,  16.8103,  35.8098,2,  35.8092,2,    241.0,2,   243.9,2,     1.1,2,     0.0,2,    0.01,2,   0.117,4,   2.456,2,   1.482,2,   1.468,2,     2083.8,2,  2348.7,2,  -999.0,9, -999.00,   7.9689,2,       25,-999.000,9,-999.0000,9, -999.00,9,  -999.0,9,  -999.0,   3.102,4, -999.00,9,     57.2,2,    5.13,2,   74.20,  -999.0,9,  16.7981,     26.184,    35.9781,2,     -999.0,9,     -999.0,9,     -999.0,     -999.0,9,     -999.0
33RO20110926,        A10,      71,          1,         21,      11010,2,20111019,       0208,   -29.9983,   -26.3510,       4824,   124.3,  16.3766,  35.7504,2,  35.7566,2,    235.2,2,   232.9,2,     1.2,2,     1.3,2,    0.12,2,   0.175,4,   2.482,2,   1.494,2,   1.446,2,     2091.5,2,  2345.2,2,  -999.0,9, -999.00,   7.9479,2,       25,-999.000,9,-999.0000,9, -999.00,9,  -999.0,9,  -999.0,   2.878,4, -999.00,9,  55.9122,2,    5.33,2,  124.30,  -999.0,9,  16.3565,     26.246,    35.9252,2,     -999.0,9,     -999.0,1,     -999.0,     -999.0,9,     -999.0
33RO20110926,        A10,      71,          1,         20,      11715,2,20111019,       0208,   -29.9983,   -26.3510,       4824,   175.7,  14.8223,  35.4726,2,  35.6970,4,    215.3,2,   216.6,2,     2.1,2,     5.5,2,    0.02,2,   0.400,4,   2.717,2,   1.600,2,   1.359,2,     2111.1,2,  2332.4,2,  -999.0,9, -999.00,   7.8837,2,       25,-999.000,9,-999.0000,9, -999.00,9,  -999.0,9,  -999.0,   1.394,4, -999.00,9,  48.1659,2,    8.72,2,  175.70,  -999.0,9,  14.7959,     26.382,    35.8653,3,     -999.0,9,     -999.0,1,     -999.0,     -999.0,9,     -999.0
33RO20110926,        A10,      71,          1,         19,      11007,2,20111019,       0208,   -29.9983,   -26.3510,       4824,   250.8,  14.0245,  35.3978,2,  35.2642,4,    215.9,2,   216.9,2,     2.5,2,     7.3,2,    0.02,2,   0.485,4,   2.830,2,   1.647,2,   1.303,2,     2118.3,2,  2329.6,2,  -999.0,9, -999.00,   7.8687,2,       25,-999.000,9,-999.0000,9, -999.00,9,  -999.0,9,  -999.0,   1.271,3, -999.00,9,  47.0634,2, -999.00,9,  250.80,  -999.0,9,  13.9880,     26.497,    35.4305,3,     -999.0,9,     -999.0,9,     -999.0,     -999.0,9,     -999.0
33RO20110926,        A10,      71,          1,         18,      11710,2,20111019,       0208,   -29.9983,   -26.3510,       4824,   339.4,  12.7899,  35.2155,2,  35.2169,2,    216.7,2,   217.9,2,     3.2,6,     9.8,6,    0.01,6,   0.606,4,   2.968,2,   1.702,2,   1.304,2,     2125.1,2,  2319.8,2,  -999.0,9, -999.00,   7.8386,2,       25,-999.000,9,-999.0000,9, -999.00,9,  -999.0,9,  -999.0,   1.244,3, -999.00,9,  48.4098,2, -999.00,9,  339.40,  -999.0,9,  12.7434,     26.612,    35.3830,2,     -999.0,9,     -999.0,9,     -999.0,     -999.0,9,     -999.0
33RO20110926,        A10,      71,          1,         17,      11023,2,20111019,       0208,   -29.9983,   -26.3510,       4824,   397.0,  11.8823,  35.0696,2,  35.0702,2,    213.7,2,   213.6,2,     4.3,2,    12.4,2,    0.01,2,   0.745,4,   3.079,2,   1.727,2,   1.211,2,     2131.7,2,  2309.2,2,  -999.0,9, -999.00,   7.8147,2,       25,-999.000,9,-999.0000,9, -999.00,9,  -999.0,9,  -999.0,   1.442,3, -999.00,9,  41.5902,2, -999.00,9,  397.00,  -999.0,9,  11.8304,     26.675,    35.2356,2,     -999.0,9,     -999.0,9,     -999.0,     -999.0,9,     -999.0
33RO20110926,        A10,      71,          1,         16,      11709,2,20111019,       0208,   -29.9983,   -26.3510,       4824,   522.3,   9.5049,  34.7435,2,  34.7476,2,    208.1,2,   208.8,2,     7.2,6,    18.4,6,    0.01,6,   1.052,4,   3.219,2,   1.729,2,   0.994,2,     2147.8,2,  2294.9,2,  -999.0,9, -999.00,   7.7456,2,       25,-999.000,9,-999.0000,9, -999.00,9,  -999.0,9,  -999.0,   2.070,3, -999.00,9,  42.2244,2, -999.00,9,  522.30,  -999.0,9,   9.4454,     26.844,    34.9115,3,     -999.0,9,     -999.0,9,     -999.0,     -999.0,9,     -999.0
33RO20110926,        A10,      71,          1,         15,      11006,2,20111019,       0208,   -29.9983,   -26.3510,       4824,   649.2,   6.8616,  34.4461,2,  34.4479,2,    215.7,2,   213.8,2,    12.8,2,    24.5,2,    0.01,2,   1.403,4,   3.296,2,   1.711,2,   0.850,2,     2164.7,2,  2283.6,2,  -999.0,9, -999.00,   7.6725,2,       25,-999.000,9,-999.0000,9, -999.00,9,  -999.0,9,  -999.0,   3.343,3, -999.00,9,   42.361,2, -999.00,9,  649.20,  -999.0,9,   6.8000,     27.009,    34.6104,3,     -999.0,9,     -999.0,9,     -999.0,     -999.0,9,     -999.0
33RO20110926,        A10,      71,          1,         14,      11708,2,20111019,       0208,   -29.9983,   -26.3510,       4824,   774.7,   5.1242,  34.3111,2,  34.3118,2,    223.5,2,   225.3,2,    18.8,2,    27.6,2,    0.01,2,   1.613,4,   3.143,2,   1.593,2,   0.734,2,     2174.2,3,    2287,2,  -999.0,9, -999.00,   7.6493,2,       25,-999.000,9,-999.0000,9, -999.00,9,  -999.0,9,  -999.0,   4.104,3, -999.00,9,   41.678,2, -999.00,9,  774.70,  -999.0,9,   5.0604,     27.123,    34.4736,2,     -999.0,9,     -999.0,9,     -999.0,     -999.0,9,     -999.0
33RO20110926,        A10,      71,          1,         13,      11031,2,20111019,       0208,   -29.9983,   -26.3510,       4824,   899.8,   4.1004,  34.2766,2,  34.2763,2,    226.9,2,   225.8,2,    26.0,2,    29.6,2,    0.01,2,   1.764,4,   2.738,2,   1.356,2,   0.590,2,     2184.1,2,  2291.9,2,  -999.0,9, -999.00,   7.6322,2,       25,-999.000,9,-999.0000,9, -999.00,9,  -999.0,9,  -999.0,   4.082,3, -999.00,9,  40.6244,2, -999.00,9,  899.80,  -999.0,9,   4.0326,     27.207,    34.4380,2,     -999.0,9,     -999.0,9,     -999.0,     -999.0,9,     -999.0
33RO20110926,        A10,      71,          1,         12,      11027,2,20111019,       0208,   -29.9983,   -26.3510,       4824,  1048.4,   3.5551,  34.3473,2,  34.3474,2,    208.9,2,   205.5,2,    38.2,6,    31.6,6,    0.01,6,   1.949,4,   1.710,2,   0.838,2,   0.289,2,     2205.9,2,  2302.7,2,  -999.0,9, -999.00,   7.6012,2,       25,-999.000,9,-999.0000,9, -999.00,9,  -999.0,9,  -999.0,   2.850,3, -999.00,9,  37.4146,2, -999.00,9, 1048.40,  -999.0,9,   3.4793,     27.319,    34.5093,2,     -999.0,9,     -999.0,9,     -999.0,     -999.0,9,     -999.0
33RO20110926,        A10,      71,          1,         11,      11707,2,20111019,       0208,   -29.9983,   -26.3510,       4824,  1218.7,   3.2056,  34.4576,2,  34.4586,2,    190.7,2,   190.1,2,    49.5,2,    32.4,2,    0.01,2,   2.075,4,   0.844,2,   0.411,2,   0.116,2,     2223.5,2,    2312,2,  -999.0,9, -999.00,   7.5884,2,       25,-999.000,9,-999.0000,9, -999.00,9,  -999.0,9,  -999.0,   1.679,3, -999.00,9,  38.9268,2, -999.00,9, 1218.70,  -999.0,9,   3.1189,     27.442,    34.6211,2,     -999.0,9,     -999.0,9,     -999.0,     -999.0,9,     -999.0
33RO20110926,        A10,      71,          1,         10,      11003,2,20111019,       0208,   -29.9983,   -26.3510,       4824,  1398.9,   2.9548,  34.5691,2,  34.5677,2,    188.0,2,   188.3,2,    54.7,2,    31.6,2,    0.01,2,   2.064,4,   0.397,2,   0.191,2,   0.046,2,       2232,6,  2319.4,6,  -999.0,9, -999.00,   7.5894,6,       25,-999.000,9,-999.0000,9, -999.00,9,  -999.0,9,  -999.0,   0.996,3, -999.00,9,  39.3366,2, -999.00,9, 1398.90,  -999.0,9,   2.8558,     27.553,    34.7307,2,     -999.0,9,     -999.0,9,     -999.0,     -999.0,9,     -999.0
33RO20110926,        A10,      71,          1,          9,      11706,2,20111019,       0208,   -29.9983,   -26.3510,       4824,  1649.7,   2.8348,  34.6965,2,  34.6957,2,    198.0,2,   198.4,2,    54.6,2,    29.2,2,    0.01,2,   1.931,4,   0.128,2,   0.063,2,   0.000,2,     2226.4,2,  2328.8,2,  -999.0,9, -999.00,   7.6192,2,       25,-999.000,9,-999.0000,9, -999.00,9,  -999.0,9,  -999.0,   0.441,3, -999.00,9,  39.4927,2, -999.00,9, 1649.70,  -999.0,9,   2.7161,     27.668,    34.8593,2,     -999.0,9,     -999.0,9,     -999.0,     -999.0,9,     -999.0
33RO20110926,        A10,      71,          1,          8,      11033,2,20111019,       0208,   -29.9983,   -26.3510,       4824,  1948.9,   2.7182,  34.7945,2,  34.7952,2,    216.7,2,   217.2,2,    50.4,2,    26.1,2,    0.01,2,   1.731,4,   0.036,2,   0.019,2,   0.000,2,       2213,2,  2323.3,4,  -999.0,9, -999.00,   7.6685,2,       25,-999.000,9,-999.0000,9, -999.00,9,  -999.0,9,  -999.0,   0.240,3, -999.00,9,  38.8195,2, -999.00,9, 1948.90,  -999.0,9,   2.5749,     27.760,    34.9593,2,     -999.0,9,     -999.0,9,     -999.0,     -999.0,9,     -999.0
33RO20110926,        A10,      71,          1,          7,      11705,2,20111019,       0208,   -29.9983,   -26.3510,       4824,  2198.6,   2.7069,  34.8359,2,  34.8363,2,    226.6,2,   227.5,2,    46.5,2,    24.7,2,    0.01,2,   1.611,4,   0.015,2,   0.009,2,   0.032,2,     2203.8,2,    2329,2,  -999.0,9, -999.00,   7.6893,2,       25,-999.000,9,-999.0000,9, -999.00,9,  -999.0,9,  -999.0,   0.169,3, -999.00,9,  40.2634,2, -999.00,9, 2198.60,  -999.0,9,   2.5410,     27.795,    35.0006,2,     -999.0,9,     -999.0,9,     -999.0,     -999.0,9,     -999.0
33RO20110926,        A10,      71,          1,          6,      11029,2,20111019,       0208,   -29.9983,   -26.3510,       4824,  2599.0,   2.7347,  34.8878,2,  34.8895,2,    241.4,2,   242.6,2,    38.9,2,    22.4,2,    0.01,2,   1.439,4,   0.007,2,   0.006,2,   0.031,2,     2189.1,2,  2324.9,2,  -999.0,9, -999.00,   7.7146,2,       25,-999.000,9,-999.0000,9, -999.00,9,  -999.0,9,  -999.0,   0.130,3, -999.00,9,  40.1463,2, -999.00,9, 2599.00,  -999.0,9,   2.5302,     27.837,    35.0541,6,     -999.0,9,     -999.0,9,     -999.0,     -999.0,9,     -999.0
33RO20110926,        A10,      71,          1,          5,      11704,2,20111019,       0208,   -29.9983,   -26.3510,       4824,  2998.6,   2.6380,  34.8988,2,  34.9000,2,    247.5,2,   248.1,2,    38.7,2,    21.8,2,    0.01,2,   1.402,4,   0.005,2,   0.004,2,   0.000,2,     2185.3,2,  2331.4,2,  -999.0,9, -999.00,   7.7264,2,       25,-999.000,9,-999.0000,9, -999.00,9,  -999.0,9,  -999.0,   0.108,3, -999.00,9,  40.8683,2, -999.00,9, 2998.60,  -999.0,9,   2.3953,     27.859,    35.0646,2,     -999.0,9,     -999.0,9,     -999.0,     -999.0,9,     -999.0
33RO20110926,        A10,      71,          1,          4,      11030,2,20111019,       0208,   -29.9983,   -26.3510,       4824,  3398.1,   2.2949,  34.8730,2,  34.8735,2,    245.5,2,   246.1,2,    49.2,2,    23.0,2,    0.01,2,   1.533,4,   0.007,2,   0.004,2,   0.040,2,     2195.4,2,  2330.8,2,  -999.0,9, -999.00,   7.7156,2,       25,-999.000,9,-999.0000,9, -999.00,9,  -999.0,9,  -999.0,   0.110,3, -999.00,9,-999.0000,5, -999.00,9, 3398.10,  -999.0,9,   2.0186,     27.869,    35.0379,2,     -999.0,9,     -999.0,9,     -999.0,     -999.0,9,     -999.0
33RO20110926,        A10,      71,          1,          3,      11703,2,20111019,       0208,   -29.9983,   -26.3510,       4824,  3849.3,   1.5907,  34.8014,2,  34.8025,2,    235.2,2,   234.9,2,    76.1,6,    26.5,6,    0.01,6,   1.918,4,   0.027,2,   0.014,2,   0.136,2,     2222.8,2,  2349.3,2,  -999.0,9, -999.00,   7.6713,2,       25,-999.000,9,-999.0000,9, -999.00,9,  -999.0,9,  -999.0,   0.180,3, -999.00,9,  41.0634,2, -999.00,9, 3849.30,  -999.0,9,   1.2848,     27.867,    34.9666,2,     -999.0,9,     -999.0,9,     -999.0,     -999.0,9,     -999.0
33RO20110926,        A10,      71,          1,          2,      11702,2,20111019,       0208,   -29.9983,   -26.3510,       4824,  4350.4,   1.2392,  34.7583,2,  34.7594,2,    226.5,2,   226.8,2,    93.4,2,    29.0,2,    0.01,2,   2.160,4,   0.071,2,   0.034,2,   0.097,2,     2240.2,2,  2353.3,2,  -999.0,9, -999.00,   7.6525,2,       25,-999.000,9,-999.0000,9, -999.00,9,  -999.0,9,  -999.0,   0.301,3, -999.00,9,   38.078,2, -999.00,9, 4350.40,  -999.0,9,   0.8887,     27.859,    34.9233,2,     -999.0,9,     -999.0,9,     -999.0,     -999.0,9,     -999.0
33RO20110926,        A10,      71,          1,          1,      11701,2,20111019,       0208,   -29.9983,   -26.3510,       4824,  4852.1,   1.2162,  34.7488,2,  34.7506,2,    225.0,2,   225.5,2,    96.8,2,    29.3,2,    0.01,2,   2.216,4,   0.093,6,   0.045,6,   0.111,6,     2245.9,6,  2356.5,6,  -999.0,9, -999.00,   7.6403,6,       25,-999.000,9,-999.0000,9, -999.00,9,  -999.0,9,  -999.0,   0.378,3, -999.00,9,  40.1171,2, -999.00,9, 4852.10,  -999.0,9,   0.8087,     27.857,    34.9144,2,     -999.0,9,     -999.0,9,     -999.0,     -999.0,9,     -999.0