BOTTLE,20220815CCHSIOAMB
EXPOCODE,SECT_ID,STNNBR,CASTNO,SAMPNO,BTLNBR,BTLNBR_FLAG_W,DATE,TIME,LATITUDE,LONGITUDE,DEPTH,CTDPRS,CTDTMP,CTDSAL,CTDSAL_FLAG_W,SALNTY,SALNTY_FLAG_W,CTDOXY,CTDOXY_FLAG_W,OXYGEN,OXYGEN_FLAG_W,SILCAT,SILCAT_FLAG_W,NITRAT,NITRAT_FLAG_W,NITRIT,NITRIT_FLAG_W,PHSPHT,PHSPHT_FLAG_W,CFC-11,CFC-11_FLAG_W,CFC-12,CFC-12_FLAG_W,SF6,SF6_FLAG_W,TCARBN,TCARBN_FLAG_W,ALKALI,ALKALI_FLAG_W,PCO2,PCO2_FLAG_W,PCO2TMP,PH_SWS,PH_SWS_FLAG_W,PH_TMP,TRITUM,TRITUM_FLAG_W,HELIUM,HELIUM_FLAG_W,DELC13,DELC13_FLAG_W,DELC14,DELC14_FLAG_W,C14ERR,CCL4,CCL4_FLAG_W,DELO18,DELO18_FLAG_W,DOC,DOC_FLAG_W,TDN,TDN_FLAG_W,CTDRAW,14C-DOC,14C-DOC_FLAG_W,THETA,SIG0,SALTREF,SALTREF_FLAG_W,BLACKC,BLACKC_FLAG_W,PIGMENTS,PIGMENTS_FLAG_W,14C-DOCERR,13C-DOC,13C-DOC_FLAG_W,13C-DOCERR
,,,,,,,,,,,METERS,DBAR,ITS-90,PSS-78,,PSS-78,,UMOL/KG,,UMOL/KG,,UMOL/KG,,UMOL/KG,,UMOL/KG,,UMOL/KG,,PMOL/KG,,PMOL/KG,,FMOL/KG,,UMOL/KG,,UMOL/KG,,UATM,,DEG C,,,DEG C,TU,,NMOL/KG,,/MILLE,,/MILLE,,/MILLE,PMOL/KG,,/MILLE,,UMOL/KG,,UMOL/KG,,DBAR,/MILLE,,DEG C,KG/M^3,G/KG,,,,,,/MILLE,/MILLE,,/MILLE
33RO20110926,        A10,      19,          1,         24,      11714,4,20111002,       2134,   -29.7504,     5.5755,       5068,     4.3,  17.0635,  35.6754,2,  35.6753,2,    248.2,2,   247.3,2,     1.8,2,     0.0,2,    0.01,2,   0.150,4,   2.520,6,   1.498,6,   1.491,6,     2075.5,6,  2344.4,2,  -999.0,9, -999.00,   7.9759,2,       25,-999.000,9,-999.0000,9, -999.00,9,  -999.0,9,  -999.0,   3.212,3, -999.00,9,  61.6293,2,    4.48,2,    4.30,  -999.0,9,  17.0628,     26.018,    35.8436,2,     -999.0,9,     -999.0,1,     -999.0,     -999.0,9,     -999.0
33RO20110926,        A10,      19,          1,         23,      11713,2,20111002,       2134,   -29.7504,     5.5755,       5068,    49.7,  16.3898,  35.6594,2,  35.6590,2,    247.1,2,   248.3,2,     1.7,2,     0.5,2,    0.13,2,   0.190,4,   2.533,2,   1.503,2,   1.523,2,     2076.9,2,  2342.8,6,  -999.0,9, -999.00,   7.9654,6,       25,-999.000,9,-999.0000,9, -999.00,9,  -999.0,9,  -999.0,   2.911,3, -999.00,9,  60.2927,2,    4.81,2,   49.70,  -999.0,9,  16.3818,     26.165,    35.8271,2,     -999.0,9,     -999.0,1,     -999.0,     -999.0,9,     -999.0
33RO20110926,        A10,      19,          1,         22,      11712,4,20111002,       2134,   -29.7504,     5.5755,       5068,    89.7,  16.1285,  35.6440,2,  35.6426,2,    237.3,2,   237.6,2,     2.2,2,     1.5,2,    0.73,2,   0.262,4,   2.543,2,   1.512,2,   1.518,2,     2086.4,2,  2338.8,2,  -999.0,9, -999.00,   7.9509,2,       25,-999.000,9,-999.0000,9, -999.00,9,  -999.0,9,  -999.0,   2.259,3, -999.00,9,  57.4049,2,    5.93,2,   89.70,  -999.0,9,  16.1142,     26.216,    35.8107,2,     -999.0,9,     -999.0,1,     -999.0,     -999.0,9,     -999.0
33RO20110926,        A10,      19,          1,         21,      11010,4,20111002,       2134,   -29.7504,     5.5755,       5068,   149.4,  15.9367,  35.6157,2,  35.6127,2,    234.7,2,   234.7,2,     2.3,2,     2.4,2,    0.22,2,   0.293,4,   2.567,2,   1.523,2,   1.459,2,     2089.9,2,  2339.8,2,  -999.0,9, -999.00,-999.0000,5,  -999.00,-999.000,9,-999.0000,9, -999.00,9,  -999.0,9,  -999.0,   2.025,3, -999.00,9,  58.9073,2,    6.51,2,  149.40,  -999.0,9,  15.9130,     26.239,    35.7806,2,     -999.0,9,     -999.0,9,     -999.0,     -999.0,9,     -999.0
33RO20110926,        A10,      19,          1,         20,      11715,2,20111002,       2134,   -29.7504,     5.5755,       5068,   199.5,  13.9224,  35.2524,2,  35.2520,2,    215.7,2,     218,2,     3.2,2,     7.2,2,    0.02,2,   0.554,4,   2.848,2,   1.659,2,   1.419,2,     2109.7,2,    2320,2,  -999.0,9, -999.00,   7.8668,2,       25,-999.000,9,-999.0000,9, -999.00,9,  -999.0,9,  -999.0,   0.952,3, -999.00,9,     50.4,2,   11.46,2,  199.50,  -999.0,9,  13.8936,     26.404,    35.4183,2,     -999.0,9,     -999.0,9,     -999.0,     -999.0,9,     -999.0
33RO20110926,        A10,      19,          1,         19,      11007,4,20111002,       2134,   -29.7504,     5.5755,       5068,   274.1,  12.5998,  35.0745,2,  35.0734,2,    216.4,2,   215.3,2,     4.0,2,    10.6,2,    0.01,2,   0.730,4,   3.022,2,   1.745,2,   1.390,2,     2119.9,2,  -999.0,5,  -999.0,9, -999.00,-999.0000,5,  -999.00,-999.000,9,-999.0000,9, -999.00,9,  -999.0,9,  -999.0,   1.005,3, -999.00,9,  48.5756,2, -999.00,9,  274.10,  -999.0,9,  12.5627,     26.537,    35.2388,2,     -999.0,9,     -999.0,9,     -999.0,     -999.0,9,     -999.0
33RO20110926,        A10,      19,          1,         18,      11710,4,20111002,       2134,   -29.7504,     5.5755,       5068,   359.0,  11.2792,  34.9541,2,  34.9528,2,    213.9,2,   214.5,2,     5.2,2,    14.0,2,    0.01,2,   0.913,4,   3.192,2,   1.763,2,   1.288,2,       2130,2,  2294.5,4,  -999.0,9, -999.00,   7.7946,2,       25,-999.000,9,-999.0000,9, -999.00,9,  -999.0,9,  -999.0,   1.027,3, -999.00,9,  46.3122,2, -999.00,9,  359.00,  -999.0,9,  11.2339,     26.696,    35.1176,2,     -999.0,9,     -999.0,9,     -999.0,     -999.0,9,     -999.0
33RO20110926,        A10,      19,          1,         17,      11023,4,20111002,       2134,   -29.7504,     5.5755,       5068,   445.0,   9.7078,  34.7564,2,  34.7579,2,    212.1,2,   211.6,2,     7.5,2,    17.8,2,    0.01,2,   1.136,4,   3.245,2,   1.750,2,   1.124,2,     2141.4,2,  2297.3,2,  -999.0,9, -999.00,   7.7526,2,       25,-999.000,9,-999.0000,9, -999.00,9,  -999.0,9,  -999.0,   1.385,3, -999.00,9,    46.39,2, -999.00,9,  445.00,  -999.0,9,   9.6566,     26.820,    34.9218,2,     -999.0,9,     -999.0,9,     -999.0,     -999.0,9,     -999.0
33RO20110926,        A10,      19,          1,         16,      11709,4,20111002,       2134,   -29.7504,     5.5755,       5068,   583.8,   7.1388,  34.4805,2,  34.4802,2,    208.5,2,   208.6,2,    13.7,2,    24.5,2,    0.01,2,   1.539,4,   3.196,2,   1.664,2,   0.884,2,     2163.1,2,  2287.9,4,  -999.0,9, -999.00,   7.6765,4,       25,-999.000,9,-999.0000,9, -999.00,9,  -999.0,9,  -999.0,   2.038,3, -999.00,9,    43.16,2, -999.00,9,  583.80,  -999.0,9,   7.0824,     26.603,    34.6428,2,     -999.0,9,     -999.0,9,     -999.0,     -999.0,9,     -999.0
33RO20110926,        A10,      19,          1,         15,      11006,4,20111002,       2134,   -29.7504,     5.5755,       5068,   581.7,   7.1438,  34.4810,2,  34.4802,2,    209.1,2,  -999.0,9,    22.2,4,    29.0,4,    0.00,4,   1.812,4,   2.933,2,   1.484,2,   0.762,2,       2180,4,  2290.4,4,  -999.0,9, -999.00,   7.6372,4,       25,-999.000,9,-999.0000,9, -999.00,9,  -999.0,9,  -999.0,   2.443,3, -999.00,9,  39.9512,2, -999.00,9, -999.00,  -999.0,9,-999.0000,     26.997,    34.6427,2,     -999.0,9,     -999.0,9,     -999.0,     -999.0,9,     -999.0
33RO20110926,        A10,      19,          1,         14,      11708,2,20111002,       2134,   -29.7504,     5.5755,       5068,   885.1,   4.0973,  34.3601,2,  34.3598,2,    199.8,2,   200.6,2,    35.1,2,    31.9,2,    0.00,2,   2.034,4,   1.951,2,   0.957,2,   0.420,2,     2204.5,2,  2302.8,4,  -999.0,9, -999.00,   7.6032,4,       25,-999.000,9,-999.0000,9, -999.00,9,  -999.0,9,  -999.0,   1.885,3, -999.00,9,  38.7024,2, -999.00,9,  885.10,  -999.0,9,   4.0307,     27.274,    34.5218,2,     -999.0,9,     -999.0,9,     -999.0,     -999.0,9,     -999.0
33RO20110926,        A10,      19,          1,         13,      11031,2,20111002,       2134,   -29.7504,     5.5755,       5068,  1034.1,   3.5740,  34.4410,2,  34.4417,2,    185.2,2,   183.3,2,    46.4,2,    33.2,2,    0.00,2,   2.157,4,   1.054,2,   0.502,2,   0.177,2,     2225.9,2,  2313.5,2,  -999.0,9, -999.00,   7.5814,2,       25,-999.000,9,-999.0000,9, -999.00,9,  -999.0,9,  -999.0,   1.184,3, -999.00,9,  38.6927,2, -999.00,9, 1034.10,  -999.0,9,   3.4990,     27.392,    34.6042,2,     -999.0,9,     -999.0,9,     -999.0,     -999.0,9,     -999.0
33RO20110926,        A10,      19,          1,         12,      11027,2,20111002,       2134,   -29.7504,     5.5755,       5068,  1236.7,   3.1960,  34.5712,2,  34.5710,2,    178.7,2,     179,2,    53.2,2,    32.5,2,    0.00,2,   2.130,4,   0.380,2,   0.174,2,   0.000,2,       2233,6,  2324.9,6,  -999.0,9, -999.00,   7.5829,6,       25,-999.000,9,-999.0000,9, -999.00,9,  -999.0,9,  -999.0,   0.511,3, -999.00,9,  37.6293,2, -999.00,9, 1236.70,  -999.0,9,   3.1078,     27.533,    34.7340,2,     -999.0,9,     -999.0,9,     -999.0,     -999.0,9,     -999.0
33RO20110926,        A10,      19,          1,         11,      11707,2,20111002,       2134,   -29.7504,     5.5755,       5068,  1484.7,   3.1805,  34.7179,2,  34.7170,2,    191.3,2,   192.5,2,    47.6,2,    29.6,2,    0.00,2,   1.914,4,   0.090,2,   0.042,2,   0.000,2,       2221,2,  2324.7,2,  -999.0,9, -999.00,   7.6232,2,       25,-999.000,9,-999.0000,9, -999.00,9,  -999.0,9,  -999.0,   0.158,3, -999.00,9,  39.0341,2, -999.00,9, 1484.70,  -999.0,9,   3.0716,     27.652,    34.8807,2,     -999.0,9,     -999.0,9,     -999.0,     -999.0,9,     -999.0
33RO20110926,        A10,      19,          1,         10,      11003,2,20111002,       2134,   -29.7504,     5.5755,       5068,  1759.1,   3.1171,  34.8094,2,  34.8090,2,    208.3,2,   210.7,2,    42.6,2,    26.7,2,    0.00,2,   1.719,4,   0.030,2,   0.017,2,   0.054,2,     2207.5,2,  2326.1,2,  -999.0,9, -999.00,   7.6523,2,       25,-999.000,9,-999.0000,9, -999.00,9,  -999.0,9,  -999.0,   0.076,3, -999.00,9,     39.2,2, -999.00,9, 1759.10,  -999.0,9,   2.9849,     27.734,    34.9732,6,     -999.0,9,     -999.0,9,     -999.0,     -999.0,9,     -999.0
33RO20110926,        A10,      19,          1,          9,      11706,2,20111002,       2134,   -29.7504,     5.5755,       5068,  2060.7,   2.9613,  34.8551,2,  34.8529,2,    222.7,2,   223.7,2,    41.3,2,    24.8,2,    0.00,2,   1.600,4,   0.014,2,   0.007,2,   0.000,2,     2200.1,2,  2329.7,2,  -999.0,9, -999.00,   7.6863,2,       25,-999.000,9,-999.0000,9, -999.00,9,  -999.0,9,  -999.0,   0.064,3, -999.00,9,  38.9854,2, -999.00,9, 2060.70,  -999.0,9,   2.8040,     27.785,    35.0172,2,     -999.0,9,     -999.0,9,     -999.0,     -999.0,9,     -999.0
33RO20110926,        A10,      19,          1,          8,      11033,2,20111002,       2134,   -29.7504,     5.5755,       5068,  2401.0,   2.7073,  34.8623,2,  34.8612,2,    229.0,2,   228.4,2,    45.3,2,    24.3,2,    0.00,2,   1.585,4,   0.008,2,   0.004,2,   0.000,2,     2200.3,2,  2335.9,2,  -999.0,9, -999.00,   7.6935,2,       25,-999.000,9,-999.0000,9, -999.00,9,  -999.0,9,  -999.0,   0.036,3, -999.00,9,  39.7561,2, -999.00,9, 2401.00,  -999.0,9,   2.5224,     27.817,    35.0256,2,     -999.0,9,     -999.0,9,     -999.0,     -999.0,9,     -999.0
33RO20110926,        A10,      19,          1,          7,      11705,2,20111002,       2134,   -29.7504,     5.5755,       5068,  2784.7,   2.4618,  34.8553,2,  34.8557,2,    231.6,2,   230.3,2,    51.4,2,    24.5,2,    0.00,2,   1.616,4,   0.008,2,   0.005,2,   0.000,2,     2207.6,2,  2340.6,2,  -999.0,9, -999.00,   7.6875,2,       25,-999.000,9,-999.0000,9, -999.00,9,  -999.0,9,  -999.0,   0.054,3, -999.00,9,  39.5122,2, -999.00,9, 2784.70,  -999.0,9,   2.2446,     27.836,    35.0201,2,     -999.0,9,     -999.0,9,     -999.0,     -999.0,9,     -999.0
33RO20110926,        A10,      19,          1,          6,      11029,2,20111002,       2134,   -29.7504,     5.5755,       5068,  3158.7,   2.3683,  34.8583,2,  34.8581,2,    232.4,2,   232.5,2,    53.4,2,    24.5,2,    0.01,2,   1.615,4,   0.008,2,   0.004,2,   0.000,2,     2209.5,2,  2345.6,2,  -999.0,9, -999.00,   7.6955,2,       25,-999.000,9,-999.0000,9, -999.00,9,  -999.0,9,  -999.0,   0.035,3, -999.00,9,  39.6878,2, -999.00,9, 3158.70,  -999.0,9,   2.1154,     27.849,    35.0225,2,     -999.0,9,     -999.0,9,     -999.0,     -999.0,9,     -999.0
33RO20110926,        A10,      19,          1,          5,      11704,2,20111002,       2134,   -29.7504,     5.5755,       5068,  3534.9,   2.2289,  34.8509,2,  34.8508,2,    230.0,2,   231.2,2,    58.6,6,    25.1,6,    0.01,6,   1.648,4,   0.010,2,   0.006,2,   0.000,2,     2214.6,2,  2348.6,2,  -999.0,9, -999.00,   7.6944,2,       25,-999.000,9,-999.0000,9, -999.00,9,  -999.0,9,  -999.0,   0.079,3, -999.00,9,  41.0439,2, -999.00,9, 3534.90,  -999.0,9,   1.9397,     27.857,    35.0152,2,     -999.0,9,     -999.0,9,     -999.0,     -999.0,9,     -999.0
33RO20110926,        A10,      19,          1,          4,      11030,2,20111002,       2134,   -29.7504,     5.5755,       5068,  3910.0,   1.8473,  34.8074,2,  34.8076,2,    224.3,2,     220,4,    75.4,6,    27.2,6,    0.01,6,   1.842,4,   0.026,2,   0.014,2,   0.000,2,     2228.1,2,  2353.5,2,  -999.0,9, -999.00,   7.6633,2,       25,-999.000,9,-999.0000,9, -999.00,9,  -999.0,9,  -999.0,   0.067,3, -999.00,9,  39.7366,2, -999.00,9, 3910.00,  -999.0,9,   1.5277,     27.854,    34.9717,2,     -999.0,9,     -999.0,9,     -999.0,     -999.0,9,     -999.0
33RO20110926,        A10,      19,          1,          3,      11703,2,20111002,       2134,   -29.7504,     5.5755,       5068,  4301.1,   1.3562,  34.7587,2,  34.7583,2,    218.6,2,   219.8,2,    95.3,6,    29.6,6,    0.00,6,   2.055,4,   0.050,2,   0.023,2,   0.000,2,     2244.4,2,  2360.4,2,  -999.0,9, -999.00,   7.6453,2,       25,-999.000,9,-999.0000,9, -999.00,9,  -999.0,9,  -999.0,   0.130,3, -999.00,9,  40.0878,2, -999.00,9, 4301.10,  -999.0,9,   1.0076,     27.851,    34.9222,2,     -999.0,9,     -999.0,9,     -999.0,     -999.0,9,     -999.0
33RO20110926,        A10,      19,          1,          2,      11702,2,20111002,       2134,   -29.7504,     5.5755,       5068,  4699.7,   1.1695,  34.7385,2,  34.7381,2,    216.3,2,   217.7,2,   103.6,6,    30.7,6,    0.01,6,   2.147,4,   0.065,2,   0.030,2,   0.000,2,     2251.4,2,    2369,2,  -999.0,9, -999.00,   7.6384,2,       25,-999.000,9,-999.0000,9, -999.00,9,  -999.0,9,  -999.0,   0.176,3, -999.00,9,  39.8244,2, -999.00,9, 4699.70,  -999.0,9,   0.7815,     27.849,    34.9019,2,     -999.0,9,     -999.0,9,     -999.0,     -999.0,9,     -999.0
33RO20110926,        A10,      19,          1,          1,      11701,2,20111002,       2134,   -29.7504,     5.5755,       5068,  5182.4,   1.1887,  34.7343,2,  34.7347,2,    216.0,2,   214.9,2,   105.1,2,    30.6,2,    0.00,2,   2.160,4,   0.078,6,   0.037,6,   0.000,6,     2256.2,6,  2368.5,6,  -999.0,9, -999.00,   7.6328,6,       25,-999.000,9,-999.0000,9, -999.00,9,  -999.0,9,  -999.0,   0.179,3, -999.00,9,  37.9805,2, -999.00,9, 5182.40,  -999.0,9,   0.7425,     27.849,    34.8985,2,     -999.0,9,     -999.0,9,     -999.0,     -999.0,9,     -999.0