BOTTLE,20220815CCHSIOAMB
EXPOCODE,SECT_ID,STNNBR,CASTNO,SAMPNO,BTLNBR,BTLNBR_FLAG_W,DATE,TIME,LATITUDE,LONGITUDE,DEPTH,CTDPRS,CTDTMP,CTDSAL,CTDSAL_FLAG_W,SALNTY,SALNTY_FLAG_W,CTDOXY,CTDOXY_FLAG_W,OXYGEN,OXYGEN_FLAG_W,SILCAT,SILCAT_FLAG_W,NITRAT,NITRAT_FLAG_W,NITRIT,NITRIT_FLAG_W,PHSPHT,PHSPHT_FLAG_W,CFC-11,CFC-11_FLAG_W,CFC-12,CFC-12_FLAG_W,SF6,SF6_FLAG_W,TCARBN,TCARBN_FLAG_W,ALKALI,ALKALI_FLAG_W,PCO2,PCO2_FLAG_W,PCO2TMP,PH_SWS,PH_SWS_FLAG_W,PH_TMP,TRITUM,TRITUM_FLAG_W,HELIUM,HELIUM_FLAG_W,DELC13,DELC13_FLAG_W,DELC14,DELC14_FLAG_W,C14ERR,CCL4,CCL4_FLAG_W,DELO18,DELO18_FLAG_W,DOC,DOC_FLAG_W,TDN,TDN_FLAG_W,CTDRAW,14C-DOC,14C-DOC_FLAG_W,THETA,SIG0,SALTREF,SALTREF_FLAG_W,BLACKC,BLACKC_FLAG_W,PIGMENTS,PIGMENTS_FLAG_W,14C-DOCERR,13C-DOC,13C-DOC_FLAG_W,13C-DOCERR
,,,,,,,,,,,METERS,DBAR,ITS-90,PSS-78,,PSS-78,,UMOL/KG,,UMOL/KG,,UMOL/KG,,UMOL/KG,,UMOL/KG,,UMOL/KG,,PMOL/KG,,PMOL/KG,,FMOL/KG,,UMOL/KG,,UMOL/KG,,UATM,,DEG C,,,DEG C,TU,,NMOL/KG,,/MILLE,,/MILLE,,/MILLE,PMOL/KG,,/MILLE,,UMOL/KG,,UMOL/KG,,DBAR,/MILLE,,DEG C,KG/M^3,G/KG,,,,,,/MILLE,/MILLE,,/MILLE
33RO20110926,        A10,     100,          1,         24,      11714,2,20111025,       1646,   -29.8837,   -40.3646,       4268,     4.5,  19.2396,  36.1793,2,  36.1792,2,    231.8,2,   225.6,4,     0.7,2,     0.0,2,    0.00,2,   0.025,4,   2.175,2,   1.327,2,   1.329,2,     2075.6,2,  2371.6,2,  -999.0,9, -999.00,    8.016,2,       25,-999.000,9,-999.0000,1,    1.19,2,    60.0,2,     3.6,   2.679,4, -999.00,9,-999.0000,9, -999.00,9,    4.50,  -999.0,9,  19.2388,     25.861,    36.3498,2,     -999.0,9,     -999.0,1,     -999.0,     -999.0,9,     -999.0
33RO20110926,        A10,     100,          1,         23,      11713,2,20111025,       1646,   -29.8837,   -40.3646,       4268,    39.7,  19.0436,  36.1669,2,  36.1685,2,    232.5,2,   232.1,2,     0.7,2,     0.0,2,    0.00,2,   0.031,4,   2.223,6,   1.353,6,   1.401,6,     2074.9,6,  2372.2,6,  -999.0,9, -999.00,   8.0165,6,       25,-999.000,1,-999.0000,1, -999.00,9,  -999.0,9,  -999.0,   2.992,4, -999.00,1,-999.0000,9, -999.00,9,   39.70,  -999.0,9,  19.0365,     25.900,    36.3391,2,     -999.0,9,     -999.0,9,     -999.0,     -999.0,9,     -999.0
33RO20110926,        A10,     100,          1,         22,      11712,2,20111025,       1646,   -29.8837,   -40.3646,       4268,    90.3,  18.3500,  36.1587,2,  36.1577,2,    228.8,2,   229.1,2,     0.8,2,     0.1,2,    0.12,2,   0.062,4,   2.264,2,   1.373,2,   1.408,2,-999.000000,9,  -999.0,9,  -999.0,9, -999.00,-999.0000,5,  -999.00,-999.000,1,-999.0000,1, -999.00,9,  -999.0,9,  -999.0,   2.528,4, -999.00,1,-999.0000,9, -999.00,9,   90.30,  -999.0,9,  18.3342,     26.076,    36.3282,2,     -999.0,9,     -999.0,1,     -999.0,     -999.0,9,     -999.0
33RO20110926,        A10,     100,          1,         21,      11010,2,20111025,       1646,   -29.8837,   -40.3646,       4268,   139.4,  17.9444,  36.0957,2,  36.0962,2,    228.0,2,   227.3,2,     0.9,2,     0.6,2,    0.12,2,   0.089,4,   2.312,2,   1.404,2,   1.415,2,     2085.5,2,  2367.8,2,  -999.0,9, -999.00,    7.992,2,       25,-999.000,1,-999.0000,1, -999.00,9,  -999.0,9,  -999.0,   2.587,4, -999.00,1,-999.0000,9, -999.00,9,  139.40,  -999.0,9,  17.9204,     26.132,    36.2664,2,     -999.0,9,     -999.0,1,     -999.0,     -999.0,9,     -999.0
33RO20110926,        A10,     100,          1,         20,      11715,2,20111025,       1646,   -29.8837,   -40.3646,       4268,   195.3,  16.8760,  35.8566,2,  35.8596,2,    220.7,2,   220.1,2,     1.3,2,     2.3,2,    0.01,2,   0.178,4,   2.436,2,   1.468,2,   1.339,2,-999.000000,9,  -999.0,9,  -999.0,9, -999.00,-999.0000,5,  -999.00,-999.000,1,-999.0000,1, -999.00,9,  -999.0,9,  -999.0,   1.584,4, -999.00,1,-999.0000,9, -999.00,9,  195.30,  -999.0,9,  16.8438,     26.211,    36.0287,2,     -999.0,9,     -999.0,9,     -999.0,     -999.0,9,     -999.0
33RO20110926,        A10,     100,          1,         19,      11007,2,20111025,       1646,   -29.8837,   -40.3646,       4268,   289.7,  14.7480,  35.5005,2,  35.5039,2,    212.3,2,   211.4,2,     2.4,2,     6.5,2,    0.01,2,   0.390,4,   2.739,2,   1.610,2,   1.306,2,       2111,2,  2335.1,2,  -999.0,9, -999.00,   7.8898,2,       25,-999.000,1,-999.0000,1, -999.00,9,  -999.0,9,  -999.0,   1.012,3, -999.00,1,-999.0000,9, -999.00,9,  289.70,  -999.0,9,  14.7043,     26.426,    35.6713,2,     -999.0,9,     -999.0,9,     -999.0,     -999.0,9,     -999.0
33RO20110926,        A10,     100,          1,         18,      11710,2,20111025,       1646,   -29.8837,   -40.3646,       4268,   390.1,  13.6154,  35.3671,2,  35.3684,2,    213.2,2,   212.3,2,     3.1,2,     9.2,2,    0.01,2,   0.505,4,   2.879,2,   1.653,2,   1.258,2,-999.000000,9,  -999.0,9,  -999.0,9, -999.00,-999.0000,5,  -999.00,-999.000,1,-999.0000,1, -999.00,9,  -999.0,9,  -999.0,   1.068,3, -999.00,1,-999.0000,9, -999.00,9,  390.10,  -999.0,9,  13.5595,     26.564,    35.5352,2,     -999.0,9,     -999.0,9,     -999.0,     -999.0,9,     -999.0
33RO20110926,        A10,     100,          1,         17,      11023,2,20111025,       1646,   -29.8837,   -40.3646,       4268,   475.6,  11.9231,  35.0866,2,  34.8208,4,    209.4,2,   215.1,4,    22.1,4,    20.2,4,    0.01,4,   1.164,4,   1.226,4,   0.657,4,   0.352,4,       2156,3,  2307.7,4,  -999.0,9, -999.00,   7.7505,4,       25,-999.000,1,-999.0000,1, -999.00,9,  -999.0,9,  -999.0,   1.101,4, -999.00,1,-999.0000,9, -999.00,9,  475.60,  -999.0,9,  11.8606,     26.475,    34.9850,2,     -999.0,9,     -999.0,9,     -999.0,     -999.0,9,     -999.0
33RO20110926,        A10,     100,          1,         16,      11709,2,20111025,       1646,   -29.8837,   -40.3646,       4268,   575.7,   9.5132,  34.7440,2,  34.7511,2,    204.5,2,   203.8,2,     7.5,6,    19.1,6,    0.01,6,   0.966,4,   3.155,2,   1.665,2,   0.922,2,-999.000000,9,  -999.0,9,  -999.0,9, -999.00,-999.0000,5,  -999.00,-999.000,1,-999.0000,1, -999.00,9,  -999.0,9,  -999.0,   1.786,3, -999.00,1,-999.0000,9, -999.00,9,  575.70,  -999.0,9,   9.4474,     26.850,    34.9150,2,     -999.0,9,     -999.0,9,     -999.0,     -999.0,9,     -999.0
33RO20110926,        A10,     100,          1,         15,      11006,2,20111025,       1646,   -29.8837,   -40.3646,       4268,   669.8,   7.3249,  34.4967,2,  34.4975,2,    211.3,2,   210.3,2,    11.7,2,    23.8,2,    0.00,2,   1.239,4,   3.212,2,   1.640,2,   0.791,2,     2160.9,2,    2289,2,  -999.0,9, -999.00,   7.6964,2,       25,-999.000,1,-999.0000,1, -999.00,9,  -999.0,9,  -999.0,   2.577,3, -999.00,1,-999.0000,9, -999.00,9,  669.80,  -999.0,9,   7.2589,     26.986,    34.6602,2,     -999.0,9,     -999.0,9,     -999.0,     -999.0,9,     -999.0
33RO20110926,        A10,     100,          1,         14,      11708,2,20111025,       1646,   -29.8837,   -40.3646,       4268,   775.1,   5.4976,  34.3349,2,  34.3362,2,    223.5,2,   224.6,2,    16.6,2,    27.2,2,    0.00,2,   1.429,4,   3.187,2,   1.604,2,   0.729,2,-999.000000,9,  -999.0,9,  -999.0,9, -999.00,-999.0000,5,  -999.00,-999.000,1,-999.0000,1, -999.00,9,  -999.0,9,  -999.0,   3.383,3, -999.00,1,-999.0000,9, -999.00,9,  775.10,  -999.0,9,   5.4315,     27.098,    34.4981,2,     -999.0,9,     -999.0,9,     -999.0,     -999.0,9,     -999.0
33RO20110926,        A10,     100,          1,         13,      11031,2,20111025,       1646,   -29.8837,   -40.3646,       4268,   874.9,   4.6951,  34.3016,2,  34.3021,2,    224.7,2,   222.8,2,    21.8,2,    29.2,2,    0.00,2,   1.565,4,   2.832,2,   1.403,2,   0.573,2,     2177.7,2,  2289.4,2,  -999.0,9, -999.00,   7.6483,2,       25,-999.000,1,-999.0000,1, -999.00,9,  -999.0,9,  -999.0,   3.255,3, -999.00,1,-999.0000,9, -999.00,9,  874.90,  -999.0,9,   4.6253,     27.164,    34.4638,2,     -999.0,9,     -999.0,9,     -999.0,     -999.0,9,     -999.0
33RO20110926,        A10,     100,          1,         12,      11027,2,20111025,       1646,   -29.8837,   -40.3646,       4268,   950.8,   4.0948,  34.2810,2,  34.2811,2,    224.2,2,     224,2,    26.3,2,    30.2,2,    0.00,2,   1.652,4,   2.642,2,   1.298,2,   0.543,2,-999.000000,9,  -999.0,9,  -999.0,9, -999.00,-999.0000,5,  -999.00,-999.000,1,-999.0000,1, -999.00,9,  -999.0,9,  -999.0,   3.283,3, -999.00,1,-999.0000,9, -999.00,9,  950.80,  -999.0,9,   4.0229,     27.212,    34.4427,2,     -999.0,9,     -999.0,9,     -999.0,     -999.0,9,     -999.0
33RO20110926,        A10,     100,          1,         11,      11707,2,20111025,       1646,   -29.8837,   -40.3646,       4268,  1174.2,   3.2698,  34.3959,2,  34.3955,2,    197.9,2,   198.5,2,    44.3,2,    32.7,2,    0.00,2,   1.945,4,   1.208,2,   0.585,2,   0.183,2,     2216.4,2,  2310.4,2,  -999.0,9, -999.00,   7.5924,2,       25,-999.000,1,-999.0000,1, -999.00,9,  -999.0,9,  -999.0,   1.933,3, -999.00,1,-999.0000,9, -999.00,9, 1174.20,  -999.0,9,   3.1862,     27.385,    34.5577,2,     -999.0,9,     -999.0,9,     -999.0,     -999.0,9,     -999.0
33RO20110926,        A10,     100,          1,         10,      11003,2,20111025,       1646,   -29.8837,   -40.3646,       4268,  1387.6,   3.0476,  34.5366,2,  34.5379,2,    188.0,2,   187.9,2,    52.4,2,    32.4,2,    0.00,2,   2.005,4,   0.445,2,   0.212,2,   0.047,2,     2226.9,2,    2317,6,  -999.0,9, -999.00,   7.5914,6,       25,-999.000,1,-999.0000,1, -999.00,9,  -999.0,9,  -999.0,   0.922,3, -999.00,1,-999.0000,9, -999.00,9, 1387.60,  -999.0,9,   2.9486,     27.521,    34.7007,2,     -999.0,9,     -999.0,9,     -999.0,     -999.0,9,     -999.0
33RO20110926,        A10,     100,          1,          9,      11706,2,20111025,       1646,   -29.8837,   -40.3646,       4268,  1571.4,   3.2247,  34.6958,2,  34.6956,2,    194.2,2,   195.6,2,    47.1,2,    29.5,2,    0.00,2,   1.805,4,   0.164,6,   0.080,6,   0.022,6,     2216.4,2,  2324.3,2,  -999.0,9, -999.00,   7.6312,2,       25,-999.000,1,-999.0000,1, -999.00,9,  -999.0,9,  -999.0,   0.550,3, -999.00,1,-999.0000,9, -999.00,9, 1571.40,  -999.0,9,   3.1079,     27.632,    34.8592,2,     -999.0,9,     -999.0,9,     -999.0,     -999.0,9,     -999.0
33RO20110926,        A10,     100,          1,          8,      11033,2,20111025,       1646,   -29.8837,   -40.3646,       4268,  1774.5,   3.4005,  34.8179,2,  34.8202,2,    213.3,2,   213.2,2,    38.2,6,    25.7,6,    0.00,6,   1.544,4,   0.134,2,   0.067,2,   0.000,2,-999.000000,9,  -999.0,9,  -999.0,9, -999.00,-999.0000,5,  -999.00,-999.000,9,-999.0000,1, -999.00,9,  -999.0,9,  -999.0,   0.486,3, -999.00,1,-999.0000,9, -999.00,9, 1774.50,  -999.0,9,   3.2631,     27.716,    34.9844,6,     -999.0,9,     -999.0,9,     -999.0,     -999.0,9,     -999.0
33RO20110926,        A10,     100,          1,          7,      11705,2,20111025,       1646,   -29.8837,   -40.3646,       4268,  2001.4,   3.4943,  34.9048,2,  34.9060,2,    233.3,2,   233.1,2,    28.7,2,    22.5,2,    0.00,2,   1.302,4,   0.177,2,   0.090,2,   0.000,2,     2182.8,2,  2315.7,2,  -999.0,9, -999.00,   7.7015,2,       25,-999.000,1,-999.0000,1, -999.00,9,  -999.0,9,  -999.0,   0.585,3, -999.00,9,-999.0000,9, -999.00,9, 2001.40,  -999.0,9,   3.3343,     27.777,    35.0706,6,     -999.0,9,     -999.0,9,     -999.0,     -999.0,9,     -999.0
33RO20110926,        A10,     100,          1,          6,      11029,2,20111025,       1646,   -29.8837,   -40.3646,       4268,  2384.5,   3.1497,  34.9116,2,  34.9118,2,    242.2,2,   242.4,2,    30.9,2,    21.8,2,    0.00,2,   1.286,4,   0.118,2,   0.061,2,   0.000,2,-999.000000,9,  -999.0,9,  -999.0,9, -999.00,-999.0000,5,  -999.00,-999.000,9,-999.0000,1, -999.00,9,  -999.0,9,  -999.0,   0.472,3, -999.00,9,-999.0000,9, -999.00,9, 2384.50,  -999.0,9,   2.9585,     27.819,    35.0764,2,     -999.0,9,     -999.0,9,     -999.0,     -999.0,9,     -999.0
33RO20110926,        A10,     100,          1,          5,      11704,2,20111025,       1646,   -29.8837,   -40.3646,       4268,  2599.9,   3.1034,  34.9312,2,  34.9317,2,    249.4,2,   249.1,2,    28.3,2,    20.7,2,    0.00,2,   1.212,4,   0.129,2,   0.065,2,   0.051,2,     2174.8,2,  2317.8,2,  -999.0,9, -999.00,   7.7246,2,       25,-999.000,1,-999.0000,1, -999.00,9,  -999.0,9,  -999.0,   0.479,3, -999.00,9,-999.0000,9, -999.00,9, 2599.90,  -999.0,9,   2.8916,     27.840,    35.0964,2,     -999.0,9,     -999.0,9,     -999.0,     -999.0,9,     -999.0
33RO20110926,        A10,     100,          1,          4,      11030,2,20111025,       1646,   -29.8837,   -40.3646,       4268,  2949.0,   2.8851,  34.9238,2,  34.9246,2,    251.4,2,   250.9,2,    31.1,2,    20.9,2,    0.00,2,   1.236,4,   0.093,2,   0.047,2,   0.000,2,-999.000000,9,  -999.0,9,  -999.0,9, -999.00,-999.0000,5,  -999.00,-999.000,9,-999.0000,1, -999.00,9,  -999.0,9,  -999.0,   0.419,3, -999.00,9,-999.0000,9, -999.00,9, 2949.00,  -999.0,9,   2.6422,     27.857,    35.0893,2,     -999.0,9,     -999.0,9,     -999.0,     -999.0,9,     -999.0
33RO20110926,        A10,     100,          1,          3,      11703,2,20111025,       1646,   -29.8837,   -40.3646,       4268,  3449.1,   2.3133,  34.8792,2,  34.8804,2,    248.9,2,   248.2,2, -999.00,5,  -999.0,5, -999.00,5,-999.000,5,   0.060,2,   0.032,2,   0.000,2,     2190.7,2,  2336.2,2,  -999.0,9, -999.00,   7.7204,2,       25,-999.000,1,-999.0000,1, -999.00,9,  -999.0,9,  -999.0,   0.319,3, -999.00,9,-999.0000,9, -999.00,9, 3449.10,  -999.0,9,   2.0311,     27.873,    35.0448,2,     -999.0,9,     -999.0,9,     -999.0,     -999.0,9,     -999.0
33RO20110926,        A10,     100,          1,          2,      11702,2,20111025,       1646,   -29.8837,   -40.3646,       4268,  3850.5,   0.9840,  34.7340,2,  34.7346,2,    222.4,2,   221.6,2,   101.9,6,    30.1,6,    0.00,6,   2.363,4,   0.183,2,   0.087,2,   0.083,2,-999.000000,9,  -999.0,9,  -999.0,9, -999.00,-999.0000,5,  -999.00,-999.000,1,-999.0000,1, -999.00,9,  -999.0,9,  -999.0,   0.461,3, -999.00,9,-999.0000,9, -999.00,9, 3850.50,  -999.0,9,   0.6950,     27.852,    34.8984,2,     -999.0,9,     -999.0,9,     -999.0,     -999.0,9,     -999.0
33RO20110926,        A10,     100,          1,          1,      11701,2,20111025,       1646,   -29.8837,   -40.3646,       4268,  4272.3,   0.2748,  34.6749,2,  34.6756,2,    220.8,2,   220.3,2,   124.9,2,    33.0,2,    0.00,2,   2.703,4,   0.375,6,   0.178,6,   0.068,6,       2264,6,  2365.4,6,  -999.0,9, -999.00,   7.6053,6,       25,-999.000,1,-999.0000,1, -999.00,9,  -999.0,9,  -999.0,   0.736,3, -999.00,9,-999.0000,9, -999.00,9, 4272.30,  -999.0,9,  -0.0374,     27.846,    34.8391,2,     -999.0,9,     -999.0,9,     -999.0,     -999.0,9,     -999.0