BOTTLE,20220815CCHSIOAMB
EXPOCODE,SECT_ID,STNNBR,CASTNO,SAMPNO,BTLNBR,BTLNBR_FLAG_W,DATE,TIME,LATITUDE,LONGITUDE,DEPTH,CTDPRS,CTDTMP,CTDSAL,CTDSAL_FLAG_W,SALNTY,SALNTY_FLAG_W,CTDOXY,CTDOXY_FLAG_W,OXYGEN,OXYGEN_FLAG_W,SILCAT,SILCAT_FLAG_W,NITRAT,NITRAT_FLAG_W,NITRIT,NITRIT_FLAG_W,PHSPHT,PHSPHT_FLAG_W,CFC-11,CFC-11_FLAG_W,CFC-12,CFC-12_FLAG_W,SF6,SF6_FLAG_W,TCARBN,TCARBN_FLAG_W,ALKALI,ALKALI_FLAG_W,PCO2,PCO2_FLAG_W,PCO2TMP,PH_SWS,PH_SWS_FLAG_W,PH_TMP,TRITUM,TRITUM_FLAG_W,HELIUM,HELIUM_FLAG_W,DELC13,DELC13_FLAG_W,DELC14,DELC14_FLAG_W,C14ERR,CCL4,CCL4_FLAG_W,DELO18,DELO18_FLAG_W,DOC,DOC_FLAG_W,TDN,TDN_FLAG_W,CTDRAW,14C-DOC,14C-DOC_FLAG_W,THETA,SIG0,SALTREF,SALTREF_FLAG_W,BLACKC,BLACKC_FLAG_W,PIGMENTS,PIGMENTS_FLAG_W,14C-DOCERR,13C-DOC,13C-DOC_FLAG_W,13C-DOCERR
,,,,,,,,,,,METERS,DBAR,ITS-90,PSS-78,,PSS-78,,UMOL/KG,,UMOL/KG,,UMOL/KG,,UMOL/KG,,UMOL/KG,,UMOL/KG,,PMOL/KG,,PMOL/KG,,FMOL/KG,,UMOL/KG,,UMOL/KG,,UATM,,DEG C,,,DEG C,TU,,NMOL/KG,,/MILLE,,/MILLE,,/MILLE,PMOL/KG,,/MILLE,,UMOL/KG,,UMOL/KG,,DBAR,/MILLE,,DEG C,KG/M^3,G/KG,,,,,,/MILLE,/MILLE,,/MILLE
33RO20110926,        A10,      57,          1,         24,      11714,2,20111014,       1311,   -29.9998,   -15.9503,       4003,     4.6,  18.0839,  35.9029,2,  35.9011,2,    237.6,2,   238.1,2,     1.5,2,     0.1,2,    0.01,2,   0.160,2,   2.345,2,   1.426,2,   1.456,2,     2086.4,6,  2353.7,6,  -999.0,9, -999.00,    7.982,6,       25,-999.000,9,-999.0000,9,    1.22,2,    54.0,2,     3.0,   3.105,4, -999.00,9,   60.361,2,    4.43,2,    4.60,  -999.0,9,  18.0831,     25.945,    36.0704,2,     -999.0,9,     -999.0,1,     -999.0,     -999.0,9,     -999.0
33RO20110926,        A10,      57,          1,         23,      11713,2,20111014,       1311,   -29.9998,   -15.9503,       4003,    45.4,  17.7754,  35.8936,2,  35.8947,2,    237.9,2,   238.7,2,     1.5,2,     0.1,2,    0.01,2,   0.161,2,   2.356,2,   1.427,2,   1.407,2,     2085.9,2,  2356.4,2,  -999.0,9, -999.00,   7.9799,2,       25,-999.000,9,-999.0000,9, -999.00,9,  -999.0,9,  -999.0,   3.188,4, -999.00,9,   61.639,2,    3.45,2,   45.40,  -999.0,9,  17.7677,     26.015,    36.0640,2,     -999.0,9,     -999.0,9,     -999.0,     -999.0,9,     -999.0
33RO20110926,        A10,      57,          1,         22,      11712,2,20111014,       1311,   -29.9998,   -15.9503,       4003,    94.8,  16.9216,  35.7757,2,  35.7733,2,    233.7,2,   230.4,2,     1.8,2,     1.2,2,    0.16,2,   0.254,2,   2.437,2,   1.469,2,   1.431,2,     2093.5,2,  2350.2,2,  -999.0,9, -999.00,   7.9569,2,       25,-999.000,9,-999.0000,9, -999.00,9,  -999.0,9,  -999.0,   1.726,4, -999.00,9,  45.6098,3,    4.74,2,   94.80,  -999.0,9,  16.9060,     26.133,    35.9419,2,     -999.0,9,     -999.0,1,     -999.0,     -999.0,9,     -999.0
33RO20110926,        A10,      57,          1,         21,      11010,2,20111014,       1311,   -29.9998,   -15.9503,       4003,   149.9,  15.6904,  35.5751,2,  35.5741,2,    226.6,2,   225.6,2,     2.3,2,     3.5,2,    0.03,2,   0.381,2,   2.582,2,   1.544,2,   1.463,2,     2100.1,2,  2336.6,2,  -999.0,9, -999.00,   7.9248,2,       25,-999.000,9,-999.0000,9, -999.00,9,  -999.0,9,  -999.0,   1.212,4, -999.00,9,  50.5171,2,    7.26,2,  149.90,  -999.0,9,  15.6669,     26.264,    35.7418,2,     -999.0,9,     -999.0,1,     -999.0,     -999.0,9,     -999.0
33RO20110926,        A10,      57,          1,         20,      11715,2,20111014,       1311,   -29.9998,   -15.9503,       4003,   250.0,  13.5786,  35.2517,2,  35.2566,2,    218.7,2,   218.5,2,     3.2,6,     7.9,6,    0.01,6,   0.650,6,   2.884,2,   1.681,2,   1.362,2,     2117.5,2,  2319.9,2,  -999.0,9, -999.00,   7.8647,2,       25,-999.000,9,-999.0000,9, -999.00,9,  -999.0,9,  -999.0,   0.823,3, -999.00,9,  50.7024,2, -999.00,9,  250.00,  -999.0,9,  13.5431,     26.481,    35.4229,2,     -999.0,9,     -999.0,9,     -999.0,     -999.0,9,     -999.0
33RO20110926,        A10,      57,          1,         19,      11007,2,20111014,       1311,   -29.9998,   -15.9503,       4003,   349.4,  12.1561,  35.0918,2,  35.0926,2,    216.7,2,   217.1,2,     4.2,2,    11.4,2,    0.01,2,   0.867,2,   3.063,2,   1.737,2,   1.289,2,     2128.6,2,  2311.1,2,  -999.0,9, -999.00,   7.8246,2,       25,-999.000,9,-999.0000,9, -999.00,9,  -999.0,9,  -999.0,   0.844,3, -999.00,9,  46.9659,2, -999.00,9,  349.40,  -999.0,9,  12.1098,     26.643,    35.2580,2,     -999.0,9,     -999.0,9,     -999.0,     -999.0,9,     -999.0
33RO20110926,        A10,      57,          1,         18,      11710,2,20111014,       1311,   -29.9998,   -15.9503,       4003,   450.5,  10.3311,  34.8474,2,  34.8533,2,    213.7,2,   213.2,2,     6.3,2,    16.1,2,    0.01,2,   1.160,2,   3.215,2,   1.768,2,   1.145,2,       2142,2,  2299.3,2,  -999.0,9, -999.00,   7.7735,2,       25,-999.000,9,-999.0000,9, -999.00,9,  -999.0,9,  -999.0,   1.010,3, -999.00,9,  48.3707,2, -999.00,9,  450.50,  -999.0,9,  10.2772,     26.787,    35.0176,2,     -999.0,9,     -999.0,9,     -999.0,     -999.0,9,     -999.0
33RO20110926,        A10,      57,          1,         17,      11023,2,20111014,       1311,   -29.9998,   -15.9503,       4003,   549.4,   8.7396,  34.6497,2,  34.6471,2,    208.7,2,   208.5,2,     9.3,6,    20.7,6,    0.01,6,   1.451,6,   3.244,6,   1.737,6,   0.995,6,     2156.3,2,  2289.4,2,  -999.0,9, -999.00,   7.7216,2,       25,-999.000,9,-999.0000,9, -999.00,9,  -999.0,9,  -999.0,   1.550,3, -999.00,9,     45.2,2, -999.00,9,  549.40,  -999.0,9,   8.6800,     26.893,    34.8105,2,     -999.0,9,     -999.0,9,     -999.0,     -999.0,9,     -999.0
33RO20110926,        A10,      57,          1,         16,      11709,2,20111014,       1311,   -29.9998,   -15.9503,       4003,   634.7,   7.2570,  34.4891,2,  34.4884,2,    211.4,2,     210,2,    12.9,2,    24.4,2,    0.01,2,   1.689,2,   3.258,2,   1.704,2,   0.898,2,     2168.7,3,  2284.9,2,  -999.0,9, -999.00,   7.6835,2,       25,-999.000,9,-999.0000,9, -999.00,9,  -999.0,9,  -999.0,   2.246,3, -999.00,9,  42.7805,2, -999.00,9,  634.70,  -999.0,9,   7.1949,     26.989,    34.6510,2,     -999.0,9,     -999.0,9,     -999.0,     -999.0,9,     -999.0
33RO20110926,        A10,      57,          1,         15,      11006,2,20111014,       1311,   -29.9998,   -15.9503,       4003,   759.1,   5.1838,  34.3187,2,  34.3193,2,    222.5,2,   221.3,2,    19.5,2,    28.4,2,    0.01,2,   1.955,2,   3.159,2,   1.602,2,   0.756,2,     2178.9,3,  2282.3,2,  -999.0,9, -999.00,   7.6495,2,       25,-999.000,9,-999.0000,9, -999.00,9,  -999.0,9,  -999.0,   2.789,3, -999.00,9,  39.6976,2, -999.00,9,  759.10,  -999.0,9,   5.1210,     27.121,    34.4811,2,     -999.0,9,     -999.0,9,     -999.0,     -999.0,9,     -999.0
33RO20110926,        A10,      57,          1,         14,      11708,2,20111014,       1311,   -29.9998,   -15.9503,       4003,   889.2,   4.2173,  34.2957,2,  34.2953,2,    220.4,2,   220.2,2,    27.2,2,    30.1,2,    0.01,2,   2.093,2,   2.656,2,   1.321,2,   0.596,2,     2191.8,3,  2287.7,2,  -999.0,9, -999.00,   7.6314,2,       25,-999.000,9,-999.0000,9, -999.00,9,  -999.0,9,  -999.0,   2.635,3, -999.00,9,  36.5951,2, -999.00,9,  889.20,  -999.0,9,   4.1496,     27.210,    34.4570,2,     -999.0,9,     -999.0,9,     -999.0,     -999.0,9,     -999.0
33RO20110926,        A10,      57,          1,         13,      11031,2,20111014,       1311,   -29.9998,   -15.9503,       4003,  1000.0,   3.6290,  34.3360,2,  34.3357,2,    208.1,2,     208,2,    36.8,2,    32.0,2,    0.01,2,   2.213,2,   1.909,2,   0.939,2,   0.331,2,     2208.8,3,  2297.1,2,  -999.0,9, -999.00,   7.6094,2,       25,-999.000,9,-999.0000,9, -999.00,9,  -999.0,9,  -999.0,   2.034,3, -999.00,9,  39.6878,2, -999.00,9, 1000.00,  -999.0,9,   3.5565,     27.302,    34.4976,2,     -999.0,9,     -999.0,9,     -999.0,     -999.0,9,     -999.0
33RO20110926,        A10,      57,          1,         12,      11027,2,20111014,       1311,   -29.9998,   -15.9503,       4003,  1200.0,   3.2014,  34.4545,2,  34.4556,2,    190.7,2,   190.3,2,    49.5,6,    32.9,6,    0.01,6,   2.281,6,   0.909,2,   0.444,2,   0.140,2,     2227.6,2,  2310.8,2,  -999.0,9, -999.00,   7.5904,2,       25,-999.000,9,-999.0000,9, -999.00,9,  -999.0,9,  -999.0,   1.209,3, -999.00,9,  42.4683,2, -999.00,9, 1200.00,  -999.0,9,   3.1163,     27.440,    34.6181,2,     -999.0,9,     -999.0,9,     -999.0,     -999.0,9,     -999.0
33RO20110926,        A10,      57,          1,         11,      11707,2,20111014,       1311,   -29.9998,   -15.9503,       4003,  1401.4,   2.9490,  34.5831,2,  34.5834,2,    188.7,2,   188.9,2,    55.1,2,    31.6,2,    0.01,2,   2.215,2,   0.389,2,   0.187,2,   0.049,2,     2230.4,6,  2324.7,6,  -999.0,9, -999.00,   7.6012,6,       25,-999.000,9,-999.0000,9, -999.00,9,  -999.0,9,  -999.0,   0.706,3, -999.00,9,   39.561,2, -999.00,9, 1401.40,  -999.0,9,   2.8498,     27.566,    34.7465,2,     -999.0,9,     -999.0,9,     -999.0,     -999.0,9,     -999.0
33RO20110926,        A10,      57,          1,         10,      11003,2,20111014,       1311,   -29.9998,   -15.9503,       4003,  1599.2,   2.8304,  34.6772,2,  34.6764,2,    195.9,2,   196.9,2,    55.4,2,    29.8,2,    0.01,2,   2.073,2,   0.185,2,   0.089,2,   0.000,2,       2228,2,  2328.9,2,  -999.0,9, -999.00,   7.6222,2,       25,-999.000,9,-999.0000,9, -999.00,9,  -999.0,9,  -999.0,   0.380,3, -999.00,9,  38.1171,2, -999.00,9, 1599.20,  -999.0,9,   2.7160,     27.652,    34.8399,2,     -999.0,9,     -999.0,9,     -999.0,     -999.0,9,     -999.0
33RO20110926,        A10,      57,          1,          9,      11706,2,20111014,       1311,   -29.9998,   -15.9503,       4003,  1849.4,   2.7125,  34.7695,2,  34.7683,2,    211.1,2,   211.6,2,    52.8,2,    27.4,2,    0.01,2,   1.886,2,   0.078,2,   0.039,2,   0.000,2,     2215.9,2,  2331.9,2,  -999.0,9, -999.00,   7.6573,2,       25,-999.000,9,-999.0000,9, -999.00,9,  -999.0,9,  -999.0,   0.214,3, -999.00,9,  39.5902,2, -999.00,9, 1849.40,  -999.0,9,   2.5781,     27.738,    34.9323,2,     -999.0,9,     -999.0,9,     -999.0,     -999.0,9,     -999.0
33RO20110926,        A10,      57,          1,          8,      11033,2,20111014,       1311,   -29.9998,   -15.9503,       4003,  1996.6,   2.6584,  34.8006,2,  34.8012,2,    219.0,2,     219,2,    51.2,2,    26.3,2,    0.01,2,   1.807,2,   0.045,2,   0.023,2,   0.000,2,     2210.5,2,  2328.2,2,  -999.0,9, -999.00,   7.6695,2,       25,-999.000,9,-999.0000,9, -999.00,9,  -999.0,9,  -999.0,   0.140,3, -999.00,9,  38.9073,2, -999.00,9, 1996.60,  -999.0,9,   2.5117,     27.770,    34.9653,2,     -999.0,9,     -999.0,9,     -999.0,     -999.0,9,     -999.0
33RO20110926,        A10,      57,          1,          7,      11705,2,20111014,       1311,   -29.9998,   -15.9503,       4003,  2250.0,   2.6059,  34.8351,2,  34.8352,2,    227.9,2,   228.8,2,    48.6,6,    25.0,6,    0.01,6,   1.700,6,   0.025,6,   0.014,6,   0.000,6,     2203.2,2,  2328.5,2,  -999.0,9, -999.00,   7.6875,2,       25,-999.000,9,-999.0000,9, -999.00,9,  -999.0,9,  -999.0,   0.106,3, -999.00,9,  40.9756,2, -999.00,9, 2250.00,  -999.0,9,   2.4370,     27.804,    34.9995,2,     -999.0,9,     -999.0,9,     -999.0,     -999.0,9,     -999.0
33RO20110926,        A10,      57,          1,          6,      11029,2,20111014,       1311,   -29.9998,   -15.9503,       4003,  2447.0,   2.5987,  34.8539,2,  34.8562,2,    234.3,2,   234.1,2,    46.6,2,    24.4,2,    0.01,2,   1.645,2,   0.017,2,   0.010,2,   0.039,2,       2198,2,  2327.8,2,  -999.0,9, -999.00,   7.6965,2,       25,-999.000,9,-999.0000,9, -999.00,9,  -999.0,9,  -999.0,   0.085,3, -999.00,9,  40.8585,2, -999.00,9, 2447.00,  -999.0,9,   2.4115,     27.823,    35.0206,2,     -999.0,9,     -999.0,9,     -999.0,     -999.0,9,     -999.0
33RO20110926,        A10,      57,          1,          5,      11704,2,20111014,       1311,   -29.9998,   -15.9503,       4003,  2749.3,   2.4997,  34.8628,2,  34.8638,2,    237.6,2,   237.8,2,    47.6,2,    23.7,2,    0.01,2,   1.613,2,   0.013,2,   0.009,2,   0.055,2,     2196.1,2,  2329.6,2,  -999.0,9, -999.00,   7.7074,2,       25,-999.000,9,-999.0000,9, -999.00,9,  -999.0,9,  -999.0,   0.075,3, -999.00,9,  40.3805,2, -999.00,9, 2749.30,  -999.0,9,   2.2852,     27.838,    35.0282,6,     -999.0,9,     -999.0,9,     -999.0,     -999.0,9,     -999.0
33RO20110926,        A10,      57,          1,          4,      11030,2,20111014,       1311,   -29.9998,   -15.9503,       4003,  3049.0,   2.4343,  34.8675,2,  34.8700,2,    241.2,2,   241.2,2,    48.5,2,    23.5,2,    0.01,2,   1.597,2,   0.011,2,   0.007,2,   0.040,2,     2195.5,2,    2332,2,  -999.0,9, -999.00,   7.7114,2,       25,-999.000,9,-999.0000,9, -999.00,9,  -999.0,9,  -999.0,   0.075,3, -999.00,9,  41.0146,2, -999.00,9, 3049.00,  -999.0,9,   2.1911,     27.852,    35.0344,2,     -999.0,9,     -999.0,9,     -999.0,     -999.0,9,     -999.0
33RO20110926,        A10,      57,          1,          3,      11703,2,20111014,       1311,   -29.9998,   -15.9503,       4003,  3350.5,   2.1803,  34.8536,2,  34.8533,2,    241.4,2,   241.4,2,    56.0,2,    24.3,2,    0.01,2,   1.657,2,   0.010,2,   0.006,2,   0.105,2,     2201.2,2,  2334.7,2,  -999.0,9, -999.00,   7.7035,2,       25,-999.000,9,-999.0000,9, -999.00,9,  -999.0,9,  -999.0,   0.066,3, -999.00,9,  39.1122,2, -999.00,9, 3350.50,  -999.0,9,   1.9118,     27.861,    35.0176,2,     -999.0,9,     -999.0,9,     -999.0,     -999.0,9,     -999.0
33RO20110926,        A10,      57,          1,          2,      11702,2,20111014,       1311,   -29.9998,   -15.9503,       4003,  3650.5,   2.0494,  34.8424,2,  34.8427,2,    240.1,2,   240.1,2,    60.9,2,    24.9,2,    0.01,2,   1.693,2,   0.011,2,   0.007,2,   0.131,2,     2205.3,2,  2338.5,2,  -999.0,9, -999.00,    7.703,6,       25,-999.000,9,-999.0000,9, -999.00,9,  -999.0,9,  -999.0,   0.067,3, -999.00,9,   40.322,2, -999.00,9, 3650.50,  -999.0,9,   1.7525,     27.865,    35.0070,2,     -999.0,9,     -999.0,9,     -999.0,     -999.0,9,     -999.0
33RO20110926,        A10,      57,          1,          1,      11701,2,20111014,       1311,   -29.9998,   -15.9503,       4003,  4022.2,   2.0462,  34.8388,2,  34.8386,2,    241.0,2,   239.7,2,    62.1,6,    24.9,6,    0.01,6,   1.703,6,   0.012,6,   0.007,6,   0.138,6,     2209.8,6,    2338,2,  -999.0,9, -999.00,   7.7025,4,       25,-999.000,9,-999.0000,9, -999.00,9,  -999.0,9,  -999.0,   0.070,3, -999.00,9,  43.7854,2, -999.00,9, 4022.20,  -999.0,9,   1.7084,     27.865,    35.0028,2,     -999.0,9,     -999.0,9,     -999.0,     -999.0,9,     -999.0