BOTTLE,20220815CCHSIOAMB
EXPOCODE,SECT_ID,STNNBR,CASTNO,SAMPNO,BTLNBR,BTLNBR_FLAG_W,DATE,TIME,LATITUDE,LONGITUDE,DEPTH,CTDPRS,CTDTMP,CTDSAL,CTDSAL_FLAG_W,SALNTY,SALNTY_FLAG_W,CTDOXY,CTDOXY_FLAG_W,OXYGEN,OXYGEN_FLAG_W,SILCAT,SILCAT_FLAG_W,NITRAT,NITRAT_FLAG_W,NITRIT,NITRIT_FLAG_W,PHSPHT,PHSPHT_FLAG_W,CFC-11,CFC-11_FLAG_W,CFC-12,CFC-12_FLAG_W,SF6,SF6_FLAG_W,TCARBN,TCARBN_FLAG_W,ALKALI,ALKALI_FLAG_W,PCO2,PCO2_FLAG_W,PCO2TMP,PH_SWS,PH_SWS_FLAG_W,PH_TMP,TRITUM,TRITUM_FLAG_W,HELIUM,HELIUM_FLAG_W,DELC13,DELC13_FLAG_W,DELC14,DELC14_FLAG_W,C14ERR,CCL4,CCL4_FLAG_W,DELO18,DELO18_FLAG_W,DOC,DOC_FLAG_W,TDN,TDN_FLAG_W,CTDRAW,14C-DOC,14C-DOC_FLAG_W,THETA,SIG0,SALTREF,SALTREF_FLAG_W,BLACKC,BLACKC_FLAG_W,PIGMENTS,PIGMENTS_FLAG_W,14C-DOCERR,13C-DOC,13C-DOC_FLAG_W,13C-DOCERR
,,,,,,,,,,,METERS,DBAR,ITS-90,PSS-78,,PSS-78,,UMOL/KG,,UMOL/KG,,UMOL/KG,,UMOL/KG,,UMOL/KG,,UMOL/KG,,PMOL/KG,,PMOL/KG,,FMOL/KG,,UMOL/KG,,UMOL/KG,,UATM,,DEG C,,,DEG C,TU,,NMOL/KG,,/MILLE,,/MILLE,,/MILLE,PMOL/KG,,/MILLE,,UMOL/KG,,UMOL/KG,,DBAR,/MILLE,,DEG C,KG/M^3,G/KG,,,,,,/MILLE,/MILLE,,/MILLE
33RO20110926,        A10,      83,          1,         24,      11714,2,20111022,       0332,   -30.0001,   -33.0415,       3521,     5.9,  18.4256,  36.0851,2,  36.0855,2,    233.8,2,   233.9,2,     1.0,2,     0.1,2,    0.00,2,   0.057,4,   2.275,6,   1.377,6,   1.439,6,     2085.5,3,  2369.2,2,  -999.0,9, -999.00,    8.005,2,       25,-999.000,9,-999.0000,9, -999.00,9,  -999.0,9,  -999.0,   3.127,4, -999.00,9,   63.639,2,    3.96,2,    5.90,  -999.0,9,  18.4245,     25.997,    36.2556,2,     -999.0,9,     -999.0,1,     -999.0,     -999.0,9,     -999.0
33RO20110926,        A10,      83,          1,         23,      11713,2,20111022,       0332,   -30.0001,   -33.0415,       3521,    34.2,  18.4317,  36.0858,2,  36.0863,2,    234.7,2,   234.6,2,     1.0,2,     0.1,2,    0.00,2,   0.059,4,   2.276,2,   1.373,2,   1.370,2,     2083.7,3,  2368.2,6,  -999.0,9, -999.00,    8.003,6,       25,-999.000,9,-999.0000,9, -999.00,9,  -999.0,9,  -999.0,   3.231,4, -999.00,9,  61.8049,2,    4.32,2,   34.20,  -999.0,9,  18.4257,     25.997,    36.2564,2,     -999.0,9,     -999.0,9,     -999.0,     -999.0,9,     -999.0
33RO20110926,        A10,      83,          1,         22,      11712,2,20111022,       0332,   -30.0001,   -33.0415,       3521,    79.1,  18.3194,  36.0633,2,  36.0558,2,    233.5,2,   234.4,2,     1.1,2,     0.1,2,    0.01,2,   0.068,4,   2.297,2,   1.386,2,   1.416,2,     2084.2,3,  2364.3,2,  -999.0,9, -999.00,    8.002,2,       25,-999.000,9,-999.0000,9, -999.00,9,  -999.0,9,  -999.0,   3.265,4, -999.00,9,  57.3951,3, -999.00,5,   79.10,  -999.0,9,  18.3056,     26.001,    36.2258,2,     -999.0,9,     -999.0,9,     -999.0,     -999.0,9,     -999.0
33RO20110926,        A10,      83,          1,         21,      11010,2,20111022,       0332,   -30.0001,   -33.0415,       3521,   126.0,  17.6848,  35.9813,2,  35.9814,2,    233.8,2,   233.8,2,     1.0,2,     0.1,2,    0.17,2,   0.100,4,   2.350,2,   1.414,2,   1.451,2,     2086.5,3,  2358.6,2,  -999.0,9, -999.00,    7.991,2,       25,-999.000,9,-999.0000,9, -999.00,9,  -999.0,9,  -999.0,   2.731,4, -999.00,9,  60.5659,2,    4.39,2,  126.00,  -999.0,9,  17.6633,     26.108,    36.1511,2,     -999.0,9,     -999.0,1,     -999.0,     -999.0,9,     -999.0
33RO20110926,        A10,      83,          1,         20,      11715,2,20111022,       0332,   -30.0001,   -33.0415,       3521,   175.2,  17.4166,  35.9397,2,  35.9413,2,    232.6,2,   234.1,2,     1.0,6,     0.3,6,    0.27,6,   0.104,4,   2.376,2,   1.427,2,   1.434,2,     2086.7,3,  2357.2,2,  -999.0,9, -999.00,    7.987,2,       25,-999.000,9,-999.0000,9, -999.00,9,  -999.0,9,  -999.0,   2.452,4, -999.00,9,  63.0049,2,    4.18,2,  175.20,  -999.0,9,  17.3870,     26.145,    36.1107,2,     -999.0,9,     -999.0,1,     -999.0,     -999.0,9,     -999.0
33RO20110926,        A10,      83,          1,         19,      11007,2,20111022,       0332,   -30.0001,   -33.0415,       3521,   259.3,  15.3409,  35.5283,2,  35.5265,2,    214.9,2,   215.3,2,     2.0,2,     4.9,2,    0.01,2,   0.362,4,   2.685,2,   1.567,2,   1.384,2,     2108.8,2,  2331.1,2,  -999.0,9, -999.00,   7.9048,2,       25,-999.000,9,-999.0000,9, -999.00,9,  -999.0,9,  -999.0,   0.896,3, -999.00,9,  57.4146,2, -999.00,9,  259.30,  -999.0,9,  15.3008,     26.311,    35.6940,2,     -999.0,9,     -999.0,9,     -999.0,     -999.0,9,     -999.0
33RO20110926,        A10,      83,          1,         18,      11710,2,20111022,       0332,   -30.0001,   -33.0415,       3521,   336.3,  13.9761,  35.3390,2,  35.3427,2,    215.9,2,   217.1,2,     2.5,6,     7.0,6,    0.01,6,   0.464,4,   2.873,2,   1.657,2,   1.297,2,     2115.5,2,    2321,2,  -999.0,9, -999.00,   7.8718,2,       25,-999.000,9,-999.0000,9, -999.00,9,  -999.0,9,  -999.0,   1.057,3, -999.00,9,  37.4829,3, -999.00,9,  336.30,  -999.0,9,  13.9272,     26.464,    35.5094,2,     -999.0,9,     -999.0,9,     -999.0,     -999.0,9,     -999.0
33RO20110926,        A10,      83,          1,         17,      11023,2,20111022,       0332,   -30.0001,   -33.0415,       3521,   414.9,  13.2224,  35.2942,2,  35.2980,2,    226.0,2,   229.1,2,     2.5,2,     8.0,2,    0.01,2,   0.510,4,   2.963,2,   1.704,2,   1.471,2,     2117.8,3,  2324.5,3,  -999.0,9, -999.00,   7.8697,4,       25,-999.000,9,-999.0000,9, -999.00,9,  -999.0,9,  -999.0,   1.275,3, -999.00,9,  46.7707,2, -999.00,9,  414.90,  -999.0,9,  13.1641,     26.591,    35.4644,2,     -999.0,9,     -999.0,9,     -999.0,     -999.0,9,     -999.0
33RO20110926,        A10,      83,          1,         16,      11709,2,20111022,       0332,   -30.0001,   -33.0415,       3521,   499.8,  11.7076,  35.0466,2,  35.0483,2,    215.6,2,   216.5,2,     4.4,2,    12.9,2,    0.01,2,   0.756,4,   3.115,2,   1.729,2,   1.232,2,     2131.6,2,  2308.5,2,  -999.0,9, -999.00,   7.8147,2,       25,-999.000,9,-999.0000,9, -999.00,9,  -999.0,9,  -999.0,   1.215,3, -999.00,9,  47.3073,2, -999.00,9,  499.80,  -999.0,9,  11.6426,     26.695,    35.2135,2,     -999.0,9,     -999.0,9,     -999.0,     -999.0,9,     -999.0
33RO20110926,        A10,      83,          1,         15,      11006,2,20111022,       0332,   -30.0001,   -33.0415,       3521,   549.3,  10.3130,  34.8478,2,  34.8468,2,    209.1,2,   209.1,2,     6.4,2,    17.0,2,    0.01,2,   0.964,4,   3.190,2,   1.719,2,   1.045,2,     2143.7,2,  2297.7,2,  -999.0,9, -999.00,   7.7676,2,       25,-999.000,9,-999.0000,9, -999.00,9,  -999.0,9,  -999.0,   1.350,3, -999.00,9,  50.9073,3, -999.00,9,  549.30,  -999.0,9,  10.2470,     26.790,    35.0111,2,     -999.0,9,     -999.0,9,     -999.0,     -999.0,9,     -999.0
33RO20110926,        A10,      83,          1,         14,      11708,2,20111022,       0332,   -30.0001,   -33.0415,       3521,   648.7,   8.4164,  34.6158,2,  34.6151,2,    204.2,2,     204,2,    10.2,2,    22.2,2,    0.01,2,   1.245,4,   3.182,2,   1.654,2,   0.854,2,     2159.6,2,  2289.3,2,  -999.0,9, -999.00,   7.7116,2,       25,-999.000,9,-999.0000,9, -999.00,9,  -999.0,9,  -999.0,   1.788,3, -999.00,9,  38.6439,2, -999.00,9,  648.70,  -999.0,9,   8.3472,     26.919,    34.7783,2,     -999.0,9,     -999.0,9,     -999.0,     -999.0,9,     -999.0
33RO20110926,        A10,      83,          1,         13,      11031,2,20111022,       0332,   -30.0001,   -33.0415,       3521,   779.9,   6.2907,  34.4061,2,  34.4079,2,    213.2,2,   213.9,2,    15.1,2,    26.7,2,    0.00,2,   1.496,4,   3.186,2,   1.608,2,   0.768,2,     2171.9,2,  2288.3,2,  -999.0,9, -999.00,   7.6703,2,       25,-999.000,9,-999.0000,9, -999.00,9,  -999.0,9,  -999.0,   2.413,3, -999.00,9,  38.4976,2, -999.00,9,  779.90,  -999.0,9,   6.2194,     27.057,    34.5702,2,     -999.0,9,     -999.0,9,     -999.0,     -999.0,9,     -999.0
33RO20110926,        A10,      83,          1,         12,      11027,2,20111022,       0332,   -30.0001,   -33.0415,       3521,   859.6,   5.2887,  34.3353,2,  34.3336,2,    217.9,2,   218.1,2,    19.5,6,    28.2,6,    0.01,6,   1.622,4,   2.990,2,   1.486,2,   0.646,2,     2181.4,2,  2289.5,2,  -999.0,9, -999.00,   7.6503,2,       25,-999.000,9,-999.0000,9, -999.00,9,  -999.0,9,  -999.0,   2.858,3, -999.00,9,  41.0341,2, -999.00,9,  859.60,  -999.0,9,   5.2163,     27.122,    34.4955,2,     -999.0,9,     -999.0,9,     -999.0,     -999.0,9,     -999.0
33RO20110926,        A10,      83,          1,         11,      11707,2,20111022,       0332,   -30.0001,   -33.0415,       3521,  1058.9,   3.9382,  34.3398,2,  34.3404,2,    206.8,2,   206.9,2,    33.6,6,    31.1,6,    0.01,6,   1.883,4,   1.943,2,   0.944,2,   0.348,2,     2205.1,2,  2295.7,2,  -999.0,9, -999.00,   7.6154,2,       25,-999.000,9,-999.0000,9, -999.00,9,  -999.0,9,  -999.0,   2.369,3, -999.00,9,  40.7707,2, -999.00,9, 1058.90,  -999.0,9,   3.8584,     27.276,    34.5024,2,     -999.0,9,     -999.0,9,     -999.0,     -999.0,9,     -999.0
33RO20110926,        A10,      83,          1,         10,      11003,2,20111022,       0332,   -30.0001,   -33.0415,       3521,  1259.0,   3.2981,  34.4620,2,  34.4276,4,    188.9,2,   189.7,2,    48.2,6,    32.5,6,    0.01,6,   2.048,4,   0.809,2,   0.391,2,   0.120,2,     2227.2,6,  2312.2,6,  -999.0,9, -999.00,   7.5914,6,       25,-999.000,9,-999.0000,9, -999.00,9,  -999.0,9,  -999.0,   1.303,3, -999.00,9,   39.922,2, -999.00,9, 1259.00,  -999.0,9,   3.2073,     27.409,    34.5899,2,     -999.0,9,     -999.0,9,     -999.0,     -999.0,9,     -999.0
33RO20110926,        A10,      83,          1,          9,      11706,3,20111022,       0332,   -30.0001,   -33.0415,       3521,  1424.2,   3.0901,  34.5467,2,  34.5473,2,    187.4,2,  -999.0,9, -999.00,9,  -999.0,9, -999.00,9,-999.000,9,-999.000,9,-999.000,9,-999.000,9,-999.000000,9,  -999.0,9,  -999.0,9, -999.00,-999.0000,9,  -999.00,-999.000,9,-999.0000,9, -999.00,9,  -999.0,9,  -999.0,-999.000,9, -999.00,9,-999.0000,5, -999.00,9, 1424.20,  -999.0,9,   2.9876,     27.525,    34.7103,2,     -999.0,9,     -999.0,9,     -999.0,     -999.0,9,     -999.0
33RO20110926,        A10,      83,          1,          8,      11033,2,20111022,       0332,   -30.0001,   -33.0415,       3521,  1648.6,   2.9037,  34.6624,2,  34.6627,2,    194.8,2,   194.4,2,    54.0,2,    30.3,2,    0.01,2,   1.961,4,   0.157,2,   0.077,2,   0.000,2,     2227.1,2,  2329.5,2,  -999.0,9, -999.00,   7.6232,2,       25,-999.000,9,-999.0000,9, -999.00,9,  -999.0,9,  -999.0,   0.392,3, -999.00,9,  43.9512,2, -999.00,9, 1648.60,  -999.0,9,   2.7843,     27.635,    34.8261,2,     -999.0,9,     -999.0,9,     -999.0,     -999.0,9,     -999.0
33RO20110926,        A10,      83,          1,          7,      11705,2,20111022,       0332,   -30.0001,   -33.0415,       3521,  1799.0,   2.8325,  34.7266,2,  34.7258,2,    203.5,2,   203.5,2,    52.8,2,    28.7,2,    0.00,2,   1.863,4,   0.081,2,   0.042,2,   0.000,2,     2220.6,2,  2329.9,2,  -999.0,9, -999.00,   7.6413,2,       25,-999.000,9,-999.0000,9, -999.00,9,  -999.0,9,  -999.0,   0.264,3, -999.00,9,  41.8049,2, -999.00,9, 1799.00,  -999.0,9,   2.7009,     27.693,    34.8895,2,     -999.0,9,     -999.0,9,     -999.0,     -999.0,9,     -999.0
33RO20110926,        A10,      83,          1,          6,      11029,2,20111022,       0332,   -30.0001,   -33.0415,       3521,  2024.7,   2.7863,  34.7983,2,  34.7997,2,    217.2,2,   218.2,2,    48.3,2,    26.3,2,    0.01,2,   1.696,4,   0.032,2,   0.017,2,   0.000,2,     2208.5,2,  2330.5,2,  -999.0,9, -999.00,   7.6713,2,       25,-999.000,9,-999.0000,9, -999.00,9,  -999.0,9,  -999.0,   0.165,3, -999.00,9,  38.8878,2, -999.00,9, 2024.70,  -999.0,9,   2.6352,     27.758,    34.9638,2,     -999.0,9,     -999.0,9,     -999.0,     -999.0,9,     -999.0
33RO20110926,        A10,      83,          1,          5,      11704,2,20111022,       0332,   -30.0001,   -33.0415,       3521,  2238.4,   2.7847,  34.8363,2,  34.8365,2,    226.9,2,   229.3,2,    44.4,2,    24.7,2,    0.01,2,   1.593,4,-999.000,5,-999.000,5,-999.000,5,     2200.5,2,    2328,2,  -999.0,9, -999.00,   7.6905,2,       25,-999.000,9,-999.0000,9, -999.00,9,  -999.0,9,  -999.0,-999.000,5, -999.00,9,  39.4634,2, -999.00,9, 2238.40,  -999.0,9,   2.6140,     27.789,    35.0007,2,     -999.0,9,     -999.0,9,     -999.0,     -999.0,9,     -999.0
33RO20110926,        A10,      83,          1,          4,      11030,2,20111022,       0332,   -30.0001,   -33.0415,       3521,  2450.8,   2.7915,  34.8683,2,  34.8682,2,    236.2,2,   236.2,2,    40.2,6,    23.0,6,    0.00,6,   1.472,4,   0.014,2,   0.010,2,   0.000,2,     2194.3,2,  2327.2,2,  -999.0,9, -999.00,   7.7095,2,       25,-999.000,9,-999.0000,9, -999.00,9,  -999.0,9,  -999.0,   0.107,3, -999.00,9,  39.7561,2, -999.00,9, 2450.80,  -999.0,9,   2.6004,     27.816,    35.0327,2,     -999.0,9,     -999.0,9,     -999.0,     -999.0,9,     -999.0
33RO20110926,        A10,      83,          1,          3,      11703,2,20111022,       0332,   -30.0001,   -33.0415,       3521,  2650.2,   2.7691,  34.8888,2,  34.8892,2,    242.1,2,   242.3,2,    38.0,2,    22.4,2,    0.00,2,   1.426,4,   0.017,2,   0.011,2,   0.000,2,       2190,2,  2328.6,2,  -999.0,9, -999.00,   7.7174,2,       25,-999.000,9,-999.0000,9, -999.00,9,  -999.0,9,  -999.0,   0.124,3, -999.00,9,  51.6488,3, -999.00,9, 2650.20,  -999.0,9,   2.5589,     27.836,    35.0537,2,     -999.0,9,     -999.0,9,     -999.0,     -999.0,9,     -999.0
33RO20110926,        A10,      83,          1,          2,      11702,2,20111022,       0332,   -30.0001,   -33.0415,       3521,  3024.9,   2.6680,  34.8988,2,  34.9014,2,    247.2,2,   247.8,2,    38.1,2,    21.8,2,    0.01,2,   1.393,4,   0.024,2,   0.015,2,   0.000,2,     2187.7,2,  2330.2,2,  -999.0,9, -999.00,   7.7264,2,       25,-999.000,9,-999.0000,9, -999.00,9,  -999.0,9,  -999.0,   0.153,3, -999.00,9,     38.4,2, -999.00,9, 3024.90,  -999.0,9,   2.4220,     27.858,    35.0660,2,     -999.0,9,     -999.0,9,     -999.0,     -999.0,9,     -999.0
33RO20110926,        A10,      83,          1,          1,      11701,2,20111022,       0332,   -30.0001,   -33.0415,       3521,  3529.6,   2.1500,  34.8553,2,  34.8574,2,    243.0,2,   242.6,2,    56.0,2,    23.9,2,    0.01,2,   1.627,4,   0.032,6,   0.018,6,   0.046,6,     2205.2,6,  2341.2,2,  -999.0,9, -999.00,   7.7075,6,       25,-999.000,9,-999.0000,9, -999.00,9,  -999.0,9,  -999.0,   0.158,3, -999.00,9,   41.278,2, -999.00,9, 3529.60,  -999.0,9,   1.8634,     27.868,    35.0218,2,     -999.0,9,     -999.0,9,     -999.0,     -999.0,9,     -999.0