BOTTLE,20220815CCHSIOAMB
EXPOCODE,SECT_ID,STNNBR,CASTNO,SAMPNO,BTLNBR,BTLNBR_FLAG_W,DATE,TIME,LATITUDE,LONGITUDE,DEPTH,CTDPRS,CTDTMP,CTDSAL,CTDSAL_FLAG_W,SALNTY,SALNTY_FLAG_W,CTDOXY,CTDOXY_FLAG_W,OXYGEN,OXYGEN_FLAG_W,SILCAT,SILCAT_FLAG_W,NITRAT,NITRAT_FLAG_W,NITRIT,NITRIT_FLAG_W,PHSPHT,PHSPHT_FLAG_W,CFC-11,CFC-11_FLAG_W,CFC-12,CFC-12_FLAG_W,SF6,SF6_FLAG_W,TCARBN,TCARBN_FLAG_W,ALKALI,ALKALI_FLAG_W,PCO2,PCO2_FLAG_W,PCO2TMP,PH_SWS,PH_SWS_FLAG_W,PH_TMP,TRITUM,TRITUM_FLAG_W,HELIUM,HELIUM_FLAG_W,DELC13,DELC13_FLAG_W,DELC14,DELC14_FLAG_W,C14ERR,CCL4,CCL4_FLAG_W,DELO18,DELO18_FLAG_W,DOC,DOC_FLAG_W,TDN,TDN_FLAG_W,CTDRAW,14C-DOC,14C-DOC_FLAG_W,THETA,SIG0,SALTREF,SALTREF_FLAG_W,BLACKC,BLACKC_FLAG_W,PIGMENTS,PIGMENTS_FLAG_W,14C-DOCERR,13C-DOC,13C-DOC_FLAG_W,13C-DOCERR
,,,,,,,,,,,METERS,DBAR,ITS-90,PSS-78,,PSS-78,,UMOL/KG,,UMOL/KG,,UMOL/KG,,UMOL/KG,,UMOL/KG,,UMOL/KG,,PMOL/KG,,PMOL/KG,,FMOL/KG,,UMOL/KG,,UMOL/KG,,UATM,,DEG C,,,DEG C,TU,,NMOL/KG,,/MILLE,,/MILLE,,/MILLE,PMOL/KG,,/MILLE,,UMOL/KG,,UMOL/KG,,DBAR,/MILLE,,DEG C,KG/M^3,G/KG,,,,,,/MILLE,/MILLE,,/MILLE
33RO20110926,        A10,      84,          1,         24,      11714,2,20111022,       0843,   -29.9996,   -33.6174,       2953,     6.9,  18.6468,  36.0931,2,  36.0929,2,    232.9,2,   233.1,2,     1.0,2,     0.0,2,    0.01,2,   0.053,4,   2.261,6,   1.370,6,   1.386,6,     2078.2,6,  2360.8,2,  -999.0,9, -999.00,    7.988,2,       25,-999.000,9,-999.0000,9, -999.00,9,  -999.0,9,  -999.0,   3.539,4, -999.00,9,-999.0000,9, -999.00,9,    6.90,  -999.0,9,  18.6456,     25.947,    36.2630,2,     -999.0,9,     -999.0,1,     -999.0,     -999.0,9,     -999.0
33RO20110926,        A10,      84,          1,         23,      11713,2,20111022,       0843,   -29.9996,   -33.6174,       2953,    59.8,  18.6526,  36.0932,2,  36.0933,2,    232.4,2,   232.9,2,     1.0,2,     0.0,2,    0.01,2,   0.060,4,-999.000,9,-999.000,9,-999.000,9,     2078.9,2,  2365.7,6,  -999.0,9, -999.00,    8.005,6,       25,-999.000,9,-999.0000,9, -999.00,9,  -999.0,9,  -999.0,-999.000,5, -999.00,9,-999.0000,9, -999.00,9,   59.80,  -999.0,9,  18.6421,     25.948,    36.2635,2,     -999.0,9,     -999.0,1,     -999.0,     -999.0,9,     -999.0
33RO20110926,        A10,      84,          1,         22,      11712,2,20111022,       0843,   -29.9996,   -33.6174,       2953,   109.3,  18.1319,  36.0269,2,  36.0268,2,    229.5,2,   228.9,2,     1.0,2,     0.3,2,    0.12,2,   0.087,4,   2.313,2,   1.392,2,   1.389,2,-999.000000,9,  2360.2,2,  -999.0,9, -999.00,    7.995,2,       25,-999.000,9,-999.0000,9, -999.00,9,  -999.0,9,  -999.0,   3.032,4, -999.00,9,-999.0000,9, -999.00,9,  109.30,  -999.0,9,  18.1130,     26.032,    36.1967,2,     -999.0,9,     -999.0,1,     -999.0,     -999.0,9,     -999.0
33RO20110926,        A10,      84,          1,         21,      11010,2,20111022,       0843,   -29.9996,   -33.6174,       2953,   139.4,  17.3548,  35.8720,2,  35.8744,2,    220.0,2,   220.7,2,     1.2,6,     1.4,6,    0.07,6,   0.161,4,-999.000,9,-999.000,9,-999.000,9,     2093.4,2,    2351,2,  -999.0,9, -999.00,   7.9639,2,       25,-999.000,9,-999.0000,9, -999.00,9,  -999.0,9,  -999.0,-999.000,5, -999.00,9,-999.0000,9, -999.00,9,  139.40,  -999.0,9,  17.3314,     26.104,    36.0436,2,     -999.0,9,     -999.0,1,     -999.0,     -999.0,9,     -999.0
33RO20110926,        A10,      84,          1,         20,      11715,2,20111022,       0843,   -29.9996,   -33.6174,       2953,   190.4,  16.1953,  35.6682,2,  35.6683,2,    210.9,2,   214.8,2,     1.7,2,     3.4,2,    0.02,2,   0.287,4,   2.569,2,   1.516,2,   1.394,2,-999.000000,9,  2338.8,2,  -999.0,9, -999.00,   7.9249,2,       25,-999.000,9,-999.0000,9, -999.00,9,  -999.0,9,  -999.0,   1.090,4, -999.00,9,-999.0000,9, -999.00,9,  190.40,  -999.0,9,  16.1648,     26.224,    35.8365,2,     -999.0,9,     -999.0,1,     -999.0,     -999.0,9,     -999.0
33RO20110926,        A10,      84,          1,         19,      11007,2,20111022,       0843,   -29.9996,   -33.6174,       2953,   269.3,  14.7374,  35.4493,2,  35.4475,2,    211.1,2,   211.6,2,     2.3,2,     6.3,2,    0.01,2,   0.432,4,-999.000,9,-999.000,9,-999.000,9,     2111.5,2,  2329.6,2,  -999.0,9, -999.00,   7.8887,2,       25,-999.000,9,-999.0000,9, -999.00,9,  -999.0,9,  -999.0,-999.000,9, -999.00,9,-999.0000,9, -999.00,9,  269.30,  -999.0,9,  14.6968,     26.382,    35.6147,2,     -999.0,9,     -999.0,9,     -999.0,     -999.0,9,     -999.0
33RO20110926,        A10,      84,          1,         18,      11710,2,20111022,       0843,   -29.9996,   -33.6174,       2953,   349.5,  13.4053,  35.2710,2,  35.2737,2,    215.9,2,   216.8,2,     2.9,6,     8.5,6,    0.01,6,   0.533,4,   2.946,2,   1.678,2,   1.351,2,-999.000000,9,  2321.9,2,  -999.0,9, -999.00,   7.8587,2,       25,-999.000,9,-999.0000,9, -999.00,9,  -999.0,9,  -999.0,   1.185,3, -999.00,9,-999.0000,9, -999.00,9,  349.50,  -999.0,9,  13.3558,     26.532,    35.4400,2,     -999.0,9,     -999.0,9,     -999.0,     -999.0,9,     -999.0
33RO20110926,        A10,      84,          1,         17,      11023,2,20111022,       0843,   -29.9996,   -33.6174,       2953,   430.3,  12.5348,  35.1571,2,  35.1578,2,    215.9,2,   214.5,2,     3.7,2,    11.0,2,    0.01,2,   0.666,4,-999.000,9,-999.000,9,-999.000,9,     2124.3,2,    2317,2,  -999.0,9, -999.00,   7.8336,2,       25,-999.000,9,-999.0000,9, -999.00,9,  -999.0,9,  -999.0,-999.000,9, -999.00,9,-999.0000,9, -999.00,9,  430.30,  -999.0,9,  12.4764,     26.619,    35.3236,2,     -999.0,9,     -999.0,9,     -999.0,     -999.0,9,     -999.0
33RO20110926,        A10,      84,          1,         16,      11709,2,20111022,       0843,   -29.9996,   -33.6174,       2953,   532.8,  10.6332,  34.8902,2,  34.8933,2,    210.1,2,   208.9,2,     5.9,2,    15.9,2,    0.01,2,   0.916,4,   3.182,2,   1.712,2,   1.055,2,-999.000000,9,  2304.3,2,  -999.0,9, -999.00,   7.7815,2,       25,-999.000,9,-999.0000,9, -999.00,9,  -999.0,9,  -999.0,   1.419,3, -999.00,9,-999.0000,9, -999.00,9,  532.80,  -999.0,9,  10.5680,     26.771,    35.0579,2,     -999.0,9,     -999.0,9,     -999.0,     -999.0,9,     -999.0
33RO20110926,        A10,      84,          1,         15,      11006,2,20111022,       0843,   -29.9996,   -33.6174,       2953,   619.1,   8.9093,  34.6702,2,  34.6712,2,    205.3,2,   204.4,2,     9.0,2,    20.5,2,    0.01,2,   1.171,4,-999.000,9,-999.000,9,-999.000,9,-999.000000,9,  2294.2,2,  -999.0,9, -999.00,   7.7234,2,       25,-999.000,9,-999.0000,9, -999.00,9,  -999.0,9,  -999.0,-999.000,9, -999.00,9,-999.0000,9, -999.00,9,  619.10,  -999.0,9,   8.8411,     26.886,    34.8347,2,     -999.0,9,     -999.0,9,     -999.0,     -999.0,9,     -999.0
33RO20110926,        A10,      84,          1,         14,      11708,2,20111022,       0843,   -29.9996,   -33.6174,       2953,   732.5,   6.6597,  34.4378,2,  34.4377,2,    211.7,2,   210.6,2,    13.9,2,    25.5,2,    0.01,2,   1.454,4,   3.192,2,   1.622,2,   0.777,2,     2167.5,2,  2287.8,2,  -999.0,9, -999.00,   7.6733,2,       25,-999.000,9,-999.0000,9, -999.00,9,  -999.0,9,  -999.0,   2.587,3, -999.00,9,-999.0000,9, -999.00,9,  732.50,  -999.0,9,   6.5909,     27.031,    34.6000,2,     -999.0,9,     -999.0,9,     -999.0,     -999.0,9,     -999.0
33RO20110926,        A10,      84,          1,         13,      11031,2,20111022,       0843,   -29.9996,   -33.6174,       2953,   814.1,   5.4682,  34.3464,2,  34.3456,2,    217.8,2,     217,2,    18.2,2,    27.7,2,    0.01,2,   1.594,4,-999.000,9,-999.000,9,-999.000,9,-999.000000,9,  2284.6,2,  -999.0,9, -999.00,   7.6525,2,       25,-999.000,9,-999.0000,9, -999.00,9,  -999.0,9,  -999.0,-999.000,9, -999.00,9,-999.0000,9, -999.00,9,  814.10,  -999.0,9,   5.3987,     27.110,    34.5076,2,     -999.0,9,     -999.0,9,     -999.0,     -999.0,9,     -999.0
33RO20110926,        A10,      84,          1,         12,      11027,2,20111022,       0843,   -29.9996,   -33.6174,       2953,   933.4,   4.4666,  34.3139,2,  34.3141,2,    216.2,2,   215.9,2,    25.6,2,    29.9,2,    0.01,2,   1.757,4,-999.000,9,-999.000,9,-999.000,9,-999.000000,9,  2288.6,2,  -999.0,9, -999.00,   7.6314,2,       25,-999.000,9,-999.0000,9, -999.00,9,  -999.0,9,  -999.0,-999.000,9, -999.00,9,-999.0000,9, -999.00,9,  933.40,  -999.0,9,   4.3934,     27.199,    34.4759,2,     -999.0,9,     -999.0,9,     -999.0,     -999.0,9,     -999.0
33RO20110926,        A10,      84,          1,         11,      11707,2,20111022,       0843,   -29.9996,   -33.6174,       2953,  1084.5,   3.7551,  34.3600,2,  34.3605,2,    202.1,2,     202,2,    36.9,6,    31.7,6,    0.01,6,   1.937,4,   1.652,2,   0.798,2,   0.285,2,     2205.2,2,  2299.1,2,  -999.0,9, -999.00,   7.6064,2,       25,-999.000,9,-999.0000,9, -999.00,9,  -999.0,9,  -999.0,   2.103,3, -999.00,9,-999.0000,9, -999.00,9, 1084.50,  -999.0,9,   3.6747,     27.310,    34.5225,2,     -999.0,9,     -999.0,9,     -999.0,     -999.0,9,     -999.0
33RO20110926,        A10,      84,          1,         10,      11003,2,20111022,       0843,   -29.9996,   -33.6174,       2953,  1175.0,   3.4387,  34.4243,2,  34.4235,2,    192.2,2,   192.5,2,    44.3,2,    32.5,2,    0.01,2,   2.030,4,-999.000,9,-999.000,9,-999.000,9,-999.000000,9,  2311.5,2,  -999.0,9, -999.00,   7.5932,2,       25,-999.000,9,-999.0000,9, -999.00,9,  -999.0,9,  -999.0,-999.000,9, -999.00,9,-999.0000,9, -999.00,9, 1175.00,  -999.0,9,   3.3534,     27.392,    34.5858,6,     -999.0,9,     -999.0,9,     -999.0,     -999.0,9,     -999.0
33RO20110926,        A10,      84,          1,          9,      11706,2,20111022,       0843,   -29.9996,   -33.6174,       2953,  1344.8,   3.1274,  34.5165,2,  34.5167,2,    187.4,2,   187.6,2,    51.3,2,    32.0,2,    0.01,2,   2.060,4,   0.559,2,   0.268,2,   0.103,2,     2224.9,2,  2320.4,6,  -999.0,9, -999.00,   7.5952,6,       25,-999.000,9,-999.0000,9, -999.00,9,  -999.0,9,  -999.0,   0.986,3, -999.00,9,-999.0000,9, -999.00,9, 1344.80,  -999.0,9,   3.0312,     27.496,    34.6794,2,     -999.0,9,     -999.0,9,     -999.0,     -999.0,9,     -999.0
33RO20110926,        A10,      84,          1,          8,      11033,2,20111022,       0843,   -29.9996,   -33.6174,       2953,  1489.4,   2.9785,  34.6016,2,  34.6013,2,    189.2,2,   188.7,2,    53.6,2,    31.0,2,    0.01,2,   2.018,4,-999.000,9,-999.000,9,-999.000,9,-999.000000,9,  2325.9,2,  -999.0,9, -999.00,   7.6052,2,       25,-999.000,9,-999.0000,9, -999.00,9,  -999.0,9,  -999.0,-999.000,9, -999.00,9,-999.0000,9, -999.00,9, 1489.40,  -999.0,9,   2.8717,     27.578,    34.7645,2,     -999.0,9,     -999.0,9,     -999.0,     -999.0,9,     -999.0
33RO20110926,        A10,      84,          1,          7,      11705,2,20111022,       0843,   -29.9996,   -33.6174,       2953,  1691.5,   2.8583,  34.6954,2,  34.6958,2,    198.0,2,   198.4,2,    53.8,2,    29.3,2,    0.00,2,   1.906,4,   0.111,2,   0.056,2,   0.016,2,     2220.9,2,  2329.5,2,  -999.0,9, -999.00,   7.6292,2,       25,-999.000,9,-999.0000,9, -999.00,9,  -999.0,9,  -999.0,   0.339,3, -999.00,9,-999.0000,9, -999.00,9, 1691.50,  -999.0,9,   2.7357,     27.666,    34.8594,2,     -999.0,9,     -999.0,9,     -999.0,     -999.0,9,     -999.0
33RO20110926,        A10,      84,          1,          6,      11029,2,20111022,       0843,   -29.9996,   -33.6174,       2953,  1948.9,   2.7932,  34.7876,2,  34.7874,2,    214.4,2,   214.9,2,    49.0,2,    26.3,2,    0.00,2,   1.718,4,-999.000,9,-999.000,9,-999.000,9,-999.000000,9,  2325.6,2,  -999.0,9, -999.00,   7.6635,2,       25,-999.000,9,-999.0000,9, -999.00,9,  -999.0,9,  -999.0,-999.000,9, -999.00,9,-999.0000,9, -999.00,9, 1948.90,  -999.0,9,   2.6488,     27.747,    34.9515,2,     -999.0,9,     -999.0,9,     -999.0,     -999.0,9,     -999.0
33RO20110926,        A10,      84,          1,          5,      11704,2,20111022,       0843,   -29.9996,   -33.6174,       2953,  2194.7,   2.7848,  34.8359,2,  34.8358,2,    226.1,2,   227.4,2,    44.5,2,    24.6,2,    0.01,2,   1.586,4,-999.000,9,-999.000,9,-999.000,9,-999.000000,9,  2329.4,2,  -999.0,9, -999.00,   7.6904,2,       25,-999.000,9,-999.0000,9, -999.00,9,  -999.0,9,  -999.0,-999.000,9, -999.00,9,-999.0000,9, -999.00,9, 2194.70,  -999.0,9,   2.6181,     27.788,    35.0001,2,     -999.0,9,     -999.0,9,     -999.0,     -999.0,9,     -999.0
33RO20110926,        A10,      84,          1,          4,      11030,2,20111022,       0843,   -29.9996,   -33.6174,       2953,  2334.7,   2.7933,  34.8601,2,  34.8608,2,    232.9,2,   233.5,2,    40.8,6,    23.4,6,    0.01,6,   1.502,4,   0.016,2,   0.010,2,   0.000,2,     2191.6,2,  2328.9,2,  -999.0,9, -999.00,   7.7034,2,       25,-999.000,9,-999.0000,9, -999.00,9,  -999.0,9,  -999.0,   0.120,3, -999.00,9,-999.0000,9, -999.00,9, 2334.70,  -999.0,9,   2.6133,     27.809,    35.0252,2,     -999.0,9,     -999.0,9,     -999.0,     -999.0,9,     -999.0
33RO20110926,        A10,      84,          1,          3,      11703,2,20111022,       0843,   -29.9996,   -33.6174,       2953,  2534.8,   2.7811,  34.8812,2,  34.8821,2,    239.8,2,   240.6,2,    38.5,2,    22.7,2,    0.01,2,   1.447,4,-999.000,9,-999.000,9,-999.000,9,-999.000000,9,    2325,2,  -999.0,9, -999.00,   7.7116,2,       25,-999.000,9,-999.0000,9, -999.00,9,  -999.0,9,  -999.0,-999.000,9, -999.00,9,-999.0000,9, -999.00,9, 2534.80,  -999.0,9,   2.5820,     27.829,    35.0466,2,     -999.0,9,     -999.0,9,     -999.0,     -999.0,9,     -999.0
33RO20110926,        A10,      84,          1,          2,      11702,2,20111022,       0843,   -29.9996,   -33.6174,       2953,  2749.2,   2.7453,  34.8938,2,  34.8947,2,    244.1,2,   244.1,2,    37.8,2,    22.1,2,    0.01,2,   1.402,4,-999.000,9,-999.000,9,-999.000,9,-999.000000,9,  2325.6,2,  -999.0,9, -999.00,   7.7196,2,       25,-999.000,9,-999.0000,9, -999.00,9,  -999.0,9,  -999.0,-999.000,9, -999.00,9,-999.0000,9, -999.00,9, 2749.20,  -999.0,9,   2.5258,     27.844,    35.0592,2,     -999.0,9,     -999.0,9,     -999.0,     -999.0,9,     -999.0
33RO20110926,        A10,      84,          1,          1,      11701,2,20111022,       0843,   -29.9996,   -33.6174,       2953,  2969.8,   2.7017,  34.8956,2,  34.8983,2,    245.3,2,   244.5,2,    38.3,6,    21.7,6,    0.01,6,   1.389,4,   0.023,2,   0.014,2,   0.000,2,     2184.3,2,  2328.6,6,  -999.0,9, -999.00,    7.723,6,       25,-999.000,9,-999.0000,9, -999.00,9,  -999.0,9,  -999.0,   0.160,3, -999.00,9,-999.0000,9, -999.00,9, 2969.80,  -999.0,9,   2.4606,     27.852,    35.0628,2,     -999.0,9,     -999.0,9,     -999.0,     -999.0,9,     -999.0