BOTTLE,20220815CCHSIOAMB
EXPOCODE,SECT_ID,STNNBR,CASTNO,SAMPNO,BTLNBR,BTLNBR_FLAG_W,DATE,TIME,LATITUDE,LONGITUDE,DEPTH,CTDPRS,CTDTMP,CTDSAL,CTDSAL_FLAG_W,SALNTY,SALNTY_FLAG_W,CTDOXY,CTDOXY_FLAG_W,OXYGEN,OXYGEN_FLAG_W,SILCAT,SILCAT_FLAG_W,NITRAT,NITRAT_FLAG_W,NITRIT,NITRIT_FLAG_W,PHSPHT,PHSPHT_FLAG_W,CFC-11,CFC-11_FLAG_W,CFC-12,CFC-12_FLAG_W,SF6,SF6_FLAG_W,TCARBN,TCARBN_FLAG_W,ALKALI,ALKALI_FLAG_W,PCO2,PCO2_FLAG_W,PCO2TMP,PH_SWS,PH_SWS_FLAG_W,PH_TMP,TRITUM,TRITUM_FLAG_W,HELIUM,HELIUM_FLAG_W,DELC13,DELC13_FLAG_W,DELC14,DELC14_FLAG_W,C14ERR,CCL4,CCL4_FLAG_W,DELO18,DELO18_FLAG_W,DOC,DOC_FLAG_W,TDN,TDN_FLAG_W,CTDRAW,14C-DOC,14C-DOC_FLAG_W,THETA,SIG0,SALTREF,SALTREF_FLAG_W,BLACKC,BLACKC_FLAG_W,PIGMENTS,PIGMENTS_FLAG_W,14C-DOCERR,13C-DOC,13C-DOC_FLAG_W,13C-DOCERR
,,,,,,,,,,,METERS,DBAR,ITS-90,PSS-78,,PSS-78,,UMOL/KG,,UMOL/KG,,UMOL/KG,,UMOL/KG,,UMOL/KG,,UMOL/KG,,PMOL/KG,,PMOL/KG,,FMOL/KG,,UMOL/KG,,UMOL/KG,,UATM,,DEG C,,,DEG C,TU,,NMOL/KG,,/MILLE,,/MILLE,,/MILLE,PMOL/KG,,/MILLE,,UMOL/KG,,UMOL/KG,,DBAR,/MILLE,,DEG C,KG/M^3,G/KG,,,,,,/MILLE,/MILLE,,/MILLE
33RO20110926,        A10,      41,          1,         24,      11714,2,20111008,       0403,   -29.9965,    -5.0843,       4138,     4.6,  18.4644,  35.9032,2,  35.9030,2,    237.3,2,   238.2,2,     1.3,2,     0.0,2,    0.00,2,   0.161,2,   2.370,6,   1.430,6,   1.416,6,     2082.6,6,  2355.9,2,  -999.0,9, -999.00,   7.9769,2,       25,-999.000,9,-999.0000,9, -999.00,9,  -999.0,9,  -999.0,   3.355,4, -999.00,9,  60.5854,2,    3.74,2,    4.60,  -999.0,9,  18.4636,     25.848,    36.0723,2,     -999.0,9,     -999.0,1,     -999.0,     -999.0,9,     -999.0
33RO20110926,        A10,      41,          1,         23,      11713,2,20111008,       0403,   -29.9965,    -5.0843,       4138,    45.2,  17.5857,  35.8910,2,  35.8908,2,    241.6,2,   241.4,2,     1.3,2,     0.0,2,    0.00,2,   0.163,2,   2.389,2,   1.439,2,   1.457,2,     2081.3,2,  2356.3,6,  -999.0,9, -999.00,   7.9804,6,       25,-999.000,9,-999.0000,9, -999.00,9,  -999.0,9,  -999.0,   3.221,4, -999.00,9,   61.961,2,    4.14,2,   45.20,  -999.0,9,  17.5780,     26.058,    36.0601,2,     -999.0,9,     -999.0,9,     -999.0,     -999.0,9,     -999.0
33RO20110926,        A10,      41,          1,         22,      11712,2,20111008,       0403,   -29.9965,    -5.0843,       4138,    95.0,  17.3031,  35.8668,2,  35.8659,2,    233.9,2,   237.2,2,     1.4,2,     0.1,2,    0.08,2,   0.179,2,   2.404,2,   1.445,2,   1.385,2,     2083.8,2,  2355.1,2,  -999.0,9, -999.00,   7.9709,2,       25,-999.000,9,-999.0000,9, -999.00,9,  -999.0,9,  -999.0,   2.693,4, -999.00,9,  61.5122,2,    3.83,2,   95.00,  -999.0,9,  17.2872,     26.110,    36.0351,2,     -999.0,9,     -999.0,1,     -999.0,     -999.0,9,     -999.0
33RO20110926,        A10,      41,          1,         21,      11010,2,20111008,       0403,   -29.9965,    -5.0843,       4138,   145.0,  17.0972,  35.8351,2,  35.8332,2,    233.0,2,   233.4,2,     1.5,2,     0.4,2,    0.42,2,   0.219,2,   2.423,2,   1.451,2,   1.419,2,     2088.5,2,  2352.7,2,  -999.0,9, -999.00,   7.9649,2,       25,-999.000,9,-999.0000,9, -999.00,9,  -999.0,9,  -999.0,   2.358,4, -999.00,9,  62.1171,2,    4.91,2,  145.00,  -999.0,9,  17.0731,     26.136,    36.0021,2,     -999.0,9,     -999.0,1,     -999.0,     -999.0,9,     -999.0
33RO20110926,        A10,      41,          1,         20,      11715,2,20111008,       0403,   -29.9965,    -5.0843,       4138,   195.4,  16.8984,  35.8016,2,  35.8005,2,    235.3,2,   232.7,2,     1.7,6,     0.8,6,    0.42,6,   0.241,6,   2.443,2,   1.467,2,   1.403,2,     2089.1,2,  2350.6,2,  -999.0,9, -999.00,   7.9569,2,       25,-999.000,9,-999.0000,9, -999.00,9,  -999.0,9,  -999.0,   2.035,4, -999.00,9,  63.0732,2,    4.31,2,  195.40,  -999.0,9,  16.8661,     26.161,    35.9693,2,     -999.0,9,     -999.0,9,     -999.0,     -999.0,9,     -999.0
33RO20110926,        A10,      41,          1,         19,      11007,2,20111008,       0403,   -29.9965,    -5.0843,       4138,   260.0,  15.2004,  35.4490,2,  35.4479,2,    220.2,2,   219.2,2,     2.7,2,     5.0,2,    0.02,2,   0.473,2,   2.672,2,   1.579,2,   1.415,2,     2100.8,2,  2328.6,2,  -999.0,9, -999.00,   7.9008,2,       25,-999.000,9,-999.0000,9, -999.00,9,  -999.0,9,  -999.0,   0.910,3, -999.00,9,  53.7463,2, -999.00,9,  260.00,  -999.0,9,  15.1604,     26.282,    35.6151,2,     -999.0,9,     -999.0,9,     -999.0,     -999.0,9,     -999.0
33RO20110926,        A10,      41,          1,         18,      11710,2,20111008,       0403,   -29.9965,    -5.0843,       4138,   345.7,  13.6592,  35.2206,2,  35.2215,2,    220.2,2,   218.7,2,     3.2,2,     7.7,2,    0.01,2,   0.644,2,   2.883,2,   1.672,2,   1.391,2,     2111.6,2,  2318.7,2,  -999.0,9, -999.00,   7.8628,2,       25,-999.000,9,-999.0000,9, -999.00,9,  -999.0,9,  -999.0,   1.063,3, -999.00,9,  51.2098,2, -999.00,9,  345.70,  -999.0,9,  13.6097,     26.440,    35.3876,2,     -999.0,9,     -999.0,9,     -999.0,     -999.0,9,     -999.0
33RO20110926,        A10,      41,          1,         17,      11023,2,20111008,       0403,   -29.9965,    -5.0843,       4138,   479.2,  11.3254,  34.9612,2,  34.9600,2,    211.4,2,   210.9,2,     5.2,6,    14.0,6,    0.01,6,   1.034,6,   3.148,2,   1.749,2,   1.169,2,     2133.4,2,  2305.1,2,  -999.0,9, -999.00,   7.7867,2,       25,-999.000,9,-999.0000,9, -999.00,9,  -999.0,9,  -999.0,   1.239,3, -999.00,9,  47.5317,2, -999.00,9,  479.20,  -999.0,9,  11.2644,     26.697,    35.1249,2,     -999.0,9,     -999.0,9,     -999.0,     -999.0,9,     -999.0
33RO20110926,        A10,      41,          1,         16,      11709,2,20111008,       0403,   -29.9965,    -5.0843,       4138,   609.5,   8.9360,  34.6675,2,  34.6669,2,    205.2,2,   204.9,2,     9.8,2,    20.6,2,    0.01,2,   1.457,2,   3.166,2,   1.697,2,   1.047,2,     2154.4,2,  2293.9,2,  -999.0,9, -999.00,   7.7156,2,       25,-999.000,9,-999.0000,9, -999.00,9,  -999.0,9,  -999.0,   1.623,3, -999.00,9,  45.7951,2, -999.00,9,  609.50,  -999.0,9,   8.8687,     26.878,    34.8303,2,     -999.0,9,     -999.0,9,     -999.0,     -999.0,9,     -999.0
33RO20110926,        A10,      41,          1,         15,      11006,2,20111008,       0403,   -29.9965,    -5.0843,       4138,   760.3,   6.3278,  34.4104,2,  34.4077,2,    215.4,2,   208.8,2,    16.5,2,    26.7,2,    0.00,2,   1.864,2,   3.105,2,   1.600,2,   0.832,2,     2173.2,2,  2287.5,2,  -999.0,9, -999.00,   7.6583,2,       25,-999.000,9,-999.0000,9, -999.00,9,  -999.0,9,  -999.0,   1.699,3, -999.00,9,  43.0244,2, -999.00,9,  760.30,  -999.0,9,   6.2582,     27.052,    34.5699,2,     -999.0,9,     -999.0,9,     -999.0,     -999.0,9,     -999.0
33RO20110926,        A10,      41,          1,         14,      11708,2,20111008,       0403,   -29.9965,    -5.0843,       4138,   882.6,   4.8944,  34.3286,2,  34.3292,2,    214.1,2,   213.5,2,    23.8,2,    29.4,2,    0.00,2,   2.066,2,   2.776,2,   1.399,2,   0.656,2,     2184.7,2,  2290.8,2,  -999.0,9, -999.00,   7.6322,2,       25,-999.000,9,-999.0000,9, -999.00,9,  -999.0,9,  -999.0,   2.104,3, -999.00,9,  42.2829,2, -999.00,9,  882.60,  -999.0,9,   4.8226,     27.164,    34.4911,2,     -999.0,9,     -999.0,9,     -999.0,     -999.0,9,     -999.0
33RO20110926,        A10,      41,          1,         13,      11031,2,20111008,       0403,   -29.9965,    -5.0843,       4138,  1025.4,   4.0698,  34.3557,2,  34.3549,2,    201.2,2,     199,2,    35.1,2,    31.6,2,    0.00,2,   2.231,2,   1.943,2,   0.959,2,   0.361,2,     2203.9,2,  2300.3,2,  -999.0,9, -999.00,   7.6022,2,       25,-999.000,9,-999.0000,9, -999.00,9,  -999.0,9,  -999.0,   1.743,3, -999.00,9,  41.8439,2, -999.00,9, 1025.40,  -999.0,9,   3.9917,     27.274,    34.5169,2,     -999.0,9,     -999.0,9,     -999.0,     -999.0,9,     -999.0
33RO20110926,        A10,      41,          1,         12,      11027,2,20111008,       0403,   -29.9965,    -5.0843,       4138,  1179.4,   3.5567,  34.4352,2,  34.4352,2,    185.5,2,   185.3,2,    46.7,6,    33.2,6,    0.01,6,   2.338,6,   1.070,2,   0.522,2,   0.144,2,     2221.8,2,  2313.2,2,  -999.0,9, -999.00,   7.5824,6,       25,-999.000,9,-999.0000,9, -999.00,9,  -999.0,9,  -999.0,   1.176,3, -999.00,9,  38.9659,2, -999.00,9, 1179.40,  -999.0,9,   3.4701,     27.390,    34.5976,2,     -999.0,9,     -999.0,9,     -999.0,     -999.0,9,     -999.0
33RO20110926,        A10,      41,          1,         11,      11707,2,20111008,       0403,   -29.9965,    -5.0843,       4138,  1329.9,   3.1736,  34.5221,2,  34.5187,2,    181.6,2,   181.5,2,    53.6,2,    33.0,2,    0.00,2,   2.323,2,   0.607,2,   0.290,2,   0.094,2,     2230.9,6,  2323.4,2,  -999.0,9, -999.00,   7.5874,2,       25,-999.000,9,-999.0000,9, -999.00,9,  -999.0,9,  -999.0,   0.862,3, -999.00,9,  35.0244,3, -999.00,9, 1329.90,  -999.0,9,   3.0781,     27.494,    34.6814,2,     -999.0,9,     -999.0,9,     -999.0,     -999.0,9,     -999.0
33RO20110926,        A10,      41,          1,         10,      11003,2,20111008,       0403,   -29.9965,    -5.0843,       4138,  1530.3,   2.9486,  34.6364,2,  34.6359,2,    186.7,2,   188.2,2,    56.2,2,    31.3,2,    0.00,2,   2.195,2,   0.261,2,   0.122,2,   0.034,2,     2228.6,2,  2328.5,2,  -999.0,9, -999.00,   7.6052,2,       25,-999.000,9,-999.0000,9, -999.00,9,  -999.0,9,  -999.0,   0.494,3, -999.00,9,   39.639,2, -999.00,9, 1530.30,  -999.0,9,   2.8387,     27.609,    34.7993,2,     -999.0,9,     -999.0,9,     -999.0,     -999.0,9,     -999.0
33RO20110926,        A10,      41,          1,          9,      11706,2,20111008,       0403,   -29.9965,    -5.0843,       4138,  1800.1,   2.8038,  34.7439,2,  34.7438,2,    202.1,2,   201.8,2,    54.3,2,    28.6,2,    0.00,2,   1.991,2,   0.098,2,   0.046,2,   0.000,2,     2218.8,2,  2331.1,2,  -999.0,9, -999.00,   7.6392,2,       25,-999.000,9,-999.0000,9, -999.00,9,  -999.0,9,  -999.0,   0.252,3, -999.00,9,  39.9902,2, -999.00,9, 1800.10,  -999.0,9,   2.6725,     27.710,    34.9077,2,     -999.0,9,     -999.0,9,     -999.0,     -999.0,9,     -999.0
33RO20110926,        A10,      41,          1,          8,      11033,2,20111008,       0403,   -29.9965,    -5.0843,       4138,  2070.2,   2.6450,  34.7953,2,  34.7943,2,    214.2,2,   214.2,2,    54.0,2,    26.9,2,    0.00,2,   1.866,2,   0.051,2,   0.025,2,   0.000,2,     2211.9,2,  2333.8,2,  -999.0,9, -999.00,   7.6593,2,       25,-999.000,9,-999.0000,9, -999.00,9,  -999.0,9,  -999.0,   0.152,3, -999.00,9,  41.7268,2, -999.00,9, 2070.20,  -999.0,9,   2.4919,     27.766,    34.9584,2,     -999.0,9,     -999.0,9,     -999.0,     -999.0,9,     -999.0
33RO20110926,        A10,      41,          1,          7,      11705,2,20111008,       0403,   -29.9965,    -5.0843,       4138,  2369.8,   2.5123,  34.8338,2,  34.8329,2,    225.7,2,   226.4,2,    52.5,2,    25.4,2,    0.01,2,   1.751,2,   0.027,2,   0.013,2,   0.000,2,     2204.9,2,    2335,2,  -999.0,9, -999.00,   7.6825,2,       25,-999.000,9,-999.0000,9, -999.00,9,  -999.0,9,  -999.0,   0.105,3, -999.00,9,  39.8341,2, -999.00,9, 2369.80,  -999.0,9,   2.3340,     27.810,    34.9971,2,     -999.0,9,     -999.0,9,     -999.0,     -999.0,9,     -999.0
33RO20110926,        A10,      41,          1,          6,      11029,2,20111008,       0403,   -29.9965,    -5.0843,       4138,  2670.5,   2.4304,  34.8545,2,  34.8536,2,    233.2,2,   234.2,2,    51.1,2,    24.4,2,    0.01,2,   1.685,2,   0.014,2,   0.008,2,   0.000,2,     2201.6,2,  2335.7,2,  -999.0,9, -999.00,   7.6995,2,       25,-999.000,9,-999.0000,9, -999.00,9,  -999.0,9,  -999.0,   0.065,3, -999.00,9,  41.5707,2, -999.00,9, 2670.50,  -999.0,9,   2.2250,     27.836,    35.0180,2,     -999.0,9,     -999.0,9,     -999.0,     -999.0,9,     -999.0
33RO20110926,        A10,      41,          1,          5,      11704,2,20111008,       0403,   -29.9965,    -5.0843,       4138,  2970.5,   2.3727,  34.8639,2,  34.8633,2,    235.7,2,   236.4,2,    51.3,2,    24.0,2,    0.01,2,   1.656,2,   0.006,2,   0.004,2,   0.000,2,     2201.7,2,  2336.5,2,  -999.0,9, -999.00,   7.7055,2,       25,-999.000,9,-999.0000,9, -999.00,9,  -999.0,9,  -999.0,   0.040,3, -999.00,9,  43.4732,2, -999.00,9, 2970.50,  -999.0,9,   2.1388,     27.851,    35.0277,2,     -999.0,9,     -999.0,9,     -999.0,     -999.0,9,     -999.0
33RO20110926,        A10,      41,          1,          4,      11030,2,20111008,       0403,   -29.9965,    -5.0843,       4138,  3270.1,   2.3511,  34.8702,2,  34.8686,2,    236.3,2,   235.7,2,    51.8,2,    23.8,2,    0.01,2,   1.640,2,   0.006,2,   0.004,2,   0.000,2,     2204.3,2,  2344.1,2,  -999.0,9, -999.00,   7.7104,2,       25,-999.000,9,-999.0000,9, -999.00,9,  -999.0,9,  -999.0,   0.031,3, -999.00,9,  41.0732,2, -999.00,9, 3270.10,  -999.0,9,   2.0870,     27.859,    35.0330,2,     -999.0,9,     -999.0,9,     -999.0,     -999.0,9,     -999.0
33RO20110926,        A10,      41,          1,          3,      11703,2,20111008,       0403,   -29.9965,    -5.0843,       4138,  3568.7,   2.3485,  34.8745,2,  34.8733,2,    235.3,2,     236,2,    52.0,6,    23.7,6,    0.01,6,   1.631,6,   0.004,2,   0.002,2,   0.047,3,     2208.1,2,  2348.3,2,  -999.0,9, -999.00,   7.7054,2,       25,-999.000,9,-999.0000,9, -999.00,9,  -999.0,9,  -999.0,   0.019,3, -999.00,9,  40.8585,2, -999.00,9, 3568.70,  -999.0,9,   2.0526,     27.866,    35.0378,2,     -999.0,9,     -999.0,9,     -999.0,     -999.0,9,     -999.0
33RO20110926,        A10,      41,          1,          2,      11702,2,20111008,       0403,   -29.9965,    -5.0843,       4138,  3870.4,   2.3231,  34.8745,2,  34.8747,2,    233.8,2,   233.3,2,    54.1,2,    23.9,2,    0.01,2,   1.648,2,   0.006,2,   0.004,2,   0.000,2,       2213,2,  2353.5,2,  -999.0,9, -999.00,   7.7114,2,       25,-999.000,9,-999.0000,9, -999.00,9,  -999.0,9,  -999.0,   0.016,3, -999.00,9,  39.2195,2, -999.00,9, 3870.40,  -999.0,9,   1.9946,     27.872,    35.0392,2,     -999.0,9,     -999.0,9,     -999.0,     -999.0,9,     -999.0
33RO20110926,        A10,      41,          1,          1,      11701,2,20111008,       0403,   -29.9965,    -5.0843,       4138,  4208.3,   2.2838,  34.8654,2,  34.8645,2,    232.1,2,   231.1,2,    57.6,2,    24.4,2,    0.01,2,   1.682,2,   0.008,6,   0.005,6,   0.000,2,     2214.9,6,    2354,6,  -999.0,9, -999.00,    7.708,6,       25,-999.000,9,-999.0000,9, -999.00,9,  -999.0,9,  -999.0,   0.027,3, -999.00,9,   39.678,2, -999.00,9, 4208.30,  -999.0,9,   1.9177,     27.870,    35.0289,2,     -999.0,9,     -999.0,9,     -999.0,     -999.0,9,     -999.0