BOTTLE,20220815CCHSIOAMB
EXPOCODE,SECT_ID,STNNBR,CASTNO,SAMPNO,BTLNBR,BTLNBR_FLAG_W,DATE,TIME,LATITUDE,LONGITUDE,DEPTH,CTDPRS,CTDTMP,CTDSAL,CTDSAL_FLAG_W,SALNTY,SALNTY_FLAG_W,CTDOXY,CTDOXY_FLAG_W,OXYGEN,OXYGEN_FLAG_W,SILCAT,SILCAT_FLAG_W,NITRAT,NITRAT_FLAG_W,NITRIT,NITRIT_FLAG_W,PHSPHT,PHSPHT_FLAG_W,CFC-11,CFC-11_FLAG_W,CFC-12,CFC-12_FLAG_W,SF6,SF6_FLAG_W,TCARBN,TCARBN_FLAG_W,ALKALI,ALKALI_FLAG_W,PCO2,PCO2_FLAG_W,PCO2TMP,PH_SWS,PH_SWS_FLAG_W,PH_TMP,TRITUM,TRITUM_FLAG_W,HELIUM,HELIUM_FLAG_W,DELC13,DELC13_FLAG_W,DELC14,DELC14_FLAG_W,C14ERR,CCL4,CCL4_FLAG_W,DELO18,DELO18_FLAG_W,DOC,DOC_FLAG_W,TDN,TDN_FLAG_W,CTDRAW,14C-DOC,14C-DOC_FLAG_W,THETA,SIG0,SALTREF,SALTREF_FLAG_W,BLACKC,BLACKC_FLAG_W,PIGMENTS,PIGMENTS_FLAG_W,14C-DOCERR,13C-DOC,13C-DOC_FLAG_W,13C-DOCERR
,,,,,,,,,,,METERS,DBAR,ITS-90,PSS-78,,PSS-78,,UMOL/KG,,UMOL/KG,,UMOL/KG,,UMOL/KG,,UMOL/KG,,UMOL/KG,,PMOL/KG,,PMOL/KG,,FMOL/KG,,UMOL/KG,,UMOL/KG,,UATM,,DEG C,,,DEG C,TU,,NMOL/KG,,/MILLE,,/MILLE,,/MILLE,PMOL/KG,,/MILLE,,UMOL/KG,,UMOL/KG,,DBAR,/MILLE,,DEG C,KG/M^3,G/KG,,,,,,/MILLE,/MILLE,,/MILLE
33RO20110926,        A10,     114,          1,         23,      11713,2,20111029,       0516,   -27.9499,   -46.4667,     -999.0,     5.3,  22.6849,  36.8946,2,-999.0000,9,    215.2,2,  -999.0,9, -999.00,9,  -999.0,9, -999.00,9,-999.000,9,-999.000,9,-999.000,9,-999.000,9,-999.000000,9,  -999.0,9,  -999.0,9, -999.00,-999.0000,9,  -999.00,-999.000,9,-999.0000,9, -999.00,9,  -999.0,9,  -999.0,-999.000,5, -999.00,9,-999.0000,9, -999.00,9,    5.30,  -999.0,9,  22.6838,     25.476,     -999.0,9,     -999.0,9,     -999.0,9,     -999.0,     -999.0,9,     -999.0
33RO20110926,        A10,     114,          1,         18,      11710,2,20111029,       0516,   -27.9499,   -46.4667,     -999.0,     5.2,  22.7251,  36.8872,2,  36.8911,2,    215.2,2,   215.7,2,     0.7,2,     0.1,2,    0.00,2,   0.057,2,   1.895,2,   1.176,2,   1.197,2,     2096.6,6,  2415.4,6,  -999.0,9, -999.00,   8.0436,6,       25,-999.000,9,-999.0000,9, -999.00,9,  -999.0,9,  -999.0,   3.292,4, -999.00,9,-999.0000,9, -999.00,9,    5.20,  -999.0,9,  22.7241,     25.467,    37.0651,2,     -999.0,9,     -999.0,9,     -999.0,     -999.0,9,     -999.0
33RO20110926,        A10,     114,          1,         24,      11714,2,20111029,       0516,   -27.9499,   -46.4667,     -999.0,     5.2,  22.6357,  36.9039,2,-999.0000,9,    215.4,2,  -999.0,9, -999.00,9,  -999.0,9, -999.00,9,-999.000,9,-999.000,9,-999.000,9,-999.000,9,-999.000000,9,  -999.0,9,  -999.0,9, -999.00,-999.0000,9,  -999.00,-999.000,9,-999.0000,9, -999.00,9,  -999.0,9,  -999.0,-999.000,5, -999.00,9,-999.0000,9, -999.00,9,    5.20,  -999.0,9,  22.6346,     25.488,     -999.0,9,     -999.0,9,     -999.0,9,     -999.0,     -999.0,9,     -999.0
33RO20110926,        A10,     114,          1,         21,      11010,2,20111029,       0516,   -27.9499,   -46.4667,     -999.0,     5.3,  22.7217,  36.8879,2,-999.0000,9,    215.2,2,  -999.0,9, -999.00,9,  -999.0,9, -999.00,9,-999.000,9,-999.000,9,-999.000,9,-999.000,9,-999.000000,9,  -999.0,9,  -999.0,9, -999.00,-999.0000,9,  -999.00,-999.000,9,-999.0000,9, -999.00,9,  -999.0,9,  -999.0,-999.000,5, -999.00,9,-999.0000,9, -999.00,9,    5.30,  -999.0,9,  22.7207,     25.447,     -999.0,9,     -999.0,9,     -999.0,9,     -999.0,     -999.0,9,     -999.0
33RO20110926,        A10,     114,          1,         20,      11715,2,20111029,       0516,   -27.9499,   -46.4667,     -999.0,     5.2,  22.6871,  36.8949,2,-999.0000,9,    215.2,2,  -999.0,9, -999.00,9,  -999.0,9, -999.00,9,-999.000,9,-999.000,9,-999.000,9,-999.000,9,-999.000000,9,  -999.0,9,  -999.0,9, -999.00,-999.0000,9,  -999.00,-999.000,9,-999.0000,9, -999.00,9,  -999.0,9,  -999.0,-999.000,5, -999.00,9,-999.0000,9, -999.00,9,    5.20,  -999.0,9,  22.6860,     25.448,     -999.0,9,     -999.0,9,     -999.0,1,     -999.0,     -999.0,9,     -999.0
33RO20110926,        A10,     114,          1,         19,      11007,2,20111029,       0516,   -27.9499,   -46.4667,     -999.0,     5.2,  22.6483,  36.9031,2,  34.5975,4,    215.5,2,  -999.0,9, -999.00,9,  -999.0,9, -999.00,9,-999.000,9,-999.000,9,-999.000,9,-999.000,9,-999.000000,9,  -999.0,9,  -999.0,9, -999.00,-999.0000,9,  -999.00,-999.000,9,-999.0000,9, -999.00,9,  -999.0,9,  -999.0,-999.000,5, -999.00,9,-999.0000,9, -999.00,9,    5.20,  -999.0,9,  22.6472,     23.717,    34.7607,2,     -999.0,9,     -999.0,9,     -999.0,     -999.0,9,     -999.0
33RO20110926,        A10,     114,          1,         22,      11712,2,20111029,       0516,   -27.9499,   -46.4667,     -999.0,     5.1,  22.7171,  36.8889,2,-999.0000,9,    215.2,2,  -999.0,9, -999.00,9,  -999.0,9, -999.00,9,-999.000,9,-999.000,9,-999.000,9,-999.000,9,-999.000000,9,  -999.0,9,  -999.0,9, -999.00,-999.0000,9,  -999.00,-999.000,9,-999.0000,9, -999.00,9,  -999.0,9,  -999.0,-999.000,5, -999.00,9,-999.0000,9, -999.00,9,    5.10,  -999.0,9,  22.7161,     25.466,     -999.0,9,     -999.0,9,     -999.0,9,     -999.0,     -999.0,9,     -999.0
33RO20110926,        A10,     114,          1,         17,      11023,2,20111029,       0516,   -27.9499,   -46.4667,     -999.0,    55.0,  22.1667,  36.8286,2,  36.8312,2,    217.5,2,   218.6,2,     0.8,2,     0.1,2,    0.00,2,   0.058,2,-999.000,9,-999.000,9,-999.000,9,       2095,2,  2414.7,2,  -999.0,9, -999.00,   8.0461,2,       25,-999.000,9,-999.0000,9, -999.00,9,  -999.0,9,  -999.0,-999.000,5, -999.00,9,-999.0000,9, -999.00,9,   55.00,  -999.0,9,  22.1557,     25.565,    37.0049,2,     -999.0,9,     -999.0,9,     -999.0,     -999.0,9,     -999.0
33RO20110926,        A10,     114,          1,         16,      11709,2,20111029,       0516,   -27.9499,   -46.4667,     -999.0,    99.8,  21.7163,  36.8166,2,  36.8161,2,    216.5,2,   217.2,2,     0.8,2,     0.2,2,    0.01,2,   0.068,2,-999.000,9,-999.000,9,-999.000,9,     2093.1,3,  2411.5,2,  -999.0,9, -999.00,    8.042,2,       25,-999.000,9,-999.0000,9, -999.00,9,  -999.0,9,  -999.0,-999.000,5, -999.00,9,-999.0000,9, -999.00,9,   99.80,  -999.0,9,  21.6966,     25.684,    36.9897,2,     -999.0,9,     -999.0,1,     -999.0,     -999.0,9,     -999.0
33RO20110926,        A10,     114,          1,         15,      11006,2,20111029,       0516,   -27.9499,   -46.4667,     -999.0,   141.3,  20.4787,  36.5591,2,  36.5655,2,    212.8,2,   210.1,2,     0.9,6,     1.1,6,    0.08,6,   0.134,6,-999.000,9,-999.000,9,-999.000,9,     2097.8,3,  2395.6,2,  -999.0,9, -999.00,    8.014,2,       25,-999.000,9,-999.0000,9, -999.00,9,  -999.0,9,  -999.0,-999.000,5, -999.00,9,-999.0000,9, -999.00,9,  141.30,  -999.0,9,  20.4519,     25.836,    36.7379,2,     -999.0,9,     -999.0,1,     -999.0,     -999.0,9,     -999.0
33RO20110926,        A10,     114,          1,         14,      11708,2,20111029,       0516,   -27.9499,   -46.4667,     -999.0,   177.4,  19.0175,  36.2617,2,  36.2708,2,    213.7,2,   212.4,2,     1.2,2,     1.7,2,    0.06,2,   0.191,2,   2.221,2,   1.342,2,   1.295,2,     2098.9,2,  2377.7,2,  -999.0,9, -999.00,    7.992,2,       25,-999.000,9,-999.0000,9, -999.00,9,  -999.0,9,  -999.0,   2.160,4, -999.00,9,-999.0000,9, -999.00,9,  177.40,  -999.0,9,  18.9856,     25.997,    36.4418,2,     -999.0,9,     -999.0,9,     -999.0,     -999.0,9,     -999.0
33RO20110926,        A10,     114,          1,         13,      11031,2,20111029,       0516,   -27.9499,   -46.4667,     -999.0,   385.2,  14.3098,  35.4425,2,  35.4435,2,    208.4,2,   208.4,2,     2.7,2,     8.2,2,    0.01,2,   0.635,2,-999.000,9,-999.000,9,-999.000,9,     2122.3,2,  2332.7,2,  -999.0,9, -999.00,   7.8717,2,       25,-999.000,9,-999.0000,9, -999.00,9,  -999.0,9,  -999.0,-999.000,9, -999.00,9,-999.0000,9, -999.00,9,  385.20,  -999.0,9,  14.2527,     26.476,    35.6107,2,     -999.0,9,     -999.0,9,     -999.0,     -999.0,9,     -999.0
33RO20110926,        A10,     114,          1,         12,      11027,2,20111029,       0516,   -27.9499,   -46.4667,     -999.0,   469.3,  12.5779,  35.1820,2,  35.1822,2,    208.4,2,   207.9,2,     3.9,2,    11.9,2,    0.01,2,   0.865,2,-999.000,9,-999.000,9,-999.000,9,     2132.4,2,  2317.5,2,  -999.0,9, -999.00,   7.8307,2,       25,-999.000,9,-999.0000,9, -999.00,9,  -999.0,9,  -999.0,-999.000,9, -999.00,9,-999.0000,9, -999.00,9,  469.30,  -999.0,9,  12.5139,     26.631,    35.3481,2,     -999.0,9,     -999.0,9,     -999.0,     -999.0,9,     -999.0
33RO20110926,        A10,     114,          1,         11,      11707,2,20111029,       0516,   -27.9499,   -46.4667,     -999.0,   575.3,  10.1980,  34.8402,2,  34.8455,2,    203.5,2,   203.5,2,     7.2,2,    17.8,2,    0.00,2,   1.242,2,-999.000,9,-999.000,9,-999.000,9,-999.000000,9,  -999.0,9,  -999.0,9, -999.00,-999.0000,5,  -999.00,-999.000,9,-999.0000,9, -999.00,9,  -999.0,9,  -999.0,-999.000,9, -999.00,9,-999.0000,9, -999.00,9,  575.30,  -999.0,9,  10.1292,     26.809,    35.0098,2,     -999.0,9,     -999.0,9,     -999.0,     -999.0,9,     -999.0
33RO20110926,        A10,     114,          1,         10,      11003,2,20111029,       0516,   -27.9499,   -46.4667,     -999.0,   674.8,   8.5339,  34.6263,2,  34.6336,2,    205.0,2,   206.3,2,     9.1,6,    21.4,6,    0.00,6,   1.470,6,   3.190,2,   1.658,2,   0.872,2,     2157.7,2,  2293.9,2,  -999.0,9, -999.00,   7.7186,2,       25,-999.000,9,-999.0000,9, -999.00,9,  -999.0,9,  -999.0,   2.266,3, -999.00,9,-999.0000,9, -999.00,9,  674.80,  -999.0,9,   8.4612,     26.911,    34.7969,2,     -999.0,9,     -999.0,9,     -999.0,     -999.0,9,     -999.0
33RO20110926,        A10,     114,          1,          9,      11706,2,20111029,       0516,   -27.9499,   -46.4667,     -999.0,   772.4,   6.2895,  34.4070,2,  34.4072,2,    213.4,2,   214.3,2,    14.7,2,    26.1,2,    0.00,2,   1.784,2,-999.000,9,-999.000,9,-999.000,9,-999.000000,9,  -999.0,9,  -999.0,9, -999.00,-999.0000,5,  -999.00,-999.000,9,-999.0000,9, -999.00,9,  -999.0,9,  -999.0,-999.000,9, -999.00,9,-999.0000,9, -999.00,9,  772.40,  -999.0,9,   6.2190,     27.056,    34.5694,2,     -999.0,9,     -999.0,9,     -999.0,     -999.0,9,     -999.0
33RO20110926,        A10,     114,          1,          8,      11033,2,20111029,       0516,   -27.9499,   -46.4667,     -999.0,   876.0,   4.8365,  34.3120,2,  34.3171,2,    220.3,2,   220.7,2,    21.2,2,    29.1,2,    0.00,2,   1.975,2,-999.000,9,-999.000,9,-999.000,9,     2181.1,2,  2289.3,2,  -999.0,9, -999.00,   7.6523,2,       25,-999.000,9,-999.0000,9, -999.00,9,  -999.0,9,  -999.0,-999.000,9, -999.00,9,-999.0000,9, -999.00,9,  876.00,  -999.0,9,   4.7657,     27.161,    34.4790,2,     -999.0,9,     -999.0,9,     -999.0,     -999.0,9,     -999.0
33RO20110926,        A10,     114,          1,          7,      11705,2,20111029,       0516,   -27.9499,   -46.4667,     -999.0,   984.9,   4.1979,  34.3343,2,  34.3366,2,    207.9,2,   207.8,2,    29.8,2,    31.1,2,    0.00,2,   2.121,2,-999.000,9,-999.000,9,-999.000,9,-999.000000,9,  -999.0,9,  -999.0,9, -999.00,-999.0000,5,  -999.00,-999.000,9,-999.0000,9, -999.00,9,  -999.0,9,  -999.0,-999.000,9, -999.00,9,-999.0000,9, -999.00,9,  984.90,  -999.0,9,   4.1223,     27.245,    34.4985,2,     -999.0,9,     -999.0,9,     -999.0,     -999.0,9,     -999.0
33RO20110926,        A10,     114,          1,          6,      11029,2,20111029,       0516,   -27.9499,   -46.4667,     -999.0,  1075.0,   3.8149,  34.3600,2,  34.3656,2,    202.2,2,   202.8,2,    35.6,6,    32.0,6,    0.00,6,   2.183,6,   1.542,2,   0.740,2,   0.218,2,     2207.8,2,  2302.7,2,  -999.0,9, -999.00,   7.6114,2,       25,-999.000,9,-999.0000,9, -999.00,9,  -999.0,9,  -999.0,   2.516,3, -999.00,9,-999.0000,9, -999.00,9, 1075.00,  -999.0,9,   3.7347,     27.308,    34.5277,2,     -999.0,9,     -999.0,9,     -999.0,     -999.0,9,     -999.0
33RO20110926,        A10,     114,          1,          5,      11704,2,20111029,       0516,   -27.9499,   -46.4667,     -999.0,  1200.0,   3.3799,  34.4161,2,  34.4178,2,    194.7,2,   194.3,2,    44.0,2,    32.5,2,    0.00,2,   2.240,2,-999.000,9,-999.000,9,-999.000,9,-999.000000,9,  -999.0,9,  -999.0,9, -999.00,-999.0000,5,  -999.00,-999.000,9,-999.0000,9, -999.00,9,  -999.0,9,  -999.0,-999.000,9, -999.00,9,-999.0000,9, -999.00,9, 1200.00,  -999.0,9,   3.2932,     27.393,    34.5801,2,     -999.0,9,     -999.0,9,     -999.0,     -999.0,9,     -999.0
33RO20110926,        A10,     114,          1,          4,      11030,2,20111029,       0516,   -27.9499,   -46.4667,     -999.0,  1299.4,   3.3143,  34.4937,2,  34.4999,2,    188.8,2,   189.1,2,    46.8,2,    32.3,2,    0.00,2,   2.221,2,-999.000,9,-999.000,9,-999.000,9,     2223.2,2,  2316.1,2,  -999.0,9, -999.00,   7.6014,2,       25,-999.000,9,-999.0000,9, -999.00,9,  -999.0,9,  -999.0,-999.000,9, -999.00,9,-999.0000,9, -999.00,9, 1299.40,  -999.0,9,   3.2199,     27.466,    34.6626,2,     -999.0,9,     -999.0,9,     -999.0,     -999.0,9,     -999.0
33RO20110926,        A10,     114,          1,          3,      11703,2,20111029,       0516,   -27.9499,   -46.4667,     -999.0,  1450.0,   3.3033,  34.5974,2,  34.5980,2,    189.0,2,   189.5,2,    47.1,2,    31.1,2,    0.00,2,   2.131,2,   0.282,2,   0.136,2,   0.000,2,     2222.3,2,  2322.2,2,  -999.0,9, -999.00,   7.6124,2,       25,-999.000,9,-999.0000,9, -999.00,9,  -999.0,9,  -999.0,   0.913,3, -999.00,9,-999.0000,9, -999.00,9, 1450.00,  -999.0,9,   3.1962,     27.546,    34.7611,2,     -999.0,9,     -999.0,9,     -999.0,     -999.0,9,     -999.0
33RO20110926,        A10,     114,          1,          2,      11702,2,20111029,       0516,   -27.9499,   -46.4667,     -999.0,  1600.9,   3.4900,  34.7111,2,  34.7113,2,    195.9,2,   196.7,2,    41.2,6,    28.8,6,    0.00,6,   1.958,6,   0.153,2,   0.077,2,   0.042,2,     2213.6,2,  2320.9,2,  -999.0,9, -999.00,   7.6382,2,       25,-999.000,9,-999.0000,9, -999.00,9,  -999.0,9,  -999.0,   0.621,3, -999.00,9,-999.0000,9, -999.00,9, 1600.90,  -999.0,9,   3.3673,     27.620,    34.8749,2,     -999.0,9,     -999.0,9,     -999.0,     -999.0,9,     -999.0
33RO20110926,        A10,     114,          1,          1,      11701,2,20111029,       0516,   -27.9499,   -46.4667,     -999.0,  1761.2,   3.6357,  34.8172,2,  34.8183,2,    210.7,2,   210.7,2,    34.9,2,    25.9,2,    0.01,2,   1.758,2,   0.140,6,   0.070,6,   0.013,6,     2203.1,6,  2320.5,6,  -999.0,9, -999.00,   7.6679,6,       25,-999.000,9,-999.0000,9, -999.00,9,  -999.0,9,  -999.0,   0.608,3, -999.00,9,-999.0000,9, -999.00,9, 1761.20,  -999.0,9,   3.4965,     27.692,    34.9825,2,     -999.0,9,     -999.0,9,     -999.0,     -999.0,9,     -999.0