BOTTLE,20220815CCHSIOAMB
EXPOCODE,SECT_ID,STNNBR,CASTNO,SAMPNO,BTLNBR,BTLNBR_FLAG_W,DATE,TIME,LATITUDE,LONGITUDE,DEPTH,CTDPRS,CTDTMP,CTDSAL,CTDSAL_FLAG_W,SALNTY,SALNTY_FLAG_W,CTDOXY,CTDOXY_FLAG_W,OXYGEN,OXYGEN_FLAG_W,SILCAT,SILCAT_FLAG_W,NITRAT,NITRAT_FLAG_W,NITRIT,NITRIT_FLAG_W,PHSPHT,PHSPHT_FLAG_W,CFC-11,CFC-11_FLAG_W,CFC-12,CFC-12_FLAG_W,SF6,SF6_FLAG_W,TCARBN,TCARBN_FLAG_W,ALKALI,ALKALI_FLAG_W,PCO2,PCO2_FLAG_W,PCO2TMP,PH_SWS,PH_SWS_FLAG_W,PH_TMP,TRITUM,TRITUM_FLAG_W,HELIUM,HELIUM_FLAG_W,DELC13,DELC13_FLAG_W,DELC14,DELC14_FLAG_W,C14ERR,CCL4,CCL4_FLAG_W,DELO18,DELO18_FLAG_W,DOC,DOC_FLAG_W,TDN,TDN_FLAG_W,CTDRAW,14C-DOC,14C-DOC_FLAG_W,THETA,SIG0,SALTREF,SALTREF_FLAG_W,BLACKC,BLACKC_FLAG_W,PIGMENTS,PIGMENTS_FLAG_W,14C-DOCERR,13C-DOC,13C-DOC_FLAG_W,13C-DOCERR
,,,,,,,,,,,METERS,DBAR,ITS-90,PSS-78,,PSS-78,,UMOL/KG,,UMOL/KG,,UMOL/KG,,UMOL/KG,,UMOL/KG,,UMOL/KG,,PMOL/KG,,PMOL/KG,,FMOL/KG,,UMOL/KG,,UMOL/KG,,UATM,,DEG C,,,DEG C,TU,,NMOL/KG,,/MILLE,,/MILLE,,/MILLE,PMOL/KG,,/MILLE,,UMOL/KG,,UMOL/KG,,DBAR,/MILLE,,DEG C,KG/M^3,G/KG,,,,,,/MILLE,/MILLE,,/MILLE
33RO20110926,        A10,      80,          1,         24,      11714,2,20111021,       1237,   -29.9998,   -31.3169,     -999.0,     4.1,  18.2225,  36.0430,2,  36.0439,2,    234.0,2,   234.2,2,     1.0,2,     0.1,2,    0.00,2,   0.071,4,-999.000,9,-999.000,9,-999.000,9,     2081.3,6,  2362.4,6,  -999.0,9, -999.00,   7.9905,6,       25,-999.000,9,-999.0000,9, -999.00,9,  -999.0,9,  -999.0,-999.000,5, -999.00,9,-999.0000,9, -999.00,9,    4.10,  -999.0,9,  18.2218,     26.017,    36.2139,2,     -999.0,9,     -999.0,1,     -999.0,     -999.0,9,     -999.0
33RO20110926,        A10,      80,          1,         23,      11713,2,20111021,       1237,   -29.9998,   -31.3169,     -999.0,    24.2,  18.2211,  36.0429,2,  36.0426,2,    234.4,2,   234.5,2,     1.0,2,     0.1,2,    0.00,2,   0.073,4,-999.000,9,-999.000,9,-999.000,9,     2080.6,2,  2360.7,2,  -999.0,9, -999.00,    7.991,2,       25,-999.000,9,-999.0000,9, -999.00,9,  -999.0,9,  -999.0,-999.000,5, -999.00,9,-999.0000,9, -999.00,9,   24.20,  -999.0,9,  18.2169,     26.017,    36.2125,2,     -999.0,9,     -999.0,9,     -999.0,     -999.0,9,     -999.0
33RO20110926,        A10,      80,          1,         22,      11712,2,20111021,       1237,   -29.9998,   -31.3169,     -999.0,    69.5,  17.6251,  35.9425,2,  35.9399,2,    228.4,2,     233,2,     1.1,2,     0.3,2,    0.03,2,   0.107,4,-999.000,9,-999.000,9,-999.000,9,     2082.9,2,  2357.5,2,  -999.0,9, -999.00,   7.9729,2,       25,-999.000,9,-999.0000,9, -999.00,9,  -999.0,9,  -999.0,-999.000,5, -999.00,9,-999.0000,9, -999.00,9,   69.50,  -999.0,9,  17.6133,     26.092,    36.1093,2,     -999.0,9,     -999.0,1,     -999.0,     -999.0,9,     -999.0
33RO20110926,        A10,      80,          1,         21,      11010,2,20111021,       1237,   -29.9998,   -31.3169,     -999.0,   139.3,  17.0914,  35.8757,2,  35.8749,2,    232.5,2,   231.7,2,     1.1,2,     0.8,2,    0.15,2,   0.138,4,-999.000,9,-999.000,9,-999.000,9,     2086.3,2,  2356.1,2,  -999.0,9, -999.00,   7.9759,2,       25,-999.000,9,-999.0000,9, -999.00,9,  -999.0,9,  -999.0,-999.000,5, -999.00,9,-999.0000,9, -999.00,9,  139.30,  -999.0,9,  17.0682,     26.169,    36.0440,2,     -999.0,9,     -999.0,1,     -999.0,     -999.0,9,     -999.0
33RO20110926,        A10,      80,          1,         20,      11715,2,20111021,       1237,   -29.9998,   -31.3169,     -999.0,   195.2,  15.5044,  35.5497,2,  35.5508,2,    217.7,2,   216.1,2,     1.8,6,     4.3,6,    0.01,6,   0.326,4,-999.000,9,-999.000,9,-999.000,9,-999.000000,9,  -999.0,5,  -999.0,9, -999.00,-999.0000,5,  -999.00,-999.000,9,-999.0000,9, -999.00,9,  -999.0,9,  -999.0,-999.000,5, -999.00,9,-999.0000,9, -999.00,9,  195.20,  -999.0,9,  15.4740,     26.290,    35.7184,2,     -999.0,9,     -999.0,9,     -999.0,     -999.0,9,     -999.0
33RO20110926,        A10,      80,          1,         19,      11007,2,20111021,       1237,   -29.9998,   -31.3169,     -999.0,   238.4,  14.9138,  35.4691,2,  35.4685,2,    212.1,2,   212.8,2,     2.1,2,     5.8,2,    0.01,2,   0.400,4,-999.000,9,-999.000,9,-999.000,9,     2108.7,2,  2326.8,2,  -999.0,9, -999.00,   7.8828,2,       25,-999.000,9,-999.0000,9, -999.00,9,  -999.0,9,  -999.0,-999.000,9, -999.00,9,-999.0000,9, -999.00,9,  238.40,  -999.0,9,  14.8777,     26.361,    35.6358,2,     -999.0,9,     -999.0,9,     -999.0,     -999.0,9,     -999.0
33RO20110926,        A10,      80,          1,         18,      11710,2,20111021,       1237,   -29.9998,   -31.3169,     -999.0,   320.4,  13.5411,  35.2864,2,  35.2868,2,    212.9,2,   212.5,2,     2.9,2,     8.8,2,    0.01,2,   0.547,4,-999.000,9,-999.000,9,-999.000,9,-999.000000,9,  2316.9,2,  -999.0,9, -999.00,   7.8568,2,       25,-999.000,9,-999.0000,9, -999.00,9,  -999.0,9,  -999.0,-999.000,9, -999.00,9,-999.0000,9, -999.00,9,  320.40,  -999.0,9,  13.4955,     26.514,    35.4531,2,     -999.0,9,     -999.0,9,     -999.0,     -999.0,9,     -999.0
33RO20110926,        A10,      80,          1,         17,      11023,2,20111021,       1237,   -29.9998,   -31.3169,     -999.0,   385.7,  12.6805,  35.1770,2,  35.1760,2,    214.2,2,   213.9,2,     3.5,2,    10.8,2,    0.01,2,   0.644,4,-999.000,9,-999.000,9,-999.000,9,       2123,2,  2312.3,2,  -999.0,9, -999.00,   7.8347,2,       25,-999.000,9,-999.0000,9, -999.00,9,  -999.0,9,  -999.0,-999.000,9, -999.00,9,-999.0000,9, -999.00,9,  385.70,  -999.0,9,  12.6278,     26.611,    35.3419,2,     -999.0,9,     -999.0,9,     -999.0,     -999.0,9,     -999.0
33RO20110926,        A10,      80,          1,         16,      11709,2,20111021,       1237,   -29.9998,   -31.3169,     -999.0,   474.1,  11.2037,  34.9671,2,  34.9579,2,    209.4,2,   208.7,2,     5.4,2,    14.7,2,    0.01,2,   0.848,4,-999.000,9,-999.000,9,-999.000,9,-999.000000,9,  2304.3,2,  -999.0,9, -999.00,   7.7916,2,       25,-999.000,9,-999.0000,9, -999.00,9,  -999.0,9,  -999.0,-999.000,9, -999.00,9,-999.0000,9, -999.00,9,  474.10,  -999.0,9,  11.1438,     26.717,    35.1228,2,     -999.0,9,     -999.0,9,     -999.0,     -999.0,9,     -999.0
33RO20110926,        A10,      80,          1,         15,      11006,2,20111021,       1237,   -29.9998,   -31.3169,     -999.0,   574.9,   8.9652,  34.6766,2,  34.6757,2,    206.4,2,   205.8,2,     8.6,6,    20.2,6,    0.01,6,   1.135,4,-999.000,9,-999.000,9,-999.000,9,     2151.3,2,    2294,2,  -999.0,9, -999.00,   7.7254,2,       25,-999.000,9,-999.0000,9, -999.00,9,  -999.0,9,  -999.0,-999.000,9, -999.00,9,-999.0000,9, -999.00,9,  574.90,  -999.0,9,   8.9018,     26.880,    34.8392,2,     -999.0,9,     -999.0,9,     -999.0,     -999.0,9,     -999.0
33RO20110926,        A10,      80,          1,         14,      11708,2,20111021,       1237,   -29.9998,   -31.3169,     -999.0,   680.6,   6.7924,  34.4446,2,  34.4456,2,    212.7,2,   213.1,2,    13.1,2,    25.2,2,    0.00,2,   1.410,4,-999.000,9,-999.000,9,-999.000,9,-999.000000,9,  2286.9,2,  -999.0,9, -999.00,   7.6793,2,       25,-999.000,9,-999.0000,9, -999.00,9,  -999.0,9,  -999.0,-999.000,9, -999.00,9,-999.0000,9, -999.00,9,  680.60,  -999.0,9,   6.7280,     27.019,    34.6080,2,     -999.0,9,     -999.0,9,     -999.0,     -999.0,9,     -999.0
33RO20110926,        A10,      80,          1,         13,      11031,2,20111021,       1237,   -29.9998,   -31.3169,     -999.0,   814.8,   4.9852,  34.3015,2,  34.3022,2,    224.9,2,   225.8,2,    19.1,2,    28.2,2,    0.00,2,   1.609,4,-999.000,9,-999.000,9,-999.000,9,       2173,2,  2287.1,2,  -999.0,9, -999.00,   7.6553,2,       25,-999.000,9,-999.0000,9, -999.00,9,  -999.0,9,  -999.0,-999.000,9, -999.00,9,-999.0000,9, -999.00,9,  814.80,  -999.0,9,   4.9188,     27.131,    34.4639,2,     -999.0,9,     -999.0,9,     -999.0,     -999.0,9,     -999.0
33RO20110926,        A10,      80,          1,         12,      11027,2,20111021,       1237,   -29.9998,   -31.3169,     -999.0,   969.8,   3.9898,  34.2983,2,  34.2985,2,    219.8,2,   218.8,2,    28.8,2,    30.7,2,    0.00,2,   1.807,4,-999.000,9,-999.000,9,-999.000,9,-999.000000,9,    2295,2,  -999.0,9, -999.00,   7.6282,2,       25,-999.000,9,-999.0000,9, -999.00,9,  -999.0,9,  -999.0,-999.000,9, -999.00,9,-999.0000,9, -999.00,9,  969.80,  -999.0,9,   3.9171,     27.236,    34.4602,2,     -999.0,9,     -999.0,9,     -999.0,     -999.0,9,     -999.0
33RO20110926,        A10,      80,          1,         11,      11707,2,20111021,       1237,   -29.9998,   -31.3169,     -999.0,  1099.8,   3.4785,  34.3663,2,  34.3666,2,    203.2,2,   202.5,2,    40.1,6,    32.3,6,    0.01,6,   1.968,4,-999.000,9,-999.000,9,-999.000,9,     2210.1,2,    2307,2,  -999.0,9, -999.00,   7.6052,2,       25,-999.000,9,-999.0000,9, -999.00,9,  -999.0,9,  -999.0,-999.000,9, -999.00,9,-999.0000,9, -999.00,9, 1099.80,  -999.0,9,   3.3991,     27.342,    34.5286,2,     -999.0,9,     -999.0,9,     -999.0,     -999.0,9,     -999.0
33RO20110926,        A10,      80,          1,         10,      11003,2,20111021,       1237,   -29.9998,   -31.3169,     -999.0,  1298.8,   3.1555,  34.4960,2,  34.4963,2,    187.9,2,   187.7,2,    50.9,2,    32.7,2,    0.00,2,   2.065,4,-999.000,9,-999.000,9,-999.000,9,     2227.6,2,  2314.9,6,  -999.0,9, -999.00,   7.5924,6,       25,-999.000,9,-999.0000,9, -999.00,9,  -999.0,9,  -999.0,-999.000,9, -999.00,9,-999.0000,9, -999.00,9, 1298.80,  -999.0,9,   3.0628,     27.477,    34.6590,2,     -999.0,9,     -999.0,9,     -999.0,     -999.0,9,     -999.0
33RO20110926,        A10,      80,          1,          9,      11706,2,20111021,       1237,   -29.9998,   -31.3169,     -999.0,  1490.8,   2.9703,  34.6094,2,  34.6092,2,    189.1,2,     190,2,    54.1,2,    31.2,2,    0.00,2,   2.012,4,   0.273,2,   0.131,2,   0.000,2,     2229.1,2,    2322,2,  -999.0,9, -999.00,   7.5894,2,       25,-999.000,9,-999.0000,9, -999.00,9,  -999.0,9,  -999.0,   0.615,3, -999.00,9,-999.0000,9, -999.00,9, 1490.80,  -999.0,9,   2.8635,     27.585,    34.7724,2,     -999.0,9,     -999.0,9,     -999.0,     -999.0,9,     -999.0
33RO20110926,        A10,      80,          1,          8,      11033,2,20111021,       1237,   -29.9998,   -31.3169,     -999.0,  1698.7,   2.8466,  34.7069,2,  34.7071,2,    199.1,2,     199,2,    53.0,2,    29.1,2,    0.00,2,   1.891,4,-999.000,9,-999.000,9,-999.000,9,-999.000000,9,  2332.2,4,  -999.0,9, -999.00,   7.6254,2,       25,-999.000,9,-999.0000,9, -999.00,9,  -999.0,9,  -999.0,-999.000,9, -999.00,9,-999.0000,9, -999.00,9, 1698.70,  -999.0,9,   2.7235,     27.676,    34.8708,2,     -999.0,9,     -999.0,9,     -999.0,     -999.0,9,     -999.0
33RO20110926,        A10,      80,          1,          7,      11705,2,20111021,       1237,   -29.9998,   -31.3169,     -999.0,  1951.5,   2.7805,  34.7830,2,  34.7836,2,    212.7,2,   213.7,2,    49.5,2,    26.9,2,    0.00,2,   1.735,4,   0.037,2,   0.020,2,   0.000,2,     2211.7,2,    2323,4,  -999.0,9, -999.00,   7.6615,2,       25,-999.000,9,-999.0000,9, -999.00,9,  -999.0,9,  -999.0,   0.177,3, -999.00,9,-999.0000,9, -999.00,9, 1951.50,  -999.0,9,   2.6361,     27.745,    34.9476,2,     -999.0,9,     -999.0,9,     -999.0,     -999.0,9,     -999.0
33RO20110926,        A10,      80,          1,          6,      11029,2,20111021,       1237,   -29.9998,   -31.3169,     -999.0,  2201.2,   2.7704,  34.8420,2,  34.8425,2,    227.2,2,   228.7,2,    43.6,2,    24.5,2,    0.00,2,   1.570,4,-999.000,9,-999.000,9,-999.000,9,-999.000000,9,    2326,2,  -999.0,9, -999.00,   7.6975,2,       25,-999.000,9,-999.0000,9, -999.00,9,  -999.0,9,  -999.0,-999.000,9, -999.00,9,-999.0000,9, -999.00,9, 2201.20,  -999.0,9,   2.6033,     27.794,    35.0068,6,     -999.0,9,     -999.0,9,     -999.0,     -999.0,9,     -999.0
33RO20110926,        A10,      80,          1,          5,      11704,2,20111021,       1237,   -29.9998,   -31.3169,     -999.0,  2502.2,   2.7729,  34.8785,2,  34.8797,2,    239.0,2,   239.5,2,    38.9,2,    22.9,2,    0.00,2,   1.450,4,   0.013,2,   0.009,2,   0.000,2,-999.000000,9,  2327.8,2,  -999.0,9, -999.00,   7.7094,2,       25,-999.000,9,-999.0000,9, -999.00,9,  -999.0,9,  -999.0,   0.114,3, -999.00,9,-999.0000,9, -999.00,9, 2502.20,  -999.0,9,   2.5772,     27.827,    35.0441,2,     -999.0,9,     -999.0,9,     -999.0,     -999.0,9,     -999.0
33RO20110926,        A10,      80,          1,          4,      11030,2,20111021,       1237,   -29.9998,   -31.3169,     -999.0,  2802.4,   2.7296,  34.8948,2,  34.8953,2,    244.9,2,   244.5,2,    37.4,6,    22.0,6,    0.00,6,   1.389,4,   0.016,2,   0.010,2,   0.000,2,     2187.7,2,  2330.3,2,  -999.0,9, -999.00,   7.7234,2,       25,-999.000,9,-999.0000,9, -999.00,9,  -999.0,9,  -999.0,   0.131,3, -999.00,9,-999.0000,9, -999.00,9, 2802.40,  -999.0,9,   2.5050,     27.846,    35.0598,2,     -999.0,9,     -999.0,9,     -999.0,     -999.0,9,     -999.0
33RO20110926,        A10,      80,          1,          3,      11703,2,20111021,       1237,   -29.9998,   -31.3169,     -999.0,  3098.0,   2.5431,  34.8898,2,  34.8900,2,    246.9,2,   246.8,2,    41.6,2,    22.3,2,    0.00,2,   1.426,4,   0.061,2,   0.013,2,   0.000,2,-999.000000,9,  2331.3,2,  -999.0,9, -999.00,   7.7134,2,       25,-999.000,9,-999.0000,9, -999.00,9,  -999.0,9,  -999.0,   0.147,3, -999.00,9,-999.0000,9, -999.00,9, 3098.00,  -999.0,9,   2.2923,     27.860,    35.0545,2,     -999.0,9,     -999.0,9,     -999.0,     -999.0,9,     -999.0
33RO20110926,        A10,      80,          1,          2,      11702,2,20111021,       1237,   -29.9998,   -31.3169,     -999.0,  3600.1,   1.9309,  34.8284,2,  34.8286,2,    236.7,2,   236.5,2,    65.7,2,    25.3,2,    0.00,2,   1.759,4,   0.047,2,   0.024,2,   0.041,2,-999.000000,9,  2343.4,2,  -999.0,9, -999.00,   7.6803,2,       25,-999.000,9,-999.0000,9, -999.00,9,  -999.0,9,  -999.0,   0.195,3, -999.00,9,-999.0000,9, -999.00,9, 3600.10,  -999.0,9,   1.6425,     27.862,    34.9929,2,     -999.0,9,     -999.0,9,     -999.0,     -999.0,9,     -999.0
33RO20110926,        A10,      80,          1,          1,      11701,2,20111021,       1237,   -29.9998,   -31.3169,     -999.0,  4122.1,   1.2846,  34.7588,2,  34.7611,2,    226.4,2,   224.4,2,    92.7,2,    28.9,2,    0.00,2,   2.155,4,   0.114,6,   0.056,6,   0.006,6,     2240.6,2,    2358,6,  -999.0,9, -999.00,   7.6483,6,       25,-999.000,9,-999.0000,9, -999.00,9,  -999.0,9,  -999.0,   0.292,3, -999.00,9,-999.0000,9, -999.00,9, 4122.10,  -999.0,9,   0.9580,     27.856,    34.9250,2,     -999.0,9,     -999.0,9,     -999.0,     -999.0,9,     -999.0