BOTTLE,20220815CCHSIOAMB
EXPOCODE,SECT_ID,STNNBR,CASTNO,SAMPNO,BTLNBR,BTLNBR_FLAG_W,DATE,TIME,LATITUDE,LONGITUDE,DEPTH,CTDPRS,CTDTMP,CTDSAL,CTDSAL_FLAG_W,SALNTY,SALNTY_FLAG_W,CTDOXY,CTDOXY_FLAG_W,OXYGEN,OXYGEN_FLAG_W,SILCAT,SILCAT_FLAG_W,NITRAT,NITRAT_FLAG_W,NITRIT,NITRIT_FLAG_W,PHSPHT,PHSPHT_FLAG_W,CFC-11,CFC-11_FLAG_W,CFC-12,CFC-12_FLAG_W,SF6,SF6_FLAG_W,TCARBN,TCARBN_FLAG_W,ALKALI,ALKALI_FLAG_W,PCO2,PCO2_FLAG_W,PCO2TMP,PH_SWS,PH_SWS_FLAG_W,PH_TMP,TRITUM,TRITUM_FLAG_W,HELIUM,HELIUM_FLAG_W,DELC13,DELC13_FLAG_W,DELC14,DELC14_FLAG_W,C14ERR,CCL4,CCL4_FLAG_W,DELO18,DELO18_FLAG_W,DOC,DOC_FLAG_W,TDN,TDN_FLAG_W,CTDRAW,14C-DOC,14C-DOC_FLAG_W,THETA,SIG0,SALTREF,SALTREF_FLAG_W,BLACKC,BLACKC_FLAG_W,PIGMENTS,PIGMENTS_FLAG_W,14C-DOCERR,13C-DOC,13C-DOC_FLAG_W,13C-DOCERR
,,,,,,,,,,,METERS,DBAR,ITS-90,PSS-78,,PSS-78,,UMOL/KG,,UMOL/KG,,UMOL/KG,,UMOL/KG,,UMOL/KG,,UMOL/KG,,PMOL/KG,,PMOL/KG,,FMOL/KG,,UMOL/KG,,UMOL/KG,,UATM,,DEG C,,,DEG C,TU,,NMOL/KG,,/MILLE,,/MILLE,,/MILLE,PMOL/KG,,/MILLE,,UMOL/KG,,UMOL/KG,,DBAR,/MILLE,,DEG C,KG/M^3,G/KG,,,,,,/MILLE,/MILLE,,/MILLE
33RO20110926,        A10,     111,          1,         24,      11714,2,20111028,       1533,   -28.2972,   -45.3583,       3135,     4.3,  20.6262,  36.3821,2,  36.3833,2,    226.2,2,   226.3,2,     0.8,2,     0.0,2,    0.00,2,   0.047,4,   2.098,2,   1.280,2,   1.357,2,     2078.8,6,  2386.1,6,  -999.0,9, -999.00,   8.0255,6,       25,-999.000,9,-999.0000,9,    1.27,2,    59.4,2,     3.1,   4.039,4, -999.00,9,  65.5415,2,    5.02,2,    4.30,  -999.0,9,  20.6254,     25.646,    36.5548,2,     -999.0,9,     -999.0,1,     -999.0,     -999.0,9,     -999.0
33RO20110926,        A10,     111,          1,         23,      11713,2,20111028,       1533,   -28.2972,   -45.3583,       3135,    74.4,  18.8094,  36.2901,2,  36.2886,2,    225.6,2,     226,2,     0.6,2,     0.1,2,    0.09,2,   0.072,4,   2.214,2,   1.350,2,   1.349,2,     2086.1,2,  2379.1,2,  -999.0,9, -999.00,    8.009,2,       25,-999.000,9,-999.0000,9, -999.00,9,  -999.0,9,  -999.0,   2.892,4, -999.00,9,-999.0000,5,    4.40,2,   74.40,  -999.0,9,  18.7961,     26.059,    36.4597,2,     -999.0,9,     -999.0,1,     -999.0,     -999.0,9,     -999.0
33RO20110926,        A10,     111,          1,         22,      11712,2,20111028,       1533,   -28.2972,   -45.3583,       3135,   119.8,  18.2699,  36.1712,2,  36.1699,2,    223.3,2,   223.6,2,     0.7,2,     0.8,2,    0.04,2,   0.090,4,   2.265,2,   1.380,2,   1.414,2,     2087.6,3,  2373.6,2,  -999.0,9, -999.00,    7.996,2,       25,-999.000,9,-999.0000,9, -999.00,9,  -999.0,9,  -999.0,   2.179,4, -999.00,9,-999.0000,5, -999.00,5,  119.80,  -999.0,9,  18.2490,     26.105,    36.3404,2,     -999.0,9,     -999.0,1,     -999.0,     -999.0,9,     -999.0
33RO20110926,        A10,     111,          1,         21,      11010,2,20111028,       1533,   -28.2972,   -45.3583,       3135,   160.3,  17.7991,  36.0774,2,  36.0789,2,    223.6,2,   224.7,2,     0.8,2,     1.1,2,    0.02,2,   0.109,4,   2.317,2,   1.402,2,   1.413,2,     2086.4,3,  2368.2,2,  -999.0,9, -999.00,   7.9889,2,       25,-999.000,9,-999.0000,9, -999.00,9,  -999.0,9,  -999.0,   1.995,4, -999.00,9,  57.6585,2,    5.53,2,  160.30,  -999.0,9,  17.7716,     26.156,    36.2490,2,     -999.0,9,     -999.0,9,     -999.0,     -999.0,9,     -999.0
33RO20110926,        A10,     111,          1,         20,      11715,2,20111028,       1533,   -28.2972,   -45.3583,       3135,   200.9,  16.9462,  35.8908,2,  35.8972,2,    215.1,2,   217.5,2,     1.4,2,     2.7,2,    0.01,2,   0.201,4,   2.434,2,   1.456,2,   1.404,2,     2095.2,3,  2357.7,2,  -999.0,9, -999.00,   7.9549,2,       25,-999.000,9,-999.0000,9, -999.00,9,  -999.0,9,  -999.0,   1.989,4, -999.00,9,  56.2732,2, -999.00,9,  200.90,  -999.0,9,  16.9129,     26.222,    36.0665,2,     -999.0,9,     -999.0,9,     -999.0,     -999.0,9,     -999.0
33RO20110926,        A10,     111,          1,         19,      11007,2,20111028,       1533,   -28.2972,   -45.3583,       3135,   285.6,  14.6907,  35.4752,2,  35.4799,2,    207.5,2,     205,2,     2.3,6,     7.2,6,    0.01,6,   0.414,4,   2.761,2,   1.595,2,   1.259,2,     2115.5,2,  2333.4,2,  -999.0,9, -999.00,   7.8808,2,       25,-999.000,9,-999.0000,9, -999.00,9,  -999.0,9,  -999.0,   1.041,3, -999.00,9,  50.2049,2, -999.00,9,  285.60,  -999.0,9,  14.6477,     26.423,    35.6472,2,     -999.0,9,     -999.0,9,     -999.0,     -999.0,9,     -999.0
33RO20110926,        A10,     111,          1,         18,      11710,2,20111028,       1533,   -28.2972,   -45.3583,       3135,   359.2,  13.2789,  35.2784,2,  35.2802,2,    207.4,2,   207.7,2,     3.2,2,    10.2,2,    0.01,2,   0.557,4,   2.934,2,   1.654,2,   1.190,2,     2122.9,2,    2322,2,  -999.0,9, -999.00,   7.8478,2,       25,-999.000,9,-999.0000,9, -999.00,9,  -999.0,9,  -999.0,   1.191,3, -999.00,9,  43.6195,2, -999.00,9,  359.20,  -999.0,9,  13.2284,     26.563,    35.4466,2,     -999.0,9,     -999.0,9,     -999.0,     -999.0,9,     -999.0
33RO20110926,        A10,     111,          1,         17,      11023,2,20111028,       1533,   -28.2972,   -45.3583,       3135,   425.4,  12.4077,  35.1508,2,  35.1469,2,    207.7,2,   207.7,2,     4.1,2,    12.2,2,    0.01,2,   0.650,4,   3.025,2,   1.686,2,   1.087,2,     2128.1,2,  2315.7,2,  -999.0,9, -999.00,   7.8247,2,       25,-999.000,9,-999.0000,9, -999.00,9,  -999.0,9,  -999.0,   1.275,3, -999.00,9,  45.7659,2, -999.00,9,  425.40,  -999.0,9,  12.3504,     26.635,    35.3126,2,     -999.0,9,     -999.0,9,     -999.0,     -999.0,9,     -999.0
33RO20110926,        A10,     111,          1,         16,      11709,2,20111028,       1533,   -28.2972,   -45.3583,       3135,   575.0,   8.9755,  34.6825,2,  34.6826,2,    203.1,2,   202.5,2,     8.9,2,    20.7,2,    0.00,2,   1.065,4,   3.132,2,   1.635,2,   0.870,2,     2152.6,2,  2294.6,2,  -999.0,9, -999.00,   7.7264,2,       25,-999.000,9,-999.0000,9, -999.00,9,  -999.0,9,  -999.0,   2.026,3, -999.00,9,-999.0000,5, -999.00,9,  575.00,  -999.0,9,   8.9121,     26.884,    34.8462,2,     -999.0,9,     -999.0,9,     -999.0,     -999.0,9,     -999.0
33RO20110926,        A10,     111,          1,         15,      11006,2,20111028,       1533,   -28.2972,   -45.3583,       3135,   701.1,   6.7080,  34.4467,2,  34.4464,2,    209.2,2,   209.4,2,    13.8,2,    25.7,2,    0.00,2,   1.329,4,   3.072,2,   1.553,2,   0.754,2,     2166.9,2,  2288.2,2,  -999.0,9, -999.00,   7.6733,2,       25,-999.000,9,-999.0000,9, -999.00,9,  -999.0,9,  -999.0,   3.034,3, -999.00,9,  44.9756,2, -999.00,9,  701.10,  -999.0,9,   6.6421,     27.031,    34.6088,2,     -999.0,9,     -999.0,9,     -999.0,     -999.0,9,     -999.0
33RO20110926,        A10,     111,          1,         14,      11708,2,20111028,       1533,   -28.2972,   -45.3583,       3135,   849.6,   4.9054,  34.3337,2,  34.3345,2,    213.2,2,   213.7,2,    22.2,2,    29.4,2,    0.00,2,   1.583,4,   2.562,2,   1.258,2,   0.500,2,     2181.2,2,  2291.1,2,  -999.0,9, -999.00,   7.6403,2,       25,-999.000,9,-999.0000,9, -999.00,9,  -999.0,9,  -999.0,   3.306,3, -999.00,9,   40.761,2, -999.00,9,  849.60,  -999.0,9,   4.8364,     27.166,    34.4964,2,     -999.0,9,     -999.0,9,     -999.0,     -999.0,9,     -999.0
33RO20110926,        A10,     111,          1,         13,      11031,2,20111028,       1533,   -28.2972,   -45.3583,       3135,  1025.7,   3.9462,  34.3546,2,  34.3567,2,    202.7,2,   202.2,2,    33.9,2,    31.9,2,    0.00,2,   1.806,4,   1.632,2,   0.790,2,   0.269,2,     2200.9,2,    2301,2,  -999.0,9, -999.00,   7.6112,2,       25,-999.000,9,-999.0000,9, -999.00,9,  -999.0,9,  -999.0,   2.523,3, -999.00,9,  39.3268,2, -999.00,9, 1025.70,  -999.0,9,   3.8690,     27.288,    34.5187,2,     -999.0,9,     -999.0,9,     -999.0,     -999.0,9,     -999.0
33RO20110926,        A10,     111,          1,         12,      11027,2,20111028,       1533,   -28.2972,   -45.3583,       3135,  1175.6,   3.4322,  34.4251,2,  34.4252,2,    193.1,2,   192.7,2,    43.4,6,    32.6,6,    0.00,6,   1.930,4,   0.953,2,   0.458,2,   0.132,2,     2215.5,2,  2311.2,2,  -999.0,9, -999.00,   7.6004,2,       25,-999.000,9,-999.0000,9, -999.00,9,  -999.0,9,  -999.0,   1.704,3, -999.00,9,  36.4683,2, -999.00,9, 1175.60,  -999.0,9,   3.3470,     27.394,    34.5875,2,     -999.0,9,     -999.0,9,     -999.0,     -999.0,9,     -999.0
33RO20110926,        A10,     111,          1,         11,      11707,2,20111028,       1533,   -28.2972,   -45.3583,       3135,  1374.0,   3.4283,  34.5899,2,  34.5882,2,    188.2,2,   188.1,2,    44.2,2,    31.3,2,    0.00,2,   1.873,4,   0.268,2,   0.130,2,   0.036,2,     2218.9,6,  2318.3,6,  -999.0,9, -999.00,   7.6107,6,       25,-999.000,9,-999.0000,9, -999.00,9,  -999.0,9,  -999.0,   0.738,3, -999.00,9,  38.5366,2, -999.00,9, 1374.00,  -999.0,9,   3.3263,     27.526,    34.7513,2,     -999.0,9,     -999.0,9,     -999.0,     -999.0,9,     -999.0
33RO20110926,        A10,     111,          1,         10,      11003,2,20111028,       1533,   -28.2972,   -45.3583,       3135,  1574.9,   3.2266,  34.6681,2,  34.6693,2,    192.8,2,   193.6,2,    47.4,2,    29.9,2,    0.00,2,   1.842,4,   0.187,2,   0.091,2,   0.030,2,     2217.1,2,  2323.4,2,  -999.0,9, -999.00,   7.6204,2,       25,-999.000,9,-999.0000,9, -999.00,9,  -999.0,9,  -999.0,   0.572,3, -999.00,9,  39.3268,2, -999.00,9, 1574.90,  -999.0,9,   3.1095,     27.611,    34.8328,2,     -999.0,9,     -999.0,9,     -999.0,     -999.0,9,     -999.0
33RO20110926,        A10,     111,          1,          9,      11706,2,20111028,       1533,   -28.2972,   -45.3583,       3135,  1765.2,   3.6840,  34.8289,2,  34.8304,2,    209.7,2,   211.7,2,    32.6,2,    25.6,2,    0.00,2,   1.492,4,   0.143,2,   0.072,2,   0.000,2,       2194,2,  2320.2,2,  -999.0,9, -999.00,   7.6705,2,       25,-999.000,9,-999.0000,9, -999.00,9,  -999.0,9,  -999.0,   0.496,3, -999.00,9,  45.2878,3, -999.00,9, 1765.20,  -999.0,9,   3.5437,     27.698,    34.9947,2,     -999.0,9,     -999.0,9,     -999.0,     -999.0,9,     -999.0
33RO20110926,        A10,     111,          1,          8,      11033,2,20111028,       1533,   -28.2972,   -45.3583,       3135,  1999.9,   3.7895,  34.9246,2,  34.9260,2,    231.6,2,   232.9,2,    23.5,2,    22.1,2,    0.00,2,   1.231,4,   0.212,2,   0.106,2,   0.031,2,       2178,2,  2316.3,2,  -999.0,9, -999.00,   7.7084,2,       25,-999.000,9,-999.0000,9, -999.00,9,  -999.0,9,  -999.0,   0.679,3, -999.00,9,  40.1463,2, -999.00,9, 1999.90,  -999.0,9,   3.6252,     27.766,    35.0907,2,     -999.0,9,     -999.0,9,     -999.0,     -999.0,9,     -999.0
33RO20110926,        A10,     111,          1,          7,      11705,2,20111028,       1533,   -28.2972,   -45.3583,       3135,  2124.0,   3.6980,  34.9401,2,  34.9418,2,    238.8,2,   239.4,2,    22.2,6,    21.1,6,    0.00,6,   1.168,4,   0.228,6,   0.115,6,   0.034,6,     2174.7,2,  2317.5,2,  -999.0,9, -999.00,   7.7194,2,       25,-999.000,9,-999.0000,9, -999.00,9,  -999.0,9,  -999.0,   0.737,3, -999.00,9,-999.0000,5, -999.00,9, 2124.00,  -999.0,9,   3.5230,     27.788,    35.1065,2,     -999.0,9,     -999.0,9,     -999.0,     -999.0,9,     -999.0
33RO20110926,        A10,     111,          1,          6,      11029,2,20111028,       1533,   -28.2972,   -45.3583,       3135,  2274.5,   3.5409,  34.9481,2,  34.9489,2,    245.3,2,   246.2,2,    22.3,2,    20.5,2,    0.00,2,   1.148,4,   0.234,2,   0.116,2,   0.000,2,     2171.2,2,  2318.4,2,  -999.0,9, -999.00,   7.7294,2,       25,-999.000,9,-999.0000,9, -999.00,9,  -999.0,9,  -999.0,   0.745,3, -999.00,9,  40.0683,2, -999.00,9, 2274.50,  -999.0,9,   3.3537,     27.811,    35.1137,2,     -999.0,9,     -999.0,9,     -999.0,     -999.0,9,     -999.0
33RO20110926,        A10,     111,          1,          5,      11704,2,20111028,       1533,   -28.2972,   -45.3583,       3135,  2424.7,   3.3381,  34.9458,2,  34.9471,2,    248.9,2,   249.6,2,    23.9,2,    20.2,2,    0.00,2,   1.154,4,   0.213,2,   0.106,2,   0.036,2,     2172.1,2,  2320.9,2,  -999.0,9, -999.00,   7.7334,2,       25,-999.000,9,-999.0000,9, -999.00,9,  -999.0,9,  -999.0,   0.713,3, -999.00,9,  41.6976,2, -999.00,9, 2424.70,  -999.0,9,   3.1395,     27.828,    35.1119,6,     -999.0,9,     -999.0,9,     -999.0,     -999.0,9,     -999.0
33RO20110926,        A10,     111,          1,          4,      11030,2,20111028,       1533,   -28.2972,   -45.3583,       3135,  2631.4,   3.0455,  34.9330,2,  34.9336,2,    250.6,2,     250,2,    28.1,2,    20.4,2,    0.00,2,   1.204,4,   0.146,2,   0.073,2,   0.000,2,       2175,2,    2325,2,  -999.0,9, -999.00,   7.7324,2,       25,-999.000,9,-999.0000,9, -999.00,9,  -999.0,9,  -999.0,   0.582,3, -999.00,9,  41.9415,2, -999.00,9, 2631.40,  -999.0,9,   2.8316,     27.848,    35.0984,2,     -999.0,9,     -999.0,9,     -999.0,     -999.0,9,     -999.0
33RO20110926,        A10,     111,          1,          3,      11703,2,20111028,       1533,   -28.2972,   -45.3583,       3135,  2800.6,   2.8396,  34.9219,2,  34.9248,2,    250.8,2,     251,2,    31.3,6,    20.7,6,    0.00,6,   1.234,4,   0.108,2,   0.055,2,   0.000,2,     2175.8,2,  2326.6,2,  -999.0,9, -999.00,   7.7326,2,       25,-999.000,9,-999.0000,9, -999.00,9,  -999.0,9,  -999.0,   0.475,3, -999.00,9,  43.1024,2, -999.00,9, 2800.60,  -999.0,9,   2.6128,     27.860,    35.0895,2,     -999.0,9,     -999.0,9,     -999.0,     -999.0,9,     -999.0
33RO20110926,        A10,     111,          1,          2,      11702,2,20111028,       1533,   -28.2972,   -45.3583,       3135,  2950.2,   2.4393,  34.8873,2,  34.8886,2,    245.9,2,   245.9,2,    43.9,2,    22.3,2,    0.00,2,   1.441,4,   0.083,2,   0.044,2,   0.000,2,     2189.5,2,  2334.5,2,  -999.0,9, -999.00,   7.7166,2,       25,-999.000,9,-999.0000,9, -999.00,9,  -999.0,9,  -999.0,   0.424,3, -999.00,9,  40.8878,2, -999.00,9, 2950.20,  -999.0,9,   2.2059,     27.866,    35.0531,2,     -999.0,9,     -999.0,9,     -999.0,     -999.0,9,     -999.0
33RO20110926,        A10,     111,          1,          1,      11701,2,20111028,       1533,   -28.2972,   -45.3583,       3135,  3126.3,   1.6784,  34.8117,2,  34.8138,2,    234.6,2,     234,2,    71.9,2,    26.1,2,    0.00,2,   1.893,4,   0.105,6,   0.052,6,   0.089,6,     2219.4,6,  2346.9,6,  -999.0,9, -999.00,   7.6784,6,       25,-999.000,9,-999.0000,9, -999.00,9,  -999.0,9,  -999.0,   0.379,3, -999.00,9,  39.5024,2, -999.00,9, 3126.30,  -999.0,9,   1.4447,     27.865,    34.9780,2,     -999.0,9,     -999.0,9,     -999.0,     -999.0,9,     -999.0