BOTTLE,20220815CCHSIOAMB
EXPOCODE,SECT_ID,STNNBR,CASTNO,SAMPNO,BTLNBR,BTLNBR_FLAG_W,DATE,TIME,LATITUDE,LONGITUDE,DEPTH,CTDPRS,CTDTMP,CTDSAL,CTDSAL_FLAG_W,SALNTY,SALNTY_FLAG_W,CTDOXY,CTDOXY_FLAG_W,OXYGEN,OXYGEN_FLAG_W,SILCAT,SILCAT_FLAG_W,NITRAT,NITRAT_FLAG_W,NITRIT,NITRIT_FLAG_W,PHSPHT,PHSPHT_FLAG_W,CFC-11,CFC-11_FLAG_W,CFC-12,CFC-12_FLAG_W,SF6,SF6_FLAG_W,TCARBN,TCARBN_FLAG_W,ALKALI,ALKALI_FLAG_W,PCO2,PCO2_FLAG_W,PCO2TMP,PH_SWS,PH_SWS_FLAG_W,PH_TMP,TRITUM,TRITUM_FLAG_W,HELIUM,HELIUM_FLAG_W,DELC13,DELC13_FLAG_W,DELC14,DELC14_FLAG_W,C14ERR,CCL4,CCL4_FLAG_W,DELO18,DELO18_FLAG_W,DOC,DOC_FLAG_W,TDN,TDN_FLAG_W,CTDRAW,14C-DOC,14C-DOC_FLAG_W,THETA,SIG0,SALTREF,SALTREF_FLAG_W,BLACKC,BLACKC_FLAG_W,PIGMENTS,PIGMENTS_FLAG_W,14C-DOCERR,13C-DOC,13C-DOC_FLAG_W,13C-DOCERR
,,,,,,,,,,,METERS,DBAR,ITS-90,PSS-78,,PSS-78,,UMOL/KG,,UMOL/KG,,UMOL/KG,,UMOL/KG,,UMOL/KG,,UMOL/KG,,PMOL/KG,,PMOL/KG,,FMOL/KG,,UMOL/KG,,UMOL/KG,,UATM,,DEG C,,,DEG C,TU,,NMOL/KG,,/MILLE,,/MILLE,,/MILLE,PMOL/KG,,/MILLE,,UMOL/KG,,UMOL/KG,,DBAR,/MILLE,,DEG C,KG/M^3,G/KG,,,,,,/MILLE,/MILLE,,/MILLE
33RO20110926,        A10,      29,          1,         24,      11714,2,20111005,       0319,   -29.5997,     1.6921,       3648,     4.5,  17.2984,  35.7624,2,  35.7624,2,    245.4,2,   244.5,2,     1.4,2,     0.0,2,    0.00,2,   0.143,2,   2.463,6,   1.478,6,   1.457,6,     2076.2,2,  2347.7,2,  -999.0,9, -999.00,   7.9809,2,       25,-999.000,9,-999.0000,9, -999.00,9,  -999.0,9,  -999.0,   2.863,3, -999.00,9,  63.0244,2,    6.14,3,    4.50,  -999.0,9,  17.2977,     26.029,    35.9310,2,     -999.0,9,     -999.0,1,     -999.0,     -999.0,9,     -999.0
33RO20110926,        A10,      29,          1,         23,      11713,2,20111005,       0319,   -29.5997,     1.6921,       3648,    29.8,  17.2019,  35.7614,2,  35.7606,2,    246.3,2,   245.2,2,     1.4,2,     0.0,2,    0.00,2,   0.146,2,   2.475,2,   1.475,2,   1.487,2,     2080.7,2,  2347.3,6,  -999.0,9, -999.00,   7.9829,6,       25,-999.000,9,-999.0000,9, -999.00,9,  -999.0,9,  -999.0,   3.074,3, -999.00,9,  65.5122,2,    4.27,2,   29.80,  -999.0,9,  17.1969,     26.051,    35.9292,2,     -999.0,9,     -999.0,9,     -999.0,     -999.0,9,     -999.0
33RO20110926,        A10,      29,          1,         22,      11712,2,20111005,       0319,   -29.5997,     1.6921,       3648,    79.8,  16.6926,  35.7370,2,  35.7318,2,    242.3,2,   245.3,2,     1.4,2,     0.2,2,    0.10,2,   0.167,2,   2.487,2,   1.485,2,   1.522,2,       2082,2,  -999.0,9,  -999.0,9, -999.00,-999.0000,9,  -999.00,-999.000,9,-999.0000,9, -999.00,9,  -999.0,9,  -999.0,   2.799,3, -999.00,9,  64.9561,2,    4.80,2,   79.80,  -999.0,9,  16.6796,     26.150,    35.9003,2,     -999.0,9,     -999.0,1,     -999.0,     -999.0,9,     -999.0
33RO20110926,        A10,      29,          1,         21,      11010,2,20111005,       0319,   -29.5997,     1.6921,       3648,   129.8,  16.2179,  35.6779,2,  35.6775,2,    237.0,2,   235.7,2,     1.9,2,     1.5,2,    0.41,2,   0.268,2,   2.511,2,   1.494,2,   1.479,2,     2089.5,2,  2346.1,2,  -999.0,9, -999.00,   7.9489,2,       25,-999.000,9,-999.0000,9, -999.00,9,  -999.0,9,  -999.0,   2.150,3, -999.00,9,   61.161,2,    6.23,2,  129.80,  -999.0,9,  16.1971,     26.224,    35.8457,2,     -999.0,9,     -999.0,1,     -999.0,     -999.0,9,     -999.0
33RO20110926,        A10,      29,          1,         20,      11715,2,20111005,       0319,   -29.5997,     1.6921,       3648,   180.3,  15.8150,  35.6308,2,  35.6378,2,    235.0,2,     237,2,     1.8,2,     1.7,2,    0.37,2,   0.286,2,   2.572,2,   1.524,2,   1.528,2,     2092.7,2,  -999.0,9,  -999.0,9, -999.00,-999.0000,9,  -999.00,-999.000,9,-999.0000,9, -999.00,9,  -999.0,9,  -999.0,   2.180,3, -999.00,9,  59.0439,2,    6.07,2,  180.30,  -999.0,9,  15.7866,     26.292,    35.8059,2,     -999.0,9,     -999.0,9,     -999.0,     -999.0,9,     -999.0
33RO20110926,        A10,      29,          1,         19,      11007,2,20111005,       0319,   -29.5997,     1.6921,       3648,   240.8,  13.6275,  35.2070,2,  35.2078,2,    221.2,2,   219.6,2,     3.1,2,     7.5,2,    0.02,2,   0.625,2,   2.873,2,   1.669,2,   1.369,2,     2109.3,2,  2317.9,2,  -999.0,9, -999.00,   7.8648,2,       25,-999.000,9,-999.0000,9, -999.00,9,  -999.0,9,  -999.0,   0.953,3, -999.00,9,  60.7707,2, -999.00,9,  240.80,  -999.0,9,  13.5932,     26.427,    35.3738,2,     -999.0,9,     -999.0,9,     -999.0,     -999.0,9,     -999.0
33RO20110926,        A10,      29,          1,         18,      11710,2,20111005,       0319,   -29.5997,     1.6921,       3648,   324.6,  12.3018,  35.0699,2,  35.0723,2,    202.7,2,   205.3,2,     4.7,2,    12.6,2,    0.01,2,   0.929,2,   3.039,2,   1.718,2,   1.245,2,     2129.1,2,  -999.0,9,  -999.0,9, -999.00,-999.0000,9,  -999.00,-999.000,9,-999.0000,9, -999.00,9,  -999.0,9,  -999.0,   0.821,3, -999.00,9,  48.0683,2, -999.00,9,  324.60,  -999.0,9,  12.2585,     26.597,    35.2377,2,     -999.0,9,     -999.0,9,     -999.0,     -999.0,9,     -999.0
33RO20110926,        A10,      29,          1,         17,      11023,2,20111005,       0319,   -29.5997,     1.6921,       3648,   424.7,  10.6394,  34.8720,2,  34.8722,2,    202.6,2,     201,2,     6.6,2,    16.7,2,    0.01,2,   1.192,2,   3.146,2,   1.727,2,   1.122,2,     2143.2,2,  2303.6,2,  -999.0,9, -999.00,   7.7606,2,       25,-999.000,9,-999.0000,9, -999.00,9,  -999.0,9,  -999.0,   1.120,3, -999.00,9,  46.5951,2, -999.00,9,  424.70,  -999.0,9,  10.5877,     26.749,    35.0366,2,     -999.0,9,     -999.0,9,     -999.0,     -999.0,9,     -999.0
33RO20110926,        A10,      29,          1,         16,      11709,2,20111005,       0319,   -29.5997,     1.6921,       3648,   524.9,   9.0049,  34.6828,2,  34.6847,2,    189.7,2,   191.1,2,    10.6,2,    21.6,2,    0.01,2,   1.525,2,   3.042,2,   1.621,2,   0.940,2,     2163.4,2,  -999.0,9,  -999.0,9, -999.00,-999.0000,9,  -999.00,-999.000,9,-999.0000,9, -999.00,9,  -999.0,9,  -999.0,   1.372,3, -999.00,9,  44.3317,2, -999.00,9,  524.90,  -999.0,9,   8.9470,     26.878,    34.8482,2,     -999.0,9,     -999.0,9,     -999.0,     -999.0,9,     -999.0
33RO20110926,        A10,      29,          1,         15,      11006,2,20111005,       0319,   -29.5997,     1.6921,       3648,   624.7,   6.9398,  34.4741,2,  34.4751,2,    203.3,2,   202.2,2,    15.5,2,    25.5,2,    0.01,2,   1.797,2,   3.021,2,   1.562,2,   0.849,2,     2173.1,2,    2289,2,  -999.0,9, -999.00,   7.6605,2,       25,-999.000,9,-999.0000,9, -999.00,9,  -999.0,9,  -999.0,   1.977,3, -999.00,9,  39.0927,2, -999.00,9,  624.70,  -999.0,9,   6.8803,     27.022,    34.6377,2,     -999.0,9,     -999.0,9,     -999.0,     -999.0,9,     -999.0
33RO20110926,        A10,      29,          1,         14,      11708,2,20111005,       0319,   -29.5997,     1.6921,       3648,   775.1,   5.1718,  34.3490,2,  34.3494,2,    210.0,2,   209.8,2,    22.7,2,    29.0,2,    0.01,2,   2.032,2,   2.796,2,   1.411,2,   0.642,2,     2184.4,2,  -999.0,9,  -999.0,9, -999.00,-999.0000,9,  -999.00,-999.000,9,-999.0000,9, -999.00,9,  -999.0,9,  -999.0,   2.347,3, -999.00,9,-999.0000,5, -999.00,9,  775.10,  -999.0,9,   5.1076,     27.147,    34.5113,2,     -999.0,9,     -999.0,9,     -999.0,     -999.0,9,     -999.0
33RO20110926,        A10,      29,          1,         13,      11031,2,20111005,       0319,   -29.5997,     1.6921,       3648,   925.2,   4.0952,  34.3721,2,  34.3721,2,    196.5,2,   194.9,2,    36.0,2,    31.9,2,    0.00,2,   2.252,2,   1.800,2,   0.885,2,   0.377,2,     2212.6,2,  2302.1,2,  -999.0,9, -999.00,   7.5944,2,       25,-999.000,9,-999.0000,9, -999.00,9,  -999.0,9,  -999.0,   1.778,3, -999.00,9,  39.7268,2, -999.00,9,  925.20,  -999.0,9,   4.0252,     27.284,    34.5342,2,     -999.0,9,     -999.0,9,     -999.0,     -999.0,9,     -999.0
33RO20110926,        A10,      29,          1,         12,      11027,2,20111005,       0319,   -29.5997,     1.6921,       3648,  1075.2,   3.6321,  34.4394,2,  34.4399,2,    182.9,2,   182.6,2,    45.2,2,    33.0,2,    0.00,2,   2.326,2,   1.043,2,   0.499,2,   0.196,2,     2224.8,2,  -999.0,9,  -999.0,9, -999.00,-999.0000,9,  -999.00,-999.000,9,-999.0000,9, -999.00,9,  -999.0,9,  -999.0,   1.155,3, -999.00,9,  35.5415,2, -999.00,9, 1075.20,  -999.0,9,   3.5533,     27.386,    34.6023,2,     -999.0,9,     -999.0,9,     -999.0,     -999.0,9,     -999.0
33RO20110926,        A10,      29,          1,         11,      11707,2,20111005,       0319,   -29.5997,     1.6921,       3648,  1249.8,   3.2398,  34.5305,2,  34.5298,2,    180.0,2,   178.7,2,    52.7,6,    32.9,6,    0.01,6,   2.311,6,   0.558,2,   0.262,2,   0.073,2,     2228.6,2,  2322.3,2,  -999.0,9, -999.00,   7.5834,2,       25,-999.000,9,-999.0000,9, -999.00,9,  -999.0,9,  -999.0,   0.657,3, -999.00,9,  37.7268,2, -999.00,9, 1249.80,  -999.0,9,   3.1501,     27.496,    34.6926,2,     -999.0,9,     -999.0,9,     -999.0,     -999.0,9,     -999.0
33RO20110926,        A10,      29,          1,         10,      11003,2,20111005,       0319,   -29.5997,     1.6921,       3648,  1451.6,   3.1007,  34.6587,2,  34.6591,2,    185.0,2,   186.9,2,    52.3,6,    30.7,6,    0.01,6,   2.152,6,   0.197,2,   0.091,2,   0.032,2,     2226.4,2,  -999.0,9,  -999.0,9, -999.00,-999.0000,9,  -999.00,-999.000,9,-999.0000,9, -999.00,9,  -999.0,9,  -999.0,   0.287,3, -999.00,9,  40.2829,2, -999.00,9, 1451.60,  -999.0,9,   2.9955,     27.613,    34.8225,2,     -999.0,9,     -999.0,9,     -999.0,     -999.0,9,     -999.0
33RO20110926,        A10,      29,          1,          9,      11706,9,20111005,       0319,   -29.5997,     1.6921,       3648,  1649.7,   3.1400,  34.7434,2,-999.0000,9,    197.6,2,  -999.0,9, -999.00,9,  -999.0,9, -999.00,9,-999.000,9,-999.000,9,-999.000,9,-999.000,9,-999.000000,9,  -999.0,9,  -999.0,9, -999.00,-999.0000,9,  -999.00,-999.000,9,-999.0000,9, -999.00,9,  -999.0,9,  -999.0,-999.000,9, -999.00,9,-999.0000,9, -999.00,9, 1649.70,  -999.0,9,   3.0173,     27.678,     -999.0,9,     -999.0,9,     -999.0,9,     -999.0,     -999.0,9,     -999.0
33RO20110926,        A10,      29,          1,          8,      11033,2,20111005,       0319,   -29.5997,     1.6921,       3648,  1848.9,   3.0145,  34.7929,2,  34.7935,2,    207.9,2,   207.1,2,    45.8,6,    27.0,6,    0.01,6,   1.863,6,   0.045,2,   0.022,2,   0.000,2,     2210.4,2,  2329.8,2,  -999.0,9, -999.00,-999.0000,9,  -999.00,-999.000,9,-999.0000,9, -999.00,9,  -999.0,9,  -999.0,   0.111,3, -999.00,9,  41.2195,2, -999.00,9, 1848.90,  -999.0,9,   2.8758,     27.732,    34.9576,2,     -999.0,9,     -999.0,9,     -999.0,     -999.0,9,     -999.0
33RO20110926,        A10,      29,          1,          7,      11705,2,20111005,       0319,   -29.5997,     1.6921,       3648,  2050.3,   2.9000,  34.8258,2,  34.8271,2,    217.5,2,   217.1,2,    45.1,6,    25.8,6,    0.01,6,   1.768,6,   0.023,2,   0.012,2,   0.014,2,     2204.6,2,  -999.0,9,  -999.0,9, -999.00,-999.0000,5,  -999.00,-999.000,9,-999.0000,9, -999.00,9,  -999.0,9,  -999.0,   0.072,3, -999.00,9,  40.9854,2, -999.00,9, 2050.30,  -999.0,9,   2.7447,     27.770,    34.9914,2,     -999.0,9,     -999.0,9,     -999.0,     -999.0,9,     -999.0
33RO20110926,        A10,      29,          1,          6,      11029,2,20111005,       0319,   -29.5997,     1.6921,       3648,  2300.4,   2.6608,  34.8366,2,  34.8372,2,    223.0,2,   223.3,2,    49.1,2,    25.2,2,    0.00,2,   1.739,2,   0.018,2,   0.009,2,   0.000,2,     2205.7,2,  -999.0,9,  -999.0,9, -999.00,-999.0000,9,  -999.00,-999.000,9,-999.0000,9, -999.00,9,  -999.0,9,  -999.0,   0.071,3, -999.00,9,  40.3122,2, -999.00,9, 2300.40,  -999.0,9,   2.4863,     27.801,    35.0015,2,     -999.0,9,     -999.0,9,     -999.0,     -999.0,9,     -999.0
33RO20110926,        A10,      29,          1,          5,      11704,2,20111005,       0319,   -29.5997,     1.6921,       3648,  2549.6,   2.5044,  34.8397,2,  34.8403,2,    226.6,2,   225.8,2,    52.1,2,    25.1,2,    0.00,2,   1.730,2,   0.018,2,   0.009,2,   0.000,2,     2205.6,2,    2339,6,  -999.0,9, -999.00,    7.685,6,       25,-999.000,9,-999.0000,9, -999.00,9,  -999.0,9,  -999.0,   0.070,3, -999.00,9,  41.1707,2, -999.00,9, 2549.60,  -999.0,9,   2.3092,     27.818,    35.0046,2,     -999.0,9,     -999.0,9,     -999.0,     -999.0,9,     -999.0
33RO20110926,        A10,      29,          1,          4,      11030,2,20111005,       0319,   -29.5997,     1.6921,       3648,  2800.8,   2.3883,  34.8500,2,  34.8510,2,    230.3,2,   229.4,2,    53.0,2,    24.7,2,    0.00,2,   1.697,2,   0.013,2,   0.007,2,   0.023,2,     2206.6,2,  -999.0,9,  -999.0,9, -999.00,-999.0000,9,  -999.00,-999.000,9,-999.0000,9, -999.00,9,  -999.0,9,  -999.0,   0.062,3, -999.00,9,   43.278,2, -999.00,9, 2800.80,  -999.0,9,   2.1710,     27.838,    35.0153,2,     -999.0,9,     -999.0,9,     -999.0,     -999.0,9,     -999.0
33RO20110926,        A10,      29,          1,          3,      11703,2,20111005,       0319,   -29.5997,     1.6921,       3648,  3050.0,   2.3118,  34.8600,2,  34.8604,2,    233.4,2,   233.1,2,    53.6,2,    24.3,2,    0.00,2,   1.668,2,   0.009,2,   0.005,2,   0.000,2,     2206.5,2,  -999.0,5,  -999.0,9, -999.00,-999.0000,5,  -999.00,-999.000,9,-999.0000,9, -999.00,9,  -999.0,9,  -999.0,   0.045,3, -999.00,9,  41.2585,2, -999.00,9, 3050.00,  -999.0,9,   2.0713,     27.854,    35.0248,2,     -999.0,9,     -999.0,9,     -999.0,     -999.0,9,     -999.0
33RO20110926,        A10,      29,          1,          2,      11702,2,20111005,       0319,   -29.5997,     1.6921,       3648,  3349.7,   2.2688,  34.8690,2,  34.8689,2,    233.3,2,   233.1,2,    54.2,2,    24.1,2,    0.00,2,   1.633,2,   0.006,2,   0.004,2,   0.000,2,     2210.7,2,  -999.0,9,  -999.0,9, -999.00,-999.0000,9,  -999.00,-999.000,9,-999.0000,9, -999.00,9,  -999.0,9,  -999.0,   0.024,3, -999.00,9,  39.4634,2, -999.00,9, 3349.70,  -999.0,9,   1.9982,     27.867,    35.0333,6,     -999.0,9,     -999.0,9,     -999.0,     -999.0,9,     -999.0
33RO20110926,        A10,      29,          1,          1,      11701,2,20111005,       0319,   -29.5997,     1.6921,       3648,  3697.7,   2.2064,  34.8625,2,  34.8656,2,    231.5,2,   231.3,2,    57.9,2,    24.6,2,    0.00,2,   1.670,2,   0.009,6,   0.006,6,   0.000,6,     2214.8,2,  2353.9,2,  -999.0,9, -999.00,   7.7084,2,       25,-999.000,9,-999.0000,9, -999.00,9,  -999.0,9,  -999.0,   0.029,3, -999.00,9,  40.4293,2, -999.00,9, 3697.70,  -999.0,9,   1.9001,     27.872,    35.0300,2,     -999.0,9,     -999.0,9,     -999.0,     -999.0,9,     -999.0