BOTTLE,20220815CCHSIOAMB
EXPOCODE,SECT_ID,STNNBR,CASTNO,SAMPNO,BTLNBR,BTLNBR_FLAG_W,DATE,TIME,LATITUDE,LONGITUDE,DEPTH,CTDPRS,CTDTMP,CTDSAL,CTDSAL_FLAG_W,SALNTY,SALNTY_FLAG_W,CTDOXY,CTDOXY_FLAG_W,OXYGEN,OXYGEN_FLAG_W,SILCAT,SILCAT_FLAG_W,NITRAT,NITRAT_FLAG_W,NITRIT,NITRIT_FLAG_W,PHSPHT,PHSPHT_FLAG_W,CFC-11,CFC-11_FLAG_W,CFC-12,CFC-12_FLAG_W,SF6,SF6_FLAG_W,TCARBN,TCARBN_FLAG_W,ALKALI,ALKALI_FLAG_W,PCO2,PCO2_FLAG_W,PCO2TMP,PH_SWS,PH_SWS_FLAG_W,PH_TMP,TRITUM,TRITUM_FLAG_W,HELIUM,HELIUM_FLAG_W,DELC13,DELC13_FLAG_W,DELC14,DELC14_FLAG_W,C14ERR,CCL4,CCL4_FLAG_W,DELO18,DELO18_FLAG_W,DOC,DOC_FLAG_W,TDN,TDN_FLAG_W,CTDRAW,14C-DOC,14C-DOC_FLAG_W,THETA,SIG0,SALTREF,SALTREF_FLAG_W,BLACKC,BLACKC_FLAG_W,PIGMENTS,PIGMENTS_FLAG_W,14C-DOCERR,13C-DOC,13C-DOC_FLAG_W,13C-DOCERR
,,,,,,,,,,,METERS,DBAR,ITS-90,PSS-78,,PSS-78,,UMOL/KG,,UMOL/KG,,UMOL/KG,,UMOL/KG,,UMOL/KG,,UMOL/KG,,PMOL/KG,,PMOL/KG,,FMOL/KG,,UMOL/KG,,UMOL/KG,,UATM,,DEG C,,,DEG C,TU,,NMOL/KG,,/MILLE,,/MILLE,,/MILLE,PMOL/KG,,/MILLE,,UMOL/KG,,UMOL/KG,,DBAR,/MILLE,,DEG C,KG/M^3,G/KG,,,,,,/MILLE,/MILLE,,/MILLE
33RO20110926,        A10,      39,          1,         24,      11714,2,20111007,       1619,   -29.9999,    -3.9337,       4226,     4.5,  18.6796,  35.9560,2,  35.9550,2,    235.2,2,   236.6,2,     1.1,2,     0.0,2,    0.00,2,   0.166,2,   2.315,6,   1.413,6,   1.418,2,     2083.1,6,    2363,6,  -999.0,9, -999.00,   7.9799,6,       25,-999.000,9,-999.0000,9,    1.22,2,    38.4,2,     2.8,   2.853,3, -999.00,9,  65.8634,2,    4.30,2,    4.50,  -999.0,9,  18.6788,     25.833,    36.1245,2,     -999.0,9,     -999.0,1,     -999.0,     -999.0,9,     -999.0
33RO20110926,        A10,      39,          1,         23,      11713,2,20111007,       1619,   -29.9999,    -3.9337,       4226,    45.7,  18.2048,  35.9402,2,  35.9384,2,    237.9,2,   238.5,2,     1.1,2,     0.0,2,    0.00,2,   0.169,2,   2.325,2,   1.415,2,   1.463,2,     2080.4,2,  2361.5,2,  -999.0,9, -999.00,   7.9849,2,       25,-999.000,9,-999.0000,9, -999.00,9,  -999.0,9,  -999.0,   2.764,3, -999.00,9,  59.1512,2,    4.15,2,   45.70,  -999.0,9,  18.1969,     25.942,    36.1079,2,     -999.0,9,     -999.0,9,     -999.0,     -999.0,9,     -999.0
33RO20110926,        A10,      39,          1,         22,      11712,2,20111007,       1619,   -29.9999,    -3.9337,       4226,    94.0,  17.2847,  35.8380,2,  35.8366,2,    238.5,2,   234.4,2,     1.4,2,     0.3,2,    0.26,2,   0.206,2,   2.370,2,   1.443,2,   1.473,2,     2082.1,2,  2354.2,2,  -999.0,9, -999.00,   7.9609,2,       25,-999.000,9,-999.0000,9, -999.00,9,  -999.0,9,  -999.0,   1.958,3, -999.00,9,  60.5951,2,    4.82,2,   94.00,  -999.0,9,  17.2689,     26.090,    36.0056,2,     -999.0,9,     -999.0,1,     -999.0,     -999.0,9,     -999.0
33RO20110926,        A10,      39,          1,         21,      11010,2,20111007,       1619,   -29.9999,    -3.9337,       4226,   144.3,  16.8087,  35.7556,2,  35.7561,2,    231.4,2,   231.5,2,     1.7,2,     1.0,2,    0.39,2,   0.254,2,   2.439,2,   1.474,2,   1.424,2,     2085.2,2,  -999.0,5,  -999.0,9, -999.00,-999.0000,5,  -999.00,-999.000,9,-999.0000,9, -999.00,9,  -999.0,9,  -999.0,   1.673,3, -999.00,9,  61.0341,2,    4.48,2,  144.30,  -999.0,9,  16.7849,     26.147,    35.9247,2,     -999.0,9,     -999.0,1,     -999.0,     -999.0,9,     -999.0
33RO20110926,        A10,      39,          1,         20,      11715,2,20111007,       1619,   -29.9999,    -3.9337,       4226,   194.9,  16.6726,  35.7754,2,  35.7754,2,    233.3,2,   231.9,2,     1.5,2,     1.0,2,    0.34,2,   0.243,2,   2.444,2,   1.482,2,   1.484,2,     2086.5,2,  2350.2,2,  -999.0,9, -999.00,   7.9519,2,       25,-999.000,9,-999.0000,9, -999.00,9,  -999.0,9,  -999.0,   1.603,3, -999.00,9,  60.9073,2,    5.48,2,  194.90,  -999.0,9,  16.6407,     26.194,    35.9441,2,     -999.0,9,     -999.0,9,     -999.0,     -999.0,9,     -999.0
33RO20110926,        A10,      39,          1,         19,      11007,2,20111007,       1619,   -29.9999,    -3.9337,       4226,   260.1,  15.1191,  35.4571,2,  35.4526,2,    222.3,2,   220.9,2,     2.5,6,     4.7,6,    0.02,6,   0.455,6,   2.645,2,   1.585,2,   1.467,2,     2097.8,2,    2328,2,  -999.0,9, -999.00,   7.9058,2,       25,-999.000,9,-999.0000,9, -999.00,9,  -999.0,9,  -999.0,   0.775,3, -999.00,9,  52.3902,2, -999.00,9,  260.10,  -999.0,9,  15.0792,     26.301,    35.6197,2,     -999.0,9,     -999.0,9,     -999.0,     -999.0,9,     -999.0
33RO20110926,        A10,      39,          1,         18,      11710,2,20111007,       1619,   -29.9999,    -3.9337,       4226,   344.2,  12.8370,  35.1308,2,  35.1314,2,    214.1,2,   211.7,2,     4.0,2,    10.4,2,    0.01,2,   0.805,2,   2.991,2,   1.719,2,   1.326,2,     2118.7,2,  2311.8,2,  -999.0,9, -999.00,   7.8347,2,       25,-999.000,9,-999.0000,9, -999.00,9,  -999.0,9,  -999.0,   0.712,3, -999.00,9,  51.5415,2, -999.00,9,  344.20,  -999.0,9,  12.7897,     26.536,    35.2971,2,     -999.0,9,     -999.0,9,     -999.0,     -999.0,9,     -999.0
33RO20110926,        A10,      39,          1,         17,      11023,2,20111007,       1619,   -29.9999,    -3.9337,       4226,   479.5,  10.6378,  34.8721,2,  34.8720,2,    210.8,2,   209.6,2,     6.1,6,    15.7,6,    0.01,6,   1.133,6,   3.144,2,   1.757,2,   1.160,2,     2134.6,2,    2300,2,  -999.0,9, -999.00,   7.7736,2,       25,-999.000,9,-999.0000,9, -999.00,9,  -999.0,9,  -999.0,   1.058,3, -999.00,9,  48.0683,2, -999.00,9,  479.50,  -999.0,9,  10.5793,     26.752,    35.0364,2,     -999.0,9,     -999.0,9,     -999.0,     -999.0,9,     -999.0
33RO20110926,        A10,      39,          1,         16,      11709,2,20111007,       1619,   -29.9999,    -3.9337,       4226,   608.8,   8.1123,  34.5825,2,  34.5811,2,    198.6,2,   198.1,2,    12.2,2,    23.1,2,    0.01,2,   1.628,2,   3.054,2,   1.631,2,   0.946,2,     2161.2,2,    2291,2,  -999.0,9, -999.00,   7.6783,2,       25,-999.000,9,-999.0000,9, -999.00,9,  -999.0,9,  -999.0,   1.539,3, -999.00,9,  46.2146,2, -999.00,9,  608.80,  -999.0,9,   8.0489,     26.938,    34.7441,2,     -999.0,9,     -999.0,9,     -999.0,     -999.0,9,     -999.0
33RO20110926,        A10,      39,          1,         15,      11006,2,20111007,       1619,   -29.9999,    -3.9337,       4226,   759.0,   5.6035,  34.3567,2,  34.3565,2,    213.4,2,   213.3,2,    18.7,2,    27.9,2,    0.00,2,   1.935,2,   3.044,2,   1.565,2,   0.804,2,     2173.2,2,  2286.9,2,  -999.0,9, -999.00,   7.6463,2,       25,-999.000,9,-999.0000,9, -999.00,9,  -999.0,9,  -999.0,   2.279,3, -999.00,9,  41.8927,2, -999.00,9,  759.00,  -999.0,9,   5.5382,     27.101,    34.5185,2,     -999.0,9,     -999.0,9,     -999.0,     -999.0,9,     -999.0
33RO20110926,        A10,      39,          1,         14,      11708,2,20111007,       1619,   -29.9999,    -3.9337,       4226,   908.9,   4.3149,  34.3319,2,  34.3308,2,    208.2,2,   208.3,2,    29.6,2,    30.8,2,    0.00,2,   2.148,2,   2.379,2,   1.177,2,   0.516,2,     2191.7,2,  2296.1,2,  -999.0,9, -999.00,   7.6182,2,       25,-999.000,9,-999.0000,9, -999.00,9,  -999.0,9,  -999.0,   2.207,3, -999.00,9,  43.2488,2, -999.00,9,  908.90,  -999.0,9,   4.2448,     27.229,    34.4927,2,     -999.0,9,     -999.0,9,     -999.0,     -999.0,9,     -999.0
33RO20110926,        A10,      39,          1,         13,      11031,2,20111007,       1619,   -29.9999,    -3.9337,       4226,  1059.6,   3.6773,  34.3864,2,  34.3943,2,    194.3,2,   194.5,2,    41.2,2,    32.7,2,    0.00,2,   2.277,2,   1.538,2,   0.745,2,   0.282,2,     2212.9,2,  2306.9,2,  -999.0,9, -999.00,   7.5952,2,       25,-999.000,9,-999.0000,9, -999.00,9,  -999.0,9,  -999.0,   1.621,3, -999.00,9,  41.7073,2, -999.00,9, 1059.60,  -999.0,9,   3.5995,     27.345,    34.5565,2,     -999.0,9,     -999.0,9,     -999.0,     -999.0,9,     -999.0
33RO20110926,        A10,      39,          1,         12,      11027,2,20111007,       1619,   -29.9999,    -3.9337,       4226,  1209.2,   3.2467,  34.4879,2,  34.4882,2,    182.7,2,   182.9,2,    51.5,6,    33.0,6,    0.00,6,   2.320,6,   0.755,2,   0.358,2,   0.135,2,     2228.1,2,  2319.7,2,  -999.0,9, -999.00,   7.5851,2,       25,-999.000,9,-999.0000,9, -999.00,9,  -999.0,9,  -999.0,   0.894,3, -999.00,9,  46.5366,3, -999.00,9, 1209.20,  -999.0,9,   3.1604,     27.462,    34.6508,2,     -999.0,9,     -999.0,9,     -999.0,     -999.0,9,     -999.0
33RO20110926,        A10,      39,          1,         11,      11707,2,20111007,       1619,   -29.9999,    -3.9337,       4226,  1359.9,   3.0154,  34.5748,2,  34.7216,4,    182.6,2,   225.4,4,    53.7,4,    27.6,4,    0.01,4,   1.913,4,   0.043,4,   0.022,4,   0.038,4,     2215.3,4,  2337.1,4,  -999.0,9, -999.00,   7.6505,4,       25,-999.000,9,-999.0000,9, -999.00,9,  -999.0,9,  -999.0,   0.072,4, -999.00,9,  41.4049,2, -999.00,9, 1359.90,  -999.0,9,   2.9189,     27.670,    34.8853,2,     -999.0,9,     -999.0,9,     -999.0,     -999.0,9,     -999.0
33RO20110926,        A10,      39,          1,         10,      11003,2,20111007,       1619,   -29.9999,    -3.9337,       4226,  1560.0,   2.9117,  34.6703,2,  34.6697,2,    190.2,2,   191.4,2,    54.9,2,    30.4,2,    0.01,2,   2.111,2,   0.196,2,   0.091,2,   0.000,2,     2223.8,2,  2328.5,2,  -999.0,9, -999.00,   7.6134,2,       25,-999.000,9,-999.0000,9, -999.00,9,  -999.0,9,  -999.0,   0.314,3, -999.00,9,-999.0000,5, -999.00,9, 1560.00,  -999.0,9,   2.7996,     27.640,    34.8332,2,     -999.0,9,     -999.0,9,     -999.0,     -999.0,9,     -999.0
33RO20110926,        A10,      39,          1,          9,      11706,2,20111007,       1619,   -29.9999,    -3.9337,       4226,  1828.2,   2.7791,  34.7628,2,  34.7625,2,    203.8,2,   205.9,2,    53.1,2,    28.0,2,    0.01,2,   1.921,2,   0.072,2,   0.036,2,   0.000,2,     2215.6,2,  2330.9,2,  -999.0,9, -999.00,   7.6455,2,       25,-999.000,9,-999.0000,9, -999.00,9,  -999.0,9,  -999.0,   0.172,3, -999.00,9,-999.0000,5, -999.00,9, 1828.20,  -999.0,9,   2.6456,     27.727,    34.9264,2,     -999.0,9,     -999.0,9,     -999.0,     -999.0,9,     -999.0
33RO20110926,        A10,      39,          1,          8,      11033,2,20111007,       1619,   -29.9999,    -3.9337,       4226,  2102.0,   2.6221,  34.8074,2,  34.8073,2,    215.6,2,   216.1,2,    52.8,2,    26.4,2,    0.00,2,   1.813,2,   0.038,2,   0.018,2,   0.000,2,     2209.7,2,  2335.7,2,  -999.0,9, -999.00,   7.6685,2,       25,-999.000,9,-999.0000,9, -999.00,9,  -999.0,9,  -999.0,   0.090,3, -999.00,9,-999.0000,5, -999.00,9, 2102.00,  -999.0,9,   2.4665,     27.779,    34.9714,2,     -999.0,9,     -999.0,9,     -999.0,     -999.0,9,     -999.0
33RO20110926,        A10,      39,          1,          7,      11705,2,20111007,       1619,   -29.9999,    -3.9337,       4226,  2369.6,   2.5076,  34.8343,2,  34.8331,2,    225.5,2,   225.3,2,    52.1,2,    25.3,2,    0.00,2,   1.736,2,   0.019,2,   0.010,2,   0.000,2,       2205,2,  2335.7,2,  -999.0,9, -999.00,   7.6845,2,       25,-999.000,9,-999.0000,9, -999.00,9,  -999.0,9,  -999.0,   0.048,3, -999.00,9,  42.7024,2, -999.00,9, 2369.60,  -999.0,9,   2.3294,     27.811,    34.9973,2,     -999.0,9,     -999.0,9,     -999.0,     -999.0,9,     -999.0
33RO20110926,        A10,      39,          1,          6,      11029,2,20111007,       1619,   -29.9999,    -3.9337,       4226,  2638.6,   2.4316,  34.8522,2,  34.8518,2,    231.8,2,   231.6,2,    51.1,6,    24.4,6,    0.00,6,   1.672,6,   0.010,2,   0.005,2,   0.000,2,     2199.9,2,  2338.3,2,  -999.0,9, -999.00,   7.6965,2,       25,-999.000,9,-999.0000,9, -999.00,9,  -999.0,9,  -999.0,   0.039,3, -999.00,9,   44.761,3, -999.00,9, 2638.60,  -999.0,9,   2.2293,     27.834,    35.0161,6,     -999.0,9,     -999.0,9,     -999.0,     -999.0,9,     -999.0
33RO20110926,        A10,      39,          1,          5,      11704,2,20111007,       1619,   -29.9999,    -3.9337,       4226,  2907.9,   2.3773,  34.8636,2,  34.8626,2,    235.1,2,   235.5,2,    50.7,2,    23.9,2,    0.00,2,   1.638,2,   0.004,2,   0.003,2,   0.000,2,     2199.8,2,    2341,2,  -999.0,9, -999.00,   7.7064,2,       25,-999.000,9,-999.0000,9, -999.00,9,  -999.0,9,  -999.0,   0.020,3, -999.00,9,  40.6049,2, -999.00,9, 2907.90,  -999.0,9,   2.1496,     27.850,    35.0270,2,     -999.0,9,     -999.0,9,     -999.0,     -999.0,9,     -999.0
33RO20110926,        A10,      39,          1,          4,      11030,2,20111007,       1619,   -29.9999,    -3.9337,       4226,  3210.6,   2.3553,  34.8712,2,  34.8697,2,    236.1,2,   235.5,2,    50.8,2,    23.6,2,    0.00,2,   1.618,2,   0.005,2,   0.004,2,   0.032,2,       2202,2,  2345.5,2,  -999.0,9, -999.00,   7.7134,2,       25,-999.000,9,-999.0000,9, -999.00,9,  -999.0,9,  -999.0,   0.018,3, -999.00,9,  43.6098,2, -999.00,9, 3210.60,  -999.0,9,   2.0973,     27.859,    35.0341,2,     -999.0,9,     -999.0,9,     -999.0,     -999.0,9,     -999.0
33RO20110926,        A10,      39,          1,          3,      11703,2,20111007,       1619,   -29.9999,    -3.9337,       4226,  3475.4,   2.3475,  34.8754,2,  34.8740,2,    234.0,2,   235.4,2,    51.3,2,    23.6,2,    0.00,2,   1.614,2,   0.003,2,   0.003,2,   0.000,2,       2208,2,  2344.2,2,  -999.0,9, -999.00,   7.7126,2,       25,-999.000,9,-999.0000,9, -999.00,9,  -999.0,9,  -999.0,   0.010,3, -999.00,9,  43.7463,2, -999.00,9, 3475.40,  -999.0,9,   2.0617,     27.866,    35.0385,2,     -999.0,9,     -999.0,9,     -999.0,     -999.0,9,     -999.0
33RO20110926,        A10,      39,          1,          2,      11702,2,20111007,       1619,   -29.9999,    -3.9337,       4226,  3810.2,   2.3447,  34.8778,2,  34.8772,2,    233.6,2,   233.5,2,    52.4,2,    23.7,2,    0.00,2,   1.615,2,   0.004,2,   0.003,2,   0.000,2,     2212.9,2,  2353.4,6,  -999.0,9, -999.00,    7.717,6,       25,-999.000,9,-999.0000,9, -999.00,9,  -999.0,9,  -999.0,   0.023,3, -999.00,9,-999.0000,5, -999.00,9, 3810.20,  -999.0,9,   2.0223,     27.871,    35.0416,2,     -999.0,9,     -999.0,9,     -999.0,     -999.0,9,     -999.0
33RO20110926,        A10,      39,          1,          1,      11701,2,20111007,       1619,   -29.9999,    -3.9337,       4226,  4271.6,   2.2949,  34.8661,2,  34.8654,2,    231.9,2,   231.3,2,    56.9,6,    24.2,6,    0.01,6,   1.661,6,   0.008,6,   0.005,2,   0.000,2,     2215.8,6,  2356.5,2,  -999.0,9, -999.00,   7.7156,2,       25,-999.000,9,-999.0000,9, -999.00,9,  -999.0,9,  -999.0,   0.019,3, -999.00,9,  44.5366,2, -999.00,9, 4271.60,  -999.0,9,   1.9212,     27.870,    35.0298,2,     -999.0,9,     -999.0,9,     -999.0,     -999.0,9,     -999.0