BOTTLE,20220815CCHSIOAMB
EXPOCODE,SECT_ID,STNNBR,CASTNO,SAMPNO,BTLNBR,BTLNBR_FLAG_W,DATE,TIME,LATITUDE,LONGITUDE,DEPTH,CTDPRS,CTDTMP,CTDSAL,CTDSAL_FLAG_W,SALNTY,SALNTY_FLAG_W,CTDOXY,CTDOXY_FLAG_W,OXYGEN,OXYGEN_FLAG_W,SILCAT,SILCAT_FLAG_W,NITRAT,NITRAT_FLAG_W,NITRIT,NITRIT_FLAG_W,PHSPHT,PHSPHT_FLAG_W,CFC-11,CFC-11_FLAG_W,CFC-12,CFC-12_FLAG_W,SF6,SF6_FLAG_W,TCARBN,TCARBN_FLAG_W,ALKALI,ALKALI_FLAG_W,PCO2,PCO2_FLAG_W,PCO2TMP,PH_SWS,PH_SWS_FLAG_W,PH_TMP,TRITUM,TRITUM_FLAG_W,HELIUM,HELIUM_FLAG_W,DELC13,DELC13_FLAG_W,DELC14,DELC14_FLAG_W,C14ERR,CCL4,CCL4_FLAG_W,DELO18,DELO18_FLAG_W,DOC,DOC_FLAG_W,TDN,TDN_FLAG_W,CTDRAW,14C-DOC,14C-DOC_FLAG_W,THETA,SIG0,SALTREF,SALTREF_FLAG_W,BLACKC,BLACKC_FLAG_W,PIGMENTS,PIGMENTS_FLAG_W,14C-DOCERR,13C-DOC,13C-DOC_FLAG_W,13C-DOCERR
,,,,,,,,,,,METERS,DBAR,ITS-90,PSS-78,,PSS-78,,UMOL/KG,,UMOL/KG,,UMOL/KG,,UMOL/KG,,UMOL/KG,,UMOL/KG,,PMOL/KG,,PMOL/KG,,FMOL/KG,,UMOL/KG,,UMOL/KG,,UATM,,DEG C,,,DEG C,TU,,NMOL/KG,,/MILLE,,/MILLE,,/MILLE,PMOL/KG,,/MILLE,,UMOL/KG,,UMOL/KG,,DBAR,/MILLE,,DEG C,KG/M^3,G/KG,,,,,,/MILLE,/MILLE,,/MILLE
33RO20110926,        A10,      62,          1,         24,      11714,2,20111016,       0129,   -30.0004,   -19.7538,       4378,     5.8,  18.7239,  36.1884,2,  36.1896,2,    229.2,2,   232.6,2,     1.3,2,     0.1,2,    0.01,2,   0.126,2,   2.230,2,   1.356,2,   1.403,2,     2087.1,6,  2379.6,2,  -999.0,9, -999.00,    8.006,2,       25,-999.000,9,-999.0000,9, -999.00,9,  -999.0,9,  -999.0,   3.039,4, -999.00,9,-999.0000,9, -999.00,9,    5.80,  -999.0,9,  18.7229,     26.002,    36.3603,2,     -999.0,9,     -999.0,1,     -999.0,     -999.0,9,     -999.0
33RO20110926,        A10,      62,          1,         23,      11713,2,20111016,       0129,   -30.0004,   -19.7538,       4378,    59.9,  18.3714,  36.1332,2,  36.1331,2,    231.3,2,   233.9,2,     1.4,2,     0.1,2,    0.01,2,   0.140,2,   2.272,2,   1.381,2,   1.382,2,     2086.5,2,  2373.5,2,  -999.0,9, -999.00,    7.995,2,       25,-999.000,9,-999.0000,9, -999.00,9,  -999.0,9,  -999.0,   2.763,4, -999.00,9,-999.0000,9, -999.00,9,   59.90,  -999.0,9,  18.3609,     26.050,    36.3034,2,     -999.0,9,     -999.0,9,     -999.0,     -999.0,9,     -999.0
33RO20110926,        A10,      62,          1,         22,      11712,2,20111016,       0129,   -30.0004,   -19.7538,       4378,   109.4,  18.3321,  36.1303,2,  36.1293,2,    231.9,2,     233,2,     1.4,6,     0.0,6,    0.01,6,   0.144,6,   2.278,2,   1.379,2,   1.396,2,-999.000000,9,  -999.0,9,  -999.0,9, -999.00,-999.0000,5,  -999.00,-999.000,9,-999.0000,9, -999.00,9,  -999.0,9,  -999.0,   2.735,4, -999.00,9,-999.0000,9, -999.00,9,  109.40,  -999.0,9,  18.3130,     26.059,    36.2997,2,     -999.0,9,     -999.0,1,     -999.0,     -999.0,9,     -999.0
33RO20110926,        A10,      62,          1,         21,      11010,2,20111016,       0129,   -30.0004,   -19.7538,       4378,   164.7,  18.0597,  36.0612,2,  36.0593,2,    230.3,2,   232.7,2,     1.4,6,     0.2,6,    0.07,6,   0.161,6,   2.306,2,   1.400,2,   1.413,2,     2087.9,2,  2365.9,2,  -999.0,9, -999.00,    7.987,2,       25,-999.000,9,-999.0000,9, -999.00,9,  -999.0,9,  -999.0,   3.001,4, -999.00,9,-999.0000,9, -999.00,9,  164.70,  -999.0,9,  18.0311,     26.079,    36.2293,2,     -999.0,9,     -999.0,1,     -999.0,     -999.0,9,     -999.0
33RO20110926,        A10,      62,          1,         20,      11715,2,20111016,       0129,   -30.0004,   -19.7538,       4378,   239.5,  15.7993,  35.5837,2,  35.5828,2,    219.5,2,   219.9,2,     2.3,2,     3.8,2,    0.04,2,   0.391,2,   2.589,2,   1.538,2,   1.390,2,-999.000000,9,  -999.0,9,  -999.0,9, -999.00,-999.0000,5,  -999.00,-999.000,9,-999.0000,9, -999.00,9,  -999.0,9,  -999.0,   1.546,3, -999.00,9,-999.0000,9, -999.00,9,  239.50,  -999.0,9,  15.7615,     26.249,    35.7505,2,     -999.0,9,     -999.0,9,     -999.0,     -999.0,9,     -999.0
33RO20110926,        A10,      62,          1,         19,      11007,2,20111016,       0129,   -30.0004,   -19.7538,       4378,   334.0,  13.8759,  35.3199,2,  35.3275,2,    219.9,2,   220.1,2,     2.6,2,     7.0,2,    0.01,2,   0.589,2,   2.865,2,   1.657,2,   1.395,2,     2109.8,2,    2320,2,  -999.0,9, -999.00,   7.8658,2,       25,-999.000,9,-999.0000,9, -999.00,9,  -999.0,9,  -999.0,   1.510,3, -999.00,9,-999.0000,9, -999.00,9,  334.00,  -999.0,9,  13.8275,     26.480,    35.4941,2,     -999.0,9,     -999.0,9,     -999.0,     -999.0,9,     -999.0
33RO20110926,        A10,      62,          1,         18,      11710,2,20111016,       0129,   -30.0004,   -19.7538,       4378,   433.2,  12.6585,  35.1720,2,  35.1724,2,    218.0,2,   218.9,2,     3.5,2,    10.3,2,    0.01,2,   0.780,2,   3.019,2,   1.717,2,   1.427,2,-999.000000,9,  -999.0,9,  -999.0,9, -999.00,-999.0000,5,  -999.00,-999.000,9,-999.0000,9, -999.00,9,  -999.0,9,  -999.0,   1.895,3, -999.00,9,-999.0000,9, -999.00,9,  433.20,  -999.0,9,  12.5993,     26.606,    35.3383,2,     -999.0,9,     -999.0,9,     -999.0,     -999.0,9,     -999.0
33RO20110926,        A10,      62,          1,         17,      11023,2,20111016,       0129,   -30.0004,   -19.7538,       4378,   535.8,  10.7438,  34.9074,2,  34.9105,2,    214.4,2,   215.8,2,     5.5,2,    15.1,2,    0.01,2,   1.088,2,   3.177,2,   1.757,2,   1.208,2,     2135.3,2,  2305.1,2,  -999.0,9, -999.00,   7.7865,2,       25,-999.000,9,-999.0000,9, -999.00,9,  -999.0,9,  -999.0,   1.916,3, -999.00,9,-999.0000,9, -999.00,9,  535.80,  -999.0,9,  10.6778,     26.760,    35.0751,2,     -999.0,9,     -999.0,9,     -999.0,     -999.0,9,     -999.0
33RO20110926,        A10,      62,          1,         16,      11709,2,20111016,       0129,   -30.0004,   -19.7538,       4378,   633.3,   8.7004,  34.6463,2,  34.6464,2,    202.4,2,   202.3,2,    10.3,6,    21.6,6,    0.01,6,   1.497,6,   3.136,2,   1.658,2,   0.903,2,-999.000000,9,  -999.0,9,  -999.0,9, -999.00,-999.0000,5,  -999.00,-999.000,9,-999.0000,9, -999.00,9,  -999.0,9,  -999.0,   2.407,3, -999.00,9,-999.0000,9, -999.00,9,  633.30,  -999.0,9,   8.6316,     26.899,    34.8098,2,     -999.0,9,     -999.0,9,     -999.0,     -999.0,9,     -999.0
33RO20110926,        A10,      62,          1,         15,      11006,2,20111016,       0129,   -30.0004,   -19.7538,       4378,   736.4,   7.1501,  34.4874,2,  34.4923,2,    205.2,2,   204.5,2,    14.3,2,    25.1,2,    0.01,2,   1.738,2,   3.091,2,   1.599,2,   0.799,2,     2166.3,2,  2290.2,2,  -999.0,9, -999.00,   7.6723,2,       25,-999.000,9,-999.0000,9, -999.00,9,  -999.0,9,  -999.0,   3.133,3, -999.00,9,-999.0000,9, -999.00,9,  736.40,  -999.0,9,   7.0782,     27.006,    34.6549,2,     -999.0,9,     -999.0,9,     -999.0,     -999.0,9,     -999.0
33RO20110926,        A10,      62,          1,         14,      11708,2,20111016,       0129,   -30.0004,   -19.7538,       4378,   834.2,   5.3475,  34.3523,2,  34.3533,2,    212.4,2,   211.5,2,    21.0,2,    28.6,2,    0.01,2,   1.983,2,   2.877,2,   1.447,2,   0.676,2,-999.000000,9,  -999.0,9,  -999.0,9, -999.00,-999.0000,5,  -999.00,-999.000,9,-999.0000,9, -999.00,9,  -999.0,9,  -999.0,   3.753,3, -999.00,9,-999.0000,9, -999.00,9,  834.20,  -999.0,9,   5.2770,     27.130,    34.5153,2,     -999.0,9,     -999.0,9,     -999.0,     -999.0,9,     -999.0
33RO20110926,        A10,      62,          1,         13,      11031,2,20111016,       0129,   -30.0004,   -19.7538,       4378,   933.5,   4.5279,  34.3328,2,  34.3345,2,    210.6,2,   209.3,2,    27.4,2,    30.4,2,    0.01,2,   2.105,2,   2.409,2,   1.199,2,   0.540,2,     2188.9,2,  2289.8,2,  -999.0,9, -999.00,   7.6124,2,       25,-999.000,9,-999.0000,9, -999.00,9,  -999.0,9,  -999.0,   3.422,3, -999.00,9,-999.0000,9, -999.00,9,  933.50,  -999.0,9,   4.4542,     27.209,    34.4964,2,     -999.0,9,     -999.0,9,     -999.0,     -999.0,9,     -999.0
33RO20110926,        A10,      62,          1,         12,      11027,2,20111016,       0129,   -30.0004,   -19.7538,       4378,  1083.1,   3.7194,  34.3741,2,  34.3756,2,    199.2,2,   198.6,2,    39.4,2,    32.3,2,    0.01,2,   2.238,2,   1.569,2,   0.765,2,   0.287,2,-999.000000,9,  -999.0,9,  -999.0,9, -999.00,-999.0000,5,  -999.00,-999.000,9,-999.0000,9, -999.00,9,  -999.0,9,  -999.0,   2.471,3, -999.00,9,-999.0000,9, -999.00,9, 1083.10,  -999.0,9,   3.6393,     27.326,    34.5377,2,     -999.0,9,     -999.0,9,     -999.0,     -999.0,9,     -999.0
33RO20110926,        A10,      62,          1,         11,      11707,2,20111016,       0129,   -30.0004,   -19.7538,       4378,  1232.2,   3.2701,  34.4536,2,  34.4549,2,    190.4,2,     189,2,    48.6,6,    33.0,6,    0.01,6,   2.280,6,   0.900,2,   0.438,2,   0.130,2,       2222,2,  2312.9,2,  -999.0,9, -999.00,   7.5864,2,       25,-999.000,9,-999.0000,9, -999.00,9,  -999.0,9,  -999.0,   1.398,3, -999.00,9,-999.0000,9, -999.00,9, 1232.20,  -999.0,9,   3.1817,     27.433,    34.6174,2,     -999.0,9,     -999.0,9,     -999.0,     -999.0,9,     -999.0
33RO20110926,        A10,      62,          1,         10,      11003,2,20111016,       0129,   -30.0004,   -19.7538,       4378,  1433.3,   2.9999,  34.5618,2,  34.5618,2,    187.7,2,   187.4,2,    54.4,2,    32.1,2,    0.01,2,   2.225,2,   0.433,2,   0.208,2,   0.050,2,     2226.8,2,  2320.2,6,  -999.0,9, -999.00,   7.5904,6,       25,-999.000,9,-999.0000,9, -999.00,9,  -999.0,9,  -999.0,   1.142,3, -999.00,9,-999.0000,9, -999.00,9, 1433.30,  -999.0,9,   2.8976,     27.545,    34.7248,2,     -999.0,9,     -999.0,9,     -999.0,     -999.0,9,     -999.0
33RO20110926,        A10,      62,          1,          9,      11706,2,20111016,       0129,   -30.0004,   -19.7538,       4378,  1633.3,   2.8990,  34.6640,2,  34.6652,2,    193.7,2,   194.5,2,    54.9,2,    30.5,2,    0.01,2,   2.093,2,   0.184,2,   0.089,2,   0.000,2,     2223.8,2,  2330.6,2,  -999.0,9, -999.00,   7.6252,2,       25,-999.000,9,-999.0000,9, -999.00,9,  -999.0,9,  -999.0,   0.674,3, -999.00,9,-999.0000,9, -999.00,9, 1633.30,  -999.0,9,   2.7809,     27.638,    34.8286,2,     -999.0,9,     -999.0,9,     -999.0,     -999.0,9,     -999.0
33RO20110926,        A10,      62,          1,          8,      11033,2,20111016,       0129,   -30.0004,   -19.7538,       4378,  1930.0,   2.7506,  34.7702,2,  34.7709,2,    211.5,2,   211.2,2,    51.7,2,    27.4,2,    0.01,2,   1.872,2,   0.056,2,   0.028,2,   0.022,2,-999.000000,9,  -999.0,9,  -999.0,9, -999.00,-999.0000,5,  -999.00,-999.000,9,-999.0000,9, -999.00,9,  -999.0,9,  -999.0,   0.294,3, -999.00,9,-999.0000,9, -999.00,9, 1930.00,  -999.0,9,   2.6086,     27.737,    34.9349,2,     -999.0,9,     -999.0,9,     -999.0,     -999.0,9,     -999.0
33RO20110926,        A10,      62,          1,          7,      11705,2,20111016,       0129,   -30.0004,   -19.7538,       4378,  2234.1,   2.6723,  34.8327,2,  34.8345,2,    227.8,2,   227.9,2,    47.2,2,    25.0,2,    0.01,2,   1.712,2,   0.025,2,   0.016,2,   0.050,2,     2200.9,2,  -999.0,9,  -999.0,9, -999.00,-999.0000,5,  -999.00,-999.000,9,-999.0000,9, -999.00,9,  -999.0,9,  -999.0,   0.187,3, -999.00,9,-999.0000,9, -999.00,9, 2234.10,  -999.0,9,   2.5038,     27.795,    34.9987,6,     -999.0,9,     -999.0,9,     -999.0,     -999.0,9,     -999.0
33RO20110926,        A10,      62,          1,          6,      11029,2,20111016,       0129,   -30.0004,   -19.7538,       4378,  2532.1,   2.7030,  34.8692,2,  34.8705,2,    237.3,2,   237.3,2,    42.3,2,    23.5,2,    0.01,2,   1.586,2,   0.011,2,   0.007,2,   0.000,2,-999.000000,9,  -999.0,9,  -999.0,9, -999.00,-999.0000,5,  -999.00,-999.000,9,-999.0000,9, -999.00,9,  -999.0,9,  -999.0,   0.142,3, -999.00,9,-999.0000,9, -999.00,9, 2532.10,  -999.0,9,   2.5056,     27.826,    35.0349,2,     -999.0,9,     -999.0,9,     -999.0,     -999.0,9,     -999.0
33RO20110926,        A10,      62,          1,          5,      11704,2,20111016,       0129,   -30.0004,   -19.7538,       4378,  2835.1,   2.6738,  34.8937,2,  34.8947,2,    245.9,2,   245.9,2,    39.1,2,    22.2,2,    0.01,2,   1.509,2,   0.009,2,   0.006,2,   0.029,2,     2184.9,2,  2326.7,2,  -999.0,9, -999.00,   7.7156,2,       25,-999.000,9,-999.0000,9, -999.00,9,  -999.0,9,  -999.0,   0.109,3, -999.00,9,-999.0000,9, -999.00,9, 2835.10,  -999.0,9,   2.4470,     27.850,    35.0592,2,     -999.0,9,     -999.0,9,     -999.0,     -999.0,9,     -999.0
33RO20110926,        A10,      62,          1,          4,      11030,2,20111016,       0129,   -30.0004,   -19.7538,       4378,  3200.7,   2.5258,  34.8925,2,  34.8933,2,    248.6,2,   247.6,2,    41.7,2,    22.0,2,    0.01,2,   1.505,2,   0.006,2,   0.004,2,   0.096,2,-999.000000,9,  -999.0,9,  -999.0,9, -999.00,-999.0000,5,  -999.00,-999.000,9,-999.0000,9, -999.00,9,  -999.0,9,  -999.0,   0.123,3, -999.00,9,-999.0000,9, -999.00,9, 3200.70,  -999.0,9,   2.2647,     27.865,    35.0579,2,     -999.0,9,     -999.0,9,     -999.0,     -999.0,9,     -999.0
33RO20110926,        A10,      62,          1,          3,      11703,2,20111016,       0129,   -30.0004,   -19.7538,       4378,  3599.7,   2.1179,  34.8554,2,  34.8560,2,    244.1,2,   244.5,2,    56.1,2,    23.9,2,    0.01,2,   1.627,2,   0.009,2,   0.006,2,   0.183,2,     2201.9,2,    2336,2,  -999.0,9, -999.00,   7.6955,2,       25,-999.000,9,-999.0000,9, -999.00,9,  -999.0,9,  -999.0,   0.125,3, -999.00,9,-999.0000,9, -999.00,9, 3599.70,  -999.0,9,   1.8246,     27.870,    35.0204,2,     -999.0,9,     -999.0,9,     -999.0,     -999.0,9,     -999.0
33RO20110926,        A10,      62,          1,          2,      11702,2,20111016,       0129,   -30.0004,   -19.7538,       4378,  3999.9,   1.6740,  34.8084,2,  34.8096,2,    236.9,2,   236.4,2,    74.0,6,    26.5,6,    0.01,6,   1.810,6,   0.020,2,   0.010,2,   0.184,2,-999.000000,9,  -999.0,9,  -999.0,9, -999.00,-999.0000,5,  -999.00,-999.000,9,-999.0000,9, -999.00,9,  -999.0,9,  -999.0,   0.151,3, -999.00,9,-999.0000,9, -999.00,9, 3999.90,  -999.0,9,   1.3494,     27.868,    34.9738,2,     -999.0,9,     -999.0,9,     -999.0,     -999.0,9,     -999.0
33RO20110926,        A10,      62,          1,          1,      11701,2,20111016,       0129,   -30.0004,   -19.7538,       4378,  4480.9,   1.4045,  34.7749,2,  34.7828,4,    230.3,2,   230.4,2,    86.7,2,    28.2,2,    0.01,2,   1.931,2,   0.040,6,   0.021,6,   0.147,6,     2233.4,6,  2351.7,2,  -999.0,9, -999.00,   7.6535,2,       25,-999.000,9,-999.0000,9, -999.00,9,  -999.0,9,  -999.0,   0.214,3, -999.00,9,-999.0000,9, -999.00,9, 4480.90,  -999.0,9,   1.0340,     27.869,    34.9468,2,     -999.0,9,     -999.0,9,     -999.0,     -999.0,9,     -999.0