BOTTLE,20220815CCHSIOAMB
EXPOCODE,SECT_ID,STNNBR,CASTNO,SAMPNO,BTLNBR,BTLNBR_FLAG_W,DATE,TIME,LATITUDE,LONGITUDE,DEPTH,CTDPRS,CTDTMP,CTDSAL,CTDSAL_FLAG_W,SALNTY,SALNTY_FLAG_W,CTDOXY,CTDOXY_FLAG_W,OXYGEN,OXYGEN_FLAG_W,SILCAT,SILCAT_FLAG_W,NITRAT,NITRAT_FLAG_W,NITRIT,NITRIT_FLAG_W,PHSPHT,PHSPHT_FLAG_W,CFC-11,CFC-11_FLAG_W,CFC-12,CFC-12_FLAG_W,SF6,SF6_FLAG_W,TCARBN,TCARBN_FLAG_W,ALKALI,ALKALI_FLAG_W,PCO2,PCO2_FLAG_W,PCO2TMP,PH_SWS,PH_SWS_FLAG_W,PH_TMP,TRITUM,TRITUM_FLAG_W,HELIUM,HELIUM_FLAG_W,DELC13,DELC13_FLAG_W,DELC14,DELC14_FLAG_W,C14ERR,CCL4,CCL4_FLAG_W,DELO18,DELO18_FLAG_W,DOC,DOC_FLAG_W,TDN,TDN_FLAG_W,CTDRAW,14C-DOC,14C-DOC_FLAG_W,THETA,SIG0,SALTREF,SALTREF_FLAG_W,BLACKC,BLACKC_FLAG_W,PIGMENTS,PIGMENTS_FLAG_W,14C-DOCERR,13C-DOC,13C-DOC_FLAG_W,13C-DOCERR
,,,,,,,,,,,METERS,DBAR,ITS-90,PSS-78,,PSS-78,,UMOL/KG,,UMOL/KG,,UMOL/KG,,UMOL/KG,,UMOL/KG,,UMOL/KG,,PMOL/KG,,PMOL/KG,,FMOL/KG,,UMOL/KG,,UMOL/KG,,UATM,,DEG C,,,DEG C,TU,,NMOL/KG,,/MILLE,,/MILLE,,/MILLE,PMOL/KG,,/MILLE,,UMOL/KG,,UMOL/KG,,DBAR,/MILLE,,DEG C,KG/M^3,G/KG,,,,,,/MILLE,/MILLE,,/MILLE
33RO20110926,        A10,      52,          1,         24,      11714,2,20111012,       2104,   -30.0002,   -11.9613,     -999.0,     5.7,  17.6055,  35.8853,2,  35.8845,2,    238.4,2,   238.3,2,     1.3,2,     0.0,2,    0.00,2,   0.158,2,   2.300,4,   1.441,2,   1.413,2,     2084.8,6,  2352.7,2,  -999.0,9, -999.00,    7.979,2,       25,-999.000,9,-999.0000,9, -999.00,9,  -999.0,9,  -999.0,   3.394,4, -999.00,9,  61.4927,2,    3.85,2,    5.70,  -999.0,9,  17.6045,     26.047,    36.0537,2,     -999.0,9,     -999.0,1,     -999.0,     -999.0,9,     -999.0
33RO20110926,        A10,      52,          1,         23,      11713,2,20111012,       2104,   -30.0002,   -11.9613,     -999.0,    39.3,  17.6102,  35.8836,2,  35.8843,2,    237.2,2,   238.8,2,     1.3,2,     0.0,2,    0.00,2,   0.161,2,   2.250,4,   1.412,2,   1.443,2,     2084.4,2,    2357,6,  -999.0,9, -999.00,   7.9794,6,       25,-999.000,9,-999.0000,9, -999.00,9,  -999.0,9,  -999.0,   3.337,4, -999.00,9,  60.9854,2,    4.53,2,   39.30,  -999.0,9,  17.6035,     26.047,    36.0535,2,     -999.0,9,     -999.0,9,     -999.0,     -999.0,9,     -999.0
33RO20110926,        A10,      52,          1,         22,      11712,2,20111012,       2104,   -30.0002,   -11.9613,     -999.0,    88.5,  17.0096,  35.8159,2,  35.8157,2,    238.3,2,   238.9,2,     1.4,2,     0.1,2,    0.04,2,   0.183,2,   2.239,4,   1.436,2,   1.497,2,-999.000000,9,  2348.7,2,  -999.0,9, -999.00,   7.9739,2,       25,-999.000,9,-999.0000,9, -999.00,9,  -999.0,9,  -999.0,   2.690,4, -999.00,9,  57.0829,2,    3.98,2,   88.50,  -999.0,9,  16.9950,     26.142,    35.9846,2,     -999.0,9,     -999.0,1,     -999.0,     -999.0,9,     -999.0
33RO20110926,        A10,      52,          1,         21,      11010,2,20111012,       2104,   -30.0002,   -11.9613,     -999.0,   140.2,  16.4488,  35.7222,2,  35.7224,2,    230.2,2,   230.4,2,     1.7,2,     1.6,2,    0.19,2,   0.276,2,   2.287,4,   1.449,2,   1.381,2,     2092.3,2,  2344.6,2,  -999.0,9, -999.00,   7.9499,2,       25,-999.000,9,-999.0000,9, -999.00,9,  -999.0,9,  -999.0,   2.004,4, -999.00,9,  56.8195,2,    6.29,2,  140.20,  -999.0,9,  16.4260,     26.205,    35.8908,2,     -999.0,9,     -999.0,1,     -999.0,     -999.0,9,     -999.0
33RO20110926,        A10,      52,          1,         20,      11715,2,20111012,       2104,   -30.0002,   -11.9613,     -999.0,   190.3,  15.1338,  35.4716,2,  35.4690,2,    218.8,2,   218.9,2,     2.4,6,     4.8,6,    0.01,6,   0.460,6,   2.555,4,   1.552,2,   1.430,2,-999.000000,9,  2328.3,2,  -999.0,9, -999.00,   7.9028,2,       25,-999.000,9,-999.0000,9, -999.00,9,  -999.0,9,  -999.0,   1.219,4, -999.00,9,  52.4585,2,    8.28,2,  190.30,  -999.0,9,  15.1047,     26.312,    35.6362,2,     -999.0,9,     -999.0,9,     -999.0,     -999.0,9,     -999.0
33RO20110926,        A10,      52,          1,         19,      11007,2,20111012,       2104,   -30.0002,   -11.9613,     -999.0,   269.0,  13.1805,  35.1929,2,  35.1931,2,    210.6,2,   211.3,2,     3.7,2,     9.6,2,    0.01,2,   0.749,2,   2.778,4,   1.656,2,   1.388,2,     2120.4,2,  2316.1,2,  -999.0,9, -999.00,   7.8437,2,       25,-999.000,9,-999.0000,9, -999.00,9,  -999.0,9,  -999.0,   1.054,3, -999.00,9,  48.3122,2, -999.00,9,  269.00,  -999.0,9,  13.1430,     26.514,    35.3590,2,     -999.0,9,     -999.0,9,     -999.0,     -999.0,9,     -999.0
33RO20110926,        A10,      52,          1,         18,      11710,2,20111012,       2104,   -30.0002,   -11.9613,     -999.0,   369.6,  11.7846,  35.0354,2,  35.0763,4,    208.1,2,   211.8,2,     4.7,2,    12.8,2,    0.00,2,   0.948,2,   2.869,4,   1.717,2,   1.230,2,-999.000000,9,  2309.4,4,  -999.0,9, -999.00,   7.8066,2,       25,-999.000,9,-999.0000,9, -999.00,9,  -999.0,9,  -999.0,   1.138,3, -999.00,9,  49.3659,2, -999.00,9,  369.60,  -999.0,9,  11.7366,     26.700,    35.2417,2,     -999.0,9,     -999.0,9,     -999.0,     -999.0,9,     -999.0
33RO20110926,        A10,      52,          1,         17,      11023,2,20111012,       2104,   -30.0002,   -11.9613,     -999.0,   469.8,  10.0441,  34.8066,2,  34.8060,2,    210.3,2,     210,2,     6.7,6,    17.1,6,    0.00,6,   1.215,6,   3.027,4,   1.766,2,   1.160,2,     2143.8,2,  2299.4,2,  -999.0,9, -999.00,   7.7565,2,       25,-999.000,9,-999.0000,9, -999.00,9,  -999.0,9,  -999.0,   1.423,3, -999.00,9,  36.5659,2, -999.00,9,  469.80,  -999.0,9,   9.9888,     26.802,    34.9701,2,     -999.0,9,     -999.0,9,     -999.0,     -999.0,9,     -999.0
33RO20110926,        A10,      52,          1,         16,      11709,2,20111012,       2104,   -30.0002,   -11.9613,     -999.0,   588.1,   7.5725,  34.5195,2,  34.5120,2,    209.9,2,   107.8,4,    11.4,2,    23.5,2,    0.00,2,   1.617,2,   3.703,4,   1.713,2,   1.005,2,-999.000000,9,    2287,2,  -999.0,9, -999.00,   7.6945,2,       25,-999.000,9,-999.0000,9, -999.00,9,  -999.0,9,  -999.0,   2.309,3, -999.00,9,  43.8829,2, -999.00,9,  588.10,  -999.0,9,   7.5137,     26.962,    34.6747,2,     -999.0,9,     -999.0,9,     -999.0,     -999.0,9,     -999.0
33RO20110926,        A10,      52,          1,         15,      11006,2,20111012,       2104,   -30.0002,   -11.9613,     -999.0,   739.7,   5.2569,  34.3280,2,  34.3261,2,    220.5,2,   219.2,2,    19.3,2,    28.3,2,    0.00,2,   1.935,2,   3.175,2,   1.632,2,   0.789,2,     2176.5,2,  2285.2,2,  -999.0,9, -999.00,   7.6485,2,       25,-999.000,9,-999.0000,9, -999.00,9,  -999.0,9,  -999.0,   2.786,3, -999.00,9,  44.9073,2, -999.00,9,  739.70,  -999.0,9,   5.1955,     27.118,    34.4880,2,     -999.0,9,     -999.0,9,     -999.0,     -999.0,9,     -999.0
33RO20110926,        A10,      52,          1,         14,      11708,2,20111012,       2104,   -30.0002,   -11.9613,     -999.0,   889.1,   4.0827,  34.3047,2,  34.3041,2,    215.7,2,   215.4,2,    29.4,2,    30.7,2,    0.00,2,   2.115,2,   2.522,2,   1.247,2,   0.554,2,-999.000000,9,  2295.7,2,  -999.0,9, -999.00,   7.6272,2,       25,-999.000,9,-999.0000,9, -999.00,9,  -999.0,9,  -999.0,   2.576,3, -999.00,9,  39.5219,2, -999.00,9,  889.10,  -999.0,9,   4.0159,     27.231,    34.4659,2,     -999.0,9,     -999.0,9,     -999.0,     -999.0,9,     -999.0
33RO20110926,        A10,      52,          1,         13,      11031,2,20111012,       2104,   -30.0002,   -11.9613,     -999.0,  1040.0,   3.5638,  34.3714,2,  34.3705,2,    199.0,2,   198.5,2,    40.7,2,    32.4,2,    0.00,2,   2.228,2,   1.672,3,   0.729,2,   0.264,2,     2212.7,2,  2306.8,2,  -999.0,9, -999.00,   7.6022,2,       25,-999.000,9,-999.0000,9, -999.00,9,  -999.0,9,  -999.0,   1.952,3, -999.00,9,  41.7561,2, -999.00,9, 1040.00,  -999.0,9,   3.4886,     27.336,    34.5325,2,     -999.0,9,     -999.0,9,     -999.0,     -999.0,9,     -999.0
33RO20110926,        A10,      52,          1,         12,      11027,2,20111012,       2104,   -30.0002,   -11.9613,     -999.0,  1190.0,   3.1506,  34.4425,2,  34.4451,2,    190.9,2,   190.2,2,    49.2,6,    32.8,6,    0.01,6,   2.270,6,   1.038,2,   0.459,2,   0.143,2,     2223.9,2,  2315.7,2,  -999.0,9, -999.00,   7.5902,2,       25,-999.000,9,-999.0000,9, -999.00,9,  -999.0,9,  -999.0,   1.438,3, -999.00,9,  39.0341,2, -999.00,9, 1190.00,  -999.0,9,   3.0668,     27.436,    34.6075,2,     -999.0,9,     -999.0,9,     -999.0,     -999.0,9,     -999.0
33RO20110926,        A10,      52,          1,         11,      11707,2,20111012,       2104,   -30.0002,   -11.9613,     -999.0,  1369.8,   2.9970,  34.5716,2,  34.5719,2,    184.7,2,   184.9,2,    54.9,2,    32.2,2,    0.00,2,   2.213,2,   0.448,2,   0.202,2,   0.091,2,     2231.7,2,  2321.6,6,  -999.0,9, -999.00,   7.5964,6,       25,-999.000,9,-999.0000,9, -999.00,9,  -999.0,9,  -999.0,   0.786,3, -999.00,9,  41.7659,2, -999.00,9, 1369.80,  -999.0,9,   2.8999,     27.552,    34.7349,2,     -999.0,9,     -999.0,9,     -999.0,     -999.0,9,     -999.0
33RO20110926,        A10,      52,          1,         10,      11003,2,20111012,       2104,   -30.0002,   -11.9613,     -999.0,  1529.4,   2.9113,  34.6635,2,  34.6643,2,    190.2,2,   190.7,2,    55.0,2,    30.6,2,    0.00,2,   2.099,2,   0.213,2,   0.093,2,   0.078,2,     2227.7,2,  2325.8,2,  -999.0,9, -999.00,   7.6144,2,       25,-999.000,9,-999.0000,9, -999.00,9,  -999.0,9,  -999.0,   0.480,3, -999.00,9,  39.5317,2, -999.00,9, 1529.40,  -999.0,9,   2.8018,     27.635,    34.8277,2,     -999.0,9,     -999.0,9,     -999.0,     -999.0,9,     -999.0
33RO20110926,        A10,      52,          1,          9,      11706,2,20111012,       2104,   -30.0002,   -11.9613,     -999.0,  1680.0,   2.8149,  34.7197,2,  34.7199,2,    198.1,2,   199.4,2,    54.6,2,    29.1,2,    0.00,2,   1.999,2,   0.124,2,   0.054,2,   0.026,2,-999.000000,9,  2328.8,2,  -999.0,9, -999.00,   7.6324,2,       25,-999.000,9,-999.0000,9, -999.00,9,  -999.0,9,  -999.0,   0.343,3, -999.00,9,   41.561,2, -999.00,9, 1680.00,  -999.0,9,   2.6938,     27.689,    34.8836,2,     -999.0,9,     -999.0,9,     -999.0,     -999.0,9,     -999.0
33RO20110926,        A10,      52,          1,          8,      11033,2,20111012,       2104,   -30.0002,   -11.9613,     -999.0,  1828.8,   2.7540,  34.7697,2,  34.7693,2,    206.3,2,   207.4,2,    52.9,2,    27.7,2,    0.00,2,   1.893,2,   0.065,2,   0.029,2,   0.027,2,-999.000000,9,  2332.6,2,  -999.0,9, -999.00,   7.6523,2,       25,-999.000,9,-999.0000,9, -999.00,9,  -999.0,9,  -999.0,   0.236,3, -999.00,9,  35.2098,2, -999.00,9, 1828.80,  -999.0,9,   2.6208,     27.735,    34.9332,2,     -999.0,9,     -999.0,9,     -999.0,     -999.0,9,     -999.0
33RO20110926,        A10,      52,          1,          7,      11705,2,20111012,       2104,   -30.0002,   -11.9613,     -999.0,  2030.6,   2.6629,  34.8019,2,  34.8021,2,    214.9,2,   216.3,2,    52.3,2,    26.5,2,    0.00,2,   1.813,2,   0.031,6,   0.015,6,   0.000,6,     2212.2,2,  2333.3,2,  -999.0,9, -999.00,   7.6673,2,       25,-999.000,9,-999.0000,9, -999.00,9,  -999.0,9,  -999.0,   0.141,3, -999.00,9,  38.7512,2, -999.00,9, 2030.60,  -999.0,9,   2.5131,     27.771,    34.9662,2,     -999.0,9,     -999.0,9,     -999.0,     -999.0,9,     -999.0
33RO20110926,        A10,      52,          1,          6,      11029,2,20111012,       2104,   -30.0002,   -11.9613,     -999.0,  2282.4,   2.5598,  34.8298,2,  34.8308,2,    223.2,2,   223.9,2,    51.2,2,    25.4,2,    0.00,2,   1.733,2,   0.015,2,   0.009,2,   0.043,2,-999.000000,9,  2335.5,2,  -999.0,9, -999.00,   7.6833,2,       25,-999.000,9,-999.0000,9, -999.00,9,  -999.0,9,  -999.0,   0.091,3, -999.00,9,  39.3073,2, -999.00,9, 2282.40,  -999.0,9,   2.3887,     27.803,    34.9951,6,     -999.0,9,     -999.0,9,     -999.0,     -999.0,9,     -999.0
33RO20110926,        A10,      52,          1,          5,      11704,2,20111012,       2104,   -30.0002,   -11.9613,     -999.0,  2530.3,   2.4807,  34.8485,2,  34.8496,2,    231.2,2,   232.8,2,    50.4,2,    24.6,2,    0.00,2,   1.669,2,   0.008,2,   0.005,2,   0.000,2,       2203,2,  2335.5,2,  -999.0,9, -999.00,   7.6955,2,       25,-999.000,9,-999.0000,9, -999.00,9,  -999.0,9,  -999.0,   0.068,3, -999.00,9,  37.7659,2, -999.00,9, 2530.30,  -999.0,9,   2.2878,     27.828,    35.0139,2,     -999.0,9,     -999.0,9,     -999.0,     -999.0,9,     -999.0
33RO20110926,        A10,      52,          1,          4,      11030,2,20111012,       2104,   -30.0002,   -11.9613,     -999.0,  2819.2,   2.4147,  34.8602,2,  34.8604,2,    235.4,2,   235.6,2,    50.1,6,    23.9,6,    0.00,6,   1.625,6,   0.007,2,   0.004,2,   0.028,2,-999.000000,9,  2334.4,2,  -999.0,9, -999.00,   7.7025,2,       25,-999.000,9,-999.0000,9, -999.00,9,  -999.0,9,  -999.0,   0.066,3, -999.00,9,  42.7805,2, -999.00,9, 2819.20,  -999.0,9,   2.1950,     27.844,    35.0248,2,     -999.0,9,     -999.0,9,     -999.0,     -999.0,9,     -999.0
33RO20110926,        A10,      52,          1,          3,      11703,2,20111012,       2104,   -30.0002,   -11.9613,     -999.0,  3029.3,   2.3985,  34.8633,2,  34.8635,2,    236.6,2,   236.2,2,    50.6,2,    24.0,2,    0.01,2,   1.620,2,   0.008,2,   0.006,2,   0.053,2,     2200.6,2,  2339.5,2,  -999.0,9, -999.00,   7.7084,2,       25,-999.000,9,-999.0000,9, -999.00,9,  -999.0,9,  -999.0,   0.069,3, -999.00,9,     36.8,3, -999.00,9, 3029.30,  -999.0,9,   2.1581,     27.849,    35.0279,2,     -999.0,9,     -999.0,9,     -999.0,     -999.0,9,     -999.0
33RO20110926,        A10,      52,          1,          2,      11702,2,20111012,       2104,   -30.0002,   -11.9613,     -999.0,  3280.1,   2.3904,  34.8664,2,  34.8677,2,    237.7,2,   236.9,2,    50.7,2,    23.7,2,    0.01,2,   1.614,2,   0.006,2,   0.004,2,   0.053,2,-999.000000,9,  2341.4,2,  -999.0,9, -999.00,   7.7104,2,       25,-999.000,9,-999.0000,9, -999.00,9,  -999.0,9,  -999.0,   0.060,3, -999.00,9,  39.7854,3, -999.00,9, 3280.10,  -999.0,9,   2.1243,     27.856,    35.0322,2,     -999.0,9,     -999.0,9,     -999.0,     -999.0,9,     -999.0
33RO20110926,        A10,      52,          1,          1,      11701,2,20111012,       2104,   -30.0002,   -11.9613,     -999.0,  3649.5,   2.4170,  34.8685,2,  34.8694,2,    238.1,2,   237.7,2,    51.0,2,    23.8,2,    0.01,2,   1.612,2,   0.006,6,   0.004,6,   0.045,6,     2201.9,6,  2345.3,2,  -999.0,9, -999.00,    7.711,6,       25,-999.000,9,-999.0000,9, -999.00,9,  -999.0,9,  -999.0,   0.060,3, -999.00,9,  41.0244,2, -999.00,9, 3649.50,  -999.0,9,   2.1106,     27.858,    35.0339,2,     -999.0,9,     -999.0,9,     -999.0,     -999.0,9,     -999.0