BOTTLE,20220815CCHSIOAMB
EXPOCODE,SECT_ID,STNNBR,CASTNO,SAMPNO,BTLNBR,BTLNBR_FLAG_W,DATE,TIME,LATITUDE,LONGITUDE,DEPTH,CTDPRS,CTDTMP,CTDSAL,CTDSAL_FLAG_W,SALNTY,SALNTY_FLAG_W,CTDOXY,CTDOXY_FLAG_W,OXYGEN,OXYGEN_FLAG_W,SILCAT,SILCAT_FLAG_W,NITRAT,NITRAT_FLAG_W,NITRIT,NITRIT_FLAG_W,PHSPHT,PHSPHT_FLAG_W,CFC-11,CFC-11_FLAG_W,CFC-12,CFC-12_FLAG_W,SF6,SF6_FLAG_W,TCARBN,TCARBN_FLAG_W,ALKALI,ALKALI_FLAG_W,PCO2,PCO2_FLAG_W,PCO2TMP,PH_SWS,PH_SWS_FLAG_W,PH_TMP,TRITUM,TRITUM_FLAG_W,HELIUM,HELIUM_FLAG_W,DELC13,DELC13_FLAG_W,DELC14,DELC14_FLAG_W,C14ERR,CCL4,CCL4_FLAG_W,DELO18,DELO18_FLAG_W,DOC,DOC_FLAG_W,TDN,TDN_FLAG_W,CTDRAW,14C-DOC,14C-DOC_FLAG_W,THETA,SIG0,SALTREF,SALTREF_FLAG_W,BLACKC,BLACKC_FLAG_W,PIGMENTS,PIGMENTS_FLAG_W,14C-DOCERR,13C-DOC,13C-DOC_FLAG_W,13C-DOCERR
,,,,,,,,,,,METERS,DBAR,ITS-90,PSS-78,,PSS-78,,UMOL/KG,,UMOL/KG,,UMOL/KG,,UMOL/KG,,UMOL/KG,,UMOL/KG,,PMOL/KG,,PMOL/KG,,FMOL/KG,,UMOL/KG,,UMOL/KG,,UATM,,DEG C,,,DEG C,TU,,NMOL/KG,,/MILLE,,/MILLE,,/MILLE,PMOL/KG,,/MILLE,,UMOL/KG,,UMOL/KG,,DBAR,/MILLE,,DEG C,KG/M^3,G/KG,,,,,,/MILLE,/MILLE,,/MILLE
33RO20110926,        A10,      46,          1,         24,      11714,2,20111009,       1835,   -29.9995,    -7.9584,       4125,     5.3,  18.5599,  36.0022,2,  36.0015,2,    233.6,2,   123.3,4,     1.2,2,     0.0,2,    0.00,2,   0.154,2,   2.262,2,   1.384,2,   1.392,2,     2086.3,6,  2362.9,6,  -999.0,9, -999.00,    7.984,6,       25,-999.000,1,-999.0000,1, -999.00,9,  -999.0,9,  -999.0,   4.146,4, -999.00,1,-999.0000,9, -999.00,9,    5.30,  -999.0,9,  18.5590,     25.898,    36.1713,2,     -999.0,9,     -999.0,1,     -999.0,     -999.0,9,     -999.0
33RO20110926,        A10,      46,          1,         23,      11713,2,20111009,       1835,   -29.9995,    -7.9584,       4125,    35.2,  18.5680,  36.0019,2,  36.0033,2,    234.5,2,   235.8,2,     1.2,2,     0.0,2,    0.00,2,   0.154,2,   2.269,2,   1.388,2,   1.403,2,-999.000000,9,  2363.5,2,  -999.0,9, -999.00,   7.9829,2,       25,-999.000,1,-999.0000,1, -999.00,9,  -999.0,9,  -999.0,   3.969,4, -999.00,1,-999.0000,9, -999.00,9,   35.20,  -999.0,9,  18.5618,     25.900,    36.1731,2,     -999.0,9,     -999.0,9,     -999.0,     -999.0,9,     -999.0
33RO20110926,        A10,      46,          1,         22,      11712,2,20111009,       1835,   -29.9995,    -7.9584,       4125,    76.4,  18.0160,  35.9648,2,  35.9645,2,    237.4,2,   237.6,2,     1.3,2,     0.0,2,    0.00,2,   0.159,2,   2.298,2,   1.406,2,   1.403,2,-999.000000,9,  2361.3,2,  -999.0,9, -999.00,   7.9859,2,       25,-999.000,1,-999.0000,1, -999.00,9,  -999.0,9,  -999.0,   4.038,4, -999.00,1,-999.0000,9, -999.00,9,   76.40,  -999.0,9,  18.0028,     26.010,    36.1341,2,     -999.0,9,     -999.0,1,     -999.0,     -999.0,9,     -999.0
33RO20110926,        A10,      46,          1,         21,      11010,2,20111009,       1835,   -29.9995,    -7.9584,       4125,   125.1,  17.4697,  35.8805,2,  35.8819,2,    236.2,2,   235.2,2,     1.4,2,     0.2,2,    0.11,2,   0.192,2,   2.339,2,   1.429,2,   1.415,2,     2091.7,2,  2356.4,2,  -999.0,9, -999.00,   7.9699,2,       25,-999.000,1,-999.0000,1, -999.00,9,  -999.0,9,  -999.0,   2.829,4, -999.00,1,-999.0000,9, -999.00,9,  125.10,  -999.0,9,  17.4486,     26.081,    36.0511,2,     -999.0,9,     -999.0,1,     -999.0,     -999.0,9,     -999.0
33RO20110926,        A10,      46,          1,         20,      11715,2,20111009,       1835,   -29.9995,    -7.9584,       4125,   174.7,  16.1447,  35.6259,2,  35.6309,2,    223.5,2,   221.8,2,     2.0,6,     3.1,6,    0.05,6,   0.360,6,   2.503,2,   1.513,2,   1.413,2,-999.000000,9,  2338.9,2,  -999.0,9, -999.00,   7.9279,2,       25,-999.000,1,-999.0000,1, -999.00,9,  -999.0,9,  -999.0,   1.500,4, -999.00,1,-999.0000,9, -999.00,9,  174.70,  -999.0,9,  16.1168,     26.200,    35.7990,2,     -999.0,9,     -999.0,9,     -999.0,     -999.0,9,     -999.0
33RO20110926,        A10,      46,          1,         19,      11007,2,20111009,       1835,   -29.9995,    -7.9584,       4125,   250.0,  14.1117,  35.3118,2,  35.3144,2,    219.8,2,   218.1,2,     2.8,2,     6.7,2,    0.01,2,   0.577,2,   2.776,2,   1.642,2,   1.432,2,-999.000000,9,  2320.4,2,  -999.0,9, -999.00,   7.8748,2,       25,-999.000,1,-999.0000,1, -999.00,9,  -999.0,9,  -999.0,   1.251,3, -999.00,1,-999.0000,9, -999.00,9,  250.00,  -999.0,9,  14.0752,     26.416,    35.4809,2,     -999.0,9,     -999.0,9,     -999.0,     -999.0,9,     -999.0
33RO20110926,        A10,      46,          1,         18,      11710,2,20111009,       1835,   -29.9995,    -7.9584,       4125,   326.6,  12.6222,  35.1127,2,  35.1139,2,    213.1,2,   213.3,2,     4.1,2,    10.9,2,    0.01,2,   0.829,2,   2.989,2,   1.719,2,   1.288,2,     2124.8,2,    2313,2,  -999.0,9, -999.00,   7.8267,2,       25,-999.000,1,-999.0000,1, -999.00,9,  -999.0,9,  -999.0,   1.445,3, -999.00,1,-999.0000,9, -999.00,9,  326.60,  -999.0,9,  12.5778,     26.565,    35.2795,2,     -999.0,9,     -999.0,9,     -999.0,     -999.0,9,     -999.0
33RO20110926,        A10,      46,          1,         17,      11023,2,20111009,       1835,   -29.9995,    -7.9584,       4125,   400.5,  11.4085,  34.9721,2,  34.9757,2,    210.4,2,   210.9,2,     5.1,2,    14.0,2,    0.00,2,   1.012,2,   3.094,6,   1.737,6,   1.185,6,-999.000000,9,    2303,2,  -999.0,9, -999.00,   7.7917,2,       25,-999.000,1,-999.0000,1, -999.00,9,  -999.0,9,  -999.0,   1.516,3, -999.00,1,-999.0000,9, -999.00,9,  400.50,  -999.0,9,  11.3575,     26.693,    35.1406,2,     -999.0,9,     -999.0,9,     -999.0,     -999.0,9,     -999.0
33RO20110926,        A10,      46,          1,         16,      11709,2,20111009,       1835,   -29.9995,    -7.9584,       4125,   473.4,  10.3080,  34.8355,2,  34.8364,2,    208.2,2,   208.8,2,     6.6,2,    16.8,2,    0.00,2,   1.185,2,   3.111,2,   1.729,2,   1.091,2,-999.000000,9,  2299.8,2,  -999.0,9, -999.00,   7.7595,2,       25,-999.000,1,-999.0000,1, -999.00,9,  -999.0,9,  -999.0,   1.653,3, -999.00,1,-999.0000,9, -999.00,9,  473.40,  -999.0,9,  10.2514,     26.779,    35.0007,2,     -999.0,9,     -999.0,9,     -999.0,     -999.0,9,     -999.0
33RO20110926,        A10,      46,          1,         15,      11006,2,20111009,       1835,   -29.9995,    -7.9584,       4125,   566.1,   8.5137,  34.6250,2,  34.6246,2,    203.2,2,   201.4,2,    10.5,2,    21.8,2,    0.00,2,   1.512,2,   3.131,2,   1.668,2,   0.959,2,     2160.6,2,  2291.1,2,  -999.0,9, -999.00,   7.7064,2,       25,-999.000,1,-999.0000,1, -999.00,9,  -999.0,9,  -999.0,   2.252,3, -999.00,1,-999.0000,9, -999.00,9,  566.10,  -999.0,9,   8.4532,     26.911,    34.7878,2,     -999.0,9,     -999.0,9,     -999.0,     -999.0,9,     -999.0
33RO20110926,        A10,      46,          1,         14,      11708,2,20111009,       1835,   -29.9995,    -7.9584,       4125,   629.7,   7.2828,  34.4988,2,  34.5034,2,    205.6,2,   204.5,2,    13.2,2,    24.7,2,    0.00,2,   1.694,2,   3.079,2,   1.626,2,   0.830,2,-999.000000,9,  2288.3,2,  -999.0,9, -999.00,   7.6683,2,       25,-999.000,1,-999.0000,1, -999.00,9,  -999.0,9,  -999.0,   2.974,3, -999.00,1,-999.0000,9, -999.00,9,  629.70,  -999.0,9,   7.2211,     26.996,    34.6661,2,     -999.0,9,     -999.0,9,     -999.0,     -999.0,9,     -999.0
33RO20110926,        A10,      46,          1,         13,      11031,2,20111009,       1835,   -29.9995,    -7.9584,       4125,   801.3,   4.9256,  34.3122,2,  34.3132,2,    220.5,2,   219.5,2,    21.2,2,    28.9,2,    0.00,2,   1.976,2,   2.955,2,   1.513,2,   0.682,2,-999.000000,9,  2288.5,2,  -999.0,9, -999.00,   7.6414,2,       25,-999.000,1,-999.0000,1, -999.00,9,  -999.0,9,  -999.0,   3.925,3, -999.00,1,-999.0000,9, -999.00,9,  801.30,  -999.0,9,   4.8607,     27.146,    34.4750,2,     -999.0,9,     -999.0,9,     -999.0,     -999.0,9,     -999.0
33RO20110926,        A10,      46,          1,         12,      11027,2,20111009,       1835,   -29.9995,    -7.9584,       4125,   930.8,   4.0386,  34.3222,2,  34.3224,2,    211.0,2,     211,2,    31.2,2,    31.1,2,    0.00,2,   2.140,2,   2.248,2,   1.137,2,   0.460,2,-999.000000,9,  2296.8,2,  -999.0,9, -999.00,   7.6174,2,       25,-999.000,1,-999.0000,1, -999.00,9,  -999.0,9,  -999.0,   3.343,3, -999.00,1,-999.0000,9, -999.00,9,  930.80,  -999.0,9,   3.9687,     27.250,    34.4843,2,     -999.0,9,     -999.0,9,     -999.0,     -999.0,9,     -999.0
33RO20110926,        A10,      46,          1,         11,      11707,2,20111009,       1835,   -29.9995,    -7.9584,       4125,  1130.5,   3.4246,  34.4434,2,  34.4435,2,    186.4,2,   185.8,2,    46.8,6,    32.9,6,    0.01,6,   2.277,6,   0.975,2,   0.479,2,   0.136,2,     2222.1,2,  2310.7,2,  -999.0,9, -999.00,   7.5874,2,       25,-999.000,1,-999.0000,1, -999.00,9,  -999.0,9,  -999.0,   1.835,3, -999.00,1,-999.0000,9, -999.00,9, 1130.50,  -999.0,9,   3.3430,     27.409,    34.6059,2,     -999.0,9,     -999.0,9,     -999.0,     -999.0,9,     -999.0
33RO20110926,        A10,      46,          1,         10,      11003,2,20111009,       1835,   -29.9995,    -7.9584,       4125,  1354.4,   3.0452,  34.5814,2,  34.5818,2,    183.4,2,   185.1,2,    54.1,2,    32.1,2,    0.01,2,   2.209,2,   0.368,6,   0.175,6,   0.057,6,     2227.7,2,  2324.2,6,  -999.0,9, -999.00,   7.5977,6,       25,-999.000,1,-999.0000,1, -999.00,9,  -999.0,9,  -999.0,   0.954,3, -999.00,1,-999.0000,9, -999.00,9, 1354.40,  -999.0,9,   2.9488,     27.556,    34.7448,2,     -999.0,9,     -999.0,9,     -999.0,     -999.0,9,     -999.0
33RO20110926,        A10,      46,          1,          9,      11706,2,20111009,       1835,   -29.9995,    -7.9584,       4125,  1632.4,   2.9375,  34.7083,2,  34.7097,2,    194.8,2,   195.7,2,    52.4,2,    29.5,2,    0.00,2,   2.017,2,   0.124,2,   0.060,2,   0.070,2,     2220.6,2,  2327.4,2,  -999.0,9, -999.00,   7.6212,2,       25,-999.000,1,-999.0000,1, -999.00,9,  -999.0,9,  -999.0,   0.485,3, -999.00,1,-999.0000,9, -999.00,9, 1632.40,  -999.0,9,   2.8189,     27.670,    34.8733,2,     -999.0,9,     -999.0,9,     -999.0,     -999.0,9,     -999.0
33RO20110926,        A10,      46,          1,          8,      11033,2,20111009,       1835,   -29.9995,    -7.9584,       4125,  1930.3,   2.7360,  34.7894,2,  34.7930,2,    210.8,2,     212,2,    51.6,2,    27.2,2,    0.01,2,   1.845,2,   0.044,2,   0.021,2,   0.000,2,-999.000000,9,  2331.8,2,  -999.0,9, -999.00,   7.6613,2,       25,-999.000,9,-999.0000,1, -999.00,9,  -999.0,9,  -999.0,   0.198,3, -999.00,9,-999.0000,9, -999.00,9, 1930.30,  -999.0,9,   2.5941,     27.756,    34.9570,2,     -999.0,9,     -999.0,9,     -999.0,     -999.0,9,     -999.0
33RO20110926,        A10,      46,          1,          7,      11705,2,20111009,       1835,   -29.9995,    -7.9584,       4125,  2230.9,   2.6052,  34.8244,2,  34.8245,2,    221.1,2,   222.8,2,    50.9,2,    25.8,2,    0.00,2,   1.739,2,   0.016,2,   0.009,2,   0.000,2,-999.000000,9,  2336.1,2,  -999.0,9, -999.00,   7.6755,2,       25,-999.000,1,-999.0000,1, -999.00,9,  -999.0,9,  -999.0,   0.148,3, -999.00,9,-999.0000,9, -999.00,9, 2230.90,  -999.0,9,   2.4381,     27.795,    34.9887,2,     -999.0,9,     -999.0,9,     -999.0,     -999.0,9,     -999.0
33RO20110926,        A10,      46,          1,          6,      11029,2,20111009,       1835,   -29.9995,    -7.9584,       4125,  2529.7,   2.4784,  34.8472,2,  34.8499,2,    230.2,2,   229.8,2,    50.4,2,    24.7,2,    0.00,2,   1.661,2,   0.009,2,   0.004,2,   0.000,2,-999.000000,9,    2338,2,  -999.0,9, -999.00,   7.6915,2,       25,-999.000,9,-999.0000,1, -999.00,9,  -999.0,9,  -999.0,   0.132,3, -999.00,9,-999.0000,9, -999.00,9, 2529.70,  -999.0,9,   2.2856,     27.828,    35.0142,2,     -999.0,9,     -999.0,9,     -999.0,     -999.0,9,     -999.0
33RO20110926,        A10,      46,          1,          5,      11704,2,20111009,       1835,   -29.9995,    -7.9584,       4125,  2819.2,   2.4054,  34.8611,2,  34.8619,2,    234.7,2,   235.3,2,    50.0,2,    24.1,2,    0.00,2,   1.613,2,   0.005,2,   0.003,2,   0.000,2,-999.000000,9,  2338.8,2,  -999.0,9, -999.00,   7.7044,2,       25,-999.000,1,-999.0000,1, -999.00,9,  -999.0,9,  -999.0,   0.089,3, -999.00,9,-999.0000,9, -999.00,9, 2819.20,  -999.0,9,   2.1859,     27.846,    35.0263,2,     -999.0,9,     -999.0,9,     -999.0,     -999.0,9,     -999.0
33RO20110926,        A10,      46,          1,          4,      11030,2,20111009,       1835,   -29.9995,    -7.9584,       4125,  3132.2,   2.3735,  34.8696,2,  34.8711,2,    237.3,2,     238,2,    49.8,6,    23.6,6,    0.00,6,   1.590,6,   0.004,2,   0.004,2,   0.049,2,-999.000000,9,  2342.5,2,  -999.0,9, -999.00,   7.7134,2,       25,-999.000,9,-999.0000,1, -999.00,9,  -999.0,9,  -999.0,   0.093,3, -999.00,9,-999.0000,9, -999.00,9, 3132.20,  -999.0,9,   2.1231,     27.858,    35.0355,2,     -999.0,9,     -999.0,9,     -999.0,     -999.0,9,     -999.0
33RO20110926,        A10,      46,          1,          3,      11703,2,20111009,       1835,   -29.9995,    -7.9584,       4125,  3428.7,   2.3629,  34.8747,2,  34.8751,2,    236.9,2,   237.3,2,    50.4,6,    23.5,6,    0.00,6,   1.578,6,   0.004,2,   0.002,2,   0.054,2,-999.000000,9,  2347.3,4,  -999.0,9, -999.00,   7.7126,2,       25,-999.000,1,-999.0000,1, -999.00,9,  -999.0,9,  -999.0,   0.083,3, -999.00,9,-999.0000,9, -999.00,9, 3428.70,  -999.0,9,   2.0817,     27.865,    35.0395,2,     -999.0,9,     -999.0,9,     -999.0,     -999.0,9,     -999.0
33RO20110926,        A10,      46,          1,          2,      11702,2,20111009,       1835,   -29.9995,    -7.9584,       4125,  3733.1,   2.3753,  34.8778,2,  34.8962,4,    237.2,2,   235.6,2,    50.7,2,    23.6,2,    0.00,2,   1.580,2,   0.004,2,   0.003,2,   0.031,2,-999.000000,9,  2350.3,4,  -999.0,9, -999.00,   7.7156,2,       25,-999.000,1,-999.0000,1, -999.00,9,  -999.0,9,  -999.0,   0.080,3, -999.00,9,-999.0000,9, -999.00,9, 3733.10,  -999.0,9,   2.0607,     27.884,    35.0608,2,     -999.0,9,     -999.0,9,     -999.0,     -999.0,9,     -999.0
33RO20110926,        A10,      46,          1,          1,      11701,2,20111009,       1835,   -29.9995,    -7.9584,       4125,  4135.9,   2.4057,  34.8789,2,  34.8809,2,    236.9,2,   236.9,2,    51.3,2,    23.7,2,    0.00,2,   1.583,2,   0.005,6,   0.004,6,   0.033,6,-999.000000,9,    2355,4,  -999.0,9, -999.00,   7.7165,6,       25,-999.000,1,-999.0000,1, -999.00,9,  -999.0,9,  -999.0,   0.072,3, -999.00,9,-999.0000,9, -999.00,9, 4135.90,  -999.0,9,   2.0445,     27.873,    35.0453,2,     -999.0,9,     -999.0,9,     -999.0,     -999.0,9,     -999.0