BOTTLE,20220815CCHSIOAMB
EXPOCODE,SECT_ID,STNNBR,CASTNO,SAMPNO,BTLNBR,BTLNBR_FLAG_W,DATE,TIME,LATITUDE,LONGITUDE,DEPTH,CTDPRS,CTDTMP,CTDSAL,CTDSAL_FLAG_W,SALNTY,SALNTY_FLAG_W,CTDOXY,CTDOXY_FLAG_W,OXYGEN,OXYGEN_FLAG_W,SILCAT,SILCAT_FLAG_W,NITRAT,NITRAT_FLAG_W,NITRIT,NITRIT_FLAG_W,PHSPHT,PHSPHT_FLAG_W,CFC-11,CFC-11_FLAG_W,CFC-12,CFC-12_FLAG_W,SF6,SF6_FLAG_W,TCARBN,TCARBN_FLAG_W,ALKALI,ALKALI_FLAG_W,PCO2,PCO2_FLAG_W,PCO2TMP,PH_SWS,PH_SWS_FLAG_W,PH_TMP,TRITUM,TRITUM_FLAG_W,HELIUM,HELIUM_FLAG_W,DELC13,DELC13_FLAG_W,DELC14,DELC14_FLAG_W,C14ERR,CCL4,CCL4_FLAG_W,DELO18,DELO18_FLAG_W,DOC,DOC_FLAG_W,TDN,TDN_FLAG_W,CTDRAW,14C-DOC,14C-DOC_FLAG_W,THETA,SIG0,SALTREF,SALTREF_FLAG_W,BLACKC,BLACKC_FLAG_W,PIGMENTS,PIGMENTS_FLAG_W,14C-DOCERR,13C-DOC,13C-DOC_FLAG_W,13C-DOCERR
,,,,,,,,,,,METERS,DBAR,ITS-90,PSS-78,,PSS-78,,UMOL/KG,,UMOL/KG,,UMOL/KG,,UMOL/KG,,UMOL/KG,,UMOL/KG,,PMOL/KG,,PMOL/KG,,FMOL/KG,,UMOL/KG,,UMOL/KG,,UATM,,DEG C,,,DEG C,TU,,NMOL/KG,,/MILLE,,/MILLE,,/MILLE,PMOL/KG,,/MILLE,,UMOL/KG,,UMOL/KG,,DBAR,/MILLE,,DEG C,KG/M^3,G/KG,,,,,,/MILLE,/MILLE,,/MILLE
33RO20110926,        A10,      81,          1,         24,      11714,2,20111021,       1637,   -29.9999,   -31.8917,       3984,     3.8,  17.5683,  35.9173,2,  35.9169,2,    238.9,2,   239.3,2,     0.8,2,     0.0,2,    0.00,2,   0.072,4,   2.405,6,   1.441,6,   1.457,6,     2084.4,6,  2355.2,3,  -999.0,9, -999.00,    7.994,6,       25,-999.000,9,-999.0000,9,    1.13,2,    50.0,2,     3.2,   3.120,4, -999.00,9,  62.9854,2,    4.66,2,    3.80,  -999.0,9,  17.5676,     26.081,    36.0863,2,     -999.0,9,     -999.0,1,     -999.0,     -999.0,9,     -999.0
33RO20110926,        A10,      81,          1,         23,      11713,2,20111021,       1637,   -29.9999,   -31.8917,       3984,    40.0,  17.4339,  35.9151,2,  35.9213,2,    239.2,2,   239.4,2,     0.9,2,     0.0,2,    0.00,2,   0.079,4,   2.414,2,   1.435,2,   1.406,2,       2083,2,  2359.7,2,  -999.0,9, -999.00,   7.9849,2,       25,-999.000,9,-999.0000,9, -999.00,9,  -999.0,9,  -999.0,   3.605,4, -999.00,9,  62.8878,2,    3.79,2,   40.00,  -999.0,9,  17.4272,     26.118,    36.0906,2,     -999.0,9,     -999.0,9,     -999.0,     -999.0,9,     -999.0
33RO20110926,        A10,      81,          1,         22,      11712,2,20111021,       1637,   -29.9999,   -31.8917,       3984,    90.0,  17.2309,  35.9027,2,  35.9023,2,    237.2,2,   239.3,2,     0.8,2,     0.1,2,    0.01,2,   0.090,4,   2.426,2,   1.450,2,   1.465,2,       2085,2,  2366.9,4,  -999.0,9, -999.00,   7.9839,4,       25,-999.000,9,-999.0000,9, -999.00,9,  -999.0,9,  -999.0,   3.462,4, -999.00,9,  62.3317,2,    3.03,2,   90.00,  -999.0,9,  17.2158,     26.155,    36.0716,2,     -999.0,9,     -999.0,1,     -999.0,     -999.0,9,     -999.0
33RO20110926,        A10,      81,          1,         21,      11010,2,20111021,       1637,   -29.9999,   -31.8917,       3984,   160.5,  15.8450,  35.6345,2,  35.6342,2,    218.3,2,   217.8,2,     1.7,2,     3.6,2,    0.02,2,   0.288,4,   2.598,2,   1.528,2,   1.376,2,     2105.7,3,  2288.8,4,  -999.0,9, -999.00,   7.8056,4,       25,-999.000,9,-999.0000,9, -999.00,9,  -999.0,9,  -999.0,   1.363,4, -999.00,9,   53.678,2,    6.32,2,  160.50,  -999.0,9,  15.8197,     26.275,    35.8022,2,     -999.0,9,     -999.0,1,     -999.0,     -999.0,9,     -999.0
33RO20110926,        A10,      81,          1,         20,      11715,2,20111021,       1637,   -29.9999,   -31.8917,       3984,   210.1,  14.8369,  35.4718,2,  35.4723,2,    212.9,2,   212.9,2,     2.1,6,     5.9,6,    0.01,6,   0.396,4,   2.770,2,   1.602,2,   1.330,2,     2116.2,3,  2332.1,4,  -999.0,9, -999.00,   7.8877,4,       25,-999.000,9,-999.0000,9, -999.00,9,  -999.0,9,  -999.0,   0.874,3, -999.00,9,  54.2732,2, -999.00,9,  210.10,  -999.0,9,  14.8052,     26.380,    35.6396,2,     -999.0,9,     -999.0,9,     -999.0,     -999.0,9,     -999.0
33RO20110926,        A10,      81,          1,         19,      11007,2,20111021,       1637,   -29.9999,   -31.8917,       3984,   279.6,  13.6935,  35.3125,2,  35.3121,2,    213.8,2,     213,2,     2.8,2,     8.4,2,    0.01,2,   0.530,4,   2.917,2,   1.661,2,   1.311,2,     2122.9,3,  2319.4,4,  -999.0,9, -999.00,   7.8608,4,       25,-999.000,9,-999.0000,9, -999.00,9,  -999.0,9,  -999.0,   0.967,3, -999.00,9,  48.4293,2, -999.00,9,  279.60,  -999.0,9,  13.6535,     26.503,    35.4786,2,     -999.0,9,     -999.0,9,     -999.0,     -999.0,9,     -999.0
33RO20110926,        A10,      81,          1,         18,      11710,2,20111021,       1637,   -29.9999,   -31.8917,       3984,   364.5,  12.5284,  35.1517,2,  35.1572,2,    214.9,2,   212.7,2,     3.6,2,    11.0,2,    0.00,2,   0.657,4,   3.054,2,   1.711,2,   1.207,2,     2130.1,3,  2311.6,4,  -999.0,9, -999.00,   7.8317,4,       25,-999.000,9,-999.0000,9, -999.00,9,  -999.0,9,  -999.0,   0.846,3, -999.00,9,-999.0000,5, -999.00,9,  364.50,  -999.0,9,  12.4791,     26.614,    35.3230,2,     -999.0,9,     -999.0,9,     -999.0,     -999.0,9,     -999.0
33RO20110926,        A10,      81,          1,         17,      11023,2,20111021,       1637,   -29.9999,   -31.8917,       3984,   443.8,  11.2975,  34.9838,2,  34.9858,2,    210.6,2,   210.4,2,     5.0,2,    14.1,2,    0.00,2,   0.818,4,   3.152,2,   1.722,2,   1.077,2,     2137.8,3,  2303.5,4,  -999.0,9, -999.00,   7.7947,4,       25,-999.000,9,-999.0000,9, -999.00,9,  -999.0,9,  -999.0,   1.286,3, -999.00,9,  47.8146,2, -999.00,9,  443.80,  -999.0,9,  11.2412,     26.717,    35.1508,2,     -999.0,9,     -999.0,9,     -999.0,     -999.0,9,     -999.0
33RO20110926,        A10,      81,          1,         16,      11709,2,20111021,       1637,   -29.9999,   -31.8917,       3984,   534.7,   9.5800,  34.7523,2,  34.7567,2,    205.9,2,   205.1,2,     7.5,6,    18.5,6,    0.01,6,   1.048,4,   3.199,2,   1.697,2,   0.953,2,     2151.4,3,  2292.5,4,  -999.0,9, -999.00,   7.7396,4,       25,-999.000,9,-999.0000,9, -999.00,9,  -999.0,9,  -999.0,   1.380,3, -999.00,9,  45.6293,2, -999.00,9,  534.70,  -999.0,9,   9.5187,     26.841,    34.9206,2,     -999.0,9,     -999.0,9,     -999.0,     -999.0,9,     -999.0
33RO20110926,        A10,      81,          1,         15,      11006,2,20111021,       1637,   -29.9999,   -31.8917,       3984,   634.7,   7.6650,  34.5378,2,  34.5405,2,    206.3,2,   205.3,2,    11.6,2,    23.4,2,    0.01,2,   1.322,4,   3.184,2,   1.634,2,   0.805,2,       2166,3,  2287.4,2,  -999.0,9, -999.00,   7.6935,2,       25,-999.000,9,-999.0000,9, -999.00,9,  -999.0,9,  -999.0,   1.877,3, -999.00,9,  44.6341,2, -999.00,9,  634.70,  -999.0,9,   7.6009,     26.967,    34.7034,2,     -999.0,9,     -999.0,9,     -999.0,     -999.0,9,     -999.0
33RO20110926,        A10,      81,          1,         14,      11708,2,20111021,       1637,   -29.9999,   -31.8917,       3984,   745.2,   5.9305,  34.3732,2,  34.3737,2,    218.4,2,     218,2,    15.6,2,    26.4,2,    0.00,2,   1.506,4,   3.202,2,   1.607,2,   0.775,2,     2174.3,3,  2282.5,2,  -999.0,9, -999.00,   7.6655,2,       25,-999.000,9,-999.0000,9, -999.00,9,  -999.0,9,  -999.0,   2.525,3, -999.00,9,  41.9415,2, -999.00,9,  745.20,  -999.0,9,   5.8646,     27.075,    34.5358,2,     -999.0,9,     -999.0,9,     -999.0,     -999.0,9,     -999.0
33RO20110926,        A10,      81,          1,         13,      11031,2,20111021,       1637,   -29.9999,   -31.8917,       3984,   831.2,   5.0117,  34.3090,2,  34.3095,2,    224.5,2,   224.3,2,    19.2,2,    28.1,2,    0.00,2,   1.615,4,   3.094,2,   1.535,2,   0.664,2,     2180.4,3,  2272.7,4,  -999.0,9, -999.00,   7.6192,4,       25,-999.000,9,-999.0000,9, -999.00,9,  -999.0,9,  -999.0,   2.809,3, -999.00,9,  39.6098,2, -999.00,9,  831.20,  -999.0,9,   4.9436,     27.134,    34.4713,2,     -999.0,9,     -999.0,9,     -999.0,     -999.0,9,     -999.0
33RO20110926,        A10,      81,          1,         12,      11027,2,20111021,       1637,   -29.9999,   -31.8917,       3984,   920.5,   4.1429,  34.2807,2,  34.2810,2,    224.5,2,   224.3,2,    25.6,2,    29.8,2,    0.00,2,   1.749,4,   2.705,2,   1.321,2,   0.563,2,     2189.8,3,  2292.3,2,  -999.0,9, -999.00,   7.6372,2,       25,-999.000,9,-999.0000,9, -999.00,9,  -999.0,9,  -999.0,   2.763,3, -999.00,9,  41.7268,2, -999.00,9,  920.50,  -999.0,9,   4.0731,     27.207,    34.4426,2,     -999.0,9,     -999.0,9,     -999.0,     -999.0,9,     -999.0
33RO20110926,        A10,      81,          1,         11,      11707,2,20111021,       1637,   -29.9999,   -31.8917,       3984,  1015.2,   3.7012,  34.3073,2,  34.3078,2,    215.1,2,   215.5,2,    32.5,2,    31.1,2,    0.00,2,   1.863,4,   2.155,6,   1.048,6,   0.413,6,     2201.9,2,  2298.3,2,  -999.0,9, -999.00,   7.6222,2,       25,-999.000,9,-999.0000,9, -999.00,9,  -999.0,9,  -999.0,   2.403,3, -999.00,9,  41.5122,2, -999.00,9, 1015.20,  -999.0,9,   3.6270,     27.273,    34.4695,2,     -999.0,9,     -999.0,9,     -999.0,     -999.0,9,     -999.0
33RO20110926,        A10,      81,          1,         10,      11003,2,20111021,       1637,   -29.9999,   -31.8917,       3984,  1134.1,   3.3672,  34.3793,2,  34.3837,2,    200.2,2,   200.1,2,    42.5,6,    32.4,6,    0.01,6,   1.998,4,   1.328,2,   0.639,2,   0.217,2,     2217.4,2,  2308.4,6,  -999.0,9, -999.00,   7.6012,6,       25,-999.000,9,-999.0000,9, -999.00,9,  -999.0,9,  -999.0,   1.690,3, -999.00,9,  38.7122,2, -999.00,9, 1134.10,  -999.0,9,   3.2860,     27.366,    34.5458,2,     -999.0,9,     -999.0,9,     -999.0,     -999.0,9,     -999.0
33RO20110926,        A10,      81,          1,          9,      11706,2,20111021,       1637,   -29.9999,   -31.8917,       3984,  1320.1,   3.1146,  34.5121,2,  34.5113,2,    187.7,2,   188.2,2,    51.4,2,    32.6,2,    0.00,2,   2.059,4,   0.580,2,   0.278,2,   0.126,2,     2231.1,2,  2319.9,2,  -999.0,9, -999.00,   7.5962,2,       25,-999.000,9,-999.0000,9, -999.00,9,  -999.0,9,  -999.0,   0.965,3, -999.00,9,  39.6585,2, -999.00,9, 1320.10,  -999.0,9,   3.0204,     27.493,    34.6740,2,     -999.0,9,     -999.0,9,     -999.0,     -999.0,9,     -999.0
33RO20110926,        A10,      81,          1,          8,      11033,2,20111021,       1637,   -29.9999,   -31.8917,       3984,  1601.6,   2.9174,  34.6596,2,  34.6595,2,    194.0,2,   193.7,2,    53.6,2,    30.3,2,    0.00,2,   1.949,4,   0.168,2,   0.081,2,   0.000,2,     2228.1,6,  2323.5,2,  -999.0,9, -999.00,   7.6144,2,       25,-999.000,9,-999.0000,9, -999.00,9,  -999.0,9,  -999.0,   0.414,3, -999.00,9,  40.1073,2, -999.00,9, 1601.60,  -999.0,9,   2.8018,     27.631,    34.8229,2,     -999.0,9,     -999.0,9,     -999.0,     -999.0,9,     -999.0
33RO20110926,        A10,      81,          1,          7,      11705,2,20111021,       1637,   -29.9999,   -31.8917,       3984,  1850.3,   2.7977,  34.7568,2,  34.7570,2,    208.2,2,   208.2,2,    51.1,6,    27.7,6,    0.00,6,   1.784,4,   0.053,2,   0.027,2,   0.000,2,     2217.9,2,  2326.7,2,  -999.0,9, -999.00,   7.6505,2,       25,-999.000,9,-999.0000,9, -999.00,9,  -999.0,9,  -999.0,   0.214,3, -999.00,9,  40.3024,2, -999.00,9, 1850.30,  -999.0,9,   2.6620,     27.721,    34.9209,2,     -999.0,9,     -999.0,9,     -999.0,     -999.0,9,     -999.0
33RO20110926,        A10,      81,          1,          6,      11029,2,20111021,       1637,   -29.9999,   -31.8917,       3984,  2129.7,   2.7673,  34.8266,2,  34.8282,2,    224.9,2,   224.9,2,    45.5,2,    25.1,2,    0.00,2,   1.608,4,   0.020,2,   0.012,2,   0.000,2,     2204.8,2,  2326.5,2,  -999.0,9, -999.00,   7.6835,2,       25,-999.000,9,-999.0000,9, -999.00,9,  -999.0,9,  -999.0,   0.133,3, -999.00,9,  37.5122,2, -999.00,9, 2129.70,  -999.0,9,   2.6069,     27.781,    34.9924,6,     -999.0,9,     -999.0,9,     -999.0,     -999.0,9,     -999.0
33RO20110926,        A10,      81,          1,          5,      11704,2,20111021,       1637,   -29.9999,   -31.8917,       3984,  2374.1,   2.7775,  34.8693,2,  34.8707,2,    236.4,2,     236,2,    40.0,2,    23.2,2,    0.00,2,   1.470,4,   0.014,2,   0.009,2,   0.000,2,     2193.9,2,  2326.2,2,  -999.0,9, -999.00,   7.7065,2,       25,-999.000,9,-999.0000,9, -999.00,9,  -999.0,9,  -999.0,   0.116,3, -999.00,9,-999.0000,5, -999.00,9, 2374.10,  -999.0,9,   2.5940,     27.818,    35.0351,2,     -999.0,9,     -999.0,9,     -999.0,     -999.0,9,     -999.0
33RO20110926,        A10,      81,          1,          4,      11030,2,20111021,       1637,   -29.9999,   -31.8917,       3984,  2800.3,   2.7204,  34.8960,2,  34.8963,2,    246.1,2,   245.8,2,    37.1,2,    21.9,2,    0.00,2,   1.385,4,   0.017,2,   0.010,2,   0.000,2,     2187.9,2,  2326.6,2,  -999.0,9, -999.00,   7.7236,2,       25,-999.000,9,-999.0000,9, -999.00,9,  -999.0,9,  -999.0,   0.134,3, -999.00,9,-999.0000,5, -999.00,9, 2800.30,  -999.0,9,   2.4962,     27.847,    35.0608,2,     -999.0,9,     -999.0,9,     -999.0,     -999.0,9,     -999.0
33RO20110926,        A10,      81,          1,          3,      11703,2,20111021,       1637,   -29.9999,   -31.8917,       3984,  3299.4,   2.4223,  34.8816,2,  34.8825,2,    247.2,2,   247.1,2,    44.9,6,    22.6,6,    0.00,6,   1.464,4,   0.026,2,   0.015,2,   0.028,2,     2194.6,2,  2333.8,2,  -999.0,9, -999.00,   7.7204,2,       25,-999.000,9,-999.0000,9, -999.00,9,  -999.0,9,  -999.0,   0.169,3, -999.00,9,  40.0195,2, -999.00,9, 3299.40,  -999.0,9,   2.1533,     27.865,    35.0470,2,     -999.0,9,     -999.0,9,     -999.0,     -999.0,9,     -999.0
33RO20110926,        A10,      81,          1,          2,      11702,2,20111021,       1637,   -29.9999,   -31.8917,       3984,  3800.9,   1.6556,  34.8010,2,  34.8028,2,    233.2,2,   232.2,2,    76.4,2,    26.6,2,    0.00,2,   1.901,4,   0.067,2,   0.035,2,   0.075,2,     2226.5,2,    2350,2,  -999.0,9, -999.00,   7.6753,2,       25,-999.000,9,-999.0000,9, -999.00,9,  -999.0,9,  -999.0,   0.217,3, -999.00,9,  40.8878,2, -999.00,9, 3800.90,  -999.0,9,   1.3531,     27.863,    34.9670,2,     -999.0,9,     -999.0,9,     -999.0,     -999.0,9,     -999.0
33RO20110926,        A10,      81,          1,          1,      11701,2,20111021,       1637,   -29.9999,   -31.8917,       3984,  3994.8,   1.2778,  34.7596,2,  34.7624,2,    226.2,2,   225.6,2,    92.0,2,    28.8,2,    0.00,2,   2.128,4,   0.114,6,   0.055,6,   0.014,6,       2244,6,  2356.4,6,  -999.0,9, -999.00,   7.6524,6,       25,-999.000,9,-999.0000,9, -999.00,9,  -999.0,9,  -999.0,   0.283,3, -999.00,9,  37.1122,2, -999.00,9, 3994.80,  -999.0,9,   0.9652,     27.857,    34.9263,2,     -999.0,9,     -999.0,9,     -999.0,     -999.0,9,     -999.0