BOTTLE,20220815CCHSIOAMB
EXPOCODE,SECT_ID,STNNBR,CASTNO,SAMPNO,BTLNBR,BTLNBR_FLAG_W,DATE,TIME,LATITUDE,LONGITUDE,DEPTH,CTDPRS,CTDTMP,CTDSAL,CTDSAL_FLAG_W,SALNTY,SALNTY_FLAG_W,CTDOXY,CTDOXY_FLAG_W,OXYGEN,OXYGEN_FLAG_W,SILCAT,SILCAT_FLAG_W,NITRAT,NITRAT_FLAG_W,NITRIT,NITRIT_FLAG_W,PHSPHT,PHSPHT_FLAG_W,CFC-11,CFC-11_FLAG_W,CFC-12,CFC-12_FLAG_W,SF6,SF6_FLAG_W,TCARBN,TCARBN_FLAG_W,ALKALI,ALKALI_FLAG_W,PCO2,PCO2_FLAG_W,PCO2TMP,PH_SWS,PH_SWS_FLAG_W,PH_TMP,TRITUM,TRITUM_FLAG_W,HELIUM,HELIUM_FLAG_W,DELC13,DELC13_FLAG_W,DELC14,DELC14_FLAG_W,C14ERR,CCL4,CCL4_FLAG_W,DELO18,DELO18_FLAG_W,DOC,DOC_FLAG_W,TDN,TDN_FLAG_W,CTDRAW,14C-DOC,14C-DOC_FLAG_W,THETA,SIG0,SALTREF,SALTREF_FLAG_W,BLACKC,BLACKC_FLAG_W,PIGMENTS,PIGMENTS_FLAG_W,14C-DOCERR,13C-DOC,13C-DOC_FLAG_W,13C-DOCERR
,,,,,,,,,,,METERS,DBAR,ITS-90,PSS-78,,PSS-78,,UMOL/KG,,UMOL/KG,,UMOL/KG,,UMOL/KG,,UMOL/KG,,UMOL/KG,,PMOL/KG,,PMOL/KG,,FMOL/KG,,UMOL/KG,,UMOL/KG,,UATM,,DEG C,,,DEG C,TU,,NMOL/KG,,/MILLE,,/MILLE,,/MILLE,PMOL/KG,,/MILLE,,UMOL/KG,,UMOL/KG,,DBAR,/MILLE,,DEG C,KG/M^3,G/KG,,,,,,/MILLE,/MILLE,,/MILLE
33RO20110926,        A10,      69,          1,         24,      11714,2,20111018,       0854,   -30.0170,   -24.9774,       5715,     5.4,  17.4692,  35.7981,2,  35.7974,2,    237.8,2,   239.5,2,     1.0,2,     0.1,4,    0.01,2,   0.111,4,   2.412,6,   1.454,6,   1.477,6,     2080.7,6,  2352.2,6,  -999.0,9, -999.00,   7.9774,6,       25,-999.000,9,-999.0000,9, -999.00,9,  -999.0,9,  -999.0,   3.524,4, -999.00,9,  62.9463,2,    5.77,2,    5.40,  -999.0,9,  17.4683,     26.014,    35.9662,2,     -999.0,9,     -999.0,1,     -999.0,     -999.0,9,     -999.0
33RO20110926,        A10,      69,          1,         23,      11713,2,20111018,       0854,   -30.0170,   -24.9774,       5715,    25.1,  17.3487,  35.8123,2,  35.8210,2,    238.1,2,   241.9,2,     1.0,2,     0.1,4,    0.01,2,   0.115,4,   2.441,2,   1.470,2,   1.507,2,     2084.2,2,  2352.2,2,  -999.0,9, -999.00,    7.981,2,       25,-999.000,9,-999.0000,9, -999.00,9,  -999.0,9,  -999.0,   3.830,4, -999.00,9,   63.161,2,    4.09,2,   25.10,  -999.0,9,  17.3445,     26.043,    35.9899,2,     -999.0,9,     -999.0,9,     -999.0,     -999.0,9,     -999.0
33RO20110926,        A10,      69,          1,         22,      11712,2,20111018,       0854,   -30.0170,   -24.9774,       5715,    64.3,  16.6908,  35.7746,2,  35.7675,2,    235.6,2,   240.1,2,     1.0,2,     0.2,4,    0.08,2,   0.137,4,   2.468,2,   1.484,2,   1.499,2,     2085.1,2,  2353.2,2,  -999.0,9, -999.00,   7.9648,2,       25,-999.000,9,-999.0000,9, -999.00,9,  -999.0,9,  -999.0,   3.224,4, -999.00,9,  58.6634,2,    3.78,2,   64.30,  -999.0,9,  16.6803,     26.180,    35.9362,2,     -999.0,9,     -999.0,1,     -999.0,     -999.0,9,     -999.0
33RO20110926,        A10,      69,          1,         21,      11010,2,20111018,       0854,   -30.0170,   -24.9774,       5715,   125.1,  16.2337,  35.7193,2,  35.7183,2,    233.7,2,   238.2,2,     1.1,2,     0.7,4,    0.43,2,   0.167,4,   2.506,2,   1.507,2,   1.478,2,     2086.7,2,  2349.7,2,  -999.0,9, -999.00,   7.9583,2,       25,-999.000,9,-999.0000,9, -999.00,9,  -999.0,9,  -999.0,   3.633,4, -999.00,9,  53.0049,2,    4.52,2,  125.10,  -999.0,9,  16.2136,     26.251,    35.8868,2,     -999.0,9,     -999.0,1,     -999.0,     -999.0,9,     -999.0
33RO20110926,        A10,      69,          1,         20,      11715,2,20111018,       0854,   -30.0170,   -24.9774,       5715,   175.2,  14.9796,  35.4782,2,  35.4752,2,    215.4,2,   217.1,2,     2.0,2,     5.0,4,    0.02,2,   0.385,4,   2.697,2,   1.591,2,   1.388,2,     2108.2,2,  2329.6,2,  -999.0,9, -999.00,   7.8958,2,       25,-999.000,9,-999.0000,9, -999.00,9,  -999.0,9,  -999.0,   1.437,4, -999.00,9,  49.8829,2,    8.33,2,  175.20,  -999.0,9,  14.9530,     26.348,    35.6425,2,     -999.0,9,     -999.0,9,     -999.0,     -999.0,9,     -999.0
33RO20110926,        A10,      69,          1,         19,      11007,2,20111018,       0854,   -30.0170,   -24.9774,       5715,   255.1,  13.4206,  35.2606,2,  35.2606,2,    214.2,2,   214.7,2,     2.9,2,     8.3,4,    0.02,2,   0.557,4,   2.927,2,   1.688,2,   1.292,2,     2119.9,2,  2319.1,2,  -999.0,9, -999.00,   7.8518,2,       25,-999.000,9,-999.0000,9, -999.00,9,  -999.0,9,  -999.0,   1.319,3, -999.00,9,  49.1512,2, -999.00,9,  255.10,  -999.0,9,  13.3846,     26.513,    35.4268,2,     -999.0,9,     -999.0,9,     -999.0,     -999.0,9,     -999.0
33RO20110926,        A10,      69,          1,         18,      11710,2,20111018,       0854,   -30.0170,   -24.9774,       5715,   353.6,  12.0243,  35.0811,2,  35.0831,2,    214.6,2,   213.8,2,     3.9,6,    11.1,4,    0.01,6,   0.707,4,   3.096,2,   1.731,2,   1.284,2,     2129.8,2,  2311.1,2,  -999.0,9, -999.00,   7.8167,2,       25,-999.000,9,-999.0000,9, -999.00,9,  -999.0,9,  -999.0,   1.470,4, -999.00,9,  48.1756,2, -999.00,9,  353.60,  -999.0,9,  11.9778,     26.660,    35.2485,2,     -999.0,9,     -999.0,9,     -999.0,     -999.0,9,     -999.0
33RO20110926,        A10,      69,          1,         17,      11023,2,20111018,       0854,   -30.0170,   -24.9774,       5715,   459.8,  10.3477,  34.8489,2,  34.8521,2,    209.6,2,   209.3,2,     6.1,6,    15.6,4,    0.01,6,   0.930,4,   3.184,2,   1.745,2,   1.148,2,     2141.9,2,  2300.5,2,  -999.0,9, -999.00,   7.7656,2,       25,-999.000,9,-999.0000,9, -999.00,9,  -999.0,9,  -999.0,   1.960,3, -999.00,9,  47.5024,2, -999.00,9,  459.80,  -999.0,9,  10.2926,     26.782,    35.0164,4,     -999.0,9,     -999.0,9,     -999.0,     -999.0,9,     -999.0
33RO20110926,        A10,      69,          1,         16,      11709,2,20111018,       0854,   -30.0170,   -24.9774,       5715,   589.8,   8.0012,  34.5640,2,  34.5648,2,    209.3,2,   207.6,2,    10.4,2,    21.5,4,    0.01,2,   1.261,4,   3.243,2,   1.712,2,   0.882,2,     2158.1,2,    2288,2,  -999.0,9, -999.00,   7.6885,2,       25,-999.000,9,-999.0000,9, -999.00,9,  -999.0,9,  -999.0,   2.856,3, -999.00,9,  42.3707,2, -999.00,9,  589.80,  -999.0,9,   7.9404,     26.940,    34.7278,2,     -999.0,9,     -999.0,9,     -999.0,     -999.0,9,     -999.0
33RO20110926,        A10,      69,          1,         15,      11006,2,20111018,       0854,   -30.0170,   -24.9774,       5715,   719.4,   5.7913,  34.3436,2,  34.3433,2,    223.4,2,   205.1,4,    14.6,6,    25.0,4,    0.01,6,   1.477,4,   3.385,2,   1.735,2,   0.868,2,       2166,3,  2283.2,2,  -999.0,9, -999.00,   7.6645,2,       25,-999.000,9,-999.0000,9, -999.00,9,  -999.0,9,  -999.0,   4.196,3, -999.00,9,  40.8098,2, -999.00,9,  719.40,  -999.0,9,   5.7287,     27.068,    34.5053,2,     -999.0,9,     -999.0,9,     -999.0,     -999.0,9,     -999.0
33RO20110926,        A10,      69,          1,         14,      11708,2,20111018,       0854,   -30.0170,   -24.9774,       5715,   850.2,   4.7146,  34.3180,2,  34.3178,2,    218.7,2,   215.9,2,    23.6,2,    28.2,4,    0.01,2,   1.698,4,   2.735,2,   1.355,2,   0.629,2,     2184.1,2,  2289.2,2,  -999.0,9, -999.00,   7.6334,2,       25,-999.000,9,-999.0000,9, -999.00,9,  -999.0,9,  -999.0,   3.535,3, -999.00,9,  39.4146,2, -999.00,9,  850.20,  -999.0,9,   4.6468,     27.174,    34.4797,2,     -999.0,9,     -999.0,9,     -999.0,     -999.0,9,     -999.0
33RO20110926,        A10,      69,          1,         13,      11031,2,20111018,       0854,   -30.0170,   -24.9774,       5715,  1047.4,   3.6491,  34.3748,2,  34.3736,2,    200.2,2,   198.8,2,    39.4,2,    30.9,4,    0.01,2,   1.963,4,   1.525,2,   0.743,2,   0.241,2,     2210.3,2,  2302.8,2,  -999.0,9, -999.00,   7.6004,2,       25,-999.000,9,-999.0000,9, -999.00,9,  -999.0,9,  -999.0,   2.639,3, -999.00,9,  42.2927,2, -999.00,9, 1047.40,  -999.0,9,   3.5726,     27.331,    34.5357,2,     -999.0,9,     -999.0,9,     -999.0,     -999.0,9,     -999.0
33RO20110926,        A10,      69,          1,         12,      11027,2,20111018,       0854,   -30.0170,   -24.9774,       5715,  1250.2,   3.1342,  34.4844,2,  34.4839,2,    188.2,2,   187.7,2,    50.9,2,    31.3,4,    0.01,2,   2.075,4,   0.707,2,   0.341,2,   0.107,2,     2226.9,6,  2324.1,2,  -999.0,9, -999.00,   7.6006,2,       25,-999.000,9,-999.0000,9, -999.00,9,  -999.0,9,  -999.0,   1.505,3, -999.00,9,   41.122,2, -999.00,9, 1250.20,  -999.0,9,   3.0457,     27.469,    34.6465,2,     -999.0,9,     -999.0,9,     -999.0,     -999.0,9,     -999.0
33RO20110926,        A10,      69,          1,         11,      11707,2,20111018,       0854,   -30.0170,   -24.9774,       5715,  1451.3,   2.9233,  34.6119,2,  34.6121,2,    189.7,2,   189.4,2,    54.8,2,    29.6,4,    0.01,2,   2.025,4,   0.281,2,   0.134,2,   0.068,2,     2228.9,2,  2328.4,2,  -999.0,9, -999.00,   7.5899,2,       25,-999.000,9,-999.0000,9, -999.00,9,  -999.0,9,  -999.0,   0.852,3, -999.00,9,  38.9073,2, -999.00,9, 1451.30,  -999.0,9,   2.8203,     27.592,    34.7753,2,     -999.0,9,     -999.0,9,     -999.0,     -999.0,9,     -999.0
33RO20110926,        A10,      69,          1,         10,      11003,2,20111018,       0854,   -30.0170,   -24.9774,       5715,  1749.7,   2.7793,  34.7433,2,  34.7461,2,    205.8,2,   205.2,2,    52.6,2,    27.2,4,    0.01,2,   1.841,4,   0.076,6,   0.037,6,   0.000,6,     2217.9,2,  2332.7,2,  -999.0,9, -999.00,   7.6336,2,       25,-999.000,9,-999.0000,9, -999.00,9,  -999.0,9,  -999.0,   0.371,3, -999.00,9,  42.5268,3, -999.00,9, 1749.70,  -999.0,9,   2.6526,     27.714,    34.9099,2,     -999.0,9,     -999.0,9,     -999.0,     -999.0,9,     -999.0
33RO20110926,        A10,      69,          1,          9,      11706,2,20111018,       0854,   -30.0170,   -24.9774,       5715,  2049.5,   2.6939,  34.8138,2,  34.8131,2,    221.3,2,   221.5,2,    48.3,2,    24.9,4,    0.01,2,   1.675,4,   0.026,2,   0.014,2,   0.000,2,     2205.4,2,  2332.3,2,  -999.0,9, -999.00,   7.6645,2,       25,-999.000,9,-999.0000,9, -999.00,9,  -999.0,9,  -999.0,   0.206,3, -999.00,9,  40.8683,2, -999.00,9, 2049.50,  -999.0,9,   2.5419,     27.777,    34.9772,2,     -999.0,9,     -999.0,9,     -999.0,     -999.0,9,     -999.0
33RO20110926,        A10,      69,          1,          8,      11033,2,20111018,       0854,   -30.0170,   -24.9774,       5715,  2350.1,   2.6874,  34.8542,2,  34.8536,2,    233.4,2,     233,2,    43.8,2,    23.2,4,    0.01,2,   1.556,4,   0.011,2,   0.006,2,   0.000,2,     2195.3,2,  2330.9,2,  -999.0,9, -999.00,   7.6875,2,       25,-999.000,9,-999.0000,9, -999.00,9,  -999.0,9,  -999.0,   0.156,3, -999.00,9,  42.9756,2, -999.00,9, 2350.10,  -999.0,9,   2.5077,     27.812,    35.0179,2,     -999.0,9,     -999.0,9,     -999.0,     -999.0,9,     -999.0
33RO20110926,        A10,      69,          1,          7,      11705,2,20111018,       0854,   -30.0170,   -24.9774,       5715,  2757.8,   2.7056,  34.8929,2,  34.8919,2,    245.2,2,     244,2,    38.2,6,    21.1,4,    0.01,6,   1.416,4,   0.005,2,   0.004,2,   0.000,2,     2184.9,2,  2326.7,2,  -999.0,9, -999.00,   7.7105,2,       25,-999.000,9,-999.0000,9, -999.00,9,  -999.0,9,  -999.0,   0.120,3, -999.00,9,  41.1512,2, -999.00,9, 2757.80,  -999.0,9,   2.4859,     27.845,    35.0565,2,     -999.0,9,     -999.0,9,     -999.0,     -999.0,9,     -999.0
33RO20110926,        A10,      69,          1,          6,      11029,2,20111018,       0854,   -30.0170,   -24.9774,       5715,  3254.2,   2.4434,  34.8868,2,  34.8394,4,    247.6,2,   247.6,2,    43.3,2,    21.8,4,    0.01,2,   1.464,4,   0.006,2,   0.004,2,   0.036,2,     2188.2,2,  2332.4,2,  -999.0,9, -999.00,   7.7206,2,       25,-999.000,9,-999.0000,9, -999.00,9,  -999.0,9,  -999.0,   0.093,3, -999.00,9,  44.5268,2, -999.00,9, 3254.20,  -999.0,9,   2.1787,     27.829,    35.0037,2,     -999.0,9,     -999.0,9,     -999.0,     -999.0,9,     -999.0
33RO20110926,        A10,      69,          1,          5,      11704,2,20111018,       0854,   -30.0170,   -24.9774,       5715,  3753.6,   1.7391,  34.8175,2,  34.8172,2,    237.6,2,   236.5,2,    70.0,2,    25.1,4,    0.01,2,   1.842,4,   0.021,2,   0.011,2,   0.148,2,     2214.6,2,    2348,2,  -999.0,9, -999.00,   7.6753,2,       25,-999.000,9,-999.0000,9, -999.00,9,  -999.0,9,  -999.0,   0.153,3, -999.00,9,  41.5415,2, -999.00,9, 3753.60,  -999.0,9,   1.4394,     27.868,    34.9814,2,     -999.0,9,     -999.0,9,     -999.0,     -999.0,9,     -999.0
33RO20110926,        A10,      69,          1,          4,      11030,2,20111018,       0854,   -30.0170,   -24.9774,       5715,  4254.9,   1.3111,  34.7681,2,  34.7673,2,    229.0,2,   228.8,2,    88.9,2,    27.6,4,    0.01,2,   2.117,4,   0.053,2,   0.027,2,   0.120,2,     2234.6,2,  -999.0,5,  -999.0,9, -999.00,-999.0000,5,  -999.00,-999.000,9,-999.0000,9, -999.00,9,  -999.0,9,  -999.0,   0.266,3, -999.00,9,  42.1756,2, -999.00,9, 4254.90,  -999.0,9,   0.9690,     27.860,    34.9312,2,     -999.0,9,     -999.0,9,     -999.0,     -999.0,9,     -999.0
33RO20110926,        A10,      69,          1,          3,      11703,2,20111018,       0854,   -30.0170,   -24.9774,       5715,  4755.0,   1.2511,  34.7559,2,  34.7553,2,    226.7,2,   227.3,2,    93.8,2,    28.2,4,    0.01,2,   2.186,4,   0.072,2,   0.036,2,   0.106,2,     2239.1,2,  2356.6,2,  -999.0,9, -999.00,   7.6515,2,       25,-999.000,9,-999.0000,9, -999.00,9,  -999.0,9,  -999.0,   0.301,3, -999.00,9,  41.5707,2, -999.00,9, 4755.00,  -999.0,9,   0.8538,     27.858,    34.9192,2,     -999.0,9,     -999.0,9,     -999.0,     -999.0,9,     -999.0
33RO20110926,        A10,      69,          1,          2,      11702,2,20111018,       0854,   -30.0170,   -24.9774,       5715,  5255.4,   1.2668,  34.7502,2,  34.7500,2,    225.3,2,   225.1,2,    96.0,6,    28.2,4,    0.01,6,   2.220,4,   0.086,2,   0.041,2,   0.124,2,     2241.4,2,  2358.3,2,  -999.0,9, -999.00,   7.6495,2,       25,-999.000,9,-999.0000,9, -999.00,9,  -999.0,9,  -999.0,   0.341,3, -999.00,9,  40.1659,2, -999.00,9, 5255.40,  -999.0,9,   0.8087,     27.857,    34.9139,2,     -999.0,9,     -999.0,9,     -999.0,     -999.0,9,     -999.0
33RO20110926,        A10,      69,          1,          1,      11701,2,20111018,       0854,   -30.0170,   -24.9774,       5715,  5754.7,   1.3269,  34.7488,2,  34.7496,2,    225.1,2,   225.1,2,    96.2,2,    28.5,4,    0.01,2,   2.221,4,   0.091,6,   0.043,6,   0.114,6,     2241.5,6,  2357.8,6,  -999.0,9, -999.00,   7.6455,6,       25,-999.000,9,-999.0000,9, -999.00,9,  -999.0,9,  -999.0,   0.358,3, -999.00,9,  42.2244,2, -999.00,9, 5754.70,  -999.0,9,   0.8033,     27.857,    34.9135,2,     -999.0,9,     -999.0,9,     -999.0,     -999.0,9,     -999.0