BOTTLE,20220815CCHSIOAMB
EXPOCODE,SECT_ID,STNNBR,CASTNO,SAMPNO,BTLNBR,BTLNBR_FLAG_W,DATE,TIME,LATITUDE,LONGITUDE,DEPTH,CTDPRS,CTDTMP,CTDSAL,CTDSAL_FLAG_W,SALNTY,SALNTY_FLAG_W,CTDOXY,CTDOXY_FLAG_W,OXYGEN,OXYGEN_FLAG_W,SILCAT,SILCAT_FLAG_W,NITRAT,NITRAT_FLAG_W,NITRIT,NITRIT_FLAG_W,PHSPHT,PHSPHT_FLAG_W,CFC-11,CFC-11_FLAG_W,CFC-12,CFC-12_FLAG_W,SF6,SF6_FLAG_W,TCARBN,TCARBN_FLAG_W,ALKALI,ALKALI_FLAG_W,PCO2,PCO2_FLAG_W,PCO2TMP,PH_SWS,PH_SWS_FLAG_W,PH_TMP,TRITUM,TRITUM_FLAG_W,HELIUM,HELIUM_FLAG_W,DELC13,DELC13_FLAG_W,DELC14,DELC14_FLAG_W,C14ERR,CCL4,CCL4_FLAG_W,DELO18,DELO18_FLAG_W,DOC,DOC_FLAG_W,TDN,TDN_FLAG_W,CTDRAW,14C-DOC,14C-DOC_FLAG_W,THETA,SIG0,SALTREF,SALTREF_FLAG_W,BLACKC,BLACKC_FLAG_W,PIGMENTS,PIGMENTS_FLAG_W,14C-DOCERR,13C-DOC,13C-DOC_FLAG_W,13C-DOCERR
,,,,,,,,,,,METERS,DBAR,ITS-90,PSS-78,,PSS-78,,UMOL/KG,,UMOL/KG,,UMOL/KG,,UMOL/KG,,UMOL/KG,,UMOL/KG,,PMOL/KG,,PMOL/KG,,FMOL/KG,,UMOL/KG,,UMOL/KG,,UATM,,DEG C,,,DEG C,TU,,NMOL/KG,,/MILLE,,/MILLE,,/MILLE,PMOL/KG,,/MILLE,,UMOL/KG,,UMOL/KG,,DBAR,/MILLE,,DEG C,KG/M^3,G/KG,,,,,,/MILLE,/MILLE,,/MILLE
33RO20110926,        A10,      99,          1,         24,      11714,2,20111025,       1116,   -30.0001,   -39.8328,       3364,     6.2,  19.0579,  36.2778,2,  36.2710,2,    230.4,2,  -999.0,9,     0.7,2,     0.2,2,    0.00,2,   0.044,4,   2.195,2,   1.332,2,   1.330,2,     2079.4,2,  -999.0,9,  -999.0,9, -999.00,-999.0000,9,  -999.00,-999.000,9,-999.0000,9, -999.00,9,  -999.0,9,  -999.0,   2.576,4, -999.00,9,-999.0000,5, -999.00,5,    6.20,  -999.0,9,  19.0568,     25.978,    36.4420,2,     -999.0,9,     -999.0,1,     -999.0,     -999.0,9,     -999.0
33RO20110926,        A10,      99,          1,         23,      11713,2,20111025,       1116,   -30.0001,   -39.8328,       3364,    50.0,  19.0757,  36.3108,2,  36.3106,2,    230.0,2,   230.7,2,     0.7,2,     0.2,2,    0.00,2,   0.048,4,   2.209,2,   1.345,2,   1.358,2,     2078.9,6,  2380.2,6,  -999.0,9, -999.00,    8.016,6,       25,-999.000,9,-999.0000,9, -999.00,9,  -999.0,9,  -999.0,   2.529,4, -999.00,9,  62.3122,2,    3.62,2,   50.00,  -999.0,9,  19.0667,     26.006,    36.4818,2,     -999.0,9,     -999.0,9,     -999.0,     -999.0,9,     -999.0
33RO20110926,        A10,      99,          1,         22,      11712,2,20111025,       1116,   -30.0001,   -39.8328,       3364,   114.3,  18.8030,  36.2513,2,  36.2584,2,    226.5,2,   228.2,2,     0.8,2,     0.4,2,    0.07,2,   0.064,4,   2.227,2,   1.355,2,   1.357,2,       2082,2,  2378.6,2,  -999.0,9, -999.00,    8.012,2,       25,-999.000,9,-999.0000,9, -999.00,9,  -999.0,9,  -999.0,   2.373,4, -999.00,9,  60.9463,2,    3.72,2,  114.30,  -999.0,9,  18.7826,     26.039,    36.4294,2,     -999.0,9,     -999.0,1,     -999.0,     -999.0,9,     -999.0
33RO20110926,        A10,      99,          1,         21,      11010,2,20111025,       1116,   -30.0001,   -39.8328,       3364,   168.9,  16.7284,  35.8205,2,  35.8167,2,    226.3,2,   216.4,2,     1.5,2,     3.0,2,    0.02,2,   0.208,4,   2.471,2,   1.480,2,   1.390,2,     2096.2,2,  2352.4,2,  -999.0,9, -999.00,   7.9499,2,       25,-999.000,9,-999.0000,9, -999.00,9,  -999.0,9,  -999.0,   1.416,4, -999.00,9,  54.2537,2,    4.92,2,  168.90,  -999.0,9,  16.7007,     26.212,    35.9856,2,     -999.0,9,     -999.0,1,     -999.0,     -999.0,9,     -999.0
33RO20110926,        A10,      99,          1,         20,      11715,2,20111025,       1116,   -30.0001,   -39.8328,       3364,   239.8,  15.2476,  35.5664,2,  35.5707,2,    208.7,2,   208.8,2,     2.1,6,     5.9,6,    0.01,6,   0.345,4,   2.681,2,   1.573,2,   1.321,2,     2109.1,2,  2339.4,2,  -999.0,9, -999.00,   7.9008,2,       25,-999.000,9,-999.0000,9, -999.00,9,  -999.0,9,  -999.0,   0.918,3, -999.00,9,  49.8146,2, -999.00,9,  239.80,  -999.0,9,  15.2107,     26.358,    35.7384,2,     -999.0,9,     -999.0,9,     -999.0,     -999.0,9,     -999.0
33RO20110926,        A10,      99,          1,         19,      11007,2,20111025,       1116,   -30.0001,   -39.8328,       3364,   314.8,  14.1165,  35.4142,2,  35.4147,2,    209.5,2,     209,2,     2.7,2,     8.3,2,    0.01,2,   0.467,4,   2.841,2,   1.635,2,   1.251,2,       2117,2,  2330.2,2,  -999.0,9, -999.00,   7.8717,2,       25,-999.000,9,-999.0000,9, -999.00,9,  -999.0,9,  -999.0,   0.920,3, -999.00,9,  48.3122,2, -999.00,9,  314.80,  -999.0,9,  14.0704,     26.493,    35.5817,2,     -999.0,9,     -999.0,9,     -999.0,     -999.0,9,     -999.0
33RO20110926,        A10,      99,          1,         18,      11710,2,20111025,       1116,   -30.0001,   -39.8328,       3364,   370.8,  13.4094,  35.3304,2,  35.3313,2,    213.5,2,   214.2,2,     3.0,2,     9.3,2,    0.01,2,   0.516,4,   2.912,2,   1.668,2,   1.253,2,     2118.1,2,  2326.9,2,  -999.0,9, -999.00,   7.8607,2,       25,-999.000,9,-999.0000,9, -999.00,9,  -999.0,9,  -999.0,   1.085,3, -999.00,9,  46.6341,2, -999.00,9,  370.80,  -999.0,9,  13.3568,     26.578,    35.4979,2,     -999.0,9,     -999.0,9,     -999.0,     -999.0,9,     -999.0
33RO20110926,        A10,      99,          1,         17,      11023,2,20111025,       1116,   -30.0001,   -39.8328,       3364,   425.6,  12.7721,  35.2313,2,  35.2336,2,    214.1,2,   213.9,2,     3.3,6,    10.7,6,    0.01,6,   0.568,4,   2.985,2,   1.691,2,   1.251,2,     2121.8,2,  2321.7,2,  -999.0,9, -999.00,   7.8447,2,       25,-999.000,9,-999.0000,9, -999.00,9,  -999.0,9,  -999.0,   1.102,3, -999.00,9,     47.6,2, -999.00,9,  425.60,  -999.0,9,  12.7136,     26.630,    35.3998,2,     -999.0,9,     -999.0,9,     -999.0,     -999.0,9,     -999.0
33RO20110926,        A10,      99,          1,         16,      11709,2,20111025,       1116,   -30.0001,   -39.8328,       3364,   525.8,  10.3177,  34.8514,2,  34.8532,2,    204.8,2,   204.5,2,     6.5,2,    17.3,2,    0.00,2,   0.890,4,   3.134,2,   1.683,2,   0.953,2,     2138.2,2,  2302.7,2,  -999.0,9, -999.00,   7.7685,2,       25,-999.000,9,-999.0000,9, -999.00,9,  -999.0,9,  -999.0,   1.372,3, -999.00,9,  45.1805,2, -999.00,9,  525.80,  -999.0,9,  10.2546,     26.795,    35.0175,2,     -999.0,9,     -999.0,9,     -999.0,     -999.0,9,     -999.0
33RO20110926,        A10,      99,          1,         15,      11006,2,20111025,       1116,   -30.0001,   -39.8328,       3364,   625.0,   8.2398,  34.5951,2,  34.5985,2,    207.6,2,   207.8,2,     9.8,2,    22.1,2,    0.00,2,   1.134,4,   3.216,2,   1.671,2,   0.862,2,     2151.5,2,  2295.3,2,  -999.0,9, -999.00,   7.7174,2,       25,-999.000,9,-999.0000,9, -999.00,9,  -999.0,9,  -999.0,   2.023,3, -999.00,9,  41.9512,2, -999.00,9,  625.00,  -999.0,9,   8.1741,     26.932,    34.7616,2,     -999.0,9,     -999.0,9,     -999.0,     -999.0,9,     -999.0
33RO20110926,        A10,      99,          1,         14,      11708,2,20111025,       1116,   -30.0001,   -39.8328,       3364,   725.1,   6.1723,  34.3821,2,  34.3786,2,    220.9,2,   223.9,2,    14.0,2,    25.9,2,    0.00,2,   1.347,4,   3.326,2,   1.701,2,   0.797,2,     2160.1,2,  2285.7,2,  -999.0,9, -999.00,   7.6785,2,       25,-999.000,9,-999.0000,9, -999.00,9,  -999.0,9,  -999.0,   2.832,3, -999.00,9,  39.6488,2, -999.00,9,  725.10,  -999.0,9,   6.1070,     27.047,    34.5407,2,     -999.0,9,     -999.0,9,     -999.0,     -999.0,9,     -999.0
33RO20110926,        A10,      99,          1,         13,      11031,2,20111025,       1116,   -30.0001,   -39.8328,       3364,   800.8,   5.1839,  34.3084,2,  34.3089,2,    227.8,2,   227.7,2,    17.5,6,    27.8,6,    0.00,6,   1.445,4,   3.214,2,   1.624,2,   0.792,2,     2165.2,2,  2285.1,2,  -999.0,9, -999.00,   7.6595,2,       25,-999.000,9,-999.0000,9, -999.00,9,  -999.0,9,  -999.0,   3.140,3, -999.00,9,-999.0000,5, -999.00,9,  800.80,  -999.0,9,   5.1174,     27.114,    34.4707,2,     -999.0,9,     -999.0,9,     -999.0,     -999.0,9,     -999.0
33RO20110926,        A10,      99,          1,         12,      11027,2,20111025,       1116,   -30.0001,   -39.8328,       3364,   924.5,   4.4198,  34.2897,2,  34.2923,2,    224.4,2,   222.9,2,    24.3,2,    29.7,2,    0.00,2,   1.616,4,   2.745,2,   1.355,2,   0.545,2,     2180.8,2,  2291.7,2,  -999.0,9, -999.00,   7.6404,2,       25,-999.000,9,-999.0000,9, -999.00,9,  -999.0,9,  -999.0,   3.006,3, -999.00,9,  38.7122,2, -999.00,9,  924.50,  -999.0,9,   4.3477,     27.186,    34.4540,2,     -999.0,9,     -999.0,9,     -999.0,     -999.0,9,     -999.0
33RO20110926,        A10,      99,          1,         11,      11707,2,20111025,       1116,   -30.0001,   -39.8328,       3364,  1022.2,   3.8808,  34.3176,2,  34.3176,2,    212.7,2,   212.2,2,    31.9,2,    31.3,2,    0.00,2,   1.761,4,   2.105,2,   1.027,2,   0.380,2,     2194.2,2,  2312.8,4,  -999.0,9, -999.00,   7.6144,2,       25,-999.000,9,-999.0000,9, -999.00,9,  -999.0,9,  -999.0,   2.550,3, -999.00,9,  40.1561,2, -999.00,9, 1022.20,  -999.0,9,   3.8045,     27.263,    34.4794,2,     -999.0,9,     -999.0,9,     -999.0,     -999.0,9,     -999.0
33RO20110926,        A10,      99,          1,         10,      11003,2,20111025,       1116,   -30.0001,   -39.8328,       3364,  1173.1,   3.4085,  34.3908,2,  34.3910,2,    198.1,2,   198.5,2,    42.6,2,    32.5,2,    0.00,2,   1.926,4,   1.252,2,   0.604,2,   0.191,2,     2212.6,2,    2310,2,  -999.0,9, -999.00,   7.6014,2,       25,-999.000,9,-999.0000,9, -999.00,9,  -999.0,9,  -999.0,   1.794,3, -999.00,9,  38.9756,2, -999.00,9, 1173.10,  -999.0,9,   3.3237,     27.369,    34.5532,2,     -999.0,9,     -999.0,9,     -999.0,     -999.0,9,     -999.0
33RO20110926,        A10,      99,          1,          9,      11706,2,20111025,       1116,   -30.0001,   -39.8328,       3364,  1349.8,   3.0703,  34.4973,2,  34.4986,2,    188.6,2,   188.7,2,    51.6,2,    32.6,2,    0.00,2,   2.022,4,   0.607,2,   0.292,2,   0.102,2,     2224.2,6,  2319.6,6,  -999.0,9, -999.00,   7.5977,6,       25,-999.000,9,-999.0000,9, -999.00,9,  -999.0,9,  -999.0,   1.065,3, -999.00,9,   40.361,2, -999.00,9, 1349.80,  -999.0,9,   2.9742,     27.487,    34.6613,2,     -999.0,9,     -999.0,9,     -999.0,     -999.0,9,     -999.0
33RO20110926,        A10,      99,          1,          8,      11033,2,20111025,       1116,   -30.0001,   -39.8328,       3364,  1550.3,   2.9348,  34.6225,2,  34.6220,2,    189.4,2,   189.1,2,    55.0,2,    31.4,2,    0.00,2,   1.980,4,   0.250,2,   0.119,2,   0.024,2,     2227.5,2,  2327.4,2,  -999.0,9, -999.00,   7.6122,2,       25,-999.000,9,-999.0000,9, -999.00,9,  -999.0,9,  -999.0,   0.611,3, -999.00,9,-999.0000,5, -999.00,9, 1550.30,  -999.0,9,   2.8234,     27.599,    34.7852,2,     -999.0,9,     -999.0,9,     -999.0,     -999.0,9,     -999.0
33RO20110926,        A10,      99,          1,          7,      11705,2,20111025,       1116,   -30.0001,   -39.8328,       3364,  1699.2,   2.9448,  34.7009,2,  34.7016,2,    194.9,2,   196.2,2,    53.3,6,    29.7,6,    0.00,6,   1.880,4,   0.143,2,   0.070,2,   0.000,2,     2221.3,2,  2329.4,2,  -999.0,9, -999.00,   7.6302,2,       25,-999.000,9,-999.0000,9, -999.00,9,  -999.0,9,  -999.0,   0.424,3, -999.00,9,  41.1122,2, -999.00,9, 1699.20,  -999.0,9,   2.8204,     27.663,    34.8652,2,     -999.0,9,     -999.0,9,     -999.0,     -999.0,9,     -999.0
33RO20110926,        A10,      99,          1,          6,      11029,2,20111025,       1116,   -30.0001,   -39.8328,       3364,  1850.3,   3.1719,  34.8036,2,  34.8036,2,    209.4,2,   213.2,2,    43.4,2,    26.6,2,    0.00,2,   1.639,4,   0.113,2,   0.058,2,   0.000,2,     2204.6,2,  2327.3,2,  -999.0,9, -999.00,   7.6643,2,       25,-999.000,9,-999.0000,9, -999.00,9,  -999.0,9,  -999.0,   0.417,3, -999.00,9,  40.6537,2, -999.00,9, 1850.30,  -999.0,9,   3.0309,     27.725,    34.9678,2,     -999.0,9,     -999.0,9,     -999.0,     -999.0,9,     -999.0
33RO20110926,        A10,      99,          1,          5,      11704,2,20111025,       1116,   -30.0001,   -39.8328,       3364,  2069.3,   3.2161,  34.8737,2,  34.8741,2,    228.9,2,   229.9,2,    35.6,2,    23.8,2,    0.00,2,   1.424,4,   0.125,2,   0.063,2,   0.000,2,     2189.7,2,  2325.2,2,  -999.0,9, -999.00,   7.6994,2,       25,-999.000,9,-999.0000,9, -999.00,9,  -999.0,9,  -999.0,   0.450,3, -999.00,9,  41.3854,2, -999.00,9, 2069.30,  -999.0,9,   3.0541,     27.780,    35.0385,2,     -999.0,9,     -999.0,9,     -999.0,     -999.0,9,     -999.0
33RO20110926,        A10,      99,          1,          4,      11030,2,20111025,       1116,   -30.0001,   -39.8328,       3364,  2323.7,   3.2378,  34.9258,2,  34.9264,2,    240.9,2,   244.3,2,    28.1,2,    21.2,2,    0.00,2,   1.237,4,   0.145,2,   0.073,2,   0.000,2,     2174.6,2,  2322.1,2,  -999.0,9, -999.00,   7.7244,2,       25,-999.000,9,-999.0000,9, -999.00,9,  -999.0,9,  -999.0,   0.519,3, -999.00,9,  43.7561,2, -999.00,9, 2323.70,  -999.0,9,   3.0509,     27.822,    35.0911,2,     -999.0,9,     -999.0,9,     -999.0,     -999.0,9,     -999.0
33RO20110926,        A10,      99,          1,          3,      11703,2,20111025,       1116,   -30.0001,   -39.8328,       3364,  2700.0,   3.0140,  34.9286,2,  34.9294,2,    249.5,2,   249.9,2,    29.4,2,    20.9,2,    0.00,2,   1.229,4,   0.111,2,   0.057,2,   0.000,2,     2173.8,2,  2324.5,2,  -999.0,9, -999.00,   7.7334,2,       25,-999.000,9,-999.0000,9, -999.00,9,  -999.0,9,  -999.0,   0.430,3, -999.00,9,  43.5317,2, -999.00,9, 2700.00,  -999.0,9,   2.7939,     27.848,    35.0941,2,     -999.0,9,     -999.0,9,     -999.0,     -999.0,9,     -999.0
33RO20110926,        A10,      99,          1,          2,      11702,2,20111025,       1116,   -30.0001,   -39.8328,       3364,  3049.4,   2.7756,  34.9176,2,  34.9231,2,    251.1,2,   250.9,2,    33.2,2,    21.1,2,    0.00,2,   1.279,4,   0.079,2,   0.043,2,   0.053,2,       2178,2,    2328,2,  -999.0,9, -999.00,   7.7314,2,       25,-999.000,9,-999.0000,9, -999.00,9,  -999.0,9,  -999.0,   0.358,3, -999.00,9,  42.2049,2, -999.00,9, 3049.40,  -999.0,9,   2.5246,     27.866,    35.0878,2,     -999.0,9,     -999.0,9,     -999.0,     -999.0,9,     -999.0
33RO20110926,        A10,      99,          1,          1,      11701,2,20111025,       1116,   -30.0001,   -39.8328,       3364,  3360.5,   2.4090,  34.8879,2,  34.8893,2,    249.0,2,   248.2,2,    43.2,6,    22.3,6,    0.00,6,   1.429,4,   0.061,6,   0.033,6,   0.000,6,     2187.5,6,    2334,6,  -999.0,9, -999.00,    7.727,6,       25,-999.000,9,-999.0000,9, -999.00,9,  -999.0,9,  -999.0,   0.314,3, -999.00,9,  43.5317,2, -999.00,9, 3360.50,  -999.0,9,   2.1339,     27.872,    35.0538,2,     -999.0,9,     -999.0,9,     -999.0,     -999.0,9,     -999.0