BOTTLE,20220815CCHSIOAMB
EXPOCODE,SECT_ID,STNNBR,CASTNO,SAMPNO,BTLNBR,BTLNBR_FLAG_W,DATE,TIME,LATITUDE,LONGITUDE,DEPTH,CTDPRS,CTDTMP,CTDSAL,CTDSAL_FLAG_W,SALNTY,SALNTY_FLAG_W,CTDOXY,CTDOXY_FLAG_W,OXYGEN,OXYGEN_FLAG_W,SILCAT,SILCAT_FLAG_W,NITRAT,NITRAT_FLAG_W,NITRIT,NITRIT_FLAG_W,PHSPHT,PHSPHT_FLAG_W,CFC-11,CFC-11_FLAG_W,CFC-12,CFC-12_FLAG_W,SF6,SF6_FLAG_W,TCARBN,TCARBN_FLAG_W,ALKALI,ALKALI_FLAG_W,PCO2,PCO2_FLAG_W,PCO2TMP,PH_SWS,PH_SWS_FLAG_W,PH_TMP,TRITUM,TRITUM_FLAG_W,HELIUM,HELIUM_FLAG_W,DELC13,DELC13_FLAG_W,DELC14,DELC14_FLAG_W,C14ERR,CCL4,CCL4_FLAG_W,DELO18,DELO18_FLAG_W,DOC,DOC_FLAG_W,TDN,TDN_FLAG_W,CTDRAW,14C-DOC,14C-DOC_FLAG_W,THETA,SIG0,SALTREF,SALTREF_FLAG_W,BLACKC,BLACKC_FLAG_W,PIGMENTS,PIGMENTS_FLAG_W,14C-DOCERR,13C-DOC,13C-DOC_FLAG_W,13C-DOCERR
,,,,,,,,,,,METERS,DBAR,ITS-90,PSS-78,,PSS-78,,UMOL/KG,,UMOL/KG,,UMOL/KG,,UMOL/KG,,UMOL/KG,,UMOL/KG,,PMOL/KG,,PMOL/KG,,FMOL/KG,,UMOL/KG,,UMOL/KG,,UATM,,DEG C,,,DEG C,TU,,NMOL/KG,,/MILLE,,/MILLE,,/MILLE,PMOL/KG,,/MILLE,,UMOL/KG,,UMOL/KG,,DBAR,/MILLE,,DEG C,KG/M^3,G/KG,,,,,,/MILLE,/MILLE,,/MILLE
33RO20110926,        A10,      11,          1,         24,      11714,2,20110930,       1337,   -29.7501,    10.1743,       4844,     2.7,  16.5280,  35.5217,2,  35.5213,2,    248.7,2,   249.8,2,     2.2,2,     0.7,2,    0.05,2,   0.243,2,   2.554,6,   1.520,6,   1.534,6,     2071.5,2,  2337.4,2,  -999.0,9, -999.00,   7.9749,2,       25,-999.000,1,-999.0000,1, -999.00,9,  -999.0,9,  -999.0,   2.810,3, -999.00,1,  57.1122,2,    5.31,2,    2.70,  -999.0,9,  16.5276,     26.026,    35.6888,2,     -999.0,9,     -999.0,1,     -999.0,     -999.0,9,     -999.0
33RO20110926,        A10,      11,          1,         23,      11713,2,20110930,       1337,   -29.7501,    10.1743,       4844,    29.4,  16.4077,  35.5199,2,  35.5188,2,    247.4,2,   248.8,2,     2.3,2,     0.8,2,    0.06,2,   0.248,2,   2.550,2,   1.521,2,   1.508,2,       2073,2,  2337.2,6,  -999.0,9, -999.00,   7.9674,6,       25,-999.000,1,-999.0000,1, -999.00,9,  -999.0,9,  -999.0,   2.418,3, -999.00,1,  59.8146,2,    5.27,2,   29.40,  -999.0,9,  16.4029,     26.053,    35.6863,2,     -999.0,9,     -999.0,1,     -999.0,     -999.0,9,     -999.0
33RO20110926,        A10,      11,          1,         22,      11712,2,20110930,       1337,   -29.7501,    10.1743,       4844,    74.8,  15.8859,  35.4933,2,  35.4924,2,    239.2,2,   238.8,2,     2.6,2,     2.2,2,    0.50,2,   0.355,2,   2.573,2,   1.536,2,   1.551,2,       2083,2,  2332.2,2,  -999.0,9, -999.00,   7.9429,2,       25,-999.000,1,-999.0000,1, -999.00,9,  -999.0,9,  -999.0,   1.999,3, -999.00,1,  57.6585,2,    7.15,2,   74.80,  -999.0,9,  15.8741,     26.155,    35.6598,2,     -999.0,9,     -999.0,1,     -999.0,     -999.0,9,     -999.0
33RO20110926,        A10,      11,          1,         21,      11010,2,20110930,       1337,   -29.7501,    10.1743,       4844,   124.2,  15.2908,  35.4572,2,  35.4591,2,    229.6,2,   227.8,2,     3.0,2,     4.6,2,    0.03,2,   0.446,2,   2.610,2,   1.554,2,   1.410,2,       2092,2,  2329.3,2,  -999.0,9, -999.00,   7.9128,2,       25,-999.000,1,-999.0000,1, -999.00,9,  -999.0,9,  -999.0,   1.349,3, -999.00,1,  55.0439,2,    7.83,2,  124.20,  -999.0,9,  15.2717,     26.265,    35.6263,2,     -999.0,9,     -999.0,9,     -999.0,     -999.0,9,     -999.0
33RO20110926,        A10,      11,          1,         20,      11715,2,20110930,       1337,   -29.7501,    10.1743,       4844,   180.3,  13.5595,  35.1826,2,  35.1823,2,    214.2,2,   212.6,2,     3.5,6,     8.6,6,    0.03,6,   0.709,6,   2.886,2,   1.683,2,   1.454,2,       2118,4,  2314.2,2,  -999.0,9, -999.00,   7.8326,4,       25,-999.000,1,-999.0000,1, -999.00,9,  -999.0,9,  -999.0,   0.732,3, -999.00,1,  49.9024,2,   11.71,2,  180.30,  -999.0,9,  13.5340,     26.425,    35.3482,2,     -999.0,9,     -999.0,9,     -999.0,     -999.0,9,     -999.0
33RO20110926,        A10,      11,          1,         19,      11007,2,20110930,       1337,   -29.7501,    10.1743,       4844,   250.4,  12.2638,  35.0573,2,  35.0543,2,    213.3,2,   211.8,2,     4.6,2,    11.9,2,    0.01,2,   0.894,2,   3.053,2,   1.746,2,   1.313,2,     2129.5,4,  2310.1,2,  -999.0,9, -999.00,   7.8127,4,       25,-999.000,1,-999.0000,1, -999.00,9,  -999.0,9,  -999.0,   0.770,3, -999.00,1,  50.2732,2, -999.00,9,  250.40,  -999.0,9,  12.2305,     26.588,    35.2196,2,     -999.0,9,     -999.0,9,     -999.0,     -999.0,9,     -999.0
33RO20110926,        A10,      11,          1,         18,      11710,2,20110930,       1337,   -29.7501,    10.1743,       4844,   350.9,  10.4861,  34.8486,2,  34.8469,2,    213.1,2,   214.3,2,     6.3,2,    15.8,2,    0.01,2,   1.135,2,   3.198,2,   1.767,2,   1.164,2,     2140.2,4,  2299.6,2,  -999.0,9, -999.00,   7.7696,4,       25,-999.000,1,-999.0000,1, -999.00,9,  -999.0,9,  -999.0,   0.878,3, -999.00,1,-999.0000,5, -999.00,9,  350.90,  -999.0,9,  10.4439,     26.756,    35.0112,6,     -999.0,9,     -999.0,9,     -999.0,     -999.0,9,     -999.0
33RO20110926,        A10,      11,          1,         17,      11023,2,20110930,       1337,   -29.7501,    10.1743,       4844,   450.0,   8.9786,  34.6833,2,  34.6845,2,    183.7,2,     182,2,    12.0,2,    22.3,2,    0.01,2,   1.567,2,   3.000,2,   1.618,2,   0.954,2,     2172.7,3,    2294,2,  -999.0,9, -999.00,   7.6745,4,       25,-999.000,1,-999.0000,1, -999.00,9,  -999.0,9,  -999.0,   0.949,3, -999.00,1,  45.4341,2, -999.00,9,  450.00,  -999.0,9,   8.9293,     26.881,    34.8481,2,     -999.0,9,     -999.0,9,     -999.0,     -999.0,9,     -999.0
33RO20110926,        A10,      11,          1,         16,      11709,2,20110930,       1337,   -29.7501,    10.1743,       4844,   525.4,   7.5555,  34.5191,2,  34.5182,2,    210.0,2,   210.6,2,    12.8,2,    23.3,2,    0.01,2,   1.622,2,   3.176,2,   1.676,2,   0.991,2,     2163.1,2,  2290.1,2,  -999.0,9, -999.00,   7.6944,2,       25,-999.000,1,-999.0000,1, -999.00,9,  -999.0,9,  -999.0,   1.769,3, -999.00,1,  43.6293,2, -999.00,9,  525.40,  -999.0,9,   7.5033,     26.969,    34.6809,2,     -999.0,9,     -999.0,9,     -999.0,     -999.0,9,     -999.0
33RO20110926,        A10,      11,          1,         15,      11006,2,20110930,       1337,   -29.7501,    10.1743,       4844,   655.1,   5.6098,  34.3558,2,  34.3556,2,    214.3,2,   215.1,2,    19.0,2,    27.8,2,    0.00,2,   1.901,2,   3.098,2,   1.582,2,   0.792,2,     2177.5,2,  2287.8,2,  -999.0,9, -999.00,   7.6292,2,       25,-999.000,1,-999.0000,1, -999.00,9,  -999.0,9,  -999.0,   2.245,3, -999.00,1,  40.7024,2, -999.00,9,  655.10,  -999.0,9,   5.5539,     27.099,    34.5176,2,     -999.0,9,     -999.0,9,     -999.0,     -999.0,9,     -999.0
33RO20110926,        A10,      11,          1,         14,      11708,2,20110930,       1337,   -29.7501,    10.1743,       4844,   749.9,   4.6729,  34.3233,2,  34.3225,2,    214.4,2,   215.3,2,    25.7,2,    29.7,2,    0.00,2,   2.037,2,   2.738,2,   1.368,2,   0.642,2,     2187.5,2,  2292.8,6,  -999.0,9, -999.00,   7.6092,6,       25,-999.000,1,-999.0000,1, -999.00,9,  -999.0,9,  -999.0,   2.307,3, -999.00,1,  40.9854,2, -999.00,9,  749.90,  -999.0,9,   4.6139,     27.182,    34.4843,2,     -999.0,9,     -999.0,9,     -999.0,     -999.0,9,     -999.0
33RO20110926,        A10,      11,          1,         13,      11031,2,20110930,       1337,   -29.7501,    10.1743,       4844,   949.7,   3.7124,  34.3941,2,  34.3927,2,    191.9,2,     192,2,    42.3,6,    32.6,6,    0.00,6,   2.247,6,   1.489,2,   0.722,2,   0.264,2,     2215.5,2,  2308.5,2,  -999.0,9, -999.00,   7.5864,2,       25,-999.000,1,-999.0000,1, -999.00,9,  -999.0,9,  -999.0,   1.532,3, -999.00,1,  40.3122,2, -999.00,9,  949.70,  -999.0,9,   3.6432,     27.339,    34.5549,2,     -999.0,9,     -999.0,9,     -999.0,     -999.0,9,     -999.0
33RO20110926,        A10,      11,          1,         12,      11027,2,20110930,       1337,   -29.7501,    10.1743,       4844,  1199.3,   3.0887,  34.5527,2,  34.5516,2,    176.7,2,   177.1,2,    58.8,2,    33.0,2,    0.00,2,   2.285,2,   0.495,2,   0.234,2,   0.054,2,     2238.3,6,  2324.9,2,  -999.0,9, -999.00,   7.5723,2,       25,-999.000,1,-999.0000,1, -999.00,9,  -999.0,9,  -999.0,   0.638,3, -999.00,1,  39.6098,2, -999.00,9, 1199.30,  -999.0,9,   3.0044,     27.527,    34.7145,2,     -999.0,9,     -999.0,9,     -999.0,     -999.0,9,     -999.0
33RO20110926,        A10,      11,          1,         11,      11707,2,20110930,       1337,   -29.7501,    10.1743,       4844,  1499.5,   2.9967,  34.7286,2,  34.7280,2,    192.7,2,   193.3,2,    52.8,2,    29.5,2,    0.00,2,   2.012,2,   0.097,2,   0.046,2,   0.000,2,       2224,2,  2328.5,2,  -999.0,9, -999.00,   7.6174,2,       25,-999.000,1,-999.0000,1, -999.00,9,  -999.0,9,  -999.0,   0.180,3, -999.00,1,  38.4293,2, -999.00,9, 1499.50,  -999.0,9,   2.8885,     27.678,    34.8918,2,     -999.0,9,     -999.0,9,     -999.0,     -999.0,9,     -999.0
33RO20110926,        A10,      11,          1,         10,      11003,2,20110930,       1337,   -29.7501,    10.1743,       4844,  1800.2,   2.9777,  34.8224,2,  34.8211,2,    213.3,2,   213.3,2,    45.2,2,    26.2,2,    0.00,2,   1.781,2,   0.026,2,   0.014,2,   0.000,2,       2207,2,  2329.6,2,  -999.0,9, -999.00,   7.6473,2,       25,-999.000,1,-999.0000,1, -999.00,9,  -999.0,9,  -999.0,   0.076,3, -999.00,1,  40.5073,2, -999.00,9, 1800.20,  -999.0,9,   2.8437,     27.757,    34.9853,2,     -999.0,9,     -999.0,9,     -999.0,     -999.0,9,     -999.0
33RO20110926,        A10,      11,          1,          9,      11706,2,20110930,       1337,   -29.7501,    10.1743,       4844,  2050.9,   2.8274,  34.8484,2,  34.8476,2,    222.4,2,   222.7,2,    45.2,2,    25.1,2,    0.00,2,   1.702,2,   0.015,2,   0.008,2,   0.000,2,     2203.1,2,  2330.3,2,  -999.0,9, -999.00,   7.6623,2,       25,-999.000,1,-999.0000,1, -999.00,9,  -999.0,9,  -999.0,   0.058,3, -999.00,1,  38.8488,2, -999.00,9, 2050.90,  -999.0,9,   2.6731,     27.793,    35.0119,2,     -999.0,9,     -999.0,9,     -999.0,     -999.0,9,     -999.0
33RO20110926,        A10,      11,          1,          8,      11033,2,20110930,       1337,   -29.7501,    10.1743,       4844,  2349.0,   2.6356,  34.8618,2,  34.8608,2,    227.4,2,     229,2,    46.8,2,    24.4,2,    0.00,2,   1.650,2,   0.008,2,   0.004,2,   0.000,2,     2200.8,2,  2333.8,2,  -999.0,9, -999.00,   7.6703,2,       25,-999.000,9,-999.0000,1, -999.00,9,  -999.0,9,  -999.0,   0.050,3, -999.00,1,  40.0683,2, -999.00,9, 2349.00,  -999.0,9,   2.4569,     27.822,    35.0251,2,     -999.0,9,     -999.0,9,     -999.0,     -999.0,9,     -999.0
33RO20110926,        A10,      11,          1,          7,      11705,2,20110930,       1337,   -29.7501,    10.1743,       4844,  2749.7,   2.4701,  34.8628,2,  34.8621,2,    231.1,2,   231.7,2,    50.4,2,    24.3,2,    0.00,2,   1.645,2,   0.005,2,   0.003,2,   0.000,2,     2203.1,2,  2338.1,2,  -999.0,9, -999.00,   7.6783,2,       25,-999.000,1,-999.0000,1, -999.00,9,  -999.0,9,  -999.0,   0.023,3, -999.00,9,  38.9463,2, -999.00,9, 2749.70,  -999.0,9,   2.2561,     27.840,    35.0265,2,     -999.0,9,     -999.0,9,     -999.0,     -999.0,9,     -999.0
33RO20110926,        A10,      11,          1,          6,      11029,2,20110930,       1337,   -29.7501,    10.1743,       4844,  3050.2,   2.3530,  34.8602,2,  34.8623,2,    230.8,2,   232.2,2,    53.7,6,    24.4,6,    0.00,6,   1.656,6,   0.007,2,   0.004,2,   0.000,2,     2207.3,2,  2344.5,2,  -999.0,9, -999.00,   7.6875,2,       25,-999.000,9,-999.0000,1, -999.00,9,  -999.0,9,  -999.0,   0.026,3, -999.00,9,  41.4146,2, -999.00,9, 3050.20,  -999.0,9,   2.1115,     27.852,    35.0267,2,     -999.0,9,     -999.0,9,     -999.0,     -999.0,9,     -999.0
33RO20110926,        A10,      11,          1,          5,      11704,2,20110930,       1337,   -29.7501,    10.1743,       4844,  3400.1,   2.2216,  34.8531,2,  34.8517,2,    229.6,2,   230.4,2,    58.9,2,    24.9,2,    0.00,2,   1.687,2,   0.007,2,   0.005,2,   0.000,2,     2212.4,2,  2349.2,2,  -999.0,9, -999.00,   7.6865,2,       25,-999.000,1,-999.0000,1, -999.00,9,  -999.0,9,  -999.0,   0.029,3, -999.00,9,  39.3463,2, -999.00,9, 3400.10,  -999.0,9,   1.9469,     27.857,    35.0161,2,     -999.0,9,     -999.0,9,     -999.0,     -999.0,9,     -999.0
33RO20110926,        A10,      11,          1,          4,      11030,2,20110930,       1337,   -29.7501,    10.1743,       4844,  3700.6,   2.0586,  34.8348,2,  34.8336,2,    227.8,2,   227.6,2,    66.4,2,    25.8,2,    0.00,2,   1.754,2,   0.010,2,   0.006,2,   0.000,2,     2220.1,2,  2352.8,2,  -999.0,9, -999.00,   7.6815,2,       25,-999.000,9,-999.0000,1, -999.00,9,  -999.0,9,  -999.0,   0.038,3, -999.00,9,  39.9317,2, -999.00,9, 3700.60,  -999.0,9,   1.7561,     27.857,    34.9979,2,     -999.0,9,     -999.0,9,     -999.0,     -999.0,9,     -999.0
33RO20110926,        A10,      11,          1,          3,      11703,2,20110930,       1337,   -29.7501,    10.1743,       4844,  4024.6,   1.8462,  34.8097,2,  34.8079,2,    224.1,2,   225.1,2,    76.2,2,    27.1,2,    0.00,2,   1.845,2,   0.017,2,   0.009,2,   0.000,2,     2229.6,2,  2355.7,2,  -999.0,9, -999.00,   7.6695,2,       25,-999.000,1,-999.0000,1, -999.00,9,  -999.0,9,  -999.0,   0.054,3, -999.00,9,  39.7366,2, -999.00,9, 4024.60,  -999.0,9,   1.5139,     27.855,    34.9720,2,     -999.0,9,     -999.0,9,     -999.0,     -999.0,9,     -999.0
33RO20110926,        A10,      11,          1,          2,      11702,2,20110930,       1337,   -29.7501,    10.1743,       4844,  4398.4,   1.3360,  34.7573,2,  34.7576,2,    218.8,2,   219.6,2,    97.0,2,    29.8,2,    0.00,2,   2.028,2,   0.040,2,   0.021,2,   0.000,2,     2247.4,2,  2364.4,6,  -999.0,9, -999.00,   7.6354,2,       25,-999.000,1,-999.0000,1, -999.00,9,  -999.0,9,  -999.0,   0.107,3, -999.00,9,  39.0829,2, -999.00,9, 4398.40,  -999.0,9,   0.9771,     27.852,    34.9215,2,     -999.0,9,     -999.0,9,     -999.0,     -999.0,9,     -999.0
33RO20110926,        A10,      11,          1,          1,      11701,2,20110930,       1337,   -29.7501,    10.1743,       4844,  4920.4,   1.1754,  34.7373,2,  34.7363,2,    216.0,2,   216.8,2,   105.5,6,    30.7,6,    0.01,6,   2.101,6,   0.058,6,   0.029,6,   0.000,6,       2258,6,  -999.0,5,  -999.0,9, -999.00,   7.5874,4,       25,-999.000,1,-999.0000,1, -999.00,9,  -999.0,9,  -999.0,   0.141,3, -999.00,9,  38.6244,2, -999.00,9, 4920.40,  -999.0,9,   0.7612,     27.849,    34.9001,2,     -999.0,9,     -999.0,9,     -999.0,     -999.0,9,     -999.0