BOTTLE,20220815CCHSIOAMB
EXPOCODE,SECT_ID,STNNBR,CASTNO,SAMPNO,BTLNBR,BTLNBR_FLAG_W,DATE,TIME,LATITUDE,LONGITUDE,DEPTH,CTDPRS,CTDTMP,CTDSAL,CTDSAL_FLAG_W,SALNTY,SALNTY_FLAG_W,CTDOXY,CTDOXY_FLAG_W,OXYGEN,OXYGEN_FLAG_W,SILCAT,SILCAT_FLAG_W,NITRAT,NITRAT_FLAG_W,NITRIT,NITRIT_FLAG_W,PHSPHT,PHSPHT_FLAG_W,CFC-11,CFC-11_FLAG_W,CFC-12,CFC-12_FLAG_W,SF6,SF6_FLAG_W,TCARBN,TCARBN_FLAG_W,ALKALI,ALKALI_FLAG_W,PCO2,PCO2_FLAG_W,PCO2TMP,PH_SWS,PH_SWS_FLAG_W,PH_TMP,TRITUM,TRITUM_FLAG_W,HELIUM,HELIUM_FLAG_W,DELC13,DELC13_FLAG_W,DELC14,DELC14_FLAG_W,C14ERR,CCL4,CCL4_FLAG_W,DELO18,DELO18_FLAG_W,DOC,DOC_FLAG_W,TDN,TDN_FLAG_W,CTDRAW,14C-DOC,14C-DOC_FLAG_W,THETA,SIG0,SALTREF,SALTREF_FLAG_W,BLACKC,BLACKC_FLAG_W,PIGMENTS,PIGMENTS_FLAG_W,14C-DOCERR,13C-DOC,13C-DOC_FLAG_W,13C-DOCERR
,,,,,,,,,,,METERS,DBAR,ITS-90,PSS-78,,PSS-78,,UMOL/KG,,UMOL/KG,,UMOL/KG,,UMOL/KG,,UMOL/KG,,UMOL/KG,,PMOL/KG,,PMOL/KG,,FMOL/KG,,UMOL/KG,,UMOL/KG,,UATM,,DEG C,,,DEG C,TU,,NMOL/KG,,/MILLE,,/MILLE,,/MILLE,PMOL/KG,,/MILLE,,UMOL/KG,,UMOL/KG,,DBAR,/MILLE,,DEG C,KG/M^3,G/KG,,,,,,/MILLE,/MILLE,,/MILLE
33RO20110926,        A10,      53,          1,         24,      11714,2,20111013,       0632,   -30.0000,   -12.8134,       3295,     5.5,  17.4714,  35.8753,2,  35.8729,2,    240.0,2,   240.6,2,     1.1,2,     0.0,2,    0.01,2,   0.155,2,   2.426,6,   1.447,6,   1.469,6,     2085.6,6,  2356.7,2,  -999.0,9, -999.00,   7.9769,2,       25,-999.000,9,-999.0000,9, -999.00,9,  -999.0,9,  -999.0,   3.505,4, -999.00,9,-999.0000,9, -999.00,9,    5.50,  -999.0,9,  17.4705,     26.071,    36.0420,2,     -999.0,9,     -999.0,1,     -999.0,     -999.0,9,     -999.0
33RO20110926,        A10,      53,          1,         23,      11713,2,20111013,       0632,   -30.0000,   -12.8134,       3295,    52.1,  17.4605,  35.8743,2,  35.8778,2,    239.5,2,   240.5,2,     1.1,2,     0.0,2,    0.01,2,   0.159,2,   2.403,2,   1.446,2,   1.464,2,       2085,2,    2357,2,  -999.0,9, -999.00,   7.9794,6,       25,-999.000,9,-999.0000,9, -999.00,9,  -999.0,9,  -999.0,   3.428,4, -999.00,9,-999.0000,9, -999.00,9,   52.10,  -999.0,9,  17.4517,     26.077,    36.0470,2,     -999.0,9,     -999.0,9,     -999.0,     -999.0,9,     -999.0
33RO20110926,        A10,      53,          1,         22,      11712,2,20111013,       0632,   -30.0000,   -12.8134,       3295,    70.1,  17.0149,  35.8151,2,  35.8182,2,    238.5,2,   239.7,2,     1.2,2,     0.1,2,    0.11,2,   0.179,2,   2.461,2,   1.465,2,   1.480,2,     2086.2,2,  2349.7,2,  -999.0,9, -999.00,   7.9709,2,       25,-999.000,9,-999.0000,9, -999.00,9,  -999.0,9,  -999.0,   2.954,4, -999.00,9,-999.0000,9, -999.00,9,   70.10,  -999.0,9,  17.0033,     26.127,    35.9660,2,     -999.0,9,     -999.0,1,     -999.0,     -999.0,9,     -999.0
33RO20110926,        A10,      53,          1,         21,      11010,2,20111013,       0632,   -30.0000,   -12.8134,       3295,   105.1,  16.7985,  35.7979,2,  35.7972,2,    234.8,2,   235.4,2,     1.3,2,     0.4,2,    0.49,2,   0.223,2,   2.476,2,   1.465,2,   1.479,2,       2091,2,  2347.5,2,  -999.0,9, -999.00,   7.9559,2,       25,-999.000,9,-999.0000,9, -999.00,9,  -999.0,9,  -999.0,   2.413,4, -999.00,9,-999.0000,9, -999.00,9,  105.10,  -999.0,9,  16.7812,     26.194,    35.9871,2,     -999.0,9,     -999.0,1,     -999.0,     -999.0,9,     -999.0
33RO20110926,        A10,      53,          1,         20,      11715,2,20111013,       0632,   -30.0000,   -12.8134,       3295,   181.4,  15.8809,  35.6135,2,  35.6150,2,    225.5,2,   228.6,2,     1.7,6,     2.8,6,    0.04,6,   0.330,6,   2.590,2,   1.523,2,   1.451,2,     2096.2,2,  2334.4,2,  -999.0,9, -999.00,   7.9309,2,       25,-999.000,9,-999.0000,9, -999.00,9,  -999.0,9,  -999.0,   1.738,4, -999.00,9,-999.0000,9, -999.00,9,  181.40,  -999.0,9,  15.8522,     26.255,    35.7830,2,     -999.0,9,     -999.0,9,     -999.0,     -999.0,9,     -999.0
33RO20110926,        A10,      53,          1,         19,      11007,2,20111013,       0632,   -30.0000,   -12.8134,       3295,   250.0,  14.0265,  35.3046,2,  35.3046,2,    216.6,2,   217.8,2,     2.8,2,     7.0,2,    0.01,2,   0.597,2,   2.878,2,   1.642,2,   1.396,2,     2112.7,2,  2317.2,2,  -999.0,9, -999.00,   7.8718,2,       25,-999.000,9,-999.0000,9, -999.00,9,  -999.0,9,  -999.0,   1.077,3, -999.00,9,-999.0000,9, -999.00,9,  250.00,  -999.0,9,  13.9902,     26.423,    35.4711,2,     -999.0,9,     -999.0,9,     -999.0,     -999.0,9,     -999.0
33RO20110926,        A10,      53,          1,         18,      11710,2,20111013,       0632,   -30.0000,   -12.8134,       3295,   319.0,  12.9708,  35.1851,2,  35.1837,2,    217.3,2,     216,2,     3.3,2,     9.5,2,    0.01,2,   0.743,2,   3.037,2,   1.703,2,   1.284,2,     2120.1,2,    2314,2,  -999.0,9, -999.00,   7.8407,2,       25,-999.000,9,-999.0000,9, -999.00,9,  -999.0,9,  -999.0,   1.110,3, -999.00,9,-999.0000,9, -999.00,9,  319.00,  -999.0,9,  12.9267,     26.550,    35.3496,2,     -999.0,9,     -999.0,9,     -999.0,     -999.0,9,     -999.0
33RO20110926,        A10,      53,          1,         17,      11023,2,20111013,       0632,   -30.0000,   -12.8134,       3295,   390.9,  11.8473,  35.0406,2,  35.0403,2,    212.8,2,   211.8,2,     4.5,2,    12.7,2,    0.01,2,   0.936,2,   3.171,2,   1.740,2,   1.261,2,     2131.4,2,  2308.8,2,  -999.0,9, -999.00,   7.8076,2,       25,-999.000,9,-999.0000,9, -999.00,9,  -999.0,9,  -999.0,   1.136,3, -999.00,9,-999.0000,9, -999.00,9,  390.90,  -999.0,9,  11.7962,     26.659,    35.2056,2,     -999.0,9,     -999.0,9,     -999.0,     -999.0,9,     -999.0
33RO20110926,        A10,      53,          1,         16,      11709,2,20111013,       0632,   -30.0000,   -12.8134,       3295,   500.4,   9.9136,  34.7896,2,  34.7822,2,    210.5,2,   207.7,2,     6.9,6,    17.5,6,    0.01,6,   1.249,6,   3.262,2,   1.745,2,   1.140,2,     2145.6,2,  2285.8,3,  -999.0,9, -999.00,   7.7565,2,       25,-999.000,9,-999.0000,9, -999.00,9,  -999.0,9,  -999.0,   1.428,3, -999.00,9,-999.0000,9, -999.00,9,  500.40,  -999.0,9,   9.8551,     26.805,    34.9463,2,     -999.0,9,     -999.0,9,     -999.0,     -999.0,9,     -999.0
33RO20110926,        A10,      53,          1,         15,      11006,2,20111013,       0632,   -30.0000,   -12.8134,       3295,   601.1,   8.0836,  34.5738,2,  34.5736,2,    211.0,2,   209.8,2,    10.2,2,    22.1,2,    0.01,2,   1.531,2,   3.354,2,   1.740,2,   0.985,2,-999.000000,5,  2276.1,3,  -999.0,9, -999.00,   7.7064,2,       25,-999.000,9,-999.0000,9, -999.00,9,  -999.0,9,  -999.0,   1.906,3, -999.00,9,-999.0000,9, -999.00,9,  601.10,  -999.0,9,   8.0211,     26.935,    34.7366,2,     -999.0,9,     -999.0,9,     -999.0,     -999.0,9,     -999.0
33RO20110926,        A10,      53,          1,         14,      11708,2,20111013,       0632,   -30.0000,   -12.8134,       3295,   700.5,   6.2086,  34.3982,2,  34.4007,2,    216.8,2,   212.1,2,    15.7,2,    26.5,2,    0.01,2,   1.817,2,   3.224,2,   1.632,2,   0.831,2,     2170.6,2,    2282,2,  -999.0,9, -999.00,   7.6583,2,       25,-999.000,9,-999.0000,9, -999.00,9,  -999.0,9,  -999.0,   2.351,3, -999.00,9,-999.0000,9, -999.00,9,  700.50,  -999.0,9,   6.1454,     27.058,    34.5629,2,     -999.0,9,     -999.0,9,     -999.0,     -999.0,9,     -999.0
33RO20110926,        A10,      53,          1,         13,      11031,2,20111013,       0632,   -30.0000,   -12.8134,       3295,   800.7,   4.9249,  34.3146,2,  34.3149,2,    219.0,2,   220.5,2,    21.4,2,    28.9,2,    0.01,2,   1.981,2,   3.065,2,   1.505,2,   0.695,2,     2178.7,2,  2288.6,2,  -999.0,9, -999.00,   7.6423,2,       25,-999.000,9,-999.0000,9, -999.00,9,  -999.0,9,  -999.0,   2.640,3, -999.00,9,-999.0000,9, -999.00,9,  800.70,  -999.0,9,   4.8601,     27.148,    34.4767,2,     -999.0,9,     -999.0,9,     -999.0,     -999.0,9,     -999.0
33RO20110926,        A10,      53,          1,         12,      11027,2,20111013,       0632,   -30.0000,   -12.8134,       3295,   915.1,   4.1367,  34.3146,2,  34.3150,2,    213.9,2,   213.1,2,    29.6,2,    30.7,2,    0.01,2,   2.115,2,   2.471,2,   1.205,2,   0.498,2,     2193.6,6,  2292.6,2,  -999.0,9, -999.00,   7.6194,2,       25,-999.000,9,-999.0000,9, -999.00,9,  -999.0,9,  -999.0,   2.404,3, -999.00,9,-999.0000,9, -999.00,9,  915.10,  -999.0,9,   4.0674,     27.233,    34.4768,6,     -999.0,9,     -999.0,9,     -999.0,     -999.0,9,     -999.0
33RO20110926,        A10,      53,          1,         11,      11707,2,20111013,       0632,   -30.0000,   -12.8134,       3295,  1030.8,   3.6705,  34.3446,2,  34.3451,2,    208.3,2,   205.7,2,    36.9,2,    31.9,2,    0.01,2,   2.195,2,   1.903,2,   0.913,2,   0.353,2,       2204,2,  2298.7,2,  -999.0,9, -999.00,   7.6074,2,       25,-999.000,9,-999.0000,9, -999.00,9,  -999.0,9,  -999.0,   2.036,3, -999.00,9,-999.0000,9, -999.00,9, 1030.80,  -999.0,9,   3.5952,     27.306,    34.5070,2,     -999.0,9,     -999.0,9,     -999.0,     -999.0,9,     -999.0
33RO20110926,        A10,      53,          1,         10,      11003,2,20111013,       0632,   -30.0000,   -12.8134,       3295,  1180.6,   3.2186,  34.4276,2,  34.4267,2,    193.3,2,   193.7,2,    47.3,6,    32.7,6,    0.01,6,   2.262,6,   1.085,2,   0.527,2,   0.189,2,     2220.6,2,  2309.1,2,  -999.0,9, -999.00,   7.5894,2,       25,-999.000,9,-999.0000,9, -999.00,9,  -999.0,9,  -999.0,   1.422,3, -999.00,9,-999.0000,9, -999.00,9, 1180.60,  -999.0,9,   3.1349,     27.415,    34.5891,2,     -999.0,9,     -999.0,9,     -999.0,     -999.0,9,     -999.0
33RO20110926,        A10,      53,          1,          9,      11706,2,20111013,       0632,   -30.0000,   -12.8134,       3295,  1379.8,   2.9989,  34.5546,2,  34.5532,2,    186.7,2,   186.5,2,    54.5,2,    32.3,2,    0.01,2,   2.221,2,   0.474,2,   0.225,2,   0.103,2,       2230,2,  2319.4,6,  -999.0,9, -999.00,   7.5929,6,       25,-999.000,9,-999.0000,9, -999.00,9,  -999.0,9,  -999.0,   0.842,3, -999.00,9,-999.0000,9, -999.00,9, 1379.80,  -999.0,9,   2.9010,     27.537,    34.7161,2,     -999.0,9,     -999.0,9,     -999.0,     -999.0,9,     -999.0
33RO20110926,        A10,      53,          1,          8,      11033,2,20111013,       0632,   -30.0000,   -12.8134,       3295,  1579.6,   2.8895,  34.6736,2,  34.6799,2,    191.7,2,   193.2,2,    54.9,2,    30.2,2,    0.01,2,   2.076,2,   0.181,2,   0.084,2,   0.000,2,     2226.9,2,  2329.4,2,  -999.0,9, -999.00,   7.6162,2,       25,-999.000,9,-999.0000,9, -999.00,9,  -999.0,9,  -999.0,   0.419,3, -999.00,9,-999.0000,9, -999.00,9, 1579.60,  -999.0,9,   2.7760,     27.650,    34.8435,2,     -999.0,9,     -999.0,9,     -999.0,     -999.0,9,     -999.0
33RO20110926,        A10,      53,          1,          7,      11705,2,20111013,       0632,   -30.0000,   -12.8134,       3295,  1781.4,   2.7541,  34.7422,2,  34.7422,2,    202.5,2,   205.1,2,    54.4,6,    28.3,6,    0.01,6,   1.941,6,   0.090,2,   0.042,2,   0.000,2,     2221.8,2,  2331.8,2,  -999.0,9, -999.00,   7.6392,2,       25,-999.000,9,-999.0000,9, -999.00,9,  -999.0,9,  -999.0,   0.261,3, -999.00,9,-999.0000,9, -999.00,9, 1781.40,  -999.0,9,   2.6251,     27.713,    34.9061,2,     -999.0,9,     -999.0,9,     -999.0,     -999.0,9,     -999.0
33RO20110926,        A10,      53,          1,          6,      11029,2,20111013,       0632,   -30.0000,   -12.8134,       3295,  1980.1,   2.6853,  34.7888,2,  34.7904,2,    212.3,2,   212.7,2,    53.0,2,    26.9,2,    0.01,2,   1.833,2,   0.043,2,   0.023,2,   0.000,2,     2214.6,2,  2332.7,2,  -999.0,9, -999.00,   7.6583,2,       25,-999.000,9,-999.0000,9, -999.00,9,  -999.0,9,  -999.0,   0.185,3, -999.00,9,-999.0000,9, -999.00,9, 1980.10,  -999.0,9,   2.5397,     27.759,    34.9545,2,     -999.0,9,     -999.0,9,     -999.0,     -999.0,9,     -999.0
33RO20110926,        A10,      53,          1,          5,      11704,2,20111013,       0632,   -30.0000,   -12.8134,       3295,  2279.4,   2.5693,  34.8301,2,  34.8305,2,    224.2,2,   224.8,2,    50.9,2,    25.4,2,    0.01,2,   1.724,2,   0.017,2,   0.009,2,   0.000,2,     2206.6,2,    2329,2,  -999.0,9, -999.00,   7.6825,2,       25,-999.000,9,-999.0000,9, -999.00,9,  -999.0,9,  -999.0,   0.111,3, -999.00,9,-999.0000,9, -999.00,9, 2279.40,  -999.0,9,   2.3984,     27.803,    34.9947,2,     -999.0,9,     -999.0,9,     -999.0,     -999.0,9,     -999.0
33RO20110926,        A10,      53,          1,          4,      11030,2,20111013,       0632,   -30.0000,   -12.8134,       3295,  2578.8,   2.4793,  34.8527,2,  34.8540,2,    233.6,2,   234.2,2,    49.6,2,    24.1,2,    0.01,2,   1.648,2,   0.011,2,   0.007,2,   0.000,2,     2201.2,2,  2330.6,2,  -999.0,9, -999.00,   7.7005,2,       25,-999.000,9,-999.0000,9, -999.00,9,  -999.0,9,  -999.0,   0.077,3, -999.00,9,-999.0000,9, -999.00,9, 2578.80,  -999.0,9,   2.2818,     27.832,    35.0183,2,     -999.0,9,     -999.0,9,     -999.0,     -999.0,9,     -999.0
33RO20110926,        A10,      53,          1,          3,      11703,2,20111013,       0632,   -30.0000,   -12.8134,       3295,  2872.7,   2.4261,  34.8602,2,  34.8618,2,    236.7,2,   237.1,2,    50.0,6,    24.0,6,    0.01,6,   1.621,6,   0.009,2,   0.005,2,   0.000,2,     2200.8,2,  2336.8,2,  -999.0,9, -999.00,   7.7064,2,       25,-999.000,9,-999.0000,9, -999.00,9,  -999.0,9,  -999.0,   0.076,3, -999.00,9,-999.0000,9, -999.00,9, 2872.70,  -999.0,9,   2.2009,     27.845,    35.0261,2,     -999.0,9,     -999.0,9,     -999.0,     -999.0,9,     -999.0
33RO20110926,        A10,      53,          1,          2,      11702,2,20111013,       0632,   -30.0000,   -12.8134,       3295,  3180.6,   2.4353,  34.8613,2,  34.8628,2,    238.3,2,   236.8,2,    50.2,2,    23.9,2,    0.01,2,   1.614,2,   0.007,2,   0.005,2,   0.041,2,     2201.3,2,  2338.7,2,  -999.0,9, -999.00,   7.7064,2,       25,-999.000,9,-999.0000,9, -999.00,9,  -999.0,9,  -999.0,   0.079,3, -999.00,9,-999.0000,9, -999.00,9, 3180.60,  -999.0,9,   2.1786,     27.847,    35.0272,2,     -999.0,9,     -999.0,9,     -999.0,     -999.0,9,     -999.0
33RO20110926,        A10,      53,          1,          1,      11701,2,20111013,       0632,   -30.0000,   -12.8134,       3295,  3299.8,   2.4462,  34.8612,2,  34.8615,2,    237.8,2,   237.6,2,    50.2,2,    23.8,2,    0.01,2,   1.615,2,   0.008,6,   0.006,6,   0.032,6,     2200.2,6,  2335.5,6,  -999.0,9, -999.00,   7.7065,6,       25,-999.000,9,-999.0000,9, -999.00,9,  -999.0,9,  -999.0,   0.077,3, -999.00,9,-999.0000,9, -999.00,9, 3299.80,  -999.0,9,   2.1767,     27.846,    35.0259,2,     -999.0,9,     -999.0,9,     -999.0,     -999.0,9,     -999.0