BOTTLE,20220815CCHSIOAMB
EXPOCODE,SECT_ID,STNNBR,CASTNO,SAMPNO,BTLNBR,BTLNBR_FLAG_W,DATE,TIME,LATITUDE,LONGITUDE,DEPTH,CTDPRS,CTDTMP,CTDSAL,CTDSAL_FLAG_W,SALNTY,SALNTY_FLAG_W,CTDOXY,CTDOXY_FLAG_W,OXYGEN,OXYGEN_FLAG_W,SILCAT,SILCAT_FLAG_W,NITRAT,NITRAT_FLAG_W,NITRIT,NITRIT_FLAG_W,PHSPHT,PHSPHT_FLAG_W,CFC-11,CFC-11_FLAG_W,CFC-12,CFC-12_FLAG_W,SF6,SF6_FLAG_W,TCARBN,TCARBN_FLAG_W,ALKALI,ALKALI_FLAG_W,PCO2,PCO2_FLAG_W,PCO2TMP,PH_SWS,PH_SWS_FLAG_W,PH_TMP,TRITUM,TRITUM_FLAG_W,HELIUM,HELIUM_FLAG_W,DELC13,DELC13_FLAG_W,DELC14,DELC14_FLAG_W,C14ERR,CCL4,CCL4_FLAG_W,DELO18,DELO18_FLAG_W,DOC,DOC_FLAG_W,TDN,TDN_FLAG_W,CTDRAW,14C-DOC,14C-DOC_FLAG_W,THETA,SIG0,SALTREF,SALTREF_FLAG_W,BLACKC,BLACKC_FLAG_W,PIGMENTS,PIGMENTS_FLAG_W,14C-DOCERR,13C-DOC,13C-DOC_FLAG_W,13C-DOCERR
,,,,,,,,,,,METERS,DBAR,ITS-90,PSS-78,,PSS-78,,UMOL/KG,,UMOL/KG,,UMOL/KG,,UMOL/KG,,UMOL/KG,,UMOL/KG,,PMOL/KG,,PMOL/KG,,FMOL/KG,,UMOL/KG,,UMOL/KG,,UATM,,DEG C,,,DEG C,TU,,NMOL/KG,,/MILLE,,/MILLE,,/MILLE,PMOL/KG,,/MILLE,,UMOL/KG,,UMOL/KG,,DBAR,/MILLE,,DEG C,KG/M^3,G/KG,,,,,,/MILLE,/MILLE,,/MILLE
33RO20110926,        A10,     102,          1,         24,      11714,2,20111026,       0443,   -29.6350,   -41.1202,       3809,     5.3,  19.2710,  36.1772,2,  36.1779,2,    230.8,2,   230.4,2,     0.7,2,     0.0,2,    0.00,2,   0.029,4,   2.200,6,   1.338,6,   1.372,6,     2076.3,6,  2372.3,2,  -999.0,9, -999.00,    8.019,2,       25,-999.000,9,-999.0000,9, -999.00,9,  -999.0,9,  -999.0,   3.049,4, -999.00,9,-999.0000,9, -999.00,9,    5.30,  -999.0,9,  19.2700,     25.852,    36.3485,2,     -999.0,9,     -999.0,1,     -999.0,     -999.0,9,     -999.0
33RO20110926,        A10,     102,          1,         23,      11713,2,20111026,       0443,   -29.6350,   -41.1202,       3809,    45.3,  18.8658,  36.2349,2,  36.2351,2,    232.5,2,   232.4,2,     0.7,2,     0.0,2,    0.00,2,   0.043,4,-999.000,9,-999.000,9,-999.000,9,       2079,2,  2377.2,6,  -999.0,9, -999.00,   8.0155,6,       25,-999.000,9,-999.0000,9, -999.00,9,  -999.0,9,  -999.0,-999.000,5, -999.00,9,-999.0000,9, -999.00,9,   45.30,  -999.0,9,  18.8577,     26.002,    36.4059,2,     -999.0,9,     -999.0,9,     -999.0,     -999.0,9,     -999.0
33RO20110926,        A10,     102,          1,         22,      11712,2,20111026,       0443,   -29.6350,   -41.1202,       3809,    79.1,  18.8694,  36.2577,2,  36.2576,2,    230.5,2,   229.7,2,     0.7,2,     0.0,2,    0.01,2,   0.050,4,   2.106,2,   1.346,2,   1.359,2,-999.000000,9,  -999.0,9,  -999.0,9, -999.00,-999.0000,5,  -999.00,-999.000,9,-999.0000,9, -999.00,9,  -999.0,9,  -999.0,   3.483,4, -999.00,9,-999.0000,9, -999.00,9,   79.10,  -999.0,9,  18.8553,     26.019,    36.4286,2,     -999.0,9,     -999.0,1,     -999.0,     -999.0,9,     -999.0
33RO20110926,        A10,     102,          1,         21,      11010,2,20111026,       0443,   -29.6350,   -41.1202,       3809,   134.9,  17.8694,  36.0799,2,  36.0794,2,    226.9,2,   226.7,2,     0.8,6,     0.7,6,    0.05,6,   0.088,4,-999.000,9,-999.000,9,-999.000,9,       2086,2,  2367.3,2,  -999.0,9, -999.00,    7.994,2,       25,-999.000,9,-999.0000,9, -999.00,9,  -999.0,9,  -999.0,-999.000,5, -999.00,9,-999.0000,9, -999.00,9,  134.90,  -999.0,9,  17.8462,     26.136,    36.2495,2,     -999.0,9,     -999.0,1,     -999.0,     -999.0,9,     -999.0
33RO20110926,        A10,     102,          1,         20,      11715,2,20111026,       0443,   -29.6350,   -41.1202,       3809,   180.4,  16.9271,  35.8688,2,  35.8738,2,    223.7,2,   222.4,2,     1.2,2,     2.0,2,    0.01,2,   0.164,4,-999.000,9,-999.000,9,-999.000,9,-999.000000,9,  -999.0,9,  -999.0,9, -999.00,-999.0000,5,  -999.00,-999.000,9,-999.0000,9, -999.00,9,  -999.0,9,  -999.0,-999.000,5, -999.00,9,-999.0000,9, -999.00,9,  180.40,  -999.0,9,  16.8973,     26.212,    36.0430,2,     -999.0,9,     -999.0,9,     -999.0,     -999.0,9,     -999.0
33RO20110926,        A10,     102,          1,         19,      11007,2,20111026,       0443,   -29.6350,   -41.1202,       3809,   269.9,  15.1001,  35.5770,2,  35.5760,2,    210.6,2,   209.9,2,     2.1,2,     6.1,2,    0.01,2,   0.371,4,   2.681,2,   1.575,2,   1.281,2,       2114,2,  2341.9,2,  -999.0,9, -999.00,-999.0000,5,  -999.00,-999.000,9,-999.0000,9, -999.00,9,  -999.0,9,  -999.0,   1.036,3, -999.00,9,-999.0000,9, -999.00,9,  269.90,  -999.0,9,  15.0587,     26.403,    35.7438,2,     -999.0,9,     -999.0,9,     -999.0,     -999.0,9,     -999.0
33RO20110926,        A10,     102,          1,         18,      11710,2,20111026,       0443,   -29.6350,   -41.1202,       3809,   341.2,  14.1759,  35.4605,2,  35.4599,2,    213.0,2,   212.5,2,     2.6,2,     8.0,2,    0.01,2,   0.459,4,-999.000,9,-999.000,9,-999.000,9,-999.000000,9,  -999.0,9,  -999.0,9, -999.00,-999.0000,5,  -999.00,-999.000,9,-999.0000,9, -999.00,9,  -999.0,9,  -999.0,-999.000,9, -999.00,9,-999.0000,9, -999.00,9,  341.20,  -999.0,9,  14.1257,     26.516,    35.6271,2,     -999.0,9,     -999.0,9,     -999.0,     -999.0,9,     -999.0
33RO20110926,        A10,     102,          1,         17,      11023,2,20111026,       0443,   -29.6350,   -41.1202,       3809,   440.6,  12.4331,  35.1635,2,  35.1618,2,    210.0,2,   209.6,2,     3.9,2,    12.0,2,    0.01,2,   0.641,4,-999.000,9,-999.000,9,-999.000,9,     2128.2,2,  2317.6,2,  -999.0,9, -999.00,   7.8256,2,       25,-999.000,9,-999.0000,9, -999.00,9,  -999.0,9,  -999.0,-999.000,9, -999.00,9,-999.0000,9, -999.00,9,  440.60,  -999.0,9,  12.3736,     26.643,    35.3276,2,     -999.0,9,     -999.0,9,     -999.0,     -999.0,9,     -999.0
33RO20110926,        A10,     102,          1,         16,      11709,2,20111026,       0443,   -29.6350,   -41.1202,       3809,   541.3,   9.9961,  34.8063,2,  34.8095,2,    205.8,2,   205.1,2,     6.9,2,    18.0,2,    0.01,2,   0.929,4,   3.140,2,   1.681,2,   0.955,2,-999.000000,9,  -999.0,9,  -999.0,9, -999.00,-999.0000,5,  -999.00,-999.000,9,-999.0000,9, -999.00,9,  -999.0,9,  -999.0,   1.919,3, -999.00,9,-999.0000,9, -999.00,9,  541.30,  -999.0,9,   9.9323,     26.812,    34.9736,2,     -999.0,9,     -999.0,9,     -999.0,     -999.0,9,     -999.0
33RO20110926,        A10,     102,          1,         15,      11006,2,20111026,       0443,   -29.6350,   -41.1202,       3809,   639.8,   7.6755,  34.5334,2,  34.5330,2,    210.2,2,   209.3,2,    10.7,6,    23.2,6,    0.01,6,   1.185,4,-999.000,9,-999.000,9,-999.000,9,     2159.3,2,  2289.3,2,  -999.0,9, -999.00,   7.7005,2,       25,-999.000,9,-999.0000,9, -999.00,9,  -999.0,9,  -999.0,-999.000,9, -999.00,9,-999.0000,9, -999.00,9,  639.80,  -999.0,9,   7.6108,     26.964,    34.6958,2,     -999.0,9,     -999.0,9,     -999.0,     -999.0,9,     -999.0
33RO20110926,        A10,     102,          1,         14,      11708,2,20111026,       0443,   -29.6350,   -41.1202,       3809,   740.9,   5.8974,  34.3572,2,  34.3574,2,    222.4,2,   223.8,2,    14.6,2,    26.2,2,    0.00,2,   1.375,4,   3.295,2,   1.680,2,   0.879,2,-999.000000,9,  -999.0,9,  -999.0,9, -999.00,-999.0000,5,  -999.00,-999.000,9,-999.0000,9, -999.00,9,  -999.0,9,  -999.0,   4.085,3, -999.00,9,-999.0000,9, -999.00,9,  740.90,  -999.0,9,   5.8321,     27.065,    34.5194,2,     -999.0,9,     -999.0,9,     -999.0,     -999.0,9,     -999.0
33RO20110926,        A10,     102,          1,         13,      11031,2,20111026,       0443,   -29.6350,   -41.1202,       3809,   839.9,   4.9541,  34.3010,2,  34.3011,2,    226.2,2,     226,2,    19.1,6,    28.2,6,    0.01,6,   1.498,4,-999.000,9,-999.000,9,-999.000,9,-999.000000,9,  -999.0,9,  -999.0,9, -999.00,-999.0000,5,  -999.00,-999.000,9,-999.0000,9, -999.00,9,  -999.0,9,  -999.0,-999.000,9, -999.00,9,-999.0000,9, -999.00,9,  839.90,  -999.0,9,   4.8857,     27.134,    34.4629,2,     -999.0,9,     -999.0,9,     -999.0,     -999.0,9,     -999.0
33RO20110926,        A10,     102,          1,         12,      11027,2,20111026,       0443,   -29.6350,   -41.1202,       3809,   975.0,   4.0537,  34.3147,2,  34.3156,2,    214.2,2,   213.2,2,    29.6,2,    30.9,2,    0.00,2,   1.724,4,   2.199,2,   1.074,2,   0.405,2,       2193,2,  2295.3,2,  -999.0,9, -999.00,   7.6224,2,       25,-999.000,9,-999.0000,9, -999.00,9,  -999.0,9,  -999.0,   3.508,3, -999.00,9,-999.0000,9, -999.00,9,  975.00,  -999.0,9,   3.9800,     27.244,    34.4774,2,     -999.0,9,     -999.0,9,     -999.0,     -999.0,9,     -999.0
33RO20110926,        A10,     102,          1,         11,      11707,2,20111026,       0443,   -29.6350,   -41.1202,       3809,  1108.7,   3.4810,  34.3691,2,  34.3709,2,    201.3,2,   201.5,2,    40.2,2,    32.6,2,    0.00,2,   1.896,4,-999.000,9,-999.000,9,-999.000,9,-999.000000,9,  -999.0,9,  -999.0,9, -999.00,-999.0000,5,  -999.00,-999.000,9,-999.0000,9, -999.00,9,  -999.0,9,  -999.0,-999.000,9, -999.00,9,-999.0000,9, -999.00,9, 1108.70,  -999.0,9,   3.4008,     27.345,    34.5330,2,     -999.0,9,     -999.0,9,     -999.0,     -999.0,9,     -999.0
33RO20110926,        A10,     102,          1,         10,      11003,2,20111026,       0443,   -29.6350,   -41.1202,       3809,  1329.6,   3.0751,  34.4994,2,  34.5018,2,    189.3,2,   188.8,2,    51.4,2,    32.7,2,    0.00,2,   2.011,4,   0.603,2,   0.288,2,   0.115,2,     2226.6,2,  2319.4,2,  -999.0,9, -999.00,   7.5972,2,       25,-999.000,9,-999.0000,9, -999.00,9,  -999.0,9,  -999.0,   1.337,3, -999.00,9,-999.0000,9, -999.00,9, 1329.60,  -999.0,9,   2.9806,     27.489,    34.6645,2,     -999.0,9,     -999.0,9,     -999.0,     -999.0,9,     -999.0
33RO20110926,        A10,     102,          1,          9,      11706,2,20111026,       0443,   -29.6350,   -41.1202,       3809,  1574.8,   2.9278,  34.6460,2,  34.6464,2,    192.0,2,   191.4,2,    54.1,2,    30.9,2,    0.00,2,   1.944,4,-999.000,9,-999.000,9,-999.000,9,-999.000000,9,  -999.0,9,  -999.0,9, -999.00,-999.0000,5,  -999.00,-999.000,9,-999.0000,9, -999.00,9,  -999.0,9,  -999.0,-999.000,9, -999.00,9,-999.0000,9, -999.00,9, 1574.80,  -999.0,9,   2.8143,     27.620,    34.8098,2,     -999.0,9,     -999.0,9,     -999.0,     -999.0,9,     -999.0
33RO20110926,        A10,     102,          1,          8,      11033,2,20111026,       0443,   -29.6350,   -41.1202,       3809,  1800.0,   3.3604,  34.8285,2,  34.8304,2,    214.9,2,   216.3,2,    37.9,2,    25.5,2,    0.00,2,   1.536,4,   0.132,2,   0.066,2,   0.000,2,     2200.1,2,  2324.1,2,  -999.0,9, -999.00,   7.6763,2,       25,-999.000,9,-999.0000,9, -999.00,9,  -999.0,9,  -999.0,   0.574,3, -999.00,9,-999.0000,9, -999.00,9, 1800.00,  -999.0,9,   3.2212,     27.730,    34.9946,2,     -999.0,9,     -999.0,9,     -999.0,     -999.0,9,     -999.0
33RO20110926,        A10,     102,          1,          7,      11705,2,20111026,       0443,   -29.6350,   -41.1202,       3809,  2050.3,   3.2712,  34.8762,2,  34.8778,2,    228.5,2,   230.1,2,    34.3,2,    23.5,2,    0.00,2,   1.404,4,   0.136,2,   0.069,2,   0.000,2,-999.000000,9,  -999.0,9,  -999.0,9, -999.00,-999.0000,5,  -999.00,-999.000,9,-999.0000,9, -999.00,9,  -999.0,9,  -999.0,   0.579,3, -999.00,9,-999.0000,9, -999.00,9, 2050.30,  -999.0,9,   3.1101,     27.776,    35.0423,6,     -999.0,9,     -999.0,9,     -999.0,     -999.0,9,     -999.0
33RO20110926,        A10,     102,          1,          6,      11029,2,20111026,       0443,   -29.6350,   -41.1202,       3809,  2349.6,   3.2816,  34.9349,2,  34.9394,2,    248.3,2,   247.5,2,    25.9,2,    20.8,2,    0.00,2,   1.194,4,   0.178,2,   0.090,2,   0.000,2,-999.000000,9,  -999.0,9,  -999.0,9, -999.00,-999.0000,5,  -999.00,-999.000,9,-999.0000,9, -999.00,9,  -999.0,9,  -999.0,   0.701,3, -999.00,9,-999.0000,9, -999.00,9, 2349.60,  -999.0,9,   3.0914,     27.828,    35.1041,2,     -999.0,9,     -999.0,9,     -999.0,     -999.0,9,     -999.0
33RO20110926,        A10,     102,          1,          5,      11704,2,20111026,       0443,   -29.6350,   -41.1202,       3809,  2654.9,   3.0525,  34.9281,2,  34.9307,2,    249.3,2,   248.6,2,    28.8,6,    20.6,6,    0.00,6,   1.214,4,   0.115,2,   0.058,2,   0.037,2,     2177.8,2,  2323.9,2,  -999.0,9, -999.00,   7.7334,2,       25,-999.000,9,-999.0000,9, -999.00,9,  -999.0,9,  -999.0,   0.520,3, -999.00,9,-999.0000,9, -999.00,9, 2654.90,  -999.0,9,   2.8361,     27.845,    35.0954,2,     -999.0,9,     -999.0,9,     -999.0,     -999.0,9,     -999.0
33RO20110926,        A10,     102,          1,          4,      11030,2,20111026,       0443,   -29.6350,   -41.1202,       3809,  2925.8,   2.8854,  34.9241,2,  34.9327,2,    251.6,2,   250.5,2,    31.1,2,    20.8,2,    0.00,2,   1.247,4,   0.096,2,   0.049,2,   0.000,2,-999.000000,9,  -999.0,9,  -999.0,9, -999.00,-999.0000,5,  -999.00,-999.000,9,-999.0000,9, -999.00,9,  -999.0,9,  -999.0,   0.471,3, -999.00,9,-999.0000,9, -999.00,9, 2925.80,  -999.0,9,   2.6448,     27.863,    35.0974,2,     -999.0,9,     -999.0,9,     -999.0,     -999.0,9,     -999.0
33RO20110926,        A10,     102,          1,          3,      11703,2,20111026,       0443,   -29.6350,   -41.1202,       3809,  3250.1,   2.5465,  34.9004,2,  34.9030,2,    250.0,2,   250.7,2,    39.2,2,    21.6,2,    0.00,2,   1.357,4,   0.076,2,   0.041,2,   0.030,2,     2185.6,2,  -999.0,5,  -999.0,9, -999.00,-999.0000,5,  -999.00,-999.000,9,-999.0000,9, -999.00,9,  -999.0,9,  -999.0,   0.403,3, -999.00,9,-999.0000,9, -999.00,9, 3250.10,  -999.0,9,   2.2797,     27.871,    35.0676,2,     -999.0,9,     -999.0,9,     -999.0,     -999.0,9,     -999.0
33RO20110926,        A10,     102,          1,          2,      11702,2,20111026,       0443,   -29.6350,   -41.1202,       3809,  3547.2,   1.4858,  34.7927,2,  34.7953,2,    233.1,2,   231.9,2,    79.7,2,    27.2,2,    0.00,2,   2.004,4,   0.097,2,   0.047,2,   0.093,2,-999.000000,9,  -999.0,9,  -999.0,9, -999.00,-999.0000,5,  -999.00,-999.000,9,-999.0000,9, -999.00,9,  -999.0,9,  -999.0,   0.357,3, -999.00,9,-999.0000,9, -999.00,9, 3547.20,  -999.0,9,   1.2145,     27.866,    34.9593,2,     -999.0,9,     -999.0,9,     -999.0,     -999.0,9,     -999.0
33RO20110926,        A10,     102,          1,          1,      11701,2,20111026,       0443,   -29.6350,   -41.1202,       3809,  3817.0,   0.7456,  34.7163,2,  34.7162,2,    222.1,2,   221.4,2,   109.5,2,    31.0,2,    0.00,2,   2.459,4,   0.230,6,   0.109,6,   0.097,6,     2253.7,6,  2361.2,6,  -999.0,9, -999.00,   7.6278,6,       25,-999.000,9,-999.0000,9, -999.00,9,  -999.0,9,  -999.0,   0.600,3, -999.00,9,-999.0000,9, -999.00,9, 3817.00,  -999.0,9,   0.4667,     27.851,    34.8799,2,     -999.0,9,     -999.0,9,     -999.0,     -999.0,9,     -999.0