BOTTLE,20220815CCHSIOAMB
EXPOCODE,SECT_ID,STNNBR,CASTNO,SAMPNO,BTLNBR,BTLNBR_FLAG_W,DATE,TIME,LATITUDE,LONGITUDE,DEPTH,CTDPRS,CTDTMP,CTDSAL,CTDSAL_FLAG_W,SALNTY,SALNTY_FLAG_W,CTDOXY,CTDOXY_FLAG_W,OXYGEN,OXYGEN_FLAG_W,SILCAT,SILCAT_FLAG_W,NITRAT,NITRAT_FLAG_W,NITRIT,NITRIT_FLAG_W,PHSPHT,PHSPHT_FLAG_W,CFC-11,CFC-11_FLAG_W,CFC-12,CFC-12_FLAG_W,SF6,SF6_FLAG_W,TCARBN,TCARBN_FLAG_W,ALKALI,ALKALI_FLAG_W,PCO2,PCO2_FLAG_W,PCO2TMP,PH_SWS,PH_SWS_FLAG_W,PH_TMP,TRITUM,TRITUM_FLAG_W,HELIUM,HELIUM_FLAG_W,DELC13,DELC13_FLAG_W,DELC14,DELC14_FLAG_W,C14ERR,CCL4,CCL4_FLAG_W,DELO18,DELO18_FLAG_W,DOC,DOC_FLAG_W,TDN,TDN_FLAG_W,CTDRAW,14C-DOC,14C-DOC_FLAG_W,THETA,SIG0,SALTREF,SALTREF_FLAG_W,BLACKC,BLACKC_FLAG_W,PIGMENTS,PIGMENTS_FLAG_W,14C-DOCERR,13C-DOC,13C-DOC_FLAG_W,13C-DOCERR
,,,,,,,,,,,METERS,DBAR,ITS-90,PSS-78,,PSS-78,,UMOL/KG,,UMOL/KG,,UMOL/KG,,UMOL/KG,,UMOL/KG,,UMOL/KG,,PMOL/KG,,PMOL/KG,,FMOL/KG,,UMOL/KG,,UMOL/KG,,UATM,,DEG C,,,DEG C,TU,,NMOL/KG,,/MILLE,,/MILLE,,/MILLE,PMOL/KG,,/MILLE,,UMOL/KG,,UMOL/KG,,DBAR,/MILLE,,DEG C,KG/M^3,G/KG,,,,,,/MILLE,/MILLE,,/MILLE
33RO20110926,        A10,      42,          1,         24,      11714,2,20111008,       0957,   -30.0003,    -5.6601,       4329,     4.7,  18.2968,  35.8630,2,  35.8658,2,    238.1,2,   238.2,2,     1.3,2,     0.0,2,    0.00,2,   0.148,2,   2.368,2,   1.427,2,   1.466,2,     2080.6,6,  2353.9,6,  -999.0,9, -999.00,   7.9734,6,       25,-999.000,9,-999.0000,9, -999.00,9,  -999.0,9,  -999.0,   3.071,4, -999.00,9,-999.0000,9, -999.00,9,    4.70,  -999.0,9,  18.2960,     25.860,    36.0349,2,     -999.0,9,     -999.0,1,     -999.0,     -999.0,9,     -999.0
33RO20110926,        A10,      42,          1,         23,      11713,2,20111008,       0957,   -30.0003,    -5.6601,       4329,    24.0,  18.0324,  35.8549,2,  35.8566,2,    239.8,2,   240.2,2,     1.3,2,     0.0,2,    0.00,2,   0.151,2,   2.377,2,   1.442,2,   1.458,2,     2077.8,2,  2352.6,2,  -999.0,9, -999.00,     7.98,2,       25,-999.000,9,-999.0000,9, -999.00,9,  -999.0,9,  -999.0,   3.255,4, -999.00,9,-999.0000,9, -999.00,9,   24.00,  -999.0,9,  18.0282,     25.923,    36.0257,2,     -999.0,9,     -999.0,9,     -999.0,     -999.0,9,     -999.0
33RO20110926,        A10,      42,          1,         22,      11712,3,20111008,       0957,   -30.0003,    -5.6601,       4329,    74.6,  17.1514,  35.8195,2,  35.8056,3,    243.2,2,  -999.0,9, -999.00,5,  -999.0,5, -999.00,5,-999.000,5,-999.000,9,-999.000,9,-999.000,9,-999.000000,9,  -999.0,9,  -999.0,9, -999.00,-999.0000,5,  -999.00,-999.000,9,-999.0000,9, -999.00,9,  -999.0,9,  -999.0,-999.000,5, -999.00,9,-999.0000,9, -999.00,9,   74.60,  -999.0,9,  17.1390,     26.099,    35.9744,2,     -999.0,9,     -999.0,1,     -999.0,     -999.0,9,     -999.0
33RO20110926,        A10,      42,          1,         21,      11010,2,20111008,       0957,   -30.0003,    -5.6601,       4329,   150.0,  16.8967,  35.8066,2,  35.8058,2,    233.3,2,   232.2,2,     1.5,2,     0.8,2,    0.43,2,   0.235,2,   2.400,2,   1.453,2,   1.418,2,     2085.2,2,  2350.4,2,  -999.0,9, -999.00,   7.9619,2,       25,-999.000,9,-999.0000,9, -999.00,9,  -999.0,9,  -999.0,   1.901,4, -999.00,9,-999.0000,9, -999.00,9,  150.00,  -999.0,9,  16.8720,     26.163,    35.9747,2,     -999.0,9,     -999.0,1,     -999.0,     -999.0,9,     -999.0
33RO20110926,        A10,      42,          1,         20,      11715,2,20111008,       0957,   -30.0003,    -5.6601,       4329,   189.9,  16.7138,  35.7638,2,  35.7632,2,    231.4,2,   230.8,2,     1.7,6,     1.5,6,    0.16,6,   0.259,6,   2.438,2,   1.470,2,   1.441,2,     2086.9,2,  2348.2,2,  -999.0,9, -999.00,   7.9539,2,       25,-999.000,9,-999.0000,9, -999.00,9,  -999.0,9,  -999.0,   1.861,4, -999.00,9,-999.0000,9, -999.00,9,  189.90,  -999.0,9,  16.6826,     26.176,    35.9318,2,     -999.0,9,     -999.0,9,     -999.0,     -999.0,9,     -999.0
33RO20110926,        A10,      42,          1,         19,      11007,2,20111008,       0957,   -30.0003,    -5.6601,       4329,   230.1,  15.6915,  35.5458,2,  35.5473,2,    224.9,2,   224.4,2,     2.5,2,     3.8,2,    0.01,2,   0.386,2,   2.562,2,   1.538,2,   1.494,2,-999.000000,9,  2333.1,2,  -999.0,9, -999.00,   7.9269,2,       25,-999.000,9,-999.0000,9, -999.00,9,  -999.0,9,  -999.0,   0.932,3, -999.00,9,-999.0000,9, -999.00,9,  230.10,  -999.0,9,  15.6554,     26.246,    35.7150,2,     -999.0,9,     -999.0,9,     -999.0,     -999.0,9,     -999.0
33RO20110926,        A10,      42,          1,         18,      11710,2,20111008,       0957,   -30.0003,    -5.6601,       4329,   360.9,  14.3527,  35.3178,2,  35.3195,2,    224.0,2,   223.8,2,     2.7,2,     5.8,2,    0.01,2,   0.524,2,   2.740,2,   1.628,2,   1.465,2,     2099.2,2,  2321.5,2,  -999.0,9, -999.00,   7.8918,2,       25,-999.000,9,-999.0000,9, -999.00,9,  -999.0,9,  -999.0,   0.943,3, -999.00,9,-999.0000,9, -999.00,9,  360.90,  -999.0,9,  14.2992,     26.368,    35.4860,2,     -999.0,9,     -999.0,9,     -999.0,     -999.0,9,     -999.0
33RO20110926,        A10,      42,          1,         17,      11023,2,20111008,       0957,   -30.0003,    -5.6601,       4329,   500.3,  12.0336,  35.0504,2,  35.0510,2,    211.6,2,   212.1,2,     4.4,6,    12.3,6,    0.01,6,   0.914,6,   3.074,2,   1.738,2,   1.228,2,-999.000000,9,  2308.4,2,  -999.0,9, -999.00,   7.8056,2,       25,-999.000,9,-999.0000,9, -999.00,9,  -999.0,9,  -999.0,   1.012,3, -999.00,9,-999.0000,9, -999.00,9,  500.30,  -999.0,9,  11.9674,     26.634,    35.2163,3,     -999.0,9,     -999.0,9,     -999.0,     -999.0,9,     -999.0
33RO20110926,        A10,      42,          1,         16,      11709,2,20111008,       0957,   -30.0003,    -5.6601,       4329,   640.0,   9.4804,  34.7286,2,  34.7294,2,    208.0,2,   208.1,2,     8.2,2,    18.7,2,    0.00,2,   1.325,2,   3.181,2,   1.723,2,   1.031,2,     2147.8,2,  2295.8,2,  -999.0,9, -999.00,   7.7405,2,       25,-999.000,9,-999.0000,9, -999.00,9,  -999.0,9,  -999.0,   1.499,3, -999.00,9,-999.0000,9, -999.00,9,  640.00,  -999.0,9,   9.4071,     26.839,    34.8932,3,     -999.0,9,     -999.0,9,     -999.0,     -999.0,9,     -999.0
33RO20110926,        A10,      42,          1,         15,      11006,2,20111008,       0957,   -30.0003,    -5.6601,       4329,   770.1,   7.0992,  34.4808,2,  34.4825,2,    207.8,2,     207,2,    14.2,2,    24.8,2,    0.00,2,   1.722,2,   3.090,2,   1.621,2,   0.869,2,-999.000000,9,    2290,2,  -999.0,9, -999.00,   7.6713,2,       25,-999.000,9,-999.0000,9, -999.00,9,  -999.0,9,  -999.0,   2.055,3, -999.00,9,-999.0000,9, -999.00,9,  770.10,  -999.0,9,   7.0241,     27.008,    34.6451,2,     -999.0,9,     -999.0,9,     -999.0,     -999.0,9,     -999.0
33RO20110926,        A10,      42,          1,         14,      11708,2,20111008,       0957,   -30.0003,    -5.6601,       4329,   889.5,   5.3411,  34.3495,2,  34.3492,2,    213.1,2,   212.5,2,    21.2,2,    28.5,2,    0.00,2,   1.979,2,-999.000,9,-999.000,9,-999.000,9,-999.000000,9,  2290.8,2,  -999.0,9, -999.00,   7.6433,2,       25,-999.000,9,-999.0000,9, -999.00,9,  -999.0,9,  -999.0,-999.000,9, -999.00,9,-999.0000,9, -999.00,9,  889.50,  -999.0,9,   5.2656,     27.128,    34.5112,2,     -999.0,9,     -999.0,9,     -999.0,     -999.0,9,     -999.0
33RO20110926,        A10,      42,          1,         13,      11031,2,20111008,       0957,   -30.0003,    -5.6601,       4329,  1109.6,   3.9206,  34.3704,2,  34.3693,2,    197.5,2,   196.7,2,    37.7,2,    32.2,2,    0.00,2,   2.245,2,-999.000,9,-999.000,9,-999.000,9,-999.000000,9,    2304,2,  -999.0,9, -999.00,   7.5902,2,       25,-999.000,9,-999.0000,9, -999.00,9,  -999.0,9,  -999.0,-999.000,9, -999.00,9,-999.0000,9, -999.00,9, 1109.60,  -999.0,9,   3.8366,     27.301,    34.5313,2,     -999.0,9,     -999.0,9,     -999.0,     -999.0,9,     -999.0
33RO20110926,        A10,      42,          1,         12,      11027,2,20111008,       0957,   -30.0003,    -5.6601,       4329,  1359.8,   3.1995,  34.5252,2,  34.5236,2,    180.1,2,   179.6,2,    53.8,6,    32.9,6,    0.00,6,   2.298,6,-999.000,9,-999.000,9,-999.000,9,     2228.2,2,  2323.6,6,  -999.0,9, -999.00,   7.5834,6,       25,-999.000,9,-999.0000,9, -999.00,9,  -999.0,9,  -999.0,-999.000,9, -999.00,9,-999.0000,9, -999.00,9, 1359.80,  -999.0,9,   3.1013,     27.495,    34.6864,2,     -999.0,9,     -999.0,9,     -999.0,     -999.0,9,     -999.0
33RO20110926,        A10,      42,          1,         11,      11707,2,20111008,       0957,   -30.0003,    -5.6601,       4329,  1530.4,   3.0314,  34.6279,2,  34.6273,2,    185.7,2,   186.3,2,    54.0,2,    31.4,2,    0.00,2,   2.181,2,-999.000,9,-999.000,9,-999.000,9,-999.000000,9,  2326.2,2,  -999.0,9, -999.00,   7.5982,2,       25,-999.000,9,-999.0000,9, -999.00,9,  -999.0,9,  -999.0,-999.000,9, -999.00,9,-999.0000,9, -999.00,9, 1530.40,  -999.0,9,   2.9205,     27.595,    34.7906,2,     -999.0,9,     -999.0,9,     -999.0,     -999.0,9,     -999.0
33RO20110926,        A10,      42,          1,         10,      11003,2,20111008,       0957,   -30.0003,    -5.6601,       4329,  1741.0,   2.9437,  34.7262,2,  34.7254,2,    196.7,2,     197,2,    51.9,2,    29.1,2,    0.00,2,   2.007,2,-999.000,9,-999.000,9,-999.000,9,-999.000000,9,  2329.5,2,  -999.0,9, -999.00,   7.6242,2,       25,-999.000,9,-999.0000,9, -999.00,9,  -999.0,9,  -999.0,-999.000,9, -999.00,9,-999.0000,9, -999.00,9, 1741.00,  -999.0,9,   2.8156,     27.682,    34.8891,2,     -999.0,9,     -999.0,9,     -999.0,     -999.0,9,     -999.0
33RO20110926,        A10,      42,          1,          9,      11706,2,20111008,       0957,   -30.0003,    -5.6601,       4329,  1989.3,   2.6969,  34.7758,2,  34.7755,2,    207.8,2,   209.1,2,    53.9,2,    27.5,2,    0.00,2,   1.894,2,-999.000,9,-999.000,9,-999.000,9,-999.000000,9,  2333.1,2,  -999.0,9, -999.00,   7.6493,2,       25,-999.000,9,-999.0000,9, -999.00,9,  -999.0,9,  -999.0,-999.000,9, -999.00,9,-999.0000,9, -999.00,9, 1989.30,  -999.0,9,   2.5503,     27.746,    34.9395,2,     -999.0,9,     -999.0,9,     -999.0,     -999.0,9,     -999.0
33RO20110926,        A10,      42,          1,          8,      11033,2,20111008,       0957,   -30.0003,    -5.6601,       4329,  2240.2,   2.5727,  34.8178,2,  34.8170,2,    217.9,2,     220,2,    52.6,2,    26.0,2,    0.00,2,   1.777,2,-999.000,9,-999.000,9,-999.000,9,-999.000000,9,  2335.8,2,  -999.0,9, -999.00,   7.6715,2,       25,-999.000,9,-999.0000,9, -999.00,9,  -999.0,9,  -999.0,-999.000,9, -999.00,9,-999.0000,9, -999.00,9, 2240.20,  -999.0,9,   2.4053,     27.792,    34.9812,2,     -999.0,9,     -999.0,9,     -999.0,     -999.0,9,     -999.0
33RO20110926,        A10,      42,          1,          7,      11705,2,20111008,       0957,   -30.0003,    -5.6601,       4329,  2539.3,   2.4881,  34.8454,2,  34.8457,2,    227.7,2,     229,2,    50.8,6,    24.7,6,    0.00,6,   1.690,6,-999.000,9,-999.000,9,-999.000,9,-999.000000,9,  2335.5,2,  -999.0,9, -999.00,   7.6895,2,       25,-999.000,9,-999.0000,9, -999.00,9,  -999.0,9,  -999.0,-999.000,9, -999.00,9,-999.0000,9, -999.00,9, 2539.30,  -999.0,9,   2.2942,     27.824,    35.0100,2,     -999.0,9,     -999.0,9,     -999.0,     -999.0,9,     -999.0
33RO20110926,        A10,      42,          1,          6,      11029,2,20111008,       0957,   -30.0003,    -5.6601,       4329,  2839.7,   2.4069,  34.8601,2,  34.8606,2,    233.6,2,   234.9,2,    50.4,2,    24.1,2,    0.00,2,   1.646,2,-999.000,9,-999.000,9,-999.000,9,     2198.3,3,  2339.5,2,  -999.0,9, -999.00,   7.7005,2,       25,-999.000,9,-999.0000,9, -999.00,9,  -999.0,9,  -999.0,-999.000,9, -999.00,9,-999.0000,9, -999.00,9, 2839.70,  -999.0,9,   2.1854,     27.845,    35.0250,2,     -999.0,9,     -999.0,9,     -999.0,     -999.0,9,     -999.0
33RO20110926,        A10,      42,          1,          5,      11704,2,20111008,       0957,   -30.0003,    -5.6601,       4329,  3140.4,   2.3770,  34.8673,2,  34.8673,2,    236.5,2,   235.9,2,    50.3,2,    23.8,2,    0.00,2,   1.627,2,-999.000,9,-999.000,9,-999.000,9,-999.000000,9,  2340.3,2,  -999.0,9, -999.00,   7.7126,2,       25,-999.000,9,-999.0000,9, -999.00,9,  -999.0,9,  -999.0,-999.000,9, -999.00,9,-999.0000,9, -999.00,9, 3140.40,  -999.0,9,   2.1257,     27.855,    35.0318,2,     -999.0,9,     -999.0,9,     -999.0,     -999.0,9,     -999.0
33RO20110926,        A10,      42,          1,          4,      11030,2,20111008,       0957,   -30.0003,    -5.6601,       4329,  3440.5,   2.3580,  34.8740,2,  34.8739,2,    236.4,2,   236.3,2,    51.0,2,    23.7,2,    0.00,2,   1.613,2,-999.000,9,-999.000,9,-999.000,9,-999.000000,9,  2348.3,2,  -999.0,9, -999.00,   7.7116,2,       25,-999.000,9,-999.0000,9, -999.00,9,  -999.0,9,  -999.0,-999.000,9, -999.00,9,-999.0000,9, -999.00,9, 3440.50,  -999.0,9,   2.0757,     27.864,    35.0383,6,     -999.0,9,     -999.0,9,     -999.0,     -999.0,9,     -999.0
33RO20110926,        A10,      42,          1,          3,      11703,2,20111008,       0957,   -30.0003,    -5.6601,       4329,  3740.6,   2.3608,  34.8770,2,  34.8764,2,    235.1,2,   235.5,2,    51.6,2,    23.7,2,    0.00,2,   1.612,2,-999.000,9,-999.000,9,-999.000,9,-999.000000,9,  2351.1,2,  -999.0,9, -999.00,   7.7146,2,       25,-999.000,9,-999.0000,9, -999.00,9,  -999.0,9,  -999.0,-999.000,9, -999.00,9,-999.0000,9, -999.00,9, 3740.60,  -999.0,9,   2.0457,     27.869,    35.0409,2,     -999.0,9,     -999.0,9,     -999.0,     -999.0,9,     -999.0
33RO20110926,        A10,      42,          1,          2,      11702,2,20111008,       0957,   -30.0003,    -5.6601,       4329,  4038.3,   2.3595,  34.8764,2,  34.8754,2,    234.3,2,   233.1,2,    52.7,6,    23.6,6,    0.00,6,   1.618,6,-999.000,9,-999.000,9,-999.000,9,-999.000000,9,    2355,6,  -999.0,9, -999.00,   7.7119,6,       25,-999.000,9,-999.0000,9, -999.00,9,  -999.0,9,  -999.0,-999.000,9, -999.00,9,-999.0000,9, -999.00,9, 4038.30,  -999.0,9,   2.0109,     27.871,    35.0399,2,     -999.0,9,     -999.0,9,     -999.0,     -999.0,9,     -999.0
33RO20110926,        A10,      42,          1,          1,      11701,2,20111008,       0957,   -30.0003,    -5.6601,       4329,  4411.9,   2.3237,  34.8672,2,  34.8678,2,    232.8,2,   232.2,2,    56.4,2,    24.3,2,    0.01,2,   1.656,2,-999.000,9,-999.000,9,-999.000,9,     2212.6,2,  2356.2,2,  -999.0,9, -999.00,   7.7084,2,       25,-999.000,9,-999.0000,9, -999.00,9,  -999.0,9,  -999.0,-999.000,9, -999.00,9,-999.0000,9, -999.00,9, 4411.90,  -999.0,9,   1.9325,     27.871,    35.0322,2,     -999.0,9,     -999.0,9,     -999.0,     -999.0,9,     -999.0