BOTTLE,20220815CCHSIOAMB
EXPOCODE,SECT_ID,STNNBR,CASTNO,SAMPNO,BTLNBR,BTLNBR_FLAG_W,DATE,TIME,LATITUDE,LONGITUDE,DEPTH,CTDPRS,CTDTMP,CTDSAL,CTDSAL_FLAG_W,SALNTY,SALNTY_FLAG_W,CTDOXY,CTDOXY_FLAG_W,OXYGEN,OXYGEN_FLAG_W,SILCAT,SILCAT_FLAG_W,NITRAT,NITRAT_FLAG_W,NITRIT,NITRIT_FLAG_W,PHSPHT,PHSPHT_FLAG_W,CFC-11,CFC-11_FLAG_W,CFC-12,CFC-12_FLAG_W,SF6,SF6_FLAG_W,TCARBN,TCARBN_FLAG_W,ALKALI,ALKALI_FLAG_W,PCO2,PCO2_FLAG_W,PCO2TMP,PH_SWS,PH_SWS_FLAG_W,PH_TMP,TRITUM,TRITUM_FLAG_W,HELIUM,HELIUM_FLAG_W,DELC13,DELC13_FLAG_W,DELC14,DELC14_FLAG_W,C14ERR,CCL4,CCL4_FLAG_W,DELO18,DELO18_FLAG_W,DOC,DOC_FLAG_W,TDN,TDN_FLAG_W,CTDRAW,14C-DOC,14C-DOC_FLAG_W,THETA,SIG0,SALTREF,SALTREF_FLAG_W,BLACKC,BLACKC_FLAG_W,PIGMENTS,PIGMENTS_FLAG_W,14C-DOCERR,13C-DOC,13C-DOC_FLAG_W,13C-DOCERR
,,,,,,,,,,,METERS,DBAR,ITS-90,PSS-78,,PSS-78,,UMOL/KG,,UMOL/KG,,UMOL/KG,,UMOL/KG,,UMOL/KG,,UMOL/KG,,PMOL/KG,,PMOL/KG,,FMOL/KG,,UMOL/KG,,UMOL/KG,,UATM,,DEG C,,,DEG C,TU,,NMOL/KG,,/MILLE,,/MILLE,,/MILLE,PMOL/KG,,/MILLE,,UMOL/KG,,UMOL/KG,,DBAR,/MILLE,,DEG C,KG/M^3,G/KG,,,,,,/MILLE,/MILLE,,/MILLE
33RO20110926,        A10,      90,          1,         23,      11713,2,20111023,       0903,   -30.0028,   -36.5339,       1858,     5.8,  18.8944,  36.1949,2,  36.1946,2,    231.9,2,   232.8,2,     0.6,2,     0.0,2,    0.01,2,   0.019,4,-999.000,9,-999.000,9,-999.000,9,-999.000000,9,  2373.9,6,  -999.0,9, -999.00,    8.016,6,       25,-999.000,9,-999.0000,9, -999.00,9,  -999.0,9,  -999.0,-999.000,5, -999.00,9,-999.0000,9, -999.00,9,    5.80,  -999.0,9,  18.8933,     25.962,    36.3653,2,     -999.0,9,     -999.0,1,     -999.0,     -999.0,9,     -999.0
33RO20110926,        A10,      90,          1,         24,      11714,2,20111023,       0903,   -30.0028,   -36.5339,       1858,     6.0,  18.8942,  36.1950,2,  36.1945,2,    231.9,2,   232.7,2,     0.6,2,     0.0,2,    0.01,2,   0.018,4,-999.000,9,-999.000,9,-999.000,9,       2077,6,  -999.0,9,  -999.0,9, -999.00,-999.0000,9,  -999.00,-999.000,9,-999.0000,9, -999.00,9,  -999.0,9,  -999.0,-999.000,5, -999.00,9,-999.0000,9, -999.00,9,    6.00,  -999.0,9,  18.8931,     25.962,    36.3651,2,     -999.0,9,     -999.0,9,     -999.0,     -999.0,9,     -999.0
33RO20110926,        A10,      90,          1,         22,      11712,2,20111023,       0903,   -30.0028,   -36.5339,       1858,    14.2,  18.8995,  36.1943,2,  36.1962,2,    232.2,2,   231.6,2,     0.6,2,     0.0,2,    0.01,2,   0.022,4,-999.000,9,-999.000,9,-999.000,9,-999.000000,9,  2374.9,2,  -999.0,9, -999.00,    8.015,2,       25,-999.000,9,-999.0000,9, -999.00,9,  -999.0,9,  -999.0,-999.000,5, -999.00,9,-999.0000,9, -999.00,9,   14.20,  -999.0,9,  18.8969,     25.963,    36.3669,2,     -999.0,9,     -999.0,9,     -999.0,     -999.0,9,     -999.0
33RO20110926,        A10,      90,          1,         21,      11010,2,20111023,       0903,   -30.0028,   -36.5339,       1858,    35.3,  18.8912,  36.1915,2,  36.1934,2,    233.1,2,   233.1,2,     0.6,2,     0.0,2,    0.01,2,   0.027,4,-999.000,9,-999.000,9,-999.000,9,-999.000000,9,  2373.4,2,  -999.0,9, -999.00,    8.013,2,       25,-999.000,9,-999.0000,9, -999.00,9,  -999.0,9,  -999.0,-999.000,5, -999.00,9,-999.0000,9, -999.00,9,   35.30,  -999.0,9,  18.8849,     25.964,    36.3641,2,     -999.0,9,     -999.0,9,     -999.0,     -999.0,9,     -999.0
33RO20110926,        A10,      90,          1,         20,      11715,2,20111023,       0903,   -30.0028,   -36.5339,       1858,    65.0,  18.1338,  36.0015,2,  36.0010,2,    236.7,2,   236.7,2,     0.6,2,     0.1,2,    0.01,2,   0.046,4,-999.000,9,-999.000,9,-999.000,9,     2074.2,2,  2361.7,2,  -999.0,9, -999.00,    8.004,2,       25,-999.000,9,-999.0000,9, -999.00,9,  -999.0,9,  -999.0,-999.000,5, -999.00,9,-999.0000,9, -999.00,9,   65.00,  -999.0,9,  18.1226,     26.008,    36.1707,2,     -999.0,9,     -999.0,9,     -999.0,     -999.0,9,     -999.0
33RO20110926,        A10,      90,          1,         19,      11007,2,20111023,       0903,   -30.0028,   -36.5339,       1858,   109.1,  17.3973,  35.9168,2,  35.9166,2,    229.9,2,   231.8,2,     0.9,2,     0.6,2,    0.08,2,   0.100,4,-999.000,9,-999.000,9,-999.000,9,-999.000000,9,  2357.2,2,  -999.0,9, -999.00,    7.984,2,       25,-999.000,9,-999.0000,9, -999.00,9,  -999.0,9,  -999.0,-999.000,5, -999.00,9,-999.0000,9, -999.00,9,  109.10,  -999.0,9,  17.3789,     26.127,    36.0859,2,     -999.0,9,     -999.0,1,     -999.0,     -999.0,9,     -999.0
33RO20110926,        A10,      90,          1,         18,      11710,2,20111023,       0903,   -30.0028,   -36.5339,       1858,   149.3,  17.1554,  35.8745,2,  35.8751,2,    228.6,2,   229.2,2,     0.9,6,     1.1,6,    0.09,6,   0.118,4,-999.000,9,-999.000,9,-999.000,9,-999.000000,9,  2355.3,2,  -999.0,9, -999.00,   7.9739,2,       25,-999.000,9,-999.0000,9, -999.00,9,  -999.0,9,  -999.0,-999.000,5, -999.00,9,-999.0000,9, -999.00,9,  149.30,  -999.0,9,  17.1305,     26.154,    36.0443,2,     -999.0,9,     -999.0,9,     -999.0,     -999.0,9,     -999.0
33RO20110926,        A10,      90,          1,         17,      11023,2,20111023,       0903,   -30.0028,   -36.5339,       1858,   191.0,  15.9886,  35.6665,2,  35.6673,2,    211.4,2,   210.8,2,     1.7,2,     4.4,2,    0.02,2,   0.310,4,-999.000,9,-999.000,9,-999.000,9,     2105.4,2,  2341.7,2,  -999.0,9, -999.00,   7.9169,2,       25,-999.000,9,-999.0000,9, -999.00,9,  -999.0,9,  -999.0,-999.000,5, -999.00,9,-999.0000,9, -999.00,9,  191.00,  -999.0,9,  15.9582,     26.269,    35.8355,2,     -999.0,9,     -999.0,1,     -999.0,     -999.0,9,     -999.0
33RO20110926,        A10,      90,          1,         16,      11709,2,20111023,       0903,   -30.0028,   -36.5339,       1858,   259.8,  14.3189,  35.4316,2,  35.4229,2,    212.2,2,   211.9,2,     2.5,2,     7.5,2,    0.01,2,   0.467,4,-999.000,9,-999.000,9,-999.000,9,-999.000000,9,  2330.2,2,  -999.0,9, -999.00,   7.8768,2,       25,-999.000,9,-999.0000,9, -999.00,9,  -999.0,9,  -999.0,-999.000,9, -999.00,9,-999.0000,9, -999.00,9,  259.80,  -999.0,9,  14.2805,     26.453,    35.5899,2,     -999.0,9,     -999.0,9,     -999.0,     -999.0,9,     -999.0
33RO20110926,        A10,      90,          1,         15,      11006,2,20111023,       0903,   -30.0028,   -36.5339,       1858,   311.0,  13.6154,  35.3207,2,  35.3218,2,    211.9,2,   210.9,2,     2.9,2,     9.1,2,    0.01,2,   0.543,4,-999.000,9,-999.000,9,-999.000,9,-999.000000,9,  2325.6,2,  -999.0,9, -999.00,   7.8558,2,       25,-999.000,9,-999.0000,9, -999.00,9,  -999.0,9,  -999.0,-999.000,9, -999.00,9,-999.0000,9, -999.00,9,  311.00,  -999.0,9,  13.5710,     26.525,    35.4883,2,     -999.0,9,     -999.0,9,     -999.0,     -999.0,9,     -999.0
33RO20110926,        A10,      90,          1,         14,      11708,2,20111023,       0903,   -30.0028,   -36.5339,       1858,   410.3,  11.9353,  35.0775,2,  35.0799,2,    210.3,2,   210.7,2,     4.2,2,    12.9,2,    0.01,2,   0.736,4,-999.000,9,-999.000,9,-999.000,9,-999.000000,9,  2312.1,2,  -999.0,9, -999.00,   7.8146,2,       25,-999.000,9,-999.0000,9, -999.00,9,  -999.0,9,  -999.0,-999.000,9, -999.00,9,-999.0000,9, -999.00,9,  410.30,  -999.0,9,  11.8815,     26.671,    35.2453,2,     -999.0,9,     -999.0,9,     -999.0,     -999.0,9,     -999.0
33RO20110926,        A10,      90,          1,         13,      11031,2,20111023,       0903,   -30.0028,   -36.5339,       1858,   460.5,  11.3463,  34.9950,2,  34.9957,2,    209.8,2,     209,2,     4.9,6,    14.2,6,    0.01,6,   0.788,4,-999.000,9,-999.000,9,-999.000,9,-999.000000,9,  2308.2,2,  -999.0,9, -999.00,   7.7986,2,       25,-999.000,9,-999.0000,9, -999.00,9,  -999.0,9,  -999.0,-999.000,9, -999.00,9,-999.0000,9, -999.00,9,  460.50,  -999.0,9,  11.2877,     26.719,    35.1607,2,     -999.0,9,     -999.0,9,     -999.0,     -999.0,9,     -999.0
33RO20110926,        A10,      90,          1,         12,      11027,2,20111023,       0903,   -30.0028,   -36.5339,       1858,   510.2,  10.0162,  34.8119,2,  34.8163,2,    207.2,2,   205.9,2,     6.8,2,    17.7,2,    0.01,2,   0.987,4,-999.000,9,-999.000,9,-999.000,9,     2144.5,2,  2299.4,2,  -999.0,9, -999.00,   7.7595,2,       25,-999.000,9,-999.0000,9, -999.00,9,  -999.0,9,  -999.0,-999.000,9, -999.00,9,-999.0000,9, -999.00,9,  510.20,  -999.0,9,   9.9561,     26.818,    34.9804,2,     -999.0,9,     -999.0,9,     -999.0,     -999.0,9,     -999.0
33RO20110926,        A10,      90,          1,         11,      11707,2,20111023,       0903,   -30.0028,   -36.5339,       1858,   609.5,   8.3455,  34.6167,2,  34.6193,2,    209.6,2,   208.6,2,     9.9,2,    21.7,2,    0.01,2,   1.202,4,-999.000,9,-999.000,9,-999.000,9,-999.000000,9,  2292.3,2,  -999.0,9, -999.00,   7.7184,2,       25,-999.000,9,-999.0000,9, -999.00,9,  -999.0,9,  -999.0,-999.000,9, -999.00,9,-999.0000,9, -999.00,9,  609.50,  -999.0,9,   8.2810,     26.932,    34.7826,2,     -999.0,9,     -999.0,9,     -999.0,     -999.0,9,     -999.0
33RO20110926,        A10,      90,          1,         10,      11003,2,20111023,       0903,   -30.0028,   -36.5339,       1858,   710.6,   6.9755,  34.4695,2,  34.4716,2,    215.8,2,   214.8,2,    12.6,2,    24.5,2,    0.01,2,   1.361,4,-999.000,9,-999.000,9,-999.000,9,-999.000000,9,  2288.3,2,  -999.0,9, -999.00,   7.6904,2,       25,-999.000,9,-999.0000,9, -999.00,9,  -999.0,9,  -999.0,-999.000,9, -999.00,9,-999.0000,9, -999.00,9,  710.60,  -999.0,9,   6.9072,     27.014,    34.6342,2,     -999.0,9,     -999.0,9,     -999.0,     -999.0,9,     -999.0
33RO20110926,        A10,      90,          1,          9,      11706,2,20111023,       0903,   -30.0028,   -36.5339,       1858,   812.0,   5.4653,  34.3412,2,  34.3412,2,    224.7,2,   224.6,2,    17.2,2,    27.3,2,    0.01,2,   1.530,4,-999.000,9,-999.000,9,-999.000,9,-999.000000,9,  2288.1,2,  -999.0,9, -999.00,   7.6653,2,       25,-999.000,9,-999.0000,9, -999.00,9,  -999.0,9,  -999.0,-999.000,9, -999.00,9,-999.0000,9, -999.00,9,  812.00,  -999.0,9,   5.3961,     27.106,    34.5032,2,     -999.0,9,     -999.0,9,     -999.0,     -999.0,9,     -999.0
33RO20110926,        A10,      90,          1,          8,      11033,2,20111023,       0903,   -30.0028,   -36.5339,       1858,   909.5,   4.4086,  34.3081,2,  34.3090,2,    222.0,2,   221.3,2,    25.0,2,    29.5,2,    0.01,2,   1.712,4,-999.000,9,-999.000,9,-999.000,9,     2184.5,2,  2131.4,4,  -999.0,9, -999.00,   7.1878,4,       25,-999.000,9,-999.0000,9, -999.00,9,  -999.0,9,  -999.0,-999.000,9, -999.00,9,-999.0000,9, -999.00,9,  909.50,  -999.0,9,   4.3379,     27.201,    34.4707,2,     -999.0,9,     -999.0,9,     -999.0,     -999.0,9,     -999.0
33RO20110926,        A10,      90,          1,          7,      11705,2,20111023,       0903,   -30.0028,   -36.5339,       1858,  1009.4,   3.9236,  34.3177,2,  34.3176,2,    214.4,2,   214.4,2,    31.1,6,    31.0,6,    0.01,6,   1.805,4,-999.000,9,-999.000,9,-999.000,9,-999.000000,9,  2296.9,2,  -999.0,9, -999.00,   7.6214,2,       25,-999.000,9,-999.0000,9, -999.00,9,  -999.0,9,  -999.0,-999.000,9, -999.00,9,-999.0000,9, -999.00,9, 1009.40,  -999.0,9,   3.8480,     27.259,    34.4794,2,     -999.0,9,     -999.0,9,     -999.0,     -999.0,9,     -999.0
33RO20110926,        A10,      90,          1,          6,      11029,2,20111023,       0903,   -30.0028,   -36.5339,       1858,  1150.6,   3.5408,  34.3642,2,  34.3645,2,    203.8,2,   203.8,2,    39.0,2,    32.2,2,    0.01,2,   1.943,4,-999.000,9,-999.000,9,-999.000,9,-999.000000,9,  2305.3,2,  -999.0,9, -999.00,   7.6054,2,       25,-999.000,9,-999.0000,9, -999.00,9,  -999.0,9,  -999.0,-999.000,9, -999.00,9,-999.0000,9, -999.00,9, 1150.60,  -999.0,9,   3.4567,     27.335,    34.5265,2,     -999.0,9,     -999.0,9,     -999.0,     -999.0,9,     -999.0
33RO20110926,        A10,      90,          1,          5,      11704,2,20111023,       0903,   -30.0028,   -36.5339,       1858,  1301.7,   3.1747,  34.4543,2,  34.4548,2,    194.7,2,   195.9,2,    47.5,2,    32.6,2,    0.01,2,   2.020,4,-999.000,9,-999.000,9,-999.000,9,-999.000000,9,  2314.7,2,  -999.0,9, -999.00,   7.5974,2,       25,-999.000,9,-999.0000,9, -999.00,9,  -999.0,9,  -999.0,-999.000,9, -999.00,9,-999.0000,9, -999.00,9, 1301.70,  -999.0,9,   3.0816,     27.441,    34.6173,6,     -999.0,9,     -999.0,9,     -999.0,     -999.0,9,     -999.0
33RO20110926,        A10,      90,          1,          4,      11030,2,20111023,       0903,   -30.0028,   -36.5339,       1858,  1400.6,   3.0473,  34.5169,2,  34.5189,2,    190.5,2,   190.4,2,    51.5,2,    32.5,2,    0.01,2,   2.045,4,-999.000,9,-999.000,9,-999.000,9,     2227.6,2,  2320.5,2,  -999.0,9, -999.00,   7.5954,2,       25,-999.000,9,-999.0000,9, -999.00,9,  -999.0,9,  -999.0,-999.000,9, -999.00,9,-999.0000,9, -999.00,9, 1400.60,  -999.0,9,   2.9473,     27.506,    34.6816,2,     -999.0,9,     -999.0,9,     -999.0,     -999.0,9,     -999.0
33RO20110926,        A10,      90,          1,          3,      11703,2,20111023,       0903,   -30.0028,   -36.5339,       1858,  1550.6,   2.9397,  34.5993,2,  34.5998,2,    191.0,2,   191.6,2,    53.7,2,    31.3,2,    0.01,2,   2.009,4,-999.000,9,-999.000,9,-999.000,9,-999.000000,9,    2325,6,  -999.0,9, -999.00,   7.6068,6,       25,-999.000,9,-999.0000,9, -999.00,9,  -999.0,9,  -999.0,-999.000,9, -999.00,9,-999.0000,9, -999.00,9, 1550.60,  -999.0,9,   2.8283,     27.581,    34.7629,2,     -999.0,9,     -999.0,9,     -999.0,     -999.0,9,     -999.0
33RO20110926,        A10,      90,          1,          2,      11702,2,20111023,       0903,   -30.0028,   -36.5339,       1858,  1702.0,   2.8777,  34.6767,2,  34.6770,2,    197.6,2,   198.2,2,    52.9,6,    29.7,6,    0.01,6,   1.906,4,-999.000,9,-999.000,9,-999.000,9,-999.000000,9,  2328.2,2,  -999.0,9, -999.00,   7.6272,2,       25,-999.000,9,-999.0000,9, -999.00,9,  -999.0,9,  -999.0,-999.000,9, -999.00,9,-999.0000,9, -999.00,9, 1702.00,  -999.0,9,   2.7540,     27.649,    34.8405,2,     -999.0,9,     -999.0,9,     -999.0,     -999.0,9,     -999.0
33RO20110926,        A10,      90,          1,          1,      11701,2,20111023,       0903,   -30.0028,   -36.5339,       1858,  1850.6,   2.8450,  34.7371,2,  34.7377,2,    206.1,2,   206.1,2,    51.0,2,    28.3,2,    0.01,2,   1.811,4,-999.000,9,-999.000,9,-999.000,9,     2215.4,2,    2330,2,  -999.0,9, -999.00,   7.6483,2,       25,-999.000,9,-999.0000,9, -999.00,9,  -999.0,9,  -999.0,-999.000,9, -999.00,9,-999.0000,9, -999.00,9, 1850.60,  -999.0,9,   2.7087,     27.702,    34.9015,2,     -999.0,9,     -999.0,9,     -999.0,     -999.0,9,     -999.0