BOTTLE,20220815CCHSIOAMB
EXPOCODE,SECT_ID,STNNBR,CASTNO,SAMPNO,BTLNBR,BTLNBR_FLAG_W,DATE,TIME,LATITUDE,LONGITUDE,DEPTH,CTDPRS,CTDTMP,CTDSAL,CTDSAL_FLAG_W,SALNTY,SALNTY_FLAG_W,CTDOXY,CTDOXY_FLAG_W,OXYGEN,OXYGEN_FLAG_W,SILCAT,SILCAT_FLAG_W,NITRAT,NITRAT_FLAG_W,NITRIT,NITRIT_FLAG_W,PHSPHT,PHSPHT_FLAG_W,CFC-11,CFC-11_FLAG_W,CFC-12,CFC-12_FLAG_W,SF6,SF6_FLAG_W,TCARBN,TCARBN_FLAG_W,ALKALI,ALKALI_FLAG_W,PCO2,PCO2_FLAG_W,PCO2TMP,PH_SWS,PH_SWS_FLAG_W,PH_TMP,TRITUM,TRITUM_FLAG_W,HELIUM,HELIUM_FLAG_W,DELC13,DELC13_FLAG_W,DELC14,DELC14_FLAG_W,C14ERR,CCL4,CCL4_FLAG_W,DELO18,DELO18_FLAG_W,DOC,DOC_FLAG_W,TDN,TDN_FLAG_W,CTDRAW,14C-DOC,14C-DOC_FLAG_W,THETA,SIG0,SALTREF,SALTREF_FLAG_W,BLACKC,BLACKC_FLAG_W,PIGMENTS,PIGMENTS_FLAG_W,14C-DOCERR,13C-DOC,13C-DOC_FLAG_W,13C-DOCERR
,,,,,,,,,,,METERS,DBAR,ITS-90,PSS-78,,PSS-78,,UMOL/KG,,UMOL/KG,,UMOL/KG,,UMOL/KG,,UMOL/KG,,UMOL/KG,,PMOL/KG,,PMOL/KG,,FMOL/KG,,UMOL/KG,,UMOL/KG,,UATM,,DEG C,,,DEG C,TU,,NMOL/KG,,/MILLE,,/MILLE,,/MILLE,PMOL/KG,,/MILLE,,UMOL/KG,,UMOL/KG,,DBAR,/MILLE,,DEG C,KG/M^3,G/KG,,,,,,/MILLE,/MILLE,,/MILLE
33RO20110926,        A10,      18,          1,         24,      11714,2,20111002,       1329,   -29.7501,     6.1501,       5099,     3.2,  16.8251,  35.5860,2,  35.5857,2,    248.2,2,     250,2,     2.0,2,     0.1,2,    0.01,2,   0.153,4,   2.549,6,   1.514,6,   1.545,6,     2071.5,6,  2340.8,6,  -999.0,9, -999.00,   7.9769,6,       25,-999.000,9,-999.0000,9, -999.00,9,  -999.0,9,  -999.0,   3.340,3, -999.00,9,-999.0000,9, -999.00,9,    3.20,  -999.0,9,  16.8245,     26.004,    35.7535,2,     -999.0,9,     -999.0,1,     -999.0,     -999.0,9,     -999.0
33RO20110926,        A10,      18,          1,         23,      11713,2,20111002,       1329,   -29.7501,     6.1501,       5099,    50.3,  16.2669,  35.6130,2,  35.6021,3,    248.8,2,   245.4,2,     2.1,2,     0.9,2,    0.17,2,   0.210,4,   2.548,2,   1.519,2,   1.474,2,       2079,2,  -999.0,5,  -999.0,9, -999.00,-999.0000,5,  -999.00,-999.000,9,-999.0000,9, -999.00,9,  -999.0,9,  -999.0,   3.447,3, -999.00,9,-999.0000,9, -999.00,9,   50.30,  -999.0,9,  16.2588,     26.149,    35.7700,2,     -999.0,9,     -999.0,1,     -999.0,     -999.0,9,     -999.0
33RO20110926,        A10,      18,          1,         22,      11712,2,20111002,       1329,   -29.7501,     6.1501,       5099,    98.7,  16.1417,  35.6458,2,  35.6446,2,    238.6,2,   237.6,2,     2.2,2,     1.4,2,    0.72,2,   0.251,4,   2.548,2,   1.510,2,   1.429,2,-999.000000,9,  2339.1,2,  -999.0,9, -999.00,   7.9529,2,       25,-999.000,9,-999.0000,9, -999.00,9,  -999.0,9,  -999.0,   2.036,3, -999.00,9,-999.0000,9, -999.00,9,   98.70,  -999.0,9,  16.1260,     26.214,    35.8126,2,     -999.0,9,     -999.0,1,     -999.0,     -999.0,9,     -999.0
33RO20110926,        A10,      18,          1,         21,      11010,2,20111002,       1329,   -29.7501,     6.1501,       5099,   148.5,  15.9037,  35.6053,2,  35.6055,2,    236.0,2,   238.1,2,     2.3,2,     1.6,2,    0.63,2,   0.266,4,   2.545,2,   1.523,2,   1.506,2,     2083.7,2,  2331.9,2,  -999.0,9, -999.00,   7.9529,2,       25,-999.000,9,-999.0000,9, -999.00,9,  -999.0,9,  -999.0,   2.132,3, -999.00,9,-999.0000,9, -999.00,9,  148.50,  -999.0,9,  15.8802,     26.241,    35.7734,2,     -999.0,9,     -999.0,9,     -999.0,     -999.0,9,     -999.0
33RO20110926,        A10,      18,          1,         20,      11715,2,20111002,       1329,   -29.7501,     6.1501,       5099,   219.3,  13.9934,  35.2673,2,  35.2617,2,    220.0,2,   218.2,2,     2.9,6,     7.0,6,    0.02,6,   0.517,4,   2.838,2,   1.655,2,   1.438,2,-999.000000,9,    2318,2,  -999.0,9, -999.00,   7.8667,2,       25,-999.000,9,-999.0000,9, -999.00,9,  -999.0,9,  -999.0,   0.763,3, -999.00,9,-999.0000,9, -999.00,9,  219.30,  -999.0,9,  13.9617,     26.398,    35.4280,2,     -999.0,9,     -999.0,9,     -999.0,     -999.0,9,     -999.0
33RO20110926,        A10,      18,          1,         19,      11007,2,20111002,       1329,   -29.7501,     6.1501,       5099,   339.6,  12.0061,  35.0451,2,  35.0426,2,    213.9,2,   215.7,2,     4.3,2,    12.0,2,    0.01,2,   0.791,4,   3.121,2,   1.757,2,   1.260,2,     2125.8,2,  -999.0,5,  -999.0,9, -999.00,-999.0000,5,  -999.00,-999.000,9,-999.0000,9, -999.00,9,  -999.0,9,  -999.0,   1.146,3, -999.00,9,-999.0000,9, -999.00,9,  339.60,  -999.0,9,  11.9615,     26.628,    35.2078,2,     -999.0,9,     -999.0,9,     -999.0,     -999.0,9,     -999.0
33RO20110926,        A10,      18,          1,         18,      11710,2,20111002,       1329,   -29.7501,     6.1501,       5099,   470.5,   9.4520,  34.7250,2,  34.7247,2,    205.4,2,   208.5,2,     7.9,6,    18.9,6,    0.01,6,   1.161,4,   3.221,2,   1.737,2,   1.057,2,-999.000000,9,  2297.4,2,  -999.0,9, -999.00,   7.7316,2,       25,-999.000,9,-999.0000,9, -999.00,9,  -999.0,9,  -999.0,   1.460,3, -999.00,9,-999.0000,9, -999.00,9,  470.50,  -999.0,9,   9.3987,     26.838,    34.8884,2,     -999.0,9,     -999.0,9,     -999.0,     -999.0,9,     -999.0
33RO20110926,        A10,      18,          1,         17,      11023,2,20111002,       1329,   -29.7501,     6.1501,       5099,   600.3,   7.2145,  34.4915,2,  34.4832,2,    206.6,2,   204.3,2,    14.3,2,    25.0,2,    0.00,2,   1.540,4,   3.101,2,   1.615,2,   0.901,2,     2168.2,2,  2291.3,2,  -999.0,9, -999.00,   7.6705,2,       25,-999.000,9,-999.0000,9, -999.00,9,  -999.0,9,  -999.0,   2.249,3, -999.00,9,-999.0000,9, -999.00,9,  600.30,  -999.0,9,   7.1561,     26.989,    34.6458,2,     -999.0,9,     -999.0,9,     -999.0,     -999.0,9,     -999.0
33RO20110926,        A10,      18,          1,         16,      11709,2,20111002,       1329,   -29.7501,     6.1501,       5099,   750.5,   5.0458,  34.3285,2,  34.3269,2,    217.1,2,   216.1,2,    22.1,2,    28.9,2,    0.00,2,   1.792,4,   2.952,6,   1.496,6,   0.809,6,-999.000000,9,  2292.4,2,  -999.0,9, -999.00,   7.6324,2,       25,-999.000,9,-999.0000,9, -999.00,9,  -999.0,9,  -999.0,   2.432,3, -999.00,9,-999.0000,9, -999.00,9,  750.50,  -999.0,9,   4.9846,     27.143,    34.4887,2,     -999.0,9,     -999.0,9,     -999.0,     -999.0,9,     -999.0
33RO20110926,        A10,      18,          1,         15,      11006,2,20111002,       1329,   -29.7501,     6.1501,       5099,   900.0,   4.1521,  34.3496,2,  34.3495,2,    204.7,2,     203,2,    33.5,2,    31.3,2,    0.00,2,   1.978,4,   2.144,2,   1.056,2,   0.507,2,     2199.8,2,  2302.4,2,  -999.0,9, -999.00,   7.6074,2,       25,-999.000,9,-999.0000,9, -999.00,9,  -999.0,9,  -999.0,   2.082,3, -999.00,9,-999.0000,9, -999.00,9,  900.00,  -999.0,9,   4.0839,     27.260,    34.5114,2,     -999.0,9,     -999.0,9,     -999.0,     -999.0,9,     -999.0
33RO20110926,        A10,      18,          1,         14,      11708,2,20111002,       1329,   -29.7501,     6.1501,       5099,  1048.3,   3.5743,  34.4322,2,  34.4327,2,    185.0,2,   185.5,2,    46.7,6,    33.1,6,    0.00,6,   2.127,4,   1.168,2,   0.562,2,   0.202,2,     2221.8,2,  2316.8,2,  -999.0,9, -999.00,   7.5784,2,       25,-999.000,9,-999.0000,9, -999.00,9,  -999.0,9,  -999.0,   1.280,3, -999.00,9,-999.0000,9, -999.00,9, 1048.30,  -999.0,9,   3.4982,     27.385,    34.5951,2,     -999.0,9,     -999.0,9,     -999.0,     -999.0,9,     -999.0
33RO20110926,        A10,      18,          1,         13,      11031,2,20111002,       1329,   -29.7501,     6.1501,       5099,  1299.6,   3.1511,  34.6037,2,  34.6030,2,    179.3,2,     180,2,    53.7,2,    32.1,2,    0.00,2,   2.082,4,   0.286,2,   0.131,2,   0.000,2,     2231.9,2,  2325.6,6,  -999.0,9, -999.00,   7.5907,6,       25,-999.000,9,-999.0000,9, -999.00,9,  -999.0,9,  -999.0,   0.454,3, -999.00,9,-999.0000,9, -999.00,9, 1299.60,  -999.0,9,   3.0581,     27.563,    34.7662,2,     -999.0,9,     -999.0,9,     -999.0,     -999.0,9,     -999.0
33RO20110926,        A10,      18,          1,         12,      11027,2,20111002,       1329,   -29.7501,     6.1501,       5099,  1550.6,   3.2274,  34.7513,2,  34.7488,2,    197.5,2,   196.3,2,    44.0,2,    28.5,2,    0.00,2,   1.818,4,   0.057,2,   0.026,2,   0.000,2,-999.000000,9,  2323.6,2,  -999.0,9, -999.00,   7.6362,2,       25,-999.000,9,-999.0000,9, -999.00,9,  -999.0,9,  -999.0,   0.149,3, -999.00,9,-999.0000,9, -999.00,9, 1550.60,  -999.0,9,   3.1122,     27.674,    34.9127,2,     -999.0,9,     -999.0,9,     -999.0,     -999.0,9,     -999.0
33RO20110926,        A10,      18,          1,         11,      11707,2,20111002,       1329,   -29.7501,     6.1501,       5099,  1800.7,   3.1224,  34.8155,2,  34.8157,2,    211.4,2,   211.2,2,    41.8,2,    26.4,2,    0.00,2,   1.682,4,   0.028,2,   0.014,2,   0.000,2,     2204.3,2,  2328.5,2,  -999.0,9, -999.00,   7.6605,2,       25,-999.000,9,-999.0000,9, -999.00,9,  -999.0,9,  -999.0,   0.076,3, -999.00,9,-999.0000,9, -999.00,9, 1800.70,  -999.0,9,   2.9864,     27.739,    34.9799,2,     -999.0,9,     -999.0,9,     -999.0,     -999.0,9,     -999.0
33RO20110926,        A10,      18,          1,         10,      11003,2,20111002,       1329,   -29.7501,     6.1501,       5099,  2050.7,   2.9398,  34.8460,2,  34.8468,2,    218.4,2,   220.8,2,    42.5,2,    25.2,2,    0.00,2,   1.606,4,   0.017,2,   0.009,2,   0.000,2,-999.000000,9,  2330.6,2,  -999.0,9, -999.00,   7.6765,2,       25,-999.000,9,-999.0000,9, -999.00,9,  -999.0,9,  -999.0,   0.063,3, -999.00,9,-999.0000,9, -999.00,9, 2050.70,  -999.0,9,   2.7838,     27.783,    35.0111,2,     -999.0,9,     -999.0,9,     -999.0,     -999.0,9,     -999.0
33RO20110926,        A10,      18,          1,          9,      11706,2,20111002,       1329,   -29.7501,     6.1501,       5099,  2349.9,   2.7429,  34.8595,2,  34.8593,2,    227.5,2,   228.4,2,    44.6,2,    24.4,2,    0.00,2,   1.568,4,   0.010,2,   0.005,2,   0.000,2,     2197.8,2,  2334.1,2,  -999.0,9, -999.00,   7.6885,2,       25,-999.000,9,-999.0000,9, -999.00,9,  -999.0,9,  -999.0,   0.038,3, -999.00,9,-999.0000,9, -999.00,9, 2349.90,  -999.0,9,   2.5623,     27.812,    35.0237,2,     -999.0,9,     -999.0,9,     -999.0,     -999.0,9,     -999.0
33RO20110926,        A10,      18,          1,          8,      11033,2,20111002,       1329,   -29.7501,     6.1501,       5099,  2649.0,   2.5629,  34.8587,2,  34.8567,2,    230.8,2,   230.8,2,    48.5,2,    24.3,2,    0.00,2,   1.577,4,   0.008,2,   0.004,2,   0.000,2,-999.000000,9,  2335.6,2,  -999.0,9, -999.00,   7.6964,2,       25,-999.000,9,-999.0000,9, -999.00,9,  -999.0,9,  -999.0,   0.033,3, -999.00,9,-999.0000,9, -999.00,9, 2649.00,  -999.0,9,   2.3569,     27.828,    35.0211,2,     -999.0,9,     -999.0,9,     -999.0,     -999.0,9,     -999.0
33RO20110926,        A10,      18,          1,          7,      11705,2,20111002,       1329,   -29.7501,     6.1501,       5099,  2949.5,   2.4360,  34.8565,2,  34.8568,2,    233.2,2,   232.5,2,    51.7,6,    24.5,6,    0.00,6,   1.592,4,   0.008,2,   0.004,2,   0.000,2,-999.000000,5,  2340.3,2,  -999.0,9, -999.00,   7.6914,2,       25,-999.000,9,-999.0000,9, -999.00,9,  -999.0,9,  -999.0,   0.033,3, -999.00,9,-999.0000,9, -999.00,9, 2949.50,  -999.0,9,   2.2029,     27.840,    35.0212,2,     -999.0,9,     -999.0,9,     -999.0,     -999.0,9,     -999.0
33RO20110926,        A10,      18,          1,          6,      11029,2,20111002,       1329,   -29.7501,     6.1501,       5099,  3249.9,   2.3509,  34.8561,2,  34.8556,2,    232.1,2,   231.9,2,    54.3,2,    24.6,2,    0.00,2,   1.604,4,   0.009,2,   0.005,2,   0.000,2,-999.000000,9,  2345.2,2,  -999.0,9, -999.00,   7.6914,2,       25,-999.000,9,-999.0000,9, -999.00,9,  -999.0,9,  -999.0,   0.038,3, -999.00,9,-999.0000,9, -999.00,9, 3249.90,  -999.0,9,   2.0890,     27.849,    35.0199,2,     -999.0,9,     -999.0,9,     -999.0,     -999.0,9,     -999.0
33RO20110926,        A10,      18,          1,          5,      11704,2,20111002,       1329,   -29.7501,     6.1501,       5099,  3600.1,   2.2300,  34.8500,2,  34.8546,3,    230.8,2,   230.1,2,    58.9,2,    24.9,2,    0.00,2,   1.641,4,   0.010,2,   0.006,2,   0.000,2,     2212.3,2,  2349.1,2,  -999.0,9, -999.00,   7.6954,2,       25,-999.000,9,-999.0000,9, -999.00,9,  -999.0,9,  -999.0,   0.044,3, -999.00,9,-999.0000,9, -999.00,9, 3600.10,  -999.0,9,   1.9338,     27.860,    35.0190,2,     -999.0,9,     -999.0,9,     -999.0,     -999.0,9,     -999.0
33RO20110926,        A10,      18,          1,          4,      11030,2,20111002,       1329,   -29.7501,     6.1501,       5099,  4001.2,   1.8752,  34.8117,2,  34.8092,2,    226.0,2,   225.1,2,    74.2,2,    26.8,2,    0.01,2,   1.811,4,   0.019,2,   0.009,2,   0.000,2,-999.000000,9,  2353.6,2,  -999.0,9, -999.00,   7.6693,2,       25,-999.000,9,-999.0000,9, -999.00,9,  -999.0,9,  -999.0,   0.057,3, -999.00,9,-999.0000,9, -999.00,9, 4001.20,  -999.0,9,   1.5448,     27.854,    34.9734,2,     -999.0,9,     -999.0,9,     -999.0,     -999.0,9,     -999.0
33RO20110926,        A10,      18,          1,          3,      11703,2,20111002,       1329,   -29.7501,     6.1501,       5099,  4399.6,   1.2925,  34.7525,2,  34.7523,2,    218.1,2,   219.8,2,    97.5,2,    29.7,2,    0.00,2,   2.056,4,   0.048,2,   0.022,2,   0.000,2,     2247.1,2,  2365.9,2,  -999.0,9, -999.00,   7.6414,2,       25,-999.000,9,-999.0000,9, -999.00,9,  -999.0,9,  -999.0,   0.127,3, -999.00,9,-999.0000,9, -999.00,9, 4399.60,  -999.0,9,   0.9348,     27.851,    34.9161,2,     -999.0,9,     -999.0,9,     -999.0,     -999.0,9,     -999.0
33RO20110926,        A10,      18,          1,          2,      11702,2,20111002,       1329,   -29.7501,     6.1501,       5099,  4798.7,   1.1742,  34.7378,2,  34.7374,2,    217.5,2,   217.3,2,   103.6,2,    30.3,2,    0.00,2,   2.125,4,   0.070,2,   0.034,2,   0.000,2,-999.000000,9,  2368.8,2,  -999.0,9, -999.00,   7.6364,2,       25,-999.000,9,-999.0000,9, -999.00,9,  -999.0,9,  -999.0,   0.162,3, -999.00,9,-999.0000,9, -999.00,9, 4798.70,  -999.0,9,   0.7744,     27.849,    34.9012,6,     -999.0,9,     -999.0,9,     -999.0,     -999.0,9,     -999.0
33RO20110926,        A10,      18,          1,          1,      11701,2,20111002,       1329,   -29.7501,     6.1501,       5099,  5209.1,   1.1949,  34.7346,2,  34.7348,2,    216.7,2,     217,2,   104.4,6,    30.7,6,    0.00,6,   2.142,4,   0.074,6,   0.035,6,   0.000,6,     2255.7,6,  2370.2,6,  -999.0,9, -999.00,   7.6378,6,       25,-999.000,9,-999.0000,9, -999.00,9,  -999.0,9,  -999.0,   0.178,3, -999.00,9,-999.0000,9, -999.00,9, 5209.10,  -999.0,9,   0.7452,     27.849,    34.8986,2,     -999.0,9,     -999.0,9,     -999.0,     -999.0,9,     -999.0