BOTTLE,20220815CCHSIOAMB
EXPOCODE,SECT_ID,STNNBR,CASTNO,SAMPNO,BTLNBR,BTLNBR_FLAG_W,DATE,TIME,LATITUDE,LONGITUDE,DEPTH,CTDPRS,CTDTMP,CTDSAL,CTDSAL_FLAG_W,SALNTY,SALNTY_FLAG_W,CTDOXY,CTDOXY_FLAG_W,OXYGEN,OXYGEN_FLAG_W,SILCAT,SILCAT_FLAG_W,NITRAT,NITRAT_FLAG_W,NITRIT,NITRIT_FLAG_W,PHSPHT,PHSPHT_FLAG_W,CFC-11,CFC-11_FLAG_W,CFC-12,CFC-12_FLAG_W,SF6,SF6_FLAG_W,TCARBN,TCARBN_FLAG_W,ALKALI,ALKALI_FLAG_W,PCO2,PCO2_FLAG_W,PCO2TMP,PH_SWS,PH_SWS_FLAG_W,PH_TMP,TRITUM,TRITUM_FLAG_W,HELIUM,HELIUM_FLAG_W,DELC13,DELC13_FLAG_W,DELC14,DELC14_FLAG_W,C14ERR,CCL4,CCL4_FLAG_W,DELO18,DELO18_FLAG_W,DOC,DOC_FLAG_W,TDN,TDN_FLAG_W,CTDRAW,14C-DOC,14C-DOC_FLAG_W,THETA,SIG0,SALTREF,SALTREF_FLAG_W,BLACKC,BLACKC_FLAG_W,PIGMENTS,PIGMENTS_FLAG_W,14C-DOCERR,13C-DOC,13C-DOC_FLAG_W,13C-DOCERR
,,,,,,,,,,,METERS,DBAR,ITS-90,PSS-78,,PSS-78,,UMOL/KG,,UMOL/KG,,UMOL/KG,,UMOL/KG,,UMOL/KG,,UMOL/KG,,PMOL/KG,,PMOL/KG,,FMOL/KG,,UMOL/KG,,UMOL/KG,,UATM,,DEG C,,,DEG C,TU,,NMOL/KG,,/MILLE,,/MILLE,,/MILLE,PMOL/KG,,/MILLE,,UMOL/KG,,UMOL/KG,,DBAR,/MILLE,,DEG C,KG/M^3,G/KG,,,,,,/MILLE,/MILLE,,/MILLE
33RO20110926,        A10,     113,          1,         24,      11714,2,20111029,       0102,   -28.0001,   -46.3003,       2266,     5.4,  22.5513,  36.8995,2,  36.8991,2,    216.6,2,   216.3,2,     0.7,2,     0.0,2,    0.00,2,   0.056,2,   1.890,6,   1.174,6,   1.221,6,     2089.6,6,  2416.6,2,  -999.0,9, -999.00,   8.0481,2,       25,-999.000,9,-999.0000,9,    1.01,2,    51.0,2,     4.2,   2.664,4, -999.00,9,  66.4293,2,    4.04,2,    5.40,  -999.0,9,  22.5502,     25.505,    37.0731,2,     -999.0,9,     -999.0,1,     -999.0,     -999.0,9,     -999.0
33RO20110926,        A10,     113,          1,         23,      11713,2,20111029,       0102,   -28.0001,   -46.3003,       2266,    59.5,  22.1239,  36.8166,2,  36.8247,2,    218.1,2,   218.3,2,     0.8,2,     0.0,2,    0.00,2,   0.059,2,   1.928,2,   1.194,2,   1.241,2,     2087.3,2,  2411.6,6,  -999.0,9, -999.00,    8.043,6,       25,-999.000,9,-999.0000,9, -999.00,9,  -999.0,9,  -999.0,   2.660,4, -999.00,9,   68.039,2,    4.53,2,   59.50,  -999.0,9,  22.1120,     25.567,    36.9984,2,     -999.0,9,     -999.0,9,     -999.0,     -999.0,9,     -999.0
33RO20110926,        A10,     113,          1,         22,      11712,2,20111029,       0102,   -28.0001,   -46.3003,       2266,    98.9,  21.6707,  36.8213,2,  36.8238,2,    215.0,2,   214.2,2,     0.7,2,     0.0,2,    0.08,2,   0.074,2,   1.944,2,   1.200,2,   1.211,2,     2090.1,2,  2411.4,2,  -999.0,9, -999.00,    8.039,2,       25,-999.000,9,-999.0000,9, -999.00,9,  -999.0,9,  -999.0,   2.734,4, -999.00,9,  64.5659,2,    4.68,2,   98.90,  -999.0,9,  21.6512,     25.702,    36.9975,2,     -999.0,9,     -999.0,1,     -999.0,     -999.0,9,     -999.0
33RO20110926,        A10,     113,          1,         21,      11010,2,20111029,       0102,   -28.0001,   -46.3003,       2266,   171.2,  19.9781,  36.4482,2,  36.4534,2,    212.5,2,   213.3,2,     0.9,2,     1.0,2,    0.10,2,   0.143,2,   2.116,2,   1.298,2,   1.268,2,     2092.8,2,  2389.3,2,  -999.0,9, -999.00,    8.009,2,       25,-999.000,9,-999.0000,9, -999.00,9,  -999.0,9,  -999.0,   2.245,4, -999.00,9,  59.1415,2,    5.38,2,  171.20,  -999.0,9,  19.9462,     25.883,    36.6253,2,     -999.0,9,     -999.0,9,     -999.0,     -999.0,9,     -999.0
33RO20110926,        A10,     113,          1,         20,      11715,2,20111029,       0102,   -28.0001,   -46.3003,       2266,   241.6,  17.0164,  35.8328,2,  35.8353,2,    202.2,2,     203,2,     1.7,6,     3.9,6,    0.01,6,   0.372,6,   2.459,2,   1.469,2,   1.314,2,       2105,2,  2353.1,2,  -999.0,9, -999.00,   7.9329,2,       25,-999.000,9,-999.0000,9, -999.00,9,  -999.0,9,  -999.0,   1.074,3, -999.00,9,  53.3561,2, -999.00,9,  241.60,  -999.0,9,  16.9762,     26.158,    36.0043,2,     -999.0,9,     -999.0,9,     -999.0,     -999.0,9,     -999.0
33RO20110926,        A10,     113,          1,         19,      11007,2,20111029,       0102,   -28.0001,   -46.3003,       2266,   315.8,  16.1278,  35.7784,2,  35.7884,2,    225.2,2,     224,2,     1.6,2,     3.3,2,    0.01,2,   0.324,2,   2.533,2,   1.512,2,   1.500,2,     2098.1,3,  2351.2,2,  -999.0,9, -999.00,   7.9459,4,       25,-999.000,9,-999.0000,9, -999.00,9,  -999.0,9,  -999.0,   1.693,3, -999.00,9,-999.0000,5, -999.00,9,  315.80,  -999.0,9,  16.0771,     26.332,    35.9571,2,     -999.0,9,     -999.0,9,     -999.0,     -999.0,9,     -999.0
33RO20110926,        A10,     113,          1,         18,      11710,2,20111029,       0102,   -28.0001,   -46.3003,       2266,   376.4,  14.7640,  35.5327,2,  35.5363,2,    209.1,2,   209.1,2,     2.5,2,     7.2,2,    0.01,2,   0.580,2,   2.742,2,   1.597,2,   1.316,2,     2116.9,2,  2336.8,2,  -999.0,9, -999.00,   7.8877,2,       25,-999.000,9,-999.0000,9, -999.00,9,  -999.0,9,  -999.0,   0.830,3, -999.00,9,  49.7073,2, -999.00,9,  376.40,  -999.0,9,  14.7070,     26.447,    35.7039,2,     -999.0,9,     -999.0,9,     -999.0,     -999.0,9,     -999.0
33RO20110926,        A10,     113,          1,         17,      11023,2,20111029,       0102,   -28.0001,   -46.3003,       2266,   458.8,  13.3288,  35.3026,2,  35.3074,2,    209.5,2,   209.4,2,     3.2,3,    10.0,3,    0.01,3,   0.760,3,   2.935,2,   1.664,2,   1.189,2,     2123.9,2,  2324.2,2,  -999.0,9, -999.00,   7.8527,2,       25,-999.000,9,-999.0000,9, -999.00,9,  -999.0,9,  -999.0,   1.132,3, -999.00,9,  48.9756,2, -999.00,9,  458.80,  -999.0,9,  13.2638,     26.584,    35.4739,2,     -999.0,9,     -999.0,9,     -999.0,     -999.0,9,     -999.0
33RO20110926,        A10,     113,          1,         16,      11709,2,20111029,       0102,   -28.0001,   -46.3003,       2266,   524.5,  11.8444,  35.0657,2,  35.0736,2,    206.0,2,   205.9,2,     4.7,2,    13.6,2,    0.00,2,   0.978,2,   3.076,2,   1.674,2,   1.057,2,       2132,2,  2311.7,2,  -999.0,9, -999.00,   7.8097,2,       25,-999.000,9,-999.0000,9, -999.00,9,  -999.0,9,  -999.0,   1.301,3, -999.00,9,  46.0878,2, -999.00,9,  524.50,  -999.0,9,  11.7755,     26.684,    35.2390,2,     -999.0,9,     -999.0,9,     -999.0,     -999.0,9,     -999.0
33RO20110926,        A10,     113,          1,         15,      11006,2,20111029,       0102,   -28.0001,   -46.3003,       2266,   624.7,   9.2670,  34.7150,2,  34.7162,2,    202.7,2,     203,2,     8.2,6,    19.9,6,    0.01,6,   1.383,6,   3.147,2,   1.646,2,   0.835,2,     2149.7,2,  2296.3,2,  -999.0,9, -999.00,   7.7346,2,       25,-999.000,9,-999.0000,9, -999.00,9,  -999.0,9,  -999.0,   1.910,3, -999.00,9,  42.9659,2, -999.00,9,  624.70,  -999.0,9,   9.1965,     26.863,    34.8799,2,     -999.0,9,     -999.0,9,     -999.0,     -999.0,9,     -999.0
33RO20110926,        A10,     113,          1,         14,      11708,2,20111029,       0102,   -28.0001,   -46.3003,       2266,   724.0,   7.0737,  34.4715,2,  34.4724,2,    212.1,2,     213,2,    12.2,2,    24.4,2,    0.00,2,   1.679,2,   3.210,2,   1.633,2,   0.792,2,     2162.1,2,  2288.2,2,  -999.0,9, -999.00,   7.6885,2,       25,-999.000,9,-999.0000,9, -999.00,9,  -999.0,9,  -999.0,   2.903,3, -999.00,9,  41.0829,2, -999.00,9,  724.00,  -999.0,9,   7.0035,     26.999,    34.6350,2,     -999.0,9,     -999.0,9,     -999.0,     -999.0,9,     -999.0
33RO20110926,        A10,     113,          1,         13,      11031,2,20111029,       0102,   -28.0001,   -46.3003,       2266,   826.1,   5.4063,  34.3373,2,  34.3388,2,    221.2,2,   220.6,2,    17.7,2,    27.6,2,    0.00,2,   1.889,2,   3.037,2,   1.517,2,   0.673,2,     2172.4,2,  2286.8,2,  -999.0,9, -999.00,   7.6623,2,       25,-999.000,9,-999.0000,9, -999.00,9,  -999.0,9,  -999.0,   3.586,3, -999.00,9,  39.2976,2, -999.00,9,  826.10,  -999.0,9,   5.3362,     27.111,    34.5007,2,     -999.0,9,     -999.0,9,     -999.0,     -999.0,9,     -999.0
33RO20110926,        A10,     113,          1,         12,      11027,2,20111029,       0102,   -28.0001,   -46.3003,       2266,   924.9,   4.5950,  34.3148,2,  34.3160,2,    216.9,2,     216,2,    24.1,2,    29.7,2,    0.00,2,   2.029,2,   2.532,2,   1.241,2,   0.501,2,     2184.1,2,  2290.6,2,  -999.0,9, -999.00,   7.6392,2,       25,-999.000,9,-999.0000,9, -999.00,9,  -999.0,9,  -999.0,   3.407,3, -999.00,9,  41.0341,2, -999.00,9,  924.90,  -999.0,9,   4.5216,     27.185,    34.4778,2,     -999.0,9,     -999.0,9,     -999.0,     -999.0,9,     -999.0
33RO20110926,        A10,     113,          1,         11,      11707,2,20111029,       0102,   -28.0001,   -46.3003,       2266,  1027.2,   4.0322,  34.3492,2,  34.3498,2,    203.9,2,   203.9,2,    32.5,2,    31.6,2,    0.00,2,   2.160,2,   1.708,2,   0.830,2,   0.264,2,     2200.5,2,  2298.7,2,  -999.0,9, -999.00,   7.6162,2,       25,-999.000,9,-999.0000,9, -999.00,9,  -999.0,9,  -999.0,   2.557,3, -999.00,9,   39.561,2, -999.00,9, 1027.20,  -999.0,9,   3.9543,     27.273,    34.5118,2,     -999.0,9,     -999.0,9,     -999.0,     -999.0,9,     -999.0
33RO20110926,        A10,     113,          1,         10,      11003,2,20111029,       0102,   -28.0001,   -46.3003,       2266,  1125.3,   3.7055,  34.3858,2,  34.3867,2,    197.5,2,   197.7,2,    38.5,6,    32.2,6,    0.00,6,   2.212,6,   1.214,2,   0.586,2,   0.181,2,     2208.4,2,  2305.7,2,  -999.0,9, -999.00,   7.6044,2,       25,-999.000,9,-999.0000,9, -999.00,9,  -999.0,9,  -999.0,   2.133,3, -999.00,9,  41.0146,2, -999.00,9, 1125.30,  -999.0,9,   3.6221,     27.336,    34.5488,2,     -999.0,9,     -999.0,9,     -999.0,     -999.0,9,     -999.0
33RO20110926,        A10,     113,          1,          9,      11706,2,20111029,       0102,   -28.0001,   -46.3003,       2266,  1227.3,   3.4487,  34.4396,2,  34.4399,2,    192.2,2,   191.6,2,    43.9,2,    32.6,2,    0.00,2,   2.233,2,   0.797,2,   0.384,2,   0.117,2,     2216.9,2,  2311.2,2,  -999.0,9, -999.00,   7.6004,2,       25,-999.000,9,-999.0000,9, -999.00,9,  -999.0,9,  -999.0,   1.632,3, -999.00,9,     40.8,2, -999.00,9, 1227.30,  -999.0,9,   3.3590,     27.404,    34.6023,2,     -999.0,9,     -999.0,9,     -999.0,     -999.0,9,     -999.0
33RO20110926,        A10,     113,          1,          8,      11033,2,20111029,       0102,   -28.0001,   -46.3003,       2266,  1325.7,   3.2708,  34.4962,2,  34.4966,2,    188.8,2,   189.1,2,    47.8,2,    32.4,2,    0.00,2,   2.225,2,   0.556,2,   0.265,2,   0.060,2,       2221,2,  2316.1,2,  -999.0,9, -999.00,   7.5974,2,       25,-999.000,9,-999.0000,9, -999.00,9,  -999.0,9,  -999.0,   1.340,3, -999.00,9,  39.3366,2, -999.00,9, 1325.70,  -999.0,9,   3.1747,     27.467,    34.6593,2,     -999.0,9,     -999.0,9,     -999.0,     -999.0,9,     -999.0
33RO20110926,        A10,     113,          1,          7,      11705,2,20111029,       0102,   -28.0001,   -46.3003,       2266,  1425.5,   3.3158,  34.5869,2,  34.5872,2,    189.3,2,   189.3,2,    46.8,2,    31.4,2,    0.00,2,   2.142,2,   0.299,2,   0.142,2,   0.058,2,     2220.8,6,  2319.7,6,  -999.0,9, -999.00,   7.6127,6,       25,-999.000,9,-999.0000,9, -999.00,9,  -999.0,9,  -999.0,   0.892,3, -999.00,9,  40.4585,2, -999.00,9, 1425.50,  -999.0,9,   3.2106,     27.536,    34.7502,2,     -999.0,9,     -999.0,9,     -999.0,     -999.0,9,     -999.0
33RO20110926,        A10,     113,          1,          6,      11029,2,20111029,       0102,   -28.0001,   -46.3003,       2266,  1522.9,   3.3849,  34.6558,2,  34.6630,2,    192.2,2,   192.6,2,    44.3,6,    30.0,6,    0.00,6,   2.045,6,   0.195,2,   0.095,2,   0.000,2,     2216.3,2,  2325.9,2,  -999.0,9, -999.00,   7.6242,2,       25,-999.000,9,-999.0000,9, -999.00,9,  -999.0,9,  -999.0,   0.681,3, -999.00,9,  40.6927,2, -999.00,9, 1522.90,  -999.0,9,   3.2704,     27.591,    34.8265,2,     -999.0,9,     -999.0,9,     -999.0,     -999.0,9,     -999.0
33RO20110926,        A10,     113,          1,          5,      11704,2,20111029,       0102,   -28.0001,   -46.3003,       2266,  1625.2,   3.4885,  34.7301,2,  34.7315,2,    198.1,2,   198.7,2,    41.0,2,    28.5,2,    0.00,2,   1.930,2,   0.145,2,   0.071,2,   0.000,2,     2212.5,2,  2320.3,2,  -999.0,9, -999.00,   7.6404,2,       25,-999.000,9,-999.0000,9, -999.00,9,  -999.0,9,  -999.0,   0.590,3, -999.00,9,  40.4781,2, -999.00,9, 1625.20,  -999.0,9,   3.3636,     27.636,    34.8953,2,     -999.0,9,     -999.0,9,     -999.0,     -999.0,9,     -999.0
33RO20110926,        A10,     113,          1,          4,      11030,2,20111029,       0102,   -28.0001,   -46.3003,       2266,  1727.9,   3.4431,  34.7780,2,  34.7793,2,    204.3,2,   206.1,2,    39.7,2,    27.0,2,    0.00,2,   1.836,2,   0.134,2,   0.067,2,   0.000,2,     2206.3,2,    2322,2,  -999.0,9, -999.00,   7.6565,2,       25,-999.000,9,-999.0000,9, -999.00,9,  -999.0,9,  -999.0,   0.555,3, -999.00,9,  39.7268,2, -999.00,9, 1727.90,  -999.0,9,   3.3095,     27.680,    34.9433,2,     -999.0,9,     -999.0,9,     -999.0,     -999.0,9,     -999.0
33RO20110926,        A10,     113,          1,          3,      11703,2,20111029,       0102,   -28.0001,   -46.3003,       2266,  1927.0,   3.6650,  34.9070,2,  34.9101,2,    229.7,2,   231.5,2,    26.7,2,    22.7,2,    0.00,2,   1.519,2,   0.193,2,   0.097,2,   0.000,2,     2182.1,2,  2318.8,2,  -999.0,9, -999.00,   7.7064,2,       25,-999.000,9,-999.0000,9, -999.00,9,  -999.0,9,  -999.0,   0.666,3, -999.00,9,  42.6439,2, -999.00,9, 1927.00,  -999.0,9,   3.5096,     27.764,    35.0747,2,     -999.0,9,     -999.0,9,     -999.0,     -999.0,9,     -999.0
33RO20110926,        A10,     113,          1,          2,      11702,2,20111029,       0102,   -28.0001,   -46.3003,       2266,  2143.5,   3.5399,  34.9468,2,  34.9497,2,    245.3,2,   246.2,2,    22.7,2,    20.7,2,    0.00,2,   1.378,2,   0.224,2,   0.112,2,   0.000,2,     2173.3,2,    2319,2,  -999.0,9, -999.00,   7.7294,2,       25,-999.000,9,-999.0000,9, -999.00,9,  -999.0,9,  -999.0,   0.785,3, -999.00,9,  42.5756,2, -999.00,9, 2143.50,  -999.0,9,   3.3654,     27.810,    35.1145,2,     -999.0,9,     -999.0,9,     -999.0,     -999.0,9,     -999.0
33RO20110926,        A10,     113,          1,          1,      11701,2,20111029,       0102,   -28.0001,   -46.3003,       2266,  2249.2,   3.1571,  34.9385,2,  34.9413,2,    249.7,2,   249.4,2,    26.7,2,    20.5,2,    0.00,2,   1.371,2,   0.166,6,   0.083,6,   0.012,6,     2174.8,6,  2322.2,6,  -999.0,9, -999.00,    7.733,6,       25,-999.000,9,-999.0000,9, -999.00,9,  -999.0,9,  -999.0,   0.680,3, -999.00,9,  45.0537,3, -999.00,9, 2249.20,  -999.0,9,   2.9788,     27.837,    35.1061,6,     -999.0,9,     -999.0,9,     -999.0,     -999.0,9,     -999.0