BOTTLE,20220815CCHSIOAMB
EXPOCODE,SECT_ID,STNNBR,CASTNO,SAMPNO,BTLNBR,BTLNBR_FLAG_W,DATE,TIME,LATITUDE,LONGITUDE,DEPTH,CTDPRS,CTDTMP,CTDSAL,CTDSAL_FLAG_W,SALNTY,SALNTY_FLAG_W,CTDOXY,CTDOXY_FLAG_W,OXYGEN,OXYGEN_FLAG_W,SILCAT,SILCAT_FLAG_W,NITRAT,NITRAT_FLAG_W,NITRIT,NITRIT_FLAG_W,PHSPHT,PHSPHT_FLAG_W,CFC-11,CFC-11_FLAG_W,CFC-12,CFC-12_FLAG_W,SF6,SF6_FLAG_W,TCARBN,TCARBN_FLAG_W,ALKALI,ALKALI_FLAG_W,PCO2,PCO2_FLAG_W,PCO2TMP,PH_SWS,PH_SWS_FLAG_W,PH_TMP,TRITUM,TRITUM_FLAG_W,HELIUM,HELIUM_FLAG_W,DELC13,DELC13_FLAG_W,DELC14,DELC14_FLAG_W,C14ERR,CCL4,CCL4_FLAG_W,DELO18,DELO18_FLAG_W,DOC,DOC_FLAG_W,TDN,TDN_FLAG_W,CTDRAW,14C-DOC,14C-DOC_FLAG_W,THETA,SIG0,SALTREF,SALTREF_FLAG_W,BLACKC,BLACKC_FLAG_W,PIGMENTS,PIGMENTS_FLAG_W,14C-DOCERR,13C-DOC,13C-DOC_FLAG_W,13C-DOCERR
,,,,,,,,,,,METERS,DBAR,ITS-90,PSS-78,,PSS-78,,UMOL/KG,,UMOL/KG,,UMOL/KG,,UMOL/KG,,UMOL/KG,,UMOL/KG,,PMOL/KG,,PMOL/KG,,FMOL/KG,,UMOL/KG,,UMOL/KG,,UATM,,DEG C,,,DEG C,TU,,NMOL/KG,,/MILLE,,/MILLE,,/MILLE,PMOL/KG,,/MILLE,,UMOL/KG,,UMOL/KG,,DBAR,/MILLE,,DEG C,KG/M^3,G/KG,,,,,,/MILLE,/MILLE,,/MILLE
33RO20110926,        A10,     106,          1,         24,      11714,2,20111027,       1232,   -29.0404,   -43.0040,       4073,     4.3,  20.8855,  36.6576,2,  36.6580,2,    223.5,2,   223.8,2,     0.8,2,     0.0,2,    0.00,2,   0.038,4,   2.036,2,   1.257,2,   1.260,2,     2086.6,6,  2401.4,2,  -999.0,9, -999.00,    8.034,2,       25,-999.000,1,-999.0000,1, -999.00,9,  -999.0,9,  -999.0,   3.105,4, -999.00,1,-999.0000,9, -999.00,9,    4.30,  -999.0,9,  20.8847,     25.789,    36.8308,2,     -999.0,9,     -999.0,1,     -999.0,     -999.0,9,     -999.0
33RO20110926,        A10,     106,          1,         23,      11713,2,20111027,       1232,   -29.0404,   -43.0040,       4073,    59.5,  19.9353,  36.4794,2,  36.4936,3,    224.4,2,   223.9,2,     0.9,2,     0.1,2,    0.01,2,   0.060,4,   2.105,2,   1.294,2,   1.298,2,     2084.8,2,  2392.8,2,  -999.0,9, -999.00,    8.024,2,       25,-999.000,1,-999.0000,1, -999.00,9,  -999.0,9,  -999.0,   2.812,4, -999.00,1,-999.0000,9, -999.00,9,   59.50,  -999.0,9,  19.9243,     25.914,    36.6657,2,     -999.0,9,     -999.0,1,     -999.0,     -999.0,9,     -999.0
33RO20110926,        A10,     106,          1,         22,      11712,2,20111027,       1232,   -29.0404,   -43.0040,       4073,   112.9,  17.5500,  35.9676,2,  35.9712,2,    209.3,2,   209.8,2,     1.4,2,     2.7,2,    0.02,2,   0.191,4,   2.368,2,   1.430,2,   1.290,2,       2097,3,  2361.2,2,  -999.0,9, -999.00,   7.9579,2,       25,-999.000,1,-999.0000,1, -999.00,9,  -999.0,9,  -999.0,   1.471,4, -999.00,1,-999.0000,9, -999.00,9,  112.90,  -999.0,9,  17.5308,     26.132,    36.1408,2,     -999.0,9,     -999.0,1,     -999.0,     -999.0,9,     -999.0
33RO20110926,        A10,     106,          1,         21,      11010,2,20111027,       1232,   -29.0404,   -43.0040,       4073,   168.9,  16.6868,  35.8263,2,  35.8317,2,    225.3,2,   222.8,2,     1.3,2,     2.2,2,    0.01,2,   0.172,4,   2.457,2,   1.479,2,   1.400,2,     2091.2,2,  2353.4,2,  -999.0,9, -999.00,   7.9579,2,       25,-999.000,1,-999.0000,1, -999.00,9,  -999.0,9,  -999.0,   2.160,4, -999.00,1,-999.0000,9, -999.00,9,  168.90,  -999.0,9,  16.6591,     26.229,    36.0006,2,     -999.0,9,     -999.0,9,     -999.0,     -999.0,9,     -999.0
33RO20110926,        A10,     106,          1,         20,      11715,2,20111027,       1232,   -29.0404,   -43.0040,       4073,   238.8,  15.3892,  35.5856,2,  35.5855,2,    205.5,2,   206.9,2,     2.1,2,     5.7,2,    0.01,2,   0.349,4,   2.652,2,   1.565,2,   1.293,2,-999.000000,9,  2338.8,2,  -999.0,9, -999.00,   7.8998,2,       25,-999.000,1,-999.0000,1, -999.00,9,  -999.0,9,  -999.0,   1.015,3, -999.00,1,-999.0000,9, -999.00,9,  238.80,  -999.0,9,  15.3522,     26.345,    35.7533,2,     -999.0,9,     -999.0,9,     -999.0,     -999.0,9,     -999.0
33RO20110926,        A10,     106,          1,         19,      11007,2,20111027,       1232,   -29.0404,   -43.0040,       4073,   314.7,  14.2859,  35.4521,2,  35.4531,2,    210.3,2,   209.9,2,     2.5,6,     7.8,6,    0.01,6,   0.432,4,   2.805,2,   1.630,2,   1.219,2,     2116.4,2,  2332.9,2,  -999.0,9, -999.00,   7.8747,2,       25,-999.000,1,-999.0000,1, -999.00,9,  -999.0,9,  -999.0,   1.087,3, -999.00,1,-999.0000,9, -999.00,9,  314.70,  -999.0,9,  14.2394,     26.486,    35.6203,2,     -999.0,9,     -999.0,9,     -999.0,     -999.0,9,     -999.0
33RO20110926,        A10,     106,          1,         18,      11710,2,20111027,       1232,   -29.0404,   -43.0040,       4073,   374.3,  13.3117,  35.2951,2,  35.2942,2,    210.1,2,   209.9,2,     3.2,2,     9.8,2,    0.01,2,   0.539,4,   2.925,2,   1.659,2,   1.250,2,-999.000000,9,  2323.9,2,  -999.0,9, -999.00,   7.8497,2,       25,-999.000,1,-999.0000,1, -999.00,9,  -999.0,9,  -999.0,   1.221,3, -999.00,1,-999.0000,9, -999.00,9,  374.30,  -999.0,9,  13.2589,     26.569,    35.4607,2,     -999.0,9,     -999.0,9,     -999.0,     -999.0,9,     -999.0
33RO20110926,        A10,     106,          1,         17,      11023,2,20111027,       1232,   -29.0404,   -43.0040,       4073,   460.2,  11.8071,  35.0676,2,  35.0699,2,    208.3,2,   208.3,2,     4.4,2,    13.3,2,    0.00,2,   0.698,4,   3.060,2,   1.701,2,   1.088,2,     2131.1,2,  2313.7,2,  -999.0,9, -999.00,   7.8107,2,       25,-999.000,1,-999.0000,1, -999.00,9,  -999.0,9,  -999.0,   1.482,3, -999.00,1,-999.0000,9, -999.00,9,  460.20,  -999.0,9,  11.7470,     26.691,    35.2353,2,     -999.0,9,     -999.0,9,     -999.0,     -999.0,9,     -999.0
33RO20110926,        A10,     106,          1,         16,      11709,2,20111027,       1232,   -29.0404,   -43.0040,       4073,   524.8,  10.0523,  34.8117,2,  34.8120,2,    207.9,2,     208,2,     6.3,2,    17.5,2,    0.00,2,   0.895,4,   3.197,2,   1.723,2,   1.057,2,-999.000000,9,    2301,2,  -999.0,9, -999.00,   7.7636,2,       25,-999.000,1,-999.0000,1, -999.00,9,  -999.0,9,  -999.0,   2.016,3, -999.00,1,-999.0000,9, -999.00,9,  524.80,  -999.0,9,   9.9903,     26.806,    34.9761,2,     -999.0,9,     -999.0,9,     -999.0,     -999.0,9,     -999.0
33RO20110926,        A10,     106,          1,         15,      11006,2,20111027,       1232,   -29.0404,   -43.0040,       4073,   625.2,   7.7337,  34.5283,2,  34.5296,2,    215.5,2,   214.4,2,     9.9,2,    22.6,2,    0.00,2,   1.153,4,   3.336,2,   1.746,2,   0.926,2,-999.000000,9,    2290,2,  -999.0,9, -999.00,   7.7065,2,       25,-999.000,1,-999.0000,1, -999.00,9,  -999.0,9,  -999.0,   3.126,3, -999.00,1,-999.0000,9, -999.00,9,  625.20,  -999.0,9,   7.6704,     26.952,    34.6924,2,     -999.0,9,     -999.0,9,     -999.0,     -999.0,9,     -999.0
33RO20110926,        A10,     106,          1,         14,      11708,2,20111027,       1232,   -29.0404,   -43.0040,       4073,   723.3,   5.9877,  34.3505,2,  34.3531,2,    229.6,2,   229.1,2,    12.9,6,    25.5,6,    0.00,6,   1.303,4,   3.466,2,   1.799,2,   0.960,2,-999.000000,9,  2285.3,2,  -999.0,9, -999.00,   7.6805,2,       25,-999.000,1,-999.0000,1, -999.00,9,  -999.0,9,  -999.0,   4.296,3, -999.00,1,-999.0000,9, -999.00,9,  723.30,  -999.0,9,   5.9236,     27.051,    34.5150,2,     -999.0,9,     -999.0,9,     -999.0,     -999.0,9,     -999.0
33RO20110926,        A10,     106,          1,         13,      11031,2,20111027,       1232,   -29.0404,   -43.0040,       4073,   824.7,   5.0195,  34.3029,2,  34.3041,2,    227.0,2,   226.7,2,    18.5,2,    28.0,2,    0.00,2,   1.478,4,   3.100,2,   1.564,2,   0.694,2,     2171.3,2,  2288.4,2,  -999.0,9, -999.00,   7.6565,2,       25,-999.000,1,-999.0000,1, -999.00,9,  -999.0,9,  -999.0,   4.324,3, -999.00,1,-999.0000,9, -999.00,9,  824.70,  -999.0,9,   4.9520,     27.128,    34.4659,2,     -999.0,9,     -999.0,9,     -999.0,     -999.0,9,     -999.0
33RO20110926,        A10,     106,          1,         12,      11027,2,20111027,       1232,   -29.0404,   -43.0040,       4073,   925.2,   4.2500,  34.2827,2,  34.2837,2,    221.4,2,   224.5,2,    24.7,2,    29.8,2,    0.00,2,   1.613,4,   2.715,2,   1.345,2,   0.555,2,-999.000000,9,  2291.4,2,  -999.0,9, -999.00,   7.6423,2,       25,-999.000,1,-999.0000,1, -999.00,9,  -999.0,9,  -999.0,   4.153,3, -999.00,1,-999.0000,9, -999.00,9,  925.20,  -999.0,9,   4.1790,     27.198,    34.4454,2,     -999.0,9,     -999.0,9,     -999.0,     -999.0,9,     -999.0
33RO20110926,        A10,     106,          1,         11,      11707,2,20111027,       1232,   -29.0404,   -43.0040,       4073,  1023.8,   3.8254,  34.3253,2,  34.3271,2,    209.5,2,   210.9,2,    32.8,2,    31.4,2,    0.00,2,   1.766,4,   1.969,6,   0.957,6,   0.343,6,-999.000000,9,  2298.8,2,  -999.0,9, -999.00,   7.6182,2,       25,-999.000,1,-999.0000,1, -999.00,9,  -999.0,9,  -999.0,   3.298,3, -999.00,1,-999.0000,9, -999.00,9, 1023.80,  -999.0,9,   3.7494,     27.276,    34.4890,2,     -999.0,9,     -999.0,9,     -999.0,     -999.0,9,     -999.0
33RO20110926,        A10,     106,          1,         10,      11003,2,20111027,       1232,   -29.0404,   -43.0040,       4073,  1175.3,   3.4500,  34.4206,2,  34.4217,2,    193.4,2,   193.3,2,    43.4,2,    32.7,2,    0.00,2,   1.934,4,   0.971,2,   0.469,2,   0.134,2,     2215.9,2,  2312.1,2,  -999.0,9, -999.00,   7.6002,2,       25,-999.000,1,-999.0000,1, -999.00,9,  -999.0,9,  -999.0,   1.982,3, -999.00,1,-999.0000,9, -999.00,9, 1175.30,  -999.0,9,   3.3646,     27.389,    34.5840,2,     -999.0,9,     -999.0,9,     -999.0,     -999.0,9,     -999.0
33RO20110926,        A10,     106,          1,          9,      11706,2,20111027,       1232,   -29.0404,   -43.0040,       4073,  1350.3,   3.0971,  34.5271,2,  34.5275,2,    188.2,2,     188,2,    50.9,6,    32.3,6,    0.00,6,   1.974,4,   0.479,2,   0.230,2,   0.097,2,     2226.1,2,  2322.2,6,  -999.0,9, -999.00,   7.5968,6,       25,-999.000,1,-999.0000,1, -999.00,9,  -999.0,9,  -999.0,   1.204,3, -999.00,1,-999.0000,9, -999.00,9, 1350.30,  -999.0,9,   3.0006,     27.508,    34.6903,2,     -999.0,9,     -999.0,9,     -999.0,     -999.0,9,     -999.0
33RO20110926,        A10,     106,          1,          8,      11033,2,20111027,       1232,   -29.0404,   -43.0040,       4073,  1551.1,   3.1293,  34.6680,2,  34.6745,2,    192.9,2,   194.1,2,    48.9,2,    29.9,2,    0.00,2,   1.849,4,   0.182,2,   0.087,2,   0.056,2,     2220.2,2,  2325.8,2,  -999.0,9, -999.00,   7.6222,2,       25,-999.000,9,-999.0000,1, -999.00,9,  -999.0,9,  -999.0,   0.674,3, -999.00,9,-999.0000,9, -999.00,9, 1551.10,  -999.0,9,   3.0154,     27.622,    34.8380,2,     -999.0,9,     -999.0,9,     -999.0,     -999.0,9,     -999.0
33RO20110926,        A10,     106,          1,          7,      11705,2,20111027,       1232,   -29.0404,   -43.0040,       4073,  1851.4,   3.2790,  34.8339,2,  34.8345,2,    218.1,2,   219.5,2,    38.1,2,    25.1,2,    0.00,2,   1.515,4,   0.125,2,   0.064,2,   0.041,2,-999.000000,9,  2324.6,2,  -999.0,9, -999.00,   7.6753,2,       25,-999.000,1,-999.0000,1, -999.00,9,  -999.0,9,  -999.0,   0.563,3, -999.00,9,-999.0000,9, -999.00,9, 1851.40,  -999.0,9,   3.1363,     27.741,    34.9988,2,     -999.0,9,     -999.0,9,     -999.0,     -999.0,9,     -999.0
33RO20110926,        A10,     106,          1,          6,      11029,2,20111027,       1232,   -29.0404,   -43.0040,       4073,  2150.5,   3.3495,  34.9218,2,  34.9218,2,    241.4,2,   241.7,2,    27.5,2,    21.4,2,    0.00,2,   1.233,4,   0.181,2,   0.091,2,   0.000,2,-999.000000,9,  2321.2,2,  -999.0,9, -999.00,   7.7166,2,       25,-999.000,9,-999.0000,1, -999.00,9,  -999.0,9,  -999.0,   0.742,3, -999.00,9,-999.0000,9, -999.00,9, 2150.50,  -999.0,9,   3.1775,     27.806,    35.0865,2,     -999.0,9,     -999.0,9,     -999.0,     -999.0,9,     -999.0
33RO20110926,        A10,     106,          1,          5,      11704,2,20111027,       1232,   -29.0404,   -43.0040,       4073,  2500.3,   3.1599,  34.9403,2,  34.9417,2,    250.3,2,   251.3,2,    25.6,6,    20.1,6,    0.00,6,   1.149,4,   0.172,2,   0.087,2,   0.041,2,-999.000000,9,    2322,2,  -999.0,9, -999.00,   7.7306,2,       25,-999.000,1,-999.0000,1, -999.00,9,  -999.0,9,  -999.0,   0.697,3, -999.00,9,-999.0000,9, -999.00,9, 2500.30,  -999.0,9,   2.9570,     27.841,    35.1065,6,     -999.0,9,     -999.0,9,     -999.0,     -999.0,9,     -999.0
33RO20110926,        A10,     106,          1,          4,      11030,2,20111027,       1232,   -29.0404,   -43.0040,       4073,  2851.0,   2.9096,  34.9261,2,  34.9264,2,    250.5,2,   251.6,2,    30.3,2,    20.5,2,    0.00,2,   1.224,4,   0.107,2,   0.054,2,   0.000,2,     2177.3,2,  2326.8,2,  -999.0,9, -999.00,   7.7306,2,       25,-999.000,9,-999.0000,1, -999.00,9,  -999.0,9,  -999.0,   0.565,3, -999.00,9,-999.0000,9, -999.00,9, 2851.00,  -999.0,9,   2.6762,     27.856,    35.0911,2,     -999.0,9,     -999.0,9,     -999.0,     -999.0,9,     -999.0
33RO20110926,        A10,     106,          1,          3,      11703,2,20111027,       1232,   -29.0404,   -43.0040,       4073,  3400.5,   2.3816,  34.8851,2,  34.8861,2,    249.4,2,   249.4,2,    44.1,2,    22.3,2,    0.00,2,   1.427,4,   0.069,2,   0.035,2,   0.041,2,-999.000000,9,  2333.8,4,  -999.0,9, -999.00,   7.7204,4,       25,-999.000,1,-999.0000,1, -999.00,9,  -999.0,9,  -999.0,   0.410,3, -999.00,9,-999.0000,9, -999.00,9, 3400.50,  -999.0,9,   2.1029,     27.872,    35.0506,2,     -999.0,9,     -999.0,9,     -999.0,     -999.0,9,     -999.0
33RO20110926,        A10,     106,          1,          2,      11702,2,20111027,       1232,   -29.0404,   -43.0040,       4073,  3649.9,   1.2691,  34.7700,2,  34.7726,2,    228.9,2,     230,2,    87.9,2,    28.3,2,    0.00,2,   2.135,4,   0.120,2,   0.058,2,   0.110,2,-999.000000,9,  2354.4,6,  -999.0,9, -999.00,   7.6598,6,       25,-999.000,1,-999.0000,1, -999.00,9,  -999.0,9,  -999.0,   0.458,3, -999.00,9,-999.0000,9, -999.00,9, 3649.90,  -999.0,9,   0.9930,     27.863,    34.9366,2,     -999.0,9,     -999.0,9,     -999.0,     -999.0,9,     -999.0
33RO20110926,        A10,     106,          1,          1,      11701,2,20111027,       1232,   -29.0404,   -43.0040,       4073,  4065.5,   0.5337,  34.6956,2,  34.6968,2,    221.2,2,   219.9,2,   116.3,6,    32.0,6,    0.00,6,   2.587,4,   0.288,6,   0.135,6,   0.078,6,     2260.4,6,  2365.6,2,  -999.0,9, -999.00,   7.6134,2,       25,-999.000,1,-999.0000,1, -999.00,9,  -999.0,9,  -999.0,   0.749,3, -999.00,9,-999.0000,9, -999.00,9, 4065.50,  -999.0,9,   0.2353,     27.849,    34.8604,2,     -999.0,9,     -999.0,9,     -999.0,     -999.0,9,     -999.0