BOTTLE,20220815CCHSIOAMB
EXPOCODE,SECT_ID,STNNBR,CASTNO,SAMPNO,BTLNBR,BTLNBR_FLAG_W,DATE,TIME,LATITUDE,LONGITUDE,DEPTH,CTDPRS,CTDTMP,CTDSAL,CTDSAL_FLAG_W,SALNTY,SALNTY_FLAG_W,CTDOXY,CTDOXY_FLAG_W,OXYGEN,OXYGEN_FLAG_W,SILCAT,SILCAT_FLAG_W,NITRAT,NITRAT_FLAG_W,NITRIT,NITRIT_FLAG_W,PHSPHT,PHSPHT_FLAG_W,CFC-11,CFC-11_FLAG_W,CFC-12,CFC-12_FLAG_W,SF6,SF6_FLAG_W,TCARBN,TCARBN_FLAG_W,ALKALI,ALKALI_FLAG_W,PCO2,PCO2_FLAG_W,PCO2TMP,PH_SWS,PH_SWS_FLAG_W,PH_TMP,TRITUM,TRITUM_FLAG_W,HELIUM,HELIUM_FLAG_W,DELC13,DELC13_FLAG_W,DELC14,DELC14_FLAG_W,C14ERR,CCL4,CCL4_FLAG_W,DELO18,DELO18_FLAG_W,DOC,DOC_FLAG_W,TDN,TDN_FLAG_W,CTDRAW,14C-DOC,14C-DOC_FLAG_W,THETA,SIG0,SALTREF,SALTREF_FLAG_W,BLACKC,BLACKC_FLAG_W,PIGMENTS,PIGMENTS_FLAG_W,14C-DOCERR,13C-DOC,13C-DOC_FLAG_W,13C-DOCERR
,,,,,,,,,,,METERS,DBAR,ITS-90,PSS-78,,PSS-78,,UMOL/KG,,UMOL/KG,,UMOL/KG,,UMOL/KG,,UMOL/KG,,UMOL/KG,,PMOL/KG,,PMOL/KG,,FMOL/KG,,UMOL/KG,,UMOL/KG,,UATM,,DEG C,,,DEG C,TU,,NMOL/KG,,/MILLE,,/MILLE,,/MILLE,PMOL/KG,,/MILLE,,UMOL/KG,,UMOL/KG,,DBAR,/MILLE,,DEG C,KG/M^3,G/KG,,,,,,/MILLE,/MILLE,,/MILLE
33RO20110926,        A10,      60,          1,         24,      11714,2,20111015,       1110,   -30.0168,   -18.2363,       4389,     4.4,  17.4695,  35.8380,2,  35.8490,2,    240.0,2,   240.1,2,     1.2,2,     0.1,2,    0.01,2,   0.137,2,   2.417,6,   1.454,6,   1.460,6,     2081.6,6,  2354.8,6,  -999.0,9, -999.00,   7.9754,6,       25,-999.000,1,-999.0000,1, -999.00,9,  -999.0,9,  -999.0,   3.341,4, -999.00,1,-999.0000,9, -999.00,9,    4.40,  -999.0,9,  17.4688,     26.052,    36.0181,2,     -999.0,9,     -999.0,1,     -999.0,     -999.0,9,     -999.0
33RO20110926,        A10,      60,          1,         23,      11713,2,20111015,       1110,   -30.0168,   -18.2363,       4389,    50.2,  17.3468,  35.8344,2,  35.8342,2,    240.2,2,   241.1,2,     1.2,2,     0.1,2,    0.01,2,   0.145,2,   2.412,2,   1.454,2,   1.480,2,     2081.9,2,  2354.4,2,  -999.0,9, -999.00,   7.9799,2,       25,-999.000,1,-999.0000,1, -999.00,9,  -999.0,9,  -999.0,   3.713,4, -999.00,1,-999.0000,9, -999.00,9,   50.20,  -999.0,9,  17.3384,     26.074,    36.0032,2,     -999.0,9,     -999.0,1,     -999.0,     -999.0,9,     -999.0
33RO20110926,        A10,      60,          1,         22,      11712,2,20111015,       1110,   -30.0168,   -18.2363,       4389,   100.4,  16.6544,  35.7347,2,  35.7361,2,    239.6,2,   239.1,2,     1.2,2,     0.2,2,    0.12,2,   0.177,2,   2.474,2,   1.485,2,   1.417,2,     2082.4,2,  2348.1,2,  -999.0,9, -999.00,   7.9609,2,       25,-999.000,1,-999.0000,1, -999.00,9,  -999.0,9,  -999.0,   3.089,4, -999.00,1,-999.0000,9, -999.00,9,  100.40,  -999.0,9,  16.6380,     26.165,    35.9046,2,     -999.0,9,     -999.0,1,     -999.0,     -999.0,9,     -999.0
33RO20110926,        A10,      60,          1,         21,      11010,2,20111015,       1110,   -30.0168,   -18.2363,       4389,   150.1,  15.2740,  35.5240,2,  35.5206,2,    225.3,2,   223.9,2,     1.9,2,     4.0,2,    0.03,2,   0.404,2,   2.654,2,   1.572,2,   1.429,2,     2100.5,2,  2334.3,2,  -999.0,9, -999.00,   7.9129,2,       25,-999.000,1,-999.0000,1, -999.00,9,  -999.0,9,  -999.0,   1.691,4, -999.00,1,-999.0000,9, -999.00,9,  150.10,  -999.0,9,  15.2510,     26.311,    35.6881,2,     -999.0,9,     -999.0,1,     -999.0,     -999.0,9,     -999.0
33RO20110926,        A10,      60,          1,         20,      11715,2,20111015,       1110,   -30.0168,   -18.2363,       4389,   199.5,  14.2547,  35.3747,2,  35.3766,2,    221.1,2,   220.8,2,     2.3,2,     6.1,2,    0.02,2,   0.531,2,   2.805,2,   1.642,2,   1.390,2,     2108.4,2,  2329.4,2,  -999.0,9, -999.00,   7.8848,2,       25,-999.000,1,-999.0000,1, -999.00,9,  -999.0,9,  -999.0,   1.320,4, -999.00,1,-999.0000,9, -999.00,9,  199.50,  -999.0,9,  14.2254,     26.428,    35.5434,2,     -999.0,9,     -999.0,1,     -999.0,     -999.0,9,     -999.0
33RO20110926,        A10,      60,          1,         19,      11007,2,20111015,       1110,   -30.0168,   -18.2363,       4389,   250.6,  13.4921,  35.2766,2,  35.2775,2,    220.5,2,   219.7,2,     2.7,6,     7.8,6,    0.01,6,   0.633,6,   2.904,2,   1.683,2,   1.352,2,     2114.5,2,  2321.6,2,  -999.0,9, -999.00,   7.8637,2,       25,-999.000,1,-999.0000,1, -999.00,9,  -999.0,9,  -999.0,   1.405,3, -999.00,1,-999.0000,9, -999.00,9,  250.60,  -999.0,9,  13.4566,     26.514,    35.4438,2,     -999.0,9,     -999.0,9,     -999.0,     -999.0,9,     -999.0
33RO20110926,        A10,      60,          1,         18,      11710,2,20111015,       1110,   -30.0168,   -18.2363,       4389,   324.1,  12.5045,  35.1585,2,  35.1585,2,    220.7,2,   221.1,2,     3.4,2,    10.3,2,    0.01,2,   0.780,2,   3.033,2,   1.729,2,   1.330,2,     2121.5,2,  2316.8,2,  -999.0,9, -999.00,   7.8396,2,       25,-999.000,1,-999.0000,1, -999.00,9,  -999.0,9,  -999.0,   1.245,3, -999.00,1,-999.0000,9, -999.00,9,  324.10,  -999.0,9,  12.4608,     26.622,    35.3243,3,     -999.0,9,     -999.0,9,     -999.0,     -999.0,9,     -999.0
33RO20110926,        A10,      60,          1,         17,      11023,2,20111015,       1110,   -30.0168,   -18.2363,       4389,   414.4,  11.2673,  34.9852,2,  34.9831,2,    217.5,2,   216.9,2,     4.7,2,    13.6,2,    0.01,2,   0.993,2,   3.154,2,   1.759,2,   1.209,2,     2130.6,2,  2311.6,2,  -999.0,9, -999.00,   7.8006,2,       25,-999.000,1,-999.0000,1, -999.00,9,  -999.0,9,  -999.0,   1.505,3, -999.00,1,-999.0000,9, -999.00,9,  414.40,  -999.0,9,  11.2149,     26.723,    35.1481,3,     -999.0,9,     -999.0,9,     -999.0,     -999.0,9,     -999.0
33RO20110926,        A10,      60,          1,         16,      11709,2,20111015,       1110,   -30.0168,   -18.2363,       4389,   514.6,   9.3768,  34.7275,2,  34.7271,2,    215.1,2,   213.4,2,     7.1,6,    18.5,6,    0.01,6,   1.303,6,   3.283,2,   1.768,2,   1.141,2,     2144.5,2,    2299,2,  -999.0,9, -999.00,   7.7465,2,       25,-999.000,1,-999.0000,1, -999.00,9,  -999.0,9,  -999.0,   1.852,3, -999.00,1,-999.0000,9, -999.00,9,  514.60,  -999.0,9,   9.3187,     26.854,    34.8908,2,     -999.0,9,     -999.0,9,     -999.0,     -999.0,9,     -999.0
33RO20110926,        A10,      60,          1,         15,      11006,2,20111015,       1110,   -30.0168,   -18.2363,       4389,   614.4,   7.2542,  34.4838,2,  34.4907,2,    216.3,2,   215.2,2,    11.3,2,    23.7,2,    0.01,2,   1.638,2,   3.346,2,   1.748,2,   0.914,2,     2158.5,2,  2291.7,2,  -999.0,9, -999.00,   7.6803,2,       25,-999.000,1,-999.0000,1, -999.00,9,  -999.0,9,  -999.0,   2.200,3, -999.00,1,-999.0000,9, -999.00,9,  614.40,  -999.0,9,   7.1942,     26.986,    34.6534,2,     -999.0,9,     -999.0,9,     -999.0,     -999.0,9,     -999.0
33RO20110926,        A10,      60,          1,         14,      11708,2,20111015,       1110,   -30.0168,   -18.2363,       4389,   694.7,   6.0159,  34.3648,2,  34.3628,2,    223.2,2,   224.4,2,    14.3,2,    26.1,2,    0.01,2,   1.802,2,   3.396,2,   1.744,2,   0.900,2,     2164.3,2,  2280.7,2,  -999.0,9, -999.00,   7.6653,2,       25,-999.000,1,-999.0000,1, -999.00,9,  -999.0,9,  -999.0,   3.029,3, -999.00,1,-999.0000,9, -999.00,9,  694.70,  -999.0,9,   5.9543,     27.054,    34.5248,2,     -999.0,9,     -999.0,9,     -999.0,     -999.0,9,     -999.0
33RO20110926,        A10,      60,          1,         13,      11031,2,20111015,       1110,   -30.0168,   -18.2363,       4389,   814.8,   4.7653,  34.2818,2,  34.2825,2,    231.0,2,   229.9,2,    19.6,2,    28.4,2,    0.01,2,   1.953,2,   3.202,2,   1.611,2,   0.732,2,       2173,2,  2285.9,2,  -999.0,9, -999.00,   7.6515,2,       25,-999.000,1,-999.0000,1, -999.00,9,  -999.0,9,  -999.0,   3.482,3, -999.00,1,-999.0000,9, -999.00,9,  814.80,  -999.0,9,   4.7002,     27.140,    34.4442,2,     -999.0,9,     -999.0,9,     -999.0,     -999.0,9,     -999.0
33RO20110926,        A10,      60,          1,         12,      11027,2,20111015,       1110,   -30.0168,   -18.2363,       4389,   975.5,   3.7265,  34.2899,2,  34.2895,2,    221.0,2,   221.2,2,    30.9,2,    30.9,2,    0.01,2,   2.135,2,   2.410,2,   1.185,2,   0.533,2,     2191.1,2,  2294.8,2,  -999.0,9, -999.00,   7.6214,2,       25,-999.000,1,-999.0000,1, -999.00,9,  -999.0,9,  -999.0,   3.195,3, -999.00,1,-999.0000,9, -999.00,9,  975.50,  -999.0,9,   3.6553,     27.256,    34.4511,2,     -999.0,9,     -999.0,9,     -999.0,     -999.0,9,     -999.0
33RO20110926,        A10,      60,          1,         11,      11707,2,20111015,       1110,   -30.0168,   -18.2363,       4389,  1224.0,   3.2003,  34.4621,2,  34.4627,2,    189.9,2,   189.2,2,    49.6,6,    32.9,6,    0.01,6,   2.279,6,   0.851,2,   0.413,2,   0.123,2,     2223.2,2,  2316.8,2,  -999.0,9, -999.00,   7.5874,2,       25,-999.000,1,-999.0000,1, -999.00,9,  -999.0,9,  -999.0,   1.555,3, -999.00,1,-999.0000,9, -999.00,9, 1224.00,  -999.0,9,   3.1133,     27.446,    34.6253,2,     -999.0,9,     -999.0,9,     -999.0,     -999.0,9,     -999.0
33RO20110926,        A10,      60,          1,         10,      11003,2,20111015,       1110,   -30.0168,   -18.2363,       4389,  1473.9,   2.9582,  34.6020,2,  34.6026,2,    188.3,2,   188.5,2,    55.2,2,    31.7,2,    0.01,2,   2.185,2,   0.321,2,   0.154,2,   0.054,2,     2229.8,6,  2326.9,6,  -999.0,9, -999.00,   7.6014,6,       25,-999.000,1,-999.0000,1, -999.00,9,  -999.0,9,  -999.0,   0.792,3, -999.00,1,-999.0000,9, -999.00,9, 1473.90,  -999.0,9,   2.8529,     27.581,    34.7658,2,     -999.0,9,     -999.0,9,     -999.0,     -999.0,9,     -999.0
33RO20110926,        A10,      60,          1,          9,      11706,2,20111015,       1110,   -30.0168,   -18.2363,       4389,  1775.2,   2.7611,  34.7427,2,  34.7424,2,    206.0,2,   207.6,2,    53.3,2,    28.3,2,    0.01,2,   1.931,2,   0.087,6,   0.045,6,   0.024,6,     2216.2,2,  2333.1,2,  -999.0,9, -999.00,   7.6384,2,       25,-999.000,1,-999.0000,1, -999.00,9,  -999.0,9,  -999.0,   0.316,3, -999.00,1,-999.0000,9, -999.00,9, 1775.20,  -999.0,9,   2.6325,     27.712,    34.9063,2,     -999.0,9,     -999.0,9,     -999.0,     -999.0,9,     -999.0
33RO20110926,        A10,      60,          1,          8,      11033,2,20111015,       1110,   -30.0168,   -18.2363,       4389,  1976.5,   2.6775,  34.7988,2,  34.7986,2,    217.4,2,   218.4,2,    50.7,2,    26.3,2,    0.01,2,   1.796,2,   0.041,2,   0.022,2,   0.000,2,     2208.9,2,  2333.6,2,  -999.0,9, -999.00,   7.6635,2,       25,-999.000,9,-999.0000,1, -999.00,9,  -999.0,9,  -999.0,   0.200,3, -999.00,9,-999.0000,9, -999.00,9, 1976.50,  -999.0,9,   2.5323,     27.766,    34.9627,2,     -999.0,9,     -999.0,9,     -999.0,     -999.0,9,     -999.0
33RO20110926,        A10,      60,          1,          7,      11705,2,20111015,       1110,   -30.0168,   -18.2363,       4389,  2267.8,   2.6410,  34.8372,2,  34.8375,2,    228.5,2,   230.2,2,    47.4,6,    24.8,6,    0.01,6,   1.680,6,   0.022,2,   0.012,2,   0.000,2,       2201,2,  2331.5,2,  -999.0,9, -999.00,   7.6895,2,       25,-999.000,1,-999.0000,1, -999.00,9,  -999.0,9,  -999.0,   0.188,3, -999.00,9,-999.0000,9, -999.00,9, 2267.80,  -999.0,9,   2.4699,     27.802,    35.0018,6,     -999.0,9,     -999.0,9,     -999.0,     -999.0,9,     -999.0
33RO20110926,        A10,      60,          1,          6,      11029,2,20111015,       1110,   -30.0168,   -18.2363,       4389,  2573.7,   2.6479,  34.8647,2,  34.8655,2,    236.3,2,   236.7,2,    44.0,2,    23.7,2,    0.01,2,   1.602,2,   0.013,2,   0.008,2,   0.000,2,     2193.7,2,  2330.6,2,  -999.0,9, -999.00,   7.7035,2,       25,-999.000,9,-999.0000,1, -999.00,9,  -999.0,9,  -999.0,   0.126,3, -999.00,9,-999.0000,9, -999.00,9, 2573.70,  -999.0,9,   2.4476,     27.827,    35.0299,2,     -999.0,9,     -999.0,9,     -999.0,     -999.0,9,     -999.0
33RO20110926,        A10,      60,          1,          5,      11704,2,20111015,       1110,   -30.0168,   -18.2363,       4389,  2874.9,   2.5909,  34.8851,2,  34.8846,2,    243.2,2,   244.5,2,    42.1,2,    22.6,2,    0.01,2,   1.533,2,   0.007,2,   0.005,2,   0.000,2,     2188.2,2,  2323.5,4,  -999.0,9, -999.00,   7.5932,4,       25,-999.000,1,-999.0000,1, -999.00,9,  -999.0,9,  -999.0,   0.137,3, -999.00,9,-999.0000,9, -999.00,9, 2874.90,  -999.0,9,   2.3619,     27.849,    35.0491,2,     -999.0,9,     -999.0,9,     -999.0,     -999.0,9,     -999.0
33RO20110926,        A10,      60,          1,          4,      11030,2,20111015,       1110,   -30.0168,   -18.2363,       4389,  3275.4,   2.2860,  34.8693,2,  34.8700,2,    245.1,2,   244.5,2,    50.5,6,    23.4,6,    0.01,6,   1.585,6,   0.007,2,   0.005,2,   0.089,2,     2194.7,2,    2323,4,  -999.0,9, -999.00,   7.5922,4,       25,-999.000,9,-999.0000,1, -999.00,9,  -999.0,9,  -999.0,   0.132,3, -999.00,9,-999.0000,9, -999.00,9, 3275.40,  -999.0,9,   2.0228,     27.866,    35.0345,2,     -999.0,9,     -999.0,9,     -999.0,     -999.0,9,     -999.0
33RO20110926,        A10,      60,          1,          3,      11703,2,20111015,       1110,   -30.0168,   -18.2363,       4389,  3676.1,   1.8943,  34.8316,2,  34.8318,2,    239.4,2,   239.8,2,    65.1,2,    25.1,2,    0.01,2,   1.718,2,   0.014,2,   0.010,2,   0.162,2,     2210.4,2,  2331.6,4,  -999.0,9, -999.00,   7.6162,4,       25,-999.000,1,-999.0000,1, -999.00,9,  -999.0,9,  -999.0,   0.149,3, -999.00,9,-999.0000,9, -999.00,9, 3676.10,  -999.0,9,   1.5988,     27.868,    34.9961,2,     -999.0,9,     -999.0,9,     -999.0,     -999.0,9,     -999.0
33RO20110926,        A10,      60,          1,          2,      11702,2,20111015,       1110,   -30.0168,   -18.2363,       4389,  4049.6,   1.6906,  34.8087,2,  34.8089,2,    236.9,2,   235.9,2,    74.1,2,    26.4,2,    0.01,2,   1.806,2,   0.020,2,   0.012,2,   0.152,2,     2219.5,2,  2345.6,6,  -999.0,9, -999.00,   7.6843,6,       25,-999.000,1,-999.0000,1, -999.00,9,  -999.0,9,  -999.0,   0.144,3, -999.00,9,-999.0000,9, -999.00,9, 4049.60,  -999.0,9,   1.3600,     27.867,    34.9730,2,     -999.0,9,     -999.0,9,     -999.0,     -999.0,9,     -999.0
33RO20110926,        A10,      60,          1,          1,      11701,2,20111015,       1110,   -30.0168,   -18.2363,       4389,  4408.9,   1.6156,  34.7973,2,  34.7971,2,    235.0,2,   234.1,2,    78.5,2,    26.9,2,    0.01,2,   1.854,2,   0.024,6,   0.014,6,   0.154,6,       2224,6,  2353.9,2,  -999.0,9, -999.00,   7.6773,2,       25,-999.000,1,-999.0000,1, -999.00,9,  -999.0,9,  -999.0,   0.178,3, -999.00,9,-999.0000,9, -999.00,9, 4408.90,  -999.0,9,   1.2467,     27.865,    34.9612,2,     -999.0,9,     -999.0,9,     -999.0,     -999.0,9,     -999.0