BOTTLE,20220815CCHSIOAMB
EXPOCODE,SECT_ID,STNNBR,CASTNO,SAMPNO,BTLNBR,BTLNBR_FLAG_W,DATE,TIME,LATITUDE,LONGITUDE,DEPTH,CTDPRS,CTDTMP,CTDSAL,CTDSAL_FLAG_W,SALNTY,SALNTY_FLAG_W,CTDOXY,CTDOXY_FLAG_W,OXYGEN,OXYGEN_FLAG_W,SILCAT,SILCAT_FLAG_W,NITRAT,NITRAT_FLAG_W,NITRIT,NITRIT_FLAG_W,PHSPHT,PHSPHT_FLAG_W,CFC-11,CFC-11_FLAG_W,CFC-12,CFC-12_FLAG_W,SF6,SF6_FLAG_W,TCARBN,TCARBN_FLAG_W,ALKALI,ALKALI_FLAG_W,PCO2,PCO2_FLAG_W,PCO2TMP,PH_SWS,PH_SWS_FLAG_W,PH_TMP,TRITUM,TRITUM_FLAG_W,HELIUM,HELIUM_FLAG_W,DELC13,DELC13_FLAG_W,DELC14,DELC14_FLAG_W,C14ERR,CCL4,CCL4_FLAG_W,DELO18,DELO18_FLAG_W,DOC,DOC_FLAG_W,TDN,TDN_FLAG_W,CTDRAW,14C-DOC,14C-DOC_FLAG_W,THETA,SIG0,SALTREF,SALTREF_FLAG_W,BLACKC,BLACKC_FLAG_W,PIGMENTS,PIGMENTS_FLAG_W,14C-DOCERR,13C-DOC,13C-DOC_FLAG_W,13C-DOCERR
,,,,,,,,,,,METERS,DBAR,ITS-90,PSS-78,,PSS-78,,UMOL/KG,,UMOL/KG,,UMOL/KG,,UMOL/KG,,UMOL/KG,,UMOL/KG,,PMOL/KG,,PMOL/KG,,FMOL/KG,,UMOL/KG,,UMOL/KG,,UATM,,DEG C,,,DEG C,TU,,NMOL/KG,,/MILLE,,/MILLE,,/MILLE,PMOL/KG,,/MILLE,,UMOL/KG,,UMOL/KG,,DBAR,/MILLE,,DEG C,KG/M^3,G/KG,,,,,,/MILLE,/MILLE,,/MILLE
33RO20110926,        A10,      25,          1,         24,      11714,2,20111004,       1144,   -29.3839,     2.6999,       2859,     4.7,  17.7808,  35.7925,2,-999.0000,9,    241.5,2,  -999.0,9,     1.6,2,     0.0,2,    0.00,2,   0.134,4,-999.000,9,-999.000,9,-999.000,9,-999.000000,9,  -999.0,9,  -999.0,9, -999.00,-999.0000,9,  -999.00,-999.000,9,-999.0000,9, -999.00,9,  -999.0,9,  -999.0,-999.000,9, -999.00,9,  58.7707,2,    3.98,2,    4.70,  -999.0,9,  17.7800,     25.933,     -999.0,9,     -999.0,9,     -999.0,1,     -999.0,     -999.0,9,     -999.0
33RO20110926,        A10,      25,          1,         23,      11713,2,20111004,       1144,   -29.3839,     2.6999,       2859,     4.6,  17.7672,  35.7929,2,  35.7918,2,    241.5,2,   242.4,2,     1.6,2,     0.0,2,    0.00,2,   0.136,4,   2.455,2,   1.462,2,   1.452,2,       2081,6,  2337.5,6,  -999.0,9, -999.00,   7.9849,2,       25,-999.000,9,-999.0000,9, -999.00,9,  -999.0,9,  -999.0,   2.977,3, -999.00,9,  61.8341,2,    3.90,2,    4.60,  -999.0,9,  17.7665,     25.934,    35.9606,2,     -999.0,9,     -999.0,9,     -999.0,     -999.0,9,     -999.0
33RO20110926,        A10,      25,          1,         22,      11712,2,20111004,       1144,   -29.3839,     2.6999,       2859,    24.8,  17.3730,  35.7879,2,  35.7851,2,    243.1,2,     243,2,     1.5,2,     0.0,2,    0.00,2,   0.138,4,-999.000,9,-999.000,9,-999.000,9,     2076.7,2,  2338.8,2,  -999.0,9, -999.00,   7.9839,2,       25,-999.000,9,-999.0000,9, -999.00,9,  -999.0,9,  -999.0,-999.000,9, -999.00,9,  60.4195,2,    4.62,2,   24.80,  -999.0,9,  17.3689,     26.027,    35.9538,2,     -999.0,9,     -999.0,9,     -999.0,     -999.0,9,     -999.0
33RO20110926,        A10,      25,          1,         21,      11010,2,20111004,       1144,   -29.3839,     2.6999,       2859,    79.5,  16.5563,  35.7104,2,  35.7083,2,    238.2,2,   239.2,2,     1.8,2,     0.7,2,    0.19,2,   0.203,4,-999.000,9,-999.000,9,-999.000,9,     2081.1,2,  2333.1,2,  -999.0,9, -999.00,   7.9669,2,       25,-999.000,9,-999.0000,9, -999.00,9,  -999.0,9,  -999.0,-999.000,9, -999.00,9,  58.1756,2,    6.29,2,   79.50,  -999.0,9,  16.5434,     26.166,    35.8767,2,     -999.0,9,     -999.0,1,     -999.0,     -999.0,9,     -999.0
33RO20110926,        A10,      25,          1,         20,      11715,2,20111004,       1144,   -29.3839,     2.6999,       2859,   121.2,  16.3848,  35.6886,2,  35.6875,2,    233.4,2,   233.9,2,     2.1,2,     1.2,2,    0.56,2,   0.239,4,   2.506,2,   1.494,2,   1.475,2,     2088.9,3,  2344.1,2,  -999.0,9, -999.00,   7.9589,2,       25,-999.000,9,-999.0000,9, -999.00,9,  -999.0,9,  -999.0,   1.954,3, -999.00,9,  58.6341,2,    4.36,3,  121.20,  -999.0,9,  16.3652,     26.192,    35.8558,2,     -999.0,9,     -999.0,1,     -999.0,     -999.0,9,     -999.0
33RO20110926,        A10,      25,          1,         19,      11007,2,20111004,       1144,   -29.3839,     2.6999,       2859,   169.8,  15.3039,  35.4780,2,  35.4766,2,    221.3,2,   221.3,2,     2.6,2,     4.6,2,    0.03,2,   0.396,4,-999.000,9,-999.000,9,-999.000,9,     2100.3,2,  2332.4,2,  -999.0,9, -999.00,-999.0000,5,  -999.00,-999.000,9,-999.0000,9, -999.00,9,  -999.0,9,  -999.0,-999.000,9, -999.00,9,  50.9463,2,    7.50,2,  169.80,  -999.0,9,  15.2778,     26.277,    35.6439,2,     -999.0,9,     -999.0,9,     -999.0,     -999.0,9,     -999.0
33RO20110926,        A10,      25,          1,         18,      11710,2,20111004,       1144,   -29.3839,     2.6999,       2859,   214.1,  14.0890,  35.2722,2,  35.2738,2,    219.2,2,   218.7,2,     2.9,6,     6.7,6,    0.02,6,   0.504,4,   2.823,2,   1.648,2,   1.446,2,     2110.1,2,  2320.6,2,  -999.0,9, -999.00,-999.0000,5,  -999.00,-999.000,9,-999.0000,9, -999.00,9,  -999.0,9,  -999.0,   0.870,3, -999.00,9,  49.5707,2, -999.00,9,  214.10,  -999.0,9,  14.0578,     26.388,    35.4401,2,     -999.0,9,     -999.0,9,     -999.0,     -999.0,9,     -999.0
33RO20110926,        A10,      25,          1,         17,      11023,2,20111004,       1144,   -29.3839,     2.6999,       2859,   275.8,  13.0221,  35.1367,2,  35.1340,2,    219.1,2,   217.6,2,     3.5,2,     9.3,2,    0.01,2,   0.647,4,-999.000,9,-999.000,9,-999.000,9,     2118.9,2,    2312,2,  -999.0,9, -999.00,   7.8447,2,       25,-999.000,9,-999.0000,9, -999.00,9,  -999.0,9,  -999.0,-999.000,9, -999.00,9,  49.0439,2, -999.00,9,  275.80,  -999.0,9,  12.9839,     26.500,    35.2996,2,     -999.0,9,     -999.0,9,     -999.0,     -999.0,9,     -999.0
33RO20110926,        A10,      25,          1,         16,      11709,2,20111004,       1144,   -29.3839,     2.6999,       2859,   325.4,  12.0511,  35.0443,2,  35.0413,2,    212.9,2,   212.7,2,     4.6,2,    12.4,2,    0.01,2,   0.807,4,   3.113,2,   1.753,2,   1.277,2,     2128.3,2,  2308.4,2,  -999.0,9, -999.00,   7.8097,2,       25,-999.000,9,-999.0000,9, -999.00,9,  -999.0,9,  -999.0,   0.988,3, -999.00,9,  47.1805,2, -999.00,9,  325.40,  -999.0,9,  12.0083,     26.626,    35.2065,2,     -999.0,9,     -999.0,9,     -999.0,     -999.0,9,     -999.0
33RO20110926,        A10,      25,          1,         15,      11006,2,20111004,       1144,   -29.3839,     2.6999,       2859,   374.2,  11.1894,  34.9404,2,  34.9395,2,    208.8,2,   209.4,2,     5.5,2,    14.6,2,    0.01,2,   0.932,4,-999.000,9,-999.000,9,-999.000,9,     2137.5,2,  2303.9,2,  -999.0,9, -999.00,-999.0000,5,  -999.00,-999.000,9,-999.0000,9, -999.00,9,  -999.0,9,  -999.0,-999.000,9, -999.00,9,     46.4,2, -999.00,9,  374.20,  -999.0,9,  11.1424,     26.698,    35.1043,2,     -999.0,9,     -999.0,9,     -999.0,     -999.0,9,     -999.0
33RO20110926,        A10,      25,          1,         14,      11708,2,20111004,       1144,   -29.3839,     2.6999,       2859,   430.3,  10.2933,  34.8285,2,  34.8245,2,    207.7,2,   208.3,2,     6.8,6,    16.9,6,    0.01,6,   1.057,4,   3.185,2,   1.749,2,   1.123,2,     2140.5,2,  -999.0,5,  -999.0,9, -999.00,-999.0000,5,  -999.00,-999.000,9,-999.0000,9, -999.00,9,  -999.0,9,  -999.0,   1.214,3, -999.00,9,  45.3854,2, -999.00,9,  430.30,  -999.0,9,  10.2420,     26.772,    34.9887,2,     -999.0,9,     -999.0,9,     -999.0,     -999.0,9,     -999.0
33RO20110926,        A10,      25,          1,         13,      11031,2,20111004,       1144,   -29.3839,     2.6999,       2859,   528.8,   8.3043,  34.5975,2,  34.5973,2,    206.1,2,   205.4,2,    11.0,2,    22.1,2,    0.00,2,   1.367,4,   3.199,2,   1.689,2,   0.972,2,     2155.2,2,  2291.6,3,  -999.0,9, -999.00,-999.0000,5,  -999.00,-999.000,9,-999.0000,9, -999.00,9,  -999.0,9,  -999.0,   1.549,3, -999.00,9,  43.4049,2, -999.00,9,  528.80,  -999.0,9,   8.2488,     26.919,    34.7604,2,     -999.0,9,     -999.0,9,     -999.0,     -999.0,9,     -999.0
33RO20110926,        A10,      25,          1,         12,      11027,2,20111004,       1144,   -29.3839,     2.6999,       2859,   630.8,   6.7119,  34.4488,2,  34.4476,2,    203.1,2,   203.5,2,    15.7,2,    26.6,2,    0.01,2,   1.620,4,   3.061,2,   1.586,2,   0.842,2,     2173.7,6,  2276.2,3,  -999.0,9, -999.00,-999.0000,5,  -999.00,-999.000,9,-999.0000,9, -999.00,9,  -999.0,9,  -999.0,   2.046,3, -999.00,9,-999.0000,5, -999.00,9,  630.80,  -999.0,9,   6.6528,     27.032,    34.6100,2,     -999.0,9,     -999.0,9,     -999.0,     -999.0,9,     -999.0
33RO20110926,        A10,      25,          1,         11,      11707,2,20111004,       1144,   -29.3839,     2.6999,       2859,   738.8,   5.3589,  34.3699,2,  34.3696,2,    199.2,2,     200,2,    22.4,2,    29.4,2,    0.01,2,   1.837,4,   2.668,2,   1.340,2,   0.661,2,     2185.2,2,  2279.5,3,  -999.0,9, -999.00,   7.6735,4,       25,-999.000,9,-999.0000,9, -999.00,9,  -999.0,9,  -999.0,   2.114,3, -999.00,9,     42.8,2, -999.00,9,  738.80,  -999.0,9,   5.2969,     27.141,    34.5316,2,     -999.0,9,     -999.0,9,     -999.0,     -999.0,9,     -999.0
33RO20110926,        A10,      25,          1,         10,      11003,2,20111004,       1144,   -29.3839,     2.6999,       2859,   859.4,   4.5314,  34.3643,2,  34.3633,2,    195.5,2,     195,2,    30.1,2,    31.5,2,    0.00,2,   1.982,4,   2.062,2,   1.018,2,   0.477,2,     2199.1,2,  2288.5,4,  -999.0,9, -999.00,-999.0000,5,  -999.00,-999.000,9,-999.0000,9, -999.00,9,  -999.0,9,  -999.0,   1.858,3, -999.00,9,  42.9463,2, -999.00,9,  859.40,  -999.0,9,   4.4640,     27.229,    34.5253,2,     -999.0,9,     -999.0,9,     -999.0,     -999.0,9,     -999.0
33RO20110926,        A10,      25,          1,          9,      11706,2,20111004,       1144,   -29.3839,     2.6999,       2859,   978.6,   3.9934,  34.3903,2,  34.3892,2,    190.1,2,   190.3,2,    38.3,6,    32.4,6,    0.01,6,   2.072,4,   1.543,2,   0.755,2,   0.316,2,     2209.8,2,  2290.8,2,  -999.0,9, -999.00,-999.0000,5,  -999.00,-999.000,9,-999.0000,9, -999.00,9,  -999.0,9,  -999.0,   1.426,3, -999.00,9,  39.7561,2, -999.00,9,  978.60,  -999.0,9,   3.9198,     27.308,    34.5514,2,     -999.0,9,     -999.0,9,     -999.0,     -999.0,9,     -999.0
33RO20110926,        A10,      25,          1,          8,      11033,2,20111004,       1144,   -29.3839,     2.6999,       2859,  1105.8,   3.4820,  34.4767,2,  34.4757,2,    180.0,2,   179.2,2,    48.3,2,    33.3,2,    0.00,2,   2.147,4,   0.784,2,   0.372,2,   0.118,2,     2224.7,2,  2305.6,2,  -999.0,9, -999.00,-999.0000,5,  -999.00,-999.000,9,-999.0000,9, -999.00,9,  -999.0,9,  -999.0,   0.875,3, -999.00,9,  38.8976,2, -999.00,9, 1105.80,  -999.0,9,   3.4019,     27.429,    34.6382,6,     -999.0,9,     -999.0,9,     -999.0,     -999.0,9,     -999.0
33RO20110926,        A10,      25,          1,          7,      11705,2,20111004,       1144,   -29.3839,     2.6999,       2859,  1279.2,   3.2430,  34.5801,2,  34.5791,2,    179.4,2,   179.9,2,    51.6,2,    32.3,2,    0.00,2,   2.097,4,   0.347,2,   0.162,2,   0.075,2,     2227.5,2,  2323.4,6,  -999.0,9, -999.00,-999.0000,5,  -999.00,-999.000,9,-999.0000,9, -999.00,9,  -999.0,9,  -999.0,   0.461,3, -999.00,9,  40.0683,2, -999.00,9, 1279.20,  -999.0,9,   3.1508,     27.535,    34.7421,2,     -999.0,9,     -999.0,9,     -999.0,     -999.0,9,     -999.0
33RO20110926,        A10,      25,          1,          6,      11029,2,20111004,       1144,   -29.3839,     2.6999,       2859,  1480.1,   3.0702,  34.6801,2,  34.6808,2,    187.3,2,   188.7,2,    52.2,2,    30.6,2,    0.00,2,   1.976,4,-999.000,9,-999.000,9,-999.000,9,     2222.8,2,  2326.7,2,  -999.0,9, -999.00,-999.0000,5,  -999.00,-999.000,9,-999.0000,9, -999.00,9,  -999.0,9,  -999.0,-999.000,9, -999.00,9,  43.7268,2, -999.00,9, 1480.10,  -999.0,9,   2.9629,     27.634,    34.8443,2,     -999.0,9,     -999.0,9,     -999.0,     -999.0,9,     -999.0
33RO20110926,        A10,      25,          1,          5,      11704,2,20111004,       1144,   -29.3839,     2.6999,       2859,  1680.4,   3.0323,  34.7608,2,  34.7603,2,    200.5,2,   200.6,2,    48.3,2,    28.3,2,    0.00,2,   1.821,4,   0.068,2,   0.032,2,   0.013,2,     2212.8,2,  2326.1,2,  -999.0,9, -999.00,   7.6404,2,       25,-999.000,9,-999.0000,9, -999.00,9,  -999.0,9,  -999.0,   0.133,3, -999.00,9,  42.5268,2, -999.00,9, 1680.40,  -999.0,9,   2.9082,     27.702,    34.9242,2,     -999.0,9,     -999.0,9,     -999.0,     -999.0,9,     -999.0
33RO20110926,        A10,      25,          1,          4,      11030,2,20111004,       1144,   -29.3839,     2.6999,       2859,  1930.3,   2.9387,  34.8128,2,  34.8124,2,    212.8,2,   213.3,2,    45.9,2,    26.5,2,    0.00,2,   1.701,4,-999.000,9,-999.000,9,-999.000,9,     2205.2,2,  2328.1,2,  -999.0,9, -999.00,   7.6635,2,       25,-999.000,9,-999.0000,9, -999.00,9,  -999.0,9,  -999.0,-999.000,9, -999.00,9,  41.3366,2, -999.00,9, 1930.30,  -999.0,9,   2.7937,     27.754,    34.9765,2,     -999.0,9,     -999.0,9,     -999.0,     -999.0,9,     -999.0
33RO20110926,        A10,      25,          1,          3,      11703,2,20111004,       1144,   -29.3839,     2.6999,       2859,  2180.8,   2.7360,  34.8352,2,  34.8351,2,    222.0,2,   223.1,2,    47.4,6,    25.4,6,    0.00,6,   1.635,4,   0.017,2,   0.009,2,   0.000,2,     2201.4,2,  2316.4,4,  -999.0,9, -999.00,   7.6914,2,       25,-999.000,9,-999.0000,9, -999.00,9,  -999.0,9,  -999.0,   0.057,3, -999.00,9,  42.5561,2, -999.00,9, 2180.80,  -999.0,9,   2.5714,     27.792,    34.9994,2,     -999.0,9,     -999.0,9,     -999.0,     -999.0,9,     -999.0
33RO20110926,        A10,      25,          1,          2,      11702,2,20111004,       1144,   -29.3839,     2.6999,       2859,  2519.2,   2.5082,  34.8414,2,  34.8418,2,    226.8,2,   226.1,2,    51.7,2,    25.2,2,    0.00,2,   1.637,4,-999.000,9,-999.000,9,-999.000,9,     2202.2,2,  2322.3,4,  -999.0,9, -999.00,   7.6954,2,       25,-999.000,9,-999.0000,9, -999.00,9,  -999.0,9,  -999.0,-999.000,9, -999.00,9,  43.8341,2, -999.00,9, 2519.20,  -999.0,9,   2.3159,     27.819,    35.0061,2,     -999.0,9,     -999.0,9,     -999.0,     -999.0,9,     -999.0
33RO20110926,        A10,      25,          1,          1,      11701,2,20111004,       1144,   -29.3839,     2.6999,       2859,  2916.9,   2.3410,  34.8582,2,  34.8584,2,    231.8,2,   231.2,2,    53.4,2,    24.6,2,    0.00,2,   1.604,4,   0.009,2,   0.004,2,   0.000,2,     2207.9,6,  2344.4,2,  -999.0,9, -999.00,   7.7055,6,       25,-999.000,9,-999.0000,9, -999.00,9,  -999.0,9,  -999.0,   0.038,3, -999.00,9,-999.0000,5, -999.00,9, 2916.90,  -999.0,9,   2.1132,     27.849,    35.0227,2,     -999.0,9,     -999.0,9,     -999.0,     -999.0,9,     -999.0