BOTTLE,20220815CCHSIOAMB
EXPOCODE,SECT_ID,STNNBR,CASTNO,SAMPNO,BTLNBR,BTLNBR_FLAG_W,DATE,TIME,LATITUDE,LONGITUDE,DEPTH,CTDPRS,CTDTMP,CTDSAL,CTDSAL_FLAG_W,SALNTY,SALNTY_FLAG_W,CTDOXY,CTDOXY_FLAG_W,OXYGEN,OXYGEN_FLAG_W,SILCAT,SILCAT_FLAG_W,NITRAT,NITRAT_FLAG_W,NITRIT,NITRIT_FLAG_W,PHSPHT,PHSPHT_FLAG_W,CFC-11,CFC-11_FLAG_W,CFC-12,CFC-12_FLAG_W,SF6,SF6_FLAG_W,TCARBN,TCARBN_FLAG_W,ALKALI,ALKALI_FLAG_W,PCO2,PCO2_FLAG_W,PCO2TMP,PH_SWS,PH_SWS_FLAG_W,PH_TMP,TRITUM,TRITUM_FLAG_W,HELIUM,HELIUM_FLAG_W,DELC13,DELC13_FLAG_W,DELC14,DELC14_FLAG_W,C14ERR,CCL4,CCL4_FLAG_W,DELO18,DELO18_FLAG_W,DOC,DOC_FLAG_W,TDN,TDN_FLAG_W,CTDRAW,14C-DOC,14C-DOC_FLAG_W,THETA,SIG0,SALTREF,SALTREF_FLAG_W,BLACKC,BLACKC_FLAG_W,PIGMENTS,PIGMENTS_FLAG_W,14C-DOCERR,13C-DOC,13C-DOC_FLAG_W,13C-DOCERR
,,,,,,,,,,,METERS,DBAR,ITS-90,PSS-78,,PSS-78,,UMOL/KG,,UMOL/KG,,UMOL/KG,,UMOL/KG,,UMOL/KG,,UMOL/KG,,PMOL/KG,,PMOL/KG,,FMOL/KG,,UMOL/KG,,UMOL/KG,,UATM,,DEG C,,,DEG C,TU,,NMOL/KG,,/MILLE,,/MILLE,,/MILLE,PMOL/KG,,/MILLE,,UMOL/KG,,UMOL/KG,,DBAR,/MILLE,,DEG C,KG/M^3,G/KG,,,,,,/MILLE,/MILLE,,/MILLE
33RO20110926,        A10,      68,          1,         24,      11714,2,20111018,       2345,   -30.0168,   -24.2886,     -999.0,     5.1,  17.8267,  35.9332,2,  35.9321,2,    236.1,2,   237.2,2,     1.2,2,     0.0,4,    0.01,2,   0.106,4,   2.354,2,   1.427,2,   1.477,2,     2081.9,6,  2361.8,6,  -999.0,9, -999.00,   7.9844,6,       25,-999.000,9,-999.0000,9, -999.00,9,  -999.0,9,  -999.0,   3.120,4, -999.00,9,-999.0000,9, -999.00,9,    5.10,  -999.0,9,  17.8258,     26.029,    36.1015,2,     -999.0,1,     -999.0,1,     -999.0,     -999.0,9,     -999.0
33RO20110926,        A10,      68,          1,         23,      11713,2,20111018,       2345,   -30.0168,   -24.2886,     -999.0,    49.5,  17.6790,  35.9594,2,  35.9595,2,    236.7,2,   237.7,2,     1.2,2,     0.0,4,    0.01,2,   0.113,4,   2.356,2,   1.430,2,   1.468,2,     2085.3,2,  -999.0,5,  -999.0,9, -999.00,-999.0000,5,  -999.00,-999.000,9,-999.0000,9, -999.00,9,  -999.0,9,  -999.0,   3.207,4, -999.00,9,-999.0000,9, -999.00,9,   49.50,  -999.0,9,  17.6705,     26.089,    36.1291,2,     -999.0,1,     -999.0,9,     -999.0,     -999.0,9,     -999.0
33RO20110926,        A10,      68,          1,         22,      11712,2,20111018,       2345,   -30.0168,   -24.2886,     -999.0,    88.9,  16.9686,  35.8350,2,  35.8335,2,    233.8,2,   237.6,2,     1.2,2,     0.2,4,    0.06,2,   0.129,4,   2.428,2,   1.466,2,   1.482,2,     2084.9,2,  -999.0,5,  -999.0,9, -999.00,-999.0000,5,  -999.00,-999.000,9,-999.0000,9, -999.00,9,  -999.0,9,  -999.0,   2.692,4, -999.00,9,-999.0000,9, -999.00,9,   88.90,  -999.0,9,  16.9539,     26.165,    36.0025,2,     -999.0,1,     -999.0,1,     -999.0,     -999.0,9,     -999.0
33RO20110926,        A10,      68,          1,         21,      11010,2,20111018,       2345,   -30.0168,   -24.2886,     -999.0,   139.8,  15.9704,  35.6453,2,  35.6388,2,    221.4,2,   221.6,2,     1.8,2,     3.2,4,    0.03,2,   0.280,4,   2.558,2,   1.531,2,   1.428,2,     2100.1,2,  2341.1,2,  -999.0,9, -999.00,   7.9189,2,       25,-999.000,9,-999.0000,9, -999.00,9,  -999.0,9,  -999.0,   1.392,4, -999.00,9,-999.0000,9, -999.00,9,  139.80,  -999.0,9,  15.9482,     26.253,    35.8069,2,     -999.0,9,     -999.0,1,     -999.0,     -999.0,9,     -999.0
33RO20110926,        A10,      68,          1,         20,      11715,2,20111018,       2345,   -30.0168,   -24.2886,     -999.0,   199.3,  14.6867,  35.4209,2,  35.4264,2,    212.3,2,   213.1,2,     2.5,2,     6.1,4,    0.02,2,   0.428,4,   2.738,2,   1.609,2,   1.313,2,     2110.8,2,  2327.9,2,  -999.0,9, -999.00,   7.8848,2,       25,-999.000,9,-999.0000,9, -999.00,9,  -999.0,9,  -999.0,   0.992,4, -999.00,9,-999.0000,9, -999.00,9,  199.30,  -999.0,9,  14.6568,     26.375,    35.5934,2,     -999.0,9,     -999.0,9,     -999.0,     -999.0,9,     -999.0
33RO20110926,        A10,      68,          1,         19,      11007,2,20111018,       2345,   -30.0168,   -24.2886,     -999.0,   275.4,  13.5738,  35.2871,2,  35.2892,2,    216.4,2,   215.6,2,     3.0,2,     8.2,4,    0.02,2,   0.525,4,   2.889,2,   1.675,2,   1.335,2,     2117.9,2,  2320.9,2,  -999.0,9, -999.00,   7.8618,2,       25,-999.000,9,-999.0000,9, -999.00,9,  -999.0,9,  -999.0,   1.313,3, -999.00,9,-999.0000,9, -999.00,9,  275.40,  -999.0,9,  13.5346,     26.507,    35.4556,2,     -999.0,9,     -999.0,9,     -999.0,     -999.0,9,     -999.0
33RO20110926,        A10,      68,          1,         18,      11710,2,20111018,       2345,   -30.0168,   -24.2886,     -999.0,   400.0,  11.7841,  35.0562,2,  35.0521,2,    215.0,2,   214.6,2,     4.3,6,    12.5,4,    0.01,6,   0.724,4,   3.071,2,   1.741,2,   1.249,2,     2130.3,2,  2309.7,2,  -999.0,9, -999.00,   7.8147,2,       25,-999.000,9,-999.0000,9, -999.00,9,  -999.0,9,  -999.0,   1.407,3, -999.00,9,-999.0000,9, -999.00,9,  400.00,  -999.0,9,  11.7320,     26.678,    35.2173,2,     -999.0,9,     -999.0,9,     -999.0,     -999.0,9,     -999.0
33RO20110926,        A10,      68,          1,         17,      11023,2,20111018,       2345,   -30.0168,   -24.2886,     -999.0,   523.0,   9.2838,  34.7151,2,  34.7063,2,    207.0,2,   206.1,2,     8.5,2,    20.0,4,    0.01,2,   1.095,4,   3.193,6,   1.713,6,   0.995,6,     2150.2,2,  2295.3,2,  -999.0,9, -999.00,   7.7336,2,       25,-999.000,9,-999.0000,9, -999.00,9,  -999.0,9,  -999.0,   1.997,3, -999.00,9,-999.0000,9, -999.00,9,  523.00,  -999.0,9,   9.2250,     26.858,    34.8700,2,     -999.0,9,     -999.0,9,     -999.0,     -999.0,9,     -999.0
33RO20110926,        A10,      68,          1,         16,      11709,2,20111018,       2345,   -30.0168,   -24.2886,     -999.0,   647.5,   6.9414,  34.4656,2,  34.4647,2,    208.9,2,   208.9,2,    13.6,6,    25.3,4,    0.01,6,   1.391,4,   3.150,2,   1.630,2,   0.772,2,     2167.3,2,  2287.3,2,  -999.0,9, -999.00,   7.6725,2,       25,-999.000,9,-999.0000,9, -999.00,9,  -999.0,9,  -999.0,   3.058,3, -999.00,9,-999.0000,9, -999.00,9,  647.50,  -999.0,9,   6.8796,     27.013,    34.6272,2,     -999.0,9,     -999.0,9,     -999.0,     -999.0,9,     -999.0
33RO20110926,        A10,      68,          1,         15,      11006,2,20111018,       2345,   -30.0168,   -24.2886,     -999.0,   776.4,   5.2537,  34.3346,2,  34.3364,2,    217.6,2,   216.6,2,    19.9,2,    29.2,4,    0.01,2,   1.596,4,   2.977,2,   1.501,2,   0.670,2,     2178.8,2,  -999.0,5,  -999.0,9, -999.00,-999.0000,5,  -999.00,-999.000,9,-999.0000,9, -999.00,9,  -999.0,9,  -999.0,   3.788,3, -999.00,9,-999.0000,9, -999.00,9,  776.40,  -999.0,9,   5.1890,     27.127,    34.4983,2,     -999.0,9,     -999.0,9,     -999.0,     -999.0,9,     -999.0
33RO20110926,        A10,      68,          1,         14,      11708,2,20111018,       2345,   -30.0168,   -24.2886,     -999.0,   899.9,   4.1494,  34.3088,2,  34.3095,2,    215.5,2,   216.8,2,    28.9,2,    31.6,4,    0.01,2,   1.785,4,   2.400,2,   1.186,2,   0.514,2,     2190.8,2,    2286,4,  -999.0,9, -999.00,   7.5902,4,       25,-999.000,9,-999.0000,9, -999.00,9,  -999.0,9,  -999.0,   3.622,3, -999.00,9,-999.0000,9, -999.00,9,  899.90,  -999.0,9,   4.0812,     27.228,    34.4713,2,     -999.0,9,     -999.0,9,     -999.0,     -999.0,9,     -999.0
33RO20110926,        A10,      68,          1,         13,      11031,2,20111018,       2345,   -30.0168,   -24.2886,     -999.0,  1074.4,   3.5298,  34.3725,2,  34.3733,2,    201.7,2,   199.8,2,    40.9,2,    33.3,4,    0.01,2,   1.968,4,   1.467,2,   0.717,2,   0.240,2,     2211.6,2,  2307.2,2,  -999.0,9, -999.00,   7.6022,2,       25,-999.000,9,-999.0000,9, -999.00,9,  -999.0,9,  -999.0,   2.596,3, -999.00,9,-999.0000,9, -999.00,9, 1074.40,  -999.0,9,   3.4520,     27.342,    34.5354,2,     -999.0,9,     -999.0,9,     -999.0,     -999.0,9,     -999.0
33RO20110926,        A10,      68,          1,         12,      11027,2,20111018,       2345,   -30.0168,   -24.2886,     -999.0,  1249.7,   3.1688,  34.4857,2,  34.4873,2,    189.4,2,   187.5,2,    51.2,6,    32.3,4,    0.01,6,   2.062,4,   0.700,2,   0.336,2,   0.091,2,     2226.4,2,  2320.5,6,  -999.0,9, -999.00,   7.5922,6,       25,-999.000,9,-999.0000,9, -999.00,9,  -999.0,9,  -999.0,   1.488,3, -999.00,9,-999.0000,9, -999.00,9, 1249.70,  -999.0,9,   3.0800,     27.467,    34.6500,6,     -999.0,9,     -999.0,9,     -999.0,     -999.0,9,     -999.0
33RO20110926,        A10,      68,          1,         11,      11707,2,20111018,       2345,   -30.0168,   -24.2886,     -999.0,  1450.4,   2.9743,  34.6084,2,  34.6083,2,    189.9,2,   188.2,2,    54.5,2,    32.2,4,    0.01,2,   2.019,4,   0.283,2,   0.136,2,   0.067,2,     2230.5,6,  2327.4,2,  -999.0,9, -999.00,   7.6002,2,       25,-999.000,9,-999.0000,9, -999.00,9,  -999.0,9,  -999.0,   0.813,3, -999.00,9,-999.0000,9, -999.00,9, 1450.40,  -999.0,9,   2.8708,     27.584,    34.7715,2,     -999.0,9,     -999.0,9,     -999.0,     -999.0,9,     -999.0
33RO20110926,        A10,      68,          1,         10,      11003,2,20111018,       2345,   -30.0168,   -24.2886,     -999.0,  1649.0,   2.8657,  34.7001,2,  34.6997,2,    199.4,2,   199.9,2,    53.7,2,    30.0,4,    0.01,2,   1.905,4,   0.123,2,   0.059,2,   0.029,2,     2221.3,2,  2328.3,2,  -999.0,9, -999.00,   7.6282,2,       25,-999.000,9,-999.0000,9, -999.00,9,  -999.0,9,  -999.0,   0.532,3, -999.00,9,-999.0000,9, -999.00,9, 1649.00,  -999.0,9,   2.7466,     27.668,    34.8633,2,     -999.0,9,     -999.0,9,     -999.0,     -999.0,9,     -999.0
33RO20110926,        A10,      68,          1,          9,      11706,2,20111018,       2345,   -30.0168,   -24.2886,     -999.0,  1948.8,   2.7366,  34.7893,2,  34.7893,2,    216.5,2,     216,2,    50.3,2,    27.1,4,    0.01,2,   1.726,4,   0.038,6,   0.020,6,   0.014,6,     2212.3,2,  2333.8,2,  -999.0,9, -999.00,   7.6663,2,       25,-999.000,9,-999.0000,9, -999.00,9,  -999.0,9,  -999.0,   0.299,3, -999.00,9,-999.0000,9, -999.00,9, 1948.80,  -999.0,9,   2.5931,     27.753,    34.9534,2,     -999.0,9,     -999.0,9,     -999.0,     -999.0,9,     -999.0
33RO20110926,        A10,      68,          1,          8,      11033,2,20111018,       2345,   -30.0168,   -24.2886,     -999.0,  2249.7,   2.6969,  34.8457,2,  34.8452,2,    231.1,2,   230.6,2,    45.3,2,    24.8,4,    0.01,2,   1.568,4,   0.014,2,   0.007,2,   0.000,2,       2202,2,  2335.7,2,  -999.0,9, -999.00,   7.7044,2,       25,-999.000,9,-999.0000,9, -999.00,9,  -999.0,9,  -999.0,   0.166,3, -999.00,9,-999.0000,9, -999.00,9, 2249.70,  -999.0,9,   2.5265,     27.804,    35.0095,2,     -999.0,9,     -999.0,9,     -999.0,     -999.0,9,     -999.0
33RO20110926,        A10,      68,          1,          7,      11705,2,20111018,       2345,   -30.0168,   -24.2886,     -999.0,  2550.0,   2.7383,  34.8849,2,  34.8837,2,    241.0,2,   242.6,2,    39.3,2,    23.1,4,    0.01,2,   1.433,4,   0.007,2,   0.004,2,   0.000,2,       2192,2,  -999.0,5,  -999.0,9, -999.00,-999.0000,5,  -999.00,-999.000,9,-999.0000,9, -999.00,9,  -999.0,9,  -999.0,   0.136,3, -999.00,9,-999.0000,9, -999.00,9, 2550.00,  -999.0,9,   2.5386,     27.834,    35.0482,2,     -999.0,9,     -999.0,9,     -999.0,     -999.0,9,     -999.0
33RO20110926,        A10,      68,          1,          6,      11029,2,20111018,       2345,   -30.0168,   -24.2886,     -999.0,  2847.8,   2.7101,  34.9002,2,  34.9042,2,    247.3,2,     247,2,    37.4,2,    22.2,4,    0.01,2,   1.378,4,   0.009,2,   0.006,2,   0.000,2,     2185.9,2,  2332.7,2,  -999.0,9, -999.00,   7.7334,2,       25,-999.000,9,-999.0000,9, -999.00,9,  -999.0,9,  -999.0,   0.136,3, -999.00,9,-999.0000,9, -999.00,9, 2847.80,  -999.0,9,   2.4813,     27.855,    35.0688,2,     -999.0,1,     -999.0,9,     -999.0,     -999.0,9,     -999.0
33RO20110926,        A10,      68,          1,          5,      11704,2,20111018,       2345,   -30.0168,   -24.2886,     -999.0,  3229.1,   2.5146,  34.8926,2,  34.8922,2,    249.2,2,   248.2,2,    41.9,2,    22.4,4,    0.01,2,   1.426,4,   0.004,2,   0.003,2,   0.049,2,     2189.6,2,  -999.0,5,  -999.0,9, -999.00,-999.0000,5,  -999.00,-999.000,9,-999.0000,9, -999.00,9,  -999.0,9,  -999.0,   0.120,3, -999.00,9,-999.0000,9, -999.00,9, 3229.10,  -999.0,9,   2.2508,     27.865,    35.0567,2,     -999.0,9,     -999.0,9,     -999.0,     -999.0,9,     -999.0
33RO20110926,        A10,      68,          1,          4,      11030,2,20111018,       2345,   -30.0168,   -24.2886,     -999.0,  3699.4,   1.8960,  34.8332,2,  34.8338,2,    240.9,2,   240.8,2,    64.8,2,    25.4,4,    0.01,2,   1.752,4,   0.014,2,   0.007,2,   0.070,2,     2211.7,2,  2343.6,2,  -999.0,9, -999.00,   7.6905,2,       25,-999.000,9,-999.0000,9, -999.00,9,  -999.0,9,  -999.0,   0.146,3, -999.00,9,-999.0000,9, -999.00,9, 3699.40,  -999.0,9,   1.5979,     27.870,    34.9980,2,     -999.0,9,     -999.0,9,     -999.0,     -999.0,9,     -999.0
33RO20110926,        A10,      68,          1,          3,      11703,2,20111018,       2345,   -30.0168,   -24.2886,     -999.0,  4200.6,   1.3127,  34.7673,2,  34.7677,2,    228.6,2,   228.4,2,    89.7,6,    28.4,4,    0.01,6,   2.120,4,   0.063,2,   0.031,2,   0.093,2,     2237.4,2,  2356.8,2,  -999.0,9, -999.00,   7.6565,2,       25,-999.000,9,-999.0000,9, -999.00,9,  -999.0,9,  -999.0,   0.293,3, -999.00,9,-999.0000,9, -999.00,9, 4200.60,  -999.0,9,   0.9766,     27.860,    34.9317,2,     -999.0,9,     -999.0,9,     -999.0,     -999.0,9,     -999.0
33RO20110926,        A10,      68,          1,          2,      11702,2,20111018,       2345,   -30.0168,   -24.2886,     -999.0,  4649.0,   1.2474,  34.7575,2,  34.7581,2,    227.9,2,     228,2,    93.6,2,    29.2,4,    0.01,2,   2.175,4,   0.061,2,   0.034,2,   0.125,2,     2242.2,2,  2357.6,2,  -999.0,9, -999.00,   7.6525,2,       25,-999.000,9,-999.0000,9, -999.00,9,  -999.0,9,  -999.0,   0.296,3, -999.00,9,-999.0000,9, -999.00,9, 4649.00,  -999.0,9,   0.8626,     27.860,    34.9220,2,     -999.0,9,     -999.0,9,     -999.0,     -999.0,9,     -999.0
33RO20110926,        A10,      68,          1,          1,      11701,2,20111018,       2345,   -30.0168,   -24.2886,     -999.0,  4909.8,   1.2538,  34.7556,2,  34.7577,2,    228.1,2,   226.5,2,    94.5,2,    29.2,4,    0.01,2,   2.185,4,   0.060,6,   0.032,6,   0.152,6,     2243.3,6,  2357.9,2,  -999.0,9, -999.00,   7.6515,2,       25,-999.000,9,-999.0000,9, -999.00,9,  -999.0,9,  -999.0,   0.316,3, -999.00,9,-999.0000,9, -999.00,9, 4909.80,  -999.0,9,   0.8381,     27.861,    34.9216,2,     -999.0,9,     -999.0,9,     -999.0,     -999.0,9,     -999.0