BOTTLE,20220815CCHSIOAMB
EXPOCODE,SECT_ID,STNNBR,CASTNO,SAMPNO,BTLNBR,BTLNBR_FLAG_W,DATE,TIME,LATITUDE,LONGITUDE,DEPTH,CTDPRS,CTDTMP,CTDSAL,CTDSAL_FLAG_W,SALNTY,SALNTY_FLAG_W,CTDOXY,CTDOXY_FLAG_W,OXYGEN,OXYGEN_FLAG_W,SILCAT,SILCAT_FLAG_W,NITRAT,NITRAT_FLAG_W,NITRIT,NITRIT_FLAG_W,PHSPHT,PHSPHT_FLAG_W,CFC-11,CFC-11_FLAG_W,CFC-12,CFC-12_FLAG_W,SF6,SF6_FLAG_W,TCARBN,TCARBN_FLAG_W,ALKALI,ALKALI_FLAG_W,PCO2,PCO2_FLAG_W,PCO2TMP,PH_SWS,PH_SWS_FLAG_W,PH_TMP,TRITUM,TRITUM_FLAG_W,HELIUM,HELIUM_FLAG_W,DELC13,DELC13_FLAG_W,DELC14,DELC14_FLAG_W,C14ERR,CCL4,CCL4_FLAG_W,DELO18,DELO18_FLAG_W,DOC,DOC_FLAG_W,TDN,TDN_FLAG_W,CTDRAW,14C-DOC,14C-DOC_FLAG_W,THETA,SIG0,SALTREF,SALTREF_FLAG_W,BLACKC,BLACKC_FLAG_W,PIGMENTS,PIGMENTS_FLAG_W,14C-DOCERR,13C-DOC,13C-DOC_FLAG_W,13C-DOCERR
,,,,,,,,,,,METERS,DBAR,ITS-90,PSS-78,,PSS-78,,UMOL/KG,,UMOL/KG,,UMOL/KG,,UMOL/KG,,UMOL/KG,,UMOL/KG,,PMOL/KG,,PMOL/KG,,FMOL/KG,,UMOL/KG,,UMOL/KG,,UATM,,DEG C,,,DEG C,TU,,NMOL/KG,,/MILLE,,/MILLE,,/MILLE,PMOL/KG,,/MILLE,,UMOL/KG,,UMOL/KG,,DBAR,/MILLE,,DEG C,KG/M^3,G/KG,,,,,,/MILLE,/MILLE,,/MILLE
33RO20110926,        A10,      49,          1,         24,      11714,2,20111010,       1954,   -29.9989,    -9.6841,       3905,     4.5,  17.9900,  35.8934,2,  35.8930,2,    237.0,2,   238.2,2,     1.3,2,     0.1,2,    0.00,2,   0.159,2,   2.341,2,   1.422,2,   1.484,2,       2084,6,  2358.8,6,  -999.0,9, -999.00,   7.9759,6,       25,-999.000,9,-999.0000,9, -999.00,5,  -999.0,5,  -999.0,   3.620,4, -999.00,9,  65.1024,2,    3.92,2,    4.50,  -999.0,9,  17.9892,     25.959,    36.0623,2,     -999.0,9,     -999.0,1,     -999.0,     -999.0,9,     -999.0
33RO20110926,        A10,      49,          1,         23,      11713,2,20111010,       1954,   -29.9989,    -9.6841,       3905,    54.7,  17.5735,  35.8778,2,  35.8772,2,    240.7,2,   240.8,2,     1.3,2,     0.1,2,    0.00,2,   0.165,2,   2.311,2,   1.453,2,   1.533,2,     2084.7,2,  2352.7,2,  -999.0,9, -999.00,    7.981,2,       25,-999.000,9,-999.0000,9, -999.00,9,  -999.0,9,  -999.0,   3.654,4, -999.00,9,  63.2098,2,    4.04,2,   54.70,  -999.0,9,  17.5642,     26.052,    36.0464,2,     -999.0,9,     -999.0,9,     -999.0,     -999.0,9,     -999.0
33RO20110926,        A10,      49,          1,         22,      11712,2,20111010,       1954,   -29.9989,    -9.6841,       3905,   105.3,  16.9952,  35.8246,2,  35.8229,2,    234.5,2,   233.4,2,     1.5,2,     0.6,2,    0.32,2,   0.226,2,   2.392,2,   1.461,2,   1.531,2,     2091.4,3,  2351.7,2,  -999.0,9, -999.00,   7.9649,2,       25,-999.000,9,-999.0000,9, -999.00,9,  -999.0,9,  -999.0,   2.131,4, -999.00,9,  60.4781,2,    4.67,2,  105.30,  -999.0,9,  16.9778,     26.152,    35.9919,2,     -999.0,9,     -999.0,1,     -999.0,     -999.0,9,     -999.0
33RO20110926,        A10,      49,          1,         21,      11010,2,20111010,       1954,   -29.9989,    -9.6841,       3905,   155.3,  14.7845,  35.4231,2,  35.4255,2,    217.3,2,   218.3,2,     2.5,2,     5.5,2,    0.01,2,   0.499,2,   2.691,2,   1.607,2,   1.482,2,     2107.6,3,  2326.1,2,  -999.0,9, -999.00,   7.8938,2,       25,-999.000,9,-999.0000,9, -999.00,9,  -999.0,9,  -999.0,   1.207,4, -999.00,9,  54.5561,2,    9.38,2,  155.30,  -999.0,9,  14.7611,     26.353,    35.5925,2,     -999.0,9,     -999.0,1,     -999.0,     -999.0,9,     -999.0
33RO20110926,        A10,      49,          1,         20,      11715,2,20111010,       1954,   -29.9989,    -9.6841,       3905,   203.8,  13.9715,  35.3108,2,  35.3095,2,    217.6,2,   217.7,2,     2.8,6,     7.2,6,    0.01,6,   0.598,6,   2.797,2,   1.652,2,   1.409,2,       2114,2,  2320.4,2,  -999.0,9, -999.00,   7.8698,2,       25,-999.000,9,-999.0000,9, -999.00,9,  -999.0,9,  -999.0,   0.911,4, -999.00,9,  56.1171,2, -999.00,9,  203.80,  -999.0,9,  13.9420,     26.439,    35.4760,2,     -999.0,9,     -999.0,9,     -999.0,     -999.0,9,     -999.0
33RO20110926,        A10,      49,          1,         19,      11007,2,20111010,       1954,   -29.9989,    -9.6841,       3905,   281.1,  12.5143,  35.1134,2,  35.1248,2,    211.5,2,   210.7,2,     4.3,2,    11.4,2,    0.00,2,   0.852,2,   3.000,2,   1.716,2,   1.242,2,     2127.3,2,  2313.8,2,  -999.0,9, -999.00,   7.8226,2,       25,-999.000,9,-999.0000,9, -999.00,9,  -999.0,9,  -999.0,   1.196,3, -999.00,9,  51.9317,2, -999.00,9,  281.10,  -999.0,9,  12.4764,     26.591,    35.2904,2,     -999.0,9,     -999.0,9,     -999.0,     -999.0,9,     -999.0
33RO20110926,        A10,      49,          1,         18,      11710,2,20111010,       1954,   -29.9989,    -9.6841,       3905,   365.7,  11.1191,  34.9422,2,  34.9436,2,    210.0,2,   210.9,2,     5.6,2,    14.6,2,    0.00,2,   1.056,2,   3.128,2,   1.747,2,   1.212,2,     2137.1,2,  2304.7,2,  -999.0,9, -999.00,   7.7855,2,       25,-999.000,9,-999.0000,9, -999.00,9,  -999.0,9,  -999.0,   1.195,3, -999.00,9,  47.4049,2, -999.00,9,  365.70,  -999.0,9,  11.0734,     26.716,    35.1084,2,     -999.0,9,     -999.0,9,     -999.0,     -999.0,9,     -999.0
33RO20110926,        A10,      49,          1,         17,      11023,2,20111010,       1954,   -29.9989,    -9.6841,       3905,   450.4,  10.0818,  34.8082,2,  34.8130,2,    208.3,2,   207.9,2,     7.0,6,    17.3,6,    0.01,6,   1.227,6,   3.148,2,   1.732,2,   1.127,2,     2145.5,2,  2286.9,4,  -999.0,9, -999.00,   7.7605,2,       25,-999.000,9,-999.0000,9, -999.00,9,  -999.0,9,  -999.0,   1.177,3, -999.00,9,  48.2439,2, -999.00,9,  450.40,  -999.0,9,  10.0287,     26.802,    34.9771,2,     -999.0,9,     -999.0,9,     -999.0,     -999.0,9,     -999.0
33RO20110926,        A10,      49,          1,         16,      11709,2,20111010,       1954,   -29.9989,    -9.6841,       3905,   560.5,   7.8829,  34.5582,2,  34.5574,2,    202.4,2,   202.4,2,    12.3,2,    23.7,2,    0.01,2,   1.628,2,   3.114,2,   1.645,2,   0.942,2,     2164.4,2,    2290,2,  -999.0,9, -999.00,   7.6865,2,       25,-999.000,9,-999.0000,9, -999.00,9,  -999.0,9,  -999.0,   1.602,3, -999.00,9,  48.7707,2, -999.00,9,  560.50,  -999.0,9,   7.8257,     26.952,    34.7204,2,     -999.0,9,     -999.0,9,     -999.0,     -999.0,9,     -999.0
33RO20110926,        A10,      49,          1,         15,      11006,2,20111010,       1954,   -29.9989,    -9.6841,       3905,   651.5,   6.4210,  34.4232,2,  34.4241,2,    208.5,2,   206.3,2,    16.1,2,    26.7,2,    0.00,2,   1.824,2,   3.062,2,   1.586,2,   0.827,2,     2172.7,2,  2286.6,2,  -999.0,9, -999.00,   7.6565,2,       25,-999.000,9,-999.0000,9, -999.00,9,  -999.0,9,  -999.0,   2.058,3, -999.00,9,  42.6439,2, -999.00,9,  651.50,  -999.0,9,   6.3613,     27.051,    34.5864,2,     -999.0,9,     -999.0,9,     -999.0,     -999.0,9,     -999.0
33RO20110926,        A10,      49,          1,         14,      11708,2,20111010,       1954,   -29.9989,    -9.6841,       3905,   774.8,   4.6449,  34.2963,2,  34.2966,2,    221.5,2,   222.8,2,    22.6,2,    29.3,2,    0.00,2,   2.006,2,   2.944,2,   1.494,2,   0.682,2,     2181.5,2,  2287.2,2,  -999.0,9, -999.00,   7.6374,2,       25,-999.000,9,-999.0000,9, -999.00,9,  -999.0,9,  -999.0,   2.878,3, -999.00,9,  43.4146,2, -999.00,9,  774.80,  -999.0,9,   4.5840,     27.164,    34.4583,2,     -999.0,9,     -999.0,9,     -999.0,     -999.0,9,     -999.0
33RO20110926,        A10,      49,          1,         13,      11031,2,20111010,       1954,   -29.9989,    -9.6841,       3905,   900.9,   3.9152,  34.3325,2,  34.3323,2,    207.4,2,   208.8,2,    33.9,2,    31.6,2,    0.00,2,   2.171,2,   2.117,2,   1.049,2,   0.424,2,     2200.4,2,    2300,2,  -999.0,9, -999.00,   7.6122,2,       25,-999.000,9,-999.0000,9, -999.00,9,  -999.0,9,  -999.0,   2.528,3, -999.00,9,   40.039,2, -999.00,9,  900.90,  -999.0,9,   3.8485,     27.270,    34.4942,2,     -999.0,9,     -999.0,9,     -999.0,     -999.0,9,     -999.0
33RO20110926,        A10,      49,          1,         12,      11027,2,20111010,       1954,   -29.9989,    -9.6841,       3905,  1030.1,   3.4974,  34.4023,2,  34.4024,2,    193.2,2,   193.5,2,    44.1,6,    32.6,6,    0.01,6,   2.272,6,   1.320,2,   0.648,2,   0.193,2,     2217.2,2,  2311.3,2,  -999.0,9, -999.00,   7.5922,2,       25,-999.000,9,-999.0000,9, -999.00,9,  -999.0,9,  -999.0,   1.624,3, -999.00,9,  39.7854,2, -999.00,9, 1030.10,  -999.0,9,   3.4234,     27.368,    34.5647,2,     -999.0,9,     -999.0,9,     -999.0,     -999.0,9,     -999.0
33RO20110926,        A10,      49,          1,         11,      11707,2,20111010,       1954,   -29.9989,    -9.6841,       3905,  1180.1,   3.1129,  34.4977,2,  34.4986,2,    185.8,2,   187.1,2,    52.4,2,    32.8,2,    0.00,2,   2.268,2,   0.688,2,   0.332,2,   0.085,2,     2227.2,2,  2304.7,4,  -999.0,9, -999.00,   7.5952,2,       25,-999.000,9,-999.0000,9, -999.00,9,  -999.0,9,  -999.0,   1.089,3, -999.00,9,  39.9024,2, -999.00,9, 1180.10,  -999.0,9,   3.0300,     27.481,    34.6612,6,     -999.0,9,     -999.0,9,     -999.0,     -999.0,9,     -999.0
33RO20110926,        A10,      49,          1,         10,      11003,2,20111010,       1954,   -29.9989,    -9.6841,       3905,  1351.0,   3.0466,  34.6034,2,  34.6038,2,    185.1,2,   185.8,2,    54.0,2,    31.8,2,    0.00,2,   2.188,2,   0.299,2,   0.141,2,   0.065,2,     2230.9,6,  2327.3,4,  -999.0,9, -999.00,   7.6084,2,       25,-999.000,9,-999.0000,9, -999.00,9,  -999.0,9,  -999.0,   0.572,3, -999.00,9,     40.8,2, -999.00,9, 1351.00,  -999.0,9,   2.9504,     27.573,    34.7669,2,     -999.0,9,     -999.0,9,     -999.0,     -999.0,9,     -999.0
33RO20110926,        A10,      49,          1,          9,      11706,2,20111010,       1954,   -29.9989,    -9.6841,       3905,  1620.0,   2.9725,  34.7318,2,  34.7307,2,    198.8,2,   198.7,2,    50.8,2,    29.0,2,    0.00,2,   1.983,2,   0.085,2,   0.041,2,   0.000,2,     2219.3,2,  2327.5,2,  -999.0,9, -999.00,   7.6344,2,       25,-999.000,9,-999.0000,9, -999.00,9,  -999.0,9,  -999.0,   0.180,3, -999.00,9,-999.0000,5, -999.00,9, 1620.00,  -999.0,9,   2.8544,     27.683,    34.8945,2,     -999.0,9,     -999.0,9,     -999.0,     -999.0,9,     -999.0
33RO20110926,        A10,      49,          1,          8,      11033,2,20111010,       1954,   -29.9989,    -9.6841,       3905,  1910.6,   2.7752,  34.7849,2,  34.7846,2,    211.2,2,   210.4,2,    51.4,2,    27.4,2,    0.00,2,   1.857,2,   0.041,2,   0.020,2,   0.000,2,     2211.5,2,  2330.2,2,  -999.0,9, -999.00,   7.6583,2,       25,-999.000,9,-999.0000,9, -999.00,9,  -999.0,9,  -999.0,   0.138,3, -999.00,9,  39.5219,2, -999.00,9, 1910.60,  -999.0,9,   2.6345,     27.746,    34.9486,2,     -999.0,9,     -999.0,9,     -999.0,     -999.0,9,     -999.0
33RO20110926,        A10,      49,          1,          7,      11705,2,20111010,       1954,   -29.9989,    -9.6841,       3905,  2200.5,   2.6052,  34.8256,2,  34.8261,2,    222.8,2,   222.3,2,    50.9,2,    25.7,2,    0.00,2,   1.750,2,   0.016,2,   0.010,2,   0.000,2,     2205.4,2,  2336.3,2,  -999.0,9, -999.00,   7.6833,2,       25,-999.000,9,-999.0000,9, -999.00,9,  -999.0,9,  -999.0,   0.155,3, -999.00,9,  42.0293,2, -999.00,9, 2200.50,  -999.0,9,   2.4409,     27.796,    34.9904,2,     -999.0,9,     -999.0,9,     -999.0,     -999.0,9,     -999.0
33RO20110926,        A10,      49,          1,          6,      11029,2,20111010,       1954,   -29.9989,    -9.6841,       3905,  2499.6,   2.4732,  34.8481,2,  34.8535,4,    230.4,2,   231.7,2,    50.5,2,    24.8,2,    0.00,2,   1.671,2,   0.006,2,   0.004,2,   0.000,2,       2202,2,  2338.2,2,  -999.0,9, -999.00,   7.6954,2,       25,-999.000,9,-999.0000,9, -999.00,9,  -999.0,9,  -999.0,   0.129,3, -999.00,9,  44.2244,2, -999.00,9, 2499.60,  -999.0,9,   2.2833,     27.831,    35.0178,2,     -999.0,9,     -999.0,9,     -999.0,     -999.0,9,     -999.0
33RO20110926,        A10,      49,          1,          5,      11704,2,20111010,       1954,   -29.9989,    -9.6841,       3905,  2800.1,   2.4140,  34.8605,2,  34.8600,2,    236.7,2,     236,2,    50.0,2,    24.1,2,    0.00,2,   1.624,2,   0.006,2,   0.005,2,   0.028,2,     2198.6,2,  2339.6,2,  -999.0,9, -999.00,   7.6994,2,       25,-999.000,9,-999.0000,9, -999.00,9,  -999.0,9,  -999.0,   0.101,3, -999.00,9,  42.7415,2, -999.00,9, 2800.10,  -999.0,9,   2.1962,     27.844,    35.0244,2,     -999.0,9,     -999.0,9,     -999.0,     -999.0,9,     -999.0
33RO20110926,        A10,      49,          1,          4,      11030,2,20111010,       1954,   -29.9989,    -9.6841,       3905,  3099.5,   2.3738,  34.8688,2,  34.8697,2,    238.3,2,   238.5,2,    50.1,2,    23.8,2,    0.00,2,   1.604,2,   0.007,2,   0.004,2,   0.080,2,       2199,2,  2342.6,2,  -999.0,9, -999.00,   7.7074,2,       25,-999.000,9,-999.0000,9, -999.00,9,  -999.0,9,  -999.0,   0.112,3, -999.00,9,  42.2732,2, -999.00,9, 3099.50,  -999.0,9,   2.1268,     27.857,    35.0341,2,     -999.0,9,     -999.0,9,     -999.0,     -999.0,9,     -999.0
33RO20110926,        A10,      49,          1,          3,      11703,2,20111010,       1954,   -29.9989,    -9.6841,       3905,  3400.3,   2.3780,  34.8718,2,  34.8717,2,    239.0,2,   239.6,2,    50.3,6,    23.6,6,    0.00,6,   1.604,6,   0.006,6,   0.004,6,   0.091,6,     2199.9,2,  2343.5,2,  -999.0,9, -999.00,   7.7105,2,       25,-999.000,9,-999.0000,9, -999.00,9,  -999.0,9,  -999.0,   0.089,3, -999.00,9,  42.3317,2, -999.00,9, 3400.30,  -999.0,9,   2.0995,     27.861,    35.0361,2,     -999.0,9,     -999.0,9,     -999.0,     -999.0,9,     -999.0
33RO20110926,        A10,      49,          1,          2,      11702,2,20111010,       1954,   -29.9989,    -9.6841,       3905,  3696.0,   2.3813,  34.8761,2,  34.8760,2,    238.4,2,   236.9,2,    50.8,2,    23.5,2,    0.00,2,   1.598,2,   0.006,2,   0.003,2,   0.000,2,     2203.3,2,    2346,2,  -999.0,9, -999.00,   7.7135,6,       25,-999.000,9,-999.0000,9, -999.00,9,  -999.0,9,  -999.0,   0.126,3, -999.00,9,  43.9415,2, -999.00,9, 3696.00,  -999.0,9,   2.0706,     27.867,    35.0405,2,     -999.0,9,     -999.0,9,     -999.0,     -999.0,9,     -999.0
33RO20110926,        A10,      49,          1,          1,      11701,2,20111010,       1954,   -29.9989,    -9.6841,       3905,  3982.2,   2.4046,  34.8779,2,  34.8784,2,    237.7,2,   236.6,2,    51.2,2,    23.2,2,    0.01,2,   1.593,2,   0.003,6,   0.002,6,   0.000,6,     2206.6,6,  2352.8,4,  -999.0,9, -999.00,   7.7146,2,       25,-999.000,9,-999.0000,9, -999.00,9,  -999.0,9,  -999.0,   0.080,3, -999.00,9,  41.8244,2, -999.00,9, 3982.20,  -999.0,9,   2.0611,     27.869,    35.0429,2,     -999.0,9,     -999.0,9,     -999.0,     -999.0,9,     -999.0