BOTTLE,20220815CCHSIOAMB
EXPOCODE,SECT_ID,STNNBR,CASTNO,SAMPNO,BTLNBR,BTLNBR_FLAG_W,DATE,TIME,LATITUDE,LONGITUDE,DEPTH,CTDPRS,CTDTMP,CTDSAL,CTDSAL_FLAG_W,SALNTY,SALNTY_FLAG_W,CTDOXY,CTDOXY_FLAG_W,OXYGEN,OXYGEN_FLAG_W,SILCAT,SILCAT_FLAG_W,NITRAT,NITRAT_FLAG_W,NITRIT,NITRIT_FLAG_W,PHSPHT,PHSPHT_FLAG_W,CFC-11,CFC-11_FLAG_W,CFC-12,CFC-12_FLAG_W,SF6,SF6_FLAG_W,TCARBN,TCARBN_FLAG_W,ALKALI,ALKALI_FLAG_W,PCO2,PCO2_FLAG_W,PCO2TMP,PH_SWS,PH_SWS_FLAG_W,PH_TMP,TRITUM,TRITUM_FLAG_W,HELIUM,HELIUM_FLAG_W,DELC13,DELC13_FLAG_W,DELC14,DELC14_FLAG_W,C14ERR,CCL4,CCL4_FLAG_W,DELO18,DELO18_FLAG_W,DOC,DOC_FLAG_W,TDN,TDN_FLAG_W,CTDRAW,14C-DOC,14C-DOC_FLAG_W,THETA,SIG0,SALTREF,SALTREF_FLAG_W,BLACKC,BLACKC_FLAG_W,PIGMENTS,PIGMENTS_FLAG_W,14C-DOCERR,13C-DOC,13C-DOC_FLAG_W,13C-DOCERR
,,,,,,,,,,,METERS,DBAR,ITS-90,PSS-78,,PSS-78,,UMOL/KG,,UMOL/KG,,UMOL/KG,,UMOL/KG,,UMOL/KG,,UMOL/KG,,PMOL/KG,,PMOL/KG,,FMOL/KG,,UMOL/KG,,UMOL/KG,,UATM,,DEG C,,,DEG C,TU,,NMOL/KG,,/MILLE,,/MILLE,,/MILLE,PMOL/KG,,/MILLE,,UMOL/KG,,UMOL/KG,,DBAR,/MILLE,,DEG C,KG/M^3,G/KG,,,,,,/MILLE,/MILLE,,/MILLE
33RO20110926,        A10,      10,          1,         24,      11714,2,20110930,       0149,   -29.7506,    10.7503,       4371,    11.1,  16.5816,  35.6015,2,  35.6023,2,    244.6,2,   245.9,2,     2.5,2,     6.1,4,    0.13,2,   0.215,2,   2.519,6,   1.501,6,   1.486,6,     2062.3,6,  2326.7,6,  -999.0,9, -999.00,   7.9684,6,       25,-999.000,9,-999.0000,9, -999.00,9,  -999.0,9,  -999.0,   2.610,3, -999.00,9,-999.0000,9, -999.00,9,   11.10,  -999.0,9,  16.5798,     26.076,    35.7702,2,     -999.0,9,     -999.0,1,     -999.0,     -999.0,9,     -999.0
33RO20110926,        A10,      10,          1,         23,      11713,2,20110930,       0149,   -29.7506,    10.7503,       4371,    61.8,  16.4579,  35.5830,2,  35.5843,2,    244.4,2,     243,2,     2.6,2,     6.5,4,    0.24,2,   0.255,2,-999.000,9,-999.000,9,-999.000,9,       2063,2,  2335.9,2,  -999.0,9, -999.00,   7.9729,2,       25,-999.000,9,-999.0000,9, -999.00,9,  -999.0,9,  -999.0,-999.000,9, -999.00,9,-999.0000,9, -999.00,9,   61.80,  -999.0,9,  16.4480,     26.093,    35.7521,2,     -999.0,9,     -999.0,1,     -999.0,     -999.0,9,     -999.0
33RO20110926,        A10,      10,          1,         22,      11712,2,20110930,       0149,   -29.7506,    10.7503,       4371,   109.8,  15.9227,  35.5145,2,  35.5192,2,    227.3,2,     226,2,     3.0,2,     8.5,4,    0.16,2,   0.400,2,   2.542,2,   1.505,2,   1.418,2,     2078.9,2,  2329.6,2,  -999.0,9, -999.00,   7.9238,2,       25,-999.000,9,-999.0000,9, -999.00,9,  -999.0,9,  -999.0,   1.534,3, -999.00,9,-999.0000,9, -999.00,9,  109.80,  -999.0,9,  15.9053,     26.143,    35.6867,2,     -999.0,9,     -999.0,1,     -999.0,     -999.0,9,     -999.0
33RO20110926,        A10,      10,          1,         21,      11010,2,20110930,       0149,   -29.7506,    10.7503,       4371,   159.5,  15.0477,  35.4151,2,  35.4230,2,    221.9,2,   222.3,2,     3.4,2,     9.7,4,    0.03,2,   0.491,2,-999.000,9,-999.000,9,-999.000,9,     2091.8,2,  2325.5,2,  -999.0,9, -999.00,   7.8928,2,       25,-999.000,9,-999.0000,9, -999.00,9,  -999.0,9,  -999.0,-999.000,9, -999.00,9,-999.0000,9, -999.00,9,  159.50,  -999.0,9,  15.0234,     26.268,    35.5900,2,     -999.0,9,     -999.0,9,     -999.0,     -999.0,9,     -999.0
33RO20110926,        A10,      10,          1,         20,      11715,2,20110930,       0149,   -29.7506,    10.7503,       4371,   211.6,  14.1290,  35.2860,2,  35.2988,2,    227.3,2,   217.1,2,     3.3,2,    11.2,4,    0.02,2,   0.600,2,   2.834,2,   1.636,2,   1.403,2,     2104.6,2,  2319.6,2,  -999.0,9, -999.00,   7.8677,2,       25,-999.000,9,-999.0000,9, -999.00,9,  -999.0,9,  -999.0,   0.903,3, -999.00,9,-999.0000,9, -999.00,9,  211.60,  -999.0,9,  14.0981,     26.383,    35.4652,2,     -999.0,9,     -999.0,9,     -999.0,     -999.0,9,     -999.0
33RO20110926,        A10,      10,          1,         19,      11007,2,20110930,       0149,   -29.7506,    10.7503,       4371,   286.4,  12.5974,  35.1262,2,  35.1284,2,    214.5,2,   218.4,3,     4.6,2,    14.3,4,    0.01,2,   0.814,2,-999.000,9,-999.000,9,-999.000,9,     2115.5,2,  2313.7,2,  -999.0,9, -999.00,   7.8337,2,       25,-999.000,9,-999.0000,9, -999.00,9,  -999.0,9,  -999.0,-999.000,9, -999.00,9,-999.0000,9, -999.00,9,  286.40,  -999.0,9,  12.5586,     26.570,    35.2940,2,     -999.0,9,     -999.0,9,     -999.0,     -999.0,9,     -999.0
33RO20110926,        A10,      10,          1,         18,      11710,2,20110930,       0149,   -29.7506,    10.7503,       4371,   364.9,  11.6601,  35.0168,2,  35.0227,2,    215.4,2,     215,2,     5.6,2,    16.5,4,    0.01,2,   0.970,2,   3.153,2,   1.725,2,   1.115,2,     2124.5,2,  2307.3,2,  -999.0,9, -999.00,   7.8047,2,       25,-999.000,9,-999.0000,9, -999.00,9,  -999.0,9,  -999.0,   0.906,3, -999.00,9,-999.0000,9, -999.00,9,  364.90,  -999.0,9,  11.6130,     26.679,    35.1878,2,     -999.0,9,     -999.0,9,     -999.0,     -999.0,9,     -999.0
33RO20110926,        A10,      10,          1,         17,      11023,2,20110930,       0149,   -29.7506,    10.7503,       4371,   464.6,   9.5988,  34.7462,2,  34.7495,2,    208.5,2,   209.5,2,     8.9,6,    21.4,4,    0.01,6,   1.293,6,   3.150,2,   1.695,2,   1.014,2,     2143.4,2,  2296.1,2,  -999.0,9, -999.00,   7.7446,2,       25,-999.000,9,-999.0000,9, -999.00,9,  -999.0,9,  -999.0,   1.311,3, -999.00,9,-999.0000,9, -999.00,9,  464.60,  -999.0,9,   9.5457,     26.832,    34.9134,2,     -999.0,9,     -999.0,9,     -999.0,     -999.0,9,     -999.0
33RO20110926,        A10,      10,          1,         16,      11709,2,20110930,       0149,   -29.7506,    10.7503,       4371,   504.1,   8.7813,  34.6534,2,  34.6673,3,    209.6,2,   209.1,2,    10.7,6,    23.2,4,    0.01,6,   1.422,6,   3.098,2,   1.652,2,   0.980,2,-999.000000,9,  -999.0,9,  -999.0,9, -999.00,-999.0000,9,  -999.00,-999.000,9,-999.0000,9, -999.00,9,  -999.0,9,  -999.0,   1.471,3, -999.00,9,-999.0000,9, -999.00,9,  504.10,  -999.0,9,   8.7266,     26.887,    34.8308,2,     -999.0,9,     -999.0,9,     -999.0,     -999.0,9,     -999.0
33RO20110926,        A10,      10,          1,         15,      11006,2,20110930,       0149,   -29.7506,    10.7503,       4371,   577.9,   7.3138,  34.5058,2,  34.5043,2,    204.1,2,   203.3,2,    15.3,6,    26.9,4,    0.01,6,   1.698,6,   3.013,2,   1.580,2,   0.859,2,       2166,2,  2289.7,2,  -999.0,9, -999.00,   7.6695,2,       25,-999.000,9,-999.0000,9, -999.00,9,  -999.0,9,  -999.0,   1.892,3, -999.00,9,-999.0000,9, -999.00,9,  577.90,  -999.0,9,   7.2573,     26.987,    34.6670,2,     -999.0,9,     -999.0,9,     -999.0,     -999.0,9,     -999.0
33RO20110926,        A10,      10,          1,         14,      11708,2,20110930,       0149,   -29.7506,    10.7503,       4371,   844.0,   4.3271,  34.3655,2,  34.3642,2,    191.5,2,   194.4,2,    32.7,6,    32.9,4,    0.01,6,   2.179,6,   1.928,2,   0.953,2,   0.431,2,-999.000000,9,  -999.0,9,  -999.0,9, -999.00,-999.0000,9,  -999.00,-999.000,9,-999.0000,9, -999.00,9,  -999.0,9,  -999.0,   1.865,3, -999.00,9,-999.0000,9, -999.00,9,  844.00,  -999.0,9,   4.2622,     27.252,    34.5262,2,     -999.0,9,     -999.0,9,     -999.0,     -999.0,9,     -999.0
33RO20110926,        A10,      10,          1,         13,      11031,2,20110930,       0149,   -29.7506,    10.7503,       4371,   974.0,   3.8787,  34.4283,2,  34.4275,2,    179.7,2,   177.5,2,    41.4,2,    33.2,4,    0.00,2,   2.296,2,   0.997,2,   0.485,2,   0.163,2,     2218.6,2,  2301.2,2,  -999.0,9, -999.00,   7.5671,2,       25,-999.000,9,-999.0000,9, -999.00,9,  -999.0,9,  -999.0,   1.080,3, -999.00,9,-999.0000,9, -999.00,9,  974.00,  -999.0,9,   3.8062,     27.349,    34.5898,2,     -999.0,9,     -999.0,9,     -999.0,     -999.0,9,     -999.0
33RO20110926,        A10,      10,          1,         12,      11027,2,20110930,       0149,   -29.7506,    10.7503,       4371,  1181.5,   3.4120,  34.5312,2,  34.5293,2,    175.1,2,   174.8,2,    49.8,2,    32.7,4,    0.01,2,   2.271,2,   0.433,2,   0.208,2,   0.066,2,-999.000000,9,  -999.0,9,  -999.0,9, -999.00,-999.0000,9,  -999.00,-999.000,9,-999.0000,9, -999.00,9,  -999.0,9,  -999.0,   0.530,3, -999.00,9,-999.0000,9, -999.00,9, 1181.50,  -999.0,9,   3.3263,     27.479,    34.6921,2,     -999.0,9,     -999.0,9,     -999.0,     -999.0,9,     -999.0
33RO20110926,        A10,      10,          1,         11,      11707,2,20110930,       0149,   -29.7506,    10.7503,       4371,  1400.2,   3.1010,  34.6438,2,  34.6434,2,    182.5,2,   183.2,2,    54.2,2,    31.4,4,    0.01,2,   2.154,2,   0.200,2,   0.096,2,   0.033,2,     2229.2,2,  2326.6,2,  -999.0,9, -999.00,   7.5821,2,       25,-999.000,9,-999.0000,9, -999.00,9,  -999.0,9,  -999.0,   0.296,3, -999.00,9,-999.0000,9, -999.00,9, 1400.20,  -999.0,9,   3.0001,     27.600,    34.8068,2,     -999.0,9,     -999.0,9,     -999.0,     -999.0,9,     -999.0
33RO20110926,        A10,      10,          1,         10,      11003,2,20110930,       0149,   -29.7506,    10.7503,       4371,  1670.9,   3.1197,  34.7771,2,  34.7745,2,    199.2,2,   200.6,2,    46.0,2,    28.2,4,    0.01,2,   1.895,2,   0.047,2,   0.023,2,   0.000,2,-999.000000,9,  -999.0,9,  -999.0,9, -999.00,-999.0000,9,  -999.00,-999.000,9,-999.0000,9, -999.00,9,  -999.0,9,  -999.0,   0.108,3, -999.00,9,-999.0000,9, -999.00,9, 1670.90,  -999.0,9,   2.9953,     27.706,    34.9385,2,     -999.0,9,     -999.0,9,     -999.0,     -999.0,9,     -999.0
33RO20110926,        A10,      10,          1,          9,      11706,2,20110930,       0149,   -29.7506,    10.7503,       4371,  1956.1,   3.0558,  34.8495,2,  34.8498,2,    218.0,2,   219.3,2,    40.6,2,    25.6,4,    0.00,2,   1.701,2,   0.015,2,   0.009,2,   0.000,2,-999.000000,9,  -999.0,9,  -999.0,9, -999.00,-999.0000,9,  -999.00,-999.000,9,-999.0000,9, -999.00,9,  -999.0,9,  -999.0,   0.076,3, -999.00,9,-999.0000,9, -999.00,9, 1956.10,  -999.0,9,   2.9066,     27.774,    35.0142,2,     -999.0,9,     -999.0,9,     -999.0,     -999.0,9,     -999.0
33RO20110926,        A10,      10,          1,          8,      11033,2,20110930,       0149,   -29.7506,    10.7503,       4371,  2249.2,   2.8527,  34.8679,2,  34.8668,2,    226.5,2,   227.4,2,    42.1,2,    24.7,4,    0.00,2,   1.638,2,   0.014,4,   0.018,4,   0.223,4,-999.000000,9,  -999.0,9,  -999.0,9, -999.00,-999.0000,9,  -999.00,-999.000,9,-999.0000,9, -999.00,9,  -999.0,9,  -999.0,   0.047,4, -999.00,9,-999.0000,9, -999.00,9, 2249.20,  -999.0,9,   2.6797,     27.808,    35.0312,2,     -999.0,9,     -999.0,9,     -999.0,     -999.0,9,     -999.0
33RO20110926,        A10,      10,          1,          7,      11705,2,20110930,       0149,   -29.7506,    10.7503,       4371,  2550.6,   2.6424,  34.8663,2,  34.8715,3,    229.8,2,     231,2,    46.2,2,    24.5,4,    0.00,2,   1.631,2,   0.005,2,   0.003,2,   0.000,2,     2198.9,2,  2333.4,2,  -999.0,9, -999.00,   7.6783,2,       25,-999.000,9,-999.0000,9, -999.00,9,  -999.0,9,  -999.0,   0.035,3, -999.00,9,-999.0000,9, -999.00,9, 2550.60,  -999.0,9,   2.4444,     27.832,    35.0359,2,     -999.0,9,     -999.0,9,     -999.0,     -999.0,9,     -999.0
33RO20110926,        A10,      10,          1,          6,      11029,2,20110930,       0149,   -29.7506,    10.7503,       4371,  2852.1,   2.5004,  34.8626,2,  34.8628,2,    231.3,2,   231.9,2,    49.8,2,    24.6,4,    0.00,2,   1.643,2,   0.005,2,   0.005,2,   0.000,2,-999.000000,9,  -999.0,9,  -999.0,9, -999.00,-999.0000,9,  -999.00,-999.000,9,-999.0000,9, -999.00,9,  -999.0,9,  -999.0,   0.032,3, -999.00,9,-999.0000,9, -999.00,9, 2852.10,  -999.0,9,   2.2757,     27.839,    35.0272,2,     -999.0,9,     -999.0,9,     -999.0,     -999.0,9,     -999.0
33RO20110926,        A10,      10,          1,          5,      11704,2,20110930,       0149,   -29.7506,    10.7503,       4371,  3147.4,   2.3885,  34.8600,2,  34.8585,2,    231.4,2,   231.3,2,    53.1,2,    24.6,4,    0.00,2,   1.655,2,   0.007,4,   0.007,4,   0.039,4,-999.000000,9,  -999.0,9,  -999.0,9, -999.00,-999.0000,9,  -999.00,-999.000,9,-999.0000,9, -999.00,9,  -999.0,9,  -999.0,   0.036,4, -999.00,9,-999.0000,9, -999.00,9, 3147.40,  -999.0,9,   2.1363,     27.847,    35.0229,2,     -999.0,9,     -999.0,9,     -999.0,     -999.0,9,     -999.0
33RO20110926,        A10,      10,          1,          4,      11030,2,20110930,       0149,   -29.7506,    10.7503,       4371,  3446.9,   2.2848,  34.8541,2,  34.8539,2,    230.7,2,   232.2,2,    57.2,2,    24.6,4,    0.00,2,   1.678,2,   0.007,2,   0.005,2,   0.000,2,       2210,2,  2346.5,2,  -999.0,9, -999.00,   7.6955,2,       25,-999.000,9,-999.0000,9, -999.00,9,  -999.0,9,  -999.0,   0.037,3, -999.00,9,-999.0000,9, -999.00,9, 3446.90,  -999.0,9,   2.0036,     27.854,    35.0182,6,     -999.0,9,     -999.0,9,     -999.0,     -999.0,9,     -999.0
33RO20110926,        A10,      10,          1,          3,      11703,2,20110930,       0149,   -29.7506,    10.7503,       4371,  3752.1,   2.1457,  34.8423,2,  34.8408,2,    229.1,2,   228.9,2,    63.1,2,    25.0,4,    0.00,2,   1.726,2,   0.009,2,   0.005,2,   0.000,2,-999.000000,9,  -999.0,9,  -999.0,9, -999.00,-999.0000,9,  -999.00,-999.000,9,-999.0000,9, -999.00,9,  -999.0,9,  -999.0,   0.038,3, -999.00,9,-999.0000,9, -999.00,9, 3752.10,  -999.0,9,   1.8352,     27.857,    35.0051,2,     -999.0,9,     -999.0,9,     -999.0,     -999.0,9,     -999.0
33RO20110926,        A10,      10,          1,          2,      11702,2,20110930,       0149,   -29.7506,    10.7503,       4371,  4050.0,   1.7499,  34.7995,2,  34.8021,2,    223.2,2,   222.3,2,    80.1,2,    26.7,4,    0.00,2,   1.880,2,   0.017,2,   0.010,2,   0.000,2,-999.000000,9,  -999.0,9,  -999.0,9, -999.00,-999.0000,9,  -999.00,-999.000,9,-999.0000,9, -999.00,9,  -999.0,9,  -999.0,   0.066,3, -999.00,9,-999.0000,9, -999.00,9, 4050.00,  -999.0,9,   1.4176,     27.857,    34.9662,2,     -999.0,9,     -999.0,9,     -999.0,     -999.0,9,     -999.0
33RO20110926,        A10,      10,          1,          1,      11701,2,20110930,       0149,   -29.7506,    10.7503,       4371,  4448.2,   1.1392,  34.7386,2,  34.7384,2,    214.3,2,   215.6,2,   105.5,2,    29.1,4,    0.00,2,   2.107,2,   0.050,6,   0.029,6,   0.000,6,     2257.5,6,  2377.3,6,  -999.0,9, -999.00,   7.6419,6,       25,-999.000,9,-999.0000,9, -999.00,9,  -999.0,9,  -999.0,   0.139,3, -999.00,9,-999.0000,9, -999.00,9, 4448.20,  -999.0,9,   0.7809,     27.850,    34.9022,2,     -999.0,9,     -999.0,9,     -999.0,     -999.0,9,     -999.0