BOTTLE,20220815CCHSIOAMB
EXPOCODE,SECT_ID,STNNBR,CASTNO,SAMPNO,BTLNBR,BTLNBR_FLAG_W,DATE,TIME,LATITUDE,LONGITUDE,DEPTH,CTDPRS,CTDTMP,CTDSAL,CTDSAL_FLAG_W,SALNTY,SALNTY_FLAG_W,CTDOXY,CTDOXY_FLAG_W,OXYGEN,OXYGEN_FLAG_W,SILCAT,SILCAT_FLAG_W,NITRAT,NITRAT_FLAG_W,NITRIT,NITRIT_FLAG_W,PHSPHT,PHSPHT_FLAG_W,CFC-11,CFC-11_FLAG_W,CFC-12,CFC-12_FLAG_W,SF6,SF6_FLAG_W,TCARBN,TCARBN_FLAG_W,ALKALI,ALKALI_FLAG_W,PCO2,PCO2_FLAG_W,PCO2TMP,PH_SWS,PH_SWS_FLAG_W,PH_TMP,TRITUM,TRITUM_FLAG_W,HELIUM,HELIUM_FLAG_W,DELC13,DELC13_FLAG_W,DELC14,DELC14_FLAG_W,C14ERR,CCL4,CCL4_FLAG_W,DELO18,DELO18_FLAG_W,DOC,DOC_FLAG_W,TDN,TDN_FLAG_W,CTDRAW,14C-DOC,14C-DOC_FLAG_W,THETA,SIG0,SALTREF,SALTREF_FLAG_W,BLACKC,BLACKC_FLAG_W,PIGMENTS,PIGMENTS_FLAG_W,14C-DOCERR,13C-DOC,13C-DOC_FLAG_W,13C-DOCERR
,,,,,,,,,,,METERS,DBAR,ITS-90,PSS-78,,PSS-78,,UMOL/KG,,UMOL/KG,,UMOL/KG,,UMOL/KG,,UMOL/KG,,UMOL/KG,,PMOL/KG,,PMOL/KG,,FMOL/KG,,UMOL/KG,,UMOL/KG,,UATM,,DEG C,,,DEG C,TU,,NMOL/KG,,/MILLE,,/MILLE,,/MILLE,PMOL/KG,,/MILLE,,UMOL/KG,,UMOL/KG,,DBAR,/MILLE,,DEG C,KG/M^3,G/KG,,,,,,/MILLE,/MILLE,,/MILLE
33RO20110926,        A10,      14,          1,         24,      11714,2,20111001,       1112,   -29.7504,     8.4506,       5007,     4.3,  16.5875,  35.6710,2,  35.6703,2,    250.1,2,   250.4,2,     1.9,2,     0.2,2,    0.04,2,   0.158,2,   2.536,2,   1.513,2,   1.500,2,     2069.5,6,  2344.2,6,  -999.0,9, -999.00,     7.98,6,       25,-999.000,9,-999.0000,9, -999.00,9,  -999.0,9,  -999.0,   2.823,3, -999.00,9,-999.0000,9, -999.00,9,    4.30,  -999.0,9,  16.5868,     26.127,    35.8385,2,     -999.0,9,     -999.0,1,     -999.0,     -999.0,9,     -999.0
33RO20110926,        A10,      14,          1,         23,      11713,2,20111001,       1112,   -29.7504,     8.4506,       5007,    70.9,  16.2265,  35.6470,2,  35.6454,2,    243.4,2,   245.4,2,     2.2,2,     0.8,2,    0.24,2,   0.219,2,-999.000,9,-999.000,9,-999.000,9,     2075.1,2,  2340.7,2,  -999.0,9, -999.00,   7.9549,2,       25,-999.000,9,-999.0000,9, -999.00,9,  -999.0,9,  -999.0,-999.000,9, -999.00,9,-999.0000,9, -999.00,9,   70.90,  -999.0,9,  16.2152,     26.195,    35.8135,2,     -999.0,9,     -999.0,1,     -999.0,     -999.0,9,     -999.0
33RO20110926,        A10,      14,          1,         22,      11712,2,20111001,       1112,   -29.7504,     8.4506,       5007,   100.8,  16.0871,  35.6419,2,  35.6389,2,    238.8,2,   239.7,2,     2.3,2,     1.3,2,    0.57,2,   0.263,2,   2.550,2,   1.509,2,   1.486,2,-999.000000,9,  2343.2,2,  -999.0,9, -999.00,   7.9589,2,       25,-999.000,9,-999.0000,9, -999.00,9,  -999.0,9,  -999.0,   2.369,3, -999.00,9,-999.0000,9, -999.00,9,  100.80,  -999.0,9,  16.0711,     26.223,    35.8070,2,     -999.0,9,     -999.0,1,     -999.0,     -999.0,9,     -999.0
33RO20110926,        A10,      14,          1,         21,      11010,2,20111001,       1112,   -29.7504,     8.4506,       5007,   165.1,  15.8910,  35.6183,2,  35.6178,2,    237.1,2,   236.7,2,     2.4,2,     2.1,2,    0.44,2,   0.300,2,   2.555,2,   1.515,2,   1.470,2,     2081.9,2,  2339.6,2,  -999.0,9, -999.00,   7.9449,2,       25,-999.000,9,-999.0000,9, -999.00,9,  -999.0,9,  -999.0,   2.139,3, -999.00,9,-999.0000,9, -999.00,9,  165.10,  -999.0,9,  15.8649,     26.252,    35.7857,2,     -999.0,9,     -999.0,9,     -999.0,     -999.0,9,     -999.0
33RO20110926,        A10,      14,          1,         20,      11715,2,20111001,       1112,   -29.7504,     8.4506,       5007,   240.1,  14.3745,  35.3211,2,  35.3233,2,    218.3,2,   218.1,2,     3.0,2,     6.3,2,    0.01,2,   0.538,2,   2.784,2,   1.627,2,   1.411,2,-999.000000,9,  2322.3,2,  -999.0,9, -999.00,   7.8818,2,       25,-999.000,9,-999.0000,9, -999.00,9,  -999.0,9,  -999.0,   0.900,3, -999.00,9,-999.0000,9, -999.00,9,  240.10,  -999.0,9,  14.3391,     26.364,    35.4899,2,     -999.0,9,     -999.0,9,     -999.0,     -999.0,9,     -999.0
33RO20110926,        A10,      14,          1,         19,      11007,2,20111001,       1112,   -29.7504,     8.4506,       5007,   335.4,  12.7663,  35.1238,2,  35.1168,2,    218.7,2,   217.5,2,     3.7,6,    10.1,6,    0.01,6,   0.741,6,   3.025,2,   1.730,2,   1.360,2,     2117.3,2,  2316.1,2,  -999.0,9, -999.00,   7.8337,2,       25,-999.000,9,-999.0000,9, -999.00,9,  -999.0,9,  -999.0,   0.971,3, -999.00,9,-999.0000,9, -999.00,9,  335.40,  -999.0,9,  12.7205,     26.541,    35.2824,2,     -999.0,9,     -999.0,9,     -999.0,     -999.0,9,     -999.0
33RO20110926,        A10,      14,          1,         18,      11710,2,20111001,       1112,   -29.7504,     8.4506,       5007,   429.5,  11.2883,  34.9570,2,  34.9578,2,    215.4,2,   215.1,2,     4.9,2,    13.6,2,    0.00,2,   0.968,2,   3.195,2,   1.767,2,   1.265,2,-999.000000,9,  2304.5,2,  -999.0,9, -999.00,   7.7966,2,       25,-999.000,9,-999.0000,9, -999.00,9,  -999.0,9,  -999.0,   1.112,3, -999.00,9,-999.0000,9, -999.00,9,  429.50,  -999.0,9,  11.2339,     26.701,    35.1227,2,     -999.0,9,     -999.0,9,     -999.0,     -999.0,9,     -999.0
33RO20110926,        A10,      14,          1,         17,      11023,2,20111001,       1112,   -29.7504,     8.4506,       5007,   530.6,   9.3213,  34.7097,2,  34.7136,2,    210.9,2,     211,2,     8.3,2,    18.7,2,    0.01,2,   1.284,2,   3.243,2,   1.741,2,   1.096,2,     2144.9,2,  2295.2,2,  -999.0,9, -999.00,   7.7354,2,       25,-999.000,9,-999.0000,9, -999.00,9,  -999.0,9,  -999.0,   1.441,3, -999.00,9,-999.0000,9, -999.00,9,  530.60,  -999.0,9,   9.2615,     26.850,    34.8772,2,     -999.0,9,     -999.0,9,     -999.0,     -999.0,9,     -999.0
33RO20110926,        A10,      14,          1,         16,      11709,2,20111001,       1112,   -29.7504,     8.4506,       5007,   650.3,   7.3587,  34.5033,2,  34.5041,2,    206.0,2,   205.9,2,    13.7,2,    24.3,2,    0.00,2,   1.630,2,   3.147,2,   1.634,2,   0.883,2,-999.000000,9,  2290.7,2,  -999.0,9, -999.00,   7.6793,2,       25,-999.000,9,-999.0000,9, -999.00,9,  -999.0,9,  -999.0,   1.896,3, -999.00,9,-999.0000,9, -999.00,9,  650.30,  -999.0,9,   7.2946,     26.987,    34.6668,2,     -999.0,9,     -999.0,9,     -999.0,     -999.0,9,     -999.0
33RO20110926,        A10,      14,          1,         15,      11006,2,20111001,       1112,   -29.7504,     8.4506,       5007,   800.7,   5.0920,  34.3300,2,  34.3296,2,    216.4,2,   215.6,2,    22.0,2,    28.8,2,    0.03,2,   1.919,2,   2.970,3,   1.498,3,   0.735,3,     2178.8,2,  2292.9,2,  -999.0,9, -999.00,   7.6384,2,       25,-999.000,9,-999.0000,9, -999.00,9,  -999.0,9,  -999.0,   2.431,3, -999.00,9,-999.0000,9, -999.00,9,  800.70,  -999.0,9,   5.0261,     27.141,    34.4915,2,     -999.0,9,     -999.0,9,     -999.0,     -999.0,9,     -999.0
33RO20110926,        A10,      14,          1,         14,      11708,2,20111001,       1112,   -29.7504,     8.4506,       5007,   950.3,   4.0232,  34.3642,2,  34.3655,2,    199.3,2,   199.6,2,    37.2,2,    31.5,2,    0.03,2,   2.128,2,-999.000,9,-999.000,9,-999.000,9,-999.000000,9,  2303.8,2,  -999.0,9, -999.00,   7.6034,2,       25,-999.000,9,-999.0000,9, -999.00,9,  -999.0,9,  -999.0,-999.000,9, -999.00,9,-999.0000,9, -999.00,9,  950.30,  -999.0,9,   3.9517,     27.286,    34.5276,2,     -999.0,9,     -999.0,9,     -999.0,     -999.0,9,     -999.0
33RO20110926,        A10,      14,          1,         13,      11031,2,20111001,       1112,   -29.7504,     8.4506,       5007,  1120.5,   3.4611,  34.4548,2,  34.4541,2,    182.0,2,   182.1,2,    49.7,2,    33.1,2,    0.00,2,   2.237,2,   0.988,2,   0.472,2,   0.171,2,       2215,3,    2319,2,  -999.0,9, -999.00,   7.5814,2,       25,-999.000,9,-999.0000,9, -999.00,9,  -999.0,9,  -999.0,   1.121,3, -999.00,9,-999.0000,9, -999.00,9, 1120.50,  -999.0,9,   3.3800,     27.414,    34.6165,2,     -999.0,9,     -999.0,9,     -999.0,     -999.0,9,     -999.0
33RO20110926,        A10,      14,          1,         12,      11027,2,20111001,       1112,   -29.7504,     8.4506,       5007,  1250.3,   3.1725,  34.5369,2,  34.5347,2,    176.4,2,   176.1,2,    56.4,6,    33.2,6,    0.00,6,   2.226,6,-999.000,9,-999.000,9,-999.000,9,     2232.6,2,  2326.4,6,  -999.0,9, -999.00,   7.5746,6,       25,-999.000,9,-999.0000,9, -999.00,9,  -999.0,9,  -999.0,-999.000,9, -999.00,9,-999.0000,9, -999.00,9, 1250.30,  -999.0,9,   3.0835,     27.506,    34.6976,2,     -999.0,9,     -999.0,9,     -999.0,     -999.0,9,     -999.0
33RO20110926,        A10,      14,          1,         11,      11707,2,20111001,       1112,   -29.7504,     8.4506,       5007,  1599.5,   3.1625,  34.7617,2,  34.7607,2,    197.3,2,   197.7,2,    45.5,2,    28.1,2,    0.01,2,   1.877,2,   0.053,2,   0.025,2,   0.000,2,     2212.8,2,  2327.1,2,  -999.0,9, -999.00,   7.6384,2,       25,-999.000,9,-999.0000,9, -999.00,9,  -999.0,9,  -999.0,   0.115,3, -999.00,9,-999.0000,9, -999.00,9, 1599.50,  -999.0,9,   3.0438,     27.690,    34.9246,2,     -999.0,9,     -999.0,9,     -999.0,     -999.0,9,     -999.0
33RO20110926,        A10,      14,          1,         10,      11003,2,20111001,       1112,   -29.7504,     8.4506,       5007,  1899.5,   3.0316,  34.8262,2,  34.8254,2,    213.5,2,   214.4,2,    43.2,2,    25.7,2,    0.00,2,   1.717,2,-999.000,9,-999.000,9,-999.000,9,-999.000000,9,  2329.2,2,  -999.0,9, -999.00,   7.6675,2,       25,-999.000,9,-999.0000,9, -999.00,9,  -999.0,9,  -999.0,-999.000,9, -999.00,9,-999.0000,9, -999.00,9, 1899.50,  -999.0,9,   2.8880,     27.756,    34.9896,2,     -999.0,9,     -999.0,9,     -999.0,     -999.0,9,     -999.0
33RO20110926,        A10,      14,          1,          9,      11706,2,20111001,       1112,   -29.7504,     8.4506,       5007,  2200.6,   2.7817,  34.8446,2,  34.8435,2,    222.7,2,   222.4,2,    46.2,2,    25.0,2,    0.00,2,   1.678,2,   0.016,2,   0.008,2,   0.000,2,-999.000000,9,    2333,2,  -999.0,9, -999.00,   7.6795,2,       25,-999.000,9,-999.0000,9, -999.00,9,  -999.0,9,  -999.0,   0.040,3, -999.00,9,-999.0000,9, -999.00,9, 2200.60,  -999.0,9,   2.6145,     27.795,    35.0078,2,     -999.0,9,     -999.0,9,     -999.0,     -999.0,9,     -999.0
33RO20110926,        A10,      14,          1,          8,      11033,2,20111001,       1112,   -29.7504,     8.4506,       5007,  2499.1,   2.6032,  34.8508,2,  34.8529,2,    227.1,2,   226.3,2,    48.9,2,    24.7,2,    0.00,2,   1.636,2,-999.000,9,-999.000,9,-999.000,9,     2200.9,2,  2337.3,2,  -999.0,9, -999.00,   7.6803,2,       25,-999.000,9,-999.0000,9, -999.00,9,  -999.0,9,  -999.0,-999.000,9, -999.00,9,-999.0000,9, -999.00,9, 2499.10,  -999.0,9,   2.4110,     27.817,    35.0172,6,     -999.0,9,     -999.0,9,     -999.0,     -999.0,9,     -999.0
33RO20110926,        A10,      14,          1,          7,      11705,2,20111001,       1112,   -29.7504,     8.4506,       5007,  2800.3,   2.4544,  34.8532,2,  34.8529,2,    229.3,2,   229.8,2,    51.8,2,    24.4,2,    0.00,2,   1.632,2,   0.008,2,   0.005,2,   0.000,2,     2202.9,2,    2341,2,  -999.0,9, -999.00,   7.6853,2,       25,-999.000,9,-999.0000,9, -999.00,9,  -999.0,9,  -999.0,   0.032,3, -999.00,9,-999.0000,9, -999.00,9, 2800.30,  -999.0,9,   2.2358,     27.835,    35.0173,2,     -999.0,9,     -999.0,9,     -999.0,     -999.0,9,     -999.0
33RO20110926,        A10,      14,          1,          6,      11029,2,20111001,       1112,   -29.7504,     8.4506,       5007,  3200.0,   2.3158,  34.8533,2,  34.8523,2,    230.2,2,   230.9,2,    55.3,6,    24.7,6,    0.00,6,   1.625,6,-999.000,9,-999.000,9,-999.000,9,     2208.6,2,  2346.2,2,  -999.0,9, -999.00,   7.6833,2,       25,-999.000,9,-999.0000,9, -999.00,9,  -999.0,9,  -999.0,-999.000,9, -999.00,9,-999.0000,9, -999.00,9, 3200.00,  -999.0,9,   2.0599,     27.848,    35.0166,2,     -999.0,9,     -999.0,9,     -999.0,     -999.0,9,     -999.0
33RO20110926,        A10,      14,          1,          5,      11704,2,20111001,       1112,   -29.7504,     8.4506,       5007,  3599.6,   2.1612,  34.8441,2,  34.8433,2,    228.6,2,   228.4,2,    61.7,2,    25.1,2,    0.00,2,   1.679,2,   0.011,2,   0.008,2,   0.000,2,-999.000000,9,    2350,2,  -999.0,9, -999.00,   7.6934,2,       25,-999.000,9,-999.0000,9, -999.00,9,  -999.0,9,  -999.0,   0.031,3, -999.00,9,-999.0000,9, -999.00,9, 3599.60,  -999.0,9,   1.8668,     27.857,    35.0076,2,     -999.0,9,     -999.0,9,     -999.0,     -999.0,9,     -999.0
33RO20110926,        A10,      14,          1,          4,      11030,2,20111001,       1112,   -29.7504,     8.4506,       5007,  3999.9,   1.6442,  34.7879,2,  34.7868,2,    221.3,2,   221.6,2,    83.4,2,    27.9,2,    0.01,2,   1.879,2,   0.030,2,   0.015,2,   0.000,2,-999.000000,9,  2357.6,2,  -999.0,9, -999.00,   7.6553,2,       25,-999.000,9,-999.0000,9, -999.00,9,  -999.0,9,  -999.0,   0.086,3, -999.00,9,-999.0000,9, -999.00,9, 3999.90,  -999.0,9,   1.3205,     27.852,    34.9508,2,     -999.0,9,     -999.0,9,     -999.0,     -999.0,9,     -999.0
33RO20110926,        A10,      14,          1,          3,      11703,2,20111001,       1112,   -29.7504,     8.4506,       5007,  4399.0,   1.2125,  34.7453,2,  34.7443,2,    217.8,2,   218.6,2,   100.8,2,    29.9,2,    0.01,2,   2.028,2,   0.054,2,   0.026,2,   0.022,4,     2249.5,2,  2361.9,2,  -999.0,9, -999.00,   7.6382,2,       25,-999.000,9,-999.0000,9, -999.00,9,  -999.0,9,  -999.0,   0.124,3, -999.00,9,-999.0000,9, -999.00,9, 4399.00,  -999.0,9,   0.8574,     27.849,    34.9082,2,     -999.0,9,     -999.0,9,     -999.0,     -999.0,9,     -999.0
33RO20110926,        A10,      14,          1,          2,      11702,2,20111001,       1112,   -29.7504,     8.4506,       5007,  4800.2,   1.1649,  34.7368,2,  34.7369,2,    217.7,2,   216.8,2,   104.1,2,    30.6,2,    0.01,2,   2.060,2,   0.064,2,   0.031,2,   0.000,2,-999.000000,9,  2369.8,2,  -999.0,9, -999.00,   7.6342,2,       25,-999.000,9,-999.0000,9, -999.00,9,  -999.0,9,  -999.0,   0.154,3, -999.00,9,-999.0000,9, -999.00,9, 4800.20,  -999.0,9,   0.7653,     27.849,    34.9007,2,     -999.0,9,     -999.0,9,     -999.0,     -999.0,9,     -999.0
33RO20110926,        A10,      14,          1,          1,      11701,2,20111001,       1112,   -29.7504,     8.4506,       5007,  5115.7,   1.1848,  34.7346,2,  34.7337,2,    217.0,2,   215.7,2,   105.1,6,    30.6,6,    0.01,6,   2.054,6,   0.072,6,   0.034,6,   0.000,6,     2251.8,2,  2366.5,2,  -999.0,9, -999.00,   7.6364,2,       25,-999.000,9,-999.0000,9, -999.00,9,  -999.0,9,  -999.0,   0.154,3, -999.00,9,-999.0000,9, -999.00,9, 5115.70,  -999.0,9,   0.7469,     27.848,    34.8975,2,     -999.0,9,     -999.0,9,     -999.0,     -999.0,9,     -999.0