BOTTLE,20220815CCHSIOAMB
EXPOCODE,SECT_ID,STNNBR,CASTNO,SAMPNO,BTLNBR,BTLNBR_FLAG_W,DATE,TIME,LATITUDE,LONGITUDE,DEPTH,CTDPRS,CTDTMP,CTDSAL,CTDSAL_FLAG_W,SALNTY,SALNTY_FLAG_W,CTDOXY,CTDOXY_FLAG_W,OXYGEN,OXYGEN_FLAG_W,SILCAT,SILCAT_FLAG_W,NITRAT,NITRAT_FLAG_W,NITRIT,NITRIT_FLAG_W,PHSPHT,PHSPHT_FLAG_W,CFC-11,CFC-11_FLAG_W,CFC-12,CFC-12_FLAG_W,SF6,SF6_FLAG_W,TCARBN,TCARBN_FLAG_W,ALKALI,ALKALI_FLAG_W,PCO2,PCO2_FLAG_W,PCO2TMP,PH_SWS,PH_SWS_FLAG_W,PH_TMP,TRITUM,TRITUM_FLAG_W,HELIUM,HELIUM_FLAG_W,DELC13,DELC13_FLAG_W,DELC14,DELC14_FLAG_W,C14ERR,CCL4,CCL4_FLAG_W,DELO18,DELO18_FLAG_W,DOC,DOC_FLAG_W,TDN,TDN_FLAG_W,CTDRAW,14C-DOC,14C-DOC_FLAG_W,THETA,SIG0,SALTREF,SALTREF_FLAG_W,BLACKC,BLACKC_FLAG_W,PIGMENTS,PIGMENTS_FLAG_W,14C-DOCERR,13C-DOC,13C-DOC_FLAG_W,13C-DOCERR
,,,,,,,,,,,METERS,DBAR,ITS-90,PSS-78,,PSS-78,,UMOL/KG,,UMOL/KG,,UMOL/KG,,UMOL/KG,,UMOL/KG,,UMOL/KG,,PMOL/KG,,PMOL/KG,,FMOL/KG,,UMOL/KG,,UMOL/KG,,UATM,,DEG C,,,DEG C,TU,,NMOL/KG,,/MILLE,,/MILLE,,/MILLE,PMOL/KG,,/MILLE,,UMOL/KG,,UMOL/KG,,DBAR,/MILLE,,DEG C,KG/M^3,G/KG,,,,,,/MILLE,/MILLE,,/MILLE
33RO20110926,        A10,      59,          1,         24,      11714,2,20111015,       0323,   -30.0000,   -17.4746,       4190,     5.8,  18.3595,  36.1058,2,  36.1050,2,    233.6,2,   235.4,2,     1.4,2,     0.0,4,    0.01,2,   0.143,2,   2.278,2,   1.384,2,   1.390,2,     2087.6,6,  2373.1,2,  -999.0,9, -999.00,    7.993,2,       25,-999.000,9,-999.0000,9, -999.00,9,  -999.0,9,  -999.0,   3.943,4, -999.00,9,  62.4976,2,    5.48,2,    5.80,  -999.0,9,  18.3585,     26.028,    36.2753,2,     -999.0,9,     -999.0,1,     -999.0,     -999.0,9,     -999.0
33RO20110926,        A10,      59,          1,         23,      11713,2,20111015,       0323,   -30.0000,   -17.4746,       4190,    35.5,  18.3685,  36.1060,2,  36.1065,2,    233.1,2,   235.1,2,     1.4,2,     0.0,4,    0.01,2,   0.144,2,   2.269,2,   1.379,2,   1.388,2,     2087.2,2,  2369.5,6,  -999.0,9, -999.00,    7.988,6,       25,-999.000,9,-999.0000,9, -999.00,9,  -999.0,9,  -999.0,   3.997,4, -999.00,9,  55.7659,2,    3.53,2,   35.50,  -999.0,9,  18.3623,     26.029,    36.2768,2,     -999.0,9,     -999.0,9,     -999.0,     -999.0,9,     -999.0
33RO20110926,        A10,      59,          1,         22,      11712,2,20111015,       0323,   -30.0000,   -17.4746,       4190,    74.9,  18.3583,  36.1076,2,  36.1079,2,    233.0,2,   233.5,2,     1.4,2,     0.0,4,    0.01,2,   0.147,2,   2.278,2,   1.385,2,   1.362,2,     2089.1,2,  2372.8,2,  -999.0,9, -999.00,    7.992,2,       25,-999.000,9,-999.0000,9, -999.00,9,  -999.0,9,  -999.0,   4.230,4, -999.00,9,  54.2049,2,    2.73,2,   74.90,  -999.0,9,  18.3452,     26.035,    36.2782,2,     -999.0,9,     -999.0,9,     -999.0,     -999.0,9,     -999.0
33RO20110926,        A10,      59,          1,         21,      11010,2,20111015,       0323,   -30.0000,   -17.4746,       4190,   125.3,  17.8341,  35.9954,2,  35.9952,2,    233.7,2,   231.1,2,     1.5,2,     0.4,4,    0.23,2,   0.176,2,   2.319,2,   1.406,2,   1.417,2,     2089.6,2,  2366.5,2,  -999.0,9, -999.00,   7.9809,2,       25,-999.000,9,-999.0000,9, -999.00,9,  -999.0,9,  -999.0,   2.992,4, -999.00,9,  51.5902,2,    4.49,2,  125.30,  -999.0,9,  17.8126,     26.088,    36.1650,2,     -999.0,9,     -999.0,1,     -999.0,     -999.0,9,     -999.0
33RO20110926,        A10,      59,          1,         20,      11715,2,20111015,       0323,   -30.0000,   -17.4746,       4190,   220.2,  15.3257,  35.5071,2,  35.5089,2,    218.3,2,   218.7,2,     2.3,6,     4.3,4,    0.02,6,   0.440,6,   2.651,2,   1.574,2,   1.459,2,     2104.7,2,  2332.1,2,  -999.0,9, -999.00,   7.9068,2,       25,-999.000,9,-999.0000,9, -999.00,9,  -999.0,9,  -999.0,   1.219,3, -999.00,9,  47.7951,2, -999.00,9,  220.20,  -999.0,9,  15.2917,     26.293,    35.6763,2,     -999.0,9,     -999.0,9,     -999.0,     -999.0,9,     -999.0
33RO20110926,        A10,      59,          1,         19,      11007,2,20111015,       0323,   -30.0000,   -17.4746,       4190,   289.9,  13.8466,  35.3026,2,  35.3064,2,    217.2,2,   216.4,2,     3.0,2,     7.3,4,    0.02,2,   0.622,2,   2.856,2,   1.662,2,   1.356,2,     2114.7,2,  2321.8,2,  -999.0,9, -999.00,   7.8618,2,       25,-999.000,9,-999.0000,9, -999.00,9,  -999.0,9,  -999.0,   1.223,3, -999.00,9,  47.0732,2, -999.00,9,  289.90,  -999.0,9,  13.8047,     26.465,    35.4729,2,     -999.0,9,     -999.0,9,     -999.0,     -999.0,9,     -999.0
33RO20110926,        A10,      59,          1,         18,      11710,2,20111015,       0323,   -30.0000,   -17.4746,       4190,   369.9,  12.3576,  35.1095,2,  35.1074,2,    213.1,2,   213.2,2,     4.2,2,    10.9,4,    0.02,2,   0.863,2,   3.059,2,   1.730,2,   1.246,2,     2126.7,2,  2311.1,2,  -999.0,9, -999.00,   7.8217,2,       25,-999.000,9,-999.0000,9, -999.00,9,  -999.0,9,  -999.0,   1.268,3, -999.00,9,  47.8927,2, -999.00,9,  369.90,  -999.0,9,  12.3080,     26.612,    35.2729,2,     -999.0,9,     -999.0,9,     -999.0,     -999.0,9,     -999.0
33RO20110926,        A10,      59,          1,         17,      11023,2,20111015,       0323,   -30.0000,   -17.4746,       4190,   424.7,  11.3705,  34.9793,2,  34.9746,2,    210.7,2,   211.4,2,     5.4,2,    13.5,4,    0.01,2,   1.030,2,   3.128,6,   1.732,6,   1.163,6,     2135.5,2,  2304.7,2,  -999.0,9, -999.00,   7.7897,2,       25,-999.000,9,-999.0000,9, -999.00,9,  -999.0,9,  -999.0,   1.450,3, -999.00,9,  49.1707,2, -999.00,9,  424.70,  -999.0,9,  11.3164,     26.700,    35.1396,2,     -999.0,9,     -999.0,9,     -999.0,     -999.0,9,     -999.0
33RO20110926,        A10,      59,          1,         16,      11709,2,20111015,       0323,   -30.0000,   -17.4746,       4190,   523.5,   9.7401,  34.7684,2,  34.7656,2,    204.6,2,   204.6,2,     8.1,2,    17.8,4,    0.01,2,   1.313,2,   3.168,2,   1.702,2,   0.990,2,     2148.2,2,  2300.6,2,  -999.0,9, -999.00,   7.7425,2,       25,-999.000,9,-999.0000,9, -999.00,9,  -999.0,9,  -999.0,   2.012,3, -999.00,9,  40.5268,3, -999.00,9,  523.50,  -999.0,9,   9.6795,     26.823,    34.9295,2,     -999.0,9,     -999.0,9,     -999.0,     -999.0,9,     -999.0
33RO20110926,        A10,      59,          1,         15,      11006,2,20111015,       0323,   -30.0000,   -17.4746,       4190,   650.1,   7.4084,  34.5128,2,  34.5149,2,    205.2,2,     204,2,    13.3,2,    23.3,4,    0.01,2,   1.689,2,   3.126,2,   1.621,2,   0.858,2,     2166.3,2,  2291.7,2,  -999.0,9, -999.00,   7.6803,2,       25,-999.000,9,-999.0000,9, -999.00,9,  -999.0,9,  -999.0,   2.872,3, -999.00,9,  44.5756,3, -999.00,9,  650.10,  -999.0,9,   7.3440,     26.987,    34.6776,2,     -999.0,9,     -999.0,9,     -999.0,     -999.0,9,     -999.0
33RO20110926,        A10,      59,          1,         14,      11708,2,20111015,       0323,   -30.0000,   -17.4746,       4190,   724.4,   6.1427,  34.3977,2,  34.3981,2,    214.1,2,   213.2,2,    16.3,6,    25.7,4,    0.02,6,   1.847,6,   3.116,2,   1.589,2,   0.758,2,     2172.8,2,  2280.7,2,  -999.0,9, -999.00,   7.6653,2,       25,-999.000,9,-999.0000,9, -999.00,9,  -999.0,9,  -999.0,   3.525,3, -999.00,9,  41.2098,2, -999.00,9,  724.40,  -999.0,9,   6.0776,     27.067,    34.5603,2,     -999.0,9,     -999.0,9,     -999.0,     -999.0,9,     -999.0
33RO20110926,        A10,      59,          1,         13,      11031,2,20111015,       0323,   -30.0000,   -17.4746,       4190,   849.3,   4.7792,  34.3170,2,  34.3173,2,    218.4,2,   217.3,2,    23.4,2,    27.8,4,    0.02,2,   2.033,2,   2.814,2,   1.409,2,   0.626,2,     2182.6,2,  2289.5,2,  -999.0,9, -999.00,   7.6354,2,       25,-999.000,9,-999.0000,9, -999.00,9,  -999.0,9,  -999.0,   3.812,3, -999.00,9,  41.4927,2, -999.00,9,  849.30,  -999.0,9,   4.7110,     27.167,    34.4791,2,     -999.0,9,     -999.0,9,     -999.0,     -999.0,9,     -999.0
33RO20110926,        A10,      59,          1,         12,      11027,2,20111015,       0323,   -30.0000,   -17.4746,       4190,   969.7,   4.0443,  34.3258,2,  34.3261,2,    210.8,2,   209.8,2,    31.8,2,    29.5,4,    0.01,2,   2.153,2,   2.211,2,   1.090,2,   0.461,2,     2196.5,2,  2297.1,2,  -999.0,9, -999.00,   7.6164,2,       25,-999.000,9,-999.0000,9, -999.00,9,  -999.0,9,  -999.0,   3.296,3, -999.00,9,-999.0000,5, -999.00,9,  969.70,  -999.0,9,   3.9711,     27.253,    34.4880,2,     -999.0,9,     -999.0,9,     -999.0,     -999.0,9,     -999.0
33RO20110926,        A10,      59,          1,         11,      11707,2,20111015,       0323,   -30.0000,   -17.4746,       4190,  1149.7,   3.4015,  34.4068,2,  34.4080,2,    195.1,2,   195.3,2,    44.5,6,    31.2,4,    0.02,6,   2.270,6,   1.255,2,   0.613,2,   0.230,2,     2217.3,2,  2310.2,2,  -999.0,9, -999.00,   7.5884,2,       25,-999.000,9,-999.0000,9, -999.00,9,  -999.0,9,  -999.0,   2.132,3, -999.00,9,  39.5707,2, -999.00,9, 1149.70,  -999.0,9,   3.3187,     27.383,    34.5702,2,     -999.0,9,     -999.0,9,     -999.0,     -999.0,9,     -999.0
33RO20110926,        A10,      59,          1,         10,      11003,2,20111015,       0323,   -30.0000,   -17.4746,       4190,  1300.2,   3.0911,  34.5133,2,  34.5138,2,    187.3,2,   187.6,2,    52.5,2,    30.7,4,    0.01,2,   2.260,2,   0.627,2,   0.304,2,   0.080,2,     2228.4,6,  2323.3,6,  -999.0,9, -999.00,   7.5927,6,       25,-999.000,9,-999.0000,9, -999.00,9,  -999.0,9,  -999.0,   1.402,3, -999.00,9,  38.5756,2, -999.00,9, 1300.20,  -999.0,9,   2.9988,     27.497,    34.6765,2,     -999.0,9,     -999.0,9,     -999.0,     -999.0,9,     -999.0
33RO20110926,        A10,      59,          1,          9,      11706,2,20111015,       0323,   -30.0000,   -17.4746,       4190,  1566.9,   2.8881,  34.6598,2,  34.6613,2,    193.3,2,   193.9,2,    55.0,2,    28.6,4,    0.01,2,   2.102,2,   0.204,2,   0.099,2,   0.000,2,     2226.7,2,  2331.6,2,  -999.0,9, -999.00,   7.6162,2,       25,-999.000,9,-999.0000,9, -999.00,9,  -999.0,9,  -999.0,   0.544,3, -999.00,9,  41.4829,2, -999.00,9, 1566.90,  -999.0,9,   2.7758,     27.633,    34.8247,6,     -999.0,9,     -999.0,9,     -999.0,     -999.0,9,     -999.0
33RO20110926,        A10,      59,          1,          8,      11033,2,20111015,       0323,   -30.0000,   -17.4746,       4190,  1789.8,   2.7447,  34.7510,2,  34.7513,2,    206.7,2,   207.6,2,    53.4,2,    26.2,4,    0.01,2,   1.930,2,   0.084,2,   0.041,2,   0.000,2,       2217,2,  2331.8,2,  -999.0,9, -999.00,   7.6443,2,       25,-999.000,9,-999.0000,9, -999.00,9,  -999.0,9,  -999.0,   0.347,3, -999.00,9,  46.7317,3, -999.00,9, 1789.80,  -999.0,9,   2.6150,     27.721,    34.9151,2,     -999.0,9,     -999.0,9,     -999.0,     -999.0,9,     -999.0
33RO20110926,        A10,      59,          1,          7,      11705,2,20111015,       0323,   -30.0000,   -17.4746,       4190,  2165.0,   2.6292,  34.8152,2,  34.8153,2,    223.9,2,   223.5,2,    50.2,2,    24.1,4,    0.01,2,   1.752,2,   0.038,2,   0.020,2,   0.000,2,     2206.3,2,  2332.8,2,  -999.0,9, -999.00,   7.6784,2,       25,-999.000,9,-999.0000,9, -999.00,9,  -999.0,9,  -999.0,   0.221,3, -999.00,9,  37.9415,3, -999.00,9, 2165.00,  -999.0,9,   2.4678,     27.785,    34.9795,2,     -999.0,9,     -999.0,9,     -999.0,     -999.0,9,     -999.0
33RO20110926,        A10,      59,          1,          6,      11029,2,20111015,       0323,   -30.0000,   -17.4746,       4190,  2349.9,   2.6073,  34.8316,2,  34.8336,2,    226.8,2,   227.9,2,    49.1,2,    23.6,4,    0.01,2,   1.707,2,-999.000,5,-999.000,5,-999.000,5,     2203.7,2,  2331.3,2,  -999.0,9, -999.00,   7.6834,2,       25,-999.000,9,-999.0000,9, -999.00,9,  -999.0,9,  -999.0,-999.000,5, -999.00,9,  39.8244,2, -999.00,9, 2349.90,  -999.0,9,   2.4291,     27.803,    34.9978,2,     -999.0,9,     -999.0,9,     -999.0,     -999.0,9,     -999.0
33RO20110926,        A10,      59,          1,          5,      11704,2,20111015,       0323,   -30.0000,   -17.4746,       4190,  2650.0,   2.5866,  34.8540,2,  34.8545,2,    234.7,2,   237.5,2,    47.0,2,    23.0,4,    0.01,2,   1.645,2,   0.021,2,   0.012,2,   0.000,2,     2196.9,2,  2337.9,4,  -999.0,9, -999.00,   7.6994,2,       25,-999.000,9,-999.0000,9, -999.00,9,  -999.0,9,  -999.0,   0.172,3, -999.00,9,     39.6,2, -999.00,9, 2650.00,  -999.0,9,   2.3801,     27.824,    35.0188,2,     -999.0,9,     -999.0,9,     -999.0,     -999.0,9,     -999.0
33RO20110926,        A10,      59,          1,          4,      11030,2,20111015,       0323,   -30.0000,   -17.4746,       4190,  2999.7,   2.4830,  34.8676,2,  34.8680,2,    241.2,2,   240.7,2,    47.1,2,    22.3,4,    0.01,2,   1.598,2,   0.012,2,   0.007,2,   0.042,2,     2195.4,2,    2340,4,  -999.0,9, -999.00,   7.7074,2,       25,-999.000,9,-999.0000,9, -999.00,9,  -999.0,9,  -999.0,   0.136,3, -999.00,9,  35.5512,3, -999.00,9, 2999.70,  -999.0,9,   2.2438,     27.846,    35.0325,2,     -999.0,9,     -999.0,9,     -999.0,     -999.0,9,     -999.0
33RO20110926,        A10,      59,          1,          3,      11703,2,20111015,       0323,   -30.0000,   -17.4746,       4190,  3425.0,   2.1583,  34.8539,2,  34.8541,2,    241.7,2,   241.5,2,    56.1,6,    22.9,4,    0.01,6,   1.647,6,   0.014,2,   0.010,2,   0.140,2,     2202.5,2,  2339.6,2,  -999.0,9, -999.00,   7.7005,2,       25,-999.000,9,-999.0000,9, -999.00,9,  -999.0,9,  -999.0,   0.113,3, -999.00,9,   42.039,2, -999.00,9, 3425.00,  -999.0,9,   1.8826,     27.864,    35.0184,2,     -999.0,9,     -999.0,9,     -999.0,     -999.0,9,     -999.0
33RO20110926,        A10,      59,          1,          2,      11702,2,20111015,       0323,   -30.0000,   -17.4746,       4190,  3822.8,   1.9042,  34.8297,2,  34.8339,3,    238.9,2,   238.2,2,    65.8,2,    24.0,4,    0.01,2,   1.733,2,   0.014,2,   0.007,2,   0.121,2,     2212.4,2,  2346.9,4,  -999.0,9, -999.00,   7.6903,2,       25,-999.000,9,-999.0000,9, -999.00,9,  -999.0,9,  -999.0,   0.118,3, -999.00,9,  41.8049,2, -999.00,9, 3822.80,  -999.0,9,   1.5925,     27.870,    34.9981,2,     -999.0,9,     -999.0,9,     -999.0,     -999.0,9,     -999.0
33RO20110926,        A10,      59,          1,          1,      11701,2,20111015,       0323,   -30.0000,   -17.4746,       4190,  4205.0,   1.6982,  34.8072,2,  34.8085,2,    236.6,2,   235.8,2,    74.3,2,    25.4,4,    0.01,2,   1.817,2,   0.021,6,   0.011,6,   0.177,6,     2221.9,6,  2353.8,4,  -999.0,9, -999.00,   7.6823,6,       25,-999.000,9,-999.0000,9, -999.00,9,  -999.0,9,  -999.0,   0.150,3, -999.00,9,  37.0049,2, -999.00,9, 4205.00,  -999.0,9,   1.3500,     27.867,    34.9727,2,     -999.0,9,     -999.0,9,     -999.0,     -999.0,9,     -999.0