BOTTLE,20220815CCHSIOAMB
EXPOCODE,SECT_ID,STNNBR,CASTNO,SAMPNO,BTLNBR,BTLNBR_FLAG_W,DATE,TIME,LATITUDE,LONGITUDE,DEPTH,CTDPRS,CTDTMP,CTDSAL,CTDSAL_FLAG_W,SALNTY,SALNTY_FLAG_W,CTDOXY,CTDOXY_FLAG_W,OXYGEN,OXYGEN_FLAG_W,SILCAT,SILCAT_FLAG_W,NITRAT,NITRAT_FLAG_W,NITRIT,NITRIT_FLAG_W,PHSPHT,PHSPHT_FLAG_W,CFC-11,CFC-11_FLAG_W,CFC-12,CFC-12_FLAG_W,SF6,SF6_FLAG_W,TCARBN,TCARBN_FLAG_W,ALKALI,ALKALI_FLAG_W,PCO2,PCO2_FLAG_W,PCO2TMP,PH_SWS,PH_SWS_FLAG_W,PH_TMP,TRITUM,TRITUM_FLAG_W,HELIUM,HELIUM_FLAG_W,DELC13,DELC13_FLAG_W,DELC14,DELC14_FLAG_W,C14ERR,CCL4,CCL4_FLAG_W,DELO18,DELO18_FLAG_W,DOC,DOC_FLAG_W,TDN,TDN_FLAG_W,CTDRAW,14C-DOC,14C-DOC_FLAG_W,THETA,SIG0,SALTREF,SALTREF_FLAG_W,BLACKC,BLACKC_FLAG_W,PIGMENTS,PIGMENTS_FLAG_W,14C-DOCERR,13C-DOC,13C-DOC_FLAG_W,13C-DOCERR
,,,,,,,,,,,METERS,DBAR,ITS-90,PSS-78,,PSS-78,,UMOL/KG,,UMOL/KG,,UMOL/KG,,UMOL/KG,,UMOL/KG,,UMOL/KG,,PMOL/KG,,PMOL/KG,,FMOL/KG,,UMOL/KG,,UMOL/KG,,UATM,,DEG C,,,DEG C,TU,,NMOL/KG,,/MILLE,,/MILLE,,/MILLE,PMOL/KG,,/MILLE,,UMOL/KG,,UMOL/KG,,DBAR,/MILLE,,DEG C,KG/M^3,G/KG,,,,,,/MILLE,/MILLE,,/MILLE
33RO20110926,        A10,      15,          1,         24,      11714,3,20111001,       1722,   -29.7508,     7.8752,       4932,     4.5,  16.8930,  35.7106,2,  35.7063,2,    249.8,2,  -999.0,9,     1.2,2,     0.0,2,    0.01,2,   0.126,2,-999.000,9,-999.000,9,-999.000,9,-999.000000,9,  -999.0,9,  -999.0,9, -999.00,-999.0000,9,  -999.00,-999.000,9,-999.0000,9, -999.00,9,  -999.0,9,  -999.0,-999.000,9, -999.00,9,  60.7707,2,    4.83,2,    4.50,  -999.0,9,  16.8923,     26.082,    35.8746,2,     -999.0,9,     -999.0,1,     -999.0,     -999.0,9,     -999.0
33RO20110926,        A10,      15,          1,         23,      11713,2,20111001,       1722,   -29.7508,     7.8752,       4932,    35.3,  16.7081,  35.7067,2,  35.7057,2,    250.7,2,   250.5,2,     1.5,2,     0.0,2,    0.02,2,   0.139,2,   2.527,6,   1.498,6,   1.514,6,     2071.8,6,  2344.7,2,  -999.0,9, -999.00,   7.9729,2,       25,-999.000,9,-999.0000,9, -999.00,9,  -999.0,9,  -999.0,   2.774,3, -999.00,9,  57.0146,2,    5.41,2,   35.30,  -999.0,9,  16.7023,     26.127,    35.8740,2,     -999.0,9,     -999.0,9,     -999.0,     -999.0,9,     -999.0
33RO20110926,        A10,      15,          1,         22,      11712,2,20111001,       1722,   -29.7508,     7.8752,       4932,    59.7,  16.4742,  35.6857,2,  35.6867,2,    250.1,2,   246.9,2,     1.8,2,     0.5,2,    0.16,2,   0.186,2,   2.520,2,   1.497,2,   1.480,2,     2082.8,2,  -999.0,5,  -999.0,9, -999.00,-999.0000,5,  -999.00,-999.000,9,-999.0000,9, -999.00,9,  -999.0,9,  -999.0,   2.590,3, -999.00,9,  57.1902,2,    5.79,2,   59.70,  -999.0,9,  16.4646,     26.167,    35.8550,2,     -999.0,9,     -999.0,1,     -999.0,     -999.0,9,     -999.0
33RO20110926,        A10,      15,          1,         21,      11010,2,20111001,       1722,   -29.7508,     7.8752,       4932,   100.1,  16.2358,  35.6653,2,  35.6654,2,    238.0,2,   237.4,2,     2.3,2,     1.4,2,    0.75,2,   0.274,2,   2.515,2,   1.501,2,   1.512,2,     2083.7,2,    2341,2,  -999.0,9, -999.00,   7.9549,2,       25,-999.000,9,-999.0000,9, -999.00,9,  -999.0,9,  -999.0,   2.122,3, -999.00,9,  55.7268,2,    6.20,2,  100.10,  -999.0,9,  16.2198,     26.209,    35.8335,6,     -999.0,9,     -999.0,1,     -999.0,     -999.0,9,     -999.0
33RO20110926,        A10,      15,          1,         20,      11715,2,20111001,       1722,   -29.7508,     7.8752,       4932,   175.3,  15.9540,  35.6173,2,  35.6162,2,    236.9,2,   237.2,2,     2.4,2,     2.3,2,    0.17,2,   0.295,2,   2.548,2,   1.513,2,   1.481,2,     2074.8,4,  2338.6,2,  -999.0,9, -999.00,   7.9388,2,       25,-999.000,9,-999.0000,9, -999.00,9,  -999.0,9,  -999.0,   1.981,3, -999.00,9,  55.1122,2,    5.92,2,  175.30,  -999.0,9,  15.9262,     26.239,    35.7841,2,     -999.0,9,     -999.0,9,     -999.0,     -999.0,9,     -999.0
33RO20110926,        A10,      15,          1,         19,      11007,2,20111001,       1722,   -29.7508,     7.8752,       4932,   249.9,  15.3382,  35.4936,2,  35.6161,4,    226.9,2,   228.1,2,     2.7,2,     4.0,2,    0.01,2,   0.401,2,   2.628,2,   1.556,2,   1.481,2,     2091.2,2,  2333.9,2,  -999.0,9, -999.00,   7.9259,2,       25,-999.000,9,-999.0000,9, -999.00,9,  -999.0,9,  -999.0,   1.442,3, -999.00,9,  51.8634,2, -999.00,9,  249.90,  -999.0,9,  15.2996,     26.377,    35.7840,2,     -999.0,9,     -999.0,9,     -999.0,     -999.0,9,     -999.0
33RO20110926,        A10,      15,          1,         18,      11710,2,20111001,       1722,   -29.7508,     7.8752,       4932,   325.1,  13.5063,  35.2025,2,  35.2029,2,    219.3,2,   219.8,2,     3.2,2,     7.8,2,    0.01,2,   0.639,2,   2.897,2,   1.692,2,   1.462,2,     2110.9,2,  -999.0,5,  -999.0,9, -999.00,   7.8628,2,       25,-999.000,9,-999.0000,9, -999.00,9,  -999.0,9,  -999.0,   0.990,3, -999.00,9,  49.0732,2, -999.00,9,  325.10,  -999.0,9,  13.4601,     26.456,    35.3689,2,     -999.0,9,     -999.0,9,     -999.0,     -999.0,9,     -999.0
33RO20110926,        A10,      15,          1,         17,      11023,2,20111001,       1722,   -29.7508,     7.8752,       4932,   399.9,  12.4388,  35.0950,2,  35.0944,2,    215.4,2,   215.5,2,     4.5,2,    11.3,2,    0.01,2,   0.836,2,   3.056,2,   1.728,2,   1.258,2,     2120.3,2,  2313.1,2,  -999.0,9, -999.00,   7.8267,2,       25,-999.000,9,-999.0000,9, -999.00,9,  -999.0,9,  -999.0,   0.798,3, -999.00,9,  45.8049,2, -999.00,9,  399.90,  -999.0,9,  12.3849,     26.588,    35.2599,2,     -999.0,9,     -999.0,9,     -999.0,     -999.0,9,     -999.0
33RO20110926,        A10,      15,          1,         16,      11709,2,20111001,       1722,   -29.7508,     7.8752,       4932,   519.6,  10.0941,  34.7993,2,  34.7985,2,    214.0,2,   214.7,2,     6.4,6,    16.7,6,    0.01,6,   1.153,6,   3.246,2,   1.783,2,   1.157,2,     2137.6,2,  2299.7,2,  -999.0,9, -999.00,   7.7585,2,       25,-999.000,9,-999.0000,9, -999.00,9,  -999.0,9,  -999.0,   1.157,3, -999.00,9,  46.2146,2, -999.00,9,  519.60,  -999.0,9,  10.0326,     26.789,    34.9626,2,     -999.0,9,     -999.0,9,     -999.0,     -999.0,9,     -999.0
33RO20110926,        A10,      15,          1,         15,      11006,2,20111001,       1722,   -29.7508,     7.8752,       4932,   670.0,   7.3042,  34.5149,2,  34.5126,2,    203.8,2,   203.5,2,    15.8,6,    24.8,6,    0.01,6,   1.667,6,   2.923,2,   1.508,2,   0.817,2,     2166.6,2,  2285.8,2,  -999.0,9, -999.00,   7.6733,2,       25,-999.000,9,-999.0000,9, -999.00,9,  -999.0,9,  -999.0,   1.528,3, -999.00,9,-999.0000,5, -999.00,9,  670.00,  -999.0,9,   7.2383,     27.003,    34.6753,2,     -999.0,9,     -999.0,9,     -999.0,     -999.0,9,     -999.0
33RO20110926,        A10,      15,          1,         14,      11708,2,20111001,       1722,   -29.7508,     7.8752,       4932,   821.8,   5.0298,  34.3659,2,  34.3665,2,    196.0,2,   194.5,2,    25.5,6,    30.7,6,    0.01,6,   2.064,6,   2.366,2,   1.210,2,   0.567,2,     2194.2,2,  2290.8,2,  -999.0,9, -999.00,   7.6072,2,       25,-999.000,9,-999.0000,9, -999.00,9,  -999.0,9,  -999.0,   1.809,3, -999.00,9,  41.2585,2, -999.00,9,  821.80,  -999.0,9,   4.9624,     27.177,    34.5286,2,     -999.0,9,     -999.0,9,     -999.0,     -999.0,9,     -999.0
33RO20110926,        A10,      15,          1,         13,      11031,2,20111001,       1722,   -29.7508,     7.8752,       4932,  1050.1,   3.7529,  34.4102,2,  34.4077,2,    187.3,2,   188.1,2,    43.4,6,    32.8,6,    0.01,6,   2.234,6,   1.352,2,   0.654,2,   0.245,2,     2216.6,2,  2311.7,2,  -999.0,9, -999.00,   7.5894,2,       25,-999.000,9,-999.0000,9, -999.00,9,  -999.0,9,  -999.0,   1.338,3, -999.00,9,   38.439,2, -999.00,9, 1050.10,  -999.0,9,   3.6752,     27.348,    34.5700,2,     -999.0,9,     -999.0,9,     -999.0,     -999.0,9,     -999.0
33RO20110926,        A10,      15,          1,         12,      11027,2,20111001,       1722,   -29.7508,     7.8752,       4932,  1299.8,   3.1787,  34.5506,2,  34.5509,2,    177.0,2,   177.9,2,    56.0,2,    33.1,2,    0.00,2,   2.253,2,   0.465,2,   0.218,2,   0.075,2,     2233.2,6,  2325.8,6,  -999.0,9, -999.00,   7.5797,6,       25,-999.000,9,-999.0000,9, -999.00,9,  -999.0,9,  -999.0,   0.624,3, -999.00,9,  41.3171,3, -999.00,9, 1299.80,  -999.0,9,   3.0855,     27.519,    34.7138,2,     -999.0,9,     -999.0,9,     -999.0,     -999.0,9,     -999.0
33RO20110926,        A10,      15,          1,         11,      11707,2,20111001,       1722,   -29.7508,     7.8752,       4932,  1550.5,   3.1817,  34.7300,2,  34.7300,2,    193.3,2,   194.3,2,    47.3,2,    29.1,2,    0.00,2,   1.967,2,   0.079,2,   0.038,2,   0.000,2,     2216.3,2,  2327.5,2,  -999.0,9, -999.00,   7.6274,2,       25,-999.000,9,-999.0000,9, -999.00,9,  -999.0,9,  -999.0,   0.163,3, -999.00,9,  38.5659,2, -999.00,9, 1550.50,  -999.0,9,   3.0671,     27.663,    34.8938,2,     -999.0,9,     -999.0,9,     -999.0,     -999.0,9,     -999.0
33RO20110926,        A10,      15,          1,         10,      11003,2,20111001,       1722,   -29.7508,     7.8752,       4932,  1800.2,   3.1910,  34.8156,2,  34.8161,2,    208.0,2,   209.6,2,    41.2,2,    26.4,2,    0.00,2,   1.778,2,   0.023,2,   0.012,2,   0.000,2,       2204,2,  -999.0,5,  -999.0,9, -999.00,   7.6573,2,       25,-999.000,9,-999.0000,9, -999.00,9,  -999.0,9,  -999.0,   0.075,3, -999.00,9,  39.8634,2, -999.00,9, 1800.20,  -999.0,9,   3.0542,     27.733,    34.9803,2,     -999.0,9,     -999.0,9,     -999.0,     -999.0,9,     -999.0
33RO20110926,        A10,      15,          1,          9,      11706,2,20111001,       1722,   -29.7508,     7.8752,       4932,  2100.1,   3.0294,  34.8607,2,  34.8605,2,    222.7,2,   223.8,2,    39.9,2,    24.5,2,    0.00,2,   1.647,2,   0.010,2,   0.008,2,   0.000,2,     2196.8,2,  2328.3,2,  -999.0,9, -999.00,   7.6773,2,       25,-999.000,9,-999.0000,9, -999.00,9,  -999.0,9,  -999.0,   0.050,3, -999.00,9,  40.2634,2, -999.00,9, 2100.10,  -999.0,9,   2.8674,     27.786,    35.0249,2,     -999.0,9,     -999.0,9,     -999.0,     -999.0,9,     -999.0
33RO20110926,        A10,      15,          1,          8,      11033,2,20111001,       1722,   -29.7508,     7.8752,       4932,  2400.5,   2.7171,  34.8524,2,  34.8525,2,    225.6,2,   226.2,2,    46.8,2,    24.8,2,    0.00,2,   1.656,2,   0.011,2,   0.006,2,   0.000,2,     2199.6,2,  2333.8,2,  -999.0,9, -999.00,   7.6865,2,       25,-999.000,9,-999.0000,9, -999.00,9,  -999.0,9,  -999.0,   0.072,3, -999.00,9,  39.3463,2, -999.00,9, 2400.50,  -999.0,9,   2.5322,     27.809,    35.0168,2,     -999.0,9,     -999.0,9,     -999.0,     -999.0,9,     -999.0
33RO20110926,        A10,      15,          1,          7,      11705,2,20111001,       1722,   -29.7508,     7.8752,       4932,  2700.5,   2.5912,  34.8625,2,  34.8627,2,    229.8,2,   231.5,2,    47.9,2,    24.2,2,    0.00,2,   1.624,2,   0.005,2,   0.003,2,   0.000,2,     2199.7,2,  2337.1,2,  -999.0,9, -999.00,   7.6955,2,       25,-999.000,9,-999.0000,9, -999.00,9,  -999.0,9,  -999.0,   0.032,3, -999.00,9,  37.7268,2, -999.00,9, 2700.50,  -999.0,9,   2.3796,     27.830,    35.0271,2,     -999.0,9,     -999.0,9,     -999.0,     -999.0,9,     -999.0
33RO20110926,        A10,      15,          1,          6,      11029,2,20111001,       1722,   -29.7508,     7.8752,       4932,  2999.9,   2.4093,  34.8544,2,  34.8538,2,    230.7,2,   230.8,2,    53.6,2,    24.4,2,    0.00,2,   1.655,2,   0.008,2,   0.005,2,   0.000,2,     2204.5,2,  2341.9,2,  -999.0,9, -999.00,   7.6925,2,       25,-999.000,9,-999.0000,9, -999.00,9,  -999.0,9,  -999.0,   0.037,3, -999.00,9,  39.5805,2, -999.00,9, 2999.90,  -999.0,9,   2.1717,     27.841,    35.0182,2,     -999.0,9,     -999.0,9,     -999.0,     -999.0,9,     -999.0
33RO20110926,        A10,      15,          1,          5,      11704,2,20111001,       1722,   -29.7508,     7.8752,       4932,  3400.1,   2.2978,  34.8529,2,  34.8521,2,    230.5,2,   231.6,2,    57.1,2,    24.7,2,    0.00,2,   1.668,2,   0.007,2,   0.004,2,   0.000,2,     2208.9,2,  2348.7,2,  -999.0,9, -999.00,   7.6964,2,       25,-999.000,9,-999.0000,9, -999.00,9,  -999.0,9,  -999.0,   0.038,3, -999.00,9,  42.2049,3, -999.00,9, 3400.10,  -999.0,9,   2.0214,     27.852,    35.0165,6,     -999.0,9,     -999.0,9,     -999.0,     -999.0,9,     -999.0
33RO20110926,        A10,      15,          1,          4,      11030,2,20111001,       1722,   -29.7508,     7.8752,       4932,  3800.9,   2.0517,  34.8311,2,  34.8302,2,    227.1,2,   227.6,2,    67.6,2,    25.9,2,    0.01,2,   1.750,2,   0.014,2,   0.008,2,   0.000,2,     2219.8,2,  2354.3,2,  -999.0,9, -999.00,   7.6853,2,       25,-999.000,9,-999.0000,9, -999.00,9,  -999.0,9,  -999.0,   0.044,3, -999.00,9,  38.1854,2, -999.00,9, 3800.90,  -999.0,9,   1.7384,     27.856,    34.9945,2,     -999.0,9,     -999.0,9,     -999.0,     -999.0,9,     -999.0
33RO20110926,        A10,      15,          1,          3,      11703,2,20111001,       1722,   -29.7508,     7.8752,       4932,  4200.0,   1.4216,  34.7657,2,  34.7645,2,    219.4,2,   220.9,2,    93.1,2,    29.1,2,    0.00,2,   1.981,2,   0.040,2,   0.020,2,   0.000,2,     2240.9,2,  2357.2,2,  -999.0,9, -999.00,   7.6513,2,       25,-999.000,9,-999.0000,9, -999.00,9,  -999.0,9,  -999.0,   0.102,3, -999.00,9,  39.8927,2, -999.00,9, 4200.00,  -999.0,9,   1.0823,     27.851,    34.9285,2,     -999.0,9,     -999.0,9,     -999.0,     -999.0,9,     -999.0
33RO20110926,        A10,      15,          1,          2,      11702,2,20111001,       1722,   -29.7508,     7.8752,       4932,  4599.9,   1.1752,  34.7398,2,  34.7388,2,    217.7,2,   218.4,2,   103.2,2,    30.4,2,    0.00,2,   2.073,2,   0.061,2,   0.030,2,   0.000,2,     2251.1,2,  2367.8,2,  -999.0,9, -999.00,   7.6414,2,       25,-999.000,9,-999.0000,9, -999.00,9,  -999.0,9,  -999.0,   0.144,3, -999.00,9,-999.0000,5, -999.00,9, 4599.90,  -999.0,9,   0.7985,     27.849,    34.9026,2,     -999.0,9,     -999.0,9,     -999.0,     -999.0,9,     -999.0
33RO20110926,        A10,      15,          1,          1,      11701,2,20111001,       1722,   -29.7508,     7.8752,       4932,  5042.5,   1.1751,  34.7346,2,  34.7341,2,    217.3,2,   219.8,3,   105.2,2,    30.6,2,    0.00,2,   2.091,2,   0.072,6,   0.035,6,   0.000,6,     2252.9,6,  2369.8,6,  -999.0,9, -999.00,   7.6364,6,       25,-999.000,9,-999.0000,9, -999.00,9,  -999.0,9,  -999.0,   0.159,3, -999.00,9,  38.0976,2, -999.00,9, 5042.50,  -999.0,9,   0.7463,     27.848,    34.8979,2,     -999.0,9,     -999.0,9,     -999.0,     -999.0,9,     -999.0