BOTTLE,20220815CCHSIOAMB
EXPOCODE,SECT_ID,STNNBR,CASTNO,SAMPNO,BTLNBR,BTLNBR_FLAG_W,DATE,TIME,LATITUDE,LONGITUDE,DEPTH,CTDPRS,CTDTMP,CTDSAL,CTDSAL_FLAG_W,SALNTY,SALNTY_FLAG_W,CTDOXY,CTDOXY_FLAG_W,OXYGEN,OXYGEN_FLAG_W,SILCAT,SILCAT_FLAG_W,NITRAT,NITRAT_FLAG_W,NITRIT,NITRIT_FLAG_W,PHSPHT,PHSPHT_FLAG_W,CFC-11,CFC-11_FLAG_W,CFC-12,CFC-12_FLAG_W,SF6,SF6_FLAG_W,TCARBN,TCARBN_FLAG_W,ALKALI,ALKALI_FLAG_W,PCO2,PCO2_FLAG_W,PCO2TMP,PH_SWS,PH_SWS_FLAG_W,PH_TMP,TRITUM,TRITUM_FLAG_W,HELIUM,HELIUM_FLAG_W,DELC13,DELC13_FLAG_W,DELC14,DELC14_FLAG_W,C14ERR,CCL4,CCL4_FLAG_W,DELO18,DELO18_FLAG_W,DOC,DOC_FLAG_W,TDN,TDN_FLAG_W,CTDRAW,14C-DOC,14C-DOC_FLAG_W,THETA,SIG0,SALTREF,SALTREF_FLAG_W,BLACKC,BLACKC_FLAG_W,PIGMENTS,PIGMENTS_FLAG_W,14C-DOCERR,13C-DOC,13C-DOC_FLAG_W,13C-DOCERR
,,,,,,,,,,,METERS,DBAR,ITS-90,PSS-78,,PSS-78,,UMOL/KG,,UMOL/KG,,UMOL/KG,,UMOL/KG,,UMOL/KG,,UMOL/KG,,PMOL/KG,,PMOL/KG,,FMOL/KG,,UMOL/KG,,UMOL/KG,,UATM,,DEG C,,,DEG C,TU,,NMOL/KG,,/MILLE,,/MILLE,,/MILLE,PMOL/KG,,/MILLE,,UMOL/KG,,UMOL/KG,,DBAR,/MILLE,,DEG C,KG/M^3,G/KG,,,,,,/MILLE,/MILLE,,/MILLE
33RO20110926,        A10,      86,          1,         23,      11713,2,20111022,       1605,   -30.0023,   -34.3458,       1419,     4.4,  18.1093,  36.0162,2,-999.0000,9,    236.3,2,  -999.0,9, -999.00,5,  -999.0,5, -999.00,5,-999.000,5,-999.000,9,-999.000,9,-999.000,9,-999.000000,9,  -999.0,9,  -999.0,9, -999.00,-999.0000,9,  -999.00,-999.000,9,-999.0000,9, -999.00,9,  -999.0,9,  -999.0,-999.000,5, -999.00,9,-999.0000,9, -999.00,9,    4.40,  -999.0,9,  18.1085,     26.023,     -999.0,5,     -999.0,9,     -999.0,1,     -999.0,     -999.0,9,     -999.0
33RO20110926,        A10,      86,          1,         22,      11712,2,20111022,       1605,   -30.0023,   -34.3458,       1419,     4.4,  18.1038,  36.0154,2,  36.0138,2,    236.2,2,   235.6,2,     0.9,2,     0.0,2,    0.00,2,   0.056,4,   2.333,2,   1.403,2,   1.374,2,     2078.3,6,  2362.5,6,  -999.0,9, -999.00,    7.997,6,       25,-999.000,9,-999.0000,9, -999.00,9,  -999.0,9,  -999.0,   3.228,4, -999.00,9,-999.0000,9, -999.00,9,    4.40,  -999.0,9,  18.1030,     26.023,    36.1837,2,     -999.0,9,     -999.0,9,     -999.0,     -999.0,9,     -999.0
33RO20110926,        A10,      86,          1,         24,      11714,2,20111022,       1605,   -30.0023,   -34.3458,       1419,     4.4,  18.1035,  36.0153,2,-999.0000,9,    236.2,2,  -999.0,9, -999.00,5,  -999.0,5, -999.00,5,-999.000,5,-999.000,9,-999.000,9,-999.000,9,-999.000000,9,  -999.0,9,  -999.0,9, -999.00,-999.0000,9,  -999.00,-999.000,9,-999.0000,9, -999.00,9,  -999.0,9,  -999.0,-999.000,5, -999.00,9,-999.0000,9, -999.00,9,    4.40,  -999.0,9,  18.1027,     26.024,     -999.0,5,     -999.0,9,     -999.0,9,     -999.0,     -999.0,9,     -999.0
33RO20110926,        A10,      86,          1,         21,      11010,2,20111022,       1605,   -30.0023,   -34.3458,       1419,    19.6,  18.0296,  36.0049,2,  36.0054,2,    236.4,2,   236.8,2,     0.9,2,     0.0,2,    0.00,2,   0.060,4,-999.000,9,-999.000,9,-999.000,9,-999.000000,9,  -999.0,9,  -999.0,9, -999.00,-999.0000,9,  -999.00,-999.000,9,-999.0000,9, -999.00,9,  -999.0,9,  -999.0,-999.000,5, -999.00,9,-999.0000,9, -999.00,9,   19.60,  -999.0,9,  18.0262,     26.036,    36.1751,2,     -999.0,9,     -999.0,9,     -999.0,     -999.0,9,     -999.0
33RO20110926,        A10,      86,          1,         20,      11715,2,20111022,       1605,   -30.0023,   -34.3458,       1419,    45.4,  17.9944,  35.9984,2,  36.0077,2,    236.7,2,   236.7,2,     0.9,2,     0.0,2,    0.00,2,   0.064,4,-999.000,9,-999.000,9,-999.000,9,-999.000000,9,  -999.0,9,  -999.0,9, -999.00,-999.0000,9,  -999.00,-999.000,9,-999.0000,9, -999.00,9,  -999.0,9,  -999.0,-999.000,5, -999.00,9,-999.0000,9, -999.00,9,   45.40,  -999.0,9,  17.9866,     26.047,    36.1775,2,     -999.0,9,     -999.0,9,     -999.0,     -999.0,9,     -999.0
33RO20110926,        A10,      86,          1,         19,      11007,2,20111022,       1605,   -30.0023,   -34.3458,       1419,    59.5,  17.9519,  35.9878,2,  35.9889,2,    236.2,2,   236.3,2,     0.9,2,     0.0,2,    0.00,2,   0.069,4,   2.339,2,   1.409,2,   1.444,2,     2079.4,2,  2359.2,2,  -999.0,9, -999.00,    7.991,2,       25,-999.000,9,-999.0000,9, -999.00,9,  -999.0,9,  -999.0,   3.825,4, -999.00,9,-999.0000,9, -999.00,9,   59.50,  -999.0,9,  17.9417,     26.044,    36.1587,2,     -999.0,9,     -999.0,9,     -999.0,     -999.0,9,     -999.0
33RO20110926,        A10,      86,          1,         18,      11710,2,20111022,       1605,   -30.0023,   -34.3458,       1419,    90.3,  17.6275,  35.9634,2,  35.9625,2,    235.2,2,   234.6,2,     1.0,2,     0.0,2,    0.02,2,   0.093,4,-999.000,9,-999.000,9,-999.000,9,-999.000000,9,  -999.0,9,  -999.0,9, -999.00,-999.0000,9,  -999.00,-999.000,9,-999.0000,9, -999.00,9,  -999.0,9,  -999.0,-999.000,5, -999.00,9,-999.0000,9, -999.00,9,   90.30,  -999.0,9,  17.6121,     26.105,    36.1320,2,     -999.0,9,     -999.0,1,     -999.0,     -999.0,9,     -999.0
33RO20110926,        A10,      86,          1,         17,      11023,2,20111022,       1605,   -30.0023,   -34.3458,       1419,   118.0,  17.4510,  35.9468,2,  35.9457,2,    232.1,2,   232.1,2,     1.0,6,     0.3,6,    0.17,6,   0.103,4,-999.000,9,-999.000,9,-999.000,9,-999.000000,9,  -999.0,9,  -999.0,9, -999.00,-999.0000,9,  -999.00,-999.000,9,-999.0000,9, -999.00,9,  -999.0,9,  -999.0,-999.000,5, -999.00,9,-999.0000,9, -999.00,9,  118.00,  -999.0,9,  17.4311,     26.136,    36.1152,2,     -999.0,9,     -999.0,9,     -999.0,     -999.0,9,     -999.0
33RO20110926,        A10,      86,          1,         16,      11709,2,20111022,       1605,   -30.0023,   -34.3458,       1419,   155.2,  17.1632,  35.8959,2,  35.8972,2,    229.0,2,   230.2,2,     1.1,2,     0.9,2,    0.08,2,   0.140,4,   2.409,2,   1.443,2,   1.434,2,     2087.2,2,  2354.4,2,  -999.0,9, -999.00,   7.9759,2,       25,-999.000,9,-999.0000,9, -999.00,9,  -999.0,9,  -999.0,   2.938,4, -999.00,9,-999.0000,9, -999.00,9,  155.20,  -999.0,9,  17.1373,     26.171,    36.0665,2,     -999.0,9,     -999.0,1,     -999.0,     -999.0,9,     -999.0
33RO20110926,        A10,      86,          1,         15,      11006,2,20111022,       1605,   -30.0023,   -34.3458,       1419,   219.5,  15.5217,  35.5683,2,  35.5685,2,    214.3,2,   213.7,2,     1.9,2,     4.5,2,    0.01,2,   0.349,4,-999.000,9,-999.000,9,-999.000,9,-999.000000,9,  -999.0,9,  -999.0,9, -999.00,-999.0000,9,  -999.00,-999.000,9,-999.0000,9, -999.00,9,  -999.0,9,  -999.0,-999.000,9, -999.00,9,-999.0000,9, -999.00,9,  219.50,  -999.0,9,  15.4875,     26.301,    35.7362,2,     -999.0,9,     -999.0,9,     -999.0,     -999.0,9,     -999.0
33RO20110926,        A10,      86,          1,         14,      11708,2,20111022,       1605,   -30.0023,   -34.3458,       1419,   259.5,  14.8265,  35.4669,2,  35.4687,2,    212.8,2,   212.8,2,     2.1,2,     6.1,2,    0.01,2,   0.423,4,-999.000,9,-999.000,9,-999.000,9,-999.000000,9,  -999.0,9,  -999.0,9, -999.00,-999.0000,9,  -999.00,-999.000,9,-999.0000,9, -999.00,9,  -999.0,9,  -999.0,-999.000,9, -999.00,9,-999.0000,9, -999.00,9,  259.50,  -999.0,9,  14.7873,     26.382,    35.6359,2,     -999.0,9,     -999.0,9,     -999.0,     -999.0,9,     -999.0
33RO20110926,        A10,      86,          1,         13,      11031,2,20111022,       1605,   -30.0023,   -34.3458,       1419,   311.0,  13.8364,  35.3155,2,  35.3283,2,    212.7,2,   212.6,2,     2.7,2,     7.8,2,    0.01,2,   0.521,4,   2.878,2,   1.657,2,   1.288,2,     2118.2,2,  2320.8,2,  -999.0,9, -999.00,   7.8688,2,       25,-999.000,9,-999.0000,9, -999.00,9,  -999.0,9,  -999.0,   1.143,3, -999.00,9,-999.0000,9, -999.00,9,  311.00,  -999.0,9,  13.7915,     26.487,    35.4949,2,     -999.0,9,     -999.0,9,     -999.0,     -999.0,9,     -999.0
33RO20110926,        A10,      86,          1,         12,      11027,2,20111022,       1605,   -30.0023,   -34.3458,       1419,   359.6,  13.2212,  35.2433,2,  35.2436,2,    212.6,2,   211.8,2,     3.1,6,     9.4,6,    0.01,6,   0.575,4,-999.000,9,-999.000,9,-999.000,9,-999.000000,9,  -999.0,9,  -999.0,9, -999.00,-999.0000,9,  -999.00,-999.000,9,-999.0000,9, -999.00,9,  -999.0,9,  -999.0,-999.000,9, -999.00,9,-999.0000,9, -999.00,9,  359.60,  -999.0,9,  13.1708,     26.550,    35.4097,2,     -999.0,9,     -999.0,9,     -999.0,     -999.0,9,     -999.0
33RO20110926,        A10,      86,          1,         11,      11707,2,20111022,       1605,   -30.0023,   -34.3458,       1419,   387.9,  12.6823,  35.1667,2,  35.1667,2,    212.7,2,   211.4,2,     3.7,2,    10.8,2,    0.01,2,   0.667,4,-999.000,9,-999.000,9,-999.000,9,-999.000000,9,  -999.0,9,  -999.0,9, -999.00,-999.0000,9,  -999.00,-999.000,9,-999.0000,9, -999.00,9,  -999.0,9,  -999.0,-999.000,9, -999.00,9,-999.0000,9, -999.00,9,  387.90,  -999.0,9,  12.6293,     26.596,    35.3326,2,     -999.0,9,     -999.0,9,     -999.0,     -999.0,9,     -999.0
33RO20110926,        A10,      86,          1,         10,      11003,2,20111022,       1605,   -30.0023,   -34.3458,       1419,   464.4,  11.4315,  34.9953,2,  34.9960,2,    209.2,2,   209.6,2,     5.0,2,    14.0,2,    0.01,2,   0.831,4,-999.000,9,-999.000,9,-999.000,9,-999.000000,9,  -999.0,9,  -999.0,9, -999.00,-999.0000,9,  -999.00,-999.000,9,-999.0000,9, -999.00,9,  -999.0,9,  -999.0,-999.000,9, -999.00,9,-999.0000,9, -999.00,9,  464.40,  -999.0,9,  11.3721,     26.704,    35.1611,2,     -999.0,9,     -999.0,9,     -999.0,     -999.0,9,     -999.0
33RO20110926,        A10,      86,          1,          9,      11706,2,20111022,       1605,   -30.0023,   -34.3458,       1419,   576.4,   9.5588,  34.7497,2,  34.7525,2,    204.4,2,   204.4,2,     7.8,2,    18.9,2,    0.01,2,   1.093,4,   3.186,2,   1.684,2,   0.943,2,     2147.7,2,  2297.6,2,  -999.0,9, -999.00,   7.7405,2,       25,-999.000,9,-999.0000,9, -999.00,9,  -999.0,9,  -999.0,   1.502,3, -999.00,9,-999.0000,9, -999.00,9,  576.40,  -999.0,9,   9.4927,     26.838,    34.9164,2,     -999.0,9,     -999.0,9,     -999.0,     -999.0,9,     -999.0
33RO20110926,        A10,      86,          1,          8,      11033,2,20111022,       1605,   -30.0023,   -34.3458,       1419,   660.3,   8.1602,  34.5855,2,  34.5847,2,    206.2,2,   205.5,2,    10.2,6,    22.2,6,    0.01,6,   1.259,4,-999.000,9,-999.000,9,-999.000,9,-999.000000,9,  -999.0,9,  -999.0,9, -999.00,-999.0000,9,  -999.00,-999.000,9,-999.0000,9, -999.00,9,  -999.0,9,  -999.0,-999.000,9, -999.00,9,-999.0000,9, -999.00,9,  660.30,  -999.0,9,   8.0910,     26.933,    34.7478,2,     -999.0,9,     -999.0,9,     -999.0,     -999.0,9,     -999.0
33RO20110926,        A10,      86,          1,          7,      11705,2,20111022,       1605,   -30.0023,   -34.3458,       1419,   761.1,   6.2025,  34.3996,2,  34.3974,2,    213.2,2,   213.8,2,    15.5,2,    26.5,2,    0.01,2,   1.535,4,-999.000,9,-999.000,9,-999.000,9,-999.000000,9,  -999.0,9,  -999.0,9, -999.00,-999.0000,9,  -999.00,-999.000,9,-999.0000,9, -999.00,9,  -999.0,9,  -999.0,-999.000,9, -999.00,9,-999.0000,9, -999.00,9,  761.10,  -999.0,9,   6.1336,     27.060,    34.5596,2,     -999.0,9,     -999.0,9,     -999.0,     -999.0,9,     -999.0
33RO20110926,        A10,      86,          1,          6,      11029,2,20111022,       1605,   -30.0023,   -34.3458,       1419,   849.4,   4.9970,  34.3263,2,  34.3323,2,    216.6,2,   217.3,2,    21.1,2,    28.7,2,    0.00,2,   1.695,4,-999.000,9,-999.000,9,-999.000,9,-999.000000,9,  -999.0,9,  -999.0,9, -999.00,-999.0000,9,  -999.00,-999.000,9,-999.0000,9, -999.00,9,  -999.0,9,  -999.0,-999.000,9, -999.00,9,-999.0000,9, -999.00,9,  849.40,  -999.0,9,   4.9274,     27.155,    34.4942,2,     -999.0,9,     -999.0,9,     -999.0,     -999.0,9,     -999.0
33RO20110926,        A10,      86,          1,          5,      11704,2,20111022,       1605,   -30.0023,   -34.3458,       1419,   961.4,   4.4024,  34.3205,2,  34.3211,2,    213.2,2,   213.4,2,    27.2,2,    30.3,2,    0.01,2,   1.810,4,   2.440,2,   1.194,2,   0.454,2,     2190.2,2,  2294.3,2,  -999.0,9, -999.00,   7.6312,2,       25,-999.000,9,-999.0000,9, -999.00,9,  -999.0,9,  -999.0,   2.638,3, -999.00,9,-999.0000,9, -999.00,9,  961.40,  -999.0,9,   4.3273,     27.212,    34.4829,2,     -999.0,9,     -999.0,9,     -999.0,     -999.0,9,     -999.0
33RO20110926,        A10,      86,          1,          4,      11030,2,20111022,       1605,   -30.0023,   -34.3458,       1419,  1071.3,   3.7171,  34.3577,2,  34.3583,2,    203.1,2,   203.1,2,    37.1,2,    31.9,2,    0.01,2,   1.972,4,-999.000,9,-999.000,9,-999.000,9,-999.000000,9,  -999.0,9,  -999.0,9, -999.00,-999.0000,9,  -999.00,-999.000,9,-999.0000,9, -999.00,9,  -999.0,9,  -999.0,-999.000,9, -999.00,9,-999.0000,9, -999.00,9, 1071.30,  -999.0,9,   3.6381,     27.312,    34.5203,2,     -999.0,9,     -999.0,9,     -999.0,     -999.0,9,     -999.0
33RO20110926,        A10,      86,          1,          3,      11703,2,20111022,       1605,   -30.0023,   -34.3458,       1419,  1229.0,   3.2167,  34.4585,2,  34.4595,2,    190.6,2,   190.6,2,    48.6,2,    32.5,2,    0.01,2,   2.088,4,-999.000,9,-999.000,9,-999.000,9,-999.000000,9,  -999.0,9,  -999.0,9, -999.00,-999.0000,9,  -999.00,-999.000,9,-999.0000,9, -999.00,9,  -999.0,9,  -999.0,-999.000,9, -999.00,9,-999.0000,9, -999.00,9, 1229.00,  -999.0,9,   3.1291,     27.442,    34.6219,2,     -999.0,9,     -999.0,9,     -999.0,     -999.0,9,     -999.0
33RO20110926,        A10,      86,          1,          2,      11702,2,20111022,       1605,   -30.0023,   -34.3458,       1419,  1374.1,   3.0075,  34.5324,2,  34.5325,2,    188.3,2,   188.5,2,    52.8,6,    31.8,6,    0.01,6,   2.074,4,-999.000,9,-999.000,9,-999.000,9,-999.000000,9,  -999.0,9,  -999.0,9, -999.00,-999.0000,9,  -999.00,-999.000,9,-999.0000,9, -999.00,9,  -999.0,9,  -999.0,-999.000,9, -999.00,9,-999.0000,9, -999.00,9, 1374.10,  -999.0,9,   2.9100,     27.519,    34.6953,6,     -999.0,9,     -999.0,9,     -999.0,     -999.0,9,     -999.0
33RO20110926,        A10,      86,          1,          1,      11701,2,20111022,       1605,   -30.0023,   -34.3458,       1419,  1415.0,   2.9812,  34.5514,2,  34.5518,2,    188.2,2,   188.1,2,    54.1,2,    32.0,2,    0.01,2,   2.088,4,   0.423,2,   0.204,2,   0.062,2,     2228.3,2,  2323.5,2,  -999.0,9, -999.00,   7.5992,2,       25,-999.000,9,-999.0000,9, -999.00,9,  -999.0,9,  -999.0,   0.846,3, -999.00,9,-999.0000,9, -999.00,9, 1415.00,  -999.0,9,   2.8806,     27.538,    34.7148,2,     -999.0,9,     -999.0,9,     -999.0,     -999.0,9,     -999.0