BOTTLE,20220815CCHSIOAMB
EXPOCODE,SECT_ID,STNNBR,CASTNO,SAMPNO,BTLNBR,BTLNBR_FLAG_W,DATE,TIME,LATITUDE,LONGITUDE,DEPTH,CTDPRS,CTDTMP,CTDSAL,CTDSAL_FLAG_W,SALNTY,SALNTY_FLAG_W,CTDOXY,CTDOXY_FLAG_W,OXYGEN,OXYGEN_FLAG_W,SILCAT,SILCAT_FLAG_W,NITRAT,NITRAT_FLAG_W,NITRIT,NITRIT_FLAG_W,PHSPHT,PHSPHT_FLAG_W,CFC-11,CFC-11_FLAG_W,CFC-12,CFC-12_FLAG_W,SF6,SF6_FLAG_W,TCARBN,TCARBN_FLAG_W,ALKALI,ALKALI_FLAG_W,PCO2,PCO2_FLAG_W,PCO2TMP,PH_SWS,PH_SWS_FLAG_W,PH_TMP,TRITUM,TRITUM_FLAG_W,HELIUM,HELIUM_FLAG_W,DELC13,DELC13_FLAG_W,DELC14,DELC14_FLAG_W,C14ERR,CCL4,CCL4_FLAG_W,DELO18,DELO18_FLAG_W,DOC,DOC_FLAG_W,TDN,TDN_FLAG_W,CTDRAW,14C-DOC,14C-DOC_FLAG_W,THETA,SIG0,SALTREF,SALTREF_FLAG_W,BLACKC,BLACKC_FLAG_W,PIGMENTS,PIGMENTS_FLAG_W,14C-DOCERR,13C-DOC,13C-DOC_FLAG_W,13C-DOCERR
,,,,,,,,,,,METERS,DBAR,ITS-90,PSS-78,,PSS-78,,UMOL/KG,,UMOL/KG,,UMOL/KG,,UMOL/KG,,UMOL/KG,,UMOL/KG,,PMOL/KG,,PMOL/KG,,FMOL/KG,,UMOL/KG,,UMOL/KG,,UATM,,DEG C,,,DEG C,TU,,NMOL/KG,,/MILLE,,/MILLE,,/MILLE,PMOL/KG,,/MILLE,,UMOL/KG,,UMOL/KG,,DBAR,/MILLE,,DEG C,KG/M^3,G/KG,,,,,,/MILLE,/MILLE,,/MILLE
33RO20110926,        A10,      76,          1,         24,      11714,2,20111020,       1154,   -30.0001,   -29.4990,       2262,     4.8,  18.5924,  36.1109,2,  36.1140,2,    231.7,2,   231.9,2,     1.0,2,     0.1,2,    0.01,2,   0.062,4,   2.255,6,   1.366,6,   1.370,6,     2078.5,6,    2371,2,  -999.0,9, -999.00,    8.002,2,       25,-999.000,9,-999.0000,9,    1.26,2,    46.0,2,     2.7,   2.891,4, -999.00,9,-999.0000,9, -999.00,9,    4.80,  -999.0,9,  18.5916,     25.976,    36.2843,2,     -999.0,9,     -999.0,1,     -999.0,     -999.0,9,     -999.0
33RO20110926,        A10,      76,          1,         23,      11713,2,20111020,       1154,   -30.0001,   -29.4990,       2262,    44.6,  18.5851,  36.1097,2,  36.1094,2,    232.9,2,     232,2,     1.0,2,     0.1,2,    0.01,2,   0.065,4,-999.000,9,-999.000,9,-999.000,9,     2078.4,2,  2369.2,6,  -999.0,9, -999.00,    8.001,6,       25,-999.000,9,-999.0000,9, -999.00,9,  -999.0,9,  -999.0,-999.000,5, -999.00,9,-999.0000,9, -999.00,9,   44.60,  -999.0,9,  18.5773,     25.976,    36.2797,2,     -999.0,9,     -999.0,9,     -999.0,     -999.0,9,     -999.0
33RO20110926,        A10,      76,          1,         22,      11712,2,20111020,       1154,   -30.0001,   -29.4990,       2262,    69.8,  18.5636,  36.1069,2,  36.1059,2,    231.6,2,   231.4,2,     1.0,2,     0.1,2,    0.01,2,   0.069,4,-999.000,9,-999.000,9,-999.000,9,     2080.4,2,  2371.4,2,  -999.0,9, -999.00,    8.002,2,       25,-999.000,9,-999.0000,9, -999.00,9,  -999.0,9,  -999.0,-999.000,5, -999.00,9,-999.0000,9, -999.00,9,   69.80,  -999.0,9,  18.5513,     25.984,    36.2761,2,     -999.0,9,     -999.0,1,     -999.0,     -999.0,9,     -999.0
33RO20110926,        A10,      76,          1,         21,      11010,2,20111020,       1154,   -30.0001,   -29.4990,       2262,    95.2,  18.3551,  36.0926,2,  36.1014,2,    231.9,2,   232.3,2,     1.0,2,     0.1,2,    0.02,2,   0.077,4,   2.279,2,   1.376,2,   1.363,2,     2085.3,3,  2369.6,2,  -999.0,9, -999.00,    7.998,2,       25,-999.000,9,-999.0000,9, -999.00,9,  -999.0,9,  -999.0,   2.860,4, -999.00,9,-999.0000,9, -999.00,9,   95.20,  -999.0,9,  18.3384,     26.030,    36.2716,2,     -999.0,9,     -999.0,9,     -999.0,     -999.0,9,     -999.0
33RO20110926,        A10,      76,          1,         20,      11715,2,20111020,       1154,   -30.0001,   -29.4990,       2262,   128.9,  17.3329,  35.9196,2,  35.9196,2,    238.0,2,   237.3,2,     1.0,2,     0.1,2,    0.04,2,   0.098,4,-999.000,9,-999.000,9,-999.000,9,     2079.8,3,  2359.5,2,  -999.0,9, -999.00,   7.9809,2,       25,-999.000,9,-999.0000,9, -999.00,9,  -999.0,9,  -999.0,-999.000,5, -999.00,9,-999.0000,9, -999.00,9,  128.90,  -999.0,9,  17.3113,     26.146,    36.0890,2,     -999.0,9,     -999.0,1,     -999.0,     -999.0,9,     -999.0
33RO20110926,        A10,      76,          1,         19,      11007,2,20111020,       1154,   -30.0001,   -29.4990,       2262,   161.0,  17.1183,  35.8910,2,  35.8931,2,    238.8,2,   238.4,2,     0.9,2,     0.1,2,    0.07,2,   0.104,4,-999.000,9,-999.000,9,-999.000,9,     2080.4,2,    2354,2,  -999.0,9, -999.00,   7.9759,2,       25,-999.000,9,-999.0000,9, -999.00,9,  -999.0,9,  -999.0,-999.000,5, -999.00,9,-999.0000,9, -999.00,9,  161.00,  -999.0,9,  17.0914,     26.178,    36.0624,2,     -999.0,9,     -999.0,1,     -999.0,     -999.0,9,     -999.0
33RO20110926,        A10,      76,          1,         18,      11710,2,20111020,       1154,   -30.0001,   -29.4990,       2262,   199.4,  16.8814,  35.8561,2,  35.8570,2,    235.8,2,   236.2,2,     1.0,2,     0.4,2,    0.35,2,   0.122,4,   2.452,2,   1.470,2,   1.461,2,-999.000000,9,  2351.3,2,  -999.0,9, -999.00,   7.9729,2,       25,-999.000,9,-999.0000,9, -999.00,9,  -999.0,9,  -999.0,   3.040,4, -999.00,9,-999.0000,9, -999.00,9,  199.40,  -999.0,9,  16.8485,     26.205,    36.0261,2,     -999.0,9,     -999.0,9,     -999.0,     -999.0,9,     -999.0
33RO20110926,        A10,      76,          1,         17,      11023,2,20111020,       1154,   -30.0001,   -29.4990,       2262,   274.2,  15.0691,  35.4854,2,  35.4912,2,    215.3,2,   215.1,2,     1.9,6,     5.0,6,    0.02,6,   0.358,4,-999.000,9,-999.000,9,-999.000,9,     2102.6,2,  2330.5,2,  -999.0,9, -999.00,   7.8928,2,       25,-999.000,9,-999.0000,9, -999.00,9,  -999.0,9,  -999.0,-999.000,9, -999.00,9,-999.0000,9, -999.00,9,  274.20,  -999.0,9,  15.0272,     26.343,    35.6585,2,     -999.0,9,     -999.0,9,     -999.0,     -999.0,9,     -999.0
33RO20110926,        A10,      76,          1,         16,      11709,2,20111020,       1154,   -30.0001,   -29.4990,       2262,   348.6,  13.7901,  35.3098,2,  35.3106,2,    213.7,2,   214.5,2,     2.6,2,     7.9,2,    0.01,2,   0.502,4,   2.889,2,   1.663,2,   1.348,2,-999.000000,9,  2321.7,2,  -999.0,9, -999.00,   7.8598,2,       25,-999.000,9,-999.0000,9, -999.00,9,  -999.0,9,  -999.0,   1.095,3, -999.00,9,-999.0000,9, -999.00,9,  348.60,  -999.0,9,  13.7398,     26.482,    35.4771,2,     -999.0,9,     -999.0,9,     -999.0,     -999.0,9,     -999.0
33RO20110926,        A10,      76,          1,         15,      11006,2,20111020,       1154,   -30.0001,   -29.4990,       2262,   398.4,  12.8602,  35.1705,2,  35.1821,2,    210.3,2,     212,2,     3.4,2,    10.2,2,    0.01,2,   0.617,4,-999.000,9,-999.000,9,-999.000,9,-999.000000,9,  2312.2,2,  -999.0,9, -999.00,   7.8277,2,       25,-999.000,9,-999.0000,9, -999.00,9,  -999.0,9,  -999.0,-999.000,9, -999.00,9,-999.0000,9, -999.00,9,  398.40,  -999.0,9,  12.8053,     26.571,    35.3480,2,     -999.0,9,     -999.0,9,     -999.0,     -999.0,9,     -999.0
33RO20110926,        A10,      76,          1,         14,      11708,2,20111020,       1154,   -30.0001,   -29.4990,       2262,   450.4,  11.9510,  35.0508,2,  35.0539,2,    210.5,2,   209.9,2,     4.3,2,    12.6,2,    0.01,2,   0.740,4,   3.097,2,   1.716,2,   1.132,2,-999.000000,9,  2306.5,2,  -999.0,9, -999.00,   7.8027,2,       25,-999.000,9,-999.0000,9, -999.00,9,  -999.0,9,  -999.0,   1.195,3, -999.00,9,-999.0000,9, -999.00,9,  450.40,  -999.0,9,  11.8918,     26.651,    35.2192,2,     -999.0,9,     -999.0,9,     -999.0,     -999.0,9,     -999.0
33RO20110926,        A10,      76,          1,         13,      11031,2,20111020,       1154,   -30.0001,   -29.4990,       2262,   547.2,  10.0721,  34.8104,2,  34.8110,2,    206.2,2,   205.5,2,     7.0,2,    17.5,2,    0.01,2,   0.992,4,-999.000,9,-999.000,9,-999.000,9,     2141.8,2,    2300,2,  -999.0,9, -999.00,   7.7545,2,       25,-999.000,9,-999.0000,9, -999.00,9,  -999.0,9,  -999.0,-999.000,9, -999.00,9,-999.0000,9, -999.00,9,  547.20,  -999.0,9,  10.0073,     26.803,    34.9751,2,     -999.0,9,     -999.0,9,     -999.0,     -999.0,9,     -999.0
33RO20110926,        A10,      76,          1,         12,      11027,2,20111020,       1154,   -30.0001,   -29.4990,       2262,   648.9,   8.3328,  34.6072,2,  34.6068,2,    202.8,2,   202.4,2,    10.5,6,    22.0,6,    0.01,6,   1.225,4,   3.185,2,   1.655,2,   0.868,2,-999.000000,9,    2292,2,  -999.0,9, -999.00,   7.7044,2,       25,-999.000,9,-999.0000,9, -999.00,9,  -999.0,9,  -999.0,   1.961,3, -999.00,9,-999.0000,9, -999.00,9,  648.90,  -999.0,9,   8.2640,     26.924,    34.7699,2,     -999.0,9,     -999.0,9,     -999.0,     -999.0,9,     -999.0
33RO20110926,        A10,      76,          1,         11,      11707,2,20111020,       1154,   -30.0001,   -29.4990,       2262,   749.2,   6.2996,  34.3975,2,  34.4004,2,    217.1,2,   215.6,2,    14.3,2,    25.8,2,    0.01,2,   1.450,4,-999.000,9,-999.000,9,-999.000,9,-999.000000,9,  2286.5,2,  -999.0,9, -999.00,   7.6723,2,       25,-999.000,9,-999.0000,9, -999.00,9,  -999.0,9,  -999.0,-999.000,9, -999.00,9,-999.0000,9, -999.00,9,  749.20,  -999.0,9,   6.2312,     27.050,    34.5626,2,     -999.0,9,     -999.0,9,     -999.0,     -999.0,9,     -999.0
33RO20110926,        A10,      76,          1,         10,      11003,2,20111020,       1154,   -30.0001,   -29.4990,       2262,   849.6,   4.8709,  34.3031,2,  34.3038,2,    223.2,2,   223.9,2,    20.5,2,    28.5,2,    0.01,2,   1.632,4,   3.051,2,   1.515,2,   0.695,2,-999.000000,9,  2289.2,2,  -999.0,9, -999.00,   7.6473,2,       25,-999.000,9,-999.0000,9, -999.00,9,  -999.0,9,  -999.0,   3.379,3, -999.00,9,-999.0000,9, -999.00,9,  849.60,  -999.0,9,   4.8022,     27.146,    34.4656,2,     -999.0,9,     -999.0,9,     -999.0,     -999.0,9,     -999.0
33RO20110926,        A10,      76,          1,          9,      11706,2,20111020,       1154,   -30.0001,   -29.4990,       2262,   950.2,   4.1555,  34.3025,2,  34.3036,2,    216.3,2,   217.8,2,    27.9,2,    30.2,2,    0.01,2,   1.774,4,-999.000,9,-999.000,9,-999.000,9,     2187.3,2,  2294.2,2,  -999.0,9, -999.00,   7.6302,2,       25,-999.000,9,-999.0000,9, -999.00,9,  -999.0,9,  -999.0,-999.000,9, -999.00,9,-999.0000,9, -999.00,9,  950.20,  -999.0,9,   4.0831,     27.224,    34.4654,2,     -999.0,9,     -999.0,9,     -999.0,     -999.0,9,     -999.0
33RO20110926,        A10,      76,          1,          8,      11033,2,20111020,       1154,   -30.0001,   -29.4990,       2262,  1101.0,   3.5612,  34.3568,2,  34.3566,2,    204.3,2,   203.5,2,    38.8,2,    31.9,2,    0.01,2,   1.942,4,   1.637,2,   0.792,2,   0.274,2,-999.000000,9,  2305.3,2,  -999.0,9, -999.00,   7.6062,2,       25,-999.000,9,-999.0000,9, -999.00,9,  -999.0,9,  -999.0,   2.309,3, -999.00,9,-999.0000,9, -999.00,9, 1101.00,  -999.0,9,   3.4811,     27.326,    34.5186,2,     -999.0,9,     -999.0,9,     -999.0,     -999.0,9,     -999.0
33RO20110926,        A10,      76,          1,          7,      11705,2,20111020,       1154,   -30.0001,   -29.4990,       2262,  1249.6,   3.2499,  34.4599,2,  34.4608,2,    188.7,2,   189.4,2,    48.8,6,    32.5,6,    0.01,6,   2.049,4,-999.000,9,-999.000,9,-999.000,9,     2222.1,2,  2312.6,2,  -999.0,9, -999.00,   7.5834,2,       25,-999.000,9,-999.0000,9, -999.00,9,  -999.0,9,  -999.0,-999.000,9, -999.00,9,-999.0000,9, -999.00,9, 1249.60,  -999.0,9,   3.1603,     27.440,    34.6233,2,     -999.0,9,     -999.0,9,     -999.0,     -999.0,9,     -999.0
33RO20110926,        A10,      76,          1,          6,      11029,2,20111020,       1154,   -30.0001,   -29.4990,       2262,  1450.9,   3.0374,  34.5580,2,  34.5593,2,    187.1,2,   186.6,2,    53.6,2,    31.9,2,    0.01,2,   2.040,4,   0.411,2,   0.201,2,   0.090,2,     2226.3,2,  2320.1,6,  -999.0,9, -999.00,   7.5924,6,       25,-999.000,9,-999.0000,9, -999.00,9,  -999.0,9,  -999.0,   0.911,3, -999.00,9,-999.0000,9, -999.00,9, 1450.90,  -999.0,9,   2.9332,     27.539,    34.7223,2,     -999.0,9,     -999.0,9,     -999.0,     -999.0,9,     -999.0
33RO20110926,        A10,      76,          1,          5,      11704,2,20111020,       1154,   -30.0001,   -29.4990,       2262,  1651.2,   2.8743,  34.6655,2,  34.6653,2,    193.9,2,   194.2,2,    54.8,2,    30.0,2,    0.01,2,   1.946,4,-999.000,9,-999.000,9,-999.000,9,     2223.7,2,  2324.6,4,  -999.0,9, -999.00,   7.6154,2,       25,-999.000,9,-999.0000,9, -999.00,9,  -999.0,9,  -999.0,-999.000,9, -999.00,9,-999.0000,9, -999.00,9, 1651.20,  -999.0,9,   2.7550,     27.640,    34.8288,2,     -999.0,9,     -999.0,9,     -999.0,     -999.0,9,     -999.0
33RO20110926,        A10,      76,          1,          4,      11030,2,20111020,       1154,   -30.0001,   -29.4990,       2262,  1800.1,   2.8100,  34.7332,2,  34.7344,2,    203.5,2,   203.6,2,    52.9,2,    28.3,2,    0.01,2,   1.837,4,   0.075,2,   0.037,2,   0.013,2,-999.000000,9,  2325.4,4,  -999.0,9, -999.00,   7.6354,2,       25,-999.000,9,-999.0000,9, -999.00,9,  -999.0,9,  -999.0,   0.327,3, -999.00,9,-999.0000,9, -999.00,9, 1800.10,  -999.0,9,   2.6786,     27.702,    34.8982,2,     -999.0,9,     -999.0,9,     -999.0,     -999.0,9,     -999.0
33RO20110926,        A10,      76,          1,          3,      11703,2,20111020,       1154,   -30.0001,   -29.4990,       2262,  1952.7,   2.7560,  34.7835,2,  34.7828,2,    212.9,2,   213.9,2,    50.2,6,    26.7,6,    0.01,6,   1.730,4,-999.000,9,-999.000,9,-999.000,9,-999.000000,9,  2324.2,4,  -999.0,9, -999.00,   7.6485,2,       25,-999.000,9,-999.0000,9, -999.00,9,  -999.0,9,  -999.0,-999.000,9, -999.00,9,-999.0000,9, -999.00,9, 1952.70,  -999.0,9,   2.6118,     27.747,    34.9469,2,     -999.0,9,     -999.0,9,     -999.0,     -999.0,9,     -999.0
33RO20110926,        A10,      76,          1,          2,      11702,2,20111020,       1154,   -30.0001,   -29.4990,       2262,  2102.8,   2.7475,  34.8223,2,  34.8227,2,    221.9,2,   223.4,2,    46.9,2,    25.2,2,    0.01,2,   1.626,4,-999.000,9,-999.000,9,-999.000,9,-999.000000,9,  2331.8,2,  -999.0,9, -999.00,   7.6783,2,       25,-999.000,9,-999.0000,9, -999.00,9,  -999.0,9,  -999.0,-999.000,9, -999.00,9,-999.0000,9, -999.00,9, 2102.80,  -999.0,9,   2.5899,     27.779,    34.9869,6,     -999.0,9,     -999.0,9,     -999.0,     -999.0,9,     -999.0
33RO20110926,        A10,      76,          1,          1,      11701,2,20111020,       1154,   -30.0001,   -29.4990,       2262,  2261.0,   2.7538,  34.8548,2,  34.8589,2,    231.1,2,   231.3,2,    43.0,2,    23.8,2,    0.01,2,   1.526,4,   0.014,6,   0.009,6,   0.017,6,     2192.5,6,  2330.4,6,  -999.0,9, -999.00,   7.6974,6,       25,-999.000,9,-999.0000,9, -999.00,9,  -999.0,9,  -999.0,   0.156,3, -999.00,9,-999.0000,9, -999.00,9, 2261.00,  -999.0,9,   2.5814,     27.810,    35.0233,2,     -999.0,9,     -999.0,9,     -999.0,     -999.0,9,     -999.0