BOTTLE,20220815CCHSIOAMB
EXPOCODE,SECT_ID,STNNBR,CASTNO,SAMPNO,BTLNBR,BTLNBR_FLAG_W,DATE,TIME,LATITUDE,LONGITUDE,DEPTH,CTDPRS,CTDTMP,CTDSAL,CTDSAL_FLAG_W,SALNTY,SALNTY_FLAG_W,CTDOXY,CTDOXY_FLAG_W,OXYGEN,OXYGEN_FLAG_W,SILCAT,SILCAT_FLAG_W,NITRAT,NITRAT_FLAG_W,NITRIT,NITRIT_FLAG_W,PHSPHT,PHSPHT_FLAG_W,CFC-11,CFC-11_FLAG_W,CFC-12,CFC-12_FLAG_W,SF6,SF6_FLAG_W,TCARBN,TCARBN_FLAG_W,ALKALI,ALKALI_FLAG_W,PCO2,PCO2_FLAG_W,PCO2TMP,PH_SWS,PH_SWS_FLAG_W,PH_TMP,TRITUM,TRITUM_FLAG_W,HELIUM,HELIUM_FLAG_W,DELC13,DELC13_FLAG_W,DELC14,DELC14_FLAG_W,C14ERR,CCL4,CCL4_FLAG_W,DELO18,DELO18_FLAG_W,DOC,DOC_FLAG_W,TDN,TDN_FLAG_W,CTDRAW,14C-DOC,14C-DOC_FLAG_W,THETA,SIG0,SALTREF,SALTREF_FLAG_W,BLACKC,BLACKC_FLAG_W,PIGMENTS,PIGMENTS_FLAG_W,14C-DOCERR,13C-DOC,13C-DOC_FLAG_W,13C-DOCERR
,,,,,,,,,,,METERS,DBAR,ITS-90,PSS-78,,PSS-78,,UMOL/KG,,UMOL/KG,,UMOL/KG,,UMOL/KG,,UMOL/KG,,UMOL/KG,,PMOL/KG,,PMOL/KG,,FMOL/KG,,UMOL/KG,,UMOL/KG,,UATM,,DEG C,,,DEG C,TU,,NMOL/KG,,/MILLE,,/MILLE,,/MILLE,PMOL/KG,,/MILLE,,UMOL/KG,,UMOL/KG,,DBAR,/MILLE,,DEG C,KG/M^3,G/KG,,,,,,/MILLE,/MILLE,,/MILLE
33RO20110926,        A10,      20,          1,         24,      11714,4,20111003,       0643,   -29.7494,     5.0006,       5059,    20.0,  16.9739,  35.6213,2,  35.6208,2,    251.3,2,   250.7,2,     2.0,2,     0.0,2,    0.01,2,   0.159,4,   2.521,6,   1.499,6,   1.485,6,       2071,6,  2344.3,6,  -999.0,9, -999.00,   7.9724,6,       25,-999.000,9,-999.0000,9, -999.00,9,  -999.0,9,  -999.0,   3.175,3, -999.00,9,-999.0000,9, -999.00,9,   20.00,  -999.0,9,  16.9706,     25.998,    35.7888,2,     -999.0,9,     -999.0,1,     -999.0,     -999.0,9,     -999.0
33RO20110926,        A10,      20,          1,         22,      11712,4,20111003,       0643,   -29.7494,     5.0006,       5059,    75.5,  16.2931,  35.6693,2,  35.6688,2,    240.6,2,   242.4,2,     2.2,2,     1.0,2,    0.49,2,   0.212,4,   2.524,2,   1.502,2,   1.479,2,     2075.8,2,  -999.0,9,  -999.0,9, -999.00,-999.0000,9,  -999.00,-999.000,9,-999.0000,9, -999.00,9,  -999.0,9,  -999.0,   2.528,3, -999.00,9,-999.0000,9, -999.00,9,   75.50,  -999.0,9,  16.2810,     26.197,    35.8370,2,     -999.0,9,     -999.0,9,     -999.0,     -999.0,9,     -999.0
33RO20110926,        A10,      20,          1,         23,      11713,4,20111003,       0643,   -29.7494,     5.0006,       5059,    75.6,  16.2945,  35.6694,2,  35.6686,2,    240.7,2,   243.7,2,     2.2,2,     0.9,2,    0.48,2,   0.205,4,   2.517,2,   1.507,2,   1.504,2,-999.000000,9,  2338.9,2,  -999.0,9, -999.00,   7.9659,2,       25,-999.000,9,-999.0000,9, -999.00,9,  -999.0,9,  -999.0,   2.518,3, -999.00,9,-999.0000,9, -999.00,9,   75.60,  -999.0,9,  16.2823,     26.196,    35.8368,2,     -999.0,9,     -999.0,1,     -999.0,     -999.0,9,     -999.0
33RO20110926,        A10,      20,          1,         21,      11010,2,20111003,       0643,   -29.7494,     5.0006,       5059,   125.0,  16.0689,  35.6412,2,  35.6459,2,    233.3,2,   237.6,2,     2.3,2,     1.5,2,    0.60,2,   0.258,4,   2.530,2,   1.509,2,   1.478,2,     2082.1,2,  2338.3,2,  -999.0,9, -999.00,   7.9499,2,       25,-999.000,9,-999.0000,9, -999.00,9,  -999.0,9,  -999.0,   2.163,3, -999.00,9,-999.0000,9, -999.00,9,  125.00,  -999.0,9,  16.0490,     26.233,    35.8140,2,     -999.0,9,     -999.0,1,     -999.0,     -999.0,9,     -999.0
33RO20110926,        A10,      20,          1,         20,      11715,2,20111003,       0643,   -29.7494,     5.0006,       5059,   244.7,  12.8938,  35.1477,2,  35.1469,2,    216.4,2,   215.2,2,     4.1,2,    10.1,2,    0.01,2,   0.698,4,   3.008,2,   1.712,2,   1.311,2,     2117.5,2,  2316.8,2,  -999.0,9, -999.00,   7.8377,2,       25,-999.000,9,-999.0000,9, -999.00,9,  -999.0,9,  -999.0,   0.922,3, -999.00,9,-999.0000,9, -999.00,9,  244.70,  -999.0,9,  12.8602,     26.535,    35.3126,2,     -999.0,9,     -999.0,9,     -999.0,     -999.0,9,     -999.0
33RO20110926,        A10,      20,          1,         19,      11007,2,20111003,       0643,   -29.7494,     5.0006,       5059,   364.9,  10.8571,  34.8971,2,  34.8910,2,    198.0,2,   198.2,2,     6.8,6,    16.7,6,    0.01,6,   1.053,4,   3.144,2,   1.728,2,   1.134,2,-999.000000,9,  2301.8,2,  -999.0,9, -999.00,   7.7546,2,       25,-999.000,9,-999.0000,9, -999.00,9,  -999.0,9,  -999.0,   1.125,3, -999.00,9,-999.0000,9, -999.00,9,  364.90,  -999.0,9,  10.8122,     26.725,    35.0556,2,     -999.0,9,     -999.0,9,     -999.0,     -999.0,9,     -999.0
33RO20110926,        A10,      20,          1,         18,      11710,2,20111003,       0643,   -29.7494,     5.0006,       5059,   484.3,   8.7304,  34.6594,2,  34.6573,2,    181.1,2,     177,2,    12.8,2,    23.6,2,    0.00,2,   1.482,4,   2.937,2,   1.559,2,   0.935,2,     2174.1,4,  2295.5,2,  -999.0,9, -999.00,   7.6675,2,       25,-999.000,9,-999.0000,9, -999.00,9,  -999.0,9,  -999.0,   1.107,3, -999.00,9,-999.0000,9, -999.00,9,  484.30,  -999.0,9,   8.6781,     26.901,    34.8208,2,     -999.0,9,     -999.0,9,     -999.0,     -999.0,9,     -999.0
33RO20110926,        A10,      20,          1,         17,      11023,2,20111003,       0643,   -29.7494,     5.0006,       5059,   609.9,   6.2888,  34.4175,2,  34.4187,2,    214.1,2,     201,2,    17.5,2,    27.5,2,    0.00,2,   1.702,4,   2.979,2,   1.517,2,   0.756,2,-999.000000,9,  2291.5,2,  -999.0,9, -999.00,   7.6485,2,       25,-999.000,9,-999.0000,9, -999.00,9,  -999.0,9,  -999.0,   2.116,3, -999.00,9,-999.0000,9, -999.00,9,  609.90,  -999.0,9,   6.2338,     27.063,    34.5810,2,     -999.0,9,     -999.0,9,     -999.0,     -999.0,9,     -999.0
33RO20110926,        A10,      20,          1,         16,      11709,2,20111003,       0643,   -29.7494,     5.0006,       5059,   759.8,   4.7187,  34.3512,2,  34.3515,2,    202.3,2,   200.5,2,    27.0,2,    30.7,2,    0.00,2,   1.933,4,   2.355,2,   1.158,2,   0.515,2,     2194.6,2,  2293.6,2,  -999.0,9, -999.00,   7.6112,2,       25,-999.000,9,-999.0000,9, -999.00,9,  -999.0,9,  -999.0,   2.113,3, -999.00,9,-999.0000,9, -999.00,9,  759.80,  -999.0,9,   4.6585,     27.199,    34.5135,2,     -999.0,9,     -999.0,9,     -999.0,     -999.0,9,     -999.0
33RO20110926,        A10,      20,          1,         15,      11006,2,20111003,       0643,   -29.7494,     5.0006,       5059,   909.6,   4.0218,  34.3918,2,  34.3934,2,    187.4,2,   186.6,2,    37.5,2,    32.7,2,    0.00,2,   2.091,4,   1.454,2,   0.695,2,   0.234,2,-999.000000,9,  2303.5,2,  -999.0,9, -999.00,   7.5871,2,       25,-999.000,9,-999.0000,9, -999.00,9,  -999.0,9,  -999.0,   1.421,3, -999.00,9,-999.0000,9, -999.00,9,  909.60,  -999.0,9,   3.9536,     27.308,    34.5556,2,     -999.0,9,     -999.0,9,     -999.0,     -999.0,9,     -999.0
33RO20110926,        A10,      20,          1,         14,      11708,2,20111003,       0643,   -29.7494,     5.0006,       5059,  1059.6,   3.4570,  34.4580,2,  34.4582,2,    182.3,2,     182,2,    48.8,6,    33.3,6,    0.00,6,   2.164,4,   0.915,2,   0.430,2,   0.114,2,     2227.3,2,  2315.9,2,  -999.0,9, -999.00,   7.5741,2,       25,-999.000,9,-999.0000,9, -999.00,9,  -999.0,9,  -999.0,   1.065,3, -999.00,9,-999.0000,9, -999.00,9, 1059.60,  -999.0,9,   3.3808,     27.417,    34.6207,2,     -999.0,9,     -999.0,9,     -999.0,     -999.0,9,     -999.0
33RO20110926,        A10,      20,          1,         13,      11031,2,20111003,       0643,   -29.7494,     5.0006,       5059,  1209.2,   3.2414,  34.5529,2,  34.5527,2,    178.9,2,   178.3,2,    52.7,2,    32.6,2,    0.00,2,   2.142,4,   0.428,2,   0.196,2,   0.066,2,     2233.6,2,  2323.6,6,  -999.0,9, -999.00,   7.5834,6,       25,-999.000,9,-999.0000,9, -999.00,9,  -999.0,9,  -999.0,   0.567,3, -999.00,9,-999.0000,9, -999.00,9, 1209.20,  -999.0,9,   3.1550,     27.514,    34.7156,2,     -999.0,9,     -999.0,9,     -999.0,     -999.0,9,     -999.0
33RO20110926,        A10,      20,          1,         12,      11027,2,20111003,       0643,   -29.7494,     5.0006,       5059,  1549.6,   3.1159,  34.7343,2,  34.7334,2,    194.8,2,   194.4,2,    48.3,6,    28.9,6,    0.00,6,   1.885,4,   0.084,2,   0.040,2,   0.000,2,     2219.4,2,  2328.6,2,  -999.0,9, -999.00,   7.6244,2,       25,-999.000,9,-999.0000,9, -999.00,9,  -999.0,9,  -999.0,   0.163,3, -999.00,9,-999.0000,9, -999.00,9, 1549.60,  -999.0,9,   3.0021,     27.672,    34.8972,2,     -999.0,9,     -999.0,9,     -999.0,     -999.0,9,     -999.0
33RO20110926,        A10,      20,          1,         11,      11707,2,20111003,       0643,   -29.7494,     5.0006,       5059,  1850.2,   3.0026,  34.8178,2,  34.8197,2,    212.5,2,   213.2,2,    44.1,2,    26.1,2,    0.00,2,   1.697,4,   0.029,2,   0.014,2,   0.000,2,-999.000000,9,  2325.2,2,  -999.0,9, -999.00,   7.6673,2,       25,-999.000,9,-999.0000,9, -999.00,9,  -999.0,9,  -999.0,   0.078,3, -999.00,9,-999.0000,9, -999.00,9, 1850.20,  -999.0,9,   2.8638,     27.754,    34.9839,2,     -999.0,9,     -999.0,9,     -999.0,     -999.0,9,     -999.0
33RO20110926,        A10,      20,          1,         10,      11003,2,20111003,       0643,   -29.7494,     5.0006,       5059,  2149.8,   2.8538,  34.8487,2,  34.8506,2,    222.9,2,   223.1,2,    44.1,2,    24.9,2,    0.00,2,   1.612,4,   0.014,2,   0.007,2,   0.000,2,     2201.9,2,  2329.6,2,  -999.0,9, -999.00,   7.6833,2,       25,-999.000,9,-999.0000,9, -999.00,9,  -999.0,9,  -999.0,   0.053,3, -999.00,9,-999.0000,9, -999.00,9, 2149.80,  -999.0,9,   2.6901,     27.793,    35.0149,6,     -999.0,9,     -999.0,9,     -999.0,     -999.0,9,     -999.0
33RO20110926,        A10,      20,          1,          9,      11706,2,20111003,       0643,   -29.7494,     5.0006,       5059,  2450.6,   2.6598,  34.8586,2,  34.8614,2,    229.4,2,   229.3,2,    46.2,2,    24.3,2,    0.00,2,   1.587,4,   0.007,2,   0.005,2,   0.000,2,-999.000000,9,  -999.0,5,  -999.0,9, -999.00,   7.6954,2,       25,-999.000,9,-999.0000,9, -999.00,9,  -999.0,9,  -999.0,   0.037,3, -999.00,9,-999.0000,9, -999.00,9, 2450.60,  -999.0,9,   2.4711,     27.822,    35.0258,2,     -999.0,9,     -999.0,9,     -999.0,     -999.0,9,     -999.0
33RO20110926,        A10,      20,          1,          8,      11033,2,20111003,       0643,   -29.7494,     5.0006,       5059,  2750.3,   2.4692,  34.8511,2,  34.8522,2,    230.6,2,   229.4,2,    51.7,2,    24.5,2,    0.00,2,   1.622,4,   0.010,2,   0.006,2,   0.000,2,-999.000000,9,  2338.5,2,  -999.0,9, -999.00,   7.6895,2,       25,-999.000,9,-999.0000,9, -999.00,9,  -999.0,9,  -999.0,   0.040,3, -999.00,9,-999.0000,9, -999.00,9, 2750.30,  -999.0,9,   2.2552,     27.832,    35.0166,2,     -999.0,9,     -999.0,9,     -999.0,     -999.0,9,     -999.0
33RO20110926,        A10,      20,          1,          7,      11705,2,20111003,       0643,   -29.7494,     5.0006,       5059,  3051.3,   2.3733,  34.8580,2,  34.8585,2,    232.5,2,   233.4,2,    52.9,2,    24.2,2,    0.00,2,   1.613,4,   0.007,2,   0.004,2,   0.000,2,     2206.9,2,  2345.1,2,  -999.0,9, -999.00,   7.6965,2,       25,-999.000,9,-999.0000,9, -999.00,9,  -999.0,9,  -999.0,   0.033,3, -999.00,9,-999.0000,9, -999.00,9, 3051.30,  -999.0,9,   2.1313,     27.848,    35.0229,2,     -999.0,9,     -999.0,9,     -999.0,     -999.0,9,     -999.0
33RO20110926,        A10,      20,          1,          6,      11029,2,20111003,       0643,   -29.7494,     5.0006,       5059,  3547.7,   2.2247,  34.8528,2,  34.8544,2,    231.4,2,   230.6,2,    58.4,6,    24.9,6,    0.00,6,   1.647,4,   0.009,2,   0.005,2,   0.000,2,-999.000000,9,  2350.9,2,  -999.0,9, -999.00,   7.6985,2,       25,-999.000,9,-999.0000,9, -999.00,9,  -999.0,9,  -999.0,   0.032,3, -999.00,9,-999.0000,9, -999.00,9, 3547.70,  -999.0,9,   1.9343,     27.860,    35.0187,2,     -999.0,9,     -999.0,9,     -999.0,     -999.0,9,     -999.0
33RO20110926,        A10,      20,          1,          5,      11704,2,20111003,       0643,   -29.7494,     5.0006,       5059,  3700.2,   2.0960,  34.8374,2,  34.8365,2,    229.2,2,   227.9,2,    64.4,2,    25.6,2,    0.00,2,   1.719,4,   0.013,2,   0.007,2,   0.000,2,     2219.5,2,  2350.6,2,  -999.0,9, -999.00,   7.6893,2,       25,-999.000,9,-999.0000,9, -999.00,9,  -999.0,9,  -999.0,   0.043,3, -999.00,9,-999.0000,9, -999.00,9, 3700.20,  -999.0,9,   1.7925,     27.857,    35.0008,2,     -999.0,9,     -999.0,9,     -999.0,     -999.0,9,     -999.0
33RO20110926,        A10,      20,          1,          4,      11030,2,20111003,       0643,   -29.7494,     5.0006,       5059,  4100.3,   1.5115,  34.7753,2,  34.7748,2,    220.8,2,   220.7,2,   102.3,3,    30.2,3,    0.00,3,   2.124,4,   0.035,2,   0.018,2,   0.000,2,-999.000000,9,  2361.6,2,  -999.0,9, -999.00,   7.6553,2,       25,-999.000,9,-999.0000,9, -999.00,9,  -999.0,9,  -999.0,   0.099,3, -999.00,9,-999.0000,9, -999.00,9, 4100.30,  -999.0,9,   1.1807,     27.852,    34.9387,2,     -999.0,9,     -999.0,9,     -999.0,     -999.0,9,     -999.0
33RO20110926,        A10,      20,          1,          3,      11703,2,20111003,       0643,   -29.7494,     5.0006,       5059,  4498.8,   1.1911,  34.7426,2,  34.7435,2,    217.0,2,   218.8,2,   101.8,2,    30.2,2,    0.00,2,   2.124,4,   0.058,2,   0.028,2,   0.000,2,       2251,2,  2368.8,2,  -999.0,9, -999.00,   7.6404,2,       25,-999.000,9,-999.0000,9, -999.00,9,  -999.0,9,  -999.0,   0.133,3, -999.00,9,-999.0000,9, -999.00,9, 4498.80,  -999.0,9,   0.8254,     27.851,    34.9073,2,     -999.0,9,     -999.0,9,     -999.0,     -999.0,9,     -999.0
33RO20110926,        A10,      20,          1,          2,      11702,2,20111003,       0643,   -29.7494,     5.0006,       5059,  4850.6,   1.1669,  34.7365,2,  34.7370,2,    216.2,2,     217,2,   104.4,2,    30.6,2,    0.00,2,   2.151,4,   0.064,2,   0.031,2,   0.035,4,-999.000000,9,    2371,2,  -999.0,9, -999.00,   7.6374,2,       25,-999.000,9,-999.0000,9, -999.00,9,  -999.0,9,  -999.0,   0.147,3, -999.00,9,-999.0000,9, -999.00,9, 4850.60,  -999.0,9,   0.7613,     27.850,    34.9008,2,     -999.0,9,     -999.0,9,     -999.0,     -999.0,9,     -999.0
33RO20110926,        A10,      20,          1,          1,      11701,2,20111003,       0643,   -29.7494,     5.0006,       5059,  5166.8,   1.1891,  34.7345,2,  34.7374,2,    216.0,2,   217.5,2,   105.1,6,    30.6,6,    0.00,6,   2.158,4,   0.074,6,   0.035,6,   0.000,6,     2254.8,6,  2370.6,6,  -999.0,9, -999.00,   7.6423,6,       25,-999.000,9,-999.0000,9, -999.00,9,  -999.0,9,  -999.0,   0.158,3, -999.00,9,-999.0000,9, -999.00,9, 5166.80,  -999.0,9,   0.7448,     27.851,    34.9012,2,     -999.0,9,     -999.0,9,     -999.0,     -999.0,9,     -999.0