BOTTLE,20220815CCHSIOAMB
EXPOCODE,SECT_ID,STNNBR,CASTNO,SAMPNO,BTLNBR,BTLNBR_FLAG_W,DATE,TIME,LATITUDE,LONGITUDE,DEPTH,CTDPRS,CTDTMP,CTDSAL,CTDSAL_FLAG_W,SALNTY,SALNTY_FLAG_W,CTDOXY,CTDOXY_FLAG_W,OXYGEN,OXYGEN_FLAG_W,SILCAT,SILCAT_FLAG_W,NITRAT,NITRAT_FLAG_W,NITRIT,NITRIT_FLAG_W,PHSPHT,PHSPHT_FLAG_W,CFC-11,CFC-11_FLAG_W,CFC-12,CFC-12_FLAG_W,SF6,SF6_FLAG_W,TCARBN,TCARBN_FLAG_W,ALKALI,ALKALI_FLAG_W,PCO2,PCO2_FLAG_W,PCO2TMP,PH_SWS,PH_SWS_FLAG_W,PH_TMP,TRITUM,TRITUM_FLAG_W,HELIUM,HELIUM_FLAG_W,DELC13,DELC13_FLAG_W,DELC14,DELC14_FLAG_W,C14ERR,CCL4,CCL4_FLAG_W,DELO18,DELO18_FLAG_W,DOC,DOC_FLAG_W,TDN,TDN_FLAG_W,CTDRAW,14C-DOC,14C-DOC_FLAG_W,THETA,SIG0,SALTREF,SALTREF_FLAG_W,BLACKC,BLACKC_FLAG_W,PIGMENTS,PIGMENTS_FLAG_W,14C-DOCERR,13C-DOC,13C-DOC_FLAG_W,13C-DOCERR
,,,,,,,,,,,METERS,DBAR,ITS-90,PSS-78,,PSS-78,,UMOL/KG,,UMOL/KG,,UMOL/KG,,UMOL/KG,,UMOL/KG,,UMOL/KG,,PMOL/KG,,PMOL/KG,,FMOL/KG,,UMOL/KG,,UMOL/KG,,UATM,,DEG C,,,DEG C,TU,,NMOL/KG,,/MILLE,,/MILLE,,/MILLE,PMOL/KG,,/MILLE,,UMOL/KG,,UMOL/KG,,DBAR,/MILLE,,DEG C,KG/M^3,G/KG,,,,,,/MILLE,/MILLE,,/MILLE
33RO20110926,        A10,       9,          3,         24,      11714,2,20110929,       1942,   -29.7514,    11.3256,       4144,     4.5,  16.7567,  35.6110,2,  35.6118,2,    246.5,2,     247,2,     2.6,2,     0.9,4,    0.11,2,   0.200,2,   2.473,6,   1.482,6,   1.474,6,     2065.9,6,  2337.8,2,  -999.0,9, -999.00,    7.988,2,       25,-999.000,9,-999.0000,9,    0.78,2,    46.0,2,     3.6,   2.550,3, -999.00,9,  60.0878,2,    5.85,2,    4.50,  -999.0,9,  16.7559,     26.042,    35.7797,2,     -999.0,9,     -999.0,1,     -999.0,     -999.0,9,     -999.0
33RO20110926,        A10,       9,          3,         23,      11713,2,20110929,       1942,   -29.7514,    11.3256,       4144,    44.8,  16.7249,  35.6084,2,  35.6092,2,    247.7,2,   246.5,2,     2.6,2,     0.9,4,    0.11,2,   0.206,2,   2.453,2,   1.485,2,   1.522,2,     2064.9,2,    2339,6,  -999.0,9, -999.00,   7.9674,6,       25,-999.000,9,-999.0000,9, -999.00,9,  -999.0,9,  -999.0,   2.356,3, -999.00,9,  58.7512,2,    5.58,2,   44.80,  -999.0,9,  16.7176,     26.046,    35.7772,2,     -999.0,9,     -999.0,1,     -999.0,     -999.0,9,     -999.0
33RO20110926,        A10,       9,          3,         22,      11712,2,20110929,       1942,   -29.7514,    11.3256,       4144,   145.6,  16.0848,  35.6046,2,  35.6045,2,    236.6,2,   238.5,2,     2.4,2,     1.8,4,    0.78,2,   0.299,2,   2.510,2,   1.508,2,   1.514,2,     2082.9,2,  2339.2,2,  -999.0,9, -999.00,   7.9529,2,       25,-999.000,9,-999.0000,9, -999.00,9,  -999.0,9,  -999.0,   2.070,3, -999.00,9,  57.0146,2,    5.53,2,  145.60,  -999.0,9,  16.0616,     26.199,    35.7724,2,     -999.0,9,     -999.0,9,     -999.0,     -999.0,9,     -999.0
33RO20110926,        A10,       9,          3,         21,      11010,2,20110929,       1942,   -29.7514,    11.3256,       4144,   195.3,  15.5741,  35.5049,2,  35.5144,2,    229.1,2,   228.2,2,     3.0,2,     4.0,4,    0.03,2,   0.401,2,   2.569,2,   1.522,2,   1.462,2,     2089.3,2,  -999.0,5,  -999.0,9, -999.00,-999.0000,5,  -999.00,-999.000,9,-999.0000,9, -999.00,9,  -999.0,9,  -999.0,   1.482,3, -999.00,9,  55.1707,2,    7.29,2,  195.30,  -999.0,9,  15.5436,     26.235,    35.6818,2,     -999.0,9,     -999.0,9,     -999.0,     -999.0,9,     -999.0
33RO20110926,        A10,       9,          3,         20,      11715,2,20110929,       1942,   -29.7514,    11.3256,       4144,   260.3,  14.0487,  35.2835,2,  35.2857,2,    226.9,2,   223.4,2,     3.2,2,     6.8,4,    0.01,2,   0.578,2,   2.771,2,   1.632,2,   1.436,2,       2108,2,  2321.4,2,  -999.0,9, -999.00,   7.8697,2,       25,-999.000,9,-999.0000,9, -999.00,9,  -999.0,9,  -999.0,   1.093,3, -999.00,9,  49.9707,2, -999.00,9,  260.30,  -999.0,9,  14.0108,     26.405,    35.4521,2,     -999.0,9,     -999.0,9,     -999.0,     -999.0,9,     -999.0
33RO20110926,        A10,       9,          3,         19,      11007,2,20110929,       1942,   -29.7514,    11.3256,       4144,   345.6,  12.4234,  35.0908,2,  35.0930,2,    218.0,2,   218.5,2,     4.2,6,    11.0,4,    0.01,6,   0.818,6,   3.036,2,   1.745,2,   1.322,2,     2122.6,2,  2306.4,2,  -999.0,9, -999.00,   7.8086,2,       25,-999.000,9,-999.0000,9, -999.00,9,  -999.0,9,  -999.0,   0.915,3, -999.00,9,  48.5951,2, -999.00,9,  345.60,  -999.0,9,  12.3770,     26.585,    35.2585,2,     -999.0,9,     -999.0,9,     -999.0,     -999.0,9,     -999.0
33RO20110926,        A10,       9,          3,         17,      11023,2,20110929,       1942,   -29.7514,    11.3256,       4144,   480.4,   9.9727,  34.7824,2,  34.7851,2,    217.6,2,   218.3,2,     5.9,6,    16.9,4,    0.01,6,   1.166,6,-999.000,9,-999.000,9,-999.000,9,     2141.1,2,  2297.7,2,  -999.0,9, -999.00,   7.7586,2,       25,-999.000,9,-999.0000,9, -999.00,9,  -999.0,9,  -999.0,-999.000,9, -999.00,9,  44.7707,2, -999.00,9,  480.40,  -999.0,9,   9.9164,     26.799,    34.9492,2,     -999.0,9,     -999.0,9,     -999.0,     -999.0,9,     -999.0
33RO20110926,        A10,       9,          3,         18,      11710,2,20110929,       1942,   -29.7514,    11.3256,       4144,   479.9,   9.9855,  34.7837,2,  34.7898,2,    217.8,2,   218.2,2,     5.8,2,    16.4,4,    0.01,2,   1.167,2,   3.271,2,   1.819,2,   1.293,2,     2143.3,2,  -999.0,9,  -999.0,9, -999.00,-999.0000,9,  -999.00,-999.000,9,-999.0000,9, -999.00,9,  -999.0,9,  -999.0,   1.232,3, -999.00,9,-999.0000,5, -999.00,9,  479.90,  -999.0,9,   9.9292,     26.806,    34.9539,2,     -999.0,9,     -999.0,9,     -999.0,     -999.0,9,     -999.0
33RO20110926,        A10,       9,          3,         16,      11709,2,20110929,       1942,   -29.7514,    11.3256,       4144,   589.3,   7.8044,  34.5509,2,  34.5521,2,    206.8,2,     206,2,    13.1,2,    23.1,4,    0.00,2,   1.605,2,   3.086,2,   1.620,2,   0.898,2,     2165.2,2,  2291.8,2,  -999.0,9, -999.00,   7.6915,2,       25,-999.000,9,-999.0000,9, -999.00,9,  -999.0,9,  -999.0,   1.771,3, -999.00,9,     45.2,2, -999.00,9,  589.30,  -999.0,9,   7.7445,     26.960,    34.7150,2,     -999.0,9,     -999.0,9,     -999.0,     -999.0,9,     -999.0
33RO20110926,        A10,       9,          3,         15,      11006,2,20110929,       1942,   -29.7514,    11.3256,       4144,   699.5,   5.6225,  34.3688,2,  34.3700,2,    205.3,2,   206.3,2,    20.2,6,    28.9,4,    0.01,6,   1.939,6,   2.892,2,   1.499,2,   0.782,2,     2185.8,2,  2288.9,2,  -999.0,9, -999.00,   7.6324,2,       25,-999.000,9,-999.0000,9, -999.00,9,  -999.0,9,  -999.0,   2.222,3, -999.00,9,  40.8098,2, -999.00,9,  699.50,  -999.0,9,   5.5625,     27.110,    34.5321,2,     -999.0,9,     -999.0,9,     -999.0,     -999.0,9,     -999.0
33RO20110926,        A10,       9,          3,         14,      11708,2,20110929,       1942,   -29.7514,    11.3256,       4144,   850.2,   4.7293,  34.4168,2,  34.4162,2,    161.8,2,   162.2,2,    31.2,2,    33.2,4,    0.00,2,   2.305,2,   1.213,2,   0.600,2,   0.239,2,     2220.8,4,    2297,6,  -999.0,9, -999.00,   7.5533,6,       25,-999.000,9,-999.0000,9, -999.00,9,  -999.0,9,  -999.0,   1.119,3, -999.00,9,  40.9463,2, -999.00,9,  850.20,  -999.0,9,   4.6612,     27.250,    34.5785,2,     -999.0,9,     -999.0,9,     -999.0,     -999.0,9,     -999.0
33RO20110926,        A10,       9,          3,         13,      11031,2,20110929,       1942,   -29.7514,    11.3256,       4144,  1050.7,   3.9002,  34.4493,2,  34.4496,2,    170.5,2,   170.5,2,    40.9,6,    34.1,4,    0.01,6,   2.322,6,   0.701,2,   0.339,2,   0.109,2,     2227.9,2,  2304.4,2,  -999.0,9, -999.00,    7.538,2,       25,-999.000,9,-999.0000,9, -999.00,9,  -999.0,9,  -999.0,   0.769,3, -999.00,9,  41.0537,2, -999.00,9, 1050.70,  -999.0,9,   3.8212,     27.366,    34.6120,2,     -999.0,9,     -999.0,9,     -999.0,     -999.0,9,     -999.0
33RO20110926,        A10,       9,          3,         12,      11027,2,20110929,       1942,   -29.7514,    11.3256,       4144,  1200.7,   3.5143,  34.5314,2,  34.5311,2,    172.6,2,   172.7,2,    47.2,2,    32.2,4,    0.01,2,   2.278,2,   0.372,2,   0.176,2,   0.067,2,     2231.7,2,  2315.4,2,  -999.0,9, -999.00,   7.5631,2,       25,-999.000,9,-999.0000,9, -999.00,9,  -999.0,9,  -999.0,   0.468,3, -999.00,9,   41.561,2, -999.00,9, 1200.70,  -999.0,9,   3.4260,     27.471,    34.6939,2,     -999.0,9,     -999.0,9,     -999.0,     -999.0,9,     -999.0
33RO20110926,        A10,       9,          3,         11,      11707,2,20110929,       1942,   -29.7514,    11.3256,       4144,  1375.2,   3.3270,  34.6360,2,  34.6361,2,    179.8,2,   179.6,2,    48.5,2,    30.5,4,    0.01,2,   2.161,2,   0.163,2,   0.078,2,   0.000,2,     2228.9,2,  2317.5,2,  -999.0,9, -999.00,   7.5741,2,       25,-999.000,9,-999.0000,9, -999.00,9,  -999.0,9,  -999.0,   0.271,3, -999.00,9,  42.0098,2, -999.00,9, 1375.20,  -999.0,9,   3.2258,     27.573,    34.7995,6,     -999.0,9,     -999.0,9,     -999.0,     -999.0,9,     -999.0
33RO20110926,        A10,       9,          3,         10,      11003,2,20110929,       1942,   -29.7514,    11.3256,       4144,  1560.9,   3.2221,  34.7320,2,  34.7305,2,    191.9,2,   192.3,2,    46.6,2,    28.4,4,    0.01,2,   1.996,2,   0.066,2,   0.033,2,   0.000,2,       2220,2,  2325.1,2,  -999.0,9, -999.00,   7.6102,2,       25,-999.000,9,-999.0000,9, -999.00,9,  -999.0,9,  -999.0,   0.135,3, -999.00,9,   41.122,2, -999.00,9, 1560.90,  -999.0,9,   3.1061,     27.660,    34.8943,2,     -999.0,9,     -999.0,9,     -999.0,     -999.0,9,     -999.0
33RO20110926,        A10,       9,          3,          9,      11706,2,20110929,       1942,   -29.7514,    11.3256,       4144,  1830.9,   3.1600,  34.8194,2,  34.8198,2,    209.1,2,   210.9,2,    41.6,2,    25.8,4,    0.01,2,   1.793,2,   0.022,2,   0.013,2,   0.000,2,     2207.4,2,  2322.9,2,  -999.0,9, -999.00,   7.6433,2,       25,-999.000,9,-999.0000,9, -999.00,9,  -999.0,9,  -999.0,   0.099,3, -999.00,9,  41.4049,2, -999.00,9, 1830.90,  -999.0,9,   3.0208,     27.739,    34.9840,2,     -999.0,9,     -999.0,9,     -999.0,     -999.0,9,     -999.0
33RO20110926,        A10,       9,          3,          8,      11033,2,20110929,       1942,   -29.7514,    11.3256,       4144,  2100.3,   2.9623,  34.8548,2,  34.8544,2,    221.2,2,   221.8,2,    42.0,2,    24.3,4,    0.01,2,   1.687,2,   0.012,2,   0.007,2,   0.000,2,     2202.2,2,  2328.8,2,  -999.0,9, -999.00,   7.6785,2,       25,-999.000,9,-999.0000,9, -999.00,9,  -999.0,9,  -999.0,   0.052,3, -999.00,9,  42.0195,2, -999.00,9, 2100.30,  -999.0,9,   2.8014,     27.787,    35.0187,2,     -999.0,9,     -999.0,9,     -999.0,     -999.0,9,     -999.0
33RO20110926,        A10,       9,          3,          7,      11705,2,20110929,       1942,   -29.7514,    11.3256,       4144,  2399.9,   2.7983,  34.8721,2,  34.8733,2,    228.5,2,   228.7,2,    43.0,2,    23.4,4,    0.00,2,   1.630,2,   0.005,2,   0.004,2,   0.000,2,     2198.4,2,  2332.2,2,  -999.0,9, -999.00,   7.6925,2,       25,-999.000,9,-999.0000,9, -999.00,9,  -999.0,9,  -999.0,   0.036,3, -999.00,9,  40.1073,2, -999.00,9, 2399.90,  -999.0,9,   2.6120,     27.819,    35.0377,2,     -999.0,9,     -999.0,9,     -999.0,     -999.0,9,     -999.0
33RO20110926,        A10,       9,          3,          6,      11029,2,20110929,       1942,   -29.7514,    11.3256,       4144,  2699.4,   2.6206,  34.8667,2,  34.8680,2,    231.1,2,   231.3,2,    46.9,2,    23.4,4,    0.00,2,   1.636,2,   0.005,2,   0.003,2,   0.000,2,     2201.5,2,  2334.5,2,  -999.0,9, -999.00,   7.6915,2,       25,-999.000,9,-999.0000,9, -999.00,9,  -999.0,9,  -999.0,   0.031,3, -999.00,9,  40.5756,2, -999.00,9, 2699.40,  -999.0,9,   2.4085,     27.832,    35.0324,2,     -999.0,9,     -999.0,9,     -999.0,     -999.0,9,     -999.0
33RO20110926,        A10,       9,          3,          5,      11704,2,20110929,       1942,   -29.7514,    11.3256,       4144,  3001.0,   2.4780,  34.8628,2,  34.8629,2,    231.4,2,   231.5,2,    50.5,2,    23.6,4,    0.00,2,   1.647,2,   0.006,2,   0.004,2,   0.000,2,     2204.7,2,  2338.5,2,  -999.0,9, -999.00,   7.6813,2,       25,-999.000,9,-999.0000,9, -999.00,9,  -999.0,9,  -999.0,   0.029,3, -999.00,9,  41.5707,2, -999.00,9, 3001.00,  -999.0,9,   2.2388,     27.842,    35.0273,2,     -999.0,9,     -999.0,9,     -999.0,     -999.0,9,     -999.0
33RO20110926,        A10,       9,          3,          4,      11030,2,20110929,       1942,   -29.7514,    11.3256,       4144,  3301.6,   2.3634,  34.8591,2,  34.8599,2,    231.5,2,   230.9,2,    54.3,2,    23.6,4,    0.00,2,   1.666,2,   0.006,2,   0.004,2,   0.000,2,     2208.4,2,  2343.2,2,  -999.0,9, -999.00,   7.6843,2,       25,-999.000,9,-999.0000,9, -999.00,9,  -999.0,9,  -999.0,   0.032,3, -999.00,9,  42.6439,2, -999.00,9, 3301.60,  -999.0,9,   2.0957,     27.852,    35.0243,2,     -999.0,9,     -999.0,9,     -999.0,     -999.0,9,     -999.0
33RO20110926,        A10,       9,          3,          3,      11703,2,20110929,       1942,   -29.7514,    11.3256,       4144,  3601.3,   2.2580,  34.8531,2,  34.8540,2,    230.5,2,   231.5,2,    58.4,2,    24.0,4,    0.00,2,   1.688,2,   0.008,2,   0.005,2,   0.000,2,       2214,2,  2348.3,2,  -999.0,9, -999.00,   7.6899,6,       25,-999.000,9,-999.0000,9, -999.00,9,  -999.0,9,  -999.0,   0.034,3, -999.00,9,  40.3512,2, -999.00,9, 3601.30,  -999.0,9,   1.9609,     27.858,    35.0184,2,     -999.0,9,     -999.0,9,     -999.0,     -999.0,9,     -999.0
33RO20110926,        A10,       9,          3,          2,      11702,2,20110929,       1942,   -29.7514,    11.3256,       4144,  3902.0,   2.0258,  34.8283,2,  34.8297,2,    227.2,2,   226.3,2,    68.8,2,    25.1,4,    0.00,2,   1.778,2,   0.011,2,   0.008,2,   0.000,2,     2222.8,2,  2352.8,2,  -999.0,9, -999.00,   7.6795,2,       25,-999.000,9,-999.0000,9, -999.00,9,  -999.0,9,  -999.0,   0.041,3, -999.00,9,  41.5902,2, -999.00,9, 3902.00,  -999.0,9,   1.7021,     27.858,    34.9939,2,     -999.0,9,     -999.0,9,     -999.0,     -999.0,9,     -999.0
33RO20110926,        A10,       9,          3,          1,      11701,2,20110929,       1942,   -29.7514,    11.3256,       4144,  4207.2,   1.4467,  34.7696,2,  34.7717,2,    215.7,2,   217.1,2,    93.4,2,    27.9,4,    0.01,2,   2.004,2,   0.023,6,   0.014,6,   0.000,6,     2248.3,2,  2371.1,2,  -999.0,9, -999.00,   7.6535,2,       25,-999.000,9,-999.0000,9, -999.00,9,  -999.0,9,  -999.0,   0.079,3, -999.00,9,  40.8878,2, -999.00,9, 4207.20,  -999.0,9,   1.1058,     27.855,    34.9356,2,     -999.0,9,     -999.0,9,     -999.0,     -999.0,9,     -999.0