BOTTLE,20220815CCHSIOAMB
EXPOCODE,SECT_ID,STNNBR,CASTNO,SAMPNO,BTLNBR,BTLNBR_FLAG_W,DATE,TIME,LATITUDE,LONGITUDE,DEPTH,CTDPRS,CTDTMP,CTDSAL,CTDSAL_FLAG_W,SALNTY,SALNTY_FLAG_W,CTDOXY,CTDOXY_FLAG_W,OXYGEN,OXYGEN_FLAG_W,SILCAT,SILCAT_FLAG_W,NITRAT,NITRAT_FLAG_W,NITRIT,NITRIT_FLAG_W,PHSPHT,PHSPHT_FLAG_W,CFC-11,CFC-11_FLAG_W,CFC-12,CFC-12_FLAG_W,SF6,SF6_FLAG_W,TCARBN,TCARBN_FLAG_W,ALKALI,ALKALI_FLAG_W,PCO2,PCO2_FLAG_W,PCO2TMP,PH_SWS,PH_SWS_FLAG_W,PH_TMP,TRITUM,TRITUM_FLAG_W,HELIUM,HELIUM_FLAG_W,DELC13,DELC13_FLAG_W,DELC14,DELC14_FLAG_W,C14ERR,CCL4,CCL4_FLAG_W,DELO18,DELO18_FLAG_W,DOC,DOC_FLAG_W,TDN,TDN_FLAG_W,CTDRAW,14C-DOC,14C-DOC_FLAG_W,THETA,SIG0,SALTREF,SALTREF_FLAG_W,BLACKC,BLACKC_FLAG_W,PIGMENTS,PIGMENTS_FLAG_W,14C-DOCERR,13C-DOC,13C-DOC_FLAG_W,13C-DOCERR
,,,,,,,,,,,METERS,DBAR,ITS-90,PSS-78,,PSS-78,,UMOL/KG,,UMOL/KG,,UMOL/KG,,UMOL/KG,,UMOL/KG,,UMOL/KG,,PMOL/KG,,PMOL/KG,,FMOL/KG,,UMOL/KG,,UMOL/KG,,UATM,,DEG C,,,DEG C,TU,,NMOL/KG,,/MILLE,,/MILLE,,/MILLE,PMOL/KG,,/MILLE,,UMOL/KG,,UMOL/KG,,DBAR,/MILLE,,DEG C,KG/M^3,G/KG,,,,,,/MILLE,/MILLE,,/MILLE
33RO20110926,        A10,       5,          1,         24,      11714,2,20110928,       1844,   -29.0655,    13.5492,       2175,     4.8,  15.3413,  35.2039,2,  35.2048,2,    252.9,2,   256.6,2,     4.4,2,     3.9,2,    0.18,2,   0.421,2,   2.733,6,   1.612,6,   1.580,6,     2079.3,6,  2324.3,6,  -999.0,9, -999.00,   7.9319,6,       25,-999.000,9,-999.0000,9, -999.00,9,  -999.0,9,  -999.0,   2.983,3, -999.00,9,  56.4976,2,    7.24,2,    4.80,  -999.0,9,  15.3406,     26.056,    35.3708,2,     -999.0,9,     -999.0,1,     -999.0,     -999.0,9,     -999.0
33RO20110926,        A10,       5,          1,         23,      11713,2,20110928,       1844,   -29.0655,    13.5492,       2175,    30.4,  15.2031,  35.2088,2,  35.2122,2,    254.6,2,   256.3,2,     4.3,2,     3.8,2,    0.18,2,   0.416,2,   2.726,2,   1.608,2,   1.579,2,     2077.5,2,  2322.3,3,  -999.0,9, -999.00,   7.9369,2,       25,-999.000,9,-999.0000,9, -999.00,9,  -999.0,9,  -999.0,   2.961,3, -999.00,9,  54.8488,2,    7.32,2,   30.40,  -999.0,9,  15.1984,     26.092,    35.3783,2,     -999.0,9,     -999.0,1,     -999.0,     -999.0,9,     -999.0
33RO20110926,        A10,       5,          1,         22,      11712,2,20110928,       1844,   -29.0655,    13.5492,       2175,    74.1,  14.7185,  35.2960,2,  35.2966,2,    218.8,2,     231,2,     3.7,2,     6.2,2,    0.12,2,   0.567,2,   2.733,2,   1.605,2,   1.505,2,     2097.1,2,  2322.9,2,  -999.0,9, -999.00,   7.8887,2,       25,-999.000,9,-999.0000,9, -999.00,9,  -999.0,9,  -999.0,   2.051,3, -999.00,9,  53.0439,2,   10.40,2,   74.10,  -999.0,9,  14.7074,     26.262,    35.4630,2,     -999.0,9,     -999.0,1,     -999.0,     -999.0,9,     -999.0
33RO20110926,        A10,       5,          1,         21,      11010,2,20110928,       1844,   -29.0655,    13.5492,       2175,   100.3,  13.9827,  35.2452,2,  35.2511,2,    214.4,2,   215.3,2,     4.0,2,     8.0,2,    0.06,2,   0.675,2,   2.803,2,   1.621,2,   1.394,2,     2109.5,2,  2320.3,2,  -999.0,9, -999.00,-999.0000,5,  -999.00,-999.000,9,-999.0000,9, -999.00,9,  -999.0,9,  -999.0,   1.223,3, -999.00,9,  51.4927,2,   12.52,2,  100.30,  -999.0,9,  13.9683,     26.382,    35.4173,2,     -999.0,9,     -999.0,9,     -999.0,     -999.0,9,     -999.0
33RO20110926,        A10,       5,          1,         20,      11715,2,20110928,       1844,   -29.0655,    13.5492,       2175,   126.1,  13.2584,  35.1755,2,  35.1815,2,    216.0,2,   219.5,2,     3.1,6,     8.2,6,    0.04,6,   0.691,6,   2.945,2,   1.696,2,   1.417,2,     2113.1,2,  2315.6,2,  -999.0,9, -999.00,   7.8527,2,       25,-999.000,9,-999.0000,9, -999.00,9,  -999.0,9,  -999.0,   1.150,3, -999.00,9,  49.1122,3,   11.99,2,  126.10,  -999.0,9,  13.2409,     26.482,    35.3474,2,     -999.0,9,     -999.0,9,     -999.0,     -999.0,9,     -999.0
33RO20110926,        A10,       5,          1,         19,      11007,2,20110928,       1844,   -29.0655,    13.5492,       2175,   149.5,  12.7278,  35.0952,2,  35.0987,2,    208.6,2,   208.1,2,     4.2,6,    10.8,6,    0.04,6,   0.843,6,   2.989,2,   1.710,2,   1.398,2,     2125.2,2,  2311.1,2,  -999.0,9, -999.00,   7.8136,2,       25,-999.000,9,-999.0000,9, -999.00,9,  -999.0,9,  -999.0,   1.064,3, -999.00,9,  52.3902,2,   15.53,2,  149.50,  -999.0,9,  12.7076,     26.528,    35.2642,2,     -999.0,9,     -999.0,9,     -999.0,     -999.0,9,     -999.0
33RO20110926,        A10,       5,          1,         18,      11710,2,20110928,       1844,   -29.0655,    13.5492,       2175,   201.4,  11.6332,  34.9767,2,  34.9793,2,    199.3,2,   191.5,3,     6.6,6,    15.0,6,    0.03,6,   1.132,6,   3.055,2,   1.705,2,   1.217,2,     2144.6,2,  2302.4,3,  -999.0,9, -999.00,   7.7596,2,       25,-999.000,9,-999.0000,9, -999.00,9,  -999.0,9,  -999.0,   1.068,3, -999.00,9,  47.3659,2, -999.00,9,  201.40,  -999.0,9,  11.6075,     26.650,    35.1443,2,     -999.0,9,     -999.0,9,     -999.0,     -999.0,9,     -999.0
33RO20110926,        A10,       5,          1,         17,      11023,2,20110928,       1844,   -29.0655,    13.5492,       2175,   249.7,  10.6568,  34.8862,2,  34.8869,2,    150.0,2,   149.2,2,    11.4,6,    20.9,6,    0.02,6,   1.563,6,   2.855,2,   1.559,2,   0.967,2,       2182,2,  2300.5,2,  -999.0,9, -999.00,   7.6555,2,       25,-999.000,9,-999.0000,9, -999.00,9,  -999.0,9,  -999.0,   0.983,3, -999.00,9,  47.8049,2, -999.00,9,  249.70,  -999.0,9,  10.6266,     26.754,    35.0514,2,     -999.0,9,     -999.0,9,     -999.0,     -999.0,9,     -999.0
33RO20110926,        A10,       5,          1,         16,      11709,2,20110928,       1844,   -29.0655,    13.5492,       2175,   299.8,   9.7158,  34.7823,2,  34.7856,2,    148.8,2,     146,2,    13.5,2,    23.5,2,    0.02,2,   1.693,2,   2.786,2,   1.496,2,   0.875,2,     2190.4,2,    2296,2,  -999.0,9, -999.00,   7.6324,2,       25,-999.000,9,-999.0000,9, -999.00,9,  -999.0,9,  -999.0,   1.069,3, -999.00,9,  42.9659,2, -999.00,9,  299.80,  -999.0,9,   9.6815,     26.838,    34.9496,2,     -999.0,9,     -999.0,9,     -999.0,     -999.0,9,     -999.0
33RO20110926,        A10,       5,          1,         15,      11006,2,20110928,       1844,   -29.0655,    13.5492,       2175,   349.7,   9.2825,  34.7532,2,  34.7528,2,    115.5,2,   112.7,2,    15.9,2,    27.8,2,    0.01,2,   1.969,2,   2.396,2,   1.275,2,   0.694,2,     2214.8,3,  2290.8,2,  -999.0,9, -999.00,   7.5541,2,       25,-999.000,9,-999.0000,9, -999.00,9,  -999.0,9,  -999.0,   0.902,3, -999.00,9,  44.5366,2, -999.00,9,  349.70,  -999.0,9,   9.2435,     26.885,    34.9166,2,     -999.0,9,     -999.0,9,     -999.0,     -999.0,9,     -999.0
33RO20110926,        A10,       5,          1,         14,      11708,2,20110928,       1844,   -29.0655,    13.5492,       2175,   400.1,   8.4150,  34.6502,2,  34.6527,2,    137.1,2,     141,2,    15.9,2,    27.2,2,    0.01,2,   1.912,2,   2.532,2,   1.326,2,   0.719,2,     2201.9,2,  -999.0,5,  -999.0,9, -999.00,-999.0000,5,  -999.00,-999.000,9,-999.0000,9, -999.00,9,  -999.0,9,  -999.0,   1.170,3, -999.00,9,  57.3756,3, -999.00,9,  400.10,  -999.0,9,   8.3729,     26.944,    34.8161,2,     -999.0,9,     -999.0,9,     -999.0,     -999.0,9,     -999.0
33RO20110926,        A10,       5,          1,         13,      11031,2,20110928,       1844,   -29.0655,    13.5492,       2175,   450.8,   7.5463,  34.5716,2,  34.5726,2,    136.4,2,   142.6,2,    17.7,2,    29.3,2,    0.02,2,   2.031,2,   2.306,2,   1.193,2,   0.625,2,       2206,2,  2289.2,3,  -999.0,9, -999.00,   7.5673,2,       25,-999.000,9,-999.0000,9, -999.00,9,  -999.0,9,  -999.0,   1.243,3, -999.00,9,  41.4439,2, -999.00,9,  450.80,  -999.0,9,   7.5017,     27.015,    34.7356,2,     -999.0,9,     -999.0,9,     -999.0,     -999.0,9,     -999.0
33RO20110926,        A10,       5,          1,         12,      11027,2,20110928,       1844,   -29.0655,    13.5492,       2175,   499.8,   6.1680,  34.3970,2,  34.3990,2,    209.1,2,   211.3,2,    17.0,2,    26.3,2,    0.01,2,   1.833,2,   3.113,2,   1.612,2,   0.845,2,     2172.8,6,  2288.5,2,  -999.0,9, -999.00,   7.6403,4,       25,-999.000,9,-999.0000,9, -999.00,9,  -999.0,9,  -999.0,   2.235,3, -999.00,9,   40.322,2, -999.00,9,  499.80,  -999.0,9,   6.1238,     27.062,    34.5612,2,     -999.0,9,     -999.0,9,     -999.0,     -999.0,9,     -999.0
33RO20110926,        A10,       5,          1,         11,      11707,2,20110928,       1844,   -29.0655,    13.5492,       2175,   599.4,   4.9668,  34.3277,2,  34.3304,2,    215.3,2,   214.2,2,    23.1,2,    28.7,2,    0.01,2,   1.995,2,   2.862,2,   1.438,2,   0.688,2,     2182.4,2,  2290.1,6,  -999.0,9, -999.00,   7.6384,4,       25,-999.000,9,-999.0000,9, -999.00,9,  -999.0,9,  -999.0,   2.414,3, -999.00,9,  40.5073,2, -999.00,9,  599.40,  -999.0,9,   4.9189,     27.153,    34.4923,2,     -999.0,9,     -999.0,9,     -999.0,     -999.0,9,     -999.0
33RO20110926,        A10,       5,          1,         10,      11003,2,20110928,       1844,   -29.0655,    13.5492,       2175,   699.8,   4.3926,  34.3576,2,  34.3590,2,    191.0,2,   195.7,2,    31.3,2,    31.2,2,    0.00,2,   2.167,2,   2.005,2,   0.989,2,   0.470,2,       2202,2,  -999.0,5,  -999.0,9, -999.00,   7.4419,4,       25,-999.000,9,-999.0000,9, -999.00,9,  -999.0,9,  -999.0,   1.874,3, -999.00,9,-999.0000,9, -999.00,9,  699.80,  -999.0,9,   4.3393,     27.241,    34.5210,6,     -999.0,9,     -999.0,9,     -999.0,     -999.0,9,     -999.0
33RO20110926,        A10,       5,          1,          9,      11706,2,20110928,       1844,   -29.0655,    13.5492,       2175,   799.8,   4.1165,  34.4079,2,  34.4101,2,    176.2,2,   176.4,2,    37.2,2,    32.9,2,    0.00,2,   2.292,2,   1.135,2,   0.552,2,   0.203,2,     2218.3,2,    2295,2,  -999.0,9, -999.00,   7.5711,3,       25,-999.000,9,-999.0000,9, -999.00,9,  -999.0,9,  -999.0,   1.137,3, -999.00,9,   39.122,2, -999.00,9,  799.80,  -999.0,9,   4.0566,     27.311,    34.5723,2,     -999.0,9,     -999.0,9,     -999.0,     -999.0,9,     -999.0
33RO20110926,        A10,       5,          1,          8,      11033,2,20110928,       1844,   -29.0655,    13.5492,       2175,   909.7,   3.7915,  34.4658,2,  34.4672,2,    170.6,2,     171,2,    42.1,2,    33.1,2,    0.00,2,   2.317,2,   0.564,2,   0.270,2,   0.101,2,       2224,2,  2309.6,2,  -999.0,9, -999.00,   7.5671,2,       25,-999.000,9,-999.0000,9, -999.00,9,  -999.0,9,  -999.0,   0.634,3, -999.00,9,   36.878,2, -999.00,9,  909.70,  -999.0,9,   3.7248,     27.390,    34.6297,2,     -999.0,9,     -999.0,9,     -999.0,     -999.0,9,     -999.0
33RO20110926,        A10,       5,          1,          7,      11705,2,20110928,       1844,   -29.0655,    13.5492,       2175,  1029.4,   3.5626,  34.5117,2,  34.5138,2,    173.6,2,   173.6,2,    45.9,2,    32.6,2,    0.01,2,   2.288,2,   0.414,2,   0.197,2,   0.000,2,       2227,2,  2316.3,2,  -999.0,9, -999.00,   7.5743,2,       25,-999.000,9,-999.0000,9, -999.00,9,  -999.0,9,  -999.0,   0.481,3, -999.00,9,  40.1171,2, -999.00,9, 1029.40,  -999.0,9,   3.4880,     27.451,    34.6765,2,     -999.0,9,     -999.0,9,     -999.0,     -999.0,9,     -999.0
33RO20110926,        A10,       5,          1,          6,      11029,2,20110928,       1844,   -29.0655,    13.5492,       2175,  1225.0,   3.3314,  34.6391,2,  34.6403,2,    181.3,2,   182.1,2,    47.7,2,    30.7,2,    0.00,2,   2.138,2,   0.150,2,   0.071,2,   0.000,2,     2224.7,2,  2321.9,2,  -999.0,9, -999.00,   7.5984,2,       25,-999.000,9,-999.0000,9, -999.00,9,  -999.0,9,  -999.0,   0.213,3, -999.00,9,  39.7659,2, -999.00,9, 1225.00,  -999.0,9,   3.2426,     27.575,    34.8036,2,     -999.0,9,     -999.0,9,     -999.0,     -999.0,9,     -999.0
33RO20110926,        A10,       5,          1,          5,      11704,2,20110928,       1844,   -29.0655,    13.5492,       2175,  1440.9,   3.2302,  34.7451,2,  34.7464,2,    194.0,2,   194.8,2,    45.1,2,    28.0,2,    0.01,2,   1.963,2,   0.053,2,   0.026,2,   0.000,2,     2218.3,2,  2323.6,2,  -999.0,9, -999.00,   7.6274,2,       25,-999.000,9,-999.0000,9, -999.00,9,  -999.0,9,  -999.0,   0.087,3, -999.00,9,  38.5171,2, -999.00,9, 1440.90,  -999.0,9,   3.1243,     27.671,    34.9103,2,     -999.0,9,     -999.0,9,     -999.0,     -999.0,9,     -999.0
33RO20110926,        A10,       5,          1,          4,      11030,2,20110928,       1844,   -29.0655,    13.5492,       2175,  1680.5,   3.1927,  34.8235,2,  34.8255,2,    210.1,2,   210.8,2,    40.3,2,    25.6,2,    0.01,2,   1.782,2,   0.018,2,   0.010,2,   0.000,2,       2205,2,  2321.6,2,  -999.0,9, -999.00,   7.6475,2,       25,-999.000,9,-999.0000,9, -999.00,9,  -999.0,9,  -999.0,   0.041,3, -999.00,9,  38.7122,2, -999.00,9, 1680.50,  -999.0,9,   3.0664,     27.740,    34.9897,2,     -999.0,9,     -999.0,9,     -999.0,     -999.0,9,     -999.0
33RO20110926,        A10,       5,          1,          3,      11703,2,20110928,       1844,   -29.0655,    13.5492,       2175,  1928.9,   3.0977,  34.8610,2,  34.8628,2,    220.3,2,   220.1,2,    38.8,2,    24.3,2,    0.01,2,   1.684,2,   0.009,2,   0.005,2,   0.000,2,     2199.5,2,  2313.8,3,  -999.0,9, -999.00,   7.6813,2,       25,-999.000,9,-999.0000,9, -999.00,9,  -999.0,9,  -999.0,   0.027,3, -999.00,9,  39.4537,2, -999.00,9, 1928.90,  -999.0,9,   2.9504,     27.780,    35.0272,2,     -999.0,9,     -999.0,9,     -999.0,     -999.0,9,     -999.0
33RO20110926,        A10,       5,          1,          2,      11702,2,20110928,       1844,   -29.0655,    13.5492,       2175,  2200.5,   2.9266,  34.8727,2,  34.8752,2,    226.6,2,   226.4,3,    40.7,2,    23.6,2,    0.01,2,   1.633,2,   0.007,2,   0.005,2,   0.000,2,     2197.1,2,    2319,4,  -999.0,9, -999.00,   7.6924,2,       25,-999.000,9,-999.0000,9, -999.00,9,  -999.0,9,  -999.0,   0.020,3, -999.00,9,     41.6,2, -999.00,9, 2200.50,  -999.0,9,   2.7569,     27.808,    35.0397,2,     -999.0,9,     -999.0,9,     -999.0,     -999.0,9,     -999.0
33RO20110926,        A10,       5,          1,          1,      11701,2,20110928,       1844,   -29.0655,    13.5492,       2175,  2466.4,   2.7354,  34.8743,2,  34.8802,2,    229.2,2,   227.8,2,    44.6,2,    23.4,2,    0.01,2,   1.630,2,   0.005,6,   0.004,6,   0.000,6,     2201.2,6,  2335.2,2,  -999.0,9, -999.00,   7.6848,6,       25,-999.000,9,-999.0000,9, -999.00,9,  -999.0,9,  -999.0,   0.019,3, -999.00,9,  40.4683,2, -999.00,9, 2466.40,  -999.0,9,   2.5438,     27.830,    35.0446,2,     -999.0,9,     -999.0,9,     -999.0,     -999.0,9,     -999.0