BOTTLE,20220815CCHSIOAMB
EXPOCODE,SECT_ID,STNNBR,CASTNO,SAMPNO,BTLNBR,BTLNBR_FLAG_W,DATE,TIME,LATITUDE,LONGITUDE,DEPTH,CTDPRS,CTDTMP,CTDSAL,CTDSAL_FLAG_W,SALNTY,SALNTY_FLAG_W,CTDOXY,CTDOXY_FLAG_W,OXYGEN,OXYGEN_FLAG_W,SILCAT,SILCAT_FLAG_W,NITRAT,NITRAT_FLAG_W,NITRIT,NITRIT_FLAG_W,PHSPHT,PHSPHT_FLAG_W,CFC-11,CFC-11_FLAG_W,CFC-12,CFC-12_FLAG_W,SF6,SF6_FLAG_W,TCARBN,TCARBN_FLAG_W,ALKALI,ALKALI_FLAG_W,PCO2,PCO2_FLAG_W,PCO2TMP,PH_SWS,PH_SWS_FLAG_W,PH_TMP,TRITUM,TRITUM_FLAG_W,HELIUM,HELIUM_FLAG_W,DELC13,DELC13_FLAG_W,DELC14,DELC14_FLAG_W,C14ERR,CCL4,CCL4_FLAG_W,DELO18,DELO18_FLAG_W,DOC,DOC_FLAG_W,TDN,TDN_FLAG_W,CTDRAW,14C-DOC,14C-DOC_FLAG_W,THETA,SIG0,SALTREF,SALTREF_FLAG_W,BLACKC,BLACKC_FLAG_W,PIGMENTS,PIGMENTS_FLAG_W,14C-DOCERR,13C-DOC,13C-DOC_FLAG_W,13C-DOCERR
,,,,,,,,,,,METERS,DBAR,ITS-90,PSS-78,,PSS-78,,UMOL/KG,,UMOL/KG,,UMOL/KG,,UMOL/KG,,UMOL/KG,,UMOL/KG,,PMOL/KG,,PMOL/KG,,FMOL/KG,,UMOL/KG,,UMOL/KG,,UATM,,DEG C,,,DEG C,TU,,NMOL/KG,,/MILLE,,/MILLE,,/MILLE,PMOL/KG,,/MILLE,,UMOL/KG,,UMOL/KG,,DBAR,/MILLE,,DEG C,KG/M^3,G/KG,,,,,,/MILLE,/MILLE,,/MILLE
33RO20110926,        A10,      54,          1,         24,      11714,2,20111013,       1422,   -30.0000,   -13.6636,       2310,     4.1,  18.1832,  35.9727,2,  35.9736,2,    235.8,2,   236.2,2,     1.4,2,     0.0,2,    0.01,2,   0.146,2,   2.315,2,   1.397,2,   1.439,2,     2085.8,6,  2359.2,6,  -999.0,9, -999.00,    7.988,6,       25,-999.000,1,-999.0000,1, -999.00,9,  -999.0,9,  -999.0,   3.763,4, -999.00,1,  60.7512,2,    3.93,2,    4.10,  -999.0,9,  18.1825,     25.974,    36.1432,2,     -999.0,9,     -999.0,1,     -999.0,     -999.0,9,     -999.0
33RO20110926,        A10,      54,          1,         23,      11713,2,20111013,       1422,   -30.0000,   -13.6636,       2310,    39.7,  18.1539,  35.9734,2,  35.9734,2,    236.1,2,   236.4,2,     1.4,2,     0.1,2,    0.01,2,   0.148,2,   2.312,2,   1.400,2,   1.397,2,       2086,2,  2365.5,2,  -999.0,9, -999.00,   7.9879,2,       25,-999.000,1,-999.0000,1, -999.00,9,    47.2,2,     1.5,   3.017,4, -999.00,1,  63.9512,2,    4.39,2,   39.70,    -259,2,  18.1471,     25.981,    36.1431,2,     -999.0,9,     -999.0,9,          4,      -21.9,2,        0.2
33RO20110926,        A10,      54,          1,         22,      11712,2,20111013,       1422,   -30.0000,   -13.6636,       2310,   115.5,  17.1113,  35.8167,2,  35.8162,2,    232.7,2,   233.1,2,     1.6,2,     0.5,2,    0.21,2,   0.212,2,   2.456,2,   1.457,2,   1.448,2,     2090.3,2,  2352.7,2,  -999.0,9, -999.00,   7.9649,2,       25,-999.000,1,-999.0000,1, -999.00,9,  -999.0,9,  -999.0,   1.729,4, -999.00,1,  59.7268,2,    3.82,2,  115.50,  -999.0,9,  17.0921,     26.119,    35.9850,2,     -999.0,9,     -999.0,1,     -999.0,     -999.0,9,     -999.0
33RO20110926,        A10,      54,          1,         21,      11010,2,20111013,       1422,   -30.0000,   -13.6636,       2310,   150.3,  16.5463,  35.7102,2,  35.7115,2,    227.8,2,   228.6,2,     1.9,2,     1.9,2,    0.12,2,   0.293,2,   2.506,2,   1.489,2,   1.378,2,     2095.2,2,  2345.9,2,  -999.0,9, -999.00,   7.9459,2,       25,-999.000,1,-999.0000,1, -999.00,9,  -999.0,9,  -999.0,   1.676,4, -999.00,1,  56.1951,2,    5.39,2,  150.30,  -999.0,9,  16.5219,     26.171,    35.8799,2,     -999.0,9,     -999.0,1,     -999.0,     -999.0,9,     -999.0
33RO20110926,        A10,      54,          1,         20,      11715,2,20111013,       1422,   -30.0000,   -13.6636,       2310,   210.3,  14.7223,  35.4114,2,  35.4129,2,    218.5,2,   218.1,2,     2.6,6,     5.7,6,    0.02,6,   0.512,6,   2.761,2,   1.606,2,   1.393,2,     2108.8,2,  2331.2,2,  -999.0,9, -999.00,   7.8908,2,       25,-999.000,1,-999.0000,1, -999.00,9,    51.0,2,     1.6,   0.755,3, -999.00,1,  48.1073,2, -999.00,9,  210.30,    -332,2,  14.6907,     26.357,    35.5799,2,     -999.0,9,     -999.0,9,          4,      -21.1,2,        0.2
33RO20110926,        A10,      54,          1,         19,      11007,2,20111013,       1422,   -30.0000,   -13.6636,       2310,   289.3,  13.6570,  35.2597,2,  35.2595,2,    219.8,2,   218.5,2,     3.1,2,     7.5,2,    0.01,2,   0.633,2,   2.916,2,   1.675,2,   1.387,2,     2113.7,2,  2320.1,2,  -999.0,9, -999.00,   7.8647,2,       25,-999.000,1,-999.0000,1, -999.00,9,  -999.0,9,  -999.0,   0.796,3, -999.00,1,  50.7902,2, -999.00,9,  289.30,  -999.0,9,  13.6157,     26.468,    35.4258,2,     -999.0,9,     -999.0,9,     -999.0,     -999.0,9,     -999.0
33RO20110926,        A10,      54,          1,         18,      11710,2,20111013,       1422,   -30.0000,   -13.6636,       2310,   359.7,  12.6952,  35.1455,2,  35.1465,2,    216.7,2,     216,2,     3.8,2,    10.2,2,    0.01,2,   0.786,2,   3.029,2,   1.713,2,   1.322,2,     2122.5,2,  2312.3,2,  -999.0,9, -999.00,   7.8327,2,       25,-999.000,1,-999.0000,1, -999.00,9,  -999.0,9,  -999.0,   0.874,3, -999.00,1,   49.122,2, -999.00,9,  359.70,  -999.0,9,  12.6461,     26.576,    35.3122,2,     -999.0,9,     -999.0,9,     -999.0,     -999.0,9,     -999.0
33RO20110926,        A10,      54,          1,         17,      11023,2,20111013,       1422,   -30.0000,   -13.6636,       2310,   450.0,  10.7231,  34.8919,2,  34.8890,2,    210.8,2,     211,2,     6.1,6,    15.5,6,    0.01,6,   1.111,6,   3.274,2,   1.756,2,   1.203,2,     2137.9,2,  2299.9,2,  -999.0,9, -999.00,   7.7746,2,       25,-999.000,1,-999.0000,1, -999.00,9,    40.5,2,     1.6,   0.666,3, -999.00,1,  51.4049,2, -999.00,9,  450.00,    -389,2,  10.6680,     26.748,    35.0536,2,     -999.0,9,     -999.0,9,          4,      -20.6,2,        0.2
33RO20110926,        A10,      54,          1,         16,      11709,2,20111013,       1422,   -30.0000,   -13.6636,       2310,   599.7,   7.8110,  34.5485,2,  34.5539,2,    207.6,2,   207.8,2,    11.5,2,    22.9,2,    0.01,2,   1.583,2,   3.268,2,   1.694,2,   0.909,2,     2160.5,2,  2285.7,2,  -999.0,9, -999.00,   7.6905,2,       25,-999.000,1,-999.0000,1, -999.00,9,     8.2,2,     1.4,   1.561,3, -999.00,1,  44.5463,2, -999.00,9,  599.70,  -999.0,9,   7.7500,     26.957,    34.7169,2,     -999.0,9,     -999.0,9,     -999.0,     -999.0,9,     -999.0
33RO20110926,        A10,      54,          1,         15,      11006,2,20111013,       1422,   -30.0000,   -13.6636,       2310,   750.8,   5.4163,  34.3449,2,  34.3447,2,    215.5,2,   216.4,2,    19.3,2,    28.0,2,    0.01,2,   1.927,2,   3.083,2,   1.541,2,   0.756,2,     2175.9,2,  2284.1,2,  -999.0,9, -999.00,   7.6434,2,       25,-999.000,1,-999.0000,1, -999.00,9,   -26.6,2,     2.8,   2.261,3, -999.00,1,  42.9268,2, -999.00,9,  750.80,    -447,2,   5.3529,     27.114,    34.5066,2,     -999.0,9,     -999.0,9,          4,      -22.2,2,        0.2
33RO20110926,        A10,      54,          1,         14,      11708,2,20111013,       1422,   -30.0000,   -13.6636,       2310,   899.4,   4.1863,  34.2988,2,  34.2994,2,    218.9,2,   219.7,2,    27.4,2,    30.1,2,    0.01,2,   2.078,2,   2.638,2,   1.306,2,   0.629,2,     2190.8,2,  2293.1,2,  -999.0,9, -999.00,   7.6364,2,       25,-999.000,1,-999.0000,1, -999.00,9,  -999.0,9,  -999.0,   2.355,3, -999.00,1,  42.6146,2, -999.00,9,  899.40,  -999.0,9,   4.1179,     27.216,    34.4611,6,     -999.0,9,     -999.0,9,     -999.0,     -999.0,9,     -999.0
33RO20110926,        A10,      54,          1,         13,      11031,2,20111013,       1422,   -30.0000,   -13.6636,       2310,  1049.7,   3.5773,  34.3464,2,  34.3465,2,    206.5,2,   206.4,2,    38.0,2,    31.8,2,    0.01,2,   2.201,2,   1.787,2,   0.877,2,   0.332,2,     2208.8,2,  -999.0,5,  -999.0,9, -999.00,-999.0000,5,  -999.00,-999.000,1,-999.0000,1, -999.00,9,   -87.5,2,     1.6,   1.916,3, -999.00,1,  38.4585,2, -999.00,9, 1049.70,    -471,2,   3.5012,     27.316,    34.5084,2,     -999.0,9,     -999.0,9,          4,      -21.6,2,        0.2
33RO20110926,        A10,      54,          1,         12,      11027,2,20111013,       1422,   -30.0000,   -13.6636,       2310,  1200.8,   3.1778,  34.4259,2,  34.4285,2,    194.6,2,   194.1,2,    47.8,6,    32.8,6,    0.01,6,   2.264,6,   1.061,2,   0.522,2,   0.184,2,     2222.6,2,  2310.9,2,  -999.0,9, -999.00,   7.5982,2,       25,-999.000,1,-999.0000,1, -999.00,9,  -999.0,9,  -999.0,   1.360,3, -999.00,1,  38.8976,2, -999.00,9, 1200.80,  -999.0,9,   3.0929,     27.420,    34.5909,2,     -999.0,9,     -999.0,9,     -999.0,     -999.0,9,     -999.0
33RO20110926,        A10,      54,          1,         11,      11707,2,20111013,       1422,   -30.0000,   -13.6636,       2310,  1400.7,   2.9338,  34.5710,2,  34.5717,2,    188.2,2,   187.8,2,    55.3,2,    32.0,2,    0.01,2,   2.207,2,   0.406,2,   0.200,2,   0.051,2,     2231.1,2,  2325.9,6,  -999.0,9, -999.00,   7.5982,6,       25,-999.000,1,-999.0000,1, -999.00,9,  -130.0,2,     1.4,   0.708,3, -999.00,1,  38.1659,2, -999.00,9, 1400.70,    -480,2,   2.8349,     27.557,    34.7348,6,     -999.0,9,     -999.0,9,          4,      -21.6,2,        0.2
33RO20110926,        A10,      54,          1,         10,      11003,2,20111013,       1422,   -30.0000,   -13.6636,       2310,  1599.4,   2.8244,  34.6866,2,  34.6872,2,    195.4,2,   196.5,2,    55.6,2,    29.9,2,    0.01,2,   2.052,2,   0.160,2,   0.079,2,   0.000,2,     2227.2,2,  2329.5,2,  -999.0,9, -999.00,   7.6222,2,       25,-999.000,1,-999.0000,1, -999.00,9,  -999.0,9,  -999.0,   0.376,3, -999.00,1,   38.039,2, -999.00,9, 1599.40,  -999.0,9,   2.7101,     27.662,    34.8508,2,     -999.0,9,     -999.0,9,     -999.0,     -999.0,9,     -999.0
33RO20110926,        A10,      54,          1,          9,      11706,2,20111013,       1422,   -30.0000,   -13.6636,       2310,  1799.7,   2.7444,  34.7583,2,  34.7590,2,    207.6,2,     209,2,    53.6,2,    27.8,2,    0.01,2,   1.906,2,   0.082,6,   0.044,6,   0.051,6,     2219.4,2,    2332,2,  -999.0,9, -999.00,   7.6473,2,       25,-999.000,1,-999.0000,1, -999.00,9,  -999.0,9,  -999.0,   0.259,3, -999.00,1,  38.1756,2, -999.00,9, 1799.70,  -999.0,9,   2.6139,     27.727,    34.9229,2,     -999.0,9,     -999.0,9,     -999.0,     -999.0,9,     -999.0
33RO20110926,        A10,      54,          1,          8,      11033,2,20111013,       1422,   -30.0000,   -13.6636,       2310,  2000.1,   2.6818,  34.8077,2,  34.8097,2,    219.5,2,   219.3,2,    50.7,2,    26.0,2,    0.01,2,   1.782,2,   0.051,2,   0.027,2,   0.000,2,     2210.7,2,  2328.7,2,  -999.0,9, -999.00,   7.6665,2,       25,-999.000,9,-999.0000,1, -999.00,9,  -125.6,2,     1.5,   0.201,3, -999.00,9,  40.7805,2, -999.00,9, 2000.10,    -468,2,   2.5344,     27.775,    34.9738,2,     -999.0,9,     -999.0,9,          4,      -20.7,2,        0.2
33RO20110926,        A10,      54,          1,          7,      11705,2,20111013,       1422,   -30.0000,   -13.6636,       2310,  2250.3,   2.6091,  34.8313,2,  34.8317,2,    228.7,2,   228.2,2,    49.4,2,    25.1,2,    0.01,2,   1.704,2,   0.035,2,   0.022,2,   0.058,2,     2207.6,6,  2330.7,2,  -999.0,9, -999.00,   7.6894,6,       25,-999.000,1,-999.0000,1, -999.00,9,  -124.4,2,     1.3,   0.157,3, -999.00,9,  40.7122,2, -999.00,9, 2250.30,    -474,2,   2.4401,     27.801,    34.9960,2,     -999.0,9,     -999.0,9,          4,      -21.6,2,        0.2
33RO20110926,        A10,      54,          1,          1,      11701,2,20111013,       1422,   -30.0000,   -13.6636,       2310,  2309.6,   2.6134,  34.8316,2,-999.0000,9,    229.5,2,  -999.0,9, -999.00,9,  -999.0,9, -999.00,9,-999.000,9,-999.000,9,-999.000,9,-999.000,9,-999.000000,9,  -999.0,9,  -999.0,9, -999.00,-999.0000,9,  -999.00,-999.000,9,-999.0000,9, -999.00,9,  -999.0,9,  -999.0,-999.000,9, -999.00,9,-999.0000,5, -999.00,9, 2309.60,  -999.0,9,   2.4389,     27.800,     -999.0,9,     -999.0,1,     -999.0,9,     -999.0,     -999.0,9,     -999.0
33RO20110926,        A10,      54,          1,          2,      11702,2,20111013,       1422,   -30.0000,   -13.6636,       2310,  2309.7,   2.6136,  34.8315,2,-999.0000,9,    229.7,2,  -999.0,9, -999.00,9,  -999.0,9, -999.00,9,-999.000,9,-999.000,9,-999.000,9,-999.000,9,-999.000000,9,  -999.0,9,  -999.0,9, -999.00,-999.0000,9,  -999.00,-999.000,9,-999.0000,9, -999.00,9,  -124.9,2,     1.3,-999.000,9, -999.00,9,-999.0000,5, -999.00,9, 2309.70,  -999.0,9,   2.4391,     27.800,     -999.0,9,     -999.0,1,     -999.0,9,     -999.0,     -999.0,9,     -999.0
33RO20110926,        A10,      54,          1,          6,      11029,2,20111013,       1422,   -30.0000,   -13.6636,       2310,  2309.6,   2.6134,  34.8315,2,  34.8382,4,    229.5,2,   228.6,2,    49.1,6,    25.0,6,    0.01,6,   1.700,6,   0.033,2,   0.018,2,   0.000,2,     2205.6,2,  2327.5,2,  -999.0,9, -999.00,   7.6845,2,       25,-999.000,1,-999.0000,1, -999.00,9,  -999.0,9,  -999.0,   0.162,3, -999.00,9,  40.2732,2, -999.00,9, 2309.60,  -999.0,9,   2.4389,     27.806,    35.0025,2,     -999.0,9,     -999.0,9,     -999.0,     -999.0,9,     -999.0
33RO20110926,        A10,      54,          1,          5,      11704,2,20111013,       1422,   -30.0000,   -13.6636,       2310,  2309.6,   2.6134,  34.8316,2,-999.0000,9,    229.5,2,  -999.0,9, -999.00,9,  -999.0,9, -999.00,9,-999.000,9,-999.000,9,-999.000,9,-999.000,9,-999.000000,9,  -999.0,9,  -999.0,9, -999.00,-999.0000,9,  -999.00,-999.000,9,-999.0000,9, -999.00,9,  -124.9,2,     1.3,-999.000,9, -999.00,9,  40.3024,2, -999.00,9, 2309.60,    -470,2,   2.4389,     27.800,     -999.0,9,     -999.0,1,     -999.0,9,          4,      -21.3,2,        0.2
33RO20110926,        A10,      54,          1,          4,      11030,2,20111013,       1422,   -30.0000,   -13.6636,       2310,  2309.6,   2.6136,  34.8315,2,-999.0000,9,    229.7,2,  -999.0,9, -999.00,9,  -999.0,9, -999.00,9,-999.000,9,-999.000,9,-999.000,9,-999.000,9,-999.000000,9,  -999.0,9,  -999.0,9, -999.00,-999.0000,9,  -999.00,-999.000,9,-999.0000,9, -999.00,9,  -999.0,9,  -999.0,-999.000,9, -999.00,9,-999.0000,9, -999.00,9, 2309.60,  -999.0,9,   2.4391,     27.800,     -999.0,9,     -999.0,1,     -999.0,9,     -999.0,     -999.0,9,     -999.0
33RO20110926,        A10,      54,          1,          3,      11703,2,20111013,       1422,   -30.0000,   -13.6636,       2310,  2309.5,   2.6136,  34.8315,2,-999.0000,9,    229.7,2,  -999.0,9, -999.00,9,  -999.0,9, -999.00,9,-999.000,9,-999.000,9,-999.000,9,-999.000,9,-999.000000,9,  -999.0,9,  -999.0,9, -999.00,-999.0000,9,  -999.00,-999.000,9,-999.0000,9, -999.00,9,  -999.0,9,  -999.0,-999.000,9, -999.00,9,-999.0000,9, -999.00,9, 2309.50,  -999.0,9,   2.4391,     27.800,     -999.0,9,     -999.0,1,     -999.0,9,     -999.0,     -999.0,9,     -999.0