BOTTLE,20220815CCHSIOAMB
EXPOCODE,SECT_ID,STNNBR,CASTNO,SAMPNO,BTLNBR,BTLNBR_FLAG_W,DATE,TIME,LATITUDE,LONGITUDE,DEPTH,CTDPRS,CTDTMP,CTDSAL,CTDSAL_FLAG_W,SALNTY,SALNTY_FLAG_W,CTDOXY,CTDOXY_FLAG_W,OXYGEN,OXYGEN_FLAG_W,SILCAT,SILCAT_FLAG_W,NITRAT,NITRAT_FLAG_W,NITRIT,NITRIT_FLAG_W,PHSPHT,PHSPHT_FLAG_W,CFC-11,CFC-11_FLAG_W,CFC-12,CFC-12_FLAG_W,SF6,SF6_FLAG_W,TCARBN,TCARBN_FLAG_W,ALKALI,ALKALI_FLAG_W,PCO2,PCO2_FLAG_W,PCO2TMP,PH_SWS,PH_SWS_FLAG_W,PH_TMP,TRITUM,TRITUM_FLAG_W,HELIUM,HELIUM_FLAG_W,DELC13,DELC13_FLAG_W,DELC14,DELC14_FLAG_W,C14ERR,CCL4,CCL4_FLAG_W,DELO18,DELO18_FLAG_W,DOC,DOC_FLAG_W,TDN,TDN_FLAG_W,CTDRAW,14C-DOC,14C-DOC_FLAG_W,THETA,SIG0,SALTREF,SALTREF_FLAG_W,BLACKC,BLACKC_FLAG_W,PIGMENTS,PIGMENTS_FLAG_W,14C-DOCERR,13C-DOC,13C-DOC_FLAG_W,13C-DOCERR
,,,,,,,,,,,METERS,DBAR,ITS-90,PSS-78,,PSS-78,,UMOL/KG,,UMOL/KG,,UMOL/KG,,UMOL/KG,,UMOL/KG,,UMOL/KG,,PMOL/KG,,PMOL/KG,,FMOL/KG,,UMOL/KG,,UMOL/KG,,UATM,,DEG C,,,DEG C,TU,,NMOL/KG,,/MILLE,,/MILLE,,/MILLE,PMOL/KG,,/MILLE,,UMOL/KG,,UMOL/KG,,DBAR,/MILLE,,DEG C,KG/M^3,G/KG,,,,,,/MILLE,/MILLE,,/MILLE
33RO20110926,        A10,      48,          1,         24,      11714,2,20111010,       1205,   -30.0174,    -9.1096,       3794,     4.9,  18.1953,  35.9165,2,  35.9274,2,    236.4,2,     237,2,     1.2,2,     0.0,2,    0.00,2,   0.158,2,   2.329,6,   1.413,6,   1.430,6,       2083,6,  2358.7,2,  -999.0,9, -999.00,   7.9819,6,       25,-999.000,9,-999.0000,9, -999.00,9,  -999.0,9,  -999.0,   3.696,4, -999.00,9,-999.0000,9, -999.00,9,    4.90,  -999.0,9,  18.1945,     25.934,    36.0968,2,     -999.0,9,     -999.0,1,     -999.0,     -999.0,9,     -999.0
33RO20110926,        A10,      48,          1,         23,      11713,2,20111010,       1205,   -30.0174,    -9.1096,       3794,    49.3,  17.6017,  35.8780,2,  35.8731,2,    241.4,2,   241.8,2,     1.3,2,     0.0,2,    0.00,2,   0.164,2,   2.378,2,   1.442,2,   1.384,2,-999.000000,9,    2343,4,  -999.0,9, -999.00,   7.9819,2,       25,-999.000,9,-999.0000,9, -999.00,9,  -999.0,9,  -999.0,   3.794,4, -999.00,9,-999.0000,9, -999.00,9,   49.30,  -999.0,9,  17.5933,     26.042,    36.0423,2,     -999.0,9,     -999.0,1,     -999.0,     -999.0,9,     -999.0
33RO20110926,        A10,      48,          1,         22,      11712,2,20111010,       1205,   -30.0174,    -9.1096,       3794,    99.1,  16.9957,  35.8385,2,  35.8370,2,    232.9,2,   233.3,2,     1.4,2,     0.4,2,    0.48,2,   0.228,2,   2.411,2,   1.461,2,   1.473,2,-999.000000,9,  2353.5,2,  -999.0,9, -999.00,   7.9629,2,       25,-999.000,9,-999.0000,9, -999.00,9,  -999.0,9,  -999.0,   2.671,4, -999.00,9,-999.0000,9, -999.00,9,   99.10,  -999.0,9,  16.9793,     26.162,    36.0060,2,     -999.0,9,     -999.0,1,     -999.0,     -999.0,9,     -999.0
33RO20110926,        A10,      48,          1,         21,      11010,2,20111010,       1205,   -30.0174,    -9.1096,       3794,   149.7,  16.5782,  35.7503,2,  35.7529,2,    231.9,2,   231.1,2,     1.6,6,     1.3,6,    0.24,6,   0.261,6,   2.457,2,   1.480,2,   1.426,2,     2089.5,2,  2348.2,2,  -999.0,9, -999.00,   7.9479,2,       25,-999.000,9,-999.0000,9, -999.00,9,  -999.0,9,  -999.0,   2.325,4, -999.00,9,-999.0000,9, -999.00,9,  149.70,  -999.0,9,  16.5538,     26.197,    35.9214,2,     -999.0,9,     -999.0,1,     -999.0,     -999.0,9,     -999.0
33RO20110926,        A10,      48,          1,         20,      11715,2,20111010,       1205,   -30.0174,    -9.1096,       3794,   200.2,  14.5744,  35.3760,2,  35.3752,2,    216.3,2,   217.7,2,     2.7,2,     6.0,2,    0.01,2,   0.540,2,   2.727,2,   1.611,2,   1.432,2,-999.000000,9,  2326.4,2,  -999.0,9, -999.00,   7.8868,2,       25,-999.000,9,-999.0000,9, -999.00,9,  -999.0,9,  -999.0,   1.215,4, -999.00,9,-999.0000,9, -999.00,9,  200.20,  -999.0,9,  14.5446,     26.359,    35.5420,2,     -999.0,9,     -999.0,1,     -999.0,     -999.0,9,     -999.0
33RO20110926,        A10,      48,          1,         19,      11007,2,20111010,       1205,   -30.0174,    -9.1096,       3794,   253.4,  13.1448,  35.1870,2,  35.1877,2,    210.4,2,   211.3,2,     3.8,2,     9.7,2,    0.01,2,   0.758,2,   2.925,2,   1.686,2,   1.314,2,-999.000000,9,    2317,2,  -999.0,9, -999.00,   7.8387,2,       25,-999.000,9,-999.0000,9, -999.00,9,  -999.0,9,  -999.0,   1.170,3, -999.00,9,-999.0000,9, -999.00,9,  253.40,  -999.0,9,  13.1096,     26.516,    35.3536,2,     -999.0,9,     -999.0,9,     -999.0,     -999.0,9,     -999.0
33RO20110926,        A10,      48,          1,         18,      11710,2,20111010,       1205,   -30.0174,    -9.1096,       3794,   335.3,  11.9226,  35.0428,2,  35.0414,2,    208.0,2,   209.4,2,     4.8,6,    12.8,6,    0.01,6,   0.949,6,   3.056,2,   1.725,2,   1.219,2,-999.000000,9,  2309.1,2,  -999.0,9, -999.00,   7.8027,2,       25,-999.000,9,-999.0000,9, -999.00,9,  -999.0,9,  -999.0,   1.224,3, -999.00,9,-999.0000,9, -999.00,9,  335.30,  -999.0,9,  11.8788,     26.641,    35.2066,2,     -999.0,9,     -999.0,9,     -999.0,     -999.0,9,     -999.0
33RO20110926,        A10,      48,          1,         17,      11023,2,20111010,       1205,   -30.0174,    -9.1096,       3794,   425.5,  10.3914,  34.8480,2,  34.8458,2,    207.5,2,     208,2,     6.6,2,    16.6,2,    0.01,2,   1.184,2,   3.149,2,   1.737,2,   1.120,2,       2141,2,  2299.7,2,  -999.0,9, -999.00,   7.7616,2,       25,-999.000,9,-999.0000,9, -999.00,9,  -999.0,9,  -999.0,   1.414,3, -999.00,9,-999.0000,9, -999.00,9,  425.50,  -999.0,9,  10.3403,     26.773,    35.0102,2,     -999.0,9,     -999.0,9,     -999.0,     -999.0,9,     -999.0
33RO20110926,        A10,      48,          1,         16,      11709,2,20111010,       1205,   -30.0174,    -9.1096,       3794,   549.1,   8.2073,  34.5930,2,  34.5923,2,    200.9,2,     200,2,    11.5,2,    22.6,2,    0.00,2,   1.579,2,   3.103,2,   1.649,2,   0.887,2,-999.000000,9,  2292.2,2,  -999.0,9, -999.00,   7.6905,2,       25,-999.000,9,-999.0000,9, -999.00,9,  -999.0,9,  -999.0,   1.957,3, -999.00,9,-999.0000,9, -999.00,9,  549.10,  -999.0,9,   8.1500,     26.931,    34.7554,2,     -999.0,9,     -999.0,9,     -999.0,     -999.0,9,     -999.0
33RO20110926,        A10,      48,          1,         15,      11006,2,20111010,       1205,   -30.0174,    -9.1096,       3794,   649.0,   6.7361,  34.4475,2,  34.4465,2,    207.1,2,     206,2,    14.9,2,    25.7,2,    0.00,2,   1.781,2,   3.109,2,   1.609,2,   0.891,2,-999.000000,9,  2287.3,2,  -999.0,9, -999.00,   7.6625,2,       25,-999.000,9,-999.0000,9, -999.00,9,  -999.0,9,  -999.0,   2.043,3, -999.00,9,-999.0000,9, -999.00,9,  649.00,  -999.0,9,   6.6751,     27.027,    34.6089,2,     -999.0,9,     -999.0,9,     -999.0,     -999.0,9,     -999.0
33RO20110926,        A10,      48,          1,         14,      11708,2,20111010,       1205,   -30.0174,    -9.1096,       3794,   749.7,   5.2862,  34.3283,2,  34.3297,2,    220.1,2,   219.3,2,    18.9,2,    28.0,2,    0.00,2,   1.928,2,   3.100,2,   1.585,2,   0.745,2,     2173.4,2,  2287.3,2,  -999.0,9, -999.00,   7.6493,2,       25,-999.000,9,-999.0000,9, -999.00,9,  -999.0,9,  -999.0,   2.427,3, -999.00,9,-999.0000,9, -999.00,9,  749.70,  -999.0,9,   5.2237,     27.116,    34.4916,2,     -999.0,9,     -999.0,9,     -999.0,     -999.0,9,     -999.0
33RO20110926,        A10,      48,          1,         13,      11031,2,20111010,       1205,   -30.0174,    -9.1096,       3794,   900.2,   4.1448,  34.3187,2,  34.3188,2,    212.4,2,   211.9,2,    30.2,2,    30.8,2,    0.00,2,   2.127,2,   2.365,2,   1.180,2,   0.540,2,-999.000000,9,  2296.4,2,  -999.0,9, -999.00,   7.6182,2,       25,-999.000,9,-999.0000,9, -999.00,9,  -999.0,9,  -999.0,   2.379,3, -999.00,9,-999.0000,9, -999.00,9,  900.20,  -999.0,9,   4.0766,     27.236,    34.4806,2,     -999.0,9,     -999.0,9,     -999.0,     -999.0,9,     -999.0
33RO20110926,        A10,      48,          1,         12,      11027,2,20111010,       1205,   -30.0174,    -9.1096,       3794,  1049.4,   3.6081,  34.3869,2,  34.3873,2,    195.6,2,   194.6,2,    41.9,2,    32.5,2,    0.00,2,   2.256,2,   1.472,2,   0.723,2,   0.276,2,-999.000000,9,  2307.5,2,  -999.0,9, -999.00,   7.5881,2,       25,-999.000,9,-999.0000,9, -999.00,9,  -999.0,9,  -999.0,   1.638,3, -999.00,9,-999.0000,9, -999.00,9, 1049.40,  -999.0,9,   3.5317,     27.346,    34.5494,2,     -999.0,9,     -999.0,9,     -999.0,     -999.0,9,     -999.0
33RO20110926,        A10,      48,          1,         11,      11707,2,20111010,       1205,   -30.0174,    -9.1096,       3794,  1249.5,   3.1494,  34.5061,2,  34.5084,2,    184.7,2,   184.4,2,    52.6,6,    32.7,6,    0.00,6,   2.279,6,   0.646,6,   0.313,6,   0.087,6,     2226.6,2,  2319.6,6,  -999.0,9, -999.00,   7.5858,6,       25,-999.000,9,-999.0000,9, -999.00,9,  -999.0,9,  -999.0,   0.982,3, -999.00,9,-999.0000,9, -999.00,9, 1249.50,  -999.0,9,   3.0607,     27.487,    34.6712,2,     -999.0,9,     -999.0,9,     -999.0,     -999.0,9,     -999.0
33RO20110926,        A10,      48,          1,         10,      11003,2,20111010,       1205,   -30.0174,    -9.1096,       3794,  1450.4,   2.9517,  34.6184,2,  34.6179,2,    187.5,2,   187.1,2,    55.3,2,    31.3,2,    0.00,2,   2.165,2,   0.289,2,   0.137,2,   0.036,2,-999.000000,9,  2325.7,2,  -999.0,9, -999.00,   7.6022,2,       25,-999.000,9,-999.0000,9, -999.00,9,  -999.0,9,  -999.0,   0.492,3, -999.00,9,-999.0000,9, -999.00,9, 1450.40,  -999.0,9,   2.8484,     27.594,    34.7811,2,     -999.0,9,     -999.0,9,     -999.0,     -999.0,9,     -999.0
33RO20110926,        A10,      48,          1,          9,      11706,2,20111010,       1205,   -30.0174,    -9.1096,       3794,  1649.4,   2.8320,  34.7065,2,  34.7057,2,    196.9,2,   198.1,2,    54.9,2,    29.5,2,    0.00,2,   2.022,2,   0.137,2,   0.065,2,   0.000,2,-999.000000,9,  2329.3,2,  -999.0,9, -999.00,   7.6262,2,       25,-999.000,9,-999.0000,9, -999.00,9,  -999.0,9,  -999.0,   0.312,3, -999.00,9,-999.0000,9, -999.00,9, 1649.40,  -999.0,9,   2.7133,     27.676,    34.8694,2,     -999.0,9,     -999.0,9,     -999.0,     -999.0,9,     -999.0
33RO20110926,        A10,      48,          1,          8,      11033,2,20111010,       1205,   -30.0174,    -9.1096,       3794,  1849.9,   2.7459,  34.7683,2,  34.7698,2,    206.9,2,   207.1,2,    53.2,2,    27.7,2,    0.01,2,   1.894,2,   0.063,2,   0.032,2,   0.034,2,-999.000000,9,  2331.5,2,  -999.0,9, -999.00,   7.6483,2,       25,-999.000,9,-999.0000,9, -999.00,9,  -999.0,9,  -999.0,   0.171,3, -999.00,9,-999.0000,9, -999.00,9, 1849.90,  -999.0,9,   2.6110,     27.736,    34.9338,2,     -999.0,9,     -999.0,9,     -999.0,     -999.0,9,     -999.0
33RO20110926,        A10,      48,          1,          7,      11705,2,20111010,       1205,   -30.0174,    -9.1096,       3794,  2051.1,   2.6483,  34.8049,2,  34.8060,2,    217.1,2,   217.1,2,    52.1,2,    26.3,2,    0.00,2,   1.803,2,   0.032,2,   0.016,2,   0.000,2,-999.000000,9,  2333.2,2,  -999.0,9, -999.00,   7.6663,2,       25,-999.000,9,-999.0000,9, -999.00,9,  -999.0,9,  -999.0,   0.129,3, -999.00,9,-999.0000,9, -999.00,9, 2051.10,  -999.0,9,   2.4969,     27.775,    34.9702,2,     -999.0,9,     -999.0,9,     -999.0,     -999.0,9,     -999.0
33RO20110926,        A10,      48,          1,          6,      11029,2,20111010,       1205,   -30.0174,    -9.1096,       3794,  2350.1,   2.5112,  34.8395,2,  34.8422,2,    227.1,2,     227,2,    50.9,2,    24.9,2,    0.00,2,   1.705,2,   0.010,2,   0.007,2,   0.022,2,     2202.8,2,  2335.7,2,  -999.0,9, -999.00,   7.6853,2,       25,-999.000,9,-999.0000,9, -999.00,9,  -999.0,9,  -999.0,   0.080,3, -999.00,9,-999.0000,9, -999.00,9, 2350.10,  -999.0,9,   2.3347,     27.818,    35.0065,2,     -999.0,9,     -999.0,9,     -999.0,     -999.0,9,     -999.0
33RO20110926,        A10,      48,          1,          5,      11704,2,20111010,       1205,   -30.0174,    -9.1096,       3794,  2599.5,   2.4382,  34.8540,2,  34.8547,2,    232.8,2,   232.8,2,    50.2,6,    24.3,6,    0.00,6,   1.654,6,   0.006,2,   0.004,2,   0.000,2,-999.000000,9,  2336.3,2,  -999.0,9, -999.00,   7.6965,2,       25,-999.000,9,-999.0000,9, -999.00,9,  -999.0,9,  -999.0,   0.052,3, -999.00,9,-999.0000,9, -999.00,9, 2599.50,  -999.0,9,   2.2395,     27.836,    35.0190,2,     -999.0,9,     -999.0,9,     -999.0,     -999.0,9,     -999.0
33RO20110926,        A10,      48,          1,          4,      11030,2,20111010,       1205,   -30.0174,    -9.1096,       3794,  2900.3,   2.3811,  34.8648,2,  34.8674,2,    237.4,2,   236.9,2,    50.2,2,    23.8,2,    0.00,2,   1.616,2,   0.006,2,   0.006,2,   0.083,2,-999.000000,9,  2337.9,2,  -999.0,9, -999.00,   7.7055,2,       25,-999.000,9,-999.0000,9, -999.00,9,  -999.0,9,  -999.0,   0.053,3, -999.00,9,-999.0000,9, -999.00,9, 2900.30,  -999.0,9,   2.1541,     27.853,    35.0318,2,     -999.0,9,     -999.0,9,     -999.0,     -999.0,9,     -999.0
33RO20110926,        A10,      48,          1,          3,      11703,2,20111010,       1205,   -30.0174,    -9.1096,       3794,  3202.0,   2.3614,  34.8706,2,  34.8743,2,    238.3,2,   238.6,2,    50.5,2,    23.6,2,    0.00,2,   1.603,2,   0.006,2,   0.004,2,   0.077,2,-999.000000,9,    2341,2,  -999.0,9, -999.00,   7.7085,2,       25,-999.000,9,-999.0000,9, -999.00,9,  -999.0,9,  -999.0,   0.043,3, -999.00,9,-999.0000,9, -999.00,9, 3202.00,  -999.0,9,   2.1041,     27.859,    35.0388,6,     -999.0,9,     -999.0,9,     -999.0,     -999.0,9,     -999.0
33RO20110926,        A10,      48,          1,          2,      11702,2,20111010,       1205,   -30.0174,    -9.1096,       3794,  3501.6,   2.3683,  34.8747,2,  34.8760,2,    237.9,2,   237.9,2,    50.8,2,    23.6,2,    0.00,2,   1.593,2,   0.005,2,   0.004,2,   0.081,2,-999.000000,9,  2344.1,6,  -999.0,9, -999.00,   7.7136,6,       25,-999.000,9,-999.0000,9, -999.00,9,  -999.0,9,  -999.0,   0.046,3, -999.00,9,-999.0000,9, -999.00,9, 3501.60,  -999.0,9,   2.0792,     27.866,    35.0404,2,     -999.0,9,     -999.0,9,     -999.0,     -999.0,9,     -999.0
33RO20110926,        A10,      48,          1,          1,      11701,2,20111010,       1205,   -30.0174,    -9.1096,       3794,  3822.1,   2.3905,  34.8772,2,  34.8778,2,    236.9,2,   235.5,2,    50.9,6,    23.5,6,    0.01,6,   1.592,6,   0.005,6,   0.004,6,   0.082,6,     2204.8,2,  2348.2,2,  -999.0,9, -999.00,   7.7146,2,       25,-999.000,9,-999.0000,9, -999.00,9,  -999.0,9,  -999.0,   0.032,3, -999.00,9,-999.0000,9, -999.00,9, 3822.10,  -999.0,9,   2.0655,     27.868,    35.0422,2,     -999.0,9,     -999.0,9,     -999.0,     -999.0,9,     -999.0