BOTTLE,20220815CCHSIOAMB
EXPOCODE,SECT_ID,STNNBR,CASTNO,SAMPNO,BTLNBR,BTLNBR_FLAG_W,DATE,TIME,LATITUDE,LONGITUDE,DEPTH,CTDPRS,CTDTMP,CTDSAL,CTDSAL_FLAG_W,SALNTY,SALNTY_FLAG_W,CTDOXY,CTDOXY_FLAG_W,OXYGEN,OXYGEN_FLAG_W,SILCAT,SILCAT_FLAG_W,NITRAT,NITRAT_FLAG_W,NITRIT,NITRIT_FLAG_W,PHSPHT,PHSPHT_FLAG_W,CFC-11,CFC-11_FLAG_W,CFC-12,CFC-12_FLAG_W,SF6,SF6_FLAG_W,TCARBN,TCARBN_FLAG_W,ALKALI,ALKALI_FLAG_W,PCO2,PCO2_FLAG_W,PCO2TMP,PH_SWS,PH_SWS_FLAG_W,PH_TMP,TRITUM,TRITUM_FLAG_W,HELIUM,HELIUM_FLAG_W,DELC13,DELC13_FLAG_W,DELC14,DELC14_FLAG_W,C14ERR,CCL4,CCL4_FLAG_W,DELO18,DELO18_FLAG_W,DOC,DOC_FLAG_W,TDN,TDN_FLAG_W,CTDRAW,14C-DOC,14C-DOC_FLAG_W,THETA,SIG0,SALTREF,SALTREF_FLAG_W,BLACKC,BLACKC_FLAG_W,PIGMENTS,PIGMENTS_FLAG_W,14C-DOCERR,13C-DOC,13C-DOC_FLAG_W,13C-DOCERR
,,,,,,,,,,,METERS,DBAR,ITS-90,PSS-78,,PSS-78,,UMOL/KG,,UMOL/KG,,UMOL/KG,,UMOL/KG,,UMOL/KG,,UMOL/KG,,PMOL/KG,,PMOL/KG,,FMOL/KG,,UMOL/KG,,UMOL/KG,,UATM,,DEG C,,,DEG C,TU,,NMOL/KG,,/MILLE,,/MILLE,,/MILLE,PMOL/KG,,/MILLE,,UMOL/KG,,UMOL/KG,,DBAR,/MILLE,,DEG C,KG/M^3,G/KG,,,,,,/MILLE,/MILLE,,/MILLE
33RO20110926,        A10,      63,          1,         24,      11714,2,20111016,       0831,   -30.0009,   -20.5097,       4507,     3.9,  19.0775,  36.2374,2,  36.2367,2,    228.5,2,   231.4,2,     1.4,2,     0.0,2,    0.01,2,   0.130,2,   2.214,6,   1.349,6,   1.382,6,     2088.7,6,  2378.4,6,  -999.0,9, -999.00,    8.003,6,       25,-999.000,9,-999.0000,9, -999.00,9,  -999.0,9,  -999.0,   2.373,4, -999.00,9,  60.7415,2,    5.28,2,    3.90,  -999.0,9,  19.0768,     25.947,    36.4076,2,     -999.0,9,     -999.0,1,     -999.0,     -999.0,9,     -999.0
33RO20110926,        A10,      63,          1,         23,      11713,2,20111016,       0831,   -30.0009,   -20.5097,       4507,    34.6,  19.0380,  36.2333,2,  36.2367,2,    229.5,2,     231,2,     1.4,2,     0.0,2,    0.01,2,   0.136,2,   2.208,2,   1.349,2,   1.338,2,     2088.7,2,  2380.5,2,  -999.0,9, -999.00,    8.004,2,       25,-999.000,9,-999.0000,9, -999.00,9,  -999.0,9,  -999.0,   2.174,4, -999.00,9,  60.7512,2,    3.26,2,   34.60,  -999.0,9,  19.0318,     25.958,    36.4076,2,     -999.0,9,     -999.0,9,     -999.0,     -999.0,9,     -999.0
33RO20110926,        A10,      63,          1,         22,      11712,2,20111016,       0831,   -30.0009,   -20.5097,       4507,    73.9,  19.0325,  36.2312,2,  36.2306,2,    231.9,2,   230.7,2,     1.4,2,     0.1,2,    0.01,2,   0.141,2,   2.214,2,   1.349,2,   1.379,2,     2088.5,2,  2380.8,2,  -999.0,9, -999.00,    8.006,2,       25,-999.000,9,-999.0000,9, -999.00,9,  -999.0,9,  -999.0,   2.167,4, -999.00,9,  63.0341,2,    4.14,2,   73.90,  -999.0,9,  19.0193,     25.958,    36.4014,2,     -999.0,9,     -999.0,9,     -999.0,     -999.0,9,     -999.0
33RO20110926,        A10,      63,          1,         21,      11010,2,20111016,       0831,   -30.0009,   -20.5097,       4507,   124.4,  18.0214,  35.9899,2,  35.9822,2,    232.8,2,   225.1,3,     1.5,2,     0.6,2,    0.09,2,   0.208,2,   2.328,2,   1.409,2,   1.428,2,     2091.3,2,  2364.9,2,  -999.0,9, -999.00,   7.9779,2,       25,-999.000,9,-999.0000,9, -999.00,9,  -999.0,9,  -999.0,   1.221,4, -999.00,9,  56.6927,2,    4.86,2,  124.40,  -999.0,9,  17.9999,     26.023,    36.1518,2,     -999.0,9,     -999.0,1,     -999.0,     -999.0,9,     -999.0
33RO20110926,        A10,      63,          1,         20,      11715,2,20111016,       0831,   -30.0009,   -20.5097,       4507,   173.3,  16.6544,  35.7291,2,  35.7161,2,    221.6,2,   224.7,2,     1.7,2,     2.1,2,    0.09,2,   0.297,2,   2.496,2,   1.493,2,   1.413,2,     2095.1,2,  2347.9,2,  -999.0,9, -999.00,   7.9479,2,       25,-999.000,9,-999.0000,9, -999.00,9,  -999.0,9,  -999.0,   0.974,4, -999.00,9,  54.8878,2,    6.15,2,  173.30,  -999.0,9,  16.6261,     26.149,    35.8845,2,     -999.0,9,     -999.0,1,     -999.0,     -999.0,9,     -999.0
33RO20110926,        A10,      63,          1,         19,      11007,2,20111016,       0831,   -30.0009,   -20.5097,       4507,   249.7,  14.6425,  35.4250,2,  35.4253,2,    216.5,2,   217.5,2,     2.4,2,     5.8,2,    0.02,2,   0.516,2,   2.761,2,   1.620,2,   1.406,2,       2109,2,  2326.7,2,  -999.0,9, -999.00,   7.8828,2,       25,-999.000,9,-999.0000,9, -999.00,9,  -999.0,9,  -999.0,   0.503,3, -999.00,9,  53.8049,2, -999.00,9,  249.70,  -999.0,9,  14.6051,     26.386,    35.5923,2,     -999.0,9,     -999.0,9,     -999.0,     -999.0,9,     -999.0
33RO20110926,        A10,      63,          1,         18,      11710,2,20111016,       0831,   -30.0009,   -20.5097,       4507,   325.3,  13.5149,  35.2813,2,  35.2841,2,    218.1,2,   218.3,2,     3.0,2,     8.2,2,    0.01,2,   0.656,2,   2.916,2,   1.687,2,   1.339,2,     2115.8,2,  2317.4,2,  -999.0,9, -999.00,   7.8578,2,       25,-999.000,9,-999.0000,9, -999.00,9,  -999.0,9,  -999.0,   0.501,3, -999.00,9,  54.5073,2, -999.00,9,  325.30,  -999.0,9,  13.4686,     26.517,    35.4505,2,     -999.0,9,     -999.0,9,     -999.0,     -999.0,9,     -999.0
33RO20110926,        A10,      63,          1,         17,      11023,2,20111016,       0831,   -30.0009,   -20.5097,       4507,   399.7,  12.4873,  35.1388,2,  35.1405,2,    214.4,2,   214.7,2,     3.8,6,    10.9,6,    0.02,6,   0.823,6,   3.039,2,   1.720,2,   1.273,2,     2124.7,2,  2310.9,2,  -999.0,9, -999.00,   7.8307,2,       25,-999.000,9,-999.0000,9, -999.00,9,  -999.0,9,  -999.0,   0.505,3, -999.00,9,  53.4244,2, -999.00,9,  399.70,  -999.0,9,  12.4333,     26.614,    35.3062,2,     -999.0,9,     -999.0,9,     -999.0,     -999.0,9,     -999.0
33RO20110926,        A10,      63,          1,         16,      11709,2,20111016,       0831,   -30.0009,   -20.5097,       4507,   499.9,  10.8254,  34.9166,2,  34.9175,2,    213.4,2,   212.9,2,     5.6,2,    15.0,2,    0.01,2,   1.093,2,   3.183,2,   1.752,2,   1.150,2,     2134.9,2,  2301.2,2,  -999.0,9, -999.00,   7.7807,2,       25,-999.000,9,-999.0000,9, -999.00,9,  -999.0,9,  -999.0,   0.812,3, -999.00,9,  46.1073,2, -999.00,9,  499.90,  -999.0,9,  10.7636,     26.754,    35.0821,2,     -999.0,9,     -999.0,9,     -999.0,     -999.0,9,     -999.0
33RO20110926,        A10,      63,          1,         15,      11006,2,20111016,       0831,   -30.0009,   -20.5097,       4507,   599.4,   8.6939,  34.6465,2,  34.6500,2,    204.5,2,   202.8,2,    10.0,2,    21.4,2,    0.01,2,   1.486,2,   3.162,2,   1.667,2,   0.888,2,     2155.8,2,  2290.8,2,  -999.0,9, -999.00,   7.7136,2,       25,-999.000,9,-999.0000,9, -999.00,9,  -999.0,9,  -999.0,   1.272,3, -999.00,9,  43.4732,2, -999.00,9,  599.40,  -999.0,9,   8.6289,     26.902,    34.8134,2,     -999.0,9,     -999.0,9,     -999.0,     -999.0,9,     -999.0
33RO20110926,        A10,      63,          1,         14,      11708,2,20111016,       0831,   -30.0009,   -20.5097,       4507,   699.4,   6.6214,  34.4360,2,  34.4371,2,    209.4,2,     210,2,    14.6,2,    25.8,2,    0.01,2,   1.783,2,   3.171,2,   1.627,2,   0.774,2,     2168.2,2,  2286.3,2,  -999.0,9, -999.00,   7.6665,2,       25,-999.000,9,-999.0000,9, -999.00,9,  -999.0,9,  -999.0,   1.929,3, -999.00,9,  39.4146,2, -999.00,9,  699.40,  -999.0,9,   6.5561,     27.035,    34.5995,2,     -999.0,9,     -999.0,9,     -999.0,     -999.0,9,     -999.0
33RO20110926,        A10,      63,          1,         13,      11031,2,20111016,       0831,   -30.0009,   -20.5097,       4507,   849.6,   4.9912,  34.3187,2,  34.3198,2,    220.4,2,   219.5,2,    21.0,2,    28.9,2,    0.01,2,   1.988,2,   2.973,2,   1.481,2,   0.679,2,     2178.1,2,  2290.3,2,  -999.0,9, -999.00,   7.6473,2,       25,-999.000,9,-999.0000,9, -999.00,9,  -999.0,9,  -999.0,   2.507,3, -999.00,9,  41.4537,2, -999.00,9,  849.60,  -999.0,9,   4.9216,     27.144,    34.4816,2,     -999.0,9,     -999.0,9,     -999.0,     -999.0,9,     -999.0
33RO20110926,        A10,      63,          1,         12,      11027,2,20111016,       0831,   -30.0009,   -20.5097,       4507,   999.3,   4.0133,  34.3267,2,  34.3268,2,    210.1,2,   209.8,2,    31.9,2,    31.2,2,    0.01,2,   2.161,2,   2.170,2,   1.064,2,   0.423,2,     2198.3,2,  2299.1,2,  -999.0,9, -999.00,   7.6222,2,       25,-999.000,9,-999.0000,9, -999.00,9,  -999.0,9,  -999.0,   2.262,3, -999.00,9,  40.4878,2, -999.00,9,  999.30,  -999.0,9,   3.9379,     27.257,    34.4886,2,     -999.0,9,     -999.0,9,     -999.0,     -999.0,9,     -999.0
33RO20110926,        A10,      63,          1,         11,      11707,2,20111016,       0831,   -30.0009,   -20.5097,       4507,  1150.4,   3.4472,  34.3980,2,  34.4002,2,    196.8,2,   196.6,2,    43.6,6,    32.4,6,    0.01,6,   2.267,6,   1.276,2,   0.622,2,   0.192,2,     2214.6,2,  2311.1,2,  -999.0,9, -999.00,   7.5982,2,       25,-999.000,9,-999.0000,9, -999.00,9,  -999.0,9,  -999.0,   1.571,3, -999.00,9,   39.561,2, -999.00,9, 1150.40,  -999.0,9,   3.3639,     27.373,    34.5624,2,     -999.0,9,     -999.0,9,     -999.0,     -999.0,9,     -999.0
33RO20110926,        A10,      63,          1,         10,      11003,2,20111016,       0831,   -30.0009,   -20.5097,       4507,  1299.8,   3.1506,  34.4950,2,  34.4960,2,    187.9,2,   187.8,2,    51.3,2,    32.6,2,    0.01,2,   2.274,2,   0.673,2,   0.328,2,   0.109,2,     2226.7,6,  2320.6,6,  -999.0,9, -999.00,   7.5927,6,       25,-999.000,9,-999.0000,9, -999.00,9,  -999.0,9,  -999.0,   1.007,3, -999.00,9,  39.8537,2, -999.00,9, 1299.80,  -999.0,9,   3.0579,     27.477,    34.6586,2,     -999.0,9,     -999.0,9,     -999.0,     -999.0,9,     -999.0
33RO20110926,        A10,      63,          1,          9,      11706,2,20111016,       0831,   -30.0009,   -20.5097,       4507,  1501.0,   2.9635,  34.6100,2,  34.6109,2,    188.7,2,   189.2,2,    54.7,2,    31.4,2,    0.01,2,   2.180,2,   0.291,2,   0.139,2,   0.047,2,       2228,2,  2327.5,2,  -999.0,9, -999.00,   7.6052,2,       25,-999.000,9,-999.0000,9, -999.00,9,  -999.0,9,  -999.0,   0.568,3, -999.00,9,  44.8195,2, -999.00,9, 1501.00,  -999.0,9,   2.8559,     27.588,    34.7741,2,     -999.0,9,     -999.0,9,     -999.0,     -999.0,9,     -999.0
33RO20110926,        A10,      63,          1,          8,      11033,2,20111016,       0831,   -30.0009,   -20.5097,       4507,  1799.7,   2.8010,  34.7464,2,  34.7468,2,    205.5,2,   206.4,2,    52.2,2,    28.2,2,    0.01,2,   1.939,2,   0.075,2,   0.038,2,   0.000,2,     2214.9,2,  2333.2,2,  -999.0,9, -999.00,   7.6473,2,       25,-999.000,9,-999.0000,9, -999.00,9,  -999.0,9,  -999.0,   0.328,3, -999.00,9,-999.0000,5, -999.00,9, 1799.70,  -999.0,9,   2.6697,     27.712,    34.9107,6,     -999.0,9,     -999.0,9,     -999.0,     -999.0,9,     -999.0
33RO20110926,        A10,      63,          1,          7,      11705,2,20111016,       0831,   -30.0009,   -20.5097,       4507,  2101.3,   2.7021,  34.8170,2,  34.8168,2,    222.1,2,   223.6,2,    47.9,6,    25.4,6,    0.01,6,   1.744,6,   0.028,2,   0.015,2,   0.000,2,     2203.7,2,  2333.3,2,  -999.0,9, -999.00,   7.6833,2,       25,-999.000,9,-999.0000,9, -999.00,9,  -999.0,9,  -999.0,   0.196,3, -999.00,9,  41.1707,2, -999.00,9, 2101.30,  -999.0,9,   2.5453,     27.779,    34.9810,2,     -999.0,9,     -999.0,9,     -999.0,     -999.0,9,     -999.0
33RO20110926,        A10,      63,          1,          6,      11029,2,20111016,       0831,   -30.0009,   -20.5097,       4507,  2450.1,   2.7496,  34.8738,2,  34.8748,2,    238.5,2,   237.9,2,    40.4,2,    23.2,2,    0.01,2,   1.577,2,   0.011,2,   0.007,2,   0.019,2,     2189.1,2,    2331,2,  -999.0,9, -999.00,   7.7114,2,       25,-999.000,9,-999.0000,9, -999.00,9,  -999.0,9,  -999.0,   0.144,3, -999.00,9,  37.8732,2, -999.00,9, 2450.10,  -999.0,9,   2.5593,     27.825,    35.0393,2,     -999.0,9,     -999.0,9,     -999.0,     -999.0,9,     -999.0
33RO20110926,        A10,      63,          1,          5,      11704,2,20111016,       0831,   -30.0009,   -20.5097,       4507,  2851.5,   2.7280,  34.9020,2,  34.9034,2,    247.6,2,   247.6,2,    36.5,2,    21.8,2,    0.01,2,   1.476,2,   0.007,2,   0.006,2,   0.062,2,     2180.8,2,  2325.7,2,  -999.0,9, -999.00,   7.7206,2,       25,-999.000,9,-999.0000,9, -999.00,9,  -999.0,9,  -999.0,   0.133,3, -999.00,9,  42.4878,2, -999.00,9, 2851.50,  -999.0,9,   2.4985,     27.853,    35.0680,2,     -999.0,9,     -999.0,9,     -999.0,     -999.0,9,     -999.0
33RO20110926,        A10,      63,          1,          4,      11030,2,20111016,       0831,   -30.0009,   -20.5097,       4507,  3300.1,   2.4706,  34.8883,2,  34.8914,2,    248.8,2,   248.7,2,    43.4,2,    22.3,2,    0.01,2,   1.516,2,   0.006,2,   0.004,2,   0.075,2,     2187.1,2,  2329.9,2,  -999.0,9, -999.00,   7.7176,2,       25,-999.000,9,-999.0000,9, -999.00,9,  -999.0,9,  -999.0,   0.125,3, -999.00,9,  41.2976,2, -999.00,9, 3300.10,  -999.0,9,   2.2004,     27.868,    35.0559,2,     -999.0,9,     -999.0,9,     -999.0,     -999.0,9,     -999.0
33RO20110926,        A10,      63,          1,          3,      11703,2,20111016,       0831,   -30.0009,   -20.5097,       4507,  3700.7,   1.9837,  34.8422,2,  34.8445,2,    243.0,2,   241.7,2,    60.3,2,    24.6,2,    0.01,2,   1.678,2,   0.010,2,   0.006,2,   0.229,2,     2205.3,2,  2339.6,2,  -999.0,9, -999.00,   7.6985,2,       25,-999.000,9,-999.0000,9, -999.00,9,  -999.0,9,  -999.0,   0.133,3, -999.00,9,  42.9561,2, -999.00,9, 3700.70,  -999.0,9,   1.6831,     27.872,    35.0088,2,     -999.0,9,     -999.0,9,     -999.0,     -999.0,9,     -999.0
33RO20110926,        A10,      63,          1,          2,      11702,2,20111016,       0831,   -30.0009,   -20.5097,       4507,  4100.3,   1.5304,  34.7931,2,  34.7933,2,    234.9,2,   233.3,2,    79.5,6,    27.0,6,    0.01,6,   1.862,6,   0.026,2,   0.014,2,   0.150,2,       2225,2,  2349.8,6,  -999.0,9, -999.00,   7.6735,6,       25,-999.000,9,-999.0000,9, -999.00,9,  -999.0,9,  -999.0,   0.175,3, -999.00,9,   40.439,2, -999.00,9, 4100.30,  -999.0,9,   1.1989,     27.866,    34.9574,2,     -999.0,9,     -999.0,9,     -999.0,     -999.0,9,     -999.0
33RO20110926,        A10,      63,          1,          1,      11701,2,20111016,       0831,   -30.0009,   -20.5097,       4507,  4652.8,   1.3552,  34.7671,2,  34.7680,2,    229.1,2,   228.8,2,    89.2,2,    28.4,2,    0.01,2,   1.970,2,   0.053,6,   0.028,6,   0.133,6,       2236,6,  2354.8,2,  -999.0,9, -999.00,   7.6625,2,       25,-999.000,9,-999.0000,9, -999.00,9,  -999.0,9,  -999.0,   0.260,3, -999.00,9,  42.1756,2, -999.00,9, 4652.80,  -999.0,9,   0.9664,     27.861,    34.9319,2,     -999.0,9,     -999.0,9,     -999.0,     -999.0,9,     -999.0