BOTTLE,20220815CCHSIOAMB
EXPOCODE,SECT_ID,STNNBR,CASTNO,SAMPNO,BTLNBR,BTLNBR_FLAG_W,DATE,TIME,LATITUDE,LONGITUDE,DEPTH,CTDPRS,CTDTMP,CTDSAL,CTDSAL_FLAG_W,SALNTY,SALNTY_FLAG_W,CTDOXY,CTDOXY_FLAG_W,OXYGEN,OXYGEN_FLAG_W,SILCAT,SILCAT_FLAG_W,NITRAT,NITRAT_FLAG_W,NITRIT,NITRIT_FLAG_W,PHSPHT,PHSPHT_FLAG_W,CFC-11,CFC-11_FLAG_W,CFC-12,CFC-12_FLAG_W,SF6,SF6_FLAG_W,TCARBN,TCARBN_FLAG_W,ALKALI,ALKALI_FLAG_W,PCO2,PCO2_FLAG_W,PCO2TMP,PH_SWS,PH_SWS_FLAG_W,PH_TMP,TRITUM,TRITUM_FLAG_W,HELIUM,HELIUM_FLAG_W,DELC13,DELC13_FLAG_W,DELC14,DELC14_FLAG_W,C14ERR,CCL4,CCL4_FLAG_W,DELO18,DELO18_FLAG_W,DOC,DOC_FLAG_W,TDN,TDN_FLAG_W,CTDRAW,14C-DOC,14C-DOC_FLAG_W,THETA,SIG0,SALTREF,SALTREF_FLAG_W,BLACKC,BLACKC_FLAG_W,PIGMENTS,PIGMENTS_FLAG_W,14C-DOCERR,13C-DOC,13C-DOC_FLAG_W,13C-DOCERR
,,,,,,,,,,,METERS,DBAR,ITS-90,PSS-78,,PSS-78,,UMOL/KG,,UMOL/KG,,UMOL/KG,,UMOL/KG,,UMOL/KG,,UMOL/KG,,PMOL/KG,,PMOL/KG,,FMOL/KG,,UMOL/KG,,UMOL/KG,,UATM,,DEG C,,,DEG C,TU,,NMOL/KG,,/MILLE,,/MILLE,,/MILLE,PMOL/KG,,/MILLE,,UMOL/KG,,UMOL/KG,,DBAR,/MILLE,,DEG C,KG/M^3,G/KG,,,,,,/MILLE,/MILLE,,/MILLE
33RO20110926,        A10,      72,          1,         24,      11714,2,20111019,       0926,   -30.0013,   -27.0390,       4650,     5.5,  17.0906,  35.7888,2,  35.7891,2,    239.1,2,   240.1,2,     1.2,2,     0.1,2,    0.01,2,   0.112,4,   2.447,6,   1.469,6,   1.494,6,     2081.6,6,  2348.5,2,  -999.0,9, -999.00,   7.9759,2,       25,-999.000,1,-999.0000,1, -999.00,9,  -999.0,9,  -999.0,   3.970,4, -999.00,1,-999.0000,9, -999.00,9,    5.50,  -999.0,9,  17.0897,     26.098,    35.9579,2,     -999.0,9,     -999.0,1,     -999.0,     -999.0,9,     -999.0
33RO20110926,        A10,      72,          1,         23,      11713,2,20111019,       0926,   -30.0013,   -27.0390,       4650,    49.6,  17.0187,  35.8021,2,  35.8005,2,    239.2,2,   240.7,2,     1.2,2,     0.1,2,    0.01,2,   0.119,4,   2.442,2,   1.474,2,   1.516,2,     2082.8,2,  2351.3,6,  -999.0,9, -999.00,   7.9684,6,       25,-999.000,1,-999.0000,1, -999.00,9,  -999.0,9,  -999.0,   3.891,4, -999.00,1,-999.0000,9, -999.00,9,   49.60,  -999.0,9,  17.0105,     26.126,    35.9693,2,     -999.0,9,     -999.0,1,     -999.0,     -999.0,9,     -999.0
33RO20110926,        A10,      72,          1,         22,      11712,2,20111019,       0926,   -30.0013,   -27.0390,       4650,    90.0,  16.6951,  35.7934,2,  35.7940,2,    234.6,2,     236,2,     1.3,2,     0.4,2,    0.22,2,   0.150,4,   2.464,2,   1.480,2,   1.464,2,     2085.3,2,  2349.7,2,  -999.0,9, -999.00,   7.9589,2,       25,-999.000,1,-999.0000,1, -999.00,9,  -999.0,9,  -999.0,   4.430,4, -999.00,1,-999.0000,9, -999.00,9,   90.00,  -999.0,9,  16.6804,     26.200,    35.9627,2,     -999.0,9,     -999.0,1,     -999.0,     -999.0,9,     -999.0
33RO20110926,        A10,      72,          1,         21,      11010,2,20111019,       0926,   -30.0013,   -27.0390,       4650,   150.2,  16.2404,  35.7102,2,  35.7059,2,    233.3,2,   233.7,2,     1.4,2,     1.4,2,    0.21,2,   0.194,4,   2.516,2,   1.512,2,   1.492,2,     2088.7,2,    2343,2,  -999.0,9, -999.00,   7.9529,2,       25,-999.000,1,-999.0000,1, -999.00,9,  -999.0,9,  -999.0,   3.518,4, -999.00,1,-999.0000,9, -999.00,9,  150.20,  -999.0,9,  16.2163,     26.243,    35.8743,2,     -999.0,9,     -999.0,1,     -999.0,     -999.0,9,     -999.0
33RO20110926,        A10,      72,          1,         20,      11715,2,20111019,       0926,   -30.0013,   -27.0390,       4650,   219.3,  14.5818,  35.4448,2,  35.4452,2,    216.5,2,   216.6,2,     2.2,2,     6.1,2,    0.02,2,   0.423,4,   2.763,2,   1.618,2,   1.413,2,     2109.8,2,  2329.7,2,  -999.0,9, -999.00,   7.8908,2,       25,-999.000,1,-999.0000,1, -999.00,9,  -999.0,9,  -999.0,   1.596,3, -999.00,1,-999.0000,9, -999.00,9,  219.30,  -999.0,9,  14.5491,     26.409,    35.6124,2,     -999.0,9,     -999.0,1,     -999.0,     -999.0,9,     -999.0
33RO20110926,        A10,      72,          1,         19,      11007,2,20111019,       0926,   -30.0013,   -27.0390,       4650,   290.3,  13.1123,  35.2192,2,  35.2188,2,    218.8,2,   214.7,2,     3.3,2,     9.4,2,    0.01,2,   0.593,4,   2.965,2,   1.698,2,   1.327,2,     2120.5,2,  2051.4,4,  -999.0,9, -999.00,   7.9078,4,       25,-999.000,1,-999.0000,1, -999.00,9,  -999.0,9,  -999.0,   1.626,3, -999.00,1,-999.0000,9, -999.00,9,  290.30,  -999.0,9,  13.0719,     26.548,    35.3848,2,     -999.0,9,     -999.0,9,     -999.0,     -999.0,9,     -999.0
33RO20110926,        A10,      72,          1,         18,      11710,2,20111019,       0926,   -30.0013,   -27.0390,       4650,   380.2,  12.3481,  35.1534,2,  35.1561,2,    220.1,2,     221,2,     3.5,6,    10.4,6,    0.01,6,   0.640,4,   3.056,2,   1.729,2,   1.385,2,     2124.6,2,  2315.8,2,  -999.0,9, -999.00,   7.8326,2,       25,-999.000,1,-999.0000,1, -999.00,9,  -999.0,9,  -999.0,   1.794,3, -999.00,1,-999.0000,9, -999.00,9,  380.20,  -999.0,9,  12.2971,     26.652,    35.3219,2,     -999.0,9,     -999.0,9,     -999.0,     -999.0,9,     -999.0
33RO20110926,        A10,      72,          1,         17,      11023,2,20111019,       0926,   -30.0013,   -27.0390,       4650,   489.7,  10.6034,  34.8890,2,  34.8906,2,    213.0,2,     212,2,     5.7,2,    15.7,2,    0.01,2,   0.901,4,   3.199,2,   1.753,2,   1.121,2,     2137.7,2,  2304.7,2,  -999.0,9, -999.00,   7.7735,2,       25,-999.000,1,-999.0000,1, -999.00,9,  -999.0,9,  -999.0,   2.017,3, -999.00,1,-999.0000,9, -999.00,9,  489.70,  -999.0,9,  10.5436,     26.774,    35.0551,2,     -999.0,9,     -999.0,9,     -999.0,     -999.0,9,     -999.0
33RO20110926,        A10,      72,          1,         16,      11709,2,20111019,       0926,   -30.0013,   -27.0390,       4650,   601.5,   7.9045,  34.5501,2,  34.5553,2,    214.8,2,   214.2,2,     9.7,2,    22.2,2,    0.01,2,   1.246,4,   3.355,2,   1.768,2,   0.964,2,     2154.9,2,  2290.2,2,  -999.0,9, -999.00,   7.7004,2,       25,-999.000,1,-999.0000,1, -999.00,9,  -999.0,9,  -999.0,   3.208,3, -999.00,1,-999.0000,9, -999.00,9,  601.50,  -999.0,9,   7.8429,     26.943,    34.7182,3,     -999.0,9,     -999.0,9,     -999.0,     -999.0,9,     -999.0
33RO20110926,        A10,      72,          1,         15,      11006,2,20111019,       0926,   -30.0013,   -27.0390,       4650,   710.4,   6.1392,  34.3680,2,  34.3700,2,    226.0,2,   224.4,2,    13.3,2,    25.5,2,    0.01,2,   1.446,4,   3.445,2,   1.771,2,   0.916,2,     2162.6,2,  2286.3,2,  -999.0,9, -999.00,   7.6753,2,       25,-999.000,1,-999.0000,1, -999.00,9,  -999.0,9,  -999.0,   4.353,3, -999.00,1,-999.0000,9, -999.00,9,  710.40,  -999.0,9,   6.0755,     27.044,    34.5320,3,     -999.0,9,     -999.0,9,     -999.0,     -999.0,9,     -999.0
33RO20110926,        A10,      72,          1,         14,      11708,2,20111019,       0926,   -30.0013,   -27.0390,       4650,   825.0,   4.7864,  34.2817,2,  34.2838,2,    231.4,2,   230.2,2,    19.2,6,    28.2,6,    0.01,6,   1.612,4,   3.205,2,   1.607,2,   0.750,2,     2173.1,2,  2287.9,2,  -999.0,9, -999.00,   7.6513,2,       25,-999.000,1,-999.0000,1, -999.00,9,  -999.0,9,  -999.0,   4.823,3, -999.00,1,-999.0000,9, -999.00,9,  825.00,  -999.0,9,   4.7203,     27.139,    34.4455,2,     -999.0,9,     -999.0,9,     -999.0,     -999.0,9,     -999.0
33RO20110926,        A10,      72,          1,         13,      11031,2,20111019,       0926,   -30.0013,   -27.0390,       4650,   974.7,   3.8454,  34.2992,2,  34.3001,2,    218.8,2,   217.5,2,    31.0,2,    30.7,2,    0.01,2,   1.839,4,   2.341,2,   1.143,2,   0.451,2,     2193.1,2,  2296.9,2,  -999.0,9, -999.00,   7.6314,2,       25,-999.000,1,-999.0000,1, -999.00,9,  -999.0,9,  -999.0,   3.964,3, -999.00,1,-999.0000,9, -999.00,9,  974.70,  -999.0,9,   3.7733,     27.252,    34.4619,2,     -999.0,9,     -999.0,9,     -999.0,     -999.0,9,     -999.0
33RO20110926,        A10,      72,          1,         12,      11027,2,20111019,       0926,   -30.0013,   -27.0390,       4650,  1100.1,   3.3089,  34.3396,2,  34.3401,2,    208.7,2,     207,2,    40.3,2,    32.0,2,    0.01,2,   1.976,4,   1.699,2,   0.830,2,   0.356,2,     2208.7,2,  -999.0,5,  -999.0,9, -999.00,-999.0000,5,  -999.00,-999.000,1,-999.0000,1, -999.00,9,  -999.0,9,  -999.0,   3.078,3, -999.00,1,-999.0000,9, -999.00,9, 1100.10,  -999.0,9,   3.2310,     27.337,    34.5021,2,     -999.0,9,     -999.0,9,     -999.0,     -999.0,9,     -999.0
33RO20110926,        A10,      72,          1,         11,      11707,2,20111019,       0926,   -30.0013,   -27.0390,       4650,  1299.7,   3.0555,  34.4819,2,  34.4830,2,    191.1,2,   188.9,2,    52.2,2,    32.6,2,    0.01,2,   2.086,4,   0.711,2,   0.342,2,   0.127,2,     2227.3,2,  2316.6,2,  -999.0,9, -999.00,   7.5874,2,       25,-999.000,1,-999.0000,1, -999.00,9,  -999.0,9,  -999.0,   1.633,3, -999.00,1,-999.0000,9, -999.00,9, 1299.70,  -999.0,9,   2.9637,     27.476,    34.6456,2,     -999.0,9,     -999.0,9,     -999.0,     -999.0,9,     -999.0
33RO20110926,        A10,      72,          1,         10,      11003,2,20111019,       0926,   -30.0013,   -27.0390,       4650,  1475.4,   2.9076,  34.5899,2,  34.5926,2,    189.9,2,   188.9,2,    55.9,2,    31.4,2,    0.00,2,   2.056,4,   0.336,2,   0.161,2,   0.048,2,     2229.7,6,    2327,6,  -999.0,9, -999.00,   7.5967,6,       25,-999.000,1,-999.0000,1, -999.00,9,  -999.0,9,  -999.0,   0.990,3, -999.00,1,-999.0000,9, -999.00,9, 1475.40,  -999.0,9,   2.8028,     27.578,    34.7557,2,     -999.0,9,     -999.0,9,     -999.0,     -999.0,9,     -999.0
33RO20110926,        A10,      72,          1,          9,      11706,2,20111019,       0926,   -30.0013,   -27.0390,       4650,  1599.5,   2.8634,  34.6654,2,  34.6663,2,    194.3,2,   195.2,2,    55.2,2,    30.1,2,    0.00,2,   1.973,4,   0.172,2,   0.082,2,   0.039,2,     2225.9,2,    2330,2,  -999.0,9, -999.00,   7.6172,2,       25,-999.000,1,-999.0000,1, -999.00,9,  -999.0,9,  -999.0,   0.722,3, -999.00,1,-999.0000,9, -999.00,9, 1599.50,  -999.0,9,   2.7486,     27.641,    34.8297,2,     -999.0,9,     -999.0,9,     -999.0,     -999.0,9,     -999.0
33RO20110926,        A10,      72,          1,          8,      11033,2,20111019,       0926,   -30.0013,   -27.0390,       4650,  1851.1,   2.7740,  34.7543,2,  34.7553,2,    208.2,2,   207.3,2,    52.8,2,    27.7,2,    0.00,2,   1.818,4,   0.062,2,   0.032,2,   0.000,2,     2216.2,2,  2332.2,2,  -999.0,9, -999.00,   7.6463,2,       25,-999.000,9,-999.0000,1, -999.00,9,  -999.0,9,  -999.0,   0.389,3, -999.00,9,-999.0000,9, -999.00,9, 1851.10,  -999.0,9,   2.6386,     27.722,    34.9192,2,     -999.0,9,     -999.0,9,     -999.0,     -999.0,9,     -999.0
33RO20110926,        A10,      72,          1,          7,      11705,2,20111019,       0926,   -30.0013,   -27.0390,       4650,  2300.2,   2.7288,  34.8539,2,  34.8540,2,    231.5,2,     233,2,    43.9,6,    23.7,6,    0.01,6,   1.546,4,   0.012,2,   0.007,2,   0.000,2,     2196.1,2,  2330.8,2,  -999.0,9, -999.00,   7.6924,2,       25,-999.000,1,-999.0000,1, -999.00,9,  -999.0,9,  -999.0,   0.161,3, -999.00,9,-999.0000,9, -999.00,9, 2300.20,  -999.0,9,   2.5532,     27.809,    35.0184,2,     -999.0,9,     -999.0,9,     -999.0,     -999.0,9,     -999.0
33RO20110926,        A10,      72,          1,          6,      11029,2,20111019,       0926,   -30.0013,   -27.0390,       4650,  2700.1,   2.7372,  34.8923,2,  34.8926,2,    244.0,2,   244.1,2,    38.3,2,    22.2,2,    0.00,2,   1.417,4,   0.006,2,   0.004,2,   0.000,2,     2185.6,2,  2329.7,2,  -999.0,9, -999.00,   7.7184,2,       25,-999.000,9,-999.0000,1, -999.00,9,  -999.0,9,  -999.0,   0.143,3, -999.00,9,-999.0000,9, -999.00,9, 2700.10,  -999.0,9,   2.5227,     27.842,    35.0571,2,     -999.0,9,     -999.0,9,     -999.0,     -999.0,9,     -999.0
33RO20110926,        A10,      72,          1,          5,      11704,2,20111019,       0926,   -30.0013,   -27.0390,       4650,  3100.3,   2.5937,  34.8986,2,  34.9000,2,    249.0,2,   248.3,2,    39.5,2,    21.9,2,    0.01,2,   1.405,4,   0.009,2,   0.007,2,   0.042,2,     2184.7,2,  2328.3,2,  -999.0,9, -999.00,   7.7256,2,       25,-999.000,1,-999.0000,1, -999.00,9,  -999.0,9,  -999.0,   0.172,3, -999.00,9,-999.0000,9, -999.00,9, 3100.30,  -999.0,9,   2.3415,     27.864,    35.0646,2,     -999.0,9,     -999.0,9,     -999.0,     -999.0,9,     -999.0
33RO20110926,        A10,      72,          1,          4,      11030,2,20111019,       0926,   -30.0013,   -27.0390,       4650,  3501.0,   2.1406,  34.8574,2,  34.8572,2,    243.2,2,   242.6,2,    55.4,2,    23.9,2,    0.01,2,   1.621,4,   0.016,2,   0.010,2,   0.053,2,     2199.7,2,  2336.8,2,  -999.0,9, -999.00,   7.7035,2,       25,-999.000,9,-999.0000,1, -999.00,9,  -999.0,9,  -999.0,   0.196,3, -999.00,9,-999.0000,9, -999.00,9, 3501.00,  -999.0,9,   1.8572,     27.868,    35.0215,2,     -999.0,9,     -999.0,9,     -999.0,     -999.0,9,     -999.0
33RO20110926,        A10,      72,          1,          3,      11703,2,20111019,       0926,   -30.0013,   -27.0390,       4650,  3998.9,   1.3962,  34.7794,2,  34.7826,2,    231.0,2,   230.4,2,    85.3,2,    27.9,2,    0.01,2,   2.045,4,   0.045,2,   0.023,2,   0.144,2,     2230.3,2,    2352,2,  -999.0,9, -999.00,   7.6645,2,       25,-999.000,1,-999.0000,1, -999.00,9,  -999.0,9,  -999.0,   0.275,3, -999.00,9,-999.0000,9, -999.00,9, 3998.90,  -999.0,9,   1.0796,     27.865,    34.9467,2,     -999.0,9,     -999.0,9,     -999.0,     -999.0,9,     -999.0
33RO20110926,        A10,      72,          1,          2,      11702,2,20111019,       0926,   -30.0013,   -27.0390,       4650,  4494.6,   1.2232,  34.7550,2,  34.7572,2,    226.1,2,   226.6,2,    94.8,6,    29.0,6,    0.01,6,   2.184,4,   0.075,2,   0.037,2,   0.123,2,       2239,2,  2356.2,2,  -999.0,9, -999.00,   7.6515,2,       25,-999.000,1,-999.0000,1, -999.00,9,  -999.0,9,  -999.0,   0.350,3, -999.00,9,-999.0000,9, -999.00,9, 4494.60,  -999.0,9,   0.8569,     27.860,    34.9211,2,     -999.0,9,     -999.0,9,     -999.0,     -999.0,9,     -999.0
33RO20110926,        A10,      72,          1,          1,      11701,2,20111019,       0926,   -30.0013,   -27.0390,       4650,  4755.6,   1.1945,  34.7464,2,  34.7469,2,    224.8,2,   223.3,2,    98.3,2,    29.6,2,    0.01,2,   2.235,4,   0.112,6,   0.055,6,   0.049,2,       2244,6,  2357.2,6,  -999.0,9, -999.00,   7.6439,6,       25,-999.000,1,-999.0000,1, -999.00,9,  -999.0,9,  -999.0,   0.440,3, -999.00,9,-999.0000,9, -999.00,9, 4755.60,  -999.0,9,   0.7991,     27.855,    34.9107,2,     -999.0,9,     -999.0,9,     -999.0,     -999.0,9,     -999.0