BOTTLE,20220815CCHSIOAMB
EXPOCODE,SECT_ID,STNNBR,CASTNO,SAMPNO,BTLNBR,BTLNBR_FLAG_W,DATE,TIME,LATITUDE,LONGITUDE,DEPTH,CTDPRS,CTDTMP,CTDSAL,CTDSAL_FLAG_W,SALNTY,SALNTY_FLAG_W,CTDOXY,CTDOXY_FLAG_W,OXYGEN,OXYGEN_FLAG_W,SILCAT,SILCAT_FLAG_W,NITRAT,NITRAT_FLAG_W,NITRIT,NITRIT_FLAG_W,PHSPHT,PHSPHT_FLAG_W,CFC-11,CFC-11_FLAG_W,CFC-12,CFC-12_FLAG_W,SF6,SF6_FLAG_W,TCARBN,TCARBN_FLAG_W,ALKALI,ALKALI_FLAG_W,PCO2,PCO2_FLAG_W,PCO2TMP,PH_SWS,PH_SWS_FLAG_W,PH_TMP,TRITUM,TRITUM_FLAG_W,HELIUM,HELIUM_FLAG_W,DELC13,DELC13_FLAG_W,DELC14,DELC14_FLAG_W,C14ERR,CCL4,CCL4_FLAG_W,DELO18,DELO18_FLAG_W,DOC,DOC_FLAG_W,TDN,TDN_FLAG_W,CTDRAW,14C-DOC,14C-DOC_FLAG_W,THETA,SIG0,SALTREF,SALTREF_FLAG_W,BLACKC,BLACKC_FLAG_W,PIGMENTS,PIGMENTS_FLAG_W,14C-DOCERR,13C-DOC,13C-DOC_FLAG_W,13C-DOCERR
,,,,,,,,,,,METERS,DBAR,ITS-90,PSS-78,,PSS-78,,UMOL/KG,,UMOL/KG,,UMOL/KG,,UMOL/KG,,UMOL/KG,,UMOL/KG,,PMOL/KG,,PMOL/KG,,FMOL/KG,,UMOL/KG,,UMOL/KG,,UATM,,DEG C,,,DEG C,TU,,NMOL/KG,,/MILLE,,/MILLE,,/MILLE,PMOL/KG,,/MILLE,,UMOL/KG,,UMOL/KG,,DBAR,/MILLE,,DEG C,KG/M^3,G/KG,,,,,,/MILLE,/MILLE,,/MILLE
33RO20110926,        A10,       7,          1,         24,      11714,2,20110929,       0551,   -29.4999,    12.4749,       3640,     5.1,  16.1624,  35.3938,2,  35.3936,2,    247.7,2,   250.6,2,     2.8,2,     1.2,2,    0.07,2,   0.284,2,   2.604,6,   1.554,6,   1.560,6,     2063.7,6,  2332.4,6,  -999.0,9, -999.00,   7.9599,6,       25,-999.000,9,-999.0000,9, -999.00,9,  -999.0,9,  -999.0,   2.866,3, -999.00,9,  61.7756,2,    4.66,2,    5.10,  -999.0,9,  16.1616,     26.013,    35.5605,2,     -999.0,9,     -999.0,1,     -999.0,     -999.0,9,     -999.0
33RO20110926,        A10,       7,          1,         23,      11713,2,20110929,       0551,   -29.4999,    12.4749,       3640,    20.0,  16.1644,  35.3951,2,  35.3958,2,    248.2,2,   250.8,2,     2.8,2,     1.2,2,    0.07,2,   0.284,2,   2.613,2,   1.553,2,   1.543,2,     2063.9,2,  2330.7,2,  -999.0,9, -999.00,   7.9629,2,       25,-999.000,9,-999.0000,9, -999.00,9,  -999.0,9,  -999.0,   2.845,3, -999.00,9,  63.5122,2,    4.72,2,   20.00,  -999.0,9,  16.1612,     26.015,    35.5627,2,     -999.0,9,     -999.0,9,     -999.0,     -999.0,9,     -999.0
33RO20110926,        A10,       7,          1,         22,      11712,2,20110929,       0551,   -29.4999,    12.4749,       3640,    38.7,  16.0671,  35.4577,2,  35.4589,2,    250.0,2,   249.4,2,     2.9,2,     1.1,2,    0.09,2,   0.254,2,   2.587,2,   1.550,2,   1.543,2,     2059.2,2,  2330.8,2,  -999.0,9, -999.00,   7.9749,2,       25,-999.000,9,-999.0000,9, -999.00,9,  -999.0,9,  -999.0,   2.662,3, -999.00,9,  62.1951,2,    5.47,2,   38.70,  -999.0,9,  16.0610,     26.090,    35.6262,2,     -999.0,9,     -999.0,1,     -999.0,     -999.0,9,     -999.0
33RO20110926,        A10,       7,          1,         21,      11010,2,20110929,       0551,   -29.4999,    12.4749,       3640,    80.9,  15.5543,  35.4160,2,  35.4187,2,    242.3,2,   243.6,2,     3.3,2,     2.5,2,    0.33,2,   0.374,2,   2.592,2,   1.562,2,   1.540,2,     2069.6,2,  2329.9,2,  -999.0,9, -999.00,   7.9459,2,       25,-999.000,9,-999.0000,9, -999.00,9,  -999.0,9,  -999.0,   2.377,3, -999.00,9,  59.2878,2,    7.30,2,   80.90,  -999.0,9,  15.5417,     26.175,    35.5857,6,     -999.0,9,     -999.0,1,     -999.0,     -999.0,9,     -999.0
33RO20110926,        A10,       7,          1,         20,      11715,2,20110929,       0551,   -29.4999,    12.4749,       3640,   128.8,  13.4229,  35.1449,2,  35.4188,4,    217.5,2,   243.2,4,     3.3,6,     2.5,6,    0.33,6,   0.371,6,   2.643,3,   1.570,3,   1.535,2,     2070.6,4,  2330.9,2,  -999.0,9, -999.00,   7.9449,2,       25,-999.000,9,-999.0000,9, -999.00,9,  -999.0,9,  -999.0,   2.461,3, -999.00,9,   57.678,2,    7.72,2,  128.80,  -999.0,9,  13.4048,     26.634,    35.5859,2,     -999.0,9,     -999.0,9,     -999.0,     -999.0,9,     -999.0
33RO20110926,        A10,       7,          1,         19,      11007,2,20110929,       0551,   -29.4999,    12.4749,       3640,   181.7,  11.6209,  34.9710,2,  34.9722,2,    206.3,2,   203.7,2,     6.2,2,    14.2,2,    0.01,2,   1.026,2,   3.075,2,   1.745,2,   1.267,2,     2127.6,2,    2305,3,  -999.0,9, -999.00,   7.7847,3,       25,-999.000,9,-999.0000,9, -999.00,9,  -999.0,9,  -999.0,   1.018,3, -999.00,9,   49.161,2,   16.50,2,  181.70,  -999.0,9,  11.5977,     26.640,    35.1371,2,     -999.0,9,     -999.0,9,     -999.0,     -999.0,9,     -999.0
33RO20110926,        A10,       7,          1,         18,      11710,2,20110929,       0551,   -29.4999,    12.4749,       3640,   240.9,  10.6277,  34.8697,2,  34.8711,2,    203.4,2,     203,2,     8.1,2,    16.5,2,    0.01,2,   1.195,2,   3.162,2,   1.734,2,   1.151,2,     2136.1,2,  2301.6,3,  -999.0,9, -999.00,   7.7576,3,       25,-999.000,9,-999.0000,9, -999.00,9,  -999.0,9,  -999.0,   1.095,3, -999.00,9,  48.6341,2, -999.00,9,  240.90,  -999.0,9,  10.5987,     26.744,    35.0356,2,     -999.0,9,     -999.0,9,     -999.0,     -999.0,9,     -999.0
33RO20110926,        A10,       7,          1,         17,      11023,2,20110929,       0551,   -29.4999,    12.4749,       3640,   381.3,   8.1971,  34.5957,2,  34.5993,2,    200.9,2,   199.4,2,    13.6,2,    22.6,2,    0.01,2,   1.582,2,   3.087,2,   1.632,2,   0.972,2,     2155.5,2,    2294,3,  -999.0,9, -999.00,   7.6783,3,       25,-999.000,9,-999.0000,9, -999.00,9,  -999.0,9,  -999.0,   1.650,3, -999.00,9,  47.6976,2, -999.00,9,  381.30,  -999.0,9,   8.1577,     26.931,    34.7625,2,     -999.0,9,     -999.0,9,     -999.0,     -999.0,9,     -999.0
33RO20110926,        A10,       7,          1,         16,      11709,2,20110929,       0551,   -29.4999,    12.4749,       3640,   450.8,   6.9834,  34.4788,2,  34.4770,2,    206.1,2,     208,2,    16.4,2,    25.0,2,    0.02,2,   1.728,2,   3.047,2,   1.576,2,   0.871,2,     2160.2,2,  2289.2,3,  -999.0,9, -999.00,   7.6655,3,       25,-999.000,9,-999.0000,9, -999.00,9,  -999.0,9,  -999.0,   1.994,3, -999.00,9,   44.361,2, -999.00,9,  450.80,  -999.0,9,   6.9408,     27.014,    34.6396,2,     -999.0,9,     -999.0,9,     -999.0,     -999.0,9,     -999.0
33RO20110926,        A10,       7,          1,         15,      11006,2,20110929,       0551,   -29.4999,    12.4749,       3640,   519.7,   6.0153,  34.4080,2,  34.4115,2,    218.3,2,   193.9,4,    19.3,6,    28.9,6,    0.01,6,   1.952,6,   2.776,2,   1.420,2,   0.719,2,     2177.1,2,  2287.8,3,  -999.0,9, -999.00,   7.6084,3,       25,-999.000,9,-999.0000,9, -999.00,9,  -999.0,9,  -999.0,   1.857,3, -999.00,9,  41.5805,2, -999.00,9,  519.70,  -999.0,9,   5.9698,     27.089,    34.5737,2,     -999.0,9,     -999.0,9,     -999.0,     -999.0,9,     -999.0
33RO20110926,        A10,       7,          1,         14,      11708,2,20110929,       0551,   -29.4999,    12.4749,       3640,   590.6,   5.2050,  34.3690,2,  34.3714,2,    209.7,2,   195.1,4,    23.8,2,    30.5,2,    0.01,2,   2.072,2,   2.490,2,   1.248,2,   0.609,2,     2184.4,2,  2292.7,3,  -999.0,9, -999.00,   7.6004,3,       25,-999.000,9,-999.0000,9, -999.00,9,  -999.0,9,  -999.0,   1.990,3, -999.00,9,  39.7171,2, -999.00,9,  590.60,  -999.0,9,   5.1567,     27.159,    34.5335,2,     -999.0,9,     -999.0,9,     -999.0,     -999.0,9,     -999.0
33RO20110926,        A10,       7,          1,         13,      11031,2,20110929,       0551,   -29.4999,    12.4749,       3640,   661.1,   4.5219,  34.3345,2,  34.3356,2,    210.8,2,   210.6,2,    28.8,2,    30.3,2,    0.01,2,   2.080,2,   2.536,2,   1.270,2,   0.609,2,     2184.1,2,  -999.0,5,  -999.0,9, -999.00,   7.6112,3,       25,-999.000,9,-999.0000,9, -999.00,9,  -999.0,9,  -999.0,   2.071,3, -999.00,9,  42.9073,3, -999.00,9,  661.10,  -999.0,9,   4.4711,     27.207,    34.4975,2,     -999.0,9,     -999.0,9,     -999.0,     -999.0,9,     -999.0
33RO20110926,        A10,       7,          1,         12,      11027,2,20110929,       0551,   -29.4999,    12.4749,       3640,   819.5,   3.7660,  34.4034,2,  34.4064,2,    190.3,2,   189.6,2,    43.6,2,    32.9,2,    0.01,2,   2.255,2,   1.484,2,   0.725,2,   0.295,2,     2207.6,2,  2312.2,4,  -999.0,9, -999.00,   7.5831,4,       25,-999.000,9,-999.0000,9, -999.00,9,  -999.0,9,  -999.0,   1.453,3, -999.00,9,  38.7512,2, -999.00,9,  819.50,  -999.0,9,   3.7067,     27.343,    34.5687,2,     -999.0,9,     -999.0,9,     -999.0,     -999.0,9,     -999.0
33RO20110926,        A10,       7,          1,         11,      11707,2,20110929,       0551,   -29.4999,    12.4749,       3640,   969.8,   3.4423,  34.5059,2,  34.5045,2,    173.8,2,   173.9,2,    57.1,2,    33.6,2,    0.01,2,   2.324,2,   0.800,2,   0.386,2,   0.169,2,     2228.5,2,  2324.9,4,  -999.0,9, -999.00,   7.5591,4,       25,-999.000,9,-999.0000,9, -999.00,9,  -999.0,9,  -999.0,   0.907,3, -999.00,9,  40.2927,2, -999.00,9,  969.80,  -999.0,9,   3.3733,     27.454,    34.6672,2,     -999.0,9,     -999.0,9,     -999.0,     -999.0,9,     -999.0
33RO20110926,        A10,       7,          1,         10,      11003,2,20110929,       0551,   -29.4999,    12.4749,       3640,  1122.0,   3.1786,  34.5939,2,  34.5948,2,    177.9,2,   178.3,2,    53.7,2,    32.5,2,    0.01,2,   2.223,2,   0.305,2,   0.144,2,   0.061,2,     2225.4,6,  2335.4,4,  -999.0,9, -999.00,   7.5824,2,       25,-999.000,9,-999.0000,9, -999.00,9,  -999.0,9,  -999.0,   0.399,3, -999.00,9,  42.8195,3, -999.00,9, 1122.00,  -999.0,9,   3.0996,     27.552,    34.7579,2,     -999.0,9,     -999.0,9,     -999.0,     -999.0,9,     -999.0
33RO20110926,        A10,       7,          1,          9,      11706,2,20110929,       0551,   -29.4999,    12.4749,       3640,  1320.0,   3.0160,  34.6984,2,  34.6987,2,    188.7,2,   190.3,2,    53.6,6,    30.2,6,    0.00,6,   2.067,6,   0.125,2,   0.059,2,   0.000,2,     2218.1,2,  2329.5,4,  -999.0,9, -999.00,   7.6084,2,       25,-999.000,9,-999.0000,9, -999.00,9,  -999.0,9,  -999.0,   0.195,3, -999.00,9,  39.9122,2, -999.00,9, 1320.00,  -999.0,9,   2.9225,     27.652,    34.8623,6,     -999.0,9,     -999.0,9,     -999.0,     -999.0,9,     -999.0
33RO20110926,        A10,       7,          1,          8,      11033,2,20110929,       0551,   -29.4999,    12.4749,       3640,  1589.6,   3.1803,  34.8241,2,  34.8242,2,    209.1,2,   209.3,2,    40.1,2,    26.4,2,    0.00,2,   1.779,2,   0.016,2,   0.009,2,   0.000,2,       2194,3,    2316,4,  -999.0,9, -999.00,   7.6573,2,       25,-999.000,9,-999.0000,9, -999.00,9,  -999.0,9,  -999.0,   0.049,3, -999.00,9,  41.8634,2, -999.00,9, 1589.60,  -999.0,9,   3.0621,     27.739,    34.9884,2,     -999.0,9,     -999.0,9,     -999.0,     -999.0,9,     -999.0
33RO20110926,        A10,       7,          1,          7,      11705,2,20110929,       0551,   -29.4999,    12.4749,       3640,  1859.4,   2.9946,  34.8507,2,  34.8520,2,    219.8,2,   220.6,2,    41.1,2,    25.0,2,    0.00,2,   1.694,2,   0.012,2,   0.007,2,   0.000,2,     2191.1,3,  2317.9,4,  -999.0,9, -999.00,   7.6723,2,       25,-999.000,9,-999.0000,9, -999.00,9,  -999.0,9,  -999.0,   0.041,3, -999.00,9,  41.6098,2, -999.00,9, 1859.40,  -999.0,9,   2.8550,     27.780,    35.0164,2,     -999.0,9,     -999.0,9,     -999.0,     -999.0,9,     -999.0
33RO20110926,        A10,       7,          1,          6,      11029,2,20110929,       0551,   -29.4999,    12.4749,       3640,  2150.9,   2.8373,  34.8693,2,  34.8711,2,    228.2,2,   227.8,2,    41.4,2,    24.1,2,    0.00,2,   1.629,2,   0.007,2,   0.004,2,   0.000,2,     2188.6,3,  2322.8,4,  -999.0,9, -999.00,   7.6904,2,       25,-999.000,9,-999.0000,9, -999.00,9,  -999.0,9,  -999.0,   0.035,3, -999.00,9,  42.1756,2, -999.00,9, 2150.90,  -999.0,9,   2.6737,     27.812,    35.0356,2,     -999.0,9,     -999.0,9,     -999.0,     -999.0,9,     -999.0
33RO20110926,        A10,       7,          1,          5,      11704,2,20110929,       0551,   -29.4999,    12.4749,       3640,  2450.5,   2.6350,  34.8636,2,  34.8647,2,    230.2,2,     230,2,    46.2,2,    24.3,2,    0.00,2,   1.638,2,   0.010,2,   0.006,2,   0.000,2,     2190.8,3,  2326.4,2,  -999.0,9, -999.00,   7.7034,2,       25,-999.000,9,-999.0000,9, -999.00,9,  -999.0,9,  -999.0,   0.034,3, -999.00,9,-999.0000,5, -999.00,9, 2450.50,  -999.0,9,   2.4467,     27.826,    35.0291,2,     -999.0,9,     -999.0,9,     -999.0,     -999.0,9,     -999.0
33RO20110926,        A10,       7,          1,          4,      11030,2,20110929,       0551,   -29.4999,    12.4749,       3640,  2749.9,   2.4866,  34.8595,2,  34.8623,2,    231.3,2,   230.6,2,    50.1,2,    24.3,2,    0.00,2,   1.649,2,   0.005,2,   0.003,2,   0.000,2,     2194.3,3,  2338.2,2,  -999.0,9, -999.00,   7.6944,2,       25,-999.000,9,-999.0000,9, -999.00,9,  -999.0,9,  -999.0,   0.023,3, -999.00,9,  39.3171,2, -999.00,9, 2749.90,  -999.0,9,   2.2723,     27.839,    35.0267,2,     -999.0,9,     -999.0,9,     -999.0,     -999.0,9,     -999.0
33RO20110926,        A10,       7,          1,          3,      11703,2,20110929,       0551,   -29.4999,    12.4749,       3640,  3052.8,   2.3815,  34.8592,2,  34.8606,2,    232.1,2,   232.6,2,    53.1,6,    24.4,6,    0.01,6,   1.647,6,   0.006,2,   0.003,2,   0.000,2,     2199.2,3,  2333.7,2,  -999.0,9, -999.00,   7.6944,2,       25,-999.000,9,-999.0000,9, -999.00,9,  -999.0,9,  -999.0,   0.014,3, -999.00,9,  42.2537,2, -999.00,9, 3052.80,  -999.0,9,   2.1391,     27.849,    35.0250,2,     -999.0,9,     -999.0,9,     -999.0,     -999.0,9,     -999.0
33RO20110926,        A10,       7,          1,          2,      11702,2,20110929,       0551,   -29.4999,    12.4749,       3640,  3349.9,   2.2839,  34.8542,2,  34.8555,2,    231.7,2,   231.9,2,    56.5,2,    24.7,2,    0.01,2,   1.673,2,   0.007,2,   0.004,2,   0.000,2,     2205.1,3,  2347.7,6,  -999.0,9, -999.00,    7.697,6,       25,-999.000,9,-999.0000,9, -999.00,9,  -999.0,9,  -999.0,   0.014,3, -999.00,9,  42.9756,2, -999.00,9, 3349.90,  -999.0,9,   2.0130,     27.855,    35.0198,2,     -999.0,9,     -999.0,9,     -999.0,     -999.0,9,     -999.0
33RO20110926,        A10,       7,          1,          1,      11701,2,20110929,       0551,   -29.4999,    12.4749,       3640,  3684.2,   1.9659,  34.8217,2,  34.8226,2,    224.8,2,     225,2,    71.2,2,    26.5,2,    0.02,2,   1.804,2,   0.011,6,   0.007,6,   0.000,6,     2220.8,3,    2358,2,  -999.0,9, -999.00,   7.6805,2,       25,-999.000,9,-999.0000,9, -999.00,9,  -999.0,9,  -999.0,   0.041,3, -999.00,9,  40.8878,2, -999.00,9, 3684.20,  -999.0,9,   1.6677,     27.855,    34.9868,2,     -999.0,9,     -999.0,9,     -999.0,     -999.0,9,     -999.0