BOTTLE,20220815CCHSIOAMB
EXPOCODE,SECT_ID,STNNBR,CASTNO,SAMPNO,BTLNBR,BTLNBR_FLAG_W,DATE,TIME,LATITUDE,LONGITUDE,DEPTH,CTDPRS,CTDTMP,CTDSAL,CTDSAL_FLAG_W,SALNTY,SALNTY_FLAG_W,CTDOXY,CTDOXY_FLAG_W,OXYGEN,OXYGEN_FLAG_W,SILCAT,SILCAT_FLAG_W,NITRAT,NITRAT_FLAG_W,NITRIT,NITRIT_FLAG_W,PHSPHT,PHSPHT_FLAG_W,CFC-11,CFC-11_FLAG_W,CFC-12,CFC-12_FLAG_W,SF6,SF6_FLAG_W,TCARBN,TCARBN_FLAG_W,ALKALI,ALKALI_FLAG_W,PCO2,PCO2_FLAG_W,PCO2TMP,PH_SWS,PH_SWS_FLAG_W,PH_TMP,TRITUM,TRITUM_FLAG_W,HELIUM,HELIUM_FLAG_W,DELC13,DELC13_FLAG_W,DELC14,DELC14_FLAG_W,C14ERR,CCL4,CCL4_FLAG_W,DELO18,DELO18_FLAG_W,DOC,DOC_FLAG_W,TDN,TDN_FLAG_W,CTDRAW,14C-DOC,14C-DOC_FLAG_W,THETA,SIG0,SALTREF,SALTREF_FLAG_W,BLACKC,BLACKC_FLAG_W,PIGMENTS,PIGMENTS_FLAG_W,14C-DOCERR,13C-DOC,13C-DOC_FLAG_W,13C-DOCERR
,,,,,,,,,,,METERS,DBAR,ITS-90,PSS-78,,PSS-78,,UMOL/KG,,UMOL/KG,,UMOL/KG,,UMOL/KG,,UMOL/KG,,UMOL/KG,,PMOL/KG,,PMOL/KG,,FMOL/KG,,UMOL/KG,,UMOL/KG,,UATM,,DEG C,,,DEG C,TU,,NMOL/KG,,/MILLE,,/MILLE,,/MILLE,PMOL/KG,,/MILLE,,UMOL/KG,,UMOL/KG,,DBAR,/MILLE,,DEG C,KG/M^3,G/KG,,,,,,/MILLE,/MILLE,,/MILLE
33RO20110926,        A10,      58,          1,         24,      11714,2,20111014,       2014,   -29.9993,   -16.7126,       3604,     4.6,  17.5831,  35.8708,2,  35.8704,2,    239.2,2,   239.1,2,     1.3,2,     0.1,2,    0.00,2,   0.156,2,   2.378,2,   1.449,2,   1.431,2,     2085.7,6,  2351.5,6,  -999.0,9, -999.00,   7.9774,6,       25,-999.000,9,-999.0000,9, -999.00,9,  -999.0,9,  -999.0,   3.087,4, -999.00,9,-999.0000,9, -999.00,9,    4.60,  -999.0,9,  17.5823,     26.042,    36.0396,2,     -999.0,9,     -999.0,1,     -999.0,     -999.0,9,     -999.0
33RO20110926,        A10,      58,          1,         23,      11713,2,20111014,       2014,   -29.9993,   -16.7126,       3604,    50.5,  17.5059,  35.8696,2,  35.8702,2,    238.3,2,   239.6,2,     1.3,2,     0.1,2,    0.00,2,   0.157,2,   2.383,2,   1.447,2,   1.463,2,     2083.7,2,  2357.3,6,  -999.0,9, -999.00,   7.9789,6,       25,-999.000,9,-999.0000,9, -999.00,9,  -999.0,9,  -999.0,   3.067,4, -999.00,9,-999.0000,9, -999.00,9,   50.50,  -999.0,9,  17.4974,     26.062,    36.0394,2,     -999.0,9,     -999.0,9,     -999.0,     -999.0,9,     -999.0
33RO20110926,        A10,      58,          1,         22,      11712,2,20111014,       2014,   -29.9993,   -16.7126,       3604,   115.3,  16.8930,  35.8078,2,  35.8066,2,    231.1,2,   232.6,2,     1.5,2,     0.5,2,    0.46,2,   0.221,2,   2.415,2,   1.464,2,   1.480,2,     2091.6,2,  2352.9,4,  -999.0,9, -999.00,   7.9639,2,       25,-999.000,9,-999.0000,9, -999.00,9,  -999.0,9,  -999.0,   1.967,4, -999.00,9,-999.0000,9, -999.00,9,  115.30,  -999.0,9,  16.8740,     26.164,    35.9754,3,     -999.0,9,     -999.0,9,     -999.0,     -999.0,9,     -999.0
33RO20110926,        A10,      58,          1,         21,      11010,2,20111014,       2014,   -29.9993,   -16.7126,       3604,   179.9,  16.5005,  35.7321,2,  35.7288,2,    230.0,2,   230.5,2,     1.8,2,     1.9,2,    0.12,2,   0.286,2,   2.472,2,   1.495,2,   1.435,2,     2094.9,2,  2347.4,2,  -999.0,9, -999.00,   7.9499,2,       25,-999.000,9,-999.0000,9, -999.00,9,  -999.0,9,  -999.0,   1.468,4, -999.00,9,-999.0000,9, -999.00,9,  179.90,  -999.0,9,  16.4713,     26.202,    35.8973,3,     -999.0,9,     -999.0,1,     -999.0,     -999.0,9,     -999.0
33RO20110926,        A10,      58,          1,         20,      11715,2,20111014,       2014,   -29.9993,   -16.7126,       3604,   249.5,  14.3473,  35.3525,2,  35.3522,2,    220.5,2,   220.2,2,     2.6,2,     6.1,2,    0.01,2,   0.541,2,   2.779,2,   1.639,2,   1.468,2,     2110.1,2,  2326.2,2,  -999.0,9, -999.00,   7.8857,2,       25,-999.000,9,-999.0000,9, -999.00,9,  -999.0,9,  -999.0,   0.785,3, -999.00,9,-999.0000,9, -999.00,9,  249.50,  -999.0,9,  14.3104,     26.393,    35.5189,2,     -999.0,9,     -999.0,9,     -999.0,     -999.0,9,     -999.0
33RO20110926,        A10,      58,          1,         19,      11007,2,20111014,       2014,   -29.9993,   -16.7126,       3604,   330.2,  13.0940,  35.1919,2,  35.1867,2,    216.2,2,   215.8,2,     3.4,2,     9.4,2,    0.00,2,   0.737,2,   2.949,2,   1.710,2,   1.346,2,     2121.6,2,  2311.9,2,  -999.0,9, -999.00,   7.8447,2,       25,-999.000,9,-999.0000,9, -999.00,9,  -999.0,9,  -999.0,   0.822,3, -999.00,9,-999.0000,9, -999.00,9,  330.20,  -999.0,9,  13.0480,     26.526,    35.3526,2,     -999.0,9,     -999.0,9,     -999.0,     -999.0,9,     -999.0
33RO20110926,        A10,      58,          1,         18,      11710,2,20111014,       2014,   -29.9993,   -16.7126,       3604,   399.7,  11.6244,  35.0177,2,  35.0165,2,    213.7,2,   214.1,2,     4.5,6,    12.9,6,    0.01,6,   0.960,6,   3.111,2,   1.753,2,   1.320,2,     2131.3,2,  2305.1,2,  -999.0,9, -999.00,   7.8067,2,       25,-999.000,9,-999.0000,9, -999.00,9,  -999.0,9,  -999.0,   0.890,3, -999.00,9,-999.0000,9, -999.00,9,  399.70,  -999.0,9,  11.5729,     26.682,    35.1817,2,     -999.0,9,     -999.0,9,     -999.0,     -999.0,9,     -999.0
33RO20110926,        A10,      58,          1,         17,      11023,2,20111014,       2014,   -29.9993,   -16.7126,       3604,   494.0,  10.0997,  34.8164,2,  34.8135,2,    209.2,2,   210.2,2,     6.7,6,    17.0,6,    0.02,6,   1.215,6,   3.192,6,   1.754,6,   1.108,6,     2144.1,2,  2295.7,2,  -999.0,9, -999.00,   7.7666,2,       25,-999.000,9,-999.0000,9, -999.00,9,  -999.0,9,  -999.0,   1.034,3, -999.00,9,-999.0000,9, -999.00,9,  494.00,  -999.0,9,  10.0413,     26.801,    34.9777,2,     -999.0,9,     -999.0,9,     -999.0,     -999.0,9,     -999.0
33RO20110926,        A10,      58,          1,         16,      11709,2,20111014,       2014,   -29.9993,   -16.7126,       3604,   594.7,   8.0776,  34.5724,2,  34.5699,2,    208.9,2,   209.6,2,    10.6,2,    22.4,2,    0.02,2,   1.557,2,   3.265,2,   1.730,2,   0.961,2,     2158.3,2,  2291.2,2,  -999.0,9, -999.00,   7.7074,2,       25,-999.000,9,-999.0000,9, -999.00,9,  -999.0,9,  -999.0,   1.673,3, -999.00,9,-999.0000,9, -999.00,9,  594.70,  -999.0,9,   8.0159,     26.938,    34.7329,2,     -999.0,9,     -999.0,9,     -999.0,     -999.0,9,     -999.0
33RO20110926,        A10,      58,          1,         15,      11006,2,20111014,       2014,   -29.9993,   -16.7126,       3604,   694.9,   6.5459,  34.4247,2,  34.4217,2,    213.9,2,   213.1,2,    14.4,2,    25.9,2,    0.02,2,   1.778,2,   3.222,2,   1.668,2,   0.878,2,     2168.5,2,    2286,2,  -999.0,9, -999.00,   7.6723,2,       25,-999.000,9,-999.0000,9, -999.00,9,  -999.0,9,  -999.0,   2.086,3, -999.00,9,-999.0000,9, -999.00,9,  694.90,  -999.0,9,   6.4815,     27.036,    34.5840,2,     -999.0,9,     -999.0,9,     -999.0,     -999.0,9,     -999.0
33RO20110926,        A10,      58,          1,         14,      11708,2,20111014,       2014,   -29.9993,   -16.7126,       3604,   795.5,   5.2007,  34.3260,2,  34.3256,2,    219.3,2,   219.8,2,    19.4,2,    28.3,2,    0.02,2,   1.954,2,   3.060,2,   1.545,2,   0.730,2,     2175.7,2,  2287.6,2,  -999.0,9, -999.00,   7.6503,2,       25,-999.000,9,-999.0000,9, -999.00,9,  -999.0,9,  -999.0,   2.477,3, -999.00,9,-999.0000,9, -999.00,9,  795.50,  -999.0,9,   5.1346,     27.125,    34.4875,2,     -999.0,9,     -999.0,9,     -999.0,     -999.0,9,     -999.0
33RO20110926,        A10,      58,          1,         13,      11031,2,20111014,       2014,   -29.9993,   -16.7126,       3604,   945.5,   4.1433,  34.3165,2,  34.3162,2,    213.9,2,     213,2,    29.7,2,    30.8,2,    0.02,2,   2.134,2,   2.362,2,   1.172,2,   0.480,2,     2194.3,2,  2290.9,2,  -999.0,9, -999.00,   7.6234,2,       25,-999.000,9,-999.0000,9, -999.00,9,  -999.0,9,  -999.0,   2.409,3, -999.00,9,-999.0000,9, -999.00,9,  945.50,  -999.0,9,   4.0714,     27.235,    34.4780,2,     -999.0,9,     -999.0,9,     -999.0,     -999.0,9,     -999.0
33RO20110926,        A10,      58,          1,         12,      11027,2,20111014,       2014,   -29.9993,   -16.7126,       3604,  1095.9,   3.5846,  34.3680,2,  34.3668,2,    201.8,2,   200.8,2,    39.9,2,    32.3,2,    0.02,2,   2.236,2,   1.603,2,   0.788,2,   0.287,2,     2210.4,2,  2300.3,2,  -999.0,9, -999.00,   7.6044,2,       25,-999.000,9,-999.0000,9, -999.00,9,  -999.0,9,  -999.0,   2.090,3, -999.00,9,-999.0000,9, -999.00,9, 1095.90,  -999.0,9,   3.5047,     27.332,    34.5289,2,     -999.0,9,     -999.0,9,     -999.0,     -999.0,9,     -999.0
33RO20110926,        A10,      58,          1,         11,      11707,2,20111014,       2014,   -29.9993,   -16.7126,       3604,  1244.9,   3.1778,  34.4732,2,  34.4728,2,    189.0,2,   188.3,2,    50.4,6,    32.6,6,    0.01,6,   2.282,6,   0.811,2,   0.395,2,   0.122,2,     2227.9,2,  2311.7,2,  -999.0,9, -999.00,   7.5904,2,       25,-999.000,9,-999.0000,9, -999.00,9,  -999.0,9,  -999.0,   1.250,3, -999.00,9,-999.0000,9, -999.00,9, 1244.90,  -999.0,9,   3.0893,     27.456,    34.6354,2,     -999.0,9,     -999.0,9,     -999.0,     -999.0,9,     -999.0
33RO20110926,        A10,      58,          1,         10,      11003,2,20111014,       2014,   -29.9993,   -16.7126,       3604,  1395.1,   3.0147,  34.5615,2,  34.5618,2,    186.8,2,     187,2,    54.2,2,    32.1,2,    0.01,2,   2.229,2,   0.447,2,   0.215,2,   0.039,2,     2231.6,6,  2322.7,6,  -999.0,9, -999.00,   7.6002,6,       25,-999.000,9,-999.0000,9, -999.00,9,  -999.0,9,  -999.0,   0.777,3, -999.00,9,-999.0000,9, -999.00,9, 1395.10,  -999.0,9,   2.9154,     27.543,    34.7248,2,     -999.0,9,     -999.0,9,     -999.0,     -999.0,9,     -999.0
33RO20110926,        A10,      58,          1,          9,      11706,2,20111014,       2014,   -29.9993,   -16.7126,       3604,  1545.0,   2.8837,  34.6619,2,  34.6622,2,    192.0,2,   193.5,2,    55.0,2,    30.4,2,    0.01,2,   2.106,2,   0.199,2,   0.096,2,   0.039,2,     2227.3,2,  2329.4,2,  -999.0,9, -999.00,   7.6162,2,       25,-999.000,9,-999.0000,9, -999.00,9,  -999.0,9,  -999.0,   0.491,3, -999.00,9,-999.0000,9, -999.00,9, 1545.00,  -999.0,9,   2.7732,     27.636,    34.8256,2,     -999.0,9,     -999.0,9,     -999.0,     -999.0,9,     -999.0
33RO20110926,        A10,      58,          1,          8,      11033,2,20111014,       2014,   -29.9993,   -16.7126,       3604,  1700.3,   2.8000,  34.7166,2,  34.7188,2,    200.6,2,   200.3,2,    54.2,2,    28.9,2,    0.01,2,   2.001,2,   0.122,2,   0.059,2,   0.023,2,     2223.1,2,  2326.2,2,  -999.0,9, -999.00,   7.6374,2,       25,-999.000,9,-999.0000,9, -999.00,9,  -999.0,9,  -999.0,   0.334,3, -999.00,9,-999.0000,9, -999.00,9, 1700.30,  -999.0,9,   2.6774,     27.690,    34.8825,2,     -999.0,9,     -999.0,9,     -999.0,     -999.0,9,     -999.0
33RO20110926,        A10,      58,          1,          7,      11705,2,20111014,       2014,   -29.9993,   -16.7126,       3604,  1900.4,   2.6837,  34.7885,2,  34.7889,2,    213.7,2,     217,3,    51.5,2,    26.7,2,    0.01,2,   1.829,2,   0.052,6,   0.026,6,   0.000,6,       2213,2,  2327.9,2,  -999.0,9, -999.00,   7.6645,2,       25,-999.000,9,-999.0000,9, -999.00,9,  -999.0,9,  -999.0,   0.228,3, -999.00,9,-999.0000,9, -999.00,9, 1900.40,  -999.0,9,   2.5451,     27.757,    34.9529,2,     -999.0,9,     -999.0,9,     -999.0,     -999.0,9,     -999.0
33RO20110926,        A10,      58,          1,          6,      11029,2,20111014,       2014,   -29.9993,   -16.7126,       3604,  2100.3,   2.6505,  34.8162,2,  34.8163,2,    222.5,2,     223,2,    49.5,2,    25.6,2,    0.01,2,   1.753,2,   0.034,2,   0.019,2,   0.000,2,     2207.3,2,  2328.2,2,  -999.0,9, -999.00,   7.6825,2,       25,-999.000,9,-999.0000,9, -999.00,9,  -999.0,9,  -999.0,   0.183,3, -999.00,9,-999.0000,9, -999.00,9, 2100.30,  -999.0,9,   2.4946,     27.783,    34.9805,2,     -999.0,9,     -999.0,9,     -999.0,     -999.0,9,     -999.0
33RO20110926,        A10,      58,          1,          5,      11704,2,20111014,       2014,   -29.9993,   -16.7126,       3604,  2300.4,   2.6024,  34.8333,2,  34.8338,2,    227.6,2,   228.1,2,    48.8,2,    24.8,2,    0.01,2,   1.706,2,   0.026,2,   0.014,2,   0.000,2,       2203,2,  2332.1,2,  -999.0,9, -999.00,   7.6904,2,       25,-999.000,9,-999.0000,9, -999.00,9,  -999.0,9,  -999.0,   0.164,3, -999.00,9,-999.0000,9, -999.00,9, 2300.40,  -999.0,9,   2.4289,     27.803,    34.9981,2,     -999.0,9,     -999.0,9,     -999.0,     -999.0,9,     -999.0
33RO20110926,        A10,      58,          1,          4,      11030,2,20111014,       2014,   -29.9993,   -16.7126,       3604,  2600.1,   2.6006,  34.8600,2,  34.8631,2,    235.6,2,   236.2,2,    45.6,2,    23.7,2,    0.01,2,   1.624,2,   0.017,2,   0.010,2,   0.025,2,     2196.3,2,  2331.2,2,  -999.0,9, -999.00,   7.7054,2,       25,-999.000,9,-999.0000,9, -999.00,9,  -999.0,9,  -999.0,   0.138,3, -999.00,9,-999.0000,9, -999.00,9, 2600.10,  -999.0,9,   2.3986,     27.829,    35.0275,2,     -999.0,9,     -999.0,9,     -999.0,     -999.0,9,     -999.0
33RO20110926,        A10,      58,          1,          3,      11703,2,20111014,       2014,   -29.9993,   -16.7126,       3604,  2889.6,   2.5656,  34.8761,2,  34.8761,2,    241.1,2,   241.8,2,    44.2,2,    23.0,2,    0.01,2,   1.568,2,   0.011,2,   0.006,2,   0.068,2,     2193.1,2,  2327.8,2,  -999.0,9, -999.00,   7.7146,2,       25,-999.000,9,-999.0000,9, -999.00,9,  -999.0,9,  -999.0,   0.101,3, -999.00,9,-999.0000,9, -999.00,9, 2889.60,  -999.0,9,   2.3357,     27.845,    35.0405,2,     -999.0,9,     -999.0,9,     -999.0,     -999.0,9,     -999.0
33RO20110926,        A10,      58,          1,          2,      11702,2,20111014,       2014,   -29.9993,   -16.7126,       3604,  3200.3,   2.3722,  34.8685,2,  34.8682,2,    242.7,2,   242.1,2,    49.2,6,    23.2,6,    0.01,6,   1.593,6,   0.010,2,   0.007,2,   0.117,2,     2196.6,2,    2334,6,  -999.0,9, -999.00,    7.711,6,       25,-999.000,9,-999.0000,9, -999.00,9,  -999.0,9,  -999.0,   0.090,3, -999.00,9,-999.0000,9, -999.00,9, 3200.30,  -999.0,9,   2.1149,     27.856,    35.0326,2,     -999.0,9,     -999.0,9,     -999.0,     -999.0,9,     -999.0
33RO20110926,        A10,      58,          1,          1,      11701,2,20111014,       2014,   -29.9993,   -16.7126,       3604,  3584.8,   2.1186,  34.8484,2,  34.8499,2,    241.3,2,   240.7,2,    58.1,2,    24.2,2,    0.01,2,   1.664,2,   0.012,6,   0.008,6,   0.123,6,     2205.5,6,  2336.2,2,  -999.0,9, -999.00,   7.6985,2,       25,-999.000,9,-999.0000,9, -999.00,9,  -999.0,9,  -999.0,   0.092,3, -999.00,9,-999.0000,9, -999.00,9, 3584.80,  -999.0,9,   1.8269,     27.865,    35.0143,2,     -999.0,9,     -999.0,9,     -999.0,     -999.0,9,     -999.0