BOTTLE,20220815CCHSIOAMB
EXPOCODE,SECT_ID,STNNBR,CASTNO,SAMPNO,BTLNBR,BTLNBR_FLAG_W,DATE,TIME,LATITUDE,LONGITUDE,DEPTH,CTDPRS,CTDTMP,CTDSAL,CTDSAL_FLAG_W,SALNTY,SALNTY_FLAG_W,CTDOXY,CTDOXY_FLAG_W,OXYGEN,OXYGEN_FLAG_W,SILCAT,SILCAT_FLAG_W,NITRAT,NITRAT_FLAG_W,NITRIT,NITRIT_FLAG_W,PHSPHT,PHSPHT_FLAG_W,CFC-11,CFC-11_FLAG_W,CFC-12,CFC-12_FLAG_W,SF6,SF6_FLAG_W,TCARBN,TCARBN_FLAG_W,ALKALI,ALKALI_FLAG_W,PCO2,PCO2_FLAG_W,PCO2TMP,PH_SWS,PH_SWS_FLAG_W,PH_TMP,TRITUM,TRITUM_FLAG_W,HELIUM,HELIUM_FLAG_W,DELC13,DELC13_FLAG_W,DELC14,DELC14_FLAG_W,C14ERR,CCL4,CCL4_FLAG_W,DELO18,DELO18_FLAG_W,DOC,DOC_FLAG_W,TDN,TDN_FLAG_W,CTDRAW,14C-DOC,14C-DOC_FLAG_W,THETA,SIG0,SALTREF,SALTREF_FLAG_W,BLACKC,BLACKC_FLAG_W,PIGMENTS,PIGMENTS_FLAG_W,14C-DOCERR,13C-DOC,13C-DOC_FLAG_W,13C-DOCERR
,,,,,,,,,,,METERS,DBAR,ITS-90,PSS-78,,PSS-78,,UMOL/KG,,UMOL/KG,,UMOL/KG,,UMOL/KG,,UMOL/KG,,UMOL/KG,,PMOL/KG,,PMOL/KG,,FMOL/KG,,UMOL/KG,,UMOL/KG,,UATM,,DEG C,,,DEG C,TU,,NMOL/KG,,/MILLE,,/MILLE,,/MILLE,PMOL/KG,,/MILLE,,UMOL/KG,,UMOL/KG,,DBAR,/MILLE,,DEG C,KG/M^3,G/KG,,,,,,/MILLE,/MILLE,,/MILLE
33RO20110926,        A10,       6,          1,         24,      11714,2,20110928,       2349,   -29.2670,    13.0516,       3139,     4.7,  16.2508,  35.4921,2,  35.4945,2,    245.6,2,   249.1,2,     2.6,2,     1.3,2,    0.10,2,   0.253,2,   2.571,2,   1.534,2,   1.500,2,       2070,6,  2333.4,6,  -999.0,9, -999.00,   7.9699,6,       25,-999.000,9,-999.0000,9,    1.04,2,    57.5,2,     2.8,   2.772,3, -999.00,9,-999.0000,9, -999.00,9,    4.70,  -999.0,9,  16.2500,     26.070,    35.6619,2,     -999.0,9,     -999.0,1,     -999.0,     -999.0,9,     -999.0
33RO20110926,        A10,       6,          1,         23,      11713,2,20110928,       2349,   -29.2670,    13.0516,       3139,    40.6,  15.9650,  35.4710,2,  35.4694,2,    248.0,2,   247.6,2,     2.8,2,     1.9,2,    0.18,2,   0.294,2,-999.000,9,-999.000,9,-999.000,9,-999.000000,9,  -999.0,5,  -999.0,9, -999.00,-999.0000,5,  -999.00,-999.000,9,-999.0000,9, -999.00,9,  -999.0,9,  -999.0,-999.000,9, -999.00,9,-999.0000,9, -999.00,9,   40.60,  -999.0,9,  15.9586,     26.116,    35.6366,2,     -999.0,9,     -999.0,1,     -999.0,     -999.0,9,     -999.0
33RO20110926,        A10,       6,          1,         22,      11712,2,20110928,       2349,   -29.2670,    13.0516,       3139,    67.0,  15.0758,  35.3595,2,  35.3676,2,    232.5,2,   234.6,2,     3.6,2,     5.0,2,    0.17,2,   0.482,2,-999.000,9,-999.000,9,-999.000,9,-999.000000,9,  -999.0,5,  -999.0,9, -999.00,-999.0000,5,  -999.00,-999.000,9,-999.0000,9, -999.00,9,  -999.0,9,  -999.0,-999.000,9, -999.00,9,-999.0000,9, -999.00,9,   67.00,  -999.0,9,  15.0656,     26.243,    35.5343,2,     -999.0,9,     -999.0,1,     -999.0,     -999.0,9,     -999.0
33RO20110926,        A10,       6,          1,         21,      11010,2,20110928,       2349,   -29.2670,    13.0516,       3139,    90.3,  14.7871,  35.3572,2,  35.3621,2,    227.7,2,   224.9,2,     3.6,2,     5.9,2,    0.03,2,   0.533,2,   2.683,2,   1.578,2,   1.458,2,-999.000000,9,  2325.5,2,  -999.0,9, -999.00,   7.8978,2,       25,-999.000,9,-999.0000,9, -999.00,9,  -999.0,9,  -999.0,   1.614,3, -999.00,9,-999.0000,9, -999.00,9,   90.30,  -999.0,9,  14.7735,     26.300,    35.5288,2,     -999.0,9,     -999.0,9,     -999.0,     -999.0,9,     -999.0
33RO20110926,        A10,       6,          1,         20,      11715,2,20110928,       2349,   -29.2670,    13.0516,       3139,   135.1,  12.9543,  35.1284,2,  35.1288,2,    218.1,2,     220,2,     4.1,2,     9.3,2,    0.02,2,   0.748,2,-999.000,9,-999.000,9,-999.000,9,-999.000000,9,    2314,3,  -999.0,9, -999.00,   7.8407,3,       25,-999.000,9,-999.0000,9, -999.00,9,  -999.0,9,  -999.0,-999.000,9, -999.00,9,-999.0000,9, -999.00,9,  135.10,  -999.0,9,  12.9358,     26.505,    35.2945,2,     -999.0,9,     -999.0,9,     -999.0,     -999.0,9,     -999.0
33RO20110926,        A10,       6,          1,         19,      11007,2,20110928,       2349,   -29.2670,    13.0516,       3139,   170.6,  12.0829,  35.0312,2,  35.0366,2,    209.6,2,   210.1,2,     5.0,2,    12.3,2,    0.02,2,   0.931,2,-999.000,9,-999.000,9,-999.000,9,-999.000000,9,  2308.3,3,  -999.0,9, -999.00,   7.8077,3,       25,-999.000,9,-999.0000,9, -999.00,9,  -999.0,9,  -999.0,-999.000,9, -999.00,9,-999.0000,9, -999.00,9,  170.60,  -999.0,9,  12.0606,     26.608,    35.2018,2,     -999.0,9,     -999.0,9,     -999.0,     -999.0,9,     -999.0
33RO20110926,        A10,       6,          1,         18,      11710,2,20110928,       2349,   -29.2670,    13.0516,       3139,   215.8,  11.2528,  34.9439,2,  34.9464,2,    215.3,2,   215.4,2,     5.6,2,    13.7,2,    0.01,2,   1.018,2,   3.181,2,   1.762,2,   1.212,2,-999.000000,9,  2303.1,3,  -999.0,9, -999.00,   7.7917,3,       25,-999.000,9,-999.0000,9, -999.00,9,  -999.0,9,  -999.0,   1.125,3, -999.00,9,-999.0000,9, -999.00,9,  215.80,  -999.0,9,  11.2258,     26.691,    35.1112,2,     -999.0,9,     -999.0,9,     -999.0,     -999.0,9,     -999.0
33RO20110926,        A10,       6,          1,         17,      11023,2,20110928,       2349,   -29.2670,    13.0516,       3139,   275.3,  10.2915,  34.8350,2,  34.8362,2,    214.7,2,   214.6,2,     7.3,2,    16.0,2,    0.01,2,   1.164,2,-999.000,9,-999.000,9,-999.000,9,-999.000000,9,    2299,3,  -999.0,9, -999.00,   7.7486,3,       25,-999.000,9,-999.0000,9, -999.00,9,  -999.0,9,  -999.0,-999.000,9, -999.00,9,-999.0000,9, -999.00,9,  275.30,  -999.0,9,  10.2589,     26.779,    35.0004,2,     -999.0,9,     -999.0,9,     -999.0,     -999.0,9,     -999.0
33RO20110926,        A10,       6,          1,         16,      11709,2,20110928,       2349,   -29.2670,    13.0516,       3139,   324.7,   9.2291,  34.7043,2,  34.7083,2,    207.3,2,   207.5,2,    10.0,2,    19.1,2,    0.01,2,   1.375,2,   3.105,2,   1.677,2,   0.974,2,-999.000000,9,  2296.5,3,  -999.0,9, -999.00,   7.7194,3,       25,-999.000,9,-999.0000,9, -999.00,9,  -999.0,9,  -999.0,   1.374,3, -999.00,9,-999.0000,9, -999.00,9,  324.70,  -999.0,9,   9.1931,     26.859,    34.8720,2,     -999.0,9,     -999.0,9,     -999.0,     -999.0,9,     -999.0
33RO20110926,        A10,       6,          1,         15,      11006,2,20110928,       2349,   -29.2670,    13.0516,       3139,   376.3,   7.9778,  34.5445,2,  34.5483,2,    215.7,2,   216.4,2,     9.4,2,    21.2,2,    0.01,2,   1.497,2,-999.000,9,-999.000,9,-999.000,9,-999.000000,9,  2288.8,3,  -999.0,9, -999.00,   7.6974,3,       25,-999.000,9,-999.0000,9, -999.00,9,  -999.0,9,  -999.0,-999.000,9, -999.00,9,-999.0000,9, -999.00,9,  376.30,  -999.0,9,   7.9396,     26.926,    34.7112,2,     -999.0,9,     -999.0,9,     -999.0,     -999.0,9,     -999.0
33RO20110926,        A10,       6,          1,         14,      11708,2,20110928,       2349,   -29.2670,    13.0516,       3139,   430.7,   7.2766,  34.5047,2,  34.5066,2,    206.0,2,     206,2,    15.4,2,    24.0,2,    0.00,2,   1.688,2,   3.014,2,   1.577,2,   0.871,2,-999.000000,9,  2293.3,3,  -999.0,9, -999.00,   7.6763,3,       25,-999.000,9,-999.0000,9, -999.00,9,  -999.0,9,  -999.0,   1.815,3, -999.00,9,-999.0000,9, -999.00,9,  430.70,  -999.0,9,   7.2350,     26.997,    34.6693,2,     -999.0,9,     -999.0,9,     -999.0,     -999.0,9,     -999.0
33RO20110926,        A10,       6,          1,         13,      11031,2,20110928,       2349,   -29.2670,    13.0516,       3139,   531.9,   5.8264,  34.4093,2,  34.4121,2,    206.1,2,   205.8,2,    23.0,2,    27.2,2,    0.00,2,   1.910,2,   2.699,2,   1.380,2,   0.687,2,-999.000000,9,  2272.9,3,  -999.0,9, -999.00,   7.5982,3,       25,-999.000,9,-999.0000,9, -999.00,9,  -999.0,9,  -999.0,   1.962,3, -999.00,9,-999.0000,9, -999.00,9,  531.90,  -999.0,9,   5.7806,     27.114,    34.5743,6,     -999.0,9,     -999.0,9,     -999.0,     -999.0,9,     -999.0
33RO20110926,        A10,       6,          1,         12,      11027,2,20110928,       2349,   -29.2670,    13.0516,       3139,   629.4,   4.9617,  34.4067,2,  34.4358,3,    196.9,2,   195.7,2,    33.4,2,    29.5,2,    0.00,2,   2.081,2,   2.111,2,   1.056,2,   0.491,2,-999.000000,9,  2303.4,3,  -999.0,9, -999.00,   7.6152,3,       25,-999.000,9,-999.0000,9, -999.00,9,  -999.0,9,  -999.0,   1.773,3, -999.00,9,-999.0000,9, -999.00,9,  629.40,  -999.0,9,   4.9112,     27.238,    34.5982,2,     -999.0,9,     -999.0,9,     -999.0,     -999.0,9,     -999.0
33RO20110926,        A10,       6,          1,         11,      11707,2,20110928,       2349,   -29.2670,    13.0516,       3139,   740.5,   4.3643,  34.4577,2,  34.4627,2,    180.3,2,   181.6,2,    45.7,2,    31.5,2,    0.00,2,   2.227,2,   1.384,2,   0.689,2,   0.286,2,-999.000000,9,    2312,3,  -999.0,9, -999.00,   7.5924,3,       25,-999.000,9,-999.0000,9, -999.00,9,  -999.0,9,  -999.0,   1.285,3, -999.00,9,-999.0000,9, -999.00,9,  740.50,  -999.0,9,   4.3076,     27.326,    34.6252,2,     -999.0,9,     -999.0,9,     -999.0,     -999.0,9,     -999.0
33RO20110926,        A10,       6,          1,         10,      11003,2,20110928,       2349,   -29.2670,    13.0516,       3139,   850.2,   3.4836,  34.4330,2,  34.4354,2,    185.1,2,   185.9,2,    50.0,6,    32.4,6,    0.01,6,   2.282,6,   1.211,2,   0.589,2,   0.211,2,-999.000000,9,  2317.4,3,  -999.0,9, -999.00,   7.5804,2,       25,-999.000,9,-999.0000,9, -999.00,9,  -999.0,9,  -999.0,   1.201,3, -999.00,9,-999.0000,9, -999.00,9,  850.20,  -999.0,9,   3.4237,     27.395,    34.5978,2,     -999.0,9,     -999.0,9,     -999.0,     -999.0,9,     -999.0
33RO20110926,        A10,       6,          1,          9,      11706,2,20110928,       2349,   -29.2670,    13.0516,       3139,   999.9,   3.3385,  34.5634,2,  34.5662,2,    177.0,2,   177.8,2,    49.9,2,    31.8,2,    0.01,2,   2.237,2,   0.325,2,   0.153,2,   0.042,2,-999.000000,9,  2321.3,6,  -999.0,9, -999.00,   7.5811,6,       25,-999.000,9,-999.0000,9, -999.00,9,  -999.0,9,  -999.0,   0.435,3, -999.00,9,-999.0000,9, -999.00,9,  999.90,  -999.0,9,   3.2679,     27.514,    34.7292,2,     -999.0,9,     -999.0,9,     -999.0,     -999.0,9,     -999.0
33RO20110926,        A10,       6,          1,          8,      11033,2,20110928,       2349,   -29.2670,    13.0516,       3139,  1172.8,   3.2447,  34.6604,2,  34.6623,2,    183.6,2,   184.3,2,    48.8,6,    30.2,6,    0.01,6,   2.111,6,   0.135,2,   0.065,2,   0.000,2,-999.000000,9,  2321.9,2,  -999.0,9, -999.00,   7.6004,2,       25,-999.000,9,-999.0000,9, -999.00,9,  -999.0,9,  -999.0,   0.189,3, -999.00,9,-999.0000,9, -999.00,9, 1172.80,  -999.0,9,   3.1610,     27.601,    34.8258,2,     -999.0,9,     -999.0,9,     -999.0,     -999.0,9,     -999.0
33RO20110926,        A10,       6,          1,          7,      11705,2,20110928,       2349,   -29.2670,    13.0516,       3139,  1450.3,   3.2445,  34.7897,2,  34.7954,2,    202.1,2,   202.4,2,    41.5,2,    26.7,2,    0.00,2,   1.859,2,   0.028,2,   0.015,2,   0.000,2,-999.000000,9,  2324.4,2,  -999.0,9, -999.00,   7.6392,2,       25,-999.000,9,-999.0000,9, -999.00,9,  -999.0,9,  -999.0,   0.053,3, -999.00,9,-999.0000,9, -999.00,9, 1450.30,  -999.0,9,   3.1376,     27.709,    34.9595,2,     -999.0,9,     -999.0,9,     -999.0,     -999.0,9,     -999.0
33RO20110926,        A10,       6,          1,          6,      11029,2,20110928,       2349,   -29.2670,    13.0516,       3139,  1725.4,   3.1737,  34.8512,2,  34.8532,2,    216.6,2,   217.4,2,    37.8,6,    24.6,6,    0.01,6,   1.697,6,   0.011,2,   0.006,2,   0.000,2,-999.000000,9,  2325.7,2,  -999.0,9, -999.00,   7.6653,2,       25,-999.000,9,-999.0000,9, -999.00,9,  -999.0,9,  -999.0,   0.021,3, -999.00,9,-999.0000,9, -999.00,9, 1725.40,  -999.0,9,   3.0437,     27.764,    35.0176,2,     -999.0,9,     -999.0,9,     -999.0,     -999.0,9,     -999.0
33RO20110926,        A10,       6,          1,          5,      11704,2,20110928,       2349,   -29.2670,    13.0516,       3139,  2023.1,   2.9900,  34.8719,2,  34.8737,2,    225.6,2,     225,2,    39.3,2,    23.7,2,    0.00,2,   1.635,2,   0.010,2,   0.006,2,   0.000,2,-999.000000,9,  2329.2,2,  -999.0,9, -999.00,   7.6905,2,       25,-999.000,9,-999.0000,9, -999.00,9,  -999.0,9,  -999.0,   0.016,3, -999.00,9,-999.0000,9, -999.00,9, 2023.10,  -999.0,9,   2.8357,     27.799,    35.0382,2,     -999.0,9,     -999.0,9,     -999.0,     -999.0,9,     -999.0
33RO20110926,        A10,       6,          1,          4,      11030,2,20110928,       2349,   -29.2670,    13.0516,       3139,  2325.2,   2.7771,  34.8728,2,  34.8818,2,    230.0,2,   229.9,2,    42.9,2,    23.4,2,    0.00,2,   1.620,2,   0.005,2,   0.003,2,   0.000,2,-999.000000,9,    2334,2,  -999.0,9, -999.00,   7.6935,2,       25,-999.000,9,-999.0000,9, -999.00,9,  -999.0,9,  -999.0,   0.008,3, -999.00,9,-999.0000,9, -999.00,9, 2325.20,  -999.0,9,   2.5982,     27.827,    35.0463,2,     -999.0,9,     -999.0,9,     -999.0,     -999.0,9,     -999.0
33RO20110926,        A10,       6,          1,          3,      11703,2,20110928,       2349,   -29.2670,    13.0516,       3139,  2623.3,   2.6072,  34.8668,2,  34.8705,2,    231.6,2,   231.4,2,    47.0,6,    23.5,6,    0.01,6,   1.625,6,   0.005,2,   0.003,2,   0.000,2,-999.000000,9,  2335.3,2,  -999.0,9, -999.00,   7.6924,2,       25,-999.000,9,-999.0000,9, -999.00,9,  -999.0,9,  -999.0,   0.008,3, -999.00,9,-999.0000,9, -999.00,9, 2623.30,  -999.0,9,   2.4028,     27.835,    35.0350,2,     -999.0,9,     -999.0,9,     -999.0,     -999.0,9,     -999.0
33RO20110926,        A10,       6,          1,          2,      11702,2,20110928,       2349,   -29.2670,    13.0516,       3139,  2925.3,   2.4949,  34.8692,2,  34.8705,2,    231.3,2,   231.1,2,    50.0,2,    23.6,2,    0.00,2,   1.632,2,   0.004,2,   0.003,2,   0.000,2,-999.000000,9,  2327.5,4,  -999.0,9, -999.00,   7.6974,2,       25,-999.000,9,-999.0000,9, -999.00,9,  -999.0,9,  -999.0,   0.002,3, -999.00,9,-999.0000,9, -999.00,9, 2925.30,  -999.0,9,   2.2629,     27.846,    35.0349,2,     -999.0,9,     -999.0,9,     -999.0,     -999.0,9,     -999.0
33RO20110926,        A10,       6,          1,          1,      11701,2,20110928,       2349,   -29.2670,    13.0516,       3139,  3162.1,   2.3671,  34.8610,2,  34.8666,3,    230.0,2,   229.8,2,    54.7,2,    23.9,2,    0.01,2,   1.662,2,   0.005,6,   0.006,6,   0.000,6,-999.000000,9,  2329.9,4,  -999.0,9, -999.00,   7.6914,6,       25,-999.000,9,-999.0000,9, -999.00,9,  -999.0,9,  -999.0,   0.008,3, -999.00,9,-999.0000,9, -999.00,9, 3162.10,  -999.0,9,   2.1139,     27.856,    35.0310,2,     -999.0,9,     -999.0,9,     -999.0,     -999.0,9,     -999.0