BOTTLE,20220815CCHSIOAMB
EXPOCODE,SECT_ID,STNNBR,CASTNO,SAMPNO,BTLNBR,BTLNBR_FLAG_W,DATE,TIME,LATITUDE,LONGITUDE,DEPTH,CTDPRS,CTDTMP,CTDSAL,CTDSAL_FLAG_W,SALNTY,SALNTY_FLAG_W,CTDOXY,CTDOXY_FLAG_W,OXYGEN,OXYGEN_FLAG_W,SILCAT,SILCAT_FLAG_W,NITRAT,NITRAT_FLAG_W,NITRIT,NITRIT_FLAG_W,PHSPHT,PHSPHT_FLAG_W,CFC-11,CFC-11_FLAG_W,CFC-12,CFC-12_FLAG_W,SF6,SF6_FLAG_W,TCARBN,TCARBN_FLAG_W,ALKALI,ALKALI_FLAG_W,PCO2,PCO2_FLAG_W,PCO2TMP,PH_SWS,PH_SWS_FLAG_W,PH_TMP,TRITUM,TRITUM_FLAG_W,HELIUM,HELIUM_FLAG_W,DELC13,DELC13_FLAG_W,DELC14,DELC14_FLAG_W,C14ERR,CCL4,CCL4_FLAG_W,DELO18,DELO18_FLAG_W,DOC,DOC_FLAG_W,TDN,TDN_FLAG_W,CTDRAW,14C-DOC,14C-DOC_FLAG_W,THETA,SIG0,SALTREF,SALTREF_FLAG_W,BLACKC,BLACKC_FLAG_W,PIGMENTS,PIGMENTS_FLAG_W,14C-DOCERR,13C-DOC,13C-DOC_FLAG_W,13C-DOCERR
,,,,,,,,,,,METERS,DBAR,ITS-90,PSS-78,,PSS-78,,UMOL/KG,,UMOL/KG,,UMOL/KG,,UMOL/KG,,UMOL/KG,,UMOL/KG,,PMOL/KG,,PMOL/KG,,FMOL/KG,,UMOL/KG,,UMOL/KG,,UATM,,DEG C,,,DEG C,TU,,NMOL/KG,,/MILLE,,/MILLE,,/MILLE,PMOL/KG,,/MILLE,,UMOL/KG,,UMOL/KG,,DBAR,/MILLE,,DEG C,KG/M^3,G/KG,,,,,,/MILLE,/MILLE,,/MILLE
33RO20110926,        A10,      96,          1,         24,      11714,3,20111024,       1929,   -30.0168,   -38.9165,       4300,     4.7,  19.1810,  36.1695,2,  36.1707,2,    232.3,2,     231,2,     0.7,2,     0.0,2,    0.00,2,   0.014,4,-999.000,9,-999.000,9,-999.000,9,-999.000000,9,  2372.9,2,  -999.0,9, -999.00,    8.017,2,       25,-999.000,9,-999.0000,9, -999.00,9,  -999.0,9,  -999.0,-999.000,5, -999.00,9,-999.0000,9, -999.00,9,    4.70,  -999.0,9,  19.1801,     25.870,    36.3413,2,     -999.0,9,     -999.0,1,     -999.0,     -999.0,9,     -999.0
33RO20110926,        A10,      96,          1,         23,      11713,2,20111024,       1929,   -30.0168,   -38.9165,       4300,    49.4,  19.0326,  36.1639,2,  36.1634,2,    233.6,2,   233.2,2,     0.7,2,     0.0,2,    0.00,2,   0.022,4,-999.000,9,-999.000,9,-999.000,9,     2077.4,2,    2370,2,  -999.0,9, -999.00,    8.017,2,       25,-999.000,9,-999.0000,9, -999.00,9,  -999.0,9,  -999.0,-999.000,5, -999.00,9,-999.0000,9, -999.00,9,   49.40,  -999.0,9,  19.0238,     25.904,    36.3340,2,     -999.0,9,     -999.0,1,     -999.0,     -999.0,9,     -999.0
33RO20110926,        A10,      96,          1,         22,      11712,2,20111024,       1929,   -30.0168,   -38.9165,       4300,   101.5,  17.6979,  35.9715,2,  35.9706,2,    234.6,2,   234.2,2,     0.8,2,     0.0,2,    0.02,2,   0.060,4,-999.000,9,-999.000,9,-999.000,9,-999.000000,9,  2362.3,2,  -999.0,9, -999.00,    7.997,2,       25,-999.000,9,-999.0000,9, -999.00,9,  -999.0,9,  -999.0,-999.000,5, -999.00,9,-999.0000,9, -999.00,9,  101.50,  -999.0,9,  17.6805,     26.095,    36.1402,2,     -999.0,9,     -999.0,1,     -999.0,     -999.0,9,     -999.0
33RO20110926,        A10,      96,          1,         21,      11010,2,20111024,       1929,   -30.0168,   -38.9165,       4300,   150.6,  16.0744,  35.6811,2,  35.6814,2,    211.4,2,   210.3,2,     1.7,2,     4.2,2,    0.02,2,   0.269,4,-999.000,9,-999.000,9,-999.000,9,     2107.3,2,  2344.5,2,  -999.0,9, -999.00,   7.9208,2,       25,-999.000,9,-999.0000,9, -999.00,9,  -999.0,9,  -999.0,-999.000,5, -999.00,9,-999.0000,9, -999.00,9,  150.60,  -999.0,9,  16.0504,     26.259,    35.8497,2,     -999.0,9,     -999.0,1,     -999.0,     -999.0,9,     -999.0
33RO20110926,        A10,      96,          1,         20,      11715,2,20111024,       1929,   -30.0168,   -38.9165,       4300,   199.5,  15.0657,  35.5433,2,  35.5433,2,    211.4,2,   211.8,2,     2.0,2,     5.9,2,    0.01,2,   0.350,4,-999.000,9,-999.000,9,-999.000,9,-999.000000,9,  2337.2,2,  -999.0,9, -999.00,   7.8998,2,       25,-999.000,9,-999.0000,9, -999.00,9,  -999.0,9,  -999.0,-999.000,5, -999.00,9,-999.0000,9, -999.00,9,  199.50,  -999.0,9,  15.0352,     26.383,    35.7109,2,     -999.0,9,     -999.0,1,     -999.0,     -999.0,9,     -999.0
33RO20110926,        A10,      96,          1,         19,      11007,2,20111024,       1929,   -30.0168,   -38.9165,       4300,   256.1,  14.2098,  35.4273,2,  35.4269,2,    212.8,2,   212.8,2,     2.4,6,     7.5,6,    0.01,6,   0.413,4,-999.000,9,-999.000,9,-999.000,9,     2117.3,2,  2330.4,2,  -999.0,9, -999.00,   7.8778,2,       25,-999.000,9,-999.0000,9, -999.00,9,  -999.0,9,  -999.0,-999.000,9, -999.00,9,-999.0000,9, -999.00,9,  256.10,  -999.0,9,  14.1722,     26.480,    35.5939,2,     -999.0,9,     -999.0,9,     -999.0,     -999.0,9,     -999.0
33RO20110926,        A10,      96,          1,         18,      11710,2,20111024,       1929,   -30.0168,   -38.9165,       4300,   324.9,  13.1680,  35.2651,2,  35.2677,2,    213.5,2,   212.9,2,     3.2,2,     9.7,2,    0.01,2,   0.530,4,-999.000,9,-999.000,9,-999.000,9,-999.000000,9,  2321.3,2,  -999.0,9, -999.00,   7.8498,2,       25,-999.000,9,-999.0000,9, -999.00,9,  -999.0,9,  -999.0,-999.000,9, -999.00,9,-999.0000,9, -999.00,9,  324.90,  -999.0,9,  13.1226,     26.573,    35.4340,2,     -999.0,9,     -999.0,9,     -999.0,     -999.0,9,     -999.0
33RO20110926,        A10,      96,          1,         17,      11023,2,20111024,       1929,   -30.0168,   -38.9165,       4300,   399.8,  11.8612,  35.0775,2,  35.0787,2,    211.5,2,   211.6,2,     4.4,2,    12.9,2,    0.00,2,   0.678,4,-999.000,9,-999.000,9,-999.000,9,-999.000000,9,  2314.9,2,  -999.0,9, -999.00,   7.8177,2,       25,-999.000,9,-999.0000,9, -999.00,9,  -999.0,9,  -999.0,-999.000,9, -999.00,9,-999.0000,9, -999.00,9,  399.80,  -999.0,9,  11.8089,     26.686,    35.2441,2,     -999.0,9,     -999.0,9,     -999.0,     -999.0,9,     -999.0
33RO20110926,        A10,      96,          1,         16,      11709,2,20111024,       1929,   -30.0168,   -38.9165,       4300,   501.0,   9.5648,  34.7576,2,  34.7576,2,    206.7,2,   206.5,2,     7.7,2,    18.9,2,    0.00,2,   0.965,4,-999.000,9,-999.000,9,-999.000,9,     2148.2,2,  2296.3,2,  -999.0,9, -999.00,   7.7466,2,       25,-999.000,9,-999.0000,9, -999.00,9,  -999.0,9,  -999.0,-999.000,9, -999.00,9,-999.0000,9, -999.00,9,  501.00,  -999.0,9,   9.5075,     26.848,    34.9215,2,     -999.0,9,     -999.0,9,     -999.0,     -999.0,9,     -999.0
33RO20110926,        A10,      96,          1,         15,      11006,2,20111024,       1929,   -30.0168,   -38.9165,       4300,   600.4,   7.4100,  34.5091,2,  34.5079,2,    212.7,2,     213,2,    11.5,2,    23.6,2,    0.00,2,   1.211,4,-999.000,9,-999.000,9,-999.000,9,-999.000000,9,  2290.2,2,  -999.0,9, -999.00,   7.6975,2,       25,-999.000,9,-999.0000,9, -999.00,9,  -999.0,9,  -999.0,-999.000,9, -999.00,9,-999.0000,9, -999.00,9,  600.40,  -999.0,9,   7.3507,     26.979,    34.6706,2,     -999.0,9,     -999.0,9,     -999.0,     -999.0,9,     -999.0
33RO20110926,        A10,      96,          1,         14,      11708,2,20111024,       1929,   -30.0168,   -38.9165,       4300,   700.1,   5.8514,  34.3636,2,  34.3617,2,    224.3,2,   223.9,2,    15.5,2,    26.5,2,    0.00,2,   1.374,4,-999.000,9,-999.000,9,-999.000,9,     2167.5,2,  2286.7,2,  -999.0,9, -999.00,   7.6735,2,       25,-999.000,9,-999.0000,9, -999.00,9,  -999.0,9,  -999.0,-999.000,9, -999.00,9,-999.0000,9, -999.00,9,  700.10,  -999.0,9,   5.7902,     27.075,    34.5237,2,     -999.0,9,     -999.0,9,     -999.0,     -999.0,9,     -999.0
33RO20110926,        A10,      96,          1,         13,      11031,2,20111024,       1929,   -30.0168,   -38.9165,       4300,   909.6,   4.2194,  34.3061,2,  34.3063,2,    219.9,2,     220,2,    27.2,2,    30.1,2,    0.00,2,   1.656,4,-999.000,9,-999.000,9,-999.000,9,-999.000000,9,  2294.9,2,  -999.0,9, -999.00,   7.6362,2,       25,-999.000,9,-999.0000,9, -999.00,9,  -999.0,9,  -999.0,-999.000,9, -999.00,9,-999.0000,9, -999.00,9,  909.60,  -999.0,9,   4.1499,     27.219,    34.4680,2,     -999.0,9,     -999.0,9,     -999.0,     -999.0,9,     -999.0
33RO20110926,        A10,      96,          1,         12,      11027,2,20111024,       1929,   -30.0168,   -38.9165,       4300,  1099.8,   3.6455,  34.3408,2,  34.3414,2,    209.4,2,   208.4,2,    36.2,2,    31.7,2,    0.00,2,   1.820,4,-999.000,9,-999.000,9,-999.000,9,-999.000000,9,  2302.3,2,  -999.0,9, -999.00,   7.6142,2,       25,-999.000,9,-999.0000,9, -999.00,9,  -999.0,9,  -999.0,-999.000,9, -999.00,9,-999.0000,9, -999.00,9, 1099.80,  -999.0,9,   3.5648,     27.306,    34.5033,2,     -999.0,9,     -999.0,9,     -999.0,     -999.0,9,     -999.0
33RO20110926,        A10,      96,          1,         11,      11707,2,20111024,       1929,   -30.0168,   -38.9165,       4300,  1249.8,   3.2877,  34.4127,2,  34.4121,2,    197.9,2,   198.1,2,    44.7,6,    32.5,6,    0.00,6,   1.927,4,-999.000,9,-999.000,9,-999.000,9,     2216.7,2,    2312,2,  -999.0,9, -999.00,   7.5992,2,       25,-999.000,9,-999.0000,9, -999.00,9,  -999.0,9,  -999.0,-999.000,9, -999.00,9,-999.0000,9, -999.00,9, 1249.80,  -999.0,9,   3.1978,     27.397,    34.5743,2,     -999.0,9,     -999.0,9,     -999.0,     -999.0,9,     -999.0
33RO20110926,        A10,      96,          1,         10,      11003,2,20111024,       1929,   -30.0168,   -38.9165,       4300,  1499.4,   2.7525,  34.4937,2,  34.4943,2,    181.5,2,     182,2,    60.9,2,    33.9,2,    0.01,2,   2.153,4,   0.732,3,   0.355,3,   0.119,2,     2240.9,3,  2324.6,6,  -999.0,9, -999.00,   7.5726,6,       25,-999.000,9,-999.0000,9, -999.00,9,  -999.0,9,  -999.0,   1.117,3, -999.00,9,-999.0000,9, -999.00,9, 1499.40,  -999.0,9,   2.6478,     27.513,    34.6570,2,     -999.0,9,     -999.0,9,     -999.0,     -999.0,9,     -999.0
33RO20110926,        A10,      96,          1,          9,      11706,2,20111024,       1929,   -30.0168,   -38.9165,       4300,  1800.3,   2.8745,  34.6985,2,  34.6978,2,    199.6,2,   199.7,2,    52.9,2,    29.4,2,    0.00,2,   1.856,4,   0.123,2,   0.060,2,   0.000,2,     2220.4,2,  2328.5,2,  -999.0,9, -999.00,   7.6322,2,       25,-999.000,9,-999.0000,9, -999.00,9,  -999.0,9,  -999.0,   0.371,3, -999.00,9,-999.0000,9, -999.00,9, 1800.30,  -999.0,9,   2.7423,     27.667,    34.8615,2,     -999.0,9,     -999.0,9,     -999.0,     -999.0,9,     -999.0
33RO20110926,        A10,      96,          1,          8,      11033,2,20111024,       1929,   -30.0168,   -38.9165,       4300,  2125.9,   3.1868,  34.8824,2,  34.8821,2,    232.2,2,   233.2,2,    34.8,2,    23.2,2,    0.00,2,   1.386,4,   0.113,2,   0.059,2,   0.000,2,-999.000000,9,  2324.4,2,  -999.0,9, -999.00,   7.7034,2,       25,-999.000,9,-999.0000,9, -999.00,9,  -999.0,9,  -999.0,   0.394,3, -999.00,9,-999.0000,9, -999.00,9, 2125.90,  -999.0,9,   3.0199,     27.789,    35.0466,2,     -999.0,9,     -999.0,9,     -999.0,     -999.0,9,     -999.0
33RO20110926,        A10,      96,          1,          7,      11705,2,20111024,       1929,   -30.0168,   -38.9165,       4300,  2451.0,   3.0687,  34.9140,2,  34.9144,2,    244.9,2,   245.4,2,    30.8,2,    21.5,2,    0.00,2,   1.263,4,   0.100,2,   0.052,2,   0.027,2,     2179.6,2,  2324.3,2,  -999.0,9, -999.00,   7.7264,2,       25,-999.000,9,-999.0000,9, -999.00,9,  -999.0,9,  -999.0,   0.354,3, -999.00,9,-999.0000,9, -999.00,9, 2451.00,  -999.0,9,   2.8724,     27.828,    35.0791,6,     -999.0,9,     -999.0,9,     -999.0,     -999.0,9,     -999.0
33RO20110926,        A10,      96,          1,          6,      11029,2,20111024,       1929,   -30.0168,   -38.9165,       4300,  2650.0,   2.9790,  34.9238,2,  34.9262,2,    248.8,2,   249.5,2,    29.9,6,    20.8,6,    0.00,6,   1.221,4,   0.095,2,   0.049,2,   0.022,2,-999.000000,9,  2326.8,2,  -999.0,9, -999.00,   7.7304,2,       25,-999.000,9,-999.0000,9, -999.00,9,  -999.0,9,  -999.0,   0.355,3, -999.00,9,-999.0000,9, -999.00,9, 2650.00,  -999.0,9,   2.7646,     27.848,    35.0909,2,     -999.0,9,     -999.0,9,     -999.0,     -999.0,9,     -999.0
33RO20110926,        A10,      96,          1,          5,      11704,2,20111024,       1929,   -30.0168,   -38.9165,       4300,  2999.9,   2.8221,  34.9191,2,  34.9198,2,    251.0,2,   251.4,2,    32.4,2,    20.8,2,    0.00,2,   1.257,4,   0.066,2,   0.035,2,   0.000,2,     2177.2,2,  2326.5,2,  -999.0,9, -999.00,   7.7306,2,       25,-999.000,9,-999.0000,9, -999.00,9,  -999.0,9,  -999.0,   0.284,3, -999.00,9,-999.0000,9, -999.00,9, 2999.90,  -999.0,9,   2.5753,     27.859,    35.0845,2,     -999.0,9,     -999.0,9,     -999.0,     -999.0,9,     -999.0
33RO20110926,        A10,      96,          1,          4,      11030,2,20111024,       1929,   -30.0168,   -38.9165,       4300,  3299.2,   2.6454,  34.9093,2,  34.9094,2,    252.7,2,     253,2,    35.7,2,    21.0,2,    0.00,2,   1.291,4,   0.061,2,   0.033,2,   0.000,2,-999.000000,9,    2329,2,  -999.0,9, -999.00,   7.7316,2,       25,-999.000,9,-999.0000,9, -999.00,9,  -999.0,9,  -999.0,   0.280,3, -999.00,9,-999.0000,9, -999.00,9, 3299.20,  -999.0,9,   2.3710,     27.868,    35.0740,2,     -999.0,9,     -999.0,9,     -999.0,     -999.0,9,     -999.0
33RO20110926,        A10,      96,          1,          3,      11703,2,20111024,       1929,   -30.0168,   -38.9165,       4300,  3649.2,   2.2539,  34.8735,2,  34.8741,2,    249.3,2,   250.2,2,    48.4,2,    22.7,2,    0.00,2,   1.491,4,   0.042,2,   0.024,2,   0.058,2,     2192.8,2,  2335.7,2,  -999.0,9, -999.00,   7.7156,2,       25,-999.000,9,-999.0000,9, -999.00,9,  -999.0,9,  -999.0,   0.221,3, -999.00,9,-999.0000,9, -999.00,9, 3649.20,  -999.0,9,   1.9516,     27.875,    35.0386,2,     -999.0,9,     -999.0,9,     -999.0,     -999.0,9,     -999.0
33RO20110926,        A10,      96,          1,          2,      11702,2,20111024,       1929,   -30.0168,   -38.9165,       4300,  3949.5,   1.6952,  34.8150,2,  34.8155,2,    239.4,2,   238.1,2,    70.8,2,    25.7,2,    0.00,2,   1.856,4,   0.026,2,   0.014,2,   0.206,2,-999.000000,9,  2345.7,2,  -999.0,9, -999.00,   7.6845,2,       25,-999.000,9,-999.0000,9, -999.00,9,  -999.0,9,  -999.0,   0.130,3, -999.00,9,-999.0000,9, -999.00,9, 3949.50,  -999.0,9,   1.3755,     27.871,    34.9797,2,     -999.0,9,     -999.0,9,     -999.0,     -999.0,9,     -999.0
33RO20110926,        A10,      96,          1,          1,      11701,2,20111024,       1929,   -30.0168,   -38.9165,       4300,  4303.3,   1.0769,  34.7462,2,  34.7461,2,    228.1,2,   227.3,2,    97.2,6,    29.5,6,    0.00,6,   2.276,4,   0.117,6,   0.057,6,   0.167,6,     2244.2,6,  2357.2,6,  -999.0,9, -999.00,   7.6475,6,       25,-999.000,9,-999.0000,9, -999.00,9,  -999.0,9,  -999.0,   0.281,3, -999.00,9,-999.0000,9, -999.00,9, 4303.30,  -999.0,9,   0.7366,     27.858,    34.9100,2,     -999.0,9,     -999.0,9,     -999.0,     -999.0,9,     -999.0