BOTTLE,20220815CCHSIOAMB
EXPOCODE,SECT_ID,STNNBR,CASTNO,SAMPNO,BTLNBR,BTLNBR_FLAG_W,DATE,TIME,LATITUDE,LONGITUDE,DEPTH,CTDPRS,CTDTMP,CTDSAL,CTDSAL_FLAG_W,SALNTY,SALNTY_FLAG_W,CTDOXY,CTDOXY_FLAG_W,OXYGEN,OXYGEN_FLAG_W,SILCAT,SILCAT_FLAG_W,NITRAT,NITRAT_FLAG_W,NITRIT,NITRIT_FLAG_W,PHSPHT,PHSPHT_FLAG_W,CFC-11,CFC-11_FLAG_W,CFC-12,CFC-12_FLAG_W,SF6,SF6_FLAG_W,TCARBN,TCARBN_FLAG_W,ALKALI,ALKALI_FLAG_W,PCO2,PCO2_FLAG_W,PCO2TMP,PH_SWS,PH_SWS_FLAG_W,PH_TMP,TRITUM,TRITUM_FLAG_W,HELIUM,HELIUM_FLAG_W,DELC13,DELC13_FLAG_W,DELC14,DELC14_FLAG_W,C14ERR,CCL4,CCL4_FLAG_W,DELO18,DELO18_FLAG_W,DOC,DOC_FLAG_W,TDN,TDN_FLAG_W,CTDRAW,14C-DOC,14C-DOC_FLAG_W,THETA,SIG0,SALTREF,SALTREF_FLAG_W,BLACKC,BLACKC_FLAG_W,PIGMENTS,PIGMENTS_FLAG_W,14C-DOCERR,13C-DOC,13C-DOC_FLAG_W,13C-DOCERR
,,,,,,,,,,,METERS,DBAR,ITS-90,PSS-78,,PSS-78,,UMOL/KG,,UMOL/KG,,UMOL/KG,,UMOL/KG,,UMOL/KG,,UMOL/KG,,PMOL/KG,,PMOL/KG,,FMOL/KG,,UMOL/KG,,UMOL/KG,,UATM,,DEG C,,,DEG C,TU,,NMOL/KG,,/MILLE,,/MILLE,,/MILLE,PMOL/KG,,/MILLE,,UMOL/KG,,UMOL/KG,,DBAR,/MILLE,,DEG C,KG/M^3,G/KG,,,,,,/MILLE,/MILLE,,/MILLE
33RO20110926,        A10,      34,          1,         24,      11714,2,20111006,       0656,   -30.0171,    -1.0588,       3905,     3.1,  17.9233,  35.8426,2,  35.8430,2,    240.1,2,   240.9,2,     1.4,2,     0.0,2,    0.00,2,   0.165,2,   2.412,6,   1.449,6,   1.480,6,     2077.7,6,  2356.6,2,  -999.0,9, -999.00,   7.9819,2,       25,-999.000,1,-999.0000,1, -999.00,9,  -999.0,9,  -999.0,   2.896,3, -999.00,1,-999.0000,9, -999.00,9,    3.10,  -999.0,9,  17.9228,     25.939,    36.0120,2,     -999.0,9,     -999.0,1,     -999.0,     -999.0,9,     -999.0
33RO20110926,        A10,      34,          1,         23,      11713,2,20111006,       0656,   -30.0171,    -1.0588,       3905,    24.7,  17.6130,  35.8242,2,  35.8268,2,    241.6,2,   242.6,2,     1.4,2,     0.0,2,    0.01,2,   0.165,2,   2.411,2,   1.450,2,   1.476,2,-999.000000,9,  2354.7,6,  -999.0,9, -999.00,   7.9829,6,       25,-999.000,1,-999.0000,1, -999.00,9,  -999.0,9,  -999.0,   2.862,3, -999.00,1,-999.0000,9, -999.00,9,   24.70,  -999.0,9,  17.6088,     26.002,    35.9957,2,     -999.0,9,     -999.0,9,     -999.0,     -999.0,9,     -999.0
33RO20110926,        A10,      34,          1,         22,      11712,2,20111006,       0656,   -30.0171,    -1.0588,       3905,    85.6,  16.8095,  35.7414,2,  35.7445,2,    236.0,2,     235,2,     1.7,2,     0.6,2,    0.39,2,   0.241,2,   2.471,2,   1.474,2,   1.436,2,     2080.8,2,  2350.5,2,  -999.0,9, -999.00,   7.9659,2,       25,-999.000,1,-999.0000,1, -999.00,9,  -999.0,9,  -999.0,   2.027,3, -999.00,1,-999.0000,9, -999.00,9,   85.60,  -999.0,9,  16.7954,     26.138,    35.9131,2,     -999.0,9,     -999.0,1,     -999.0,     -999.0,9,     -999.0
33RO20110926,        A10,      34,          1,         21,      11010,2,20111006,       0656,   -30.0171,    -1.0588,       3905,   113.7,  16.5793,  35.7218,2,  35.7182,2,    234.4,2,   236.5,2,     1.9,2,     0.8,2,    0.61,2,   0.247,2,   2.475,2,   1.482,2,   1.474,2,-999.000000,9,  2346.3,2,  -999.0,9, -999.00,   7.9659,2,       25,-999.000,1,-999.0000,1, -999.00,9,  -999.0,9,  -999.0,   1.990,3, -999.00,1,-999.0000,9, -999.00,9,  113.70,  -999.0,9,  16.5608,     26.170,    35.8866,2,     -999.0,9,     -999.0,1,     -999.0,     -999.0,9,     -999.0
33RO20110926,        A10,      34,          1,         20,      11715,2,20111006,       0656,   -30.0171,    -1.0588,       3905,   159.8,  16.5115,  35.7352,2,  35.7332,2,    234.2,2,     235,2,     1.8,2,     1.1,2,    0.58,2,   0.257,2,   2.485,2,   1.485,2,   1.490,2,-999.000000,9,  2347.3,2,  -999.0,9, -999.00,   7.9579,2,       25,-999.000,1,-999.0000,1, -999.00,9,  -999.0,9,  -999.0,   1.831,3, -999.00,1,-999.0000,9, -999.00,9,  159.80,  -999.0,9,  16.4856,     26.199,    35.9017,2,     -999.0,9,     -999.0,9,     -999.0,     -999.0,9,     -999.0
33RO20110926,        A10,      34,          1,         19,      11007,2,20111006,       0656,   -30.0171,    -1.0588,       3905,   210.5,  16.1964,  35.6869,2,  35.6887,2,    233.5,2,   233.7,2,     1.9,2,     1.9,2,    0.22,2,   0.289,2,   2.519,2,   1.503,2,   1.502,2,-999.000000,9,  2344.6,2,  -999.0,9, -999.00,   7.9489,2,       25,-999.000,1,-999.0000,1, -999.00,9,  -999.0,9,  -999.0,   1.794,3, -999.00,1,-999.0000,9, -999.00,9,  210.50,  -999.0,9,  16.1626,     26.240,    35.8570,2,     -999.0,9,     -999.0,9,     -999.0,     -999.0,9,     -999.0
33RO20110926,        A10,      34,          1,         18,      11710,2,20111006,       0656,   -30.0171,    -1.0588,       3905,   285.4,  14.2860,  35.3017,2,  35.3089,2,    219.4,2,   218.6,2,     2.9,2,     6.6,2,    0.01,2,   0.576,2,   2.799,2,   1.640,2,   1.409,2,     2108.4,2,  2320.6,2,  -999.0,9, -999.00,   7.8808,2,       25,-999.000,1,-999.0000,1, -999.00,9,  -999.0,9,  -999.0,   0.768,3, -999.00,1,-999.0000,9, -999.00,9,  285.40,  -999.0,9,  14.2439,     26.374,    35.4754,2,     -999.0,9,     -999.0,9,     -999.0,     -999.0,9,     -999.0
33RO20110926,        A10,      34,          1,         17,      11023,2,20111006,       0656,   -30.0171,    -1.0588,       3905,   385.3,  12.2177,  35.0620,2,  35.0629,2,    205.2,2,   209.4,2,     4.5,6,    12.4,6,    0.01,6,   0.921,6,   3.079,2,   1.737,2,   1.241,2,-999.000000,9,  2309.6,2,  -999.0,9, -999.00,   7.8126,2,       25,-999.000,1,-999.0000,1, -999.00,9,  -999.0,9,  -999.0,   0.891,3, -999.00,1,-999.0000,9, -999.00,9,  385.30,  -999.0,9,  12.1664,     26.612,    35.2282,2,     -999.0,9,     -999.0,9,     -999.0,     -999.0,9,     -999.0
33RO20110926,        A10,      34,          1,         16,      11709,2,20111006,       0656,   -30.0171,    -1.0588,       3905,   454.3,  11.0862,  34.9283,2,  34.9295,2,    209.0,2,   209.9,2,     5.7,2,    15.1,2,    0.01,2,   1.088,2,   3.192,2,   1.754,2,   1.178,2,-999.000000,9,    2305,2,  -999.0,9, -999.00,   7.7845,2,       25,-999.000,1,-999.0000,1, -999.00,9,  -999.0,9,  -999.0,   1.053,3, -999.00,1,-999.0000,9, -999.00,9,  454.30,  -999.0,9,  11.0293,     26.716,    35.0942,2,     -999.0,9,     -999.0,9,     -999.0,     -999.0,9,     -999.0
33RO20110926,        A10,      34,          1,         15,      11006,2,20111006,       0656,   -30.0171,    -1.0588,       3905,   579.2,   8.3872,  34.6086,2,  34.6155,2,    204.0,2,   201.5,2,    11.2,2,    22.4,2,    0.01,2,   1.565,2,   3.149,2,   1.671,2,   0.985,2,     2162.1,2,    2292,2,  -999.0,9, -999.00,   7.7004,2,       25,-999.000,1,-999.0000,1, -999.00,9,  -999.0,9,  -999.0,   1.559,3, -999.00,1,-999.0000,9, -999.00,9,  579.20,  -999.0,9,   8.3258,     26.922,    34.7787,2,     -999.0,9,     -999.0,9,     -999.0,     -999.0,9,     -999.0
33RO20110926,        A10,      34,          1,         14,      11708,2,20111006,       0656,   -30.0171,    -1.0588,       3905,   718.9,   6.0321,  34.3789,2,  34.3826,2,    216.6,2,   215.7,2,    16.7,2,    27.2,2,    0.00,2,   1.878,2,   3.230,2,   1.663,2,   0.891,2,-999.000000,9,  2287.8,2,  -999.0,9, -999.00,   7.6603,2,       25,-999.000,1,-999.0000,1, -999.00,9,  -999.0,9,  -999.0,   2.293,3, -999.00,1,-999.0000,9, -999.00,9,  718.90,  -999.0,9,   5.9681,     27.069,    34.5447,2,     -999.0,9,     -999.0,9,     -999.0,     -999.0,9,     -999.0
33RO20110926,        A10,      34,          1,         13,      11031,2,20111006,       0656,   -30.0171,    -1.0588,       3905,   845.4,   4.8535,  34.3280,2,  34.3279,2,    213.7,2,     213,2,    24.1,2,    30.0,2,    0.00,2,   2.076,2,   2.798,2,   1.400,2,   0.717,2,-999.000000,9,  2291.5,2,  -999.0,9, -999.00,   7.6312,2,       25,-999.000,1,-999.0000,1, -999.00,9,  -999.0,9,  -999.0,   2.269,3, -999.00,1,-999.0000,9, -999.00,9,  845.40,  -999.0,9,   4.7852,     27.166,    34.4898,2,     -999.0,9,     -999.0,9,     -999.0,     -999.0,9,     -999.0
33RO20110926,        A10,      34,          1,         12,      11027,2,20111006,       0656,   -30.0171,    -1.0588,       3905,   979.9,   3.9118,  34.3631,2,  34.3644,2,    198.2,2,   198.3,2,    37.4,2,    32.5,2,    0.00,2,   2.261,2,   1.862,2,   0.910,2,   0.361,2,-999.000000,9,  2304.1,2,  -999.0,9, -999.00,   7.6032,2,       25,-999.000,1,-999.0000,1, -999.00,9,  -999.0,9,  -999.0,   1.636,3, -999.00,1,-999.0000,9, -999.00,9,  979.90,  -999.0,9,   3.8387,     27.297,    34.5265,2,     -999.0,9,     -999.0,9,     -999.0,     -999.0,9,     -999.0
33RO20110926,        A10,      34,          1,         11,      11707,2,20111006,       0656,   -30.0171,    -1.0588,       3905,  1158.8,   3.4096,  34.4670,2,  34.4656,2,    181.6,2,   182.2,2,    50.2,6,    33.6,6,    0.01,6,   2.352,6,   0.902,2,   0.433,2,   0.172,2,-999.000000,9,  2316.4,6,  -999.0,9, -999.00,   7.5839,6,       25,-999.000,1,-999.0000,1, -999.00,9,  -999.0,9,  -999.0,   0.946,3, -999.00,1,-999.0000,9, -999.00,9, 1158.80,  -999.0,9,   3.3258,     27.428,    34.6281,2,     -999.0,9,     -999.0,9,     -999.0,     -999.0,9,     -999.0
33RO20110926,        A10,      34,          1,         10,      11003,2,20111006,       0656,   -30.0171,    -1.0588,       3905,  1350.9,   3.1311,  34.5780,2,  34.5803,2,    179.6,2,     179,2,    55.3,2,    32.7,2,    0.00,2,   2.292,2,   0.379,2,   0.177,2,   0.051,2,     2235.9,2,  2324.2,2,  -999.0,9, -999.00,   7.5894,2,       25,-999.000,1,-999.0000,1, -999.00,9,  -999.0,9,  -999.0,   0.428,3, -999.00,1,-999.0000,9, -999.00,9, 1350.90,  -999.0,9,   3.0342,     27.547,    34.7433,2,     -999.0,9,     -999.0,9,     -999.0,     -999.0,9,     -999.0
33RO20110926,        A10,      34,          1,          9,      11706,2,20111006,       0656,   -30.0171,    -1.0588,       3905,  1651.0,   2.9917,  34.7141,2,  34.7166,2,    194.5,2,   196.4,2,    51.9,2,    29.8,2,    0.00,2,   2.054,2,   0.117,2,   0.055,2,   0.025,2,-999.000000,9,  2326.8,2,  -999.0,9, -999.00,   7.6254,2,       25,-999.000,1,-999.0000,1, -999.00,9,  -999.0,9,  -999.0,   0.181,3, -999.00,1,-999.0000,9, -999.00,9, 1651.00,  -999.0,9,   2.8708,     27.671,    34.8803,2,     -999.0,9,     -999.0,9,     -999.0,     -999.0,9,     -999.0
33RO20110926,        A10,      34,          1,          8,      11033,2,20111006,       0656,   -30.0171,    -1.0588,       3905,  1949.9,   2.8001,  34.7923,2,  34.7947,2,    210.3,2,   210.9,2,    50.7,2,    27.2,2,    0.00,2,   1.875,2,   0.045,2,   0.023,2,   0.000,2,-999.000000,9,  2330.6,2,  -999.0,9, -999.00,   7.6575,2,       25,-999.000,9,-999.0000,1, -999.00,9,  -999.0,9,  -999.0,   0.103,3, -999.00,9,-999.0000,9, -999.00,9, 1949.90,  -999.0,9,   2.6555,     27.752,    34.9587,2,     -999.0,9,     -999.0,9,     -999.0,     -999.0,9,     -999.0
33RO20110926,        A10,      34,          1,          7,      11705,2,20111006,       0656,   -30.0171,    -1.0588,       3905,  2229.6,   2.6127,  34.8194,2,  34.8187,2,    218.7,2,   219.2,2,    52.2,2,    26.2,2,    0.00,2,   1.802,2,   0.026,2,   0.013,2,   0.000,2,-999.000000,9,  2335.9,2,  -999.0,9, -999.00,   7.6735,2,       25,-999.000,1,-999.0000,1, -999.00,9,  -999.0,9,  -999.0,   0.072,3, -999.00,9,-999.0000,9, -999.00,9, 2229.60,  -999.0,9,   2.4456,     27.790,    34.9829,2,     -999.0,9,     -999.0,9,     -999.0,     -999.0,9,     -999.0
33RO20110926,        A10,      34,          1,          6,      11029,2,20111006,       0656,   -30.0171,    -1.0588,       3905,  2549.9,   2.4706,  34.8417,2,  34.8428,2,    227.2,2,   229.1,2,    52.2,6,    25.2,6,    0.00,6,   1.728,6,   0.016,2,   0.009,2,   0.000,2,-999.000000,9,  2338.1,2,  -999.0,9, -999.00,   7.6904,2,       25,-999.000,9,-999.0000,1, -999.00,9,  -999.0,9,  -999.0,   0.059,3, -999.00,9,-999.0000,9, -999.00,9, 2549.90,  -999.0,9,   2.2760,     27.822,    35.0071,6,     -999.0,9,     -999.0,9,     -999.0,     -999.0,9,     -999.0
33RO20110926,        A10,      34,          1,          5,      11704,2,20111006,       0656,   -30.0171,    -1.0588,       3905,  2848.6,   2.3947,  34.8568,2,  34.8568,2,    233.0,2,   232.5,2,    51.6,2,    24.4,2,    0.00,2,   1.684,2,   0.008,2,   0.006,2,   0.000,2,     2206.6,2,  2341.1,2,  -999.0,9, -999.00,   7.7004,2,       25,-999.000,1,-999.0000,1, -999.00,9,  -999.0,9,  -999.0,   0.029,3, -999.00,9,-999.0000,9, -999.00,9, 2848.60,  -999.0,9,   2.1726,     27.843,    35.0212,2,     -999.0,9,     -999.0,9,     -999.0,     -999.0,9,     -999.0
33RO20110926,        A10,      34,          1,          4,      11030,2,20111006,       0656,   -30.0171,    -1.0588,       3905,  3149.7,   2.3483,  34.8673,2,  34.8700,2,    234.8,2,   235.2,2,    51.9,2,    24.1,2,    0.01,2,   1.654,2,   0.005,2,   0.004,2,   0.048,2,-999.000000,9,    2346,2,  -999.0,9, -999.00,   7.7034,2,       25,-999.000,9,-999.0000,1, -999.00,9,  -999.0,9,  -999.0,   0.024,3, -999.00,9,-999.0000,9, -999.00,9, 3149.70,  -999.0,9,   2.0967,     27.860,    35.0344,2,     -999.0,9,     -999.0,9,     -999.0,     -999.0,9,     -999.0
33RO20110926,        A10,      34,          1,          3,      11703,2,20111006,       0656,   -30.0171,    -1.0588,       3905,  3450.5,   2.3236,  34.8730,2,  34.8730,2,    234.8,2,   234.5,2,    52.9,2,    24.0,2,    0.01,2,   1.646,2,   0.004,2,   0.002,2,   0.000,2,-999.000000,9,  2350.6,2,  -999.0,9, -999.00,   7.7104,2,       25,-999.000,1,-999.0000,1, -999.00,9,  -999.0,9,  -999.0,   0.008,3, -999.00,9,-999.0000,9, -999.00,9, 3450.50,  -999.0,9,   2.0411,     27.867,    35.0374,2,     -999.0,9,     -999.0,9,     -999.0,     -999.0,9,     -999.0
33RO20110926,        A10,      34,          1,          2,      11702,2,20111006,       0656,   -30.0171,    -1.0588,       3905,  3790.8,   2.3230,  34.8747,2,  34.8744,2,    234.3,2,   233.2,2,    53.5,2,    24.1,2,    0.01,2,   1.648,2,   0.003,2,   0.002,2,   0.000,2,-999.000000,9,  2355.9,2,  -999.0,9, -999.00,   7.7126,2,       25,-999.000,1,-999.0000,1, -999.00,9,  -999.0,9,  -999.0,   0.003,3, -999.00,9,-999.0000,9, -999.00,9, 3790.80,  -999.0,9,   2.0034,     27.871,    35.0388,2,     -999.0,9,     -999.0,9,     -999.0,     -999.0,9,     -999.0
33RO20110926,        A10,      34,          1,          1,      11701,2,20111006,       0656,   -30.0171,    -1.0588,       3905,  4136.0,   2.3358,  34.8736,2,  34.8738,2,    233.1,2,   232.9,2,    54.6,6,    24.2,6,    0.01,6,   1.653,6,   0.005,6,   0.003,6,   0.000,6,       2217,2,  2357.3,6,  -999.0,9, -999.00,    7.713,6,       25,-999.000,1,-999.0000,1, -999.00,9,  -999.0,9,  -999.0,   0.011,3, -999.00,9,-999.0000,9, -999.00,9, 4136.00,  -999.0,9,   1.9766,     27.872,    35.0382,2,     -999.0,9,     -999.0,9,     -999.0,     -999.0,9,     -999.0