BOTTLE,20220815CCHSIOAMB
EXPOCODE,SECT_ID,STNNBR,CASTNO,SAMPNO,BTLNBR,BTLNBR_FLAG_W,DATE,TIME,LATITUDE,LONGITUDE,DEPTH,CTDPRS,CTDTMP,CTDSAL,CTDSAL_FLAG_W,SALNTY,SALNTY_FLAG_W,CTDOXY,CTDOXY_FLAG_W,OXYGEN,OXYGEN_FLAG_W,SILCAT,SILCAT_FLAG_W,NITRAT,NITRAT_FLAG_W,NITRIT,NITRIT_FLAG_W,PHSPHT,PHSPHT_FLAG_W,CFC-11,CFC-11_FLAG_W,CFC-12,CFC-12_FLAG_W,SF6,SF6_FLAG_W,TCARBN,TCARBN_FLAG_W,ALKALI,ALKALI_FLAG_W,PCO2,PCO2_FLAG_W,PCO2TMP,PH_SWS,PH_SWS_FLAG_W,PH_TMP,TRITUM,TRITUM_FLAG_W,HELIUM,HELIUM_FLAG_W,DELC13,DELC13_FLAG_W,DELC14,DELC14_FLAG_W,C14ERR,CCL4,CCL4_FLAG_W,DELO18,DELO18_FLAG_W,DOC,DOC_FLAG_W,TDN,TDN_FLAG_W,CTDRAW,14C-DOC,14C-DOC_FLAG_W,THETA,SIG0,SALTREF,SALTREF_FLAG_W,BLACKC,BLACKC_FLAG_W,PIGMENTS,PIGMENTS_FLAG_W,14C-DOCERR,13C-DOC,13C-DOC_FLAG_W,13C-DOCERR
,,,,,,,,,,,METERS,DBAR,ITS-90,PSS-78,,PSS-78,,UMOL/KG,,UMOL/KG,,UMOL/KG,,UMOL/KG,,UMOL/KG,,UMOL/KG,,PMOL/KG,,PMOL/KG,,FMOL/KG,,UMOL/KG,,UMOL/KG,,UATM,,DEG C,,,DEG C,TU,,NMOL/KG,,/MILLE,,/MILLE,,/MILLE,PMOL/KG,,/MILLE,,UMOL/KG,,UMOL/KG,,DBAR,/MILLE,,DEG C,KG/M^3,G/KG,,,,,,/MILLE,/MILLE,,/MILLE
33RO20110926,        A10,      21,          1,         24,      11714,2,20111003,       1311,   -29.7501,     4.4250,       4985,     4.4,  17.3842,  35.6859,2,-999.0000,9,    247.2,2,   246.9,2, -999.00,5,  -999.0,5, -999.00,5,-999.000,5,   2.526,6,   1.498,6,   1.464,6,     2074.7,6,  2343.4,6,  -999.0,9, -999.00,   7.9754,6,       25,-999.000,9,-999.0000,9,    1.13,6,    45.7,6,     3.5,   3.258,3, -999.00,1,  59.8049,2,    6.45,2,    4.40,  -999.0,9,  17.3835,     25.927,     -999.0,5,     -999.0,9,     -999.0,1,     -999.0,     -999.0,9,     -999.0
33RO20110926,        A10,      21,          1,         23,      11713,2,20111003,       1311,   -29.7501,     4.4250,       4985,    50.2,  16.2424,  35.6086,2,  35.6082,2,    248.2,2,   246.9,2,     0.6,2,     0.8,2,    0.15,2,   0.195,4,   2.575,2,   1.519,2,   1.485,2,     2079.9,2,  2333.5,2,  -999.0,9, -999.00,   7.9639,2,       25,-999.000,9,-999.0000,9, -999.00,9,  -999.0,9,  -999.0,   3.026,3, -999.00,1,   61.639,2,    5.46,2,   50.20,  -999.0,9,  16.2344,     26.161,    35.7761,2,     -999.0,9,     -999.0,1,     -999.0,     -999.0,9,     -999.0
33RO20110926,        A10,      21,          1,         22,      11712,2,20111003,       1311,   -29.7501,     4.4250,       4985,   110.1,  16.0443,  35.6198,2,  35.6149,2,    237.0,2,   238.8,2,     0.7,2,     1.3,2,    0.79,2,   0.258,4,   2.570,2,   1.525,2,   1.532,2,     2085.5,2,  2334.8,2,  -999.0,9, -999.00,   7.9509,2,       25,-999.000,9,-999.0000,9, -999.00,9,  -999.0,9,  -999.0,   2.402,3, -999.00,1,-999.0000,5,    6.82,2,  110.10,  -999.0,9,  16.0268,     26.214,    35.7828,2,     -999.0,9,     -999.0,1,     -999.0,     -999.0,9,     -999.0
33RO20110926,        A10,      21,          1,         21,      11010,2,20111003,       1311,   -29.7501,     4.4250,       4985,   179.7,  15.7184,  35.5683,2,  35.5646,2,    230.7,2,   233.5,2,     0.8,2,     2.8,2,    0.04,2,   0.304,4,   2.605,2,   1.535,2,   1.454,2,     2091.4,3,  2335.4,2,  -999.0,9, -999.00,   7.9409,2,       25,-999.000,9,-999.0000,9, -999.00,9,  -999.0,9,  -999.0,   1.878,3, -999.00,1,  60.6146,2,    7.35,2,  179.70,  -999.0,9,  15.6902,     26.252,    35.7323,2,     -999.0,9,     -999.0,9,     -999.0,     -999.0,9,     -999.0
33RO20110926,        A10,      21,          1,         20,      11715,2,20111003,       1311,   -29.7501,     4.4250,       4985,   250.3,  13.4458,  35.1682,2,  35.1676,2,    212.8,2,   213.9,2,     2.0,2,     8.7,2,    0.02,2,   0.633,4,   2.925,2,   1.694,2,   1.452,2,     2118.2,3,  2311.7,2,  -999.0,9, -999.00,   7.8497,2,       25,-999.000,9,-999.0000,9, -999.00,9,  -999.0,9,  -999.0,   0.964,3, -999.00,1,  49.4439,2, -999.00,9,  250.30,  -999.0,9,  13.4104,     26.441,    35.3334,2,     -999.0,9,     -999.0,9,     -999.0,     -999.0,9,     -999.0
33RO20110926,        A10,      21,          1,         19,      11007,2,20111003,       1311,   -29.7501,     4.4250,       4985,   320.5,  12.1920,  35.0275,2,  35.0272,2,    210.5,2,   207.7,2,     3.1,6,    12.5,6,    0.01,6,   0.818,4,   3.105,2,   1.746,2,   1.317,2,     2131.7,3,  2310.7,2,  -999.0,9, -999.00,   7.8057,2,       25,-999.000,9,-999.0000,9, -999.00,9,  -999.0,9,  -999.0,   1.071,3, -999.00,1,  49.6293,2, -999.00,9,  320.50,  -999.0,9,  12.1495,     26.582,    35.1924,2,     -999.0,9,     -999.0,9,     -999.0,     -999.0,9,     -999.0
33RO20110926,        A10,      21,          1,         18,      11710,2,20111003,       1311,   -29.7501,     4.4250,       4985,   389.7,  10.9648,  34.9134,2,  34.9127,2,    212.5,2,   213.4,2,     4.2,2,    14.8,2,    0.01,2,   0.955,4,   3.218,2,   1.763,2,   1.193,2,     2136.4,3,  2305.4,2,  -999.0,9, -999.00,   7.7857,2,       25,-999.000,9,-999.0000,9, -999.00,9,  -999.0,9,  -999.0,   1.182,3, -999.00,1,  46.2244,2, -999.00,9,  389.70,  -999.0,9,  10.9164,     26.721,    35.0773,2,     -999.0,9,     -999.0,9,     -999.0,     -999.0,9,     -999.0
33RO20110926,        A10,      21,          1,         17,      11023,2,20111003,       1311,   -29.7501,     4.4250,       4985,   481.2,   9.5509,  34.7374,2,  34.7353,2,    208.4,2,   208.5,2,     6.7,2,    18.6,2,    0.01,2,   1.181,4,   3.230,2,   1.731,2,   1.075,2,     2149.2,2,  2296.5,2,  -999.0,9, -999.00,   7.7396,2,       25,-999.000,9,-999.0000,9, -999.00,9,  -999.0,9,  -999.0,   1.398,3, -999.00,1,  45.7951,2, -999.00,9,  481.20,  -999.0,9,   9.4960,     26.830,    34.8991,2,     -999.0,9,     -999.0,9,     -999.0,     -999.0,9,     -999.0
33RO20110926,        A10,      21,          1,         16,      11709,2,20111003,       1311,   -29.7501,     4.4250,       4985,   600.0,   7.4440,  34.5122,2,  34.5060,2,    199.9,2,     203,2,    12.3,2,    24.6,2,    0.01,2,   1.531,4,   3.131,6,   1.638,6,   0.936,6,     2168.5,2,  2291.5,2,  -999.0,9, -999.00,   7.6755,2,       25,-999.000,9,-999.0000,9, -999.00,9,  -999.0,9,  -999.0,   1.856,3, -999.00,1,  42.2537,2, -999.00,9,  600.00,  -999.0,9,   7.3846,     26.974,    34.6687,2,     -999.0,9,     -999.0,9,     -999.0,     -999.0,9,     -999.0
33RO20110926,        A10,      21,          1,         15,      11006,2,20111003,       1311,   -29.7501,     4.4250,       4985,   749.0,   5.2428,  34.3391,2,  34.3379,2,    216.8,2,   214.5,2,    20.1,2,    28.8,2,    0.01,2,   1.795,4,   2.994,2,   1.509,2,   0.757,2,     2180.1,2,  2289.5,2,  -999.0,9, -999.00,   7.6384,2,       25,-999.000,9,-999.0000,9, -999.00,9,  -999.0,9,  -999.0,   2.532,3, -999.00,1,  42.1171,2, -999.00,9,  749.00,  -999.0,9,   5.1806,     27.129,    34.4998,2,     -999.0,9,     -999.0,9,     -999.0,     -999.0,9,     -999.0
33RO20110926,        A10,      21,          1,         14,      11708,2,20111003,       1311,   -29.7501,     4.4250,       4985,   899.9,   4.1521,  34.3600,2,  34.3606,2,    200.9,2,   198.8,2,    33.8,2,    31.6,2,    0.00,2,   2.026,4,   2.008,2,   0.979,2,   0.399,2,     2205.8,2,  2302.8,2,  -999.0,9, -999.00,   7.6024,2,       25,-999.000,9,-999.0000,9, -999.00,9,  -999.0,9,  -999.0,   1.979,3, -999.00,1,  40.8976,2, -999.00,9,  899.90,  -999.0,9,   4.0838,     27.269,    34.5226,2,     -999.0,9,     -999.0,9,     -999.0,     -999.0,9,     -999.0
33RO20110926,        A10,      21,          1,         13,      11031,2,20111003,       1311,   -29.7501,     4.4250,       4985,  1050.0,   3.5902,  34.4426,2,  34.4421,2,    182.1,2,   181.8,2,    45.0,6,    33.3,6,    0.00,6,   2.155,4,   1.015,2,   0.482,2,   0.186,2,       2226,6,  2313.1,6,  -999.0,9, -999.00,   7.5807,6,       25,-999.000,9,-999.0000,9, -999.00,9,  -999.0,9,  -999.0,   1.171,3, -999.00,1,  35.8341,2, -999.00,9, 1050.00,  -999.0,9,   3.5138,     27.391,    34.6045,2,     -999.0,9,     -999.0,9,     -999.0,     -999.0,9,     -999.0
33RO20110926,        A10,      21,          1,         12,      11027,2,20111003,       1311,   -29.7501,     4.4250,       4985,  1250.0,   3.2412,  34.5571,2,  34.5586,2,    178.0,2,   177.9,2,    52.2,2,    32.6,2,    0.00,2,   2.143,4,   0.410,2,   0.190,2,   0.066,2,     2233.7,2,  2324.2,2,  -999.0,9, -999.00,   7.5784,2,       25,-999.000,9,-999.0000,9, -999.00,9,  -999.0,9,  -999.0,   0.549,3, -999.00,1,  39.4244,2, -999.00,9, 1250.00,  -999.0,9,   3.1515,     27.519,    34.7215,2,     -999.0,9,     -999.0,9,     -999.0,     -999.0,9,     -999.0
33RO20110926,        A10,      21,          1,         11,      11707,2,20111003,       1311,   -29.7501,     4.4250,       4985,  1649.2,   3.1469,  34.7682,2,  34.7678,2,    200.7,2,   200.5,2,    44.3,2,    28.0,2,    0.00,2,   1.810,4,   0.053,2,   0.026,2,   0.015,2,     2215.1,2,  2324.6,2,  -999.0,9, -999.00,   7.6423,2,       25,-999.000,9,-999.0000,9, -999.00,9,  -999.0,9,  -999.0,   0.143,3, -999.00,1,     39.6,2, -999.00,9, 1649.20,  -999.0,9,   3.0241,     27.697,    34.9318,2,     -999.0,9,     -999.0,9,     -999.0,     -999.0,9,     -999.0
33RO20110926,        A10,      21,          1,         10,      11003,2,20111003,       1311,   -29.7501,     4.4250,       4985,  1799.9,   3.0752,  34.8042,2,  34.8034,2,    209.1,2,   209.2,2,    43.5,2,    26.9,2,    0.00,2,   1.732,4,   0.035,2,   0.018,2,   0.000,2,     2211.5,2,    2326,2,  -999.0,9, -999.00,   7.6553,2,       25,-999.000,9,-999.0000,9, -999.00,9,  -999.0,9,  -999.0,   0.113,3, -999.00,1,-999.0000,5, -999.00,9, 1799.90,  -999.0,9,   2.9399,     27.734,    34.9675,2,     -999.0,9,     -999.0,9,     -999.0,     -999.0,9,     -999.0
33RO20110926,        A10,      21,          1,          9,      11706,2,20111003,       1311,   -29.7501,     4.4250,       4985,  1950.5,   3.0453,  34.8365,2,  34.8371,2,    215.6,2,   218.6,2,    40.7,2,    25.5,2,    0.00,2,   1.642,4,   0.018,2,   0.009,2,   0.000,2,     2203.2,2,  2326.6,2,  -999.0,9, -999.00,   7.6753,2,       25,-999.000,9,-999.0000,9, -999.00,9,  -999.0,9,  -999.0,   0.077,3, -999.00,1,  42.2537,2, -999.00,9, 1950.50,  -999.0,9,   2.8969,     27.764,    35.0013,2,     -999.0,9,     -999.0,9,     -999.0,     -999.0,9,     -999.0
33RO20110926,        A10,      21,          1,          8,      11033,2,20111003,       1311,   -29.7501,     4.4250,       4985,  2249.6,   2.7686,  34.8439,2,  34.8443,2,    223.3,2,   223.4,2,    45.4,2,    25.2,2,    0.00,2,   1.633,4,   0.016,2,   0.009,2,   0.000,2,     2205.2,3,  2327.1,2,  -999.0,9, -999.00,   7.6904,2,       25,-999.000,9,-999.0000,9, -999.00,9,  -999.0,9,  -999.0,   0.065,3, -999.00,9,  40.9463,2, -999.00,9, 2249.60,  -999.0,9,   2.5971,     27.797,    35.0086,2,     -999.0,9,     -999.0,9,     -999.0,     -999.0,9,     -999.0
33RO20110926,        A10,      21,          1,          7,      11705,2,20111003,       1311,   -29.7501,     4.4250,       4985,  2549.6,   2.6351,  34.8626,2,  34.8628,2,    230.3,2,   230.6,2,    45.5,6,    24.4,6,    0.00,6,   1.573,4,   0.005,2,   0.003,2,   0.000,2,     2202.8,2,    2333,2,  -999.0,9, -999.00,   7.6873,2,       25,-999.000,9,-999.0000,9, -999.00,9,  -999.0,9,  -999.0,   0.036,3, -999.00,9,  38.6146,2, -999.00,9, 2549.60,  -999.0,9,   2.4374,     27.826,    35.0272,2,     -999.0,9,     -999.0,9,     -999.0,     -999.0,9,     -999.0
33RO20110926,        A10,      21,          1,          6,      11029,2,20111003,       1311,   -29.7501,     4.4250,       4985,  2850.6,   2.4685,  34.8589,2,  34.8588,2,    231.0,2,   231.3,2,    50.1,2,    24.6,2,    0.00,2,   1.602,4,   0.006,2,   0.003,2,   0.000,2,     2206.1,2,  2337.4,2,  -999.0,9, -999.00,   7.6934,2,       25,-999.000,9,-999.0000,9, -999.00,9,  -999.0,9,  -999.0,   0.032,3, -999.00,9,  40.9951,2, -999.00,9, 2850.60,  -999.0,9,   2.2446,     27.839,    35.0232,2,     -999.0,9,     -999.0,9,     -999.0,     -999.0,9,     -999.0
33RO20110926,        A10,      21,          1,          5,      11704,2,20111003,       1311,   -29.7501,     4.4250,       4985,  3149.3,   2.3673,  34.8604,2,  34.8598,2,    231.1,2,   231.8,2,    52.8,2,    24.6,2,    0.00,2,   1.610,4,   0.005,2,   0.003,2,   0.000,2,     2209.9,2,  2343.4,2,  -999.0,9, -999.00,   7.6945,2,       25,-999.000,9,-999.0000,9, -999.00,9,  -999.0,9,  -999.0,   0.030,3, -999.00,9,  42.1268,2, -999.00,9, 3149.30,  -999.0,9,   2.1154,     27.850,    35.0242,2,     -999.0,9,     -999.0,9,     -999.0,     -999.0,9,     -999.0
33RO20110926,        A10,      21,          1,          4,      11030,2,20111003,       1311,   -29.7501,     4.4250,       4985,  3550.9,   2.2093,  34.8501,2,  34.8495,2,    230.1,2,     230,2,    59.1,2,    25.3,2,    0.00,2,   1.664,4,   0.008,2,   0.005,2,   0.000,2,     2216.4,2,  2349.4,2,  -999.0,9, -999.00,   7.6935,2,       25,-999.000,9,-999.0000,9, -999.00,9,  -999.0,9,  -999.0,   0.036,3, -999.00,9,  40.1073,2, -999.00,9, 3550.90,  -999.0,9,   1.9189,     27.858,    35.0138,6,     -999.0,9,     -999.0,9,     -999.0,     -999.0,9,     -999.0
33RO20110926,        A10,      21,          1,          3,      11703,2,20111003,       1311,   -29.7501,     4.4250,       4985,  3949.6,   1.7049,  34.7949,2,  34.7946,2,    222.7,2,   223.1,2,    80.8,2,    28.0,2,    0.00,2,   1.900,4,   0.028,2,   0.016,2,   0.057,4,     2234.9,2,  2357.6,2,  -999.0,9, -999.00,   7.6655,2,       25,-999.000,9,-999.0000,9, -999.00,9,  -999.0,9,  -999.0,   0.078,3, -999.00,9,  43.3268,3, -999.00,9, 3949.60,  -999.0,9,   1.3850,     27.854,    34.9587,2,     -999.0,9,     -999.0,9,     -999.0,     -999.0,9,     -999.0
33RO20110926,        A10,      21,          1,          2,      11702,2,20111003,       1311,   -29.7501,     4.4250,       4985,  4710.2,   1.1708,  34.7385,2,  34.7410,2,    217.7,2,   218.2,2,   103.3,6,    30.6,6,    0.01,6,   2.138,4,   0.062,2,   0.031,2,   0.000,2,     2254.7,2,  2368.9,2,  -999.0,9, -999.00,   7.6344,2,       25,-999.000,9,-999.0000,9, -999.00,9,  -999.0,9,  -999.0,   0.142,3, -999.00,9,-999.0000,5, -999.00,9, 4710.20,  -999.0,9,   0.7815,     27.851,    34.9048,2,     -999.0,9,     -999.0,9,     -999.0,     -999.0,9,     -999.0
33RO20110926,        A10,      21,          1,          1,      11701,2,20111003,       1311,   -29.7501,     4.4250,       4985,  5092.4,   1.1756,  34.7342,2,  34.7335,2,    217.5,2,     217,2,   105.2,2,    30.8,2,    0.00,2,   2.156,4,   0.076,6,   0.036,6,   0.000,6,     2256.6,6,  2368.3,6,  -999.0,9, -999.00,   7.6359,6,       25,-999.000,9,-999.0000,9, -999.00,9,  -999.0,9,  -999.0,   0.161,3, -999.00,9,  40.5366,2, -999.00,9, 5092.40,  -999.0,9,   0.7408,     27.848,    34.8973,2,     -999.0,9,     -999.0,9,     -999.0,     -999.0,9,     -999.0