BOTTLE,20220815CCHSIOAMB
EXPOCODE,SECT_ID,STNNBR,CASTNO,SAMPNO,BTLNBR,BTLNBR_FLAG_W,DATE,TIME,LATITUDE,LONGITUDE,DEPTH,CTDPRS,CTDTMP,CTDSAL,CTDSAL_FLAG_W,SALNTY,SALNTY_FLAG_W,CTDOXY,CTDOXY_FLAG_W,OXYGEN,OXYGEN_FLAG_W,SILCAT,SILCAT_FLAG_W,NITRAT,NITRAT_FLAG_W,NITRIT,NITRIT_FLAG_W,PHSPHT,PHSPHT_FLAG_W,CFC-11,CFC-11_FLAG_W,CFC-12,CFC-12_FLAG_W,SF6,SF6_FLAG_W,TCARBN,TCARBN_FLAG_W,ALKALI,ALKALI_FLAG_W,PCO2,PCO2_FLAG_W,PCO2TMP,PH_SWS,PH_SWS_FLAG_W,PH_TMP,TRITUM,TRITUM_FLAG_W,HELIUM,HELIUM_FLAG_W,DELC13,DELC13_FLAG_W,DELC14,DELC14_FLAG_W,C14ERR,CCL4,CCL4_FLAG_W,DELO18,DELO18_FLAG_W,DOC,DOC_FLAG_W,TDN,TDN_FLAG_W,CTDRAW,14C-DOC,14C-DOC_FLAG_W,THETA,SIG0,SALTREF,SALTREF_FLAG_W,BLACKC,BLACKC_FLAG_W,PIGMENTS,PIGMENTS_FLAG_W,14C-DOCERR,13C-DOC,13C-DOC_FLAG_W,13C-DOCERR
,,,,,,,,,,,METERS,DBAR,ITS-90,PSS-78,,PSS-78,,UMOL/KG,,UMOL/KG,,UMOL/KG,,UMOL/KG,,UMOL/KG,,UMOL/KG,,PMOL/KG,,PMOL/KG,,FMOL/KG,,UMOL/KG,,UMOL/KG,,UATM,,DEG C,,,DEG C,TU,,NMOL/KG,,/MILLE,,/MILLE,,/MILLE,PMOL/KG,,/MILLE,,UMOL/KG,,UMOL/KG,,DBAR,/MILLE,,DEG C,KG/M^3,G/KG,,,,,,/MILLE,/MILLE,,/MILLE
33RO20110926,        A10,      23,          1,         24,      11714,2,20111004,       0141,   -29.4669,     3.3005,       4694,     4.8,  17.6075,  35.7853,2,  35.7840,2,    242.9,2,   243.1,2,     1.6,2,     0.0,2,    0.00,2,   0.145,4,   2.448,6,   1.465,6,   1.453,6,     2076.2,6,  2342.4,2,  -999.0,9, -999.00,   7.9849,2,       25,-999.000,9,-999.0000,1, -999.00,9,  -999.0,9,  -999.0,   2.779,3, -999.00,9,  56.2341,2,    4.59,2,    4.80,  -999.0,9,  17.6067,     25.969,    35.9528,2,     -999.0,9,     -999.0,1,     -999.0,     -999.0,9,     -999.0
33RO20110926,        A10,      23,          1,         23,      11713,2,20111004,       0141,   -29.4669,     3.3005,       4694,    34.8,  17.3692,  35.7488,2,  35.7465,2,    244.7,2,   245.6,2,     1.7,2,     0.0,2,    0.01,2,   0.143,4,   2.470,2,   1.477,2,   1.470,2,     2072.9,2,  2339.5,6,  -999.0,9, -999.00,   7.9834,6,       25,-999.000,9,-999.0000,1, -999.00,9,  -999.0,9,  -999.0,   2.958,3, -999.00,9,  57.3463,2,    5.33,2,   34.80,  -999.0,9,  17.3634,     26.000,    35.9151,2,     -999.0,9,     -999.0,9,     -999.0,     -999.0,9,     -999.0
33RO20110926,        A10,      23,          1,         22,      11712,2,20111004,       0141,   -29.4669,     3.3005,       4694,    75.0,  16.3241,  35.6675,2,  35.6662,2,    239.7,2,   241.6,2,     2.0,2,     0.9,2,    0.35,2,   0.214,4,   2.534,2,   1.502,2,   1.479,2,     2076.7,2,  2344.1,2,  -999.0,9, -999.00,   7.9649,2,       25,-999.000,9,-999.0000,1, -999.00,9,  -999.0,9,  -999.0,   2.484,3, -999.00,9,   54.439,2,    5.58,2,   75.00,  -999.0,9,  16.3120,     26.188,    35.8344,2,     -999.0,9,     -999.0,1,     -999.0,     -999.0,9,     -999.0
33RO20110926,        A10,      23,          1,         21,      11010,2,20111004,       0141,   -29.4669,     3.3005,       4694,   124.9,  16.2254,  35.6639,2,  35.6605,2,    235.9,2,   236.3,2,     2.2,2,     1.4,2,    0.72,2,   0.256,4,   2.526,2,   1.503,2,   1.440,2,     2082.3,2,  2342.3,2,  -999.0,9, -999.00,   7.9569,2,       25,-999.000,9,-999.0000,1, -999.00,9,  -999.0,9,  -999.0,   2.135,3, -999.00,9,   54.439,2,    5.64,2,  124.90,  -999.0,9,  16.2054,     26.209,    35.8287,2,     -999.0,9,     -999.0,1,     -999.0,     -999.0,9,     -999.0
33RO20110926,        A10,      23,          1,         20,      11715,2,20111004,       0141,   -29.4669,     3.3005,       4694,   184.3,  15.7548,  35.5665,2,  35.5624,2,    230.1,2,   229.4,2,     2.5,2,     3.2,2,    0.13,2,   0.331,4,   2.602,2,   1.537,2,   1.421,2,     2087.4,2,  2338.9,2,  -999.0,9, -999.00,   7.9319,2,       25,-999.000,9,-999.0000,1, -999.00,9,  -999.0,9,  -999.0,   1.718,3, -999.00,9,  56.0878,2,    7.53,2,  184.30,  -999.0,9,  15.7258,     26.250,    35.7301,2,     -999.0,9,     -999.0,9,     -999.0,     -999.0,9,     -999.0
33RO20110926,        A10,      23,          1,         19,      11007,2,20111004,       0141,   -29.4669,     3.3005,       4694,   270.2,  13.1628,  35.1450,2,  35.1459,2,    220.0,2,   220.6,2,     3.3,2,     8.4,2,    0.01,2,   0.615,4,   2.955,2,   1.709,2,   1.380,2,     2107.8,2,  2310.1,2,  -999.0,9, -999.00,   7.8607,2,       25,-999.000,9,-999.0000,1, -999.00,9,  -999.0,9,  -999.0,   0.932,3, -999.00,9,   50.039,2, -999.00,9,  270.20,  -999.0,9,  13.1252,     26.481,    35.3117,2,     -999.0,9,     -999.0,9,     -999.0,     -999.0,9,     -999.0
33RO20110926,        A10,      23,          1,         18,      11710,2,20111004,       0141,   -29.4669,     3.3005,       4694,   361.0,  11.5349,  34.9831,2,  34.9801,2,    199.0,2,   203.2,2,     5.7,2,    14.5,2,    0.00,2,   0.940,4,   3.136,2,   1.734,2,   1.135,2,     2131.4,2,  2297.9,4,  -999.0,9, -999.00,   7.7895,2,       25,-999.000,9,-999.0000,1, -999.00,9,  -999.0,9,  -999.0,   0.847,3, -999.00,9,  43.8341,2, -999.00,9,  361.00,  -999.0,9,  11.4887,     26.673,    35.1451,2,     -999.0,9,     -999.0,9,     -999.0,     -999.0,9,     -999.0
33RO20110926,        A10,      23,          1,         17,      11023,2,20111004,       0141,   -29.4669,     3.3005,       4694,   505.6,   8.8407,  34.6568,2,  34.6573,2,    205.7,2,   205.7,2,     9.7,2,    20.6,2,    0.01,2,   1.291,4,   3.170,2,   1.717,2,   1.044,2,     2148.5,2,  2295.3,2,  -999.0,9, -999.00,   7.7196,2,       25,-999.000,9,-999.0000,1, -999.00,9,  -999.0,9,  -999.0,   1.538,3, -999.00,9,   42.039,2, -999.00,9,  505.60,  -999.0,9,   8.7856,     26.883,    34.8208,2,     -999.0,9,     -999.0,9,     -999.0,     -999.0,9,     -999.0
33RO20110926,        A10,      23,          1,         16,      11709,2,20111004,       0141,   -29.4669,     3.3005,       4694,   650.0,   6.4472,  34.4360,2,  34.4356,2,    200.8,2,   197.9,2,    17.4,2,    27.4,2,    0.01,2,   1.696,4,   2.908,2,   1.507,2,   0.779,2,     2173.8,2,  2278.1,3,  -999.0,9, -999.00,   7.6573,2,       25,-999.000,9,-999.0000,1, -999.00,9,  -999.0,9,  -999.0,   2.051,3, -999.00,9,  40.6732,2, -999.00,9,  650.00,  -999.0,9,   6.3875,     27.056,    34.5980,2,     -999.0,9,     -999.0,9,     -999.0,     -999.0,9,     -999.0
33RO20110926,        A10,      23,          1,         15,      11006,2,20111004,       0141,   -29.4669,     3.3005,       4694,   799.9,   4.7736,  34.3362,2,  34.3354,2,    211.1,2,   208.6,2,    25.9,2,    29.9,2,    0.00,2,   1.884,4,   2.632,2,   1.315,2,   0.609,2,     2183.9,2,  2282.4,4,  -999.0,9, -999.00,   7.6362,2,       25,-999.000,9,-999.0000,1, -999.00,9,  -999.0,9,  -999.0,   2.236,3, -999.00,9,  40.3024,2, -999.00,9,  799.90,  -999.0,9,   4.7097,     27.181,    34.4973,2,     -999.0,9,     -999.0,9,     -999.0,     -999.0,9,     -999.0
33RO20110926,        A10,      23,          1,         14,      11708,2,20111004,       0141,   -29.4669,     3.3005,       4694,   950.2,   3.9361,  34.3879,2,  34.3878,2,    192.0,2,   191.4,2,    39.4,2,    32.4,2,    0.00,2,   2.083,4,   1.569,2,   0.762,2,   0.290,2,     2209.4,2,  2293.4,2,  -999.0,9, -999.00,   7.6102,3,       25,-999.000,9,-999.0000,1, -999.00,9,  -999.0,9,  -999.0,   1.544,3, -999.00,9,  38.8683,2, -999.00,9,  950.20,  -999.0,9,   3.8652,     27.313,    34.5499,2,     -999.0,9,     -999.0,9,     -999.0,     -999.0,9,     -999.0
33RO20110926,        A10,      23,          1,         13,      11031,2,20111004,       0141,   -29.4669,     3.3005,       4694,  1149.6,   3.3434,  34.5015,2,  34.5019,2,    179.1,2,   178.6,2,    51.3,2,    33.2,2,    0.00,2,   2.159,4,   0.649,2,   0.306,2,   0.096,2,     2225.5,6,  2320.9,6,  -999.0,9, -999.00,   7.5768,6,       25,-999.000,9,-999.0000,1, -999.00,9,  -999.0,9,  -999.0,   0.764,3, -999.00,9,  38.1854,2, -999.00,9, 1149.60,  -999.0,9,   3.2609,     27.463,    34.6645,2,     -999.0,9,     -999.0,9,     -999.0,     -999.0,9,     -999.0
33RO20110926,        A10,      23,          1,         12,      11027,2,20111004,       0141,   -29.4669,     3.3005,       4694,  1374.4,   3.1519,  34.6275,2,  34.6276,2,    183.2,2,   182.7,2,    52.8,2,    31.6,2,    0.01,2,   2.057,4,   0.243,2,   0.112,2,   0.016,2,     2224.9,2,  2324.6,2,  -999.0,9, -999.00,   7.5954,2,       25,-999.000,9,-999.0000,1, -999.00,9,  -999.0,9,  -999.0,   0.337,3, -999.00,9,  39.0634,2, -999.00,9, 1374.40,  -999.0,9,   3.0527,     27.583,    34.7909,2,     -999.0,9,     -999.0,9,     -999.0,     -999.0,9,     -999.0
33RO20110926,        A10,      23,          1,         11,      11707,2,20111004,       0141,   -29.4669,     3.3005,       4694,  1650.9,   3.1706,  34.7598,2,  34.7595,2,    199.2,2,   199.1,2,    45.4,6,    28.1,6,    0.01,6,   1.817,4,   0.057,2,   0.027,2,   0.000,2,     2208.5,2,  -999.0,5,  -999.0,9, -999.00,   7.6473,2,       25,-999.000,9,-999.0000,1, -999.00,9,  -999.0,9,  -999.0,   0.111,3, -999.00,9,  38.9366,2, -999.00,9, 1650.90,  -999.0,9,   3.0474,     27.689,    34.9234,2,     -999.0,9,     -999.0,9,     -999.0,     -999.0,9,     -999.0
33RO20110926,        A10,      23,          1,         10,      11003,2,20111004,       0141,   -29.4669,     3.3005,       4694,  1926.3,   3.0038,  34.8135,2,  34.8128,2,    212.3,2,   214.6,2,    44.8,6,    26.3,6,    0.01,6,   1.695,4,   0.029,2,   0.014,2,   0.000,2,     2201.5,2,  -999.0,5,  -999.0,9, -999.00,   7.6713,2,       25,-999.000,9,-999.0000,1, -999.00,9,  -999.0,9,  -999.0,   0.071,3, -999.00,9,  41.7659,2, -999.00,9, 1926.30,  -999.0,9,   2.8582,     27.749,    34.9769,2,     -999.0,9,     -999.0,9,     -999.0,     -999.0,9,     -999.0
33RO20110926,        A10,      23,          1,          9,      11706,2,20111004,       0141,   -29.4669,     3.3005,       4694,  2200.2,   2.7859,  34.8369,2,  34.8368,2,    219.9,2,   220.8,2,    47.4,6,    25.4,6,    0.01,6,   1.649,4,   0.020,2,   0.010,2,   0.000,2,     2199.9,2,  -999.0,5,  -999.0,9, -999.00,   7.6853,2,       25,-999.000,9,-999.0000,1, -999.00,9,  -999.0,9,  -999.0,   0.068,3, -999.00,9,   44.722,3, -999.00,9, 2200.20,  -999.0,9,   2.6187,     27.789,    35.0011,2,     -999.0,9,     -999.0,9,     -999.0,     -999.0,9,     -999.0
33RO20110926,        A10,      23,          1,          8,      11033,2,20111004,       0141,   -29.4669,     3.3005,       4694,  2500.2,   2.5257,  34.8461,2,  34.8461,2,    226.4,2,   227.1,2,    51.0,6,    24.9,6,    0.01,6,   1.617,4,   0.015,2,   0.008,2,   0.000,2,     2200.2,2,  2338.2,2,  -999.0,9, -999.00,   7.6865,2,       25,-999.000,9,-999.0000,1, -999.00,9,  -999.0,9,  -999.0,   0.083,3, -999.00,9,  41.0439,2, -999.00,9, 2500.20,  -999.0,9,   2.3348,     27.821,    35.0104,2,     -999.0,9,     -999.0,9,     -999.0,     -999.0,9,     -999.0
33RO20110926,        A10,      23,          1,          7,      11705,2,20111004,       0141,   -29.4669,     3.3005,       4694,  2799.3,   2.3986,  34.8506,2,  34.8507,2,    229.3,2,   230.6,2,    53.6,2,    24.7,2,    0.00,2,   1.632,4,-999.000,5,-999.000,5,-999.000,5,     2201.6,2,  2343.1,2,  -999.0,9, -999.00,   7.6935,2,       25,-999.000,9,-999.0000,1, -999.00,9,  -999.0,9,  -999.0,-999.000,5, -999.00,9,  41.6488,2, -999.00,9, 2799.30,  -999.0,9,   2.1813,     27.837,    35.0150,2,     -999.0,9,     -999.0,9,     -999.0,     -999.0,9,     -999.0
33RO20110926,        A10,      23,          1,          6,      11029,2,20111004,       0141,   -29.4669,     3.3005,       4694,  3099.6,   2.2743,  34.8502,2,  34.8626,4,    229.8,2,   230.2,2,    57.1,2,    24.8,2,    0.00,2,   1.645,4,   0.010,2,   0.006,2,   0.026,4,     2206.5,2,  2347.6,2,  -999.0,9, -999.00,   7.6935,2,       25,-999.000,9,-999.0000,1, -999.00,9,  -999.0,9,  -999.0,   0.035,3, -999.00,9,  39.7561,2, -999.00,9, 3099.60,  -999.0,9,   2.0295,     27.859,    35.0270,2,     -999.0,9,     -999.0,9,     -999.0,     -999.0,9,     -999.0
33RO20110926,        A10,      23,          1,          5,      11704,2,20111004,       0141,   -29.4669,     3.3005,       4694,  3345.1,   2.2102,  34.8496,2,  34.8489,2,    230.1,2,   230.5,2,    59.0,2,    24.9,2,    0.00,2,   1.654,4,   0.011,2,   0.007,2,   0.000,2,     2210.5,2,  2351.5,2,  -999.0,9, -999.00,   7.6904,2,       25,-999.000,9,-999.0000,1, -999.00,9,  -999.0,9,  -999.0,   0.033,3, -999.00,9,  40.6927,2, -999.00,9, 3345.10,  -999.0,9,   1.9416,     27.855,    35.0132,2,     -999.0,9,     -999.0,9,     -999.0,     -999.0,9,     -999.0
33RO20110926,        A10,      23,          1,          4,      11030,2,20111004,       0141,   -29.4669,     3.3005,       4694,  3700.6,   1.8410,  34.8103,2,  34.8336,4,    224.5,2,   224.5,2,    75.1,2,    26.9,2,    0.00,2,   1.830,4,   0.022,2,   0.011,2,   0.000,2,     2225.5,2,  2344.9,4,  -999.0,9, -999.00,   7.6783,2,       25,-999.000,9,-999.0000,1, -999.00,9,  -999.0,9,  -999.0,   0.055,3, -999.00,9,  39.9902,2, -999.00,9, 3700.60,  -999.0,9,   1.5443,     27.873,    34.9978,2,     -999.0,9,     -999.0,9,     -999.0,     -999.0,9,     -999.0
33RO20110926,        A10,      23,          1,          3,      11703,2,20111004,       0141,   -29.4669,     3.3005,       4694,  4049.3,   1.3539,  34.7616,2,  34.7604,2,    218.8,2,   220.1,2,    94.1,2,    29.2,2,    0.00,2,   2.037,4,   0.045,2,   0.022,2,   0.000,2,     2242.3,2,  2368.5,2,  -999.0,9, -999.00,   7.6495,2,       25,-999.000,9,-999.0000,1, -999.00,9,  -999.0,9,  -999.0,   0.106,3, -999.00,9,  40.6634,2, -999.00,9, 4049.30,  -999.0,9,   1.0332,     27.851,    34.9243,2,     -999.0,9,     -999.0,9,     -999.0,     -999.0,9,     -999.0
33RO20110926,        A10,      23,          1,          2,      11702,2,20111004,       0141,   -29.4669,     3.3005,       4694,  4394.5,   1.1529,  34.7399,2,  34.7390,2,    217.4,2,   218.2,2,   103.2,2,    30.4,2,    0.01,2,   2.130,4,   0.063,2,   0.034,2,   0.076,4,     2248.8,2,  2368.5,2,  -999.0,9, -999.00,   7.6384,2,       25,-999.000,9,-999.0000,1, -999.00,9,  -999.0,9,  -999.0,   0.156,3, -999.00,9,  40.6341,2, -999.00,9, 4394.50,  -999.0,9,   0.8002,     27.849,    34.9029,2,     -999.0,9,     -999.0,9,     -999.0,     -999.0,9,     -999.0
33RO20110926,        A10,      23,          1,          1,      11701,2,20111004,       0141,   -29.4669,     3.3005,       4694,  4798.2,   1.1427,  34.7344,2,  34.7342,2,    216.6,2,   216.9,2,   105.6,2,    30.6,2,    0.01,2,   2.155,4,   0.074,2,   0.036,2,   0.000,2,     2252.8,6,  2378.1,4,  -999.0,9, -999.00,   7.6424,6,       25,-999.000,9,-999.0000,1, -999.00,9,  -999.0,9,  -999.0,   0.160,3, -999.00,9,  39.5707,2, -999.00,9, 4798.20,  -999.0,9,   0.7441,     27.848,    34.8979,2,     -999.0,9,     -999.0,9,     -999.0,     -999.0,9,     -999.0