BOTTLE,20220815CCHSIOAMB
EXPOCODE,SECT_ID,STNNBR,CASTNO,SAMPNO,BTLNBR,BTLNBR_FLAG_W,DATE,TIME,LATITUDE,LONGITUDE,DEPTH,CTDPRS,CTDTMP,CTDSAL,CTDSAL_FLAG_W,SALNTY,SALNTY_FLAG_W,CTDOXY,CTDOXY_FLAG_W,OXYGEN,OXYGEN_FLAG_W,SILCAT,SILCAT_FLAG_W,NITRAT,NITRAT_FLAG_W,NITRIT,NITRIT_FLAG_W,PHSPHT,PHSPHT_FLAG_W,CFC-11,CFC-11_FLAG_W,CFC-12,CFC-12_FLAG_W,SF6,SF6_FLAG_W,TCARBN,TCARBN_FLAG_W,ALKALI,ALKALI_FLAG_W,PCO2,PCO2_FLAG_W,PCO2TMP,PH_SWS,PH_SWS_FLAG_W,PH_TMP,TRITUM,TRITUM_FLAG_W,HELIUM,HELIUM_FLAG_W,DELC13,DELC13_FLAG_W,DELC14,DELC14_FLAG_W,C14ERR,CCL4,CCL4_FLAG_W,DELO18,DELO18_FLAG_W,DOC,DOC_FLAG_W,TDN,TDN_FLAG_W,CTDRAW,14C-DOC,14C-DOC_FLAG_W,THETA,SIG0,SALTREF,SALTREF_FLAG_W,BLACKC,BLACKC_FLAG_W,PIGMENTS,PIGMENTS_FLAG_W,14C-DOCERR,13C-DOC,13C-DOC_FLAG_W,13C-DOCERR
,,,,,,,,,,,METERS,DBAR,ITS-90,PSS-78,,PSS-78,,UMOL/KG,,UMOL/KG,,UMOL/KG,,UMOL/KG,,UMOL/KG,,UMOL/KG,,PMOL/KG,,PMOL/KG,,FMOL/KG,,UMOL/KG,,UMOL/KG,,UATM,,DEG C,,,DEG C,TU,,NMOL/KG,,/MILLE,,/MILLE,,/MILLE,PMOL/KG,,/MILLE,,UMOL/KG,,UMOL/KG,,DBAR,/MILLE,,DEG C,KG/M^3,G/KG,,,,,,/MILLE,/MILLE,,/MILLE
33RO20110926,        A10,      22,          1,         24,      11714,2,20111003,       1932,   -29.6346,     3.8509,       4993,     4.6,  17.6648,  35.7655,2,  35.7637,2,    242.2,2,   242.8,2,     1.6,2,     0.0,2,    0.00,2,   0.149,4,   2.444,6,   1.471,6,   1.476,6,     2074.7,6,  2342.3,6,  -999.0,9, -999.00,   7.9844,6,       25,-999.000,1,-999.0000,1, -999.00,9,  -999.0,9,  -999.0,   2.975,3, -999.00,1,-999.0000,9, -999.00,9,    4.60,  -999.0,9,  17.6640,     25.940,    35.9323,2,     -999.0,9,     -999.0,1,     -999.0,     -999.0,9,     -999.0
33RO20110926,        A10,      22,          1,         23,      11713,2,20111003,       1932,   -29.6346,     3.8509,       4993,    25.3,  17.3620,  35.7503,2,  35.7495,2,    244.5,2,   244.2,2,     1.7,2,     0.0,2,    0.01,2,   0.153,4,   2.476,2,   1.475,2,   1.466,2,     2073.9,2,  2345.1,2,  -999.0,9, -999.00,   7.9809,2,       25,-999.000,1,-999.0000,1, -999.00,9,  -999.0,9,  -999.0,   3.207,3, -999.00,1,-999.0000,9, -999.00,9,   25.30,  -999.0,9,  17.3578,     26.003,    35.9180,2,     -999.0,9,     -999.0,9,     -999.0,     -999.0,9,     -999.0
33RO20110926,        A10,      22,          1,         22,      11712,2,20111003,       1932,   -29.6346,     3.8509,       4993,    65.2,  16.9814,  35.7138,2,  35.7066,2,    247.6,2,   245.7,2,     1.7,2,     0.2,2,    0.04,2,   0.169,4,   2.498,2,   1.481,2,   1.448,2,     2073.7,2,  2349.8,2,  -999.0,9, -999.00,   7.9749,2,       25,-999.000,1,-999.0000,1, -999.00,9,  -999.0,9,  -999.0,   3.007,3, -999.00,1,-999.0000,9, -999.00,9,   65.20,  -999.0,9,  16.9707,     26.063,    35.8750,2,     -999.0,9,     -999.0,1,     -999.0,     -999.0,9,     -999.0
33RO20110926,        A10,      22,          1,         21,      11010,2,20111003,       1932,   -29.6346,     3.8509,       4993,   120.3,  16.2441,  35.6459,2,  35.6451,2,    239.6,2,   241.6,2,     2.2,2,     1.1,2,    0.29,2,   0.239,4,   2.542,2,   1.510,2,   1.426,2,     2077.5,2,  2344.5,2,  -999.0,9, -999.00,   7.9579,2,       25,-999.000,1,-999.0000,1, -999.00,9,  -999.0,9,  -999.0,   2.516,3, -999.00,1,-999.0000,9, -999.00,9,  120.30,  -999.0,9,  16.2248,     26.191,    35.8131,2,     -999.0,9,     -999.0,1,     -999.0,     -999.0,9,     -999.0
33RO20110926,        A10,      22,          1,         20,      11715,2,20111003,       1932,   -29.6346,     3.8509,       4993,   175.2,  16.1102,  35.6383,2,  35.6354,2,    235.7,2,   234.7,2,     2.3,2,     1.9,2,    0.52,2,   0.279,4,   2.547,2,   1.506,2,   1.477,2,-999.000000,9,  2342.8,2,  -999.0,9, -999.00,   7.9459,2,       25,-999.000,1,-999.0000,1, -999.00,9,  -999.0,9,  -999.0,   2.087,3, -999.00,1,-999.0000,9, -999.00,9,  175.20,  -999.0,9,  16.0823,     26.217,    35.8034,2,     -999.0,9,     -999.0,9,     -999.0,     -999.0,9,     -999.0
33RO20110926,        A10,      22,          1,         19,      11007,2,20111003,       1932,   -29.6346,     3.8509,       4993,   255.8,  13.7840,  35.2322,2,  35.2324,2,    219.6,2,   219.2,2,     3.2,2,     7.5,2,    0.02,2,   0.559,4,   2.882,2,   1.672,2,   1.448,2,       2106,2,  2311.2,2,  -999.0,9, -999.00,   7.8727,2,       25,-999.000,1,-999.0000,1, -999.00,9,  -999.0,9,  -999.0,   0.944,3, -999.00,1,-999.0000,9, -999.00,9,  255.80,  -999.0,9,  13.7472,     26.418,    35.3985,2,     -999.0,9,     -999.0,9,     -999.0,     -999.0,9,     -999.0
33RO20110926,        A10,      22,          1,         18,      11710,2,20111003,       1932,   -29.6346,     3.8509,       4993,   335.2,  12.4668,  35.0809,2,  35.0794,2,    216.6,2,   216.4,2,     4.1,2,    11.0,2,    0.01,2,   0.742,4,   3.079,2,   1.743,2,   1.327,2,-999.000000,9,  2300.3,2,  -999.0,9, -999.00,   7.8366,2,       25,-999.000,1,-999.0000,1, -999.00,9,  -999.0,9,  -999.0,   1.009,3, -999.00,1,-999.0000,9, -999.00,9,  335.20,  -999.0,9,  12.4217,     26.569,    35.2448,2,     -999.0,9,     -999.0,9,     -999.0,     -999.0,9,     -999.0
33RO20110926,        A10,      22,          1,         17,      11023,2,20111003,       1932,   -29.6346,     3.8509,       4993,   425.4,  11.1011,  34.9292,2,  34.9275,2,    214.9,2,   214.5,2,     5.4,2,    14.6,2,    0.01,2,   0.930,4,   3.198,2,   1.767,2,   1.191,2,     2128.3,3,  2295.6,2,  -999.0,9, -999.00,   7.7976,2,       25,-999.000,1,-999.0000,1, -999.00,9,  -999.0,9,  -999.0,   1.076,3, -999.00,1,-999.0000,9, -999.00,9,  425.40,  -999.0,9,  11.0479,     26.710,    35.0922,2,     -999.0,9,     -999.0,9,     -999.0,     -999.0,9,     -999.0
33RO20110926,        A10,      22,          1,         16,      11709,2,20111003,       1932,   -29.6346,     3.8509,       4993,   575.4,   8.1029,  34.5750,2,  34.5719,2,    205.1,2,   206.2,2,    11.6,2,    22.5,2,    0.01,2,   1.405,4,   3.178,6,   1.684,6,   0.979,6,-999.000000,9,  2292.4,2,  -999.0,9, -999.00,   7.6955,2,       25,-999.000,1,-999.0000,1, -999.00,9,  -999.0,9,  -999.0,   1.781,3, -999.00,1,-999.0000,9, -999.00,9,  575.40,  -999.0,9,   8.0431,     26.931,    34.7349,2,     -999.0,9,     -999.0,9,     -999.0,     -999.0,9,     -999.0
33RO20110926,        A10,      22,          1,         15,      11006,2,20111003,       1932,   -29.6346,     3.8509,       4993,   740.1,   5.4102,  34.3493,2,  34.3490,2,    212.5,2,   213.3,2,    20.5,2,    28.2,2,    0.00,2,   1.768,4,   3.000,2,   1.524,2,   0.810,2,     2174.2,2,  2290.9,2,  -999.0,9, -999.00,   7.6444,2,       25,-999.000,1,-999.0000,1, -999.00,9,  -999.0,9,  -999.0,   2.441,3, -999.00,1,-999.0000,9, -999.00,9,  740.10,  -999.0,9,   5.3478,     27.118,    34.5109,2,     -999.0,9,     -999.0,9,     -999.0,     -999.0,9,     -999.0
33RO20110926,        A10,      22,          1,         14,      11708,2,20111003,       1932,   -29.6346,     3.8509,       4993,   895.8,   4.2678,  34.3668,2,  34.3671,2,    195.3,2,     195,2,    33.6,2,    32.0,2,    0.00,2,   2.023,4,   1.890,2,   0.921,2,   0.361,2,-999.000000,9,  2298.4,2,  -999.0,9, -999.00,   7.6002,2,       25,-999.000,1,-999.0000,1, -999.00,9,  -999.0,9,  -999.0,   1.789,3, -999.00,1,-999.0000,9, -999.00,9,  895.80,  -999.0,9,   4.1990,     27.262,    34.5292,2,     -999.0,9,     -999.0,9,     -999.0,     -999.0,9,     -999.0
33RO20110926,        A10,      22,          1,         13,      11031,2,20111003,       1932,   -29.6346,     3.8509,       4993,  1055.2,   3.7378,  34.4262,2,  34.4254,2,    183.5,2,   183.6,2,    43.2,6,    33.1,6,    0.01,6,   2.127,4,   1.131,2,   0.539,2,   0.189,2,       2216,2,  2306.8,2,  -999.0,9, -999.00,   7.5851,2,       25,-999.000,1,-999.0000,1, -999.00,9,  -999.0,9,  -999.0,   1.237,3, -999.00,1,-999.0000,9, -999.00,9, 1055.20,  -999.0,9,   3.6598,     27.363,    34.5878,2,     -999.0,9,     -999.0,9,     -999.0,     -999.0,9,     -999.0
33RO20110926,        A10,      22,          1,         12,      11027,2,20111003,       1932,   -29.6346,     3.8509,       4993,  1285.7,   3.2245,  34.5575,2,  34.5564,2,    179.1,2,   178.8,2,    52.7,6,    32.8,6,    0.01,6,   2.128,4,   0.422,2,   0.196,2,   0.057,2,     2227.2,2,  2324.8,6,  -999.0,9, -999.00,   7.5819,6,       25,-999.000,1,-999.0000,1, -999.00,9,  -999.0,9,  -999.0,   0.559,3, -999.00,1,-999.0000,9, -999.00,9, 1285.70,  -999.0,9,   3.1320,     27.519,    34.7194,2,     -999.0,9,     -999.0,9,     -999.0,     -999.0,9,     -999.0
33RO20110926,        A10,      22,          1,         11,      11707,2,20111003,       1932,   -29.6346,     3.8509,       4993,  1534.8,   3.1053,  34.7073,2,  34.7081,2,    190.9,2,   191.7,2,    50.1,6,    29.6,6,    0.01,6,   1.926,4,   0.116,2,   0.054,2,   0.000,2,     2217.4,2,  2328.9,2,  -999.0,9, -999.00,   7.6154,2,       25,-999.000,1,-999.0000,1, -999.00,9,  -999.0,9,  -999.0,   0.208,3, -999.00,1,-999.0000,9, -999.00,9, 1534.80,  -999.0,9,   2.9929,     27.653,    34.8718,2,     -999.0,9,     -999.0,9,     -999.0,     -999.0,9,     -999.0
33RO20110926,        A10,      22,          1,         10,      11003,2,20111003,       1932,   -29.6346,     3.8509,       4993,  1800.4,   3.0872,  34.7941,2,  34.7935,2,    208.2,2,   208.4,2,    44.2,6,    27.0,6,    0.01,6,   1.731,4,   0.041,2,   0.020,2,   0.055,2,-999.000000,9,  2320.4,2,  -999.0,9, -999.00,   7.6593,2,       25,-999.000,1,-999.0000,1, -999.00,9,  -999.0,9,  -999.0,   0.094,3, -999.00,1,-999.0000,9, -999.00,9, 1800.40,  -999.0,9,   2.9518,     27.725,    34.9575,2,     -999.0,9,     -999.0,9,     -999.0,     -999.0,9,     -999.0
33RO20110926,        A10,      22,          1,          9,      11706,2,20111003,       1932,   -29.6346,     3.8509,       4993,  2100.3,   2.9056,  34.8384,2,  34.8381,2,    220.8,2,   220.3,2,    44.0,2,    25.3,2,    0.01,2,   1.625,4,   0.019,2,   0.009,2,   0.000,2,-999.000000,9,  2327.5,2,  -999.0,9, -999.00,   7.6783,2,       25,-999.000,1,-999.0000,1, -999.00,9,  -999.0,9,  -999.0,   0.074,3, -999.00,1,-999.0000,9, -999.00,9, 2100.30,  -999.0,9,   2.7456,     27.779,    35.0024,2,     -999.0,9,     -999.0,9,     -999.0,     -999.0,9,     -999.0
33RO20110926,        A10,      22,          1,          8,      11033,2,20111003,       1932,   -29.6346,     3.8509,       4993,  2400.7,   2.5935,  34.8397,2,  34.8395,2,    225.7,2,     225,2,    50.3,2,    25.3,2,    0.00,2,   1.645,4,   0.016,2,   0.008,2,   0.000,2,     2200.7,2,  2333.9,2,  -999.0,9, -999.00,   7.6904,2,       25,-999.000,9,-999.0000,1, -999.00,9,  -999.0,9,  -999.0,   0.049,3, -999.00,1,-999.0000,9, -999.00,9, 2400.70,  -999.0,9,   2.4108,     27.809,    35.0038,2,     -999.0,9,     -999.0,9,     -999.0,     -999.0,9,     -999.0
33RO20110926,        A10,      22,          1,          7,      11705,2,20111003,       1932,   -29.6346,     3.8509,       4993,  2700.5,   2.4141,  34.8509,2,  34.8515,2,    230.2,2,   229.8,2,    52.7,2,    25.0,2,    0.01,2,   1.630,4,   0.011,2,   0.007,2,   0.000,2,-999.000000,9,  2331.8,2,  -999.0,9, -999.00,   7.6783,3,       25,-999.000,1,-999.0000,1, -999.00,9,  -999.0,9,  -999.0,   0.031,3, -999.00,9,-999.0000,9, -999.00,9, 2700.50,  -999.0,9,   2.2061,     27.836,    35.0159,2,     -999.0,9,     -999.0,9,     -999.0,     -999.0,9,     -999.0
33RO20110926,        A10,      22,          1,          6,      11029,2,20111003,       1932,   -29.6346,     3.8509,       4993,  2999.9,   2.2806,  34.8514,2,  34.8512,2,    231.4,2,   231.4,2,    56.3,2,    24.9,2,    0.01,2,   1.641,4,   0.009,2,   0.005,2,   0.000,2,     2205.9,2,  2341.3,2,  -999.0,9, -999.00,   7.6904,2,       25,-999.000,9,-999.0000,1, -999.00,9,  -999.0,9,  -999.0,   0.025,3, -999.00,9,-999.0000,9, -999.00,9, 2999.90,  -999.0,9,   2.0458,     27.849,    35.0155,2,     -999.0,9,     -999.0,9,     -999.0,     -999.0,9,     -999.0
33RO20110926,        A10,      22,          1,          5,      11704,2,20111003,       1932,   -29.6346,     3.8509,       4993,  3400.3,   2.1461,  34.8436,2,  34.8443,2,    230.1,2,   228.9,2,    61.5,2,    25.5,2,    0.00,2,   1.686,4,   0.012,2,   0.007,2,   0.000,2,-999.000000,9,  2351.6,2,  -999.0,9, -999.00,   7.6855,2,       25,-999.000,1,-999.0000,1, -999.00,9,  -999.0,9,  -999.0,   0.023,3, -999.00,9,-999.0000,9, -999.00,9, 3400.30,  -999.0,9,   1.8733,     27.856,    35.0086,6,     -999.0,9,     -999.0,9,     -999.0,     -999.0,9,     -999.0
33RO20110926,        A10,      22,          1,          4,      11030,2,20111003,       1932,   -29.6346,     3.8509,       4993,  3801.5,   1.8406,  34.8091,2,  34.8085,2,    224.6,2,   224.3,2,    75.2,2,    27.1,2,    0.00,2,   1.834,4,   0.023,2,   0.012,2,   0.000,2,     2223.8,2,  2355.1,2,  -999.0,9, -999.00,   7.6705,2,       25,-999.000,9,-999.0000,1, -999.00,9,  -999.0,9,  -999.0,   0.052,3, -999.00,9,-999.0000,9, -999.00,9, 3801.50,  -999.0,9,   1.5330,     27.854,    34.9727,2,     -999.0,9,     -999.0,9,     -999.0,     -999.0,9,     -999.0
33RO20110926,        A10,      22,          1,          3,      11703,2,20111003,       1932,   -29.6346,     3.8509,       4993,  4200.1,   1.3643,  34.7604,2,  34.7598,2,    219.7,2,     221,2,    94.8,2,    29.6,2,    0.00,2,   2.043,4,   0.049,2,   0.023,2,   0.000,2,-999.000000,9,  2363.7,2,  -999.0,9, -999.00,   7.6414,2,       25,-999.000,1,-999.0000,1, -999.00,9,  -999.0,9,  -999.0,   0.098,3, -999.00,9,-999.0000,9, -999.00,9, 4200.10,  -999.0,9,   1.0267,     27.851,    34.9237,2,     -999.0,9,     -999.0,9,     -999.0,     -999.0,9,     -999.0
33RO20110926,        A10,      22,          1,          2,      11702,2,20111003,       1932,   -29.6346,     3.8509,       4993,  4599.5,   1.1714,  34.7396,2,  34.7397,2,    218.0,2,   217.3,2,   103.2,2,    30.6,2,    0.00,2,   2.129,4,   0.064,2,   0.032,2,   0.000,2,     2248.1,2,  2369.4,2,  -999.0,9, -999.00,   7.6364,2,       25,-999.000,1,-999.0000,1, -999.00,9,  -999.0,9,  -999.0,   0.133,3, -999.00,9,-999.0000,9, -999.00,9, 4599.50,  -999.0,9,   0.7949,     27.850,    34.9036,2,     -999.0,9,     -999.0,9,     -999.0,     -999.0,9,     -999.0
33RO20110926,        A10,      22,          1,          1,      11701,2,20111003,       1932,   -29.6346,     3.8509,       4993,  5102.0,   1.1841,  34.7349,2,  34.7341,2,    217.7,2,   217.3,2,   105.2,2,    30.6,2,    0.00,2,   2.152,4,   0.073,6,   0.035,6,   0.000,6,-999.000000,9,  2366.7,6,  -999.0,9, -999.00,   7.6383,6,       25,-999.000,1,-999.0000,1, -999.00,9,  -999.0,9,  -999.0,   0.138,3, -999.00,9,-999.0000,9, -999.00,9, 5102.00,  -999.0,9,   0.7478,     27.848,    34.8979,2,     -999.0,9,     -999.0,9,     -999.0,     -999.0,9,     -999.0