BOTTLE,20220815CCHSIOAMB
EXPOCODE,SECT_ID,STNNBR,CASTNO,SAMPNO,BTLNBR,BTLNBR_FLAG_W,DATE,TIME,LATITUDE,LONGITUDE,DEPTH,CTDPRS,CTDTMP,CTDSAL,CTDSAL_FLAG_W,SALNTY,SALNTY_FLAG_W,CTDOXY,CTDOXY_FLAG_W,OXYGEN,OXYGEN_FLAG_W,SILCAT,SILCAT_FLAG_W,NITRAT,NITRAT_FLAG_W,NITRIT,NITRIT_FLAG_W,PHSPHT,PHSPHT_FLAG_W,CFC-11,CFC-11_FLAG_W,CFC-12,CFC-12_FLAG_W,SF6,SF6_FLAG_W,TCARBN,TCARBN_FLAG_W,ALKALI,ALKALI_FLAG_W,PCO2,PCO2_FLAG_W,PCO2TMP,PH_SWS,PH_SWS_FLAG_W,PH_TMP,TRITUM,TRITUM_FLAG_W,HELIUM,HELIUM_FLAG_W,DELC13,DELC13_FLAG_W,DELC14,DELC14_FLAG_W,C14ERR,CCL4,CCL4_FLAG_W,DELO18,DELO18_FLAG_W,DOC,DOC_FLAG_W,TDN,TDN_FLAG_W,CTDRAW,14C-DOC,14C-DOC_FLAG_W,THETA,SIG0,SALTREF,SALTREF_FLAG_W,BLACKC,BLACKC_FLAG_W,PIGMENTS,PIGMENTS_FLAG_W,14C-DOCERR,13C-DOC,13C-DOC_FLAG_W,13C-DOCERR
,,,,,,,,,,,METERS,DBAR,ITS-90,PSS-78,,PSS-78,,UMOL/KG,,UMOL/KG,,UMOL/KG,,UMOL/KG,,UMOL/KG,,UMOL/KG,,PMOL/KG,,PMOL/KG,,FMOL/KG,,UMOL/KG,,UMOL/KG,,UATM,,DEG C,,,DEG C,TU,,NMOL/KG,,/MILLE,,/MILLE,,/MILLE,PMOL/KG,,/MILLE,,UMOL/KG,,UMOL/KG,,DBAR,/MILLE,,DEG C,KG/M^3,G/KG,,,,,,/MILLE,/MILLE,,/MILLE
33RO20110926,        A10,      12,          1,         24,      11714,2,20110930,       1832,   -29.7497,     9.5999,     -999.0,     3.8,  16.5585,  35.5938,2,  35.5939,2,    247.6,2,   250.5,2,     2.4,2,     0.3,2,    0.05,2,   0.175,2,   2.537,6,   1.504,6,   1.511,6,     2060.5,6,  2338.4,2,  -999.0,9, -999.00,   7.9739,2,       25,-999.000,9,-999.0000,9, -999.00,9,  -999.0,9,  -999.0,   2.937,3, -999.00,9,-999.0000,9, -999.00,9,    3.80,  -999.0,9,  16.5579,     26.075,    35.7618,2,     -999.0,9,     -999.0,1,     -999.0,     -999.0,9,     -999.0
33RO20110926,        A10,      12,          1,         23,      11713,2,20110930,       1832,   -29.7497,     9.5999,     -999.0,    50.1,  16.0748,  35.5975,2,  35.5967,2,    241.9,2,   243.3,2,     2.4,2,     1.1,2,    0.28,2,   0.262,2,-999.000,9,-999.000,9,-999.000,9,-999.000000,9,  2338.8,2,  -999.0,9, -999.00,   7.9609,2,       25,-999.000,9,-999.0000,9, -999.00,9,  -999.0,9,  -999.0,-999.000,9, -999.00,9,-999.0000,9, -999.00,9,   50.10,  -999.0,9,  16.0669,     26.193,    35.7646,2,     -999.0,9,     -999.0,1,     -999.0,     -999.0,9,     -999.0
33RO20110926,        A10,      12,          1,         22,      11712,2,20110930,       1832,   -29.7497,     9.5999,     -999.0,    99.1,  15.9889,  35.6307,2,  35.6281,2,    242.0,2,   241.5,2,     2.4,2,     1.3,2,    0.44,2,   0.285,2,   2.566,2,   1.515,2,   1.494,2,       2080,2,    2339,2,  -999.0,9, -999.00,   7.9559,2,       25,-999.000,9,-999.0000,9, -999.00,9,  -999.0,9,  -999.0,   2.499,3, -999.00,9,-999.0000,9, -999.00,9,   99.10,  -999.0,9,  15.9731,     26.237,    35.7961,2,     -999.0,9,     -999.0,1,     -999.0,     -999.0,9,     -999.0
33RO20110926,        A10,      12,          1,         21,      11010,2,20110930,       1832,   -29.7497,     9.5999,     -999.0,   151.0,  15.6650,  35.5716,2,  35.5713,2,    238.8,2,   238.7,2,     2.5,2,     2.1,2,    0.57,2,   0.333,2,-999.000,9,-999.000,9,-999.000,9,-999.000000,9,  2335.6,2,  -999.0,9, -999.00,   7.9429,2,       25,-999.000,9,-999.0000,9, -999.00,9,  -999.0,9,  -999.0,-999.000,9, -999.00,9,-999.0000,9, -999.00,9,  151.00,  -999.0,9,  15.6414,     26.269,    35.7390,2,     -999.0,9,     -999.0,1,     -999.0,     -999.0,9,     -999.0
33RO20110926,        A10,      12,          1,         20,      11715,2,20110930,       1832,   -29.7497,     9.5999,     -999.0,   191.1,  15.3803,  35.5153,2,  35.5174,2,    234.9,2,   232.2,2,     2.6,2,     3.4,2,    0.19,2,   0.388,2,   2.627,2,   1.550,2,   1.503,2,     2089.1,2,  2334.6,2,  -999.0,9, -999.00,   7.9158,2,       25,-999.000,9,-999.0000,9, -999.00,9,  -999.0,9,  -999.0,   1.882,3, -999.00,9,-999.0000,9, -999.00,9,  191.10,  -999.0,9,  15.3507,     26.292,    35.6849,2,     -999.0,9,     -999.0,1,     -999.0,     -999.0,9,     -999.0
33RO20110926,        A10,      12,          1,         19,      11007,2,20110930,       1832,   -29.7497,     9.5999,     -999.0,   275.0,  13.2809,  35.1819,2,  35.1835,2,    220.0,2,   217.5,2,     3.9,2,     8.7,2,    0.01,2,   0.713,2,-999.000,9,-999.000,9,-999.000,9,-999.000000,9,  2316.8,2,  -999.0,9, -999.00,   7.8386,2,       25,-999.000,9,-999.0000,9, -999.00,9,  -999.0,9,  -999.0,-999.000,9, -999.00,9,-999.0000,9, -999.00,9,  275.00,  -999.0,9,  13.2424,     26.486,    35.3494,2,     -999.0,9,     -999.0,9,     -999.0,     -999.0,9,     -999.0
33RO20110926,        A10,      12,          1,         18,      11710,2,20110930,       1832,   -29.7497,     9.5999,     -999.0,   349.8,  11.8893,  35.0232,2,  35.0246,2,    217.5,2,   216.7,2,     4.6,2,    12.2,2,    0.01,2,   0.911,2,   3.161,2,   1.760,2,   1.283,2,     2126.5,2,  2299.9,3,  -999.0,9, -999.00,   7.8046,2,       25,-999.000,9,-999.0000,9, -999.00,9,  -999.0,9,  -999.0,   1.079,3, -999.00,9,-999.0000,9, -999.00,9,  349.80,  -999.0,9,  11.8437,     26.638,    35.1898,2,     -999.0,9,     -999.0,9,     -999.0,     -999.0,9,     -999.0
33RO20110926,        A10,      12,          1,         17,      11023,2,20110930,       1832,   -29.7497,     9.5999,     -999.0,   460.7,   9.8791,  34.7753,2,  34.7758,2,    204.9,2,   205.6,2,     8.5,2,    17.9,2,    0.00,2,   1.279,2,-999.000,9,-999.000,9,-999.000,9,-999.000000,9,  2298.5,2,  -999.0,9, -999.00,   7.7426,2,       25,-999.000,9,-999.0000,9, -999.00,9,  -999.0,9,  -999.0,-999.000,9, -999.00,9,-999.0000,9, -999.00,9,  460.70,  -999.0,9,   9.8255,     26.806,    34.9398,2,     -999.0,9,     -999.0,9,     -999.0,     -999.0,9,     -999.0
33RO20110926,        A10,      12,          1,         16,      11709,2,20110930,       1832,   -29.7497,     9.5999,     -999.0,   557.9,   7.8849,  34.5497,2,  34.5498,2,    208.7,2,   209.6,2,    11.6,2,    22.6,2,    0.01,2,   1.567,2,-999.000,5,-999.000,5,-999.000,5,       2158,2,  2291.1,2,  -999.0,9, -999.00,   7.6935,2,       25,-999.000,9,-999.0000,9, -999.00,9,  -999.0,9,  -999.0,-999.000,5, -999.00,9,-999.0000,9, -999.00,9,  557.90,  -999.0,9,   7.8280,     26.945,    34.7128,2,     -999.0,9,     -999.0,9,     -999.0,     -999.0,9,     -999.0
33RO20110926,        A10,      12,          1,         15,      11006,2,20110930,       1832,   -29.7497,     9.5999,     -999.0,   654.8,   5.9344,  34.3648,2,  34.3671,2,    218.3,2,   217.9,2,    16.4,2,    26.7,2,    0.01,2,   1.829,2,-999.000,9,-999.000,9,-999.000,9,-999.000000,9,    2286,2,  -999.0,9, -999.00,   7.6595,2,       25,-999.000,9,-999.0000,9, -999.00,9,  -999.0,9,  -999.0,-999.000,9, -999.00,9,-999.0000,9, -999.00,9,  654.80,  -999.0,9,   5.8769,     27.068,    34.5291,2,     -999.0,9,     -999.0,9,     -999.0,     -999.0,9,     -999.0
33RO20110926,        A10,      12,          1,         14,      11708,2,20110930,       1832,   -29.7497,     9.5999,     -999.0,   781.2,   4.7335,  34.3333,2,  34.3337,2,    211.4,2,   211.3,2,    26.4,2,    29.7,2,    0.00,2,   2.050,2,   2.682,2,   1.330,2,   0.622,2,     2187.5,2,  2293.8,2,  -999.0,9, -999.00,   7.6192,2,       25,-999.000,9,-999.0000,9, -999.00,9,  -999.0,9,  -999.0,   2.297,3, -999.00,9,-999.0000,9, -999.00,9,  781.20,  -999.0,9,   4.6714,     27.184,    34.4956,2,     -999.0,9,     -999.0,9,     -999.0,     -999.0,9,     -999.0
33RO20110926,        A10,      12,          1,         13,      11031,2,20110930,       1832,   -29.7497,     9.5999,     -999.0,   931.4,   3.9784,  34.3713,2,  34.3713,2,    197.5,2,   197.1,2,    38.2,2,    31.8,2,    0.00,2,   2.198,2,-999.000,9,-999.000,9,-999.000,9,-999.000000,9,  2304.8,2,  -999.0,9, -999.00,   7.5952,2,       25,-999.000,9,-999.0000,9, -999.00,9,  -999.0,9,  -999.0,-999.000,9, -999.00,9,-999.0000,9, -999.00,9,  931.40,  -999.0,9,   3.9088,     27.295,    34.5333,6,     -999.0,9,     -999.0,9,     -999.0,     -999.0,9,     -999.0
33RO20110926,        A10,      12,          1,         12,      11027,2,20110930,       1832,   -29.7497,     9.5999,     -999.0,  1112.6,   3.3484,  34.4734,2,  34.4743,2,    180.2,2,   180.6,2,    52.1,2,    33.4,2,    0.00,2,   2.298,2,   0.853,2,   0.402,2,   0.157,2,       2228,2,  2319.1,6,  -999.0,9, -999.00,   7.5758,6,       25,-999.000,9,-999.0000,9, -999.00,9,  -999.0,9,  -999.0,   0.860,3, -999.00,9,-999.0000,9, -999.00,9, 1112.60,  -999.0,9,   3.2689,     27.440,    34.6368,2,     -999.0,9,     -999.0,9,     -999.0,     -999.0,9,     -999.0
33RO20110926,        A10,      12,          1,         11,      11707,2,20110930,       1832,   -29.7497,     9.5999,     -999.0,  1359.6,   3.0643,  34.6398,2,  34.6414,2,    181.8,2,   182.6,2,    55.5,2,    31.5,2,    0.00,2,   2.163,2,-999.000,5,-999.000,5,-999.000,5,     2230.9,2,    2328,2,  -999.0,9, -999.00,   7.5831,2,       25,-999.000,9,-999.0000,9, -999.00,9,  -999.0,9,  -999.0,-999.000,5, -999.00,9,-999.0000,9, -999.00,9, 1359.60,  -999.0,9,   2.9672,     27.602,    34.8048,2,     -999.0,9,     -999.0,9,     -999.0,     -999.0,9,     -999.0
33RO20110926,        A10,      12,          1,         10,      11003,2,20110930,       1832,   -29.7497,     9.5999,     -999.0,  1634.4,   3.0557,  34.7694,2,  34.7694,2,    200.7,2,   200.7,2,    47.8,2,    27.8,2,    0.00,2,   1.911,2,-999.000,9,-999.000,9,-999.000,9,-999.000000,9,  2329.8,2,  -999.0,9, -999.00,   7.6322,2,       25,-999.000,9,-999.0000,9, -999.00,9,  -999.0,9,  -999.0,-999.000,9, -999.00,9,-999.0000,9, -999.00,9, 1634.40,  -999.0,9,   2.9353,     27.707,    34.9333,2,     -999.0,9,     -999.0,9,     -999.0,     -999.0,9,     -999.0
33RO20110926,        A10,      12,          1,          9,      11706,2,20110930,       1832,   -29.7497,     9.5999,     -999.0,  1910.1,   2.9824,  34.8395,2,  34.8402,2,    217.7,2,   218.9,2,    42.8,2,    25.4,2,    0.00,2,   1.727,2,-999.000,9,-999.000,9,-999.000,9,-999.000000,9,  2330.3,2,  -999.0,9, -999.00,   7.6593,2,       25,-999.000,9,-999.0000,9, -999.00,9,  -999.0,9,  -999.0,-999.000,9, -999.00,9,-999.0000,9, -999.00,9, 1910.10,  -999.0,9,   2.8385,     27.772,    35.0045,2,     -999.0,9,     -999.0,9,     -999.0,     -999.0,9,     -999.0
33RO20110926,        A10,      12,          1,          8,      11033,2,20110930,       1832,   -29.7497,     9.5999,     -999.0,  2259.3,   2.7935,  34.8659,2,  34.8667,2,    228.6,2,   227.4,2,    43.3,2,    24.3,2,    0.00,2,   1.642,2,   0.008,2,   0.004,2,   0.000,2,-999.000000,9,  2329.8,2,  -999.0,9, -999.00,   7.6885,2,       25,-999.000,9,-999.0000,9, -999.00,9,  -999.0,9,  -999.0,   0.036,3, -999.00,9,-999.0000,9, -999.00,9, 2259.30,  -999.0,9,   2.6205,     27.813,    35.0311,2,     -999.0,9,     -999.0,9,     -999.0,     -999.0,9,     -999.0
33RO20110926,        A10,      12,          1,          7,      11705,2,20110930,       1832,   -29.7497,     9.5999,     -999.0,  2600.0,   2.5391,  34.8585,2,  34.8593,2,    230.9,2,   230.7,2,    49.2,2,    24.4,2,    0.00,2,   1.656,2,   0.008,2,   0.003,2,   0.000,2,     2200.5,2,  2337.9,2,  -999.0,9, -999.00,   7.6925,2,       25,-999.000,9,-999.0000,9, -999.00,9,  -999.0,9,  -999.0,   0.035,3, -999.00,9,-999.0000,9, -999.00,9, 2600.00,  -999.0,9,   2.3383,     27.831,    35.0236,2,     -999.0,9,     -999.0,9,     -999.0,     -999.0,9,     -999.0
33RO20110926,        A10,      12,          1,          6,      11029,2,20110930,       1832,   -29.7497,     9.5999,     -999.0,  2799.2,   2.4576,  34.8607,2,  34.8612,2,    231.9,2,   231.6,2,    50.8,2,    24.4,2,    0.00,2,   1.651,2,   0.008,2,   0.004,2,   0.000,2,-999.000000,9,  -999.0,5,  -999.0,9, -999.00,   7.7085,4,       25,-999.000,9,-999.0000,9, -999.00,9,  -999.0,9,  -999.0,   0.030,3, -999.00,9,-999.0000,9, -999.00,9, 2799.20,  -999.0,9,   2.2390,     27.841,    35.0256,2,     -999.0,9,     -999.0,9,     -999.0,     -999.0,9,     -999.0
33RO20110926,        A10,      12,          1,          5,      11704,2,20110930,       1832,   -29.7497,     9.5999,     -999.0,  3301.2,   2.2982,  34.8575,2,  34.8579,2,    231.2,2,   230.9,2,    55.8,6,    24.7,6,    0.00,6,   1.662,6,   0.007,2,   0.003,2,   0.000,2,     2208.5,2,  2346.4,2,  -999.0,9, -999.00,   7.6843,2,       25,-999.000,9,-999.0000,9, -999.00,9,  -999.0,9,  -999.0,   0.022,3, -999.00,9,-999.0000,9, -999.00,9, 3301.20,  -999.0,9,   2.0321,     27.855,    35.0223,2,     -999.0,9,     -999.0,9,     -999.0,     -999.0,9,     -999.0
33RO20110926,        A10,      12,          1,          4,      11030,2,20110930,       1832,   -29.7497,     9.5999,     -999.0,  3801.0,   1.8867,  34.8153,2,  34.8154,2,    224.4,2,   224.7,2,    73.5,6,    26.7,6,    0.00,6,   1.816,6,   0.015,2,   0.007,2,   0.000,2,-999.000000,9,  2360.4,4,  -999.0,9, -999.00,   7.6683,2,       25,-999.000,9,-999.0000,9, -999.00,9,  -999.0,9,  -999.0,   0.038,3, -999.00,9,-999.0000,9, -999.00,9, 3801.00,  -999.0,9,   1.5780,     27.856,    34.9796,2,     -999.0,9,     -999.0,9,     -999.0,     -999.0,9,     -999.0
33RO20110926,        A10,      12,          1,          3,      11703,2,20110930,       1832,   -29.7497,     9.5999,     -999.0,  4151.2,   1.3856,  34.7633,2,  34.7634,2,    219.0,2,   220.3,2,    94.0,6,    29.3,6,    0.01,6,   2.000,6,   0.038,2,   0.018,2,   0.000,2,     2241.6,2,    2364,2,  -999.0,9, -999.00,   7.6423,2,       25,-999.000,9,-999.0000,9, -999.00,9,  -999.0,9,  -999.0,   0.075,3, -999.00,9,-999.0000,9, -999.00,9, 4151.20,  -999.0,9,   1.0528,     27.852,    34.9274,2,     -999.0,9,     -999.0,9,     -999.0,     -999.0,9,     -999.0
33RO20110926,        A10,      12,          1,          2,      11702,2,20110930,       1832,   -29.7497,     9.5999,     -999.0,  4525.4,   1.1720,  34.7406,2,  34.7409,2,    217.3,2,   217.7,2,   103.2,6,    30.3,6,    0.00,6,   2.080,6,   0.054,2,   0.025,2,   0.000,2,-999.000000,5,  -999.0,5,  -999.0,9, -999.00,-999.0000,5,  -999.00,-999.000,9,-999.0000,9, -999.00,9,  -999.0,9,  -999.0,   0.097,3, -999.00,9,-999.0000,9, -999.00,9, 4525.40,  -999.0,9,   0.8039,     27.850,    34.9048,2,     -999.0,9,     -999.0,9,     -999.0,     -999.0,9,     -999.0
33RO20110926,        A10,      12,          1,          1,      11701,2,20110930,       1832,   -29.7497,     9.5999,     -999.0,  4998.7,   1.1788,  34.7355,2,  34.7382,2,    216.8,2,   216.4,2,   105.4,2,    30.6,2,    0.00,2,   2.105,2,   0.065,6,   0.031,6,   0.000,6,     2255.9,6,  2370.5,6,  -999.0,9, -999.00,   7.6338,6,       25,-999.000,9,-999.0000,9, -999.00,9,  -999.0,9,  -999.0,   0.130,3, -999.00,9,-999.0000,9, -999.00,9, 4998.70,  -999.0,9,   0.7552,     27.851,    34.9020,2,     -999.0,9,     -999.0,9,     -999.0,     -999.0,9,     -999.0