BOTTLE,20220815CCHSIOAMB
EXPOCODE,SECT_ID,STNNBR,CASTNO,SAMPNO,BTLNBR,BTLNBR_FLAG_W,DATE,TIME,LATITUDE,LONGITUDE,DEPTH,CTDPRS,CTDTMP,CTDSAL,CTDSAL_FLAG_W,SALNTY,SALNTY_FLAG_W,CTDOXY,CTDOXY_FLAG_W,OXYGEN,OXYGEN_FLAG_W,SILCAT,SILCAT_FLAG_W,NITRAT,NITRAT_FLAG_W,NITRIT,NITRIT_FLAG_W,PHSPHT,PHSPHT_FLAG_W,CFC-11,CFC-11_FLAG_W,CFC-12,CFC-12_FLAG_W,SF6,SF6_FLAG_W,TCARBN,TCARBN_FLAG_W,ALKALI,ALKALI_FLAG_W,PCO2,PCO2_FLAG_W,PCO2TMP,PH_SWS,PH_SWS_FLAG_W,PH_TMP,TRITUM,TRITUM_FLAG_W,HELIUM,HELIUM_FLAG_W,DELC13,DELC13_FLAG_W,DELC14,DELC14_FLAG_W,C14ERR,CCL4,CCL4_FLAG_W,DELO18,DELO18_FLAG_W,DOC,DOC_FLAG_W,TDN,TDN_FLAG_W,CTDRAW,14C-DOC,14C-DOC_FLAG_W,THETA,SIG0,SALTREF,SALTREF_FLAG_W,BLACKC,BLACKC_FLAG_W,PIGMENTS,PIGMENTS_FLAG_W,14C-DOCERR,13C-DOC,13C-DOC_FLAG_W,13C-DOCERR
,,,,,,,,,,,METERS,DBAR,ITS-90,PSS-78,,PSS-78,,UMOL/KG,,UMOL/KG,,UMOL/KG,,UMOL/KG,,UMOL/KG,,UMOL/KG,,PMOL/KG,,PMOL/KG,,FMOL/KG,,UMOL/KG,,UMOL/KG,,UATM,,DEG C,,,DEG C,TU,,NMOL/KG,,/MILLE,,/MILLE,,/MILLE,PMOL/KG,,/MILLE,,UMOL/KG,,UMOL/KG,,DBAR,/MILLE,,DEG C,KG/M^3,G/KG,,,,,,/MILLE,/MILLE,,/MILLE
33RO20110926,        A10,      36,          1,         24,      11714,2,20111006,       2240,   -29.9997,    -2.2087,       4391,     4.6,  18.6316,  35.8604,2,  35.8625,2,    241.6,2,   240.8,2,     1.4,2,     0.0,2,    0.01,2,   0.162,2,   2.359,6,   1.429,6,   1.434,6,     2082.1,6,  2357.1,2,  -999.0,9, -999.00,   7.9839,2,       25,-999.000,9,-999.0000,9, -999.00,9,  -999.0,9,  -999.0,   2.760,3, -999.00,9,-999.0000,9, -999.00,9,    4.60,  -999.0,9,  18.6308,     25.754,    36.0316,2,     -999.0,9,     -999.0,1,     -999.0,     -999.0,9,     -999.0
33RO20110926,        A10,      36,          1,         23,      11713,2,20111006,       2240,   -29.9997,    -2.2087,       4391,    80.0,  16.8220,  35.7482,2,  35.7466,2,    237.6,2,   243.1,2,     1.2,2,     0.2,2,    0.07,2,   0.190,2,   2.437,2,   1.472,2,   1.426,2,-999.000000,9,  2348.5,6,  -999.0,9, -999.00,   7.9729,6,       25,-999.000,9,-999.0000,9, -999.00,9,  -999.0,9,  -999.0,   2.440,3, -999.00,9,-999.0000,9, -999.00,9,   80.00,  -999.0,9,  16.8088,     26.132,    35.9152,2,     -999.0,9,     -999.0,1,     -999.0,     -999.0,9,     -999.0
33RO20110926,        A10,      36,          1,         22,      11712,2,20111006,       2240,   -29.9997,    -2.2087,       4391,   110.0,  16.6683,  35.7445,2,  35.7440,2,    235.7,2,   235.1,2,     2.0,2,     1.0,2,    0.61,2,   0.249,2,   2.438,2,   1.473,2,   1.455,2,-999.000000,9,  2345.1,2,  -999.0,9, -999.00,   7.9619,2,       25,-999.000,9,-999.0000,9, -999.00,9,  -999.0,9,  -999.0,   2.001,3, -999.00,9,-999.0000,9, -999.00,9,  110.00,  -999.0,9,  16.6503,     26.168,    35.9125,2,     -999.0,9,     -999.0,1,     -999.0,     -999.0,9,     -999.0
33RO20110926,        A10,      36,          1,         21,      11010,2,20111006,       2240,   -29.9997,    -2.2087,       4391,   151.9,  16.4969,  35.7190,2,  35.7278,2,    234.5,2,   235.7,2,     1.9,6,     1.2,6,    0.52,6,   0.260,6,   2.452,2,   1.482,2,   1.510,2,     2084.9,2,  2345.8,2,  -999.0,9, -999.00,   7.9569,2,       25,-999.000,9,-999.0000,9, -999.00,9,  -999.0,9,  -999.0,   1.929,3, -999.00,9,-999.0000,9, -999.00,9,  151.90,  -999.0,9,  16.4723,     26.196,    35.8963,2,     -999.0,9,     -999.0,9,     -999.0,     -999.0,9,     -999.0
33RO20110926,        A10,      36,          1,         20,      11715,2,20111006,       2240,   -29.9997,    -2.2087,       4391,   200.6,  15.9066,  35.6116,2,  35.6081,2,    229.4,2,   229.8,2,     2.3,2,     3.2,2,    0.05,2,   0.360,2,   2.539,2,   1.528,2,   1.470,2,-999.000000,9,  2338.3,2,  -999.0,9, -999.00,   7.9338,2,       25,-999.000,9,-999.0000,9, -999.00,9,  -999.0,9,  -999.0,   1.447,3, -999.00,9,-999.0000,9, -999.00,9,  200.60,  -999.0,9,  15.8748,     26.245,    35.7760,2,     -999.0,9,     -999.0,9,     -999.0,     -999.0,9,     -999.0
33RO20110926,        A10,      36,          1,         19,      11007,2,20111006,       2240,   -29.9997,    -2.2087,       4391,   330.3,  12.9608,  35.1354,2,  35.1353,2,    213.3,2,     213,2,     4.0,2,    10.2,2,    0.01,2,   0.801,2,   2.958,2,   1.708,2,   1.382,2,-999.000000,9,    2314,2,  -999.0,9, -999.00,   7.8366,2,       25,-999.000,9,-999.0000,9, -999.00,9,  -999.0,9,  -999.0,   0.780,3, -999.00,9,-999.0000,9, -999.00,9,  330.30,  -999.0,9,  12.9152,     26.514,    35.3010,2,     -999.0,9,     -999.0,9,     -999.0,     -999.0,9,     -999.0
33RO20110926,        A10,      36,          1,         18,      11710,2,20111006,       2240,   -29.9997,    -2.2087,       4391,   430.1,  11.3198,  34.9578,2,  34.9583,2,    211.0,2,   210.7,2,     5.4,2,    14.4,2,    0.01,2,   1.049,2,   3.115,2,   1.750,2,   1.166,2,     2131.9,2,  2305.6,2,  -999.0,9, -999.00,   7.7916,2,       25,-999.000,9,-999.0000,9, -999.00,9,  -999.0,9,  -999.0,   0.904,3, -999.00,9,-999.0000,9, -999.00,9,  430.10,  -999.0,9,  11.2652,     26.694,    35.1232,2,     -999.0,9,     -999.0,9,     -999.0,     -999.0,9,     -999.0
33RO20110926,        A10,      36,          1,         17,      11023,2,20111006,       2240,   -29.9997,    -2.2087,       4391,   544.6,   9.2168,  34.7023,2,  34.7013,2,    200.2,2,   199.6,2,     9.8,2,    20.5,2,    0.01,2,   1.458,2,   3.093,2,   1.672,2,   0.994,2,-999.000000,9,  2294.6,2,  -999.0,9, -999.00,   7.7164,2,       25,-999.000,9,-999.0000,9, -999.00,9,  -999.0,9,  -999.0,   1.255,3, -999.00,9,-999.0000,9, -999.00,9,  544.60,  -999.0,9,   9.1558,     26.857,    34.8649,2,     -999.0,9,     -999.0,9,     -999.0,     -999.0,9,     -999.0
33RO20110926,        A10,      36,          1,         16,      11709,2,20111006,       2240,   -29.9997,    -2.2087,       4391,   670.3,   6.5454,  34.4380,2,  34.4372,2,    204.6,2,     205,2,    16.7,6,    26.5,6,    0.01,6,   1.859,6,   3.016,2,   1.562,2,   0.845,2,-999.000000,9,  2290.3,2,  -999.0,9, -999.00,   7.6643,2,       25,-999.000,9,-999.0000,9, -999.00,9,  -999.0,9,  -999.0,   1.940,3, -999.00,9,-999.0000,9, -999.00,9,  670.30,  -999.0,9,   6.4834,     27.047,    34.5995,2,     -999.0,9,     -999.0,9,     -999.0,     -999.0,9,     -999.0
33RO20110926,        A10,      36,          1,         15,      11006,2,20111006,       2240,   -29.9997,    -2.2087,       4391,   797.1,   5.0625,  34.3506,2,  34.3506,2,    206.9,2,   206.7,2,    24.0,2,    29.8,2,    0.00,2,   2.077,2,   4.073,4,   2.408,4,   2.949,4,     2185.8,2,  2291.6,2,  -999.0,9, -999.00,   7.6294,2,       25,-999.000,9,-999.0000,9, -999.00,9,  -999.0,9,  -999.0,   4.881,4, -999.00,9,-999.0000,9, -999.00,9,  797.10,  -999.0,9,   4.9971,     27.161,    34.5126,2,     -999.0,9,     -999.0,9,     -999.0,     -999.0,9,     -999.0
33RO20110926,        A10,      36,          1,         14,      11708,2,20111006,       2240,   -29.9997,    -2.2087,       4391,   919.9,   4.2011,  34.3596,2,  34.3601,2,    200.1,2,   198.4,2,    34.1,2,    31.8,2,    0.00,2,   2.231,2,   1.970,2,   0.972,2,   0.400,2,-999.000000,9,  2299.1,2,  -999.0,9, -999.00,   7.6034,2,       25,-999.000,9,-999.0000,9, -999.00,9,  -999.0,9,  -999.0,   1.711,3, -999.00,9,-999.0000,9, -999.00,9,  919.90,  -999.0,9,   4.1308,     27.263,    34.5222,2,     -999.0,9,     -999.0,9,     -999.0,     -999.0,9,     -999.0
33RO20110926,        A10,      36,          1,         13,      11031,2,20111006,       2240,   -29.9997,    -2.2087,       4391,  1070.2,   3.5586,  34.4149,2,  34.4120,2,    190.0,2,     190,2,    45.0,2,    33.0,2,    0.00,2,   2.327,2,   1.288,2,   0.627,2,   0.214,2,-999.000000,9,  2310.6,2,  -999.0,9, -999.00,   7.5894,2,       25,-999.000,9,-999.0000,9, -999.00,9,  -999.0,9,  -999.0,   1.233,3, -999.00,9,-999.0000,9, -999.00,9, 1070.20,  -999.0,9,   3.4809,     27.368,    34.5742,2,     -999.0,9,     -999.0,9,     -999.0,     -999.0,9,     -999.0
33RO20110926,        A10,      36,          1,         12,      11027,2,20111006,       2240,   -29.9997,    -2.2087,       4391,  1260.5,   3.1406,  34.5232,2,  34.5236,2,    182.1,2,   181.6,2,    55.0,2,    33.0,2,    0.00,2,   2.333,2,   0.605,2,   0.287,2,   0.075,2,     2229.4,2,  2322.6,6,  -999.0,9, -999.00,   7.5849,6,       25,-999.000,9,-999.0000,9, -999.00,9,  -999.0,9,  -999.0,   0.668,3, -999.00,9,-999.0000,9, -999.00,9, 1260.50,  -999.0,9,   3.0511,     27.500,    34.6864,2,     -999.0,9,     -999.0,9,     -999.0,     -999.0,9,     -999.0
33RO20110926,        A10,      36,          1,         11,      11707,2,20111006,       2240,   -29.9997,    -2.2087,       4391,  1500.1,   3.0300,  34.6657,2,  34.6662,2,    188.8,2,   188.8,2,    53.6,6,    30.6,6,    0.01,6,   2.154,6,   0.186,2,   0.086,2,   0.023,2,-999.000000,9,  2328.1,2,  -999.0,9, -999.00,   7.6104,2,       25,-999.000,9,-999.0000,9, -999.00,9,  -999.0,9,  -999.0,   0.257,3, -999.00,9,-999.0000,9, -999.00,9, 1500.10,  -999.0,9,   2.9215,     27.626,    34.8297,2,     -999.0,9,     -999.0,9,     -999.0,     -999.0,9,     -999.0
33RO20110926,        A10,      36,          1,         10,      11003,2,20111006,       2240,   -29.9997,    -2.2087,       4391,  1747.7,   2.9426,  34.7649,2,  34.7627,2,    204.3,2,   203.7,2,    49.8,2,    28.0,2,    0.01,2,   1.951,2,   0.066,2,   0.031,2,   0.000,2,-999.000000,9,  2330.7,2,  -999.0,9, -999.00,   7.6463,2,       25,-999.000,9,-999.0000,9, -999.00,9,  -999.0,9,  -999.0,   0.130,3, -999.00,9,-999.0000,9, -999.00,9, 1747.70,  -999.0,9,   2.8138,     27.713,    34.9267,2,     -999.0,9,     -999.0,9,     -999.0,     -999.0,9,     -999.0
33RO20110926,        A10,      36,          1,          9,      11706,2,20111006,       2240,   -29.9997,    -2.2087,       4391,  2048.8,   2.6855,  34.8058,2,  34.8066,2,    215.3,2,   217.3,2,    51.8,2,    26.5,2,    0.01,2,   1.844,2,   0.034,2,   0.017,2,   0.000,2,-999.000000,9,  -999.0,5,  -999.0,9, -999.00,-999.0000,5,  -999.00,-999.000,9,-999.0000,9, -999.00,9,  -999.0,9,  -999.0,   0.106,3, -999.00,9,-999.0000,9, -999.00,9, 2048.80,  -999.0,9,   2.5337,     27.772,    34.9707,2,     -999.0,9,     -999.0,9,     -999.0,     -999.0,9,     -999.0
33RO20110926,        A10,      36,          1,          8,      11033,2,20111006,       2240,   -29.9997,    -2.2087,       4391,  2349.7,   2.5149,  34.8325,2,  34.8318,2,    225.0,2,     225,2,    52.4,2,    25.5,2,    0.01,2,   1.760,2,   0.042,4,   0.024,4,   0.025,2,-999.000000,9,  2336.5,2,  -999.0,9, -999.00,   7.6823,2,       25,-999.000,9,-999.0000,9, -999.00,9,  -999.0,9,  -999.0,   0.085,3, -999.00,9,-999.0000,9, -999.00,9, 2349.70,  -999.0,9,   2.3384,     27.809,    34.9960,2,     -999.0,9,     -999.0,9,     -999.0,     -999.0,9,     -999.0
33RO20110926,        A10,      36,          1,          7,      11705,2,20111006,       2240,   -29.9997,    -2.2087,       4391,  2650.0,   2.4173,  34.8527,2,  34.8535,2,    231.9,2,   232.8,2,    51.8,2,    24.4,2,    0.01,2,   1.695,2,   0.010,2,   0.006,2,   0.000,2,-999.000000,9,  2338.6,2,  -999.0,9, -999.00,   7.6974,2,       25,-999.000,9,-999.0000,9, -999.00,9,  -999.0,9,  -999.0,   0.047,3, -999.00,9,-999.0000,9, -999.00,9, 2650.00,  -999.0,9,   2.2141,     27.836,    35.0178,6,     -999.0,9,     -999.0,9,     -999.0,     -999.0,9,     -999.0
33RO20110926,        A10,      36,          1,          6,      11029,2,20111006,       2240,   -29.9997,    -2.2087,       4391,  2951.0,   2.3645,  34.8639,2,  34.8637,2,    235.3,2,   236.3,2,    51.3,2,    24.1,2,    0.00,2,   1.660,2,   0.006,2,   0.002,2,   0.000,2,     2204.1,2,  2341.3,2,  -999.0,9, -999.00,   7.7055,2,       25,-999.000,9,-999.0000,9, -999.00,9,  -999.0,9,  -999.0,   0.029,3, -999.00,9,-999.0000,9, -999.00,9, 2951.00,  -999.0,9,   2.1328,     27.852,    35.0280,2,     -999.0,9,     -999.0,9,     -999.0,     -999.0,9,     -999.0
33RO20110926,        A10,      36,          1,          5,      11704,2,20111006,       2240,   -29.9997,    -2.2087,       4391,  3249.5,   2.3399,  34.8713,2,  34.8705,2,    235.5,2,   236.8,2,    51.6,2,    23.8,2,    0.01,2,   1.645,2,   0.003,2,   0.003,2,   0.000,2,-999.000000,9,  2346.7,2,  -999.0,9, -999.00,   7.7105,2,       25,-999.000,9,-999.0000,9, -999.00,9,  -999.0,9,  -999.0,   0.023,3, -999.00,9,-999.0000,9, -999.00,9, 3249.50,  -999.0,9,   2.0782,     27.862,    35.0350,2,     -999.0,9,     -999.0,9,     -999.0,     -999.0,9,     -999.0
33RO20110926,        A10,      36,          1,          4,      11030,2,20111006,       2240,   -29.9997,    -2.2087,       4391,  3546.5,   2.3302,  34.8749,2,  34.8747,2,    234.8,2,   235.6,2,    52.3,6,    23.9,6,    0.01,6,   1.635,6,   0.003,2,   0.002,2,   0.000,2,-999.000000,9,  2351.1,2,  -999.0,9, -999.00,   7.7126,2,       25,-999.000,9,-999.0000,9, -999.00,9,  -999.0,9,  -999.0,   0.015,3, -999.00,9,-999.0000,9, -999.00,9, 3546.50,  -999.0,9,   2.0372,     27.868,    35.0391,2,     -999.0,9,     -999.0,9,     -999.0,     -999.0,9,     -999.0
33RO20110926,        A10,      36,          1,          3,      11703,2,20111006,       2240,   -29.9997,    -2.2087,       4391,  3849.0,   2.3159,  34.8747,2,  34.8753,2,    233.6,2,   234.3,2,    54.0,2,    24.2,2,    0.01,2,   1.654,2,   0.006,2,   0.004,2,   0.000,2,-999.000000,9,  2355.1,2,  -999.0,9, -999.00,   7.7146,2,       25,-999.000,9,-999.0000,9, -999.00,9,  -999.0,9,  -999.0,   0.016,3, -999.00,9,-999.0000,9, -999.00,9, 3849.00,  -999.0,9,   1.9900,     27.873,    35.0397,2,     -999.0,9,     -999.0,9,     -999.0,     -999.0,9,     -999.0
33RO20110926,        A10,      36,          1,          2,      11702,2,20111006,       2240,   -29.9997,    -2.2087,       4391,  4149.7,   2.2809,  34.8674,2,  34.8677,2,    232.7,2,   231.8,2,    56.9,2,    24.2,2,    0.01,2,   1.683,2,   0.006,6,   0.004,6,   0.000,6,-999.000000,9,  2356.3,2,  -999.0,9, -999.00,   7.7105,2,       25,-999.000,9,-999.0000,9, -999.00,9,  -999.0,9,  -999.0,   0.020,3, -999.00,9,-999.0000,9, -999.00,9, 4149.70,  -999.0,9,   1.9217,     27.872,    35.0322,2,     -999.0,9,     -999.0,9,     -999.0,     -999.0,9,     -999.0
33RO20110926,        A10,      36,          1,          1,      11701,2,20111006,       2240,   -29.9997,    -2.2087,       4391,  4551.4,   2.2402,  34.8566,2,  34.8558,2,    231.6,2,   231.1,2,    60.8,2,    25.0,2,    0.01,2,   1.721,2,   0.013,2,   0.008,2,   0.000,2,     2216.9,2,  2357.9,6,  -999.0,9, -999.00,    7.705,6,       25,-999.000,9,-999.0000,9, -999.00,9,  -999.0,9,  -999.0,   0.034,3, -999.00,9,-999.0000,9, -999.00,9, 4551.40,  -999.0,9,   1.8349,     27.869,    35.0202,2,     -999.0,9,     -999.0,9,     -999.0,     -999.0,9,     -999.0