BOTTLE,20220815CCHSIOAMB
EXPOCODE,SECT_ID,STNNBR,CASTNO,SAMPNO,BTLNBR,BTLNBR_FLAG_W,DATE,TIME,LATITUDE,LONGITUDE,DEPTH,CTDPRS,CTDTMP,CTDSAL,CTDSAL_FLAG_W,SALNTY,SALNTY_FLAG_W,CTDOXY,CTDOXY_FLAG_W,OXYGEN,OXYGEN_FLAG_W,SILCAT,SILCAT_FLAG_W,NITRAT,NITRAT_FLAG_W,NITRIT,NITRIT_FLAG_W,PHSPHT,PHSPHT_FLAG_W,CFC-11,CFC-11_FLAG_W,CFC-12,CFC-12_FLAG_W,SF6,SF6_FLAG_W,TCARBN,TCARBN_FLAG_W,ALKALI,ALKALI_FLAG_W,PCO2,PCO2_FLAG_W,PCO2TMP,PH_SWS,PH_SWS_FLAG_W,PH_TMP,TRITUM,TRITUM_FLAG_W,HELIUM,HELIUM_FLAG_W,DELC13,DELC13_FLAG_W,DELC14,DELC14_FLAG_W,C14ERR,CCL4,CCL4_FLAG_W,DELO18,DELO18_FLAG_W,DOC,DOC_FLAG_W,TDN,TDN_FLAG_W,CTDRAW,14C-DOC,14C-DOC_FLAG_W,THETA,SIG0,SALTREF,SALTREF_FLAG_W,BLACKC,BLACKC_FLAG_W,PIGMENTS,PIGMENTS_FLAG_W,14C-DOCERR,13C-DOC,13C-DOC_FLAG_W,13C-DOCERR
,,,,,,,,,,,METERS,DBAR,ITS-90,PSS-78,,PSS-78,,UMOL/KG,,UMOL/KG,,UMOL/KG,,UMOL/KG,,UMOL/KG,,UMOL/KG,,PMOL/KG,,PMOL/KG,,FMOL/KG,,UMOL/KG,,UMOL/KG,,UATM,,DEG C,,,DEG C,TU,,NMOL/KG,,/MILLE,,/MILLE,,/MILLE,PMOL/KG,,/MILLE,,UMOL/KG,,UMOL/KG,,DBAR,/MILLE,,DEG C,KG/M^3,G/KG,,,,,,/MILLE,/MILLE,,/MILLE
33RO20110926,        A10,     115,          1,         23,      11713,2,20111029,       1013,   -27.9170,   -46.6507,       1307,     5.7,  22.8775,  36.9376,2,-999.0000,9,    214.0,2,  -999.0,9, -999.00,9,  -999.0,9, -999.00,9,-999.000,9,-999.000,9,-999.000,9,-999.000,9,-999.000000,9,  -999.0,9,  -999.0,9, -999.00,-999.0000,9,  -999.00,-999.000,9,-999.0000,9, -999.00,9,  -999.0,9,  -999.0,-999.000,5, -999.00,9,-999.0000,5, -999.00,5,    5.70,  -999.0,9,  22.8763,     25.439,     -999.0,9,     -999.0,9,     -999.0,9,     -999.0,     -999.0,9,     -999.0
33RO20110926,        A10,     115,          1,         21,      11010,2,20111029,       1013,   -27.9170,   -46.6507,       1307,     5.8,  22.8847,  36.9377,2,  36.9378,2,    214.0,2,   214.8,2,     0.5,2,     0.0,2,    0.01,2,   0.053,2,   1.879,6,   1.170,6,   1.185,6,-999.000000,9,  2418.7,6,  -999.0,9, -999.00,   8.0476,6,       25,-999.000,9,-999.0000,9, -999.00,9,  -999.0,9,  -999.0,   3.156,4, -999.00,9,-999.0000,9, -999.00,9,    5.80,  -999.0,9,  22.8835,     25.439,    37.1120,2,     -999.0,9,     -999.0,9,     -999.0,     -999.0,9,     -999.0
33RO20110926,        A10,     115,          1,         22,      11712,2,20111029,       1013,   -27.9170,   -46.6507,       1307,     5.7,  22.8793,  36.9377,2,-999.0000,9,    214.0,2,  -999.0,9, -999.00,9,  -999.0,9, -999.00,9,-999.000,9,-999.000,9,-999.000,9,-999.000,9,-999.000000,9,  -999.0,9,  -999.0,9, -999.00,-999.0000,9,  -999.00,-999.000,9,-999.0000,9, -999.00,9,  -999.0,9,  -999.0,-999.000,5, -999.00,9,-999.0000,9, -999.00,9,    5.70,  -999.0,9,  22.8781,     25.440,     -999.0,9,     -999.0,9,     -999.0,1,     -999.0,     -999.0,9,     -999.0
33RO20110926,        A10,     115,          1,         24,      11714,2,20111029,       1013,   -27.9170,   -46.6507,       1307,     5.7,  22.8785,  36.9376,2,-999.0000,9,    214.0,2,  -999.0,9, -999.00,9,  -999.0,9, -999.00,9,-999.000,9,-999.000,9,-999.000,9,-999.000,9,-999.000000,9,  -999.0,9,  -999.0,9, -999.00,-999.0000,9,  -999.00,-999.000,9,-999.0000,9, -999.00,9,  -999.0,9,  -999.0,-999.000,5, -999.00,9,-999.0000,9, -999.00,9,    5.70,  -999.0,9,  22.8773,     25.440,     -999.0,9,     -999.0,9,     -999.0,9,     -999.0,     -999.0,9,     -999.0
33RO20110926,        A10,     115,          1,         20,      11715,2,20111029,       1013,   -27.9170,   -46.6507,       1307,    24.9,  22.6962,  36.9388,2,  36.9404,2,    214.9,2,   215.6,2,     0.6,2,     0.0,2,    0.01,2,   0.054,2,   1.884,2,   1.167,2,   1.187,2,     2092.7,2,  2417.6,2,  -999.0,9, -999.00,   8.0481,2,       25,-999.000,9,-999.0000,9, -999.00,9,  -999.0,9,  -999.0,   3.239,4, -999.00,9,-999.0000,5, -999.00,5,   24.90,  -999.0,9,  22.6911,     25.494,    37.1146,2,     -999.0,9,     -999.0,9,     -999.0,     -999.0,9,     -999.0
33RO20110926,        A10,     115,          1,         19,      11007,2,20111029,       1013,   -27.9170,   -46.6507,       1307,    49.9,  22.5999,  36.9310,2,  36.9325,2,    215.2,2,   215.4,2,     0.6,2,     0.0,2,    0.01,2,   0.053,2,   1.883,2,   1.169,2,   1.195,2,     2091.5,2,  2418.1,2,  -999.0,9, -999.00,   8.0501,2,       25,-999.000,9,-999.0000,9, -999.00,9,  -999.0,9,  -999.0,   4.944,4, -999.00,9,-999.0000,5, -999.00,5,   49.90,  -999.0,9,  22.5897,     25.517,    37.1067,2,     -999.0,9,     -999.0,9,     -999.0,     -999.0,9,     -999.0
33RO20110926,        A10,     115,          1,         18,      11710,2,20111029,       1013,   -27.9170,   -46.6507,       1307,    75.0,  22.2766,  36.8546,2,  36.8573,2,    217.0,2,   217.6,2,     0.7,2,     0.0,2,    0.01,2,   0.060,2,   1.900,2,   1.186,2,   1.234,2,     2090.6,2,  2414.6,2,  -999.0,9, -999.00,    8.045,2,       25,-999.000,9,-999.0000,9, -999.00,9,  -999.0,9,  -999.0,   3.341,4, -999.00,9,  65.6976,2, -999.00,9,   75.00,  -999.0,9,  22.2615,     25.552,    37.0311,2,     -999.0,9,     -999.0,9,     -999.0,     -999.0,9,     -999.0
33RO20110926,        A10,     115,          1,         17,      11023,2,20111029,       1013,   -27.9170,   -46.6507,       1307,    88.5,  21.9929,  36.8337,2,-999.0000,9,    216.7,2,  -999.0,9,    0.58,2,    0.00,2,    0.01,2,    0.06,2,-999.000,9,-999.000,9,-999.000,9,-999.000000,9,  -999.0,9,  -999.0,9, -999.00,-999.0000,9,  -999.00,-999.000,9,-999.0000,9, -999.00,9,  -999.0,9,  -999.0,-999.000,5, -999.00,9,  59.5122,2, -999.00,9,   88.50,  -999.0,9,  21.9753,     25.618,     -999.0,9,     -999.0,9,     -999.0,1,     -999.0,     -999.0,9,     -999.0
33RO20110926,        A10,     115,          1,         16,      11709,2,20111029,       1013,   -27.9170,   -46.6507,       1307,    88.2,  21.9896,  36.8325,2,-999.0000,9,    216.7,2,   218.5,2,     0.7,2,     0.0,2,    0.01,2,   0.062,2,   1.927,2,   1.196,2,   1.196,2,     2090.1,2,  2411.9,2,  -999.0,9, -999.00,   8.0421,2,       25,-999.000,9,-999.0000,9, -999.00,9,  -999.0,9,  -999.0,   3.903,4, -999.00,9,  55.2488,3, -999.00,9,   88.20,  -999.0,9,  21.9720,     25.618,     -999.0,5,     -999.0,9,     -999.0,9,     -999.0,     -999.0,9,     -999.0
33RO20110926,        A10,     115,          1,         15,      11006,2,20111029,       1013,   -27.9170,   -46.6507,       1307,   111.5,  21.3295,  36.7194,2,-999.0000,9,    213.0,2,  -999.0,9,    0.68,2,    0.00,2,    0.01,2,    0.06,2,-999.000,9,-999.000,9,-999.000,9,-999.000000,9,  -999.0,9,  -999.0,9, -999.00,-999.0000,9,  -999.00,-999.000,9,-999.0000,9, -999.00,9,  -999.0,9,  -999.0,-999.000,5, -999.00,9,-999.0000,5, -999.00,9,  111.50,  -999.0,9,  21.3077,     25.718,     -999.0,9,     -999.0,9,     -999.0,1,     -999.0,     -999.0,9,     -999.0
33RO20110926,        A10,     115,          1,         13,      11031,2,20111029,       1013,   -27.9170,   -46.6507,       1307,   124.5,  20.5768,  36.5678,2,  36.5708,2,    215.0,2,   213.9,2,     0.7,6,     0.4,6,    0.22,6,   0.113,6,   2.058,2,   1.264,2,   1.226,2,     2093.9,2,  2396.2,2,  -999.0,9, -999.00,    8.019,2,       25,-999.000,9,-999.0000,9, -999.00,9,  -999.0,9,  -999.0,   3.970,4, -999.00,9,   47.278,3, -999.00,9,  124.50,  -999.0,9,  20.5531,     25.809,    36.7432,2,     -999.0,9,     -999.0,9,     -999.0,     -999.0,9,     -999.0
33RO20110926,        A10,     115,          1,         14,      11708,2,20111029,       1013,   -27.9170,   -46.6507,       1307,   124.4,  20.5751,  36.5696,2,  36.8328,4,    215.0,2,  -999.0,9,    0.68,2,    0.00,2,    0.01,2,    0.07,2,-999.000,9,-999.000,9,-999.000,9,-999.000000,9,  -999.0,9,  -999.0,9, -999.00,-999.0000,9,  -999.00,-999.000,9,-999.0000,9, -999.00,9,  -999.0,9,  -999.0,-999.000,5, -999.00,9,-999.0000,5, -999.00,9,  124.40,  -999.0,9,  20.5514,     26.008,    37.0065,2,     -999.0,9,     -999.0,1,     -999.0,     -999.0,9,     -999.0
33RO20110926,        A10,     115,          1,         12,      11027,2,20111029,       1013,   -27.9170,   -46.6507,       1307,   190.7,  19.1974,  36.3616,2,-999.0000,9,    221.5,2,   222.6,2,     0.9,2,     0.5,2,    0.17,2,   0.123,2,   2.181,2,   1.324,2,   1.282,2,     2088.1,2,  2384.6,2,  -999.0,9, -999.00,    8.011,2,       25,-999.000,9,-999.0000,9, -999.00,9,  -999.0,9,  -999.0,   3.824,4, -999.00,9,-999.0000,5, -999.00,9,  190.70,  -999.0,9,  19.1628,     26.020,     -999.0,5,     -999.0,9,     -999.0,9,     -999.0,     -999.0,9,     -999.0
33RO20110926,        A10,     115,          1,         11,      11707,2,20111029,       1013,   -27.9170,   -46.6507,       1307,   260.6,  16.6645,  35.7939,2,  35.8047,2,    206.4,2,   206.2,2,     1.8,2,     3.9,2,    0.02,2,   0.366,2,   2.481,2,   1.476,2,   1.260,2,     2106.3,2,  2350.6,2,  -999.0,9, -999.00,   7.9328,2,       25,-999.000,9,-999.0000,9, -999.00,9,  -999.0,9,  -999.0,   1.586,4, -999.00,9,  51.5317,3, -999.00,9,  260.60,  -999.0,9,  16.6218,     26.230,    35.9735,2,     -999.0,9,     -999.0,9,     -999.0,     -999.0,9,     -999.0
33RO20110926,        A10,     115,          1,         10,      11003,2,20111029,       1013,   -27.9170,   -46.6507,       1307,   334.3,  14.9600,  35.5351,2,  35.5382,2,    208.6,2,   208.4,2,     2.3,2,     6.6,2,    0.01,2,   0.542,2,   2.711,2,   1.595,2,   1.260,2,     2114.7,2,  2336.4,2,  -999.0,9, -999.00,   7.8928,2,       25,-999.000,9,-999.0000,9, -999.00,9,  -999.0,9,  -999.0,   1.115,3, -999.00,9,  39.2878,2, -999.00,9,  334.30,  -999.0,9,  14.9090,     26.407,    35.7058,2,     -999.0,9,     -999.0,9,     -999.0,     -999.0,9,     -999.0
33RO20110926,        A10,     115,          1,          9,      11706,2,20111029,       1013,   -27.9170,   -46.6507,       1307,   414.7,  13.6864,  35.3510,2,  35.3570,2,    207.3,2,     208,2,     3.1,2,     9.4,2,    0.01,2,   0.719,2,   2.868,2,   1.651,2,   1.173,2,     2121.2,2,  2327.2,2,  -999.0,9, -999.00,   7.8587,2,       25,-999.000,9,-999.0000,9, -999.00,9,  -999.0,9,  -999.0,   1.365,3, -999.00,9,  41.7171,2, -999.00,9,  414.70,  -999.0,9,  13.6267,     26.542,    35.5237,2,     -999.0,9,     -999.0,9,     -999.0,     -999.0,9,     -999.0
33RO20110926,        A10,     115,          1,          8,      11033,2,20111029,       1013,   -27.9170,   -46.6507,       1307,   515.9,  11.4211,  34.9998,2,  35.0029,2,    206.6,2,   206.1,2,     5.1,2,    14.5,2,    0.01,2,   1.035,2,   3.103,6,   1.685,6,   1.056,6,     2135.9,2,  2309.4,2,  -999.0,9, -999.00,   7.7987,2,       25,-999.000,9,-999.0000,9, -999.00,9,  -999.0,9,  -999.0,   1.577,3, -999.00,9,   39.678,2, -999.00,9,  515.90,  -999.0,9,  11.3550,     26.710,    35.1679,2,     -999.0,9,     -999.0,9,     -999.0,     -999.0,9,     -999.0
33RO20110926,        A10,     115,          1,          7,      11705,2,20111029,       1013,   -27.9170,   -46.6507,       1307,   612.4,   8.8733,  34.6765,2,  34.6811,2,    202.7,2,   202.3,2,     9.2,6,    21.0,6,    0.01,6,   1.445,6,   3.087,2,   1.617,2,   0.875,2,     2155.5,2,  2295.7,2,  -999.0,9, -999.00,   7.7256,2,       25,-999.000,9,-999.0000,9, -999.00,9,  -999.0,9,  -999.0,   2.412,3, -999.00,9,  42.1659,2, -999.00,9,  612.40,  -999.0,9,   8.8060,     26.894,    34.8447,6,     -999.0,9,     -999.0,9,     -999.0,     -999.0,9,     -999.0
33RO20110926,        A10,     115,          1,          6,      11029,2,20111029,       1013,   -27.9170,   -46.6507,       1307,   715.5,   6.8058,  34.4557,2,  34.4586,2,    211.7,2,   211.8,2,    13.5,2,    25.2,2,    0.01,2,   1.725,2,   3.115,2,   1.590,2,   0.712,2,       2166,2,  2288.5,2,  -999.0,9, -999.00,   7.6815,2,       25,-999.000,9,-999.0000,9, -999.00,9,  -999.0,9,  -999.0,   3.475,3, -999.00,9,  41.8537,2, -999.00,9,  715.50,  -999.0,9,   6.7379,     27.029,    34.6211,2,     -999.0,9,     -999.0,9,     -999.0,     -999.0,9,     -999.0
33RO20110926,        A10,     115,          1,          5,      11704,2,20111029,       1013,   -27.9170,   -46.6507,       1307,   802.1,   5.1857,  34.3279,2,  34.3282,2,    220.7,2,   219.9,2,    19.2,2,    28.2,2,    0.00,2,   1.927,2,   2.947,2,   1.458,2,   0.634,2,     2175.5,2,  2287.9,2,  -999.0,9, -999.00,   7.6553,2,       25,-999.000,9,-999.0000,9, -999.00,9,  -999.0,9,  -999.0,   4.261,3, -999.00,9,  39.5512,2, -999.00,9,  802.10,  -999.0,9,   5.1191,     27.129,    34.4900,2,     -999.0,9,     -999.0,9,     -999.0,     -999.0,9,     -999.0
33RO20110926,        A10,     115,          1,          4,      11030,2,20111029,       1013,   -27.9170,   -46.6507,       1307,   950.0,   4.2671,  34.3323,2,  34.3329,2,    208.5,2,   208.9,2,    29.1,2,    30.8,2,    0.00,2,   2.108,2,   2.062,2,   1.005,2,   0.369,2,     2194.2,2,  2296.2,2,  -999.0,9, -999.00,   7.6252,2,       25,-999.000,9,-999.0000,9, -999.00,9,  -999.0,9,  -999.0,   3.485,3, -999.00,9,-999.0000,5, -999.00,9,  950.00,  -999.0,9,   4.1939,     27.235,    34.4948,2,     -999.0,9,     -999.0,9,     -999.0,     -999.0,9,     -999.0
33RO20110926,        A10,     115,          1,          3,      11703,2,20111029,       1013,   -27.9170,   -46.6507,       1307,  1050.3,   3.6665,  34.3569,2,  34.3584,2,    203.4,2,   203.7,2,    37.5,2,    32.1,2,    0.00,2,   2.195,2,   1.547,2,   0.747,2,   0.245,2,       2207,2,  2303.5,2,  -999.0,9, -999.00,   7.6142,2,       25,-999.000,9,-999.0000,9, -999.00,9,  -999.0,9,  -999.0,   2.883,3, -999.00,9,  38.5073,2, -999.00,9, 1050.30,  -999.0,9,   3.5896,     27.317,    34.5204,2,     -999.0,9,     -999.0,9,     -999.0,     -999.0,9,     -999.0
33RO20110926,        A10,     115,          1,          2,      11702,2,20111029,       1013,   -27.9170,   -46.6507,       1307,  1100.8,   3.4825,  34.3855,2,  34.3857,2,    198.9,2,   199.3,2,    41.3,2,    32.5,2,    0.00,2,   2.225,2,   1.254,2,   0.608,2,   0.196,2,     2213.6,2,  2307.4,2,  -999.0,9, -999.00,   7.6024,2,       25,-999.000,9,-999.0000,9, -999.00,9,  -999.0,9,  -999.0,   2.464,3, -999.00,9,  39.2878,2, -999.00,9, 1100.80,  -999.0,9,   3.4029,     27.357,    34.5479,2,     -999.0,9,     -999.0,9,     -999.0,     -999.0,9,     -999.0
33RO20110926,        A10,     115,          1,          1,      11701,2,20111029,       1013,   -27.9170,   -46.6507,       1307,  1295.1,   3.2935,  34.4988,2,  34.4988,2,    189.6,2,     190,2,    47.5,2,    32.3,2,    0.01,2,   2.213,2,-999.000,5,-999.000,5,-999.000,5,-999.000000,9,  2317.4,6,  -999.0,9, -999.00,   7.6029,6,       25,-999.000,9,-999.0000,9, -999.00,9,  -999.0,9,  -999.0,-999.000,5, -999.00,9,   36.722,2, -999.00,9, 1295.10,  -999.0,9,   3.1997,     27.467,    34.6615,2,     -999.0,9,     -999.0,9,     -999.0,     -999.0,9,     -999.0