BOTTLE,20220815CCHSIOAMB
EXPOCODE,SECT_ID,STNNBR,CASTNO,SAMPNO,BTLNBR,BTLNBR_FLAG_W,DATE,TIME,LATITUDE,LONGITUDE,DEPTH,CTDPRS,CTDTMP,CTDSAL,CTDSAL_FLAG_W,SALNTY,SALNTY_FLAG_W,CTDOXY,CTDOXY_FLAG_W,OXYGEN,OXYGEN_FLAG_W,SILCAT,SILCAT_FLAG_W,NITRAT,NITRAT_FLAG_W,NITRIT,NITRIT_FLAG_W,PHSPHT,PHSPHT_FLAG_W,CFC-11,CFC-11_FLAG_W,CFC-12,CFC-12_FLAG_W,SF6,SF6_FLAG_W,TCARBN,TCARBN_FLAG_W,ALKALI,ALKALI_FLAG_W,PCO2,PCO2_FLAG_W,PCO2TMP,PH_SWS,PH_SWS_FLAG_W,PH_TMP,TRITUM,TRITUM_FLAG_W,HELIUM,HELIUM_FLAG_W,DELC13,DELC13_FLAG_W,DELC14,DELC14_FLAG_W,C14ERR,CCL4,CCL4_FLAG_W,DELO18,DELO18_FLAG_W,DOC,DOC_FLAG_W,TDN,TDN_FLAG_W,CTDRAW,14C-DOC,14C-DOC_FLAG_W,THETA,SIG0,SALTREF,SALTREF_FLAG_W,BLACKC,BLACKC_FLAG_W,PIGMENTS,PIGMENTS_FLAG_W,14C-DOCERR,13C-DOC,13C-DOC_FLAG_W,13C-DOCERR
,,,,,,,,,,,METERS,DBAR,ITS-90,PSS-78,,PSS-78,,UMOL/KG,,UMOL/KG,,UMOL/KG,,UMOL/KG,,UMOL/KG,,UMOL/KG,,PMOL/KG,,PMOL/KG,,FMOL/KG,,UMOL/KG,,UMOL/KG,,UATM,,DEG C,,,DEG C,TU,,NMOL/KG,,/MILLE,,/MILLE,,/MILLE,PMOL/KG,,/MILLE,,UMOL/KG,,UMOL/KG,,DBAR,/MILLE,,DEG C,KG/M^3,G/KG,,,,,,/MILLE,/MILLE,,/MILLE
33RO20110926,        A10,      79,          1,         24,      11714,2,20111021,       0436,   -29.9997,   -30.7419,       4053,     6.6,  18.3392,  36.0443,2,  36.0436,2,    232.3,2,   233.6,2,     1.0,2,     0.0,2,    0.00,2,   0.067,4,   2.286,6,   1.375,6,   1.429,6,     2081.2,6,  2362.3,2,  -999.0,9, -999.00,    8.002,2,       25,-999.000,9,-999.0000,9, -999.00,9,  -999.0,9,  -999.0,   1.900,4, -999.00,9,  63.5024,2,    3.86,2,    6.60,  -999.0,9,  18.3380,     25.987,    36.2135,2,     -999.0,9,     -999.0,1,     -999.0,     -999.0,9,     -999.0
33RO20110926,        A10,      79,          1,         23,      11713,2,20111021,       0436,   -29.9997,   -30.7419,       4053,    50.2,  18.3570,  36.0543,2,  36.0531,2,    233.2,2,   234.9,2,     1.1,2,     0.0,2,    0.00,2,   0.078,4,   2.290,2,   1.374,2,   1.406,2,     2081.6,2,  2366.2,6,  -999.0,9, -999.00,    7.999,6,       25,-999.000,9,-999.0000,9, -999.00,9,  -999.0,9,  -999.0,   1.885,4, -999.00,9,  58.9073,2,    4.60,2,   50.20,  -999.0,9,  18.3482,     25.992,    36.2231,2,     -999.0,9,     -999.0,9,     -999.0,     -999.0,9,     -999.0
33RO20110926,        A10,      79,          1,         22,      11712,2,20111021,       0436,   -29.9997,   -30.7419,       4053,   100.4,  18.3601,  36.0705,2,  36.0695,2,    233.0,2,   232.5,2,     1.1,2,     0.0,2,    0.01,2,   0.087,4,   2.294,2,   1.377,2,   1.382,2,     2083.4,2,  2364.6,2,  -999.0,9, -999.00,    7.998,2,       25,-999.000,9,-999.0000,9, -999.00,9,  -999.0,9,  -999.0,   1.874,4, -999.00,9,  60.9073,2,    4.37,2,  100.40,  -999.0,9,  18.3425,     26.006,    36.2396,2,     -999.0,9,     -999.0,1,     -999.0,     -999.0,9,     -999.0
33RO20110926,        A10,      79,          1,         21,      11010,2,20111021,       0436,   -29.9997,   -30.7419,       4053,   150.1,  16.7191,  35.7487,2,  35.7490,2,    219.5,2,   218.6,2,     1.5,6,     2.1,6,    0.04,6,   0.231,4,   2.506,2,   1.486,2,   1.395,2,     2099.1,2,  2345.6,2,  -999.0,9, -999.00,   7.9409,2,       25,-999.000,9,-999.0000,9, -999.00,9,  -999.0,9,  -999.0,   0.654,4, -999.00,9,  54.2146,2,    5.18,2,  150.10,  -999.0,9,  16.6945,     26.159,    35.9176,2,     -999.0,9,     -999.0,1,     -999.0,     -999.0,9,     -999.0
33RO20110926,        A10,      79,          1,         20,      11715,2,20111021,       0436,   -29.9997,   -30.7419,       4053,   220.1,  15.4020,  35.5274,2,  35.5266,2,    216.7,2,   217.4,2,     2.0,2,     4.6,2,    0.01,2,   0.356,4,   2.669,2,   1.563,2,   1.338,2,     2106.3,2,  2331.6,2,  -999.0,9, -999.00,   7.9068,2,       25,-999.000,9,-999.0000,9, -999.00,9,  -999.0,9,  -999.0,   0.401,3, -999.00,9,  49.0341,2, -999.00,9,  220.10,  -999.0,9,  15.3679,     26.296,    35.6941,2,     -999.0,9,     -999.0,9,     -999.0,     -999.0,9,     -999.0
33RO20110926,        A10,      79,          1,         19,      11007,2,20111021,       0436,   -29.9997,   -30.7419,       4053,   289.5,  14.1235,  35.3561,2,  35.3570,2,    216.6,2,   215.1,2,     2.5,2,     7.1,2,    0.01,2,   0.469,4,   2.859,2,   1.643,2,   1.402,2,     2114.1,2,  2325.3,2,  -999.0,9, -999.00,   7.8747,2,       25,-999.000,9,-999.0000,9, -999.00,9,  -999.0,9,  -999.0,   0.411,3, -999.00,9,  50.2829,2, -999.00,9,  289.50,  -999.0,9,  14.0812,     26.444,    35.5238,2,     -999.0,9,     -999.0,9,     -999.0,     -999.0,9,     -999.0
33RO20110926,        A10,      79,          1,         18,      11710,2,20111021,       0436,   -29.9997,   -30.7419,       4053,   419.1,  12.1345,  35.1047,2,  35.1049,2,    212.5,2,   215.6,2,     3.9,2,    11.7,2,    0.01,2,   0.695,4,   3.097,2,   1.720,2,   1.226,2,     2126.8,2,  2313.5,2,  -999.0,9, -999.00,   7.8266,2,       25,-999.000,9,-999.0000,9, -999.00,9,  -999.0,9,  -999.0,   0.421,3, -999.00,9,  46.9951,2, -999.00,9,  419.10,  -999.0,9,  12.0788,     26.655,    35.2704,2,     -999.0,9,     -999.0,9,     -999.0,     -999.0,9,     -999.0
33RO20110926,        A10,      79,          1,         17,      11023,2,20111021,       0436,   -29.9997,   -30.7419,       4053,   551.4,  10.0060,  34.8051,2,  34.8135,2,    208.2,2,   207.6,2,     6.8,2,    17.4,2,    0.00,2,   0.983,4,   3.203,2,   1.725,2,   1.065,2,     2145.2,2,  2300.3,2,  -999.0,9, -999.00,   7.7565,2,       25,-999.000,9,-999.0000,9, -999.00,9,  -999.0,9,  -999.0,   1.559,3, -999.00,9,  44.7805,2, -999.00,9,  551.40,  -999.0,9,   9.9410,     26.816,    34.9777,2,     -999.0,9,     -999.0,9,     -999.0,     -999.0,9,     -999.0
33RO20110926,        A10,      79,          1,         16,      11709,2,20111021,       0436,   -29.9997,   -30.7419,       4053,   729.4,   6.6557,  34.4270,2,  34.4297,2,    216.2,2,   215.3,2,    13.1,6,    25.0,6,    0.01,6,   1.394,4,-999.000,5,-999.000,5,-999.000,5,       2165,2,  2287.1,2,  -999.0,9, -999.00,   7.6773,2,       25,-999.000,9,-999.0000,9, -999.00,9,  -999.0,9,  -999.0,-999.000,5, -999.00,9,  42.5268,2, -999.00,9,  729.40,  -999.0,9,   6.5873,     27.026,    34.5920,2,     -999.0,9,     -999.0,9,     -999.0,     -999.0,9,     -999.0
33RO20110926,        A10,      79,          1,         15,      11006,2,20111021,       0436,   -29.9997,   -30.7419,       4053,   850.5,   4.9662,  34.2937,2,  34.2951,2,    228.9,2,   227.1,2,    18.7,2,    28.2,2,    0.00,2,   1.589,4,   3.233,2,   1.620,2,   0.785,2,     2173.1,2,  2283.7,2,  -999.0,9, -999.00,   7.6475,2,       25,-999.000,9,-999.0000,9, -999.00,9,  -999.0,9,  -999.0,   3.884,3, -999.00,9,  38.3317,2, -999.00,9,  850.50,  -999.0,9,   4.8968,     27.128,    34.4568,2,     -999.0,9,     -999.0,9,     -999.0,     -999.0,9,     -999.0
33RO20110926,        A10,      79,          1,         14,      11708,2,20111021,       0436,   -29.9997,   -30.7419,       4053,  1051.4,   3.7916,  34.3328,2,  34.3316,2,    209.8,2,   209.1,2,    34.3,2,    31.3,2,    0.00,2,   1.877,4,   1.980,2,   0.966,2,   0.360,2,     2202.2,2,  2296.6,2,  -999.0,9, -999.00,   7.6064,2,       25,-999.000,9,-999.0000,9, -999.00,9,  -999.0,9,  -999.0,   2.939,3, -999.00,9,   40.039,2, -999.00,9, 1051.40,  -999.0,9,   3.7136,     27.283,    34.4935,2,     -999.0,9,     -999.0,9,     -999.0,     -999.0,9,     -999.0
33RO20110926,        A10,      79,          1,         13,      11031,2,20111021,       0436,   -29.9997,   -30.7419,       4053,  1249.5,   3.2609,  34.4506,2,  34.4505,2,    190.9,2,   190.2,2,    48.1,6,    32.6,6,    0.01,6,   2.044,4,-999.000,5,-999.000,5,-999.000,5,       2224,2,  2308.5,2,  -999.0,9, -999.00,   7.5703,2,       25,-999.000,9,-999.0000,9, -999.00,9,  -999.0,9,  -999.0,-999.000,5, -999.00,9,  39.7756,2, -999.00,9, 1249.50,  -999.0,9,   3.1712,     27.431,    34.6130,2,     -999.0,9,     -999.0,9,     -999.0,     -999.0,9,     -999.0
33RO20110926,        A10,      79,          1,         12,      11027,2,20111021,       0436,   -29.9997,   -30.7419,       4053,  1447.7,   2.9518,  34.5736,2,  34.5735,2,    188.6,2,   187.8,2,    54.7,6,    31.8,6,    0.01,6,   2.045,4,   0.354,2,   0.171,2,   0.040,2,     2231.8,6,  2322.4,6,  -999.0,9, -999.00,   7.5999,6,       25,-999.000,9,-999.0000,9, -999.00,9,  -999.0,9,  -999.0,   0.926,3, -999.00,9,  40.7415,2, -999.00,9, 1447.70,  -999.0,9,   2.8488,     27.558,    34.7365,2,     -999.0,9,     -999.0,9,     -999.0,     -999.0,9,     -999.0
33RO20110926,        A10,      79,          1,         11,      11707,2,20111021,       0436,   -29.9997,   -30.7419,       4053,  1652.1,   2.8599,  34.6861,2,  34.6874,2,    196.7,2,   196.6,2,    54.1,2,    29.6,2,    0.01,2,   1.925,4,-999.000,5,-999.000,5,-999.000,5,     2224.5,2,  2328.7,2,  -999.0,9, -999.00,   7.6242,2,       25,-999.000,9,-999.0000,9, -999.00,9,  -999.0,9,  -999.0,-999.000,5, -999.00,9,  37.2195,2, -999.00,9, 1652.10,  -999.0,9,   2.7407,     27.659,    34.8509,2,     -999.0,9,     -999.0,9,     -999.0,     -999.0,9,     -999.0
33RO20110926,        A10,      79,          1,         10,      11003,2,20111021,       0436,   -29.9997,   -30.7419,       4053,  1850.3,   2.7932,  34.7506,2,  34.7506,2,    206.7,2,   207.1,2,    51.9,2,    27.8,2,    0.01,2,   1.809,4,   0.058,2,   0.029,2,   0.000,2,     2217.8,2,  2330.9,2,  -999.0,9, -999.00,   7.6493,2,       25,-999.000,9,-999.0000,9, -999.00,9,  -999.0,9,  -999.0,   0.317,3, -999.00,9,  37.6098,2, -999.00,9, 1850.30,  -999.0,9,   2.6576,     27.717,    34.9145,2,     -999.0,9,     -999.0,9,     -999.0,     -999.0,9,     -999.0
33RO20110926,        A10,      79,          1,          9,      11706,2,20111021,       0436,   -29.9997,   -30.7419,       4053,  2000.0,   2.7581,  34.7926,2,  34.7925,2,    215.4,2,   216.2,2,    49.6,2,    26.4,2,    0.01,2,   1.708,4,   0.034,2,   0.019,2,   0.027,2,     2210.4,2,  2331.4,2,  -999.0,9, -999.00,   7.6673,2,       25,-999.000,9,-999.0000,9, -999.00,9,  -999.0,9,  -999.0,   0.240,3, -999.00,9,  35.7561,3, -999.00,9, 2000.00,  -999.0,9,   2.6097,     27.754,    34.9566,2,     -999.0,9,     -999.0,9,     -999.0,     -999.0,9,     -999.0
33RO20110926,        A10,      79,          1,          8,      11033,2,20111021,       0436,   -29.9997,   -30.7419,       4053,  2247.4,   2.7727,  34.8450,2,  34.8467,2,    228.1,2,   229.1,2,    43.6,2,    24.1,2,    0.01,2,   1.558,4,   0.015,2,   0.009,2,   0.000,2,     2197.7,2,  2331.2,2,  -999.0,9, -999.00,   7.6934,2,       25,-999.000,9,-999.0000,9, -999.00,9,  -999.0,9,  -999.0,   0.115,3, -999.00,9,   39.961,2, -999.00,9, 2247.40,  -999.0,9,   2.6013,     27.797,    35.0110,6,     -999.0,9,     -999.0,9,     -999.0,     -999.0,9,     -999.0
33RO20110926,        A10,      79,          1,          7,      11705,2,20111021,       0436,   -29.9997,   -30.7419,       4053,  2429.6,   2.7720,  34.8746,2,  34.8751,2,    237.4,2,   237.5,2,    39.7,6,    23.1,6,    0.01,6,   1.455,4,   0.013,2,   0.007,2,   0.000,2,     2190.2,2,  2326.5,2,  -999.0,9, -999.00,   7.7025,2,       25,-999.000,9,-999.0000,9, -999.00,9,  -999.0,9,  -999.0,   0.106,3, -999.00,9,  40.5854,2, -999.00,9, 2429.60,  -999.0,9,   2.5833,     27.823,    35.0396,2,     -999.0,9,     -999.0,9,     -999.0,     -999.0,9,     -999.0
33RO20110926,        A10,      79,          1,          6,      11029,2,20111021,       0436,   -29.9997,   -30.7419,       4053,  2729.9,   2.7298,  34.8933,2,  34.9019,2,    243.9,2,   244.3,2,    37.9,6,    22.0,6,    0.00,6,   1.400,4,   0.013,2,   0.009,2,   0.000,2,     2185.9,2,  -999.0,5,  -999.0,9, -999.00,-999.0000,5,  -999.00,-999.000,9,-999.0000,9, -999.00,9,  -999.0,9,  -999.0,   0.032,3, -999.00,9,  39.1902,2, -999.00,9, 2729.90,  -999.0,9,   2.5125,     27.850,    35.0665,2,     -999.0,9,     -999.0,9,     -999.0,     -999.0,9,     -999.0
33RO20110926,        A10,      79,          1,          5,      11704,2,20111021,       0436,   -29.9997,   -30.7419,       4053,  3023.5,   2.6091,  34.8931,2,  34.8959,2,    246.4,2,   245.7,2,    40.1,6,    22.0,6,    0.01,6,   1.409,4,   0.020,2,   0.012,2,   0.000,2,     2186.9,2,  2328.4,2,  -999.0,9, -999.00,   7.7206,2,       25,-999.000,9,-999.0000,9, -999.00,9,  -999.0,9,  -999.0,   0.037,3, -999.00,9,  41.6195,2, -999.00,9, 3023.50,  -999.0,9,   2.3645,     27.858,    35.0605,2,     -999.0,9,     -999.0,9,     -999.0,     -999.0,9,     -999.0
33RO20110926,        A10,      79,          1,          4,      11030,2,20111021,       0436,   -29.9997,   -30.7419,       4053,  3349.2,   2.3356,  34.8723,2,  34.8727,2,    245.0,2,   245.1,2,    48.8,2,    22.9,2,    0.01,2,   1.523,4,   0.026,2,   0.015,2,   0.000,2,     2195.9,2,  2317.7,4,  -999.0,9, -999.00,   7.6885,4,       25,-999.000,9,-999.0000,9, -999.00,9,  -999.0,9,  -999.0,   0.064,3, -999.00,9,  42.8683,2, -999.00,9, 3349.20,  -999.0,9,   2.0635,     27.865,    35.0372,2,     -999.0,9,     -999.0,9,     -999.0,     -999.0,9,     -999.0
33RO20110926,        A10,      79,          1,          3,      11703,2,20111021,       0436,   -29.9997,   -30.7419,       4053,  3548.2,   2.0445,  34.8445,2,  34.8497,4,    241.4,2,     240,2,    59.2,2,    24.3,2,    0.01,2,   1.669,4,   0.036,2,   0.020,2,   0.066,2,     2205.5,2,  2342.2,2,  -999.0,9, -999.00,   7.6994,2,       25,-999.000,9,-999.0000,9, -999.00,9,  -999.0,9,  -999.0,   0.133,3, -999.00,9,  40.4098,2, -999.00,9, 3548.20,  -999.0,9,   1.7586,     27.870,    35.0140,2,     -999.0,9,     -999.0,9,     -999.0,     -999.0,9,     -999.0
33RO20110926,        A10,      79,          1,          2,      11702,2,20111021,       0436,   -29.9997,   -30.7419,       4053,  3752.9,   1.7124,  34.8078,2,  34.8137,4,    235.2,2,   232.9,2,    73.8,2,    26.5,2,    0.01,2,   1.874,4,   0.061,2,   0.031,2,   0.054,2,     2222.7,2,  2349.3,2,  -999.0,9, -999.00,   7.6763,2,       25,-999.000,9,-999.0000,9, -999.00,9,  -999.0,9,  -999.0,   0.057,3, -999.00,9,  38.2634,2, -999.00,9, 3752.90,  -999.0,9,   1.4135,     27.867,    34.9779,2,     -999.0,9,     -999.0,9,     -999.0,     -999.0,9,     -999.0
33RO20110926,        A10,      79,          1,          1,      11701,2,20111021,       0436,   -29.9997,   -30.7419,       4053,  4065.3,   1.2202,  34.7530,2,  34.7546,2,    225.1,2,   224.2,2,    94.6,2,    29.2,2,    0.01,2,   2.182,4,   0.124,6,   0.060,6,   0.020,6,     2245.8,6,  2358.7,6,  -999.0,9, -999.00,   7.6534,6,       25,-999.000,9,-999.0000,9, -999.00,9,  -999.0,9,  -999.0,   0.144,3, -999.00,9,  39.2098,2, -999.00,9, 4065.30,  -999.0,9,   0.9017,     27.855,    34.9185,2,     -999.0,9,     -999.0,9,     -999.0,     -999.0,9,     -999.0