BOTTLE,20220815CCHSIOAMB
EXPOCODE,SECT_ID,STNNBR,CASTNO,SAMPNO,BTLNBR,BTLNBR_FLAG_W,DATE,TIME,LATITUDE,LONGITUDE,DEPTH,CTDPRS,CTDTMP,CTDSAL,CTDSAL_FLAG_W,SALNTY,SALNTY_FLAG_W,CTDOXY,CTDOXY_FLAG_W,OXYGEN,OXYGEN_FLAG_W,SILCAT,SILCAT_FLAG_W,NITRAT,NITRAT_FLAG_W,NITRIT,NITRIT_FLAG_W,PHSPHT,PHSPHT_FLAG_W,CFC-11,CFC-11_FLAG_W,CFC-12,CFC-12_FLAG_W,SF6,SF6_FLAG_W,TCARBN,TCARBN_FLAG_W,ALKALI,ALKALI_FLAG_W,PCO2,PCO2_FLAG_W,PCO2TMP,PH_SWS,PH_SWS_FLAG_W,PH_TMP,TRITUM,TRITUM_FLAG_W,HELIUM,HELIUM_FLAG_W,DELC13,DELC13_FLAG_W,DELC14,DELC14_FLAG_W,C14ERR,CCL4,CCL4_FLAG_W,DELO18,DELO18_FLAG_W,DOC,DOC_FLAG_W,TDN,TDN_FLAG_W,CTDRAW,14C-DOC,14C-DOC_FLAG_W,THETA,SIG0,SALTREF,SALTREF_FLAG_W,BLACKC,BLACKC_FLAG_W,PIGMENTS,PIGMENTS_FLAG_W,14C-DOCERR,13C-DOC,13C-DOC_FLAG_W,13C-DOCERR
,,,,,,,,,,,METERS,DBAR,ITS-90,PSS-78,,PSS-78,,UMOL/KG,,UMOL/KG,,UMOL/KG,,UMOL/KG,,UMOL/KG,,UMOL/KG,,PMOL/KG,,PMOL/KG,,FMOL/KG,,UMOL/KG,,UMOL/KG,,UATM,,DEG C,,,DEG C,TU,,NMOL/KG,,/MILLE,,/MILLE,,/MILLE,PMOL/KG,,/MILLE,,UMOL/KG,,UMOL/KG,,DBAR,/MILLE,,DEG C,KG/M^3,G/KG,,,,,,/MILLE,/MILLE,,/MILLE
33RO20110926,        A10,     116,          1,         18,      11710,2,20111029,       1316,   -27.8668,   -46.8344,     -999.0,     4.7,  22.9037,  36.7632,2,-999.0000,9,    214.8,2,  -999.0,9, -999.00,9,  -999.0,9, -999.00,9,-999.000,9,-999.000,9,-999.000,9,-999.000,9,-999.000000,9,  -999.0,9,  -999.0,9, -999.00,-999.0000,9,  -999.00,-999.000,9,-999.0000,9, -999.00,9,  -999.0,9,  -999.0,-999.000,5, -999.00,9,-999.0000,9, -999.00,9,    4.70,  -999.0,9,  22.9027,     25.296,     -999.0,9,     -999.0,9,     -999.0,1,     -999.0,     -999.0,9,     -999.0
33RO20110926,        A10,     116,          1,         17,      11023,2,20111029,       1316,   -27.8668,   -46.8344,     -999.0,     4.8,  22.9196,  36.7616,2,  36.7628,2,    214.8,2,   215.7,2,     0.5,2,     0.0,2,    0.00,2,   0.071,2,   1.894,2,   1.168,2,   1.189,2,     2088.2,6,  2407.8,6,  -999.0,9, -999.00,   8.0425,6,       25,-999.000,9,-999.0000,9, -999.00,9,  -999.0,9,  -999.0,   4.640,4, -999.00,9,-999.0000,9, -999.00,9,    4.80,  -999.0,9,  22.9186,     25.296,    36.9361,2,     -999.0,9,     -999.0,9,     -999.0,     -999.0,9,     -999.0
33RO20110926,        A10,     116,          1,         16,      11709,2,20111029,       1316,   -27.8668,   -46.8344,     -999.0,    14.6,  22.8176,  36.8458,2,  36.8376,2,    215.3,2,     216,2,     0.6,2,     0.0,2,    0.00,2,   0.062,2,-999.000,9,-999.000,9,-999.000,9,     2086.8,2,  2412.8,2,  -999.0,9, -999.00,    8.045,2,       25,-999.000,9,-999.0000,9, -999.00,9,  -999.0,9,  -999.0,-999.000,5, -999.00,9,-999.0000,9, -999.00,9,   14.60,  -999.0,9,  22.8146,     25.381,    37.0113,2,     -999.0,9,     -999.0,9,     -999.0,     -999.0,9,     -999.0
33RO20110926,        A10,     116,          1,         15,      11006,2,20111029,       1316,   -27.8668,   -46.8344,     -999.0,    43.4,  22.5918,  36.9308,2,  36.9277,2,    215.7,2,   215.7,2,     0.6,2,     0.0,2,    0.00,2,   0.048,2,-999.000,9,-999.000,9,-999.000,9,     2088.1,2,  2416.9,2,  -999.0,9, -999.00,   8.0501,2,       25,-999.000,9,-999.0000,9, -999.00,9,  -999.0,9,  -999.0,-999.000,5, -999.00,9,-999.0000,9, -999.00,9,   43.40,  -999.0,9,  22.5830,     25.517,    37.1018,2,     -999.0,9,     -999.0,9,     -999.0,     -999.0,9,     -999.0
33RO20110926,        A10,     116,          1,         14,      11708,2,20111029,       1316,   -27.8668,   -46.8344,     -999.0,    80.4,  22.5709,  36.9502,2,  36.9506,2,    215.1,2,   215.5,2,     0.7,2,     0.0,2,    0.00,2,   0.050,2,   1.886,2,   1.178,2,   1.191,2,     2088.8,2,  2420.5,2,  -999.0,9, -999.00,   8.0491,2,       25,-999.000,9,-999.0000,9, -999.00,9,  -999.0,9,  -999.0,   5.007,4, -999.00,9,-999.0000,9, -999.00,9,   80.40,  -999.0,9,  22.5546,     25.542,    37.1248,2,     -999.0,9,     -999.0,9,     -999.0,     -999.0,9,     -999.0
33RO20110926,        A10,     116,          1,         12,      11027,2,20111029,       1316,   -27.8668,   -46.8344,     -999.0,   115.9,  21.7851,  36.7857,2,  36.7899,2,    215.3,2,   217.2,2,     0.8,2,     0.0,2,    0.02,2,   0.069,2,-999.000,9,-999.000,9,-999.000,9,     2088.4,2,  2410.6,2,  -999.0,9, -999.00,   8.0431,2,       25,-999.000,9,-999.0000,9, -999.00,9,  -999.0,9,  -999.0,-999.000,5, -999.00,9,-999.0000,9, -999.00,9,  115.90,  -999.0,9,  21.7621,     25.645,    36.9633,2,     -999.0,9,     -999.0,9,     -999.0,     -999.0,9,     -999.0
33RO20110926,        A10,     116,          1,         13,      11031,2,20111029,       1316,   -27.8668,   -46.8344,     -999.0,   115.9,  21.7891,  36.7865,2,  36.7889,2,    215.3,2,  -999.0,9, -999.00,9,  -999.0,9, -999.00,9,-999.000,9,-999.000,9,-999.000,9,-999.000,9,-999.000000,9,  -999.0,9,  -999.0,9, -999.00,-999.0000,9,  -999.00,-999.000,9,-999.0000,9, -999.00,9,  -999.0,9,  -999.0,-999.000,5, -999.00,9,-999.0000,9, -999.00,9,  115.90,  -999.0,9,  21.7661,     25.647,    36.9623,2,     -999.0,9,     -999.0,1,     -999.0,     -999.0,9,     -999.0
33RO20110926,        A10,     116,          1,         11,      11707,2,20111029,       1316,   -27.8668,   -46.8344,     -999.0,   181.8,  19.4574,  36.3720,2,  36.3741,2,    220.3,2,   219.8,2,     0.9,6,     0.7,6,    0.19,6,   0.126,6,   2.168,2,   1.320,2,   1.301,2,     2086.9,3,  2384.4,2,  -999.0,9, -999.00,    8.009,2,       25,-999.000,9,-999.0000,9, -999.00,9,  -999.0,9,  -999.0,   4.108,4, -999.00,9,-999.0000,9, -999.00,9,  181.80,  -999.0,9,  19.4242,     25.963,    36.5456,2,     -999.0,9,     -999.0,9,     -999.0,     -999.0,9,     -999.0
33RO20110926,        A10,     116,          1,         10,      11003,2,20111029,       1316,   -27.8668,   -46.8344,     -999.0,   240.1,  17.6320,  36.0051,2,  36.0313,3,    213.2,2,   213.9,2,     1.4,2,     2.5,2,    0.01,2,   0.266,2,-999.000,9,-999.000,9,-999.000,9,     2096.1,2,  2364.4,2,  -999.0,9, -999.00,   7.9659,2,       25,-999.000,9,-999.0000,9, -999.00,9,  -999.0,9,  -999.0,-999.000,9, -999.00,9,-999.0000,9, -999.00,9,  240.10,  -999.0,9,  17.5910,     26.146,    36.2012,2,     -999.0,9,     -999.0,9,     -999.0,     -999.0,9,     -999.0
33RO20110926,        A10,     116,          1,          9,      11706,2,20111029,       1316,   -27.8668,   -46.8344,     -999.0,   289.8,  15.2654,  35.5311,2,  35.5324,2,    204.6,2,   204.3,2,     2.2,2,     6.2,2,    0.01,2,   0.526,2,   2.690,2,   1.570,2,   1.230,2,     2112.6,2,  2335.4,2,  -999.0,9, -999.00,   7.8928,2,       25,-999.000,9,-999.0000,9, -999.00,9,  -999.0,9,  -999.0,   1.323,3, -999.00,9,-999.0000,9, -999.00,9,  289.80,  -999.0,9,  15.2207,     26.332,    35.7000,2,     -999.0,9,     -999.0,9,     -999.0,     -999.0,9,     -999.0
33RO20110926,        A10,     116,          1,          8,      11033,2,20111029,       1316,   -27.8668,   -46.8344,     -999.0,   339.8,  14.2737,  35.3925,2,  35.3978,2,    205.2,2,   204.7,2,     2.8,2,     8.3,2,    0.01,2,   0.655,2,-999.000,9,-999.000,9,-999.000,9,     2121.2,2,  2327.7,2,  -999.0,9, -999.00,   7.8687,2,       25,-999.000,9,-999.0000,9, -999.00,9,  -999.0,9,  -999.0,-999.000,9, -999.00,9,-999.0000,9, -999.00,9,  339.80,  -999.0,9,  14.2235,     26.446,    35.5647,2,     -999.0,9,     -999.0,9,     -999.0,     -999.0,9,     -999.0
33RO20110926,        A10,     116,          1,          7,      11705,2,20111029,       1316,   -27.8668,   -46.8344,     -999.0,   389.2,  13.4217,  35.2800,2,  35.2815,2,    206.6,2,   206.7,2,     3.2,6,     9.9,6,    0.01,6,   0.753,6,   2.929,2,   1.660,2,   1.108,2,       2127,2,  2322.1,2,  -999.0,9, -999.00,   7.8497,2,       25,-999.000,9,-999.0000,9, -999.00,9,  -999.0,9,  -999.0,   1.505,3, -999.00,9,-999.0000,9, -999.00,9,  389.20,  -999.0,9,  13.3665,     26.539,    35.4479,2,     -999.0,9,     -999.0,9,     -999.0,     -999.0,9,     -999.0
33RO20110926,        A10,     116,          1,          6,      11029,2,20111029,       1316,   -27.8668,   -46.8344,     -999.0,   438.6,  12.5537,  35.1573,2,  35.1619,2,    205.5,2,     206,2,     4.0,2,    11.9,2,    0.00,2,   0.880,2,-999.000,9,-999.000,9,-999.000,9,     2131.3,2,    2317,2,  -999.0,9, -999.00,   7.8247,2,       25,-999.000,9,-999.0000,9, -999.00,9,  -999.0,9,  -999.0,-999.000,9, -999.00,9,-999.0000,9, -999.00,9,  438.60,  -999.0,9,  12.4941,     26.616,    35.3277,2,     -999.0,9,     -999.0,9,     -999.0,     -999.0,9,     -999.0
33RO20110926,        A10,     116,          1,          5,      11704,2,20111029,       1316,   -27.8668,   -46.8344,     -999.0,   489.9,  10.9837,  34.9387,2,  34.9397,2,    202.8,2,   202.9,2,     5.9,2,    15.9,2,    0.01,2,   1.128,2,   3.091,2,   1.663,2,   0.992,2,-999.000000,9,  2308.7,2,  -999.0,9, -999.00,   7.7807,2,       25,-999.000,9,-999.0000,9, -999.00,9,  -999.0,9,  -999.0,   2.217,3, -999.00,9,-999.0000,9, -999.00,9,  489.90,  -999.0,9,  10.9225,     26.744,    35.1045,2,     -999.0,9,     -999.0,9,     -999.0,     -999.0,9,     -999.0
33RO20110926,        A10,     116,          1,          4,      11030,2,20111029,       1316,   -27.8668,   -46.8344,     -999.0,   540.9,   9.8220,  34.7896,2,  34.7918,2,    201.2,2,   201.4,2,     7.9,2,    18.8,2,    0.01,2,   1.310,2,-999.000,9,-999.000,9,-999.000,9,     2149.9,2,  2298.8,2,  -999.0,9, -999.00,   7.7456,2,       25,-999.000,9,-999.0000,9, -999.00,9,  -999.0,9,  -999.0,-999.000,9, -999.00,9,-999.0000,9, -999.00,9,  540.90,  -999.0,9,   9.7590,     26.828,    34.9559,2,     -999.0,9,     -999.0,9,     -999.0,     -999.0,9,     -999.0
33RO20110926,        A10,     116,          1,          3,      11703,2,20111029,       1316,   -27.8668,   -46.8344,     -999.0,   590.1,   8.1573,  34.5897,2,  34.5911,2,    203.1,2,   203.5,2,    10.6,2,    22.7,2,    0.00,2,   1.561,2,   3.131,2,   1.613,2,   0.744,2,-999.000000,9,  2292.2,2,  -999.0,9, -999.00,   7.7055,2,       25,-999.000,9,-999.0000,9, -999.00,9,  -999.0,9,  -999.0,   3.921,3, -999.00,9,-999.0000,9, -999.00,9,  590.10,  -999.0,9,   8.0958,     26.938,    34.7542,2,     -999.0,9,     -999.0,9,     -999.0,     -999.0,9,     -999.0
33RO20110926,        A10,     116,          1,          2,      11702,2,20111029,       1316,   -27.8668,   -46.8344,     -999.0,   641.2,   7.0014,  34.4679,2,  34.4695,2,    210.7,2,   210.6,2,    12.9,2,    24.7,2,    0.00,2,   1.702,2,-999.000,9,-999.000,9,-999.000,9,     2167.8,4,  2288.7,2,  -999.0,9, -999.00,   7.6835,2,       25,-999.000,9,-999.0000,9, -999.00,9,  -999.0,9,  -999.0,-999.000,9, -999.00,9,-999.0000,9, -999.00,9,  641.20,  -999.0,9,   6.9399,     27.009,    34.6320,2,     -999.0,9,     -999.0,9,     -999.0,     -999.0,9,     -999.0
33RO20110926,        A10,     116,          1,          1,      11701,2,20111029,       1316,   -27.8668,   -46.8344,     -999.0,   782.8,   5.1336,  34.3363,2,  34.3380,2,    218.2,2,     219,2,    20.4,6,    28.3,6,    0.01,6,   1.935,6,   2.832,2,   1.416,2,   0.632,2,     2180.1,6,  2290.3,6,  -999.0,9, -999.00,   7.6538,6,       25,-999.000,9,-999.0000,9, -999.00,9,  -999.0,9,  -999.0,   4.436,3, -999.00,9,-999.0000,9, -999.00,9,  782.80,  -999.0,9,   5.0690,     27.141,    34.4999,2,     -999.0,9,     -999.0,9,     -999.0,     -999.0,9,     -999.0