BOTTLE,20220815CCHSIOAMB
EXPOCODE,SECT_ID,STNNBR,CASTNO,SAMPNO,BTLNBR,BTLNBR_FLAG_W,DATE,TIME,LATITUDE,LONGITUDE,DEPTH,CTDPRS,CTDTMP,CTDSAL,CTDSAL_FLAG_W,SALNTY,SALNTY_FLAG_W,CTDOXY,CTDOXY_FLAG_W,OXYGEN,OXYGEN_FLAG_W,SILCAT,SILCAT_FLAG_W,NITRAT,NITRAT_FLAG_W,NITRIT,NITRIT_FLAG_W,PHSPHT,PHSPHT_FLAG_W,CFC-11,CFC-11_FLAG_W,CFC-12,CFC-12_FLAG_W,SF6,SF6_FLAG_W,TCARBN,TCARBN_FLAG_W,ALKALI,ALKALI_FLAG_W,PCO2,PCO2_FLAG_W,PCO2TMP,PH_SWS,PH_SWS_FLAG_W,PH_TMP,TRITUM,TRITUM_FLAG_W,HELIUM,HELIUM_FLAG_W,DELC13,DELC13_FLAG_W,DELC14,DELC14_FLAG_W,C14ERR,CCL4,CCL4_FLAG_W,DELO18,DELO18_FLAG_W,DOC,DOC_FLAG_W,TDN,TDN_FLAG_W,CTDRAW,14C-DOC,14C-DOC_FLAG_W,THETA,SIG0,SALTREF,SALTREF_FLAG_W,BLACKC,BLACKC_FLAG_W,PIGMENTS,PIGMENTS_FLAG_W,14C-DOCERR,13C-DOC,13C-DOC_FLAG_W,13C-DOCERR
,,,,,,,,,,,METERS,DBAR,ITS-90,PSS-78,,PSS-78,,UMOL/KG,,UMOL/KG,,UMOL/KG,,UMOL/KG,,UMOL/KG,,UMOL/KG,,PMOL/KG,,PMOL/KG,,FMOL/KG,,UMOL/KG,,UMOL/KG,,UATM,,DEG C,,,DEG C,TU,,NMOL/KG,,/MILLE,,/MILLE,,/MILLE,PMOL/KG,,/MILLE,,UMOL/KG,,UMOL/KG,,DBAR,/MILLE,,DEG C,KG/M^3,G/KG,,,,,,/MILLE,/MILLE,,/MILLE
33RO20110926,        A10,      82,          1,         24,      11714,2,20111021,       2206,   -29.9830,   -32.4664,       3764,     4.7,  18.2637,  36.0647,2,  36.0639,2,    234.6,2,   234.6,2,     1.0,2,     0.0,2,    0.01,2,   0.059,4,   2.298,6,   1.386,6,   1.397,6,     2079.9,6,  2367.1,2,  -999.0,9, -999.00,    8.003,2,       25,-999.000,9,-999.0000,9, -999.00,9,  -999.0,9,  -999.0,   3.115,4, -999.00,9,-999.0000,9, -999.00,9,    4.70,  -999.0,9,  18.2629,     26.021,    36.2340,2,     -999.0,9,     -999.0,1,     -999.0,     -999.0,9,     -999.0
33RO20110926,        A10,      82,          1,         23,      11713,2,20111021,       2206,   -29.9830,   -32.4664,       3764,    51.4,  18.3001,  36.0641,2,  36.0631,2,    235.5,2,   235.7,2,     1.0,2,     0.0,2,    0.01,2,   0.063,4,   2.298,2,   1.381,2,   1.441,2,     2082.9,3,  2364.8,6,  -999.0,9, -999.00,    8.003,6,       25,-999.000,9,-999.0000,9, -999.00,9,  -999.0,9,  -999.0,   3.091,4, -999.00,9,-999.0000,9, -999.00,9,   51.40,  -999.0,9,  18.2911,     26.014,    36.2332,2,     -999.0,9,     -999.0,9,     -999.0,     -999.0,9,     -999.0
33RO20110926,        A10,      82,          1,         22,      11712,2,20111021,       2206,   -29.9830,   -32.4664,       3764,   101.0,  17.7862,  35.9856,2,  35.9835,2,    234.5,2,   235.1,2,     1.1,2,     0.1,2,    0.02,2,   0.092,4,-999.000,9,-999.000,9,-999.000,9,-999.000000,9,  2357.8,2,  -999.0,9, -999.00,    7.995,2,       25,-999.000,9,-999.0000,9, -999.00,9,  -999.0,9,  -999.0,-999.000,5, -999.00,9,-999.0000,9, -999.00,9,  101.00,  -999.0,9,  17.7690,     26.083,    36.1531,2,     -999.0,9,     -999.0,1,     -999.0,     -999.0,9,     -999.0
33RO20110926,        A10,      82,          1,         21,      11010,2,20111021,       2206,   -29.9830,   -32.4664,       3764,   165.0,  17.6056,  35.9756,2,  35.9752,2,    229.1,2,   234.1,2,     1.0,6,     0.2,6,    0.08,6,   0.092,4,   2.360,2,   1.417,2,   1.423,2,     2082.9,2,  2357.5,2,  -999.0,9, -999.00,    7.994,2,       25,-999.000,9,-999.0000,9, -999.00,9,  -999.0,9,  -999.0,   2.781,4, -999.00,9,-999.0000,9, -999.00,9,  165.00,  -999.0,9,  17.5775,     26.125,    36.1448,2,     -999.0,9,     -999.0,1,     -999.0,     -999.0,9,     -999.0
33RO20110926,        A10,      82,          1,         20,      11715,2,20111021,       2206,   -29.9830,   -32.4664,       3764,   230.1,  15.5564,  35.5686,2,  35.5658,2,    216.4,2,   215.8,2,     2.0,2,     4.3,2,    0.02,2,   0.340,4,-999.000,9,-999.000,9,-999.000,9,-999.000000,9,  2333.6,2,  -999.0,9, -999.00,   7.9108,2,       25,-999.000,9,-999.0000,9, -999.00,9,  -999.0,9,  -999.0,-999.000,9, -999.00,9,-999.0000,9, -999.00,9,  230.10,  -999.0,9,  15.5204,     26.292,    35.7335,2,     -999.0,9,     -999.0,9,     -999.0,     -999.0,9,     -999.0
33RO20110926,        A10,      82,          1,         19,      11007,2,20111021,       2206,   -29.9830,   -32.4664,       3764,   299.7,  14.2772,  35.3751,2,  35.3755,2,    215.7,2,   214.9,2,     2.5,2,     6.7,2,    0.01,2,   0.461,4,   2.827,2,   1.635,2,   1.327,2,     2111.9,2,  2326.4,2,  -999.0,9, -999.00,   7.8807,2,       25,-999.000,9,-999.0000,9, -999.00,9,  -999.0,9,  -999.0,   0.980,3, -999.00,9,-999.0000,9, -999.00,9,  299.70,  -999.0,9,  14.2330,     26.428,    35.5423,2,     -999.0,9,     -999.0,9,     -999.0,     -999.0,9,     -999.0
33RO20110926,        A10,      82,          1,         18,      11710,2,20111021,       2206,   -29.9830,   -32.4664,       3764,   350.5,  13.5577,  35.2928,2,  35.2939,2,    216.8,2,   216.7,2,     2.8,6,     8.2,6,    0.01,6,   0.518,4,-999.000,9,-999.000,9,-999.000,9,-999.000000,9,  2322.9,2,  -999.0,9, -999.00,   7.8627,2,       25,-999.000,9,-999.0000,9, -999.00,9,  -999.0,9,  -999.0,-999.000,9, -999.00,9,-999.0000,9, -999.00,9,  350.50,  -999.0,9,  13.5078,     26.517,    35.4603,2,     -999.0,9,     -999.0,9,     -999.0,     -999.0,9,     -999.0
33RO20110926,        A10,      82,          1,         17,      11023,2,20111021,       2206,   -29.9830,   -32.4664,       3764,   454.2,  12.0932,  35.0912,2,  35.0917,2,    214.1,2,   214.2,2,     4.2,2,    12.0,2,    0.01,2,   0.721,4,   3.096,2,   1.721,2,   1.165,2,     2128.5,2,  2313.7,2,  -999.0,9, -999.00,   7.8206,2,       25,-999.000,9,-999.0000,9, -999.00,9,  -999.0,9,  -999.0,   1.064,3, -999.00,9,-999.0000,9, -999.00,9,  454.20,  -999.0,9,  12.0330,     26.659,    35.2572,2,     -999.0,9,     -999.0,9,     -999.0,     -999.0,9,     -999.0
33RO20110926,        A10,      82,          1,         16,      11709,2,20111021,       2206,   -29.9830,   -32.4664,       3764,   560.0,   9.9913,  34.8022,2,  34.7992,2,    207.4,2,   208.2,2,     7.2,2,    17.7,2,    0.00,2,   1.017,4,-999.000,9,-999.000,9,-999.000,9,-999.000000,9,  2285.8,4,  -999.0,9, -999.00,   7.6965,4,       25,-999.000,9,-999.0000,9, -999.00,9,  -999.0,9,  -999.0,-999.000,9, -999.00,9,-999.0000,9, -999.00,9,  560.00,  -999.0,9,   9.9253,     26.808,    34.9633,2,     -999.0,9,     -999.0,9,     -999.0,     -999.0,9,     -999.0
33RO20110926,        A10,      82,          1,         15,      11006,2,20111021,       2206,   -29.9830,   -32.4664,       3764,   665.7,   7.5264,  34.5103,2,  34.5129,2,    212.6,2,   212.4,2,    10.9,2,    23.3,2,    0.00,2,   1.322,4,-999.000,9,-999.000,9,-999.000,9,-999.000000,9,  2285.8,2,  -999.0,9, -999.00,   7.6965,2,       25,-999.000,9,-999.0000,9, -999.00,9,  -999.0,9,  -999.0,-999.000,9, -999.00,9,-999.0000,9, -999.00,9,  665.70,  -999.0,9,   7.4598,     26.971,    34.6757,2,     -999.0,9,     -999.0,9,     -999.0,     -999.0,9,     -999.0
33RO20110926,        A10,      82,          1,         14,      11708,2,20111021,       2206,   -29.9830,   -32.4664,       3764,   759.7,   5.8153,  34.3452,2,  34.3447,2,    226.7,2,   226.2,2,    14.7,2,    26.5,2,    0.00,2,   1.502,4,   3.401,2,   1.731,2,   0.870,2,     2166.6,3,  2281.2,2,  -999.0,9, -999.00,   7.6675,2,       25,-999.000,9,-999.0000,9, -999.00,9,  -999.0,9,  -999.0,   2.783,3, -999.00,9,-999.0000,9, -999.00,9,  759.70,  -999.0,9,   5.7488,     27.066,    34.5067,2,     -999.0,9,     -999.0,9,     -999.0,     -999.0,9,     -999.0
33RO20110926,        A10,      82,          1,         13,      11031,2,20111021,       2206,   -29.9830,   -32.4664,       3764,   875.8,   4.9474,  34.3176,2,  34.3174,2,    219.6,2,   219.2,2,    21.2,2,    28.7,2,    0.00,2,   1.681,4,-999.000,9,-999.000,9,-999.000,9,-999.000000,9,  2289.2,2,  -999.0,9, -999.00,   7.6463,2,       25,-999.000,9,-999.0000,9, -999.00,9,  -999.0,9,  -999.0,-999.000,9, -999.00,9,-999.0000,9, -999.00,9,  875.80,  -999.0,9,   4.8758,     27.148,    34.4793,2,     -999.0,9,     -999.0,9,     -999.0,     -999.0,9,     -999.0
33RO20110926,        A10,      82,          1,         12,      11027,2,20111021,       2206,   -29.9830,   -32.4664,       3764,  1030.8,   3.9506,  34.3368,2,  34.3363,2,    208.0,2,     208,2,    33.1,2,    31.1,2,    0.00,2,   1.494,4,-999.000,9,-999.000,9,-999.000,9,-999.000000,9,  2299.2,2,  -999.0,9, -999.00,   7.6152,2,       25,-999.000,9,-999.0000,9, -999.00,9,  -999.0,9,  -999.0,-999.000,9, -999.00,9,-999.0000,9, -999.00,9, 1030.80,  -999.0,9,   3.8730,     27.271,    34.4982,2,     -999.0,9,     -999.0,9,     -999.0,     -999.0,9,     -999.0
33RO20110926,        A10,      82,          1,         11,      11707,2,20111021,       2206,   -29.9830,   -32.4664,       3764,  1199.7,   3.3679,  34.4117,2,  34.4130,2,    195.4,2,   194.3,2,    44.8,2,    32.3,2,    0.00,2,   2.041,4,   1.122,2,   0.543,2,   0.163,2,     2217.8,2,  2310.5,2,  -999.0,9, -999.00,   7.5992,2,       25,-999.000,9,-999.0000,9, -999.00,9,  -999.0,9,  -999.0,   1.479,3, -999.00,9,-999.0000,9, -999.00,9, 1199.70,  -999.0,9,   3.2813,     27.390,    34.5753,2,     -999.0,9,     -999.0,9,     -999.0,     -999.0,9,     -999.0
33RO20110926,        A10,      82,          1,         10,      11003,2,20111021,       2206,   -29.9830,   -32.4664,       3764,  1363.7,   3.0749,  34.5075,2,  34.5066,2,    188.7,2,   188.7,2,    52.2,2,    32.1,2,    0.01,2,   2.081,4,-999.000,9,-999.000,9,-999.000,9,-999.000000,9,  2318.2,6,  -999.0,9, -999.00,   7.5934,6,       25,-999.000,9,-999.0000,9, -999.00,9,  -999.0,9,  -999.0,-999.000,9, -999.00,9,-999.0000,9, -999.00,9, 1363.70,  -999.0,9,   2.9776,     27.493,    34.6693,2,     -999.0,9,     -999.0,9,     -999.0,     -999.0,9,     -999.0
33RO20110926,        A10,      82,          1,          9,      11706,2,20111021,       2206,   -29.9830,   -32.4664,       3764,  1539.7,   2.9447,  34.6252,2,  34.6245,2,    191.1,2,   191.3,2,    54.3,2,    30.7,2,    0.01,2,   2.048,4,   0.236,2,   0.117,2,   0.060,2,     2226.8,2,  2323.6,2,  -999.0,9, -999.00,   7.6074,2,       25,-999.000,9,-999.0000,9, -999.00,9,  -999.0,9,  -999.0,   0.530,3, -999.00,9,-999.0000,9, -999.00,9, 1539.70,  -999.0,9,   2.8340,     27.600,    34.7878,2,     -999.0,9,     -999.0,9,     -999.0,     -999.0,9,     -999.0
33RO20110926,        A10,      82,          1,          8,      11033,2,20111021,       2206,   -29.9830,   -32.4664,       3764,  1750.3,   2.8417,  34.7086,2,  34.7098,2,    200.4,2,   199.9,2,    53.6,6,    28.9,6,    0.01,6,   1.892,4,-999.000,9,-999.000,9,-999.000,9,-999.000000,9,  2330.1,2,  -999.0,9, -999.00,   7.6322,2,       25,-999.000,9,-999.0000,9, -999.00,9,  -999.0,9,  -999.0,-999.000,9, -999.00,9,-999.0000,9, -999.00,9, 1750.30,  -999.0,9,   2.7142,     27.679,    34.8735,2,     -999.0,9,     -999.0,9,     -999.0,     -999.0,9,     -999.0
33RO20110926,        A10,      82,          1,          7,      11705,2,20111021,       2206,   -29.9830,   -32.4664,       3764,  2069.3,   2.7854,  34.8088,2,  34.8099,2,    220.4,2,   220.1,2,    47.2,6,    25.5,6,    0.01,6,   1.670,4,   0.029,2,   0.016,2,   0.030,2,     2207.2,2,  2329.7,2,  -999.0,9, -999.00,   7.6763,2,       25,-999.000,9,-999.0000,9, -999.00,9,  -999.0,9,  -999.0,   0.155,3, -999.00,9,-999.0000,9, -999.00,9, 2069.30,  -999.0,9,   2.6303,     27.767,    34.9740,2,     -999.0,9,     -999.0,9,     -999.0,     -999.0,9,     -999.0
33RO20110926,        A10,      82,          1,          6,      11029,2,20111021,       2206,   -29.9830,   -32.4664,       3764,  2290.3,   2.7796,  34.8527,2,  34.8524,2,    231.0,2,     232,2,    42.4,6,    23.9,6,    0.01,6,   1.535,4,-999.000,9,-999.000,9,-999.000,9,-999.000000,9,  2329.3,2,  -999.0,9, -999.00,   7.6974,2,       25,-999.000,9,-999.0000,9, -999.00,9,  -999.0,9,  -999.0,-999.000,9, -999.00,9,-999.0000,9, -999.00,9, 2290.30,  -999.0,9,   2.6040,     27.803,    35.0167,2,     -999.0,9,     -999.0,9,     -999.0,     -999.0,9,     -999.0
33RO20110926,        A10,      82,          1,          5,      11704,2,20111021,       2206,   -29.9830,   -32.4664,       3764,  2601.2,   2.7668,  34.8894,2,  34.8891,2,    241.7,2,   242.5,2,    37.8,2,    22.3,2,    0.00,2,   1.417,4,-999.000,9,-999.000,9,-999.000,9,-999.000000,9,  2325.5,2,  -999.0,9, -999.00,   7.7146,2,       25,-999.000,9,-999.0000,9, -999.00,9,  -999.0,9,  -999.0,-999.000,9, -999.00,9,-999.0000,9, -999.00,9, 2601.20,  -999.0,9,   2.5615,     27.836,    35.0537,2,     -999.0,9,     -999.0,9,     -999.0,     -999.0,9,     -999.0
33RO20110926,        A10,      82,          1,          4,      11030,2,20111021,       2206,   -29.9830,   -32.4664,       3764,  2840.1,   2.7072,  34.8974,2,  34.8988,2,    246.4,2,   245.6,2,    37.6,6,    21.6,6,    0.01,6,   1.381,4,   0.022,2,   0.015,2,   0.000,2,     2186.1,2,  2326.3,2,  -999.0,9, -999.00,   7.7236,2,       25,-999.000,9,-999.0000,9, -999.00,9,  -999.0,9,  -999.0,   0.149,3, -999.00,9,-999.0000,9, -999.00,9, 2840.10,  -999.0,9,   2.4792,     27.851,    35.0633,2,     -999.0,9,     -999.0,9,     -999.0,     -999.0,9,     -999.0
33RO20110926,        A10,      82,          1,          3,      11703,2,20111021,       2206,   -29.9830,   -32.4664,       3764,  3186.6,   2.5403,  34.8892,2,  34.8895,2,    246.9,2,   247.5,2,    42.1,2,    22.2,2,    0.01,2,   1.437,4,-999.000,9,-999.000,9,-999.000,9,-999.000000,9,  2328.6,2,  -999.0,9, -999.00,   7.7226,2,       25,-999.000,9,-999.0000,9, -999.00,9,  -999.0,9,  -999.0,-999.000,9, -999.00,9,-999.0000,9, -999.00,9, 3186.60,  -999.0,9,   2.2804,     27.860,    35.0541,2,     -999.0,9,     -999.0,9,     -999.0,     -999.0,9,     -999.0
33RO20110926,        A10,      82,          1,          2,      11702,2,20111021,       2206,   -29.9830,   -32.4664,       3764,  3659.3,   1.9744,  34.8374,2,  34.8371,2,    240.3,2,   239.2,2,    62.3,2,    24.6,2,    0.01,2,   1.717,4,-999.000,9,-999.000,9,-999.000,9,-999.000000,9,  2343.1,2,  -999.0,9, -999.00,   7.6974,2,       25,-999.000,9,-999.0000,9, -999.00,9,  -999.0,9,  -999.0,-999.000,9, -999.00,9,-999.0000,9, -999.00,9, 3659.30,  -999.0,9,   1.6785,     27.866,    35.0013,6,     -999.0,9,     -999.0,9,     -999.0,     -999.0,9,     -999.0
33RO20110926,        A10,      82,          1,          1,      11701,2,20111021,       2206,   -29.9830,   -32.4664,       3764,  3771.6,   1.5213,  34.7867,2,  34.7877,2,    230.6,2,   229.3,2,    82.1,2,    27.2,2,    0.01,2,   1.999,4,   0.084,6,   0.043,6,   0.022,6,     2230.4,2,  2352.8,6,  -999.0,9, -999.00,   7.6678,6,       25,-999.000,9,-999.0000,9, -999.00,9,  -999.0,9,  -999.0,   0.243,3, -999.00,9,-999.0000,9, -999.00,9, 3771.60,  -999.0,9,   1.2257,     27.859,    34.9517,2,     -999.0,9,     -999.0,9,     -999.0,     -999.0,9,     -999.0