BOTTLE,20220815CCHSIOAMB
EXPOCODE,SECT_ID,STNNBR,CASTNO,SAMPNO,BTLNBR,BTLNBR_FLAG_W,DATE,TIME,LATITUDE,LONGITUDE,DEPTH,CTDPRS,CTDTMP,CTDSAL,CTDSAL_FLAG_W,SALNTY,SALNTY_FLAG_W,CTDOXY,CTDOXY_FLAG_W,OXYGEN,OXYGEN_FLAG_W,SILCAT,SILCAT_FLAG_W,NITRAT,NITRAT_FLAG_W,NITRIT,NITRIT_FLAG_W,PHSPHT,PHSPHT_FLAG_W,CFC-11,CFC-11_FLAG_W,CFC-12,CFC-12_FLAG_W,SF6,SF6_FLAG_W,TCARBN,TCARBN_FLAG_W,ALKALI,ALKALI_FLAG_W,PCO2,PCO2_FLAG_W,PCO2TMP,PH_SWS,PH_SWS_FLAG_W,PH_TMP,TRITUM,TRITUM_FLAG_W,HELIUM,HELIUM_FLAG_W,DELC13,DELC13_FLAG_W,DELC14,DELC14_FLAG_W,C14ERR,CCL4,CCL4_FLAG_W,DELO18,DELO18_FLAG_W,DOC,DOC_FLAG_W,TDN,TDN_FLAG_W,CTDRAW,14C-DOC,14C-DOC_FLAG_W,THETA,SIG0,SALTREF,SALTREF_FLAG_W,BLACKC,BLACKC_FLAG_W,PIGMENTS,PIGMENTS_FLAG_W,14C-DOCERR,13C-DOC,13C-DOC_FLAG_W,13C-DOCERR
,,,,,,,,,,,METERS,DBAR,ITS-90,PSS-78,,PSS-78,,UMOL/KG,,UMOL/KG,,UMOL/KG,,UMOL/KG,,UMOL/KG,,UMOL/KG,,PMOL/KG,,PMOL/KG,,FMOL/KG,,UMOL/KG,,UMOL/KG,,UATM,,DEG C,,,DEG C,TU,,NMOL/KG,,/MILLE,,/MILLE,,/MILLE,PMOL/KG,,/MILLE,,UMOL/KG,,UMOL/KG,,DBAR,/MILLE,,DEG C,KG/M^3,G/KG,,,,,,/MILLE,/MILLE,,/MILLE
33RO20110926,        A10,      17,          1,         24,      11714,2,20111002,       2201,   -29.7346,     6.7246,     -999.0,     4.6,  16.7314,  35.6177,2,  35.6170,2,    247.4,2,   247.9,2,     1.8,2,     0.1,2,    0.03,2,   0.133,4,   2.541,6,   1.511,6,   1.502,6,       2063,3,  2342.1,6,  -999.0,9, -999.00,    7.983,6,       25,-999.000,9,-999.0000,9,    1.06,2,    49.5,2,     2.7,   2.993,3, -999.00,9,-999.0000,9,    4.85,2,    4.60,  -999.0,9,  16.7306,     26.052,    35.7850,2,     -999.0,9,     -999.0,1,     -999.0,     -999.0,9,     -999.0
33RO20110926,        A10,      17,          1,         23,      11713,2,20111002,       2201,   -29.7346,     6.7246,     -999.0,    40.5,  16.6421,  35.6130,2,  35.6119,2,    246.7,2,   247.3,2,     1.9,2,     0.2,2,    0.05,2,   0.140,4,   2.532,2,   1.503,2,   1.502,2,     2061.5,3,  2339.6,2,  -999.0,9, -999.00,     7.98,2,       25,-999.000,9,-999.0000,9, -999.00,9,  -999.0,9,  -999.0,   2.894,3, -999.00,9,-999.0000,9,    4.68,2,   40.50,  -999.0,9,  16.6355,     26.070,    35.7798,2,     -999.0,9,     -999.0,1,     -999.0,     -999.0,9,     -999.0
33RO20110926,        A10,      17,          1,         22,      11712,2,20111002,       2201,   -29.7346,     6.7246,     -999.0,    96.4,  15.9850,  35.6040,2,  35.6030,2,    244.1,2,   238.7,2,     2.4,2,     1.8,2,    0.39,2,   0.241,4,   2.561,2,   1.518,2,   1.513,2,     2075.7,3,  2339.9,2,  -999.0,9, -999.00,   7.9509,2,       25,-999.000,9,-999.0000,9, -999.00,9,  -999.0,9,  -999.0,   2.183,3, -999.00,9,-999.0000,9,    7.03,2,   96.40,  -999.0,9,  15.9697,     26.218,    35.7709,2,     -999.0,9,     -999.0,1,     -999.0,     -999.0,9,     -999.0
33RO20110926,        A10,      17,          1,         21,      11010,2,20111002,       2201,   -29.7346,     6.7246,     -999.0,   140.5,  15.7454,  35.5813,2,  35.5813,2,    238.2,2,   239.1,2,     2.4,2,     1.9,2,    0.61,2,   0.261,4,   2.574,2,   1.525,2,   1.542,2,     2075.6,3,  2336.9,2,  -999.0,9, -999.00,   7.9479,2,       25,-999.000,9,-999.0000,9, -999.00,9,  -999.0,9,  -999.0,   2.248,3, -999.00,9,-999.0000,9,    6.08,2,  140.50,  -999.0,9,  15.7234,     26.257,    35.7490,2,     -999.0,9,     -999.0,9,     -999.0,     -999.0,9,     -999.0
33RO20110926,        A10,      17,          1,         20,      11715,2,20111002,       2201,   -29.7346,     6.7246,     -999.0,   190.5,  15.2025,  35.4708,2,  35.4761,2,    227.9,2,   228.3,2,     2.7,2,     4.2,2,    0.02,2,   0.357,4,   2.638,2,   1.555,2,   1.480,2,     2084.2,3,  2329.2,2,  -999.0,9, -999.00,   7.9198,2,       25,-999.000,9,-999.0000,9, -999.00,9,  -999.0,9,  -999.0,   1.569,3, -999.00,9,-999.0000,9,    8.53,2,  190.50,  -999.0,9,  15.1732,     26.295,    35.6434,2,     -999.0,9,     -999.0,9,     -999.0,     -999.0,9,     -999.0
33RO20110926,        A10,      17,          1,         19,      11007,2,20111002,       2201,   -29.7346,     6.7246,     -999.0,   272.3,  13.3499,  35.1866,2,  35.1869,2,    218.8,2,   219.8,2,     3.2,2,     8.1,2,    0.01,2,   0.577,4,   2.936,2,   1.696,2,   1.436,2,     2105.7,3,  2314.7,2,  -999.0,9, -999.00,   7.8547,2,       25,-999.000,9,-999.0000,9, -999.00,9,  -999.0,9,  -999.0,   1.057,3, -999.00,9,-999.0000,9, -999.00,9,  272.30,  -999.0,9,  13.3116,     26.474,    35.3528,6,     -999.0,9,     -999.0,9,     -999.0,     -999.0,9,     -999.0
33RO20110926,        A10,      17,          1,         18,      11710,2,20111002,       2201,   -29.7346,     6.7246,     -999.0,   370.3,  11.5368,  34.9892,2,  35.1866,4,    214.0,2,   214.6,2,     5.0,6,    13.4,6,    0.01,6,   0.836,4,   3.162,2,   1.755,2,   1.204,2,     2122.4,3,  2304.8,2,  -999.0,9, -999.00,   7.7996,2,       25,-999.000,9,-999.0000,9, -999.00,9,  -999.0,9,  -999.0,   1.058,3, -999.00,9,-999.0000,9, -999.00,9,  370.30,  -999.0,9,  11.4894,     26.829,    35.3525,2,     -999.0,9,     -999.0,9,     -999.0,     -999.0,9,     -999.0
33RO20110926,        A10,      17,          1,         17,      11023,2,20111002,       2201,   -29.7346,     6.7246,     -999.0,   494.9,   9.2360,  34.6943,2,  34.6958,2,    215.6,2,   215.4,2,     7.3,2,    18.5,2,    0.01,2,   1.146,4,   3.341,2,   1.813,2,   1.206,2,     2138.8,3,  2294.6,2,  -999.0,9, -999.00,   7.7425,2,       25,-999.000,9,-999.0000,9, -999.00,9,  -999.0,9,  -999.0,   1.589,3, -999.00,9,-999.0000,9, -999.00,9,  494.90,  -999.0,9,   9.1806,     26.849,    34.8594,2,     -999.0,9,     -999.0,9,     -999.0,     -999.0,9,     -999.0
33RO20110926,        A10,      17,          1,         16,      11709,2,20111002,       2201,   -29.7346,     6.7246,     -999.0,   645.2,   6.5522,  34.4226,2,  34.4229,2,    212.7,2,   212.5,2,    15.1,2,    25.7,2,    0.01,2,   1.575,4,   3.229,2,   1.671,2,   0.927,2,     2161.3,3,  2290.1,2,  -999.0,9, -999.00,   7.6655,2,       25,-999.000,9,-999.0000,9, -999.00,9,  -999.0,9,  -999.0,   2.231,3, -999.00,9,-999.0000,9, -999.00,9,  645.20,  -999.0,9,   6.4926,     27.033,    34.5852,6,     -999.0,9,     -999.0,9,     -999.0,     -999.0,9,     -999.0
33RO20110926,        A10,      17,          1,         15,      11006,2,20111002,       2201,   -29.7346,     6.7246,     -999.0,   795.3,   4.7830,  34.3180,2,  34.3175,2,    218.1,2,   217.8,2,    23.9,2,    29.3,2,    0.00,2,   1.809,4,   2.886,2,   1.452,2,   0.720,2,     2176.2,3,  2292.5,2,  -999.0,9, -999.00,   7.6374,2,       25,-999.000,9,-999.0000,9, -999.00,9,  -999.0,9,  -999.0,   2.494,3, -999.00,9,-999.0000,9, -999.00,9,  795.30,  -999.0,9,   4.7194,     27.165,    34.4793,2,     -999.0,9,     -999.0,9,     -999.0,     -999.0,9,     -999.0
33RO20110926,        A10,      17,          1,         14,      11708,2,20111002,       2201,   -29.7346,     6.7246,     -999.0,   945.4,   3.9868,  34.3680,2,  34.3683,2,    197.4,2,   196.1,2,    37.2,2,    32.0,2,    0.00,2,   2.020,4,   1.823,2,   0.889,2,   0.368,2,     2201.3,3,  2306.2,2,  -999.0,9, -999.00,   7.5984,2,       25,-999.000,9,-999.0000,9, -999.00,9,  -999.0,9,  -999.0,   1.785,3, -999.00,9,-999.0000,9, -999.00,9,  945.40,  -999.0,9,   3.9160,     27.292,    34.5304,2,     -999.0,9,     -999.0,9,     -999.0,     -999.0,9,     -999.0
33RO20110926,        A10,      17,          1,         13,      11031,2,20111002,       2201,   -29.7346,     6.7246,     -999.0,  1238.9,   3.1966,  34.5438,2,  34.5431,2,    178.0,2,   176.9,2,    54.9,6,    33.0,6,    0.00,6,   2.133,4,   0.484,2,   0.227,2,   0.068,2,     2229.6,3,  2323.1,2,  -999.0,9, -999.00,   7.5831,6,       25,-999.000,9,-999.0000,9, -999.00,9,  -999.0,9,  -999.0,   0.610,3, -999.00,9,-999.0000,9, -999.00,9, 1238.90,  -999.0,9,   3.1082,     27.510,    34.7059,2,     -999.0,9,     -999.0,9,     -999.0,     -999.0,9,     -999.0
33RO20110926,        A10,      17,          1,         12,      11027,2,20111002,       2201,   -29.7346,     6.7246,     -999.0,  1450.9,   3.2503,  34.7008,2,  34.7006,2,    188.6,2,   189.1,2,    46.6,2,    29.6,2,    0.00,2,   1.907,4,   0.094,2,   0.045,2,   0.000,2,     2215.4,3,  2323.3,2,  -999.0,9, -999.00,   7.6132,2,       25,-999.000,9,-999.0000,9, -999.00,9,  -999.0,9,  -999.0,   0.145,3, -999.00,9,-999.0000,9, -999.00,9, 1450.90,  -999.0,9,   3.1435,     27.633,    34.8643,2,     -999.0,9,     -999.0,9,     -999.0,     -999.0,9,     -999.0
33RO20110926,        A10,      17,          1,         11,      11707,2,20111002,       2201,   -29.7346,     6.7246,     -999.0,  1602.9,   3.2606,  34.7785,2,  34.7789,2,    199.8,2,   198.8,2,    42.2,2,    27.6,2,    0.00,2,   1.766,4,   0.034,2,   0.017,2,   0.000,2,       2207,3,  2326.3,2,  -999.0,9, -999.00,   7.6384,2,       25,-999.000,9,-999.0000,9, -999.00,9,  -999.0,9,  -999.0,   0.075,3, -999.00,9,-999.0000,9, -999.00,9, 1602.90,  -999.0,9,   3.1404,     27.695,    34.9429,2,     -999.0,9,     -999.0,9,     -999.0,     -999.0,9,     -999.0
33RO20110926,        A10,      17,          1,         10,      11003,2,20111002,       2201,   -29.7346,     6.7246,     -999.0,  1899.5,   3.1665,  34.8454,2,  34.8454,2,    217.0,2,     217,2,    38.4,2,    25.3,2,    0.00,2,   1.593,4,   0.013,2,   0.007,2,   0.000,2,     2194.4,3,  2327.2,2,  -999.0,9, -999.00,   7.6705,2,       25,-999.000,9,-999.0000,9, -999.00,9,  -999.0,9,  -999.0,   0.042,3, -999.00,9,-999.0000,9, -999.00,9, 1899.50,  -999.0,9,   3.0210,     27.760,    35.0097,2,     -999.0,9,     -999.0,9,     -999.0,     -999.0,9,     -999.0
33RO20110926,        A10,      17,          1,          9,      11706,2,20111002,       2201,   -29.7346,     6.7246,     -999.0,  2204.3,   2.9504,  34.8668,2,  34.8672,2,    226.3,2,     226,2,    40.2,2,    24.3,2,    0.00,2,   1.536,4,   0.008,2,   0.005,2,   0.000,2,     2192.1,3,  2330.9,2,  -999.0,9, -999.00,   7.6875,2,       25,-999.000,9,-999.0000,9, -999.00,9,  -999.0,9,  -999.0,   0.032,3, -999.00,9,-999.0000,9, -999.00,9, 2204.30,  -999.0,9,   2.7799,     27.799,    35.0316,2,     -999.0,9,     -999.0,9,     -999.0,     -999.0,9,     -999.0
33RO20110926,        A10,      17,          1,          8,      11033,2,20111002,       2201,   -29.7346,     6.7246,     -999.0,  2501.4,   2.7641,  34.8704,2,  34.8709,2,    230.5,2,   229.6,2,    43.1,2,    24.0,2,    0.00,2,   1.528,4,   0.005,2,   0.003,2,   0.000,2,     2191.9,3,  2330.6,4,  -999.0,9, -999.00,   7.6893,2,       25,-999.000,9,-999.0000,9, -999.00,9,  -999.0,9,  -999.0,   0.031,3, -999.00,9,-999.0000,9, -999.00,9, 2501.40,  -999.0,9,   2.5686,     27.821,    35.0353,2,     -999.0,9,     -999.0,9,     -999.0,     -999.0,9,     -999.0
33RO20110926,        A10,      17,          1,          7,      11705,2,20111002,       2201,   -29.7346,     6.7246,     -999.0,  2799.5,   2.5775,  34.8646,2,  34.8642,2,    231.6,2,   233.1,2,    47.4,6,    24.2,6,    0.00,6,   1.542,4,   0.005,2,   0.004,2,   0.000,2,     2197.9,3,  2335.7,2,  -999.0,9, -999.00,   7.6944,2,       25,-999.000,9,-999.0000,9, -999.00,9,  -999.0,9,  -999.0,   0.054,3, -999.00,9,-999.0000,9, -999.00,9, 2799.50,  -999.0,9,   2.3564,     27.833,    35.0286,2,     -999.0,9,     -999.0,9,     -999.0,     -999.0,9,     -999.0
33RO20110926,        A10,      17,          1,          6,      11029,2,20111002,       2201,   -29.7346,     6.7246,     -999.0,  3101.3,   2.4464,  34.8601,2,  34.8614,2,    231.0,2,   231.8,2,    51.4,2,    24.3,2,    0.00,2,   1.574,4,   0.006,2,   0.004,2,   0.000,2,     2201.3,3,  2340.6,2,  -999.0,9, -999.00,   7.6893,2,       25,-999.000,9,-999.0000,9, -999.00,9,  -999.0,9,  -999.0,   0.020,3, -999.00,9,-999.0000,9, -999.00,9, 3101.30,  -999.0,9,   2.1976,     27.845,    35.0258,2,     -999.0,9,     -999.0,9,     -999.0,     -999.0,9,     -999.0
33RO20110926,        A10,      17,          1,          5,      11704,2,20111002,       2201,   -29.7346,     6.7246,     -999.0,  3499.7,   2.3009,  34.8533,2,  34.8528,2,    231.8,2,   230.7,2,    56.7,2,    24.8,2,    0.01,2,   1.618,4,   0.007,2,   0.005,2,   0.000,2,     2206.3,3,  2349.1,4,  -999.0,9, -999.00,   7.6945,2,       25,-999.000,9,-999.0000,9, -999.00,9,  -999.0,9,  -999.0,   0.030,3, -999.00,9,-999.0000,9, -999.00,9, 3499.70,  -999.0,9,   2.0138,     27.853,    35.0172,2,     -999.0,9,     -999.0,9,     -999.0,     -999.0,9,     -999.0
33RO20110926,        A10,      17,          1,          4,      11030,2,20111002,       2201,   -29.7346,     6.7246,     -999.0,  3900.7,   2.0639,  34.8320,2,  34.8316,2,    228.0,2,   227.2,2,    66.7,2,    25.9,2,    0.01,2,   1.720,4,   0.011,2,   0.007,2,   0.000,2,     2216.5,3,  2356.1,4,  -999.0,9, -999.00,   7.6855,2,       25,-999.000,9,-999.0000,9, -999.00,9,  -999.0,9,  -999.0,   0.034,3, -999.00,9,-999.0000,9, -999.00,9, 3900.70,  -999.0,9,   1.7393,     27.857,    34.9958,2,     -999.0,9,     -999.0,9,     -999.0,     -999.0,9,     -999.0
33RO20110926,        A10,      17,          1,          3,      11703,2,20111002,       2201,   -29.7346,     6.7246,     -999.0,  4299.8,   1.4426,  34.7671,2,  34.7659,2,    220.1,2,   220.5,2,    91.9,2,    29.0,2,    0.01,2,   1.989,4,   0.036,2,   0.019,2,   0.000,2,     2238.6,3,  2360.4,2,  -999.0,9, -999.00,   7.6423,2,       25,-999.000,9,-999.0000,9, -999.00,9,  -999.0,9,  -999.0,   0.092,3, -999.00,9,-999.0000,9, -999.00,9, 4299.80,  -999.0,9,   1.0915,     27.851,    34.9299,2,     -999.0,9,     -999.0,9,     -999.0,     -999.0,9,     -999.0
33RO20110926,        A10,      17,          1,          2,      11702,2,20111002,       2201,   -29.7346,     6.7246,     -999.0,  4701.4,   1.1893,  34.7404,2,  34.7403,2,    217.0,2,   218.6,2,   102.7,2,    30.3,2,    0.00,2,   2.105,4,   0.053,2,   0.027,2,   0.000,2,     2248.6,3,  2366.7,2,  -999.0,9, -999.00,   7.6322,2,       25,-999.000,9,-999.0000,9, -999.00,9,  -999.0,9,  -999.0,   0.128,3, -999.00,9,-999.0000,9, -999.00,9, 4701.40,  -999.0,9,   0.8004,     27.850,    34.9041,2,     -999.0,9,     -999.0,9,     -999.0,     -999.0,9,     -999.0
33RO20110926,        A10,      17,          1,          1,      11701,2,20111002,       2201,   -29.7346,     6.7246,     -999.0,  5155.4,   1.2007,  34.7359,2,  34.7371,2,    216.8,2,     217,2,   104.7,6,    30.7,6,    0.01,6,   2.122,4,   0.061,2,   0.030,2,   0.000,2,     2250.9,3,  2370.8,6,  -999.0,9, -999.00,   7.6353,6,       25,-999.000,9,-999.0000,9, -999.00,9,  -999.0,9,  -999.0,   0.143,3, -999.00,9,-999.0000,9, -999.00,9, 5155.40,  -999.0,9,   0.7574,     27.850,    34.9009,2,     -999.0,9,     -999.0,9,     -999.0,     -999.0,9,     -999.0