BOTTLE,20220815CCHSIOAMB
EXPOCODE,SECT_ID,STNNBR,CASTNO,SAMPNO,BTLNBR,BTLNBR_FLAG_W,DATE,TIME,LATITUDE,LONGITUDE,DEPTH,CTDPRS,CTDTMP,CTDSAL,CTDSAL_FLAG_W,SALNTY,SALNTY_FLAG_W,CTDOXY,CTDOXY_FLAG_W,OXYGEN,OXYGEN_FLAG_W,SILCAT,SILCAT_FLAG_W,NITRAT,NITRAT_FLAG_W,NITRIT,NITRIT_FLAG_W,PHSPHT,PHSPHT_FLAG_W,CFC-11,CFC-11_FLAG_W,CFC-12,CFC-12_FLAG_W,SF6,SF6_FLAG_W,TCARBN,TCARBN_FLAG_W,ALKALI,ALKALI_FLAG_W,PCO2,PCO2_FLAG_W,PCO2TMP,PH_SWS,PH_SWS_FLAG_W,PH_TMP,TRITUM,TRITUM_FLAG_W,HELIUM,HELIUM_FLAG_W,DELC13,DELC13_FLAG_W,DELC14,DELC14_FLAG_W,C14ERR,CCL4,CCL4_FLAG_W,DELO18,DELO18_FLAG_W,DOC,DOC_FLAG_W,TDN,TDN_FLAG_W,CTDRAW,14C-DOC,14C-DOC_FLAG_W,THETA,SIG0,SALTREF,SALTREF_FLAG_W,BLACKC,BLACKC_FLAG_W,PIGMENTS,PIGMENTS_FLAG_W,14C-DOCERR,13C-DOC,13C-DOC_FLAG_W,13C-DOCERR
,,,,,,,,,,,METERS,DBAR,ITS-90,PSS-78,,PSS-78,,UMOL/KG,,UMOL/KG,,UMOL/KG,,UMOL/KG,,UMOL/KG,,UMOL/KG,,PMOL/KG,,PMOL/KG,,FMOL/KG,,UMOL/KG,,UMOL/KG,,UATM,,DEG C,,,DEG C,TU,,NMOL/KG,,/MILLE,,/MILLE,,/MILLE,PMOL/KG,,/MILLE,,UMOL/KG,,UMOL/KG,,DBAR,/MILLE,,DEG C,KG/M^3,G/KG,,,,,,/MILLE,/MILLE,,/MILLE
33RO20110926,        A10,      50,          1,         24,      11714,2,20111011,       0145,   -29.9999,   -10.2576,       3838,     5.7,  17.7325,  35.8620,2,  35.8623,2,    239.0,2,   238.9,2,     1.2,2,     0.0,2,    0.00,2,   0.151,2,   2.370,2,   1.439,2,   1.462,2,     2082.5,6,  2354.7,6,  -999.0,9, -999.00,   7.9784,6,       25,-999.000,9,-999.0000,9, -999.00,9,  -999.0,9,  -999.0,   3.724,4, -999.00,9,-999.0000,9, -999.00,9,    5.70,  -999.0,9,  17.7316,     25.999,    36.0314,2,     -999.0,9,     -999.0,1,     -999.0,     -999.0,9,     -999.0
33RO20110926,        A10,      50,          1,         23,      11713,2,20111011,       0145,   -29.9999,   -10.2576,       3838,    34.3,  17.7504,  35.8650,2,  35.8647,2,    238.3,2,   239.5,2,     1.2,2,     0.0,2,    0.01,2,   0.152,2,-999.000,9,-999.000,9,-999.000,9,-999.000000,9,  2353.5,2,  -999.0,9, -999.00,   7.9769,2,       25,-999.000,9,-999.0000,9, -999.00,9,  -999.0,9,  -999.0,-999.000,5, -999.00,9,-999.0000,9, -999.00,9,   34.30,  -999.0,9,  17.7446,     25.998,    36.0338,2,     -999.0,9,     -999.0,1,     -999.0,     -999.0,9,     -999.0
33RO20110926,        A10,      50,          1,         22,      11712,2,20111011,       0145,   -29.9999,   -10.2576,       3838,    70.6,  17.4810,  35.8384,2,  35.8414,2,    240.6,2,     242,2,     1.2,2,     0.1,2,    0.01,2,   0.157,2,   2.379,2,   1.452,2,   1.566,2,-999.000000,9,  2355.6,2,  -999.0,9, -999.00,   7.9769,2,       25,-999.000,9,-999.0000,9, -999.00,9,  -999.0,9,  -999.0,   3.722,4, -999.00,9,-999.0000,9, -999.00,9,   70.60,  -999.0,9,  17.4691,     26.032,    36.0104,2,     -999.0,9,     -999.0,1,     -999.0,     -999.0,9,     -999.0
33RO20110926,        A10,      50,          1,         21,      11010,2,20111011,       0145,   -29.9999,   -10.2576,       3838,   123.4,  16.3663,  35.7046,2,  35.7050,2,    235.7,2,   236.6,2,     1.4,6,     0.7,6,    0.42,6,   0.225,6,-999.000,9,-999.000,9,-999.000,9,     2086.9,2,  2348.1,2,  -999.0,9, -999.00,   7.9569,2,       25,-999.000,9,-999.0000,9, -999.00,9,  -999.0,9,  -999.0,-999.000,5, -999.00,9,-999.0000,9, -999.00,9,  123.40,  -999.0,9,  16.3464,     26.209,    35.8734,2,     -999.0,9,     -999.0,9,     -999.0,     -999.0,9,     -999.0
33RO20110926,        A10,      50,          1,         20,      11715,2,20111011,       0145,   -29.9999,   -10.2576,       3838,   174.3,  15.7359,  35.5847,2,  35.5802,2,    230.6,2,   229.8,2,     1.8,2,     2.5,2,    0.13,2,   0.319,2,   2.555,2,   1.535,2,   1.436,2,-999.000000,9,  2336.3,2,  -999.0,9, -999.00,   7.9358,2,       25,-999.000,9,-999.0000,9, -999.00,9,  -999.0,9,  -999.0,   2.111,4, -999.00,9,-999.0000,9, -999.00,9,  174.30,  -999.0,9,  15.7085,     26.261,    35.7480,2,     -999.0,9,     -999.0,9,     -999.0,     -999.0,9,     -999.0
33RO20110926,        A10,      50,          1,         19,      11007,2,20111011,       0145,   -29.9999,   -10.2576,       3838,   250.5,  13.7830,  35.2819,2,  35.2866,2,    217.1,2,     217,2,     3.0,2,     7.5,2,    0.01,2,   0.620,2,-999.000,9,-999.000,9,-999.000,9,     2111.7,2,  2320.7,2,  -999.0,9, -999.00,   7.8698,2,       25,-999.000,9,-999.0000,9, -999.00,9,  -999.0,9,  -999.0,-999.000,9, -999.00,9,-999.0000,9, -999.00,9,  250.50,  -999.0,9,  13.7470,     26.457,    35.4530,2,     -999.0,9,     -999.0,9,     -999.0,     -999.0,9,     -999.0
33RO20110926,        A10,      50,          1,         18,      11710,2,20111011,       0145,   -29.9999,   -10.2576,       3838,   320.7,  12.2127,  35.0767,2,  35.0770,2,    210.8,2,   209.5,2,     4.7,2,    12.2,2,    0.01,2,   0.905,2,-999.000,9,-999.000,9,-999.000,9,-999.000000,9,  2308.6,2,  -999.0,9, -999.00,   7.8137,2,       25,-999.000,9,-999.0000,9, -999.00,9,  -999.0,9,  -999.0,-999.000,9, -999.00,9,-999.0000,9, -999.00,9,  320.70,  -999.0,9,  12.1701,     26.616,    35.2424,2,     -999.0,9,     -999.0,9,     -999.0,     -999.0,9,     -999.0
33RO20110926,        A10,      50,          1,         17,      11023,2,20111011,       0145,   -29.9999,   -10.2576,       3838,   400.9,  10.8141,  34.9022,2,  34.9037,2,    209.3,2,   208.4,2,     6.1,2,    15.4,2,    0.00,2,   1.110,2,   3.143,2,   1.738,2,   1.189,2,       2136,2,    2300,2,  -999.0,9, -999.00,   7.7756,2,       25,-999.000,9,-999.0000,9, -999.00,9,  -999.0,9,  -999.0,   1.344,3, -999.00,9,-999.0000,9, -999.00,9,  400.90,  -999.0,9,  10.7648,     26.742,    35.0683,2,     -999.0,9,     -999.0,9,     -999.0,     -999.0,9,     -999.0
33RO20110926,        A10,      50,          1,         16,      11709,2,20111011,       0145,   -29.9999,   -10.2576,       3838,   515.6,   8.5842,  34.6307,2,  34.6316,2,    205.6,2,   205.1,2,     9.8,6,    21.1,6,    0.01,6,   1.472,6,-999.000,9,-999.000,9,-999.000,9,-999.000000,9,  2294.2,2,  -999.0,9, -999.00,   7.7134,2,       25,-999.000,9,-999.0000,9, -999.00,9,  -999.0,9,  -999.0,-999.000,9, -999.00,9,-999.0000,9, -999.00,9,  515.60,  -999.0,9,   8.5290,     26.904,    34.7950,2,     -999.0,9,     -999.0,9,     -999.0,     -999.0,9,     -999.0
33RO20110926,        A10,      50,          1,         15,      11006,2,20111011,       0145,   -29.9999,   -10.2576,       3838,   629.2,   6.7869,  34.4524,2,  34.4512,2,    207.4,2,   206.6,2,    14.7,2,    25.5,2,    0.00,2,   1.760,2,   3.115,2,   1.624,2,   0.842,2,       2167,2,    2290,2,  -999.0,9, -999.00,   7.6693,2,       25,-999.000,9,-999.0000,9, -999.00,9,  -999.0,9,  -999.0,   2.406,3, -999.00,9,-999.0000,9, -999.00,9,  629.20,  -999.0,9,   6.7276,     27.024,    34.6136,2,     -999.0,9,     -999.0,9,     -999.0,     -999.0,9,     -999.0
33RO20110926,        A10,      50,          1,         14,      11708,2,20111011,       0145,   -29.9999,   -10.2576,       3838,   780.8,   4.9754,  34.3333,2,  34.3336,2,    214.3,2,   212.9,2,    23.2,2,    29.1,2,    0.00,2,   2.010,2,-999.000,9,-999.000,9,-999.000,9,-999.000000,9,    2289,2,  -999.0,9, -999.00,   7.6465,2,       25,-999.000,9,-999.0000,9, -999.00,9,  -999.0,9,  -999.0,-999.000,9, -999.00,9,-999.0000,9, -999.00,9,  780.80,  -999.0,9,   4.9120,     27.157,    34.4955,2,     -999.0,9,     -999.0,9,     -999.0,     -999.0,9,     -999.0
33RO20110926,        A10,      50,          1,         13,      11031,2,20111011,       0145,   -29.9999,   -10.2576,       3838,   929.2,   3.8601,  34.3300,2,  34.3273,2,    210.2,2,   208.5,2,    34.1,2,    31.2,2,    0.00,2,   2.162,2,   2.114,2,   1.057,2,   0.397,2,     2197.8,2,    2298,2,  -999.0,9, -999.00,   7.6164,2,       25,-999.000,9,-999.0000,9, -999.00,9,  -999.0,9,  -999.0,   2.097,3, -999.00,9,-999.0000,9, -999.00,9,  929.20,  -999.0,9,   3.7915,     27.272,    34.4892,2,     -999.0,9,     -999.0,9,     -999.0,     -999.0,9,     -999.0
33RO20110926,        A10,      50,          1,         12,      11027,2,20111011,       0145,   -29.9999,   -10.2576,       3838,  1079.4,   3.4032,  34.4121,2,  34.4121,2,    192.1,2,   192.3,2,    45.8,6,    32.7,6,    0.00,6,   2.269,6,-999.000,9,-999.000,9,-999.000,9,-999.000000,9,  2309.7,2,  -999.0,9, -999.00,   7.5944,2,       25,-999.000,9,-999.0000,9, -999.00,9,  -999.0,9,  -999.0,-999.000,9, -999.00,9,-999.0000,9, -999.00,9, 1079.40,  -999.0,9,   3.3260,     27.384,    34.5744,6,     -999.0,9,     -999.0,9,     -999.0,     -999.0,9,     -999.0
33RO20110926,        A10,      50,          1,         11,      11707,2,20111011,       0145,   -29.9999,   -10.2576,       3838,  1228.6,   3.1521,  34.4982,2,  34.4995,2,    185.4,2,   185.2,2,    52.3,2,    32.5,2,    0.00,2,   2.271,2,   0.686,2,   0.332,2,   0.101,2,     2225.3,2,  2321.3,6,  -999.0,9, -999.00,   7.5896,6,       25,-999.000,9,-999.0000,9, -999.00,9,  -999.0,9,  -999.0,   1.160,3, -999.00,9,-999.0000,9, -999.00,9, 1228.60,  -999.0,9,   3.0651,     27.479,    34.6622,2,     -999.0,9,     -999.0,9,     -999.0,     -999.0,9,     -999.0
33RO20110926,        A10,      50,          1,         10,      11003,2,20111011,       0145,   -29.9999,   -10.2576,       3838,  1429.7,   2.9950,  34.6424,2,  34.6421,2,    187.4,2,   187.7,2,    54.3,2,    30.9,2,    0.00,2,   2.144,2,-999.000,9,-999.000,9,-999.000,9,-999.000000,9,  2327.6,2,  -999.0,9, -999.00,   7.6062,2,       25,-999.000,9,-999.0000,9, -999.00,9,  -999.0,9,  -999.0,-999.000,9, -999.00,9,-999.0000,9, -999.00,9, 1429.70,  -999.0,9,   2.8928,     27.609,    34.8054,2,     -999.0,9,     -999.0,9,     -999.0,     -999.0,9,     -999.0
33RO20110926,        A10,      50,          1,          9,      11706,2,20111011,       0145,   -29.9999,   -10.2576,       3838,  1629.2,   2.9419,  34.7272,2,  34.7274,2,    197.0,2,   198.2,2,    51.7,2,    28.9,2,    0.00,2,   1.990,2,   0.092,2,   0.045,2,   0.000,2,-999.000000,9,  2329.8,2,  -999.0,9, -999.00,   7.6322,2,       25,-999.000,9,-999.0000,9, -999.00,9,  -999.0,9,  -999.0,   0.207,3, -999.00,9,-999.0000,9, -999.00,9, 1629.20,  -999.0,9,   2.8235,     27.684,    34.8911,2,     -999.0,9,     -999.0,9,     -999.0,     -999.0,9,     -999.0
33RO20110926,        A10,      50,          1,          8,      11033,2,20111011,       0145,   -29.9999,   -10.2576,       3838,  1830.0,   2.7861,  34.7774,2,  34.7788,2,    208.3,2,   208.2,2,    51.5,2,    27.4,2,    0.00,2,   1.873,2,-999.000,9,-999.000,9,-999.000,9,-999.000000,9,  2330.7,2,  -999.0,9, -999.00,   7.6525,2,       25,-999.000,9,-999.0000,9, -999.00,9,  -999.0,9,  -999.0,-999.000,9, -999.00,9,-999.0000,9, -999.00,9, 1830.00,  -999.0,9,   2.6523,     27.740,    34.9428,2,     -999.0,9,     -999.0,9,     -999.0,     -999.0,9,     -999.0
33RO20110926,        A10,      50,          1,          7,      11705,2,20111011,       0145,   -29.9999,   -10.2576,       3838,  2078.5,   2.6243,  34.8165,2,  34.8167,2,    218.9,2,   220.6,2,    51.5,2,    26.0,2,    0.00,2,   1.773,2,   0.020,2,   0.012,2,   0.000,2,-999.000000,9,  2333.4,2,  -999.0,9, -999.00,   7.6765,2,       25,-999.000,9,-999.0000,9, -999.00,9,  -999.0,9,  -999.0,   0.104,3, -999.00,9,-999.0000,9, -999.00,9, 2078.50,  -999.0,9,   2.4707,     27.786,    34.9809,2,     -999.0,9,     -999.0,9,     -999.0,     -999.0,9,     -999.0
33RO20110926,        A10,      50,          1,          6,      11029,2,20111011,       0145,   -29.9999,   -10.2576,       3838,  2330.4,   2.5125,  34.8391,2,  34.8398,2,    226.3,2,   226.2,2,    51.1,2,    25.0,2,    0.01,2,   1.703,2,   0.015,2,   0.008,2,   0.000,2,-999.000000,9,  2333.2,2,  -999.0,9, -999.00,   7.6915,2,       25,-999.000,9,-999.0000,9, -999.00,9,  -999.0,9,  -999.0,   0.056,3, -999.00,9,-999.0000,9, -999.00,9, 2330.40,  -999.0,9,   2.3378,     27.816,    35.0041,2,     -999.0,9,     -999.0,9,     -999.0,     -999.0,9,     -999.0
33RO20110926,        A10,      50,          1,          5,      11704,2,20111011,       0145,   -29.9999,   -10.2576,       3838,  2629.6,   2.4334,  34.8557,2,  34.8582,2,    232.6,2,   233.4,2,    50.3,2,    24.1,2,    0.00,2,   1.643,2,   0.006,2,   0.004,2,   0.000,2,-999.000000,9,  2339.2,2,  -999.0,9, -999.00,   7.7014,2,       25,-999.000,9,-999.0000,9, -999.00,9,  -999.0,9,  -999.0,   0.051,3, -999.00,9,-999.0000,9, -999.00,9, 2629.60,  -999.0,9,   2.2319,     27.839,    35.0226,2,     -999.0,9,     -999.0,9,     -999.0,     -999.0,9,     -999.0
33RO20110926,        A10,      50,          1,          4,      11030,2,20111011,       0145,   -29.9999,   -10.2576,       3838,  2929.8,   2.4005,  34.8626,2,  34.8663,2,    235.9,2,   236.8,2,    50.1,6,    23.7,6,    0.00,6,   1.619,6,   0.009,2,   0.006,2,   0.083,2,-999.000000,9,  2338.9,2,  -999.0,9, -999.00,   7.7064,2,       25,-999.000,9,-999.0000,9, -999.00,9,  -999.0,9,  -999.0,   0.052,3, -999.00,9,-999.0000,9, -999.00,9, 2929.80,  -999.0,9,   2.1701,     27.851,    35.0307,2,     -999.0,9,     -999.0,9,     -999.0,     -999.0,9,     -999.0
33RO20110926,        A10,      50,          1,          3,      11703,2,20111011,       0145,   -29.9999,   -10.2576,       3838,  3228.7,   2.3794,  34.8681,2,  34.8693,2,    238.1,2,   239.4,2,    50.6,2,    23.6,2,    0.01,2,   1.608,2,   0.005,2,   0.004,2,   0.070,2,-999.000000,9,  2340.6,2,  -999.0,9, -999.00,   7.7095,2,       25,-999.000,9,-999.0000,9, -999.00,9,  -999.0,9,  -999.0,   0.045,3, -999.00,9,-999.0000,9, -999.00,9, 3228.70,  -999.0,9,   2.1189,     27.857,    35.0337,2,     -999.0,9,     -999.0,9,     -999.0,     -999.0,9,     -999.0
33RO20110926,        A10,      50,          1,          2,      11702,2,20111011,       0145,   -29.9999,   -10.2576,       3838,  3541.6,   2.3824,  34.8725,2,  34.8738,2,    238.1,2,   237.9,2,    50.6,2,    23.5,2,    0.01,2,   1.596,2,   0.005,2,   0.004,2,   0.024,2,-999.000000,9,  2342.8,2,  -999.0,9, -999.00,   7.7095,2,       25,-999.000,9,-999.0000,9, -999.00,9,  -999.0,9,  -999.0,   0.047,3, -999.00,9,-999.0000,9, -999.00,9, 3541.60,  -999.0,9,   2.0886,     27.863,    35.0382,2,     -999.0,9,     -999.0,9,     -999.0,     -999.0,9,     -999.0
33RO20110926,        A10,      50,          1,          1,      11701,2,20111011,       0145,   -29.9999,   -10.2576,       3838,  3848.3,   2.4060,  34.8748,2,  34.8746,2,    238.2,2,   236.3,2,    50.8,6,    23.4,6,    0.01,6,   1.592,6,   0.005,6,   0.003,6,   0.063,6,-999.000000,9,  2345.9,6,  -999.0,9, -999.00,    7.716,6,       25,-999.000,9,-999.0000,9, -999.00,9,  -999.0,9,  -999.0,   0.040,3, -999.00,9,-999.0000,9, -999.00,9, 3848.30,  -999.0,9,   2.0777,     27.865,    35.0390,2,     -999.0,9,     -999.0,9,     -999.0,     -999.0,9,     -999.0