BOTTLE,20220815CCHSIOAMB
EXPOCODE,SECT_ID,STNNBR,CASTNO,SAMPNO,BTLNBR,BTLNBR_FLAG_W,DATE,TIME,LATITUDE,LONGITUDE,DEPTH,CTDPRS,CTDTMP,CTDSAL,CTDSAL_FLAG_W,SALNTY,SALNTY_FLAG_W,CTDOXY,CTDOXY_FLAG_W,OXYGEN,OXYGEN_FLAG_W,SILCAT,SILCAT_FLAG_W,NITRAT,NITRAT_FLAG_W,NITRIT,NITRIT_FLAG_W,PHSPHT,PHSPHT_FLAG_W,CFC-11,CFC-11_FLAG_W,CFC-12,CFC-12_FLAG_W,SF6,SF6_FLAG_W,TCARBN,TCARBN_FLAG_W,ALKALI,ALKALI_FLAG_W,PCO2,PCO2_FLAG_W,PCO2TMP,PH_SWS,PH_SWS_FLAG_W,PH_TMP,TRITUM,TRITUM_FLAG_W,HELIUM,HELIUM_FLAG_W,DELC13,DELC13_FLAG_W,DELC14,DELC14_FLAG_W,C14ERR,CCL4,CCL4_FLAG_W,DELO18,DELO18_FLAG_W,DOC,DOC_FLAG_W,TDN,TDN_FLAG_W,CTDRAW,14C-DOC,14C-DOC_FLAG_W,THETA,SIG0,SALTREF,SALTREF_FLAG_W,BLACKC,BLACKC_FLAG_W,PIGMENTS,PIGMENTS_FLAG_W,14C-DOCERR,13C-DOC,13C-DOC_FLAG_W,13C-DOCERR
,,,,,,,,,,,METERS,DBAR,ITS-90,PSS-78,,PSS-78,,UMOL/KG,,UMOL/KG,,UMOL/KG,,UMOL/KG,,UMOL/KG,,UMOL/KG,,PMOL/KG,,PMOL/KG,,FMOL/KG,,UMOL/KG,,UMOL/KG,,UATM,,DEG C,,,DEG C,TU,,NMOL/KG,,/MILLE,,/MILLE,,/MILLE,PMOL/KG,,/MILLE,,UMOL/KG,,UMOL/KG,,DBAR,/MILLE,,DEG C,KG/M^3,G/KG,,,,,,/MILLE,/MILLE,,/MILLE
33RO20110926,        A10,     110,          1,         24,      11714,2,20111028,       1018,   -28.4464,   -44.8871,       3511,     4.7,  20.0735,  36.3728,2,  36.3738,2,    226.9,2,   240.2,4,     0.5,2,     0.0,2,    0.00,2,   0.032,4,   2.142,2,   1.304,2,   1.340,2,     2078.4,3,  2386.7,2,  -999.0,9, -999.00,    8.023,2,       25,-999.000,9,-999.0000,9, -999.00,9,  -999.0,9,  -999.0,   4.267,4, -999.00,9,-999.0000,9, -999.00,9,    4.70,  -999.0,9,  20.0726,     25.790,    36.5453,2,     -999.0,9,     -999.0,1,     -999.0,     -999.0,9,     -999.0
33RO20110926,        A10,     110,          1,         23,      11713,2,20111028,       1018,   -28.4464,   -44.8871,       3511,    49.3,  19.9447,  36.3755,2,  36.3757,2,    228.0,2,   230.4,2,     0.6,2,     0.0,2,    0.00,2,   0.039,4,-999.000,9,-999.000,9,-999.000,9,     2079.4,3,  2385.4,2,  -999.0,9, -999.00,    8.024,2,       25,-999.000,9,-999.0000,9, -999.00,9,  -999.0,9,  -999.0,-999.000,5, -999.00,9,-999.0000,9, -999.00,9,   49.30,  -999.0,9,  19.9356,     25.829,    36.5473,2,     -999.0,9,     -999.0,9,     -999.0,     -999.0,9,     -999.0
33RO20110926,        A10,     110,          1,         22,      11712,2,20111028,       1018,   -28.4464,   -44.8871,       3511,    99.6,  18.6641,  36.2424,2,  36.2399,2,    224.7,2,     225,2,     0.8,2,     0.3,2,    0.10,2,   0.082,4,-999.000,9,-999.000,9,-999.000,9,     2086.4,3,  2378.3,2,  -999.0,9, -999.00,    8.003,2,       25,-999.000,9,-999.0000,9, -999.00,9,  -999.0,9,  -999.0,-999.000,5, -999.00,9,-999.0000,9, -999.00,9,   99.60,  -999.0,9,  18.6465,     26.058,    36.4108,2,     -999.0,9,     -999.0,1,     -999.0,     -999.0,9,     -999.0
33RO20110926,        A10,     110,          1,         21,      11010,2,20111028,       1018,   -28.4464,   -44.8871,       3511,   150.7,  16.4524,  35.7634,2,  35.7649,2,    200.6,2,   200.8,2,     2.0,6,     4.8,6,    0.02,6,   0.293,4,-999.000,9,-999.000,9,-999.000,9,     2108.1,3,  2349.8,2,  -999.0,9, -999.00,   7.9199,2,       25,-999.000,9,-999.0000,9, -999.00,9,  -999.0,9,  -999.0,-999.000,5, -999.00,9,-999.0000,9, -999.00,9,  150.70,  -999.0,9,  16.4279,     26.235,    35.9335,2,     -999.0,9,     -999.0,1,     -999.0,     -999.0,9,     -999.0
33RO20110926,        A10,     110,          1,         20,      11715,2,20111028,       1018,   -28.4464,   -44.8871,       3511,   201.8,  15.2227,  35.5676,2,  35.5697,2,    206.5,2,   207.8,2,     2.2,2,     6.2,2,    0.01,2,   0.368,4,-999.000,9,-999.000,9,-999.000,9,     2112.4,3,  2338.8,2,  -999.0,9, -999.00,   7.8968,2,       25,-999.000,9,-999.0000,9, -999.00,9,  -999.0,9,  -999.0,-999.000,5, -999.00,9,-999.0000,9, -999.00,9,  201.80,  -999.0,9,  15.1917,     26.369,    35.7374,2,     -999.0,9,     -999.0,9,     -999.0,     -999.0,9,     -999.0
33RO20110926,        A10,     110,          1,         19,      11007,2,20111028,       1018,   -28.4464,   -44.8871,       3511,   249.3,  14.4412,  35.4581,2,  35.4588,2,    207.6,2,   207.3,2,     2.6,2,     7.7,2,    0.01,2,   0.441,4,   2.790,2,   1.613,2,   1.224,2,     2116.7,3,  2331.8,2,  -999.0,9, -999.00,   7.8757,2,       25,-999.000,9,-999.0000,9, -999.00,9,  -999.0,9,  -999.0,   0.979,3, -999.00,9,-999.0000,9, -999.00,9,  249.30,  -999.0,9,  14.4042,     26.455,    35.6260,2,     -999.0,9,     -999.0,9,     -999.0,     -999.0,9,     -999.0
33RO20110926,        A10,     110,          1,         18,      11710,2,20111028,       1018,   -28.4464,   -44.8871,       3511,   301.4,  13.7337,  35.3659,2,  35.3687,2,    208.5,2,   209.3,2,     3.0,2,     9.0,2,    0.01,2,   0.505,4,-999.000,9,-999.000,9,-999.000,9,     2118.8,2,  2328.6,2,  -999.0,9, -999.00,   7.8637,2,       25,-999.000,9,-999.0000,9, -999.00,9,  -999.0,9,  -999.0,-999.000,9, -999.00,9,-999.0000,9, -999.00,9,  301.40,  -999.0,9,  13.6904,     26.537,    35.5355,2,     -999.0,9,     -999.0,9,     -999.0,     -999.0,9,     -999.0
33RO20110926,        A10,     110,          1,         17,      11023,2,20111028,       1018,   -28.4464,   -44.8871,       3511,   400.5,  12.0236,  35.0947,2,  35.0974,2,    207.6,2,   208.2,2,     4.2,4,    12.8,4,    0.00,4,   0.671,4,-999.000,9,-999.000,9,-999.000,9,     2127.5,2,  2314.5,2,  -999.0,9, -999.00,   7.8166,2,       25,-999.000,9,-999.0000,9, -999.00,9,  -999.0,9,  -999.0,-999.000,9, -999.00,9,-999.0000,9, -999.00,9,  400.50,  -999.0,9,  11.9708,     26.669,    35.2629,2,     -999.0,9,     -999.0,9,     -999.0,     -999.0,9,     -999.0
33RO20110926,        A10,     110,          1,         16,      11709,2,20111028,       1018,   -28.4464,   -44.8871,       3511,   500.9,   9.6891,  34.7692,2,  34.7742,2,    202.8,2,   202.8,2,     7.6,2,    18.8,2,    0.00,2,   0.965,4,-999.000,9,-999.000,9,-999.000,9,     2146.2,2,  2297.9,2,  -999.0,9, -999.00,   7.7465,2,       25,-999.000,9,-999.0000,9, -999.00,9,  -999.0,9,  -999.0,-999.000,9, -999.00,9,-999.0000,9, -999.00,9,  500.90,  -999.0,9,   9.6313,     26.841,    34.9382,2,     -999.0,9,     -999.0,9,     -999.0,     -999.0,9,     -999.0
33RO20110926,        A10,     110,          1,         15,      11006,2,20111028,       1018,   -28.4464,   -44.8871,       3511,   600.2,   7.7968,  34.5565,2,  34.5576,2,    201.8,2,   201.6,2,    11.3,2,    23.6,2,    0.00,2,   1.217,4,   3.045,2,   1.553,2,   0.719,2,     2159.5,2,  2290.9,2,  -999.0,9, -999.00,   7.6944,2,       25,-999.000,9,-999.0000,9, -999.00,9,  -999.0,9,  -999.0,   2.384,3, -999.00,9,-999.0000,9, -999.00,9,  600.20,  -999.0,9,   7.7358,     26.965,    34.7206,2,     -999.0,9,     -999.0,9,     -999.0,     -999.0,9,     -999.0
33RO20110926,        A10,     110,          1,         14,      11708,2,20111028,       1018,   -28.4464,   -44.8871,       3511,   759.6,   5.4605,  34.3594,2,  34.3600,2,    211.5,2,   211.9,2,    18.8,2,    28.3,2,    0.00,2,   1.496,4,   2.788,2,   1.378,2,   0.547,2,     2173.5,2,  2288.8,2,  -999.0,9, -999.00,   7.6523,2,       25,-999.000,9,-999.0000,9, -999.00,9,  -999.0,9,  -999.0,   3.086,3, -999.00,9,-999.0000,9, -999.00,9,  759.60,  -999.0,9,   5.3960,     27.121,    34.5220,2,     -999.0,9,     -999.0,9,     -999.0,     -999.0,9,     -999.0
33RO20110926,        A10,     110,          1,         13,      11031,2,20111028,       1018,   -28.4464,   -44.8871,       3511,   925.1,   3.9950,  34.3090,2,  34.3088,2,    214.8,2,   215.3,2,    29.5,2,    30.8,2,    0.00,2,   1.717,4,   2.249,2,   1.093,2,   0.377,2,     2190.2,2,    2297,2,  -999.0,9, -999.00,   7.6254,2,       25,-999.000,9,-999.0000,9, -999.00,9,  -999.0,9,  -999.0,   2.999,3, -999.00,9,-999.0000,9, -999.00,9,  925.10,  -999.0,9,   3.9259,     27.243,    34.4706,6,     -999.0,9,     -999.0,9,     -999.0,     -999.0,9,     -999.0
33RO20110926,        A10,     110,          1,         12,      11027,2,20111028,       1018,   -28.4464,   -44.8871,       3511,  1150.9,   3.4246,  34.4568,2,  34.4579,2,    189.8,2,   189.4,2,    44.4,6,    32.7,6,    0.00,6,   1.933,4,-999.000,9,-999.000,9,-999.000,9,     2217.4,2,  2312.7,2,  -999.0,9, -999.00,   7.5974,2,       25,-999.000,9,-999.0000,9, -999.00,9,  -999.0,9,  -999.0,-999.000,9, -999.00,9,-999.0000,9, -999.00,9, 1150.90,  -999.0,9,   3.3414,     27.420,    34.6204,2,     -999.0,9,     -999.0,9,     -999.0,     -999.0,9,     -999.0
33RO20110926,        A10,     110,          1,         11,      11707,2,20111028,       1018,   -28.4464,   -44.8871,       3511,  1300.8,   3.4001,  34.5692,2,  34.5691,2,    187.7,2,   187.9,2,    44.9,2,    31.5,2,    0.00,2,   1.881,4,-999.000,9,-999.000,9,-999.000,9,     2220.5,6,  2318.6,6,  -999.0,9, -999.00,   7.6064,6,       25,-999.000,9,-999.0000,9, -999.00,9,  -999.0,9,  -999.0,-999.000,9, -999.00,9,-999.0000,9, -999.00,9, 1300.80,  -999.0,9,   3.3046,     27.513,    34.7321,2,     -999.0,9,     -999.0,9,     -999.0,     -999.0,9,     -999.0
33RO20110926,        A10,     110,          1,         10,      11003,2,20111028,       1018,   -28.4464,   -44.8871,       3511,  1501.4,   3.6693,  34.7293,2,  34.7296,2,    196.4,2,   196.7,2,    37.2,2,    28.4,2,    0.00,2,   1.662,4,   0.130,2,   0.064,2,   0.000,2,     2206.9,2,  2319.7,2,  -999.0,9, -999.00,   7.6394,2,       25,-999.000,9,-999.0000,9, -999.00,9,  -999.0,9,  -999.0,   0.449,3, -999.00,9,-999.0000,9, -999.00,9, 1501.40,  -999.0,9,   3.5533,     27.616,    34.8934,2,     -999.0,9,     -999.0,9,     -999.0,     -999.0,9,     -999.0
33RO20110926,        A10,     110,          1,          9,      11706,2,20111028,       1018,   -28.4464,   -44.8871,       3511,  1700.1,   3.6435,  34.8266,2,  34.8267,2,    210.0,2,   211.1,2,    33.6,2,    25.7,2,    0.00,2,   1.498,4,   0.143,2,   0.071,2,   0.000,2,     2195.9,2,  2321.4,2,  -999.0,9, -999.00,   7.6685,2,       25,-999.000,9,-999.0000,9, -999.00,9,  -999.0,9,  -999.0,   0.499,3, -999.00,9,-999.0000,9, -999.00,9, 1700.10,  -999.0,9,   3.5097,     27.698,    34.9910,2,     -999.0,9,     -999.0,9,     -999.0,     -999.0,9,     -999.0
33RO20110926,        A10,     110,          1,          8,      11033,2,20111028,       1018,   -28.4464,   -44.8871,       3511,  1899.6,   3.6165,  34.8954,2,  34.8963,2,    228.0,2,   228.7,2,    28.4,2,    23.0,2,    0.00,2,   1.316,4,   0.179,2,   0.090,2,   0.032,2,     2184.5,2,  2319.4,2,  -999.0,9, -999.00,   7.6984,2,       25,-999.000,9,-999.0000,9, -999.00,9,  -999.0,9,  -999.0,   0.584,3, -999.00,9,-999.0000,9, -999.00,9, 1899.60,  -999.0,9,   3.4644,     27.758,    35.0608,2,     -999.0,9,     -999.0,9,     -999.0,     -999.0,9,     -999.0
33RO20110926,        A10,     110,          1,          7,      11705,2,20111028,       1018,   -28.4464,   -44.8871,       3511,  2100.7,   3.5042,  34.9333,2,  34.9347,2,    241.1,2,   241.9,2,    24.6,6,    21.1,6,    0.00,6,   1.186,4,   0.208,2,   0.104,2,   0.000,2,     2173.5,2,  2319.4,2,  -999.0,9, -999.00,   7.7224,2,       25,-999.000,9,-999.0000,9, -999.00,9,  -999.0,9,  -999.0,   0.646,3, -999.00,9,-999.0000,9, -999.00,9, 2100.70,  -999.0,9,   3.3345,     27.801,    35.0995,2,     -999.0,9,     -999.0,9,     -999.0,     -999.0,9,     -999.0
33RO20110926,        A10,     110,          1,          6,      11029,2,20111028,       1018,   -28.4464,   -44.8871,       3511,  2325.9,   3.3263,  34.9404,2,  34.9416,2,    247.5,2,   248.6,2,    24.8,2,    20.5,2,    0.00,2,   1.162,4,   0.192,2,   0.095,2,   0.028,2,     2171.8,2,  2319.7,2,  -999.0,9, -999.00,   7.7294,2,       25,-999.000,9,-999.0000,9, -999.00,9,  -999.0,9,  -999.0,   0.617,3, -999.00,9,-999.0000,9, -999.00,9, 2325.90,  -999.0,9,   3.1376,     27.826,    35.1064,2,     -999.0,9,     -999.0,9,     -999.0,     -999.0,9,     -999.0
33RO20110926,        A10,     110,          1,          5,      11704,2,20111028,       1018,   -28.4464,   -44.8871,       3511,  2551.6,   3.1396,  34.9360,2,  34.9366,2,    249.6,2,   249.9,2,    26.8,2,    20.4,2,    0.00,2,   1.185,4,   0.153,2,   0.075,2,   0.028,2,     2171.8,2,  2325.1,2,  -999.0,9, -999.00,   7.7455,2,       25,-999.000,9,-999.0000,9, -999.00,9,  -999.0,9,  -999.0,   0.541,3, -999.00,9,-999.0000,9, -999.00,9, 2551.60,  -999.0,9,   2.9320,     27.841,    35.1014,2,     -999.0,9,     -999.0,9,     -999.0,     -999.0,9,     -999.0
33RO20110926,        A10,     110,          1,          4,      11030,2,20111028,       1018,   -28.4464,   -44.8871,       3511,  2750.6,   2.9476,  34.9281,2,  34.9291,2,    250.5,2,   251.2,2,    29.8,2,    20.5,2,    0.00,2,   1.222,4,   0.121,2,   0.062,2,   0.000,2,       2174,2,  -999.0,5,  -999.0,9, -999.00,-999.0000,5,  -999.00,-999.000,9,-999.0000,9, -999.00,9,  -999.0,9,  -999.0,   0.462,3, -999.00,9,-999.0000,9, -999.00,9, 2750.60,  -999.0,9,   2.7237,     27.854,    35.0939,2,     -999.0,9,     -999.0,9,     -999.0,     -999.0,9,     -999.0
33RO20110926,        A10,     110,          1,          3,      11703,2,20111028,       1018,   -28.4464,   -44.8871,       3511,  2972.9,   2.7535,  34.9163,2,  34.9213,2,    251.2,2,   251.5,2,    33.6,2,    21.0,2,    0.00,2,   1.273,4,   0.092,2,   0.047,2,   0.000,2,     2179.5,2,  2328.8,2,  -999.0,9, -999.00,   7.7316,2,       25,-999.000,9,-999.0000,9, -999.00,9,  -999.0,9,  -999.0,   0.420,3, -999.00,9,-999.0000,9, -999.00,9, 2972.90,  -999.0,9,   2.5110,     27.863,    35.0860,6,     -999.0,9,     -999.0,9,     -999.0,     -999.0,9,     -999.0
33RO20110926,        A10,     110,          1,          2,      11702,2,20111028,       1018,   -28.4464,   -44.8871,       3511,  3250.3,   2.2313,  34.8646,2,  34.8656,2,    242.5,2,   242.6,2,    52.2,6,    23.4,6,    0.00,6,   1.563,4,   0.085,2,   0.043,2,   0.030,2,     2197.9,2,  2338.1,2,  -999.0,9, -999.00,   7.7045,2,       25,-999.000,9,-999.0000,9, -999.00,9,  -999.0,9,  -999.0,   0.354,3, -999.00,9,-999.0000,9, -999.00,9, 3250.30,  -999.0,9,   1.9720,     27.866,    35.0300,2,     -999.0,9,     -999.0,9,     -999.0,     -999.0,9,     -999.0
33RO20110926,        A10,     110,          1,          1,      11701,2,20111028,       1018,   -28.4464,   -44.8871,       3511,  3505.9,   0.7738,  34.7212,2,  34.7221,2,    221.9,2,   221.8,2,   107.5,2,    30.8,2,    0.00,2,   2.437,4,   0.224,6,   0.104,6,   0.061,6,     2250.6,6,  2361.7,6,  -999.0,9, -999.00,   7.6293,6,       25,-999.000,9,-999.0000,9, -999.00,9,  -999.0,9,  -999.0,   0.499,3, -999.00,9,-999.0000,9, -999.00,9, 3505.90,  -999.0,9,   0.5252,     27.852,    34.8858,2,     -999.0,9,     -999.0,9,     -999.0,     -999.0,9,     -999.0