BOTTLE,20220815CCHSIOAMB
EXPOCODE,SECT_ID,STNNBR,CASTNO,SAMPNO,BTLNBR,BTLNBR_FLAG_W,DATE,TIME,LATITUDE,LONGITUDE,DEPTH,CTDPRS,CTDTMP,CTDSAL,CTDSAL_FLAG_W,SALNTY,SALNTY_FLAG_W,CTDOXY,CTDOXY_FLAG_W,OXYGEN,OXYGEN_FLAG_W,SILCAT,SILCAT_FLAG_W,NITRAT,NITRAT_FLAG_W,NITRIT,NITRIT_FLAG_W,PHSPHT,PHSPHT_FLAG_W,CFC-11,CFC-11_FLAG_W,CFC-12,CFC-12_FLAG_W,SF6,SF6_FLAG_W,TCARBN,TCARBN_FLAG_W,ALKALI,ALKALI_FLAG_W,PCO2,PCO2_FLAG_W,PCO2TMP,PH_SWS,PH_SWS_FLAG_W,PH_TMP,TRITUM,TRITUM_FLAG_W,HELIUM,HELIUM_FLAG_W,DELC13,DELC13_FLAG_W,DELC14,DELC14_FLAG_W,C14ERR,CCL4,CCL4_FLAG_W,DELO18,DELO18_FLAG_W,DOC,DOC_FLAG_W,TDN,TDN_FLAG_W,CTDRAW,14C-DOC,14C-DOC_FLAG_W,THETA,SIG0,SALTREF,SALTREF_FLAG_W,BLACKC,BLACKC_FLAG_W,PIGMENTS,PIGMENTS_FLAG_W,14C-DOCERR,13C-DOC,13C-DOC_FLAG_W,13C-DOCERR
,,,,,,,,,,,METERS,DBAR,ITS-90,PSS-78,,PSS-78,,UMOL/KG,,UMOL/KG,,UMOL/KG,,UMOL/KG,,UMOL/KG,,UMOL/KG,,PMOL/KG,,PMOL/KG,,FMOL/KG,,UMOL/KG,,UMOL/KG,,UATM,,DEG C,,,DEG C,TU,,NMOL/KG,,/MILLE,,/MILLE,,/MILLE,PMOL/KG,,/MILLE,,UMOL/KG,,UMOL/KG,,DBAR,/MILLE,,DEG C,KG/M^3,G/KG,,,,,,/MILLE,/MILLE,,/MILLE
33RO20110926,        A10,      37,          1,         24,      11714,2,20111007,       0429,   -30.0002,    -2.7828,       4267,     4.3,  18.6216,  35.9328,2,  35.9322,2,    238.7,2,   237.6,2,     1.2,2,     0.0,2,    0.00,2,   0.173,2,   2.339,6,   1.415,6,   1.447,6,     2088.5,3,  2360.1,2,  -999.0,9, -999.00,    7.987,2,       25,-999.000,9,-999.0000,9, -999.00,9,  -999.0,9,  -999.0,   2.749,3, -999.00,9,  63.0341,2,    5.26,2,    4.30,  -999.0,9,  18.6209,     25.830,    36.1016,2,     -999.0,9,     -999.0,1,     -999.0,     -999.0,9,     -999.0
33RO20110926,        A10,      37,          1,         23,      11713,2,20111007,       0429,   -30.0002,    -2.7828,       4267,    39.9,  17.5141,  35.8509,2,  35.8504,2,    243.3,2,   244.2,2,     1.2,2,     0.1,2,    0.00,2,   0.161,2,   2.416,2,   1.460,2,   1.498,2,     2080.1,6,  2354.1,6,  -999.0,9, -999.00,   7.9825,6,       25,-999.000,9,-999.0000,9, -999.00,9,  -999.0,9,  -999.0,   3.018,3, -999.00,9,-999.0000,5, -999.00,5,   39.90,  -999.0,9,  17.5074,     26.045,    36.0194,2,     -999.0,9,     -999.0,9,     -999.0,     -999.0,9,     -999.0
33RO20110926,        A10,      37,          1,         22,      11712,2,20111007,       0429,   -30.0002,    -2.7828,       4267,    89.4,  16.8046,  35.7622,2,  35.7578,2,    240.6,2,   239.6,2,     1.5,2,     0.4,2,    0.24,2,   0.215,2,   2.451,2,   1.472,2,   1.470,2,     2085.5,2,  2353.2,2,  -999.0,9, -999.00,   7.9689,2,       25,-999.000,9,-999.0000,9, -999.00,9,  -999.0,9,  -999.0,   2.158,3, -999.00,9,  59.4049,2,    4.11,2,   89.40,  -999.0,9,  16.7899,     26.145,    35.9264,2,     -999.0,9,     -999.0,1,     -999.0,     -999.0,9,     -999.0
33RO20110926,        A10,      37,          1,         21,      11010,2,20111007,       0429,   -30.0002,    -2.7828,       4267,   139.6,  16.5172,  35.7310,2,  35.7301,2,    232.7,2,   233.8,2,     1.9,6,     1.3,6,    0.43,6,   0.266,6,   2.344,3,   1.407,3,   1.373,2,     2085.8,2,  2345.9,2,  -999.0,9, -999.00,   7.9549,2,       25,-999.000,9,-999.0000,9, -999.00,9,  -999.0,9,  -999.0,   1.608,3, -999.00,9,  60.5171,2,    7.03,2,  139.60,  -999.0,9,  16.4946,     26.195,    35.8986,2,     -999.0,9,     -999.0,1,     -999.0,     -999.0,9,     -999.0
33RO20110926,        A10,      37,          1,         20,      11715,2,20111007,       0429,   -30.0002,    -2.7828,       4267,   190.1,  15.2305,  35.4748,2,  35.4807,2,    221.7,2,     223,2,     2.6,2,     4.7,2,    0.02,2,   0.456,2,   2.641,2,   1.569,2,   1.414,2,     2097.1,2,    2332,2,  -999.0,9, -999.00,   7.9108,2,       25,-999.000,9,-999.0000,9, -999.00,9,  -999.0,9,  -999.0,   0.854,3, -999.00,9,  52.4878,2,    5.95,2,  190.10,  -999.0,9,  15.2013,     26.294,    35.6480,2,     -999.0,9,     -999.0,9,     -999.0,     -999.0,9,     -999.0
33RO20110926,        A10,      37,          1,         19,      11007,2,20111007,       0429,   -30.0002,    -2.7828,       4267,   259.2,  13.5303,  35.2011,2,  35.2015,2,    219.2,2,   219.5,2,     3.3,2,     7.9,2,    0.01,2,   0.664,2,   2.902,2,   1.687,2,   1.444,2,     2108.4,2,  2315.8,2,  -999.0,9, -999.00,   7.8648,2,       25,-999.000,9,-999.0000,9, -999.00,9,  -999.0,9,  -999.0,   0.664,3, -999.00,9,  49.6195,2, -999.00,9,  259.20,  -999.0,9,  13.4935,     26.448,    35.3675,2,     -999.0,9,     -999.0,9,     -999.0,     -999.0,9,     -999.0
33RO20110926,        A10,      37,          1,         18,      11710,2,20111007,       0429,   -30.0002,    -2.7828,       4267,   359.3,  11.7691,  35.0129,2,  35.0146,2,    209.0,2,   207.7,2,     5.2,2,    13.5,2,    0.01,2,   1.008,2,   3.094,2,   1.732,2,   1.197,2,     2130.5,2,  2307.5,2,  -999.0,9, -999.00,   7.7987,2,       25,-999.000,9,-999.0000,9, -999.00,9,  -999.0,9,  -999.0,   0.717,3, -999.00,9,   49.561,2, -999.00,9,  359.30,  -999.0,9,  11.7225,     26.650,    35.1797,2,     -999.0,9,     -999.0,9,     -999.0,     -999.0,9,     -999.0
33RO20110926,        A10,      37,          1,         17,      11023,2,20111007,       0429,   -30.0002,    -2.7828,       4267,   439.7,  10.6647,  34.8759,2,  34.8753,2,    206.8,2,     209,2,     6.4,2,    16.0,2,    0.01,2,   1.168,2,   3.155,2,   1.737,2,   1.140,2,     2136.8,2,  2302.7,2,  -999.0,9, -999.00,   7.7735,2,       25,-999.000,9,-999.0000,9, -999.00,9,  -999.0,9,  -999.0,   0.854,3, -999.00,9,  46.2829,2, -999.00,9,  439.70,  -999.0,9,  10.6111,     26.747,    35.0397,2,     -999.0,9,     -999.0,9,     -999.0,     -999.0,9,     -999.0
33RO20110926,        A10,      37,          1,         16,      11709,2,20111007,       0429,   -30.0002,    -2.7828,       4267,   540.4,   8.8496,  34.6584,2,  34.6592,2,    204.6,2,   205.9,2,     9.7,6,    20.6,6,    0.01,6,   1.470,6,   3.178,2,   1.701,2,   1.027,2,     2152.1,2,  2294.1,2,  -999.0,9, -999.00,   7.7174,2,       25,-999.000,9,-999.0000,9, -999.00,9,  -999.0,9,  -999.0,   1.224,3, -999.00,9,  45.9902,2, -999.00,9,  540.40,  -999.0,9,   8.7906,     26.883,    34.8227,2,     -999.0,9,     -999.0,9,     -999.0,     -999.0,9,     -999.0
33RO20110926,        A10,      37,          1,         15,      11006,2,20111007,       0429,   -30.0002,    -2.7828,       4267,   660.9,   6.7085,  34.4451,2,  34.4462,2,    207.5,2,   206.6,2,    15.5,2,    26.0,2,    0.00,2,   1.823,2,   3.101,2,   1.617,2,   0.892,2,     2167.4,2,  2287.9,2,  -999.0,9, -999.00,   7.6653,2,       25,-999.000,9,-999.0000,9, -999.00,9,  -999.0,9,  -999.0,   1.936,3, -999.00,9,  42.6732,2, -999.00,9,  660.90,  -999.0,9,   6.6465,     27.029,    34.6086,2,     -999.0,9,     -999.0,9,     -999.0,     -999.0,9,     -999.0
33RO20110926,        A10,      37,          1,         14,      11708,2,20111007,       0429,   -30.0002,    -2.7828,       4267,   799.2,   5.1123,  34.3272,2,  34.3278,2,    218.0,2,   217.1,2,    21.2,2,    28.9,2,    0.00,2,   2.019,2,   2.984,2,   1.515,2,   0.701,2,     2175.4,2,  2288.1,2,  -999.0,9, -999.00,   7.6403,2,       25,-999.000,9,-999.0000,9, -999.00,9,  -999.0,9,  -999.0,   2.274,3, -999.00,9,  43.5805,2, -999.00,9,  799.20,  -999.0,9,   5.0464,     27.136,    34.4897,2,     -999.0,9,     -999.0,9,     -999.0,     -999.0,9,     -999.0
33RO20110926,        A10,      37,          1,         13,      11031,2,20111007,       0429,   -30.0002,    -2.7828,       4267,   950.2,   4.0833,  34.3378,2,  34.3377,2,    206.1,2,   205.4,2,    32.8,2,    31.4,2,    0.00,2,   2.207,2,   2.152,2,   1.062,2,   0.487,2,     2195.8,2,  2298.2,2,  -999.0,9, -999.00,   7.6132,2,       25,-999.000,9,-999.0000,9, -999.00,9,  -999.0,9,  -999.0,   1.808,3, -999.00,9,  41.5219,2, -999.00,9,  950.20,  -999.0,9,   4.0114,     27.258,    34.4996,2,     -999.0,9,     -999.0,9,     -999.0,     -999.0,9,     -999.0
33RO20110926,        A10,      37,          1,         12,      11027,2,20111007,       0429,   -30.0002,    -2.7828,       4267,  1124.6,   3.4381,  34.4428,2,  34.4423,2,    186.4,2,   186.3,2,    47.4,6,    32.9,6,    0.01,6,   2.334,6,   1.015,2,   0.486,2,   0.155,2,     2221.2,6,  2313.7,2,  -999.0,9, -999.00,   7.5861,2,       25,-999.000,9,-999.0000,9, -999.00,9,  -999.0,9,  -999.0,   0.800,3, -999.00,9,  39.2488,2, -999.00,9, 1124.60,  -999.0,9,   3.3569,     27.406,    34.6047,2,     -999.0,9,     -999.0,9,     -999.0,     -999.0,9,     -999.0
33RO20110926,        A10,      37,          1,         11,      11707,2,20111007,       0429,   -30.0002,    -2.7828,       4267,  1300.6,   3.1299,  34.5444,2,  34.5438,2,    182.1,2,     182,2,    54.2,2,    32.7,2,    0.00,2,   2.307,2,   0.504,2,   0.238,2,   0.086,2,     2226.8,2,  2323.6,6,  -999.0,9, -999.00,   7.5876,6,       25,-999.000,9,-999.0000,9, -999.00,9,  -999.0,9,  -999.0,   0.424,3, -999.00,9,  39.8049,2, -999.00,9, 1300.60,  -999.0,9,   3.0372,     27.517,    34.7067,2,     -999.0,9,     -999.0,9,     -999.0,     -999.0,9,     -999.0
33RO20110926,        A10,      37,          1,         10,      11003,2,20111007,       0429,   -30.0002,    -2.7828,       4267,  1600.3,   2.9841,  34.6895,2,  34.6895,2,    192.8,2,   193.6,2,    53.1,2,    30.0,2,    0.01,2,   2.107,2,   0.154,2,   0.073,2,   0.037,2,     2220.3,2,  2328.7,2,  -999.0,9, -999.00,   7.6174,2,       25,-999.000,9,-999.0000,9, -999.00,9,  -999.0,9,  -999.0,   0.169,3, -999.00,9,   40.878,2, -999.00,9, 1600.30,  -999.0,9,   2.8677,     27.649,    34.8531,6,     -999.0,9,     -999.0,9,     -999.0,     -999.0,9,     -999.0
33RO20110926,        A10,      37,          1,          9,      11706,2,20111007,       0429,   -30.0002,    -2.7828,       4267,  1898.9,   2.8037,  34.7760,2,  34.7757,2,    208.3,2,   209.6,2,    51.8,2,    27.6,2,    0.00,2,   1.918,2,   0.056,2,   0.027,2,   0.000,2,     2211.9,2,  2332.1,2,  -999.0,9, -999.00,   7.6505,2,       25,-999.000,9,-999.0000,9, -999.00,9,  -999.0,9,  -999.0,   0.090,3, -999.00,9,  40.2634,2, -999.00,9, 1898.90,  -999.0,9,   2.6636,     27.736,    34.9397,2,     -999.0,9,     -999.0,9,     -999.0,     -999.0,9,     -999.0
33RO20110926,        A10,      37,          1,          8,      11033,2,20111007,       0429,   -30.0002,    -2.7828,       4267,  2199.6,   2.5689,  34.8179,2,  34.8184,2,    220.6,2,   220.5,2,    52.9,2,    26.0,2,    0.00,2,   1.806,2,   0.031,2,   0.015,2,   0.000,2,       2206,2,  2335.5,2,  -999.0,9, -999.00,   7.6745,2,       25,-999.000,9,-999.0000,9, -999.00,9,  -999.0,9,  -999.0,   0.068,3, -999.00,9,  40.7122,2, -999.00,9, 2199.60,  -999.0,9,   2.4053,     27.793,    34.9825,2,     -999.0,9,     -999.0,9,     -999.0,     -999.0,9,     -999.0
33RO20110926,        A10,      37,          1,          7,      11705,2,20111007,       0429,   -30.0002,    -2.7828,       4267,  2499.8,   2.4569,  34.8455,2,  34.8453,2,    229.7,2,   229.5,2,    51.7,2,    24.7,2,    0.01,2,   1.720,2,   0.014,2,   0.007,2,   0.000,2,       2201,2,  2336.8,2,  -999.0,9, -999.00,   7.6924,2,       25,-999.000,9,-999.0000,9, -999.00,9,  -999.0,9,  -999.0,   0.048,3, -999.00,9,  44.9659,2, -999.00,9, 2499.80,  -999.0,9,   2.2673,     27.826,    35.0096,2,     -999.0,9,     -999.0,9,     -999.0,     -999.0,9,     -999.0
33RO20110926,        A10,      37,          1,          6,      11029,2,20111007,       0429,   -30.0002,    -2.7828,       4267,  2800.3,   2.3864,  34.8610,2,  34.8609,2,    234.7,2,     237,2,    50.9,2,    24.2,2,    0.01,2,   1.665,2,   0.005,2,   0.003,2,   0.000,2,     2197.9,2,  2339.4,2,  -999.0,9, -999.00,   7.7054,2,       25,-999.000,9,-999.0000,9, -999.00,9,  -999.0,9,  -999.0,   0.024,3, -999.00,9,  43.0049,2, -999.00,9, 2800.30,  -999.0,9,   2.1692,     27.846,    35.0252,2,     -999.0,9,     -999.0,9,     -999.0,     -999.0,9,     -999.0
33RO20110926,        A10,      37,          1,          5,      11704,2,20111007,       0429,   -30.0002,    -2.7828,       4267,  3102.5,   2.3589,  34.8685,2,  34.8416,4,    236.6,2,   237.3,2,    51.0,2,    23.9,2,    0.00,2,   1.648,2,   0.004,2,   0.002,2,   0.000,2,     2199.6,2,  2342.2,2,  -999.0,9, -999.00,   7.7094,2,       25,-999.000,9,-999.0000,9, -999.00,9,  -999.0,9,  -999.0,   0.022,3, -999.00,9,     41.2,2, -999.00,9, 3102.50,  -999.0,9,   2.1119,     27.836,    35.0059,2,     -999.0,9,     -999.0,9,     -999.0,     -999.0,9,     -999.0
33RO20110926,        A10,      37,          1,          4,      11030,2,20111007,       0429,   -30.0002,    -2.7828,       4267,  3398.8,   2.3431,  34.8739,2,  34.8741,2,    236.5,2,     236,2,    51.4,6,    23.7,6,    0.01,6,   1.632,6,   0.003,2,   0.003,2,   0.000,2,     2202.9,2,    2349,2,  -999.0,9, -999.00,   7.7126,2,       25,-999.000,9,-999.0000,9, -999.00,9,  -999.0,9,  -999.0,   0.013,3, -999.00,9,  40.5756,2, -999.00,9, 3398.80,  -999.0,9,   2.0656,     27.866,    35.0386,2,     -999.0,9,     -999.0,9,     -999.0,     -999.0,9,     -999.0
33RO20110926,        A10,      37,          1,          3,      11703,2,20111007,       0429,   -30.0002,    -2.7828,       4267,  3700.5,   2.3373,  34.8763,2,  34.8763,2,    234.7,2,   235.2,2,    52.2,2,    23.8,2,    0.01,2,   1.635,2,   0.004,2,   0.002,2,   0.000,2,     2206.9,2,  2353.8,2,  -999.0,9, -999.00,   7.7136,2,       25,-999.000,9,-999.0000,9, -999.00,9,  -999.0,9,  -999.0,   0.017,3, -999.00,9,  42.7122,2, -999.00,9, 3700.50,  -999.0,9,   2.0273,     27.870,    35.0408,2,     -999.0,9,     -999.0,9,     -999.0,     -999.0,9,     -999.0
33RO20110926,        A10,      37,          1,          2,      11702,2,20111007,       0429,   -30.0002,    -2.7828,       4267,  4000.6,   2.3226,  34.8737,2,  34.8738,2,    233.9,2,   233.4,2,    54.4,2,    24.1,2,    0.01,2,   1.654,2,   0.005,2,   0.004,2,   0.000,2,     2209.6,2,  2353.6,2,  -999.0,9, -999.00,   7.7095,2,       25,-999.000,9,-999.0000,9, -999.00,9,  -999.0,9,  -999.0,   0.012,3, -999.00,9,  42.2829,2, -999.00,9, 4000.60,  -999.0,9,   1.9794,     27.872,    35.0382,2,     -999.0,9,     -999.0,9,     -999.0,     -999.0,9,     -999.0
33RO20110926,        A10,      37,          1,          1,      11701,2,20111007,       0429,   -30.0002,    -2.7828,       4267,  4343.9,   2.2526,  34.8613,2,  34.8624,2,    232.4,2,   231.1,2,    59.2,2,    24.9,2,    0.00,2,   1.702,2,   0.009,6,   0.005,6,   0.000,2,     2215.1,6,  2358.8,6,  -999.0,9, -999.00,    7.707,6,       25,-999.000,9,-999.0000,9, -999.00,9,  -999.0,9,  -999.0,   0.022,3, -999.00,9,  43.2976,2, -999.00,9, 4343.90,  -999.0,9,   1.8716,     27.872,    35.0268,2,     -999.0,9,     -999.0,9,     -999.0,     -999.0,9,     -999.0