BOTTLE,20220815CCHSIOAMB
EXPOCODE,SECT_ID,STNNBR,CASTNO,SAMPNO,BTLNBR,BTLNBR_FLAG_W,DATE,TIME,LATITUDE,LONGITUDE,DEPTH,CTDPRS,CTDTMP,CTDSAL,CTDSAL_FLAG_W,SALNTY,SALNTY_FLAG_W,CTDOXY,CTDOXY_FLAG_W,OXYGEN,OXYGEN_FLAG_W,SILCAT,SILCAT_FLAG_W,NITRAT,NITRAT_FLAG_W,NITRIT,NITRIT_FLAG_W,PHSPHT,PHSPHT_FLAG_W,CFC-11,CFC-11_FLAG_W,CFC-12,CFC-12_FLAG_W,SF6,SF6_FLAG_W,TCARBN,TCARBN_FLAG_W,ALKALI,ALKALI_FLAG_W,PCO2,PCO2_FLAG_W,PCO2TMP,PH_SWS,PH_SWS_FLAG_W,PH_TMP,TRITUM,TRITUM_FLAG_W,HELIUM,HELIUM_FLAG_W,DELC13,DELC13_FLAG_W,DELC14,DELC14_FLAG_W,C14ERR,CCL4,CCL4_FLAG_W,DELO18,DELO18_FLAG_W,DOC,DOC_FLAG_W,TDN,TDN_FLAG_W,CTDRAW,14C-DOC,14C-DOC_FLAG_W,THETA,SIG0,SALTREF,SALTREF_FLAG_W,BLACKC,BLACKC_FLAG_W,PIGMENTS,PIGMENTS_FLAG_W,14C-DOCERR,13C-DOC,13C-DOC_FLAG_W,13C-DOCERR
,,,,,,,,,,,METERS,DBAR,ITS-90,PSS-78,,PSS-78,,UMOL/KG,,UMOL/KG,,UMOL/KG,,UMOL/KG,,UMOL/KG,,UMOL/KG,,PMOL/KG,,PMOL/KG,,FMOL/KG,,UMOL/KG,,UMOL/KG,,UATM,,DEG C,,,DEG C,TU,,NMOL/KG,,/MILLE,,/MILLE,,/MILLE,PMOL/KG,,/MILLE,,UMOL/KG,,UMOL/KG,,DBAR,/MILLE,,DEG C,KG/M^3,G/KG,,,,,,/MILLE,/MILLE,,/MILLE
33RO20110926,        A10,      44,          1,         24,      11714,2,20111008,       2230,   -30.0180,    -6.8086,       4058,     5.1,  18.3522,  35.8837,2,  35.8821,2,    237.5,2,   237.6,2,     1.3,2,     0.0,2,    0.00,2,   0.164,2,   2.345,2,   1.426,2,   1.446,2,     2081.6,6,  2356.6,2,  -999.0,9, -999.00,   7.9749,2,       25,-999.000,9,-999.0000,9, -999.00,9,  -999.0,9,  -999.0,   3.643,4, -999.00,9,-999.0000,9, -999.00,9,    5.10,  -999.0,9,  18.3513,     25.860,    36.0513,2,     -999.0,9,     -999.0,1,     -999.0,     -999.0,9,     -999.0
33RO20110926,        A10,      44,          1,         23,      11713,2,20111008,       2230,   -30.0180,    -6.8086,       4058,    44.1,  17.5981,  35.8476,2,  35.8466,2,    242.4,2,   243.6,2,     1.3,2,     0.0,2,    0.00,2,   0.163,2,   2.417,2,   1.443,2,   1.454,2,-999.000000,9,  2351.3,6,  -999.0,9, -999.00,    7.982,6,       25,-999.000,9,-999.0000,9, -999.00,9,  -999.0,9,  -999.0,   3.837,4, -999.00,9,-999.0000,9, -999.00,9,   44.10,  -999.0,9,  17.5906,     26.021,    36.0156,2,     -999.0,9,     -999.0,1,     -999.0,     -999.0,9,     -999.0
33RO20110926,        A10,      44,          1,         22,      11712,9,20111008,       2230,   -30.0180,    -6.8086,       4058,    94.9,  16.9778,  35.7900,2,-999.0000,9,    239.8,2,  -999.0,9, -999.00,9,  -999.0,9, -999.00,9,-999.000,9,-999.000,9,-999.000,9,-999.000,9,-999.000000,9,  -999.0,9,  -999.0,9, -999.00,-999.0000,9,  -999.00,-999.000,9,-999.0000,9, -999.00,9,  -999.0,9,  -999.0,-999.000,5, -999.00,9,-999.0000,9, -999.00,9,   94.90,  -999.0,9,  16.9621,     26.129,     -999.0,9,     -999.0,9,     -999.0,9,     -999.0,     -999.0,9,     -999.0
33RO20110926,        A10,      44,          1,         21,      11010,2,20111008,       2230,   -30.0180,    -6.8086,       4058,   144.5,  16.8826,  35.7931,2,  35.7927,2,    232.1,2,   232.2,2,     1.8,2,     0.8,2,    0.53,2,   0.251,2,-999.000,9,-999.000,9,-999.000,9,     2086.2,2,  2349.6,2,  -999.0,9, -999.00,   7.9539,2,       25,-999.000,9,-999.0000,9, -999.00,9,  -999.0,9,  -999.0,-999.000,5, -999.00,9,-999.0000,9, -999.00,9,  144.50,  -999.0,9,  16.8588,     26.156,    35.9614,2,     -999.0,9,     -999.0,1,     -999.0,     -999.0,9,     -999.0
33RO20110926,        A10,      44,          1,         20,      11715,2,20111008,       2230,   -30.0180,    -6.8086,       4058,   193.9,  16.7838,  35.7751,2,  35.7771,2,    231.9,2,   231.1,2,     1.8,6,     1.3,6,    0.23,6,   0.262,6,-999.000,9,-999.000,9,-999.000,9,-999.000000,9,  2349.1,2,  -999.0,9, -999.00,   7.9529,2,       25,-999.000,9,-999.0000,9, -999.00,9,  -999.0,9,  -999.0,-999.000,5, -999.00,9,-999.0000,9, -999.00,9,  193.90,  -999.0,9,  16.7519,     26.170,    35.9458,2,     -999.0,9,     -999.0,9,     -999.0,     -999.0,9,     -999.0
33RO20110926,        A10,      44,          1,         19,      11007,2,20111008,       2230,   -30.0180,    -6.8086,       4058,   259.9,  15.1330,  35.4457,2,  35.4463,2,    224.7,2,   222.3,2,     2.7,2,     4.7,2,    0.01,2,   0.460,2,   2.655,2,   1.572,2,   1.423,2,-999.000000,9,  2324.5,2,  -999.0,9, -999.00,   7.9119,2,       25,-999.000,9,-999.0000,9, -999.00,9,  -999.0,9,  -999.0,   0.886,3, -999.00,9,-999.0000,9, -999.00,9,  259.90,  -999.0,9,  15.0931,     26.294,    35.6134,6,     -999.0,9,     -999.0,9,     -999.0,     -999.0,9,     -999.0
33RO20110926,        A10,      44,          1,         18,      11710,2,20111008,       2230,   -30.0180,    -6.8086,       4058,   344.6,  13.6806,  35.2232,2,  35.2317,2,    218.9,2,   218.6,2,     3.2,2,     7.5,2,    0.01,2,   0.638,2,-999.000,9,-999.000,9,-999.000,9,     2108.1,2,    2304,4,  -999.0,9, -999.00,   7.8747,2,       25,-999.000,9,-999.0000,9, -999.00,9,  -999.0,9,  -999.0,-999.000,9, -999.00,9,-999.0000,9, -999.00,9,  344.60,  -999.0,9,  13.6312,     26.445,    35.3978,2,     -999.0,9,     -999.0,9,     -999.0,     -999.0,9,     -999.0
33RO20110926,        A10,      44,          1,         17,      11023,2,20111008,       2230,   -30.0180,    -6.8086,       4058,   451.7,  11.9575,  35.0412,2,  35.0411,2,    210.9,2,   211.3,2,     4.7,6,    12.6,6,    0.00,6,   0.939,6,   3.095,2,   1.728,2,   1.215,2,-999.000000,9,  2306.6,2,  -999.0,9, -999.00,   7.8077,2,       25,-999.000,9,-999.0000,9, -999.00,9,  -999.0,9,  -999.0,   1.241,3, -999.00,9,-999.0000,9, -999.00,9,  451.70,  -999.0,9,  11.8981,     26.641,    35.2063,2,     -999.0,9,     -999.0,9,     -999.0,     -999.0,9,     -999.0
33RO20110926,        A10,      44,          1,         16,      11709,2,20111008,       2230,   -30.0180,    -6.8086,       4058,   560.6,  10.3132,  34.8307,2,  34.8337,2,    210.1,2,   210.5,2,     6.8,2,    16.6,2,    0.00,2,   1.190,2,-999.000,9,-999.000,9,-999.000,9,-999.000000,9,  2297.8,2,  -999.0,9, -999.00,   7.7655,2,       25,-999.000,9,-999.0000,9, -999.00,9,  -999.0,9,  -999.0,-999.000,9, -999.00,9,-999.0000,9, -999.00,9,  560.60,  -999.0,9,  10.2458,     26.778,    34.9979,2,     -999.0,9,     -999.0,9,     -999.0,     -999.0,9,     -999.0
33RO20110926,        A10,      44,          1,         15,      11006,2,20111008,       2230,   -30.0180,    -6.8086,       4058,   659.7,   8.3970,  34.6075,2,  34.6068,2,    204.0,2,   203.5,2,    11.0,2,    22.1,2,    0.00,2,   1.539,2,   3.154,2,   1.679,2,   0.946,2,-999.000000,9,  2276.6,4,  -999.0,9, -999.00,   7.7084,2,       25,-999.000,9,-999.0000,9, -999.00,9,  -999.0,9,  -999.0,   2.048,3, -999.00,9,-999.0000,9, -999.00,9,  659.70,  -999.0,9,   8.3267,     26.915,    34.7699,2,     -999.0,9,     -999.0,9,     -999.0,     -999.0,9,     -999.0
33RO20110926,        A10,      44,          1,         14,      11708,2,20111008,       2230,   -30.0180,    -6.8086,       4058,   780.5,   6.2412,  34.4058,2,  34.4024,2,    209.9,2,   208.2,2,    17.1,2,    27.1,2,    0.00,2,   1.874,2,-999.000,9,-999.000,9,-999.000,9,     2172.8,2,  2287.3,2,  -999.0,9, -999.00,   7.6543,2,       25,-999.000,9,-999.0000,9, -999.00,9,  -999.0,9,  -999.0,-999.000,9, -999.00,9,-999.0000,9, -999.00,9,  780.50,  -999.0,9,   6.1702,     27.059,    34.5646,2,     -999.0,9,     -999.0,9,     -999.0,     -999.0,9,     -999.0
33RO20110926,        A10,      44,          1,         13,      11031,2,20111008,       2230,   -30.0180,    -6.8086,       4058,   849.9,   5.1436,  34.3342,2,  34.3342,2,    214.9,2,     214,2,    21.7,2,    28.9,2,    0.00,2,   2.000,2,   2.930,2,   1.482,2,   0.706,2,-999.000000,9,  2287.2,2,  -999.0,9, -999.00,   7.6404,2,       25,-999.000,9,-999.0000,9, -999.00,9,  -999.0,9,  -999.0,   3.016,3, -999.00,9,-999.0000,9, -999.00,9,  849.90,  -999.0,9,   5.0730,     27.139,    34.4961,2,     -999.0,9,     -999.0,9,     -999.0,     -999.0,9,     -999.0
33RO20110926,        A10,      44,          1,         12,      11027,2,20111008,       2230,   -30.0180,    -6.8086,       4058,  1080.5,   3.8743,  34.3818,2,  34.3816,2,    192.9,2,   193.3,2,    39.7,2,    32.6,2,    0.00,2,   2.260,2,-999.000,9,-999.000,9,-999.000,9,-999.000000,9,  2304.3,2,  -999.0,9, -999.00,   7.5924,2,       25,-999.000,9,-999.0000,9, -999.00,9,  -999.0,9,  -999.0,-999.000,9, -999.00,9,-999.0000,9, -999.00,9, 1080.50,  -999.0,9,   3.7931,     27.315,    34.5437,2,     -999.0,9,     -999.0,9,     -999.0,     -999.0,9,     -999.0
33RO20110926,        A10,      44,          1,         11,      11707,2,20111008,       2230,   -30.0180,    -6.8086,       4058,  1229.5,   3.4496,  34.4573,2,  34.4568,2,    182.7,2,   183.2,2,    49.3,6,    33.4,6,    0.01,6,   2.321,6,   0.928,2,   0.454,2,   0.131,2,-999.000000,9,  2316.9,2,  -999.0,9, -999.00,   7.5974,2,       25,-999.000,9,-999.0000,9, -999.00,9,  -999.0,9,  -999.0,   1.387,3, -999.00,9,-999.0000,9, -999.00,9, 1229.50,  -999.0,9,   3.3597,     27.418,    34.6193,2,     -999.0,9,     -999.0,9,     -999.0,     -999.0,9,     -999.0
33RO20110926,        A10,      44,          1,         10,      11003,2,20111008,       2230,   -30.0180,    -6.8086,       4058,  1379.8,   3.1865,  34.5449,2,  34.5450,2,    180.0,2,   179.8,2,    54.3,2,    32.9,2,    0.00,2,   2.288,2,   0.486,6,   0.231,6,   0.046,2,     2229.8,2,    2322,6,  -999.0,9, -999.00,   7.5831,6,       25,-999.000,9,-999.0000,9, -999.00,9,  -999.0,9,  -999.0,   0.897,3, -999.00,9,-999.0000,9, -999.00,9, 1379.80,  -999.0,9,   3.0867,     27.514,    34.7079,2,     -999.0,9,     -999.0,9,     -999.0,     -999.0,9,     -999.0
33RO20110926,        A10,      44,          1,          9,      11706,2,20111008,       2230,   -30.0180,    -6.8086,       4058,  1700.8,   2.9254,  34.7035,2,  34.7026,2,    193.6,2,   194.4,2,    53.9,2,    29.8,2,    0.00,2,   2.058,2,-999.000,9,-999.000,9,-999.000,9,-999.000000,9,  2327.7,2,  -999.0,9, -999.00,   7.6172,2,       25,-999.000,9,-999.0000,9, -999.00,9,  -999.0,9,  -999.0,-999.000,9, -999.00,9,-999.0000,9, -999.00,9, 1700.80,  -999.0,9,   2.8011,     27.666,    34.8662,2,     -999.0,9,     -999.0,9,     -999.0,     -999.0,9,     -999.0
33RO20110926,        A10,      44,          1,          8,      11033,2,20111008,       2230,   -30.0180,    -6.8086,       4058,  1970.2,   2.8565,  34.7969,2,  34.7965,2,    210.5,2,   211.8,2,    49.3,2,    27.0,2,    0.01,2,   1.851,2,   0.034,2,   0.016,2,   0.000,2,-999.000000,9,  2326.9,2,  -999.0,9, -999.00,   7.6615,2,       25,-999.000,9,-999.0000,9, -999.00,9,  -999.0,9,  -999.0,   0.162,3, -999.00,9,-999.0000,9, -999.00,9, 1970.20,  -999.0,9,   2.7092,     27.749,    34.9606,2,     -999.0,9,     -999.0,9,     -999.0,     -999.0,9,     -999.0
33RO20110926,        A10,      44,          1,          7,      11705,2,20111008,       2230,   -30.0180,    -6.8086,       4058,  2270.1,   2.6147,  34.8213,2,  34.8224,2,    219.4,2,   220.1,2,    52.0,2,    26.0,2,    0.00,2,   1.779,2,-999.000,9,-999.000,9,-999.000,9,-999.000000,9,  2333.3,2,  -999.0,9, -999.00,   7.6755,2,       25,-999.000,9,-999.0000,9, -999.00,9,  -999.0,9,  -999.0,-999.000,9, -999.00,9,-999.0000,9, -999.00,9, 2270.10,  -999.0,9,   2.4439,     27.793,    34.9866,2,     -999.0,9,     -999.0,9,     -999.0,     -999.0,9,     -999.0
33RO20110926,        A10,      44,          1,          6,      11029,2,20111008,       2230,   -30.0180,    -6.8086,       4058,  2569.1,   2.4803,  34.8465,2,  34.8467,2,    228.8,2,   229.3,2,    51.4,2,    24.9,2,    0.01,2,   1.700,2,-999.000,9,-999.000,9,-999.000,9,-999.000000,9,  2334.1,2,  -999.0,9, -999.00,   7.6945,2,       25,-999.000,9,-999.0000,9, -999.00,9,  -999.0,9,  -999.0,-999.000,9, -999.00,9,-999.0000,9, -999.00,9, 2569.10,  -999.0,9,   2.2837,     27.826,    35.0110,2,     -999.0,9,     -999.0,9,     -999.0,     -999.0,9,     -999.0
33RO20110926,        A10,      44,          1,          5,      11704,2,20111008,       2230,   -30.0180,    -6.8086,       4058,  2869.7,   2.4084,  34.8612,2,  34.8607,2,    233.2,2,   233.7,2,    50.9,2,    24.2,2,    0.00,2,   1.650,2,   0.012,2,   0.006,2,   0.000,2,-999.000000,9,  2338.7,2,  -999.0,9, -999.00,   7.7035,2,       25,-999.000,9,-999.0000,9, -999.00,9,  -999.0,9,  -999.0,   0.069,3, -999.00,9,-999.0000,9, -999.00,9, 2869.70,  -999.0,9,   2.1839,     27.845,    35.0251,2,     -999.0,9,     -999.0,9,     -999.0,     -999.0,9,     -999.0
33RO20110926,        A10,      44,          1,          4,      11030,2,20111008,       2230,   -30.0180,    -6.8086,       4058,  3170.6,   2.3780,  34.8698,2,  34.8700,2,    236.0,2,   235.9,2,    50.6,2,    23.8,2,    0.00,2,   1.627,2,-999.000,9,-999.000,9,-999.000,9,-999.000000,9,  2342.7,2,  -999.0,9, -999.00,   7.7104,2,       25,-999.000,9,-999.0000,9, -999.00,9,  -999.0,9,  -999.0,-999.000,9, -999.00,9,-999.0000,9, -999.00,9, 3170.60,  -999.0,9,   2.1236,     27.858,    35.0344,2,     -999.0,9,     -999.0,9,     -999.0,     -999.0,9,     -999.0
33RO20110926,        A10,      44,          1,          3,      11703,2,20111008,       2230,   -30.0180,    -6.8086,       4058,  3468.3,   2.3637,  34.8757,2,  34.8804,4,    235.6,2,   236.5,2,    50.9,6,    23.6,6,    0.01,6,   1.607,6,   0.004,2,   0.002,2,   0.018,3,-999.000000,9,  2349.7,2,  -999.0,9, -999.00,   7.7186,2,       25,-999.000,9,-999.0000,9, -999.00,9,  -999.0,9,  -999.0,   0.048,3, -999.00,9,-999.0000,9, -999.00,9, 3468.30,  -999.0,9,   2.0782,     27.870,    35.0449,2,     -999.0,9,     -999.0,9,     -999.0,     -999.0,9,     -999.0
33RO20110926,        A10,      44,          1,          2,      11702,2,20111008,       2230,   -30.0180,    -6.8086,       4058,  3766.7,   2.3725,  34.8785,2,  34.8795,2,    234.4,2,   233.9,2,    51.5,2,    23.7,2,    0.00,2,   1.607,2,   0.003,2,   0.002,2,   0.040,3,-999.000000,9,    2351,2,  -999.0,9, -999.00,   7.7124,2,       25,-999.000,9,-999.0000,9, -999.00,9,  -999.0,9,  -999.0,   0.034,3, -999.00,9,-999.0000,9, -999.00,9, 3766.70,  -999.0,9,   2.0542,     27.871,    35.0439,2,     -999.0,9,     -999.0,9,     -999.0,     -999.0,9,     -999.0
33RO20110926,        A10,      44,          1,          1,      11701,2,20111008,       2230,   -30.0180,    -6.8086,       4058,  4132.4,   2.3976,  34.8796,2,  34.8789,2,    235.2,2,   233.6,2,    52.1,2,    23.7,2,    0.00,2,   1.605,2,   0.004,2,   0.002,2,   0.000,2,-999.000000,9,  2353.7,2,  -999.0,9, -999.00,    7.722,6,       25,-999.000,9,-999.0000,9, -999.00,9,  -999.0,9,  -999.0,   0.036,3, -999.00,9,-999.0000,9, -999.00,9, 4132.40,  -999.0,9,   2.0370,     27.872,    35.0434,2,     -999.0,9,     -999.0,9,     -999.0,     -999.0,9,     -999.0