BOTTLE,20220815CCHSIOAMB
EXPOCODE,SECT_ID,STNNBR,CASTNO,SAMPNO,BTLNBR,BTLNBR_FLAG_W,DATE,TIME,LATITUDE,LONGITUDE,DEPTH,CTDPRS,CTDTMP,CTDSAL,CTDSAL_FLAG_W,SALNTY,SALNTY_FLAG_W,CTDOXY,CTDOXY_FLAG_W,OXYGEN,OXYGEN_FLAG_W,SILCAT,SILCAT_FLAG_W,NITRAT,NITRAT_FLAG_W,NITRIT,NITRIT_FLAG_W,PHSPHT,PHSPHT_FLAG_W,CFC-11,CFC-11_FLAG_W,CFC-12,CFC-12_FLAG_W,SF6,SF6_FLAG_W,TCARBN,TCARBN_FLAG_W,ALKALI,ALKALI_FLAG_W,PCO2,PCO2_FLAG_W,PCO2TMP,PH_SWS,PH_SWS_FLAG_W,PH_TMP,TRITUM,TRITUM_FLAG_W,HELIUM,HELIUM_FLAG_W,DELC13,DELC13_FLAG_W,DELC14,DELC14_FLAG_W,C14ERR,CCL4,CCL4_FLAG_W,DELO18,DELO18_FLAG_W,DOC,DOC_FLAG_W,TDN,TDN_FLAG_W,CTDRAW,14C-DOC,14C-DOC_FLAG_W,THETA,SIG0,SALTREF,SALTREF_FLAG_W,BLACKC,BLACKC_FLAG_W,PIGMENTS,PIGMENTS_FLAG_W,14C-DOCERR,13C-DOC,13C-DOC_FLAG_W,13C-DOCERR
,,,,,,,,,,,METERS,DBAR,ITS-90,PSS-78,,PSS-78,,UMOL/KG,,UMOL/KG,,UMOL/KG,,UMOL/KG,,UMOL/KG,,UMOL/KG,,PMOL/KG,,PMOL/KG,,FMOL/KG,,UMOL/KG,,UMOL/KG,,UATM,,DEG C,,,DEG C,TU,,NMOL/KG,,/MILLE,,/MILLE,,/MILLE,PMOL/KG,,/MILLE,,UMOL/KG,,UMOL/KG,,DBAR,/MILLE,,DEG C,KG/M^3,G/KG,,,,,,/MILLE,/MILLE,,/MILLE
33RO20110926,        A10,      94,          1,         24,      11714,2,20111024,       0516,   -30.0003,   -38.0164,       3916,     5.5,  20.1270,  36.5036,2,-999.0000,9,    226.3,2,   226.2,2,     0.7,2,     0.0,2,    0.01,2,   0.019,4,   2.082,2,   1.283,2,   1.275,2,     2082.4,6,  2392.6,2,  -999.0,9, -999.00,     8.03,2,       25,-999.000,9,-999.0000,9, -999.00,9,  -999.0,9,  -999.0,   3.310,4, -999.00,9,-999.0000,9, -999.00,9,    5.50,  -999.0,9,  20.1259,     25.876,     -999.0,5,     -999.0,9,     -999.0,1,     -999.0,     -999.0,9,     -999.0
33RO20110926,        A10,      94,          1,         23,      11713,2,20111024,       0516,   -30.0003,   -38.0164,       3916,    45.4,  20.1294,  36.5013,2,-999.0000,9,    227.5,2,   226.5,2,     0.7,2,     0.0,2,    0.01,2,   0.025,4,-999.000,9,-999.000,9,-999.000,9,-999.000000,9,  2391.8,6,  -999.0,9, -999.00,   8.0295,6,       25,-999.000,9,-999.0000,9, -999.00,9,  -999.0,9,  -999.0,-999.000,5, -999.00,9,-999.0000,9, -999.00,9,   45.40,  -999.0,9,  20.1209,     25.874,     -999.0,5,     -999.0,9,     -999.0,9,     -999.0,     -999.0,9,     -999.0
33RO20110926,        A10,      94,          1,         22,      11712,2,20111024,       0516,   -30.0003,   -38.0164,       3916,    84.3,  20.1434,  36.5048,2,-999.0000,9,    227.5,2,   226.1,2,     0.8,2,     0.0,2,    0.01,2,   0.032,4,-999.000,9,-999.000,9,-999.000,9,-999.000000,9,  2391.8,2,  -999.0,9, -999.00,    8.033,2,       25,-999.000,9,-999.0000,9, -999.00,9,  -999.0,9,  -999.0,-999.000,5, -999.00,9,-999.0000,9, -999.00,9,   84.30,  -999.0,9,  20.1276,     25.875,     -999.0,5,     -999.0,9,     -999.0,9,     -999.0,     -999.0,9,     -999.0
33RO20110926,        A10,      94,          1,         21,      11010,2,20111024,       0516,   -30.0003,   -38.0164,       3916,   134.0,  17.5909,  35.9407,2,-999.0000,9,    214.9,2,   214.7,2,     1.3,2,     2.1,2,    0.04,2,   0.180,4,   2.374,2,   1.428,2,   1.331,2,-999.000000,9,    2358,2,  -999.0,9, -999.00,   7.9639,2,       25,-999.000,9,-999.0000,9, -999.00,9,  -999.0,9,  -999.0,   1.966,4, -999.00,9,-999.0000,9, -999.00,9,  134.00,  -999.0,9,  17.5681,     26.093,     -999.0,5,     -999.0,9,     -999.0,1,     -999.0,     -999.0,9,     -999.0
33RO20110926,        A10,      94,          1,         20,      11715,2,20111024,       0516,   -30.0003,   -38.0164,       3916,   189.1,  15.6474,  35.6075,2,-999.0000,9,    207.5,2,   211.1,2,     1.9,2,     4.8,2,    0.02,2,   0.337,4,-999.000,9,-999.000,9,-999.000,9,-999.000000,9,  2340.3,2,  -999.0,9, -999.00,   7.9108,2,       25,-999.000,9,-999.0000,9, -999.00,9,  -999.0,9,  -999.0,-999.000,5, -999.00,9,-999.0000,9, -999.00,9,  189.10,  -999.0,9,  15.6178,     26.302,     -999.0,5,     -999.0,9,     -999.0,1,     -999.0,     -999.0,9,     -999.0
33RO20110926,        A10,      94,          1,         19,      11007,2,20111024,       0516,   -30.0003,   -38.0164,       3916,   278.3,  14.3271,  35.4259,2,-999.0000,9,    211.6,2,   210.5,2,     2.6,2,     7.5,2,    0.01,2,   0.472,4,   2.816,2,   1.625,2,   1.235,2,-999.000000,9,  2330.3,2,  -999.0,9, -999.00,   7.8777,2,       25,-999.000,9,-999.0000,9, -999.00,9,  -999.0,9,  -999.0,   1.171,3, -999.00,9,-999.0000,9, -999.00,9,  278.30,  -999.0,9,  14.2859,     26.455,     -999.0,5,     -999.0,9,     -999.0,9,     -999.0,     -999.0,9,     -999.0
33RO20110926,        A10,      94,          1,         18,      11710,2,20111024,       0516,   -30.0003,   -38.0164,       3916,   365.4,  13.4364,  35.3177,2,-999.0000,9,    214.2,2,   213.6,2,     3.1,2,     9.4,2,    0.01,2,   0.561,4,-999.000,9,-999.000,9,-999.000,9,-999.000000,9,  2324.2,2,  -999.0,9, -999.00,   7.8568,2,       25,-999.000,9,-999.0000,9, -999.00,9,  -999.0,9,  -999.0,-999.000,9, -999.00,9,-999.0000,9, -999.00,9,  365.40,  -999.0,9,  13.3845,     26.560,     -999.0,5,     -999.0,9,     -999.0,9,     -999.0,     -999.0,9,     -999.0
33RO20110926,        A10,      94,          1,         17,      11023,2,20111024,       0516,   -30.0003,   -38.0164,       3916,   425.6,  12.4901,  35.1665,2,-999.0000,9,    213.3,2,   212.8,2,     3.7,6,    11.3,6,    0.01,6,   0.647,4,-999.000,9,-999.000,9,-999.000,9,-999.000000,9,  2318.1,2,  -999.0,9, -999.00,   7.8327,2,       25,-999.000,9,-999.0000,9, -999.00,9,  -999.0,9,  -999.0,-999.000,9, -999.00,9,-999.0000,9, -999.00,9,  425.60,  -999.0,9,  12.4325,     26.634,     -999.0,5,     -999.0,9,     -999.0,9,     -999.0,     -999.0,9,     -999.0
33RO20110926,        A10,      94,          1,         16,      11709,2,20111024,       0516,   -30.0003,   -38.0164,       3916,   575.4,   9.4976,  34.7435,2,-999.0000,9,    206.6,2,   206.1,2,     7.8,6,    19.0,6,    0.01,6,   1.050,4,   3.190,2,   1.684,2,   0.934,2,-999.000000,9,  2297.6,2,  -999.0,9, -999.00,   7.7445,2,       25,-999.000,9,-999.0000,9, -999.00,9,  -999.0,9,  -999.0,   2.158,3, -999.00,9,-999.0000,9, -999.00,9,  575.40,  -999.0,9,   9.4319,     26.846,     -999.0,5,     -999.0,9,     -999.0,9,     -999.0,     -999.0,9,     -999.0
33RO20110926,        A10,      94,          1,         15,      11006,2,20111024,       0516,   -30.0003,   -38.0164,       3916,   714.0,   6.7105,  34.4392,2,-999.0000,9,    216.4,2,     215,2,    13.2,2,    25.2,2,    0.01,2,   1.399,4,-999.000,9,-999.000,9,-999.000,9,-999.000000,9,  2288.4,2,  -999.0,9, -999.00,   7.6813,2,       25,-999.000,9,-999.0000,9, -999.00,9,  -999.0,9,  -999.0,-999.000,9, -999.00,9,-999.0000,9, -999.00,9,  714.00,  -999.0,9,   6.6433,     27.025,     -999.0,5,     -999.0,9,     -999.0,9,     -999.0,     -999.0,9,     -999.0
33RO20110926,        A10,      94,          1,         14,      11708,2,20111024,       0516,   -30.0003,   -38.0164,       3916,   891.2,   4.6836,  34.3037,2,-999.0000,9,    222.3,2,   223.6,2,    22.5,2,    29.1,2,    0.01,2,   1.672,4,   2.840,2,   1.400,2,   0.625,2,-999.000000,9,  2289.4,2,  -999.0,9, -999.00,   7.6473,2,       25,-999.000,9,-999.0000,9, -999.00,9,  -999.0,9,  -999.0,   4.287,3, -999.00,9,-999.0000,9, -999.00,9,  891.20,  -999.0,9,   4.6125,     27.167,     -999.0,5,     -999.0,9,     -999.0,9,     -999.0,     -999.0,9,     -999.0
33RO20110926,        A10,      94,          1,         13,      11031,2,20111024,       0516,   -30.0003,   -38.0164,       3916,  1025.3,   3.9433,  34.3244,2,-999.0000,9,    211.6,2,   211.2,2,    32.0,2,    31.2,2,    0.01,2,   1.842,4,-999.000,9,-999.000,9,-999.000,9,-999.000000,9,  2297.4,2,  -999.0,9, -999.00,   7.6184,2,       25,-999.000,9,-999.0000,9, -999.00,9,  -999.0,9,  -999.0,-999.000,9, -999.00,9,-999.0000,9, -999.00,9, 1025.30,  -999.0,9,   3.8662,     27.263,     -999.0,5,     -999.0,9,     -999.0,9,     -999.0,     -999.0,9,     -999.0
33RO20110926,        A10,      94,          1,         12,      11027,2,20111024,       0516,   -30.0003,   -38.0164,       3916,  1199.3,   3.2880,  34.4041,2,-999.0000,9,    197.2,2,   198.1,2,    45.3,6,    32.7,6,    0.01,6,   2.008,4,   1.158,2,   0.560,2,   0.183,2,-999.000000,9,  2310.4,2,  -999.0,9, -999.00,   7.5964,2,       25,-999.000,9,-999.0000,9, -999.00,9,  -999.0,9,  -999.0,   2.202,3, -999.00,9,-999.0000,9, -999.00,9, 1199.30,  -999.0,9,   3.2022,     27.390,     -999.0,5,     -999.0,9,     -999.0,9,     -999.0,     -999.0,9,     -999.0
33RO20110926,        A10,      94,          1,         11,      11707,2,20111024,       0516,   -30.0003,   -38.0164,       3916,  1399.1,   3.0060,  34.5297,2,-999.0000,9,    189.1,2,   188.6,2,    53.3,2,    32.1,2,    0.01,2,   2.058,4,-999.000,9,-999.000,9,-999.000,9,-999.000000,9,  2321.6,6,  -999.0,9, -999.00,   7.5978,6,       25,-999.000,9,-999.0000,9, -999.00,9,  -999.0,9,  -999.0,-999.000,9, -999.00,9,-999.0000,9, -999.00,9, 1399.10,  -999.0,9,   2.9065,     27.518,     -999.0,5,     -999.0,9,     -999.0,9,     -999.0,     -999.0,9,     -999.0
33RO20110926,        A10,      94,          1,         10,      11003,2,20111024,       0516,   -30.0003,   -38.0164,       3916,  1575.4,   2.9068,  34.6353,2,-999.0000,9,    193.2,2,   193.2,2,    54.3,2,    30.7,2,    0.01,2,   1.982,4,   0.225,2,   0.108,2,   0.000,2,-999.000000,9,  2326.6,2,  -999.0,9, -999.00,   7.6152,2,       25,-999.000,9,-999.0000,9, -999.00,9,  -999.0,9,  -999.0,   0.819,3, -999.00,9,-999.0000,9, -999.00,9, 1575.40,  -999.0,9,   2.7936,     27.612,     -999.0,5,     -999.0,9,     -999.0,9,     -999.0,     -999.0,9,     -999.0
33RO20110926,        A10,      94,          1,          9,      11706,2,20111024,       0516,   -30.0003,   -38.0164,       3916,  1850.0,   2.8399,  34.7600,2,-999.0000,9,    209.7,2,   210.7,2,    50.1,6,    27.4,6,    0.01,6,   1.766,4,-999.000,9,-999.000,9,-999.000,9,-999.000000,9,  2329.6,2,  -999.0,9, -999.00,   7.6553,2,       25,-999.000,9,-999.0000,9, -999.00,9,  -999.0,9,  -999.0,-999.000,9, -999.00,9,-999.0000,9, -999.00,9, 1850.00,  -999.0,9,   2.7036,     27.720,     -999.0,5,     -999.0,9,     -999.0,9,     -999.0,     -999.0,9,     -999.0
33RO20110926,        A10,      94,          1,          8,      11033,2,20111024,       0516,   -30.0003,   -38.0164,       3916,  2021.3,   2.8426,  34.8101,2,-999.0000,9,    219.5,2,   219.5,2,    46.1,6,    26.0,6,    0.01,6,   1.647,4,   0.036,2,   0.020,2,   0.036,2,-999.000000,9,  2328.8,2,  -999.0,9, -999.00,   7.6735,2,       25,-999.000,9,-999.0000,9, -999.00,9,  -999.0,9,  -999.0,   0.308,3, -999.00,9,-999.0000,9, -999.00,9, 2021.30,  -999.0,9,   2.6909,     27.761,     -999.0,5,     -999.0,9,     -999.0,9,     -999.0,     -999.0,9,     -999.0
33RO20110926,        A10,      94,          1,          7,      11705,2,20111024,       0516,   -30.0003,   -38.0164,       3916,  2252.6,   2.9120,  34.8685,2,-999.0000,9,    233.7,2,   235.2,2,    38.9,6,    23.5,6,    0.01,6,   1.468,4,-999.000,9,-999.000,9,-999.000,9,-999.000000,9,  2326.8,2,  -999.0,9, -999.00,   7.7025,2,       25,-999.000,9,-999.0000,9, -999.00,9,  -999.0,9,  -999.0,-999.000,9, -999.00,9,-999.0000,9, -999.00,9, 2252.60,  -999.0,9,   2.7377,     27.803,     -999.0,5,     -999.0,9,     -999.0,9,     -999.0,     -999.0,9,     -999.0
33RO20110926,        A10,      94,          1,          6,      11029,2,20111024,       0516,   -30.0003,   -38.0164,       3916,  2407.0,   2.8998,  34.8857,2,-999.0000,9,    238.8,2,   240.4,2,    36.8,6,    22.9,6,    0.01,6,   1.412,4,   0.044,2,   0.023,2,   0.000,2,-999.000000,9,  2326.4,2,  -999.0,9, -999.00,   7.7146,2,       25,-999.000,9,-999.0000,9, -999.00,9,  -999.0,9,  -999.0,   0.357,3, -999.00,9,-999.0000,9, -999.00,9, 2407.00,  -999.0,9,   2.7109,     27.819,     -999.0,5,     -999.0,9,     -999.0,9,     -999.0,     -999.0,9,     -999.0
33RO20110926,        A10,      94,          1,          5,      11704,2,20111024,       0516,   -30.0003,   -38.0164,       3916,  2701.3,   2.8796,  34.9119,2,-999.0000,9,    247.4,2,   248.4,2,    33.1,6,    20.9,6,    0.01,6,   1.314,4,   0.055,2,   0.031,2,   0.000,2,-999.000000,9,  2326.4,2,  -999.0,9, -999.00,   7.7294,2,       25,-999.000,9,-999.0000,9, -999.00,9,  -999.0,9,  -999.0,   0.413,3, -999.00,9,-999.0000,9, -999.00,9, 2701.30,  -999.0,9,   2.6621,     27.845,     -999.0,5,     -999.0,9,     -999.0,9,     -999.0,     -999.0,9,     -999.0
33RO20110926,        A10,      94,          1,          4,      11030,2,20111024,       0516,   -30.0003,   -38.0164,       3916,  2919.6,   2.8169,  34.9167,2,-999.0000,9,    251.6,2,   250.8,2,    32.7,6,    21.1,6,    0.01,6,   1.292,4,   0.060,2,   0.032,2,   0.000,2,-999.000000,9,  2327.3,2,  -999.0,9, -999.00,   7.7314,2,       25,-999.000,9,-999.0000,9, -999.00,9,  -999.0,9,  -999.0,   0.443,3, -999.00,9,-999.0000,9, -999.00,9, 2919.60,  -999.0,9,   2.5785,     27.856,     -999.0,5,     -999.0,9,     -999.0,9,     -999.0,     -999.0,9,     -999.0
33RO20110926,        A10,      94,          1,          3,      11703,2,20111024,       0516,   -30.0003,   -38.0164,       3916,  3200.6,   2.6572,  34.9091,2,-999.0000,9,    252.6,2,   251.9,2,    35.7,2,    20.9,2,    0.01,2,   1.331,4,   0.051,2,   0.028,2,   0.000,2,-999.000000,9,  2330.3,2,  -999.0,9, -999.00,   7.7324,2,       25,-999.000,9,-999.0000,9, -999.00,9,  -999.0,9,  -999.0,   0.411,3, -999.00,9,-999.0000,9, -999.00,9, 3200.60,  -999.0,9,   2.3930,     27.866,     -999.0,5,     -999.0,9,     -999.0,9,     -999.0,     -999.0,9,     -999.0
33RO20110926,        A10,      94,          1,          2,      11702,2,20111024,       0516,   -30.0003,   -38.0164,       3916,  3502.0,   2.3484,  34.8838,2,-999.0000,9,    250.8,2,   250.7,2,    44.5,2,    22.1,2,    0.01,2,   1.441,4,   0.042,2,   0.024,2,   0.051,2,-999.000000,9,    2333,2,  -999.0,9, -999.00,   7.7236,2,       25,-999.000,9,-999.0000,9, -999.00,9,  -999.0,9,  -999.0,   0.371,3, -999.00,9,-999.0000,9, -999.00,9, 3502.00,  -999.0,9,   2.0597,     27.873,     -999.0,5,     -999.0,9,     -999.0,9,     -999.0,     -999.0,9,     -999.0
33RO20110926,        A10,      94,          1,          1,      11701,2,20111024,       0516,   -30.0003,   -38.0164,       3916,  3917.4,   1.6711,  34.8127,2,-999.0000,9,    240.5,2,   238.7,2,    71.7,2,    25.7,2,    0.01,2,   1.845,4,   0.023,6,   0.014,6,   0.208,6,-999.000000,9,  2346.8,6,  -999.0,9, -999.00,    7.688,6,       25,-999.000,9,-999.0000,9, -999.00,9,  -999.0,9,  -999.0,   0.225,3, -999.00,9,-999.0000,9, -999.00,9, 3917.40,  -999.0,9,   1.3555,     27.870,     -999.0,5,     -999.0,9,     -999.0,9,     -999.0,     -999.0,9,     -999.0