BOTTLE,20220815CCHSIOAMB
EXPOCODE,SECT_ID,STNNBR,CASTNO,SAMPNO,BTLNBR,BTLNBR_FLAG_W,DATE,TIME,LATITUDE,LONGITUDE,DEPTH,CTDPRS,CTDTMP,CTDSAL,CTDSAL_FLAG_W,SALNTY,SALNTY_FLAG_W,CTDOXY,CTDOXY_FLAG_W,OXYGEN,OXYGEN_FLAG_W,SILCAT,SILCAT_FLAG_W,NITRAT,NITRAT_FLAG_W,NITRIT,NITRIT_FLAG_W,PHSPHT,PHSPHT_FLAG_W,CFC-11,CFC-11_FLAG_W,CFC-12,CFC-12_FLAG_W,SF6,SF6_FLAG_W,TCARBN,TCARBN_FLAG_W,ALKALI,ALKALI_FLAG_W,PCO2,PCO2_FLAG_W,PCO2TMP,PH_SWS,PH_SWS_FLAG_W,PH_TMP,TRITUM,TRITUM_FLAG_W,HELIUM,HELIUM_FLAG_W,DELC13,DELC13_FLAG_W,DELC14,DELC14_FLAG_W,C14ERR,CCL4,CCL4_FLAG_W,DELO18,DELO18_FLAG_W,DOC,DOC_FLAG_W,TDN,TDN_FLAG_W,CTDRAW,14C-DOC,14C-DOC_FLAG_W,THETA,SIG0,SALTREF,SALTREF_FLAG_W,BLACKC,BLACKC_FLAG_W,PIGMENTS,PIGMENTS_FLAG_W,14C-DOCERR,13C-DOC,13C-DOC_FLAG_W,13C-DOCERR
,,,,,,,,,,,METERS,DBAR,ITS-90,PSS-78,,PSS-78,,UMOL/KG,,UMOL/KG,,UMOL/KG,,UMOL/KG,,UMOL/KG,,UMOL/KG,,PMOL/KG,,PMOL/KG,,FMOL/KG,,UMOL/KG,,UMOL/KG,,UATM,,DEG C,,,DEG C,TU,,NMOL/KG,,/MILLE,,/MILLE,,/MILLE,PMOL/KG,,/MILLE,,UMOL/KG,,UMOL/KG,,DBAR,/MILLE,,DEG C,KG/M^3,G/KG,,,,,,/MILLE,/MILLE,,/MILLE
33RO20110926,        A10,      27,          1,         24,      11714,2,20111004,       1737,   -29.4342,     2.4338,     -999.0,     4.5,  17.6565,  35.7978,2,  35.7972,2,    242.0,2,   242.4,2,     1.4,2,     0.0,2,    0.00,2,   0.143,2,   2.433,2,   1.465,2,   1.505,2,     2077.1,2,  2354.3,6,  -999.0,9, -999.00,   7.9795,6,       25,-999.000,9,-999.0000,9,    1.12,2,    43.1,2,     3.1,   3.064,3, -999.00,9,  61.2878,2,    5.65,2,    4.50,  -999.0,9,  17.6557,     25.968,    35.9660,2,     -999.0,9,     -999.0,1,     -999.0,     -999.0,9,     -999.0
33RO20110926,        A10,      27,          1,         23,      11713,2,20111004,       1737,   -29.4342,     2.4338,     -999.0,    46.0,  17.5376,  35.8169,2,  35.8140,2,    242.2,2,   243.4,2,     1.3,2,     0.0,2,    0.00,2,   0.151,2,-999.000,9,-999.000,9,-999.000,9,     2077.5,2,  2354.2,2,  -999.0,9, -999.00,    7.985,2,       25,-999.000,9,-999.0000,9, -999.00,9,  -999.0,9,  -999.0,-999.000,9, -999.00,9,  61.0146,2,    4.49,2,   46.00,  -999.0,9,  17.5298,     26.012,    35.9829,2,     -999.0,9,     -999.0,9,     -999.0,     -999.0,9,     -999.0
33RO20110926,        A10,      27,          1,         22,      11712,2,20111004,       1737,   -29.4342,     2.4338,     -999.0,    71.2,  16.7254,  35.7128,2,  35.7120,2,    245.4,2,   243.7,2,     1.5,2,     0.3,2,    0.09,2,   0.177,2,   2.462,2,   1.481,2,   1.484,2,       2079,2,  2344.9,2,  -999.0,9, -999.00,   7.9749,2,       25,-999.000,9,-999.0000,9, -999.00,9,  -999.0,9,  -999.0,   2.662,3, -999.00,9,  59.9902,2,    3.38,3,   71.20,  -999.0,9,  16.7137,     26.127,    35.8803,2,     -999.0,9,     -999.0,1,     -999.0,     -999.0,9,     -999.0
33RO20110926,        A10,      27,          1,         21,      11010,2,20111004,       1737,   -29.4342,     2.4338,     -999.0,    95.0,  16.5124,  35.6958,2,  35.6968,2,    241.0,2,     238,2,     1.8,2,     0.9,2,    0.39,2,   0.228,2,-999.000,9,-999.000,9,-999.000,9,     2082.7,2,  2347.6,2,  -999.0,9, -999.00,   7.9629,2,       25,-999.000,9,-999.0000,9, -999.00,9,  -999.0,9,  -999.0,-999.000,9, -999.00,9,  61.7561,2,    5.53,2,   95.00,  -999.0,9,  16.4970,     26.165,    35.8651,2,     -999.0,9,     -999.0,1,     -999.0,     -999.0,9,     -999.0
33RO20110926,        A10,      27,          1,         20,      11715,2,20111004,       1737,   -29.4342,     2.4338,     -999.0,   144.5,  16.2968,  35.6613,2,  35.6596,2,    236.1,2,   236.1,2,     2.1,2,     1.2,2,    0.64,2,   0.256,2,-999.000,9,-999.000,9,-999.000,9,     2083.6,2,  2340.6,2,  -999.0,9, -999.00,   7.9559,2,       25,-999.000,9,-999.0000,9, -999.00,9,  -999.0,9,  -999.0,-999.000,9, -999.00,9,  56.7317,2,    5.74,2,  144.50,  -999.0,9,  16.2735,     26.192,    35.8277,2,     -999.0,9,     -999.0,9,     -999.0,     -999.0,9,     -999.0
33RO20110926,        A10,      27,          1,         19,      11007,2,20111004,       1737,   -29.4342,     2.4338,     -999.0,   190.3,  15.1423,  35.4518,2,  35.4563,2,    220.4,2,   220.6,2,     2.6,2,     4.9,2,    0.02,2,   0.449,2,   2.649,2,   1.581,2,   1.419,2,     2098.8,2,  2329.1,2,  -999.0,9, -999.00,   7.9088,2,       25,-999.000,9,-999.0000,9, -999.00,9,  -999.0,9,  -999.0,   1.264,3, -999.00,9,  55.5902,2,    9.48,2,  190.30,  -999.0,9,  15.1132,     26.297,    35.6235,2,     -999.0,9,     -999.0,9,     -999.0,     -999.0,9,     -999.0
33RO20110926,        A10,      27,          1,         18,      11710,2,20111004,       1737,   -29.4342,     2.4338,     -999.0,   240.3,  13.6692,  35.2127,2,  35.2154,2,    220.0,2,   220.2,2,     2.9,6,     7.3,6,    0.02,6,   0.602,6,-999.000,9,-999.000,9,-999.000,9,     2108.9,2,  2315.5,2,  -999.0,9, -999.00,   7.8687,2,       25,-999.000,9,-999.0000,9, -999.00,9,  -999.0,9,  -999.0,-999.000,9, -999.00,9,  53.3854,2, -999.00,9,  240.30,  -999.0,9,  13.6349,     26.428,    35.3815,2,     -999.0,9,     -999.0,9,     -999.0,     -999.0,9,     -999.0
33RO20110926,        A10,      27,          1,         17,      11023,2,20111004,       1737,   -29.4342,     2.4338,     -999.0,   290.0,  12.8738,  35.1161,2,  35.1168,2,    217.6,2,   218.5,2,     3.5,2,     9.5,2,    0.01,2,   0.736,2,   2.986,2,   1.722,2,   1.372,2,     2115.8,2,  2310.7,2,  -999.0,9, -999.00,   7.8437,2,       25,-999.000,9,-999.0000,9, -999.00,9,  -999.0,9,  -999.0,   1.059,3, -999.00,9,   49.239,2, -999.00,9,  290.00,  -999.0,9,  12.8340,     26.515,    35.2824,2,     -999.0,9,     -999.0,9,     -999.0,     -999.0,9,     -999.0
33RO20110926,        A10,      27,          1,         16,      11709,2,20111004,       1737,   -29.4342,     2.4338,     -999.0,   340.4,  12.1325,  35.0524,2,  35.0508,2,    212.0,2,   213.2,2,     4.4,2,    12.1,2,    0.01,2,   0.890,2,-999.000,9,-999.000,9,-999.000,9,     2124.6,2,  2312.1,2,  -999.0,9, -999.00,   7.8157,2,       25,-999.000,9,-999.0000,9, -999.00,9,  -999.0,9,  -999.0,-999.000,9, -999.00,9,  47.0732,2, -999.00,9,  340.40,  -999.0,9,  12.0875,     26.612,    35.2161,2,     -999.0,9,     -999.0,9,     -999.0,     -999.0,9,     -999.0
33RO20110926,        A10,      27,          1,         15,      11006,2,20111004,       1737,   -29.4342,     2.4338,     -999.0,   375.2,  11.4023,  34.9665,2,  34.9682,2,    213.0,2,   214.3,2,     5.1,2,    13.7,2,    0.01,2,   0.992,2,   3.178,2,   1.760,2,   1.231,2,       2128,2,  2308.2,2,  -999.0,9, -999.00,   7.7977,2,       25,-999.000,9,-999.0000,9, -999.00,9,  -999.0,9,  -999.0,   1.100,3, -999.00,9,  46.0976,2, -999.00,9,  375.20,  -999.0,9,  11.3546,     26.688,    35.1331,2,     -999.0,9,     -999.0,9,     -999.0,     -999.0,9,     -999.0
33RO20110926,        A10,      27,          1,         14,      11708,2,20111004,       1737,   -29.4342,     2.4338,     -999.0,   424.4,  10.4341,  34.8452,2,  34.8445,2,    207.5,2,   207.9,2,     6.6,6,    16.6,6,    0.01,6,   1.163,6,-999.000,9,-999.000,9,-999.000,9,     2139.7,2,  2298.7,2,  -999.0,9, -999.00,   7.7616,2,       25,-999.000,9,-999.0000,9, -999.00,9,  -999.0,9,  -999.0,-999.000,9, -999.00,9,  46.3902,2, -999.00,9,  424.40,  -999.0,9,  10.3830,     26.762,    35.0088,2,     -999.0,9,     -999.0,9,     -999.0,     -999.0,9,     -999.0
33RO20110926,        A10,      27,          1,         13,      11031,2,20111004,       1737,   -29.4342,     2.4338,     -999.0,   540.2,   8.5129,  34.6336,2,  34.6312,2,    184.4,2,   183.4,2,    12.2,2,    23.8,2,    0.01,2,   1.632,2,   2.932,2,   1.555,2,   0.889,2,     2168.2,2,  2293.1,4,  -999.0,9, -999.00,-999.0000,5,  -999.00,-999.000,9,-999.0000,9, -999.00,9,  -999.0,9,  -999.0,   1.482,3, -999.00,9,  45.4634,2, -999.00,9,  540.20,  -999.0,9,   8.4552,     26.915,    34.7945,2,     -999.0,9,     -999.0,9,     -999.0,     -999.0,9,     -999.0
33RO20110926,        A10,      27,          1,         12,      11027,2,20111004,       1737,   -29.4342,     2.4338,     -999.0,   639.9,   6.9730,  34.4926,2,  34.4896,2,    184.3,2,   183.9,2,    16.6,2,    27.4,2,    0.01,2,   1.881,2,-999.000,9,-999.000,9,-999.000,9,     2180.5,2,  2288.1,6,  -999.0,9, -999.00,   7.6382,6,       25,-999.000,9,-999.0000,9, -999.00,9,  -999.0,9,  -999.0,-999.000,9, -999.00,9,  44.0098,2, -999.00,9,  639.90,  -999.0,9,   6.9118,     27.026,    34.6523,2,     -999.0,9,     -999.0,9,     -999.0,     -999.0,9,     -999.0
33RO20110926,        A10,      27,          1,         11,      11707,2,20111004,       1737,   -29.4342,     2.4338,     -999.0,   750.9,   5.6082,  34.3891,2,  34.3846,2,    196.2,2,   194.8,2,    21.6,2,    29.7,2,    0.01,2,   2.031,2,   2.596,2,   1.314,2,   0.665,2,       2186,2,  2289.6,2,  -999.0,9, -999.00,   7.6204,2,       25,-999.000,9,-999.0000,9, -999.00,9,  -999.0,9,  -999.0,   2.074,3, -999.00,9,   40.322,2, -999.00,9,  750.90,  -999.0,9,   5.5436,     27.123,    34.5468,2,     -999.0,9,     -999.0,9,     -999.0,     -999.0,9,     -999.0
33RO20110926,        A10,      27,          1,         10,      11003,2,20111004,       1737,   -29.4342,     2.4338,     -999.0,   850.6,   4.5832,  34.3591,2,  34.3576,2,    198.6,2,   196.8,2,    29.4,2,    31.3,2,    0.00,2,   2.150,2,-999.000,9,-999.000,9,-999.000,9,     2196.7,2,  2295.5,2,  -999.0,9, -999.00,   7.6102,2,       25,-999.000,9,-999.0000,9, -999.00,9,  -999.0,9,  -999.0,-999.000,9, -999.00,9,   39.639,2, -999.00,9,  850.60,  -999.0,9,   4.5162,     27.220,    34.5196,2,     -999.0,9,     -999.0,9,     -999.0,     -999.0,9,     -999.0
33RO20110926,        A10,      27,          1,          9,      11706,2,20111004,       1737,   -29.4342,     2.4338,     -999.0,  1001.2,   3.8987,  34.4018,2,  34.4011,2,    187.9,2,   189.2,2,    40.2,2,    32.6,2,    0.00,2,   2.266,2,   1.397,2,   0.677,2,   0.265,2,     2222.7,2,  2306.6,2,  -999.0,9, -999.00,   7.5922,2,       25,-999.000,9,-999.0000,9, -999.00,9,  -999.0,9,  -999.0,   1.451,3, -999.00,9,-999.0000,5, -999.00,9, 1001.20,  -999.0,9,   3.8238,     27.327,    34.5633,6,     -999.0,9,     -999.0,9,     -999.0,     -999.0,9,     -999.0
33RO20110926,        A10,      27,          1,          8,      11033,2,20111004,       1737,   -29.4342,     2.4338,     -999.0,  1170.0,   3.3863,  34.5210,2,  34.5195,2,    178.4,2,   177.6,2,    49.6,2,    32.7,2,    0.01,2,   2.291,2,   0.531,6,   0.249,6,   0.080,6,     2231.4,2,  2319.2,2,  -999.0,9, -999.00,   7.5881,2,       25,-999.000,9,-999.0000,9, -999.00,9,  -999.0,9,  -999.0,   0.673,3, -999.00,9,  39.5317,2, -999.00,9, 1170.00,  -999.0,9,   3.3017,     27.473,    34.6823,2,     -999.0,9,     -999.0,9,     -999.0,     -999.0,9,     -999.0
33RO20110926,        A10,      27,          1,          7,      11705,2,20111004,       1737,   -29.4342,     2.4338,     -999.0,  1340.3,   3.2439,  34.6290,2,  34.6284,2,    183.1,2,   182.9,2,    49.9,6,    31.2,6,    0.01,6,   2.164,6,   0.211,2,   0.098,2,   0.032,2,     2231.1,2,  2324.6,2,  -999.0,9, -999.00,   7.6042,2,       25,-999.000,9,-999.0000,9, -999.00,9,  -999.0,9,  -999.0,   0.329,3, -999.00,9,  40.7317,2, -999.00,9, 1340.30,  -999.0,9,   3.1466,     27.575,    34.7917,2,     -999.0,9,     -999.0,9,     -999.0,     -999.0,9,     -999.0
33RO20110926,        A10,      27,          1,          6,      11029,2,20111004,       1737,   -29.4342,     2.4338,     -999.0,  1509.8,   3.2175,  34.7194,2,-999.0000,9,    192.5,2,   194.1,2,    46.3,2,    29.2,2,    0.00,2,   2.011,2,   0.083,2,   0.040,2,   0.000,2,     2222.8,2,  -999.0,5,  -999.0,9, -999.00,-999.0000,5,  -999.00,-999.000,9,-999.0000,9, -999.00,9,  -999.0,9,  -999.0,   0.170,3, -999.00,9,   42.722,2, -999.00,9, 1509.80,  -999.0,9,   3.1060,     27.651,     -999.0,5,     -999.0,9,     -999.0,9,     -999.0,     -999.0,9,     -999.0
33RO20110926,        A10,      27,          1,          5,      11704,2,20111004,       1737,   -29.4342,     2.4338,     -999.0,  1690.2,   3.1731,  34.7886,2,  34.7890,2,    204.8,2,     207,2,    42.7,2,    27.1,2,    0.01,2,   1.854,2,   0.034,2,   0.017,2,   0.000,2,       2210,2,  2328.9,2,  -999.0,9, -999.00,   7.6595,4,       25,-999.000,9,-999.0000,9, -999.00,9,  -999.0,9,  -999.0,   0.087,3, -999.00,9,  41.7951,2, -999.00,9, 1690.20,  -999.0,9,   3.0463,     27.712,    34.9530,2,     -999.0,9,     -999.0,9,     -999.0,     -999.0,9,     -999.0
33RO20110926,        A10,      27,          1,          4,      11030,2,20111004,       1737,   -29.4342,     2.4338,     -999.0,  1900.0,   3.0550,  34.8308,2,  34.8303,2,    215.8,2,   216.1,2,    41.8,2,    25.6,2,    0.00,2,   1.745,2,   0.020,2,   0.010,2,   0.000,2,     2203.4,2,  -999.0,5,  -999.0,9, -999.00,-999.0000,5,  -999.00,-999.000,9,-999.0000,9, -999.00,9,  -999.0,9,  -999.0,   0.068,3, -999.00,9,   41.161,2, -999.00,9, 1900.00,  -999.0,9,   2.9110,     27.758,    34.9945,2,     -999.0,9,     -999.0,9,     -999.0,     -999.0,9,     -999.0
33RO20110926,        A10,      27,          1,          3,      11703,2,20111004,       1737,   -29.4342,     2.4338,     -999.0,  2191.4,   2.7294,  34.8236,2,  34.8243,2,    218.8,2,   219.7,2,    49.2,2,    25.8,2,    0.00,2,   1.760,2,-999.000,9,-999.000,9,-999.000,9,     2208.4,2,  2333.7,2,  -999.0,9, -999.00,   7.6765,2,       25,-999.000,9,-999.0000,9, -999.00,9,  -999.0,9,  -999.0,-999.000,9, -999.00,9,-999.0000,5, -999.00,9, 2191.40,  -999.0,9,   2.5640,     27.784,    34.9885,2,     -999.0,9,     -999.0,9,     -999.0,     -999.0,9,     -999.0
33RO20110926,        A10,      27,          1,          2,      11702,2,20111004,       1737,   -29.4342,     2.4338,     -999.0,  2491.2,   2.5255,  34.8421,2,  34.8419,2,    226.5,2,   225.8,2,    51.5,2,    24.9,2,    0.00,2,   1.699,2,-999.000,9,-999.000,9,-999.000,9,     2208.7,2,  2339.3,2,  -999.0,9, -999.00,   7.6885,2,       25,-999.000,9,-999.0000,9, -999.00,9,  -999.0,9,  -999.0,-999.000,9, -999.00,9,  42.3707,2, -999.00,9, 2491.20,  -999.0,9,   2.3355,     27.817,    35.0062,2,     -999.0,9,     -999.0,9,     -999.0,     -999.0,9,     -999.0
33RO20110926,        A10,      27,          1,          1,      11701,2,20111004,       1737,   -29.4342,     2.4338,     -999.0,  2818.6,   2.4113,  34.8516,2,  34.8517,2,    230.2,2,   229.2,2,    52.9,6,    24.7,6,    0.01,6,   1.668,6,   0.011,2,   0.006,2,   0.000,2,     2210.6,2,  2341.4,6,  -999.0,9, -999.00,   7.6969,6,       25,-999.000,9,-999.0000,9, -999.00,9,  -999.0,9,  -999.0,   0.047,3, -999.00,9,   43.639,2, -999.00,9, 2818.60,  -999.0,9,   2.1918,     27.837,    35.0161,2,     -999.0,9,     -999.0,9,     -999.0,     -999.0,9,     -999.0