BOTTLE,20220815CCHSIOAMB
EXPOCODE,SECT_ID,STNNBR,CASTNO,SAMPNO,BTLNBR,BTLNBR_FLAG_W,DATE,TIME,LATITUDE,LONGITUDE,DEPTH,CTDPRS,CTDTMP,CTDSAL,CTDSAL_FLAG_W,SALNTY,SALNTY_FLAG_W,CTDOXY,CTDOXY_FLAG_W,OXYGEN,OXYGEN_FLAG_W,SILCAT,SILCAT_FLAG_W,NITRAT,NITRAT_FLAG_W,NITRIT,NITRIT_FLAG_W,PHSPHT,PHSPHT_FLAG_W,CFC-11,CFC-11_FLAG_W,CFC-12,CFC-12_FLAG_W,SF6,SF6_FLAG_W,TCARBN,TCARBN_FLAG_W,ALKALI,ALKALI_FLAG_W,PCO2,PCO2_FLAG_W,PCO2TMP,PH_SWS,PH_SWS_FLAG_W,PH_TMP,TRITUM,TRITUM_FLAG_W,HELIUM,HELIUM_FLAG_W,DELC13,DELC13_FLAG_W,DELC14,DELC14_FLAG_W,C14ERR,CCL4,CCL4_FLAG_W,DELO18,DELO18_FLAG_W,DOC,DOC_FLAG_W,TDN,TDN_FLAG_W,CTDRAW,14C-DOC,14C-DOC_FLAG_W,THETA,SIG0,SALTREF,SALTREF_FLAG_W,BLACKC,BLACKC_FLAG_W,PIGMENTS,PIGMENTS_FLAG_W,14C-DOCERR,13C-DOC,13C-DOC_FLAG_W,13C-DOCERR
,,,,,,,,,,,METERS,DBAR,ITS-90,PSS-78,,PSS-78,,UMOL/KG,,UMOL/KG,,UMOL/KG,,UMOL/KG,,UMOL/KG,,UMOL/KG,,PMOL/KG,,PMOL/KG,,FMOL/KG,,UMOL/KG,,UMOL/KG,,UATM,,DEG C,,,DEG C,TU,,NMOL/KG,,/MILLE,,/MILLE,,/MILLE,PMOL/KG,,/MILLE,,UMOL/KG,,UMOL/KG,,DBAR,/MILLE,,DEG C,KG/M^3,G/KG,,,,,,/MILLE,/MILLE,,/MILLE
33RO20110926,        A10,      75,          1,         24,      11714,2,20111020,       0604,   -30.0038,   -28.9861,       3188,     6.1,  18.2355,  35.9972,2,  35.9964,2,    232.8,2,   234.2,2,     1.0,2,     0.0,2,    0.00,2,   0.072,4,   2.307,6,   1.387,6,   1.458,6,     2077.4,6,  2363.8,2,  -999.0,9, -999.00,    7.993,2,       25,-999.000,9,-999.0000,9, -999.00,9,  -999.0,9,  -999.0,   3.929,4, -999.00,9,  63.9512,2,    4.04,2,    6.10,  -999.0,9,  18.2345,     25.977,    36.1661,2,     -999.0,9,     -999.0,1,     -999.0,     -999.0,9,     -999.0
33RO20110926,        A10,      75,          1,         23,      11713,2,20111020,       0604,   -30.0038,   -28.9861,       3188,    25.7,  18.2220,  35.9920,2,  35.9922,2,    233.4,2,   234.9,2,     1.1,2,     0.0,2,    0.00,2,   0.077,4,   2.310,2,   1.386,2,   1.438,2,     2075.8,2,  2358.7,6,  -999.0,9, -999.00,    8.001,6,       25,-999.000,9,-999.0000,9, -999.00,9,  -999.0,9,  -999.0,   3.970,4, -999.00,9,  63.6683,2,    3.59,2,   25.70,  -999.0,9,  18.2176,     25.979,    36.1619,2,     -999.0,9,     -999.0,9,     -999.0,     -999.0,9,     -999.0
33RO20110926,        A10,      75,          1,         22,      11712,2,20111020,       0604,   -30.0038,   -28.9861,       3188,    84.9,  17.3659,  35.9188,2,  35.9184,2,    236.9,2,   236.4,2,     1.1,2,     0.1,2,    0.03,2,   0.101,4,   2.414,2,   1.443,2,   1.499,2,     2081.9,2,  2360.2,2,  -999.0,9, -999.00,   7.9809,2,       25,-999.000,9,-999.0000,9, -999.00,9,  -999.0,9,  -999.0,   3.834,4, -999.00,9,  62.8195,2,    3.70,2,   84.90,  -999.0,9,  17.3517,     26.136,    36.0878,2,     -999.0,9,     -999.0,1,     -999.0,     -999.0,9,     -999.0
33RO20110926,        A10,      75,          1,         21,      11010,2,20111020,       0604,   -30.0038,   -28.9861,       3188,   149.0,  16.1564,  35.6907,2,  35.6887,2,    221.7,2,   224.2,2,     1.4,6,     2.5,6,    0.03,6,   0.222,4,   2.549,2,   1.510,2,   1.374,2,     2091.9,2,  2345.2,2,  -999.0,9, -999.00,   7.9388,2,       25,-999.000,9,-999.0000,9, -999.00,9,  -999.0,9,  -999.0,   1.967,4, -999.00,9,  54.6049,2,    5.35,2,  149.00,  -999.0,9,  16.1326,     26.246,    35.8570,2,     -999.0,9,     -999.0,1,     -999.0,     -999.0,9,     -999.0
33RO20110926,        A10,      75,          1,         20,      11715,2,20111020,       0604,   -30.0038,   -28.9861,       3188,   225.5,  14.5560,  35.3960,2,  35.3973,2,    214.2,2,   214.1,2,     2.4,2,     6.2,2,    0.01,2,   0.423,4,   2.785,2,   1.613,2,   1.349,2,     2104.6,2,  2327.7,2,  -999.0,9, -999.00,   7.8847,2,       25,-999.000,9,-999.0000,9, -999.00,9,  -999.0,9,  -999.0,   1.201,3, -999.00,9,  53.4049,2, -999.00,9,  225.50,  -999.0,9,  14.5224,     26.381,    35.5642,2,     -999.0,9,     -999.0,9,     -999.0,     -999.0,9,     -999.0
33RO20110926,        A10,      75,          1,         19,      11007,2,20111020,       0604,   -30.0038,   -28.9861,       3188,   301.2,  13.6509,  35.2814,2,  35.2830,2,    213.4,2,     214,2,     2.8,2,     8.1,2,    0.01,2,   0.516,4,   2.639,3,   1.497,3,   1.244,3,     2111.8,2,  2320.4,2,  -999.0,9, -999.00,   7.8598,2,       25,-999.000,9,-999.0000,9, -999.00,9,  -999.0,9,  -999.0,   1.163,3, -999.00,9,  48.6634,2, -999.00,9,  301.20,  -999.0,9,  13.6079,     26.489,    35.4494,2,     -999.0,9,     -999.0,9,     -999.0,     -999.0,9,     -999.0
33RO20110926,        A10,      75,          1,         18,      11710,2,20111020,       0604,   -30.0038,   -28.9861,       3188,   374.2,  12.7375,  35.1841,2,  35.1847,2,    216.7,2,   216.8,2,     3.3,6,     9.9,6,    0.01,6,   0.588,4,   3.023,2,   1.710,2,   1.303,2,     2117.7,2,  2312.9,2,  -999.0,9, -999.00,   7.8387,2,       25,-999.000,9,-999.0000,9, -999.00,9,  -999.0,9,  -999.0,   1.314,3, -999.00,9,  49.1415,2, -999.00,9,  374.20,  -999.0,9,  12.6863,     26.598,    35.3506,2,     -999.0,9,     -999.0,9,     -999.0,     -999.0,9,     -999.0
33RO20110926,        A10,      75,          1,         17,      11023,2,20111020,       0604,   -30.0038,   -28.9861,       3188,   424.6,  12.0067,  35.0861,2,  35.0879,2,    215.7,2,   216.1,2,     4.0,2,    11.8,2,    0.01,2,   0.695,4,   3.090,2,   1.728,2,   1.228,2,     2122.9,2,  2308.2,2,  -999.0,9, -999.00,   7.8207,2,       25,-999.000,9,-999.0000,9, -999.00,9,  -999.0,9,  -999.0,   1.059,3, -999.00,9,  49.1122,2, -999.00,9,  424.60,  -999.0,9,  11.9507,     26.666,    35.2533,2,     -999.0,9,     -999.0,9,     -999.0,     -999.0,9,     -999.0
33RO20110926,        A10,      75,          1,         16,      11709,2,20111020,       0604,   -30.0038,   -28.9861,       3188,   499.5,  10.6530,  34.8910,2,  34.8923,2,    208.8,2,   210.1,2,     5.9,2,    15.6,2,    0.01,2,   0.887,4,   3.172,2,   1.726,2,   1.126,2,     2134.6,2,  2303.7,2,  -999.0,9, -999.00,   7.7745,2,       25,-999.000,9,-999.0000,9, -999.00,9,  -999.0,9,  -999.0,   1.270,3, -999.00,9,  46.0683,2, -999.00,9,  499.50,  -999.0,9,  10.5919,     26.766,    35.0568,2,     -999.0,9,     -999.0,9,     -999.0,     -999.0,9,     -999.0
33RO20110926,        A10,      75,          1,         15,      11006,2,20111020,       0604,   -30.0038,   -28.9861,       3188,   600.3,   9.1097,  34.6918,2,  34.6933,2,    206.6,2,   206.4,2,     8.3,2,    19.6,2,    0.01,2,   1.099,4,   3.234,2,   1.713,2,   0.932,2,     2147.6,2,    2295,2,  -999.0,9, -999.00,   7.7354,2,       25,-999.000,9,-999.0000,9, -999.00,9,  -999.0,9,  -999.0,   1.624,3, -999.00,9,  45.8537,2, -999.00,9,  600.30,  -999.0,9,   9.0428,     26.870,    34.8569,2,     -999.0,9,     -999.0,9,     -999.0,     -999.0,9,     -999.0
33RO20110926,        A10,      75,          1,         14,      11708,2,20111020,       0604,   -30.0038,   -28.9861,       3188,   701.5,   7.2020,  34.4900,2,  34.4928,2,    207.9,2,     207,2,    12.9,2,    24.5,2,    0.01,2,   1.363,4,   3.175,2,   1.623,2,   0.795,2,     2161.9,2,  2290.9,2,  -999.0,9, -999.00,   7.6743,2,       25,-999.000,9,-999.0000,9, -999.00,9,  -999.0,9,  -999.0,   2.211,3, -999.00,9,   45.961,2, -999.00,9,  701.50,  -999.0,9,   7.1334,     27.005,    34.6554,2,     -999.0,9,     -999.0,9,     -999.0,     -999.0,9,     -999.0
33RO20110926,        A10,      75,          1,         13,      11031,2,20111020,       0604,   -30.0038,   -28.9861,       3188,   801.3,   5.5614,  34.3518,2,  34.3530,2,    217.2,2,   216.3,2,    17.8,2,    27.5,2,    0.01,2,   1.548,4,   3.103,2,   1.559,2,   0.754,2,     2170.7,2,  2284.1,2,  -999.0,9, -999.00,   7.6475,2,       25,-999.000,9,-999.0000,9, -999.00,9,  -999.0,9,  -999.0,   2.588,3, -999.00,9,  43.6976,2, -999.00,9,  801.30,  -999.0,9,   5.4925,     27.108,    34.5150,2,     -999.0,9,     -999.0,9,     -999.0,     -999.0,9,     -999.0
33RO20110926,        A10,      75,          1,         12,      11027,2,20111020,       0604,   -30.0038,   -28.9861,       3188,   899.3,   4.5555,  34.2917,2,  34.2925,2,    222.5,2,   223.1,2,    22.8,2,    29.2,2,    0.01,2,   1.668,4,   2.912,2,   1.439,2,   0.664,2,     2177.6,2,  2285.5,2,  -999.0,9, -999.00,   7.6364,2,       25,-999.000,9,-999.0000,9, -999.00,9,  -999.0,9,  -999.0,   2.896,3, -999.00,9,  42.6537,2, -999.00,9,  899.30,  -999.0,9,   4.4846,     27.172,    34.4542,2,     -999.0,9,     -999.0,9,     -999.0,     -999.0,9,     -999.0
33RO20110926,        A10,      75,          1,         11,      11707,2,20111020,       0604,   -30.0038,   -28.9861,       3188,  1001.3,   3.9298,  34.3150,2,  34.3153,2,    212.8,2,   214.2,2,    31.4,6,    30.9,6,    0.01,6,   1.816,4,   2.215,2,   1.086,2,   0.417,2,     2193.2,2,  2293.6,2,  -999.0,9, -999.00,   7.6114,2,       25,-999.000,9,-999.0000,9, -999.00,9,  -999.0,9,  -999.0,   2.433,3, -999.00,9,  42.1463,2, -999.00,9, 1001.30,  -999.0,9,   3.8548,     27.256,    34.4771,2,     -999.0,9,     -999.0,9,     -999.0,     -999.0,9,     -999.0
33RO20110926,        A10,      75,          1,         10,      11003,2,20111020,       0604,   -30.0038,   -28.9861,       3188,  1152.0,   3.5355,  34.3969,2,  34.3963,2,    195.4,2,   195.3,2,    42.4,2,    32.5,2,    0.01,2,   1.984,4,   1.296,2,   0.633,2,   0.226,2,       2220,2,  2309.7,2,  -999.0,9, -999.00,   7.5992,2,       25,-999.000,9,-999.0000,9, -999.00,9,  -999.0,9,  -999.0,   1.715,3, -999.00,9,  40.6049,2, -999.00,9, 1152.00,  -999.0,9,   3.4513,     27.361,    34.5585,2,     -999.0,9,     -999.0,9,     -999.0,     -999.0,9,     -999.0
33RO20110926,        A10,      75,          1,          9,      11706,2,20111020,       0604,   -30.0038,   -28.9861,       3188,  1322.0,   3.2024,  34.4779,2,  34.4774,2,    188.3,2,   188.4,2,    50.4,2,    32.7,2,    0.01,2,   2.048,4,   0.740,2,   0.360,2,   0.139,2,     2231.9,2,  2318.8,6,  -999.0,9, -999.00,   7.5922,6,       25,-999.000,9,-999.0000,9, -999.00,9,  -999.0,9,  -999.0,   1.199,3, -999.00,9,   40.878,2, -999.00,9, 1322.00,  -999.0,9,   3.1073,     27.458,    34.6400,2,     -999.0,9,     -999.0,9,     -999.0,     -999.0,9,     -999.0
33RO20110926,        A10,      75,          1,          8,      11033,2,20111020,       0604,   -30.0038,   -28.9861,       3188,  1551.0,   2.9261,  34.6235,2,  34.6222,2,    190.1,2,   190.7,2,    54.6,2,    31.0,2,    0.01,2,   1.992,4,   0.241,2,   0.117,2,   0.045,2,     2233.3,3,  2324.5,2,  -999.0,9, -999.00,   7.6034,2,       25,-999.000,9,-999.0000,9, -999.00,9,  -999.0,9,  -999.0,   0.673,3, -999.00,9,  41.2585,2, -999.00,9, 1551.00,  -999.0,9,   2.8147,     27.600,    34.7854,2,     -999.0,9,     -999.0,9,     -999.0,     -999.0,9,     -999.0
33RO20110926,        A10,      75,          1,          7,      11705,2,20111020,       0604,   -30.0038,   -28.9861,       3188,  1747.1,   2.8396,  34.7065,2,  34.7059,2,    199.2,2,   199.4,2,    53.8,6,    29.2,6,    0.01,6,   1.872,4,   0.104,2,   0.051,2,   0.000,2,       2226,3,  2327.6,2,  -999.0,9, -999.00,   7.6264,2,       25,-999.000,9,-999.0000,9, -999.00,9,  -999.0,9,  -999.0,   0.440,3, -999.00,9,  39.5805,2, -999.00,9, 1747.10,  -999.0,9,   2.7125,     27.676,    34.8696,2,     -999.0,9,     -999.0,9,     -999.0,     -999.0,9,     -999.0
33RO20110926,        A10,      75,          1,          6,      11029,2,20111020,       0604,   -30.0038,   -28.9861,       3188,  1999.7,   2.7660,  34.7828,2,  34.7834,2,    213.4,2,   213.1,2,    50.7,2,    26.9,2,    0.02,2,   1.736,4,   0.039,2,   0.021,2,   0.000,2,     2214.3,3,  2329.8,2,  -999.0,9, -999.00,   7.6555,2,       25,-999.000,9,-999.0000,9, -999.00,9,  -999.0,9,  -999.0,   0.246,3, -999.00,9,  41.0732,2, -999.00,9, 1999.70,  -999.0,9,   2.6175,     27.746,    34.9474,2,     -999.0,9,     -999.0,9,     -999.0,     -999.0,9,     -999.0
33RO20110926,        A10,      75,          1,          5,      11704,2,20111020,       0604,   -30.0038,   -28.9861,       3188,  2300.9,   2.7499,  34.8449,2,  34.8446,2,    228.2,2,   229.1,2,    44.5,2,    24.3,2,    0.02,2,   1.558,4,   0.014,2,   0.011,2,   0.042,2,       2202,3,    2331,2,  -999.0,9, -999.00,   7.6954,2,       25,-999.000,9,-999.0000,9, -999.00,9,  -999.0,9,  -999.0,   0.157,3, -999.00,9,   42.039,2, -999.00,9, 2300.90,  -999.0,9,   2.5739,     27.799,    35.0089,6,     -999.0,9,     -999.0,9,     -999.0,     -999.0,9,     -999.0
33RO20110926,        A10,      75,          1,          4,      11030,2,20111020,       0604,   -30.0038,   -28.9861,       3188,  2601.2,   2.7820,  34.8848,2,  34.8868,2,    240.2,2,     241,2,    38.5,2,    22.6,2,    0.01,2,   1.421,4,   0.008,2,   0.005,2,   0.018,2,     2190.3,2,  2331.1,2,  -999.0,9, -999.00,   7.7144,2,       25,-999.000,9,-999.0000,9, -999.00,9,  -999.0,9,  -999.0,   0.121,3, -999.00,9,  42.7902,2, -999.00,9, 2601.20,  -999.0,9,   2.5764,     27.833,    35.0513,2,     -999.0,9,     -999.0,9,     -999.0,     -999.0,9,     -999.0
33RO20110926,        A10,      75,          1,          3,      11703,2,20111020,       0604,   -30.0038,   -28.9861,       3188,  2824.5,   2.7133,  34.8911,2,  34.8918,2,    243.2,2,   243.9,2,    39.2,2,    22.3,2,    0.02,2,   1.404,4,   0.012,2,   0.007,2,   0.000,2,     2188.6,2,  2327.6,2,  -999.0,9, -999.00,   7.7166,2,       25,-999.000,9,-999.0000,9, -999.00,9,  -999.0,9,  -999.0,   0.150,3, -999.00,9,  43.2488,2, -999.00,9, 2824.50,  -999.0,9,   2.4869,     27.845,    35.0563,2,     -999.0,9,     -999.0,9,     -999.0,     -999.0,9,     -999.0
33RO20110926,        A10,      75,          1,          2,      11702,2,20111020,       0604,   -30.0038,   -28.9861,       3188,  3025.6,   2.6376,  34.8946,2,  34.8961,2,    245.9,2,   245.7,2,    40.0,2,    21.9,2,    0.02,2,   1.398,4,   0.011,2,   0.007,2,   0.000,2,     2188.4,2,  2329.7,2,  -999.0,9, -999.00,   7.7236,2,       25,-999.000,9,-999.0000,9, -999.00,9,  -999.0,9,  -999.0,   0.147,3, -999.00,9,  44.0098,2, -999.00,9, 3025.60,  -999.0,9,   2.3922,     27.856,    35.0607,2,     -999.0,9,     -999.0,9,     -999.0,     -999.0,9,     -999.0
33RO20110926,        A10,      75,          1,          1,      11701,2,20111020,       0604,   -30.0038,   -28.9861,       3188,  3193.1,   2.5200,  34.8879,2,  34.8961,4,    246.1,2,     246,2,    43.1,2,    22.2,2,    0.02,2,   1.445,4,   0.014,6,   0.009,6,   0.013,6,       2193,6,  2332.9,2,  -999.0,9, -999.00,   7.7204,2,       25,-999.000,9,-999.0000,9, -999.00,9,  -999.0,9,  -999.0,   0.165,3, -999.00,9,  37.7268,2, -999.00,9, 3193.10,  -999.0,9,   2.2599,     27.867,    35.0607,2,     -999.0,9,     -999.0,9,     -999.0,     -999.0,9,     -999.0