BOTTLE,20220815CCHSIOAMB
EXPOCODE,SECT_ID,STNNBR,CASTNO,SAMPNO,BTLNBR,BTLNBR_FLAG_W,DATE,TIME,LATITUDE,LONGITUDE,DEPTH,CTDPRS,CTDTMP,CTDSAL,CTDSAL_FLAG_W,SALNTY,SALNTY_FLAG_W,CTDOXY,CTDOXY_FLAG_W,OXYGEN,OXYGEN_FLAG_W,SILCAT,SILCAT_FLAG_W,NITRAT,NITRAT_FLAG_W,NITRIT,NITRIT_FLAG_W,PHSPHT,PHSPHT_FLAG_W,CFC-11,CFC-11_FLAG_W,CFC-12,CFC-12_FLAG_W,SF6,SF6_FLAG_W,TCARBN,TCARBN_FLAG_W,ALKALI,ALKALI_FLAG_W,PCO2,PCO2_FLAG_W,PCO2TMP,PH_SWS,PH_SWS_FLAG_W,PH_TMP,TRITUM,TRITUM_FLAG_W,HELIUM,HELIUM_FLAG_W,DELC13,DELC13_FLAG_W,DELC14,DELC14_FLAG_W,C14ERR,CCL4,CCL4_FLAG_W,DELO18,DELO18_FLAG_W,DOC,DOC_FLAG_W,TDN,TDN_FLAG_W,CTDRAW,14C-DOC,14C-DOC_FLAG_W,THETA,SIG0,SALTREF,SALTREF_FLAG_W,BLACKC,BLACKC_FLAG_W,PIGMENTS,PIGMENTS_FLAG_W,14C-DOCERR,13C-DOC,13C-DOC_FLAG_W,13C-DOCERR
,,,,,,,,,,,METERS,DBAR,ITS-90,PSS-78,,PSS-78,,UMOL/KG,,UMOL/KG,,UMOL/KG,,UMOL/KG,,UMOL/KG,,UMOL/KG,,PMOL/KG,,PMOL/KG,,FMOL/KG,,UMOL/KG,,UMOL/KG,,UATM,,DEG C,,,DEG C,TU,,NMOL/KG,,/MILLE,,/MILLE,,/MILLE,PMOL/KG,,/MILLE,,UMOL/KG,,UMOL/KG,,DBAR,/MILLE,,DEG C,KG/M^3,G/KG,,,,,,/MILLE,/MILLE,,/MILLE
33RO20110926,        A10,      97,          1,         24,      11714,2,20111025,       0052,   -30.0000,   -39.3837,       4934,     4.9,  18.3896,  36.0164,2,  36.0175,2,    236.0,2,   236.7,2,     0.7,2,     0.0,2,    0.00,2,   0.040,4,   2.301,2,   1.390,2,   1.411,2,     2075.6,6,  2363.2,6,  -999.0,9, -999.00,    8.005,2,       25,-999.000,9,-999.0000,9, -999.00,9,  -999.0,9,  -999.0,   2.852,4, -999.00,9,  61.0341,2,    3.05,2,    4.90,  -999.0,9,  18.3887,     25.952,    36.1873,2,     -999.0,9,     -999.0,1,     -999.0,     -999.0,9,     -999.0
33RO20110926,        A10,      97,          1,         22,      11712,2,20111025,       0052,   -30.0000,   -39.3837,       4934,    95.4,  17.6661,  35.9438,2,  35.9425,2,    232.1,2,   231.8,2,     0.9,2,     0.2,2,    0.05,2,   0.085,4,   2.357,2,   1.419,2,   1.408,2,     2081.9,2,  -999.0,5,  -999.0,9, -999.00,-999.0000,5,  -999.00,-999.000,9,-999.0000,9, -999.00,9,  -999.0,9,  -999.0,   2.441,4, -999.00,9,  61.4341,2,    4.04,2,   95.40,  -999.0,9,  17.6498,     26.079,    36.1120,2,     -999.0,9,     -999.0,1,     -999.0,     -999.0,9,     -999.0
33RO20110926,        A10,      97,          1,         23,      11713,4,20111025,       0052,   -30.0000,   -39.3837,       4934,    94.8,  17.6742,  35.9447,2,  35.9497,2,    232.2,2,   232.6,2,     0.8,2,     0.1,2,    0.04,2,   0.077,4,-999.000,9,-999.000,9,-999.000,9,     2082.7,2,  -999.0,9,  -999.0,9, -999.00,-999.0000,9,  -999.00,-999.000,9,-999.0000,9, -999.00,9,  -999.0,9,  -999.0,-999.000,5, -999.00,9,  59.1512,2,    4.08,2,   94.80,  -999.0,9,  17.6580,     26.084,    36.1193,2,     -999.0,9,     -999.0,9,     -999.0,     -999.0,9,     -999.0
33RO20110926,        A10,      97,          1,         21,      11010,2,20111025,       0052,   -30.0000,   -39.3837,       4934,   149.2,  16.6646,  35.7955,2,  35.8041,2,    220.1,2,   221.5,2,     1.3,6,     2.3,6,    0.02,6,   0.175,4,   2.462,2,   1.472,2,   1.365,2,       2096,2,  2350.9,2,  -999.0,9, -999.00,   7.9559,2,       25,-999.000,9,-999.0000,9, -999.00,9,  -999.0,9,  -999.0,   1.758,4, -999.00,9,  55.3561,2,    5.61,2,  149.20,  -999.0,9,  16.6402,     26.215,    35.9730,2,     -999.0,9,     -999.0,1,     -999.0,     -999.0,9,     -999.0
33RO20110926,        A10,      97,          1,         20,      11715,2,20111025,       0052,   -30.0000,   -39.3837,       4934,   210.6,  15.1459,  35.5426,2,  35.5443,2,    211.2,2,   211.5,2,     2.1,2,     5.7,2,    0.01,2,   0.356,4,   2.696,2,   1.578,2,   1.311,2,     2112.2,2,  2336.3,2,  -999.0,9, -999.00,   7.8988,2,       25,-999.000,9,-999.0000,9, -999.00,9,  -999.0,9,  -999.0,   0.843,3, -999.00,9,  49.9415,2, -999.00,9,  210.60,  -999.0,9,  15.1136,     26.365,    35.7119,2,     -999.0,9,     -999.0,9,     -999.0,     -999.0,9,     -999.0
33RO20110926,        A10,      97,          1,         19,      11007,2,20111025,       0052,   -30.0000,   -39.3837,       4934,   300.2,  13.8873,  35.3890,2,  35.3903,2,    212.5,2,   212.5,2,     2.8,2,     8.3,2,    0.01,2,   0.472,4,   2.856,2,   1.642,2,   1.275,2,     2120.3,2,  2327.4,2,  -999.0,9, -999.00,   7.8718,2,       25,-999.000,9,-999.0000,9, -999.00,9,  -999.0,9,  -999.0,   0.836,3, -999.00,9,  47.0146,2, -999.00,9,  300.20,  -999.0,9,  13.8438,     26.521,    35.5572,2,     -999.0,9,     -999.0,9,     -999.0,     -999.0,9,     -999.0
33RO20110926,        A10,      97,          1,         18,      11710,2,20111025,       0052,   -30.0000,   -39.3837,       4934,   384.5,  12.4930,  35.1727,2,  35.1776,2,    212.6,2,   212.4,2,     3.8,2,    11.3,2,    0.01,2,   0.613,4,   3.020,2,   1.689,2,   1.178,2,     2127.3,2,  2315.9,2,  -999.0,9, -999.00,   7.8377,2,       25,-999.000,9,-999.0000,9, -999.00,9,  -999.0,9,  -999.0,   1.013,3, -999.00,9,-999.0000,5, -999.00,9,  384.50,  -999.0,9,  12.4410,     26.641,    35.3435,2,     -999.0,9,     -999.0,9,     -999.0,     -999.0,9,     -999.0
33RO20110926,        A10,      97,          1,         17,      11023,2,20111025,       0052,   -30.0000,   -39.3837,       4934,   489.6,  10.6601,  34.9039,2,  34.9035,2,    208.1,2,   207.5,2,     6.0,6,    15.9,6,    0.01,6,   0.823,4,   3.131,2,   1.697,2,   1.022,2,     2140.8,2,  2303.1,2,  -999.0,9, -999.00,   7.7807,2,       25,-999.000,9,-999.0000,9, -999.00,9,  -999.0,9,  -999.0,   1.293,3, -999.00,9,   44.361,2, -999.00,9,  489.60,  -999.0,9,  10.6002,     26.772,    35.0681,2,     -999.0,9,     -999.0,9,     -999.0,     -999.0,9,     -999.0
33RO20110926,        A10,      97,          1,         16,      11709,2,20111025,       0052,   -30.0000,   -39.3837,       4934,   680.3,   6.8484,  34.4529,2,  34.4598,2,    217.0,2,   216.9,2,    12.7,2,    24.5,2,    0.01,2,   1.273,4,   3.290,2,   1.678,2,   0.851,2,     2161.8,2,  2288.4,2,  -999.0,9, -999.00,   7.6914,2,       25,-999.000,9,-999.0000,9, -999.00,9,  -999.0,9,  -999.0,   2.606,3, -999.00,9,     43.6,2, -999.00,9,  680.30,  -999.0,9,   6.7838,     27.022,    34.6223,2,     -999.0,9,     -999.0,9,     -999.0,     -999.0,9,     -999.0
33RO20110926,        A10,      97,          1,         15,      11006,2,20111025,       0052,   -30.0000,   -39.3837,       4934,   850.5,   4.8471,  34.2999,2,  34.3019,2,    225.6,2,   226.8,2,    20.5,2,    28.6,2,    0.01,2,   1.523,4,   3.032,2,   1.506,2,   0.723,2,     2175.7,2,  2287.9,2,  -999.0,9, -999.00,   7.6533,2,       25,-999.000,9,-999.0000,9, -999.00,9,  -999.0,9,  -999.0,   3.510,3, -999.00,9,  43.1805,2, -999.00,9,  850.50,  -999.0,9,   4.7785,     27.147,    34.4636,2,     -999.0,9,     -999.0,9,     -999.0,     -999.0,9,     -999.0
33RO20110926,        A10,      97,          1,         14,      11708,2,20111025,       0052,   -30.0000,   -39.3837,       4934,   984.8,   4.0050,  34.3045,2,  34.3076,2,    218.8,2,   218.2,2,    29.6,2,    30.6,2,    0.01,2,   1.712,4,   2.344,2,   1.143,2,   0.466,2,     2191.1,2,  2295.3,2,  -999.0,9, -999.00,   7.6282,2,       25,-999.000,9,-999.0000,9, -999.00,9,  -999.0,9,  -999.0,   3.224,3, -999.00,9,  39.7268,2, -999.00,9,  984.80,  -999.0,9,   3.9309,     27.242,    34.4694,2,     -999.0,9,     -999.0,9,     -999.0,     -999.0,9,     -999.0
33RO20110926,        A10,      97,          1,         13,      11031,2,20111025,       0052,   -30.0000,   -39.3837,       4934,  1130.0,   3.4858,  34.3574,2,  34.3580,2,    204.9,2,   204.5,2,    39.5,2,    32.2,2,    0.01,2,   1.880,4,   1.570,2,   0.757,2,   0.256,2,     2207.9,2,  2303.7,2,  -999.0,9, -999.00,   7.6074,2,       25,-999.000,9,-999.0000,9, -999.00,9,  -999.0,9,  -999.0,   2.559,3, -999.00,9,-999.0000,5, -999.00,9, 1130.00,  -999.0,9,   3.4039,     27.335,    34.5200,2,     -999.0,9,     -999.0,9,     -999.0,     -999.0,9,     -999.0
33RO20110926,        A10,      97,          1,         12,      11027,2,20111025,       0052,   -30.0000,   -39.3837,       4934,  1300.1,   3.1384,  34.4545,2,  34.4548,2,    192.1,2,   192.4,2,    49.1,6,    32.8,6,    0.00,6,   1.991,4,   0.845,2,   0.404,2,   0.140,2,     2223.3,2,  2313.9,2,  -999.0,9, -999.00,   7.5954,2,       25,-999.000,9,-999.0000,9, -999.00,9,  -999.0,9,  -999.0,   1.732,3, -999.00,9,  38.3024,2, -999.00,9, 1300.10,  -999.0,9,   3.0458,     27.446,    34.6172,2,     -999.0,9,     -999.0,9,     -999.0,     -999.0,9,     -999.0
33RO20110926,        A10,      97,          1,         11,      11707,2,20111025,       0052,   -30.0000,   -39.3837,       4934,  1599.9,   2.9082,  34.6399,2,  34.6411,2,    192.0,2,   192.6,2,    54.6,2,    30.7,2,    0.00,2,   1.946,4,   0.206,2,   0.098,2,   0.035,2,     2227.4,6,  2327.1,6,  -999.0,9, -999.00,   7.6143,6,       25,-999.000,9,-999.0000,9, -999.00,9,  -999.0,9,  -999.0,   0.731,3, -999.00,9,  41.7561,3, -999.00,9, 1599.90,  -999.0,9,   2.7929,     27.617,    34.8045,2,     -999.0,9,     -999.0,9,     -999.0,     -999.0,9,     -999.0
33RO20110926,        A10,      97,          1,         10,      11003,2,20111025,       0052,   -30.0000,   -39.3837,       4934,  1898.7,   2.8181,  34.7567,2,  34.7597,2,    208.1,2,   208.9,2,    51.1,2,    27.7,2,    0.00,2,   1.767,4,   0.060,2,   0.030,2,   0.000,2,     2215.4,2,  2330.2,2,  -999.0,9, -999.00,   7.6543,2,       25,-999.000,9,-999.0000,9, -999.00,9,  -999.0,9,  -999.0,   0.409,3, -999.00,9,  39.0244,2, -999.00,9, 1898.70,  -999.0,9,   2.6779,     27.722,    34.9236,2,     -999.0,9,     -999.0,9,     -999.0,     -999.0,9,     -999.0
33RO20110926,        A10,      97,          1,          9,      11706,2,20111025,       0052,   -30.0000,   -39.3837,       4934,  2149.9,   2.8456,  34.8289,2,  34.8313,2,    225.1,2,   224.5,2,    44.4,2,    25.1,2,    0.00,2,   1.583,4,   0.034,2,   0.019,2,   0.000,2,     2201.2,2,    2330,2,  -999.0,9, -999.00,   7.6863,2,       25,-999.000,9,-999.0000,9, -999.00,9,  -999.0,9,  -999.0,   0.283,3, -999.00,9,  40.6341,2, -999.00,9, 2149.90,  -999.0,9,   2.6821,     27.779,    34.9956,2,     -999.0,9,     -999.0,9,     -999.0,     -999.0,9,     -999.0
33RO20110926,        A10,      97,          1,          8,      11033,2,20111025,       0052,   -30.0000,   -39.3837,       4934,  2550.6,   2.9539,  34.9066,2,  34.9088,2,    244.3,2,     244,2,    33.1,6,    21.7,6,    0.01,6,   1.303,4,   0.064,2,   0.034,2,   0.000,2,     2182.3,2,  2323.7,2,  -999.0,9, -999.00,   7.7246,2,       25,-999.000,9,-999.0000,9, -999.00,9,  -999.0,9,  -999.0,   0.331,3, -999.00,9,  41.3854,2, -999.00,9, 2550.60,  -999.0,9,   2.7499,     27.835,    35.0735,2,     -999.0,9,     -999.0,9,     -999.0,     -999.0,9,     -999.0
33RO20110926,        A10,      97,          1,          7,      11705,2,20111025,       0052,   -30.0000,   -39.3837,       4934,  2830.7,   2.8621,  34.9200,2,  34.9222,2,    249.9,2,   250.3,2,    32.1,2,    20.8,2,    0.00,2,   1.263,4,   0.073,2,   0.038,2,   0.000,2,     2179.4,2,    2325,2,  -999.0,9, -999.00,   7.7336,2,       25,-999.000,9,-999.0000,9, -999.00,9,  -999.0,9,  -999.0,   0.328,3, -999.00,9,  39.2195,2, -999.00,9, 2830.70,  -999.0,9,   2.6318,     27.856,    35.0869,2,     -999.0,9,     -999.0,9,     -999.0,     -999.0,9,     -999.0
33RO20110926,        A10,      97,          1,          6,      11029,2,20111025,       0052,   -30.0000,   -39.3837,       4934,  3150.6,   2.6752,  34.9117,2,  34.9123,2,    251.1,2,   252.8,2,    35.0,2,    21.0,2,    0.00,2,   1.298,4,   0.060,2,   0.032,2,   0.000,2,     2180.6,2,  2328.9,2,  -999.0,9, -999.00,   7.7356,2,       25,-999.000,9,-999.0000,9, -999.00,9,  -999.0,9,  -999.0,   0.307,3, -999.00,9,  41.0927,2, -999.00,9, 3150.60,  -999.0,9,   2.4158,     27.866,    35.0770,6,     -999.0,9,     -999.0,9,     -999.0,     -999.0,9,     -999.0
33RO20110926,        A10,      97,          1,          5,      11704,2,20111025,       0052,   -30.0000,   -39.3837,       4934,  3449.2,   2.4279,  34.8912,2,  34.8937,2,    250.7,2,   250.8,2,    42.3,2,    21.8,2,    0.00,2,   1.405,4,   0.044,2,   0.026,2,   0.049,2,     2186.9,2,  2332.4,2,  -999.0,9, -999.00,   7.7214,2,       25,-999.000,9,-999.0000,9, -999.00,9,  -999.0,9,  -999.0,   0.258,3, -999.00,9,  41.0146,2, -999.00,9, 3449.20,  -999.0,9,   2.1428,     27.875,    35.0583,2,     -999.0,9,     -999.0,9,     -999.0,     -999.0,9,     -999.0
33RO20110926,        A10,      97,          1,          4,      11030,2,20111025,       0052,   -30.0000,   -39.3837,       4934,  3699.2,   1.9467,  34.8435,2,  34.8469,2,    243.8,2,   242.9,2,    60.1,2,    24.3,2,    0.00,2,   1.685,4,   0.028,2,   0.017,2,   0.109,2,     2204.1,2,  2342.5,2,  -999.0,9, -999.00,   7.7054,2,       25,-999.000,9,-999.0000,9, -999.00,9,  -999.0,9,  -999.0,   0.176,3, -999.00,9,  38.5463,2, -999.00,9, 3699.20,  -999.0,9,   1.6472,     27.876,    35.0113,2,     -999.0,9,     -999.0,9,     -999.0,     -999.0,9,     -999.0
33RO20110926,        A10,      97,          1,          3,      11703,2,20111025,       0052,   -30.0000,   -39.3837,       4934,  4038.9,   0.8973,  34.7175,2,  34.7178,2,    216.8,2,     218,2,   108.4,2,    31.1,2,    0.01,2,   2.474,4,   0.220,6,   0.105,6,   0.088,6,     2252.9,2,  2358.8,2,  -999.0,9, -999.00,   7.6104,2,       25,-999.000,9,-999.0000,9, -999.00,9,  -999.0,9,  -999.0,   0.454,3, -999.00,9,  37.3268,2, -999.00,9, 4038.90,  -999.0,9,   0.5911,     27.845,    34.8815,2,     -999.0,9,     -999.0,9,     -999.0,     -999.0,9,     -999.0
33RO20110926,        A10,      97,          1,          2,      11702,2,20111025,       0052,   -30.0000,   -39.3837,       4934,  4449.2,   0.3086,  34.6755,2,  34.6755,2,    221.2,2,   221.3,2,   124.6,2,    32.9,2,    0.01,2,   2.714,4,   0.342,2,   0.162,2,   0.046,2,     2264.7,2,  2362.2,2,  -999.0,9, -999.00,   7.6054,2,       25,-999.000,9,-999.0000,9, -999.00,9,  -999.0,9,  -999.0,   0.660,3, -999.00,9,  38.3707,2, -999.00,9, 4449.20,  -999.0,9,  -0.0235,     27.846,    34.8390,2,     -999.0,9,     -999.0,9,     -999.0,     -999.0,9,     -999.0
33RO20110926,        A10,      97,          1,          1,      11701,2,20111025,       0052,   -30.0000,   -39.3837,       4934,  4936.2,   0.2921,  34.6720,2,  34.6723,2,    222.9,2,   220.9,2,   126.6,2,    33.0,2,    0.01,2,   2.738,4,   0.388,6,   0.184,6,   0.063,6,     2267.4,6,  2370.1,2,  -999.0,9, -999.00,   7.6072,2,       25,-999.000,9,-999.0000,9, -999.00,9,  -999.0,9,  -999.0,   0.686,3, -999.00,9,-999.0000,5, -999.00,9, 4936.20,  -999.0,9,  -0.0936,     27.847,    34.8358,2,     -999.0,9,     -999.0,9,     -999.0,     -999.0,9,     -999.0