BOTTLE,20220815CCHSIOAMB
EXPOCODE,SECT_ID,STNNBR,CASTNO,SAMPNO,BTLNBR,BTLNBR_FLAG_W,DATE,TIME,LATITUDE,LONGITUDE,DEPTH,CTDPRS,CTDTMP,CTDSAL,CTDSAL_FLAG_W,SALNTY,SALNTY_FLAG_W,CTDOXY,CTDOXY_FLAG_W,OXYGEN,OXYGEN_FLAG_W,SILCAT,SILCAT_FLAG_W,NITRAT,NITRAT_FLAG_W,NITRIT,NITRIT_FLAG_W,PHSPHT,PHSPHT_FLAG_W,CFC-11,CFC-11_FLAG_W,CFC-12,CFC-12_FLAG_W,SF6,SF6_FLAG_W,TCARBN,TCARBN_FLAG_W,ALKALI,ALKALI_FLAG_W,PCO2,PCO2_FLAG_W,PCO2TMP,PH_SWS,PH_SWS_FLAG_W,PH_TMP,TRITUM,TRITUM_FLAG_W,HELIUM,HELIUM_FLAG_W,DELC13,DELC13_FLAG_W,DELC14,DELC14_FLAG_W,C14ERR,CCL4,CCL4_FLAG_W,DELO18,DELO18_FLAG_W,DOC,DOC_FLAG_W,TDN,TDN_FLAG_W,CTDRAW,14C-DOC,14C-DOC_FLAG_W,THETA,SIG0,SALTREF,SALTREF_FLAG_W,BLACKC,BLACKC_FLAG_W,PIGMENTS,PIGMENTS_FLAG_W,14C-DOCERR,13C-DOC,13C-DOC_FLAG_W,13C-DOCERR
,,,,,,,,,,,METERS,DBAR,ITS-90,PSS-78,,PSS-78,,UMOL/KG,,UMOL/KG,,UMOL/KG,,UMOL/KG,,UMOL/KG,,UMOL/KG,,PMOL/KG,,PMOL/KG,,FMOL/KG,,UMOL/KG,,UMOL/KG,,UATM,,DEG C,,,DEG C,TU,,NMOL/KG,,/MILLE,,/MILLE,,/MILLE,PMOL/KG,,/MILLE,,UMOL/KG,,UMOL/KG,,DBAR,/MILLE,,DEG C,KG/M^3,G/KG,,,,,,/MILLE,/MILLE,,/MILLE
33RO20110926,        A10,     103,          1,         24,      11714,2,20111026,       1142,   -29.4872,   -41.5903,       3774,     5.6,  19.7606,  36.3986,2,  36.3982,2,    227.9,2,   228.4,2,     0.6,2,     0.0,2,    0.00,2,   0.033,4,   2.148,6,   1.318,6,   1.360,6,     2083.8,6,  2386.4,2,  -999.0,9, -999.00,    8.022,2,       25,-999.000,9,-999.0000,9, -999.00,9,  -999.0,9,  -999.0,   3.885,4, -999.00,9,  60.3024,2,    4.40,2,    5.60,  -999.0,9,  19.7595,     25.892,    36.5699,2,     -999.0,9,     -999.0,1,     -999.0,     -999.0,9,     -999.0
33RO20110926,        A10,     103,          1,         23,      11713,2,20111026,       1142,   -29.4872,   -41.5903,       3774,    29.9,  19.7599,  36.3978,2,  36.3979,2,    228.3,2,   228.7,2,     0.6,2,     0.1,2,    0.00,2,   0.036,4,   2.147,2,   1.315,2,   1.289,2,     2083.3,2,  2386.2,6,  -999.0,9, -999.00,    8.023,6,       25,-999.000,9,-999.0000,9, -999.00,9,  -999.0,9,  -999.0,   3.570,4, -999.00,9,  59.8634,2,    4.65,2,   29.90,  -999.0,9,  19.7543,     25.893,    36.5695,2,     -999.0,9,     -999.0,9,     -999.0,     -999.0,9,     -999.0
33RO20110926,        A10,     103,          1,         22,      11712,2,20111026,       1142,   -29.4872,   -41.5903,       3774,    72.9,  19.3623,  36.3284,2,  36.3299,2,    229.9,2,   230.2,2,     0.6,2,     0.1,2,    0.00,2,   0.043,4,   2.179,2,   1.333,2,   1.277,2,     2081.2,2,  2381.8,2,  -999.0,9, -999.00,    8.019,2,       25,-999.000,9,-999.0000,9, -999.00,9,  -999.0,9,  -999.0,   4.739,4, -999.00,9,-999.0000,5,    3.07,2,   72.90,  -999.0,9,  19.3490,     25.946,    36.5012,2,     -999.0,9,     -999.0,1,     -999.0,     -999.0,9,     -999.0
33RO20110926,        A10,     103,          1,         21,      11010,2,20111026,       1142,   -29.4872,   -41.5903,       3774,   119.8,  18.3229,  36.1372,2,  36.1431,2,    230.2,2,   229.3,2,     0.7,2,     0.3,2,    0.08,2,   0.079,4,   2.281,2,   1.381,2,   1.364,2,     2084.6,2,  2372.1,2,  -999.0,9, -999.00,    8.003,2,       25,-999.000,9,-999.0000,9, -999.00,9,  -999.0,9,  -999.0,   4.676,4, -999.00,9,  53.2878,2,    4.22,2,  119.80,  -999.0,9,  18.3020,     26.067,    36.3136,2,     -999.0,9,     -999.0,1,     -999.0,     -999.0,9,     -999.0
33RO20110926,        A10,     103,          1,         20,      11715,2,20111026,       1142,   -29.4872,   -41.5903,       3774,   200.6,  15.6559,  35.6154,2,  35.6209,2,    205.7,2,   205.8,2,     1.9,6,     5.4,6,    0.01,6,   0.320,4,   2.627,2,   1.553,2,   1.313,2,     2111.8,2,    2341,2,  -999.0,9, -999.00,   7.9058,2,       25,-999.000,9,-999.0000,9, -999.00,9,  -999.0,9,  -999.0,   1.065,4, -999.00,9,-999.0000,5, -999.00,9,  200.60,  -999.0,9,  15.6245,     26.310,    35.7889,2,     -999.0,9,     -999.0,9,     -999.0,     -999.0,9,     -999.0
33RO20110926,        A10,     103,          1,         19,      11007,2,20111026,       1142,   -29.4872,   -41.5903,       3774,   255.4,  14.9275,  35.5393,2,  35.5454,2,    209.6,2,   209.4,2,     2.2,2,     6.5,2,    0.01,2,   0.385,4,   2.714,2,   1.585,2,   1.286,2,     2115.2,2,    2337,2,  -999.0,9, -999.00,   7.8918,2,       25,-999.000,9,-999.0000,9, -999.00,9,  -999.0,9,  -999.0,   1.171,3, -999.00,9,-999.0000,5, -999.00,9,  255.40,  -999.0,9,  14.8887,     26.420,    35.7130,2,     -999.0,9,     -999.0,9,     -999.0,     -999.0,9,     -999.0
33RO20110926,        A10,     103,          1,         18,      11710,2,20111026,       1142,   -29.4872,   -41.5903,       3774,   323.9,  13.8221,  35.3688,2,  35.3659,2,    211.9,2,     212,2,     2.7,2,     8.6,2,    0.01,2,   0.486,4,   2.867,2,   1.649,2,   1.282,2,     2121.1,2,  2328.7,2,  -999.0,9, -999.00,   7.8657,2,       25,-999.000,9,-999.0000,9, -999.00,9,  -999.0,9,  -999.0,   1.519,3, -999.00,9,-999.0000,5, -999.00,9,  323.90,  -999.0,9,  13.7753,     26.517,    35.5327,2,     -999.0,9,     -999.0,9,     -999.0,     -999.0,9,     -999.0
33RO20110926,        A10,     103,          1,         17,      11023,2,20111026,       1142,   -29.4872,   -41.5903,       3774,   400.9,  12.5451,  35.1758,2,  35.1779,2,    210.5,2,   210.1,2,     3.7,2,    11.4,2,    0.00,2,   0.620,4,   2.999,2,   1.698,2,   1.121,2,       2128,2,  -999.0,5,  -999.0,9, -999.00,-999.0000,5,  -999.00,-999.000,9,-999.0000,9, -999.00,9,  -999.0,9,  -999.0,   1.385,3, -999.00,9,-999.0000,5, -999.00,9,  400.90,  -999.0,9,  12.4907,     26.632,    35.3438,2,     -999.0,9,     -999.0,9,     -999.0,     -999.0,9,     -999.0
33RO20110926,        A10,     103,          1,         16,      11709,2,20111026,       1142,   -29.4872,   -41.5903,       3774,   501.2,  10.4722,  34.8751,2,  34.8802,2,    205.9,2,   206.1,2,     6.2,2,    16.6,2,    0.00,2,   0.867,4,   3.122,2,   1.693,2,   0.997,2,     2142.8,2,  2304.7,2,  -999.0,9, -999.00,   7.7705,2,       25,-999.000,9,-999.0000,9, -999.00,9,  -999.0,9,  -999.0,   1.726,3, -999.00,9,  37.7171,2, -999.00,9,  501.20,  -999.0,9,  10.4115,     26.786,    35.0446,2,     -999.0,9,     -999.0,9,     -999.0,     -999.0,9,     -999.0
33RO20110926,        A10,     103,          1,         15,      11006,2,20111026,       1142,   -29.4872,   -41.5903,       3774,   601.0,   8.5180,  34.6281,2,  34.6291,2,    206.9,2,   206.4,2,     9.3,2,    21.4,2,    0.00,2,   1.106,4,   3.195,2,   1.675,2,   0.901,2,     2155.9,2,  2293.6,2,  -999.0,9, -999.00,   7.7214,2,       25,-999.000,9,-999.0000,9, -999.00,9,  -999.0,9,  -999.0,   2.548,3, -999.00,9,  40.9366,2, -999.00,9,  601.00,  -999.0,9,   8.4536,     26.914,    34.7924,2,     -999.0,9,     -999.0,9,     -999.0,     -999.0,9,     -999.0
33RO20110926,        A10,     103,          1,         14,      11708,2,20111026,       1142,   -29.4872,   -41.5903,       3774,   851.0,   4.7809,  34.3024,2,  34.3140,3,    223.0,2,   223.5,2,    21.0,2,    28.8,2,    0.00,2,   1.551,4,   2.915,2,   1.453,2,   0.623,2,       2178,2,  2289.7,2,  -999.0,9, -999.00,   7.6513,2,       25,-999.000,9,-999.0000,9, -999.00,9,  -999.0,9,  -999.0,   4.193,3, -999.00,9,-999.0000,5, -999.00,9,  851.00,  -999.0,9,   4.7126,     27.164,    34.4758,2,     -999.0,9,     -999.0,9,     -999.0,     -999.0,9,     -999.0
33RO20110926,        A10,     103,          1,         13,      11031,2,20111026,       1142,   -29.4872,   -41.5903,       3774,   924.0,   4.2391,  34.2989,2,  34.2995,2,    220.2,2,     219,2,    26.0,6,    30.1,6,    0.00,6,   1.648,4,   2.540,2,   1.253,2,   0.520,2,     2186.6,2,  2293.4,2,  -999.0,9, -999.00,   7.6354,2,       25,-999.000,9,-999.0000,9, -999.00,9,  -999.0,9,  -999.0,   3.988,3, -999.00,9,-999.0000,5, -999.00,9,  924.00,  -999.0,9,   4.1683,     27.211,    34.4613,2,     -999.0,9,     -999.0,9,     -999.0,     -999.0,9,     -999.0
33RO20110926,        A10,     103,          1,         12,      11027,2,20111026,       1142,   -29.4872,   -41.5903,       3774,  1125.9,   3.4470,  34.3730,2,  34.3727,2,    202.4,2,     202,2,    40.8,2,    32.4,2,    0.00,2,   1.906,4,   1.413,2,   0.690,2,   0.254,2,     2212.1,2,  2307.5,2,  -999.0,9, -999.00,   7.6004,2,       25,-999.000,9,-999.0000,9, -999.00,9,  -999.0,9,  -999.0,   2.682,3, -999.00,9,  38.5073,2, -999.00,9, 1125.90,  -999.0,9,   3.3658,     27.350,    34.5348,2,     -999.0,9,     -999.0,9,     -999.0,     -999.0,9,     -999.0
33RO20110926,        A10,     103,          1,         11,      11707,2,20111026,       1142,   -29.4872,   -41.5903,       3774,  1301.7,   3.0805,  34.4862,2,  34.4850,2,    189.7,2,   189.5,2,    51.0,2,    32.7,2,    0.00,2,   2.020,4,   0.663,2,   0.321,2,   0.061,2,     2226.5,2,    2319,2,  -999.0,9, -999.00,   7.5942,2,       25,-999.000,9,-999.0000,9, -999.00,9,  -999.0,9,  -999.0,   1.561,3, -999.00,9,  40.6732,2, -999.00,9, 1301.70,  -999.0,9,   2.9882,     27.475,    34.6476,2,     -999.0,9,     -999.0,9,     -999.0,     -999.0,9,     -999.0
33RO20110926,        A10,     103,          1,         10,      11003,2,20111026,       1142,   -29.4872,   -41.5903,       3774,  1501.2,   3.2024,  34.6601,2,  34.6597,2,    192.6,2,   192.8,2,    48.4,2,    30.3,2,    0.00,2,   1.870,4,   0.205,2,   0.102,2,   0.047,2,     2221.4,6,  2324.4,6,  -999.0,9, -999.00,   7.6203,6,       25,-999.000,9,-999.0000,9, -999.00,9,  -999.0,9,  -999.0,   0.706,3, -999.00,9,  38.6439,2, -999.00,9, 1501.20,  -999.0,9,   3.0919,     27.605,    34.8231,2,     -999.0,9,     -999.0,9,     -999.0,     -999.0,9,     -999.0
33RO20110926,        A10,     103,          1,          9,      11706,2,20111026,       1142,   -29.4872,   -41.5903,       3774,  1700.6,   3.2127,  34.7692,2,  34.7717,2,    205.3,2,   208.4,2,    43.7,2,    27.2,2,    0.00,2,   1.681,4,   0.122,2,   0.061,2,   0.000,2,     2210.6,2,  2325.4,2,  -999.0,9, -999.00,   7.6513,2,       25,-999.000,9,-999.0000,9, -999.00,9,  -999.0,9,  -999.0,   0.549,3, -999.00,9,  41.5219,2, -999.00,9, 1700.60,  -999.0,9,   3.0846,     27.695,    34.9357,2,     -999.0,9,     -999.0,9,     -999.0,     -999.0,9,     -999.0
33RO20110926,        A10,     103,          1,          8,      11033,2,20111026,       1142,   -29.4872,   -41.5903,       3774,  1901.2,   3.3591,  34.8714,2,  34.8718,2,    226.7,2,   226.5,2,    33.5,6,    23.8,6,    0.00,6,   1.400,4,   0.147,2,   0.074,2,   0.031,2,     2191.6,2,  2323.1,2,  -999.0,9, -999.00,   7.6925,2,       25,-999.000,9,-999.0000,9, -999.00,9,  -999.0,9,  -999.0,   0.642,3, -999.00,9,  39.8146,2, -999.00,9, 1901.20,  -999.0,9,   3.2106,     27.763,    35.0362,2,     -999.0,9,     -999.0,9,     -999.0,     -999.0,9,     -999.0
33RO20110926,        A10,     103,          1,          7,      11705,2,20111026,       1142,   -29.4872,   -41.5903,       3774,  2100.9,   3.3639,  34.9201,2,  34.9210,2,    241.5,2,   240.5,2,    27.7,2,    21.7,2,    0.00,2,   1.254,4,   0.176,2,   0.089,2,   0.029,2,     2179.6,2,  2320.6,2,  -999.0,9, -999.00,   7.7146,2,       25,-999.000,9,-999.0000,9, -999.00,9,  -999.0,9,  -999.0,   0.736,3, -999.00,9,   41.639,2, -999.00,9, 2100.90,  -999.0,9,   3.1964,     27.804,    35.0857,2,     -999.0,9,     -999.0,9,     -999.0,     -999.0,9,     -999.0
33RO20110926,        A10,     103,          1,          6,      11029,2,20111026,       1142,   -29.4872,   -41.5903,       3774,  2301.8,   3.2546,  34.9358,2,  34.9393,2,    247.4,2,     248,2,    26.0,2,    20.7,2,    0.00,2,   1.193,4,   0.178,2,   0.090,2,   0.000,2,     2175.1,2,  2321.5,2,  -999.0,9, -999.00,   7.7266,2,       25,-999.000,9,-999.0000,9, -999.00,9,  -999.0,9,  -999.0,   0.750,3, -999.00,9,  42.1659,2, -999.00,9, 2301.80,  -999.0,9,   3.0695,     27.830,    35.1041,2,     -999.0,9,     -999.0,9,     -999.0,     -999.0,9,     -999.0
33RO20110926,        A10,     103,          1,          5,      11704,2,20111026,       1142,   -29.4872,   -41.5903,       3774,  2549.7,   3.0794,  34.9324,2,  34.9333,2,    250.3,2,   250.1,2,    27.9,2,    20.6,2,    0.00,2,   1.211,4,   0.130,2,   0.066,2,   0.030,2,       2177,2,  2323.3,2,  -999.0,9, -999.00,   7.7306,2,       25,-999.000,9,-999.0000,9, -999.00,9,  -999.0,9,  -999.0,   0.615,3, -999.00,9,  40.7415,2, -999.00,9, 2549.70,  -999.0,9,   2.8730,     27.843,    35.0980,6,     -999.0,9,     -999.0,9,     -999.0,     -999.0,9,     -999.0
33RO20110926,        A10,     103,          1,          4,      11030,2,20111026,       1142,   -29.4872,   -41.5903,       3774,  2749.4,   2.9437,  34.9262,2,  34.9283,2,    251.3,2,   250.3,2,    30.1,2,    20.8,2,    0.00,2,   1.236,4,   0.098,2,   0.051,2,   0.030,2,     2178.2,2,  2326.8,2,  -999.0,9, -999.00,   7.7326,2,       25,-999.000,9,-999.0000,9, -999.00,9,  -999.0,9,  -999.0,   0.531,3, -999.00,9,  41.8634,2, -999.00,9, 2749.40,  -999.0,9,   2.7200,     27.853,    35.0930,2,     -999.0,9,     -999.0,9,     -999.0,     -999.0,9,     -999.0
33RO20110926,        A10,     103,          1,          3,      11703,2,20111026,       1142,   -29.4872,   -41.5903,       3774,  2919.7,   2.8443,  34.9217,2,  34.9228,2,    251.5,2,     251,2,    31.7,2,    20.9,2,    0.00,2,   1.259,4,   0.084,2,   0.044,2,   0.000,2,       2179,2,  2326.5,3,  -999.0,9, -999.00,   7.7356,2,       25,-999.000,9,-999.0000,9, -999.00,9,  -999.0,9,  -999.0,   0.492,3, -999.00,9,  40.1659,2, -999.00,9, 2919.70,  -999.0,9,   2.6053,     27.859,    35.0875,2,     -999.0,9,     -999.0,9,     -999.0,     -999.0,9,     -999.0
33RO20110926,        A10,     103,          1,          2,      11702,2,20111026,       1142,   -29.4872,   -41.5903,       3774,  3120.3,   2.7100,  34.9137,2,  34.9152,2,    251.8,2,   251.3,2,    33.9,2,    21.1,2,    0.00,2,   1.277,4,   0.080,2,   0.043,2,   0.000,2,     2181.2,2,  2328.9,2,  -999.0,9, -999.00,   7.7324,2,       25,-999.000,9,-999.0000,9, -999.00,9,  -999.0,9,  -999.0,   0.414,3, -999.00,9,  42.0683,2, -999.00,9, 3120.30,  -999.0,9,   2.4531,     27.866,    35.0798,2,     -999.0,9,     -999.0,9,     -999.0,     -999.0,9,     -999.0
33RO20110926,        A10,     103,          1,          1,      11701,2,20111026,       1142,   -29.4872,   -41.5903,       3774,  3771.2,   0.7317,  34.7159,2,  34.7171,2,    222.2,2,   221.4,2,   109.7,6,    31.1,6,    0.00,6,   2.477,4,   0.227,6,   0.107,6,   0.088,6,     2253.7,6,  2362.7,6,  -999.0,9, -999.00,   7.6302,6,       25,-999.000,9,-999.0000,9, -999.00,9,  -999.0,9,  -999.0,   0.651,3, -999.00,9,  42.2634,2, -999.00,9, 3771.20,  -999.0,9,   0.4578,     27.852,    34.8808,2,     -999.0,9,     -999.0,9,     -999.0,     -999.0,9,     -999.0