BOTTLE,20220815CCHSIOAMB
EXPOCODE,SECT_ID,STNNBR,CASTNO,SAMPNO,BTLNBR,BTLNBR_FLAG_W,DATE,TIME,LATITUDE,LONGITUDE,DEPTH,CTDPRS,CTDTMP,CTDSAL,CTDSAL_FLAG_W,SALNTY,SALNTY_FLAG_W,CTDOXY,CTDOXY_FLAG_W,OXYGEN,OXYGEN_FLAG_W,SILCAT,SILCAT_FLAG_W,NITRAT,NITRAT_FLAG_W,NITRIT,NITRIT_FLAG_W,PHSPHT,PHSPHT_FLAG_W,CFC-11,CFC-11_FLAG_W,CFC-12,CFC-12_FLAG_W,SF6,SF6_FLAG_W,TCARBN,TCARBN_FLAG_W,ALKALI,ALKALI_FLAG_W,PCO2,PCO2_FLAG_W,PCO2TMP,PH_SWS,PH_SWS_FLAG_W,PH_TMP,TRITUM,TRITUM_FLAG_W,HELIUM,HELIUM_FLAG_W,DELC13,DELC13_FLAG_W,DELC14,DELC14_FLAG_W,C14ERR,CCL4,CCL4_FLAG_W,DELO18,DELO18_FLAG_W,DOC,DOC_FLAG_W,TDN,TDN_FLAG_W,CTDRAW,14C-DOC,14C-DOC_FLAG_W,THETA,SIG0,SALTREF,SALTREF_FLAG_W,BLACKC,BLACKC_FLAG_W,PIGMENTS,PIGMENTS_FLAG_W,14C-DOCERR,13C-DOC,13C-DOC_FLAG_W,13C-DOCERR
,,,,,,,,,,,METERS,DBAR,ITS-90,PSS-78,,PSS-78,,UMOL/KG,,UMOL/KG,,UMOL/KG,,UMOL/KG,,UMOL/KG,,UMOL/KG,,PMOL/KG,,PMOL/KG,,FMOL/KG,,UMOL/KG,,UMOL/KG,,UATM,,DEG C,,,DEG C,TU,,NMOL/KG,,/MILLE,,/MILLE,,/MILLE,PMOL/KG,,/MILLE,,UMOL/KG,,UMOL/KG,,DBAR,/MILLE,,DEG C,KG/M^3,G/KG,,,,,,/MILLE,/MILLE,,/MILLE
33RO20110926,        A10,      74,          1,         24,      11714,2,20111019,       2331,   -29.9998,   -28.4252,       3747,     6.6,  17.2113,  35.8031,2,  35.8015,2,    239.2,2,   239.6,2,     1.2,2,     0.0,2,    0.00,2,   0.099,4,   2.440,2,   1.466,2,   1.439,2,     2079.4,6,  2352.2,2,  -999.0,9, -999.00,   7.9819,2,       25,-999.000,9,-999.0000,9, -999.00,9,  -999.0,9,  -999.0,   3.587,4, -999.00,9,-999.0000,9, -999.00,9,    6.60,  -999.0,9,  17.2102,     26.079,    35.9704,2,     -999.0,9,     -999.0,1,     -999.0,     -999.0,9,     -999.0
33RO20110926,        A10,      74,          1,         23,      11713,2,20111019,       2331,   -29.9998,   -28.4252,       3747,    34.9,  17.2238,  35.8026,2,  35.8014,2,    240.1,2,   240.1,2,     1.2,2,     0.0,2,    0.00,2,   0.102,4,-999.000,9,-999.000,9,-999.000,9,-999.000000,5,  2348.4,6,  -999.0,9, -999.00,   7.9825,6,       25,-999.000,9,-999.0000,9, -999.00,9,  -999.0,9,  -999.0,-999.000,5, -999.00,9,-999.0000,9, -999.00,9,   34.90,  -999.0,9,  17.2179,     26.077,    35.9702,2,     -999.0,9,     -999.0,9,     -999.0,     -999.0,9,     -999.0
33RO20110926,        A10,      74,          1,         22,      11712,2,20111019,       2331,   -29.9998,   -28.4252,       3747,    72.1,  16.8922,  35.8537,2,  35.8581,2,    241.5,2,   242.2,2,     1.1,2,     0.0,2,    0.01,2,   0.104,4,-999.000,9,-999.000,9,-999.000,9,     2082.6,2,  2355.8,2,  -999.0,9, -999.00,   7.9799,2,       25,-999.000,9,-999.0000,9, -999.00,9,  -999.0,9,  -999.0,-999.000,5, -999.00,9,-999.0000,9, -999.00,9,   72.10,  -999.0,9,  16.8804,     26.201,    36.0272,2,     -999.0,9,     -999.0,9,     -999.0,     -999.0,9,     -999.0
33RO20110926,        A10,      74,          1,         21,      11010,2,20111019,       2331,   -29.9998,   -28.4252,       3747,   126.3,  16.7672,  35.8469,2,  35.8458,2,    234.7,2,   235.2,2,     1.2,6,     0.2,6,    0.49,6,   0.131,4,   2.453,2,   1.471,2,   1.388,2,     2086.9,2,  2354.8,2,  -999.0,9, -999.00,   7.9699,2,       25,-999.000,9,-999.0000,9, -999.00,9,  -999.0,9,  -999.0,   3.044,4, -999.00,9,-999.0000,9, -999.00,9,  126.30,  -999.0,9,  16.7464,     26.224,    36.0149,2,     -999.0,9,     -999.0,1,     -999.0,     -999.0,9,     -999.0
33RO20110926,        A10,      74,          1,         20,      11715,2,20111019,       2331,   -29.9998,   -28.4252,       3747,   175.2,  16.6338,  35.8233,2,  35.8225,2,    234.7,2,   235.3,2,     1.3,2,     0.5,2,    0.29,2,   0.149,4,-999.000,9,-999.000,9,-999.000,9,-999.000000,9,  2354.8,2,  -999.0,9, -999.00,   7.9689,2,       25,-999.000,9,-999.0000,9, -999.00,9,  -999.0,9,  -999.0,-999.000,5, -999.00,9,-999.0000,9, -999.00,9,  175.20,  -999.0,9,  16.6052,     26.239,    35.9915,2,     -999.0,9,     -999.0,1,     -999.0,     -999.0,9,     -999.0
33RO20110926,        A10,      74,          1,         19,      11007,2,20111019,       2331,   -29.9998,   -28.4252,       3747,   251.7,  15.5678,  35.6032,2,  35.6089,2,    226.1,2,     225,2,     1.7,2,     3.2,2,    0.01,2,   0.281,4,   2.624,2,   1.551,2,   1.419,2,     2099.2,2,  2340.7,2,  -999.0,9, -999.00,   7.9328,2,       25,-999.000,9,-999.0000,9, -999.00,9,  -999.0,9,  -999.0,   1.831,3, -999.00,9,-999.0000,9, -999.00,9,  251.70,  -999.0,9,  15.5284,     26.331,    35.7768,2,     -999.0,9,     -999.0,9,     -999.0,     -999.0,9,     -999.0
33RO20110926,        A10,      74,          1,         18,      11710,9,20111019,       2331,   -29.9998,   -28.4252,       3747,   324.6,  14.1671,  35.3890,2,-999.0000,9,    214.4,2,  -999.0,9, -999.00,9,  -999.0,9, -999.00,9,-999.000,9,-999.000,9,-999.000,9,-999.000,9,-999.000000,9,  -999.0,9,  -999.0,9, -999.00,-999.0000,9,  -999.00,-999.000,9,-999.0000,9, -999.00,9,  -999.0,9,  -999.0,-999.000,9, -999.00,9,-999.0000,9, -999.00,9,  324.60,  -999.0,9,  14.1194,     26.463,     -999.0,9,     -999.0,9,     -999.0,9,     -999.0,     -999.0,9,     -999.0
33RO20110926,        A10,      74,          1,         17,      11023,2,20111019,       2331,   -29.9998,   -28.4252,       3747,   401.7,  13.0781,  35.2732,2,  35.2772,2,    220.3,2,   219.9,2,     3.0,6,     8.9,6,    0.01,6,   0.562,4,-999.000,9,-999.000,9,-999.000,9,     2120.5,2,  2321.9,2,  -999.0,9, -999.00,   7.8548,2,       25,-999.000,9,-999.0000,9, -999.00,9,  -999.0,9,  -999.0,-999.000,9, -999.00,9,-999.0000,9, -999.00,9,  401.70,  -999.0,9,  13.0220,     26.602,    35.4435,2,     -999.0,9,     -999.0,9,     -999.0,     -999.0,9,     -999.0
33RO20110926,        A10,      74,          1,         16,      11709,2,20111019,       2331,   -29.9998,   -28.4252,       3747,   475.6,  11.5796,  35.0300,2,  35.0297,2,    212.5,2,     213,2,     4.7,2,    13.2,2,    0.00,2,   0.785,4,   3.126,2,   1.729,2,   1.171,2,-999.000000,9,  2311.5,2,  -999.0,9, -999.00,   7.8066,2,       25,-999.000,9,-999.0000,9, -999.00,9,  -999.0,9,  -999.0,   1.172,3, -999.00,9,-999.0000,9, -999.00,9,  475.60,  -999.0,9,  11.5182,     26.703,    35.1949,2,     -999.0,9,     -999.0,9,     -999.0,     -999.0,9,     -999.0
33RO20110926,        A10,      74,          1,         15,      11006,2,20111019,       2331,   -29.9998,   -28.4252,       3747,   570.9,   9.7429,  34.7710,2,  34.7767,2,    207.9,2,   208.1,2,     7.3,2,    17.9,2,    0.00,2,   1.032,4,-999.000,9,-999.000,9,-999.000,9,     2146.3,2,  2299.1,2,  -999.0,9, -999.00,   7.7515,2,       25,-999.000,9,-999.0000,9, -999.00,9,  -999.0,9,  -999.0,-999.000,9, -999.00,9,-999.0000,9, -999.00,9,  570.90,  -999.0,9,   9.6766,     26.829,    34.9407,2,     -999.0,9,     -999.0,9,     -999.0,     -999.0,9,     -999.0
33RO20110926,        A10,      74,          1,         14,      11708,2,20111019,       2331,   -29.9998,   -28.4252,       3747,   673.1,   7.5107,  34.5147,2,  34.5168,2,    208.3,2,   209.1,2,    12.0,2,    23.6,2,    0.01,2,   1.342,4,   3.242,2,   1.679,2,   0.874,2,-999.000000,9,  2289.7,2,  -999.0,9, -999.00,   7.6893,2,       25,-999.000,9,-999.0000,9, -999.00,9,  -999.0,9,  -999.0,   2.113,3, -999.00,9,-999.0000,9, -999.00,9,  673.10,  -999.0,9,   7.4434,     26.976,    34.6795,2,     -999.0,9,     -999.0,9,     -999.0,     -999.0,9,     -999.0
33RO20110926,        A10,      74,          1,         13,      11031,2,20111019,       2331,   -29.9998,   -28.4252,       3747,   775.2,   5.4584,  34.3105,2,  34.3119,2,    229.6,2,   229.8,2,    15.4,2,    26.6,2,    0.01,2,   1.516,4,-999.000,9,-999.000,9,-999.000,9,     2166.6,2,  2280.2,2,  -999.0,9, -999.00,   7.6655,2,       25,-999.000,9,-999.0000,9, -999.00,9,  -999.0,9,  -999.0,-999.000,9, -999.00,9,-999.0000,9, -999.00,9,  775.20,  -999.0,9,   5.3926,     27.083,    34.4737,2,     -999.0,9,     -999.0,9,     -999.0,     -999.0,9,     -999.0
33RO20110926,        A10,      74,          1,         12,      11027,2,20111019,       2331,   -29.9998,   -28.4252,       3747,   874.6,   4.6278,  34.2716,2,  34.2713,2,    229.0,2,   230.5,2,    20.2,6,    28.2,6,    0.01,6,   1.630,4,-999.000,9,-999.000,9,-999.000,9,-999.000000,9,  2284.2,2,  -999.0,9, -999.00,   7.6505,2,       25,-999.000,9,-999.0000,9, -999.00,9,  -999.0,9,  -999.0,-999.000,9, -999.00,9,-999.0000,9, -999.00,9,  874.60,  -999.0,9,   4.5585,     27.147,    34.4329,2,     -999.0,9,     -999.0,9,     -999.0,     -999.0,9,     -999.0
33RO20110926,        A10,      74,          1,         11,      11707,2,20111019,       2331,   -29.9998,   -28.4252,       3747,  1027.1,   3.9984,  34.3118,2,  34.3123,2,    211.6,2,   213.2,2,    30.7,6,    30.6,6,    0.01,6,   1.831,4,   2.301,6,   1.126,6,   0.430,6,-999.000000,9,  2293.6,2,  -999.0,9, -999.00,   7.6204,2,       25,-999.000,9,-999.0000,9, -999.00,9,  -999.0,9,  -999.0,   2.538,3, -999.00,9,-999.0000,9, -999.00,9, 1027.10,  -999.0,9,   3.9209,     27.247,    34.4741,2,     -999.0,9,     -999.0,9,     -999.0,     -999.0,9,     -999.0
33RO20110926,        A10,      74,          1,         10,      11003,2,20111019,       2331,   -29.9998,   -28.4252,       3747,  1225.7,   3.3599,  34.4069,2,  34.4074,2,    196.7,2,   196.1,2,    44.9,2,    32.3,2,    0.00,2,   2.030,4,-999.000,9,-999.000,9,-999.000,9,     2217.3,2,  2311.3,2,  -999.0,9, -999.00,   7.5972,2,       25,-999.000,9,-999.0000,9, -999.00,9,  -999.0,9,  -999.0,-999.000,9, -999.00,9,-999.0000,9, -999.00,9, 1225.70,  -999.0,9,   3.2713,     27.386,    34.5697,6,     -999.0,9,     -999.0,9,     -999.0,     -999.0,9,     -999.0
33RO20110926,        A10,      74,          1,          9,      11706,2,20111019,       2331,   -29.9998,   -28.4252,       3747,  1425.5,   3.0345,  34.5458,2,  34.5454,2,    187.4,2,   187.3,2,    53.8,2,    32.0,2,    0.00,2,   2.065,4,   0.456,2,   0.219,2,   0.086,2,     2228.9,2,  2324.1,6,  -999.0,9, -999.00,   7.5962,6,       25,-999.000,9,-999.0000,9, -999.00,9,  -999.0,9,  -999.0,   0.822,3, -999.00,9,-999.0000,9, -999.00,9, 1425.50,  -999.0,9,   2.9325,     27.528,    34.7083,2,     -999.0,9,     -999.0,9,     -999.0,     -999.0,9,     -999.0
33RO20110926,        A10,      74,          1,          8,      11033,2,20111019,       2331,   -29.9998,   -28.4252,       3747,  1623.3,   2.8851,  34.6566,2,  34.6560,2,    193.2,2,   192.7,2,    55.0,2,    30.2,2,    0.00,2,   1.972,4,-999.000,9,-999.000,9,-999.000,9,     2226.6,2,    2328,2,  -999.0,9, -999.00,   7.6144,2,       25,-999.000,9,-999.0000,9, -999.00,9,  -999.0,9,  -999.0,-999.000,9, -999.00,9,-999.0000,9, -999.00,9, 1623.30,  -999.0,9,   2.7681,     27.631,    34.8194,2,     -999.0,9,     -999.0,9,     -999.0,     -999.0,9,     -999.0
33RO20110926,        A10,      74,          1,          7,      11705,2,20111019,       2331,   -29.9998,   -28.4252,       3747,  1826.4,   2.8045,  34.7347,2,  34.7342,2,    203.3,2,   205.2,2,    53.1,2,    28.2,2,    0.00,2,   1.860,4,   0.076,2,   0.042,2,   0.042,2,-999.000000,9,  2328.8,2,  -999.0,9, -999.00,   7.6384,2,       25,-999.000,9,-999.0000,9, -999.00,9,  -999.0,9,  -999.0,   0.264,3, -999.00,9,-999.0000,9, -999.00,9, 1826.40,  -999.0,9,   2.6709,     27.702,    34.8980,2,     -999.0,9,     -999.0,9,     -999.0,     -999.0,9,     -999.0
33RO20110926,        A10,      74,          1,          6,      11029,2,20111019,       2331,   -29.9998,   -28.4252,       3747,  2127.1,   2.7475,  34.8154,2,  34.8206,2,    221.0,2,   221.2,2,    48.2,2,    25.6,2,    0.00,2,   1.670,4,-999.000,9,-999.000,9,-999.000,9,-999.000000,9,  2329.4,2,  -999.0,9, -999.00,   7.6755,2,       25,-999.000,9,-999.0000,9, -999.00,9,  -999.0,9,  -999.0,-999.000,9, -999.00,9,-999.0000,9, -999.00,9, 2127.10,  -999.0,9,   2.5877,     27.779,    34.9848,2,     -999.0,9,     -999.0,9,     -999.0,     -999.0,9,     -999.0
33RO20110926,        A10,      74,          1,          5,      11704,2,20111019,       2331,   -29.9998,   -28.4252,       3747,  2427.1,   2.7561,  34.8630,2,  34.8636,2,    234.3,2,   235.2,2,    42.6,2,    23.5,2,    0.00,2,   1.521,4,   0.010,2,   0.006,2,   0.000,2,     2194.8,2,  2330.9,2,  -999.0,9, -999.00,   7.7034,2,       25,-999.000,9,-999.0000,9, -999.00,9,  -999.0,9,  -999.0,   0.105,3, -999.00,9,-999.0000,9, -999.00,9, 2427.10,  -999.0,9,   2.5680,     27.815,    35.0280,2,     -999.0,9,     -999.0,9,     -999.0,     -999.0,9,     -999.0
33RO20110926,        A10,      74,          1,          4,      11030,2,20111019,       2331,   -29.9998,   -28.4252,       3747,  2776.3,   2.7544,  34.8987,2,  34.8994,2,    245.4,2,   244.8,2,    36.8,6,    21.7,6,    0.00,6,   1.378,4,-999.000,9,-999.000,9,-999.000,9,-999.000000,9,  2326.1,2,  -999.0,9, -999.00,   7.7246,2,       25,-999.000,9,-999.0000,9, -999.00,9,  -999.0,9,  -999.0,-999.000,9, -999.00,9,-999.0000,9, -999.00,9, 2776.30,  -999.0,9,   2.5319,     27.847,    35.0640,2,     -999.0,9,     -999.0,9,     -999.0,     -999.0,9,     -999.0
33RO20110926,        A10,      74,          1,          3,      11703,2,20111019,       2331,   -29.9998,   -28.4252,       3747,  3177.8,   2.5513,  34.8919,2,  34.8922,2,    247.3,2,   247.1,2,    41.6,2,    22.1,2,    0.00,2,   1.434,4,   0.013,2,   0.008,2,   0.000,2,     2189.6,2,  2329.7,2,  -999.0,9, -999.00,   7.7236,2,       25,-999.000,9,-999.0000,9, -999.00,9,  -999.0,9,  -999.0,   0.126,3, -999.00,9,-999.0000,9, -999.00,9, 3177.80,  -999.0,9,   2.2920,     27.861,    35.0567,2,     -999.0,9,     -999.0,9,     -999.0,     -999.0,9,     -999.0
33RO20110926,        A10,      74,          1,          2,      11702,2,20111019,       2331,   -29.9998,   -28.4252,       3747,  3574.9,   2.0057,  34.8382,2,  34.8395,2,    238.8,2,   237.9,2,    62.2,2,    24.7,2,    0.01,2,   1.722,4,   0.031,2,   0.016,2,   0.000,2,-999.000000,9,  2343.6,2,  -999.0,9, -999.00,   7.6964,2,       25,-999.000,9,-999.0000,9, -999.00,9,  -999.0,9,  -999.0,   0.164,3, -999.00,9,-999.0000,9, -999.00,9, 3574.90,  -999.0,9,   1.7180,     27.865,    35.0037,2,     -999.0,9,     -999.0,9,     -999.0,     -999.0,9,     -999.0
33RO20110926,        A10,      74,          1,          1,      11701,2,20111019,       2331,   -29.9998,   -28.4252,       3747,  3777.2,   1.6963,  34.8052,2,  34.8070,2,    234.0,2,   232.9,2,    75.1,2,    26.5,2,    0.01,2,   1.907,4,   0.051,6,   0.025,6,   0.043,6,       2223,6,    2348,6,  -999.0,9, -999.00,   7.6794,6,       25,-999.000,9,-999.0000,9, -999.00,9,  -999.0,9,  -999.0,   0.180,3, -999.00,9,-999.0000,9, -999.00,9, 3777.20,  -999.0,9,   1.3953,     27.863,    34.9712,2,     -999.0,9,     -999.0,9,     -999.0,     -999.0,9,     -999.0