BOTTLE,20220815CCHSIOAMB
EXPOCODE,SECT_ID,STNNBR,CASTNO,SAMPNO,BTLNBR,BTLNBR_FLAG_W,DATE,TIME,LATITUDE,LONGITUDE,DEPTH,CTDPRS,CTDTMP,CTDSAL,CTDSAL_FLAG_W,SALNTY,SALNTY_FLAG_W,CTDOXY,CTDOXY_FLAG_W,OXYGEN,OXYGEN_FLAG_W,SILCAT,SILCAT_FLAG_W,NITRAT,NITRAT_FLAG_W,NITRIT,NITRIT_FLAG_W,PHSPHT,PHSPHT_FLAG_W,CFC-11,CFC-11_FLAG_W,CFC-12,CFC-12_FLAG_W,SF6,SF6_FLAG_W,TCARBN,TCARBN_FLAG_W,ALKALI,ALKALI_FLAG_W,PCO2,PCO2_FLAG_W,PCO2TMP,PH_SWS,PH_SWS_FLAG_W,PH_TMP,TRITUM,TRITUM_FLAG_W,HELIUM,HELIUM_FLAG_W,DELC13,DELC13_FLAG_W,DELC14,DELC14_FLAG_W,C14ERR,CCL4,CCL4_FLAG_W,DELO18,DELO18_FLAG_W,DOC,DOC_FLAG_W,TDN,TDN_FLAG_W,CTDRAW,14C-DOC,14C-DOC_FLAG_W,THETA,SIG0,SALTREF,SALTREF_FLAG_W,BLACKC,BLACKC_FLAG_W,PIGMENTS,PIGMENTS_FLAG_W,14C-DOCERR,13C-DOC,13C-DOC_FLAG_W,13C-DOCERR
,,,,,,,,,,,METERS,DBAR,ITS-90,PSS-78,,PSS-78,,UMOL/KG,,UMOL/KG,,UMOL/KG,,UMOL/KG,,UMOL/KG,,UMOL/KG,,PMOL/KG,,PMOL/KG,,FMOL/KG,,UMOL/KG,,UMOL/KG,,UATM,,DEG C,,,DEG C,TU,,NMOL/KG,,/MILLE,,/MILLE,,/MILLE,PMOL/KG,,/MILLE,,UMOL/KG,,UMOL/KG,,DBAR,/MILLE,,DEG C,KG/M^3,G/KG,,,,,,/MILLE,/MILLE,,/MILLE
33RO20110926,        A10,      77,          1,         24,      11714,2,20111020,       1645,   -30.0006,   -29.8189,       3296,     4.4,  18.8388,  36.1594,2,  36.1588,2,    231.4,2,   231.2,2,     1.0,2,     0.1,2,    0.00,2,   0.060,4,   2.228,6,   1.353,6,   1.362,6,     2080.5,6,  2374.1,6,  -999.0,9, -999.00,    8.007,6,       25,-999.000,9,-999.0000,9, -999.00,9,  -999.0,9,  -999.0,   3.329,4, -999.00,9,  60.2927,2,    5.03,2,    4.40,  -999.0,9,  18.8380,     25.949,    36.3293,2,     -999.0,9,     -999.0,1,     -999.0,     -999.0,9,     -999.0
33RO20110926,        A10,      77,          1,         23,      11713,2,20111020,       1645,   -30.0006,   -29.8189,       3296,    59.2,  18.8332,  36.1564,2,  36.1555,2,    230.2,2,   231.1,2,     1.0,2,     0.1,2,    0.00,2,   0.067,4,-999.000,9,-999.000,9,-999.000,9,     2079.7,2,  2370.6,2,  -999.0,9, -999.00,    7.995,2,       25,-999.000,9,-999.0000,9, -999.00,9,  -999.0,9,  -999.0,-999.000,5, -999.00,9,  63.0829,2,    3.80,3,   59.20,  -999.0,9,  18.8226,     25.949,    36.3260,2,     -999.0,9,     -999.0,1,     -999.0,     -999.0,9,     -999.0
33RO20110926,        A10,      77,          1,         22,      11712,2,20111020,       1645,   -30.0006,   -29.8189,       3296,   109.8,  18.7481,  36.1661,2,  36.1632,2,    230.7,2,     230,2,     1.0,2,     0.1,2,    0.02,2,   0.080,4,   2.240,2,   1.364,2,   1.356,2,       2084,2,  2371.4,2,  -999.0,9, -999.00,    7.989,2,       25,-999.000,9,-999.0000,9, -999.00,9,  -999.0,9,  -999.0,   3.071,4, -999.00,9,  63.0927,2,    5.18,2,  109.80,  -999.0,9,  18.7286,     25.979,    36.3337,2,     -999.0,9,     -999.0,1,     -999.0,     -999.0,9,     -999.0
33RO20110926,        A10,      77,          1,         21,      11010,2,20111020,       1645,   -30.0006,   -29.8189,       3296,   166.3,  17.2170,  35.8586,2,  35.8593,2,    230.0,2,   224.1,2,     1.3,2,     1.4,2,    0.06,2,   0.176,4,-999.000,9,-999.000,9,-999.000,9,       2093,2,    2353,2,  -999.0,9, -999.00,   7.9589,2,       25,-999.000,9,-999.0000,9, -999.00,9,  -999.0,9,  -999.0,-999.000,5, -999.00,9,  57.3756,3,    5.33,2,  166.30,  -999.0,9,  17.1891,     26.128,    36.0284,2,     -999.0,9,     -999.0,1,     -999.0,     -999.0,9,     -999.0
33RO20110926,        A10,      77,          1,         20,      11715,2,20111020,       1645,   -30.0006,   -29.8189,       3296,   251.3,  15.2811,  35.5060,2,  35.5079,2,    214.6,2,   214.9,2,     2.1,2,     5.0,2,    0.01,2,   0.362,4,   2.673,2,   1.574,2,   1.284,2,     2106.1,2,  2330.6,2,  -999.0,9, -999.00,   7.8988,2,       25,-999.000,9,-999.0000,9, -999.00,9,  -999.0,9,  -999.0,   1.057,3, -999.00,9,  62.6829,2, -999.00,9,  251.30,  -999.0,9,  15.2424,     26.309,    35.6754,2,     -999.0,9,     -999.0,9,     -999.0,     -999.0,9,     -999.0
33RO20110926,        A10,      77,          1,         19,      11007,2,20111020,       1645,   -30.0006,   -29.8189,       3296,   324.0,  13.8944,  35.3000,2,  35.3058,2,    211.8,2,   211.4,2,     2.8,2,     8.0,2,    0.01,2,   0.509,4,-999.000,9,-999.000,9,-999.000,9,     2113.4,2,  2323.1,2,  -999.0,9, -999.00,   7.8607,2,       25,-999.000,9,-999.0000,9, -999.00,9,  -999.0,9,  -999.0,-999.000,9, -999.00,9,  52.3317,2, -999.00,9,  324.00,  -999.0,9,  13.8474,     26.456,    35.4723,2,     -999.0,9,     -999.0,9,     -999.0,     -999.0,9,     -999.0
33RO20110926,        A10,      77,          1,         18,      11710,2,20111020,       1645,   -30.0006,   -29.8189,       3296,   375.2,  13.1401,  35.2262,2,  35.2312,2,    214.8,2,   215.1,2,     3.1,2,     9.3,2,    0.01,2,   0.568,4,   2.970,2,   1.694,2,   1.256,2,     2118.6,2,  2319.4,2,  -999.0,9, -999.00,   7.8487,2,       25,-999.000,9,-999.0000,9, -999.00,9,  -999.0,9,  -999.0,   1.106,3, -999.00,9,  50.6927,2, -999.00,9,  375.20,  -999.0,9,  13.0877,     26.555,    35.3973,2,     -999.0,9,     -999.0,9,     -999.0,     -999.0,9,     -999.0
33RO20110926,        A10,      77,          1,         17,      11023,2,20111020,       1645,   -30.0006,   -29.8189,       3296,   424.3,  12.1482,  35.0777,2,  35.0781,2,    211.4,2,   210.7,2,     4.1,6,    12.0,6,    0.01,6,   0.696,4,-999.000,9,-999.000,9,-999.000,9,     2126.8,2,  2312.2,2,  -999.0,9, -999.00,   7.8146,2,       25,-999.000,9,-999.0000,9, -999.00,9,  -999.0,9,  -999.0,-999.000,9, -999.00,9,  49.3366,2, -999.00,9,  424.30,  -999.0,9,  12.0918,     26.631,    35.2436,2,     -999.0,9,     -999.0,9,     -999.0,     -999.0,9,     -999.0
33RO20110926,        A10,      77,          1,         16,      11709,2,20111020,       1645,   -30.0006,   -29.8189,       3296,   524.6,  10.4272,  34.8562,2,  34.8609,2,    207.5,2,   206.9,2,     6.4,2,    16.5,2,    0.00,2,   0.936,4,   3.168,2,   1.716,2,   1.026,2,     2139.7,2,    2302,2,  -999.0,9, -999.00,   7.7675,2,       25,-999.000,9,-999.0000,9, -999.00,9,  -999.0,9,  -999.0,   1.450,3, -999.00,9,  53.5512,3, -999.00,9,  524.60,  -999.0,9,  10.3638,     26.785,    35.0253,2,     -999.0,9,     -999.0,9,     -999.0,     -999.0,9,     -999.0
33RO20110926,        A10,      77,          1,         15,      11006,2,20111020,       1645,   -30.0006,   -29.8189,       3296,   624.9,   8.4841,  34.6235,2,  34.6262,2,    203.7,2,   202.8,2,    10.1,2,    21.8,2,    0.00,2,   1.216,4,   3.181,2,   1.658,2,   0.873,2,       2155,2,  2294.2,2,  -999.0,9, -999.00,   7.7084,2,       25,-999.000,9,-999.0000,9, -999.00,9,  -999.0,9,  -999.0,   1.994,3, -999.00,9,  41.3366,2, -999.00,9,  624.90,  -999.0,9,   8.4172,     26.916,    34.7895,2,     -999.0,9,     -999.0,9,     -999.0,     -999.0,9,     -999.0
33RO20110926,        A10,      77,          1,         14,      11708,2,20111020,       1645,   -30.0006,   -29.8189,       3296,   723.0,   6.6834,  34.4434,2,  34.4449,2,    210.3,2,   209.2,2,    14.3,2,    25.6,2,    0.00,2,   1.434,4,   3.157,2,   1.614,2,   0.775,2,     2165.9,2,  2289.2,2,  -999.0,9, -999.00,   7.6683,2,       25,-999.000,9,-999.0000,9, -999.00,9,  -999.0,9,  -999.0,   2.278,3, -999.00,9,     42.8,2, -999.00,9,  723.00,  -999.0,9,   6.6154,     27.033,    34.6074,2,     -999.0,9,     -999.0,9,     -999.0,     -999.0,9,     -999.0
33RO20110926,        A10,      77,          1,         13,      11031,2,20111020,       1645,   -30.0006,   -29.8189,       3296,   849.3,   5.1171,  34.3171,2,  34.3158,2,    222.4,2,   222.1,2,    19.5,2,    28.0,2,    0.00,2,   1.608,4,   3.092,2,   1.543,2,   0.691,2,     2172.1,2,  2284.5,2,  -999.0,9, -999.00,   7.6455,2,       25,-999.000,9,-999.0000,9, -999.00,9,  -999.0,9,  -999.0,   3.250,3, -999.00,9,  41.8927,2, -999.00,9,  849.30,  -999.0,9,   5.0467,     27.127,    34.4776,2,     -999.0,9,     -999.0,9,     -999.0,     -999.0,9,     -999.0
33RO20110926,        A10,      77,          1,         12,      11027,2,20111020,       1645,   -30.0006,   -29.8189,       3296,   951.0,   4.3369,  34.3161,2,  34.3146,2,    214.2,2,     214,2,    27.5,6,    30.1,6,    0.00,6,   1.770,4,   2.476,2,   1.215,2,   0.478,2,     2188.2,2,  2290.6,2,  -999.0,9, -999.00,   7.6224,2,       25,-999.000,9,-999.0000,9, -999.00,9,  -999.0,9,  -999.0,   2.953,3, -999.00,9,  39.4829,2, -999.00,9,  951.00,  -999.0,9,   4.2631,     27.214,    34.4764,2,     -999.0,9,     -999.0,9,     -999.0,     -999.0,9,     -999.0
33RO20110926,        A10,      77,          1,         11,      11707,2,20111020,       1645,   -30.0006,   -29.8189,       3296,  1051.1,   3.9246,  34.3493,2,  34.3494,2,    203.9,2,   203.9,2,    34.7,2,    31.4,2,    0.00,2,   1.898,4,   1.872,2,   0.915,2,   0.338,2,     2202.3,2,  2297.5,2,  -999.0,9, -999.00,   7.6044,2,       25,-999.000,9,-999.0000,9, -999.00,9,  -999.0,9,  -999.0,   2.421,3, -999.00,9,  37.4732,3, -999.00,9, 1051.10,  -999.0,9,   3.8455,     27.284,    34.5113,2,     -999.0,9,     -999.0,9,     -999.0,     -999.0,9,     -999.0
33RO20110926,        A10,      77,          1,         10,      11003,2,20111020,       1645,   -30.0006,   -29.8189,       3296,  1200.1,   3.3700,  34.4230,2,  34.4230,2,    193.9,2,   192.9,2,    45.8,2,    32.4,2,    0.00,2,   2.030,4,   1.074,2,   0.520,2,   0.133,2,     2217.7,2,    2309,6,  -999.0,9, -999.00,   7.5904,6,       25,-999.000,9,-999.0000,9, -999.00,9,  -999.0,9,  -999.0,   1.661,3, -999.00,9,  40.8878,2, -999.00,9, 1200.10,  -999.0,9,   3.2834,     27.399,    34.5853,2,     -999.0,9,     -999.0,9,     -999.0,     -999.0,9,     -999.0
33RO20110926,        A10,      77,          1,          9,      11706,2,20111020,       1645,   -30.0006,   -29.8189,       3296,  1350.2,   3.1315,  34.5024,2,  34.5019,2,    187.6,2,   187.8,2,    51.9,2,    32.4,2,    0.00,2,   2.062,4,   0.619,2,   0.299,2,   0.079,2,     2225.9,2,    2316,2,  -999.0,9, -999.00,   7.5904,2,       25,-999.000,9,-999.0000,9, -999.00,9,  -999.0,9,  -999.0,   1.095,3, -999.00,9,   40.439,2, -999.00,9, 1350.20,  -999.0,9,   3.0348,     27.484,    34.6646,2,     -999.0,9,     -999.0,9,     -999.0,     -999.0,9,     -999.0
33RO20110926,        A10,      77,          1,          8,      11033,2,20111020,       1645,   -30.0006,   -29.8189,       3296,  1524.5,   2.9536,  34.6144,2,  34.6170,2,    189.4,2,   189.8,2,    54.5,2,    30.8,2,    0.00,2,   2.001,4,   0.258,2,   0.126,2,   0.000,2,     2226.3,6,  2327.1,2,  -999.0,9, -999.00,   7.6072,2,       25,-999.000,9,-999.0000,9, -999.00,9,  -999.0,9,  -999.0,   0.692,3, -999.00,9,  39.6585,2, -999.00,9, 1524.50,  -999.0,9,   2.8441,     27.590,    34.7802,6,     -999.0,9,     -999.0,9,     -999.0,     -999.0,9,     -999.0
33RO20110926,        A10,      77,          1,          7,      11705,2,20111020,       1645,   -30.0006,   -29.8189,       3296,  1700.3,   2.8742,  34.6867,2,  34.6863,2,    196.4,2,     197,2,    54.0,2,    29.5,2,    0.00,2,   1.918,4,   0.132,2,   0.065,2,   0.060,2,     2222.6,2,  2328.9,2,  -999.0,9, -999.00,   7.6222,2,       25,-999.000,9,-999.0000,9, -999.00,9,  -999.0,9,  -999.0,   0.449,3, -999.00,9,  38.6244,2, -999.00,9, 1700.30,  -999.0,9,   2.7507,     27.657,    34.8499,2,     -999.0,9,     -999.0,9,     -999.0,     -999.0,9,     -999.0
33RO20110926,        A10,      77,          1,          6,      11029,2,20111020,       1645,   -30.0006,   -29.8189,       3296,  1873.9,   2.7953,  34.7492,2,  34.7496,2,    205.3,2,   207.1,2,    52.4,2,    27.8,2,    0.00,2,   1.807,4,   0.061,2,   0.031,2,   0.017,2,     2215.9,2,  2331.9,2,  -999.0,9, -999.00,   7.6473,2,       25,-999.000,9,-999.0000,9, -999.00,9,  -999.0,9,  -999.0,   0.288,3, -999.00,9,  38.1366,2, -999.00,9, 1873.90,  -999.0,9,   2.6576,     27.716,    34.9135,2,     -999.0,9,     -999.0,9,     -999.0,     -999.0,9,     -999.0
33RO20110926,        A10,      77,          1,          5,      11704,2,20111020,       1645,   -30.0006,   -29.8189,       3296,  2172.7,   2.7284,  34.8212,2,  34.8232,2,    222.9,2,   223.1,2,    47.4,6,    25.2,6,    0.00,6,   1.626,4,   0.022,2,   0.012,2,   0.000,2,     2202.7,2,  2332.2,2,  -999.0,9, -999.00,   7.6823,2,       25,-999.000,9,-999.0000,9, -999.00,9,  -999.0,9,  -999.0,   0.155,3, -999.00,9,  41.5122,2, -999.00,9, 2172.70,  -999.0,9,   2.5647,     27.783,    34.9875,2,     -999.0,9,     -999.0,9,     -999.0,     -999.0,9,     -999.0
33RO20110926,        A10,      77,          1,          4,      11030,2,20111020,       1645,   -30.0006,   -29.8189,       3296,  2476.2,   2.7650,  34.8754,2,  34.8755,2,    238.0,2,   237.8,2,    39.9,2,    22.9,2,    0.00,2,   1.454,4,   0.010,2,   0.006,2,   0.000,2,     2188.3,2,  2330.5,2,  -999.0,9, -999.00,   7.7084,2,       25,-999.000,9,-999.0000,9, -999.00,9,  -999.0,9,  -999.0,   0.111,3, -999.00,9,     41.6,2, -999.00,9, 2476.20,  -999.0,9,   2.5719,     27.824,    35.0399,2,     -999.0,9,     -999.0,9,     -999.0,     -999.0,9,     -999.0
33RO20110926,        A10,      77,          1,          3,      11703,2,20111020,       1645,   -30.0006,   -29.8189,       3296,  2772.4,   2.7247,  34.8941,2,  34.8957,2,    244.6,2,   244.4,2,    37.9,2,    22.0,2,    0.01,2,   1.388,4,   0.009,2,   0.006,2,   0.000,2,     2183.2,2,    2326,2,  -999.0,9, -999.00,   7.7136,2,       25,-999.000,9,-999.0000,9, -999.00,9,  -999.0,9,  -999.0,   0.111,3, -999.00,9,  42.6146,2, -999.00,9, 2772.40,  -999.0,9,   2.5032,     27.846,    35.0603,2,     -999.0,9,     -999.0,9,     -999.0,     -999.0,9,     -999.0
33RO20110926,        A10,      77,          1,          2,      11702,2,20111020,       1645,   -30.0006,   -29.8189,       3296,  3075.6,   2.6900,  34.8954,2,  34.8969,2,    246.1,2,   245.5,2,    38.6,2,    21.8,2,    0.00,2,   1.389,4,   0.013,2,   0.009,2,   0.000,2,       2183,2,  2327.1,2,  -999.0,9, -999.00,   7.7186,2,       25,-999.000,9,-999.0000,9, -999.00,9,  -999.0,9,  -999.0,   0.131,3, -999.00,9,  45.4829,2, -999.00,9, 3075.60,  -999.0,9,   2.4382,     27.853,    35.0615,2,     -999.0,9,     -999.0,9,     -999.0,     -999.0,9,     -999.0
33RO20110926,        A10,      77,          1,          1,      11701,2,20111020,       1645,   -30.0006,   -29.8189,       3296,  3307.7,   2.2975,  34.8683,2,  34.8694,2,    244.1,2,   243.7,2,    50.5,6,    23.0,6,    0.01,6,   1.533,4,   0.028,6,   0.016,6,   0.014,6,     2196.2,6,  2335.4,6,  -999.0,9, -999.00,   7.7055,6,       25,-999.000,9,-999.0000,9, -999.00,9,  -999.0,9,  -999.0,   0.194,3, -999.00,9,  41.4927,2, -999.00,9, 3307.70,  -999.0,9,   2.0307,     27.865,    35.0338,2,     -999.0,9,     -999.0,9,     -999.0,     -999.0,9,     -999.0