BOTTLE,20220815CCHSIOAMB
EXPOCODE,SECT_ID,STNNBR,CASTNO,SAMPNO,BTLNBR,BTLNBR_FLAG_W,DATE,TIME,LATITUDE,LONGITUDE,DEPTH,CTDPRS,CTDTMP,CTDSAL,CTDSAL_FLAG_W,SALNTY,SALNTY_FLAG_W,CTDOXY,CTDOXY_FLAG_W,OXYGEN,OXYGEN_FLAG_W,SILCAT,SILCAT_FLAG_W,NITRAT,NITRAT_FLAG_W,NITRIT,NITRIT_FLAG_W,PHSPHT,PHSPHT_FLAG_W,CFC-11,CFC-11_FLAG_W,CFC-12,CFC-12_FLAG_W,SF6,SF6_FLAG_W,TCARBN,TCARBN_FLAG_W,ALKALI,ALKALI_FLAG_W,PCO2,PCO2_FLAG_W,PCO2TMP,PH_SWS,PH_SWS_FLAG_W,PH_TMP,TRITUM,TRITUM_FLAG_W,HELIUM,HELIUM_FLAG_W,DELC13,DELC13_FLAG_W,DELC14,DELC14_FLAG_W,C14ERR,CCL4,CCL4_FLAG_W,DELO18,DELO18_FLAG_W,DOC,DOC_FLAG_W,TDN,TDN_FLAG_W,CTDRAW,14C-DOC,14C-DOC_FLAG_W,THETA,SIG0,SALTREF,SALTREF_FLAG_W,BLACKC,BLACKC_FLAG_W,PIGMENTS,PIGMENTS_FLAG_W,14C-DOCERR,13C-DOC,13C-DOC_FLAG_W,13C-DOCERR
,,,,,,,,,,,METERS,DBAR,ITS-90,PSS-78,,PSS-78,,UMOL/KG,,UMOL/KG,,UMOL/KG,,UMOL/KG,,UMOL/KG,,UMOL/KG,,PMOL/KG,,PMOL/KG,,FMOL/KG,,UMOL/KG,,UMOL/KG,,UATM,,DEG C,,,DEG C,TU,,NMOL/KG,,/MILLE,,/MILLE,,/MILLE,PMOL/KG,,/MILLE,,UMOL/KG,,UMOL/KG,,DBAR,/MILLE,,DEG C,KG/M^3,G/KG,,,,,,/MILLE,/MILLE,,/MILLE
33RO20110926,        A10,      98,          1,         24,      11714,2,20111025,       0621,   -30.0001,   -39.5333,       4020,     4.6,  19.0655,  36.2706,2,  36.2699,2,    231.6,2,     232,2,     0.7,2,     0.0,2,    0.00,2,   0.041,4,   2.214,6,   1.349,6,   1.389,6,     2081.9,6,  2378.7,2,  -999.0,9, -999.00,    8.015,2,       25,-999.000,9,-999.0000,9, -999.00,9,  -999.0,9,  -999.0,   3.278,4, -999.00,9,-999.0000,9, -999.00,9,    4.60,  -999.0,9,  19.0647,     25.975,    36.4409,2,     -999.0,9,     -999.0,1,     -999.0,     -999.0,9,     -999.0
33RO20110926,        A10,      98,          1,         23,      11713,2,20111025,       0621,   -30.0001,   -39.5333,       4020,    59.5,  18.8640,  36.2546,2,  36.2539,2,    231.7,2,   231.1,2,     0.7,2,     0.0,2,    0.00,2,   0.049,4,-999.000,9,-999.000,9,-999.000,9,     2078.6,2,  2376.8,6,  -999.0,9, -999.00,   8.0165,6,       25,-999.000,9,-999.0000,9, -999.00,9,  -999.0,9,  -999.0,-999.000,5, -999.00,9,-999.0000,9, -999.00,9,   59.50,  -999.0,9,  18.8534,     26.018,    36.4249,2,     -999.0,9,     -999.0,1,     -999.0,     -999.0,9,     -999.0
33RO20110926,        A10,      98,          1,         22,      11712,2,20111025,       0621,   -30.0001,   -39.5333,       4020,   105.9,  18.0268,  36.0871,2,  36.0836,2,    228.6,2,   223.7,2,     0.9,2,     1.0,2,    0.07,2,   0.109,4,-999.000,9,-999.000,9,-999.000,9,-999.000000,9,  2368.3,2,  -999.0,9, -999.00,   7.9879,2,       25,-999.000,9,-999.0000,9, -999.00,9,  -999.0,9,  -999.0,-999.000,5, -999.00,9,-999.0000,9, -999.00,9,  105.90,  -999.0,9,  18.0085,     26.098,    36.2537,2,     -999.0,9,     -999.0,1,     -999.0,     -999.0,9,     -999.0
33RO20110926,        A10,      98,          1,         21,      11010,2,20111025,       0621,   -30.0001,   -39.5333,       4020,   154.8,  16.9078,  35.8845,2,  35.8885,2,    222.8,2,   228.8,2,     1.1,2,     1.3,2,    0.02,2,   0.134,4,-999.000,9,-999.000,9,-999.000,9,     2088.2,2,  2356.7,2,  -999.0,9, -999.00,   7.9719,2,       25,-999.000,9,-999.0000,9, -999.00,9,  -999.0,9,  -999.0,-999.000,5, -999.00,9,-999.0000,9, -999.00,9,  154.80,  -999.0,9,  16.8823,     26.224,    36.0577,2,     -999.0,9,     -999.0,9,     -999.0,     -999.0,9,     -999.0
33RO20110926,        A10,      98,          1,         20,      11715,2,20111025,       0621,   -30.0001,   -39.5333,       4020,   219.5,  15.4228,  35.6172,2,  35.6173,2,    217.0,2,   215.5,2,     1.8,2,     4.8,2,    0.01,2,   0.309,4,   2.638,2,   1.558,2,   1.379,2,-999.000000,9,  2340.9,2,  -999.0,9, -999.00,   7.9138,2,       25,-999.000,9,-999.0000,9, -999.00,9,  -999.0,9,  -999.0,   1.337,3, -999.00,9,-999.0000,9, -999.00,9,  219.50,  -999.0,9,  15.3887,     26.362,    35.7853,2,     -999.0,9,     -999.0,9,     -999.0,     -999.0,9,     -999.0
33RO20110926,        A10,      98,          1,         19,      11007,2,20111025,       0621,   -30.0001,   -39.5333,       4020,   280.9,  14.4079,  35.4631,2,  35.4629,2,    213.4,2,   212.7,2,     2.5,2,     7.2,2,    0.01,2,   0.424,4,-999.000,9,-999.000,9,-999.000,9,-999.000000,9,  2331.9,2,  -999.0,9, -999.00,   7.8838,2,       25,-999.000,9,-999.0000,9, -999.00,9,  -999.0,9,  -999.0,-999.000,9, -999.00,9,-999.0000,9, -999.00,9,  280.90,  -999.0,9,  14.3663,     26.462,    35.6301,2,     -999.0,9,     -999.0,9,     -999.0,     -999.0,9,     -999.0
33RO20110926,        A10,      98,          1,         18,      11710,2,20111025,       0621,   -30.0001,   -39.5333,       4020,   349.7,  13.5645,  35.3459,2,  35.3460,2,    212.3,2,   211.5,2,     3.0,2,     9.2,2,    0.01,2,   0.515,4,-999.000,9,-999.000,9,-999.000,9,-999.000000,9,  2325.7,2,  -999.0,9, -999.00,   7.8608,2,       25,-999.000,9,-999.0000,9, -999.00,9,  -999.0,9,  -999.0,-999.000,9, -999.00,9,-999.0000,9, -999.00,9,  349.70,  -999.0,9,  13.5146,     26.555,    35.5126,2,     -999.0,9,     -999.0,9,     -999.0,     -999.0,9,     -999.0
33RO20110926,        A10,      98,          1,         17,      11023,2,20111025,       0621,   -30.0001,   -39.5333,       4020,   449.9,  11.6936,  35.0506,2,  35.0516,2,    211.1,2,   212.1,2,     4.6,2,    13.4,2,    0.01,2,   0.709,4,-999.000,9,-999.000,9,-999.000,9,     2130.6,2,  2311.4,2,  -999.0,9, -999.00,   7.8097,2,       25,-999.000,9,-999.0000,9, -999.00,9,  -999.0,9,  -999.0,-999.000,9, -999.00,9,-999.0000,9, -999.00,9,  449.90,  -999.0,9,  11.6352,     26.697,    35.2169,6,     -999.0,9,     -999.0,9,     -999.0,     -999.0,9,     -999.0
33RO20110926,        A10,      98,          1,         16,      11709,2,20111025,       0621,   -30.0001,   -39.5333,       4020,   549.4,   9.3087,  34.7238,2,  34.7181,2,    206.9,2,   206.1,2,     8.0,6,    19.6,6,    0.01,6,   0.994,4,   3.196,2,   1.690,2,   0.967,2,-999.000000,9,  2296.5,2,  -999.0,9, -999.00,   7.7394,2,       25,-999.000,9,-999.0000,9, -999.00,9,  -999.0,9,  -999.0,   1.783,3, -999.00,9,-999.0000,9, -999.00,9,  549.40,  -999.0,9,   9.2467,     26.855,    34.8818,2,     -999.0,9,     -999.0,9,     -999.0,     -999.0,9,     -999.0
33RO20110926,        A10,      98,          1,         15,      11006,2,20111025,       0621,   -30.0001,   -39.5333,       4020,   648.8,   7.3704,  34.5007,2,  34.5014,2,    211.5,2,   211.8,2,    11.5,2,    23.8,2,    0.00,2,   1.226,4,-999.000,9,-999.000,9,-999.000,9,-999.000000,9,  2288.7,2,  -999.0,9, -999.00,   7.6974,2,       25,-999.000,9,-999.0000,9, -999.00,9,  -999.0,9,  -999.0,-999.000,9, -999.00,9,-999.0000,9, -999.00,9,  648.80,  -999.0,9,   7.3064,     26.982,    34.6641,2,     -999.0,9,     -999.0,9,     -999.0,     -999.0,9,     -999.0
33RO20110926,        A10,      98,          1,         14,      11708,2,20111025,       0621,   -30.0001,   -39.5333,       4020,   750.4,   5.9298,  34.3622,2,  34.3656,2,    223.3,2,   223.6,2,    14.7,2,    26.2,2,    0.00,2,   1.368,4,-999.000,9,-999.000,9,-999.000,9,     2163.8,2,  2286.3,2,  -999.0,9, -999.00,   7.6743,2,       25,-999.000,9,-999.0000,9, -999.00,9,  -999.0,9,  -999.0,-999.000,9, -999.00,9,-999.0000,9, -999.00,9,  750.40,  -999.0,9,   5.8635,     27.069,    34.5276,2,     -999.0,9,     -999.0,9,     -999.0,     -999.0,9,     -999.0
33RO20110926,        A10,      98,          1,         13,      11031,2,20111025,       0621,   -30.0001,   -39.5333,       4020,   824.8,   5.1001,  34.3088,2,  34.3087,2,    226.0,2,   225.7,2,    18.4,6,    28.0,6,    0.00,6,   1.474,4,-999.000,9,-999.000,9,-999.000,9,-999.000000,9,  2286.8,2,  -999.0,9, -999.00,   7.6605,2,       25,-999.000,9,-999.0000,9, -999.00,9,  -999.0,9,  -999.0,-999.000,9, -999.00,9,-999.0000,9, -999.00,9,  824.80,  -999.0,9,   5.0320,     27.123,    34.4705,2,     -999.0,9,     -999.0,9,     -999.0,     -999.0,9,     -999.0
33RO20110926,        A10,      98,          1,         12,      11027,2,20111025,       0621,   -30.0001,   -39.5333,       4020,   950.0,   4.1987,  34.2959,2,  34.2982,2,    221.5,2,   220.2,2,    26.7,2,    30.1,2,    0.00,2,   1.661,4,   2.559,2,   1.259,2,   0.546,2,-999.000000,9,  2292.1,2,  -999.0,9, -999.00,   7.6344,2,       25,-999.000,9,-999.0000,9, -999.00,9,  -999.0,9,  -999.0,   3.063,3, -999.00,9,-999.0000,9, -999.00,9,  950.00,  -999.0,9,   4.1260,     27.215,    34.4600,2,     -999.0,9,     -999.0,9,     -999.0,     -999.0,9,     -999.0
33RO20110926,        A10,      98,          1,         11,      11707,2,20111025,       0621,   -30.0001,   -39.5333,       4020,  1074.6,   3.5933,  34.3358,2,  34.3372,2,    209.3,2,   208.6,2,    36.6,2,    32.0,2,    0.00,2,   1.837,4,-999.000,9,-999.000,9,-999.000,9,     2202.8,2,  2301.5,2,  -999.0,9, -999.00,   7.6094,2,       25,-999.000,9,-999.0000,9, -999.00,9,  -999.0,9,  -999.0,-999.000,9, -999.00,9,-999.0000,9, -999.00,9, 1074.60,  -999.0,9,   3.5151,     27.308,    34.4991,2,     -999.0,9,     -999.0,9,     -999.0,     -999.0,9,     -999.0
33RO20110926,        A10,      98,          1,         10,      11003,2,20111025,       0621,   -30.0001,   -39.5333,       4020,  1276.7,   3.1729,  34.4415,2,  34.4412,2,    193.1,2,   192.6,2,    48.5,6,    32.9,6,    0.01,6,   1.992,4,   0.899,2,   0.433,2,   0.132,2,-999.000000,9,  2315.2,2,  -999.0,9, -999.00,   7.5962,2,       25,-999.000,9,-999.0000,9, -999.00,9,  -999.0,9,  -999.0,   1.455,3, -999.00,9,-999.0000,9, -999.00,9, 1276.70,  -999.0,9,   3.0819,     27.431,    34.6036,2,     -999.0,9,     -999.0,9,     -999.0,     -999.0,9,     -999.0
33RO20110926,        A10,      98,          1,          9,      11706,2,20111025,       0621,   -30.0001,   -39.5333,       4020,  1475.2,   2.9490,  34.5723,2,  34.5746,2,    188.3,2,   187.7,2,    54.7,2,    32.1,2,    0.00,2,   2.017,4,-999.000,9,-999.000,9,-999.000,9,     2228.8,2,  2324.8,6,  -999.0,9, -999.00,   7.6027,6,       25,-999.000,9,-999.0000,9, -999.00,9,  -999.0,9,  -999.0,-999.000,9, -999.00,9,-999.0000,9, -999.00,9, 1475.20,  -999.0,9,   2.8438,     27.560,    34.7377,2,     -999.0,9,     -999.0,9,     -999.0,     -999.0,9,     -999.0
33RO20110926,        A10,      98,          1,          8,      11033,2,20111025,       0621,   -30.0001,   -39.5333,       4020,  1650.1,   2.8794,  34.6605,2,  34.6613,2,    194.2,2,   193.8,2,    54.7,2,    30.5,2,    0.00,2,   1.937,4,   0.166,2,   0.081,2,   0.017,2,-999.000000,9,  2327.6,2,  -999.0,9, -999.00,   7.6154,2,       25,-999.000,9,-999.0000,9, -999.00,9,  -999.0,9,  -999.0,   0.468,3, -999.00,9,-999.0000,9, -999.00,9, 1650.10,  -999.0,9,   2.7602,     27.636,    34.8247,2,     -999.0,9,     -999.0,9,     -999.0,     -999.0,9,     -999.0
33RO20110926,        A10,      98,          1,          7,      11705,2,20111025,       0621,   -30.0001,   -39.5333,       4020,  1950.5,   3.3419,  34.8729,2,  34.8703,2,    223.0,2,     227,2,    34.3,2,    23.9,2,    0.00,2,   1.421,4,   0.145,2,   0.073,2,   0.000,2,     2191.1,2,  2323.6,2,  -999.0,9, -999.00,   7.6945,2,       25,-999.000,9,-999.0000,9, -999.00,9,  -999.0,9,  -999.0,   0.487,3, -999.00,9,-999.0000,9, -999.00,9, 1950.50,  -999.0,9,   3.1890,     27.764,    35.0347,2,     -999.0,9,     -999.0,9,     -999.0,     -999.0,9,     -999.0
33RO20110926,        A10,      98,          1,          6,      11029,2,20111025,       0621,   -30.0001,   -39.5333,       4020,  2200.0,   3.3191,  34.9277,2,  34.9305,2,    244.4,2,   244.2,2,    27.0,6,    21.2,6,    0.00,6,   1.220,4,   0.162,2,   0.082,2,   0.023,2,-999.000000,9,  2321.2,2,  -999.0,9, -999.00,   7.7206,2,       25,-999.000,9,-999.0000,9, -999.00,9,  -999.0,9,  -999.0,   0.543,3, -999.00,9,-999.0000,9, -999.00,9, 2200.00,  -999.0,9,   3.1428,     27.816,    35.0952,2,     -999.0,9,     -999.0,9,     -999.0,     -999.0,9,     -999.0
33RO20110926,        A10,      98,          1,          5,      11704,2,20111025,       0621,   -30.0001,   -39.5333,       4020,  2449.8,   3.1351,  34.9284,2,  34.9350,2,    248.2,2,   247.7,2,    28.2,2,    20.9,2,    0.00,2,   1.227,4,   0.122,2,   0.064,2,   0.000,2,-999.000000,9,  2323.2,2,  -999.0,9, -999.00,   7.7314,2,       25,-999.000,9,-999.0000,9, -999.00,9,  -999.0,9,  -999.0,   0.462,3, -999.00,9,-999.0000,9, -999.00,9, 2449.80,  -999.0,9,   2.9377,     27.839,    35.0997,2,     -999.0,9,     -999.0,9,     -999.0,     -999.0,9,     -999.0
33RO20110926,        A10,      98,          1,          4,      11030,2,20111025,       0621,   -30.0001,   -39.5333,       4020,  2801.1,   2.9393,  34.9251,2,  34.9258,2,    250.8,2,   250.2,2,    30.7,2,    20.9,2,    0.01,2,   1.247,4,   0.093,2,   0.048,2,   0.000,2,     2179.6,2,  2326.3,2,  -999.0,9, -999.00,   7.7344,2,       25,-999.000,9,-999.0000,9, -999.00,9,  -999.0,9,  -999.0,   0.381,3, -999.00,9,-999.0000,9, -999.00,9, 2801.10,  -999.0,9,   2.7104,     27.852,    35.0905,2,     -999.0,9,     -999.0,9,     -999.0,     -999.0,9,     -999.0
33RO20110926,        A10,      98,          1,          3,      11703,2,20111025,       0621,   -30.0001,   -39.5333,       4020,  3200.4,   2.6862,  34.9111,2,  34.9128,2,    251.7,2,   250.9,2,    35.5,2,    21.2,2,    0.00,2,   1.305,4,   0.070,2,   0.037,2,   0.000,2,-999.000000,9,  2327.8,4,  -999.0,9, -999.00,   7.7296,2,       25,-999.000,9,-999.0000,9, -999.00,9,  -999.0,9,  -999.0,   0.333,3, -999.00,9,-999.0000,9, -999.00,9, 3200.40,  -999.0,9,   2.4213,     27.867,    35.0774,2,     -999.0,9,     -999.0,9,     -999.0,     -999.0,9,     -999.0
33RO20110926,        A10,      98,          1,          2,      11702,2,20111025,       0621,   -30.0001,   -39.5333,       4020,  3600.4,   1.8745,  34.8348,2,  34.8361,2,    241.5,2,   241.2,2,    63.7,2,    24.9,2,    0.01,2,   1.753,4,   0.055,2,   0.030,2,   0.087,2,-999.000000,9,  2343.4,2,  -999.0,9, -999.00,   7.6995,2,       25,-999.000,9,-999.0000,9, -999.00,9,  -999.0,9,  -999.0,   0.239,3, -999.00,9,-999.0000,9, -999.00,9, 3600.40,  -999.0,9,   1.5875,     27.872,    35.0004,2,     -999.0,9,     -999.0,9,     -999.0,     -999.0,9,     -999.0
33RO20110926,        A10,      98,          1,          1,      11701,2,20111025,       0621,   -30.0001,   -39.5333,       4020,  4025.1,   0.6575,  34.7047,2,  34.7058,2,    221.3,2,   220.3,2,   113.5,2,    31.7,2,    0.00,2,   2.539,4,   0.252,6,   0.120,6,   0.078,6,     2254.5,6,  2361.1,6,  -999.0,9, -999.00,   7.6203,6,       25,-999.000,9,-999.0000,9, -999.00,9,  -999.0,9,  -999.0,   0.534,3, -999.00,9,-999.0000,9, -999.00,9, 4025.10,  -999.0,9,   0.3597,     27.849,    34.8694,2,     -999.0,9,     -999.0,9,     -999.0,     -999.0,9,     -999.0