BOTTLE,20220815CCHSIOAMB
EXPOCODE,SECT_ID,STNNBR,CASTNO,SAMPNO,BTLNBR,BTLNBR_FLAG_W,DATE,TIME,LATITUDE,LONGITUDE,DEPTH,CTDPRS,CTDTMP,CTDSAL,CTDSAL_FLAG_W,SALNTY,SALNTY_FLAG_W,CTDOXY,CTDOXY_FLAG_W,OXYGEN,OXYGEN_FLAG_W,SILCAT,SILCAT_FLAG_W,NITRAT,NITRAT_FLAG_W,NITRIT,NITRIT_FLAG_W,PHSPHT,PHSPHT_FLAG_W,CFC-11,CFC-11_FLAG_W,CFC-12,CFC-12_FLAG_W,SF6,SF6_FLAG_W,TCARBN,TCARBN_FLAG_W,ALKALI,ALKALI_FLAG_W,PCO2,PCO2_FLAG_W,PCO2TMP,PH_SWS,PH_SWS_FLAG_W,PH_TMP,TRITUM,TRITUM_FLAG_W,HELIUM,HELIUM_FLAG_W,DELC13,DELC13_FLAG_W,DELC14,DELC14_FLAG_W,C14ERR,CCL4,CCL4_FLAG_W,DELO18,DELO18_FLAG_W,DOC,DOC_FLAG_W,TDN,TDN_FLAG_W,CTDRAW,14C-DOC,14C-DOC_FLAG_W,THETA,SIG0,SALTREF,SALTREF_FLAG_W,BLACKC,BLACKC_FLAG_W,PIGMENTS,PIGMENTS_FLAG_W,14C-DOCERR,13C-DOC,13C-DOC_FLAG_W,13C-DOCERR
,,,,,,,,,,,METERS,DBAR,ITS-90,PSS-78,,PSS-78,,UMOL/KG,,UMOL/KG,,UMOL/KG,,UMOL/KG,,UMOL/KG,,UMOL/KG,,PMOL/KG,,PMOL/KG,,FMOL/KG,,UMOL/KG,,UMOL/KG,,UATM,,DEG C,,,DEG C,TU,,NMOL/KG,,/MILLE,,/MILLE,,/MILLE,PMOL/KG,,/MILLE,,UMOL/KG,,UMOL/KG,,DBAR,/MILLE,,DEG C,KG/M^3,G/KG,,,,,,/MILLE,/MILLE,,/MILLE
33RO20110926,        A10,      43,          1,         24,      11714,2,20111008,       1450,   -30.0031,    -6.2443,     -999.0,     4.3,  18.1896,  35.8609,2,  35.8598,2,    238.1,2,   238.9,2,     1.5,2,     0.1,2,    0.00,2,   0.146,2,   2.357,2,   1.435,2,   1.502,2,     2082.1,6,  2354.6,6,  -999.0,9, -999.00,   7.9779,6,       25,-999.000,9,-999.0000,9,    1.15,2,    38.6,2,     2.8,   2.753,4, -999.00,9,  65.9024,2,    4.14,2,    4.30,  -999.0,9,  18.1889,     25.883,    36.0288,2,     -999.0,9,     -999.0,1,     -999.0,     -999.0,9,     -999.0
33RO20110926,        A10,      43,          1,         23,      11713,2,20111008,       1450,   -30.0031,    -6.2443,     -999.0,    34.9,  17.5667,  35.8426,2,  35.8406,2,    242.8,2,   242.9,2,     1.5,2,     0.0,2,    0.00,2,   0.148,2,   2.398,2,   1.449,2,   1.478,2,     2081.2,2,  2351.9,2,  -999.0,9, -999.00,   7.9789,2,       25,-999.000,9,-999.0000,9, -999.00,9,  -999.0,9,  -999.0,   3.269,4, -999.00,9,  60.1756,2,    3.92,2,   34.90,  -999.0,9,  17.5608,     26.024,    36.0096,2,     -999.0,9,     -999.0,9,     -999.0,     -999.0,9,     -999.0
33RO20110926,        A10,      43,          1,         22,      11712,2,20111008,       1450,   -30.0031,    -6.2443,     -999.0,    73.3,  17.0301,  35.8238,2,  35.8222,2,    236.3,2,   236.9,2,     1.7,2,     0.3,2,    0.19,2,   0.191,2,   2.390,2,   1.450,2,   1.461,2,     2086.6,2,    2346,3,  -999.0,9, -999.00,   7.9649,2,       25,-999.000,9,-999.0000,9, -999.00,9,  -999.0,9,  -999.0,   2.304,4, -999.00,9,  60.0488,2,    4.75,2,   73.30,  -999.0,9,  17.0180,     26.141,    35.9911,2,     -999.0,9,     -999.0,1,     -999.0,     -999.0,9,     -999.0
33RO20110926,        A10,      43,          1,         21,      11010,2,20111008,       1450,   -30.0031,    -6.2443,     -999.0,   125.9,  16.8918,  35.8097,2,  35.8084,2,    231.0,2,     232,2,     1.8,2,     0.7,2,    0.50,2,   0.231,2,   2.398,2,   1.452,2,   1.460,2,     2090.1,2,  2351.8,2,  -999.0,9, -999.00,   7.9559,2,       25,-999.000,9,-999.0000,9, -999.00,9,  -999.0,9,  -999.0,   1.979,4, -999.00,9,  57.4244,2,    4.96,2,  125.90,  -999.0,9,  16.8711,     26.166,    35.9773,2,     -999.0,9,     -999.0,1,     -999.0,     -999.0,9,     -999.0
33RO20110926,        A10,      43,          1,         20,      11715,2,20111008,       1450,   -30.0031,    -6.2443,     -999.0,   185.1,  16.7994,  35.7877,2,  35.7886,2,    231.0,2,   231.1,2,     1.9,2,     1.1,2,    0.31,2,   0.241,2,   2.408,2,   1.461,2,   1.439,2,     2091.9,2,  2349.1,2,  -999.0,9, -999.00,   7.9609,2,       25,-999.000,9,-999.0000,9, -999.00,9,  -999.0,9,  -999.0,   1.876,4, -999.00,9,  55.7951,2,    3.85,3,  185.10,  -999.0,9,  16.7689,     26.175,    35.9573,2,     -999.0,9,     -999.0,9,     -999.0,     -999.0,9,     -999.0
33RO20110926,        A10,      43,          1,         19,      11007,2,20111008,       1450,   -30.0031,    -6.2443,     -999.0,   270.6,  15.7297,  35.5550,2,  35.5536,2,    224.3,2,   223.7,2,     2.7,2,     3.7,2,    0.01,2,   0.381,2,   2.554,2,   1.534,2,   1.410,2,     2098.7,3,  2332.9,2,  -999.0,9, -999.00,   7.9279,2,       25,-999.000,9,-999.0000,9, -999.00,9,  -999.0,9,  -999.0,   1.037,3, -999.00,9,   54.322,2, -999.00,9,  270.60,  -999.0,9,  15.6871,     26.245,    35.7212,2,     -999.0,9,     -999.0,9,     -999.0,     -999.0,9,     -999.0
33RO20110926,        A10,      43,          1,         18,      11710,2,20111008,       1450,   -30.0031,    -6.2443,     -999.0,   359.4,  14.9980,  35.4250,2,  35.4244,2,    225.0,2,   225.1,2,     2.7,6,     4.6,6,    0.01,6,   0.437,6,   2.643,2,   1.586,2,   1.416,2,     2095.8,3,  2328.1,2,  -999.0,9, -999.00,   7.9149,2,       25,-999.000,9,-999.0000,9, -999.00,9,  -999.0,9,  -999.0,   0.916,3, -999.00,9,  54.1854,2, -999.00,9,  359.40,  -999.0,9,  14.9431,     26.311,    35.5914,2,     -999.0,9,     -999.0,9,     -999.0,     -999.0,9,     -999.0
33RO20110926,        A10,      43,          1,         17,      11023,2,20111008,       1450,   -30.0031,    -6.2443,     -999.0,   499.6,  12.7219,  35.1304,2,  35.1300,2,    212.3,2,   211.9,2,     4.4,2,    10.8,2,    0.01,2,   0.816,2,   2.974,2,   1.708,2,   1.336,2,     2124.8,2,    2311,2,  -999.0,9, -999.00,   7.8307,2,       25,-999.000,9,-999.0000,9, -999.00,9,  -999.0,9,  -999.0,   0.932,3, -999.00,9,  49.4049,2, -999.00,9,  499.60,  -999.0,9,  12.6533,     26.560,    35.2956,2,     -999.0,9,     -999.0,9,     -999.0,     -999.0,9,     -999.0
33RO20110926,        A10,      43,          1,         16,      11709,2,20111008,       1450,   -30.0031,    -6.2443,     -999.0,   625.0,  10.4556,  34.8484,2,  34.8472,2,    210.9,2,   210.1,2,     6.6,2,    16.5,2,    0.01,2,   1.152,2,-999.000,5,-999.000,5,-999.000,5,     2142.3,2,  2287.2,4,  -999.0,9, -999.00,   7.7735,3,       25,-999.000,9,-999.0000,9, -999.00,9,  -999.0,9,  -999.0,-999.000,5, -999.00,9,  45.6195,2, -999.00,9,  625.00,  -999.0,9,  10.3796,     26.767,    35.0115,2,     -999.0,9,     -999.0,9,     -999.0,     -999.0,9,     -999.0
33RO20110926,        A10,      43,          1,         15,      11006,2,20111008,       1450,   -30.0031,    -6.2443,     -999.0,   774.5,   7.2178,  34.4905,2,  34.4908,2,    207.6,2,   206.1,2,    14.1,2,    24.8,2,    0.01,2,   1.694,2,   3.113,2,   1.631,2,   0.873,2,     2169.7,2,  2288.7,2,  -999.0,9, -999.00,   7.6723,2,       25,-999.000,9,-999.0000,9, -999.00,9,  -999.0,9,  -999.0,   1.861,3, -999.00,9,  43.4829,2, -999.00,9,  774.50,  -999.0,9,   7.1415,     26.997,    34.6534,2,     -999.0,9,     -999.0,9,     -999.0,     -999.0,9,     -999.0
33RO20110926,        A10,      43,          1,         14,      11708,2,20111008,       1450,   -30.0031,    -6.2443,     -999.0,   924.0,   5.0888,  34.3384,2,  34.3379,2,    212.4,2,   212.1,2,    22.8,2,    29.2,2,    0.01,2,   1.997,2,   2.813,2,   1.430,2,   0.720,2,     2184.4,2,  2293.9,2,  -999.0,9, -999.00,   7.6384,2,       25,-999.000,9,-999.0000,9, -999.00,9,  -999.0,9,  -999.0,   2.290,3, -999.00,9,  40.1854,2, -999.00,9,  924.00,  -999.0,9,   5.0119,     27.148,    34.4998,2,     -999.0,9,     -999.0,9,     -999.0,     -999.0,9,     -999.0
33RO20110926,        A10,      43,          1,         13,      11031,2,20111008,       1450,   -30.0031,    -6.2443,     -999.0,  1125.7,   3.8239,  34.3870,2,  34.3869,2,    193.6,2,   192.8,2,    40.5,6,    32.6,6,    0.01,6,   2.244,6,   1.558,2,   0.770,2,   0.287,2,     2214.4,2,  2304.4,2,  -999.0,9, -999.00,   7.5964,2,       25,-999.000,9,-999.0000,9, -999.00,9,  -999.0,9,  -999.0,   1.558,3, -999.00,9,  41.9707,3, -999.00,9, 1125.70,  -999.0,9,   3.7394,     27.325,    34.5491,2,     -999.0,9,     -999.0,9,     -999.0,     -999.0,9,     -999.0
33RO20110926,        A10,      43,          1,         12,      11027,2,20111008,       1450,   -30.0031,    -6.2443,     -999.0,  1324.4,   3.2731,  34.5058,2,  34.5065,2,    180.4,2,   179.9,2,    52.7,2,    33.2,2,    0.01,2,   2.283,2,   0.656,2,   0.316,2,   0.136,2,     2231.2,2,  2320.6,6,  -999.0,9, -999.00,   7.5812,6,       25,-999.000,9,-999.0000,9, -999.00,9,  -999.0,9,  -999.0,   0.875,3, -999.00,9,  41.7073,2, -999.00,9, 1324.40,  -999.0,9,   3.1770,     27.475,    34.6692,2,     -999.0,9,     -999.0,9,     -999.0,     -999.0,9,     -999.0
33RO20110926,        A10,      43,          1,         11,      11707,2,20111008,       1450,   -30.0031,    -6.2443,     -999.0,  1525.0,   3.0636,  34.6248,2,  34.6239,2,    184.6,2,   184.7,2,    53.9,2,    31.8,2,    0.01,2,   2.159,2,   0.262,6,   0.122,6,   0.037,6,     2231.4,6,  2324.4,2,  -999.0,9, -999.00,   7.5984,2,       25,-999.000,9,-999.0000,9, -999.00,9,  -999.0,9,  -999.0,   0.491,3, -999.00,9,   40.761,2, -999.00,9, 1525.00,  -999.0,9,   2.9528,     27.589,    34.7872,2,     -999.0,9,     -999.0,9,     -999.0,     -999.0,9,     -999.0
33RO20110926,        A10,      43,          1,         10,      11003,2,20111008,       1450,   -30.0031,    -6.2443,     -999.0,  1774.7,   2.9846,  34.7399,2,  34.7399,2,    196.9,2,   198.5,2,    50.4,6,    28.8,6,    0.01,6,   1.958,6,   0.083,6,   0.039,6,   0.000,6,     2218.4,2,  2327.3,2,  -999.0,9, -999.00,   7.6354,2,       25,-999.000,9,-999.0000,9, -999.00,9,  -999.0,9,  -999.0,   0.220,3, -999.00,9,  38.6732,2, -999.00,9, 1774.70,  -999.0,9,   2.8530,     27.691,    34.9037,2,     -999.0,9,     -999.0,9,     -999.0,     -999.0,9,     -999.0
33RO20110926,        A10,      43,          1,          9,      11706,2,20111008,       1450,   -30.0031,    -6.2443,     -999.0,  2048.9,   2.7945,  34.7954,2,  34.7951,2,    210.7,2,   211.9,2,    50.5,2,    27.1,2,    0.01,2,   1.831,2,   0.038,2,   0.019,2,   0.000,2,     2212.8,2,  2334.3,2,  -999.0,9, -999.00,   7.6615,2,       25,-999.000,9,-999.0000,9, -999.00,9,  -999.0,9,  -999.0,   0.162,3, -999.00,9,  41.5415,2, -999.00,9, 2048.90,  -999.0,9,   2.6411,     27.754,    34.9592,2,     -999.0,9,     -999.0,9,     -999.0,     -999.0,9,     -999.0
33RO20110926,        A10,      43,          1,          8,      11033,2,20111008,       1450,   -30.0031,    -6.2443,     -999.0,  2350.6,   2.5704,  34.8273,2,  34.8272,2,    221.8,2,   222.2,2,    51.8,2,    25.8,2,    0.01,2,   1.734,2,   0.021,2,   0.011,2,   0.000,2,     2207.7,2,  2334.6,2,  -999.0,9, -999.00,   7.6783,2,       25,-999.000,9,-999.0000,9, -999.00,9,  -999.0,9,  -999.0,   0.098,3, -999.00,9,  42.0488,2, -999.00,9, 2350.60,  -999.0,9,   2.3928,     27.801,    34.9914,2,     -999.0,9,     -999.0,9,     -999.0,     -999.0,9,     -999.0
33RO20110926,        A10,      43,          1,          7,      11705,2,20111008,       1450,   -30.0031,    -6.2443,     -999.0,  2650.1,   2.4726,  34.8484,2,  34.8488,2,    229.5,2,   229.2,2,    51.1,2,    24.8,2,    0.01,2,   1.670,2,   0.007,2,   0.004,2,   0.000,2,     2204.1,2,  2336.8,2,  -999.0,9, -999.00,   7.6843,2,       25,-999.000,9,-999.0000,9, -999.00,9,  -999.0,9,  -999.0,   0.075,3, -999.00,9,  38.9561,2, -999.00,9, 2650.10,  -999.0,9,   2.2684,     27.829,    35.0132,2,     -999.0,9,     -999.0,9,     -999.0,     -999.0,9,     -999.0
33RO20110926,        A10,      43,          1,          6,      11029,2,20111008,       1450,   -30.0031,    -6.2443,     -999.0,  2951.6,   2.4103,  34.8620,2,  34.8654,2,    234.0,2,   234.5,2,    50.5,2,    24.2,2,    0.01,2,   1.624,2,   0.006,2,   0.004,2,   0.000,2,     2201.6,2,  2339.9,2,  -999.0,9, -999.00,   7.7024,2,       25,-999.000,9,-999.0000,9, -999.00,9,  -999.0,9,  -999.0,   0.068,3, -999.00,9,  43.0244,2, -999.00,9, 2951.60,  -999.0,9,   2.1775,     27.849,    35.0298,2,     -999.0,9,     -999.0,9,     -999.0,     -999.0,9,     -999.0
33RO20110926,        A10,      43,          1,          5,      11704,2,20111008,       1450,   -30.0031,    -6.2443,     -999.0,  3199.6,   2.3805,  34.8698,2,  34.8701,2,    235.3,2,   236.1,2,    50.4,2,    23.8,2,    0.01,2,   1.599,2,   0.003,2,   0.002,2,   0.031,3,     2202.6,2,  2343.7,2,  -999.0,9, -999.00,   7.7094,2,       25,-999.000,9,-999.0000,9, -999.00,9,  -999.0,9,  -999.0,   0.044,3, -999.00,9,  41.9707,2, -999.00,9, 3199.60,  -999.0,9,   2.1230,     27.858,    35.0345,2,     -999.0,9,     -999.0,9,     -999.0,     -999.0,9,     -999.0
33RO20110926,        A10,      43,          1,          4,      11030,2,20111008,       1450,   -30.0031,    -6.2443,     -999.0,  3550.2,   2.3698,  34.8759,2,  34.8760,2,    234.3,2,   234.7,2,    51.1,2,    23.8,2,    0.01,2,   1.592,2,   0.003,2,   0.001,2,   0.000,2,     2206.3,2,  2346.6,2,  -999.0,9, -999.00,   7.7114,2,       25,-999.000,9,-999.0000,9, -999.00,9,  -999.0,9,  -999.0,   0.028,3, -999.00,9,-999.0000,5, -999.00,9, 3550.20,  -999.0,9,   2.0754,     27.866,    35.0405,2,     -999.0,9,     -999.0,9,     -999.0,     -999.0,9,     -999.0
33RO20110926,        A10,      43,          1,          3,      11703,2,20111008,       1450,   -30.0031,    -6.2443,     -999.0,  3908.9,   2.3846,  34.8789,2,  34.8788,2,    233.4,2,   234.8,2,    51.3,6,    23.7,6,    0.01,6,   1.588,6,   0.003,2,   0.003,2,   0.027,3,     2209.6,2,  2352.3,2,  -999.0,9, -999.00,   7.7034,2,       25,-999.000,9,-999.0000,9, -999.00,9,  -999.0,9,  -999.0,   0.020,3, -999.00,9,-999.0000,5, -999.00,9, 3908.90,  -999.0,9,   2.0500,     27.871,    35.0432,2,     -999.0,9,     -999.0,9,     -999.0,     -999.0,9,     -999.0
33RO20110926,        A10,      43,          1,          2,      11702,2,20111008,       1450,   -30.0031,    -6.2443,     -999.0,  4249.3,   2.4062,  34.8793,2,  34.8798,2,    233.7,2,   233.4,2,    52.1,2,    23.9,2,    0.01,2,   1.597,2,   0.003,2,   0.000,2,   0.000,2,     2210.9,2,  2353.8,6,  -999.0,9, -999.00,   7.7181,6,       25,-999.000,9,-999.0000,9, -999.00,9,  -999.0,9,  -999.0,   0.017,3, -999.00,9,  41.7268,2, -999.00,9, 4249.30,  -999.0,9,   2.0317,     27.873,    35.0442,2,     -999.0,9,     -999.0,9,     -999.0,     -999.0,9,     -999.0
33RO20110926,        A10,      43,          1,          1,      11701,2,20111008,       1450,   -30.0031,    -6.2443,     -999.0,  4674.6,   2.4333,  34.8780,2,  34.8793,2,    233.3,2,   231.7,2,    53.3,2,    23.9,2,    0.01,2,   1.600,2,   0.004,2,   0.003,2,   0.025,3,     2214.8,6,  2356.7,2,  -999.0,9, -999.00,   7.7186,2,       25,-999.000,9,-999.0000,9, -999.00,9,  -999.0,9,  -999.0,   0.032,3, -999.00,9,     43.6,2, -999.00,9, 4674.60,  -999.0,9,   2.0068,     27.874,    35.0437,2,     -999.0,9,     -999.0,9,     -999.0,     -999.0,9,     -999.0