BOTTLE,20220815CCHSIOAMB
EXPOCODE,SECT_ID,STNNBR,CASTNO,SAMPNO,BTLNBR,BTLNBR_FLAG_W,DATE,TIME,LATITUDE,LONGITUDE,DEPTH,CTDPRS,CTDTMP,CTDSAL,CTDSAL_FLAG_W,SALNTY,SALNTY_FLAG_W,CTDOXY,CTDOXY_FLAG_W,OXYGEN,OXYGEN_FLAG_W,SILCAT,SILCAT_FLAG_W,NITRAT,NITRAT_FLAG_W,NITRIT,NITRIT_FLAG_W,PHSPHT,PHSPHT_FLAG_W,CFC-11,CFC-11_FLAG_W,CFC-12,CFC-12_FLAG_W,SF6,SF6_FLAG_W,TCARBN,TCARBN_FLAG_W,ALKALI,ALKALI_FLAG_W,PCO2,PCO2_FLAG_W,PCO2TMP,PH_SWS,PH_SWS_FLAG_W,PH_TMP,TRITUM,TRITUM_FLAG_W,HELIUM,HELIUM_FLAG_W,DELC13,DELC13_FLAG_W,DELC14,DELC14_FLAG_W,C14ERR,CCL4,CCL4_FLAG_W,DELO18,DELO18_FLAG_W,DOC,DOC_FLAG_W,TDN,TDN_FLAG_W,CTDRAW,14C-DOC,14C-DOC_FLAG_W,THETA,SIG0,SALTREF,SALTREF_FLAG_W,BLACKC,BLACKC_FLAG_W,PIGMENTS,PIGMENTS_FLAG_W,14C-DOCERR,13C-DOC,13C-DOC_FLAG_W,13C-DOCERR
,,,,,,,,,,,METERS,DBAR,ITS-90,PSS-78,,PSS-78,,UMOL/KG,,UMOL/KG,,UMOL/KG,,UMOL/KG,,UMOL/KG,,UMOL/KG,,PMOL/KG,,PMOL/KG,,FMOL/KG,,UMOL/KG,,UMOL/KG,,UATM,,DEG C,,,DEG C,TU,,NMOL/KG,,/MILLE,,/MILLE,,/MILLE,PMOL/KG,,/MILLE,,UMOL/KG,,UMOL/KG,,DBAR,/MILLE,,DEG C,KG/M^3,G/KG,,,,,,/MILLE,/MILLE,,/MILLE
33RO20110926,        A10,      40,          1,         24,      11714,2,20111007,       2214,   -30.0009,    -4.5089,       4363,     4.5,  18.6573,  35.9266,2,  35.9279,2,    236.0,2,   236.9,2,     1.3,2,     0.0,2,    0.00,2,   0.169,2,   2.345,6,   1.420,6,   1.438,6,     2082.3,6,    2360,2,  -999.0,9, -999.00,   7.9819,2,       25,-999.000,1,-999.0000,1, -999.00,9,  -999.0,9,  -999.0,   2.649,4, -999.00,1,-999.0000,9, -999.00,9,    4.50,  -999.0,9,  18.6565,     25.819,    36.0974,2,     -999.0,9,     -999.0,1,     -999.0,     -999.0,9,     -999.0
33RO20110926,        A10,      40,          1,         23,      11713,2,20111007,       2214,   -30.0009,    -4.5089,       4363,    80.0,  17.4221,  35.8533,2,  35.8526,2,    241.0,2,   241.7,2,     1.3,2,     0.0,2,    0.01,2,   0.164,2,   2.404,2,   1.450,2,   1.441,2,-999.000000,9,  2354.3,6,  -999.0,9, -999.00,   7.9835,6,       25,-999.000,1,-999.0000,1, -999.00,9,  -999.0,9,  -999.0,   2.508,4, -999.00,1,-999.0000,9, -999.00,9,   80.00,  -999.0,9,  17.4086,     26.072,    36.0216,2,     -999.0,9,     -999.0,1,     -999.0,     -999.0,9,     -999.0
33RO20110926,        A10,      40,          1,         22,      11712,2,20111007,       2214,   -30.0009,    -4.5089,       4363,   109.3,  17.0869,  35.8110,2,  35.8070,2,    238.3,2,   234.7,2,     1.6,2,     0.5,2,    0.27,2,   0.223,2,   2.416,2,   1.456,2,   1.467,2,-999.000000,9,  2352.8,2,  -999.0,9, -999.00,   7.9739,2,       25,-999.000,1,-999.0000,1, -999.00,9,  -999.0,9,  -999.0,   1.692,4, -999.00,1,-999.0000,9, -999.00,9,  109.30,  -999.0,9,  17.0687,     26.117,    35.9758,2,     -999.0,9,     -999.0,1,     -999.0,     -999.0,9,     -999.0
33RO20110926,        A10,      40,          1,         21,      11010,2,20111007,       2214,   -30.0009,    -4.5089,       4363,   158.9,  16.5766,  35.7371,2,  35.7371,2,    231.6,2,   233.7,2,     1.9,6,     1.2,6,    0.40,6,   0.256,6,   2.459,2,   1.480,2,   1.464,2,-999.000000,9,  2345.5,2,  -999.0,9, -999.00,   7.9599,2,       25,-999.000,1,-999.0000,1, -999.00,9,  -999.0,9,  -999.0,   1.494,4, -999.00,1,-999.0000,9, -999.00,9,  158.90,  -999.0,9,  16.5507,     26.186,    35.9056,2,     -999.0,9,     -999.0,9,     -999.0,     -999.0,9,     -999.0
33RO20110926,        A10,      40,          1,         20,      11715,2,20111007,       2214,   -30.0009,    -4.5089,       4363,   209.9,  15.1258,  35.4426,2,  35.4450,2,    220.2,2,   219.7,2,     2.8,2,     5.1,2,    0.01,2,   0.481,2,   2.665,2,   1.586,2,   1.388,2,-999.000000,9,  2329.5,2,  -999.0,9, -999.00,   7.9058,2,       25,-999.000,1,-999.0000,1, -999.00,9,  -999.0,9,  -999.0,   0.688,3, -999.00,1,-999.0000,9, -999.00,9,  209.90,  -999.0,9,  15.0937,     26.295,    35.6122,2,     -999.0,9,     -999.0,9,     -999.0,     -999.0,9,     -999.0
33RO20110926,        A10,      40,          1,         19,      11007,2,20111007,       2214,   -30.0009,    -4.5089,       4363,   284.1,  13.2646,  35.1684,2,  35.1691,2,    217.1,2,   217.5,2,     3.5,2,     8.6,2,    0.01,2,   0.697,2,   2.924,2,   1.702,2,   1.430,2,-999.000000,9,  2313.9,2,  -999.0,9, -999.00,   7.8527,2,       25,-999.000,1,-999.0000,1, -999.00,9,  -999.0,9,  -999.0,   0.708,3, -999.00,1,-999.0000,9, -999.00,9,  284.10,  -999.0,9,  13.2248,     26.478,    35.3350,2,     -999.0,9,     -999.0,9,     -999.0,     -999.0,9,     -999.0
33RO20110926,        A10,      40,          1,         18,      11710,2,20111007,       2214,   -30.0009,    -4.5089,       4363,   359.4,  12.2385,  35.0686,2,  35.0703,2,    213.1,2,   211.1,2,     4.6,2,    12.0,2,    0.01,2,   0.902,2,   3.058,2,   1.737,2,   1.276,2,-999.000000,9,  2308.9,2,  -999.0,9, -999.00,   7.8166,2,       25,-999.000,1,-999.0000,1, -999.00,9,  -999.0,9,  -999.0,   0.793,3, -999.00,1,-999.0000,9, -999.00,9,  359.40,  -999.0,9,  12.1906,     26.606,    35.2357,2,     -999.0,9,     -999.0,9,     -999.0,     -999.0,9,     -999.0
33RO20110926,        A10,      40,          1,         17,      11023,2,20111007,       2214,   -30.0009,    -4.5089,       4363,   466.1,  10.6763,  34.8774,2,  34.8791,2,    209.7,2,   209.7,2,     6.2,2,    15.8,2,    0.01,2,   1.141,2,   3.155,2,   1.753,2,   1.182,2,-999.000000,9,  2301.1,2,  -999.0,9, -999.00,   7.7705,2,       25,-999.000,1,-999.0000,1, -999.00,9,  -999.0,9,  -999.0,   1.263,3, -999.00,1,-999.0000,9, -999.00,9,  466.10,  -999.0,9,  10.6193,     26.749,    35.0435,2,     -999.0,9,     -999.0,9,     -999.0,     -999.0,9,     -999.0
33RO20110926,        A10,      40,          1,         16,      11709,2,20111007,       2214,   -30.0009,    -4.5089,       4363,   589.3,   8.5459,  34.6255,2,  34.6267,2,    202.4,2,   203.2,2,    10.5,6,    21.5,6,    0.01,6,   1.524,6,   3.144,2,   1.680,2,   0.987,2,-999.000000,9,  2293.9,2,  -999.0,9, -999.00,   7.7065,2,       25,-999.000,1,-999.0000,1, -999.00,9,  -999.0,9,  -999.0,   1.293,3, -999.00,1,-999.0000,9, -999.00,9,  589.30,  -999.0,9,   8.4828,     26.907,    34.7900,2,     -999.0,9,     -999.0,9,     -999.0,     -999.0,9,     -999.0
33RO20110926,        A10,      40,          1,         15,      11006,2,20111007,       2214,   -30.0009,    -4.5089,       4363,   715.6,   6.4606,  34.4294,2,  34.4288,2,    204.3,2,   203.7,2,    16.7,2,    26.8,2,    0.01,2,   1.878,2,   2.991,2,   1.555,2,   0.822,2,-999.000000,9,  2289.8,2,  -999.0,9, -999.00,   7.6565,2,       25,-999.000,1,-999.0000,1, -999.00,9,  -999.0,9,  -999.0,   2.300,3, -999.00,1,-999.0000,9, -999.00,9,  715.60,  -999.0,9,   6.3946,     27.050,    34.5911,2,     -999.0,9,     -999.0,9,     -999.0,     -999.0,9,     -999.0
33RO20110926,        A10,      40,          1,         14,      11708,2,20111007,       2214,   -30.0009,    -4.5089,       4363,   840.5,   5.0283,  34.3410,2,  34.3407,2,    210.3,2,     210,2,    23.5,2,    29.5,2,    0.01,2,   2.063,2,   2.742,2,   1.386,2,   0.675,2,-999.000000,9,  2292.3,2,  -999.0,9, -999.00,   7.6344,2,       25,-999.000,1,-999.0000,1, -999.00,9,  -999.0,9,  -999.0,   2.479,3, -999.00,1,-999.0000,9, -999.00,9,  840.50,  -999.0,9,   4.9593,     27.157,    34.5026,2,     -999.0,9,     -999.0,9,     -999.0,     -999.0,9,     -999.0
33RO20110926,        A10,      40,          1,         13,      11031,2,20111007,       2214,   -30.0009,    -4.5089,       4363,   970.8,   4.1378,  34.3455,2,  34.3462,2,    203.6,2,   203.4,2,    33.4,2,    31.6,2,    0.01,2,   2.211,2,   2.082,2,   1.030,2,   0.429,2,-999.000000,9,  2298.8,2,  -999.0,9, -999.00,   7.6112,2,       25,-999.000,1,-999.0000,1, -999.00,9,  -999.0,9,  -999.0,   2.066,3, -999.00,1,-999.0000,9, -999.00,9,  970.80,  -999.0,9,   4.0638,     27.259,    34.5081,2,     -999.0,9,     -999.0,9,     -999.0,     -999.0,9,     -999.0
33RO20110926,        A10,      40,          1,         12,      11027,2,20111007,       2214,   -30.0009,    -4.5089,       4363,  1160.1,   3.4167,  34.4435,2,  34.4429,2,    185.7,2,   185.9,2,    48.2,6,    33.1,6,    0.01,6,   2.335,6,   1.031,2,   0.496,2,   0.222,2,-999.000000,9,    2314,6,  -999.0,9, -999.00,   7.5866,6,       25,-999.000,1,-999.0000,1, -999.00,9,  -999.0,9,  -999.0,   1.178,3, -999.00,1,-999.0000,9, -999.00,9, 1160.10,  -999.0,9,   3.3328,     27.409,    34.6054,2,     -999.0,9,     -999.0,9,     -999.0,     -999.0,9,     -999.0
33RO20110926,        A10,      40,          1,         11,      11707,2,20111007,       2214,   -30.0009,    -4.5089,       4363,  1400.8,   3.0488,  34.5852,2,  34.5845,2,    182.8,2,   184.5,2,    55.2,2,    32.0,2,    0.00,2,   2.252,2,   0.378,2,   0.174,2,   0.069,2,-999.000000,9,  2324.5,2,  -999.0,9, -999.00,   7.5942,2,       25,-999.000,1,-999.0000,1, -999.00,9,  -999.0,9,  -999.0,   0.524,3, -999.00,1,-999.0000,9, -999.00,9, 1400.80,  -999.0,9,   2.9486,     27.558,    34.7476,2,     -999.0,9,     -999.0,9,     -999.0,     -999.0,9,     -999.0
33RO20110926,        A10,      40,          1,         10,      11003,2,20111007,       2214,   -30.0009,    -4.5089,       4363,  1649.8,   2.8875,  34.7050,2,  34.7042,2,    195.0,2,   195.9,2,    54.2,2,    29.6,2,    0.00,2,   2.062,2,   0.142,6,   0.064,6,   0.007,6,-999.000000,9,  2328.9,2,  -999.0,9, -999.00,   7.6242,2,       25,-999.000,1,-999.0000,1, -999.00,9,  -999.0,9,  -999.0,   0.223,3, -999.00,1,-999.0000,9, -999.00,9, 1649.80,  -999.0,9,   2.7681,     27.670,    34.8679,2,     -999.0,9,     -999.0,9,     -999.0,     -999.0,9,     -999.0
33RO20110926,        A10,      40,          1,          9,      11706,2,20111007,       2214,   -30.0009,    -4.5089,       4363,  1950.3,   2.6908,  34.7857,2,  34.7852,2,    210.0,2,     211,2,    53.7,2,    27.2,2,    0.00,2,   1.891,2,   0.057,2,   0.027,2,   0.032,2,-999.000000,9,  2332.4,2,  -999.0,9, -999.00,   7.6565,2,       25,-999.000,1,-999.0000,1, -999.00,9,  -999.0,9,  -999.0,   0.140,3, -999.00,1,-999.0000,9, -999.00,9, 1950.30,  -999.0,9,   2.5477,     27.754,    34.9493,2,     -999.0,9,     -999.0,9,     -999.0,     -999.0,9,     -999.0
33RO20110926,        A10,      40,          1,          8,      11033,2,20111007,       2214,   -30.0009,    -4.5089,       4363,  2229.2,   2.5478,  34.8241,2,  34.8234,2,    220.8,2,   221.3,2,    52.7,2,    25.8,2,    0.00,2,   1.778,2,   0.027,2,   0.014,2,   0.000,2,-999.000000,9,  2334.2,2,  -999.0,9, -999.00,   7.6765,2,       25,-999.000,1,-999.0000,1, -999.00,9,  -999.0,9,  -999.0,   0.098,3, -999.00,9,-999.0000,9, -999.00,9, 2229.20,  -999.0,9,   2.3818,     27.799,    34.9876,2,     -999.0,9,     -999.0,9,     -999.0,     -999.0,9,     -999.0
33RO20110926,        A10,      40,          1,          7,      11705,2,20111007,       2214,   -30.0009,    -4.5089,       4363,  2549.6,   2.4397,  34.8511,2,  34.8513,2,    230.0,2,   231.5,2,    51.0,2,    24.6,2,    0.00,2,   1.687,2,   0.010,2,   0.005,2,   0.000,2,-999.000000,9,  2335.4,2,  -999.0,9, -999.00,   7.6935,2,       25,-999.000,1,-999.0000,1, -999.00,9,  -999.0,9,  -999.0,   0.056,3, -999.00,9,-999.0000,9, -999.00,9, 2549.60,  -999.0,9,   2.2457,     27.833,    35.0157,2,     -999.0,9,     -999.0,9,     -999.0,     -999.0,9,     -999.0
33RO20110926,        A10,      40,          1,          6,      11029,2,20111007,       2214,   -30.0009,    -4.5089,       4363,  2849.1,   2.3842,  34.8626,2,  34.8624,2,    234.2,2,   234.9,2,    50.9,2,    24.1,2,    0.00,2,   1.658,2,   0.005,2,   0.004,2,   0.000,2,-999.000000,9,  2339.7,2,  -999.0,9, -999.00,   7.7054,2,       25,-999.000,9,-999.0000,1, -999.00,9,  -999.0,9,  -999.0,   0.036,3, -999.00,9,-999.0000,9, -999.00,9, 2849.10,  -999.0,9,   2.1622,     27.848,    35.0268,2,     -999.0,9,     -999.0,9,     -999.0,     -999.0,9,     -999.0
33RO20110926,        A10,      40,          1,          5,      11704,2,20111007,       2214,   -30.0009,    -4.5089,       4363,  3148.4,   2.3560,  34.8702,2,  34.8701,2,    235.7,2,   236.1,2,    51.0,2,    23.8,2,    0.00,2,   1.635,2,   0.004,2,   0.002,2,   0.000,2,-999.000000,9,  2343.7,2,  -999.0,9, -999.00,   7.7044,2,       25,-999.000,1,-999.0000,1, -999.00,9,  -999.0,9,  -999.0,   0.031,3, -999.00,9,-999.0000,9, -999.00,9, 3148.40,  -999.0,9,   2.1044,     27.859,    35.0345,2,     -999.0,9,     -999.0,9,     -999.0,     -999.0,9,     -999.0
33RO20110926,        A10,      40,          1,          4,      11030,2,20111007,       2214,   -30.0009,    -4.5089,       4363,  3449.5,   2.3473,  34.8752,2,  34.8750,2,    234.3,2,   235.4,2,    51.4,6,    23.6,6,    0.00,6,   1.629,6,   0.005,2,   0.003,2,   0.000,2,-999.000000,9,  2347.5,2,  -999.0,9, -999.00,   7.7104,2,       25,-999.000,9,-999.0000,1, -999.00,9,  -999.0,9,  -999.0,   0.033,3, -999.00,9,-999.0000,9, -999.00,9, 3449.50,  -999.0,9,   2.0643,     27.866,    35.0394,2,     -999.0,9,     -999.0,9,     -999.0,     -999.0,9,     -999.0
33RO20110926,        A10,      40,          1,          3,      11703,2,20111007,       2214,   -30.0009,    -4.5089,       4363,  3749.8,   2.3457,  34.8769,2,  34.8764,2,    233.9,2,   234.4,2,    52.4,2,    23.8,2,    0.01,2,   1.630,2,   0.005,2,   0.003,2,   0.000,2,-999.000000,9,  2351.6,2,  -999.0,9, -999.00,   7.7176,2,       25,-999.000,1,-999.0000,1, -999.00,9,  -999.0,9,  -999.0,   0.037,3, -999.00,9,-999.0000,9, -999.00,9, 3749.80,  -999.0,9,   2.0300,     27.870,    35.0408,2,     -999.0,9,     -999.0,9,     -999.0,     -999.0,9,     -999.0
33RO20110926,        A10,      40,          1,          2,      11702,2,20111007,       2214,   -30.0009,    -4.5089,       4363,  4052.5,   2.3301,  34.8738,2,  34.8741,2,    232.9,2,   232.2,2,    54.4,2,    24.1,2,    0.01,2,   1.647,2,   0.005,2,   0.004,2,   0.000,2,-999.000000,9,  2355.3,2,  -999.0,9, -999.00,   7.7126,2,       25,-999.000,1,-999.0000,1, -999.00,9,  -999.0,9,  -999.0,   0.035,3, -999.00,9,-999.0000,9, -999.00,9, 4052.50,  -999.0,9,   1.9807,     27.872,    35.0386,2,     -999.0,9,     -999.0,9,     -999.0,     -999.0,9,     -999.0
33RO20110926,        A10,      40,          1,          1,      11701,2,20111007,       2214,   -30.0009,    -4.5089,       4363,  4449.9,   2.2795,  34.8623,2,  34.8627,2,    232.9,2,   231.4,2,    58.8,2,    24.6,2,    0.01,2,   1.685,2,   0.009,2,   0.005,2,   0.000,2,-999.000000,9,  2356.1,6,  -999.0,9, -999.00,    7.705,6,       25,-999.000,1,-999.0000,1, -999.00,9,  -999.0,9,  -999.0,   0.045,3, -999.00,9,-999.0000,9, -999.00,9, 4449.90,  -999.0,9,   1.8851,     27.871,    35.0270,2,     -999.0,9,     -999.0,9,     -999.0,     -999.0,9,     -999.0