BOTTLE,20220815CCHSIOAMB
EXPOCODE,SECT_ID,STNNBR,CASTNO,SAMPNO,BTLNBR,BTLNBR_FLAG_W,DATE,TIME,LATITUDE,LONGITUDE,DEPTH,CTDPRS,CTDTMP,CTDSAL,CTDSAL_FLAG_W,SALNTY,SALNTY_FLAG_W,CTDOXY,CTDOXY_FLAG_W,OXYGEN,OXYGEN_FLAG_W,SILCAT,SILCAT_FLAG_W,NITRAT,NITRAT_FLAG_W,NITRIT,NITRIT_FLAG_W,PHSPHT,PHSPHT_FLAG_W,CFC-11,CFC-11_FLAG_W,CFC-12,CFC-12_FLAG_W,SF6,SF6_FLAG_W,TCARBN,TCARBN_FLAG_W,ALKALI,ALKALI_FLAG_W,PCO2,PCO2_FLAG_W,PCO2TMP,PH_SWS,PH_SWS_FLAG_W,PH_TMP,TRITUM,TRITUM_FLAG_W,HELIUM,HELIUM_FLAG_W,DELC13,DELC13_FLAG_W,DELC14,DELC14_FLAG_W,C14ERR,CCL4,CCL4_FLAG_W,DELO18,DELO18_FLAG_W,DOC,DOC_FLAG_W,TDN,TDN_FLAG_W,CTDRAW,14C-DOC,14C-DOC_FLAG_W,THETA,SIG0,SALTREF,SALTREF_FLAG_W,BLACKC,BLACKC_FLAG_W,PIGMENTS,PIGMENTS_FLAG_W,14C-DOCERR,13C-DOC,13C-DOC_FLAG_W,13C-DOCERR
,,,,,,,,,,,METERS,DBAR,ITS-90,PSS-78,,PSS-78,,UMOL/KG,,UMOL/KG,,UMOL/KG,,UMOL/KG,,UMOL/KG,,UMOL/KG,,PMOL/KG,,PMOL/KG,,FMOL/KG,,UMOL/KG,,UMOL/KG,,UATM,,DEG C,,,DEG C,TU,,NMOL/KG,,/MILLE,,/MILLE,,/MILLE,PMOL/KG,,/MILLE,,UMOL/KG,,UMOL/KG,,DBAR,/MILLE,,DEG C,KG/M^3,G/KG,,,,,,/MILLE,/MILLE,,/MILLE
33RO20110926,        A10,      66,          1,         24,      11714,2,20111017,       0902,   -30.0001,   -22.7779,       4655,     4.9,  19.2579,  36.2835,2,  36.2831,2,    227.6,2,   229.4,2,     1.4,2,     0.3,2,    0.01,2,   0.094,4,   2.179,6,   1.332,6,   1.373,6,     2092.3,6,  2383.6,6,  -999.0,9, -999.00,    8.007,6,       25,-999.000,1,-999.0000,1,    1.19,2,    54.4,2,     3.0,   2.747,4, -999.00,1,-999.0000,5,    4.07,2,    4.90,  -999.0,9,  19.2570,     25.936,    36.4541,2,     -999.0,1,     -999.0,1,     -999.0,     -999.0,9,     -999.0
33RO20110926,        A10,      66,          1,         23,      11713,2,20111017,       0902,   -30.0001,   -22.7779,       4655,    49.2,  19.2084,  36.2855,2,  36.2849,2,    227.2,2,   229.5,2,     1.4,2,     0.3,2,    0.01,2,   0.101,4,   2.181,2,   1.330,2,   1.345,2,     2089.9,2,  2381.9,2,  -999.0,9, -999.00,    8.007,2,       25,-999.000,1,-999.0000,1, -999.00,9,  -999.0,9,  -999.0,   2.326,4, -999.00,1,  64.5561,2,    5.15,2,   49.20,  -999.0,9,  19.1995,     25.952,    36.4560,2,     -999.0,1,     -999.0,9,     -999.0,     -999.0,9,     -999.0
33RO20110926,        A10,      66,          1,         22,      11712,2,20111017,       0902,   -30.0001,   -22.7779,       4655,    88.1,  19.1994,  36.2823,2,  36.2825,2,    227.5,2,   228.8,2,     1.4,2,     0.3,2,    0.01,2,   0.102,4,   2.183,2,   1.330,2,   1.347,2,       2091,2,  2382.4,2,  -999.0,9, -999.00,    8.008,2,       25,-999.000,1,-999.0000,1, -999.00,9,  -999.0,9,  -999.0,   2.624,4, -999.00,1,  61.0732,2,    3.48,2,   88.10,  -999.0,9,  19.1835,     25.954,    36.4536,2,     -999.0,1,     -999.0,9,     -999.0,     -999.0,9,     -999.0
33RO20110926,        A10,      66,          1,         21,      11010,2,20111017,       0902,   -30.0001,   -22.7779,       4655,   140.8,  18.6333,  36.1353,2,  36.1353,2,    226.1,2,   227.7,2,     1.6,2,     0.6,2,    0.08,2,   0.129,4,   2.230,2,   1.365,2,   1.372,2,     2091.4,2,  2371.6,2,  -999.0,9, -999.00,    7.992,2,       25,-999.000,1,-999.0000,1, -999.00,9,  -999.0,9,  -999.0,   1.688,4, -999.00,1,  60.3707,2,    4.60,2,  140.80,  -999.0,9,  18.6084,     25.982,    36.3057,2,     -999.0,1,     -999.0,1,     -999.0,     -999.0,9,     -999.0
33RO20110926,        A10,      66,          1,         20,      11715,2,20111017,       0902,   -30.0001,   -22.7779,       4655,   184.3,  16.7781,  35.7457,2,  35.7501,2,    212.7,2,   213.5,2,     2.1,2,     3.1,2,    0.02,2,   0.271,4,   2.477,2,   1.482,2,   1.334,2,     2103.5,2,  2349.6,2,  -999.0,9, -999.00,   7.9328,2,       25,-999.000,1,-999.0000,1, -999.00,9,  -999.0,9,  -999.0,   0.974,4, -999.00,1,  55.4146,2,    8.44,2,  184.30,  -999.0,9,  16.7478,     26.153,    35.9187,2,     -999.0,1,     -999.0,9,     -999.0,     -999.0,9,     -999.0
33RO20110926,        A10,      66,          1,         19,      11007,2,20111017,       0902,   -30.0001,   -22.7779,       4655,   270.1,  14.4114,  35.3734,2,  35.3723,2,    211.4,2,   213.7,2,     2.8,6,     6.9,2,    0.01,6,   0.424,4,   2.787,2,   1.630,2,   1.332,2,     2112.8,2,  2327.7,2,  -999.0,9, -999.00,   7.8777,2,       25,-999.000,1,-999.0000,1, -999.00,9,  -999.0,9,  -999.0,   0.770,3, -999.00,1,  53.1805,2, -999.00,9,  270.10,  -999.0,9,  14.3714,     26.395,    35.5391,2,     -999.0,1,     -999.0,9,     -999.0,     -999.0,9,     -999.0
33RO20110926,        A10,      66,          1,         18,      11710,2,20111017,       0902,   -30.0001,   -22.7779,       4655,   334.5,  13.3090,  35.2232,2,  35.2235,2,    209.5,2,   211.8,2,     3.6,2,     9.6,2,    0.01,2,   0.559,4,   2.921,2,   1.680,2,   1.314,2,     2120.2,2,  2320.1,2,  -999.0,9, -999.00,   7.8487,2,       25,-999.000,1,-999.0000,1, -999.00,9,  -999.0,9,  -999.0,   0.934,3, -999.00,1,  50.1951,2, -999.00,9,  334.50,  -999.0,9,  13.2619,     26.513,    35.3896,2,     -999.0,1,     -999.0,9,     -999.0,     -999.0,9,     -999.0
33RO20110926,        A10,      66,          1,         17,      11023,2,20111017,       0902,   -30.0001,   -22.7779,       4655,   471.4,  10.9022,  34.9160,2,  34.9164,2,    197.9,2,   204.5,2,     6.3,2,    16.0,2,    0.01,2,   0.871,4,   3.114,2,   1.710,2,   1.085,2,     2140.8,2,  2306.5,2,  -999.0,9, -999.00,   7.7755,2,       25,-999.000,1,-999.0000,1, -999.00,9,  -999.0,9,  -999.0,   1.218,3, -999.00,1,  48.4488,2, -999.00,9,  471.40,  -999.0,9,  10.8437,     26.737,    35.0810,2,     -999.0,1,     -999.0,9,     -999.0,     -999.0,9,     -999.0
33RO20110926,        A10,      66,          1,         16,      11709,2,20111017,       0902,   -30.0001,   -22.7779,       4655,   569.5,   9.1453,  34.6989,2,  34.6984,2,    199.6,2,   199.9,2,     9.5,2,    20.6,2,    0.01,2,   1.118,4,   3.122,2,   1.662,2,   0.898,2,       2155,2,    2298,2,  -999.0,9, -999.00,   7.7204,2,       25,-999.000,1,-999.0000,1, -999.00,9,  -999.0,9,  -999.0,   1.614,3, -999.00,1,  42.6341,2, -999.00,9,  569.50,  -999.0,9,   9.0817,     26.868,    34.8620,2,     -999.0,1,     -999.0,9,     -999.0,     -999.0,9,     -999.0
33RO20110926,        A10,      66,          1,         15,      11006,2,20111017,       0902,   -30.0001,   -22.7779,       4655,   661.9,   7.2510,  34.5063,2,  34.5070,2,    199.7,2,   198.4,2,    13.9,6,    24.7,2,    0.01,6,   1.364,4,   3.006,2,   1.548,2,   0.785,2,     2170.9,3,  2290.8,2,  -999.0,9, -999.00,   7.6663,2,       25,-999.000,1,-999.0000,1, -999.00,9,  -999.0,9,  -999.0,   1.920,3, -999.00,1,  44.2146,2, -999.00,9,  661.90,  -999.0,9,   7.1861,     27.004,    34.6697,2,     -999.0,1,     -999.0,9,     -999.0,     -999.0,9,     -999.0
33RO20110926,        A10,      66,          1,         14,      11708,2,20111017,       0902,   -30.0001,   -22.7779,       4655,   771.2,   5.5601,  34.3559,2,  34.3559,2,    215.1,2,   214.5,2,    18.7,2,    27.3,2,    0.01,2,   1.544,4,   3.030,2,   1.529,2,   0.701,2,     2177.1,2,  2286.3,2,  -999.0,9, -999.00,   7.6535,2,       25,-999.000,1,-999.0000,1, -999.00,9,  -999.0,9,  -999.0,   2.688,3, -999.00,1,-999.0000,5, -999.00,9,  771.20,  -999.0,9,   5.4940,     27.106,    34.5179,2,     -999.0,1,     -999.0,9,     -999.0,     -999.0,9,     -999.0
33RO20110926,        A10,      66,          1,         13,      11031,2,20111017,       0902,   -30.0001,   -22.7779,       4655,   869.3,   4.5247,  34.3064,2,  34.3065,2,    219.1,2,   217.9,2,    24.8,2,    29.1,2,    0.01,2,   1.686,4,   2.716,2,   1.346,2,   0.575,2,     2184.3,2,    2290,2,  -999.0,9, -999.00,   7.6344,2,       25,-999.000,1,-999.0000,1, -999.00,9,  -999.0,9,  -999.0,   2.840,3, -999.00,1,   42.839,2, -999.00,9,  869.30,  -999.0,9,   4.4566,     27.186,    34.4682,2,     -999.0,1,     -999.0,9,     -999.0,     -999.0,9,     -999.0
33RO20110926,        A10,      66,          1,         12,      11027,2,20111017,       0902,   -30.0001,   -22.7779,       4655,  1020.1,   3.7618,  34.3404,2,  34.3406,2,    207.7,2,   205.9,2,    35.6,2,    30.9,2,    0.01,2,   1.860,4,   1.894,2,   0.926,2,   0.343,2,     2204.4,2,  2299.9,2,  -999.0,9, -999.00,   7.6114,2,       25,-999.000,1,-999.0000,1, -999.00,9,  -999.0,9,  -999.0,   2.281,3, -999.00,1,  41.5024,2, -999.00,9, 1020.10,  -999.0,9,   3.6866,     27.293,    34.5026,2,     -999.0,1,     -999.0,9,     -999.0,     -999.0,9,     -999.0
33RO20110926,        A10,      66,          1,         11,      11707,2,20111017,       0902,   -30.0001,   -22.7779,       4655,  1299.8,   3.1672,  34.5178,2,  34.5169,2,    185.3,2,   184.4,2,    52.0,2,    31.7,2,    0.01,2,   2.037,4,   0.576,2,   0.277,2,   0.078,2,     2229.4,6,  2319.7,6,  -999.0,9, -999.00,   7.5899,6,       25,-999.000,1,-999.0000,1, -999.00,9,  -999.0,9,  -999.0,   0.982,3, -999.00,1,  40.1366,2, -999.00,9, 1299.80,  -999.0,9,   3.0742,     27.492,    34.6797,2,     -999.0,1,     -999.0,9,     -999.0,     -999.0,9,     -999.0
33RO20110926,        A10,      66,          1,         10,      11003,2,20111017,       0902,   -30.0001,   -22.7779,       4655,  1590.7,   2.8884,  34.6758,2,  34.6772,2,    195.3,2,   195.3,2,    54.2,2,    29.0,2,    0.01,2,   1.910,4,   0.159,2,   0.076,2,   0.041,2,     2224.6,2,  2327.7,2,  -999.0,9, -999.00,   7.6184,2,       25,-999.000,1,-999.0000,1, -999.00,9,  -999.0,9,  -999.0,   0.416,3, -999.00,1,  40.5561,2, -999.00,9, 1590.70,  -999.0,9,   2.7740,     27.648,    34.8407,2,     -999.0,1,     -999.0,9,     -999.0,     -999.0,9,     -999.0
33RO20110926,        A10,      66,          1,          9,      11706,2,20111017,       0902,   -30.0001,   -22.7779,       4655,  1901.8,   2.7577,  34.7798,2,  34.7789,2,    213.0,2,   213.5,2,    50.4,6,    26.3,2,    0.01,6,   1.710,4,   0.044,2,   0.023,2,   0.006,2,     2212.9,2,  2332.6,2,  -999.0,9, -999.00,   7.6633,2,       25,-999.000,1,-999.0000,1, -999.00,9,  -999.0,9,  -999.0,   0.201,3, -999.00,1,  43.7366,2, -999.00,9, 1901.80,  -999.0,9,   2.6180,     27.743,    34.9429,6,     -999.0,1,     -999.0,9,     -999.0,     -999.0,9,     -999.0
33RO20110926,        A10,      66,          1,          8,      11033,2,20111017,       0902,   -30.0001,   -22.7779,       4655,  2197.3,   2.6895,  34.8362,2,  34.8491,2,    226.8,2,   227.6,2,    46.3,2,    24.1,2,    0.01,2,   1.573,4,   0.018,2,   0.008,2,   0.000,2,     2200.7,2,  2333.7,2,  -999.0,9, -999.00,   7.6914,2,       25,-999.000,9,-999.0000,1, -999.00,9,  -999.0,9,  -999.0,   0.145,3, -999.00,9,  42.2244,2, -999.00,9, 2197.30,  -999.0,9,   2.5240,     27.807,    35.0134,2,     -999.0,1,     -999.0,9,     -999.0,     -999.0,9,     -999.0
33RO20110926,        A10,      66,          1,          7,      11705,2,20111017,       0902,   -30.0001,   -22.7779,       4655,  2600.5,   2.7324,  34.8834,2,  34.8837,2,    241.1,2,   240.6,2,    39.5,2,    22.1,2,    0.01,2,   1.415,4,   0.007,2,   0.004,2,   0.000,2,       2189,2,  2331.3,2,  -999.0,9, -999.00,   7.7134,2,       25,-999.000,1,-999.0000,1, -999.00,9,  -999.0,9,  -999.0,   0.107,3, -999.00,9,  45.9707,2, -999.00,9, 2600.50,  -999.0,9,   2.5279,     27.835,    35.0482,2,     -999.0,1,     -999.0,9,     -999.0,     -999.0,9,     -999.0
33RO20110926,        A10,      66,          1,          6,      11029,2,20111017,       0902,   -30.0001,   -22.7779,       4655,  3050.7,   2.6561,  34.9036,2,  34.9064,2,    249.5,2,   249.2,2,    37.3,2,    21.2,2,    0.01,2,   1.348,4,   0.004,2,   0.003,2,   0.000,2,     2182.6,2,  2331.2,2,  -999.0,9, -999.00,   7.7294,2,       25,-999.000,9,-999.0000,1, -999.00,9,  -999.0,9,  -999.0,   0.073,3, -999.00,9,  42.7024,2, -999.00,9, 3050.70,  -999.0,9,   2.4076,     27.863,    35.0710,2,     -999.0,1,     -999.0,9,     -999.0,     -999.0,9,     -999.0
33RO20110926,        A10,      66,          1,          5,      11704,2,20111017,       0902,   -30.0001,   -22.7779,       4655,  3050.1,   2.6550,  34.9035,2,-999.0000,9,    249.3,2,  -999.0,9, -999.00,9,  -999.0,9, -999.00,9,-999.000,9,-999.000,9,-999.000,9,-999.000,9,-999.000000,9,  -999.0,5,  -999.0,9, -999.00,-999.0000,5,  -999.00,-999.000,9,-999.0000,9, -999.00,9,  -999.0,9,  -999.0,-999.000,9, -999.00,9,     39.2,2, -999.00,9, 3050.10,  -999.0,9,   2.4066,     27.860,     -999.0,9,     -999.0,1,     -999.0,9,     -999.0,     -999.0,9,     -999.0
33RO20110926,        A10,      66,          1,          4,      11030,2,20111017,       0902,   -30.0001,   -22.7779,       4655,  3300.2,   2.4712,  34.8903,2,  34.8906,2,    248.3,2,   247.7,2,    42.7,2,    21.9,2,    0.01,2,   1.417,4,   0.005,2,   0.003,2,   0.019,2,     2186.3,2,  2334.1,2,  -999.0,9, -999.00,   7.7264,2,       25,-999.000,9,-999.0000,1, -999.00,9,  -999.0,9,  -999.0,   0.067,3, -999.00,9,  35.2098,2, -999.00,9, 3300.20,  -999.0,9,   2.2009,     27.868,    35.0551,2,     -999.0,9,     -999.0,9,     -999.0,     -999.0,9,     -999.0
33RO20110926,        A10,      66,          1,          3,      11703,2,20111017,       0902,   -30.0001,   -22.7779,       4655,  3698.7,   1.9495,  34.8399,2,  34.8419,2,    242.4,2,   241.5,2,    61.7,2,    24.5,2,    0.01,2,   1.687,4,   0.009,2,   0.005,2,   0.153,2,     2206.4,2,    2342,2,  -999.0,9, -999.00,   7.6985,2,       25,-999.000,1,-999.0000,1, -999.00,9,  -999.0,9,  -999.0,   0.081,3, -999.00,9,   35.922,2, -999.00,9, 3698.70,  -999.0,9,   1.6500,     27.872,    35.0062,2,     -999.0,9,     -999.0,9,     -999.0,     -999.0,9,     -999.0
33RO20110926,        A10,      66,          1,          2,      11702,2,20111017,       0902,   -30.0001,   -22.7779,       4655,  4199.9,   1.3443,  34.7724,2,  34.7735,2,    230.2,2,   229.7,2,    87.3,6,    27.9,2,    0.01,6,   2.052,4,   0.044,2,   0.024,2,   0.123,2,       2234,2,  2357.2,6,  -999.0,9, -999.00,   7.6654,6,       25,-999.000,1,-999.0000,1, -999.00,9,  -999.0,9,  -999.0,   0.142,3, -999.00,9,  42.8878,2, -999.00,9, 4199.90,  -999.0,9,   1.0073,     27.863,    34.9374,2,     -999.0,9,     -999.0,9,     -999.0,     -999.0,9,     -999.0
33RO20110926,        A10,      66,          1,          1,      11701,2,20111017,       0902,   -30.0001,   -22.7779,       4655,  4666.8,   1.2882,  34.7607,2,  34.7588,2,    228.3,2,   226.9,2,    92.0,2,    28.3,2,    0.01,2,   2.131,4,   0.057,6,   0.028,6,   0.131,6,     2237.9,6,  2358.1,2,  -999.0,9, -999.00,   7.6625,2,       25,-999.000,1,-999.0000,1, -999.00,9,  -999.0,9,  -999.0,   0.200,3, -999.00,9,  42.6927,2, -999.00,9, 4666.80,  -999.0,9,   0.9000,     27.861,    34.9227,6,     -999.0,9,     -999.0,9,     -999.0,     -999.0,9,     -999.0