BOTTLE,20220815CCHSIOAMB
EXPOCODE,SECT_ID,STNNBR,CASTNO,SAMPNO,BTLNBR,BTLNBR_FLAG_W,DATE,TIME,LATITUDE,LONGITUDE,DEPTH,CTDPRS,CTDTMP,CTDSAL,CTDSAL_FLAG_W,SALNTY,SALNTY_FLAG_W,CTDOXY,CTDOXY_FLAG_W,OXYGEN,OXYGEN_FLAG_W,SILCAT,SILCAT_FLAG_W,NITRAT,NITRAT_FLAG_W,NITRIT,NITRIT_FLAG_W,PHSPHT,PHSPHT_FLAG_W,CFC-11,CFC-11_FLAG_W,CFC-12,CFC-12_FLAG_W,SF6,SF6_FLAG_W,TCARBN,TCARBN_FLAG_W,ALKALI,ALKALI_FLAG_W,PCO2,PCO2_FLAG_W,PCO2TMP,PH_SWS,PH_SWS_FLAG_W,PH_TMP,TRITUM,TRITUM_FLAG_W,HELIUM,HELIUM_FLAG_W,DELC13,DELC13_FLAG_W,DELC14,DELC14_FLAG_W,C14ERR,CCL4,CCL4_FLAG_W,DELO18,DELO18_FLAG_W,DOC,DOC_FLAG_W,TDN,TDN_FLAG_W,CTDRAW,14C-DOC,14C-DOC_FLAG_W,THETA,SIG0,SALTREF,SALTREF_FLAG_W,BLACKC,BLACKC_FLAG_W,PIGMENTS,PIGMENTS_FLAG_W,14C-DOCERR,13C-DOC,13C-DOC_FLAG_W,13C-DOCERR
,,,,,,,,,,,METERS,DBAR,ITS-90,PSS-78,,PSS-78,,UMOL/KG,,UMOL/KG,,UMOL/KG,,UMOL/KG,,UMOL/KG,,UMOL/KG,,PMOL/KG,,PMOL/KG,,FMOL/KG,,UMOL/KG,,UMOL/KG,,UATM,,DEG C,,,DEG C,TU,,NMOL/KG,,/MILLE,,/MILLE,,/MILLE,PMOL/KG,,/MILLE,,UMOL/KG,,UMOL/KG,,DBAR,/MILLE,,DEG C,KG/M^3,G/KG,,,,,,/MILLE,/MILLE,,/MILLE
33RO20110926,        A10,      33,          1,         24,      11714,2,20111006,       0108,   -30.0170,    -0.4833,       4690,     4.5,  17.5348,  35.7992,2,  35.7963,2,    245.2,2,   245.7,2,     1.1,2,     0.0,2,    0.00,2,   0.130,2,   2.433,6,   1.470,6,   1.468,6,     2077.6,6,  2350.9,6,  -999.0,9, -999.00,   7.9839,6,       25,-999.000,9,-999.0000,9, -999.00,9,  -999.0,9,  -999.0,   2.913,3, -999.00,9,  55.6195,2,    4.23,2,    4.50,  -999.0,9,  17.5340,     25.990,    35.9651,2,     -999.0,9,     -999.0,1,     -999.0,     -999.0,9,     -999.0
33RO20110926,        A10,      33,          1,         23,      11713,2,20111006,       0108,   -30.0170,    -0.4833,       4690,    50.7,  16.7896,  35.7509,2,  35.7515,2,    245.1,2,   244.6,2,     1.2,2,     0.2,2,    0.14,2,   0.181,2,-999.000,9,-999.000,9,-999.000,9,     2079.6,2,  2347.9,2,  -999.0,9, -999.00,   7.9749,2,       25,-999.000,9,-999.0000,9, -999.00,9,  -999.0,9,  -999.0,-999.000,9, -999.00,9,  57.4634,2,    4.46,2,   50.70,  -999.0,9,  16.7813,     26.144,    35.9201,2,     -999.0,9,     -999.0,1,     -999.0,     -999.0,9,     -999.0
33RO20110926,        A10,      33,          1,         22,      11712,2,20111006,       0108,   -30.0170,    -0.4833,       4690,    73.8,  16.6185,  35.7378,2,  35.7399,2,    237.1,2,   236.9,2,     1.9,2,     0.8,2,    0.54,2,   0.241,2,   2.448,2,   1.475,2,   1.419,2,     2087.6,2,  -999.0,5,  -999.0,9, -999.00,   7.9218,4,       25,-999.000,9,-999.0000,9, -999.00,9,  -999.0,9,  -999.0,   2.220,3, -999.00,9,  53.6683,2,    5.61,2,   73.80,  -999.0,9,  16.6065,     26.176,    35.9084,2,     -999.0,9,     -999.0,1,     -999.0,     -999.0,9,     -999.0
33RO20110926,        A10,      33,          1,         21,      11010,2,20111006,       0108,   -30.0170,    -0.4833,       4690,   124.4,  16.4919,  35.7401,2,  35.7395,2,    233.8,2,   234.2,2,     1.9,2,     1.3,2,    0.40,2,   0.259,2,-999.000,9,-999.000,9,-999.000,9,     2090.1,2,  2347.6,2,  -999.0,9, -999.00,   7.9559,2,       25,-999.000,9,-999.0000,9, -999.00,9,  -999.0,9,  -999.0,-999.000,9, -999.00,9,  56.2439,2,    6.10,2,  124.40,  -999.0,9,  16.4718,     26.206,    35.9080,2,     -999.0,9,     -999.0,9,     -999.0,     -999.0,9,     -999.0
33RO20110926,        A10,      33,          1,         20,      11715,2,20111006,       0108,   -30.0170,    -0.4833,       4690,   180.3,  15.7037,  35.5732,2,  35.5790,2,    229.4,2,     228,2,     2.3,2,     3.3,2,    0.04,2,   0.365,2,   2.581,2,   1.538,2,   1.478,2,     2097.5,2,  2335.2,2,  -999.0,9, -999.00,   7.9289,2,       25,-999.000,9,-999.0000,9, -999.00,9,  -999.0,9,  -999.0,   1.471,3, -999.00,9,  52.2634,2,    6.21,2,  180.30,  -999.0,9,  15.6754,     26.261,    35.7468,2,     -999.0,9,     -999.0,9,     -999.0,     -999.0,9,     -999.0
33RO20110926,        A10,      33,          1,         19,      11007,2,20111006,       0108,   -30.0170,    -0.4833,       4690,   300.3,  13.6187,  35.2294,2,  35.2314,2,    221.8,2,     224,2,     2.7,2,     6.9,2,    0.01,2,   0.595,2,-999.000,9,-999.000,9,-999.000,9,     2112.5,2,  2319.2,2,  -999.0,9, -999.00,   7.8627,2,       25,-999.000,9,-999.0000,9, -999.00,9,  -999.0,9,  -999.0,-999.000,9, -999.00,9,  50.7707,2, -999.00,9,  300.30,  -999.0,9,  13.5759,     26.456,    35.3975,2,     -999.0,9,     -999.0,9,     -999.0,     -999.0,9,     -999.0
33RO20110926,        A10,      33,          1,         18,      11710,2,20111006,       0108,   -30.0170,    -0.4833,       4690,   400.2,  11.7408,  35.0131,2,  35.0148,2,    210.7,2,   212.5,2,     4.8,2,    13.0,2,    0.01,2,   0.964,2,   3.109,2,   1.752,2,   1.293,2,     2131.6,2,  2305.5,2,  -999.0,9, -999.00,   7.7875,2,       25,-999.000,9,-999.0000,9, -999.00,9,  -999.0,9,  -999.0,   1.033,3, -999.00,9,  47.7366,2, -999.00,9,  400.20,  -999.0,9,  11.6889,     26.660,    35.1799,2,     -999.0,9,     -999.0,9,     -999.0,     -999.0,9,     -999.0
33RO20110926,        A10,      33,          1,         17,      11023,2,20111006,       0108,   -30.0170,    -0.4833,       4690,   499.8,  10.0373,  34.7973,2,  34.8008,2,    210.7,2,   208.9,2,     7.1,2,    17.2,2,    0.00,2,   1.243,2,-999.000,9,-999.000,9,-999.000,9,     2145.1,2,  2299.4,2,  -999.0,9, -999.00,   7.7596,2,       25,-999.000,9,-999.0000,9, -999.00,9,  -999.0,9,  -999.0,-999.000,9, -999.00,9,  44.7415,2, -999.00,9,  499.80,  -999.0,9,   9.9784,     26.802,    34.9649,2,     -999.0,9,     -999.0,9,     -999.0,     -999.0,9,     -999.0
33RO20110926,        A10,      33,          1,         16,      11709,2,20111006,       0108,   -30.0170,    -0.4833,       4690,   600.8,   8.6004,  34.6282,2,  34.6302,2,    206.9,2,     207,2,    10.2,2,    21.1,2,    0.00,2,   1.495,2,   3.180,2,   1.703,2,   0.988,2,     2155.8,2,  2291.3,2,  -999.0,9, -999.00,   7.7136,2,       25,-999.000,9,-999.0000,9, -999.00,9,  -999.0,9,  -999.0,   1.616,3, -999.00,9,  42.4488,2, -999.00,9,  600.80,  -999.0,9,   8.5357,     26.905,    34.7935,2,     -999.0,9,     -999.0,9,     -999.0,     -999.0,9,     -999.0
33RO20110926,        A10,      33,          1,         15,      11006,2,20111006,       0108,   -30.0170,    -0.4833,       4690,   751.0,   5.9198,  34.3786,2,  34.3793,2,    213.6,2,   213.4,2,    17.7,2,    27.3,2,    0.00,2,   1.907,2,-999.000,9,-999.000,9,-999.000,9,     2175.1,2,  -999.0,5,  -999.0,9, -999.00,   7.6463,2,       25,-999.000,9,-999.0000,9, -999.00,9,  -999.0,9,  -999.0,-999.000,9, -999.00,9,   41.639,2, -999.00,9,  751.00,  -999.0,9,   5.8534,     27.080,    34.5414,2,     -999.0,9,     -999.0,9,     -999.0,     -999.0,9,     -999.0
33RO20110926,        A10,      33,          1,         14,      11708,2,20111006,       0108,   -30.0170,    -0.4833,       4690,   900.5,   4.5797,  34.3304,2,  34.3304,2,    211.2,2,   210.7,2,    27.3,2,    30.3,2,    0.01,2,   2.122,2,   2.557,2,   1.278,2,   0.578,2,     2192.2,2,  2295.5,2,  -999.0,9, -999.00,   7.6222,2,       25,-999.000,9,-999.0000,9, -999.00,9,  -999.0,9,  -999.0,   2.148,3, -999.00,9,  43.2976,2, -999.00,9,  900.50,  -999.0,9,   4.5085,     27.200,    34.4923,2,     -999.0,9,     -999.0,9,     -999.0,     -999.0,9,     -999.0
33RO20110926,        A10,      33,          1,         13,      11031,2,20111006,       0108,   -30.0170,    -0.4833,       4690,  1049.7,   3.7030,  34.3765,2,  34.3751,2,    196.8,2,   197.2,2,    40.5,2,    32.3,2,    0.00,2,   2.283,2,-999.000,9,-999.000,9,-999.000,9,     2211.5,2,  2306.3,2,  -999.0,9, -999.00,   7.5982,2,       25,-999.000,9,-999.0000,9, -999.00,9,  -999.0,9,  -999.0,-999.000,9, -999.00,9,  39.5122,2, -999.00,9, 1049.70,  -999.0,9,   3.6258,     27.327,    34.5372,2,     -999.0,9,     -999.0,9,     -999.0,     -999.0,9,     -999.0
33RO20110926,        A10,      33,          1,         12,      11027,2,20111006,       0108,   -30.0170,    -0.4833,       4690,  1249.3,   3.2553,  34.4982,2,  34.4967,2,    181.2,2,   181.3,2,    52.9,2,    33.0,2,    0.00,2,   2.336,2,   0.739,2,   0.352,2,   0.132,2,     2233.7,6,  2321.3,6,  -999.0,9, -999.00,   7.5839,6,       25,-999.000,9,-999.0000,9, -999.00,9,  -999.0,9,  -999.0,   0.677,3, -999.00,9,  41.0537,2, -999.00,9, 1249.30,  -999.0,9,   3.1656,     27.468,    34.6594,6,     -999.0,9,     -999.0,9,     -999.0,     -999.0,9,     -999.0
33RO20110926,        A10,      33,          1,         11,      11707,2,20111006,       0108,   -30.0170,    -0.4833,       4690,  1450.9,   3.0350,  34.6220,2,  34.6228,2,    184.4,2,   183.7,2,    55.5,2,    31.8,2,    0.00,2,   2.218,2,   0.290,2,   0.135,2,   0.040,2,     2230.4,2,    2329,2,  -999.0,9, -999.00,   7.6044,2,       25,-999.000,9,-999.0000,9, -999.00,9,  -999.0,9,  -999.0,   0.317,3, -999.00,9,  41.2293,2, -999.00,9, 1450.90,  -999.0,9,   2.9307,     27.590,    34.7860,2,     -999.0,9,     -999.0,9,     -999.0,     -999.0,9,     -999.0
33RO20110926,        A10,      33,          1,         10,      11003,2,20111006,       0108,   -30.0170,    -0.4833,       4690,  1699.8,   2.9837,  34.7399,2,  34.7397,2,    197.9,2,   198.2,2,    51.3,2,    28.8,2,    0.00,2,   2.008,2,-999.000,5,-999.000,5,-999.000,5,     2222.1,2,  2329.6,2,  -999.0,9, -999.00,   7.6374,2,       25,-999.000,9,-999.0000,9, -999.00,9,  -999.0,9,  -999.0,-999.000,5, -999.00,9,  39.7073,2, -999.00,9, 1699.80,  -999.0,9,   2.8586,     27.690,    34.9035,2,     -999.0,9,     -999.0,9,     -999.0,     -999.0,9,     -999.0
33RO20110926,        A10,      33,          1,          9,      11706,2,20111006,       0108,   -30.0170,    -0.4833,       4690,  1998.7,   2.8004,  34.7985,2,  34.7996,2,    211.2,2,     213,2,    50.4,6,    26.9,6,    0.00,6,   1.862,6,-999.000,5,-999.000,5,-999.000,5,     2214.8,2,  2332.5,2,  -999.0,9, -999.00,   7.6615,2,       25,-999.000,9,-999.0000,9, -999.00,9,  -999.0,9,  -999.0,-999.000,5, -999.00,9,   41.161,2, -999.00,9, 1998.70,  -999.0,9,   2.6514,     27.756,    34.9637,2,     -999.0,9,     -999.0,9,     -999.0,     -999.0,9,     -999.0
33RO20110926,        A10,      33,          1,          8,      11033,2,20111006,       0108,   -30.0170,    -0.4833,       4690,  2298.6,   2.6161,  34.8261,2,  34.8266,2,    221.4,2,   220.7,2,    51.3,6,    25.8,6,    0.01,6,   1.781,6,   0.024,2,   0.013,2,   0.000,2,     2211.1,2,  2334.7,2,  -999.0,9, -999.00,   7.6753,2,       25,-999.000,9,-999.0000,9, -999.00,9,  -999.0,9,  -999.0,   0.050,3, -999.00,9,  42.4781,2, -999.00,9, 2298.60,  -999.0,9,   2.4426,     27.796,    34.9908,2,     -999.0,9,     -999.0,9,     -999.0,     -999.0,9,     -999.0
33RO20110926,        A10,      33,          1,          7,      11705,2,20111006,       0108,   -30.0170,    -0.4833,       4690,  2649.1,   2.4347,  34.8473,2,  34.8490,2,    229.0,2,   230.1,2,    52.3,6,    24.7,6,    0.01,6,   1.702,6,-999.000,5,-999.000,5,-999.000,5,     2207.4,2,  2339.1,2,  -999.0,9, -999.00,   7.6924,2,       25,-999.000,9,-999.0000,9, -999.00,9,  -999.0,9,  -999.0,-999.000,5, -999.00,9,  42.1854,2, -999.00,9, 2649.10,  -999.0,9,   2.2313,     27.832,    35.0134,2,     -999.0,9,     -999.0,9,     -999.0,     -999.0,9,     -999.0
33RO20110926,        A10,      33,          1,          6,      11029,2,20111006,       0108,   -30.0170,    -0.4833,       4690,  2993.9,   2.3700,  34.8604,2,  34.8612,2,    233.0,2,   235.2,2,    52.1,6,    24.1,6,    0.01,6,   1.665,6,   0.007,2,   0.004,2,   0.000,2,     2206.1,2,  2343.2,2,  -999.0,9, -999.00,   7.7014,2,       25,-999.000,9,-999.0000,9, -999.00,9,  -999.0,9,  -999.0,   0.011,3, -999.00,9,  42.8976,2, -999.00,9, 2993.90,  -999.0,9,   2.1339,     27.850,    35.0256,2,     -999.0,9,     -999.0,9,     -999.0,     -999.0,9,     -999.0
33RO20110926,        A10,      33,          1,          5,      11704,2,20111006,       0108,   -30.0170,    -0.4833,       4690,  3350.5,   2.3441,  34.8684,2,  34.8691,2,    234.9,2,   235.1,2,    52.4,2,    24.0,2,    0.00,2,   1.654,2,   0.005,2,   0.003,2,   0.000,2,     2208.2,2,  2347.2,2,  -999.0,9, -999.00,   7.7095,2,       25,-999.000,9,-999.0000,9, -999.00,9,  -999.0,9,  -999.0,   0.000,3, -999.00,9,   40.839,2, -999.00,9, 3350.50,  -999.0,9,   2.0717,     27.861,    35.0336,2,     -999.0,9,     -999.0,9,     -999.0,     -999.0,9,     -999.0
33RO20110926,        A10,      33,          1,          4,      11030,2,20111006,       0108,   -30.0170,    -0.4833,       4690,  3700.2,   2.3295,  34.8739,2,  34.8749,2,    234.4,2,   233.5,2,    53.0,2,    24.0,2,    0.00,2,   1.639,2,   0.004,2,   0.003,2,   0.000,2,     2211.4,2,  -999.0,5,  -999.0,9, -999.00,-999.0000,5,  -999.00,-999.000,9,-999.0000,9, -999.00,9,  -999.0,9,  -999.0,  -0.004,3, -999.00,9,  43.8829,2, -999.00,9, 3700.20,  -999.0,9,   2.0197,     27.870,    35.0393,2,     -999.0,9,     -999.0,9,     -999.0,     -999.0,9,     -999.0
33RO20110926,        A10,      33,          1,          3,      11703,2,20111006,       0108,   -30.0170,    -0.4833,       4690,  4049.3,   2.3423,  34.8753,2,  34.8769,2,    232.8,2,   234.4,2,    54.0,2,    24.0,2,    0.00,2,   1.646,2,   0.005,6,   0.003,6,   0.000,6,     2213.2,2,  2357.5,2,  -999.0,9, -999.00,   7.7166,2,       25,-999.000,9,-999.0000,9, -999.00,9,  -999.0,9,  -999.0,  -0.003,3, -999.00,9,   41.922,2, -999.00,9, 4049.30,  -999.0,9,   1.9929,     27.874,    35.0414,2,     -999.0,9,     -999.0,9,     -999.0,     -999.0,9,     -999.0
33RO20110926,        A10,      33,          1,          2,      11702,2,20111006,       0108,   -30.0170,    -0.4833,       4690,  4400.5,   2.3550,  34.8731,2,  34.8755,2,    233.0,2,   232.6,2,    55.0,2,    24.1,2,    0.00,2,   1.655,2,   0.004,2,   0.003,2,   0.000,2,     2215.3,2,  2356.3,2,  -999.0,9, -999.00,   7.7146,2,       25,-999.000,9,-999.0000,9, -999.00,9,  -999.0,9,  -999.0,   0.014,3, -999.00,9,  42.7122,2, -999.00,9, 4400.50,  -999.0,9,   1.9642,     27.875,    35.0399,2,     -999.0,9,     -999.0,9,     -999.0,     -999.0,9,     -999.0
33RO20110926,        A10,      33,          1,          1,      11701,2,20111006,       0108,   -30.0170,    -0.4833,       4690,  4788.7,   2.3028,  34.8610,2,  34.8615,2,    231.7,2,   230.8,2,    59.4,2,    24.9,2,    0.01,2,   1.701,2,   0.008,2,   0.005,2,   0.000,2,     2220.3,6,  2357.9,6,  -999.0,9, -999.00,    7.708,6,       25,-999.000,9,-999.0000,9, -999.00,9,  -999.0,9,  -999.0,   0.026,3, -999.00,9,  43.0146,2, -999.00,9, 4788.70,  -999.0,9,   1.8666,     27.871,    35.0259,2,     -999.0,9,     -999.0,9,     -999.0,     -999.0,9,     -999.0