BOTTLE,20220815CCHSIOAMB
EXPOCODE,SECT_ID,STNNBR,CASTNO,SAMPNO,BTLNBR,BTLNBR_FLAG_W,DATE,TIME,LATITUDE,LONGITUDE,DEPTH,CTDPRS,CTDTMP,CTDSAL,CTDSAL_FLAG_W,SALNTY,SALNTY_FLAG_W,CTDOXY,CTDOXY_FLAG_W,OXYGEN,OXYGEN_FLAG_W,SILCAT,SILCAT_FLAG_W,NITRAT,NITRAT_FLAG_W,NITRIT,NITRIT_FLAG_W,PHSPHT,PHSPHT_FLAG_W,CFC-11,CFC-11_FLAG_W,CFC-12,CFC-12_FLAG_W,SF6,SF6_FLAG_W,TCARBN,TCARBN_FLAG_W,ALKALI,ALKALI_FLAG_W,PCO2,PCO2_FLAG_W,PCO2TMP,PH_SWS,PH_SWS_FLAG_W,PH_TMP,TRITUM,TRITUM_FLAG_W,HELIUM,HELIUM_FLAG_W,DELC13,DELC13_FLAG_W,DELC14,DELC14_FLAG_W,C14ERR,CCL4,CCL4_FLAG_W,DELO18,DELO18_FLAG_W,DOC,DOC_FLAG_W,TDN,TDN_FLAG_W,CTDRAW,14C-DOC,14C-DOC_FLAG_W,THETA,SIG0,SALTREF,SALTREF_FLAG_W,BLACKC,BLACKC_FLAG_W,PIGMENTS,PIGMENTS_FLAG_W,14C-DOCERR,13C-DOC,13C-DOC_FLAG_W,13C-DOCERR
,,,,,,,,,,,METERS,DBAR,ITS-90,PSS-78,,PSS-78,,UMOL/KG,,UMOL/KG,,UMOL/KG,,UMOL/KG,,UMOL/KG,,UMOL/KG,,PMOL/KG,,PMOL/KG,,FMOL/KG,,UMOL/KG,,UMOL/KG,,UATM,,DEG C,,,DEG C,TU,,NMOL/KG,,/MILLE,,/MILLE,,/MILLE,PMOL/KG,,/MILLE,,UMOL/KG,,UMOL/KG,,DBAR,/MILLE,,DEG C,KG/M^3,G/KG,,,,,,/MILLE,/MILLE,,/MILLE
33RO20110926,        A10,     104,          1,         24,      11714,2,20111026,       2138,   -29.3454,   -42.0469,       2539,     5.1,  19.8687,  36.4458,2,  36.4455,2,    228.1,2,   228.4,2,     0.7,2,     0.0,2,    0.00,2,   0.036,4,   2.153,2,   1.311,2,   1.363,2,     2084.3,6,  2389.9,2,  -999.0,9, -999.00,    8.024,2,       25,-999.000,9,-999.0000,9, -999.00,9,  -999.0,9,  -999.0,   4.321,4, -999.00,9,-999.0000,9, -999.00,9,    5.10,  -999.0,9,  19.8678,     25.899,    36.6173,2,     -999.0,9,     -999.0,1,     -999.0,     -999.0,9,     -999.0
33RO20110926,        A10,     104,          1,         23,      11713,2,20111026,       2138,   -29.3454,   -42.0469,       2539,    55.0,  19.6384,  36.3935,2,  36.3966,2,    229.1,2,   229.4,2,     0.7,2,     0.0,2,    0.01,2,   0.043,4,   2.169,2,   1.318,2,   1.365,2,     2082.3,2,    2389,6,  -999.0,9, -999.00,    8.021,6,       25,-999.000,9,-999.0000,9, -999.00,9,  -999.0,9,  -999.0,   4.478,4, -999.00,9,-999.0000,9, -999.00,9,   55.00,  -999.0,9,  19.6283,     25.922,    36.5682,2,     -999.0,9,     -999.0,9,     -999.0,     -999.0,9,     -999.0
33RO20110926,        A10,     104,          1,         22,      11712,2,20111026,       2138,   -29.3454,   -42.0469,       2539,   104.5,  16.9748,  35.8675,2,  35.8723,2,    234.8,2,   234.2,2,     0.7,2,     0.3,2,    0.19,2,   0.091,4,   2.425,2,   1.459,2,   1.460,2,       2080,2,  2355.9,2,  -999.0,9, -999.00,   7.9799,2,       25,-999.000,9,-999.0000,9, -999.00,9,  -999.0,9,  -999.0,   4.082,4, -999.00,9,-999.0000,9, -999.00,9,  104.50,  -999.0,9,  16.9575,     26.196,    36.0415,2,     -999.0,9,     -999.0,1,     -999.0,     -999.0,9,     -999.0
33RO20110926,        A10,     104,          1,         21,      11010,2,20111026,       2138,   -29.3454,   -42.0469,       2539,   161.6,  16.7720,  35.8909,2,  35.8903,2,    228.2,2,   229.9,2,     1.1,2,     1.6,2,    0.01,2,   0.139,4,   2.443,2,   1.466,2,   1.419,2,       2088,2,  2357.4,2,  -999.0,9, -999.00,   7.9689,2,       25,-999.000,9,-999.0000,9, -999.00,9,  -999.0,9,  -999.0,   2.806,4, -999.00,9,-999.0000,9, -999.00,9,  161.60,  -999.0,9,  16.7454,     26.258,    36.0596,2,     -999.0,9,     -999.0,1,     -999.0,     -999.0,9,     -999.0
33RO20110926,        A10,     104,          1,         20,      11715,2,20111026,       2138,   -29.3454,   -42.0469,       2539,   211.4,  15.6795,  35.6828,2,  35.6863,2,    214.1,2,   214.2,2,     1.7,2,     4.7,2,    0.01,2,   0.294,4,   2.582,2,   1.535,2,   1.380,2,     2106.3,2,  2345.7,2,  -999.0,9, -999.00,   7.9198,2,       25,-999.000,9,-999.0000,9, -999.00,9,  -999.0,9,  -999.0,   1.347,3, -999.00,9,-999.0000,9, -999.00,9,  211.40,  -999.0,9,  15.6463,     26.351,    35.8546,2,     -999.0,9,     -999.0,9,     -999.0,     -999.0,9,     -999.0
33RO20110926,        A10,     104,          1,         19,      11007,2,20111026,       2138,   -29.3454,   -42.0469,       2539,   285.3,  14.5093,  35.5098,2,  35.5125,2,    211.9,2,   212.2,2,     2.3,6,     7.3,6,    0.01,6,   0.407,4,   2.756,2,   1.611,2,   1.365,2,     2116.7,2,  -999.0,5,  -999.0,9, -999.00,-999.0000,5,  -999.00,-999.000,9,-999.0000,9, -999.00,9,  -999.0,9,  -999.0,   0.946,3, -999.00,9,-999.0000,9, -999.00,9,  285.30,  -999.0,9,  14.4668,     26.482,    35.6799,2,     -999.0,9,     -999.0,9,     -999.0,     -999.0,9,     -999.0
33RO20110926,        A10,     104,          1,         18,      11710,2,20111026,       2138,   -29.3454,   -42.0469,       2539,   359.1,  13.3654,  35.3085,2,  35.3100,2,    210.8,2,   210.7,2,     3.1,2,     9.8,2,    0.01,2,   0.538,4,   2.910,2,   1.654,2,   1.195,2,     2123.4,2,  2325.3,2,  -999.0,9, -999.00,   7.8498,2,       25,-999.000,9,-999.0000,9, -999.00,9,  -999.0,9,  -999.0,   1.370,3, -999.00,9,-999.0000,9, -999.00,9,  359.10,  -999.0,9,  13.3146,     26.570,    35.4765,2,     -999.0,9,     -999.0,9,     -999.0,     -999.0,9,     -999.0
33RO20110926,        A10,     104,          1,         17,      11023,2,20111026,       2138,   -29.3454,   -42.0469,       2539,   424.9,  12.3001,  35.1481,2,  35.1499,2,    210.2,2,   210.2,2,     3.9,2,    12.2,2,    0.00,2,   0.648,4,   2.943,2,   1.623,2,   1.095,2,     2129.1,2,  2317.2,2,  -999.0,9, -999.00,   7.8187,2,       25,-999.000,9,-999.0000,9, -999.00,9,  -999.0,9,  -999.0,   1.613,3, -999.00,9,-999.0000,9, -999.00,9,  424.90,  -999.0,9,  12.2432,     26.661,    35.3156,2,     -999.0,9,     -999.0,9,     -999.0,     -999.0,9,     -999.0
33RO20110926,        A10,     104,          1,         16,      11709,2,20111026,       2138,   -29.3454,   -42.0469,       2539,   574.5,   8.9214,  34.6749,2,  34.6784,2,    205.6,2,   205.6,2,     8.7,2,    20.4,2,    0.00,2,   1.053,4,   3.180,6,   1.679,6,   0.883,6,     2153.3,2,  2295.8,2,  -999.0,9, -999.00,   7.7304,2,       25,-999.000,9,-999.0000,9, -999.00,9,  -999.0,9,  -999.0,   1.934,3, -999.00,9,-999.0000,9, -999.00,9,  574.50,  -999.0,9,   8.8582,     26.886,    34.8419,2,     -999.0,9,     -999.0,9,     -999.0,     -999.0,9,     -999.0
33RO20110926,        A10,     104,          1,         15,      11006,2,20111026,       2138,   -29.3454,   -42.0469,       2539,   724.4,   6.2358,  34.3937,2,  34.3938,2,    219.4,2,   218.1,2,    14.0,6,    25.9,6,    0.00,6,   1.336,4,   3.211,2,   1.653,2,   0.784,2,     2167.1,2,  2286.9,2,  -999.0,9, -999.00,   7.6753,2,       25,-999.000,9,-999.0000,9, -999.00,9,  -999.0,9,  -999.0,   2.913,3, -999.00,9,-999.0000,9, -999.00,9,  724.40,  -999.0,9,   6.1702,     27.052,    34.5560,2,     -999.0,9,     -999.0,9,     -999.0,     -999.0,9,     -999.0
33RO20110926,        A10,     104,          1,         14,      11708,2,20111026,       2138,   -29.3454,   -42.0469,       2539,   874.2,   4.6210,  34.2994,2,  34.3022,2,    222.6,2,   222.9,2,    22.3,2,    29.1,2,    0.00,2,   1.579,4,   2.804,2,   1.395,2,   0.595,2,     2180.7,2,  2288.7,2,  -999.0,9, -999.00,   7.6463,2,       25,-999.000,9,-999.0000,9, -999.00,9,  -999.0,9,  -999.0,   3.272,3, -999.00,9,-999.0000,9, -999.00,9,  874.20,  -999.0,9,   4.5518,     27.172,    34.4639,2,     -999.0,9,     -999.0,9,     -999.0,     -999.0,9,     -999.0
33RO20110926,        A10,     104,          1,         13,      11031,2,20111026,       2138,   -29.3454,   -42.0469,       2539,  1020.1,   3.8713,  34.3220,2,  34.3234,2,    211.9,2,   211.9,2,    32.2,2,    31.2,2,    0.00,2,   1.763,4,   2.035,2,   0.993,2,   0.337,2,     2197.3,2,  2300.3,2,  -999.0,9, -999.00,   7.6144,2,       25,-999.000,9,-999.0000,9, -999.00,9,  -999.0,9,  -999.0,   2.753,3, -999.00,9,-999.0000,9, -999.00,9, 1020.10,  -999.0,9,   3.7952,     27.269,    34.4852,2,     -999.0,9,     -999.0,9,     -999.0,     -999.0,9,     -999.0
33RO20110926,        A10,     104,          1,         12,      11027,2,20111026,       2138,   -29.3454,   -42.0469,       2539,  1176.8,   3.3009,  34.4060,2,  34.4052,2,    195.9,2,     197,2,    44.4,6,    32.6,6,    0.00,6,   1.939,4,   1.129,2,   0.553,2,   0.164,2,     2217.4,2,  2311.8,2,  -999.0,9, -999.00,   7.5914,2,       25,-999.000,9,-999.0000,9, -999.00,9,  -999.0,9,  -999.0,   1.881,3, -999.00,9,-999.0000,9, -999.00,9, 1176.80,  -999.0,9,   3.2168,     27.390,    34.5674,2,     -999.0,9,     -999.0,9,     -999.0,     -999.0,9,     -999.0
33RO20110926,        A10,     104,          1,         11,      11707,2,20111026,       2138,   -29.3454,   -42.0469,       2539,  1376.7,   2.9858,  34.5294,2,  34.5289,2,    187.8,2,   188.3,2,    53.4,2,    32.5,2,    0.00,2,   2.014,4,   0.476,2,   0.229,2,   0.042,2,       2229,6,  2324.1,6,  -999.0,9, -999.00,   7.5914,6,       25,-999.000,9,-999.0000,9, -999.00,9,  -999.0,9,  -999.0,   1.033,3, -999.00,9,-999.0000,9, -999.00,9, 1376.70,  -999.0,9,   2.8884,     27.519,    34.6917,2,     -999.0,9,     -999.0,9,     -999.0,     -999.0,9,     -999.0
33RO20110926,        A10,     104,          1,         10,      11003,2,20111026,       2138,   -29.3454,   -42.0469,       2539,  1576.6,   2.9214,  34.6524,2,  34.6522,2,    193.6,2,   192.7,2,    54.3,2,    30.5,2,    0.00,2,   1.936,4,   0.187,2,   0.091,2,   0.040,2,     2226.3,2,  2328.1,2,  -999.0,9, -999.00,   7.6144,2,       25,-999.000,9,-999.0000,9, -999.00,9,  -999.0,9,  -999.0,   0.570,3, -999.00,9,-999.0000,9, -999.00,9, 1576.60,  -999.0,9,   2.8079,     27.625,    34.8156,6,     -999.0,9,     -999.0,9,     -999.0,     -999.0,9,     -999.0
33RO20110926,        A10,     104,          1,          9,      11706,2,20111026,       2138,   -29.3454,   -42.0469,       2539,  1776.1,   3.3176,  34.8187,2,  34.8188,2,    213.8,2,   214.7,2,    39.0,2,    25.9,2,    0.00,2,   1.557,4,   0.130,2,   0.065,2,   0.000,2,     2200.6,2,  2324.2,2,  -999.0,9, -999.00,   7.6695,2,       25,-999.000,9,-999.0000,9, -999.00,9,  -999.0,9,  -999.0,   0.479,3, -999.00,9,-999.0000,9, -999.00,9, 1776.10,  -999.0,9,   3.1812,     27.724,    34.9830,2,     -999.0,9,     -999.0,9,     -999.0,     -999.0,9,     -999.0
33RO20110926,        A10,     104,          1,          8,      11033,2,20111026,       2138,   -29.3454,   -42.0469,       2539,  2000.6,   3.3998,  34.8971,2,  34.8984,2,    230.3,2,   233.7,2,    30.4,2,    22.7,2,    0.00,2,   1.325,4,   0.163,2,   0.083,2,   0.000,2,     2185.1,2,  2321.8,2,  -999.0,9, -999.00,   7.7064,2,       25,-999.000,9,-999.0000,9, -999.00,9,  -999.0,9,  -999.0,   0.589,3, -999.00,9,-999.0000,9, -999.00,9, 2000.60,  -999.0,9,   3.2413,     27.781,    35.0630,2,     -999.0,9,     -999.0,9,     -999.0,     -999.0,9,     -999.0
33RO20110926,        A10,     104,          1,          7,      11705,2,20111026,       2138,   -29.3454,   -42.0469,       2539,  2226.5,   3.3196,  34.9243,2,  34.9238,2,    244.2,2,   243.1,2,    27.4,2,    21.3,2,    0.00,2,   1.232,4,   0.170,2,   0.087,2,   0.057,2,     2177.7,2,    2321,2,  -999.0,9, -999.00,   7.7214,2,       25,-999.000,9,-999.0000,9, -999.00,9,  -999.0,9,  -999.0,   0.621,3, -999.00,9,-999.0000,9, -999.00,9, 2226.50,  -999.0,9,   3.1408,     27.811,    35.0885,2,     -999.0,9,     -999.0,9,     -999.0,     -999.0,9,     -999.0
33RO20110926,        A10,     104,          1,          6,      11029,2,20111026,       2138,   -29.3454,   -42.0469,       2539,  2424.8,   3.2365,  34.9345,2,  34.9351,2,    247.4,2,   248.5,2,    26.4,2,    20.6,2,    0.00,2,   1.190,4,   0.160,2,   0.080,2,   0.058,2,       2175,2,  2322.7,2,  -999.0,9, -999.00,   7.7294,2,       25,-999.000,9,-999.0000,9, -999.00,9,  -999.0,9,  -999.0,   0.626,3, -999.00,9,-999.0000,9, -999.00,9, 2424.80,  -999.0,9,   3.0397,     27.830,    35.0999,2,     -999.0,9,     -999.0,9,     -999.0,     -999.0,9,     -999.0
33RO20110926,        A10,     104,          1,          5,      11704,2,20111026,       2138,   -29.3454,   -42.0469,       2539,  2675.0,   3.0683,  34.9317,2,  34.9324,2,    250.2,2,   250.6,2,    28.0,6,    20.4,6,    0.00,6,   1.194,4,   0.128,2,   0.065,2,   0.000,2,     2175.1,2,  2323.9,2,  -999.0,9, -999.00,   7.7316,2,       25,-999.000,9,-999.0000,9, -999.00,9,  -999.0,9,  -999.0,   0.527,3, -999.00,9,-999.0000,9, -999.00,9, 2675.00,  -999.0,9,   2.8496,     27.845,    35.0971,2,     -999.0,9,     -999.0,9,     -999.0,     -999.0,9,     -999.0
33RO20110926,        A10,     104,          1,          4,      11030,2,20111026,       2138,   -29.3454,   -42.0469,       2539,  2874.9,   2.9366,  34.9276,2,  34.9285,2,    251.1,2,   251.9,2,    29.9,2,    20.6,2,    0.00,2,   1.226,4,   0.120,2,   0.062,2,   0.000,2,     2175.1,2,  2327.3,2,  -999.0,9, -999.00,   7.7336,2,       25,-999.000,9,-999.0000,9, -999.00,9,  -999.0,9,  -999.0,   0.531,3, -999.00,9,-999.0000,9, -999.00,9, 2874.90,  -999.0,9,   2.7002,     27.855,    35.0932,2,     -999.0,9,     -999.0,9,     -999.0,     -999.0,9,     -999.0
33RO20110926,        A10,     104,          1,          3,      11703,2,20111026,       2138,   -29.3454,   -42.0469,       2539,  3175.4,   2.6985,  34.9128,2,  34.9143,2,    252.0,2,   251.9,2,    34.5,2,    21.0,2,    0.00,2,   1.281,4,   0.084,2,   0.043,2,   0.000,2,     2180.5,2,  2327.5,2,  -999.0,9, -999.00,   7.6955,4,       25,-999.000,9,-999.0000,9, -999.00,9,  -999.0,9,  -999.0,   0.415,3, -999.00,9,-999.0000,9, -999.00,9, 3175.40,  -999.0,9,   2.4360,     27.867,    35.0790,2,     -999.0,9,     -999.0,9,     -999.0,     -999.0,9,     -999.0
33RO20110926,        A10,     104,          1,          2,      11702,2,20111026,       2138,   -29.3454,   -42.0469,       2539,  3475.9,   1.8463,  34.8309,2,  34.8327,2,    239.8,2,   239.2,2,    64.7,2,    24.9,2,    0.00,2,   1.759,4,   0.068,2,   0.033,2,   0.067,2,     2209.2,2,  -999.0,5,  -999.0,9, -999.00,-999.0000,5,  -999.00,-999.000,9,-999.0000,9, -999.00,9,  -999.0,9,  -999.0,   0.338,3, -999.00,9,-999.0000,9, -999.00,9, 3475.90,  -999.0,9,   1.5730,     27.871,    34.9970,2,     -999.0,9,     -999.0,9,     -999.0,     -999.0,9,     -999.0
33RO20110926,        A10,     104,          1,          1,      11701,2,20111026,       2138,   -29.3454,   -42.0469,       2539,  3903.2,   0.6567,  34.7079,2,  34.7091,2,    221.3,2,   220.8,2,   112.8,2,    31.3,2,    0.00,2,   2.514,4,   0.249,6,   0.117,6,   0.078,6,     2256.5,6,  2363.5,6,  -999.0,9, -999.00,   7.6242,6,       25,-999.000,9,-999.0000,9, -999.00,9,  -999.0,9,  -999.0,   0.609,3, -999.00,9,-999.0000,9, -999.00,9, 3903.20,  -999.0,9,   0.3715,     27.851,    34.8728,2,     -999.0,9,     -999.0,9,     -999.0,     -999.0,9,     -999.0