BOTTLE,20220815CCHSIOAMB
EXPOCODE,SECT_ID,STNNBR,CASTNO,SAMPNO,BTLNBR,BTLNBR_FLAG_W,DATE,TIME,LATITUDE,LONGITUDE,DEPTH,CTDPRS,CTDTMP,CTDSAL,CTDSAL_FLAG_W,SALNTY,SALNTY_FLAG_W,CTDOXY,CTDOXY_FLAG_W,OXYGEN,OXYGEN_FLAG_W,SILCAT,SILCAT_FLAG_W,NITRAT,NITRAT_FLAG_W,NITRIT,NITRIT_FLAG_W,PHSPHT,PHSPHT_FLAG_W,CFC-11,CFC-11_FLAG_W,CFC-12,CFC-12_FLAG_W,SF6,SF6_FLAG_W,TCARBN,TCARBN_FLAG_W,ALKALI,ALKALI_FLAG_W,PCO2,PCO2_FLAG_W,PCO2TMP,PH_SWS,PH_SWS_FLAG_W,PH_TMP,TRITUM,TRITUM_FLAG_W,HELIUM,HELIUM_FLAG_W,DELC13,DELC13_FLAG_W,DELC14,DELC14_FLAG_W,C14ERR,CCL4,CCL4_FLAG_W,DELO18,DELO18_FLAG_W,DOC,DOC_FLAG_W,TDN,TDN_FLAG_W,CTDRAW,14C-DOC,14C-DOC_FLAG_W,THETA,SIG0,SALTREF,SALTREF_FLAG_W,BLACKC,BLACKC_FLAG_W,PIGMENTS,PIGMENTS_FLAG_W,14C-DOCERR,13C-DOC,13C-DOC_FLAG_W,13C-DOCERR
,,,,,,,,,,,METERS,DBAR,ITS-90,PSS-78,,PSS-78,,UMOL/KG,,UMOL/KG,,UMOL/KG,,UMOL/KG,,UMOL/KG,,UMOL/KG,,PMOL/KG,,PMOL/KG,,FMOL/KG,,UMOL/KG,,UMOL/KG,,UATM,,DEG C,,,DEG C,TU,,NMOL/KG,,/MILLE,,/MILLE,,/MILLE,PMOL/KG,,/MILLE,,UMOL/KG,,UMOL/KG,,DBAR,/MILLE,,DEG C,KG/M^3,G/KG,,,,,,/MILLE,/MILLE,,/MILLE
33RO20110926,        A10,      73,          1,         24,      11714,2,20111019,       1701,   -29.9984,   -27.7289,       4423,     5.1,  17.1424,  35.7991,2,  35.8038,2,    238.8,2,   241.2,2,     1.1,2,     0.0,2,    0.01,2,   0.108,4,   2.441,6,   1.468,6,   1.469,6,     2080.8,6,  2351.4,6,  -999.0,9, -999.00,   7.9804,6,       25,-999.000,9,-999.0000,9,    1.25,2,    49.6,2,     2.7,   3.463,4, -999.00,9,  67.1415,2, -999.00,5,    5.10,  -999.0,9,  17.1415,     26.097,    35.9727,2,     -999.0,9,     -999.0,1,     -999.0,     -999.0,9,     -999.0
33RO20110926,        A10,      73,          1,         23,      11713,2,20111019,       1701,   -29.9984,   -27.7289,       4423,    47.8,  17.1053,  35.7990,2,  35.7989,2,    239.5,2,   242.5,2,     1.2,2,     0.1,2,    0.01,2,   0.113,4,   2.446,2,   1.470,2,   1.499,2,     2083.1,2,  2350.5,2,  -999.0,9, -999.00,   7.9779,2,       25,-999.000,9,-999.0000,9, -999.00,9,  -999.0,9,  -999.0,   2.881,4, -999.00,9,  60.1951,2,    3.09,3,   47.80,  -999.0,9,  17.0974,     26.105,    35.9677,2,     -999.0,9,     -999.0,9,     -999.0,     -999.0,9,     -999.0
33RO20110926,        A10,      73,          1,         22,      11712,2,20111019,       1701,   -29.9984,   -27.7289,       4423,    90.3,  16.7825,  35.8084,2,  35.8088,2,    234.3,2,   238.7,2,     1.2,2,     0.2,2,    0.12,2,   0.139,4,   2.458,2,   1.475,2,   1.422,2,     2089.4,2,  2353.7,2,  -999.0,9, -999.00,   7.9729,2,       25,-999.000,9,-999.0000,9, -999.00,9,  -999.0,9,  -999.0,   2.861,4, -999.00,9,   68.322,3, -999.00,5,   90.30,  -999.0,9,  16.7677,     26.190,    35.9776,2,     -999.0,9,     -999.0,1,     -999.0,     -999.0,9,     -999.0
33RO20110926,        A10,      73,          1,         21,      11010,2,20111019,       1701,   -29.9984,   -27.7289,       4423,   177.5,  15.5429,  35.5766,2,  35.5817,2,    220.7,2,   223.3,2,     1.8,2,     3.4,2,    0.03,2,   0.299,4,   2.621,2,   1.549,2,   1.429,2,     2102.8,2,    2339,2,  -999.0,9, -999.00,   7.9208,2,       25,-999.000,9,-999.0000,9, -999.00,9,  -999.0,9,  -999.0,   1.898,4, -999.00,9,  62.0585,2,    7.26,2,  177.50,  -999.0,9,  15.5152,     26.301,    35.7495,2,     -999.0,9,     -999.0,1,     -999.0,     -999.0,9,     -999.0
33RO20110926,        A10,      73,          1,         20,      11715,2,20111019,       1701,   -29.9984,   -27.7289,       4423,   249.4,  14.2365,  35.4006,2,  35.4030,2,    213.6,2,   217.2,2,     2.4,6,     6.5,6,    0.02,6,   0.443,4,   2.820,2,   1.637,2,   1.365,2,     2116.9,2,  2329.3,2,  -999.0,9, -999.00,   7.8797,2,       25,-999.000,9,-999.0000,9, -999.00,9,  -999.0,9,  -999.0,   1.318,3, -999.00,9,  52.6829,2, -999.00,9,  249.40,  -999.0,9,  14.1998,     26.456,    35.5700,2,     -999.0,9,     -999.0,9,     -999.0,     -999.0,9,     -999.0
33RO20110926,        A10,      73,          1,         19,      11007,2,20111019,       1701,   -29.9984,   -27.7289,       4423,   319.2,  13.5754,  35.3310,2,  35.3310,2,    214.9,2,   216.2,2,     2.9,2,     8.3,2,    0.01,2,   0.536,4,   2.922,2,   1.675,2,   1.283,2,     2122.9,2,  2326.4,2,  -999.0,9, -999.00,   7.8617,2,       25,-999.000,9,-999.0000,9, -999.00,9,  -999.0,9,  -999.0,   1.073,3, -999.00,9,  59.5707,2, -999.00,9,  319.20,  -999.0,9,  13.5299,     26.541,    35.4976,2,     -999.0,9,     -999.0,9,     -999.0,     -999.0,9,     -999.0
33RO20110926,        A10,      73,          1,         18,      11710,2,20111019,       1701,   -29.9984,   -27.7289,       4423,   389.1,  12.6978,  35.2061,2,  35.2095,2,    221.7,2,   222.8,2,     3.2,2,     9.5,2,    0.01,2,   0.598,4,   3.010,2,   1.717,2,   1.319,2,     2124.9,2,  2321.9,2,  -999.0,9, -999.00,   7.8537,2,       25,-999.000,9,-999.0000,9, -999.00,9,  -999.0,9,  -999.0,   1.735,3, -999.00,9,  53.8439,2, -999.00,9,  389.10,  -999.0,9,  12.6446,     26.623,    35.3755,2,     -999.0,9,     -999.0,9,     -999.0,     -999.0,9,     -999.0
33RO20110926,        A10,      73,          1,         17,      11023,2,20111019,       1701,   -29.9984,   -27.7289,       4423,   491.2,  10.6335,  34.8889,2,  34.8900,2,    208.1,2,   208.1,2,     6.0,6,    15.7,6,    0.01,6,   0.903,4,   3.177,2,   1.724,2,   1.092,2,     2141.2,2,  2300.5,2,  -999.0,9, -999.00,   7.7716,2,       25,-999.000,9,-999.0000,9, -999.00,9,  -999.0,9,  -999.0,   1.479,3, -999.00,9,  48.6049,2, -999.00,9,  491.20,  -999.0,9,  10.5735,     26.766,    35.0545,2,     -999.0,9,     -999.0,9,     -999.0,     -999.0,9,     -999.0
33RO20110926,        A10,      73,          1,         16,      11709,2,20111019,       1701,   -29.9984,   -27.7289,       4423,   590.2,   8.8044,  34.6560,2,  34.6565,2,    206.0,2,   206.1,2,     9.0,2,    20.5,2,    0.01,2,   1.169,4,   3.237,2,   1.696,2,   0.912,2,     2153.3,2,  2292.8,2,  -999.0,9, -999.00,   7.7226,2,       25,-999.000,9,-999.0000,9, -999.00,9,  -999.0,9,  -999.0,   1.814,3, -999.00,9,  48.5854,2, -999.00,9,  590.20,  -999.0,9,   8.7399,     26.890,    34.8199,2,     -999.0,9,     -999.0,9,     -999.0,     -999.0,9,     -999.0
33RO20110926,        A10,      73,          1,         15,      11006,2,20111019,       1701,   -29.9984,   -27.7289,       4423,   691.1,   6.7319,  34.4077,2,  34.4088,2,    225.6,2,   225.4,2,    10.8,2,    23.7,2,    0.01,2,   1.342,4,   3.576,2,   1.869,2,   1.087,2,     2157.6,2,  2282.4,2,  -999.0,9, -999.00,   7.6875,2,       25,-999.000,9,-999.0000,9, -999.00,9,  -999.0,9,  -999.0,   4.182,3, -999.00,9,   48.439,2, -999.00,9,  691.10,  -999.0,9,   6.6669,     26.997,    34.5711,3,     -999.0,9,     -999.0,9,     -999.0,     -999.0,9,     -999.0
33RO20110926,        A10,      73,          1,         14,      11708,2,20111019,       1701,   -29.9984,   -27.7289,       4423,   790.4,   5.3620,  34.3162,2,  34.3176,2,    227.5,2,   226.5,2,    16.8,6,    27.0,6,    0.01,6,   1.539,4,   3.292,2,   1.676,2,   0.839,2,     2169.6,2,  2283.1,2,  -999.0,9, -999.00,   7.6595,2,       25,-999.000,9,-999.0000,9, -999.00,9,  -999.0,9,  -999.0,   4.767,3, -999.00,9,  42.7122,2, -999.00,9,  790.40,  -999.0,9,   5.2954,     27.098,    34.4794,3,     -999.0,9,     -999.0,9,     -999.0,     -999.0,9,     -999.0
33RO20110926,        A10,      73,          1,         13,      11031,2,20111019,       1701,   -29.9984,   -27.7289,       4423,   940.9,   4.2532,  34.2905,2,  34.2914,2,    223.8,2,   222.5,2,    25.8,2,    29.8,2,    0.01,2,   1.742,4,   2.698,2,   1.331,2,   0.594,2,     2185.3,2,  2291.4,2,  -999.0,9, -999.00,   7.6364,2,       25,-999.000,9,-999.0000,9, -999.00,9,  -999.0,9,  -999.0,   4.582,3, -999.00,9,  42.1756,2, -999.00,9,  940.90,  -999.0,9,   4.1809,     27.204,    34.4531,2,     -999.0,9,     -999.0,9,     -999.0,     -999.0,9,     -999.0
33RO20110926,        A10,      73,          1,         12,      11027,2,20111019,       1701,   -29.9984,   -27.7289,       4423,  1091.2,   3.3666,  34.3286,2,  34.3270,2,    209.7,2,   209.9,2,    38.6,2,    32.0,2,    0.01,2,   1.945,4,   1.820,2,   0.886,2,   0.332,2,       2206,2,  2303.7,2,  -999.0,9, -999.00,   7.6052,2,       25,-999.000,9,-999.0000,9, -999.00,9,  -999.0,9,  -999.0,   3.569,3, -999.00,9,  40.1756,2, -999.00,9, 1091.20,  -999.0,9,   3.2889,     27.321,    34.4889,2,     -999.0,9,     -999.0,9,     -999.0,     -999.0,9,     -999.0
33RO20110926,        A10,      73,          1,         11,      11707,2,20111019,       1701,   -29.9984,   -27.7289,       4423,  1240.0,   3.2299,  34.4363,2,  34.4359,2,    192.4,2,   192.9,2,    48.1,2,    32.7,2,    0.01,2,   2.053,4,   0.973,2,   0.471,2,   0.158,2,     2221.6,2,  2315.3,2,  -999.0,9, -999.00,   7.5952,2,       25,-999.000,9,-999.0000,9, -999.00,9,  -999.0,9,  -999.0,   2.097,3, -999.00,9,   41.561,2, -999.00,9, 1240.00,  -999.0,9,   3.1413,     27.422,    34.5983,2,     -999.0,9,     -999.0,9,     -999.0,     -999.0,9,     -999.0
33RO20110926,        A10,      73,          1,         10,      11003,2,20111019,       1701,   -29.9984,   -27.7289,       4423,  1389.5,   2.9729,  34.5229,2,  34.5227,2,    188.6,2,   188.3,2,    54.3,2,    32.5,2,    0.01,2,   2.080,4,   0.543,2,   0.263,2,   0.045,2,     2231.5,2,  2319.4,6,  -999.0,9, -999.00,   7.5894,6,       25,-999.000,9,-999.0000,9, -999.00,9,  -999.0,9,  -999.0,   1.459,3, -999.00,9,       40,2, -999.00,9, 1389.50,  -999.0,9,   2.8746,     27.515,    34.6855,2,     -999.0,9,     -999.0,9,     -999.0,     -999.0,9,     -999.0
33RO20110926,        A10,      73,          1,          9,      11706,2,20111019,       1701,   -29.9984,   -27.7289,       4423,  1589.5,   2.8836,  34.6532,2,  34.6525,2,    192.8,2,   193.6,2,    55.1,6,    30.4,6,    0.01,6,   1.978,4,   0.190,2,   0.092,2,   0.040,2,     2229.1,6,  2325.5,2,  -999.0,9, -999.00,   7.6174,2,       25,-999.000,9,-999.0000,9, -999.00,9,  -999.0,9,  -999.0,   0.716,3, -999.00,9,  47.2683,3, -999.00,9, 1589.50,  -999.0,9,   2.7694,     27.628,    34.8159,2,     -999.0,9,     -999.0,9,     -999.0,     -999.0,9,     -999.0
33RO20110926,        A10,      73,          1,          8,      11033,2,20111019,       1701,   -29.9984,   -27.7289,       4423,  1791.8,   2.7933,  34.7413,2,  34.7408,2,    204.6,2,   205.1,2,    53.0,2,    28.1,2,    0.01,2,   1.845,4,   0.071,2,   0.035,2,   0.000,2,     2219.7,2,  2329.4,2,  -999.0,9, -999.00,   7.6354,2,       25,-999.000,9,-999.0000,9, -999.00,9,  -999.0,9,  -999.0,   0.384,3, -999.00,9,  44.8683,3, -999.00,9, 1791.80,  -999.0,9,   2.6628,     27.708,    34.9046,2,     -999.0,9,     -999.0,9,     -999.0,     -999.0,9,     -999.0
33RO20110926,        A10,      73,          1,          7,      11705,2,20111019,       1701,   -29.9984,   -27.7289,       4423,  2141.5,   2.7228,  34.8255,2,  34.8267,2,    223.6,2,   224.8,2,    47.3,2,    25.1,2,    0.01,2,   1.638,4,   0.019,2,   0.010,2,   0.000,2,     2205.1,2,    2329,2,  -999.0,9, -999.00,   7.6805,2,       25,-999.000,9,-999.0000,9, -999.00,9,  -999.0,9,  -999.0,   0.200,3, -999.00,9,-999.0000,5, -999.00,9, 2141.50,  -999.0,9,   2.5620,     27.786,    34.9909,2,     -999.0,9,     -999.0,9,     -999.0,     -999.0,9,     -999.0
33RO20110926,        A10,      73,          1,          6,      11029,2,20111019,       1701,   -29.9984,   -27.7289,       4423,  2490.9,   2.7512,  34.8777,2,  34.8798,2,    238.5,2,   238.9,2,    40.0,2,    22.8,2,    0.01,2,   1.461,4,   0.008,2,   0.007,2,   0.053,2,     2191.3,2,  2326.9,2,  -999.0,9, -999.00,   7.7156,2,       25,-999.000,9,-999.0000,9, -999.00,9,  -999.0,9,  -999.0,   0.132,3, -999.00,9,  45.0927,3, -999.00,9, 2490.90,  -999.0,9,   2.5570,     27.829,    35.0443,2,     -999.0,9,     -999.0,9,     -999.0,     -999.0,9,     -999.0
33RO20110926,        A10,      73,          1,          5,      11704,2,20111019,       1701,   -29.9984,   -27.7289,       4423,  2888.3,   2.7124,  34.9032,2,  34.9036,2,    246.9,2,   247.3,2,    36.6,2,    21.6,2,    0.01,2,   1.368,4,   0.006,2,   0.004,2,   0.000,2,     2183.6,2,  2329.4,2,  -999.0,9, -999.00,   7.7274,2,       25,-999.000,9,-999.0000,9, -999.00,9,  -999.0,9,  -999.0,   0.120,3, -999.00,9,     42.4,2, -999.00,9, 2888.30,  -999.0,9,   2.4795,     27.854,    35.0682,6,     -999.0,9,     -999.0,9,     -999.0,     -999.0,9,     -999.0
33RO20110926,        A10,      73,          1,          4,      11030,2,20111019,       1701,   -29.9984,   -27.7289,       4423,  3289.1,   2.4750,  34.8892,2,  34.8894,2,    247.6,2,   248.3,2,    43.0,2,    22.1,2,    0.01,2,   1.442,4,   0.009,2,   0.006,2,   0.000,2,       2190,2,  2334.3,2,  -999.0,9, -999.00,   7.7264,2,       25,-999.000,9,-999.0000,9, -999.00,9,  -999.0,9,  -999.0,   0.152,3, -999.00,9,  41.7171,2, -999.00,9, 3289.10,  -999.0,9,   2.2058,     27.866,    35.0539,2,     -999.0,9,     -999.0,9,     -999.0,     -999.0,9,     -999.0
33RO20110926,        A10,      73,          1,          3,      11703,2,20111019,       1701,   -29.9984,   -27.7289,       4423,  3790.1,   1.7537,  34.8143,2,  34.8139,2,    234.4,2,   235.5,2,    71.4,6,    25.9,6,    0.01,6,   1.847,4,   0.039,2,   0.021,2,   0.116,2,     2219.2,2,  2347.6,2,  -999.0,9, -999.00,   7.6773,2,       25,-999.000,9,-999.0000,9, -999.00,9,  -999.0,9,  -999.0,   0.192,3, -999.00,9,  40.7024,2, -999.00,9, 3790.10,  -999.0,9,   1.4497,     27.864,    34.9781,2,     -999.0,9,     -999.0,9,     -999.0,     -999.0,9,     -999.0
33RO20110926,        A10,      73,          1,          2,      11702,2,20111019,       1701,   -29.9984,   -27.7289,       4423,  4289.8,   1.1815,  34.7499,2,  34.7514,2,    224.2,2,   224.4,2,    96.6,2,    29.3,2,    0.01,2,   2.208,4,   0.108,2,   0.052,2,   0.074,2,     2244.2,2,    2360,2,  -999.0,9, -999.00,   7.6443,2,       25,-999.000,9,-999.0000,9, -999.00,9,  -999.0,9,  -999.0,   0.430,3, -999.00,9,  40.1073,2, -999.00,9, 4289.80,  -999.0,9,   0.8395,     27.856,    34.9153,2,     -999.0,9,     -999.0,9,     -999.0,     -999.0,9,     -999.0
33RO20110926,        A10,      73,          1,          1,      11701,2,20111019,       1701,   -29.9984,   -27.7289,       4423,  4454.0,   1.1415,  34.7430,2,  34.7441,2,    223.4,2,   223.2,2,    98.9,2,    29.7,2,    0.01,2,   2.245,4,   0.124,6,   0.060,6,   0.059,6,     2247.9,6,  2361.5,6,  -999.0,9, -999.00,   7.6397,6,       25,-999.000,9,-999.0000,9, -999.00,9,  -999.0,9,  -999.0,   0.451,3, -999.00,9,  38.3122,2, -999.00,9, 4454.00,  -999.0,9,   0.7824,     27.854,    34.9079,2,     -999.0,9,     -999.0,9,     -999.0,     -999.0,9,     -999.0