BOTTLE,20220815CCHSIOAMB
EXPOCODE,SECT_ID,STNNBR,CASTNO,SAMPNO,BTLNBR,BTLNBR_FLAG_W,DATE,TIME,LATITUDE,LONGITUDE,DEPTH,CTDPRS,CTDTMP,CTDSAL,CTDSAL_FLAG_W,SALNTY,SALNTY_FLAG_W,CTDOXY,CTDOXY_FLAG_W,OXYGEN,OXYGEN_FLAG_W,SILCAT,SILCAT_FLAG_W,NITRAT,NITRAT_FLAG_W,NITRIT,NITRIT_FLAG_W,PHSPHT,PHSPHT_FLAG_W,CFC-11,CFC-11_FLAG_W,CFC-12,CFC-12_FLAG_W,SF6,SF6_FLAG_W,TCARBN,TCARBN_FLAG_W,ALKALI,ALKALI_FLAG_W,PCO2,PCO2_FLAG_W,PCO2TMP,PH_SWS,PH_SWS_FLAG_W,PH_TMP,TRITUM,TRITUM_FLAG_W,HELIUM,HELIUM_FLAG_W,DELC13,DELC13_FLAG_W,DELC14,DELC14_FLAG_W,C14ERR,CCL4,CCL4_FLAG_W,DELO18,DELO18_FLAG_W,DOC,DOC_FLAG_W,TDN,TDN_FLAG_W,CTDRAW,14C-DOC,14C-DOC_FLAG_W,THETA,SIG0,SALTREF,SALTREF_FLAG_W,BLACKC,BLACKC_FLAG_W,PIGMENTS,PIGMENTS_FLAG_W,14C-DOCERR,13C-DOC,13C-DOC_FLAG_W,13C-DOCERR
,,,,,,,,,,,METERS,DBAR,ITS-90,PSS-78,,PSS-78,,UMOL/KG,,UMOL/KG,,UMOL/KG,,UMOL/KG,,UMOL/KG,,UMOL/KG,,PMOL/KG,,PMOL/KG,,FMOL/KG,,UMOL/KG,,UMOL/KG,,UATM,,DEG C,,,DEG C,TU,,NMOL/KG,,/MILLE,,/MILLE,,/MILLE,PMOL/KG,,/MILLE,,UMOL/KG,,UMOL/KG,,DBAR,/MILLE,,DEG C,KG/M^3,G/KG,,,,,,/MILLE,/MILLE,,/MILLE
33RO20110926,        A10,     119,          1,          8,      11033,2,20111029,       2001,   -27.6695,   -47.6688,        117,     5.0,  22.3379,  35.6231,2,  35.9939,3,    220.1,2,     229,3,     2.1,2,     0.0,2,    0.00,2,   0.128,2,   1.957,2,   1.206,2,   1.238,2,     2045.7,6,  2344.1,6,  -999.0,9, -999.00,    8.022,6,       25,-999.000,9,-999.0000,9, -999.00,9,  -999.0,9,  -999.0,   4.683,4, -999.00,9,  66.9366,2,    4.67,2,    5.00,  -999.0,9,  22.3369,     24.878,    36.1636,2,     -999.0,9,     -999.0,9,     -999.0,     -999.0,9,     -999.0
33RO20110926,        A10,     119,          1,          9,      11706,2,20111029,       2001,   -27.6695,   -47.6688,        117,     5.0,  22.3228,  35.6264,2,-999.0000,9,    220.1,2,  -999.0,9, -999.00,9,  -999.0,9, -999.00,9,-999.000,9,-999.000,9,-999.000,9,-999.000,9,-999.000000,9,  -999.0,9,  -999.0,9, -999.00,-999.0000,9,  -999.00,-999.000,9,-999.0000,9, -999.00,9,  -999.0,9,  -999.0,-999.000,5, -999.00,9,-999.0000,9, -999.00,9,    5.00,  -999.0,9,  22.3218,     24.603,     -999.0,9,     -999.0,9,     -999.0,1,     -999.0,     -999.0,9,     -999.0
33RO20110926,        A10,     119,          1,          7,      11705,2,20111029,       2001,   -27.6695,   -47.6688,        117,    30.3,  21.8191,  35.8972,2,-999.0000,9,    222.3,2,   222.4,2,     1.6,2,     0.0,2,    0.00,2,   0.128,2,   2.003,2,   1.233,2,   1.316,2,-999.000000,9,  2364.4,3,  -999.0,9, -999.00,     8.02,2,       25,-999.000,9,-999.0000,9, -999.00,9,  -999.0,9,  -999.0,   5.138,4, -999.00,9,  65.4244,2,    5.14,2,   30.30,  -999.0,9,  21.8131,     24.945,     -999.0,5,     -999.0,9,     -999.0,9,     -999.0,     -999.0,9,     -999.0
33RO20110926,        A10,     119,          1,          6,      11029,2,20111029,       2001,   -27.6695,   -47.6688,        117,    50.8,  21.1998,  36.4630,2,  36.4609,2,    219.2,2,  -999.0,9, -999.00,9,  -999.0,9, -999.00,9,-999.000,9,-999.000,9,-999.000,9,-999.000,9,-999.000000,9,  -999.0,9,  -999.0,9, -999.00,-999.0000,9,  -999.00,-999.000,9,-999.0000,9, -999.00,9,  -999.0,9,  -999.0,-999.000,5, -999.00,9,-999.0000,9, -999.00,9,   50.80,  -999.0,9,  21.1900,     25.555,    36.6328,2,     -999.0,9,     -999.0,1,     -999.0,     -999.0,9,     -999.0
33RO20110926,        A10,     119,          1,          5,      11704,2,20111029,       2001,   -27.6695,   -47.6688,        117,    50.5,  21.0877,  36.4493,2,-999.0000,9,    216.9,2,   217.7,2,     1.0,2,     0.0,2,    0.00,2,   0.112,2,-999.000,9,-999.000,9,-999.000,9,     2087.1,2,  -999.0,5,  -999.0,9, -999.00,-999.0000,5,  -999.00,-999.000,9,-999.0000,9, -999.00,9,  -999.0,9,  -999.0,-999.000,5, -999.00,9,  61.8829,2,    4.33,2,   50.50,  -999.0,9,  21.0780,     25.577,     -999.0,5,     -999.0,9,     -999.0,9,     -999.0,     -999.0,9,     -999.0
33RO20110926,        A10,     119,          1,          4,      11030,2,20111029,       2001,   -27.6695,   -47.6688,        117,    80.6,  17.4756,  35.8806,2,  35.8823,2,    189.1,2,   188.4,2,     2.4,2,     4.5,2,    0.14,2,   0.429,2,   2.411,2,   1.438,2,   1.216,2,-999.000000,9,  2355.8,2,  -999.0,9, -999.00,   7.9148,2,       25,-999.000,9,-999.0000,9, -999.00,9,  -999.0,9,  -999.0,   1.625,4, -999.00,9,  52.3512,2,    7.49,2,   80.60,  -999.0,9,  17.4620,     26.069,    36.0515,2,     -999.0,9,     -999.0,9,     -999.0,     -999.0,9,     -999.0
33RO20110926,        A10,     119,          1,          2,      11702,2,20111029,       2001,   -27.6695,   -47.6688,        117,   109.7,  15.2444,  35.5428,2,  35.5409,2,    191.4,2,   192.1,2,     3.4,6,     7.8,6,    0.06,6,   0.635,6,-999.000,9,-999.000,9,-999.000,9,-999.000000,9,  2337.2,2,  -999.0,9, -999.00,   7.8698,2,       25,-999.000,9,-999.0000,9, -999.00,9,  -999.0,9,  -999.0,-999.000,5, -999.00,9,  47.5317,2,   11.20,2,  109.70,  -999.0,9,  15.2276,     26.328,    35.7085,2,     -999.0,9,     -999.0,9,     -999.0,     -999.0,9,     -999.0
33RO20110926,        A10,     119,          1,          3,      11703,2,20111029,       2001,   -27.6695,   -47.6688,        117,   109.8,  15.2305,  35.5415,2,  35.5393,2,    191.7,2,  -999.0,9, -999.00,9,  -999.0,9, -999.00,9,-999.000,9,-999.000,9,-999.000,9,-999.000,9,-999.000000,9,  -999.0,9,  -999.0,9, -999.00,-999.0000,9,  -999.00,-999.000,9,-999.0000,9, -999.00,9,  -999.0,9,  -999.0,-999.000,5, -999.00,9,-999.0000,9, -999.00,9,  109.80,  -999.0,9,  15.2137,     26.333,    35.7069,2,     -999.0,9,     -999.0,1,     -999.0,     -999.0,9,     -999.0
33RO20110926,        A10,     119,          1,          1,      11701,2,20111029,       2001,   -27.6695,   -47.6688,        117,   122.0,  14.6582,  35.4622,2,  35.4659,2,    191.7,2,   191.6,2,     4.0,2,     8.9,2,    0.06,2,   0.714,2,   2.731,2,   1.573,2,   1.159,2,     2126.6,2,  2333.8,6,  -999.0,9, -999.00,   7.8572,6,       25,-999.000,9,-999.0000,9, -999.00,9,  -999.0,9,  -999.0,   1.298,4, -999.00,9,  50.7122,2,   12.00,2,  122.00,  -999.0,9,  14.6400,     26.411,    35.6332,2,     -999.0,9,     -999.0,9,     -999.0,     -999.0,9,     -999.0
33RO20110926,        A10,     120,          1,          9,      11706,2,20111029,       2203,   -27.5998,   -47.9487,         92,     4.6,  22.3566,  34.3132,2,-999.0000,9,    221.5,2,  -999.0,9, -999.00,9,  -999.0,9, -999.00,9,-999.000,9,-999.000,9,-999.000,9,-999.000,9,-999.000000,9,  -999.0,9,  -999.0,9, -999.00,-999.0000,9,  -999.00,-999.000,9,-999.0000,9,    0.98,2,    39.3,2,     3.7,-999.000,5, -999.00,9,-999.0000,9, -999.00,9,    4.60,  -999.0,9,  22.3557,     23.596,     -999.0,9,     -999.0,9,     -999.0,1,     -999.0,     -999.0,9,     -999.0
33RO20110926,        A10,     120,          1,         10,      11003,2,20111029,       2203,   -27.5998,   -47.9487,         92,     4.6,  22.3570,  34.3146,2,  34.3198,2,    221.5,2,   221.9,2,     3.7,2,     0.0,2,    0.01,2,   0.130,2,   1.967,2,   1.216,2,   1.277,2,     1988.3,6,  2270.1,6,  -999.0,9, -999.00,   8.0185,6,       25,-999.000,9,-999.0000,9, -999.00,9,  -999.0,9,  -999.0,   5.006,4, -999.00,9,  77.1902,2,    5.20,2,    4.60,  -999.0,9,  22.3561,     23.601,    34.4816,2,     -999.0,9,     -999.0,9,     -999.0,     -999.0,9,     -999.0
33RO20110926,        A10,     120,          1,          8,      11033,2,20111029,       2203,   -27.5998,   -47.9487,         92,    20.3,  22.0672,  35.0961,2,  35.2368,3,    222.7,2,   221.5,2,     2.5,2,     0.0,2,    0.01,2,   0.142,2,-999.000,9,-999.000,9,-999.000,9,-999.000000,9,  2321.1,2,  -999.0,9, -999.00,    8.018,2,       25,-999.000,9,-999.0000,9, -999.00,9,  -999.0,9,  -999.0,-999.000,5, -999.00,9,  71.6195,2,    5.90,2,   20.30,  -999.0,9,  22.0632,     24.376,    35.4029,2,     -999.0,9,     -999.0,9,     -999.0,     -999.0,9,     -999.0
33RO20110926,        A10,     120,          1,          7,      11705,2,20111029,       2203,   -27.5998,   -47.9487,         92,    20.2,  22.0509,  35.1453,2,-999.0000,9,    222.7,2,  -999.0,9, -999.00,9,  -999.0,9, -999.00,9,-999.000,9,-999.000,9,-999.000,9,-999.000,9,-999.000000,9,  -999.0,9,  -999.0,9, -999.00,-999.0000,9,  -999.00,-999.000,9,-999.0000,9, -999.00,9,  -999.0,9,  -999.0,-999.000,5, -999.00,9,-999.0000,9, -999.00,9,   20.20,  -999.0,9,  22.0469,     24.383,     -999.0,9,     -999.0,9,     -999.0,1,     -999.0,     -999.0,9,     -999.0
33RO20110926,        A10,     120,          1,          5,      11704,2,20111029,       2203,   -27.5998,   -47.9487,         92,    35.5,  21.1788,  36.2364,2,-999.0000,9,    226.0,2,  -999.0,9, -999.00,9,  -999.0,9, -999.00,9,-999.000,9,-999.000,9,-999.000,9,-999.000,9,-999.000000,9,  -999.0,5,  -999.0,9, -999.00,-999.0000,5,  -999.00,-999.000,9,-999.0000,9, -999.00,9,  -999.0,9,  -999.0,-999.000,5, -999.00,9,-999.0000,9, -999.00,9,   35.50,  -999.0,9,  21.1720,     25.381,     -999.0,9,     -999.0,9,     -999.0,1,     -999.0,     -999.0,9,     -999.0
33RO20110926,        A10,     120,          1,          6,      11029,2,20111029,       2203,   -27.5998,   -47.9487,         92,    35.6,  21.1731,  36.2377,2,  36.2416,2,    226.0,2,   226.7,2,     0.9,2,     0.1,2,    0.01,2,   0.142,2,   2.090,2,   1.276,2,   1.252,2,     2077.2,2,    2379,2,  -999.0,9, -999.00,    8.014,2,       25,-999.000,9,-999.0000,9, -999.00,9,  -999.0,9,  -999.0,   6.117,4, -999.00,9,  65.1707,2,    4.62,2,   35.60,  -999.0,9,  21.1662,     25.385,    36.4125,2,     -999.0,9,     -999.0,9,     -999.0,     -999.0,9,     -999.0
33RO20110926,        A10,     120,          1,          4,      11030,2,20111029,       2203,   -27.5998,   -47.9487,         92,    55.5,  18.4769,  36.0239,2,  36.0254,2,    198.6,2,   198.5,2,     2.0,2,     2.3,2,    0.38,2,   0.327,2,-999.000,9,-999.000,9,-999.000,9,-999.000000,9,    2364,2,  -999.0,9, -999.00,   7.9449,2,       25,-999.000,9,-999.0000,9, -999.00,9,  -999.0,9,  -999.0,-999.000,5, -999.00,9,  60.8195,2,    6.86,2,   55.50,  -999.0,9,  18.4671,     25.939,    36.1953,2,     -999.0,9,     -999.0,9,     -999.0,     -999.0,9,     -999.0
33RO20110926,        A10,     120,          1,          3,      11703,2,20111029,       2203,   -27.5998,   -47.9487,         92,    55.5,  18.4214,  36.0154,2,-999.0000,9,    198.8,2,  -999.0,9, -999.00,9,  -999.0,9, -999.00,9,-999.000,9,-999.000,9,-999.000,9,-999.000,9,-999.000000,9,  -999.0,9,  -999.0,9, -999.00,-999.0000,9,  -999.00,-999.000,9,-999.0000,9, -999.00,9,  -999.0,9,  -999.0,-999.000,5, -999.00,9,-999.0000,9, -999.00,9,   55.50,  -999.0,9,  18.4117,     25.943,     -999.0,9,     -999.0,9,     -999.0,1,     -999.0,     -999.0,9,     -999.0
33RO20110926,        A10,     120,          1,          1,      11701,2,20111029,       2203,   -27.5998,   -47.9487,         92,    93.7,  14.5032,  35.4324,2,-999.0000,9,    186.9,2,  -999.0,9, -999.00,9,  -999.0,9, -999.00,9,-999.000,9,-999.000,9,-999.000,9,-999.000,9,-999.000000,9,  -999.0,9,  -999.0,9, -999.00,-999.0000,9,  -999.00,-999.000,9,-999.0000,9, -999.00,9,  -999.0,9,  -999.0,-999.000,5, -999.00,9,-999.0000,9, -999.00,9,   93.70,  -999.0,9,  14.4893,     26.418,     -999.0,9,     -999.0,9,     -999.0,1,     -999.0,     -999.0,9,     -999.0
33RO20110926,        A10,     120,          1,          2,      11702,2,20111029,       2203,   -27.5998,   -47.9487,         92,    93.9,  14.4990,  35.4323,2,  35.4341,2,    186.4,2,   183.7,2,     6.0,6,     9.9,6,    0.07,6,   0.831,6,   2.726,2,   1.564,2,   1.134,2,       2133,2,  2332.2,2,  -999.0,9, -999.00,   7.8386,2,       25,-999.000,9,-999.0000,9, -999.00,9,  -999.0,9,  -999.0,   1.643,4, -999.00,9,  52.1659,2,   12.90,2,   93.90,  -999.0,9,  14.4851,     26.418,    35.6011,6,     -999.0,9,     -999.0,9,     -999.0,     -999.0,9,     -999.0