BOTTLE,20220815CCHSIOAMB
EXPOCODE,SECT_ID,STNNBR,CASTNO,SAMPNO,BTLNBR,BTLNBR_FLAG_W,DATE,TIME,LATITUDE,LONGITUDE,DEPTH,CTDPRS,CTDTMP,CTDSAL,CTDSAL_FLAG_W,SALNTY,SALNTY_FLAG_W,CTDOXY,CTDOXY_FLAG_W,OXYGEN,OXYGEN_FLAG_W,SILCAT,SILCAT_FLAG_W,NITRAT,NITRAT_FLAG_W,NITRIT,NITRIT_FLAG_W,PHSPHT,PHSPHT_FLAG_W,CFC-11,CFC-11_FLAG_W,CFC-12,CFC-12_FLAG_W,SF6,SF6_FLAG_W,TCARBN,TCARBN_FLAG_W,ALKALI,ALKALI_FLAG_W,PCO2,PCO2_FLAG_W,PCO2TMP,PH_SWS,PH_SWS_FLAG_W,PH_TMP,TRITUM,TRITUM_FLAG_W,HELIUM,HELIUM_FLAG_W,DELC13,DELC13_FLAG_W,DELC14,DELC14_FLAG_W,C14ERR,CCL4,CCL4_FLAG_W,DELO18,DELO18_FLAG_W,DOC,DOC_FLAG_W,TDN,TDN_FLAG_W,CTDRAW,14C-DOC,14C-DOC_FLAG_W,THETA,SIG0,SALTREF,SALTREF_FLAG_W,BLACKC,BLACKC_FLAG_W,PIGMENTS,PIGMENTS_FLAG_W,14C-DOCERR,13C-DOC,13C-DOC_FLAG_W,13C-DOCERR
,,,,,,,,,,,METERS,DBAR,ITS-90,PSS-78,,PSS-78,,UMOL/KG,,UMOL/KG,,UMOL/KG,,UMOL/KG,,UMOL/KG,,UMOL/KG,,PMOL/KG,,PMOL/KG,,FMOL/KG,,UMOL/KG,,UMOL/KG,,UATM,,DEG C,,,DEG C,TU,,NMOL/KG,,/MILLE,,/MILLE,,/MILLE,PMOL/KG,,/MILLE,,UMOL/KG,,UMOL/KG,,DBAR,/MILLE,,DEG C,KG/M^3,G/KG,,,,,,/MILLE,/MILLE,,/MILLE
33RO20110926,        A10,      92,          1,         24,      11714,2,20111023,       1858,   -30.0000,   -37.4670,       2848,     4.2,  19.9693,  36.4524,2,  36.4528,2,    227.3,2,   229.1,2,     0.6,2,     0.0,2,    0.01,2,   0.026,4,   2.122,2,   1.299,2,   1.355,2,     2082.3,6,  2389.1,6,  -999.0,9, -999.00,   8.0275,6,       25,-999.000,9,-999.0000,9, -999.00,9,  -999.0,9,  -999.0,   3.024,4, -999.00,9,-999.0000,9, -999.00,9,    4.20,  -999.0,9,  19.9685,     25.880,    36.6247,2,     -999.0,9,     -999.0,1,     -999.0,     -999.0,9,     -999.0
33RO20110926,        A10,      92,          1,         23,      11713,2,20111023,       1858,   -30.0000,   -37.4670,       2848,    34.9,  19.9344,  36.4470,2,  36.4466,2,    228.0,2,   228.5,2,     0.6,2,     0.0,2,    0.01,2,   0.029,4,-999.000,9,-999.000,9,-999.000,9,-999.000000,9,  2389.1,2,  -999.0,9, -999.00,    8.028,2,       25,-999.000,9,-999.0000,9, -999.00,9,  -999.0,9,  -999.0,-999.000,5, -999.00,9,-999.0000,9, -999.00,9,   34.90,  -999.0,9,  19.9279,     25.885,    36.6184,2,     -999.0,9,     -999.0,9,     -999.0,     -999.0,9,     -999.0
33RO20110926,        A10,      92,          1,         22,      11712,2,20111023,       1858,   -30.0000,   -37.4670,       2848,    75.2,  19.8078,  36.4172,2,  36.4154,2,    227.6,2,   227.8,2,     0.7,2,     0.1,2,    0.01,2,   0.038,4,   2.132,2,   1.297,2,   1.325,2,-999.000000,9,  -999.0,9,  -999.0,9, -999.00,-999.0000,9,  -999.00,-999.000,9,-999.0000,9, -999.00,9,  -999.0,9,  -999.0,   3.421,4, -999.00,9,-999.0000,9, -999.00,9,   75.20,  -999.0,9,  19.7940,     25.897,    36.5871,2,     -999.0,9,     -999.0,9,     -999.0,     -999.0,9,     -999.0
33RO20110926,        A10,      92,          1,         21,      11010,2,20111023,       1858,   -30.0000,   -37.4670,       2848,   109.2,  19.1803,  36.2603,2,  36.2676,2,    224.8,2,   225.5,2,     0.7,6,     0.2,6,    0.09,6,   0.061,4,-999.000,9,-999.000,9,-999.000,9,-999.000000,9,  2378.9,2,  -999.0,9, -999.00,    8.016,2,       25,-999.000,9,-999.0000,9, -999.00,9,  -999.0,9,  -999.0,-999.000,5, -999.00,9,-999.0000,9, -999.00,9,  109.20,  -999.0,9,  19.1606,     25.946,    36.4386,2,     -999.0,9,     -999.0,1,     -999.0,     -999.0,9,     -999.0
33RO20110926,        A10,      92,          1,         20,      11715,2,20111023,       1858,   -30.0000,   -37.4670,       2848,   174.5,  16.6066,  35.7481,2,  35.7500,2,    205.4,2,   205.5,2,     1.7,2,     4.1,2,    0.02,2,   0.299,4,   2.523,2,   1.499,2,   1.292,2,-999.000000,9,  2346.6,2,  -999.0,9, -999.00,   7.9239,2,       25,-999.000,9,-999.0000,9, -999.00,9,  -999.0,9,  -999.0,   0.970,4, -999.00,9,-999.0000,9, -999.00,9,  174.50,  -999.0,9,  16.5781,     26.190,    35.9186,2,     -999.0,9,     -999.0,1,     -999.0,     -999.0,9,     -999.0
33RO20110926,        A10,      92,          1,         19,      11007,2,20111023,       1858,   -30.0000,   -37.4670,       2848,   241.4,  15.0261,  35.5242,2,  35.5237,2,    211.2,2,   210.8,2,     2.1,2,     6.0,2,    0.01,2,   0.399,4,-999.000,9,-999.000,9,-999.000,9,-999.000000,9,  -999.0,9,  -999.0,9, -999.00,-999.0000,9,  -999.00,-999.000,9,-999.0000,9, -999.00,9,  -999.0,9,  -999.0,-999.000,9, -999.00,9,-999.0000,9, -999.00,9,  241.40,  -999.0,9,  14.9893,     26.372,    35.6912,2,     -999.0,9,     -999.0,9,     -999.0,     -999.0,9,     -999.0
33RO20110926,        A10,      92,          1,         18,      11710,2,20111023,       1858,   -30.0000,   -37.4670,       2848,   319.2,  13.8799,  35.3910,2,  35.3979,2,    213.0,2,   213.7,2,     2.5,6,     8.2,6,    0.01,6,   0.489,4,   2.865,2,   1.644,2,   1.288,2,-999.000000,9,  2329.5,2,  -999.0,9, -999.00,   7.8708,2,       25,-999.000,9,-999.0000,9, -999.00,9,  -999.0,9,  -999.0,   1.132,3, -999.00,9,-999.0000,9, -999.00,9,  319.20,  -999.0,9,  13.8336,     26.525,    35.5648,2,     -999.0,9,     -999.0,9,     -999.0,     -999.0,9,     -999.0
33RO20110926,        A10,      92,          1,         17,      11023,2,20111023,       1858,   -30.0000,   -37.4670,       2848,   365.1,  13.3751,  35.3118,2,  35.3135,2,    213.7,2,   213.8,2,     3.0,2,     9.4,2,    0.01,2,   0.567,4,-999.000,9,-999.000,9,-999.000,9,-999.000000,9,  -999.0,9,  -999.0,9, -999.00,-999.0000,9,  -999.00,-999.000,9,-999.0000,9, -999.00,9,  -999.0,9,  -999.0,-999.000,9, -999.00,9,-999.0000,9, -999.00,9,  365.10,  -999.0,9,  13.3235,     26.570,    35.4801,2,     -999.0,9,     -999.0,9,     -999.0,     -999.0,9,     -999.0
33RO20110926,        A10,      92,          1,         16,      11709,2,20111023,       1858,   -30.0000,   -37.4670,       2848,   461.2,  12.1464,  35.1133,2,  35.1112,2,    212.7,2,   211.7,2,     4.1,2,    12.3,2,    0.01,2,   0.716,4,   3.064,2,   1.703,2,   1.140,2,-999.000000,9,  2313.5,2,  -999.0,9, -999.00,   7.8206,2,       25,-999.000,9,-999.0000,9, -999.00,9,  -999.0,9,  -999.0,   1.254,3, -999.00,9,-999.0000,9, -999.00,9,  461.20,  -999.0,9,  12.0850,     26.665,    35.2768,2,     -999.0,9,     -999.0,9,     -999.0,     -999.0,9,     -999.0
33RO20110926,        A10,      92,          1,         15,      11006,2,20111023,       1858,   -30.0000,   -37.4670,       2848,   561.3,   9.9086,  34.7955,2,  34.7937,2,    207.0,2,   206.6,2,     7.0,2,    18.1,2,    0.01,2,   1.008,4,-999.000,9,-999.000,9,-999.000,9,-999.000000,9,  -999.0,9,  -999.0,9, -999.00,-999.0000,9,  -999.00,-999.000,9,-999.0000,9, -999.00,9,  -999.0,9,  -999.0,-999.000,9, -999.00,9,-999.0000,9, -999.00,9,  561.30,  -999.0,9,   9.8428,     26.812,    34.9577,2,     -999.0,9,     -999.0,9,     -999.0,     -999.0,9,     -999.0
33RO20110926,        A10,      92,          1,         14,      11708,2,20111023,       1858,   -30.0000,   -37.4670,       2848,   659.6,   7.6272,  34.5270,2,  34.5255,2,    211.3,2,   210.1,2,    10.8,6,    23.2,6,    0.01,6,   1.272,4,   3.238,2,   1.668,2,   0.876,2,-999.000000,9,    2289,2,  -999.0,9, -999.00,   7.7004,2,       25,-999.000,9,-999.0000,9, -999.00,9,  -999.0,9,  -999.0,   2.648,3, -999.00,9,-999.0000,9, -999.00,9,  659.60,  -999.0,9,   7.5607,     26.965,    34.6883,2,     -999.0,9,     -999.0,9,     -999.0,     -999.0,9,     -999.0
33RO20110926,        A10,      92,          1,         13,      11031,2,20111023,       1858,   -30.0000,   -37.4670,       2848,   809.0,   5.3940,  34.3329,2,  34.3353,2,    223.9,2,   222.8,2,    17.2,2,    27.7,2,    0.00,2,   1.540,4,-999.000,9,-999.000,9,-999.000,9,-999.000000,9,  2289.2,2,  -999.0,9, -999.00,   7.6703,2,       25,-999.000,9,-999.0000,9, -999.00,9,  -999.0,9,  -999.0,-999.000,9, -999.00,9,-999.0000,9, -999.00,9,  809.00,  -999.0,9,   5.3255,     27.109,    34.4972,2,     -999.0,9,     -999.0,9,     -999.0,     -999.0,9,     -999.0
33RO20110926,        A10,      92,          1,         12,      11027,2,20111023,       1858,   -30.0000,   -37.4670,       2848,   958.3,   4.2010,  34.3060,2,  34.3069,2,    218.8,2,   218.8,2,    27.2,2,    30.0,2,    0.01,2,   1.750,4,   2.469,6,   1.212,6,   0.488,6,-999.000000,9,  2293.4,2,  -999.0,9, -999.00,   7.6342,2,       25,-999.000,9,-999.0000,9, -999.00,9,  -999.0,9,  -999.0,   3.372,3, -999.00,9,-999.0000,9, -999.00,9,  958.30,  -999.0,9,   4.1276,     27.221,    34.4686,2,     -999.0,9,     -999.0,9,     -999.0,     -999.0,9,     -999.0
33RO20110926,        A10,      92,          1,         11,      11707,2,20111023,       1858,   -30.0000,   -37.4670,       2848,  1089.4,   3.6209,  34.3574,2,  34.3579,2,    204.2,2,   204.1,2,    37.9,2,    31.7,2,    0.01,2,   1.920,4,-999.000,9,-999.000,9,-999.000,9,-999.000000,9,  -999.0,9,  -999.0,9, -999.00,-999.0000,9,  -999.00,-999.000,9,-999.0000,9, -999.00,9,  -999.0,9,  -999.0,-999.000,9, -999.00,9,-999.0000,9, -999.00,9, 1089.40,  -999.0,9,   3.5412,     27.322,    34.5199,2,     -999.0,9,     -999.0,9,     -999.0,     -999.0,9,     -999.0
33RO20110926,        A10,      92,          1,         10,      11003,2,20111023,       1858,   -30.0000,   -37.4670,       2848,  1223.8,   3.3085,  34.4283,2,  34.4282,2,    194.1,2,   194.3,2,    45.1,2,    32.4,2,    0.01,2,   2.021,4,   1.003,2,   0.484,2,   0.160,2,-999.000000,9,  2312.6,2,  -999.0,9, -999.00,   7.5972,2,       25,-999.000,9,-999.0000,9, -999.00,9,  -999.0,9,  -999.0,   1.788,3, -999.00,9,-999.0000,9, -999.00,9, 1223.80,  -999.0,9,   3.2205,     27.408,    34.5906,6,     -999.0,9,     -999.0,9,     -999.0,     -999.0,9,     -999.0
33RO20110926,        A10,      92,          1,          9,      11706,2,20111023,       1858,   -30.0000,   -37.4670,       2848,  1450.9,   3.0167,  34.5746,2,  34.5749,2,    188.3,2,   188.6,2,    52.0,2,    31.8,2,    0.00,2,   2.022,4,   0.343,2,   0.166,2,   0.049,2,-999.000000,9,  2324.2,2,  -999.0,9, -999.00,   7.6042,2,       25,-999.000,9,-999.0000,9, -999.00,9,  -999.0,9,  -999.0,   0.893,3, -999.00,9,-999.0000,9, -999.00,9, 1450.90,  -999.0,9,   2.9127,     27.554,    34.7379,2,     -999.0,9,     -999.0,9,     -999.0,     -999.0,9,     -999.0
33RO20110926,        A10,      92,          1,          8,      11033,2,20111023,       1858,   -30.0000,   -37.4670,       2848,  1630.3,   2.9012,  34.6572,2,  34.6570,2,    194.1,2,     194,2,    52.9,2,    30.3,2,    0.00,2,   1.944,4,   0.170,2,   0.083,2,   0.000,2,-999.000000,9,  -999.0,9,  -999.0,9, -999.00,-999.0000,9,  -999.00,-999.000,9,-999.0000,9, -999.00,9,  -999.0,9,  -999.0,   0.564,3, -999.00,9,-999.0000,9, -999.00,9, 1630.30,  -999.0,9,   2.7834,     27.631,    34.8204,2,     -999.0,9,     -999.0,9,     -999.0,     -999.0,9,     -999.0
33RO20110926,        A10,      92,          1,          6,      11029,2,20111023,       1858,   -30.0000,   -37.4670,       2848,  1832.5,   2.8420,  34.7364,2,  34.7368,2,    205.3,2,   205.5,2,    51.1,2,    28.1,2,    0.00,2,   1.822,4,-999.000,9,-999.000,9,-999.000,9,-999.000000,9,  -999.0,9,  -999.0,9, -999.00,-999.0000,9,  -999.00,-999.000,9,-999.0000,9, -999.00,9,  -999.0,9,  -999.0,-999.000,9, -999.00,9,-999.0000,9, -999.00,9, 1832.50,  -999.0,9,   2.7073,     27.701,    34.9006,2,     -999.0,9,     -999.0,9,     -999.0,     -999.0,9,     -999.0
33RO20110926,        A10,      92,          1,          7,      11705,2,20111023,       1858,   -30.0000,   -37.4670,       2848,  1832.0,   2.8420,  34.7362,2,  34.7364,2,    205.3,2,   205.3,2,    51.4,6,    28.1,6,    0.01,6,   1.811,4,-999.000,9,-999.000,9,-999.000,9,-999.000000,9,  2330.2,2,  -999.0,9, -999.00,   7.6453,2,       25,-999.000,9,-999.0000,9, -999.00,9,  -999.0,9,  -999.0,-999.000,9, -999.00,9,-999.0000,9, -999.00,9, 1832.00,  -999.0,9,   2.7074,     27.701,    34.9002,2,     -999.0,9,     -999.0,9,     -999.0,     -999.0,9,     -999.0
33RO20110926,        A10,      92,          1,          5,      11704,2,20111023,       1858,   -30.0000,   -37.4670,       2848,  2026.1,   2.8326,  34.7910,2,  34.7903,2,    216.1,2,   216.2,2,    43.8,2,    24.9,2,    0.00,2,   1.594,4,   0.046,2,   0.025,2,   0.000,2,-999.000000,9,  2330.6,2,  -999.0,9, -999.00,   7.6683,2,       25,-999.000,9,-999.0000,9, -999.00,9,  -999.0,9,  -999.0,   0.272,3, -999.00,9,-999.0000,9, -999.00,9, 2026.10,  -999.0,9,   2.6807,     27.746,    34.9543,2,     -999.0,9,     -999.0,9,     -999.0,     -999.0,9,     -999.0
33RO20110926,        A10,      92,          1,          4,      11030,2,20111023,       1858,   -30.0000,   -37.4670,       2848,  2200.6,   2.8308,  34.8295,2,  34.8314,2,    224.4,2,   224.4,2,    44.1,3,    24.9,3,    0.01,3,   1.601,4,   0.031,2,   0.018,2,   0.000,2,-999.000000,9,  -999.0,9,  -999.0,9, -999.00,-999.0000,9,  -999.00,-999.000,9,-999.0000,9, -999.00,9,  -999.0,9,  -999.0,   0.229,3, -999.00,9,-999.0000,9, -999.00,9, 2200.60,  -999.0,9,   2.6628,     27.781,    34.9956,2,     -999.0,9,     -999.0,9,     -999.0,     -999.0,9,     -999.0
33RO20110926,        A10,      92,          1,          3,      11703,2,20111023,       1858,   -30.0000,   -37.4670,       2848,  2350.8,   2.9586,  34.8851,2,  34.8847,2,    238.3,2,   238.2,2,    35.6,2,    22.6,2,    0.01,2,   1.405,4,   0.059,2,   0.032,2,   0.000,2,-999.000000,9,  2326.7,2,  -999.0,9, -999.00,   7.7104,2,       25,-999.000,9,-999.0000,9, -999.00,9,  -999.0,9,  -999.0,   0.320,3, -999.00,9,-999.0000,9, -999.00,9, 2350.80,  -999.0,9,   2.7741,     27.814,    35.0492,2,     -999.0,9,     -999.0,9,     -999.0,     -999.0,9,     -999.0
33RO20110926,        A10,      92,          1,          2,      11702,2,20111023,       1858,   -30.0000,   -37.4670,       2848,  2598.3,   2.9485,  34.9099,2,  34.9114,2,    246.3,2,     246,2,    32.4,6,    21.4,6,    0.01,6,   1.303,4,   0.062,2,   0.033,2,   0.000,2,-999.000000,9,  2324.9,2,  -999.0,9, -999.00,   7.7286,2,       25,-999.000,9,-999.0000,9, -999.00,9,  -999.0,9,  -999.0,   0.336,3, -999.00,9,-999.0000,9, -999.00,9, 2598.30,  -999.0,9,   2.7399,     27.838,    35.0761,2,     -999.0,9,     -999.0,9,     -999.0,     -999.0,9,     -999.0
33RO20110926,        A10,      92,          1,          1,      11701,2,20111023,       1858,   -30.0000,   -37.4670,       2848,  2860.3,   2.8109,  34.9118,2,  34.9130,2,    249.6,2,   248.5,2,    32.8,2,    21.6,2,    0.01,2,   1.323,4,   0.053,6,   0.030,6,   0.025,6,-999.000000,9,  2328.3,6,  -999.0,9, -999.00,   7.7276,6,       25,-999.000,9,-999.0000,9, -999.00,9,  -999.0,9,  -999.0,   0.313,3, -999.00,9,-999.0000,9, -999.00,9, 2860.30,  -999.0,9,   2.5787,     27.854,    35.0777,2,     -999.0,9,     -999.0,9,     -999.0,     -999.0,9,     -999.0