BOTTLE,20220815CCHSIOAMB
EXPOCODE,SECT_ID,STNNBR,CASTNO,SAMPNO,BTLNBR,BTLNBR_FLAG_W,DATE,TIME,LATITUDE,LONGITUDE,DEPTH,CTDPRS,CTDTMP,CTDSAL,CTDSAL_FLAG_W,SALNTY,SALNTY_FLAG_W,CTDOXY,CTDOXY_FLAG_W,OXYGEN,OXYGEN_FLAG_W,SILCAT,SILCAT_FLAG_W,NITRAT,NITRAT_FLAG_W,NITRIT,NITRIT_FLAG_W,PHSPHT,PHSPHT_FLAG_W,CFC-11,CFC-11_FLAG_W,CFC-12,CFC-12_FLAG_W,SF6,SF6_FLAG_W,TCARBN,TCARBN_FLAG_W,ALKALI,ALKALI_FLAG_W,PCO2,PCO2_FLAG_W,PCO2TMP,PH_SWS,PH_SWS_FLAG_W,PH_TMP,TRITUM,TRITUM_FLAG_W,HELIUM,HELIUM_FLAG_W,DELC13,DELC13_FLAG_W,DELC14,DELC14_FLAG_W,C14ERR,CCL4,CCL4_FLAG_W,DELO18,DELO18_FLAG_W,DOC,DOC_FLAG_W,TDN,TDN_FLAG_W,CTDRAW,14C-DOC,14C-DOC_FLAG_W,THETA,SIG0,SALTREF,SALTREF_FLAG_W,BLACKC,BLACKC_FLAG_W,PIGMENTS,PIGMENTS_FLAG_W,14C-DOCERR,13C-DOC,13C-DOC_FLAG_W,13C-DOCERR
,,,,,,,,,,,METERS,DBAR,ITS-90,PSS-78,,PSS-78,,UMOL/KG,,UMOL/KG,,UMOL/KG,,UMOL/KG,,UMOL/KG,,UMOL/KG,,PMOL/KG,,PMOL/KG,,FMOL/KG,,UMOL/KG,,UMOL/KG,,UATM,,DEG C,,,DEG C,TU,,NMOL/KG,,/MILLE,,/MILLE,,/MILLE,PMOL/KG,,/MILLE,,UMOL/KG,,UMOL/KG,,DBAR,/MILLE,,DEG C,KG/M^3,G/KG,,,,,,/MILLE,/MILLE,,/MILLE
33RO20110926,        A10,       4,          1,         24,      11714,2,20110928,       1435,   -28.9169,    13.9675,       1738,     4.9,  15.7656,  35.3192,2,  35.3208,2,    246.7,2,   252.2,2,     3.3,2,     2.6,2,    0.17,2,   0.372,2,   2.670,6,   1.576,6,   1.529,6,     2075.4,6,  2328.1,6,  -999.0,9, -999.00,   7.9459,6,       25,-999.000,1,-999.0000,1, -999.00,9,  -999.0,9,  -999.0,   2.832,3, -999.00,1,-999.0000,9, -999.00,9,    4.90,  -999.0,9,  15.7648,     26.048,    35.4873,2,     -999.0,9,     -999.0,1,     -999.0,     -999.0,9,     -999.0
33RO20110926,        A10,       4,          1,         23,      11713,2,20110928,       1435,   -28.9169,    13.9675,       1738,    35.1,  15.4844,  35.3072,2,  35.3084,2,    249.8,2,   253.1,2,     3.5,2,     3.0,2,    0.22,2,   0.385,2,   2.697,2,   1.586,2,   1.573,2,     2076.8,2,  2326.2,2,  -999.0,9, -999.00,   7.9469,2,       25,-999.000,1,-999.0000,1, -999.00,9,  -999.0,9,  -999.0,   2.807,3, -999.00,1,-999.0000,9, -999.00,9,   35.10,  -999.0,9,  15.4790,     26.103,    35.4749,2,     -999.0,9,     -999.0,1,     -999.0,     -999.0,9,     -999.0
33RO20110926,        A10,       4,          1,         22,      11712,2,20110928,       1435,   -28.9169,    13.9675,       1738,    63.9,  15.2437,  35.3165,2,  35.3362,2,    242.6,2,   241.9,2,     3.1,2,     3.6,2,    0.40,2,   0.450,2,   2.699,2,   1.583,2,   1.535,2,     2086.1,2,    2328,2,  -999.0,9, -999.00,   7.9148,2,       25,-999.000,1,-999.0000,1, -999.00,9,  -999.0,9,  -999.0,   2.751,3, -999.00,1,-999.0000,9, -999.00,9,   63.90,  -999.0,9,  15.2340,     26.174,    35.5028,2,     -999.0,9,     -999.0,1,     -999.0,     -999.0,9,     -999.0
33RO20110926,        A10,       4,          1,         21,      11010,2,20110928,       1435,   -28.9169,    13.9675,       1738,    85.1,  14.9481,  35.3848,2,  35.3901,2,    227.2,2,   226.8,2,     3.6,2,     5.5,2,    0.03,2,   0.509,2,   2.677,2,   1.568,2,   1.459,2,     2097.1,2,  2328.9,3,  -999.0,9, -999.00,   7.9078,2,       25,-999.000,1,-999.0000,1, -999.00,9,  -999.0,9,  -999.0,   1.581,3, -999.00,1,-999.0000,9, -999.00,9,   85.10,  -999.0,9,  14.9353,     26.283,    35.5570,2,     -999.0,9,     -999.0,9,     -999.0,     -999.0,9,     -999.0
33RO20110926,        A10,       4,          1,         20,      11715,2,20110928,       1435,   -28.9169,    13.9675,       1738,   110.3,  13.8462,  35.1960,2,  35.1959,2,    211.9,2,   205.7,2,     4.5,2,     9.9,2,    0.03,2,   0.816,2,   2.840,2,   1.647,2,   1.444,2,     2122.3,2,  2318.1,2,  -999.0,9, -999.00,   7.8236,2,       25,-999.000,1,-999.0000,1, -999.00,9,  -999.0,9,  -999.0,   1.264,3, -999.00,1,-999.0000,9, -999.00,9,  110.30,  -999.0,9,  13.8304,     26.364,    35.3619,2,     -999.0,9,     -999.0,9,     -999.0,     -999.0,9,     -999.0
33RO20110926,        A10,       4,          1,         19,      11007,2,20110928,       1435,   -28.9169,    13.9675,       1738,   126.9,  13.0160,  35.1088,2,  35.1146,2,    197.5,2,   195.6,2,     5.1,2,    11.8,2,    0.03,2,   0.942,2,   2.939,2,   1.684,2,   1.387,2,     2135.8,2,  -999.0,9,  -999.0,9, -999.00,-999.0000,9,  -999.00,-999.000,1,-999.0000,1, -999.00,9,  -999.0,9,  -999.0,   0.970,3, -999.00,1,-999.0000,9, -999.00,9,  126.90,  -999.0,9,  12.9985,     26.486,    35.2802,2,     -999.0,9,     -999.0,9,     -999.0,     -999.0,9,     -999.0
33RO20110926,        A10,       4,          1,         18,      11710,2,20110928,       1435,   -28.9169,    13.9675,       1738,   150.2,  12.5509,  35.0918,2,  35.0961,2,    219.9,2,   217.5,2,     3.9,2,    10.2,2,    0.03,2,   0.804,2,   3.039,2,   1.731,2,   1.348,2,     2119.4,2,  2314.5,2,  -999.0,9, -999.00,   7.8296,2,       25,-999.000,1,-999.0000,1, -999.00,9,  -999.0,9,  -999.0,   1.034,3, -999.00,1,-999.0000,9, -999.00,9,  150.20,  -999.0,9,  12.5307,     26.560,    35.2616,2,     -999.0,9,     -999.0,9,     -999.0,     -999.0,9,     -999.0
33RO20110926,        A10,       4,          1,         17,      11023,2,20110928,       1435,   -28.9169,    13.9675,       1738,   189.9,  11.6365,  34.9805,2,  34.9831,2,    200.8,2,   200.9,2,     5.9,2,    14.4,2,    0.02,2,   1.060,2,   3.095,2,   1.733,2,   1.249,2,     2138.6,2,  2303.3,2,  -999.0,9, -999.00,   7.7676,2,       25,-999.000,1,-999.0000,1, -999.00,9,  -999.0,9,  -999.0,   1.056,3, -999.00,1,-999.0000,9, -999.00,9,  189.90,  -999.0,9,  11.6122,     26.649,    35.1481,2,     -999.0,9,     -999.0,9,     -999.0,     -999.0,9,     -999.0
33RO20110926,        A10,       4,          1,         16,      11709,2,20110928,       1435,   -28.9169,    13.9675,       1738,   230.6,  10.7162,  34.8865,2,  34.8885,2,    163.0,2,   162.1,2,    10.5,2,    19.9,2,    0.02,2,   1.467,2,   2.919,2,   1.610,2,   1.074,2,     2171.2,2,  2301.4,2,  -999.0,9, -999.00,   7.6855,2,       25,-999.000,1,-999.0000,1, -999.00,9,  -999.0,9,  -999.0,   1.039,3, -999.00,1,-999.0000,9, -999.00,9,  230.60,  -999.0,9,  10.6883,     26.745,    35.0530,2,     -999.0,9,     -999.0,9,     -999.0,     -999.0,9,     -999.0
33RO20110926,        A10,       4,          1,         15,      11006,2,20110928,       1435,   -28.9169,    13.9675,       1738,   280.6,  10.1131,  34.8264,2,  34.8297,2,    147.7,2,   148.2,2,    12.3,6,    22.4,6,    0.03,6,   1.620,6,   2.824,2,   1.527,2,   0.898,2,     2184.3,2,  2295.3,2,  -999.0,9, -999.00,   7.6444,2,       25,-999.000,1,-999.0000,1, -999.00,9,  -999.0,9,  -999.0,   0.971,3, -999.00,1,-999.0000,9, -999.00,9,  280.60,  -999.0,9,  10.0802,     26.804,    34.9939,2,     -999.0,9,     -999.0,9,     -999.0,     -999.0,9,     -999.0
33RO20110926,        A10,       4,          1,         14,      11708,2,20110928,       1435,   -28.9169,    13.9675,       1738,   324.4,   9.3285,  34.7403,2,  34.7429,2,    142.5,2,   143.1,2,    15.8,2,    24.7,2,    0.01,2,   1.768,2,   2.743,2,   1.476,2,   0.869,2,     2194.8,2,  2296.1,2,  -999.0,9, -999.00,   7.6042,2,       25,-999.000,1,-999.0000,1, -999.00,9,  -999.0,9,  -999.0,   1.202,3, -999.00,1,-999.0000,9, -999.00,9,  324.40,  -999.0,9,   9.2923,     26.871,    34.9067,2,     -999.0,9,     -999.0,9,     -999.0,     -999.0,9,     -999.0
33RO20110926,        A10,       4,          1,         13,      11031,2,20110928,       1435,   -28.9169,    13.9675,       1738,   374.8,   8.8118,  34.6929,2,  34.6954,2,    132.2,2,   133.8,2,    17.7,2,    26.8,2,    0.02,2,   1.914,2,   2.563,2,   1.361,2,   0.806,2,     2203.1,2,  2295.9,2,  -999.0,9, -999.00,   7.5711,2,       25,-999.000,1,-999.0000,1, -999.00,9,  -999.0,9,  -999.0,   1.069,3, -999.00,1,-999.0000,9, -999.00,9,  374.80,  -999.0,9,   8.7713,     26.916,    34.8590,2,     -999.0,9,     -999.0,9,     -999.0,     -999.0,9,     -999.0
33RO20110926,        A10,       4,          1,         12,      11027,2,20110928,       1435,   -28.9169,    13.9675,       1738,   425.2,   8.5032,  34.6726,2,  34.6727,2,    114.3,2,     117,2,    20.4,2,    28.9,2,    0.01,2,   2.081,2,   2.319,2,   1.225,2,   0.674,2,     2215.8,2,  2297.5,2,  -999.0,9, -999.00,-999.0000,9,  -999.00,-999.000,1,-999.0000,1, -999.00,9,  -999.0,9,  -999.0,   1.063,3, -999.00,1,-999.0000,9, -999.00,9,  425.20,  -999.0,9,   8.4581,     26.947,    34.8362,2,     -999.0,9,     -999.0,9,     -999.0,     -999.0,9,     -999.0
33RO20110926,        A10,       4,          1,         11,      11707,2,20110928,       1435,   -28.9169,    13.9675,       1738,   488.6,   7.6130,  34.6153,2,  34.6171,2,    101.1,2,   102.4,2,    20.2,2,    33.0,2,    0.01,2,   2.259,2,   1.642,2,   0.838,2,   0.363,2,     2230.2,4,  2293.3,2,  -999.0,9, -999.00,   7.5002,2,       25,-999.000,9,-999.0000,1, -999.00,9,  -999.0,9,  -999.0,   0.839,3, -999.00,9,-999.0000,9, -999.00,9,  488.60,  -999.0,9,   7.5643,     27.037,    34.7803,2,     -999.0,9,     -999.0,9,     -999.0,     -999.0,9,     -999.0
33RO20110926,        A10,       4,          1,         10,      11003,2,20110928,       1435,   -28.9169,    13.9675,       1738,   579.3,   6.1294,  34.4934,2,  34.4938,2,    128.7,2,   131.2,2,    24.2,6,    34.7,6,    0.01,6,   2.295,6,   1.413,2,   0.711,2,   0.305,2,     2222.5,2,  2293.5,2,  -999.0,9, -999.00,   7.5213,2,       25,-999.000,9,-999.0000,1, -999.00,9,  -999.0,9,  -999.0,   0.984,3, -999.00,9,-999.0000,9, -999.00,9,  579.30,  -999.0,9,   6.0779,     27.142,    34.6564,2,     -999.0,9,     -999.0,9,     -999.0,     -999.0,9,     -999.0
33RO20110926,        A10,       4,          1,          9,      11706,2,20110928,       1435,   -28.9169,    13.9675,       1738,   669.6,   5.5525,  34.4577,2,  34.4576,2,    143.1,2,   142.2,2,    26.6,6,    35.0,6,    0.01,6,   2.323,6,   1.262,2,   0.621,2,   0.238,2,     2220.2,2,  2294.8,2,  -999.0,9, -999.00,   7.5373,2,       25,-999.000,9,-999.0000,1, -999.00,9,  -999.0,9,  -999.0,   1.039,3, -999.00,9,-999.0000,9, -999.00,9,  669.60,  -999.0,9,   5.4955,     27.186,    34.6201,2,     -999.0,9,     -999.0,9,     -999.0,     -999.0,9,     -999.0
33RO20110926,        A10,       4,          1,          8,      11033,2,20110928,       1435,   -28.9169,    13.9675,       1738,   769.9,   4.2227,  34.3415,2,  34.3427,2,    203.2,2,     203,2,    32.8,2,    31.8,2,    0.00,2,   2.151,2,   2.168,2,   1.063,2,   0.500,2,     2198.5,2,  2299.2,2,  -999.0,9, -999.00,   7.6002,4,       25,-999.000,9,-999.0000,1, -999.00,9,  -999.0,9,  -999.0,   2.040,3, -999.00,9,-999.0000,9, -999.00,9,  769.90,  -999.0,9,   4.1646,     27.246,    34.5047,2,     -999.0,9,     -999.0,9,     -999.0,     -999.0,9,     -999.0
33RO20110926,        A10,       4,          1,          7,      11705,2,20110928,       1435,   -28.9169,    13.9675,       1738,   850.8,   3.8620,  34.3750,2,  34.3766,2,    194.8,2,   194.9,2,    39.8,2,    33.0,2,    0.00,2,   2.223,2,   1.682,2,   0.811,2,   0.315,2,     2210.3,6,  2308.3,2,  -999.0,9, -999.00,   7.5891,2,       25,-999.000,9,-999.0000,1, -999.00,9,  -999.0,9,  -999.0,   1.657,3, -999.00,9,-999.0000,9, -999.00,9,  850.80,  -999.0,9,   3.7996,     27.311,    34.5387,2,     -999.0,9,     -999.0,9,     -999.0,     -999.0,9,     -999.0
33RO20110926,        A10,       4,          1,          6,      11029,2,20110928,       1435,   -28.9169,    13.9675,       1738,   949.7,   3.6734,  34.4530,2,  34.4590,2,    176.1,2,     177,2,    45.7,2,    34.0,2,    0.00,2,   2.309,2,   0.790,2,   0.375,2,   0.133,2,-999.000000,5,  -999.0,5,  -999.0,9, -999.00,-999.0000,5,  -999.00,-999.000,9,-999.0000,1, -999.00,9,  -999.0,9,  -999.0,   0.835,3, -999.00,9,-999.0000,9, -999.00,9,  949.70,  -999.0,9,   3.6044,     27.395,    34.6215,2,     -999.0,9,     -999.0,9,     -999.0,     -999.0,9,     -999.0
33RO20110926,        A10,       4,          1,          5,      11704,2,20110928,       1435,   -28.9169,    13.9675,       1738,  1058.3,   3.4852,  34.5247,2,  34.5241,2,    174.3,2,   174.5,2,    48.4,2,    33.6,2,    0.00,2,   2.281,2,   0.422,2,   0.200,2,   0.066,2,     2227.4,2,  2318.3,2,  -999.0,9, -999.00,   7.5773,2,       25,-999.000,9,-999.0000,1, -999.00,9,  -999.0,9,  -999.0,   0.509,3, -999.00,9,-999.0000,9, -999.00,9, 1058.30,  -999.0,9,   3.4088,     27.467,    34.6869,2,     -999.0,9,     -999.0,9,     -999.0,     -999.0,9,     -999.0
33RO20110926,        A10,       4,          1,          4,      11030,2,20110928,       1435,   -28.9169,    13.9675,       1738,  1184.5,   3.3435,  34.5899,2,  34.5915,2,    178.0,2,   178.5,2,    49.8,2,    32.7,2,    0.01,2,   2.211,2,   0.247,2,   0.116,2,   0.052,2,     2228.2,3,    2322,2,  -999.0,9, -999.00,   7.5874,2,       25,-999.000,9,-999.0000,1, -999.00,9,  -999.0,9,  -999.0,   0.327,3, -999.00,9,-999.0000,9, -999.00,9, 1184.50,  -999.0,9,   3.2580,     27.535,    34.7546,6,     -999.0,9,     -999.0,9,     -999.0,     -999.0,9,     -999.0
33RO20110926,        A10,       4,          1,          3,      11703,2,20110928,       1435,   -28.9169,    13.9675,       1738,  1360.5,   3.2516,  34.7017,2,  34.7037,2,    186.9,2,   188.9,2,    47.6,2,    30.2,2,    0.01,2,   2.050,2,   0.090,2,   0.043,2,   0.000,2,     2220.2,2,  2323.4,2,  -999.0,9, -999.00,   7.6094,2,       25,-999.000,9,-999.0000,1, -999.00,9,  -999.0,9,  -999.0,   0.153,3, -999.00,9,-999.0000,9, -999.00,9, 1360.50,  -999.0,9,   3.1523,     27.634,    34.8673,2,     -999.0,9,     -999.0,9,     -999.0,     -999.0,9,     -999.0
33RO20110926,        A10,       4,          1,          2,      11702,2,20110928,       1435,   -28.9169,    13.9675,       1738,  1533.2,   3.2507,  34.7759,2,  34.7779,2,    198.6,2,   198.4,2,    43.4,2,    28.1,2,    0.00,2,   1.913,2,   0.038,2,   0.019,2,   0.000,2,     2211.9,2,  2326.9,2,  -999.0,9, -999.00,   7.6392,2,       25,-999.000,1,-999.0000,1, -999.00,9,  -999.0,9,  -999.0,   0.082,3, -999.00,1,-999.0000,9, -999.00,9, 1533.20,  -999.0,9,   3.1366,     27.695,    34.9419,2,     -999.0,9,     -999.0,9,     -999.0,     -999.0,9,     -999.0
33RO20110926,        A10,       4,          1,          1,      11701,2,20110928,       1435,   -28.9169,    13.9675,       1738,  1747.3,   3.2189,  34.8298,2,  34.8319,2,    210.0,2,   209.5,2,    40.2,6,    26.5,6,    0.01,6,   1.772,6,   0.015,6,   0.009,6,   0.000,6,     2204.8,6,    2325,6,  -999.0,9, -999.00,   7.6538,6,       25,-999.000,1,-999.0000,1, -999.00,9,  -999.0,9,  -999.0,   0.047,3, -999.00,1,-999.0000,9, -999.00,9, 1747.30,  -999.0,9,   3.0864,     27.743,    34.9961,2,     -999.0,9,     -999.0,9,     -999.0,     -999.0,9,     -999.0