BOTTLE,20220815CCHSIOAMB
EXPOCODE,SECT_ID,STNNBR,CASTNO,SAMPNO,BTLNBR,BTLNBR_FLAG_W,DATE,TIME,LATITUDE,LONGITUDE,DEPTH,CTDPRS,CTDTMP,CTDSAL,CTDSAL_FLAG_W,SALNTY,SALNTY_FLAG_W,CTDOXY,CTDOXY_FLAG_W,OXYGEN,OXYGEN_FLAG_W,SILCAT,SILCAT_FLAG_W,NITRAT,NITRAT_FLAG_W,NITRIT,NITRIT_FLAG_W,PHSPHT,PHSPHT_FLAG_W,CFC-11,CFC-11_FLAG_W,CFC-12,CFC-12_FLAG_W,SF6,SF6_FLAG_W,TCARBN,TCARBN_FLAG_W,ALKALI,ALKALI_FLAG_W,PCO2,PCO2_FLAG_W,PCO2TMP,PH_SWS,PH_SWS_FLAG_W,PH_TMP,TRITUM,TRITUM_FLAG_W,HELIUM,HELIUM_FLAG_W,DELC13,DELC13_FLAG_W,DELC14,DELC14_FLAG_W,C14ERR,CCL4,CCL4_FLAG_W,DELO18,DELO18_FLAG_W,DOC,DOC_FLAG_W,TDN,TDN_FLAG_W,CTDRAW,14C-DOC,14C-DOC_FLAG_W,THETA,SIG0,SALTREF,SALTREF_FLAG_W,BLACKC,BLACKC_FLAG_W,PIGMENTS,PIGMENTS_FLAG_W,14C-DOCERR,13C-DOC,13C-DOC_FLAG_W,13C-DOCERR
,,,,,,,,,,,METERS,DBAR,ITS-90,PSS-78,,PSS-78,,UMOL/KG,,UMOL/KG,,UMOL/KG,,UMOL/KG,,UMOL/KG,,UMOL/KG,,PMOL/KG,,PMOL/KG,,FMOL/KG,,UMOL/KG,,UMOL/KG,,UATM,,DEG C,,,DEG C,TU,,NMOL/KG,,/MILLE,,/MILLE,,/MILLE,PMOL/KG,,/MILLE,,UMOL/KG,,UMOL/KG,,DBAR,/MILLE,,DEG C,KG/M^3,G/KG,,,,,,/MILLE,/MILLE,,/MILLE
33RO20110926,        A10,      65,          1,         24,      11714,2,20111017,       0115,   -29.9999,   -22.0216,       4746,     5.6,  19.2722,  36.2884,2,  36.2870,2,    227.5,2,   229.7,2,     1.2,2,     0.0,2,    0.01,2,   0.104,4,   2.180,2,   1.329,2,   1.306,2,     2090.3,6,  2381.1,2,  -999.0,9, -999.00,    8.011,2,       25,-999.000,9,-999.0000,9, -999.00,9,  -999.0,9,  -999.0,   2.689,4, -999.00,9,   61.639,2,    4.31,2,    5.60,  -999.0,9,  19.2712,     25.935,    36.4581,2,     -999.0,9,     -999.0,1,     -999.0,     -999.0,9,     -999.0
33RO20110926,        A10,      65,          1,         23,      11713,2,20111017,       0115,   -29.9999,   -22.0216,       4746,    24.9,  19.2608,  36.2874,2,  36.2848,2,    227.6,2,   230.1,2,     1.2,2,     0.0,2,    0.01,2,   0.105,4,   2.175,2,   1.332,2,   1.346,2,     2088.6,2,    2384,6,  -999.0,9, -999.00,    8.005,6,       25,-999.000,9,-999.0000,9, -999.00,9,  -999.0,9,  -999.0,   2.610,4, -999.00,9,-999.0000,5, -999.00,5,   24.90,  -999.0,9,  19.2563,     25.937,    36.4559,2,     -999.0,9,     -999.0,9,     -999.0,     -999.0,9,     -999.0
33RO20110926,        A10,      65,          1,         22,      11712,2,20111017,       0115,   -29.9999,   -22.0216,       4746,    65.2,  19.2313,  36.2846,2,  36.2831,2,    225.9,2,   230.5,2,     1.2,2,     0.0,2,    0.01,2,   0.111,4,   2.180,2,   1.329,2,   1.392,2,     2088.9,2,  2384.6,2,  -999.0,9, -999.00,    8.008,2,       25,-999.000,9,-999.0000,9, -999.00,9,  -999.0,9,  -999.0,   2.881,4, -999.00,9,  60.9171,2,    4.53,2,   65.20,  -999.0,9,  19.2195,     25.945,    36.4542,2,     -999.0,9,     -999.0,9,     -999.0,     -999.0,9,     -999.0
33RO20110926,        A10,      65,          1,         21,      11010,2,20111017,       0115,   -29.9999,   -22.0216,       4746,   119.8,  19.2243,  36.2849,2,  36.2843,2,    226.7,2,   230.4,2,     1.2,6,     0.0,6,    0.01,6,   0.110,4,   2.180,2,   1.331,2,   1.351,2,     2090.5,2,  2383.8,2,  -999.0,9, -999.00,    8.007,2,       25,-999.000,9,-999.0000,9, -999.00,9,  -999.0,9,  -999.0,   3.009,4, -999.00,9,  65.0146,2,    2.87,3,  119.80,  -999.0,9,  19.2026,     25.951,    36.4554,2,     -999.0,9,     -999.0,9,     -999.0,     -999.0,9,     -999.0
33RO20110926,        A10,      65,          1,         20,      11715,2,20111017,       0115,   -29.9999,   -22.0216,       4746,   155.1,  18.0901,  36.0004,2,  35.9945,2,    229.5,2,   231.9,2,     1.3,2,     0.1,2,    0.02,2,   0.132,4,   2.315,2,   1.400,2,   1.379,2,     2084.9,2,  2366.2,2,  -999.0,9, -999.00,    7.991,2,       25,-999.000,9,-999.0000,9, -999.00,9,  -999.0,9,  -999.0,   3.034,4, -999.00,9,-999.0000,5,    6.52,2,  155.10,  -999.0,9,  18.0632,     26.018,    36.1642,2,     -999.0,9,     -999.0,1,     -999.0,     -999.0,9,     -999.0
33RO20110926,        A10,      65,          1,         19,      11007,2,20111017,       0115,   -29.9999,   -22.0216,       4746,   220.3,  15.9289,  35.5986,2,  35.6000,2,    213.6,2,   212.8,2,     2.3,2,     4.1,2,    0.02,2,   0.349,4,   2.583,2,   1.535,2,   1.324,2,     2104.7,2,  2337.4,2,  -999.0,9, -999.00,   7.9078,2,       25,-999.000,9,-999.0000,9, -999.00,9,  -999.0,9,  -999.0,   0.990,3, -999.00,9,  52.6049,2, -999.00,9,  220.30,  -999.0,9,  15.8939,     26.234,    35.7679,2,     -999.0,9,     -999.0,9,     -999.0,     -999.0,9,     -999.0
33RO20110926,        A10,      65,          1,         18,      11710,2,20111017,       0115,   -29.9999,   -22.0216,       4746,   349.1,  13.1380,  35.2020,2,  35.2000,2,    207.9,2,     209,2,     3.7,2,     9.9,2,    0.01,2,   0.616,4,   2.937,2,   1.679,2,   1.253,2,     2122.1,2,  2314.7,2,  -999.0,9, -999.00,   7.8387,2,       25,-999.000,9,-999.0000,9, -999.00,9,  -999.0,9,  -999.0,   0.919,3, -999.00,9,  50.7122,2, -999.00,9,  349.10,  -999.0,9,  13.0893,     26.531,    35.3660,2,     -999.0,9,     -999.0,9,     -999.0,     -999.0,9,     -999.0
33RO20110926,        A10,      65,          1,         17,      11023,2,20111017,       0115,   -29.9999,   -22.0216,       4746,   450.3,  11.7046,  35.0245,2,  35.0232,2,    203.7,2,   205.1,2,     5.1,2,    13.8,2,    0.01,2,   0.798,4,   3.053,6,   1.698,6,   1.147,6,     2134.5,2,  2307.8,2,  -999.0,9, -999.00,   7.7947,2,       25,-999.000,9,-999.0000,9, -999.00,9,  -999.0,9,  -999.0,   1.047,3, -999.00,9,  47.5317,2, -999.00,9,  450.30,  -999.0,9,  11.6462,     26.675,    35.1883,2,     -999.0,9,     -999.0,9,     -999.0,     -999.0,9,     -999.0
33RO20110926,        A10,      65,          1,         16,      11709,2,20111017,       0115,   -29.9999,   -22.0216,       4746,   599.9,   8.8112,  34.6570,2,  34.6545,2,    204.0,2,   210.6,2,     8.4,6,    19.8,6,    0.01,6,   1.111,4,   3.279,2,   1.744,2,   1.015,2,     2150.2,2,  2295.2,2,  -999.0,9, -999.00,   7.7284,2,       25,-999.000,9,-999.0000,9, -999.00,9,  -999.0,9,  -999.0,   1.878,3, -999.00,9,  43.7854,2, -999.00,9,  599.90,  -999.0,9,   8.7456,     26.889,    34.8179,2,     -999.0,9,     -999.0,9,     -999.0,     -999.0,9,     -999.0
33RO20110926,        A10,      65,          1,         15,      11006,2,20111017,       0115,   -29.9999,   -22.0216,       4746,   749.6,   5.9017,  34.3827,2,  34.3829,2,    211.9,2,   210.5,2,    17.4,2,    27.0,2,    0.01,2,   1.535,4,   3.023,2,   1.530,2,   0.688,2,     2174.1,2,  2289.7,2,  -999.0,9, -999.00,   7.6563,2,       25,-999.000,9,-999.0000,9, -999.00,9,  -999.0,9,  -999.0,   2.622,3, -999.00,9,   41.961,2, -999.00,9,  749.60,  -999.0,9,   5.8356,     27.086,    34.5450,2,     -999.0,9,     -999.0,9,     -999.0,     -999.0,9,     -999.0
33RO20110926,        A10,      65,          1,         14,      11708,2,20111017,       0115,   -29.9999,   -22.0216,       4746,   899.1,   4.5950,  34.3274,2,  34.3280,2,    212.5,2,   211.8,2,    26.2,2,    29.7,2,    0.01,2,   1.736,4,   2.510,2,   1.238,2,   0.504,2,     2187.8,2,    2295,2,  -999.0,9, -999.00,   7.6302,2,       25,-999.000,9,-999.0000,9, -999.00,9,  -999.0,9,  -999.0,   2.677,3, -999.00,9,-999.0000,5, -999.00,9,  899.10,  -999.0,9,   4.5238,     27.196,    34.4898,2,     -999.0,9,     -999.0,9,     -999.0,     -999.0,9,     -999.0
33RO20110926,        A10,      65,          1,         13,      11031,2,20111017,       0115,   -29.9999,   -22.0216,       4746,  1098.2,   3.6622,  34.3801,2,  34.3804,2,    197.5,2,   197.5,2,    40.1,2,    31.8,2,    0.01,2,   1.961,4,   1.483,2,   0.725,2,   0.247,2,     2210.4,2,  2304.5,2,  -999.0,9, -999.00,   7.5984,2,       25,-999.000,9,-999.0000,9, -999.00,9,  -999.0,9,  -999.0,   1.849,3, -999.00,9,  42.8293,2, -999.00,9, 1098.20,  -999.0,9,   3.5814,     27.335,    34.5425,2,     -999.0,9,     -999.0,9,     -999.0,     -999.0,9,     -999.0
33RO20110926,        A10,      65,          1,         12,      11027,2,20111017,       0115,   -29.9999,   -22.0216,       4746,  1294.1,   3.2178,  34.4949,2,  34.4950,2,    185.9,2,   185.6,2,    50.7,6,    32.2,6,    0.01,6,   2.057,4,   0.671,2,   0.325,2,   0.118,2,     2225.7,2,  2317.5,6,  -999.0,9, -999.00,   7.5874,6,       25,-999.000,9,-999.0000,9, -999.00,9,  -999.0,9,  -999.0,   1.109,3, -999.00,9,  42.1659,2, -999.00,9, 1294.10,  -999.0,9,   3.1248,     27.470,    34.6577,2,     -999.0,9,     -999.0,9,     -999.0,     -999.0,9,     -999.0
33RO20110926,        A10,      65,          1,         11,      11707,2,20111017,       0115,   -29.9999,   -22.0216,       4746,  1498.8,   2.9862,  34.6249,2,  34.6256,2,    187.7,2,   189.1,2,    54.2,2,    30.4,2,    0.01,2,   2.004,4,   0.249,2,   0.121,2,   0.081,2,     2228.6,6,  2328.2,2,  -999.0,9, -999.00,   7.6082,2,       25,-999.000,9,-999.0000,9, -999.00,9,  -999.0,9,  -999.0,   0.549,3, -999.00,9,       44,2, -999.00,9, 1498.80,  -999.0,9,   2.8785,     27.597,    34.7889,2,     -999.0,9,     -999.0,9,     -999.0,     -999.0,9,     -999.0
33RO20110926,        A10,      65,          1,         10,      11003,2,20111017,       0115,   -29.9999,   -22.0216,       4746,  1797.1,   2.8042,  34.7483,2,  34.7473,2,    205.7,2,   206.5,2,    51.8,2,    27.4,2,    0.01,2,   1.819,4,   0.071,2,   0.036,2,   0.000,2,     2215.5,2,  2332.4,2,  -999.0,9, -999.00,   7.6493,2,       25,-999.000,9,-999.0000,9, -999.00,9,  -999.0,9,  -999.0,   0.256,3, -999.00,9,  40.4878,2, -999.00,9, 1797.10,  -999.0,9,   2.6731,     27.713,    34.9111,2,     -999.0,9,     -999.0,9,     -999.0,     -999.0,9,     -999.0
33RO20110926,        A10,      65,          1,          9,      11706,2,20111017,       0115,   -29.9999,   -22.0216,       4746,  2100.1,   2.7202,  34.8198,2,  34.8196,2,    222.6,2,   224.4,2,    47.2,2,    24.9,2,    0.01,2,   1.641,4,   0.024,2,   0.013,2,   0.000,2,     2205.3,2,  2332.1,2,  -999.0,9, -999.00,   7.6833,2,       25,-999.000,9,-999.0000,9, -999.00,9,  -999.0,9,  -999.0,   0.129,3, -999.00,9,  39.8927,2, -999.00,9, 2100.10,  -999.0,9,   2.5633,     27.780,    34.9838,2,     -999.0,9,     -999.0,9,     -999.0,     -999.0,9,     -999.0
33RO20110926,        A10,      65,          1,          8,      11033,2,20111017,       0115,   -29.9999,   -22.0216,       4746,  2450.4,   2.7263,  34.8669,2,  34.8671,2,    236.1,2,   236.8,2,    41.9,2,    23.0,2,    0.01,2,   1.493,4,   0.011,2,   0.007,2,   0.000,2,       2194,2,  2329.8,2,  -999.0,9, -999.00,   7.7075,2,       25,-999.000,9,-999.0000,9, -999.00,9,  -999.0,9,  -999.0,   0.095,3, -999.00,9,  38.7415,2, -999.00,9, 2450.40,  -999.0,9,   2.5365,     27.821,    35.0315,2,     -999.0,9,     -999.0,9,     -999.0,     -999.0,9,     -999.0
33RO20110926,        A10,      65,          1,          7,      11705,2,20111017,       0115,   -29.9999,   -22.0216,       4746,  2799.7,   2.7300,  34.8970,2,  34.8971,2,    245.0,2,     246,2,    37.4,2,    21.5,2,    0.01,2,   1.390,4,   0.010,2,   0.007,2,   0.000,2,     2186.4,2,  2327.2,2,  -999.0,9, -999.00,   7.7176,2,       25,-999.000,9,-999.0000,9, -999.00,9,  -999.0,9,  -999.0,   0.120,3, -999.00,9,   41.561,2, -999.00,9, 2799.70,  -999.0,9,   2.5057,     27.847,    35.0617,2,     -999.0,9,     -999.0,9,     -999.0,     -999.0,9,     -999.0
33RO20110926,        A10,      65,          1,          6,      11029,2,20111017,       0115,   -29.9999,   -22.0216,       4746,  3149.5,   2.5941,  34.8991,2,  34.8987,2,    248.6,2,   249.3,2,    39.2,2,    21.3,2,    0.01,2,   1.392,4,   0.005,2,   0.003,2,   0.000,2,     2185.2,2,  2328.4,2,  -999.0,9, -999.00,   7.7236,2,       25,-999.000,9,-999.0000,9, -999.00,9,  -999.0,9,  -999.0,   0.103,3, -999.00,9,  45.2585,2, -999.00,9, 3149.50,  -999.0,9,   2.3368,     27.863,    35.0633,2,     -999.0,9,     -999.0,9,     -999.0,     -999.0,9,     -999.0
33RO20110926,        A10,      65,          1,          5,      11704,2,20111017,       0115,   -29.9999,   -22.0216,       4746,  3400.2,   2.3651,  34.8810,2,  34.8807,2,    247.6,2,   248.6,2,    46.3,2,    22.2,2,    0.01,2,   1.483,4,   0.005,2,   0.004,2,   0.099,2,       2192,2,  2335.3,2,  -999.0,9, -999.00,   7.7224,2,       25,-999.000,9,-999.0000,9, -999.00,9,  -999.0,9,  -999.0,   0.078,3, -999.00,9,   41.239,2, -999.00,9, 3400.20,  -999.0,9,   2.0869,     27.869,    35.0451,6,     -999.0,9,     -999.0,9,     -999.0,     -999.0,9,     -999.0
33RO20110926,        A10,      65,          1,          4,      11030,2,20111017,       0115,   -29.9999,   -22.0216,       4746,  3650.5,   2.0310,  34.8486,2,  34.8480,2,    242.6,2,     244,2,    58.3,6,    23.8,6,    0.01,6,   1.654,4,   0.007,2,   0.004,2,   0.142,2,     2204.3,2,  2342.3,2,  -999.0,9, -999.00,   7.7084,2,       25,-999.000,9,-999.0000,9, -999.00,9,  -999.0,9,  -999.0,   0.087,3, -999.00,9,  41.9317,2, -999.00,9, 3650.50,  -999.0,9,   1.7345,     27.871,    35.0123,2,     -999.0,9,     -999.0,9,     -999.0,     -999.0,9,     -999.0
33RO20110926,        A10,      65,          1,          3,      11703,2,20111017,       0115,   -29.9999,   -22.0216,       4746,  3950.1,   1.5964,  34.8016,2,  34.8008,2,    234.9,2,   235.7,2,    76.5,2,    26.2,2,    0.01,2,   1.917,4,   0.022,2,   0.011,2,   0.132,2,     2222.9,2,  2348.8,2,  -999.0,9, -999.00,   7.6745,2,       25,-999.000,9,-999.0000,9, -999.00,9,  -999.0,9,  -999.0,   0.132,3, -999.00,9,  40.6829,2, -999.00,9, 3950.10,  -999.0,9,   1.2794,     27.866,    34.9649,2,     -999.0,9,     -999.0,9,     -999.0,     -999.0,9,     -999.0
33RO20110926,        A10,      65,          1,          2,      11702,2,20111017,       0115,   -29.9999,   -22.0216,       4746,  4350.2,   1.2842,  34.7634,2,  34.7625,2,    227.1,2,   228.3,2,    91.2,2,    28.2,2,    0.01,2,   2.134,4,   0.058,2,   0.030,2,   0.109,2,     2238.7,2,  2357.7,2,  -999.0,9, -999.00,   7.6585,2,       25,-999.000,9,-999.0000,9, -999.00,9,  -999.0,9,  -999.0,   0.211,3, -999.00,9,  38.7122,2, -999.00,9, 4350.20,  -999.0,9,   0.9323,     27.859,    34.9264,2,     -999.0,9,     -999.0,9,     -999.0,     -999.0,9,     -999.0
33RO20110926,        A10,      65,          1,          1,      11701,2,20111017,       0115,   -29.9999,   -22.0216,       4746,  4788.7,   1.2860,  34.7579,2,  34.7585,2,    228.5,2,   227.8,2,    93.5,2,    28.3,2,    0.01,2,   2.159,4,   0.068,6,   0.033,6,   0.106,6,     2241.5,6,  2358.2,6,  -999.0,9, -999.00,   7.6554,6,       25,-999.000,9,-999.0000,9, -999.00,9,  -999.0,9,  -999.0,   0.231,3, -999.00,9,  41.3561,2, -999.00,9, 4788.70,  -999.0,9,   0.8836,     27.859,    34.9224,2,     -999.0,9,     -999.0,9,     -999.0,     -999.0,9,     -999.0