BOTTLE,20220815CCHSIOAMB
EXPOCODE,SECT_ID,STNNBR,CASTNO,SAMPNO,BTLNBR,BTLNBR_FLAG_W,DATE,TIME,LATITUDE,LONGITUDE,DEPTH,CTDPRS,CTDTMP,CTDSAL,CTDSAL_FLAG_W,SALNTY,SALNTY_FLAG_W,CTDOXY,CTDOXY_FLAG_W,OXYGEN,OXYGEN_FLAG_W,SILCAT,SILCAT_FLAG_W,NITRAT,NITRAT_FLAG_W,NITRIT,NITRIT_FLAG_W,PHSPHT,PHSPHT_FLAG_W,CFC-11,CFC-11_FLAG_W,CFC-12,CFC-12_FLAG_W,SF6,SF6_FLAG_W,TCARBN,TCARBN_FLAG_W,ALKALI,ALKALI_FLAG_W,PCO2,PCO2_FLAG_W,PCO2TMP,PH_SWS,PH_SWS_FLAG_W,PH_TMP,TRITUM,TRITUM_FLAG_W,HELIUM,HELIUM_FLAG_W,DELC13,DELC13_FLAG_W,DELC14,DELC14_FLAG_W,C14ERR,CCL4,CCL4_FLAG_W,DELO18,DELO18_FLAG_W,DOC,DOC_FLAG_W,TDN,TDN_FLAG_W,CTDRAW,14C-DOC,14C-DOC_FLAG_W,THETA,SIG0,SALTREF,SALTREF_FLAG_W,BLACKC,BLACKC_FLAG_W,PIGMENTS,PIGMENTS_FLAG_W,14C-DOCERR,13C-DOC,13C-DOC_FLAG_W,13C-DOCERR
,,,,,,,,,,,METERS,DBAR,ITS-90,PSS-78,,PSS-78,,UMOL/KG,,UMOL/KG,,UMOL/KG,,UMOL/KG,,UMOL/KG,,UMOL/KG,,PMOL/KG,,PMOL/KG,,FMOL/KG,,UMOL/KG,,UMOL/KG,,UATM,,DEG C,,,DEG C,TU,,NMOL/KG,,/MILLE,,/MILLE,,/MILLE,PMOL/KG,,/MILLE,,UMOL/KG,,UMOL/KG,,DBAR,/MILLE,,DEG C,KG/M^3,G/KG,,,,,,/MILLE,/MILLE,,/MILLE
33RO20110926,        A10,       3,          1,         22,      11712,2,20110928,       1118,   -28.8170,    14.1836,     -999.0,     5.1,  15.1473,  35.1835,2,-999.0000,9,    249.7,2,  -999.0,9,     4.8,2,     4.5,2,    0.17,2,   0.455,2,-999.000,9,-999.000,9,-999.000,9,-999.000000,9,  -999.0,9,  -999.0,9, -999.00,-999.0000,9,  -999.00,-999.000,9,-999.0000,9,    1.28,2,    52.9,2,     2.6,-999.000,9, -999.00,9,-999.0000,9, -999.00,9,    5.10,  -999.0,9,  15.1465,     26.084,     -999.0,9,     -999.0,9,     -999.0,1,     -999.0,     -999.0,9,     -999.0
33RO20110926,        A10,       3,          1,         21,      11010,2,20110928,       1118,   -28.8170,    14.1836,     -999.0,     4.8,  15.1627,  35.1838,2,  35.1867,2,    249.7,2,   255.3,2,     4.8,2,     4.6,2,    0.17,2,   0.452,2,   2.775,6,   1.639,6,   1.593,6,     2081.2,2,  2323.6,2,  -999.0,9, -999.00,   7.9309,2,       25,-999.000,9,-999.0000,9, -999.00,9,  -999.0,9,  -999.0,   2.861,3, -999.00,9,  56.5561,2,    8.45,2,    4.80,  -999.0,9,  15.1619,     26.093,    35.3526,2,     -999.0,9,     -999.0,9,     -999.0,     -999.0,9,     -999.0
33RO20110926,        A10,       3,          1,         20,      11715,2,20110928,       1118,   -28.8170,    14.1836,     -999.0,    29.6,  15.0383,  35.1861,2,-999.0000,9,    251.2,2,  -999.0,9,     4.8,6,     4.6,6,    0.17,6,   0.453,6,-999.000,9,-999.000,9,-999.000,9,-999.000000,9,  -999.0,9,  -999.0,9, -999.00,-999.0000,9,  -999.00,-999.000,9,-999.0000,9, -999.00,9,  -999.0,9,  -999.0,-999.000,9, -999.00,9,-999.0000,9, -999.00,9,   29.60,  -999.0,9,  15.0338,     26.108,     -999.0,9,     -999.0,9,     -999.0,1,     -999.0,     -999.0,9,     -999.0
33RO20110926,        A10,       3,          1,         19,      11007,2,20110928,       1118,   -28.8170,    14.1836,     -999.0,    29.7,  15.0393,  35.1859,2,  35.1881,2,    251.2,2,   254.9,2,     4.8,2,     4.6,2,    0.17,2,   0.456,2,   2.788,2,   1.633,2,   1.598,2,     2086.8,2,  2326.4,2,  -999.0,9, -999.00,   7.9268,2,       25,-999.000,9,-999.0000,9, -999.00,9,  -999.0,9,  -999.0,   2.817,3, -999.00,9,  56.9561,2,    9.34,2,   29.70,  -999.0,9,  15.0348,     26.109,    35.3540,2,     -999.0,9,     -999.0,9,     -999.0,     -999.0,9,     -999.0
33RO20110926,        A10,       3,          1,         18,      11710,2,20110928,       1118,   -28.8170,    14.1836,     -999.0,    69.9,  14.5981,  35.2336,2,-999.0000,9,    234.3,2,  -999.0,9,     3.5,2,     6.2,2,    0.45,2,   0.577,2,-999.000,9,-999.000,9,-999.000,9,-999.000000,9,  -999.0,9,  -999.0,9, -999.00,-999.0000,9,  -999.00,-999.000,9,-999.0000,9, -999.00,9,  -999.0,9,  -999.0,-999.000,9, -999.00,9,-999.0000,9, -999.00,9,   69.90,  -999.0,9,  14.5877,     26.242,     -999.0,9,     -999.0,9,     -999.0,1,     -999.0,     -999.0,9,     -999.0
33RO20110926,        A10,       3,          1,         17,      11023,2,20110928,       1118,   -28.8170,    14.1836,     -999.0,    69.7,  14.6007,  35.2335,2,  35.2377,2,    234.3,2,   235.1,2,     3.5,2,     6.3,2,    0.43,2,   0.578,2,   2.780,2,   1.622,2,   1.585,2,     2104.5,2,  2322.3,2,  -999.0,9, -999.00,   7.8948,2,       25,-999.000,9,-999.0000,9, -999.00,9,  -999.0,9,  -999.0,   2.300,3, -999.00,9,  61.7366,3,   11.38,2,   69.70,  -999.0,9,  14.5904,     26.245,    35.4039,2,     -999.0,9,     -999.0,9,     -999.0,     -999.0,9,     -999.0
33RO20110926,        A10,       3,          1,         16,      11709,2,20110928,       1118,   -28.8170,    14.1836,     -999.0,    99.5,  13.3092,  35.1102,2,  35.1207,2,    219.0,2,   218.4,2,     4.9,2,    10.3,2,    0.02,2,   0.791,2,   2.931,2,   1.691,2,   1.430,2,       2121,2,  2314.3,2,  -999.0,9, -999.00,   7.8427,2,       25,-999.000,9,-999.0000,9, -999.00,9,  -999.0,9,  -999.0,   1.824,3, -999.00,9,  50.3707,2,   13.97,2,   99.50,  -999.0,9,  13.2953,     26.427,    35.2863,2,     -999.0,9,     -999.0,9,     -999.0,     -999.0,9,     -999.0
33RO20110926,        A10,       3,          1,         15,      11006,2,20110928,       1118,   -28.8170,    14.1836,     -999.0,   119.6,  12.4912,  35.0370,2,  35.0384,2,    210.2,2,   209.3,2,     5.5,6,    12.4,6,    0.03,6,   0.923,6,   3.006,2,   1.724,2,   1.340,2,     2131.6,2,  2309.4,2,  -999.0,9, -999.00,   7.8047,2,       25,-999.000,9,-999.0000,9, -999.00,9,  -999.0,9,  -999.0,   1.419,3, -999.00,9,  49.2293,2,   17.11,2,  119.60,  -999.0,9,  12.4752,     26.526,    35.2036,2,     -999.0,9,     -999.0,9,     -999.0,     -999.0,9,     -999.0
33RO20110926,        A10,       3,          1,         14,      11708,2,20110928,       1118,   -28.8170,    14.1836,     -999.0,   149.4,  11.7455,  35.0052,2,  35.0075,2,    208.9,2,   211.3,2,     5.1,2,    13.2,2,    0.02,2,   0.967,2,   3.127,2,   1.746,2,   1.289,2,     2133.5,2,  -999.0,5,  -999.0,9, -999.00,-999.0000,9,       25,-999.000,9,-999.0000,9, -999.00,9,  -999.0,9,  -999.0,   1.025,3, -999.00,9,  56.7707,3,   19.12,2,  149.40,  -999.0,9,  11.7263,     26.646,    35.1726,2,     -999.0,9,     -999.0,9,     -999.0,     -999.0,9,     -999.0
33RO20110926,        A10,       3,          1,         13,      11031,2,20110928,       1118,   -28.8170,    14.1836,     -999.0,   179.8,  11.4676,  34.9732,2,  34.9746,2,    213.1,2,     212,2,     5.4,2,    14.0,2,    0.01,2,   1.003,2,   3.102,2,   1.757,2,   1.273,2,     2133.9,2,  -999.0,5,  -999.0,9, -999.00,   7.7976,2,       25,-999.000,9,-999.0000,9, -999.00,9,  -999.0,9,  -999.0,   0.994,3, -999.00,9,  48.8976,2,   17.32,2,  179.80,  -999.0,9,  11.4449,     26.675,    35.1395,2,     -999.0,9,     -999.0,9,     -999.0,     -999.0,9,     -999.0
33RO20110926,        A10,       3,          1,         12,      11027,2,20110928,       1118,   -28.8170,    14.1836,     -999.0,   210.8,  10.7035,  34.8753,2,  34.8773,2,    203.5,2,   201.4,2,     7.1,2,    16.6,2,    0.00,2,   1.178,2,   3.145,2,   1.750,2,   1.174,2,     2145.8,2,  2302.3,2,  -999.0,9, -999.00,   7.7505,2,       25,-999.000,9,-999.0000,9, -999.00,9,  -999.0,9,  -999.0,   1.157,3, -999.00,9,  51.1707,2, -999.00,9,  210.80,  -999.0,9,  10.6780,     26.735,    35.0417,2,     -999.0,9,     -999.0,9,     -999.0,     -999.0,9,     -999.0
33RO20110926,        A10,       3,          1,         11,      11707,2,20110928,       1118,   -28.8170,    14.1836,     -999.0,   248.3,   9.9540,  34.7840,2,  34.7865,2,    205.9,2,   208.9,2,     7.5,2,    17.7,2,    0.01,2,   1.235,2,   3.231,2,   1.765,2,   1.154,2,     2144.5,3,  2298.6,2,  -999.0,9, -999.00,   7.7445,2,       25,-999.000,9,-999.0000,9, -999.00,9,  -999.0,9,  -999.0,   1.284,3, -999.00,9,  51.2293,2, -999.00,9,  248.30,  -999.0,9,   9.9253,     26.795,    34.9505,2,     -999.0,9,     -999.0,9,     -999.0,     -999.0,9,     -999.0
33RO20110926,        A10,       3,          1,         10,      11003,2,20110928,       1118,   -28.8170,    14.1836,     -999.0,   299.7,   9.5782,  34.7733,2,  34.7760,2,    132.1,2,   131.7,2,    14.6,2,    26.0,2,    0.01,2,   1.798,2,   2.645,2,   1.418,2,   0.851,2,     2200.4,3,  2297.4,2,  -999.0,9, -999.00,   7.6004,2,       25,-999.000,9,-999.0000,9, -999.00,9,  -999.0,9,  -999.0,   1.006,3, -999.00,9,  47.3268,2, -999.00,9,  299.70,  -999.0,9,   9.5443,     26.853,    34.9400,2,     -999.0,9,     -999.0,9,     -999.0,     -999.0,9,     -999.0
33RO20110926,        A10,       3,          1,          9,      11706,2,20110928,       1118,   -28.8170,    14.1836,     -999.0,   339.4,   8.9668,  34.7079,2,  34.7101,2,    135.3,2,   134.5,2,    15.7,6,    27.3,6,    0.01,6,   1.867,6,   2.583,2,   1.374,2,   0.728,2,     2202.6,2,  2295.8,2,  -999.0,9, -999.00,   7.5894,2,       25,-999.000,9,-999.0000,9, -999.00,9,  -999.0,9,  -999.0,   1.075,3, -999.00,9,     59.6,3, -999.00,9,  339.40,  -999.0,9,   8.9299,     26.903,    34.8738,2,     -999.0,9,     -999.0,9,     -999.0,     -999.0,9,     -999.0
33RO20110926,        A10,       3,          1,          8,      11033,2,20110928,       1118,   -28.8170,    14.1836,     -999.0,   389.2,   8.3722,  34.6590,2,  34.6625,2,    124.1,2,   123.2,2,    17.5,2,    29.8,2,    0.00,2,   2.027,2,   2.291,2,   1.202,2,   0.600,2,     2211.9,2,  2294.5,2,  -999.0,9, -999.00,   7.5542,6,       25,-999.000,9,-999.0000,9, -999.00,9,  -999.0,9,  -999.0,   1.036,3, -999.00,9,  45.6293,2, -999.00,9,  389.20,  -999.0,9,   8.3314,     26.958,    34.8260,2,     -999.0,9,     -999.0,9,     -999.0,     -999.0,9,     -999.0
33RO20110926,        A10,       3,          1,          7,      11705,2,20110928,       1118,   -28.8170,    14.1836,     -999.0,   438.7,   7.7862,  34.6015,2,  34.6049,2,    130.4,2,   129.8,2,    18.4,2,    31.0,2,    0.00,2,   2.075,2,   2.199,2,   1.160,2,   0.559,2,     2212.9,2,  2293.7,2,  -999.0,9, -999.00,   7.5551,2,       25,-999.000,9,-999.0000,9, -999.00,9,  -999.0,9,  -999.0,   1.069,3, -999.00,9,  41.6878,2, -999.00,9,  438.70,  -999.0,9,   7.7421,     27.000,    34.7680,2,     -999.0,9,     -999.0,9,     -999.0,     -999.0,9,     -999.0
33RO20110926,        A10,       3,          1,          6,      11029,2,20110928,       1118,   -28.8170,    14.1836,     -999.0,   525.3,   6.6044,  34.4971,2,  34.4969,2,    147.4,2,   147.2,2,    20.6,2,    32.3,2,    0.00,2,   2.138,2,   2.076,2,   1.056,2,   0.506,2,     2210.3,3,  2291.5,2,  -999.0,9, -999.00,   7.5631,2,       25,-999.000,9,-999.0000,9, -999.00,9,  -999.0,9,  -999.0,   1.345,3, -999.00,9,  41.3561,2, -999.00,9,  525.30,  -999.0,9,   6.5560,     27.083,    34.6596,2,     -999.0,9,     -999.0,9,     -999.0,     -999.0,9,     -999.0
33RO20110926,        A10,       3,          1,          5,      11704,2,20110928,       1118,   -28.8170,    14.1836,     -999.0,   625.9,   6.1400,  34.4906,2,  34.4936,2,    132.7,2,   132.9,2,    23.8,2,    34.6,2,    0.00,2,   2.288,2,   1.439,2,   0.730,2,   0.299,2,       2223,2,  2294.1,2,  -999.0,9, -999.00,   7.5303,2,       25,-999.000,9,-999.0000,9, -999.00,9,  -999.0,9,  -999.0,   1.000,3, -999.00,9,  40.8878,2, -999.00,9,  625.90,  -999.0,9,   6.0841,     27.141,    34.6562,2,     -999.0,9,     -999.0,9,     -999.0,     -999.0,9,     -999.0
33RO20110926,        A10,       3,          1,          4,      11030,2,20110928,       1118,   -28.8170,    14.1836,     -999.0,   725.4,   4.5546,  34.3282,2,  34.3297,2,    209.1,2,   209.3,2,    27.9,6,    30.7,6,    0.01,6,   2.072,6,   2.542,2,   1.262,2,   0.611,2,     2192.9,3,  2295.5,2,  -999.0,9, -999.00,   7.6224,4,       25,-999.000,9,-999.0000,9, -999.00,9,  -999.0,9,  -999.0,   2.152,3, -999.00,9,  41.6098,2, -999.00,9,  725.40,  -999.0,9,   4.4983,     27.199,    34.4915,6,     -999.0,9,     -999.0,9,     -999.0,     -999.0,9,     -999.0
33RO20110926,        A10,       3,          1,          3,      11703,2,20110928,       1118,   -28.8170,    14.1836,     -999.0,   825.1,   3.9170,  34.3764,2,  34.3851,2,    194.4,2,   193.8,2,    39.2,2,    33.0,2,    0.01,2,   2.227,2,   1.645,2,   0.800,2,   0.343,2,     2213.2,2,  2306.5,2,  -999.0,9, -999.00,   7.5934,2,       25,-999.000,9,-999.0000,9, -999.00,9,  -999.0,9,  -999.0,   1.579,3, -999.00,9,  36.6829,2, -999.00,9,  825.10,  -999.0,9,   3.8563,     27.311,    34.5473,2,     -999.0,9,     -999.0,9,     -999.0,     -999.0,9,     -999.0
33RO20110926,        A10,       3,          1,          2,      11702,2,20110928,       1118,   -28.8170,    14.1836,     -999.0,   924.6,   3.7114,  34.4763,2,  34.4775,2,    172.3,2,   172.6,2,    44.5,2,    34.0,2,    0.01,2,   2.309,2,   0.594,2,   0.284,2,   0.101,2,     2225.9,6,  -999.0,5,  -999.0,9, -999.00,-999.0000,5,  -999.00,-999.000,9,-999.0000,9, -999.00,9,  -999.0,9,  -999.0,   0.737,3, -999.00,9,  37.7854,2, -999.00,9,  924.60,  -999.0,9,   3.6441,     27.406,    34.6400,2,     -999.0,9,     -999.0,9,     -999.0,     -999.0,9,     -999.0
33RO20110926,        A10,       3,          1,          1,      11701,2,20110928,       1118,   -28.8170,    14.1836,     -999.0,   971.2,   3.5566,  34.5132,2,  34.5150,2,    172.8,2,   173.6,2,    47.2,2,    33.9,2,    0.01,2,   2.288,2,   0.452,6,   0.216,6,   0.068,6,     2227.3,2,  2317.6,6,  -999.0,9, -999.00,   7.5731,6,       25,-999.000,9,-999.0000,9, -999.00,9,  -999.0,9,  -999.0,   0.589,3, -999.00,9,   41.678,2, -999.00,9,  971.20,  -999.0,9,   3.4867,     27.452,    34.6777,2,     -999.0,9,     -999.0,9,     -999.0,     -999.0,9,     -999.0