BOTTLE,20220815CCHSIOAMB
EXPOCODE,SECT_ID,STNNBR,CASTNO,SAMPNO,BTLNBR,BTLNBR_FLAG_W,DATE,TIME,LATITUDE,LONGITUDE,DEPTH,CTDPRS,CTDTMP,CTDSAL,CTDSAL_FLAG_W,SALNTY,SALNTY_FLAG_W,CTDOXY,CTDOXY_FLAG_W,OXYGEN,OXYGEN_FLAG_W,SILCAT,SILCAT_FLAG_W,NITRAT,NITRAT_FLAG_W,NITRIT,NITRIT_FLAG_W,PHSPHT,PHSPHT_FLAG_W,CFC-11,CFC-11_FLAG_W,CFC-12,CFC-12_FLAG_W,SF6,SF6_FLAG_W,TCARBN,TCARBN_FLAG_W,ALKALI,ALKALI_FLAG_W,PCO2,PCO2_FLAG_W,PCO2TMP,PH_SWS,PH_SWS_FLAG_W,PH_TMP,TRITUM,TRITUM_FLAG_W,HELIUM,HELIUM_FLAG_W,DELC13,DELC13_FLAG_W,DELC14,DELC14_FLAG_W,C14ERR,CCL4,CCL4_FLAG_W,DELO18,DELO18_FLAG_W,DOC,DOC_FLAG_W,TDN,TDN_FLAG_W,CTDRAW,14C-DOC,14C-DOC_FLAG_W,THETA,SIG0,SALTREF,SALTREF_FLAG_W,BLACKC,BLACKC_FLAG_W,PIGMENTS,PIGMENTS_FLAG_W,14C-DOCERR,13C-DOC,13C-DOC_FLAG_W,13C-DOCERR
,,,,,,,,,,,METERS,DBAR,ITS-90,PSS-78,,PSS-78,,UMOL/KG,,UMOL/KG,,UMOL/KG,,UMOL/KG,,UMOL/KG,,UMOL/KG,,PMOL/KG,,PMOL/KG,,FMOL/KG,,UMOL/KG,,UMOL/KG,,UATM,,DEG C,,,DEG C,TU,,NMOL/KG,,/MILLE,,/MILLE,,/MILLE,PMOL/KG,,/MILLE,,UMOL/KG,,UMOL/KG,,DBAR,/MILLE,,DEG C,KG/M^3,G/KG,,,,,,/MILLE,/MILLE,,/MILLE
33RO20110926,        A10,     108,          1,         24,      11714,2,20111027,       2344,   -28.7434,   -43.9457,       3834,     5.1,  21.0738,  36.5248,2,  36.4030,4,    223.6,2,   223.4,2,     1.0,2,     0.0,2,    0.00,2,   0.047,4,-999.000,9,-999.000,9,-999.000,9,     2086.6,6,    2394,2,  -999.0,9, -999.00,    8.033,2,       25,-999.000,9,-999.0000,9, -999.00,9,  -999.0,9,  -999.0,-999.000,5, -999.00,9,-999.0000,9, -999.00,9,    5.10,  -999.0,9,  21.0729,     25.635,    36.5747,4,     -999.0,9,     -999.0,1,     -999.0,     -999.0,9,     -999.0
33RO20110926,        A10,     108,          1,         23,      11713,2,20111027,       2344,   -28.7434,   -43.9457,       3834,    49.2,  20.9308,  36.5562,2,  36.5525,2,    222.2,2,   222.6,2,     1.0,2,     0.1,2,    0.02,2,   0.060,4,-999.000,9,-999.000,9,-999.000,9,     2088.3,2,    2396,6,  -999.0,9, -999.00,    8.028,4,       25,-999.000,9,-999.0000,9, -999.00,9,  -999.0,9,  -999.0,-999.000,5, -999.00,9,-999.0000,9, -999.00,9,   49.20,  -999.0,9,  20.9213,     25.695,    36.7249,2,     -999.0,9,     -999.0,1,     -999.0,     -999.0,9,     -999.0
33RO20110926,        A10,     108,          1,         22,      11712,2,20111027,       2344,   -28.7434,   -43.9457,       3834,   100.7,  18.7727,  36.2739,2,  36.2785,2,    220.8,2,   221.6,2,     0.9,2,     0.8,2,    0.05,2,   0.099,4,-999.000,9,-999.000,9,-999.000,9,       2094,2,  2379.4,2,  -999.0,9, -999.00,    8.002,2,       25,-999.000,9,-999.0000,9, -999.00,9,  -999.0,9,  -999.0,-999.000,5, -999.00,9,-999.0000,9, -999.00,9,  100.70,  -999.0,9,  18.7548,     26.062,    36.4496,2,     -999.0,9,     -999.0,1,     -999.0,     -999.0,9,     -999.0
33RO20110926,        A10,     108,          1,         21,      11010,2,20111027,       2344,   -28.7434,   -43.9457,       3834,   151.0,  17.1804,  35.9302,2,  35.9341,2,    215.5,2,   215.8,2,     1.5,2,     2.7,2,    0.02,2,   0.201,4,-999.000,9,-999.000,9,-999.000,9,     2099.2,2,  2359.2,2,  -999.0,9, -999.00,   7.9589,2,       25,-999.000,9,-999.0000,9, -999.00,9,  -999.0,9,  -999.0,-999.000,5, -999.00,9,-999.0000,9, -999.00,9,  151.00,  -999.0,9,  17.1551,     26.193,    36.1036,2,     -999.0,9,     -999.0,1,     -999.0,     -999.0,9,     -999.0
33RO20110926,        A10,     108,          1,         20,      11715,2,20111027,       2344,   -28.7434,   -43.9457,       3834,   200.7,  15.8633,  35.6580,2,  35.6673,2,    205.4,2,   204.9,2,     2.1,2,     5.1,2,    0.01,2,   0.325,4,-999.000,9,-999.000,9,-999.000,9,       2111,2,  2342.8,2,  -999.0,9, -999.00,   7.9098,2,       25,-999.000,9,-999.0000,9, -999.00,9,  -999.0,9,  -999.0,-999.000,5, -999.00,9,-999.0000,9, -999.00,9,  200.70,  -999.0,9,  15.8315,     26.297,    35.8355,2,     -999.0,9,     -999.0,1,     -999.0,     -999.0,9,     -999.0
33RO20110926,        A10,     108,          1,         19,      11007,2,20111027,       2344,   -28.7434,   -43.9457,       3834,   260.3,  14.9975,  35.5206,2,  35.5232,2,    204.7,2,   204.1,2,     2.6,2,     6.8,2,    0.01,2,   0.410,4,-999.000,9,-999.000,9,-999.000,9,     2118.5,2,  2334.4,2,  -999.0,9, -999.00,   7.8848,2,       25,-999.000,9,-999.0000,9, -999.00,9,  -999.0,9,  -999.0,-999.000,9, -999.00,9,-999.0000,9, -999.00,9,  260.30,  -999.0,9,  14.9578,     26.385,    35.6907,2,     -999.0,9,     -999.0,9,     -999.0,     -999.0,9,     -999.0
33RO20110926,        A10,     108,          1,         18,      11710,2,20111027,       2344,   -28.7434,   -43.9457,       3834,   335.1,  13.6109,  35.3235,2,  35.3302,2,    208.4,2,   207.6,2,     3.2,2,     9.4,2,    0.00,2,   0.525,4,-999.000,9,-999.000,9,-999.000,9,     2125.1,2,    2324,2,  -999.0,9, -999.00,   7.8548,2,       25,-999.000,9,-999.0000,9, -999.00,9,  -999.0,9,  -999.0,-999.000,9, -999.00,9,-999.0000,9, -999.00,9,  335.10,  -999.0,9,  13.5630,     26.533,    35.4968,2,     -999.0,9,     -999.0,9,     -999.0,     -999.0,9,     -999.0
33RO20110926,        A10,     108,          1,         17,      11023,2,20111027,       2344,   -28.7434,   -43.9457,       3834,   414.3,  12.1488,  35.1107,2,  35.1111,2,    208.2,2,   206.5,2,     4.4,2,    12.7,2,    0.00,2,   0.676,4,-999.000,9,-999.000,9,-999.000,9,     2133.8,3,  2315.1,2,  -999.0,9, -999.00,   7.8207,2,       25,-999.000,9,-999.0000,9, -999.00,9,  -999.0,9,  -999.0,-999.000,9, -999.00,9,-999.0000,9, -999.00,9,  414.30,  -999.0,9,  12.0937,     26.658,    35.2766,2,     -999.0,9,     -999.0,9,     -999.0,     -999.0,9,     -999.0
33RO20110926,        A10,     108,          1,         16,      11709,2,20111027,       2344,   -28.7434,   -43.9457,       3834,   516.3,  10.1839,  34.8307,2,  34.8384,2,    202.5,2,   202.9,2,     6.9,2,    17.6,2,    0.00,2,   0.913,4,-999.000,9,-999.000,9,-999.000,9,     2146.5,3,  2301.3,2,  -999.0,9, -999.00,   7.7595,2,       25,-999.000,9,-999.0000,9, -999.00,9,  -999.0,9,  -999.0,-999.000,9, -999.00,9,-999.0000,9, -999.00,9,  516.30,  -999.0,9,  10.1224,     26.805,    35.0027,2,     -999.0,9,     -999.0,9,     -999.0,     -999.0,9,     -999.0
33RO20110926,        A10,     108,          1,         15,      11006,2,20111027,       2344,   -28.7434,   -43.9457,       3834,   614.9,   8.1024,  34.5827,2,  34.5837,2,    205.1,2,   204.1,2,    10.4,6,    22.7,6,    0.00,6,   1.150,4,-999.000,9,-999.000,9,-999.000,9,       2160,3,  2291.7,2,  -999.0,9, -999.00,   7.7044,2,       25,-999.000,9,-999.0000,9, -999.00,9,  -999.0,9,  -999.0,-999.000,9, -999.00,9,-999.0000,9, -999.00,9,  614.90,  -999.0,9,   8.0384,     26.941,    34.7468,2,     -999.0,9,     -999.0,9,     -999.0,     -999.0,9,     -999.0
33RO20110926,        A10,     108,          1,         14,      11708,2,20111027,       2344,   -28.7434,   -43.9457,       3834,   714.9,   6.4405,  34.4340,2,  34.4365,2,    206.7,2,   205.7,2,    15.4,2,    26.4,2,    0.00,2,   1.387,4,-999.000,9,-999.000,9,-999.000,9,     2174.2,3,  2288.6,2,  -999.0,9, -999.00,   7.6653,2,       25,-999.000,9,-999.0000,9, -999.00,9,  -999.0,9,  -999.0,-999.000,9, -999.00,9,-999.0000,9, -999.00,9,  714.90,  -999.0,9,   6.3746,     27.060,    34.5989,2,     -999.0,9,     -999.0,9,     -999.0,     -999.0,9,     -999.0
33RO20110926,        A10,     108,          1,         13,      11031,2,20111027,       2344,   -28.7434,   -43.9457,       3834,   800.6,   5.3294,  34.3528,2,  34.3531,2,    211.8,2,   212.3,2,    19.8,2,    28.5,2,    0.00,2,   1.519,4,-999.000,9,-999.000,9,-999.000,9,     2180.1,3,  2292.4,2,  -999.0,9, -999.00,   7.6444,2,       25,-999.000,9,-999.0000,9, -999.00,9,  -999.0,9,  -999.0,-999.000,9, -999.00,9,-999.0000,9, -999.00,9,  800.60,  -999.0,9,   5.2620,     27.132,    34.5151,2,     -999.0,9,     -999.0,9,     -999.0,     -999.0,9,     -999.0
33RO20110926,        A10,     108,          1,         12,      11027,2,20111027,       2344,   -28.7434,   -43.9457,       3834,   950.2,   4.3036,  34.3353,2,  34.3458,2,    208.0,2,   207.3,2,    28.9,2,    30.8,2,    0.00,2,   1.712,4,-999.000,9,-999.000,9,-999.000,9,     2195.7,2,  2295.2,2,  -999.0,9, -999.00,   7.6194,2,       25,-999.000,9,-999.0000,9, -999.00,9,  -999.0,9,  -999.0,-999.000,9, -999.00,9,-999.0000,9, -999.00,9,  950.20,  -999.0,9,   4.2301,     27.241,    34.5078,2,     -999.0,9,     -999.0,9,     -999.0,     -999.0,9,     -999.0
33RO20110926,        A10,     108,          1,         11,      11707,2,20111027,       2344,   -28.7434,   -43.9457,       3834,  1050.0,   3.8392,  34.3672,2,  34.3660,2,    201.0,2,   200.7,2,    35.9,6,    32.1,6,    0.00,6,   1.830,4,-999.000,9,-999.000,9,-999.000,9,     2205.7,2,  2300.9,2,  -999.0,9, -999.00,   7.6024,2,       25,-999.000,9,-999.0000,9, -999.00,9,  -999.0,9,  -999.0,-999.000,9, -999.00,9,-999.0000,9, -999.00,9, 1050.00,  -999.0,9,   3.7609,     27.306,    34.5281,2,     -999.0,9,     -999.0,9,     -999.0,     -999.0,9,     -999.0
33RO20110926,        A10,     108,          1,         10,      11003,2,20111027,       2344,   -28.7434,   -43.9457,       3834,  1204.9,   3.4084,  34.4465,2,  34.4467,2,    190.5,2,   191.2,2,    44.7,2,    32.6,2,    0.00,2,   1.943,4,-999.000,9,-999.000,9,-999.000,9,     2219.4,2,    2313,2,  -999.0,9, -999.00,   7.6002,2,       25,-999.000,9,-999.0000,9, -999.00,9,  -999.0,9,  -999.0,-999.000,9, -999.00,9,-999.0000,9, -999.00,9, 1204.90,  -999.0,9,   3.3209,     27.413,    34.6091,2,     -999.0,9,     -999.0,9,     -999.0,     -999.0,9,     -999.0
33RO20110926,        A10,     108,          1,          9,      11706,2,20111027,       2344,   -28.7434,   -43.9457,       3834,  1425.7,   3.4058,  34.6069,2,  34.6077,2,    189.9,2,   189.4,2,    44.9,6,    30.9,6,    0.00,6,   1.858,4,-999.000,9,-999.000,9,-999.000,9,     2221.4,6,  2319.8,3,  -999.0,9, -999.00,   7.6342,2,       25,-999.000,9,-999.0000,9, -999.00,9,  -999.0,9,  -999.0,-999.000,9, -999.00,9,-999.0000,9, -999.00,9, 1425.70,  -999.0,9,   3.2996,     27.544,    34.7709,2,     -999.0,9,     -999.0,9,     -999.0,     -999.0,9,     -999.0
33RO20110926,        A10,     108,          1,          8,      11033,2,20111027,       2344,   -28.7434,   -43.9457,       3834,  1726.1,   3.7972,  34.8311,2,  34.8323,2,    210.3,2,   210.7,2,    31.0,6,    25.5,6,    0.00,6,   1.460,4,   0.137,2,   0.070,2,   0.000,2,     2198.2,2,  2318.2,2,  -999.0,9, -999.00,   7.6615,2,       25,-999.000,9,-999.0000,9, -999.00,9,  -999.0,9,  -999.0,   0.423,3, -999.00,9,-999.0000,9, -999.00,9, 1726.10,  -999.0,9,   3.6590,     27.686,    34.9965,6,     -999.0,9,     -999.0,9,     -999.0,     -999.0,9,     -999.0
33RO20110926,        A10,     108,          1,          7,      11705,2,20111027,       2344,   -28.7434,   -43.9457,       3834,  1950.3,   3.8211,  34.9181,2,  34.9180,2,    230.6,2,   230.1,2,    24.2,2,    22.4,2,    0.00,2,   1.249,4,   0.199,2,   0.101,2,   0.017,2,     2182.6,2,  2317.5,2,  -999.0,9, -999.00,   7.6985,2,       25,-999.000,9,-999.0000,9, -999.00,9,  -999.0,9,  -999.0,   0.554,3, -999.00,9,-999.0000,9, -999.00,9, 1950.30,  -999.0,9,   3.6611,     27.756,    35.0826,2,     -999.0,9,     -999.0,9,     -999.0,     -999.0,9,     -999.0
33RO20110926,        A10,     108,          1,          6,      11029,2,20111027,       2344,   -28.7434,   -43.9457,       3834,  2199.1,   3.6540,  34.9488,2,  34.9536,2,    244.2,2,   244.1,2,    21.9,2,    20.7,2,    0.00,2,   1.147,4,   0.253,2,   0.127,2,   0.056,2,       2175,2,  2316.9,2,  -999.0,9, -999.00,   7.7216,2,       25,-999.000,9,-999.0000,9, -999.00,9,  -999.0,9,  -999.0,   0.650,3, -999.00,9,-999.0000,9, -999.00,9, 2199.10,  -999.0,9,   3.4723,     27.803,    35.1184,2,     -999.0,9,     -999.0,9,     -999.0,     -999.0,9,     -999.0
33RO20110926,        A10,     108,          1,          5,      11704,2,20111027,       2344,   -28.7434,   -43.9457,       3834,  2450.5,   3.3424,  34.9452,2,  34.9459,2,    249.8,2,   249.7,2,    24.3,2,    20.2,2,    0.00,2,   1.154,4,   0.216,2,   0.108,2,   0.039,2,     2173.4,2,  2319.6,2,  -999.0,9, -999.00,   7.7334,2,       25,-999.000,9,-999.0000,9, -999.00,9,  -999.0,9,  -999.0,   0.587,3, -999.00,9,-999.0000,9, -999.00,9, 2450.50,  -999.0,9,   3.1411,     27.829,    35.1107,2,     -999.0,9,     -999.0,9,     -999.0,     -999.0,9,     -999.0
33RO20110926,        A10,     108,          1,          4,      11030,2,20111027,       2344,   -28.7434,   -43.9457,       3834,  2700.8,   3.0662,  34.9342,2,  34.9351,2,    251.0,2,   251.7,2,    28.1,2,    20.5,2,    0.00,2,   1.198,4,   0.144,2,   0.072,2,   0.000,2,     2176.5,2,  2323.6,2,  -999.0,9, -999.00,   7.7344,2,       25,-999.000,9,-999.0000,9, -999.00,9,  -999.0,9,  -999.0,   0.454,3, -999.00,9,-999.0000,9, -999.00,9, 2700.80,  -999.0,9,   2.8449,     27.848,    35.0999,2,     -999.0,9,     -999.0,9,     -999.0,     -999.0,9,     -999.0
33RO20110926,        A10,     108,          1,          3,      11703,2,20111027,       2344,   -28.7434,   -43.9457,       3834,  3050.4,   2.3847,  34.8876,2,  34.8885,2,    249.0,2,   249.6,2,    43.2,2,    22.1,2,    0.00,2,   1.421,4,   0.080,2,   0.041,2,   0.000,2,     2190.4,2,  2341.7,2,  -999.0,9, -999.00,   7.7156,2,       25,-999.000,9,-999.0000,9, -999.00,9,  -999.0,9,  -999.0,   0.316,3, -999.00,9,-999.0000,9, -999.00,9, 3050.40,  -999.0,9,   2.1424,     27.871,    35.0530,2,     -999.0,9,     -999.0,9,     -999.0,     -999.0,9,     -999.0
33RO20110926,        A10,     108,          1,          2,      11702,2,20111027,       2344,   -28.7434,   -43.9457,       3834,  3459.6,   0.8419,  34.7290,2,  34.7057,4,    222.2,2,   223.3,2,   104.5,2,    30.3,2,    0.00,2,   2.400,4,   0.203,2,   0.095,2,   0.074,2,     2250.3,2,  2361.1,3,  -999.0,9, -999.00,   7.6284,3,       25,-999.000,9,-999.0000,9, -999.00,9,  -999.0,9,  -999.0,   0.419,3, -999.00,9,-999.0000,9, -999.00,9, 3459.60,  -999.0,9,   0.5960,     27.835,    34.8693,2,     -999.0,9,     -999.0,9,     -999.0,     -999.0,9,     -999.0
33RO20110926,        A10,     108,          1,          1,      11701,2,20111027,       2344,   -28.7434,   -43.9457,       3834,  3822.9,   0.5485,  34.6992,2,  34.7027,2,    220.5,2,   220.7,2,   116.1,2,    31.9,2,    0.00,2,   2.579,4,   0.280,6,   0.131,6,   0.065,6,       2260,6,  2364.2,6,  -999.0,9, -999.00,   7.6158,6,       25,-999.000,9,-999.0000,9, -999.00,9,  -999.0,9,  -999.0,   0.509,3, -999.00,9,-999.0000,9, -999.00,9, 3822.90,  -999.0,9,   0.2745,     27.851,    34.8664,2,     -999.0,9,     -999.0,9,     -999.0,     -999.0,9,     -999.0