BOTTLE,20220815CCHSIOAMB
EXPOCODE,SECT_ID,STNNBR,CASTNO,SAMPNO,BTLNBR,BTLNBR_FLAG_W,DATE,TIME,LATITUDE,LONGITUDE,DEPTH,CTDPRS,CTDTMP,CTDSAL,CTDSAL_FLAG_W,SALNTY,SALNTY_FLAG_W,CTDOXY,CTDOXY_FLAG_W,OXYGEN,OXYGEN_FLAG_W,SILCAT,SILCAT_FLAG_W,NITRAT,NITRAT_FLAG_W,NITRIT,NITRIT_FLAG_W,PHSPHT,PHSPHT_FLAG_W,CFC-11,CFC-11_FLAG_W,CFC-12,CFC-12_FLAG_W,SF6,SF6_FLAG_W,TCARBN,TCARBN_FLAG_W,ALKALI,ALKALI_FLAG_W,PCO2,PCO2_FLAG_W,PCO2TMP,PH_SWS,PH_SWS_FLAG_W,PH_TMP,TRITUM,TRITUM_FLAG_W,HELIUM,HELIUM_FLAG_W,DELC13,DELC13_FLAG_W,DELC14,DELC14_FLAG_W,C14ERR,CCL4,CCL4_FLAG_W,DELO18,DELO18_FLAG_W,DOC,DOC_FLAG_W,TDN,TDN_FLAG_W,CTDRAW,14C-DOC,14C-DOC_FLAG_W,THETA,SIG0,SALTREF,SALTREF_FLAG_W,BLACKC,BLACKC_FLAG_W,PIGMENTS,PIGMENTS_FLAG_W,14C-DOCERR,13C-DOC,13C-DOC_FLAG_W,13C-DOCERR
,,,,,,,,,,,METERS,DBAR,ITS-90,PSS-78,,PSS-78,,UMOL/KG,,UMOL/KG,,UMOL/KG,,UMOL/KG,,UMOL/KG,,UMOL/KG,,PMOL/KG,,PMOL/KG,,FMOL/KG,,UMOL/KG,,UMOL/KG,,UATM,,DEG C,,,DEG C,TU,,NMOL/KG,,/MILLE,,/MILLE,,/MILLE,PMOL/KG,,/MILLE,,UMOL/KG,,UMOL/KG,,DBAR,/MILLE,,DEG C,KG/M^3,G/KG,,,,,,/MILLE,/MILLE,,/MILLE
33RO20110926,        A10,      32,          1,         24,      11714,2,20111005,       1944,   -30.0005,    -0.0328,       4088,     4.0,  18.2444,  35.8156,2,  35.8143,2,    243.0,2,   242.7,2,     1.5,2,     0.0,2,    0.02,2,   0.153,2,   2.433,2,   1.466,2,   1.482,2,     2078.4,2,  2349.8,6,  -999.0,9, -999.00,   7.9819,6,       25,-999.000,9,-999.0000,9, -999.00,9,  -999.0,9,  -999.0,   2.576,3, -999.00,9,-999.0000,9, -999.00,9,    4.00,  -999.0,9,  18.2437,     25.834,    35.9832,2,     -999.0,9,     -999.0,1,     -999.0,     -999.0,9,     -999.0
33RO20110926,        A10,      32,          1,         23,      11713,2,20111005,       1944,   -30.0005,    -0.0328,       4088,    29.6,  17.4604,  35.7938,2,  35.7938,2,    244.7,2,   244.9,2,     1.5,2,     0.0,2,    0.03,2,   0.155,2,-999.000,9,-999.000,9,-999.000,9,-999.000000,9,    2348,2,  -999.0,9, -999.00,   7.9829,2,       25,-999.000,9,-999.0000,9, -999.00,9,  -999.0,9,  -999.0,-999.000,9, -999.00,9,-999.0000,9, -999.00,9,   29.60,  -999.0,9,  17.4554,     26.014,    35.9626,2,     -999.0,9,     -999.0,9,     -999.0,     -999.0,9,     -999.0
33RO20110926,        A10,      32,          1,         22,      11712,2,20111005,       1944,   -30.0005,    -0.0328,       4088,    65.7,  16.9603,  35.7592,2,  35.7543,2,    246.3,2,   245.5,2,     1.6,2,     0.1,2,    0.06,2,   0.168,2,-999.000,9,-999.000,9,-999.000,9,-999.000000,9,  2348.5,2,  -999.0,9, -999.00,     7.98,2,       25,-999.000,9,-999.0000,9, -999.00,9,  -999.0,9,  -999.0,-999.000,9, -999.00,9,-999.0000,9, -999.00,9,   65.70,  -999.0,9,  16.9495,     26.108,    35.9229,2,     -999.0,9,     -999.0,1,     -999.0,     -999.0,9,     -999.0
33RO20110926,        A10,      32,          1,         21,      11010,2,20111005,       1944,   -30.0005,    -0.0328,       4088,    96.1,  16.5800,  35.7337,2,  35.7355,2,    235.7,2,   237.5,2,     1.9,2,     0.8,2,    0.48,2,   0.244,2,   2.477,2,   1.479,2,   1.497,2,     2083.7,2,  2345.7,2,  -999.0,9, -999.00,   7.9619,2,       25,-999.000,9,-999.0000,9, -999.00,9,  -999.0,9,  -999.0,   1.868,3, -999.00,9,-999.0000,9, -999.00,9,   96.10,  -999.0,9,  16.5644,     26.182,    35.9040,2,     -999.0,9,     -999.0,1,     -999.0,     -999.0,9,     -999.0
33RO20110926,        A10,      32,          1,         20,      11715,2,20111005,       1944,   -30.0005,    -0.0328,       4088,   145.7,  16.3975,  35.7102,2,  35.7101,2,    235.3,2,   235.7,3,     2.0,2,     1.2,2,    0.56,2,   0.264,2,-999.000,9,-999.000,9,-999.000,9,-999.000000,9,  2344.4,2,  -999.0,9, -999.00,   7.9549,2,       25,-999.000,9,-999.0000,9, -999.00,9,  -999.0,9,  -999.0,-999.000,9, -999.00,9,-999.0000,9, -999.00,9,  145.70,  -999.0,9,  16.3739,     26.208,    35.8785,2,     -999.0,9,     -999.0,9,     -999.0,     -999.0,9,     -999.0
33RO20110926,        A10,      32,          1,         19,      11007,2,20111005,       1944,   -30.0005,    -0.0328,       4088,   191.6,  16.1621,  35.6828,2,  35.6826,2,    224.3,2,   234.7,2,     2.1,2,     1.7,2,    0.35,2,   0.288,2,-999.000,9,-999.000,9,-999.000,9,-999.000000,9,  2340.5,2,  -999.0,9, -999.00,   7.9499,2,       25,-999.000,9,-999.0000,9, -999.00,9,  -999.0,9,  -999.0,-999.000,9, -999.00,9,-999.0000,9, -999.00,9,  191.60,  -999.0,9,  16.1314,     26.242,    35.8509,2,     -999.0,9,     -999.0,9,     -999.0,     -999.0,9,     -999.0
33RO20110926,        A10,      32,          1,         18,      11710,2,20111005,       1944,   -30.0005,    -0.0328,       4088,   259.5,  14.1022,  35.2751,2,  35.2760,2,    219.1,2,   219.2,2,     3.1,2,     6.8,2,    0.01,2,   0.591,2,   2.811,2,   1.651,2,   1.487,2,-999.000000,9,  2317.6,2,  -999.0,9, -999.00,   7.8767,2,       25,-999.000,9,-999.0000,9, -999.00,9,  -999.0,9,  -999.0,   0.674,3, -999.00,9,-999.0000,9, -999.00,9,  259.50,  -999.0,9,  14.0644,     26.386,    35.4423,2,     -999.0,9,     -999.0,9,     -999.0,     -999.0,9,     -999.0
33RO20110926,        A10,      32,          1,         17,      11023,2,20111005,       1944,   -30.0005,    -0.0328,       4088,   309.8,  13.3929,  35.1795,2,  35.1804,2,    221.1,2,   220.5,2,     3.5,2,     8.1,2,    0.01,2,   0.664,2,-999.000,9,-999.000,9,-999.000,9,     2110.1,2,  2313.7,2,  -999.0,9, -999.00,   7.8627,2,       25,-999.000,9,-999.0000,9, -999.00,9,  -999.0,9,  -999.0,-999.000,9, -999.00,9,-999.0000,9, -999.00,9,  309.80,  -999.0,9,  13.3492,     26.462,    35.3463,2,     -999.0,9,     -999.0,9,     -999.0,     -999.0,9,     -999.0
33RO20110926,        A10,      32,          1,         16,      11709,2,20111005,       1944,   -30.0005,    -0.0328,       4088,   519.2,   9.8428,  34.7751,2,  34.7753,2,    197.9,2,   197.3,2,     8.5,2,    18.9,2,    0.00,2,   1.351,2,   3.114,2,   1.695,2,   1.031,2,-999.000000,9,  2296.3,2,  -999.0,9, -999.00,   7.7326,2,       25,-999.000,9,-999.0000,9, -999.00,9,  -999.0,9,  -999.0,   1.018,3, -999.00,9,-999.0000,9, -999.00,9,  519.20,  -999.0,9,   9.7824,     26.813,    34.9393,2,     -999.0,9,     -999.0,9,     -999.0,     -999.0,9,     -999.0
33RO20110926,        A10,      32,          1,         15,      11006,2,20111005,       1944,   -30.0005,    -0.0328,       4088,   646.0,   7.5465,  34.5285,2,  34.5299,2,    200.9,2,   199.8,2,    13.9,2,    24.4,2,    0.00,2,   1.709,2,-999.000,9,-999.000,9,-999.000,9,-999.000000,9,  2288.3,2,  -999.0,9, -999.00,   7.6775,2,       25,-999.000,9,-999.0000,9, -999.00,9,  -999.0,9,  -999.0,-999.000,9, -999.00,9,-999.0000,9, -999.00,9,  646.00,  -999.0,9,   7.4818,     26.980,    34.6927,2,     -999.0,9,     -999.0,9,     -999.0,     -999.0,9,     -999.0
33RO20110926,        A10,      32,          1,         14,      11708,2,20111005,       1944,   -30.0005,    -0.0328,       4088,   808.6,   5.1219,  34.3285,2,  34.3283,2,    218.6,2,   217.2,2,    21.5,2,    28.7,2,    0.01,2,   1.997,2,   2.992,2,   1.523,2,   0.790,2,     2178.1,3,  2286.1,2,  -999.0,9, -999.00,   7.6423,2,       25,-999.000,9,-999.0000,9, -999.00,9,  -999.0,9,  -999.0,   2.325,3, -999.00,9,-999.0000,9, -999.00,9,  808.60,  -999.0,9,   5.0551,     27.136,    34.4902,2,     -999.0,9,     -999.0,9,     -999.0,     -999.0,9,     -999.0
33RO20110926,        A10,      32,          1,         13,      11031,2,20111005,       1944,   -30.0005,    -0.0328,       4088,   958.8,   4.1465,  34.3374,2,  34.3406,2,    207.0,2,   206.6,2,    32.5,2,    31.1,2,    0.01,2,   2.175,2,-999.000,9,-999.000,9,-999.000,9,-999.000000,9,    2299,2,  -999.0,9, -999.00,   7.6164,2,       25,-999.000,9,-999.0000,9, -999.00,9,  -999.0,9,  -999.0,-999.000,9, -999.00,9,-999.0000,9, -999.00,9,  958.80,  -999.0,9,   4.0734,     27.254,    34.5026,2,     -999.0,9,     -999.0,9,     -999.0,     -999.0,9,     -999.0
33RO20110926,        A10,      32,          1,         12,      11027,2,20111005,       1944,   -30.0005,    -0.0328,       4088,  1100.2,   3.5592,  34.4127,2,  34.4137,2,    190.8,2,   189.7,2,    45.2,2,    33.1,2,    0.01,2,   2.298,2,-999.000,9,-999.000,9,-999.000,9,-999.000000,9,  2307.9,2,  -999.0,9, -999.00,   7.5922,2,       25,-999.000,9,-999.0000,9, -999.00,9,  -999.0,9,  -999.0,-999.000,9, -999.00,9,-999.0000,9, -999.00,9, 1100.20,  -999.0,9,   3.4791,     27.371,    34.5759,2,     -999.0,9,     -999.0,9,     -999.0,     -999.0,9,     -999.0
33RO20110926,        A10,      32,          1,         11,      11707,2,20111005,       1944,   -30.0005,    -0.0328,       4088,  1300.0,   3.1728,  34.5410,2,  34.5413,2,    180.3,2,   181.2,2,    54.5,6,    32.9,6,    0.02,6,   2.302,6,   0.529,6,   0.249,6,   0.075,6,     2232.2,2,  2322.3,6,  -999.0,9, -999.00,   7.5824,6,       25,-999.000,9,-999.0000,9, -999.00,9,  -999.0,9,  -999.0,   0.640,3, -999.00,9,-999.0000,9, -999.00,9, 1300.00,  -999.0,9,   3.0797,     27.512,    34.7042,2,     -999.0,9,     -999.0,9,     -999.0,     -999.0,9,     -999.0
33RO20110926,        A10,      32,          1,         10,      11003,2,20111005,       1944,   -30.0005,    -0.0328,       4088,  1579.2,   2.9862,  34.6994,2,  34.6987,2,    191.6,2,   192.7,2,    53.1,6,    29.9,6,    0.02,6,   2.076,6,-999.000,9,-999.000,9,-999.000,9,-999.000000,9,  2327.9,2,  -999.0,9, -999.00,   7.6224,2,       25,-999.000,9,-999.0000,9, -999.00,9,  -999.0,9,  -999.0,-999.000,9, -999.00,9,-999.0000,9, -999.00,9, 1579.20,  -999.0,9,   2.8715,     27.656,    34.8623,2,     -999.0,9,     -999.0,9,     -999.0,     -999.0,9,     -999.0
33RO20110926,        A10,      32,          1,          9,      11706,2,20111005,       1944,   -30.0005,    -0.0328,       4088,  1851.0,   2.8539,  34.7836,2,  34.7830,2,    208.1,2,   210.2,2,    50.3,6,    27.2,6,    0.02,6,   1.884,6,   0.054,2,   0.026,2,   0.000,2,-999.000000,9,  2327.1,2,  -999.0,9, -999.00,   7.6543,2,       25,-999.000,9,-999.0000,9, -999.00,9,  -999.0,9,  -999.0,   0.120,3, -999.00,9,-999.0000,9, -999.00,9, 1851.00,  -999.0,9,   2.7173,     27.737,    34.9470,2,     -999.0,9,     -999.0,9,     -999.0,     -999.0,9,     -999.0
33RO20110926,        A10,      32,          1,          8,      11033,2,20111005,       1944,   -30.0005,    -0.0328,       4088,  2200.3,   2.6123,  34.8215,2,  34.8213,2,    220.1,2,   221.8,2,    51.6,6,    25.7,6,    0.02,6,   1.769,6,-999.000,9,-999.000,9,-999.000,9,-999.000000,9,  2331.2,2,  -999.0,9, -999.00,   7.6753,2,       25,-999.000,9,-999.0000,9, -999.00,9,  -999.0,9,  -999.0,-999.000,9, -999.00,9,-999.0000,9, -999.00,9, 2200.30,  -999.0,9,   2.4479,     27.792,    34.9855,2,     -999.0,9,     -999.0,9,     -999.0,     -999.0,9,     -999.0
33RO20110926,        A10,      32,          1,          7,      11705,2,20111005,       1944,   -30.0005,    -0.0328,       4088,  2549.5,   2.4435,  34.8443,2,  34.8447,2,    228.7,2,     229,2,    52.4,2,    24.8,2,    0.01,2,   1.716,2,   0.017,2,   0.013,2,   0.062,2,-999.000000,9,  2336.2,2,  -999.0,9, -999.00,   7.6934,2,       25,-999.000,9,-999.0000,9, -999.00,9,  -999.0,9,  -999.0,   0.051,3, -999.00,9,-999.0000,9, -999.00,9, 2549.50,  -999.0,9,   2.2495,     27.827,    35.0091,2,     -999.0,9,     -999.0,9,     -999.0,     -999.0,9,     -999.0
33RO20110926,        A10,      32,          1,          6,      11029,2,20111005,       1944,   -30.0005,    -0.0328,       4088,  2900.3,   2.3574,  34.8561,2,  34.8571,2,    232.3,2,   232.7,2,    53.1,2,    24.3,2,    0.01,2,   1.677,2,-999.000,9,-999.000,9,-999.000,9,     2205.6,2,  2344.8,2,  -999.0,9, -999.00,   7.7025,2,       25,-999.000,9,-999.0000,9, -999.00,9,  -999.0,9,  -999.0,-999.000,9, -999.00,9,-999.0000,9, -999.00,9, 2900.30,  -999.0,9,   2.1309,     27.847,    35.0215,2,     -999.0,9,     -999.0,9,     -999.0,     -999.0,9,     -999.0
33RO20110926,        A10,      32,          1,          5,      11704,2,20111005,       1944,   -30.0005,    -0.0328,       4088,  3248.8,   2.3041,  34.8696,2,  34.8695,2,    234.8,2,   234.8,2,    53.1,2,    24.0,2,    0.01,2,   1.649,2,   0.005,2,   0.004,2,   0.000,2,-999.000000,9,  2349.8,2,  -999.0,9, -999.00,   7.7105,2,       25,-999.000,9,-999.0000,9, -999.00,9,  -999.0,9,  -999.0,   0.023,3, -999.00,9,-999.0000,9, -999.00,9, 3248.80,  -999.0,9,   2.0433,     27.864,    35.0340,2,     -999.0,9,     -999.0,9,     -999.0,     -999.0,9,     -999.0
33RO20110926,        A10,      32,          1,          4,      11030,2,20111005,       1944,   -30.0005,    -0.0328,       4088,  3444.8,   2.2785,  34.8744,2,  34.8746,2,    233.8,2,   233.8,2,    53.7,2,    23.9,2,    0.01,2,   1.634,2,   0.003,2,   0.003,2,   0.000,2,-999.000000,9,    2356,2,  -999.0,9, -999.00,   7.7146,2,       25,-999.000,9,-999.0000,9, -999.00,9,  -999.0,9,  -999.0,   0.013,3, -999.00,9,-999.0000,9, -999.00,9, 3444.80,  -999.0,9,   1.9976,     27.871,    35.0390,2,     -999.0,9,     -999.0,9,     -999.0,     -999.0,9,     -999.0
33RO20110926,        A10,      32,          1,          3,      11703,2,20111005,       1944,   -30.0005,    -0.0328,       4088,  3649.8,   2.2816,  34.8749,2,  34.8747,2,    233.1,2,   233.5,2,    54.2,2,    24.0,2,    0.01,2,   1.645,2,   0.004,2,   0.003,2,   0.000,2,-999.000000,9,  2353.3,2,  -999.0,9, -999.00,   7.7154,2,       25,-999.000,9,-999.0000,9, -999.00,9,  -999.0,9,  -999.0,   0.009,3, -999.00,9,-999.0000,9, -999.00,9, 3649.80,  -999.0,9,   1.9785,     27.873,    35.0391,2,     -999.0,9,     -999.0,9,     -999.0,     -999.0,9,     -999.0
33RO20110926,        A10,      32,          1,          2,      11702,2,20111005,       1944,   -30.0005,    -0.0328,       4088,  3851.2,   2.2930,  34.8745,2,  34.8749,2,    233.3,2,   232.2,2,    54.7,2,    24.1,2,    0.01,2,   1.643,2,   0.004,2,   0.003,2,   0.000,2,-999.000000,9,  2355.7,6,  -999.0,9, -999.00,    7.715,6,       25,-999.000,9,-999.0000,9, -999.00,9,  -999.0,9,  -999.0,   0.012,3, -999.00,9,-999.0000,9, -999.00,9, 3851.20,  -999.0,9,   1.9674,     27.874,    35.0393,2,     -999.0,9,     -999.0,9,     -999.0,     -999.0,9,     -999.0
33RO20110926,        A10,      32,          1,          1,      11701,2,20111005,       1944,   -30.0005,    -0.0328,       4088,  4171.0,   2.3135,  34.8722,2,  34.8766,3,    233.2,2,   232.4,2,    55.7,2,    24.2,2,    0.01,2,   1.656,2,   0.004,6,   0.004,6,   0.000,6,     2215.7,2,  2353.8,2,  -999.0,9, -999.00,   7.7124,2,       25,-999.000,9,-999.0000,9, -999.00,9,  -999.0,9,  -999.0,   0.015,3, -999.00,9,-999.0000,9, -999.00,9, 4171.00,  -999.0,9,   1.9509,     27.873,    35.0410,6,     -999.0,9,     -999.0,9,     -999.0,     -999.0,9,     -999.0