BOTTLE,20220815CCHSIOAMB
EXPOCODE,SECT_ID,STNNBR,CASTNO,SAMPNO,BTLNBR,BTLNBR_FLAG_W,DATE,TIME,LATITUDE,LONGITUDE,DEPTH,CTDPRS,CTDTMP,CTDSAL,CTDSAL_FLAG_W,SALNTY,SALNTY_FLAG_W,CTDOXY,CTDOXY_FLAG_W,OXYGEN,OXYGEN_FLAG_W,SILCAT,SILCAT_FLAG_W,NITRAT,NITRAT_FLAG_W,NITRIT,NITRIT_FLAG_W,PHSPHT,PHSPHT_FLAG_W,CFC-11,CFC-11_FLAG_W,CFC-12,CFC-12_FLAG_W,SF6,SF6_FLAG_W,TCARBN,TCARBN_FLAG_W,ALKALI,ALKALI_FLAG_W,PCO2,PCO2_FLAG_W,PCO2TMP,PH_SWS,PH_SWS_FLAG_W,PH_TMP,TRITUM,TRITUM_FLAG_W,HELIUM,HELIUM_FLAG_W,DELC13,DELC13_FLAG_W,DELC14,DELC14_FLAG_W,C14ERR,CCL4,CCL4_FLAG_W,DELO18,DELO18_FLAG_W,DOC,DOC_FLAG_W,TDN,TDN_FLAG_W,CTDRAW,14C-DOC,14C-DOC_FLAG_W,THETA,SIG0,SALTREF,SALTREF_FLAG_W,BLACKC,BLACKC_FLAG_W,PIGMENTS,PIGMENTS_FLAG_W,14C-DOCERR,13C-DOC,13C-DOC_FLAG_W,13C-DOCERR
,,,,,,,,,,,METERS,DBAR,ITS-90,PSS-78,,PSS-78,,UMOL/KG,,UMOL/KG,,UMOL/KG,,UMOL/KG,,UMOL/KG,,UMOL/KG,,PMOL/KG,,PMOL/KG,,FMOL/KG,,UMOL/KG,,UMOL/KG,,UATM,,DEG C,,,DEG C,TU,,NMOL/KG,,/MILLE,,/MILLE,,/MILLE,PMOL/KG,,/MILLE,,UMOL/KG,,UMOL/KG,,DBAR,/MILLE,,DEG C,KG/M^3,G/KG,,,,,,/MILLE,/MILLE,,/MILLE
33RO20110926,        A10,      85,          1,         23,      11713,2,20111022,       1236,   -30.0006,   -33.9674,       2205,     4.2,  18.6483,  36.1119,2,  36.1120,2,    232.8,2,   233.1,2,     0.9,2,     0.0,2,    0.00,2,   0.048,4,-999.000,9,-999.000,9,-999.000,9,-999.000000,9,  2372.4,2,  -999.0,9, -999.00,     8.01,2,       25,-999.000,1,-999.0000,9,    1.22,2,    47.6,2,     3.0,-999.000,5, -999.00,1,  62.8098,2,    4.06,2,    4.20,  -999.0,9,  18.6476,     25.961,    36.2822,2,     -999.0,9,     -999.0,1,     -999.0,     -999.0,9,     -999.0
33RO20110926,        A10,      85,          1,         24,      11714,2,20111022,       1236,   -30.0006,   -33.9674,       2205,     4.2,  18.6484,  36.1119,2,  36.1138,2,    232.8,2,     233,2,     0.9,2,     0.0,2,    0.00,2,   0.044,4,   2.263,6,   1.365,6,   1.386,6,     2077.5,6,  2365.8,2,  -999.0,9, -999.00,    8.007,2,       25,-999.000,1,-999.0000,1, -999.00,9,  -999.0,9,  -999.0,   3.060,4, -999.00,1,  70.1561,2,    5.52,2,    4.20,  -999.0,9,  18.6477,     25.963,    36.2841,2,     -999.0,9,     -999.0,9,     -999.0,     -999.0,9,     -999.0
33RO20110926,        A10,      85,          1,         22,      11712,2,20111022,       1236,   -30.0006,   -33.9674,       2205,    50.1,  18.4981,  36.0963,2,  36.0952,2,    233.8,2,   233.3,2,     0.9,2,     0.0,2,    0.00,2,   0.052,4,   2.280,2,   1.378,2,   1.393,2,     2077.3,2,    2370,2,  -999.0,9, -999.00,    8.004,2,       25,-999.000,1,-999.0000,1, -999.00,9,  -999.0,9,  -999.0,   3.276,4, -999.00,1,  63.0829,2,    3.68,2,   50.10,  -999.0,9,  18.4893,     25.990,    36.2654,2,     -999.0,9,     -999.0,9,     -999.0,     -999.0,9,     -999.0
33RO20110926,        A10,      85,          1,         21,      11010,2,20111022,       1236,   -30.0006,   -33.9674,       2205,    79.8,  18.3296,  36.0807,2,  36.0807,2,    232.8,2,   232.8,2,     0.9,2,     0.0,2,    0.03,2,   0.066,4,-999.000,5,-999.000,5,-999.000,5,     2078.4,2,  2365.2,2,  -999.0,9, -999.00,    8.001,2,       25,-999.000,1,-999.0000,1, -999.00,9,  -999.0,9,  -999.0,-999.000,5, -999.00,1,     63.6,2,    4.63,2,   79.80,  -999.0,9,  18.3157,     26.021,    36.2509,2,     -999.0,9,     -999.0,1,     -999.0,     -999.0,9,     -999.0
33RO20110926,        A10,      85,          1,         20,      11715,2,20111022,       1236,   -30.0006,   -33.9674,       2205,    99.5,  18.2857,  36.0717,2,  36.0715,2,    232.2,2,   231.5,2,     0.9,2,     0.1,2,    0.11,2,   0.078,4,   2.286,2,   1.385,2,   1.370,2,     2079.5,2,  2364.6,2,  -999.0,9, -999.00,        8,2,       25,-999.000,1,-999.0000,1, -999.00,9,  -999.0,9,  -999.0,   2.939,4, -999.00,1,  59.9415,2,    4.08,2,   99.50,  -999.0,9,  18.2684,     26.026,    36.2415,2,     -999.0,9,     -999.0,1,     -999.0,     -999.0,9,     -999.0
33RO20110926,        A10,      85,          1,         19,      11007,2,20111022,       1236,   -30.0006,   -33.9674,       2205,   149.3,  18.1285,  36.0411,2,  36.0426,2,    229.5,2,   229.1,2,     1.0,2,     0.2,2,    0.21,2,   0.100,4,   2.304,2,   1.387,2,   1.407,2,     2079.6,2,  2362.4,2,  -999.0,9, -999.00,    7.994,2,       25,-999.000,1,-999.0000,1, -999.00,9,  -999.0,9,  -999.0,   2.754,4, -999.00,1,  60.4585,2,    4.87,2,  149.30,  -999.0,9,  18.1026,     26.045,    36.2126,2,     -999.0,9,     -999.0,9,     -999.0,     -999.0,9,     -999.0
33RO20110926,        A10,      85,          1,         18,      11710,2,20111022,       1236,   -30.0006,   -33.9674,       2205,   199.5,  16.4018,  35.7091,2,  35.7097,2,    217.4,2,   217.8,2,     1.6,2,     2.8,2,    0.02,2,   0.264,4,   2.534,2,   1.501,2,   1.359,2,     2098.6,2,    2341,2,  -999.0,9, -999.00,   7.9359,2,       25,-999.000,1,-999.0000,1, -999.00,9,  -999.0,9,  -999.0,   1.229,4, -999.00,1,   54.078,2,    5.87,2,  199.50,  -999.0,9,  16.3695,     26.209,    35.8781,2,     -999.0,9,     -999.0,9,     -999.0,     -999.0,9,     -999.0
33RO20110926,        A10,      85,          1,         17,      11023,2,20111022,       1236,   -30.0006,   -33.9674,       2205,   249.8,  15.1737,  35.5038,2,  35.5035,2,    214.6,2,     214,2,     2.0,6,     5.1,6,    0.01,6,   0.368,4,   2.704,2,   1.583,2,   1.347,2,     2106.6,2,    2329,2,  -999.0,9, -999.00,   7.9018,2,       25,-999.000,1,-999.0000,1, -999.00,9,  -999.0,9,  -999.0,   1.006,3, -999.00,1,  52.5756,2, -999.00,9,  249.80,  -999.0,9,  15.1353,     26.332,    35.6709,2,     -999.0,9,     -999.0,9,     -999.0,     -999.0,9,     -999.0
33RO20110926,        A10,      85,          1,         16,      11709,2,20111022,       1236,   -30.0006,   -33.9674,       2205,   300.3,  14.3935,  35.4040,2,  35.4051,2,    212.6,2,   212.6,2,     2.5,2,     6.9,2,    0.01,2,   0.473,4,   2.816,2,   1.628,2,   1.316,2,     2110.9,2,  2327.7,2,  -999.0,9, -999.00,   7.8777,2,       25,-999.000,1,-999.0000,1, -999.00,9,  -999.0,9,  -999.0,   0.959,3, -999.00,1,  50.7902,2, -999.00,9,  300.30,  -999.0,9,  14.3490,     26.425,    35.5720,2,     -999.0,9,     -999.0,9,     -999.0,     -999.0,9,     -999.0
33RO20110926,        A10,      85,          1,         15,      11006,2,20111022,       1236,   -30.0006,   -33.9674,       2205,   400.1,  12.6565,  35.1776,2,  35.1779,2,    214.2,2,     214,2,     3.6,2,    10.7,2,    0.00,2,   0.657,4,   3.023,2,   1.702,2,   1.222,2,     2123.2,2,  2316.7,2,  -999.0,9, -999.00,   7.8396,2,       25,-999.000,1,-999.0000,1, -999.00,9,  -999.0,9,  -999.0,   1.057,3, -999.00,1,  51.8829,2, -999.00,9,  400.10,  -999.0,9,  12.6019,     26.610,    35.3437,2,     -999.0,9,     -999.0,9,     -999.0,     -999.0,9,     -999.0
33RO20110926,        A10,      85,          1,         14,      11708,2,20111022,       1236,   -30.0006,   -33.9674,       2205,   514.2,  10.8071,  34.9163,2,  34.9167,2,    211.2,2,   211.8,2,     5.5,2,    15.3,2,    0.00,2,   0.896,4,   3.183,2,   1.735,2,   1.118,2,     2135.5,2,  2304.4,2,  -999.0,9, -999.00,   7.7855,2,       25,-999.000,1,-999.0000,1, -999.00,9,  -999.0,9,  -999.0,   1.324,3, -999.00,1,  47.2488,2, -999.00,9,  514.20,  -999.0,9,  10.7436,     26.757,    35.0813,2,     -999.0,9,     -999.0,9,     -999.0,     -999.0,9,     -999.0
33RO20110926,        A10,      85,          1,         13,      11031,2,20111022,       1236,   -30.0006,   -33.9674,       2205,   600.8,   8.7963,  34.6536,2,  34.6541,2,    208.5,2,   208.2,2,     8.5,2,    20.3,2,    0.00,2,   1.170,4,   3.280,2,   1.723,2,   1.007,2,     2150.4,2,  2292.8,2,  -999.0,9, -999.00,   7.7264,2,       25,-999.000,1,-999.0000,1, -999.00,9,  -999.0,9,  -999.0,   1.855,3, -999.00,1,  44.5854,2, -999.00,9,  600.80,  -999.0,9,   8.7307,     26.889,    34.8175,2,     -999.0,9,     -999.0,9,     -999.0,     -999.0,9,     -999.0
33RO20110926,        A10,      85,          1,         12,      11027,2,20111022,       1236,   -30.0006,   -33.9674,       2205,   708.9,   6.8139,  34.4495,2,  34.4469,2,    213.7,2,   211.1,2,    13.1,6,    25.0,6,    0.00,6,   1.415,4,   3.213,2,   1.635,2,   0.787,2,       2164,2,  2287.4,2,  -999.0,9, -999.00,   7.6783,2,       25,-999.000,1,-999.0000,1, -999.00,9,  -999.0,9,  -999.0,   2.451,3, -999.00,1,  41.7561,2, -999.00,9,  708.90,  -999.0,9,   6.7466,     27.018,    34.6094,2,     -999.0,9,     -999.0,9,     -999.0,     -999.0,9,     -999.0
33RO20110926,        A10,      85,          1,         11,      11707,2,20111022,       1236,   -30.0006,   -33.9674,       2205,   801.7,   5.4625,  34.3462,2,  34.3465,2,    217.8,2,   217.6,2,    18.2,2,    27.7,2,    0.00,2,   1.610,4,   3.061,2,   1.517,2,   0.696,2,       2174,2,  2287.2,2,  -999.0,9, -999.00,   7.6553,2,       25,-999.000,1,-999.0000,1, -999.00,9,  -999.0,9,  -999.0,   2.857,3, -999.00,1,   42.722,2, -999.00,9,  801.70,  -999.0,9,   5.3942,     27.110,    34.5084,2,     -999.0,9,     -999.0,9,     -999.0,     -999.0,9,     -999.0
33RO20110926,        A10,      85,          1,         10,      11003,2,20111022,       1236,   -30.0006,   -33.9674,       2205,   899.5,   4.6279,  34.3160,2,  34.3163,2,    216.4,2,   216.3,2,    24.3,2,    29.5,2,    0.00,2,   1.747,4,   2.668,2,   1.308,2,   0.492,2,       2182,2,  2286.5,2,  -999.0,9, -999.00,   7.6394,2,       25,-999.000,1,-999.0000,1, -999.00,9,  -999.0,9,  -999.0,   2.742,3, -999.00,1,  39.6293,2, -999.00,9,  899.50,  -999.0,9,   4.5564,     27.183,    34.4781,2,     -999.0,9,     -999.0,9,     -999.0,     -999.0,9,     -999.0
33RO20110926,        A10,      85,          1,          9,      11706,2,20111022,       1236,   -30.0006,   -33.9674,       2205,   999.2,   4.1413,  34.3311,2,  34.3324,2,    209.1,2,   208.4,2,    30.7,2,    30.8,2,    0.00,2,   1.862,4,   2.150,6,   1.048,6,   0.387,6,     2195.3,2,  2289.8,2,  -999.0,9, -999.00,   7.5974,4,       25,-999.000,1,-999.0000,1, -999.00,9,  -999.0,9,  -999.0,   2.463,3, -999.00,1,-999.0000,5, -999.00,9,  999.20,  -999.0,9,   4.0649,     27.248,    34.4942,2,     -999.0,9,     -999.0,9,     -999.0,     -999.0,9,     -999.0
33RO20110926,        A10,      85,          1,          8,      11033,2,20111022,       1236,   -30.0006,   -33.9674,       2205,  1155.4,   3.4741,  34.4001,2,  34.4003,2,    196.0,2,   195.6,2,    42.5,2,    32.5,2,    0.00,2,   2.031,4,   1.234,2,   0.599,2,   0.199,2,     2214.8,6,  2305.9,2,  -999.0,9, -999.00,   7.5954,2,       25,-999.000,9,-999.0000,1, -999.00,9,  -999.0,9,  -999.0,   1.725,3, -999.00,9,  39.6683,2, -999.00,9, 1155.40,  -999.0,9,   3.3902,     27.370,    34.5625,2,     -999.0,9,     -999.0,9,     -999.0,     -999.0,9,     -999.0
33RO20110926,        A10,      85,          1,          7,      11705,2,20111022,       1236,   -30.0006,   -33.9674,       2205,  1300.6,   3.1416,  34.4873,2,  34.4882,2,    188.6,2,   189.5,2,    50.5,2,    32.6,2,    0.00,2,   2.085,4,   0.675,2,   0.326,2,   0.091,2,     2223.8,2,  2316.1,6,  -999.0,9, -999.00,   7.5924,6,       25,-999.000,1,-999.0000,1, -999.00,9,  -999.0,9,  -999.0,   1.128,3, -999.00,9,  40.2829,2, -999.00,9, 1300.60,  -999.0,9,   3.0489,     27.470,    34.6509,6,     -999.0,9,     -999.0,9,     -999.0,     -999.0,9,     -999.0
33RO20110926,        A10,      85,          1,          6,      11029,2,20111022,       1236,   -30.0006,   -33.9674,       2205,  1448.6,   2.9852,  34.5825,2,  34.5824,2,    188.4,2,   188.4,2,    53.4,6,    31.4,6,    0.00,6,   2.043,4,   0.328,2,   0.158,2,   0.043,2,     2226.7,2,    2321,2,  -999.0,9, -999.00,   7.5984,2,       25,-999.000,9,-999.0000,1, -999.00,9,  -999.0,9,  -999.0,   0.716,3, -999.00,9,  42.3805,2, -999.00,9, 1448.60,  -999.0,9,   2.8817,     27.562,    34.7455,2,     -999.0,9,     -999.0,9,     -999.0,     -999.0,9,     -999.0
33RO20110926,        A10,      85,          1,          5,      11704,2,20111022,       1236,   -30.0006,   -33.9674,       2205,  1624.0,   2.8879,  34.6637,2,  34.6644,2,    193.3,2,   193.9,2,    54.4,2,    29.9,2,    0.00,2,   1.976,4,   0.154,2,   0.075,2,   0.000,2,     2224.2,2,    2328,2,  -999.0,9, -999.00,   7.6182,2,       25,-999.000,1,-999.0000,1, -999.00,9,  -999.0,9,  -999.0,   0.445,3, -999.00,9,  43.5317,2, -999.00,9, 1624.00,  -999.0,9,   2.7707,     27.638,    34.8279,2,     -999.0,9,     -999.0,9,     -999.0,     -999.0,9,     -999.0
33RO20110926,        A10,      85,          1,          4,      11030,2,20111022,       1236,   -30.0006,   -33.9674,       2205,  1774.4,   2.8280,  34.7258,2,  34.7265,2,    202.5,2,   202.9,2,    53.1,2,    28.7,2,    0.00,2,   1.883,4,   0.079,2,   0.040,2,   0.026,2,     2217.9,2,  2329.9,2,  -999.0,9, -999.00,   7.6392,2,       25,-999.000,9,-999.0000,1, -999.00,9,  -999.0,9,  -999.0,   0.310,3, -999.00,9,  41.0244,2, -999.00,9, 1774.40,  -999.0,9,   2.6986,     27.694,    34.8903,2,     -999.0,9,     -999.0,9,     -999.0,     -999.0,9,     -999.0
33RO20110926,        A10,      85,          1,          3,      11703,2,20111022,       1236,   -30.0006,   -33.9674,       2205,  1900.9,   2.8024,  34.7687,2,  34.7692,2,    210.5,2,   210.7,2,    50.2,2,    27.2,2,    0.00,2,   1.789,4,   0.050,2,   0.025,2,   0.000,2,     2211.6,2,  2330.8,2,  -999.0,9, -999.00,   7.6563,2,       25,-999.000,1,-999.0000,1, -999.00,9,  -999.0,9,  -999.0,   0.251,3, -999.00,9,  41.2293,2, -999.00,9, 1900.90,  -999.0,9,   2.6622,     27.731,    34.9332,2,     -999.0,9,     -999.0,9,     -999.0,     -999.0,9,     -999.0
33RO20110926,        A10,      85,          1,          2,      11702,2,20111022,       1236,   -30.0006,   -33.9674,       2205,  1999.5,   2.8128,  34.7887,2,  34.7889,2,    214.9,2,   214.2,2,    48.8,6,    26.2,6,    0.00,6,   1.720,4,   0.045,2,   0.024,2,   0.000,2,     2209.2,2,    2331,2,  -999.0,9, -999.00,   7.6663,2,       25,-999.000,1,-999.0000,1, -999.00,9,  -999.0,9,  -999.0,   0.244,3, -999.00,9,  41.5512,2, -999.00,9, 1999.50,  -999.0,9,   2.6636,     27.747,    34.9529,2,     -999.0,9,     -999.0,9,     -999.0,     -999.0,9,     -999.0
33RO20110926,        A10,      85,          1,          1,      11701,2,20111022,       1236,   -30.0006,   -33.9674,       2205,  2206.3,   2.8245,  34.8272,2,  34.8283,2,    223.1,2,   224.2,2,    45.4,2,    25.3,2,    0.00,2,   1.647,4,   0.034,6,   0.018,6,   0.000,6,       2202,6,  2329.8,6,  -999.0,9, -999.00,   7.6823,6,       25,-999.000,1,-999.0000,1, -999.00,9,  -999.0,9,  -999.0,   0.202,3, -999.00,9,  40.8195,2, -999.00,9, 2206.30,  -999.0,9,   2.6561,     27.779,    34.9925,2,     -999.0,9,     -999.0,9,     -999.0,     -999.0,9,     -999.0