BOTTLE,20220815CCHSIOAMB
EXPOCODE,SECT_ID,STNNBR,CASTNO,SAMPNO,BTLNBR,BTLNBR_FLAG_W,DATE,TIME,LATITUDE,LONGITUDE,DEPTH,CTDPRS,CTDTMP,CTDSAL,CTDSAL_FLAG_W,SALNTY,SALNTY_FLAG_W,CTDOXY,CTDOXY_FLAG_W,OXYGEN,OXYGEN_FLAG_W,SILCAT,SILCAT_FLAG_W,NITRAT,NITRAT_FLAG_W,NITRIT,NITRIT_FLAG_W,PHSPHT,PHSPHT_FLAG_W,CFC-11,CFC-11_FLAG_W,CFC-12,CFC-12_FLAG_W,SF6,SF6_FLAG_W,TCARBN,TCARBN_FLAG_W,ALKALI,ALKALI_FLAG_W,PCO2,PCO2_FLAG_W,PCO2TMP,PH_SWS,PH_SWS_FLAG_W,PH_TMP,TRITUM,TRITUM_FLAG_W,HELIUM,HELIUM_FLAG_W,DELC13,DELC13_FLAG_W,DELC14,DELC14_FLAG_W,C14ERR,CCL4,CCL4_FLAG_W,DELO18,DELO18_FLAG_W,DOC,DOC_FLAG_W,TDN,TDN_FLAG_W,CTDRAW,14C-DOC,14C-DOC_FLAG_W,THETA,SIG0,SALTREF,SALTREF_FLAG_W,BLACKC,BLACKC_FLAG_W,PIGMENTS,PIGMENTS_FLAG_W,14C-DOCERR,13C-DOC,13C-DOC_FLAG_W,13C-DOCERR
,,,,,,,,,,,METERS,DBAR,ITS-90,PSS-78,,PSS-78,,UMOL/KG,,UMOL/KG,,UMOL/KG,,UMOL/KG,,UMOL/KG,,UMOL/KG,,PMOL/KG,,PMOL/KG,,FMOL/KG,,UMOL/KG,,UMOL/KG,,UATM,,DEG C,,,DEG C,TU,,NMOL/KG,,/MILLE,,/MILLE,,/MILLE,PMOL/KG,,/MILLE,,UMOL/KG,,UMOL/KG,,DBAR,/MILLE,,DEG C,KG/M^3,G/KG,,,,,,/MILLE,/MILLE,,/MILLE
33RO20110926,        A10,      64,          1,         24,      11714,2,20111016,       1656,   -29.9998,   -21.2635,       4752,     4.2,  19.5633,  36.3136,2,  36.3110,2,    226.5,2,   229.7,2,     1.2,2,     0.0,2,    0.01,2,   0.096,4,   2.150,2,   1.324,2,   1.351,2,       2088,6,    2385,2,  -999.0,9, -999.00,   8.0175,6,       25,-999.000,9,-999.0000,9, -999.00,9,  -999.0,9,  -999.0,   3.177,4, -999.00,9,-999.0000,9, -999.00,9,    4.20,  -999.0,9,  19.5625,     25.877,    36.4822,2,     -999.0,9,     -999.0,1,     -999.0,     -999.0,9,     -999.0
33RO20110926,        A10,      64,          1,         23,      11713,2,20111016,       1656,   -29.9998,   -21.2635,       4752,    50.6,  19.2808,  36.2820,2,  36.2812,2,    226.1,2,   230.9,2,     1.3,2,     0.0,2,    0.01,2,   0.108,4,-999.000,9,-999.000,9,-999.000,9,     2088.4,2,  2381.3,2,  -999.0,9, -999.00,    8.014,2,       25,-999.000,9,-999.0000,9, -999.00,9,  -999.0,9,  -999.0,-999.000,5, -999.00,9,-999.0000,9, -999.00,9,   50.60,  -999.0,9,  19.2716,     25.930,    36.4523,2,     -999.0,9,     -999.0,9,     -999.0,     -999.0,9,     -999.0
33RO20110926,        A10,      64,          1,         22,      11712,2,20111016,       1656,   -29.9998,   -21.2635,       4752,   110.0,  18.0667,  36.0312,2,  36.0245,2,    228.3,2,   235.4,4,     1.3,2,     0.2,2,    0.01,2,   0.124,4,   2.324,2,   1.404,2,   1.469,2,-999.000000,9,  2367.4,2,  -999.0,9, -999.00,    7.996,2,       25,-999.000,9,-999.0000,9, -999.00,9,  -999.0,9,  -999.0,   3.099,4, -999.00,9,-999.0000,9, -999.00,9,  110.00,  -999.0,9,  18.0476,     26.046,    36.1944,2,     -999.0,9,     -999.0,1,     -999.0,     -999.0,9,     -999.0
33RO20110926,        A10,      64,          1,         21,      11010,2,20111016,       1656,   -29.9998,   -21.2635,       4752,   180.5,  16.0631,  35.6312,2,  35.6252,2,    217.8,2,   218.4,2,     2.0,2,     3.3,2,    0.03,2,   0.306,4,-999.000,9,-999.000,9,-999.000,9,       2102,2,  2341.3,2,  -999.0,9, -999.00,   7.9178,2,       25,-999.000,9,-999.0000,9, -999.00,9,  -999.0,9,  -999.0,-999.000,5, -999.00,9,-999.0000,9, -999.00,9,  180.50,  -999.0,9,  16.0344,     26.221,    35.7932,2,     -999.0,9,     -999.0,9,     -999.0,     -999.0,9,     -999.0
33RO20110926,        A10,      64,          1,         20,      11715,2,20111016,       1656,   -29.9998,   -21.2635,       4752,   249.9,  14.2746,  35.3791,2,  35.3778,2,    216.0,2,   217.5,2,     2.4,6,     6.3,6,    0.02,6,   0.433,4,   2.807,2,   1.643,2,   1.403,2,-999.000000,9,  2327.2,2,  -999.0,9, -999.00,   7.8748,2,       25,-999.000,9,-999.0000,9, -999.00,9,  -999.0,9,  -999.0,   0.911,3, -999.00,9,-999.0000,9, -999.00,9,  249.90,  -999.0,9,  14.2378,     26.428,    35.5446,2,     -999.0,9,     -999.0,9,     -999.0,     -999.0,9,     -999.0
33RO20110926,        A10,      64,          1,         19,      11007,2,20111016,       1656,   -29.9998,   -21.2635,       4752,   319.7,  13.4875,  35.2955,2,  35.2960,2,    218.1,2,   219.9,2,     2.8,2,     7.9,2,    0.01,2,   0.518,4,-999.000,9,-999.000,9,-999.000,9,     2117.8,2,    2322,2,  -999.0,9, -999.00,   7.8618,2,       25,-999.000,9,-999.0000,9, -999.00,9,  -999.0,9,  -999.0,-999.000,9, -999.00,9,-999.0000,9, -999.00,9,  319.70,  -999.0,9,  13.4421,     26.529,    35.4624,2,     -999.0,9,     -999.0,9,     -999.0,     -999.0,9,     -999.0
33RO20110926,        A10,      64,          1,         18,      11710,2,20111016,       1656,   -29.9998,   -21.2635,       4752,   419.7,  12.0842,  35.0924,2,  35.0878,2,    212.2,2,   216.2,2,     4.1,6,    11.7,6,    0.01,6,   0.693,4,-999.000,9,-999.000,9,-999.000,9,-999.000000,9,    2312,2,  -999.0,9, -999.00,   7.8187,2,       25,-999.000,9,-999.0000,9, -999.00,9,  -999.0,9,  -999.0,-999.000,9, -999.00,9,-999.0000,9, -999.00,9,  419.70,  -999.0,9,  12.0286,     26.655,    35.2532,2,     -999.0,9,     -999.0,9,     -999.0,     -999.0,9,     -999.0
33RO20110926,        A10,      64,          1,         17,      11023,2,20111016,       1656,   -29.9998,   -21.2635,       4752,   515.7,  10.3272,  34.8474,2,  34.8422,2,    208.8,2,   209.4,2,     6.7,2,    16.7,2,    0.01,2,   0.946,4,   3.190,2,   1.735,2,   1.132,2,     2143.6,2,  2302.8,2,  -999.0,9, -999.00,   7.7665,2,       25,-999.000,9,-999.0000,9, -999.00,9,  -999.0,9,  -999.0,   1.308,3, -999.00,9,-999.0000,9, -999.00,9,  515.70,  -999.0,9,  10.2653,     26.781,    35.0065,2,     -999.0,9,     -999.0,9,     -999.0,     -999.0,9,     -999.0
33RO20110926,        A10,      64,          1,         16,      11709,2,20111016,       1656,   -29.9998,   -21.2635,       4752,   620.0,   8.0012,  34.5624,2,  34.5582,2,    214.2,2,   212.6,2,     9.9,2,    22.3,2,    0.01,2,   1.234,4,-999.000,9,-999.000,9,-999.000,9,-999.000000,9,    2292,2,  -999.0,9, -999.00,   7.7104,2,       25,-999.000,9,-999.0000,9, -999.00,9,  -999.0,9,  -999.0,-999.000,9, -999.00,9,-999.0000,9, -999.00,9,  620.00,  -999.0,9,   7.9371,     26.937,    34.7212,2,     -999.0,9,     -999.0,9,     -999.0,     -999.0,9,     -999.0
33RO20110926,        A10,      64,          1,         15,      11006,2,20111016,       1656,   -29.9998,   -21.2635,       4752,   720.4,   6.1548,  34.3901,2,  34.3910,2,    214.2,2,   215.3,2,    15.5,2,    26.4,2,    0.01,2,   1.482,4,   3.215,2,   1.646,2,   0.767,2,     2170.1,2,  2287.6,2,  -999.0,9, -999.00,   7.6593,2,       25,-999.000,9,-999.0000,9, -999.00,9,  -999.0,9,  -999.0,   2.767,3, -999.00,9,-999.0000,9, -999.00,9,  720.40,  -999.0,9,   6.0900,     27.058,    34.5531,2,     -999.0,9,     -999.0,9,     -999.0,     -999.0,9,     -999.0
33RO20110926,        A10,      64,          1,         14,      11708,2,20111016,       1656,   -29.9998,   -21.2635,       4752,   818.8,   4.9238,  34.3151,2,  34.3152,2,    218.0,2,   219.8,2,    21.7,2,    28.8,2,    0.01,2,   1.647,4,-999.000,9,-999.000,9,-999.000,9,-999.000000,9,  2290.5,2,  -999.0,9, -999.00,   7.6533,2,       25,-999.000,9,-999.0000,9, -999.00,9,  -999.0,9,  -999.0,-999.000,9, -999.00,9,-999.0000,9, -999.00,9,  818.80,  -999.0,9,   4.8574,     27.148,    34.4770,2,     -999.0,9,     -999.0,9,     -999.0,     -999.0,9,     -999.0
33RO20110926,        A10,      64,          1,         13,      11031,2,20111016,       1656,   -29.9998,   -21.2635,       4752,   970.2,   3.9997,  34.3296,2,  34.3296,2,    209.0,2,   208.8,2,    32.5,2,    31.2,2,    0.01,2,   1.851,4,   2.115,2,   1.042,2,   0.430,2,     2198.3,2,  2300.5,2,  -999.0,9, -999.00,   7.6262,2,       25,-999.000,9,-999.0000,9, -999.00,9,  -999.0,9,  -999.0,   2.577,3, -999.00,9,-999.0000,9, -999.00,9,  970.20,  -999.0,9,   3.9268,     27.260,    34.4914,2,     -999.0,9,     -999.0,9,     -999.0,     -999.0,9,     -999.0
33RO20110926,        A10,      64,          1,         12,      11027,2,20111016,       1656,   -29.9998,   -21.2635,       4752,  1119.6,   3.5144,  34.3936,2,  34.3935,2,    196.1,2,     196,2,    42.7,2,    32.5,2,    0.01,2,   1.999,4,-999.000,9,-999.000,9,-999.000,9,     2211.9,2,  2309.6,2,  -999.0,9, -999.00,   7.5942,2,       25,-999.000,9,-999.0000,9, -999.00,9,  -999.0,9,  -999.0,-999.000,9, -999.00,9,-999.0000,9, -999.00,9, 1119.60,  -999.0,9,   3.4330,     27.360,    34.5557,2,     -999.0,9,     -999.0,9,     -999.0,     -999.0,9,     -999.0
33RO20110926,        A10,      64,          1,         11,      11707,2,20111016,       1656,   -29.9998,   -21.2635,       4752,  1319.7,   3.1202,  34.5266,2,  34.5223,2,    185.5,2,   185.4,2,    52.5,2,    32.5,2,    0.01,2,   2.068,4,   0.557,2,   0.267,2,   0.060,2,       2227,2,    2318,2,  -999.0,9, -999.00,   7.5844,2,       25,-999.000,9,-999.0000,9, -999.00,9,  -999.0,9,  -999.0,   1.067,3, -999.00,9,-999.0000,9, -999.00,9, 1319.70,  -999.0,9,   3.0260,     27.501,    34.6851,2,     -999.0,9,     -999.0,9,     -999.0,     -999.0,9,     -999.0
33RO20110926,        A10,      64,          1,         10,      11003,2,20111016,       1656,   -29.9998,   -21.2635,       4752,  1549.1,   2.9476,  34.6523,2,  34.6526,2,    190.6,2,   191.6,2,    54.1,6,    30.2,6,    0.01,6,   1.973,4,-999.000,9,-999.000,9,-999.000,9,     2225.5,2,  2327.1,6,  -999.0,9, -999.00,   7.6104,6,       25,-999.000,9,-999.0000,9, -999.00,9,  -999.0,9,  -999.0,-999.000,9, -999.00,9,-999.0000,9, -999.00,9, 1549.10,  -999.0,9,   2.8360,     27.623,    34.8160,2,     -999.0,9,     -999.0,9,     -999.0,     -999.0,9,     -999.0
33RO20110926,        A10,      64,          1,          9,      11706,2,20111016,       1656,   -29.9998,   -21.2635,       4752,  1800.8,   2.7945,  34.7504,2,  34.7504,2,    206.0,2,     208,2,    51.9,2,    27.8,2,    0.01,2,   1.816,4,   0.067,2,   0.034,2,   0.000,2,-999.000000,9,  2326.3,4,  -999.0,9, -999.00,   7.6424,2,       25,-999.000,9,-999.0000,9, -999.00,9,  -999.0,9,  -999.0,   0.237,3, -999.00,9,-999.0000,9, -999.00,9, 1800.80,  -999.0,9,   2.6632,     27.716,    34.9143,2,     -999.0,9,     -999.0,9,     -999.0,     -999.0,9,     -999.0
33RO20110926,        A10,      64,          1,          8,      11033,2,20111016,       1656,   -29.9998,   -21.2635,       4752,  2049.1,   2.7354,  34.8082,2,  34.8069,2,    220.0,2,   220.1,2,    48.2,2,    25.8,2,    0.01,2,   1.681,4,-999.000,9,-999.000,9,-999.000,9,-999.000000,9,  2328.9,4,  -999.0,9, -999.00,   7.6695,2,       25,-999.000,9,-999.0000,9, -999.00,9,  -999.0,9,  -999.0,-999.000,9, -999.00,9,-999.0000,9, -999.00,9, 2049.10,  -999.0,9,   2.5829,     27.768,    34.9710,2,     -999.0,9,     -999.0,9,     -999.0,     -999.0,9,     -999.0
33RO20110926,        A10,      64,          1,          7,      11705,2,20111016,       1656,   -29.9998,   -21.2635,       4752,  2350.1,   2.7507,  34.8620,2,  34.8641,2,    234.6,2,   234.7,2,    42.2,2,    23.7,2,    0.01,2,   1.519,4,   0.012,2,   0.007,2,   0.019,2,     2192.6,2,  2324.2,4,  -999.0,9, -999.00,   7.6965,2,       25,-999.000,9,-999.0000,9, -999.00,9,  -999.0,9,  -999.0,   0.093,3, -999.00,9,-999.0000,9, -999.00,9, 2350.10,  -999.0,9,   2.5700,     27.815,    35.0285,2,     -999.0,9,     -999.0,9,     -999.0,     -999.0,9,     -999.0
33RO20110926,        A10,      64,          1,          6,      11029,2,20111016,       1656,   -29.9998,   -21.2635,       4752,  2645.0,   2.7672,  34.8918,2,  34.8914,2,    243.8,2,   243.4,2,    37.9,2,    22.3,2,    0.01,2,   1.417,4,-999.000,9,-999.000,9,-999.000,9,-999.000000,9,  2324.9,2,  -999.0,9, -999.00,   7.7136,2,       25,-999.000,9,-999.0000,9, -999.00,9,  -999.0,9,  -999.0,-999.000,9, -999.00,9,-999.0000,9, -999.00,9, 2645.00,  -999.0,9,   2.5576,     27.838,    35.0559,2,     -999.0,9,     -999.0,9,     -999.0,     -999.0,9,     -999.0
33RO20110926,        A10,      64,          1,          5,      11704,2,20111016,       1656,   -29.9998,   -21.2635,       4752,  2949.3,   2.7120,  34.9044,2,  34.9044,2,    248.5,2,   248.7,2,    36.5,6,    21.5,6,    0.01,6,   1.364,4,   0.005,2,   0.004,2,   0.019,2,     2181.4,2,  2325.7,2,  -999.0,9, -999.00,   7.7276,2,       25,-999.000,9,-999.0000,9, -999.00,9,  -999.0,9,  -999.0,   0.090,3, -999.00,9,-999.0000,9, -999.00,9, 2949.30,  -999.0,9,   2.4728,     27.856,    35.0690,2,     -999.0,9,     -999.0,9,     -999.0,     -999.0,9,     -999.0
33RO20110926,        A10,      64,          1,          4,      11030,2,20111016,       1656,   -29.9998,   -21.2635,       4752,  3349.5,   2.4524,  34.8888,2,  34.8887,2,    248.5,2,   248.4,2,    43.5,2,    22.3,2,    0.01,2,   1.447,4,   0.004,2,   0.004,2,   0.055,2,-999.000000,9,  2334.3,2,  -999.0,9, -999.00,   7.7264,2,       25,-999.000,9,-999.0000,9, -999.00,9,  -999.0,9,  -999.0,   0.059,3, -999.00,9,-999.0000,9, -999.00,9, 3349.50,  -999.0,9,   2.1774,     27.868,    35.0532,2,     -999.0,9,     -999.0,9,     -999.0,     -999.0,9,     -999.0
33RO20110926,        A10,      64,          1,          3,      11703,2,20111016,       1656,   -29.9998,   -21.2635,       4752,  3809.4,   1.8187,  34.8261,2,  34.8252,2,    238.8,2,     240,2,    67.5,2,    25.5,2,    0.01,2,   1.791,4,   0.012,6,   0.007,6,   0.194,6,     2211.3,2,  2347.3,2,  -999.0,9, -999.00,   7.6974,2,       25,-999.000,9,-999.0000,9, -999.00,9,  -999.0,9,  -999.0,   0.087,3, -999.00,9,-999.0000,9, -999.00,9, 3809.40,  -999.0,9,   1.5107,     27.869,    34.9894,2,     -999.0,9,     -999.0,9,     -999.0,     -999.0,9,     -999.0
33RO20110926,        A10,      64,          1,          2,      11702,2,20111016,       1656,   -29.9998,   -21.2635,       4752,  4149.2,   1.4199,  34.7808,2,  34.7802,2,    230.9,2,   231.7,2,    84.7,2,    27.9,2,    0.01,2,   2.045,4,   0.034,2,   0.018,2,   0.129,2,-999.000000,9,  2356.3,6,  -999.0,9, -999.00,   7.6693,6,       25,-999.000,9,-999.0000,9, -999.00,9,  -999.0,9,  -999.0,   0.083,3, -999.00,9,-999.0000,9, -999.00,9, 4149.20,  -999.0,9,   1.0862,     27.863,    34.9442,2,     -999.0,9,     -999.0,9,     -999.0,     -999.0,9,     -999.0
33RO20110926,        A10,      64,          1,          1,      11701,2,20111016,       1656,   -29.9998,   -21.2635,       4752,  4775.5,   1.2969,  34.7597,2,  34.7597,2,    227.5,2,   228.2,2,    93.0,2,    28.9,2,    0.01,2,   2.159,4,   0.061,2,   0.031,2,   0.132,2,     2238.9,6,  2360.6,2,  -999.0,9, -999.00,   7.6603,2,       25,-999.000,9,-999.0000,9, -999.00,9,  -999.0,9,  -999.0,   0.183,3, -999.00,9,-999.0000,9, -999.00,9, 4775.50,  -999.0,9,   0.8957,     27.858,    34.9236,6,     -999.0,9,     -999.0,9,     -999.0,     -999.0,9,     -999.0