BOTTLE,20220815CCHSIOAMB
EXPOCODE,SECT_ID,STNNBR,CASTNO,SAMPNO,BTLNBR,BTLNBR_FLAG_W,DATE,TIME,LATITUDE,LONGITUDE,DEPTH,CTDPRS,CTDTMP,CTDSAL,CTDSAL_FLAG_W,SALNTY,SALNTY_FLAG_W,CTDOXY,CTDOXY_FLAG_W,OXYGEN,OXYGEN_FLAG_W,SILCAT,SILCAT_FLAG_W,NITRAT,NITRAT_FLAG_W,NITRIT,NITRIT_FLAG_W,PHSPHT,PHSPHT_FLAG_W,CFC-11,CFC-11_FLAG_W,CFC-12,CFC-12_FLAG_W,SF6,SF6_FLAG_W,TCARBN,TCARBN_FLAG_W,ALKALI,ALKALI_FLAG_W,PCO2,PCO2_FLAG_W,PCO2TMP,PH_SWS,PH_SWS_FLAG_W,PH_TMP,TRITUM,TRITUM_FLAG_W,HELIUM,HELIUM_FLAG_W,DELC13,DELC13_FLAG_W,DELC14,DELC14_FLAG_W,C14ERR,CCL4,CCL4_FLAG_W,DELO18,DELO18_FLAG_W,DOC,DOC_FLAG_W,TDN,TDN_FLAG_W,CTDRAW,14C-DOC,14C-DOC_FLAG_W,THETA,SIG0,SALTREF,SALTREF_FLAG_W,BLACKC,BLACKC_FLAG_W,PIGMENTS,PIGMENTS_FLAG_W,14C-DOCERR,13C-DOC,13C-DOC_FLAG_W,13C-DOCERR
,,,,,,,,,,,METERS,DBAR,ITS-90,PSS-78,,PSS-78,,UMOL/KG,,UMOL/KG,,UMOL/KG,,UMOL/KG,,UMOL/KG,,UMOL/KG,,PMOL/KG,,PMOL/KG,,FMOL/KG,,UMOL/KG,,UMOL/KG,,UATM,,DEG C,,,DEG C,TU,,NMOL/KG,,/MILLE,,/MILLE,,/MILLE,PMOL/KG,,/MILLE,,UMOL/KG,,UMOL/KG,,DBAR,/MILLE,,DEG C,KG/M^3,G/KG,,,,,,/MILLE,/MILLE,,/MILLE
33RO20110926,        A10,      51,          2,         24,      11714,2,20111012,       1430,   -30.0001,   -11.1175,       3577,     4.5,  17.5369,  35.8650,2,  35.8655,2,    239.3,2,   240.1,2,     1.4,2,     0.1,2,    0.01,2,   0.153,2,   2.364,2,   1.441,2,   1.443,2,2086.689937,6,  2357.2,6,  -999.0,9, -999.00,   7.9769,6,       25,-999.000,9,-999.0000,9,    1.20,2,    42.0,2,     2.8,   3.129,4, -999.00,9,  61.3268,2,    4.11,2,    4.50,  -999.0,9,  17.5361,     26.049,    36.0346,2,     -999.0,9,     -999.0,1,     -999.0,     -999.0,9,     -999.0
33RO20110926,        A10,      51,          2,         23,      11713,2,20111012,       1430,   -30.0001,   -11.1175,       3577,    50.8,  17.4269,  35.8604,2,  35.8597,2,    239.4,2,   240.3,2,     1.4,2,     0.0,2,    0.01,2,   0.158,2,   2.402,2,   1.434,2,   1.384,2,2086.775334,2,  2354.4,2,  -999.0,9, -999.00,   7.9749,2,       25,-999.000,9,-999.0000,9, -999.00,9,  -999.0,9,  -999.0,   3.285,4, -999.00,9,  61.5415,2,    3.69,2,   50.80,  -999.0,9,  17.4184,     26.073,    36.0288,2,     -999.0,9,     -999.0,9,     -999.0,     -999.0,9,     -999.0
33RO20110926,        A10,      51,          2,         22,      11712,2,20111012,       1430,   -30.0001,   -11.1175,       3577,   100.7,  16.6115,  35.7611,2,  35.7597,2,    234.0,2,   232.9,2,     1.6,2,     0.7,2,    0.45,2,   0.235,2,   2.461,2,   1.466,2,   1.437,2,2091.682429,2,  2347.9,2,  -999.0,9, -999.00,   7.9589,2,       25,-999.000,9,-999.0000,9, -999.00,9,  -999.0,9,  -999.0,   2.344,4, -999.00,9,  58.5463,2,    4.78,2,  100.70,  -999.0,9,  16.5951,     26.192,    35.9283,2,     -999.0,9,     -999.0,1,     -999.0,     -999.0,9,     -999.0
33RO20110926,        A10,      51,          2,         21,      11010,2,20111012,       1430,   -30.0001,   -11.1175,       3577,   150.4,  16.1508,  35.6671,2,  35.6703,2,    232.8,2,   233.9,2,     1.7,2,     1.1,2,    0.31,2,   0.253,2,   2.511,2,   1.494,2,   1.462,2,2091.456141,2,  2341.5,2,  -999.0,9, -999.00,   7.9479,2,       25,-999.000,9,-999.0000,9, -999.00,9,  -999.0,9,  -999.0,   2.268,4, -999.00,9,   57.122,2,    5.52,2,  150.40,  -999.0,9,  16.1268,     26.236,    35.8385,2,     -999.0,9,     -999.0,1,     -999.0,     -999.0,9,     -999.0
33RO20110926,        A10,      51,          2,         20,      11715,2,20111012,       1430,   -30.0001,   -11.1175,       3577,   218.4,  14.2047,  35.3492,2,  35.3497,2,    218.4,2,   219.1,2,     2.6,6,     6.3,6,    0.01,6,   0.545,6,   2.812,2,   1.626,2,   1.378,2,2111.594277,2,  2323.6,2,  -999.0,9, -999.00,   7.8808,2,       25,-999.000,9,-999.0000,9, -999.00,9,  -999.0,9,  -999.0,   1.164,3, -999.00,9,  56.7512,2, -999.00,9,  218.40,  -999.0,9,  14.1727,     26.420,    35.5164,2,     -999.0,9,     -999.0,9,     -999.0,     -999.0,9,     -999.0
33RO20110926,        A10,      51,          2,         19,      11007,2,20111012,       1430,   -30.0001,   -11.1175,       3577,   290.4,  12.9980,  35.1784,2,  35.1805,2,    213.3,2,   213.1,2,     3.8,2,     9.6,2,    0.01,2,   0.756,2,   2.968,2,   1.679,2,   1.268,2,2122.988204,2,  2313.7,2,  -999.0,9, -999.00,   7.8407,2,       25,-999.000,9,-999.0000,9, -999.00,9,  -999.0,9,  -999.0,   1.106,3, -999.00,9,  53.1024,2, -999.00,9,  290.40,  -999.0,9,  12.9578,     26.542,    35.3464,2,     -999.0,9,     -999.0,9,     -999.0,     -999.0,9,     -999.0
33RO20110926,        A10,      51,          2,         18,      11710,2,20111012,       1430,   -30.0001,   -11.1175,       3577,   419.7,  10.7547,  34.8948,2,  34.8965,2,    207.5,2,   207.5,2,     6.1,6,    15.6,6,    0.01,6,   1.111,6,   3.150,2,   1.716,2,   1.143,2,2140.980139,2,  2304.2,2,  -999.0,9, -999.00,   7.7755,2,       25,-999.000,9,-999.0000,9, -999.00,9,  -999.0,9,  -999.0,   1.279,3, -999.00,9,  39.1512,3, -999.00,9,  419.70,  -999.0,9,  10.7032,     26.748,    35.0610,2,     -999.0,9,     -999.0,9,     -999.0,     -999.0,9,     -999.0
33RO20110926,        A10,      51,          2,         17,      11023,2,20111012,       1430,   -30.0001,   -11.1175,       3577,   550.3,   8.0708,  34.5740,2,  34.5771,2,    206.8,2,   207.6,2,    10.7,2,    22.2,2,    0.01,2,   1.540,2,   3.249,2,   1.727,2,   0.954,2, 2160.24171,2,  2292.4,2,  -999.0,9, -999.00,   7.7034,2,       25,-999.000,9,-999.0000,9, -999.00,9,  -999.0,9,  -999.0,   1.928,3, -999.00,9,  44.1659,2, -999.00,9,  550.30,  -999.0,9,   8.0139,     26.939,    34.7401,2,     -999.0,9,     -999.0,9,     -999.0,     -999.0,9,     -999.0
33RO20110926,        A10,      51,          2,         16,      11709,2,20111012,       1430,   -30.0001,   -11.1175,       3577,   699.4,   6.0652,  34.3981,2,  34.3992,2,    207.3,2,   206.5,2,    17.9,2,    27.2,2,    0.01,2,   1.867,2,   2.981,2,   1.534,2,   0.715,2,2177.893586,2,  2291.4,2,  -999.0,9, -999.00,   7.6523,2,       25,-999.000,9,-999.0000,9, -999.00,9,  -999.0,9,  -999.0,   2.311,3, -999.00,9,  43.7366,2, -999.00,9,  699.40,  -999.0,9,   6.0029,     27.077,    34.5614,2,     -999.0,9,     -999.0,9,     -999.0,     -999.0,9,     -999.0
33RO20110926,        A10,      51,          2,         15,      11006,2,20111012,       1430,   -30.0001,   -11.1175,       3577,   849.9,   4.3529,  34.3080,2,  34.3070,2,    217.1,2,   215.3,2,    27.0,2,    30.0,2,    0.01,2,   2.069,2,   2.613,2,   1.318,2,   0.573,2,2190.773339,2,  2295.1,2,  -999.0,9, -999.00,   7.6302,2,       25,-999.000,9,-999.0000,9, -999.00,9,  -999.0,9,  -999.0,   2.570,3, -999.00,9,  44.6146,2, -999.00,9,  849.90,  -999.0,9,   4.2875,     27.205,    34.4688,2,     -999.0,9,     -999.0,9,     -999.0,     -999.0,9,     -999.0
33RO20110926,        A10,      51,          2,         14,      11708,2,20111012,       1430,   -30.0001,   -11.1175,       3577,   999.5,   3.6410,  34.3640,2,  34.3634,2,    200.1,2,   200.3,2,    39.1,6,    32.0,6,    0.01,6,   2.217,6,   1.679,2,   0.825,2,   0.280,2,2211.948246,2,  2306.6,2,  -999.0,9, -999.00,   7.6022,2,       25,-999.000,9,-999.0000,9, -999.00,9,  -999.0,9,  -999.0,   1.917,3, -999.00,9,  39.9805,2, -999.00,9,  999.50,  -999.0,9,   3.5684,     27.323,    34.5255,2,     -999.0,9,     -999.0,9,     -999.0,     -999.0,9,     -999.0
33RO20110926,        A10,      51,          2,         13,      11031,2,20111012,       1430,   -30.0001,   -11.1175,       3577,  1150.7,   3.2196,  34.4565,2,  34.4558,2,    187.8,2,   187.6,2,    49.4,2,    32.8,2,    0.00,2,   2.266,2,   0.910,2,   0.442,2,   0.143,2,2227.144964,2,  2316.3,6,  -999.0,9, -999.00,   7.5878,6,       25,-999.000,9,-999.0000,9, -999.00,9,  -999.0,9,  -999.0,   1.268,3, -999.00,9,  38.1561,2, -999.00,9, 1150.70,  -999.0,9,   3.1383,     27.438,    34.6183,2,     -999.0,9,     -999.0,9,     -999.0,     -999.0,9,     -999.0
33RO20110926,        A10,      51,          2,         12,      11027,2,20111012,       1430,   -30.0001,   -11.1175,       3577,  1299.7,   3.0716,  34.5503,2,  34.5501,2,    183.5,2,   183.6,2,    53.9,2,    32.3,2,    0.00,2,   2.229,2,   0.472,2,   0.224,2,   0.073,2,2231.991954,6,    2322,2,  -999.0,9, -999.00,   7.5924,2,       25,-999.000,9,-999.0000,9, -999.00,9,  -999.0,9,  -999.0,   0.785,3, -999.00,9,  38.8098,2, -999.00,9, 1299.70,  -999.0,9,   2.9795,     27.528,    34.7130,2,     -999.0,9,     -999.0,9,     -999.0,     -999.0,9,     -999.0
33RO20110926,        A10,      51,          2,         11,      11707,2,20111012,       1430,   -30.0001,   -11.1175,       3577,  1450.4,   2.9814,  34.6340,2,  34.6338,2,    187.0,2,   186.8,2,    54.5,2,    31.2,2,    0.00,2,   2.134,2,   0.243,2,   0.116,2,   0.000,2,2230.667112,2,  2326.1,2,  -999.0,9, -999.00,   7.6074,2,       25,-999.000,9,-999.0000,9, -999.00,9,  -999.0,9,  -999.0,   0.490,3, -999.00,9,  37.8732,2, -999.00,9, 1450.40,  -999.0,9,   2.8777,     27.604,    34.7971,2,     -999.0,9,     -999.0,9,     -999.0,     -999.0,9,     -999.0
33RO20110926,        A10,      51,          2,         10,      11003,2,20111012,       1430,   -30.0001,   -11.1175,       3577,  1599.5,   2.8898,  34.6969,2,  34.6996,2,    195.0,2,   194.5,2,    54.2,2,    29.6,2,    0.00,2,   2.031,2,   0.144,2,   0.067,2,   0.000,2,2226.495042,2,  2329.3,2,  -999.0,9, -999.00,   7.6224,2,       25,-999.000,9,-999.0000,9, -999.00,9,  -999.0,9,  -999.0,   0.338,3, -999.00,9,  40.2439,2, -999.00,9, 1599.50,  -999.0,9,   2.7746,     27.666,    34.8632,2,     -999.0,9,     -999.0,9,     -999.0,     -999.0,9,     -999.0
33RO20110926,        A10,      51,          2,          9,      11706,2,20111012,       1430,   -30.0001,   -11.1175,       3577,  1750.6,   2.7955,  34.7515,2,  34.7545,2,    202.9,2,   204.6,2,    53.2,6,    28.1,6,    0.01,6,   1.921,6,   0.076,2,   0.036,2,   0.000,2,2221.075419,2,  2331.1,2,  -999.0,9, -999.00,   7.6424,2,       25,-999.000,9,-999.0000,9, -999.00,9,  -999.0,9,  -999.0,   0.221,3, -999.00,9,  40.4585,2, -999.00,9, 1750.60,  -999.0,9,   2.6685,     27.719,    34.9184,2,     -999.0,9,     -999.0,9,     -999.0,     -999.0,9,     -999.0
33RO20110926,        A10,      51,          2,          8,      11033,2,20111012,       1430,   -30.0001,   -11.1175,       3577,  1951.0,   2.6938,  34.7954,2,  34.7956,2,    212.5,2,   213.5,2,    52.1,2,    26.7,2,    0.00,2,   1.820,2,   0.035,2,   0.019,2,   0.000,2,2214.404244,2,  2334.7,2,  -999.0,9, -999.00,   7.6633,2,       25,-999.000,9,-999.0000,9, -999.00,9,  -999.0,9,  -999.0,   0.149,3, -999.00,9,  39.6098,3, -999.00,9, 1951.00,  -999.0,9,   2.5506,     27.762,    34.9597,2,     -999.0,9,     -999.0,9,     -999.0,     -999.0,9,     -999.0
33RO20110926,        A10,      51,          2,          7,      11705,2,20111012,       1430,   -30.0001,   -11.1175,       3577,  2149.9,   2.5915,  34.8222,2,  34.8235,2,    220.1,2,     222,2,    51.4,2,    25.4,2,    0.01,2,   1.743,2,   0.016,2,   0.009,2,   0.000,2,2209.933056,2,  2336.4,2,  -999.0,9, -999.00,   7.6783,2,       25,-999.000,9,-999.0000,9, -999.00,9,  -999.0,9,  -999.0,   0.097,3, -999.00,9,  40.9561,2, -999.00,9, 2149.90,  -999.0,9,   2.4320,     27.793,    34.9877,6,     -999.0,9,     -999.0,9,     -999.0,     -999.0,9,     -999.0
33RO20110926,        A10,      51,          2,          6,      11029,2,20111012,       1430,   -30.0001,   -11.1175,       3577,  2352.1,   2.5108,  34.8404,2,  34.8409,2,    226.4,2,   228.1,2,    50.6,2,    25.0,2,    0.00,2,   1.686,2,   0.009,2,   0.005,2,   0.023,2,  2205.6943,2,  2335.6,2,  -999.0,9, -999.00,   7.6914,2,       25,-999.000,9,-999.0000,9, -999.00,9,  -999.0,9,  -999.0,   0.069,3, -999.00,9,  40.8878,2, -999.00,9, 2352.10,  -999.0,9,   2.3341,     27.817,    35.0051,2,     -999.0,9,     -999.0,9,     -999.0,     -999.0,9,     -999.0
33RO20110926,        A10,      51,          2,          5,      11704,2,20111012,       1430,   -30.0001,   -11.1175,       3577,  2551.3,   2.4539,  34.8524,2,  34.8529,2,    231.3,2,   232.2,2,    50.1,2,    24.2,2,    0.01,2,   1.643,2,   0.007,2,   0.005,2,   0.030,2,2203.387212,2,  2340.9,4,  -999.0,9, -999.00,   7.7104,4,       25,-999.000,9,-999.0000,9, -999.00,9,  -999.0,9,  -999.0,   0.065,3, -999.00,9,  42.2732,2, -999.00,9, 2551.30,  -999.0,9,   2.2595,     27.833,    35.0172,2,     -999.0,9,     -999.0,9,     -999.0,     -999.0,9,     -999.0
33RO20110926,        A10,      51,          2,          4,      11030,2,20111012,       1430,   -30.0001,   -11.1175,       3577,  2849.3,   2.4059,  34.8611,2,  34.8614,2,    235.2,2,   235.7,2,    50.0,2,    23.8,2,    0.01,2,   1.613,2,   0.007,2,   0.004,2,   0.000,2,2201.202832,2,  -999.0,5,  -999.0,9, -999.00,-999.0000,5,  -999.00,-999.000,9,-999.0000,9, -999.00,9,  -999.0,9,  -999.0,   0.060,3, -999.00,9,  39.9707,2, -999.00,9, 2849.30,  -999.0,9,   2.1834,     27.846,    35.0258,2,     -999.0,9,     -999.0,9,     -999.0,     -999.0,9,     -999.0
33RO20110926,        A10,      51,          2,          3,      11703,2,20111012,       1430,   -30.0001,   -11.1175,       3577,  3100.7,   2.3770,  34.8649,2,  34.8653,2,    237.3,2,   237.3,2,    50.5,2,    23.6,2,    0.00,2,   1.603,2,   0.007,6,   0.004,6,   0.048,6,2201.279969,2,  2342.4,4,  -999.0,9, -999.00,   7.7164,2,       25,-999.000,9,-999.0000,9, -999.00,9,  -999.0,9,  -999.0,   0.067,3, -999.00,9,  41.3854,2, -999.00,9, 3100.70,  -999.0,9,   2.1298,     27.853,    35.0297,2,     -999.0,9,     -999.0,9,     -999.0,     -999.0,9,     -999.0
33RO20110926,        A10,      51,          2,          2,      11702,2,20111012,       1430,   -30.0001,   -11.1175,       3577,  3349.7,   2.3746,  34.8702,2,  34.8714,2,    237.4,2,   236.5,2,    50.4,6,    23.5,6,    0.00,6,   1.589,6,   0.005,2,   0.006,2,   0.074,2,2203.522747,2,  2342.5,6,  -999.0,9, -999.00,   7.7121,6,       25,-999.000,9,-999.0000,9, -999.00,9,  -999.0,9,  -999.0,   0.063,3, -999.00,9,  41.5415,2, -999.00,9, 3349.70,  -999.0,9,   2.1015,     27.860,    35.0358,2,     -999.0,9,     -999.0,9,     -999.0,     -999.0,9,     -999.0
33RO20110926,        A10,      51,          2,          1,      11701,2,20111012,       1430,   -30.0001,   -11.1175,       3577,  3589.3,   2.3871,  34.8729,2,  34.8777,3,    238.6,2,   236.1,2,    50.7,2,    23.5,2,    0.00,2,   1.588,2,   0.005,6,   0.004,6,   0.054,6,2205.608928,6,  2342.6,2,  -999.0,9, -999.00,   7.7176,2,       25,-999.000,9,-999.0000,9, -999.00,9,  -999.0,9,  -999.0,   0.047,3, -999.00,9,  40.2146,2, -999.00,9, 3589.30,  -999.0,9,   2.0880,     27.867,    35.0422,2,     -999.0,9,     -999.0,9,     -999.0,     -999.0,9,     -999.0