BOTTLE,20220815CCHSIOAMB
EXPOCODE,SECT_ID,STNNBR,CASTNO,SAMPNO,BTLNBR,BTLNBR_FLAG_W,DATE,TIME,LATITUDE,LONGITUDE,DEPTH,CTDPRS,CTDTMP,CTDSAL,CTDSAL_FLAG_W,SALNTY,SALNTY_FLAG_W,CTDOXY,CTDOXY_FLAG_W,OXYGEN,OXYGEN_FLAG_W,SILCAT,SILCAT_FLAG_W,NITRAT,NITRAT_FLAG_W,NITRIT,NITRIT_FLAG_W,PHSPHT,PHSPHT_FLAG_W,CFC-11,CFC-11_FLAG_W,CFC-12,CFC-12_FLAG_W,SF6,SF6_FLAG_W,TCARBN,TCARBN_FLAG_W,ALKALI,ALKALI_FLAG_W,PCO2,PCO2_FLAG_W,PCO2TMP,PH_SWS,PH_SWS_FLAG_W,PH_TMP,TRITUM,TRITUM_FLAG_W,HELIUM,HELIUM_FLAG_W,DELC13,DELC13_FLAG_W,DELC14,DELC14_FLAG_W,C14ERR,CCL4,CCL4_FLAG_W,DELO18,DELO18_FLAG_W,DOC,DOC_FLAG_W,TDN,TDN_FLAG_W,CTDRAW,14C-DOC,14C-DOC_FLAG_W,THETA,SIG0,SALTREF,SALTREF_FLAG_W,BLACKC,BLACKC_FLAG_W,PIGMENTS,PIGMENTS_FLAG_W,14C-DOCERR,13C-DOC,13C-DOC_FLAG_W,13C-DOCERR
,,,,,,,,,,,METERS,DBAR,ITS-90,PSS-78,,PSS-78,,UMOL/KG,,UMOL/KG,,UMOL/KG,,UMOL/KG,,UMOL/KG,,UMOL/KG,,PMOL/KG,,PMOL/KG,,FMOL/KG,,UMOL/KG,,UMOL/KG,,UATM,,DEG C,,,DEG C,TU,,NMOL/KG,,/MILLE,,/MILLE,,/MILLE,PMOL/KG,,/MILLE,,UMOL/KG,,UMOL/KG,,DBAR,/MILLE,,DEG C,KG/M^3,G/KG,,,,,,/MILLE,/MILLE,,/MILLE
33RO20110926,        A10,     109,          1,         24,      11714,2,20111028,       0507,   -28.5950,   -44.4165,       3715,     4.9,  20.7418,  36.4959,2,  36.5012,2,    223.6,2,   224.1,2,     0.8,2,     0.0,2,    0.00,2,   0.047,4,   2.073,2,   1.267,2,   1.282,2,     2083.6,6,  2393.1,2,  -999.0,9, -999.00,     8.03,2,       25,-999.000,9,-999.0000,9, -999.00,9,  -999.0,9,  -999.0,   2.854,4, -999.00,9,  62.6244,2,    3.96,2,    4.90,  -999.0,9,  20.7409,     25.709,    36.6733,2,     -999.0,9,     -999.0,1,     -999.0,     -999.0,9,     -999.0
33RO20110926,        A10,     109,          1,         23,      11713,2,20111028,       0507,   -28.5950,   -44.4165,       3715,    44.9,  19.6538,  36.3595,2,  36.3625,2,    230.2,2,   230.3,2,     0.7,2,     0.0,2,    0.00,2,   0.052,4,   2.164,2,   1.316,2,   1.346,2,     2080.2,2,  2383.8,6,  -999.0,9, -999.00,   8.0225,6,       25,-999.000,9,-999.0000,9, -999.00,9,  -999.0,9,  -999.0,   3.418,4, -999.00,9,  63.0049,2,    3.92,2,   44.90,  -999.0,9,  19.6455,     25.897,    36.5339,2,     -999.0,9,     -999.0,1,     -999.0,     -999.0,9,     -999.0
33RO20110926,        A10,     109,          1,         22,      11712,2,20111028,       0507,   -28.5950,   -44.4165,       3715,    79.7,  18.5075,  36.1624,2,  36.1654,2,    222.2,2,   211.8,2,     1.2,6,     1.8,6,    0.05,6,   0.148,4,   2.252,2,   1.371,2,   1.302,2,       2096,2,  2372.1,2,  -999.0,9, -999.00,   7.9799,2,       25,-999.000,9,-999.0000,9, -999.00,9,  -999.0,9,  -999.0,   1.276,4, -999.00,9,  54.6829,2,    5.41,2,   79.70,  -999.0,9,  18.4934,     26.041,    36.3360,2,     -999.0,9,     -999.0,1,     -999.0,     -999.0,9,     -999.0
33RO20110926,        A10,     109,          1,         21,      11010,2,20111028,       0507,   -28.5950,   -44.4165,       3715,   127.1,  17.8712,  36.0830,2,  36.0925,2,    221.3,2,   220.8,2,     1.0,6,     1.4,6,    0.02,6,   0.124,4,   2.324,2,   1.403,2,   1.383,2,       2091,2,  2367.5,2,  -999.0,9, -999.00,   7.9809,2,       25,-999.000,9,-999.0000,9, -999.00,9,  -999.0,9,  -999.0,   1.600,4, -999.00,9,  55.9707,2,    5.15,2,  127.10,  -999.0,9,  17.8494,     26.144,    36.2627,2,     -999.0,9,     -999.0,9,     -999.0,     -999.0,9,     -999.0
33RO20110926,        A10,     109,          1,         20,      11715,2,20111028,       0507,   -28.5950,   -44.4165,       3715,   180.0,  16.1945,  35.7168,2,  35.7204,2,    204.6,2,   204.9,2,     2.0,2,     4.7,2,    0.01,2,   0.310,4,   2.550,2,   1.505,2,   1.256,2,     2107.7,2,  2345.4,2,  -999.0,9, -999.00,   7.9158,2,       25,-999.000,9,-999.0000,9, -999.00,9,  -999.0,9,  -999.0,   0.855,4, -999.00,9,  49.8829,2,    8.94,2,  180.00,  -999.0,9,  16.1656,     26.262,    35.8888,2,     -999.0,9,     -999.0,9,     -999.0,     -999.0,9,     -999.0
33RO20110926,        A10,     109,          1,         19,      11007,2,20111028,       0507,   -28.5950,   -44.4165,       3715,   270.1,  14.1980,  35.3955,2,  35.3967,2,    204.2,2,   203.9,2,     3.0,2,     8.5,2,    0.01,2,   0.490,4,   2.832,2,   1.620,2,   1.163,2,     2118.7,2,  2327.7,2,  -999.0,9, -999.00,   7.8647,2,       25,-999.000,9,-999.0000,9, -999.00,9,  -999.0,9,  -999.0,   0.730,3, -999.00,9,  50.1854,2, -999.00,9,  270.10,  -999.0,9,  14.1583,     26.461,    35.5636,2,     -999.0,9,     -999.0,9,     -999.0,     -999.0,9,     -999.0
33RO20110926,        A10,     109,          1,         18,      11710,2,20111028,       0507,   -28.5950,   -44.4165,       3715,   339.9,  13.0955,  35.2478,2,  35.2517,2,    206.9,2,   206.8,2,     3.5,2,    10.6,2,    0.01,2,   0.583,4,   2.942,2,   1.651,2,   1.135,2,     2124.9,2,    2321,2,  -999.0,9, -999.00,   7.8407,2,       25,-999.000,9,-999.0000,9, -999.00,9,  -999.0,9,  -999.0,   0.842,3, -999.00,9,  47.6488,2, -999.00,9,  339.90,  -999.0,9,  13.0481,     26.578,    35.4180,2,     -999.0,9,     -999.0,9,     -999.0,     -999.0,9,     -999.0
33RO20110926,        A10,     109,          1,         17,      11023,2,20111028,       0507,   -28.5950,   -44.4165,       3715,   440.6,  11.2734,  34.9786,2,  34.9771,2,    202.4,2,   203.2,2,     5.5,2,    15.1,2,    0.00,2,   0.795,4,   3.075,2,   1.668,2,   1.027,2,     2137.1,2,  2307.8,2,  -999.0,9, -999.00,   7.7887,2,       25,-999.000,9,-999.0000,9, -999.00,9,  -999.0,9,  -999.0,   1.091,3, -999.00,9,  45.8634,2, -999.00,9,  440.60,  -999.0,9,  11.2176,     26.718,    35.1420,2,     -999.0,9,     -999.0,9,     -999.0,     -999.0,9,     -999.0
33RO20110926,        A10,     109,          1,         16,      11709,2,20111028,       0507,   -28.5950,   -44.4165,       3715,   538.6,   9.1128,  34.6990,2,  34.7025,2,    202.4,2,   202.5,2,     8.7,2,    20.2,2,    0.00,2,   1.052,4,   3.129,2,   1.645,2,   0.838,2,     2151.9,2,  2294.7,2,  -999.0,9, -999.00,   7.7304,2,       25,-999.000,9,-999.0000,9, -999.00,9,  -999.0,9,  -999.0,   1.611,3, -999.00,9,  42.6439,2, -999.00,9,  538.60,  -999.0,9,   9.0529,     26.877,    34.8662,2,     -999.0,9,     -999.0,9,     -999.0,     -999.0,9,     -999.0
33RO20110926,        A10,     109,          1,         15,      11006,2,20111028,       0507,   -28.5950,   -44.4165,       3715,   639.6,   7.0850,  34.4693,2,  34.4717,2,    214.3,2,   214.3,2,    11.9,2,    24.3,2,    0.00,2,   1.259,4,   3.238,2,   1.671,2,   0.862,2,     2160.8,2,    2288,2,  -999.0,9, -999.00,   7.6974,2,       25,-999.000,9,-999.0000,9, -999.00,9,  -999.0,9,  -999.0,   2.418,3, -999.00,9,  39.9415,2, -999.00,9,  639.60,  -999.0,9,   7.0233,     26.998,    34.6343,2,     -999.0,9,     -999.0,9,     -999.0,     -999.0,9,     -999.0
33RO20110926,        A10,     109,          1,         14,      11708,2,20111028,       0507,   -28.5950,   -44.4165,       3715,   741.1,   5.4422,  34.3229,2,  34.3279,2,    226.3,2,   227.4,2,    16.0,2,    27.0,2,    0.00,2,   1.421,4,   3.258,2,   1.652,2,   0.803,2,       2167,2,  2284.8,2,  -999.0,9, -999.00,   7.6663,2,       25,-999.000,9,-999.0000,9, -999.00,9,  -999.0,9,  -999.0,   3.043,3, -999.00,9,   37.239,2, -999.00,9,  741.10,  -999.0,9,   5.3795,     27.097,    34.4898,2,     -999.0,9,     -999.0,9,     -999.0,     -999.0,9,     -999.0
33RO20110926,        A10,     109,          1,         13,      11031,2,20111028,       0507,   -28.5950,   -44.4165,       3715,   841.4,   4.7115,  34.3132,2,  34.3148,2,    219.2,2,   218.3,2,    22.6,2,    29.3,2,    0.00,2,   1.587,4,   2.690,2,   1.331,2,   0.561,2,     2180.8,2,  2291.1,2,  -999.0,9, -999.00,   7.6404,2,       25,-999.000,9,-999.0000,9, -999.00,9,  -999.0,9,  -999.0,   2.809,3, -999.00,9,  42.7317,3, -999.00,9,  841.40,  -999.0,9,   4.6445,     27.170,    34.4766,6,     -999.0,9,     -999.0,9,     -999.0,     -999.0,9,     -999.0
33RO20110926,        A10,     109,          1,         12,      11027,2,20111028,       0507,   -28.5950,   -44.4165,       3715,   974.4,   3.9713,  34.3381,2,  34.3402,2,    206.7,2,   206.6,2,    32.6,2,    31.4,2,    0.00,2,   1.781,4,   1.872,2,   0.912,2,   0.348,2,     2198.1,2,  2300.2,2,  -999.0,9, -999.00,   7.6224,2,       25,-999.000,9,-999.0000,9, -999.00,9,  -999.0,9,  -999.0,   2.270,3, -999.00,9,     38.8,2, -999.00,9,  974.40,  -999.0,9,   3.8983,     27.270,    34.5021,3,     -999.0,9,     -999.0,9,     -999.0,     -999.0,9,     -999.0
33RO20110926,        A10,     109,          1,         11,      11707,2,20111028,       0507,   -28.5950,   -44.4165,       3715,  1110.8,   3.5674,  34.4158,2,  34.4149,2,    193.2,2,   192.4,2,    41.6,6,    32.5,6,    0.00,6,   1.908,4,   0.951,2,   0.458,2,   0.141,2,       2213,2,  -999.0,5,  -999.0,9, -999.00,-999.0000,5,  -999.00,-999.000,9,-999.0000,9, -999.00,9,  -999.0,9,  -999.0,   1.465,3, -999.00,9,  38.5268,2, -999.00,9, 1110.80,  -999.0,9,   3.4863,     27.372,    34.5772,3,     -999.0,9,     -999.0,9,     -999.0,     -999.0,9,     -999.0
33RO20110926,        A10,     109,          1,         10,      11003,2,20111028,       0507,   -28.5950,   -44.4165,       3715,  1324.1,   3.3822,  34.5611,2,  34.5620,2,    188.5,2,   188.5,2,    45.6,2,    31.5,2,    0.00,2,   1.912,4,   0.322,2,   0.154,2,   0.059,2,     2220.6,6,  2315.9,6,  -999.0,9, -999.00,   7.6013,6,       25,-999.000,9,-999.0000,9, -999.00,9,  -999.0,9,  -999.0,   0.733,3, -999.00,9,  39.9707,2, -999.00,9, 1324.10,  -999.0,9,   3.2849,     27.507,    34.7250,3,     -999.0,9,     -999.0,9,     -999.0,     -999.0,9,     -999.0
33RO20110926,        A10,     109,          1,          9,      11706,2,20111028,       0507,   -28.5950,   -44.4165,       3715,  1573.7,   3.0760,  34.6467,2,  34.6490,2,    192.4,2,   192.9,2,    51.0,2,    30.3,2,    0.00,2,   1.902,4,   0.194,2,   0.094,2,   0.000,2,     2221.4,2,  2325.4,2,  -999.0,9, -999.00,   7.6204,2,       25,-999.000,9,-999.0000,9, -999.00,9,  -999.0,9,  -999.0,   0.518,3, -999.00,9,  39.3659,2, -999.00,9, 1573.70,  -999.0,9,   2.9608,     27.608,    34.8124,2,     -999.0,9,     -999.0,9,     -999.0,     -999.0,9,     -999.0
33RO20110926,        A10,     109,          1,          8,      11033,2,20111028,       0507,   -28.5950,   -44.4165,       3715,  1799.4,   3.8649,  34.8842,2,  34.8851,2,    219.7,2,   219.9,2,    26.5,6,    23.8,6,    0.00,6,   1.335,4,   0.164,2,   0.084,2,   0.040,2,     2185.3,2,  2318.9,2,  -999.0,9, -999.00,   7.7024,4,       25,-999.000,9,-999.0000,9, -999.00,9,  -999.0,9,  -999.0,   0.497,3, -999.00,9,  41.3659,2, -999.00,9, 1799.40,  -999.0,9,   3.7188,     27.724,    35.0496,2,     -999.0,9,     -999.0,9,     -999.0,     -999.0,9,     -999.0
33RO20110926,        A10,     109,          1,          7,      11705,2,20111028,       0507,   -28.5950,   -44.4165,       3715,  2050.9,   3.7082,  34.9330,2,  34.9383,2,    237.1,2,   237.1,2,    23.5,2,    21.5,2,    0.00,2,   1.208,4,   0.235,2,   0.119,2,   0.048,2,     2176.2,2,  -999.0,5,  -999.0,9, -999.00,-999.0000,5,  -999.00,-999.000,9,-999.0000,9, -999.00,9,  -999.0,9,  -999.0,   0.657,3, -999.00,9,  40.0976,2, -999.00,9, 2050.90,  -999.0,9,   3.5402,     27.784,    35.1031,2,     -999.0,9,     -999.0,9,     -999.0,     -999.0,9,     -999.0
33RO20110926,        A10,     109,          1,          6,      11029,2,20111028,       0507,   -28.5950,   -44.4165,       3715,  2338.9,   3.4349,  34.9480,2,  34.9501,2,    248.7,2,     249,2,    23.2,2,    20.2,2,    0.00,2,   1.148,4,   0.236,2,   0.118,2,   0.039,2,     2171.4,2,  2319.9,2,  -999.0,9, -999.00,   7.7274,2,       25,-999.000,9,-999.0000,9, -999.00,9,  -999.0,9,  -999.0,   0.692,3, -999.00,9,  41.9415,2, -999.00,9, 2338.90,  -999.0,9,   3.2430,     27.822,    35.1149,2,     -999.0,9,     -999.0,9,     -999.0,     -999.0,9,     -999.0
33RO20110926,        A10,     109,          1,          5,      11704,2,20111028,       0507,   -28.5950,   -44.4165,       3715,  2654.4,   3.0349,  34.9322,2,  34.9346,2,    251.1,2,   250.8,2,    28.5,6,    20.5,6,    0.00,6,   1.198,4,   0.154,2,   0.079,2,   0.000,2,       2176,2,  2322.9,2,  -999.0,9, -999.00,   7.7326,2,       25,-999.000,9,-999.0000,9, -999.00,9,  -999.0,9,  -999.0,   0.504,3, -999.00,9,  38.1756,2, -999.00,9, 2654.40,  -999.0,9,   2.8189,     27.849,    35.0993,2,     -999.0,9,     -999.0,9,     -999.0,     -999.0,9,     -999.0
33RO20110926,        A10,     109,          1,          4,      11030,2,20111028,       0507,   -28.5950,   -44.4165,       3715,  2875.8,   2.7893,  34.9195,2,  34.9204,2,    251.7,2,   250.8,2,    32.5,2,    20.7,2,    0.00,2,   1.262,4,   0.097,2,   0.051,2,   0.045,2,     2179.8,2,  2327.4,2,  -999.0,9, -999.00,   7.7306,2,       25,-999.000,9,-999.0000,9, -999.00,9,  -999.0,9,  -999.0,   0.384,3, -999.00,9,  38.4293,2, -999.00,9, 2875.80,  -999.0,9,   2.5559,     27.862,    35.0851,2,     -999.0,9,     -999.0,9,     -999.0,     -999.0,9,     -999.0
33RO20110926,        A10,     109,          1,          3,      11703,2,20111028,       0507,   -28.5950,   -44.4165,       3715,  3122.4,   2.2562,  34.8744,2,  34.8754,2,    247.3,2,   247.4,2,    48.5,2,    22.8,2,    0.00,2,   1.505,4,   0.076,2,   0.039,2,   0.047,2,     2194.8,2,  2361.3,4,  -999.0,9, -999.00,   7.7085,4,       25,-999.000,9,-999.0000,9, -999.00,9,  -999.0,9,  -999.0,   0.332,3, -999.00,9,  38.7805,2, -999.00,9, 3122.40,  -999.0,9,   2.0094,     27.871,    35.0399,2,     -999.0,9,     -999.0,9,     -999.0,     -999.0,9,     -999.0
33RO20110926,        A10,     109,          1,          2,      11702,2,20111028,       0507,   -28.5950,   -44.4165,       3715,  3480.6,   1.0018,  34.7444,2,  34.7458,2,    225.4,2,   225.6,2,    98.3,2,    29.5,2,    0.00,2,   2.305,4,   0.170,2,   0.080,2,   0.067,2,     2243.6,2,  -999.0,5,  -999.0,9, -999.00,-999.0000,5,  -999.00,-999.000,9,-999.0000,9, -999.00,9,  -999.0,9,  -999.0,   0.423,3, -999.00,9,     38.8,2, -999.00,9, 3480.60,  -999.0,9,   0.7497,     27.857,    34.9097,2,     -999.0,9,     -999.0,9,     -999.0,     -999.0,9,     -999.0
33RO20110926,        A10,     109,          1,          1,      11701,2,20111028,       0507,   -28.5950,   -44.4165,       3715,  3706.5,   0.6663,  34.7103,2,  34.7144,2,    221.6,2,   220.7,2,   111.4,2,    31.2,2,    0.00,2,   2.510,4,   0.244,6,   0.115,6,   0.077,6,     2254.8,2,  2362.7,6,  -999.0,9, -999.00,   7.6257,6,       25,-999.000,9,-999.0000,9, -999.00,9,  -999.0,9,  -999.0,   0.511,3, -999.00,9,  38.4878,2, -999.00,9, 3706.50,  -999.0,9,   0.4008,     27.853,    34.8781,2,     -999.0,9,     -999.0,9,     -999.0,     -999.0,9,     -999.0