BOTTLE,20220815CCHSIOAMB
EXPOCODE,SECT_ID,STNNBR,CASTNO,SAMPNO,BTLNBR,BTLNBR_FLAG_W,DATE,TIME,LATITUDE,LONGITUDE,DEPTH,CTDPRS,CTDTMP,CTDSAL,CTDSAL_FLAG_W,SALNTY,SALNTY_FLAG_W,CTDOXY,CTDOXY_FLAG_W,OXYGEN,OXYGEN_FLAG_W,SILCAT,SILCAT_FLAG_W,NITRAT,NITRAT_FLAG_W,NITRIT,NITRIT_FLAG_W,PHSPHT,PHSPHT_FLAG_W,CFC-11,CFC-11_FLAG_W,CFC-12,CFC-12_FLAG_W,SF6,SF6_FLAG_W,TCARBN,TCARBN_FLAG_W,ALKALI,ALKALI_FLAG_W,PCO2,PCO2_FLAG_W,PCO2TMP,PH_SWS,PH_SWS_FLAG_W,PH_TMP,TRITUM,TRITUM_FLAG_W,HELIUM,HELIUM_FLAG_W,DELC13,DELC13_FLAG_W,DELC14,DELC14_FLAG_W,C14ERR,CCL4,CCL4_FLAG_W,DELO18,DELO18_FLAG_W,DOC,DOC_FLAG_W,TDN,TDN_FLAG_W,CTDRAW,14C-DOC,14C-DOC_FLAG_W,THETA,SIG0,SALTREF,SALTREF_FLAG_W,BLACKC,BLACKC_FLAG_W,PIGMENTS,PIGMENTS_FLAG_W,14C-DOCERR,13C-DOC,13C-DOC_FLAG_W,13C-DOCERR
,,,,,,,,,,,METERS,DBAR,ITS-90,PSS-78,,PSS-78,,UMOL/KG,,UMOL/KG,,UMOL/KG,,UMOL/KG,,UMOL/KG,,UMOL/KG,,PMOL/KG,,PMOL/KG,,FMOL/KG,,UMOL/KG,,UMOL/KG,,UATM,,DEG C,,,DEG C,TU,,NMOL/KG,,/MILLE,,/MILLE,,/MILLE,PMOL/KG,,/MILLE,,UMOL/KG,,UMOL/KG,,DBAR,/MILLE,,DEG C,KG/M^3,G/KG,,,,,,/MILLE,/MILLE,,/MILLE
33RO20110926,        A10,      24,          1,         24,      11714,2,20111004,       0729,   -29.3538,     2.8394,       4256,     3.8,  17.4999,  35.7401,2,  35.7350,2,    242.9,2,   244.3,2,     1.3,2,     0.0,2,    0.00,2,   0.131,4,   2.489,2,   1.487,2,   1.456,2,     2073.7,6,  2349.1,2,  -999.0,9, -999.00,     7.98,2,       25,-999.000,9,-999.0000,9, -999.00,9,  -999.0,9,  -999.0,   3.237,3, -999.00,9,-999.0000,9, -999.00,9,    3.80,  -999.0,9,  17.4993,     25.953,    35.9035,2,     -999.0,9,     -999.0,1,     -999.0,     -999.0,9,     -999.0
33RO20110926,        A10,      24,          1,         23,      11713,2,20111004,       0729,   -29.3538,     2.8394,       4256,    49.5,  16.4719,  35.6570,2,  35.6578,2,    248.5,2,     248,2,     1.4,2,     0.3,2,    0.05,2,   0.166,4,-999.000,9,-999.000,9,-999.000,9,       2072,2,  2343.9,2,  -999.0,9, -999.00,   7.9744,6,       25,-999.000,9,-999.0000,9, -999.00,9,  -999.0,9,  -999.0,-999.000,9, -999.00,9,-999.0000,9, -999.00,9,   49.50,  -999.0,9,  16.4639,     26.146,    35.8259,2,     -999.0,9,     -999.0,1,     -999.0,     -999.0,9,     -999.0
33RO20110926,        A10,      24,          1,         22,      11712,2,20111004,       0729,   -29.3538,     2.8394,       4256,   100.7,  16.1220,  35.6232,2,  35.6169,2,    232.5,2,   234.7,2,     1.8,2,     1.8,2,    0.48,2,   0.266,4,   2.555,2,   1.519,2,   1.443,2,       2082,2,  2331.5,2,  -999.0,9, -999.00,   7.9539,2,       25,-999.000,9,-999.0000,9, -999.00,9,  -999.0,9,  -999.0,   1.974,3, -999.00,9,-999.0000,9, -999.00,9,  100.70,  -999.0,9,  16.1060,     26.197,    35.7849,2,     -999.0,9,     -999.0,1,     -999.0,     -999.0,9,     -999.0
33RO20110926,        A10,      24,          1,         21,      11010,2,20111004,       0729,   -29.3538,     2.8394,       4256,   150.3,  14.3629,  35.3148,2,  35.3177,2,    216.3,2,   216.1,2,     2.5,2,     6.6,2,    0.02,2,   0.505,4,-999.000,9,-999.000,9,-999.000,9,     2102.6,2,  2312.7,2,  -999.0,9, -999.00,   7.8847,2,       25,-999.000,9,-999.0000,9, -999.00,9,  -999.0,9,  -999.0,-999.000,9, -999.00,9,-999.0000,9, -999.00,9,  150.30,  -999.0,9,  14.3407,     26.360,    35.4843,2,     -999.0,9,     -999.0,1,     -999.0,     -999.0,9,     -999.0
33RO20110926,        A10,      24,          1,         20,      11715,2,20111004,       0729,   -29.3538,     2.8394,       4256,   200.6,  13.6365,  35.2084,2,  35.2091,2,    219.7,2,   219.1,2,     2.6,2,     7.6,2,    0.01,2,   0.559,4,   2.899,2,   1.686,2,   1.452,2,-999.000000,9,  2310.5,2,  -999.0,9, -999.00,   7.8657,2,       25,-999.000,9,-999.0000,9, -999.00,9,  -999.0,9,  -999.0,   0.896,3, -999.00,9,-999.0000,9, -999.00,9,  200.60,  -999.0,9,  13.6080,     26.429,    35.3751,2,     -999.0,9,     -999.0,1,     -999.0,     -999.0,9,     -999.0
33RO20110926,        A10,      24,          1,         19,      11007,2,20111004,       0729,   -29.3538,     2.8394,       4256,   260.9,  12.7929,  35.1124,2,  35.1123,2,    217.9,2,   214.7,2,     3.2,6,    10.2,6,    0.01,6,   0.686,4,-999.000,9,-999.000,9,-999.000,9,     2115.9,2,    2305,2,  -999.0,9, -999.00,   7.8407,2,       25,-999.000,9,-999.0000,9, -999.00,9,  -999.0,9,  -999.0,-999.000,9, -999.00,9,-999.0000,9, -999.00,9,  260.90,  -999.0,9,  12.7573,     26.528,    35.2779,2,     -999.0,9,     -999.0,9,     -999.0,     -999.0,9,     -999.0
33RO20110926,        A10,      24,          1,         18,      11710,2,20111004,       0729,   -29.3538,     2.8394,       4256,   345.0,  11.5501,  34.9858,2,  34.9867,2,    206.7,2,   207.1,2,     4.9,2,    14.2,2,    0.01,2,   0.909,4,   3.150,2,   1.747,2,   1.237,2,-999.000000,9,  2298.9,2,  -999.0,9, -999.00,   7.7966,2,       25,-999.000,9,-999.0000,9, -999.00,9,  -999.0,9,  -999.0,   0.998,3, -999.00,9,-999.0000,9, -999.00,9,  345.00,  -999.0,9,  11.5059,     26.672,    35.1517,2,     -999.0,9,     -999.0,9,     -999.0,     -999.0,9,     -999.0
33RO20110926,        A10,      24,          1,         17,      11023,2,20111004,       0729,   -29.3538,     2.8394,       4256,   464.6,   9.3580,  34.7161,2,  34.7145,2,    201.7,2,   208.1,2,     7.7,6,    19.1,6,    0.01,6,   1.188,4,-999.000,9,-999.000,9,-999.000,9,     2144.6,2,  2286.1,2,  -999.0,9, -999.00,   7.7384,2,       25,-999.000,9,-999.0000,9, -999.00,9,  -999.0,9,  -999.0,-999.000,9, -999.00,9,-999.0000,9, -999.00,9,  464.60,  -999.0,9,   9.3057,     26.843,    34.8782,2,     -999.0,9,     -999.0,9,     -999.0,     -999.0,9,     -999.0
33RO20110926,        A10,      24,          1,         16,      11709,2,20111004,       0729,   -29.3538,     2.8394,       4256,   573.7,   7.5403,  34.5238,2,  34.5227,2,    202.9,2,   202.6,2,    12.8,2,    24.3,2,    0.00,2,   1.502,4,   3.125,2,   1.641,2,   0.883,2,-999.000000,9,  2283.2,2,  -999.0,9, -999.00,   7.6843,2,       25,-999.000,9,-999.0000,9, -999.00,9,  -999.0,9,  -999.0,   1.745,3, -999.00,9,-999.0000,9, -999.00,9,  573.70,  -999.0,9,   7.4832,     26.974,    34.6855,2,     -999.0,9,     -999.0,9,     -999.0,     -999.0,9,     -999.0
33RO20110926,        A10,      24,          1,         15,      11006,2,20111004,       0729,   -29.3538,     2.8394,       4256,   706.7,   5.5795,  34.3651,2,  34.3648,2,    209.2,2,   208.9,2,    19.5,2,    28.4,2,    0.01,2,   1.762,4,   2.962,6,   1.505,6,   0.722,6,     2175.6,2,  2290.2,2,  -999.0,9, -999.00,   7.6404,2,       25,-999.000,9,-999.0000,9, -999.00,9,  -999.0,9,  -999.0,   2.195,3, -999.00,9,-999.0000,9, -999.00,9,  706.70,  -999.0,9,   5.5191,     27.110,    34.5268,2,     -999.0,9,     -999.0,9,     -999.0,     -999.0,9,     -999.0
33RO20110926,        A10,      24,          1,         14,      11708,2,20111004,       0729,   -29.3538,     2.8394,       4256,   859.6,   4.3649,  34.3529,2,  34.3581,2,    201.0,2,   199.8,2,    31.1,2,    31.4,2,    0.00,2,   1.981,4,-999.000,9,-999.000,9,-999.000,9,-999.000000,9,  2299.6,2,  -999.0,9, -999.00,   7.6094,2,       25,-999.000,9,-999.0000,9, -999.00,9,  -999.0,9,  -999.0,-999.000,9, -999.00,9,-999.0000,9, -999.00,9,  859.60,  -999.0,9,   4.2985,     27.243,    34.5202,2,     -999.0,9,     -999.0,9,     -999.0,     -999.0,9,     -999.0
33RO20110926,        A10,      24,          1,         13,      11031,2,20111004,       0729,   -29.3538,     2.8394,       4256,  1010.2,   3.7603,  34.4111,2,  34.4125,2,    187.8,2,     187,2,    42.1,2,    32.9,2,    0.00,2,   2.113,4,   1.318,2,   0.633,2,   0.237,2,     2213.7,2,  2309.6,2,  -999.0,9, -999.00,   7.5864,2,       25,-999.000,9,-999.0000,9, -999.00,9,  -999.0,9,  -999.0,   1.287,3, -999.00,9,-999.0000,9, -999.00,9, 1010.20,  -999.0,9,   3.6858,     27.351,    34.5748,2,     -999.0,9,     -999.0,9,     -999.0,     -999.0,9,     -999.0
33RO20110926,        A10,      24,          1,         12,      11027,2,20111004,       0729,   -29.3538,     2.8394,       4256,  1160.4,   3.3912,  34.5110,2,  34.5112,2,    178.7,2,   177.6,2,    49.2,6,    33.2,6,    0.00,6,   2.141,4,-999.000,9,-999.000,9,-999.000,9,     2225.7,2,  2318.9,6,  -999.0,9, -999.00,   7.5778,6,       25,-999.000,9,-999.0000,9, -999.00,9,  -999.0,9,  -999.0,-999.000,9, -999.00,9,-999.0000,9, -999.00,9, 1160.40,  -999.0,9,   3.3074,     27.466,    34.6740,6,     -999.0,9,     -999.0,9,     -999.0,     -999.0,9,     -999.0
33RO20110926,        A10,      24,          1,         11,      11707,2,20111004,       0729,   -29.3538,     2.8394,       4256,  1312.2,   3.2708,  34.6011,2,  34.6009,2,    181.0,2,   181.2,2,    49.6,2,    32.0,2,    0.00,2,   2.070,4,   0.271,2,   0.126,2,   0.000,2,     2224.3,2,  2322.5,2,  -999.0,9, -999.00,   7.5924,2,       25,-999.000,9,-999.0000,9, -999.00,9,  -999.0,9,  -999.0,   0.373,3, -999.00,9,-999.0000,9, -999.00,9, 1312.20,  -999.0,9,   3.1756,     27.550,    34.7641,2,     -999.0,9,     -999.0,9,     -999.0,     -999.0,9,     -999.0
33RO20110926,        A10,      24,          1,         10,      11003,2,20111004,       0729,   -29.3538,     2.8394,       4256,  1510.9,   3.2158,  34.7133,2,  34.7127,2,    192.4,2,   192.4,2,    46.2,2,    29.6,2,    0.00,2,   1.901,4,-999.000,9,-999.000,9,-999.000,9,-999.000000,9,  2325.3,2,  -999.0,9, -999.00,   7.6234,2,       25,-999.000,9,-999.0000,9, -999.00,9,  -999.0,9,  -999.0,-999.000,9, -999.00,9,-999.0000,9, -999.00,9, 1510.90,  -999.0,9,   3.1042,     27.646,    34.8764,2,     -999.0,9,     -999.0,9,     -999.0,     -999.0,9,     -999.0
33RO20110926,        A10,      24,          1,          9,      11706,2,20111004,       0729,   -29.3538,     2.8394,       4256,  1778.5,   3.1350,  34.8075,2,  34.8070,2,    209.5,2,   210.3,2,    41.6,6,    26.4,6,    0.00,6,   1.701,4,   0.028,2,   0.014,2,   0.000,2,     2201.8,2,  2325.1,2,  -999.0,9, -999.00,   7.6555,2,       25,-999.000,9,-999.0000,9, -999.00,9,  -999.0,9,  -999.0,   0.075,3, -999.00,9,-999.0000,9, -999.00,9, 1778.50,  -999.0,9,   3.0009,     27.731,    34.9712,2,     -999.0,9,     -999.0,9,     -999.0,     -999.0,9,     -999.0
33RO20110926,        A10,      24,          1,          8,      11033,2,20111004,       0729,   -29.3538,     2.8394,       4256,  2050.0,   2.9409,  34.8333,2,  34.8349,2,    219.0,2,   218.4,2,    43.6,2,    25.7,2,    0.00,2,   1.642,4,-999.000,9,-999.000,9,-999.000,9,-999.000000,9,  2324.4,4,  -999.0,9, -999.00,   7.6823,2,       25,-999.000,9,-999.0000,9, -999.00,9,  -999.0,9,  -999.0,-999.000,9, -999.00,9,-999.0000,9, -999.00,9, 2050.00,  -999.0,9,   2.7850,     27.773,    34.9991,2,     -999.0,9,     -999.0,9,     -999.0,     -999.0,9,     -999.0
33RO20110926,        A10,      24,          1,          7,      11705,2,20111004,       0729,   -29.3538,     2.8394,       4256,  2350.3,   2.6365,  34.8379,2,  34.8386,2,    223.4,2,   224.9,2,    49.1,2,    25.4,2,    0.00,2,   1.644,4,   0.017,2,   0.008,2,   0.000,2,-999.000000,9,  2326.3,4,  -999.0,9, -999.00,   7.6883,2,       25,-999.000,9,-999.0000,9, -999.00,9,  -999.0,9,  -999.0,   0.054,3, -999.00,9,-999.0000,9, -999.00,9, 2350.30,  -999.0,9,   2.4578,     27.804,    35.0029,2,     -999.0,9,     -999.0,9,     -999.0,     -999.0,9,     -999.0
33RO20110926,        A10,      24,          1,          6,      11029,2,20111004,       0729,   -29.3538,     2.8394,       4256,  2650.1,   2.4613,  34.8479,2,  34.8479,2,    229.1,2,   228.4,2,    51.5,2,    24.9,2,    0.00,2,   1.626,4,-999.000,9,-999.000,9,-999.000,9,     2202.3,2,  2330.3,4,  -999.0,9, -999.00,   7.6974,2,       25,-999.000,9,-999.0000,9, -999.00,9,  -999.0,9,  -999.0,-999.000,9, -999.00,9,-999.0000,9, -999.00,9, 2650.10,  -999.0,9,   2.2573,     27.829,    35.0122,2,     -999.0,9,     -999.0,9,     -999.0,     -999.0,9,     -999.0
33RO20110926,        A10,      24,          1,          5,      11704,2,20111004,       0729,   -29.3538,     2.8394,       4256,  2950.9,   2.3551,  34.8578,2,  34.8589,2,    231.2,2,     231,2,    52.6,2,    24.6,2,    0.00,2,   1.601,4,   0.009,2,   0.004,2,   0.000,2,-999.000000,9,  2345.5,2,  -999.0,9, -999.00,   7.6995,2,       25,-999.000,9,-999.0000,9, -999.00,9,  -999.0,9,  -999.0,   0.026,3, -999.00,9,-999.0000,9, -999.00,9, 2950.90,  -999.0,9,   2.1236,     27.849,    35.0233,2,     -999.0,9,     -999.0,9,     -999.0,     -999.0,9,     -999.0
33RO20110926,        A10,      24,          1,          4,      11030,2,20111004,       0729,   -29.3538,     2.8394,       4256,  3249.7,   2.2895,  34.8629,2,  34.8632,2,    231.1,2,   231.9,2,    54.3,2,    24.5,2,    0.01,2,   1.599,4,-999.000,9,-999.000,9,-999.000,9,-999.000000,9,  2351.3,2,  -999.0,9, -999.00,   7.7045,2,       25,-999.000,9,-999.0000,9, -999.00,9,  -999.0,9,  -999.0,-999.000,9, -999.00,9,-999.0000,9, -999.00,9, 3249.70,  -999.0,9,   2.0289,     27.860,    35.0276,2,     -999.0,9,     -999.0,9,     -999.0,     -999.0,9,     -999.0
33RO20110926,        A10,      24,          1,          3,      11703,2,20111004,       0729,   -29.3538,     2.8394,       4256,  3599.5,   2.1498,  34.8499,2,  34.8498,2,    229.2,2,     230,2,    60.1,2,    25.2,2,    0.01,2,   1.662,4,   0.011,2,   0.007,2,   0.000,2,     2214.9,2,  2355.2,2,  -999.0,9, -999.00,   7.6965,2,       25,-999.000,9,-999.0000,9, -999.00,9,  -999.0,9,  -999.0,   0.022,3, -999.00,9,-999.0000,9, -999.00,9, 3599.50,  -999.0,9,   1.8557,     27.863,    35.0141,2,     -999.0,9,     -999.0,9,     -999.0,     -999.0,9,     -999.0
33RO20110926,        A10,      24,          1,          2,      11702,2,20111004,       0729,   -29.3538,     2.8394,       4256,  3901.1,   1.6579,  34.7926,2,  34.7928,2,    221.9,2,   221.9,2,    81.8,2,    27.9,2,    0.00,2,   1.902,4,   0.030,2,   0.015,2,   0.000,2,-999.000000,9,  2345.1,4,  -999.0,9, -999.00,   7.6653,2,       25,-999.000,9,-999.0000,9, -999.00,9,  -999.0,9,  -999.0,   0.069,3, -999.00,9,-999.0000,9, -999.00,9, 3901.10,  -999.0,9,   1.3446,     27.855,    34.9569,2,     -999.0,9,     -999.0,9,     -999.0,     -999.0,9,     -999.0
33RO20110926,        A10,      24,          1,          1,      11701,2,20111004,       0729,   -29.3538,     2.8394,       4256,  4335.5,   1.1803,  34.7428,2,  34.7424,2,    218.1,2,   217.9,2,   101.1,6,    30.3,6,    0.00,6,   2.113,4,   0.060,6,   0.029,6,   0.000,2,     2250.3,6,  2362.4,6,  -999.0,9, -999.00,   7.6483,6,       25,-999.000,9,-999.0000,9, -999.00,9,  -999.0,9,  -999.0,   0.135,3, -999.00,9,-999.0000,9, -999.00,9, 4335.50,  -999.0,9,   0.8333,     27.849,    34.9063,2,     -999.0,9,     -999.0,9,     -999.0,     -999.0,9,     -999.0