BOTTLE,20220815CCHSIOAMB
EXPOCODE,SECT_ID,STNNBR,CASTNO,SAMPNO,BTLNBR,BTLNBR_FLAG_W,DATE,TIME,LATITUDE,LONGITUDE,DEPTH,CTDPRS,CTDTMP,CTDSAL,CTDSAL_FLAG_W,SALNTY,SALNTY_FLAG_W,CTDOXY,CTDOXY_FLAG_W,OXYGEN,OXYGEN_FLAG_W,SILCAT,SILCAT_FLAG_W,NITRAT,NITRAT_FLAG_W,NITRIT,NITRIT_FLAG_W,PHSPHT,PHSPHT_FLAG_W,CFC-11,CFC-11_FLAG_W,CFC-12,CFC-12_FLAG_W,SF6,SF6_FLAG_W,TCARBN,TCARBN_FLAG_W,ALKALI,ALKALI_FLAG_W,PCO2,PCO2_FLAG_W,PCO2TMP,PH_SWS,PH_SWS_FLAG_W,PH_TMP,TRITUM,TRITUM_FLAG_W,HELIUM,HELIUM_FLAG_W,DELC13,DELC13_FLAG_W,DELC14,DELC14_FLAG_W,C14ERR,CCL4,CCL4_FLAG_W,DELO18,DELO18_FLAG_W,DOC,DOC_FLAG_W,TDN,TDN_FLAG_W,CTDRAW,14C-DOC,14C-DOC_FLAG_W,THETA,SIG0,SALTREF,SALTREF_FLAG_W,BLACKC,BLACKC_FLAG_W,PIGMENTS,PIGMENTS_FLAG_W,14C-DOCERR,13C-DOC,13C-DOC_FLAG_W,13C-DOCERR
,,,,,,,,,,,METERS,DBAR,ITS-90,PSS-78,,PSS-78,,UMOL/KG,,UMOL/KG,,UMOL/KG,,UMOL/KG,,UMOL/KG,,UMOL/KG,,PMOL/KG,,PMOL/KG,,FMOL/KG,,UMOL/KG,,UMOL/KG,,UATM,,DEG C,,,DEG C,TU,,NMOL/KG,,/MILLE,,/MILLE,,/MILLE,PMOL/KG,,/MILLE,,UMOL/KG,,UMOL/KG,,DBAR,/MILLE,,DEG C,KG/M^3,G/KG,,,,,,/MILLE,/MILLE,,/MILLE
33RO20110926,        A10,      78,          1,         24,      11714,2,20111020,       2240,   -30.0003,   -30.1686,       3838,     4.7,  18.8371,  36.1303,2,  36.1308,2,    231.5,2,   231.5,2,     1.0,2,     0.0,2,    0.01,2,   0.064,4,   2.232,6,   1.360,6,   1.330,6,     2079.7,6,  2369.3,2,  -999.0,9, -999.00,-999.0000,5,  -999.00,-999.000,1,-999.0000,1,    1.18,2,    51.9,2,     3.0,   3.272,4, -999.00,1,-999.0000,9, -999.00,9,    4.70,  -999.0,9,  18.8362,     25.927,    36.3012,2,     -999.0,9,     -999.0,1,     -999.0,     -999.0,9,     -999.0
33RO20110926,        A10,      78,          1,         23,      11713,2,20111020,       2240,   -30.0003,   -30.1686,       3838,    35.2,  18.8440,  36.1292,2,  36.1305,2,    230.5,2,     232,2,     1.1,2,     0.0,2,    0.00,2,   0.069,4,   2.235,2,   1.356,2,   1.322,2,     2078.8,2,  2372.2,6,  -999.0,9, -999.00,   8.0055,6,       25,-999.000,1,-999.0000,1, -999.00,9,  -999.0,9,  -999.0,   2.916,4, -999.00,1,-999.0000,9, -999.00,9,   35.20,  -999.0,9,  18.8377,     25.926,    36.3009,2,     -999.0,9,     -999.0,9,     -999.0,     -999.0,9,     -999.0
33RO20110926,        A10,      78,          1,         22,      11712,2,20111020,       2240,   -30.0003,   -30.1686,       3838,    75.9,  18.8136,  36.1255,2,  36.1260,2,    231.7,2,   230.8,2,     1.1,2,     0.0,2,    0.01,2,   0.077,4,   2.234,2,   1.363,2,   1.393,2,       2079,2,  2367.5,2,  -999.0,9, -999.00,   8.0048,2,       25,-999.000,1,-999.0000,1, -999.00,9,  -999.0,9,  -999.0,   3.054,4, -999.00,1,-999.0000,9, -999.00,9,   75.90,  -999.0,9,  18.8001,     25.937,    36.2963,2,     -999.0,9,     -999.0,9,     -999.0,     -999.0,9,     -999.0
33RO20110926,        A10,      78,          1,         21,      11010,2,20111020,       2240,   -30.0003,   -30.1686,       3838,   125.6,  18.3714,  36.1037,2,  36.1050,2,    228.5,2,   229.1,2,     1.1,6,     0.1,6,    0.14,6,   0.103,4,   2.268,2,   1.373,2,   1.374,2,     2085.4,2,  2367.4,2,  -999.0,9, -999.00,   7.9922,2,       25,-999.000,1,-999.0000,1, -999.00,9,  -999.0,9,  -999.0,   2.688,4, -999.00,1,-999.0000,9, -999.00,9,  125.60,  -999.0,9,  18.3494,     26.031,    36.2753,2,     -999.0,9,     -999.0,1,     -999.0,     -999.0,9,     -999.0
33RO20110926,        A10,      78,          1,         20,      11715,2,20111020,       2240,   -30.0003,   -30.1686,       3838,   185.8,  16.0992,  35.6327,2,  35.6325,2,    217.6,2,   214.2,2,     1.9,2,     3.6,2,    0.01,2,   0.319,4,   2.588,2,   1.528,2,   1.378,2,     2100.8,2,  2338.1,2,  -999.0,9, -999.00,   7.9139,2,       25,-999.000,1,-999.0000,1, -999.00,9,  -999.0,9,  -999.0,   1.356,4, -999.00,1,-999.0000,9, -999.00,9,  185.80,  -999.0,9,  16.0696,     26.216,    35.8005,2,     -999.0,9,     -999.0,1,     -999.0,     -999.0,9,     -999.0
33RO20110926,        A10,      78,          1,         19,      11007,2,20111020,       2240,   -30.0003,   -30.1686,       3838,   267.0,  14.4668,  35.3847,2,  35.3862,2,    211.5,2,   210.9,2,     2.5,2,     6.8,2,    0.01,2,   0.462,4,   2.806,2,   1.624,2,   1.295,2,     2109.1,2,  2327.2,2,  -999.0,9, -999.00,   7.8767,2,       25,-999.000,1,-999.0000,1, -999.00,9,  -999.0,9,  -999.0,   1.200,3, -999.00,1,-999.0000,9, -999.00,9,  267.00,  -999.0,9,  14.4272,     26.394,    35.5531,2,     -999.0,9,     -999.0,9,     -999.0,     -999.0,9,     -999.0
33RO20110926,        A10,      78,          1,         18,      11710,2,20111020,       2240,   -30.0003,   -30.1686,       3838,   324.8,  13.5791,  35.2644,2,  35.2669,2,    212.8,2,   211.4,2,     3.0,6,     8.5,6,    0.01,6,   0.541,4,   2.930,2,   1.675,2,   1.257,2,-999.000000,9,  2320.4,2,  -999.0,9, -999.00,   7.8557,2,       25,-999.000,1,-999.0000,1, -999.00,9,  -999.0,9,  -999.0,   1.223,3, -999.00,1,-999.0000,9, -999.00,9,  324.80,  -999.0,9,  13.5328,     26.490,    35.4332,2,     -999.0,9,     -999.0,9,     -999.0,     -999.0,9,     -999.0
33RO20110926,        A10,      78,          1,         17,      11023,2,20111020,       2240,   -30.0003,   -30.1686,       3838,   401.9,  12.4574,  35.1243,2,  35.1274,2,    211.7,2,   206.7,4,     3.8,2,    11.3,2,    0.00,2,   0.682,4,   3.060,2,   1.714,2,   1.253,2,       2123,2,  2314.5,2,  -999.0,9, -999.00,   7.8266,2,       25,-999.000,1,-999.0000,1, -999.00,9,  -999.0,9,  -999.0,   1.456,3, -999.00,1,-999.0000,9, -999.00,9,  401.90,  -999.0,9,  12.4032,     26.609,    35.2931,2,     -999.0,9,     -999.0,9,     -999.0,     -999.0,9,     -999.0
33RO20110926,        A10,      78,          1,         16,      11709,2,20111020,       2240,   -30.0003,   -30.1686,       3838,   502.3,  10.5182,  34.8676,2,  34.8701,2,    207.6,2,   207.1,2,     6.4,2,    16.4,2,    0.00,2,   0.945,4,   3.172,2,   1.719,2,   1.052,2,-999.000000,9,  2300.3,2,  -999.0,9, -999.00,   7.7676,2,       25,-999.000,1,-999.0000,1, -999.00,9,  -999.0,9,  -999.0,   1.828,3, -999.00,1,-999.0000,9, -999.00,9,  502.30,  -999.0,9,  10.4572,     26.771,    35.0345,2,     -999.0,9,     -999.0,9,     -999.0,     -999.0,9,     -999.0
33RO20110926,        A10,      78,          1,         15,      11006,2,20111020,       2240,   -30.0003,   -30.1686,       3838,   599.7,   8.6905,  34.6466,2,  34.6475,2,    203.4,2,   203.2,2,     9.9,2,    21.5,2,    0.00,2,   1.210,4,   3.182,2,   1.664,2,   0.873,2,     2153.8,2,    2290,2,  -999.0,9, -999.00,   7.7085,2,       25,-999.000,1,-999.0000,1, -999.00,9,  -999.0,9,  -999.0,   2.453,3, -999.00,1,-999.0000,9, -999.00,9,  599.70,  -999.0,9,   8.6255,     26.905,    34.8109,2,     -999.0,9,     -999.0,9,     -999.0,     -999.0,9,     -999.0
33RO20110926,        A10,      78,          1,         14,      11708,2,20111020,       2240,   -30.0003,   -30.1686,       3838,   701.2,   6.7050,  34.4334,2,  34.4357,2,    214.9,2,   214.3,2,    13.2,2,    25.3,2,    0.00,2,   1.423,4,   3.304,2,   1.692,2,   0.882,2,-999.000000,9,  2284.5,2,  -999.0,9, -999.00,   7.6685,2,       25,-999.000,1,-999.0000,1, -999.00,9,  -999.0,9,  -999.0,   3.606,3, -999.00,1,-999.0000,9, -999.00,9,  701.20,  -999.0,9,   6.6391,     27.024,    34.5980,2,     -999.0,9,     -999.0,9,     -999.0,     -999.0,9,     -999.0
33RO20110926,        A10,      78,          1,         13,      11031,2,20111020,       2240,   -30.0003,   -30.1686,       3838,   801.7,   5.2632,  34.3110,2,  34.3203,2,    226.2,2,   225.8,2,    17.2,2,    27.8,2,    0.01,2,   1.579,4,   3.303,2,   1.662,2,   0.777,2,     2168.1,2,  2285.4,2,  -999.0,9, -999.00,   7.6613,2,       25,-999.000,1,-999.0000,1, -999.00,9,  -999.0,9,  -999.0,   4.459,3, -999.00,1,-999.0000,9, -999.00,9,  801.70,  -999.0,9,   5.1962,     27.113,    34.4821,2,     -999.0,9,     -999.0,9,     -999.0,     -999.0,9,     -999.0
33RO20110926,        A10,      78,          1,         12,      11027,2,20111020,       2240,   -30.0003,   -30.1686,       3838,   897.3,   4.5295,  34.2923,2,  34.2938,2,    222.8,2,     223,2,    23.1,2,    29.5,2,    0.01,2,   1.711,4,   2.894,2,   1.435,2,   0.630,2,-999.000000,9,  2289.7,2,  -999.0,9, -999.00,   7.6423,2,       25,-999.000,1,-999.0000,1, -999.00,9,  -999.0,9,  -999.0,   4.326,3, -999.00,1,-999.0000,9, -999.00,9,  897.30,  -999.0,9,   4.4590,     27.176,    34.4556,2,     -999.0,9,     -999.0,9,     -999.0,     -999.0,9,     -999.0
33RO20110926,        A10,      78,          1,         11,      11707,2,20111020,       2240,   -30.0003,   -30.1686,       3838,   999.6,   3.9808,  34.3286,2,  34.3306,2,    207.9,2,   208.9,2,    32.3,2,    31.7,2,    0.01,2,   1.871,4,   2.109,2,   1.031,2,   0.393,2,     2196.4,2,  2298.7,2,  -999.0,9, -999.00,   7.6162,2,       25,-999.000,1,-999.0000,1, -999.00,9,  -999.0,9,  -999.0,   3.451,3, -999.00,1,-999.0000,9, -999.00,9,  999.60,  -999.0,9,   3.9056,     27.263,    34.4925,2,     -999.0,9,     -999.0,9,     -999.0,     -999.0,9,     -999.0
33RO20110926,        A10,      78,          1,         10,      11003,2,20111020,       2240,   -30.0003,   -30.1686,       3838,  1148.7,   3.4773,  34.4010,2,  34.4021,2,    193.9,2,   196.4,2,    43.3,6,    32.4,6,    0.01,6,   2.015,4,   1.258,2,   0.614,2,   0.183,2,     2216.9,2,  2306.7,2,  -999.0,9, -999.00,   7.5924,2,       25,-999.000,1,-999.0000,1, -999.00,9,  -999.0,9,  -999.0,   2.342,3, -999.00,1,-999.0000,9, -999.00,9, 1148.70,  -999.0,9,   3.3939,     27.371,    34.5643,2,     -999.0,9,     -999.0,9,     -999.0,     -999.0,9,     -999.0
33RO20110926,        A10,      78,          1,          9,      11706,2,20111020,       2240,   -30.0003,   -30.1686,       3838,  1399.8,   3.0491,  34.5534,2,  34.5568,2,    186.7,2,     188,2,    53.4,2,    32.3,2,    0.00,2,   2.063,4,   0.428,2,   0.208,2,   0.056,2,     2230.3,2,  2320.7,6,  -999.0,9, -999.00,   7.5954,6,       25,-999.000,1,-999.0000,1, -999.00,9,  -999.0,9,  -999.0,   1.091,3, -999.00,1,-999.0000,9, -999.00,9, 1399.80,  -999.0,9,   2.9490,     27.536,    34.7198,2,     -999.0,9,     -999.0,9,     -999.0,     -999.0,9,     -999.0
33RO20110926,        A10,      78,          1,          8,      11033,2,20111020,       2240,   -30.0003,   -30.1686,       3838,  1599.5,   2.8954,  34.6550,2,  34.6565,2,    192.1,2,   192.4,2,    54.8,2,    30.7,2,    0.01,2,   1.971,4,   0.179,2,   0.088,2,   0.000,2,     2227.1,2,    2329,2,  -999.0,9, -999.00,   7.6142,2,       25,-999.000,9,-999.0000,1, -999.00,9,  -999.0,9,  -999.0,   0.618,3, -999.00,9,-999.0000,9, -999.00,9, 1599.50,  -999.0,9,   2.7802,     27.631,    34.8199,2,     -999.0,9,     -999.0,9,     -999.0,     -999.0,9,     -999.0
33RO20110926,        A10,      78,          1,          7,      11705,2,20111020,       2240,   -30.0003,   -30.1686,       3838,  1800.4,   2.8160,  34.7280,2,  34.7303,2,    202.6,2,   203.1,2,    53.3,2,    28.8,2,    0.01,2,   1.868,4,   0.081,2,   0.042,2,   0.027,2,     2217.9,2,  2329.9,2,  -999.0,9, -999.00,   7.6342,2,       25,-999.000,1,-999.0000,1, -999.00,9,  -999.0,9,  -999.0,   0.392,3, -999.00,9,-999.0000,9, -999.00,9, 1800.40,  -999.0,9,   2.6845,     27.696,    34.8941,6,     -999.0,9,     -999.0,9,     -999.0,     -999.0,9,     -999.0
33RO20110926,        A10,      78,          1,          6,      11029,2,20111020,       2240,   -30.0003,   -30.1686,       3838,  2050.6,   2.7491,  34.8084,2,  34.8102,2,    218.3,2,   219.8,2,    48.4,2,    26.2,2,    0.01,2,   1.687,4,   0.027,2,   0.015,2,   0.000,2,-999.000000,9,  2330.8,2,  -999.0,9, -999.00,   7.6763,2,       25,-999.000,9,-999.0000,1, -999.00,9,  -999.0,9,  -999.0,   0.201,3, -999.00,9,-999.0000,9, -999.00,9, 2050.60,  -999.0,9,   2.5962,     27.770,    34.9744,2,     -999.0,9,     -999.0,9,     -999.0,     -999.0,9,     -999.0
33RO20110926,        A10,      78,          1,          5,      11704,2,20111020,       2240,   -30.0003,   -30.1686,       3838,  2326.0,   2.7582,  34.8583,2,  34.8598,2,    232.4,2,   232.9,2,    42.5,2,    24.0,2,    0.01,2,   1.537,4,   0.011,2,   0.007,2,   0.000,2,     2193.2,2,  2326.7,2,  -999.0,9, -999.00,   7.6995,2,       25,-999.000,1,-999.0000,1, -999.00,9,  -999.0,9,  -999.0,   0.127,3, -999.00,9,-999.0000,9, -999.00,9, 2326.00,  -999.0,9,   2.5796,     27.811,    35.0242,2,     -999.0,9,     -999.0,9,     -999.0,     -999.0,9,     -999.0
33RO20110926,        A10,      78,          1,          4,      11030,2,20111020,       2240,   -30.0003,   -30.1686,       3838,  2533.4,   2.7761,  34.8831,2,  34.8864,2,    240.0,2,   240.9,2,    38.9,2,    22.7,2,    0.01,2,   1.448,4,   0.007,2,   0.006,2,   0.000,2,-999.000000,9,  2325.2,2,  -999.0,9, -999.00,   7.7136,2,       25,-999.000,9,-999.0000,1, -999.00,9,  -999.0,9,  -999.0,   0.117,3, -999.00,9,-999.0000,9, -999.00,9, 2533.40,  -999.0,9,   2.5773,     27.832,    35.0509,2,     -999.0,9,     -999.0,9,     -999.0,     -999.0,9,     -999.0
33RO20110926,        A10,      78,          1,          3,      11703,2,20111020,       2240,   -30.0003,   -30.1686,       3838,  2898.7,   2.6793,  34.8962,2,  34.8982,2,    246.2,2,     247,2,    38.4,2,    21.8,2,    0.01,2,   1.411,4,   0.014,2,   0.009,2,   0.000,2,     2182.9,2,  2329.4,2,  -999.0,9, -999.00,   7.7254,2,       25,-999.000,1,-999.0000,1, -999.00,9,  -999.0,9,  -999.0,   0.156,3, -999.00,9,-999.0000,9, -999.00,9, 2898.70,  -999.0,9,   2.4459,     27.853,    35.0628,2,     -999.0,9,     -999.0,9,     -999.0,     -999.0,9,     -999.0
33RO20110926,        A10,      78,          1,          2,      11702,2,20111020,       2240,   -30.0003,   -30.1686,       3838,  3250.9,   2.4357,  34.8810,2,  34.8843,2,    246.1,2,     246,2,    45.5,2,    22.7,2,    0.01,2,   1.497,4,   0.024,2,   0.014,2,   0.000,2,     2188.2,2,  2334.8,2,  -999.0,9, -999.00,   7.7174,2,       25,-999.000,1,-999.0000,1, -999.00,9,  -999.0,9,  -999.0,   0.189,3, -999.00,9,-999.0000,9, -999.00,9, 3250.90,  -999.0,9,   2.1715,     27.865,    35.0488,2,     -999.0,9,     -999.0,9,     -999.0,     -999.0,9,     -999.0
33RO20110926,        A10,      78,          1,          1,      11701,2,20111020,       2240,   -30.0003,   -30.1686,       3838,  3846.7,   1.5720,  34.7909,2,  34.7926,2,    231.4,2,     230,2,    80.7,2,    27.0,2,    0.01,2,   1.991,4,   0.075,6,   0.038,6,   0.047,6,     2225.4,6,  2351.1,6,  -999.0,9, -999.00,   7.6739,6,       25,-999.000,1,-999.0000,1, -999.00,9,  -999.0,9,  -999.0,   0.292,3, -999.00,9,-999.0000,9, -999.00,9, 3846.70,  -999.0,9,   1.2670,     27.861,    34.9567,2,     -999.0,9,     -999.0,9,     -999.0,     -999.0,9,     -999.0