BOTTLE,20220815CCHSIOAMB
EXPOCODE,SECT_ID,STNNBR,CASTNO,SAMPNO,BTLNBR,BTLNBR_FLAG_W,DATE,TIME,LATITUDE,LONGITUDE,DEPTH,CTDPRS,CTDTMP,CTDSAL,CTDSAL_FLAG_W,SALNTY,SALNTY_FLAG_W,CTDOXY,CTDOXY_FLAG_W,OXYGEN,OXYGEN_FLAG_W,SILCAT,SILCAT_FLAG_W,NITRAT,NITRAT_FLAG_W,NITRIT,NITRIT_FLAG_W,PHSPHT,PHSPHT_FLAG_W,CFC-11,CFC-11_FLAG_W,CFC-12,CFC-12_FLAG_W,SF6,SF6_FLAG_W,TCARBN,TCARBN_FLAG_W,ALKALI,ALKALI_FLAG_W,PCO2,PCO2_FLAG_W,PCO2TMP,PH_SWS,PH_SWS_FLAG_W,PH_TMP,TRITUM,TRITUM_FLAG_W,HELIUM,HELIUM_FLAG_W,DELC13,DELC13_FLAG_W,DELC14,DELC14_FLAG_W,C14ERR,CCL4,CCL4_FLAG_W,DELO18,DELO18_FLAG_W,DOC,DOC_FLAG_W,TDN,TDN_FLAG_W,CTDRAW,14C-DOC,14C-DOC_FLAG_W,THETA,SIG0,SALTREF,SALTREF_FLAG_W,BLACKC,BLACKC_FLAG_W,PIGMENTS,PIGMENTS_FLAG_W,14C-DOCERR,13C-DOC,13C-DOC_FLAG_W,13C-DOCERR
,,,,,,,,,,,METERS,DBAR,ITS-90,PSS-78,,PSS-78,,UMOL/KG,,UMOL/KG,,UMOL/KG,,UMOL/KG,,UMOL/KG,,UMOL/KG,,PMOL/KG,,PMOL/KG,,FMOL/KG,,UMOL/KG,,UMOL/KG,,UATM,,DEG C,,,DEG C,TU,,NMOL/KG,,/MILLE,,/MILLE,,/MILLE,PMOL/KG,,/MILLE,,UMOL/KG,,UMOL/KG,,DBAR,/MILLE,,DEG C,KG/M^3,G/KG,,,,,,/MILLE,/MILLE,,/MILLE
33RO20110926,        A10,      13,          1,         24,      11714,2,20111001,       0315,   -29.7506,     9.0256,     -999.0,     4.5,  16.4772,  35.6378,2,  35.6391,2,    248.7,2,   247.9,2,     2.2,2,     0.4,2,    0.05,2,   0.174,2,   2.543,6,   1.511,6,   1.499,6,     2070.9,6,  2339.8,6,  -999.0,9, -999.00,   7.9779,6,       25,-999.000,9,-999.0000,9,    1.03,2,    49.1,2,     3.1,   2.886,3, -999.00,9,  56.5659,2,    4.35,2,    4.50,  -999.0,9,  16.4765,     26.128,    35.8071,2,     -999.0,9,     -999.0,1,     -999.0,     -999.0,9,     -999.0
33RO20110926,        A10,      13,          1,         23,      11713,2,20111001,       0315,   -29.7506,     9.0256,     -999.0,    24.5,  16.4804,  35.6377,2,  35.6372,2,    249.4,2,   248.1,2,     2.2,2,     0.4,2,    0.06,2,   0.178,2,-999.000,5,-999.000,5,-999.000,5,     2069.8,2,  2339.2,2,  -999.0,9, -999.00,    7.979,2,       25,-999.000,9,-999.0000,9, -999.00,9,  -999.0,9,  -999.0,-999.000,5, -999.00,9,  57.3561,2,    5.23,2,   24.50,  -999.0,9,  16.4765,     26.127,    35.8053,2,     -999.0,9,     -999.0,9,     -999.0,     -999.0,9,     -999.0
33RO20110926,        A10,      13,          1,         22,      11712,2,20111001,       0315,   -29.7506,     9.0256,     -999.0,    55.0,  16.1288,  35.6384,2,  35.6382,2,    245.8,2,     245,2,     2.2,2,     1.0,2,    0.32,2,   0.230,2,   2.536,2,   1.510,2,   1.521,2,     2078.7,2,  2339.9,2,  -999.0,9, -999.00,   7.9579,2,       25,-999.000,9,-999.0000,9, -999.00,9,  -999.0,9,  -999.0,   2.595,3, -999.00,9,  51.0146,2,    3.70,2,   55.00,  -999.0,9,  16.1201,     26.210,    35.8063,2,     -999.0,9,     -999.0,1,     -999.0,     -999.0,9,     -999.0
33RO20110926,        A10,      13,          1,         21,      11010,2,20111001,       0315,   -29.7506,     9.0256,     -999.0,   119.6,  15.8600,  35.6151,2,  35.6134,2,    237.0,2,     237,2,     2.3,2,     2.1,2,    0.37,2,   0.300,2,   2.552,2,   1.524,2,   1.519,2,     2086.1,2,  2338.8,2,  -999.0,9, -999.00,   7.9459,2,       25,-999.000,9,-999.0000,9, -999.00,9,  -999.0,9,  -999.0,   2.028,3, -999.00,9,  54.1171,2,    5.44,2,  119.60,  -999.0,9,  15.8411,     26.255,    35.7813,2,     -999.0,9,     -999.0,1,     -999.0,     -999.0,9,     -999.0
33RO20110926,        A10,      13,          1,         20,      11715,2,20111001,       0315,   -29.7506,     9.0256,     -999.0,   174.9,  15.6887,  35.5821,2,  35.5812,2,    236.1,2,     221,4,     2.4,2,     2.3,2,    0.39,2,   0.314,2,   2.563,2,   1.529,2,   1.478,2,       2083,2,    2337,2,  -999.0,9, -999.00,   7.9429,2,       25,-999.000,9,-999.0000,9, -999.00,9,  -999.0,9,  -999.0,   1.861,3, -999.00,9,  55.3561,2,    6.50,2,  174.90,  -999.0,9,  15.6613,     26.272,    35.7490,2,     -999.0,9,     -999.0,9,     -999.0,     -999.0,9,     -999.0
33RO20110926,        A10,      13,          1,         19,      11007,2,20111001,       0315,   -29.7506,     9.0256,     -999.0,   255.0,  15.1509,  35.4797,2,  35.4778,2,    230.5,2,     231,2,     2.4,2,     2.5,2,    0.02,2,   0.394,2,   2.660,2,   1.574,2,   1.487,2,     2093.6,2,  2334.1,2,  -999.0,9, -999.00,   7.9239,2,       25,-999.000,9,-999.0000,9, -999.00,9,  -999.0,9,  -999.0,   1.635,3, -999.00,9,  52.8195,2, -999.00,9,  255.00,  -999.0,9,  15.1118,     26.315,    35.6451,2,     -999.0,9,     -999.0,9,     -999.0,     -999.0,9,     -999.0
33RO20110926,        A10,      13,          1,         18,      11710,2,20111001,       0315,   -29.7506,     9.0256,     -999.0,   335.9,  12.9904,  35.1407,2,  35.1416,2,    216.2,2,   218.3,2,     3.6,2,     9.4,2,    0.01,2,   0.721,2,   2.970,2,   1.721,2,   1.389,2,     2116.7,2,  2314.5,2,  -999.0,9, -999.00,   7.8356,2,       25,-999.000,9,-999.0000,9, -999.00,9,  -999.0,9,  -999.0,   0.815,3, -999.00,9,  50.0195,2, -999.00,9,  335.90,  -999.0,9,  12.9439,     26.511,    35.3073,2,     -999.0,9,     -999.0,9,     -999.0,     -999.0,9,     -999.0
33RO20110926,        A10,      13,          1,         17,      11023,2,20111001,       0315,   -29.7506,     9.0256,     -999.0,   424.9,  11.3548,  34.9600,2,  34.9610,2,    216.1,2,   216.3,2,     4.9,6,    11.3,3,    0.01,6,   0.955,6,   3.189,2,   1.768,2,   1.230,2,     2129.7,2,  2306.4,2,  -999.0,9, -999.00,   7.8006,2,       25,-999.000,9,-999.0000,9, -999.00,9,  -999.0,9,  -999.0,   1.177,3, -999.00,9,  45.9317,2, -999.00,9,  424.90,  -999.0,9,  11.3008,     26.690,    35.1259,6,     -999.0,9,     -999.0,9,     -999.0,     -999.0,9,     -999.0
33RO20110926,        A10,      13,          1,         16,      11709,2,20111001,       0315,   -29.7506,     9.0256,     -999.0,   540.2,   9.1336,  34.6880,2,  34.9612,4,    211.8,2,   211.7,2,     8.0,2,    19.4,2,    0.01,2,   1.323,2,   3.303,2,   1.788,2,   1.156,2,     2149.2,3,  2296.2,2,  -999.0,9, -999.00,   7.7314,2,       25,-999.000,9,-999.0000,9, -999.00,9,  -999.0,9,  -999.0,   1.600,3, -999.00,9,  46.9756,2, -999.00,9,  540.20,  -999.0,9,   9.0735,     27.076,    35.1260,2,     -999.0,9,     -999.0,9,     -999.0,     -999.0,9,     -999.0
33RO20110926,        A10,      13,          1,         15,      11006,2,20111001,       0315,   -29.7506,     9.0256,     -999.0,   684.2,   6.5627,  34.4168,2,  34.4135,2,    214.2,2,   214.6,2,    14.3,2,    19.1,4,    0.00,2,   1.728,2,   3.292,2,   1.706,2,   0.926,2,       2168,2,  2287.2,2,  -999.0,9, -999.00,   7.6613,2,       25,-999.000,9,-999.0000,9, -999.00,9,  -999.0,9,  -999.0,   2.332,3, -999.00,9,  42.5366,2, -999.00,9,  684.20,  -999.0,9,   6.4992,     27.024,    34.5758,2,     -999.0,9,     -999.0,9,     -999.0,     -999.0,9,     -999.0
33RO20110926,        A10,      13,          1,         14,      11708,2,20111001,       0315,   -29.7506,     9.0256,     -999.0,   854.3,   4.5939,  34.3317,2,  34.3323,2,    209.1,2,   209.8,2,    27.3,2,    30.2,2,    0.00,2,   2.035,2,   2.578,2,   1.283,2,   0.627,2,     2191.8,2,  2294.6,2,  -999.0,9, -999.00,   7.6192,2,       25,-999.000,9,-999.0000,9, -999.00,9,  -999.0,9,  -999.0,   2.223,3, -999.00,9,  42.5659,2, -999.00,9,  854.30,  -999.0,9,   4.5265,     27.199,    34.4942,2,     -999.0,9,     -999.0,9,     -999.0,     -999.0,9,     -999.0
33RO20110926,        A10,      13,          1,         13,      11031,2,20111001,       0315,   -29.7506,     9.0256,     -999.0,  1055.0,   3.6017,  34.4098,2,  34.4130,2,    188.7,2,   188.9,2,    44.8,2,    32.8,2,    0.00,2,   2.228,2,   1.325,2,   0.639,2,   0.257,2,     2220.4,6,  2311.8,2,  -999.0,9, -999.00,   7.5894,2,       25,-999.000,9,-999.0000,9, -999.00,9,  -999.0,9,  -999.0,   1.477,3, -999.00,9,  38.5756,2, -999.00,9, 1055.00,  -999.0,9,   3.5249,     27.367,    34.5752,2,     -999.0,9,     -999.0,9,     -999.0,     -999.0,9,     -999.0
33RO20110926,        A10,      13,          1,         12,      11027,2,20111001,       0315,   -29.7506,     9.0256,     -999.0,  1303.8,   3.1201,  34.5837,2,  34.5840,2,    177.9,2,   177.9,2,    55.9,6,    32.5,6,    0.00,6,   2.196,6,   0.357,2,   0.166,2,   0.070,2,     2234.4,2,  2327.3,6,  -999.0,9, -999.00,   7.5806,6,       25,-999.000,9,-999.0000,9, -999.00,9,  -999.0,9,  -999.0,   0.519,3, -999.00,9,  38.5659,2, -999.00,9, 1303.80,  -999.0,9,   3.0270,     27.550,    34.7471,2,     -999.0,9,     -999.0,9,     -999.0,     -999.0,9,     -999.0
33RO20110926,        A10,      13,          1,         11,      11707,2,20111001,       0315,   -29.7506,     9.0256,     -999.0,  1575.7,   3.0734,  34.7486,2,  34.7468,2,    194.9,2,   195.5,2,    49.2,2,    28.7,2,    0.00,2,   1.930,2,   0.074,2,   0.036,2,   0.000,2,     2219.7,2,  2325.6,2,  -999.0,9, -999.00,   7.6314,2,       25,-999.000,9,-999.0000,9, -999.00,9,  -999.0,9,  -999.0,   0.165,3, -999.00,9,  41.0341,2, -999.00,9, 1575.70,  -999.0,9,   2.9578,     27.687,    34.9106,6,     -999.0,9,     -999.0,9,     -999.0,     -999.0,9,     -999.0
33RO20110926,        A10,      13,          1,         10,      11003,2,20111001,       0315,   -29.7506,     9.0256,     -999.0,  1851.1,   3.0757,  34.8349,2,  34.8336,2,    214.0,2,   215.2,2,    41.6,2,    25.8,2,    0.00,2,   1.715,2,   0.020,2,   0.010,2,   0.000,2,     2202.3,2,  2326.5,2,  -999.0,9, -999.00,   7.6705,2,       25,-999.000,9,-999.0000,9, -999.00,9,  -999.0,9,  -999.0,   0.064,3, -999.00,9,  40.6146,2, -999.00,9, 1851.10,  -999.0,9,   2.9358,     27.758,    34.9979,2,     -999.0,9,     -999.0,9,     -999.0,     -999.0,9,     -999.0
33RO20110926,        A10,      13,          1,          9,      11706,2,20111001,       0315,   -29.7506,     9.0256,     -999.0,  2150.6,   2.8947,  34.8627,2,  34.8637,2,    224.9,2,   225.2,2,    41.7,2,    24.6,2,    0.00,2,   1.624,2,   0.010,2,   0.006,2,   0.000,2,     2197.6,2,  2327.8,2,  -999.0,9, -999.00,   7.6865,2,       25,-999.000,9,-999.0000,9, -999.00,9,  -999.0,9,  -999.0,   0.049,3, -999.00,9,  40.7122,2, -999.00,9, 2150.60,  -999.0,9,   2.7302,     27.801,    35.0281,2,     -999.0,9,     -999.0,9,     -999.0,     -999.0,9,     -999.0
33RO20110926,        A10,      13,          1,          8,      11033,2,20111001,       0315,   -29.7506,     9.0256,     -999.0,  2450.2,   2.6521,  34.8569,2,  34.8566,2,    228.9,2,   227.4,2,    47.1,2,    24.6,2,    0.00,2,   1.634,2,   0.013,2,   0.007,2,   0.000,2,     2200.9,2,    2333,2,  -999.0,9, -999.00,   7.6905,2,       25,-999.000,9,-999.0000,9, -999.00,9,  -999.0,9,  -999.0,   0.044,3, -999.00,9,  40.6049,2, -999.00,9, 2450.20,  -999.0,9,   2.4636,     27.818,    35.0210,2,     -999.0,9,     -999.0,9,     -999.0,     -999.0,9,     -999.0
33RO20110926,        A10,      13,          1,          7,      11705,2,20111001,       0315,   -29.7506,     9.0256,     -999.0,  2752.5,   2.5072,  34.8606,2,  34.8604,2,    230.4,2,   230.7,2,    49.4,6,    24.2,6,    0.00,6,   1.609,6,   0.006,2,   0.004,2,   0.000,2,     2203.3,2,  2336.7,2,  -999.0,9, -999.00,   7.6823,2,       25,-999.000,9,-999.0000,9, -999.00,9,  -999.0,9,  -999.0,   0.026,3, -999.00,9,  43.4732,3, -999.00,9, 2752.50,  -999.0,9,   2.2922,     27.836,    35.0248,2,     -999.0,9,     -999.0,9,     -999.0,     -999.0,9,     -999.0
33RO20110926,        A10,      13,          1,          6,      11029,2,20111001,       0315,   -29.7506,     9.0256,     -999.0,  3051.1,   2.3834,  34.8585,2,  34.8588,2,    231.2,2,   231.5,2,    52.9,2,    24.5,2,    0.00,2,   1.637,2,   0.006,2,   0.004,3,   0.000,2,     2206.8,2,  2343.4,2,  -999.0,9, -999.00,   7.6914,2,       25,-999.000,9,-999.0000,9, -999.00,9,  -999.0,9,  -999.0,   0.034,3, -999.00,9,  45.1805,3, -999.00,9, 3051.10,  -999.0,9,   2.1412,     27.847,    35.0232,2,     -999.0,9,     -999.0,9,     -999.0,     -999.0,9,     -999.0
33RO20110926,        A10,      13,          1,          5,      11704,2,20111001,       0315,   -29.7506,     9.0256,     -999.0,  3448.4,   2.2541,  34.8521,2,  34.8517,2,    230.9,2,     230,2,    57.9,2,    25.2,2,    0.00,2,   1.663,2,   0.007,2,   0.005,2,   0.000,2,     2212.3,2,  2348.9,2,  -999.0,9, -999.00,   7.6853,2,       25,-999.000,9,-999.0000,9, -999.00,9,  -999.0,9,  -999.0,   0.028,3, -999.00,9,   39.278,2, -999.00,9, 3448.40,  -999.0,9,   1.9735,     27.855,    35.0161,2,     -999.0,9,     -999.0,9,     -999.0,     -999.0,9,     -999.0
33RO20110926,        A10,      13,          1,          4,      11030,2,20111001,       0315,   -29.7506,     9.0256,     -999.0,  3849.8,   1.9052,  34.8151,2,  34.8152,2,    224.9,2,   224.6,2,    72.9,2,    26.9,2,    0.00,2,   1.796,2,   0.018,2,   0.010,2,   0.000,2,     2226.6,2,  2353.5,2,  -999.0,9, -999.00,   7.6745,2,       25,-999.000,9,-999.0000,9, -999.00,9,  -999.0,9,  -999.0,   0.055,3, -999.00,9,-999.0000,5, -999.00,9, 3849.80,  -999.0,9,   1.5906,     27.855,    34.9794,2,     -999.0,9,     -999.0,9,     -999.0,     -999.0,9,     -999.0
33RO20110926,        A10,      13,          1,          3,      11703,2,20111001,       0315,   -29.7506,     9.0256,     -999.0,  4250.6,   1.3291,  34.7572,2,  34.7570,2,    218.4,2,   219.1,2,    95.8,6,    29.7,6,    0.00,6,   1.989,6,   0.042,2,   0.022,2,   0.048,4,     2248.3,2,  2363.8,2,  -999.0,9, -999.00,   7.6455,2,       25,-999.000,9,-999.0000,9, -999.00,9,  -999.0,9,  -999.0,   0.080,3, -999.00,9,   39.161,2, -999.00,9, 4250.60,  -999.0,9,   0.9870,     27.851,    34.9209,2,     -999.0,9,     -999.0,9,     -999.0,     -999.0,9,     -999.0
33RO20110926,        A10,      13,          1,          2,      11702,2,20111001,       0315,   -29.7506,     9.0256,     -999.0,  4648.6,   1.1658,  34.7387,2,  34.7386,2,    216.9,2,   217.6,2,   103.7,2,    30.7,2,    0.00,2,   2.068,2,   0.057,2,   0.029,2,   0.000,2,       2255,2,  2368.8,2,  -999.0,9, -999.00,   7.6374,2,       25,-999.000,9,-999.0000,9, -999.00,9,  -999.0,9,  -999.0,   0.141,3, -999.00,9,  39.7268,2, -999.00,9, 4648.60,  -999.0,9,   0.7838,     27.849,    34.9024,2,     -999.0,9,     -999.0,9,     -999.0,     -999.0,9,     -999.0
33RO20110926,        A10,      13,          1,          1,      11701,2,20111001,       0315,   -29.7506,     9.0256,     -999.0,  5075.5,   1.1848,  34.7351,2,  34.7362,2,    216.7,2,   215.3,2,   105.1,6,    30.6,6,    0.01,6,   2.071,6,   0.067,6,   0.034,6,   0.000,2,       2257,6,  2371.1,6,  -999.0,9, -999.00,   7.6408,6,       25,-999.000,9,-999.0000,9, -999.00,9,  -999.0,9,  -999.0,   0.138,3, -999.00,9,  41.6488,2, -999.00,9, 5075.50,  -999.0,9,   0.7517,     27.849,    34.9000,2,     -999.0,9,     -999.0,9,     -999.0,     -999.0,9,     -999.0