BOTTLE,20220815CCHSIOAMB
EXPOCODE,SECT_ID,STNNBR,CASTNO,SAMPNO,BTLNBR,BTLNBR_FLAG_W,DATE,TIME,LATITUDE,LONGITUDE,DEPTH,CTDPRS,CTDTMP,CTDSAL,CTDSAL_FLAG_W,SALNTY,SALNTY_FLAG_W,CTDOXY,CTDOXY_FLAG_W,OXYGEN,OXYGEN_FLAG_W,SILCAT,SILCAT_FLAG_W,NITRAT,NITRAT_FLAG_W,NITRIT,NITRIT_FLAG_W,PHSPHT,PHSPHT_FLAG_W,CFC-11,CFC-11_FLAG_W,CFC-12,CFC-12_FLAG_W,SF6,SF6_FLAG_W,TCARBN,TCARBN_FLAG_W,ALKALI,ALKALI_FLAG_W,PCO2,PCO2_FLAG_W,PCO2TMP,PH_SWS,PH_SWS_FLAG_W,PH_TMP,TRITUM,TRITUM_FLAG_W,HELIUM,HELIUM_FLAG_W,DELC13,DELC13_FLAG_W,DELC14,DELC14_FLAG_W,C14ERR,CCL4,CCL4_FLAG_W,DELO18,DELO18_FLAG_W,DOC,DOC_FLAG_W,TDN,TDN_FLAG_W,CTDRAW,14C-DOC,14C-DOC_FLAG_W,THETA,SIG0,SALTREF,SALTREF_FLAG_W,BLACKC,BLACKC_FLAG_W,PIGMENTS,PIGMENTS_FLAG_W,14C-DOCERR,13C-DOC,13C-DOC_FLAG_W,13C-DOCERR
,,,,,,,,,,,METERS,DBAR,ITS-90,PSS-78,,PSS-78,,UMOL/KG,,UMOL/KG,,UMOL/KG,,UMOL/KG,,UMOL/KG,,UMOL/KG,,PMOL/KG,,PMOL/KG,,FMOL/KG,,UMOL/KG,,UMOL/KG,,UATM,,DEG C,,,DEG C,TU,,NMOL/KG,,/MILLE,,/MILLE,,/MILLE,PMOL/KG,,/MILLE,,UMOL/KG,,UMOL/KG,,DBAR,/MILLE,,DEG C,KG/M^3,G/KG,,,,,,/MILLE,/MILLE,,/MILLE
33RO20110926,        A10,      47,          1,         24,      11714,2,20111010,       0347,   -30.0169,    -8.5312,       4071,     5.4,  18.4385,  35.9943,2,  35.9945,2,    234.2,2,   235.2,2,     1.4,2,     0.1,2,    0.00,2,   0.151,2,   2.285,6,   1.390,6,   1.399,6,     2085.5,6,  2353.9,4,  -999.0,9, -999.00,    7.988,2,       25,-999.000,9,-999.0000,9,    1.04,2,    63.3,3,     3.8,   3.420,4, -999.00,9,  60.3415,2,    4.08,2,    5.40,  -999.0,9,  18.4375,     25.924,    36.1643,2,     -999.0,9,     -999.0,1,     -999.0,     -999.0,9,     -999.0
33RO20110926,        A10,      47,          1,         23,      11713,2,20111010,       0347,   -30.0169,    -8.5312,       4071,    35.1,  18.4527,  35.9936,2,  35.9928,2,    235.0,2,   235.6,2,     1.4,2,     0.1,2,    0.00,2,   0.154,2,   2.292,2,   1.392,2,   1.413,2,     2082.2,2,  2361.4,6,  -999.0,9, -999.00,    7.986,6,       25,-999.000,9,-999.0000,9, -999.00,9,  -999.0,9,  -999.0,   3.324,4, -999.00,9,-999.0000,5, -999.00,5,   35.10,  -999.0,9,  18.4465,     25.921,    36.1625,2,     -999.0,9,     -999.0,9,     -999.0,     -999.0,9,     -999.0
33RO20110926,        A10,      47,          1,         22,      11712,2,20111010,       0347,   -30.0169,    -8.5312,       4071,    95.1,  17.1396,  35.8373,2,  35.8361,2,    236.0,2,   235.7,2,     1.6,2,     0.5,2,    0.10,2,   0.203,2,   2.392,2,   1.447,2,   1.406,2,     2085.4,2,  2352.8,2,  -999.0,9, -999.00,   7.9669,2,       25,-999.000,9,-999.0000,9, -999.00,9,  -999.0,9,  -999.0,   2.241,4, -999.00,9,  56.9463,2,    4.98,2,   95.10,  -999.0,9,  17.1237,     26.125,    36.0050,2,     -999.0,9,     -999.0,1,     -999.0,     -999.0,9,     -999.0
33RO20110926,        A10,      47,          1,         21,      11010,2,20111010,       0347,   -30.0169,    -8.5312,       4071,   146.6,  15.8195,  35.5726,2,  35.5744,2,    221.3,2,   221.2,2,     2.3,2,     3.7,2,    0.03,2,   0.393,2,   2.557,2,   1.541,2,   1.432,2,       2095,2,  2335.8,2,  -999.0,9, -999.00,   7.9218,2,       25,-999.000,9,-999.0000,9, -999.00,9,  -999.0,9,  -999.0,   1.145,4, -999.00,9,  52.6244,2,    7.25,2,  146.60,  -999.0,9,  15.7964,     26.235,    35.7421,2,     -999.0,9,     -999.0,1,     -999.0,     -999.0,9,     -999.0
33RO20110926,        A10,      47,          1,         20,      11715,2,20111010,       0347,   -30.0169,    -8.5312,       4071,   195.5,  14.4083,  35.3516,2,  35.3526,2,    217.2,2,     218,2,     2.8,6,     6.2,6,    0.01,6,   0.545,6,   2.754,2,   1.621,2,   1.449,2,       2105,2,  2323.6,2,  -999.0,9, -999.00,   7.8827,2,       25,-999.000,9,-999.0000,9, -999.00,9,  -999.0,9,  -999.0,   0.927,4, -999.00,9,  48.9268,2,    9.96,2,  195.50,  -999.0,9,  14.3794,     26.377,    35.5193,2,     -999.0,9,     -999.0,9,     -999.0,     -999.0,9,     -999.0
33RO20110926,        A10,      47,          1,         19,      11007,2,20111010,       0347,   -30.0169,    -8.5312,       4071,   259.4,  13.3884,  35.2227,2,  35.2239,2,    217.1,2,   215.5,2,     3.4,2,     8.7,2,    0.01,2,   0.689,2,   2.900,2,   1.682,2,   1.297,2,       2113,2,  2317.2,2,  -999.0,9, -999.00,   7.8537,2,       25,-999.000,9,-999.0000,9, -999.00,9,  -999.0,9,  -999.0,   1.017,3, -999.00,9,  51.5024,2, -999.00,9,  259.40,  -999.0,9,  13.3518,     26.493,    35.3900,2,     -999.0,9,     -999.0,9,     -999.0,     -999.0,9,     -999.0
33RO20110926,        A10,      47,          1,         18,      11710,2,20111010,       0347,   -30.0169,    -8.5312,       4071,   344.3,  12.1748,  35.0730,2,  35.0707,2,    211.7,2,     211,2,     4.5,2,    12.3,2,    0.01,2,   0.905,2,   3.057,2,   1.727,2,   1.235,2,     2124.6,2,  2308.7,2,  -999.0,9, -999.00,   7.8136,2,       25,-999.000,9,-999.0000,9, -999.00,9,  -999.0,9,  -999.0,   0.994,3, -999.00,9,  49.2293,2, -999.00,9,  344.30,  -999.0,9,  12.1291,     26.621,    35.2361,2,     -999.0,9,     -999.0,9,     -999.0,     -999.0,9,     -999.0
33RO20110926,        A10,      47,          1,         17,      11023,2,20111010,       0347,   -30.0169,    -8.5312,       4071,   429.6,  10.7366,  34.8902,2,  34.8901,2,    209.2,2,   208.8,2,     6.1,6,    15.7,6,    0.01,6,   1.122,6,   3.142,2,   1.737,2,   1.129,2,     2137.1,2,    2302,2,  -999.0,9, -999.00,   7.7695,2,       25,-999.000,9,-999.0000,9, -999.00,9,  -999.0,9,  -999.0,   1.062,3, -999.00,9,  48.3317,2, -999.00,9,  429.60,  -999.0,9,  10.6840,     26.746,    35.0547,6,     -999.0,9,     -999.0,9,     -999.0,     -999.0,9,     -999.0
33RO20110926,        A10,      47,          1,         16,      11709,2,20111010,       0347,   -30.0169,    -8.5312,       4071,   529.9,   8.8622,  34.6613,2,  34.6644,2,    206.7,2,   206.8,2,     9.3,2,    20.6,2,    0.01,2,   1.428,2,   3.194,2,   1.724,2,   1.013,2,       2151,2,  2292.4,2,  -999.0,9, -999.00,   7.7224,2,       25,-999.000,9,-999.0000,9, -999.00,9,  -999.0,9,  -999.0,   1.503,3, -999.00,9,  41.7073,2, -999.00,9,  529.90,  -999.0,9,   8.8043,     26.882,    34.8278,2,     -999.0,9,     -999.0,9,     -999.0,     -999.0,9,     -999.0
33RO20110926,        A10,      47,          1,         15,      11006,2,20111010,       0347,   -30.0169,    -8.5312,       4071,   629.7,   6.9670,  34.4630,2,  34.4634,2,    210.4,2,   209.5,2,    13.6,2,    25.1,2,    0.00,2,   1.717,2,   3.211,2,   1.674,2,   0.881,2,     2165.2,2,  2287.6,2,  -999.0,9, -999.00,   7.6733,2,       25,-999.000,9,-999.0000,9, -999.00,9,  -999.0,9,  -999.0,   1.888,3, -999.00,9,  41.7756,2, -999.00,9,  629.70,  -999.0,9,   6.9069,     27.008,    34.6260,2,     -999.0,9,     -999.0,9,     -999.0,     -999.0,9,     -999.0
33RO20110926,        A10,      47,          1,         14,      11708,2,20111010,       0347,   -30.0169,    -8.5312,       4071,   780.7,   5.0279,  34.3155,2,  34.3153,2,    219.4,2,     220,2,    20.7,2,    28.7,2,    0.00,2,   1.966,2,   3.035,2,   1.544,2,   0.728,2,     2176.9,2,  2285.6,2,  -999.0,9, -999.00,   7.6434,2,       25,-999.000,9,-999.0000,9, -999.00,9,  -999.0,9,  -999.0,   2.201,3, -999.00,9,  40.5854,2, -999.00,9,  780.70,  -999.0,9,   4.9642,     27.136,    34.4771,2,     -999.0,9,     -999.0,9,     -999.0,     -999.0,9,     -999.0
33RO20110926,        A10,      47,          1,         13,      11031,2,20111010,       0347,   -30.0169,    -8.5312,       4071,   929.9,   4.0669,  34.3334,2,  34.3339,2,    207.8,2,   206.7,2,    32.5,2,    31.3,2,    0.00,2,   2.161,2,   2.115,2,   1.052,2,   0.465,2,     2201.7,2,  2297.2,2,  -999.0,9, -999.00,   7.6134,2,       25,-999.000,9,-999.0000,9, -999.00,9,  -999.0,9,  -999.0,   1.742,3, -999.00,9,     35.2,3, -999.00,9,  929.90,  -999.0,9,   3.9968,     27.256,    34.4958,2,     -999.0,9,     -999.0,9,     -999.0,     -999.0,9,     -999.0
33RO20110926,        A10,      47,          1,         12,      11027,2,20111010,       0347,   -30.0169,    -8.5312,       4071,  1081.0,   3.5127,  34.4114,2,  34.4107,2,    191.6,2,   191.4,2,    44.4,6,    32.9,6,    0.01,6,   2.266,6,   1.217,2,   0.605,2,   0.223,2,     2220.4,2,  2307.5,2,  -999.0,9, -999.00,   7.5894,2,       25,-999.000,9,-999.0000,9, -999.00,9,  -999.0,9,  -999.0,   1.167,3, -999.00,9,  39.7463,2, -999.00,9, 1081.00,  -999.0,9,   3.4344,     27.374,    34.5729,2,     -999.0,9,     -999.0,9,     -999.0,     -999.0,9,     -999.0
33RO20110926,        A10,      47,          1,         11,      11707,2,20111010,       0347,   -30.0169,    -8.5312,       4071,  1248.0,   3.1385,  34.5038,2,  34.5047,2,    186.0,2,     186,2,    52.3,2,    32.8,2,    0.00,2,   2.267,2,   0.652,2,   0.315,2,   0.065,2,     2228.1,6,  2319.3,6,  -999.0,9, -999.00,   7.5866,6,       25,-999.000,9,-999.0000,9, -999.00,9,  -999.0,9,  -999.0,   0.763,3, -999.00,9,     39.2,2, -999.00,9, 1248.00,  -999.0,9,   3.0501,     27.485,    34.6674,2,     -999.0,9,     -999.0,9,     -999.0,     -999.0,9,     -999.0
33RO20110926,        A10,      47,          1,         10,      11003,2,20111010,       0347,   -30.0169,    -8.5312,       4071,  1419.8,   2.9337,  34.6018,2,  34.6018,2,    187.7,2,   188.5,2,    55.8,2,    31.8,2,    0.00,2,   2.184,2,   0.334,2,   0.159,2,   0.063,2,     2231.9,2,  2325.7,2,  -999.0,9, -999.00,   7.6002,2,       25,-999.000,9,-999.0000,9, -999.00,9,  -999.0,9,  -999.0,   0.485,3, -999.00,9,  39.9707,2, -999.00,9, 1419.80,  -999.0,9,   2.8331,     27.582,    34.7649,2,     -999.0,9,     -999.0,9,     -999.0,     -999.0,9,     -999.0
33RO20110926,        A10,      47,          1,          9,      11706,2,20111010,       0347,   -30.0169,    -8.5312,       4071,  1650.4,   2.8696,  34.7098,2,  34.7089,2,    198.5,2,   198.1,2,    54.3,2,    29.6,2,    0.00,2,   2.020,2,   0.127,2,   0.062,2,   0.000,2,     2225.6,2,  2328.9,2,  -999.0,9, -999.00,   7.6282,2,       25,-999.000,9,-999.0000,9, -999.00,9,  -999.0,9,  -999.0,   0.256,3, -999.00,9,  40.9561,2, -999.00,9, 1650.40,  -999.0,9,   2.7503,     27.675,    34.8725,2,     -999.0,9,     -999.0,9,     -999.0,     -999.0,9,     -999.0
33RO20110926,        A10,      47,          1,          8,      11033,2,20111010,       0347,   -30.0169,    -8.5312,       4071,  1880.5,   2.8217,  34.7862,2,  34.7889,2,    210.8,2,   209.5,2,    50.4,2,    27.3,2,    0.01,2,   1.853,2,   0.038,2,   0.019,2,   0.000,2,     2215.1,2,  2329.1,2,  -999.0,9, -999.00,   7.6565,2,       25,-999.000,9,-999.0000,9, -999.00,9,  -999.0,9,  -999.0,   0.140,3, -999.00,9,  38.5073,2, -999.00,9, 1880.50,  -999.0,9,   2.6829,     27.745,    34.9529,2,     -999.0,9,     -999.0,9,     -999.0,     -999.0,9,     -999.0
33RO20110926,        A10,      47,          1,          7,      11705,2,20111010,       0347,   -30.0169,    -8.5312,       4071,  2153.0,   2.6335,  34.8204,2,  34.8208,2,    220.7,2,   220.9,2,    51.2,2,    26.1,2,    0.01,2,   1.760,2,-999.000,5,-999.000,5,-999.000,5,     2209.4,2,  2332.1,2,  -999.0,9, -999.00,   7.6745,2,       25,-999.000,9,-999.0000,9, -999.00,9,  -999.0,9,  -999.0,-999.000,5, -999.00,9,  42.2537,2, -999.00,9, 2153.00,  -999.0,9,   2.4731,     27.789,    34.9850,2,     -999.0,9,     -999.0,9,     -999.0,     -999.0,9,     -999.0
33RO20110926,        A10,      47,          1,          6,      11029,2,20111010,       0347,   -30.0169,    -8.5312,       4071,  2450.8,   2.5108,  34.8419,2,  34.8416,2,    228.6,2,   228.3,2,    50.8,2,    25.0,2,    0.01,2,   1.688,2,   0.008,2,   0.004,2,   0.000,2,     2205.7,2,  2334.1,2,  -999.0,9, -999.00,   7.6905,2,       25,-999.000,9,-999.0000,9, -999.00,9,  -999.0,9,  -999.0,   0.046,3, -999.00,9,  41.5902,2, -999.00,9, 2450.80,  -999.0,9,   2.3249,     27.818,    35.0059,2,     -999.0,9,     -999.0,9,     -999.0,     -999.0,9,     -999.0
33RO20110926,        A10,      47,          1,          5,      11704,2,20111010,       0347,   -30.0169,    -8.5312,       4071,  2749.9,   2.4319,  34.8571,2,  34.8577,2,    235.0,2,   234.1,2,    50.6,2,    24.4,2,    0.00,2,   1.639,2,   0.005,2,   0.003,2,   0.000,2,     2202.8,2,    2338,2,  -999.0,9, -999.00,   7.7024,2,       25,-999.000,9,-999.0000,9, -999.00,9,  -999.0,9,  -999.0,   0.050,3, -999.00,9,  42.1073,2, -999.00,9, 2749.90,  -999.0,9,   2.2187,     27.840,    35.0221,2,     -999.0,9,     -999.0,9,     -999.0,     -999.0,9,     -999.0
33RO20110926,        A10,      47,          1,          4,      11030,2,20111010,       0347,   -30.0169,    -8.5312,       4071,  3050.3,   2.3856,  34.8665,2,  34.8666,2,    237.5,2,   236.7,2,    50.3,6,    23.8,6,    0.01,6,   1.611,6,   0.005,2,   0.004,2,   0.048,2,     2204.4,2,  2340.2,2,  -999.0,9, -999.00,   7.7104,2,       25,-999.000,9,-999.0000,9, -999.00,9,  -999.0,9,  -999.0,   0.041,3, -999.00,9,  42.3512,2, -999.00,9, 3050.30,  -999.0,9,   2.1434,     27.853,    35.0310,2,     -999.0,9,     -999.0,9,     -999.0,     -999.0,9,     -999.0
33RO20110926,        A10,      47,          1,          3,      11703,2,20111010,       0347,   -30.0169,    -8.5312,       4071,  3345.7,   2.3781,  34.8711,2,  34.8709,2,    237.9,2,   238.4,2,    50.8,2,    23.9,2,    0.00,2,   1.599,2,   0.004,2,   0.003,2,   0.045,2,     2204.6,2,  2340.7,2,  -999.0,9, -999.00,   7.7105,2,       25,-999.000,9,-999.0000,9, -999.00,9,  -999.0,9,  -999.0,   0.035,3, -999.00,9,  43.2293,2, -999.00,9, 3345.70,  -999.0,9,   2.1054,     27.860,    35.0353,2,     -999.0,9,     -999.0,9,     -999.0,     -999.0,9,     -999.0
33RO20110926,        A10,      47,          1,          2,      11702,2,20111010,       0347,   -30.0169,    -8.5312,       4071,  3600.8,   2.3845,  34.8741,2,  34.8737,2,    237.8,2,   237.9,2,    50.9,2,    23.7,2,    0.01,2,   1.593,2,   0.004,2,   0.003,2,   0.000,2,     2204.2,2,  2343.6,2,  -999.0,9, -999.00,   7.7146,2,       25,-999.000,9,-999.0000,9, -999.00,9,  -999.0,9,  -999.0,   0.032,3, -999.00,9,  42.9463,2, -999.00,9, 3600.80,  -999.0,9,   2.0842,     27.864,    35.0381,2,     -999.0,9,     -999.0,9,     -999.0,     -999.0,9,     -999.0
33RO20110926,        A10,      47,          1,          1,      11701,2,20111010,       0347,   -30.0169,    -8.5312,       4071,  4081.3,   2.4196,  34.8772,2,  34.8780,2,    237.0,2,   235.3,2,    51.4,2,    23.9,2,    0.00,2,   1.593,2,   0.006,6,   0.004,6,   0.055,6,     2207.2,6,  2347.5,6,  -999.0,9, -999.00,   7.7155,6,       25,-999.000,9,-999.0000,9, -999.00,9,  -999.0,9,  -999.0,   0.044,3, -999.00,9,  43.0634,2, -999.00,9, 4081.30,  -999.0,9,   2.0643,     27.869,    35.0425,2,     -999.0,9,     -999.0,9,     -999.0,     -999.0,9,     -999.0