BOTTLE,20220815CCHSIOAMB
EXPOCODE,SECT_ID,STNNBR,CASTNO,SAMPNO,BTLNBR,BTLNBR_FLAG_W,DATE,TIME,LATITUDE,LONGITUDE,DEPTH,CTDPRS,CTDTMP,CTDSAL,CTDSAL_FLAG_W,SALNTY,SALNTY_FLAG_W,CTDOXY,CTDOXY_FLAG_W,OXYGEN,OXYGEN_FLAG_W,SILCAT,SILCAT_FLAG_W,NITRAT,NITRAT_FLAG_W,NITRIT,NITRIT_FLAG_W,PHSPHT,PHSPHT_FLAG_W,CFC-11,CFC-11_FLAG_W,CFC-12,CFC-12_FLAG_W,SF6,SF6_FLAG_W,TCARBN,TCARBN_FLAG_W,ALKALI,ALKALI_FLAG_W,PCO2,PCO2_FLAG_W,PCO2TMP,PH_SWS,PH_SWS_FLAG_W,PH_TMP,TRITUM,TRITUM_FLAG_W,HELIUM,HELIUM_FLAG_W,DELC13,DELC13_FLAG_W,DELC14,DELC14_FLAG_W,C14ERR,CCL4,CCL4_FLAG_W,DELO18,DELO18_FLAG_W,DOC,DOC_FLAG_W,TDN,TDN_FLAG_W,CTDRAW,14C-DOC,14C-DOC_FLAG_W,THETA,SIG0,SALTREF,SALTREF_FLAG_W,BLACKC,BLACKC_FLAG_W,PIGMENTS,PIGMENTS_FLAG_W,14C-DOCERR,13C-DOC,13C-DOC_FLAG_W,13C-DOCERR
,,,,,,,,,,,METERS,DBAR,ITS-90,PSS-78,,PSS-78,,UMOL/KG,,UMOL/KG,,UMOL/KG,,UMOL/KG,,UMOL/KG,,UMOL/KG,,PMOL/KG,,PMOL/KG,,FMOL/KG,,UMOL/KG,,UMOL/KG,,UATM,,DEG C,,,DEG C,TU,,NMOL/KG,,/MILLE,,/MILLE,,/MILLE,PMOL/KG,,/MILLE,,UMOL/KG,,UMOL/KG,,DBAR,/MILLE,,DEG C,KG/M^3,G/KG,,,,,,/MILLE,/MILLE,,/MILLE
33RO20110926,        A10,      26,          1,         24,      11714,2,20111004,       1504,   -29.4002,     2.6163,       1795,     4.4,  17.8510,  35.8084,2,  35.8079,2,    241.1,2,   241.4,2,     1.6,2,     0.0,2,    0.00,2,   0.116,4,   2.441,2,   1.458,2,   1.485,2,       2084,6,  2352.3,6,  -999.0,9, -999.00,   7.9824,6,       25,-999.000,9,-999.0000,9, -999.00,9,  -999.0,9,  -999.0,   2.943,3, -999.00,9,-999.0000,9, -999.00,9,    4.40,  -999.0,9,  17.8503,     25.928,    35.9768,2,     -999.0,9,     -999.0,9,     -999.0,     -999.0,9,     -999.0
33RO20110926,        A10,      26,          1,         23,      11713,2,20111004,       1504,   -29.4002,     2.6163,       1795,     4.4,  17.8488,  35.8082,2,-999.0000,9,    241.1,2,  -999.0,9, -999.00,9,  -999.0,9, -999.00,9,-999.000,9,-999.000,9,-999.000,9,-999.000,9,-999.000000,9,  -999.0,9,  -999.0,9, -999.00,-999.0000,9,  -999.00,-999.000,9,-999.0000,9, -999.00,9,  -999.0,9,  -999.0,-999.000,9, -999.00,9,-999.0000,9, -999.00,9,    4.40,  -999.0,9,  17.8481,     25.928,     -999.0,9,     -999.0,9,     -999.0,1,     -999.0,     -999.0,9,     -999.0
33RO20110926,        A10,      26,          1,         22,      11712,2,20111004,       1504,   -29.4002,     2.6163,       1795,    34.3,  17.2054,  35.7593,2,  35.7548,2,    244.4,2,   244.7,2,     1.5,2,     0.0,2,    0.00,2,   0.116,4,-999.000,9,-999.000,9,-999.000,9,     2083.6,2,    2348,2,  -999.0,9, -999.00,   7.9819,2,       25,-999.000,9,-999.0000,9, -999.00,9,  -999.0,9,  -999.0,-999.000,9, -999.00,9,-999.0000,9, -999.00,9,   34.30,  -999.0,9,  17.1997,     26.046,    35.9234,2,     -999.0,9,     -999.0,9,     -999.0,     -999.0,9,     -999.0
33RO20110926,        A10,      26,          1,         20,      11715,2,20111004,       1504,   -29.4002,     2.6163,       1795,    79.8,  16.7876,  35.7189,2,-999.0000,9,    248.5,2,  -999.0,9, -999.00,9,  -999.0,9, -999.00,9,-999.000,9,-999.000,9,-999.000,9,-999.000,9,-999.000000,9,  -999.0,9,  -999.0,9, -999.00,-999.0000,9,  -999.00,-999.000,9,-999.0000,9, -999.00,9,  -999.0,9,  -999.0,-999.000,9, -999.00,9,-999.0000,9, -999.00,9,   79.80,  -999.0,9,  16.7745,     26.119,     -999.0,9,     -999.0,9,     -999.0,1,     -999.0,     -999.0,9,     -999.0
33RO20110926,        A10,      26,          1,         21,      11010,2,20111004,       1504,   -29.4002,     2.6163,       1795,    79.8,  16.7873,  35.7189,2,  35.7197,2,    248.5,2,   247.4,2,     1.4,2,     0.1,2,    0.01,2,   0.123,4,   2.493,2,   1.485,2,   1.458,2,     2081.1,2,  2350.2,2,  -999.0,9, -999.00,   7.9779,2,       25,-999.000,9,-999.0000,9, -999.00,9,  -999.0,9,  -999.0,   2.745,3, -999.00,9,-999.0000,9, -999.00,9,   79.80,  -999.0,9,  16.7742,     26.118,    35.8881,2,     -999.0,9,     -999.0,9,     -999.0,     -999.0,9,     -999.0
33RO20110926,        A10,      26,          1,         18,      11710,2,20111004,       1504,   -29.4002,     2.6163,       1795,   119.3,  16.3792,  35.6796,2,-999.0000,9,    236.7,2,  -999.0,9, -999.00,9,  -999.0,9, -999.00,9,-999.000,9,-999.000,9,-999.000,9,-999.000,9,-999.000000,9,  -999.0,9,  -999.0,9, -999.00,-999.0000,9,  -999.00,-999.000,9,-999.0000,9, -999.00,9,  -999.0,9,  -999.0,-999.000,9, -999.00,9,-999.0000,9, -999.00,9,  119.30,  -999.0,9,  16.3599,     26.187,     -999.0,9,     -999.0,9,     -999.0,1,     -999.0,     -999.0,9,     -999.0
33RO20110926,        A10,      26,          1,         19,      11007,2,20111004,       1504,   -29.4002,     2.6163,       1795,   119.3,  16.3809,  35.6800,2,  35.6838,2,    236.7,2,   235.5,2,     2.2,2,     1.1,2,    0.58,2,   0.202,4,-999.000,9,-999.000,9,-999.000,9,     2088.4,2,  2345.1,2,  -999.0,9, -999.00,   7.9569,2,       25,-999.000,9,-999.0000,9, -999.00,9,  -999.0,9,  -999.0,-999.000,9, -999.00,9,-999.0000,9, -999.00,9,  119.30,  -999.0,9,  16.3616,     26.191,    35.8521,2,     -999.0,9,     -999.0,9,     -999.0,     -999.0,9,     -999.0
33RO20110926,        A10,      26,          1,         17,      11023,2,20111004,       1504,   -29.4002,     2.6163,       1795,   179.6,  14.9504,  35.4169,2,  35.4415,4,    219.7,2,     220,2,     2.8,6,     5.0,6,    0.02,6,   0.355,4,   2.708,2,   1.585,2,   1.481,2,     2103.3,2,  2330.7,2,  -999.0,9, -999.00,   7.9038,2,       25,-999.000,9,-999.0000,9, -999.00,9,  -999.0,9,  -999.0,   1.028,3, -999.00,9,-999.0000,9, -999.00,9,  179.60,  -999.0,9,  14.9232,     26.323,    35.6086,2,     -999.0,9,     -999.0,9,     -999.0,     -999.0,9,     -999.0
33RO20110926,        A10,      26,          1,         16,      11709,2,20111004,       1504,   -29.4002,     2.6163,       1795,   229.2,  13.7333,  35.2204,2,  35.2255,2,    218.7,2,   217.5,2,     3.3,2,     7.5,2,    0.01,2,   0.483,4,-999.000,9,-999.000,9,-999.000,9,-999.000000,9,  -999.0,9,  -999.0,9, -999.00,-999.0000,9,  -999.00,-999.000,9,-999.0000,9, -999.00,9,  -999.0,9,  -999.0,-999.000,9, -999.00,9,-999.0000,9, -999.00,9,  229.20,  -999.0,9,  13.7005,     26.422,    35.3916,2,     -999.0,9,     -999.0,9,     -999.0,     -999.0,9,     -999.0
33RO20110926,        A10,      26,          1,         15,      11006,2,20111004,       1504,   -29.4002,     2.6163,       1795,   280.5,  12.6679,  35.0976,2,  35.0977,2,    216.7,2,   216.2,2,     4.0,2,    10.2,2,    0.01,2,   0.604,4,   3.051,2,   1.734,2,   1.351,2,     2119.7,2,  2310.9,2,  -999.0,9, -999.00,   7.8377,2,       25,-999.000,9,-999.0000,9, -999.00,9,  -999.0,9,  -999.0,   0.919,3, -999.00,9,-999.0000,9, -999.00,9,  280.50,  -999.0,9,  12.6298,     26.543,    35.2632,2,     -999.0,9,     -999.0,9,     -999.0,     -999.0,9,     -999.0
33RO20110926,        A10,      26,          1,         14,      11708,2,20111004,       1504,   -29.4002,     2.6163,       1795,   324.3,  11.8351,  35.0205,2,  35.0160,2,    210.5,2,   210.8,2,     5.0,2,    13.0,2,    0.01,2,   0.742,4,-999.000,9,-999.000,9,-999.000,9,-999.000000,9,  -999.0,9,  -999.0,9, -999.00,-999.0000,9,  -999.00,-999.000,9,-999.0000,9, -999.00,9,  -999.0,9,  -999.0,-999.000,9, -999.00,9,-999.0000,9, -999.00,9,  324.30,  -999.0,9,  11.7929,     26.642,    35.1811,2,     -999.0,9,     -999.0,9,     -999.0,     -999.0,9,     -999.0
33RO20110926,        A10,      26,          1,         13,      11031,2,20111004,       1504,   -29.4002,     2.6163,       1795,   389.5,  10.7840,  34.8897,2,  34.8858,2,    211.5,2,   211.6,2,     6.2,2,    15.2,2,    0.01,2,   0.858,4,   3.237,2,   1.766,2,   1.172,2,     2136.8,2,  2300.8,2,  -999.0,9, -999.00,   7.7815,2,       25,-999.000,9,-999.0000,9, -999.00,9,  -999.0,9,  -999.0,   1.148,3, -999.00,9,-999.0000,9, -999.00,9,  389.50,  -999.0,9,  10.7362,     26.735,    35.0503,2,     -999.0,9,     -999.0,9,     -999.0,     -999.0,9,     -999.0
33RO20110926,        A10,      26,          1,         12,      11027,2,20111004,       1504,   -29.4002,     2.6163,       1795,   455.3,   9.7933,  34.7692,2,  34.7645,2,    198.9,2,   200.2,2,     8.6,6,    18.9,6,    0.01,6,   1.042,4,-999.000,9,-999.000,9,-999.000,9,-999.000000,9,  -999.0,9,  -999.0,9, -999.00,-999.0000,9,  -999.00,-999.000,9,-999.0000,9, -999.00,9,  -999.0,9,  -999.0,-999.000,9, -999.00,9,-999.0000,9, -999.00,9,  455.30,  -999.0,9,   9.7406,     26.810,    34.9284,2,     -999.0,9,     -999.0,9,     -999.0,     -999.0,9,     -999.0
33RO20110926,        A10,      26,          1,         11,      11707,2,20111004,       1504,   -29.4002,     2.6163,       1795,   518.9,   8.4986,  34.6220,2,  34.6234,2,    200.3,2,   200.2,2,    11.1,2,    21.8,2,    0.01,2,   1.201,4,   3.167,2,   1.673,2,   0.979,2,     2160.5,2,  2292.7,2,  -999.0,9, -999.00,   7.7134,2,       25,-999.000,9,-999.0000,9, -999.00,9,  -999.0,9,  -999.0,   1.602,3, -999.00,9,-999.0000,9, -999.00,9,  518.90,  -999.0,9,   8.4433,     26.910,    34.7867,2,     -999.0,9,     -999.0,9,     -999.0,     -999.0,9,     -999.0
33RO20110926,        A10,      26,          1,         10,      11003,2,20111004,       1504,   -29.4002,     2.6163,       1795,   619.2,   6.9073,  34.4746,2,  34.4753,2,    197.2,2,   196.5,2,    16.3,2,    26.3,2,    0.01,2,   1.453,4,-999.000,9,-999.000,9,-999.000,9,     2176.3,2,  2290.8,2,  -999.0,9, -999.00,   7.6525,2,       25,-999.000,9,-999.0000,9, -999.00,9,  -999.0,9,  -999.0,-999.000,9, -999.00,9,-999.0000,9, -999.00,9,  619.20,  -999.0,9,   6.8485,     27.027,    34.6379,2,     -999.0,9,     -999.0,9,     -999.0,     -999.0,9,     -999.0
33RO20110926,        A10,      26,          1,          9,      11706,2,20111004,       1504,   -29.4002,     2.6163,       1795,   720.2,   5.7100,  34.3838,2,  34.3851,2,    202.5,2,     203,2,    20.3,2,    28.4,2,    0.00,2,   1.587,4,   2.839,2,   1.440,2,   0.700,2,     2183.6,2,  2290.8,2,  -999.0,9, -999.00,   7.6384,2,       25,-999.000,9,-999.0000,9, -999.00,9,  -999.0,9,  -999.0,   2.138,3, -999.00,9,-999.0000,9, -999.00,9,  720.20,  -999.0,9,   5.6477,     27.111,    34.5472,2,     -999.0,9,     -999.0,9,     -999.0,     -999.0,9,     -999.0
33RO20110926,        A10,      26,          1,          8,      11033,2,20111004,       1504,   -29.4002,     2.6163,       1795,   838.4,   4.6463,  34.3626,2,  34.3625,2,    195.2,2,   194.7,2,    29.4,2,    31.3,2,    0.00,2,   1.790,4,-999.000,9,-999.000,9,-999.000,9,-999.000000,9,  -999.0,9,  -999.0,9, -999.00,-999.0000,9,  -999.00,-999.000,9,-999.0000,9, -999.00,9,  -999.0,9,  -999.0,-999.000,9, -999.00,9,-999.0000,9, -999.00,9,  838.40,  -999.0,9,   4.5799,     27.217,    34.5245,2,     -999.0,9,     -999.0,9,     -999.0,     -999.0,9,     -999.0
33RO20110926,        A10,      26,          1,          7,      11705,2,20111004,       1504,   -29.4002,     2.6163,       1795,   959.1,   3.9185,  34.3967,2,  34.3949,2,    190.2,2,   190.3,2,    39.7,6,    32.6,6,    0.00,6,   1.921,4,   1.474,6,   0.715,6,   0.264,6,     2216.1,2,  2305.3,2,  -999.0,9, -999.00,   7.5912,2,       25,-999.000,9,-999.0000,9, -999.00,9,  -999.0,9,  -999.0,   1.474,3, -999.00,9,-999.0000,9, -999.00,9,  959.10,  -999.0,9,   3.8470,     27.320,    34.5571,2,     -999.0,9,     -999.0,9,     -999.0,     -999.0,9,     -999.0
33RO20110926,        A10,      26,          1,          6,      11029,2,20111004,       1504,   -29.4002,     2.6163,       1795,  1079.4,   3.5373,  34.4615,2,  34.4579,2,    182.1,2,   181.3,2,    47.3,2,    33.2,2,    0.00,2,   2.003,4,   0.901,2,   0.430,2,   0.162,2,-999.000000,9,  -999.0,9,  -999.0,9, -999.00,-999.0000,9,  -999.00,-999.000,9,-999.0000,9, -999.00,9,  -999.0,9,  -999.0,   1.023,3, -999.00,9,-999.0000,9, -999.00,9, 1079.40,  -999.0,9,   3.4589,     27.409,    34.6204,2,     -999.0,9,     -999.0,9,     -999.0,     -999.0,9,     -999.0
33RO20110926,        A10,      26,          1,          5,      11704,2,20111004,       1504,   -29.4002,     2.6163,       1795,  1229.8,   3.3001,  34.5592,2,  34.5626,2,    178.9,2,   178.5,2,    51.2,2,    32.5,2,    0.00,2,   1.979,4,   0.395,2,   0.183,2,   0.061,2,     2231.1,2,  -999.0,5,  -999.0,9, -999.00,-999.0000,5,  -999.00,-999.000,9,-999.0000,9, -999.00,9,  -999.0,9,  -999.0,   0.527,3, -999.00,9,-999.0000,9, -999.00,9, 1229.80,  -999.0,9,   3.2114,     27.516,    34.7256,2,     -999.0,9,     -999.0,9,     -999.0,     -999.0,9,     -999.0
33RO20110926,        A10,      26,          1,          4,      11030,2,20111004,       1504,   -29.4002,     2.6163,       1795,  1404.9,   3.1684,  34.6553,2,  34.6545,2,    185.2,2,   185.6,2,    51.2,2,    30.8,2,    0.00,2,   1.893,4,-999.000,9,-999.000,9,-999.000,9,-999.000000,9,  -999.0,9,  -999.0,9, -999.00,-999.0000,9,  -999.00,-999.000,9,-999.0000,9, -999.00,9,  -999.0,9,  -999.0,-999.000,9, -999.00,9,-999.0000,9, -999.00,9, 1404.90,  -999.0,9,   3.0664,     27.603,    34.8179,2,     -999.0,9,     -999.0,9,     -999.0,     -999.0,9,     -999.0
33RO20110926,        A10,      26,          1,          3,      11703,2,20111004,       1504,   -29.4002,     2.6163,       1795,  1580.0,   3.0915,  34.7229,2,  34.7234,2,    193.2,2,   194.7,2,    49.7,2,    29.2,2,    0.00,2,   1.795,4,   0.101,2,   0.047,2,   0.000,2,     2221.5,2,  2331.9,4,  -999.0,9, -999.00,   7.6394,2,       25,-999.000,9,-999.0000,9, -999.00,9,  -999.0,9,  -999.0,   0.179,3, -999.00,9,-999.0000,9, -999.00,9, 1580.00,  -999.0,9,   2.9754,     27.666,    34.8871,2,     -999.0,9,     -999.0,9,     -999.0,     -999.0,9,     -999.0
33RO20110926,        A10,      26,          1,          2,      11702,2,20111004,       1504,   -29.4002,     2.6163,       1795,  1740.7,   3.0819,  34.7855,2,  34.7851,2,    205.9,2,   205.8,2,    45.4,2,    27.3,2,    0.01,2,   1.663,4,-999.000,9,-999.000,9,-999.000,9,-999.000000,9,  -999.0,9,  -999.0,9, -999.00,-999.0000,9,  -999.00,-999.000,9,-999.0000,9, -999.00,9,  -999.0,9,  -999.0,-999.000,9, -999.00,9,-999.0000,9, -999.00,9, 1740.70,  -999.0,9,   2.9518,     27.718,    34.9491,2,     -999.0,9,     -999.0,9,     -999.0,     -999.0,9,     -999.0
33RO20110926,        A10,      26,          1,          1,      11701,2,20111004,       1504,   -29.4002,     2.6163,       1795,  1802.4,   3.0543,  34.8030,2,  34.8040,2,    210.4,2,   210.1,2,    44.5,6,    26.7,6,    0.01,6,   1.620,4,   0.036,2,   0.018,2,   0.000,2,       2210,6,  2328.7,6,  -999.0,9, -999.00,     7.66,6,       25,-999.000,9,-999.0000,9, -999.00,9,  -999.0,9,  -999.0,   0.084,3, -999.00,9,-999.0000,9, -999.00,9, 1802.40,  -999.0,9,   2.9191,     27.736,    34.9681,2,     -999.0,9,     -999.0,9,     -999.0,     -999.0,9,     -999.0