BOTTLE,20220815CCHSIOAMB
EXPOCODE,SECT_ID,STNNBR,CASTNO,SAMPNO,BTLNBR,BTLNBR_FLAG_W,DATE,TIME,LATITUDE,LONGITUDE,DEPTH,CTDPRS,CTDTMP,CTDSAL,CTDSAL_FLAG_W,SALNTY,SALNTY_FLAG_W,CTDOXY,CTDOXY_FLAG_W,OXYGEN,OXYGEN_FLAG_W,SILCAT,SILCAT_FLAG_W,NITRAT,NITRAT_FLAG_W,NITRIT,NITRIT_FLAG_W,PHSPHT,PHSPHT_FLAG_W,CFC-11,CFC-11_FLAG_W,CFC-12,CFC-12_FLAG_W,SF6,SF6_FLAG_W,TCARBN,TCARBN_FLAG_W,ALKALI,ALKALI_FLAG_W,PCO2,PCO2_FLAG_W,PCO2TMP,PH_SWS,PH_SWS_FLAG_W,PH_TMP,TRITUM,TRITUM_FLAG_W,HELIUM,HELIUM_FLAG_W,DELC13,DELC13_FLAG_W,DELC14,DELC14_FLAG_W,C14ERR,CCL4,CCL4_FLAG_W,DELO18,DELO18_FLAG_W,DOC,DOC_FLAG_W,TDN,TDN_FLAG_W,CTDRAW,14C-DOC,14C-DOC_FLAG_W,THETA,SIG0,SALTREF,SALTREF_FLAG_W,BLACKC,BLACKC_FLAG_W,PIGMENTS,PIGMENTS_FLAG_W,14C-DOCERR,13C-DOC,13C-DOC_FLAG_W,13C-DOCERR
,,,,,,,,,,,METERS,DBAR,ITS-90,PSS-78,,PSS-78,,UMOL/KG,,UMOL/KG,,UMOL/KG,,UMOL/KG,,UMOL/KG,,UMOL/KG,,PMOL/KG,,PMOL/KG,,FMOL/KG,,UMOL/KG,,UMOL/KG,,UATM,,DEG C,,,DEG C,TU,,NMOL/KG,,/MILLE,,/MILLE,,/MILLE,PMOL/KG,,/MILLE,,UMOL/KG,,UMOL/KG,,DBAR,/MILLE,,DEG C,KG/M^3,G/KG,,,,,,/MILLE,/MILLE,,/MILLE
33RO20110926,        A10,      70,          1,         24,      11714,2,20111018,       1847,   -29.9985,   -25.6606,       4843,     3.8,  18.2166,  36.0246,2,  36.0242,2,    231.2,2,   234.1,2,     1.2,2,     0.1,2,    0.01,2,   0.099,4,   2.292,6,   1.392,6,   1.413,6,     2082.3,6,  2361.5,2,  -999.0,9, -999.00,    7.988,2,       25,-999.000,9,-999.0000,9, -999.00,9,  -999.0,9,  -999.0,   3.215,4, -999.00,9,-999.0000,9, -999.00,9,    3.80,  -999.0,9,  18.2160,     26.003,    36.1940,2,     -999.0,9,     -999.0,1,     -999.0,     -999.0,9,     -999.0
33RO20110926,        A10,      70,          1,         23,      11713,2,20111018,       1847,   -29.9985,   -25.6606,       4843,    35.4,  18.1917,  36.0175,2,  36.0164,2,    232.1,2,   234.9,2,     1.1,2,     0.1,2,    0.01,2,   0.104,4,   2.304,2,   1.398,2,   1.447,2,     2081.3,2,  2363.3,6,  -999.0,9, -999.00,   7.9875,6,       25,-999.000,9,-999.0000,9, -999.00,9,  -999.0,9,  -999.0,   3.259,4, -999.00,9,-999.0000,9, -999.00,9,   35.40,  -999.0,9,  18.1856,     26.005,    36.1863,2,     -999.0,9,     -999.0,9,     -999.0,     -999.0,9,     -999.0
33RO20110926,        A10,      70,          1,         22,      11712,2,20111018,       1847,   -29.9985,   -25.6606,       4843,    75.3,  16.5381,  35.7364,2,  35.7361,2,    243.6,2,   245.7,2,     1.0,2,     0.1,2,    0.01,2,   0.114,4,   2.494,2,   1.504,2,   1.503,2,     2080.5,2,  2343.7,2,  -999.0,9, -999.00,   7.9649,2,       25,-999.000,9,-999.0000,9, -999.00,9,  -999.0,9,  -999.0,   2.943,4, -999.00,9,-999.0000,9, -999.00,9,   75.30,  -999.0,9,  16.5259,     26.191,    35.9046,2,     -999.0,9,     -999.0,9,     -999.0,     -999.0,9,     -999.0
33RO20110926,        A10,      70,          1,         21,      11010,2,20111018,       1847,   -29.9985,   -25.6606,       4843,   125.0,  16.3209,  35.7211,2,  35.7234,2,    242.2,2,   243.8,2,     1.1,2,     0.1,2,    0.05,2,   0.131,4,   2.512,2,   1.506,2,   1.516,2,     2084.4,2,  2341.9,2,  -999.0,9, -999.00,   7.9579,2,       25,-999.000,9,-999.0000,9, -999.00,9,  -999.0,9,  -999.0,   2.713,4, -999.00,9,-999.0000,9, -999.00,9,  125.00,  -999.0,9,  16.3008,     26.235,    35.8919,2,     -999.0,9,     -999.0,1,     -999.0,     -999.0,9,     -999.0
33RO20110926,        A10,      70,          1,         20,      11715,2,20111018,       1847,   -29.9985,   -25.6606,       4843,   176.2,  15.7639,  35.6478,2,  35.6492,2,    231.4,2,     241,2,     1.3,2,     0.9,2,    0.42,2,   0.180,4,   2.570,2,   1.536,2,   1.544,2,     2088.5,2,  2338.1,2,  -999.0,9, -999.00,   7.9399,2,       25,-999.000,9,-999.0000,9, -999.00,9,  -999.0,9,  -999.0,   2.845,4, -999.00,9,-999.0000,9, -999.00,9,  176.20,  -999.0,9,  15.7362,     26.308,    35.8173,2,     -999.0,9,     -999.0,1,     -999.0,     -999.0,9,     -999.0
33RO20110926,        A10,      70,          1,         19,      11007,2,20111018,       1847,   -29.9985,   -25.6606,       4843,   262.4,  13.5011,  35.2579,2,  35.2579,2,    211.8,2,   212.1,2,     3.0,6,     8.7,6,    0.02,6,   0.549,4,   2.911,2,   1.673,2,   1.300,2,     2120.2,2,  2315.4,2,  -999.0,9, -999.00,   7.8447,2,       25,-999.000,9,-999.0000,9, -999.00,9,  -999.0,9,  -999.0,   1.145,3, -999.00,9,-999.0000,9, -999.00,9,  262.40,  -999.0,9,  13.4639,     26.498,    35.4242,2,     -999.0,9,     -999.0,9,     -999.0,     -999.0,9,     -999.0
33RO20110926,        A10,      70,          1,         18,      11710,2,20111018,       1847,   -29.9985,   -25.6606,       4843,   354.4,  12.3212,  35.1185,2,  35.1197,2,    213.9,2,   214.4,2,     3.9,2,    11.5,2,    0.01,2,   0.688,4,   3.047,2,   1.726,2,   1.206,2,       2126,2,  2310.3,2,  -999.0,9, -999.00,   7.8147,2,       25,-999.000,9,-999.0000,9, -999.00,9,  -999.0,9,  -999.0,   1.423,3, -999.00,9,-999.0000,9, -999.00,9,  354.40,  -999.0,9,  12.2738,     26.629,    35.2853,2,     -999.0,9,     -999.0,9,     -999.0,     -999.0,9,     -999.0
33RO20110926,        A10,      70,          1,         17,      11023,2,20111018,       1847,   -29.9985,   -25.6606,       4843,   455.4,  10.6940,  34.8978,2,  34.8987,2,    209.8,2,   210.8,2,     5.9,2,    15.7,2,    0.01,2,   0.896,4,   3.162,2,   1.731,2,   1.113,2,     2139.9,2,  2303.3,2,  -999.0,9, -999.00,-999.0000,5,  -999.00,-999.000,9,-999.0000,9, -999.00,9,  -999.0,9,  -999.0,   1.942,3, -999.00,9,-999.0000,9, -999.00,9,  455.40,  -999.0,9,  10.6383,     26.763,    35.0632,2,     -999.0,9,     -999.0,9,     -999.0,     -999.0,9,     -999.0
33RO20110926,        A10,      70,          1,         16,      11709,2,20111018,       1847,   -29.9985,   -25.6606,       4843,   557.0,   8.8399,  34.6611,2,  34.6621,2,    205.3,2,   205.8,2,     9.1,6,    20.8,6,    0.01,6,   1.155,4,   3.188,2,   1.696,2,   0.941,2,     2154.7,2,  2293.9,2,  -999.0,9, -999.00,   7.7154,4,       25,-999.000,9,-999.0000,9, -999.00,9,  -999.0,9,  -999.0,   2.571,3, -999.00,9,-999.0000,9, -999.00,9,  557.00,  -999.0,9,   8.7790,     26.888,    34.8256,2,     -999.0,9,     -999.0,9,     -999.0,     -999.0,9,     -999.0
33RO20110926,        A10,      70,          1,         15,      11006,2,20111018,       1847,   -29.9985,   -25.6606,       4843,   754.0,   5.4517,  34.3397,2,  34.3409,2,    219.7,2,   219.3,2,    17.8,2,    28.1,2,    0.01,2,   1.577,4,   3.104,2,   1.568,2,   0.750,2,     2175.6,2,  2283.7,2,  -999.0,9, -999.00,   7.6455,2,       25,-999.000,9,-999.0000,9, -999.00,9,  -999.0,9,  -999.0,   4.337,3, -999.00,9,-999.0000,9, -999.00,9,  754.00,  -999.0,9,   5.3878,     27.106,    34.5028,2,     -999.0,9,     -999.0,9,     -999.0,     -999.0,9,     -999.0
33RO20110926,        A10,      70,          1,         13,      11031,2,20111018,       1847,   -29.9985,   -25.6606,       4843,   954.6,   4.0463,  34.3300,2,  34.3305,2,    209.4,2,   208.8,2,    32.1,2,    31.5,2,    0.01,2,   1.856,4,   2.110,2,   1.038,2,   0.403,2,     2199.2,2,  2293.8,2,  -999.0,9, -999.00,   7.6124,2,       25,-999.000,9,-999.0000,9, -999.00,9,  -999.0,9,  -999.0,   3.575,3, -999.00,9,-999.0000,9, -999.00,9,  954.60,  -999.0,9,   3.9744,     27.256,    34.4924,2,     -999.0,9,     -999.0,9,     -999.0,     -999.0,9,     -999.0
33RO20110926,        A10,      70,          1,         14,      11708,2,20111018,       1847,   -29.9985,   -25.6606,       4843,   954.8,   4.0481,  34.3301,2,-999.0000,9,    209.4,2,   209.1,2,    32.1,2,    31.6,2,    0.01,2,   1.859,4,   2.115,2,   1.040,2,   0.369,2,     2199.3,2,  2292.9,2,  -999.0,9, -999.00,   7.6004,2,       25,-999.000,9,-999.0000,9, -999.00,9,  -999.0,9,  -999.0,   3.625,3, -999.00,9,-999.0000,9, -999.00,9,  954.80,  -999.0,9,   3.9761,     27.255,     -999.0,5,     -999.0,9,     -999.0,9,     -999.0,     -999.0,9,     -999.0
33RO20110926,        A10,      70,          1,         12,      11027,2,20111018,       1847,   -29.9985,   -25.6606,       4843,  1154.0,   3.3688,  34.4092,2,  34.4106,2,    195.1,2,   194.5,2,    45.2,2,    33.1,2,    0.01,2,   2.034,4,   1.163,2,   0.564,2,   0.182,2,     2219.6,2,  2307.5,2,  -999.0,9, -999.00,   7.5894,2,       25,-999.000,9,-999.0000,9, -999.00,9,  -999.0,9,  -999.0,   2.291,3, -999.00,9,-999.0000,9, -999.00,9, 1154.00,  -999.0,9,   3.2859,     27.388,    34.5728,2,     -999.0,9,     -999.0,9,     -999.0,     -999.0,9,     -999.0
33RO20110926,        A10,      70,          1,         11,      11707,2,20111018,       1847,   -29.9985,   -25.6606,       4843,  1354.6,   3.0546,  34.5288,2,  34.5299,2,    187.6,2,   186.9,2,    53.7,2,    32.9,2,    0.01,2,   2.083,4,   0.524,2,   0.252,2,   0.057,2,     2230.8,2,  2320.2,6,  -999.0,9, -999.00,   7.5814,2,       25,-999.000,9,-999.0000,9, -999.00,9,  -999.0,9,  -999.0,   1.244,3, -999.00,9,-999.0000,9, -999.00,9, 1354.60,  -999.0,9,   2.9582,     27.514,    34.6928,2,     -999.0,9,     -999.0,9,     -999.0,     -999.0,9,     -999.0
33RO20110926,        A10,      70,          1,         10,      11003,2,20111018,       1847,   -29.9985,   -25.6606,       4843,  1500.0,   2.9312,  34.6229,2,  34.6264,2,    190.2,2,   190.2,2,    55.4,2,    31.7,2,    0.01,2,   2.015,4,   0.256,2,   0.124,2,   0.045,2,     2228.9,6,  2322.8,2,  -999.0,9, -999.00,   7.5748,4,       25,-999.000,9,-999.0000,9, -999.00,9,  -999.0,9,  -999.0,   0.816,3, -999.00,9,-999.0000,9, -999.00,9, 1500.00,  -999.0,9,   2.8240,     27.603,    34.7897,2,     -999.0,9,     -999.0,9,     -999.0,     -999.0,9,     -999.0
33RO20110926,        A10,      70,          1,          9,      11706,2,20111018,       1847,   -29.9985,   -25.6606,       4843,  1750.9,   2.7980,  34.7315,2,  34.7309,2,    204.6,2,   204.8,2,    53.6,2,    28.9,2,    0.01,2,   1.863,4,   0.090,2,   0.043,2,   0.000,2,     2220.8,2,  2328.3,2,  -999.0,9, -999.00,   7.6202,4,       25,-999.000,9,-999.0000,9, -999.00,9,  -999.0,9,  -999.0,   0.430,3, -999.00,9,-999.0000,9, -999.00,9, 1750.90,  -999.0,9,   2.6710,     27.700,    34.8947,2,     -999.0,9,     -999.0,9,     -999.0,     -999.0,9,     -999.0
33RO20110926,        A10,      70,          1,          8,      11033,2,20111018,       1847,   -29.9985,   -25.6606,       4843,  2101.7,   2.6896,  34.8173,2,  34.8187,2,    222.3,2,   222.2,2,    48.8,2,    25.9,2,    0.01,2,   1.670,4,   0.025,2,   0.016,2,   0.067,2,       2207,2,  2330.2,2,  -999.0,9, -999.00,   7.6586,4,       25,-999.000,9,-999.0000,9, -999.00,9,  -999.0,9,  -999.0,   0.211,3, -999.00,9,-999.0000,9, -999.00,9, 2101.70,  -999.0,9,   2.5329,     27.780,    34.9829,6,     -999.0,9,     -999.0,9,     -999.0,     -999.0,9,     -999.0
33RO20110926,        A10,      70,          1,          7,      11705,2,20111018,       1847,   -29.9985,   -25.6606,       4843,  2448.9,   2.6970,  34.8627,2,  34.8642,2,    235.2,2,   235.6,2,    43.4,2,    24.0,2,    0.01,2,   1.525,4,   0.009,2,   0.005,2,   0.000,2,     2195.4,2,  2330.6,2,  -999.0,9, -999.00,   7.6849,4,       25,-999.000,9,-999.0000,9, -999.00,9,  -999.0,9,  -999.0,   0.144,3, -999.00,9,-999.0000,9, -999.00,9, 2448.90,  -999.0,9,   2.5078,     27.821,    35.0286,2,     -999.0,9,     -999.0,9,     -999.0,     -999.0,9,     -999.0
33RO20110926,        A10,      70,          1,          6,      11029,2,20111018,       1847,   -29.9985,   -25.6606,       4843,  2784.9,   2.7023,  34.8916,2,  34.8920,2,    245.1,2,   244.3,2,    39.0,2,    22.6,2,    0.01,2,   1.420,4,   0.005,2,   0.004,2,   0.000,2,     2187.1,2,  2331.5,2,  -999.0,9, -999.00,   7.6875,4,       25,-999.000,9,-999.0000,9, -999.00,9,  -999.0,9,  -999.0,   0.116,3, -999.00,9,-999.0000,9, -999.00,9, 2784.90,  -999.0,9,   2.4800,     27.845,    35.0565,2,     -999.0,9,     -999.0,9,     -999.0,     -999.0,9,     -999.0
33RO20110926,        A10,      70,          1,          5,      11704,2,20111018,       1847,   -29.9985,   -25.6606,       4843,  3201.3,   2.5292,  34.8929,2,  34.8963,2,    247.9,2,   248.5,2,    41.4,6,    22.3,6,    0.01,6,   1.423,4,   0.004,2,   0.003,2,   0.041,2,     2187.8,2,  2329.9,2,  -999.0,9, -999.00,   7.6975,4,       25,-999.000,9,-999.0000,9, -999.00,9,  -999.0,9,  -999.0,   0.103,3, -999.00,9,-999.0000,9, -999.00,9, 3201.30,  -999.0,9,   2.2680,     27.867,    35.0609,2,     -999.0,9,     -999.0,9,     -999.0,     -999.0,9,     -999.0
33RO20110926,        A10,      70,          1,          4,      11030,2,20111018,       1847,   -29.9985,   -25.6606,       4843,  3601.2,   1.9914,  34.8429,2,  34.8524,4,    241.7,2,   240.8,2,    60.6,2,    24.9,2,    0.01,2,   1.691,4,   0.014,2,   0.008,2,   0.081,2,     2206.6,2,  2338.6,2,  -999.0,9, -999.00,   7.6895,4,       25,-999.000,9,-999.0000,9, -999.00,9,  -999.0,9,  -999.0,   0.135,3, -999.00,9,-999.0000,9, -999.00,9, 3601.20,  -999.0,9,   1.7013,     27.877,    35.0168,2,     -999.0,9,     -999.0,9,     -999.0,     -999.0,9,     -999.0
33RO20110926,        A10,      70,          1,          3,      11703,2,20111018,       1847,   -29.9985,   -25.6606,       4843,  4096.6,   1.3308,  34.7717,2,  34.7742,2,    229.3,2,   229.6,2,    88.0,2,    28.6,2,    0.01,2,   2.086,4,   0.050,2,   0.024,2,   0.163,2,     2235.2,2,  2351.4,2,  -999.0,9, -999.00,   7.6444,4,       25,-999.000,9,-999.0000,9, -999.00,9,  -999.0,9,  -999.0,   0.270,3, -999.00,9,-999.0000,9, -999.00,9, 4096.60,  -999.0,9,   1.0055,     27.864,    34.9382,2,     -999.0,9,     -999.0,9,     -999.0,     -999.0,9,     -999.0
33RO20110926,        A10,      70,          1,          2,      11702,2,20111018,       1847,   -29.9985,   -25.6606,       4843,  4598.3,   1.2114,  34.7529,2,  34.7551,2,    225.6,2,   226.4,2,    95.3,2,    29.3,2,    0.01,2,   2.185,4,   0.077,2,   0.037,2,   0.140,2,     2241.6,2,  2356.5,6,  -999.0,9, -999.00,   7.6455,4,       25,-999.000,9,-999.0000,9, -999.00,9,  -999.0,9,  -999.0,   0.354,3, -999.00,9,-999.0000,9, -999.00,9, 4598.30,  -999.0,9,   0.8336,     27.859,    34.9190,2,     -999.0,9,     -999.0,9,     -999.0,     -999.0,9,     -999.0
33RO20110926,        A10,      70,          1,          1,      11701,2,20111018,       1847,   -29.9985,   -25.6606,       4843,  4892.5,   1.2275,  34.7506,2,  34.7559,4,    225.6,2,     225,2,    96.3,6,    29.4,6,    0.01,6,   2.203,4,   0.083,6,   0.040,6,   0.108,6,     2244.6,6,  2357.8,2,  -999.0,9, -999.00,   7.6384,4,       25,-999.000,9,-999.0000,9, -999.00,9,  -999.0,9,  -999.0,   0.360,3, -999.00,9,-999.0000,9, -999.00,9, 4892.50,  -999.0,9,   0.8148,     27.861,    34.9198,2,     -999.0,9,     -999.0,9,     -999.0,     -999.0,9,     -999.0