BOTTLE,20220815CCHSIOAMB
EXPOCODE,SECT_ID,STNNBR,CASTNO,SAMPNO,BTLNBR,BTLNBR_FLAG_W,DATE,TIME,LATITUDE,LONGITUDE,DEPTH,CTDPRS,CTDTMP,CTDSAL,CTDSAL_FLAG_W,SALNTY,SALNTY_FLAG_W,CTDOXY,CTDOXY_FLAG_W,OXYGEN,OXYGEN_FLAG_W,SILCAT,SILCAT_FLAG_W,NITRAT,NITRAT_FLAG_W,NITRIT,NITRIT_FLAG_W,PHSPHT,PHSPHT_FLAG_W,CFC-11,CFC-11_FLAG_W,CFC-12,CFC-12_FLAG_W,SF6,SF6_FLAG_W,TCARBN,TCARBN_FLAG_W,ALKALI,ALKALI_FLAG_W,PCO2,PCO2_FLAG_W,PCO2TMP,PH_SWS,PH_SWS_FLAG_W,PH_TMP,TRITUM,TRITUM_FLAG_W,HELIUM,HELIUM_FLAG_W,DELC13,DELC13_FLAG_W,DELC14,DELC14_FLAG_W,C14ERR,CCL4,CCL4_FLAG_W,DELO18,DELO18_FLAG_W,DOC,DOC_FLAG_W,TDN,TDN_FLAG_W,CTDRAW,14C-DOC,14C-DOC_FLAG_W,THETA,SIG0,SALTREF,SALTREF_FLAG_W,BLACKC,BLACKC_FLAG_W,PIGMENTS,PIGMENTS_FLAG_W,14C-DOCERR,13C-DOC,13C-DOC_FLAG_W,13C-DOCERR
,,,,,,,,,,,METERS,DBAR,ITS-90,PSS-78,,PSS-78,,UMOL/KG,,UMOL/KG,,UMOL/KG,,UMOL/KG,,UMOL/KG,,UMOL/KG,,PMOL/KG,,PMOL/KG,,FMOL/KG,,UMOL/KG,,UMOL/KG,,UATM,,DEG C,,,DEG C,TU,,NMOL/KG,,/MILLE,,/MILLE,,/MILLE,PMOL/KG,,/MILLE,,UMOL/KG,,UMOL/KG,,DBAR,/MILLE,,DEG C,KG/M^3,G/KG,,,,,,/MILLE,/MILLE,,/MILLE
33RO20110926,        A10,      38,          1,         24,      11714,2,20111007,       1023,   -30.0003,    -3.3586,       4573,     4.0,  18.1293,  35.8613,2,  35.8744,2,    240.2,2,   240.6,2,     1.2,2,     0.0,2,    0.01,2,   0.156,2,   2.406,2,   1.447,2,   1.461,2,     2079.8,6,  2355.3,6,  -999.0,9, -999.00,   7.9789,6,       25,-999.000,9,-999.0000,9, -999.00,9,  -999.0,9,  -999.0,   2.850,3, -999.00,9,-999.0000,9, -999.00,9,    4.00,  -999.0,9,  18.1287,     25.911,    36.0435,2,     -999.0,9,     -999.0,1,     -999.0,     -999.0,9,     -999.0
33RO20110926,        A10,      38,          1,         23,      11713,2,20111007,       1023,   -30.0003,    -3.3586,       4573,    50.3,  17.1911,  35.8206,2,  35.8179,2,    244.8,2,   243.9,2,     1.2,2,     0.0,2,    0.01,2,   0.168,2,-999.000,9,-999.000,9,-999.000,9,-999.000000,9,  2354.2,2,  -999.0,9, -999.00,     7.98,2,       25,-999.000,9,-999.0000,9, -999.00,9,  -999.0,9,  -999.0,-999.000,9, -999.00,9,-999.0000,9, -999.00,9,   50.30,  -999.0,9,  17.1827,     26.098,    35.9868,2,     -999.0,9,     -999.0,1,     -999.0,     -999.0,9,     -999.0
33RO20110926,        A10,      38,          1,         22,      11712,2,20111007,       1023,   -30.0003,    -3.3586,       4573,    89.9,  16.9456,  35.8315,2,  35.8307,2,    235.0,2,   235.2,2,     1.5,2,     0.4,2,    0.46,2,   0.223,2,   2.425,2,   1.456,2,   1.499,2,     2087.5,2,  2354.3,2,  -999.0,9, -999.00,   7.9639,2,       25,-999.000,9,-999.0000,9, -999.00,9,  -999.0,9,  -999.0,   2.066,3, -999.00,9,-999.0000,9, -999.00,9,   89.90,  -999.0,9,  16.9308,     26.168,    35.9997,2,     -999.0,9,     -999.0,1,     -999.0,     -999.0,9,     -999.0
33RO20110926,        A10,      38,          1,         21,      11010,2,20111007,       1023,   -30.0003,    -3.3586,       4573,   141.0,  16.6929,  35.7772,2,  35.7779,2,    233.9,2,   233.9,2,     1.7,6,     0.8,6,    0.53,6,   0.246,6,-999.000,9,-999.000,9,-999.000,9,-999.000000,9,  2350.1,2,  -999.0,9, -999.00,   7.9609,2,       25,-999.000,9,-999.0000,9, -999.00,9,  -999.0,9,  -999.0,-999.000,9, -999.00,9,-999.0000,9, -999.00,9,  141.00,  -999.0,9,  16.6698,     26.189,    35.9466,2,     -999.0,9,     -999.0,9,     -999.0,     -999.0,9,     -999.0
33RO20110926,        A10,      38,          1,         20,      11715,2,20111007,       1023,   -30.0003,    -3.3586,       4573,   199.7,  16.4579,  35.7396,2,  35.7416,2,    234.6,2,     234,2,     1.9,2,     1.5,2,    0.26,2,   0.269,2,   2.470,2,   1.482,2,   1.473,2,-999.000000,9,  2346.9,2,  -999.0,9, -999.00,   7.9539,2,       25,-999.000,9,-999.0000,9, -999.00,9,  -999.0,9,  -999.0,   1.677,3, -999.00,9,-999.0000,9, -999.00,9,  199.70,  -999.0,9,  16.4255,     26.219,    35.9101,2,     -999.0,9,     -999.0,9,     -999.0,     -999.0,9,     -999.0
33RO20110926,        A10,      38,          1,         19,      11007,2,20111007,       1023,   -30.0003,    -3.3586,       4573,   272.8,  14.2924,  35.3196,2,  35.3197,2,    220.0,2,   219.5,2,     2.8,6,     6.4,6,    0.02,6,   0.559,6,-999.000,9,-999.000,9,-999.000,9,     2105.8,2,  2322.6,2,  -999.0,9, -999.00,   7.8818,2,       25,-999.000,9,-999.0000,9, -999.00,9,  -999.0,9,  -999.0,-999.000,9, -999.00,9,-999.0000,9, -999.00,9,  272.80,  -999.0,9,  14.2522,     26.380,    35.4862,2,     -999.0,9,     -999.0,9,     -999.0,     -999.0,9,     -999.0
33RO20110926,        A10,      38,          1,         18,      11710,2,20111007,       1023,   -30.0003,    -3.3586,       4573,   349.6,  12.8333,  35.1448,2,  35.1463,2,    214.9,2,   214.5,2,     3.7,2,    10.2,2,    0.01,2,   0.789,2,   2.991,2,   1.713,2,   1.352,2,-999.000000,9,  2313.8,2,  -999.0,9, -999.00,   7.8366,2,       25,-999.000,9,-999.0000,9, -999.00,9,  -999.0,9,  -999.0,   0.770,3, -999.00,9,-999.0000,9, -999.00,9,  349.60,  -999.0,9,  12.7853,     26.550,    35.3121,2,     -999.0,9,     -999.0,9,     -999.0,     -999.0,9,     -999.0
33RO20110926,        A10,      38,          1,         17,      11023,2,20111007,       1023,   -30.0003,    -3.3586,       4573,   444.1,  10.8394,  34.8980,2,  34.9050,2,    210.5,2,   211.2,2,     5.9,6,    15.3,6,    0.01,6,   1.110,6,-999.000,9,-999.000,9,-999.000,9,-999.000000,9,  2302.5,2,  -999.0,9, -999.00,   7.7785,2,       25,-999.000,9,-999.0000,9, -999.00,9,  -999.0,9,  -999.0,-999.000,9, -999.00,9,-999.0000,9, -999.00,9,  444.10,  -999.0,9,  10.7846,     26.735,    35.0696,2,     -999.0,9,     -999.0,9,     -999.0,     -999.0,9,     -999.0
33RO20110926,        A10,      38,          1,         16,      11709,2,20111007,       1023,   -30.0003,    -3.3586,       4573,   558.7,   8.7491,  34.6463,2,  34.6490,2,    205.3,2,   206.2,2,     9.9,2,    20.8,2,    0.01,2,   1.474,2,   3.158,2,   1.693,2,   1.063,2,-999.000000,9,  2293.4,2,  -999.0,9, -999.00,   7.7184,2,       25,-999.000,9,-999.0000,9, -999.00,9,  -999.0,9,  -999.0,   1.268,3, -999.00,9,-999.0000,9, -999.00,9,  558.70,  -999.0,9,   8.6884,     26.891,    34.8124,2,     -999.0,9,     -999.0,9,     -999.0,     -999.0,9,     -999.0
33RO20110926,        A10,      38,          1,         15,      11006,2,20111007,       1023,   -30.0003,    -3.3586,       4573,   639.6,   7.4177,  34.5102,2,  34.5131,2,    204.9,2,   203.3,2,    13.4,2,    24.4,2,    0.00,2,   1.716,2,-999.000,9,-999.000,9,-999.000,9,     2165.3,2,  2290.1,2,  -999.0,9, -999.00,   7.6773,2,       25,-999.000,9,-999.0000,9, -999.00,9,  -999.0,9,  -999.0,-999.000,9, -999.00,9,-999.0000,9, -999.00,9,  639.60,  -999.0,9,   7.3544,     26.985,    34.6759,2,     -999.0,9,     -999.0,9,     -999.0,     -999.0,9,     -999.0
33RO20110926,        A10,      38,          1,         14,      11708,2,20111007,       1023,   -30.0003,    -3.3586,       4573,   764.9,   5.4956,  34.3572,2,  34.3579,2,    213.1,2,   211.6,2,    20.0,2,    28.3,2,    0.01,2,   1.989,2,   2.945,2,   1.500,2,   0.768,2,-999.000000,9,  2289.5,2,  -999.0,9, -999.00,   7.6424,2,       25,-999.000,9,-999.0000,9, -999.00,9,  -999.0,9,  -999.0,   1.922,3, -999.00,9,-999.0000,9, -999.00,9,  764.90,  -999.0,9,   5.4304,     27.115,    34.5199,2,     -999.0,9,     -999.0,9,     -999.0,     -999.0,9,     -999.0
33RO20110926,        A10,      38,          1,         13,      11031,2,20111007,       1023,   -30.0003,    -3.3586,       4573,   888.7,   4.5248,  34.3411,2,  34.3416,2,    205.4,2,   205.6,2,    28.4,2,    30.7,2,    0.00,2,   2.158,2,-999.000,9,-999.000,9,-999.000,9,-999.000000,9,  2296.5,2,  -999.0,9, -999.00,   7.6194,2,       25,-999.000,9,-999.0000,9, -999.00,9,  -999.0,9,  -999.0,-999.000,9, -999.00,9,-999.0000,9, -999.00,9,  888.70,  -999.0,9,   4.4550,     27.214,    34.5036,2,     -999.0,9,     -999.0,9,     -999.0,     -999.0,9,     -999.0
33RO20110926,        A10,      38,          1,         12,      11027,2,20111007,       1023,   -30.0003,    -3.3586,       4573,  1169.7,   3.3621,  34.4429,2,  34.4433,2,    187.1,2,   186.4,2,    48.8,6,    33.2,6,    0.01,6,   2.335,6,   1.049,2,   0.498,2,   0.165,2,-999.000000,9,  2314.5,2,  -999.0,9, -999.00,   7.5844,2,       25,-999.000,9,-999.0000,9, -999.00,9,  -999.0,9,  -999.0,   1.036,3, -999.00,9,-999.0000,9, -999.00,9, 1169.70,  -999.0,9,   3.2780,     27.415,    34.6057,2,     -999.0,9,     -999.0,9,     -999.0,     -999.0,9,     -999.0
33RO20110926,        A10,      38,          1,         11,      11707,2,20111007,       1023,   -30.0003,    -3.3586,       4573,  1319.3,   3.0700,  34.5506,2,  34.5493,2,    181.1,2,   181.7,2,    55.8,2,    32.7,2,    0.00,2,   2.312,2,   0.497,4,   0.231,4,   0.043,4,     2232.6,2,  2323.1,6,  -999.0,9, -999.00,   7.5849,6,       25,-999.000,9,-999.0000,9, -999.00,9,  -999.0,9,  -999.0,   0.460,4, -999.00,9,-999.0000,9, -999.00,9, 1319.30,  -999.0,9,   2.9763,     27.527,    34.7122,2,     -999.0,9,     -999.0,9,     -999.0,     -999.0,9,     -999.0
33RO20110926,        A10,      38,          1,         10,      11003,9,20111007,       1023,   -30.0003,    -3.3586,       4573,  1619.2,   2.8840,  34.6984,2,-999.0000,9,    195.0,2,  -999.0,9, -999.00,9,  -999.0,9, -999.00,9,-999.000,9,-999.000,9,-999.000,9,-999.000,9,-999.000000,9,  -999.0,9,  -999.0,9, -999.00,-999.0000,9,  -999.00,-999.000,9,-999.0000,9, -999.00,9,  -999.0,9,  -999.0,-999.000,9, -999.00,9,-999.0000,9, -999.00,9, 1619.20,  -999.0,9,   2.7672,     27.665,     -999.0,9,     -999.0,9,     -999.0,9,     -999.0,     -999.0,9,     -999.0
33RO20110926,        A10,      38,          1,          9,      11706,2,20111007,       1023,   -30.0003,    -3.3586,       4573,  1920.7,   2.6946,  34.7834,2,  34.7830,2,    210.8,2,   211.5,2,    53.2,2,    27.2,2,    0.00,2,   1.897,2,   0.056,2,   0.027,2,   0.013,2,-999.000000,9,  2332.9,2,  -999.0,9, -999.00,   7.6585,2,       25,-999.000,9,-999.0000,9, -999.00,9,  -999.0,9,  -999.0,   0.099,3, -999.00,9,-999.0000,9, -999.00,9, 1920.70,  -999.0,9,   2.5541,     27.751,    34.9471,6,     -999.0,9,     -999.0,9,     -999.0,     -999.0,9,     -999.0
33RO20110926,        A10,      38,          1,          8,      11033,2,20111007,       1023,   -30.0003,    -3.3586,       4573,  2220.0,   2.5370,  34.8257,2,  34.8261,2,    222.9,2,     224,2,    52.2,2,    25.7,2,    0.00,2,   1.776,2,   0.027,2,   0.014,2,   0.000,2,-999.000000,9,  2335.4,2,  -999.0,9, -999.00,   7.6773,2,       25,-999.000,9,-999.0000,9, -999.00,9,  -999.0,9,  -999.0,   0.071,3, -999.00,9,-999.0000,9, -999.00,9, 2220.00,  -999.0,9,   2.3721,     27.802,    34.9903,2,     -999.0,9,     -999.0,9,     -999.0,     -999.0,9,     -999.0
33RO20110926,        A10,      38,          1,          7,      11705,2,20111007,       1023,   -30.0003,    -3.3586,       4573,  2520.6,   2.4409,  34.8500,2,  34.8522,2,    232.2,2,   231.6,2,    50.8,2,    24.7,2,    0.01,2,   1.696,2,   0.011,2,   0.005,2,   0.000,2,-999.000000,9,  2336.8,2,  -999.0,9, -999.00,   7.6934,2,       25,-999.000,9,-999.0000,9, -999.00,9,  -999.0,9,  -999.0,   0.045,3, -999.00,9,-999.0000,9, -999.00,9, 2520.60,  -999.0,9,   2.2497,     27.833,    35.0166,2,     -999.0,9,     -999.0,9,     -999.0,     -999.0,9,     -999.0
33RO20110926,        A10,      38,          1,          6,      11029,2,20111007,       1023,   -30.0003,    -3.3586,       4573,  2820.7,   2.3827,  34.8617,2,  34.8623,2,    235.9,2,   235.4,2,    50.5,6,    24.1,6,    0.01,6,   1.654,6,   0.006,2,   0.005,2,   0.000,2,-999.000000,9,  2341.3,2,  -999.0,9, -999.00,   7.7024,2,       25,-999.000,9,-999.0000,9, -999.00,9,  -999.0,9,  -999.0,   0.030,3, -999.00,9,-999.0000,9, -999.00,9, 2820.70,  -999.0,9,   2.1636,     27.848,    35.0266,2,     -999.0,9,     -999.0,9,     -999.0,     -999.0,9,     -999.0
33RO20110926,        A10,      38,          1,          5,      11704,2,20111007,       1023,   -30.0003,    -3.3586,       4573,  3121.1,   2.3568,  34.8689,2,  34.8684,2,    237.3,2,   236.4,2,    50.9,2,    23.8,2,    0.00,2,   1.635,2,   0.004,2,   0.003,2,   0.000,2,     2204.5,2,  2346.3,2,  -999.0,9, -999.00,   7.7174,2,       25,-999.000,9,-999.0000,9, -999.00,9,  -999.0,9,  -999.0,   0.024,3, -999.00,9,-999.0000,9, -999.00,9, 3121.10,  -999.0,9,   2.1080,     27.857,    35.0328,2,     -999.0,9,     -999.0,9,     -999.0,     -999.0,9,     -999.0
33RO20110926,        A10,      38,          1,          4,      11030,2,20111007,       1023,   -30.0003,    -3.3586,       4573,  3419.8,   2.3463,  34.8747,2,  34.8744,2,    236.9,2,   236.2,2,    50.9,2,    23.7,2,    0.00,2,   1.634,2,   0.003,2,   0.002,2,   0.000,2,-999.000000,9,  -999.0,5,  -999.0,9, -999.00,-999.0000,5,  -999.00,-999.000,9,-999.0000,9, -999.00,9,  -999.0,9,  -999.0,   0.018,3, -999.00,9,-999.0000,9, -999.00,9, 3419.80,  -999.0,9,   2.0665,     27.865,    35.0388,6,     -999.0,9,     -999.0,9,     -999.0,     -999.0,9,     -999.0
33RO20110926,        A10,      38,          1,          3,      11703,2,20111007,       1023,   -30.0003,    -3.3586,       4573,  3770.1,   2.3409,  34.8767,2,  34.8760,2,    235.1,2,   219.2,4,    52.2,2,    23.9,2,    0.00,2,   1.636,2,   0.004,2,   0.002,2,   0.000,2,-999.000000,9,  2352.2,2,  -999.0,9, -999.00,   7.7166,2,       25,-999.000,9,-999.0000,9, -999.00,9,  -999.0,9,  -999.0,   0.016,3, -999.00,9,-999.0000,9, -999.00,9, 3770.10,  -999.0,9,   2.0231,     27.871,    35.0405,2,     -999.0,9,     -999.0,9,     -999.0,     -999.0,9,     -999.0
33RO20110926,        A10,      38,          1,          2,      11702,2,20111007,       1023,   -30.0003,    -3.3586,       4573,  4119.0,   2.3111,  34.8706,2,  34.8702,2,    232.5,2,   232.4,2,    55.0,6,    24.2,6,    0.01,6,   1.656,6,   0.005,2,   0.004,2,   0.000,2,-999.000000,9,  2357.4,2,  -999.0,9, -999.00,   7.7196,2,       25,-999.000,9,-999.0000,9, -999.00,9,  -999.0,9,  -999.0,   0.015,3, -999.00,9,-999.0000,9, -999.00,9, 4119.00,  -999.0,9,   1.9546,     27.871,    35.0347,2,     -999.0,9,     -999.0,9,     -999.0,     -999.0,9,     -999.0
33RO20110926,        A10,      38,          1,          1,      11701,2,20111007,       1023,   -30.0003,    -3.3586,       4573,  4662.6,   2.2894,  34.8610,2,  34.8601,2,    231.5,2,   231.7,2,    58.9,2,    24.8,2,    0.00,2,   1.698,2,   0.009,6,   0.006,6,   0.000,6,     2217.4,2,  -999.0,5,  -999.0,9, -999.00,-999.0000,5,  -999.00,-999.000,9,-999.0000,9, -999.00,9,  -999.0,9,  -999.0,   0.025,3, -999.00,9,-999.0000,9, -999.00,9, 4662.60,  -999.0,9,   1.8690,     27.870,    35.0245,2,     -999.0,9,     -999.0,9,     -999.0,     -999.0,9,     -999.0