BOTTLE,20220815CCHSIOAMB
EXPOCODE,SECT_ID,STNNBR,CASTNO,SAMPNO,BTLNBR,BTLNBR_FLAG_W,DATE,TIME,LATITUDE,LONGITUDE,DEPTH,CTDPRS,CTDTMP,CTDSAL,CTDSAL_FLAG_W,SALNTY,SALNTY_FLAG_W,CTDOXY,CTDOXY_FLAG_W,OXYGEN,OXYGEN_FLAG_W,SILCAT,SILCAT_FLAG_W,NITRAT,NITRAT_FLAG_W,NITRIT,NITRIT_FLAG_W,PHSPHT,PHSPHT_FLAG_W,CFC-11,CFC-11_FLAG_W,CFC-12,CFC-12_FLAG_W,SF6,SF6_FLAG_W,TCARBN,TCARBN_FLAG_W,ALKALI,ALKALI_FLAG_W,PCO2,PCO2_FLAG_W,PCO2TMP,PH_SWS,PH_SWS_FLAG_W,PH_TMP,TRITUM,TRITUM_FLAG_W,HELIUM,HELIUM_FLAG_W,DELC13,DELC13_FLAG_W,DELC14,DELC14_FLAG_W,C14ERR,CCL4,CCL4_FLAG_W,DELO18,DELO18_FLAG_W,DOC,DOC_FLAG_W,TDN,TDN_FLAG_W,CTDRAW,14C-DOC,14C-DOC_FLAG_W,THETA,SIG0,SALTREF,SALTREF_FLAG_W,BLACKC,BLACKC_FLAG_W,PIGMENTS,PIGMENTS_FLAG_W,14C-DOCERR,13C-DOC,13C-DOC_FLAG_W,13C-DOCERR
,,,,,,,,,,,METERS,DBAR,ITS-90,PSS-78,,PSS-78,,UMOL/KG,,UMOL/KG,,UMOL/KG,,UMOL/KG,,UMOL/KG,,UMOL/KG,,PMOL/KG,,PMOL/KG,,FMOL/KG,,UMOL/KG,,UMOL/KG,,UATM,,DEG C,,,DEG C,TU,,NMOL/KG,,/MILLE,,/MILLE,,/MILLE,PMOL/KG,,/MILLE,,UMOL/KG,,UMOL/KG,,DBAR,/MILLE,,DEG C,KG/M^3,G/KG,,,,,,/MILLE,/MILLE,,/MILLE
33RO20110926,        A10,     101,          1,         24,      11714,2,20111025,       2242,   -29.7835,   -40.6513,       3735,     4.7,  19.2265,  36.1798,2,  36.1829,2,    230.9,2,   229.9,2,     0.7,2,     0.0,2,    0.01,2,   0.029,4,   2.200,2,   1.338,2,   1.342,2,     2078.4,6,  2372.8,2,  -999.0,9, -999.00,    8.016,2,       25,-999.000,9,-999.0000,9,    1.18,2,    56.4,2,     2.8,   3.547,4, -999.00,9,  63.7171,2,    4.66,2,    4.70,  -999.0,9,  19.2256,     25.867,    36.3535,2,     -999.0,9,     -999.0,1,     -999.0,     -999.0,9,     -999.0
33RO20110926,        A10,     101,          1,         23,      11713,2,20111025,       2242,   -29.7835,   -40.6513,       3735,    44.6,  19.2052,  36.1806,2,  36.1797,2,    232.2,2,   231.5,2,     0.7,2,     0.0,2,    0.01,2,   0.035,4,-999.000,9,-999.000,9,-999.000,9,     2081.4,2,  2374.7,6,  -999.0,9, -999.00,   8.0175,6,       25,-999.000,9,-999.0000,9, -999.00,9,  -999.0,9,  -999.0,-999.000,5, -999.00,9,  62.5854,2,    3.77,2,   44.60,  -999.0,9,  19.1971,     25.873,    36.3503,2,     -999.0,9,     -999.0,9,     -999.0,     -999.0,9,     -999.0
33RO20110926,        A10,     101,          1,         22,      11712,2,20111025,       2242,   -29.7835,   -40.6513,       3735,   100.1,  18.2120,  36.1491,2,  36.1467,2,    226.4,2,   227.7,2,     0.8,2,     0.4,2,    0.16,2,   0.083,4,-999.000,9,-999.000,9,-999.000,9,     2091.3,3,  2371.6,2,  -999.0,9, -999.00,    7.999,2,       25,-999.000,9,-999.0000,9, -999.00,9,  -999.0,9,  -999.0,-999.000,5, -999.00,9,  62.0976,2,    4.12,2,  100.10,  -999.0,9,  18.1946,     26.101,    36.3171,2,     -999.0,9,     -999.0,1,     -999.0,     -999.0,9,     -999.0
33RO20110926,        A10,     101,          1,         21,      11010,2,20111025,       2242,   -29.7835,   -40.6513,       3735,   130.0,  17.8568,  36.0835,2,  36.0846,2,    229.2,2,   228.9,2,     0.8,2,     0.4,2,    0.26,2,   0.090,4,   2.316,2,   1.405,2,   1.367,2,     2089.5,2,    2367,2,  -999.0,9, -999.00,    7.997,2,       25,-999.000,9,-999.0000,9, -999.00,9,  -999.0,9,  -999.0,   2.730,4, -999.00,9,  60.9561,2,    4.87,2,  130.00,  -999.0,9,  17.8345,     26.144,    36.2547,2,     -999.0,9,     -999.0,1,     -999.0,     -999.0,9,     -999.0
33RO20110926,        A10,     101,          1,         20,      11715,2,20111025,       2242,   -29.7835,   -40.6513,       3735,   190.3,  16.4280,  35.7549,2,  35.7438,2,    213.0,2,   212.5,2,     1.6,2,     3.5,2,    0.01,2,   0.250,4,-999.000,9,-999.000,9,-999.000,9,       2107,3,  2347.6,2,  -999.0,9, -999.00,   7.9368,2,       25,-999.000,9,-999.0000,9, -999.00,9,  -999.0,9,  -999.0,-999.000,5, -999.00,9,  54.6829,2,    6.53,2,  190.30,  -999.0,9,  16.3971,     26.227,    35.9123,2,     -999.0,9,     -999.0,9,     -999.0,     -999.0,9,     -999.0
33RO20110926,        A10,     101,          1,         19,      11007,2,20111025,       2242,   -29.7835,   -40.6513,       3735,   260.5,  14.9643,  35.5230,2,  35.5252,2,    210.4,2,   210.5,2,     2.2,2,     6.1,2,    0.01,2,   0.377,4,   2.714,2,   1.589,2,   1.294,2,     2117.6,3,  2335.4,2,  -999.0,9, -999.00,   7.8958,2,       25,-999.000,9,-999.0000,9, -999.00,9,  -999.0,9,  -999.0,   0.984,3, -999.00,9,  50.5268,2, -999.00,9,  260.50,  -999.0,9,  14.9247,     26.391,    35.6927,2,     -999.0,9,     -999.0,9,     -999.0,     -999.0,9,     -999.0
33RO20110926,        A10,     101,          1,         18,      11710,2,20111025,       2242,   -29.7835,   -40.6513,       3735,   335.3,  14.0001,  35.4086,2,  35.4414,3,    210.6,2,   210.5,2,     2.7,6,     8.3,6,    0.01,6,   0.466,4,-999.000,9,-999.000,9,-999.000,9,     2123.4,3,  2330.5,2,  -999.0,9, -999.00,   7.8707,2,       25,-999.000,9,-999.0000,9, -999.00,9,  -999.0,9,  -999.0,-999.000,9, -999.00,9,  50.2537,2, -999.00,9,  335.30,  -999.0,9,  13.9513,     26.537,    35.6085,2,     -999.0,9,     -999.0,9,     -999.0,     -999.0,9,     -999.0
33RO20110926,        A10,     101,          1,         17,      11023,2,20111025,       2242,   -29.7835,   -40.6513,       3735,   416.6,  12.8634,  35.2255,2,  35.2275,2,    210.0,2,   210.6,2,     3.6,2,    10.9,2,    0.01,2,   0.599,4,   2.973,2,   1.681,2,   1.210,2,     2128.4,3,  2320.3,3,  -999.0,9, -999.00,   7.8437,2,       25,-999.000,9,-999.0000,9, -999.00,9,  -999.0,9,  -999.0,   1.120,3, -999.00,9,  46.4878,2, -999.00,9,  416.60,  -999.0,9,  12.8059,     26.607,    35.3936,2,     -999.0,9,     -999.0,9,     -999.0,     -999.0,9,     -999.0
33RO20110926,        A10,     101,          1,         16,      11709,2,20111025,       2242,   -29.7835,   -40.6513,       3735,   514.9,  10.7184,  34.9070,2,  34.9167,2,    206.4,2,     206,2,     5.9,2,    16.1,2,    0.00,2,   0.842,4,-999.000,9,-999.000,9,-999.000,9,     2142.2,2,  2307.2,6,  -999.0,9, -999.00,   7.7825,6,       25,-999.000,9,-999.0000,9, -999.00,9,  -999.0,9,  -999.0,-999.000,9, -999.00,9,   47.961,2, -999.00,9,  514.90,  -999.0,9,  10.6551,     26.772,    35.0813,2,     -999.0,9,     -999.0,9,     -999.0,     -999.0,9,     -999.0
33RO20110926,        A10,     101,          1,         15,      11006,2,20111025,       2242,   -29.7835,   -40.6513,       3735,   614.9,   8.4269,  34.6145,2,  34.6163,2,    206.7,2,   206.6,2,     9.4,6,    21.6,6,    0.01,6,   1.108,4,   3.184,2,   1.671,2,   0.907,2,     2157.3,2,  2292.7,2,  -999.0,9, -999.00,   7.7204,2,       25,-999.000,9,-999.0000,9, -999.00,9,  -999.0,9,  -999.0,   2.166,3, -999.00,9,  46.0293,2, -999.00,9,  614.90,  -999.0,9,   8.3614,     26.918,    34.7795,2,     -999.0,9,     -999.0,9,     -999.0,     -999.0,9,     -999.0
33RO20110926,        A10,     101,          1,         14,      11708,2,20111025,       2242,   -29.7835,   -40.6513,       3735,   714.3,   6.4086,  34.4047,2,  34.4068,2,    218.4,2,   220.1,2,    13.4,2,    25.5,2,    0.00,2,   1.329,4,   3.282,2,   1.676,2,   0.783,2,     2166.6,2,    2286,2,  -999.0,9, -999.00,   7.6775,2,       25,-999.000,9,-999.0000,9, -999.00,9,  -999.0,9,  -999.0,   3.176,3, -999.00,9,   44.761,2, -999.00,9,  714.30,  -999.0,9,   6.3430,     27.038,    34.5690,3,     -999.0,9,     -999.0,9,     -999.0,     -999.0,9,     -999.0
33RO20110926,        A10,     101,          1,         13,      11031,2,20111025,       2242,   -29.7835,   -40.6513,       3735,   815.5,   5.2162,  34.3232,2,  34.3322,2,    223.0,2,   222.5,2,    18.4,2,    28.1,2,    0.00,2,   1.492,4,   3.036,2,   1.522,2,   0.656,2,       2176,2,  2287.8,2,  -999.0,9, -999.00,   7.6593,2,       25,-999.000,9,-999.0000,9, -999.00,9,  -999.0,9,  -999.0,   3.467,3, -999.00,9,  41.3561,2, -999.00,9,  815.50,  -999.0,9,   5.1483,     27.121,    34.4941,3,     -999.0,9,     -999.0,9,     -999.0,     -999.0,9,     -999.0
33RO20110926,        A10,     101,          1,         12,      11027,2,20111025,       2242,   -29.7835,   -40.6513,       3735,   950.5,   4.2742,  34.3014,2,  34.3026,2,    218.9,2,     219,2,    26.6,2,    30.3,2,    0.00,2,   1.667,4,   2.527,2,   1.244,2,   0.493,2,     2189.6,2,  2293.6,2,  -999.0,9, -999.00,   7.6362,2,       25,-999.000,9,-999.0000,9, -999.00,9,  -999.0,9,  -999.0,   3.282,3, -999.00,9,  38.7122,2, -999.00,9,  950.50,  -999.0,9,   4.2009,     27.210,    34.4644,2,     -999.0,9,     -999.0,9,     -999.0,     -999.0,9,     -999.0
33RO20110926,        A10,     101,          1,         11,      11707,2,20111025,       2242,   -29.7835,   -40.6513,       3735,  1051.1,   3.7846,  34.3258,2,  34.3270,2,    212.1,2,   210.2,2,    33.7,2,    31.6,2,    0.00,2,   1.790,4,   1.956,6,   0.953,6,   0.383,6,     2200.7,2,  2299.2,2,  -999.0,9, -999.00,   7.6232,2,       25,-999.000,9,-999.0000,9, -999.00,9,  -999.0,9,  -999.0,   2.805,3, -999.00,9,  42.4293,2, -999.00,9, 1051.10,  -999.0,9,   3.7067,     27.280,    34.4889,2,     -999.0,9,     -999.0,9,     -999.0,     -999.0,9,     -999.0
33RO20110926,        A10,     101,          1,         10,      11003,2,20111025,       2242,   -29.7835,   -40.6513,       3735,  1250.1,   3.3205,  34.4468,2,  34.4492,2,    191.1,2,   191.5,2,    46.4,2,    32.8,2,    0.00,2,   1.974,4,   0.821,2,   0.397,2,   0.132,2,     2221.8,2,  2312.3,2,  -999.0,9, -999.00,   7.5874,2,       25,-999.000,9,-999.0000,9, -999.00,9,  -999.0,9,  -999.0,   1.514,3, -999.00,9,     40.4,2, -999.00,9, 1250.10,  -999.0,9,   3.2302,     27.424,    34.6117,2,     -999.0,9,     -999.0,9,     -999.0,     -999.0,9,     -999.0
33RO20110926,        A10,     101,          1,          9,      11706,2,20111025,       2242,   -29.7835,   -40.6513,       3735,  1451.0,   3.0339,  34.5681,2,  34.5684,2,    187.9,2,     188,2,    52.8,6,    32.0,6,    0.00,6,   1.991,4,   0.361,2,   0.172,2,   0.056,2,     2230.7,6,  2323.5,2,  -999.0,9, -999.00,   7.6034,2,       25,-999.000,9,-999.0000,9, -999.00,9,  -999.0,9,  -999.0,   0.880,3, -999.00,9,  39.8829,2, -999.00,9, 1451.00,  -999.0,9,   2.9297,     27.547,    34.7314,2,     -999.0,9,     -999.0,9,     -999.0,     -999.0,9,     -999.0
33RO20110926,        A10,     101,          1,          8,      11033,2,20111025,       2242,   -29.7835,   -40.6513,       3735,  1726.6,   3.3351,  34.7925,2,  34.7920,2,    209.4,2,   209.7,2,    40.7,2,    26.7,2,    0.00,2,   1.621,4,   0.125,2,   0.063,2,   0.000,2,     2208.5,2,  2323.2,2,  -999.0,9, -999.00,   7.6605,2,       25,-999.000,9,-999.0000,9, -999.00,9,  -999.0,9,  -999.0,   0.504,3, -999.00,9,  39.3073,2, -999.00,9, 1726.60,  -999.0,9,   3.2030,     27.700,    34.9561,2,     -999.0,9,     -999.0,9,     -999.0,     -999.0,9,     -999.0
33RO20110926,        A10,     101,          1,          7,      11705,2,20111025,       2242,   -29.7835,   -40.6513,       3735,  2025.7,   3.2772,  34.8767,2,  34.8801,2,    229.5,2,   229.7,2,    34.1,2,    23.5,2,    0.00,2,   1.402,4,   0.140,2,   0.071,2,   0.000,2,     2195.4,2,  2322.5,2,  -999.0,9, -999.00,   7.6965,2,       25,-999.000,9,-999.0000,9, -999.00,9,  -999.0,9,  -999.0,   0.553,3, -999.00,9,  40.4293,2, -999.00,9, 2025.70,  -999.0,9,   3.1183,     27.778,    35.0446,2,     -999.0,9,     -999.0,9,     -999.0,     -999.0,9,     -999.0
33RO20110926,        A10,     101,          1,          6,      11029,2,20111025,       2242,   -29.7835,   -40.6513,       3735,  2251.2,   3.2024,  34.9077,2,  34.9085,2,    239.3,2,   240.5,2,    30.7,2,    21.9,2,    0.00,2,   1.303,4,   0.136,2,   0.068,2,   0.000,2,     2187.3,2,  2322.3,2,  -999.0,9, -999.00,   7.7204,2,       25,-999.000,9,-999.0000,9, -999.00,9,  -999.0,9,  -999.0,   0.548,3, -999.00,9,  42.3707,2, -999.00,9, 2251.20,  -999.0,9,   3.0232,     27.809,    35.0731,6,     -999.0,9,     -999.0,9,     -999.0,     -999.0,9,     -999.0
33RO20110926,        A10,     101,          1,          5,      11704,2,20111025,       2242,   -29.7835,   -40.6513,       3735,  2500.3,   3.1039,  34.9249,2,  34.9249,2,    247.2,2,   247.4,2,    28.9,6,    21.1,6,    0.00,6,   1.228,4,   0.124,2,   0.062,2,   0.028,2,     2180.8,2,  2322.2,2,  -999.0,9, -999.00,   7.7304,2,       25,-999.000,9,-999.0000,9, -999.00,9,  -999.0,9,  -999.0,   0.516,3, -999.00,9,   43.122,2, -999.00,9, 2500.30,  -999.0,9,   2.9020,     27.834,    35.0896,2,     -999.0,9,     -999.0,9,     -999.0,     -999.0,9,     -999.0
33RO20110926,        A10,     101,          1,          4,      11030,2,20111025,       2242,   -29.7835,   -40.6513,       3735,  2774.2,   2.9690,  34.9260,2,  34.9265,2,    250.4,2,     250,2,    30.1,2,    20.8,2,    0.00,2,   1.243,4,   0.098,2,   0.049,2,   0.000,2,     2180.2,2,  2324.4,2,  -999.0,9, -999.00,   7.7354,2,       25,-999.000,9,-999.0000,9, -999.00,9,  -999.0,9,  -999.0,   0.454,3, -999.00,9,  42.8585,2, -999.00,9, 2774.20,  -999.0,9,   2.7422,     27.850,    35.0912,2,     -999.0,9,     -999.0,9,     -999.0,     -999.0,9,     -999.0
33RO20110926,        A10,     101,          1,          3,      11703,2,20111025,       2242,   -29.7835,   -40.6513,       3735,  3000.8,   2.8635,  34.9234,2,  34.9264,2,    251.1,2,   251.3,2,    31.4,2,    20.8,2,    0.00,2,   1.253,4,   0.096,2,   0.048,2,   0.000,2,     2181.7,2,    2327,2,  -999.0,9, -999.00,   7.7394,2,       25,-999.000,9,-999.0000,9, -999.00,9,  -999.0,9,  -999.0,   0.446,3, -999.00,9,   43.278,2, -999.00,9, 3000.80,  -999.0,9,   2.6156,     27.861,    35.0911,2,     -999.0,9,     -999.0,9,     -999.0,     -999.0,9,     -999.0
33RO20110926,        A10,     101,          1,          2,      11702,2,20111025,       2242,   -29.7835,   -40.6513,       3735,  3331.2,   2.5421,  34.9008,2,  34.9012,2,    251.3,2,   250.6,2,    38.6,2,    21.6,2,    0.00,2,   1.353,4,   0.075,2,   0.039,2,   0.024,2,     2187.4,2,  2332.3,3,  -999.0,9, -999.00,   7.7306,2,       25,-999.000,9,-999.0000,9, -999.00,9,  -999.0,9,  -999.0,   0.400,3, -999.00,9,  41.4146,2, -999.00,9, 3331.20,  -999.0,9,   2.2668,     27.871,    35.0658,2,     -999.0,9,     -999.0,9,     -999.0,     -999.0,9,     -999.0
33RO20110926,        A10,     101,          1,          1,      11701,2,20111025,       2242,   -29.7835,   -40.6513,       3735,  3738.8,   0.8828,  34.7239,2,  34.7235,2,    220.2,2,     219,2,   106.3,2,    31.0,2,    0.00,2,   2.434,4,   0.205,6,   0.098,6,   0.069,6,     2251.9,6,  2360.5,6,  -999.0,9, -999.00,   7.6368,6,       25,-999.000,9,-999.0000,9, -999.00,9,  -999.0,9,  -999.0,   0.518,3, -999.00,9,   40.322,2, -999.00,9, 3738.80,  -999.0,9,   0.6081,     27.848,    34.8872,2,     -999.0,9,     -999.0,9,     -999.0,     -999.0,9,     -999.0