BOTTLE,20220815CCHSIOAMB
EXPOCODE,SECT_ID,STNNBR,CASTNO,SAMPNO,BTLNBR,BTLNBR_FLAG_W,DATE,TIME,LATITUDE,LONGITUDE,DEPTH,CTDPRS,CTDTMP,CTDSAL,CTDSAL_FLAG_W,SALNTY,SALNTY_FLAG_W,CTDOXY,CTDOXY_FLAG_W,OXYGEN,OXYGEN_FLAG_W,SILCAT,SILCAT_FLAG_W,NITRAT,NITRAT_FLAG_W,NITRIT,NITRIT_FLAG_W,PHSPHT,PHSPHT_FLAG_W,CFC-11,CFC-11_FLAG_W,CFC-12,CFC-12_FLAG_W,SF6,SF6_FLAG_W,TCARBN,TCARBN_FLAG_W,ALKALI,ALKALI_FLAG_W,PCO2,PCO2_FLAG_W,PCO2TMP,PH_SWS,PH_SWS_FLAG_W,PH_TMP,TRITUM,TRITUM_FLAG_W,HELIUM,HELIUM_FLAG_W,DELC13,DELC13_FLAG_W,DELC14,DELC14_FLAG_W,C14ERR,CCL4,CCL4_FLAG_W,DELO18,DELO18_FLAG_W,DOC,DOC_FLAG_W,TDN,TDN_FLAG_W,CTDRAW,14C-DOC,14C-DOC_FLAG_W,THETA,SIG0,SALTREF,SALTREF_FLAG_W,BLACKC,BLACKC_FLAG_W,PIGMENTS,PIGMENTS_FLAG_W,14C-DOCERR,13C-DOC,13C-DOC_FLAG_W,13C-DOCERR
,,,,,,,,,,,METERS,DBAR,ITS-90,PSS-78,,PSS-78,,UMOL/KG,,UMOL/KG,,UMOL/KG,,UMOL/KG,,UMOL/KG,,UMOL/KG,,PMOL/KG,,PMOL/KG,,FMOL/KG,,UMOL/KG,,UMOL/KG,,UATM,,DEG C,,,DEG C,TU,,NMOL/KG,,/MILLE,,/MILLE,,/MILLE,PMOL/KG,,/MILLE,,UMOL/KG,,UMOL/KG,,DBAR,/MILLE,,DEG C,KG/M^3,G/KG,,,,,,/MILLE,/MILLE,,/MILLE
33RO20110926,        A10,      67,          1,         24,      11714,2,20111017,       1744,   -29.9997,   -23.5321,       4945,     4.4,  17.9521,  36.0021,2,  36.0045,2,    234.4,2,   237.2,2,     1.3,2,     0.1,2,    0.01,2,   0.107,4,   2.329,2,   1.418,2,   1.395,2,     2081.4,2,  2369.1,6,  -999.0,9, -999.00,    7.991,6,       25,-999.000,9,-999.0000,9, -999.00,9,  -999.0,9,  -999.0,   3.136,4, -999.00,9,  59.6195,2,    3.74,2,    4.40,  -999.0,9,  17.9513,     26.054,    36.1743,2,     -999.0,9,     -999.0,1,     -999.0,     -999.0,9,     -999.0
33RO20110926,        A10,      67,          1,         23,      11713,2,20111017,       1744,   -29.9997,   -23.5321,       4945,    39.8,  17.9247,  36.0032,2,  36.0028,2,    235.1,2,   237.2,2,     1.4,2,     0.1,2,    0.01,2,   0.112,4,   2.338,2,   1.416,2,   1.423,2,     2086.3,2,  2363.3,2,  -999.0,9, -999.00,    7.991,2,       25,-999.000,9,-999.0000,9, -999.00,9,    54.3,2,     3.1,   3.046,4, -999.00,9,  63.6098,2,    4.46,2,   39.80,    -279,2,  17.9179,     26.060,    36.1726,2,     -999.0,1,     -999.0,9,          4,      -20.7,2,        0.2
33RO20110926,        A10,      67,          1,         22,      11712,2,20111017,       1744,   -29.9997,   -23.5321,       4945,   109.6,  16.3513,  35.7064,2,  35.7045,2,    239.8,2,   240.9,2,     1.3,2,     0.3,2,    0.22,2,   0.144,4,   2.500,2,   1.504,2,   1.552,2,     2086.2,2,  2347.9,2,  -999.0,9, -999.00,   7.9669,2,       25,-999.000,9,-999.0000,9, -999.00,9,  -999.0,9,  -999.0,   2.432,4, -999.00,9,  54.4585,2,    5.94,2,  109.60,  -999.0,9,  16.3336,     26.213,    35.8728,2,     -999.0,9,     -999.0,9,     -999.0,     -999.0,9,     -999.0
33RO20110926,        A10,      67,          1,         21,      11010,2,20111017,       1744,   -29.9997,   -23.5321,       4945,   161.2,  15.9486,  35.6626,2,  35.6601,2,    231.2,2,   233.2,2,     1.5,6,     1.7,6,    0.13,6,   0.198,4,   2.544,2,   1.520,2,   1.476,2,     2092.7,2,    2342,2,  -999.0,9, -999.00,   7.9509,2,       25,-999.000,9,-999.0000,9, -999.00,9,    55.0,2,     2.7,   2.690,4, -999.00,9,  55.4829,2,    7.31,2,  161.20,    -295,2,  15.9230,     26.272,    35.8282,2,     -999.0,9,     -999.0,1,          4,      -21.1,2,        0.2
33RO20110926,        A10,      67,          1,         20,      11715,2,20111017,       1744,   -29.9997,   -23.5321,       4945,   224.6,  14.6042,  35.4515,2,  35.4483,2,    219.6,2,   226.7,3,     2.1,2,     4.8,2,    0.02,2,   0.358,4,   2.739,2,   1.616,2,   1.460,2,     2105.4,2,  2330.5,2,  -999.0,9, -999.00,   7.9068,2,       25,-999.000,9,-999.0000,9, -999.00,9,    58.7,2,     3.0,   1.940,3, -999.00,9,  54.2146,2, -999.00,9,  224.60,    -325,2,  14.5706,     26.417,    35.6154,2,     -999.0,9,     -999.0,1,          4,      -21.1,2,        0.2
33RO20110926,        A10,      67,          1,         19,      11007,2,20111017,       1744,   -29.9997,   -23.5321,       4945,   304.8,  12.9255,  35.1890,2,  35.1841,2,    213.9,2,   212.8,2,     3.7,2,    10.3,2,    0.01,2,   0.627,4,   2.987,2,   1.699,2,   1.266,2,       2125,2,  2316.5,2,  -999.0,9, -999.00,   7.8447,2,       25,-999.000,9,-999.0000,9, -999.00,9,  -999.0,9,  -999.0,   1.165,3, -999.00,9,  50.2634,2, -999.00,9,  304.80,  -999.0,9,  12.8835,     26.562,    35.3500,2,     -999.0,9,     -999.0,9,     -999.0,     -999.0,9,     -999.0
33RO20110926,        A10,      67,          1,         18,      11710,2,20111017,       1744,   -29.9997,   -23.5321,       4945,   399.8,  11.4937,  34.9973,2,  34.9966,2,    210.1,2,   210.5,2,     5.2,2,    13.8,2,    0.01,2,   0.798,4,   3.107,6,   1.725,6,   1.126,6,     2136.4,2,  2308.9,2,  -999.0,9, -999.00,   7.8026,2,       25,-999.000,9,-999.0000,9, -999.00,9,    50.8,2,     2.8,   1.327,3, -999.00,9,  48.3512,2, -999.00,9,  399.80,    -384,2,  11.4426,     26.692,    35.1617,2,     -999.0,9,     -999.0,9,          4,      -22.4,2,        0.2
33RO20110926,        A10,      67,          1,         17,      11023,2,20111017,       1744,   -29.9997,   -23.5321,       4945,   496.7,   9.8272,  34.7803,2,  34.7788,2,    203.4,2,   203.8,2,     7.9,6,    18.4,6,    0.01,6,   1.027,4,   3.147,2,   1.691,2,   1.018,2,-999.000000,5,  2299.7,2,  -999.0,9, -999.00,   7.7475,2,       25,-999.000,9,-999.0000,9, -999.00,9,  -999.0,9,  -999.0,   1.573,3, -999.00,9,  48.5561,2, -999.00,9,  496.70,  -999.0,9,   9.7695,     26.820,    34.9428,2,     -999.0,9,     -999.0,9,     -999.0,     -999.0,9,     -999.0
33RO20110926,        A10,      67,          1,         16,      11709,2,20111017,       1744,   -29.9997,   -23.5321,       4945,   600.1,   7.7840,  34.5469,2,  34.5441,2,    204.7,2,   205.2,2,    11.8,2,    23.3,2,    0.01,2,   1.311,4,   3.185,2,   1.659,2,   0.818,2,     2163.8,2,  2291.2,2,  -999.0,9, -999.00,   7.6954,2,       25,-999.000,9,-999.0000,9, -999.00,9,    13.1,2,     2.7,   2.078,3, -999.00,9,   44.439,2, -999.00,9,  600.10,    -432,2,   7.7231,     26.956,    34.7070,2,     -999.0,9,     -999.0,9,          4,     -999.0,5,     -999.0
33RO20110926,        A10,      67,          1,         15,      11006,2,20111017,       1744,   -29.9997,   -23.5321,       4945,   699.9,   6.0726,  34.3828,2,  34.3831,2,    216.7,2,   215.4,2,    15.8,2,    26.6,2,    0.01,2,   1.495,4,   3.211,2,   1.633,2,   0.805,2,     2170.7,2,  2285.1,2,  -999.0,9, -999.00,   7.6655,2,       25,-999.000,9,-999.0000,9, -999.00,9,  -999.0,9,  -999.0,   3.207,3, -999.00,9,  42.0195,2, -999.00,9,  699.90,  -999.0,9,   6.0103,     27.064,    34.5453,2,     -999.0,9,     -999.0,9,     -999.0,     -999.0,9,     -999.0
33RO20110926,        A10,      67,          1,         14,      11708,2,20111017,       1744,   -29.9997,   -23.5321,       4945,   800.6,   4.9754,  34.3150,2,  34.3152,2,    220.8,2,   220.9,2,    21.1,2,    28.8,2,    0.01,2,   1.639,4,   2.969,2,   1.497,2,   0.734,2,     2178.5,2,  2287.7,2,  -999.0,9, -999.00,   7.6465,2,       25,-999.000,9,-999.0000,9, -999.00,9,   -37.6,2,     2.5,   3.456,3, -999.00,9,  42.1659,2, -999.00,9,  800.60,    -463,2,   4.9103,     27.142,    34.4770,2,     -999.0,9,     -999.0,9,          4,      -20.8,2,        0.2
33RO20110926,        A10,      67,          1,         13,      11031,2,20111017,       1744,   -29.9997,   -23.5321,       4945,   950.6,   4.0688,  34.3330,2,  34.3348,2,    208.1,2,   207.9,2,    32.1,2,    31.4,2,    0.01,2,   1.855,4,   2.106,2,   1.036,2,   0.408,2,     2198.8,2,  2296.6,2,  -999.0,9, -999.00,   7.6164,2,       25,-999.000,9,-999.0000,9, -999.00,9,   -70.5,2,     1.3,   2.890,3, -999.00,9,  46.0585,3, -999.00,9,  950.60,    -477,2,   3.9970,     27.257,    34.4967,2,     -999.0,9,     -999.0,9,          4,      -21.3,2,        0.2
33RO20110926,        A10,      67,          1,         12,      11027,2,20111017,       1744,   -29.9997,   -23.5321,       4945,  1198.4,   3.3011,  34.4633,2,  34.4636,2,    188.1,2,   186.9,2,    49.2,2,    32.9,2,    0.01,2,   2.071,4,   0.829,2,   0.401,2,   0.144,2,     2224.3,2,  2317.5,2,  -999.0,9, -999.00,   7.5947,6,       25,-999.000,9,-999.0000,9, -999.00,9,  -113.7,2,     3.0,   1.530,3, -999.00,9,  39.1512,2, -999.00,9, 1198.40,    -478,2,   3.2152,     27.437,    34.6261,2,     -999.0,9,     -999.0,9,          4,      -21.5,2,        0.2
33RO20110926,        A10,      67,          1,         11,      11707,2,20111017,       1744,   -29.9997,   -23.5321,       4945,  1500.1,   2.9564,  34.6410,2,  34.6412,2,    190.6,2,   191.2,2,    54.3,6,    30.6,6,    0.01,6,   1.986,4,   0.213,2,   0.102,2,   0.040,2,     2227.1,6,  2326.9,2,  -999.0,9, -999.00,   7.6134,2,       25,-999.000,9,-999.0000,9, -999.00,9,  -129.3,2,     1.6,   0.606,3, -999.00,9,  40.2732,2, -999.00,9, 1500.10,    -477,2,   2.8489,     27.612,    34.8046,2,     -999.0,9,     -999.0,9,          4,      -21.0,2,        0.2
33RO20110926,        A10,      67,          1,         10,      11003,2,20111017,       1744,   -29.9997,   -23.5321,       4945,  1799.5,   2.7930,  34.7586,2,  34.7586,2,    208.3,2,   208.5,2,    51.7,2,    27.7,2,    0.01,2,   1.801,4,   0.058,2,   0.029,2,   0.000,2,     2214.7,2,  2330.4,2,  -999.0,9, -999.00,   7.6525,2,       25,-999.000,9,-999.0000,9, -999.00,9,  -999.0,9,  -999.0,   0.285,3, -999.00,9,  40.4098,2, -999.00,9, 1799.50,  -999.0,9,   2.6618,     27.723,    34.9225,2,     -999.0,9,     -999.0,9,     -999.0,     -999.0,9,     -999.0
33RO20110926,        A10,      67,          1,          9,      11706,2,20111017,       1744,   -29.9997,   -23.5321,       4945,  2099.5,   2.7135,  34.8219,2,  34.8215,2,    223.5,2,   224.3,2,    47.1,2,    25.4,2,    0.01,2,   1.648,4,   0.024,6,   0.013,6,   0.000,6,     2203.2,2,  2332.8,2,  -999.0,9, -999.00,   7.6733,2,       25,-999.000,9,-999.0000,9, -999.00,9,  -999.0,5,  -999.0,   0.205,3, -999.00,9,  42.3024,2, -999.00,9, 2099.50,    -473,2,   2.5567,     27.782,    34.9857,2,     -999.0,9,     -999.0,9,          4,      -21.4,2,        0.2
33RO20110926,        A10,      67,          1,          8,      11033,2,20111017,       1744,   -29.9997,   -23.5321,       4945,  2400.1,   2.7319,  34.8679,2,  34.8683,2,    236.4,2,   236.4,2,    41.8,2,    23.4,2,    0.01,2,   1.502,4,   0.010,2,   0.006,2,   0.000,2,     2192.7,2,  2332.4,2,  -999.0,9, -999.00,   7.7004,2,       25,-999.000,9,-999.0000,9, -999.00,9,  -117.2,2,     2.2,   0.121,3, -999.00,9,  39.0341,2, -999.00,9, 2400.10,    -469,2,   2.5468,     27.821,    35.0327,2,     -999.0,1,     -999.0,9,          4,      -21.5,2,        0.2
33RO20110926,        A10,      67,          1,          7,      11705,2,20111017,       1744,   -29.9997,   -23.5321,       4945,  2700.7,   2.7531,  34.8955,2,  34.8959,2,    244.0,2,   244.6,2,    37.6,2,    22.2,2,    0.01,2,   1.403,4,   0.006,2,   0.004,2,   0.000,2,     2184.4,2,  2330.7,2,  -999.0,9, -999.00,   7.7274,2,       25,-999.000,9,-999.0000,9, -999.00,9,  -999.0,9,  -999.0,   0.111,3, -999.00,9,  39.5805,2, -999.00,9, 2700.70,  -999.0,9,   2.5382,     27.843,    35.0604,2,     -999.0,1,     -999.0,9,     -999.0,     -999.0,9,     -999.0
33RO20110926,        A10,      67,          1,          5,      11704,2,20111017,       1744,   -29.9997,   -23.5321,       4945,  3100.0,   2.6110,  34.9011,2,-999.0000,9,    249.1,2,  -999.0,9, -999.00,9,  -999.0,9, -999.00,9,-999.000,9,-999.000,9,-999.000,9,-999.000,9,-999.000000,9,  -999.0,9,  -999.0,9, -999.00,-999.0000,9,  -999.00,-999.000,9,-999.0000,9, -999.00,9,  -114.2,4,     2.4,-999.000,9, -999.00,9,  38.9268,2, -999.00,9, 3100.00,  -999.0,9,   2.3584,     27.862,     -999.0,9,     -999.0,1,     -999.0,9,     -999.0,     -999.0,9,     -999.0
33RO20110926,        A10,      67,          1,          6,      11029,2,20111017,       1744,   -29.9997,   -23.5321,       4945,  3099.9,   2.6116,  34.9012,2,  34.9073,4,    249.1,2,   249.4,2,    38.7,2,    21.7,2,    0.01,2,   1.390,4,   0.007,2,   0.006,2,   0.011,2,     2182.9,2,  2332.8,2,  -999.0,9, -999.00,   7.7244,2,       25,-999.000,9,-999.0000,9, -999.00,9,  -114.2,4,     2.4,   0.110,3, -999.00,9,  41.5415,2, -999.00,9, 3099.90,    -451,4,   2.3590,     27.868,    35.0719,2,     -999.0,1,     -999.0,9,          4,     -999.0,5,     -999.0
33RO20110926,        A10,      67,          1,          4,      11030,2,20111017,       1744,   -29.9997,   -23.5321,       4945,  3499.7,   2.1958,  34.8656,2,  34.8694,2,    244.9,2,   245.7,2,    52.1,6,    23.2,6,    0.01,6,   1.571,4,   0.006,6,   0.004,6,   0.071,6,     2195.8,2,  2341.1,2,  -999.0,9, -999.00,   7.7084,2,       25,-999.000,9,-999.0000,9, -999.00,9,  -122.3,2,     2.5,   0.102,3, -999.00,9,  44.7415,3, -999.00,9, 3499.70,    -481,2,   1.9111,     27.874,    35.0338,2,     -999.0,9,     -999.0,9,          4,      -22.7,2,        0.2
33RO20110926,        A10,      67,          1,          3,      11703,2,20111017,       1744,   -29.9997,   -23.5321,       4945,  3900.0,   1.5582,  34.7971,2,  34.7980,2,    232.5,2,   233.8,2,    78.4,2,    26.8,2,    0.01,2,   1.958,4,   0.029,2,   0.015,2,   0.073,2,     2222.3,2,  2354.5,2,  -999.0,9, -999.00,   7.6623,2,       25,-999.000,9,-999.0000,9, -999.00,9,  -137.4,2,     2.2,   0.159,3, -999.00,9,  37.7268,2, -999.00,9, 3900.00,    -486,2,   1.2478,     27.866,    34.9621,2,     -999.0,9,     -999.0,9,          4,      -21.5,2,        0.2
33RO20110926,        A10,      67,          1,          2,      11702,2,20111017,       1744,   -29.9997,   -23.5321,       4945,  4297.0,   1.2698,  34.7623,2,  34.7623,2,    226.2,2,   227.4,2,    91.9,2,    28.6,2,    0.01,2,   2.153,4,   0.064,2,   0.033,2,   0.070,2,     2237.2,2,  2357.3,6,  -999.0,9, -999.00,    7.657,6,       25,-999.000,9,-999.0000,9, -999.00,9,  -146.5,2,     2.3,   0.248,3, -999.00,9,  40.5561,2, -999.00,9, 4297.00,    -479,2,   0.9243,     27.859,    34.9262,6,     -999.0,9,     -999.0,9,          4,      -21.4,2,        0.2
33RO20110926,        A10,      67,          1,          1,      11701,2,20111017,       1744,   -29.9997,   -23.5321,       4945,  5014.6,   1.2793,  34.7548,2,  34.7556,2,    227.6,2,   227.1,2,    94.9,2,    28.9,2,    0.01,2,   2.195,4,   0.071,6,   0.035,6,   0.124,6,     2241.2,6,  2358.4,2,  -999.0,9, -999.00,   7.6575,2,       25,-999.000,9,-999.0000,9, -999.00,9,  -999.0,9,  -999.0,   0.266,3, -999.00,9,  40.2829,2, -999.00,9, 5014.60,  -999.0,9,   0.8502,     27.859,    34.9195,2,     -999.0,9,     -999.0,9,     -999.0,     -999.0,9,     -999.0