BOTTLE,20220815CCHSIOAMB
EXPOCODE,SECT_ID,STNNBR,CASTNO,SAMPNO,BTLNBR,BTLNBR_FLAG_W,DATE,TIME,LATITUDE,LONGITUDE,DEPTH,CTDPRS,CTDTMP,CTDSAL,CTDSAL_FLAG_W,SALNTY,SALNTY_FLAG_W,CTDOXY,CTDOXY_FLAG_W,OXYGEN,OXYGEN_FLAG_W,SILCAT,SILCAT_FLAG_W,NITRAT,NITRAT_FLAG_W,NITRIT,NITRIT_FLAG_W,PHSPHT,PHSPHT_FLAG_W,CFC-11,CFC-11_FLAG_W,CFC-12,CFC-12_FLAG_W,SF6,SF6_FLAG_W,TCARBN,TCARBN_FLAG_W,ALKALI,ALKALI_FLAG_W,PCO2,PCO2_FLAG_W,PCO2TMP,PH_SWS,PH_SWS_FLAG_W,PH_TMP,TRITUM,TRITUM_FLAG_W,HELIUM,HELIUM_FLAG_W,DELC13,DELC13_FLAG_W,DELC14,DELC14_FLAG_W,C14ERR,CCL4,CCL4_FLAG_W,DELO18,DELO18_FLAG_W,DOC,DOC_FLAG_W,TDN,TDN_FLAG_W,CTDRAW,14C-DOC,14C-DOC_FLAG_W,THETA,SIG0,SALTREF,SALTREF_FLAG_W,BLACKC,BLACKC_FLAG_W,PIGMENTS,PIGMENTS_FLAG_W,14C-DOCERR,13C-DOC,13C-DOC_FLAG_W,13C-DOCERR
,,,,,,,,,,,METERS,DBAR,ITS-90,PSS-78,,PSS-78,,UMOL/KG,,UMOL/KG,,UMOL/KG,,UMOL/KG,,UMOL/KG,,UMOL/KG,,PMOL/KG,,PMOL/KG,,FMOL/KG,,UMOL/KG,,UMOL/KG,,UATM,,DEG C,,,DEG C,TU,,NMOL/KG,,/MILLE,,/MILLE,,/MILLE,PMOL/KG,,/MILLE,,UMOL/KG,,UMOL/KG,,DBAR,/MILLE,,DEG C,KG/M^3,G/KG,,,,,,/MILLE,/MILLE,,/MILLE
33RO20110926,        A10,      28,          1,         23,      11713,2,20111004,       2301,   -29.5331,     1.9671,       2425,     4.9,  17.4401,  35.7668,2,  35.7659,2,    244.6,2,   244.2,2,     1.5,2,     0.0,2,    0.01,2,   0.145,2,   2.480,6,   1.481,6,   1.516,6,       2080,6,  -999.0,9,  -999.0,9, -999.00,-999.0000,9,  -999.00,-999.000,1,-999.0000,1, -999.00,9,  -999.0,9,  -999.0,   2.755,3, -999.00,1,-999.0000,9, -999.00,9,    4.90,  -999.0,9,  17.4393,     25.992,    35.9345,2,     -999.0,9,     -999.0,9,     -999.0,     -999.0,9,     -999.0
33RO20110926,        A10,      28,          1,         24,      11714,2,20111004,       2301,   -29.5331,     1.9671,       2425,     4.8,  17.4574,  35.7674,2,-999.0000,9,    244.6,2,  -999.0,9, -999.00,9,  -999.0,9, -999.00,9,-999.000,9,-999.000,9,-999.000,9,-999.000,9,-999.000000,9,  2349.6,6,  -999.0,9, -999.00,   7.9794,6,       25,-999.000,1,-999.0000,9, -999.00,9,  -999.0,9,  -999.0,-999.000,9, -999.00,1,-999.0000,9, -999.00,9,    4.80,  -999.0,9,  17.4566,     25.993,     -999.0,9,     -999.0,9,     -999.0,1,     -999.0,     -999.0,9,     -999.0
33RO20110926,        A10,      28,          1,         22,      11712,2,20111004,       2301,   -29.5331,     1.9671,       2425,    64.2,  16.6347,  35.7215,2,  35.7214,2,    247.2,2,   246.5,2,     1.6,2,     0.2,2,    0.07,2,   0.169,2,   2.527,2,   1.499,2,   1.475,2,-999.000000,9,  -999.0,9,  -999.0,9, -999.00,-999.0000,9,  -999.00,-999.000,1,-999.0000,1, -999.00,9,  -999.0,9,  -999.0,   2.637,3, -999.00,1,-999.0000,9, -999.00,9,   64.20,  -999.0,9,  16.6242,     26.156,    35.8899,2,     -999.0,9,     -999.0,1,     -999.0,     -999.0,9,     -999.0
33RO20110926,        A10,      28,          1,         21,      11010,2,20111004,       2301,   -29.5331,     1.9671,       2425,   100.6,  16.2412,  35.6745,2,  35.6752,2,    238.6,2,   238.1,2,     2.0,2,     1.2,2,    0.49,2,   0.254,2,   2.533,2,   1.505,2,   1.485,2,-999.000000,9,  -999.0,9,  -999.0,9, -999.00,-999.0000,9,  -999.00,-999.000,1,-999.0000,1, -999.00,9,  -999.0,9,  -999.0,   2.040,3, -999.00,1,-999.0000,9, -999.00,9,  100.60,  -999.0,9,  16.2251,     26.213,    35.8435,2,     -999.0,9,     -999.0,9,     -999.0,     -999.0,9,     -999.0
33RO20110926,        A10,      28,          1,         20,      11715,2,20111004,       2301,   -29.5331,     1.9671,       2425,   125.1,  16.1482,  35.6725,2,  35.6730,2,    234.6,2,   236.3,2,     2.1,2,     1.5,2,    0.49,2,   0.273,2,   2.537,2,   1.508,2,   1.487,2,     2090.5,2,  2341.6,2,  -999.0,9, -999.00,   7.9529,2,       25,-999.000,1,-999.0000,1, -999.00,9,  -999.0,9,  -999.0,   1.872,3, -999.00,1,-999.0000,9, -999.00,9,  125.10,  -999.0,9,  16.1282,     26.236,    35.8412,2,     -999.0,9,     -999.0,1,     -999.0,     -999.0,9,     -999.0
33RO20110926,        A10,      28,          1,         19,      11007,3,20111004,       2301,   -29.5331,     1.9671,       2425,   149.0,  16.0494,  35.6675,2,  35.6680,2,    233.5,2,  -999.0,9, -999.00,5,  -999.0,5, -999.00,5,-999.000,5,-999.000,9,-999.000,9,-999.000,9,-999.000000,9,  -999.0,9,  -999.0,9, -999.00,-999.0000,9,  -999.00,-999.000,1,-999.0000,1, -999.00,9,  -999.0,9,  -999.0,-999.000,9, -999.00,1,-999.0000,9, -999.00,9,  149.00,  -999.0,9,  16.0257,     26.255,    35.8362,2,     -999.0,9,     -999.0,9,     -999.0,     -999.0,9,     -999.0
33RO20110926,        A10,      28,          1,         18,      11710,2,20111004,       2301,   -29.5331,     1.9671,       2425,   199.8,  14.4184,  35.3395,2,  35.3430,2,    218.5,2,   222.1,2,     2.8,2,     5.8,2,    0.02,2,   0.518,2,   2.771,2,   1.621,2,   1.471,2,-999.000000,9,  -999.0,9,  -999.0,9, -999.00,-999.0000,9,  -999.00,-999.000,1,-999.0000,1, -999.00,9,  -999.0,9,  -999.0,   0.930,3, -999.00,1,-999.0000,9, -999.00,9,  199.80,  -999.0,9,  14.3889,     26.371,    35.5096,2,     -999.0,9,     -999.0,9,     -999.0,     -999.0,9,     -999.0
33RO20110926,        A10,      28,          1,         17,      11023,2,20111004,       2301,   -29.5331,     1.9671,       2425,   249.2,  13.2401,  35.1564,2,  35.1574,2,    218.7,2,   219.5,2,     3.3,2,     8.4,2,    0.01,2,   0.680,2,   2.945,2,   1.703,2,   1.420,2,     2114.1,2,  2313.4,2,  -999.0,9, -999.00,   7.8547,2,       25,-999.000,1,-999.0000,1, -999.00,9,  -999.0,9,  -999.0,   0.867,3, -999.00,1,-999.0000,9, -999.00,9,  249.20,  -999.0,9,  13.2053,     26.471,    35.3232,2,     -999.0,9,     -999.0,9,     -999.0,     -999.0,9,     -999.0
33RO20110926,        A10,      28,          1,         16,      11709,2,20111004,       2301,   -29.5331,     1.9671,       2425,   300.8,  12.4455,  35.0799,2,  35.0794,2,    214.9,2,   213.7,2,     4.1,6,    11.2,6,    0.01,6,   0.841,6,   3.063,2,   1.741,2,   1.337,2,-999.000000,9,  -999.0,9,  -999.0,9, -999.00,-999.0000,9,  -999.00,-999.000,1,-999.0000,1, -999.00,9,  -999.0,9,  -999.0,   0.916,3, -999.00,1,-999.0000,9, -999.00,9,  300.80,  -999.0,9,  12.4051,     26.573,    35.2448,2,     -999.0,9,     -999.0,9,     -999.0,     -999.0,9,     -999.0
33RO20110926,        A10,      28,          1,         15,      11006,2,20111004,       2301,   -29.5331,     1.9671,       2425,   400.6,  10.7877,  34.8914,2,  34.8915,2,    195.3,2,     197,2,     6.7,6,    16.7,6,    0.01,6,   1.186,6,   3.134,2,   1.720,2,   1.101,2,-999.000000,9,  -999.0,9,  -999.0,9, -999.00,-999.0000,9,  -999.00,-999.000,1,-999.0000,1, -999.00,9,  -999.0,9,  -999.0,   1.078,3, -999.00,1,-999.0000,9, -999.00,9,  400.60,  -999.0,9,  10.7385,     26.738,    35.0560,2,     -999.0,9,     -999.0,9,     -999.0,     -999.0,9,     -999.0
33RO20110926,        A10,      28,          1,         14,      11708,2,20111004,       2301,   -29.5331,     1.9671,       2425,   499.8,   8.8739,  34.6705,2,  34.6705,2,    187.5,2,   187.9,2,    11.0,6,    22.2,6,    0.01,6,   1.552,6,   3.001,2,   1.602,2,   0.937,2,-999.000000,9,  -999.0,9,  -999.0,9, -999.00,-999.0000,9,  -999.00,-999.000,1,-999.0000,1, -999.00,9,  -999.0,9,  -999.0,   1.326,3, -999.00,1,-999.0000,9, -999.00,9,  499.80,  -999.0,9,   8.8193,     26.888,    34.8340,2,     -999.0,9,     -999.0,9,     -999.0,     -999.0,9,     -999.0
33RO20110926,        A10,      28,          1,         13,      11031,2,20111004,       2301,   -29.5331,     1.9671,       2425,   600.5,   7.2463,  34.5083,2,  34.5094,2,    192.1,2,     192,2,    15.1,6,    26.0,6,    0.01,6,   1.795,6,   2.936,2,   1.517,2,   0.828,2,     2179.8,2,    2288,2,  -999.0,9, -999.00,   7.6593,2,       25,-999.000,1,-999.0000,1, -999.00,9,  -999.0,9,  -999.0,   1.801,3, -999.00,1,-999.0000,9, -999.00,9,  600.50,  -999.0,9,   7.1877,     27.006,    34.6722,2,     -999.0,9,     -999.0,9,     -999.0,     -999.0,9,     -999.0
33RO20110926,        A10,      28,          1,         12,      11027,2,20111004,       2301,   -29.5331,     1.9671,       2425,   701.6,   5.4599,  34.3672,2,  34.3695,2,    207.9,2,   204.9,2,    21.0,2,    28.8,2,    0.00,2,   1.994,2,   2.833,2,   1.434,2,   0.714,2,-999.000000,9,  -999.0,9,  -999.0,9, -999.00,-999.0000,9,  -999.00,-999.000,1,-999.0000,1, -999.00,9,  -999.0,9,  -999.0,   2.274,3, -999.00,1,-999.0000,9, -999.00,9,  701.60,  -999.0,9,   5.4006,     27.128,    34.5315,2,     -999.0,9,     -999.0,9,     -999.0,     -999.0,9,     -999.0
33RO20110926,        A10,      28,          1,         11,      11707,2,20111004,       2301,   -29.5331,     1.9671,       2425,   800.8,   4.6413,  34.3460,2,  34.3463,2,    206.1,2,   204.8,2,    28.0,2,    30.6,2,    0.00,2,   2.123,2,   2.427,2,   1.214,2,   0.552,2,-999.000000,9,  -999.0,9,  -999.0,9, -999.00,-999.0000,9,  -999.00,-999.000,1,-999.0000,1, -999.00,9,  -999.0,9,  -999.0,   2.216,3, -999.00,1,-999.0000,9, -999.00,9,  800.80,  -999.0,9,   4.5781,     27.205,    34.5083,2,     -999.0,9,     -999.0,9,     -999.0,     -999.0,9,     -999.0
33RO20110926,        A10,      28,          1,         10,      11003,2,20111004,       2301,   -29.5331,     1.9671,       2425,   900.0,   4.2014,  34.3789,2,  34.3791,2,    191.7,2,   190.6,2,    34.9,2,    32.3,2,    0.00,2,   2.253,2,   1.701,2,   0.835,2,   0.338,2,-999.000000,9,  -999.0,9,  -999.0,9, -999.00,-999.0000,9,  -999.00,-999.000,1,-999.0000,1, -999.00,9,  -999.0,9,  -999.0,   1.709,3, -999.00,1,-999.0000,9, -999.00,9,  900.00,  -999.0,9,   4.1328,     27.278,    34.5412,2,     -999.0,9,     -999.0,9,     -999.0,     -999.0,9,     -999.0
33RO20110926,        A10,      28,          1,          9,      11706,2,20111004,       2301,   -29.5331,     1.9671,       2425,  1050.2,   3.6581,  34.4412,2,  34.4409,2,    182.1,2,   182.9,2,    44.7,2,    33.3,2,    0.01,2,   2.320,2,   0.995,2,   0.480,2,   0.182,2,-999.000000,9,  -999.0,9,  -999.0,9, -999.00,-999.0000,9,  -999.00,-999.000,1,-999.0000,1, -999.00,9,  -999.0,9,  -999.0,   1.151,3, -999.00,1,-999.0000,9, -999.00,9, 1050.20,  -999.0,9,   3.5811,     27.384,    34.6033,2,     -999.0,9,     -999.0,9,     -999.0,     -999.0,9,     -999.0
33RO20110926,        A10,      28,          1,          8,      11033,2,20111004,       2301,   -29.5331,     1.9671,       2425,  1200.6,   3.3450,  34.5331,2,  34.5331,2,    178.4,2,   179.3,2,    50.3,2,    33.0,2,    0.00,2,   2.296,2,   0.482,6,   0.226,6,   0.042,6,     2233.2,2,  2321.8,2,  -999.0,9, -999.00,   7.5884,2,       25,-999.000,9,-999.0000,1, -999.00,9,  -999.0,9,  -999.0,   0.631,3, -999.00,9,-999.0000,9, -999.00,9, 1200.60,  -999.0,9,   3.2583,     27.488,    34.6960,6,     -999.0,9,     -999.0,9,     -999.0,     -999.0,9,     -999.0
33RO20110926,        A10,      28,          1,          7,      11705,2,20111004,       2301,   -29.5331,     1.9671,       2425,  1390.1,   3.1119,  34.6204,2,  34.6203,2,    183.1,2,   182.3,2,    53.8,2,    31.7,2,    0.00,2,   2.207,2,   0.276,2,   0.129,2,   0.034,2,-999.000000,9,  -999.0,9,  -999.0,9, -999.00,-999.0000,9,  -999.00,-999.000,1,-999.0000,1, -999.00,9,  -999.0,9,  -999.0,   0.393,3, -999.00,9,-999.0000,9, -999.00,9, 1390.10,  -999.0,9,   3.0118,     27.581,    34.7835,2,     -999.0,9,     -999.0,9,     -999.0,     -999.0,9,     -999.0
33RO20110926,        A10,      28,          1,          6,      11029,2,20111004,       2301,   -29.5331,     1.9671,       2425,  1600.6,   3.2013,  34.7338,2,  34.7350,2,    196.0,2,   195.2,2,    45.6,2,    28.8,2,    0.00,2,   1.996,2,   0.074,2,   0.036,2,   0.000,2,-999.000000,9,  -999.0,9,  -999.0,9, -999.00,-999.0000,9,  -999.00,-999.000,9,-999.0000,1, -999.00,9,  -999.0,9,  -999.0,   0.141,3, -999.00,9,-999.0000,9, -999.00,9, 1600.60,  -999.0,9,   3.0821,     27.666,    34.8988,2,     -999.0,9,     -999.0,9,     -999.0,     -999.0,9,     -999.0
33RO20110926,        A10,      28,          1,          5,      11704,2,20111004,       2301,   -29.5331,     1.9671,       2425,  1799.6,   3.0603,  34.7883,2,  34.7887,2,    205.8,2,   205.9,2,    45.2,2,    27.2,2,    0.00,2,   1.870,2,   0.043,2,   0.021,2,   0.000,2,     2214.2,2,  2328.9,2,  -999.0,9, -999.00,   7.6525,2,       25,-999.000,1,-999.0000,1, -999.00,9,  -999.0,9,  -999.0,   0.097,3, -999.00,9,-999.0000,9, -999.00,9, 1799.60,  -999.0,9,   2.9253,     27.723,    34.9527,2,     -999.0,9,     -999.0,9,     -999.0,     -999.0,9,     -999.0
33RO20110926,        A10,      28,          1,          4,      11030,2,20111004,       2301,   -29.5331,     1.9671,       2425,  2001.4,   2.9868,  34.8304,2,  34.8316,2,    217.2,2,   218.1,2,    42.7,2,    25.7,2,    0.01,2,   1.759,2,   0.021,2,   0.010,2,   0.000,2,-999.000000,9,  -999.0,9,  -999.0,9, -999.00,-999.0000,9,  -999.00,-999.000,9,-999.0000,1, -999.00,9,  -999.0,9,  -999.0,   0.071,3, -999.00,9,-999.0000,9, -999.00,9, 2001.40,  -999.0,9,   2.8346,     27.766,    34.9958,2,     -999.0,9,     -999.0,9,     -999.0,     -999.0,9,     -999.0
33RO20110926,        A10,      28,          1,          3,      11703,2,20111004,       2301,   -29.5331,     1.9671,       2425,  2250.1,   2.7145,  34.8358,2,  34.8359,2,    221.9,2,   222.5,2,    47.7,2,    25.5,2,    0.00,2,   1.734,2,   0.019,2,   0.009,2,   0.000,2,-999.000000,9,  -999.0,9,  -999.0,9, -999.00,-999.0000,9,  -999.00,-999.000,1,-999.0000,1, -999.00,9,  -999.0,9,  -999.0,   0.060,3, -999.00,9,-999.0000,9, -999.00,9, 2250.10,  -999.0,9,   2.5439,     27.795,    35.0002,2,     -999.0,9,     -999.0,9,     -999.0,     -999.0,9,     -999.0
33RO20110926,        A10,      28,          1,          2,      11702,2,20111004,       2301,   -29.5331,     1.9671,       2425,  2374.6,   2.6399,  34.8378,2,  34.8377,2,    223.7,2,   222.9,2,    49.5,2,    25.3,2,    0.01,2,   1.726,2,   0.017,2,   0.009,2,   0.000,2,-999.000000,9,  -999.0,9,  -999.0,9, -999.00,-999.0000,9,  -999.00,-999.000,1,-999.0000,1, -999.00,9,  -999.0,9,  -999.0,   0.059,3, -999.00,9,-999.0000,9, -999.00,9, 2374.60,  -999.0,9,   2.4588,     27.804,    35.0020,2,     -999.0,9,     -999.0,9,     -999.0,     -999.0,9,     -999.0
33RO20110926,        A10,      28,          1,          1,      11701,2,20111004,       2301,   -29.5331,     1.9671,       2425,  2501.0,   2.5051,  34.8451,2,  34.8456,2,    227.1,2,   228.5,2,    51.3,2,    25.2,2,    0.01,2,   1.706,2,   0.015,2,   0.008,2,   0.000,2,     2208.4,2,  2337.5,2,  -999.0,9, -999.00,   7.6895,2,       25,-999.000,1,-999.0000,1, -999.00,9,  -999.0,9,  -999.0,   0.064,3, -999.00,9,-999.0000,9, -999.00,9, 2501.00,  -999.0,9,   2.3145,     27.822,    35.0099,2,     -999.0,9,     -999.0,9,     -999.0,     -999.0,9,     -999.0