BOTTLE,20220815CCHSIOAMB
EXPOCODE,SECT_ID,STNNBR,CASTNO,SAMPNO,BTLNBR,BTLNBR_FLAG_W,DATE,TIME,LATITUDE,LONGITUDE,DEPTH,CTDPRS,CTDTMP,CTDSAL,CTDSAL_FLAG_W,SALNTY,SALNTY_FLAG_W,CTDOXY,CTDOXY_FLAG_W,OXYGEN,OXYGEN_FLAG_W,SILCAT,SILCAT_FLAG_W,NITRAT,NITRAT_FLAG_W,NITRIT,NITRIT_FLAG_W,PHSPHT,PHSPHT_FLAG_W,CFC-11,CFC-11_FLAG_W,CFC-12,CFC-12_FLAG_W,SF6,SF6_FLAG_W,TCARBN,TCARBN_FLAG_W,ALKALI,ALKALI_FLAG_W,PCO2,PCO2_FLAG_W,PCO2TMP,PH_SWS,PH_SWS_FLAG_W,PH_TMP,TRITUM,TRITUM_FLAG_W,HELIUM,HELIUM_FLAG_W,DELC13,DELC13_FLAG_W,DELC14,DELC14_FLAG_W,C14ERR,CCL4,CCL4_FLAG_W,DELO18,DELO18_FLAG_W,DOC,DOC_FLAG_W,TDN,TDN_FLAG_W,CTDRAW,14C-DOC,14C-DOC_FLAG_W,THETA,SIG0,SALTREF,SALTREF_FLAG_W,BLACKC,BLACKC_FLAG_W,PIGMENTS,PIGMENTS_FLAG_W,14C-DOCERR,13C-DOC,13C-DOC_FLAG_W,13C-DOCERR
,,,,,,,,,,,METERS,DBAR,ITS-90,PSS-78,,PSS-78,,UMOL/KG,,UMOL/KG,,UMOL/KG,,UMOL/KG,,UMOL/KG,,UMOL/KG,,PMOL/KG,,PMOL/KG,,FMOL/KG,,UMOL/KG,,UMOL/KG,,UATM,,DEG C,,,DEG C,TU,,NMOL/KG,,/MILLE,,/MILLE,,/MILLE,PMOL/KG,,/MILLE,,UMOL/KG,,UMOL/KG,,DBAR,/MILLE,,DEG C,KG/M^3,G/KG,,,,,,/MILLE,/MILLE,,/MILLE
33RO20110926,        A10,      61,          1,         24,      11714,2,20111015,       1754,   -29.9996,   -18.9994,       3918,     4.4,  18.1440,  36.0857,2,  36.0855,2,    235.2,2,   236.1,2,     1.3,2,     0.0,2,    0.01,2,   0.138,2,   2.296,2,   1.391,2,   1.438,2,     2086.7,6,  2371.5,6,  -999.0,9, -999.00,   7.9935,6,       25,-999.000,9,-999.0000,9,    1.15,2,    51.0,2,     3.2,   3.240,4, -999.00,9,  62.5073,2,    4.09,2,    4.40,  -999.0,9,  18.1433,     26.068,    36.2557,2,     -999.0,9,     -999.0,1,     -999.0,     -999.0,9,     -999.0
33RO20110926,        A10,      61,          1,         23,      11713,2,20111015,       1754,   -29.9996,   -18.9994,       3918,    40.7,  18.0089,  36.0541,2,  36.0523,2,    235.5,2,   236.3,2,     1.3,2,     0.0,2,    0.01,2,   0.138,2,   2.321,2,   1.401,2,   1.382,2,     2084.6,2,  2368.8,2,  -999.0,9, -999.00,   7.9869,2,       25,-999.000,9,-999.0000,9, -999.00,9,  -999.0,9,  -999.0,   3.572,4, -999.00,9,  63.4146,2,    3.25,2,   40.70,  -999.0,9,  18.0019,     26.077,    36.2223,2,     -999.0,9,     -999.0,9,     -999.0,     -999.0,9,     -999.0
33RO20110926,        A10,      61,          1,         22,      11712,2,20111015,       1754,   -29.9996,   -18.9994,       3918,    89.6,  17.7014,  35.9787,2,  35.9855,2,    233.3,2,     235,2,     1.3,2,     0.1,2,    0.05,2,   0.151,2,   2.344,2,   1.416,2,   1.409,2,     2084.9,2,  2360.6,2,  -999.0,9, -999.00,   7.9739,2,       25,-999.000,9,-999.0000,9, -999.00,9,  -999.0,9,  -999.0,   2.798,4, -999.00,9,  60.0195,2,    3.48,2,   89.60,  -999.0,9,  17.6861,     26.104,    36.1552,2,     -999.0,9,     -999.0,1,     -999.0,     -999.0,9,     -999.0
33RO20110926,        A10,      61,          1,         21,      11010,2,20111015,       1754,   -29.9996,   -18.9994,       3918,   135.2,  16.6547,  35.7501,2,  35.7577,2,    230.3,2,     230,2,     1.6,2,     1.3,2,    0.17,2,   0.244,2,   2.483,2,   1.488,2,   1.421,2,     2089.9,2,  2347.7,2,  -999.0,9, -999.00,   7.9439,2,       25,-999.000,9,-999.0000,9, -999.00,9,  -999.0,9,  -999.0,   2.299,4, -999.00,9,  56.6537,2,    4.96,2,  135.20,  -999.0,9,  16.6326,     26.178,    35.9263,2,     -999.0,9,     -999.0,1,     -999.0,     -999.0,9,     -999.0
33RO20110926,        A10,      61,          1,         20,      11715,2,20111015,       1754,   -29.9996,   -18.9994,       3918,   193.2,  15.2209,  35.5065,2,  35.5096,2,    221.0,2,   221.3,2,     2.1,6,     4.3,6,    0.03,6,   0.427,6,   2.665,2,   1.585,2,   1.388,2,       2103,2,  -999.0,5,  -999.0,9, -999.00,-999.0000,5,  -999.00,-999.000,9,-999.0000,9, -999.00,9,  -999.0,9,  -999.0,   1.609,4, -999.00,9,   51.922,2,    7.17,2,  193.20,  -999.0,9,  15.1913,     26.327,    35.6770,2,     -999.0,9,     -999.0,9,     -999.0,     -999.0,9,     -999.0
33RO20110926,        A10,      61,          1,         19,      11007,2,20111015,       1754,   -29.9996,   -18.9994,       3918,   275.5,  13.6090,  35.2817,2,  35.2876,2,    218.2,2,   217.4,2,     3.0,2,     7.9,2,    0.02,2,   0.648,2,   2.897,2,   1.673,2,   1.314,2,     2115.4,2,    2323,2,  -999.0,9, -999.00,   7.8667,2,       25,-999.000,9,-999.0000,9, -999.00,9,  -999.0,9,  -999.0,   1.423,3, -999.00,9,  50.5268,2, -999.00,9,  275.50,  -999.0,9,  13.5698,     26.498,    35.4540,2,     -999.0,9,     -999.0,9,     -999.0,     -999.0,9,     -999.0
33RO20110926,        A10,      61,          1,         18,      11710,2,20111015,       1754,   -29.9996,   -18.9994,       3918,   365.4,  12.3027,  35.1080,2,  35.1125,2,    211.2,2,   213.3,2,     4.2,2,    11.6,2,    0.01,2,   0.868,2,   3.051,2,   1.721,2,   1.237,2,     2127.9,2,  2314.5,2,  -999.0,9, -999.00,   7.8236,2,       25,-999.000,9,-999.0000,9, -999.00,9,  -999.0,9,  -999.0,   1.594,3, -999.00,9,  47.1122,2, -999.00,9,  365.40,  -999.0,9,  12.2539,     26.628,    35.2781,6,     -999.0,9,     -999.0,9,     -999.0,     -999.0,9,     -999.0
33RO20110926,        A10,      61,          1,         17,      11023,2,20111015,       1754,   -29.9996,   -18.9994,       3918,   464.4,  10.7599,  34.8955,2,  35.1103,4,    207.3,2,   207.7,2,     6.1,6,    15.5,6,    0.01,6,   1.130,6,   3.155,6,   1.726,6,   1.098,6,     2140.3,2,  2296.4,2,  -999.0,9, -999.00,   7.7695,2,       25,-999.000,9,-999.0000,9, -999.00,9,  -999.0,9,  -999.0,   1.595,3, -999.00,9,  45.2585,2, -999.00,9,  464.40,  -999.0,9,  10.7028,     26.747,    35.2759,4,     -999.0,9,     -999.0,9,     -999.0,     -999.0,9,     -999.0
33RO20110926,        A10,      61,          1,         16,      11709,2,20111015,       1754,   -29.9996,   -18.9994,       3918,   566.2,   8.7144,  34.6451,2,  34.6458,2,    212.1,2,   211.8,2,     8.7,2,    20.3,2,    0.01,2,   1.428,2,   3.308,2,   1.756,2,   1.012,2,     2152.5,2,  2290.4,2,  -999.0,9, -999.00,   7.7166,2,       25,-999.000,9,-999.0000,9, -999.00,9,  -999.0,9,  -999.0,   2.821,3, -999.00,9,  43.6683,2, -999.00,9,  566.20,  -999.0,9,   8.6531,     26.893,    34.8091,2,     -999.0,9,     -999.0,9,     -999.0,     -999.0,9,     -999.0
33RO20110926,        A10,      61,          1,         15,      11006,2,20111015,       1754,   -29.9996,   -18.9994,       3918,   665.5,   6.7235,  34.4262,2,  34.4298,2,    220.8,2,   219.1,2,    12.2,2,    24.7,2,    0.01,2,   1.706,2,   3.423,2,   1.778,2,   0.995,2,     2163.2,2,  2281.6,2,  -999.0,9, -999.00,   7.6725,2,       25,-999.000,9,-999.0000,9, -999.00,9,  -999.0,9,  -999.0,   4.002,3, -999.00,9,  43.6683,2, -999.00,9,  665.50,  -999.0,9,   6.6610,     27.013,    34.5921,2,     -999.0,9,     -999.0,9,     -999.0,     -999.0,9,     -999.0
33RO20110926,        A10,      61,          1,         14,      11708,2,20111015,       1754,   -29.9996,   -18.9994,       3918,   765.6,   5.2923,  34.2959,2,  34.2979,2,    233.1,2,   232.1,2,    15.7,2,    26.9,2,    0.01,2,   1.865,2,   3.485,2,   1.782,2,   0.896,2,     2171.1,2,  2282.1,2,  -999.0,9, -999.00,   7.6595,2,       25,-999.000,9,-999.0000,9, -999.00,9,  -999.0,9,  -999.0,   4.963,3, -999.00,9,  39.8927,2, -999.00,9,  765.60,  -999.0,9,   5.2284,     27.091,    34.4596,2,     -999.0,9,     -999.0,9,     -999.0,     -999.0,9,     -999.0
33RO20110926,        A10,      61,          1,         13,      11031,2,20111015,       1754,   -29.9996,   -18.9994,       3918,   863.9,   4.5368,  34.2774,2,  34.2783,2,    229.5,2,   228.8,2,    21.7,2,    29.0,2,    0.01,2,   1.991,2,   3.065,2,   1.537,2,   0.662,2,     2181.1,2,  -999.0,5,  -999.0,9, -999.00,-999.0000,5,  -999.00,-999.000,9,-999.0000,9, -999.00,9,  -999.0,9,  -999.0,   4.739,3, -999.00,9,  39.7561,2, -999.00,9,  863.90,  -999.0,9,   4.4691,     27.161,    34.4400,6,     -999.0,9,     -999.0,9,     -999.0,     -999.0,9,     -999.0
33RO20110926,        A10,      61,          1,         12,      11027,2,20111015,       1754,   -29.9996,   -18.9994,       3918,   964.0,   3.9120,  34.2977,2,  34.2981,2,    219.1,2,   218.4,2,    30.1,2,    30.7,2,    0.01,2,   2.120,2,   2.397,2,   1.184,2,   0.426,2,     2194.1,2,    2297,2,  -999.0,9, -999.00,   7.6252,2,       25,-999.000,9,-999.0000,9, -999.00,9,  -999.0,9,  -999.0,   4.065,3, -999.00,9,  36.9659,2, -999.00,9,  964.00,  -999.0,9,   3.8403,     27.244,    34.4599,2,     -999.0,9,     -999.0,9,     -999.0,     -999.0,9,     -999.0
33RO20110926,        A10,      61,          1,         11,      11707,2,20111015,       1754,   -29.9996,   -18.9994,       3918,  1065.3,   3.5696,  34.3310,2,  34.3319,2,    210.5,2,   210.2,2,    36.5,6,    31.6,6,    0.01,6,   2.198,6,-999.000,5,-999.000,5,-999.000,5,     2202.9,2,  2302.9,2,  -999.0,9, -999.00,   7.6102,2,       25,-999.000,9,-999.0000,9, -999.00,9,  -999.0,9,  -999.0,-999.000,5, -999.00,9,-999.0000,5, -999.00,9, 1065.30,  -999.0,9,   3.4924,     27.305,    34.4938,2,     -999.0,9,     -999.0,9,     -999.0,     -999.0,9,     -999.0
33RO20110926,        A10,      61,          1,         10,      11003,2,20111015,       1754,   -29.9996,   -18.9994,       3918,  1264.1,   3.1001,  34.4866,2,  34.4862,2,    189.1,2,   189.3,2,    51.4,2,    32.6,2,    0.01,2,   2.268,2,   0.723,2,   0.349,2,   0.114,2,     2225.2,2,  2315.2,2,  -999.0,9, -999.00,   7.5884,2,       25,-999.000,9,-999.0000,9, -999.00,9,  -999.0,9,  -999.0,   1.538,3, -999.00,9,  37.7366,2, -999.00,9, 1264.10,  -999.0,9,   3.0107,     27.474,    34.6488,2,     -999.0,9,     -999.0,9,     -999.0,     -999.0,9,     -999.0
33RO20110926,        A10,      61,          1,          9,      11706,2,20111015,       1754,   -29.9996,   -18.9994,       3918,  1500.1,   2.9017,  34.6229,2,  34.6215,2,    190.0,2,   191.3,2,    55.4,2,    31.1,2,    0.01,2,   2.142,2,   0.271,6,   0.130,6,   0.048,6,     2227.4,6,    2322,2,  -999.0,9, -999.00,   7.6024,2,       25,-999.000,9,-999.0000,9, -999.00,9,  -999.0,9,  -999.0,   0.846,3, -999.00,9,  43.9707,2, -999.00,9, 1500.10,  -999.0,9,   2.7949,     27.601,    34.7847,2,     -999.0,9,     -999.0,9,     -999.0,     -999.0,9,     -999.0
33RO20110926,        A10,      61,          1,          8,      11033,2,20111015,       1754,   -29.9996,   -18.9994,       3918,  1748.8,   2.7942,  34.7257,2,  34.7246,2,    202.8,2,   203.5,2,    53.8,2,    28.7,2,    0.01,2,   1.983,2,   0.102,2,   0.051,2,   0.000,2,       2220,2,  2332.2,2,  -999.0,9, -999.00,   7.6392,2,       25,-999.000,9,-999.0000,9, -999.00,9,  -999.0,9,  -999.0,   0.485,3, -999.00,9,  42.6732,2, -999.00,9, 1748.80,  -999.0,9,   2.6675,     27.695,    34.8883,2,     -999.0,9,     -999.0,9,     -999.0,     -999.0,9,     -999.0
33RO20110926,        A10,      61,          1,          7,      11705,2,20111015,       1754,   -29.9996,   -18.9994,       3918,  2001.2,   2.6956,  34.7924,2,  34.7924,2,    216.9,2,   217.2,2,    50.7,6,    26.5,6,    0.01,6,   1.816,6,   0.046,2,   0.023,2,   0.000,2,     2208.5,2,  2333.3,2,  -999.0,9, -999.00,   7.6673,2,       25,-999.000,9,-999.0000,9, -999.00,9,  -999.0,9,  -999.0,   0.306,3, -999.00,9,  43.8049,2, -999.00,9, 2001.20,  -999.0,9,   2.5479,     27.760,    34.9565,2,     -999.0,9,     -999.0,9,     -999.0,     -999.0,9,     -999.0
33RO20110926,        A10,      61,          1,          6,      11029,2,20111015,       1754,   -29.9996,   -18.9994,       3918,  2300.6,   2.6580,  34.8386,2,  34.8396,2,    228.8,2,   229.5,2,    47.0,2,    24.5,2,    0.01,2,   1.685,2,   0.020,2,   0.011,2,   0.000,2,     2198.6,2,  2333.4,2,  -999.0,9, -999.00,   7.6934,2,       25,-999.000,9,-999.0000,9, -999.00,9,  -999.0,9,  -999.0,   0.214,3, -999.00,9,  41.7854,2, -999.00,9, 2300.60,  -999.0,9,   2.4835,     27.803,    35.0039,2,     -999.0,9,     -999.0,9,     -999.0,     -999.0,9,     -999.0
33RO20110926,        A10,      61,          1,          5,      11704,2,20111015,       1754,   -29.9996,   -18.9994,       3918,  2600.5,   2.6672,  34.8706,2,  34.8714,2,    239.3,2,   238.2,2,    42.8,2,    23.2,2,    0.01,2,   1.584,2,   0.012,2,   0.007,2,   0.000,2,     2191.3,2,  2331.5,2,  -999.0,9, -999.00,   7.7124,2,       25,-999.000,9,-999.0000,9, -999.00,9,  -999.0,9,  -999.0,   0.172,3, -999.00,9,  41.7171,2, -999.00,9, 2600.50,  -999.0,9,   2.4639,     27.830,    35.0358,2,     -999.0,9,     -999.0,9,     -999.0,     -999.0,9,     -999.0
33RO20110926,        A10,      61,          1,          4,      11030,2,20111015,       1754,   -29.9996,   -18.9994,       3918,  2951.0,   2.6016,  34.8903,2,  34.8907,2,    246.3,2,   246.3,2,    41.0,2,    22.3,2,    0.01,2,   1.515,2,   0.007,2,   0.005,2,   0.032,2,       2187,2,  2331.8,4,  -999.0,9, -999.00,   7.7244,2,       25,-999.000,9,-999.0000,9, -999.00,9,  -999.0,9,  -999.0,   0.152,3, -999.00,9,  43.5805,2, -999.00,9, 2951.00,  -999.0,9,   2.3646,     27.854,    35.0552,2,     -999.0,9,     -999.0,9,     -999.0,     -999.0,9,     -999.0
33RO20110926,        A10,      61,          1,          3,      11703,2,20111015,       1754,   -29.9996,   -18.9994,       3918,  3299.4,   2.3264,  34.8741,2,  34.8747,2,    245.3,2,   246.4,2,    48.4,6,    22.9,6,    0.01,6,   1.562,6,   0.009,2,   0.006,2,   0.133,2,     2194.7,2,  2337.4,2,  -999.0,9, -999.00,   7.7156,2,       25,-999.000,9,-999.0000,9, -999.00,9,  -999.0,9,  -999.0,   0.133,3, -999.00,9,     43.6,2, -999.00,9, 3299.40,  -999.0,9,   2.0598,     27.866,    35.0391,2,     -999.0,9,     -999.0,9,     -999.0,     -999.0,9,     -999.0
33RO20110926,        A10,      61,          1,          2,      11702,2,20111015,       1754,   -29.9996,   -18.9994,       3918,  3699.7,   1.9658,  34.8382,2,  34.8389,2,    241.1,2,   240.3,2,    62.6,2,    24.8,2,    0.01,2,   1.695,2,   0.012,2,   0.007,2,   0.178,2,     2207.6,2,  2341.4,3,  -999.0,9, -999.00,   7.6925,2,       25,-999.000,9,-999.0000,9, -999.00,9,  -999.0,9,  -999.0,   0.148,3, -999.00,9,   42.878,2, -999.00,9, 3699.70,  -999.0,9,   1.6658,     27.869,    35.0032,2,     -999.0,9,     -999.0,9,     -999.0,     -999.0,9,     -999.0
33RO20110926,        A10,      61,          1,          1,      11701,2,20111015,       1754,   -29.9996,   -18.9994,       3918,  3871.1,   1.8121,  34.8219,2,  34.8236,2,    238.3,2,     238,2,    69.0,2,    25.5,2,    0.01,2,   1.759,2,   0.018,6,   0.010,6,   0.193,6,     2215.6,6,  2344.8,2,  -999.0,9, -999.00,   7.6954,6,       25,-999.000,9,-999.0000,9, -999.00,9,  -999.0,9,  -999.0,   0.161,3, -999.00,9,  41.7171,2, -999.00,9, 3871.10,  -999.0,9,   1.4976,     27.869,    34.9878,2,     -999.0,9,     -999.0,9,     -999.0,     -999.0,9,     -999.0