BOTTLE,20220815CCHSIOAMB
EXPOCODE,SECT_ID,STNNBR,CASTNO,SAMPNO,BTLNBR,BTLNBR_FLAG_W,DATE,TIME,LATITUDE,LONGITUDE,DEPTH,CTDPRS,CTDTMP,CTDSAL,CTDSAL_FLAG_W,SALNTY,SALNTY_FLAG_W,CTDOXY,CTDOXY_FLAG_W,OXYGEN,OXYGEN_FLAG_W,SILCAT,SILCAT_FLAG_W,NITRAT,NITRAT_FLAG_W,NITRIT,NITRIT_FLAG_W,PHSPHT,PHSPHT_FLAG_W,CFC-11,CFC-11_FLAG_W,CFC-12,CFC-12_FLAG_W,SF6,SF6_FLAG_W,TCARBN,TCARBN_FLAG_W,ALKALI,ALKALI_FLAG_W,PCO2,PCO2_FLAG_W,PCO2TMP,PH_SWS,PH_SWS_FLAG_W,PH_TMP,TRITUM,TRITUM_FLAG_W,HELIUM,HELIUM_FLAG_W,DELC13,DELC13_FLAG_W,DELC14,DELC14_FLAG_W,C14ERR,CCL4,CCL4_FLAG_W,DELO18,DELO18_FLAG_W,DOC,DOC_FLAG_W,TDN,TDN_FLAG_W,CTDRAW,14C-DOC,14C-DOC_FLAG_W,THETA,SIG0,SALTREF,SALTREF_FLAG_W,BLACKC,BLACKC_FLAG_W,PIGMENTS,PIGMENTS_FLAG_W,14C-DOCERR,13C-DOC,13C-DOC_FLAG_W,13C-DOCERR
,,,,,,,,,,,METERS,DBAR,ITS-90,PSS-78,,PSS-78,,UMOL/KG,,UMOL/KG,,UMOL/KG,,UMOL/KG,,UMOL/KG,,UMOL/KG,,PMOL/KG,,PMOL/KG,,FMOL/KG,,UMOL/KG,,UMOL/KG,,UATM,,DEG C,,,DEG C,TU,,NMOL/KG,,/MILLE,,/MILLE,,/MILLE,PMOL/KG,,/MILLE,,UMOL/KG,,UMOL/KG,,DBAR,/MILLE,,DEG C,KG/M^3,G/KG,,,,,,/MILLE,/MILLE,,/MILLE
33RO20110926,        A10,       8,          1,         24,      11714,2,20110929,       1158,   -29.7332,    11.9005,       3968,     3.3,  16.9310,  35.6153,2,  35.6169,2,    243.6,2,   247.9,2,     2.5,2,     0.8,2,    0.09,2,   0.200,2,-999.000,9,-999.000,9,-999.000,9,     2062.5,6,  2336.8,2,  -999.0,9, -999.00,   7.9719,2,       25,-999.000,9,-999.0000,9, -999.00,9,  -999.0,9,  -999.0,-999.000,9, -999.00,9,-999.0000,9, -999.00,9,    3.30,  -999.0,9,  16.9305,     26.004,    35.7848,2,     -999.0,9,     -999.0,1,     -999.0,     -999.0,9,     -999.0
33RO20110926,        A10,       8,          1,         23,      11713,2,20110929,       1158,   -29.7332,    11.9005,       3968,    43.7,  16.8144,  35.6110,2,  35.6122,2,    246.2,2,   247.7,2,     2.5,2,     0.9,2,    0.11,2,   0.204,2,-999.000,9,-999.000,9,-999.000,9,-999.000000,9,  2336.6,6,  -999.0,9, -999.00,   7.9865,6,       25,-999.000,9,-999.0000,9, -999.00,9,  -999.0,9,  -999.0,-999.000,9, -999.00,9,-999.0000,9, -999.00,9,   43.70,  -999.0,9,  16.8072,     26.030,    35.7801,2,     -999.0,9,     -999.0,1,     -999.0,     -999.0,9,     -999.0
33RO20110926,        A10,       8,          1,         22,      11712,2,20110929,       1158,   -29.7332,    11.9005,       3968,   102.3,  16.3074,  35.5694,2,  35.5711,2,    240.5,2,   234.1,2,     2.9,6,     2.6,6,    0.49,6,   0.330,6,-999.000,9,-999.000,9,-999.000,9,-999.000000,9,  2332.7,2,  -999.0,9, -999.00,   7.9469,2,       25,-999.000,9,-999.0000,9, -999.00,9,  -999.0,9,  -999.0,-999.000,9, -999.00,9,-999.0000,9, -999.00,9,  102.30,  -999.0,9,  16.2910,     26.120,    35.7389,2,     -999.0,9,     -999.0,1,     -999.0,     -999.0,9,     -999.0
33RO20110926,        A10,       8,          1,         21,      11010,2,20110929,       1158,   -29.7332,    11.9005,       3968,   157.0,  15.8933,  35.5511,2,  35.5526,2,    237.9,2,   231.1,2,     2.8,2,     3.2,2,    0.18,2,   0.368,2,-999.000,9,-999.000,9,-999.000,9,-999.000000,9,  2334.1,2,  -999.0,9, -999.00,   7.9258,2,       25,-999.000,9,-999.0000,9, -999.00,9,  -999.0,9,  -999.0,-999.000,9, -999.00,9,-999.0000,9, -999.00,9,  157.00,  -999.0,9,  15.8685,     26.203,    35.7202,2,     -999.0,9,     -999.0,9,     -999.0,     -999.0,9,     -999.0
33RO20110926,        A10,       8,          1,         20,      11715,2,20110929,       1158,   -29.7332,    11.9005,       3968,   204.6,  14.7756,  35.3719,2,  35.3804,2,    222.1,2,   221.7,2,     3.5,2,     5.7,2,    0.02,2,   0.524,2,-999.000,9,-999.000,9,-999.000,9,-999.000000,9,  2325.4,2,  -999.0,9, -999.00,   7.8867,2,       25,-999.000,9,-999.0000,9, -999.00,9,  -999.0,9,  -999.0,-999.000,9, -999.00,9,-999.0000,9, -999.00,9,  204.60,  -999.0,9,  14.7448,     26.311,    35.5472,2,     -999.0,9,     -999.0,9,     -999.0,     -999.0,9,     -999.0
33RO20110926,        A10,       8,          1,         19,      11007,2,20110929,       1158,   -29.7332,    11.9005,       3968,   281.4,  13.2199,  35.1730,2,  35.1838,2,    219.1,2,   218.3,2,     3.6,2,     8.5,2,    0.01,2,   0.699,2,-999.000,9,-999.000,9,-999.000,9,     2114.9,2,  2317.1,2,  -999.0,9, -999.00,   7.8386,2,       25,-999.000,9,-999.0000,9, -999.00,9,  -999.0,9,  -999.0,-999.000,9, -999.00,9,-999.0000,9, -999.00,9,  281.40,  -999.0,9,  13.1806,     26.495,    35.3497,2,     -999.0,9,     -999.0,9,     -999.0,     -999.0,9,     -999.0
33RO20110926,        A10,       8,          1,         18,      11710,2,20110929,       1158,   -29.7332,    11.9005,       3968,   365.5,  11.5655,  34.9728,2,  34.9790,2,    219.7,2,   218.1,2,     4.9,2,    12.6,2,    0.01,2,   0.950,2,-999.000,9,-999.000,9,-999.000,9,-999.000000,9,  2305.5,2,  -999.0,9, -999.00,   7.8057,2,       25,-999.000,9,-999.0000,9, -999.00,9,  -999.0,9,  -999.0,-999.000,9, -999.00,9,-999.0000,9, -999.00,9,  365.50,  -999.0,9,  11.5186,     26.661,    35.1439,2,     -999.0,9,     -999.0,9,     -999.0,     -999.0,9,     -999.0
33RO20110926,        A10,       8,          1,         17,      11023,2,20110929,       1158,   -29.7332,    11.9005,       3968,   452.2,   9.9770,  34.7960,2,  34.8006,2,    214.1,2,   213.6,2,     8.0,2,    16.8,2,    0.01,2,   1.221,2,-999.000,9,-999.000,9,-999.000,9,-999.000000,9,  2297.7,2,  -999.0,9, -999.00,   7.7525,2,       25,-999.000,9,-999.0000,9, -999.00,9,  -999.0,9,  -999.0,-999.000,9, -999.00,9,-999.0000,9, -999.00,9,  452.20,  -999.0,9,   9.9241,     26.809,    34.9647,2,     -999.0,9,     -999.0,9,     -999.0,     -999.0,9,     -999.0
33RO20110926,        A10,       8,          1,         16,      11709,2,20110929,       1158,   -29.7332,    11.9005,       3968,   535.8,   8.4432,  34.6043,2,  34.6060,2,    202.4,2,   211.7,2,     9.5,6,    21.0,6,    0.01,6,   1.452,6,-999.000,9,-999.000,9,-999.000,9,-999.000000,9,  2291.6,2,  -999.0,9, -999.00,   7.7124,2,       25,-999.000,9,-999.0000,9, -999.00,9,  -999.0,9,  -999.0,-999.000,9, -999.00,9,-999.0000,9, -999.00,9,  535.80,  -999.0,9,   8.3863,     26.906,    34.7692,2,     -999.0,9,     -999.0,9,     -999.0,     -999.0,9,     -999.0
33RO20110926,        A10,       8,          1,         15,      11006,2,20110929,       1158,   -29.7332,    11.9005,       3968,   648.7,   6.1165,  34.3778,2,  34.3808,2,    219.1,2,   216.8,2,    15.8,2,    26.1,2,    0.00,2,   1.809,2,-999.000,9,-999.000,9,-999.000,9,     2170.5,2,  2285.8,2,  -999.0,9, -999.00,-999.0000,9,  -999.00,-999.000,9,-999.0000,9, -999.00,9,  -999.0,9,  -999.0,-999.000,9, -999.00,9,-999.0000,9, -999.00,9,  648.70,  -999.0,9,   6.0587,     27.054,    34.5430,2,     -999.0,9,     -999.0,9,     -999.0,     -999.0,9,     -999.0
33RO20110926,        A10,       8,          1,         14,      11708,2,20110929,       1158,   -29.7332,    11.9005,       3968,   774.8,   4.7998,  34.3092,2,  34.3110,2,    214.9,2,   220.4,2,    23.5,2,    28.7,2,    0.00,2,   1.993,2,-999.000,9,-999.000,9,-999.000,9,-999.000000,9,  2293.8,2,  -999.0,9, -999.00,   7.6384,2,       25,-999.000,9,-999.0000,9, -999.00,9,  -999.0,9,  -999.0,-999.000,9, -999.00,9,-999.0000,9, -999.00,9,  774.80,  -999.0,9,   4.7380,     27.158,    34.4728,2,     -999.0,9,     -999.0,9,     -999.0,     -999.0,9,     -999.0
33RO20110926,        A10,       8,          1,         13,      11031,2,20110929,       1158,   -29.7332,    11.9005,       3968,   924.6,   4.0330,  34.3621,2,  34.3622,2,    199.5,2,   198.3,2,    36.5,2,    31.2,2,    0.00,2,   2.190,2,-999.000,9,-999.000,9,-999.000,9,     2207.8,2,    2303,2,  -999.0,9, -999.00,   7.5972,2,       25,-999.000,9,-999.0000,9, -999.00,9,  -999.0,9,  -999.0,-999.000,9, -999.00,9,-999.0000,9, -999.00,9,  924.60,  -999.0,9,   3.9636,     27.282,    34.5242,2,     -999.0,9,     -999.0,9,     -999.0,     -999.0,9,     -999.0
33RO20110926,        A10,       8,          1,         12,      11027,2,20110929,       1158,   -29.7332,    11.9005,       3968,  1065.2,   3.4621,  34.4428,2,  34.4438,2,    184.9,2,   183.8,2,    50.5,2,    32.7,2,    0.00,2,   2.287,2,-999.000,9,-999.000,9,-999.000,9,-999.000000,9,  2317.6,2,  -999.0,9, -999.00,   7.5771,2,       25,-999.000,9,-999.0000,9, -999.00,9,  -999.0,9,  -999.0,-999.000,9, -999.00,9,-999.0000,9, -999.00,9, 1065.20,  -999.0,9,   3.3855,     27.404,    34.6063,2,     -999.0,9,     -999.0,9,     -999.0,     -999.0,9,     -999.0
33RO20110926,        A10,       8,          1,         11,      11707,2,20110929,       1158,   -29.7332,    11.9005,       3968,  1221.5,   3.1815,  34.5545,2,  34.5564,2,    177.0,2,   177.5,2,    55.6,2,    32.2,2,    0.00,2,   2.268,2,-999.000,9,-999.000,9,-999.000,9,-999.000000,9,  2326.5,6,  -999.0,9, -999.00,   7.5771,6,       25,-999.000,9,-999.0000,9, -999.00,9,  -999.0,9,  -999.0,-999.000,9, -999.00,9,-999.0000,9, -999.00,9, 1221.50,  -999.0,9,   3.0947,     27.523,    34.7193,2,     -999.0,9,     -999.0,9,     -999.0,     -999.0,9,     -999.0
33RO20110926,        A10,       8,          1,         10,      11003,2,20110929,       1158,   -29.7332,    11.9005,       3968,  1470.3,   2.9945,  34.6929,2,  34.6940,2,    187.1,2,   188.8,2,    55.2,2,    29.7,2,    0.00,2,   2.077,2,-999.000,9,-999.000,9,-999.000,9,       2227,2,  2331.1,2,  -999.0,9, -999.00,   7.6064,2,       25,-999.000,9,-999.0000,9, -999.00,9,  -999.0,9,  -999.0,-999.000,9, -999.00,9,-999.0000,9, -999.00,9, 1470.30,  -999.0,9,   2.8889,     27.651,    34.8576,2,     -999.0,9,     -999.0,9,     -999.0,     -999.0,9,     -999.0
33RO20110926,        A10,       8,          1,          9,      11706,9,20110929,       1158,   -29.7332,    11.9005,       3968,  1720.9,   3.0617,  34.8027,2,-999.0000,9,    206.3,2,  -999.0,9, -999.00,5,  -999.0,5, -999.00,5,-999.000,5,-999.000,9,-999.000,9,-999.000,9,-999.000000,9,  -999.0,9,  -999.0,9, -999.00,-999.0000,9,  -999.00,-999.000,9,-999.0000,9, -999.00,9,  -999.0,9,  -999.0,-999.000,9, -999.00,9,-999.0000,9, -999.00,9, 1720.90,  -999.0,9,   2.9336,     27.732,     -999.0,9,     -999.0,9,     -999.0,9,     -999.0,     -999.0,9,     -999.0
33RO20110926,        A10,       8,          1,          8,      11033,3,20110929,       1158,   -29.7332,    11.9005,       3968,  2009.2,   2.9033,  34.8424,2,-999.0000,9,    220.0,2,     220,2, -999.00,5,  -999.0,5, -999.00,5,-999.000,5,-999.000,9,-999.000,9,-999.000,9,-999.000000,9,  -999.0,9,  -999.0,9, -999.00,-999.0000,9,  -999.00,-999.000,9,-999.0000,9, -999.00,9,  -999.0,9,  -999.0,-999.000,9, -999.00,9,-999.0000,9, -999.00,9, 2009.20,  -999.0,9,   2.7517,     27.781,     -999.0,9,     -999.0,9,     -999.0,9,     -999.0,     -999.0,9,     -999.0
33RO20110926,        A10,       8,          1,          7,      11705,2,20110929,       1158,   -29.7332,    11.9005,       3968,  2300.2,   2.7156,  34.8555,2,  34.8583,2,    227.0,2,   226.6,2,    46.2,2,    24.1,2,    0.00,2,   1.664,2,   0.009,2,   0.005,2,   0.000,2,-999.000000,9,  2333.4,2,  -999.0,9, -999.00,   7.6845,2,       25,-999.000,9,-999.0000,9, -999.00,9,  -999.0,9,  -999.0,   0.040,3, -999.00,9,-999.0000,9, -999.00,9, 2300.20,  -999.0,9,   2.5402,     27.813,    35.0227,6,     -999.0,9,     -999.0,9,     -999.0,     -999.0,9,     -999.0
33RO20110926,        A10,       8,          1,          6,      11029,2,20110929,       1158,   -29.7332,    11.9005,       3968,  2601.6,   2.5298,  34.8554,2,  34.8576,2,    229.7,2,   229.7,2,    49.8,6,    24.4,6,    0.01,6,   1.655,6,   0.008,2,   0.004,2,   0.000,2,-999.000000,9,  2338.2,6,  -999.0,9, -999.00,   7.6885,6,       25,-999.000,9,-999.0000,9, -999.00,9,  -999.0,9,  -999.0,   0.031,3, -999.00,9,-999.0000,9, -999.00,9, 2601.60,  -999.0,9,   2.3291,     27.831,    35.0219,2,     -999.0,9,     -999.0,9,     -999.0,     -999.0,9,     -999.0
33RO20110926,        A10,       8,          1,          5,      11704,2,20110929,       1158,   -29.7332,    11.9005,       3968,  2899.7,   2.4156,  34.8572,2,  34.8583,2,    231.3,2,   231.1,2,    52.4,2,    23.8,2,    0.00,2,   1.655,2,   0.007,2,   0.004,2,   0.000,2,     2203.8,2,  2341.2,2,  -999.0,9, -999.00,   7.6934,2,       25,-999.000,9,-999.0000,9, -999.00,9,  -999.0,9,  -999.0,   0.027,3, -999.00,9,-999.0000,9, -999.00,9, 2899.70,  -999.0,9,   2.1879,     27.843,    35.0226,2,     -999.0,9,     -999.0,9,     -999.0,     -999.0,9,     -999.0
33RO20110926,        A10,       8,          1,          4,      11030,2,20110929,       1158,   -29.7332,    11.9005,       3968,  3202.5,   2.3217,  34.8556,2,  34.8574,2,    231.9,2,   231.8,2,    55.4,2,    23.9,2,    0.01,2,   1.666,2,   0.006,2,   0.004,2,   0.000,2,-999.000000,9,  2345.9,2,  -999.0,9, -999.00,   7.6944,2,       25,-999.000,9,-999.0000,9, -999.00,9,  -999.0,9,  -999.0,   0.026,3, -999.00,9,-999.0000,9, -999.00,9, 3202.50,  -999.0,9,   2.0654,     27.852,    35.0217,2,     -999.0,9,     -999.0,9,     -999.0,     -999.0,9,     -999.0
33RO20110926,        A10,       8,          1,          3,      11703,2,20110929,       1158,   -29.7332,    11.9005,       3968,  3499.2,   2.2149,  34.8483,2,  34.8526,3,    231.0,2,   230.8,2,    59.7,2,    24.5,2,    0.00,2,   1.693,2,   0.007,2,   0.006,2,   0.000,2,-999.000000,9,  2350.3,2,  -999.0,9, -999.00,   7.6893,2,       25,-999.000,9,-999.0000,9, -999.00,9,  -999.0,9,  -999.0,   0.031,3, -999.00,9,-999.0000,9, -999.00,9, 3499.20,  -999.0,9,   1.9299,     27.859,    35.0169,2,     -999.0,9,     -999.0,9,     -999.0,     -999.0,9,     -999.0
33RO20110926,        A10,       8,          1,          2,      11702,2,20110929,       1158,   -29.7332,    11.9005,       3968,  3799.9,   1.9208,  34.8163,2,  34.8189,2,    226.1,2,   224.9,2,    72.4,2,    26.1,2,    0.00,2,   1.812,2,   0.015,2,   0.009,2,   0.000,2,-999.000000,9,  2356.3,2,  -999.0,9, -999.00,   7.6753,2,       25,-999.000,9,-999.0000,9, -999.00,9,  -999.0,9,  -999.0,   0.048,3, -999.00,9,-999.0000,9, -999.00,9, 3799.90,  -999.0,9,   1.6113,     27.857,    34.9831,2,     -999.0,9,     -999.0,9,     -999.0,     -999.0,9,     -999.0
33RO20110926,        A10,       8,          1,          1,      11701,2,20110929,       1158,   -29.7332,    11.9005,       3968,  4022.3,   1.1870,  34.7444,2,  34.7470,2,    214.8,2,   214.9,2,   102.4,6,    29.9,6,    0.01,6,   2.076,6,   0.038,6,   0.022,6,   0.000,6,     2257.1,2,  2370.8,6,  -999.0,9, -999.00,   7.6454,6,       25,-999.000,9,-999.0000,9, -999.00,9,  -999.0,9,  -999.0,   0.108,3, -999.00,9,-999.0000,9, -999.00,9, 4022.30,  -999.0,9,   0.8741,     27.850,    34.9108,2,     -999.0,9,     -999.0,9,     -999.0,     -999.0,9,     -999.0