BOTTLE,20220815CCHSIOAMB
EXPOCODE,SECT_ID,STNNBR,CASTNO,SAMPNO,BTLNBR,BTLNBR_FLAG_W,DATE,TIME,LATITUDE,LONGITUDE,DEPTH,CTDPRS,CTDTMP,CTDSAL,CTDSAL_FLAG_W,SALNTY,SALNTY_FLAG_W,CTDOXY,CTDOXY_FLAG_W,OXYGEN,OXYGEN_FLAG_W,SILCAT,SILCAT_FLAG_W,NITRAT,NITRAT_FLAG_W,NITRIT,NITRIT_FLAG_W,PHSPHT,PHSPHT_FLAG_W,CFC-11,CFC-11_FLAG_W,CFC-12,CFC-12_FLAG_W,SF6,SF6_FLAG_W,TCARBN,TCARBN_FLAG_W,ALKALI,ALKALI_FLAG_W,PCO2,PCO2_FLAG_W,PCO2TMP,PH_SWS,PH_SWS_FLAG_W,PH_TMP,TRITUM,TRITUM_FLAG_W,HELIUM,HELIUM_FLAG_W,DELC13,DELC13_FLAG_W,DELC14,DELC14_FLAG_W,C14ERR,CCL4,CCL4_FLAG_W,DELO18,DELO18_FLAG_W,DOC,DOC_FLAG_W,TDN,TDN_FLAG_W,CTDRAW,14C-DOC,14C-DOC_FLAG_W,THETA,SIG0,SALTREF,SALTREF_FLAG_W,BLACKC,BLACKC_FLAG_W,PIGMENTS,PIGMENTS_FLAG_W,14C-DOCERR,13C-DOC,13C-DOC_FLAG_W,13C-DOCERR
,,,,,,,,,,,METERS,DBAR,ITS-90,PSS-78,,PSS-78,,UMOL/KG,,UMOL/KG,,UMOL/KG,,UMOL/KG,,UMOL/KG,,UMOL/KG,,PMOL/KG,,PMOL/KG,,FMOL/KG,,UMOL/KG,,UMOL/KG,,UATM,,DEG C,,,DEG C,TU,,NMOL/KG,,/MILLE,,/MILLE,,/MILLE,PMOL/KG,,/MILLE,,UMOL/KG,,UMOL/KG,,DBAR,/MILLE,,DEG C,KG/M^3,G/KG,,,,,,/MILLE,/MILLE,,/MILLE
33RO20110926,        A10,      35,          2,         24,      11714,2,20111006,       1621,   -29.9908,    -1.6528,       4539,     4.1,  17.9146,  35.8079,2,  35.8084,2,    243.6,2,   244.2,2,     0.8,2,     0.0,2,    0.00,2,   0.131,2,   2.434,6,   1.460,6,   1.453,6,     2077.2,6,  2354.6,2,  -999.0,9, -999.00,   7.9829,2,       25,-999.000,9,-999.0000,9,    1.28,2,    50.3,2,     4.4,   3.120,3, -999.00,9,  61.9805,2,    4.20,2,    4.10,  -999.0,9,  17.9139,     25.901,    35.9773,2,     -999.0,9,     -999.0,9,     -999.0,     -999.0,9,     -999.0
33RO20110926,        A10,      35,          2,         23,      11713,2,20111006,       1621,   -29.9908,    -1.6528,       4539,    49.3,  16.9760,  35.7651,2,  35.7648,2,    247.3,2,     248,2,     0.8,2,     0.1,2,    0.01,2,   0.151,2,   2.464,2,   1.474,2,   1.444,2,       2077,2,  2350.8,2,  -999.0,9, -999.00,   7.9889,2,       25,-999.000,9,-999.0000,9, -999.00,9,    47.1,2,     2.7,   2.984,3, -999.00,9,  59.6488,2,    3.93,2,   49.30,    -272,2,  16.9679,     26.110,    35.9334,2,     -999.0,9,     -999.0,9,          4,      -20.4,2,        0.2
33RO20110926,        A10,      35,          2,         22,      11712,2,20111006,       1621,   -29.9908,    -1.6528,       4539,    90.0,  16.5663,  35.7375,2,  35.7381,2,    236.7,2,   236.5,2,     1.6,2,     1.1,2,    0.40,2,   0.242,2,   2.455,2,   1.476,2,   1.439,2,       2086,2,  2346.2,2,  -999.0,9, -999.00,   7.9609,2,       25,-999.000,9,-999.0000,9, -999.00,9,  -999.0,9,  -999.0,   1.992,3, -999.00,9,  57.3951,2,    5.13,2,   90.00,  -999.0,9,  16.5517,     26.187,    35.9066,2,     -999.0,9,     -999.0,9,     -999.0,     -999.0,9,     -999.0
33RO20110926,        A10,      35,          2,         21,      11010,2,20111006,       1621,   -29.9908,    -1.6528,       4539,   139.3,  16.4392,  35.7314,2,  35.7322,2,    236.0,2,   235.5,2,     1.7,2,     1.3,2,    0.34,2,   0.254,2,   2.472,2,   1.482,2,   1.472,2,     2086.9,2,  2347.4,2,  -999.0,9, -999.00,   7.9549,2,       25,-999.000,9,-999.0000,9, -999.00,9,    38.3,2,     2.7,   1.999,3, -999.00,9,  55.0537,2,    4.93,2,  139.30,  -999.0,5,  16.4166,     26.213,    35.9007,2,     -999.0,9,     -999.0,9,     -999.0,      -20.7,2,        0.2
33RO20110926,        A10,      35,          2,         20,      11715,2,20111006,       1621,   -29.9908,    -1.6528,       4539,   189.7,  15.4597,  35.5565,2,  35.5833,4,    227.8,2,   232.8,2,     1.7,2,     2.7,2,    0.16,2,   0.326,2,   2.603,2,   1.546,2,   1.524,2,     2095.3,2,  2338.2,2,  -999.0,9, -999.00,   7.9349,2,       25,-999.000,9,-999.0000,9, -999.00,9,  -999.0,9,  -999.0,   1.800,3, -999.00,9,  57.5805,3,    6.78,2,  189.70,  -999.0,9,  15.4302,     26.330,    35.7511,2,     -999.0,9,     -999.0,9,     -999.0,     -999.0,9,     -999.0
33RO20110926,        A10,      35,          2,         19,      11007,2,20111006,       1621,   -29.9908,    -1.6528,       4539,   270.8,  13.6078,  35.2087,2,  35.2086,2,    218.5,2,     218,2,     3.0,6,     8.0,6,    0.01,6,   0.654,6,   2.865,2,   1.669,2,   1.402,2,     2113.2,2,  2314.7,2,  -999.0,9, -999.00,   7.8618,2,       25,-999.000,9,-999.0000,9, -999.00,9,  -999.0,9,  -999.0,   0.798,3, -999.00,9,  52.7024,2, -999.00,9,  270.80,  -999.0,9,  13.5693,     26.438,    35.3746,2,     -999.0,9,     -999.0,9,     -999.0,     -999.0,9,     -999.0
33RO20110926,        A10,      35,          2,         18,      11710,2,20111006,       1621,   -29.9908,    -1.6528,       4539,   369.1,  12.0610,  35.0491,2,  35.0521,2,    211.1,2,   210.8,2,     3.2,2,     8.2,2,    0.01,2,   0.660,2,   3.093,2,   1.737,2,   1.199,2,     2128.3,2,  2308.8,2,  -999.0,9, -999.00,   7.8096,2,       25,-999.000,9,-999.0000,9, -999.00,9,    43.0,2,     2.7,   0.821,3, -999.00,9,  49.7268,2, -999.00,9,  369.10,    -363,2,  12.0123,     26.627,    35.2173,2,     -999.0,9,     -999.0,9,          4,      -21.2,2,        0.2
33RO20110926,        A10,      35,          2,         17,      11023,2,20111006,       1621,   -29.9908,    -1.6528,       4539,   476.6,  10.4256,  34.8444,2,  34.8447,2,    208.4,2,   207.8,2,     6.6,2,    16.9,2,    0.01,2,   1.190,2,   3.185,2,   1.741,2,   1.089,2,     2142.8,2,  2299.9,2,  -999.0,9, -999.00,   7.7625,2,       25,-999.000,9,-999.0000,9, -999.00,9,  -999.0,9,  -999.0,   1.063,3, -999.00,9,  46.4585,2, -999.00,9,  476.60,  -999.0,9,  10.3681,     26.766,    35.0090,2,     -999.0,9,     -999.0,9,     -999.0,     -999.0,9,     -999.0
33RO20110926,        A10,      35,          2,         16,      11709,2,20111006,       1621,   -29.9908,    -1.6528,       4539,   609.1,   7.8087,  34.5467,2,  34.5475,2,    206.5,2,   206.3,2,    12.0,2,    23.4,2,    0.00,2,   1.618,2,   3.155,2,   1.666,2,   0.929,2,     2161.8,2,  2290.6,2,  -999.0,9, -999.00,   7.6914,2,       25,-999.000,9,-999.0000,9, -999.00,9,     6.8,2,     2.6,   1.569,3, -999.00,9,  41.8634,2, -999.00,9,  609.10,    -408,2,   7.7467,     26.955,    34.7104,2,     -999.0,9,     -999.0,9,          4,      -22.4,2,        0.2
33RO20110926,        A10,      35,          2,         15,      11006,2,20111006,       1621,   -29.9908,    -1.6528,       4539,   760.3,   5.4856,  34.3493,2,  34.3508,2,    216.4,2,   215.5,2,    19.3,2,    28.3,2,    0.01,2,   1.948,2,   3.059,2,   1.561,2,   0.748,2,     2175.8,2,  2289.1,2,  -999.0,9, -999.00,   7.6465,2,       25,-999.000,9,-999.0000,9, -999.00,9,   -26.2,2,     2.8,   2.122,3, -999.00,9,  40.1854,2, -999.00,9,  760.30,    -449,2,   5.4209,     27.111,    34.5128,2,     -999.0,9,     -999.0,9,          4,     -999.0,5,     -999.0
33RO20110926,        A10,      35,          2,         14,      11708,2,20111006,       1621,   -29.9908,    -1.6528,       4539,   900.0,   4.4100,  34.3317,2,  34.3316,2,    210.4,2,   209.5,2,    28.8,2,    30.8,2,    0.00,2,   2.132,2,   2.440,2,   1.215,2,   0.543,2,     2193.1,2,  2295.3,2,  -999.0,9, -999.00,   7.6164,2,       25,-999.000,9,-999.0000,9, -999.00,9,  -999.0,9,  -999.0,   1.990,3, -999.00,9,  40.6049,2, -999.00,9,  900.00,  -999.0,9,   4.3400,     27.219,    34.4935,2,     -999.0,9,     -999.0,9,     -999.0,     -999.0,9,     -999.0
33RO20110926,        A10,      35,          2,         13,      11031,2,20111006,       1621,   -29.9908,    -1.6528,       4539,  1069.7,   3.6506,  34.4250,2,  34.4241,2,    185.0,2,   185.9,2,    45.0,6,    33.1,6,    0.00,6,   2.312,6,   1.200,2,   0.580,2,   0.186,2,     2221.3,2,  2311.9,2,  -999.0,9, -999.00,   7.5861,2,       25,-999.000,9,-999.0000,9, -999.00,9,  -115.6,2,     2.5,   1.119,3, -999.00,9,  42.4585,3, -999.00,9, 1069.70,    -474,2,   3.5721,     27.371,    34.5864,2,     -999.0,9,     -999.0,9,          4,      -21.4,2,        0.2
33RO20110926,        A10,      35,          2,         12,      11027,3,20111006,       1621,   -29.9908,    -1.6528,       4539,  1245.4,   3.2275,  34.5243,2,  34.5236,2,    179.5,2,     179,2,    53.5,2,    33.0,2,    0.00,2,   2.316,2,   0.584,6,   0.275,6,   0.077,6,     2233.9,6,  2321.7,6,  -999.0,9, -999.00,   7.5819,6,       25,-999.000,9,-999.0000,9, -999.00,9,  -127.1,2,     2.3,   0.701,3, -999.00,9,  38.5561,2, -999.00,9, 1245.40,    -468,2,   3.1383,     27.492,    34.6864,2,     -999.0,9,     -999.0,9,          4,     -999.0,5,     -999.0
33RO20110926,        A10,      35,          2,         11,      11707,2,20111006,       1621,   -29.9908,    -1.6528,       4539,  1464.5,   3.0469,  34.6649,2,  34.6639,2,    187.0,2,   188.5,2,    52.6,2,    30.7,2,    0.00,2,   2.131,2,   0.184,2,   0.086,2,   0.000,2,     2227.7,2,  2326.8,2,  -999.0,9, -999.00,   7.6094,2,       25,-999.000,9,-999.0000,9, -999.00,9,  -999.0,9,  -999.0,   0.285,3, -999.00,9,  38.6049,2, -999.00,9, 1464.50,  -999.0,9,   2.9412,     27.622,    34.8273,2,     -999.0,9,     -999.0,9,     -999.0,     -999.0,9,     -999.0
33RO20110926,        A10,      35,          2,         10,      11003,2,20111006,       1621,   -29.9908,    -1.6528,       4539,  1719.4,   2.9129,  34.7493,2,  34.7486,2,    200.1,2,   200.9,2,    51.1,2,    28.4,2,    0.00,2,   1.964,2,   0.083,2,   0.039,2,   0.000,2,     2218.3,2,  2330.7,2,  -999.0,9, -999.00,   7.6364,2,       25,-999.000,9,-999.0000,9, -999.00,9,  -131.2,2,     2.3,   0.159,3, -999.00,9,  39.5024,2, -999.00,9, 1719.40,    -476,2,   2.7870,     27.704,    34.9124,2,     -999.0,9,     -999.0,9,          4,      -22.1,2,        0.2
33RO20110926,        A10,      35,          2,          9,      11706,2,20111006,       1621,   -29.9908,    -1.6528,       4539,  2019.3,   2.7393,  34.8036,2,  34.8019,2,    213.5,2,   215.8,2,    50.5,2,    26.6,2,    0.00,2,   1.834,2,   0.038,2,   0.019,2,   0.000,2,     2211.5,2,  2332.2,2,  -999.0,9, -999.00,   7.6633,2,       25,-999.000,9,-999.0000,9, -999.00,9,  -128.9,2,     2.3,   0.115,3, -999.00,9,  40.1073,2, -999.00,9, 2019.30,    -480,2,   2.5894,     27.764,    34.9660,2,     -999.0,9,     -999.0,9,          4,      -21.2,2,        0.2
33RO20110926,        A10,      35,          2,          8,      11033,2,20111006,       1621,   -29.9908,    -1.6528,       4539,  2319.9,   2.5103,  34.8313,2,  34.8302,2,    224.4,2,   225.4,2,    52.1,2,    25.5,2,    0.00,2,   1.750,2,   0.022,2,   0.012,2,   0.000,2,     2207.6,2,  2336.1,2,  -999.0,9, -999.00,   7.6813,2,       25,-999.000,9,-999.0000,9, -999.00,9,  -999.0,9,  -999.0,   0.068,3, -999.00,9,  42.2634,2, -999.00,9, 2319.90,  -999.0,9,   2.3366,     27.808,    34.9944,2,     -999.0,9,     -999.0,9,     -999.0,     -999.0,9,     -999.0
33RO20110926,        A10,      35,          2,          7,      11705,2,20111006,       1621,   -29.9908,    -1.6528,       4539,  2619.7,   2.4255,  34.8515,2,  34.8507,2,    231.9,2,   232.1,2,    50.9,6,    24.4,6,    0.00,6,   1.672,6,   0.011,2,   0.006,2,   0.000,2,     2203.1,2,  2337.6,2,  -999.0,9, -999.00,   7.6954,2,       25,-999.000,9,-999.0000,9, -999.00,9,  -122.7,2,     2.3,   0.045,3, -999.00,9,   41.278,2, -999.00,9, 2619.70,    -467,2,   2.2251,     27.834,    35.0151,2,     -999.0,9,     -999.0,9,          4,      -21.0,2,        0.2
33RO20110926,        A10,      35,          2,          6,      11029,2,20111006,       1621,   -29.9908,    -1.6528,       4539,  2919.6,   2.3712,  34.8641,2,  34.8657,2,    235.5,2,   236.6,2,    50.6,2,    24.1,2,    0.00,2,   1.644,2,   0.005,2,   0.004,2,   0.000,2,     2203.2,2,  2341.3,2,  -999.0,9, -999.00,   7.7054,2,       25,-999.000,9,-999.0000,9, -999.00,9,  -126.3,2,     2.4,   0.026,3, -999.00,9,  39.7854,2, -999.00,9, 2919.60,    -461,2,   2.1425,     27.853,    35.0301,2,     -999.0,9,     -999.0,9,          4,      -21.0,2,        0.2
33RO20110926,        A10,      35,          2,          5,      11704,2,20111006,       1621,   -29.9908,    -1.6528,       4539,  3220.7,   2.3488,  34.8719,2,  34.8706,2,    236.1,2,   236.5,2,    50.8,2,    23.8,2,    0.00,2,   1.623,2,   0.004,2,   0.002,2,   0.000,2,     2207.1,2,  2346.2,2,  -999.0,9, -999.00,   7.7114,2,       25,-999.000,9,-999.0000,9, -999.00,9,  -999.0,9,  -999.0,   0.023,3, -999.00,9,  41.5024,2, -999.00,9, 3220.70,  -999.0,9,   2.0899,     27.861,    35.0350,2,     -999.0,9,     -999.0,9,     -999.0,     -999.0,9,     -999.0
33RO20110926,        A10,      35,          2,          4,      11030,2,20111006,       1621,   -29.9908,    -1.6528,       4539,  3520.4,   2.3440,  34.8761,2,  34.8763,2,    235.4,2,   235.1,2,    51.1,2,    23.8,2,    0.00,2,   1.617,2,   0.002,2,   0.000,2,   0.000,2,     2207.5,2,  2350.3,2,  -999.0,9, -999.00,   7.7124,2,       25,-999.000,9,-999.0000,9, -999.00,9,  -123.3,2,     2.3,   0.016,3, -999.00,9,  43.7854,2, -999.00,9, 3520.40,    -461,2,   2.0534,     27.868,    35.0408,2,     -999.0,9,     -999.0,9,          4,      -20.8,2,        0.2
33RO20110926,        A10,      35,          2,          3,      11703,2,20111006,       1621,   -29.9908,    -1.6528,       4539,  3919.2,   2.3459,  34.8782,2,  34.8778,2,    234.3,2,   234.6,2,    52.3,2,    23.9,2,    0.00,2,   1.618,2,   0.005,2,   0.006,2,   0.049,2,     2212.9,2,  2354.8,2,  -999.0,9, -999.00,   7.7166,2,       25,-999.000,9,-999.0000,9, -999.00,9,  -128.1,2,     1.3,   0.015,3, -999.00,9,   41.678,2, -999.00,9, 3919.20,    -462,2,   2.0112,     27.873,    35.0423,2,     -999.0,9,     -999.0,9,          4,     -999.0,5,     -999.0
33RO20110926,        A10,      35,          2,          2,      11702,2,20111006,       1621,   -29.9908,    -1.6528,       4539,  4319.4,   2.3149,  34.8701,2,  34.8698,2,    233.2,2,   232.1,2,    55.7,6,    24.1,6,    0.00,6,   1.646,6,   0.005,2,   0.004,2,   0.014,2,     2217.7,2,  2357.7,6,  -999.0,9, -999.00,    7.713,6,       25,-999.000,9,-999.0000,9, -999.00,9,  -124.2,2,     2.3,   0.021,3, -999.00,9,  42.0195,2, -999.00,9, 4319.40,    -468,2,   1.9349,     27.873,    35.0342,6,     -999.0,9,     -999.0,9,          4,      -21.5,2,        0.2
33RO20110926,        A10,      35,          2,          1,      11701,2,20111006,       1621,   -29.9908,    -1.6528,       4539,  4639.5,   2.2730,  34.8597,2,  34.8592,2,    231.8,2,   230.7,2,    59.4,2,    24.8,2,    0.00,2,   1.693,2,   0.010,6,   0.007,6,   0.000,6,       2221,6,  2356.2,2,  -999.0,9, -999.00,   7.7085,2,       25,-999.000,9,-999.0000,9, -999.00,9,  -999.0,9,  -999.0,   0.031,3, -999.00,9,  42.7902,2, -999.00,9, 4639.50,  -999.0,9,   1.8560,     27.870,    35.0236,2,     -999.0,9,     -999.0,9,     -999.0,     -999.0,9,     -999.0