BOTTLE,20220815CCHSIOAMB
EXPOCODE,SECT_ID,STNNBR,CASTNO,SAMPNO,BTLNBR,BTLNBR_FLAG_W,DATE,TIME,LATITUDE,LONGITUDE,DEPTH,CTDPRS,CTDTMP,CTDSAL,CTDSAL_FLAG_W,SALNTY,SALNTY_FLAG_W,CTDOXY,CTDOXY_FLAG_W,OXYGEN,OXYGEN_FLAG_W,SILCAT,SILCAT_FLAG_W,NITRAT,NITRAT_FLAG_W,NITRIT,NITRIT_FLAG_W,PHSPHT,PHSPHT_FLAG_W,CFC-11,CFC-11_FLAG_W,CFC-12,CFC-12_FLAG_W,SF6,SF6_FLAG_W,TCARBN,TCARBN_FLAG_W,ALKALI,ALKALI_FLAG_W,PCO2,PCO2_FLAG_W,PCO2TMP,PH_SWS,PH_SWS_FLAG_W,PH_TMP,TRITUM,TRITUM_FLAG_W,HELIUM,HELIUM_FLAG_W,DELC13,DELC13_FLAG_W,DELC14,DELC14_FLAG_W,C14ERR,CCL4,CCL4_FLAG_W,DELO18,DELO18_FLAG_W,DOC,DOC_FLAG_W,TDN,TDN_FLAG_W,CTDRAW,14C-DOC,14C-DOC_FLAG_W,THETA,SIG0,SALTREF,SALTREF_FLAG_W,BLACKC,BLACKC_FLAG_W,PIGMENTS,PIGMENTS_FLAG_W,14C-DOCERR,13C-DOC,13C-DOC_FLAG_W,13C-DOCERR
,,,,,,,,,,,METERS,DBAR,ITS-90,PSS-78,,PSS-78,,UMOL/KG,,UMOL/KG,,UMOL/KG,,UMOL/KG,,UMOL/KG,,UMOL/KG,,PMOL/KG,,PMOL/KG,,FMOL/KG,,UMOL/KG,,UMOL/KG,,UATM,,DEG C,,,DEG C,TU,,NMOL/KG,,/MILLE,,/MILLE,,/MILLE,PMOL/KG,,/MILLE,,UMOL/KG,,UMOL/KG,,DBAR,/MILLE,,DEG C,KG/M^3,G/KG,,,,,,/MILLE,/MILLE,,/MILLE
33RO20110926,        A10,      87,          1,         23,      11713,2,20111022,       2010,   -30.0001,   -34.9174,       1881,     5.1,  17.9931,  35.9991,2,-999.0000,9,    235.7,2,  -999.0,9, -999.00,9,  -999.0,9, -999.00,9,-999.000,9,-999.000,9,-999.000,9,-999.000,9,-999.000000,9,  -999.0,9,  -999.0,9, -999.00,-999.0000,9,  -999.00,-999.000,9,-999.0000,9, -999.00,9,  -999.0,9,  -999.0,-999.000,5, -999.00,9,-999.0000,9, -999.00,9,    5.10,  -999.0,9,  17.9922,     26.039,     -999.0,9,     -999.0,9,     -999.0,1,     -999.0,     -999.0,9,     -999.0
33RO20110926,        A10,      87,          1,         24,      11714,2,20111022,       2010,   -30.0001,   -34.9174,       1881,     5.0,  17.9927,  35.9986,2,  36.0028,2,    235.6,2,   237.7,2,     1.1,2,     0.0,2,    0.00,2,   0.064,4,   2.340,6,   1.412,6,   1.421,6,     2074.1,6,  2362.3,6,  -999.0,9, -999.00,    7.996,6,       25,-999.000,9,-999.0000,9, -999.00,9,  -999.0,9,  -999.0,   2.753,4, -999.00,9,-999.0000,9, -999.00,9,    5.00,  -999.0,9,  17.9918,     26.043,    36.1725,2,     -999.0,9,     -999.0,9,     -999.0,     -999.0,9,     -999.0
33RO20110926,        A10,      87,          1,         22,      11712,2,20111022,       2010,   -30.0001,   -34.9174,       1881,    34.6,  17.9856,  35.9966,2,  35.9970,2,    236.3,2,   237.4,2,     1.1,2,     0.0,2,    0.00,2,   0.066,4,   2.339,2,   1.406,2,   1.434,2,     2073.6,3,  2360.9,2,  -999.0,9, -999.00,    7.996,2,       25,-999.000,9,-999.0000,9, -999.00,9,  -999.0,9,  -999.0,   2.687,4, -999.00,9,-999.0000,9, -999.00,9,   34.60,  -999.0,9,  17.9796,     26.041,    36.1668,2,     -999.0,9,     -999.0,9,     -999.0,     -999.0,9,     -999.0
33RO20110926,        A10,      87,          1,         21,      11010,2,20111022,       2010,   -30.0001,   -34.9174,       1881,    34.6,  17.9852,  35.9967,2,-999.0000,9,    236.1,2,  -999.0,9, -999.00,9,  -999.0,9, -999.00,9,-999.000,9,-999.000,9,-999.000,9,-999.000,9,-999.000000,9,  -999.0,9,  -999.0,9, -999.00,-999.0000,9,  -999.00,-999.000,9,-999.0000,9, -999.00,9,  -999.0,9,  -999.0,-999.000,5, -999.00,9,-999.0000,9, -999.00,9,   34.60,  -999.0,9,  17.9792,     26.040,     -999.0,9,     -999.0,9,     -999.0,9,     -999.0,     -999.0,9,     -999.0
33RO20110926,        A10,      87,          1,         20,      11715,2,20111022,       2010,   -30.0001,   -34.9174,       1881,    71.0,  17.7739,  35.9839,2,  35.9842,2,    236.9,2,   237.7,2,     1.1,2,     0.0,2,    0.00,2,   0.071,4,   2.355,2,   1.418,2,   1.442,2,     2073.4,3,  2358.9,2,  -999.0,9, -999.00,    7.997,2,       25,-999.000,9,-999.0000,9, -999.00,9,  -999.0,9,  -999.0,   2.878,4, -999.00,9,-999.0000,9, -999.00,9,   71.00,  -999.0,9,  17.7618,     26.084,    36.1539,2,     -999.0,9,     -999.0,9,     -999.0,     -999.0,9,     -999.0
33RO20110926,        A10,      87,          1,         19,      11007,2,20111022,       2010,   -30.0001,   -34.9174,       1881,    71.0,  17.7772,  35.9839,2,-999.0000,9,    236.9,2,  -999.0,9, -999.00,9,  -999.0,9, -999.00,9,-999.000,9,-999.000,9,-999.000,9,-999.000,9,-999.000000,9,  -999.0,9,  -999.0,9, -999.00,-999.0000,9,  -999.00,-999.000,9,-999.0000,9, -999.00,9,  -999.0,9,  -999.0,-999.000,5, -999.00,9,-999.0000,9, -999.00,9,   71.00,  -999.0,9,  17.7651,     26.083,     -999.0,9,     -999.0,9,     -999.0,9,     -999.0,     -999.0,9,     -999.0
33RO20110926,        A10,      87,          1,         18,      11710,2,20111022,       2010,   -30.0001,   -34.9174,       1881,    85.2,  17.5653,  35.9510,2,  35.9476,2,    235.3,2,   235.7,2,     1.1,2,     0.1,2,    0.01,2,   0.093,4,   2.374,2,   1.424,2,   1.411,2,       2074,3,  2360.6,2,  -999.0,9, -999.00,    7.991,2,       25,-999.000,9,-999.0000,9, -999.00,9,  -999.0,9,  -999.0,   2.168,4, -999.00,9,-999.0000,9, -999.00,9,   85.20,  -999.0,9,  17.5508,     26.108,    36.1171,2,     -999.0,9,     -999.0,9,     -999.0,     -999.0,9,     -999.0
33RO20110926,        A10,      87,          1,         17,      11023,2,20111022,       2010,   -30.0001,   -34.9174,       1881,   111.1,  17.4035,  35.9386,2,  35.9399,2,    230.9,2,   231.8,2,     1.1,6,     0.3,6,    0.20,6,   0.103,4,   2.374,2,   1.427,2,   1.433,2,     2078.3,3,  2359.7,2,  -999.0,9, -999.00,   7.9849,2,       25,-999.000,9,-999.0000,9, -999.00,9,  -999.0,9,  -999.0,   3.315,4, -999.00,9,-999.0000,9, -999.00,9,  111.10,  -999.0,9,  17.3848,     26.143,    36.1094,2,     -999.0,9,     -999.0,1,     -999.0,     -999.0,9,     -999.0
33RO20110926,        A10,      87,          1,         16,      11709,2,20111022,       2010,   -30.0001,   -34.9174,       1881,   180.5,  15.9737,  35.6503,2,  35.6504,2,    217.5,2,   217.7,2,     1.8,2,     3.5,2,    0.01,2,   0.287,4,   2.582,2,   1.530,2,   1.383,2,     2095.3,3,  2339.2,2,  -999.0,9, -999.00,   7.9279,2,       25,-999.000,9,-999.0000,9, -999.00,9,  -999.0,9,  -999.0,   1.582,4, -999.00,9,-999.0000,9, -999.00,9,  180.50,  -999.0,9,  15.9450,     26.262,    35.8185,2,     -999.0,9,     -999.0,1,     -999.0,     -999.0,9,     -999.0
33RO20110926,        A10,      87,          1,         15,      11006,2,20111022,       2010,   -30.0001,   -34.9174,       1881,   240.0,  14.6723,  35.4338,2,  35.4355,2,    213.5,2,   212.9,2,     2.4,6,     6.2,6,    0.01,6,   0.408,4,   2.774,2,   1.616,2,   1.354,2,     2105.4,3,  2327.3,2,  -999.0,9, -999.00,   7.8848,2,       25,-999.000,9,-999.0000,9, -999.00,9,  -999.0,9,  -999.0,   1.134,3, -999.00,9,-999.0000,9, -999.00,9,  240.00,  -999.0,9,  14.6363,     26.387,    35.6026,2,     -999.0,9,     -999.0,9,     -999.0,     -999.0,9,     -999.0
33RO20110926,        A10,      87,          1,         14,      11708,2,20111022,       2010,   -30.0001,   -34.9174,       1881,   324.9,  13.8759,  35.3841,2,  35.3822,2,    216.6,2,   217.1,2,     2.7,2,     7.8,2,    0.01,2,   0.500,4,   2.878,2,   1.658,2,   1.323,2,     2111.3,3,  2326.2,2,  -999.0,9, -999.00,   7.8728,2,       25,-999.000,9,-999.0000,9, -999.00,9,  -999.0,9,  -999.0,   1.191,3, -999.00,9,-999.0000,9, -999.00,9,  324.90,  -999.0,9,  13.8288,     26.517,    35.5491,2,     -999.0,9,     -999.0,9,     -999.0,     -999.0,9,     -999.0
33RO20110926,        A10,      87,          1,         13,      11031,2,20111022,       2010,   -30.0001,   -34.9174,       1881,   400.4,  12.8200,  35.2285,2,  35.2320,2,    215.9,2,   216.5,2,     3.5,2,    10.2,2,    0.01,2,   0.618,4,   3.003,2,   1.697,2,   1.278,2,     2118.7,3,  2321.4,2,  -999.0,9, -999.00,   7.8467,2,       25,-999.000,9,-999.0000,9, -999.00,9,  -999.0,9,  -999.0,   1.259,3, -999.00,9,-999.0000,9, -999.00,9,  400.40,  -999.0,9,  12.7649,     26.631,    35.3981,2,     -999.0,9,     -999.0,9,     -999.0,     -999.0,9,     -999.0
33RO20110926,        A10,      87,          1,         12,      11027,2,20111022,       2010,   -30.0001,   -34.9174,       1881,   476.0,  11.1756,  34.9626,2,  34.9623,2,    208.6,2,   207.4,2,     5.5,2,    14.7,2,    0.00,2,   0.851,4,   3.145,2,   1.714,2,   1.166,2,     2131.8,2,  2307.5,2,  -999.0,9, -999.00,   7.7936,2,       25,-999.000,9,-999.0000,9, -999.00,9,  -999.0,9,  -999.0,   1.355,3, -999.00,9,-999.0000,9, -999.00,9,  476.00,  -999.0,9,  11.1156,     26.725,    35.1272,2,     -999.0,9,     -999.0,9,     -999.0,     -999.0,9,     -999.0
33RO20110926,        A10,      87,          1,         11,      11707,2,20111022,       2010,   -30.0001,   -34.9174,       1881,   590.2,   8.7486,  34.6516,2,  34.6573,2,    205.6,2,   205.2,2,     9.1,2,    20.6,2,    0.01,2,   1.170,4,   3.228,2,   1.690,2,   0.951,2,     2148.7,2,  2295.4,2,  -999.0,9, -999.00,   7.7234,2,       25,-999.000,9,-999.0000,9, -999.00,9,  -999.0,9,  -999.0,   2.004,3, -999.00,9,-999.0000,9, -999.00,9,  590.20,  -999.0,9,   8.6844,     26.898,    34.8208,2,     -999.0,9,     -999.0,9,     -999.0,     -999.0,9,     -999.0
33RO20110926,        A10,      87,          1,         10,      11003,2,20111022,       2010,   -30.0001,   -34.9174,       1881,   690.4,   6.9858,  34.4695,2,  34.4692,2,    208.8,2,   208.7,2,    13.4,2,    24.9,2,    0.01,2,   1.411,4,   3.179,2,   1.618,2,   0.850,2,     2160.6,2,  2288.2,2,  -999.0,9, -999.00,   7.6813,2,       25,-999.000,9,-999.0000,9, -999.00,9,  -999.0,9,  -999.0,   2.573,3, -999.00,9,-999.0000,9, -999.00,9,  690.40,  -999.0,9,   6.9195,     27.010,    34.6317,2,     -999.0,9,     -999.0,9,     -999.0,     -999.0,9,     -999.0
33RO20110926,        A10,      87,          1,          9,      11706,2,20111022,       2010,   -30.0001,   -34.9174,       1881,   770.7,   5.8962,  34.3761,2,  34.3757,2,    216.1,2,   214.4,2,    16.5,6,    26.9,6,    0.00,6,   1.507,4,   3.138,2,   1.569,2,   0.748,2,     2167.1,2,  2287.6,2,  -999.0,9, -999.00,   7.6643,2,       25,-999.000,9,-999.0000,9, -999.00,9,  -999.0,9,  -999.0,   2.868,3, -999.00,9,-999.0000,9, -999.00,9,  770.70,  -999.0,9,   5.8281,     27.081,    34.5378,2,     -999.0,9,     -999.0,9,     -999.0,     -999.0,9,     -999.0
33RO20110926,        A10,      87,          1,          8,      11033,2,20111022,       2010,   -30.0001,   -34.9174,       1881,   885.3,   4.6820,  34.3133,2,  34.3153,2,    218.1,2,   218.2,2,    23.7,2,    29.4,2,    0.00,2,   1.702,4,   2.739,2,   1.351,2,   0.575,2,     2178.7,2,  2291.7,2,  -999.0,9, -999.00,   7.6423,2,       25,-999.000,9,-999.0000,9, -999.00,9,  -999.0,9,  -999.0,   3.173,3, -999.00,9,-999.0000,9, -999.00,9,  885.30,  -999.0,9,   4.6114,     27.176,    34.4771,2,     -999.0,9,     -999.0,9,     -999.0,     -999.0,9,     -999.0
33RO20110926,        A10,      87,          1,          7,      11705,2,20111022,       2010,   -30.0001,   -34.9174,       1881,   974.4,   4.1314,  34.3148,2,  34.3159,2,    214.1,2,   214.1,2,    29.5,2,    30.5,2,    0.00,2,   1.812,4,   2.303,2,   1.125,2,   0.433,2,     2188.5,2,  2293.6,2,  -999.0,9, -999.00,   7.6214,2,       25,-999.000,9,-999.0000,9, -999.00,9,  -999.0,9,  -999.0,   2.951,3, -999.00,9,-999.0000,9, -999.00,9,  974.40,  -999.0,9,   4.0572,     27.237,    34.4777,2,     -999.0,9,     -999.0,9,     -999.0,     -999.0,9,     -999.0
33RO20110926,        A10,      87,          1,          6,      11029,2,20111022,       2010,   -30.0001,   -34.9174,       1881,  1105.0,   3.5268,  34.3567,2,  34.3603,2,    204.1,2,   203.9,2,    39.3,2,    31.9,2,    0.00,2,   1.966,4,   1.581,2,   0.768,2,   0.238,2,     2204.2,2,  2301.2,2,  -999.0,9, -999.00,   7.6044,2,       25,-999.000,9,-999.0000,9, -999.00,9,  -999.0,9,  -999.0,   2.353,3, -999.00,9,-999.0000,9, -999.00,9, 1105.00,  -999.0,9,   3.4466,     27.333,    34.5223,2,     -999.0,9,     -999.0,9,     -999.0,     -999.0,9,     -999.0
33RO20110926,        A10,      87,          1,          5,      11704,2,20111022,       2010,   -30.0001,   -34.9174,       1881,  1273.8,   3.1706,  34.4626,2,  34.4630,2,    190.5,2,   190.3,2,    49.6,2,    32.5,2,    0.00,2,   2.066,4,   0.793,2,   0.386,2,   0.100,2,     2218.6,2,  2315.5,2,  -999.0,9, -999.00,   7.5944,2,       25,-999.000,9,-999.0000,9, -999.00,9,  -999.0,9,  -999.0,   1.465,3, -999.00,9,-999.0000,9, -999.00,9, 1273.80,  -999.0,9,   3.0798,     27.448,    34.6255,6,     -999.0,9,     -999.0,9,     -999.0,     -999.0,9,     -999.0
33RO20110926,        A10,      87,          1,          4,      11030,2,20111022,       2010,   -30.0001,   -34.9174,       1881,  1425.5,   2.9799,  34.5549,2,  34.5556,2,    188.4,2,   188.4,2,    54.3,6,    31.9,6,    0.00,6,   2.048,4,   0.407,2,   0.198,2,   0.035,2,     2223.4,6,  2321.1,6,  -999.0,9, -999.00,   7.5989,6,       25,-999.000,9,-999.0000,9, -999.00,9,  -999.0,9,  -999.0,   0.956,3, -999.00,9,-999.0000,9, -999.00,9, 1425.50,  -999.0,9,   2.8785,     27.541,    34.7186,2,     -999.0,9,     -999.0,9,     -999.0,     -999.0,9,     -999.0
33RO20110926,        A10,      87,          1,          3,      11703,2,20111022,       2010,   -30.0001,   -34.9174,       1881,  1575.1,   2.9128,  34.6186,2,  34.6189,2,    190.6,2,     191,2,    54.9,2,    31.0,2,    0.00,2,   2.013,4,   0.245,2,   0.119,2,   0.027,2,     2223.2,2,  2323.6,2,  -999.0,9, -999.00,   7.6074,2,       25,-999.000,9,-999.0000,9, -999.00,9,  -999.0,9,  -999.0,   0.710,3, -999.00,9,-999.0000,9, -999.00,9, 1575.10,  -999.0,9,   2.7996,     27.599,    34.7821,2,     -999.0,9,     -999.0,9,     -999.0,     -999.0,9,     -999.0
33RO20110926,        A10,      87,          1,          2,      11702,2,20111022,       2010,   -30.0001,   -34.9174,       1881,  1724.5,   2.8578,  34.6896,2,  34.6900,2,    197.4,2,   197.6,2,    53.8,2,    29.5,2,    0.00,2,   1.928,4,   0.133,2,   0.066,2,   0.022,2,     2217.2,2,  2321.3,4,  -999.0,9, -999.00,   7.6112,2,       25,-999.000,9,-999.0000,9, -999.00,9,  -999.0,9,  -999.0,   0.496,3, -999.00,9,-999.0000,9, -999.00,9, 1724.50,  -999.0,9,   2.7324,     27.662,    34.8536,2,     -999.0,9,     -999.0,9,     -999.0,     -999.0,9,     -999.0
33RO20110926,        A10,      87,          1,          1,      11701,2,20111022,       2010,   -30.0001,   -34.9174,       1881,  1875.7,   2.8369,  34.7378,2,  34.7387,2,    205.3,2,   204.6,2,    52.5,2,    28.3,2,    0.00,2,   1.844,4,   0.081,6,   0.041,6,   0.000,6,     2211.8,6,  2331.7,6,  -999.0,9, -999.00,   7.6438,6,       25,-999.000,9,-999.0000,9, -999.00,9,  -999.0,9,  -999.0,   0.359,3, -999.00,9,-999.0000,9, -999.00,9, 1875.70,  -999.0,9,   2.6985,     27.704,    34.9025,2,     -999.0,9,     -999.0,9,     -999.0,     -999.0,9,     -999.0