BOTTLE,20220815CCHSIOAMB
EXPOCODE,SECT_ID,STNNBR,CASTNO,SAMPNO,BTLNBR,BTLNBR_FLAG_W,DATE,TIME,LATITUDE,LONGITUDE,DEPTH,CTDPRS,CTDTMP,CTDSAL,CTDSAL_FLAG_W,SALNTY,SALNTY_FLAG_W,CTDOXY,CTDOXY_FLAG_W,OXYGEN,OXYGEN_FLAG_W,SILCAT,SILCAT_FLAG_W,NITRAT,NITRAT_FLAG_W,NITRIT,NITRIT_FLAG_W,PHSPHT,PHSPHT_FLAG_W,CFC-11,CFC-11_FLAG_W,CFC-12,CFC-12_FLAG_W,SF6,SF6_FLAG_W,TCARBN,TCARBN_FLAG_W,ALKALI,ALKALI_FLAG_W,PCO2,PCO2_FLAG_W,PCO2TMP,PH_SWS,PH_SWS_FLAG_W,PH_TMP,TRITUM,TRITUM_FLAG_W,HELIUM,HELIUM_FLAG_W,DELC13,DELC13_FLAG_W,DELC14,DELC14_FLAG_W,C14ERR,CCL4,CCL4_FLAG_W,DELO18,DELO18_FLAG_W,DOC,DOC_FLAG_W,TDN,TDN_FLAG_W,CTDRAW,14C-DOC,14C-DOC_FLAG_W,THETA,SIG0,SALTREF,SALTREF_FLAG_W,BLACKC,BLACKC_FLAG_W,PIGMENTS,PIGMENTS_FLAG_W,14C-DOCERR,13C-DOC,13C-DOC_FLAG_W,13C-DOCERR
,,,,,,,,,,,METERS,DBAR,ITS-90,PSS-78,,PSS-78,,UMOL/KG,,UMOL/KG,,UMOL/KG,,UMOL/KG,,UMOL/KG,,UMOL/KG,,PMOL/KG,,PMOL/KG,,FMOL/KG,,UMOL/KG,,UMOL/KG,,UATM,,DEG C,,,DEG C,TU,,NMOL/KG,,/MILLE,,/MILLE,,/MILLE,PMOL/KG,,/MILLE,,UMOL/KG,,UMOL/KG,,DBAR,/MILLE,,DEG C,KG/M^3,G/KG,,,,,,/MILLE,/MILLE,,/MILLE
33RO20110926,        A10,      95,          1,         24,      11714,2,20111024,       1121,   -30.0002,   -38.4999,       4255,     4.5,  19.1903,  36.1854,2,  36.1845,2,    231.6,2,   231.8,2,     0.7,2,     0.0,2,    0.00,2,   0.049,4,   2.209,6,   1.347,6,   1.386,6,       2073,6,  2371.9,2,  -999.0,9, -999.00,    8.018,2,       25,-999.000,9,-999.0000,9,    1.23,2,    62.6,2,     4.1,   4.896,4, -999.00,9,-999.0000,5, -999.00,5,    4.50,  -999.0,9,  19.1895,     25.878,    36.3551,2,     -999.0,9,     -999.0,1,     -999.0,     -999.0,9,     -999.0
33RO20110926,        A10,      95,          1,         23,      11713,2,20111024,       1121,   -30.0002,   -38.4999,       4255,    35.2,  19.1554,  36.1887,2,  36.1879,2,    232.5,2,     232,2,     0.8,2,     0.0,2,    0.00,2,   0.033,4,   2.210,2,   1.345,2,   1.352,2,       2072,2,  2372.6,6,  -999.0,9, -999.00,    8.019,6,       25,-999.000,9,-999.0000,9, -999.00,9,  -999.0,9,  -999.0,   4.942,4, -999.00,9,  63.6098,2,    4.75,2,   35.20,  -999.0,9,  19.1491,     25.891,    36.3585,2,     -999.0,9,     -999.0,9,     -999.0,     -999.0,9,     -999.0
33RO20110926,        A10,      95,          1,         22,      11712,2,20111024,       1121,   -30.0002,   -38.4999,       4255,    81.2,  18.4697,  36.0828,2,  36.0831,2,    227.2,2,   227.4,2,     0.8,2,     0.0,2,    0.02,2,   0.078,4,   2.270,2,   1.376,2,   1.394,2,     2076.3,2,  2368.2,2,  -999.0,9, -999.00,    8.003,2,       25,-999.000,9,-999.0000,9, -999.00,9,  -999.0,9,  -999.0,   3.223,4, -999.00,9,  61.1415,2,    3.84,2,   81.20,  -999.0,9,  18.4554,     25.987,    36.2532,2,     -999.0,9,     -999.0,1,     -999.0,     -999.0,9,     -999.0
33RO20110926,        A10,      95,          1,         21,      11010,2,20111024,       1121,   -30.0002,   -38.4999,       4255,   165.1,  15.8315,  35.6253,2,  35.6231,2,    206.9,2,   207.1,2,     1.9,2,     4.8,2,    0.01,2,   0.334,4,   2.612,2,   1.544,2,   1.269,2,     2105.5,2,  2340.4,2,  -999.0,9, -999.00,   7.9088,2,       25,-999.000,9,-999.0000,9, -999.00,9,  -999.0,9,  -999.0,   0.785,4, -999.00,9,  60.5073,2, -999.00,5,  165.10,  -999.0,9,  15.8055,     26.271,    35.7911,2,     -999.0,9,     -999.0,1,     -999.0,     -999.0,9,     -999.0
33RO20110926,        A10,      95,          1,         20,      11715,2,20111024,       1121,   -30.0002,   -38.4999,       4255,   229.2,  15.0020,  35.5306,2,  35.5314,2,    211.6,2,   211.6,2,     2.1,6,     6.0,6,    0.01,6,   0.356,4,   2.715,2,   1.590,2,   1.306,2,     2109.4,2,  2336.5,2,  -999.0,9, -999.00,   7.8958,2,       25,-999.000,9,-999.0000,9, -999.00,9,  -999.0,9,  -999.0,   0.921,3, -999.00,9,  48.6732,2, -999.00,9,  229.20,  -999.0,9,  14.9671,     26.387,    35.6989,2,     -999.0,9,     -999.0,9,     -999.0,     -999.0,9,     -999.0
33RO20110926,        A10,      95,          1,         19,      11007,2,20111024,       1121,   -30.0002,   -38.4999,       4255,   306.0,  13.7810,  35.3630,2,  35.3628,2,    212.7,2,     212,2,     2.9,2,     8.5,2,    0.01,2,   0.484,4,   2.877,2,   1.651,2,   1.250,2,     2115.8,2,  2325.4,2,  -999.0,9, -999.00,   7.8648,2,       25,-999.000,9,-999.0000,9, -999.00,9,  -999.0,9,  -999.0,   0.891,3, -999.00,9,  48.1951,2, -999.00,9,  306.00,  -999.0,9,  13.7369,     26.523,    35.5296,2,     -999.0,9,     -999.0,9,     -999.0,     -999.0,9,     -999.0
33RO20110926,        A10,      95,          1,         18,      11710,2,20111024,       1121,   -30.0002,   -38.4999,       4255,   404.3,  12.2383,  35.1285,2,  35.1259,2,    212.0,2,   211.3,2,     4.1,2,    12.1,2,    0.01,2,   0.643,4,   3.046,2,   1.703,2,   1.201,2,     2127.3,2,  2315.1,2,  -999.0,9, -999.00,   7.8247,2,       25,-999.000,9,-999.0000,9, -999.00,9,  -999.0,9,  -999.0,   0.974,3, -999.00,9,  49.9317,2, -999.00,9,  404.30,  -999.0,9,  12.1843,     26.650,    35.2915,2,     -999.0,9,     -999.0,9,     -999.0,     -999.0,9,     -999.0
33RO20110926,        A10,      95,          1,         17,      11023,2,20111024,       1121,   -30.0002,   -38.4999,       4255,   519.2,   9.8311,  34.7901,2,  34.7879,2,    207.6,2,   206.8,2,     7.2,6,    18.2,6,    0.01,6,   0.926,4,   3.167,2,   1.691,2,   0.999,2,     2143.5,2,  2297.8,2,  -999.0,9, -999.00,   7.7516,2,       25,-999.000,9,-999.0000,9, -999.00,9,  -999.0,9,  -999.0,   1.189,3, -999.00,9,  45.9024,2, -999.00,9,  519.20,  -999.0,9,   9.7707,     26.821,    34.9519,2,     -999.0,9,     -999.0,9,     -999.0,     -999.0,9,     -999.0
33RO20110926,        A10,      95,          1,         16,      11709,2,20111024,       1121,   -30.0002,   -38.4999,       4255,   639.9,   7.4691,  34.5145,2,  34.5161,2,    212.8,2,   213.7,2,    11.4,2,    23.5,2,    0.00,2,   1.204,4,   3.261,2,   1.688,2,   0.863,2,     2155.8,2,  2290.7,2,  -999.0,9, -999.00,   7.7014,2,       25,-999.000,9,-999.0000,9, -999.00,9,  -999.0,9,  -999.0,   2.040,3, -999.00,9,  41.6585,2, -999.00,9,  639.90,  -999.0,9,   7.4055,     26.980,    34.6789,2,     -999.0,9,     -999.0,9,     -999.0,     -999.0,9,     -999.0
33RO20110926,        A10,      95,          1,         15,      11006,2,20111024,       1121,   -30.0002,   -38.4999,       4255,   774.2,   5.4762,  34.3276,2,  34.3300,2,    228.1,2,   226.2,2,    16.5,2,    27.1,2,    0.00,2,   1.422,4,   3.260,2,   1.647,2,   0.802,2,     2165.8,2,  2286.8,2,  -999.0,9, -999.00,   7.6683,2,       25,-999.000,9,-999.0000,9, -999.00,9,  -999.0,9,  -999.0,   3.285,3, -999.00,9,  43.5707,2, -999.00,9,  774.20,  -999.0,9,   5.4103,     27.096,    34.4919,2,     -999.0,9,     -999.0,9,     -999.0,     -999.0,9,     -999.0
33RO20110926,        A10,      95,          1,         14,      11708,2,20111024,       1121,   -30.0002,   -38.4999,       4255,   875.9,   4.6042,  34.2937,2,  34.2943,2,    225.4,2,   225.3,2,    22.1,6,    29.0,6,    0.00,6,   1.557,4,   2.899,2,   1.439,2,   0.640,2,     2176.1,2,  2289.6,2,  -999.0,9, -999.00,   7.6483,2,       25,-999.000,9,-999.0000,9, -999.00,9,  -999.0,9,  -999.0,   3.658,3, -999.00,9,   37.239,2, -999.00,9,  875.90,  -999.0,9,   4.5350,     27.168,    34.4560,2,     -999.0,9,     -999.0,9,     -999.0,     -999.0,9,     -999.0
33RO20110926,        A10,      95,          1,         13,      11031,2,20111024,       1121,   -30.0002,   -38.4999,       4255,  1050.0,   3.6765,  34.3322,2,  34.3323,2,    210.2,2,   210.4,2,    35.2,2,    31.5,2,    0.00,2,   1.807,4,   1.901,2,   0.923,2,   0.359,2,     2198.1,2,  2301.4,2,  -999.0,9, -999.00,   7.6152,2,       25,-999.000,9,-999.0000,9, -999.00,9,  -999.0,9,  -999.0,   2.873,3, -999.00,9,   38.761,2, -999.00,9, 1050.00,  -999.0,9,   3.5996,     27.295,    34.4942,2,     -999.0,9,     -999.0,9,     -999.0,     -999.0,9,     -999.0
33RO20110926,        A10,      95,          1,         12,      11027,2,20111024,       1121,   -30.0002,   -38.4999,       4255,  1224.9,   3.2685,  34.4053,2,  34.4064,2,    198.0,2,   197.4,2,    45.2,2,    32.7,2,    0.00,2,   1.951,4,   1.156,2,   0.558,2,   0.183,2,       2212,2,  2312.5,2,  -999.0,9, -999.00,   7.5992,2,       25,-999.000,9,-999.0000,9, -999.00,9,  -999.0,9,  -999.0,   1.883,3, -999.00,9,   38.839,2, -999.00,9, 1224.90,  -999.0,9,   3.1808,     27.395,    34.5686,2,     -999.0,9,     -999.0,9,     -999.0,     -999.0,9,     -999.0
33RO20110926,        A10,      95,          1,         11,      11707,2,20111024,       1121,   -30.0002,   -38.4999,       4255,  1424.2,   2.9891,  34.5381,2,  34.5377,2,    188.8,2,     189,2,    53.7,2,    32.3,2,    0.00,2,   2.017,4,   0.463,2,   0.220,2,   0.087,2,       2228,6,    2322,6,  -999.0,9, -999.00,   7.5958,6,       25,-999.000,9,-999.0000,9, -999.00,9,  -999.0,9,  -999.0,   0.957,3, -999.00,9,-999.0000,5, -999.00,9, 1424.20,  -999.0,9,   2.8877,     27.526,    34.7006,2,     -999.0,9,     -999.0,9,     -999.0,     -999.0,9,     -999.0
33RO20110926,        A10,      95,          1,         10,      11003,2,20111024,       1121,   -30.0002,   -38.4999,       4255,  1722.8,   2.9038,  34.7014,2,  34.7024,2,    199.6,2,   199.7,2,    53.0,2,    29.4,2,    0.00,2,   1.864,4,   0.122,2,   0.060,2,   0.062,2,     2217.4,2,  2325.1,2,  -999.0,9, -999.00,   7.6134,2,       25,-999.000,9,-999.0000,9, -999.00,9,  -999.0,9,  -999.0,   0.386,3, -999.00,9,  42.4683,2, -999.00,9, 1722.80,  -999.0,9,   2.7779,     27.668,    34.8660,2,     -999.0,9,     -999.0,9,     -999.0,     -999.0,9,     -999.0
33RO20110926,        A10,      95,          1,          9,      11706,2,20111024,       1121,   -30.0002,   -38.4999,       4255,  1900.1,   3.0367,  34.7962,2,  34.7970,2,    212.3,2,   212.1,2,    46.2,2,    26.7,2,    0.00,2,   1.668,4,   0.090,2,   0.047,2,   0.000,2,       2205,2,  2328.2,2,  -999.0,9, -999.00,   7.6615,2,       25,-999.000,9,-999.0000,9, -999.00,9,  -999.0,9,  -999.0,   0.317,3, -999.00,9,   41.278,2, -999.00,9, 1900.10,  -999.0,9,   2.8931,     27.733,    34.9610,2,     -999.0,9,     -999.0,9,     -999.0,     -999.0,9,     -999.0
33RO20110926,        A10,      95,          1,          8,      11033,2,20111024,       1121,   -30.0002,   -38.4999,       4255,  2100.5,   3.1334,  34.8725,2,  34.8729,2,    230.1,2,   230.9,2,    37.0,2,    23.5,2,    0.00,2,   1.435,4,   0.098,2,   0.051,2,   0.039,2,     2188.6,2,  2324.8,2,  -999.0,9, -999.00,   7.6975,2,       25,-999.000,9,-999.0000,9, -999.00,9,  -999.0,9,  -999.0,   0.347,3, -999.00,9,  41.0341,2, -999.00,9, 2100.50,  -999.0,9,   2.9698,     27.786,    35.0373,2,     -999.0,9,     -999.0,9,     -999.0,     -999.0,9,     -999.0
33RO20110926,        A10,      95,          1,          7,      11705,2,20111024,       1121,   -30.0002,   -38.4999,       4255,  2275.7,   3.1177,  34.9032,2,  34.9048,2,    239.0,2,   240.5,2,    32.2,6,    22.0,6,    0.01,6,   1.305,4,   0.108,2,   0.056,2,   0.000,2,     2180.7,2,  2323.3,2,  -999.0,9, -999.00,   7.7176,2,       25,-999.000,9,-999.0000,9, -999.00,9,  -999.0,9,  -999.0,   0.358,3, -999.00,9,  42.9171,2, -999.00,9, 2275.70,  -999.0,9,   2.9375,     27.815,    35.0694,2,     -999.0,9,     -999.0,9,     -999.0,     -999.0,9,     -999.0
33RO20110926,        A10,      95,          1,          6,      11029,2,20111024,       1121,   -30.0002,   -38.4999,       4255,  2499.9,   2.9877,  34.9082,2,  34.9091,2,    244.4,2,   244.5,2,    32.8,2,    21.7,2,    0.01,2,   1.306,4,   0.073,2,   0.038,2,   0.000,2,     2178.8,2,  2324.7,2,  -999.0,9, -999.00,   7.7326,2,       25,-999.000,9,-999.0000,9, -999.00,9,  -999.0,9,  -999.0,   0.292,3, -999.00,9,  43.4732,2, -999.00,9, 2499.90,  -999.0,9,   2.7881,     27.832,    35.0737,2,     -999.0,9,     -999.0,9,     -999.0,     -999.0,9,     -999.0
33RO20110926,        A10,      95,          1,          5,      11704,2,20111024,       1121,   -30.0002,   -38.4999,       4255,  2763.2,   2.9042,  34.9177,2,  34.9180,2,    249.2,2,   248.8,2,    32.1,2,    21.1,2,    0.01,2,   1.270,4,   0.068,2,   0.036,2,   0.000,2,     2177.4,2,  2326.3,2,  -999.0,9, -999.00,   7.7304,2,       25,-999.000,9,-999.0000,9, -999.00,9,  -999.0,9,  -999.0,   0.279,3, -999.00,9,  44.2634,2, -999.00,9, 2763.20,  -999.0,9,   2.6799,     27.848,    35.0827,6,     -999.0,9,     -999.0,9,     -999.0,     -999.0,9,     -999.0
33RO20110926,        A10,      95,          1,          4,      11030,2,20111024,       1121,   -30.0002,   -38.4999,       4255,  3101.8,   2.7650,  34.9163,2,  34.9170,2,    252.4,2,   251.8,2,    33.3,2,    21.0,2,    0.01,2,   1.271,4,   0.064,2,   0.035,2,   0.000,2,     2177.8,2,  2328.2,2,  -999.0,9, -999.00,   7.7344,2,       25,-999.000,9,-999.0000,9, -999.00,9,  -999.0,9,  -999.0,   0.280,3, -999.00,9,  43.4439,2, -999.00,9, 3101.80,  -999.0,9,   2.5088,     27.863,    35.0817,2,     -999.0,9,     -999.0,9,     -999.0,     -999.0,9,     -999.0
33RO20110926,        A10,      95,          1,          3,      11703,2,20111024,       1121,   -30.0002,   -38.4999,       4255,  3400.5,   2.5293,  34.9001,2,  34.9003,2,    252.2,2,   252.2,2,    39.0,2,    21.4,2,    0.00,2,   1.346,4,   0.053,2,   0.029,2,   0.000,2,     2182.8,2,  2331.4,2,  -999.0,9, -999.00,   7.7324,2,       25,-999.000,9,-999.0000,9, -999.00,9,  -999.0,9,  -999.0,   0.250,3, -999.00,9,  42.8976,2, -999.00,9, 3400.50,  -999.0,9,   2.2469,     27.872,    35.0649,2,     -999.0,9,     -999.0,9,     -999.0,     -999.0,9,     -999.0
33RO20110926,        A10,      95,          1,          2,      11702,2,20111024,       1121,   -30.0002,   -38.4999,       4255,  3800.3,   2.0162,  34.8492,2,  34.8496,2,    246.0,2,   244.8,2,    57.9,2,    23.9,2,    0.01,2,   1.650,4,   0.026,2,   0.014,2,   0.106,2,     2201.3,2,  2341.4,2,  -999.0,9, -999.00,   7.7084,2,       25,-999.000,9,-999.0000,9, -999.00,9,  -999.0,9,  -999.0,   0.154,3, -999.00,9,  43.4732,2, -999.00,9, 3800.30,  -999.0,9,   1.7038,     27.874,    35.0139,2,     -999.0,9,     -999.0,9,     -999.0,     -999.0,9,     -999.0
33RO20110926,        A10,      95,          1,          1,      11701,2,20111024,       1121,   -30.0002,   -38.4999,       4255,  4274.0,   1.1868,  34.7579,2,  34.7586,2,    230.2,2,   228.8,2,    93.2,2,    28.8,2,    0.01,2,   2.219,4,   0.084,6,   0.041,6,   0.175,6,     2236.8,6,  2358.9,6,  -999.0,9, -999.00,   7.6588,6,       25,-999.000,9,-999.0000,9, -999.00,9,  -999.0,9,  -999.0,   0.222,3, -999.00,9,   54.878,3, -999.00,9, 4274.00,  -999.0,9,   0.8464,     27.861,    34.9225,2,     -999.0,9,     -999.0,9,     -999.0,     -999.0,9,     -999.0