BOTTLE,20220815CCHSIOAMB
EXPOCODE,SECT_ID,STNNBR,CASTNO,BTLNBR,DATE,LATITUDE,LONGITUDE,DEPTH,CTDPRS,CTDTMP,CTDSAL,CTDSAL_FLAG_W,SALNTY,SALNTY_FLAG_W,CTDOXY,CTDOXY_FLAG_W,OXYGEN,OXYGEN_FLAG_W,SILCAT,SILCAT_FLAG_W,NITRAT,NITRAT_FLAG_W,TCARBN,TCARBN_FLAG_W,ALKALI,ALKALI_FLAG_W,DELC13,DELC13_FLAG_W,DELO18,DELO18_FLAG_W,CHLORA,CHLORA_FLAG_W,THETA
,,,,,,,,METERS,DBARS,ITS-90,PSS-78,,PSS-78,,UMOL/KG,,UMOL/KG,,UMOL/KG,,UMOL/KG,,UMOL/KG,,UMOL/KG,,O/OO,,O/OO,,UG/L,,DEGC
  35MF19980121,  OISO,     9,  1,     19,19980201,-48.5000,  64.9800, 2091,     11.1,   6.5280,  33.7150,2,  33.7182,2,    311.5,2,    307.1,2,     2.70,2,    21.90,2,   2106.5,2,   2272.5,2,     1.20,2,    -0.39,2,     0.16,2,   6.52703722
  35MF19980121,  OISO,     9,  1,     18,19980201,-48.5000,  64.9800, 2091,     11.7,   6.4410,  33.7170,2,-999.0000,9,    312.7,2,   -999.0,9,     3.10,2,    22.00,2,   2102.8,2,   2269.0,2,  -999.00,9,  -999.00,9,     0.19,2,   6.43999048
  35MF19980121,  OISO,     9,  1,     17,19980201,-48.5000,  64.9800, 2091,     22.7,   6.3060,  33.7170,2,  33.7362,2,    311.6,2,    309.0,2,     3.00,2,    22.00,2,   2103.3,2,   2270.2,2,     0.94,2,    -0.25,2,     0.24,2,    6.3040703
  35MF19980121,  OISO,     9,  1,     16,19980201,-48.5000,  64.9800, 2091,     31.5,   6.2760,  33.7170,2,-999.0000,9,    310.8,2,   -999.0,9,     2.90,2,    22.00,2,   2100.6,2,   2269.9,2,  -999.00,9,  -999.00,9,     0.22,2,   6.27332419
  35MF19980121,  OISO,     9,  1,     15,19980201,-48.5000,  64.9800, 2091,     41.2,   6.2620,  33.7180,2,-999.0000,9,    310.0,2,   -999.0,9,     2.90,2,    22.00,2,   2102.3,2,   2269.7,2,  -999.00,9,  -999.00,9,     0.21,2,   6.25849865
  35MF19980121,  OISO,     9,  1,     14,19980201,-48.5000,  64.9800, 2091,     52.8,   6.2240,  33.7210,2,  33.7157,2,    309.5,2,    309.2,2,     2.70,2,    22.30,2,   2107.1,2,   2275.7,2,     0.86,2,    -0.33,2,     0.26,2,   6.21952974
  35MF19980121,  OISO,     9,  1,     13,19980201,-48.5000,  64.9800, 2091,     76.8,   4.7440,  33.7950,2,-999.0000,9,    311.0,2,   -999.0,9,     4.90,2,    23.20,2,   -999.0,9,   -999.0,9,  -999.00,9,  -999.00,9,     0.36,2,   4.73837214
  35MF19980121,  OISO,     9,  1,     12,19980201,-48.5000,  64.9800, 2091,    103.2,   3.3270,  33.8360,2,-999.0000,9,    311.7,2,   -999.0,9,    12.80,2,    25.40,2,   2138.0,2,   -999.0,9,  -999.00,9,    -0.32,2,     0.24,2,   3.32058094
  35MF19980121,  OISO,     9,  1,     11,19980201,-48.5000,  64.9800, 2091,    126.9,   2.6770,  33.8560,2,-999.0000,9,    311.9,2,   -999.0,9,    16.50,2,    26.00,2,   2141.7,2,   2279.1,2,  -999.00,9,  -999.00,9,     0.12,2,   2.66974378
  35MF19980121,  OISO,     9,  1,     10,19980201,-48.5000,  64.9800, 2091,    151.1,   2.3820,  33.8740,2,  33.8660,2,    308.8,2,    316.2,2,    18.80,2,    27.00,2,   2145.5,2,   2278.2,2,     0.71,2,    -0.17,2,  -999.00,9,   2.37369302
  35MF19980121,  OISO,     9,  1,      9,19980201,-48.5000,  64.9800, 2091,    203.8,   2.2460,  33.9320,2,-999.0000,9,    293.0,2,   -999.0,9,  -999.00,9,  -999.00,9,   -999.0,9,   -999.0,9,  -999.00,9,  -999.00,9,  -999.00,9,   2.23491006
  35MF19980121,  OISO,     9,  1,      8,19980201,-48.5000,  64.9800, 2091,    252.3,   2.2090,  34.0190,2,-999.0000,9,    272.9,2,   -999.0,9,    29.30,2,    30.30,2,   2171.2,2,   2285.4,2,  -999.00,9,  -999.00,9,  -999.00,9,    2.1952085
  35MF19980121,  OISO,     9,  1,      7,19980201,-48.5000,  64.9800, 2091,    302.6,   2.2020,  34.1330,2,-999.0000,9,    245.0,2,   -999.0,9,    37.90,2,    32.50,2,   2193.4,2,   2292.3,2,  -999.00,9,    -0.19,2,  -999.00,9,   2.18528166
  35MF19980121,  OISO,     9,  1,      6,19980201,-48.5000,  64.9800, 2091,    409.0,   2.1950,  34.2700,2,-999.0000,9,    213.7,2,   -999.0,9,    49.80,2,    34.40,2,   2216.9,2,   2304.1,2,  -999.00,9,  -999.00,9,  -999.00,9,   2.17196473
  35MF19980121,  OISO,     9,  1,      5,19980201,-48.5000,  64.9800, 2091,    506.0,   2.2270,  34.3760,2,  34.3672,2,    194.4,2,    195.0,2,    59.00,2,    35.40,2,   2233.5,2,   2314.2,2,  -999.00,9,    -0.12,2,  -999.00,9,   2.19787922
  35MF19980121,  OISO,     9,  1,      4,19980201,-48.5000,  64.9800, 2091,    603.0,   2.2660,  34.4540,2,-999.0000,9,    183.8,2,   -999.0,9,    64.80,2,    35.40,2,   2245.4,2,   -999.0,9,  -999.00,9,  -999.00,9,  -999.00,9,   2.23053666
  35MF19980121,  OISO,     9,  1,      3,19980201,-48.5000,  64.9800, 2091,    800.3,   2.3010,  34.6120,2,-999.0000,9,    176.0,2,   -999.0,9,    73.80,2,    34.20,2,   2251.0,2,   2335.8,2,  -999.00,9,  -999.00,9,  -999.00,9,   2.25219086
  35MF19980121,  OISO,     9,  1,      2,19980201,-48.5000,  64.9800, 2091,    994.8,   2.2750,  34.6730,2,-999.0000,9,    180.4,2,   -999.0,9,    75.60,2,    33.00,2,   2250.6,2,   2342.3,2,  -999.00,9,  -999.00,9,  -999.00,9,   2.21286461
  35MF19980121,  OISO,     9,  1,      1,19980201,-48.5000,  64.9800, 2091,    995.4,   2.2750,  34.6730,2,  34.6684,2,    180.5,2,    179.9,2,  -999.00,9,  -999.00,9,   2250.3,2,   2340.3,2,  -999.00,9,     0.06,2,  -999.00,9,   2.21282957
  35MF19980121,  OISO,    10,  1,     22,19980203,-50.6800,  68.4000, 1615,     10.9,   4.5120,  33.8120,2,-999.0000,9,    326.0,2,    321.7,2,     1.60,2,    22.60,2,   2110.3,2,   2277.9,2,     1.18,2,    -0.29,2,  -999.00,9,   4.51122394
  35MF19980121,  OISO,    10,  1,     21,19980203,-50.6800,  68.4000, 1615,     11.2,   4.5130,  33.8120,2,-999.0000,9,    326.0,2,   -999.0,9,     1.60,2,    22.60,2,   2109.5,2,   -999.0,9,  -999.00,9,  -999.00,9,     0.34,2,   4.51220608
  35MF19980121,  OISO,    10,  1,     20,19980203,-50.6800,  68.4000, 1615,     20.9,   4.5110,  33.8120,2,  33.8091,2,    325.2,2,    321.8,2,     1.60,2,    22.60,2,   2113.1,2,   2279.8,2,  -999.00,9,    -0.29,2,     0.37,2,   4.50951684
  35MF19980121,  OISO,    10,  1,     19,19980203,-50.6800,  68.4000, 1615,     30.9,   4.5120,  33.8110,2,-999.0000,9,    324.5,2,   -999.0,9,     1.60,2,    22.60,2,   2111.5,2,   2279.4,2,  -999.00,9,  -999.00,9,     0.46,2,   4.50980417
  35MF19980121,  OISO,    10,  1,     18,19980203,-50.6800,  68.4000, 1615,     40.6,   4.5130,  33.8120,2,-999.0000,9,    323.6,2,   -999.0,9,     1.60,2,    22.50,2,   2109.3,2,   2275.9,2,  -999.00,9,  -999.00,9,     0.40,2,   4.51010841
  35MF19980121,  OISO,    10,  1,     17,19980203,-50.6800,  68.4000, 1615,     50.6,   4.4910,  33.8140,2,-999.0000,9,    322.0,2,    320.5,2,     1.60,2,    22.90,2,   2113.2,2,   2280.7,2,  -999.00,9,    -0.41,2,     0.37,2,   4.48739655
  35MF19980121,  OISO,    10,  1,     16,19980203,-50.6800,  68.4000, 1615,     76.1,   4.3520,  33.8250,2,-999.0000,9,    317.7,2,   -999.0,9,     1.60,2,    23.40,2,   2114.9,2,   2279.6,2,  -999.00,9,  -999.00,9,     0.43,2,   4.34665549
  35MF19980121,  OISO,    10,  1,     15,19980203,-50.6800,  68.4000, 1615,    102.0,   4.2550,  33.8330,2,  33.8320,2,    315.1,2,    316.3,2,     1.60,2,    23.60,2,   2121.3,2,   2278.8,2,     1.62,2,    -0.26,2,     0.40,2,   4.24789487
  35MF19980121,  OISO,    10,  1,     14,19980203,-50.6800,  68.4000, 1615,    126.3,   3.0130,  33.8660,2,-999.0000,9,    313.4,2,   -999.0,9,    12.60,2,    25.80,2,   2137.9,2,   2281.9,2,  -999.00,9,  -999.00,9,  -999.00,9,   3.00543327
  35MF19980121,  OISO,    10,  1,     13,19980203,-50.6800,  68.4000, 1615,    153.8,   2.1520,  33.8960,2,  33.9344,2,    315.1,2,   -999.0,9,    18.60,2,    27.10,2,   2145.9,2,   2283.3,2,     1.33,2,    -0.19,2,     0.21,2,   2.14381472
  35MF19980121,  OISO,    10,  1,     12,19980203,-50.6800,  68.4000, 1615,    207.1,   1.7740,  33.9610,2,-999.0000,9,    301.3,2,    307.0,2,    25.20,2,    29.70,2,   2158.4,2,   2284.0,2,  -999.00,9,  -999.00,9,     0.05,2,   1.76352067
  35MF19980121,  OISO,    10,  1,     11,19980203,-50.6800,  68.4000, 1615,    256.6,   1.8990,  34.0510,2,-999.0000,9,    278.3,2,   -999.0,9,    33.80,2,    31.50,2,   2174.9,2,   2290.9,2,  -999.00,9,  -999.00,9,  -999.00,9,   1.88560087
  35MF19980121,  OISO,    10,  1,     10,19980203,-50.6800,  68.4000, 1615,    321.7,   1.9690,  34.1450,2,-999.0000,9,    255.2,2,    257.3,2,    43.10,2,    32.70,2,   2193.8,2,   2297.1,2,     0.77,2,    -0.17,2,  -999.00,9,    1.9517844
  35MF19980121,  OISO,    10,  1,     24,19980203,-50.6800,  68.4000, 1615,    413.4,   2.1410,  34.2810,2,-999.0000,9,    218.8,2,   -999.0,9,    52.50,2,    34.50,2,   2216.5,2,   2308.8,2,  -999.00,9,  -999.00,9,  -999.00,9,    2.1178787
  35MF19980121,  OISO,    10,  1,      9,19980203,-50.6800,  68.4000, 1615,    413.5,   2.1410,  34.2810,2,-999.0000,9,    218.8,2,   -999.0,9,  -999.00,9,  -999.00,9,   -999.0,9,   -999.0,9,  -999.00,9,  -999.00,9,  -999.00,9,   2.11787395
  35MF19980121,  OISO,    10,  1,      8,19980203,-50.6800,  68.4000, 1615,    503.8,   2.1570,  34.3730,2,  34.3974,2,    203.7,2,    200.9,2,    61.50,2,    35.20,2,   2230.8,2,   2314.5,2,     0.49,2,    -0.21,2,  -999.00,9,   2.12827387
  35MF19980121,  OISO,    10,  1,      7,19980203,-50.6800,  68.4000, 1615,    604.3,   2.2420,  34.4560,2,-999.0000,9,    190.2,2,   -999.0,9,    67.00,2,    35.40,2,   2239.0,2,   2322.0,2,  -999.00,9,  -999.00,9,  -999.00,9,   2.20656761
  35MF19980121,  OISO,    10,  1,      6,19980203,-50.6800,  68.4000, 1615,    805.6,   2.2160,  34.5810,2,-999.0000,9,    184.3,2,   -999.0,9,    77.10,2,    34.50,2,   2245.6,2,   2333.3,2,  -999.00,9,  -999.00,9,  -999.00,9,    2.1674256
  35MF19980121,  OISO,    10,  1,      5,19980203,-50.6800,  68.4000, 1615,    999.2,   2.2230,  34.6540,2,  34.6484,2,    184.2,2,    183.4,2,    78.50,2,    33.70,2,   2246.2,2,   2338.6,2,     0.54,2,     0.02,2,  -999.00,9,   2.16101043
  35MF19980121,  OISO,    10,  1,      4,19980203,-50.6800,  68.4000, 1615,   1196.3,   2.2030,  34.7080,2,-999.0000,9,    188.1,2,   -999.0,9,    78.50,2,    33.40,2,   2241.4,2,   2342.9,2,  -999.00,9,  -999.00,9,  -999.00,9,   2.12694531
  35MF19980121,  OISO,    10,  1,      3,19980203,-50.6800,  68.4000, 1615,   1399.2,   2.0240,  34.7450,2,-999.0000,9,    195.2,2,   -999.0,9,    85.30,2,    31.70,2,   2240.9,2,   2350.1,2,  -999.00,9,  -999.00,9,  -999.00,9,   1.93464149
  35MF19980121,  OISO,    10,  1,      1,19980203,-50.6800,  68.4000, 1615,   1602.4,   1.7720,  34.7600,2,  34.7690,2,    202.2,2,    204.8,2,    88.10,2,    31.20,2,   2244.1,2,   -999.0,9,  -999.00,9,  -999.00,9,  -999.00,9,   1.67012864
  35MF19980121,  OISO,    10,  1,      2,19980203,-50.6800,  68.4000, 1615,   1602.6,   1.7720,  34.7600,2,-999.0000,9,    202.2,2,   -999.0,9,  -999.00,9,  -999.00,9,   2235.6,2,   2348.9,2,  -999.00,9,  -999.00,9,  -999.00,9,   1.67014202
  35MF19980121,  OISO,    10,  2,     14,19980203,-50.6800,  68.4000, 1615,      8.9,   4.8250,  33.8090,2,-999.0000,9,    322.1,2,   -999.0,9,     1.60,2,    22.30,2,   2110.8,2,   2276.7,2,  -999.00,9,  -999.00,9,     0.25,2,   4.82434383
  35MF19980121,  OISO,    10,  2,     13,19980203,-50.6800,  68.4000, 1615,     30.0,   4.7830,  33.8090,2,  33.8042,2,    321.3,2,    319.8,2,     1.60,2,    22.20,2,   2108.2,2,   2274.8,2,  -999.00,9,  -999.00,9,     0.24,2,   4.78079887
  35MF19980121,  OISO,    10,  2,     12,19980203,-50.6800,  68.4000, 1615,     48.6,   4.7470,  33.8090,2,-999.0000,9,    319.9,2,   -999.0,9,     1.60,2,    22.30,2,   2110.5,2,   2276.9,2,  -999.00,9,  -999.00,9,     0.28,2,   4.74344366
  35MF19980121,  OISO,    10,  2,     11,19980203,-50.6800,  68.4000, 1615,     74.9,   4.6440,  33.8120,2,-999.0000,9,    317.6,2,   -999.0,9,     1.60,2,    22.40,2,   2113.6,2,   2277.2,2,  -999.00,9,  -999.00,9,     0.37,2,   4.63856627
  35MF19980121,  OISO,    10,  2,     10,19980203,-50.6800,  68.4000, 1615,     92.0,   3.8930,  33.8440,2,-999.0000,9,    312.9,2,   -999.0,9,  -999.00,9,  -999.00,9,   -999.0,9,   -999.0,9,  -999.00,9,  -999.00,9,  -999.00,9,   3.88685857
  35MF19980121,  OISO,    10,  2,      9,19980203,-50.6800,  68.4000, 1615,    100.8,   3.3730,  33.8530,2,  33.8492,2,    310.1,2,    314.2,2,     1.60,2,    24.70,2,   2133.3,2,   2278.0,2,  -999.00,9,  -999.00,9,     0.33,2,   3.36668602
  35MF19980121,  OISO,    10,  2,     24,19980203,-50.6800,  68.4000, 1615,    102.8,   3.3440,  33.8550,2,-999.0000,9,    310.4,2,   -999.0,9,  -999.00,9,  -999.00,9,   -999.0,9,   -999.0,9,  -999.00,9,  -999.00,9,  -999.00,9,    3.3375886
  35MF19980121,  OISO,    10,  2,      8,19980203,-50.6800,  68.4000, 1615,    112.4,   3.0500,  33.8580,2,-999.0000,9,    308.6,2,   -999.0,9,     4.40,2,    25.40,2,   2138.1,2,   2279.3,2,  -999.00,9,  -999.00,9,     0.28,2,   3.04324848
  35MF19980121,  OISO,    10,  2,      7,19980203,-50.6800,  68.4000, 1615,    121.9,   2.4260,  33.8740,2,-999.0000,9,    312.3,2,   -999.0,9,    11.60,2,    26.40,2,   2142.8,2,   2279.3,2,  -999.00,9,  -999.00,9,     0.29,2,   2.41928552
  35MF19980121,  OISO,    10,  2,      6,19980203,-50.6800,  68.4000, 1615,    130.0,   2.0740,  33.8860,2,-999.0000,9,    313.2,2,   -999.0,9,    15.20,2,    27.40,2,   2142.9,2,   2279.8,2,  -999.00,9,  -999.00,9,     0.12,2,   2.06719983
  35MF19980121,  OISO,    10,  2,      5,19980203,-50.6800,  68.4000, 1615,    146.3,   1.9430,  33.8980,2,-999.0000,9,    310.9,2,   -999.0,9,    17.00,2,    28.00,2,   2146.8,2,   2278.8,2,  -999.00,9,  -999.00,9,  -999.00,9,   1.93548546
  35MF19980121,  OISO,    10,  2,      4,19980203,-50.6800,  68.4000, 1615,    195.2,   1.9310,  33.9680,2,-999.0000,9,    293.1,2,   -999.0,9,    24.40,2,    29.40,2,   2162.8,2,   2283.4,2,  -999.00,9,  -999.00,9,  -999.00,9,    1.9208874
  35MF19980121,  OISO,    10,  2,      3,19980203,-50.6800,  68.4000, 1615,    799.2,   2.3370,  34.5830,2,  34.5805,2,    178.4,2,    175.4,2,    70.30,2,    34.30,2,   2249.2,2,   2332.4,2,  -999.00,9,  -999.00,9,  -999.00,9,   2.28807999
  35MF19980121,  OISO,    10,  2,      2,19980203,-50.6800,  68.4000, 1615,   1604.3,   1.7510,  34.7590,2,-999.0000,9,    200.0,2,   -999.0,9,    91.80,2,    30.40,2,   2243.7,2,   2349.2,2,  -999.00,9,  -999.00,9,  -999.00,9,   1.64927462
  35MF19980121,  OISO,    10,  2,      1,19980203,-50.6800,  68.4000, 1615,   1605.0,   1.7510,  34.7590,2,  34.7531,2,    200.0,2,    201.7,2,  -999.00,9,  -999.00,9,   2240.5,2,   2349.3,2,  -999.00,9,  -999.00,9,  -999.00,9,   1.64923908
  35MF19980121,  OISO,    11,  1,     18,19980204,-56.5000,  62.9800, 4839,     11.8,   3.2030,  33.8840,2,  33.8809,2,    326.4,2,    322.4,2,     6.90,2,    24.20,2,   2129.1,2,   2283.6,2,  -999.00,9,  -999.00,9,     0.28,2,   3.20228417
  35MF19980121,  OISO,    11,  1,     17,19980204,-56.5000,  62.9800, 4839,     24.9,   3.2050,  33.8840,2,-999.0000,9,    325.5,2,   -999.0,9,     6.40,2,    23.80,2,   2138.4,2,   2293.0,2,     1.45,2,    -0.19,2,     0.32,2,   3.20349006
  35MF19980121,  OISO,    11,  1,     16,19980204,-56.5000,  62.9800, 4839,     34.1,   3.1970,  33.8850,2,-999.0000,9,    324.6,2,   -999.0,9,  -999.00,9,  -999.00,9,   -999.0,9,   -999.0,9,  -999.00,9,  -999.00,9,     0.34,2,   3.19493072
  35MF19980121,  OISO,    11,  1,     15,19980204,-56.5000,  62.9800, 4839,     43.3,   3.2010,  33.8850,2,-999.0000,9,    324.1,2,   -999.0,9,     6.70,2,    24.70,2,   2131.0,2,   2286.2,2,  -999.00,9,  -999.00,9,     0.37,2,   3.19836763
  35MF19980121,  OISO,    11,  1,     14,19980204,-56.5000,  62.9800, 4839,     53.3,   3.1940,  33.8850,2,  33.8807,2,    323.2,2,    322.5,2,     6.90,2,    24.70,2,   2129.9,2,   2291.1,2,     1.39,2,    -0.26,2,  -999.00,9,   3.19075621
  35MF19980121,  OISO,    11,  1,     13,19980204,-56.5000,  62.9800, 4839,     78.0,   2.7830,  33.8930,2,-999.0000,9,    321.5,2,   -999.0,9,    10.70,2,    25.20,2,   2137.6,2,   2286.1,2,  -999.00,9,  -999.00,9,     0.47,2,   2.77849803
  35MF19980121,  OISO,    11,  1,     12,19980204,-56.5000,  62.9800, 4839,    106.0,   1.3300,  33.9230,2,  33.9147,2,    324.0,2,    327.8,2,    24.50,2,    27.30,2,   2152.5,2,   2289.7,2,     1.27,2,    -0.19,2,     0.07,2,   1.32512778
  35MF19980121,  OISO,    11,  1,     11,19980204,-56.5000,  62.9800, 4839,    129.0,   1.2580,  33.9300,2,-999.0000,9,    323.2,2,   -999.0,9,    25.50,2,    27.30,2,   2156.1,2,   2287.0,2,  -999.00,9,  -999.00,9,     0.05,2,   1.25211776
  35MF19980121,  OISO,    11,  1,     10,19980204,-56.5000,  62.9800, 4839,    150.9,   1.1860,  33.9390,2,-999.0000,9,    323.2,2,   -999.0,9,    26.60,2,    27.40,2,   -999.0,9,   -999.0,9,     1.38,2,    -0.10,2,  -999.00,9,   1.17918192
  35MF19980121,  OISO,    11,  1,     24,19980204,-56.5000,  62.9800, 4839,    202.5,   1.1270,  33.9980,2,  33.9918,2,    309.5,2,    309.6,2,    31.90,2,    29.30,2,   -999.0,9,   -999.0,9,  -999.00,9,  -999.00,9,  -999.00,9,   1.11783631
  35MF19980121,  OISO,    11,  1,      9,19980204,-56.5000,  62.9800, 4839,    202.9,   1.1500,  34.0000,2,-999.0000,9,    309.7,2,   -999.0,9,  -999.00,9,  -999.00,9,   2171.6,2,   2293.7,2,  -999.00,9,  -999.00,9,  -999.00,9,    1.1407741
  35MF19980121,  OISO,    11,  1,      8,19980204,-56.5000,  62.9800, 4839,    252.8,   1.9750,  34.1910,2,-999.0000,9,    268.5,2,   -999.0,9,    42.50,2,    32.80,2,   2202.2,2,   2301.7,2,  -999.00,9,  -999.00,9,  -999.00,9,   1.96158717
  35MF19980121,  OISO,    11,  1,      7,19980204,-56.5000,  62.9800, 4839,    303.2,   2.1310,  34.2800,2,-999.0000,9,    242.6,2,   -999.0,9,    50.20,2,    34.00,2,   2219.6,2,   2305.2,2,     0.75,2,    -0.05,2,  -999.00,9,   2.11434908
  35MF19980121,  OISO,    11,  1,      6,19980204,-56.5000,  62.9800, 4839,    403.3,   2.1790,  34.4150,2,-999.0000,9,    204.1,2,   -999.0,9,    62.40,2,    35.00,2,   2240.0,2,   2318.9,2,  -999.00,9,  -999.00,9,  -999.00,9,   2.15625756
  35MF19980121,  OISO,    11,  1,      5,19980204,-56.5000,  62.9800, 4839,    511.7,   2.2180,  34.5080,2,  34.5021,2,    183.4,2,    178.8,2,    69.40,2,    34.80,2,   2247.7,2,   2326.8,2,     0.38,2,     0.12,2,  -999.00,9,   2.18844157
  35MF19980121,  OISO,    11,  1,      4,19980204,-56.5000,  62.9800, 4839,    599.1,   2.2270,  34.5570,2,-999.0000,9,    177.7,2,   -999.0,9,    71.90,2,    34.60,2,   2252.4,2,   2336.3,2,  -999.00,9,  -999.00,9,  -999.00,9,   2.19185868
  35MF19980121,  OISO,    11,  1,      3,19980204,-56.5000,  62.9800, 4839,    801.6,   2.2520,  34.6480,2,-999.0000,9,    180.6,2,   -999.0,9,    75.20,2,    33.30,2,   2250.4,2,   2341.1,2,  -999.00,9,  -999.00,9,  -999.00,9,   2.20337089
  35MF19980121,  OISO,    11,  1,      1,19980204,-56.5000,  62.9800, 4839,   1006.0,   2.1960,  34.7100,2,  34.7048,2,    196.6,2,    185.9,2,  -999.00,9,  -999.00,9,   2246.3,2,   2343.3,2,     0.31,2,     0.00,2,  -999.00,9,   2.13364503
  35MF19980121,  OISO,    11,  2,     17,19980204,-56.5000,  62.9800, 4839,   1006.8,   2.2170,  34.7100,2,  34.7309,2,    182.1,2,    185.5,2,    75.90,2,    30.80,2,   2245.2,2,   2345.1,2,  -999.00,9,  -999.00,9,  -999.00,9,   2.15437826
  35MF19980121,  OISO,    11,  1,      2,19980204,-56.5000,  62.9800, 4839,   1007.5,   2.1950,  34.7110,2,-999.0000,9,    196.7,2,   -999.0,9,    76.70,2,    31.80,2,   2247.5,2,   2344.8,2,  -999.00,9,  -999.00,9,  -999.00,9,   2.13254044