BOTTLE,20220815CCHSIOAMB
EXPOCODE,SECT_ID,STNNBR,CASTNO,BTLNBR,DATE,LATITUDE,LONGITUDE,DEPTH,CTDPRS,CTDTMP,CTDSAL,CTDSAL_FLAG_W,SALNTY,SALNTY_FLAG_W,CTDOXY,CTDOXY_FLAG_W,OXYGEN,OXYGEN_FLAG_W,SILCAT,SILCAT_FLAG_W,NITRAT,NITRAT_FLAG_W,TCARBN,TCARBN_FLAG_W,ALKALI,ALKALI_FLAG_W,DELC13,DELC13_FLAG_W,DELO18,DELO18_FLAG_W,CHLORA,CHLORA_FLAG_W,THETA
,,,,,,,,METERS,DBARS,ITS-90,PSS-78,,PSS-78,,UMOL/KG,,UMOL/KG,,UMOL/KG,,UMOL/KG,,UMOL/KG,,UMOL/KG,,O/OO,,O/OO,,UG/L,,DEGC
  35MF19980121,  OISO,     5,  1,     19,19980124,-42.5000,  53.0000, 3741,      0.8,  12.3430,  33.8280,2,-999.0000,9,   -999.0,9,   -999.0,9,  -999.00,9,  -999.00,9,   -999.0,9,   -999.0,9,  -999.00,9,  -999.00,9,  -999.00,9,   12.3428984
  35MF19980121,  OISO,     5,  1,     20,19980124,-42.5000,  53.0000, 3741,      1.6,  12.3370,  33.8290,2,  33.8314,2,   -999.0,9,    273.9,2,     0.40,2,    11.90,2,   2053.7,2,   2269.5,2,     2.17,2,    -0.10,2,     0.25,2,   12.3367955
  35MF19980121,  OISO,     5,  1,     18,19980124,-42.5000,  53.0000, 3741,     10.3,  12.3430,  33.8290,2,-999.0000,9,   -999.0,9,   -999.0,9,     0.40,2,    11.90,2,   2052.3,2,   2271.3,2,  -999.00,9,  -999.00,9,     0.28,2,   12.3416577
  35MF19980121,  OISO,     5,  1,     17,19980124,-42.5000,  53.0000, 3741,     18.4,  12.3290,  33.8290,2,  33.8320,2,   -999.0,9,    274.0,2,     0.40,2,    11.90,2,   2052.1,2,   2275.6,2,  -999.00,9,    -0.08,2,     0.27,2,    12.326607
  35MF19980121,  OISO,     5,  1,     16,19980124,-42.5000,  53.0000, 3741,     28.9,  12.2480,  33.8300,2,-999.0000,9,   -999.0,9,   -999.0,9,     0.40,2,    11.90,2,   2053.4,2,   2270.5,2,  -999.00,9,  -999.00,9,     0.28,2,   12.2442532
  35MF19980121,  OISO,     5,  1,     15,19980124,-42.5000,  53.0000, 3741,     39.7,  12.1190,  33.8330,2,-999.0000,9,   -999.0,9,   -999.0,9,     0.40,2,    12.10,2,   2053.7,2,   2270.7,2,  -999.00,9,  -999.00,9,     0.33,2,   12.1138877
  35MF19980121,  OISO,     5,  1,     14,19980124,-42.5000,  53.0000, 3741,     51.1,  10.8000,  33.8370,2,  33.8419,2,   -999.0,9,    293.3,2,     0.40,2,    13.40,2,   2061.0,2,   2268.3,2,     2.14,2,    -0.28,2,     0.38,2,   10.7939035
  35MF19980121,  OISO,     5,  1,     13,19980124,-42.5000,  53.0000, 3741,     73.6,   8.1550,  33.8680,2,-999.0000,9,   -999.0,9,   -999.0,9,     0.90,2,    16.00,2,   2083.2,2,   2272.6,2,  -999.00,9,  -999.00,9,     0.44,2,   8.14764727
  35MF19980121,  OISO,     5,  1,     12,19980124,-42.5000,  53.0000, 3741,    101.7,   6.2310,  33.9180,2,-999.0000,9,   -999.0,9,   -999.0,9,     3.80,2,    19.00,2,   2107.9,2,   2272.0,2,  -999.00,9,    -0.05,2,     0.35,2,   6.22231698
  35MF19980121,  OISO,     5,  1,     11,19980124,-42.5000,  53.0000, 3741,    126.1,   5.4380,  33.9280,2,-999.0000,9,   -999.0,9,   -999.0,9,     6.30,2,    21.20,2,   2117.1,2,   2279.9,2,  -999.00,9,  -999.00,9,     0.11,2,   5.42798779
  35MF19980121,  OISO,     5,  1,     10,19980124,-42.5000,  53.0000, 3741,    153.4,   4.9610,  33.9690,2,-999.0000,9,   -999.0,9,   -999.0,9,     8.00,2,    21.80,2,   2122.7,2,   2275.6,2,  -999.00,9,  -999.00,9,  -999.00,9,   4.94935126
  35MF19980121,  OISO,     5,  1,      9,19980124,-42.5000,  53.0000, 3741,    200.9,   4.6060,  34.0160,2,  34.0176,2,   -999.0,9,    284.4,2,    10.40,2,    23.60,2,   2134.4,2,   2297.9,2,     1.35,2,    -0.13,2,  -999.00,9,   4.59122193
  35MF19980121,  OISO,     5,  1,      8,19980124,-42.5000,  53.0000, 3741,    264.0,   4.8860,  34.1800,2,-999.0000,9,   -999.0,9,   -999.0,9,  -999.00,9,  -999.00,9,   -999.0,9,   -999.0,9,  -999.00,9,  -999.00,9,  -999.00,9,   4.86580118
  35MF19980121,  OISO,     5,  1,      7,19980124,-42.5000,  53.0000, 3741,    310.5,   4.4770,  34.1910,2,-999.0000,9,   -999.0,9,   -999.0,9,    16.00,2,    27.30,2,   2157.4,2,   2286.7,2,     1.14,2,    -0.21,2,  -999.00,9,   4.45413082
  35MF19980121,  OISO,     5,  1,      6,19980124,-42.5000,  53.0000, 3741,    415.6,   3.9160,  34.2050,2,-999.0000,9,   -999.0,9,   -999.0,9,    21.20,2,    29.10,2,   2170.4,2,   2304.3,2,  -999.00,9,  -999.00,9,  -999.00,9,   3.88688162
  35MF19980121,  OISO,     5,  1,      5,19980124,-42.5000,  53.0000, 3741,    512.1,   3.4570,  34.2220,2,  34.2214,2,   -999.0,9,    237.2,2,    27.70,2,    30.80,2,   2180.0,2,   2297.6,2,     0.96,2,    -0.06,2,  -999.00,9,   3.42259132
  35MF19980121,  OISO,     5,  1,      4,19980124,-42.5000,  53.0000, 3741,    621.9,   3.0940,  34.2560,2,-999.0000,9,   -999.0,9,   -999.0,9,    35.50,2,    32.70,2,   2183.4,2,   2305.7,2,  -999.00,9,  -999.00,9,  -999.00,9,   3.05342419
  35MF19980121,  OISO,     5,  1,      3,19980124,-42.5000,  53.0000, 3741,    892.1,   2.7670,  34.4300,2,-999.0000,9,   -999.0,9,   -999.0,9,    55.10,2,    34.50,2,   2228.7,2,   2326.4,2,  -999.00,9,  -999.00,9,  -999.00,9,   2.70892244
  35MF19980121,  OISO,     5,  1,      1,19980124,-42.5000,  53.0000, 3741,    897.9,   2.7640,  34.4370,2,  34.4393,2,   -999.0,9,    188.8,2,    55.80,2,    34.50,2,   2232.5,2,   2338.7,2,     0.39,2,    -0.06,2,  -999.00,9,   2.70551031
  35MF19980121,  OISO,     6,  1,     19,19980124,-45.0000,  52.9800, 3412,      0.9,   9.4010,  33.6660,2,-999.0000,9,    292.1,2,   -999.0,9,  -999.00,9,  -999.00,9,   -999.0,9,   -999.0,9,  -999.00,9,  -999.00,9,  -999.00,9,   9.40090129
  35MF19980121,  OISO,     6,  1,     20,19980124,-45.0000,  52.9800, 3412,      1.6,   9.4100,  33.6450,2,  33.6670,2,    291.6,2,    287.8,2,     0.90,2,    14.30,2,   2063.7,2,   2286.8,2,     1.90,2,    -0.37,2,     0.52,2,   9.40982741
  35MF19980121,  OISO,     6,  1,     18,19980124,-45.0000,  52.9800, 3412,     10.2,   9.3860,  33.7030,2,-999.0000,9,    291.6,2,   -999.0,9,     0.90,2,    14.10,2,   2064.9,2,   2278.0,2,  -999.00,9,  -999.00,9,     0.47,2,   9.38489464
  35MF19980121,  OISO,     6,  1,     17,19980124,-45.0000,  52.9800, 3412,     20.2,   9.3780,  33.7040,2,  33.7061,2,    291.2,2,    288.1,2,     0.90,2,    14.00,2,   2069.0,2,   -999.0,9,     2.17,2,    -0.10,2,     0.53,2,   9.37581192
  35MF19980121,  OISO,     6,  1,     16,19980124,-45.0000,  52.9800, 3412,     30.1,   9.3580,  33.7060,2,-999.0000,9,    291.0,2,   -999.0,9,     0.90,2,    13.90,2,   2066.6,2,   2271.4,2,  -999.00,9,  -999.00,9,     0.53,2,   9.35474168
  35MF19980121,  OISO,     6,  1,     15,19980124,-45.0000,  52.9800, 3412,     39.4,   9.3030,  33.7110,2,-999.0000,9,    291.1,2,   -999.0,9,     0.90,2,    14.00,2,   2067.0,2,   2281.4,2,  -999.00,9,  -999.00,9,     0.51,2,   9.29873964
  35MF19980121,  OISO,     6,  1,     14,19980124,-45.0000,  52.9800, 3412,     47.2,   7.8880,  33.7460,2,  33.7516,2,    298.6,2,    298.2,2,     0.90,2,    15.10,2,   2083.9,2,   -999.0,9,     1.94,2,    -0.23,2,     0.57,2,    7.8833944
  35MF19980121,  OISO,     6,  1,     13,19980124,-45.0000,  52.9800, 3412,     74.3,   5.2600,  33.8220,2,-999.0000,9,    298.0,2,   -999.0,9,     4.10,2,    19.20,2,   2115.2,2,   2294.2,2,  -999.00,9,  -999.00,9,     0.31,2,   5.25424468
  35MF19980121,  OISO,     6,  1,     12,19980124,-45.0000,  52.9800, 3412,     98.2,   4.1300,  33.8260,2,-999.0000,9,    302.0,2,   -999.0,9,     8.70,2,    21.40,2,   2128.2,2,   2292.1,2,     1.49,2,    -0.30,2,     0.13,2,   4.12325763
  35MF19980121,  OISO,     6,  1,     11,19980124,-45.0000,  52.9800, 3412,    123.0,   3.8310,  33.8280,2,-999.0000,9,    304.4,2,   -999.0,9,    10.90,2,    22.00,2,   2132.1,2,   2305.4,2,  -999.00,9,  -999.00,9,     0.09,2,   3.82282743
  35MF19980121,  OISO,     6,  1,     10,19980124,-45.0000,  52.9800, 3412,    153.9,   3.5640,  33.8710,2,-999.0000,9,    297.6,2,   -999.0,9,    12.40,2,    23.70,2,   2144.3,2,   -999.0,9,  -999.00,9,  -999.00,9,  -999.00,9,   3.55405661
  35MF19980121,  OISO,     6,  1,      9,19980124,-45.0000,  52.9800, 3412,    203.2,   3.1200,  33.9250,2,  33.9233,2,    292.0,2,    298.7,2,    16.00,2,    24.90,2,   2153.3,2,   -999.0,9,     1.30,2,    -0.25,2,  -999.00,9,   3.10750153
  35MF19980121,  OISO,     6,  1,      8,19980124,-45.0000,  52.9800, 3412,    252.4,   3.2040,  34.0630,2,-999.0000,9,    266.5,2,   -999.0,9,    19.20,2,    27.90,2,   2159.9,2,   -999.0,9,  -999.00,9,  -999.00,9,  -999.00,9,   3.18814201
  35MF19980121,  OISO,     6,  1,      7,19980124,-45.0000,  52.9800, 3412,    303.3,   3.1680,  34.1440,2,-999.0000,9,    251.4,2,   -999.0,9,    22.20,2,    28.80,2,   2173.0,2,   2316.9,2,     0.90,2,    -0.03,2,  -999.00,9,   3.14886221
  35MF19980121,  OISO,     6,  1,      6,19980124,-45.0000,  52.9800, 3412,    403.3,   2.6890,  34.1790,2,-999.0000,9,    236.7,2,   -999.0,9,    30.50,2,    30.80,2,   2190.5,2,   2333.0,2,  -999.00,9,  -999.00,9,  -999.00,9,   2.66475817
  35MF19980121,  OISO,     6,  1,      5,19980124,-45.0000,  52.9800, 3412,    503.1,   2.7930,  34.2760,2,  34.2763,2,    214.0,2,    216.0,2,    39.70,2,    32.60,2,   2208.0,2,   2325.0,2,     0.56,2,     0.16,2,  -999.00,9,   2.76184929
  35MF19980121,  OISO,     6,  1,      4,19980124,-45.0000,  52.9800, 3412,    595.1,   2.6580,  34.3280,2,-999.0000,9,    201.4,2,   -999.0,9,    47.20,2,    33.70,2,   2224.3,2,   2336.8,2,  -999.00,9,  -999.00,9,  -999.00,9,   2.62129677
  35MF19980121,  OISO,     6,  1,      3,19980124,-45.0000,  52.9800, 3412,    790.3,   2.5140,  34.4700,2,-999.0000,9,    183.0,2,   -999.0,9,    60.90,2,    34.40,2,   2243.3,2,   -999.0,9,  -999.00,9,  -999.00,9,  -999.00,9,   2.46472328
  35MF19980121,  OISO,     6,  1,      2,19980124,-45.0000,  52.9800, 3412,    994.1,   2.4600,  34.5860,2,-999.0000,9,    179.4,2,   -999.0,9,  -999.00,9,  -999.00,9,   -999.0,9,   -999.0,9,  -999.00,9,  -999.00,9,  -999.00,9,    2.3966114
  35MF19980121,  OISO,     6,  1,      1,19980124,-45.0000,  52.9800, 3412,    995.5,   2.4590,  34.5870,2,  34.5882,2,    179.4,2,    178.0,2,    68.00,2,    34.00,2,   2250.2,2,   2363.3,2,     0.44,2,     0.02,2,  -999.00,9,   2.39551719
  35MF19980121,  OISO,     7,  1,     19,19980131,-47.6700,  58.0300, 4493,      7.2,   7.8200,  33.7110,2,  33.7108,2,    299.1,2,    295.3,2,     1.60,2,    17.70,2,   2085.9,2,   2267.6,2,     1.69,2,    -0.31,2,     0.27,2,   7.81930318
  35MF19980121,  OISO,     7,  1,     18,19980131,-47.6700,  58.0300, 4493,      9.3,   7.8200,  33.7120,2,-999.0000,9,    299.5,2,   -999.0,9,     1.60,2,    17.60,2,   2082.9,2,   2266.5,2,  -999.00,9,  -999.00,9,     0.26,2,   7.81910298
  35MF19980121,  OISO,     7,  1,     17,19980131,-47.6700,  58.0300, 4493,     18.6,   7.7870,  33.7130,2,  33.7145,2,    298.9,2,    295.8,2,     1.70,2,    17.70,2,   2085.0,2,   2268.1,2,     1.73,2,    -0.31,2,     0.28,2,   7.78520362
  35MF19980121,  OISO,     7,  1,     16,19980131,-47.6700,  58.0300, 4493,     30.6,   7.4630,  33.7220,2,-999.0000,9,    300.5,2,   -999.0,9,     2.00,2,    18.10,2,   2088.7,2,   2267.3,2,  -999.00,9,  -999.00,9,     0.29,2,   7.46012271
  35MF19980121,  OISO,     7,  1,     15,19980131,-47.6700,  58.0300, 4493,     40.2,   7.0460,  33.7330,2,-999.0000,9,    301.4,2,   -999.0,9,     2.50,2,    18.80,2,   2092.4,2,   2270.1,2,  -999.00,9,  -999.00,9,     0.29,2,   7.04233842
  35MF19980121,  OISO,     7,  1,     14,19980131,-47.6700,  58.0300, 4493,     52.9,   6.8730,  33.7330,2,  33.7301,2,    301.2,2,    300.8,2,     3.20,2,    19.50,2,   2096.6,2,   2269.5,2,     1.68,2,    -0.23,2,     0.23,2,   6.86825022
  35MF19980121,  OISO,     7,  1,     13,19980131,-47.6700,  58.0300, 4493,     75.3,   6.6390,  33.7460,2,-999.0000,9,    298.7,2,   -999.0,9,     3.30,2,    19.60,2,   2100.7,2,   2273.3,2,  -999.00,9,  -999.00,9,     0.27,2,    6.6323639
  35MF19980121,  OISO,     7,  1,     12,19980131,-47.6700,  58.0300, 4493,    103.5,   4.3290,  33.8350,2,-999.0000,9,    298.6,2,   -999.0,9,     6.80,2,    23.00,2,   2126.9,2,   2275.5,2,     1.46,2,    -0.08,2,     0.17,2,   4.32172673
  35MF19980121,  OISO,     7,  1,     11,19980131,-47.6700,  58.0300, 4493,    131.2,   3.9790,  33.8360,2,-999.0000,9,    301.2,2,   -999.0,9,     9.20,2,    24.00,2,   2127.0,2,   2274.0,2,  -999.00,9,  -999.00,9,     0.09,2,   3.97011504
  35MF19980121,  OISO,     7,  1,     10,19980131,-47.6700,  58.0300, 4493,    149.1,   4.0070,  33.8690,2,  33.8670,2,    296.4,2,    302.7,2,     9.90,2,    24.40,2,   2128.6,2,   2272.5,2,     1.52,2,    -0.07,2,  -999.00,9,   3.99683936
  35MF19980121,  OISO,     7,  1,      9,19980131,-47.6700,  58.0300, 4493,    202.9,   3.6760,  33.9520,2,-999.0000,9,    283.1,2,   -999.0,9,  -999.00,9,  -999.00,9,   -999.0,9,   -999.0,9,  -999.00,9,  -999.00,9,  -999.00,9,   3.66259977
  35MF19980121,  OISO,     7,  1,      8,19980131,-47.6700,  58.0300, 4493,    249.2,   3.7130,  34.0590,2,-999.0000,9,    264.1,2,   -999.0,9,    16.80,2,    27.80,2,   2155.6,2,   -999.0,9,  -999.00,9,  -999.00,9,  -999.00,9,   3.69633107
  35MF19980121,  OISO,     7,  1,      7,19980131,-47.6700,  58.0300, 4493,    298.8,   3.5290,  34.1220,2,-999.0000,9,    254.1,2,   -999.0,9,    19.60,2,    29.10,2,   2163.8,2,   2284.2,2,     1.12,2,    -0.06,2,  -999.00,9,    3.5093046
  35MF19980121,  OISO,     7,  1,      6,19980131,-47.6700,  58.0300, 4493,    396.5,   2.8720,  34.1620,2,-999.0000,9,    244.8,2,   -999.0,9,    26.80,2,    31.10,2,   2179.3,2,   2288.7,2,  -999.00,9,  -999.00,9,  -999.00,9,   2.84761711
  35MF19980121,  OISO,     7,  1,      5,19980131,-47.6700,  58.0300, 4493,    492.2,   2.6820,  34.2420,2,  34.2371,2,    219.4,2,    222.6,2,    38.00,2,    33.40,2,   2203.4,2,   2301.6,2,     0.70,2,     0.08,2,  -999.00,9,   2.65203935
  35MF19980121,  OISO,     7,  1,      4,19980131,-47.6700,  58.0300, 4493,    600.4,   2.6400,  34.3310,2,-999.0000,9,    201.2,2,   -999.0,9,    48.30,2,    34.70,2,   2221.6,2,   2311.1,2,  -999.00,9,  -999.00,9,  -999.00,9,    2.6030248
  35MF19980121,  OISO,     7,  1,      3,19980131,-47.6700,  58.0300, 4493,    806.2,   2.5090,  34.4530,2,-999.0000,9,    185.2,2,   -999.0,9,    60.80,2,    35.30,2,   2237.7,2,   2324.2,2,  -999.00,9,  -999.00,9,  -999.00,9,   2.45868233
  35MF19980121,  OISO,     7,  1,      2,19980131,-47.6700,  58.0300, 4493,   1006.1,   2.4660,  34.5590,2,-999.0000,9,    179.8,2,   -999.0,9,  -999.00,9,  -999.00,9,   2248.6,2,   -999.0,9,  -999.00,9,  -999.00,9,  -999.00,9,   2.40175049
  35MF19980121,  OISO,     7,  1,      1,19980131,-47.6700,  58.0300, 4493,   1006.2,   2.4640,  34.5590,2,  34.5535,2,    179.9,2,    177.7,2,    67.40,2,    34.70,2,   2245.8,2,   2332.5,2,     0.39,2,    -0.07,2,  -999.00,9,   2.39977016
  35MF19980121,  OISO,     8,  1,     19,19980131,-48.0000,  60.0000, 4259,     10.6,   7.1030,  33.6950,2,-999.0000,9,    305.0,2,   -999.0,9,     1.60,2,    20.00,2,   2096.3,2,   2267.4,2,     1.62,2,    -0.18,2,     0.15,2,   7.10203659
  35MF19980121,  OISO,     8,  1,     20,19980131,-48.0000,  60.0000, 4259,     10.7,   7.1030,  33.6950,2,  33.6963,2,    304.8,2,    301.5,2,  -999.00,9,  -999.00,9,   -999.0,9,   -999.0,9,  -999.00,9,  -999.00,9,  -999.00,9,   7.10202198
  35MF19980121,  OISO,     8,  1,     18,19980131,-48.0000,  60.0000, 4259,     19.5,   7.1040,  33.6950,2,  33.6948,2,    304.6,2,    300.9,2,     1.60,2,    20.10,2,   2094.6,2,   2266.3,2,  -999.00,9,  -999.00,9,     0.13,2,   7.10222224
  35MF19980121,  OISO,     8,  1,     17,19980131,-48.0000,  60.0000, 4259,     29.5,   7.1010,  33.6960,2,-999.0000,9,    304.1,2,   -999.0,9,     1.60,2,    20.10,2,   2096.4,2,   2269.1,2,  -999.00,9,  -999.00,9,     0.15,2,   7.09830412
  35MF19980121,  OISO,     8,  1,     16,19980131,-48.0000,  60.0000, 4259,     38.1,   7.0740,  33.6990,2,-999.0000,9,    303.9,2,   -999.0,9,     1.60,2,    20.10,2,   2095.1,2,   2267.0,2,  -999.00,9,  -999.00,9,     0.19,2,   7.07052568
  35MF19980121,  OISO,     8,  1,     15,19980131,-48.0000,  60.0000, 4259,     50.0,   6.8920,  33.7200,2,  33.7120,2,    304.4,2,    303.1,2,     1.90,2,    20.40,2,   2097.3,2,   2267.8,2,     1.88,2,    -0.37,2,  -999.00,9,   6.88751183
  35MF19980121,  OISO,     8,  1,     14,19980131,-48.0000,  60.0000, 4259,     74.9,   5.5620,  33.7570,2,-999.0000,9,    306.5,2,   -999.0,9,     3.90,2,    21.50,2,   2108.2,2,   2271.6,2,  -999.00,9,  -999.00,9,     0.33,2,   5.55603269
  35MF19980121,  OISO,     8,  1,     13,19980131,-48.0000,  60.0000, 4259,    100.4,   4.6660,  33.7840,2,-999.0000,9,    304.1,2,   -999.0,9,     7.40,2,    22.90,2,   2118.3,2,   2271.1,2,     1.65,2,    -0.31,2,     0.41,2,   4.65868251
  35MF19980121,  OISO,     8,  1,     12,19980131,-48.0000,  60.0000, 4259,    124.4,   3.9860,  33.8070,2,-999.0000,9,    303.4,2,   -999.0,9,     9.90,2,    24.10,2,   2120.5,2,   2266.1,2,  -999.00,9,  -999.00,9,     0.21,2,   3.97758063
  35MF19980121,  OISO,     8,  1,     11,19980131,-48.0000,  60.0000, 4259,    147.8,   3.7200,  33.8240,2,-999.0000,9,    300.1,2,   -999.0,9,    10.60,2,    24.60,2,   2128.8,2,   2272.7,2,  -999.00,9,  -999.00,9,     0.11,2,   3.71028094
  35MF19980121,  OISO,     8,  1,     10,19980131,-48.0000,  60.0000, 4259,    197.8,   3.1590,  33.8550,2,  33.8535,2,    299.5,2,    308.0,2,    13.60,2,    26.00,2,   2134.6,2,   2275.9,2,     1.64,2,    -0.26,2,  -999.00,9,   3.14679962
  35MF19980121,  OISO,     8,  1,      9,19980131,-48.0000,  60.0000, 4259,    200.6,   3.1380,  33.8580,2,-999.0000,9,    299.4,2,   -999.0,9,  -999.00,9,  -999.00,9,   -999.0,9,   -999.0,9,  -999.00,9,  -999.00,9,  -999.00,9,   3.12565873
  35MF19980121,  OISO,     8,  1,      8,19980131,-48.0000,  60.0000, 4259,    249.9,   3.0430,  33.9980,2,-999.0000,9,    277.8,2,   -999.0,9,    17.80,2,    28.00,2,   2150.9,2,   2278.1,2,  -999.00,9,  -999.00,9,  -999.00,9,   3.02765667
  35MF19980121,  OISO,     8,  1,      7,19980131,-48.0000,  60.0000, 4259,    298.8,   3.0140,  34.0910,2,-999.0000,9,    258.4,2,   -999.0,9,    21.70,2,    30.00,2,   2166.5,2,   2282.6,2,  -999.00,9,    -0.19,2,  -999.00,9,   2.99555409
  35MF19980121,  OISO,     8,  1,      6,19980131,-48.0000,  60.0000, 4259,    402.5,   2.7070,  34.1750,2,-999.0000,9,    235.7,2,   -999.0,9,    30.70,2,    32.30,2,   2188.7,2,   2293.3,2,  -999.00,9,  -999.00,9,  -999.00,9,   2.68275198
  35MF19980121,  OISO,     8,  1,      5,19980131,-48.0000,  60.0000, 4259,    501.8,   2.6020,  34.2630,2,  34.2576,2,    212.4,2,   -999.0,9,    41.90,2,    34.20,2,   2208.6,2,   2301.8,2,     0.68,2,     0.11,2,  -999.00,9,   2.57171724
  35MF19980121,  OISO,     8,  1,      4,19980131,-48.0000,  60.0000, 4259,    602.0,   2.5050,  34.3420,2,-999.0000,9,    196.6,2,   -999.0,9,    51.60,2,    35.10,2,   2224.6,2,   2311.1,2,  -999.00,9,  -999.00,9,  -999.00,9,   2.46855717
  35MF19980121,  OISO,     8,  1,      3,19980131,-48.0000,  60.0000, 4259,    802.6,   2.4250,  34.4670,2,-999.0000,9,    181.4,2,   -999.0,9,    63.20,2,    35.70,2,   2243.6,2,   2327.1,2,  -999.00,9,  -999.00,9,  -999.00,9,    2.3754501
  35MF19980121,  OISO,     8,  1,      1,19980131,-48.0000,  60.0000, 4259,   1002.6,   2.4040,  34.5800,2,  34.6060,2,    176.4,2,    176.1,2,    70.00,2,    34.80,2,   2246.6,2,   -999.0,9,     0.47,2,     0.19,2,  -999.00,9,   2.34041114
  35MF19980121,  OISO,     8,  1,      2,19980131,-48.0000,  60.0000, 4259,   1002.8,   2.4040,  34.5800,2,-999.0000,9,    176.3,2,   -999.0,9,  -999.00,9,  -999.00,9,   2247.9,2,   2339.3,2,  -999.00,9,  -999.00,9,  -999.00,9,   2.34043915