BOTTLE,20220815CCHSIOAMB
EXPOCODE,SECT_ID,STNNBR,CASTNO,BTLNBR,DATE,LATITUDE,LONGITUDE,DEPTH,CTDPRS,CTDTMP,CTDSAL,CTDSAL_FLAG_W,SALNTY,SALNTY_FLAG_W,CTDOXY,CTDOXY_FLAG_W,OXYGEN,OXYGEN_FLAG_W,SILCAT,SILCAT_FLAG_W,NITRAT,NITRAT_FLAG_W,TCARBN,TCARBN_FLAG_W,ALKALI,ALKALI_FLAG_W,DELC13,DELC13_FLAG_W,DELO18,DELO18_FLAG_W,CHLORA,CHLORA_FLAG_W,THETA
,,,,,,,,METERS,DBARS,ITS-90,PSS-78,,PSS-78,,UMOL/KG,,UMOL/KG,,UMOL/KG,,UMOL/KG,,UMOL/KG,,UMOL/KG,,O/OO,,O/OO,,UG/L,,DEGC
  35MF19980121,  OISO,    11,  2,     16,19980204,-56.5000,  62.9800, 4839,   1228.7,   2.0950,  34.7430,2,-999.0000,9,    193.5,2,   -999.0,9,    77.40,2,    30.00,2,   2244.7,2,   2347.3,2,  -999.00,9,  -999.00,9,  -999.00,9,   2.01753348
  35MF19980121,  OISO,    11,  2,     15,19980204,-56.5000,  62.9800, 4839,   1430.3,   1.9500,  34.7570,2,-999.0000,9,    199.6,2,   -999.0,9,    79.80,2,    29.80,2,   2241.2,2,   2350.7,2,  -999.00,9,  -999.00,9,  -999.00,9,   1.85909879
  35MF19980121,  OISO,    11,  2,     14,19980204,-56.5000,  62.9800, 4839,   1633.7,   1.7740,  34.7600,2,-999.0000,9,    204.0,2,   -999.0,9,    82.90,2,    29.40,2,   2242.3,2,   2352.9,2,  -999.00,9,  -999.00,9,  -999.00,9,    1.6697342
  35MF19980121,  OISO,    11,  2,     13,19980204,-56.5000,  62.9800, 4839,   1837.9,   1.5680,  34.7530,2,-999.0000,9,    203.9,2,   -999.0,9,    88.50,2,    29.80,2,   -999.0,9,   -999.0,9,  -999.00,9,  -999.00,9,  -999.00,9,    1.4506461
  35MF19980121,  OISO,    11,  2,     12,19980204,-56.5000,  62.9800, 4839,   2042.8,   1.3870,  34.7440,2,  34.7375,2,    202.3,2,    205.6,2,    92.80,2,    30.20,2,   2244.0,2,   2356.1,2,     0.38,2,    -0.14,2,  -999.00,9,   1.25610986
  35MF19980121,  OISO,    11,  2,     11,19980204,-56.5000,  62.9800, 4839,   2536.2,   0.9150,  34.7140,2,-999.0000,9,    199.8,2,   -999.0,9,   108.20,2,    31.20,2,   2255.0,2,   2360.3,2,  -999.00,9,  -999.00,9,  -999.00,9,  0.751731109
  35MF19980121,  OISO,    11,  2,     10,19980204,-56.5000,  62.9800, 4839,   3037.5,   0.5080,  34.6900,2,  34.6936,2,    202.6,2,    211.6,2,   122.60,2,    32.30,2,   2259.9,2,   2360.4,2,  -999.00,9,  -999.00,9,  -999.00,9,  0.309742993
  35MF19980121,  OISO,    11,  2,      9,19980204,-56.5000,  62.9800, 4839,   3551.1,   0.2210,  34.6760,2,-999.0000,9,    213.3,2,   -999.0,9,  -999.00,9,  -999.00,9,   -999.0,9,   -999.0,9,  -999.00,9,  -999.00,9,  -999.00,9,-0.0175001901
  35MF19980121,  OISO,    11,  2,     24,19980204,-56.5000,  62.9800, 4839,   3551.7,   0.2210,  34.6760,2,-999.0000,9,    213.2,2,   -999.0,9,  -999.00,9,  -999.00,9,   2256.7,2,   2359.7,2,  -999.00,9,  -999.00,9,  -999.00,9,-0.0175533478
  35MF19980121,  OISO,    11,  2,      8,19980204,-56.5000,  62.9800, 4839,   4071.9,   0.0170,  34.6670,2,  34.6575,2,    225.1,2,    228.9,2,   130.40,2,    32.50,2,   2257.1,2,   2356.7,2,  -999.00,9,  -999.00,9,  -999.00,9, -0.266782485
  35MF19980121,  OISO,    11,  2,      7,19980204,-56.5000,  62.9800, 4839,   4275.0,  -0.0340,  34.6650,2,-999.0000,9,    229.3,2,   -999.0,9,   131.00,2,    32.80,2,   2255.1,2,   2358.3,2,  -999.00,9,  -999.00,9,  -999.00,9, -0.337095128
  35MF19980121,  OISO,    11,  2,      6,19980204,-56.5000,  62.9800, 4839,   4485.4,  -0.1040,  34.6620,2,-999.0000,9,    234.6,2,   -999.0,9,   133.20,2,    32.60,2,   2255.1,2,   2357.3,2,  -999.00,9,  -999.00,9,  -999.00,9, -0.426949419
  35MF19980121,  OISO,    11,  2,      5,19980204,-56.5000,  62.9800, 4839,   4592.2,  -0.1250,  34.6610,2,  34.6555,2,    237.1,2,    235.8,2,   133.80,2,    32.90,2,   2252.8,2,   2357.0,2,     0.44,2,  -999.00,9,  -999.00,9, -0.458614035
  35MF19980121,  OISO,    11,  2,      4,19980204,-56.5000,  62.9800, 4839,   4696.0,  -0.1500,  34.6600,2,-999.0000,9,    239.4,2,   -999.0,9,   135.50,2,    32.50,2,   2252.5,2,   2355.4,2,  -999.00,9,  -999.00,9,  -999.00,9, -0.494042568
  35MF19980121,  OISO,    11,  2,      3,19980204,-56.5000,  62.9800, 4839,   4797.1,  -0.1700,  34.6590,2,-999.0000,9,    242.3,2,   -999.0,9,   137.20,2,    32.60,2,   2251.9,2,   2356.0,2,  -999.00,9,  -999.00,9,  -999.00,9, -0.524416811
  35MF19980121,  OISO,    11,  2,      2,19980204,-56.5000,  62.9800, 4839,   4827.4,  -0.1820,  34.6580,2,-999.0000,9,    243.4,2,   -999.0,9,   137.50,2,    32.50,2,   2253.3,2,   2356.0,2,  -999.00,9,  -999.00,9,  -999.00,9,  -0.53934074
  35MF19980121,  OISO,    11,  2,      1,19980204,-56.5000,  62.9800, 4839,   4829.0,  -0.1820,  34.6580,2,  34.6512,2,    243.5,2,    239.3,2,  -999.00,9,  -999.00,9,   2253.1,2,   2357.8,2,  -999.00,9,  -999.00,9,  -999.00,9, -0.539463206
  35MF19980121,  OISO,    12,  1,     18,19980209,-47.0000,  71.6800, 1562,      7.7,   6.5240,  33.6880,2,-999.0000,9,    356.9,2,   -999.0,9,     1.60,2,    10.20,2,   2026.9,2,   2286.2,2,  -999.00,9,  -999.00,9,    18.32,2,   6.52333033
  35MF19980121,  OISO,    12,  1,     19,19980209,-47.0000,  71.6800, 1562,      8.9,   6.5230,  33.6880,2,  33.6869,2,    356.7,2,    354.3,2,     1.60,2,    10.20,2,   2026.3,2,   2285.5,2,  -999.00,9,    -0.36,2,    17.23,2,   6.52223244
  35MF19980121,  OISO,    12,  1,     17,19980209,-47.0000,  71.6800, 1562,     20.0,   6.5190,  33.6880,2,  33.6864,2,    353.7,2,    352.4,2,     1.60,2,    10.30,2,   2034.1,2,   2285.6,2,     2.23,2,    -0.26,2,    17.11,2,   6.51726817
  35MF19980121,  OISO,    12,  1,     16,19980209,-47.0000,  71.6800, 1562,     29.3,   6.5010,  33.6870,2,-999.0000,9,    353.4,2,   -999.0,9,     1.60,2,    10.50,2,   2030.9,2,   2287.8,2,  -999.00,9,  -999.00,9,    17.08,2,   6.49846334
  35MF19980121,  OISO,    12,  1,     15,19980209,-47.0000,  71.6800, 1562,     39.9,   5.9760,  33.6870,2,-999.0000,9,    316.8,2,   -999.0,9,     0.50,2,    16.60,2,   2082.5,2,   2279.6,2,  -999.00,9,  -999.00,9,     6.80,2,   5.97270637
  35MF19980121,  OISO,    12,  1,     14,19980209,-47.0000,  71.6800, 1562,     50.6,   5.6580,  33.7380,2,  33.7428,2,    307.2,2,    306.3,2,     0.50,2,    22.10,2,   2108.1,2,   2273.8,2,  -999.00,9,    -0.41,2,     0.15,2,   5.65394178
  35MF19980121,  OISO,    12,  1,     13,19980209,-47.0000,  71.6800, 1562,     75.4,   4.4120,  33.7930,2,-999.0000,9,    306.7,2,   -999.0,9,     0.00,2,    21.50,2,   2117.3,2,   2277.4,2,  -999.00,9,  -999.00,9,     1.12,2,    4.4066709
  35MF19980121,  OISO,    12,  1,     12,19980209,-47.0000,  71.6800, 1562,    101.8,   3.8930,  33.8400,2,-999.0000,9,    310.0,2,   -999.0,9,     0.00,2,    23.00,2,   2125.1,2,   2286.1,2,     1.25,2,    -0.37,2,     0.86,2,   3.88619885
  35MF19980121,  OISO,    12,  1,     11,19980209,-47.0000,  71.6800, 1562,    127.4,   3.2810,  33.8760,2,-999.0000,9,    306.6,2,   -999.0,9,     5.00,2,    24.80,2,   2139.2,2,   2285.3,2,  -999.00,9,  -999.00,9,     0.39,2,   3.27308616
  35MF19980121,  OISO,    12,  1,     10,19980209,-47.0000,  71.6800, 1562,    148.0,   2.9890,  33.8900,2,-999.0000,9,    298.8,2,   -999.0,9,    11.80,2,    26.10,2,   2142.3,2,   2283.1,2,  -999.00,9,  -999.00,9,  -999.00,9,   2.98012759
  35MF19980121,  OISO,    12,  1,     24,19980209,-47.0000,  71.6800, 1562,    201.1,   2.4390,  33.9510,2,-999.0000,9,    289.1,2,   -999.0,9,  -999.00,9,  -999.00,9,   -999.0,9,   -999.0,9,  -999.00,9,  -999.00,9,  -999.00,9,   2.42773565
  35MF19980121,  OISO,    12,  1,      9,19980209,-47.0000,  71.6800, 1562,    202.3,   2.4430,  33.9520,2,  33.9464,2,    289.6,2,    296.8,2,    25.80,2,    28.60,2,   2163.5,2,   2289.8,2,     1.08,2,    -0.14,2,  -999.00,9,   2.43166492
  35MF19980121,  OISO,    12,  1,      8,19980209,-47.0000,  71.6800, 1562,    239.9,   2.2650,  33.9970,2,-999.0000,9,    281.5,2,   -999.0,9,    29.60,2,    30.00,2,   2166.2,2,   2286.9,2,  -999.00,9,  -999.00,9,  -999.00,9,   2.25180853
  35MF19980121,  OISO,    12,  1,      7,19980209,-47.0000,  71.6800, 1562,    298.5,   2.3080,  34.1040,2,-999.0000,9,    251.3,2,   -999.0,9,    35.40,2,    35.00,2,   2184.3,2,   2290.3,2,     0.96,2,    -0.19,2,  -999.00,9,   2.29127846
  35MF19980121,  OISO,    12,  1,      6,19980209,-47.0000,  71.6800, 1562,    399.9,   2.2030,  34.2610,2,-999.0000,9,    216.4,2,   -999.0,9,    49.40,2,    34.20,2,   2213.0,2,   2307.1,2,  -999.00,9,  -999.00,9,  -999.00,9,   2.18049084
  35MF19980121,  OISO,    12,  1,      5,19980209,-47.0000,  71.6800, 1562,    501.0,   2.2380,  34.3990,2,  34.3938,2,    192.3,2,    191.1,2,    60.00,2,    35.20,2,   2233.2,2,   2318.1,2,  -999.00,9,    -0.09,2,  -999.00,9,   2.20911771
  35MF19980121,  OISO,    12,  1,      4,19980209,-47.0000,  71.6800, 1562,    598.4,   2.2850,  34.4650,2,-999.0000,9,    184.1,2,   -999.0,9,    64.70,2,    35.00,2,   2241.7,2,   2322.1,2,  -999.00,9,  -999.00,9,  -999.00,9,   2.24972363
  35MF19980121,  OISO,    12,  1,      3,19980209,-47.0000,  71.6800, 1562,    802.5,   2.3270,  34.5900,2,-999.0000,9,    177.4,2,   -999.0,9,    71.40,2,    34.20,2,   2245.9,2,   -999.0,9,  -999.00,9,  -999.00,9,  -999.00,9,   2.27790843
  35MF19980121,  OISO,    12,  1,      2,19980209,-47.0000,  71.6800, 1562,   1001.2,   2.3050,  34.6720,2,-999.0000,9,    181.5,2,   -999.0,9,    74.10,2,    32.90,2,   2245.0,2,   2337.9,2,  -999.00,9,  -999.00,9,  -999.00,9,   2.24217923
  35MF19980121,  OISO,    12,  1,      1,19980209,-47.0000,  71.6800, 1562,   1002.1,   2.3060,  34.6720,2,  34.6677,2,    181.5,2,    180.1,2,  -999.00,9,  -999.00,9,   2240.0,2,   2337.7,2,     0.36,2,     0.02,2,  -999.00,9,   2.24311436
  35MF19980121,  OISO,    13,  1,     18,19980209,-45.0300,  73.2300, 3591,     10.3,  12.5590,  34.0730,2,-999.0000,9,    274.5,2,   -999.0,9,     1.60,2,     9.80,2,   2044.7,2,   2284.3,2,  -999.00,9,  -999.00,9,     0.52,2,    12.557637
  35MF19980121,  OISO,    13,  1,     19,19980209,-45.0300,  73.2300, 3591,     10.5,  12.5520,  34.0720,2,  34.0716,2,    274.4,2,    274.8,2,     1.60,2,     9.30,2,   2048.1,2,   2284.4,2,     1.69,2,    -0.03,2,     0.50,2,   12.5506098
  35MF19980121,  OISO,    13,  1,     17,19980209,-45.0300,  73.2300, 3591,     19.6,  12.5270,  34.0700,2,  34.1012,2,    274.1,2,    274.3,2,     1.60,2,     9.60,2,   2050.7,2,   2284.2,2,     1.61,2,    -0.03,2,     0.44,2,    12.524405
  35MF19980121,  OISO,    13,  1,     16,19980209,-45.0300,  73.2300, 3591,     31.3,  12.0760,  34.4190,2,-999.0000,9,    269.0,2,   -999.0,9,     1.60,2,     7.60,2,   2061.7,2,   2299.1,2,  -999.00,9,  -999.00,9,     0.62,2,    12.071956
  35MF19980121,  OISO,    13,  1,     15,19980209,-45.0300,  73.2300, 3591,     40.4,  13.0050,  34.8860,2,-999.0000,9,    258.4,2,   -999.0,9,     1.60,2,     6.50,2,   2065.9,2,   2310.4,2,  -999.00,9,  -999.00,9,     0.46,2,   12.9994746
  35MF19980121,  OISO,    13,  1,     14,19980209,-45.0300,  73.2300, 3591,     49.9,  12.6090,  34.8750,2,  34.8736,2,    256.0,2,    254.0,2,     1.60,2,     7.60,2,   2072.9,2,   2313.8,2,  -999.00,9,     0.38,2,     0.37,2,   12.6023153
  35MF19980121,  OISO,    13,  1,     13,19980209,-45.0300,  73.2300, 3591,     76.9,  11.0330,  34.6810,2,-999.0000,9,    256.0,2,   -999.0,9,     1.60,2,    10.70,2,   2087.4,2,   2303.9,2,  -999.00,9,  -999.00,9,     0.10,2,   11.0235884
  35MF19980121,  OISO,    13,  1,     12,19980209,-45.0300,  73.2300, 3591,    101.2,  11.4920,  34.8460,2,-999.0000,9,    251.4,2,   -999.0,9,     1.60,2,    10.30,2,   2089.5,2,   2304.4,2,  -999.00,9,     0.35,2,     0.19,2,   11.4792408
  35MF19980121,  OISO,    13,  1,     11,19980209,-45.0300,  73.2300, 3591,    123.8,  11.5680,  34.8980,2,-999.0000,9,    246.8,2,   -999.0,9,     1.60,2,    10.20,2,   2088.2,2,   2313.2,2,  -999.00,9,  -999.00,9,     0.03,2,   11.5522975
  35MF19980121,  OISO,    13,  1,     10,19980209,-45.0300,  73.2300, 3591,    152.4,  10.8580,  34.7570,2,-999.0000,9,    250.3,2,   -999.0,9,     1.60,2,    11.50,2,   2094.7,2,   2304.4,2,  -999.00,9,  -999.00,9,  -999.00,9,   10.8394584
  35MF19980121,  OISO,    13,  1,      9,19980209,-45.0300,  73.2300, 3591,    203.8,   9.9840,  34.6900,2,  34.6944,2,    243.2,2,    244.8,2,     1.30,2,    13.70,2,   2102.6,2,   2302.1,2,     0.87,2,     0.28,2,  -999.00,9,    9.9604574
  35MF19980121,  OISO,    13,  1,     24,19980209,-45.0300,  73.2300, 3591,    204.7,   9.9770,  34.6890,2,-999.0000,9,    243.6,2,   -999.0,9,  -999.00,9,  -999.00,9,   -999.0,9,   -999.0,9,  -999.00,9,  -999.00,9,  -999.00,9,   9.95336092
  35MF19980121,  OISO,    13,  1,      8,19980209,-45.0300,  73.2300, 3591,    252.6,   9.5460,  34.6590,2,-999.0000,9,    232.8,2,   -999.0,9,     1.10,2,    15.80,2,   2116.6,2,   2300.3,2,  -999.00,9,  -999.00,9,  -999.00,9,   9.51756253
  35MF19980121,  OISO,    13,  1,      7,19980209,-45.0300,  73.2300, 3591,    308.2,   8.7950,  34.5520,2,-999.0000,9,    233.3,2,   -999.0,9,     0.80,2,    17.60,2,   2122.8,2,   2296.2,2,  -999.00,9,     0.03,2,  -999.00,9,   8.76196146
  35MF19980121,  OISO,    13,  1,      6,19980209,-45.0300,  73.2300, 3591,    403.6,   8.2260,  34.5720,2,-999.0000,9,    213.0,2,   -999.0,9,     2.40,2,    21.50,2,   2144.3,2,   2295.7,2,  -999.00,9,  -999.00,9,  -999.00,9,    8.1841789
  35MF19980121,  OISO,    13,  1,      5,19980209,-45.0300,  73.2300, 3591,    505.7,   7.0080,  34.4860,2,  34.4932,2,    208.1,2,    208.0,2,    12.90,2,    25.20,2,   2160.6,2,   2297.1,2,     0.79,2,     0.01,2,  -999.00,9,   6.95992895
  35MF19980121,  OISO,    13,  1,      4,19980209,-45.0300,  73.2300, 3591,    602.4,   5.9490,  34.4050,2,-999.0000,9,    209.8,2,   -999.0,9,    18.70,2,    27.90,2,   2169.6,2,   2297.5,2,  -999.00,9,  -999.00,9,  -999.00,9,   5.89625846
  35MF19980121,  OISO,    13,  1,      3,19980209,-45.0300,  73.2300, 3591,    792.2,   4.2640,  34.3340,2,-999.0000,9,    209.6,2,   -999.0,9,    32.30,2,    31.90,2,   2191.3,2,   2308.3,2,  -999.00,9,  -999.00,9,  -999.00,9,   4.20389583
  35MF19980121,  OISO,    13,  1,      2,19980209,-45.0300,  73.2300, 3591,    994.9,   3.4740,  34.3950,2,-999.0000,9,    196.0,2,   -999.0,9,    45.80,2,    33.70,2,   2218.0,2,   2326.9,2,  -999.00,9,  -999.00,9,  -999.00,9,   3.40298625
  35MF19980121,  OISO,    13,  1,      1,19980209,-45.0300,  73.2300, 3591,    996.0,   3.4680,  34.3950,2,  34.3948,2,    196.0,2,    196.0,2,  -999.00,9,  -999.00,9,   2211.6,2,   -999.0,9,     0.49,2,    -0.16,2,  -999.00,9,   3.39694214
  35MF19980121,  OISO,    14,  1,     19,19980210,-42.5000,  75.1500, 3260,      6.4,  14.3550,  34.6920,2,  34.6975,2,    261.4,2,    260.8,2,     1.60,2,     6.20,2,   2053.3,2,   2301.1,2,     1.17,2,     0.22,2,     0.26,2,   14.3540675
  35MF19980121,  OISO,    14,  1,     18,19980210,-42.5000,  75.1500, 3260,     10.1,  14.3480,  34.6910,2,-999.0000,9,    261.6,2,   -999.0,9,     1.60,2,     6.10,2,   2056.1,2,   2302.1,2,  -999.00,9,  -999.00,9,     0.29,2,   14.3465317
  35MF19980121,  OISO,    14,  1,     17,19980210,-42.5000,  75.1500, 3260,     20.3,  14.3540,  34.6920,2,  34.6979,2,    261.8,2,    261.1,2,     1.60,2,     6.30,2,   2058.4,2,   2304.5,2,     1.40,2,     0.29,2,     0.28,2,   14.3510424
  35MF19980121,  OISO,    14,  1,     16,19980210,-42.5000,  75.1500, 3260,     30.0,  14.3240,  34.6900,2,-999.0000,9,    261.7,2,   -999.0,9,     1.60,2,     6.40,2,   2054.9,2,   2302.5,2,  -999.00,9,  -999.00,9,     0.32,2,    14.319638
  35MF19980121,  OISO,    14,  1,     15,19980210,-42.5000,  75.1500, 3260,     39.8,  13.5720,  34.7230,2,-999.0000,9,    264.5,2,   -999.0,9,     1.60,2,     6.40,2,   2060.1,2,   2305.1,2,  -999.00,9,  -999.00,9,     0.38,2,   13.5664073
  35MF19980121,  OISO,    14,  1,     14,19980210,-42.5000,  75.1500, 3260,     50.4,  13.3230,  34.7360,2,  34.7338,2,    262.6,2,    263.4,2,     1.60,2,     6.60,2,   2058.9,2,   2300.5,2,     0.96,2,     0.17,2,     0.43,2,   13.3160137
  35MF19980121,  OISO,    14,  1,     13,19980210,-42.5000,  75.1500, 3260,     73.3,  12.4440,  34.8680,2,-999.0000,9,    258.2,2,   -999.0,9,     1.60,2,     7.30,2,   2073.5,2,   2308.8,2,  -999.00,9,  -999.00,9,     0.35,2,     12.43427
  35MF19980121,  OISO,    14,  1,     12,19980210,-42.5000,  75.1500, 3260,    100.3,  12.0260,  34.9650,2,-999.0000,9,    250.8,2,   -999.0,9,     1.60,2,     8.60,2,   2086.8,2,   2311.6,2,     0.93,2,     0.25,2,     0.14,2,   12.0129464
  35MF19980121,  OISO,    14,  1,     11,19980210,-42.5000,  75.1500, 3260,    122.4,  12.1390,  35.0420,2,-999.0000,9,    246.9,2,   -999.0,9,     1.60,2,     8.40,2,   2088.5,2,   2315.2,2,  -999.00,9,  -999.00,9,     0.04,2,   12.1229544
  35MF19980121,  OISO,    14,  1,     10,19980210,-42.5000,  75.1500, 3260,    148.5,  11.9920,  35.0280,2,-999.0000,9,    246.8,2,   -999.0,9,     1.60,2,     8.90,2,   2090.5,2,   2314.6,2,  -999.00,9,  -999.00,9,  -999.00,9,   11.9726696
  35MF19980121,  OISO,    14,  1,     24,19980210,-42.5000,  75.1500, 3260,    199.9,  11.9450,  35.0330,2,-999.0000,9,    245.2,2,   -999.0,9,  -999.00,9,  -999.00,9,   -999.0,9,   -999.0,9,  -999.00,9,  -999.00,9,  -999.00,9,   11.9189811
  35MF19980121,  OISO,    14,  1,      9,19980210,-42.5000,  75.1500, 3260,    200.2,  11.9440,  35.0330,2,  35.0377,2,    245.3,2,    246.1,2,     1.60,2,     9.10,2,   2093.8,2,   2315.2,2,     0.58,2,     0.40,2,  -999.00,9,   11.9179406
  35MF19980121,  OISO,    14,  1,      8,19980210,-42.5000,  75.1500, 3260,    245.0,  11.6120,  34.9790,2,-999.0000,9,    245.9,2,   -999.0,9,     1.60,2,     9.80,2,   2089.8,2,   2313.7,2,  -999.00,9,  -999.00,9,  -999.00,9,   11.5806478
  35MF19980121,  OISO,    14,  1,      7,19980210,-42.5000,  75.1500, 3260,    295.6,  11.1440,  34.8970,2,-999.0000,9,    243.6,2,   -999.0,9,     1.60,2,    10.90,2,   2096.5,2,   2312.8,2,     0.42,2,     0.23,2,  -999.00,9,   11.1071281
  35MF19980121,  OISO,    14,  1,      6,19980210,-42.5000,  75.1500, 3260,    396.3,  10.2750,  34.8090,2,-999.0000,9,    225.1,2,   -999.0,9,     1.60,2,    14.50,2,   2115.5,2,   2303.1,2,  -999.00,9,  -999.00,9,  -999.00,9,   10.2278622
  35MF19980121,  OISO,    14,  1,      5,19980210,-42.5000,  75.1500, 3260,    500.1,   8.8620,  34.6400,2,  34.6396,2,    214.6,2,    213.7,2,     2.10,2,    19.00,2,   2137.3,2,   2300.9,2,     0.58,2,     0.05,2,  -999.00,9,   8.80747065
  35MF19980121,  OISO,    14,  1,      4,19980210,-42.5000,  75.1500, 3260,    597.2,   7.6380,  34.5310,2,-999.0000,9,    208.7,2,   -999.0,9,    12.10,2,    22.50,2,   2144.7,2,   2299.2,2,  -999.00,9,  -999.00,9,  -999.00,9,   7.57802616
  35MF19980121,  OISO,    14,  1,      3,19980210,-42.5000,  75.1500, 3260,    793.9,   5.4310,  34.3750,2,-999.0000,9,    211.0,2,   -999.0,9,    23.30,2,    27.80,2,   2173.3,2,   2296.8,2,  -999.00,9,  -999.00,9,  -999.00,9,   5.36358737
  35MF19980121,  OISO,    14,  1,      1,19980210,-42.5000,  75.1500, 3260,    999.8,   3.9550,  34.3470,2,  34.3448,2,    208.2,2,    208.7,2,  -999.00,9,  -999.00,9,   2197.2,2,   2310.4,2,     0.49,2,    -0.10,2,  -999.00,9,    3.8799584
  35MF19980121,  OISO,    14,  1,      2,19980210,-42.5000,  75.1500, 3260,   1000.2,   3.9600,  34.3480,2,-999.0000,9,    207.9,2,   -999.0,9,    34.00,2,    30.90,2,   2197.5,2,   2309.4,2,  -999.00,9,  -999.00,9,  -999.00,9,   3.88488225