BOTTLE,20220815CCHSIOAMB
EXPOCODE,SECT_ID,STNNBR,CASTNO,BTLNBR,DATE,LATITUDE,LONGITUDE,DEPTH,CTDPRS,CTDTMP,CTDSAL,CTDSAL_FLAG_W,SALNTY,SALNTY_FLAG_W,CTDOXY,CTDOXY_FLAG_W,OXYGEN,OXYGEN_FLAG_W,SILCAT,SILCAT_FLAG_W,NITRAT,NITRAT_FLAG_W,TCARBN,TCARBN_FLAG_W,ALKALI,ALKALI_FLAG_W,DELC13,DELC13_FLAG_W,DELO18,DELO18_FLAG_W,CHLORA,CHLORA_FLAG_W,THETA
,,,,,,,,METERS,DBARS,ITS-90,PSS-78,,PSS-78,,UMOL/KG,,UMOL/KG,,UMOL/KG,,UMOL/KG,,UMOL/KG,,UMOL/KG,,O/OO,,O/OO,,UG/L,,DEGC
  35MF19980121,  OISO,    15,  1,     19,19980210,-40.0000,  77.0000, 3146,      4.3,  17.6780,  35.0990,2,  35.1079,2,    252.7,2,    250.4,2,     0.70,2,     1.40,2,   2033.8,2,   2316.3,2,     1.04,2,     0.48,2,     0.36,2,   17.6772684
  35MF19980121,  OISO,    15,  1,     18,19980210,-40.0000,  77.0000, 3146,     10.3,  17.0370,  35.1050,2,-999.0000,9,    259.8,2,   -999.0,9,     0.90,2,     2.10,2,   2038.2,2,   2318.9,2,  -999.00,9,  -999.00,9,     0.48,2,   17.0353073
  35MF19980121,  OISO,    15,  1,     17,19980210,-40.0000,  77.0000, 3146,     19.8,  16.4090,  35.1520,2,  35.1634,2,    261.1,2,    261.5,2,     1.20,2,     2.40,2,   2042.0,2,   2321.2,2,     1.15,2,     0.75,2,     0.52,2,    16.405822
  35MF19980121,  OISO,    15,  1,     16,19980210,-40.0000,  77.0000, 3146,     29.6,  15.8810,  35.1720,2,-999.0000,9,    258.5,2,   -999.0,9,     1.60,2,     3.00,2,   2049.3,2,   2321.7,2,  -999.00,9,  -999.00,9,     0.54,2,   15.8763526
  35MF19980121,  OISO,    15,  1,     15,19980210,-40.0000,  77.0000, 3146,     40.0,  15.1590,  35.1630,2,-999.0000,9,    255.2,2,   -999.0,9,     1.80,2,     3.60,2,   2055.5,2,   2320.2,2,  -999.00,9,  -999.00,9,     0.55,2,   15.1529172
  35MF19980121,  OISO,    15,  1,     14,19980210,-40.0000,  77.0000, 3146,     50.3,  14.5430,  35.1700,2,  35.1727,2,    252.8,2,    252.0,2,     1.80,2,     3.70,2,   2065.2,2,   2320.0,2,     0.96,2,     0.47,2,     0.42,2,    14.535567
  35MF19980121,  OISO,    15,  1,     13,19980210,-40.0000,  77.0000, 3146,     75.7,  13.4380,  35.1980,2,-999.0000,9,    247.0,2,   -999.0,9,     2.80,2,     6.40,2,   2077.1,2,   2320.0,2,  -999.00,9,  -999.00,9,     0.11,2,   13.4273809
  35MF19980121,  OISO,    15,  1,     12,19980210,-40.0000,  77.0000, 3146,    100.5,  13.0760,  35.1950,2,-999.0000,9,    246.6,2,   -999.0,9,     2.90,2,     7.00,2,   2083.0,2,   2317.5,2,  -999.00,9,     0.36,2,     0.08,2,    13.062147
  35MF19980121,  OISO,    15,  1,     11,19980210,-40.0000,  77.0000, 3146,    124.9,  12.9170,  35.2140,2,-999.0000,9,    245.4,2,   -999.0,9,     2.90,2,     7.30,2,   2090.1,2,   2320.1,2,  -999.00,9,  -999.00,9,     0.03,2,   12.8999004
  35MF19980121,  OISO,    15,  1,     10,19980210,-40.0000,  77.0000, 3146,    149.0,  12.6980,  35.1880,2,-999.0000,9,    245.2,2,   -999.0,9,     3.10,2,     7.80,2,   2091.3,2,   2319.8,2,  -999.00,9,  -999.00,9,  -999.00,9,   12.6778197
  35MF19980121,  OISO,    15,  1,      9,19980210,-40.0000,  77.0000, 3146,    199.6,  12.4630,  35.1570,2,  35.1555,2,    245.0,2,    246.0,2,     3.10,2,     7.90,2,   2091.4,2,   2316.1,2,  -999.00,9,     0.59,2,  -999.00,9,   12.4362492
  35MF19980121,  OISO,    15,  1,     24,19980210,-40.0000,  77.0000, 3146,    200.1,  12.4660,  35.1570,2,-999.0000,9,    245.0,2,   -999.0,9,  -999.00,9,  -999.00,9,   -999.0,9,   -999.0,9,  -999.00,9,  -999.00,9,  -999.00,9,   12.4391824
  35MF19980121,  OISO,    15,  1,      8,19980210,-40.0000,  77.0000, 3146,    250.3,  12.3030,  35.1350,2,-999.0000,9,    244.4,2,   -999.0,9,     3.20,2,     8.50,2,   2088.9,2,   2317.8,2,  -999.00,9,  -999.00,9,  -999.00,9,   12.2696861
  35MF19980121,  OISO,    15,  1,      7,19980210,-40.0000,  77.0000, 3146,    300.4,  12.2370,  35.1290,2,-999.0000,9,    244.7,2,   -999.0,9,     3.20,2,     8.60,2,   2086.7,2,   2316.9,2,  -999.00,9,     0.64,2,  -999.00,9,   12.1970878
  35MF19980121,  OISO,    15,  1,      6,19980210,-40.0000,  77.0000, 3146,    400.9,  11.8680,  35.0600,2,-999.0000,9,    241.7,2,   -999.0,9,     3.40,2,     9.50,2,   2092.0,2,   2313.1,2,  -999.00,9,  -999.00,9,  -999.00,9,   11.8155964
  35MF19980121,  OISO,    15,  1,      5,19980210,-40.0000,  77.0000, 3146,    500.1,  11.2320,  34.9600,2,  34.9583,2,    236.7,2,    240.0,2,     4.00,2,    11.10,2,   2103.5,2,   2307.1,2,  -999.00,9,     0.17,2,  -999.00,9,   11.1686824
  35MF19980121,  OISO,    15,  1,      4,19980210,-40.0000,  77.0000, 3146,    601.6,  11.0940,  34.9710,2,-999.0000,9,    238.8,2,   -999.0,9,     4.40,2,    11.30,2,   2097.4,2,   2307.3,2,  -999.00,9,  -999.00,9,  -999.00,9,   11.0180784
  35MF19980121,  OISO,    15,  1,      3,19980210,-40.0000,  77.0000, 3146,    804.9,   8.1920,  34.5820,2,-999.0000,9,    211.5,2,   -999.0,9,    11.60,2,    21.60,2,   2143.5,2,   2293.9,2,  -999.00,9,  -999.00,9,  -999.00,9,   8.10673367
  35MF19980121,  OISO,    15,  1,      2,19980210,-40.0000,  77.0000, 3146,   1008.6,   5.2900,  34.3660,2,  34.3693,2,    215.0,2,   -999.0,9,    22.60,2,    29.20,2,   2175.7,2,   2298.5,2,  -999.00,9,  -999.00,9,  -999.00,9,   5.20390328
  35MF19980121,  OISO,    15,  1,      1,19980210,-40.0000,  77.0000, 3146,   1009.3,   5.2870,  34.3660,2,-999.0000,9,    215.0,2,    213.5,2,  -999.00,9,  -999.00,9,   2174.2,2,   2299.3,2,  -999.00,9,    -0.04,2,  -999.00,9,   5.20086587
  35MF19980121,  OISO,    16,  1,     19,19980213,-35.5200,  73.5000, 4247,      6.8,  22.2700,  35.1750,2,  35.1754,2,    232.3,2,    225.6,2,     0.90,2,     0.00,2,   2041.5,2,   2337.3,3,     1.21,2,     0.48,2,     0.10,2,   22.2686469
  35MF19980121,  OISO,    16,  1,     18,19980213,-35.5200,  73.5000, 4247,     10.8,  22.2430,  35.2080,2,-999.0000,9,    235.0,2,   -999.0,9,     0.90,2,     0.00,2,   2035.0,2,   2325.1,2,  -999.00,9,  -999.00,9,     0.14,2,   22.2408493
  35MF19980121,  OISO,    16,  1,     17,19980213,-35.5200,  73.5000, 4247,     22.8,  18.3070,  35.2870,2,  35.2911,2,    262.2,2,    263.0,2,     1.00,2,     0.00,2,   2037.7,2,   2330.0,2,     1.21,2,     0.41,2,     0.27,2,   18.3030384
  35MF19980121,  OISO,    16,  1,     16,19980213,-35.5200,  73.5000, 4247,     31.6,  16.6960,  35.3070,2,-999.0000,9,    270.3,2,   -999.0,9,     1.00,2,     0.10,2,   2042.9,2,   2329.3,2,  -999.00,9,  -999.00,9,     0.51,2,   16.6908514
  35MF19980121,  OISO,    16,  1,     15,19980213,-35.5200,  73.5000, 4247,     42.0,  15.0790,  35.2600,2,-999.0000,9,    252.3,2,   -999.0,9,     1.50,2,     0.90,2,   2067.5,2,   2324.7,2,  -999.00,9,  -999.00,9,     0.68,2,   15.0726354
  35MF19980121,  OISO,    16,  1,     14,19980213,-35.5200,  73.5000, 4247,     52.3,  14.6500,  35.2740,2,  35.2744,2,    248.6,2,    248.1,2,     1.80,2,     1.80,2,   2077.6,2,   2325.4,2,     0.69,2,     0.53,2,     0.68,2,   14.6422193
  35MF19980121,  OISO,    16,  1,     13,19980213,-35.5200,  73.5000, 4247,     76.8,  13.7580,  35.2980,2,-999.0000,9,    243.6,2,   -999.0,9,     2.20,2,     4.30,2,   2087.3,2,   2323.1,2,  -999.00,9,  -999.00,9,     0.25,2,    13.747044
  35MF19980121,  OISO,    16,  1,     12,19980213,-35.5200,  73.5000, 4247,    101.4,  13.4580,  35.2990,2,-999.0000,9,    242.0,2,   -999.0,9,     2.50,2,     4.60,2,   2093.1,2,   2324.7,2,     0.54,2,     0.42,2,     0.06,2,   13.4437279
  35MF19980121,  OISO,    16,  1,     11,19980213,-35.5200,  73.5000, 4247,    127.0,  13.2580,  35.2830,2,-999.0000,9,    242.0,2,   -999.0,9,     2.80,2,     5.30,2,   2092.8,2,   2323.2,2,  -999.00,9,  -999.00,9,     0.02,2,   13.2402924
  35MF19980121,  OISO,    16,  1,     10,19980213,-35.5200,  73.5000, 4247,    155.3,  13.0740,  35.2590,2,-999.0000,9,    241.5,2,   -999.0,9,     2.80,2,     6.10,2,   2094.0,2,   2320.3,2,  -999.00,9,  -999.00,9,  -999.00,9,   13.0525409
  35MF19980121,  OISO,    16,  1,     24,19980213,-35.5200,  73.5000, 4247,    204.5,  12.7900,  35.2110,2,-999.0000,9,    240.1,2,   -999.0,9,  -999.00,9,  -999.00,9,   -999.0,9,   -999.0,9,  -999.00,9,  -999.00,9,  -999.00,9,   12.7621043
  35MF19980121,  OISO,    16,  1,      9,19980213,-35.5200,  73.5000, 4247,    204.9,  12.7910,  35.2100,2,  35.2100,2,    240.1,2,    242.1,2,     3.00,2,     7.10,2,   2098.8,2,   2321.1,2,     0.53,2,  -999.00,9,  -999.00,9,   12.7630536
  35MF19980121,  OISO,    16,  1,      8,19980213,-35.5200,  73.5000, 4247,    252.7,  12.6770,  35.1980,2,-999.0000,9,    238.6,2,   -999.0,9,     3.00,2,     7.50,2,   2097.7,2,   2317.7,2,  -999.00,9,  -999.00,9,  -999.00,9,   12.6426696
  35MF19980121,  OISO,    16,  1,      7,19980213,-35.5200,  73.5000, 4247,    302.2,  12.4640,  35.1670,2,-999.0000,9,    237.6,2,   -999.0,9,     3.30,2,     8.30,2,   2099.8,2,   2316.7,2,     0.56,2,     0.39,2,  -999.00,9,   12.4233367
  35MF19980121,  OISO,    16,  1,      6,19980213,-35.5200,  73.5000, 4247,    398.2,  11.9080,  35.0700,2,-999.0000,9,    228.7,2,   -999.0,9,     4.00,2,    10.80,2,   2108.0,2,   2313.2,2,  -999.00,9,  -999.00,9,  -999.00,9,   11.8558317
  35MF19980121,  OISO,    16,  1,      5,19980213,-35.5200,  73.5000, 4247,    503.4,  11.1820,  34.9590,2,  34.9577,2,    227.1,2,    231.2,2,     4.60,2,    12.20,2,   2112.4,2,   2307.6,2,     0.53,2,     0.42,2,  -999.00,9,   11.1184297
  35MF19980121,  OISO,    16,  1,      4,19980213,-35.5200,  73.5000, 4247,    599.2,  10.3180,  34.8290,2,-999.0000,9,    222.0,2,   -999.0,9,     5.80,2,    15.20,2,   2120.5,2,   2302.0,2,  -999.00,9,  -999.00,9,  -999.00,9,   10.2458153
  35MF19980121,  OISO,    16,  1,      3,19980213,-35.5200,  73.5000, 4247,    806.2,   7.5650,  34.5300,2,-999.0000,9,    203.8,2,   -999.0,9,    14.10,2,    22.80,2,   2157.2,2,   2295.8,2,  -999.00,9,  -999.00,9,  -999.00,9,   7.48337167
  35MF19980121,  OISO,    16,  1,      2,19980213,-35.5200,  73.5000, 4247,   1004.2,   5.3250,  34.3780,2,-999.0000,9,    206.6,2,   -999.0,9,    24.10,2,    27.60,2,   2179.0,2,   2297.7,2,  -999.00,9,  -999.00,9,  -999.00,9,    5.2390321
  35MF19980121,  OISO,    16,  1,      1,19980213,-35.5200,  73.5000, 4247,   1004.6,   5.3080,  34.3770,2,  34.3809,2,    206.6,2,    206.9,2,  -999.00,9,  -999.00,9,   2179.2,2,   2297.5,2,     0.32,2,    -0.02,2,  -999.00,9,   5.22211487