BOTTLE,20220815CCHSIOAMB
# Removed rows with only fill values in them
# Changed fill value from -9 to -999
# Swapped lines for STNNBR 11, CASTNO 2, and BTLNBR 17 with STNNBR 11, CASTNO 1, and BTLNBR 2
#BOTTLE,20081205PRINUNIVRMKPRINUNIVRMK
# 5/1/07 Initialized README file 
# Data from C. Lo Monaco 1/15/07 
# Ship: Marion Dufresne 
# Cruise: OISO-01 
# Dates: 1/21-2/19/1998 
# EXPOCODE: 35MF19980121 
# Region: SW Indian Ocean 
# Chief Scientist: N. Metzl 
# 16 stations 
# Hydro: Who - ; Status - final 
# 	Notes: 	only enough salinity to calibrate CTD 
# Nuts/O2: Who - ; Status - final 
# 	Notes: No phosphate 
# TCO2: Who - C.LoMonaco; Status - final 
# 	Notes: CRM? 
# TA: Who - C.LoMonaco; Status - final 
# 	Notes: CRM? 
# fCO2: Who - ; Status -  Underway only 
# C-13: Who - Catherine PIERRE (LOCEAN-IPSL); Status - final 
# 	Notes: data from Claire Lo Monaco 09/12/2008 
# Other: 
# O-18: Who - Catherine PIERRE (LOCEAN-IPSL); Status - final 
# 	Notes: data from Claire Lo Monaco 09/12/2008 
# Chloroa: 
EXPOCODE,SECT_ID,STNNBR,CASTNO,BTLNBR,DATE,LATITUDE,LONGITUDE,DEPTH,CTDPRS,CTDTMP,CTDSAL,CTDSAL_FLAG_W,SALNTY,SALNTY_FLAG_W,CTDOXY,CTDOXY_FLAG_W,OXYGEN,OXYGEN_FLAG_W,SILCAT,SILCAT_FLAG_W,NITRAT,NITRAT_FLAG_W,TCARBN,TCARBN_FLAG_W,ALKALI,ALKALI_FLAG_W,DELC13,DELC13_FLAG_W,DELO18,DELO18_FLAG_W,CHLORA,CHLORA_FLAG_W,THETA
,,,,,,,,METERS,DBARS,ITS-90,PSS-78,,PSS-78,,UMOL/KG,,UMOL/KG,,UMOL/KG,,UMOL/KG,,UMOL/KG,,UMOL/KG,,O/OO,,O/OO,,UG/L,,DEGC
  35MF19980121,  OISO,     1,  1,     19,19980121,-28.0000,  54.9800, 5182,      0.6,  26.3120,  35.6400,2,  35.6441,2,   -999.0,9,    214.7,2,     1.10,2,     0.00,2,   2010.6,2,   2342.0,2,     1.12,2,     0.72,2,     0.05,2,   26.3118558
  35MF19980121,  OISO,     1,  1,     18,19980121,-28.0000,  54.9800, 5182,     14.6,  25.1670,  35.6290,2,  35.6319,2,   -999.0,9,   -999.0,9,     1.30,2,     0.00,2,   2010.2,2,   2341.5,2,  -999.00,9,  -999.00,9,     0.06,2,   25.1638232
  35MF19980121,  OISO,     1,  1,     17,19980121,-28.0000,  54.9800, 5182,     23.0,  22.3390,  35.5710,2,  35.5763,2,   -999.0,9,    232.9,2,     1.40,2,     0.00,2,   2007.4,2,   -999.0,9,     1.20,2,     0.81,2,     0.07,2,   22.3344027
  35MF19980121,  OISO,     1,  1,     16,19980121,-28.0000,  54.9800, 5182,     33.7,  21.1640,  35.6060,2,  35.6137,2,   -999.0,9,   -999.0,9,     1.30,2,     0.00,2,   2010.0,2,   2339.5,2,  -999.00,9,  -999.00,9,     0.06,2,   21.1575067
  35MF19980121,  OISO,     1,  1,     15,19980121,-28.0000,  54.9800, 5182,     44.1,  20.4860,  35.6140,2,  35.6133,2,   -999.0,9,   -999.0,9,     1.40,2,     0.00,2,   2017.8,2,   -999.0,9,  -999.00,9,  -999.00,9,     0.06,2,    20.477704
  35MF19980121,  OISO,     1,  1,     14,19980121,-28.0000,  54.9800, 5182,     53.8,  19.9710,  35.6210,2,-999.0000,9,   -999.0,9,   -999.0,9,  -999.00,9,  -999.00,9,   -999.0,9,   -999.0,9,  -999.00,9,  -999.00,9,  -999.00,9,   19.9610457
  35MF19980121,  OISO,     1,  1,     13,19980121,-28.0000,  54.9800, 5182,     78.4,  18.5300,  35.6170,2,  35.6216,2,   -999.0,9,   -999.0,9,     1.60,2,     0.00,2,   2046.5,2,   -999.0,9,  -999.00,9,  -999.00,9,     0.46,2,   18.5162344
  35MF19980121,  OISO,     1,  1,     12,19980121,-28.0000,  54.9800, 5182,    102.5,  17.4300,  35.6150,2,  35.6175,2,   -999.0,9,    219.1,2,     1.90,2,     1.60,2,   2065.1,2,   -999.0,9,     0.94,2,     0.75,2,     0.51,2,   17.4127502
  35MF19980121,  OISO,     1,  1,     11,19980121,-28.0000,  54.9800, 5182,    124.8,  16.4660,  35.5780,2,  35.5856,2,   -999.0,9,   -999.0,9,     2.20,2,     2.20,2,   2060.5,2,   2340.7,2,  -999.00,9,  -999.00,9,     0.18,2,   16.4458002
  35MF19980121,  OISO,     1,  1,     10,19980121,-28.0000,  54.9800, 5182,    148.6,  16.0400,  35.5620,2,  35.5680,2,   -999.0,9,   -999.0,9,     2.40,2,     3.50,2,   -999.0,9,   -999.0,9,  -999.00,9,  -999.00,9,  -999.00,9,   16.0163729
  35MF19980121,  OISO,     1,  1,      9,19980121,-28.0000,  54.9800, 5182,    204.5,  15.1080,  35.4960,2,  35.5030,2,   -999.0,9,    228.1,2,     2.70,2,     4.50,2,   2079.7,2,   2345.6,2,     0.89,2,     0.72,2,  -999.00,9,   15.0767354
  35MF19980121,  OISO,     1,  1,      8,19980121,-28.0000,  54.9800, 5182,    260.2,  14.2750,  35.4090,2,-999.0000,9,   -999.0,9,   -999.0,9,     1.60,2,  -999.00,9,   -999.0,9,   -999.0,9,  -999.00,9,  -999.00,9,  -999.00,9,   14.2366749
  35MF19980121,  OISO,     1,  1,      7,19980121,-28.0000,  54.9800, 5182,    300.7,  13.9260,  35.3690,2,  35.3821,2,   -999.0,9,    223.8,2,     3.00,2,     6.60,2,   2097.2,2,   2341.1,2,     1.09,2,  -999.00,9,  -999.00,9,   13.8823867
  35MF19980121,  OISO,     1,  1,      6,19980121,-28.0000,  54.9800, 5182,    406.0,  13.0990,  35.2570,2,  35.2622,2,   -999.0,9,   -999.0,9,     3.40,2,     8.20,2,   2100.1,2,   2346.1,2,  -999.00,9,  -999.00,9,  -999.00,9,   13.0422928
  35MF19980121,  OISO,     1,  1,      5,19980121,-28.0000,  54.9800, 5182,    495.4,  12.0290,  35.0830,2,  35.0900,2,   -999.0,9,    228.5,2,     3.70,2,    10.50,2,   2106.3,2,   2328.6,2,  -999.00,9,     0.43,2,  -999.00,9,   11.9634162
  35MF19980121,  OISO,     1,  1,      4,19980121,-28.0000,  54.9800, 5182,    594.5,  11.2220,  34.9590,2,-999.0000,9,   -999.0,9,   -999.0,9,     4.10,2,    12.40,2,   2097.8,2,   -999.0,9,  -999.00,9,  -999.00,9,  -999.00,9,   11.1464657
  35MF19980121,  OISO,     1,  1,      3,19980121,-28.0000,  54.9800, 5182,    797.3,   8.7850,  34.6520,2,  34.6578,2,   -999.0,9,   -999.0,9,     9.40,2,    19.70,2,   2136.9,2,   2312.0,2,  -999.00,9,  -999.00,9,  -999.00,9,   8.69704341
  35MF19980121,  OISO,     1,  1,      1,19980121,-28.0000,  54.9800, 5182,    998.8,   6.0680,  34.4520,2,-999.0000,9,   -999.0,9,   -999.0,9,  -999.00,9,  -999.00,9,   -999.0,9,   -999.0,9,  -999.00,9,  -999.00,9,  -999.00,9,   5.97682475
  35MF19980121,  OISO,     1,  1,      2,19980121,-28.0000,  54.9800, 5182,    998.8,   6.0680,  34.4520,2,  34.4683,2,   -999.0,9,    196.7,2,    24.60,2,    28.10,2,   2180.8,2,   2316.6,2,     0.84,2,    -0.03,2,  -999.00,9,   5.97679602
  35MF19980121,  OISO,     2,  1,     19,19980122,-30.0000,  53.9800, 4695,      0.7,  25.4210,  35.4010,2,  35.4014,2,   -999.0,9,    211.9,2,     1.20,2,     0.00,2,   1998.6,2,   -999.0,9,     1.07,2,     0.66,2,     0.07,2,   25.4208507
  35MF19980121,  OISO,     2,  1,     18,19980122,-30.0000,  53.9800, 4695,     10.4,  25.4260,  35.4000,2,-999.0000,9,   -999.0,9,   -999.0,9,     1.20,2,     0.00,2,   -999.0,9,   -999.0,9,  -999.00,9,  -999.00,9,     0.07,2,   25.4237181
  35MF19980121,  OISO,     2,  1,     17,19980122,-30.0000,  53.9800, 4695,     19.0,  25.3630,  35.4000,2,-999.0000,9,   -999.0,9,   -999.0,9,     1.20,2,     0.00,2,   1995.7,2,   2329.7,2,     1.13,2,     0.74,2,     0.07,2,   25.3588321
  35MF19980121,  OISO,     2,  1,     16,19980122,-30.0000,  53.9800, 4695,     28.9,  23.9080,  35.5140,2,-999.0000,9,   -999.0,9,   -999.0,9,     1.20,2,     0.00,2,   2014.9,2,   -999.0,9,  -999.00,9,  -999.00,9,     0.09,2,   23.9019247
  35MF19980121,  OISO,     2,  1,     15,19980122,-30.0000,  53.9800, 4695,     39.4,  20.9660,  35.6090,2,-999.0000,9,   -999.0,9,   -999.0,9,     1.30,2,     0.00,2,   2025.2,2,   2344.4,2,  -999.00,9,  -999.00,9,     0.09,2,    20.958455
  35MF19980121,  OISO,     2,  1,     14,19980122,-30.0000,  53.9800, 4695,     48.8,  20.4410,  35.6100,2,  35.6177,2,   -999.0,9,    234.8,2,     1.60,2,     0.00,2,   2032.3,2,   2346.5,2,     1.15,2,     0.65,2,     0.09,2,   20.4318213
  35MF19980121,  OISO,     2,  1,     13,19980122,-30.0000,  53.9800, 4695,     74.3,  18.5110,  35.6020,2,-999.0000,9,   -999.0,9,   -999.0,9,     1.80,2,     0.00,2,   2047.3,2,   2349.7,2,  -999.00,9,  -999.00,9,     0.23,2,   18.4979749
  35MF19980121,  OISO,     2,  1,     12,19980122,-30.0000,  53.9800, 4695,    100.0,  17.4590,  35.5830,2,  35.5879,2,   -999.0,9,    231.9,2,     2.30,2,     0.60,2,   2059.2,2,   2346.9,2,     1.12,2,     0.70,2,     0.32,2,   17.4421508
  35MF19980121,  OISO,     2,  1,     11,19980122,-30.0000,  53.9800, 4695,    124.3,  16.8240,  35.5890,2,-999.0000,9,   -999.0,9,   -999.0,9,     2.60,2,     3.10,2,   2075.9,2,   2349.6,2,  -999.00,9,  -999.00,9,     0.16,2,   16.8035889
  35MF19980121,  OISO,     2,  1,     10,19980122,-30.0000,  53.9800, 4695,    149.2,  16.2090,  35.5690,2,-999.0000,9,   -999.0,9,   -999.0,9,     2.90,2,     4.10,2,   2080.6,2,   2349.6,2,  -999.00,9,  -999.00,9,  -999.00,9,   16.1850964
  35MF19980121,  OISO,     2,  1,      9,19980122,-30.0000,  53.9800, 4695,    188.4,  15.5080,  35.5190,2,-999.0000,9,   -999.0,9,   -999.0,9,     1.60,2,     5.20,2,   2090.2,2,   2346.7,2,     0.90,2,     0.61,2,  -999.00,9,   15.4786948
  35MF19980121,  OISO,     2,  1,      8,19980122,-30.0000,  53.9800, 4695,    250.0,  14.6100,  35.4410,2,-999.0000,9,   -999.0,9,   -999.0,9,  -999.00,9,  -999.00,9,   -999.0,9,   -999.0,9,  -999.00,9,  -999.00,9,  -999.00,9,   14.5726129
  35MF19980121,  OISO,     2,  1,      7,19980122,-30.0000,  53.9800, 4695,    300.3,  14.0440,  35.3790,2,  35.3819,2,   -999.0,9,    221.8,2,     3.00,2,     7.10,2,   2100.2,2,   2341.3,2,     0.98,2,     0.76,2,  -999.00,9,   14.0002005
  35MF19980121,  OISO,     2,  1,      6,19980122,-30.0000,  53.9800, 4695,    400.6,  13.1790,  35.2660,2,-999.0000,9,   -999.0,9,   -999.0,9,     3.40,2,     8.60,2,   2106.5,2,   2337.8,2,  -999.00,9,  -999.00,9,  -999.00,9,   13.1228399
  35MF19980121,  OISO,     2,  1,      5,19980122,-30.0000,  53.9800, 4695,    501.9,  12.2870,  35.1220,2,-999.0000,9,   -999.0,9,   -999.0,9,     4.00,2,    10.80,2,   2112.2,2,   2335.1,2,     1.22,2,     0.50,2,  -999.00,9,   12.2196032
  35MF19980121,  OISO,     2,  1,      4,19980122,-30.0000,  53.9800, 4695,    601.4,  11.3370,  34.9750,2,-999.0000,9,   -999.0,9,   -999.0,9,     9.10,2,    12.80,2,   -999.0,9,   -999.0,9,  -999.00,9,  -999.00,9,  -999.00,9,   11.2600634
  35MF19980121,  OISO,     2,  1,      3,19980122,-30.0000,  53.9800, 4695,    794.3,   9.3110,  34.7090,2,-999.0000,9,   -999.0,9,   -999.0,9,    13.00,2,    18.40,2,   2138.6,2,   2328.1,2,  -999.00,9,  -999.00,9,  -999.00,9,   9.22029986
  35MF19980121,  OISO,     2,  1,      2,19980122,-30.0000,  53.9800, 4695,    991.5,   6.6100,  34.4780,2,-999.0000,9,   -999.0,9,   -999.0,9,  -999.00,9,  -999.00,9,   2173.1,2,   2322.0,2,  -999.00,9,  -999.00,9,  -999.00,9,   6.51549486
  35MF19980121,  OISO,     2,  1,      1,19980122,-30.0000,  53.9800, 4695,    992.0,   6.5930,  34.4770,2,  34.4807,2,   -999.0,9,    205.0,2,    21.90,2,    26.70,2,   2172.8,2,   2318.3,2,     1.01,2,     0.20,2,  -999.00,9,   6.49856297
  35MF19980121,  OISO,     3,  1,     19,19980122,-35.0000,  53.5000, 3317,      6.5,  22.2770,  35.6190,2,  35.6220,2,   -999.0,9,    220.7,2,     1.10,2,     0.00,2,   2036.7,2,   2341.0,2,     1.23,2,     0.66,2,     0.07,2,   22.2756977
  35MF19980121,  OISO,     3,  1,     18,19980122,-35.0000,  53.5000, 3317,      8.6,  22.2660,  35.6180,2,-999.0000,9,   -999.0,9,   -999.0,9,     1.10,2,     0.00,2,   2039.0,2,   2338.6,2,  -999.00,9,  -999.00,9,     0.08,2,   22.2642848
  35MF19980121,  OISO,     3,  1,     17,19980122,-35.0000,  53.5000, 3317,     19.3,  22.2790,  35.6170,2,  35.6277,2,   -999.0,9,    223.8,2,     1.10,2,     0.00,2,   2038.7,2,   2338.0,2,  -999.00,9,     0.74,2,     0.06,2,   22.2751379
  35MF19980121,  OISO,     3,  1,     16,19980122,-35.0000,  53.5000, 3317,     30.5,  19.8280,  35.6320,2,-999.0000,9,   -999.0,9,   -999.0,9,     1.10,2,     0.00,2,   2040.3,2,   -999.0,9,  -999.00,9,  -999.00,9,     0.07,2,   19.8223851
  35MF19980121,  OISO,     3,  1,     15,19980122,-35.0000,  53.5000, 3317,     39.8,  18.8950,  35.6210,2,-999.0000,9,   -999.0,9,   -999.0,9,     1.10,2,     0.00,2,   2039.9,2,   2339.0,2,  -999.00,9,  -999.00,9,     0.10,2,   18.8879294
  35MF19980121,  OISO,     3,  1,     14,19980122,-35.0000,  53.5000, 3317,     47.6,  18.2100,  35.6130,2,  35.6206,2,   -999.0,9,    250.5,2,  -999.00,9,     0.00,2,   2042.9,2,   2338.0,2,     0.91,2,     0.72,2,     0.15,2,   18.2017507
  35MF19980121,  OISO,     3,  1,     13,19980122,-35.0000,  53.5000, 3317,     73.4,  16.9300,  35.5900,2,-999.0000,9,   -999.0,9,   -999.0,9,     1.20,2,     0.00,2,   2051.5,2,   2338.7,2,  -999.00,9,  -999.00,9,     0.57,2,    16.917898
  35MF19980121,  OISO,     3,  1,     12,19980122,-35.0000,  53.5000, 3317,     99.3,  16.4460,  35.5820,2,-999.0000,9,   -999.0,9,   -999.0,9,     1.70,2,     0.80,2,   2055.4,2,   2336.4,2,     0.94,2,     0.82,2,     0.47,2,   16.4299584
  35MF19980121,  OISO,     3,  1,     11,19980122,-35.0000,  53.5000, 3317,    124.0,  16.1200,  35.5790,2,-999.0000,9,   -999.0,9,   -999.0,9,     2.20,2,     2.60,2,   2062.3,2,   2336.1,2,  -999.00,9,  -999.00,9,     0.34,2,   16.1002296
  35MF19980121,  OISO,     3,  1,     10,19980122,-35.0000,  53.5000, 3317,    150.3,  15.8570,  35.5640,2,-999.0000,9,   -999.0,9,   -999.0,9,     2.30,2,     3.30,2,   2069.3,2,   2335.4,2,  -999.00,9,  -999.00,9,  -999.00,9,   15.8332778
  35MF19980121,  OISO,     3,  1,      9,19980122,-35.0000,  53.5000, 3317,    200.6,  15.1700,  35.4970,2,  35.4998,2,   -999.0,9,    223.9,2,     2.30,2,     4.50,2,   2083.8,2,   2337.7,2,     0.95,2,     0.76,2,  -999.00,9,   15.1392554
  35MF19980121,  OISO,     3,  1,      8,19980122,-35.0000,  53.5000, 3317,    252.1,  14.3520,  35.4130,2,-999.0000,9,   -999.0,9,   -999.0,9,     3.20,2,     6.40,2,   2090.0,2,   2335.1,2,  -999.00,9,  -999.00,9,  -999.00,9,   14.3147484
  35MF19980121,  OISO,     3,  1,      7,19980122,-35.0000,  53.5000, 3317,    300.2,  14.1510,  35.4210,2,-999.0000,9,   -999.0,9,   -999.0,9,     3.10,2,     5.70,2,   2086.5,2,   2336.7,2,     0.80,2,  -999.00,9,  -999.00,9,   14.1069828
  35MF19980121,  OISO,     3,  1,      6,19980122,-35.0000,  53.5000, 3317,    402.7,  13.2190,  35.2780,2,-999.0000,9,   -999.0,9,   -999.0,9,     3.50,2,     8.10,2,   2095.3,2,   2331.1,2,  -999.00,9,  -999.00,9,  -999.00,9,     13.16242
  35MF19980121,  OISO,     3,  1,      5,19980122,-35.0000,  53.5000, 3317,    501.3,  12.5440,  35.1690,2,  35.2110,2,   -999.0,9,    229.6,2,     3.70,2,     9.60,2,   2103.2,2,   2324.9,2,     0.88,2,     0.59,2,  -999.00,9,   12.4757238
  35MF19980121,  OISO,     3,  1,      4,19980122,-35.0000,  53.5000, 3317,    593.8,  11.4030,  34.9810,2,-999.0000,9,   -999.0,9,   -999.0,9,     4.60,2,    12.60,2,   2110.2,2,   2312.6,2,  -999.00,9,  -999.00,9,  -999.00,9,   11.3267836
  35MF19980121,  OISO,     3,  1,      3,19980122,-35.0000,  53.5000, 3317,    798.6,   8.7750,  34.6590,2,-999.0000,9,   -999.0,9,   -999.0,9,     9.50,2,    19.90,2,   2139.7,2,   2306.5,2,  -999.00,9,  -999.00,9,  -999.00,9,   8.68694331
  35MF19980121,  OISO,     3,  1,      2,19980122,-35.0000,  53.5000, 3317,    998.7,   6.2160,  34.4520,2,-999.0000,9,   -999.0,9,   -999.0,9,  -999.00,9,  -999.00,9,   2170.9,2,   2310.3,2,  -999.00,9,  -999.00,9,  -999.00,9,   6.12373324
  35MF19980121,  OISO,     3,  1,      1,19980122,-35.0000,  53.5000, 3317,    998.7,   6.2150,  34.4520,2,  34.4525,2,   -999.0,9,    206.7,2,    17.60,2,    27.20,2,   2172.4,2,   2310.5,2,     0.95,2,     0.10,2,  -999.00,9,   6.12274091
  35MF19980121,  OISO,     4,  1,     19,19980123,-40.0000,  52.9700, 4218,      6.9,  16.1920,  34.4620,2,  34.4674,2,   -999.0,9,    260.4,2,     0.70,2,     2.40,2,   2016.0,2,   -999.0,9,     1.96,2,     0.12,2,     0.53,2,   16.1909137
  35MF19980121,  OISO,     4,  1,     18,19980123,-40.0000,  52.9700, 4218,     12.8,  16.2180,  34.4620,2,-999.0000,9,   -999.0,9,   -999.0,9,     0.70,2,     2.50,2,   2016.6,2,   2294.8,2,  -999.00,9,  -999.00,9,     0.58,2,   16.2159766
  35MF19980121,  OISO,     4,  1,     17,19980123,-40.0000,  52.9700, 4218,     22.8,  16.0750,  34.4650,2,  34.4695,2,   -999.0,9,    262.2,2,     0.70,2,     2.60,2,   2017.3,2,   2295.4,2,     2.14,2,     0.12,2,     0.70,2,   16.0714113
  35MF19980121,  OISO,     4,  1,     16,19980123,-40.0000,  52.9700, 4218,     33.4,  15.5960,  34.4860,2,-999.0000,9,   -999.0,9,   -999.0,9,     0.70,2,     2.90,2,   2019.9,2,   -999.0,9,  -999.00,9,  -999.00,9,     0.88,2,    15.590846
  35MF19980121,  OISO,     4,  1,     15,19980123,-40.0000,  52.9700, 4218,     42.2,  13.9080,  34.4050,2,-999.0000,9,   -999.0,9,   -999.0,9,     0.70,2,     5.30,2,   2037.4,2,   2289.1,2,  -999.00,9,  -999.00,9,     0.81,2,   13.9019905
  35MF19980121,  OISO,     4,  1,     14,19980123,-40.0000,  52.9700, 4218,     52.9,  13.4430,  34.5080,2,  34.5101,2,   -999.0,9,    269.9,2,     0.70,2,     5.70,2,   2047.3,2,   2295.3,2,     1.63,2,     0.17,2,     0.45,2,   13.4356344
  35MF19980121,  OISO,     4,  1,     13,19980123,-40.0000,  52.9700, 4218,     77.1,  12.0690,  34.5240,2,-999.0000,9,   -999.0,9,   -999.0,9,     1.00,2,     7.70,2,   2066.6,2,   2294.7,2,  -999.00,9,  -999.00,9,     0.29,2,   12.0590039
  35MF19980121,  OISO,     4,  1,     12,19980123,-40.0000,  52.9700, 4218,    101.3,  11.2840,  34.5500,2,-999.0000,9,   -999.0,9,   -999.0,9,     1.80,2,     9.80,2,   2079.4,2,   2300.8,2,  -999.00,9,     0.23,2,     0.16,2,   11.2714235
  35MF19980121,  OISO,     4,  1,     11,19980123,-40.0000,  52.9700, 4218,    126.1,  11.1620,  34.6290,2,-999.0000,9,   -999.0,9,   -999.0,9,     2.20,2,    10.90,2,   2087.7,2,   2309.6,2,  -999.00,9,  -999.00,9,     0.10,2,   11.1464144
  35MF19980121,  OISO,     4,  1,     10,19980123,-40.0000,  52.9700, 4218,    150.5,  10.4970,  34.5430,2,-999.0000,9,   -999.0,9,   -999.0,9,     2.60,2,    11.90,2,   2089.3,2,   2292.0,2,  -999.00,9,  -999.00,9,  -999.00,9,   10.4791273
  35MF19980121,  OISO,     4,  1,      9,19980123,-40.0000,  52.9700, 4218,    200.7,  11.2220,  34.8420,2,  34.8477,2,   -999.0,9,    241.8,2,     3.50,2,    11.30,2,   2099.7,2,   2307.2,2,     1.19,2,     0.29,2,  -999.00,9,    11.196973
  35MF19980121,  OISO,     4,  1,      8,19980123,-40.0000,  52.9700, 4218,    253.4,  10.5300,  34.7590,2,-999.0000,9,   -999.0,9,   -999.0,9,     4.10,2,    12.50,2,   2106.1,2,   2301.5,2,  -999.00,9,  -999.00,9,  -999.00,9,   10.4996188
  35MF19980121,  OISO,     4,  1,      7,19980123,-40.0000,  52.9700, 4218,    310.7,  10.4610,  34.7830,2,-999.0000,9,   -999.0,9,   -999.0,9,     4.50,2,    13.10,2,   2108.6,2,   2300.5,2,     1.14,2,     0.28,2,  -999.00,9,   10.4237905
  35MF19980121,  OISO,     4,  1,      6,19980123,-40.0000,  52.9700, 4218,    412.2,   9.0720,  34.6020,2,-999.0000,9,   -999.0,9,   -999.0,9,     5.90,2,    16.20,2,   2119.2,2,   2295.5,2,  -999.00,9,  -999.00,9,  -999.00,9,    9.0266728
  35MF19980121,  OISO,     4,  1,      5,19980123,-40.0000,  52.9700, 4218,    510.0,   8.2100,  34.5140,2,  34.5305,2,   -999.0,9,    231.4,2,     8.40,2,    19.30,2,   2132.0,2,   2293.4,2,     1.30,2,     0.09,2,  -999.00,9,   8.15690225
  35MF19980121,  OISO,     4,  1,      4,19980123,-40.0000,  52.9700, 4218,    611.6,   7.6460,  34.5570,2,-999.0000,9,   -999.0,9,   -999.0,9,    15.60,2,    23.70,2,   2156.0,2,   2298.2,2,  -999.00,9,  -999.00,9,  -999.00,9,   7.58445962
  35MF19980121,  OISO,     4,  1,      3,19980123,-40.0000,  52.9700, 4218,    811.6,   5.3280,  34.3900,2,-999.0000,9,   -999.0,9,   -999.0,9,    25.50,2,    29.20,2,   2180.0,2,   2299.0,2,  -999.00,9,  -999.00,9,  -999.00,9,   5.25960087
  35MF19980121,  OISO,     4,  1,      2,19980123,-40.0000,  52.9700, 4218,    812.2,   5.3230,  34.3900,2,-999.0000,9,   -999.0,9,   -999.0,9,  -999.00,9,  -999.00,9,   -999.0,9,   2298.2,2,  -999.00,9,  -999.00,9,  -999.00,9,   5.25457958
  35MF19980121,  OISO,     4,  1,      1,19980123,-40.0000,  52.9700, 4218,   1009.0,   3.8330,  34.3310,2,  34.3374,2,   -999.0,9,    211.2,2,    34.80,2,    31.70,2,   2196.8,2,   2308.1,2,     1.23,2,     0.05,2,  -999.00,9,    3.7581577