BOTTLE,20220815CCHSIOAMB
EXPOCODE,SECT_ID,STNNBR,CASTNO,SAMPNO,BTLNBR,BTLNBR_FLAG_W,DATE,TIME,LATITUDE,LONGITUDE,DEPTH,CTDPRS,CTDTMP,CTDSAL,CTDSAL_FLAG_W,SALNTY,SALNTY_FLAG_W,CTDOXY,CTDOXY_FLAG_W,OXYGEN,OXYGEN_FLAG_W,SILCAT,SILCAT_FLAG_W,NITRAT,NITRAT_FLAG_W,NITRIT,NITRIT_FLAG_W,PHSPHT,PHSPHT_FLAG_W,CFC-11,CFC-11_FLAG_W,CFC-12,CFC-12_FLAG_W,CFC113,CFC113_FLAG_W,DELO18,DELO18_FLAG_W,BARIUM,BARIUM_FLAG_W,THETA
,,,,,,,,,,,METERS,DBAR,ITS-90,PSS-78,,PSS-78,,UMOL/KG,,UMOL/KG,,UMOL/KG,,UMOL/KG,,UMOL/KG,,UMOL/KG,,PMOL/KG,,PMOL/KG,,PMOL/KG,,/MILLE,,NMOL/KG,,DEG C
  32PZ20020819,   CBL,    51,  1,     33,     33,2,20020905,0006, 79.0568,-161.8945, 2097,      2.0,  -1.6113,  30.2837,2,  30.2825,2,    384.6,2,    386.6,2,  -999.00,9,  -999.00,9,  -999.00,9,  -999.00,9, -999.000,9, -999.000,9, -999.000,9,  -999.00,9,  -999.00,9,  -1.6113
  32PZ20020819,   CBL,    51,  1,     31,     31,2,20020905,0006, 79.0568,-161.8945, 2097,     16.6,  -1.6165,  30.2837,2,  30.2833,2,    387.1,2,   -999.0,9,  -999.00,9,  -999.00,9,  -999.00,9,  -999.00,9,    7.442,6,    3.780,6,    0.677,6,  -999.00,9,  -999.00,9,  -1.6167
  32PZ20020819,   CBL,    51,  1,     32,     32,2,20020905,0006, 79.0568,-161.8945, 2097,     16.6,  -1.6165,  30.2839,2,  30.2840,2,    387.1,2,    386.6,2,     2.10,2,     0.10,2,     0.00,2,     0.83,2,    7.532,2,    3.800,2,    0.690,2,    -2.16,2,    61.40,2,  -1.6167
  32PZ20020819,   CBL,    51,  1,     30,     30,2,20020905,0006, 79.0568,-161.8945, 2097,     31.3,  -1.4902,  30.9651,2,  30.9662,2,    390.6,2,    386.5,2,     5.30,2,     1.40,2,     0.05,2,     0.96,2, -999.000,9, -999.000,9, -999.000,9,  -999.00,9,  -999.00,9,  -1.4907
  32PZ20020819,   CBL,    51,  1,     29,     29,2,20020905,0006, 79.0568,-161.8945, 2097,     47.0,  -1.6127,  31.8647,2,  31.8662,2,    342.5,2,    324.7,2,    17.50,2,     7.60,2,     0.01,2,     1.41,2, -999.000,9, -999.000,9, -999.000,9,  -999.00,9,  -999.00,9,  -1.6135
  32PZ20020819,   CBL,    51,  1,     28,     28,2,20020905,0006, 79.0568,-161.8945, 2097,     62.5,  -1.5811,  32.3674,2,  32.4014,2,    308.1,2,    288.8,2,    26.50,2,    10.80,2,     0.01,2,     1.68,2, -999.000,9, -999.000,9, -999.000,9,    -1.48,2,    65.90,2,  -1.5822
  32PZ20020819,   CBL,    51,  1,     27,     27,2,20020905,0006, 79.0568,-161.8945, 2097,     77.4,  -1.5299,  32.6899,2,  32.8586,2,    276.6,2,    253.2,2,    35.20,2,    14.30,2,     0.01,2,     1.89,2, -999.000,9, -999.000,9, -999.000,9,    -1.31,2,    65.40,2,  -1.5314
  32PZ20020819,   CBL,    51,  1,     26,     26,2,20020905,0006, 79.0568,-161.8945, 2097,     92.0,  -1.4430,  33.3207,2,  33.3413,2,    246.6,2,    238.5,2,    39.20,2,    16.00,2,     0.01,2,     1.92,2, -999.000,9, -999.000,9, -999.000,9,    -1.10,2,    62.50,2,  -1.4449
  32PZ20020819,   CBL,    51,  1,     25,     25,2,20020905,0006, 79.0568,-161.8945, 2097,     98.9,  -1.4130,  33.4971,2,  33.4851,2,    239.1,2,    238.9,2,    39.80,2,    16.30,2,     0.01,2,     1.91,2,    6.224,2,    3.108,2,    0.412,2,    -0.95,2,    63.30,2,  -1.4151
  32PZ20020819,   CBL,    51,  1,     24,     24,2,20020905,0006, 79.0568,-161.8945, 2097,    106.9,  -1.3974,  33.6498,2,  33.6763,2,    238.5,2,    249.5,2,    32.70,2,    14.60,2,     0.01,2,     1.64,2, -999.000,9, -999.000,9, -999.000,9,    -0.82,2,    62.40,2,  -1.3998
  32PZ20020819,   CBL,    51,  1,     23,     23,2,20020905,0006, 79.0568,-161.8945, 2097,    121.7,  -1.3806,  34.0182,2,  34.0207,2,    256.5,2,    284.6,2,    14.20,2,    10.90,2,     0.01,2,     1.02,2, -999.000,9, -999.000,9, -999.000,9,    -0.48,2,    53.10,2,  -1.3834
  32PZ20020819,   CBL,    51,  1,     22,     22,2,20020905,0006, 79.0568,-161.8945, 2097,    136.1,  -1.3355,  34.1616,2,  34.1685,2,    283.3,2,    301.3,2,     7.90,2,     9.70,2,     0.01,2,     0.82,2, -999.000,9, -999.000,9, -999.000,9,    -0.22,2,    50.50,2,  -1.3388
  32PZ20020819,   CBL,    51,  1,     21,     21,2,20020905,0006, 79.0568,-161.8945, 2097,    152.7,  -1.1181,  34.2751,2,  34.2755,2,    300.2,2,    306.2,2,     6.20,2,     9.50,2,     0.01,2,     0.78,2,    6.752,2,    3.213,2,    0.445,2,  -999.00,9,  -999.00,9,  -1.1221
  32PZ20020819,   CBL,    51,  1,     20,     20,2,20020905,0006, 79.0568,-161.8945, 2097,    167.6,  -0.7809,  34.3657,2,  34.3735,2,    304.3,2,    305.8,2,     5.80,2,     9.90,2,     0.01,2,     0.79,2, -999.000,9, -999.000,9, -999.000,9,  -999.00,9,  -999.00,9,  -0.7858
  32PZ20020819,   CBL,    51,  1,     19,     19,2,20020905,0006, 79.0568,-161.8945, 2097,    181.4,  -0.6242,  34.4269,2,  34.4323,2,    304.9,2,    304.0,2,     5.90,2,    10.20,2,     0.01,2,     0.80,2, -999.000,9, -999.000,9, -999.000,9,  -999.00,9,  -999.00,9,  -0.6298
  32PZ20020819,   CBL,    51,  1,     18,     18,2,20020905,0006, 79.0568,-161.8945, 2097,    217.0,  -0.1130,  34.5538,2,  34.5582,2,    303.1,2,    303.7,2,     5.70,2,    10.70,2,     0.01,2,     0.82,2,    6.334,2,    3.020,2,    0.424,2,  -999.00,9,  -999.00,9,  -0.1208
  32PZ20020819,   CBL,    51,  1,     17,     17,2,20020905,0006, 79.0568,-161.8945, 2097,    243.9,   0.3869,  34.6722,2,  34.6794,2,    301.5,2,    300.8,2,  -999.00,9,  -999.00,9,  -999.00,9,  -999.00,9,    5.920,2,    2.840,2,    0.394,2,  -999.00,9,  -999.00,9,   0.3770
  32PZ20020819,   CBL,    51,  1,     16,     16,2,20020905,0006, 79.0568,-161.8945, 2097,    278.1,   0.7212,  34.7568,2,  34.7585,2,    300.8,2,    299.7,2,     5.70,2,    12.10,2,     0.01,2,     0.87,2,    5.795,2,    2.768,2,    0.407,2,  -999.00,9,  -999.00,9,   0.7090
  32PZ20020819,   CBL,    51,  1,     15,     15,2,20020905,0006, 79.0568,-161.8945, 2097,    330.0,   0.9632,  34.8117,2,  34.8161,2,    301.2,2,    300.7,2,     5.80,2,    12.30,2,     0.01,2,     0.88,2,    5.673,2,    2.688,2,    0.401,2,  -999.00,9,  -999.00,9,   0.9478
  32PZ20020819,   CBL,    51,  1,     14,     14,2,20020905,0006, 79.0568,-161.8945, 2097,    385.4,   1.1384,  34.8489,2,  34.8491,2,    301.0,2,    300.3,2,     5.90,2,    12.50,2,     0.01,2,     0.89,2,    5.440,2,    2.575,2,    0.408,2,     0.30,2,    46.40,2,   1.1197
  32PZ20020819,   CBL,    51,  1,     13,     13,2,20020905,0006, 79.0568,-161.8945, 2097,    431.5,   1.0433,  34.8540,2,  34.8560,2,    299.9,2,    301.2,2,     5.90,2,    12.60,2,     0.01,2,     0.89,2,    5.255,2,    2.469,2,    0.330,2,  -999.00,9,  -999.00,9,   1.0225
  32PZ20020819,   CBL,    51,  1,     12,     12,2,20020905,0006, 79.0568,-161.8945, 2097,    506.4,   0.8554,  34.8621,2,  34.8631,2,    301.4,2,    301.5,2,  -999.00,9,  -999.00,9,  -999.00,9,  -999.00,9,    4.782,2,    2.212,2,    0.276,2,  -999.00,9,  -999.00,9,   0.8315
  32PZ20020819,   CBL,    51,  1,     11,     11,3,20020905,0006, 79.0568,-161.8945, 2097,    607.6,   0.5623,  34.8634,2,  34.8612,2,    301.9,2,    302.0,2,     6.10,2,    12.70,2,     0.01,2,     0.90,2,    4.837,2,    2.291,2,    0.355,2,  -999.00,9,  -999.00,9,   0.5345
  32PZ20020819,   CBL,    51,  1,     10,     10,2,20020905,0006, 79.0568,-161.8945, 2097,    705.2,   0.3494,  34.8629,2,  34.8635,2,    302.8,2,    302.8,2,  -999.00,9,  -999.00,9,  -999.00,9,  -999.00,9,    4.492,2,    2.088,2,    0.255,2,  -999.00,9,  -999.00,9,   0.3178
  32PZ20020819,   CBL,    51,  1,      9,      9,2,20020905,0006, 79.0568,-161.8945, 2097,    838.9,   0.1109,  34.8642,2,  34.8645,2,    304.5,2,    304.5,2,     6.50,2,    12.70,2,     0.01,2,     0.91,2,    4.729,2,    2.172,2,    0.278,2,     0.22,2,    52.40,2,   0.0739
  32PZ20020819,   CBL,    51,  1,      7,      7,2,20020905,0006, 79.0568,-161.8945, 2097,    965.8,  -0.0484,  34.8724,2,  34.8732,2,    304.3,2,   -999.0,9,  -999.00,9,  -999.00,9,  -999.00,9,  -999.00,9,    4.367,6,    2.000,6,    0.238,6,  -999.00,9,  -999.00,9,  -0.0908
  32PZ20020819,   CBL,    51,  1,      8,      8,2,20020905,0006, 79.0568,-161.8945, 2097,    966.1,  -0.0487,  34.8723,2,  34.8730,2,    304.3,2,    304.1,2,     6.80,2,    12.90,2,     0.00,2,     0.92,2,    4.344,2,    2.003,2,    0.241,2,  -999.00,9,  -999.00,9,  -0.0911
  32PZ20020819,   CBL,    51,  1,      6,      6,2,20020905,0006, 79.0568,-161.8945, 2097,   1122.0,  -0.1887,  34.8842,2,  34.8848,2,    303.8,2,    304.4,2,  -999.00,9,  -999.00,9,  -999.00,9,  -999.00,9,    3.769,2,    1.723,2,    0.188,2,  -999.00,9,  -999.00,9,  -0.2382
  32PZ20020819,   CBL,    51,  1,      5,      5,2,20020905,0006, 79.0568,-161.8945, 2097,   1322.8,  -0.2976,  34.8968,2,  34.8974,2,    302.4,2,    302.1,2,  -999.00,9,  -999.00,9,  -999.00,9,  -999.00,9,    2.947,2,    1.382,2,    0.147,2,  -999.00,9,  -999.00,9,  -0.3572
  32PZ20020819,   CBL,    51,  1,      4,      4,2,20020905,0006, 79.0568,-161.8945, 2097,   1558.4,  -0.4172,  34.9174,2,  34.9183,2,    298.4,2,    297.6,2,     9.60,2,    14.10,2,     0.00,2,     1.01,2,    1.547,2,    0.756,2,    0.112,4,  -999.00,9,  -999.00,9,  -0.4892
  32PZ20020819,   CBL,    51,  1,      3,      3,2,20020905,0006, 79.0568,-161.8945, 2097,   1774.9,  -0.4302,  34.9395,2,  34.9398,2,    290.5,2,    290.5,2,    12.10,2,    14.80,2,     0.00,2,     1.06,2,    0.458,2,    0.214,2,    0.006,2,  -999.00,9,  -999.00,9,  -0.5154
  32PZ20020819,   CBL,    51,  1,      2,      2,2,20020905,0006, 79.0568,-161.8945, 2097,   1907.8,  -0.4199,  34.9445,2,  34.9449,2,    287.8,2,    287.5,2,  -999.00,9,  -999.00,9,  -999.00,9,  -999.00,9,    0.275,2,    0.131,2,    0.000,2,  -999.00,9,  -999.00,9,  -0.5139
  32PZ20020819,   CBL,    51,  1,      1,      1,2,20020905,0006, 79.0568,-161.8945, 2097,   2053.6,  -0.4056,  34.9472,2,  34.9486,2,    286.0,2,    285.8,2,    13.40,2,    15.10,2,     0.01,2,     1.07,2,    0.205,2,    0.093,2,    0.000,2,  -999.00,9,  -999.00,9,  -0.5096
  32PZ20020819,   CBL,    52,  1,     33,     33,2,20020905,0359, 79.1048,-161.6365, 2636,      1.9,  -1.5954,  30.1279,2,  30.1270,2,    384.7,2,    387.2,2,  -999.00,9,  -999.00,9,  -999.00,9,  -999.00,9, -999.000,9, -999.000,9, -999.000,9,  -999.00,9,  -999.00,9,  -1.5954
  32PZ20020819,   CBL,    52,  1,     32,     32,2,20020905,0359, 79.1048,-161.6365, 2636,     15.9,  -1.5973,  30.1329,2,  30.1387,2,    387.6,2,    387.9,2,     1.70,2,     0.20,2,     0.00,2,     0.82,2,    7.859,2,    3.992,2,    0.729,2,    -2.36,2,    62.30,2,  -1.5975
  32PZ20020819,   CBL,    52,  1,     31,     31,2,20020905,0359, 79.1048,-161.6365, 2636,     31.4,  -1.5404,  31.1951,2,  31.2980,2,    388.5,2,    371.4,2,  -999.00,9,  -999.00,9,  -999.00,9,  -999.00,9, -999.000,9, -999.000,9, -999.000,9,  -999.00,9,  -999.00,9,  -1.5409
  32PZ20020819,   CBL,    52,  1,     30,     30,2,20020905,0359, 79.1048,-161.6365, 2636,     47.4,  -1.6989,  31.6719,2,  31.7468,2,    358.8,2,    343.9,2,    14.20,2,     5.90,2,     0.01,2,     1.30,2, -999.000,9, -999.000,9, -999.000,9,    -1.72,2,    65.50,2,  -1.6996
  32PZ20020819,   CBL,    52,  1,     29,     29,2,20020905,0359, 79.1048,-161.6365, 2636,     62.5,  -1.5976,  32.2051,2,  32.2304,2,    311.0,2,    300.2,2,    23.20,2,     9.90,2,     0.01,2,     1.59,2, -999.000,9, -999.000,9, -999.000,9,  -999.00,9,  -999.00,9,  -1.5987
  32PZ20020819,   CBL,    52,  1,     28,     28,2,20020905,0359, 79.1048,-161.6365, 2636,     77.2,  -1.5372,  32.6632,2,  32.7424,2,    287.3,2,    258.0,2,    34.00,2,    13.60,2,     0.01,2,     1.86,2, -999.000,9, -999.000,9, -999.000,9,    -1.34,2,    64.40,2,  -1.5387
  32PZ20020819,   CBL,    52,  1,     27,     27,2,20020905,0359, 79.1048,-161.6365, 2636,     87.4,  -1.4774,  33.0182,2,  33.1326,2,    249.3,2,    241.1,2,    37.80,2,    15.50,2,     0.01,2,     1.90,2, -999.000,9, -999.000,9, -999.000,9,    -1.15,2,    64.00,2,  -1.4792
  32PZ20020819,   CBL,    52,  1,     26,     26,2,20020905,0359, 79.1048,-161.6365, 2636,     94.9,  -1.4348,  33.3937,2,  33.4859,2,    239.1,2,    241.5,2,    38.10,2,    15.80,2,     0.01,2,     1.84,2,    6.309,2,    3.141,2,    0.453,2,    -1.06,2,    60.80,2,  -1.4368
  32PZ20020819,   CBL,    52,  1,     25,     25,2,20020905,0359, 79.1048,-161.6365, 2636,    107.2,  -1.4324,  33.7500,2,  33.7594,2,    245.5,2,    265.4,2,    24.30,2,    12.60,2,     0.01,2,     1.34,2, -999.000,9, -999.000,9, -999.000,9,    -0.78,2,    64.30,2,  -1.4348
  32PZ20020819,   CBL,    52,  1,     24,     24,2,20020905,0359, 79.1048,-161.6365, 2636,    121.5,  -1.4061,  33.9815,2,  33.9793,2,    263.5,2,    285.4,2,    14.30,2,    10.80,2,     0.01,2,     1.01,2, -999.000,9, -999.000,9, -999.000,9,    -0.56,2,    50.90,2,  -1.4089
  32PZ20020819,   CBL,    52,  1,     23,     23,2,20020905,0359, 79.1048,-161.6365, 2636,    136.2,  -1.3573,  34.1398,2,  34.1657,2,    284.9,2,    301.0,2,     7.90,2,     9.70,2,     0.01,2,     0.82,2, -999.000,9, -999.000,9, -999.000,9,  -999.00,9,  -999.00,9,  -1.3605
  32PZ20020819,   CBL,    52,  1,     22,     22,2,20020905,0359, 79.1048,-161.6365, 2636,    152.4,  -1.1095,  34.2809,2,  34.2927,2,    299.1,2,    305.3,2,     6.20,2,     9.70,2,     0.01,2,     0.78,2, -999.000,9, -999.000,9, -999.000,9,  -999.00,9,  -999.00,9,  -1.1135
  32PZ20020819,   CBL,    52,  1,     21,     21,2,20020905,0359, 79.1048,-161.6365, 2636,    162.2,  -0.9192,  34.3412,2,  34.3522,2,    302.4,2,    305.0,2,     6.00,2,     9.90,2,     0.01,2,     0.79,2,    6.778,2,    3.184,2,    0.490,2,    -0.14,2,    44.60,2,  -0.9238
  32PZ20020819,   CBL,    52,  1,     20,     20,2,20020905,0359, 79.1048,-161.6365, 2636,    182.2,  -0.4901,  34.4502,2,  34.4566,2,    304.0,2,    303.6,2,     5.80,2,    10.40,2,     0.01,2,     0.80,2, -999.000,9, -999.000,9, -999.000,9,  -999.00,9,  -999.00,9,  -0.4960
  32PZ20020819,   CBL,    52,  1,     19,     19,2,20020905,0359, 79.1048,-161.6365, 2636,    216.4,   0.1741,  34.6076,2,  34.6131,2,    302.0,2,    301.2,2,     5.70,2,    11.20,2,     0.01,2,     0.84,2,    6.167,2,    2.970,2,    0.448,2,  -999.00,9,  -999.00,9,   0.1658
  32PZ20020819,   CBL,    52,  1,     18,     18,2,20020905,0359, 79.1048,-161.6365, 2636,    240.3,   0.3973,  34.6733,2,  34.6757,2,    299.8,2,    300.6,2,  -999.00,9,  -999.00,9,  -999.00,9,  -999.00,9,    6.003,2,    2.926,2,    0.407,2,  -999.00,9,  -999.00,9,   0.3875
  32PZ20020819,   CBL,    52,  1,     17,     17,2,20020905,0359, 79.1048,-161.6365, 2636,    278.7,   0.7443,  34.7587,2,  34.7628,2,    299.6,2,    299.5,2,     5.80,2,    12.10,2,     0.01,2,     0.87,2,    5.866,2,    2.799,2,    0.405,2,  -999.00,9,  -999.00,9,   0.7320
  32PZ20020819,   CBL,    52,  1,     16,     16,2,20020905,0359, 79.1048,-161.6365, 2636,    330.0,   1.0419,  34.8292,2,  34.8280,2,    300.2,2,    300.5,2,  -999.00,9,  -999.00,9,  -999.00,9,  -999.00,9,    5.729,2,    2.732,2,    0.395,2,  -999.00,9,  -999.00,9,   1.0263
  32PZ20020819,   CBL,    52,  1,     15,     15,2,20020905,0359, 79.1048,-161.6365, 2636,    380.2,   1.1562,  34.8522,2,  34.8546,2,    299.8,2,    299.9,2,     5.90,2,    12.60,2,     0.00,2,     0.89,2,    5.261,2,    2.509,2,    0.376,2,     0.27,2,    52.60,2,   1.1377
  32PZ20020819,   CBL,    52,  1,     14,     14,2,20020905,0359, 79.1048,-161.6365, 2636,    430.3,   1.0472,  34.8580,2,  34.8585,2,    300.8,2,    301.6,2,     6.00,2,    12.60,2,     0.00,2,     0.89,2,    5.508,2,    2.615,2,    0.385,2,  -999.00,9,  -999.00,9,   1.0265
  32PZ20020819,   CBL,    52,  1,     13,     13,2,20020905,0359, 79.1048,-161.6365, 2636,    506.7,   0.8122,  34.8629,2,  34.8632,2,    301.7,2,    302.1,2,     6.00,2,    12.70,2,     0.00,2,     0.89,2,    5.133,6,    2.420,6,    0.341,6,  -999.00,9,  -999.00,9,   0.7884
  32PZ20020819,   CBL,    52,  1,     12,     12,2,20020905,0359, 79.1048,-161.6365, 2636,    608.6,   0.5770,  34.8649,2,  34.8652,2,    302.9,2,    302.8,2,     6.10,2,    12.70,2,     0.00,2,     0.90,2,    5.110,2,    2.390,2,    0.360,2,     0.21,2,    61.20,2,   0.5491
  32PZ20020819,   CBL,    52,  1,     11,     11,2,20020905,0359, 79.1048,-161.6365, 2636,    718.6,   0.3052,  34.8631,2,  34.8638,2,    303.3,2,    303.6,2,     6.20,2,    12.80,2,     0.00,2,     0.90,2,    4.723,2,    2.245,2,    0.317,2,  -999.00,9,  -999.00,9,   0.2732
  32PZ20020819,   CBL,    52,  1,     10,     10,2,20020905,0359, 79.1048,-161.6365, 2636,    807.4,   0.1443,  34.8662,2,  34.8663,2,    303.7,2,    304.1,2,  -999.00,9,  -999.00,9,  -999.00,9,  -999.00,9,    4.400,2,    2.053,2,    0.282,2,  -999.00,9,  -999.00,9,   0.1087
  32PZ20020819,   CBL,    52,  1,      9,      9,2,20020905,0359, 79.1048,-161.6365, 2636,    939.8,  -0.0109,  34.8720,2,  34.8718,2,    304.5,2,    304.1,2,     6.60,2,    12.90,2,     0.00,2,     0.92,2,    4.230,2,    1.976,2,    0.267,2,  -999.00,9,  -999.00,9,  -0.0522
  32PZ20020819,   CBL,    52,  1,      8,      8,2,20020905,0359, 79.1048,-161.6365, 2636,   1117.6,  -0.1634,  34.8857,2,  34.8840,2,    303.3,2,    302.3,2,     7.20,2,    13.20,2,     0.00,2,     0.94,2,    3.189,2,    1.501,2,    0.194,2,  -999.00,9,  -999.00,9,  -0.2129
  32PZ20020819,   CBL,    52,  1,      7,      7,2,20020905,0359, 79.1048,-161.6365, 2636,   1319.4,  -0.2904,  34.8998,2,  34.8986,2,    302.1,2,    301.8,2,  -999.00,9,  -999.00,9,  -999.00,9,  -999.00,9,    2.467,2,    1.186,2,    0.142,2,  -999.00,9,  -999.00,9,  -0.3499
  32PZ20020819,   CBL,    52,  1,      6,      6,2,20020905,0359, 79.1048,-161.6365, 2636,   1526.5,  -0.3689,  34.9176,2,  34.9178,2,    298.9,2,    298.6,2,     9.10,2,    14.00,2,     0.00,2,     1.00,2,    1.216,2,    0.571,2,    0.065,2,  -999.00,9,  -999.00,9,  -0.4396
  32PZ20020819,   CBL,    52,  1,      5,      5,2,20020905,0359, 79.1048,-161.6365, 2636,   1728.9,  -0.4179,  34.9322,2,  34.9322,2,    294.9,2,    294.1,2,  -999.00,9,  -999.00,9,  -999.00,9,  -999.00,9,    0.628,2,    0.297,2,    0.045,2,  -999.00,9,  -999.00,9,  -0.5004
  32PZ20020819,   CBL,    52,  1,      4,      4,2,20020905,0359, 79.1048,-161.6365, 2636,   1931.9,  -0.4159,  34.9431,2,  34.9430,2,    290.5,2,    290.1,2,    11.80,2,    14.90,2,     0.00,2,     1.06,2,    0.216,2,    0.104,2,    0.007,2,  -999.00,9,  -999.00,9,  -0.5115
  32PZ20020819,   CBL,    52,  1,      3,      3,2,20020905,0359, 79.1048,-161.6365, 2636,   2134.8,  -0.4032,  34.9500,2,  34.9501,2,    287.1,2,    287.1,2,  -999.00,9,  -999.00,9,  -999.00,9,  -999.00,9,    0.071,2,    0.042,2,    0.004,2,  -999.00,9,  -999.00,9,  -0.5128
  32PZ20020819,   CBL,    52,  1,      2,      2,2,20020905,0359, 79.1048,-161.6365, 2636,   2402.9,  -0.3811,  34.9548,2,  34.9544,2,    285.2,2,    285.4,2,  -999.00,9,  -999.00,9,  -999.00,9,  -999.00,9,    0.013,2,    0.014,2,    0.000,2,  -999.00,9,  -999.00,9,  -0.5104
  32PZ20020819,   CBL,    52,  1,      1,      1,2,20020905,0359, 79.1048,-161.6365, 2636,   2601.5,  -0.3629,  34.9573,2,  34.9579,2,    283.9,2,    283.7,2,    13.90,2,    15.20,2,     0.00,2,     1.08,2,    0.000,2,    0.005,2,    0.002,2,  -999.00,9,  -999.00,9,  -0.5076