BOTTLE,20220815CCHSIOAMB
EXPOCODE,SECT_ID,STNNBR,CASTNO,SAMPNO,BTLNBR,BTLNBR_FLAG_W,DATE,TIME,LATITUDE,LONGITUDE,DEPTH,CTDPRS,CTDTMP,CTDSAL,CTDSAL_FLAG_W,SALNTY,SALNTY_FLAG_W,CTDOXY,CTDOXY_FLAG_W,OXYGEN,OXYGEN_FLAG_W,SILCAT,SILCAT_FLAG_W,NITRAT,NITRAT_FLAG_W,NITRIT,NITRIT_FLAG_W,PHSPHT,PHSPHT_FLAG_W,CFC-11,CFC-11_FLAG_W,CFC-12,CFC-12_FLAG_W,CFC113,CFC113_FLAG_W,DELO18,DELO18_FLAG_W,BARIUM,BARIUM_FLAG_W,THETA
,,,,,,,,,,,METERS,DBAR,ITS-90,PSS-78,,PSS-78,,UMOL/KG,,UMOL/KG,,UMOL/KG,,UMOL/KG,,UMOL/KG,,UMOL/KG,,PMOL/KG,,PMOL/KG,,PMOL/KG,,/MILLE,,NMOL/KG,,DEG C
  32PZ20020819,   CBL,    61,  1,     30,     30,2,20020907,0044, 79.1438,-157.8575, 3275,     12.7,  -1.6263,  30.3672,2,  30.4423,2,    390.7,2,    392.8,2,  -999.00,9,  -999.00,9,  -999.00,9,  -999.00,9,    7.726,2,    3.954,2,    0.766,2,  -999.00,9,  -999.00,9,  -1.6265
  32PZ20020819,   CBL,    61,  1,     29,     29,2,20020907,0044, 79.1438,-157.8575, 3275,     26.1,  -1.5322,  31.1906,2,  31.2924,2,    396.1,2,    384.9,2,  -999.00,9,  -999.00,9,  -999.00,9,  -999.00,9, -999.000,9, -999.000,9, -999.000,9,  -999.00,9,  -999.00,9,  -1.5326
  32PZ20020819,   CBL,    61,  1,     28,     28,2,20020907,0044, 79.1438,-157.8575, 3275,     53.2,  -1.6831,  31.7132,2,  31.7442,2,    367.9,2,    345.5,2,  -999.00,9,  -999.00,9,  -999.00,9,  -999.00,9, -999.000,9, -999.000,9, -999.000,9,  -999.00,9,  -999.00,9,  -1.6839
  32PZ20020819,   CBL,    61,  1,     26,     26,2,20020907,0044, 79.1438,-157.8575, 3275,     72.4,  -1.5970,  32.3373,2,  32.4219,2,    310.9,2,    284.0,2,    26.60,2,    11.50,2,     0.01,2,     1.68,2, -999.000,9, -999.000,9, -999.000,9,  -999.00,9,  -999.00,9,  -1.5983
  32PZ20020819,   CBL,    61,  1,     27,     27,2,20020907,0044, 79.1438,-157.8575, 3275,     72.4,  -1.6028,  32.3032,2,  32.3053,2,    315.9,2,   -999.0,9,  -999.00,9,  -999.00,9,  -999.00,9,  -999.00,9, -999.000,9, -999.000,9, -999.000,9,  -999.00,9,  -999.00,9,  -1.6041
  32PZ20020819,   CBL,    61,  1,     25,     25,2,20020907,0044, 79.1438,-157.8575, 3275,     87.4,  -1.4763,  32.8975,2,  32.8679,2,    261.7,2,    247.3,2,    37.20,2,    15.50,2,     0.01,2,     1.95,2, -999.000,9, -999.000,9, -999.000,9,  -999.00,9,  -999.00,9,  -1.4780
  32PZ20020819,   CBL,    61,  1,     24,     24,2,20020907,0044, 79.1438,-157.8575, 3275,    107.4,  -1.4361,  33.4238,2,  33.3369,2,    245.0,2,   -999.0,9,  -999.00,9,  -999.00,9,  -999.00,9,  -999.00,9, -999.000,9, -999.000,9, -999.000,9,  -999.00,9,  -999.00,9,  -1.4384
  32PZ20020819,   CBL,    61,  1,     23,     23,2,20020907,0044, 79.1438,-157.8575, 3275,    107.5,  -1.4403,  33.3998,2,  33.4783,2,    245.7,2,    244.2,2,    37.10,2,    15.50,2,     0.01,2,     1.80,2,    6.263,2,    3.220,2,    0.430,2,  -999.00,9,  -999.00,9,  -1.4426
  32PZ20020819,   CBL,    61,  1,     22,     22,2,20020907,0044, 79.1438,-157.8575, 3275,    120.3,  -1.4066,  33.7980,2,  33.8494,2,    250.6,2,    277.5,2,    19.20,2,    11.50,2,     0.01,2,     1.16,2, -999.000,9, -999.000,9, -999.000,9,  -999.00,9,  -999.00,9,  -1.4093
  32PZ20020819,   CBL,    61,  1,     21,     21,2,20020907,0044, 79.1438,-157.8575, 3275,    137.1,  -1.3896,  34.0973,2,  34.1211,2,    282.4,2,    303.1,2,     8.10,2,     9.40,2,     0.01,2,     0.80,2, -999.000,9, -999.000,9, -999.000,9,  -999.00,9,  -999.00,9,  -1.3928
  32PZ20020819,   CBL,    61,  1,     20,     20,2,20020907,0044, 79.1438,-157.8575, 3275,    161.4,  -1.0685,  34.2588,2,  34.2754,2,    304.5,2,    308.1,2,  -999.00,9,  -999.00,9,  -999.00,9,  -999.00,9, -999.000,9, -999.000,9, -999.000,9,  -999.00,9,  -999.00,9,  -1.0728
  32PZ20020819,   CBL,    61,  1,     18,     18,2,20020907,0044, 79.1438,-157.8575, 3275,    216.4,   0.1787,  34.5848,2,  34.6052,2,    296.6,2,    296.0,2,  -999.00,9,  -999.00,9,  -999.00,9,  -999.00,9,    5.881,2,    2.814,2,    0.387,2,  -999.00,9,  -999.00,9,   0.1704
  32PZ20020819,   CBL,    61,  1,     19,     19,2,20020907,0044, 79.1438,-157.8575, 3275,    216.4,   0.1899,  34.5873,2,  34.5737,2,    296.6,2,   -999.0,9,  -999.00,9,  -999.00,9,  -999.00,9,  -999.00,9, -999.000,9, -999.000,9, -999.000,9,  -999.00,9,  -999.00,9,   0.1815
  32PZ20020819,   CBL,    61,  1,     17,     17,2,20020907,0044, 79.1438,-157.8575, 3275,    317.2,   1.0745,  34.8301,2,  34.8316,2,    296.3,2,   -999.0,9,  -999.00,9,  -999.00,9,  -999.00,9,  -999.00,9, -999.000,9, -999.000,9, -999.000,9,  -999.00,9,  -999.00,9,   1.0595
  32PZ20020819,   CBL,    61,  1,     16,     16,2,20020907,0044, 79.1438,-157.8575, 3275,    354.8,   1.1453,  34.8507,2,  34.8517,2,    298.1,2,   -999.0,9,  -999.00,9,  -999.00,9,  -999.00,9,  -999.00,9, -999.000,9, -999.000,9, -999.000,9,  -999.00,9,  -999.00,9,   1.1282
  32PZ20020819,   CBL,    61,  1,     15,     15,2,20020907,0044, 79.1438,-157.8575, 3275,    404.2,   1.0007,  34.8524,2,  34.8534,2,    297.3,2,   -999.0,9,  -999.00,9,  -999.00,9,  -999.00,9,  -999.00,9,    5.411,2,    2.564,2,    0.349,2,  -999.00,9,  -999.00,9,   0.9815
  32PZ20020819,   CBL,    61,  1,     14,     14,2,20020907,0044, 79.1438,-157.8575, 3275,    524.9,   0.6727,  34.8593,2,  34.8585,2,    300.0,2,   -999.0,9,  -999.00,9,  -999.00,9,  -999.00,9,  -999.00,9, -999.000,9, -999.000,9, -999.000,9,  -999.00,9,  -999.00,9,   0.6486
  32PZ20020819,   CBL,    61,  1,     13,     13,2,20020907,0044, 79.1438,-157.8575, 3275,    616.6,   0.4563,  34.8637,2,  34.8639,2,    301.0,2,   -999.0,9,  -999.00,9,  -999.00,9,  -999.00,9,  -999.00,9,    4.582,2,    2.188,2,    0.296,2,  -999.00,9,  -999.00,9,   0.4286
  32PZ20020819,   CBL,    61,  1,     12,     12,2,20020907,0044, 79.1438,-157.8575, 3275,    706.1,   0.2435,  34.8626,2,  34.8637,2,    302.6,2,    303.4,2,     6.60,2,    12.70,2,     0.01,2,     0.90,2,    4.764,2,    2.258,2,    0.316,2,  -999.00,9,  -999.00,9,   0.2125
  32PZ20020819,   CBL,    61,  1,     11,     11,2,20020907,0044, 79.1438,-157.8575, 3275,    805.2,   0.0916,  34.8679,2,  34.8680,2,    303.0,2,    303.4,2,     6.70,2,    12.80,2,     0.01,2,     0.91,2,    4.191,6,    1.964,6,    0.257,6,  -999.00,9,  -999.00,9,   0.0565
  32PZ20020819,   CBL,    61,  1,     10,     10,2,20020907,0044, 79.1438,-157.8575, 3275,    909.4,  -0.0073,  34.8770,2,  34.8768,2,    302.6,2,    302.2,2,     7.00,2,    13.00,2,     0.01,2,     0.92,2,    3.231,2,    1.513,2,    0.178,2,  -999.00,9,  -999.00,9,  -0.0471
  32PZ20020819,   CBL,    61,  1,      9,      9,2,20020907,0044, 79.1438,-157.8575, 3275,   1013.9,  -0.1005,  34.8847,2,  34.8871,2,    302.6,2,   -999.0,9,  -999.00,9,  -999.00,9,  -999.00,9,  -999.00,9,    2.577,2,    1.191,2,    0.133,2,  -999.00,9,  -999.00,9,  -0.1450
  32PZ20020819,   CBL,    61,  1,      8,      8,3,20020907,0044, 79.1438,-157.8575, 3275,   1217.0,  -0.2053,  34.9021,2,-999.0000,9,    300.4,2,   -999.0,9,  -999.00,9,  -999.00,9,  -999.00,9,  -999.00,9, -999.000,9, -999.000,9, -999.000,9,  -999.00,9,  -999.00,9,  -0.2599
  32PZ20020819,   CBL,    61,  1,      7,      7,2,20020907,0044, 79.1438,-157.8575, 3275,   1421.6,  -0.3470,  34.9128,2,  34.9122,2,    299.7,2,    299.5,2,  -999.00,9,  -999.00,9,  -999.00,9,  -999.00,9, -999.000,9, -999.000,9, -999.000,9,  -999.00,9,  -999.00,9,  -0.4118
  32PZ20020819,   CBL,    61,  1,      6,      6,2,20020907,0044, 79.1438,-157.8575, 3275,   1630.3,  -0.3954,  34.9313,2,  34.9321,2,    295.6,2,   -999.0,9,  -999.00,9,  -999.00,9,  -999.00,9,  -999.00,9,    0.424,2,    0.206,2,    0.024,2,  -999.00,9,  -999.00,9,  -0.4721
  32PZ20020819,   CBL,    61,  1,      5,      5,2,20020907,0044, 79.1438,-157.8575, 3275,   1834.4,  -0.4077,  34.9425,2,  34.9421,2,    292.2,2,    291.9,2,  -999.00,9,  -999.00,9,  -999.00,9,  -999.00,9,    0.066,2,    0.043,2,    0.004,2,  -999.00,9,  -999.00,9,  -0.4971
  32PZ20020819,   CBL,    61,  1,      4,      4,2,20020907,0044, 79.1438,-157.8575, 3275,   2038.3,  -0.4121,  34.9490,2,  34.9496,2,    289.1,2,   -999.0,9,  -999.00,9,  -999.00,9,  -999.00,9,  -999.00,9,    0.029,2,    0.015,2,    0.001,2,  -999.00,9,  -999.00,9,  -0.5149
  32PZ20020819,   CBL,    61,  1,      3,      3,2,20020907,0044, 79.1438,-157.8575, 3275,   2448.1,  -0.3837,  34.9560,2,  34.9551,2,    285.6,2,    285.8,2,  -999.00,9,  -999.00,9,  -999.00,9,  -999.00,9,    0.009,2,    0.012,2,    0.001,2,  -999.00,9,  -999.00,9,  -0.5163
  32PZ20020819,   CBL,    61,  1,      2,      2,2,20020907,0044, 79.1438,-157.8575, 3275,   2858.1,  -0.3455,  34.9578,2,  34.9575,2,    284.3,2,   -999.0,9,  -999.00,9,  -999.00,9,  -999.00,9,  -999.00,9,    0.004,2,    0.002,2,   -0.004,2,  -999.00,9,  -999.00,9,  -0.5109
  32PZ20020819,   CBL,    61,  1,      1,      1,2,20020907,0044, 79.1438,-157.8575, 3275,   3288.2,  -0.3079,  34.9577,2,  34.9589,2,    284.6,2,    284.3,2,  -999.00,9,  -999.00,9,  -999.00,9,  -999.00,9,    0.000,2,    0.008,2,    0.009,2,  -999.00,9,  -999.00,9,  -0.5106
  32PZ20020819,   CBL,    62,  1,     28,     28,2,20020907,0525, 79.0523,-157.5973, 3482,     11.0,  -1.5798,  29.9655,2,  30.0189,2,    388.6,2,    390.8,2,  -999.00,9,  -999.00,9,  -999.00,9,  -999.00,9,    7.568,2,    3.782,2,    0.716,2,  -999.00,9,  -999.00,9,  -1.5799
  32PZ20020819,   CBL,    62,  1,     27,     27,2,20020907,0525, 79.0523,-157.5973, 3482,     32.0,  -1.5601,  31.3297,2,  31.3570,2,    394.9,2,    382.2,2,  -999.00,9,  -999.00,9,  -999.00,9,  -999.00,9, -999.000,9, -999.000,9, -999.000,9,  -999.00,9,  -999.00,9,  -1.5606
  32PZ20020819,   CBL,    62,  1,     26,     26,2,20020907,0525, 79.0523,-157.5973, 3482,     56.1,  -1.6359,  31.7334,2,  31.8045,2,    366.8,2,    344.6,2,  -999.00,9,  -999.00,9,  -999.00,9,  -999.00,9, -999.000,9, -999.000,9, -999.000,9,  -999.00,9,  -999.00,9,  -1.6368
  32PZ20020819,   CBL,    62,  1,     25,     25,2,20020907,0525, 79.0523,-157.5973, 3482,     75.9,  -1.5633,  32.3981,2,  32.4486,2,    307.8,2,    280.4,2,    28.00,2,    12.30,2,     0.01,2,     1.73,2, -999.000,9, -999.000,9, -999.000,9,  -999.00,9,  -999.00,9,  -1.5647
  32PZ20020819,   CBL,    62,  1,     24,     24,2,20020907,0525, 79.0523,-157.5973, 3482,     90.4,  -1.4878,  32.7991,2,  32.9261,2,    273.6,2,    245.3,2,    37.90,2,    15.70,2,     0.01,2,     1.94,2, -999.000,9, -999.000,9, -999.000,9,  -999.00,9,  -999.00,9,  -1.4896
  32PZ20020819,   CBL,    62,  1,     23,     23,2,20020907,0525, 79.0523,-157.5973, 3482,    109.7,  -1.4408,  33.4039,2,  33.4434,2,    242.9,2,    242.2,2,    39.80,2,    16.10,2,     0.01,2,     1.89,2, -999.000,9, -999.000,9, -999.000,9,  -999.00,9,  -999.00,9,  -1.4431
  32PZ20020819,   CBL,    62,  1,     22,     22,2,20020907,0525, 79.0523,-157.5973, 3482,    127.5,  -1.4610,  33.8790,2,  33.9008,2,    255.9,2,    286.1,2,    15.40,2,    10.60,2,     0.01,2,     1.04,2, -999.000,9, -999.000,9, -999.000,9,  -999.00,9,  -999.00,9,  -1.4638
  32PZ20020819,   CBL,    62,  1,     21,     21,2,20020907,0525, 79.0523,-157.5973, 3482,    137.0,  -1.4151,  34.0364,2,  34.0491,2,    279.5,2,    295.6,2,    10.60,2,    10.00,2,     0.01,2,     0.88,2, -999.000,9, -999.000,9, -999.000,9,  -999.00,9,  -999.00,9,  -1.4183
  32PZ20020819,   CBL,    62,  1,     20,     20,2,20020907,0525, 79.0523,-157.5973, 3482,    161.7,  -1.0105,  34.2602,2,  34.2687,2,    303.6,2,    305.1,2,  -999.00,9,  -999.00,9,  -999.00,9,  -999.00,9,    6.672,2,    3.132,2,    0.512,2,  -999.00,9,  -999.00,9,  -1.0149
  32PZ20020819,   CBL,    62,  1,     19,     19,2,20020907,0525, 79.0523,-157.5973, 3482,    218.4,   0.1083,  34.5600,2,  34.5609,2,    301.1,2,    298.4,2,  -999.00,9,  -999.00,9,  -999.00,9,  -999.00,9, -999.000,9, -999.000,9, -999.000,9,  -999.00,9,  -999.00,9,   0.1000
  32PZ20020819,   CBL,    62,  1,     18,     18,2,20020907,0525, 79.0523,-157.5973, 3482,    305.5,   0.9265,  34.8004,2,  34.7997,2,    299.6,2,   -999.0,9,  -999.00,9,  -999.00,9,  -999.00,9,  -999.00,9,    5.225,2,    2.447,2,    0.388,2,  -999.00,9,  -999.00,9,   0.9125
  32PZ20020819,   CBL,    62,  1,     17,     17,2,20020907,0525, 79.0523,-157.5973, 3482,    354.4,   1.0484,  34.8474,2,  34.8459,2,    299.8,2,   -999.0,9,  -999.00,9,  -999.00,9,  -999.00,9,  -999.00,9,    4.993,2,    2.303,2,    0.322,2,  -999.00,9,  -999.00,9,   1.0316
  32PZ20020819,   CBL,    62,  1,     16,     16,2,20020907,0525, 79.0523,-157.5973, 3482,    416.1,   0.9036,  34.8503,2,  34.8540,2,    298.2,2,    299.9,2,  -999.00,9,  -999.00,9,  -999.00,9,  -999.00,9,    4.851,2,    2.256,2,    0.305,2,  -999.00,9,  -999.00,9,   0.8841
  32PZ20020819,   CBL,    62,  1,     15,     15,2,20020907,0525, 79.0523,-157.5973, 3482,    430.1,   0.9040,  34.8621,2,  34.8611,2,    299.6,2,    301.1,2,  -999.00,9,  -999.00,9,  -999.00,9,  -999.00,9,    4.894,2,    2.257,2,    0.305,2,  -999.00,9,  -999.00,9,   0.8838
  32PZ20020819,   CBL,    62,  1,     14,     14,2,20020907,0525, 79.0523,-157.5973, 3482,    527.7,   0.5769,  34.8541,2,  34.8595,2,    298.4,2,   -999.0,9,  -999.00,9,  -999.00,9,  -999.00,9,  -999.00,9,    3.732,2,    1.713,2,    0.195,2,  -999.00,9,  -999.00,9,   0.5531
  32PZ20020819,   CBL,    62,  1,     13,     13,2,20020907,0525, 79.0523,-157.5973, 3482,    608.3,   0.4588,  34.8646,2,  34.8641,2,    299.1,2,   -999.0,9,  -999.00,9,  -999.00,9,  -999.00,9,  -999.00,9,    3.595,6,    1.682,6,    0.204,6,  -999.00,9,  -999.00,9,   0.4315
  32PZ20020819,   CBL,    62,  1,     12,     12,2,20020907,0525, 79.0523,-157.5973, 3482,    710.1,   0.2640,  34.8670,2,  34.8682,2,    301.6,2,    302.4,2,     6.60,2,    12.80,2,     0.01,2,     0.91,2,    3.917,2,    1.817,2,    0.226,2,  -999.00,9,  -999.00,9,   0.2326
  32PZ20020819,   CBL,    62,  1,     11,     11,2,20020907,0525, 79.0523,-157.5973, 3482,    810.5,   0.1173,  34.8714,2,  34.8706,2,    302.2,2,    301.4,2,     6.80,2,    13.00,2,     0.01,2,     0.92,2,    3.189,6,    1.470,6,    0.168,6,  -999.00,9,  -999.00,9,   0.0817
  32PZ20020819,   CBL,    62,  1,     10,     10,2,20020907,0525, 79.0523,-157.5973, 3482,    911.1,  -0.0119,  34.8773,2,  34.8763,2,    302.8,2,    303.4,2,     6.90,2,    13.00,2,     0.01,2,     0.92,2,    3.361,2,    1.562,2,    0.188,2,  -999.00,9,  -999.00,9,  -0.0517
  32PZ20020819,   CBL,    62,  1,      9,      9,2,20020907,0525, 79.0523,-157.5973, 3482,   1015.3,  -0.1161,  34.8828,2,  34.8824,2,    303.3,2,    302.6,2,  -999.00,9,  -999.00,9,  -999.00,9,  -999.00,9,    3.351,2,    1.558,2,    0.191,2,  -999.00,9,  -999.00,9,  -0.1606
  32PZ20020819,   CBL,    62,  1,      8,      8,3,20020907,0525, 79.0523,-157.5973, 3482,   1217.7,  -0.2402,  34.8991,2,  34.8986,2,    301.8,2,   -999.0,9,  -999.00,9,  -999.00,9,  -999.00,9,  -999.00,9, -999.000,9, -999.000,9, -999.000,9,  -999.00,9,  -999.00,9,  -0.2945
  32PZ20020819,   CBL,    62,  1,      7,      7,2,20020907,0525, 79.0523,-157.5973, 3482,   1420.2,  -0.3229,  34.9149,2,  34.9184,2,    299.1,2,    299.1,2,  -999.00,9,  -999.00,9,  -999.00,9,  -999.00,9,    1.041,2,    0.496,2,    0.039,2,  -999.00,9,  -999.00,9,  -0.3879
  32PZ20020819,   CBL,    62,  1,      6,      6,2,20020907,0525, 79.0523,-157.5973, 3482,   1623.5,  -0.3626,  34.9302,2,  34.9301,2,    296.8,2,   -999.0,9,  -999.00,9,  -999.00,9,  -999.00,9,  -999.00,9,    0.248,2,    0.122,2,    0.004,2,  -999.00,9,  -999.00,9,  -0.4393
  32PZ20020819,   CBL,    62,  1,      5,      5,2,20020907,0525, 79.0523,-157.5973, 3482,   1832.9,  -0.4003,  34.9406,2,  34.9391,2,    293.8,2,    293.4,2,  -999.00,9,  -999.00,9,  -999.00,9,  -999.00,9,    0.102,2,    0.047,2,    0.001,2,  -999.00,9,  -999.00,9,  -0.4897
  32PZ20020819,   CBL,    62,  1,      4,      4,2,20020907,0525, 79.0523,-157.5973, 3482,   2041.0,  -0.4096,  34.9477,2,  34.9478,2,    290.9,2,   -999.0,9,  -999.00,9,  -999.00,9,  -999.00,9,  -999.00,9, -999.000,9, -999.000,9, -999.000,9,  -999.00,9,  -999.00,9,  -0.5127
  32PZ20020819,   CBL,    62,  1,      3,      3,2,20020907,0525, 79.0523,-157.5973, 3482,   2449.9,  -0.3843,  34.9557,2,  34.9551,2,    286.6,2,    285.6,2,  -999.00,9,  -999.00,9,  -999.00,9,  -999.00,9,    0.000,2,    0.001,2,    0.000,2,  -999.00,9,  -999.00,9,  -0.5170
  32PZ20020819,   CBL,    62,  1,      2,      2,2,20020907,0525, 79.0523,-157.5973, 3482,   2859.3,  -0.3459,  34.9580,2,  34.9571,2,    284.7,2,   -999.0,9,  -999.00,9,  -999.00,9,  -999.00,9,  -999.00,9,    0.000,2,    0.002,2,    0.002,2,  -999.00,9,  -999.00,9,  -0.5114
  32PZ20020819,   CBL,    62,  1,      1,      1,2,20020907,0525, 79.0523,-157.5973, 3482,   3484.6,  -0.2908,  34.9579,2,  34.9569,2,    284.6,2,    284.4,2,  -999.00,9,  -999.00,9,  -999.00,9,  -999.00,9,    0.000,2,    0.000,2,    0.002,2,  -999.00,9,  -999.00,9,  -0.5116