BOTTLE,20220815CCHSIOAMB
EXPOCODE,SECT_ID,STNNBR,CASTNO,SAMPNO,BTLNBR,BTLNBR_FLAG_W,DATE,TIME,LATITUDE,LONGITUDE,DEPTH,CTDPRS,CTDTMP,CTDSAL,CTDSAL_FLAG_W,SALNTY,SALNTY_FLAG_W,CTDOXY,CTDOXY_FLAG_W,OXYGEN,OXYGEN_FLAG_W,SILCAT,SILCAT_FLAG_W,NITRAT,NITRAT_FLAG_W,NITRIT,NITRIT_FLAG_W,PHSPHT,PHSPHT_FLAG_W,CFC-11,CFC-11_FLAG_W,CFC-12,CFC-12_FLAG_W,CFC113,CFC113_FLAG_W,DELO18,DELO18_FLAG_W,BARIUM,BARIUM_FLAG_W,THETA
,,,,,,,,,,,METERS,DBAR,ITS-90,PSS-78,,PSS-78,,UMOL/KG,,UMOL/KG,,UMOL/KG,,UMOL/KG,,UMOL/KG,,UMOL/KG,,PMOL/KG,,PMOL/KG,,PMOL/KG,,/MILLE,,NMOL/KG,,DEG C
  32PZ20020819,   CBL,    89,  1,     24,     24,2,20020912,2238, 77.2322,-162.1617, 2642,     13.2,  -1.5687,  29.5165,2,  29.5486,2,    381.2,2,    382.2,2,     1.30,2,     0.10,2,     0.00,2,     0.76,2,    7.562,2,    3.862,2,    0.676,2,    -2.46,2,    61.30,2,  -1.5689
  32PZ20020819,   CBL,    89,  1,     23,     23,2,20020912,2238, 77.2322,-162.1617, 2642,     30.8,  -1.0877,  30.6451,2,  30.8834,2,    387.6,2,    377.1,2,     5.70,2,     1.10,2,     0.23,2,     0.91,2,    7.194,6,    3.643,6,    0.641,6,  -999.00,9,  -999.00,9,  -1.0883
  32PZ20020819,   CBL,    89,  1,     22,     22,2,20020912,2238, 77.2322,-162.1617, 2642,     45.7,  -0.7929,  31.7131,2,  31.8350,2,    357.8,2,    334.5,2,    14.50,2,     6.50,2,     0.03,2,     1.27,2,    6.915,2,    3.438,2,    0.543,2,    -1.86,2,    61.50,2,  -0.7940
  32PZ20020819,   CBL,    89,  1,     21,     21,2,20020912,2238, 77.2322,-162.1617, 2642,     60.6,  -1.3092,  32.1658,2,  32.2168,2,    324.7,2,    308.2,2,    20.00,2,     9.80,2,     0.02,2,     1.49,2,    6.797,2,    3.402,2,    0.529,2,    -1.61,2,    62.90,2,  -1.3104
  32PZ20020819,   CBL,    89,  1,     20,     20,2,20020912,2238, 77.2322,-162.1617, 2642,     81.1,  -1.2350,  32.5317,2,  32.5526,2,    292.4,2,    285.7,2,    28.50,2,    12.90,2,     0.02,2,     1.75,2,    6.257,2,    3.163,2,    0.436,2,    -1.68,2,    67.60,2,  -1.2367
  32PZ20020819,   CBL,    89,  1,     19,     19,2,20020912,2238, 77.2322,-162.1617, 2642,    101.5,  -1.3494,  32.7866,2,  32.7910,2,    272.4,2,    273.6,2,    35.00,2,    15.20,2,     0.02,2,     1.96,2,    6.188,2,    3.101,2,    0.428,2,    -1.52,2,    69.10,2,  -1.3515
  32PZ20020819,   CBL,    89,  1,     18,     18,2,20020912,2238, 77.2322,-162.1617, 2642,    121.6,  -1.5422,  33.0306,2,  33.0626,2,    272.6,2,    271.2,2,    36.80,2,    15.70,2,     0.02,2,     1.94,2,    6.011,2,    3.007,2,    0.407,2,    -1.40,2,    70.60,2,  -1.5446
  32PZ20020819,   CBL,    89,  1,     17,     17,2,20020912,2238, 77.2322,-162.1617, 2642,    131.5,  -1.5332,  33.2147,2,  33.2425,2,    268.5,2,    264.7,2,    39.40,2,    16.40,2,     0.02,2,     1.98,2,    5.964,2,    2.978,2,    0.422,2,    -1.53,2,    68.50,2,  -1.5359
  32PZ20020819,   CBL,    89,  1,     16,     16,2,20020912,2238, 77.2322,-162.1617, 2642,    152.5,  -1.3006,  33.6618,2,  33.7084,2,    251.6,2,    248.5,2,    37.00,2,    16.00,2,     0.02,2,     1.80,2,    5.619,2,    2.726,2,    0.336,2,    -0.97,2,    64.90,2,  -1.3042
  32PZ20020819,   CBL,    89,  1,     15,     15,2,20020912,2238, 77.2322,-162.1617, 2642,    173.7,  -0.8388,  34.1728,2,  34.2076,2,    240.5,2,    243.1,2,    26.80,2,    14.50,2,     0.01,2,     1.40,2,    5.199,2,    2.403,2,    0.261,2,    -0.42,2,    49.10,2,  -0.8438
  32PZ20020819,   CBL,    89,  1,     14,     14,2,20020912,2238, 77.2322,-162.1617, 2642,    200.7,  -0.4073,  34.4354,2,  34.4477,2,    256.5,2,    269.3,2,    13.90,2,    12.40,2,     0.01,2,     1.00,2,    5.643,2,    2.600,2,    0.296,2,  -999.00,9,  -999.00,9,  -0.4140
  32PZ20020819,   CBL,    89,  1,     13,     13,2,20020912,2238, 77.2322,-162.1617, 2642,    232.4,   0.2453,  34.6135,2,  34.6192,2,    274.8,2,    279.4,2,    10.00,2,    12.50,2,     0.01,2,     0.90,2,    5.605,6,    2.575,6,    0.316,6,  -999.00,9,  -999.00,9,   0.2362
  32PZ20020819,   CBL,    89,  1,     12,     12,2,20020912,2238, 77.2322,-162.1617, 2642,    281.8,   0.7610,  34.7543,2,  34.7591,2,    287.4,2,    288.8,2,     7.50,2,    12.60,2,     0.01,2,     0.87,2,    5.393,2,    2.446,2,    0.317,2,  -999.00,9,  -999.00,9,   0.7485
  32PZ20020819,   CBL,    89,  1,     11,     11,2,20020912,2238, 77.2322,-162.1617, 2642,    331.3,   1.0167,  34.8201,2,  34.8230,2,    293.8,2,    293.9,2,     6.80,2,    12.60,2,     0.01,2,     0.87,2,    5.286,2,    2.408,2,    0.318,2,  -999.00,9,  -999.00,9,   1.0011
  32PZ20020819,   CBL,    89,  1,     10,     10,2,20020912,2238, 77.2322,-162.1617, 2642,    380.8,   1.1050,  34.8443,2,  34.8485,2,    297.0,2,    296.8,2,     6.60,2,    12.60,2,     0.01,2,     0.86,2,    5.272,2,    2.449,2, -999.000,9,     0.28,2,    41.70,2,   1.0866
  32PZ20020819,   CBL,    89,  1,      9,      9,2,20020912,2238, 77.2322,-162.1617, 2642,    420.5,   0.9857,  34.8486,2,  34.8454,2,    296.8,2,    296.5,2,     6.90,2,    12.70,2,     0.01,2,     0.86,2,    5.212,2,    2.391,2,    0.308,2,  -999.00,9,  -999.00,9,   0.9657
  32PZ20020819,   CBL,    89,  1,      8,      8,2,20020912,2238, 77.2322,-162.1617, 2642,    554.1,   0.6288,  34.8580,2,  34.8595,2,    299.3,2,    299.2,2,     6.90,2,    12.70,2,     0.01,2,     0.87,2,    5.000,2,    2.302,2, -999.000,9,  -999.00,9,  -999.00,9,   0.6034
  32PZ20020819,   CBL,    89,  1,      7,      7,2,20020912,2238, 77.2322,-162.1617, 2642,    707.4,   0.2937,  34.8621,2,  34.8633,2,    301.1,2,    301.4,2,     6.70,2,    12.70,2,     0.01,2,     0.87,2,    4.354,2,    2.020,2,    0.219,2,  -999.00,9,  -999.00,9,   0.2623
  32PZ20020819,   CBL,    89,  1,      6,      6,2,20020912,2238, 77.2322,-162.1617, 2642,    855.8,   0.0830,  34.8690,2,  34.8694,2,    302.3,2,    302.6,2,     6.70,2,    12.70,2,     0.01,2,     0.88,2,    4.179,2,    1.899,2,    0.223,2,  -999.00,9,  -999.00,9,   0.0454
  32PZ20020819,   CBL,    89,  1,      5,      5,2,20020912,2238, 77.2322,-162.1617, 2642,   1169.5,  -0.1498,  34.8933,2,  34.8951,2,    299.8,2,    299.4,2,     8.10,2,    13.20,2,     0.01,2,     0.92,2,    2.194,2,    1.008,2,    0.084,2,  -999.00,9,  -999.00,9,  -0.2023
  32PZ20020819,   CBL,    89,  1,      4,      4,2,20020912,2238, 77.2322,-162.1617, 2642,   1428.1,  -0.3019,  34.9129,2,  34.9138,2,    297.3,2,    297.4,2,     9.00,2,    13.70,2,     0.01,2,     0.95,2,    1.209,2,    0.554,2,    0.024,2,  -999.00,9,  -999.00,9,  -0.3676
  32PZ20020819,   CBL,    89,  1,      3,      3,2,20020912,2238, 77.2322,-162.1617, 2642,   1830.8,  -0.3583,  34.9263,2,  34.9307,2,    294.8,2,    294.6,2,    10.20,2,    14.10,2,     0.01,2,     0.98,2,    0.703,2,    0.336,2, -999.000,9,  -999.00,9,  -999.00,9,  -0.4481
  32PZ20020819,   CBL,    89,  1,      2,      2,2,20020912,2238, 77.2322,-162.1617, 2642,   2231.5,  -0.3467,  34.9315,2,  34.9325,2,    292.7,2,    293.2,2,    10.90,2,    14.20,2,     0.02,2,     1.00,2,    0.393,2,    0.179,2,    0.000,2,  -999.00,9,  -999.00,9,  -0.4640
  32PZ20020819,   CBL,    89,  1,      1,      1,2,20020912,2238, 77.2322,-162.1617, 2642,   2627.0,  -0.3140,  34.9323,2,  34.9338,2,    292.5,2,    292.0,2,    11.20,2,    14.20,2,     0.01,2,     1.00,2,    0.392,2,    0.191,2,    0.001,2,  -999.00,9,  -999.00,9,  -0.4615
  32PZ20020819,   CBL,    90,  1,     19,     19,2,20020913,0246, 77.2813,-162.7833, 2403,     12.4,  -1.5390,  29.1975,2,  29.2213,2,    376.6,2,    378.7,2,     2.10,2,     0.10,2,     0.00,2,     0.74,2,    7.797,2,    3.958,2,    0.765,2,  -999.00,9,  -999.00,9,  -1.5391
  32PZ20020819,   CBL,    90,  1,     18,     18,2,20020913,0246, 77.2813,-162.7833, 2403,     30.6,  -1.3179,  30.8234,2,-999.0000,9,    385.3,2,    378.5,2,     7.30,2,     1.90,2,     0.18,2,     0.97,2, -999.000,9, -999.000,9, -999.000,9,  -999.00,9,  -999.00,9,  -1.3184
  32PZ20020819,   CBL,    90,  1,     17,     17,2,20020913,0246, 77.2813,-162.7833, 2403,     51.2,  -1.3644,  31.9738,2,-999.0000,9,    337.8,2,    319.6,2,    17.90,2,     8.60,2,     0.02,2,     1.40,2, -999.000,9, -999.000,9, -999.000,9,  -999.00,9,  -999.00,9,  -1.3654
  32PZ20020819,   CBL,    90,  1,     16,     16,2,20020913,0246, 77.2813,-162.7833, 2403,     76.8,  -1.4267,  32.4670,2,-999.0000,9,    299.7,2,   -999.0,9,    27.00,2,    12.90,2,     0.01,2,     1.71,2, -999.000,9, -999.000,9, -999.000,9,  -999.00,9,  -999.00,9,  -1.4282
  32PZ20020819,   CBL,    90,  1,     15,     15,2,20020913,0246, 77.2813,-162.7833, 2403,     97.5,  -1.3988,  32.7552,2,  32.7800,2,    280.1,2,    273.2,2,    34.60,2,    15.10,2,     0.01,2,     1.92,2, -999.000,9, -999.000,9, -999.000,9,  -999.00,9,  -999.00,9,  -1.4008
  32PZ20020819,   CBL,    90,  1,     14,     14,2,20020913,0246, 77.2813,-162.7833, 2403,    105.1,  -1.4743,  32.8414,2,-999.0000,9,    281.5,2,    280.7,2,    34.50,2,    14.70,2,     0.01,2,     1.88,2, -999.000,9, -999.000,9, -999.000,9,  -999.00,9,  -999.00,9,  -1.4764
  32PZ20020819,   CBL,    90,  1,     13,     13,2,20020913,0246, 77.2813,-162.7833, 2403,    121.5,  -1.5346,  33.0758,2,  33.1157,2,    272.8,2,    264.2,2,    39.00,2,    16.40,2,     0.01,2,     2.00,2,    6.117,6,    3.082,6,    0.447,6,  -999.00,9,  -999.00,9,  -1.5370
  32PZ20020819,   CBL,    90,  1,     12,     12,2,20020913,0246, 77.2813,-162.7833, 2403,    138.1,  -1.4967,  33.3517,2,  33.3408,2,    273.7,2,    270.2,2,    38.70,2,    15.90,2,     0.01,2,     1.91,2, -999.000,9, -999.000,9, -999.000,9,  -999.00,9,  -999.00,9,  -1.4996
  32PZ20020819,   CBL,    90,  1,     11,     11,2,20020913,0246, 77.2813,-162.7833, 2403,    175.0,  -0.9196,  34.1963,2,  34.1959,2,    248.5,2,    249.9,2,    24.30,2,    14.10,2,     0.01,2,     1.32,2,    5.424,2,    2.514,2,    0.329,2,  -999.00,9,  -999.00,9,  -0.9245
  32PZ20020819,   CBL,    90,  1,     10,     10,2,20020913,0246, 77.2813,-162.7833, 2403,    304.7,   0.8965,  34.7915,2,  34.7956,2,    292.7,2,    292.5,2,     7.10,2,    12.70,2,     0.00,2,     0.87,2,    5.335,2,    2.478,2,    0.350,2,  -999.00,9,  -999.00,9,   0.8826
  32PZ20020819,   CBL,    90,  1,      9,      9,2,20020913,0246, 77.2813,-162.7833, 2403,    364.0,   1.0542,  34.8361,2,-999.0000,9,    294.7,2,   -999.0,9,     7.00,2,    12.80,2,     0.00,2,     0.87,2,    5.332,6,    2.453,6,    0.337,6,  -999.00,9,  -999.00,9,   1.0369
  32PZ20020819,   CBL,    90,  1,      8,      8,2,20020913,0246, 77.2813,-162.7833, 2403,    430.1,   0.9033,  34.8465,2,  34.8496,2,    295.1,2,   -999.0,9,     7.20,2,    12.80,2,     0.00,2,     0.87,2,    5.033,2,    2.378,2,    0.320,2,  -999.00,9,  -999.00,9,   0.8831
  32PZ20020819,   CBL,    90,  1,      7,      7,2,20020913,0246, 77.2813,-162.7833, 2403,    506.3,   0.7318,  34.8551,2,-999.0000,9,    297.1,2,   -999.0,9,  -999.00,9,  -999.00,9,  -999.00,9,  -999.00,9,    4.896,2,    2.266,2,    0.309,2,  -999.00,9,  -999.00,9,   0.7084
  32PZ20020819,   CBL,    90,  1,      6,      6,2,20020913,0246, 77.2813,-162.7833, 2403,    568.7,   0.5855,  34.8564,2,  34.8561,2,    298.0,2,   -999.0,9,  -999.00,9,  -999.00,9,  -999.00,9,  -999.00,9,    4.830,2,    2.268,2,    0.305,2,  -999.00,9,  -999.00,9,   0.5596
  32PZ20020819,   CBL,    90,  1,      5,      5,2,20020913,0246, 77.2813,-162.7833, 2403,    714.3,   0.3181,  34.8614,2,-999.0000,9,    300.3,2,   -999.0,9,  -999.00,9,  -999.00,9,  -999.00,9,  -999.00,9,    4.337,2,    2.071,2,    0.273,2,  -999.00,9,  -999.00,9,   0.2862
  32PZ20020819,   CBL,    90,  1,      4,      4,2,20020913,0246, 77.2813,-162.7833, 2403,    814.0,   0.1803,  34.8658,2,  34.8671,2,    301.6,2,    301.4,2,  -999.00,9,  -999.00,9,  -999.00,9,  -999.00,9,    4.139,2,    1.925,2,    0.245,2,  -999.00,9,  -999.00,9,   0.1441
  32PZ20020819,   CBL,    90,  1,      3,      3,2,20020913,0246, 77.2813,-162.7833, 2403,    911.6,   0.0708,  34.8707,2,  34.8709,2,    300.6,2,   -999.0,9,  -999.00,9,  -999.00,9,  -999.00,9,  -999.00,9,    3.836,2,    1.772,2,    0.218,2,  -999.00,9,  -999.00,9,   0.0303
  32PZ20020819,   CBL,    90,  1,      2,      2,2,20020913,0246, 77.2813,-162.7833, 2403,   1346.0,  -0.2440,  34.9058,2,  34.9069,2,    298.4,2,    298.3,2,  -999.00,9,  -999.00,9,  -999.00,9,  -999.00,9, -999.000,9, -999.000,9, -999.000,9,  -999.00,9,  -999.00,9,  -0.3055
  32PZ20020819,   CBL,    90,  1,      1,      1,2,20020913,0246, 77.2813,-162.7833, 2403,   2484.5,  -0.3252,  34.9327,2,  34.9326,2,    292.2,2,    292.3,2,  -999.00,9,  -999.00,9,  -999.00,9,  -999.00,9,    0.433,2,    0.211,2,    0.015,2,  -999.00,9,  -999.00,9,  -0.4615
  32PZ20020819,   CBL,    91,  1,     24,     24,2,20020913,0536, 77.2827,-163.0590, 1015,     15.0,  -1.5261,  29.1605,2,  29.1621,2,    376.8,2,    378.6,2,     2.00,2,     0.10,2,     0.00,2,     0.74,2,    7.746,2,    3.827,2,    0.712,2,    -2.51,2,    60.40,2,  -1.5263
  32PZ20020819,   CBL,    91,  1,     23,     23,2,20020913,0536, 77.2827,-163.0590, 1015,     30.9,  -1.3091,  30.9872,2,  31.0370,2,    383.8,2,    379.9,2,     7.70,2,     1.90,2,     0.24,2,     0.98,2,    7.373,2,    3.683,2,    0.649,2,  -999.00,9,  -999.00,9,  -1.3096
  32PZ20020819,   CBL,    91,  1,     22,     22,2,20020913,0536, 77.2827,-163.0590, 1015,     47.0,  -1.3379,  31.9180,2,  31.9627,2,    346.8,2,    323.1,2,    17.30,2,     8.20,2,     0.02,2,     1.38,2,    7.006,2,    3.482,2,    0.563,2,    -1.67,2,    61.70,2,  -1.3388
  32PZ20020819,   CBL,    91,  1,     21,     21,2,20020913,0536, 77.2827,-163.0590, 1015,     61.6,  -1.3998,  32.2398,2,  32.2400,2,    316.7,2,    306.2,2,    20.90,2,    10.40,2,     0.01,2,     1.53,2,    6.654,2,    3.304,2,    0.505,2,    -1.56,2,    62.70,2,  -1.4010
  32PZ20020819,   CBL,    91,  1,     20,     20,2,20020913,0536, 77.2827,-163.0590, 1015,     86.1,  -1.4100,  32.5792,2,  32.5963,2,    289.9,2,    281.8,2,    30.20,2,    13.90,2,     0.01,2,     1.80,2,    6.342,2,    3.148,2,    0.460,2,    -1.26,2,    67.40,2,  -1.4117
  32PZ20020819,   CBL,    91,  1,     19,     19,2,20020913,0536, 77.2827,-163.0590, 1015,    104.8,  -1.4673,  32.8255,2,  32.8454,2,    275.3,2,    272.2,2,    35.30,2,    15.20,2,     0.01,2,     1.93,2,    6.219,2,    3.101,2,    0.449,2,    -0.96,2,    69.00,2,  -1.4694
  32PZ20020819,   CBL,    91,  1,     18,     18,2,20020913,0536, 77.2827,-163.0590, 1015,    121.8,  -1.5549,  33.1208,2,  33.1336,2,    275.2,2,    272.5,2,    37.50,2,    15.60,2,     0.01,2,     1.92,2,    6.126,2,    2.965,2,    0.427,2,    -1.57,2,    71.50,2,  -1.5573
  32PZ20020819,   CBL,    91,  1,     17,     17,2,20020913,0536, 77.2827,-163.0590, 1015,    136.6,  -1.5149,  33.3357,2,  33.3958,2,    272.5,2,    262.4,2,    40.10,2,    16.40,2,     0.00,2,     1.96,2,    5.768,2,    2.888,2,    0.403,2,    -1.30,2,    68.60,2,  -1.5178
  32PZ20020819,   CBL,    91,  1,     16,     16,2,20020913,0536, 77.2827,-163.0590, 1015,    172.0,  -0.9384,  34.0827,2,  34.1116,2,    239.8,2,    242.7,2,    29.70,2,    15.00,2,     0.00,2,     1.50,2,    5.267,2,    2.442,2,    0.298,2,    -0.41,2,    53.70,2,  -0.9432
  32PZ20020819,   CBL,    91,  1,     15,     15,2,20020913,0536, 77.2827,-163.0590, 1015,    202.6,  -0.3695,  34.4486,2,  34.4687,2,    262.3,2,    269.4,2,    13.70,2,    12.60,2,     0.00,2,     0.99,2,    5.827,6,    2.619,6,    0.337,6,  -999.00,9,  -999.00,9,  -0.3763
  32PZ20020819,   CBL,    91,  1,     14,     14,2,20020913,0536, 77.2827,-163.0590, 1015,    242.3,   0.3928,  34.6540,2,  34.6557,2,    279.3,2,    282.5,2,     9.30,2,    12.70,2,     0.00,2,     0.90,2,    5.556,2,    2.521,2,    0.330,2,  -999.00,9,  -999.00,9,   0.3829
  32PZ20020819,   CBL,    91,  1,     13,     13,2,20020913,0536, 77.2827,-163.0590, 1015,    281.8,   0.8141,  34.7639,2,  34.7644,2,    287.9,2,    288.2,2,     7.90,2,    12.80,2,     0.00,2,     0.88,2,    5.480,2,    2.500,2,    0.330,2,  -999.00,9,  -999.00,9,   0.8015
  32PZ20020819,   CBL,    91,  1,     12,     12,2,20020913,0536, 77.2827,-163.0590, 1015,    322.3,   0.9524,  34.8061,2,  34.8073,2,    292.8,2,    292.3,2,     7.20,2,    12.70,2,     0.00,2,     0.87,2,    5.366,2,    2.451,2,    0.323,2,  -999.00,9,  -999.00,9,   0.9375
  32PZ20020819,   CBL,    91,  1,     11,     11,2,20020913,0536, 77.2827,-163.0590, 1015,    371.5,   1.0463,  34.8409,2,  34.8401,2,    295.8,2,    295.9,2,     6.90,2,    12.80,2,     0.00,2,     0.87,2,    5.278,2,    2.401,2,    0.320,2,     0.27,2,    43.70,2,   1.0286
  32PZ20020819,   CBL,    91,  1,     10,     10,2,20020913,0536, 77.2827,-163.0590, 1015,    414.6,   0.9056,  34.8448,2,  34.8435,2,    296.5,2,    295.6,2,     7.20,2,    12.90,2,     0.00,2,     0.88,2,    5.138,2,    2.342,2,    0.302,2,  -999.00,9,  -999.00,9,   0.8862
  32PZ20020819,   CBL,    91,  1,      9,      9,2,20020913,0536, 77.2827,-163.0590, 1015,    456.6,   0.8123,  34.8524,2,  34.8520,2,    297.5,2,    297.4,2,     7.10,2,    12.90,2,     0.00,2,     0.88,2,    5.006,2,    2.297,2,    0.303,2,  -999.00,9,  -999.00,9,   0.7911
  32PZ20020819,   CBL,    91,  1,      8,      8,2,20020913,0536, 77.2827,-163.0590, 1015,    506.2,   0.6876,  34.8552,2,  34.8538,2,    298.5,2,    298.0,2,     7.30,2,    12.90,2,     0.00,2,     0.88,2,    4.969,2,    2.258,2,    0.289,2,  -999.00,9,  -999.00,9,   0.6644
  32PZ20020819,   CBL,    91,  1,      7,      7,2,20020913,0536, 77.2827,-163.0590, 1015,    607.7,   0.4916,  34.8611,2,  34.8607,2,    300.2,2,    300.7,2,     7.00,2,    12.80,2,     0.00,2,     0.88,2,    4.809,2,    2.206,2,    0.290,2,  -999.00,9,  -999.00,9,   0.4642
  32PZ20020819,   CBL,    91,  1,      6,      6,2,20020913,0536, 77.2827,-163.0590, 1015,    706.0,   0.2914,  34.8625,2,  34.8619,2,    301.8,2,    302.4,2,     7.00,2,    12.90,2,     0.00,2,     0.88,2,    4.460,2,    2.023,2,    0.255,2,  -999.00,9,  -999.00,9,   0.2601
  32PZ20020819,   CBL,    91,  1,      5,      5,2,20020913,0536, 77.2827,-163.0590, 1015,    804.2,   0.1646,  34.8663,2,  34.8659,2,    302.1,2,    302.4,2,     7.00,2,    12.90,2,     0.00,2,     0.89,2,    4.400,2,    2.016,2,    0.253,2,     0.19,2,    43.60,2,   0.1291
  32PZ20020819,   CBL,    91,  1,      4,      4,2,20020913,0536, 77.2827,-163.0590, 1015,    917.4,   0.0493,  34.8712,2,  34.8706,2,    302.4,2,    302.5,2,     7.20,2,    12.90,2,     0.00,2,     0.89,2,    4.043,2,    1.851,2,    0.226,2,  -999.00,9,  -999.00,9,   0.0087
  32PZ20020819,   CBL,    91,  1,      3,      3,2,20020913,0536, 77.2827,-163.0590, 1015,   1034.7,  -0.0083,  34.8758,2,  34.8756,2,    302.4,2,    301.9,2,     7.30,2,    13.00,2,     0.00,2,     0.90,2,    3.630,6,    1.676,6,    0.204,6,  -999.00,9,  -999.00,9,  -0.0547
  32PZ20020819,   CBL,    91,  1,      2,      2,2,20020913,0536, 77.2827,-163.0590, 1015,   1083.3,  -0.0536,  34.8802,2,  34.8791,2,    301.4,2,    302.0,2,     7.50,2,    13.10,2,     0.00,2,     0.91,2,    3.360,2,    1.547,2,    0.175,2,  -999.00,9,  -999.00,9,  -0.1022
  32PZ20020819,   CBL,    91,  1,      1,      1,2,20020913,0536, 77.2827,-163.0590, 1015,   1112.6,  -0.0681,  34.8820,2,  34.8811,2,    301.3,2,    301.2,2,     7.70,2,    13.10,2,     0.00,2,     0.91,2,    3.198,2,    1.482,2,    0.179,2,  -999.00,9,  -999.00,9,  -0.1182