BOTTLE,20220815CCHSIOAMB
EXPOCODE,SECT_ID,STNNBR,CASTNO,SAMPNO,BTLNBR,BTLNBR_FLAG_W,DATE,TIME,LATITUDE,LONGITUDE,DEPTH,CTDPRS,CTDTMP,CTDSAL,CTDSAL_FLAG_W,SALNTY,SALNTY_FLAG_W,CTDOXY,CTDOXY_FLAG_W,OXYGEN,OXYGEN_FLAG_W,SILCAT,SILCAT_FLAG_W,NITRAT,NITRAT_FLAG_W,NITRIT,NITRIT_FLAG_W,PHSPHT,PHSPHT_FLAG_W,CFC-11,CFC-11_FLAG_W,CFC-12,CFC-12_FLAG_W,CFC113,CFC113_FLAG_W,DELO18,DELO18_FLAG_W,BARIUM,BARIUM_FLAG_W,THETA
,,,,,,,,,,,METERS,DBAR,ITS-90,PSS-78,,PSS-78,,UMOL/KG,,UMOL/KG,,UMOL/KG,,UMOL/KG,,UMOL/KG,,UMOL/KG,,PMOL/KG,,PMOL/KG,,PMOL/KG,,/MILLE,,NMOL/KG,,DEG C
  32PZ20020819,   CBL,    75,  1,     30,     30,2,20020909,2254, 77.7098,-152.6285, 3064,     14.9,  -1.5345,  29.0028,2,  29.0315,2,    380.7,2,    383.4,2,     2.80,2,     0.10,2,     0.00,2,     0.71,2,    7.701,2,    3.864,2,    0.702,2,    -2.77,2,    61.30,2,  -1.5347
  32PZ20020819,   CBL,    75,  1,     29,     29,2,20020909,2254, 77.7098,-152.6285, 3064,     28.6,  -1.1380,  31.2444,2,  31.2319,2,    390.5,2,    380.7,2,     6.70,2,     1.70,2,     0.24,2,     0.99,2, -999.000,9, -999.000,9, -999.000,9,    -2.06,2,    63.00,2,  -1.1385
  32PZ20020819,   CBL,    75,  1,     28,     28,2,20020909,2254, 77.7098,-152.6285, 3064,     44.3,  -1.3653,  31.7617,2,  31.7655,2,    358.1,2,    342.7,2,    14.70,2,     6.10,2,     0.03,2,     1.28,2, -999.000,9, -999.000,9, -999.000,9,  -999.00,9,  -999.00,9,  -1.3661
  32PZ20020819,   CBL,    75,  1,     27,     27,2,20020909,2254, 77.7098,-152.6285, 3064,     56.2,  -1.3927,  32.1242,2,  32.1269,2,    326.9,2,    316.1,2,    19.10,2,     9.20,2,     0.02,2,     1.45,2,    6.913,2,    3.426,2,    0.586,2,    -1.55,2,    62.30,2,  -1.3938
  32PZ20020819,   CBL,    75,  1,     26,     26,2,20020909,2254, 77.7098,-152.6285, 3064,     67.1,  -1.3544,  32.3806,2,  32.3714,2,    305.1,2,    299.2,2,    24.30,2,    11.60,2,     0.01,2,     1.63,2, -999.000,9, -999.000,9, -999.000,9,  -999.00,9,  -999.00,9,  -1.3557
  32PZ20020819,   CBL,    75,  1,     25,     25,2,20020909,2254, 77.7098,-152.6285, 3064,     86.9,  -1.4031,  32.7287,2,  32.7255,2,    277.8,2,    271.8,2,    34.30,2,    15.20,2,     0.01,2,     1.92,2, -999.000,9, -999.000,9, -999.000,9,    -1.45,2,    68.60,2,  -1.4048
  32PZ20020819,   CBL,    75,  1,     24,     24,2,20020909,2254, 77.7098,-152.6285, 3064,    111.5,  -1.5496,  33.1106,2,  33.1032,2,    272.1,2,    267.0,2,    38.50,2,    16.40,2,     0.01,2,     1.99,2,    5.883,2,    2.964,2,    0.425,2,    -1.46,2,    71.30,2,  -1.5518
  32PZ20020819,   CBL,    75,  1,     23,     23,2,20020909,2254, 77.7098,-152.6285, 3064,    126.1,  -1.5049,  33.3403,2,  33.3447,2,    267.1,2,    259.4,2,    42.20,2,    17.20,2,     0.01,2,     2.03,2, -999.000,9, -999.000,9, -999.000,9,    -1.33,2,    70.40,2,  -1.5075
  32PZ20020819,   CBL,    75,  1,     22,     22,2,20020909,2254, 77.7098,-152.6285, 3064,    146.7,  -1.2023,  33.8943,2,  33.9020,2,    247.8,2,    254.4,2,    29.80,2,    14.50,2,     0.01,2,     1.53,2, -999.000,9, -999.000,9, -999.000,9,    -0.79,2,    54.40,2,  -1.2059
  32PZ20020819,   CBL,    75,  1,     21,     21,2,20020909,2254, 77.7098,-152.6285, 3064,    181.9,  -0.8542,  34.3272,2,  34.3234,2,    294.0,2,    297.6,2,     8.30,2,    10.30,2,     0.01,2,     0.81,2,    6.549,2,    3.069,2,    0.436,2,    -0.07,2,    44.90,2,  -0.8595
  32PZ20020819,   CBL,    75,  1,     20,     20,2,20020909,2254, 77.7098,-152.6285, 3064,    222.4,  -0.0384,  34.5368,2,  34.5454,2,    294.0,2,    293.0,2,     8.20,2,    11.30,2,     0.01,2,     0.84,2,    6.226,2,    2.926,2,    0.436,2,  -999.00,9,  -999.00,9,  -0.0466
  32PZ20020819,   CBL,    75,  1,     19,     19,2,20020909,2254, 77.7098,-152.6285, 3064,    273.2,   0.7910,  34.7561,2,  34.7561,2,    295.4,2,    295.1,2,  -999.00,9,  -999.00,9,  -999.00,9,  -999.00,9,    5.707,2,    2.703,2,    0.375,2,  -999.00,9,  -999.00,9,   0.7788
  32PZ20020819,   CBL,    75,  1,     18,     18,2,20020909,2254, 77.7098,-152.6285, 3064,    324.2,   0.9687,  34.8028,2,  34.8019,2,    298.8,2,    298.9,2,     6.70,2,    12.30,2,     0.01,2,     0.86,2,    5.577,2,    2.639,2,    0.371,2,  -999.00,9,  -999.00,9,   0.9536
  32PZ20020819,   CBL,    75,  1,     17,     17,2,20020909,2254, 77.7098,-152.6285, 3064,    377.6,   1.1459,  34.8469,2,  34.8465,2,    299.9,2,    298.9,2,     6.80,2,    12.50,2,     0.01,2,     0.87,2,    5.488,2,    2.583,2,    0.367,2,     0.18,2,    47.40,2,   1.1276
  32PZ20020819,   CBL,    75,  1,     16,     16,2,20020909,2254, 77.7098,-152.6285, 3064,    435.8,   1.0560,  34.8552,2,  34.8481,2,    299.9,2,    299.7,2,     6.90,2,    12.60,2,     0.00,2,     0.87,2,    5.460,2,    2.553,2,    0.365,2,  -999.00,9,  -999.00,9,   1.0350
  32PZ20020819,   CBL,    75,  1,     15,     15,2,20020909,2254, 77.7098,-152.6285, 3064,    518.2,   0.7875,  34.8605,2,  34.8701,2,    300.5,2,    305.0,2,     6.80,2,    12.60,2,     0.00,2,     0.88,2,    4.945,2,    2.302,2,    0.358,2,  -999.00,9,  -999.00,9,   0.7632
  32PZ20020819,   CBL,    75,  1,     14,     14,2,20020909,2254, 77.7098,-152.6285, 3064,    613.3,   0.5354,  34.8613,2,  34.8665,2,    302.1,2,    302.2,2,     7.00,2,    12.60,2,     0.01,2,     0.88,2,    5.120,2,    2.365,2,    0.319,2,  -999.00,9,  -999.00,9,   0.5075
  32PZ20020819,   CBL,    75,  1,     13,     13,2,20020909,2254, 77.7098,-152.6285, 3064,    740.5,   0.2728,  34.8622,2,  34.8618,2,    303.7,2,    303.6,2,     6.80,2,    12.60,2,     0.00,2,     0.88,2,    4.982,2,    2.292,2,    0.304,2,     0.29,2,    42.60,2,   0.2398
  32PZ20020819,   CBL,    75,  1,     12,     12,2,20020909,2254, 77.7098,-152.6285, 3064,    809.1,   0.1719,  34.8658,2,  34.8650,2,    303.5,2,    303.3,2,     6.90,2,    12.70,2,     0.01,2,     0.88,2,    4.513,2,    2.091,2,    0.271,2,  -999.00,9,  -999.00,9,   0.1361
  32PZ20020819,   CBL,    75,  1,     11,     11,2,20020909,2254, 77.7098,-152.6285, 3064,    908.7,   0.0411,  34.8717,2,  34.8726,2,    303.1,2,    302.8,2,     7.20,2,    12.80,2,     0.01,2,     0.90,2,    3.985,2,    1.838,2,    0.222,2,  -999.00,9,  -999.00,9,   0.0010
  32PZ20020819,   CBL,    75,  1,     10,     10,2,20020909,2254, 77.7098,-152.6285, 3064,   1016.1,  -0.0675,  34.8780,2,  34.8831,2,    302.5,2,    303.2,2,  -999.00,9,  -999.00,9,  -999.00,9,  -999.00,9, -999.000,9, -999.000,9, -999.000,9,  -999.00,9,  -999.00,9,  -0.1124
  32PZ20020819,   CBL,    75,  1,      9,      9,2,20020909,2254, 77.7098,-152.6285, 3064,   1220.1,  -0.2055,  34.8936,2,  34.8933,2,    301.5,2,    301.6,2,     8.20,2,    13.20,2,     0.00,2,     0.92,2,    2.500,2,    1.169,2,    0.121,2,  -999.00,9,  -999.00,9,  -0.2603
  32PZ20020819,   CBL,    75,  1,      8,      8,2,20020909,2254, 77.7098,-152.6285, 3064,   1433.8,  -0.3121,  34.9110,2,  34.9096,2,    299.5,2,    299.7,2,  -999.00,9,  -999.00,9,  -999.00,9,  -999.00,9,    1.331,2,    0.660,2,    0.039,2,  -999.00,9,  -999.00,9,  -0.3780
  32PZ20020819,   CBL,    75,  1,      7,      7,2,20020909,2254, 77.7098,-152.6285, 3064,   1628.7,  -0.3743,  34.9249,2,  34.9224,2,    296.5,2,    296.2,2,    10.20,2,    14.10,2,     0.00,2,     0.98,2,    0.769,2,    0.377,2, -999.000,9,  -999.00,9,  -999.00,9,  -0.4511
  32PZ20020819,   CBL,    75,  1,      6,      6,2,20020909,2254, 77.7098,-152.6285, 3064,   1824.2,  -0.4118,  34.9364,2,  34.9364,2,    291.9,2,    293.4,2,  -999.00,9,  -999.00,9,  -999.00,9,  -999.00,9,    0.455,2,    0.214,2,    0.013,2,  -999.00,9,  -999.00,9,  -0.5004
  32PZ20020819,   CBL,    75,  1,      5,      5,2,20020909,2254, 77.7098,-152.6285, 3064,   2030.5,  -0.4086,  34.9452,2,  34.9452,2,    290.0,2,    289.8,2,  -999.00,9,  -999.00,9,  -999.00,9,  -999.00,9,    0.159,6,    0.073,6,    0.002,6,  -999.00,9,  -999.00,9,  -0.5110
  32PZ20020819,   CBL,    75,  1,      4,      4,2,20020909,2254, 77.7098,-152.6285, 3064,   2323.1,  -0.3901,  34.9520,2,  34.9537,2,    287.0,2,    287.0,2,    13.50,2,    15.00,2,     0.00,2,     1.04,2,    0.032,2,    0.000,2,    0.000,2,  -999.00,9,  -999.00,9,  -0.5134
  32PZ20020819,   CBL,    75,  1,      3,      3,2,20020909,2254, 77.7098,-152.6285, 3064,   2636.3,  -0.3635,  34.9570,2,  34.9562,2,    285.0,2,    284.8,2,  -999.00,9,  -999.00,9,  -999.00,9,  -999.00,9,    0.023,2,    0.023,2, -999.000,9,  -999.00,9,  -999.00,9,  -0.5108
  32PZ20020819,   CBL,    75,  1,      2,      2,2,20020909,2254, 77.7098,-152.6285, 3064,   2917.3,  -0.3403,  34.9573,2,  34.9576,2,    284.5,2,    284.8,2,    14.20,2,    15.00,2,     0.00,2,     1.04,2,    0.031,2,    0.022,2, -999.000,9,  -999.00,9,  -999.00,9,  -0.5106
  32PZ20020819,   CBL,    75,  1,      1,      1,2,20020909,2254, 77.7098,-152.6285, 3064,   3123.0,  -0.3223,  34.9570,2,  34.9580,2,    284.9,2,    284.9,2,    14.10,2,    15.00,2,     0.00,2,     1.05,2,    0.019,2,    0.024,2, -999.000,9,  -999.00,9,  -999.00,9,  -0.5103
  32PZ20020819,   CBL,    76,  1,     32,     32,2,20020910,0356, 77.6753,-152.3515, 3882,     13.4,  -1.5443,  28.9887,2,  28.9882,2,    380.8,2,    384.4,2,     2.70,2,     0.10,2,     0.00,2,     0.70,2,    7.589,2,    3.874,2,    0.727,2,    -2.71,2,    61.50,2,  -1.5444
  32PZ20020819,   CBL,    76,  1,     31,     31,2,20020910,0356, 77.6753,-152.3515, 3882,     29.5,  -1.3180,  30.9803,2,  30.6905,2,    392.2,2,    391.5,2,     4.10,2,     0.40,2,     0.12,2,     0.83,2,    7.461,2,    3.743,2,    0.659,2,    -2.56,2,    61.60,2,  -1.3185
  32PZ20020819,   CBL,    76,  1,     30,     30,2,20020910,0356, 77.6753,-152.3515, 3882,     47.2,  -1.3755,  31.9108,2,  32.0110,2,    346.7,2,    325.6,2,    16.20,2,     8.00,2,     0.02,2,     1.36,2,    7.148,2,    3.587,2,    0.568,2,    -1.58,2,    63.40,2,  -1.3764
  32PZ20020819,   CBL,    76,  1,     29,     29,2,20020910,0356, 77.6753,-152.3515, 3882,     62.0,  -1.4068,  32.3910,2,  32.3393,2,    304.6,2,    298.9,2,    23.60,2,    11.30,2,     0.01,2,     1.61,2,    6.430,2,    3.304,2,    0.494,2,    -1.57,2,    65.70,2,  -1.4080
  32PZ20020819,   CBL,    76,  1,     28,     28,2,20020910,0356, 77.6753,-152.3515, 3882,     81.9,  -1.4551,  32.6311,2,  32.6334,2,    280.8,2,    273.8,2,    32.70,2,    14.50,2,     0.01,2,     1.85,2,    6.218,2,    3.167,2,    0.467,2,    -1.44,2,    69.20,2,  -1.4567
  32PZ20020819,   CBL,    76,  1,     27,     27,2,20020910,0356, 77.6753,-152.3515, 3882,     96.3,  -1.4774,  32.8871,2,  32.8842,2,    263.2,2,    259.4,2,    37.50,2,    16.50,2,     0.01,2,     2.00,2,    6.087,2,    3.160,2,    0.479,2,    -1.44,2,    71.00,2,  -1.4793
  32PZ20020819,   CBL,    76,  1,     26,     26,2,20020910,0356, 77.6753,-152.3515, 3882,    111.3,  -1.5148,  33.1123,2,  33.1697,2,    252.7,2,    253.9,2,    41.90,2,    17.70,2,     0.01,2,     2.10,2,    5.958,2,    3.079,2,    0.437,2,    -1.27,2,    68.20,2,  -1.5171
  32PZ20020819,   CBL,    76,  1,     25,     25,2,20020910,0356, 77.6753,-152.3515, 3882,    130.9,  -1.4099,  33.5060,2,  33.5557,2,    242.9,2,    244.0,2,    40.10,2,    16.50,2,     0.01,2,     1.90,2,    6.193,2,    3.082,2,    0.425,2,    -1.06,2,    64.30,2,  -1.4128
  32PZ20020819,   CBL,    76,  1,     24,     24,2,20020910,0356, 77.6753,-152.3515, 3882,    152.8,  -1.3234,  34.0913,2,  34.0979,2,    267.0,2,    287.9,2,    12.50,2,    10.60,2,     0.01,2,     0.93,2,    6.403,2,    3.070,2,    0.437,2,    -0.47,2,    47.20,2,  -1.3271
  32PZ20020819,   CBL,    76,  1,     23,     23,2,20020910,0356, 77.6753,-152.3515, 3882,    182.3,  -0.7211,  34.3453,2,  34.3485,2,    290.4,2,    293.9,2,     8.30,2,    10.60,2,     0.00,2,     0.83,2,    6.314,2,    2.926,2,    0.414,2,    -0.18,2,    47.60,2,  -0.7266
  32PZ20020819,   CBL,    76,  1,     22,     22,2,20020910,0356, 77.6753,-152.3515, 3882,    227.6,   0.1877,  34.5833,2,  34.5827,2,    293.5,2,    293.6,2,     7.30,2,    11.50,2,     0.00,2,     0.84,2,    5.752,2,    2.689,2,    0.367,2,    -0.02,2,    42.40,2,   0.1789
  32PZ20020819,   CBL,    76,  1,     21,     21,2,20020910,0356, 77.6753,-152.3515, 3882,    273.0,   0.7542,  34.7449,2,  34.7489,2,    296.5,2,    295.3,2,     6.70,2,    12.20,2,     0.00,2,     0.85,2,    5.458,2,    2.615,2,    0.365,2,     0.19,2,    47.50,2,   0.7421
  32PZ20020819,   CBL,    76,  1,     20,     20,2,20020910,0356, 77.6753,-152.3515, 3882,    324.5,   0.9757,  34.8066,2,  34.8041,2,    299.2,2,    297.4,2,     6.30,2,    12.40,2,     0.00,2,     0.86,2,    5.390,2,    2.546,2,    0.362,2,     0.41,2,    41.70,2,   0.9606
  32PZ20020819,   CBL,    76,  1,     19,     19,2,20020910,0356, 77.6753,-152.3515, 3882,    374.8,   1.1345,  34.8482,2,  34.8405,2,    299.9,2,    299.2,2,     6.30,2,    12.50,2,     0.00,2,     0.87,2,    5.241,2,    2.447,2,    0.358,2,     0.28,2,    41.40,2,   1.1164
  32PZ20020819,   CBL,    76,  1,     18,     18,2,20020910,0356, 77.6753,-152.3515, 3882,    435.6,   0.8797,  34.8380,2,  34.8505,2,    297.6,2,    299.1,2,     6.60,2,    12.50,2,     0.00,2,     0.87,2,    4.873,2,    2.290,2,    0.344,2,     0.39,2,    44.80,2,   0.8593
  32PZ20020819,   CBL,    76,  1,     17,     17,2,20020910,0356, 77.6753,-152.3515, 3882,    457.2,   0.9506,  34.8611,2,  34.8605,2,    299.0,2,    300.7,2,     6.40,2,    12.50,2,     0.00,2,     0.87,2,    5.123,2,    2.392,2,    0.340,2,     0.16,2,    40.20,2,   0.9288
  32PZ20020819,   CBL,    76,  1,     16,     16,2,20020910,0356, 77.6753,-152.3515, 3882,    597.9,   0.5407,  34.8605,2,  34.8609,2,    299.2,2,    300.4,2,     6.80,2,    12.60,2,     0.00,2,     0.88,2,    4.444,2,    2.036,2,    0.285,2,     0.24,2,    43.70,2,   0.5135
  32PZ20020819,   CBL,    76,  1,     15,     15,2,20020910,0356, 77.6753,-152.3515, 3882,    738.9,   0.2641,  34.8646,2,  34.8638,2,    301.6,2,    300.4,2,     6.90,2,    12.70,2,     0.00,2,     0.89,2,    3.635,2,    1.685,2,    0.205,2,     0.27,2,    42.10,2,   0.2313
  32PZ20020819,   CBL,    76,  1,     14,     14,2,20020910,0356, 77.6753,-152.3515, 3882,    830.6,   0.1294,  34.8688,2,  34.8685,2,    301.9,2,    301.8,2,     7.00,2,    12.70,2,     0.00,2,     0.90,2,    3.722,2,    1.704,2,    0.203,2,     0.23,2,    54.10,2,   0.0927
  32PZ20020819,   CBL,    76,  1,     13,     13,2,20020910,0356, 77.6753,-152.3515, 3882,    964.4,  -0.0049,  34.8780,2,  34.8782,2,    300.9,2,    301.2,2,     7.30,2,    12.80,2,     0.00,2,     0.91,2,    2.960,6,    1.349,6,    0.157,6,     0.32,2,    44.70,2,  -0.0476
  32PZ20020819,   CBL,    76,  1,     12,     12,2,20020910,0356, 77.6753,-152.3515, 3882,   1115.1,  -0.1258,  34.8894,2,  34.8890,2,    301.4,2,    300.6,2,     7.70,2,    13.00,2,     0.00,2,     0.93,2,    2.215,2,    1.050,2,    0.123,2,     0.29,2,    48.00,2,  -0.1755
  32PZ20020819,   CBL,    76,  1,     11,     11,2,20020910,0356, 77.6753,-152.3515, 3882,   1316.9,  -0.2432,  34.9014,2,  34.9014,2,    300.6,2,    300.3,2,     8.40,2,    13.20,2,     0.00,2,     0.94,2,    1.775,2,    0.837,2,    0.090,2,     0.20,2,    43.30,2,  -0.3031
  32PZ20020819,   CBL,    76,  1,     10,     10,2,20020910,0356, 77.6753,-152.3515, 3882,   1520.2,  -0.3191,  34.9166,2,  34.9167,2,    298.7,2,    298.5,2,     9.20,2,    13.70,2,     0.00,2,     0.97,2,    0.918,2,    0.421,2,    0.034,2,     0.30,2,    43.50,2,  -0.3900
  32PZ20020819,   CBL,    76,  1,      9,      9,2,20020910,0356, 77.6753,-152.3515, 3882,   1724.3,  -0.3804,  34.9302,2,  34.9299,2,    296.1,2,    295.8,2,    10.30,2,    14.00,2,     0.00,2,     1.00,2,    0.405,6,    0.194,6,    0.007,6,     0.24,2,    44.10,2,  -0.4631
  32PZ20020819,   CBL,    76,  1,      8,      8,2,20020910,0356, 77.6753,-152.3515, 3882,   1984.2,  -0.4076,  34.9432,2,  34.9440,2,    292.1,2,    291.5,2,    11.60,2,    14.50,2,     0.00,2,     1.04,2,    0.120,2,    0.057,2,    0.003,2,     0.27,2,    47.60,2,  -0.5068
  32PZ20020819,   CBL,    76,  1,      7,      7,2,20020910,0356, 77.6753,-152.3515, 3882,   2360.4,  -0.3951,  34.9525,2,  34.9519,2,    287.7,2,    287.5,2,    13.00,2,    14.70,2,     0.00,2,     1.05,2,    0.035,2,    0.016,2,    0.002,2,     0.33,2,    46.20,2,  -0.5210
  32PZ20020819,   CBL,    76,  1,      6,      6,2,20020910,0356, 77.6753,-152.3515, 3882,   2545.9,  -0.3792,  34.9553,2,  34.9550,2,    286.5,2,    286.3,2,    13.40,2,    14.80,2,     0.00,2,     1.05,2,    0.021,2,    0.011,2,    0.012,2,     0.34,2,    51.10,2,  -0.5193
  32PZ20020819,   CBL,    76,  1,      5,      5,2,20020910,0356, 77.6753,-152.3515, 3882,   2855.1,  -0.3472,  34.9578,2,  34.9570,2,    284.3,2,    284.2,2,    14.00,2,    14.90,2,     0.00,2,     1.05,2,    0.011,2,    0.002,2,    0.006,2,     0.34,2,    49.20,2,  -0.5123
  32PZ20020819,   CBL,    76,  1,      4,      4,2,20020910,0356, 77.6753,-152.3515, 3882,   3161.3,  -0.3210,  34.9579,2,  34.9573,2,    284.2,2,    284.0,2,    14.00,2,    14.90,2,     0.00,2,     1.05,2,    0.013,2,    0.003,2,    0.006,2,     0.40,2,    55.90,2,  -0.5123
  32PZ20020819,   CBL,    76,  1,      3,      3,2,20020910,0356, 77.6753,-152.3515, 3882,   3466.0,  -0.2931,  34.9579,2,  34.9571,2,    283.8,2,    283.9,2,    14.10,2,    14.90,2,     0.00,2,     1.05,2,    0.013,2,    0.002,2,    0.000,2,     0.41,2,    50.40,2,  -0.5121
  32PZ20020819,   CBL,    76,  1,      2,      2,2,20020910,0356, 77.6753,-152.3515, 3882,   3773.7,  -0.2635,  34.9577,2,  34.9577,2,    283.5,2,    284.1,2,    14.10,2,    14.90,2,     0.00,2,     1.05,2,    0.000,2,    0.001,2,    0.000,2,     0.30,2,    49.20,2,  -0.5120
  32PZ20020819,   CBL,    76,  1,      1,      1,2,20020910,0356, 77.6753,-152.3515, 3882,   3894.1,  -0.2512,  34.9576,2,  34.9575,2,    283.8,2,    283.4,2,    14.10,2,    14.90,2,     0.00,2,     1.05,2,    0.007,2,    0.001,2,    0.000,2,     0.37,2,    56.50,2,  -0.5116