BOTTLE,20220815CCHSIOAMB
EXPOCODE,SECT_ID,STNNBR,CASTNO,SAMPNO,BTLNBR,BTLNBR_FLAG_W,DATE,TIME,LATITUDE,LONGITUDE,DEPTH,CTDPRS,CTDTMP,CTDSAL,CTDSAL_FLAG_W,SALNTY,SALNTY_FLAG_W,CTDOXY,CTDOXY_FLAG_W,OXYGEN,OXYGEN_FLAG_W,SILCAT,SILCAT_FLAG_W,NITRAT,NITRAT_FLAG_W,NITRIT,NITRIT_FLAG_W,PHSPHT,PHSPHT_FLAG_W,CFC-11,CFC-11_FLAG_W,CFC-12,CFC-12_FLAG_W,CFC113,CFC113_FLAG_W,DELO18,DELO18_FLAG_W,BARIUM,BARIUM_FLAG_W,THETA
,,,,,,,,,,,METERS,DBAR,ITS-90,PSS-78,,PSS-78,,UMOL/KG,,UMOL/KG,,UMOL/KG,,UMOL/KG,,UMOL/KG,,UMOL/KG,,PMOL/KG,,PMOL/KG,,PMOL/KG,,/MILLE,,NMOL/KG,,DEG C
  32PZ20020819,   CBL,   108,  1,     19,     19,2,20020918,1555, 74.5687,-157.4800, 3295,     12.4,  -0.9392,  26.6590,2,  26.6926,2,    374.8,2,    377.8,2,  -999.00,9,  -999.00,9,  -999.00,9,  -999.00,9,    7.479,2,    3.890,2,    0.696,2,  -999.00,9,  -999.00,9,  -0.9393
  32PZ20020819,   CBL,   108,  1,     18,     18,2,20020918,1555, 74.5687,-157.4800, 3295,     31.2,   0.3433,  31.1061,2,  31.2425,2,    389.2,2,    387.6,2,  -999.00,9,  -999.00,9,  -999.00,9,  -999.00,9,    6.743,2,    3.356,2,    0.555,2,  -999.00,9,  -999.00,9,   0.3423
  32PZ20020819,   CBL,   108,  1,     17,     17,2,20020918,1555, 74.5687,-157.4800, 3295,     43.8,  -0.5054,  31.7755,2,-999.0000,9,    381.8,2,   -999.0,9,    11.80,2,     4.60,2,     0.12,2,     1.18,2, -999.000,9, -999.000,9, -999.000,9,  -999.00,9,  -999.00,9,  -0.5065
  32PZ20020819,   CBL,   108,  1,     16,     16,2,20020918,1555, 74.5687,-157.4800, 3295,     63.9,  -1.0780,  32.1364,2,-999.0000,9,    330.3,2,   -999.0,9,    18.80,2,     9.00,2,     0.06,2,     1.48,2,    6.330,2,    3.158,2,    0.452,2,  -999.00,9,  -999.00,9,  -1.0794
  32PZ20020819,   CBL,   108,  1,     15,     15,2,20020918,1555, 74.5687,-157.4800, 3295,     83.9,  -1.2780,  32.4007,2,-999.0000,9,    304.3,2,   -999.0,9,    25.70,2,    12.20,2,     0.06,2,     1.70,2, -999.000,9, -999.000,9, -999.000,9,  -999.00,9,  -999.00,9,  -1.2797
  32PZ20020819,   CBL,   108,  1,     14,     14,2,20020918,1555, 74.5687,-157.4800, 3295,    103.4,  -1.3655,  32.6395,2,-999.0000,9,    290.0,2,   -999.0,9,    30.60,2,    13.90,2,     0.06,3,     1.83,2,    5.800,2,    2.935,2,    0.407,2,  -999.00,9,  -999.00,9,  -1.3676
  32PZ20020819,   CBL,   108,  1,     13,     13,2,20020918,1555, 74.5687,-157.4800, 3295,    123.1,  -1.5067,  32.8133,2,-999.0000,9,    286.2,2,   -999.0,9,    33.90,2,    14.90,2,     0.06,3,     1.88,2, -999.000,9, -999.000,9, -999.000,9,  -999.00,9,  -999.00,9,  -1.5091
  32PZ20020819,   CBL,   108,  1,     12,     12,2,20020918,1555, 74.5687,-157.4800, 3295,    139.8,  -1.5543,  32.9789,2,  32.9899,2,    285.5,2,    282.7,2,    35.00,2,    15.40,2,     0.06,3,     1.90,2,    5.535,2,    2.791,2,    0.378,2,  -999.00,9,  -999.00,9,  -1.5571
  32PZ20020819,   CBL,   108,  1,     11,     11,2,20020918,1555, 74.5687,-157.4800, 3295,    162.5,  -1.5423,  33.2080,2,-999.0000,9,    279.2,2,   -999.0,9,    38.60,2,    16.60,2,     0.06,3,     1.97,2,    5.440,2,    2.802,2,    0.381,2,  -999.00,9,  -999.00,9,  -1.5456
  32PZ20020819,   CBL,   108,  1,     10,     10,2,20020918,1555, 74.5687,-157.4800, 3295,    182.3,  -1.3792,  33.5281,2,-999.0000,9,    270.5,2,   -999.0,9,    35.70,2,    16.50,2,     0.06,3,     1.85,2, -999.000,9, -999.000,9, -999.000,9,  -999.00,9,  -999.00,9,  -1.3834
  32PZ20020819,   CBL,   108,  1,      9,      9,2,20020918,1555, 74.5687,-157.4800, 3295,    201.9,  -1.1996,  33.9104,2,  33.9355,2,    268.7,2,    268.8,2,    24.90,2,    14.00,2,     0.05,3,     1.41,2,    5.260,2,    2.538,2,    0.338,2,  -999.00,9,  -999.00,9,  -1.2047
  32PZ20020819,   CBL,   108,  1,      8,      8,2,20020918,1555, 74.5687,-157.4800, 3295,    275.9,   0.1865,  34.6008,2,  34.6044,2,    289.0,2,    287.6,2,     8.60,2,    12.00,2,     0.05,3,     0.88,2,    5.218,2,    2.424,2,    0.313,2,  -999.00,9,  -999.00,9,   0.1757
  32PZ20020819,   CBL,   108,  1,      7,      7,2,20020918,1555, 74.5687,-157.4800, 3295,    402.9,   1.0384,  34.8445,2,  34.8458,2,    298.0,2,    298.2,2,     6.20,2,    12.50,2,     0.05,3,     0.87,2,    5.025,6,    2.352,6,    0.328,6,  -999.00,9,  -999.00,9,   1.0191
  32PZ20020819,   CBL,   108,  1,      6,      6,2,20020918,1555, 74.5687,-157.4800, 3295,    685.0,   0.3734,  34.8627,2,  34.8631,2,    300.5,2,    300.8,2,     6.60,2,    12.70,2,     0.05,3,     0.88,2,    4.152,2,    1.902,2,    0.256,2,  -999.00,9,  -999.00,9,   0.3427
  32PZ20020819,   CBL,   108,  1,      5,      5,2,20020918,1555, 74.5687,-157.4800, 3295,    872.8,   0.0820,  34.8699,2,  34.8711,2,    302.3,2,    302.2,2,  -999.00,9,  -999.00,9,  -999.00,9,  -999.00,9,    3.823,6,    1.781,2,    0.219,6,  -999.00,9,  -999.00,9,   0.0435
  32PZ20020819,   CBL,   108,  1,      4,      4,2,20020918,1555, 74.5687,-157.4800, 3295,   1483.1,  -0.3231,  34.9123,2,  34.9172,2,    299.0,2,    298.8,2,  -999.00,9,  -999.00,9,  -999.00,9,  -999.00,9,    1.385,2, -999.000,9,    0.061,2,  -999.00,9,  -999.00,9,  -0.3918
  32PZ20020819,   CBL,   108,  1,      3,      3,2,20020918,1555, 74.5687,-157.4800, 3295,   1977.6,  -0.4066,  34.9424,2,  34.9425,2,    290.2,2,    290.2,2,  -999.00,9,  -999.00,9,  -999.00,9,  -999.00,9,    0.256,2, -999.000,9,    0.012,2,  -999.00,9,  -999.00,9,  -0.5054
  32PZ20020819,   CBL,   108,  1,      2,      2,2,20020918,1555, 74.5687,-157.4800, 3295,   2568.7,  -0.3696,  34.9500,2,  34.9514,2,    287.1,2,    287.0,2,  -999.00,9,  -999.00,9,  -999.00,9,  -999.00,9,    0.102,2, -999.000,9,    0.005,2,  -999.00,9,  -999.00,9,  -0.5116
  32PZ20020819,   CBL,   108,  1,      1,      1,2,20020918,1555, 74.5687,-157.4800, 3295,   3305.4,  -0.3081,  34.9544,2,  34.9530,2,    285.5,2,    285.5,2,  -999.00,9,  -999.00,9,  -999.00,9,  -999.00,9,    0.020,2, -999.000,9,    0.003,2,  -999.00,9,  -999.00,9,  -0.5123
  32PZ20020819,   CBL,   109,  1,     24,     24,2,20020918,2108, 74.6242,-157.6563, 1964,     15.2,  -0.9115,  26.6611,2,  26.6597,2,    375.7,2,    378.0,2,     3.30,2,     0.00,2,     0.00,2,     0.60,2,    7.700,2,    3.921,2,    0.705,2,    -3.75,2,    71.40,2,  -0.9117
  32PZ20020819,   CBL,   109,  1,     23,     23,2,20020918,2108, 74.6242,-157.6563, 1964,     32.4,  -0.9787,  31.8097,2,  31.7928,2,    387.6,2,    372.7,2,     5.20,2,     2.10,2,     0.10,2,     0.99,2,    6.909,2,    3.439,2,    0.510,2,    -1.73,2,    59.50,2,  -0.9794
  32PZ20020819,   CBL,   109,  1,     22,     22,2,20020918,2108, 74.6242,-157.6563, 1964,     44.1,  -1.2147,  32.0075,2,  31.9784,2,    348.0,2,    329.1,2,    13.00,2,     7.00,2,     0.16,2,     1.29,2,    6.761,2,    3.343,2,    0.489,2,    -1.79,2,    61.10,2,  -1.2156
  32PZ20020819,   CBL,   109,  1,     21,     21,2,20020918,2108, 74.6242,-157.6563, 1964,     64.7,  -0.8755,  32.4267,2,  32.4180,2,    286.7,2,    276.7,2,    23.10,2,    13.30,2,     0.08,2,     1.76,2,    6.047,6,    3.006,6,    0.425,6,    -1.55,2,    70.60,2,  -0.8770
  32PZ20020819,   CBL,   109,  1,     20,     20,2,20020918,2108, 74.6242,-157.6563, 1964,     83.4,  -0.8991,  32.5791,2,  32.5799,2,    264.5,2,    253.9,2,    24.40,2,    15.30,2,     0.07,2,     1.90,2,    5.901,2,    2.946,2,    0.436,2,  -999.00,9,  -999.00,9,  -0.9011
  32PZ20020819,   CBL,   109,  1,     19,     19,2,20020918,2108, 74.6242,-157.6563, 1964,     93.4,  -1.0978,  32.6115,2,  32.6007,2,    262.5,2,    261.1,2,    25.90,2,    14.90,2,     0.06,2,     1.87,2,    5.727,2,    2.817,2,    0.376,2,    -1.72,2,    72.50,2,  -1.0999
  32PZ20020819,   CBL,   109,  1,     18,     18,2,20020918,2108, 74.6242,-157.6563, 1964,    109.3,  -1.3466,  32.6610,2,  32.6610,2,    269.1,2,    268.3,2,    28.20,2,    14.80,2,     0.06,3,     1.87,2,    5.593,2,    2.734,2,    0.360,2,  -999.00,9,  -999.00,9,  -1.3489
  32PZ20020819,   CBL,   109,  1,     17,     17,2,20020918,2108, 74.6242,-157.6563, 1964,    119.6,  -1.4165,  32.7166,2,  32.7093,2,    277.7,2,    271.6,2,    29.70,2,    14.80,2,     0.07,3,     1.88,2,    5.640,2,    2.777,2,    0.364,2,  -999.00,9,  -999.00,9,  -1.4189
  32PZ20020819,   CBL,   109,  1,     16,     16,2,20020918,2108, 74.6242,-157.6563, 1964,    155.6,  -1.6138,  32.9134,2,  32.9150,2,    304.2,2,    304.4,2,    35.30,2,    14.50,2,     0.06,3,     1.84,2,    6.742,2,    3.313,2,    0.526,2,    -1.68,2,    68.50,2,  -1.6168
  32PZ20020819,   CBL,   109,  1,     15,     15,2,20020918,2108, 74.6242,-157.6563, 1964,    183.1,  -1.5466,  33.1473,2,  33.1352,2,    287.0,2,    270.7,2,    38.60,2,    16.70,2,     0.06,3,     1.99,2,    5.732,2,    2.874,2,    0.428,2,  -999.00,9,  -999.00,9,  -1.5504
  32PZ20020819,   CBL,   109,  1,     14,     14,2,20020918,2108, 74.6242,-157.6563, 1964,    212.7,  -1.2123,  33.8514,2,  33.8397,2,    266.6,2,    266.4,2,    28.10,2,    14.80,2,     0.06,3,     1.55,2,    5.302,2,    2.523,2,    0.332,2,    -0.74,2,    60.10,2,  -1.2177
  32PZ20020819,   CBL,   109,  1,     13,     13,2,20020918,2108, 74.6242,-157.6563, 1964,    250.7,  -0.4149,  34.4262,2,  34.4258,2,    282.3,2,    284.7,2,    10.20,2,    11.60,2,     0.06,3,     0.92,2,    5.617,2,    2.590,2,    0.390,2,  -999.00,9,  -999.00,9,  -0.4233
  32PZ20020819,   CBL,   109,  1,     12,     12,2,20020918,2108, 74.6242,-157.6563, 1964,    310.2,   0.6046,  34.7203,2,  34.7204,2,    290.3,2,    290.9,2,     7.50,2,    12.30,2,     0.05,3,     0.88,2,    5.063,2,    2.349,2,    0.311,2,  -999.00,9,  -999.00,9,   0.5912
  32PZ20020819,   CBL,   109,  1,     11,     11,2,20020918,2108, 74.6242,-157.6563, 1964,    330.2,   0.7099,  34.7561,2,  34.7517,2,    292.2,2,    292.3,2,     7.20,2,    12.30,2,     0.05,3,     0.88,2,    5.064,2,    2.357,2,    0.346,2,  -999.00,9,  -999.00,9,   0.6953
  32PZ20020819,   CBL,   109,  1,     10,     10,2,20020918,2108, 74.6242,-157.6563, 1964,    360.5,   0.7846,  34.7856,2,  34.7849,2,    294.4,2,    293.8,2,     7.00,2,    12.40,2,     0.05,3,     0.88,2,    5.028,2,    2.299,2,    0.334,2,  -999.00,9,  -999.00,9,   0.7683
  32PZ20020819,   CBL,   109,  1,      9,      9,2,20020918,2108, 74.6242,-157.6563, 1964,    388.4,   0.8719,  34.8183,2,  34.8191,2,    296.2,2,    296.0,2,     6.70,2,    12.40,2,     0.06,3,     0.87,2,    4.958,2,    2.277,2,    0.310,2,     0.14,2,    42.00,2,   0.8539
  32PZ20020819,   CBL,   109,  1,      8,      8,2,20020918,2108, 74.6242,-157.6563, 1964,    434.8,   0.7979,  34.8281,2,  34.8311,2,    297.2,2,    296.3,2,     6.70,2,    12.40,2,     0.06,3,     0.87,2,    4.576,2,    2.105,2,    0.259,2,  -999.00,9,  -999.00,9,   0.7779
  32PZ20020819,   CBL,   109,  1,      7,      7,2,20020918,2108, 74.6242,-157.6563, 1964,    534.2,   0.5889,  34.8479,2,  34.8476,2,    298.7,2,    298.6,2,     6.70,2,    12.50,2,     0.05,3,     0.88,2,    4.291,2,    1.956,2,    0.238,2,  -999.00,9,  -999.00,9,   0.5647
  32PZ20020819,   CBL,   109,  1,      6,      6,2,20020918,2108, 74.6242,-157.6563, 1964,    761.8,   0.2100,  34.8640,2,  34.8637,2,    301.4,2,    300.2,2,     7.10,2,    12.70,2,     0.05,3,     0.89,2,    3.511,2,    1.627,2,    0.182,2,     0.13,2,    53.50,2,   0.1763
  32PZ20020819,   CBL,   109,  1,      5,      5,2,20020918,2108, 74.6242,-157.6563, 1964,   1015.1,  -0.0758,  34.8797,2,  34.8792,2,    301.4,2,    301.5,2,     7.40,2,    12.80,2,     0.05,3,     0.91,2,    3.012,2,    1.378,2,    0.142,2,  -999.00,9,  -999.00,9,  -0.1206
  32PZ20020819,   CBL,   109,  1,      4,      4,2,20020918,2108, 74.6242,-157.6563, 1964,   1260.2,  -0.2403,  34.8989,2,  34.8987,2,    299.9,2,    300.0,2,     8.30,2,    13.30,2,     0.05,3,     0.94,2,    1.889,2,    0.859,2,    0.086,2,  -999.00,9,  -999.00,9,  -0.2970
  32PZ20020819,   CBL,   109,  1,      3,      3,2,20020918,2108, 74.6242,-157.6563, 1964,   1557.6,  -0.3697,  34.9215,2,  34.9209,2,    296.2,2,    296.6,2,     9.90,2,    13.90,2,     0.06,3,     0.99,2,    0.854,2,    0.398,2,    0.027,2,  -999.00,9,  -999.00,9,  -0.4423
  32PZ20020819,   CBL,   109,  1,      2,      2,2,20020918,2108, 74.6242,-157.6563, 1964,   1806.6,  -0.3911,  34.9306,2,  34.9306,2,    293.5,2,    293.7,2,    10.90,2,    14.20,2,     0.06,3,     1.01,2,    0.529,2,    0.253,2, -999.000,9,  -999.00,9,  -999.00,9,  -0.4789
  32PZ20020819,   CBL,   109,  1,      1,      1,2,20020918,2108, 74.6242,-157.6563, 1964,   1936.5,  -0.3991,  34.9365,2,  34.9368,2,    291.6,2,    291.5,2,    11.50,2,    14.40,2,     0.06,3,     1.02,2,    0.377,2,    0.175,2, -999.000,9,  -999.00,9,  -999.00,9,  -0.4953
  32PZ20020819,   CBL,   110,  1,     21,     21,2,20020919,0136, 74.6363,-157.8388, 1380,     13.5,  -0.9418,  26.6396,2,  26.6472,2,    375.4,2,    378.4,2,     3.30,2,     0.10,2,     0.00,2,     0.60,2, -999.000,9, -999.000,9, -999.000,9,  -999.00,9,  -999.00,9,  -0.9420
  32PZ20020819,   CBL,   110,  1,     20,     20,2,20020919,0136, 74.6363,-157.8388, 1380,     29.9,  -0.8733,  31.7730,2,-999.0000,9,    389.7,2,    355.7,2,     8.10,2,     4.00,2,     0.15,2,     1.08,2, -999.000,9, -999.000,9, -999.000,9,  -999.00,9,  -999.00,9,  -0.8740
  32PZ20020819,   CBL,   110,  1,     19,     19,2,20020919,0136, 74.6363,-157.8388, 1380,     41.8,  -1.2134,  32.1103,2,  32.1301,2,    344.4,2,   -999.0,9,    17.00,2,     9.10,2,     0.12,2,     1.43,2, -999.000,9, -999.000,9, -999.000,9,  -999.00,9,  -999.00,9,  -1.2142
  32PZ20020819,   CBL,   110,  1,     18,     18,2,20020919,0136, 74.6363,-157.8388, 1380,     60.5,  -0.9956,  32.3919,2,  32.4163,2,    292.7,2,   -999.0,9,    23.20,2,    13.60,2,     0.03,2,     1.77,2, -999.000,9, -999.000,9, -999.000,9,  -999.00,9,  -999.00,9,  -0.9970
  32PZ20020819,   CBL,   110,  1,     17,     17,2,20020919,0136, 74.6363,-157.8388, 1380,     68.0,  -1.0634,  32.4653,2,-999.0000,9,    279.5,2,    269.2,2,    24.70,2,    14.00,2,     0.03,2,     1.80,2, -999.000,9, -999.000,9, -999.000,9,  -999.00,9,  -999.00,9,  -1.0649
  32PZ20020819,   CBL,   110,  1,     16,     16,2,20020919,0136, 74.6363,-157.8388, 1380,     79.1,  -0.9458,  32.5543,2,  32.5493,2,    268.6,2,   -999.0,9,    24.80,2,    15.00,2,     0.03,2,     1.86,2, -999.000,9, -999.000,9, -999.000,9,  -999.00,9,  -999.00,9,  -0.9477
  32PZ20020819,   CBL,   110,  1,     15,     15,2,20020919,0136, 74.6363,-157.8388, 1380,     89.2,  -1.1947,  32.5886,2,-999.0000,9,    263.6,2,    264.6,2,    26.50,2,    14.60,2,     0.03,2,     1.84,2, -999.000,9, -999.000,9, -999.000,9,  -999.00,9,  -999.00,9,  -1.1966
  32PZ20020819,   CBL,   110,  1,     14,     14,2,20020919,0136, 74.6363,-157.8388, 1380,    121.6,  -1.4702,  32.7088,2,  32.7111,2,    282.1,2,   -999.0,9,    31.20,2,    14.30,2,     0.02,2,     1.82,2, -999.000,9, -999.000,9, -999.000,9,  -999.00,9,  -999.00,9,  -1.4726
  32PZ20020819,   CBL,   110,  1,     13,     13,2,20020919,0136, 74.6363,-157.8388, 1380,    156.3,  -1.6216,  32.9052,2,-999.0000,9,    304.6,2,   -999.0,9,  -999.00,9,  -999.00,9,  -999.00,9,  -999.00,9, -999.000,9, -999.000,9, -999.000,9,  -999.00,9,  -999.00,9,  -1.6246
  32PZ20020819,   CBL,   110,  1,     12,     12,2,20020919,0136, 74.6363,-157.8388, 1380,    171.0,  -1.6123,  32.9634,2,  32.9617,2,    307.3,2,    306.2,2,  -999.00,9,  -999.00,9,  -999.00,9,  -999.00,9, -999.000,9, -999.000,9, -999.000,9,  -999.00,9,  -999.00,9,  -1.6156
  32PZ20020819,   CBL,   110,  1,     11,     11,2,20020919,0136, 74.6363,-157.8388, 1380,    217.1,  -1.1855,  33.8996,2,-999.0000,9,    266.0,2,    266.7,2,    27.00,2,    14.30,2,     0.02,2,     1.48,2, -999.000,9, -999.000,9, -999.000,9,  -999.00,9,  -999.00,9,  -1.1911
  32PZ20020819,   CBL,   110,  1,     10,     10,2,20020919,0136, 74.6363,-157.8388, 1380,    264.2,  -0.0299,  34.5412,2,  34.5392,2,    279.6,2,   -999.0,9,  -999.00,9,  -999.00,9,  -999.00,9,  -999.00,9, -999.000,9, -999.000,9, -999.000,9,  -999.00,9,  -999.00,9,  -0.0397
  32PZ20020819,   CBL,   110,  1,      9,      9,2,20020919,0136, 74.6363,-157.8388, 1380,    374.9,   0.9291,  34.8218,2,-999.0000,9,    291.6,2,   -999.0,9,     6.70,2,    12.60,2,     0.01,2,     0.88,2, -999.000,9, -999.000,9, -999.000,9,  -999.00,9,  -999.00,9,   0.9116
  32PZ20020819,   CBL,   110,  1,      8,      8,2,20020919,0136, 74.6363,-157.8388, 1380,    448.2,   0.7118,  34.8249,2,  34.8255,2,    295.9,2,    295.8,2,  -999.00,9,  -999.00,9,  -999.00,9,  -999.00,9, -999.000,9, -999.000,9, -999.000,9,  -999.00,9,  -999.00,9,   0.6914
  32PZ20020819,   CBL,   110,  1,      7,      7,2,20020919,0136, 74.6363,-157.8388, 1380,    622.4,   0.4217,  34.8533,2,  34.8530,2,    299.5,2,   -999.0,9,     7.10,2,    12.80,2,     0.01,2,     0.89,2, -999.000,9, -999.000,9, -999.000,9,  -999.00,9,  -999.00,9,   0.3939
  32PZ20020819,   CBL,   110,  1,      6,      6,2,20020919,0136, 74.6363,-157.8388, 1380,    723.0,   0.2717,  34.8606,2,  34.8607,2,    301.0,2,    301.3,2,  -999.00,9,  -999.00,9,  -999.00,9,  -999.00,9, -999.000,9, -999.000,9, -999.000,9,  -999.00,9,  -999.00,9,   0.2396
  32PZ20020819,   CBL,   110,  1,      5,      5,2,20020919,0136, 74.6363,-157.8388, 1380,    876.1,   0.0699,  34.8703,2,-999.0000,9,    301.8,2,    301.0,2,     7.10,2,    12.80,2,     0.01,2,     0.90,2,    3.370,2,    1.554,2,    0.182,2,  -999.00,9,  -999.00,9,   0.0313
  32PZ20020819,   CBL,   110,  1,      4,      4,2,20020919,0136, 74.6363,-157.8388, 1380,   1011.8,  -0.0472,  34.8815,2,  34.8847,2,    299.8,2,    299.9,2,  -999.00,9,  -999.00,9,  -999.00,9,  -999.00,9, -999.000,9, -999.000,9, -999.000,9,  -999.00,9,  -999.00,9,  -0.0921
  32PZ20020819,   CBL,   110,  1,      3,      3,2,20020919,0136, 74.6363,-157.8388, 1380,   1118.6,  -0.1266,  34.8918,2,-999.0000,9,    298.7,2,    298.7,2,  -999.00,9,  -999.00,9,  -999.00,9,  -999.00,9, -999.000,9, -999.000,9, -999.000,9,  -999.00,9,  -999.00,9,  -0.1765
  32PZ20020819,   CBL,   110,  1,      2,      2,2,20020919,0136, 74.6363,-157.8388, 1380,   1176.7,  -0.1476,  34.8935,2,-999.0000,9,    300.4,2,    298.7,2,  -999.00,9,  -999.00,9,  -999.00,9,  -999.00,9, -999.000,9, -999.000,9, -999.000,9,  -999.00,9,  -999.00,9,  -0.2005
  32PZ20020819,   CBL,   110,  1,      1,      1,2,20020919,0136, 74.6363,-157.8388, 1380,   1330.9,  -0.2101,  34.8988,2,  34.8987,2,    299.4,2,    299.2,2,  -999.00,9,  -999.00,9,  -999.00,9,  -999.00,9, -999.000,9, -999.000,9, -999.000,9,  -999.00,9,  -999.00,9,  -0.2711