BOTTLE,20220815CCHSIOAMB
EXPOCODE,SECT_ID,STNNBR,CASTNO,SAMPNO,BTLNBR,BTLNBR_FLAG_W,DATE,TIME,LATITUDE,LONGITUDE,DEPTH,CTDPRS,CTDTMP,CTDSAL,CTDSAL_FLAG_W,SALNTY,SALNTY_FLAG_W,CTDOXY,CTDOXY_FLAG_W,OXYGEN,OXYGEN_FLAG_W,SILCAT,SILCAT_FLAG_W,NITRAT,NITRAT_FLAG_W,NITRIT,NITRIT_FLAG_W,PHSPHT,PHSPHT_FLAG_W,CFC-11,CFC-11_FLAG_W,CFC-12,CFC-12_FLAG_W,CFC113,CFC113_FLAG_W,DELO18,DELO18_FLAG_W,BARIUM,BARIUM_FLAG_W,THETA
,,,,,,,,,,,METERS,DBAR,ITS-90,PSS-78,,PSS-78,,UMOL/KG,,UMOL/KG,,UMOL/KG,,UMOL/KG,,UMOL/KG,,UMOL/KG,,PMOL/KG,,PMOL/KG,,PMOL/KG,,/MILLE,,NMOL/KG,,DEG C
  32PZ20020819,   CBL,    29,  1,     24,     24,2,20020831,0655, 80.0078,-178.6567, 1758,      1.8,  -1.4852,  29.9687,2,  29.9705,2,    371.6,2,    373.7,2,     8.90,2,     1.60,2,     0.06,2,     0.51,2, -999.000,9, -999.000,9, -999.000,9,  -999.00,9,  -999.00,9,  -1.4852
  32PZ20020819,   CBL,    29,  1,     23,     23,2,20020831,0655, 80.0078,-178.6567, 1758,     12.7,  -1.4862,  29.9690,2,  29.9684,2,    373.6,2,    374.3,2,     8.90,2,     1.60,2,     0.06,2,     0.51,2,    7.767,2,    3.952,2,    0.727,2,    -4.01,2,    59.10,2,  -1.4864
  32PZ20020819,   CBL,    29,  1,     22,     22,2,20020831,0655, 80.0078,-178.6567, 1758,     22.2,  -1.4892,  29.9759,2,  30.0464,2,    374.8,2,   -999.0,5,     8.90,2,     1.70,2,     0.07,2,     0.52,2, -999.000,9, -999.000,9, -999.000,9,  -999.00,9,  -999.00,9,  -1.4895
  32PZ20020819,   CBL,    29,  1,     21,     21,2,20020831,0655, 80.0078,-178.6567, 1758,     32.4,  -1.4876,  30.4623,2,  30.4598,2,    376.4,2,    370.6,2,     9.30,2,     2.20,2,     0.07,2,     0.60,2, -999.000,9, -999.000,9, -999.000,9,    -3.86,2,    61.30,2,  -1.4881
  32PZ20020819,   CBL,    29,  1,     20,     20,2,20020831,0655, 80.0078,-178.6567, 1758,     52.0,  -1.5973,  32.3095,2,  32.4395,2,    353.9,2,    318.2,2,    12.30,2,     6.80,2,     0.02,2,     0.87,2,    7.449,2,    3.737,2,    0.576,2,    -1.92,2,    53.90,2,  -1.5982
  32PZ20020819,   CBL,    29,  1,     19,     19,2,20020831,0655, 80.0078,-178.6567, 1758,     66.6,  -1.5408,  33.5933,2,  33.6091,2,    298.5,2,    296.6,2,    13.70,2,     9.20,2,     0.01,2,     0.93,2, -999.000,9, -999.000,9, -999.000,9,    -0.85,2,    49.10,2,  -1.5422
  32PZ20020819,   CBL,    29,  1,     18,     18,2,20020831,0655, 80.0078,-178.6567, 1758,     81.9,  -1.5555,  33.9353,2,  33.9655,2,    308.5,2,    310.5,2,     7.00,2,     8.30,2,     0.01,2,     0.72,2, -999.000,9, -999.000,9, -999.000,9,    -0.64,2,    47.20,2,  -1.5572
  32PZ20020819,   CBL,    29,  1,     17,     17,2,20020831,0655, 80.0078,-178.6567, 1758,     95.9,  -1.4794,  34.1017,2,  34.1096,2,    312.3,2,    312.8,2,     6.10,2,     8.50,2,     0.01,2,     0.70,2, -999.000,9, -999.000,9, -999.000,9,    -0.39,2,    44.20,2,  -1.4815
  32PZ20020819,   CBL,    29,  1,     16,     16,2,20020831,0655, 80.0078,-178.6567, 1758,    110.6,  -1.2854,  34.1993,2,  34.2011,2,    312.2,2,    312.7,2,     5.40,2,     8.50,2,     0.01,2,     0.70,2, -999.000,9, -999.000,9, -999.000,9,    -0.39,2,    51.00,2,  -1.2881
  32PZ20020819,   CBL,    29,  1,     15,     15,2,20020831,0655, 80.0078,-178.6567, 1758,    130.6,  -0.9171,  34.3020,2,  34.3147,2,    312.8,2,    310.5,2,     5.40,2,     9.10,2,     0.01,2,     0.73,2,    6.727,2,    3.226,2,    0.463,2,    -0.16,2,    43.00,2,  -0.9207
  32PZ20020819,   CBL,    29,  1,     14,     14,2,20020831,0655, 80.0078,-178.6567, 1758,    159.8,  -0.4307,  34.4694,2,  34.4670,2,    307.2,2,    305.5,2,     5.60,2,     9.90,2,     0.01,2,     0.77,2, -999.000,9, -999.000,9, -999.000,9,  -999.00,9,  -999.00,9,  -0.4359
  32PZ20020819,   CBL,    29,  1,     13,     13,2,20020831,0655, 80.0078,-178.6567, 1758,    213.8,   0.3671,  34.6684,2,  34.6644,2,    301.6,2,    302.1,2,     5.60,2,    11.10,2,     0.01,2,     0.82,2, -999.000,9, -999.000,9, -999.000,9,  -999.00,9,  -999.00,9,   0.3585
  32PZ20020819,   CBL,    29,  1,     12,     12,2,20020831,0655, 80.0078,-178.6567, 1758,    282.1,   0.8705,  34.7984,2,  34.7983,2,    300.1,2,    301.2,2,     5.80,2,    11.90,2,     0.01,2,     0.85,2,    5.468,2,    2.780,2,    0.408,2,  -999.00,9,  -999.00,9,   0.8577
  32PZ20020819,   CBL,    29,  1,     11,     11,2,20020831,0655, 80.0078,-178.6567, 1758,    356.2,   1.0961,  34.8438,2,  34.8437,2,    301.5,2,    302.3,2,     5.90,2,    12.10,2,     0.01,2,     0.86,2,    5.487,2,    2.681,2,    0.396,2,     0.15,2,    41.20,2,   1.0790
  32PZ20020819,   CBL,    29,  1,     10,     10,2,20020831,0655, 80.0078,-178.6567, 1758,    394.5,   1.0260,  34.8449,2,  34.8459,2,    302.5,2,    302.6,2,     5.90,2,    12.20,2,     0.01,2,     0.86,2,    5.335,2,    2.673,2,    0.361,2,  -999.00,9,  -999.00,9,   1.0072
  32PZ20020819,   CBL,    29,  1,      9,      9,2,20020831,0655, 80.0078,-178.6567, 1758,    491.3,   0.7843,  34.8537,2,  34.8563,2,    304.3,2,    304.2,2,     6.00,2,    12.10,2,     0.01,2,     0.86,2, -999.000,9, -999.000,9, -999.000,9,  -999.00,9,  -999.00,9,   0.7614
  32PZ20020819,   CBL,    29,  1,      8,      8,2,20020831,0655, 80.0078,-178.6567, 1758,    653.6,   0.4336,  34.8604,2,  34.8648,3,    305.0,2,    304.8,2,     6.10,2,    12.30,2,     0.01,2,     0.87,2,    5.290,2,    2.603,2,    0.342,2,     0.22,2,    42.70,2,   0.4041
  32PZ20020819,   CBL,    29,  1,      7,      7,2,20020831,0655, 80.0078,-178.6567, 1758,    756.2,   0.2212,  34.8604,2,  34.8608,2,    305.2,2,    305.4,2,     6.40,2,    12.30,2,     0.01,2,     0.88,2,    5.290,2,    2.573,2,    0.366,2,  -999.00,9,  -999.00,9,   0.1878
  32PZ20020819,   CBL,    29,  1,      6,      6,2,20020831,0655, 80.0078,-178.6567, 1758,    889.0,   0.0221,  34.8656,2,  34.8670,2,    305.7,2,    305.2,2,     6.50,2,    12.30,2,     0.01,2,     0.89,2,    5.082,2,    2.438,2,    0.348,2,  -999.00,9,  -999.00,9,  -0.0168
  32PZ20020819,   CBL,    29,  1,      5,      5,2,20020831,0655, 80.0078,-178.6567, 1758,   1120.3,  -0.1976,  34.8807,2,  34.8843,2,    305.2,2,    304.6,2,     7.10,2,    12.60,2,     0.01,2,     0.91,2,    4.383,2,    2.079,2,    0.290,2,  -999.00,9,  -999.00,9,  -0.2470
  32PZ20020819,   CBL,    29,  1,      4,      4,2,20020831,0655, 80.0078,-178.6567, 1758,   1322.0,  -0.3345,  34.8962,2,  34.8969,2,    303.2,2,    303.5,2,     7.80,2,    13.10,2,     0.01,2,     0.94,2,    3.263,2,    1.584,2,    0.206,2,  -999.00,9,  -999.00,9,  -0.3937
  32PZ20020819,   CBL,    29,  1,      3,      3,2,20020831,0655, 80.0078,-178.6567, 1758,   1523.5,  -0.4374,  34.9130,2,  34.9126,2,    299.7,2,    299.6,2,     9.30,2,    13.80,2,     0.01,2,     0.98,2,    1.941,6,    0.934,6,    0.109,6,  -999.00,9,  -999.00,9,  -0.5071
  32PZ20020819,   CBL,    29,  1,      2,      2,2,20020831,0655, 80.0078,-178.6567, 1758,   1631.7,  -0.4646,  34.9285,2,  34.9311,2,    293.5,2,    294.2,2,    11.10,2,    14.30,2,     0.01,2,     1.02,2, -999.000,9, -999.000,9, -999.000,9,  -999.00,9,  -999.00,9,  -0.5405
  32PZ20020819,   CBL,    29,  1,      1,      1,2,20020831,0655, 80.0078,-178.6567, 1758,   1730.4,  -0.4344,  34.9458,2,  34.9455,2,    287.8,2,    287.9,2,    12.70,2,    14.80,2,     0.01,2,     1.04,2,    0.240,2,    0.107,2,    0.002,2,  -999.00,9,  -999.00,9,  -0.5168
  32PZ20020819,   CBL,    30,  1,     26,     26,2,20020831,1229, 80.0160,-176.9377, 2047,      1.7,  -1.5355,  30.1305,2,  30.1302,2,    376.8,2,    378.5,2,  -999.00,9,  -999.00,9,  -999.00,9,  -999.00,9, -999.000,9, -999.000,9, -999.000,9,  -999.00,9,  -999.00,9,  -1.5355
  32PZ20020819,   CBL,    30,  1,     25,     25,2,20020831,1229, 80.0160,-176.9377, 2047,     12.7,  -1.5339,  30.1206,2,  30.1304,2,    378.9,2,   -999.0,9,     7.20,2,     1.10,2,     0.06,2,     0.51,2,    7.662,2,    3.860,2,    0.694,2,    -3.84,2,    63.10,2,  -1.5341
  32PZ20020819,   CBL,    30,  1,     24,     24,2,20020831,1229, 80.0160,-176.9377, 2047,     32.6,  -1.4994,  30.5706,2,  30.5962,2,    380.4,2,    372.9,2,     8.50,2,     2.20,2,     0.08,2,     0.56,2,    7.914,2,    3.946,2,    0.711,2,    -3.84,2,    58.90,2,  -1.4999
  32PZ20020819,   CBL,    30,  1,     23,     23,2,20020831,1229, 80.0160,-176.9377, 2047,     49.9,  -1.6070,  31.9426,2,  31.8308,2,    368.4,2,    338.3,2,    10.80,2,     5.10,2,     0.03,2,     0.81,2, -999.000,9, -999.000,9, -999.000,9,    -2.43,2,    54.80,2,  -1.6078
  32PZ20020819,   CBL,    30,  1,     22,     22,2,20020831,1229, 80.0160,-176.9377, 2047,     65.0,  -1.5973,  33.4330,2,  33.5514,2,    309.7,2,    308.8,2,    10.60,2,     8.30,2,     0.02,2,     0.83,2,    7.188,2,    3.499,2,    0.521,2,    -1.01,2,    48.70,2,  -1.5986
  32PZ20020819,   CBL,    30,  1,     21,     21,2,20020831,1229, 80.0160,-176.9377, 2047,     81.6,  -1.5744,  33.8924,2,  33.8840,2,    312.8,2,    313.5,2,     7.00,2,     8.00,2,     0.02,2,     0.71,2,    7.129,2,    3.434,2,    0.524,2,    -0.75,2,    49.60,2,  -1.5761
  32PZ20020819,   CBL,    30,  1,     20,     20,2,20020831,1229, 80.0160,-176.9377, 2047,     95.2,  -1.5051,  34.0490,2,  34.0642,2,    314.1,2,    315.0,2,     6.10,2,     8.30,2,     0.02,2,     0.71,2,    6.958,2,    3.388,2,    0.485,2,    -0.47,2,    44.40,2,  -1.5072
  32PZ20020819,   CBL,    30,  1,     19,     19,2,20020831,1229, 80.0160,-176.9377, 2047,    110.9,  -1.3293,  34.1812,2,  34.1885,2,    313.3,2,    314.3,2,     5.40,2,     8.50,2,     0.02,2,     0.70,2,    6.760,6,    3.252,6,    0.468,6,    -0.33,2,    44.00,2,  -1.3319
  32PZ20020819,   CBL,    30,  1,     18,     18,2,20020831,1229, 80.0160,-176.9377, 2047,    126.4,  -0.9088,  34.2796,2,  34.2860,2,    314.1,2,    314.4,2,     5.20,2,     8.80,2,     0.02,2,     0.71,2, -999.000,9, -999.000,9, -999.000,9,    -0.28,2,    44.10,2,  -0.9123
  32PZ20020819,   CBL,    30,  1,     17,     17,2,20020831,1229, 80.0160,-176.9377, 2047,    141.5,  -0.6631,  34.3606,2,  34.3682,2,    312.3,2,    307.7,2,     5.50,2,     9.50,2,     0.02,2,     0.74,2,    6.577,6,    3.173,6,    0.469,6,  -999.00,9,  -999.00,9,  -0.6674
  32PZ20020819,   CBL,    30,  1,     16,     16,2,20020831,1229, 80.0160,-176.9377, 2047,    175.2,  -0.2074,  34.5133,2,  34.5196,2,    305.7,2,    304.7,2,     5.60,2,    10.30,2,     0.02,2,     0.78,2,    6.409,2,    3.119,2,    0.465,2,  -999.00,9,  -999.00,9,  -0.2135
  32PZ20020819,   CBL,    30,  1,     15,     15,2,20020831,1229, 80.0160,-176.9377, 2047,    223.5,   0.5743,  34.7111,2,  34.7125,2,    299.4,2,    300.7,2,  -999.00,9,  -999.00,9,  -999.00,9,  -999.00,9,    5.889,2,    2.885,2,    0.407,2,  -999.00,9,  -999.00,9,   0.5649
  32PZ20020819,   CBL,    30,  1,     14,     14,2,20020831,1229, 80.0160,-176.9377, 2047,    269.7,   0.9595,  34.8025,2,  34.7998,2,    298.3,2,    298.5,2,     6.00,2,    12.10,2,     0.02,2,     0.86,2, -999.000,9, -999.000,9, -999.000,9,  -999.00,9,  -999.00,9,   0.9471
  32PZ20020819,   CBL,    30,  1,     13,     13,2,20020831,1229, 80.0160,-176.9377, 2047,    310.9,   1.0673,  34.8317,2,  34.8311,2,    299.8,2,    300.7,2,     6.00,2,    12.20,2,     0.02,2,     0.87,2,    5.591,2,    2.661,2,    0.377,2,  -999.00,9,  -999.00,9,   1.0526
  32PZ20020819,   CBL,    30,  1,     12,     12,2,20020831,1229, 80.0160,-176.9377, 2047,    360.0,   1.0957,  34.8438,2,  34.8460,2,    301.3,2,    301.8,2,     5.90,2,    12.30,2,     0.02,2,     0.87,2,    5.594,2,    2.660,2,    0.374,2,     0.13,2,    41.10,2,   1.0784
  32PZ20020819,   CBL,    30,  1,     11,     11,2,20020831,1229, 80.0160,-176.9377, 2047,    442.1,   0.9964,  34.8630,2,  34.8629,2,    303.2,2,    302.1,2,     6.10,2,    12.40,2,     0.02,2,     0.88,2,    5.398,2,    2.595,2,    0.350,2,  -999.00,9,  -999.00,9,   0.9752
  32PZ20020819,   CBL,    30,  1,     10,     10,2,20020831,1229, 80.0160,-176.9377, 2047,    594.5,   0.5746,  34.8635,2,  34.8651,2,    305.7,2,    303.4,2,     6.40,2,    12.40,2,     0.02,2,     0.88,2,    5.145,2,    2.443,2,    0.330,2,  -999.00,9,  -999.00,9,   0.5474
  32PZ20020819,   CBL,    30,  1,      9,      9,2,20020831,1229, 80.0160,-176.9377, 2047,    660.6,   0.4203,  34.8656,2,  34.8657,2,    301.4,2,    301.6,2,     6.60,2,    12.70,2,     0.02,2,     0.89,2,    3.964,2,    1.856,2,    0.229,2,  -999.00,9,  -999.00,9,   0.3906
  32PZ20020819,   CBL,    30,  1,      8,      8,2,20020831,1229, 80.0160,-176.9377, 2047,    743.5,   0.2261,  34.8651,2,  34.8655,2,    305.7,2,    306.0,2,     6.50,2,    12.50,2,     0.02,2,     0.89,2,    4.800,2,    2.247,2,    0.301,2,     0.22,2,    42.20,2,   0.1933
  32PZ20020819,   CBL,    30,  1,      7,      7,2,20020831,1229, 80.0160,-176.9377, 2047,    841.5,   0.0461,  34.8665,2,  34.8667,2,    306.3,2,    306.7,2,     6.60,2,    12.50,2,     0.02,2,     0.89,2,    4.935,2,    2.300,2,    0.298,2,  -999.00,9,  -999.00,9,   0.0095
  32PZ20020819,   CBL,    30,  1,      6,      6,2,20020831,1229, 80.0160,-176.9377, 2047,    990.2,  -0.1027,  34.8760,2,  34.8793,2,    305.4,2,    307.0,2,     6.90,2,    12.70,2,     0.02,2,     0.91,2,    4.249,2,    2.010,2,    0.249,2,  -999.00,9,  -999.00,9,  -0.1459
  32PZ20020819,   CBL,    30,  1,      5,      5,2,20020831,1229, 80.0160,-176.9377, 2047,   1236.5,  -0.2819,  34.8942,2,  34.8972,2,    304.4,2,    303.6,2,     7.70,2,    13.20,2,     0.02,2,     0.94,2,    3.105,2,    1.437,2,    0.172,2,  -999.00,9,  -999.00,9,  -0.3368
  32PZ20020819,   CBL,    30,  1,      4,      4,2,20020831,1229, 80.0160,-176.9377, 2047,   1480.3,  -0.4175,  34.9123,2,  34.9134,2,    301.1,2,    299.9,2,     9.20,2,    13.80,2,     0.02,2,     0.98,2,    1.823,2,    0.857,2,    0.074,2,  -999.00,9,  -999.00,9,  -0.4849
  32PZ20020819,   CBL,    30,  1,      3,      3,2,20020831,1229, 80.0160,-176.9377, 2047,   1678.4,  -0.4564,  34.9303,2,  34.9315,2,    293.4,2,    294.8,2,    11.30,2,    14.50,2,     0.02,2,     1.03,2,    0.811,2,    0.387,2,    0.024,2,  -999.00,9,  -999.00,9,  -0.5352
  32PZ20020819,   CBL,    30,  1,      2,      2,2,20020831,1229, 80.0160,-176.9377, 2047,   1868.7,  -0.4284,  34.9439,2,  34.9455,2,    288.3,2,    288.7,2,    12.60,2,    14.80,2,     0.02,2,     1.05,2,    0.242,2,    0.117,2,    0.001,2,  -999.00,9,  -999.00,9,  -0.5197
  32PZ20020819,   CBL,    30,  1,      1,      1,2,20020831,1229, 80.0160,-176.9377, 2047,   2040.0,  -0.4040,  34.9526,2,  34.9502,2,    285.1,2,    285.2,2,    13.40,2,    14.90,2,     0.02,2,     1.07,2,    0.064,2,    0.042,2,    0.006,2,  -999.00,9,  -999.00,9,  -0.5071