BOTTLE,20220815CCHSIOAMB
EXPOCODE,SECT_ID,STNNBR,CASTNO,SAMPNO,BTLNBR,BTLNBR_FLAG_W,DATE,TIME,LATITUDE,LONGITUDE,DEPTH,CTDPRS,CTDTMP,CTDSAL,CTDSAL_FLAG_W,SALNTY,SALNTY_FLAG_W,CTDOXY,CTDOXY_FLAG_W,OXYGEN,OXYGEN_FLAG_W,SILCAT,SILCAT_FLAG_W,NITRAT,NITRAT_FLAG_W,NITRIT,NITRIT_FLAG_W,PHSPHT,PHSPHT_FLAG_W,CFC-11,CFC-11_FLAG_W,CFC-12,CFC-12_FLAG_W,CFC113,CFC113_FLAG_W,DELO18,DELO18_FLAG_W,BARIUM,BARIUM_FLAG_W,THETA
,,,,,,,,,,,METERS,DBAR,ITS-90,PSS-78,,PSS-78,,UMOL/KG,,UMOL/KG,,UMOL/KG,,UMOL/KG,,UMOL/KG,,UMOL/KG,,PMOL/KG,,PMOL/KG,,PMOL/KG,,/MILLE,,NMOL/KG,,DEG C
  32PZ20020819,   CBL,    59,  1,     30,     30,2,20020906,1459, 79.2515,-158.2352, 3068,      1.6,  -1.6361,  30.6681,2,  30.6672,2,    389.9,2,    392.5,2,     1.60,2,     0.20,2,     0.00,2,     0.86,2, -999.000,9, -999.000,9, -999.000,9,  -999.00,9,  -999.00,9,  -1.6361
  32PZ20020819,   CBL,    59,  1,     29,     29,2,20020906,1459, 79.2515,-158.2352, 3068,     15.1,  -1.6403,  30.6743,2,  30.6963,2,    394.3,2,    392.5,2,     1.70,2,     0.20,2,     0.01,2,     0.87,2,    7.360,2,    3.764,2,    0.689,2,    -2.04,2,    56.80,2,  -1.6405
  32PZ20020819,   CBL,    59,  1,     28,     28,2,20020906,1459, 79.2515,-158.2352, 3068,     34.7,  -1.5814,  31.3983,2,  31.4022,2,    388.4,2,    376.6,2,     9.00,2,     2.50,2,     0.13,2,     1.12,2,    7.398,2,    3.788,2,    0.697,2,    -1.91,2,    59.00,2,  -1.5819
  32PZ20020819,   CBL,    59,  1,     27,     27,2,20020906,1459, 79.2515,-158.2352, 3068,     57.6,  -1.6804,  31.7618,2,  31.7992,2,    362.3,2,    335.2,2,    15.10,2,     6.60,2,     0.03,2,     1.35,2,    7.284,2,    3.742,2,    0.722,2,    -1.62,2,    58.20,2,  -1.6813
  32PZ20020819,   CBL,    59,  1,     26,     26,2,20020906,1459, 79.2515,-158.2352, 3068,     77.2,  -1.5439,  32.4958,2,  32.5345,2,    295.5,2,    273.9,2,    29.40,2,    12.80,2,     0.02,2,     1.77,2, -999.000,9, -999.000,9, -999.000,9,    -1.40,2,    63.60,2,  -1.5453
  32PZ20020819,   CBL,    59,  1,     25,     25,2,20020906,1459, 79.2515,-158.2352, 3068,     92.5,  -1.4839,  32.9001,2,  32.9910,2,    256.8,2,    243.9,2,    38.20,2,    16.10,2,     0.02,2,     1.97,2, -999.000,9, -999.000,9, -999.000,9,  -999.00,9,  -999.00,9,  -1.4857
  32PZ20020819,   CBL,    59,  1,     24,     24,2,20020906,1459, 79.2515,-158.2352, 3068,    102.3,  -1.4530,  33.2282,2,  33.2729,2,    241.6,2,    241.0,2,    40.80,2,    16.80,2,     0.02,2,     1.98,2,    6.061,2,    3.171,2,    0.439,2,    -1.04,2,    65.80,2,  -1.4551
  32PZ20020819,   CBL,    59,  1,     23,     23,2,20020906,1459, 79.2515,-158.2352, 3068,    112.0,  -1.4425,  33.7082,2,  33.8375,2,    246.8,2,    277.0,2,    19.00,2,    11.50,2,     0.02,2,     1.16,2, -999.000,9, -999.000,9, -999.000,9,  -999.00,9,  -999.00,9,  -1.4450
  32PZ20020819,   CBL,    59,  1,     22,     22,2,20020906,1459, 79.2515,-158.2352, 3068,    126.6,  -1.4112,  34.0639,2,  34.0601,2,    282.0,2,    296.5,2,    10.00,2,     9.90,2,     0.02,2,     0.87,2, -999.000,9, -999.000,9, -999.000,9,  -999.00,9,  -999.00,9,  -1.4141
  32PZ20020819,   CBL,    59,  1,     21,     21,2,20020906,1459, 79.2515,-158.2352, 3068,    141.6,  -1.3095,  34.1865,2,  34.1935,2,    297.4,2,    306.8,2,     6.40,2,     9.40,2,     0.02,2,     0.77,2,    6.893,2,    3.297,2,    0.485,2,  -999.00,9,  -999.00,9,  -1.3129
  32PZ20020819,   CBL,    59,  1,     20,     20,2,20020906,1459, 79.2515,-158.2352, 3068,    161.2,  -0.9309,  34.3009,2,  34.3088,2,    305.0,2,    307.3,2,     5.60,2,     9.60,2,     0.02,2,     0.76,2,    6.731,2,    3.244,2,    0.487,2,    -0.14,2,    43.80,2,  -0.9354
  32PZ20020819,   CBL,    59,  1,     19,     19,2,20020906,1459, 79.2515,-158.2352, 3068,    201.1,  -0.1493,  34.5104,2,  34.5231,2,    301.8,2,    301.1,2,     5.90,2,    10.80,2,     0.02,2,     0.81,2,    6.387,2,    3.039,2,    0.439,2,  -999.00,9,  -999.00,9,  -0.1564
  32PZ20020819,   CBL,    59,  1,     18,     18,2,20020906,1459, 79.2515,-158.2352, 3068,    240.6,   0.5224,  34.6818,2,  34.6975,2,    294.5,2,    296.2,2,     6.60,2,    12.00,2,     0.02,2,     0.87,2,    5.800,2,    2.802,2,    0.390,2,  -999.00,9,  -999.00,9,   0.5123
  32PZ20020819,   CBL,    59,  1,     17,     17,2,20020906,1459, 79.2515,-158.2352, 3068,    309.8,   1.0445,  34.8211,2,  34.8278,2,    298.1,2,    295.5,2,     6.60,2,    12.70,2,     0.02,2,     0.90,2,    5.563,2,    2.602,2,    0.358,2,  -999.00,9,  -999.00,9,   1.0299
  32PZ20020819,   CBL,    59,  1,     16,     16,2,20020906,1459, 79.2515,-158.2352, 3068,    369.1,   1.1459,  34.8516,2,  34.8535,2,    299.0,2,    299.4,2,     6.10,2,    12.70,2,     0.02,2,     0.89,2,    5.311,2,    2.510,2,    0.368,2,     0.32,2,    46.60,2,   1.1280
  32PZ20020819,   CBL,    59,  1,     15,     15,2,20020906,1459, 79.2515,-158.2352, 3068,    448.6,   0.9735,  34.8624,2,  34.8644,2,    299.3,2,    300.5,2,     6.20,2,    12.70,2,     0.02,2,     0.89,2,    5.200,6,    2.479,6,    0.344,6,  -999.00,9,  -999.00,9,   0.9521
  32PZ20020819,   CBL,    59,  1,     14,     14,2,20020906,1459, 79.2515,-158.2352, 3068,    547.6,   0.6443,  34.8614,2,  34.8628,2,    300.4,2,    301.4,2,     6.40,2,    12.70,2,     0.02,2,     0.90,2,    5.043,2,    2.389,2,    0.316,2,  -999.00,9,  -999.00,9,   0.6192
  32PZ20020819,   CBL,    59,  1,     13,     13,2,20020906,1459, 79.2515,-158.2352, 3068,    646.7,   0.4056,  34.8633,2,  34.8651,2,    301.9,2,    302.5,2,     6.30,2,    12.70,2,     0.01,2,     0.90,2,    4.659,2,    2.229,2,    0.289,2,  -999.00,9,  -999.00,9,   0.3766
  32PZ20020819,   CBL,    59,  1,     12,     12,2,20020906,1459, 79.2515,-158.2352, 3068,    735.7,   0.2072,  34.8645,2,  34.8664,2,    303.9,2,    303.7,2,     6.40,2,    12.70,2,     0.01,2,     0.91,2,    4.750,2,    2.267,2,    0.295,2,     0.25,2,    44.00,2,   0.1749
  32PZ20020819,   CBL,    59,  1,     11,     11,2,20020906,1459, 79.2515,-158.2352, 3068,    894.1,  -0.0088,  34.8709,2,  34.8717,2,    303.5,2,    303.1,2,     6.90,2,    12.90,2,     0.01,2,     0.92,2,    4.337,2,    2.112,2,    0.261,2,  -999.00,9,  -999.00,9,  -0.0478
  32PZ20020819,   CBL,    59,  1,     10,     10,2,20020906,1459, 79.2515,-158.2352, 3068,    993.8,  -0.0933,  34.8815,2,  34.8833,2,    303.2,2,    302.5,2,     7.20,2,    13.20,2,     0.01,2,     0.94,2,    3.398,2,    1.640,2,    0.208,2,  -999.00,9,  -999.00,9,  -0.1368
  32PZ20020819,   CBL,    59,  1,      9,      9,2,20020906,1459, 79.2515,-158.2352, 3068,   1167.3,  -0.2278,  34.8909,2,  34.8926,2,    302.7,2,    302.2,2,     7.60,2,    13.30,2,     0.01,2,     0.95,2,    3.216,2,    1.527,2,    0.181,2,  -999.00,9,  -999.00,9,  -0.2794
  32PZ20020819,   CBL,    59,  1,      8,      8,2,20020906,1459, 79.2515,-158.2352, 3068,   1341.5,  -0.3097,  34.9077,2,  34.9095,2,    301.7,2,    301.2,2,     8.20,2,    13.70,2,     0.02,2,     0.97,2,    1.731,2,    0.822,2,    0.072,2,  -999.00,9,  -999.00,9,  -0.3703
  32PZ20020819,   CBL,    59,  1,      7,      7,2,20020906,1459, 79.2515,-158.2352, 3068,   1490.6,  -0.3370,  34.9240,2,  34.9254,2,    298.0,2,    297.4,2,     9.40,2,    14.10,2,     0.02,2,     1.00,2,    0.457,6,    0.229,6,    0.019,6,  -999.00,9,  -999.00,9,  -0.4060
  32PZ20020819,   CBL,    59,  1,      6,      6,2,20020906,1459, 79.2515,-158.2352, 3068,   1789.4,  -0.4008,  34.9404,2,  34.9435,2,    293.3,2,    294.1,2,    10.60,2,    14.60,2,     0.01,2,     1.04,2,    0.124,2,    0.073,2,    0.006,2,  -999.00,9,  -999.00,9,  -0.4874
  32PZ20020819,   CBL,    59,  1,      5,      5,2,20020906,1459, 79.2515,-158.2352, 3068,   2112.9,  -0.4052,  34.9498,2,  34.9509,2,    288.8,2,    288.7,2,    12.20,2,    15.00,2,     0.02,2,     1.07,2,    0.043,2,    0.024,2,    0.000,2,  -999.00,9,  -999.00,9,  -0.5133
  32PZ20020819,   CBL,    59,  1,      4,      4,2,20020906,1459, 79.2515,-158.2352, 3068,   2438.0,  -0.3799,  34.9550,2,  34.9561,2,    285.4,2,    285.8,2,    13.30,2,    15.10,2,     0.01,2,     1.07,2,    0.017,2,    0.004,2,    0.000,2,  -999.00,9,  -999.00,9,  -0.5118
  32PZ20020819,   CBL,    59,  1,      3,      3,2,20020906,1459, 79.2515,-158.2352, 3068,   2688.0,  -0.3587,  34.9571,2,  34.9577,2,    285.0,2,    285.4,2,    13.30,2,    15.10,2,     0.02,2,     1.08,2,    0.040,2,    0.030,2,    0.000,2,  -999.00,9,  -999.00,9,  -0.5102
  32PZ20020819,   CBL,    59,  1,      2,      2,2,20020906,1459, 79.2515,-158.2352, 3068,   2887.6,  -0.3404,  34.9580,2,  34.9590,2,    284.3,2,    285.0,2,    13.40,2,    15.10,2,     0.02,2,     1.08,2,    0.000,2,    0.000,2,    0.000,2,  -999.00,9,  -999.00,9,  -0.5083
  32PZ20020819,   CBL,    59,  1,      1,      1,2,20020906,1459, 79.2515,-158.2352, 3068,   3065.8,  -0.3270,  34.9583,2,  34.9607,2,    284.7,2,    284.6,2,    13.50,2,    15.10,2,     0.02,2,     1.08,2,    0.000,2,    0.000,2,    0.000,2,  -999.00,9,  -999.00,9,  -0.5101
  32PZ20020819,   CBL,    60,  1,     31,     31,2,20020906,1859, 79.2045,-157.8582, 3063,      1.5,  -1.5989,  30.3014,2,  30.3233,2,    390.1,2,    392.2,2,     1.40,2,     0.10,2,     0.00,2,     0.82,2, -999.000,9, -999.000,9, -999.000,9,  -999.00,9,  -999.00,9,  -1.5989
  32PZ20020819,   CBL,    60,  1,     30,     30,2,20020906,1859, 79.2045,-157.8582, 3063,     17.9,  -1.6227,  30.5097,2,  30.5949,2,    394.6,2,    392.7,2,     1.70,2,     0.20,2,     0.01,2,     0.86,2,    7.523,2,    3.766,2,    0.693,2,    -2.05,2,    57.00,2,  -1.6229
  32PZ20020819,   CBL,    60,  1,     29,     29,2,20020906,1859, 79.2045,-157.8582, 3063,     34.7,  -1.5579,  31.3068,2,  31.4155,2,    394.3,2,    376.2,2,     8.60,2,     2.60,2,     0.12,2,     1.11,2,    7.396,6,    3.749,6,    0.671,6,    -1.90,2,    58.00,2,  -1.5584
  32PZ20020819,   CBL,    60,  1,     28,     28,2,20020906,1859, 79.2045,-157.8582, 3063,     57.4,  -1.6767,  31.6941,2,  31.7880,2,    367.6,2,    344.7,2,    14.20,2,     6.00,2,     0.03,2,     1.32,2,    7.312,2,    3.696,2,    0.638,2,    -1.70,2,    57.70,2,  -1.6776
  32PZ20020819,   CBL,    60,  1,     27,     27,2,20020906,1859, 79.2045,-157.8582, 3063,     72.2,  -1.6106,  32.1938,2,  32.2624,2,    320.8,2,    297.0,2,    23.10,2,    10.20,2,     0.03,2,     1.60,2, -999.000,9, -999.000,9, -999.000,9,    -1.39,2,    64.00,2,  -1.6118
  32PZ20020819,   CBL,    60,  1,     26,     26,2,20020906,1859, 79.2045,-157.8582, 3063,     87.2,  -1.5188,  32.7164,2,  32.7669,2,    278.4,2,    257.5,2,    33.40,2,    14.00,2,     0.03,2,     1.83,2, -999.000,9, -999.000,9, -999.000,9,  -999.00,9,  -999.00,9,  -1.5205
  32PZ20020819,   CBL,    60,  1,     25,     25,2,20020906,1859, 79.2045,-157.8582, 3063,     96.5,  -1.4797,  33.0484,2,  33.1217,2,    255.0,2,    245.4,2,    37.10,2,    15.40,2,     0.03,2,     1.87,2, -999.000,9, -999.000,9, -999.000,9,    -1.24,2,    63.30,2,  -1.4817
  32PZ20020819,   CBL,    60,  1,     24,     24,2,20020906,1859, 79.2045,-157.8582, 3063,    106.6,  -1.4283,  33.4736,2,  33.5222,2,    242.3,2,    244.9,2,    36.70,2,    15.50,2,     0.03,3,     1.79,2,    6.183,2,    3.072,2,    0.423,2,    -1.01,2,    60.20,2,  -1.4306
  32PZ20020819,   CBL,    60,  1,     23,     23,2,20020906,1859, 79.2045,-157.8582, 3063,    116.7,  -1.4069,  33.7568,2,  33.7835,2,    246.5,2,    261.9,2,    25.40,2,    13.00,2,     0.03,3,     1.38,2, -999.000,9, -999.000,9, -999.000,9,  -999.00,9,  -999.00,9,  -1.4095
  32PZ20020819,   CBL,    60,  1,     22,     22,2,20020906,1859, 79.2045,-157.8582, 3063,    131.5,  -1.4691,  34.0203,2,  34.0158,2,    273.3,2,    300.6,2,     9.20,2,     9.50,2,     0.02,2,     0.84,2, -999.000,9, -999.000,9, -999.000,9,  -999.00,9,  -999.00,9,  -1.4721
  32PZ20020819,   CBL,    60,  1,     21,     21,2,20020906,1859, 79.2045,-157.8582, 3063,    145.9,  -1.2933,  34.1811,2,  34.1885,2,    298.1,2,    306.5,2,     6.50,2,     9.30,2,     0.02,2,     0.77,2,    6.882,2,    3.222,2,    0.476,2,    -0.29,2,    43.70,2,  -1.2969
  32PZ20020819,   CBL,    60,  1,     20,     20,2,20020906,1859, 79.2045,-157.8582, 3063,    191.0,  -0.3878,  34.4387,2,  34.4520,2,    300.3,2,    298.4,2,     6.60,2,    10.60,2,     0.02,2,     0.82,2,    6.254,2,    2.942,2,    0.467,2,  -999.00,9,  -999.00,9,  -0.3941
  32PZ20020819,   CBL,    60,  1,     19,     19,2,20020906,1859, 79.2045,-157.8582, 3063,    230.7,   0.3782,  34.6325,2,  34.6354,2,    297.6,2,    298.1,2,     5.90,2,    11.40,2,     0.02,2,     0.84,2,    5.641,2,    2.663,2,    0.393,2,  -999.00,9,  -999.00,9,   0.3689
  32PZ20020819,   CBL,    60,  1,     18,     18,2,20020906,1859, 79.2045,-157.8582, 3063,    289.6,   0.9545,  34.8028,2,  34.8033,2,    299.1,2,    298.9,2,     5.90,2,    12.40,2,     0.02,2,     0.88,2,    5.219,2,    2.467,2,    0.338,2,  -999.00,9,  -999.00,9,   0.9412
  32PZ20020819,   CBL,    60,  1,     17,     17,2,20020906,1859, 79.2045,-157.8582, 3063,    349.1,   1.1143,  34.8489,2,  34.8495,2,    299.9,2,    299.2,2,     6.00,2,    12.60,2,     0.02,2,     0.89,2,    5.228,2,    2.449,2,    0.347,2,     0.28,2,    42.10,2,   1.0975
  32PZ20020819,   CBL,    60,  1,     16,     16,2,20020906,1859, 79.2045,-157.8582, 3063,    442.8,   0.9416,  34.8630,2,  34.8619,2,    300.7,2,    300.6,2,     6.10,2,    12.80,2,     0.02,2,     0.90,2,    5.088,2,    2.378,2,    0.326,2,  -999.00,9,  -999.00,9,   0.9206
  32PZ20020819,   CBL,    60,  1,     15,     15,2,20020906,1859, 79.2045,-157.8582, 3063,    507.5,   0.7060,  34.8595,2,  34.8584,2,    300.2,2,    299.9,2,     6.30,2,    12.80,2,     0.02,2,     0.90,2,    4.357,2,    2.038,2,    0.269,2,  -999.00,9,  -999.00,9,   0.6826
  32PZ20020819,   CBL,    60,  1,     14,     14,2,20020906,1859, 79.2045,-157.8582, 3063,    567.0,   0.5621,  34.8627,2,  34.8629,2,    300.2,2,    300.6,2,     6.40,2,    12.80,2,     0.02,2,     0.91,2,    4.376,2,    2.042,2,    0.253,2,  -999.00,9,  -999.00,9,   0.5364
  32PZ20020819,   CBL,    60,  1,     13,     13,2,20020906,1859, 79.2045,-157.8582, 3063,    665.4,   0.3733,  34.8660,2,  34.8643,2,    299.2,2,    300.2,2,     6.50,2,    13.00,2,     0.02,2,     0.92,2,    3.520,2,    1.634,2,    0.185,2,  -999.00,9,  -999.00,9,   0.3436
  32PZ20020819,   CBL,    60,  1,     12,     12,2,20020906,1859, 79.2045,-157.8582, 3063,    744.9,   0.1888,  34.8654,2,  34.8649,2,    303.0,2,    303.2,2,     6.50,2,    12.90,2,     0.02,2,     0.91,2,    4.635,2,    2.143,2,    0.268,2,     0.23,2,    42.00,2,   0.1561
  32PZ20020819,   CBL,    60,  1,     11,     11,3,20020906,1859, 79.2045,-157.8582, 3063,    834.2,   0.0441,  34.8692,2,  34.8665,2,    303.9,2,    303.5,2,     6.60,2,    12.80,2,     0.02,2,     0.92,2,    4.429,2,    2.049,2,    0.255,2,  -999.00,9,  -999.00,9,   0.0078
  32PZ20020819,   CBL,    60,  1,     10,     10,2,20020906,1859, 79.2045,-157.8582, 3063,    933.1,  -0.0552,  34.8768,2,  34.8767,2,    303.3,2,    303.6,2,     6.80,2,    12.90,2,     0.02,2,     0.93,2,    3.939,2,    1.829,2,    0.227,2,  -999.00,9,  -999.00,9,  -0.0958
  32PZ20020819,   CBL,    60,  1,      9,      9,2,20020906,1859, 79.2045,-157.8582, 3063,   1121.4,  -0.2154,  34.8915,2,  34.8923,2,    302.6,2,    302.1,2,     7.50,2,    13.30,2,     0.02,2,     0.95,2,    2.859,2,    1.333,2,    0.137,2,  -999.00,9,  -999.00,9,  -0.2647
  32PZ20020819,   CBL,    60,  1,      8,      8,2,20020906,1859, 79.2045,-157.8582, 3063,   1249.4,  -0.2808,  34.9007,2,  34.8999,2,    300.7,2,    301.7,2,     7.80,2,    13.50,2,     0.02,2,     0.96,2,    2.335,2,    1.109,2,    0.114,2,  -999.00,9,  -999.00,9,  -0.3365
  32PZ20020819,   CBL,    60,  1,      7,      7,2,20020906,1859, 79.2045,-157.8582, 3063,   1388.9,  -0.3241,  34.9128,2,  34.9137,2,    299.6,2,    299.1,2,     8.50,2,    13.80,2,     0.02,2,     0.99,2,    1.119,2,    0.545,2,    0.074,4,  -999.00,9,  -999.00,9,  -0.3872
  32PZ20020819,   CBL,    60,  1,      6,      6,2,20020906,1859, 79.2045,-157.8582, 3063,   1636.9,  -0.3942,  34.9323,2,  34.9326,2,    296.1,2,    296.1,2,    10.10,2,    14.40,2,     0.02,2,     1.03,2,    0.335,2,    0.184,2,    0.001,2,  -999.00,9,  -999.00,9,  -0.4713
  32PZ20020819,   CBL,    60,  1,      5,      5,2,20020906,1859, 79.2045,-157.8582, 3063,   1885.6,  -0.4114,  34.9457,2,  34.9452,2,    291.6,2,    291.1,2,    11.30,2,    14.80,2,     0.01,2,     1.06,2,    0.046,2,    0.026,2,    0.000,2,  -999.00,9,  -999.00,9,  -0.5041
  32PZ20020819,   CBL,    60,  1,      4,      4,2,20020906,1859, 79.2045,-157.8582, 3063,   2134.1,  -0.4093,  34.9526,2,  34.9525,2,    288.5,2,    288.0,2,    12.50,2,    15.00,2,     0.01,2,     1.07,2,    0.023,2,    0.010,2,    0.000,2,  -999.00,9,  -999.00,9,  -0.5188
  32PZ20020819,   CBL,    60,  1,      3,      3,2,20020906,1859, 79.2045,-157.8582, 3063,   2482.8,  -0.3773,  34.9582,2,  34.9571,2,    285.0,2,    285.4,2,    13.50,2,    15.10,2,     0.02,2,     1.08,2,    0.010,2,    0.004,2,    0.000,2,  -999.00,9,  -999.00,9,  -0.5126
  32PZ20020819,   CBL,    60,  1,      2,      2,2,20020906,1859, 79.2045,-157.8582, 3063,   2832.8,  -0.3476,  34.9585,2,  34.9577,2,    284.6,2,    284.6,2,    13.40,2,    15.10,2,     0.02,2,     1.08,2,    0.025,2,    0.022,2,    0.016,4,  -999.00,9,  -999.00,9,  -0.5109
  32PZ20020819,   CBL,    60,  1,      1,      1,2,20020906,1859, 79.2045,-157.8582, 3063,   3082.6,  -0.3263,  34.9584,2,  34.9583,2,    284.9,2,    284.5,2,    13.40,2,    15.10,2,     0.02,2,     1.08,2,    0.050,2,    0.022,2,    0.015,4,  -999.00,9,  -999.00,9,  -0.5108