BOTTLE,20220815CCHSIOAMB
EXPOCODE,SECT_ID,STNNBR,CASTNO,SAMPNO,BTLNBR,BTLNBR_FLAG_W,DATE,TIME,LATITUDE,LONGITUDE,DEPTH,CTDPRS,CTDTMP,CTDSAL,CTDSAL_FLAG_W,SALNTY,SALNTY_FLAG_W,CTDOXY,CTDOXY_FLAG_W,OXYGEN,OXYGEN_FLAG_W,SILCAT,SILCAT_FLAG_W,NITRAT,NITRAT_FLAG_W,NITRIT,NITRIT_FLAG_W,PHSPHT,PHSPHT_FLAG_W,CFC-11,CFC-11_FLAG_W,CFC-12,CFC-12_FLAG_W,CFC113,CFC113_FLAG_W,DELO18,DELO18_FLAG_W,BARIUM,BARIUM_FLAG_W,THETA
,,,,,,,,,,,METERS,DBAR,ITS-90,PSS-78,,PSS-78,,UMOL/KG,,UMOL/KG,,UMOL/KG,,UMOL/KG,,UMOL/KG,,UMOL/KG,,PMOL/KG,,PMOL/KG,,PMOL/KG,,/MILLE,,NMOL/KG,,DEG C
  32PZ20020819,   CBL,    69,  1,     27,     27,2,20020908,2212, 78.3365,-155.2108, 1713,      9.9,  -1.5792,  29.8284,2,  29.7690,2,    383.9,2,    386.1,2,  -999.00,9,  -999.00,9,  -999.00,9,  -999.00,9,    7.455,2,    3.800,2,    0.740,2,  -999.00,9,  -999.00,9,  -1.5793
  32PZ20020819,   CBL,    69,  1,     26,     26,2,20020908,2212, 78.3365,-155.2108, 1713,     24.9,  -1.5687,  30.7193,2,  30.8492,2,    391.8,2,    386.7,2,  -999.00,9,  -999.00,9,  -999.00,9,  -999.00,9, -999.000,9, -999.000,9, -999.000,9,  -999.00,9,  -999.00,9,  -1.5691
  32PZ20020819,   CBL,    69,  1,     25,     25,2,20020908,2212, 78.3365,-155.2108, 1713,     39.9,  -1.6471,  31.6495,2,  31.7015,2,    372.1,2,    344.4,2,  -999.00,9,  -999.00,9,  -999.00,9,  -999.00,9, -999.000,9, -999.000,9, -999.000,9,  -999.00,9,  -999.00,9,  -1.6477
  32PZ20020819,   CBL,    69,  1,     24,     24,2,20020908,2212, 78.3365,-155.2108, 1713,     59.8,  -1.5919,  32.1994,2,  32.2253,2,    321.6,2,    299.6,2,  -999.00,9,  -999.00,9,  -999.00,9,  -999.00,9, -999.000,9, -999.000,9, -999.000,9,  -999.00,9,  -999.00,9,  -1.5929
  32PZ20020819,   CBL,    69,  1,     23,     23,2,20020908,2212, 78.3365,-155.2108, 1713,     79.9,  -1.4857,  32.6472,2,  32.6560,2,    275.9,2,    262.5,2,  -999.00,9,  -999.00,9,  -999.00,9,  -999.00,9, -999.000,9, -999.000,9, -999.000,9,  -999.00,9,  -999.00,9,  -1.4872
  32PZ20020819,   CBL,    69,  1,     22,     22,2,20020908,2212, 78.3365,-155.2108, 1713,     94.9,  -1.4573,  32.9007,2,  32.9535,2,    256.9,2,    244.7,2,    39.90,2,    17.10,2,     0.03,2,     2.05,2, -999.000,9, -999.000,9, -999.000,9,  -999.00,9,  -999.00,9,  -1.4592
  32PZ20020819,   CBL,    69,  1,     21,     21,2,20020908,2212, 78.3365,-155.2108, 1713,    104.9,  -1.4593,  33.1026,2,  33.1357,2,    247.1,2,    240.7,2,    43.10,2,    17.80,2,     0.01,2,     2.10,2,    6.263,6,    3.209,6,    0.474,6,  -999.00,9,  -999.00,9,  -1.4615
  32PZ20020819,   CBL,    69,  1,     20,     20,2,20020908,2212, 78.3365,-155.2108, 1713,    120.0,  -1.4264,  33.4818,2,  33.5951,2,    239.9,2,    246.0,2,    36.10,2,    15.30,2,     0.01,2,     1.75,2, -999.000,9, -999.000,9, -999.000,9,  -999.00,9,  -999.00,9,  -1.4290
  32PZ20020819,   CBL,    69,  1,     19,     19,2,20020908,2212, 78.3365,-155.2108, 1713,    130.0,  -1.3940,  33.8024,2,  33.8448,2,    251.7,2,    264.9,2,    24.00,2,    12.80,2,     0.01,2,     1.33,2, -999.000,9, -999.000,9, -999.000,9,  -999.00,9,  -999.00,9,  -1.3970
  32PZ20020819,   CBL,    69,  1,     18,     18,2,20020908,2212, 78.3365,-155.2108, 1713,    144.9,  -1.3300,  34.0390,2,  34.1142,2,    270.1,2,    282.5,2,    13.70,2,    11.10,2,     0.02,2,     1.00,2, -999.000,9, -999.000,9, -999.000,9,  -999.00,9,  -999.00,9,  -1.3335
  32PZ20020819,   CBL,    69,  1,     17,     17,2,20020908,2212, 78.3365,-155.2108, 1713,    172.7,  -0.9530,  34.2985,2,  34.3103,2,    292.2,2,    292.1,2,  -999.00,9,  -999.00,9,  -999.00,9,  -999.00,9,    6.512,2,    3.002,2,    0.425,2,  -999.00,9,  -999.00,9,  -0.9578
  32PZ20020819,   CBL,    69,  1,     16,     16,2,20020908,2212, 78.3365,-155.2108, 1713,    199.7,  -0.2843,  34.4707,2,  34.4830,2,    292.9,2,    291.0,2,  -999.00,9,  -999.00,9,  -999.00,9,  -999.00,9,    6.267,2,    2.886,2,    0.397,2,  -999.00,9,  -999.00,9,  -0.2911
  32PZ20020819,   CBL,    69,  1,     15,     15,2,20020908,2212, 78.3365,-155.2108, 1713,    239.9,   0.4211,  34.6539,2,  34.6627,2,    295.7,2,    294.5,2,  -999.00,9,  -999.00,9,  -999.00,9,  -999.00,9,    5.966,2,    2.774,2,    0.396,2,  -999.00,9,  -999.00,9,   0.4113
  32PZ20020819,   CBL,    69,  1,     14,     14,2,20020908,2212, 78.3365,-155.2108, 1713,    280.0,   0.8274,  34.7650,2,  34.7689,2,    296.5,2,    296.1,2,  -999.00,9,  -999.00,9,  -999.00,9,  -999.00,9,    5.663,2,    2.659,2,    0.410,2,  -999.00,9,  -999.00,9,   0.8148
  32PZ20020819,   CBL,    69,  1,     13,     13,2,20020908,2212, 78.3365,-155.2108, 1713,    329.8,   1.0604,  34.8257,2,  34.8275,2,    297.2,2,    297.5,2,  -999.00,9,  -999.00,9,  -999.00,9,  -999.00,9,    5.524,2,    2.596,2,    0.359,2,  -999.00,9,  -999.00,9,   1.0448
  32PZ20020819,   CBL,    69,  1,     12,     12,2,20020908,2212, 78.3365,-155.2108, 1713,    380.0,   1.1536,  34.8479,2,  34.8503,2,    299.0,2,    299.1,2,  -999.00,9,  -999.00,9,  -999.00,9,  -999.00,9,    5.473,2,    2.531,2,    0.353,2,  -999.00,9,  -999.00,9,   1.1351
  32PZ20020819,   CBL,    69,  1,     11,     11,2,20020908,2212, 78.3365,-155.2108, 1713,    429.9,   1.0170,  34.8487,2,  34.8497,2,    299.1,2,    299.0,2,  -999.00,9,  -999.00,9,  -999.00,9,  -999.00,9,    5.187,2,    2.381,2,    0.318,2,  -999.00,9,  -999.00,9,   0.9964
  32PZ20020819,   CBL,    69,  1,     10,     10,2,20020908,2212, 78.3365,-155.2108, 1713,    500.0,   0.8126,  34.8569,2,  34.8568,2,    300.1,2,    300.0,2,  -999.00,9,  -999.00,9,  -999.00,9,  -999.00,9,    5.002,2,    2.275,2,    0.295,2,  -999.00,9,  -999.00,9,   0.7892
  32PZ20020819,   CBL,    69,  1,      9,      9,2,20020908,2212, 78.3365,-155.2108, 1713,    600.0,   0.5483,  34.8587,2,  34.8596,2,    301.0,2,    301.2,2,     6.70,2,    12.70,2,     0.01,2,     0.90,2,    4.661,6,    2.152,6,    0.272,6,  -999.00,9,  -999.00,9,   0.5210
  32PZ20020819,   CBL,    69,  1,      8,      8,2,20020908,2212, 78.3365,-155.2108, 1713,    699.8,   0.3537,  34.8617,2,  34.8616,2,    301.1,2,    301.1,2,     6.70,2,    12.80,2,     0.01,2,     0.90,2,    4.217,2,    1.918,2,    0.222,2,  -999.00,9,  -999.00,9,   0.3223
  32PZ20020819,   CBL,    69,  1,      7,      7,2,20020908,2212, 78.3365,-155.2108, 1713,    799.8,   0.1665,  34.8659,2,  34.8663,2,    302.4,2,    302.2,2,     6.80,2,    12.80,2,     0.01,2,     0.91,2,    4.129,2,    1.871,2,    0.220,2,  -999.00,9,  -999.00,9,   0.1312
  32PZ20020819,   CBL,    69,  1,      6,      6,2,20020908,2212, 78.3365,-155.2108, 1713,    899.9,   0.0416,  34.8714,2,  34.8728,2,    302.5,2,    302.4,2,  -999.00,9,  -999.00,9,  -999.00,9,  -999.00,9,    3.775,2,    1.735,2,    0.209,2,  -999.00,9,  -999.00,9,   0.0020
  32PZ20020819,   CBL,    69,  1,      5,      5,2,20020908,2212, 78.3365,-155.2108, 1713,    999.8,  -0.0481,  34.8776,2,  34.8781,2,    302.2,2,    302.3,2,  -999.00,9,  -999.00,9,  -999.00,9,  -999.00,9,    3.446,2,    1.598,2,    0.182,2,  -999.00,9,  -999.00,9,  -0.0923
  32PZ20020819,   CBL,    69,  1,      4,      4,2,20020908,2212, 78.3365,-155.2108, 1713,   1199.8,  -0.1656,  34.8930,2,  34.8953,2,    300.1,2,    299.9,2,  -999.00,9,  -999.00,9,  -999.00,9,  -999.00,9,    2.297,2,    1.050,2,    0.087,2,  -999.00,9,  -999.00,9,  -0.2196
  32PZ20020819,   CBL,    69,  1,      3,      3,2,20020908,2212, 78.3365,-155.2108, 1713,   1399.9,  -0.2974,  34.9090,2,  34.9108,2,    298.1,2,    298.1,2,  -999.00,9,  -999.00,9,  -999.00,9,  -999.00,9,    1.520,2,    0.719,2,    0.047,2,  -999.00,9,  -999.00,9,  -0.3615
  32PZ20020819,   CBL,    69,  1,      2,      2,2,20020908,2212, 78.3365,-155.2108, 1713,   1600.1,  -0.3702,  34.9244,2,  34.9268,2,    294.2,2,    295.1,2,  -999.00,9,  -999.00,9,  -999.00,9,  -999.00,9,    0.854,2,    0.403,2,    0.032,2,  -999.00,9,  -999.00,9,  -0.4453
  32PZ20020819,   CBL,    69,  1,      1,      1,2,20020908,2212, 78.3365,-155.2108, 1713,   1721.7,  -0.4076,  34.9330,2,  34.9335,2,    292.8,2,    292.9,2,  -999.00,9,  -999.00,9,  -999.00,9,  -999.00,9,    0.659,2,    0.310,2,    0.015,2,  -999.00,9,  -999.00,9,  -0.4898
  32PZ20020819,   CBL,    70,  1,     24,     24,2,20020909,0202, 78.3277,-154.7787, 1098,     13.9,  -1.6188,  30.5847,2,  30.5972,2,    384.7,2,    390.3,2,     3.10,2,     0.30,2,     0.00,2,     0.86,2,    7.378,2,    3.738,2,    0.682,2,    -2.03,2,    59.50,2,  -1.6190
  32PZ20020819,   CBL,    70,  1,     23,     23,2,20020909,0202, 78.3277,-154.7787, 1098,     24.9,  -1.6189,  30.6188,2,  30.6553,2,    391.8,2,    390.0,2,     3.30,2,     0.40,2,     0.01,2,     0.88,2, -999.000,9, -999.000,9, -999.000,9,  -999.00,9,  -999.00,9,  -1.6192
  32PZ20020819,   CBL,    70,  1,     22,     22,2,20020909,0202, 78.3277,-154.7787, 1098,     45.0,  -1.6453,  31.6783,2,  31.7644,2,    366.6,2,    340.4,2,    15.70,2,     6.40,2,     0.01,2,     1.31,2,    7.126,2,    3.626,2,    0.622,2,    -1.80,2,    58.80,2,  -1.6460
  32PZ20020819,   CBL,    70,  1,     21,     21,2,20020909,0202, 78.3277,-154.7787, 1098,     60.0,  -1.6142,  32.1169,2,  32.1478,2,    329.4,2,    305.2,2,    21.70,2,     9.60,2,     0.02,2,     1.53,2, -999.000,9, -999.000,9, -999.000,9,    -1.63,2,    60.00,2,  -1.6152
  32PZ20020819,   CBL,    70,  1,     20,     20,2,20020909,0202, 78.3277,-154.7787, 1098,     80.1,  -1.4954,  32.5782,2,  32.5996,2,    281.6,2,    268.2,2,    32.60,2,    14.50,2,     0.02,2,     1.86,2, -999.000,9, -999.000,9, -999.000,9,  -999.00,9,  -999.00,9,  -1.4969
  32PZ20020819,   CBL,    70,  1,     19,     19,2,20020909,0202, 78.3277,-154.7787, 1098,     95.0,  -1.4590,  32.8654,2,  32.9011,2,    258.7,2,    246.4,2,    39.50,2,    16.80,2,     0.01,2,     2.04,2,    6.237,2,    3.256,2,    0.470,2,    -1.28,2,    69.30,2,  -1.4609
  32PZ20020819,   CBL,    70,  1,     18,     18,2,20020909,0202, 78.3277,-154.7787, 1098,    104.7,  -1.4580,  33.0814,2,  33.1426,2,    247.5,2,    241.3,2,    43.70,2,    17.90,2,     0.01,2,     2.14,2,    6.158,2,    3.150,2,    0.449,2,    -1.23,2,    66.40,2,  -1.4602
  32PZ20020819,   CBL,    70,  1,     17,     17,2,20020909,0202, 78.3277,-154.7787, 1098,    121.7,  -1.4183,  33.4749,2,  33.5396,2,    238.9,2,    241.1,2,    39.00,2,    16.00,2,     0.01,2,     1.85,2,    6.252,2,    3.177,2,    0.437,2,    -0.96,2,    62.00,2,  -1.4210
  32PZ20020819,   CBL,    70,  1,     16,     16,2,20020909,0202, 78.3277,-154.7787, 1098,    138.0,  -1.1843,  33.8939,2,  33.9517,2,    248.4,2,    252.1,2,    29.10,2,    14.40,2,     0.01,2,     1.49,2,    5.607,2,    2.718,2,    0.354,2,    -0.56,2,    55.00,2,  -1.1877
  32PZ20020819,   CBL,    70,  1,     15,     15,2,20020909,0202, 78.3277,-154.7787, 1098,    150.7,  -0.9780,  34.1709,2,  34.1934,2,    277.7,2,    257.8,2,    21.90,2,    13.50,2,     0.01,2,     1.25,2,    5.397,2,    2.509,2,    0.320,2,    -0.31,2,    50.00,2,  -0.9821
  32PZ20020819,   CBL,    70,  1,     14,     14,2,20020909,0202, 78.3277,-154.7787, 1098,    162.9,  -0.8261,  34.2916,2,  34.2799,2,    268.2,2,    265.1,2,    17.40,2,    12.70,2,     0.01,2,     1.10,2,    5.409,2,    2.538,2,    0.327,2,  -999.00,9,  -999.00,9,  -0.8308
  32PZ20020819,   CBL,    70,  1,     13,     13,2,20020909,0202, 78.3277,-154.7787, 1098,    195.7,  -0.2344,  34.4744,2,  34.4818,2,    284.5,2,    286.1,2,     9.30,2,    11.60,2,     0.01,2,     0.87,2,    5.705,2,    2.618,2,    0.345,2,  -999.00,9,  -999.00,9,  -0.2412
  32PZ20020819,   CBL,    70,  1,     12,     12,2,20020909,0202, 78.3277,-154.7787, 1098,    235.2,   0.4768,  34.6610,2,  34.6684,2,    292.9,2,    292.4,2,     7.30,2,    12.00,2,     0.01,2,     0.85,2,    5.546,2,    2.604,2,    0.364,2,  -999.00,9,  -999.00,9,   0.4671
  32PZ20020819,   CBL,    70,  1,     11,     11,2,20020909,0202, 78.3277,-154.7787, 1098,    280.4,   0.8804,  34.7783,2,  34.7831,2,    296.4,2,    294.4,2,     6.70,2,    12.40,2,     0.01,2,     0.86,2,    5.346,2,    2.528,2,    0.352,2,  -999.00,9,  -999.00,9,   0.8677
  32PZ20020819,   CBL,    70,  1,     10,     10,2,20020909,0202, 78.3277,-154.7787, 1098,    335.7,   1.0874,  34.8313,2,  34.8312,2,    297.0,2,    297.6,2,     6.40,2,    12.50,2,     0.00,2,     0.86,2,    5.452,2,    2.575,2,    0.353,2,  -999.00,9,  -999.00,9,   1.0714
  32PZ20020819,   CBL,    70,  1,      9,      9,2,20020909,0202, 78.3277,-154.7787, 1098,    375.8,   1.0958,  34.8461,2,  34.8452,2,    298.6,2,    298.4,2,     6.40,2,    12.60,2,     0.00,2,     0.86,2,    5.121,2,    2.434,2,    0.332,2,     0.15,2,    42.40,2,   1.0777
  32PZ20020819,   CBL,    70,  1,      8,      8,2,20020909,0202, 78.3277,-154.7787, 1098,    431.0,   0.9926,  34.8549,2,  34.8543,2,    299.0,2,    299.8,2,     6.50,2,    12.60,2,     0.00,2,     0.87,2,    5.115,2,    2.450,2,    0.330,2,  -999.00,9,  -999.00,9,   0.9720
  32PZ20020819,   CBL,    70,  1,      7,      7,2,20020909,0202, 78.3277,-154.7787, 1098,    501.1,   0.7749,  34.8579,2,  34.8574,2,    300.9,2,    300.3,2,     6.50,2,    12.70,2,     0.00,2,     0.87,2,    4.871,6,    2.258,6,    0.304,6,  -999.00,9,  -999.00,9,   0.7516
  32PZ20020819,   CBL,    70,  1,      6,      6,2,20020909,0202, 78.3277,-154.7787, 1098,    600.9,   0.5296,  34.8590,2,  34.8604,2,    302.0,2,    301.9,2,     6.60,2,    12.60,2,     0.00,2,     0.87,2,    4.540,2,    2.106,2,    0.274,2,     0.25,2,    42.50,2,   0.5023
  32PZ20020819,   CBL,    70,  1,      5,      5,2,20020909,0202, 78.3277,-154.7787, 1098,    700.8,   0.3325,  34.8620,2,  34.8616,2,    301.6,2,    301.2,2,     6.80,2,    12.70,2,     0.00,2,     0.88,2,    4.025,2,    1.911,2,    0.241,2,  -999.00,9,  -999.00,9,   0.3012
  32PZ20020819,   CBL,    70,  1,      4,      4,2,20020909,0202, 78.3277,-154.7787, 1098,    800.6,   0.1843,  34.8655,2,  34.8650,2,    302.7,2,    302.0,2,     6.80,2,    12.80,2,     0.00,2,     0.88,2,    3.995,2,    1.843,2,    0.227,2,  -999.00,9,  -999.00,9,   0.1488
  32PZ20020819,   CBL,    70,  1,      3,      3,2,20020909,0202, 78.3277,-154.7787, 1098,    900.4,   0.0558,  34.8704,2,  34.8699,2,    302.5,2,    302.8,2,     7.10,2,    12.80,2,     0.00,2,     0.89,2,    3.737,6,    1.728,6,    0.212,6,  -999.00,9,  -999.00,9,   0.0160
  32PZ20020819,   CBL,    70,  1,      2,      2,2,20020909,0202, 78.3277,-154.7787, 1098,   1000.1,  -0.0399,  34.8777,2,  34.8782,2,    302.1,2,    302.0,2,     7.20,2,    12.90,2,     0.00,2,     0.90,2,    3.328,2,    1.570,2,    0.189,2,  -999.00,9,  -999.00,9,  -0.0842
  32PZ20020819,   CBL,    70,  1,      1,      1,2,20020909,0202, 78.3277,-154.7787, 1098,   1087.1,  -0.1455,  34.8903,2,  34.8904,2,    300.5,2,    300.6,2,     8.00,2,    13.20,2,     0.00,2,     0.92,2,    2.526,2,    1.193,2,    0.129,2,  -999.00,9,  -999.00,9,  -0.1936