BOTTLE,20220815CCHSIOAMB
EXPOCODE,SECT_ID,STNNBR,CASTNO,SAMPNO,BTLNBR,BTLNBR_FLAG_W,DATE,TIME,LATITUDE,LONGITUDE,DEPTH,CTDPRS,CTDTMP,CTDSAL,CTDSAL_FLAG_W,SALNTY,SALNTY_FLAG_W,CTDOXY,CTDOXY_FLAG_W,OXYGEN,OXYGEN_FLAG_W,SILCAT,SILCAT_FLAG_W,NITRAT,NITRAT_FLAG_W,NITRIT,NITRIT_FLAG_W,PHSPHT,PHSPHT_FLAG_W,CFC-11,CFC-11_FLAG_W,CFC-12,CFC-12_FLAG_W,CFC113,CFC113_FLAG_W,DELO18,DELO18_FLAG_W,BARIUM,BARIUM_FLAG_W,THETA
,,,,,,,,,,,METERS,DBAR,ITS-90,PSS-78,,PSS-78,,UMOL/KG,,UMOL/KG,,UMOL/KG,,UMOL/KG,,UMOL/KG,,UMOL/KG,,PMOL/KG,,PMOL/KG,,PMOL/KG,,/MILLE,,NMOL/KG,,DEG C
  32PZ20020819,   CBL,   119,  1,     31,     31,2,20020920,0534, 75.3332,-164.2605,  860,      2.0,  -1.0575,  27.5162,2,-999.0000,9,    373.2,2,   -999.0,9,  -999.00,9,  -999.00,9,  -999.00,9,  -999.00,9, -999.000,9, -999.000,9, -999.000,9,  -999.00,9,  -999.00,9,  -1.0575
  32PZ20020819,   CBL,   119,  1,     30,     30,2,20020920,0534, 75.3332,-164.2605,  860,     11.8,  -1.0596,  27.5193,2,  27.5370,2,    377.3,2,    377.2,2,     3.80,2,     0.10,2,     0.00,2,     0.68,2, -999.000,9, -999.000,9, -999.000,9,    -3.25,2,    66.10,2,  -1.0597
  32PZ20020819,   CBL,   119,  1,     29,     29,2,20020920,0534, 75.3332,-164.2605,  860,     28.5,  -0.1757,  31.3130,2,  31.3292,2,    397.4,2,    397.8,2,     4.60,2,     0.00,2,     0.01,2,     0.85,2,    6.653,2,    3.344,2,    0.557,2,    -2.44,2,    64.50,2,  -0.1765
  32PZ20020819,   CBL,   119,  1,     28,     28,2,20020920,0534, 75.3332,-164.2605,  860,     35.5,  -0.3026,  31.7489,2,  31.7199,2,    396.9,2,    391.5,2,     5.00,2,     0.60,2,     0.07,2,     0.88,2, -999.000,9, -999.000,9, -999.000,9,  -999.00,9,  -999.00,9,  -0.3036
  32PZ20020819,   CBL,   119,  1,     27,     27,2,20020920,0534, 75.3332,-164.2605,  860,     56.2,  -1.0381,  32.1966,2,  32.1891,2,    333.5,2,    316.4,2,    20.00,2,     9.10,2,     0.03,2,     1.48,2,    6.291,2,    3.173,2,    0.488,2,    -1.91,2,    70.20,2,  -1.0393
  32PZ20020819,   CBL,   119,  1,     26,     26,2,20020920,0534, 75.3332,-164.2605,  860,     77.8,  -1.2367,  32.4793,2,  32.4727,2,    300.9,2,    297.2,2,    26.70,2,    11.90,2,     0.01,2,     1.68,2,    5.990,2,    3.046,2,    0.461,2,    -1.62,2,    67.80,2,  -1.2383
  32PZ20020819,   CBL,   119,  1,     25,     25,2,20020920,0534, 75.3332,-164.2605,  860,     98.2,  -1.1564,  32.6415,2,  32.6326,2,    291.9,2,    289.4,2,    28.60,2,    12.60,2,     0.01,2,     1.72,2,    6.002,2,    3.035,2,    0.464,2,    -1.53,2,    67.40,2,  -1.1586
  32PZ20020819,   CBL,   119,  1,     24,     24,9,20020920,0534, 75.3332,-164.2605,  860,    119.5,  -1.3516,  32.7847,2,-999.0000,9,    287.4,2,   -999.0,9,  -999.00,9,  -999.00,9,  -999.00,9,  -999.00,9, -999.000,9, -999.000,9, -999.000,9,  -999.00,9,  -999.00,9,  -1.3541
  32PZ20020819,   CBL,   119,  1,     23,     23,2,20020920,0534, 75.3332,-164.2605,  860,    139.8,  -1.5207,  32.9381,2,-999.0000,9,    288.2,2,    288.5,2,    33.50,2,    14.60,2,     0.01,2,     1.83,2,    5.498,2,    2.756,2,    0.395,2,  -999.00,9,  -999.00,9,  -1.5235
  32PZ20020819,   CBL,   119,  1,     22,     22,2,20020920,0534, 75.3332,-164.2605,  860,    158.9,  -1.5390,  33.1224,2,  33.1159,2,    285.8,2,    285.4,2,    33.90,2,    14.90,2,     0.01,2,     1.83,2,    5.467,2,    2.779,2,    0.398,2,    -1.62,2,    67.30,2,  -1.5422
  32PZ20020819,   CBL,   119,  1,     21,     21,2,20020920,0534, 75.3332,-164.2605,  860,    203.5,  -1.1019,  33.9292,2,-999.0000,9,    275.0,2,    271.6,2,    28.70,2,    14.70,2,     0.01,2,     1.57,2,    5.018,6,    2.463,6,    0.332,6,  -999.00,9,  -999.00,9,  -1.1072
  32PZ20020819,   CBL,   119,  1,     17,     17,2,20020920,0534, 75.3332,-164.2605,  860,    244.2,  -0.2888,  34.4747,2,  34.4786,2,    258.4,2,    266.1,2,    16.00,2,    13.10,2,     0.01,2,     1.08,2,    4.977,2,    2.297,2,    0.284,2,    -0.04,2,    43.80,2,  -0.2973
  32PZ20020819,   CBL,   119,  1,     18,     18,2,20020920,0534, 75.3332,-164.2605,  860,    244.6,  -0.2688,  34.4815,2,  34.4726,2,    258.3,2,   -999.0,9,  -999.00,9,  -999.00,9,  -999.00,9,  -999.00,9, -999.000,9, -999.000,9, -999.000,9,  -999.00,9,  -999.00,9,  -0.2773
  32PZ20020819,   CBL,   119,  1,     19,     19,2,20020920,0534, 75.3332,-164.2605,  860,    244.6,  -0.2611,  34.4839,2,  34.4712,2,    258.3,2,   -999.0,9,  -999.00,9,  -999.00,9,  -999.00,9,  -999.00,9, -999.000,9, -999.000,9, -999.000,9,  -999.00,9,  -999.00,9,  -0.2696
  32PZ20020819,   CBL,   119,  1,     20,     20,2,20020920,0534, 75.3332,-164.2605,  860,    244.8,  -0.2558,  34.4857,2,  34.4744,2,    258.3,2,   -999.0,9,  -999.00,9,  -999.00,9,  -999.00,9,  -999.00,9, -999.000,9, -999.000,9, -999.000,9,  -999.00,9,  -999.00,9,  -0.2643
  32PZ20020819,   CBL,   119,  1,     16,     16,2,20020920,0534, 75.3332,-164.2605,  860,    314.9,   0.6708,  34.7442,2,-999.0000,9,    280.4,2,    284.3,2,     9.30,2,    12.90,2,     0.01,2,     0.92,2,    5.144,6,    2.398,6,    0.319,6,  -999.00,9,  -999.00,9,   0.6570
  32PZ20020819,   CBL,   119,  1,     15,     15,2,20020920,0534, 75.3332,-164.2605,  860,    358.7,   0.8526,  34.7969,2,-999.0000,9,    289.7,2,    290.3,2,     7.90,2,    12.90,2,     0.01,2,     0.90,2,    4.878,2,    2.311,2,    0.301,2,  -999.00,9,  -999.00,9,   0.8362
  32PZ20020819,   CBL,   119,  1,     11,     11,2,20020920,0534, 75.3332,-164.2605,  860,    407.0,   0.8988,  34.8266,2,  34.8252,2,    293.9,2,    294.0,2,     7.50,2,    12.80,2,     0.01,2,     0.89,2,    4.986,2,    2.301,2,    0.293,2,     0.38,2,    42.20,2,   0.8798
  32PZ20020819,   CBL,   119,  1,     12,     12,2,20020920,0534, 75.3332,-164.2605,  860,    408.1,   0.9006,  34.8263,2,  34.8244,2,    293.9,2,   -999.0,9,  -999.00,9,  -999.00,9,  -999.00,9,  -999.00,9, -999.000,9, -999.000,9, -999.000,9,  -999.00,9,  -999.00,9,   0.8815
  32PZ20020819,   CBL,   119,  1,     13,     13,2,20020920,0534, 75.3332,-164.2605,  860,    408.4,   0.9015,  34.8259,2,  34.8258,2,    293.9,2,   -999.0,9,  -999.00,9,  -999.00,9,  -999.00,9,  -999.00,9, -999.000,9, -999.000,9, -999.000,9,  -999.00,9,  -999.00,9,   0.8824
  32PZ20020819,   CBL,   119,  1,     14,     14,2,20020920,0534, 75.3332,-164.2605,  860,    408.8,   0.8995,  34.8266,2,  34.8254,2,    293.9,2,   -999.0,9,  -999.00,9,  -999.00,9,  -999.00,9,  -999.00,9, -999.000,9, -999.000,9, -999.000,9,  -999.00,9,  -999.00,9,   0.8804
  32PZ20020819,   CBL,   119,  1,     10,     10,2,20020920,0534, 75.3332,-164.2605,  860,    445.9,   0.8298,  34.8346,2,  34.8311,2,    295.0,2,    294.5,2,     7.50,2,    12.90,2,     0.01,2,     0.89,2,    4.824,2,    2.242,2,    0.282,2,  -999.00,9,  -999.00,9,   0.8091
  32PZ20020819,   CBL,   119,  1,      9,      9,2,20020920,0534, 75.3332,-164.2605,  860,    503.9,   0.7004,  34.8452,2,  34.8433,2,    296.0,2,    296.2,2,     7.40,2,    12.90,2,     0.01,2,     0.89,2,    4.790,2,    2.206,2,    0.268,2,  -999.00,9,  -999.00,9,   0.6773
  32PZ20020819,   CBL,   119,  1,      8,      8,2,20020920,0534, 75.3332,-164.2605,  860,    553.9,   0.6286,  34.8526,2,  34.8500,2,    296.9,2,   -999.0,9,  -999.00,9,  -999.00,9,  -999.00,9,  -999.00,9, -999.000,9, -999.000,9, -999.000,9,  -999.00,9,  -999.00,9,   0.6032
  32PZ20020819,   CBL,   119,  1,      7,      7,2,20020920,0534, 75.3332,-164.2605,  860,    607.6,   0.4727,  34.8560,2,  34.8541,2,    297.6,2,    298.0,2,     7.70,2,    13.00,2,     0.01,2,     0.90,2,    4.445,2,    2.055,2,    0.254,2,  -999.00,9,  -999.00,9,   0.4454
  32PZ20020819,   CBL,   119,  1,      6,      6,2,20020920,0534, 75.3332,-164.2605,  860,    660.4,   0.3541,  34.8600,2,-999.0000,9,    298.7,2,   -999.0,9,  -999.00,9,  -999.00,9,  -999.00,9,  -999.00,9, -999.000,9, -999.000,9, -999.000,9,  -999.00,9,  -999.00,9,   0.3247
  32PZ20020819,   CBL,   119,  1,      2,      2,2,20020920,0534, 75.3332,-164.2605,  860,    718.5,   0.2685,  34.8633,2,  34.8604,2,    299.5,2,    299.3,2,     7.60,2,    13.00,2,     0.01,2,     0.91,2,    4.032,2,    1.865,2,    0.220,2,     0.23,2,    41.60,2,   0.2367
  32PZ20020819,   CBL,   119,  1,      3,      3,2,20020920,0534, 75.3332,-164.2605,  860,    718.7,   0.2678,  34.8633,2,  34.8612,2,    299.5,2,   -999.0,9,  -999.00,9,  -999.00,9,  -999.00,9,  -999.00,9, -999.000,9, -999.000,9, -999.000,9,  -999.00,9,  -999.00,9,   0.2360
  32PZ20020819,   CBL,   119,  1,      4,      4,2,20020920,0534, 75.3332,-164.2605,  860,    718.9,   0.2686,  34.8633,2,  34.8610,2,    299.5,2,   -999.0,9,  -999.00,9,  -999.00,9,  -999.00,9,  -999.00,9, -999.000,9, -999.000,9, -999.000,9,  -999.00,9,  -999.00,9,   0.2368
  32PZ20020819,   CBL,   119,  1,      5,      5,2,20020920,0534, 75.3332,-164.2605,  860,    719.0,   0.2701,  34.8632,2,  34.8610,2,    299.5,2,   -999.0,9,  -999.00,9,  -999.00,9,  -999.00,9,  -999.00,9, -999.000,9, -999.000,9, -999.000,9,  -999.00,9,  -999.00,9,   0.2382
  32PZ20020819,   CBL,   119,  1,      1,      1,2,20020920,0534, 75.3332,-164.2605,  860,    767.8,   0.2472,  34.8643,2,  34.8576,3,    299.6,2,    298.6,3,     7.50,2,    13.00,2,     0.01,2,     0.91,2,    3.947,2,    1.808,2,    0.222,2,  -999.00,9,  -999.00,9,   0.2130
  32PZ20020819,   CBL,   120,  1,     28,     28,2,20020920,0834, 75.2768,-165.4077,  574,     10.0,  -1.0131,  27.5358,2,  27.5445,2,    373.3,2,    377.0,2,     3.80,2,     0.10,2,     0.00,2,     0.68,2,    7.712,2,    3.869,2,    0.739,2,    -3.34,2,    65.40,2,  -1.0132
  32PZ20020819,   CBL,   120,  1,     27,     27,2,20020920,0834, 75.2768,-165.4077,  574,     35.7,  -0.3957,  31.4126,2,-999.0000,9,    406.5,2,    396.5,2,     4.30,2,     0.10,2,     0.01,2,     0.88,2, -999.000,9, -999.000,9, -999.000,9,    -2.35,2,    64.80,2,  -0.3966
  32PZ20020819,   CBL,   120,  1,     26,     26,2,20020920,0834, 75.2768,-165.4077,  574,     66.7,  -1.2482,  32.2724,2,  32.2596,2,    323.4,2,    318.3,2,    21.10,2,     9.40,2,     0.01,2,     1.49,2,    6.485,2,    3.173,2,    0.491,2,    -1.91,2,    67.10,2,  -1.2496
  32PZ20020819,   CBL,   120,  1,     25,     25,2,20020920,0834, 75.2768,-165.4077,  574,     80.9,  -1.3100,  32.4437,2,-999.0000,9,    311.0,2,    303.9,2,    25.30,2,    11.60,2,     0.02,2,     1.65,2, -999.000,9, -999.000,9, -999.000,9,    -1.76,2,    69.80,2,  -1.3116
  32PZ20020819,   CBL,   120,  1,     24,     24,2,20020920,0834, 75.2768,-165.4077,  574,     95.5,  -1.4507,  32.6049,2,  32.5933,2,    300.1,2,    297.8,2,    28.70,2,    12.80,2,     0.01,2,     1.72,2, -999.000,9, -999.000,9, -999.000,9,    -1.69,2,    70.30,2,  -1.4526
  32PZ20020819,   CBL,   120,  1,     23,     23,2,20020920,0834, 75.2768,-165.4077,  574,    110.4,  -1.5278,  32.7657,2,  32.7633,2,    294.8,2,    291.3,2,    32.20,2,    14.20,2,     0.00,2,     1.82,2,    5.804,6,    2.854,6,    0.432,6,    -1.59,2,    70.30,2,  -1.5299
  32PZ20020819,   CBL,   120,  1,     22,     22,2,20020920,0834, 75.2768,-165.4077,  574,    120.1,  -1.5476,  32.8677,2,-999.0000,9,    294.2,2,    292.9,2,    32.50,2,    14.20,2,     0.01,2,     1.80,2, -999.000,9, -999.000,9, -999.000,9,  -999.00,9,  -999.00,9,  -1.5499
  32PZ20020819,   CBL,   120,  1,     21,     21,2,20020920,0834, 75.2768,-165.4077,  574,    130.4,  -1.5562,  32.9921,2,  32.9856,2,    292.9,2,    291.3,2,    33.10,2,    14.50,2,     0.01,2,     1.80,2,    5.783,2,    2.818,2,    0.416,2,    -1.70,2,    69.50,2,  -1.5588
  32PZ20020819,   CBL,   120,  1,     20,     20,3,20020920,0834, 75.2768,-165.4077,  574,    146.5,  -1.5331,  33.1952,2,-999.0000,9,    290.4,2,    289.3,2,    33.00,2,    14.60,2,     0.01,2,     1.78,2, -999.000,9, -999.000,9, -999.000,9,  -999.00,9,  -999.00,9,  -1.5361
  32PZ20020819,   CBL,   120,  1,     19,     19,2,20020920,0834, 75.2768,-165.4077,  574,    164.6,  -1.4362,  33.4721,2,  33.4625,2,    284.6,2,    281.1,2,    34.20,2,    15.50,2,     0.01,2,     1.79,2, -999.000,9, -999.000,9, -999.000,9,  -999.00,9,  -999.00,9,  -1.4398
  32PZ20020819,   CBL,   120,  1,     18,     18,2,20020920,0834, 75.2768,-165.4077,  574,    182.0,  -1.1472,  33.8739,2,  33.8760,2,    278.3,2,    272.3,2,    29.20,2,    15.00,2,     0.01,2,     1.59,2, -999.000,9, -999.000,9, -999.000,9,  -999.00,9,  -999.00,9,  -1.1518
  32PZ20020819,   CBL,   120,  1,     14,     14,2,20020920,0834, 75.2768,-165.4077,  574,    200.6,  -0.8329,  34.2289,2,  34.2188,2,    266.8,2,    267.0,2,    20.50,2,    13.80,2,     0.01,2,     1.27,2,    4.909,2,    2.275,2,    0.285,2,    -0.39,2,    50.80,2,  -0.8387
  32PZ20020819,   CBL,   120,  1,     15,     15,2,20020920,0834, 75.2768,-165.4077,  574,    200.6,  -0.8341,  34.2283,2,  34.2232,2,    266.7,2,   -999.0,9,  -999.00,9,  -999.00,9,  -999.00,9,  -999.00,9, -999.000,9, -999.000,9, -999.000,9,  -999.00,9,  -999.00,9,  -0.8399
  32PZ20020819,   CBL,   120,  1,     17,     17,2,20020920,0834, 75.2768,-165.4077,  574,    200.8,  -0.8295,  34.2307,2,  34.2175,2,    266.7,2,   -999.0,9,  -999.00,9,  -999.00,9,  -999.00,9,  -999.00,9, -999.000,9, -999.000,9, -999.000,9,  -999.00,9,  -999.00,9,  -0.8353
  32PZ20020819,   CBL,   120,  1,     16,     16,2,20020920,0834, 75.2768,-165.4077,  574,    200.9,  -0.8292,  34.2307,2,  34.2190,2,    266.7,2,   -999.0,9,  -999.00,9,  -999.00,9,  -999.00,9,  -999.00,9, -999.000,9, -999.000,9, -999.000,9,  -999.00,9,  -999.00,9,  -0.8350
  32PZ20020819,   CBL,   120,  1,     13,     13,2,20020920,0834, 75.2768,-165.4077,  574,    257.0,   0.1740,  34.6161,2,  34.6153,2,    274.4,2,    274.9,2,  -999.00,9,  -999.00,9,  -999.00,9,  -999.00,9,    5.077,2,    2.294,2,    0.288,2,  -999.00,9,  -999.00,9,   0.1640
  32PZ20020819,   CBL,   120,  1,     12,     12,2,20020920,0834, 75.2768,-165.4077,  574,    324.5,   0.8398,  34.7872,2,  34.7847,2,    288.8,2,    289.3,2,     7.90,2,    13.00,2,     0.00,2,     0.90,2,    5.192,2,    2.408,2,    0.319,2,  -999.00,9,  -999.00,9,   0.8251
  32PZ20020819,   CBL,   120,  1,      8,      8,3,20020920,0834, 75.2768,-165.4077,  574,    354.1,   0.9118,  34.8158,2,  34.8165,2,    291.6,2,   -999.0,9,  -999.00,9,  -999.00,9,  -999.00,9,  -999.00,9, -999.000,9, -999.000,9, -999.000,9,  -999.00,9,  -999.00,9,   0.8954
  32PZ20020819,   CBL,   120,  1,      9,      9,2,20020920,0834, 75.2768,-165.4077,  574,    354.2,   0.9120,  34.8158,2,  34.8150,2,    291.6,2,    292.0,2,     7.60,2,    13.00,2,     0.00,2,     0.90,2,    5.051,2,    2.340,2,    0.310,2,     0.25,2,    41.60,2,   0.8956
  32PZ20020819,   CBL,   120,  1,     10,     10,2,20020920,0834, 75.2768,-165.4077,  574,    354.2,   0.9125,  34.8157,2,  34.8136,2,    291.6,2,   -999.0,9,  -999.00,9,  -999.00,9,  -999.00,9,  -999.00,9, -999.000,9, -999.000,9, -999.000,9,  -999.00,9,  -999.00,9,   0.8961
  32PZ20020819,   CBL,   120,  1,     11,     11,2,20020920,0834, 75.2768,-165.4077,  574,    354.2,   0.9126,  34.8160,2,  34.8132,2,    291.6,2,   -999.0,9,  -999.00,9,  -999.00,9,  -999.00,9,  -999.00,9, -999.000,9, -999.000,9, -999.000,9,  -999.00,9,  -999.00,9,   0.8962
  32PZ20020819,   CBL,   120,  1,      7,      7,2,20020920,0834, 75.2768,-165.4077,  574,    395.4,   0.8716,  34.8312,2,  34.8338,2,    294.4,2,    294.2,2,  -999.00,9,  -999.00,9,  -999.00,9,  -999.00,9,    5.031,6,    2.303,6,    0.301,6,  -999.00,9,  -999.00,9,   0.8533
  32PZ20020819,   CBL,   120,  1,      6,      6,2,20020920,0834, 75.2768,-165.4077,  574,    439.4,   0.7671,  34.8405,2,-999.0000,9,    294.9,2,    295.2,2,  -999.00,9,  -999.00,9,  -999.00,9,  -999.00,9,    4.935,2,    2.254,2,    0.286,2,  -999.00,9,  -999.00,9,   0.7469
  32PZ20020819,   CBL,   120,  1,      5,      5,2,20020920,0834, 75.2768,-165.4077,  574,    488.2,   0.6738,  34.8496,2,  34.8505,2,    296.2,2,    295.9,2,     7.70,2,    13.10,2,     0.00,2,     0.90,2,    4.839,2,    2.225,2,    0.282,2,  -999.00,9,  -999.00,9,   0.6516
  32PZ20020819,   CBL,   120,  1,      1,      1,2,20020920,0834, 75.2768,-165.4077,  574,    559.8,   0.3936,  34.8582,2,  34.8574,2,    296.5,2,    296.2,2,     8.30,2,    13.20,2,     0.01,2,     0.91,2,    4.350,2,    1.987,2,    0.240,2,     0.36,2,    43.90,2,   0.3690
  32PZ20020819,   CBL,   120,  1,      2,      2,2,20020920,0834, 75.2768,-165.4077,  574,    559.8,   0.3929,  34.8585,2,  34.8564,2,    296.5,2,   -999.0,9,  -999.00,9,  -999.00,9,  -999.00,9,  -999.00,9, -999.000,9, -999.000,9, -999.000,9,  -999.00,9,  -999.00,9,   0.3683
  32PZ20020819,   CBL,   120,  1,      4,      4,2,20020920,0834, 75.2768,-165.4077,  574,    559.8,   0.3930,  34.8582,2,-999.0000,9,    296.5,2,   -999.0,9,  -999.00,9,  -999.00,9,  -999.00,9,  -999.00,9, -999.000,9, -999.000,9, -999.000,9,  -999.00,9,  -999.00,9,   0.3684
  32PZ20020819,   CBL,   120,  1,      3,      3,2,20020920,0834, 75.2768,-165.4077,  574,    560.0,   0.3924,  34.8584,2,  34.8572,2,    296.5,2,   -999.0,9,  -999.00,9,  -999.00,9,  -999.00,9,  -999.00,9, -999.000,9, -999.000,9, -999.000,9,  -999.00,9,  -999.00,9,   0.3678