BOTTLE,20220815CCHSIOAMB
EXPOCODE,SECT_ID,STNNBR,CASTNO,SAMPNO,BTLNBR,BTLNBR_FLAG_W,DATE,TIME,LATITUDE,LONGITUDE,DEPTH,CTDPRS,CTDTMP,CTDSAL,CTDSAL_FLAG_W,SALNTY,SALNTY_FLAG_W,CTDOXY,CTDOXY_FLAG_W,OXYGEN,OXYGEN_FLAG_W,SILCAT,SILCAT_FLAG_W,NITRAT,NITRAT_FLAG_W,NITRIT,NITRIT_FLAG_W,PHSPHT,PHSPHT_FLAG_W,CFC-11,CFC-11_FLAG_W,CFC-12,CFC-12_FLAG_W,CFC113,CFC113_FLAG_W,DELO18,DELO18_FLAG_W,BARIUM,BARIUM_FLAG_W,THETA
,,,,,,,,,,,METERS,DBAR,ITS-90,PSS-78,,PSS-78,,UMOL/KG,,UMOL/KG,,UMOL/KG,,UMOL/KG,,UMOL/KG,,UMOL/KG,,PMOL/KG,,PMOL/KG,,PMOL/KG,,/MILLE,,NMOL/KG,,DEG C
  32PZ20020819,   CBL,   105,  1,     18,     18,2,20020916,2110, 76.0280,-168.5002,  634,     13.3,  -1.4843,  27.8098,2,  27.8511,2,    376.2,2,    378.4,2,     4.30,2,     0.00,2,     0.00,2,     0.65,2,    7.635,2,    3.840,2,    0.715,2,  -999.00,9,  -999.00,9,  -1.4844
  32PZ20020819,   CBL,   105,  1,     17,     17,2,20020916,2110, 76.0280,-168.5002,  634,     28.2,  -0.7702,  30.6350,2,  30.9704,2,    383.3,2,    363.2,2,     7.30,2,     1.40,2,     0.27,2,     0.92,2,    6.794,2,    3.426,2,    0.583,2,  -999.00,9,  -999.00,9,  -0.7708
  32PZ20020819,   CBL,   105,  1,     16,     16,2,20020916,2110, 76.0280,-168.5002,  634,     45.7,  -0.6853,  31.7781,2,  31.8184,2,    355.2,2,    338.4,2,    13.90,2,     5.40,2,     0.06,2,     1.23,2,    6.765,2,    3.351,2,    0.521,2,  -999.00,9,  -999.00,9,  -0.6864
  32PZ20020819,   CBL,   105,  1,     15,     15,2,20020916,2110, 76.0280,-168.5002,  634,     60.8,  -1.0900,  32.1960,2,  32.2312,2,    324.1,2,    311.4,2,    21.40,2,     9.10,2,     0.04,2,     1.50,2,    6.548,2,    3.252,2,    0.519,2,  -999.00,9,  -999.00,9,  -1.0913
  32PZ20020819,   CBL,   105,  1,     14,     14,2,20020916,2110, 76.0280,-168.5002,  634,     88.2,  -1.2082,  32.5266,2,  32.5417,2,    289.9,2,    290.0,2,    28.40,2,    12.20,2,     0.04,2,     1.73,2,    6.290,6,    3.192,6,    0.518,6,  -999.00,9,  -999.00,9,  -1.2101
  32PZ20020819,   CBL,   105,  1,     13,     13,2,20020916,2110, 76.0280,-168.5002,  634,    115.9,  -1.4674,  32.8387,2,  32.8449,2,    282.1,2,    285.5,2,    33.40,2,    14.20,2,     0.04,3,     1.86,2,    6.090,2,    3.027,2,    0.457,2,  -999.00,9,  -999.00,9,  -1.4697
  32PZ20020819,   CBL,   105,  1,     12,     12,2,20020916,2110, 76.0280,-168.5002,  634,    128.7,  -1.5208,  33.0240,2,-999.0000,9,    284.1,2,    287.0,2,    33.30,2,    14.30,2,     0.05,3,     1.82,2,    5.896,2,    2.911,2,    0.458,2,  -999.00,9,  -999.00,9,  -1.5234
  32PZ20020819,   CBL,   105,  1,     11,     11,2,20020916,2110, 76.0280,-168.5002,  634,    150.5,  -1.3670,  33.5011,2,  33.5662,2,    278.3,2,    274.6,2,    33.60,2,    15.10,2,     0.05,3,     1.76,2,    5.475,2,    2.684,2,    0.369,2,  -999.00,9,  -999.00,9,  -1.3704
  32PZ20020819,   CBL,   105,  1,     10,     10,2,20020916,2110, 76.0280,-168.5002,  634,    178.0,  -0.9001,  34.1449,2,-999.0000,9,    254.8,2,    247.1,2,    28.10,2,    14.50,2,     0.04,3,     1.48,2,    5.284,2,    2.492,2,    0.308,2,  -999.00,9,  -999.00,9,  -0.9051
  32PZ20020819,   CBL,   105,  1,      9,      9,2,20020916,2110, 76.0280,-168.5002,  634,    217.3,  -0.0670,  34.5305,2,  34.5381,2,    248.3,2,    254.6,2,    18.60,2,    13.20,2,     0.05,3,     1.11,2,    5.467,2,    2.518,2,    0.310,2,  -999.00,9,  -999.00,9,  -0.0749
  32PZ20020819,   CBL,   105,  1,      8,      8,2,20020916,2110, 76.0280,-168.5002,  634,    263.8,   0.6383,  34.7177,2,-999.0000,9,    259.8,2,    268.2,2,    14.10,2,    13.20,2,     0.04,3,     0.99,2,    5.538,2,    2.564,2,    0.328,2,  -999.00,9,  -999.00,9,   0.6269
  32PZ20020819,   CBL,   105,  1,      7,      7,2,20020916,2110, 76.0280,-168.5002,  634,    307.3,   0.9339,  34.7934,2,  34.7949,2,    284.2,2,    283.6,2,     9.90,2,    13.00,2,     0.04,3,     0.93,2,    5.485,2,    2.550,2,    0.331,2,  -999.00,9,  -999.00,9,   0.9198
  32PZ20020819,   CBL,   105,  1,      6,      6,2,20020916,2110, 76.0280,-168.5002,  634,    333.6,   1.0169,  34.8278,2,-999.0000,9,    290.9,2,    291.3,2,     8.00,2,    12.80,2,     0.04,3,     0.90,2,    5.396,2,    2.501,2,    0.342,2,  -999.00,9,  -999.00,9,   1.0012
  32PZ20020819,   CBL,   105,  1,      5,      5,2,20020916,2110, 76.0280,-168.5002,  634,    388.9,   0.8945,  34.8452,2,  34.8417,2,    294.4,2,    293.8,2,     7.90,2,    12.80,2,     0.04,3,     0.90,2,    5.139,2,    2.394,2,    0.294,2,  -999.00,9,  -999.00,9,   0.8764
  32PZ20020819,   CBL,   105,  1,      4,      4,2,20020916,2110, 76.0280,-168.5002,  634,    443.9,   0.6975,  34.8534,2,-999.0000,9,    296.2,2,    295.9,2,     7.80,2,    12.80,2,     0.04,3,     0.90,2,    5.066,2,    2.351,2,    0.303,2,  -999.00,9,  -999.00,9,   0.6774
  32PZ20020819,   CBL,   105,  1,      3,      3,2,20020916,2110, 76.0280,-168.5002,  634,    504.9,   0.5272,  34.8587,2,  34.8562,2,    298.3,2,    298.3,2,     7.70,2,    12.70,2,     0.04,3,     0.90,2,    5.120,2,    2.386,2,    0.337,2,  -999.00,9,  -999.00,9,   0.5047
  32PZ20020819,   CBL,   105,  1,      2,      2,2,20020916,2110, 76.0280,-168.5002,  634,    554.5,   0.3476,  34.8607,2,-999.0000,9,    300.4,2,    300.9,2,     7.30,2,    12.70,2,     0.04,3,     0.89,2,    5.044,2,    2.313,2,    0.301,2,  -999.00,9,  -999.00,9,   0.3235
  32PZ20020819,   CBL,   105,  1,      1,      1,2,20020916,2110, 76.0280,-168.5002,  634,    615.0,   0.2488,  34.8618,2,  34.8623,2,    301.5,2,    301.4,2,     7.30,2,    12.60,2,     0.04,3,     0.89,2,    5.030,6,    2.329,6,    0.315,6,  -999.00,9,  -999.00,9,   0.2222
  32PZ20020819,   CBL,   106,  1,     14,     14,2,20020916,2339, 75.9423,-168.4972,  377,     12.7,  -1.4794,  27.8346,2,  27.8553,2,    376.2,2,    378.5,2,     4.30,2,     0.00,2,     0.00,2,     0.65,2,    7.479,2,    3.776,2,    0.701,2,  -999.00,9,  -999.00,9,  -1.4795
  32PZ20020819,   CBL,   106,  1,     13,     13,2,20020916,2339, 75.9423,-168.4972,  377,     26.1,  -0.6406,  30.7967,2,  31.1767,2,    380.3,2,    350.1,2,     8.30,2,     2.50,2,     0.17,2,     0.97,2,    6.569,2,    3.368,2,    0.597,2,  -999.00,9,  -999.00,9,  -0.6412
  32PZ20020819,   CBL,   106,  1,     12,     12,2,20020916,2339, 75.9423,-168.4972,  377,     39.6,  -0.6261,  31.7585,2,  31.7912,2,    353.9,2,    342.6,2,    13.10,2,     5.10,2,     0.05,2,     1.20,2,    6.526,2,    3.239,2,    0.531,2,  -999.00,9,  -999.00,9,  -0.6271
  32PZ20020819,   CBL,   106,  1,     11,     11,2,20020916,2339, 75.9423,-168.4972,  377,     61.0,  -1.0169,  32.2000,2,  32.2154,2,    327.2,2,    309.3,2,    20.60,2,     9.00,2,     0.04,2,     1.49,2,    6.409,6,    3.193,6,    0.518,6,  -999.00,9,  -999.00,9,  -1.0183
  32PZ20020819,   CBL,   106,  1,     10,     10,2,20020916,2339, 75.9423,-168.4972,  377,     80.8,  -1.2290,  32.4679,2,  32.4819,2,    304.7,2,    296.1,2,    27.00,2,    11.80,2,     0.04,2,     1.68,2,    6.189,2,    3.104,2,    0.477,2,  -999.00,9,  -999.00,9,  -1.2307
  32PZ20020819,   CBL,   106,  1,      9,      9,2,20020916,2339, 75.9423,-168.4972,  377,    105.7,  -1.4124,  32.7629,2,  32.7618,2,    287.9,2,    286.6,2,    32.30,2,    13.90,2,     0.04,3,     1.85,2,    6.034,2,    3.029,2,    0.461,2,  -999.00,9,  -999.00,9,  -1.4145
  32PZ20020819,   CBL,   106,  1,      8,      8,2,20020916,2339, 75.9423,-168.4972,  377,    126.2,  -1.5407,  33.0396,2,  33.0483,2,    286.7,2,    288.3,2,    33.30,2,    14.40,2,     0.04,3,     1.81,2,    5.587,2,    2.739,2,    0.407,2,  -999.00,9,  -999.00,9,  -1.5432
  32PZ20020819,   CBL,   106,  1,      7,      7,2,20020916,2339, 75.9423,-168.4972,  377,    150.9,  -1.4146,  33.4462,2,  33.5172,2,    279.7,2,    274.4,2,    34.10,2,    15.30,2,     0.05,3,     1.79,2,    5.494,2,    2.674,2,    0.368,2,  -999.00,9,  -999.00,9,  -1.4179
  32PZ20020819,   CBL,   106,  1,      6,      6,2,20020916,2339, 75.9423,-168.4972,  377,    176.8,  -0.8597,  34.0954,2,  34.1440,2,    260.2,2,    259.1,2,    26.40,2,    14.50,2,     0.04,3,     1.44,2,    4.921,2,    2.348,2,    0.307,2,  -999.00,9,  -999.00,9,  -0.8647
  32PZ20020819,   CBL,   106,  1,      5,      5,2,20020916,2339, 75.9423,-168.4972,  377,    211.3,  -0.0968,  34.5106,2,  34.5295,2,    248.9,2,    249.1,2,    21.00,2,    13.80,2,     0.04,3,     1.18,2,    5.174,2,    2.426,2,    0.291,2,  -999.00,9,  -999.00,9,  -0.1044
  32PZ20020819,   CBL,   106,  1,      4,      4,2,20020916,2339, 75.9423,-168.4972,  377,    252.8,   0.6109,  34.7112,2,-999.0000,9,    255.1,2,    259.7,2,    17.10,2,    13.60,2,     0.04,3,     1.05,2,    5.487,2,    2.553,2,    0.345,2,  -999.00,9,  -999.00,9,   0.6001
  32PZ20020819,   CBL,   106,  1,      3,      3,2,20020916,2339, 75.9423,-168.4972,  377,    303.3,   0.9879,  34.8187,2,  34.8182,2,    285.1,2,    285.7,2,     9.80,2,    13.00,2,     0.04,3,     0.93,2,    5.492,6,    2.544,6,    0.362,6,  -999.00,9,  -999.00,9,   0.9738
  32PZ20020819,   CBL,   106,  1,      2,      2,2,20020916,2339, 75.9423,-168.4972,  377,    351.8,   0.7121,  34.8517,2,-999.0000,9,    293.0,2,    293.3,2,     8.90,2,    13.00,2,     0.04,3,     0.93,2,    5.314,2,    2.455,2,    0.347,2,  -999.00,9,  -999.00,9,   0.6964
  32PZ20020819,   CBL,   106,  1,      1,      1,2,20020916,2339, 75.9423,-168.4972,  377,    367.6,   0.5802,  34.8564,2,  34.8557,2,    294.6,2,    294.6,2,     8.80,2,    12.90,2,     0.05,3,     0.92,2,    5.113,2,    2.403,2,    0.330,2,  -999.00,9,  -999.00,9,   0.5641
  32PZ20020819,   CBL,   107,  1,     35,     35,2,20020918,1045, 74.5038,-157.1188, 3902,     12.7,  -0.7704,  26.7035,2,  26.7468,2,    373.0,2,    378.9,2,     3.50,2,     0.10,2,     0.00,2,     0.59,2,    7.713,2,    3.915,2,    0.732,2,    -3.70,2,    71.00,2,  -0.7706
  32PZ20020819,   CBL,   107,  1,     34,     34,2,20020918,1045, 74.5038,-157.1188, 3902,     23.6,  -0.7727,  28.3637,2,  28.3145,2,    377.1,2,    391.0,2,     3.60,2,     0.10,2,     0.00,2,     0.66,2, -999.000,9, -999.000,9, -999.000,9,    -3.42,2,    72.10,2,  -0.7731
  32PZ20020819,   CBL,   107,  1,     33,     33,2,20020918,1045, 74.5038,-157.1188, 3902,     36.2,   0.4401,  31.2166,2,  31.2168,2,    389.0,2,    385.1,2,     2.90,2,     0.10,2,     0.01,2,     0.81,2,    6.749,2,    3.343,2,    0.540,2,    -2.36,2,    63.90,2,   0.4389
  32PZ20020819,   CBL,   107,  1,     32,     32,2,20020918,1045, 74.5038,-157.1188, 3902,     58.5,  -0.9172,  31.9668,2,  31.9740,2,    347.9,2,    334.7,2,    14.50,2,     7.00,2,     0.06,2,     1.29,2, -999.000,9, -999.000,9, -999.000,9,    -2.03,2,    64.80,2,  -0.9185
  32PZ20020819,   CBL,   107,  1,     31,     31,2,20020918,1045, 74.5038,-157.1188, 3902,     77.1,  -1.2440,  32.3386,2,  32.3329,2,    317.5,2,    307.1,2,    22.90,2,    11.20,2,     0.03,2,     1.60,2,    6.081,2,    2.953,2,    0.423,2,  -999.00,9,  -999.00,9,  -1.2456
  32PZ20020819,   CBL,   107,  1,     30,     30,2,20020918,1045, 74.5038,-157.1188, 3902,     91.6,  -1.3440,  32.5321,2,  32.5262,2,    303.6,2,    294.8,2,    27.50,2,    13.00,2,     0.03,2,     1.73,2, -999.000,9, -999.000,9, -999.000,9,  -999.00,9,  -999.00,9,  -1.3459
  32PZ20020819,   CBL,   107,  1,     29,     29,2,20020918,1045, 74.5038,-157.1188, 3902,    106.1,  -1.4067,  32.6870,2,  32.6805,2,    293.1,2,    288.2,2,    30.90,2,    14.20,2,     0.03,3,     1.82,2,    5.695,2,    2.773,2,    0.393,2,    -1.62,2,    73.90,2,  -1.4088
  32PZ20020819,   CBL,   107,  1,     28,     28,2,20020918,1045, 74.5038,-157.1188, 3902,    120.9,  -1.5181,  32.8192,2,  32.8081,2,    286.4,2,    285.7,2,    34.10,2,    14.90,2,     0.02,2,     1.89,2, -999.000,9, -999.000,9, -999.000,9,  -999.00,9,  -999.00,9,  -1.5205
  32PZ20020819,   CBL,   107,  1,     27,     27,2,20020918,1045, 74.5038,-157.1188, 3902,    135.8,  -1.5589,  32.9465,2,  32.9449,2,    285.0,2,    285.4,2,    34.50,2,    15.00,2,     0.02,2,     1.87,2,    5.645,2,    2.755,2,    0.398,2,    -1.64,2,    70.00,2,  -1.5616
  32PZ20020819,   CBL,   107,  1,     26,     26,2,20020918,1045, 74.5038,-157.1188, 3902,    149.8,  -1.5610,  33.1097,2,  33.0943,2,    276.2,2,    279.2,2,    36.00,2,    15.80,2,     0.02,2,     1.90,2,    5.589,2,    2.767,2,    0.406,2,  -999.00,9,  -999.00,9,  -1.5640
  32PZ20020819,   CBL,   107,  1,     25,     25,2,20020918,1045, 74.5038,-157.1188, 3902,    165.0,  -1.5164,  33.3016,2,  33.2953,2,    268.4,2,    269.2,2,    39.40,2,    17.00,2,     0.03,3,     1.96,2,    5.529,2,    2.733,2,    0.391,2,  -999.00,9,  -999.00,9,  -1.5199
  32PZ20020819,   CBL,   107,  1,     24,     24,2,20020918,1045, 74.5038,-157.1188, 3902,    181.8,  -1.3287,  33.6033,2,  33.5843,2,    267.1,2,    261.2,2,    37.70,2,    16.80,2,     0.03,3,     1.87,2,    5.328,2,    2.604,2,    0.362,2,  -999.00,9,  -999.00,9,  -1.3329
  32PZ20020819,   CBL,   107,  1,     23,     23,2,20020918,1045, 74.5038,-157.1188, 3902,    203.0,  -1.2339,  34.0512,2,  34.0454,2,    262.5,2,    269.7,2,    20.30,2,    12.60,2,     0.02,2,     1.21,2,    5.844,2,    2.705,2,    0.375,2,    -0.60,2,    50.30,2,  -1.2390
  32PZ20020819,   CBL,   107,  1,     22,     22,2,20020918,1045, 74.5038,-157.1188, 3902,    221.3,  -0.9367,  34.2728,2,  34.2658,2,    278.4,2,    287.6,2,    10.90,2,    11.10,2,     0.02,2,     0.90,2, -999.000,9, -999.000,9, -999.000,9,  -999.00,9,  -999.00,9,  -0.9430
  32PZ20020819,   CBL,   107,  1,     21,     21,2,20020918,1045, 74.5038,-157.1188, 3902,    253.0,  -0.2230,  34.4755,2,  34.4673,2,    292.8,2,    291.9,2,     8.10,2,    11.20,2,     0.02,2,     0.84,2,    6.011,2,    2.778,2,    0.382,2,  -999.00,9,  -999.00,9,  -0.2319
  32PZ20020819,   CBL,   107,  1,     20,     20,2,20020918,1045, 74.5038,-157.1188, 3902,    298.4,   0.5373,  34.6792,2,  34.6759,2,    293.1,2,    292.8,2,     7.30,2,    12.00,2,     0.02,2,     0.85,2, -999.000,9, -999.000,9, -999.000,9,  -999.00,9,  -999.00,9,   0.5246
  32PZ20020819,   CBL,   107,  1,     19,     19,2,20020918,1045, 74.5038,-157.1188, 3902,    343.6,   0.9026,  34.7906,2,  34.7899,2,    295.6,2,    295.1,2,     6.60,2,    12.40,2,     0.02,2,     0.86,2,    5.156,2,    2.387,2,    0.331,2,  -999.00,9,  -999.00,9,   0.8868
  32PZ20020819,   CBL,   107,  1,     18,     18,2,20020918,1045, 74.5038,-157.1188, 3902,    411.3,   1.0581,  34.8430,2,  34.8428,2,    297.8,2,    298.5,2,     6.40,2,    12.60,2,     0.02,2,     0.86,2,    5.238,2,    2.436,2,    0.334,2,     0.20,2,    43.00,2,   1.0383
  32PZ20020819,   CBL,   107,  1,     17,     17,2,20020918,1045, 74.5038,-157.1188, 3902,    462.4,   0.9561,  34.8480,2,  34.8452,2,    297.6,2,    298.2,2,     6.50,2,    12.60,2,     0.02,2,     0.86,2,    4.911,6,    2.242,6,    0.303,6,  -999.00,9,  -999.00,9,   0.9341
  32PZ20020819,   CBL,   107,  1,     16,     16,2,20020918,1045, 74.5038,-157.1188, 3902,    583.5,   0.6166,  34.8552,2,  34.8544,2,    299.4,2,    299.2,2,     6.60,2,    12.70,2,     0.02,2,     0.87,2,    4.453,2,    2.044,2,    0.264,2,  -999.00,9,  -999.00,9,   0.5898
  32PZ20020819,   CBL,   107,  1,     15,     15,2,20020918,1045, 74.5038,-157.1188, 3902,    711.7,   0.3718,  34.8623,2,  34.8621,2,    299.9,2,    300.7,2,     6.70,2,    12.80,2,     0.02,2,     0.88,2,    4.164,2,    1.919,2, -999.000,9,     0.18,2,    41.70,2,   0.3397
  32PZ20020819,   CBL,   107,  1,     14,     14,2,20020918,1045, 74.5038,-157.1188, 3902,    847.3,   0.1521,  34.8674,2,  34.8674,2,    301.3,2,    301.3,2,     6.80,2,    12.80,2,     0.02,2,     0.89,2,    3.622,2,    1.661,2,    0.203,2,  -999.00,9,  -999.00,9,   0.1144
  32PZ20020819,   CBL,   107,  1,     13,     13,2,20020918,1045, 74.5038,-157.1188, 3902,   1041.3,  -0.0533,  34.8798,2,  34.8798,2,    300.5,2,    301.7,2,     7.30,2,    13.00,2,     0.02,2,     0.90,2,    3.090,2,    1.426,2,    0.167,2,  -999.00,9,  -999.00,9,  -0.0997
  32PZ20020819,   CBL,   107,  1,     12,     12,2,20020918,1045, 74.5038,-157.1188, 3902,   1283.9,  -0.2081,  34.8979,2,  34.8977,2,    300.3,2,    300.4,2,     8.00,2,    13.30,2,     0.02,2,     0.93,2,    1.924,2,    0.889,2,    0.090,2,  -999.00,9,  -999.00,9,  -0.2664
  32PZ20020819,   CBL,   107,  1,     11,     11,2,20020918,1045, 74.5038,-157.1188, 3902,   1529.3,  -0.3146,  34.9163,2,  34.9164,2,    299.0,2,    298.8,2,     9.00,2,    13.70,2,     0.02,2,     0.96,2,    0.862,6,    0.420,6,    0.027,2,  -999.00,9,  -999.00,9,  -0.3861
  32PZ20020819,   CBL,   107,  1,     10,     10,2,20020918,1045, 74.5038,-157.1188, 3902,   1822.4,  -0.4005,  34.9346,2,  34.9341,2,    294.4,2,    293.6,2,    10.90,2,    14.40,2,     0.02,2,     1.01,2, -999.000,9, -999.000,9, -999.000,9,  -999.00,9,  -999.00,9,  -0.4892
  32PZ20020819,   CBL,   107,  1,      9,      9,2,20020918,1045, 74.5038,-157.1188, 3902,   2110.4,  -0.4076,  34.9459,2,  34.9459,2,    290.8,2,    290.3,2,    12.10,2,    14.70,2,     0.02,2,     1.03,2,    0.097,2,    0.043,2,    0.001,2,  -999.00,9,  -999.00,9,  -0.5154
  32PZ20020819,   CBL,   107,  1,      8,      8,2,20020918,1045, 74.5038,-157.1188, 3902,   2253.9,  -0.4009,  34.9498,2,  34.9502,2,    289.2,2,    288.8,2,    12.50,2,    14.90,2,     0.02,2,     1.03,2, -999.000,9, -999.000,9, -999.000,9,  -999.00,9,  -999.00,9,  -0.5190
  32PZ20020819,   CBL,   107,  1,      7,      7,2,20020918,1045, 74.5038,-157.1188, 3902,   2350.1,  -0.3941,  34.9516,2,  34.9512,2,    287.1,2,    287.8,2,    12.80,2,    15.00,2,     0.02,2,     1.04,2,    0.029,2,    0.016,2,    0.001,2,  -999.00,9,  -999.00,9,  -0.5192
  32PZ20020819,   CBL,   107,  1,      6,      6,2,20020918,1045, 74.5038,-157.1188, 3902,   2494.8,  -0.3780,  34.9545,2,  34.9549,2,    286.8,2,    286.7,2,    13.30,2,    15.10,2,     0.02,2,     1.05,2, -999.000,9, -999.000,9, -999.000,9,  -999.00,9,  -999.00,9,  -0.5142
  32PZ20020819,   CBL,   107,  1,      5,      5,2,20020918,1045, 74.5038,-157.1188, 3902,   2787.6,  -0.3530,  34.9565,2,  34.9557,2,    285.8,2,    284.7,2,    13.60,2,    15.10,2,     0.03,3,     1.05,2,    0.004,2,    0.005,2,    0.000,2,  -999.00,9,  -999.00,9,  -0.5125
  32PZ20020819,   CBL,   107,  1,      4,      4,2,20020918,1045, 74.5038,-157.1188, 3902,   3083.2,  -0.3281,  34.9573,2,  34.9563,2,    284.8,2,    284.3,2,    13.70,2,    15.10,2,     0.03,3,     1.04,2, -999.000,9, -999.000,9, -999.000,9,  -999.00,9,  -999.00,9,  -0.5126
  32PZ20020819,   CBL,   107,  1,      3,      3,2,20020918,1045, 74.5038,-157.1188, 3902,   3382.3,  -0.3010,  34.9574,2,  34.9571,2,    284.1,2,    284.1,2,    13.80,2,    15.00,2,     0.03,3,     1.05,2,    0.005,2,    0.004,2,    0.000,2,  -999.00,9,  -999.00,9,  -0.5122
  32PZ20020819,   CBL,   107,  1,      2,      2,2,20020918,1045, 74.5038,-157.1188, 3902,   3684.6,  -0.2723,  34.9574,2,  34.9565,2,    283.9,2,    284.2,2,    13.90,2,    15.00,2,     0.03,3,     1.05,2, -999.000,9, -999.000,9, -999.000,9,  -999.00,9,  -999.00,9,  -0.5121
  32PZ20020819,   CBL,   107,  1,      1,      1,2,20020918,1045, 74.5038,-157.1188, 3902,   3911.0,  -0.2497,  34.9573,2,  34.9567,2,    284.1,2,    284.3,2,    13.80,2,    15.00,2,     0.03,3,     1.05,2,    0.022,2,    0.017,2,    0.000,2,  -999.00,9,  -999.00,9,  -0.5118