BOTTLE,20220815CCHSIOAMB
EXPOCODE,SECT_ID,STNNBR,CASTNO,SAMPNO,BTLNBR,BTLNBR_FLAG_W,DATE,TIME,LATITUDE,LONGITUDE,DEPTH,CTDPRS,CTDTMP,CTDSAL,CTDSAL_FLAG_W,SALNTY,SALNTY_FLAG_W,CTDOXY,CTDOXY_FLAG_W,OXYGEN,OXYGEN_FLAG_W,SILCAT,SILCAT_FLAG_W,NITRAT,NITRAT_FLAG_W,NITRIT,NITRIT_FLAG_W,PHSPHT,PHSPHT_FLAG_W,CFC-11,CFC-11_FLAG_W,CFC-12,CFC-12_FLAG_W,CFC113,CFC113_FLAG_W,DELO18,DELO18_FLAG_W,BARIUM,BARIUM_FLAG_W,THETA
,,,,,,,,,,,METERS,DBAR,ITS-90,PSS-78,,PSS-78,,UMOL/KG,,UMOL/KG,,UMOL/KG,,UMOL/KG,,UMOL/KG,,UMOL/KG,,PMOL/KG,,PMOL/KG,,PMOL/KG,,/MILLE,,NMOL/KG,,DEG C
  32PZ20020819,   CBL,    92,  1,     35,     35,2,20020913,0906, 77.3280,-163.1913,  528,     10.3,  -1.5348,  29.1732,2,  29.2204,2,    377.2,2,    379.3,2,     2.00,2,     0.10,2,     0.00,2,     0.73,2,    7.591,2,    3.885,2,    0.731,2,    -2.63,2,    60.30,2,  -1.5349
  32PZ20020819,   CBL,    92,  1,     33,     33,2,20020913,0906, 77.3280,-163.1913,  528,     31.7,  -1.3089,  30.8943,2,  31.0027,2,    386.6,2,    375.3,2,     8.00,2,     2.00,2,     0.23,2,     0.99,2,    7.407,2,    3.700,2,    0.667,2,    -2.25,2,    59.50,2,  -1.3094
  32PZ20020819,   CBL,    92,  1,     31,     31,2,20020913,0906, 77.3280,-163.1913,  528,     42.7,  -0.9576,  31.6249,2,  31.6655,2,    362.3,2,    342.8,2,    13.30,2,     5.40,2,     0.04,2,     1.20,2,    6.961,2,    3.508,2,    0.597,2,    -2.00,2,    63.10,2,  -0.9585
  32PZ20020819,   CBL,    92,  1,     29,     29,2,20020913,0906, 77.3280,-163.1913,  528,     59.5,  -1.3931,  32.1101,2,  32.1449,2,    327.6,2,    313.3,2,    18.90,2,     9.50,2,     0.01,2,     1.47,2,    6.812,2,    3.491,2,    0.552,2,    -1.59,2,    59.70,2,  -1.3942
  32PZ20020819,   CBL,    92,  1,     27,     27,2,20020913,0906, 77.3280,-163.1913,  528,     79.6,  -1.4287,  32.5107,2,  32.5292,2,    297.6,2,    285.0,2,    28.60,2,    13.30,2,     0.01,2,     1.75,2,    6.306,2,    3.201,2,    0.476,2,    -1.67,2,    66.40,2,  -1.4302
  32PZ20020819,   CBL,    92,  1,     25,     25,2,20020913,0906, 77.3280,-163.1913,  528,     99.0,  -1.4351,  32.7921,2,  32.8055,2,    278.1,2,    271.8,2,    35.30,2,    15.20,2,     0.01,2,     1.94,2,    6.224,2,    3.111,2,    0.470,2,  -999.00,9,  -999.00,9,  -1.4371
  32PZ20020819,   CBL,    92,  1,     23,     23,2,20020913,0906, 77.3280,-163.1913,  528,    118.8,  -1.5423,  33.0602,2,  33.0865,2,    273.1,2,    272.8,2,    37.00,2,    15.50,2,     0.01,2,     1.92,2,    6.009,2,    3.136,2, -999.000,9,    -1.46,2,    68.50,2,  -1.5447
  32PZ20020819,   CBL,    92,  1,     21,     21,2,20020913,0906, 77.3280,-163.1913,  528,    135.7,  -1.4835,  33.3701,2,  33.4119,2,    271.4,2,    266.1,2,    39.10,2,    16.20,2,     0.01,2,     1.92,2,    5.776,2,    2.882,2,    0.404,2,  -999.00,9,  -999.00,9,  -1.4864
  32PZ20020819,   CBL,    92,  1,     19,     19,2,20020913,0906, 77.3280,-163.1913,  528,    150.5,  -1.2784,  33.6689,2,  33.7023,2,    261.3,2,    248.3,2,    38.30,2,    16.50,2,     0.01,2,     1.85,2,    5.530,2,    2.733,2,    0.377,2,  -999.00,9,  -999.00,9,  -1.2820
  32PZ20020819,   CBL,    92,  1,     17,     17,2,20020913,0906, 77.3280,-163.1913,  528,    172.1,  -0.8962,  34.1531,2,  34.1692,2,    245.4,2,    247.0,2,    26.20,2,    14.30,2,     0.01,2,     1.38,2,    5.247,2,    2.500,2,    0.317,2,    -0.42,2,    51.50,2,  -0.9010
  32PZ20020819,   CBL,    92,  1,     15,     15,2,20020913,0906, 77.3280,-163.1913,  528,    200.8,  -0.4071,  34.4381,2,  34.4501,2,    262.3,2,    267.9,2,    14.20,2,    12.60,2,     0.01,2,     0.99,2,    5.821,2,    2.692,2,    0.345,2,  -999.00,9,  -999.00,9,  -0.4138
  32PZ20020819,   CBL,    92,  1,     13,     13,2,20020913,0906, 77.3280,-163.1913,  528,    236.4,   0.4085,  34.6603,2,  34.6595,2,    277.9,2,    279.5,2,     9.90,2,    12.80,2,     0.00,2,     0.90,2,    5.648,2,    2.590,2,    0.338,2,  -999.00,9,  -999.00,9,   0.3989
  32PZ20020819,   CBL,    92,  1,     11,     11,2,20020913,0906, 77.3280,-163.1913,  528,    331.3,   1.0053,  34.8242,2,  34.8247,2,    293.8,2,    293.5,2,     7.30,2,    12.80,2,     0.01,2,     0.87,2,    5.319,2,    2.429,2,    0.349,2,  -999.00,9,  -999.00,9,   0.9898
  32PZ20020819,   CBL,    92,  1,      9,      9,2,20020913,0906, 77.3280,-163.1913,  528,    348.1,   1.0522,  34.8363,2,  34.8399,2,    295.5,2,    294.8,2,     7.10,2,    12.70,2,     0.01,2,     0.86,2,    5.260,6,    2.494,6,    0.342,6,     0.25,2,    42.00,2,   1.0357
  32PZ20020819,   CBL,    92,  1,      7,      7,2,20020913,0906, 77.3280,-163.1913,  528,    374.0,   0.8990,  34.8303,2,  34.8299,2,    290.5,2,    289.3,2,     8.50,2,    13.10,2,     0.01,2,     0.88,2,    5.132,2,    2.416,2,    0.304,2,  -999.00,9,  -999.00,9,   0.8816
  32PZ20020819,   CBL,    92,  1,      5,      5,2,20020913,0906, 77.3280,-163.1913,  528,    404.7,   0.8993,  34.8397,2,  34.8405,2,    290.6,2,    291.9,2,     8.20,2,    12.90,2,     0.01,2,     0.88,2,    5.110,2,    2.414,2,    0.302,2,  -999.00,9,  -999.00,9,   0.8804
  32PZ20020819,   CBL,    92,  1,      3,      3,2,20020913,0906, 77.3280,-163.1913,  528,    457.0,   0.8423,  34.8532,2,  34.8525,2,    294.8,2,    295.6,2,     7.70,2,    12.90,2,     0.01,2,     0.88,2,    5.024,2,    2.361,2,    0.317,2,  -999.00,9,  -999.00,9,   0.8210
  32PZ20020819,   CBL,    92,  1,      1,      1,2,20020913,0906, 77.3280,-163.1913,  528,    515.5,   0.5872,  34.8584,2,  34.8567,2,    298.7,2,    298.6,2,     7.40,2,    12.80,2,     0.01,2,     0.87,2,    4.935,6,    2.268,6,    0.299,6,     0.14,2,    43.20,2,   0.5639
  32PZ20020819,   CBL,    93,  1,     25,     25,2,20020913,1349, 77.2968,-164.6302,  336,     10.8,  -1.5697,  29.1720,2,  29.2380,2,    376.4,2,    381.4,2,  -999.00,9,  -999.00,9,  -999.00,9,  -999.00,9,    7.679,2,    3.860,2,    0.709,2,  -999.00,9,  -999.00,9,  -1.5698
  32PZ20020819,   CBL,    93,  1,     23,     23,2,20020913,1349, 77.2968,-164.6302,  336,     21.8,  -1.5444,  29.4487,2,  29.5887,2,    383.1,2,    383.3,2,  -999.00,9,  -999.00,9,  -999.00,9,  -999.00,9, -999.000,9,    3.815,2,    0.694,2,  -999.00,9,  -999.00,9,  -1.5447
  32PZ20020819,   CBL,    93,  1,     21,     21,2,20020913,1349, 77.2968,-164.6302,  336,     58.7,  -1.1532,  32.1519,2,-999.0000,9,    323.8,2,    302.1,2,    20.90,2,     9.70,2,     0.01,2,     1.49,2,    6.510,2,    3.272,2,    0.517,2,  -999.00,9,  -999.00,9,  -1.1544
  32PZ20020819,   CBL,    93,  1,     19,     19,2,20020913,1349, 77.2968,-164.6302,  336,     74.8,  -1.0171,  32.4874,2,  32.5197,2,    293.2,2,    281.4,2,    28.50,2,    12.70,2,     0.00,2,     1.74,2,    6.314,2,    3.182,2,    0.479,2,  -999.00,9,  -999.00,9,  -1.0188
  32PZ20020819,   CBL,    93,  1,     17,     17,2,20020913,1349, 77.2968,-164.6302,  336,     89.2,  -1.1415,  32.6845,2,  32.7543,2,    279.5,2,    278.5,2,    33.20,2,    14.40,2,     0.00,2,     1.90,2,    6.256,2,    3.143,2,    0.483,2,  -999.00,9,  -999.00,9,  -1.1435
  32PZ20020819,   CBL,    93,  1,     15,     15,2,20020913,1349, 77.2968,-164.6302,  336,    106.0,  -1.4605,  32.8602,2,  32.9163,2,    279.7,2,    277.1,2,    35.30,2,    15.00,2,     0.00,2,     1.90,2,    6.090,2,    3.036,2,    0.444,2,  -999.00,9,  -999.00,9,  -1.4626
  32PZ20020819,   CBL,    93,  1,     13,     13,2,20020913,1349, 77.2968,-164.6302,  336,    118.9,  -1.5418,  33.0291,2,  33.0781,2,    273.8,2,    268.2,2,    37.70,2,    16.00,2,     0.00,2,     1.96,2,    5.996,2,    2.980,2,    0.427,2,  -999.00,9,  -999.00,9,  -1.5442
  32PZ20020819,   CBL,    93,  1,     11,     11,2,20020913,1349, 77.2968,-164.6302,  336,    133.0,  -1.5175,  33.2898,2,  33.3393,2,    262.8,2,    261.8,2,    40.50,2,    16.40,2,     0.00,2,     1.98,2,    5.856,6,    2.928,6,    0.418,6,  -999.00,9,  -999.00,9,  -1.5203
  32PZ20020819,   CBL,    93,  1,      9,      9,2,20020913,1349, 77.2968,-164.6302,  336,    152.4,  -1.2988,  33.6386,2,  33.7116,2,    249.8,2,    250.9,2,    37.80,2,    16.30,2,     0.00,2,     1.84,2, -999.000,9, -999.000,9, -999.000,9,  -999.00,9,  -999.00,9,  -1.3024
  32PZ20020819,   CBL,    93,  1,      7,      7,2,20020913,1349, 77.2968,-164.6302,  336,    172.4,  -0.9904,  34.1358,2,  34.1624,2,    242.9,2,    245.8,2,    25.90,2,    14.00,2,     0.00,2,     1.37,2,    5.563,2,    2.565,2,    0.322,2,  -999.00,9,  -999.00,9,  -0.9951
  32PZ20020819,   CBL,    93,  1,      5,      5,2,20020913,1349, 77.2968,-164.6302,  336,    213.7,  -0.1080,  34.5204,2,  34.5330,2,    266.3,2,    266.7,2,  -999.00,9,  -999.00,9,  -999.00,9,  -999.00,9,    5.672,2,    2.586,2,    0.327,2,  -999.00,9,  -999.00,9,  -0.1157
  32PZ20020819,   CBL,    93,  1,      3,      3,2,20020913,1349, 77.2968,-164.6302,  336,    274.0,   0.7249,  34.7486,2,  34.7562,2,    285.1,2,    283.3,2,  -999.00,9,  -999.00,9,  -999.00,9,  -999.00,9,    5.407,2,    2.464,2,    0.311,2,  -999.00,9,  -999.00,9,   0.7129
  32PZ20020819,   CBL,    93,  1,      1,      1,2,20020913,1349, 77.2968,-164.6302,  336,    326.7,   0.9490,  34.8258,2,  34.8236,2,    289.2,2,    289.3,2,  -999.00,9,  -999.00,9,  -999.00,9,  -999.00,9,    5.280,6,    2.445,6,    0.319,6,  -999.00,9,  -999.00,9,   0.9338
  32PZ20020819,   CBL,    94,  1,     22,     22,2,20020913,2116, 77.2633,-166.3383,  830,     11.5,  -1.5473,  29.0170,2,  29.0462,2,    378.2,2,    379.5,2,     2.40,2,     0.10,2,     0.00,2,     0.73,2,    7.456,2,    3.836,2,    0.707,2,    -2.54,2,    60.50,2,  -1.5474
  32PZ20020819,   CBL,    94,  1,     21,     21,2,20020913,2116, 77.2633,-166.3383,  830,     29.6,  -0.9675,  30.3797,2,  30.4665,2,    378.1,2,    378.0,2,     5.40,2,     0.60,2,     0.23,2,     0.85,2,    7.208,6,    3.636,6,    0.643,6,  -999.00,9,  -999.00,9,  -0.9681
  32PZ20020819,   CBL,    94,  1,     20,     20,2,20020913,2116, 77.2633,-166.3383,  830,     45.2,  -0.7889,  31.7406,2,  31.7679,2,    352.3,2,    338.3,2,    13.50,2,     5.60,2,     0.04,2,     1.22,2,    6.593,2,    3.375,2,    0.521,2,    -1.93,2,    63.80,2,  -0.7900
  32PZ20020819,   CBL,    94,  1,     19,     19,2,20020913,2116, 77.2633,-166.3383,  830,     60.9,  -1.1349,  32.1942,2,  32.2082,2,    324.7,2,    309.5,2,    20.60,2,     9.40,2,     0.02,2,     1.49,2,    6.450,2,    3.340,2,    0.512,2,    -1.67,2,    64.20,2,  -1.1362
  32PZ20020819,   CBL,    94,  1,     18,     18,2,20020913,2116, 77.2633,-166.3383,  830,     75.6,  -1.0447,  32.4297,2,  32.4475,2,    302.7,2,    289.8,2,    26.90,2,    11.60,2,     0.01,2,     1.67,2,    6.204,2,    3.163,2,    0.491,2,  -999.00,9,  -999.00,9,  -1.0464
  32PZ20020819,   CBL,    94,  1,     17,     17,2,20020913,2116, 77.2633,-166.3383,  830,     89.0,  -0.8834,  32.6005,2,  32.6245,2,    287.2,2,    271.9,2,    30.90,2,    13.60,2,     0.02,2,     1.85,2,    6.167,2,    3.172,2,    0.512,2,    -1.52,2,    69.80,2,  -0.8856
  32PZ20020819,   CBL,    94,  1,     16,     16,2,20020913,2116, 77.2633,-166.3383,  830,    107.3,  -1.3556,  32.8108,2,  32.8242,2,    272.0,2,    272.9,2,    35.40,2,    15.10,2,     0.01,2,     1.96,2,    6.207,2,    3.217,2,    0.501,2,    -1.45,2,    68.40,2,  -1.3578
  32PZ20020819,   CBL,    94,  1,     15,     15,2,20020913,2116, 77.2633,-166.3383,  830,    120.3,  -1.5181,  32.9768,2,  33.0252,2,    276.4,2,    267.6,2,    37.50,2,    15.80,2,     0.01,2,     1.97,2,    5.937,2,    3.046,2,    0.443,2,    -1.39,2,    69.60,2,  -1.5205
  32PZ20020819,   CBL,    94,  1,     14,     14,2,20020913,2116, 77.2633,-166.3383,  830,    141.4,  -1.4520,  33.4041,2,  33.4483,2,    264.6,2,    265.7,2,    38.70,2,    16.10,2,     0.01,2,     1.92,2,    5.589,2,    2.811,2,    0.393,2,    -1.24,2,    69.30,2,  -1.4551
  32PZ20020819,   CBL,    94,  1,     13,     13,2,20020913,2116, 77.2633,-166.3383,  830,    156.6,  -1.1716,  33.7971,2,  33.8279,2,    266.3,2,    256.4,2,    34.20,2,    15.50,2,     0.01,2,     1.71,2,    5.184,2,    2.560,2,    0.349,2,    -0.97,2,    60.60,2,  -1.1755
  32PZ20020819,   CBL,    94,  1,     12,     12,2,20020913,2116, 77.2633,-166.3383,  830,    176.5,  -0.9449,  34.1862,2,  34.2152,2,    250.6,2,    250.9,2,    23.30,2,    13.70,2,     0.01,2,     1.29,2,    5.531,2,    2.637,2,    0.343,2,    -0.36,2,    51.20,2,  -0.9498
  32PZ20020819,   CBL,    94,  1,     11,     11,2,20020913,2116, 77.2633,-166.3383,  830,    211.6,  -0.2479,  34.4835,2,  34.4901,2,    266.1,2,    267.5,2,    14.40,2,    12.60,2,     0.01,2,     0.99,2,    5.569,6,    2.599,6,    0.325,6,  -999.00,9,  -999.00,9,  -0.2552
  32PZ20020819,   CBL,    94,  1,     10,     10,2,20020913,2116, 77.2633,-166.3383,  830,    242.8,   0.3990,  34.6547,2,  34.6629,2,    274.4,2,    274.9,2,    11.80,2,    12.90,2,     0.01,2,     0.94,2,    5.640,2,    2.600,2,    0.355,2,  -999.00,9,  -999.00,9,   0.3891
  32PZ20020819,   CBL,    94,  1,      9,      9,2,20020913,2116, 77.2633,-166.3383,  830,    282.3,   0.7497,  34.7472,2,  34.7521,2,    282.6,2,    283.5,2,     9.30,2,    13.00,2,     0.01,2,     0.90,2,    5.353,2,    2.542,2,    0.345,2,  -999.00,9,  -999.00,9,   0.7372
  32PZ20020819,   CBL,    94,  1,      8,      8,2,20020913,2116, 77.2633,-166.3383,  830,    330.7,   0.9934,  34.8239,2,  34.8258,2,    291.3,2,    290.9,2,     7.90,2,    12.90,2,     0.01,2,     0.88,2,    5.208,2,    2.436,2,    0.337,2,     0.08,2,    42.10,2,   0.9779
  32PZ20020819,   CBL,    94,  1,      7,      7,2,20020913,2116, 77.2633,-166.3383,  830,    386.4,   0.9114,  34.8416,2,  34.8411,2,    293.9,2,    293.4,2,     7.90,2,    12.90,2,     0.01,2,     0.88,2,    5.175,2,    2.380,2,    0.347,2,     0.19,2,    41.80,2,   0.8934
  32PZ20020819,   CBL,    94,  1,      6,      6,2,20020913,2116, 77.2633,-166.3383,  830,    447.3,   0.8069,  34.8479,2,  34.8472,2,    295.3,2,    295.4,2,     7.80,2,    12.90,2,     0.01,2,     0.88,2,    5.119,2,    2.394,2,    0.307,2,  -999.00,9,  -999.00,9,   0.7862
  32PZ20020819,   CBL,    94,  1,      5,      5,2,20020913,2116, 77.2633,-166.3383,  830,    508.4,   0.6459,  34.8541,2,  34.8534,2,    296.6,2,    296.6,2,     8.00,2,    12.90,2,     0.01,2,     0.88,2,    4.920,2,    2.310,2,    0.299,2,  -999.00,9,  -999.00,9,   0.6228
  32PZ20020819,   CBL,    94,  1,      4,      4,2,20020913,2116, 77.2633,-166.3383,  830,    607.3,   0.4770,  34.8579,2,  34.8573,2,    296.8,2,    297.1,2,     8.20,2,    12.90,2,     0.01,2,     0.89,2,    4.721,2,    2.204,2,    0.277,2,  -999.00,9,  -999.00,9,   0.4497
  32PZ20020819,   CBL,    94,  1,      3,      3,2,20020913,2116, 77.2633,-166.3383,  830,    707.1,   0.3926,  34.8597,2,  34.8592,2,    296.4,2,    296.7,2,     8.50,2,    13.10,2,     0.01,2,     0.89,2,    4.530,2,    2.132,2,    0.258,2,  -999.00,9,  -999.00,9,   0.3606
  32PZ20020819,   CBL,    94,  1,      2,      2,2,20020913,2116, 77.2633,-166.3383,  830,    790.6,   0.3500,  34.8610,2,  34.8604,2,    297.7,2,    298.0,2,     8.40,2,    13.00,2,     0.01,2,     0.90,2,    4.499,2,    2.136,2,    0.271,2,  -999.00,9,  -999.00,9,   0.3140
  32PZ20020819,   CBL,    94,  1,      1,      1,2,20020913,2116, 77.2633,-166.3383,  830,    809.9,   0.3311,  34.8613,2,  34.8610,2,    297.7,2,    297.5,2,     8.50,2,    13.00,2,     0.01,2,     0.90,2,    4.567,2,    2.167,2,    0.265,2,  -999.00,9,  -999.00,9,   0.2942