BOTTLE,20220815CCHSIOAMB
EXPOCODE,SECT_ID,STNNBR,CASTNO,SAMPNO,BTLNBR,BTLNBR_FLAG_W,DATE,TIME,LATITUDE,LONGITUDE,DEPTH,CTDPRS,CTDTMP,CTDSAL,CTDSAL_FLAG_W,SALNTY,SALNTY_FLAG_W,CTDOXY,CTDOXY_FLAG_W,OXYGEN,OXYGEN_FLAG_W,SILCAT,SILCAT_FLAG_W,NITRAT,NITRAT_FLAG_W,NITRIT,NITRIT_FLAG_W,PHSPHT,PHSPHT_FLAG_W,CFC-11,CFC-11_FLAG_W,CFC-12,CFC-12_FLAG_W,CFC113,CFC113_FLAG_W,DELO18,DELO18_FLAG_W,BARIUM,BARIUM_FLAG_W,THETA
,,,,,,,,,,,METERS,DBAR,ITS-90,PSS-78,,PSS-78,,UMOL/KG,,UMOL/KG,,UMOL/KG,,UMOL/KG,,UMOL/KG,,UMOL/KG,,PMOL/KG,,PMOL/KG,,PMOL/KG,,/MILLE,,NMOL/KG,,DEG C
  32PZ20020819,   CBL,    13,  1,     25,     25,2,20020827,0758, 76.2618, 175.6047,  419,      1.5,  -1.4772,  29.0503,2,  29.0563,2,    373.6,2,    376.7,2,     3.90,2,     0.00,2,     0.00,2,     0.67,2, -999.000,9, -999.000,9, -999.000,9,  -999.00,9,  -999.00,9,  -1.4772
  32PZ20020819,   CBL,    13,  1,     24,     24,2,20020827,0758, 76.2618, 175.6047,  419,      8.3,  -1.4648,  29.0522,2,  29.1239,2,    375.6,2,    375.8,2,     3.90,2,     0.00,2,     0.00,2,     0.68,2,    7.206,2,    3.638,2,    0.666,2,    -2.11,2,    54.70,2,  -1.4649
  32PZ20020819,   CBL,    13,  1,     23,     23,2,20020827,0758, 76.2618, 175.6047,  419,     23.0,  -1.4006,  30.4991,2,  30.5660,2,    379.3,2,    375.3,2,     4.50,2,     0.30,2,     0.02,2,     0.75,2, -999.000,9, -999.000,9, -999.000,9,    -1.73,2,    55.60,2,  -1.4010
  32PZ20020819,   CBL,    13,  1,     22,     22,2,20020827,0758, 76.2618, 175.6047,  419,     37.9,  -1.5526,  31.1242,2,  31.3034,2,    368.2,2,    350.4,2,     6.80,2,     2.30,2,     0.13,2,     0.93,2, -999.000,9, -999.000,9, -999.000,9,    -1.72,2,    55.60,2,  -1.5532
  32PZ20020819,   CBL,    13,  1,     21,     21,2,20020827,0758, 76.2618, 175.6047,  419,     52.5,  -1.5765,  31.7231,2,  31.7416,2,    337.8,2,    325.7,2,     9.40,2,     4.60,2,     0.16,2,     1.07,2,    6.874,6,    3.517,6,    0.631,6,    -1.56,2,    57.00,2,  -1.5774
  32PZ20020819,   CBL,    13,  1,     20,     20,2,20020827,0758, 76.2618, 175.6047,  419,     67.4,  -1.1768,  32.0916,2,  32.1443,2,    304.0,2,    286.5,2,    18.50,2,     9.20,2,     0.01,2,     1.39,2, -999.000,9, -999.000,9, -999.000,9,  -999.00,9,  -999.00,9,  -1.1782
  32PZ20020819,   CBL,    13,  1,     19,     19,2,20020827,0758, 76.2618, 175.6047,  419,     77.5,  -0.7502,  32.3890,2,  32.4156,2,    270.2,2,    239.7,2,    34.90,2,    13.70,2,     0.01,2,     1.89,2,    6.380,2,    3.386,2,    0.577,2,    -1.31,2,    67.70,2,  -0.7521
  32PZ20020819,   CBL,    13,  1,     17,     17,2,20020827,0758, 76.2618, 175.6047,  419,     87.0,  -0.9452,  32.6510,2,  32.7024,2,    215.7,2,    194.6,2,    52.90,2,    16.90,2,     0.01,2,     2.30,2,    6.227,2,    3.427,2,    0.550,2,    -1.35,2,    74.60,2,  -0.9473
  32PZ20020819,   CBL,    13,  1,     18,     18,2,20020827,0758, 76.2618, 175.6047,  419,     87.0,  -1.0043,  32.6507,2,  32.6865,2,    215.7,2,    194.0,2,  -999.00,9,  -999.00,9,  -999.00,9,  -999.00,9, -999.000,9, -999.000,9, -999.000,9,  -999.00,9,  -999.00,9,  -1.0063
  32PZ20020819,   CBL,    13,  1,     15,     15,2,20020827,0758, 76.2618, 175.6047,  419,     97.3,  -1.1225,  32.8109,2,  32.8808,2,    188.1,2,    211.8,2,    50.60,2,    17.00,2,     0.01,2,     2.31,2,    6.152,2,    3.311,2,    0.525,2,    -1.29,2,    72.60,2,  -1.1247
  32PZ20020819,   CBL,    13,  1,     16,     16,2,20020827,0758, 76.2618, 175.6047,  419,     97.3,  -1.1147,  32.8105,2,  32.8553,2,    188.0,2,    213.9,2,  -999.00,9,  -999.00,9,  -999.00,9,  -999.00,9, -999.000,9, -999.000,9, -999.000,9,  -999.00,9,  -999.00,9,  -1.1169
  32PZ20020819,   CBL,    13,  1,     13,     13,2,20020827,0758, 76.2618, 175.6047,  419,    106.9,  -1.1065,  33.0654,2,  33.2752,2,    213.3,2,    214.9,2,    52.00,2,    16.40,2,     0.01,2,     2.17,2,    5.735,2,    3.102,2,    0.453,2,  -999.00,9,  -999.00,9,  -1.1091
  32PZ20020819,   CBL,    13,  1,     14,     14,2,20020827,0758, 76.2618, 175.6047,  419,    106.9,  -1.1106,  33.0676,2,  33.2022,2,    213.2,2,    212.5,2,  -999.00,9,  -999.00,9,  -999.00,9,  -999.00,9, -999.000,9, -999.000,9, -999.000,9,  -999.00,9,  -999.00,9,  -1.1131
  32PZ20020819,   CBL,    13,  1,     11,     11,2,20020827,0758, 76.2618, 175.6047,  419,    116.6,  -1.1642,  33.6500,2,  33.7241,2,    212.1,2,    205.5,2,    49.40,2,    16.40,2,     0.02,2,     2.06,2, -999.000,9, -999.000,9, -999.000,9,  -999.00,9,  -999.00,9,  -1.1670
  32PZ20020819,   CBL,    13,  1,     12,     12,2,20020827,0758, 76.2618, 175.6047,  419,    116.6,  -1.1644,  33.6505,2,  33.7278,2,    212.0,2,    204.6,2,  -999.00,9,  -999.00,9,  -999.00,9,  -999.00,9, -999.000,9, -999.000,9, -999.000,9,  -999.00,9,  -999.00,9,  -1.1673
  32PZ20020819,   CBL,    13,  1,      9,      9,2,20020827,0758, 76.2618, 175.6047,  419,    127.0,  -0.9940,  33.9266,2,  34.0697,2,    204.5,2,    194.3,2,    43.50,2,    16.10,2,     0.02,2,     1.83,2,    5.496,2,    2.760,2,    0.331,2,    -0.55,2,    58.20,2,  -0.9974
  32PZ20020819,   CBL,    13,  1,     10,     10,2,20020827,0758, 76.2618, 175.6047,  419,    127.0,  -0.9940,  33.9268,2,  34.0297,2,    204.5,2,    191.7,2,  -999.00,9,  -999.00,9,  -999.00,9,  -999.00,9, -999.000,9, -999.000,9, -999.000,9,  -999.00,9,  -999.00,9,  -0.9974
  32PZ20020819,   CBL,    13,  1,      8,      8,2,20020827,0758, 76.2618, 175.6047,  419,    140.6,  -0.7846,  34.2691,2,  34.2692,2,    192.9,2,   -999.0,9,    30.40,2,    14.60,2,     0.02,2,     1.43,2, -999.000,9, -999.000,9, -999.000,9,  -999.00,9,  -999.00,9,  -0.7887
  32PZ20020819,   CBL,    13,  1,      7,      7,2,20020827,0758, 76.2618, 175.6047,  419,    156.4,  -0.5226,  34.4096,2,  34.4136,2,    238.2,2,    264.5,2,    14.50,2,    12.60,2,     0.00,2,     1.01,2,    6.108,2,    2.845,2,    0.368,2,  -999.00,9,  -999.00,9,  -0.5276
  32PZ20020819,   CBL,    13,  1,      6,      6,2,20020827,0758, 76.2618, 175.6047,  419,    186.0,   0.0716,  34.5707,2,  34.5709,2,    264.6,2,    265.4,2,    13.90,2,    13.10,2,     0.00,2,     0.97,2, -999.000,9, -999.000,9, -999.000,9,  -999.00,9,  -999.00,9,   0.0647
  32PZ20020819,   CBL,    13,  1,      5,      5,2,20020827,0758, 76.2618, 175.6047,  419,    224.9,   0.5992,  34.6962,2,  34.7051,2,    275.5,2,    277.2,2,    10.60,2,    13.10,2,     0.00,2,     0.93,2,    6.119,2,    2.893,2,    0.379,2,  -999.00,9,  -999.00,9,   0.5897
  32PZ20020819,   CBL,    13,  1,      4,      4,2,20020827,0758, 76.2618, 175.6047,  419,    278.8,   1.0140,  34.7917,2,  34.7945,2,    285.9,2,    285.3,2,     9.10,2,    13.00,2,     0.00,2,     0.91,2,    5.630,2,    2.893,2,    0.377,2,  -999.00,9,  -999.00,9,   1.0010
  32PZ20020819,   CBL,    13,  1,      3,      3,2,20020827,0758, 76.2618, 175.6047,  419,    333.0,   1.1341,  34.8309,2,  34.8311,2,    288.8,2,    288.4,2,     9.00,2,    13.10,2,     0.00,2,     0.91,2,    5.563,2,    2.671,2,    0.372,2,     0.20,2,    42.60,2,   1.1181
  32PZ20020819,   CBL,    13,  1,      2,      2,2,20020827,0758, 76.2618, 175.6047,  419,    372.5,   1.0469,  34.8498,2,  34.8517,2,    288.7,2,    287.8,2,    10.50,2,    13.20,2,     0.00,2,     0.93,2,    5.525,2,    2.720,2,    0.364,2,  -999.00,9,  -999.00,9,   1.0292
  32PZ20020819,   CBL,    13,  1,      1,      1,2,20020827,0758, 76.2618, 175.6047,  419,    409.7,   0.7905,  34.8594,2,  34.8588,2,    288.3,2,    288.7,2,    11.90,2,    13.40,2,     0.01,2,     0.95,2,    5.459,2,    2.688,2,    0.356,2,  -999.00,9,  -999.00,9,   0.7717
  32PZ20020819,   CBL,    14,  1,     29,     29,2,20020827,1237, 76.5240, 175.8637,  770,      1.6,  -1.3293,  28.8999,2,  28.8996,2,    374.8,2,    377.2,2,     5.10,2,     0.10,2,     0.00,2,     0.71,2, -999.000,9, -999.000,9, -999.000,9,  -999.00,9,  -999.00,9,  -1.3293
  32PZ20020819,   CBL,    14,  1,     28,     28,2,20020827,1237, 76.5240, 175.8637,  770,     14.3,  -1.3288,  28.9012,2,  29.0000,2,    378.0,2,    377.4,2,     5.00,2,     0.10,2,     0.00,2,     0.71,2,    7.392,2,    3.764,2,    0.694,2,    -2.24,2,    54.70,2,  -1.3290
  32PZ20020819,   CBL,    14,  1,     27,     27,2,20020827,1237, 76.5240, 175.8637,  770,     29.6,  -1.4903,  30.9655,2,  31.0265,2,    377.5,2,    363.8,2,     5.20,2,     1.20,2,     0.10,2,     0.82,2,    7.002,2,    3.601,2,    0.650,2,    -1.81,2,    54.10,2,  -1.4908
  32PZ20020819,   CBL,    14,  1,     26,     26,2,20020827,1237, 76.5240, 175.8637,  770,     48.8,  -1.6544,  31.6526,2,  31.6607,2,    344.5,2,    337.9,2,     6.50,2,     3.00,2,     0.14,2,     0.95,2, -999.000,9, -999.000,9, -999.000,9,    -1.61,2,    54.00,2,  -1.6552
  32PZ20020819,   CBL,    14,  1,     25,     25,2,20020827,1237, 76.5240, 175.8637,  770,     63.8,  -1.4821,  31.9200,2,  31.9416,2,    321.5,2,    309.2,2,    10.70,2,     6.60,2,     0.11,2,     1.12,2,    6.693,2,    3.459,2,    0.609,2,    -1.41,2,    55.20,2,  -1.4832
  32PZ20020819,   CBL,    14,  1,     24,     24,2,20020827,1237, 76.5240, 175.8637,  770,     73.8,  -0.8671,  32.2264,2,  32.2633,2,    300.8,2,    276.2,2,    20.50,2,    10.40,2,     0.01,2,     1.49,2, -999.000,9, -999.000,9, -999.000,9,  -999.00,9,  -999.00,9,  -0.8689
  32PZ20020819,   CBL,    14,  1,     23,     23,2,20020827,1237, 76.5240, 175.8637,  770,     83.9,  -0.7239,  32.5025,2,  32.5346,2,    258.5,2,    215.0,2,    43.80,2,    15.40,2,     0.01,2,     2.09,2,    6.281,2,    3.439,2,    0.566,2,    -1.48,2,    69.60,2,  -0.7261
  32PZ20020819,   CBL,    14,  1,     22,     22,2,20020827,1237, 76.5240, 175.8637,  770,     93.5,  -0.3527,  32.7667,2,  32.7929,2,    205.4,2,    193.3,2,    49.80,2,    19.10,2,     0.01,2,     2.44,2, -999.000,9, -999.000,9, -999.000,9,  -999.00,9,  -999.00,9,  -0.3555
  32PZ20020819,   CBL,    14,  1,     21,     21,2,20020827,1237, 76.5240, 175.8637,  770,    103.6,  -1.2169,  32.9445,2,  32.9875,2,    226.5,2,    223.0,2,    50.60,2,    16.30,2,     0.01,2,     2.23,2, -999.000,9, -999.000,9, -999.000,9,    -1.28,2,    71.10,2,  -1.2192
  32PZ20020819,   CBL,    14,  1,     20,     20,2,20020827,1237, 76.5240, 175.8637,  770,    113.2,  -1.3858,  33.3167,2,  33.4439,2,    223.9,2,    223.6,2,    48.50,2,    16.00,2,     0.01,2,     2.10,2,    6.010,2,    3.021,2,    0.413,2,    -1.19,2,    67.00,2,  -1.3883
  32PZ20020819,   CBL,    14,  1,     19,     19,2,20020827,1237, 76.5240, 175.8637,  770,    123.3,  -1.0752,  33.8386,2,  33.8747,2,    218.1,2,    188.8,2,    48.80,2,    16.90,2,     0.01,2,     2.03,2, -999.000,9, -999.000,9, -999.000,9,  -999.00,9,  -999.00,9,  -1.0784
  32PZ20020819,   CBL,    14,  1,     16,     16,2,20020827,1237, 76.5240, 175.8637,  770,    138.1,  -0.8031,  34.1928,2,  34.2193,2,    189.1,2,    209.7,2,    35.10,2,    15.10,2,     0.01,2,     1.57,2,    5.688,2,    2.589,2,    0.319,2,    -0.38,2,    52.00,2,  -0.8071
  32PZ20020819,   CBL,    14,  1,     17,     17,2,20020827,1237, 76.5240, 175.8637,  770,    138.1,  -0.8029,  34.1932,2,  34.2364,3,    189.0,2,   -999.0,9,  -999.00,9,  -999.00,9,  -999.00,9,  -999.00,9, -999.000,9, -999.000,9, -999.000,9,  -999.00,9,  -999.00,9,  -0.8069
  32PZ20020819,   CBL,    14,  1,     18,     18,2,20020827,1237, 76.5240, 175.8637,  770,    138.1,  -0.8028,  34.1935,2,  34.2150,2,    189.0,2,   -999.0,9,  -999.00,9,  -999.00,9,  -999.00,9,  -999.00,9, -999.000,9, -999.000,9, -999.000,9,  -999.00,9,  -999.00,9,  -0.8068
  32PZ20020819,   CBL,    14,  1,     15,     15,3,20020827,1237, 76.5240, 175.8637,  770,    152.8,  -0.5846,  34.3839,2,  34.4011,2,    230.6,2,    255.6,2,    17.30,2,    13.00,2,     0.01,2,     1.07,2, -999.000,9, -999.000,9, -999.000,9,  -999.00,9,  -999.00,9,  -0.5894
  32PZ20020819,   CBL,    14,  1,     14,     14,2,20020827,1237, 76.5240, 175.8637,  770,    167.7,  -0.2870,  34.4698,2,  34.4781,2,    256.3,2,    271.5,2,    12.50,2,    12.40,2,     0.00,2,     0.95,2,    6.114,2,    2.884,2,    0.383,2,  -999.00,9,  -999.00,9,  -0.2927
  32PZ20020819,   CBL,    14,  1,     13,     13,3,20020827,1237, 76.5240, 175.8637,  770,    192.1,   0.1779,  34.5841,2,  34.5933,2,    280.8,2,    285.5,2,     8.80,2,    12.10,2,     0.00,2,     0.88,2, -999.000,9, -999.000,9, -999.000,9,  -999.00,9,  -999.00,9,   0.1705
  32PZ20020819,   CBL,    14,  1,     12,     12,2,20020827,1237, 76.5240, 175.8637,  770,    231.7,   0.7357,  34.7356,2,  34.7446,2,    293.8,2,    294.8,2,     6.60,2,    12.20,2,     0.00,2,     0.86,2, -999.000,9, -999.000,9, -999.000,9,  -999.00,9,  -999.00,9,   0.7256
  32PZ20020819,   CBL,    14,  1,     11,     11,2,20020827,1237, 76.5240, 175.8637,  770,    289.6,   0.9504,  34.7991,2,  34.8042,2,    298.6,2,    298.1,2,     6.30,2,    12.20,2,     0.00,2,     0.86,2,    5.573,2,    2.710,2,    0.386,2,  -999.00,9,  -999.00,9,   0.9371
  32PZ20020819,   CBL,    14,  1,      8,      8,2,20020827,1237, 76.5240, 175.8637,  770,    353.5,   1.1346,  34.8453,2,  34.8444,2,    299.4,2,    298.5,2,     6.40,2,    12.60,2,     0.00,2,     0.87,2,    5.467,2,    2.594,2,    0.364,2,     0.16,2,    41.00,2,   1.1176
  32PZ20020819,   CBL,    14,  1,      9,      9,2,20020827,1237, 76.5240, 175.8637,  770,    353.5,   1.1350,  34.8455,2,  34.8450,2,    299.4,2,   -999.0,9,  -999.00,9,  -999.00,9,  -999.00,9,  -999.00,9, -999.000,9, -999.000,9, -999.000,9,  -999.00,9,  -999.00,9,   1.1180
  32PZ20020819,   CBL,    14,  1,     10,     10,2,20020827,1237, 76.5240, 175.8637,  770,    353.6,   1.1356,  34.8454,2,  34.8454,2,    299.4,2,   -999.0,9,  -999.00,9,  -999.00,9,  -999.00,9,  -999.00,9, -999.000,9, -999.000,9, -999.000,9,  -999.00,9,  -999.00,9,   1.1186
  32PZ20020819,   CBL,    14,  1,      7,      7,2,20020827,1237, 76.5240, 175.8637,  770,    417.7,   0.9990,  34.8521,2,  34.8516,2,    302.1,2,    301.9,2,     6.30,2,    12.50,2,     0.00,2,     0.87,2,    5.560,2,    2.665,2,    0.387,2,  -999.00,9,  -999.00,9,   0.9791
  32PZ20020819,   CBL,    14,  1,      6,      6,2,20020827,1237, 76.5240, 175.8637,  770,    495.8,   0.8248,  34.8586,2,  34.8595,2,    303.0,2,    302.5,2,     6.20,2,    12.50,2,     0.00,2,     0.87,2, -999.000,9, -999.000,9, -999.000,9,  -999.00,9,  -999.00,9,   0.8015
  32PZ20020819,   CBL,    14,  1,      5,      5,2,20020827,1237, 76.5240, 175.8637,  770,    594.7,   0.5894,  34.8606,2,  34.8614,2,    303.0,2,    303.0,2,     6.60,2,    12.60,2,     0.00,2,     0.88,2,    5.377,2,    2.582,2,    0.366,2,  -999.00,9,  -999.00,9,   0.5621
  32PZ20020819,   CBL,    14,  1,      2,      2,2,20020827,1237, 76.5240, 175.8637,  770,    692.9,   0.2827,  34.8588,2,  34.8586,2,    303.5,2,    304.0,2,     7.00,2,    12.50,2,     0.00,2,     0.89,2,    5.398,2,    2.613,2,    0.375,2,     0.36,2,    41.00,2,   0.2521
  32PZ20020819,   CBL,    14,  1,      3,      3,2,20020827,1237, 76.5240, 175.8637,  770,    692.9,   0.2813,  34.8587,2,  34.8596,2,    303.5,2,   -999.0,9,  -999.00,9,  -999.00,9,  -999.00,9,  -999.00,9, -999.000,9, -999.000,9, -999.000,9,  -999.00,9,  -999.00,9,   0.2507
  32PZ20020819,   CBL,    14,  1,      4,      4,2,20020827,1237, 76.5240, 175.8637,  770,    692.9,   0.2809,  34.8588,2,  34.8598,2,    303.4,2,   -999.0,9,  -999.00,9,  -999.00,9,  -999.00,9,  -999.00,9, -999.000,9, -999.000,9, -999.000,9,  -999.00,9,  -999.00,9,   0.2503
  32PZ20020819,   CBL,    14,  1,      1,      1,2,20020827,1237, 76.5240, 175.8637,  770,    748.9,   0.0876,  34.8603,2,  34.8605,2,    301.5,2,    301.6,2,     8.90,2,    12.70,2,     0.01,2,     0.90,2,    5.395,2,    2.609,2,    0.364,2,  -999.00,9,  -999.00,9,   0.0554