BOTTLE,20220815CCHSIOAMB
EXPOCODE,SECT_ID,STNNBR,CASTNO,SAMPNO,BTLNBR,BTLNBR_FLAG_W,DATE,TIME,LATITUDE,LONGITUDE,DEPTH,CTDPRS,CTDTMP,CTDSAL,CTDSAL_FLAG_W,SALNTY,SALNTY_FLAG_W,CTDOXY,CTDOXY_FLAG_W,OXYGEN,OXYGEN_FLAG_W,SILCAT,SILCAT_FLAG_W,NITRAT,NITRAT_FLAG_W,NITRIT,NITRIT_FLAG_W,PHSPHT,PHSPHT_FLAG_W,CFC-11,CFC-11_FLAG_W,CFC-12,CFC-12_FLAG_W,CFC113,CFC113_FLAG_W,DELO18,DELO18_FLAG_W,BARIUM,BARIUM_FLAG_W,THETA
,,,,,,,,,,,METERS,DBAR,ITS-90,PSS-78,,PSS-78,,UMOL/KG,,UMOL/KG,,UMOL/KG,,UMOL/KG,,UMOL/KG,,UMOL/KG,,PMOL/KG,,PMOL/KG,,PMOL/KG,,/MILLE,,NMOL/KG,,DEG C
  32PZ20020819,   CBL,    23,  1,     30,     30,2,20020830,0845, 79.7953, 175.7962, 2333,      1.7,  -1.5000,  30.1361,2,  30.1364,2,    385.2,2,    388.4,2,     6.30,2,     0.00,2,     0.00,2,     0.71,2, -999.000,9, -999.000,9, -999.000,9,  -999.00,9,  -999.00,9,  -1.5000
  32PZ20020819,   CBL,    23,  1,     29,     29,2,20020830,0845, 79.7953, 175.7962, 2333,     12.9,  -1.5395,  30.1376,2,  30.1416,2,    388.0,2,    387.1,2,     6.30,2,     0.00,2,     0.00,2,     0.72,2,    7.673,6,    3.879,6,    0.716,6,    -3.18,2,    57.40,2,  -1.5397
  32PZ20020819,   CBL,    23,  1,     28,     28,2,20020830,0845, 79.7953, 175.7962, 2333,     32.8,  -1.4880,  30.5202,2,  31.3094,3,    386.4,2,    374.6,2,     8.80,2,     1.10,2,     0.07,2,     0.92,2, -999.000,9, -999.000,9, -999.000,9,    -2.69,2,    57.50,2,  -1.4885
  32PZ20020819,   CBL,    23,  1,     27,     27,2,20020830,0845, 79.7953, 175.7962, 2333,     52.4,  -1.5844,  32.3743,2,  33.0105,3,    336.1,2,    314.8,2,    13.70,2,     6.90,2,     0.03,2,     1.04,2, -999.000,9, -999.000,9, -999.000,9,    -1.69,2,    54.50,2,  -1.5853
  32PZ20020819,   CBL,    23,  1,     26,     26,2,20020830,0845, 79.7953, 175.7962, 2333,     62.0,  -1.5281,  33.0676,2,  33.2013,2,    303.4,2,    299.5,2,    13.70,2,     8.50,2,     0.03,2,     0.95,2,    7.115,2,    3.493,2,    0.533,2,    -1.14,2,    50.70,2,  -1.5293
  32PZ20020819,   CBL,    23,  1,     25,     25,2,20020830,0845, 79.7953, 175.7962, 2333,     71.7,  -1.5034,  33.5445,2,  33.6491,2,    300.3,2,    298.5,2,    12.30,2,     9.00,2,     0.02,2,     0.88,2, -999.000,9, -999.000,9, -999.000,9,    -0.74,2,    48.50,2,  -1.5049
  32PZ20020819,   CBL,    23,  1,     24,     24,2,20020830,0845, 79.7953, 175.7962, 2333,     82.1,  -1.5329,  33.8321,2,  33.8722,2,    305.2,2,    312.9,2,     7.30,2,     8.20,2,     0.02,2,     0.72,2, -999.000,9, -999.000,9, -999.000,9,  -999.00,9,  -999.00,9,  -1.5346
  32PZ20020819,   CBL,    23,  1,     23,     23,2,20020830,0845, 79.7953, 175.7962, 2333,     91.5,  -1.5434,  33.9655,2,  34.0137,2,    313.1,2,    313.8,2,     6.40,2,     8.30,2,     0.01,2,     0.70,2, -999.000,9, -999.000,9, -999.000,9,  -999.00,9,  -999.00,9,  -1.5454
  32PZ20020819,   CBL,    23,  1,     22,     22,2,20020830,0845, 79.7953, 175.7962, 2333,    102.0,  -1.5061,  34.0835,2,  34.1017,2,    314.1,2,    314.1,2,     5.90,2,     8.40,2,     0.01,2,     0.70,2, -999.000,9, -999.000,9, -999.000,9,    -0.44,2,    44.00,2,  -1.5083
  32PZ20020819,   CBL,    23,  1,     21,     21,2,20020830,0845, 79.7953, 175.7962, 2333,    111.6,  -1.4615,  34.1584,2,  34.1707,2,    313.8,2,    314.8,2,     5.70,2,     8.60,2,     0.01,2,     0.70,2, -999.000,9, -999.000,9, -999.000,9,  -999.00,9,  -999.00,9,  -1.4640
  32PZ20020819,   CBL,    23,  1,     20,     20,2,20020830,0845, 79.7953, 175.7962, 2333,    121.6,  -1.3820,  34.2230,2,  34.2405,2,    313.0,2,    313.4,2,     5.60,2,     8.70,2,     0.01,2,     0.71,2,    6.854,2,    3.515,2,    0.573,2,    -0.29,2,    43.70,2,  -1.3849
  32PZ20020819,   CBL,    23,  1,     19,     19,9,20020830,0845, 79.7953, 175.7962, 2333,    136.6,  -1.1979,  34.3021,2,-999.0000,9,    314.2,2,   -999.0,9,  -999.00,9,  -999.00,9,  -999.00,9,  -999.00,9, -999.000,9, -999.000,9, -999.000,9,  -999.00,9,  -999.00,9,  -1.2014
  32PZ20020819,   CBL,    23,  1,     18,     18,2,20020830,0845, 79.7953, 175.7962, 2333,    161.1,  -0.7662,  34.4234,2,  34.4158,2,    311.1,2,    310.2,2,     5.30,2,     9.60,2,     0.01,2,     0.75,2,    6.644,2,    3.265,2,    0.478,2,  -999.00,9,  -999.00,9,  -0.7710
  32PZ20020819,   CBL,    23,  1,     17,     17,2,20020830,0845, 79.7953, 175.7962, 2333,    220.1,   0.1974,  34.6452,2,  34.6440,2,    305.8,2,    305.0,2,     5.40,2,    10.90,2,     0.01,2,     0.80,2, -999.000,9, -999.000,9, -999.000,9,  -999.00,9,  -999.00,9,   0.1889
  32PZ20020819,   CBL,    23,  1,     16,     16,2,20020830,0845, 79.7953, 175.7962, 2333,    269.3,   0.6727,  34.7569,2,  34.7560,2,    302.6,2,    302.0,2,     5.70,2,    11.70,2,     0.01,2,     0.84,2,    5.838,2,    2.873,2,    0.423,2,  -999.00,9,  -999.00,9,   0.6610
  32PZ20020819,   CBL,    23,  1,     15,     15,2,20020830,0845, 79.7953, 175.7962, 2333,    324.3,   0.9320,  34.8095,2,  34.8138,2,    302.1,2,    303.3,2,     5.70,2,    12.00,2,     0.01,2,     0.85,2, -999.000,9, -999.000,9, -999.000,9,  -999.00,9,  -999.00,9,   0.9170
  32PZ20020819,   CBL,    23,  1,     14,     14,2,20020830,0845, 79.7953, 175.7962, 2333,    373.8,   1.0579,  34.8405,2,  34.8405,2,    302.9,2,    302.2,2,     5.90,2,    12.10,2,     0.01,2,     0.86,2,    5.552,2,    2.710,2,    0.400,2,     0.26,2,    42.10,2,   1.0401
  32PZ20020819,   CBL,    23,  1,     13,     13,2,20020830,0845, 79.7953, 175.7962, 2333,    423.7,   0.9939,  34.8511,2,  34.8515,2,    302.9,2,    302.7,2,     5.90,2,    12.20,2,     0.01,2,     0.88,2,    5.628,2,    2.745,2,    0.399,2,  -999.00,9,  -999.00,9,   0.9737
  32PZ20020819,   CBL,    23,  1,     12,     12,2,20020830,0845, 79.7953, 175.7962, 2333,    497.5,   0.8034,  34.8546,2,  34.8548,2,    303.6,2,    304.3,2,     6.00,2,    12.20,2,     0.01,2,     0.87,2,    5.572,2,    2.716,2,    0.397,2,  -999.00,9,  -999.00,9,   0.7801
  32PZ20020819,   CBL,    23,  1,     11,     11,2,20020830,0845, 79.7953, 175.7962, 2333,    596.4,   0.5842,  34.8593,2,  34.8596,2,    304.1,2,    304.3,2,     6.20,2,    12.30,2,     0.01,2,     0.87,2,    5.458,2,    2.643,2,    0.385,2,  -999.00,9,  -999.00,9,   0.5569
  32PZ20020819,   CBL,    23,  1,     10,     10,2,20020830,0845, 79.7953, 175.7962, 2333,    742.8,   0.2789,  34.8606,2,  34.8603,2,    304.4,2,    305.2,2,     6.40,2,    12.40,2,     0.01,2,     0.88,2,    5.355,2,    2.573,2,    0.372,2,     0.17,2,    42.80,2,   0.2458
  32PZ20020819,   CBL,    23,  1,      9,      9,2,20020830,0845, 79.7953, 175.7962, 2333,    887.2,   0.0280,  34.8649,2,  34.8650,2,    305.4,2,    305.3,2,     6.70,2,    12.50,2,     0.01,2,     0.89,2,    5.123,2,    2.446,2,    0.335,2,  -999.00,9,  -999.00,9,  -0.0109
  32PZ20020819,   CBL,    23,  1,      8,      8,2,20020830,0845, 79.7953, 175.7962, 2333,   1085.9,  -0.1886,  34.8754,2,  34.8758,2,    305.8,2,    305.6,2,     7.10,2,    12.70,2,     0.01,2,     0.91,2, -999.000,9, -999.000,9, -999.000,9,  -999.00,9,  -999.00,9,  -0.2362
  32PZ20020819,   CBL,    23,  1,      7,      7,2,20020830,0845, 79.7953, 175.7962, 2333,   1285.5,  -0.3519,  34.8886,2,  34.8890,2,    305.1,2,    304.5,2,     7.80,2,    13.00,2,     0.01,2,     0.93,2,    3.955,2,    1.904,2,    0.251,2,  -999.00,9,  -999.00,9,  -0.4088
  32PZ20020819,   CBL,    23,  1,      6,      6,2,20020830,0845, 79.7953, 175.7962, 2333,   1485.4,  -0.4411,  34.9055,2,  34.9053,2,    302.2,2,    301.6,2,     8.70,2,    13.50,2,     0.01,2,     0.96,2,    2.384,2,    1.170,2,    0.133,2,  -999.00,9,  -999.00,9,  -0.5085
  32PZ20020819,   CBL,    23,  1,      5,      5,2,20020830,0845, 79.7953, 175.7962, 2333,   1685.4,  -0.4708,  34.9260,2,  34.9265,2,    297.8,2,    296.3,2,    10.40,2,    14.20,2,     0.01,2,     1.01,2,    0.874,2,    0.435,2,    0.044,2,  -999.00,9,  -999.00,9,  -0.5498
  32PZ20020819,   CBL,    23,  1,      4,      4,2,20020830,0845, 79.7953, 175.7962, 2333,   1881.8,  -0.4199,  34.9454,2,  34.9450,2,    290.5,2,    290.2,2,    12.10,2,    14.60,2,     0.01,2,     1.04,2,    0.120,2,    0.075,2,    0.012,2,  -999.00,9,  -999.00,9,  -0.5122
  32PZ20020819,   CBL,    23,  1,      3,      3,2,20020830,0845, 79.7953, 175.7962, 2333,   2065.8,  -0.4086,  34.9510,2,  34.9538,2,    287.8,2,    287.9,2,    12.80,2,    14.70,2,     0.01,2,     1.06,2, -999.000,9, -999.000,9, -999.000,9,  -999.00,9,  -999.00,9,  -0.5134
  32PZ20020819,   CBL,    23,  1,      2,      2,2,20020830,0845, 79.7953, 175.7962, 2333,   2201.6,  -0.3896,  34.9538,2,  34.9534,2,    284.9,2,    285.3,2,    13.60,2,    15.00,2,     0.01,2,     1.07,2,    0.025,2,    0.034,2,    0.001,2,  -999.00,9,  -999.00,9,  -0.5041
  32PZ20020819,   CBL,    23,  1,      1,      1,2,20020830,0845, 79.7953, 175.7962, 2333,   2321.9,  -0.3810,  34.9538,2,  34.9540,2,    285.2,2,    285.0,2,    13.80,2,    15.00,2,     0.01,2,     1.07,2,    0.023,2,    0.031,2,    0.003,2,  -999.00,9,  -999.00,9,  -0.5043
  32PZ20020819,   CBL,    24,  1,     29,     29,2,20020830,1252, 79.7827, 177.1493, 1972,      1.6,  -1.4702,  30.0176,2,  30.0180,2,    371.8,2,    373.3,2,     9.90,2,     1.80,2,     0.06,2,     0.55,2, -999.000,9, -999.000,9, -999.000,9,  -999.00,9,  -999.00,9,  -1.4702
  32PZ20020819,   CBL,    24,  1,     28,     28,2,20020830,1252, 79.7827, 177.1493, 1972,     13.3,  -1.4766,  30.0169,2,  30.0220,2,    373.1,2,    373.3,2,     9.90,2,     1.80,2,     0.06,2,     0.56,2,    7.673,2,    3.881,2,    0.720,2,    -3.92,2,    60.30,2,  -1.4768
  32PZ20020819,   CBL,    24,  1,     27,     27,2,20020830,1252, 79.7827, 177.1493, 1972,     28.1,  -1.5166,  30.4342,2,  30.4968,2,    374.2,2,    375.3,2,     9.10,2,     1.40,2,     0.08,2,     0.80,2, -999.000,9, -999.000,9, -999.000,9,    -3.13,2,    58.20,2,  -1.5170
  32PZ20020819,   CBL,    24,  1,     26,     26,2,20020830,1252, 79.7827, 177.1493, 1972,     47.4,  -1.6929,  31.7349,2,  31.7490,2,    361.1,2,    356.4,2,    10.80,2,     3.70,2,     0.01,2,     1.19,2, -999.000,9, -999.000,9, -999.000,9,    -1.87,2,    56.40,2,  -1.6936
  32PZ20020819,   CBL,    24,  1,     25,     25,2,20020830,1252, 79.7827, 177.1493, 1972,     57.7,  -1.5896,  32.3489,2,  32.3955,2,    335.9,2,    313.8,2,    15.60,2,     6.90,2,     0.02,2,     1.17,2, -999.000,9, -999.000,9, -999.000,9,    -1.57,2,    55.70,2,  -1.5906
  32PZ20020819,   CBL,    24,  1,     24,     24,2,20020830,1252, 79.7827, 177.1493, 1972,     67.5,  -1.5477,  33.2238,2,  33.1323,2,    309.8,2,    302.7,2,    13.00,2,     8.20,2,     0.02,2,     0.92,2,    7.094,2,    3.527,2,    0.529,2,    -1.21,2,    51.50,2,  -1.5490
  32PZ20020819,   CBL,    24,  1,     23,     23,2,20020830,1252, 79.7827, 177.1493, 1972,     77.5,  -1.5446,  33.6999,2,  33.7038,2,    313.5,2,    312.0,2,     8.00,2,     8.00,2,     0.02,2,     0.72,2, -999.000,9, -999.000,9, -999.000,9,  -999.00,9,  -999.00,9,  -1.5462
  32PZ20020819,   CBL,    24,  1,     22,     22,2,20020830,1252, 79.7827, 177.1493, 1972,     87.1,  -1.5541,  33.8999,2,  33.9056,2,    314.6,2,    315.8,2,     6.70,2,     8.00,2,     0.02,2,     0.70,2, -999.000,9, -999.000,9, -999.000,9,  -999.00,9,  -999.00,9,  -1.5559
  32PZ20020819,   CBL,    24,  1,     21,     21,2,20020830,1252, 79.7827, 177.1493, 1972,     96.4,  -1.5366,  34.0108,2,  34.0131,2,    314.3,2,    315.2,2,     6.00,2,     8.10,2,     0.02,2,     0.69,2,    6.983,2,    3.467,2,    0.504,2,    -0.50,2,    45.30,2,  -1.5387
  32PZ20020819,   CBL,    24,  1,     20,     20,2,20020830,1252, 79.7827, 177.1493, 1972,    106.1,  -1.4996,  34.0854,2,  34.0929,2,    313.9,2,    314.1,2,     6.00,2,     8.40,2,     0.02,2,     0.70,2, -999.000,9, -999.000,9, -999.000,9,  -999.00,9,  -999.00,9,  -1.5019
  32PZ20020819,   CBL,    24,  1,     19,     19,2,20020830,1252, 79.7827, 177.1493, 1972,    116.1,  -1.4583,  34.1574,2,  34.1570,2,    313.3,2,    313.7,2,     5.80,2,     8.40,2,     0.02,2,     0.70,2, -999.000,9, -999.000,9, -999.000,9,    -0.41,2,    45.20,2,  -1.4609
  32PZ20020819,   CBL,    24,  1,     18,     18,2,20020830,1252, 79.7827, 177.1493, 1972,    125.1,  -1.3368,  34.2336,2,  34.2401,2,    313.0,2,    313.8,2,     5.70,2,     8.80,2,     0.02,2,     0.72,2,    6.844,2,    3.363,2,    0.501,2,  -999.00,9,  -999.00,9,  -1.3398
  32PZ20020819,   CBL,    24,  1,     17,     17,2,20020830,1252, 79.7827, 177.1493, 1972,    134.1,  -1.2707,  34.2743,2,  34.2742,2,    312.9,2,    313.1,2,     5.50,2,     8.90,2,     0.02,2,     0.72,2, -999.000,9, -999.000,9, -999.000,9,  -999.00,9,  -999.00,9,  -1.2740
  32PZ20020819,   CBL,    24,  1,     16,     16,2,20020830,1252, 79.7827, 177.1493, 1972,    162.8,  -0.8937,  34.4142,2,  34.4112,2,    309.6,2,    310.5,2,     5.40,2,     9.50,2,     0.02,2,     0.74,2, -999.000,9, -999.000,9, -999.000,9,  -999.00,9,  -999.00,9,  -0.8983
  32PZ20020819,   CBL,    24,  1,     15,     15,2,20020830,1252, 79.7827, 177.1493, 1972,    204.2,  -0.1573,  34.5793,2,  34.5720,2,    307.1,2,    307.4,2,     5.40,2,    10.20,2,     0.02,2,     0.78,2,    6.432,2,    3.181,2,    0.472,2,  -999.00,9,  -999.00,9,  -0.1646
  32PZ20020819,   CBL,    24,  1,     14,     14,2,20020830,1252, 79.7827, 177.1493, 1972,    264.2,   0.6721,  34.7546,2,  34.7235,2,    305.1,2,    303.7,2,     5.50,2,    11.20,2,     0.01,2,     0.82,2, -999.000,9, -999.000,9, -999.000,9,  -999.00,9,  -999.00,9,   0.6606
  32PZ20020819,   CBL,    24,  1,     13,     13,2,20020830,1252, 79.7827, 177.1493, 1972,    323.6,   0.9173,  34.8088,2,  34.8080,2,    304.0,2,    303.7,2,     5.60,2,    11.80,2,     0.01,2,     0.85,2,    5.667,2,    2.796,2,    0.412,2,  -999.00,9,  -999.00,9,   0.9024
  32PZ20020819,   CBL,    24,  1,     12,     12,2,20020830,1252, 79.7827, 177.1493, 1972,    375.8,   1.0220,  34.8358,2,  34.8328,2,    303.8,2,    304.4,2,     5.70,2,    11.90,2,     0.01,2,     0.85,2,    5.685,2,    2.806,2,    0.411,2,     0.18,2,    42.40,2,   1.0042
  32PZ20020819,   CBL,    24,  1,     11,     11,3,20020830,1252, 79.7827, 177.1493, 1972,    414.6,   0.9620,  34.8437,2,  34.8412,2,    304.0,2,    303.0,2,     6.00,2,    12.00,2,     0.01,2,     0.86,2,    5.746,2,    2.816,2,    0.428,2,  -999.00,9,  -999.00,9,   0.9424
  32PZ20020819,   CBL,    24,  1,     10,     10,2,20020830,1252, 79.7827, 177.1493, 1972,    496.9,   0.8197,  34.8547,2,  34.8536,2,    304.6,2,    304.4,2,     5.90,2,    12.10,2,     0.01,2,     0.86,2,    5.660,2,    2.775,2,    0.405,2,  -999.00,9,  -999.00,9,   0.7964
  32PZ20020819,   CBL,    24,  1,      9,      9,2,20020830,1252, 79.7827, 177.1493, 1972,    580.3,   0.6416,  34.8570,2,  34.8576,2,    304.6,2,    304.8,2,     6.10,2,    12.10,2,     0.01,2,     0.86,2,    5.597,2,    2.731,2,    0.389,2,  -999.00,9,  -999.00,9,   0.6148
  32PZ20020819,   CBL,    24,  1,      8,      8,2,20020830,1252, 79.7827, 177.1493, 1972,    705.1,   0.3841,  34.8603,2,  34.8597,2,    304.7,2,    304.8,2,     6.40,2,    12.30,2,     0.01,2,     0.87,2,    5.472,2,    2.644,2,    0.383,2,     0.29,2,    42.70,2,   0.3523
  32PZ20020819,   CBL,    24,  1,      7,      7,2,20020830,1252, 79.7827, 177.1493, 1972,    829.7,   0.1470,  34.8611,2,  34.8605,2,    305.3,2,    305.2,2,     6.50,2,    12.30,2,     0.01,2,     0.88,2,    5.375,6,    2.606,6,    0.367,6,  -999.00,9,  -999.00,9,   0.1103
  32PZ20020819,   CBL,    24,  1,      6,      6,2,20020830,1252, 79.7827, 177.1493, 1972,    982.0,  -0.0712,  34.8672,2,  34.8670,2,    305.6,2,    306.5,2,     6.70,2,    12.40,2,     0.01,2,     0.89,2, -999.000,9, -999.000,9, -999.000,9,  -999.00,9,  -999.00,9,  -0.1142
  32PZ20020819,   CBL,    24,  1,      5,      5,2,20020830,1252, 79.7827, 177.1493, 1972,   1188.5,  -0.2481,  34.8811,2,  34.8812,2,    304.9,2,    304.7,2,     7.40,2,    12.70,2,     0.01,2,     0.91,2,    4.415,2,    2.115,2,    0.288,2,  -999.00,9,  -999.00,9,  -0.3007
  32PZ20020819,   CBL,    24,  1,      4,      4,2,20020830,1252, 79.7827, 177.1493, 1972,   1404.8,  -0.3655,  34.8998,2,  34.9008,2,    302.9,2,    302.6,2,     8.20,2,    13.20,2,     0.01,2,     0.94,2,    2.784,2,    1.327,2,    0.156,2,  -999.00,9,  -999.00,9,  -0.4291
  32PZ20020819,   CBL,    24,  1,      3,      3,2,20020830,1252, 79.7827, 177.1493, 1972,   1630.2,  -0.4649,  34.9175,2,  34.9187,2,    298.9,2,    299.6,2,     9.70,2,    13.90,2,     0.01,2,     0.99,2,    1.430,2,    0.699,2,    0.074,2,  -999.00,9,  -999.00,9,  -0.5406
  32PZ20020819,   CBL,    24,  1,      2,      2,2,20020830,1252, 79.7827, 177.1493, 1972,   1835.0,  -0.4533,  34.9411,2,  34.9414,2,    290.3,2,    291.1,2,    12.10,2,    14.60,2,     0.01,2,     1.04,2,    0.370,2,    0.174,2,    0.021,2,  -999.00,9,  -999.00,9,  -0.5420
  32PZ20020819,   CBL,    24,  1,      1,      1,2,20020830,1252, 79.7827, 177.1493, 1972,   1973.5,  -0.4003,  34.9521,2,  34.9528,2,    284.5,2,    284.3,2,    14.00,2,    15.00,2,     0.02,2,     1.07,2,    0.066,2,    0.023,2,    0.003,2,  -999.00,9,  -999.00,9,  -0.4990