BOTTLE,20220815CCHSIOAMB
EXPOCODE,SECT_ID,STNNBR,CASTNO,SAMPNO,BTLNBR,BTLNBR_FLAG_W,DATE,TIME,LATITUDE,LONGITUDE,DEPTH,CTDPRS,CTDTMP,CTDSAL,CTDSAL_FLAG_W,SALNTY,SALNTY_FLAG_W,CTDOXY,CTDOXY_FLAG_W,OXYGEN,OXYGEN_FLAG_W,SILCAT,SILCAT_FLAG_W,NITRAT,NITRAT_FLAG_W,NITRIT,NITRIT_FLAG_W,PHSPHT,PHSPHT_FLAG_W,CFC-11,CFC-11_FLAG_W,CFC-12,CFC-12_FLAG_W,CFC113,CFC113_FLAG_W,DELO18,DELO18_FLAG_W,BARIUM,BARIUM_FLAG_W,THETA
,,,,,,,,,,,METERS,DBAR,ITS-90,PSS-78,,PSS-78,,UMOL/KG,,UMOL/KG,,UMOL/KG,,UMOL/KG,,UMOL/KG,,UMOL/KG,,PMOL/KG,,PMOL/KG,,PMOL/KG,,/MILLE,,NMOL/KG,,DEG C
  32PZ20020819,   CBL,     3,  1,     24,     24,2,20020823,0952, 76.0135,-168.6687,  656,      1.7,  -1.4108,  27.9627,2,  27.9616,2,    374.8,2,    377.9,2,     4.70,2,     0.00,2,     0.00,2,     0.65,2, -999.000,9, -999.000,9, -999.000,9,  -999.00,9,  -999.00,9,  -1.4108
  32PZ20020819,   CBL,     3,  1,     23,     23,2,20020823,0952, 76.0135,-168.6687,  656,     17.0,  -1.4151,  28.0906,2,  28.1612,2,    380.9,2,    379.9,2,     4.80,2,     0.00,2,     0.00,2,     0.65,2,    7.227,2,    3.836,2,    0.674,2,    -3.10,2,    66.70,2,  -1.4153
  32PZ20020819,   CBL,     3,  1,     22,     22,2,20020823,0952, 76.0135,-168.6687,  656,     28.7,  -0.9827,  30.3064,2,  30.5300,2,    384.4,2,    368.5,2,     6.80,2,     1.10,2,     0.16,2,     0.84,2, -999.000,9, -999.000,9, -999.000,9,    -2.54,2,    63.10,2,  -0.9832
  32PZ20020819,   CBL,     3,  1,     21,     21,2,20020823,0952, 76.0135,-168.6687,  656,     46.7,  -0.7098,  31.7158,2,  31.7830,2,    349.4,2,    329.1,2,    13.80,2,     5.60,2,     0.04,2,     1.21,2,    6.479,6,    3.362,6,    0.538,6,    -1.98,2,    60.20,2,  -0.7109
  32PZ20020819,   CBL,     3,  1,     20,     20,2,20020823,0952, 76.0135,-168.6687,  656,     61.8,  -1.0366,  32.1633,2,  32.2448,2,    317.3,2,    303.6,2,    21.50,2,     9.40,2,     0.01,2,     1.50,2, -999.000,9, -999.000,9, -999.000,9,  -999.00,9,  -999.00,9,  -1.0380
  32PZ20020819,   CBL,     3,  1,     19,     19,2,20020823,0952, 76.0135,-168.6687,  656,     75.4,  -1.0107,  32.4167,2,  32.4484,2,    298.5,2,    286.4,2,    26.90,2,    11.70,2,     0.01,2,     1.67,2, -999.000,9, -999.000,9, -999.000,9,    -1.62,2,    65.40,2,  -1.0124
  32PZ20020819,   CBL,     3,  1,     18,     18,2,20020823,0952, 76.0135,-168.6687,  656,     94.9,  -1.0498,  32.6676,2,  32.6876,2,    276.5,2,    279.6,2,    31.00,2,    13.70,2,     0.01,2,     1.84,2,    6.030,2,    3.208,2,    0.472,2,    -1.50,2,    67.20,2,  -1.0520
  32PZ20020819,   CBL,     3,  1,     17,     17,2,20020823,0952, 76.0135,-168.6687,  656,    115.3,  -1.4379,  32.8309,2,  32.8495,2,    277.5,2,    283.1,2,    33.60,2,    14.20,2,     0.01,2,     1.86,2, -999.000,9, -999.000,9, -999.000,9,  -999.00,9,  -999.00,9,  -1.4402
  32PZ20020819,   CBL,     3,  1,     16,     16,2,20020823,0952, 76.0135,-168.6687,  656,    130.4,  -1.5218,  33.0380,2,  33.0762,2,    281.6,2,    284.5,2,    33.70,2,    14.50,2,     0.01,2,     1.81,2,    5.617,2,    2.946,2,    0.403,2,    -1.54,2,    67.10,2,  -1.5244
  32PZ20020819,   CBL,     3,  1,     15,     15,2,20020823,0952, 76.0135,-168.6687,  656,    145.6,  -1.4853,  33.3008,2,  33.3554,2,    281.5,2,    276.2,2,    35.70,2,    15.30,2,     0.00,2,     1.83,2, -999.000,9, -999.000,9, -999.000,9,  -999.00,9,  -999.00,9,  -1.4884
  32PZ20020819,   CBL,     3,  1,     14,     14,2,20020823,0952, 76.0135,-168.6687,  656,    160.5,  -1.2893,  33.6188,2,  33.6977,2,    271.1,2,    270.4,2,    32.40,2,    15.10,2,     0.00,2,     1.69,2,    5.071,2,    2.635,2,    0.344,2,    -1.17,2,    61.10,2,  -1.2931
  32PZ20020819,   CBL,     3,  1,     13,     13,2,20020823,0952, 76.0135,-168.6687,  656,    175.1,  -0.9424,  34.0179,2,  34.0738,2,    264.2,2,    259.7,2,    27.60,2,    14.60,2,     0.00,2,     1.48,2, -999.000,9, -999.000,9, -999.000,9,  -999.00,9,  -999.00,9,  -0.9472
  32PZ20020819,   CBL,     3,  1,     12,     12,2,20020823,0952, 76.0135,-168.6687,  656,    184.8,  -0.7983,  34.1556,2,  34.2050,2,    260.1,2,    255.1,2,    25.40,2,    14.40,2,     0.01,2,     1.38,2,    4.789,2,    2.378,2,    0.275,2,    -0.45,2,    49.50,2,  -0.8037
  32PZ20020819,   CBL,     3,  1,     11,     11,2,20020823,0952, 76.0135,-168.6687,  656,    199.5,  -0.5259,  34.3502,2,  34.3777,2,    253.9,2,    255.2,2,    21.10,2,    13.70,2,     0.00,2,     1.21,2, -999.000,9, -999.000,9, -999.000,9,  -999.00,9,  -999.00,9,  -0.5323
  32PZ20020819,   CBL,     3,  1,     10,     10,2,20020823,0952, 76.0135,-168.6687,  656,    229.3,  -0.0224,  34.5438,2,  34.5591,2,    253.8,2,    254.3,2,    18.60,2,    13.40,2,     0.00,2,     1.09,2,    5.165,2,    2.503,2,    0.288,2,  -999.00,9,  -999.00,9,  -0.0309
  32PZ20020819,   CBL,     3,  1,      9,      9,2,20020823,0952, 76.0135,-168.6687,  656,    259.1,   0.4335,  34.6669,2,  34.6748,2,    255.8,2,    253.2,2,    19.40,2,    13.70,2,     0.00,2,     1.09,2, -999.000,9, -999.000,9, -999.000,9,  -999.00,9,  -999.00,9,   0.4228
  32PZ20020819,   CBL,     3,  1,      8,      8,3,20020823,0952, 76.0135,-168.6687,  656,    288.5,   0.8328,  34.7659,2,  34.7698,2,    265.5,2,    274.4,2,    13.00,2,    13.30,2,     0.01,2,     0.97,2, -999.000,9, -999.000,9, -999.000,9,  -999.00,9,  -999.00,9,   0.8198
  32PZ20020819,   CBL,     3,  1,      7,      7,2,20020823,0952, 76.0135,-168.6687,  656,    323.7,   0.9984,  34.8171,2,  34.8180,2,    284.0,2,    287.7,2,     9.10,2,    12.90,2,     0.00,2,     0.91,2,    5.263,2,    2.617,2,    0.337,2,     0.25,2,    39.70,2,   0.9833
  32PZ20020819,   CBL,     3,  1,      6,      6,2,20020823,0952, 76.0135,-168.6687,  656,    358.2,   0.9488,  34.8395,2,  34.8407,2,    292.1,2,    292.1,2,     8.70,2,    12.80,2,     0.00,2,     0.90,2, -999.000,9, -999.000,9, -999.000,9,  -999.00,9,  -999.00,9,   0.9321
  32PZ20020819,   CBL,     3,  1,      5,      5,2,20020823,0952, 76.0135,-168.6687,  656,    417.0,   0.7196,  34.8558,2,  34.8552,2,    296.6,2,    296.3,2,     8.10,2,    12.70,2,     0.00,2,     0.89,2, -999.000,9, -999.000,9, -999.000,9,  -999.00,9,  -999.00,9,   0.7007
  32PZ20020819,   CBL,     3,  1,      4,      4,2,20020823,0952, 76.0135,-168.6687,  656,    476.9,   0.4851,  34.8597,2,  34.8594,2,    300.4,2,    300.0,2,     7.50,2,    12.60,2,     0.00,2,     0.89,2,    4.904,2,    2.435,2,    0.316,2,  -999.00,9,  -999.00,9,   0.4642
  32PZ20020819,   CBL,     3,  1,      3,      3,2,20020823,0952, 76.0135,-168.6687,  656,    536.0,   0.2830,  34.8605,2,  34.8612,2,    302.5,2,    302.7,2,     6.90,2,    12.50,2,     0.00,2,     0.89,2, -999.000,9, -999.000,9, -999.000,9,  -999.00,9,  -999.00,9,   0.2601
  32PZ20020819,   CBL,     3,  1,      2,      2,2,20020823,0952, 76.0135,-168.6687,  656,    595.9,   0.0623,  34.8660,2,  34.8658,2,    300.9,2,    301.3,2,     8.10,2,    12.50,2,     0.00,2,     0.90,2, -999.000,9, -999.000,9, -999.000,9,  -999.00,9,  -999.00,9,   0.0376
  32PZ20020819,   CBL,     3,  1,      1,      1,2,20020823,0952, 76.0135,-168.6687,  656,    643.0,  -0.0326,  34.8713,2,  34.8711,2,    300.6,2,    300.5,2,     8.70,2,    12.80,2,     0.00,2,     0.92,2,    4.626,2,    2.324,2,    0.290,2,     0.26,2,    41.60,2,  -0.0591
  32PZ20020819,   CBL,     4,  1,     31,     31,2,20020823,1229, 76.0375,-168.8110,  966,      1.7,  -1.3777,  27.9484,2,  27.9511,2,    375.5,2,    378.2,2,     4.90,2,     0.10,2,     0.00,2,     0.66,2,    7.321,6,    3.718,6,    0.655,6,  -999.00,9,  -999.00,9,  -1.3777
  32PZ20020819,   CBL,     4,  1,     30,     30,2,20020823,1229, 76.0375,-168.8110,  966,     14.2,  -1.4360,  27.9616,2,  27.9759,2,    378.3,2,    378.5,2,     4.60,2,     0.10,2,     0.00,2,     0.66,2, -999.000,9, -999.000,9, -999.000,9,    -3.04,2,    66.40,2,  -1.4361
  32PZ20020819,   CBL,     4,  1,     29,     29,2,20020823,1229, 76.0375,-168.8110,  966,     28.8,  -0.9825,  30.0839,2,  30.5036,2,    386.7,2,    371.8,2,     7.30,2,     1.10,2,     0.14,2,     0.87,2, -999.000,9, -999.000,9, -999.000,9,  -999.00,9,  -999.00,9,  -0.9830
  32PZ20020819,   CBL,     4,  1,     28,     28,2,20020823,1229, 76.0375,-168.8110,  966,     43.9,  -0.7147,  31.5656,2,  31.6668,2,    361.2,2,    335.1,2,    12.40,2,     5.00,2,     0.04,2,     1.16,2,    6.456,2,    3.314,2,    0.524,2,    -2.02,2,    60.40,2,  -0.7157
  32PZ20020819,   CBL,     4,  1,     27,     27,2,20020823,1229, 76.0375,-168.8110,  966,     58.6,  -0.9813,  32.1056,2,  32.1518,2,    320.0,2,    308.8,2,    20.00,2,     8.70,2,     0.01,2,     1.45,2,    6.322,2,    3.438,2,    0.498,2,    -1.74,2,    63.50,2,  -0.9826
  32PZ20020819,   CBL,     4,  1,     26,     26,2,20020823,1229, 76.0375,-168.8110,  966,     68.4,  -0.9124,  32.3184,2,  32.3539,2,    307.6,2,    293.6,2,    24.50,2,    10.70,2,     0.00,2,     1.61,2,    6.236,2,    3.193,2,    0.482,2,  -999.00,9,  -999.00,9,  -0.9140
  32PZ20020819,   CBL,     4,  1,     25,     25,2,20020823,1229, 76.0375,-168.8110,  966,     83.2,  -0.9077,  32.5361,2,  32.5507,2,    284.7,2,    282.0,2,    28.60,2,    12.70,2,     0.00,2,     1.76,2,    6.029,2,    3.400,2,    0.469,2,    -1.62,2,    66.00,2,  -0.9097
  32PZ20020819,   CBL,     4,  1,     24,     24,2,20020823,1229, 76.0375,-168.8110,  966,    103.2,  -1.2086,  32.7471,2,  32.7584,2,    281.5,2,    274.3,2,    33.20,2,    14.80,2,     0.00,2,     1.95,2,    6.152,2,    3.232,2,    0.469,2,    -1.36,2,    66.70,2,  -1.2109
  32PZ20020819,   CBL,     4,  1,     23,     23,2,20020823,1229, 76.0375,-168.8110,  966,    122.9,  -1.5249,  32.9520,2,  32.9874,2,    282.1,2,    288.8,2,    32.80,2,    14.50,2,     0.00,2,     1.81,2,    5.666,2,    2.819,2,    0.404,2,    -1.60,2,    66.50,2,  -1.5273
  32PZ20020819,   CBL,     4,  1,     22,     22,2,20020823,1229, 76.0375,-168.8110,  966,    132.8,  -1.5280,  33.0893,2,  33.1054,2,    284.1,2,    289.1,2,    32.30,2,    14.50,2,     0.00,2,     1.78,2,    5.559,2,    2.764,2,    0.391,2,    -1.55,2,    65.90,2,  -1.5307
  32PZ20020819,   CBL,     4,  1,     21,     21,2,20020823,1229, 76.0375,-168.8110,  966,    146.7,  -1.4785,  33.3283,2,  33.3779,2,    280.0,2,    276.1,2,    35.40,2,    15.50,2,     0.00,2,     1.84,2, -999.000,9, -999.000,9, -999.000,9,  -999.00,9,  -999.00,9,  -1.4816
  32PZ20020819,   CBL,     4,  1,     20,     20,2,20020823,1229, 76.0375,-168.8110,  966,    162.0,  -1.2518,  33.6933,2,  33.7639,2,    266.2,2,    260.8,2,    33.20,2,    15.70,2,     0.00,2,     1.84,2,    5.153,2,    2.588,2,    0.338,2,  -999.00,9,  -999.00,9,  -1.2557
  32PZ20020819,   CBL,     4,  1,     17,     17,2,20020823,1229, 76.0375,-168.8110,  966,    182.1,  -0.7674,  34.1779,2,  34.2264,2,    258.8,2,    254.4,2,    24.90,2,    14.40,2,     0.00,2,     1.37,2,    4.807,2,    2.450,2,    0.283,2,    -0.32,2,    48.60,2,  -0.7728
  32PZ20020819,   CBL,     4,  1,     18,     18,2,20020823,1229, 76.0375,-168.8110,  966,    182.1,  -0.7666,  34.1803,2,  34.2185,2,    258.7,2,   -999.0,9,  -999.00,9,  -999.00,9,  -999.00,9,  -999.00,9, -999.000,9, -999.000,9, -999.000,9,  -999.00,9,  -999.00,9,  -0.7720
  32PZ20020819,   CBL,     4,  1,     19,     19,2,20020823,1229, 76.0375,-168.8110,  966,    182.1,  -0.7662,  34.1805,2,  34.2207,2,    258.7,2,   -999.0,9,  -999.00,9,  -999.00,9,  -999.00,9,  -999.00,9, -999.000,9, -999.000,9, -999.000,9,  -999.00,9,  -999.00,9,  -0.7716
  32PZ20020819,   CBL,     4,  1,     16,     16,2,20020823,1229, 76.0375,-168.8110,  966,    201.8,  -0.3975,  34.4168,2,  34.4324,2,    251.7,2,    252.5,2,    20.00,2,    13.60,2,     0.00,2,     1.17,2,    5.301,2,    2.495,2,    0.299,2,  -999.00,9,  -999.00,9,  -0.4042
  32PZ20020819,   CBL,     4,  1,     15,     15,2,20020823,1229, 76.0375,-168.8110,  966,    231.4,   0.1476,  34.5933,2,  34.6069,2,    251.9,2,    254.7,2,    18.50,2,    13.60,2,     0.00,2,     1.08,2,    5.383,2,    2.533,2,    0.305,2,  -999.00,9,  -999.00,9,   0.1387
  32PZ20020819,   CBL,     4,  1,     14,     14,2,20020823,1229, 76.0375,-168.8110,  966,    260.9,   0.6125,  34.7084,2,  34.7188,2,    268.5,2,    270.1,2,    13.80,2,    13.40,2,     0.00,2,     0.98,2,    5.483,2,    2.569,2,    0.330,2,  -999.00,9,  -999.00,9,   0.6013
  32PZ20020819,   CBL,     4,  1,     13,     13,2,20020823,1229, 76.0375,-168.8110,  966,    300.8,   0.9523,  34.7911,2,  34.7887,2,    284.7,2,    285.5,2,     9.30,2,    13.00,2,     0.00,2,     0.91,2,    5.361,2,    2.528,2,    0.317,2,  -999.00,9,  -999.00,9,   0.9384
  32PZ20020819,   CBL,     4,  1,     10,     10,2,20020823,1229, 76.0375,-168.8110,  966,    342.6,   1.0358,  34.8266,2,  34.8275,2,    291.9,2,    291.7,2,     8.10,2,    12.90,2,     0.00,2,     0.89,2,    5.254,2,    2.546,2,    0.303,2,     0.33,2,    38.10,2,   1.0196
  32PZ20020819,   CBL,     4,  1,     11,     11,2,20020823,1229, 76.0375,-168.8110,  966,    342.6,   1.0357,  34.8267,2,  34.8296,2,    291.9,2,   -999.0,9,  -999.00,9,  -999.00,9,  -999.00,9,  -999.00,9, -999.000,9, -999.000,9, -999.000,9,  -999.00,9,  -999.00,9,   1.0195
  32PZ20020819,   CBL,     4,  1,     12,     12,2,20020823,1229, 76.0375,-168.8110,  966,    342.6,   1.0357,  34.8267,2,  34.8249,2,    291.9,2,   -999.0,9,  -999.00,9,  -999.00,9,  -999.00,9,  -999.00,9, -999.000,9, -999.000,9, -999.000,9,  -999.00,9,  -999.00,9,   1.0195
  32PZ20020819,   CBL,     4,  1,      9,      9,2,20020823,1229, 76.0375,-168.8110,  966,    399.2,   0.8882,  34.8476,2,  34.8477,2,    294.3,2,    294.5,2,     7.80,2,    12.80,2,     0.00,2,     0.89,2, -999.000,9, -999.000,9, -999.000,9,  -999.00,9,  -999.00,9,   0.8696
  32PZ20020819,   CBL,     4,  1,      8,      8,2,20020823,1229, 76.0375,-168.8110,  966,    497.9,   0.5994,  34.8566,2,  34.8611,3,    297.7,2,    298.6,2,     7.90,2,    12.80,2,     0.00,2,     0.89,2,    4.837,2,    2.267,2,    0.280,2,  -999.00,9,  -999.00,9,   0.5770
  32PZ20020819,   CBL,     4,  1,      7,      7,2,20020823,1229, 76.0375,-168.8110,  966,    596.8,   0.3516,  34.8612,2,  34.8609,2,    298.8,2,    299.6,2,     7.80,2,    12.80,2,     0.00,2,     0.90,2,    4.606,2,    2.254,2,    0.265,2,  -999.00,9,  -999.00,9,   0.3254
  32PZ20020819,   CBL,     4,  1,      4,      4,2,20020823,1229, 76.0375,-168.8110,  966,    695.9,   0.1472,  34.8648,2,  34.8656,2,    302.0,2,    300.9,2,     8.10,2,    12.80,2,     0.00,2,     0.90,2,    4.946,2,    2.368,2,    0.299,2,     0.20,2,    39.60,2,   0.1172
  32PZ20020819,   CBL,     4,  1,      5,      5,2,20020823,1229, 76.0375,-168.8110,  966,    695.9,   0.1473,  34.8649,2,  34.8639,2,    302.0,2,   -999.0,9,  -999.00,9,  -999.00,9,  -999.00,9,  -999.00,9, -999.000,9, -999.000,9, -999.000,9,  -999.00,9,  -999.00,9,   0.1173
  32PZ20020819,   CBL,     4,  1,      6,      6,2,20020823,1229, 76.0375,-168.8110,  966,    696.0,   0.1474,  34.8649,2,  34.8654,2,    302.0,2,   -999.0,9,  -999.00,9,  -999.00,9,  -999.00,9,  -999.00,9, -999.000,9, -999.000,9, -999.000,9,  -999.00,9,  -999.00,9,   0.1174
  32PZ20020819,   CBL,     4,  1,      3,      3,2,20020823,1229, 76.0375,-168.8110,  966,    794.7,  -0.0708,  34.8723,2,  34.8688,2,    303.5,2,    304.5,2,     7.00,2,    12.70,2,     0.00,2,     0.90,2, -999.000,9, -999.000,9, -999.000,9,  -999.00,9,  -999.00,9,  -0.1043
  32PZ20020819,   CBL,     4,  1,      2,      2,2,20020823,1229, 76.0375,-168.8110,  966,    894.3,  -0.1496,  34.8790,2,  34.8753,2,    300.4,2,    300.2,2,     8.90,2,    13.10,2,     0.00,2,     0.93,2,    4.297,2,    2.119,2,    0.262,2,  -999.00,9,  -999.00,9,  -0.1875
  32PZ20020819,   CBL,     4,  1,      1,      1,2,20020823,1229, 76.0375,-168.8110,  966,    956.7,  -0.1871,  34.8825,2,  34.8794,2,    300.1,2,    300.3,2,     9.20,2,    13.20,2,     0.00,2,     0.93,2,    4.140,2,    1.992,2,    0.240,2,  -999.00,9,  -999.00,9,  -0.2279