BOTTLE,20220815CCHSIOAMB
EXPOCODE,SECT_ID,STNNBR,CASTNO,SAMPNO,BTLNBR,BTLNBR_FLAG_W,DATE,TIME,LATITUDE,LONGITUDE,DEPTH,CTDPRS,CTDTMP,CTDSAL,CTDSAL_FLAG_W,SALNTY,SALNTY_FLAG_W,CTDOXY,CTDOXY_FLAG_W,OXYGEN,OXYGEN_FLAG_W,SILCAT,SILCAT_FLAG_W,NITRAT,NITRAT_FLAG_W,NITRIT,NITRIT_FLAG_W,PHSPHT,PHSPHT_FLAG_W,CFC-11,CFC-11_FLAG_W,CFC-12,CFC-12_FLAG_W,CFC113,CFC113_FLAG_W,DELO18,DELO18_FLAG_W,BARIUM,BARIUM_FLAG_W,THETA
,,,,,,,,,,,METERS,DBAR,ITS-90,PSS-78,,PSS-78,,UMOL/KG,,UMOL/KG,,UMOL/KG,,UMOL/KG,,UMOL/KG,,UMOL/KG,,PMOL/KG,,PMOL/KG,,PMOL/KG,,/MILLE,,NMOL/KG,,DEG C
  32PZ20020819,   CBL,    83,  1,     24,     24,2,20020911,2108, 76.9542,-158.6095, 2105,     13.2,  -1.4874,  28.0373,2,  28.2322,2,    360.9,2,    381.3,2,     3.80,2,     0.10,2,     0.00,2,     0.66,2,    7.629,2,    3.853,2,    0.750,2,    -3.01,2,    66.60,2,  -1.4875
  32PZ20020819,   CBL,    83,  1,     23,     23,2,20020911,2108, 76.9542,-158.6095, 2105,     28.3,  -0.5614,  30.7110,2,  31.3015,2,    376.8,2,    366.8,2,     7.90,2,     2.10,2,     0.24,2,     0.99,2,    6.992,2,    3.488,2,    0.579,2,    -2.17,2,    60.40,2,  -0.5621
  32PZ20020819,   CBL,    83,  1,     22,     22,2,20020911,2108, 76.9542,-158.6095, 2105,     46.3,  -0.7715,  31.9423,2,  31.9594,2,    347.4,2,    334.1,2,    15.30,2,     6.80,2,     0.02,2,     1.30,2,    6.799,2,    3.359,2,    0.548,2,  -999.00,9,  -999.00,9,  -0.7726
  32PZ20020819,   CBL,    83,  1,     21,     21,2,20020911,2108, 76.9542,-158.6095, 2105,     65.8,  -1.1513,  32.3653,2,  32.3914,2,    314.3,2,    302.8,2,    24.50,2,    11.30,2,     0.01,2,     1.62,2,    6.314,2,    3.128,2,    0.472,2,    -1.87,2,    68.10,2,  -1.1527
  32PZ20020819,   CBL,    83,  1,     20,     20,2,20020911,2108, 76.9542,-158.6095, 2105,     85.1,  -1.1052,  32.6650,2,  32.6792,2,    282.4,2,    277.7,2,    32.60,2,    14.40,2,     0.01,2,     1.89,2,    6.239,2,    3.145,2,    0.449,2,    -1.54,2,    69.80,2,  -1.1071
  32PZ20020819,   CBL,    83,  1,     19,     19,2,20020911,2108, 76.9542,-158.6095, 2105,    102.9,  -1.4068,  32.7852,2,  32.7927,2,    274.7,2,    276.1,2,    35.70,2,    15.20,2,     0.01,2,     1.95,2,    6.271,6,    3.172,6,    0.462,2,    -1.54,2,    69.40,2,  -1.4089
  32PZ20020819,   CBL,    83,  1,     18,     18,2,20020911,2108, 76.9542,-158.6095, 2105,    125.5,  -1.5714,  33.0127,2,  33.0270,2,    282.1,2,    281.8,2,    35.80,2,    15.20,2,     0.01,2,     1.87,2,    5.879,2,    2.924,2,    0.389,2,    -1.66,2,    68.90,2,  -1.5739
  32PZ20020819,   CBL,    83,  1,     17,     17,2,20020911,2108, 76.9542,-158.6095, 2105,    144.8,  -1.5611,  33.2600,2,  33.2836,2,    277.0,2,    272.0,2,    38.90,2,    16.00,2,     0.01,2,     1.92,2,    5.848,2,    2.924,2,    0.389,2,    -1.43,2,    67.90,2,  -1.5641
  32PZ20020819,   CBL,    83,  1,     16,     16,2,20020911,2108, 76.9542,-158.6095, 2105,    164.1,  -1.3215,  33.6207,2,  33.7052,2,    268.0,2,    262.6,2,    34.70,2,    16.30,2,     0.01,2,     1.75,2,    5.134,2,    2.477,2,    0.319,2,  -999.00,9,  -999.00,9,  -1.3254
  32PZ20020819,   CBL,    83,  1,     15,     15,2,20020911,2108, 76.9542,-158.6095, 2105,    186.9,  -0.9589,  34.1460,2,  34.1964,2,    253.2,2,    258.0,2,    21.80,2,    13.70,2,     0.01,2,     1.26,2,    5.485,2,    2.530,2, -999.000,9,    -0.44,2,    51.80,2,  -0.9641
  32PZ20020819,   CBL,    83,  1,     14,     14,2,20020911,2108, 76.9542,-158.6095, 2105,    241.3,   0.1204,  34.5710,2,  34.5767,2,    282.9,2,    286.1,2,     8.90,2,    12.00,2,     0.01,2,     0.87,2,    5.747,2,    2.621,2,    0.346,2,  -999.00,9,  -999.00,9,   0.1112
  32PZ20020819,   CBL,    83,  1,     13,     13,2,20020911,2108, 76.9542,-158.6095, 2105,    293.4,   0.8311,  34.7641,2,  34.7660,2,    292.8,2,    293.4,2,     6.90,2,    12.50,2,     0.01,2,     0.86,2,    5.430,2,    2.515,2, -999.000,9,  -999.00,9,  -999.00,9,   0.8179
  32PZ20020819,   CBL,    83,  1,     12,     12,2,20020911,2108, 76.9542,-158.6095, 2105,    334.1,   0.9640,  34.8100,2,  34.8132,2,    295.6,2,    296.0,2,     6.50,2,    12.70,2,     0.01,2,     0.85,2,    5.262,2,    2.447,2,    0.310,2,  -999.00,9,  -999.00,9,   0.9484
  32PZ20020819,   CBL,    83,  1,     11,     11,2,20020911,2108, 76.9542,-158.6095, 2105,    366.0,   0.9915,  34.8286,2,  34.8277,2,    298.2,2,    296.7,2,     6.50,2,    12.70,2,     0.01,2,     0.85,2,    5.210,2,    2.396,2,    0.304,2,     0.17,2,    42.20,2,   0.9743
  32PZ20020819,   CBL,    83,  1,     10,     10,2,20020911,2108, 76.9542,-158.6095, 2105,    449.9,   0.8287,  34.8474,2,  34.8523,2,    299.0,2,    298.7,2,     6.60,2,    12.70,2,     0.01,2,     0.86,2,    4.968,2,    2.290,2, -999.000,9,  -999.00,9,  -999.00,9,   0.8078
  32PZ20020819,   CBL,    83,  1,      9,      9,2,20020911,2108, 76.9542,-158.6095, 2105,    526.5,   0.6464,  34.8482,2,  34.8484,2,    299.1,2,    298.7,2,     6.70,2,    12.80,2,     0.01,2,     0.87,2,    4.531,6,    2.083,6,    0.241,6,  -999.00,9,  -999.00,9,   0.6223
  32PZ20020819,   CBL,    83,  1,      8,      8,2,20020911,2108, 76.9542,-158.6095, 2105,    607.2,   0.5130,  34.8557,2,  34.8529,2,    300.3,2,    300.3,2,     6.70,2,    12.80,2,     0.01,2,     0.87,2,    4.522,2,    2.061,2,    0.239,2,     0.20,2,    41.90,2,   0.4855
  32PZ20020819,   CBL,    83,  1,      7,      7,2,20020911,2108, 76.9542,-158.6095, 2105,    709.5,   0.3290,  34.8608,2,  34.8575,2,    300.8,2,    300.7,2,     6.80,2,    12.80,2,     0.01,2,     0.87,2,    4.181,2,    1.941,2,    0.267,2,  -999.00,9,  -999.00,9,   0.2973
  32PZ20020819,   CBL,    83,  1,      6,      6,2,20020911,2108, 76.9542,-158.6095, 2105,    808.3,   0.1732,  34.8661,2,  34.8665,2,    302.0,2,    303.0,2,     6.90,2,    12.80,2,     0.01,2,     0.88,2, -999.000,9, -999.000,9, -999.000,9,  -999.00,9,  -999.00,9,   0.1374
  32PZ20020819,   CBL,    83,  1,      5,      5,2,20020911,2108, 76.9542,-158.6095, 2105,   1013.7,  -0.0255,  34.8819,2,  34.8811,2,    300.0,2,    300.0,2,     7.70,2,    13.00,2,     0.01,2,     0.90,2,    2.751,2,    1.271,2,    0.114,2,  -999.00,9,  -999.00,9,  -0.0706
  32PZ20020819,   CBL,    83,  1,      4,      4,2,20020911,2108, 76.9542,-158.6095, 2105,   1219.0,  -0.1482,  34.9010,2,  34.9041,2,    297.1,2,    297.0,2,     9.20,2,    13.50,2,     0.01,2,     0.94,2,    1.430,2,    0.695,2,    0.066,2,  -999.00,9,  -999.00,9,  -0.2035
  32PZ20020819,   CBL,    83,  1,      3,      3,2,20020911,2108, 76.9542,-158.6095, 2105,   1471.4,  -0.2477,  34.9178,2,  34.9175,2,    292.8,2,    292.8,2,    11.10,2,    14.10,2,     0.01,2,     0.98,2,    0.638,2,    0.318,2,    0.056,4,  -999.00,9,  -999.00,9,  -0.3166
  32PZ20020819,   CBL,    83,  1,      2,      2,2,20020911,2108, 76.9542,-158.6095, 2105,   1779.6,  -0.2983,  34.9268,2,  34.9289,2,    289.8,2,    290.4,2,    12.70,2,    14.40,2,     0.01,2,     1.01,2,    0.351,2,    0.164,2,    0.000,2,  -999.00,9,  -999.00,9,  -0.3857
  32PZ20020819,   CBL,    83,  1,      1,      1,2,20020911,2108, 76.9542,-158.6095, 2105,   2082.1,  -0.3009,  34.9295,2,  34.9293,2,    289.5,2,    289.1,2,    13.20,2,    14.50,2,     0.01,2,     1.01,2,    0.395,2,    0.191,2,    0.010,2,  -999.00,9,  -999.00,9,  -0.4085
  32PZ20020819,   CBL,    84,  1,     19,     19,2,20020912,0212, 76.8763,-159.2707, 2153,     13.8,  -1.3766,  28.7337,2,  28.6109,2,    383.4,2,    383.3,2,     3.10,2,     0.10,2,     0.00,2,     0.69,2,    7.843,6,    3.943,6,    0.791,6,  -999.00,9,  -999.00,9,  -1.3768
  32PZ20020819,   CBL,    84,  1,     18,     18,2,20020912,0212, 76.8763,-159.2707, 2153,     28.5,  -0.3978,  30.6582,2,-999.0000,9,    384.0,2,    370.2,2,  -999.00,9,  -999.00,9,  -999.00,9,  -999.00,9, -999.000,9, -999.000,9, -999.000,9,  -999.00,9,  -999.00,9,  -0.3985
  32PZ20020819,   CBL,    84,  1,     17,     17,2,20020912,0212, 76.8763,-159.2707, 2153,     69.1,  -1.0923,  32.3880,2,-999.0000,9,    313.3,2,    296.7,2,    26.10,2,    11.80,2,     0.01,2,     1.66,2, -999.000,9, -999.000,9, -999.000,9,  -999.00,9,  -999.00,9,  -1.0938
  32PZ20020819,   CBL,    84,  1,     16,     16,2,20020912,0212, 76.8763,-159.2707, 2153,     86.9,  -1.0273,  32.6383,2,  32.6410,2,    284.2,2,    278.8,2,    30.80,2,    13.70,2,     0.00,2,     1.85,2, -999.000,9, -999.000,9, -999.000,9,  -999.00,9,  -999.00,9,  -1.0293
  32PZ20020819,   CBL,    84,  1,     15,     15,2,20020912,0212, 76.8763,-159.2707, 2153,    106.5,  -1.3731,  32.7921,2,  32.7966,2,    275.2,2,    280.0,2,    35.50,2,    14.90,2,     0.00,2,     1.95,2, -999.000,9, -999.000,9, -999.000,9,  -999.00,9,  -999.00,9,  -1.3753
  32PZ20020819,   CBL,    84,  1,     14,     14,2,20020912,0212, 76.8763,-159.2707, 2153,    132.2,  -1.5643,  33.1134,2,  33.1294,2,    283.6,2,    282.2,2,    35.60,2,    15.10,2,     0.00,2,     1.85,2,    5.630,2,    2.813,2,    0.389,2,  -999.00,9,  -999.00,9,  -1.5669
  32PZ20020819,   CBL,    84,  1,     13,     13,2,20020912,0212, 76.8763,-159.2707, 2153,    166.7,  -1.2649,  33.6838,2,  33.7637,2,    268.1,2,    257.0,2,    35.60,2,    16.20,2,     0.00,2,     1.76,2, -999.000,9, -999.000,9, -999.000,9,  -999.00,9,  -999.00,9,  -1.2689
  32PZ20020819,   CBL,    84,  1,     12,     12,2,20020912,0212, 76.8763,-159.2707, 2153,    187.7,  -0.9318,  34.1632,2,  34.1935,2,    254.0,2,    254.0,2,    23.80,2,    14.00,2,     0.00,2,     1.32,2,    5.079,2,    2.403,2,    0.306,2,  -999.00,9,  -999.00,9,  -0.9371
  32PZ20020819,   CBL,    84,  1,     11,     11,2,20020912,0212, 76.8763,-159.2707, 2153,    263.5,   0.4478,  34.6786,2,-999.0000,9,    287.8,2,    288.2,2,  -999.00,9,  -999.00,9,  -999.00,9,  -999.00,9, -999.000,9, -999.000,9, -999.000,9,  -999.00,9,  -999.00,9,   0.4369
  32PZ20020819,   CBL,    84,  1,     10,     10,2,20020912,0212, 76.8763,-159.2707, 2153,    294.0,   0.7404,  34.7616,2,  34.7684,2,    292.5,2,   -999.0,9,  -999.00,9,  -999.00,9,  -999.00,9,  -999.00,9,    4.961,2,    2.358,2,    0.305,2,  -999.00,9,  -999.00,9,   0.7274
  32PZ20020819,   CBL,    84,  1,      9,      9,2,20020912,0212, 76.8763,-159.2707, 2153,    339.8,   0.9625,  34.8249,2,-999.0000,9,    296.6,2,   -999.0,9,     6.60,2,    12.70,2,     0.00,2,     0.87,2,    5.058,2,    2.335,2,    0.319,2,  -999.00,9,  -999.00,9,   0.9467
  32PZ20020819,   CBL,    84,  1,      8,      8,2,20020912,0212, 76.8763,-159.2707, 2153,    379.3,   0.9500,  34.8379,2,  34.8368,2,    297.6,2,   -999.0,9,  -999.00,9,  -999.00,9,  -999.00,9,  -999.00,9,    4.990,2,    2.306,2,    0.306,2,  -999.00,9,  -999.00,9,   0.9322
  32PZ20020819,   CBL,    84,  1,      7,      7,2,20020912,0212, 76.8763,-159.2707, 2153,    430.9,   0.7709,  34.8417,2,-999.0000,9,    296.9,2,   -999.0,9,  -999.00,9,  -999.00,9,  -999.00,9,  -999.00,9,    4.612,2,    2.161,2,    0.273,2,  -999.00,9,  -999.00,9,   0.7511
  32PZ20020819,   CBL,    84,  1,      6,      6,2,20020912,0212, 76.8763,-159.2707, 2153,    605.8,   0.4982,  34.8553,2,  34.8565,2,    299.2,2,   -999.0,9,  -999.00,9,  -999.00,9,  -999.00,9,  -999.00,9,    4.434,2,    2.074,2,    0.287,2,  -999.00,9,  -999.00,9,   0.4708
  32PZ20020819,   CBL,    84,  1,      5,      5,2,20020912,0212, 76.8763,-159.2707, 2153,    754.6,   0.2447,  34.8633,2,-999.0000,9,    300.8,2,    300.8,2,  -999.00,9,  -999.00,9,  -999.00,9,  -999.00,9,    3.930,2,    1.837,2,    0.217,2,  -999.00,9,  -999.00,9,   0.2112
  32PZ20020819,   CBL,    84,  1,      4,      4,2,20020912,0212, 76.8763,-159.2707, 2153,    908.5,   0.0840,  34.8721,2,  34.8721,2,    301.2,2,   -999.0,9,  -999.00,9,  -999.00,9,  -999.00,9,  -999.00,9,    3.380,2,    1.575,2,    0.186,2,  -999.00,9,  -999.00,9,   0.0436
  32PZ20020819,   CBL,    84,  1,      3,      3,2,20020912,0212, 76.8763,-159.2707, 2153,   1215.8,  -0.1376,  34.8984,2,-999.0000,9,    298.2,2,   -999.0,9,  -999.00,9,  -999.00,9,  -999.00,9,  -999.00,9,    1.658,6,    0.783,6,    0.058,6,  -999.00,9,  -999.00,9,  -0.1928
  32PZ20020819,   CBL,    84,  1,      2,      2,2,20020912,0212, 76.8763,-159.2707, 2153,   1419.9,  -0.2278,  34.9150,2,  34.9142,2,    294.3,2,    293.9,2,  -999.00,9,  -999.00,9,  -999.00,9,  -999.00,9, -999.000,9, -999.000,9, -999.000,9,  -999.00,9,  -999.00,9,  -0.2938
  32PZ20020819,   CBL,    84,  1,      1,      1,2,20020912,0212, 76.8763,-159.2707, 2153,   2131.6,  -0.3076,  34.9291,2,  34.9286,2,    290.2,2,    290.0,2,  -999.00,9,  -999.00,9,  -999.00,9,  -999.00,9,    0.550,2,    0.272,2,    0.029,2,  -999.00,9,  -999.00,9,  -0.4185
  32PZ20020819,   CBL,    85,  1,     24,     24,2,20020912,0625, 76.9732,-160.0662, 2064,     10.6,  -1.5262,  28.7181,2,  29.0106,2,    383.7,2,    385.8,2,     2.70,2,     0.10,2,     0.00,2,     0.71,2,    7.577,2,    3.777,2,    0.696,2,    -2.69,2,    61.60,2,  -1.5263
  32PZ20020819,   CBL,    85,  1,     23,     23,2,20020912,0625, 76.9732,-160.0662, 2064,     31.2,  -0.3645,  31.1848,2,  31.2014,2,    390.9,2,    364.7,2,     7.70,2,     2.20,2,     0.23,2,     0.98,2,    6.999,2,    3.457,2,    0.592,2,    -2.18,2,    62.00,2,  -0.3653
  32PZ20020819,   CBL,    85,  1,     22,     22,2,20020912,0625, 76.9732,-160.0662, 2064,     46.2,  -0.8347,  31.8372,2,  31.9216,2,    359.4,2,    332.2,2,    15.80,2,     7.10,2,     0.02,2,     1.31,2,    6.860,2,    3.381,2,    0.530,2,  -999.00,9,  -999.00,9,  -0.8358
  32PZ20020819,   CBL,    85,  1,     21,     21,2,20020912,0625, 76.9732,-160.0662, 2064,     61.0,  -1.2590,  32.2878,2,  32.2933,2,    322.2,2,    305.7,2,    22.40,2,    10.60,2,     0.01,2,     1.56,2,    6.522,2,    3.214,2,    0.487,2,    -1.71,2,    66.00,2,  -1.2602
  32PZ20020819,   CBL,    85,  1,     20,     20,2,20020912,0625, 76.9732,-160.0662, 2064,     82.1,  -1.0025,  32.5912,2,  32.6041,2,    289.7,2,    280.1,2,    30.20,2,    13.50,2,     0.01,2,     1.82,2,    6.107,2,    3.052,2,    0.478,2,    -1.52,2,    71.10,2,  -1.0044
  32PZ20020819,   CBL,    85,  1,     19,     19,2,20020912,0625, 76.9732,-160.0662, 2064,    106.2,  -1.2527,  32.7694,2,  32.7739,2,    274.4,2,    273.1,2,    36.10,2,    15.40,2,     0.00,2,     2.00,2,    6.400,2,    3.248,2,    0.508,2,    -1.34,2,    69.70,2,  -1.2550
  32PZ20020819,   CBL,    85,  1,     18,     18,2,20020912,0625, 76.9732,-160.0662, 2064,    131.6,  -1.5716,  33.0611,2,  33.0730,2,    283.6,2,    282.9,2,    35.70,2,    15.00,2,     0.00,2,     1.86,2,    5.865,2,    2.892,2,    0.438,2,    -1.42,2,    70.20,2,  -1.5742
  32PZ20020819,   CBL,    85,  1,     17,     17,2,20020912,0625, 76.9732,-160.0662, 2064,    155.8,  -1.4514,  33.4613,2,  33.5129,2,    273.4,2,    265.4,2,    38.70,2,    16.60,2,     0.00,2,     1.89,2,    5.593,2,    2.755,2,    0.397,2,    -1.32,2,    66.30,2,  -1.4548
  32PZ20020819,   CBL,    85,  1,     16,     16,2,20020912,0625, 76.9732,-160.0662, 2064,    187.0,  -0.9769,  34.1485,2,  34.1597,2,    252.7,2,    253.7,2,    24.10,2,    14.20,2,     0.00,2,     1.34,2,    5.283,2,    2.423,2,    0.309,2,    -0.43,2,    50.10,2,  -0.9821
  32PZ20020819,   CBL,    85,  1,     15,     15,2,20020912,0625, 76.9732,-160.0662, 2064,    232.7,  -0.0204,  34.5464,2,  34.5571,2,    274.2,2,    281.5,2,    10.10,2,    12.40,2,     0.00,2,     0.91,2,    5.357,6,    2.435,6,    0.295,6,  -999.00,9,  -999.00,9,  -0.0290
  32PZ20020819,   CBL,    85,  1,     14,     14,2,20020912,0625, 76.9732,-160.0662, 2064,    284.2,   0.7245,  34.7539,2,  34.7477,2,    291.0,2,    291.6,2,     7.20,2,    12.60,2,     0.00,2,     0.87,2,    5.283,2,    2.417,2,    0.318,2,  -999.00,9,  -999.00,9,   0.7120
  32PZ20020819,   CBL,    85,  1,     13,     13,2,20020912,0625, 76.9732,-160.0662, 2064,    344.9,   0.9624,  34.8253,2,  34.8242,2,    296.8,2,    296.5,2,     6.50,2,    12.70,2,     0.00,2,     0.87,2,    5.196,2,    2.366,2,    0.317,2,  -999.00,9,  -999.00,9,   0.9463
  32PZ20020819,   CBL,    85,  1,     12,     12,2,20020912,0625, 76.9732,-160.0662, 2064,    381.1,   0.9705,  34.8387,2,  34.8372,2,    297.9,2,    297.2,2,     6.50,2,    12.80,2,     0.00,2,     0.87,2,    5.038,2,    2.302,2,    0.285,2,     0.13,2,    42.00,2,   0.9526
  32PZ20020819,   CBL,    85,  1,     11,     11,2,20020912,0625, 76.9732,-160.0662, 2064,    425.9,   0.7882,  34.8342,2,  34.8321,2,    297.1,2,    296.7,2,     6.70,2,    12.80,2,     0.00,2,     0.87,2,    4.648,2,    2.116,2,    0.258,2,     0.21,2,    42.80,2,   0.7686
  32PZ20020819,   CBL,    85,  1,     10,     10,2,20020912,0625, 76.9732,-160.0662, 2064,    504.9,   0.6680,  34.8513,2,  34.8506,2,    298.8,2,    299.2,2,     6.70,2,    12.80,2,     0.00,2,     0.88,2,    4.648,2,    2.124,2,    0.251,2,  -999.00,9,  -999.00,9,   0.6449
  32PZ20020819,   CBL,    85,  1,      9,      9,2,20020912,0625, 76.9732,-160.0662, 2064,    604.3,   0.4699,  34.8555,2,  34.8546,2,    299.3,2,    300.0,2,     6.90,2,    12.90,2,     0.00,2,     0.88,2,    4.397,2,    2.020,2,    0.243,2,  -999.00,9,  -999.00,9,   0.4428
  32PZ20020819,   CBL,    85,  1,      8,      8,2,20020912,0625, 76.9732,-160.0662, 2064,    707.3,   0.2952,  34.8615,2,  34.8605,2,    300.4,2,    300.6,2,     7.00,2,    12.90,2,     0.00,2,     0.89,2,    4.120,2,    1.887,2,    0.221,2,  -999.00,9,  -999.00,9,   0.2638
  32PZ20020819,   CBL,    85,  1,      7,      7,2,20020912,0625, 76.9732,-160.0662, 2064,    815.4,   0.1648,  34.8667,2,  34.8664,2,    301.3,2,    301.4,2,     7.10,2,    12.90,2,     0.00,2,     0.89,2,    3.903,2,    1.777,2,    0.212,2,  -999.00,9,  -999.00,9,   0.1287
  32PZ20020819,   CBL,    85,  1,      6,      6,2,20020912,0625, 76.9732,-160.0662, 2064,    885.7,   0.0926,  34.8707,2,  34.8704,2,    301.6,2,    301.2,2,     7.20,2,    13.00,2,     0.00,2,     0.90,2,    3.537,2,    1.615,2,    0.173,2,  -999.00,9,  -999.00,9,   0.0533
  32PZ20020819,   CBL,    85,  1,      5,      5,2,20020912,0625, 76.9732,-160.0662, 2064,   1013.8,  -0.0204,  34.8813,2,  34.8802,2,    300.4,2,    300.3,2,     7.70,2,    13.20,2,     0.00,2,     0.91,2,    2.798,2,    1.287,2,    0.125,2,  -999.00,9,  -999.00,9,  -0.0656
  32PZ20020819,   CBL,    85,  1,      4,      4,2,20020912,0625, 76.9732,-160.0662, 2064,   1314.1,  -0.1876,  34.9083,2,  34.9078,2,    295.6,2,    295.4,2,    10.00,2,    13.90,2,     0.00,2,     0.96,2,    1.059,2,    0.514,2,    0.051,2,  -999.00,9,  -999.00,9,  -0.2479
  32PZ20020819,   CBL,    85,  1,      3,      3,2,20020912,0625, 76.9732,-160.0662, 2064,   1618.1,  -0.2950,  34.9251,2,  34.9227,2,    291.1,2,    290.9,2,    12.30,2,    14.40,2,     0.00,2,     1.01,2,    0.448,6,    0.222,6,    0.017,2,  -999.00,9,  -999.00,9,  -0.3722
  32PZ20020819,   CBL,    85,  1,      2,      2,2,20020912,0625, 76.9732,-160.0662, 2064,   2021.9,  -0.3194,  34.9291,2,  34.9277,2,    290.1,2,    290.7,2,    12.60,2,    14.60,2,     0.00,2,     1.02,2,    0.555,2,    0.252,2,    0.015,2,  -999.00,9,  -999.00,9,  -0.4225
  32PZ20020819,   CBL,    85,  1,      1,      1,2,20020912,0625, 76.9732,-160.0662, 2064,   2051.5,  -0.3548,  34.9291,2,  34.9277,2,    293.5,2,    293.3,2,    11.40,2,    14.50,2,     0.00,2,     1.01,2,    0.718,2,    0.334,2,    0.026,2,     0.23,2,    45.10,2,  -0.4594