BOTTLE,20220815CCHSIOAMB
EXPOCODE,SECT_ID,STNNBR,CASTNO,SAMPNO,BTLNBR,BTLNBR_FLAG_W,DATE,TIME,LATITUDE,LONGITUDE,DEPTH,CTDPRS,CTDTMP,CTDSAL,CTDSAL_FLAG_W,SALNTY,SALNTY_FLAG_W,CTDOXY,CTDOXY_FLAG_W,OXYGEN,OXYGEN_FLAG_W,SILCAT,SILCAT_FLAG_W,NITRAT,NITRAT_FLAG_W,NITRIT,NITRIT_FLAG_W,PHSPHT,PHSPHT_FLAG_W,CFC-11,CFC-11_FLAG_W,CFC-12,CFC-12_FLAG_W,CFC113,CFC113_FLAG_W,DELO18,DELO18_FLAG_W,BARIUM,BARIUM_FLAG_W,THETA
,,,,,,,,,,,METERS,DBAR,ITS-90,PSS-78,,PSS-78,,UMOL/KG,,UMOL/KG,,UMOL/KG,,UMOL/KG,,UMOL/KG,,UMOL/KG,,PMOL/KG,,PMOL/KG,,PMOL/KG,,/MILLE,,NMOL/KG,,DEG C
  32PZ20020819,   CBL,    15,  1,     25,     25,2,20020827,1558, 76.6518, 176.2423, 1029,      1.8,  -1.4853,  29.3060,2,  29.3100,2,    376.8,2,    383.3,2,     5.20,2,     0.00,2,     0.00,2,     0.78,2, -999.000,9, -999.000,9, -999.000,9,  -999.00,9,  -999.00,9,  -1.4853
  32PZ20020819,   CBL,    15,  1,     24,     24,2,20020827,1558, 76.6518, 176.2423, 1029,     15.4,  -1.4082,  29.6903,2,  29.7741,2,    383.8,2,    392.9,2,     4.20,2,     0.00,2,     0.00,2,     0.80,2,    7.442,2,    3.792,2,    0.673,2,    -2.10,2,    53.90,2,  -1.4084
  32PZ20020819,   CBL,    15,  1,     23,     23,2,20020827,1558, 76.6518, 176.2423, 1029,     27.3,  -1.3576,  30.0966,2,  30.3284,2,    397.0,2,    382.4,2,     5.40,2,     0.30,2,     0.04,2,     0.83,2,    7.365,2,    3.736,2,    0.671,2,  -999.00,9,  -999.00,9,  -1.3580
  32PZ20020819,   CBL,    15,  1,     22,     22,2,20020827,1558, 76.6518, 176.2423, 1029,     37.3,  -1.4707,  30.7422,2,  30.7428,2,    385.7,2,    370.5,2,     5.10,2,     0.80,2,     0.07,2,     0.81,2, -999.000,9, -999.000,9, -999.000,9,    -1.93,2,    54.10,2,  -1.4713
  32PZ20020819,   CBL,    15,  1,     21,     21,2,20020827,1558, 76.6518, 176.2423, 1029,     56.9,  -1.2870,  32.0606,2,  32.1468,2,    317.3,2,    281.2,2,    23.00,2,    10.10,2,     0.01,2,     1.55,2,    6.659,2,    3.504,2,    0.591,2,    -1.53,2,    61.30,2,  -1.2881
  32PZ20020819,   CBL,    15,  1,     20,     20,2,20020827,1558, 76.6518, 176.2423, 1029,     71.9,  -0.3140,  32.5667,2,  32.6099,2,    250.5,2,    208.6,2,    41.30,2,    17.10,2,     0.00,2,     2.18,2, -999.000,9, -999.000,9, -999.000,9,  -999.00,9,  -999.00,9,  -0.3161
  32PZ20020819,   CBL,    15,  1,     19,     19,2,20020827,1558, 76.6518, 176.2423, 1029,     81.5,  -0.3324,  32.7440,2,  32.7655,2,    208.0,2,    198.0,2,    46.90,2,    19.10,2,     0.00,2,     2.41,2,    6.191,2,    3.327,2,    0.532,2,    -1.19,2,    74.20,2,  -0.3348
  32PZ20020819,   CBL,    15,  1,     18,     18,2,20020827,1558, 76.6518, 176.2423, 1029,     91.3,  -0.9759,  32.8332,2,  32.8576,2,    208.8,2,    224.7,2,    45.20,2,    17.40,2,     0.00,2,     2.30,2, -999.000,9, -999.000,9, -999.000,9,  -999.00,9,  -999.00,9,  -0.9781
  32PZ20020819,   CBL,    15,  1,     17,     17,2,20020827,1558, 76.6518, 176.2423, 1029,    100.8,  -1.3069,  33.0539,2,  33.1497,2,    233.6,2,    244.9,2,    45.10,2,    15.70,2,     0.00,2,     2.09,2,    6.013,2,    3.180,2,    0.459,2,    -1.40,2,    68.70,2,  -1.3091
  32PZ20020819,   CBL,    15,  1,     16,     16,2,20020827,1558, 76.6518, 176.2423, 1029,    111.2,  -1.3471,  33.4622,2,  33.5410,2,    244.0,2,    237.6,2,    44.00,2,    16.10,2,     0.00,2,     2.01,2,    5.679,2,    2.865,2,    0.392,2,    -1.12,2,    64.60,2,  -1.3496
  32PZ20020819,   CBL,    15,  1,     15,     15,2,20020827,1558, 76.6518, 176.2423, 1029,    121.1,  -1.1121,  33.8215,2,  33.9231,2,    231.5,2,    211.7,2,    42.30,2,    16.20,2,     0.00,2,     1.87,2, -999.000,9, -999.000,9, -999.000,9,  -999.00,9,  -999.00,9,  -1.1152
  32PZ20020819,   CBL,    15,  1,     14,     14,2,20020827,1558, 76.6518, 176.2423, 1029,    136.2,  -0.8968,  34.1724,2,  34.1869,2,    213.4,2,    250.9,2,    22.80,2,    13.20,2,     0.00,2,     1.27,2,    5.968,2,    2.929,2,    0.370,2,    -0.42,2,    47.20,2,  -0.9006
  32PZ20020819,   CBL,    15,  1,     13,     13,3,20020827,1558, 76.6518, 176.2423, 1029,    150.4,  -0.8270,  34.3197,2,  34.3402,2,    264.4,2,    263.5,2,    16.20,2,    12.40,2,     0.00,2,     1.06,2, -999.000,9, -999.000,9, -999.000,9,  -999.00,9,  -999.00,9,  -0.8313
  32PZ20020819,   CBL,    15,  1,     12,     12,2,20020827,1558, 76.6518, 176.2423, 1029,    165.4,  -0.4101,  34.4277,2,  34.4342,2,    278.9,2,    281.3,2,    10.00,2,    11.60,2,     0.00,2,     0.90,2, -999.000,9, -999.000,9, -999.000,9,  -999.00,9,  -999.00,9,  -0.4155
  32PZ20020819,   CBL,    15,  1,     11,     11,2,20020827,1558, 76.6518, 176.2423, 1029,    195.1,   0.0806,  34.5549,2,  34.5628,2,    285.1,2,    286.6,2,     8.50,2,    11.90,2,     0.00,2,     0.88,2,    6.049,2,    2.807,2,    0.376,2,  -999.00,9,  -999.00,9,   0.0733
  32PZ20020819,   CBL,    15,  1,     10,     10,2,20020827,1558, 76.6518, 176.2423, 1029,    244.5,   0.6260,  34.7267,2,  34.7282,2,    297.2,2,    298.3,2,     5.90,2,    11.90,2,     0.00,2,     0.84,2, -999.000,9, -999.000,9, -999.000,9,  -999.00,9,  -999.00,9,   0.6155
  32PZ20020819,   CBL,    15,  1,      9,      9,2,20020827,1558, 76.6518, 176.2423, 1029,    293.9,   0.9611,  34.7992,2,  34.7993,2,    297.5,2,    297.5,2,     6.20,2,    12.30,2,     0.00,2,     0.86,2,    5.584,2,    2.688,2,    0.377,2,  -999.00,9,  -999.00,9,   0.9475
  32PZ20020819,   CBL,    15,  1,      8,      8,2,20020827,1558, 76.6518, 176.2423, 1029,    363.1,   1.1195,  34.8443,2,  34.8426,2,    299.6,2,    299.5,2,     6.10,2,    12.40,2,     0.00,2,     0.87,2,    5.492,2,    2.625,2,    0.371,2,     0.22,2,    39.50,2,   1.1020
  32PZ20020819,   CBL,    15,  1,      7,      7,3,20020827,1558, 76.6518, 176.2423, 1029,    422.5,   1.0549,  34.8544,2,  34.8530,2,    300.6,2,    300.4,2,     6.10,2,    12.40,2,     0.00,2,     0.87,2,    5.457,2,    2.657,2,    0.368,2,  -999.00,9,  -999.00,9,   1.0346
  32PZ20020819,   CBL,    15,  1,      6,      6,2,20020827,1558, 76.6518, 176.2423, 1029,    501.9,   0.8310,  34.8566,2,  34.8565,2,    303.9,2,    303.6,2,     6.00,2,    12.50,2,     0.00,2,     0.87,2, -999.000,9, -999.000,9, -999.000,9,  -999.00,9,  -999.00,9,   0.8074
  32PZ20020819,   CBL,    15,  1,      5,      5,2,20020827,1558, 76.6518, 176.2423, 1029,    600.8,   0.5961,  34.8597,2,  34.8600,2,    304.6,2,    303.3,2,     6.10,2,    12.50,2,     0.00,2,     0.87,2,    5.323,6,    2.553,6,    0.350,6,  -999.00,9,  -999.00,9,   0.5685
  32PZ20020819,   CBL,    15,  1,      4,      4,2,20020827,1558, 76.6518, 176.2423, 1029,    699.8,   0.3639,  34.8599,2,  34.8590,2,    304.9,2,    304.6,2,     6.10,2,    12.50,2,     0.00,2,     0.88,2,    5.307,2,    2.452,2,    0.347,2,  -999.00,9,  -999.00,9,   0.3325
  32PZ20020819,   CBL,    15,  1,      3,      3,2,20020827,1558, 76.6518, 176.2423, 1029,    799.0,   0.1475,  34.8596,2,  34.8592,2,    305.8,2,    306.3,2,     6.20,2,    12.50,2,     0.00,2,     0.88,2,    5.345,2,    2.593,2,    0.352,2,     0.13,2,    40.60,2,   0.1123
  32PZ20020819,   CBL,    15,  1,      2,      2,2,20020827,1558, 76.6518, 176.2423, 1029,    898.3,   0.0119,  34.8642,2,  34.8640,2,    304.9,2,    305.3,2,     6.50,2,    12.50,2,     0.00,2,     0.89,2, -999.000,9, -999.000,9, -999.000,9,  -999.00,9,  -999.00,9,  -0.0274
  32PZ20020819,   CBL,    15,  1,      1,      1,2,20020827,1558, 76.6518, 176.2423, 1029,   1006.0,  -0.2122,  34.8729,2,  34.8731,2,    303.1,2,    302.9,2,     8.40,2,    13.00,2,     0.00,2,     0.92,2,    4.923,2,    2.400,2,    0.326,2,  -999.00,9,  -999.00,9,  -0.2554
  32PZ20020819,   CBL,    16,  1,     33,     33,2,20020827,2145, 76.9475, 176.3257, 1225,      1.5,  -1.3188,  29.1848,2,  29.1827,2,    368.7,2,    381.6,2,     6.10,2,     0.00,2,     0.00,2,     0.77,2, -999.000,9, -999.000,9, -999.000,9,  -999.00,9,  -999.00,9,  -1.3188
  32PZ20020819,   CBL,    16,  1,     32,     32,2,20020827,2145, 76.9475, 176.3257, 1225,     20.2,  -1.3482,  29.4479,2,  29.5489,2,    373.1,2,    386.6,2,     6.10,2,     0.00,2,     0.00,2,     0.78,2,    7.481,6,    3.788,6,    0.682,6,    -2.19,2,    54.50,2,  -1.3485
  32PZ20020819,   CBL,    16,  1,     31,     31,2,20020827,2145, 76.9475, 176.3257, 1225,     30.6,  -1.3640,  30.5074,2,  30.6369,2,    386.5,2,    387.2,2,     7.00,2,     0.80,2,     0.04,2,     0.92,2, -999.000,9, -999.000,9, -999.000,9,  -999.00,9,  -999.00,9,  -1.3645
  32PZ20020819,   CBL,    16,  1,     30,     30,2,20020827,2145, 76.9475, 176.3257, 1225,     40.5,  -1.3147,  31.3786,2,  31.8679,2,    366.8,2,    321.7,2,    17.80,2,     7.50,2,     0.09,2,     1.38,2, -999.000,9, -999.000,9, -999.000,9,    -1.80,2,    60.90,2,  -1.3155
  32PZ20020819,   CBL,    16,  1,     29,     29,2,20020827,2145, 76.9475, 176.3257, 1225,     59.9,  -1.4298,  32.4495,2,  32.4789,2,    299.2,2,    286.5,2,    29.10,2,    11.90,2,     0.02,2,     1.74,2, -999.000,9, -999.000,9, -999.000,9,    -1.71,2,    65.20,2,  -1.4309
  32PZ20020819,   CBL,    16,  1,     28,     28,2,20020827,2145, 76.9475, 176.3257, 1225,     75.0,  -1.4696,  32.7638,2,  32.8122,2,    268.1,2,    268.9,2,    37.50,2,    14.70,2,     0.01,2,     1.99,2, -999.000,9, -999.000,9, -999.000,9,  -999.00,9,  -999.00,9,  -1.4711
  32PZ20020819,   CBL,    16,  1,     27,     27,2,20020827,2145, 76.9475, 176.3257, 1225,     84.8,  -1.5239,  32.9110,2,  32.9849,2,    269.2,2,    258.1,2,    40.00,2,    14.90,2,     0.01,2,     2.00,2,    6.354,2,    3.417,2,    0.490,2,    -1.39,2,    65.40,2,  -1.5256
  32PZ20020819,   CBL,    16,  1,     26,     26,2,20020827,2145, 76.9475, 176.3257, 1225,     94.9,  -1.4587,  33.1985,2,  33.2949,2,    247.5,2,    234.5,2,    43.70,2,    16.20,2,     0.01,2,     2.07,2,    6.110,2,    3.138,2,    0.434,2,    -1.28,2,    65.00,2,  -1.4607
  32PZ20020819,   CBL,    16,  1,     25,     25,2,20020827,2145, 76.9475, 176.3257, 1225,    104.4,  -1.3390,  33.5064,2,  33.5602,2,    233.7,2,    223.6,2,    46.30,2,    17.10,2,     0.01,2,     2.09,2, -999.000,9, -999.000,9, -999.000,9,  -999.00,9,  -999.00,9,  -1.3413
  32PZ20020819,   CBL,    16,  1,     24,     24,2,20020827,2145, 76.9475, 176.3257, 1225,    114.0,  -1.2918,  33.7783,2,  33.7915,2,    221.2,2,    223.0,2,    40.50,2,    16.10,2,     0.01,2,     1.85,2,    6.006,2,    2.926,2,    0.383,2,  -999.00,9,  -999.00,9,  -1.2945
  32PZ20020819,   CBL,    16,  1,     23,     23,2,20020827,2145, 76.9475, 176.3257, 1225,    124.5,  -1.2350,  33.9575,2,  33.9798,2,    224.8,2,    241.5,2,    28.40,2,    13.70,2,     0.01,2,     1.43,2, -999.000,9, -999.000,9, -999.000,9,    -0.69,2,    50.80,2,  -1.2380
  32PZ20020819,   CBL,    16,  1,     22,     22,2,20020827,2145, 76.9475, 176.3257, 1225,    139.4,  -1.2028,  34.2062,2,  34.2195,2,    270.4,2,    288.9,2,    10.20,2,    10.60,2,     0.01,2,     0.87,2,    6.685,2,    3.116,2,    0.427,2,  -999.00,9,  -999.00,9,  -1.2063
  32PZ20020819,   CBL,    16,  1,     19,     19,2,20020827,2145, 76.9475, 176.3257, 1225,    153.6,  -0.9510,  34.3042,2,  34.3211,2,    288.2,2,    291.1,2,     8.80,2,    10.70,2,     0.01,2,     0.83,2,    6.562,2,    3.057,2,    0.414,2,    -0.26,2,    42.10,2,  -0.9553
  32PZ20020819,   CBL,    16,  1,     20,     20,2,20020827,2145, 76.9475, 176.3257, 1225,    153.6,  -0.9504,  34.3041,2,  34.3254,2,    288.1,2,   -999.0,9,  -999.00,9,  -999.00,9,  -999.00,9,  -999.00,9, -999.000,9, -999.000,9, -999.000,9,  -999.00,9,  -999.00,9,  -0.9547
  32PZ20020819,   CBL,    16,  1,     21,     21,2,20020827,2145, 76.9475, 176.3257, 1225,    153.6,  -0.9506,  34.3042,2,  34.3154,2,    288.1,2,   -999.0,9,  -999.00,9,  -999.00,9,  -999.00,9,  -999.00,9, -999.000,9, -999.000,9, -999.000,9,  -999.00,9,  -999.00,9,  -0.9549
  32PZ20020819,   CBL,    16,  1,     18,     18,2,20020827,2145, 76.9475, 176.3257, 1225,    168.5,  -0.7521,  34.3816,2,  34.3929,2,    293.9,2,    296.0,2,     7.50,2,    10.60,2,     0.01,2,     0.81,2,    6.573,2,    3.063,2,    0.423,2,  -999.00,9,  -999.00,9,  -0.7571
  32PZ20020819,   CBL,    16,  1,     17,     17,2,20020827,2145, 76.9475, 176.3257, 1225,    197.8,  -0.2256,  34.5313,2,  34.5364,2,    297.3,2,    298.5,2,     6.60,2,    10.80,2,     0.01,2,     0.82,2,    6.410,2,    3.057,2,    0.423,2,  -999.00,9,  -999.00,9,  -0.2325
  32PZ20020819,   CBL,    16,  1,     16,     16,2,20020827,2145, 76.9475, 176.3257, 1225,    247.1,   0.3130,  34.6694,2,  34.6757,2,    301.2,2,    300.6,2,     6.00,2,    11.40,2,     0.01,2,     0.82,2,    6.112,2,    2.995,2,    0.426,2,  -999.00,9,  -999.00,9,   0.3031
  32PZ20020819,   CBL,    16,  1,     15,     15,2,20020827,2145, 76.9475, 176.3257, 1225,    296.1,   0.7080,  34.7549,2,  34.7663,2,    301.3,2,    301.1,2,     5.90,2,    11.90,2,     0.01,2,     0.84,2,    5.903,2,    2.868,2,    0.413,2,  -999.00,9,  -999.00,9,   0.6950
  32PZ20020819,   CBL,    16,  1,     14,     14,2,20020827,2145, 76.9475, 176.3257, 1225,    365.6,   1.0201,  34.8262,2,  34.8277,2,    301.8,2,    300.6,2,     6.10,2,    12.30,2,     0.01,2,     0.86,2,    5.704,2,    2.741,2,    0.389,2,     0.18,2,    39.80,2,   1.0028
  32PZ20020819,   CBL,    16,  1,     11,     11,2,20020827,2145, 76.9475, 176.3257, 1225,    399.7,   1.0475,  34.8392,2,  34.8410,2,    302.8,2,    301.0,2,     6.10,2,    12.30,2,     0.01,2,     0.86,2,    5.627,2,    2.707,2,    0.392,2,     0.20,2,    40.20,2,   1.0284
  32PZ20020819,   CBL,    16,  1,     12,     12,2,20020827,2145, 76.9475, 176.3257, 1225,    399.8,   1.0469,  34.8393,2,  34.8399,2,    302.8,2,   -999.0,9,  -999.00,9,  -999.00,9,  -999.00,9,  -999.00,9, -999.000,9, -999.000,9, -999.000,9,  -999.00,9,  -999.00,9,   1.0278
  32PZ20020819,   CBL,    16,  1,     13,     13,2,20020827,2145, 76.9475, 176.3257, 1225,    399.8,   1.0457,  34.8392,2,  34.8426,2,    302.8,2,   -999.0,9,  -999.00,9,  -999.00,9,  -999.00,9,  -999.00,9, -999.000,9, -999.000,9, -999.000,9,  -999.00,9,  -999.00,9,   1.0266
  32PZ20020819,   CBL,    16,  1,     10,     10,2,20020827,2145, 76.9475, 176.3257, 1225,    423.9,   1.0067,  34.8423,2,  34.8436,2,    302.3,2,    301.8,2,     6.10,2,    12.30,2,     0.01,2,     0.86,2,    5.649,2,    2.702,2,    0.375,2,  -999.00,9,  -999.00,9,   0.9865
  32PZ20020819,   CBL,    16,  1,      9,      9,2,20020827,2145, 76.9475, 176.3257, 1225,    502.5,   0.8750,  34.8549,2,  34.8558,2,    302.5,2,    303.0,2,     6.20,2,    12.40,2,     0.01,2,     0.87,2,    5.566,2,    2.702,2,    0.384,2,  -999.00,9,  -999.00,9,   0.8512
  32PZ20020819,   CBL,    16,  1,      8,      8,2,20020827,2145, 76.9475, 176.3257, 1225,    601.0,   0.6531,  34.8587,2,  34.8601,2,    302.2,2,    302.6,2,     6.50,2,    12.50,2,     0.01,2,     0.87,2,    5.255,2,    2.521,2,    0.343,2,  -999.00,9,  -999.00,9,   0.6252
  32PZ20020819,   CBL,    16,  1,      7,      7,2,20020827,2145, 76.9475, 176.3257, 1225,    699.3,   0.4138,  34.8602,2,  34.8603,2,    303.8,2,    303.6,2,     6.50,2,    12.40,2,     0.01,2,     0.87,2,    5.252,2,    2.485,2,    0.343,2,  -999.00,9,  -999.00,9,   0.3821
  32PZ20020819,   CBL,    16,  1,      4,      4,2,20020827,2145, 76.9475, 176.3257, 1225,    767.7,   0.2666,  34.8591,2,  34.8607,2,    304.3,2,    304.8,2,     6.50,2,    12.50,2,     0.01,2,     0.87,2,    5.242,2,    2.515,2,    0.341,2,     0.27,2,    40.60,2,   0.2323
  32PZ20020819,   CBL,    16,  1,      5,      5,2,20020827,2145, 76.9475, 176.3257, 1225,    767.8,   0.2672,  34.8592,2,  34.8601,2,    304.3,2,   -999.0,9,  -999.00,9,  -999.00,9,  -999.00,9,  -999.00,9, -999.000,9, -999.000,9, -999.000,9,  -999.00,9,  -999.00,9,   0.2329
  32PZ20020819,   CBL,    16,  1,      6,      6,2,20020827,2145, 76.9475, 176.3257, 1225,    767.8,   0.2678,  34.8594,2,  34.8605,2,    304.3,2,   -999.0,9,  -999.00,9,  -999.00,9,  -999.00,9,  -999.00,9, -999.000,9, -999.000,9, -999.000,9,  -999.00,9,  -999.00,9,   0.2335
  32PZ20020819,   CBL,    16,  1,      3,      3,2,20020827,2145, 76.9475, 176.3257, 1225,    945.5,  -0.0148,  34.8643,2,  34.8654,2,    305.0,2,    305.2,2,     6.70,2,    12.50,2,     0.00,2,     0.89,2,    5.093,2,    2.455,2,    0.336,2,  -999.00,9,  -999.00,9,  -0.0564
  32PZ20020819,   CBL,    16,  1,      2,      2,2,20020827,2145, 76.9475, 176.3257, 1225,   1093.2,  -0.1505,  34.8770,2,  34.8772,2,    303.6,2,    303.5,2,     7.50,2,    12.80,2,     0.00,2,     0.91,2,    4.582,2,    2.192,2,    0.285,2,  -999.00,9,  -999.00,9,  -0.1988
  32PZ20020819,   CBL,    16,  1,      1,      1,2,20020827,2145, 76.9475, 176.3257, 1225,   1201.4,  -0.3348,  34.8827,2,  34.8833,2,    300.3,2,    299.6,2,    10.30,2,    13.30,2,     0.01,2,     0.95,2,    4.431,2,    2.192,2,    0.280,2,  -999.00,9,  -999.00,9,  -0.3873