BOTTLE,20220815CCHSIOAMB
EXPOCODE,SECT_ID,STNNBR,CASTNO,SAMPNO,BTLNBR,BTLNBR_FLAG_W,DATE,TIME,LATITUDE,LONGITUDE,DEPTH,CTDPRS,CTDTMP,CTDSAL,CTDSAL_FLAG_W,SALNTY,SALNTY_FLAG_W,CTDOXY,CTDOXY_FLAG_W,OXYGEN,OXYGEN_FLAG_W,SILCAT,SILCAT_FLAG_W,NITRAT,NITRAT_FLAG_W,NITRIT,NITRIT_FLAG_W,PHSPHT,PHSPHT_FLAG_W,CFC-11,CFC-11_FLAG_W,CFC-12,CFC-12_FLAG_W,CFC113,CFC113_FLAG_W,DELO18,DELO18_FLAG_W,BARIUM,BARIUM_FLAG_W,THETA
,,,,,,,,,,,METERS,DBAR,ITS-90,PSS-78,,PSS-78,,UMOL/KG,,UMOL/KG,,UMOL/KG,,UMOL/KG,,UMOL/KG,,UMOL/KG,,PMOL/KG,,PMOL/KG,,PMOL/KG,,/MILLE,,NMOL/KG,,DEG C
  32PZ20020819,   CBL,    35,  1,     20,     20,2,20020901,1855, 79.8903,-169.5798, 3346,     13.8,  -1.6035,  30.5406,2,  30.5554,2,    388.2,2,    389.0,2,  -999.00,9,  -999.00,9,  -999.00,9,  -999.00,9,    7.589,2,    3.863,2,    0.709,2,  -999.00,9,  -999.00,9,  -1.6037
  32PZ20020819,   CBL,    35,  1,     19,     19,2,20020901,1855, 79.8903,-169.5798, 3346,     63.3,  -1.6337,  31.9898,2,  32.1215,2,    350.6,2,   -999.0,9,    17.10,2,     7.20,2,     0.02,2,     1.28,2,    7.068,6,    3.708,6,    0.591,6,  -999.00,9,  -999.00,9,  -1.6348
  32PZ20020819,   CBL,    35,  1,     18,     18,2,20020901,1855, 79.8903,-169.5798, 3346,     77.8,  -1.5304,  33.0257,2,  33.1253,2,    304.9,2,   -999.0,9,    25.50,2,    11.30,2,     0.03,2,     1.38,2, -999.000,9, -999.000,9, -999.000,9,  -999.00,9,  -999.00,9,  -1.5319
  32PZ20020819,   CBL,    35,  1,     17,     17,2,20020901,1855, 79.8903,-169.5798, 3346,     87.8,  -1.5679,  33.5400,2,  33.5768,2,    288.8,2,    293.0,2,    15.70,2,     9.60,2,     0.02,2,     1.01,2, -999.000,9, -999.000,9, -999.000,9,  -999.00,9,  -999.00,9,  -1.5697
  32PZ20020819,   CBL,    35,  1,     16,     16,2,20020901,1855, 79.8903,-169.5798, 3346,     97.4,  -1.6061,  33.7700,2,  33.7945,2,    301.0,2,   -999.0,9,     9.00,2,     8.40,2,     0.02,2,     0.78,2, -999.000,9, -999.000,9, -999.000,9,  -999.00,9,  -999.00,9,  -1.6081
  32PZ20020819,   CBL,    35,  1,     15,     15,2,20020901,1855, 79.8903,-169.5798, 3346,    112.1,  -1.5603,  33.9501,2,  33.9941,2,    318.0,2,    311.6,2,     6.60,2,     8.30,2,     0.02,2,     0.71,2,    7.019,6,    3.325,6,    0.506,6,  -999.00,9,  -999.00,9,  -1.5627
  32PZ20020819,   CBL,    35,  1,     14,     14,2,20020901,1855, 79.8903,-169.5798, 3346,    235.6,   0.6921,  34.7360,2,  34.7456,2,    297.7,2,    296.7,2,  -999.00,9,  -999.00,9,  -999.00,9,  -999.00,9,    5.008,2,    2.346,2,    0.306,2,  -999.00,9,  -999.00,9,   0.6819
  32PZ20020819,   CBL,    35,  1,     13,     13,2,20020901,1855, 79.8903,-169.5798, 3346,    304.7,   0.9775,  34.8368,2,  34.8309,2,    298.2,2,    298.4,2,  -999.00,9,  -999.00,9,  -999.00,9,  -999.00,9,    5.026,6,    2.359,6,    0.320,6,  -999.00,9,  -999.00,9,   0.9633
  32PZ20020819,   CBL,    35,  1,     12,     12,2,20020901,1855, 79.8903,-169.5798, 3346,    373.5,   0.8834,  34.8573,2,  34.8565,2,    299.0,2,    299.9,2,  -999.00,9,  -999.00,9,  -999.00,9,  -999.00,9,    4.839,2,    2.273,2,    0.342,2,  -999.00,9,  -999.00,9,   0.8661
  32PZ20020819,   CBL,    35,  1,     11,     11,2,20020901,1855, 79.8903,-169.5798, 3346,    438.2,   0.6667,  34.8558,2,  34.8561,2,    299.4,2,   -999.0,9,  -999.00,9,  -999.00,9,  -999.00,9,  -999.00,9,    4.126,2,    1.918,2,    0.225,2,  -999.00,9,  -999.00,9,   0.6469
  32PZ20020819,   CBL,    35,  1,     10,     10,2,20020901,1855, 79.8903,-169.5798, 3346,    526.2,   0.5052,  34.8632,2,  34.8636,2,    299.3,2,    300.2,2,  -999.00,9,  -999.00,9,  -999.00,9,  -999.00,9,    3.739,2,    1.746,2,    0.205,2,  -999.00,9,  -999.00,9,   0.4818
  32PZ20020819,   CBL,    35,  1,      9,      9,2,20020901,1855, 79.8903,-169.5798, 3346,    643.9,   0.2791,  34.8653,2,  34.8663,2,    301.7,2,   -999.0,9,  -999.00,9,  -999.00,9,  -999.00,9,  -999.00,9,    3.876,2,    1.818,2,    0.222,2,  -999.00,9,  -999.00,9,   0.2510
  32PZ20020819,   CBL,    35,  1,      8,      8,2,20020901,1855, 79.8903,-169.5798, 3346,    791.5,   0.0621,  34.8739,2,  34.8736,2,    301.8,2,    301.1,2,  -999.00,9,  -999.00,9,  -999.00,9,  -999.00,9,    2.951,2,    1.375,2,    0.147,2,  -999.00,9,  -999.00,9,   0.0279
  32PZ20020819,   CBL,    35,  1,      7,      7,2,20020901,1855, 79.8903,-169.5798, 3346,    938.1,  -0.0867,  34.8819,2,  34.8826,2,    302.0,2,   -999.0,9,  -999.00,9,  -999.00,9,  -999.00,9,  -999.00,9,    2.799,2,    1.305,2,    0.133,2,  -999.00,9,  -999.00,9,  -0.1274
  32PZ20020819,   CBL,    35,  1,      6,      6,2,20020901,1855, 79.8903,-169.5798, 3346,   1182.1,  -0.2361,  34.9009,2,  34.9011,2,    300.9,2,    300.5,2,  -999.00,9,  -999.00,9,  -999.00,9,  -999.00,9,    1.588,2,    0.738,2,    0.071,2,  -999.00,9,  -999.00,9,  -0.2885
  32PZ20020819,   CBL,    35,  1,      5,      5,2,20020901,1855, 79.8903,-169.5798, 3346,   1424.7,  -0.3340,  34.9200,2,  34.9202,2,    298.8,2,   -999.0,9,  -999.00,9,  -999.00,9,  -999.00,9,  -999.00,9,    0.635,2,    0.296,2,    0.016,2,  -999.00,9,  -999.00,9,  -0.3991
  32PZ20020819,   CBL,    35,  1,      4,      4,2,20020901,1855, 79.8903,-169.5798, 3346,   1669.4,  -0.3918,  34.9357,2,  34.9359,2,    295.4,2,    294.9,2,  -999.00,9,  -999.00,9,  -999.00,9,  -999.00,9,    0.165,2,    0.074,2,    0.004,2,  -999.00,9,  -999.00,9,  -0.4709
  32PZ20020819,   CBL,    35,  1,      3,      3,2,20020901,1855, 79.8903,-169.5798, 3346,   1964.8,  -0.4134,  34.9469,2,  34.9471,2,    291.3,2,   -999.0,9,  -999.00,9,  -999.00,9,  -999.00,9,  -999.00,9,    0.070,6,    0.029,6,    0.004,6,  -999.00,9,  -999.00,9,  -0.5113
  32PZ20020819,   CBL,    35,  1,      2,      2,2,20020901,1855, 79.8903,-169.5798, 3346,   2512.2,  -0.3771,  34.9563,2,  34.9563,2,    285.9,2,    285.2,2,  -999.00,9,  -999.00,9,  -999.00,9,  -999.00,9,    0.005,2,    0.002,2,    0.000,2,  -999.00,9,  -999.00,9,  -0.5146
  32PZ20020819,   CBL,    35,  1,      1,      1,2,20020901,1855, 79.8903,-169.5798, 3346,   3348.7,  -0.3020,  34.9570,2,  34.9571,2,    284.5,2,    284.6,2,  -999.00,9,  -999.00,9,  -999.00,9,  -999.00,9,    0.072,2,    0.029,2,    0.026,4,  -999.00,9,  -999.00,9,  -0.5102
  32PZ20020819,   CBL,    36,  1,     33,     33,2,20020902,0229, 79.6558,-168.9038, 3250,      1.7,  -1.5451,  30.4695,2,  30.4687,2,    382.4,2,    385.6,2,  -999.00,9,  -999.00,9,  -999.00,9,  -999.00,9, -999.000,9, -999.000,9, -999.000,9,  -999.00,9,  -999.00,9,  -1.5451
  32PZ20020819,   CBL,    36,  1,     32,     32,2,20020902,0229, 79.6558,-168.9038, 3250,     10.5,  -1.6193,  30.4744,2,  30.4802,2,    384.0,2,    385.4,2,     5.10,2,     0.60,2,     0.03,2,     0.79,2,    7.516,2,    3.820,2,    0.744,2,    -2.59,2,    54.90,2,  -1.6194
  32PZ20020819,   CBL,    36,  1,     31,     31,2,20020902,0229, 79.6558,-168.9038, 3250,     27.7,  -1.5976,  30.5308,2,  30.5542,2,    386.6,2,    385.6,2,     5.30,2,     0.70,2,     0.03,2,     0.84,2, -999.000,9, -999.000,9, -999.000,9,    -2.49,2,    56.00,2,  -1.5980
  32PZ20020819,   CBL,    36,  1,     30,     30,2,20020902,0229, 79.6558,-168.9038, 3250,     42.0,  -1.6183,  31.2365,2,  31.3208,2,    381.9,2,    362.2,2,     9.20,2,     3.40,2,     0.02,2,     1.00,2, -999.000,9, -999.000,9, -999.000,9,    -2.41,2,    61.30,2,  -1.6189
  32PZ20020819,   CBL,    36,  1,     29,     29,2,20020902,0229, 79.6558,-168.9038, 3250,     56.7,  -1.6380,  31.8682,2,  31.9829,2,    353.7,2,    325.9,2,    15.20,2,     6.50,2,     0.01,2,     1.24,2, -999.000,9, -999.000,9, -999.000,9,    -1.80,2,    58.70,2,  -1.6389
  32PZ20020819,   CBL,    36,  1,     28,     28,2,20020902,0229, 79.6558,-168.9038, 3250,     71.5,  -1.5219,  32.9880,2,  33.1389,2,    292.2,2,    265.4,2,    27.00,2,    12.00,2,     0.01,2,     1.47,2,    6.842,2,    3.488,2,    0.510,2,    -1.12,2,    61.90,2,  -1.5233
  32PZ20020819,   CBL,    36,  1,     27,     27,2,20020902,0229, 79.6558,-168.9038, 3250,     81.6,  -1.5145,  33.5019,2,  33.6139,2,    277.6,2,    287.1,2,    17.70,2,    10.30,2,     0.01,2,     1.09,2, -999.000,9, -999.000,9, -999.000,9,    -0.89,2,    48.80,2,  -1.5162
  32PZ20020819,   CBL,    36,  1,     26,     26,2,20020902,0229, 79.6558,-168.9038, 3250,    102.0,  -1.5377,  33.9287,2,  33.9547,2,    306.3,2,    310.0,2,     7.30,2,     8.50,2,     0.01,2,     0.75,2, -999.000,9, -999.000,9, -999.000,9,    -0.60,2,    45.40,2,  -1.5399
  32PZ20020819,   CBL,    36,  1,     25,     25,2,20020902,0229, 79.6558,-168.9038, 3250,    117.1,  -1.4333,  34.1237,2,  34.1486,2,    312.6,2,    311.4,2,     5.60,2,     8.60,2,     0.01,2,     0.72,2, -999.000,9, -999.000,9, -999.000,9,  -999.00,9,  -999.00,9,  -1.4360
  32PZ20020819,   CBL,    36,  1,     24,     24,2,20020902,0229, 79.6558,-168.9038, 3250,    132.0,  -1.0805,  34.2322,2,  34.2384,2,    313.7,2,    312.2,2,     5.10,2,     8.70,2,     0.01,2,     0.71,2,    6.779,2,    3.248,2,    0.512,2,    -0.18,2,    44.70,2,  -1.0840
  32PZ20020819,   CBL,    36,  1,     23,     23,2,20020902,0229, 79.6558,-168.9038, 3250,    146.5,  -0.9032,  34.3058,2,  34.3192,2,    314.1,2,    309.5,2,     5.30,2,     9.30,2,     0.01,2,     0.74,2, -999.000,9, -999.000,9, -999.000,9,  -999.00,9,  -999.00,9,  -0.9073
  32PZ20020819,   CBL,    36,  1,     22,     22,2,20020902,0229, 79.6558,-168.9038, 3250,    162.7,  -0.5002,  34.3923,2,  34.4061,2,    309.0,2,    304.8,2,  -999.00,9,  -999.00,9,  -999.00,9,  -999.00,9, -999.000,9, -999.000,9, -999.000,9,  -999.00,9,  -999.00,9,  -0.5054
  32PZ20020819,   CBL,    36,  1,     21,     21,2,20020902,0229, 79.6558,-168.9038, 3250,    175.6,  -0.1597,  34.4763,2,  34.5021,2,    305.3,2,    302.1,2,     5.60,2,    10.50,2,     0.01,2,     0.79,2, -999.000,9, -999.000,9, -999.000,9,  -999.00,9,  -999.00,9,  -0.1659
  32PZ20020819,   CBL,    36,  1,     20,     20,2,20020902,0229, 79.6558,-168.9038, 3250,    189.9,   0.1574,  34.5653,2,  34.5675,2,    302.0,2,    300.3,2,     5.60,2,    11.00,2,     0.01,2,     0.81,2,    5.819,2,    2.766,2,    0.392,2,  -999.00,9,  -999.00,9,   0.1502
  32PZ20020819,   CBL,    36,  1,     19,     19,2,20020902,0229, 79.6558,-168.9038, 3250,    229.9,   0.7334,  34.7494,2,  34.7549,2,    297.1,2,    298.9,2,  -999.00,9,  -999.00,9,  -999.00,9,  -999.00,9,    5.707,6,    2.735,6,    0.389,6,  -999.00,9,  -999.00,9,   0.7234
  32PZ20020819,   CBL,    36,  1,     18,     18,2,20020902,0229, 79.6558,-168.9038, 3250,    274.3,   0.8978,  34.8008,2,  34.8121,2,    298.0,2,    299.8,2,     5.70,2,    12.30,2,     0.01,2,     0.87,2,    5.609,2,    2.671,2,    0.389,2,  -999.00,9,  -999.00,9,   0.8853
  32PZ20020819,   CBL,    36,  1,     17,     17,2,20020902,0229, 79.6558,-168.9038, 3250,    309.2,   1.1548,  34.8526,2,  34.8534,2,    298.7,2,    300.1,2,     5.80,2,    12.50,2,     0.01,2,     0.88,2,    5.334,2,    2.509,2,    0.345,2,     0.37,2,    41.00,2,   1.1400
  32PZ20020819,   CBL,    36,  1,     16,     16,2,20020902,0229, 79.6558,-168.9038, 3250,    383.2,   1.0217,  34.8662,2,  34.8654,2,    299.1,2,    301.4,2,     5.90,2,    12.60,2,     0.01,2,     0.88,2,    5.210,2,    2.468,2,    0.368,2,  -999.00,9,  -999.00,9,   1.0035
  32PZ20020819,   CBL,    36,  1,     15,     15,2,20020902,0229, 79.6558,-168.9038, 3250,    427.5,   0.8218,  34.8627,2,  34.8632,2,    300.3,2,    301.2,2,     6.00,2,    12.60,2,     0.01,2,     0.89,2,    4.865,2,    2.281,2,    0.318,2,  -999.00,9,  -999.00,9,   0.8020
  32PZ20020819,   CBL,    36,  1,     14,     14,2,20020902,0229, 79.6558,-168.9038, 3250,    507.0,   0.6082,  34.8635,2,  34.8644,2,    301.2,2,    301.5,2,  -999.00,9,  -999.00,9,  -999.00,9,  -999.00,9,    4.449,2,    2.122,2,    0.309,2,  -999.00,9,  -999.00,9,   0.5853
  32PZ20020819,   CBL,    36,  1,     13,     13,2,20020902,0229, 79.6558,-168.9038, 3250,    605.7,   0.3980,  34.8656,2,  34.8654,2,    300.8,2,    299.8,2,     6.60,2,    12.80,2,     0.01,2,     0.91,2,    3.569,2,    1.693,2,    0.229,2,  -999.00,9,  -999.00,9,   0.3711
  32PZ20020819,   CBL,    36,  1,     12,     12,2,20020902,0229, 79.6558,-168.9038, 3250,    709.1,   0.2211,  34.8692,2,  34.8695,2,    301.0,2,    300.7,2,     6.70,2,    12.80,2,     0.01,2,     0.92,2,    3.356,2,    1.580,2,    0.225,2,     0.25,2,    62.70,2,   0.1900
  32PZ20020819,   CBL,    36,  1,     11,     11,2,20020902,0229, 79.6558,-168.9038, 3250,    809.0,   0.0689,  34.8746,2,  34.8742,2,    301.5,2,    301.1,2,     6.80,2,    12.90,2,     0.01,2,     0.92,2,    2.578,2,    1.379,2,    0.192,2,  -999.00,9,  -999.00,9,   0.0337
  32PZ20020819,   CBL,    36,  1,     10,     10,2,20020902,0229, 79.6558,-168.9038, 3250,    962.2,  -0.0829,  34.8865,2,  34.8878,2,    301.7,2,    301.0,2,  -999.00,9,  -999.00,9,  -999.00,9,  -999.00,9,    2.380,2,    1.138,2,    0.166,2,  -999.00,9,  -999.00,9,  -0.1249
  32PZ20020819,   CBL,    36,  1,      9,      9,2,20020902,0229, 79.6558,-168.9038, 3250,   1116.2,  -0.2038,  34.8950,2,  34.8954,2,    301.6,2,    301.5,2,     7.60,2,    13.20,2,     0.01,2,     0.95,2,    2.144,2,    1.028,2,    0.133,2,  -999.00,9,  -999.00,9,  -0.2529
  32PZ20020819,   CBL,    36,  1,      8,      8,2,20020902,0229, 79.6558,-168.9038, 3250,   1349.9,  -0.3149,  34.9127,2,  34.9139,2,    299.7,2,    299.2,2,  -999.00,9,  -999.00,9,  -999.00,9,  -999.00,9,    0.975,2,    0.458,2,    0.074,2,  -999.00,9,  -999.00,9,  -0.3759
  32PZ20020819,   CBL,    36,  1,      7,      7,2,20020902,0229, 79.6558,-168.9038, 3250,   1473.7,  -0.3595,  34.9233,2,  34.9235,2,    298.1,2,    297.4,2,     9.30,2,    13.90,2,     0.01,2,     1.00,2,    0.627,2,    0.284,2,    0.014,2,  -999.00,9,  -999.00,9,  -0.4272
  32PZ20020819,   CBL,    36,  1,      6,      6,2,20020902,0229, 79.6558,-168.9038, 3250,   1732.4,  -0.4018,  34.9394,2,  34.9399,2,    294.0,2,    293.5,2,  -999.00,9,  -999.00,9,  -999.00,9,  -999.00,9,    0.251,2,    0.138,2,    0.073,4,  -999.00,9,  -999.00,9,  -0.4847
  32PZ20020819,   CBL,    36,  1,      5,      5,2,20020902,0229, 79.6558,-168.9038, 3250,   2090.7,  -0.4111,  34.9507,2,  34.9501,2,    289.1,2,    288.5,2,    12.30,2,    14.80,2,     0.01,2,     1.06,2,    0.159,2,    0.094,2,    0.061,4,  -999.00,9,  -999.00,9,  -0.5175
  32PZ20020819,   CBL,    36,  1,      4,      4,2,20020902,0229, 79.6558,-168.9038, 3250,   2444.5,  -0.3834,  34.9559,2,  34.9558,2,    286.0,2,    285.7,2,  -999.00,9,  -999.00,9,  -999.00,9,  -999.00,9,    0.049,2,    0.040,2,    0.051,4,  -999.00,9,  -999.00,9,  -0.5157
  32PZ20020819,   CBL,    36,  1,      3,      3,2,20020902,0229, 79.6558,-168.9038, 3250,   2748.6,  -0.3543,  34.9575,2,  34.9569,2,    284.7,2,    284.5,2,    13.30,2,    15.00,2,     0.01,2,     1.07,2,    0.022,2,    0.001,2,    0.000,2,  -999.00,9,  -999.00,9,  -0.5107
  32PZ20020819,   CBL,    36,  1,      2,      2,2,20020902,0229, 79.6558,-168.9038, 3250,   3048.1,  -0.3289,  34.9575,2,  34.9577,2,    284.3,2,    284.5,2,  -999.00,9,  -999.00,9,  -999.00,9,  -999.00,9,    0.025,2,    0.000,2,    0.000,2,  -999.00,9,  -999.00,9,  -0.5104
  32PZ20020819,   CBL,    36,  1,      1,      1,2,20020902,0229, 79.6558,-168.9038, 3250,   3248.5,  -0.3112,  34.9576,2,  34.9605,3,    284.5,2,    284.6,2,    13.40,2,    15.00,2,     0.01,2,     1.07,2,    0.239,2,    0.083,2,    0.043,4,  -999.00,9,  -999.00,9,  -0.5104
  32PZ20020819,   CBL,    37,  1,     14,     14,2,20020902,0915, 79.4152,-168.8017, 3180,     16.4,  -1.6142,  30.5020,2,  30.5180,2,    384.8,2,    386.4,2,  -999.00,9,  -999.00,9,  -999.00,9,  -999.00,9,    7.442,2,    3.804,2,    0.714,2,  -999.00,9,  -999.00,9,  -1.6144
  32PZ20020819,   CBL,    37,  1,     13,     13,2,20020902,0915, 79.4152,-168.8017, 3180,     88.0,  -1.4979,  33.4287,2,  33.5084,2,    269.7,2,    269.1,2,  -999.00,9,  -999.00,9,  -999.00,9,  -999.00,9,    6.734,2,    3.412,2,    0.506,2,  -999.00,9,  -999.00,9,  -1.4997
  32PZ20020819,   CBL,    37,  1,     12,     12,2,20020902,0915, 79.4152,-168.8017, 3180,    122.3,  -1.4185,  34.1099,2,  34.1244,2,    308.0,2,    308.7,2,  -999.00,9,  -999.00,9,  -999.00,9,  -999.00,9,    6.894,2,    3.348,2,    0.507,2,  -999.00,9,  -999.00,9,  -1.4213
  32PZ20020819,   CBL,    37,  1,     11,     11,2,20020902,0915, 79.4152,-168.8017, 3180,    166.5,  -0.5322,  34.4025,2,  34.4031,2,    308.5,2,    304.8,2,  -999.00,9,  -999.00,9,  -999.00,9,  -999.00,9,    6.558,6,    3.146,6,    0.481,6,  -999.00,9,  -999.00,9,  -0.5375
  32PZ20020819,   CBL,    37,  1,     10,     10,2,20020902,0915, 79.4152,-168.8017, 3180,    269.9,   0.9301,  34.7994,2,  34.7995,2,    297.4,2,    298.2,2,  -999.00,9,  -999.00,9,  -999.00,9,  -999.00,9,    5.307,2,    2.583,2,    0.365,2,  -999.00,9,  -999.00,9,   0.9178
  32PZ20020819,   CBL,    37,  1,      9,      9,2,20020902,0915, 79.4152,-168.8017, 3180,    358.8,   1.1554,  34.8532,2,  34.8520,2,    299.2,2,    299.9,2,  -999.00,9,  -999.00,9,  -999.00,9,  -999.00,9,    5.301,2,    2.511,2,    0.354,2,  -999.00,9,  -999.00,9,   1.1380
  32PZ20020819,   CBL,    37,  1,      8,      8,2,20020902,0915, 79.4152,-168.8017, 3180,    418.1,   1.0234,  34.8663,2,  34.8653,2,    299.7,2,   -999.0,9,  -999.00,9,  -999.00,9,  -999.00,9,  -999.00,9,    5.245,2,    2.510,2,    0.349,2,  -999.00,9,  -999.00,9,   1.0034
  32PZ20020819,   CBL,    37,  1,      7,      7,2,20020902,0915, 79.4152,-168.8017, 3180,    496.0,   0.7157,  34.8610,2,  34.8600,2,    300.5,2,    300.9,2,  -999.00,9,  -999.00,9,  -999.00,9,  -999.00,9,    4.570,6,    2.154,6,    0.280,6,  -999.00,9,  -999.00,9,   0.6929
  32PZ20020819,   CBL,    37,  1,      6,      6,2,20020902,0915, 79.4152,-168.8017, 3180,    651.6,   0.3595,  34.8650,2,  34.8643,2,    301.0,2,   -999.0,9,  -999.00,9,  -999.00,9,  -999.00,9,  -999.00,9,    3.574,2,    1.705,2,    0.192,2,  -999.00,9,  -999.00,9,   0.3305
  32PZ20020819,   CBL,    37,  1,      5,      5,2,20020902,0915, 79.4152,-168.8017, 3180,    763.4,   0.1583,  34.8689,2,  34.8688,2,    302.3,2,    302.0,2,  -999.00,9,  -999.00,9,  -999.00,9,  -999.00,9,    3.725,2,    1.754,2,    0.206,2,  -999.00,9,  -999.00,9,   0.1249
  32PZ20020819,   CBL,    37,  1,      4,      4,2,20020902,0915, 79.4152,-168.8017, 3180,   1009.0,  -0.0964,  34.8863,2,  34.8853,2,    302.5,2,    302.2,2,  -999.00,9,  -999.00,9,  -999.00,9,  -999.00,9,    2.529,2,    1.211,2,    0.131,2,  -999.00,9,  -999.00,9,  -0.1407
  32PZ20020819,   CBL,    37,  1,      3,      3,2,20020902,0915, 79.4152,-168.8017, 3180,   1697.6,  -0.3880,  34.9348,2,  34.9341,2,    295.0,2,    294.6,2,  -999.00,9,  -999.00,9,  -999.00,9,  -999.00,9,    0.222,2,    0.103,2,    0.007,2,  -999.00,9,  -999.00,9,  -0.4689
  32PZ20020819,   CBL,    37,  1,      2,      2,2,20020902,0915, 79.4152,-168.8017, 3180,   2295.1,  -0.3964,  34.9536,2,  34.9528,2,    287.0,2,    286.9,2,  -999.00,9,  -999.00,9,  -999.00,9,  -999.00,9,    0.035,2,    0.013,2,    0.003,2,  -999.00,9,  -999.00,9,  -0.5175
  32PZ20020819,   CBL,    37,  1,      1,      1,2,20020902,0915, 79.4152,-168.8017, 3180,   3176.0,  -0.3175,  34.9578,2,  34.9561,2,    283.7,2,    283.1,2,  -999.00,9,  -999.00,9,  -999.00,9,  -999.00,9,    0.022,2,    0.006,2,    0.004,2,  -999.00,9,  -999.00,9,  -0.5102