BOTTLE,20220815CCHSIOAMB
EXPOCODE,SECT_ID,STNNBR,CASTNO,SAMPNO,BTLNBR,BTLNBR_FLAG_W,DATE,TIME,LATITUDE,LONGITUDE,DEPTH,CTDPRS,CTDTMP,CTDSAL,CTDSAL_FLAG_W,SALNTY,SALNTY_FLAG_W,CTDOXY,CTDOXY_FLAG_W,OXYGEN,OXYGEN_FLAG_W,SILCAT,SILCAT_FLAG_W,NITRAT,NITRAT_FLAG_W,NITRIT,NITRIT_FLAG_W,PHSPHT,PHSPHT_FLAG_W,CFC-11,CFC-11_FLAG_W,CFC-12,CFC-12_FLAG_W,CFC113,CFC113_FLAG_W,DELO18,DELO18_FLAG_W,BARIUM,BARIUM_FLAG_W,THETA
,,,,,,,,,,,METERS,DBAR,ITS-90,PSS-78,,PSS-78,,UMOL/KG,,UMOL/KG,,UMOL/KG,,UMOL/KG,,UMOL/KG,,UMOL/KG,,PMOL/KG,,PMOL/KG,,PMOL/KG,,/MILLE,,NMOL/KG,,DEG C
  32PZ20020819,   CBL,   124,  1,     31,     31,2,20020920,1905, 75.5135,-170.2685,  901,      9.3,  -1.3287,  27.6657,2,  27.6733,2,    389.3,2,    378.7,2,     4.30,2,     0.20,2,     0.00,2,     0.67,2,    7.633,2,    3.954,2,    0.754,2,    -3.33,2,    68.80,2,  -1.3288
  32PZ20020819,   CBL,   124,  1,     29,     29,2,20020920,1905, 75.5135,-170.2685,  901,     26.5,  -0.9023,  30.2401,2,  30.1368,2,    405.8,2,    405.3,2,     4.00,2,     0.20,2,     0.01,2,     0.78,2,    7.166,2,    3.641,2,    0.672,2,    -3.16,2,    69.90,2,  -0.9028
  32PZ20020819,   CBL,   124,  1,     30,     30,9,20020920,1905, 75.5135,-170.2685,  901,     26.5,  -0.9023,  30.2389,2,-999.0000,9,    405.0,2,   -999.0,9,  -999.00,9,  -999.00,9,  -999.00,9,  -999.00,9, -999.000,9, -999.000,9, -999.000,9,  -999.00,9,  -999.00,9,  -0.9028
  32PZ20020819,   CBL,   124,  1,     27,     27,2,20020920,1905, 75.5135,-170.2685,  901,     45.0,  -0.7159,  31.7529,2,  31.7620,2,    359.0,2,    338.9,2,    13.20,2,     5.40,2,     0.04,2,     1.20,2,    6.618,2,    3.353,2,    0.565,2,    -2.13,2,    64.70,2,  -0.7170
  32PZ20020819,   CBL,   124,  1,     28,     28,9,20020920,1905, 75.5135,-170.2685,  901,     45.0,  -0.7147,  31.7530,2,-999.0000,9,    358.6,2,   -999.0,9,  -999.00,9,  -999.00,9,  -999.00,9,  -999.00,9, -999.000,9, -999.000,9, -999.000,9,  -999.00,9,  -999.00,9,  -0.7158
  32PZ20020819,   CBL,   124,  1,     25,     25,2,20020920,1905, 75.5135,-170.2685,  901,     77.0,  -1.3473,  32.3687,2,  32.3690,2,    299.8,2,    291.8,2,    31.10,2,    11.80,2,     0.01,2,     1.72,2,    6.359,2,    3.359,2,    0.547,2,    -1.69,2,    68.70,2,  -1.3488
  32PZ20020819,   CBL,   124,  1,     26,     26,9,20020920,1905, 75.5135,-170.2685,  901,     77.0,  -1.2896,  32.3690,2,-999.0000,9,    299.7,2,   -999.0,9,  -999.00,9,  -999.00,9,  -999.00,9,  -999.00,9, -999.000,9, -999.000,9, -999.000,9,  -999.00,9,  -999.00,9,  -1.2912
  32PZ20020819,   CBL,   124,  1,     23,     23,2,20020920,1905, 75.5135,-170.2685,  901,     96.4,  -1.4485,  32.6170,2,  32.6186,2,    290.7,2,    287.7,2,    34.00,2,    13.70,2,     0.01,2,     1.82,2,    6.088,2,    3.202,2,    0.501,2,    -1.65,2,    68.70,2,  -1.4504
  32PZ20020819,   CBL,   124,  1,     24,     24,9,20020920,1905, 75.5135,-170.2685,  901,     96.5,  -1.4350,  32.6168,2,-999.0000,9,    290.7,2,   -999.0,9,  -999.00,9,  -999.00,9,  -999.00,9,  -999.00,9, -999.000,9, -999.000,9, -999.000,9,  -999.00,9,  -999.00,9,  -1.4369
  32PZ20020819,   CBL,   124,  1,     21,     21,2,20020920,1905, 75.5135,-170.2685,  901,    117.1,  -1.5450,  32.8671,2,  32.8657,2,    286.9,2,    289.0,2,    36.70,2,    14.80,2,     0.01,2,     1.86,2,    5.947,2,    3.064,2,    0.454,2,    -1.51,2,    71.40,2,  -1.5473
  32PZ20020819,   CBL,   124,  1,     22,     22,9,20020920,1905, 75.5135,-170.2685,  901,    117.1,  -1.5429,  32.8693,2,-999.0000,9,    286.8,2,   -999.0,9,  -999.00,9,  -999.00,9,  -999.00,9,  -999.00,9, -999.000,9, -999.000,9, -999.000,9,  -999.00,9,  -999.00,9,  -1.5452
  32PZ20020819,   CBL,   124,  1,     19,     19,2,20020920,1905, 75.5135,-170.2685,  901,    138.7,  -1.4848,  33.2642,2,  33.2568,2,    285.9,2,    282.1,2,    34.70,2,    15.10,2,     0.01,2,     1.82,2,    5.665,6,    2.845,6,    0.417,6,  -999.00,9,  -999.00,9,  -1.4877
  32PZ20020819,   CBL,   124,  1,     20,     20,2,20020920,1905, 75.5135,-170.2685,  901,    139.0,  -1.4823,  33.2648,2,  33.2584,2,    285.9,2,    281.4,2,  -999.00,9,  -999.00,9,  -999.00,9,  -999.00,9, -999.000,9, -999.000,9, -999.000,9,  -999.00,9,  -999.00,9,  -1.4852
  32PZ20020819,   CBL,   124,  1,     17,     17,2,20020920,1905, 75.5135,-170.2685,  901,    164.4,  -0.8510,  34.0689,2,  34.0761,2,    270.0,2,    261.0,2,    27.30,2,    14.60,2,     0.01,2,     1.47,2,    4.842,2,    2.397,2,    0.302,2,  -999.00,9,  -999.00,9,  -0.8557
  32PZ20020819,   CBL,   124,  1,     18,     18,2,20020920,1905, 75.5135,-170.2685,  901,    164.6,  -0.8522,  34.0706,2,  34.0828,2,    269.8,2,    260.6,2,  -999.00,9,  -999.00,9,  -999.00,9,  -999.00,9, -999.000,9, -999.000,9, -999.000,9,  -999.00,9,  -999.00,9,  -0.8569
  32PZ20020819,   CBL,   124,  1,     15,     15,2,20020920,1905, 75.5135,-170.2685,  901,    196.0,  -0.2421,  34.4729,2,  34.4876,2,    251.3,2,    252.0,2,    20.60,2,    13.80,2,     0.01,2,     1.17,2,    4.887,2,    2.327,2,    0.269,2,  -999.00,9,  -999.00,9,  -0.2489
  32PZ20020819,   CBL,   124,  1,     16,     16,2,20020920,1905, 75.5135,-170.2685,  901,    196.2,  -0.2454,  34.4714,2,  34.4755,2,    251.3,2,    252.7,2,  -999.00,9,  -999.00,9,  -999.00,9,  -999.00,9, -999.000,9, -999.000,9, -999.000,9,  -999.00,9,  -999.00,9,  -0.2522
  32PZ20020819,   CBL,   124,  1,     13,     13,2,20020920,1905, 75.5135,-170.2685,  901,    224.1,   0.3354,  34.6359,2,  34.6280,2,    245.4,2,    245.9,2,    22.20,2,    14.10,2,     0.01,2,     1.17,2,    5.304,2,    2.526,2,    0.301,2,     0.03,2,    48.80,2,   0.3264
  32PZ20020819,   CBL,   124,  1,     14,     14,2,20020920,1905, 75.5135,-170.2685,  901,    224.6,   0.3396,  34.6369,2,  34.6294,2,    245.4,2,    246.1,2,  -999.00,9,  -999.00,9,  -999.00,9,  -999.00,9, -999.000,9, -999.000,9, -999.000,9,  -999.00,9,  -999.00,9,   0.3306
  32PZ20020819,   CBL,   124,  1,     11,     11,2,20020920,1905, 75.5135,-170.2685,  901,    299.5,   0.9836,  34.8015,2,  34.8036,2,    289.3,2,    288.3,2,     8.80,2,    13.00,2,     0.01,2,     0.91,2,    5.358,2,    2.549,2,    0.344,2,  -999.00,9,  -999.00,9,   0.9697
  32PZ20020819,   CBL,   124,  1,     12,     12,2,20020920,1905, 75.5135,-170.2685,  901,    300.3,   0.9927,  34.8040,2,-999.0000,9,    289.6,2,    287.4,2,  -999.00,9,  -999.00,9,  -999.00,9,  -999.00,9, -999.000,9, -999.000,9, -999.000,9,  -999.00,9,  -999.00,9,   0.9787
  32PZ20020819,   CBL,   124,  1,      9,      9,2,20020920,1905, 75.5135,-170.2685,  901,    360.6,   1.1135,  34.8448,2,  34.8488,2,    297.2,2,    296.6,2,     6.80,2,    12.80,2,     0.01,2,     0.88,2,    5.248,6,    2.478,6,    0.345,6,     0.29,2,    45.20,2,   1.0962
  32PZ20020819,   CBL,   124,  1,     10,     10,9,20020920,1905, 75.5135,-170.2685,  901,    360.9,   1.1136,  34.8448,2,-999.0000,9,    297.7,2,   -999.0,9,  -999.00,9,  -999.00,9,  -999.00,9,  -999.00,9, -999.000,9, -999.000,9, -999.000,9,  -999.00,9,  -999.00,9,   1.0962
  32PZ20020819,   CBL,   124,  1,      7,      7,2,20020920,1905, 75.5135,-170.2685,  901,    415.1,   1.0024,  34.8544,2,  34.8580,2,    301.3,2,    298.1,2,     6.70,2,    12.80,2,     0.01,2,     0.88,2,    5.319,2,    2.512,2,    0.351,2,  -999.00,9,  -999.00,9,   0.9826
  32PZ20020819,   CBL,   124,  1,      8,      8,9,20020920,1905, 75.5135,-170.2685,  901,    415.4,   1.0055,  34.8543,2,-999.0000,9,    301.3,2,   -999.0,9,  -999.00,9,  -999.00,9,  -999.00,9,  -999.00,9, -999.000,9, -999.000,9, -999.000,9,  -999.00,9,  -999.00,9,   0.9857
  32PZ20020819,   CBL,   124,  1,      5,      5,2,20020920,1905, 75.5135,-170.2685,  901,    572.6,   0.5242,  34.8574,2,  34.8605,2,    300.5,2,    300.9,2,     6.90,2,    12.80,2,     0.01,2,     0.89,2,    4.969,2,    2.374,2,    0.308,2,  -999.00,9,  -999.00,9,   0.4984
  32PZ20020819,   CBL,   124,  1,      6,      6,9,20020920,1905, 75.5135,-170.2685,  901,    572.7,   0.5258,  34.8574,2,-999.0000,9,    300.5,2,   -999.0,9,  -999.00,9,  -999.00,9,  -999.00,9,  -999.00,9, -999.000,9, -999.000,9, -999.000,9,  -999.00,9,  -999.00,9,   0.5000
  32PZ20020819,   CBL,   124,  1,      3,      3,2,20020920,1905, 75.5135,-170.2685,  901,    735.6,   0.1530,  34.8606,2,  34.8633,2,    304.1,2,    304.1,2,     6.60,2,    12.70,2,     0.01,2,     0.89,2,    4.808,2,    2.269,2,    0.300,2,     0.37,2,    42.90,2,   0.1210
  32PZ20020819,   CBL,   124,  1,      4,      4,9,20020920,1905, 75.5135,-170.2685,  901,    735.6,   0.1535,  34.8607,2,-999.0000,9,    304.1,2,   -999.0,9,  -999.00,9,  -999.00,9,  -999.00,9,  -999.00,9, -999.000,9, -999.000,9, -999.000,9,  -999.00,9,  -999.00,9,   0.1215
  32PZ20020819,   CBL,   124,  1,      1,      1,2,20020920,1905, 75.5135,-170.2685,  901,    875.1,  -0.1442,  34.8752,2,  34.8774,2,    298.5,2,    298.6,2,     9.80,2,    13.10,2,     0.01,2,     0.94,2,    4.619,2,    2.207,2,    0.281,2,  -999.00,9,  -999.00,9,  -0.1812
  32PZ20020819,   CBL,   124,  1,      2,      2,9,20020920,1905, 75.5135,-170.2685,  901,    875.1,  -0.1448,  34.8753,2,-999.0000,9,    298.5,2,   -999.0,9,  -999.00,9,  -999.00,9,  -999.00,9,  -999.00,9, -999.000,9, -999.000,9, -999.000,9,  -999.00,9,  -999.00,9,  -0.1818
  32PZ20020819,   CBL,   125,  1,     30,     30,2,20020921,0009, 75.6975,-171.2953, 1660,     13.3,  -1.5063,  28.0488,2,  28.0833,2,    376.4,2,    379.0,2,     4.50,2,     0.20,2,     0.00,2,     0.66,2,    7.745,2,    3.913,2,    0.734,2,    -2.64,2,    65.00,2,  -1.5064
  32PZ20020819,   CBL,   125,  1,     29,     29,2,20020921,0009, 75.6975,-171.2953, 1660,     27.9,  -1.1283,  30.1750,2,  30.2276,2,    381.1,2,    377.0,2,     6.10,2,     0.50,2,     0.16,2,     0.80,2,    7.266,2,    3.706,2,    0.720,2,    -2.43,2,    66.90,2,  -1.1288
  32PZ20020819,   CBL,   125,  1,     28,     28,2,20020921,0009, 75.6975,-171.2953, 1660,     35.3,  -0.9732,  31.4027,2,  31.4611,2,    363.3,2,    343.1,2,    10.10,2,     4.00,2,     0.18,2,     1.08,2,    6.893,2,    3.538,2,    0.632,2,    -1.92,2,    60.80,2,  -0.9739
  32PZ20020819,   CBL,   125,  1,     27,     27,2,20020921,0009, 75.6975,-171.2953, 1660,     51.0,  -1.1391,  32.0314,2,  32.0275,2,    325.9,2,    315.2,2,    16.70,2,     7.90,2,     0.02,2,     1.35,2, -999.000,9, -999.000,9, -999.000,9,    -1.56,2,    62.50,2,  -1.1402
  32PZ20020819,   CBL,   125,  1,     26,     26,2,20020921,0009, 75.6975,-171.2953, 1660,     65.9,  -1.1988,  32.2816,2,  32.2790,2,    306.4,2,    300.1,2,    20.90,2,    10.40,2,     0.01,2,     1.54,2,    6.739,2,    3.421,2,    0.588,2,    -1.59,2,    65.00,2,  -1.2002
  32PZ20020819,   CBL,   125,  1,     24,     24,2,20020921,0009, 75.6975,-171.2953, 1660,     76.9,  -0.9473,  32.4883,2,  32.4682,2,    296.6,2,    283.5,2,  -999.00,9,  -999.00,9,  -999.00,9,  -999.00,9, -999.000,9, -999.000,9, -999.000,9,  -999.00,9,  -999.00,9,  -0.9491
  32PZ20020819,   CBL,   125,  1,     25,     25,2,20020921,0009, 75.6975,-171.2953, 1660,     76.9,  -0.9452,  32.4886,2,  32.4807,2,    296.5,2,    282.2,2,    27.50,2,    12.50,2,     0.01,2,     1.75,2,    6.404,6,    3.245,6,    0.508,6,    -1.60,2,    67.40,2,  -0.9470
  32PZ20020819,   CBL,   125,  1,     22,     22,2,20020921,0009, 75.6975,-171.2953, 1660,     88.2,  -0.8984,  32.6832,2,  32.6624,2,    276.5,2,    265.3,2,  -999.00,9,  -999.00,9,  -999.00,9,  -999.00,9, -999.000,9, -999.000,9, -999.000,9,  -999.00,9,  -999.00,9,  -0.9006
  32PZ20020819,   CBL,   125,  1,     23,     23,2,20020921,0009, 75.6975,-171.2953, 1660,     88.3,  -0.8998,  32.6808,2,-999.0000,9,    276.5,2,    264.3,2,    32.90,2,    15.00,2,     0.01,2,     1.95,2,    6.326,2,    3.221,2,    0.485,2,  -999.00,9,  -999.00,9,  -0.9020
  32PZ20020819,   CBL,   125,  1,     20,     20,2,20020921,0009, 75.6975,-171.2953, 1660,    105.2,  -1.4090,  32.8552,2,  32.8659,2,    257.3,2,    271.5,2,  -999.00,9,  -999.00,9,  -999.00,9,  -999.00,9, -999.000,9, -999.000,9, -999.000,9,  -999.00,9,  -999.00,9,  -1.4112
  32PZ20020819,   CBL,   125,  1,     21,     21,2,20020921,0009, 75.6975,-171.2953, 1660,    105.2,  -1.4140,  32.8567,2,-999.0000,9,    257.3,2,    270.3,2,    40.30,2,    16.20,2,     0.01,2,     2.03,2,    6.358,2,    3.235,2,    0.480,2,  -999.00,9,  -999.00,9,  -1.4162
  32PZ20020819,   CBL,   125,  1,     18,     18,2,20020921,0009, 75.6975,-171.2953, 1660,    124.8,  -1.5524,  33.1988,2,  33.1978,2,    269.8,2,    263.2,2,  -999.00,9,  -999.00,9,  -999.00,9,  -999.00,9, -999.000,9, -999.000,9, -999.000,9,  -999.00,9,  -999.00,9,  -1.5549
  32PZ20020819,   CBL,   125,  1,     19,     19,2,20020921,0009, 75.6975,-171.2953, 1660,    124.8,  -1.5522,  33.1990,2,  33.1944,2,    269.7,2,    263.5,2,    40.50,2,    16.30,2,     0.01,2,     2.03,2,    6.136,6,    3.099,6,    0.448,6,    -1.52,2,    70.10,2,  -1.5547
  32PZ20020819,   CBL,   125,  1,     16,     16,2,20020921,0009, 75.6975,-171.2953, 1660,    164.2,  -0.8930,  34.1734,2,  34.1984,2,    239.2,2,    241.2,2,  -999.00,9,  -999.00,9,  -999.00,9,  -999.00,9, -999.000,9, -999.000,9, -999.000,9,  -999.00,9,  -999.00,9,  -0.8976
  32PZ20020819,   CBL,   125,  1,     17,     17,2,20020921,0009, 75.6975,-171.2953, 1660,    164.4,  -0.8912,  34.1837,2,  34.1848,2,    239.0,2,    238.7,2,    27.80,2,    14.40,2,     0.01,2,     1.42,2,    5.650,2,    2.622,2,    0.332,2,    -0.36,2,    52.80,2,  -0.8958
  32PZ20020819,   CBL,   125,  1,     14,     14,2,20020921,0009, 75.6975,-171.2953, 1660,    184.7,  -0.4220,  34.4185,2,  34.4229,2,    254.6,2,    268.4,2,  -999.00,9,  -999.00,9,  -999.00,9,  -999.00,9, -999.000,9, -999.000,9, -999.000,9,  -999.00,9,  -999.00,9,  -0.4281
  32PZ20020819,   CBL,   125,  1,     15,     15,2,20020921,0009, 75.6975,-171.2953, 1660,    184.8,  -0.4165,  34.4208,2,-999.0000,9,    254.6,2,    268.5,2,    14.20,2,    12.50,2,     0.01,2,     1.02,2,    6.087,2,    2.776,2,    0.366,2,  -999.00,9,  -999.00,9,  -0.4226
  32PZ20020819,   CBL,   125,  1,     13,     13,2,20020921,0009, 75.6975,-171.2953, 1660,    194.6,  -0.2265,  34.4719,2,-999.0000,9,    255.8,2,    272.1,2,    13.00,2,    12.50,2,     0.01,2,     0.98,2,    6.064,2,    2.761,2,    0.375,2,  -999.00,9,  -999.00,9,  -0.2332
  32PZ20020819,   CBL,   125,  1,     12,     12,2,20020921,0009, 75.6975,-171.2953, 1660,    228.0,   0.3404,  34.6199,2,  34.6208,2,    277.3,2,    287.3,2,     8.30,2,    12.30,2,     0.01,2,     0.89,2,    6.007,2,    2.766,2,    0.402,2,  -999.00,9,  -999.00,9,   0.3313
  32PZ20020819,   CBL,   125,  1,     11,     11,2,20020921,0009, 75.6975,-171.2953, 1660,    286.8,   0.9890,  34.7959,2,-999.0000,9,    292.5,2,    293.1,2,     6.90,2,    12.90,2,     0.01,2,     0.88,2,    5.566,2,    2.559,2,    0.365,2,  -999.00,9,  -999.00,9,   0.9757
  32PZ20020819,   CBL,   125,  1,     10,     10,2,20020921,0009, 75.6975,-171.2953, 1660,    374.7,   1.1483,  34.8469,2,  34.8478,2,    298.1,2,    297.8,2,     6.50,2,    12.80,2,     0.01,2,     0.88,2,    5.456,2,    2.505,2,    0.358,2,     0.24,2,    44.50,2,   1.1301
  32PZ20020819,   CBL,   125,  1,      9,      9,2,20020921,0009, 75.6975,-171.2953, 1660,    462.3,   0.9705,  34.8583,2,-999.0000,9,    301.3,2,    300.2,2,     6.40,2,    12.90,2,     0.00,2,     0.88,2,    5.424,2,    2.501,2, -999.000,9,  -999.00,9,  -999.00,9,   0.9484
  32PZ20020819,   CBL,   125,  1,      8,      8,2,20020921,0009, 75.6975,-171.2953, 1660,    525.2,   0.7895,  34.8600,2,  34.8610,2,    303.2,2,   -999.0,9,     6.20,2,    12.80,2,     0.01,2,     0.88,2,    5.325,2,    2.463,2,    0.350,2,  -999.00,9,  -999.00,9,   0.7649
  32PZ20020819,   CBL,   125,  1,      7,      7,2,20020921,0009, 75.6975,-171.2953, 1660,    740.4,   0.2765,  34.8594,2,-999.0000,9,    304.9,2,    304.6,2,     6.40,2,    12.80,2,     0.01,2,     0.89,2,    5.096,2,    2.344,2,    0.329,2,  -999.00,9,  -999.00,9,   0.2435
  32PZ20020819,   CBL,   125,  1,      6,      6,2,20020921,0009, 75.6975,-171.2953, 1660,    877.6,   0.0625,  34.8645,2,  34.8661,2,    305.7,2,    304.7,2,     6.60,2,    12.90,2,     0.00,2,     0.89,2,    4.824,2,    2.195,2,    0.298,2,     0.25,2,    44.50,2,   0.0239
  32PZ20020819,   CBL,   125,  1,      5,      5,2,20020921,0009, 75.6975,-171.2953, 1660,   1122.7,  -0.1692,  34.8808,2,-999.0000,9,    303.8,2,    303.9,2,     7.10,2,    13.20,2,     0.00,2,     0.92,2,    3.967,2,    1.813,2,    0.220,2,  -999.00,9,  -999.00,9,  -0.2189
  32PZ20020819,   CBL,   125,  1,      4,      4,2,20020921,0009, 75.6975,-171.2953, 1660,   1321.4,  -0.3161,  34.8973,2,  34.8987,2,    302.0,2,   -999.0,9,     8.10,2,    13.60,2,     0.01,2,     0.95,2,    2.853,2,    1.301,2,    0.143,2,  -999.00,9,  -999.00,9,  -0.3754
  32PZ20020819,   CBL,   125,  1,      3,      3,2,20020921,0009, 75.6975,-171.2953, 1660,   1472.4,  -0.4323,  34.9062,2,-999.0000,9,    299.7,2,    299.9,2,     9.20,2,    14.10,2,     0.01,2,     0.98,2,    2.386,2,    1.137,2, -999.000,9,  -999.00,9,  -999.00,9,  -0.4990
  32PZ20020819,   CBL,   125,  1,      2,      2,2,20020921,0009, 75.6975,-171.2953, 1660,   1574.8,  -0.4364,  34.9234,2,  34.9251,2,    296.1,2,    295.4,2,    10.50,2,    14.40,2,     0.01,2,     1.01,2,    1.236,2,    0.570,2,    0.050,2,  -999.00,9,  -999.00,9,  -0.5092
  32PZ20020819,   CBL,   125,  1,      1,      1,2,20020921,0009, 75.6975,-171.2953, 1660,   1633.6,  -0.4351,  34.9317,2,  34.9341,2,    292.2,2,    292.3,2,    11.60,2,    14.70,2,     0.01,2,     1.03,2,    0.852,2,    0.407,2, -999.000,9,  -999.00,9,  -999.00,9,  -0.5115