BOTTLE,20220815CCHSIOAMB
EXPOCODE,SECT_ID,STNNBR,CASTNO,SAMPNO,BTLNBR,BTLNBR_FLAG_W,DATE,TIME,LATITUDE,LONGITUDE,DEPTH,CTDPRS,CTDTMP,CTDSAL,CTDSAL_FLAG_W,SALNTY,SALNTY_FLAG_W,CTDOXY,CTDOXY_FLAG_W,OXYGEN,OXYGEN_FLAG_W,SILCAT,SILCAT_FLAG_W,NITRAT,NITRAT_FLAG_W,NITRIT,NITRIT_FLAG_W,PHSPHT,PHSPHT_FLAG_W,CFC-11,CFC-11_FLAG_W,CFC-12,CFC-12_FLAG_W,CFC113,CFC113_FLAG_W,DELO18,DELO18_FLAG_W,BARIUM,BARIUM_FLAG_W,THETA
,,,,,,,,,,,METERS,DBAR,ITS-90,PSS-78,,PSS-78,,UMOL/KG,,UMOL/KG,,UMOL/KG,,UMOL/KG,,UMOL/KG,,UMOL/KG,,PMOL/KG,,PMOL/KG,,PMOL/KG,,/MILLE,,NMOL/KG,,DEG C
  32PZ20020819,   CBL,    31,  1,     26,     26,2,20020831,1908, 80.0602,-175.1290, 2334,      1.8,  -1.5848,  30.2826,2,  30.2812,2,    379.8,2,    382.1,2,  -999.00,9,  -999.00,9,  -999.00,9,  -999.00,9, -999.000,9, -999.000,9, -999.000,9,  -999.00,9,  -999.00,9,  -1.5848
  32PZ20020819,   CBL,    31,  1,     25,     25,2,20020831,1908, 80.0602,-175.1290, 2334,     13.0,  -1.5894,  30.2845,2,  30.2864,2,    382.3,2,    382.2,2,     5.60,2,     0.60,2,     0.04,2,     0.63,2,    7.774,6,    3.937,6,    0.730,6,    -3.32,2,    57.10,2,  -1.5896
  32PZ20020819,   CBL,    31,  1,     24,     24,2,20020831,1908, 80.0602,-175.1290, 2334,     33.1,  -1.4787,  30.6327,2,  30.7105,2,    381.8,2,    379.5,2,     6.70,2,     1.60,2,     0.10,2,     0.57,2,    7.928,6,    4.005,6,    0.726,6,    -3.55,2,    58.40,2,  -1.4792
  32PZ20020819,   CBL,    31,  1,     23,     23,2,20020831,1908, 80.0602,-175.1290, 2334,     47.3,  -1.6051,  31.0010,2,  31.1260,2,    381.9,2,    363.9,2,     8.70,2,     3.10,2,     0.04,2,     0.66,2, -999.000,9, -999.000,9, -999.000,9,    -3.14,2,    57.30,2,  -1.6058
  32PZ20020819,   CBL,    31,  1,     22,     22,2,20020831,1908, 80.0602,-175.1290, 2334,     69.3,  -1.6149,  33.5263,2,  33.5381,2,    304.6,2,    303.5,2,    12.70,2,     8.70,2,     0.03,2,     0.90,2, -999.000,9, -999.000,9, -999.000,9,    -1.04,2,    52.10,2,  -1.6163
  32PZ20020819,   CBL,    31,  1,     21,     21,2,20020831,1908, 80.0602,-175.1290, 2334,     80.7,  -1.5958,  33.7580,2,  33.8102,2,    308.9,2,    312.1,2,     7.80,2,     8.00,2,     0.03,2,     0.73,2, -999.000,9, -999.000,9, -999.000,9,    -0.76,2,    45.00,2,  -1.5975
  32PZ20020819,   CBL,    31,  1,     20,     20,2,20020831,1908, 80.0602,-175.1290, 2334,     92.1,  -1.5709,  33.9222,2,  33.9647,2,    313.1,2,    312.2,2,     6.90,2,     8.20,2,     0.03,2,     0.71,2, -999.000,9, -999.000,9, -999.000,9,  -999.00,9,  -999.00,9,  -1.5728
  32PZ20020819,   CBL,    31,  1,     19,     19,2,20020831,1908, 80.0602,-175.1290, 2334,    101.9,  -1.4987,  34.0556,2,  34.0822,2,    313.7,2,    312.1,2,     6.10,2,     8.30,2,     0.03,3,     0.70,2,    6.819,6,    3.301,6,    0.500,6,    -0.17,2,    44.10,2,  -1.5009
  32PZ20020819,   CBL,    31,  1,     18,     18,2,20020831,1908, 80.0602,-175.1290, 2334,    111.6,  -1.3037,  34.1596,2,  34.1775,2,    312.7,2,    312.8,2,     5.60,2,     8.50,2,     0.03,3,     0.70,2, -999.000,9, -999.000,9, -999.000,9,    -0.23,2,    43.60,2,  -1.3064
  32PZ20020819,   CBL,    31,  1,     17,     17,2,20020831,1908, 80.0602,-175.1290, 2334,    131.0,  -0.8646,  34.2907,2,  34.3003,2,    313.7,2,    312.5,2,     5.40,2,     8.90,2,     0.03,3,     0.71,2,    6.715,2,    3.202,2,    0.459,2,  -999.00,9,  -999.00,9,  -0.8683
  32PZ20020819,   CBL,    31,  1,     16,     16,2,20020831,1908, 80.0602,-175.1290, 2334,    171.4,  -0.0452,  34.4977,2,  34.5040,2,    304.6,2,    302.9,2,     5.70,2,    10.30,2,     0.03,3,     0.78,2, -999.000,9, -999.000,9, -999.000,9,  -999.00,9,  -999.00,9,  -0.0514
  32PZ20020819,   CBL,    31,  1,     15,     15,2,20020831,1908, 80.0602,-175.1290, 2334,    210.4,   0.4886,  34.6576,2,  34.6694,2,    300.1,2,    299.8,2,  -999.00,9,  -999.00,9,  -999.00,9,  -999.00,9, -999.000,9, -999.000,9, -999.000,9,  -999.00,9,  -999.00,9,   0.4799
  32PZ20020819,   CBL,    31,  1,     14,     14,2,20020831,1908, 80.0602,-175.1290, 2334,    250.1,   0.8080,  34.7657,2,  34.7940,2,    298.1,2,    298.4,2,     6.20,2,    12.10,2,     0.02,2,     0.86,2,    5.275,2,    2.507,2,    0.343,2,  -999.00,9,  -999.00,9,   0.7969
  32PZ20020819,   CBL,    31,  1,     13,     13,2,20020831,1908, 80.0602,-175.1290, 2334,    299.9,   1.0845,  34.8336,2,  34.8340,2,    298.9,2,    300.0,2,     6.00,2,    12.20,2,     0.02,2,     0.87,2,    5.587,2,    2.665,2,    0.402,2,  -999.00,9,  -999.00,9,   1.0703
  32PZ20020819,   CBL,    31,  1,     12,     12,2,20020831,1908, 80.0602,-175.1290, 2334,    358.9,   1.1735,  34.8544,2,  34.8554,2,    300.3,2,    300.7,2,     6.10,2,    12.40,2,     0.02,2,     0.87,2,    5.266,2,    2.496,2,    0.350,2,     0.16,2,    41.60,2,   1.1561
  32PZ20020819,   CBL,    31,  1,     11,     11,2,20020831,1908, 80.0602,-175.1290, 2334,    417.9,   1.0149,  34.8646,2,  34.8647,2,    302.0,2,    302.2,2,     6.10,2,    12.40,2,     0.02,2,     0.88,2,    5.392,2,    2.567,2,    0.363,2,  -999.00,9,  -999.00,9,   0.9949
  32PZ20020819,   CBL,    31,  1,     10,     10,2,20020831,1908, 80.0602,-175.1290, 2334,    497.8,   0.7426,  34.8621,2,  34.8629,2,    302.7,2,    303.2,2,     6.20,2,    12.30,2,     0.02,2,     0.88,2,    5.195,2,    2.462,2,    0.332,2,  -999.00,9,  -999.00,9,   0.7196
  32PZ20020819,   CBL,    31,  1,      9,      9,2,20020831,1908, 80.0602,-175.1290, 2334,    645.5,   0.3639,  34.8634,2,  34.8633,2,    303.4,2,    303.6,2,     6.50,2,    12.40,2,     0.03,3,     0.88,2,    4.802,2,    2.268,2,    0.299,2,  -999.00,9,  -999.00,9,   0.3352
  32PZ20020819,   CBL,    31,  1,      8,      8,2,20020831,1908, 80.0602,-175.1290, 2334,    795.0,   0.0829,  34.8659,2,  34.8667,2,    305.2,2,    305.0,2,     6.60,2,    12.40,2,     0.03,3,     0.89,2,    4.754,2,    2.232,2,    0.304,2,     0.21,2,    41.70,2,   0.0484
  32PZ20020819,   CBL,    31,  1,      7,      7,2,20020831,1908, 80.0602,-175.1290, 2334,    993.1,  -0.0873,  34.8830,2,  34.8854,2,    303.4,2,    302.3,2,     7.30,2,    12.90,2,     0.03,3,     0.92,2,    2.843,2,    1.324,2,    0.140,2,  -999.00,9,  -999.00,9,  -0.1308
  32PZ20020819,   CBL,    31,  1,      6,      6,2,20020831,1908, 80.0602,-175.1290, 2334,   1241.5,  -0.2336,  34.9031,2,  34.9029,2,    301.4,2,    300.1,2,     8.20,2,    13.30,2,     0.03,3,     0.95,2,    1.379,2,    0.643,2,    0.056,2,  -999.00,9,  -999.00,9,  -0.2893
  32PZ20020819,   CBL,    31,  1,      5,      5,2,20020831,1908, 80.0602,-175.1290, 2334,   1488.7,  -0.3817,  34.9178,2,  34.9174,2,    299.2,2,    298.8,2,     9.30,2,    13.80,2,     0.03,3,     0.98,2,    1.104,2,    0.522,2,    0.037,2,  -999.00,9,  -999.00,9,  -0.4500
  32PZ20020819,   CBL,    31,  1,      4,      4,2,20020831,1908, 80.0602,-175.1290, 2334,   1734.4,  -0.4335,  34.9361,2,  34.9371,2,    292.7,2,    292.6,2,    11.50,2,    14.50,2,     0.03,3,     1.03,2,    0.452,2,    0.212,2,    0.007,2,  -999.00,9,  -999.00,9,  -0.5161
  32PZ20020819,   CBL,    31,  1,      3,      3,2,20020831,1908, 80.0602,-175.1290, 2334,   1977.8,  -0.4152,  34.9474,2,  34.9474,2,    288.0,2,    288.3,2,    12.80,2,    14.80,2,     0.03,3,     1.05,2,    0.105,6,    0.046,6,    0.001,6,  -999.00,9,  -999.00,9,  -0.5139
  32PZ20020819,   CBL,    31,  1,      2,      2,2,20020831,1908, 80.0602,-175.1290, 2334,   2175.2,  -0.3972,  34.9525,2,  34.9517,2,    285.6,2,    286.0,2,    13.60,2,    14.80,2,     0.03,3,     1.06,2,    0.038,2,    0.011,2,    0.003,2,  -999.00,9,  -999.00,9,  -0.5098
  32PZ20020819,   CBL,    31,  1,      1,      1,2,20020831,1908, 80.0602,-175.1290, 2334,   2317.9,  -0.3828,  34.9555,2,  34.9545,2,    284.9,2,    285.2,2,    13.80,2,    14.90,2,     0.03,3,     1.06,2,    0.018,2,    0.002,2,    0.001,2,  -999.00,9,  -999.00,9,  -0.5058
  32PZ20020819,   CBL,    32,  1,     31,     31,2,20020901,0159, 80.1098,-173.3447, 2582,      2.0,  -1.5500,  30.2703,2,  30.2678,2,    382.2,2,    384.5,2,  -999.00,9,  -999.00,9,  -999.00,9,  -999.00,9, -999.000,9, -999.000,9, -999.000,9,  -999.00,9,  -999.00,9,  -1.5500
  32PZ20020819,   CBL,    32,  1,     30,     30,2,20020901,0159, 80.1098,-173.3447, 2582,     13.0,  -1.5855,  30.2752,2,  30.2867,2,    383.7,2,    384.4,2,     4.40,2,     0.10,2,     0.01,2,     0.71,2,    7.683,2,    3.878,2,    0.726,2,    -2.97,2,    56.00,2,  -1.5857
  32PZ20020819,   CBL,    32,  1,     29,     29,2,20020901,0159, 80.1098,-173.3447, 2582,     33.1,  -1.5089,  30.6852,2,  30.6910,2,    387.0,2,    382.0,2,     6.40,2,     1.40,2,     0.12,2,     0.60,2, -999.000,9, -999.000,9, -999.000,9,    -3.47,2,    57.30,2,  -1.5094
  32PZ20020819,   CBL,    32,  1,     28,     28,2,20020901,0159, 80.1098,-173.3447, 2582,     42.7,  -1.5754,  30.8104,2,  30.8623,2,    385.2,2,    379.0,2,     6.80,2,     1.90,2,     0.07,2,     0.63,2, -999.000,9, -999.000,9, -999.000,9,    -3.38,2,    57.00,2,  -1.5760
  32PZ20020819,   CBL,    32,  1,     27,     27,2,20020901,0159, 80.1098,-173.3447, 2582,     57.3,  -1.6150,  31.8491,2,  32.0454,2,    362.2,2,    329.0,2,    13.00,2,     6.20,2,     0.02,2,     0.98,2, -999.000,9, -999.000,9, -999.000,9,    -2.10,2,    55.20,2,  -1.6160
  32PZ20020819,   CBL,    32,  1,     26,     26,2,20020901,0159, 80.1098,-173.3447, 2582,     74.5,  -1.6067,  33.3642,2,  33.3659,2,    303.4,2,    296.6,2,    16.60,2,     9.60,2,     0.02,2,     1.05,2, -999.000,9, -999.000,9, -999.000,9,    -1.07,2,    50.40,2,  -1.6081
  32PZ20020819,   CBL,    32,  1,     25,     25,2,20020901,0159, 80.1098,-173.3447, 2582,     87.3,  -1.6121,  33.7861,2,  33.7694,2,    304.2,2,    310.7,2,     8.60,2,     8.20,2,     0.01,2,     0.76,2, -999.000,9, -999.000,9, -999.000,9,  -999.00,9,  -999.00,9,  -1.6139
  32PZ20020819,   CBL,    32,  1,     24,     24,2,20020901,0159, 80.1098,-173.3447, 2582,    102.2,  -1.5335,  34.0079,2,  33.9922,2,    311.5,2,    313.9,2,     6.20,2,     8.20,2,     0.01,2,     0.70,2,    6.970,6,    3.343,6,    0.529,6,    -0.50,2,    44.60,2,  -1.5357
  32PZ20020819,   CBL,    32,  1,     23,     23,2,20020901,0159, 80.1098,-173.3447, 2582,    121.8,  -1.2176,  34.1891,2,  34.1870,2,    311.8,2,    313.0,2,     5.40,2,     8.70,2,     0.01,2,     0.70,2, -999.000,9, -999.000,9, -999.000,9,    -0.29,2,    44.30,2,  -1.2206
  32PZ20020819,   CBL,    32,  1,     22,     22,2,20020901,0159, 80.1098,-173.3447, 2582,    132.2,  -1.0171,  34.2517,2,  34.2549,2,    313.4,2,    312.4,2,     5.20,2,     8.90,2,     0.01,2,     0.70,2,    6.298,6,    3.020,6,    0.458,6,    -0.23,2,    41.90,2,  -1.0207
  32PZ20020819,   CBL,    32,  1,     21,     21,2,20020901,0159, 80.1098,-173.3447, 2582,    146.3,  -0.7326,  34.3280,2,  34.3300,2,    310.9,2,    306.5,2,     5.60,2,     9.60,2,     0.01,2,     0.74,2, -999.000,9, -999.000,9, -999.000,9,  -999.00,9,  -999.00,9,  -0.7369
  32PZ20020819,   CBL,    32,  1,     20,     20,2,20020901,0159, 80.1098,-173.3447, 2582,    161.2,  -0.3719,  34.4206,2,  34.4291,2,    304.5,2,    301.6,2,  -999.00,9,  -999.00,9,  -999.00,9,  -999.00,9, -999.000,9, -999.000,9, -999.000,9,  -999.00,9,  -999.00,9,  -0.3772
  32PZ20020819,   CBL,    32,  1,     19,     19,2,20020901,0159, 80.1098,-173.3447, 2582,    175.9,  -0.0708,  34.5024,2,  34.5126,2,    301.2,2,    298.7,2,     6.30,2,    10.90,2,     0.01,2,     0.81,2, -999.000,9, -999.000,9, -999.000,9,  -999.00,9,  -999.00,9,  -0.0771
  32PZ20020819,   CBL,    32,  1,     18,     18,2,20020901,0159, 80.1098,-173.3447, 2582,    190.8,   0.1443,  34.5679,2,  34.5741,2,    298.8,2,    298.7,2,  -999.00,9,  -999.00,9,  -999.00,9,  -999.00,9, -999.000,9, -999.000,9, -999.000,9,  -999.00,9,  -999.00,9,   0.1371
  32PZ20020819,   CBL,    32,  1,     17,     17,2,20020901,0159, 80.1098,-173.3447, 2582,    230.9,   0.7676,  34.7684,2,  34.7663,2,    295.8,2,    297.0,2,     6.30,2,    12.20,2,     0.01,2,     0.86,2,    5.075,2,    2.391,2,    0.331,2,  -999.00,9,  -999.00,9,   0.7575
  32PZ20020819,   CBL,    32,  1,     16,     16,2,20020901,0159, 80.1098,-173.3447, 2582,    284.9,   1.0399,  34.8479,2,  34.8443,2,    297.3,2,    299.0,2,     6.30,2,    12.50,2,     0.01,2,     0.87,2,    4.900,2,    2.296,2,    0.312,2,     0.32,2,    42.70,2,   1.0266
  32PZ20020819,   CBL,    32,  1,     15,     15,2,20020901,0159, 80.1098,-173.3447, 2582,    334.3,   0.7840,  34.8344,2,  34.8323,2,    297.5,2,    297.1,2,     6.60,2,    12.70,2,     0.01,2,     0.88,2,    4.176,2,    1.950,2,    0.268,2,  -999.00,9,  -999.00,9,   0.7689
  32PZ20020819,   CBL,    32,  1,     14,     14,2,20020901,0159, 80.1098,-173.3447, 2582,    383.7,   0.7293,  34.8578,2,  34.8563,2,    300.1,2,    299.3,2,     6.50,2,    12.60,2,     0.01,2,     0.88,2,    4.302,2,    1.999,2,    0.245,2,  -999.00,9,  -999.00,9,   0.7120
  32PZ20020819,   CBL,    32,  1,     13,     13,2,20020901,0159, 80.1098,-173.3447, 2582,    432.8,   0.5940,  34.8555,2,  34.8538,2,    298.9,2,    298.3,2,     6.70,2,    12.80,2,     0.01,2,     0.89,2,    3.694,2,    1.720,2,    0.198,2,  -999.00,9,  -999.00,9,   0.5748
  32PZ20020819,   CBL,    32,  1,     12,     12,2,20020901,0159, 80.1098,-173.3447, 2582,    507.1,   0.4918,  34.8656,2,  34.8640,2,    298.9,2,    300.0,2,     6.70,2,    12.70,2,     0.01,2,     0.89,2,    3.885,2,    1.820,2,    0.231,2,  -999.00,9,  -999.00,9,   0.4694
  32PZ20020819,   CBL,    32,  1,     11,     11,2,20020901,0159, 80.1098,-173.3447, 2582,    605.5,   0.3097,  34.8670,2,  34.8656,2,    302.5,2,    301.0,2,     6.80,2,    12.70,2,     0.01,2,     0.90,2,    3.808,2,    1.771,2,    0.220,2,     0.19,2,    41.20,2,   0.2833
  32PZ20020819,   CBL,    32,  1,     10,     10,2,20020901,0159, 80.1098,-173.3447, 2582,    709.0,   0.1264,  34.8717,2,  34.8700,2,    300.5,2,    301.8,2,     6.90,2,    12.80,2,     0.01,2,     0.91,2,    3.315,2,    1.546,2,    0.182,2,  -999.00,9,  -999.00,9,   0.0959
  32PZ20020819,   CBL,    32,  1,      9,      9,2,20020901,0159, 80.1098,-173.3447, 2582,    807.2,   0.0104,  34.8784,2,  34.8768,2,    300.8,2,    301.7,2,     7.20,2,    12.90,2,     0.01,2,     0.91,2,    2.936,2,    1.383,2,    0.195,2,  -999.00,9,  -999.00,9,  -0.0243
  32PZ20020819,   CBL,    32,  1,      8,      8,2,20020901,0159, 80.1098,-173.3447, 2582,    959.1,  -0.0947,  34.8917,2,  34.8908,2,    300.4,2,    300.1,2,  -999.00,9,  -999.00,9,  -999.00,9,  -999.00,9,    1.669,2,    0.779,2,    0.066,2,  -999.00,9,  -999.00,9,  -0.1364
  32PZ20020819,   CBL,    32,  1,      7,      7,2,20020901,0159, 80.1098,-173.3447, 2582,   1117.8,  -0.1976,  34.9036,2,  34.9020,2,    299.8,2,    299.5,2,     8.20,2,    13.30,2,     0.01,2,     0.95,2,    1.078,6,    0.508,6,    0.033,2,  -999.00,9,  -999.00,9,  -0.2469
  32PZ20020819,   CBL,    32,  1,      6,      6,2,20020901,0159, 80.1098,-173.3447, 2582,   1320.4,  -0.2999,  34.9164,2,  34.9194,3,    298.8,2,    299.6,2,  -999.00,9,  -999.00,9,  -999.00,9,  -999.00,9,    0.691,2,    0.321,2,    0.018,2,  -999.00,9,  -999.00,9,  -0.3594
  32PZ20020819,   CBL,    32,  1,      5,      5,2,20020901,0159, 80.1098,-173.3447, 2582,   1527.2,  -0.3758,  34.9295,2,  34.9276,2,    296.4,2,    295.8,2,    10.10,2,    14.10,2,     0.00,2,     1.00,2,    0.335,6,    0.166,6,    0.011,6,  -999.00,9,  -999.00,9,  -0.4465
  32PZ20020819,   CBL,    32,  1,      4,      4,2,20020901,0159, 80.1098,-173.3447, 2582,   1780.2,  -0.4174,  34.9411,2,  34.9397,2,    291.9,2,    291.7,2,  -999.00,9,  -999.00,9,  -999.00,9,  -999.00,9,    0.206,2,    0.110,2,    0.016,2,  -999.00,9,  -999.00,9,  -0.5032
  32PZ20020819,   CBL,    32,  1,      3,      3,2,20020901,0159, 80.1098,-173.3447, 2582,   2033.4,  -0.4103,  34.9503,2,  34.9483,2,    287.8,2,    288.2,2,    12.80,2,    14.80,2,     0.00,2,     1.06,2,    0.060,2,    0.031,2,    0.000,2,  -999.00,9,  -999.00,9,  -0.5128
  32PZ20020819,   CBL,    32,  1,      2,      2,2,20020901,0159, 80.1098,-173.3447, 2582,   2336.4,  -0.3866,  34.9553,2,  34.9534,2,    285.6,2,    285.8,2,  -999.00,9,  -999.00,9,  -999.00,9,  -999.00,9,    0.010,2,    0.006,2,    0.000,2,  -999.00,9,  -999.00,9,  -0.5109
  32PZ20020819,   CBL,    32,  1,      1,      1,2,20020901,0159, 80.1098,-173.3447, 2582,   2580.7,  -0.3660,  34.9572,2,  34.9556,2,    285.3,2,    285.0,2,    13.70,2,    14.90,2,     0.01,2,     1.06,2,    0.031,2,    0.026,2, -999.000,9,  -999.00,9,  -999.00,9,  -0.5090