BOTTLE,20220815CCHSIOAMB
EXPOCODE,SECT_ID,STNNBR,CASTNO,SAMPNO,BTLNBR,BTLNBR_FLAG_W,DATE,TIME,LATITUDE,LONGITUDE,DEPTH,CTDPRS,CTDTMP,CTDSAL,CTDSAL_FLAG_W,SALNTY,SALNTY_FLAG_W,CTDOXY,CTDOXY_FLAG_W,OXYGEN,OXYGEN_FLAG_W,SILCAT,SILCAT_FLAG_W,NITRAT,NITRAT_FLAG_W,NITRIT,NITRIT_FLAG_W,PHSPHT,PHSPHT_FLAG_W,CFC-11,CFC-11_FLAG_W,CFC-12,CFC-12_FLAG_W,CFC113,CFC113_FLAG_W,DELO18,DELO18_FLAG_W,BARIUM,BARIUM_FLAG_W,THETA
,,,,,,,,,,,METERS,DBAR,ITS-90,PSS-78,,PSS-78,,UMOL/KG,,UMOL/KG,,UMOL/KG,,UMOL/KG,,UMOL/KG,,UMOL/KG,,PMOL/KG,,PMOL/KG,,PMOL/KG,,/MILLE,,NMOL/KG,,DEG C
  32PZ20020819,   CBL,    33,  1,     35,     35,2,20020901,0603, 80.2277,-172.8347, 3066,      1.7,  -1.5930,  30.2839,2,  30.2823,2,    382.4,2,    384.7,2,  -999.00,9,  -999.00,9,  -999.00,9,  -999.00,9, -999.000,9, -999.000,9, -999.000,9,  -999.00,9,  -999.00,9,  -1.5930
  32PZ20020819,   CBL,    33,  1,     34,     34,2,20020901,0603, 80.2277,-172.8347, 3066,     13.9,  -1.5837,  30.2890,2,  30.2952,2,    385.1,2,    384.9,2,     3.80,2,     0.10,2,     0.00,2,     0.71,2,    7.623,2,    3.816,2,    0.710,2,    -2.95,2,    57.60,2,  -1.5839
  32PZ20020819,   CBL,    33,  1,     33,     33,2,20020901,0603, 80.2277,-172.8347, 3066,     28.9,  -1.5185,  30.7389,2,  30.7436,2,    388.3,2,    385.1,2,  -999.00,9,  -999.00,9,  -999.00,9,  -999.00,9, -999.000,9, -999.000,9, -999.000,9,    -2.88,2,    58.40,2,  -1.5189
  32PZ20020819,   CBL,    33,  1,     32,     32,2,20020901,0603, 80.2277,-172.8347, 3066,     43.5,  -1.5734,  31.0916,2,  31.1164,2,    386.3,2,    379.6,2,  -999.00,9,  -999.00,9,  -999.00,9,  -999.00,9, -999.000,9, -999.000,9, -999.000,9,    -2.61,2,    58.70,2,  -1.5741
  32PZ20020819,   CBL,    33,  1,     31,     31,2,20020901,0603, 80.2277,-172.8347, 3066,     58.6,  -1.6454,  31.7041,2,  31.7505,2,    364.3,2,    341.2,2,    12.60,2,     5.10,2,     0.01,2,     1.15,2,    7.378,2,    3.708,2,    0.631,2,    -1.96,2,    57.80,2,  -1.6463
  32PZ20020819,   CBL,    33,  1,     30,     30,2,20020901,0603, 80.2277,-172.8347, 3066,     78.0,  -1.5917,  33.3031,2,  33.3005,2,    287.7,2,    290.9,2,    18.50,2,     9.90,2,     0.02,2,     1.13,2, -999.000,9, -999.000,9, -999.000,9,    -1.19,2,    52.40,2,  -1.5932
  32PZ20020819,   CBL,    33,  1,     29,     29,2,20020901,0603, 80.2277,-172.8347, 3066,     92.5,  -1.6045,  33.7494,2,  33.7540,2,    304.1,2,    306.8,2,     9.90,2,     8.50,2,     0.02,2,     0.81,2, -999.000,9, -999.000,9, -999.000,9,  -999.00,9,  -999.00,9,  -1.6064
  32PZ20020819,   CBL,    33,  1,     28,     28,2,20020901,0603, 80.2277,-172.8347, 3066,    103.2,  -1.5560,  33.9285,2,  33.9177,2,    309.1,2,    310.3,2,     7.60,2,     8.30,2,     0.01,2,     0.74,2, -999.000,9, -999.000,9, -999.000,9,    -0.60,2,    46.10,2,  -1.5582
  32PZ20020819,   CBL,    33,  1,     27,     27,2,20020901,0603, 80.2277,-172.8347, 3066,    122.7,  -1.4056,  34.1198,2,  34.1271,2,    310.4,2,    309.4,2,     6.20,2,     8.70,2,     0.02,2,     0.73,2, -999.000,9, -999.000,9, -999.000,9,  -999.00,9,  -999.00,9,  -1.4084
  32PZ20020819,   CBL,    33,  1,     26,     26,2,20020901,0603, 80.2277,-172.8347, 3066,    132.5,  -1.1064,  34.2164,2,  34.2161,2,    311.3,2,    310.1,2,     5.60,2,     8.90,2,     0.02,2,     0.72,2, -999.000,9, -999.000,9, -999.000,9,    -0.22,2,    43.70,2,  -1.1099
  32PZ20020819,   CBL,    33,  1,     25,     25,2,20020901,0603, 80.2277,-172.8347, 3066,    142.1,  -0.8801,  34.2869,2,  34.2802,2,    312.0,2,    309.7,2,     5.40,2,     9.10,2,     0.02,2,     0.72,2,    6.544,6,    3.045,6,    0.449,6,    -0.10,2,    41.90,2,  -0.8841
  32PZ20020819,   CBL,    33,  1,     24,     24,2,20020901,0603, 80.2277,-172.8347, 3066,    161.4,  -0.5146,  34.3763,2,  34.3656,2,    308.1,2,    304.6,2,  -999.00,9,  -999.00,9,  -999.00,9,  -999.00,9, -999.000,9, -999.000,9, -999.000,9,  -999.00,9,  -999.00,9,  -0.5197
  32PZ20020819,   CBL,    33,  1,     21,     21,2,20020901,0603, 80.2277,-172.8347, 3066,    175.9,  -0.1807,  34.4604,2,  34.4615,2,    304.5,2,    301.6,2,     5.80,2,    10.40,2,     0.02,2,     0.78,2, -999.000,9, -999.000,9, -999.000,9,  -999.00,9,  -999.00,9,  -0.1868
  32PZ20020819,   CBL,    33,  1,     20,     20,2,20020901,0603, 80.2277,-172.8347, 3066,    190.5,   0.0896,  34.5423,2,  34.5436,2,    301.3,2,    298.9,2,  -999.00,9,  -999.00,9,  -999.00,9,  -999.00,9, -999.000,9, -999.000,9, -999.000,9,  -999.00,9,  -999.00,9,   0.0825
  32PZ20020819,   CBL,    33,  1,     19,     19,2,20020901,0603, 80.2277,-172.8347, 3066,    234.6,   0.7823,  34.7666,2,  34.7670,2,    296.7,2,    297.3,2,     6.20,2,    12.20,2,     0.02,2,     0.86,2,    5.147,2,    2.396,2,    0.330,2,  -999.00,9,  -999.00,9,   0.7720
  32PZ20020819,   CBL,    33,  1,     18,     18,2,20020901,0603, 80.2277,-172.8347, 3066,    298.1,   1.0360,  34.8416,2,  34.8415,2,    297.8,2,    298.6,2,     6.20,2,    12.50,2,     0.01,2,     0.87,2,    5.007,2,    2.335,2,    0.326,2,     0.20,2,    41.40,2,   1.0220
  32PZ20020819,   CBL,    33,  1,     17,     17,2,20020901,0603, 80.2277,-172.8347, 3066,    347.0,   0.8543,  34.8371,2,  34.8370,2,    297.8,2,    297.9,2,     6.50,2,    12.60,2,     0.01,2,     0.88,2,    4.267,2,    1.975,2,    0.239,2,  -999.00,9,  -999.00,9,   0.8384
  32PZ20020819,   CBL,    33,  1,     16,     16,2,20020901,0603, 80.2277,-172.8347, 3066,    376.1,   0.8635,  34.8608,2,  34.8610,2,    299.8,2,    300.2,2,     6.30,2,    12.60,2,     0.01,2,     0.88,2,    4.722,2,    2.191,2,    0.285,2,  -999.00,9,  -999.00,9,   0.8461
  32PZ20020819,   CBL,    33,  1,     15,     15,2,20020901,0603, 80.2277,-172.8347, 3066,    439.0,   0.6324,  34.8559,2,  34.8561,2,    299.3,2,    299.1,2,     6.50,2,    12.70,2,     0.02,2,     0.89,2,    4.001,2,    1.846,2,    0.217,2,  -999.00,9,  -999.00,9,   0.6127
  32PZ20020819,   CBL,    33,  1,     14,     14,2,20020901,0603, 80.2277,-172.8347, 3066,    507.0,   0.5260,  34.8633,2,  34.8687,2,    298.9,2,    298.9,2,     6.80,2,    12.80,2,     0.02,2,     0.90,2,    3.778,2,    1.757,2,    0.220,2,  -999.00,9,  -999.00,9,   0.5034
  32PZ20020819,   CBL,    33,  1,     13,     13,2,20020901,0603, 80.2277,-172.8347, 3066,    609.5,   0.3431,  34.8652,2,  34.8657,2,    300.1,2,    300.6,2,     6.70,2,    12.70,2,     0.02,2,     0.90,2,    3.648,2,    1.686,2,    0.189,2,     0.18,2,    40.80,2,   0.3163
  32PZ20020819,   CBL,    33,  1,     12,     12,2,20020901,0603, 80.2277,-172.8347, 3066,    707.0,   0.1726,  34.8715,2,  34.8712,2,    301.4,2,    301.1,2,     7.00,2,    12.80,2,     0.02,2,     0.91,2,    3.173,2,    1.473,2,    0.167,2,  -999.00,9,  -999.00,9,   0.1419
  32PZ20020819,   CBL,    33,  1,     11,     11,2,20020901,0603, 80.2277,-172.8347, 3066,    819.2,   0.0347,  34.8778,2,  34.8787,2,    301.1,2,    300.6,2,     7.30,2,    12.90,2,     0.01,2,     0.92,2,    2.683,2,    1.245,2,    0.139,2,  -999.00,9,  -999.00,9,  -0.0008
  32PZ20020819,   CBL,    33,  1,     10,     10,2,20020901,0603, 80.2277,-172.8347, 3066,    964.3,  -0.1089,  34.8865,2,  34.8869,2,    301.4,2,    301.3,2,     7.50,2,    13.10,2,     0.01,2,     0.93,2,    2.340,2,    1.085,2,    0.113,2,  -999.00,9,  -999.00,9,  -0.1508
  32PZ20020819,   CBL,    33,  1,      9,      9,2,20020901,0603, 80.2277,-172.8347, 3066,   1116.7,  -0.1989,  34.8985,2,  34.8995,2,    300.4,2,    300.6,2,     8.00,2,    13.20,2,     0.01,2,     0.94,2,    1.579,2,    0.733,2,    0.057,2,  -999.00,9,  -999.00,9,  -0.2481
  32PZ20020819,   CBL,    33,  1,      8,      8,2,20020901,0603, 80.2277,-172.8347, 3066,   1327.0,  -0.2960,  34.9130,2,  34.9133,2,    299.6,2,    299.7,2,  -999.00,9,  -999.00,9,  -999.00,9,  -999.00,9,    0.904,2,    0.413,2,    0.022,2,  -999.00,9,  -999.00,9,  -0.3559
  32PZ20020819,   CBL,    33,  1,      7,      7,2,20020901,0603, 80.2277,-172.8347, 3066,   1526.4,  -0.3542,  34.9282,2,  34.9278,2,    296.9,2,    296.5,2,     9.80,2,    14.00,2,     0.01,2,     1.00,2,    0.211,2,    0.101,2,    0.000,2,  -999.00,9,  -999.00,9,  -0.4251
  32PZ20020819,   CBL,    33,  1,      6,      6,2,20020901,0603, 80.2277,-172.8347, 3066,   1781.0,  -0.4049,  34.9398,2,  34.9402,2,    293.2,2,    293.3,2,  -999.00,9,  -999.00,9,  -999.00,9,  -999.00,9,    0.127,2,    0.050,2,    0.000,2,  -999.00,9,  -999.00,9,  -0.4909
  32PZ20020819,   CBL,    33,  1,      5,      5,2,20020901,0603, 80.2277,-172.8347, 3066,   2101.4,  -0.4070,  34.9495,2,  34.9491,2,    289.8,2,    288.6,2,    12.50,2,    14.80,2,     0.02,2,     1.05,2,    0.047,2,    0.016,2,    0.000,2,  -999.00,9,  -999.00,9,  -0.5142
  32PZ20020819,   CBL,    33,  1,      4,      4,2,20020901,0603, 80.2277,-172.8347, 3066,   2334.7,  -0.3893,  34.9540,2,  34.9540,2,    286.5,2,    286.3,2,  -999.00,9,  -999.00,9,  -999.00,9,  -999.00,9,    0.028,2,    0.014,2,    0.003,2,  -999.00,9,  -999.00,9,  -0.5134
  32PZ20020819,   CBL,    33,  1,      3,      3,2,20020901,0603, 80.2277,-172.8347, 3066,   2643.4,  -0.3632,  34.9571,2,  34.9567,2,    285.2,2,    285.1,2,    13.70,2,    15.00,2,     0.02,2,     1.06,2,    0.025,2,    0.003,2,    0.000,2,  -999.00,9,  -999.00,9,  -0.5111
  32PZ20020819,   CBL,    33,  1,      2,      2,2,20020901,0603, 80.2277,-172.8347, 3066,   2953.7,  -0.3368,  34.9576,2,  34.9573,2,    284.6,2,    284.8,2,  -999.00,9,  -999.00,9,  -999.00,9,  -999.00,9,    0.009,2,    0.001,2,    0.000,2,  -999.00,9,  -999.00,9,  -0.5102
  32PZ20020819,   CBL,    33,  1,      1,      1,2,20020901,0603, 80.2277,-172.8347, 3066,   3059.1,  -0.3275,  34.9574,2,  34.9573,2,    284.8,2,    284.7,2,    13.70,2,    14.90,2,     0.02,2,     1.05,2,    0.020,2,    0.009,2,    0.000,2,  -999.00,9,  -999.00,9,  -0.5100
  32PZ20020819,   CBL,    34,  1,     32,     32,2,20020901,1310, 80.1978,-170.1043, 3364,      1.6,  -1.5352,  30.2046,2,  30.2051,2,    381.0,2,    383.3,2,     5.50,2,     0.10,2,     0.02,2,     0.69,2, -999.000,9, -999.000,9, -999.000,9,    -3.27,2,    59.70,2,  -1.5352
  32PZ20020819,   CBL,    34,  1,     31,     31,2,20020901,1310, 80.1978,-170.1043, 3364,     14.3,  -1.5862,  30.2060,2,  30.2085,2,    382.3,2,    383.5,2,     5.40,2,     0.10,2,     0.01,2,     0.69,2,    7.675,2,    3.836,2,    0.705,2,    -3.11,2,    56.70,2,  -1.5864
  32PZ20020819,   CBL,    34,  1,     30,     30,2,20020901,1310, 80.1978,-170.1043, 3364,     34.1,  -1.5481,  30.9313,2,  30.9496,2,    385.8,2,    383.5,2,     5.40,2,     1.10,2,     0.09,2,     0.82,2, -999.000,9, -999.000,9, -999.000,9,    -2.70,2,    60.20,2,  -1.5486
  32PZ20020819,   CBL,    34,  1,     29,     29,2,20020901,1310, 80.1978,-170.1043, 3364,     53.6,  -1.6719,  31.6152,2,  31.6566,2,    365.2,2,    350.4,2,    11.60,2,     4.40,2,     0.02,2,     1.14,2,    7.422,2,    3.753,2,    0.656,2,    -2.03,2,    59.50,2,  -1.6727
  32PZ20020819,   CBL,    34,  1,     28,     28,2,20020901,1310, 80.1978,-170.1043, 3364,     68.7,  -1.5931,  32.4124,2,  32.4042,2,    319.6,2,    292.2,2,    21.60,2,     9.30,2,     0.03,2,     1.45,2,    6.992,2,    3.571,2,    0.538,2,    -1.50,2,    59.80,2,  -1.5943
  32PZ20020819,   CBL,    34,  1,     27,     27,2,20020901,1310, 80.1978,-170.1043, 3364,     78.6,  -1.5460,  33.0902,2,  33.1241,2,    284.2,2,    272.2,2,    26.50,2,    11.50,2,     0.03,2,     1.45,2,    6.778,6,    3.455,6,    0.512,6,    -1.18,2,    65.60,2,  -1.5475
  32PZ20020819,   CBL,    34,  1,     26,     26,2,20020901,1310, 80.1978,-170.1043, 3364,     88.5,  -1.5776,  33.4871,2,  33.5275,2,    276.9,2,    284.5,2,    21.50,2,    10.90,2,     0.03,2,     1.23,2,    7.010,2,    3.364,2,    0.498,2,    -1.10,2,    58.20,2,  -1.5794
  32PZ20020819,   CBL,    34,  1,     25,     25,2,20020901,1310, 80.1978,-170.1043, 3364,     97.8,  -1.5637,  33.8323,2,  33.8341,2,    295.8,2,    301.4,2,    11.10,2,     8.90,2,     0.03,2,     0.86,2,    6.923,6,    3.340,6,    0.507,6,    -0.75,2,    51.40,2,  -1.5658
  32PZ20020819,   CBL,    34,  1,     24,     24,2,20020901,1310, 80.1978,-170.1043, 3364,    107.9,  -1.5324,  33.9359,2,  33.9134,2,    301.7,2,    304.3,2,     9.40,2,     8.80,2,     0.03,3,     0.80,2,    7.053,2,    3.320,2,    0.496,2,    -0.52,2,    52.50,2,  -1.5347
  32PZ20020819,   CBL,    34,  1,     23,     23,2,20020901,1310, 80.1978,-170.1043, 3364,    122.8,  -1.1711,  34.2106,2,  34.2137,2,    305.9,2,    310.9,2,     5.50,2,     8.70,2,     0.02,2,     0.71,2,    6.644,6,    3.135,6,    0.474,6,    -0.27,2,    47.20,2,  -1.1742
  32PZ20020819,   CBL,    34,  1,     22,     22,2,20020901,1310, 80.1978,-170.1043, 3364,    137.1,  -0.6546,  34.3519,2,  34.3608,2,    307.3,2,    306.1,2,     5.50,2,     9.50,2,     0.02,2,     0.75,2,    6.317,2,    2.946,2,    0.427,2,    -0.09,2,    44.90,2,  -0.6587
  32PZ20020819,   CBL,    34,  1,     21,     21,2,20020901,1310, 80.1978,-170.1043, 3364,    176.6,   0.2194,  34.5836,2,  34.5873,2,    299.7,2,    298.9,2,     6.00,2,    11.00,2,     0.02,2,     0.82,2, -999.000,9, -999.000,9, -999.000,9,     0.03,2,    54.80,2,   0.2126
  32PZ20020819,   CBL,    34,  1,     20,     20,2,20020901,1310, 80.1978,-170.1043, 3364,    221.1,   0.5341,  34.6766,2,  34.6873,2,    295.6,2,    295.6,2,     6.40,2,    11.80,2,     0.03,3,     0.85,2,    4.734,2,    2.188,2,    0.288,2,     0.16,2,    46.10,2,   0.5249
  32PZ20020819,   CBL,    34,  1,     19,     19,2,20020901,1310, 80.1978,-170.1043, 3364,    275.2,   0.6710,  34.7704,2,  34.7714,2,    297.6,2,    298.2,2,     6.00,2,    12.10,2,     0.02,2,     0.86,2,    4.841,2,    2.201,2,    0.251,2,     0.38,2,    41.20,2,   0.6590
  32PZ20020819,   CBL,    34,  1,     18,     18,2,20020901,1310, 80.1978,-170.1043, 3364,    329.7,   0.7100,  34.7904,2,  34.7977,2,    298.0,2,    298.7,2,     6.00,2,    12.20,2,     0.02,2,     0.86,2,    4.845,2,    2.214,2,    0.257,2,     0.17,2,    43.70,2,   0.6954
  32PZ20020819,   CBL,    34,  1,     17,     17,2,20020901,1310, 80.1978,-170.1043, 3364,    374.0,   0.7301,  34.8052,2,  34.8100,2,    299.0,2,    299.4,2,     6.00,2,    12.30,2,     0.02,2,     0.86,2,    4.774,2,    2.173,2,    0.250,2,     0.30,2,    40.70,2,   0.7133
  32PZ20020819,   CBL,    34,  1,     16,     16,2,20020901,1310, 80.1978,-170.1043, 3364,    437.7,   0.6858,  34.8191,2,  34.8241,2,    299.7,2,    299.8,2,     6.00,2,    12.20,2,     0.02,2,     0.86,2,    4.778,2,    2.154,2,    0.252,2,     0.27,2,    42.80,2,   0.6660
  32PZ20020819,   CBL,    34,  1,     15,     15,2,20020901,1310, 80.1978,-170.1043, 3364,    494.9,   0.6286,  34.8203,2,  34.8245,2,    300.7,2,    300.5,2,     6.00,2,    12.30,2,     0.02,2,     0.87,2,    4.618,2,    2.109,2,    0.240,2,     0.33,2,    41.10,2,   0.6062
  32PZ20020819,   CBL,    34,  1,     14,     14,2,20020901,1310, 80.1978,-170.1043, 3364,    640.8,   0.5467,  34.8614,2,  34.8649,2,    300.3,2,    301.4,2,     6.50,2,    12.50,2,     0.02,2,     0.89,2,    4.178,2,    1.950,2,    0.251,2,     0.18,2,    47.60,2,   0.5173
  32PZ20020819,   CBL,    34,  1,     13,     13,2,20020901,1310, 80.1978,-170.1043, 3364,    784.9,   0.2290,  34.8697,2,  34.8718,2,    301.6,2,    301.3,2,     6.90,2,    12.70,2,     0.02,2,     0.91,2,    3.440,2,    1.608,2,    0.192,2,     0.27,2,    45.20,2,   0.1940
  32PZ20020819,   CBL,    34,  1,     12,     12,2,20020901,1310, 80.1978,-170.1043, 3364,    928.8,  -0.0056,  34.8793,2,  34.8831,2,    301.5,2,    302.0,2,     7.10,2,    12.80,2,     0.02,2,     0.92,2,    2.921,2,    1.362,2,    0.154,2,     0.22,2,    45.90,2,  -0.0464
  32PZ20020819,   CBL,    34,  1,     11,     11,2,20020901,1310, 80.1978,-170.1043, 3364,   1122.8,  -0.1455,  34.8946,2,  34.8986,2,    300.6,2,    300.4,2,     7.80,2,    13.20,2,     0.02,2,     0.95,2,    1.715,2,    0.807,2,    0.066,2,     0.27,2,    43.00,2,  -0.1955
  32PZ20020819,   CBL,    34,  1,     10,     10,2,20020901,1310, 80.1978,-170.1043, 3364,   1365.5,  -0.2960,  34.9131,2,  34.9182,2,    299.5,2,    299.5,2,     8.70,2,    13.40,2,     0.02,2,     0.97,2, -999.000,9, -999.000,9, -999.000,9,     0.27,2,    42.00,2,  -0.3581
  32PZ20020819,   CBL,    34,  1,      9,      9,2,20020901,1310, 80.1978,-170.1043, 3364,   1610.5,  -0.3677,  34.9302,2,  34.9349,2,    296.4,2,    296.2,2,    10.10,2,    14.00,2,     0.02,2,     1.00,2,    0.296,2,    0.163,2,    0.009,2,     0.35,2,    45.00,2,  -0.4435
  32PZ20020819,   CBL,    34,  1,      8,      8,2,20020901,1310, 80.1978,-170.1043, 3364,   1854.7,  -0.4011,  34.9415,2,  34.9463,2,    292.7,2,    293.0,2,    11.30,2,    14.30,2,     0.02,2,     1.03,2, -999.000,9, -999.000,9, -999.000,9,     0.33,2,    50.90,2,  -0.4919
  32PZ20020819,   CBL,    34,  1,      7,      7,2,20020901,1310, 80.1978,-170.1043, 3364,   2124.0,  -0.4076,  34.9503,2,  34.9543,2,    289.5,2,    289.0,2,    12.50,2,    14.70,2,     0.02,2,     1.05,2,    0.032,2,    0.013,2,    0.002,2,     0.37,2,    48.00,2,  -0.5164
  32PZ20020819,   CBL,    34,  1,      6,      6,2,20020901,1310, 80.1978,-170.1043, 3364,   2395.9,  -0.3895,  34.9548,2,  34.9580,2,    286.7,2,    286.3,2,    13.20,2,    14.80,2,     0.02,2,     1.06,2, -999.000,9, -999.000,9, -999.000,9,     0.42,2,    48.00,2,  -0.5181
  32PZ20020819,   CBL,    34,  1,      5,      5,2,20020901,1310, 80.1978,-170.1043, 3364,   2641.6,  -0.3632,  34.9579,2,  34.9615,3,    285.0,2,    284.8,2,    13.70,2,    14.80,2,     0.02,2,     1.06,2,    0.013,2,    0.002,2,    0.000,2,     0.37,2,    55.80,2,  -0.5110
  32PZ20020819,   CBL,    34,  1,      4,      4,2,20020901,1310, 80.1978,-170.1043, 3364,   2838.6,  -0.3470,  34.9579,2,  34.9620,3,    284.8,2,    285.0,2,    13.70,2,    14.80,2,     0.02,2,     1.06,2, -999.000,9, -999.000,9, -999.000,9,     0.31,2,    48.30,2,  -0.5108
  32PZ20020819,   CBL,    34,  1,      3,      3,2,20020901,1310, 80.1978,-170.1043, 3364,   3086.2,  -0.3257,  34.9578,2,  34.9618,3,    284.6,2,    284.7,2,    13.70,2,    14.90,2,     0.02,2,     1.06,2,    0.007,2,    0.003,2,    0.002,2,     0.29,2,    59.00,2,  -0.5105
  32PZ20020819,   CBL,    34,  1,      2,      2,2,20020901,1310, 80.1978,-170.1043, 3364,   3238.5,  -0.3121,  34.9578,2,  34.9615,3,    284.5,2,    284.7,2,    13.60,2,    14.90,2,     0.02,2,     1.06,2, -999.000,9, -999.000,9, -999.000,9,     0.31,2,    53.10,2,  -0.5104
  32PZ20020819,   CBL,    34,  1,      1,      1,2,20020901,1310, 80.1978,-170.1043, 3364,   3368.0,  -0.3002,  34.9578,2,  34.9615,3,    284.5,2,    284.7,2,    13.70,2,    14.90,2,     0.02,2,     1.05,2,    0.018,2,    0.008,2,    0.001,2,     0.23,2,    58.40,2,  -0.5102