BOTTLE,20220815CCHSIOAMB
EXPOCODE,SECT_ID,STNNBR,CASTNO,SAMPNO,BTLNBR,BTLNBR_FLAG_W,DATE,TIME,LATITUDE,LONGITUDE,DEPTH,CTDPRS,CTDTMP,CTDSAL,CTDSAL_FLAG_W,SALNTY,SALNTY_FLAG_W,CTDOXY,CTDOXY_FLAG_W,OXYGEN,OXYGEN_FLAG_W,SILCAT,SILCAT_FLAG_W,NITRAT,NITRAT_FLAG_W,NITRIT,NITRIT_FLAG_W,PHSPHT,PHSPHT_FLAG_W,CFC-11,CFC-11_FLAG_W,CFC-12,CFC-12_FLAG_W,CFC113,CFC113_FLAG_W,DELO18,DELO18_FLAG_W,BARIUM,BARIUM_FLAG_W,THETA
,,,,,,,,,,,METERS,DBAR,ITS-90,PSS-78,,PSS-78,,UMOL/KG,,UMOL/KG,,UMOL/KG,,UMOL/KG,,UMOL/KG,,UMOL/KG,,PMOL/KG,,PMOL/KG,,PMOL/KG,,/MILLE,,NMOL/KG,,DEG C
  32PZ20020819,   CBL,    40,  1,     29,     29,2,20020903,0428, 78.7308,-167.2373, 1722,      2.2,  -1.6158,  30.3163,2,  30.3156,2,    390.9,2,    393.2,2,  -999.00,9,  -999.00,9,  -999.00,9,  -999.00,9, -999.000,9, -999.000,9, -999.000,9,  -999.00,9,  -999.00,9,  -1.6158
  32PZ20020819,   CBL,    40,  1,     28,     28,2,20020903,0428, 78.7308,-167.2373, 1722,     16.7,  -1.6171,  30.3155,2,  30.3150,2,    393.5,2,    393.5,2,     1.70,2,     0.10,2,     0.00,2,     0.77,2,    7.488,2,    3.811,2,    0.706,2,    -2.26,2,    57.70,2,  -1.6173
  32PZ20020819,   CBL,    40,  1,     27,     27,2,20020903,0428, 78.7308,-167.2373, 1722,     25.9,  -1.6164,  30.3164,2,  30.3215,2,    394.4,2,    393.2,2,     1.70,2,     0.10,2,     0.00,2,     0.77,2, -999.000,9, -999.000,9, -999.000,9,  -999.00,9,  -999.00,9,  -1.6167
  32PZ20020819,   CBL,    40,  1,     26,     26,2,20020903,0428, 78.7308,-167.2373, 1722,     38.2,  -1.4691,  31.1180,2,  31.1902,2,    392.9,2,    360.2,2,     9.40,2,     3.50,2,     0.11,2,     1.10,2, -999.000,9, -999.000,9, -999.000,9,    -1.90,2,    57.70,2,  -1.4697
  32PZ20020819,   CBL,    40,  1,     25,     25,2,20020903,0428, 78.7308,-167.2373, 1722,     55.9,  -1.5869,  32.1610,2,  32.2227,2,    314.9,2,    299.9,2,    23.20,2,     9.90,2,     0.02,2,     1.57,2, -999.000,9, -999.000,9, -999.000,9,    -1.52,2,    59.80,2,  -1.5879
  32PZ20020819,   CBL,    40,  1,     24,     24,2,20020903,0428, 78.7308,-167.2373, 1722,     71.9,  -1.5380,  32.6210,2,  32.7004,2,    281.3,2,    258.8,2,    33.70,2,    13.60,2,     0.02,2,     1.85,2, -999.000,9, -999.000,9, -999.000,9,    -1.39,2,    66.70,2,  -1.5393
  32PZ20020819,   CBL,    40,  1,     23,     23,2,20020903,0428, 78.7308,-167.2373, 1722,     86.9,  -1.4651,  33.0918,2,  33.1134,2,    248.6,2,    240.6,2,    39.50,2,    16.10,2,     0.02,2,     1.97,2,    6.390,2,    3.310,2,    0.500,2,    -1.08,2,    71.90,2,  -1.4669
  32PZ20020819,   CBL,    40,  1,     22,     22,2,20020903,0428, 78.7308,-167.2373, 1722,     93.8,  -1.4409,  33.3197,2,  33.3798,2,    237.8,2,    239.3,2,    40.70,2,    16.30,2,     0.02,2,     1.94,2,    6.227,2,    3.155,2,    0.453,2,    -1.08,2,    70.20,2,  -1.4429
  32PZ20020819,   CBL,    40,  1,     21,     21,2,20020903,0428, 78.7308,-167.2373, 1722,    111.0,  -1.4185,  33.8608,2,  33.9284,2,    247.2,2,    276.7,2,    18.00,2,    11.20,2,     0.02,2,     1.11,2, -999.000,9, -999.000,9, -999.000,9,    -0.62,2,    49.00,2,  -1.4210
  32PZ20020819,   CBL,    40,  1,     20,     20,2,20020903,0428, 78.7308,-167.2373, 1722,    131.7,  -1.2498,  34.2039,2,  34.2196,2,    280.6,2,    298.0,2,     8.40,2,     9.90,2,     0.01,2,     0.82,2,    6.602,6,    3.214,6,    0.457,6,    -0.25,2,    44.20,2,  -1.2531
  32PZ20020819,   CBL,    40,  1,     19,     19,2,20020903,0428, 78.7308,-167.2373, 1722,    146.8,  -1.0059,  34.3125,2,  34.3205,2,    292.6,2,    300.8,2,  -999.00,9,  -999.00,9,  -999.00,9,  -999.00,9, -999.000,9, -999.000,9, -999.000,9,  -999.00,9,  -999.00,9,  -1.0099
  32PZ20020819,   CBL,    40,  1,     18,     18,2,20020903,0428, 78.7308,-167.2373, 1722,    162.7,  -0.7254,  34.4013,2,  34.4112,2,    298.3,2,    303.4,2,     6.40,2,    10.00,2,     0.01,2,     0.79,2,    6.541,2,    3.142,2,    0.464,2,  -999.00,9,  -999.00,9,  -0.7303
  32PZ20020819,   CBL,    40,  1,     17,     17,2,20020903,0428, 78.7308,-167.2373, 1722,    177.5,  -0.4668,  34.4590,2,  34.4736,2,    299.3,2,    299.8,2,  -999.00,9,  -999.00,9,  -999.00,9,  -999.00,9, -999.000,9, -999.000,9, -999.000,9,  -999.00,9,  -999.00,9,  -0.4726
  32PZ20020819,   CBL,    40,  1,     16,     16,2,20020903,0428, 78.7308,-167.2373, 1722,    192.1,  -0.2249,  34.5256,2,  34.5348,2,    299.6,2,    299.6,2,     6.40,2,    10.70,2,     0.02,2,     0.82,2, -999.000,9, -999.000,9, -999.000,9,  -999.00,9,  -999.00,9,  -0.2316
  32PZ20020819,   CBL,    40,  1,     15,     15,2,20020903,0428, 78.7308,-167.2373, 1722,    232.9,   0.4217,  34.6786,2,  34.6884,2,    298.2,2,    296.8,2,     6.60,2,    11.60,2,     0.01,2,     0.85,2,    5.943,2,    2.851,2,    0.408,2,  -999.00,9,  -999.00,9,   0.4122
  32PZ20020819,   CBL,    40,  1,     14,     14,2,20020903,0428, 78.7308,-167.2373, 1722,    284.4,   0.9341,  34.7959,2,  34.7967,2,    296.3,2,    295.2,2,     6.70,2,    12.30,2,     0.01,2,     0.88,2,    5.550,2,    2.627,2,    0.366,2,  -999.00,9,  -999.00,9,   0.9211
  32PZ20020819,   CBL,    40,  1,     13,     13,2,20020903,0428, 78.7308,-167.2373, 1722,    334.0,   1.0540,  34.8296,2,  34.8299,2,    300.3,2,    300.0,2,     5.90,2,    12.20,2,     0.01,2,     0.87,2,    5.619,2,    2.710,2,    0.428,2,  -999.00,9,  -999.00,9,   1.0382
  32PZ20020819,   CBL,    40,  1,     12,     12,2,20020903,0428, 78.7308,-167.2373, 1722,    368.4,   1.1084,  34.8475,2,  34.8456,2,    300.5,2,    300.3,2,     6.20,2,    12.30,2,     0.01,2,     0.87,2,    5.459,2,    2.614,2,    0.374,2,     0.16,2,    39.40,2,   1.0907
  32PZ20020819,   CBL,    40,  1,     11,     11,2,20020903,0428, 78.7308,-167.2373, 1722,    427.7,   0.9972,  34.8536,2,  34.8542,2,    302.5,2,    302.0,2,     6.00,2,    12.30,2,     0.01,2,     0.87,2,    5.544,2,    2.678,2,    0.391,2,  -999.00,9,  -999.00,9,   0.9768
  32PZ20020819,   CBL,    40,  1,     10,     10,2,20020903,0428, 78.7308,-167.2373, 1722,    481.9,   0.9020,  34.8648,2,  34.8646,2,    302.5,2,    302.3,2,     6.00,2,    12.40,2,     0.01,2,     0.88,2,    5.293,2,    2.544,2,    0.366,2,  -999.00,9,  -999.00,9,   0.8791
  32PZ20020819,   CBL,    40,  1,      9,      9,2,20020903,0428, 78.7308,-167.2373, 1722,    535.9,   0.7086,  34.8603,2,  34.8592,2,    303.9,2,    303.7,2,     6.00,2,    12.40,2,     0.01,2,     0.87,2,    5.348,2,    2.573,2,    0.366,2,  -999.00,9,  -999.00,9,   0.6838
  32PZ20020819,   CBL,    40,  1,      8,      8,2,20020903,0428, 78.7308,-167.2373, 1722,    708.7,   0.3244,  34.8643,2,  34.8663,2,    302.1,2,    303.5,2,     6.30,2,    12.50,2,     0.01,2,     0.89,2,    4.632,2,    2.182,2,    0.289,2,  -999.00,9,  -999.00,9,   0.2927
  32PZ20020819,   CBL,    40,  1,      7,      7,2,20020903,0428, 78.7308,-167.2373, 1722,    812.4,   0.1109,  34.8652,2,  34.8657,2,    304.0,2,    304.5,2,     6.40,2,    12.50,2,     0.01,2,     0.89,2,    4.796,2,    2.260,2,    0.312,2,     0.29,2,    48.60,2,   0.0753
  32PZ20020819,   CBL,    40,  1,      6,      6,2,20020903,0428, 78.7308,-167.2373, 1722,    965.8,  -0.0785,  34.8746,2,  34.8745,2,    304.2,2,    304.4,2,  -999.00,9,  -999.00,9,  -999.00,9,  -999.00,9,    4.350,2,    2.019,2,    0.257,2,  -999.00,9,  -999.00,9,  -0.1207
  32PZ20020819,   CBL,    40,  1,      5,      5,2,20020903,0428, 78.7308,-167.2373, 1722,   1119.1,  -0.1939,  34.8839,2,  34.8858,2,    302.1,2,    302.1,2,     7.90,2,    13.00,2,     0.01,2,     0.93,2,    3.967,2,    1.882,2,    0.229,2,  -999.00,9,  -999.00,9,  -0.2432
  32PZ20020819,   CBL,    40,  1,      4,      4,2,20020903,0428, 78.7308,-167.2373, 1722,   1217.9,  -0.2632,  34.8911,2,  34.8919,2,    301.7,2,    301.9,2,  -999.00,9,  -999.00,9,  -999.00,9,  -999.00,9,    3.506,2,    1.649,2,    0.190,2,  -999.00,9,  -999.00,9,  -0.3173
  32PZ20020819,   CBL,    40,  1,      3,      3,2,20020903,0428, 78.7308,-167.2373, 1722,   1420.7,  -0.3800,  34.9052,2,  34.9049,2,    301.0,2,    301.1,2,     8.90,2,    13.60,2,     0.01,2,     0.96,2,    2.508,2,    1.218,2,    0.130,2,  -999.00,9,  -999.00,9,  -0.4443
  32PZ20020819,   CBL,    40,  1,      2,      2,2,20020903,0428, 78.7308,-167.2373, 1722,   1624.6,  -0.4290,  34.9220,2,  34.9233,2,    296.0,2,    295.9,2,    10.40,2,    14.10,2,     0.02,2,     1.00,2,    1.496,2,    0.693,2,    0.081,2,  -999.00,9,  -999.00,9,  -0.5049
  32PZ20020819,   CBL,    40,  1,      1,      1,2,20020903,0428, 78.7308,-167.2373, 1722,   1713.8,  -0.4303,  34.9287,2,  34.9290,2,    293.9,2,    293.6,2,    11.30,2,    14.30,2,     0.02,2,     1.02,2,    1.033,2,    0.496,2,    0.034,2,  -999.00,9,  -999.00,9,  -0.5117
  32PZ20020819,   CBL,    41,  1,     18,     18,2,20020903,0822, 78.6973,-167.2423, 1421,     17.0,  -1.6134,  30.2900,2,  30.2882,2,    390.8,2,    392.6,2,  -999.00,9,  -999.00,9,  -999.00,9,  -999.00,9, -999.000,9, -999.000,9, -999.000,9,  -999.00,9,  -999.00,9,  -1.6136
  32PZ20020819,   CBL,    41,  1,     17,     17,2,20020903,0822, 78.6973,-167.2423, 1421,     40.0,  -1.4815,  31.4341,2,  31.5868,2,    377.3,2,    336.7,2,  -999.00,9,  -999.00,9,  -999.00,9,  -999.00,9, -999.000,9, -999.000,9, -999.000,9,  -999.00,9,  -999.00,9,  -1.4822
  32PZ20020819,   CBL,    41,  1,     16,     16,2,20020903,0822, 78.6973,-167.2423, 1421,     61.6,  -1.5815,  32.3416,2,  32.3821,2,    314.1,2,   -999.0,9,    26.40,2,    10.70,2,     0.04,2,     1.67,2, -999.000,9, -999.000,9, -999.000,9,  -999.00,9,  -999.00,9,  -1.5826
  32PZ20020819,   CBL,    41,  1,     15,     15,2,20020903,0822, 78.6973,-167.2423, 1421,     76.7,  -1.5262,  32.6539,2,  32.7875,2,    293.7,2,   -999.0,9,    35.90,2,    14.50,2,     0.04,2,     1.92,2, -999.000,9, -999.000,9, -999.000,9,  -999.00,9,  -999.00,9,  -1.5277
  32PZ20020819,   CBL,    41,  1,     14,     14,2,20020903,0822, 78.6973,-167.2423, 1421,     91.5,  -1.4422,  33.3346,2,  33.4297,2,    260.1,2,   -999.0,9,    40.50,2,    16.50,2,     0.04,2,     1.95,2, -999.000,9, -999.000,9, -999.000,9,  -999.00,9,  -999.00,9,  -1.4441
  32PZ20020819,   CBL,    41,  1,     13,     13,2,20020903,0822, 78.6973,-167.2423, 1421,    101.3,  -1.4002,  33.6920,2,  33.7327,2,    257.6,2,    259.8,2,    27.10,2,    13.00,2,     0.04,3,     1.43,2, -999.000,9, -999.000,9, -999.000,9,  -999.00,9,  -999.00,9,  -1.4025
  32PZ20020819,   CBL,    41,  1,     12,     12,2,20020903,0822, 78.6973,-167.2423, 1421,    111.4,  -1.4057,  33.9498,2,  33.9853,2,    273.9,2,   -999.0,9,    15.00,2,    10.70,2,     0.04,3,     1.02,2, -999.000,9, -999.000,9, -999.000,9,  -999.00,9,  -999.00,9,  -1.4082
  32PZ20020819,   CBL,    41,  1,     11,     11,2,20020903,0822, 78.6973,-167.2423, 1421,    126.3,  -1.3506,  34.1168,2,  34.1436,2,    289.5,2,   -999.0,9,     9.60,2,     9.90,2,     0.03,3,     0.86,2, -999.000,9, -999.000,9, -999.000,9,  -999.00,9,  -999.00,9,  -1.3536
  32PZ20020819,   CBL,    41,  1,     10,     10,2,20020903,0822, 78.6973,-167.2423, 1421,    141.2,  -1.1604,  34.2626,2,  34.2815,2,    302.8,2,   -999.0,9,     7.20,2,     9.70,2,     0.03,3,     0.80,2, -999.000,9, -999.000,9, -999.000,9,  -999.00,9,  -999.00,9,  -1.1640
  32PZ20020819,   CBL,    41,  1,      9,      9,2,20020903,0822, 78.6973,-167.2423, 1421,    160.6,  -0.7859,  34.3841,2,  34.4006,2,    306.6,2,    301.5,2,     6.50,2,    10.10,2,     0.03,3,     0.80,2, -999.000,9, -999.000,9, -999.000,9,  -999.00,9,  -999.00,9,  -0.7906
  32PZ20020819,   CBL,    41,  1,      8,      8,2,20020903,0822, 78.6973,-167.2423, 1421,    279.8,   0.9341,  34.8001,2,  34.7990,2,    295.8,2,    298.6,2,     6.00,2,    12.20,2,     0.03,3,     0.87,2, -999.000,9, -999.000,9, -999.000,9,  -999.00,9,  -999.00,9,   0.9213
  32PZ20020819,   CBL,    41,  1,      7,      7,2,20020903,0822, 78.6973,-167.2423, 1421,    366.1,   1.1146,  34.8482,2,  34.8477,2,    299.0,2,    298.7,2,     6.40,2,    12.50,2,     0.03,3,     0.88,2, -999.000,9, -999.000,9, -999.000,9,  -999.00,9,  -999.00,9,   1.0970
  32PZ20020819,   CBL,    41,  1,      6,      6,2,20020903,0822, 78.6973,-167.2423, 1421,    438.0,   1.0000,  34.8626,2,  34.8619,2,    301.3,2,    301.2,2,     6.10,2,    12.50,2,     0.03,3,     0.88,2,    5.216,2,    2.548,2,    0.356,2,  -999.00,9,  -999.00,9,   0.9790
  32PZ20020819,   CBL,    41,  1,      5,      5,2,20020903,0822, 78.6973,-167.2423, 1421,    556.6,   0.5859,  34.8578,2,  34.8574,2,    301.3,2,    301.3,2,  -999.00,9,  -999.00,9,  -999.00,9,  -999.00,9, -999.000,9, -999.000,9, -999.000,9,  -999.00,9,  -999.00,9,   0.5606
  32PZ20020819,   CBL,    41,  1,      4,      4,2,20020903,0822, 78.6973,-167.2423, 1421,    763.3,   0.1447,  34.8641,2,  34.8639,2,    304.4,2,    304.1,2,     6.60,2,    12.50,2,     0.03,3,     0.90,2,    4.634,2,    2.215,2,    0.280,2,  -999.00,9,  -999.00,9,   0.1114
  32PZ20020819,   CBL,    41,  1,      3,      3,2,20020903,0822, 78.6973,-167.2423, 1421,   1060.7,  -0.1795,  34.8826,2,  34.8818,2,    303.2,2,    302.8,2,  -999.00,9,  -999.00,9,  -999.00,9,  -999.00,9,    4.040,2,    1.916,2,    0.233,2,  -999.00,9,  -999.00,9,  -0.2258
  32PZ20020819,   CBL,    41,  1,      2,      2,2,20020903,0822, 78.6973,-167.2423, 1421,   1258.2,  -0.3182,  34.8965,2,  34.8963,2,    301.8,2,    302.2,2,  -999.00,9,  -999.00,9,  -999.00,9,  -999.00,9,    3.219,2,    1.543,2,    0.195,2,  -999.00,9,  -999.00,9,  -0.3740
  32PZ20020819,   CBL,    41,  1,      1,      1,2,20020903,0822, 78.6973,-167.2423, 1421,   1412.9,  -0.3534,  34.9018,2,  34.9022,2,    301.1,2,    301.2,2,  -999.00,9,  -999.00,9,  -999.00,9,  -999.00,9, -999.000,9, -999.000,9, -999.000,9,  -999.00,9,  -999.00,9,  -0.4176