BOTTLE,20220815CCHSIOAMB
EXPOCODE,SECT_ID,STNNBR,CASTNO,SAMPNO,BTLNBR,BTLNBR_FLAG_W,DATE,TIME,LATITUDE,LONGITUDE,DEPTH,CTDPRS,CTDTMP,CTDSAL,CTDSAL_FLAG_W,SALNTY,SALNTY_FLAG_W,CTDOXY,CTDOXY_FLAG_W,OXYGEN,OXYGEN_FLAG_W,SILCAT,SILCAT_FLAG_W,NITRAT,NITRAT_FLAG_W,NITRIT,NITRIT_FLAG_W,PHSPHT,PHSPHT_FLAG_W,CFC-11,CFC-11_FLAG_W,CFC-12,CFC-12_FLAG_W,CFC113,CFC113_FLAG_W,DELO18,DELO18_FLAG_W,BARIUM,BARIUM_FLAG_W,THETA
,,,,,,,,,,,METERS,DBAR,ITS-90,PSS-78,,PSS-78,,UMOL/KG,,UMOL/KG,,UMOL/KG,,UMOL/KG,,UMOL/KG,,UMOL/KG,,PMOL/KG,,PMOL/KG,,PMOL/KG,,/MILLE,,NMOL/KG,,DEG C
  32PZ20020819,   CBL,   102,  1,     24,     24,2,20020916,0609, 76.1532,-169.2090, 1844,     11.9,  -1.4388,  27.9790,2,  27.9765,2,    375.3,2,    378.0,2,     4.40,2,     0.00,2,     0.00,2,     0.65,2,    7.261,2,    3.783,2,    0.701,2,  -999.00,9,  -999.00,9,  -1.4389
  32PZ20020819,   CBL,   102,  1,     23,     23,2,20020916,0609, 76.1532,-169.2090, 1844,     34.3,  -0.8745,  31.2247,2,  31.2609,2,    400.9,2,    367.6,2,     9.40,2,     1.60,2,     0.13,2,     1.00,2,    6.748,2,    3.458,2,    0.592,2,  -999.00,9,  -999.00,9,  -0.8752
  32PZ20020819,   CBL,   102,  1,     22,     22,2,20020916,0609, 76.1532,-169.2090, 1844,     52.6,  -1.2059,  31.9305,2,  31.9267,2,    339.1,2,    316.1,2,    14.20,2,     6.50,2,     0.02,2,     1.24,2,    6.598,2,    3.443,2,    0.572,2,  -999.00,9,  -999.00,9,  -1.2070
  32PZ20020819,   CBL,   102,  1,     21,     21,2,20020916,0609, 76.1532,-169.2090, 1844,     75.3,  -0.9866,  32.3281,2,  32.3214,2,    293.8,2,    294.3,2,    22.80,2,    10.40,2,     0.01,2,     1.57,2,    6.206,2,    3.244,2,    0.526,2,  -999.00,9,  -999.00,9,  -0.9883
  32PZ20020819,   CBL,   102,  1,     20,     20,2,20020916,0609, 76.1532,-169.2090, 1844,     92.7,  -0.9460,  32.5350,2,  32.5480,2,    292.8,2,    277.8,2,    29.80,2,    12.90,2,     0.01,2,     1.79,2,    6.109,2,    3.221,2,    0.504,2,  -999.00,9,  -999.00,9,  -0.9482
  32PZ20020819,   CBL,   102,  1,     19,     19,2,20020916,0609, 76.1532,-169.2090, 1844,    107.3,  -1.4199,  32.6909,2,  32.6830,2,    289.2,2,    288.0,2,    33.10,2,    13.50,2,     0.01,2,     1.82,2,    6.082,2,    3.088,2,    0.487,2,  -999.00,9,  -999.00,9,  -1.4221
  32PZ20020819,   CBL,   102,  1,     18,     18,2,20020916,0609, 76.1532,-169.2090, 1844,    121.8,  -1.5019,  32.8569,2,  32.8648,2,    284.0,2,    282.2,2,    33.40,2,    14.10,2,     0.01,2,     1.84,2,    5.789,2,    2.942,2,    0.433,2,  -999.00,9,  -999.00,9,  -1.5043
  32PZ20020819,   CBL,   102,  1,     17,     17,2,20020916,0609, 76.1532,-169.2090, 1844,    135.5,  -1.5392,  33.0475,2,  33.0370,2,    287.0,2,    279.8,2,    35.80,2,    14.70,2,     0.01,2,     1.88,2,    5.936,2,    3.018,2,    0.449,2,  -999.00,9,  -999.00,9,  -1.5419
  32PZ20020819,   CBL,   102,  1,     16,     16,2,20020916,0609, 76.1532,-169.2090, 1844,    152.0,  -1.3949,  33.3999,2,  33.4359,2,    275.4,2,    280.9,2,    33.00,2,    14.60,2,     0.01,2,     1.75,2,    5.635,2,    2.784,2,    0.410,2,  -999.00,9,  -999.00,9,  -1.3983
  32PZ20020819,   CBL,   102,  1,     15,     15,2,20020916,0609, 76.1532,-169.2090, 1844,    169.5,  -1.1464,  33.8328,2,  33.9025,2,    273.4,2,    251.2,2,    33.10,2,    15.20,2,     0.01,2,     1.67,2,    5.293,2,    2.586,2,    0.346,2,  -999.00,9,  -999.00,9,  -1.1507
  32PZ20020819,   CBL,   102,  1,     14,     14,2,20020916,0609, 76.1532,-169.2090, 1844,    189.3,  -0.7251,  34.2563,2,  34.2582,2,    252.9,2,    252.8,2,    23.60,2,    13.90,2,     0.01,2,     1.32,2,    5.083,2,    2.418,2,    0.298,2,  -999.00,9,  -999.00,9,  -0.7308
  32PZ20020819,   CBL,   102,  1,     13,     13,2,20020916,0609, 76.1532,-169.2090, 1844,    223.6,  -0.0120,  34.5378,2,  34.5525,2,    259.2,2,    262.1,2,    16.20,2,    12.90,2,     0.01,2,     1.06,2,    5.731,2,    2.704,2,    0.352,2,  -999.00,9,  -999.00,9,  -0.0203
  32PZ20020819,   CBL,   102,  1,     12,     12,2,20020916,0609, 76.1532,-169.2090, 1844,    271.8,   0.8317,  34.7466,2,  34.7473,2,    285.8,2,    288.1,2,     8.10,2,    12.60,2,     0.01,2,     0.90,2,    5.734,2,    2.737,2,    0.389,2,  -999.00,9,  -999.00,9,   0.8195
  32PZ20020819,   CBL,   102,  1,     11,     11,2,20020916,0609, 76.1532,-169.2090, 1844,    344.1,   1.1265,  34.8320,2,  34.8298,2,    294.9,2,    294.6,2,     6.80,2,    12.50,2,     0.01,2,     0.90,2,    5.525,2,    2.636,2,    0.381,2,  -999.00,9,  -999.00,9,   1.1100
  32PZ20020819,   CBL,   102,  1,     10,     10,2,20020916,0609, 76.1532,-169.2090, 1844,    389.8,   1.1534,  34.8485,2,  34.8474,2,    297.0,2,    297.0,2,     6.60,2,    12.60,2,     0.00,2,     0.89,2,    5.397,2,    2.590,2,    0.375,2,  -999.00,9,  -999.00,9,   1.1344
  32PZ20020819,   CBL,   102,  1,      9,      9,2,20020916,0609, 76.1532,-169.2090, 1844,    481.3,   0.9223,  34.8579,2,  34.8590,2,    299.1,2,    299.6,2,     6.60,2,    12.60,2,     0.00,2,     0.89,2,    5.175,2,    2.465,2,    0.350,2,  -999.00,9,  -999.00,9,   0.8994
  32PZ20020819,   CBL,   102,  1,      8,      8,2,20020916,0609, 76.1532,-169.2090, 1844,    637.9,   0.5133,  34.8584,2,  34.8568,2,    301.7,2,    301.7,2,     6.50,2,    12.50,2,     0.00,2,     0.89,2,    5.075,2,    2.390,2,    0.322,2,  -999.00,9,  -999.00,9,   0.4842
  32PZ20020819,   CBL,   102,  1,      7,      7,2,20020916,0609, 76.1532,-169.2090, 1844,    751.7,   0.2682,  34.8587,2,  34.8578,2,    303.2,2,    302.9,2,     6.60,2,    12.50,2,     0.00,2,     0.89,2,    4.714,2,    2.223,2,    0.291,2,  -999.00,9,  -999.00,9,   0.2347
  32PZ20020819,   CBL,   102,  1,      6,      6,2,20020916,0609, 76.1532,-169.2090, 1844,    893.6,   0.0582,  34.8646,2,  34.8646,2,    304.3,2,    304.1,2,     6.60,2,    12.50,2,     0.00,2,     0.92,2,    4.629,2,    2.190,2,    0.281,2,  -999.00,9,  -999.00,9,   0.0188
  32PZ20020819,   CBL,   102,  1,      5,      5,2,20020916,0609, 76.1532,-169.2090, 1844,   1050.2,  -0.0965,  34.8756,2,  34.8743,2,    303.6,2,    303.6,2,     7.00,2,    12.70,2,     0.00,2,     0.92,2,    4.132,6,    1.931,6,    0.236,6,  -999.00,9,  -999.00,9,  -0.1430
  32PZ20020819,   CBL,   102,  1,      4,      4,2,20020916,0609, 76.1532,-169.2090, 1844,   1241.1,  -0.2463,  34.8895,2,  34.8895,2,    302.8,2,    302.3,2,     7.70,2,    13.00,2,     0.00,2,     0.94,2,    3.398,2,    1.618,2,    0.182,2,  -999.00,9,  -999.00,9,  -0.3018
  32PZ20020819,   CBL,   102,  1,      3,      3,2,20020916,0609, 76.1532,-169.2090, 1844,   1440.2,  -0.3719,  34.9043,2,  34.9043,2,    301.0,2,    300.8,2,     8.50,2,    13.40,2,     0.00,2,     0.97,2,    2.459,6,    1.191,6,    0.127,6,  -999.00,9,  -999.00,9,  -0.4374
  32PZ20020819,   CBL,   102,  1,      2,      2,2,20020916,0609, 76.1532,-169.2090, 1844,   1647.0,  -0.4403,  34.9256,2,  34.9272,2,    295.2,2,    295.1,2,    10.50,2,    14.20,2,     0.00,2,     1.01,2,    1.045,2,    0.509,2,    0.041,2,  -999.00,9,  -999.00,9,  -0.5174
  32PZ20020819,   CBL,   102,  1,      1,      1,2,20020916,0609, 76.1532,-169.2090, 1844,   1803.3,  -0.4192,  34.9458,2,  34.9460,2,    284.5,2,    284.8,2,    13.60,2,    14.80,2,     0.00,2,     1.08,2,    0.281,2,    0.150,2,    0.023,2,  -999.00,9,  -999.00,9,  -0.5064
  32PZ20020819,   CBL,   103,  1,     24,     24,2,20020916,0930, 76.0935,-168.9198, 1389,     11.2,  -1.4894,  28.0190,2,  28.0236,2,    375.2,2,    377.6,2,     4.20,2,     0.00,2,     0.00,2,     0.66,2,    7.668,2,    3.839,2,    0.720,2,  -999.00,9,  -999.00,9,  -1.4895
  32PZ20020819,   CBL,   103,  1,     23,     23,2,20020916,0930, 76.0935,-168.9198, 1389,     28.9,  -0.9981,  30.2725,2,  30.4909,2,    383.8,2,    368.6,2,     7.00,2,     1.00,2,     0.21,2,     0.88,2,    7.086,2,    3.508,2,    0.634,2,  -999.00,9,  -999.00,9,  -0.9986
  32PZ20020819,   CBL,   103,  1,     22,     22,2,20020916,0930, 76.0935,-168.9198, 1389,     41.2,  -0.7807,  31.6284,2,  31.6521,2,    353.2,2,    336.1,2,    12.80,2,     5.00,2,     0.04,2,     1.19,2,    6.679,2,    3.318,2,    0.563,2,  -999.00,9,  -999.00,9,  -0.7816
  32PZ20020819,   CBL,   103,  1,     21,     21,2,20020916,0930, 76.0935,-168.9198, 1389,     64.1,  -1.4197,  32.2028,2,  32.2065,2,    315.4,2,    296.2,2,    27.60,2,    10.50,2,     0.01,2,     1.63,2,    6.551,2,    3.326,2,    0.570,2,  -999.00,9,  -999.00,9,  -1.4209
  32PZ20020819,   CBL,   103,  1,     20,     20,2,20020916,0930, 76.0935,-168.9198, 1389,     78.0,  -1.2144,  32.3973,2,  32.4036,2,    299.3,2,    294.2,2,    28.80,2,    11.60,2,     0.01,2,     1.70,2,    6.438,2,    3.227,2,    0.557,2,  -999.00,9,  -999.00,9,  -1.2160
  32PZ20020819,   CBL,   103,  1,     19,     19,2,20020916,0930, 76.0935,-168.9198, 1389,     91.7,  -1.2731,  32.5725,2,  32.5862,2,    291.6,2,    291.1,2,    29.30,2,    12.60,2,     0.01,2,     1.76,2,    6.233,2,    3.078,2,    0.474,2,  -999.00,9,  -999.00,9,  -1.2750
  32PZ20020819,   CBL,   103,  1,     18,     18,2,20020916,0930, 76.0935,-168.9198, 1389,    101.7,  -1.4417,  32.6876,2,  32.7083,2,    286.6,2,    280.5,2,    33.10,2,    13.70,2,     0.01,2,     1.88,2,    6.267,2,    3.154,2,    0.489,2,  -999.00,9,  -999.00,9,  -1.4437
  32PZ20020819,   CBL,   103,  1,     17,     17,2,20020916,0930, 76.0935,-168.9198, 1389,    118.6,  -1.4838,  32.8745,2,  32.8864,2,    280.4,2,    287.1,2,    33.40,2,    14.00,2,     0.01,2,     1.83,2,    6.010,2,    2.974,2,    0.471,2,  -999.00,9,  -999.00,9,  -1.4862
  32PZ20020819,   CBL,   103,  1,     16,     16,2,20020916,0930, 76.0935,-168.9198, 1389,    135.3,  -1.5210,  33.1015,2,  33.1470,2,    284.0,2,    279.3,2,    35.40,2,    14.90,2,     0.01,2,     1.87,2,    5.730,2,    2.854,2,    0.412,2,  -999.00,9,  -999.00,9,  -1.5238
  32PZ20020819,   CBL,   103,  1,     15,     15,2,20020916,0930, 76.0935,-168.9198, 1389,    151.8,  -1.4343,  33.4169,2,  33.4742,2,    268.5,2,    253.6,2,    40.30,2,    16.60,2,     0.01,2,     2.00,2,    5.798,2,    2.898,2,    0.408,2,  -999.00,9,  -999.00,9,  -1.4376
  32PZ20020819,   CBL,   103,  1,     14,     14,2,20020916,0930, 76.0935,-168.9198, 1389,    168.7,  -1.0304,  33.9623,2,  34.0120,2,    256.8,2,    251.1,2,    29.80,2,    15.00,2,     0.01,2,     1.57,2,    5.285,2,    2.519,2,    0.311,2,  -999.00,9,  -999.00,9,  -1.0349
  32PZ20020819,   CBL,   103,  1,     13,     13,2,20020916,0930, 76.0935,-168.9198, 1389,    183.7,  -0.9059,  34.2117,2,  34.2353,2,    247.4,2,    251.0,2,    22.70,2,    13.70,2,     0.01,2,     1.30,2,    5.495,2,    2.542,2,    0.316,2,  -999.00,9,  -999.00,9,  -0.9111
  32PZ20020819,   CBL,   103,  1,     12,     12,2,20020916,0930, 76.0935,-168.9198, 1389,    218.2,  -0.0160,  34.5359,2,  34.5429,2,    259.9,2,    260.7,2,    16.30,2,    12.80,2,     0.01,2,     1.07,2,    5.701,2,    2.627,2,    0.379,2,  -999.00,9,  -999.00,9,  -0.0240
  32PZ20020819,   CBL,   103,  1,     11,     11,2,20020916,0930, 76.0935,-168.9198, 1389,    276.3,   0.8803,  34.7590,2,  34.7605,2,    286.7,2,    288.4,2,     7.90,2,    12.60,2,     0.01,2,     0.91,2,    5.678,6,    2.643,6,    0.376,6,  -999.00,9,  -999.00,9,   0.8678
  32PZ20020819,   CBL,   103,  1,     10,     10,2,20020916,0930, 76.0935,-168.9198, 1389,    302.8,   1.0240,  34.7994,2,  34.7974,2,    292.5,2,    292.7,2,     6.80,2,    12.60,2,     0.02,2,     0.90,2,    5.462,2,    2.545,2,    0.364,2,  -999.00,9,  -999.00,9,   1.0098
  32PZ20020819,   CBL,   103,  1,      9,      9,2,20020916,0930, 76.0935,-168.9198, 1389,    372.2,   1.1466,  34.8464,2,  34.8436,2,    296.4,2,    296.5,2,     6.60,2,    12.60,2,     0.02,2,     0.90,2,    5.453,2,    2.545,2,    0.364,2,  -999.00,9,  -999.00,9,   1.1286
  32PZ20020819,   CBL,   103,  1,      8,      8,2,20020916,0930, 76.0935,-168.9198, 1389,    425.9,   0.9766,  34.8478,2,  34.8451,2,    295.7,2,    295.3,2,     7.20,2,    12.70,2,     0.02,2,     0.90,2,    5.294,2,    2.457,2,    0.340,2,  -999.00,9,  -999.00,9,   0.9564
  32PZ20020819,   CBL,   103,  1,      7,      7,2,20020916,0930, 76.0935,-168.9198, 1389,    483.4,   0.8241,  34.8551,2,  34.8538,2,    297.3,2,    297.2,2,     7.00,2,    12.70,2,     0.02,2,     0.90,2,    5.198,2,    2.406,2,    0.332,2,  -999.00,9,  -999.00,9,   0.8015
  32PZ20020819,   CBL,   103,  1,      6,      6,2,20020916,0930, 76.0935,-168.9198, 1389,    568.8,   0.6087,  34.8586,2,  34.8570,2,    300.9,2,    302.2,2,     6.60,2,    12.50,2,     0.01,2,     0.89,2,    5.161,2,    2.386,2,    0.342,2,  -999.00,9,  -999.00,9,   0.5827
  32PZ20020819,   CBL,   103,  1,      5,      5,2,20020916,0930, 76.0935,-168.9198, 1389,    728.3,   0.2511,  34.8596,2,  34.8569,2,    303.2,2,    303.1,2,     6.40,2,    12.50,2,     0.01,2,     0.90,2,    4.900,2,    2.252,2,    0.296,2,  -999.00,9,  -999.00,9,   0.2189
  32PZ20020819,   CBL,   103,  1,      4,      4,2,20020916,0930, 76.0935,-168.9198, 1389,    872.5,   0.0257,  34.8666,2,  34.8641,2,    303.8,2,    303.7,2,     6.70,2,    12.60,2,     0.01,2,     0.91,2,    4.573,2,    2.107,2,    0.260,2,  -999.00,9,  -999.00,9,  -0.0124
  32PZ20020819,   CBL,   103,  1,      3,      3,2,20020916,0930, 76.0935,-168.9198, 1389,   1069.0,  -0.1552,  34.8802,2,  34.8791,2,    302.8,2,    303.1,2,     7.30,2,    12.80,2,     0.02,2,     0.93,2,    4.162,6,    1.901,6,    0.238,6,  -999.00,9,  -999.00,9,  -0.2022
  32PZ20020819,   CBL,   103,  1,      2,      2,2,20020916,0930, 76.0935,-168.9198, 1389,   1225.8,  -0.2904,  34.8925,2,  34.8896,2,    301.9,2,    302.3,2,     8.10,2,    13.10,2,     0.01,2,     0.95,2,    3.469,2,    1.639,2,    0.199,2,  -999.00,9,  -999.00,9,  -0.3446
  32PZ20020819,   CBL,   103,  1,      1,      1,2,20020916,0930, 76.0935,-168.9198, 1389,   1363.5,  -0.3754,  34.9003,2,  34.9058,3,    300.3,2,    300.2,2,     9.10,2,    13.40,2,     0.01,2,     0.98,2,    3.059,2,    1.465,2,    0.194,2,  -999.00,9,  -999.00,9,  -0.4365
  32PZ20020819,   CBL,   104,  1,     22,     22,2,20020916,1148, 76.0577,-168.8647, 1174,     10.3,  -1.4977,  28.0270,2,  28.0350,2,    376.5,2,    378.5,2,     4.20,2,     0.00,2,     0.00,2,     0.67,2,    7.499,2,    3.819,2,    0.725,2,  -999.00,9,  -999.00,9,  -1.4978
  32PZ20020819,   CBL,   104,  1,     21,     21,2,20020916,1148, 76.0577,-168.8647, 1174,     23.0,  -1.4224,  28.3675,2,  28.6329,2,    378.1,2,    379.3,2,     4.20,2,     0.00,2,     0.01,2,     0.70,2,    7.293,2,    3.810,2,    0.703,2,  -999.00,9,  -999.00,9,  -1.4227
  32PZ20020819,   CBL,   104,  1,     20,     20,2,20020916,1148, 76.0577,-168.8647, 1174,     37.9,  -0.7800,  31.2818,2,  31.4047,2,    365.1,2,    344.3,2,     9.90,2,     3.50,2,     0.11,2,     1.09,2,    6.819,2,    3.459,2,    0.603,2,  -999.00,9,  -999.00,9,  -0.7809
  32PZ20020819,   CBL,   104,  1,     19,     19,2,20020916,1148, 76.0577,-168.8647, 1174,     56.7,  -1.3336,  32.0470,2,  32.0880,2,    326.1,2,    315.3,2,    17.60,2,     8.50,2,     0.03,2,     1.44,2,    6.818,2,    3.476,2,    0.576,2,  -999.00,9,  -999.00,9,  -1.3347
  32PZ20020819,   CBL,   104,  1,     18,     18,2,20020916,1148, 76.0577,-168.8647, 1174,     66.3,  -1.3370,  32.2375,2,  32.2776,2,    312.8,2,    301.6,2,    21.80,2,    10.20,2,     0.03,2,     1.58,2,    6.550,2,    3.342,2,    0.517,2,  -999.00,9,  -999.00,9,  -1.3383
  32PZ20020819,   CBL,   104,  1,     17,     17,2,20020916,1148, 76.0577,-168.8647, 1174,     76.3,  -1.0571,  32.4151,2,  32.4496,2,    296.9,2,    287.6,2,    26.80,2,    11.50,2,     0.03,2,     1.71,2,    6.276,2,    3.218,2,    0.495,2,  -999.00,9,  -999.00,9,  -1.0588
  32PZ20020819,   CBL,   104,  1,     16,     16,2,20020916,1148, 76.0577,-168.8647, 1174,     86.2,  -1.0170,  32.5590,2,  32.5894,2,    285.4,2,    278.9,2,    29.70,2,    12.80,2,     0.03,2,     1.82,2,    6.191,2,    3.160,2,    0.490,2,  -999.00,9,  -999.00,9,  -1.0190
  32PZ20020819,   CBL,   104,  1,     15,     15,2,20020916,1148, 76.0577,-168.8647, 1174,     96.0,  -1.1311,  32.6806,2,  32.6947,2,    277.8,2,    276.3,2,    31.60,2,    13.80,2,     0.02,2,     1.90,2,    6.191,2,    3.149,2,    0.501,2,  -999.00,9,  -999.00,9,  -1.1333
  32PZ20020819,   CBL,   104,  1,     14,     14,2,20020916,1148, 76.0577,-168.8647, 1174,    105.9,  -1.3008,  32.7660,2,  32.7722,2,    273.1,2,    279.0,2,    33.40,2,    14.30,2,     0.03,3,     1.93,2,    5.961,2,    3.075,2,    0.451,2,  -999.00,9,  -999.00,9,  -1.3031
  32PZ20020819,   CBL,   104,  1,     13,     13,2,20020916,1148, 76.0577,-168.8647, 1174,    125.5,  -1.5199,  33.0080,2,  32.9482,2,    282.3,2,    285.2,2,    34.00,2,    14.30,2,     0.02,2,     1.87,2,    5.865,2,    2.914,2,    0.421,2,  -999.00,9,  -999.00,9,  -1.5224
  32PZ20020819,   CBL,   104,  1,     12,     12,2,20020916,1148, 76.0577,-168.8647, 1174,    145.3,  -1.4694,  33.3437,2,  33.3614,2,    283.5,2,    284.4,2,    33.10,2,    14.60,2,     0.02,2,     1.78,2,    5.518,2,    2.757,2,    0.397,2,  -999.00,9,  -999.00,9,  -1.4725
  32PZ20020819,   CBL,   104,  1,     11,     11,2,20020916,1148, 76.0577,-168.8647, 1174,    170.2,  -1.0586,  33.9172,2,  33.9209,2,    269.7,2,    259.4,2,    30.70,2,    15.00,2,     0.02,2,     1.63,2,    4.943,2,    2.474,2,    0.323,2,  -999.00,9,  -999.00,9,  -1.0631
  32PZ20020819,   CBL,   104,  1,     10,     10,2,20020916,1148, 76.0577,-168.8647, 1174,    194.6,  -0.6250,  34.3105,2,  34.3308,2,    252.6,2,    252.5,2,    22.40,2,    13.70,2,     0.02,2,     1.28,2,    5.009,2,    2.380,2,    0.274,2,  -999.00,9,  -999.00,9,  -0.6310
  32PZ20020819,   CBL,   104,  1,      9,      9,2,20020916,1148, 76.0577,-168.8647, 1174,    248.8,   0.4867,  34.6744,2,  34.6722,2,    257.7,2,    265.6,2,    14.70,2,    13.10,2,     0.02,2,     1.02,2,    5.482,2,    2.629,2,    0.332,2,  -999.00,9,  -999.00,9,   0.4764
  32PZ20020819,   CBL,   104,  1,      8,      8,2,20020916,1148, 76.0577,-168.8647, 1174,    313.2,   0.9581,  34.7970,2,  34.7962,2,    286.4,2,    287.7,2,     8.30,2,    12.80,2,     0.03,3,     0.92,2,    5.479,2,    2.556,2,    0.355,2,  -999.00,9,  -999.00,9,   0.9436
  32PZ20020819,   CBL,   104,  1,      7,      7,2,20020916,1148, 76.0577,-168.8647, 1174,    342.9,   1.0382,  34.8249,2,  34.8235,2,    291.9,2,    291.9,2,     7.50,2,    12.60,2,     0.02,2,     0.90,2,    5.279,6,    2.506,6,    0.350,6,  -999.00,9,  -999.00,9,   1.0220
  32PZ20020819,   CBL,   104,  1,      6,      6,2,20020916,1148, 76.0577,-168.8647, 1174,    407.2,   0.9090,  34.8441,2,  34.8439,2,    294.4,2,    294.0,2,     7.80,2,    12.70,2,     0.02,2,     0.91,2,    5.098,2,    2.418,2,    0.319,2,  -999.00,9,  -999.00,9,   0.8899
  32PZ20020819,   CBL,   104,  1,      5,      5,2,20020916,1148, 76.0577,-168.8647, 1174,    491.0,   0.6940,  34.8570,2,  34.8557,2,    298.8,2,    298.6,2,     6.90,2,    12.50,2,     0.03,3,     0.90,2,    5.048,6,    2.334,6,    0.314,6,  -999.00,9,  -999.00,9,   0.6715
  32PZ20020819,   CBL,   104,  1,      4,      4,2,20020916,1148, 76.0577,-168.8647, 1174,    684.1,   0.2567,  34.8608,2,  34.8600,2,    302.4,2,    302.8,2,     6.70,2,    12.40,2,     0.02,2,     0.90,2,    5.016,2,    2.341,2,    0.323,2,  -999.00,9,  -999.00,9,   0.2267
  32PZ20020819,   CBL,   104,  1,      3,      3,2,20020916,1148, 76.0577,-168.8647, 1174,    891.5,  -0.0605,  34.8718,2,  34.8708,2,    303.3,2,    303.3,2,     7.20,2,    12.60,2,     0.02,2,     0.92,2,    4.637,2,    2.129,2,    0.284,2,  -999.00,9,  -999.00,9,  -0.0989
  32PZ20020819,   CBL,   104,  1,      2,      2,2,20020916,1148, 76.0577,-168.8647, 1174,   1040.2,  -0.2116,  34.8827,2,  34.8824,2,    299.9,2,    299.6,2,     9.10,2,    13.00,2,     0.03,3,     0.95,2,    4.223,2,    2.040,2,    0.262,2,  -999.00,9,  -999.00,9,  -0.2566
  32PZ20020819,   CBL,   104,  1,      1,      1,2,20020916,1148, 76.0577,-168.8647, 1174,   1157.9,  -0.2706,  34.8892,2,  34.8892,2,    299.6,2,    299.6,2,     9.40,2,    13.20,2,     0.03,3,     0.96,2,    3.855,2,    1.777,2,    0.233,2,  -999.00,9,  -999.00,9,  -0.3213