BOTTLE,20220815CCHSIOAMB
EXPOCODE,SECT_ID,STNNBR,CASTNO,SAMPNO,BTLNBR,BTLNBR_FLAG_W,DATE,TIME,LATITUDE,LONGITUDE,DEPTH,CTDPRS,CTDTMP,CTDSAL,CTDSAL_FLAG_W,SALNTY,SALNTY_FLAG_W,CTDOXY,CTDOXY_FLAG_W,OXYGEN,OXYGEN_FLAG_W,SILCAT,SILCAT_FLAG_W,NITRAT,NITRAT_FLAG_W,NITRIT,NITRIT_FLAG_W,PHSPHT,PHSPHT_FLAG_W,CFC-11,CFC-11_FLAG_W,CFC-12,CFC-12_FLAG_W,CFC113,CFC113_FLAG_W,DELO18,DELO18_FLAG_W,BARIUM,BARIUM_FLAG_W,THETA
,,,,,,,,,,,METERS,DBAR,ITS-90,PSS-78,,PSS-78,,UMOL/KG,,UMOL/KG,,UMOL/KG,,UMOL/KG,,UMOL/KG,,UMOL/KG,,PMOL/KG,,PMOL/KG,,PMOL/KG,,/MILLE,,NMOL/KG,,DEG C
  32PZ20020819,   CBL,    11,  1,     27,     27,2,20020826,0739, 76.4332,-177.0957, 1385,      1.7,  -1.3360,  28.8521,2,  28.8890,2,    378.1,2,    379.9,2,     3.60,2,     0.00,2,     0.00,2,     0.73,2, -999.000,9, -999.000,9, -999.000,9,  -999.00,9,  -999.00,9,  -1.3360
  32PZ20020819,   CBL,    11,  1,     26,     26,2,20020826,0739, 76.4332,-177.0957, 1385,      9.3,  -1.3353,  28.8744,2,  28.9265,2,    380.6,2,    380.3,2,     3.70,2,     0.00,2,     0.00,2,     0.73,2,    7.519,2,    3.845,2,    0.708,2,    -2.48,2,    57.60,2,  -1.3354
  32PZ20020819,   CBL,    11,  1,     25,     25,2,20020826,0739, 76.4332,-177.0957, 1385,     20.6,  -1.2621,  29.5310,2,  29.5209,2,    383.0,2,    387.9,2,     4.20,2,     0.10,2,     0.00,2,     0.75,2, -999.000,9, -999.000,9, -999.000,9,    -2.42,2,    58.10,2,  -1.2624
  32PZ20020819,   CBL,    11,  1,     24,     24,2,20020826,0739, 76.4332,-177.0957, 1385,     35.5,  -1.1653,  31.4710,2,  31.7067,2,    382.1,2,    331.2,2,    11.40,2,     5.00,2,     0.21,2,     1.14,2, -999.000,9, -999.000,9, -999.000,9,    -1.74,2,    57.60,2,  -1.1660
  32PZ20020819,   CBL,    11,  1,     23,     23,2,20020826,0739, 76.4332,-177.0957, 1385,     50.3,  -0.8656,  32.1953,2,  32.2171,2,    326.0,2,    297.7,2,    18.10,2,     9.00,2,     0.02,2,     1.42,2,    6.573,2,    3.392,2,    0.563,2,    -1.51,2,    60.50,2,  -0.8668
  32PZ20020819,   CBL,    11,  1,     22,     22,2,20020826,0739, 76.4332,-177.0957, 1385,     65.2,  -1.0454,  32.6114,2,  32.6295,2,    287.9,2,    270.6,2,    32.10,2,    14.40,2,     0.01,2,     1.88,2, -999.000,9, -999.000,9, -999.000,9,    -1.52,2,    65.60,2,  -1.0469
  32PZ20020819,   CBL,    11,  1,     21,     21,2,20020826,0739, 76.4332,-177.0957, 1385,     80.0,  -1.0349,  32.7996,2,  32.8073,2,    257.0,2,    245.1,2,    38.00,2,    17.30,2,     0.01,2,     2.21,2,    6.318,2,    3.356,2,    0.512,2,    -1.26,2,    72.80,2,  -1.0368
  32PZ20020819,   CBL,    11,  1,     20,     20,2,20020826,0739, 76.4332,-177.0957, 1385,     94.9,  -1.5078,  32.9155,2,  32.9375,2,    264.3,2,    273.7,2,    37.50,2,    15.00,2,     0.00,2,     1.97,2, -999.000,9, -999.000,9, -999.000,9,    -1.55,2,    68.50,2,  -1.5097
  32PZ20020819,   CBL,    11,  1,     19,     19,2,20020826,0739, 76.4332,-177.0957, 1385,    109.6,  -1.5615,  33.1808,2,  33.1973,2,    272.8,2,    264.6,2,    40.30,2,    16.00,2,     0.01,2,     2.01,2,    6.037,2,    3.113,2,    0.441,2,  -999.00,9,  -999.00,9,  -1.5637
  32PZ20020819,   CBL,    11,  1,     18,     18,2,20020826,0739, 76.4332,-177.0957, 1385,    124.5,  -1.3995,  33.4871,2,  33.5548,2,    263.0,2,    240.9,2,    43.30,2,    17.00,2,     0.00,2,     2.03,2, -999.000,9, -999.000,9, -999.000,9,  -999.00,9,  -999.00,9,  -1.4023
  32PZ20020819,   CBL,    11,  1,     17,     17,2,20020826,0739, 76.4332,-177.0957, 1385,    139.0,  -1.1677,  33.9635,2,  34.0059,2,    235.2,2,    238.0,2,    29.90,2,    14.40,2,     0.01,2,     1.50,2,    5.878,2,    2.922,2,    0.375,2,    -0.60,2,    51.10,2,  -1.1712
  32PZ20020819,   CBL,    11,  1,     16,     16,2,20020826,0739, 76.4332,-177.0957, 1385,    153.9,  -1.0096,  34.2156,2,  34.2354,2,    250.2,2,    252.3,2,    20.40,2,    13.10,2,     0.00,2,     1.19,2, -999.000,9, -999.000,9, -999.000,9,  -999.00,9,  -999.00,9,  -1.0138
  32PZ20020819,   CBL,    11,  1,     15,     15,2,20020826,0739, 76.4332,-177.0957, 1385,    168.7,  -0.7169,  34.3489,2,  34.3643,2,    264.5,2,    277.1,2,    11.40,2,    11.90,2,     0.00,2,     0.94,2,    6.232,2,    2.848,2,    0.393,2,  -999.00,9,  -999.00,9,  -0.7220
  32PZ20020819,   CBL,    11,  1,     14,     14,2,20020826,0739, 76.4332,-177.0957, 1385,    183.3,  -0.3857,  34.4309,2,  34.4485,2,    277.2,2,    284.1,2,     9.60,2,    11.60,2,     0.00,2,     0.89,2, -999.000,9, -999.000,9, -999.000,9,  -999.00,9,  -999.00,9,  -0.3918
  32PZ20020819,   CBL,    11,  1,     13,     13,3,20020826,0739, 76.4332,-177.0957, 1385,    223.2,   0.2468,  34.6125,2,  34.6238,2,    294.7,2,    296.1,2,     6.70,2,    11.50,2,     0.00,2,     0.84,2,    6.227,2,    2.843,2,    0.406,2,  -999.00,9,  -999.00,9,   0.2380
  32PZ20020819,   CBL,    11,  1,     12,     12,2,20020826,0739, 76.4332,-177.0957, 1385,    272.7,   0.7426,  34.7534,2,  34.7537,2,    297.4,2,    298.2,2,     6.20,2,    12.10,2,     0.00,2,     0.85,2, -999.000,9, -999.000,9, -999.000,9,  -999.00,9,  -999.00,9,   0.7306
  32PZ20020819,   CBL,    11,  1,     11,     11,2,20020826,0739, 76.4332,-177.0957, 1385,    316.8,   0.9406,  34.7984,2,  34.7994,2,    299.9,2,    298.4,2,     6.30,2,    12.20,2,     0.00,2,     0.86,2,    5.431,2,    2.515,2,    0.376,2,  -999.00,9,  -999.00,9,   0.9260
  32PZ20020819,   CBL,    11,  1,     10,     10,2,20020826,0739, 76.4332,-177.0957, 1385,    360.9,   1.0552,  34.8276,2,  34.8290,2,    300.1,2,    299.1,2,     6.10,2,    12.40,2,     0.00,2,     0.87,2,    5.570,2,    2.689,2,    0.379,2,     0.20,2,    39.20,2,   1.0380
  32PZ20020819,   CBL,    11,  1,      9,      9,2,20020826,0739, 76.4332,-177.0957, 1385,    415.8,   1.0788,  34.8457,2,  34.8473,2,    300.9,2,    301.0,2,     6.20,2,    12.50,2,     0.00,2,     0.87,2,    5.426,2,    2.518,2,    0.376,2,  -999.00,9,  -999.00,9,   1.0587
  32PZ20020819,   CBL,    11,  1,      8,      8,2,20020826,0739, 76.4332,-177.0957, 1385,    489.6,   0.9271,  34.8573,2,  34.8576,2,    302.4,2,    302.5,2,     6.20,2,    12.50,2,     0.00,2,     0.87,2,    5.441,2,    2.608,2,    0.376,2,  -999.00,9,  -999.00,9,   0.9038
  32PZ20020819,   CBL,    11,  1,      7,      7,2,20020826,0739, 76.4332,-177.0957, 1385,    588.9,   0.6417,  34.8587,2,  34.8597,2,    303.0,2,    303.9,3,     6.30,2,    12.60,2,     0.00,2,     0.88,2,    5.321,6,    2.571,6,    0.370,6,  -999.00,9,  -999.00,9,   0.6145
  32PZ20020819,   CBL,    11,  1,      6,      6,2,20020826,0739, 76.4332,-177.0957, 1385,    687.0,   0.4002,  34.8595,2,  34.8611,2,    304.0,2,    303.8,3,     6.30,2,    12.50,2,     0.00,2,     0.88,2,    5.131,2,    2.463,2,    0.346,2,  -999.00,9,  -999.00,9,   0.3692
  32PZ20020819,   CBL,    11,  1,      5,      5,2,20020826,0739, 76.4332,-177.0957, 1385,    785.7,   0.1975,  34.8596,2,  34.8611,2,    305.2,2,    305.3,2,     6.40,2,    12.50,2,     0.00,2,     0.89,2,    5.195,2,    2.426,2,    0.345,2,     0.23,2,    40.50,2,   0.1627
  32PZ20020819,   CBL,    11,  1,      4,      4,2,20020826,0739, 76.4332,-177.0957, 1385,    935.9,  -0.0168,  34.8659,2,  34.8674,2,    305.3,2,    305.5,2,     6.70,2,    12.60,2,     0.00,2,     0.90,2,    4.910,2,    2.277,2,    0.312,2,  -999.00,9,  -999.00,9,  -0.0579
  32PZ20020819,   CBL,    11,  1,      3,      3,2,20020826,0739, 76.4332,-177.0957, 1385,   1085.2,  -0.1663,  34.8757,2,  34.8774,2,    305.1,2,    305.2,2,     7.10,2,    12.80,2,     0.00,2,     0.92,2,    4.598,2,    2.140,2,    0.297,2,  -999.00,9,  -999.00,9,  -0.2140
  32PZ20020819,   CBL,    11,  1,      2,      2,2,20020826,0739, 76.4332,-177.0957, 1385,   1234.7,  -0.3006,  34.8871,2,  34.8888,2,    303.8,2,    304.0,2,     7.90,2,    13.10,2,     0.00,2,     0.94,2,    3.941,2,    1.829,2,    0.248,2,  -999.00,9,  -999.00,9,  -0.3552
  32PZ20020819,   CBL,    11,  1,      1,      1,2,20020826,0739, 76.4332,-177.0957, 1385,   1365.2,  -0.4689,  34.8990,2,  34.9002,2,    302.1,2,    301.8,2,     9.10,2,    13.70,2,     0.01,2,     0.97,2,    3.023,2,    1.462,2,    0.202,2,  -999.00,9,  -999.00,9,  -0.5290
  32PZ20020819,   CBL,    12,  1,     24,     24,2,20020826,1054, 76.4318,-177.4068, 1054,      1.6,  -1.3699,  28.9278,2,  28.9270,2,    374.2,2,    377.3,2,     4.90,2,     0.00,2,     0.00,2,     0.73,2, -999.000,9, -999.000,9, -999.000,9,  -999.00,9,  -999.00,9,  -1.3699
  32PZ20020819,   CBL,    12,  1,     23,     23,2,20020826,1054, 76.4318,-177.4068, 1054,     14.0,  -1.3702,  28.9350,2,  28.9526,2,    378.4,2,    378.6,2,     4.90,2,     0.00,2,     0.00,2,     0.74,2,    7.504,2,    3.828,2,    0.690,2,    -2.42,2,    56.30,2,  -1.3704
  32PZ20020819,   CBL,    12,  1,     22,     22,2,20020826,1054, 76.4318,-177.4068, 1054,     29.1,  -1.2325,  30.1383,2,  30.2695,2,    384.0,2,    383.7,2,     5.80,2,     0.30,2,     0.03,2,     0.80,2, -999.000,9, -999.000,9, -999.000,9,    -2.19,2,    57.10,2,  -1.2330
  32PZ20020819,   CBL,    12,  1,     21,     21,2,20020826,1054, 76.4318,-177.4068, 1054,     43.7,  -1.1249,  31.9986,2,  32.0347,2,    337.6,2,    316.3,2,    14.70,2,     7.20,2,     0.06,2,     1.28,2,    6.759,2,    3.442,2,    0.574,2,    -1.60,2,    58.00,2,  -1.1258
  32PZ20020819,   CBL,    12,  1,     20,     20,2,20020826,1054, 76.4318,-177.4068, 1054,     58.5,  -0.9155,  32.3647,2,  32.3902,2,    310.3,2,    287.3,2,    24.20,2,    11.20,2,     0.01,2,     1.64,2, -999.000,9, -999.000,9, -999.000,9,    -1.58,2,    63.00,2,  -0.9169
  32PZ20020819,   CBL,    12,  1,     19,     19,2,20020826,1054, 76.4318,-177.4068, 1054,     78.4,  -1.4145,  32.7087,2,  32.7299,2,    265.3,2,    274.6,2,    34.00,2,    14.40,2,     0.01,2,     1.90,2,    6.350,2,    3.263,2,    0.479,2,    -1.49,2,    67.70,2,  -1.4161
  32PZ20020819,   CBL,    12,  1,     18,     18,2,20020826,1054, 76.4318,-177.4068, 1054,     93.4,  -1.4926,  32.9104,2,  32.9343,2,    270.6,2,    263.8,2,    37.00,2,    15.60,2,     0.01,2,     1.99,2, -999.000,9, -999.000,9, -999.000,9,  -999.00,9,  -999.00,9,  -1.4944
  32PZ20020819,   CBL,    12,  1,     17,     17,2,20020826,1054, 76.4318,-177.4068, 1054,    107.9,  -1.5703,  33.1558,2,  33.1976,2,    274.3,2,    267.1,2,    39.80,2,    15.50,2,     0.01,2,     1.98,2,    6.079,2,    3.103,2,    0.447,2,    -1.56,2,    67.40,2,  -1.5724
  32PZ20020819,   CBL,    12,  1,     16,     16,2,20020826,1054, 76.4318,-177.4068, 1054,    122.8,  -1.3883,  33.5067,2,  33.5791,2,    268.5,2,    237.9,2,    43.00,2,    16.90,2,     0.00,2,     2.02,2, -999.000,9, -999.000,9, -999.000,9,  -999.00,9,  -999.00,9,  -1.3910
  32PZ20020819,   CBL,    12,  1,     15,     15,2,20020826,1054, 76.4318,-177.4068, 1054,    139.7,  -1.1887,  33.9850,2,  34.0049,2,    241.4,2,    239.8,2,    29.50,2,    14.10,2,     0.00,2,     1.49,2,    5.914,2,    2.887,2,    0.380,2,  -999.00,9,  -999.00,9,  -1.1922
  32PZ20020819,   CBL,    12,  1,     14,     14,2,20020826,1054, 76.4318,-177.4068, 1054,    157.2,  -1.1557,  34.2097,2,  34.2197,2,    269.7,2,    286.0,2,    11.10,2,    11.00,2,     0.01,2,     0.91,2,    6.504,2,    3.017,2,    0.415,2,    -0.25,2,    41.50,2,  -1.1598
  32PZ20020819,   CBL,    12,  1,     13,     13,3,20020826,1054, 76.4318,-177.4068, 1054,    172.1,  -0.7707,  34.3324,2,  34.3343,2,    281.7,2,    275.4,2,    12.10,2,    11.80,2,     0.00,2,     0.95,2,    6.284,2,    2.921,2,    0.394,2,  -999.00,9,  -999.00,9,  -0.7758
  32PZ20020819,   CBL,    12,  1,     12,     12,2,20020826,1054, 76.4318,-177.4068, 1054,    191.6,  -0.3360,  34.4494,2,  34.4667,2,    278.7,2,    280.5,2,    10.30,2,    12.00,2,     0.00,2,     0.91,2, -999.000,9, -999.000,9, -999.000,9,  -999.00,9,  -999.00,9,  -0.3425
  32PZ20020819,   CBL,    12,  1,     11,     11,2,20020826,1054, 76.4318,-177.4068, 1054,    231.6,   0.4620,  34.6544,2,  34.6558,2,    294.3,2,    293.6,2,     7.00,2,    11.90,2,     0.00,2,     0.87,2,    5.970,6,    2.811,6,    0.391,6,  -999.00,9,  -999.00,9,   0.4525
  32PZ20020819,   CBL,    12,  1,     10,     10,2,20020826,1054, 76.4318,-177.4068, 1054,    280.8,   0.9127,  34.7848,2,  34.7926,2,    297.5,2,    294.8,2,     6.70,2,    12.60,2,     0.00,2,     0.87,2,    5.560,2,    2.591,2,    0.356,2,  -999.00,9,  -999.00,9,   0.8999
  32PZ20020819,   CBL,    12,  1,      9,      9,2,20020826,1054, 76.4318,-177.4068, 1054,    330.1,   1.0992,  34.8294,2,  34.8306,2,    297.2,2,    296.4,2,     6.50,2,    12.60,2,     0.00,2,     0.87,2,    5.496,2,    2.604,2,    0.355,2,  -999.00,9,  -999.00,9,   1.0835
  32PZ20020819,   CBL,    12,  1,      8,      8,2,20020826,1054, 76.4318,-177.4068, 1054,    369.5,   1.1280,  34.8400,2,  34.8435,2,    298.5,2,    298.9,2,     6.40,2,    12.50,2,     0.00,2,     0.87,2,    5.493,2,    2.738,2,    0.383,2,     0.24,2,    40.30,2,   1.1102
  32PZ20020819,   CBL,    12,  1,      7,      7,2,20020826,1054, 76.4318,-177.4068, 1054,    418.2,   1.0820,  34.8492,2,  34.8494,2,    298.8,2,    299.0,2,     6.40,2,    12.60,2,     0.01,2,     0.88,2,    5.279,2,    2.509,2,    0.338,2,  -999.00,9,  -999.00,9,   1.0618
  32PZ20020819,   CBL,    12,  1,      6,      6,2,20020826,1054, 76.4318,-177.4068, 1054,    497.1,   0.8717,  34.8575,2,  34.8598,2,    300.9,2,    301.0,2,     6.40,2,    12.70,2,     0.00,2,     0.88,2,    5.187,2,    2.443,2,    0.318,2,  -999.00,9,  -999.00,9,   0.8482
  32PZ20020819,   CBL,    12,  1,      5,      5,2,20020826,1054, 76.4318,-177.4068, 1054,    594.9,   0.5837,  34.8587,2,  34.8594,2,    302.5,2,    302.7,2,     6.40,2,    12.60,2,     0.00,2,     0.88,2,    5.194,2,    2.430,2,    0.322,2,  -999.00,9,  -999.00,9,   0.5565
  32PZ20020819,   CBL,    12,  1,      4,      4,2,20020826,1054, 76.4318,-177.4068, 1054,    692.6,   0.3588,  34.8581,2,  34.8600,2,    303.1,2,    303.3,2,     6.50,2,    12.60,2,     0.00,2,     0.88,2,    4.986,2,    2.335,2,    0.319,2,  -999.00,9,  -999.00,9,   0.3278
  32PZ20020819,   CBL,    12,  1,      3,      3,2,20020826,1054, 76.4318,-177.4068, 1054,    790.3,   0.1658,  34.8601,2,  34.8613,2,    304.3,2,    304.3,2,     6.60,2,    12.60,2,     0.00,2,     0.89,2,    5.013,2,    2.446,2,    0.321,2,     0.24,2,    40.20,2,   0.1310
  32PZ20020819,   CBL,    12,  1,      2,      2,2,20020826,1054, 76.4318,-177.4068, 1054,    937.7,  -0.0370,  34.8671,2,  34.8684,2,    303.9,2,    304.2,2,     7.20,2,    12.70,2,     0.00,2,     0.90,2,    4.830,2,    2.434,2,    0.321,2,  -999.00,9,  -999.00,9,  -0.0780
  32PZ20020819,   CBL,    12,  1,      1,      1,2,20020826,1054, 76.4318,-177.4068, 1054,   1030.7,  -0.1189,  34.8734,2,  34.8739,2,    302.0,2,    302.1,2,     8.10,2,    13.00,2,     0.01,2,     0.92,2,    4.634,2,    2.163,2,    0.280,2,  -999.00,9,  -999.00,9,  -0.1641