BOTTLE,20220815CCHSIOAMB
EXPOCODE,SECT_ID,STNNBR,CASTNO,SAMPNO,BTLNBR,BTLNBR_FLAG_W,DATE,TIME,LATITUDE,LONGITUDE,DEPTH,CTDPRS,CTDTMP,CTDSAL,CTDSAL_FLAG_W,SALNTY,SALNTY_FLAG_W,CTDOXY,CTDOXY_FLAG_W,OXYGEN,OXYGEN_FLAG_W,SILCAT,SILCAT_FLAG_W,NITRAT,NITRAT_FLAG_W,NITRIT,NITRIT_FLAG_W,PHSPHT,PHSPHT_FLAG_W,CFC-11,CFC-11_FLAG_W,CFC-12,CFC-12_FLAG_W,CFC113,CFC113_FLAG_W,DELO18,DELO18_FLAG_W,BARIUM,BARIUM_FLAG_W,THETA
,,,,,,,,,,,METERS,DBAR,ITS-90,PSS-78,,PSS-78,,UMOL/KG,,UMOL/KG,,UMOL/KG,,UMOL/KG,,UMOL/KG,,UMOL/KG,,PMOL/KG,,PMOL/KG,,PMOL/KG,,/MILLE,,NMOL/KG,,DEG C
  32PZ20020819,   CBL,    55,  1,     26,     26,2,20020905,1833, 79.3733,-160.0872, 3444,     13.4,  -1.6377,  30.6480,2,  30.7540,2,    387.4,2,    389.7,2,     1.70,2,     0.40,2,     0.01,2,     0.88,2,    7.630,2,    3.963,2,    0.743,2,  -999.00,9,  -999.00,9,  -1.6379
  32PZ20020819,   CBL,    55,  1,     25,     25,2,20020905,1833, 79.3733,-160.0872, 3444,     28.1,  -1.5920,  31.3915,2,  31.3382,2,    389.6,2,    379.9,2,     6.30,2,     2.40,2,     0.07,2,     1.08,2,    7.763,2,    3.951,2,    0.729,2,  -999.00,9,  -999.00,9,  -1.5924
  32PZ20020819,   CBL,    55,  1,     24,     24,2,20020905,1833, 79.3733,-160.0872, 3444,     57.9,  -1.6279,  31.9505,2,  32.0651,2,    333.3,2,    311.4,2,    19.90,2,     9.00,2,     0.02,2,     1.50,2, -999.000,9, -999.000,9, -999.000,9,  -999.00,9,  -999.00,9,  -1.6289
  32PZ20020819,   CBL,    55,  1,     23,     23,2,20020905,1833, 79.3733,-160.0872, 3444,     72.7,  -1.5843,  32.3802,2,  32.4545,2,    306.0,2,    281.4,2,    27.80,2,    12.10,2,     0.02,2,     1.73,2,    7.036,2,    3.572,2,    0.581,2,  -999.00,9,  -999.00,9,  -1.5856
  32PZ20020819,   CBL,    55,  1,     22,     22,2,20020905,1833, 79.3733,-160.0872, 3444,     87.5,  -1.5063,  32.7415,2,  32.8303,2,    275.0,2,    250.8,2,    36.00,2,    14.90,2,     0.02,2,     1.92,2, -999.000,9, -999.000,9, -999.000,9,  -999.00,9,  -999.00,9,  -1.5080
  32PZ20020819,   CBL,    55,  1,     21,     21,2,20020905,1833, 79.3733,-160.0872, 3444,    102.2,  -1.4690,  33.2551,2,  33.3538,2,    250.2,2,    250.7,2,    33.10,2,    14.20,2,     0.02,2,     1.67,2,    6.519,2,    3.271,2,    0.463,2,  -999.00,9,  -999.00,9,  -1.4711
  32PZ20020819,   CBL,    55,  1,     20,     20,2,20020905,1833, 79.3733,-160.0872, 3444,    117.1,  -1.4470,  33.7144,2,  33.7497,2,    260.6,2,    269.2,2,    23.10,2,    12.30,2,     0.02,2,     1.30,2, -999.000,9, -999.000,9, -999.000,9,  -999.00,9,  -999.00,9,  -1.4496
  32PZ20020819,   CBL,    55,  1,     19,     19,2,20020905,1833, 79.3733,-160.0872, 3444,    132.1,  -1.4799,  33.9398,2,  33.9807,2,    283.1,2,    297.3,2,    10.70,2,     9.80,2,     0.02,2,     0.89,2,    6.996,2,    3.309,2,    0.507,2,  -999.00,9,  -999.00,9,  -1.4829
  32PZ20020819,   CBL,    55,  1,     18,     18,2,20020905,1833, 79.3733,-160.0872, 3444,    146.7,  -1.3740,  34.1296,2,  34.1644,2,    304.3,2,    305.8,2,     7.00,2,     9.40,2,     0.02,2,     0.78,2,    6.805,2,    3.214,2,    0.492,2,  -999.00,9,  -999.00,9,  -1.3775
  32PZ20020819,   CBL,    55,  1,     17,     17,2,20020905,1833, 79.3733,-160.0872, 3444,    161.0,  -1.0992,  34.2522,2,  34.2597,2,    305.1,2,    304.0,2,  -999.00,9,  -999.00,9,  -999.00,9,  -999.00,9,    6.652,2,    3.169,2,    0.491,2,  -999.00,9,  -999.00,9,  -1.1035
  32PZ20020819,   CBL,    55,  1,     16,     16,2,20020905,1833, 79.3733,-160.0872, 3444,    191.3,  -0.4655,  34.4159,2,  34.4213,2,    300.0,2,    299.3,2,     6.60,2,    10.50,2,     0.01,2,     0.82,2,    6.472,2,    3.034,2,    0.471,2,  -999.00,9,  -999.00,9,  -0.4717
  32PZ20020819,   CBL,    55,  1,     15,     15,2,20020905,1833, 79.3733,-160.0872, 3444,    220.8,   0.0820,  34.5442,2,  34.5662,2,    300.6,2,    298.5,2,  -999.00,9,  -999.00,9,  -999.00,9,  -999.00,9,    5.768,2,    2.669,2,    0.399,2,  -999.00,9,  -999.00,9,   0.0737
  32PZ20020819,   CBL,    55,  1,     14,     14,2,20020905,1833, 79.3733,-160.0872, 3444,    265.7,   0.7308,  34.7488,2,  34.7615,2,    296.1,2,    296.8,2,     6.10,2,    12.30,2,     0.01,2,     0.88,2,    5.090,2,    2.513,2,    0.326,2,  -999.00,9,  -999.00,9,   0.7191
  32PZ20020819,   CBL,    55,  1,     13,     13,2,20020905,1833, 79.3733,-160.0872, 3444,    324.7,   0.9712,  34.8299,2,  34.8416,2,    298.2,2,    298.8,2,     6.10,2,    12.70,2,     0.01,2,     0.89,2,    4.884,2,    2.345,2,    0.303,2,  -999.00,9,  -999.00,9,   0.9561
  32PZ20020819,   CBL,    55,  1,     12,     12,2,20020905,1833, 79.3733,-160.0872, 3444,    393.9,   0.8966,  34.8609,2,  34.8620,2,    297.2,2,    300.8,2,     6.00,2,    12.80,2,     0.01,2,     0.89,2,    4.932,2,    2.331,2,    0.313,2,  -999.00,9,  -999.00,9,   0.8782
  32PZ20020819,   CBL,    55,  1,     11,     11,2,20020905,1833, 79.3733,-160.0872, 3444,    498.5,   0.5653,  34.8526,2,  34.8539,2,    298.4,2,    297.7,2,     6.50,2,    12.90,2,     0.01,2,     0.91,2,    3.543,2,    1.699,2,    0.180,2,  -999.00,9,  -999.00,9,   0.5430
  32PZ20020819,   CBL,    55,  1,     10,     10,2,20020905,1833, 79.3733,-160.0872, 3444,    597.4,   0.4217,  34.8641,2,  34.8651,2,    298.7,2,    298.8,2,  -999.00,9,  -999.00,9,  -999.00,9,  -999.00,9,    3.231,6,    1.511,6,    0.167,6,  -999.00,9,  -999.00,9,   0.3951
  32PZ20020819,   CBL,    55,  1,      9,      9,2,20020905,1833, 79.3733,-160.0872, 3444,    696.3,   0.2602,  34.8675,2,  34.8694,2,    300.0,2,    300.7,2,     6.60,2,    13.10,2,     0.01,2,     0.92,2,    3.333,2,    1.598,2,    0.174,2,  -999.00,9,  -999.00,9,   0.2295
  32PZ20020819,   CBL,    55,  1,      8,      8,2,20020905,1833, 79.3733,-160.0872, 3444,    845.5,   0.0415,  34.8740,2,  34.8770,2,    300.6,2,    302.0,2,  -999.00,9,  -999.00,9,  -999.00,9,  -999.00,9,    3.141,2,    1.475,2,    0.160,2,  -999.00,9,  -999.00,9,   0.0047
  32PZ20020819,   CBL,    55,  1,      7,      7,2,20020905,1833, 79.3733,-160.0872, 3444,    994.1,  -0.0857,  34.8873,2,  34.8880,2,    301.7,2,    300.2,2,  -999.00,9,  -999.00,9,  -999.00,9,  -999.00,9,    2.047,2,    0.952,2,    0.093,2,  -999.00,9,  -999.00,9,  -0.1293
  32PZ20020819,   CBL,    55,  1,      6,      6,2,20020905,1833, 79.3733,-160.0872, 3444,   1242.4,  -0.2336,  34.9039,2,  34.9053,2,    300.6,2,    300.9,2,  -999.00,9,  -999.00,9,  -999.00,9,  -999.00,9,    1.260,2,    0.538,2,    0.044,2,  -999.00,9,  -999.00,9,  -0.2894
  32PZ20020819,   CBL,    55,  1,      5,      5,2,20020905,1833, 79.3733,-160.0872, 3444,   1490.8,  -0.3307,  34.9209,2,  34.9225,2,    298.3,2,    297.7,2,  -999.00,9,  -999.00,9,  -999.00,9,  -999.00,9,    0.539,2,    0.273,2,    0.015,2,  -999.00,9,  -999.00,9,  -0.3997
  32PZ20020819,   CBL,    55,  1,      4,      4,2,20020905,1833, 79.3733,-160.0872, 3444,   1789.8,  -0.3949,  34.9378,2,  34.9396,2,    294.4,2,    293.8,2,  -999.00,9,  -999.00,9,  -999.00,9,  -999.00,9,    0.110,2,    0.033,2,    0.000,2,  -999.00,9,  -999.00,9,  -0.4816
  32PZ20020819,   CBL,    55,  1,      3,      3,2,20020905,1833, 79.3733,-160.0872, 3444,   2288.4,  -0.3982,  34.9524,2,  34.9529,2,    288.1,2,    288.1,2,  -999.00,9,  -999.00,9,  -999.00,9,  -999.00,9,    0.010,2,    0.000,2,    0.002,2,  -999.00,9,  -999.00,9,  -0.5188
  32PZ20020819,   CBL,    55,  1,      2,      2,2,20020905,1833, 79.3733,-160.0872, 3444,   2787.9,  -0.3508,  34.9574,2,  34.9576,2,    284.6,2,    284.7,2,  -999.00,9,  -999.00,9,  -999.00,9,  -999.00,9, -999.000,9, -999.000,9, -999.000,9,  -999.00,9,  -999.00,9,  -0.5104
  32PZ20020819,   CBL,    55,  1,      1,      1,2,20020905,1833, 79.3733,-160.0872, 3444,   3452.4,  -0.2932,  34.9573,2,  34.9579,2,    284.5,2,    284.6,2,  -999.00,9,  -999.00,9,  -999.00,9,  -999.00,9,    0.000,2,    0.000,2,    0.000,2,  -999.00,9,  -999.00,9,  -0.5110
  32PZ20020819,   CBL,    56,  1,     36,     36,2,20020906,0032, 79.5277,-159.1782, 3563,      2.1,  -1.6155,  30.7780,2,  30.7799,2,    389.3,2,    391.8,2,  -999.00,9,  -999.00,9,  -999.00,9,  -999.00,9, -999.000,9, -999.000,9, -999.000,9,  -999.00,9,  -999.00,9,  -1.6155
  32PZ20020819,   CBL,    56,  1,     34,     34,2,20020906,0032, 79.5277,-159.1782, 3563,     16.7,  -1.6473,  30.7896,2,  30.8099,2,    391.5,2,    391.3,2,     2.70,2,     0.40,2,     0.01,2,     0.88,2,    7.464,2,    3.822,2,    0.683,2,    -1.94,2,    58.50,2,  -1.6475
  32PZ20020819,   CBL,    56,  1,     35,     35,2,20020906,0032, 79.5277,-159.1782, 3563,     16.7,  -1.6474,  30.7903,2,  30.8142,2,    391.5,2,   -999.0,9,  -999.00,9,  -999.00,9,  -999.00,9,  -999.00,9,    7.393,6,    3.795,6,    0.692,6,  -999.00,9,  -999.00,9,  -1.6476
  32PZ20020819,   CBL,    56,  1,     33,     33,2,20020906,0032, 79.5277,-159.1782, 3563,     30.9,  -1.6238,  31.5024,2,  31.5666,2,    384.8,2,    369.3,2,  -999.00,9,  -999.00,9,  -999.00,9,  -999.00,9, -999.000,9, -999.000,9, -999.000,9,  -999.00,9,  -999.00,9,  -1.6243
  32PZ20020819,   CBL,    56,  1,     32,     32,2,20020906,0032, 79.5277,-159.1782, 3563,     53.0,  -1.6945,  31.6974,2,  31.7523,2,    368.0,2,    351.1,2,    13.10,2,     5.50,2,     0.02,2,     1.29,2, -999.000,9, -999.000,9, -999.000,9,    -1.73,2,    59.60,2,  -1.6953
  32PZ20020819,   CBL,    56,  1,     31,     31,2,20020906,0032, 79.5277,-159.1782, 3563,     61.9,  -1.6635,  31.9011,2,  31.9814,2,    355.3,2,    322.9,2,    17.60,2,     8.00,2,     0.02,2,     1.44,2, -999.000,9, -999.000,9, -999.000,9,    -1.59,2,    59.40,2,  -1.6645
  32PZ20020819,   CBL,    56,  1,     30,     30,2,20020906,0032, 79.5277,-159.1782, 3563,     75.5,  -1.5861,  32.3286,2,  32.4120,2,    315.6,2,    284.6,2,    26.50,2,    11.80,2,     0.02,2,     1.71,2, -999.000,9, -999.000,9, -999.000,9,    -1.46,2,    63.30,2,  -1.5874
  32PZ20020819,   CBL,    56,  1,     29,     29,2,20020906,0032, 79.5277,-159.1782, 3563,     90.4,  -1.4732,  32.7508,2,  32.8338,2,    274.7,2,    251.8,2,    37.30,2,    16.30,2,     0.02,2,     2.00,2, -999.000,9, -999.000,9, -999.000,9,    -1.24,2,    68.20,2,  -1.4750
  32PZ20020819,   CBL,    56,  1,     28,     28,2,20020906,0032, 79.5277,-159.1782, 3563,    111.5,  -1.4389,  33.4120,2,  33.4456,2,    252.1,2,    246.9,2,    36.70,2,    15.60,2,     0.02,2,     1.81,2,    5.998,2,    3.054,2,    0.431,2,    -1.07,2,    62.10,2,  -1.4413
  32PZ20020819,   CBL,    56,  1,     27,     27,2,20020906,0032, 79.5277,-159.1782, 3563,    120.7,  -1.4661,  33.7144,2,  33.7896,2,    255.9,2,    278.0,2,    19.50,2,    11.40,2,     0.02,2,     1.19,2, -999.000,9, -999.000,9, -999.000,9,    -0.68,2,    51.50,2,  -1.4688
  32PZ20020819,   CBL,    56,  1,     26,     26,2,20020906,0032, 79.5277,-159.1782, 3563,    136.6,  -1.4632,  34.0109,2,  34.0269,2,    285.6,2,    299.9,2,     9.30,2,     9.60,2,     0.02,2,     0.85,2, -999.000,9, -999.000,9, -999.000,9,    -0.47,2,    49.30,2,  -1.4663
  32PZ20020819,   CBL,    56,  1,     25,     25,2,20020906,0032, 79.5277,-159.1782, 3563,    156.4,  -1.1799,  34.2033,2,  34.2299,2,    297.8,2,    306.2,2,     6.20,2,     9.40,2,     0.01,2,     0.78,2, -999.000,9, -999.000,9, -999.000,9,    -0.28,2,    43.90,2,  -1.1839
  32PZ20020819,   CBL,    56,  1,     24,     24,2,20020906,0032, 79.5277,-159.1782, 3563,    171.5,  -0.8033,  34.3158,2,  34.3464,2,    306.7,2,    304.3,2,     5.70,2,     9.90,2,     0.01,2,     0.78,2,    6.473,2,    3.059,2,    0.418,2,    -0.05,2,    43.80,2,  -0.8083
  32PZ20020819,   CBL,    56,  1,     23,     23,2,20020906,0032, 79.5277,-159.1782, 3563,    209.7,  -0.0230,  34.5292,2,  34.5399,2,    293.9,2,    298.0,2,     6.40,2,    11.10,2,     0.01,2,     0.84,2, -999.000,9, -999.000,9, -999.000,9,     0.10,2,    42.70,2,  -0.0307
  32PZ20020819,   CBL,    56,  1,     22,     22,2,20020906,0032, 79.5277,-159.1782, 3563,    253.6,   0.7026,  34.7318,2,  34.7456,2,    297.4,2,    297.3,2,     6.00,2,    12.20,2,     0.01,2,     0.88,2,    5.392,2,    2.542,2,    0.386,2,     0.23,2,    42.00,2,   0.6916
  32PZ20020819,   CBL,    56,  1,     21,     21,2,20020906,0032, 79.5277,-159.1782, 3563,    292.9,   0.9166,  34.7968,2,  34.7973,2,    297.8,2,    297.3,2,     5.90,2,    12.50,2,     0.01,2,     0.89,2,    5.161,2,    2.447,2,    0.378,2,     0.24,2,    41.70,2,   0.9032
  32PZ20020819,   CBL,    56,  1,     20,     20,2,20020906,0032, 79.5277,-159.1782, 3563,    333.2,   1.1033,  34.8502,2,  34.8495,2,    298.7,2,    299.6,2,     5.80,2,    12.70,2,     0.01,2,     0.90,2, -999.000,9, -999.000,9, -999.000,9,     0.30,2,    42.60,2,   1.0874
  32PZ20020819,   CBL,    56,  1,     19,     19,2,20020906,0032, 79.5277,-159.1782, 3563,    364.9,   0.9692,  34.8429,2,  34.8422,2,    298.6,2,    298.2,2,     6.20,2,    12.70,2,     0.01,2,     0.90,2,    4.665,2,    2.158,2,    0.280,2,     0.53,2,    41.70,2,   0.9521
  32PZ20020819,   CBL,    56,  1,     18,     18,2,20020906,0032, 79.5277,-159.1782, 3563,    411.6,   0.8685,  34.8602,2,  34.8597,2,    298.6,2,    301.5,2,     5.90,2,    12.70,2,     0.01,2,     0.90,2,    4.805,2,    2.229,2,    0.289,2,     0.29,2,    42.60,2,   0.8493
  32PZ20020819,   CBL,    56,  1,     17,     17,2,20020906,0032, 79.5277,-159.1782, 3563,    506.2,   0.5698,  34.8532,2,  34.8528,2,    298.2,2,    298.1,2,     6.40,2,    13.00,2,     0.01,2,     0.91,2,    3.578,2,    1.661,2,    0.183,2,     0.33,2,    40.60,2,   0.5471
  32PZ20020819,   CBL,    56,  1,     16,     16,2,20020906,0032, 79.5277,-159.1782, 3563,    605.1,   0.4301,  34.8645,2,  34.8640,2,    298.5,2,    298.5,2,     6.60,2,    13.10,2,     0.01,2,     0.92,2,    3.329,2,    1.555,2,    0.192,2,     0.23,2,    44.00,2,   0.4031
  32PZ20020819,   CBL,    56,  1,     15,     15,2,20020906,0032, 79.5277,-159.1782, 3563,    706.8,   0.2583,  34.8681,2,  34.8689,2,    300.5,2,    300.6,2,     6.60,2,    13.00,2,     0.01,2,     0.92,2,    3.321,2,    1.586,2,    0.211,2,     0.32,2,    42.20,2,   0.2271
  32PZ20020819,   CBL,    56,  1,     14,     14,2,20020906,0032, 79.5277,-159.1782, 3563,    815.2,   0.0863,  34.8714,2,  34.8712,2,    301.5,2,    301.8,2,     6.70,2,    13.00,2,     0.01,2,     0.93,2,    3.382,2,    1.560,2,    0.179,2,     0.28,2,    42.40,2,   0.0507
  32PZ20020819,   CBL,    56,  1,     13,     13,2,20020906,0032, 79.5277,-159.1782, 3563,   1018.6,  -0.0918,  34.8873,2,  34.8873,2,    300.5,2,    301.0,2,  -999.00,9,  -999.00,9,  -999.00,9,  -999.00,9,    2.225,2,    1.036,2,    0.092,2,  -999.00,9,  -999.00,9,  -0.1366
  32PZ20020819,   CBL,    56,  1,     12,     12,2,20020906,0032, 79.5277,-159.1782, 3563,   1271.9,  -0.2457,  34.9050,2,  34.9048,2,    299.8,2,    300.4,2,     7.90,2,    13.60,2,     0.01,2,     0.97,2,    1.360,2,    0.684,2,    0.045,2,     0.32,2,    43.80,2,  -0.3030
  32PZ20020819,   CBL,    56,  1,     11,     11,2,20020906,0032, 79.5277,-159.1782, 3563,   1525.6,  -0.3357,  34.9234,2,  34.9224,2,    297.6,2,    297.2,2,  -999.00,9,  -999.00,9,  -999.00,9,  -999.00,9,    0.465,2,    0.218,2,    0.005,2,  -999.00,9,  -999.00,9,  -0.4068
  32PZ20020819,   CBL,    56,  1,     10,     10,2,20020906,0032, 79.5277,-159.1782, 3563,   1724.4,  -0.3846,  34.9354,2,  34.9346,2,    294.9,2,    294.7,2,  -999.00,9,  -999.00,9,  -999.00,9,  -999.00,9,    0.183,2,    0.085,2,    0.000,2,  -999.00,9,  -999.00,9,  -0.4673
  32PZ20020819,   CBL,    56,  1,      9,      9,2,20020906,0032, 79.5277,-159.1782, 3563,   1928.8,  -0.4048,  34.9436,2,  34.9426,2,    292.3,2,    292.1,2,    11.10,2,    14.70,2,     0.01,2,     1.05,2,    0.032,2,    0.039,2,    0.000,2,     0.23,2,  -999.00,9,  -0.5004
  32PZ20020819,   CBL,    56,  1,      8,      8,2,20020906,0032, 79.5277,-159.1782, 3563,   2188.0,  -0.4041,  34.9507,2,  34.9499,2,    289.1,2,    288.9,2,  -999.00,9,  -999.00,9,  -999.00,9,  -999.00,9,    0.000,2,    0.017,2,    0.000,2,  -999.00,9,  -999.00,9,  -0.5174
  32PZ20020819,   CBL,    56,  1,      7,      7,2,20020906,0032, 79.5277,-159.1782, 3563,   2442.3,  -0.3867,  34.9547,2,  34.9546,2,    287.3,2,    286.5,2,    13.80,2,    15.00,2,     0.01,2,     1.08,2,    0.018,2,    0.005,2,    0.000,2,     0.34,2,    46.90,2,  -0.5188
  32PZ20020819,   CBL,    56,  1,      6,      6,2,20020906,0032, 79.5277,-159.1782, 3563,   2752.7,  -0.3542,  34.9580,2,  34.9577,2,    284.8,2,    285.5,2,  -999.00,9,  -999.00,9,  -999.00,9,  -999.00,9, -999.000,9, -999.000,9, -999.000,9,  -999.00,9,  -999.00,9,  -0.5109
  32PZ20020819,   CBL,    56,  1,      4,      4,2,20020906,0032, 79.5277,-159.1782, 3563,   3057.1,  -0.3288,  34.9581,2,  34.9576,2,    284.7,2,    284.7,2,  -999.00,9,  -999.00,9,  -999.00,9,  -999.00,9,    0.000,2,    0.004,2,    0.000,2,  -999.00,9,  -999.00,9,  -0.5111
  32PZ20020819,   CBL,    56,  1,      5,      5,2,20020906,0032, 79.5277,-159.1782, 3563,   3057.1,  -0.3288,  34.9581,2,  34.9569,2,    284.7,2,   -999.0,9,  -999.00,9,  -999.00,9,  -999.00,9,  -999.00,9,    0.005,6,    0.004,6,    0.003,6,  -999.00,9,  -999.00,9,  -0.5111
  32PZ20020819,   CBL,    56,  1,      3,      3,2,20020906,0032, 79.5277,-159.1782, 3563,   3362.7,  -0.3016,  34.9581,2,  34.9570,2,    284.8,2,    285.1,2,  -999.00,9,  -999.00,9,  -999.00,9,  -999.00,9, -999.000,9, -999.000,9, -999.000,9,  -999.00,9,  -999.00,9,  -0.5111
  32PZ20020819,   CBL,    56,  1,      2,      2,2,20020906,0032, 79.5277,-159.1782, 3563,   3517.8,  -0.2870,  34.9579,2,  34.9578,2,    284.3,2,    284.5,2,  -999.00,9,  -999.00,9,  -999.00,9,  -999.00,9,    0.016,2,    0.005,2,    0.000,2,  -999.00,9,  -999.00,9,  -0.5109
  32PZ20020819,   CBL,    56,  1,      1,      1,2,20020906,0032, 79.5277,-159.1782, 3563,   3572.7,  -0.2814,  34.9578,2,  34.9583,2,    284.8,2,    284.5,2,    13.50,2,    15.00,2,     0.01,2,     1.08,2,    0.005,2,    0.011,2,    0.000,2,     0.40,2,    51.20,2,  -0.5105