BOTTLE,20220815CCHSIOAMB
EXPOCODE,SECT_ID,STNNBR,CASTNO,SAMPNO,BTLNBR,BTLNBR_FLAG_W,DATE,TIME,LATITUDE,LONGITUDE,DEPTH,CTDPRS,CTDTMP,CTDSAL,CTDSAL_FLAG_W,SALNTY,SALNTY_FLAG_W,CTDOXY,CTDOXY_FLAG_W,OXYGEN,OXYGEN_FLAG_W,SILCAT,SILCAT_FLAG_W,NITRAT,NITRAT_FLAG_W,NITRIT,NITRIT_FLAG_W,PHSPHT,PHSPHT_FLAG_W,CFC-11,CFC-11_FLAG_W,CFC-12,CFC-12_FLAG_W,CFC113,CFC113_FLAG_W,DELO18,DELO18_FLAG_W,BARIUM,BARIUM_FLAG_W,THETA
,,,,,,,,,,,METERS,DBAR,ITS-90,PSS-78,,PSS-78,,UMOL/KG,,UMOL/KG,,UMOL/KG,,UMOL/KG,,UMOL/KG,,UMOL/KG,,PMOL/KG,,PMOL/KG,,PMOL/KG,,/MILLE,,NMOL/KG,,DEG C
  32PZ20020819,   CBL,    38,  1,     30,     30,2,20020902,1550, 79.1010,-167.9200, 3035,      1.6,  -1.6010,  30.2702,2,  30.2619,2,    386.3,2,    388.7,2,     2.90,2,     0.30,2,     0.01,2,     0.71,2, -999.000,9, -999.000,9, -999.000,9,  -999.00,9,  -999.00,9,  -1.6010
  32PZ20020819,   CBL,    38,  1,     29,     29,2,20020902,1550, 79.1010,-167.9200, 3035,     17.9,  -1.6050,  30.2803,2,  30.2747,2,    389.7,2,    388.4,2,     3.10,2,     0.30,2,     0.02,2,     0.71,2,    7.684,2,    3.856,2,    0.716,2,    -2.93,2,    55.70,2,  -1.6052
  32PZ20020819,   CBL,    38,  1,     28,     28,2,20020902,1550, 79.1010,-167.9200, 3035,     35.5,  -1.5161,  30.8609,2,  30.8591,2,    390.1,2,    388.0,2,     3.80,2,     0.60,2,     0.03,2,     0.91,2,    7.380,2,    3.785,2,    0.678,2,    -2.25,2,    59.20,2,  -1.5166
  32PZ20020819,   CBL,    38,  1,     27,     27,2,20020902,1550, 79.1010,-167.9200, 3035,     52.5,  -1.6552,  31.6401,2,  31.6638,2,    367.0,2,    348.2,2,    11.60,2,     4.60,2,     0.02,2,     1.20,2,    7.410,2,    3.769,2,    0.659,2,    -1.90,2,    60.50,2,  -1.6560
  32PZ20020819,   CBL,    38,  1,     26,     26,2,20020902,1550, 79.1010,-167.9200, 3035,     61.9,  -1.6079,  32.1148,2,  32.1474,2,    344.1,2,    318.9,2,    15.00,2,     6.50,2,     0.03,2,     1.20,2, -999.000,9, -999.000,9, -999.000,9,  -999.00,9,  -999.00,9,  -1.6089
  32PZ20020819,   CBL,    38,  1,     25,     25,2,20020902,1550, 79.1010,-167.9200, 3035,     71.8,  -1.5517,  32.7307,2,  32.7860,2,    314.9,2,    285.3,2,    22.00,2,     9.70,2,     0.03,2,     1.34,2,    7.103,2,    3.589,2,    0.560,2,    -1.40,2,    54.90,2,  -1.5530
  32PZ20020819,   CBL,    38,  1,     24,     24,2,20020902,1550, 79.1010,-167.9200, 3035,     82.0,  -1.4705,  33.3521,2,  33.3413,2,    276.4,2,    260.4,2,    28.40,2,    12.80,2,     0.03,2,     1.50,2,    6.726,2,    3.359,2,    0.497,2,    -1.08,2,    57.50,2,  -1.4722
  32PZ20020819,   CBL,    38,  1,     23,     23,2,20020902,1550, 79.1010,-167.9200, 3035,     91.8,  -1.5327,  33.6774,2,  33.7169,2,    279.4,2,    290.8,2,    14.90,2,     9.80,2,     0.02,2,     1.00,2, -999.000,9, -999.000,9, -999.000,9,  -999.00,9,  -999.00,9,  -1.5346
  32PZ20020819,   CBL,    38,  1,     22,     22,2,20020902,1550, 79.1010,-167.9200, 3035,    101.8,  -1.5318,  33.9021,2,  33.9082,2,    298.0,2,    304.1,2,     9.20,2,     8.80,2,     0.02,2,     0.81,2,    7.067,2,    3.382,2,    0.487,2,    -0.64,2,    53.60,2,  -1.5340
  32PZ20020819,   CBL,    38,  1,     21,     21,2,20020902,1550, 79.1010,-167.9200, 3035,    111.6,  -1.4780,  34.0323,2,  34.0362,2,    305.9,2,    305.9,2,     7.50,2,     8.80,2,     0.02,2,     0.77,2, -999.000,9, -999.000,9, -999.000,9,  -999.00,9,  -999.00,9,  -1.4805
  32PZ20020819,   CBL,    38,  1,     20,     20,2,20020902,1550, 79.1010,-167.9200, 3035,    126.6,  -1.3453,  34.1697,2,  34.1799,2,    307.8,2,    310.5,2,     5.90,2,     8.80,2,     0.02,2,     0.74,2,    6.922,2,    3.332,2,    0.541,2,  -999.00,9,  -999.00,9,  -1.3483
  32PZ20020819,   CBL,    38,  1,     19,     19,2,20020902,1550, 79.1010,-167.9200, 3035,    141.3,  -1.0324,  34.2618,2,  34.2638,2,    311.0,2,    311.1,2,     5.20,2,     8.90,2,     0.02,2,     0.73,2,    6.799,2,    3.232,2,    0.465,2,    -0.21,2,    44.10,2,  -1.0362
  32PZ20020819,   CBL,    38,  1,     18,     18,2,20020902,1550, 79.1010,-167.9200, 3035,    190.3,   0.0280,  34.5213,2,  34.5277,2,    303.1,2,    301.8,2,     5.60,2,    10.70,2,     0.02,2,     0.80,2,    5.956,2,    2.813,2,    0.433,2,  -999.00,9,  -999.00,9,   0.0210
  32PZ20020819,   CBL,    38,  1,     17,     17,2,20020902,1550, 79.1010,-167.9200, 3035,    234.8,   0.5986,  34.6910,2,  34.7085,2,    297.3,2,    296.8,2,     6.10,2,    11.90,2,     0.02,2,     0.86,2,    5.130,6,    2.405,6,    0.316,6,  -999.00,9,  -999.00,9,   0.5886
  32PZ20020819,   CBL,    38,  1,     16,     16,2,20020902,1550, 79.1010,-167.9200, 3035,    279.2,   0.9489,  34.8018,2,  34.8028,2,    297.4,2,    298.0,2,     5.80,2,    12.30,2,     0.02,2,     0.88,2,    5.233,2,    2.480,2,    0.333,2,  -999.00,9,  -999.00,9,   0.9361
  32PZ20020819,   CBL,    38,  1,     15,     15,2,20020902,1550, 79.1010,-167.9200, 3035,    323.2,   1.1668,  34.8544,2,  34.8551,2,    299.2,2,    300.0,2,     5.70,2,    12.40,2,     0.02,2,     0.88,2,    5.335,6,    2.525,6,    0.360,6,     0.18,2,    47.50,2,   1.1512
  32PZ20020819,   CBL,    38,  1,     14,     14,2,20020902,1550, 79.1010,-167.9200, 3035,    399.9,   0.9837,  34.8632,2,  34.8600,2,    299.2,2,    300.3,2,     5.90,2,    12.50,2,     0.02,2,     0.89,2,    5.016,2,    2.354,2,    0.327,2,  -999.00,9,  -999.00,9,   0.9648
  32PZ20020819,   CBL,    38,  1,     13,     13,2,20020902,1550, 79.1010,-167.9200, 3035,    518.9,   0.5935,  34.8586,2,  34.8617,2,    299.5,2,    300.1,2,     6.30,2,    12.60,2,     0.02,2,     0.90,2,    4.236,2,    1.986,2,    0.298,2,  -999.00,9,  -999.00,9,   0.5700
  32PZ20020819,   CBL,    38,  1,     12,     12,2,20020902,1550, 79.1010,-167.9200, 3035,    666.8,   0.2860,  34.8644,2,  34.8657,2,    303.4,2,    304.2,2,     6.20,2,    12.50,2,     0.02,2,     0.90,2,    4.736,2,    2.224,2,    0.306,2,     0.28,2,    51.40,2,   0.2567
  32PZ20020819,   CBL,    38,  1,     11,     11,2,20020902,1550, 79.1010,-167.9200, 3035,    789.1,   0.0952,  34.8698,2,  34.8711,2,    304.6,2,    303.2,2,  -999.00,9,  -999.00,9,  -999.00,9,  -999.00,9,    4.085,2,    1.892,2,    0.236,2,  -999.00,9,  -999.00,9,   0.0609
  32PZ20020819,   CBL,    38,  1,     10,     10,2,20020902,1550, 79.1010,-167.9200, 3035,   1034.0,  -0.1440,  34.8859,2,  34.8882,2,    302.9,2,    302.9,2,     7.10,2,    12.90,2,     0.02,2,     0.93,2,    3.147,2,    1.468,2,    0.176,2,  -999.00,9,  -999.00,9,  -0.1892
  32PZ20020819,   CBL,    38,  1,      9,      9,2,20020902,1550, 79.1010,-167.9200, 3035,   1170.1,  -0.2117,  34.8978,2,  34.8992,2,    301.4,2,    301.3,2,     7.60,2,    13.20,2,     0.02,2,     0.95,2,    1.983,2,    0.937,2,    0.092,2,  -999.00,9,  -999.00,9,  -0.2637
  32PZ20020819,   CBL,    38,  1,      8,      8,2,20020902,1550, 79.1010,-167.9200, 3035,   1325.7,  -0.2984,  34.9103,2,  34.9112,2,    300.6,2,    300.2,2,     8.30,2,    13.50,2,     0.02,2,     0.97,2,    1.381,2,    0.649,2,    0.049,2,  -999.00,9,  -999.00,9,  -0.3582
  32PZ20020819,   CBL,    38,  1,      7,      7,2,20020902,1550, 79.1010,-167.9200, 3035,   1470.5,  -0.3470,  34.9214,2,  34.9232,2,    298.7,2,    297.6,2,     9.00,2,    13.90,2,     0.02,2,     1.00,2,    0.659,2,    0.320,2,    0.014,2,  -999.00,9,  -999.00,9,  -0.4147
  32PZ20020819,   CBL,    38,  1,      6,      6,2,20020902,1550, 79.1010,-167.9200, 3035,   1711.9,  -0.4014,  34.9371,2,  34.9379,2,    294.2,2,    294.5,2,    10.70,2,    14.20,2,     0.02,2,     1.04,2,    0.259,2,    0.141,2,    0.025,2,  -999.00,9,  -999.00,9,  -0.4831
  32PZ20020819,   CBL,    38,  1,      5,      5,2,20020902,1550, 79.1010,-167.9200, 3035,   1955.4,  -0.4123,  34.9473,2,  34.9479,2,    290.2,2,    290.0,2,    11.70,2,    14.70,2,     0.02,2,     1.06,2,    0.082,2,    0.041,2,    0.017,2,  -999.00,9,  -999.00,9,  -0.5096
  32PZ20020819,   CBL,    38,  1,      4,      4,2,20020902,1550, 79.1010,-167.9200, 3035,   2249.9,  -0.3983,  34.9534,2,  34.9552,2,    287.2,2,    287.0,2,    12.90,2,    14.90,2,     0.02,2,     1.07,2, -999.000,9, -999.000,9, -999.000,9,  -999.00,9,  -999.00,9,  -0.5161
  32PZ20020819,   CBL,    38,  1,      3,      3,2,20020902,1550, 79.1010,-167.9200, 3035,   2546.1,  -0.3730,  34.9573,2,  34.9589,2,    285.1,2,    285.6,2,    13.30,2,    14.90,2,     0.02,2,     1.07,2,    0.005,2,    0.001,2,    0.000,2,  -999.00,9,  -999.00,9,  -0.5132
  32PZ20020819,   CBL,    38,  1,      2,      2,2,20020902,1550, 79.1010,-167.9200, 3035,   2794.5,  -0.3500,  34.9581,2,  34.9605,2,    284.3,2,   -999.0,5,    13.40,2,    14.90,2,     0.02,2,     1.08,2, -999.000,9, -999.000,9, -999.000,9,  -999.00,9,  -999.00,9,  -0.5102
  32PZ20020819,   CBL,    38,  1,      1,      1,2,20020902,1550, 79.1010,-167.9200, 3035,   3034.9,  -0.3294,  34.9579,2,  34.9607,2,    284.6,2,    284.1,2,    13.40,2,    14.90,2,     0.02,2,     1.07,2,    0.007,2,    0.002,2,    0.000,2,  -999.00,9,  -999.00,9,  -0.5098
  32PZ20020819,   CBL,    39,  1,     34,     34,2,20020902,2052, 78.9143,-167.5065, 2541,      1.7,  -1.6029,  30.2341,2,  30.2326,2,    386.1,2,    388.5,2,  -999.00,9,  -999.00,9,  -999.00,9,  -999.00,9, -999.000,9, -999.000,9, -999.000,9,  -999.00,9,  -999.00,9,  -1.6029
  32PZ20020819,   CBL,    39,  1,     32,     32,2,20020902,2052, 78.9143,-167.5065, 2541,     15.9,  -1.6053,  30.2358,2,  30.2355,2,    388.4,2,    388.5,2,     3.40,2,     0.20,2,     0.00,2,     0.71,2,    7.538,2,    3.825,2,    0.751,2,    -2.84,2,    64.80,2,  -1.6055
  32PZ20020819,   CBL,    39,  1,     33,     33,2,20020902,2052, 78.9143,-167.5065, 2541,     15.9,  -1.6056,  30.2377,2,  30.2357,2,    388.8,2,   -999.0,9,  -999.00,9,  -999.00,9,  -999.00,9,  -999.00,9,    7.447,6,    3.871,6,    0.726,6,  -999.00,9,  -999.00,9,  -1.6058
  32PZ20020819,   CBL,    39,  1,     31,     31,2,20020902,2052, 78.9143,-167.5065, 2541,     25.7,  -1.6004,  30.2539,2,  30.4260,2,    390.7,2,    387.4,2,     3.70,2,     0.40,2,     0.02,2,     0.77,2, -999.000,9, -999.000,9, -999.000,9,  -999.00,9,  -999.00,9,  -1.6007
  32PZ20020819,   CBL,    39,  1,     30,     30,2,20020902,2052, 78.9143,-167.5065, 2541,     41.2,  -1.6412,  31.3756,2,  31.4746,2,    374.2,2,    355.7,2,    10.80,2,     3.80,2,     0.05,2,     1.17,2,    7.440,2,    3.800,2,    0.644,2,    -2.03,2,    63.40,2,  -1.6418
  32PZ20020819,   CBL,    39,  1,     29,     29,2,20020902,2052, 78.9143,-167.5065, 2541,     56.0,  -1.5867,  32.0987,2,  32.0944,2,    337.9,2,    309.0,2,    20.30,2,     9.00,2,     0.03,2,     1.49,2, -999.000,9, -999.000,9, -999.000,9,    -1.57,2,    63.20,2,  -1.5877
  32PZ20020819,   CBL,    39,  1,     28,     28,2,20020902,2052, 78.9143,-167.5065, 2541,     71.4,  -1.5400,  32.6536,2,  32.6518,2,    280.4,2,    269.1,2,    31.90,2,    12.60,2,     0.03,2,     1.81,2, -999.000,9, -999.000,9, -999.000,9,    -1.43,2,    62.80,2,  -1.5413
  32PZ20020819,   CBL,    39,  1,     27,     27,2,20020902,2052, 78.9143,-167.5065, 2541,     87.3,  -1.4359,  33.3714,2,  33.3955,2,    245.6,2,    239.9,2,    37.50,2,    15.30,2,     0.02,2,     1.82,2,    6.472,2,    3.287,2,    0.475,2,    -0.97,2,    61.90,2,  -1.4377
  32PZ20020819,   CBL,    39,  1,     26,     26,2,20020902,2052, 78.9143,-167.5065, 2541,     94.9,  -1.3997,  33.6808,2,  33.6754,2,    241.2,2,    247.6,2,    34.30,2,    14.90,2,     0.02,2,     1.69,2, -999.000,9, -999.000,9, -999.000,9,    -0.89,2,    60.90,2,  -1.4018
  32PZ20020819,   CBL,    39,  1,     25,     25,2,20020902,2052, 78.9143,-167.5065, 2541,    105.3,  -1.4645,  33.9715,2,  33.9612,2,    278.2,2,    295.8,2,    11.10,2,     9.50,2,     0.02,2,     0.89,2, -999.000,9, -999.000,9, -999.000,9,    -0.50,2,    48.60,2,  -1.4668
  32PZ20020819,   CBL,    39,  1,     24,     24,2,20020902,2052, 78.9143,-167.5065, 2541,    132.2,  -1.2828,  34.2018,2,  34.2087,2,    294.1,2,    302.0,2,     7.60,2,     9.50,2,     0.02,2,     0.80,2,    6.659,2,    3.232,2,    0.492,2,    -0.26,2,    43.00,2,  -1.2860
  32PZ20020819,   CBL,    39,  1,     23,     23,2,20020902,2052, 78.9143,-167.5065, 2541,    146.0,  -1.0202,  34.3068,2,  34.3038,2,    299.1,2,    302.4,2,     6.80,2,     9.80,2,     0.02,2,     0.80,2, -999.000,9, -999.000,9, -999.000,9,  -999.00,9,  -999.00,9,  -1.0242
  32PZ20020819,   CBL,    39,  1,     22,     22,2,20020902,2052, 78.9143,-167.5065, 2541,    162.7,  -0.6878,  34.4005,2,  34.4009,2,    299.2,2,    299.3,2,  -999.00,9,  -999.00,9,  -999.00,9,  -999.00,9, -999.000,9, -999.000,9, -999.000,9,  -999.00,9,  -999.00,9,  -0.6927
  32PZ20020819,   CBL,    39,  1,     21,     21,2,20020902,2052, 78.9143,-167.5065, 2541,    177.5,  -0.4335,  34.4750,2,  34.4752,2,    299.1,2,    300.9,2,     6.20,2,    10.40,2,     0.02,2,     0.82,2,    6.432,2,    3.103,2,    0.445,2,  -999.00,9,  -999.00,9,  -0.4393
  32PZ20020819,   CBL,    39,  1,     20,     20,2,20020902,2052, 78.9143,-167.5065, 2541,    194.9,  -0.1649,  34.5511,2,  34.5438,2,    300.6,2,    301.3,2,  -999.00,9,  -999.00,9,  -999.00,9,  -999.00,9, -999.000,9, -999.000,9, -999.000,9,  -999.00,9,  -999.00,9,  -0.1718
  32PZ20020819,   CBL,    39,  1,     19,     19,2,20020902,2052, 78.9143,-167.5065, 2541,    234.9,   0.3796,  34.6735,2,  34.6726,2,    301.7,2,    300.6,2,     5.70,2,    11.40,2,     0.02,2,     0.84,2,    6.043,2,    2.937,2,    0.412,2,  -999.00,9,  -999.00,9,   0.3701
  32PZ20020819,   CBL,    39,  1,     18,     18,2,20020902,2052, 78.9143,-167.5065, 2541,    287.4,   0.8568,  34.7849,2,  34.7858,2,    300.7,2,    298.6,2,     6.00,2,    12.10,2,     0.02,2,     0.88,2,    5.694,2,    2.718,2,    0.377,2,  -999.00,9,  -999.00,9,   0.8438
  32PZ20020819,   CBL,    39,  1,     17,     17,2,20020902,2052, 78.9143,-167.5065, 2541,    334.5,   1.0610,  34.8295,2,  34.8288,2,    301.2,2,    298.4,2,     6.20,2,    12.30,2,     0.02,2,     0.89,2,    5.641,2,    2.687,2,    0.410,2,  -999.00,9,  -999.00,9,   1.0451
  32PZ20020819,   CBL,    39,  1,     16,     16,2,20020902,2052, 78.9143,-167.5065, 2541,    382.4,   1.0971,  34.8441,2,  34.8424,2,    301.2,2,    301.1,2,     6.00,2,    12.30,2,     0.02,2,     0.89,2,    5.542,2,    2.655,2,    0.358,2,     0.27,2,    49.30,2,   1.0787
  32PZ20020819,   CBL,    39,  1,     15,     15,2,20020902,2052, 78.9143,-167.5065, 2541,    435.1,   0.9808,  34.8514,2,  34.8494,2,    302.4,2,    303.0,2,     5.80,2,    12.30,2,     0.02,2,     0.88,2,    5.634,2,    2.725,2,    0.376,2,  -999.00,9,  -999.00,9,   0.9601
  32PZ20020819,   CBL,    39,  1,     14,     14,2,20020902,2052, 78.9143,-167.5065, 2541,    509.1,   0.8594,  34.8656,2,  34.8628,2,    302.7,2,    302.6,2,     5.90,2,    12.40,2,     0.02,2,     0.89,2,    5.248,2,    2.518,2,    0.339,2,  -999.00,9,  -999.00,9,   0.8353
  32PZ20020819,   CBL,    39,  1,     13,     13,2,20020902,2052, 78.9143,-167.5065, 2541,    612.5,   0.5818,  34.8644,2,  34.8626,2,    303.1,2,    303.3,2,     6.10,2,    12.40,2,     0.02,2,     0.89,2,    5.106,2,    2.415,2,    0.327,2,  -999.00,9,  -999.00,9,   0.5537
  32PZ20020819,   CBL,    39,  1,     12,     12,2,20020902,2052, 78.9143,-167.5065, 2541,    714.2,   0.3291,  34.8650,2,  34.8649,2,    300.6,2,    302.6,2,     6.30,2,    12.50,2,     0.02,2,     0.89,2,    4.318,2,    2.021,2,    0.277,2,  -999.00,9,  -999.00,9,   0.2971
  32PZ20020819,   CBL,    39,  1,     11,     11,2,20020902,2052, 78.9143,-167.5065, 2541,    815.3,   0.1649,  34.8682,2,  34.8669,2,    303.1,2,    303.1,2,  -999.00,9,  -999.00,9,  -999.00,9,  -999.00,9,    4.045,2,    1.882,2,    0.227,2,  -999.00,9,  -999.00,9,   0.1288
  32PZ20020819,   CBL,    39,  1,      9,      9,2,20020902,2052, 78.9143,-167.5065, 2541,    915.7,  -0.0082,  34.8690,2,  34.8660,2,    305.1,2,   -999.0,9,  -999.00,9,  -999.00,9,  -999.00,9,  -999.00,9,    4.737,6,    2.258,6,    0.301,6,  -999.00,9,  -999.00,9,  -0.0483
  32PZ20020819,   CBL,    39,  1,     10,     10,2,20020902,2052, 78.9143,-167.5065, 2541,    916.3,  -0.0086,  34.8691,2,  34.8668,2,    305.1,2,    305.0,2,     6.50,2,    12.50,2,     0.01,2,     0.91,2,    4.676,2,    2.219,2,    0.326,2,     0.25,2,    40.40,2,  -0.0487
  32PZ20020819,   CBL,    39,  1,      8,      8,2,20020902,2052, 78.9143,-167.5065, 2541,   1122.0,  -0.1836,  34.8840,2,  34.8815,2,    304.4,2,    304.0,2,     7.10,2,    12.90,2,     0.02,2,     0.93,2,    3.883,2,    1.809,2,    0.218,2,  -999.00,9,  -999.00,9,  -0.2332
  32PZ20020819,   CBL,    39,  1,      7,      7,2,20020902,2052, 78.9143,-167.5065, 2541,   1319.1,  -0.2996,  34.8998,2,  34.8971,2,    303.3,2,    302.4,2,  -999.00,9,  -999.00,9,  -999.00,9,  -999.00,9,    2.671,2,    1.261,2,    0.128,2,  -999.00,9,  -999.00,9,  -0.3590
  32PZ20020819,   CBL,    39,  1,      6,      6,2,20020902,2052, 78.9143,-167.5065, 2541,   1518.3,  -0.3674,  34.9152,2,  34.9149,2,    299.5,2,    299.6,2,     8.90,2,    13.80,2,     0.02,2,     0.99,2,    1.419,2,    0.671,2,    0.035,2,  -999.00,9,  -999.00,9,  -0.4376
  32PZ20020819,   CBL,    39,  1,      5,      5,2,20020902,2052, 78.9143,-167.5065, 2541,   1717.3,  -0.4097,  34.9317,2,  34.9310,2,    295.2,2,    294.8,2,  -999.00,9,  -999.00,9,  -999.00,9,  -999.00,9,    0.597,2,    0.278,2,    0.008,2,  -999.00,9,  -999.00,9,  -0.4916
  32PZ20020819,   CBL,    39,  1,      4,      4,2,20020902,2052, 78.9143,-167.5065, 2541,   1923.1,  -0.4189,  34.9429,2,  34.9415,2,    290.4,2,    290.5,2,    11.90,2,    14.70,2,     0.02,2,     1.05,2,    0.280,2,    0.141,2,    0.000,2,  -999.00,9,  -999.00,9,  -0.5139
  32PZ20020819,   CBL,    39,  1,      3,      3,2,20020902,2052, 78.9143,-167.5065, 2541,   2128.7,  -0.4039,  34.9500,2,  34.9483,2,    287.4,2,    287.7,2,  -999.00,9,  -999.00,9,  -999.00,9,  -999.00,9,    0.122,2,    0.048,2,    0.000,2,  -999.00,9,  -999.00,9,  -0.5131
  32PZ20020819,   CBL,    39,  1,      2,      2,2,20020902,2052, 78.9143,-167.5065, 2541,   2335.0,  -0.3860,  34.9542,2,  34.9522,2,    285.6,2,    285.7,2,  -999.00,9,  -999.00,9,  -999.00,9,  -999.00,9,    0.046,2,    0.015,2,    0.000,2,  -999.00,9,  -999.00,9,  -0.5102
  32PZ20020819,   CBL,    39,  1,      1,      1,2,20020902,2052, 78.9143,-167.5065, 2541,   2512.2,  -0.3694,  34.9565,2,  34.9552,2,    285.0,2,    284.7,2,    13.60,2,    15.00,2,     0.02,2,     1.08,2,    0.008,2,    0.003,2,    0.000,2,  -999.00,9,  -999.00,9,  -0.5071