BOTTLE,20220815CCHSIOAMB
EXPOCODE,SECT_ID,STNNBR,CASTNO,SAMPNO,BTLNBR,BTLNBR_FLAG_W,DATE,TIME,LATITUDE,LONGITUDE,DEPTH,CTDPRS,CTDTMP,CTDSAL,CTDSAL_FLAG_W,SALNTY,SALNTY_FLAG_W,CTDOXY,CTDOXY_FLAG_W,OXYGEN,OXYGEN_FLAG_W,SILCAT,SILCAT_FLAG_W,NITRAT,NITRAT_FLAG_W,NITRIT,NITRIT_FLAG_W,PHSPHT,PHSPHT_FLAG_W,CFC-11,CFC-11_FLAG_W,CFC-12,CFC-12_FLAG_W,CFC113,CFC113_FLAG_W,DELO18,DELO18_FLAG_W,BARIUM,BARIUM_FLAG_W,THETA
,,,,,,,,,,,METERS,DBAR,ITS-90,PSS-78,,PSS-78,,UMOL/KG,,UMOL/KG,,UMOL/KG,,UMOL/KG,,UMOL/KG,,UMOL/KG,,PMOL/KG,,PMOL/KG,,PMOL/KG,,/MILLE,,NMOL/KG,,DEG C
  32PZ20020819,   CBL,    57,  1,     31,     31,2,20020906,0540, 79.4495,-158.9152, 3442,     15.9,  -1.6237,  30.8081,2,  30.7897,2,    391.5,2,    392.5,2,  -999.00,9,  -999.00,9,  -999.00,9,  -999.00,9,    7.460,6,    3.773,6,    0.708,6,  -999.00,9,  -999.00,9,  -1.6239
  32PZ20020819,   CBL,    57,  1,     30,     30,2,20020906,0540, 79.4495,-158.9152, 3442,     71.3,  -1.6062,  32.2452,2,  32.3686,2,    325.7,2,    290.5,2,    25.00,2,    11.20,2,     0.02,2,     1.65,2, -999.000,9, -999.000,9, -999.000,9,  -999.00,9,  -999.00,9,  -1.6074
  32PZ20020819,   CBL,    57,  1,     29,     29,2,20020906,0540, 79.4495,-158.9152, 3442,     85.7,  -1.5095,  32.6591,2,  32.7504,2,    283.7,2,    254.3,2,    35.50,2,    15.20,2,     0.02,2,     1.94,2, -999.000,9, -999.000,9, -999.000,9,  -999.00,9,  -999.00,9,  -1.5111
  32PZ20020819,   CBL,    57,  1,     26,     26,2,20020906,0540, 79.4495,-158.9152, 3442,    104.8,  -1.4548,  33.2438,2,  33.4008,2,    247.2,2,   -999.0,9,  -999.00,9,  -999.00,9,  -999.00,9,  -999.00,9, -999.000,9, -999.000,9, -999.000,9,  -999.00,9,  -999.00,9,  -1.4570
  32PZ20020819,   CBL,    57,  1,     27,     27,2,20020906,0540, 79.4495,-158.9152, 3442,    104.9,  -1.4558,  33.2284,2,  33.3944,2,    247.0,2,   -999.0,9,  -999.00,9,  -999.00,9,  -999.00,9,  -999.00,9, -999.000,9, -999.000,9, -999.000,9,  -999.00,9,  -999.00,9,  -1.4580
  32PZ20020819,   CBL,    57,  1,     28,     28,2,20020906,0540, 79.4495,-158.9152, 3442,    104.9,  -1.4563,  33.2241,2,  33.3483,2,    247.0,2,    242.3,2,    38.40,2,    16.00,2,     0.02,2,     1.88,2,    6.393,6,    3.232,6,    0.453,6,  -999.00,9,  -999.00,9,  -1.4585
  32PZ20020819,   CBL,    57,  1,     25,     25,2,20020906,0540, 79.4495,-158.9152, 3442,    122.2,  -1.4358,  33.8116,2,  33.8764,2,    253.2,2,    278.5,2,    17.90,2,    11.30,2,     0.02,2,     1.13,2, -999.000,9, -999.000,9, -999.000,9,  -999.00,9,  -999.00,9,  -1.4385
  32PZ20020819,   CBL,    57,  1,     24,     24,2,20020906,0540, 79.4495,-158.9152, 3442,    137.1,  -1.3314,  34.0612,2,  34.0932,2,    274.6,2,    285.7,2,    13.10,2,    11.00,2,     0.02,2,     0.98,2, -999.000,9, -999.000,9, -999.000,9,  -999.00,9,  -999.00,9,  -1.3347
  32PZ20020819,   CBL,    57,  1,     23,     23,2,20020906,0540, 79.4495,-158.9152, 3442,    157.1,  -1.0280,  34.2726,2,  34.2773,2,    303.2,2,    298.6,2,  -999.00,9,  -999.00,9,  -999.00,9,  -999.00,9, -999.000,9, -999.000,9, -999.000,9,  -999.00,9,  -999.00,9,  -1.0323
  32PZ20020819,   CBL,    57,  1,     22,     22,2,20020906,0540, 79.4495,-158.9152, 3442,    170.5,  -0.7333,  34.3558,2,  34.3726,2,    297.1,2,    296.9,2,  -999.00,9,  -999.00,9,  -999.00,9,  -999.00,9, -999.000,9, -999.000,9, -999.000,9,  -999.00,9,  -999.00,9,  -0.7384
  32PZ20020819,   CBL,    57,  1,     19,     19,2,20020906,0540, 79.4495,-158.9152, 3442,    183.5,  -0.4158,  34.4323,2,  34.4408,2,    305.3,2,   -999.0,9,  -999.00,9,  -999.00,9,  -999.00,9,  -999.00,9, -999.000,9, -999.000,9, -999.000,9,  -999.00,9,  -999.00,9,  -0.4218
  32PZ20020819,   CBL,    57,  1,     20,     20,2,20020906,0540, 79.4495,-158.9152, 3442,    183.5,  -0.4170,  34.4314,2,  34.4395,2,    305.3,2,   -999.0,9,  -999.00,9,  -999.00,9,  -999.00,9,  -999.00,9, -999.000,9, -999.000,9, -999.000,9,  -999.00,9,  -999.00,9,  -0.4230
  32PZ20020819,   CBL,    57,  1,     21,     21,2,20020906,0540, 79.4495,-158.9152, 3442,    183.5,  -0.4137,  34.4317,2,  34.4385,2,    305.3,2,   -999.0,9,  -999.00,9,  -999.00,9,  -999.00,9,  -999.00,9, -999.000,9, -999.000,9, -999.000,9,  -999.00,9,  -999.00,9,  -0.4197
  32PZ20020819,   CBL,    57,  1,     18,     18,2,20020906,0540, 79.4495,-158.9152, 3442,    283.9,   0.9492,  34.8022,2,  34.8003,2,    303.4,2,   -999.0,9,  -999.00,9,  -999.00,9,  -999.00,9,  -999.00,9,    5.268,2,    2.511,2,    0.366,2,  -999.00,9,  -999.00,9,   0.9361
  32PZ20020819,   CBL,    57,  1,     17,     17,2,20020906,0540, 79.4495,-158.9152, 3442,    347.9,   1.1327,  34.8519,2,  34.8486,2,    299.5,2,    300.7,2,  -999.00,9,  -999.00,9,  -999.00,9,  -999.00,9,    5.308,2,    2.484,2,    0.347,2,  -999.00,9,  -999.00,9,   1.1160
  32PZ20020819,   CBL,    57,  1,     16,     16,2,20020906,0540, 79.4495,-158.9152, 3442,    420.1,   0.9943,  34.8601,2,  34.8626,2,    299.9,2,   -999.0,9,  -999.00,9,  -999.00,9,  -999.00,9,  -999.00,9,    5.076,2,    2.434,2,    0.343,2,  -999.00,9,  -999.00,9,   0.9743
  32PZ20020819,   CBL,    57,  1,     15,     15,2,20020906,0540, 79.4495,-158.9152, 3442,    506.5,   0.6784,  34.8595,2,  34.8582,2,    299.0,2,   -999.0,9,  -999.00,9,  -999.00,9,  -999.00,9,  -999.00,9,    4.229,2,    2.048,2,    0.248,2,  -999.00,9,  -999.00,9,   0.6552
  32PZ20020819,   CBL,    57,  1,     14,     14,2,20020906,0540, 79.4495,-158.9152, 3442,    607.0,   0.4584,  34.8647,2,  34.8633,2,    300.0,2,   -999.0,9,  -999.00,9,  -999.00,9,  -999.00,9,  -999.00,9,    4.170,2,    2.004,2,    0.248,2,  -999.00,9,  -999.00,9,   0.4312
  32PZ20020819,   CBL,    57,  1,     13,     13,2,20020906,0540, 79.4495,-158.9152, 3442,    706.4,   0.2759,  34.8662,2,  34.8644,2,    301.6,2,   -999.0,9,  -999.00,9,  -999.00,9,  -999.00,9,  -999.00,9,    4.065,2,    1.980,2,    0.252,2,  -999.00,9,  -999.00,9,   0.2446
  32PZ20020819,   CBL,    57,  1,     12,     12,2,20020906,0540, 79.4495,-158.9152, 3442,    790.4,   0.1406,  34.8702,2,  34.8717,2,    302.0,2,   -999.0,9,  -999.00,9,  -999.00,9,  -999.00,9,  -999.00,9,    3.445,2,    1.665,2,    0.201,2,  -999.00,9,  -999.00,9,   0.1059
  32PZ20020819,   CBL,    57,  1,     11,     11,2,20020906,0540, 79.4495,-158.9152, 3442,   1015.5,  -0.0847,  34.8876,2,  34.8854,2,    301.5,2,    300.8,2,  -999.00,9,  -999.00,9,  -999.00,9,  -999.00,9,    2.294,2,    1.085,2,    0.109,2,  -999.00,9,  -999.00,9,  -0.1294
  32PZ20020819,   CBL,    57,  1,     10,     10,2,20020906,0540, 79.4495,-158.9152, 3442,   1217.5,  -0.2047,  34.9022,2,  34.9009,2,    301.0,2,   -999.0,9,  -999.00,9,  -999.00,9,  -999.00,9,  -999.00,9,    1.331,2,    0.650,2,    0.064,2,  -999.00,9,  -999.00,9,  -0.2594
  32PZ20020819,   CBL,    57,  1,      9,      9,2,20020906,0540, 79.4495,-158.9152, 3442,   1426.1,  -0.3033,  34.9172,2,  34.9149,2,    299.0,2,   -999.0,9,  -999.00,9,  -999.00,9,  -999.00,9,  -999.00,9,    0.745,2,    0.353,2,    0.029,2,  -999.00,9,  -999.00,9,  -0.3688
  32PZ20020819,   CBL,    57,  1,      8,      8,2,20020906,0540, 79.4495,-158.9152, 3442,   1629.9,  -0.3644,  34.9304,2,  34.9278,2,    296.7,2,    296.1,2,  -999.00,9,  -999.00,9,  -999.00,9,  -999.00,9,    0.253,2,    0.134,2,    0.009,2,  -999.00,9,  -999.00,9,  -0.4414
  32PZ20020819,   CBL,    57,  1,      7,      7,2,20020906,0540, 79.4495,-158.9152, 3442,   1834.3,  -0.4000,  34.9408,2,  34.9388,2,    293.8,2,   -999.0,9,  -999.00,9,  -999.00,9,  -999.00,9,  -999.00,9,    0.121,2,    0.070,2,    0.001,2,  -999.00,9,  -999.00,9,  -0.4895
  32PZ20020819,   CBL,    57,  1,      6,      6,2,20020906,0540, 79.4495,-158.9152, 3442,   2038.6,  -0.4087,  34.9478,2,  34.9457,2,    291.2,2,    291.1,2,  -999.00,9,  -999.00,9,  -999.00,9,  -999.00,9,    0.049,2,    0.034,2,    0.002,2,  -999.00,9,  -999.00,9,  -0.5116
  32PZ20020819,   CBL,    57,  1,      5,      5,2,20020906,0540, 79.4495,-158.9152, 3442,   2446.3,  -0.3870,  34.9555,2,  34.9535,2,    287.1,2,   -999.0,9,  -999.00,9,  -999.00,9,  -999.00,9,  -999.00,9,    0.053,2,    0.033,2,    0.002,2,  -999.00,9,  -999.00,9,  -0.5194
  32PZ20020819,   CBL,    57,  1,      4,      4,2,20020906,0540, 79.4495,-158.9152, 3442,   2849.8,  -0.3462,  34.9584,2,  34.9578,2,    285.0,2,    284.6,2,  -999.00,9,  -999.00,9,  -999.00,9,  -999.00,9,    0.012,2,    0.002,2,    0.002,2,  -999.00,9,  -999.00,9,  -0.5109
  32PZ20020819,   CBL,    57,  1,      3,      3,2,20020906,0540, 79.4495,-158.9152, 3442,   3252.3,  -0.3114,  34.9583,2,  34.9572,2,    284.5,2,   -999.0,9,  -999.00,9,  -999.00,9,  -999.00,9,  -999.00,9,    0.000,2,    0.002,2,    0.000,2,  -999.00,9,  -999.00,9,  -0.5109
  32PZ20020819,   CBL,    57,  1,      1,      1,2,20020906,0540, 79.4495,-158.9152, 3442,   3449.7,  -0.2931,  34.9582,2,  34.9561,2,    284.9,2,    284.8,2,  -999.00,9,  -999.00,9,  -999.00,9,  -999.00,9,    0.000,2,    0.006,2,    0.003,2,  -999.00,9,  -999.00,9,  -0.5106
  32PZ20020819,   CBL,    58,  1,     23,     23,2,20020906,1046, 79.3232,-158.7033, 3223,     14.5,  -1.6391,  30.6853,2,  30.6918,2,    391.1,2,    392.5,2,  -999.00,9,  -999.00,9,  -999.00,9,  -999.00,9,    7.501,6,    3.796,6,    0.696,6,  -999.00,9,  -999.00,9,  -1.6393
  32PZ20020819,   CBL,    58,  1,     22,     22,2,20020906,1046, 79.3232,-158.7033, 3223,     30.8,  -1.5662,  31.2891,2,  31.3692,2,    395.3,2,    376.9,2,     7.90,2,     2.70,2,     0.08,2,     1.11,2,    7.409,2,    3.741,2,    0.682,2,  -999.00,9,  -999.00,9,  -1.5667
  32PZ20020819,   CBL,    58,  1,     21,     21,2,20020906,1046, 79.3232,-158.7033, 3223,     52.2,  -1.6957,  31.6498,2,  31.6875,2,    364.3,2,   -999.0,9,    12.50,2,     4.90,2,     0.02,2,     1.26,2,    7.352,6,    3.713,6,    0.663,6,  -999.00,9,  -999.00,9,  -1.6965
  32PZ20020819,   CBL,    58,  1,     20,     20,2,20020906,1046, 79.3232,-158.7033, 3223,     66.8,  -1.6356,  32.0419,2,  32.2090,2,    326.9,2,   -999.0,9,    22.00,2,    10.00,2,     0.02,2,     1.57,2, -999.000,9, -999.000,9, -999.000,9,  -999.00,9,  -999.00,9,  -1.6367
  32PZ20020819,   CBL,    58,  1,     19,     19,2,20020906,1046, 79.3232,-158.7033, 3223,     81.7,  -1.5419,  32.4954,2,  32.5498,2,    286.6,2,   -999.0,9,    29.80,2,    12.90,2,     0.02,2,     1.78,2, -999.000,9, -999.000,9, -999.000,9,  -999.00,9,  -999.00,9,  -1.5434
  32PZ20020819,   CBL,    58,  1,     18,     18,2,20020906,1046, 79.3232,-158.7033, 3223,     96.5,  -1.4802,  33.1049,2,  33.1734,2,    249.5,2,    247.6,2,    35.00,2,    14.80,2,     0.02,2,     1.78,2,    6.592,2,    3.293,2,    0.473,2,  -999.00,9,  -999.00,9,  -1.4822
  32PZ20020819,   CBL,    58,  1,     17,     17,2,20020906,1046, 79.3232,-158.7033, 3223,    111.3,  -1.4428,  33.6529,2,  33.7485,2,    248.3,2,   -999.0,9,    23.30,2,    12.20,2,     0.02,2,     1.31,2, -999.000,9, -999.000,9, -999.000,9,  -999.00,9,  -999.00,9,  -1.4452
  32PZ20020819,   CBL,    58,  1,     16,     16,2,20020906,1046, 79.3232,-158.7033, 3223,    126.2,  -1.4956,  33.9600,2,  33.9933,2,    282.7,2,   -999.0,9,     8.90,2,     9.20,2,     0.02,2,     0.82,2,    6.997,2,    3.297,2,    0.481,2,  -999.00,9,  -999.00,9,  -1.4984
  32PZ20020819,   CBL,    58,  1,     15,     15,2,20020906,1046, 79.3232,-158.7033, 3223,    146.2,  -1.3041,  34.1781,2,  34.2022,2,    304.0,2,    309.4,2,     5.70,2,     9.10,2,     0.02,2,     0.75,2,    6.862,2,    3.229,2,    0.476,2,  -999.00,9,  -999.00,9,  -1.3077
  32PZ20020819,   CBL,    58,  1,     14,     14,2,20020906,1046, 79.3232,-158.7033, 3223,    215.7,   0.0570,  34.5590,2,  34.5699,2,    300.7,2,   -999.0,9,  -999.00,9,  -999.00,9,  -999.00,9,  -999.00,9,    6.188,2,    2.918,2,    0.437,2,  -999.00,9,  -999.00,9,   0.0489
  32PZ20020819,   CBL,    58,  1,     13,     13,2,20020906,1046, 79.3232,-158.7033, 3223,    285.0,   0.9639,  34.8019,2,  34.8010,2,    295.7,2,    295.7,2,     6.40,2,    12.60,2,     0.02,2,     0.89,2,    5.526,2,    2.576,2,    0.364,2,  -999.00,9,  -999.00,9,   0.9508
  32PZ20020819,   CBL,    58,  1,     12,     12,2,20020906,1046, 79.3232,-158.7033, 3223,    373.7,   1.1488,  34.8521,2,  34.8531,2,    300.2,2,    299.2,2,     5.90,2,    12.50,2,     0.02,2,     0.89,2,    5.308,2,    2.473,2,    0.347,2,  -999.00,9,  -999.00,9,   1.1307
  32PZ20020819,   CBL,    58,  1,     11,     11,2,20020906,1046, 79.3232,-158.7033, 3223,    423.6,   1.0179,  34.8618,2,  34.8644,2,    299.5,2,   -999.0,9,  -999.00,9,  -999.00,9,  -999.00,9,  -999.00,9,    5.354,2,    2.490,2,    0.358,2,  -999.00,9,  -999.00,9,   0.9976
  32PZ20020819,   CBL,    58,  1,     10,     10,2,20020906,1046, 79.3232,-158.7033, 3223,    497.7,   0.8012,  34.8622,2,  34.8626,2,    301.4,2,    301.3,2,  -999.00,9,  -999.00,9,  -999.00,9,  -999.00,9,    4.934,2,    2.288,2,    0.338,2,  -999.00,9,  -999.00,9,   0.7779
  32PZ20020819,   CBL,    58,  1,      9,      9,2,20020906,1046, 79.3232,-158.7033, 3223,    596.9,   0.5280,  34.8611,2,  34.8629,2,    301.1,2,   -999.0,9,  -999.00,9,  -999.00,9,  -999.00,9,  -999.00,9,    5.010,2,    2.310,2,    0.312,2,  -999.00,9,  -999.00,9,   0.5009
  32PZ20020819,   CBL,    58,  1,      8,      8,3,20020906,1046, 79.3232,-158.7033, 3223,    696.2,   0.2998,  34.8630,2,  34.8621,2,    302.0,2,    303.2,2,  -999.00,9,  -999.00,9,  -999.00,9,  -999.00,9,    4.786,2,    2.196,2,    0.295,2,  -999.00,9,  -999.00,9,   0.2689
  32PZ20020819,   CBL,    58,  1,      7,      7,2,20020906,1046, 79.3232,-158.7033, 3223,    795.1,   0.1411,  34.8665,2,  34.8674,2,    303.5,2,   -999.0,9,  -999.00,9,  -999.00,9,  -999.00,9,  -999.00,9,    4.462,2,    2.040,2,    0.268,2,  -999.00,9,  -999.00,9,   0.1062
  32PZ20020819,   CBL,    58,  1,      6,      6,2,20020906,1046, 79.3232,-158.7033, 3223,   1043.5,  -0.1304,  34.8836,2,  34.8840,2,    302.5,2,    302.5,2,  -999.00,9,  -999.00,9,  -999.00,9,  -999.00,9,    3.408,2,    1.575,2,    0.198,2,  -999.00,9,  -999.00,9,  -0.1762
  32PZ20020819,   CBL,    58,  1,      5,      5,2,20020906,1046, 79.3232,-158.7033, 3223,   1291.9,  -0.2864,  34.9004,2,  34.9009,2,    301.9,2,    301.3,2,  -999.00,9,  -999.00,9,  -999.00,9,  -999.00,9,    2.513,2,    1.166,2,    0.132,2,  -999.00,9,  -999.00,9,  -0.3444
  32PZ20020819,   CBL,    58,  1,      4,      4,2,20020906,1046, 79.3232,-158.7033, 3223,   1739.5,  -0.3901,  34.9354,2,  34.9361,2,    294.8,2,   -999.0,9,  -999.00,9,  -999.00,9,  -999.00,9,  -999.00,9,    0.243,2,    0.109,2,    0.008,2,  -999.00,9,  -999.00,9,  -0.4736
  32PZ20020819,   CBL,    58,  1,      3,      3,2,20020906,1046, 79.3232,-158.7033, 3223,   2188.5,  -0.4037,  34.9512,2,  34.9511,2,    288.7,2,    288.3,2,  -999.00,9,  -999.00,9,  -999.00,9,  -999.00,9,    0.024,2,    0.007,2,    0.000,2,  -999.00,9,  -999.00,9,  -0.5171
  32PZ20020819,   CBL,    58,  1,      2,      2,2,20020906,1046, 79.3232,-158.7033, 3223,   2688.5,  -0.3598,  34.9581,2,  34.9572,2,    284.5,2,    284.9,2,  -999.00,9,  -999.00,9,  -999.00,9,  -999.00,9, -999.000,9, -999.000,9, -999.000,9,  -999.00,9,  -999.00,9,  -0.5113
  32PZ20020819,   CBL,    58,  1,      1,      1,2,20020906,1046, 79.3232,-158.7033, 3223,   3223.2,  -0.3134,  34.9582,2,  34.9581,2,    284.4,2,    283.8,2,  -999.00,9,  -999.00,9,  -999.00,9,  -999.00,9, -999.000,9, -999.000,9, -999.000,9,  -999.00,9,  -999.00,9,  -0.5103