BOTTLE,20220815CCHSIOAMB
EXPOCODE,SECT_ID,STNNBR,CASTNO,SAMPNO,BTLNBR,BTLNBR_FLAG_W,DATE,TIME,LATITUDE,LONGITUDE,DEPTH,CTDPRS,CTDTMP,CTDSAL,CTDSAL_FLAG_W,SALNTY,SALNTY_FLAG_W,CTDOXY,CTDOXY_FLAG_W,OXYGEN,OXYGEN_FLAG_W,SILCAT,SILCAT_FLAG_W,NITRAT,NITRAT_FLAG_W,NITRIT,NITRIT_FLAG_W,PHSPHT,PHSPHT_FLAG_W,CFC-11,CFC-11_FLAG_W,CFC-12,CFC-12_FLAG_W,CFC113,CFC113_FLAG_W,DELO18,DELO18_FLAG_W,BARIUM,BARIUM_FLAG_W,THETA
,,,,,,,,,,,METERS,DBAR,ITS-90,PSS-78,,PSS-78,,UMOL/KG,,UMOL/KG,,UMOL/KG,,UMOL/KG,,UMOL/KG,,UMOL/KG,,PMOL/KG,,PMOL/KG,,PMOL/KG,,/MILLE,,NMOL/KG,,DEG C
  32PZ20020819,   CBL,    77,  1,     24,     24,2,20020910,2322, 77.3925,-154.6058, 1068,     17.1,  -1.5060,  28.6643,2,  28.6686,2,    379.5,2,    381.0,2,     2.90,2,     0.00,2,     0.00,2,     0.69,2,    7.628,2,    3.841,2,    0.748,2,    -2.79,2,    65.70,2,  -1.5062
  32PZ20020819,   CBL,    77,  1,     23,     23,2,20020910,2322, 77.3925,-154.6058, 1068,     31.7,  -0.6874,  31.1627,2,  31.0312,2,    382.9,2,    379.0,2,     5.80,2,     1.10,2,     0.25,2,     0.92,2,    7.191,2,    3.596,2,    0.626,2,  -999.00,9,  -999.00,9,  -0.6881
  32PZ20020819,   CBL,    77,  1,     22,     22,2,20020910,2322, 77.3925,-154.6058, 1068,     50.2,  -1.2070,  32.0906,2,  32.0676,2,    335.0,2,    324.4,2,    17.30,2,     8.20,2,     0.01,2,     1.38,2,    6.776,2,    3.348,2,    0.475,2,    -1.83,2,    65.20,2,  -1.2080
  32PZ20020819,   CBL,    77,  1,     21,     21,2,20020910,2322, 77.3925,-154.6058, 1068,     70.7,  -1.3172,  32.5107,2,  32.4946,2,    300.2,2,    294.4,2,    26.90,2,    12.60,2,     0.00,2,     1.70,2,    6.225,2,    3.073,2,    0.429,2,    -1.74,2,    68.70,2,  -1.3186
  32PZ20020819,   CBL,    77,  1,     20,     20,2,20020910,2322, 77.3925,-154.6058, 1068,     94.4,  -1.4789,  32.8030,2,  32.8123,2,    277.1,2,    277.1,2,    34.70,2,    15.20,2,     0.00,2,     1.91,2,    6.068,2,    3.033,2,    0.436,2,    -1.50,2,    69.50,2,  -1.4808
  32PZ20020819,   CBL,    77,  1,     19,     19,2,20020910,2322, 77.3925,-154.6058, 1068,    109.0,  -1.5582,  33.0006,2,  32.9992,2,    276.8,2,    275.0,2,    36.20,2,    15.70,2,     0.00,2,     1.92,2,    5.933,2,    2.968,2,    0.453,2,    -1.54,2,    70.20,2,  -1.5603
  32PZ20020819,   CBL,    77,  1,     18,     18,2,20020910,2322, 77.3925,-154.6058, 1068,    119.7,  -1.5434,  33.1430,2,  33.1474,2,    273.4,2,    264.8,2,    39.40,2,    16.70,2,     0.00,2,     2.01,2,    5.853,2,    2.938,2,    0.403,2,    -1.36,2,    68.80,2,  -1.5458
  32PZ20020819,   CBL,    77,  1,     17,     17,2,20020910,2322, 77.3925,-154.6058, 1068,    141.8,  -1.4187,  33.4714,2,  33.4917,2,    258.5,2,    250.5,2,    42.10,2,    17.40,2,     0.00,2,     2.00,2,    5.768,2,    2.863,2,    0.391,2,    -1.02,2,    64.80,2,  -1.4218
  32PZ20020819,   CBL,    77,  1,     16,     16,2,20020910,2322, 77.3925,-154.6058, 1068,    163.9,  -1.2564,  33.9988,2,  33.9575,2,    251.2,2,    269.3,2,    21.90,2,    12.60,2,     0.00,2,     1.24,2,    6.209,2,    2.934,2,    0.428,2,    -0.71,2,    53.00,2,  -1.2604
  32PZ20020819,   CBL,    77,  1,     15,     15,2,20020910,2322, 77.3925,-154.6058, 1068,    181.8,  -0.9497,  34.2525,2,  34.2511,2,    269.0,2,    277.0,2,    14.00,2,    11.90,2,     0.00,2,     1.01,2,    5.803,2,    2.646,2,    0.323,2,    -0.24,2,    47.90,2,  -0.9548
  32PZ20020819,   CBL,    77,  1,     14,     14,2,20020910,2322, 77.3925,-154.6058, 1068,    202.3,  -0.5123,  34.3993,2,  34.3904,2,    279.3,2,    284.5,2,    10.20,2,    11.60,2,     0.00,2,     0.90,2,    5.791,2,    2.634,2,    0.308,2,  -999.00,9,  -999.00,9,  -0.5188
  32PZ20020819,   CBL,    77,  1,     13,     13,2,20020910,2322, 77.3925,-154.6058, 1068,    248.0,   0.3101,  34.6211,2,  34.6132,2,    288.4,2,    290.2,2,     7.90,2,    11.90,2,     0.00,2,     0.86,2,    5.538,2,    2.545,2,    0.328,2,  -999.00,9,  -999.00,9,   0.3002
  32PZ20020819,   CBL,    77,  1,     12,     12,2,20020910,2322, 77.3925,-154.6058, 1068,    287.5,   0.7533,  34.7558,2,  34.7570,2,    294.9,2,    293.7,2,     6.70,2,    12.40,2,     0.00,2,     0.86,2,    5.300,2,    2.450,2,    0.327,2,  -999.00,9,  -999.00,9,   0.7406
  32PZ20020819,   CBL,    77,  1,     11,     11,2,20020910,2322, 77.3925,-154.6058, 1068,    337.0,   1.0050,  34.8233,2,  34.8135,2,    296.3,2,    296.1,2,     6.50,2,    12.40,2,     0.00,2,     0.86,2,    5.251,2,    2.436,2,    0.322,2,  -999.00,9,  -999.00,9,   0.9892
  32PZ20020819,   CBL,    77,  1,     10,     10,2,20020910,2322, 77.3925,-154.6058, 1068,    377.8,   1.0342,  34.8447,2,  34.8463,2,    298.3,2,    298.5,2,     6.40,2,    12.70,2,     0.00,2,     0.86,2,    5.157,2,    2.381,2,    0.300,2,     0.17,2,    61.50,2,   1.0162
  32PZ20020819,   CBL,    77,  1,      9,      9,2,20020910,2322, 77.3925,-154.6058, 1068,    425.7,   0.8733,  34.8407,2,  34.8429,2,    297.9,2,    297.9,2,     6.60,2,    12.70,2,     0.00,2,     0.87,2,    4.812,2,    2.222,2,    0.276,2,  -999.00,9,  -999.00,9,   0.8534
  32PZ20020819,   CBL,    77,  1,      8,      8,2,20020910,2322, 77.3925,-154.6058, 1068,    466.9,   0.8473,  34.8579,2,  34.8587,2,    300.0,2,    299.9,2,     6.50,2,    12.70,2,     0.00,2,     0.87,2,    5.000,2,    2.308,2,    0.304,2,  -999.00,9,  -999.00,9,   0.8254
  32PZ20020819,   CBL,    77,  1,      7,      7,2,20020910,2322, 77.3925,-154.6058, 1068,    549.9,   0.6083,  34.8551,2,  34.8575,2,    299.4,2,    299.5,2,     6.60,2,    12.80,2,     0.00,2,     0.88,2,    4.381,2,    2.019,2,    0.233,2,  -999.00,9,  -999.00,9,   0.5832
  32PZ20020819,   CBL,    77,  1,      6,      6,2,20020910,2322, 77.3925,-154.6058, 1068,    609.9,   0.5005,  34.8606,2,  34.8612,2,    300.3,2,    300.8,2,     6.70,2,    12.80,2,     0.00,2,     0.88,2,    4.570,2,    2.129,2,    0.303,2,  -999.00,9,  -999.00,9,   0.4729
  32PZ20020819,   CBL,    77,  1,      5,      5,2,20020910,2322, 77.3925,-154.6058, 1068,    713.8,   0.2897,  34.8621,2,  34.8653,2,    300.9,2,    301.3,2,     6.80,2,    12.90,2,     0.00,2,     0.88,2,    4.107,2,    1.881,2,    0.211,2,  -999.00,9,  -999.00,9,   0.2580
  32PZ20020819,   CBL,    77,  1,      4,      4,2,20020910,2322, 77.3925,-154.6058, 1068,    810.2,   0.1315,  34.8676,2,  34.8684,2,    301.7,2,    302.1,2,     6.90,2,    12.80,2,     0.00,2,     0.89,2,    3.969,2,    1.821,2,    0.202,2,  -999.00,9,  -999.00,9,   0.0959
  32PZ20020819,   CBL,    77,  1,      3,      3,2,20020910,2322, 77.3925,-154.6058, 1068,    906.0,   0.0215,  34.8748,2,  34.8790,2,    302.1,2,    301.0,2,     7.30,2,    13.00,2,     0.00,2,     0.90,2,    3.432,2,    1.628,2,    0.203,2,  -999.00,9,  -999.00,9,  -0.0183
  32PZ20020819,   CBL,    77,  1,      2,      2,2,20020910,2322, 77.3925,-154.6058, 1068,   1000.8,  -0.0618,  34.8833,2,  34.8837,2,    300.5,2,    300.5,2,     7.70,2,    13.10,2,     0.00,2,     0.91,2,    2.804,2,    1.296,2,    0.120,2,  -999.00,9,  -999.00,9,  -0.1059
  32PZ20020819,   CBL,    77,  1,      1,      1,2,20020910,2322, 77.3925,-154.6058, 1068,   1041.5,  -0.1275,  34.8873,2,  34.8877,2,    300.7,2,    300.5,2,     7.80,2,    13.20,2,     0.00,2,     0.91,2,    2.741,2,    1.268,2,    0.127,2,  -999.00,9,  -999.00,9,  -0.1733
  32PZ20020819,   CBL,    78,  1,     21,     21,4,20020911,0350, 77.2837,-155.1897, 1508,     11.0,  -1.4760,  28.4632,2,  28.4643,2,    378.1,2,    379.8,2,     3.20,2,     0.10,2,     0.00,2,     0.68,2,    7.605,2,    4.031,2,    0.719,2,  -999.00,9,  -999.00,9,  -1.4761
  32PZ20020819,   CBL,    78,  1,     20,     20,4,20020911,0350, 77.2837,-155.1897, 1508,     29.3,  -0.7008,  31.2174,2,-999.0000,9,    384.1,2,    368.1,2,     7.70,2,     2.10,2,     0.26,2,     0.99,2, -999.000,9, -999.000,9, -999.000,9,  -999.00,9,  -999.00,9,  -0.7015
  32PZ20020819,   CBL,    78,  1,     19,     19,4,20020911,0350, 77.2837,-155.1897, 1508,     62.2,  -1.3880,  32.3645,2,  32.3534,2,    314.0,2,    299.0,2,    23.90,2,    11.70,2,     0.01,2,     1.62,2,    6.632,6,    3.410,6,    0.502,6,  -999.00,9,  -999.00,9,  -1.3892
  32PZ20020819,   CBL,    78,  1,     18,     18,4,20020911,0350, 77.2837,-155.1897, 1508,     87.4,  -1.1150,  32.7284,2,-999.0000,9,    279.5,2,   -999.0,9,    34.80,2,    15.20,2,     0.01,2,     1.99,2, -999.000,9, -999.000,9, -999.000,9,  -999.00,9,  -999.00,9,  -1.1170
  32PZ20020819,   CBL,    78,  1,     17,     17,4,20020911,0350, 77.2837,-155.1897, 1508,     94.4,  -1.3545,  32.7846,2,  32.7935,2,    273.5,2,    274.1,2,    36.30,2,    15.50,2,     0.01,2,     2.00,2, -999.000,9, -999.000,9, -999.000,9,  -999.00,9,  -999.00,9,  -1.3565
  32PZ20020819,   CBL,    78,  1,     16,     16,4,20020911,0350, 77.2837,-155.1897, 1508,    104.4,  -1.5378,  32.9192,2,-999.0000,9,    276.6,2,   -999.0,9,    35.50,2,    14.80,2,     0.01,2,     1.88,2, -999.000,9, -999.000,9, -999.000,9,  -999.00,9,  -999.00,9,  -1.5398
  32PZ20020819,   CBL,    78,  1,     15,     15,4,20020911,0350, 77.2837,-155.1897, 1508,    121.6,  -1.5714,  33.1271,2,  33.1281,2,    279.2,2,    280.4,2,    36.40,2,    15.50,2,     0.01,2,     1.88,2,    5.585,2,    2.922,2,    0.403,2,  -999.00,9,  -999.00,9,  -1.5738
  32PZ20020819,   CBL,    78,  1,     14,     14,4,20020911,0350, 77.2837,-155.1897, 1508,    148.8,  -1.4163,  33.4932,2,-999.0000,9,    270.6,2,   -999.0,9,    40.60,2,    17.40,2,     0.01,2,     1.95,2, -999.000,9, -999.000,9, -999.000,9,  -999.00,9,  -999.00,9,  -1.4196
  32PZ20020819,   CBL,    78,  1,     13,     13,4,20020911,0350, 77.2837,-155.1897, 1508,    171.5,  -1.0926,  34.0240,2,  34.0100,2,    254.2,2,    252.4,2,    28.40,2,    14.70,2,     0.01,2,     1.48,2,    5.345,2,    2.606,2,    0.338,2,  -999.00,9,  -999.00,9,  -1.0971
  32PZ20020819,   CBL,    78,  1,     12,     12,4,20020911,0350, 77.2837,-155.1897, 1508,    334.6,   1.0040,  34.8272,2,-999.0000,9,    297.0,2,   -999.0,9,     6.70,2,    12.70,2,     0.01,2,     0.87,2,    5.250,2,    2.485,2,    0.344,2,  -999.00,9,  -999.00,9,   0.9883
  32PZ20020819,   CBL,    78,  1,     11,     11,4,20020911,0350, 77.2837,-155.1897, 1508,    374.6,   1.0414,  34.8426,2,  34.8438,2,    298.4,2,    299.1,2,     6.60,2,    12.70,2,     0.01,2,     0.86,2,    5.155,2,    2.439,2,    0.330,2,  -999.00,9,  -999.00,9,   1.0236
  32PZ20020819,   CBL,    78,  1,     10,     10,4,20020911,0350, 77.2837,-155.1897, 1508,    416.0,   0.8484,  34.8363,2,-999.0000,9,    298.6,2,   -999.0,9,     6.70,2,    12.80,2,     0.01,2,     0.87,2,    4.715,2,    2.224,2,    0.285,2,  -999.00,9,  -999.00,9,   0.8291
  32PZ20020819,   CBL,    78,  1,      9,      9,4,20020911,0350, 77.2837,-155.1897, 1508,    507.4,   0.6934,  34.8531,2,  34.8550,2,    299.5,2,    299.6,2,  -999.00,9,  -999.00,9,  -999.00,9,  -999.00,9,    4.654,2,    2.184,2,    0.282,2,  -999.00,9,  -999.00,9,   0.6701
  32PZ20020819,   CBL,    78,  1,      8,      8,2,20020911,0350, 77.2837,-155.1897, 1508,    608.5,   0.4914,  34.8595,2,  34.8601,2,    300.8,2,   -999.0,9,  -999.00,9,  -999.00,9,  -999.00,9,  -999.00,9,    4.361,2,    2.083,2,    0.271,2,  -999.00,9,  -999.00,9,   0.4639
  32PZ20020819,   CBL,    78,  1,      7,      7,2,20020911,0350, 77.2837,-155.1897, 1508,    710.5,   0.2972,  34.8622,2,  34.8630,2,    301.4,2,    301.2,2,  -999.00,9,  -999.00,9,  -999.00,9,  -999.00,9,    4.074,2,    1.926,2,    0.249,2,  -999.00,9,  -999.00,9,   0.2656
  32PZ20020819,   CBL,    78,  1,      6,      6,2,20020911,0350, 77.2837,-155.1897, 1508,    813.1,   0.1564,  34.8673,2,-999.0000,9,    301.5,2,   -999.0,9,  -999.00,9,  -999.00,9,  -999.00,9,  -999.00,9,    3.793,2,    1.792,2,    0.229,2,  -999.00,9,  -999.00,9,   0.1205
  32PZ20020819,   CBL,    78,  1,      5,      5,2,20020911,0350, 77.2837,-155.1897, 1508,    907.0,   0.0465,  34.8739,2,  34.8731,2,    301.3,2,    301.2,2,  -999.00,9,  -999.00,9,  -999.00,9,  -999.00,9,    3.417,6,    1.601,6,    0.184,6,  -999.00,9,  -999.00,9,   0.0065
  32PZ20020819,   CBL,    78,  1,      4,      4,2,20020911,0350, 77.2837,-155.1897, 1508,   1007.3,  -0.0333,  34.8821,2,-999.0000,9,    300.3,2,   -999.0,9,  -999.00,9,  -999.00,9,  -999.00,9,  -999.00,9,    2.839,2,    1.360,2,    0.154,2,  -999.00,9,  -999.00,9,  -0.0780
  32PZ20020819,   CBL,    78,  1,      3,      3,2,20020911,0350, 77.2837,-155.1897, 1508,   1210.8,  -0.1508,  34.8990,2,  34.8988,2,    298.0,2,    297.8,2,  -999.00,9,  -999.00,9,  -999.00,9,  -999.00,9,    1.726,2,    0.838,2,    0.083,2,  -999.00,9,  -999.00,9,  -0.2056
  32PZ20020819,   CBL,    78,  1,      2,      2,2,20020911,0350, 77.2837,-155.1897, 1508,   1419.8,  -0.2427,  34.9146,2,-999.0000,9,    294.1,2,   -999.0,9,  -999.00,9,  -999.00,9,  -999.00,9,  -999.00,9,    0.902,2,    0.450,2,    0.048,2,  -999.00,9,  -999.00,9,  -0.3086
  32PZ20020819,   CBL,    78,  1,      1,      1,2,20020911,0350, 77.2837,-155.1897, 1508,   1484.2,  -0.2674,  34.9197,2,  34.9183,2,    293.2,2,    293.1,2,  -999.00,9,  -999.00,9,  -999.00,9,  -999.00,9,    0.682,2,    0.347,2,    0.023,2,  -999.00,9,  -999.00,9,  -0.3368
  32PZ20020819,   CBL,    79,  1,     25,     25,2,20020911,0736, 77.2540,-155.9458, 1998,     10.8,  -1.4815,  28.8571,2,  28.9169,2,    379.9,2,    382.4,2,     2.60,2,     0.10,2,     0.00,2,     0.71,2,    7.653,2,    3.836,2,    0.713,2,    -2.75,2,    60.10,2,  -1.4816
  32PZ20020819,   CBL,    79,  1,     24,     24,2,20020911,0736, 77.2540,-155.9458, 1998,     27.9,  -0.5249,  31.0070,2,  30.8598,2,    393.6,2,    376.4,2,     5.50,2,     0.60,2,     0.27,2,     0.87,2, -999.000,9, -999.000,9, -999.000,9,    -2.28,2,    59.30,2,  -0.5256
  32PZ20020819,   CBL,    79,  1,     23,     23,2,20020911,0736, 77.2540,-155.9458, 1998,     42.5,  -0.8449,  31.8472,2,  31.8325,2,    358.8,2,    339.9,2,    13.90,2,     6.00,2,     0.02,2,     1.24,2,    6.871,2,    3.410,2,    0.543,2,  -999.00,9,  -999.00,9,  -0.8459
  32PZ20020819,   CBL,    79,  1,     22,     22,2,20020911,0736, 77.2540,-155.9458, 1998,     62.0,  -1.1807,  32.2451,2,  32.2491,2,    325.9,2,    311.9,2,    20.80,2,     9.80,2,     0.01,2,     1.51,2,    6.609,2,    3.278,2,    0.507,2,    -1.79,2,    65.80,2,  -1.1820
  32PZ20020819,   CBL,    79,  1,     21,     21,2,20020911,0736, 77.2540,-155.9458, 1998,     89.7,  -0.9473,  32.6334,2,  32.6396,2,    287.1,2,    275.2,2,    31.00,2,    13.80,2,     0.01,2,     1.87,2,    6.219,2,    3.128,2,    0.479,2,    -1.53,2,    68.60,2,  -0.9495
  32PZ20020819,   CBL,    79,  1,     20,     20,2,20020911,0736, 77.2540,-155.9458, 1998,    106.4,  -1.2648,  32.7749,2,  32.7823,2,    272.4,2,    271.6,2,    36.20,2,    15.40,2,     0.00,2,     2.01,2,    6.356,2,    3.249,2,    0.501,2,    -1.52,2,    67.70,2,  -1.2671
  32PZ20020819,   CBL,    79,  1,     19,     19,2,20020911,0736, 77.2540,-155.9458, 1998,    128.2,  -1.5676,  33.0340,2,  33.0267,2,    280.9,2,    270.7,2,    37.10,2,    15.90,2,     0.00,2,     1.96,2,    6.015,2,    3.014,2,    0.434,2,    -1.48,2,    69.50,2,  -1.5701
  32PZ20020819,   CBL,    79,  1,     18,     18,2,20020911,0736, 77.2540,-155.9458, 1998,    150.9,  -1.4305,  33.4771,2,  33.4818,2,    271.0,2,    262.9,2,    39.80,2,    16.80,2,     0.00,2,     1.93,2,    5.603,2,    2.782,2,    0.394,2,    -1.28,2,    69.00,2,  -1.4338
  32PZ20020819,   CBL,    79,  1,     17,     17,2,20020911,0736, 77.2540,-155.9458, 1998,    178.3,  -1.0647,  33.9913,2,  34.0083,2,    254.0,2,    254.1,2,    28.80,2,    15.00,2,     0.00,2,     1.52,2,    5.089,2,    2.404,2,    0.301,2,    -0.71,2,    56.00,2,  -1.0694
  32PZ20020819,   CBL,    79,  1,     16,     16,2,20020911,0736, 77.2540,-155.9458, 1998,    221.9,  -0.2035,  34.4841,2,  34.4882,2,    284.0,2,    286.1,2,     9.30,2,    11.80,2,     0.00,2,     0.88,2,    5.772,2,    2.628,2,    0.345,2,  -999.00,9,  -999.00,9,  -0.2113
  32PZ20020819,   CBL,    79,  1,     15,     15,2,20020911,0736, 77.2540,-155.9458, 1998,    283.0,   0.7537,  34.7561,2,  34.7567,2,    295.3,2,    293.7,2,     6.80,2,    12.40,2,     0.00,2,     0.86,2,    5.326,2,    2.442,2,    0.334,2,  -999.00,9,  -999.00,9,   0.7412
  32PZ20020819,   CBL,    79,  1,     14,     14,2,20020911,0736, 77.2540,-155.9458, 1998,    335.1,   1.0248,  34.8300,2,  34.8305,2,    297.5,2,    297.3,2,     6.40,2,    12.50,2,     0.00,2,     0.86,2,    5.283,2,    2.453,2,    0.348,2,     0.10,2,    48.40,2,   1.0090
  32PZ20020819,   CBL,    79,  1,     13,     13,2,20020911,0736, 77.2540,-155.9458, 1998,    375.5,   1.0276,  34.8428,2,  34.8428,2,    298.6,2,    298.0,2,     6.40,2,    12.60,2,     0.00,2,     0.86,2,    5.128,2,    2.373,2,    0.326,2,  -999.00,9,  -999.00,9,   1.0098
  32PZ20020819,   CBL,    79,  1,     12,     12,2,20020911,0736, 77.2540,-155.9458, 1998,    430.4,   0.8706,  34.8465,2,  34.8474,2,    297.8,2,    298.5,2,     6.50,2,    12.70,2,     0.00,2,     0.86,2,    4.971,2,    2.316,2,    0.318,2,     0.21,2,    47.60,2,   0.8505
  32PZ20020819,   CBL,    79,  1,     11,     11,2,20020911,0736, 77.2540,-155.9458, 1998,    493.1,   0.7011,  34.8509,2,  34.8503,2,    299.2,2,    299.2,2,     6.50,2,    12.70,2,     0.00,2,     0.87,2,    4.627,2,    2.139,2,    0.270,2,  -999.00,9,  -999.00,9,   0.6785
  32PZ20020819,   CBL,    79,  1,     10,     10,2,20020911,0736, 77.2540,-155.9458, 1998,    591.9,   0.5030,  34.8559,2,  34.8636,2,    299.5,2,    300.2,2,     6.80,2,    12.80,2,     0.00,2,     0.87,2,    4.422,2,    2.037,2,    0.251,2,  -999.00,9,  -999.00,9,   0.4763
  32PZ20020819,   CBL,    79,  1,      9,      9,2,20020911,0736, 77.2540,-155.9458, 1998,    690.1,   0.3145,  34.8616,2,  34.8611,2,    300.1,2,    300.4,2,     6.90,2,    12.80,2,     0.00,2,     0.88,2,    4.055,6,    1.861,6,    0.221,6,  -999.00,9,  -999.00,9,   0.2839
  32PZ20020819,   CBL,    79,  1,      8,      8,2,20020911,0736, 77.2540,-155.9458, 1998,    789.0,   0.1634,  34.8666,2,  34.8676,2,    301.4,2,    301.5,2,     7.00,2,    12.80,2,     0.00,2,     0.88,2,    3.868,2,    1.790,2,    0.222,2,  -999.00,9,  -999.00,9,   0.1286
  32PZ20020819,   CBL,    79,  1,      7,      7,2,20020911,0736, 77.2540,-155.9458, 1998,    888.3,   0.0455,  34.8736,2,  34.8736,2,    301.7,2,    301.3,2,     7.30,2,    13.00,2,     0.00,2,     0.90,2,    3.399,2,    1.565,2,    0.170,2,  -999.00,9,  -999.00,9,   0.0064
  32PZ20020819,   CBL,    79,  1,      6,      6,2,20020911,0736, 77.2540,-155.9458, 1998,    987.2,  -0.0267,  34.8813,2,  34.8817,2,    300.6,2,    300.5,2,     7.60,2,    13.10,2,     0.00,2,     0.91,2,    2.838,2,    1.325,2,    0.130,2,  -999.00,9,  -999.00,9,  -0.0704
  32PZ20020819,   CBL,    79,  1,      5,      5,2,20020911,0736, 77.2540,-155.9458, 1998,   1185.4,  -0.1539,  34.8977,2,  34.8972,2,    298.9,2,    298.2,2,     8.80,2,    13.50,2,     0.00,2,     0.93,2,    1.822,2,    0.858,2,    0.073,2,  -999.00,9,  -999.00,9,  -0.2073
  32PZ20020819,   CBL,    79,  1,      4,      4,2,20020911,0736, 77.2540,-155.9458, 1998,   1384.0,  -0.2310,  34.9118,2,  34.9114,2,    295.4,2,    295.2,2,    10.20,2,    13.80,2,     0.00,2,     0.96,2,    1.029,2,    0.494,2,    0.035,2,  -999.00,9,  -999.00,9,  -0.2949
  32PZ20020819,   CBL,    79,  1,      3,      3,2,20020911,0736, 77.2540,-155.9458, 1998,   1581.9,  -0.2608,  34.9190,2,  34.9218,2,    293.2,2,    293.4,2,    11.10,2,    14.10,2,     0.00,2,     0.98,2,    0.701,6,    0.333,6,    0.024,6,  -999.00,9,  -999.00,9,  -0.3362
  32PZ20020819,   CBL,    79,  1,      2,      2,2,20020911,0736, 77.2540,-155.9458, 1998,   1780.2,  -0.2609,  34.9213,2,-999.0000,9,    292.3,2,   -999.0,9,  -999.00,9,  -999.00,9,  -999.00,9,  -999.00,9,    0.593,2,    0.271,2,    0.014,2,  -999.00,9,  -999.00,9,  -0.3488
  32PZ20020819,   CBL,    79,  1,      1,      1,2,20020911,0736, 77.2540,-155.9458, 1998,   2032.3,  -0.2412,  34.9240,2,  34.9239,2,    291.1,2,    290.9,2,    11.90,2,    14.20,2,     0.00,2,     1.00,2,    0.378,2,    0.179,2,    0.009,2,  -999.00,9,  -999.00,9,  -0.3463