BOTTLE,20220815CCHSIOAMB
EXPOCODE,SECT_ID,STNNBR,CASTNO,SAMPNO,BTLNBR,BTLNBR_FLAG_W,DATE,TIME,LATITUDE,LONGITUDE,DEPTH,CTDPRS,CTDTMP,CTDSAL,CTDSAL_FLAG_W,SALNTY,SALNTY_FLAG_W,CTDOXY,CTDOXY_FLAG_W,OXYGEN,OXYGEN_FLAG_W,SILCAT,SILCAT_FLAG_W,NITRAT,NITRAT_FLAG_W,NITRIT,NITRIT_FLAG_W,PHSPHT,PHSPHT_FLAG_W,CFC-11,CFC-11_FLAG_W,CFC-12,CFC-12_FLAG_W,CFC113,CFC113_FLAG_W,DELO18,DELO18_FLAG_W,BARIUM,BARIUM_FLAG_W,THETA
,,,,,,,,,,,METERS,DBAR,ITS-90,PSS-78,,PSS-78,,UMOL/KG,,UMOL/KG,,UMOL/KG,,UMOL/KG,,UMOL/KG,,UMOL/KG,,PMOL/KG,,PMOL/KG,,PMOL/KG,,/MILLE,,NMOL/KG,,DEG C
  32PZ20020819,   CBL,    19,  1,     34,     34,2,20020829,0242, 78.6908, 176.2238, 2030,      1.6,  -1.5342,  30.6488,2,  30.6487,2,    397.2,2,    399.9,2,     0.60,2,     0.00,2,     0.00,2,     0.84,2, -999.000,9, -999.000,9, -999.000,9,  -999.00,9,  -999.00,9,  -1.5342
  32PZ20020819,   CBL,    19,  1,     33,     33,2,20020829,0242, 78.6908, 176.2238, 2030,     13.0,  -1.5421,  30.6526,2,  30.6882,2,    399.7,2,    400.2,2,     0.60,2,     0.00,2,     0.00,2,     0.83,2,    7.451,6,    3.819,6,    0.698,6,    -2.07,2,    51.90,2,  -1.5423
  32PZ20020819,   CBL,    19,  1,     32,     32,2,20020829,0242, 78.6908, 176.2238, 2030,     27.9,  -1.5425,  30.7760,2,  30.8856,2,    401.9,2,    389.5,2,     2.40,2,     0.50,2,     0.02,2,     0.93,2, -999.000,9, -999.000,9, -999.000,9,    -2.01,2,    52.60,2,  -1.5429
  32PZ20020819,   CBL,    19,  1,     31,     31,2,20020829,0242, 78.6908, 176.2238, 2030,     42.5,  -1.5913,  31.3632,2,  31.4150,2,    377.4,2,    358.2,2,     9.70,2,     3.60,2,     0.07,2,     1.16,2, -999.000,9, -999.000,9, -999.000,9,    -2.00,2,    55.00,2,  -1.5920
  32PZ20020819,   CBL,    19,  1,     30,     30,2,20020829,0242, 78.6908, 176.2238, 2030,     57.6,  -1.5901,  32.1891,2,  32.1972,2,    333.2,2,    304.2,2,    22.80,2,     9.10,2,     0.01,2,     1.55,2, -999.000,9, -999.000,9, -999.000,9,    -1.54,2,    61.20,2,  -1.5911
  32PZ20020819,   CBL,    19,  1,     29,     29,2,20020829,0242, 78.6908, 176.2238, 2030,     72.4,  -1.5449,  32.6990,2,  32.7573,2,    280.6,2,    259.9,2,    34.00,2,    12.50,2,     0.00,2,     1.83,2, -999.000,9, -999.000,9, -999.000,9,  -999.00,9,  -999.00,9,  -1.5463
  32PZ20020819,   CBL,    19,  1,     28,     28,2,20020829,0242, 78.6908, 176.2238, 2030,     82.2,  -1.4002,  33.3288,2,  33.3545,2,    246.1,2,    231.2,2,    38.50,2,    14.90,2,     0.01,2,     1.83,2, -999.000,9, -999.000,9, -999.000,9,    -1.10,2,    60.40,2,  -1.4020
  32PZ20020819,   CBL,    19,  1,     27,     27,2,20020829,0242, 78.6908, 176.2238, 2030,     94.0,  -1.3338,  33.7030,2,  33.7218,2,    231.6,2,    239.6,2,    31.90,2,    14.00,2,     0.00,2,     1.55,2,    6.467,2,    3.214,2,    0.445,2,    -0.81,2,    53.70,2,  -1.3359
  32PZ20020819,   CBL,    19,  1,     26,     26,2,20020829,0242, 78.6908, 176.2238, 2030,    102.0,  -1.3317,  33.8516,2,  33.8880,2,    245.8,2,    260.5,2,    22.40,2,    12.30,2,     0.00,2,     1.23,2, -999.000,9, -999.000,9, -999.000,9,    -0.75,2,    49.00,2,  -1.3341
  32PZ20020819,   CBL,    19,  1,     25,     25,2,20020829,0242, 78.6908, 176.2238, 2030,    111.7,  -1.3212,  34.0425,2,  34.0497,2,    268.4,2,    280.2,2,    14.20,2,    10.90,2,     0.00,2,     0.97,2, -999.000,9, -999.000,9, -999.000,9,  -999.00,9,  -999.00,9,  -1.3238
  32PZ20020819,   CBL,    19,  1,     24,     24,2,20020829,0242, 78.6908, 176.2238, 2030,    121.8,  -1.2574,  34.1574,2,  34.1795,2,    281.5,2,    292.2,2,     9.90,2,    10.40,2,     0.00,2,     0.85,2, -999.000,9, -999.000,9, -999.000,9,  -999.00,9,  -999.00,9,  -1.2604
  32PZ20020819,   CBL,    19,  1,     23,     23,2,20020829,0242, 78.6908, 176.2238, 2030,    131.7,  -1.2345,  34.2308,2,  34.2445,2,    291.7,2,    302.8,2,     7.40,2,     9.80,2,     0.00,2,     0.77,2, -999.000,9, -999.000,9, -999.000,9,  -999.00,9,  -999.00,9,  -1.2378
  32PZ20020819,   CBL,    19,  1,     22,     22,2,20020829,0242, 78.6908, 176.2238, 2030,    141.5,  -1.1918,  34.2701,2,  34.2775,2,    298.5,2,    304.8,2,     6.80,2,     9.70,2,     0.00,2,     0.76,2,    6.710,2,    3.325,2,    0.498,2,  -999.00,9,  -999.00,9,  -1.1954
  32PZ20020819,   CBL,    19,  1,     21,     21,2,20020829,0242, 78.6908, 176.2238, 2030,    161.1,  -0.9051,  34.3963,2,  34.3979,2,    306.8,2,    309.0,2,     5.90,2,     9.70,2,     0.00,2,     0.74,2,    6.584,2,    3.303,2,    0.488,2,  -999.00,9,  -999.00,9,  -0.9097
  32PZ20020819,   CBL,    19,  1,     20,     20,3,20020829,0242, 78.6908, 176.2238, 2030,    181.3,  -0.7497,  34.4583,2,  34.4576,2,    311.1,2,    310.9,2,     5.20,2,     9.80,2,     0.00,2,     0.74,2, -999.000,9, -999.000,9, -999.000,9,    -0.01,2,    42.30,2,  -0.7551
  32PZ20020819,   CBL,    19,  1,     19,     19,2,20020829,0242, 78.6908, 176.2238, 2030,    230.5,   0.1434,  34.6419,2,  34.6408,2,    309.2,2,    306.1,2,     5.30,2,    10.80,2,     0.00,2,     0.79,2, -999.000,9, -999.000,9, -999.000,9,  -999.00,9,  -999.00,9,   0.1345
  32PZ20020819,   CBL,    19,  1,     18,     18,2,20020829,0242, 78.6908, 176.2238, 2030,    289.9,   0.6979,  34.7627,2,  34.7638,2,    305.8,2,    305.0,2,     5.50,2,    11.70,2,     0.00,2,     0.82,2,    5.863,2,    2.949,2,    0.442,2,  -999.00,9,  -999.00,9,   0.6852
  32PZ20020819,   CBL,    19,  1,     17,     17,2,20020829,0242, 78.6908, 176.2238, 2030,    339.3,   0.8989,  34.8077,2,  34.8078,2,    305.9,2,    304.7,2,     5.50,2,    11.90,2,     0.00,2,     0.83,2,    5.775,2,    2.890,2,    0.433,2,  -999.00,9,  -999.00,9,   0.8833
  32PZ20020819,   CBL,    19,  1,     16,     16,2,20020829,0242, 78.6908, 176.2238, 2030,    388.8,   0.9179,  34.8262,2,  34.8245,2,    306.1,2,    306.8,2,     5.50,2,    11.90,2,     0.00,2,     0.84,2,    5.762,2,    2.877,2,    0.434,2,     0.14,2,    40.40,2,   0.8998
  32PZ20020819,   CBL,    19,  1,     15,     15,2,20020829,0242, 78.6908, 176.2238, 2030,    428.7,   0.9191,  34.8390,2,  34.8378,2,    305.2,2,    305.1,2,     5.70,2,    12.10,2,     0.00,2,     0.85,2,    5.715,2,    2.921,2,    0.423,2,  -999.00,9,  -999.00,9,   0.8989
  32PZ20020819,   CBL,    19,  1,     14,     14,2,20020829,0242, 78.6908, 176.2238, 2030,    497.8,   0.8158,  34.8506,2,  34.8486,2,    306.4,2,    306.1,2,     5.80,2,    12.10,2,     0.00,2,     0.85,2,    5.616,2,    2.771,2,    0.414,2,  -999.00,9,  -999.00,9,   0.7925
  32PZ20020819,   CBL,    19,  1,     13,     13,2,20020829,0242, 78.6908, 176.2238, 2030,    547.4,   0.7320,  34.8566,2,  34.8553,2,    305.0,2,    306.1,2,     5.80,2,    12.30,2,     0.00,2,     0.86,2,    5.558,2,    2.772,2,    0.409,2,  -999.00,9,  -999.00,9,   0.7065
  32PZ20020819,   CBL,    19,  1,     12,     12,2,20020829,0242, 78.6908, 176.2238, 2030,    596.8,   0.6240,  34.8583,2,  34.8596,2,    305.8,2,    305.6,2,     6.00,2,    12.30,2,     0.00,2,     0.86,2,    5.465,2,    2.716,2,    0.392,2,  -999.00,9,  -999.00,9,   0.5965
  32PZ20020819,   CBL,    19,  1,     11,     11,2,20020829,0242, 78.6908, 176.2238, 2030,    696.0,   0.4281,  34.8631,2,  34.8633,2,    305.7,2,    305.3,2,     6.10,2,    12.40,2,     0.00,2,     0.87,2,    5.332,2,    2.666,2,    0.378,2,  -999.00,9,  -999.00,9,   0.3965
  32PZ20020819,   CBL,    19,  1,     10,     10,2,20020829,0242, 78.6908, 176.2238, 2030,    794.9,   0.2509,  34.8666,2,  34.8661,2,    306.8,2,    306.7,2,     6.20,2,    12.40,2,     0.00,2,     0.88,2,    5.407,2,    2.652,2,    0.391,2,     0.34,2,    41.10,2,   0.2153
  32PZ20020819,   CBL,    19,  1,      9,      9,2,20020829,0242, 78.6908, 176.2238, 2030,    943.6,  -0.0422,  34.8672,2,  34.8668,2,    307.3,2,    307.2,2,     6.50,2,    12.40,2,     0.00,2,     0.88,2,    5.307,2,    2.596,2,    0.386,2,  -999.00,9,  -999.00,9,  -0.0835
  32PZ20020819,   CBL,    19,  1,      8,      8,2,20020829,0242, 78.6908, 176.2238, 2030,   1092.5,  -0.2493,  34.8719,2,  34.8719,2,    307.0,2,    306.9,2,     6.80,2,    12.60,2,     0.00,2,     0.90,2,    4.992,2,    2.547,2,    0.374,2,  -999.00,9,  -999.00,9,  -0.2967
  32PZ20020819,   CBL,    19,  1,      7,      7,2,20020829,0242, 78.6908, 176.2238, 2030,   1290.9,  -0.3825,  34.8895,2,  34.8880,2,    304.6,2,    304.2,2,     7.70,2,    13.10,2,     0.00,2,     0.93,2,    3.898,2,    1.927,2,    0.256,2,  -999.00,9,  -999.00,9,  -0.4394
  32PZ20020819,   CBL,    19,  1,      6,      6,2,20020829,0242, 78.6908, 176.2238, 2030,   1489.7,  -0.5104,  34.9025,2,  34.9023,2,    302.2,2,    302.9,2,     9.00,2,    13.70,2,     0.00,2,     0.96,2,    2.873,2,    1.415,2,    0.184,2,  -999.00,9,  -999.00,9,  -0.5772
  32PZ20020819,   CBL,    19,  1,      5,      5,2,20020829,0242, 78.6908, 176.2238, 2030,   1608.7,  -0.5290,  34.9160,2,  34.9157,2,    299.1,2,    298.5,2,    10.00,2,    14.20,2,     0.00,2,     0.99,2,    1.668,2,    0.838,2,    0.098,2,  -999.00,9,  -999.00,9,  -0.6026
  32PZ20020819,   CBL,    19,  1,      4,      4,2,20020829,0242, 78.6908, 176.2238, 2030,   1687.4,  -0.5134,  34.9260,2,  34.9259,2,    295.8,2,    295.3,2,    10.80,2,    14.50,2,     0.00,2,     1.01,2,    1.033,2,    0.531,2,    0.053,2,  -999.00,9,  -999.00,9,  -0.5920
  32PZ20020819,   CBL,    19,  1,      2,      2,2,20020829,0242, 78.6908, 176.2238, 2030,   1885.7,  -0.4298,  34.9488,2,  34.9483,2,    287.2,2,    287.3,2,    13.10,2,    14.90,2,     0.00,2,     1.05,2,    0.130,2,    0.065,2,    0.001,2,  -999.00,9,  -999.00,9,  -0.5222
  32PZ20020819,   CBL,    19,  1,      1,      1,2,20020829,0242, 78.6908, 176.2238, 2030,   2008.2,  -0.3986,  34.9535,2,  34.9530,2,    284.5,2,    284.7,2,    13.90,2,    15.20,2,     0.00,2,     1.07,2,    0.017,2,    0.056,2,    0.001,2,  -999.00,9,  -999.00,9,  -0.4996
  32PZ20020819,   CBL,    20,  1,     32,     32,2,20020829,1012, 78.9558, 174.9948, 2341,      1.5,  -1.5176,  30.1056,2,  30.1064,2,    377.5,2,    379.6,2,     8.40,2,     0.70,2,     0.02,2,     0.76,2, -999.000,9, -999.000,9, -999.000,9,  -999.00,9,  -999.00,9,  -1.5176
  32PZ20020819,   CBL,    20,  1,     31,     31,2,20020829,1012, 78.9558, 174.9948, 2341,     12.7,  -1.5010,  30.1927,2,  30.1974,2,    382.6,2,    382.6,2,     7.40,2,     0.40,2,     0.02,2,     0.78,2,    7.543,2,    3.898,2,    0.701,2,    -2.99,2,    54.60,2,  -1.5012
  32PZ20020819,   CBL,    20,  1,     30,     30,2,20020829,1012, 78.9558, 174.9948, 2341,     27.2,  -1.5342,  30.4582,2,  30.5357,2,    392.1,2,    385.2,2,     5.90,2,     0.50,2,     0.03,2,     0.89,2,    7.577,2,    3.936,2,    0.709,2,    -2.40,2,    53.00,2,  -1.5346
  32PZ20020819,   CBL,    20,  1,     29,     29,2,20020829,1012, 78.9558, 174.9948, 2341,     42.8,  -1.6532,  31.6726,2,  31.7011,2,    366.9,2,    351.1,2,    11.50,2,     4.00,2,     0.02,2,     1.18,2, -999.000,9, -999.000,9, -999.000,9,    -1.97,2,    52.90,2,  -1.6539
  32PZ20020819,   CBL,    20,  1,     28,     28,2,20020829,1012, 78.9558, 174.9948, 2341,     52.2,  -1.5949,  32.2481,2,  32.2462,2,    344.5,2,    317.6,2,    15.40,2,     6.70,2,     0.01,2,     1.20,2,    7.241,2,    3.686,2,    0.609,2,    -1.51,2,    53.20,2,  -1.5958
  32PZ20020819,   CBL,    20,  1,     27,     27,2,20020829,1012, 78.9558, 174.9948, 2341,     61.8,  -1.5323,  32.8079,2,  33.0362,2,    318.4,2,    293.2,2,    16.60,2,     9.10,2,     0.01,2,     1.10,2, -999.000,9, -999.000,9, -999.000,9,  -999.00,9,  -999.00,9,  -1.5335
  32PZ20020819,   CBL,    20,  1,     26,     26,2,20020829,1012, 78.9558, 174.9948, 2341,     71.3,  -1.5529,  33.4306,2,  33.4883,2,    296.9,2,    309.0,2,     9.30,2,     8.10,2,     0.01,2,     0.76,2,    7.149,2,    3.693,2,    0.545,2,    -0.90,2,    45.90,2,  -1.5543
  32PZ20020819,   CBL,    20,  1,     25,     25,2,20020829,1012, 78.9558, 174.9948, 2341,     81.4,  -1.5582,  33.7359,2,  33.7697,2,    309.2,2,    312.2,2,     7.60,2,     8.20,2,     0.01,2,     0.71,2, -999.000,9, -999.000,9, -999.000,9,  -999.00,9,  -999.00,9,  -1.5599
  32PZ20020819,   CBL,    20,  1,     24,     24,2,20020829,1012, 78.9558, 174.9948, 2341,     91.4,  -1.5590,  33.9023,2,  33.9489,2,    313.2,2,    315.6,2,     6.20,2,     8.20,2,     0.01,2,     0.68,2, -999.000,9, -999.000,9, -999.000,9,  -999.00,9,  -999.00,9,  -1.5609
  32PZ20020819,   CBL,    20,  1,     23,     23,2,20020829,1012, 78.9558, 174.9948, 2341,    101.6,  -1.5285,  34.0242,2,  34.0327,2,    315.0,2,    315.0,2,     6.00,2,     8.30,2,     0.01,2,     0.69,2,    7.053,2,    3.509,2,    0.524,2,    -0.43,2,    43.90,2,  -1.5307
  32PZ20020819,   CBL,    20,  1,     22,     22,2,20020829,1012, 78.9558, 174.9948, 2341,    111.8,  -1.4690,  34.1304,2,  34.1383,2,    314.0,2,    313.4,2,     5.90,2,     8.60,2,     0.01,2,     0.70,2, -999.000,9, -999.000,9, -999.000,9,  -999.00,9,  -999.00,9,  -1.4715
  32PZ20020819,   CBL,    20,  1,     21,     21,2,20020829,1012, 78.9558, 174.9948, 2341,    121.9,  -1.4327,  34.1933,2,  34.2007,2,    313.1,2,    313.8,2,     5.70,2,     8.80,2,     0.01,2,     0.70,2,    6.851,6,    3.401,6,    0.512,6,    -0.36,2,    41.60,2,  -1.4355
  32PZ20020819,   CBL,    20,  1,     20,     20,2,20020829,1012, 78.9558, 174.9948, 2341,    131.9,  -1.3416,  34.2535,2,  34.2564,2,    313.6,2,    314.0,2,     5.50,2,     9.00,2,     0.01,2,     0.71,2,    6.836,2,    3.352,2,    0.510,2,  -999.00,9,  -999.00,9,  -1.3448
  32PZ20020819,   CBL,    20,  1,     19,     19,2,20020829,1012, 78.9558, 174.9948, 2341,    151.2,  -1.1170,  34.3417,2,  34.3439,2,    313.4,2,    313.3,2,     5.30,2,     9.30,2,     0.01,2,     0.72,2, -999.000,9, -999.000,9, -999.000,9,  -999.00,9,  -999.00,9,  -1.1210
  32PZ20020819,   CBL,    20,  1,     18,     18,2,20020829,1012, 78.9558, 174.9948, 2341,    174.8,  -0.7253,  34.4454,2,  34.4434,2,    311.0,2,    311.8,2,     5.30,2,     9.70,2,     0.00,2,     0.73,2,    6.589,2,    3.245,2,    0.475,2,  -999.00,9,  -999.00,9,  -0.7306
  32PZ20020819,   CBL,    20,  1,     17,     17,2,20020829,1012, 78.9558, 174.9948, 2341,    217.5,  -0.1067,  34.5819,2,  34.5924,2,    309.4,2,    307.8,2,     5.30,2,    10.50,2,     0.00,2,     0.77,2, -999.000,9, -999.000,9, -999.000,9,  -999.00,9,  -999.00,9,  -0.1146
  32PZ20020819,   CBL,    20,  1,     16,     16,2,20020829,1012, 78.9558, 174.9948, 2341,    280.6,   0.6816,  34.7600,2,  34.7600,2,    303.0,2,    303.0,2,     5.70,2,    11.70,2,     0.00,2,     0.83,2,    5.879,2,    2.920,2,    0.432,2,  -999.00,9,  -999.00,9,   0.6694
  32PZ20020819,   CBL,    20,  1,     15,     15,2,20020829,1012, 78.9558, 174.9948, 2341,    315.7,   0.8394,  34.7945,2,  34.7948,2,    302.8,2,    302.8,2,     5.70,2,    11.90,2,     0.00,2,     0.84,2,    5.730,2,    2.779,2,    0.415,2,  -999.00,9,  -999.00,9,   0.8251
  32PZ20020819,   CBL,    20,  1,     14,     14,2,20020829,1012, 78.9558, 174.9948, 2341,    378.1,   1.0308,  34.8343,2,  34.8371,2,    303.4,2,    303.6,2,     5.80,2,    12.20,2,     0.00,2,     0.85,2,    5.645,2,    2.746,2,    0.404,2,     0.14,2,    40.40,2,   1.0128
  32PZ20020819,   CBL,    20,  1,     13,     13,2,20020829,1012, 78.9558, 174.9948, 2341,    427.8,   0.9968,  34.8501,2,  34.8511,2,    303.1,2,    304.2,2,     5.90,2,    12.20,2,     0.00,2,     0.85,2,    5.620,2,    2.798,2,    0.400,2,  -999.00,9,  -999.00,9,   0.9764
  32PZ20020819,   CBL,    20,  1,     12,     12,2,20020829,1012, 78.9558, 174.9948, 2341,    496.6,   0.8143,  34.8547,2,  34.8546,2,    303.6,2,    305.0,2,     6.00,2,    12.20,2,     0.00,2,     0.85,2,    5.595,2,    2.745,2,    0.398,2,  -999.00,9,  -999.00,9,   0.7911
  32PZ20020819,   CBL,    20,  1,     11,     11,2,20020829,1012, 78.9558, 174.9948, 2341,    645.1,   0.5129,  34.8618,2,  34.8623,2,    304.8,2,   -999.0,9,     6.20,2,    12.40,2,     0.00,2,     0.87,2,    5.383,2,    2.650,2,    0.377,2,  -999.00,9,  -999.00,9,   0.4835
  32PZ20020819,   CBL,    20,  1,     10,     10,2,20020829,1012, 78.9558, 174.9948, 2341,    793.3,   0.1850,  34.8611,2,  34.8617,2,    306.0,2,    306.2,2,     6.30,2,    12.40,2,     0.00,2,     0.87,2,    5.356,2,    2.653,2,    0.380,2,     0.31,2,    40.70,2,   0.1499
  32PZ20020819,   CBL,    20,  1,      9,      9,2,20020829,1012, 78.9558, 174.9948, 2341,    941.3,  -0.0528,  34.8645,2,  34.8648,2,    306.4,2,    306.6,2,     6.70,2,    12.50,2,     0.00,2,     0.88,2,    5.132,2,    2.523,2,    0.357,2,  -999.00,9,  -999.00,9,  -0.0939
  32PZ20020819,   CBL,    20,  1,      8,      8,2,20020829,1012, 78.9558, 174.9948, 2341,   1086.8,  -0.2253,  34.8766,2,  34.8774,2,    306.3,2,    305.6,2,     7.30,2,    12.80,2,     0.00,2,     0.90,2,    4.714,2,    2.283,2,    0.311,2,  -999.00,9,  -999.00,9,  -0.2726
  32PZ20020819,   CBL,    20,  1,      7,      7,2,20020829,1012, 78.9558, 174.9948, 2341,   1280.6,  -0.3620,  34.8904,2,  34.8908,2,    305.6,2,    304.0,2,     7.80,2,    13.10,2,     0.00,2,     0.93,2,    3.732,2,    1.803,2,    0.237,2,  -999.00,9,  -999.00,9,  -0.4185
  32PZ20020819,   CBL,    20,  1,      6,      6,2,20020829,1012, 78.9558, 174.9948, 2341,   1481.0,  -0.4864,  34.9019,2,  34.9028,2,    303.5,2,    303.0,2,     8.90,2,    13.70,2,     0.00,2,     0.96,2,    2.771,2,    1.423,2,    0.183,2,  -999.00,9,  -999.00,9,  -0.5530
  32PZ20020819,   CBL,    20,  1,      5,      5,2,20020829,1012, 78.9558, 174.9948, 2341,   1684.7,  -0.4577,  34.9279,2,  34.9278,2,    297.2,2,    295.9,2,    10.50,2,    14.30,2,     0.00,2,     1.00,2,    0.726,2,    0.378,2,    0.034,2,  -999.00,9,  -999.00,9,  -0.5369
  32PZ20020819,   CBL,    20,  1,      4,      4,2,20020829,1012, 78.9558, 174.9948, 2341,   1884.4,  -0.4174,  34.9455,2,  34.9459,2,    290.3,2,    289.8,2,    12.20,2,    14.80,2,     0.00,2,     1.04,2,    0.103,2,    0.096,2,    0.006,2,  -999.00,9,  -999.00,9,  -0.5099
  32PZ20020819,   CBL,    20,  1,      3,      3,2,20020829,1012, 78.9558, 174.9948, 2341,   2058.6,  -0.4088,  34.9509,2,  34.9514,2,    287.9,2,    288.2,2,    13.00,2,    14.90,2,     0.00,2,     1.05,2,    0.030,2,    0.069,2,    0.003,2,  -999.00,9,  -999.00,9,  -0.5131
  32PZ20020819,   CBL,    20,  1,      2,      2,2,20020829,1012, 78.9558, 174.9948, 2341,   2184.0,  -0.3914,  34.9533,2,  34.9555,2,    284.9,2,    285.4,2,    14.00,2,    15.00,2,     0.00,2,     1.06,2,    0.009,2,    0.077,2,    0.007,2,  -999.00,9,  -999.00,9,  -0.5047
  32PZ20020819,   CBL,    20,  1,      1,      1,2,20020829,1012, 78.9558, 174.9948, 2341,   2316.4,  -0.3821,  34.9535,2,  34.9571,2,    285.4,2,    285.2,2,    13.90,2,    15.00,2,     0.00,2,     1.06,2,    0.007,2,    0.136,2,    0.011,2,  -999.00,9,  -999.00,9,  -0.5050