BOTTLE,20220815CCHSIOAMB
EXPOCODE,SECT_ID,STNNBR,CASTNO,SAMPNO,BTLNBR,BTLNBR_FLAG_W,DATE,TIME,LATITUDE,LONGITUDE,DEPTH,CTDPRS,CTDTMP,CTDSAL,CTDSAL_FLAG_W,SALNTY,SALNTY_FLAG_W,CTDOXY,CTDOXY_FLAG_W,OXYGEN,OXYGEN_FLAG_W,SILCAT,SILCAT_FLAG_W,NITRAT,NITRAT_FLAG_W,NITRIT,NITRIT_FLAG_W,PHSPHT,PHSPHT_FLAG_W,CFC-11,CFC-11_FLAG_W,CFC-12,CFC-12_FLAG_W,CFC113,CFC113_FLAG_W,DELO18,DELO18_FLAG_W,BARIUM,BARIUM_FLAG_W,THETA
,,,,,,,,,,,METERS,DBAR,ITS-90,PSS-78,,PSS-78,,UMOL/KG,,UMOL/KG,,UMOL/KG,,UMOL/KG,,UMOL/KG,,UMOL/KG,,PMOL/KG,,PMOL/KG,,PMOL/KG,,/MILLE,,NMOL/KG,,DEG C
  32PZ20020819,   CBL,     7,  1,     30,     30,2,20020824,2356, 76.2265,-169.2785, 2033,      1.6,  -1.3148,  27.9502,2,  27.9525,2,    373.8,2,    378.5,2,     4.60,2,     0.00,2,     0.00,2,     0.64,2, -999.000,9, -999.000,9, -999.000,9,  -999.00,9,  -999.00,9,  -1.3148
  32PZ20020819,   CBL,     7,  1,     29,     29,2,20020824,2356, 76.2265,-169.2785, 2033,     11.3,  -1.4200,  27.9949,2,  28.1255,2,    375.3,2,    378.8,2,     4.60,2,     0.00,2,     0.00,2,     0.65,2,    7.420,2,    3.787,2,    0.707,2,    -2.84,2,    63.50,2,  -1.4201
  32PZ20020819,   CBL,     7,  1,     28,     28,2,20020824,2356, 76.2265,-169.2785, 2033,     25.9,  -0.8496,  30.9024,2,  30.9029,2,    378.5,2,    367.1,2,     5.40,2,     0.40,2,     0.15,2,     0.79,2,    6.704,2,    3.578,2,    0.627,2,    -1.91,2,    55.30,2,  -0.8501
  32PZ20020819,   CBL,     7,  1,     27,     27,2,20020824,2356, 76.2265,-169.2785, 2033,     40.5,  -1.3278,  31.5471,2,  31.5586,2,    348.8,2,    336.6,2,     3.10,2,     1.50,2,     0.45,2,     0.75,2, -999.000,9, -999.000,9, -999.000,9,    -1.36,2,    50.10,2,  -1.3285
  32PZ20020819,   CBL,     7,  1,     26,     26,2,20020824,2356, 76.2265,-169.2785, 2033,     55.3,  -1.5054,  31.7910,2,  31.7917,2,    331.1,2,    326.5,2,     2.30,2,     1.10,2,     0.19,2,     0.74,2,    6.306,2,    3.295,2,    0.581,2,    -1.28,2,    48.00,2,  -1.5063
  32PZ20020819,   CBL,     7,  1,     25,     25,2,20020824,2356, 76.2265,-169.2785, 2033,     72.1,  -1.3165,  32.0128,2,  32.0169,2,    327.3,2,    322.5,2,     1.50,2,     1.30,2,     0.17,2,     0.74,2, -999.000,9, -999.000,9, -999.000,9,  -999.00,9,  -999.00,9,  -1.3179
  32PZ20020819,   CBL,     7,  1,     24,     24,2,20020824,2356, 76.2265,-169.2785, 2033,     89.6,  -0.3890,  32.3445,2,  32.3349,2,    307.0,2,    287.6,2,    16.10,2,     9.30,2,     0.00,2,     1.36,2,    6.277,2,    3.253,2,    0.524,2,    -1.33,2,    57.00,2,  -0.3915
  32PZ20020819,   CBL,     7,  1,     23,     23,2,20020824,2356, 76.2265,-169.2785, 2033,     99.8,  -0.7451,  32.5938,2,  32.6032,2,    284.9,2,    262.9,2,    31.20,2,    14.30,2,     0.00,2,     1.89,2,    6.173,2,    3.174,2,    0.497,2,    -1.52,2,    68.30,2,  -0.7477
  32PZ20020819,   CBL,     7,  1,     22,     22,2,20020824,2356, 76.2265,-169.2785, 2033,    114.5,  -1.1773,  32.7770,2,  32.7967,2,    264.9,2,    265.7,2,    36.40,2,    15.60,2,     0.00,2,     2.05,2, -999.000,9, -999.000,9, -999.000,9,  -999.00,9,  -999.00,9,  -1.1799
  32PZ20020819,   CBL,     7,  1,     21,     21,2,20020824,2356, 76.2265,-169.2785, 2033,    129.4,  -1.5458,  33.0491,2,  33.0398,2,    273.1,2,    276.7,2,    35.80,2,    14.90,2,     0.00,2,     1.91,2,    5.870,2,    3.001,2,    0.430,2,    -1.51,2,    68.10,2,  -1.5484
  32PZ20020819,   CBL,     7,  1,     20,     20,2,20020824,2356, 76.2265,-169.2785, 2033,    144.2,  -1.5149,  33.3198,2,  33.3406,2,    271.2,2,    265.6,2,    40.00,2,    16.00,2,     0.00,2,     1.96,2, -999.000,9, -999.000,9, -999.000,9,  -999.00,9,  -999.00,9,  -1.5179
  32PZ20020819,   CBL,     7,  1,     19,     19,2,20020824,2356, 76.2265,-169.2785, 2033,    159.1,  -1.2938,  33.6525,2,  33.6879,2,    254.5,2,    240.5,2,    40.50,2,    16.50,2,     0.00,2,     1.91,2,    5.553,6,    2.781,6,    0.366,6,  -999.00,9,  -999.00,9,  -1.2976
  32PZ20020819,   CBL,     7,  1,     18,     18,2,20020824,2356, 76.2265,-169.2785, 2033,    173.7,  -1.0974,  34.0928,2,  34.1060,2,    239.1,2,    245.7,2,    25.90,2,    13.90,2,     0.00,2,     1.38,2,    5.664,2,    2.885,2,    0.366,2,    -0.43,2,    48.10,2,  -1.1020
  32PZ20020819,   CBL,     7,  1,     17,     17,2,20020824,2356, 76.2265,-169.2785, 2033,    187.7,  -0.9080,  34.2726,2,  34.2924,2,    254.0,2,    264.4,2,    16.10,2,    12.50,2,     0.00,2,     1.06,2, -999.000,9, -999.000,9, -999.000,9,  -999.00,9,  -999.00,9,  -0.9133
  32PZ20020819,   CBL,     7,  1,     16,     16,2,20020824,2356, 76.2265,-169.2785, 2033,    227.8,   0.0699,  34.5430,2,  34.5480,2,    278.0,2,    276.3,2,    11.40,2,    12.30,2,     0.00,2,     0.93,2,    5.848,2,    2.726,2,    0.354,2,  -999.00,9,  -999.00,9,   0.0613
  32PZ20020819,   CBL,     7,  1,     15,     15,2,20020824,2356, 76.2265,-169.2785, 2033,    277.1,   0.7743,  34.7363,2,  34.7433,2,    289.3,2,    288.1,2,     8.10,2,    12.70,2,     0.00,2,     0.89,2,    5.596,2,    2.614,2,    0.351,2,  -999.00,9,  -999.00,9,   0.7620
  32PZ20020819,   CBL,     7,  1,     14,     14,2,20020824,2356, 76.2265,-169.2785, 2033,    326.4,   1.0178,  34.8046,2,  34.8125,2,    294.2,2,    293.6,2,     7.10,2,    12.70,2,     0.00,2,     0.88,2,    5.458,2,    2.585,2,    0.359,2,  -999.00,9,  -999.00,9,   1.0025
  32PZ20020819,   CBL,     7,  1,     13,     13,2,20020824,2356, 76.2265,-169.2785, 2033,    371.4,   1.1279,  34.8437,2,  34.8454,2,    296.9,2,    296.8,2,     6.80,2,    12.70,2,     0.00,2,     0.88,2,    5.396,2,    2.529,2,    0.347,2,     0.29,2,    39.30,2,   1.1100
  32PZ20020819,   CBL,     7,  1,     12,     12,2,20020824,2356, 76.2265,-169.2785, 2033,    420.6,   1.0602,  34.8463,2,  34.8470,2,    297.0,2,    296.9,2,     6.90,2,    12.80,2,     0.00,2,     0.87,2,    5.150,2,    2.375,2,    0.310,2,  -999.00,9,  -999.00,9,   1.0399
  32PZ20020819,   CBL,     7,  1,     11,     11,2,20020824,2356, 76.2265,-169.2785, 2033,    494.5,   0.9207,  34.8591,2,  34.8558,2,    299.3,2,    299.6,2,     6.70,2,    12.70,2,     0.00,2,     0.87,2,    5.215,2,    2.390,2,    0.337,2,  -999.00,9,  -999.00,9,   0.8971
  32PZ20020819,   CBL,     7,  1,     10,     10,2,20020824,2356, 76.2265,-169.2785, 2033,    593.4,   0.6255,  34.8574,2,  34.8545,2,    300.4,2,    300.8,2,     6.70,2,    12.70,2,     0.00,2,     0.87,2,    5.008,2,    2.339,2,    0.305,2,  -999.00,9,  -999.00,9,   0.5981
  32PZ20020819,   CBL,     7,  1,      9,      9,2,20020824,2356, 76.2265,-169.2785, 2033,    692.1,   0.3955,  34.8606,2,  34.8559,2,    302.0,2,    302.4,2,     6.70,2,    12.70,2,     0.00,2,     0.88,2,    4.888,6,    2.239,6,    0.297,6,  -999.00,9,  -999.00,9,   0.3643
  32PZ20020819,   CBL,     7,  1,      8,      8,2,20020824,2356, 76.2265,-169.2785, 2033,    790.7,   0.2098,  34.8613,2,  34.8596,2,    304.0,2,    304.0,2,     6.70,2,    12.60,2,     0.00,2,     0.88,2,    4.961,2,    2.342,2,    0.306,2,     0.19,2,    39.50,2,   0.1747
  32PZ20020819,   CBL,     7,  1,      7,      7,2,20020824,2356, 76.2265,-169.2785, 2033,    939.1,   0.0084,  34.8685,2,  34.8596,2,    304.2,2,    304.4,2,     7.00,2,    12.80,2,     0.00,2,     0.89,2,    4.653,2,    2.164,2,    0.278,2,  -999.00,9,  -999.00,9,  -0.0330
  32PZ20020819,   CBL,     7,  1,      6,      6,2,20020824,2356, 76.2265,-169.2785, 2033,   1087.6,  -0.1303,  34.8789,2,  34.8722,2,    303.8,2,    303.6,2,     7.40,2,    12.80,2,     0.00,2,     0.91,2,    4.049,2,    1.831,2,    0.231,2,  -999.00,9,  -999.00,9,  -0.1785
  32PZ20020819,   CBL,     7,  1,      5,      5,2,20020824,2356, 76.2265,-169.2785, 2033,   1285.7,  -0.2748,  34.8940,2,  34.8939,2,    302.6,2,    302.2,2,     7.90,2,    13.40,2,     0.00,2,     0.93,2,    3.149,2,    1.477,2,    0.169,2,  -999.00,9,  -999.00,9,  -0.3325
  32PZ20020819,   CBL,     7,  1,      4,      4,2,20020824,2356, 76.2265,-169.2785, 2033,   1484.5,  -0.3924,  34.9115,2,  34.9104,2,    300.2,2,    300.0,2,     9.20,2,    13.80,2,     0.00,2,     0.96,2,    1.865,2,    0.890,2,    0.086,2,  -999.00,9,  -999.00,9,  -0.4603
  32PZ20020819,   CBL,     7,  1,      3,      3,2,20020824,2356, 76.2265,-169.2785, 2033,   1683.6,  -0.4525,  34.9307,2,  34.9315,2,    295.3,2,    295.0,2,    10.90,2,    14.40,2,     0.00,2,     1.01,2,    0.857,2,    0.365,2,    0.035,2,  -999.00,9,  -999.00,9,  -0.5317
  32PZ20020819,   CBL,     7,  1,      2,      2,2,20020824,2356, 76.2265,-169.2785, 2033,   1883.1,  -0.4334,  34.9459,2,  34.9459,2,    289.3,2,    289.2,2,    12.60,2,    14.80,2,     0.00,2,     1.04,2,    0.278,2,    0.182,2,    0.019,2,  -999.00,9,  -999.00,9,  -0.5256
  32PZ20020819,   CBL,     7,  1,      1,      1,2,20020824,2356, 76.2265,-169.2785, 2033,   2015.9,  -0.3919,  34.9541,2,  34.9553,2,    280.2,2,    280.4,2,    15.40,2,    15.30,2,     0.00,2,     1.09,2, -999.000,9, -999.000,9, -999.000,9,  -999.00,9,  -999.00,9,  -0.4936
  32PZ20020819,   CBL,     8,  1,     32,     32,2,20020825,0641, 76.5140,-170.0965, 2274,      1.5,  -1.4284,  28.4646,2,  28.4667,2,    377.3,2,    378.7,2,     4.00,2,     0.10,2,     0.00,2,     0.68,2, -999.000,9, -999.000,9, -999.000,9,    -2.70,2,    59.30,2,  -1.4284
  32PZ20020819,   CBL,     8,  1,     31,     31,2,20020825,0641, 76.5140,-170.0965, 2274,     10.2,  -1.4467,  28.4779,2,  28.4773,2,    379.2,2,    378.8,2,     4.00,2,     0.00,2,     0.00,2,     0.68,2,    7.424,2,    3.838,2,    0.688,2,  -999.00,9,  -999.00,9,  -1.4468
  32PZ20020819,   CBL,     8,  1,     30,     30,2,20020825,0641, 76.5140,-170.0965, 2274,     25.0,  -1.3867,  28.7364,2,  29.3331,2,    380.8,2,    380.2,2,     4.70,2,     0.10,2,     0.04,2,     0.74,2, -999.000,9, -999.000,9, -999.000,9,    -2.60,2,    60.10,2,  -1.3870
  32PZ20020819,   CBL,     8,  1,     29,     29,2,20020825,0641, 76.5140,-170.0965, 2274,     34.7,  -0.8173,  31.0223,2,  31.0751,2,    377.5,2,    351.7,2,     8.20,2,     2.50,2,     0.17,2,     0.96,2, -999.000,9, -999.000,9, -999.000,9,    -2.02,2,    59.70,2,  -0.8180
  32PZ20020819,   CBL,     8,  1,     28,     28,2,20020825,0641, 76.5140,-170.0965, 2274,     54.5,  -1.0464,  31.9007,2,  31.9846,2,    332.1,2,    317.7,2,    16.60,2,     7.40,2,     0.01,2,     1.32,2,    6.623,2,    3.394,2,    0.555,2,    -1.76,2,    61.10,2,  -1.0476
  32PZ20020819,   CBL,     8,  1,     27,     27,2,20020825,0641, 76.5140,-170.0965, 2274,     72.3,  -0.8639,  32.4094,2,  32.4638,2,    292.4,2,    281.1,2,    27.40,2,    11.90,2,     0.00,2,     1.70,2,    6.251,2,    3.246,2,    0.493,2,    -1.67,2,    65.60,2,  -0.8656
  32PZ20020819,   CBL,     8,  1,     26,     26,2,20020825,0641, 76.5140,-170.0965, 2274,     84.2,  -0.7832,  32.5696,2,  32.6175,2,    277.2,2,    269.5,2,    30.90,2,    13.60,2,     0.00,2,     1.85,2, -999.000,9, -999.000,9, -999.000,9,  -999.00,9,  -999.00,9,  -0.7853
  32PZ20020819,   CBL,     8,  1,     25,     25,2,20020825,0641, 76.5140,-170.0965, 2274,     99.0,  -1.0747,  32.7522,2,  32.7568,2,    264.3,2,    266.7,2,    34.60,2,    15.30,2,     0.00,2,     1.98,2, -999.000,9, -999.000,9, -999.000,9,    -1.44,2,    68.70,2,  -1.0770
  32PZ20020819,   CBL,     8,  1,     24,     24,2,20020825,0641, 76.5140,-170.0965, 2274,    113.1,  -1.5142,  32.9149,2,  32.9706,2,    266.3,2,    264.7,2,    36.80,2,    15.90,2,     0.00,2,     1.98,2, -999.000,9, -999.000,9, -999.000,9,  -999.00,9,  -999.00,9,  -1.5164
  32PZ20020819,   CBL,     8,  1,     23,     23,2,20020825,0641, 76.5140,-170.0965, 2274,    127.5,  -1.5142,  33.1749,2,  33.1946,2,    247.6,2,    252.2,2,    42.90,2,    17.50,2,     0.00,2,     2.12,2,    6.008,2,    3.122,2,    0.444,2,    -1.33,2,    67.50,2,  -1.5168
  32PZ20020819,   CBL,     8,  1,     22,     22,2,20020825,0641, 76.5140,-170.0965, 2274,    143.6,  -1.3923,  33.5037,2,  33.5783,2,    235.8,2,    235.1,2,    43.20,2,    17.20,2,     0.00,2,     2.03,2, -999.000,9, -999.000,9, -999.000,9,  -999.00,9,  -999.00,9,  -1.3955
  32PZ20020819,   CBL,     8,  1,     21,     21,2,20020825,0641, 76.5140,-170.0965, 2274,    155.9,  -1.1962,  33.8740,2,  33.8922,2,    244.5,2,    243.2,2,    33.20,2,    15.10,2,     0.00,2,     1.65,2,    5.665,2,    2.782,2,    0.351,2,  -999.00,9,  -999.00,9,  -1.2001
  32PZ20020819,   CBL,     8,  1,     20,     20,2,20020825,0641, 76.5140,-170.0965, 2274,    173.3,  -1.0145,  34.1972,2,  34.2189,2,    239.8,2,    255.3,2,    20.10,2,    13.10,2,     0.00,2,     1.20,2,    5.831,2,    2.752,2,    0.345,2,    -0.22,2,    45.40,2,  -1.0192
  32PZ20020819,   CBL,     8,  1,     19,     19,2,20020825,0641, 76.5140,-170.0965, 2274,    187.5,  -0.7865,  34.3213,2,  34.3268,2,    255.3,2,    266.4,2,    14.90,2,    12.40,2,     0.00,2,     1.03,2,    5.993,2,    2.777,2,    0.357,2,  -999.00,9,  -999.00,9,  -0.7920
  32PZ20020819,   CBL,     8,  1,     18,     18,2,20020825,0641, 76.5140,-170.0965, 2274,    227.2,   0.1631,  34.5636,2,  34.5693,2,    269.0,2,    276.4,2,    11.50,2,    12.40,2,     0.00,2,     0.94,2,    5.759,2,    2.811,2,    0.365,2,  -999.00,9,  -999.00,9,   0.1544
  32PZ20020819,   CBL,     8,  1,     17,     17,2,20020825,0641, 76.5140,-170.0965, 2274,    276.1,   0.8360,  34.7583,2,  34.7595,2,    287.8,2,    289.7,2,     7.60,2,    12.60,2,     0.00,2,     0.89,2,    5.492,2,    2.595,2,    0.350,2,  -999.00,9,  -999.00,9,   0.8236
  32PZ20020819,   CBL,     8,  1,     16,     16,2,20020825,0641, 76.5140,-170.0965, 2274,    326.0,   1.0561,  34.8294,2,  34.8333,2,    295.9,2,    294.7,2,     6.90,2,    12.70,2,     0.00,2,     0.88,2,    5.362,2,    2.579,2,    0.350,2,     0.33,2,    38.60,2,   1.0407
  32PZ20020819,   CBL,     8,  1,     15,     15,2,20020825,0641, 76.5140,-170.0965, 2274,    370.9,   1.0780,  34.8456,2,  34.8465,2,    297.2,2,    296.5,2,     6.90,2,    12.70,2,     0.00,2,     0.88,2,    5.084,2,    2.453,2,    0.316,2,  -999.00,9,  -999.00,9,   1.0602
  32PZ20020819,   CBL,     8,  1,     14,     14,2,20020825,0641, 76.5140,-170.0965, 2274,    420.1,   0.9803,  34.8563,2,  34.8570,2,    298.1,2,    298.1,2,     6.80,2,    12.70,2,     0.00,2,     0.88,2,    5.205,2,    2.478,2,    0.334,2,  -999.00,9,  -999.00,9,   0.9603
  32PZ20020819,   CBL,     8,  1,     13,     13,2,20020825,0641, 76.5140,-170.0965, 2274,    494.3,   0.7885,  34.8577,2,  34.8582,2,    299.1,2,    299.9,2,     6.70,2,    12.70,2,     0.00,2,     0.88,2,    5.106,2,    2.357,2,    0.315,2,  -999.00,9,  -999.00,9,   0.7655
  32PZ20020819,   CBL,     8,  1,     12,     12,2,20020825,0641, 76.5140,-170.0965, 2274,    592.1,   0.5418,  34.8574,2,  34.8594,2,    300.7,2,    301.5,2,     6.70,2,    12.60,2,     0.00,2,     0.88,2,    4.994,2,    2.445,2,    0.318,2,  -999.00,9,  -999.00,9,   0.5149
  32PZ20020819,   CBL,     8,  1,     11,     11,2,20020825,0641, 76.5140,-170.0965, 2274,    689.7,   0.3518,  34.8593,2,  34.8601,2,    302.1,2,    301.9,2,     6.70,2,    12.60,2,     0.00,2,     0.88,2,    4.765,2,    2.268,2,    0.281,2,  -999.00,9,  -999.00,9,   0.3210
  32PZ20020819,   CBL,     8,  1,     10,     10,2,20020825,0641, 76.5140,-170.0965, 2274,    788.2,   0.1669,  34.8621,2,  34.8650,2,    303.6,2,    303.8,2,     6.80,2,    12.60,2,     0.00,2,     0.89,2,    4.782,2,    2.275,2,    0.280,2,     0.22,2,    39.70,2,   0.1322
  32PZ20020819,   CBL,     8,  1,      9,      9,2,20020825,0641, 76.5140,-170.0965, 2274,    936.4,  -0.0092,  34.8693,2,  34.8713,2,    304.0,2,    303.7,2,     6.80,2,    12.60,2,     0.00,2,     0.89,2,    4.226,2,    2.004,2,    0.225,2,  -999.00,9,  -999.00,9,  -0.0504
  32PZ20020819,   CBL,     8,  1,      8,      8,2,20020825,0641, 76.5140,-170.0965, 2274,   1085.5,  -0.1405,  34.8797,2,  34.8806,2,    303.3,2,    303.0,2,     7.20,2,    13.00,2,     0.00,2,     0.91,2,    3.871,2,    1.824,2,    0.196,2,  -999.00,9,  -999.00,9,  -0.1885
  32PZ20020819,   CBL,     8,  1,      7,      7,2,20020825,0641, 76.5140,-170.0965, 2274,   1283.9,  -0.2729,  34.8942,2,  34.8974,2,    302.7,2,    302.1,2,     7.90,2,    13.10,2,     0.00,2,     0.93,2,    2.742,2,    1.308,2,    0.126,2,  -999.00,9,  -999.00,9,  -0.3306
  32PZ20020819,   CBL,     8,  1,      6,      6,2,20020825,0641, 76.5140,-170.0965, 2274,   1482.7,  -0.3752,  34.9091,2,  34.9108,2,    301.5,2,    301.9,2,     8.60,2,    13.60,2,     0.00,2,     0.95,2,    1.725,2,    0.858,2,    0.072,2,  -999.00,9,  -999.00,9,  -0.4432
  32PZ20020819,   CBL,     8,  1,      5,      5,2,20020825,0641, 76.5140,-170.0965, 2274,   1679.8,  -0.4354,  34.9245,2,  34.9260,2,    297.7,2,    297.1,2,     9.90,2,    14.10,2,     0.00,2,     0.99,2,    0.863,2,    0.441,2,    0.038,2,  -999.00,9,  -999.00,9,  -0.5146
  32PZ20020819,   CBL,     8,  1,      4,      4,2,20020825,0641, 76.5140,-170.0965, 2274,   1879.4,  -0.4350,  34.9395,2,  34.9420,2,    291.3,2,    291.4,2,    11.80,2,    14.60,2,     0.00,2,     1.03,2,    0.379,2,    0.192,2,    0.016,2,  -999.00,9,  -999.00,9,  -0.5269
  32PZ20020819,   CBL,     8,  1,      3,      3,2,20020825,0641, 76.5140,-170.0965, 2274,   2077.7,  -0.4086,  34.9494,2,  34.9517,2,    285.7,2,    287.4,2,    13.10,2,    14.90,2,     0.00,2,     1.06,2, -999.000,9, -999.000,9, -999.000,9,  -999.00,9,  -999.00,9,  -0.5142
  32PZ20020819,   CBL,     8,  1,      2,      2,2,20020825,0641, 76.5140,-170.0965, 2274,   2176.9,  -0.3880,  34.9532,2,  34.9541,2,    279.7,2,    282.7,2,    14.80,2,    15.10,2,     0.00,2,     1.08,2, -999.000,9, -999.000,9, -999.000,9,  -999.00,9,  -999.00,9,  -0.5008
  32PZ20020819,   CBL,     8,  1,      1,      1,2,20020825,0641, 76.5140,-170.0965, 2274,   2236.7,  -0.3829,  34.9544,2,  34.9557,2,    281.1,2,   -999.0,9,    14.50,2,    15.10,2,     0.00,2,     1.07,2,    0.007,2,    0.001,2,    0.002,2,  -999.00,9,  -999.00,9,  -0.5001