BOTTLE,20220815CCHSIOAMB
EXPOCODE,SECT_ID,STNNBR,CASTNO,SAMPNO,BTLNBR,BTLNBR_FLAG_W,DATE,TIME,LATITUDE,LONGITUDE,DEPTH,CTDPRS,CTDTMP,CTDSAL,CTDSAL_FLAG_W,SALNTY,SALNTY_FLAG_W,CTDOXY,CTDOXY_FLAG_W,OXYGEN,OXYGEN_FLAG_W,SILCAT,SILCAT_FLAG_W,NITRAT,NITRAT_FLAG_W,NITRIT,NITRIT_FLAG_W,PHSPHT,PHSPHT_FLAG_W,CFC-11,CFC-11_FLAG_W,CFC-12,CFC-12_FLAG_W,CFC113,CFC113_FLAG_W,DELO18,DELO18_FLAG_W,BARIUM,BARIUM_FLAG_W,THETA
,,,,,,,,,,,METERS,DBAR,ITS-90,PSS-78,,PSS-78,,UMOL/KG,,UMOL/KG,,UMOL/KG,,UMOL/KG,,UMOL/KG,,UMOL/KG,,PMOL/KG,,PMOL/KG,,PMOL/KG,,/MILLE,,NMOL/KG,,DEG C
  32PZ20020819,   CBL,    63,  1,     35,     35,2,20020907,1121, 78.8817,-157.0347, 3735,      1.8,  -1.5755,  30.3507,2,  30.3393,2,    389.2,2,    391.3,2,     2.60,2,     0.10,2,     0.01,2,     0.84,2, -999.000,9, -999.000,9, -999.000,9,  -999.00,9,  -999.00,9,  -1.5755
  32PZ20020819,   CBL,    63,  1,     34,     34,2,20020907,1121, 78.8817,-157.0347, 3735,     11.3,  -1.6068,  30.3443,2,  30.3570,2,    391.2,2,    390.2,2,     2.50,2,     0.00,2,     0.01,2,     0.85,2, -999.000,9, -999.000,9, -999.000,9,    -2.22,2,    57.20,2,  -1.6069
  32PZ20020819,   CBL,    63,  1,     33,     33,2,20020907,1121, 78.8817,-157.0347, 3735,     25.9,  -1.6352,  30.6116,2,  30.6456,2,    393.6,2,    390.5,2,     3.50,2,     0.20,2,     0.01,2,     0.88,2,    7.465,2,    3.692,2,    0.678,2,    -2.03,2,    57.20,2,  -1.6355
  32PZ20020819,   CBL,    63,  1,     32,     32,2,20020907,1121, 78.8817,-157.0347, 3735,     52.9,  -1.6876,  31.6523,2,  31.6769,2,    370.7,2,    356.3,2,    12.70,2,     4.90,2,     0.02,2,     1.25,2,    7.328,2,    3.641,2,    0.659,2,    -1.80,2,    57.70,2,  -1.6884
  32PZ20020819,   CBL,    63,  1,     31,     31,2,20020907,1121, 78.8817,-157.0347, 3735,     67.0,  -1.6131,  32.0688,2,  32.1332,2,    337.1,2,    311.3,2,    19.70,2,     9.20,2,     0.02,2,     1.50,2, -999.000,9, -999.000,9, -999.000,9,    -1.52,2,    60.40,2,  -1.6142
  32PZ20020819,   CBL,    63,  1,     30,     30,2,20020907,1121, 78.8817,-157.0347, 3735,     82.1,  -1.5501,  32.4966,2,  32.5455,2,    289.8,2,    271.9,2,    30.30,2,    13.00,2,     0.02,2,     1.79,2, -999.000,9, -999.000,9, -999.000,9,    -1.35,2,    63.10,2,  -1.5516
  32PZ20020819,   CBL,    63,  1,     29,     29,2,20020907,1121, 78.8817,-157.0347, 3735,     92.2,  -1.4812,  32.8364,2,  32.8833,2,    261.8,2,    246.3,2,    37.70,2,    15.80,2,     0.01,2,     1.97,2, -999.000,9, -999.000,9, -999.000,9,  -999.00,9,  -999.00,9,  -1.4830
  32PZ20020819,   CBL,    63,  1,     28,     28,2,20020907,1121, 78.8817,-157.0347, 3735,    102.1,  -1.4609,  33.1563,2,  33.2018,2,    245.0,2,    241.2,2,    40.50,2,    16.60,2,     0.01,2,     1.97,2,    6.339,2,    3.147,2,    0.446,2,    -1.23,2,    65.50,2,  -1.4630
  32PZ20020819,   CBL,    63,  1,     27,     27,2,20020907,1121, 78.8817,-157.0347, 3735,    111.7,  -1.4170,  33.5238,2,  33.5683,2,    242.7,2,    245.0,2,    36.50,2,    15.40,2,     0.01,2,     1.78,2,    6.342,2,    3.081,2,    0.432,2,  -999.00,9,  -999.00,9,  -1.4194
  32PZ20020819,   CBL,    63,  1,     26,     26,2,20020907,1121, 78.8817,-157.0347, 3735,    121.4,  -1.4451,  33.7324,2,  33.8057,2,    247.8,2,    273.2,2,    21.60,2,    12.00,2,     0.01,2,     1.25,2, -999.000,9, -999.000,9, -999.000,9,    -0.73,2,    52.10,2,  -1.4478
  32PZ20020819,   CBL,    63,  1,     25,     25,2,20020907,1121, 78.8817,-157.0347, 3735,    137.3,  -1.4248,  34.0258,2,  34.0339,2,    287.7,2,    294.1,2,    10.90,2,    10.00,2,     0.01,2,     0.89,2,    6.849,2,    3.114,2,    0.460,2,  -999.00,9,  -999.00,9,  -1.4280
  32PZ20020819,   CBL,    63,  1,     24,     24,2,20020907,1121, 78.8817,-157.0347, 3735,    152.0,  -1.2241,  34.1919,2,  34.2130,2,    296.9,2,    302.3,2,     7.30,2,     9.70,2,     0.01,2,     0.79,2,    6.735,2,    3.071,2,    0.452,2,  -999.00,9,  -999.00,9,  -1.2279
  32PZ20020819,   CBL,    63,  1,     23,     23,2,20020907,1121, 78.8817,-157.0347, 3735,    167.1,  -0.9924,  34.2747,2,  34.2744,2,    302.8,2,    304.6,2,     6.50,2,     9.70,2,     0.01,2,     0.77,2,    6.665,2,    3.053,2,    0.449,2,    -0.12,2,    46.10,2,  -0.9970
  32PZ20020819,   CBL,    63,  1,     22,     22,2,20020907,1121, 78.8817,-157.0347, 3735,    205.9,  -0.1428,  34.4903,2,  34.4917,2,    300.8,2,    299.6,2,     6.20,2,    10.70,2,     0.01,2,     0.81,2, -999.000,9, -999.000,9, -999.000,9,  -999.00,9,  -999.00,9,  -0.1501
  32PZ20020819,   CBL,    63,  1,     21,     21,2,20020907,1121, 78.8817,-157.0347, 3735,    259.7,   0.7979,  34.7624,2,  34.7608,2,    296.8,2,    297.1,2,     6.10,2,    12.20,2,     0.01,2,     0.87,2,    5.394,2,    2.475,2,    0.349,2,  -999.00,9,  -999.00,9,   0.7864
  32PZ20020819,   CBL,    63,  1,     20,     20,2,20020907,1121, 78.8817,-157.0347, 3735,    293.1,   0.8614,  34.7902,2,  34.7895,2,    297.4,2,    296.5,2,     6.20,2,    12.40,2,     0.01,2,     0.88,2,    4.972,2,    2.301,2,    0.310,2,  -999.00,9,  -999.00,9,   0.8481
  32PZ20020819,   CBL,    63,  1,     19,     19,2,20020907,1121, 78.8817,-157.0347, 3735,    315.8,   1.0714,  34.8347,2,  34.8371,2,    298.8,2,    298.5,2,     6.10,2,    12.60,2,     0.01,2,     0.88,2,    5.288,2,    2.458,2,    0.348,2,     0.23,2,    40.90,2,   1.0565
  32PZ20020819,   CBL,    63,  1,     18,     18,2,20020907,1121, 78.8817,-157.0347, 3735,    363.2,   1.0053,  34.8443,2,  34.8434,2,    299.1,2,    299.6,2,     6.20,2,    12.70,2,     0.01,2,     0.88,2, -999.000,9, -999.000,9, -999.000,9,  -999.00,9,  -999.00,9,   0.9882
  32PZ20020819,   CBL,    63,  1,     17,     17,2,20020907,1121, 78.8817,-157.0347, 3735,    424.6,   0.8849,  34.8603,2,  34.8595,2,    299.1,2,    300.5,2,     6.10,2,    12.70,2,     0.01,2,     0.89,2,    4.820,2,    2.264,2,    0.293,2,  -999.00,9,  -999.00,9,   0.8650
  32PZ20020819,   CBL,    63,  1,     16,     16,2,20020907,1121, 78.8817,-157.0347, 3735,    505.1,   0.6222,  34.8555,2,  34.8552,2,    299.0,2,    298.8,2,     6.40,2,    12.80,2,     0.01,2,     0.90,2,    4.039,2,    1.872,2,    0.219,2,  -999.00,9,  -999.00,9,   0.5993
  32PZ20020819,   CBL,    63,  1,     15,     15,2,20020907,1121, 78.8817,-157.0347, 3735,    582.1,   0.4790,  34.8635,2,  34.8611,2,    298.5,2,    299.4,2,     6.50,2,    12.90,2,     0.01,2,     0.91,2,    3.853,6,    1.785,6,    0.222,6,  -999.00,9,  -999.00,9,   0.4529
  32PZ20020819,   CBL,    63,  1,     14,     14,2,20020907,1121, 78.8817,-157.0347, 3735,    675.7,   0.3104,  34.8642,2,  34.8650,2,    299.7,2,    301.0,2,     6.40,2,    12.80,2,     0.01,2,     0.90,2,    3.865,2,    1.789,2,    0.217,2,     0.24,2,    43.20,2,   0.2805
  32PZ20020819,   CBL,    63,  1,     13,     13,2,20020907,1121, 78.8817,-157.0347, 3735,    818.2,   0.0921,  34.8732,2,  34.8751,2,    301.1,2,    301.0,2,     6.90,2,    13.00,2,     0.01,2,     0.93,2,    3.115,2,    1.447,2,    0.169,2,  -999.00,9,  -999.00,9,   0.0563
  32PZ20020819,   CBL,    63,  1,     12,     12,2,20020907,1121, 78.8817,-157.0347, 3735,    966.5,  -0.0466,  34.8842,2,  34.8843,2,    300.1,2,    300.5,2,     7.20,2,    13.20,2,     0.01,2,     0.93,2,    2.319,2,    1.072,2,    0.125,2,  -999.00,9,  -999.00,9,  -0.0891
  32PZ20020819,   CBL,    63,  1,     11,     11,2,20020907,1121, 78.8817,-157.0347, 3735,   1115.3,  -0.1570,  34.8949,2,  34.8938,2,    300.4,2,    300.1,2,     7.50,2,    13.30,2,     0.01,2,     0.95,2,    1.839,6,    0.865,6,    0.097,6,  -999.00,9,  -999.00,9,  -0.2065
  32PZ20020819,   CBL,    63,  1,     10,     10,2,20020907,1121, 78.8817,-157.0347, 3735,   1315.8,  -0.2605,  34.9096,2,  34.9093,2,    299.2,2,    299.2,2,     8.30,2,    13.60,2,     0.01,2,     0.97,2,    0.940,2,    0.444,2,    0.033,2,  -999.00,9,  -999.00,9,  -0.3201
  32PZ20020819,   CBL,    63,  1,      9,      9,2,20020907,1121, 78.8817,-157.0347, 3735,   1512.1,  -0.3339,  34.9242,2,  34.9237,2,    297.8,2,    297.3,2,     9.20,2,    14.00,2,     0.01,2,     1.00,2,    0.354,2,    0.166,2,    0.012,2,  -999.00,9,  -999.00,9,  -0.4042
  32PZ20020819,   CBL,    63,  1,      8,      8,2,20020907,1121, 78.8817,-157.0347, 3735,   1713.6,  -0.3948,  34.9345,2,  34.9341,2,    295.2,2,    294.9,2,    10.20,2,    14.40,2,     0.01,2,     1.02,2,    0.277,2,    0.130,2,    0.009,2,  -999.00,9,  -999.00,9,  -0.4766
  32PZ20020819,   CBL,    63,  1,      7,      7,2,20020907,1121, 78.8817,-157.0347, 3735,   2023.0,  -0.4128,  34.9474,2,  34.9467,2,    291.3,2,    290.1,2,    11.80,2,    14.70,2,     0.01,2,     1.06,2,    0.066,2,    0.037,2,    0.000,2,  -999.00,9,  -999.00,9,  -0.5146
  32PZ20020819,   CBL,    63,  1,      6,      6,2,20020907,1121, 78.8817,-157.0347, 3735,   2331.5,  -0.3981,  34.9537,2,  34.9542,2,    287.7,2,    288.0,2,    12.70,2,    15.00,2,     0.01,2,     1.07,2, -999.000,9, -999.000,9, -999.000,9,  -999.00,9,  -999.00,9,  -0.5218
  32PZ20020819,   CBL,    63,  1,      5,      5,2,20020907,1121, 78.8817,-157.0347, 3735,   2612.5,  -0.3676,  34.9575,2,  34.9563,2,    285.1,2,    284.7,2,    13.50,2,    15.00,2,     0.01,2,     1.07,2,    0.018,2,    0.003,2,    0.001,2,  -999.00,9,  -999.00,9,  -0.5130
  32PZ20020819,   CBL,    63,  1,      4,      4,2,20020907,1121, 78.8817,-157.0347, 3735,   2906.3,  -0.3429,  34.9576,2,  34.9573,2,    284.7,2,    284.4,2,    13.50,2,    15.10,2,     0.01,2,     1.07,2, -999.000,9, -999.000,9, -999.000,9,  -999.00,9,  -999.00,9,  -0.5123
  32PZ20020819,   CBL,    63,  1,      3,      3,2,20020907,1121, 78.8817,-157.0347, 3735,   3256.1,  -0.3122,  34.9575,2,  34.9583,2,    284.5,2,    284.9,2,    13.50,2,    15.10,2,     0.01,2,     1.07,2, -999.000,9, -999.000,9, -999.000,9,  -999.00,9,  -999.00,9,  -0.5120
  32PZ20020819,   CBL,    63,  1,      2,      2,2,20020907,1121, 78.8817,-157.0347, 3735,   3556.7,  -0.2843,  34.9576,2,  34.9569,2,    284.4,2,    284.6,2,    13.60,2,    15.00,2,     0.01,2,     1.07,2, -999.000,9, -999.000,9, -999.000,9,  -999.00,9,  -999.00,9,  -0.5118
  32PZ20020819,   CBL,    63,  1,      1,      1,2,20020907,1121, 78.8817,-157.0347, 3735,   3813.3,  -0.2591,  34.9573,2,  34.9575,2,    284.7,2,    284.7,2,    13.60,2,    15.00,2,     0.01,2,     1.07,2,    0.018,2,    0.018,2,    0.010,2,  -999.00,9,  -999.00,9,  -0.5115
  32PZ20020819,   CBL,    64,  1,     23,     23,2,20020907,1723, 78.7395,-156.5538, 3863,     13.5,  -1.6406,  30.5825,2,  31.0966,2,    376.1,2,    376.1,2,     7.40,2,     2.10,2,     0.03,2,     1.03,2,    7.408,2,    3.794,2,    0.671,2,  -999.00,9,  -999.00,9,  -1.6408
  32PZ20020819,   CBL,    64,  1,     22,     22,2,20020907,1723, 78.7395,-156.5538, 3863,     63.1,  -1.6148,  32.1296,2,  32.1352,2,    306.3,2,    305.5,2,    21.20,2,     9.50,2,     0.02,2,     1.51,2,    6.969,2,    3.644,2,    0.593,2,  -999.00,9,  -999.00,9,  -1.6159
  32PZ20020819,   CBL,    64,  1,     21,     21,2,20020907,1723, 78.7395,-156.5538, 3863,     78.1,  -1.6187,  32.3064,2,  32.3105,2,    297.2,2,   -999.0,9,    23.30,2,    10.20,2,     0.01,2,     1.59,2,    7.219,2,    3.738,2,    0.596,2,  -999.00,9,  -999.00,9,  -1.6201
  32PZ20020819,   CBL,    64,  1,     20,     20,2,20020907,1723, 78.7395,-156.5538, 3863,     93.0,  -1.5132,  32.5305,2,  32.6066,2,    285.6,2,   -999.0,9,    32.40,2,    14.50,2,     0.01,2,     1.86,2, -999.000,9, -999.000,9, -999.000,9,  -999.00,9,  -999.00,9,  -1.5150
  32PZ20020819,   CBL,    64,  1,     19,     19,2,20020907,1723, 78.7395,-156.5538, 3863,    107.7,  -1.4550,  32.9090,2,  32.9366,2,    257.5,2,   -999.0,9,    39.90,2,    17.30,2,     0.01,2,     2.07,2,    6.482,2,    3.351,2,    0.475,2,  -999.00,9,  -999.00,9,  -1.4572
  32PZ20020819,   CBL,    64,  1,     18,     18,2,20020907,1723, 78.7395,-156.5538, 3863,    122.6,  -1.4387,  33.3838,2,  33.4201,2,    243.9,2,    242.3,2,    39.20,2,    16.20,2,     0.01,2,     1.88,2,    6.478,2,    3.242,2,    0.455,2,  -999.00,9,  -999.00,9,  -1.4413
  32PZ20020819,   CBL,    64,  1,     17,     17,2,20020907,1723, 78.7395,-156.5538, 3863,    137.2,  -1.4149,  33.8201,2,  33.8600,2,    252.3,2,   -999.0,9,    20.40,2,    11.90,2,     0.01,2,     1.20,2, -999.000,9, -999.000,9, -999.000,9,  -999.00,9,  -999.00,9,  -1.4180
  32PZ20020819,   CBL,    64,  1,     16,     16,2,20020907,1723, 78.7395,-156.5538, 3863,    151.8,  -1.3806,  34.0734,2,  34.0857,2,    278.8,2,    295.7,2,    10.10,2,     9.90,2,     0.01,2,     0.87,2,    6.849,2,    3.267,2,    0.448,2,  -999.00,9,  -999.00,9,  -1.3842
  32PZ20020819,   CBL,    64,  1,     15,     15,2,20020907,1723, 78.7395,-156.5538, 3863,    181.2,  -0.8154,  34.3154,2,  34.3320,2,    298.0,2,   -999.0,9,     6.10,2,     9.80,2,     0.01,2,     0.77,2, -999.000,9, -999.000,9, -999.000,9,  -999.00,9,  -999.00,9,  -0.8207
  32PZ20020819,   CBL,    64,  1,     14,     14,2,20020907,1723, 78.7395,-156.5538, 3863,    211.1,  -0.1606,  34.4760,2,  34.4744,2,    297.6,2,    299.9,2,     6.10,2,    10.60,2,     0.01,2,     0.80,2,    6.262,2,    2.808,2,    0.365,2,  -999.00,9,  -999.00,9,  -0.1681
  32PZ20020819,   CBL,    64,  1,     13,     13,2,20020907,1723, 78.7395,-156.5538, 3863,    275.3,   0.8026,  34.7661,2,  34.7642,2,    298.3,2,   -999.0,9,  -999.00,9,  -999.00,9,  -999.00,9,  -999.00,9,    5.403,2,    2.432,2,    0.325,2,  -999.00,9,  -999.00,9,   0.7903
  32PZ20020819,   CBL,    64,  1,     12,     12,2,20020907,1723, 78.7395,-156.5538, 3863,    354.4,   1.0613,  34.8477,2,  34.8468,2,    302.6,2,    299.0,2,     6.10,2,    12.60,2,     0.01,2,     0.90,2,    5.081,2,    2.343,2,    0.296,2,  -999.00,9,  -999.00,9,   1.0444
  32PZ20020819,   CBL,    64,  1,     11,     11,2,20020907,1723, 78.7395,-156.5538, 3863,    432.9,   0.8503,  34.8592,2,  34.8583,2,    303.3,2,   -999.0,9,  -999.00,9,  -999.00,9,  -999.00,9,  -999.00,9,    4.972,2,    2.245,2,    0.270,2,  -999.00,9,  -999.00,9,   0.8301
  32PZ20020819,   CBL,    64,  1,     10,     10,2,20020907,1723, 78.7395,-156.5538, 3863,    521.4,   0.5783,  34.8537,2,  34.8552,2,    302.9,2,   -999.0,9,  -999.00,9,  -999.00,9,  -999.00,9,  -999.00,9,    3.745,2,    1.729,2,    0.189,2,  -999.00,9,  -999.00,9,   0.5548
  32PZ20020819,   CBL,    64,  1,      9,      9,2,20020907,1723, 78.7395,-156.5538, 3863,    604.4,   0.4424,  34.8628,2,  34.8626,2,    302.0,2,    302.4,2,     6.50,2,    12.60,2,     0.01,2,     0.90,2,    5.004,2,    2.262,2,    0.294,2,  -999.00,9,  -999.00,9,   0.4154
  32PZ20020819,   CBL,    64,  1,      8,      8,2,20020907,1723, 78.7395,-156.5538, 3863,    707.7,   0.2804,  34.8659,2,  34.8622,2,    305.6,2,    301.3,2,     6.60,2,    12.80,2,     0.01,2,     0.91,2,    3.780,6,    1.780,6,    0.207,6,  -999.00,9,  -999.00,9,   0.2491
  32PZ20020819,   CBL,    64,  1,      7,      7,2,20020907,1723, 78.7395,-156.5538, 3863,    839.3,   0.0712,  34.8695,2,  34.8705,2,    303.9,2,   -999.0,9,  -999.00,9,  -999.00,9,  -999.00,9,  -999.00,9,    4.059,2,    1.926,2,    0.244,2,  -999.00,9,  -999.00,9,   0.0345
  32PZ20020819,   CBL,    64,  1,      6,      6,2,20020907,1723, 78.7395,-156.5538, 3863,   1133.1,  -0.1842,  34.8914,2,  34.8926,2,    302.6,2,    302.1,2,  -999.00,9,  -999.00,9,  -999.00,9,  -999.00,9,    2.556,2,    1.206,2, -999.000,9,  -999.00,9,  -999.00,9,  -0.2344
  32PZ20020819,   CBL,    64,  1,      5,      5,2,20020907,1723, 78.7395,-156.5538, 3863,   1377.4,  -0.2824,  34.9115,2,  34.9125,2,    298.8,2,   -999.0,9,  -999.00,9,  -999.00,9,  -999.00,9,  -999.00,9,    0.982,6,    0.454,6,    0.030,6,  -999.00,9,  -999.00,9,  -0.3453
  32PZ20020819,   CBL,    64,  1,      4,      4,2,20020907,1723, 78.7395,-156.5538, 3863,   1869.9,  -0.4062,  34.9399,2,  34.9409,2,    292.2,2,    293.1,2,  -999.00,9,  -999.00,9,  -999.00,9,  -999.00,9,    0.146,2,    0.074,2,    0.000,2,  -999.00,9,  -999.00,9,  -0.4979
  32PZ20020819,   CBL,    64,  1,      3,      3,2,20020907,1723, 78.7395,-156.5538, 3863,   2164.8,  -0.4075,  34.9496,2,  34.9504,2,    288.7,2,   -999.0,9,  -999.00,9,  -999.00,9,  -999.00,9,  -999.00,9,    0.038,2,    0.021,2,    0.000,2,  -999.00,9,  -999.00,9,  -0.5191
  32PZ20020819,   CBL,    64,  1,      2,      2,2,20020907,1723, 78.7395,-156.5538, 3863,   2697.5,  -0.3621,  34.9567,2,  34.9574,2,    284.4,2,    285.3,2,  -999.00,9,  -999.00,9,  -999.00,9,  -999.00,9, -999.000,9, -999.000,9, -999.000,9,  -999.00,9,  -999.00,9,  -0.5143
  32PZ20020819,   CBL,    64,  1,      1,      1,2,20020907,1723, 78.7395,-156.5538, 3863,   3874.8,  -0.2530,  34.9572,2,  34.9590,2,    284.7,2,    284.4,2,  -999.00,9,  -999.00,9,  -999.00,9,  -999.00,9, -999.000,9, -999.000,9, -999.000,9,  -999.00,9,  -999.00,9,  -0.5115