BOTTLE,20220815CCHSIOAMB
EXPOCODE,SECT_ID,STNNBR,CASTNO,SAMPNO,BTLNBR,BTLNBR_FLAG_W,DATE,TIME,LATITUDE,LONGITUDE,DEPTH,CTDPRS,CTDTMP,CTDSAL,CTDSAL_FLAG_W,SALNTY,SALNTY_FLAG_W,CTDOXY,CTDOXY_FLAG_W,OXYGEN,OXYGEN_FLAG_W,SILCAT,SILCAT_FLAG_W,NITRAT,NITRAT_FLAG_W,NITRIT,NITRIT_FLAG_W,PHSPHT,PHSPHT_FLAG_W,CFC-11,CFC-11_FLAG_W,CFC-12,CFC-12_FLAG_W,CFC113,CFC113_FLAG_W,DELO18,DELO18_FLAG_W,BARIUM,BARIUM_FLAG_W,THETA
,,,,,,,,,,,METERS,DBAR,ITS-90,PSS-78,,PSS-78,,UMOL/KG,,UMOL/KG,,UMOL/KG,,UMOL/KG,,UMOL/KG,,UMOL/KG,,PMOL/KG,,PMOL/KG,,PMOL/KG,,/MILLE,,NMOL/KG,,DEG C
  32PZ20020819,   CBL,    73,  1,     32,     32,2,20020909,1253, 78.0553,-153.6157, 1746,      9.6,  -1.5132,  28.6987,2,  28.9020,2,    379.6,2,    383.1,2,     3.00,2,     0.10,2,     0.00,2,     0.70,2,    7.589,2,    3.744,2,    0.704,2,    -2.60,2,    61.00,2,  -1.5133
  32PZ20020819,   CBL,    73,  1,     31,     31,2,20020909,1253, 78.0553,-153.6157, 1746,     25.6,  -1.1425,  31.0626,2,  31.1281,2,    393.7,2,    386.8,2,     5.20,2,     1.10,2,     0.16,2,     0.95,2,    7.397,2,    3.667,2,    0.681,2,    -2.10,2,    59.80,2,  -1.1430
  32PZ20020819,   CBL,    73,  1,     30,     30,2,20020909,1253, 78.0553,-153.6157, 1746,     52.9,  -1.2783,  32.1880,2,  32.1846,2,    328.0,2,    314.3,2,    19.20,2,     9.40,2,     0.02,2,     1.47,2,    6.662,2,    3.291,2,    0.515,2,    -1.62,2,    65.70,2,  -1.2793
  32PZ20020819,   CBL,    73,  1,     29,     29,2,20020909,1253, 78.0553,-153.6157, 1746,     65.0,  -1.2946,  32.4626,2,  32.4406,2,    305.1,2,    294.0,2,    26.20,2,    12.40,2,     0.01,2,     1.69,2, -999.000,9, -999.000,9, -999.000,9,    -1.54,2,    67.60,2,  -1.2959
  32PZ20020819,   CBL,    73,  1,     28,     28,2,20020909,1253, 78.0553,-153.6157, 1746,     75.5,  -1.1563,  32.6313,2,  32.6083,2,    292.0,2,    280.1,2,    30.50,2,    13.90,2,     0.01,2,     1.82,2,    6.265,2,    3.112,2,    0.457,2,    -1.54,2,    69.20,2,  -1.1580
  32PZ20020819,   CBL,    73,  1,     27,     27,2,20020909,1253, 78.0553,-153.6157, 1746,     84.9,  -1.1300,  32.7392,2,  32.7385,2,    283.8,2,    269.8,2,    34.40,2,    15.10,2,     0.01,2,     1.99,2,    6.323,2,    3.193,2,    0.491,2,    -1.26,2,    70.60,2,  -1.1319
  32PZ20020819,   CBL,    73,  1,     26,     26,2,20020909,1253, 78.0553,-153.6157, 1746,     95.0,  -1.4648,  32.8141,2,  32.8073,2,    274.2,2,    277.7,2,    34.70,2,    15.20,2,     0.01,2,     1.92,2, -999.000,9, -999.000,9, -999.000,9,    -1.30,2,    69.30,2,  -1.4667
  32PZ20020819,   CBL,    73,  1,     25,     25,2,20020909,1253, 78.0553,-153.6157, 1746,    106.1,  -1.5541,  32.9543,2,  32.9394,2,    272.0,2,    279.6,2,    35.50,2,    15.10,2,     0.01,2,     1.89,2,    5.949,2,    2.938,2,    0.413,2,    -1.52,2,    74.10,2,  -1.5562
  32PZ20020819,   CBL,    73,  1,     24,     24,2,20020909,1253, 78.0553,-153.6157, 1746,    117.1,  -1.5465,  33.0911,2,  33.0833,2,    269.9,2,    271.2,2,    37.80,2,    16.20,2,     0.01,2,     1.97,2,    5.967,2,    2.966,2,    0.414,2,    -1.37,2,    71.30,2,  -1.5488
  32PZ20020819,   CBL,    73,  1,     23,     23,2,20020909,1253, 78.0553,-153.6157, 1746,    130.3,  -1.5313,  33.3094,2,  33.3068,2,    265.3,2,    265.8,2,    40.40,2,    16.60,2,     0.01,2,     1.98,2,    5.797,2,    2.882,2,    0.404,2,    -1.30,2,    67.50,2,  -1.5340
  32PZ20020819,   CBL,    73,  1,     22,     22,2,20020909,1253, 78.0553,-153.6157, 1746,    150.7,  -1.2867,  33.7473,2,  33.7358,2,    254.3,2,    250.3,2,    35.10,2,    15.80,2,     0.00,2,     1.73,2,    6.331,2,    2.908,2,    0.408,2,    -0.90,2,    59.30,2,  -1.2903
  32PZ20020819,   CBL,    73,  1,     19,     19,2,20020909,1253, 78.0553,-153.6157, 1746,    175.7,  -1.1099,  34.2054,2,  34.2076,2,    279.5,2,    285.0,2,    12.60,2,    11.30,2,     0.00,2,     0.95,2,    6.325,2,    2.900,2,    0.399,2,    -0.18,2,    45.60,2,  -1.1145
  32PZ20020819,   CBL,    73,  1,     20,     20,2,20020909,1253, 78.0553,-153.6157, 1746,    175.9,  -1.1087,  34.2067,2,  34.2278,2,    279.4,2,   -999.0,9,  -999.00,9,  -999.00,9,  -999.00,9,  -999.00,9, -999.000,9, -999.000,9, -999.000,9,  -999.00,9,  -999.00,9,  -1.1134
  32PZ20020819,   CBL,    73,  1,     21,     21,2,20020909,1253, 78.0553,-153.6157, 1746,    176.1,  -1.0997,  34.2149,2,  34.2051,2,    279.4,2,   -999.0,9,  -999.00,9,  -999.00,9,  -999.00,9,  -999.00,9, -999.000,9, -999.000,9, -999.000,9,  -999.00,9,  -999.00,9,  -1.1044
  32PZ20020819,   CBL,    73,  1,     18,     18,2,20020909,1253, 78.0553,-153.6157, 1746,    201.1,  -0.4592,  34.4192,2,  34.4175,2,    294.5,2,    294.0,2,  -999.00,9,  -999.00,9,  -999.00,9,  -999.00,9,    5.715,2,    2.740,2,    0.366,2,    -0.07,2,    54.20,2,  -0.4658
  32PZ20020819,   CBL,    73,  1,     17,     17,2,20020909,1253, 78.0553,-153.6157, 1746,    241.1,   0.3124,  34.6161,2,  34.6157,2,    292.0,2,    291.9,2,     7.80,2,    11.80,2,     0.00,2,     0.84,2,    5.894,6,    2.718,6,    0.385,6,     0.16,2,    42.50,2,   0.3028
  32PZ20020819,   CBL,    73,  1,     16,     16,2,20020909,1253, 78.0553,-153.6157, 1746,    291.1,   0.8487,  34.7621,2,  34.7619,2,    294.9,2,    295.5,2,     6.70,2,    12.40,2,     0.00,2,     0.85,2,    5.602,2,    2.569,2,    0.361,2,     0.26,2,    44.80,2,   0.8356
  32PZ20020819,   CBL,    73,  1,     15,     15,2,20020909,1253, 78.0553,-153.6157, 1746,    335.0,   1.0518,  34.8209,2,  34.8171,2,    296.4,2,    296.1,2,     6.50,2,    12.60,2,     0.00,2,     0.86,2,    5.447,2,    2.500,2,    0.355,2,     0.33,2,    42.20,2,   1.0360
  32PZ20020819,   CBL,    73,  1,     12,     12,2,20020909,1253, 78.0553,-153.6157, 1746,    386.0,   1.1096,  34.8462,2,  34.8442,2,    297.9,2,    298.6,2,     6.40,2,    12.70,2,     0.00,2,     0.86,2,    5.340,2,    2.449,2,    0.343,2,     0.23,2,    44.20,2,   1.0910
  32PZ20020819,   CBL,    73,  1,     13,     13,2,20020909,1253, 78.0553,-153.6157, 1746,    386.6,   1.1099,  34.8464,2,  34.8470,2,    297.9,2,   -999.0,9,  -999.00,9,  -999.00,9,  -999.00,9,  -999.00,9, -999.000,9, -999.000,9, -999.000,9,     0.00,2,  -999.00,9,   1.0912
  32PZ20020819,   CBL,    73,  1,     14,     14,2,20020909,1253, 78.0553,-153.6157, 1746,    387.3,   1.1101,  34.8464,2,  34.8450,2,    298.0,2,   -999.0,9,  -999.00,9,  -999.00,9,  -999.00,9,  -999.00,9, -999.000,9, -999.000,9, -999.000,9,     0.00,2,  -999.00,9,   1.0914
  32PZ20020819,   CBL,    73,  1,     11,     11,2,20020909,1253, 78.0553,-153.6157, 1746,    467.8,   0.9266,  34.8599,2,  34.8599,2,    299.7,2,    300.4,2,     6.40,2,    12.70,2,     0.00,2,     0.86,2,    5.170,2,    2.386,2,    0.320,2,     0.37,2,    50.10,2,   0.9044
  32PZ20020819,   CBL,    73,  1,     10,     10,2,20020909,1253, 78.0553,-153.6157, 1746,    572.0,   0.5884,  34.8569,2,  34.8568,2,    299.8,2,    300.3,2,     6.70,2,    12.80,2,     0.00,2,     0.87,2,    4.618,2,    2.103,2,    0.264,2,     0.21,2,    44.80,2,   0.5623
  32PZ20020819,   CBL,    73,  1,      7,      7,2,20020909,1253, 78.0553,-153.6157, 1746,    682.7,   0.3904,  34.8621,2,  34.8642,2,    301.1,2,    300.7,2,     6.80,2,    12.90,2,     0.00,2,     0.88,2,    4.233,2,    1.943,2,    0.230,2,     0.23,2,    44.50,2,   0.3597
  32PZ20020819,   CBL,    73,  1,      8,      8,2,20020909,1253, 78.0553,-153.6157, 1746,    683.2,   0.3895,  34.8620,2,  34.8617,2,    301.1,2,   -999.0,9,  -999.00,9,  -999.00,9,  -999.00,9,  -999.00,9, -999.000,9, -999.000,9, -999.000,9,  -999.00,9,  -999.00,9,   0.3588
  32PZ20020819,   CBL,    73,  1,      9,      9,2,20020909,1253, 78.0553,-153.6157, 1746,    683.8,   0.3879,  34.8621,2,  34.8619,2,    301.1,2,   -999.0,9,  -999.00,9,  -999.00,9,  -999.00,9,  -999.00,9, -999.000,9, -999.000,9, -999.000,9,  -999.00,9,  -999.00,9,   0.3572
  32PZ20020819,   CBL,    73,  1,      6,      6,2,20020909,1253, 78.0553,-153.6157, 1746,    773.6,   0.2156,  34.8647,2,  34.8646,2,    302.6,2,    303.0,2,     6.80,2,    12.90,2,     0.00,2,     0.90,2,    4.116,2,    1.883,2,    0.228,2,     0.34,2,    42.00,2,   0.1813
  32PZ20020819,   CBL,    73,  1,      5,      5,2,20020909,1253, 78.0553,-153.6157, 1746,   1030.7,  -0.0704,  34.8806,2,  34.8809,2,    302.1,2,    301.3,2,     7.40,2,    13.10,2,     0.00,2,     0.90,2,    3.169,2,    1.464,2,    0.151,2,     0.19,2,    42.50,2,  -0.1161
  32PZ20020819,   CBL,    73,  1,      4,      4,2,20020909,1253, 78.0553,-153.6157, 1746,   1239.4,  -0.2273,  34.8964,2,  34.8973,2,    300.8,2,    300.5,2,     8.10,2,    13.50,2,     0.00,2,     0.93,2,    2.289,2,    1.066,2,    0.103,2,     0.41,2,    43.90,2,  -0.2829
  32PZ20020819,   CBL,    73,  1,      3,      3,2,20020909,1253, 78.0553,-153.6157, 1746,   1449.3,  -0.3244,  34.9132,2,  34.9130,2,    298.8,2,    297.7,2,  -999.00,9,  -999.00,9,  -999.00,9,  -999.00,9,    1.324,6,    0.635,6,    0.054,6,     0.22,2,    45.40,2,  -0.3910
  32PZ20020819,   CBL,    73,  1,      2,      2,2,20020909,1253, 78.0553,-153.6157, 1746,   1599.7,  -0.3923,  34.9255,2,  34.9273,2,    295.5,2,    295.9,2,    10.30,2,    14.30,2,     0.00,2,     0.99,2,    0.886,2,    0.415,2,    0.027,2,     0.20,2,    44.50,2,  -0.4671
  32PZ20020819,   CBL,    73,  1,      1,      1,2,20020909,1253, 78.0553,-153.6157, 1746,   1713.7,  -0.4051,  34.9332,2,  34.9326,2,    292.8,2,    292.9,2,    11.20,2,    14.50,2,     0.00,2,     1.00,2,    0.632,2,    0.301,2,    0.021,2,     0.21,2,    47.00,2,  -0.4868
  32PZ20020819,   CBL,    74,  1,     26,     26,2,20020909,1859, 77.7958,-153.0103, 2232,     12.4,  -1.4834,  28.8631,2,  29.2383,2,    386.0,2,    387.4,2,     2.50,2,     0.10,2,     0.00,2,     0.73,2,    7.640,2,    3.814,2,    0.712,2,    -2.67,2,    60.50,2,  -1.4835
  32PZ20020819,   CBL,    74,  1,     25,     25,2,20020909,1859, 77.7958,-153.0103, 2232,     22.4,  -1.3675,  29.9029,2,  30.1767,2,    387.1,2,    392.8,2,     2.60,2,     0.20,2,     0.03,2,     0.81,2,    7.544,2,    3.801,2,    0.696,2,    -2.34,2,    60.40,2,  -1.3678
  32PZ20020819,   CBL,    74,  1,     24,     24,2,20020909,1859, 77.7958,-153.0103, 2232,     41.9,  -0.9587,  31.8989,2,  31.9712,2,    359.1,2,    330.9,2,    16.10,2,     7.30,2,     0.03,2,     1.33,2, -999.000,9, -999.000,9, -999.000,9,    -1.89,2,    65.60,2,  -0.9596
  32PZ20020819,   CBL,    74,  1,     23,     23,2,20020909,1859, 77.7958,-153.0103, 2232,     66.4,  -1.3477,  32.4559,2,  32.4691,2,    307.8,2,    293.5,2,    26.50,2,    12.60,2,     0.01,2,     1.70,2,    6.266,2,    3.133,2,    0.468,2,    -1.70,2,    68.20,2,  -1.3490
  32PZ20020819,   CBL,    74,  1,     22,     22,2,20020909,1859, 77.7958,-153.0103, 2232,     82.9,  -1.3832,  32.7024,2,  32.7324,2,    288.9,2,    273.8,2,    33.90,2,    15.10,2,     0.01,2,     1.91,2, -999.000,9, -999.000,9, -999.000,9,    -1.36,2,    69.00,2,  -1.3849
  32PZ20020819,   CBL,    74,  1,     21,     21,2,20020909,1859, 77.7958,-153.0103, 2232,     95.7,  -1.4898,  32.8513,2,  32.8536,2,    276.1,2,    273.2,2,    35.50,2,    15.40,2,     0.01,2,     1.93,2,    5.862,2,    3.008,2,    0.427,2,  -999.00,9,  -999.00,9,  -1.4917
  32PZ20020819,   CBL,    74,  1,     20,     20,2,20020909,1859, 77.7958,-153.0103, 2232,    111.0,  -1.5603,  33.0173,2,  33.0509,2,    270.8,2,    275.4,2,    36.30,2,    15.50,2,     0.01,2,     1.92,2,    5.656,2,    2.937,2,    0.420,2,    -1.46,2,    70.40,2,  -1.5625
  32PZ20020819,   CBL,    74,  1,     19,     19,2,20020909,1859, 77.7958,-153.0103, 2232,    125.7,  -1.5454,  33.2837,2,  33.3171,2,    274.0,2,    259.6,2,    41.30,2,    16.90,2,     0.00,2,     2.01,2,    5.754,2,    3.005,2,    0.433,2,  -999.00,9,  -999.00,9,  -1.5480
  32PZ20020819,   CBL,    74,  1,     18,     18,2,20020909,1859, 77.7958,-153.0103, 2232,    140.7,  -1.3126,  33.6801,2,  33.7393,2,    246.9,2,    248.8,2,    35.90,2,    15.90,2,     0.01,2,     1.75,2,    5.549,2,    2.741,2,    0.401,2,    -0.92,2,    61.70,2,  -1.3159
  32PZ20020819,   CBL,    74,  1,     17,     17,2,20020909,1859, 77.7958,-153.0103, 2232,    155.2,  -1.3077,  33.9801,2,  33.9965,2,    262.7,2,    275.4,2,    19.00,2,    12.00,2,     0.00,2,     1.14,2, -999.000,9, -999.000,9, -999.000,9,  -999.00,9,  -999.00,9,  -1.3114
  32PZ20020819,   CBL,    74,  1,     16,     16,2,20020909,1859, 77.7958,-153.0103, 2232,    170.3,  -1.1831,  34.2067,2,  34.2147,2,    290.3,2,    296.4,2,     9.20,2,    10.20,2,     0.00,2,     0.82,2,    6.485,2,    3.120,2,    0.457,2,    -0.12,2,    44.60,2,  -1.1875
  32PZ20020819,   CBL,    74,  1,     15,     15,2,20020909,1859, 77.7958,-153.0103, 2232,    187.1,  -0.8547,  34.3250,2,  34.3435,2,    299.8,2,    296.7,2,     7.80,2,    10.40,2,     0.00,2,     0.80,2,    6.453,2,    3.062,2,    0.445,2,  -999.00,9,  -999.00,9,  -0.8601
  32PZ20020819,   CBL,    74,  1,     14,     14,2,20020909,1859, 77.7958,-153.0103, 2232,    219.9,  -0.2071,  34.4962,2,  34.5053,2,    296.9,2,    294.8,2,     7.60,2,    11.10,2,     0.00,2,     0.82,2,    6.130,2,    2.957,2,    0.421,2,  -999.00,9,  -999.00,9,  -0.2148
  32PZ20020819,   CBL,    74,  1,     13,     13,2,20020909,1859, 77.7958,-153.0103, 2232,    259.0,   0.5561,  34.6903,2,  34.7007,2,    295.1,2,    294.0,2,     7.20,2,    12.00,2,     0.00,2,     0.85,2,    5.800,2,    2.769,2,    0.402,2,  -999.00,9,  -999.00,9,   0.5451
  32PZ20020819,   CBL,    74,  1,     12,     12,2,20020909,1859, 77.7958,-153.0103, 2232,    323.6,   0.9980,  34.8079,2,  34.8082,2,    297.0,2,    297.1,2,     6.50,2,    12.50,2,     0.00,2,     0.85,2,    5.392,2,    2.615,2,    0.383,2,  -999.00,9,  -999.00,9,   0.9829
  32PZ20020819,   CBL,    74,  1,     11,     11,2,20020909,1859, 77.7958,-153.0103, 2232,    387.9,   1.1509,  34.8473,2,  34.8474,2,    298.1,2,    298.9,2,     6.50,2,    12.60,2,     0.00,2,     0.86,2,    5.370,2,    2.591,2,    0.376,2,     0.23,2,    43.10,2,   1.1320
  32PZ20020819,   CBL,    74,  1,     10,     10,2,20020909,1859, 77.7958,-153.0103, 2232,    481.9,   0.9153,  34.8610,2,  34.8613,2,    299.8,2,    300.6,2,     6.60,2,    12.70,2,     0.00,2,     0.87,2,    5.226,2,    2.504,2,    0.362,2,  -999.00,9,  -999.00,9,   0.8924
  32PZ20020819,   CBL,    74,  1,      9,      9,2,20020909,1859, 77.7958,-153.0103, 2232,    566.3,   0.6730,  34.8607,2,  34.8611,2,    301.3,2,    301.8,2,  -999.00,9,  -999.00,9,  -999.00,9,  -999.00,9,    5.065,2,    2.391,2,    0.332,2,  -999.00,9,  -999.00,9,   0.6468
  32PZ20020819,   CBL,    74,  1,      8,      8,2,20020909,1859, 77.7958,-153.0103, 2232,    655.2,   0.4560,  34.8622,2,  34.8613,2,    302.1,2,    301.8,2,     6.70,2,    12.70,2,     0.00,2,     0.87,2,    4.809,2,    2.268,2,    0.312,2,  -999.00,9,  -999.00,9,   0.4263
  32PZ20020819,   CBL,    74,  1,      7,      7,2,20020909,1859, 77.7958,-153.0103, 2232,    784.0,   0.2137,  34.8665,2,  34.8666,2,    303.7,2,    302.2,2,     6.80,2,    12.80,2,     0.00,2,     0.88,2,    3.992,2,    1.888,2,    0.248,2,     0.27,2,    45.40,2,   0.1789
  32PZ20020819,   CBL,    74,  1,      6,      6,2,20020909,1859, 77.7958,-153.0103, 2232,    992.1,  -0.0611,  34.8790,2,  34.8790,2,    303.4,2,    302.7,2,     7.10,2,    13.00,2,     0.00,2,     0.90,2,    3.375,2,    1.575,2,    0.208,2,  -999.00,9,  -999.00,9,  -0.1048
  32PZ20020819,   CBL,    74,  1,      5,      5,2,20020909,1859, 77.7958,-153.0103, 2232,   1240.7,  -0.2376,  34.8996,2,  34.9008,2,    301.1,2,    300.0,2,  -999.00,9,  -999.00,9,  -999.00,9,  -999.00,9,    2.078,6,    0.976,6,    0.098,6,  -999.00,9,  -999.00,9,  -0.2932
  32PZ20020819,   CBL,    74,  1,      4,      4,2,20020909,1859, 77.7958,-153.0103, 2232,   1489.2,  -0.3413,  34.9181,2,  34.9176,2,    297.5,2,    296.8,2,     9.80,2,    14.00,2,     0.00,2,     0.97,2,    1.194,2,    0.562,2,    0.062,2,  -999.00,9,  -999.00,9,  -0.4101
  32PZ20020819,   CBL,    74,  1,      3,      3,2,20020909,1859, 77.7958,-153.0103, 2232,   1807.5,  -0.4107,  34.9373,2,  34.9374,2,    292.0,2,    291.8,2,    11.60,2,    14.70,2,     0.00,2,     1.03,2,    0.471,2,    0.228,2,    0.029,2,  -999.00,9,  -999.00,9,  -0.4983
  32PZ20020819,   CBL,    74,  1,      2,      2,2,20020909,1859, 77.7958,-153.0103, 2232,   2011.0,  -0.4049,  34.9419,2,  34.9420,2,    289.6,2,    290.2,2,    12.20,2,    14.80,2,     0.00,2,     1.03,2,    0.318,2,    0.151,2,    0.026,2,  -999.00,9,  -999.00,9,  -0.5060
  32PZ20020819,   CBL,    74,  1,      1,      1,2,20020909,1859, 77.7958,-153.0103, 2232,   2214.5,  -0.3914,  34.9425,2,  34.9423,2,    289.6,2,    289.7,2,    12.20,2,    14.80,2,     0.00,2,     1.03,2,    0.307,2,    0.146,2,    0.013,2,  -999.00,9,  -999.00,9,  -0.5068