BOTTLE,20220815CCHSIOAMB
EXPOCODE,SECT_ID,STNNBR,CASTNO,SAMPNO,BTLNBR,BTLNBR_FLAG_W,DATE,TIME,LATITUDE,LONGITUDE,DEPTH,CTDPRS,CTDTMP,CTDSAL,CTDSAL_FLAG_W,SALNTY,SALNTY_FLAG_W,CTDOXY,CTDOXY_FLAG_W,OXYGEN,OXYGEN_FLAG_W,SILCAT,SILCAT_FLAG_W,NITRAT,NITRAT_FLAG_W,NITRIT,NITRIT_FLAG_W,PHSPHT,PHSPHT_FLAG_W,CFC-11,CFC-11_FLAG_W,CFC-12,CFC-12_FLAG_W,CFC113,CFC113_FLAG_W,DELO18,DELO18_FLAG_W,BARIUM,BARIUM_FLAG_W,THETA
,,,,,,,,,,,METERS,DBAR,ITS-90,PSS-78,,PSS-78,,UMOL/KG,,UMOL/KG,,UMOL/KG,,UMOL/KG,,UMOL/KG,,UMOL/KG,,PMOL/KG,,PMOL/KG,,PMOL/KG,,/MILLE,,NMOL/KG,,DEG C
  32PZ20020819,   CBL,   121,  1,     13,     13,2,20020920,1103, 75.2212,-166.6993,  335,      9.8,  -0.8942,  27.5459,2,  27.5526,2,    373.6,2,    375.7,2,     3.60,2,     0.10,2,     0.00,2,     0.68,2,    7.276,2,    3.810,2,    0.728,2,    -3.38,2,    65.50,2,  -0.8943
  32PZ20020819,   CBL,   121,  1,     12,     12,2,20020920,1103, 75.2212,-166.6993,  335,     34.6,  -0.5162,  31.3227,2,-999.0000,9,    404.6,2,    403.3,2,     5.10,2,     0.20,2,     0.03,2,     0.89,2, -999.000,9, -999.000,9, -999.000,9,    -2.62,2,    69.40,2,  -0.5171
  32PZ20020819,   CBL,   121,  1,     11,     11,2,20020920,1103, 75.2212,-166.6993,  335,     51.7,  -1.0338,  31.9202,2,  31.9228,2,    359.6,2,    337.1,2,    15.70,2,     6.30,2,     0.12,2,     1.31,2, -999.000,9, -999.000,9, -999.000,9,    -2.13,2,    73.50,2,  -1.0349
  32PZ20020819,   CBL,   121,  1,     10,     10,2,20020920,1103, 75.2212,-166.6993,  335,     70.9,  -1.4227,  32.2605,2,  32.2552,2,    315.7,2,    305.0,2,    26.50,2,    10.30,2,     0.01,2,     1.60,2,    6.321,2,    3.245,2,    0.554,2,    -1.82,2,    69.50,2,  -1.4240
  32PZ20020819,   CBL,   121,  1,      9,      9,2,20020920,1103, 75.2212,-166.6993,  335,     87.8,  -1.4401,  32.4635,2,  32.4611,2,    301.2,2,    293.7,2,    32.50,2,    12.50,2,     0.01,2,     1.75,2, -999.000,9, -999.000,9, -999.000,9,  -999.00,9,  -999.00,9,  -1.4418
  32PZ20020819,   CBL,   121,  1,      8,      8,2,20020920,1103, 75.2212,-166.6993,  335,    105.8,  -1.4736,  32.6836,2,  32.6851,2,    294.2,2,    294.3,2,    33.20,2,    13.50,2,     0.01,2,     1.80,2,    6.081,2,    3.092,2,    0.482,2,    -1.60,2,    68.70,2,  -1.4757
  32PZ20020819,   CBL,   121,  1,      7,      7,2,20020920,1103, 75.2212,-166.6993,  335,    125.7,  -1.5604,  32.9327,2,  32.9350,2,    292.8,2,    292.6,2,    34.10,2,    14.30,2,     0.01,2,     1.82,2,    5.856,6,    2.900,6,    0.444,6,    -1.56,2,    69.20,2,  -1.5629
  32PZ20020819,   CBL,   121,  1,      6,      6,2,20020920,1103, 75.2212,-166.6993,  335,    145.0,  -1.4705,  33.3162,2,  33.3360,2,    290.3,2,    286.8,2,    33.90,2,    14.80,2,     0.01,2,     1.78,2, -999.000,9, -999.000,9, -999.000,9,  -999.00,9,  -999.00,9,  -1.4736
  32PZ20020819,   CBL,   121,  1,      5,      5,2,20020920,1103, 75.2212,-166.6993,  335,    169.9,  -0.9181,  33.9379,2,  33.9154,2,    271.8,2,    257.0,2,    32.10,2,    15.10,2,     0.01,2,     1.63,2,    5.037,2,    2.488,2,    0.327,2,  -999.00,9,  -999.00,9,  -0.9228
  32PZ20020819,   CBL,   121,  1,      4,      4,2,20020920,1103, 75.2212,-166.6993,  335,    194.9,  -0.5498,  34.3285,2,  34.3288,2,    257.4,2,    257.3,2,    22.70,2,    13.90,2,     0.01,2,     1.29,2,    4.913,2,    2.322,2,    0.295,2,    -0.29,2,    50.10,2,  -0.5560
  32PZ20020819,   CBL,   121,  1,      3,      3,2,20020920,1103, 75.2212,-166.6993,  335,    230.9,   0.1958,  34.5945,2,  34.5924,2,    258.4,2,    250.1,2,    21.90,2,    14.20,2,     0.01,2,     1.19,2,    5.123,6,    2.386,6,    0.306,6,    -0.06,2,    47.50,2,   0.1868
  32PZ20020819,   CBL,   121,  1,      2,      2,2,20020920,1103, 75.2212,-166.6993,  335,    287.8,   0.9768,  34.8327,2,  34.8320,2,    286.4,2,    286.3,2,    10.10,2,    13.20,2,     0.01,2,     0.94,2,    5.072,2,    2.383,2,    0.340,2,  -999.00,9,  -999.00,9,   0.9635
  32PZ20020819,   CBL,   121,  1,      1,      1,2,20020920,1103, 75.2212,-166.6993,  335,    327.5,   0.8343,  34.8459,2,  34.8456,2,    291.3,2,    291.8,2,     8.80,2,    13.00,2,     0.01,2,     0.92,2,    5.002,2,    2.367,2,    0.340,2,     0.32,2,    43.20,2,   0.8194
  32PZ20020819,   CBL,   122,  1,     11,     11,2,20020920,1318, 75.1670,-168.0025,  163,     10.2,  -0.9556,  27.6036,2,  27.6361,2,    373.7,2,    375.6,2,     3.60,2,     0.20,2,     0.00,2,     0.68,2,    7.621,2,    3.844,2,    0.734,2,    -3.34,2,    70.00,2,  -0.9557
  32PZ20020819,   CBL,   122,  1,     10,     10,2,20020920,1318, 75.1670,-168.0025,  163,     23.2,  -0.9520,  29.9851,2,  30.0537,2,    387.7,2,    398.7,2,     4.90,2,     0.10,2,     0.00,2,     0.78,2,    7.405,2,    3.678,2,    0.662,2,    -3.06,2,    71.60,2,  -0.9524
  32PZ20020819,   CBL,   122,  1,      9,      9,2,20020920,1318, 75.1670,-168.0025,  163,     33.1,  -0.9765,  30.9162,2,  31.0069,2,    400.4,2,    399.9,2,     5.50,2,     0.30,2,     0.04,2,     0.86,2,    7.205,2,    3.548,2,    0.617,2,    -2.61,2,    72.20,2,  -0.9772
  32PZ20020819,   CBL,   122,  1,      8,      8,2,20020920,1318, 75.1670,-168.0025,  163,     48.3,  -1.0638,  31.6907,2,  31.7300,2,    388.0,2,    365.8,2,     8.60,2,     3.40,2,     0.25,2,     1.14,2,    6.924,2,    3.411,2,    0.579,2,    -2.37,2,    66.80,2,  -1.0648
  32PZ20020819,   CBL,   122,  1,      7,      7,2,20020920,1318, 75.1670,-168.0025,  163,     63.7,  -1.3045,  32.1357,2,  32.1679,2,    332.4,2,    322.8,2,    20.40,2,     8.50,2,     0.02,2,     1.44,2, -999.000,9, -999.000,9, -999.000,9,  -999.00,9,  -999.00,9,  -1.3058
  32PZ20020819,   CBL,   122,  1,      6,      6,2,20020920,1318, 75.1670,-168.0025,  163,     78.2,  -1.4172,  32.3207,2,  32.3735,2,    312.8,2,    304.7,2,    27.70,2,    11.20,2,     0.01,2,     1.64,2,    6.457,2,    3.214,2,    0.519,2,    -1.63,2,    71.70,2,  -1.4187
  32PZ20020819,   CBL,   122,  1,      5,      5,2,20020920,1318, 75.1670,-168.0025,  163,     93.1,  -1.5005,  32.4925,2,  32.5376,2,    298.4,2,    294.8,2,    32.60,2,    13.00,2,     0.01,2,     1.77,2, -999.000,9, -999.000,9, -999.000,9,  -999.00,9,  -999.00,9,  -1.5023
  32PZ20020819,   CBL,   122,  1,      4,      4,2,20020920,1318, 75.1670,-168.0025,  163,    107.8,  -1.5056,  32.7362,2,  32.7666,2,    292.6,2,    292.4,2,    33.10,2,    13.90,2,     0.01,2,     1.81,2,    6.106,2,    3.014,2,    0.470,2,    -1.46,2,    70.70,2,  -1.5077
  32PZ20020819,   CBL,   122,  1,      3,      3,2,20020920,1318, 75.1670,-168.0025,  163,    122.8,  -1.5720,  32.9142,2,  32.9425,2,    290.9,2,    291.6,2,    34.80,2,    14.60,2,     0.01,2,     1.83,2, -999.000,9, -999.000,9, -999.000,9,  -999.00,9,  -999.00,9,  -1.5744
  32PZ20020819,   CBL,   122,  1,      2,      2,2,20020920,1318, 75.1670,-168.0025,  163,    137.7,  -1.5363,  33.1754,2,  33.2023,2,    288.4,2,    288.6,2,    34.60,2,    14.70,2,     0.01,2,     1.81,2,    5.852,2,    2.898,2,    0.437,2,    -1.52,2,    69.50,2,  -1.5391
  32PZ20020819,   CBL,   122,  1,      1,      1,2,20020920,1318, 75.1670,-168.0025,  163,    152.6,  -1.3010,  33.5343,2,  33.5154,2,    276.5,2,    276.6,2,    34.10,2,    15.00,2,     0.02,2,     1.77,2,    5.582,6,    2.748,6,    0.409,6,    -0.98,2,    66.40,2,  -1.3045
  32PZ20020819,   CBL,   123,  1,     31,     31,2,20020920,1530, 75.3390,-169.1213,  264,      9.7,  -0.9755,  27.5987,2,  27.6188,2,    374.0,2,    376.6,2,     3.40,2,     0.10,2,     0.00,2,     0.68,2,    7.652,2,    3.884,2,    0.709,2,    -3.29,2,    69.60,2,  -0.9756
  32PZ20020819,   CBL,   123,  1,     29,     29,2,20020920,1530, 75.3390,-169.1213,  264,     23.3,  -0.7634,  30.3811,2,  30.3500,2,    404.1,2,    410.5,2,     4.00,2,     0.10,2,     0.00,2,     0.78,2, -999.000,9, -999.000,9, -999.000,9,    -3.22,2,    68.50,2,  -0.7639
  32PZ20020819,   CBL,   123,  1,     30,     30,2,20020920,1530, 75.3390,-169.1213,  264,     23.3,  -0.7638,  30.3830,2,-999.0000,9,    403.2,2,   -999.0,9,  -999.00,9,  -999.00,9,  -999.00,9,  -999.00,9, -999.000,9, -999.000,9, -999.000,9,  -999.00,9,  -999.00,9,  -0.7643
  32PZ20020819,   CBL,   123,  1,     27,     27,2,20020920,1530, 75.3390,-169.1213,  264,     38.4,  -0.9037,  31.4465,2,  31.4340,2,    412.5,2,    404.8,2,     4.80,2,     0.20,2,     0.02,2,     0.90,2,    7.063,2,    3.497,2,    0.552,2,    -2.57,2,    65.30,2,  -0.9045
  32PZ20020819,   CBL,   123,  1,     28,     28,2,20020920,1530, 75.3390,-169.1213,  264,     38.5,  -0.8978,  31.4529,2,-999.0000,9,    412.1,2,   -999.0,9,  -999.00,9,  -999.00,9,  -999.00,9,  -999.00,9, -999.000,9, -999.000,9, -999.000,9,  -999.00,9,  -999.00,9,  -0.8986
  32PZ20020819,   CBL,   123,  1,     25,     25,2,20020920,1530, 75.3390,-169.1213,  264,     55.9,  -0.9199,  31.9569,2,  31.9472,2,    360.0,2,    345.9,2,    13.90,2,     6.00,2,     0.15,2,     1.27,2,    6.699,2,    3.271,2,    0.493,2,    -2.19,2,    68.10,2,  -0.9212
  32PZ20020819,   CBL,   123,  1,     26,     26,2,20020920,1530, 75.3390,-169.1213,  264,     55.9,  -0.9235,  31.9590,2,-999.0000,9,    359.8,2,   -999.0,9,  -999.00,9,  -999.00,9,  -999.00,9,  -999.00,9, -999.000,9, -999.000,9, -999.000,9,  -999.00,9,  -999.00,9,  -0.9248
  32PZ20020819,   CBL,   123,  1,     23,     23,2,20020920,1530, 75.3390,-169.1213,  264,     71.2,  -1.3572,  32.2704,2,  32.2718,2,    332.1,2,    324.2,2,    22.20,2,     9.50,2,     0.06,2,     1.50,2, -999.000,9, -999.000,9, -999.000,9,    -2.07,2,    66.90,2,  -1.3586
  32PZ20020819,   CBL,   123,  1,     24,     24,2,20020920,1530, 75.3390,-169.1213,  264,     71.2,  -1.3571,  32.2703,2,-999.0000,9,    332.0,2,   -999.0,9,  -999.00,9,  -999.00,9,  -999.00,9,  -999.00,9, -999.000,9, -999.000,9, -999.000,9,  -999.00,9,  -999.00,9,  -1.3585
  32PZ20020819,   CBL,   123,  1,     21,     21,2,20020920,1530, 75.3390,-169.1213,  264,     86.1,  -1.4475,  32.4895,2,  32.4904,2,    311.8,2,    307.7,2,    27.10,2,    11.80,2,     0.02,2,     1.65,2,    6.234,2,    3.084,2,    0.460,2,  -999.00,9,  -999.00,9,  -1.4492
  32PZ20020819,   CBL,   123,  1,     22,     22,2,20020920,1530, 75.3390,-169.1213,  264,     86.1,  -1.4475,  32.4885,2,-999.0000,9,    311.8,2,   -999.0,9,  -999.00,9,  -999.00,9,  -999.00,9,  -999.00,9, -999.000,9, -999.000,9, -999.000,9,  -999.00,9,  -999.00,9,  -1.4492
  32PZ20020819,   CBL,   123,  1,     20,     20,2,20020920,1530, 75.3390,-169.1213,  264,    100.9,  -1.5137,  32.6930,2,-999.0000,9,    301.3,2,   -999.0,9,  -999.00,9,  -999.00,9,  -999.00,9,  -999.00,9, -999.000,9, -999.000,9, -999.000,9,  -999.00,9,  -999.00,9,  -1.5156
  32PZ20020819,   CBL,   123,  1,     19,     19,2,20020920,1530, 75.3390,-169.1213,  264,    101.0,  -1.5136,  32.6931,2,  32.6912,2,    301.3,2,    297.1,2,    31.60,2,    13.40,2,     0.01,2,     1.76,2,    6.068,2,    2.998,2,    0.452,2,    -1.65,2,    68.10,2,  -1.5155
  32PZ20020819,   CBL,   123,  1,     17,     17,2,20020920,1530, 75.3390,-169.1213,  264,    115.9,  -1.6039,  32.9092,2,  32.9057,2,    294.2,2,    292.3,2,    37.70,2,    15.10,2,     0.01,2,     1.87,2, -999.000,9, -999.000,9, -999.000,9,  -999.00,9,  -999.00,9,  -1.6061
  32PZ20020819,   CBL,   123,  1,     18,     18,2,20020920,1530, 75.3390,-169.1213,  264,    115.9,  -1.6039,  32.9093,2,-999.0000,9,    294.1,2,   -999.0,9,  -999.00,9,  -999.00,9,  -999.00,9,  -999.00,9, -999.000,9, -999.000,9, -999.000,9,  -999.00,9,  -999.00,9,  -1.6061
  32PZ20020819,   CBL,   123,  1,     15,     15,2,20020920,1530, 75.3390,-169.1213,  264,    130.4,  -1.5780,  33.1127,2,  33.1303,2,    290.8,2,    289.4,2,    37.40,2,    15.10,2,     0.01,2,     1.86,2,    6.029,6,    3.030,6,    0.472,6,    -1.47,2,    66.70,2,  -1.5806
  32PZ20020819,   CBL,   123,  1,     16,     16,2,20020920,1530, 75.3390,-169.1213,  264,    130.5,  -1.5782,  33.1120,2,-999.0000,9,    290.7,2,   -999.0,9,  -999.00,9,  -999.00,9,  -999.00,9,  -999.00,9, -999.000,9, -999.000,9, -999.000,9,  -999.00,9,  -999.00,9,  -1.5808
  32PZ20020819,   CBL,   123,  1,     13,     13,2,20020920,1530, 75.3390,-169.1213,  264,    145.1,  -1.5134,  33.3828,2,  33.4290,2,    275.1,2,    284.5,2,    37.00,2,    15.20,2,     0.01,2,     1.83,2, -999.000,9, -999.000,9, -999.000,9,  -999.00,9,  -999.00,9,  -1.5165
  32PZ20020819,   CBL,   123,  1,     14,     14,2,20020920,1530, 75.3390,-169.1213,  264,    145.1,  -1.5090,  33.3878,2,  33.4036,2,    275.0,2,    288.3,2,  -999.00,9,  -999.00,9,  -999.00,9,  -999.00,9, -999.000,9, -999.000,9, -999.000,9,  -999.00,9,  -999.00,9,  -1.5121
  32PZ20020819,   CBL,   123,  1,     11,     11,2,20020920,1530, 75.3390,-169.1213,  264,    159.8,  -0.7874,  34.0082,2,  34.0118,2,    259.1,2,    210.3,2,    45.70,2,    16.10,2,     0.01,2,     2.20,2,    5.025,2,    2.506,2,    0.320,2,    -0.67,2,    64.40,2,  -0.7920
  32PZ20020819,   CBL,   123,  1,     12,     12,2,20020920,1530, 75.3390,-169.1213,  264,    159.8,  -0.7863,  34.0090,2,  34.0018,2,    258.9,2,    209.3,2,  -999.00,9,  -999.00,9,  -999.00,9,  -999.00,9, -999.000,9, -999.000,9, -999.000,9,  -999.00,9,  -999.00,9,  -0.7909
  32PZ20020819,   CBL,   123,  1,      9,      9,2,20020920,1530, 75.3390,-169.1213,  264,    174.7,  -0.4622,  34.2898,2,  34.3061,2,    234.9,2,    224.7,2,    34.70,2,    14.90,2,     0.01,2,     1.76,2,    4.970,2,    2.407,2,    0.301,2,    -0.21,2,    54.20,2,  -0.4678
  32PZ20020819,   CBL,   123,  1,     10,     10,2,20020920,1530, 75.3390,-169.1213,  264,    174.7,  -0.4632,  34.2892,2,  34.3018,2,    234.9,2,    229.6,2,  -999.00,9,  -999.00,9,  -999.00,9,  -999.00,9, -999.000,9, -999.000,9, -999.000,9,  -999.00,9,  -999.00,9,  -0.4688
  32PZ20020819,   CBL,   123,  1,      7,      7,2,20020920,1530, 75.3390,-169.1213,  264,    189.6,  -0.0691,  34.4926,2,  34.5057,2,    240.0,2,    230.4,2,    29.00,2,    14.60,2,     0.01,2,     1.37,2,    5.145,6,    2.428,6,    0.296,6,  -999.00,9,  -999.00,9,  -0.0759
  32PZ20020819,   CBL,   123,  1,      8,      8,2,20020920,1530, 75.3390,-169.1213,  264,    189.6,  -0.0220,  34.5100,2,  34.4980,2,    239.9,2,    231.8,2,  -999.00,9,  -999.00,9,  -999.00,9,  -999.00,9, -999.000,9, -999.000,9, -999.000,9,  -999.00,9,  -999.00,9,  -0.0289
  32PZ20020819,   CBL,   123,  1,      5,      5,2,20020920,1530, 75.3390,-169.1213,  264,    211.3,   0.2950,  34.6180,2,  34.6233,2,    229.7,2,    228.4,2,    29.40,2,    14.80,2,     0.01,2,     1.33,2,    5.327,2,    2.525,2,    0.312,2,  -999.00,9,  -999.00,9,   0.2866
  32PZ20020819,   CBL,   123,  1,      6,      6,2,20020920,1530, 75.3390,-169.1213,  264,    211.4,   0.2952,  34.6179,2,  34.6237,2,    229.7,2,    228.3,2,  -999.00,9,  -999.00,9,  -999.00,9,  -999.00,9, -999.000,9, -999.000,9, -999.000,9,  -999.00,9,  -999.00,9,   0.2868
  32PZ20020819,   CBL,   123,  1,      3,      3,2,20020920,1530, 75.3390,-169.1213,  264,    231.1,   0.6843,  34.7346,2,  34.7371,2,    250.2,2,    255.1,2,    20.00,2,    14.10,2,     0.01,2,     1.12,2,    5.521,2,    2.593,2,    0.334,2,  -999.00,9,  -999.00,9,   0.6743
  32PZ20020819,   CBL,   123,  1,      4,      4,2,20020920,1530, 75.3390,-169.1213,  264,    231.1,   0.6817,  34.7342,2,  34.7365,2,    250.2,2,    255.1,2,  -999.00,9,  -999.00,9,  -999.00,9,  -999.00,9, -999.000,9, -999.000,9, -999.000,9,  -999.00,9,  -999.00,9,   0.6717
  32PZ20020819,   CBL,   123,  1,      1,      1,2,20020920,1530, 75.3390,-169.1213,  264,    251.7,   0.8127,  34.8249,2,  34.8257,2,    280.2,2,    280.1,2,    12.80,2,    13.60,2,     0.02,2,     0.98,2,    5.449,2,    2.557,2,    0.335,2,     0.32,2,    44.40,2,   0.8015
  32PZ20020819,   CBL,   123,  1,      2,      2,2,20020920,1530, 75.3390,-169.1213,  264,    251.8,   0.8127,  34.8253,2,  34.8167,2,    280.2,2,    276.8,2,  -999.00,9,  -999.00,9,  -999.00,9,  -999.00,9, -999.000,9, -999.000,9, -999.000,9,  -999.00,9,  -999.00,9,   0.8015