BOTTLE,20220815CCHSIOAMB
EXPOCODE,SECT_ID,STNNBR,CASTNO,SAMPNO,BTLNBR,BTLNBR_FLAG_W,DATE,TIME,LATITUDE,LONGITUDE,DEPTH,CTDPRS,CTDTMP,CTDSAL,CTDSAL_FLAG_W,SALNTY,SALNTY_FLAG_W,CTDOXY,CTDOXY_FLAG_W,OXYGEN,OXYGEN_FLAG_W,SILCAT,SILCAT_FLAG_W,NITRAT,NITRAT_FLAG_W,NITRIT,NITRIT_FLAG_W,PHSPHT,PHSPHT_FLAG_W,CFC-11,CFC-11_FLAG_W,CFC-12,CFC-12_FLAG_W,CFC113,CFC113_FLAG_W,DELO18,DELO18_FLAG_W,BARIUM,BARIUM_FLAG_W,THETA
,,,,,,,,,,,METERS,DBAR,ITS-90,PSS-78,,PSS-78,,UMOL/KG,,UMOL/KG,,UMOL/KG,,UMOL/KG,,UMOL/KG,,UMOL/KG,,PMOL/KG,,PMOL/KG,,PMOL/KG,,/MILLE,,NMOL/KG,,DEG C
  32PZ20020819,   CBL,    17,  1,     31,     31,2,20020828,0720, 77.5820, 177.9175, 1242,      1.9,  -1.4943,  29.7691,2,  29.7713,2,    388.1,2,    390.7,2,     4.00,2,     0.10,2,     0.00,2,     0.80,2, -999.000,9, -999.000,9, -999.000,9,  -999.00,9,  -999.00,9,  -1.4943
  32PZ20020819,   CBL,    17,  1,     30,     30,2,20020828,0720, 77.5820, 177.9175, 1242,     12.7,  -1.5106,  29.7687,2,  29.7747,2,    391.5,2,    390.7,2,     4.00,2,     0.10,2,     0.00,2,     0.81,2,    7.528,2,    3.790,2,    0.686,2,    -2.24,2,    56.50,2,  -1.5108
  32PZ20020819,   CBL,    17,  1,     29,     29,2,20020828,0720, 77.5820, 177.9175, 1242,     22.4,  -1.4306,  30.0083,2,  30.0627,2,    393.7,2,    394.5,2,     4.00,2,     0.10,2,     0.00,2,     0.82,2, -999.000,9, -999.000,9, -999.000,9,    -2.25,2,    57.20,2,  -1.4309
  32PZ20020819,   CBL,    17,  1,     28,     28,2,20020828,0720, 77.5820, 177.9175, 1242,     32.7,  -1.4828,  31.3946,2,  31.4349,2,    385.7,2,    345.7,2,    14.10,2,     5.00,2,     0.10,2,     1.25,2, -999.000,9, -999.000,9, -999.000,9,    -1.92,2,    57.90,2,  -1.4833
  32PZ20020819,   CBL,    17,  1,     27,     27,2,20020828,0720, 77.5820, 177.9175, 1242,     52.2,  -1.3960,  32.2867,2,  32.2902,2,    310.8,2,    303.7,2,    23.10,2,    10.20,2,     0.02,2,     1.58,2,    6.719,2,    3.385,2,    0.522,2,    -1.74,2,    63.20,2,  -1.3970
  32PZ20020819,   CBL,    17,  1,     26,     26,2,20020828,0720, 77.5820, 177.9175, 1242,     62.1,  -1.3992,  32.5753,2,  32.6018,2,    291.0,2,    282.9,2,    31.00,2,    13.00,2,     0.01,2,     1.80,2,    6.393,2,    3.286,2,    0.476,2,  -999.00,9,  -999.00,9,  -1.4004
  32PZ20020819,   CBL,    17,  1,     25,     25,2,20020828,0720, 77.5820, 177.9175, 1242,     72.1,  -1.4290,  32.7409,2,  32.7406,2,    278.3,2,    276.4,2,    33.80,2,    14.30,2,     0.01,2,     1.89,2,    6.368,2,    3.270,2,    0.485,2,    -1.54,2,    67.30,2,  -1.4304
  32PZ20020819,   CBL,    17,  1,     24,     24,2,20020828,0720, 77.5820, 177.9175, 1242,     82.0,  -1.5292,  32.9086,2,  32.9372,2,    264.1,2,    271.6,2,    38.10,2,    14.80,2,     0.01,2,     1.97,2,    6.300,2,    3.224,2,    0.476,2,    -1.57,2,    68.10,2,  -1.5308
  32PZ20020819,   CBL,    17,  1,     23,     23,2,20020828,0720, 77.5820, 177.9175, 1242,     91.7,  -1.5610,  33.1007,2,  33.1142,2,    263.6,2,    264.0,2,    39.40,2,    15.60,2,     0.01,2,     1.99,2,    6.155,2,    3.123,2,    0.454,2,    -1.55,2,    68.00,2,  -1.5628
  32PZ20020819,   CBL,    17,  1,     22,     22,2,20020828,0720, 77.5820, 177.9175, 1242,    101.5,  -1.4725,  33.3236,2,  33.3701,2,    249.3,2,    240.6,2,    44.50,2,    16.60,2,     0.01,2,     2.09,2,    6.002,2,    3.061,2,    0.433,2,  -999.00,9,  -999.00,9,  -1.4746
  32PZ20020819,   CBL,    17,  1,     21,     21,2,20020828,0720, 77.5820, 177.9175, 1242,    110.8,  -1.2702,  33.6779,2,  33.7126,2,    220.5,2,    222.3,2,    41.30,2,    16.10,2,     0.01,2,     1.89,2,    5.992,2,    2.978,2,    0.401,2,  -999.00,9,  -999.00,9,  -1.2728
  32PZ20020819,   CBL,    17,  1,     20,     20,2,20020828,0720, 77.5820, 177.9175, 1242,    121.1,  -1.2560,  33.9468,2,  33.9778,2,    223.2,2,    249.2,2,    26.30,2,    13.40,2,     0.01,2,     1.39,2,    6.240,2,    2.980,2,    0.399,2,  -999.00,9,  -999.00,9,  -1.2589
  32PZ20020819,   CBL,    17,  1,     19,     19,2,20020828,0720, 77.5820, 177.9175, 1242,    131.1,  -1.3341,  34.0882,2,  34.1067,2,    250.1,2,    286.4,2,    12.50,2,    10.60,2,     0.01,2,     0.93,2,    6.709,2,    3.203,2,    0.449,2,  -999.00,9,  -999.00,9,  -1.3372
  32PZ20020819,   CBL,    17,  1,     18,     18,2,20020828,0720, 77.5820, 177.9175, 1242,    145.8,  -1.2819,  34.2138,2,  34.2200,2,    283.5,2,    304.1,2,     7.30,2,     9.40,2,     0.01,2,     0.77,2,    6.818,2,    3.351,2,    0.496,2,    -0.36,2,    41.20,2,  -1.2855
  32PZ20020819,   CBL,    17,  1,     17,     17,2,20020828,0720, 77.5820, 177.9175, 1242,    160.4,  -1.0842,  34.3111,2,  34.3171,2,    297.3,2,    306.1,2,     6.30,2,     9.50,2,     0.01,2,     0.76,2,    6.747,2,    3.239,2,    0.476,2,  -999.00,9,  -999.00,9,  -1.0885
  32PZ20020819,   CBL,    17,  1,     16,     16,2,20020828,0720, 77.5820, 177.9175, 1242,    190.2,  -0.6809,  34.4491,2,  34.4566,2,    302.7,2,    306.8,2,     5.70,2,     9.90,2,     0.01,2,     0.76,2,    6.605,2,    3.224,2,    0.468,2,  -999.00,9,  -999.00,9,  -0.6867
  32PZ20020819,   CBL,    17,  1,     15,     15,2,20020828,0720, 77.5820, 177.9175, 1242,    239.7,   0.1316,  34.6410,2,  34.6389,2,    305.4,2,    305.9,2,     5.40,2,    10.80,2,     0.01,2,     0.79,2,    6.296,2,    3.059,2,    0.459,2,  -999.00,9,  -999.00,9,   0.1224
  32PZ20020819,   CBL,    17,  1,     14,     14,2,20020828,0720, 77.5820, 177.9175, 1242,    288.8,   0.6376,  34.7506,2,  34.7540,2,    302.1,2,    301.1,2,     5.90,2,    11.70,2,     0.01,2,     0.84,2, -999.000,9, -999.000,9, -999.000,9,  -999.00,9,  -999.00,9,   0.6251
  32PZ20020819,   CBL,    17,  1,     13,     13,2,20020828,0720, 77.5820, 177.9175, 1242,    328.3,   0.8050,  34.7898,2,  34.7906,2,    301.7,2,    303.9,2,     5.60,2,    11.70,2,     0.01,2,     0.83,2,    5.858,2,    2.875,2,    0.422,2,  -999.00,9,  -999.00,9,   0.7902
  32PZ20020819,   CBL,    17,  1,     12,     12,2,20020828,0720, 77.5820, 177.9175, 1242,    377.6,   0.9757,  34.8267,2,  34.8277,2,    304.0,2,    304.7,2,     5.60,2,    11.90,2,     0.01,2,     0.84,2,    5.793,2,    2.848,2,    0.425,2,     0.13,2,    40.50,2,   0.9579
  32PZ20020819,   CBL,    17,  1,     11,     11,2,20020828,0720, 77.5820, 177.9175, 1242,    416.5,   0.9138,  34.8321,2,  34.8322,2,    305.1,2,    305.8,2,     5.60,2,    11.90,2,     0.00,2,     0.84,2,    5.780,6,    2.865,6,    0.420,6,  -999.00,9,  -999.00,9,   0.8943
  32PZ20020819,   CBL,    17,  1,     10,     10,2,20020828,0720, 77.5820, 177.9175, 1242,    495.3,   0.8322,  34.8508,2,  34.8516,2,    307.0,2,    307.3,2,     5.70,2,    12.00,2,     0.01,2,     0.85,2, -999.000,9, -999.000,9, -999.000,9,  -999.00,9,  -999.00,9,   0.8089
  32PZ20020819,   CBL,    17,  1,      9,      9,2,20020828,0720, 77.5820, 177.9175, 1242,    594.0,   0.6509,  34.8581,2,  34.8587,2,    308.1,2,    307.3,2,     5.80,2,    12.10,2,     0.00,2,     0.85,2,    5.752,2,    2.892,2,    0.416,2,  -999.00,9,  -999.00,9,   0.6234
  32PZ20020819,   CBL,    17,  1,      8,      8,2,20020828,0720, 77.5820, 177.9175, 1242,    662.9,   0.5498,  34.8649,2,  34.8656,2,    307.3,2,    307.1,2,     6.10,2,    12.30,2,     0.00,2,     0.87,2,    5.572,2,    2.742,2,    0.393,2,  -999.00,9,  -999.00,9,   0.5192
  32PZ20020819,   CBL,    17,  1,      7,      7,2,20020828,0720, 77.5820, 177.9175, 1242,    692.0,   0.4887,  34.8639,2,  34.8652,2,    305.7,2,    306.1,2,     6.20,2,    12.30,2,     0.00,2,     0.87,2,    5.476,2,    2.675,2,    0.388,2,  -999.00,9,  -999.00,9,   0.4570
  32PZ20020819,   CBL,    17,  1,      6,      6,2,20020828,0720, 77.5820, 177.9175, 1242,    741.4,   0.3560,  34.8609,2,  34.8620,2,    304.0,2,    304.7,2,     6.40,2,    12.40,2,     0.00,2,     0.88,2,    5.338,2,    2.467,2,    0.340,2,  -999.00,9,  -999.00,9,   0.3225
  32PZ20020819,   CBL,    17,  1,      5,      5,2,20020828,0720, 77.5820, 177.9175, 1242,    790.2,   0.2377,  34.8600,2,  34.8614,2,    304.2,2,    304.8,2,     6.50,2,    12.40,2,     0.00,2,     0.88,2, -999.000,9, -999.000,9, -999.000,9,     0.15,2,    40.90,2,   0.2024
  32PZ20020819,   CBL,    17,  1,      4,      4,2,20020828,0720, 77.5820, 177.9175, 1242,    938.2,   0.0173,  34.8654,2,  34.8665,2,    304.7,2,    305.4,2,     6.70,2,    12.50,2,     0.00,2,     0.89,2,    5.063,2,    2.412,2,    0.328,2,  -999.00,9,  -999.00,9,  -0.0241
  32PZ20020819,   CBL,    17,  1,      3,      3,2,20020828,0720, 77.5820, 177.9175, 1242,   1086.8,  -0.1226,  34.8757,2,  34.8771,2,    303.0,2,    302.9,2,     7.80,2,    12.80,2,     0.00,2,     0.91,2, -999.000,9, -999.000,9, -999.000,9,  -999.00,9,  -999.00,9,  -0.1708
  32PZ20020819,   CBL,    17,  1,      2,      2,2,20020828,0720, 77.5820, 177.9175, 1242,   1136.2,  -0.1742,  34.8788,2,  34.8798,2,    302.4,2,    302.7,2,     8.10,2,    12.90,2,     0.00,2,     0.92,2,    4.586,2,    2.194,2,    0.282,2,  -999.00,9,  -999.00,9,  -0.2246
  32PZ20020819,   CBL,    17,  1,      1,      1,2,20020828,0720, 77.5820, 177.9175, 1242,   1210.5,  -0.2414,  34.8857,2,  34.8890,2,    294.7,2,    294.7,2,    12.00,2,    13.60,2,     0.01,2,     0.96,2,    4.210,2,    1.994,2,    0.241,2,  -999.00,9,  -999.00,9,  -0.2953
  32PZ20020819,   CBL,    18,  1,     29,     29,2,20020828,1427, 77.9847, 177.3743, 1717,      1.7,  -1.5148,  30.0673,2,  30.0678,2,    395.0,2,    397.5,2,     2.20,2,     0.10,2,     0.00,2,     0.80,2, -999.000,9, -999.000,9, -999.000,9,  -999.00,9,  -999.00,9,  -1.5148
  32PZ20020819,   CBL,    18,  1,     28,     28,2,20020828,1427, 77.9847, 177.3743, 1717,     12.5,  -1.5315,  30.0691,2,  30.0723,2,    396.8,2,    398.2,2,     2.20,2,     0.00,2,     0.00,2,     0.81,2,    7.352,2,    3.742,2,    0.709,2,    -2.21,2,    54.80,2,  -1.5317
  32PZ20020819,   CBL,    18,  1,     27,     27,2,20020828,1427, 77.9847, 177.3743, 1717,     27.3,  -1.4829,  30.4349,2,  30.5025,2,    400.8,2,    390.1,2,     4.60,2,     0.60,2,     0.02,2,     0.92,2,    7.386,2,    3.745,2,    0.706,2,    -2.16,2,    54.30,2,  -1.4833
  32PZ20020819,   CBL,    18,  1,     26,     26,2,20020828,1427, 77.9847, 177.3743, 1717,     46.8,  -1.5199,  32.2057,2,  32.2405,2,    324.8,2,    300.7,2,    24.10,2,    10.10,2,     0.04,2,     1.61,2, -999.000,9, -999.000,9, -999.000,9,    -1.52,2,    62.00,2,  -1.5207
  32PZ20020819,   CBL,    18,  1,     25,     25,2,20020828,1427, 77.9847, 177.3743, 1717,     61.4,  -1.5341,  32.6022,2,  32.6525,2,    282.7,2,    267.7,2,    34.90,2,    13.00,2,     0.02,2,     1.88,2, -999.000,9, -999.000,9, -999.000,9,  -999.00,9,  -999.00,9,  -1.5352
  32PZ20020819,   CBL,    18,  1,     24,     24,2,20020828,1427, 77.9847, 177.3743, 1717,     71.4,  -1.4655,  32.8265,2,  32.8496,2,    251.3,2,    271.2,2,    39.20,2,    15.20,2,     0.01,2,     2.04,2,    6.447,2,    3.452,2,    0.547,2,    -1.47,2,    66.70,2,  -1.4669
  32PZ20020819,   CBL,    18,  1,     23,     23,2,20020828,1427, 77.9847, 177.3743, 1717,     81.7,  -1.5426,  33.0251,2,  33.0551,2,    257.8,2,    258.9,2,    40.30,2,    15.20,2,     0.01,2,     2.00,2,    6.141,2,    3.171,2,    0.481,2,    -1.49,2,    68.30,2,  -1.5442
  32PZ20020819,   CBL,    18,  1,     22,     22,2,20020828,1427, 77.9847, 177.3743, 1717,     90.7,  -1.4246,  33.2895,2,  33.4007,2,    243.9,2,    217.5,2,    46.00,2,    16.90,2,     0.01,2,     2.10,2, -999.000,9, -999.000,9, -999.000,9,    -1.11,2,    63.60,2,  -1.4265
  32PZ20020819,   CBL,    18,  1,     21,     21,2,20020828,1427, 77.9847, 177.3743, 1717,    100.8,  -1.2719,  33.6981,2,  33.7405,2,    220.2,2,    217.2,2,    40.20,2,    15.90,2,     0.01,2,     1.83,2,    6.087,2,    3.026,2,    0.401,2,    -0.80,2,    57.50,2,  -1.2743
  32PZ20020819,   CBL,    18,  1,     20,     20,2,20020828,1427, 77.9847, 177.3743, 1717,    111.5,  -1.2816,  33.9698,2,  33.9950,2,    221.1,2,    255.3,2,    23.30,2,    12.80,2,     0.01,2,     1.27,2,    6.291,2,    3.025,2,    0.418,2,  -999.00,9,  -999.00,9,  -1.2843
  32PZ20020819,   CBL,    18,  1,     19,     19,2,20020828,1427, 77.9847, 177.3743, 1717,    121.3,  -1.2922,  34.1117,2,  34.1419,2,    239.3,2,    283.1,2,    12.60,2,    10.90,2,     0.01,2,     0.94,2, -999.000,9, -999.000,9, -999.000,9,  -999.00,9,  -999.00,9,  -1.2951
  32PZ20020819,   CBL,    18,  1,     18,     18,2,20020828,1427, 77.9847, 177.3743, 1717,    131.3,  -1.1745,  34.2186,2,  34.2334,2,    265.1,2,    290.9,2,     9.80,2,    10.50,2,     0.01,2,     0.86,2,    6.592,2,    3.128,2,    0.445,2,    -0.28,2,    42.00,2,  -1.1778
  32PZ20020819,   CBL,    18,  1,     17,     17,2,20020828,1427, 77.9847, 177.3743, 1717,    140.9,  -1.0751,  34.2845,2,  34.2905,2,    283.0,2,    295.9,2,     8.10,2,    10.30,2,     0.01,2,     0.81,2,    6.563,2,    3.102,2,    0.447,2,  -999.00,9,  -999.00,9,  -1.0788
  32PZ20020819,   CBL,    18,  1,     16,     16,2,20020828,1427, 77.9847, 177.3743, 1717,    190.0,  -0.4907,  34.4953,2,  34.5044,2,    300.7,2,    304.8,2,     5.90,2,    10.30,2,     0.01,2,     0.78,2,    6.450,2,    3.141,2,    0.446,2,  -999.00,9,  -999.00,9,  -0.4969
  32PZ20020819,   CBL,    18,  1,     15,     15,2,20020828,1427, 77.9847, 177.3743, 1717,    239.7,   0.2709,  34.6682,2,  34.6699,2,    304.3,2,    303.3,2,     5.70,2,    11.20,2,     0.01,2,     0.81,2,    6.099,2,    3.093,2,    0.457,2,  -999.00,9,  -999.00,9,   0.2614
  32PZ20020819,   CBL,    18,  1,     14,     14,2,20020828,1427, 77.9847, 177.3743, 1717,    289.7,   0.7050,  34.7658,2,  34.7807,2,    303.4,2,    303.3,2,     5.60,2,    11.80,2,     0.01,2,     0.83,2,    5.713,2,    2.798,2,    0.410,2,  -999.00,9,  -999.00,9,   0.6923
  32PZ20020819,   CBL,    18,  1,     13,     13,2,20020828,1427, 77.9847, 177.3743, 1717,    338.7,   0.9169,  34.8090,2,  34.8118,2,    304.2,2,    304.3,2,     5.60,2,    11.90,2,     0.01,2,     0.84,2,    5.758,2,    2.836,2,    0.423,2,  -999.00,9,  -999.00,9,   0.9013
  32PZ20020819,   CBL,    18,  1,     12,     12,2,20020828,1427, 77.9847, 177.3743, 1717,    373.3,   1.0077,  34.8325,2,  34.8332,2,    305.6,2,    304.9,2,     5.60,2,    12.00,2,     0.01,2,     0.84,2,    5.686,2,    2.810,2,    0.420,2,     0.15,2,    40.10,2,   0.9900
  32PZ20020819,   CBL,    18,  1,     11,     11,2,20020828,1427, 77.9847, 177.3743, 1717,    428.0,   0.9595,  34.8472,2,  34.8479,2,    304.6,2,    304.1,2,     5.80,2,    12.20,2,     0.01,2,     0.85,2,    5.662,2,    2.744,2,    0.407,2,  -999.00,9,  -999.00,9,   0.9392
  32PZ20020819,   CBL,    18,  1,     10,     10,2,20020828,1427, 77.9847, 177.3743, 1717,    497.1,   0.8015,  34.8522,2,  34.8534,2,    303.7,2,    306.5,2,     5.80,2,    12.20,2,     0.01,2,     0.85,2,    5.589,2,    2.762,2,    0.405,2,  -999.00,9,  -999.00,9,   0.7783
  32PZ20020819,   CBL,    18,  1,      9,      9,2,20020828,1427, 77.9847, 177.3743, 1717,    595.0,   0.6375,  34.8609,2,  34.8612,2,    305.1,2,    306.8,2,     5.90,2,    12.30,2,     0.01,2,     0.86,2,    5.510,6,    2.720,6,    0.403,6,  -999.00,9,  -999.00,9,   0.6100
  32PZ20020819,   CBL,    18,  1,      8,      8,2,20020828,1427, 77.9847, 177.3743, 1717,    739.0,   0.3793,  34.8658,2,  34.8659,2,    306.6,2,    306.4,2,     6.20,2,    12.30,2,     0.01,2,     0.87,2,    5.425,2,    2.707,2,    0.403,2,  -999.00,9,  -999.00,9,   0.3458
  32PZ20020819,   CBL,    18,  1,      7,      7,2,20020828,1427, 77.9847, 177.3743, 1717,    884.1,   0.0757,  34.8657,2,  34.8659,2,    306.9,2,    306.8,2,     6.50,2,    12.40,2,     0.01,2,     0.88,2,    5.287,2,    2.645,2,    0.396,2,     0.18,2,    41.70,2,   0.0366
  32PZ20020819,   CBL,    18,  1,      6,      6,2,20020828,1427, 77.9847, 177.3743, 1717,   1030.7,  -0.1506,  34.8693,2,  34.8696,2,    306.6,2,   -999.0,9,     6.70,2,    12.50,2,     0.01,2,     0.89,2,    5.133,2,    2.513,2,    0.363,2,  -999.00,9,  -999.00,9,  -0.1956
  32PZ20020819,   CBL,    18,  1,      5,      5,2,20020828,1427, 77.9847, 177.3743, 1717,   1177.1,  -0.2925,  34.8776,2,  34.8780,2,    306.7,2,    306.1,2,     7.20,2,    12.70,2,     0.01,2,     0.91,2,    4.669,2,    2.416,2,    0.342,2,  -999.00,9,  -999.00,9,  -0.3440
  32PZ20020819,   CBL,    18,  1,      4,      4,2,20020828,1427, 77.9847, 177.3743, 1717,   1323.7,  -0.3865,  34.8886,2,  34.8888,2,    305.1,2,    304.6,2,     7.90,2,    13.00,2,     0.01,2,     0.93,2,    3.925,2,    1.998,2,    0.281,2,  -999.00,9,  -999.00,9,  -0.4452
  32PZ20020819,   CBL,    18,  1,      3,      3,2,20020828,1427, 77.9847, 177.3743, 1717,   1470.6,  -0.4906,  34.8967,2,  34.8970,2,    303.2,2,    303.8,2,     8.50,2,    13.40,2,     0.01,2,     0.96,2,    3.265,2,    1.707,2,    0.236,2,  -999.00,9,  -999.00,9,  -0.5565
  32PZ20020819,   CBL,    18,  1,      2,      2,2,20020828,1427, 77.9847, 177.3743, 1717,   1623.7,  -0.5568,  34.9094,2,  34.9094,2,    300.1,2,    300.0,2,     9.80,2,    14.00,2,     0.01,2,     0.99,2,    2.178,2,    1.096,2,    0.144,2,  -999.00,9,  -999.00,9,  -0.6309
  32PZ20020819,   CBL,    18,  1,      1,      1,2,20020828,1427, 77.9847, 177.3743, 1717,   1694.5,  -0.4829,  34.9384,2,  34.9402,2,    289.5,2,    290.1,2,    12.70,2,    14.80,2,     0.01,2,     1.04,2,    0.593,2,    0.379,2,    0.040,2,  -999.00,9,  -999.00,9,  -0.5624