BOTTLE,20220815CCHSIOAMB
EXPOCODE,SECT_ID,STNNBR,CASTNO,SAMPNO,BTLNBR,BTLNBR_FLAG_W,DATE,TIME,LATITUDE,LONGITUDE,DEPTH,CTDPRS,CTDTMP,CTDSAL,CTDSAL_FLAG_W,SALNTY,SALNTY_FLAG_W,CTDOXY,CTDOXY_FLAG_W,OXYGEN,OXYGEN_FLAG_W,SILCAT,SILCAT_FLAG_W,NITRAT,NITRAT_FLAG_W,NITRIT,NITRIT_FLAG_W,PHSPHT,PHSPHT_FLAG_W,CFC-11,CFC-11_FLAG_W,CFC-12,CFC-12_FLAG_W,CFC113,CFC113_FLAG_W,DELO18,DELO18_FLAG_W,BARIUM,BARIUM_FLAG_W,THETA
,,,,,,,,,,,METERS,DBAR,ITS-90,PSS-78,,PSS-78,,UMOL/KG,,UMOL/KG,,UMOL/KG,,UMOL/KG,,UMOL/KG,,UMOL/KG,,PMOL/KG,,PMOL/KG,,PMOL/KG,,/MILLE,,NMOL/KG,,DEG C
  32PZ20020819,   CBL,    80,  1,     16,     16,2,20020911,1110, 77.1873,-156.7190,  789,      9.3,  -1.4770,  28.5322,2,  28.6002,2,    378.5,2,    380.8,2,  -999.00,9,  -999.00,9,  -999.00,9,  -999.00,9,    7.733,2,    3.935,2,    0.703,2,  -999.00,9,  -999.00,9,  -1.4771
  32PZ20020819,   CBL,    80,  1,     15,     15,2,20020911,1110, 77.1873,-156.7190,  789,     34.8,  -0.6604,  31.3717,2,  31.4268,2,    389.7,2,    361.3,2,     9.40,2,     3.10,2,     0.17,2,     1.05,2,    6.740,2,    3.544,2,    0.571,2,  -999.00,9,  -999.00,9,  -0.6612
  32PZ20020819,   CBL,    80,  1,     14,     14,2,20020911,1110, 77.1873,-156.7190,  789,     66.4,  -1.2413,  32.3387,2,  32.3480,2,    316.1,2,    302.3,2,    23.50,2,    11.10,2,     0.01,2,     1.60,2,    6.401,2,    3.288,2,    0.463,2,  -999.00,9,  -999.00,9,  -1.2427
  32PZ20020819,   CBL,    80,  1,     13,     13,2,20020911,1110, 77.1873,-156.7190,  789,     86.0,  -1.1159,  32.6119,2,-999.0000,9,    289.9,2,    279.9,2,    31.30,2,    13.90,2,     0.01,2,     1.85,2,    6.035,2,    3.111,2,    0.449,2,  -999.00,9,  -999.00,9,  -1.1178
  32PZ20020819,   CBL,    80,  1,     12,     12,2,20020911,1110, 77.1873,-156.7190,  789,    100.8,  -1.2708,  32.7593,2,  32.7640,2,    272.4,2,    270.7,2,    35.80,2,    15.60,2,     0.01,2,     1.99,2,    6.204,2,    3.250,2,    0.473,2,  -999.00,9,  -999.00,9,  -1.2730
  32PZ20020819,   CBL,    80,  1,     11,     11,2,20020911,1110, 77.1873,-156.7190,  789,    121.2,  -1.5521,  32.9927,2,  33.0139,2,    277.3,2,    274.6,2,    36.90,2,    15.60,2,     0.01,2,     1.92,2,    5.867,2,    3.025,2,    0.415,2,  -999.00,9,  -999.00,9,  -1.5545
  32PZ20020819,   CBL,    80,  1,     10,     10,2,20020911,1110, 77.1873,-156.7190,  789,    141.3,  -1.5399,  33.3035,2,-999.0000,9,    264.2,2,    266.4,2,    40.40,2,    16.50,2,     0.01,2,     1.97,2,    5.741,2,    2.962,2,    0.417,2,  -999.00,9,  -999.00,9,  -1.5428
  32PZ20020819,   CBL,    80,  1,      9,      9,2,20020911,1110, 77.1873,-156.7190,  789,    161.6,  -1.2152,  33.7417,2,  33.7595,2,    255.7,2,    256.4,2,    35.60,2,    16.50,2,     0.00,2,     1.77,2,    4.992,2,    2.496,2,    0.328,2,  -999.00,9,  -999.00,9,  -1.2192
  32PZ20020819,   CBL,    80,  1,      8,      8,2,20020911,1110, 77.1873,-156.7190,  789,    184.4,  -0.9751,  34.1792,2,-999.0000,9,    255.9,2,    261.0,2,    21.20,2,    13.60,2,     0.00,2,     1.23,2,    5.325,2,    2.532,2,    0.306,2,  -999.00,9,  -999.00,9,  -0.9802
  32PZ20020819,   CBL,    80,  1,      7,      7,2,20020911,1110, 77.1873,-156.7190,  789,    228.8,   0.0624,  34.5545,2,  34.5663,2,    287.5,2,    288.4,2,     8.60,2,    11.90,2,     0.00,2,     0.86,2,    5.474,2,    2.558,2,    0.315,2,  -999.00,9,  -999.00,9,   0.0538
  32PZ20020819,   CBL,    80,  1,      6,      6,2,20020911,1110, 77.1873,-156.7190,  789,    304.6,   0.8803,  34.7913,2,-999.0000,9,    296.5,2,    296.1,2,     6.80,2,    12.60,2,     0.00,2,     0.86,2,    5.225,2,    2.457,2,    0.327,2,  -999.00,9,  -999.00,9,   0.8664
  32PZ20020819,   CBL,    80,  1,      5,      5,2,20020911,1110, 77.1873,-156.7190,  789,    375.6,   1.0259,  34.8416,2,  34.8410,2,    298.9,2,    298.1,2,     6.50,2,    12.70,2,     0.00,2,     0.86,2,    5.013,2,    2.371,2,    0.315,2,  -999.00,9,  -999.00,9,   1.0081
  32PZ20020819,   CBL,    80,  1,      4,      4,2,20020911,1110, 77.1873,-156.7190,  789,    450.2,   0.8202,  34.8532,2,  34.8530,2,    299.0,2,    299.0,2,     6.50,2,    12.80,2,     0.00,2,     0.87,2,    4.891,2,    2.280,2,    0.304,2,  -999.00,9,  -999.00,9,   0.7993
  32PZ20020819,   CBL,    80,  1,      3,      3,2,20020911,1110, 77.1873,-156.7190,  789,    589.5,   0.4731,  34.8587,2,  34.8605,2,    300.1,2,    300.5,2,  -999.00,9,  -999.00,9,  -999.00,9,  -999.00,9,    4.351,6,    2.016,6,    0.251,6,  -999.00,9,  -999.00,9,   0.4467
  32PZ20020819,   CBL,    80,  1,      2,      2,2,20020911,1110, 77.1873,-156.7190,  789,    735.5,   0.2528,  34.8637,2,  34.8636,2,    301.6,2,    301.7,2,  -999.00,9,  -999.00,9,  -999.00,9,  -999.00,9,    4.001,2,    1.857,2,    0.233,2,  -999.00,9,  -999.00,9,   0.2202
  32PZ20020819,   CBL,    80,  1,      1,      1,2,20020911,1110, 77.1873,-156.7190,  789,    878.8,   0.0864,  34.8713,2,  34.8729,2,    301.9,2,    301.8,2,  -999.00,9,  -999.00,9,  -999.00,9,  -999.00,9,    3.606,6,    1.660,6,    0.192,6,  -999.00,9,  -999.00,9,   0.0475
  32PZ20020819,   CBL,    81,  1,     24,     24,2,20020911,1436, 77.0962,-157.4018, 1555,     11.4,  -1.5065,  28.4066,2,  28.6552,2,    380.6,2,    382.3,2,     2.80,2,     0.10,2,     0.00,2,     0.69,2,    7.555,2,    3.824,2,    0.679,2,    -2.79,2,    62.50,2,  -1.5066
  32PZ20020819,   CBL,    81,  1,     23,     23,2,20020911,1436, 77.0962,-157.4018, 1555,     20.4,  -1.4178,  29.2446,2,  29.2658,2,    384.7,2,    385.4,2,     2.30,2,     0.10,2,     0.00,2,     0.74,2,    7.508,2,    3.768,2,    0.702,2,  -999.00,9,  -999.00,9,  -1.4181
  32PZ20020819,   CBL,    81,  1,     22,     22,2,20020911,1436, 77.0962,-157.4018, 1555,     36.1,  -0.8370,  31.4534,2,  31.6024,2,    379.1,2,    353.8,2,    11.30,2,     4.20,2,     0.08,2,     1.14,2,    6.950,2,    3.484,2,    0.564,2,    -2.01,2,    63.60,2,  -0.8378
  32PZ20020819,   CBL,    81,  1,     21,     21,2,20020911,1436, 77.0962,-157.4018, 1555,     56.8,  -1.2002,  32.1668,2,  32.2220,2,    335.3,2,    313.1,2,    20.00,2,     9.70,2,     0.02,2,     1.48,2,    6.604,2,    3.287,2,    0.507,2,    -1.75,2,    75.80,2,  -1.2014
  32PZ20020819,   CBL,    81,  1,     20,     20,2,20020911,1436, 77.0962,-157.4018, 1555,     71.8,  -1.1453,  32.5056,2,  32.5444,2,    304.6,2,    286.0,2,    28.60,2,    13.10,2,     0.01,2,     1.76,2,    6.266,2,    3.135,2,    0.466,2,    -1.68,2,    68.50,2,  -1.1469
  32PZ20020819,   CBL,    81,  1,     19,     19,2,20020911,1436, 77.0962,-157.4018, 1555,     84.5,  -1.0611,  32.6666,2,  32.6798,2,    288.7,2,    274.8,2,    32.50,2,    14.50,2,     0.01,2,     1.90,2,    6.273,2,    3.184,2,    0.464,2,    -1.53,2,    70.10,2,  -1.0630
  32PZ20020819,   CBL,    81,  1,     18,     18,2,20020911,1436, 77.0962,-157.4018, 1555,     99.4,  -1.3236,  32.7768,2,  32.7825,2,    275.5,2,    273.3,2,    35.80,2,    15.40,2,     0.01,2,     1.98,2,    6.275,2,    3.188,2,    0.487,2,    -1.45,2,    74.90,2,  -1.3257
  32PZ20020819,   CBL,    81,  1,     17,     17,2,20020911,1436, 77.0962,-157.4018, 1555,    115.9,  -1.5426,  32.9314,2,  32.9421,2,    282.0,2,    280.1,2,    35.40,2,    15.00,2,     0.01,2,     1.88,2,    6.016,2,    2.997,2,    0.428,2,  -999.00,9,  -999.00,9,  -1.5449
  32PZ20020819,   CBL,    81,  1,     16,     16,2,20020911,1436, 77.0962,-157.4018, 1555,    131.2,  -1.5546,  33.1476,2,  33.1705,2,    278.9,2,    271.3,2,    38.20,2,    15.90,2,     0.01,2,     1.94,2,    5.959,2,    2.981,2,    0.434,2,    -1.44,2,    76.80,2,  -1.5572
  32PZ20020819,   CBL,    81,  1,     15,     15,2,20020911,1436, 77.0962,-157.4018, 1555,    151.6,  -1.4545,  33.4463,2,  33.5082,2,    266.8,2,    262.3,2,    39.20,2,    16.80,2,     0.01,2,     1.91,2,    5.601,2,    2.783,2,    0.388,2,  -999.00,9,  -999.00,9,  -1.4578
  32PZ20020819,   CBL,    81,  1,     14,     14,2,20020911,1436, 77.0962,-157.4018, 1555,    167.6,  -1.1999,  33.8196,2,  33.8969,2,    252.4,2,    253.8,2,    31.20,2,    15.30,2,     0.01,2,     1.59,2,    5.321,2,    2.547,2,    0.342,2,    -0.85,2,    55.80,2,  -1.2041
  32PZ20020819,   CBL,    81,  1,     13,     13,2,20020911,1436, 77.0962,-157.4018, 1555,    185.3,  -0.9588,  34.1946,2,  34.2075,2,    251.5,2,    259.2,2,    20.60,2,    13.40,2,     0.00,2,     1.21,2,    5.533,2,    2.550,2,    0.312,2,  -999.00,9,  -999.00,9,  -0.9640
  32PZ20020819,   CBL,    81,  1,     12,     12,2,20020911,1436, 77.0962,-157.4018, 1555,    224.8,  -0.3009,  34.4738,2,  34.4857,2,    276.7,2,    279.6,2,    10.80,2,    12.20,2,     0.00,2,     0.92,2,    5.439,2,    2.451,2,    0.305,2,  -999.00,9,  -999.00,9,  -0.3086
  32PZ20020819,   CBL,    81,  1,     11,     11,2,20020911,1436, 77.0962,-157.4018, 1555,    269.4,   0.4692,  34.6835,2,  34.6924,2,    289.4,2,    289.7,2,     7.60,2,    12.40,2,     0.00,2,     0.86,2,    5.170,6,    2.369,6,    0.306,6,  -999.00,9,  -999.00,9,   0.4580
  32PZ20020819,   CBL,    81,  1,     10,     10,2,20020911,1436, 77.0962,-157.4018, 1555,    323.7,   0.8227,  34.7928,2,  34.7942,2,    295.2,2,    294.5,2,     6.60,2,    12.70,2,     0.00,2,     0.86,2,    4.977,2,    2.273,2,    0.293,2,  -999.00,9,  -999.00,9,   0.8080
  32PZ20020819,   CBL,    81,  1,      9,      9,2,20020911,1436, 77.0962,-157.4018, 1555,    373.1,   0.9477,  34.8313,2,  34.8317,2,    296.8,2,    297.1,2,     6.50,2,    12.70,2,     0.01,2,     0.86,2,    5.057,2,    2.311,2,    0.311,2,     0.18,2,    40.50,2,   0.9302
  32PZ20020819,   CBL,    81,  1,      8,      8,2,20020911,1436, 77.0962,-157.4018, 1555,    427.8,   0.7836,  34.8364,2,  34.8365,2,    297.2,2,    296.9,2,     6.60,2,    12.80,2,     0.01,2,     0.86,2,    4.684,2,    2.118,2,    0.269,2,  -999.00,9,  -999.00,9,   0.7640
  32PZ20020819,   CBL,    81,  1,      7,      7,2,20020911,1436, 77.0962,-157.4018, 1555,    546.4,   0.5929,  34.8499,2,  34.8500,2,    298.6,2,    298.7,2,     6.60,2,    12.80,2,     0.00,2,     0.87,2,    4.476,2,    2.043,2,    0.258,2,  -999.00,9,  -999.00,9,   0.5681
  32PZ20020819,   CBL,    81,  1,      6,      6,2,20020911,1436, 77.0962,-157.4018, 1555,    695.0,   0.3350,  34.8613,2,  34.8615,2,    299.7,2,    300.7,2,     6.70,2,    12.90,2,     0.00,2,     0.87,2,    4.089,2,    1.873,2,    0.222,2,  -999.00,9,  -999.00,9,   0.3040
  32PZ20020819,   CBL,    81,  1,      5,      5,2,20020911,1436, 77.0962,-157.4018, 1555,    843.4,   0.0976,  34.8695,2,  34.8695,2,    301.6,2,    301.9,2,     6.90,2,    12.90,2,     0.00,2,     0.88,2,    3.821,6,    1.746,6,    0.207,6,     0.13,2,    41.50,2,   0.0605
  32PZ20020819,   CBL,    81,  1,      4,      4,2,20020911,1436, 77.0962,-157.4018, 1555,   1041.6,  -0.0856,  34.8881,2,  34.8892,2,    299.6,2,    299.5,2,     8.00,2,    13.20,2,     0.00,2,     0.91,2,    2.439,2,    1.130,2,    0.113,2,  -999.00,9,  -999.00,9,  -0.1317
  32PZ20020819,   CBL,    81,  1,      3,      3,2,20020911,1436, 77.0962,-157.4018, 1555,   1240.2,  -0.1910,  34.9063,2,  34.9061,2,    296.1,2,    295.9,2,     9.50,2,    13.80,2,     0.00,2,     0.95,2,    1.239,2,    0.595,2,    0.040,2,  -999.00,9,  -999.00,9,  -0.2471
  32PZ20020819,   CBL,    81,  1,      2,      2,2,20020911,1436, 77.0962,-157.4018, 1555,   1439.5,  -0.2746,  34.9184,2,  34.9183,2,    292.9,2,    293.8,2,    11.00,2,    14.10,2,     0.00,2,     0.98,2,    0.760,2,    0.348,2,    0.025,2,  -999.00,9,  -999.00,9,  -0.3413
  32PZ20020819,   CBL,    81,  1,      1,      1,2,20020911,1436, 77.0962,-157.4018, 1555,   1594.0,  -0.3017,  34.9235,2,  34.9240,2,    292.0,2,    291.6,2,    11.70,2,    14.20,2,     0.00,2,     0.99,2,    0.564,2,    0.253,2,    0.019,2,  -999.00,9,  -999.00,9,  -0.3773
  32PZ20020819,   CBL,    82,  1,     18,     18,2,20020911,1758, 77.0293,-158.0682,  962,     10.8,  -1.4877,  27.9103,2,  28.0649,2,    377.8,2,    380.1,2,  -999.00,9,  -999.00,9,  -999.00,9,  -999.00,9,    7.592,2,    3.812,2,    0.708,2,  -999.00,9,  -999.00,9,  -1.4878
  32PZ20020819,   CBL,    82,  1,     17,     17,2,20020911,1758, 77.0293,-158.0682,  962,     27.8,  -0.8514,  30.9752,2,-999.0000,9,    381.8,2,    373.8,2,     7.10,2,     1.70,2,     0.21,2,     0.95,2,    7.069,2,    3.565,2,    0.616,2,  -999.00,9,  -999.00,9,  -0.8520
  32PZ20020819,   CBL,    82,  1,     16,     16,2,20020911,1758, 77.0293,-158.0682,  962,     56.2,  -1.1873,  32.2056,2,-999.0000,9,    336.1,2,   -999.0,9,    20.30,2,     9.70,2,     0.02,2,     1.49,2, -999.000,9, -999.000,9, -999.000,9,  -999.00,9,  -999.00,9,  -1.1885
  32PZ20020819,   CBL,    82,  1,     15,     15,2,20020911,1758, 77.0293,-158.0682,  962,     75.9,  -1.1791,  32.5386,2,-999.0000,9,    303.3,2,   -999.0,9,    29.40,2,    13.30,2,     0.01,2,     1.78,2, -999.000,9, -999.000,9, -999.000,9,  -999.00,9,  -999.00,9,  -1.1807
  32PZ20020819,   CBL,    82,  1,     14,     14,2,20020911,1758, 77.0293,-158.0682,  962,     99.0,  -1.2318,  32.7683,2,  32.7750,2,    281.9,2,    272.1,2,    36.00,2,    15.20,2,     0.01,2,     1.99,2, -999.000,9, -999.000,9, -999.000,9,  -999.00,9,  -999.00,9,  -1.2340
  32PZ20020819,   CBL,    82,  1,     13,     13,2,20020911,1758, 77.0293,-158.0682,  962,    124.4,  -1.5701,  33.0637,2,-999.0000,9,    292.8,2,    281.3,2,    35.80,2,    15.10,2,     0.01,2,     1.87,2, -999.000,9, -999.000,9, -999.000,9,  -999.00,9,  -999.00,9,  -1.5725
  32PZ20020819,   CBL,    82,  1,     12,     12,2,20020911,1758, 77.0293,-158.0682,  962,    150.1,  -1.4834,  33.4144,2,-999.0000,9,    281.2,2,   -999.0,9,    39.20,2,    16.90,2,     0.01,2,     1.91,2, -999.000,9, -999.000,9, -999.000,9,  -999.00,9,  -999.00,9,  -1.4866
  32PZ20020819,   CBL,    82,  1,     11,     11,2,20020911,1758, 77.0293,-158.0682,  962,    175.1,  -1.2138,  34.0007,2,  34.0308,2,    262.0,2,    266.9,2,    21.70,2,    12.80,2,     0.01,2,     1.23,2,    5.859,2,    2.780,2,    0.379,2,  -999.00,9,  -999.00,9,  -1.2182
  32PZ20020819,   CBL,    82,  1,     10,     10,2,20020911,1758, 77.0293,-158.0682,  962,    207.2,  -0.5726,  34.3840,2,  34.4035,2,    279.4,2,    280.5,2,    11.30,2,    11.80,2,     0.01,2,     0.91,2,    5.766,2,    2.713,2,    0.349,2,  -999.00,9,  -999.00,9,  -0.5792
  32PZ20020819,   CBL,    82,  1,      9,      9,2,20020911,1758, 77.0293,-158.0682,  962,    291.6,   0.7809,  34.7567,2,  34.7573,2,    295.2,2,    295.0,2,  -999.00,9,  -999.00,9,  -999.00,9,  -999.00,9,    5.297,2,    2.489,2,    0.332,2,  -999.00,9,  -999.00,9,   0.7679
  32PZ20020819,   CBL,    82,  1,      8,      8,2,20020911,1758, 77.0293,-158.0682,  962,    352.6,   1.0430,  34.8304,2,  34.8332,2,    297.1,2,   -999.0,9,  -999.00,9,  -999.00,9,  -999.00,9,  -999.00,9,    5.084,2,    2.390,2,    0.310,2,  -999.00,9,  -999.00,9,   1.0263
  32PZ20020819,   CBL,    82,  1,      7,      7,2,20020911,1758, 77.0293,-158.0682,  962,    387.0,   1.0749,  34.8452,2,  34.8454,2,    298.1,2,    298.2,2,  -999.00,9,  -999.00,9,  -999.00,9,  -999.00,9,    5.093,6,    2.392,6,    0.317,6,  -999.00,9,  -999.00,9,   1.0563
  32PZ20020819,   CBL,    82,  1,      6,      6,2,20020911,1758, 77.0293,-158.0682,  962,    441.3,   0.8830,  34.8430,2,  34.8460,2,    298.6,2,    298.3,2,  -999.00,9,  -999.00,9,  -999.00,9,  -999.00,9,    4.660,2,    2.260,2,    0.292,2,  -999.00,9,  -999.00,9,   0.8623
  32PZ20020819,   CBL,    82,  1,      5,      5,2,20020911,1758, 77.0293,-158.0682,  962,    515.1,   0.7372,  34.8537,2,-999.0000,9,    300.1,2,   -999.0,9,  -999.00,9,  -999.00,9,  -999.00,9,  -999.00,9,    4.687,2,    2.202,2,    0.283,2,  -999.00,9,  -999.00,9,   0.7133
  32PZ20020819,   CBL,    82,  1,      4,      4,2,20020911,1758, 77.0293,-158.0682,  962,    593.8,   0.5502,  34.8581,2,  34.8590,2,    301.0,2,    300.8,2,  -999.00,9,  -999.00,9,  -999.00,9,  -999.00,9,    4.495,2,    2.137,2,    0.277,2,  -999.00,9,  -999.00,9,   0.5232
  32PZ20020819,   CBL,    82,  1,      3,      3,2,20020911,1758, 77.0293,-158.0682,  962,    681.5,   0.3777,  34.8608,2,  34.8610,2,    301.0,2,   -999.0,9,  -999.00,9,  -999.00,9,  -999.00,9,  -999.00,9,    4.038,2,    1.937,2,    0.242,2,  -999.00,9,  -999.00,9,   0.3471
  32PZ20020819,   CBL,    82,  1,      2,      2,2,20020911,1758, 77.0293,-158.0682,  962,    780.2,   0.1948,  34.8655,2,  34.8655,2,    301.8,2,    301.9,2,  -999.00,9,  -999.00,9,  -999.00,9,  -999.00,9, -999.000,9, -999.000,9, -999.000,9,  -999.00,9,  -999.00,9,   0.1603
  32PZ20020819,   CBL,    82,  1,      1,      1,2,20020911,1758, 77.0293,-158.0682,  962,    949.9,  -0.0147,  34.8788,2,  34.8795,2,    301.2,2,    301.2,2,  -999.00,9,  -999.00,9,  -999.00,9,  -999.00,9,    3.253,2,    1.500,2,    0.153,2,  -999.00,9,  -999.00,9,  -0.0565