BOTTLE,20220815CCHSIOAMB
EXPOCODE,SECT_ID,STNNBR,CASTNO,SAMPNO,BTLNBR,BTLNBR_FLAG_W,DATE,TIME,LATITUDE,LONGITUDE,DEPTH,CTDPRS,CTDTMP,CTDSAL,CTDSAL_FLAG_W,SALNTY,SALNTY_FLAG_W,CTDOXY,CTDOXY_FLAG_W,OXYGEN,OXYGEN_FLAG_W,SILCAT,SILCAT_FLAG_W,NITRAT,NITRAT_FLAG_W,NITRIT,NITRIT_FLAG_W,PHSPHT,PHSPHT_FLAG_W,CFC-11,CFC-11_FLAG_W,CFC-12,CFC-12_FLAG_W,CFC113,CFC113_FLAG_W,DELO18,DELO18_FLAG_W,BARIUM,BARIUM_FLAG_W,THETA
,,,,,,,,,,,METERS,DBAR,ITS-90,PSS-78,,PSS-78,,UMOL/KG,,UMOL/KG,,UMOL/KG,,UMOL/KG,,UMOL/KG,,UMOL/KG,,PMOL/KG,,PMOL/KG,,PMOL/KG,,/MILLE,,NMOL/KG,,DEG C
  32PZ20020819,   CBL,   114,  1,     24,     24,2,20020919,1352, 75.1562,-160.1768, 2017,     10.6,  -0.8587,  26.8241,2,  26.8611,2,    375.5,2,    377.2,2,     3.30,2,     0.10,2,     0.00,2,     0.62,2,    7.298,2,    3.881,2,    0.713,2,    -3.64,2,    66.40,2,  -0.8588
  32PZ20020819,   CBL,   114,  1,     23,     23,2,20020919,1352, 75.1562,-160.1768, 2017,     19.4,  -1.0959,  27.3868,2,  27.4496,2,    377.7,2,    379.8,2,     3.70,2,     0.10,2,     0.00,2,     0.64,2,    7.434,2,    3.888,2,    0.713,2,    -3.35,2,    65.70,2,  -1.0961
  32PZ20020819,   CBL,   114,  1,     22,     22,2,20020919,1352, 75.1562,-160.1768, 2017,     36.0,   0.2351,  31.4200,2,  31.3982,2,    391.7,2,    390.9,2,     3.50,2,     0.10,2,     0.00,2,     0.84,2,    6.507,2,    3.300,2,    0.537,2,    -2.40,2,    61.00,2,   0.2340
  32PZ20020819,   CBL,   114,  1,     21,     21,2,20020919,1352, 75.1562,-160.1768, 2017,     57.6,  -0.8845,  32.0249,2,  32.0242,2,    356.1,2,    336.9,2,    15.10,2,     6.50,2,     0.10,2,     1.32,2,    6.517,2,    3.270,2,    0.490,2,    -2.16,2,    74.40,2,  -0.8858
  32PZ20020819,   CBL,   114,  1,     20,     20,2,20020919,1352, 75.1562,-160.1768, 2017,     77.5,  -1.2425,  32.3797,2,  32.3774,2,    317.2,2,    306.6,2,    23.50,2,    10.80,2,     0.09,2,     1.60,2,    6.043,2,    3.021,2,    0.449,2,  -999.00,9,  -999.00,9,  -1.2441
  32PZ20020819,   CBL,   114,  1,     19,     19,2,20020919,1352, 75.1562,-160.1768, 2017,     91.5,  -1.3150,  32.5460,2,  32.5464,2,    302.4,2,    295.1,2,    27.60,2,    12.60,2,     0.07,2,     1.72,2,    5.682,2,    2.912,2,    0.424,2,    -1.75,2,    69.20,2,  -1.3169
  32PZ20020819,   CBL,   114,  1,     18,     18,2,20020919,1352, 75.1562,-160.1768, 2017,    107.0,  -1.3145,  32.7004,2,  32.7033,2,    293.0,2,    286.7,2,    31.20,2,    13.90,2,     0.07,3,     1.85,2, -999.000,9, -999.000,9, -999.000,9,  -999.00,9,  -999.00,9,  -1.3168
  32PZ20020819,   CBL,   114,  1,     17,     17,2,20020919,1352, 75.1562,-160.1768, 2017,    121.7,  -1.4799,  32.7982,2,  32.8074,2,    288.1,2,    287.0,2,    33.40,2,    14.50,2,     0.07,3,     1.87,2, -999.000,9, -999.000,9, -999.000,9,  -999.00,9,  -999.00,9,  -1.4823
  32PZ20020819,   CBL,   114,  1,     16,     16,2,20020919,1352, 75.1562,-160.1768, 2017,    136.6,  -1.5466,  32.9406,2,  32.9517,2,    289.1,2,    288.1,2,    33.90,2,    14.70,2,     0.07,3,     1.85,2,    5.696,2,    2.825,2,    0.405,2,    -1.54,2,    71.10,2,  -1.5493
  32PZ20020819,   CBL,   114,  1,     15,     15,2,20020919,1352, 75.1562,-160.1768, 2017,    151.3,  -1.5442,  33.1141,2,  33.1278,2,    287.7,2,    285.1,2,    34.30,2,    14.90,2,     0.07,3,     1.85,2, -999.000,9, -999.000,9, -999.000,9,  -999.00,9,  -999.00,9,  -1.5473
  32PZ20020819,   CBL,   114,  1,     14,     14,2,20020919,1352, 75.1562,-160.1768, 2017,    170.7,  -1.4764,  33.3854,2,  33.3917,2,    282.2,2,    277.9,2,    35.60,2,    15.50,2,     0.07,3,     1.85,2,    5.419,2,    2.750,2,    0.382,2,  -999.00,9,  -999.00,9,  -1.4801
  32PZ20020819,   CBL,   114,  1,     13,     13,2,20020919,1352, 75.1562,-160.1768, 2017,    190.1,  -1.1907,  33.7998,2,  33.8119,2,    276.8,2,    271.0,2,    30.50,2,    15.00,2,     0.07,3,     1.64,2, -999.000,9, -999.000,9, -999.000,9,  -999.00,9,  -999.00,9,  -1.1955
  32PZ20020819,   CBL,   114,  1,     12,     12,2,20020919,1352, 75.1562,-160.1768, 2017,    221.1,  -0.6938,  34.3165,2,  34.3126,2,    262.6,2,    263.2,2,    18.40,2,    13.20,2,     0.07,3,     1.17,2,    4.925,2,    2.266,2,    0.266,2,    -0.33,2,    47.40,2,  -0.7006
  32PZ20020819,   CBL,   114,  1,     11,     11,2,20020919,1352, 75.1562,-160.1768, 2017,    252.2,  -0.1225,  34.5280,2,  34.5249,2,    277.4,2,    278.6,2,    11.20,2,    12.20,2,     0.07,3,     0.95,2,    5.077,6,    2.296,6,    0.278,6,  -999.00,9,  -999.00,9,  -0.1316
  32PZ20020819,   CBL,   114,  1,     10,     10,2,20020919,1352, 75.1562,-160.1768, 2017,    332.5,   0.7241,  34.7807,2,  34.7817,2,    293.5,2,    292.7,2,     7.00,2,    12.40,2,     0.06,3,     0.88,2,    5.093,2,    2.344,2,    0.308,2,     0.08,2,    43.10,2,   0.7093
  32PZ20020819,   CBL,   114,  1,      9,      9,2,20020919,1352, 75.1562,-160.1768, 2017,    368.9,   0.8392,  34.8152,2,  34.8173,2,    295.5,2,    295.2,2,     6.70,2,    12.40,2,     0.07,3,     0.88,2,    4.753,2,    2.232,2,    0.288,2,  -999.00,9,  -999.00,9,   0.8223
  32PZ20020819,   CBL,   114,  1,      8,      8,2,20020919,1352, 75.1562,-160.1768, 2017,    410.5,   0.8004,  34.8276,2,  34.8287,2,    296.8,2,    296.2,2,     6.70,2,    12.50,2,     0.07,3,     0.88,2,    4.805,2,    2.187,2,    0.279,2,  -999.00,9,  -999.00,9,   0.7816
  32PZ20020819,   CBL,   114,  1,      7,      7,2,20020919,1352, 75.1562,-160.1768, 2017,    553.3,   0.5341,  34.8473,2,  34.8490,2,    298.3,2,    298.1,2,     6.80,2,    12.60,2,     0.07,3,     0.88,2,    4.294,2,    1.984,2,    0.240,2,  -999.00,9,  -999.00,9,   0.5092
  32PZ20020819,   CBL,   114,  1,      6,      6,2,20020919,1352, 75.1562,-160.1768, 2017,    742.8,   0.2665,  34.8610,2,  34.8619,2,    300.0,2,    301.1,2,     7.00,2,    12.60,2,     0.06,3,     0.89,2,    3.963,2,    1.808,2,    0.217,2,     0.25,2,    44.30,2,   0.2335
  32PZ20020819,   CBL,   114,  1,      5,      5,2,20020919,1352, 75.1562,-160.1768, 2017,    970.9,   0.0371,  34.8772,2,  34.8783,2,    299.3,2,    299.1,2,     7.80,2,    12.90,2,     0.06,3,     0.91,2, -999.000,9, -999.000,9, -999.000,9,  -999.00,9,  -999.00,9,  -0.0062
  32PZ20020819,   CBL,   114,  1,      4,      4,2,20020919,1352, 75.1562,-160.1768, 2017,   1246.0,  -0.1403,  34.9026,2,  34.9040,2,    294.7,2,    295.0,2,     9.80,2,    13.40,2,     0.06,3,     0.96,2, -999.000,9, -999.000,9, -999.000,9,  -999.00,9,  -999.00,9,  -0.1972
  32PZ20020819,   CBL,   114,  1,      3,      3,2,20020919,1352, 75.1562,-160.1768, 2017,   1530.9,  -0.2734,  34.9221,2,  34.9235,2,    290.4,2,    290.5,2,    12.40,2,    14.10,2,     0.06,3,     1.01,2, -999.000,9, -999.000,9, -999.000,9,  -999.00,9,  -999.00,9,  -0.3455
  32PZ20020819,   CBL,   114,  1,      2,      2,2,20020919,1352, 75.1562,-160.1768, 2017,   1780.6,  -0.3025,  34.9275,2,  34.9282,2,    288.0,2,    289.0,2,    13.30,2,    14.40,2,     0.06,3,     1.03,2, -999.000,9, -999.000,9, -999.000,9,  -999.00,9,  -999.00,9,  -0.3899
  32PZ20020819,   CBL,   114,  1,      1,      1,2,20020919,1352, 75.1562,-160.1768, 2017,   1986.5,  -0.2980,  34.9285,2,  34.9282,2,    287.6,2,    287.3,2,    13.80,2,    14.50,2,     0.06,3,     1.04,2, -999.000,9, -999.000,9, -999.000,9,  -999.00,9,  -999.00,9,  -0.3991
  32PZ20020819,   CBL,   115,  1,     17,     17,2,20020919,1638, 75.2452,-160.7155, 2134,     12.0,  -1.1684,  27.3757,2,  27.3955,2,    377.1,2,    378.0,2,  -999.00,9,  -999.00,9,  -999.00,9,  -999.00,9,    7.683,2,    3.887,2,    0.715,2,  -999.00,9,  -999.00,9,  -1.1685
  32PZ20020819,   CBL,   115,  1,     16,     16,2,20020919,1638, 75.2452,-160.7155, 2134,     35.6,   0.4956,  31.3324,2,  31.4400,2,    391.7,2,    388.2,2,  -999.00,9,  -999.00,9,  -999.00,9,  -999.00,9,    6.719,2,    3.317,2,    0.524,2,  -999.00,9,  -999.00,9,   0.4944
  32PZ20020819,   CBL,   115,  1,     15,     15,2,20020919,1638, 75.2452,-160.7155, 2134,     73.7,  -1.2075,  32.3564,2,-999.0000,9,    319.6,2,   -999.0,9,    24.20,2,    11.30,2,     0.07,2,     1.62,2,    6.132,2,    2.994,2,    0.435,2,  -999.00,9,  -999.00,9,  -1.2090
  32PZ20020819,   CBL,   115,  1,     14,     14,2,20020919,1638, 75.2452,-160.7155, 2134,     90.1,  -1.2969,  32.5442,2,-999.0000,9,    304.8,2,   -999.0,9,    28.30,2,    12.80,2,     0.07,2,     1.75,2,    5.921,2,    2.887,2,    0.422,2,  -999.00,9,  -999.00,9,  -1.2988
  32PZ20020819,   CBL,   115,  1,     13,     13,2,20020919,1638, 75.2452,-160.7155, 2134,    106.8,  -1.2903,  32.6974,2,-999.0000,9,    291.0,2,   -999.0,9,    32.40,2,    14.20,2,     0.07,3,     1.89,2,    6.005,2,    2.968,2,    0.450,2,  -999.00,9,  -999.00,9,  -1.2926
  32PZ20020819,   CBL,   115,  1,     12,     12,2,20020919,1638, 75.2452,-160.7155, 2134,    121.4,  -1.4900,  32.8086,2,-999.0000,9,    287.0,2,   -999.0,9,    33.70,2,    14.60,2,     0.06,3,     1.87,2,    5.711,2,    2.809,2,    0.421,2,  -999.00,9,  -999.00,9,  -1.4924
  32PZ20020819,   CBL,   115,  1,     11,     11,2,20020919,1638, 75.2452,-160.7155, 2134,    137.4,  -1.5476,  32.9699,2,  33.0067,2,    289.6,2,    285.7,2,    34.80,2,    15.00,2,     0.06,3,     1.86,2,    5.622,2,    2.752,2,    0.378,2,  -999.00,9,  -999.00,9,  -1.5503
  32PZ20020819,   CBL,   115,  1,     10,     10,2,20020919,1638, 75.2452,-160.7155, 2134,    159.9,  -1.5613,  33.2462,2,  33.2685,2,    286.4,2,    279.7,2,    36.60,2,    15.20,2,     0.06,3,     1.87,2,    5.711,2,    2.846,2,    0.415,2,  -999.00,9,  -999.00,9,  -1.5646
  32PZ20020819,   CBL,   115,  1,      9,      9,2,20020919,1638, 75.2452,-160.7155, 2134,    183.4,  -1.3369,  33.6284,2,-999.0000,9,    282.1,2,   -999.0,9,    33.80,2,    15.50,2,     0.06,3,     1.73,2,    5.214,2,    2.547,2,    0.358,2,  -999.00,9,  -999.00,9,  -1.3412
  32PZ20020819,   CBL,   115,  1,      8,      8,2,20020919,1638, 75.2452,-160.7155, 2134,    219.2,  -0.6533,  34.3358,2,  34.3497,2,    260.6,2,    260.6,2,    19.20,2,    13.40,2,     0.05,3,     1.18,2,    4.916,2,    2.256,2,    0.248,2,  -999.00,9,  -999.00,9,  -0.6601
  32PZ20020819,   CBL,   115,  1,      7,      7,2,20020919,1638, 75.2452,-160.7155, 2134,    334.8,   0.8158,  34.7853,2,  34.7873,2,    290.7,2,    291.8,2,  -999.00,9,  -999.00,9,  -999.00,9,  -999.00,9,    5.250,6,    2.440,6,    0.333,6,  -999.00,9,  -999.00,9,   0.8006
  32PZ20020819,   CBL,   115,  1,      6,      6,2,20020919,1638, 75.2452,-160.7155, 2134,    366.4,   0.9514,  34.8197,2,  34.8199,2,    292.5,2,    292.9,2,  -999.00,9,  -999.00,9,  -999.00,9,  -999.00,9,    5.271,2,    2.473,2,    0.385,2,  -999.00,9,  -999.00,9,   0.9343
  32PZ20020819,   CBL,   115,  1,      5,      5,2,20020919,1638, 75.2452,-160.7155, 2134,    578.0,   0.5296,  34.8496,2,  34.8500,2,    298.5,2,    298.2,2,  -999.00,9,  -999.00,9,  -999.00,9,  -999.00,9,    4.501,2,    2.052,2,    0.239,2,  -999.00,9,  -999.00,9,   0.5035
  32PZ20020819,   CBL,   115,  1,      4,      4,2,20020919,1638, 75.2452,-160.7155, 2134,    815.9,   0.1792,  34.8654,2,  34.8657,2,    300.1,2,    300.3,2,  -999.00,9,  -999.00,9,  -999.00,9,  -999.00,9,    3.672,2,    1.682,2,    0.185,2,  -999.00,9,  -999.00,9,   0.1430
  32PZ20020819,   CBL,   115,  1,      3,      3,2,20020919,1638, 75.2452,-160.7155, 2134,   1223.2,  -0.1440,  34.9015,2,  34.9019,2,    296.1,2,    296.2,2,  -999.00,9,  -999.00,9,  -999.00,9,  -999.00,9,    1.238,6,    0.584,6,    0.027,6,  -999.00,9,  -999.00,9,  -0.1996
  32PZ20020819,   CBL,   115,  1,      2,      2,2,20020919,1638, 75.2452,-160.7155, 2134,   1533.2,  -0.2381,  34.9170,2,  34.9170,2,    292.8,2,    292.5,2,  -999.00,9,  -999.00,9,  -999.00,9,  -999.00,9,    0.552,2,    0.257,2,    0.003,2,  -999.00,9,  -999.00,9,  -0.3108
  32PZ20020819,   CBL,   115,  1,      1,      1,2,20020919,1638, 75.2452,-160.7155, 2134,   2115.5,  -0.2984,  34.9279,2,  34.9279,2,    288.8,2,    288.7,2,  -999.00,9,  -999.00,9,  -999.00,9,  -999.00,9,    0.449,2,    0.223,2, -999.000,9,  -999.00,9,  -999.00,9,  -0.4083
  32PZ20020819,   CBL,   116,  1,     16,     16,2,20020919,1926, 75.3297,-161.2505, 2136,     11.4,  -1.3522,  27.2916,2,  27.3997,2,    376.0,2,    379.2,2,  -999.00,9,  -999.00,9,  -999.00,9,  -999.00,9, -999.000,9, -999.000,9, -999.000,9,  -999.00,9,  -999.00,9,  -1.3523
  32PZ20020819,   CBL,   116,  1,     15,     15,2,20020919,1926, 75.3297,-161.2505, 2136,     69.9,  -1.1273,  32.2954,2,  32.3162,2,    321.3,2,    308.7,2,    22.30,2,    10.00,2,     0.08,2,     1.55,2, -999.000,9, -999.000,9, -999.000,9,  -999.00,9,  -999.00,9,  -1.1288
  32PZ20020819,   CBL,   116,  1,     14,     14,2,20020919,1926, 75.3297,-161.2505, 2136,     92.8,  -1.2221,  32.5600,2,-999.0000,9,    298.8,2,   -999.0,9,    28.50,2,    12.50,2,     0.07,2,     1.74,2, -999.000,9, -999.000,9, -999.000,9,  -999.00,9,  -999.00,9,  -1.2241
  32PZ20020819,   CBL,   116,  1,     13,     13,2,20020919,1926, 75.3297,-161.2505, 2136,    109.4,  -1.2498,  32.6999,2,  32.7067,2,    289.5,2,    283.8,2,    31.50,2,    13.70,2,     0.07,3,     1.85,2, -999.000,9, -999.000,9, -999.000,9,  -999.00,9,  -999.00,9,  -1.2522
  32PZ20020819,   CBL,   116,  1,     12,     12,2,20020919,1926, 75.3297,-161.2505, 2136,    122.4,  -1.4456,  32.7867,2,-999.0000,9,    286.1,2,   -999.0,9,    33.60,2,    14.30,2,     0.07,3,     1.87,2, -999.000,9, -999.000,9, -999.000,9,  -999.00,9,  -999.00,9,  -1.4481
  32PZ20020819,   CBL,   116,  1,     11,     11,2,20020919,1926, 75.3297,-161.2505, 2136,    152.1,  -1.5463,  33.0662,2,  33.0863,2,    289.4,2,    285.9,2,    34.10,2,    14.80,2,     0.07,3,     1.83,2, -999.000,9, -999.000,9, -999.000,9,  -999.00,9,  -999.00,9,  -1.5494
  32PZ20020819,   CBL,   116,  1,     10,     10,2,20020919,1926, 75.3297,-161.2505, 2136,    181.7,  -1.3821,  33.5222,2,-999.0000,9,    281.9,2,   -999.0,9,    33.70,2,    15.40,2,     0.07,3,     1.76,2, -999.000,9, -999.000,9, -999.000,9,  -999.00,9,  -999.00,9,  -1.3862
  32PZ20020819,   CBL,   116,  1,      9,      9,2,20020919,1926, 75.3297,-161.2505, 2136,    211.0,  -0.8700,  34.1628,2,-999.0000,9,    268.8,2,   -999.0,9,    23.30,2,    14.10,2,     0.06,3,     1.34,2, -999.000,9, -999.000,9, -999.000,9,  -999.00,9,  -999.00,9,  -0.8761
  32PZ20020819,   CBL,   116,  1,      8,      8,2,20020919,1926, 75.3297,-161.2505, 2136,    250.7,  -0.1069,  34.5303,2,  34.5422,2,    260.0,2,    260.1,2,    16.60,2,    13.00,2,     0.06,3,     1.05,2, -999.000,9, -999.000,9, -999.000,9,  -999.00,9,  -999.00,9,  -0.1160
  32PZ20020819,   CBL,   116,  1,      7,      7,2,20020919,1926, 75.3297,-161.2505, 2136,    319.6,   0.7847,  34.7641,2,  34.7693,2,    286.7,2,    286.6,2,  -999.00,9,  -999.00,9,  -999.00,9,  -999.00,9, -999.000,9, -999.000,9, -999.000,9,  -999.00,9,  -999.00,9,   0.7704
  32PZ20020819,   CBL,   116,  1,      6,      6,2,20020919,1926, 75.3297,-161.2505, 2136,    418.1,   0.8664,  34.8298,2,  34.8297,2,    295.4,2,    295.5,2,  -999.00,9,  -999.00,9,  -999.00,9,  -999.00,9, -999.000,9, -999.000,9, -999.000,9,  -999.00,9,  -999.00,9,   0.8470
  32PZ20020819,   CBL,   116,  1,      5,      5,2,20020919,1926, 75.3297,-161.2505, 2136,    644.6,   0.4390,  34.8543,2,  34.8546,2,    298.8,2,    298.5,2,  -999.00,9,  -999.00,9,  -999.00,9,  -999.00,9, -999.000,9, -999.000,9, -999.000,9,  -999.00,9,  -999.00,9,   0.4100
  32PZ20020819,   CBL,   116,  1,      4,      4,2,20020919,1926, 75.3297,-161.2505, 2136,    900.3,   0.1407,  34.8684,2,  34.8680,2,    299.7,2,    299.8,2,  -999.00,9,  -999.00,9,  -999.00,9,  -999.00,9, -999.000,9, -999.000,9, -999.000,9,  -999.00,9,  -999.00,9,   0.1003
  32PZ20020819,   CBL,   116,  1,      3,      3,2,20020919,1926, 75.3297,-161.2505, 2136,   1284.6,  -0.1433,  34.9021,2,  34.9022,2,    296.0,2,    296.1,2,  -999.00,9,  -999.00,9,  -999.00,9,  -999.00,9, -999.000,9, -999.000,9, -999.000,9,  -999.00,9,  -999.00,9,  -0.2024
  32PZ20020819,   CBL,   116,  1,      2,      2,2,20020919,1926, 75.3297,-161.2505, 2136,   1679.2,  -0.2961,  34.9247,2,  34.9248,2,    290.7,2,    290.7,2,  -999.00,9,  -999.00,9,  -999.00,9,  -999.00,9, -999.000,9, -999.000,9, -999.000,9,  -999.00,9,  -999.00,9,  -0.3771
  32PZ20020819,   CBL,   116,  1,      1,      1,2,20020919,1926, 75.3297,-161.2505, 2136,   2115.6,  -0.2985,  34.9281,2,  34.9282,2,    289.2,2,    289.0,2,  -999.00,9,  -999.00,9,  -999.00,9,  -999.00,9, -999.000,9, -999.000,9, -999.000,9,  -999.00,9,  -999.00,9,  -0.4084