BOTTLE,20220815CCHSIOAMB
EXPOCODE,SECT_ID,STNNBR,CASTNO,SAMPNO,BTLNBR,BTLNBR_FLAG_W,DATE,TIME,LATITUDE,LONGITUDE,DEPTH,CTDPRS,CTDTMP,CTDSAL,CTDSAL_FLAG_W,SALNTY,SALNTY_FLAG_W,CTDOXY,CTDOXY_FLAG_W,OXYGEN,OXYGEN_FLAG_W,SILCAT,SILCAT_FLAG_W,NITRAT,NITRAT_FLAG_W,NITRIT,NITRIT_FLAG_W,PHSPHT,PHSPHT_FLAG_W,CFC-11,CFC-11_FLAG_W,CFC-12,CFC-12_FLAG_W,CFC113,CFC113_FLAG_W,DELO18,DELO18_FLAG_W,BARIUM,BARIUM_FLAG_W,THETA
,,,,,,,,,,,METERS,DBAR,ITS-90,PSS-78,,PSS-78,,UMOL/KG,,UMOL/KG,,UMOL/KG,,UMOL/KG,,UMOL/KG,,UMOL/KG,,PMOL/KG,,PMOL/KG,,PMOL/KG,,/MILLE,,NMOL/KG,,DEG C
  32PZ20020819,   CBL,    42,  1,     25,     25,2,20020903,1025, 78.6543,-167.1465, 1003,      2.0,  -1.6127,  30.2239,2,  30.2218,2,    388.1,2,    391.2,2,  -999.00,9,  -999.00,9,  -999.00,9,  -999.00,9, -999.000,9, -999.000,9, -999.000,9,  -999.00,9,  -999.00,9,  -1.6127
  32PZ20020819,   CBL,    42,  1,     24,     24,2,20020903,1025, 78.6543,-167.1465, 1003,     16.5,  -1.6073,  30.2235,2,  30.2213,2,    390.2,2,    389.5,2,     2.30,2,     0.20,2,     0.00,2,     0.75,2,    7.456,2,    3.767,2,    0.679,2,    -2.62,2,    69.90,2,  -1.6075
  32PZ20020819,   CBL,    42,  1,     23,     23,2,20020903,1025, 78.6543,-167.1465, 1003,     33.9,  -1.4448,  30.6807,2,  30.4230,2,    389.5,2,    390.1,2,     3.00,2,     0.40,2,     0.02,2,     0.81,2,    7.536,2,    3.809,2,    0.685,2,    -2.45,2,    69.30,2,  -1.4453
  32PZ20020819,   CBL,    42,  1,     22,     22,2,20020903,1025, 78.6543,-167.1465, 1003,     51.2,  -1.5889,  31.9866,2,  32.0000,2,    332.1,2,    311.3,2,    19.70,2,     8.70,2,     0.06,2,     1.47,2,    6.989,2,    3.576,2,    0.585,2,    -1.54,2,    59.10,2,  -1.5898
  32PZ20020819,   CBL,    42,  1,     21,     21,2,20020903,1025, 78.6543,-167.1465, 1003,     66.1,  -1.5814,  32.3536,2,  32.4060,2,    304.7,2,    287.7,2,    27.20,2,    10.70,2,     0.06,2,     1.69,2,    6.748,2,    3.498,2,    0.562,2,  -999.00,9,  -999.00,9,  -1.5826
  32PZ20020819,   CBL,    42,  1,     20,     20,2,20020903,1025, 78.6543,-167.1465, 1003,     80.9,  -1.5030,  32.7848,2,  32.8896,2,    270.7,2,    247.5,2,    37.20,2,    14.90,2,     0.06,2,     1.94,2, -999.000,9, -999.000,9, -999.000,9,    -1.23,2,    68.30,2,  -1.5046
  32PZ20020819,   CBL,    42,  1,     19,     19,2,20020903,1025, 78.6543,-167.1465, 1003,     90.6,  -1.4588,  33.1972,2,  33.2994,2,    249.9,2,    243.7,2,    37.80,2,    15.50,2,     0.06,2,     1.87,2,    6.338,2,    3.208,2,    0.458,2,    -1.12,2,    63.60,2,  -1.4607
  32PZ20020819,   CBL,    42,  1,     18,     18,2,20020903,1025, 78.6543,-167.1465, 1003,    100.7,  -1.4128,  33.5256,2,  33.5900,2,    244.8,2,    244.5,2,    36.50,2,    15.30,2,     0.06,3,     1.78,2,    6.265,2,    3.111,2,    0.449,2,    -0.96,2,    60.10,2,  -1.4150
  32PZ20020819,   CBL,    42,  1,     17,     17,2,20020903,1025, 78.6543,-167.1465, 1003,    110.2,  -1.3819,  33.7687,2,  33.7979,2,    246.7,2,    258.1,2,    27.40,2,    13.30,2,     0.06,3,     1.45,2,    6.389,2,    3.085,2,    0.435,2,    -0.77,2,    51.30,2,  -1.3844
  32PZ20020819,   CBL,    42,  1,     16,     16,2,20020903,1025, 78.6543,-167.1465, 1003,    122.1,  -1.2171,  33.9869,2,  34.0758,2,    255.9,2,    246.9,2,    26.10,2,    13.90,2,     0.06,3,     1.41,2,    5.780,2,    2.711,2,    0.351,2,  -999.00,9,  -999.00,9,  -1.2201
  32PZ20020819,   CBL,    42,  1,     15,     15,2,20020903,1025, 78.6543,-167.1465, 1003,    131.5,  -1.0521,  34.1555,2,  34.1862,2,    251.8,2,    254.8,2,    21.10,2,    13.10,2,     0.06,3,     1.25,2,    5.830,6,    2.723,6,    0.362,6,    -0.23,2,    59.10,2,  -1.0556
  32PZ20020819,   CBL,    42,  1,     14,     14,2,20020903,1025, 78.6543,-167.1465, 1003,    144.6,  -0.8333,  34.3071,2,  34.3142,2,    258.3,2,    270.6,2,    14.20,2,    12.00,2,     0.05,3,     1.04,2,    5.965,2,    2.749,2,    0.362,2,  -999.00,9,  -999.00,9,  -0.8375
  32PZ20020819,   CBL,    42,  1,     13,     13,2,20020903,1025, 78.6543,-167.1465, 1003,    159.3,  -0.5149,  34.4053,2,  34.4118,2,    269.9,2,    274.0,2,    12.40,2,    11.90,2,     0.05,3,     0.97,2,    5.824,2,    2.762,2,    0.362,2,  -999.00,9,  -999.00,9,  -0.5200
  32PZ20020819,   CBL,    42,  1,     12,     12,2,20020903,1025, 78.6543,-167.1465, 1003,    209.2,   0.4363,  34.6533,2,  34.6567,2,    285.1,2,    285.7,2,     8.90,2,    12.00,2,     0.05,3,     0.90,2,    5.829,2,    2.730,2,    0.388,2,  -999.00,9,  -999.00,9,   0.4278
  32PZ20020819,   CBL,    42,  1,     11,     11,2,20020903,1025, 78.6543,-167.1465, 1003,    273.6,   0.9692,  34.8023,2,  34.8003,2,    293.1,2,    295.6,2,     6.70,2,    12.30,2,     0.05,3,     0.88,2,    5.556,2,    2.630,2,    0.377,2,  -999.00,9,  -999.00,9,   0.9566
  32PZ20020819,   CBL,    42,  1,     10,     10,2,20020903,1025, 78.6543,-167.1465, 1003,    293.2,   0.9980,  34.8148,2,  34.8167,2,    298.4,2,    296.9,2,     6.40,2,    12.20,2,     0.05,3,     0.88,2,    5.557,2,    2.642,2,    0.384,2,  -999.00,9,  -999.00,9,   0.9844
  32PZ20020819,   CBL,    42,  1,      9,      9,2,20020903,1025, 78.6543,-167.1465, 1003,    342.8,   1.1192,  34.8448,2,  34.8444,2,    298.1,2,    296.7,2,     6.80,2,    12.40,2,     0.05,3,     0.89,2,    5.364,2,    2.517,2,    0.366,2,     0.25,2,    45.20,2,   1.1028
  32PZ20020819,   CBL,    42,  1,      8,      8,2,20020903,1025, 78.6543,-167.1465, 1003,    377.5,   1.0187,  34.8453,2,  34.8426,2,    296.7,2,    295.7,2,     7.10,2,    12.60,2,     0.05,3,     0.89,2,    5.159,2,    2.411,2,    0.329,2,  -999.00,9,  -999.00,9,   1.0008
  32PZ20020819,   CBL,    42,  1,      7,      7,2,20020903,1025, 78.6543,-167.1465, 1003,    427.5,   0.9806,  34.8620,2,  34.8627,2,    302.3,2,    302.3,2,     5.90,2,    12.20,2,     0.05,3,     0.88,2,    5.364,2,    2.550,2,    0.367,2,  -999.00,9,  -999.00,9,   0.9603
  32PZ20020819,   CBL,    42,  1,      6,      6,2,20020903,1025, 78.6543,-167.1465, 1003,    491.2,   0.7763,  34.8616,2,  34.8615,2,    302.0,2,    302.7,2,     6.10,2,    12.30,2,     0.05,3,     0.88,2,    5.106,2,    2.410,2,    0.340,2,  -999.00,9,  -999.00,9,   0.7535
  32PZ20020819,   CBL,    42,  1,      5,      5,2,20020903,1025, 78.6543,-167.1465, 1003,    540.7,   0.6271,  34.8608,2,  34.8591,2,    302.6,2,    303.3,2,     6.20,2,    12.30,2,     0.05,3,     0.88,2,    5.235,2,    2.345,2,    0.340,2,  -999.00,9,  -999.00,9,   0.6024
  32PZ20020819,   CBL,    42,  1,      4,      4,2,20020903,1025, 78.6543,-167.1465, 1003,    669.5,   0.3088,  34.8600,2,  34.8609,2,    302.7,2,    302.6,2,     6.60,2,    12.40,2,     0.05,3,     0.89,2,    4.797,2,    2.224,2,    0.290,2,     0.27,2,    43.30,2,   0.2792
  32PZ20020819,   CBL,    42,  1,      3,      3,2,20020903,1025, 78.6543,-167.1465, 1003,    809.1,   0.0455,  34.8667,2,  34.8674,2,    303.7,2,    304.0,2,     6.70,2,    12.50,2,     0.05,3,     0.90,2,    4.650,2,    2.153,2,    0.276,2,  -999.00,9,  -999.00,9,   0.0105
  32PZ20020819,   CBL,    42,  1,      2,      2,2,20020903,1025, 78.6543,-167.1465, 1003,    893.4,  -0.0408,  34.8717,2,  34.8721,2,    303.0,2,    303.4,2,     7.30,2,    12.60,2,     0.05,3,     0.91,2,    4.535,2,    2.106,2,    0.268,2,  -999.00,9,  -999.00,9,  -0.0795
  32PZ20020819,   CBL,    42,  1,      1,      1,2,20020903,1025, 78.6543,-167.1465, 1003,    988.3,  -0.1167,  34.8771,2,  34.8772,2,    302.3,2,    302.2,2,     7.80,2,    12.80,2,     0.05,3,     0.92,2,    4.358,2,    2.034,2,    0.257,2,  -999.00,9,  -999.00,9,  -0.1597
  32PZ20020819,   CBL,    43,  1,     16,     16,2,20020903,1337, 78.6375,-166.9753,  798,     15.6,  -1.6142,  29.9955,2,  30.0254,2,    387.7,2,    390.1,2,  -999.00,9,  -999.00,9,  -999.00,9,  -999.00,9, -999.000,9, -999.000,9, -999.000,9,  -999.00,9,  -999.00,9,  -1.6144
  32PZ20020819,   CBL,    43,  1,     15,     15,2,20020903,1337, 78.6375,-166.9753,  798,     55.6,  -1.5445,  32.1543,2,  32.1692,2,    319.6,2,    307.6,2,    19.50,2,     9.50,2,     0.04,2,     1.49,2, -999.000,9, -999.000,9, -999.000,9,  -999.00,9,  -999.00,9,  -1.5455
  32PZ20020819,   CBL,    43,  1,     14,     14,2,20020903,1337, 78.6375,-166.9753,  798,     70.6,  -1.5102,  32.3773,2,  32.4261,2,    300.8,2,   -999.0,9,    25.90,2,    11.60,2,     0.04,2,     1.68,2, -999.000,9, -999.000,9, -999.000,9,  -999.00,9,  -999.00,9,  -1.5115
  32PZ20020819,   CBL,    43,  1,     13,     13,2,20020903,1337, 78.6375,-166.9753,  798,     85.0,  -1.5318,  32.6725,2,  32.7807,2,    276.1,2,   -999.0,9,    35.80,2,    14.10,2,     0.04,2,     1.92,2, -999.000,9, -999.000,9, -999.000,9,  -999.00,9,  -999.00,9,  -1.5334
  32PZ20020819,   CBL,    43,  1,     12,     12,2,20020903,1337, 78.6375,-166.9753,  798,     94.7,  -1.4588,  33.0959,2,  33.2155,2,    244.7,2,    238.6,2,    38.30,2,    15.40,2,     0.04,2,     1.89,2, -999.000,9, -999.000,9, -999.000,9,  -999.00,9,  -999.00,9,  -1.4608
  32PZ20020819,   CBL,    43,  1,     11,     11,2,20020903,1337, 78.6375,-166.9753,  798,    104.9,  -1.4008,  33.6194,2,  33.5639,2,    237.6,2,   -999.0,9,    35.20,2,    14.80,2,     0.04,3,     1.73,2, -999.000,9, -999.000,9, -999.000,9,  -999.00,9,  -999.00,9,  -1.4031
  32PZ20020819,   CBL,    43,  1,     10,     10,2,20020903,1337, 78.6375,-166.9753,  798,    119.6,  -1.3065,  33.8716,2,  33.9316,2,    243.3,2,   -999.0,9,    24.80,2,    13.00,2,     0.04,3,     1.36,2, -999.000,9, -999.000,9, -999.000,9,  -999.00,9,  -999.00,9,  -1.3093
  32PZ20020819,   CBL,    43,  1,      9,      9,2,20020903,1337, 78.6375,-166.9753,  798,    130.2,  -1.1462,  34.0871,2,  34.1774,2,    250.2,2,    258.2,2,    20.30,2,    12.90,2,     0.03,3,     1.22,2, -999.000,9, -999.000,9, -999.000,9,  -999.00,9,  -999.00,9,  -1.1495
  32PZ20020819,   CBL,    43,  1,      8,      8,2,20020903,1337, 78.6375,-166.9753,  798,    149.6,  -0.7873,  34.3205,2,  34.3518,2,    259.4,2,   -999.0,9,    13.80,2,    12.10,2,     0.04,3,     1.01,2, -999.000,9, -999.000,9, -999.000,9,  -999.00,9,  -999.00,9,  -0.7917
  32PZ20020819,   CBL,    43,  1,      7,      7,2,20020903,1337, 78.6375,-166.9753,  798,    174.7,  -0.1996,  34.4902,2,  34.5139,2,    278.4,2,    282.0,2,    10.00,2,    11.70,2,     0.03,3,     0.92,2, -999.000,9, -999.000,9, -999.000,9,  -999.00,9,  -999.00,9,  -0.2057
  32PZ20020819,   CBL,    43,  1,      6,      6,2,20020903,1337, 78.6375,-166.9753,  798,    218.9,   0.5578,  34.6868,2,  34.6958,2,    283.4,2,    282.1,2,     9.30,2,    12.60,2,     0.03,3,     0.92,2, -999.000,9, -999.000,9, -999.000,9,  -999.00,9,  -999.00,9,   0.5486
  32PZ20020819,   CBL,    43,  1,      5,      5,2,20020903,1337, 78.6375,-166.9753,  798,    337.7,   1.1209,  34.8429,2,  34.8404,2,    298.2,2,    296.5,2,     6.80,2,    12.50,2,     0.03,3,     0.89,2, -999.000,9, -999.000,9, -999.000,9,  -999.00,9,  -999.00,9,   1.1047
  32PZ20020819,   CBL,    43,  1,      4,      4,2,20020903,1337, 78.6375,-166.9753,  798,    496.3,   0.7181,  34.8588,2,  34.8565,2,    299.8,2,    299.6,2,  -999.00,9,  -999.00,9,  -999.00,9,  -999.00,9, -999.000,9, -999.000,9, -999.000,9,  -999.00,9,  -999.00,9,   0.6953
  32PZ20020819,   CBL,    43,  1,      3,      3,2,20020903,1337, 78.6375,-166.9753,  798,    635.5,   0.4108,  34.8620,2,  34.8608,2,    300.9,2,    301.6,2,  -999.00,9,  -999.00,9,  -999.00,9,  -999.00,9, -999.000,9, -999.000,9, -999.000,9,  -999.00,9,  -999.00,9,   0.3824
  32PZ20020819,   CBL,    43,  1,      2,      2,2,20020903,1337, 78.6375,-166.9753,  798,    695.0,   0.2475,  34.8633,2,  34.8612,2,    302.4,2,    302.9,2,     6.90,2,    12.50,2,     0.03,3,     0.90,2, -999.000,9, -999.000,9, -999.000,9,  -999.00,9,  -999.00,9,   0.2170
  32PZ20020819,   CBL,    43,  1,      1,      1,2,20020903,1337, 78.6375,-166.9753,  798,    782.4,  -0.0190,  34.8716,2,  34.8696,2,    302.7,2,    302.5,2,  -999.00,9,  -999.00,9,  -999.00,9,  -999.00,9, -999.000,9, -999.000,9, -999.000,9,  -999.00,9,  -999.00,9,  -0.0522
  32PZ20020819,   CBL,    44,  1,     20,     20,2,20020903,1554, 78.6178,-166.8440,  638,      1.7,  -1.5690,  29.7806,2,  29.7667,2,    386.5,2,    388.8,2,     1.50,2,     0.20,2,     0.00,2,     0.78,2, -999.000,9, -999.000,9, -999.000,9,  -999.00,9,  -999.00,9,  -1.5690
  32PZ20020819,   CBL,    44,  1,     19,     19,2,20020903,1554, 78.6178,-166.8440,  638,     16.9,  -1.6037,  30.2181,2,  30.2230,2,    390.9,2,    391.6,2,     2.10,2,     0.10,2,     0.00,2,     0.77,2,    7.499,2,    3.777,2,    0.692,2,    -2.54,2,    60.10,2,  -1.6039
  32PZ20020819,   CBL,    44,  1,     18,     18,2,20020903,1554, 78.6178,-166.8440,  638,     36.5,  -1.4026,  31.1066,2,  31.3420,2,    384.6,2,    348.9,2,    12.90,2,     4.80,2,     0.14,2,     1.23,2,    7.146,2,    3.663,2,    0.633,2,    -1.86,2,    59.50,2,  -1.4032
  32PZ20020819,   CBL,    44,  1,     17,     17,2,20020903,1554, 78.6178,-166.8440,  638,     54.1,  -1.5660,  32.0689,2,  32.1400,2,    321.3,2,    307.4,2,    20.20,2,     9.30,2,     0.07,2,     1.50,2,    6.821,6,    3.486,6,    0.563,6,    -1.50,2,    61.20,2,  -1.5669
  32PZ20020819,   CBL,    44,  1,     16,     16,2,20020903,1554, 78.6178,-166.8440,  638,     70.9,  -1.4337,  32.3952,2,  32.4502,2,    302.0,2,    288.5,2,    26.00,2,    11.90,2,     0.08,2,     1.70,2, -999.000,9, -999.000,9, -999.000,9,    -1.53,2,    72.90,2,  -1.4351
  32PZ20020819,   CBL,    44,  1,     15,     15,2,20020903,1554, 78.6178,-166.8440,  638,     80.9,  -1.4530,  32.6038,2,  32.6537,2,    288.1,2,    270.1,2,    31.90,2,    13.50,2,     0.07,2,     1.84,2,    6.394,6,    3.301,6,    0.502,6,  -999.00,9,  -999.00,9,  -1.4546
  32PZ20020819,   CBL,    44,  1,     14,     14,2,20020903,1554, 78.6178,-166.8440,  638,     90.8,  -1.4808,  32.8948,2,  33.0077,2,    260.8,2,    238.0,2,    39.40,2,    15.60,2,     0.07,2,     1.98,2, -999.000,9, -999.000,9, -999.000,9,    -1.28,2,    68.90,2,  -1.4826
  32PZ20020819,   CBL,    44,  1,     13,     13,2,20020903,1554, 78.6178,-166.8440,  638,    100.8,  -1.4386,  33.2512,2,  33.3898,2,    238.7,2,    244.0,2,    35.50,2,    14.70,2,     0.06,3,     1.75,2,    6.473,2,    3.280,2,    0.491,2,    -1.01,2,    61.30,2,  -1.4407
  32PZ20020819,   CBL,    44,  1,     12,     12,2,20020903,1554, 78.6178,-166.8440,  638,    110.7,  -1.4033,  33.6370,2,  33.7063,2,    244.8,2,    247.5,2,    33.00,2,    14.60,2,     0.06,3,     1.65,2, -999.000,9, -999.000,9, -999.000,9,    -0.89,2,    66.00,2,  -1.4058
  32PZ20020819,   CBL,    44,  1,     11,     11,2,20020903,1554, 78.6178,-166.8440,  638,    120.7,  -1.3181,  33.8366,2,  33.8839,2,    246.3,2,    249.0,2,    29.20,2,    14.10,2,     0.06,3,     1.52,2,    6.008,2,    2.889,2,    0.392,2,  -999.00,9,  -999.00,9,  -1.3209
  32PZ20020819,   CBL,    44,  1,     10,     10,2,20020903,1554, 78.6178,-166.8440,  638,    130.7,  -1.1574,  34.0734,2,  34.1337,2,    247.8,2,    259.1,2,    22.20,2,    13.20,2,     0.05,3,     1.29,2,    5.863,2,    2.762,2,    0.365,2,    -0.37,2,    48.50,2,  -1.1607
  32PZ20020819,   CBL,    44,  1,      9,      9,2,20020903,1554, 78.6178,-166.8440,  638,    144.7,  -1.0086,  34.2594,2,  34.2838,2,    260.0,2,    282.7,2,    11.70,2,    11.10,2,     0.06,3,     0.95,2,    6.203,2,    2.913,2,    0.395,2,  -999.00,9,  -999.00,9,  -1.0125
  32PZ20020819,   CBL,    44,  1,      8,      8,2,20020903,1554, 78.6178,-166.8440,  638,    160.0,  -0.7068,  34.3605,2,  34.3856,2,    277.3,2,    283.3,2,    10.40,2,    11.30,2,     0.06,3,     0.92,2,    6.069,2,    2.829,2,    0.378,2,    -0.06,2,    44.90,2,  -0.7116
  32PZ20020819,   CBL,    44,  1,      7,      7,2,20020903,1554, 78.6178,-166.8440,  638,    204.7,   0.2796,  34.6095,2,  34.6291,2,    283.9,2,    282.4,2,     9.70,2,    12.20,2,     0.06,3,     0.92,2,    5.815,2,    2.692,2,    0.366,2,  -999.00,9,  -999.00,9,   0.2715
  32PZ20020819,   CBL,    44,  1,      6,      6,2,20020903,1554, 78.6178,-166.8440,  638,    249.3,   0.7688,  34.7439,2,  34.7468,2,    287.6,2,    288.0,2,     8.20,2,    12.60,2,     0.06,3,     0.91,2,    5.557,2,    2.580,2,    0.355,2,  -999.00,9,  -999.00,9,   0.7578
  32PZ20020819,   CBL,    44,  1,      5,      5,2,20020903,1554, 78.6178,-166.8440,  638,    316.6,   1.0460,  34.8232,2,  34.8201,2,    292.9,2,    291.9,2,     7.50,2,    12.70,2,     0.05,3,     0.90,2,    5.326,2,    2.484,2,    0.340,2,     0.21,2,    49.30,2,   1.0311
  32PZ20020819,   CBL,    44,  1,      4,      4,2,20020903,1554, 78.6178,-166.8440,  638,    386.9,   0.9572,  34.8462,2,  34.8468,2,    294.9,2,    294.5,2,     7.50,2,    12.70,2,     0.05,3,     0.91,2,    5.167,6,    2.407,6,    0.315,6,  -999.00,9,  -999.00,9,   0.9390
  32PZ20020819,   CBL,    44,  1,      3,      3,2,20020903,1554, 78.6178,-166.8440,  638,    476.9,   0.7879,  34.8579,2,  34.8570,2,    298.1,2,    299.1,2,     7.10,2,    12.60,2,     0.05,3,     0.91,2, -999.000,9, -999.000,9, -999.000,9,  -999.00,9,  -999.00,9,   0.7658
  32PZ20020819,   CBL,    44,  1,      2,      2,2,20020903,1554, 78.6178,-166.8440,  638,    555.8,   0.5299,  34.8586,2,  34.8581,2,    297.1,2,    298.1,2,     7.80,2,    12.70,2,     0.05,3,     0.91,2,    4.945,2,    2.279,2,    0.302,2,  -999.00,9,  -999.00,9,   0.5049
  32PZ20020819,   CBL,    44,  1,      1,      1,2,20020903,1554, 78.6178,-166.8440,  638,    624.9,   0.3629,  34.8622,2,  34.8620,2,    302.1,2,    301.6,2,     7.40,2,    12.50,2,     0.05,3,     0.91,2,    4.881,2,    2.261,2,    0.316,2,     0.22,2,    59.00,2,   0.3353