BOTTLE,20220815CCHSIOAMB
EXPOCODE,SECT_ID,STNNBR,CASTNO,SAMPNO,BTLNBR,BTLNBR_FLAG_W,DATE,TIME,LATITUDE,LONGITUDE,DEPTH,CTDPRS,CTDTMP,CTDSAL,CTDSAL_FLAG_W,SALNTY,SALNTY_FLAG_W,CTDOXY,CTDOXY_FLAG_W,OXYGEN,OXYGEN_FLAG_W,SILCAT,SILCAT_FLAG_W,NITRAT,NITRAT_FLAG_W,NITRIT,NITRIT_FLAG_W,PHSPHT,PHSPHT_FLAG_W,CFC-11,CFC-11_FLAG_W,CFC-12,CFC-12_FLAG_W,CFC113,CFC113_FLAG_W,DELO18,DELO18_FLAG_W,BARIUM,BARIUM_FLAG_W,THETA
,,,,,,,,,,,METERS,DBAR,ITS-90,PSS-78,,PSS-78,,UMOL/KG,,UMOL/KG,,UMOL/KG,,UMOL/KG,,UMOL/KG,,UMOL/KG,,PMOL/KG,,PMOL/KG,,PMOL/KG,,/MILLE,,NMOL/KG,,DEG C
  32PZ20020819,   CBL,    71,  1,     32,     32,2,20020909,0532, 78.1605,-154.1308, 1098,     10.0,  -1.5497,  30.2314,2,  30.2001,2,    389.7,2,    390.7,2,     2.60,2,     0.10,2,     0.03,2,     0.82,2,    7.575,2,    3.797,2,    0.728,2,    -2.19,2,    61.60,2,  -1.5498
  32PZ20020819,   CBL,    71,  1,     31,     31,2,20020909,0532, 78.1605,-154.1308, 1098,     25.0,  -1.2084,  30.9461,2,  31.2613,2,    397.7,2,    377.7,2,     8.10,2,     2.50,2,     0.14,2,     1.09,2, -999.000,9, -999.000,9, -999.000,9,    -1.81,2,    59.00,2,  -1.2089
  32PZ20020819,   CBL,    71,  1,     30,     30,2,20020909,0532, 78.1605,-154.1308, 1098,     39.8,  -1.6546,  31.6512,2,  31.7329,2,    377.4,2,    343.0,2,  -999.00,9,  -999.00,9,  -999.00,9,  -999.00,9, -999.000,9, -999.000,9, -999.000,9,  -999.00,9,  -999.00,9,  -1.6552
  32PZ20020819,   CBL,    71,  1,     29,     29,2,20020909,0532, 78.1605,-154.1308, 1098,     58.0,  -1.3401,  32.2625,2,  32.2550,2,    321.5,2,    308.6,2,    20.80,2,    10.30,2,     0.04,2,     1.53,2, -999.000,9, -999.000,9, -999.000,9,  -999.00,9,  -999.00,9,  -1.3412
  32PZ20020819,   CBL,    71,  1,     28,     28,2,20020909,0532, 78.1605,-154.1308, 1098,     82.0,  -1.2682,  32.6671,2,  32.6689,2,    287.6,2,    279.3,2,    32.30,2,    14.40,2,     0.04,2,     1.86,2,    6.241,2,    3.120,2,    0.469,2,    -1.51,2,    69.00,2,  -1.2699
  32PZ20020819,   CBL,    71,  1,     27,     27,2,20020909,0532, 78.1605,-154.1308, 1098,     95.2,  -1.4827,  32.8395,2,  32.8443,2,    278.8,2,    278.1,2,    35.20,2,    15.00,2,     0.03,2,     1.91,2, -999.000,9, -999.000,9, -999.000,9,    -1.48,2,    69.20,2,  -1.4846
  32PZ20020819,   CBL,    71,  1,     26,     26,2,20020909,0532, 78.1605,-154.1308, 1098,    105.1,  -1.5548,  32.9845,2,  32.9796,2,    276.7,2,    276.9,2,    35.90,2,    15.30,2,     0.03,3,     1.90,2, -999.000,9, -999.000,9, -999.000,9,    -1.60,2,    70.00,2,  -1.5568
  32PZ20020819,   CBL,    71,  1,     25,     25,2,20020909,0532, 78.1605,-154.1308, 1098,    118.0,  -1.5632,  33.1647,2,  33.1692,2,    276.3,2,    274.5,2,    37.60,2,    15.90,2,     0.03,3,     1.92,2,    5.872,2,    2.915,2,    0.440,2,    -1.56,2,    69.50,2,  -1.5655
  32PZ20020819,   CBL,    71,  1,     24,     24,2,20020909,0532, 78.1605,-154.1308, 1098,    130.1,  -1.5440,  33.3020,2,  33.3226,2,    268.9,2,    266.1,2,    40.40,2,    16.70,2,     0.03,3,     1.97,2, -999.000,9, -999.000,9, -999.000,9,    -1.32,2,    69.60,2,  -1.5467
  32PZ20020819,   CBL,    71,  1,     23,     23,2,20020909,0532, 78.1605,-154.1308, 1098,    150.1,  -1.2587,  33.8091,2,  33.8431,2,    251.3,2,    255.9,2,    30.30,2,    14.70,2,     0.03,3,     1.55,2, -999.000,9, -999.000,9, -999.000,9,    -0.74,2,    55.70,2,  -1.2623
  32PZ20020819,   CBL,    71,  1,     20,     20,2,20020909,0532, 78.1605,-154.1308, 1098,    185.1,  -0.8512,  34.3120,2,  34.3156,2,    290.1,2,    293.4,2,     8.80,2,    10.60,2,     0.03,3,     0.83,2,    6.373,2,    2.938,2,    0.428,2,  -999.00,9,  -999.00,9,  -0.8566
  32PZ20020819,   CBL,    71,  1,     21,     21,2,20020909,0532, 78.1605,-154.1308, 1098,    185.1,  -0.8511,  34.3121,2,  34.3168,2,    290.0,2,   -999.0,9,  -999.00,9,  -999.00,9,  -999.00,9,  -999.00,9, -999.000,9, -999.000,9, -999.000,9,  -999.00,9,  -999.00,9,  -0.8565
  32PZ20020819,   CBL,    71,  1,     22,     22,2,20020909,0532, 78.1605,-154.1308, 1098,    185.1,  -0.8515,  34.3120,2,  34.3140,2,    290.0,2,   -999.0,9,  -999.00,9,  -999.00,9,  -999.00,9,  -999.00,9, -999.000,9, -999.000,9, -999.000,9,  -999.00,9,  -999.00,9,  -0.8569
  32PZ20020819,   CBL,    71,  1,     19,     19,2,20020909,0532, 78.1605,-154.1308, 1098,    200.2,  -0.5500,  34.3958,2,  34.4016,2,    292.3,2,    292.6,2,     8.20,2,    10.90,2,     0.03,3,     0.83,2, -999.000,9, -999.000,9, -999.000,9,  -999.00,9,  -999.00,9,  -0.5564
  32PZ20020819,   CBL,    71,  1,     18,     18,2,20020909,0532, 78.1605,-154.1308, 1098,    230.1,   0.0561,  34.5485,2,  34.5574,2,    293.7,2,    293.6,2,  -999.00,9,  -999.00,9,  -999.00,9,  -999.00,9, -999.000,9, -999.000,9, -999.000,9,  -999.00,9,  -999.00,9,   0.0475
  32PZ20020819,   CBL,    71,  1,     17,     17,2,20020909,0532, 78.1605,-154.1308, 1098,    264.9,   0.6310,  34.7012,2,  34.7046,2,    292.8,2,    292.3,2,     7.30,2,    12.20,2,     0.03,3,     0.85,2, -999.000,9, -999.000,9, -999.000,9,  -999.00,9,  -999.00,9,   0.6196
  32PZ20020819,   CBL,    71,  1,     16,     16,2,20020909,0532, 78.1605,-154.1308, 1098,    280.0,   0.7771,  34.7441,2,  34.7474,2,    293.7,2,    294.6,2,     6.70,2,    12.30,2,     0.03,3,     0.85,2, -999.000,9, -999.000,9, -999.000,9,  -999.00,9,  -999.00,9,   0.7647
  32PZ20020819,   CBL,    71,  1,     15,     15,2,20020909,0532, 78.1605,-154.1308, 1098,    310.1,   0.9686,  34.7973,2,  34.7978,2,    295.9,2,    295.3,2,     6.50,2,    12.50,2,     0.03,3,     0.85,2, -999.000,9, -999.000,9, -999.000,9,  -999.00,9,  -999.00,9,   0.9542
  32PZ20020819,   CBL,    71,  1,     14,     14,2,20020909,0532, 78.1605,-154.1308, 1098,    340.1,   1.0799,  34.8242,2,  34.8243,2,    297.0,2,    296.5,2,     6.50,2,    12.60,2,     0.03,3,     0.86,2,    5.521,2,    2.559,2,    0.364,2,  -999.00,9,  -999.00,9,   1.0637
  32PZ20020819,   CBL,    71,  1,     11,     11,2,20020909,0532, 78.1605,-154.1308, 1098,    390.0,   1.1349,  34.8486,2,-999.0000,9,    298.6,2,    298.5,2,     6.40,2,    12.60,2,     0.03,3,     0.86,2,    5.313,2,    2.464,2,    0.342,2,     0.13,2,    41.50,2,   1.1160
  32PZ20020819,   CBL,    71,  1,     12,     12,2,20020909,0532, 78.1605,-154.1308, 1098,    390.0,   1.1346,  34.8485,2,  34.8481,2,    298.6,2,   -999.0,9,  -999.00,9,  -999.00,9,  -999.00,9,  -999.00,9, -999.000,9, -999.000,9, -999.000,9,  -999.00,9,  -999.00,9,   1.1157
  32PZ20020819,   CBL,    71,  1,     13,     13,2,20020909,0532, 78.1605,-154.1308, 1098,    390.0,   1.1342,  34.8486,2,  34.8477,2,    298.6,2,   -999.0,9,  -999.00,9,  -999.00,9,  -999.00,9,  -999.00,9, -999.000,9, -999.000,9, -999.000,9,  -999.00,9,  -999.00,9,   1.1153
  32PZ20020819,   CBL,    71,  1,     10,     10,2,20020909,0532, 78.1605,-154.1308, 1098,    435.3,   1.0093,  34.8517,2,  34.8515,2,    298.8,2,    299.0,2,     6.50,2,    12.70,2,     0.02,2,     0.87,2,    5.173,2,    2.390,2,    0.325,2,  -999.00,9,  -999.00,9,   0.9885
  32PZ20020819,   CBL,    71,  1,      9,      9,2,20020909,0532, 78.1605,-154.1308, 1098,    500.3,   0.8699,  34.8593,2,  34.8583,2,    300.5,2,    300.2,2,     6.40,2,    12.70,2,     0.02,2,     0.86,2,    5.018,6,    2.313,6,    0.307,6,  -999.00,9,  -999.00,9,   0.8462
  32PZ20020819,   CBL,    71,  1,      8,      8,2,20020909,0532, 78.1605,-154.1308, 1098,    601.4,   0.5764,  34.8593,2,  34.8580,2,    300.9,2,    301.0,2,     6.50,2,    12.70,2,     0.02,2,     0.87,2,    4.754,2,    2.179,2,    0.283,2,  -999.00,9,  -999.00,9,   0.5489
  32PZ20020819,   CBL,    71,  1,      5,      5,2,20020909,0532, 78.1605,-154.1308, 1098,    701.5,   0.3707,  34.8626,2,  34.8627,2,    301.6,2,    301.6,2,     6.60,2,    12.80,2,     0.02,2,     0.88,2,    4.353,6,    2.019,6,    0.256,6,     0.25,2,    42.50,2,   0.3391
  32PZ20020819,   CBL,    71,  1,      6,      6,2,20020909,0532, 78.1605,-154.1308, 1098,    701.6,   0.3700,  34.8628,2,  34.8625,2,    301.6,2,   -999.0,9,  -999.00,9,  -999.00,9,  -999.00,9,  -999.00,9, -999.000,9, -999.000,9, -999.000,9,  -999.00,9,  -999.00,9,   0.3384
  32PZ20020819,   CBL,    71,  1,      7,      7,2,20020909,0532, 78.1605,-154.1308, 1098,    701.7,   0.3705,  34.8627,2,  34.8615,2,    301.6,2,   -999.0,9,  -999.00,9,  -999.00,9,  -999.00,9,  -999.00,9, -999.000,9, -999.000,9, -999.000,9,  -999.00,9,  -999.00,9,   0.3389
  32PZ20020819,   CBL,    71,  1,      4,      4,2,20020909,0532, 78.1605,-154.1308, 1098,    803.1,   0.1809,  34.8663,2,  34.8656,2,    301.8,2,    302.1,2,     6.70,2,    12.90,2,     0.02,2,     0.88,2,    4.052,2,    1.852,2,    0.225,2,  -999.00,9,  -999.00,9,   0.1453
  32PZ20020819,   CBL,    71,  1,      3,      3,2,20020909,0532, 78.1605,-154.1308, 1098,    901.6,   0.0789,  34.8705,2,  34.8698,2,    302.2,2,    302.0,2,     6.90,2,    12.90,2,     0.02,2,     0.89,2, -999.000,9, -999.000,9, -999.000,9,  -999.00,9,  -999.00,9,   0.0389
  32PZ20020819,   CBL,    71,  1,      2,      2,2,20020909,0532, 78.1605,-154.1308, 1098,   1001.1,  -0.0098,  34.8755,2,  34.8747,2,    301.5,2,    301.9,2,     7.00,2,    13.00,2,     0.02,2,     0.90,2, -999.000,9, -999.000,9, -999.000,9,  -999.00,9,  -999.00,9,  -0.0544
  32PZ20020819,   CBL,    71,  1,      1,      1,2,20020909,0532, 78.1605,-154.1308, 1098,   1066.4,  -0.1204,  34.8872,2,  34.8851,2,    300.9,2,    300.8,2,     7.70,2,    13.20,2,     0.02,2,     0.92,2,    2.861,2,    1.323,2,    0.136,2,  -999.00,9,  -999.00,9,  -0.1675
  32PZ20020819,   CBL,    72,  1,     17,     17,2,20020909,0924, 78.1277,-154.0395, 1341,     22.4,  -1.1926,  31.0239,2,  31.0213,2,    382.1,2,    383.1,2,  -999.00,9,  -999.00,9,  -999.00,9,  -999.00,9,    7.237,2,    3.839,2,    0.658,2,  -999.00,9,  -999.00,9,  -1.1930
  32PZ20020819,   CBL,    72,  1,     16,     16,2,20020909,0924, 78.1277,-154.0395, 1341,     60.0,  -1.3317,  32.3021,2,  32.3513,2,    316.9,2,   -999.0,9,    23.60,2,    11.60,2,     0.03,2,     1.61,2, -999.000,9, -999.000,9, -999.000,9,  -999.00,9,  -999.00,9,  -1.3329
  32PZ20020819,   CBL,    72,  1,     15,     15,2,20020909,0924, 78.1277,-154.0395, 1341,     74.9,  -1.3237,  32.5569,2,  32.6053,2,    295.4,2,   -999.0,9,    30.60,2,    13.70,2,     0.02,2,     1.81,2, -999.000,9, -999.000,9, -999.000,9,  -999.00,9,  -999.00,9,  -1.3252
  32PZ20020819,   CBL,    72,  1,     14,     14,2,20020909,0924, 78.1277,-154.0395, 1341,     91.9,  -1.2535,  32.7667,2,  32.7930,2,    280.1,2,    273.1,2,    35.70,2,    15.40,2,     0.02,2,     1.98,2,    6.049,2,    3.220,2,    0.470,2,  -999.00,9,  -999.00,9,  -1.2555
  32PZ20020819,   CBL,    72,  1,     13,     13,2,20020909,0924, 78.1277,-154.0395, 1341,    111.7,  -1.5777,  33.0185,2,  33.0634,2,    286.3,2,    281.2,2,    35.90,2,    15.10,2,     0.02,2,     1.87,2,    5.685,2,    2.945,2,    0.413,2,  -999.00,9,  -999.00,9,  -1.5799
  32PZ20020819,   CBL,    72,  1,     12,     12,2,20020909,0924, 78.1277,-154.0395, 1341,    130.2,  -1.5546,  33.2468,2,  33.3184,2,    275.7,2,   -999.0,9,    41.60,2,    17.20,2,     0.01,2,     2.02,2, -999.000,9, -999.000,9, -999.000,9,  -999.00,9,  -999.00,9,  -1.5573
  32PZ20020819,   CBL,    72,  1,     11,     11,2,20020909,0924, 78.1277,-154.0395, 1341,    147.5,  -1.3174,  33.6775,2,  33.8184,2,    256.3,2,    258.9,2,    30.00,2,    14.50,2,     0.01,2,     1.54,2,    5.825,6,    2.796,6,    0.381,6,  -999.00,9,  -999.00,9,  -1.3209
  32PZ20020819,   CBL,    72,  1,     10,     10,2,20020909,0924, 78.1277,-154.0395, 1341,    162.8,  -1.2706,  34.0813,2,  34.1165,2,    270.1,2,   -999.0,9,    13.90,2,    11.20,2,     0.01,2,     0.98,2, -999.000,9, -999.000,9, -999.000,9,  -999.00,9,  -999.00,9,  -1.2746
  32PZ20020819,   CBL,    72,  1,      9,      9,2,20020909,0924, 78.1277,-154.0395, 1341,    176.8,  -1.0916,  34.2406,2,  34.2619,2,    288.8,2,   -999.0,9,     8.20,2,    10.10,2,     0.00,2,     0.80,2, -999.000,9, -999.000,9, -999.000,9,  -999.00,9,  -999.00,9,  -1.0963
  32PZ20020819,   CBL,    72,  1,      8,      8,2,20020909,0924, 78.1277,-154.0395, 1341,    190.6,  -0.7425,  34.3440,2,  34.3424,2,    296.0,2,    295.5,2,  -999.00,9,  -999.00,9,  -999.00,9,  -999.00,9,    6.367,2,    3.098,2,    0.428,2,  -999.00,9,  -999.00,9,  -0.7482
  32PZ20020819,   CBL,    72,  1,      7,      7,2,20020909,0924, 78.1277,-154.0395, 1341,    268.6,   0.7369,  34.7325,2,  34.7347,2,    294.0,2,    293.5,2,  -999.00,9,  -999.00,9,  -999.00,9,  -999.00,9,    5.567,2,    2.688,2,    0.381,2,  -999.00,9,  -999.00,9,   0.7251
  32PZ20020819,   CBL,    72,  1,      6,      6,2,20020909,0924, 78.1277,-154.0395, 1341,    390.8,   1.1375,  34.8470,2,  34.8472,2,    298.9,2,    298.7,2,  -999.00,9,  -999.00,9,  -999.00,9,  -999.00,9,    5.314,2,    2.460,2,    0.349,2,  -999.00,9,  -999.00,9,   1.1185
  32PZ20020819,   CBL,    72,  1,      5,      5,2,20020909,0924, 78.1277,-154.0395, 1341,    501.0,   0.8578,  34.8597,2,  34.8590,2,    300.2,2,    300.5,2,  -999.00,9,  -999.00,9,  -999.00,9,  -999.00,9,    5.034,6,    2.380,6,    0.328,6,  -999.00,9,  -999.00,9,   0.8341
  32PZ20020819,   CBL,    72,  1,      4,      4,2,20020909,0924, 78.1277,-154.0395, 1341,    700.8,   0.3487,  34.8629,2,  34.8623,2,    300.9,2,    300.7,2,  -999.00,9,  -999.00,9,  -999.00,9,  -999.00,9,    4.367,2,    1.983,2,    0.252,2,  -999.00,9,  -999.00,9,   0.3173
  32PZ20020819,   CBL,    72,  1,      3,      3,2,20020909,0924, 78.1277,-154.0395, 1341,    850.9,   0.1099,  34.8683,2,  34.8678,2,    301.8,2,    302.4,2,  -999.00,9,  -999.00,9,  -999.00,9,  -999.00,9,    3.979,2,    1.881,2,    0.228,2,  -999.00,9,  -999.00,9,   0.0723
  32PZ20020819,   CBL,    72,  1,      2,      2,2,20020909,0924, 78.1277,-154.0395, 1341,   1159.6,  -0.1747,  34.8930,2,  34.8930,2,    300.1,2,    300.3,2,  -999.00,9,  -999.00,9,  -999.00,9,  -999.00,9,    2.416,2,    1.137,2,    0.132,2,  -999.00,9,  -999.00,9,  -0.2264
  32PZ20020819,   CBL,    72,  1,      1,      1,2,20020909,0924, 78.1277,-154.0395, 1341,   1319.8,  -0.2879,  34.9083,2,  34.9075,2,    298.5,2,    298.4,2,  -999.00,9,  -999.00,9,  -999.00,9,  -999.00,9,    1.638,2,    0.764,2,    0.087,2,  -999.00,9,  -999.00,9,  -0.3475