BOTTLE,20220815CCHSIOAMB
EXPOCODE,SECT_ID,STNNBR,CASTNO,SAMPNO,BTLNBR,BTLNBR_FLAG_W,DATE,TIME,LATITUDE,LONGITUDE,DEPTH,CTDPRS,CTDTMP,CTDSAL,CTDSAL_FLAG_W,SALNTY,SALNTY_FLAG_W,CTDOXY,CTDOXY_FLAG_W,OXYGEN,OXYGEN_FLAG_W,SILCAT,SILCAT_FLAG_W,NITRAT,NITRAT_FLAG_W,NITRIT,NITRIT_FLAG_W,PHSPHT,PHSPHT_FLAG_W,CFC-11,CFC-11_FLAG_W,CFC-12,CFC-12_FLAG_W,CFC113,CFC113_FLAG_W,DELO18,DELO18_FLAG_W,BARIUM,BARIUM_FLAG_W,THETA
,,,,,,,,,,,METERS,DBAR,ITS-90,PSS-78,,PSS-78,,UMOL/KG,,UMOL/KG,,UMOL/KG,,UMOL/KG,,UMOL/KG,,UMOL/KG,,PMOL/KG,,PMOL/KG,,PMOL/KG,,/MILLE,,NMOL/KG,,DEG C
  32PZ20020819,   CBL,    53,  1,     21,     21,2,20020905,0810, 79.1387,-161.3928, 2999,     17.9,  -1.6072,  30.0882,2,  30.1780,2,    386.0,2,    387.4,2,  -999.00,9,  -999.00,9,  -999.00,9,  -999.00,9,    7.588,2,    3.826,2,    0.739,2,  -999.00,9,  -999.00,9,  -1.6074
  32PZ20020819,   CBL,    53,  1,     20,     20,2,20020905,0810, 79.1387,-161.3928, 2999,     47.6,  -1.6244,  31.7353,2,  31.8417,2,    348.6,2,   -999.0,9,    17.90,2,     7.90,2,     0.02,2,     1.42,2, -999.000,9, -999.000,9, -999.000,9,  -999.00,9,  -999.00,9,  -1.6252
  32PZ20020819,   CBL,    53,  1,     19,     19,2,20020905,0810, 79.1387,-161.3928, 2999,     62.4,  -1.5905,  32.2267,2,  32.2756,2,    316.7,2,   -999.0,9,    24.00,2,    10.20,2,     0.02,2,     1.61,2,    7.177,2,    3.609,2,    0.586,2,  -999.00,9,  -999.00,9,  -1.5916
  32PZ20020819,   CBL,    53,  1,     18,     18,2,20020905,0810, 79.1387,-161.3928, 2999,     77.1,  -1.5440,  32.6362,2,-999.0000,9,    284.7,2,   -999.0,9,    33.60,2,    13.60,2,     0.02,2,     1.86,2, -999.000,9, -999.000,9, -999.000,9,  -999.00,9,  -999.00,9,  -1.5454
  32PZ20020819,   CBL,    53,  1,     17,     17,2,20020905,0810, 79.1387,-161.3928, 2999,     91.9,  -1.4737,  33.2257,2,  33.2982,2,    254.1,2,    253.2,2,    31.80,2,    13.80,2,     0.02,2,     1.64,2,    6.693,2,    3.296,2,    0.485,2,  -999.00,9,  -999.00,9,  -1.4756
  32PZ20020819,   CBL,    53,  1,     16,     16,2,20020905,0810, 79.1387,-161.3928, 2999,    102.0,  -1.4436,  33.6643,2,-999.0000,9,    255.9,2,   -999.0,9,    23.30,2,    12.30,2,     0.02,2,     1.30,2, -999.000,9, -999.000,9, -999.000,9,  -999.00,9,  -999.00,9,  -1.4458
  32PZ20020819,   CBL,    53,  1,     15,     15,2,20020905,0810, 79.1387,-161.3928, 2999,    111.3,  -1.4270,  33.8685,2,  33.8885,2,    268.3,2,   -999.0,9,    17.80,2,    11.40,2,     0.02,2,     1.12,2,    6.706,6,    3.210,6,    0.465,6,  -999.00,9,  -999.00,9,  -1.4295
  32PZ20020819,   CBL,    53,  1,     14,     14,2,20020905,0810, 79.1387,-161.3928, 2999,    126.6,  -1.3965,  34.0574,2,-999.0000,9,    282.0,2,   -999.0,9,    10.50,2,    10.20,2,     0.01,2,     0.89,2, -999.000,9, -999.000,9, -999.000,9,  -999.00,9,  -999.00,9,  -1.3994
  32PZ20020819,   CBL,    53,  1,     13,     13,2,20020905,0810, 79.1387,-161.3928, 2999,    149.2,  -1.1180,  34.2733,2,  34.2660,2,    302.8,2,    305.5,2,     6.40,2,     9.70,2,     0.01,2,     0.78,2,    6.817,2,    3.190,2,    0.478,2,  -999.00,9,  -999.00,9,  -1.1219
  32PZ20020819,   CBL,    53,  1,     12,     12,2,20020905,0810, 79.1387,-161.3928, 2999,    240.3,   0.4235,  34.6561,2,  34.6578,2,    301.1,2,    300.2,2,  -999.00,9,  -999.00,9,  -999.00,9,  -999.00,9,    6.027,2,    2.821,2,    0.412,2,  -999.00,9,  -999.00,9,   0.4137
  32PZ20020819,   CBL,    53,  1,     11,     11,2,20020905,0810, 79.1387,-161.3928, 2999,    309.6,   0.9231,  34.8017,2,  34.8004,2,    299.6,2,    299.8,2,     5.90,2,    12.40,2,     0.01,2,     0.88,2,    5.703,2,    2.820,2,    0.416,2,  -999.00,9,  -999.00,9,   0.9089
  32PZ20020819,   CBL,    53,  1,     10,     10,2,20020905,0810, 79.1387,-161.3928, 2999,    369.1,   1.1457,  34.8509,2,  34.8513,2,    299.3,2,    299.8,2,     6.10,2,    12.70,2,     0.01,2,     0.89,2,    5.331,2,    2.478,2,    0.353,2,  -999.00,9,  -999.00,9,   1.1278
  32PZ20020819,   CBL,    53,  1,      9,      9,2,20020905,0810, 79.1387,-161.3928, 2999,    423.7,   0.9968,  34.8480,2,  34.8443,2,    298.0,2,   -999.0,9,  -999.00,9,  -999.00,9,  -999.00,9,  -999.00,9,    4.714,6,    2.181,6,    0.288,6,  -999.00,9,  -999.00,9,   0.9766
  32PZ20020819,   CBL,    53,  1,      8,      8,2,20020905,0810, 79.1387,-161.3928, 2999,    497.8,   0.8293,  34.8613,2,  34.8608,2,    300.4,2,   -999.0,9,     6.20,2,    12.80,2,     0.01,2,     0.90,2,    4.807,2,    2.207,2,    0.291,2,  -999.00,9,  -999.00,9,   0.8059
  32PZ20020819,   CBL,    53,  1,      7,      7,2,20020905,0810, 79.1387,-161.3928, 2999,    596.8,   0.5616,  34.8644,2,  34.8646,2,    301.1,2,   -999.0,9,  -999.00,9,  -999.00,9,  -999.00,9,  -999.00,9,    4.652,2,    2.160,2,    0.290,2,  -999.00,9,  -999.00,9,   0.5344
  32PZ20020819,   CBL,    53,  1,      6,      6,2,20020905,0810, 79.1387,-161.3928, 2999,    734.8,   0.2663,  34.8662,2,  34.8658,2,    302.5,2,    303.1,2,     6.40,2,    12.70,2,     0.01,2,     0.91,2,    4.260,2,    1.983,2,    0.253,2,  -999.00,9,  -999.00,9,   0.2337
  32PZ20020819,   CBL,    53,  1,      5,      5,2,20020905,0810, 79.1387,-161.3928, 2999,    992.0,  -0.0788,  34.8758,2,  34.8757,2,    303.4,2,    303.4,2,  -999.00,9,  -999.00,9,  -999.00,9,  -999.00,9,    4.267,2,    1.979,2,    0.247,2,  -999.00,9,  -999.00,9,  -0.1223
  32PZ20020819,   CBL,    53,  1,      4,      4,2,20020905,0810, 79.1387,-161.3928, 2999,   1536.6,  -0.3400,  34.9209,2,  34.9208,2,    299.7,2,    298.2,2,  -999.00,9,  -999.00,9,  -999.00,9,  -999.00,9, -999.000,9, -999.000,9, -999.000,9,  -999.00,9,  -999.00,9,  -0.4117
  32PZ20020819,   CBL,    53,  1,      3,      3,2,20020905,0810, 79.1387,-161.3928, 2999,   2083.0,  -0.4061,  34.9483,2,  34.9479,2,    289.7,2,    289.6,2,  -999.00,9,  -999.00,9,  -999.00,9,  -999.00,9, -999.000,9, -999.000,9, -999.000,9,  -999.00,9,  -999.00,9,  -0.5121
  32PZ20020819,   CBL,    53,  1,      2,      2,2,20020905,0810, 79.1387,-161.3928, 2999,   2581.3,  -0.3699,  34.9566,2,  34.9560,2,    285.7,2,    285.7,2,  -999.00,9,  -999.00,9,  -999.00,9,  -999.00,9, -999.000,9, -999.000,9, -999.000,9,  -999.00,9,  -999.00,9,  -0.5129
  32PZ20020819,   CBL,    53,  1,      1,      1,2,20020905,0810, 79.1387,-161.3928, 2999,   2990.2,  -0.3327,  34.9580,2,  34.9590,2,    284.7,2,    284.8,2,  -999.00,9,  -999.00,9,  -999.00,9,  -999.00,9, -999.000,9, -999.000,9, -999.000,9,  -999.00,9,  -999.00,9,  -0.5093
  32PZ20020819,   CBL,    54,  1,     33,     33,2,20020905,1339, 79.2720,-160.8585, 3247,      1.8,  -1.6189,  30.3003,2,  30.4263,2,    384.1,2,    385.9,2,     1.30,2,     0.20,2,     0.00,2,     0.85,2,    7.510,2,    3.765,2,    0.687,2,  -999.00,9,  -999.00,9,  -1.6189
  32PZ20020819,   CBL,    54,  1,     32,     32,2,20020905,1339, 79.2720,-160.8585, 3247,     12.6,  -1.6243,  30.5201,2,  30.5939,2,    387.0,2,    388.2,2,     1.50,2,     0.30,2,     0.01,2,     0.87,2,    7.496,2,    3.759,2,    0.691,2,    -2.07,2,    55.80,2,  -1.6245
  32PZ20020819,   CBL,    54,  1,     31,     31,2,20020905,1339, 79.2720,-160.8585, 3247,     20.9,  -1.5726,  30.7621,2,  30.9298,2,    389.2,2,    385.7,2,     4.50,2,     1.30,2,     0.06,2,     0.96,2,    7.440,6,    3.786,6,    0.702,6,    -1.98,2,    56.00,2,  -1.5729
  32PZ20020819,   CBL,    54,  1,     30,     30,2,20020905,1339, 79.2720,-160.8585, 3247,     42.6,  -1.7000,  31.6773,2,  31.7045,2,    353.8,2,    349.3,2,    13.30,2,     5.50,2,     0.02,2,     1.28,2, -999.000,9, -999.000,9, -999.000,9,    -1.77,2,    59.40,2,  -1.7006
  32PZ20020819,   CBL,    54,  1,     29,     29,2,20020905,1339, 79.2720,-160.8585, 3247,     62.6,  -1.5842,  32.2466,2,  32.3200,2,    310.2,2,    293.5,2,    24.20,2,    10.80,2,     0.02,2,     1.64,2,    6.883,2,    3.504,2,    0.568,2,    -1.42,2,    65.30,2,  -1.5853
  32PZ20020819,   CBL,    54,  1,     28,     28,2,20020905,1339, 79.2720,-160.8585, 3247,     77.1,  -1.5564,  32.5380,2,  32.6257,2,    289.0,2,    267.4,2,    32.10,2,    13.00,2,     0.02,2,     1.83,2, -999.000,9, -999.000,9, -999.000,9,    -1.44,2,    75.70,2,  -1.5578
  32PZ20020819,   CBL,    54,  1,     27,     27,2,20020905,1339, 79.2720,-160.8585, 3247,     87.7,  -1.4780,  32.8852,2,  32.9165,2,    262.5,2,    246.2,2,    37.80,2,    15.90,2,     0.02,2,     2.00,2, -999.000,9, -999.000,9, -999.000,9,  -999.00,9,  -999.00,9,  -1.4797
  32PZ20020819,   CBL,    54,  1,     26,     26,2,20020905,1339, 79.2720,-160.8585, 3247,     96.9,  -1.4590,  33.1613,2,  33.1971,2,    249.2,2,    239.8,2,    39.50,2,    16.30,2,     0.01,2,     1.95,2,    6.371,2,    3.217,2,    0.464,2,    -1.15,2,    66.90,2,  -1.4610
  32PZ20020819,   CBL,    54,  1,     25,     25,2,20020905,1339, 79.2720,-160.8585, 3247,    106.8,  -1.4462,  33.5584,2,  33.6418,2,    248.5,2,    261.4,2,    26.70,2,    13.00,2,     0.01,2,     1.43,2, -999.000,9, -999.000,9, -999.000,9,    -0.92,2,    54.80,2,  -1.4485
  32PZ20020819,   CBL,    54,  1,     24,     24,2,20020905,1339, 79.2720,-160.8585, 3247,    117.2,  -1.4237,  33.8866,2,  33.9312,2,    263.1,2,    274.6,2,    18.60,2,    11.70,2,     0.01,2,     1.16,2, -999.000,9, -999.000,9, -999.000,9,  -999.00,9,  -999.00,9,  -1.4263
  32PZ20020819,   CBL,    54,  1,     23,     23,2,20020905,1339, 79.2720,-160.8585, 3247,    126.6,  -1.3285,  34.0460,2,  34.0618,2,    275.5,2,    282.4,2,    14.80,2,    11.20,2,     0.01,2,     1.04,2,    6.434,2,    3.053,2,    0.430,2,  -999.00,9,  -999.00,9,  -1.3315
  32PZ20020819,   CBL,    54,  1,     22,     22,2,20020905,1339, 79.2720,-160.8585, 3247,    141.6,  -1.2342,  34.2060,2,  34.2590,2,    289.2,2,    306.5,2,     6.30,2,     9.50,2,     0.01,2,     0.78,2,    6.758,2,    3.198,2,    0.466,2,    -0.23,2,    42.40,2,  -1.2378
  32PZ20020819,   CBL,    54,  1,     21,     21,2,20020905,1339, 79.2720,-160.8585, 3247,    186.4,  -0.5618,  34.4239,2,  34.4346,2,    305.4,2,    304.6,2,     5.70,2,    10.30,2,     0.01,2,     0.79,2,    6.539,2,    3.137,2,    0.457,2,  -999.00,9,  -999.00,9,  -0.5677
  32PZ20020819,   CBL,    54,  1,     20,     20,2,20020905,1339, 79.2720,-160.8585, 3247,    235.7,   0.4138,  34.6549,2,  34.6591,2,    300.9,2,    299.8,2,     5.70,2,    11.50,2,     0.01,2,     0.85,2,    5.891,2,    2.804,2,    0.401,2,  -999.00,9,  -999.00,9,   0.4042
  32PZ20020819,   CBL,    54,  1,     19,     19,2,20020905,1339, 79.2720,-160.8585, 3247,    284.6,   0.9465,  34.8014,2,  34.8027,2,    298.1,2,    298.4,2,     5.80,2,    12.40,2,     0.01,2,     0.88,2,    5.500,2,    2.591,2,    0.368,2,  -999.00,9,  -999.00,9,   0.9334
  32PZ20020819,   CBL,    54,  1,     18,     18,2,20020905,1339, 79.2720,-160.8585, 3247,    324.4,   1.0748,  34.8342,2,  34.8369,2,    299.3,2,    300.5,2,     5.80,2,    12.60,2,     0.01,2,     0.89,2,    5.392,2,    2.553,2,    0.373,2,  -999.00,9,  -999.00,9,   1.0594
  32PZ20020819,   CBL,    54,  1,     17,     17,2,20020905,1339, 79.2720,-160.8585, 3247,    369.3,   1.1561,  34.8522,2,  34.8544,2,    299.9,2,    299.8,2,     5.90,2,    12.70,2,     0.01,2,     0.89,2,    5.587,2,    2.481,2,    0.370,2,     0.25,2,    46.80,2,   1.1382
  32PZ20020819,   CBL,    54,  1,     16,     16,2,20020905,1339, 79.2720,-160.8585, 3247,    418.4,   1.0206,  34.8567,2,  34.8615,2,    299.9,2,    300.6,2,     6.00,2,    12.60,2,     0.01,2,     0.90,2,    5.166,2,    2.436,2,    0.351,2,     0.25,2,    46.40,2,   1.0006
  32PZ20020819,   CBL,    54,  1,     15,     15,2,20020905,1339, 79.2720,-160.8585, 3247,    498.1,   0.7645,  34.8605,2,  34.8618,2,    300.2,2,    300.7,2,     6.10,2,    12.80,2,     0.01,2,     0.90,2,    4.598,2,    2.145,2,    0.277,2,  -999.00,9,  -999.00,9,   0.7414
  32PZ20020819,   CBL,    54,  1,     14,     14,2,20020905,1339, 79.2720,-160.8585, 3247,    572.0,   0.5518,  34.8600,2,  34.8599,2,    301.9,2,    301.6,2,     6.40,2,    12.70,2,     0.01,2,     0.91,2,    4.900,2,    2.265,2,    0.302,2,  -999.00,9,  -999.00,9,   0.5259
  32PZ20020819,   CBL,    54,  1,     13,     13,2,20020905,1339, 79.2720,-160.8585, 3247,    645.9,   0.3861,  34.8615,2,  34.8638,2,    302.6,2,    302.0,2,     6.50,2,    12.90,2,     0.01,2,     0.91,2,    5.014,2,    2.339,2,    0.304,2,  -999.00,9,  -999.00,9,   0.3573
  32PZ20020819,   CBL,    54,  1,     12,     12,2,20020905,1339, 79.2720,-160.8585, 3247,    720.7,   0.2291,  34.8620,2,  34.8643,2,    303.8,2,    304.1,2,     6.30,2,    12.70,2,     0.01,2,     0.91,2,    4.659,2,    2.157,2,    0.270,2,  -999.00,9,  -999.00,9,   0.1974
  32PZ20020819,   CBL,    54,  1,     11,     11,2,20020905,1339, 79.2720,-160.8585, 3247,    894.3,   0.0081,  34.8693,2,  34.8822,2,    304.3,2,    303.2,2,     6.60,2,    12.90,2,     0.01,2,     0.92,2,    4.387,2,    2.022,2,    0.254,2,  -999.00,9,  -999.00,9,  -0.0310
  32PZ20020819,   CBL,    54,  1,     10,     10,2,20020905,1339, 79.2720,-160.8585, 3247,   1067.9,  -0.1072,  34.8856,2,  34.8932,2,    302.0,2,    300.8,2,     7.20,2,    13.20,2,     0.01,2,     0.94,2,    2.495,2,    1.158,2,    0.113,2,  -999.00,9,  -999.00,9,  -0.1546
  32PZ20020819,   CBL,    54,  1,      9,      9,2,20020905,1339, 79.2720,-160.8585, 3247,   1241.9,  -0.2063,  34.9003,2,  34.9089,2,    301.9,2,    300.4,2,     7.70,2,    13.50,2,     0.01,2,     0.97,2,    1.535,6,    0.720,6,    0.064,6,  -999.00,9,  -999.00,9,  -0.2623
  32PZ20020819,   CBL,    54,  1,      8,      8,2,20020905,1339, 79.2720,-160.8585, 3247,   1391.0,  -0.2949,  34.9125,2,  34.9181,2,    299.7,2,    299.6,2,     8.40,2,    13.70,2,     0.01,2,     0.99,2,    0.958,2,    0.452,2,    0.028,2,  -999.00,9,  -999.00,9,  -0.3585
  32PZ20020819,   CBL,    54,  1,      7,      7,2,20020905,1339, 79.2720,-160.8585, 3247,   1639.6,  -0.3932,  34.9270,2,  34.9301,2,    296.4,2,    295.9,2,     9.60,2,    14.30,2,     0.01,2,     1.03,2,    0.654,2,    0.304,2,    0.014,2,  -999.00,9,  -999.00,9,  -0.4705
  32PZ20020819,   CBL,    54,  1,      6,      6,2,20020905,1339, 79.2720,-160.8585, 3247,   1938.2,  -0.4099,  34.9444,2,  34.9462,2,    291.2,2,    291.8,2,    11.50,2,    14.70,2,     0.01,2,     1.06,2, -999.000,9, -999.000,9, -999.000,9,  -999.00,9,  -999.00,9,  -0.5060
  32PZ20020819,   CBL,    54,  1,      5,      5,2,20020905,1339, 79.2720,-160.8585, 3247,   2286.4,  -0.3969,  34.9530,2,  34.9547,2,    286.9,2,    286.7,2,    12.90,2,    15.10,2,     0.01,2,     1.08,2,    0.015,2,    0.008,2,    0.000,2,  -999.00,9,  -999.00,9,  -0.5174
  32PZ20020819,   CBL,    54,  1,      4,      4,2,20020905,1339, 79.2720,-160.8585, 3247,   2586.1,  -0.3679,  34.9569,2,  34.9584,2,    284.8,2,    284.6,2,    13.40,2,    15.20,2,     0.01,2,     1.08,2, -999.000,9, -999.000,9, -999.000,9,  -999.00,9,  -999.00,9,  -0.5113
  32PZ20020819,   CBL,    54,  1,      3,      3,2,20020905,1339, 79.2720,-160.8585, 3247,   2885.0,  -0.3430,  34.9570,2,  34.9607,2,    284.2,2,    285.1,2,    13.40,2,    15.10,2,     0.01,2,     1.08,2,    0.022,2,   -0.002,2,    0.000,2,  -999.00,9,  -999.00,9,  -0.5106
  32PZ20020819,   CBL,    54,  1,      2,      2,2,20020905,1339, 79.2720,-160.8585, 3247,   3085.2,  -0.3263,  34.9570,2,  34.9578,2,    284.0,2,    284.7,2,    13.40,2,    15.20,2,     0.01,2,     1.08,2, -999.000,9, -999.000,9, -999.000,9,  -999.00,9,  -999.00,9,  -0.5110
  32PZ20020819,   CBL,    54,  1,      1,      1,2,20020905,1339, 79.2720,-160.8585, 3247,   3245.3,  -0.3122,  34.9569,2,  34.9589,2,    284.1,2,    283.9,2,    13.50,2,    15.20,2,     0.01,2,     1.08,2,    0.003,2,   -0.001,2,    0.000,2,  -999.00,9,  -999.00,9,  -0.5111