BOTTLE,20220815CCHSIOAMB
EXPOCODE,SECT_ID,STNNBR,CASTNO,SAMPNO,BTLNBR,BTLNBR_FLAG_W,DATE,TIME,LATITUDE,LONGITUDE,DEPTH,CTDPRS,CTDTMP,CTDSAL,CTDSAL_FLAG_W,SALNTY,SALNTY_FLAG_W,CTDOXY,CTDOXY_FLAG_W,OXYGEN,OXYGEN_FLAG_W,SILCAT,SILCAT_FLAG_W,NITRAT,NITRAT_FLAG_W,NITRIT,NITRIT_FLAG_W,PHSPHT,PHSPHT_FLAG_W,CFC-11,CFC-11_FLAG_W,CFC-12,CFC-12_FLAG_W,CFC113,CFC113_FLAG_W,DELO18,DELO18_FLAG_W,BARIUM,BARIUM_FLAG_W,THETA
,,,,,,,,,,,METERS,DBAR,ITS-90,PSS-78,,PSS-78,,UMOL/KG,,UMOL/KG,,UMOL/KG,,UMOL/KG,,UMOL/KG,,UMOL/KG,,PMOL/KG,,PMOL/KG,,PMOL/KG,,/MILLE,,NMOL/KG,,DEG C
  32PZ20020819,   CBL,    98,  1,     24,     24,2,20020914,1429, 77.1363,-169.3388, 1980,     13.0,  -1.5500,  28.8174,2,  28.8199,2,    376.6,2,    379.2,2,     2.70,2,     0.10,2,     0.00,2,     0.70,2,    7.483,2,    3.874,2,    0.710,2,    -2.67,2,    62.00,2,  -1.5501
  32PZ20020819,   CBL,    98,  1,     23,     23,2,20020914,1429, 77.1363,-169.3388, 1980,     31.1,  -1.2246,  30.0694,2,  30.3954,2,    384.3,2,    383.6,2,     5.40,2,     0.40,2,     0.21,2,     0.82,2,    7.360,2,    3.720,2,    0.679,2,    -2.39,2,    64.10,2,  -1.2251
  32PZ20020819,   CBL,    98,  1,     22,     22,2,20020914,1429, 77.1363,-169.3388, 1980,     40.0,  -0.7714,  31.1277,2,  31.2979,2,    374.0,2,    351.3,2,     9.60,2,     3.30,2,     0.11,2,     1.03,2,    6.609,2,    3.386,2,    0.602,2,    -1.98,2,    68.80,2,  -0.7723
  32PZ20020819,   CBL,    98,  1,     21,     21,2,20020914,1429, 77.1363,-169.3388, 1980,     58.9,  -1.1290,  31.9276,2,  32.0329,2,    337.9,2,    323.7,2,    18.20,2,     8.10,2,     0.03,2,     1.39,2,    6.856,2,    3.454,2,    0.557,2,    -1.89,2,    64.50,2,  -1.1302
  32PZ20020819,   CBL,    98,  1,     20,     20,2,20020914,1429, 77.1363,-169.3388, 1980,     76.4,  -1.3269,  32.3214,2,  32.3431,2,    316.7,2,    308.4,2,    24.40,2,    10.60,2,     0.03,2,     1.58,2,    6.543,2,    3.224,2,    0.493,2,  -999.00,9,  -999.00,9,  -1.3284
  32PZ20020819,   CBL,    98,  1,     19,     19,2,20020914,1429, 77.1363,-169.3388, 1980,     92.6,  -1.5334,  32.6453,2,  32.9323,2,    301.8,2,    283.2,2,    34.80,2,    14.50,2,     0.02,2,     1.84,2,    6.040,2,    2.998,2,    0.455,2,    -1.57,2,    69.40,2,  -1.5352
  32PZ20020819,   CBL,    98,  1,     18,     18,2,20020914,1429, 77.1363,-169.3388, 1980,    104.3,  -1.5409,  33.1611,2,  33.2093,2,    280.5,2,    270.4,2,    38.70,2,    15.70,2,     0.02,2,     1.93,2,    5.861,2,    2.959,2,    0.453,2,  -999.00,9,  -999.00,9,  -1.5430
  32PZ20020819,   CBL,    98,  1,     17,     17,2,20020914,1429, 77.1363,-169.3388, 1980,    116.2,  -1.4922,  33.3257,2,  33.3631,2,    266.0,2,    264.1,2,    39.60,2,    16.10,2,     0.02,2,     1.94,2,    5.736,2,    2.878,2,    0.436,2,    -1.40,2,    66.50,2,  -1.4946
  32PZ20020819,   CBL,    98,  1,     16,     16,2,20020914,1429, 77.1363,-169.3388, 1980,    133.9,  -1.3386,  33.5828,2,  33.6242,2,    254.8,2,    252.7,2,    39.20,2,    16.40,2,     0.02,2,     1.88,2,    5.545,2,    2.744,2,    0.393,2,  -999.00,9,  -999.00,9,  -1.3417
  32PZ20020819,   CBL,    98,  1,     15,     15,2,20020914,1429, 77.1363,-169.3388, 1980,    150.8,  -1.0479,  33.9984,2,  34.0367,2,    243.4,2,    244.8,2,    30.50,2,    15.00,2,     0.02,2,     1.53,2,    5.296,2,    2.542,2,    0.325,2,    -0.64,2,    54.50,2,  -1.0519
  32PZ20020819,   CBL,    98,  1,     14,     14,2,20020914,1429, 77.1363,-169.3388, 1980,    168.3,  -0.8083,  34.2486,2,  34.2625,2,    243.5,2,    251.4,2,    22.60,2,    13.80,2,     0.02,2,     1.25,2,    5.355,2,    2.493,2,    0.331,2,    -0.31,2,    55.50,2,  -0.8132
  32PZ20020819,   CBL,    98,  1,     13,     13,2,20020914,1429, 77.1363,-169.3388, 1980,    205.0,  -0.0745,  34.5079,2,  34.5141,2,    271.0,2,    273.1,2,    12.50,2,    12.50,2,     0.02,2,     0.94,2,    5.837,2,    2.701,2,    0.374,2,  -999.00,9,  -999.00,9,  -0.0819
  32PZ20020819,   CBL,    98,  1,     12,     12,2,20020914,1429, 77.1363,-169.3388, 1980,    275.9,   0.8568,  34.7591,2,  34.7599,2,    288.7,2,    288.8,2,     8.00,2,    12.80,2,     0.02,2,     0.87,2,    5.521,2,    2.584,2,    0.366,2,  -999.00,9,  -999.00,9,   0.8444
  32PZ20020819,   CBL,    98,  1,     11,     11,2,20020914,1429, 77.1363,-169.3388, 1980,    313.6,   0.9734,  34.7966,2,  34.7968,2,    293.8,2,    292.2,2,     7.30,2,    12.80,2,     0.02,2,     0.86,2,    5.448,6,    2.542,6,    0.358,6,  -999.00,9,  -999.00,9,   0.9588
  32PZ20020819,   CBL,    98,  1,     10,     10,2,20020914,1429, 77.1363,-169.3388, 1980,    377.9,   1.1250,  34.8450,2,  34.8444,2,    297.4,2,    297.0,2,     6.90,2,    12.80,2,     0.02,2,     0.86,2,    5.278,2,    2.499,2,    0.369,2,     0.34,2,    41.10,2,   1.1067
  32PZ20020819,   CBL,    98,  1,      9,      9,2,20020914,1429, 77.1363,-169.3388, 1980,    447.3,   0.9873,  34.8564,2,  34.8556,2,    298.3,2,    298.1,2,     6.90,2,    12.80,2,     0.02,2,     0.86,2,    5.270,2,    2.453,2,    0.373,2,  -999.00,9,  -999.00,9,   0.9659
  32PZ20020819,   CBL,    98,  1,      8,      8,2,20020914,1429, 77.1363,-169.3388, 1980,    595.6,   0.5900,  34.8583,2,  34.8580,2,    299.7,2,    300.2,2,     7.00,2,    12.70,2,     0.02,2,     0.87,2,    5.046,2,    2.324,2,    0.331,2,  -999.00,9,  -999.00,9,   0.5627
  32PZ20020819,   CBL,    98,  1,      7,      7,2,20020914,1429, 77.1363,-169.3388, 1980,    762.9,   0.2493,  34.8602,2,  34.8592,2,    303.1,2,    303.5,2,     6.60,2,    12.60,2,     0.02,2,     0.86,2,    4.867,2,    2.299,2,    0.319,2,     0.20,2,    41.90,2,   0.2153
  32PZ20020819,   CBL,    98,  1,      6,      6,2,20020914,1429, 77.1363,-169.3388, 1980,    961.6,  -0.0144,  34.8696,2,  34.8682,2,    304.0,2,    303.9,2,     7.00,2,    12.80,2,     0.02,2,     0.88,2,    4.490,2,    2.074,2,    0.274,2,  -999.00,9,  -999.00,9,  -0.0568
  32PZ20020819,   CBL,    98,  1,      5,      5,2,20020914,1429, 77.1363,-169.3388, 1980,   1160.4,  -0.1774,  34.8842,2,  34.8834,2,    303.4,2,    302.9,2,     7.60,2,    13.00,2,     0.01,2,     0.90,2,    3.690,2,    1.690,2,    0.216,2,  -999.00,9,  -999.00,9,  -0.2291
  32PZ20020819,   CBL,    98,  1,      4,      4,2,20020914,1429, 77.1363,-169.3388, 1980,   1439.0,  -0.3651,  34.9046,2,  34.9052,2,    301.4,2,    300.8,2,     8.90,2,    13.60,2,     0.01,2,     0.94,2,    2.506,2,    1.201,2,    0.136,2,  -999.00,9,  -999.00,9,  -0.4306
  32PZ20020819,   CBL,    98,  1,      3,      3,2,20020914,1429, 77.1363,-169.3388, 1980,   1727.1,  -0.4454,  34.9353,2,  34.9355,2,    292.5,2,    292.3,2,    11.70,2,    14.50,2,     0.01,2,     1.00,2,    0.632,6,    0.300,6,    0.022,6,  -999.00,9,  -999.00,9,  -0.5274
  32PZ20020819,   CBL,    98,  1,      2,      2,2,20020914,1429, 77.1363,-169.3388, 1980,   1884.1,  -0.4259,  34.9478,2,  34.9469,2,    288.5,2,    287.8,2,    13.10,2,    14.90,2,     0.01,2,     1.03,2,    0.206,2,    0.099,2,    0.010,2,  -999.00,9,  -999.00,9,  -0.5182
  32PZ20020819,   CBL,    98,  1,      1,      1,2,20020914,1429, 77.1363,-169.3388, 1980,   1960.7,  -0.3924,  34.9530,2,  34.9551,2,    278.3,2,    278.5,2,    16.00,2,    15.40,2,     0.02,2,     1.07,2,    0.074,2,    0.044,2,    0.009,2,  -999.00,9,  -999.00,9,  -0.4903
  32PZ20020819,   CBL,    99,  1,     24,     24,2,20020915,0259, 76.5020,-170.0473, 2260,      8.5,  -1.5135,  27.9323,2,  28.0431,2,    374.5,2,    377.6,2,     4.30,2,     0.10,2,     0.00,2,     0.64,2,    7.662,2,    3.859,2,    0.722,2,  -999.00,9,  -999.00,9,  -1.5136
  32PZ20020819,   CBL,    99,  1,     23,     23,2,20020915,0259, 76.5020,-170.0473, 2260,     32.0,  -0.8655,  30.7807,2,  30.8312,2,    381.6,2,    360.4,2,     7.30,2,     1.60,2,     0.35,2,     0.90,2,    6.990,2,    3.527,2,    0.641,2,  -999.00,9,  -999.00,9,  -0.8662
  32PZ20020819,   CBL,    99,  1,     22,     22,2,20020915,0259, 76.5020,-170.0473, 2260,     40.2,  -0.7988,  31.5234,2,  31.5450,2,    358.2,2,    337.5,2,    11.30,2,     4.50,2,     0.06,2,     1.10,2,    6.768,2,    3.412,2,    0.580,2,  -999.00,9,  -999.00,9,  -0.7997
  32PZ20020819,   CBL,    99,  1,     21,     21,2,20020915,0259, 76.5020,-170.0473, 2260,     56.8,  -1.0936,  32.1087,2,  32.1203,2,    325.4,2,    309.2,2,    19.30,2,     8.50,2,     0.01,2,     1.41,2,    6.658,2,    3.355,2,    0.548,2,  -999.00,9,  -999.00,9,  -1.0948
  32PZ20020819,   CBL,    99,  1,     20,     20,2,20020915,0259, 76.5020,-170.0473, 2260,     87.6,  -0.9737,  32.6162,2,  32.6217,2,    283.8,2,    273.6,2,    31.00,2,    13.70,2,     0.01,2,     1.85,2,    6.292,2,    3.195,2,    0.514,2,  -999.00,9,  -999.00,9,  -0.9758
  32PZ20020819,   CBL,    99,  1,     19,     19,2,20020915,0259, 76.5020,-170.0473, 2260,     99.3,  -1.0162,  32.7371,2,  32.7417,2,    274.6,2,    264.0,2,    34.60,2,    15.30,2,     0.01,2,     2.01,2,    6.331,2,    3.271,2,    0.509,2,  -999.00,9,  -999.00,9,  -1.0185
  32PZ20020819,   CBL,    99,  1,     18,     18,2,20020915,0259, 76.5020,-170.0473, 2260,    126.6,  -1.5207,  33.1145,2,  33.1366,2,    279.9,2,    275.6,2,    37.00,2,    15.20,2,     0.01,2,     1.90,2,    5.958,2,    2.971,2,    0.428,2,  -999.00,9,  -999.00,9,  -1.5233
  32PZ20020819,   CBL,    99,  1,     17,     17,2,20020915,0259, 76.5020,-170.0473, 2260,    148.7,  -1.3555,  33.5567,2,  33.5981,2,    267.3,2,    259.6,2,    37.50,2,    16.00,2,     0.00,2,     1.86,2,    5.574,2,    2.738,2,    0.390,2,  -999.00,9,  -999.00,9,  -1.3589
  32PZ20020819,   CBL,    99,  1,     16,     16,2,20020915,0259, 76.5020,-170.0473, 2260,    177.2,  -0.8694,  34.2119,2,  34.2304,2,    249.4,2,    248.9,2,    23.60,2,    13.80,2,     0.00,2,     1.29,2,    5.672,2,    2.633,2,    0.359,2,  -999.00,9,  -999.00,9,  -0.8745
  32PZ20020819,   CBL,    99,  1,     15,     15,2,20020915,0259, 76.5020,-170.0473, 2260,    201.7,  -0.2625,  34.4498,2,  34.4567,2,    266.5,2,    268.2,2,    14.00,2,    12.40,2,     0.00,2,     0.99,2,    5.975,2,    2.736,2,    0.361,2,  -999.00,9,  -999.00,9,  -0.2694
  32PZ20020819,   CBL,    99,  1,     14,     14,2,20020915,0259, 76.5020,-170.0473, 2260,    232.6,   0.2933,  34.5965,2,  34.6032,2,    273.6,2,    278.6,2,    10.70,2,    12.50,2,     0.00,2,     0.92,2,    5.800,2,    2.663,2,    0.386,2,  -999.00,9,  -999.00,9,   0.2841
  32PZ20020819,   CBL,    99,  1,     13,     13,2,20020915,0259, 76.5020,-170.0473, 2260,    288.7,   0.8956,  34.7752,2,  34.7826,2,    290.1,2,    291.4,2,     7.40,2,    12.70,2,     0.00,2,     0.87,2,    5.532,6,    2.563,6,    0.360,6,  -999.00,9,  -999.00,9,   0.8825
  32PZ20020819,   CBL,    99,  1,     12,     12,2,20020915,0259, 76.5020,-170.0473, 2260,    345.0,   1.1220,  34.8478,2,  34.8485,2,    296.8,2,    296.4,2,     6.90,2,    12.70,2,     0.00,2,     0.87,2,    5.385,2,    2.496,2,    0.346,2,  -999.00,9,  -999.00,9,   1.1054
  32PZ20020819,   CBL,    99,  1,     11,     11,2,20020915,0259, 76.5020,-170.0473, 2260,    396.3,   1.0092,  34.8434,2,  34.8433,2,    297.5,2,    296.4,2,     7.00,2,    12.80,2,     0.00,2,     0.87,2,    5.148,2,    2.359,2,    0.312,2,  -999.00,9,  -999.00,9,   0.9904
  32PZ20020819,   CBL,    99,  1,     10,     10,2,20020915,0259, 76.5020,-170.0473, 2260,    445.3,   0.9301,  34.8565,2,  34.8603,2,    298.7,2,    298.6,2,     6.70,2,    12.80,2,     0.00,2,     0.87,2,    5.251,2,    2.437,2,    0.333,2,  -999.00,9,  -999.00,9,   0.9090
  32PZ20020819,   CBL,    99,  1,      9,      9,2,20020915,0259, 76.5020,-170.0473, 2260,    507.0,   0.7612,  34.8576,2,  34.8604,2,    299.5,2,    300.2,2,     6.60,2,    12.80,2,     0.00,2,     0.87,2,    5.055,2,    2.343,2,    0.317,2,  -999.00,9,  -999.00,9,   0.7376
  32PZ20020819,   CBL,    99,  1,      8,      8,2,20020915,0259, 76.5020,-170.0473, 2260,    607.5,   0.5072,  34.8580,2,  34.8581,2,    301.3,2,    301.2,2,     6.60,2,    12.80,2,     0.00,2,     0.87,2,    5.086,2,    2.341,2,    0.315,2,  -999.00,9,  -999.00,9,   0.4797
  32PZ20020819,   CBL,    99,  1,      7,      7,2,20020915,0259, 76.5020,-170.0473, 2260,    705.4,   0.3148,  34.8595,2,  34.8579,2,    302.1,2,    302.3,2,     6.60,2,    12.80,2,     0.00,2,     0.87,2,    4.778,2,    2.200,2,    0.285,2,  -999.00,9,  -999.00,9,   0.2834
  32PZ20020819,   CBL,    99,  1,      6,      6,2,20020915,0259, 76.5020,-170.0473, 2260,    805.7,   0.1458,  34.8632,2,  34.8624,2,    303.3,2,    303.5,2,     6.60,2,    12.80,2,     0.00,2,     0.87,2,    4.707,2,    2.148,2,    0.285,2,  -999.00,9,  -999.00,9,   0.1103
  32PZ20020819,   CBL,    99,  1,      5,      5,2,20020915,0259, 76.5020,-170.0473, 2260,   1007.3,  -0.0682,  34.8744,2,  34.8726,2,    303.4,2,    303.3,2,     6.90,2,    13.00,2,     0.00,2,     0.89,2,    4.126,2,    1.899,2,    0.223,2,  -999.00,9,  -999.00,9,  -0.1126
  32PZ20020819,   CBL,    99,  1,      4,      4,2,20020915,0259, 76.5020,-170.0473, 2260,   1314.0,  -0.2825,  34.8961,2,  34.8948,2,    302.1,2,    302.1,2,     7.70,2,    13.40,2,     0.00,2,     0.92,2,    2.765,2,    1.293,2,    0.120,2,  -999.00,9,  -999.00,9,  -0.3418
  32PZ20020819,   CBL,    99,  1,      3,      3,2,20020915,0259, 76.5020,-170.0473, 2260,   1620.5,  -0.4218,  34.9201,2,  34.9184,2,    298.6,2,    298.4,2,     9.50,2,    14.10,2,     0.00,2,     0.97,2,    1.252,6,    0.591,6,    0.036,6,  -999.00,9,  -999.00,9,  -0.4975
  32PZ20020819,   CBL,    99,  1,      2,      2,2,20020915,0259, 76.5020,-170.0473, 2260,   1858.8,  -0.4395,  34.9388,2,  34.9371,2,    292.3,2,    292.1,2,    11.50,2,    14.70,2,     0.00,2,     1.02,2,    0.438,2,    0.206,2,    0.000,2,  -999.00,9,  -999.00,9,  -0.5300
  32PZ20020819,   CBL,    99,  1,      1,      1,2,20020915,0259, 76.5020,-170.0473, 2260,   2241.6,  -0.3820,  34.9545,2,  34.9529,2,    283.0,2,    283.1,2,    14.40,2,    15.30,2,     0.00,2,     1.06,2,    0.040,2,    0.018,2,    0.000,2,  -999.00,9,  -999.00,9,  -0.4995