BOTTLE,20220815CCHSIOAMB
EXPOCODE,SECT_ID,STNNBR,CASTNO,SAMPNO,BTLNBR,BTLNBR_FLAG_W,DATE,TIME,LATITUDE,LONGITUDE,DEPTH,CTDPRS,CTDTMP,CTDSAL,CTDSAL_FLAG_W,SALNTY,SALNTY_FLAG_W,CTDOXY,CTDOXY_FLAG_W,OXYGEN,OXYGEN_FLAG_W,SILCAT,SILCAT_FLAG_W,NITRAT,NITRAT_FLAG_W,NITRIT,NITRIT_FLAG_W,PHSPHT,PHSPHT_FLAG_W,CFC-11,CFC-11_FLAG_W,CFC-12,CFC-12_FLAG_W,CFC113,CFC113_FLAG_W,DELO18,DELO18_FLAG_W,BARIUM,BARIUM_FLAG_W,THETA
,,,,,,,,,,,METERS,DBAR,ITS-90,PSS-78,,PSS-78,,UMOL/KG,,UMOL/KG,,UMOL/KG,,UMOL/KG,,UMOL/KG,,UMOL/KG,,PMOL/KG,,PMOL/KG,,PMOL/KG,,/MILLE,,NMOL/KG,,DEG C
  32PZ20020819,   CBL,    45,  1,     22,     22,2,20020903,2054, 78.3818,-166.9122,  470,      1.8,  -1.3713,  29.6426,2,  29.6523,2,    385.6,2,    387.0,2,  -999.00,9,  -999.00,9,  -999.00,9,  -999.00,9, -999.000,9, -999.000,9, -999.000,9,  -999.00,9,  -999.00,9,  -1.3713
  32PZ20020819,   CBL,    45,  1,     21,     21,2,20020903,2054, 78.3818,-166.9122,  470,     14.2,  -1.5654,  29.7158,2,  29.7588,2,    387.9,2,    388.3,2,     1.30,2,     0.10,2,     0.00,2,     0.79,2,    7.512,2,    3.845,2,    0.695,2,    -2.22,2,    59.30,2,  -1.5656
  32PZ20020819,   CBL,    45,  1,     20,     20,2,20020903,2054, 78.3818,-166.9122,  470,     28.6,  -1.4945,  30.6930,2,  30.9193,2,    392.9,2,    380.0,2,     5.30,2,     1.50,2,     0.06,2,     0.98,2, -999.000,9, -999.000,9, -999.000,9,    -2.20,2,    60.40,2,  -1.4949
  32PZ20020819,   CBL,    45,  1,     19,     19,2,20020903,2054, 78.3818,-166.9122,  470,     45.5,  -1.5334,  31.9638,2,  32.0385,2,    336.5,2,    314.0,2,    18.90,2,     8.50,2,     0.09,2,     1.45,2, -999.000,9, -999.000,9, -999.000,9,  -999.00,9,  -999.00,9,  -1.5342
  32PZ20020819,   CBL,    45,  1,     18,     18,2,20020903,2054, 78.3818,-166.9122,  470,     60.3,  -1.4827,  32.2527,2,  32.3019,2,    312.9,2,    299.8,2,    22.20,2,    10.50,2,     0.08,2,     1.59,2, -999.000,9, -999.000,9, -999.000,9,    -1.57,2,    66.80,2,  -1.4838
  32PZ20020819,   CBL,    45,  1,     17,     17,2,20020903,2054, 78.3818,-166.9122,  470,     71.4,  -1.4083,  32.5172,2,  32.5160,2,    299.5,2,    286.1,2,    27.40,2,    12.60,2,     0.08,2,     1.75,2, -999.000,9, -999.000,9, -999.000,9,  -999.00,9,  -999.00,9,  -1.4097
  32PZ20020819,   CBL,    45,  1,     16,     16,2,20020903,2054, 78.3818,-166.9122,  470,     81.1,  -1.4019,  32.7102,2,  32.7159,2,    285.2,2,    272.2,2,    32.80,2,    14.40,2,     0.08,2,     1.89,2,    6.289,2,    3.244,2,    0.478,2,    -1.45,2,    68.80,2,  -1.4035
  32PZ20020819,   CBL,    45,  1,     15,     15,2,20020903,2054, 78.3818,-166.9122,  470,     91.1,  -1.4724,  32.8253,2,  32.8659,2,    273.3,2,    262.8,2,    35.90,2,    15.50,2,     0.08,2,     1.98,2, -999.000,9, -999.000,9, -999.000,9,  -999.00,9,  -999.00,9,  -1.4742
  32PZ20020819,   CBL,    45,  1,     14,     14,2,20020903,2054, 78.3818,-166.9122,  470,    101.1,  -1.4901,  33.0334,2,  33.0970,2,    263.7,2,    244.7,2,    41.30,2,    17.20,2,     0.08,3,     2.12,2, -999.000,9, -999.000,9, -999.000,9,    -1.22,2,    71.90,2,  -1.4921
  32PZ20020819,   CBL,    45,  1,     13,     13,2,20020903,2054, 78.3818,-166.9122,  470,    110.6,  -1.4704,  33.2501,2,  33.2726,2,    251.3,2,    240.8,2,    44.70,2,    17.80,2,     0.08,3,     2.16,2, -999.000,9, -999.000,9, -999.000,9,    -1.24,2,    73.10,2,  -1.4727
  32PZ20020819,   CBL,    45,  1,     12,     12,2,20020903,2054, 78.3818,-166.9122,  470,    121.0,  -1.4028,  33.5823,2,  33.5999,2,    239.7,2,    239.5,2,    39.40,2,    16.00,2,     0.07,3,     1.89,2,    6.257,2,    3.159,2,    0.477,2,    -0.97,2,    64.80,2,  -1.4055
  32PZ20020819,   CBL,    45,  1,     11,     11,2,20020903,2054, 78.3818,-166.9122,  470,    130.9,  -1.3990,  33.8017,2,  33.8721,2,    245.5,2,    259.6,2,    25.10,2,    12.80,2,     0.07,3,     1.37,2, -999.000,9, -999.000,9, -999.000,9,    -0.68,2,    51.70,2,  -1.4020
  32PZ20020819,   CBL,    45,  1,     10,     10,2,20020903,2054, 78.3818,-166.9122,  470,    149.2,  -1.2974,  34.1215,2,  34.1454,2,    284.3,2,    283.5,2,    13.00,2,    10.70,2,     0.06,3,     0.98,2,    6.491,2,    3.096,2,    0.416,2,    -0.29,2,    61.50,2,  -1.3010
  32PZ20020819,   CBL,    45,  1,      9,      9,2,20020903,2054, 78.3818,-166.9122,  470,    162.2,  -1.0424,  34.2619,2,  34.2672,2,    284.7,2,    284.4,2,    11.60,2,    10.80,2,     0.06,3,     0.95,2,    6.111,6,    2.939,6,    0.402,6,  -999.00,9,  -999.00,9,  -1.0468
  32PZ20020819,   CBL,    45,  1,      8,      8,2,20020903,2054, 78.3818,-166.9122,  470,    177.1,  -0.6675,  34.3727,2,  34.3853,2,    286.0,2,    284.5,2,    10.20,2,    11.10,2,     0.06,3,     0.92,2,    6.070,2,    2.881,2,    0.412,2,  -999.00,9,  -999.00,9,  -0.6729
  32PZ20020819,   CBL,    45,  1,      7,      7,2,20020903,2054, 78.3818,-166.9122,  470,    192.5,  -0.2433,  34.4740,2,  34.4884,2,    280.5,2,    275.2,2,    11.80,2,    12.00,2,     0.06,3,     0.96,2,    5.967,2,    2.784,2,    0.356,2,  -999.00,9,  -999.00,9,  -0.2499
  32PZ20020819,   CBL,    45,  1,      6,      6,2,20020903,2054, 78.3818,-166.9122,  470,    233.1,   0.4266,  34.6545,2,  34.6591,2,    278.6,2,    278.9,2,    10.80,2,    12.50,2,     0.06,3,     0.95,2,    5.693,2,    2.650,2,    0.344,2,  -999.00,9,  -999.00,9,   0.4171
  32PZ20020819,   CBL,    45,  1,      5,      5,2,20020903,2054, 78.3818,-166.9122,  470,    283.7,   0.8600,  34.7752,2,  34.7761,2,    287.0,2,    286.2,2,     8.50,2,    12.80,2,     0.06,3,     0.92,2,    5.210,6,    2.476,6,    0.325,6,  -999.00,9,  -999.00,9,   0.8472
  32PZ20020819,   CBL,    45,  1,      4,      4,2,20020903,2054, 78.3818,-166.9122,  470,    334.9,   1.0154,  34.8244,2,  34.8237,2,    291.0,2,    291.2,2,     7.70,2,    12.80,2,     0.06,3,     0.91,2,    5.295,2,    2.486,2,    0.319,2,     0.24,2,    41.10,2,   0.9997
  32PZ20020819,   CBL,    45,  1,      3,      3,2,20020903,2054, 78.3818,-166.9122,  470,    379.6,   0.9534,  34.8366,2,  34.8369,2,    291.6,2,    292.1,2,     7.90,2,    12.90,2,     0.06,3,     0.91,2,    5.187,2,    2.432,2,    0.310,2,  -999.00,9,  -999.00,9,   0.9356
  32PZ20020819,   CBL,    45,  1,      2,      2,2,20020903,2054, 78.3818,-166.9122,  470,    430.2,   0.8351,  34.8455,2,  34.8451,2,    291.2,2,    291.1,2,     9.00,2,    13.00,2,     0.06,3,     0.92,2,    5.093,2,    2.392,2,    0.294,2,  -999.00,9,  -999.00,9,   0.8151
  32PZ20020819,   CBL,    45,  1,      1,      1,2,20020903,2054, 78.3818,-166.9122,  470,    452.0,   0.7898,  34.8486,2,  34.8481,2,    291.8,2,    291.8,2,     9.10,2,    12.90,2,     0.06,3,     0.92,2,    5.097,2,    2.393,2,    0.299,2,  -999.00,9,  -999.00,9,   0.7689
  32PZ20020819,   CBL,    46,  1,     21,     21,2,20020904,0156, 78.1145,-166.4555,  328,      1.9,  -1.5585,  29.6192,2,  29.6260,2,    384.3,2,    387.1,2,  -999.00,9,  -999.00,9,  -999.00,9,  -999.00,9, -999.000,9, -999.000,9, -999.000,9,  -999.00,9,  -999.00,9,  -1.5585
  32PZ20020819,   CBL,    46,  1,     20,     20,2,20020904,0156, 78.1145,-166.4555,  328,     14.8,  -1.5761,  29.6488,2,  29.6667,2,    388.0,2,    387.4,2,     1.60,2,     0.10,2,     0.00,2,     0.78,2,    7.464,2,    3.765,2,    0.632,2,    -2.53,2,    68.30,2,  -1.5763
  32PZ20020819,   CBL,    46,  1,     19,     19,2,20020904,0156, 78.1145,-166.4555,  328,     34.4,  -1.3203,  30.7195,2,  30.9027,2,    394.8,2,    374.6,2,     7.90,2,     2.40,2,     0.15,2,     1.02,2, -999.000,9, -999.000,9, -999.000,9,    -2.08,2,    68.50,2,  -1.3209
  32PZ20020819,   CBL,    46,  1,     18,     18,2,20020904,0156, 78.1145,-166.4555,  328,     46.2,  -1.5022,  31.9000,2,  31.9340,2,    340.7,2,    317.6,2,    18.90,2,     8.70,2,     0.04,2,     1.43,2, -999.000,9, -999.000,9, -999.000,9,    -1.59,2,    62.80,2,  -1.5030
  32PZ20020819,   CBL,    46,  1,     17,     17,2,20020904,0156, 78.1145,-166.4555,  328,     56.1,  -1.5227,  32.1486,2,  32.1942,2,    319.3,2,    306.7,2,    20.10,2,    10.00,2,     0.01,2,     1.50,2,    6.841,6,    3.503,6,    0.565,6,    -1.51,2,    62.80,2,  -1.5237
  32PZ20020819,   CBL,    46,  1,     16,     16,2,20020904,0156, 78.1145,-166.4555,  328,     71.4,  -1.4808,  32.4536,2,  32.4704,2,    292.9,2,    283.0,2,    27.30,2,    12.70,2,     0.01,2,     1.72,2, -999.000,9, -999.000,9, -999.000,9,    -1.50,2,    74.40,2,  -1.4821
  32PZ20020819,   CBL,    46,  1,     15,     15,2,20020904,0156, 78.1145,-166.4555,  328,     80.8,  -1.4586,  32.6329,2,  32.6526,2,    279.1,2,    271.2,2,    32.30,2,    14.60,2,     0.00,2,     1.86,2, -999.000,9, -999.000,9, -999.000,9,    -1.37,2,    69.00,2,  -1.4602
  32PZ20020819,   CBL,    46,  1,     14,     14,2,20020904,0156, 78.1145,-166.4555,  328,     90.9,  -1.4331,  32.7665,2,  32.7768,2,    274.0,2,    269.4,2,    34.90,2,    15.40,2,     0.00,2,     1.92,2, -999.000,9, -999.000,9, -999.000,9,    -1.38,2,    72.20,2,  -1.4349
  32PZ20020819,   CBL,    46,  1,     13,     13,2,20020904,0156, 78.1145,-166.4555,  328,    101.4,  -1.4888,  32.8805,2,  32.9025,2,    267.6,2,    263.5,2,    36.80,2,    16.00,2,     0.00,2,     1.96,2, -999.000,9, -999.000,9, -999.000,9,    -1.39,2,    68.70,2,  -1.4908
  32PZ20020819,   CBL,    46,  1,     12,     12,2,20020904,0156, 78.1145,-166.4555,  328,    108.7,  -1.5017,  32.9765,2,  33.0142,2,    262.1,2,    257.2,2,    39.10,2,    16.80,2,     0.00,2,     2.03,2, -999.000,9, -999.000,9, -999.000,9,    -1.28,2,    73.10,2,  -1.5039
  32PZ20020819,   CBL,    46,  1,     11,     11,2,20020904,0156, 78.1145,-166.4555,  328,    120.9,  -1.4616,  33.2521,2,  33.3212,2,    245.1,2,    238.9,2,    45.70,2,    18.20,2,     0.00,2,     2.14,2, -999.000,9, -999.000,9, -999.000,9,    -1.15,2,    67.70,2,  -1.4642
  32PZ20020819,   CBL,    46,  1,     10,     10,2,20020904,0156, 78.1145,-166.4555,  328,    130.7,  -1.3857,  33.5315,2,  33.5527,2,    237.6,2,    238.7,2,    42.50,2,    17.10,2,     0.00,2,     1.98,2,    5.852,2,    2.925,2,    0.370,2,    -1.09,2,    62.40,2,  -1.3886
  32PZ20020819,   CBL,    46,  1,      9,      9,2,20020904,0156, 78.1145,-166.4555,  328,    152.4,  -1.1357,  34.0337,2,  34.0542,2,    239.2,2,    245.1,2,    27.70,2,    14.40,2,     0.00,2,     1.45,2,    5.696,2,    2.684,2,    0.309,2,    -0.50,2,    52.10,2,  -1.1396
  32PZ20020819,   CBL,    46,  1,      8,      8,2,20020904,0156, 78.1145,-166.4555,  328,    163.8,  -0.9507,  34.2438,2,  34.2522,2,    246.1,2,    261.4,2,    17.90,2,    12.90,2,     0.00,2,     1.14,2,    5.884,2,    2.711,2,    0.333,2,    -0.20,2,    50.20,2,  -0.9552
  32PZ20020819,   CBL,    46,  1,      7,      7,2,20020904,0156, 78.1145,-166.4555,  328,    176.1,  -0.6739,  34.3530,2,  34.3721,2,    261.0,2,    269.8,2,    13.70,2,    12.40,2,     0.00,2,     1.02,2,    5.935,2,    2.726,2,    0.327,2,    -0.02,2,    46.00,2,  -0.6793
  32PZ20020819,   CBL,    46,  1,      6,      6,2,20020904,0156, 78.1145,-166.4555,  328,    190.9,  -0.2558,  34.4692,2,  34.4859,2,    270.5,2,    272.3,2,    12.80,2,    12.40,2,     0.00,2,     0.98,2,    5.872,2,    2.686,2,    0.335,2,     0.06,2,    42.80,2,  -0.2624
  32PZ20020819,   CBL,    46,  1,      5,      5,2,20020904,0156, 78.1145,-166.4555,  328,    212.7,   0.1480,  34.5832,2,  34.5882,2,    274.8,2,    276.2,2,    11.20,2,    12.60,2,     0.00,2,     0.95,2,    5.683,2,    2.622,2,    0.313,2,     0.22,2,    42.50,2,   0.1399
  32PZ20020819,   CBL,    46,  1,      4,      4,2,20020904,0156, 78.1145,-166.4555,  328,    233.5,   0.4190,  34.6573,2,  34.6660,2,    278.6,2,    279.1,2,    10.10,2,    12.90,2,     0.00,2,     0.94,2,    5.541,2,    2.549,2,    0.319,2,     0.12,2,    41.60,2,   0.4095
  32PZ20020819,   CBL,    46,  1,      3,      3,2,20020904,0156, 78.1145,-166.4555,  328,    253.0,   0.5922,  34.7203,2,  34.7229,2,    280.7,2,    278.8,2,     9.70,2,    13.30,2,     0.00,2,     0.94,2,    5.342,2,    2.458,2,    0.318,2,     0.20,2,    44.50,2,   0.5814
  32PZ20020819,   CBL,    46,  1,      2,      2,2,20020904,0156, 78.1145,-166.4555,  328,    273.7,   0.7023,  34.7506,2,  34.7531,2,    280.4,2,    279.9,2,     9.70,2,    13.30,2,     0.00,2,     0.94,2,    5.228,2,    2.396,2,    0.265,2,     0.14,2,    43.80,2,   0.6903
  32PZ20020819,   CBL,    46,  1,      1,      1,2,20020904,0156, 78.1145,-166.4555,  328,    322.3,   0.8470,  34.8016,2,  34.8025,2,    282.7,2,    282.7,2,     9.90,2,    13.40,2,     0.01,2,     0.93,2,    5.192,2,    2.393,2,    0.283,2,     0.29,2,    39.20,2,   0.8323
  32PZ20020819,   CBL,    47,  1,     27,     27,2,20020904,0653, 78.3810,-165.1135,  616,      1.9,  -1.5726,  29.9468,2,  29.9492,2,    381.3,2,    383.7,2,  -999.00,9,  -999.00,9,  -999.00,9,  -999.00,9, -999.000,9, -999.000,9, -999.000,9,  -999.00,9,  -999.00,9,  -1.5726
  32PZ20020819,   CBL,    47,  1,     26,     26,2,20020904,0653, 78.3810,-165.1135,  616,     13.8,  -1.5890,  30.1055,2,  30.1041,2,    383.0,2,    383.0,2,     1.70,2,     0.10,2,     0.00,2,     0.84,2,    7.500,2,    3.808,2,    0.705,2,    -2.33,2,    60.10,2,  -1.5892
  32PZ20020819,   CBL,    47,  1,     25,     25,2,20020904,0653, 78.3810,-165.1135,  616,     26.8,  -1.5396,  30.2021,2,  30.3233,2,    385.5,2,    385.1,2,  -999.00,9,  -999.00,9,  -999.00,9,  -999.00,9, -999.000,9, -999.000,9, -999.000,9,  -999.00,9,  -999.00,9,  -1.5400
  32PZ20020819,   CBL,    47,  1,     24,     24,2,20020904,0653, 78.3810,-165.1135,  616,     46.3,  -1.5151,  31.7365,2,  31.7696,2,    366.3,2,    331.3,2,    16.70,2,     7.30,2,     0.04,2,     1.37,2, -999.000,9, -999.000,9, -999.000,9,  -999.00,9,  -999.00,9,  -1.5159
  32PZ20020819,   CBL,    47,  1,     23,     23,2,20020904,0653, 78.3810,-165.1135,  616,     61.5,  -1.5424,  32.1609,2,  32.1748,2,    318.4,2,    307.1,2,    20.20,2,    10.10,2,     0.01,2,     1.52,2, -999.000,9, -999.000,9, -999.000,9,  -999.00,9,  -999.00,9,  -1.5435
  32PZ20020819,   CBL,    47,  1,     22,     22,2,20020904,0653, 78.3810,-165.1135,  616,     71.5,  -1.5268,  32.3369,2,  32.3695,2,    302.0,2,    288.6,2,    25.20,2,    12.20,2,     0.01,2,     1.68,2, -999.000,9, -999.000,9, -999.000,9,  -999.00,9,  -999.00,9,  -1.5281
  32PZ20020819,   CBL,    47,  1,     21,     21,2,20020904,0653, 78.3810,-165.1135,  616,     80.9,  -1.4998,  32.4974,2,  32.5021,2,    286.2,2,    278.2,2,    29.40,2,    13.70,2,     0.01,2,     1.80,2, -999.000,9, -999.000,9, -999.000,9,    -1.29,2,    69.50,2,  -1.5013
  32PZ20020819,   CBL,    47,  1,     20,     20,2,20020904,0653, 78.3810,-165.1135,  616,     91.1,  -1.4742,  32.6455,2,  32.6792,2,    273.6,2,    264.3,2,    34.60,2,    15.50,2,     0.01,2,     1.92,2,    6.300,6,    3.247,6,    0.500,6,  -999.00,9,  -999.00,9,  -1.4760
  32PZ20020819,   CBL,    47,  1,     19,     19,2,20020904,0653, 78.3810,-165.1135,  616,    100.9,  -1.4643,  32.8360,2,  32.8725,2,    260.5,2,    257.1,2,    38.10,2,    16.80,2,     0.01,2,     2.02,2, -999.000,9, -999.000,9, -999.000,9,    -1.34,2,    68.30,2,  -1.4663
  32PZ20020819,   CBL,    47,  1,     18,     18,2,20020904,0653, 78.3810,-165.1135,  616,    110.7,  -1.4708,  33.0171,2,  33.0653,2,    254.0,2,    246.3,2,    42.10,2,    17.90,2,     0.00,2,     2.13,2, -999.000,9, -999.000,9, -999.000,9,  -999.00,9,  -999.00,9,  -1.4731
  32PZ20020819,   CBL,    47,  1,     17,     17,2,20020904,0653, 78.3810,-165.1135,  616,    120.8,  -1.4639,  33.2167,2,  33.3141,2,    243.2,2,    240.0,2,    44.00,2,    17.70,2,     0.00,2,     2.10,2, -999.000,9, -999.000,9, -999.000,9,    -1.19,2,    69.90,2,  -1.4664
  32PZ20020819,   CBL,    47,  1,     16,     16,2,20020904,0653, 78.3810,-165.1135,  616,    130.8,  -1.4188,  33.5016,2,  33.5519,2,    237.3,2,    241.7,2,    38.40,2,    16.00,2,     0.00,2,     1.84,2, -999.000,9, -999.000,9, -999.000,9,    -1.00,2,    61.20,2,  -1.4217
  32PZ20020819,   CBL,    47,  1,     15,     15,2,20020904,0653, 78.3810,-165.1135,  616,    138.5,  -1.3488,  33.6910,2,  33.7309,2,    235.1,2,    247.4,2,    33.60,2,    15.00,2,     0.00,2,     1.67,2, -999.000,9, -999.000,9, -999.000,9,    -0.86,2,    63.20,2,  -1.3520
  32PZ20020819,   CBL,    47,  1,     14,     14,2,20020904,0653, 78.3810,-165.1135,  616,    151.5,  -1.2104,  34.0337,2,  34.0618,2,    245.3,2,    258.9,2,    22.50,2,    13.20,2,     0.00,2,     1.30,2, -999.000,9, -999.000,9, -999.000,9,    -0.47,2,    53.60,2,  -1.2142
  32PZ20020819,   CBL,    47,  1,     13,     13,2,20020904,0653, 78.3810,-165.1135,  616,    161.3,  -0.9674,  34.2422,2,  34.2508,2,    254.2,2,    273.9,2,    14.80,2,    12.10,2,     0.00,2,     1.05,2, -999.000,9, -999.000,9, -999.000,9,  -999.00,9,  -999.00,9,  -0.9719
  32PZ20020819,   CBL,    47,  1,     12,     12,2,20020904,0653, 78.3810,-165.1135,  616,    177.0,  -0.7517,  34.3421,2,  34.3548,2,    274.6,2,    288.1,2,     9.40,2,    11.10,2,     0.00,2,     0.89,2, -999.000,9, -999.000,9, -999.000,9,  -999.00,9,  -999.00,9,  -0.7570
  32PZ20020819,   CBL,    47,  1,     11,     11,2,20020904,0653, 78.3810,-165.1135,  616,    187.0,  -0.5372,  34.4024,2,  34.4111,2,    283.2,2,    290.0,2,     8.80,2,    11.20,2,     0.00,2,     0.87,2,    6.165,6,    2.875,6,    0.397,6,    -0.06,2,    45.20,2,  -0.5432
  32PZ20020819,   CBL,    47,  1,     10,     10,2,20020904,0653, 78.3810,-165.1135,  616,    213.0,   0.0072,  34.5364,2,  34.5358,2,    288.0,2,    288.9,2,     8.40,2,    11.70,2,     0.00,2,     0.88,2,    6.156,2,    2.768,2,    0.389,2,  -999.00,9,  -999.00,9,  -0.0007
  32PZ20020819,   CBL,    47,  1,      9,      9,2,20020904,0653, 78.3810,-165.1135,  616,    231.8,   0.3189,  34.6173,2,  34.6279,2,    289.7,2,    289.7,2,     7.90,2,    12.00,2,     0.00,2,     0.88,2,    5.821,2,    2.733,2,    0.412,2,  -999.00,9,  -999.00,9,   0.3096
  32PZ20020819,   CBL,    47,  1,      8,      8,2,20020904,0653, 78.3810,-165.1135,  616,    254.2,   0.6950,  34.7153,2,  34.7232,2,    290.6,2,    290.5,2,     7.60,2,    12.50,2,     0.00,2,     0.89,2,    5.602,2,    2.632,2,    0.365,2,  -999.00,9,  -999.00,9,   0.6840
  32PZ20020819,   CBL,    47,  1,      7,      7,2,20020904,0653, 78.3810,-165.1135,  616,    273.4,   0.8398,  34.7567,2,  34.7594,2,    294.5,2,    293.6,2,     6.80,2,    12.50,2,     0.00,2,     0.88,2,    5.570,2,    2.614,2,    0.364,2,  -999.00,9,  -999.00,9,   0.8275
  32PZ20020819,   CBL,    47,  1,      6,      6,2,20020904,0653, 78.3810,-165.1135,  616,    304.7,   0.9901,  34.8016,2,  34.8036,2,    295.4,2,    295.6,2,     6.50,2,    12.60,2,     0.00,2,     0.88,2,    5.449,2,    2.584,2,    0.403,2,  -999.00,9,  -999.00,9,   0.9759
  32PZ20020819,   CBL,    47,  1,      5,      5,2,20020904,0653, 78.3810,-165.1135,  616,    334.0,   1.0827,  34.8287,2,  34.8302,2,    296.1,2,    295.3,2,     6.80,2,    12.80,2,     0.00,2,     0.89,2,    5.416,2,    2.518,2,    0.356,2,  -999.00,9,  -999.00,9,   1.0668
  32PZ20020819,   CBL,    47,  1,      4,      4,2,20020904,0653, 78.3810,-165.1135,  616,    368.2,   1.1513,  34.8463,2,  34.8479,2,    298.0,2,    298.1,2,     6.60,2,    12.80,2,     0.00,2,     0.89,2,    5.461,2,    2.528,2,    0.358,2,     0.24,2,    51.00,2,   1.1335
  32PZ20020819,   CBL,    47,  1,      3,      3,2,20020904,0653, 78.3810,-165.1135,  616,    431.1,   1.0144,  34.8539,2,  34.8554,2,    297.6,2,    297.8,2,     6.80,2,    12.80,2,     0.00,2,     0.89,2,    5.332,2,    2.488,2,    0.359,2,  -999.00,9,  -999.00,9,   0.9938
  32PZ20020819,   CBL,    47,  1,      2,      2,2,20020904,0653, 78.3810,-165.1135,  616,    508.7,   0.7986,  34.8584,2,  34.8593,2,    299.0,2,    299.5,2,  -999.00,9,  -999.00,9,  -999.00,9,  -999.00,9,    5.118,2,    2.393,2,    0.319,2,  -999.00,9,  -999.00,9,   0.7748
  32PZ20020819,   CBL,    47,  1,      1,      1,2,20020904,0653, 78.3810,-165.1135,  616,    603.1,   0.5030,  34.8590,2,  34.8591,2,    296.5,2,    296.3,2,     8.70,2,    12.90,2,     0.01,2,     0.91,2,    5.113,2,    2.398,2,    0.382,2,     0.23,2,    43.30,2,   0.4757