BOTTLE,20220815CCHSIOAMB
EXPOCODE,SECT_ID,STNNBR,CASTNO,SAMPNO,BTLNBR,BTLNBR_FLAG_W,DATE,TIME,LATITUDE,LONGITUDE,DEPTH,CTDPRS,CTDTMP,CTDSAL,CTDSAL_FLAG_W,SALNTY,SALNTY_FLAG_W,CTDOXY,CTDOXY_FLAG_W,OXYGEN,OXYGEN_FLAG_W,SILCAT,SILCAT_FLAG_W,NITRAT,NITRAT_FLAG_W,NITRIT,NITRIT_FLAG_W,PHSPHT,PHSPHT_FLAG_W,CFC-11,CFC-11_FLAG_W,CFC-12,CFC-12_FLAG_W,CFC113,CFC113_FLAG_W,DELO18,DELO18_FLAG_W,BARIUM,BARIUM_FLAG_W,THETA
,,,,,,,,,,,METERS,DBAR,ITS-90,PSS-78,,PSS-78,,UMOL/KG,,UMOL/KG,,UMOL/KG,,UMOL/KG,,UMOL/KG,,UMOL/KG,,PMOL/KG,,PMOL/KG,,PMOL/KG,,/MILLE,,NMOL/KG,,DEG C
  32PZ20020819,   CBL,    21,  1,     32,     32,2,20020829,1712, 79.1962, 174.2588, 2552,      1.9,  -1.5226,  30.1237,2,  30.1227,2,    373.8,2,    375.5,2,     9.40,2,     1.30,2,     0.05,2,     0.70,2, -999.000,9, -999.000,9, -999.000,9,  -999.00,9,  -999.00,9,  -1.5226
  32PZ20020819,   CBL,    21,  1,     31,     31,2,20020829,1712, 79.1962, 174.2588, 2552,     13.8,  -1.5628,  30.1334,2,  30.1378,2,    377.9,2,    375.6,2,     9.40,2,     1.40,2,     0.05,2,     0.69,2,    7.690,2,    4.019,2,    0.718,2,    -3.54,2,    61.50,2,  -1.5630
  32PZ20020819,   CBL,    21,  1,     30,     30,2,20020829,1712, 79.1962, 174.2588, 2552,     28.1,  -1.4392,  30.4614,2,  30.7182,2,    378.3,2,    372.0,2,     9.70,2,     1.70,2,     0.09,2,     0.90,2, -999.000,9, -999.000,9, -999.000,9,    -2.84,2,    62.60,2,  -1.4396
  32PZ20020819,   CBL,    21,  1,     29,     29,2,20020829,1712, 79.1962, 174.2588, 2552,     42.9,  -1.6764,  31.6730,2,  31.6920,2,    365.9,2,    357.6,2,    11.10,2,     3.60,2,     0.02,2,     1.20,2,    7.387,2,    3.826,2,    0.675,2,    -1.88,2,    54.10,2,  -1.6771
  32PZ20020819,   CBL,    21,  1,     28,     28,2,20020829,1712, 79.1962, 174.2588, 2552,     57.6,  -1.5705,  32.4737,2,  32.5813,2,    327.0,2,    306.2,2,    15.90,2,     7.50,2,     0.02,2,     1.14,2, -999.000,9, -999.000,9, -999.000,9,    -1.42,2,    51.90,2,  -1.5715
  32PZ20020819,   CBL,    21,  1,     27,     27,2,20020829,1712, 79.1962, 174.2588, 2552,     67.8,  -1.5325,  33.2761,2,  33.3019,2,    303.9,2,    300.7,2,    12.70,2,     8.50,2,     0.02,2,     0.89,2,    7.157,2,    3.531,2,    0.512,2,    -1.12,2,    47.90,2,  -1.5339
  32PZ20020819,   CBL,    21,  1,     26,     26,2,20020829,1712, 79.1962, 174.2588, 2552,     77.6,  -1.5338,  33.7369,2,  33.7699,2,    302.9,2,    307.1,2,     9.30,2,     8.50,2,     0.02,2,     0.77,2,    7.091,2,    3.519,2,    0.507,2,    -0.58,2,    44.20,2,  -1.5354
  32PZ20020819,   CBL,    21,  1,     25,     25,2,20020829,1712, 79.1962, 174.2588, 2552,     87.5,  -1.5413,  33.9445,2,  33.9621,2,    311.0,2,    313.7,2,     6.50,2,     8.30,2,     0.02,2,     0.70,2, -999.000,9, -999.000,9, -999.000,9,  -999.00,9,  -999.00,9,  -1.5432
  32PZ20020819,   CBL,    21,  1,     24,     24,2,20020829,1712, 79.1962, 174.2588, 2552,     97.4,  -1.5166,  34.0436,2,  34.0487,2,    313.9,2,    313.9,2,     6.10,2,     8.40,2,     0.02,2,     0.69,2,    6.969,2,    3.496,2,    0.515,2,  -999.00,9,  -999.00,9,  -1.5187
  32PZ20020819,   CBL,    21,  1,     23,     23,2,20020829,1712, 79.1962, 174.2588, 2552,    107.3,  -1.4829,  34.1083,2,  34.1108,2,    314.8,2,    313.9,2,     6.00,2,     8.50,2,     0.01,2,     0.70,2, -999.000,9, -999.000,9, -999.000,9,    -0.40,2,    42.30,2,  -1.4853
  32PZ20020819,   CBL,    21,  1,     22,     22,2,20020829,1712, 79.1962, 174.2588, 2552,    117.3,  -1.4474,  34.1669,2,  34.1776,2,    314.1,2,    313.6,2,     5.70,2,     8.70,2,     0.01,2,     0.70,2, -999.000,9, -999.000,9, -999.000,9,  -999.00,9,  -999.00,9,  -1.4501
  32PZ20020819,   CBL,    21,  1,     21,     21,2,20020829,1712, 79.1962, 174.2588, 2552,    127.0,  -1.3847,  34.2205,2,  34.2239,2,    313.8,2,    313.9,2,     5.50,2,     8.80,2,     0.01,2,     0.70,2,    6.874,2,    3.401,2,    0.503,2,    -0.27,2,    41.70,2,  -1.3877
  32PZ20020819,   CBL,    21,  1,     20,     20,2,20020829,1712, 79.1962, 174.2588, 2552,    141.6,  -1.2194,  34.2905,2,  34.2927,2,    313.2,2,    313.5,2,     5.40,2,     9.00,2,     0.01,2,     0.71,2, -999.000,9, -999.000,9, -999.000,9,  -999.00,9,  -999.00,9,  -1.2230
  32PZ20020819,   CBL,    21,  1,     19,     19,2,20020829,1712, 79.1962, 174.2588, 2552,    161.2,  -0.9173,  34.3758,2,  34.3751,2,    312.8,2,    311.1,2,     5.40,2,     9.50,2,     0.01,2,     0.73,2,    6.520,2,    3.182,2,    0.474,2,  -999.00,9,  -999.00,9,  -0.9219
  32PZ20020819,   CBL,    21,  1,     18,     18,2,20020829,1712, 79.1962, 174.2588, 2552,    201.0,  -0.2402,  34.5379,2,  34.5437,2,    308.3,2,    308.8,2,     5.40,2,    10.10,2,     0.01,2,     0.76,2, -999.000,9, -999.000,9, -999.000,9,  -999.00,9,  -999.00,9,  -0.2472
  32PZ20020819,   CBL,    21,  1,     17,     17,2,20020829,1712, 79.1962, 174.2588, 2552,    250.6,   0.5275,  34.7232,2,  34.7217,2,    304.3,2,    304.4,2,     5.50,2,    11.30,2,     0.01,2,     0.81,2,    5.853,2,    2.898,2,    0.420,2,  -999.00,9,  -999.00,9,   0.5170
  32PZ20020819,   CBL,    21,  1,     16,     16,2,20020829,1712, 79.1962, 174.2588, 2552,    299.5,   0.8563,  34.7952,2,  34.7946,2,    302.7,2,    302.8,2,     5.70,2,    11.90,2,     0.01,2,     0.84,2,    5.718,2,    2.822,2,    0.407,2,  -999.00,9,  -999.00,9,   0.8427
  32PZ20020819,   CBL,    21,  1,     15,     15,2,20020829,1712, 79.1962, 174.2588, 2552,    338.5,   0.9415,  34.8119,2,  34.8122,2,    303.0,2,    303.6,2,     5.60,2,    12.00,2,     0.01,2,     0.83,2,    5.743,2,    2.828,2,    0.408,2,  -999.00,9,  -999.00,9,   0.9258
  32PZ20020819,   CBL,    21,  1,     14,     14,2,20020829,1712, 79.1962, 174.2588, 2552,    382.6,   1.0598,  34.8409,2,  34.8417,2,    303.7,2,    302.8,2,     5.80,2,    12.20,2,     0.01,2,     0.85,2,    5.607,2,    2.752,2,    0.394,2,     0.16,2,    39.90,2,   1.0415
  32PZ20020819,   CBL,    21,  1,     13,     13,2,20020829,1712, 79.1962, 174.2588, 2552,    426.3,   0.9730,  34.8477,2,  34.8474,2,    304.1,2,    304.8,2,     5.80,2,    12.20,2,     0.01,2,     0.85,2,    5.582,2,    2.716,2,    0.400,2,  -999.00,9,  -999.00,9,   0.9528
  32PZ20020819,   CBL,    21,  1,     12,     12,2,20020829,1712, 79.1962, 174.2588, 2552,    494.6,   0.8485,  34.8547,2,  34.8551,2,    304.6,2,    304.8,2,     5.90,2,    12.20,2,     0.01,2,     0.86,2,    5.581,2,    2.737,2,    0.396,2,  -999.00,9,  -999.00,9,   0.8252
  32PZ20020819,   CBL,    21,  1,     11,     11,2,20020829,1712, 79.1962, 174.2588, 2552,    642.3,   0.5005,  34.8604,2,  34.8601,2,    305.1,2,    304.8,2,     6.20,2,    12.40,2,     0.01,2,     0.87,2,    5.350,6,    2.641,6,    0.383,6,  -999.00,9,  -999.00,9,   0.4713
  32PZ20020819,   CBL,    21,  1,     10,     10,2,20020829,1712, 79.1962, 174.2588, 2552,    790.9,   0.1792,  34.8618,2,  34.8613,2,    305.5,2,    305.6,2,     6.40,2,    12.50,2,     0.01,2,     0.88,2,    5.256,2,    2.541,2,    0.358,2,     0.17,2,    40.20,2,   0.1443
  32PZ20020819,   CBL,    21,  1,      9,      9,2,20020829,1712, 79.1962, 174.2588, 2552,    938.8,  -0.0228,  34.8685,2,  34.8678,2,    306.0,2,    305.8,2,     6.60,2,    12.60,2,     0.01,2,     0.89,2,    4.777,2,    2.275,2,    0.304,2,  -999.00,9,  -999.00,9,  -0.0640
  32PZ20020819,   CBL,    21,  1,      8,      8,2,20020829,1712, 79.1962, 174.2588, 2552,   1086.2,  -0.1772,  34.8773,2,  34.8766,2,    306.1,2,    305.5,2,     7.20,2,    12.60,2,     0.01,2,     0.90,2,    4.416,2,    2.097,2,    0.276,2,  -999.00,9,  -999.00,9,  -0.2249
  32PZ20020819,   CBL,    21,  1,      7,      7,2,20020829,1712, 79.1962, 174.2588, 2552,   1280.8,  -0.2873,  34.8923,2,  34.8929,2,    304.2,2,    303.5,2,     7.70,2,    13.20,2,     0.01,2,     0.92,2,    3.168,2,    1.511,2,    0.158,2,  -999.00,9,  -999.00,9,  -0.3446
  32PZ20020819,   CBL,    21,  1,      6,      6,2,20020829,1712, 79.1962, 174.2588, 2552,   1526.1,  -0.3843,  34.9139,2,  34.9141,2,    301.2,2,    301.6,2,     8.80,2,    13.70,2,     0.01,2,     0.96,2,    1.390,2,    0.617,2,    0.047,2,  -999.00,9,  -999.00,9,  -0.4548
  32PZ20020819,   CBL,    21,  1,      5,      5,2,20020829,1712, 79.1962, 174.2588, 2552,   1774.0,  -0.4147,  34.9338,2,  34.9358,2,    295.5,2,    294.8,2,    10.70,2,    14.30,2,     0.01,2,     1.01,2,    0.424,2,    0.242,2,    0.025,2,  -999.00,9,  -999.00,9,  -0.5001
  32PZ20020819,   CBL,    21,  1,      4,      4,2,20020829,1712, 79.1962, 174.2588, 2552,   2023.1,  -0.4094,  34.9468,2,  34.9464,2,    290.0,2,    289.8,2,    12.20,2,    14.80,2,     0.01,2,     1.04,2,    0.083,2,    0.003,2,    0.003,2,  -999.00,9,  -999.00,9,  -0.5112
  32PZ20020819,   CBL,    21,  1,      3,      3,2,20020829,1712, 79.1962, 174.2588, 2552,   2273.4,  -0.3901,  34.9526,2,  34.9517,2,    286.3,2,    286.3,2,    13.40,2,    15.00,2,     0.01,2,     1.06,2,    0.018,2,    0.001,2,    0.001,2,  -999.00,9,  -999.00,9,  -0.5098
  32PZ20020819,   CBL,    21,  1,      2,      2,2,20020829,1712, 79.1962, 174.2588, 2552,   2422.2,  -0.3784,  34.9535,2,  34.9532,2,    285.6,2,    285.7,2,    13.70,2,    15.10,2,     0.01,2,     1.06,2,    0.019,2,    0.001,2,    0.001,2,  -999.00,9,  -999.00,9,  -0.5091
  32PZ20020819,   CBL,    21,  1,      1,      1,2,20020829,1712, 79.1962, 174.2588, 2552,   2536.1,  -0.3678,  34.9539,2,  34.9532,2,    285.7,2,    285.4,2,    13.90,2,    15.10,2,     0.01,2,     1.06,2,    0.017,2,    0.001,2,    0.001,2,  -999.00,9,  -999.00,9,  -0.5073
  32PZ20020819,   CBL,    22,  1,     33,     33,2,20020830,0506, 79.8475, 175.1075, 2550,      1.9,  -1.4933,  30.2577,2,  30.2573,2,    381.7,2,    383.8,2,     7.80,2,     0.20,2,     0.01,2,     0.76,2, -999.000,9, -999.000,9, -999.000,9,  -999.00,9,  -999.00,9,  -1.4933
  32PZ20020819,   CBL,    22,  1,     32,     32,2,20020830,0506, 79.8475, 175.1075, 2550,     12.7,  -1.5174,  30.2567,2,  30.2567,2,    383.6,2,    383.5,2,     7.90,2,     0.20,2,     0.01,2,     0.76,2,    7.594,2,    3.834,2,    0.694,2,    -3.06,2,    57.60,2,  -1.5176
  32PZ20020819,   CBL,    22,  1,     31,     31,2,20020830,0506, 79.8475, 175.1075, 2550,     27.5,  -1.5338,  30.3120,2,  30.3348,2,    384.5,2,    381.0,2,     8.30,2,     0.60,2,     0.03,2,     0.81,2, -999.000,9, -999.000,9, -999.000,9,    -3.13,2,    56.90,2,  -1.5342
  32PZ20020819,   CBL,    22,  1,     30,     30,2,20020830,0506, 79.8475, 175.1075, 2550,     47.2,  -1.6566,  31.8078,2,  31.8342,2,    367.2,2,    344.8,2,    11.60,2,     4.40,2,     0.01,2,     1.17,2, -999.000,9, -999.000,9, -999.000,9,    -1.75,2,    56.20,2,  -1.6573
  32PZ20020819,   CBL,    22,  1,     29,     29,2,20020830,0506, 79.8475, 175.1075, 2550,     56.8,  -1.5485,  32.7266,2,  32.7289,2,    324.9,2,    306.4,2,    14.10,2,     7.70,2,     0.01,2,     1.03,2, -999.000,9, -999.000,9, -999.000,9,    -1.51,2,    53.00,2,  -1.5496
  32PZ20020819,   CBL,    22,  1,     28,     28,2,20020830,0506, 79.8475, 175.1075, 2550,     65.4,  -1.5321,  33.3503,2,  33.3487,2,    304.1,2,    301.9,2,    12.10,2,     8.60,2,     0.01,2,     0.88,2, -999.000,9, -999.000,9, -999.000,9,    -1.05,2,    45.90,2,  -1.5334
  32PZ20020819,   CBL,    22,  1,     27,     27,2,20020830,0506, 79.8475, 175.1075, 2550,     76.5,  -1.5501,  33.7422,2,  33.7774,2,    304.6,2,    313.0,2,     7.50,2,     8.10,2,     0.01,2,     0.72,2, -999.000,9, -999.000,9, -999.000,9,  -999.00,9,  -999.00,9,  -1.5517
  32PZ20020819,   CBL,    22,  1,     26,     26,2,20020830,0506, 79.8475, 175.1075, 2550,     86.8,  -1.5488,  33.9620,2,  33.9638,2,    313.9,2,    315.6,2,     6.20,2,     8.10,2,     0.01,2,     0.70,2,    7.068,2,    3.495,2,    0.523,2,    -0.50,2,    42.20,2,  -1.5506
  32PZ20020819,   CBL,    22,  1,     25,     25,2,20020830,0506, 79.8475, 175.1075, 2550,     96.5,  -1.5156,  34.0609,2,  34.0651,2,    314.0,2,    314.3,2,     5.90,2,     8.40,2,     0.01,2,     0.70,2, -999.000,9, -999.000,9, -999.000,9,  -999.00,9,  -999.00,9,  -1.5177
  32PZ20020819,   CBL,    22,  1,     24,     24,2,20020830,0506, 79.8475, 175.1075, 2550,    106.8,  -1.4663,  34.1460,2,  34.1436,2,    313.5,2,    313.6,2,     5.80,2,     8.60,2,     0.01,2,     0.71,2, -999.000,9, -999.000,9, -999.000,9,    -0.42,2,    41.90,2,  -1.4687
  32PZ20020819,   CBL,    22,  1,     23,     23,2,20020830,0506, 79.8475, 175.1075, 2550,    116.2,  -1.4094,  34.2009,2,  34.2001,2,    313.0,2,    313.5,2,     5.70,2,     8.70,2,     0.01,2,     0.72,2,    6.937,2,    3.416,2,    0.507,2,    -0.31,2,    41.90,2,  -1.4121
  32PZ20020819,   CBL,    22,  1,     22,     22,2,20020830,0506, 79.8475, 175.1075, 2550,    126.0,  -1.3294,  34.2514,2,  34.2551,2,    312.7,2,    313.3,2,     5.50,2,     9.00,2,     0.01,2,     0.72,2, -999.000,9, -999.000,9, -999.000,9,  -999.00,9,  -999.00,9,  -1.3324
  32PZ20020819,   CBL,    22,  1,     21,     21,2,20020830,0506, 79.8475, 175.1075, 2550,    140.5,  -1.1684,  34.3159,2,  34.3148,2,    312.7,2,    312.9,2,     5.40,2,     9.20,2,     0.01,2,     0.73,2, -999.000,9, -999.000,9, -999.000,9,  -999.00,9,  -999.00,9,  -1.1720
  32PZ20020819,   CBL,    22,  1,     20,     20,2,20020830,0506, 79.8475, 175.1075, 2550,    174.9,  -0.5039,  34.4827,2,  34.4816,2,    309.7,2,    310.0,2,     5.20,2,     9.90,2,     0.01,2,     0.76,2,    6.559,2,    3.225,2,    0.485,2,  -999.00,9,  -999.00,9,  -0.5095
  32PZ20020819,   CBL,    22,  1,     19,     19,2,20020830,0506, 79.8475, 175.1075, 2550,    200.0,   0.0011,  34.5883,2,  34.5852,2,    308.1,2,    307.4,2,     5.40,2,    10.40,2,     0.01,2,     0.78,2,    6.328,2,    3.130,2,    0.469,2,  -999.00,9,  -999.00,9,  -0.0063
  32PZ20020819,   CBL,    22,  1,     18,     18,2,20020830,0506, 79.8475, 175.1075, 2550,    249.0,   0.6247,  34.7430,2,  34.7455,2,    304.0,2,    303.7,2,     5.70,2,    11.70,2,     0.01,2,     0.84,2,    5.842,2,    2.902,2,    0.420,2,  -999.00,9,  -999.00,9,   0.6140
  32PZ20020819,   CBL,    22,  1,     17,     17,2,20020830,0506, 79.8475, 175.1075, 2550,    288.6,   0.8679,  34.7979,2,  34.7968,2,    301.7,2,    301.4,2,     5.80,2,    12.00,2,     0.01,2,     0.85,2,    5.601,6,    2.752,6,    0.412,6,  -999.00,9,  -999.00,9,   0.8548
  32PZ20020819,   CBL,    22,  1,     16,     16,2,20020830,0506, 79.8475, 175.1075, 2550,    337.9,   1.0116,  34.8296,2,  34.8281,2,    301.7,2,    302.5,2,     5.80,2,    12.10,2,     0.00,2,     0.86,2,    5.654,2,    2.806,2,    0.417,2,  -999.00,9,  -999.00,9,   0.9957
  32PZ20020819,   CBL,    22,  1,     15,     15,2,20020830,0506, 79.8475, 175.1075, 2550,    382.9,   1.0973,  34.8496,2,  34.8479,2,    301.7,2,    302.2,2,     5.90,2,    12.30,2,     0.00,2,     0.87,2,    5.507,2,    2.697,2,    0.388,2,     0.26,2,    40.40,2,   1.0789
  32PZ20020819,   CBL,    22,  1,     14,     14,2,20020830,0506, 79.8475, 175.1075, 2550,    427.3,   0.9944,  34.8520,2,  34.8524,2,    303.2,2,    303.4,2,     5.90,2,    12.30,2,     0.00,2,     0.87,2,    5.573,2,    2.720,2,    0.397,2,  -999.00,9,  -999.00,9,   0.9740
  32PZ20020819,   CBL,    22,  1,     13,     13,2,20020830,0506, 79.8475, 175.1075, 2550,    495.4,   0.8185,  34.8594,2,  34.8585,2,    303.5,2,    304.3,2,     6.00,2,    12.40,2,     0.00,2,     0.87,2,    5.452,2,    2.644,2,    0.383,2,  -999.00,9,  -999.00,9,   0.7953
  32PZ20020819,   CBL,    22,  1,     12,     12,2,20020830,0506, 79.8475, 175.1075, 2550,    642.0,   0.4490,  34.8611,2,  34.8603,2,    305.4,2,    305.0,2,     6.10,2,    12.40,2,     0.00,2,     0.88,2,    5.190,2,    2.539,2,    0.360,2,  -999.00,9,  -999.00,9,   0.4201
  32PZ20020819,   CBL,    22,  1,     11,     11,2,20020830,0506, 79.8475, 175.1075, 2550,    789.7,   0.1609,  34.8634,2,  34.8622,2,    305.3,2,    305.0,2,     6.40,2,    12.40,2,     0.00,2,     0.89,2,    5.022,2,    2.406,2,    0.337,2,  -999.00,9,  -999.00,9,   0.1261
  32PZ20020819,   CBL,    22,  1,     10,     10,2,20020830,0506, 79.8475, 175.1075, 2550,    857.0,   0.0420,  34.8653,2,  34.8643,2,    305.7,2,    305.8,2,     6.50,2,    12.60,2,     0.00,2,     0.90,2,    5.066,2,    2.400,2,    0.334,2,     0.16,2,    40.00,2,   0.0046
  32PZ20020819,   CBL,    22,  1,      9,      9,2,20020830,0506, 79.8475, 175.1075, 2550,    934.3,  -0.0528,  34.8683,2,  34.8671,2,    305.7,2,    305.9,2,     6.60,2,    12.60,2,     0.01,2,     0.90,2,    5.010,2,    2.358,2,    0.317,2,  -999.00,9,  -999.00,9,  -0.0935
  32PZ20020819,   CBL,    22,  1,      8,      8,2,20020830,0506, 79.8475, 175.1075, 2550,   1080.1,  -0.1632,  34.8812,2,  34.8798,2,    304.9,2,    304.7,2,     7.00,2,    12.80,2,     0.01,2,     0.92,2,    4.171,2,    1.996,2,    0.241,2,  -999.00,9,  -999.00,9,  -0.2107
  32PZ20020819,   CBL,    22,  1,      7,      7,4,20020830,0506, 79.8475, 175.1075, 2550,   1274.8,  -0.2951,  34.8961,2,  34.6465,4,    303.4,2,    306.5,4,     5.90,4,    11.10,4,     0.01,4,     0.82,4, -999.000,9, -999.000,9, -999.000,9,  -999.00,9,  -999.00,9,  -0.3520
  32PZ20020819,   CBL,    22,  1,      6,      6,2,20020830,0506, 79.8475, 175.1075, 2550,   1522.1,  -0.3923,  34.9161,2,  34.9148,2,    300.5,2,    300.9,2,     8.80,2,    13.80,2,     0.01,2,     0.98,2,    1.212,2,    0.593,2,    0.044,2,  -999.00,9,  -999.00,9,  -0.4624
  32PZ20020819,   CBL,    22,  1,      5,      5,2,20020830,0506, 79.8475, 175.1075, 2550,   1770.3,  -0.4161,  34.9357,2,  34.9335,2,    294.5,2,    293.5,2,    10.80,2,    14.40,2,     0.01,2,     1.03,2,    0.281,2,    0.135,2,    0.009,2,  -999.00,9,  -999.00,9,  -0.5012
  32PZ20020819,   CBL,    22,  1,      4,      4,2,20020830,0506, 79.8475, 175.1075, 2550,   2019.1,  -0.4102,  34.9474,2,  34.9460,2,    289.5,2,    289.2,2,    12.20,2,    14.80,2,     0.01,2,     1.05,2,    0.083,2,    0.023,2,    0.002,2,  -999.00,9,  -999.00,9,  -0.5118
  32PZ20020819,   CBL,    22,  1,      3,      3,2,20020830,0506, 79.8475, 175.1075, 2550,   2269.0,  -0.3912,  34.9529,2,  34.9509,2,    286.2,2,    286.7,2,    13.40,2,    15.00,2,     0.01,2,     1.06,2,    0.035,2,    0.009,2,    0.004,2,  -999.00,9,  -999.00,9,  -0.5105
  32PZ20020819,   CBL,    22,  1,      2,      2,2,20020830,0506, 79.8475, 175.1075, 2550,   2419.0,  -0.3779,  34.9540,2,  34.9525,2,    285.3,2,    285.3,2,    13.70,2,    15.00,2,     0.01,2,     1.07,2,    0.026,2,    0.035,2,    0.001,2,  -999.00,9,  -999.00,9,  -0.5084
  32PZ20020819,   CBL,    22,  1,      1,      1,2,20020830,0506, 79.8475, 175.1075, 2550,   2528.5,  -0.3686,  34.9542,2,  34.9527,2,    285.4,2,    285.3,2,    13.80,2,    15.00,2,     0.01,2,     1.07,2,    0.030,2,    0.011,2,    0.001,2,  -999.00,9,  -999.00,9,  -0.5075