BOTTLE,20220815CCHSIOAMB
EXPOCODE,SECT_ID,STNNBR,CASTNO,SAMPNO,BTLNBR,BTLNBR_FLAG_W,DATE,TIME,LATITUDE,LONGITUDE,DEPTH,CTDPRS,CTDTMP,CTDSAL,CTDSAL_FLAG_W,SALNTY,SALNTY_FLAG_W,CTDOXY,CTDOXY_FLAG_W,OXYGEN,OXYGEN_FLAG_W,SILCAT,SILCAT_FLAG_W,NITRAT,NITRAT_FLAG_W,NITRIT,NITRIT_FLAG_W,PHSPHT,PHSPHT_FLAG_W,CFC-11,CFC-11_FLAG_W,CFC-12,CFC-12_FLAG_W,CFC113,CFC113_FLAG_W,DELO18,DELO18_FLAG_W,BARIUM,BARIUM_FLAG_W,THETA
,,,,,,,,,,,METERS,DBAR,ITS-90,PSS-78,,PSS-78,,UMOL/KG,,UMOL/KG,,UMOL/KG,,UMOL/KG,,UMOL/KG,,UMOL/KG,,PMOL/KG,,PMOL/KG,,PMOL/KG,,/MILLE,,NMOL/KG,,DEG C
  32PZ20020819,   CBL,    65,  1,     35,     35,2,20020908,0035, 78.5692,-155.9953, 3858,      1.9,  -1.6260,  30.6010,2,  30.5995,2,    389.6,2,    392.4,2,  -999.00,9,  -999.00,9,  -999.00,9,  -999.00,9, -999.000,9, -999.000,9, -999.000,9,  -999.00,9,  -999.00,9,  -1.6260
  32PZ20020819,   CBL,    65,  1,     34,     34,2,20020908,0035, 78.5692,-155.9953, 3858,     15.9,  -1.6433,  30.6034,2,  30.6038,2,    393.7,2,    390.9,2,     1.90,2,     0.20,2,     0.01,2,     0.88,2,    7.427,2,    3.739,2,    0.743,2,    -2.00,2,    54.60,2,  -1.6435
  32PZ20020819,   CBL,    65,  1,     33,     33,2,20020908,0035, 78.5692,-155.9953, 3858,     30.6,  -1.5738,  31.3635,2,  31.4285,2,    393.4,2,    370.3,2,    10.70,2,     3.70,2,     0.11,2,     1.17,2, -999.000,9, -999.000,9, -999.000,9,  -999.00,9,  -999.00,9,  -1.5743
  32PZ20020819,   CBL,    65,  1,     32,     32,2,20020908,0035, 78.5692,-155.9953, 3858,     45.6,  -1.6431,  31.7536,2,  31.8295,2,    357.5,2,    330.8,2,  -999.00,9,  -999.00,9,  -999.00,9,  -999.00,9, -999.000,9, -999.000,9, -999.000,9,  -999.00,9,  -999.00,9,  -1.6438
  32PZ20020819,   CBL,    65,  1,     31,     31,2,20020908,0035, 78.5692,-155.9953, 3858,     60.3,  -1.5721,  32.2526,2,  32.2508,2,    309.6,2,    297.3,2,    23.30,2,    11.00,2,     0.02,2,     1.62,2, -999.000,9, -999.000,9, -999.000,9,    -1.39,2,    64.20,2,  -1.5732
  32PZ20020819,   CBL,    65,  1,     30,     30,2,20020908,0035, 78.5692,-155.9953, 3858,     76.5,  -1.5057,  32.5098,2,  32.5481,2,    286.3,2,    274.0,2,    31.00,2,    14.10,2,     0.02,2,     1.83,2, -999.000,9, -999.000,9, -999.000,9,    -1.44,2,    70.70,2,  -1.5071
  32PZ20020819,   CBL,    65,  1,     29,     29,2,20020908,0035, 78.5692,-155.9953, 3858,     93.9,  -1.4543,  32.8762,2,  32.8965,2,    257.6,2,    251.6,2,    39.50,2,    17.20,2,     0.01,2,     2.06,2, -999.000,9, -999.000,9, -999.000,9,    -1.37,2,    73.70,2,  -1.4562
  32PZ20020819,   CBL,    65,  1,     28,     28,2,20020908,0035, 78.5692,-155.9953, 3858,    110.0,  -1.4558,  33.2292,2,  33.3164,2,    246.8,2,    241.3,2,    45.30,2,    18.20,2,     0.01,2,     2.14,2,    6.118,2,    3.085,2,    0.493,2,    -1.16,2,    75.40,2,  -1.4581
  32PZ20020819,   CBL,    65,  1,     27,     27,2,20020908,0035, 78.5692,-155.9953, 3858,    128.6,  -1.3651,  33.6841,2,  33.7269,2,    239.4,2,    249.4,2,    33.30,2,    14.90,2,     0.01,2,     1.66,2,    6.191,2,    2.967,2,    0.409,2,    -0.82,2,    58.90,2,  -1.3680
  32PZ20020819,   CBL,    65,  1,     26,     26,2,20020908,0035, 78.5692,-155.9953, 3858,    162.7,  -1.1296,  34.2346,2,  34.2362,2,    281.4,2,    298.5,2,     8.50,2,    10.00,2,     0.02,2,     0.84,2, -999.000,9, -999.000,9, -999.000,9,    -0.27,2,    44.90,2,  -1.1339
  32PZ20020819,   CBL,    65,  1,     25,     25,2,20020908,0035, 78.5692,-155.9953, 3858,    176.7,  -0.9411,  34.2992,2,  34.3009,2,    291.9,2,    298.9,2,     7.80,2,    10.20,2,     0.01,2,     0.82,2,    6.605,2,    3.054,2,    0.440,2,    -0.21,2,    43.90,2,  -0.9461
  32PZ20020819,   CBL,    65,  1,     24,     24,2,20020908,0035, 78.5692,-155.9953, 3858,    201.4,  -0.2769,  34.4768,2,  34.4890,2,    296.8,2,    293.5,2,  -999.00,9,  -999.00,9,  -999.00,9,  -999.00,9, -999.000,9, -999.000,9, -999.000,9,  -999.00,9,  -999.00,9,  -0.2838
  32PZ20020819,   CBL,    65,  1,     23,     23,2,20020908,0035, 78.5692,-155.9953, 3858,    233.3,   0.2351,  34.6042,2,  34.6113,2,    292.6,2,    292.0,2,     7.60,2,    11.70,2,     0.01,2,     0.87,2,    6.035,2,    2.787,2,    0.394,2,  -999.00,9,  -999.00,9,   0.2260
  32PZ20020819,   CBL,    65,  1,     22,     22,2,20020908,0035, 78.5692,-155.9953, 3858,    284.4,   0.8120,  34.7589,2,  34.7603,2,    297.1,2,    296.7,2,     6.50,2,    12.30,2,     0.01,2,     0.87,2,    5.694,2,    2.646,2,    0.383,2,  -999.00,9,  -999.00,9,   0.7993
  32PZ20020819,   CBL,    65,  1,     21,     21,2,20020908,0035, 78.5692,-155.9953, 3858,    344.0,   1.0749,  34.8261,2,  34.8250,2,    298.9,2,    296.7,2,     6.80,2,    12.60,2,     0.01,2,     0.89,2,    5.527,2,    2.570,2,    0.375,2,  -999.00,9,  -999.00,9,   1.0585
  32PZ20020819,   CBL,    65,  1,     20,     20,2,20020908,0035, 78.5692,-155.9953, 3858,    393.5,   1.1442,  34.8481,2,  34.8459,2,    299.6,2,    298.9,2,     6.50,2,    12.60,2,     0.01,2,     0.89,2,    5.356,2,    2.486,2,    0.364,2,     0.30,2,    41.30,2,   1.1251
  32PZ20020819,   CBL,    65,  1,     19,     19,2,20020908,0035, 78.5692,-155.9953, 3858,    456.1,   1.0020,  34.8561,2,  34.8534,2,    298.3,2,    299.1,2,     6.80,2,    12.70,2,     0.01,2,     0.89,2,    5.370,6,    2.498,6,    0.368,6,  -999.00,9,  -999.00,9,   0.9801
  32PZ20020819,   CBL,    65,  1,     18,     18,2,20020908,0035, 78.5692,-155.9953, 3858,    522.7,   0.8357,  34.8605,2,  34.8595,2,    298.8,2,    302.2,2,     6.50,2,    12.70,2,     0.01,2,     0.89,2,    5.251,2,    2.442,2,    0.368,2,  -999.00,9,  -999.00,9,   0.8110
  32PZ20020819,   CBL,    65,  1,     17,     17,2,20020908,0035, 78.5692,-155.9953, 3858,    589.4,   0.6271,  34.8597,2,  34.8589,2,    299.1,2,    301.5,2,     6.60,2,    12.70,2,     0.01,2,     0.89,2,    5.141,2,    2.365,2,    0.322,2,  -999.00,9,  -999.00,9,   0.5999
  32PZ20020819,   CBL,    65,  1,     16,     16,2,20020908,0035, 78.5692,-155.9953, 3858,    707.8,   0.3990,  34.8624,2,  34.8607,2,    300.9,2,    302.0,2,     7.00,2,    12.60,2,     0.01,2,     0.90,2,    4.555,2,    2.100,2,    0.276,2,     0.35,2,    42.70,2,   0.3670
  32PZ20020819,   CBL,    65,  1,     15,     15,2,20020908,0035, 78.5692,-155.9953, 3858,    810.4,   0.1878,  34.8643,2,  34.8639,2,    302.9,2,    303.6,2,     6.90,2,    12.70,2,     0.01,2,     0.91,2,    4.628,2,    2.124,2,    0.281,2,  -999.00,9,  -999.00,9,   0.1518
  32PZ20020819,   CBL,    65,  1,     14,     14,2,20020908,0035, 78.5692,-155.9953, 3858,    908.5,   0.0447,  34.8680,2,  34.8667,2,    303.3,2,    303.7,2,     6.90,2,    12.80,2,     0.01,2,     0.91,2,    4.509,2,    2.069,2,    0.266,2,  -999.00,9,  -999.00,9,   0.0046
  32PZ20020819,   CBL,    65,  1,     13,     13,2,20020908,0035, 78.5692,-155.9953, 3858,   1012.5,  -0.0382,  34.8739,2,  34.8744,2,    303.3,2,    303.7,2,  -999.00,9,  -999.00,9,  -999.00,9,  -999.00,9,    4.104,6,    1.899,6,    0.249,6,  -999.00,9,  -999.00,9,  -0.0831
  32PZ20020819,   CBL,    65,  1,     12,     12,2,20020908,0035, 78.5692,-155.9953, 3858,   1215.6,  -0.1863,  34.8890,2,  34.8893,2,    302.4,2,    302.4,2,     7.70,2,    13.20,2,     0.01,2,     0.94,2,    2.981,2,    1.388,2,    0.156,2,  -999.00,9,  -999.00,9,  -0.2410
  32PZ20020819,   CBL,    65,  1,     11,     11,2,20020908,0035, 78.5692,-155.9953, 3858,   1418.3,  -0.2969,  34.9041,2,  34.9037,2,    301.5,2,    300.6,2,  -999.00,9,  -999.00,9,  -999.00,9,  -999.00,9,    1.957,2,    0.921,2,    0.080,2,  -999.00,9,  -999.00,9,  -0.3620
  32PZ20020819,   CBL,    65,  1,     10,     10,2,20020908,0035, 78.5692,-155.9953, 3858,   1544.7,  -0.3310,  34.9151,2,  34.9134,2,    300.2,2,    299.2,2,     9.00,2,    13.80,2,     0.01,2,     0.98,2,    1.111,2,    0.543,2,    0.073,2,  -999.00,9,  -999.00,9,  -0.4032
  32PZ20020819,   CBL,    65,  1,      9,      9,2,20020908,0035, 78.5692,-155.9953, 3858,   1591.5,  -0.3214,  34.9203,2,  34.9185,2,    298.8,2,    298.1,2,     9.20,2,    13.90,2,     0.01,2,     0.99,2,    0.556,2,    0.278,2,    0.029,2,  -999.00,9,  -999.00,9,  -0.3966
  32PZ20020819,   CBL,    65,  1,      8,      8,2,20020908,0035, 78.5692,-155.9953, 3858,   1732.9,  -0.3686,  34.9296,2,  34.9294,2,    296.5,2,    296.0,2,  -999.00,9,  -999.00,9,  -999.00,9,  -999.00,9,    0.348,2,    0.172,2,    0.022,2,  -999.00,9,  -999.00,9,  -0.4520
  32PZ20020819,   CBL,    65,  1,      7,      7,2,20020908,0035, 78.5692,-155.9953, 3858,   1834.1,  -0.3830,  34.9356,2,  34.9355,2,    295.1,2,    294.4,2,  -999.00,9,  -999.00,9,  -999.00,9,  -999.00,9,    0.163,2,    0.082,2,    0.009,2,  -999.00,9,  -999.00,9,  -0.4727
  32PZ20020819,   CBL,    65,  1,      6,      6,2,20020908,0035, 78.5692,-155.9953, 3858,   2138.1,  -0.4028,  34.9470,2,  34.9467,2,    290.9,2,    291.4,2,  -999.00,9,  -999.00,9,  -999.00,9,  -999.00,9, -999.000,9, -999.000,9, -999.000,9,  -999.00,9,  -999.00,9,  -0.5126
  32PZ20020819,   CBL,    65,  1,      5,      5,2,20020908,0035, 78.5692,-155.9953, 3858,   2340.3,  -0.3945,  34.9515,2,  34.9511,2,    288.7,2,    288.1,2,    12.70,2,    14.90,2,     0.01,2,     1.06,2,    0.023,2,    0.010,2,    0.001,2,  -999.00,9,  -999.00,9,  -0.5189
  32PZ20020819,   CBL,    65,  1,      4,      4,2,20020908,0035, 78.5692,-155.9953, 3858,   2696.8,  -0.3634,  34.9559,2,  34.9554,2,    285.8,2,    285.5,2,  -999.00,9,  -999.00,9,  -999.00,9,  -999.00,9, -999.000,9, -999.000,9, -999.000,9,  -999.00,9,  -999.00,9,  -0.5155
  32PZ20020819,   CBL,    65,  1,      3,      3,2,20020908,0035, 78.5692,-155.9953, 3858,   3054.3,  -0.3292,  34.9571,2,  34.9568,2,    284.9,2,    285.4,2,  -999.00,9,  -999.00,9,  -999.00,9,  -999.00,9,    0.011,2,    0.001,2,    0.001,2,  -999.00,9,  -999.00,9,  -0.5112
  32PZ20020819,   CBL,    65,  1,      2,      2,2,20020908,0035, 78.5692,-155.9953, 3858,   3368.3,  -0.3013,  34.9572,2,  34.9570,2,    284.8,2,    284.6,2,  -999.00,9,  -999.00,9,  -999.00,9,  -999.00,9, -999.000,9, -999.000,9, -999.000,9,  -999.00,9,  -999.00,9,  -0.5113
  32PZ20020819,   CBL,    65,  1,      1,      1,2,20020908,0035, 78.5692,-155.9953, 3858,   3869.2,  -0.2533,  34.9569,2,  34.9577,2,    284.4,2,    284.6,2,    13.80,2,    15.00,2,     0.01,2,     1.07,2,    0.016,2,    0.009,2,    0.001,2,  -999.00,9,  -999.00,9,  -0.5113
  32PZ20020819,   CBL,    66,  2,     32,     32,2,20020908,0918, 78.4978,-155.8125, 3201,      1.8,  -1.5613,  30.4792,2,  30.4793,2,    386.5,2,    389.2,2,  -999.00,9,  -999.00,9,  -999.00,9,  -999.00,9, -999.000,9, -999.000,9, -999.000,9,  -999.00,9,  -999.00,9,  -1.5613
  32PZ20020819,   CBL,    66,  2,     31,     31,2,20020908,0918, 78.4978,-155.8125, 3201,     15.0,  -1.6269,  30.4934,2,  30.4893,2,    390.8,2,    389.6,2,     2.00,2,     0.20,2,     0.01,2,     0.88,2,    7.639,2,    3.864,2,    0.688,2,    -2.04,2,    54.10,2,  -1.6271
  32PZ20020819,   CBL,    66,  2,     30,     30,2,20020908,0918, 78.4978,-155.8125, 3201,     27.6,  -1.5721,  30.8470,2,  31.0759,2,    390.7,2,    385.5,2,     6.30,2,     1.70,2,     0.09,2,     1.03,2, -999.000,9, -999.000,9, -999.000,9,    -2.05,2,    59.10,2,  -1.5725
  32PZ20020819,   CBL,    66,  2,     29,     29,2,20020908,0918, 78.4978,-155.8125, 3201,     38.3,  -1.6535,  31.5986,2,  31.6548,2,    373.8,2,    347.6,2,    14.70,2,     5.90,2,     0.03,2,     1.31,2,    7.397,2,    3.784,2,    0.683,2,    -1.85,2,    56.60,2,  -1.6541
  32PZ20020819,   CBL,    66,  2,     28,     28,2,20020908,0918, 78.4978,-155.8125, 3201,     58.0,  -1.5754,  32.1467,2,  32.1633,2,    323.3,2,    306.1,2,    21.40,2,    10.30,2,     0.02,2,     1.56,2,    6.903,2,    3.578,2,    0.551,2,    -1.44,2,    61.10,2,  -1.5764
  32PZ20020819,   CBL,    66,  2,     27,     27,2,20020908,0918, 78.4978,-155.8125, 3201,     77.3,  -1.4787,  32.6051,2,  32.6263,2,    281.9,2,    269.2,2,    33.20,2,    15.00,2,     0.01,2,     1.88,2,    6.575,2,    3.352,2,    0.500,2,    -1.47,2,    68.80,2,  -1.4802
  32PZ20020819,   CBL,    66,  2,     26,     26,2,20020908,0918, 78.4978,-155.8125, 3201,     92.0,  -1.4619,  32.8722,2,  32.9481,2,    257.6,2,    248.9,2,    40.30,2,    17.40,2,     0.02,2,     2.09,2, -999.000,9, -999.000,9, -999.000,9,  -999.00,9,  -999.00,9,  -1.4637
  32PZ20020819,   CBL,    66,  2,     25,     25,2,20020908,0918, 78.4978,-155.8125, 3201,    102.2,  -1.4583,  33.0453,2,  33.1090,2,    246.9,2,    243.2,2,    43.70,2,    18.30,2,     0.02,2,     2.16,2,    6.309,2,    3.199,2,    0.462,2,    -1.21,2,    70.00,2,  -1.4604
  32PZ20020819,   CBL,    66,  2,     24,     24,2,20020908,0918, 78.4978,-155.8125, 3201,    111.6,  -1.4691,  33.2710,2,  33.2888,2,    247.5,2,    247.1,2,    44.40,2,    18.00,2,     0.01,2,     2.12,2, -999.000,9, -999.000,9, -999.000,9,  -999.00,9,  -999.00,9,  -1.4714
  32PZ20020819,   CBL,    66,  2,     23,     23,2,20020908,0918, 78.4978,-155.8125, 3201,    121.1,  -1.3999,  33.4878,2,  33.5467,2,    251.4,2,    246.3,2,    42.30,2,    17.40,2,     0.01,2,     2.00,2, -999.000,9, -999.000,9, -999.000,9,  -999.00,9,  -999.00,9,  -1.4026
  32PZ20020819,   CBL,    66,  2,     22,     22,2,20020908,0918, 78.4978,-155.8125, 3201,    131.2,  -1.2800,  33.6850,2,  33.7740,2,    245.5,2,    248.9,2,    35.90,2,    16.00,2,     0.01,2,     1.76,2,    5.620,2,    2.711,2,    0.372,2,    -0.88,2,    59.30,2,  -1.2831
  32PZ20020819,   CBL,    66,  2,     21,     21,2,20020908,0918, 78.4978,-155.8125, 3201,    146.4,  -1.0960,  34.0459,2,  34.0560,2,    246.2,2,    252.7,2,    26.30,2,    14.30,2,     0.01,2,     1.43,2, -999.000,9, -999.000,9, -999.000,9,  -999.00,9,  -999.00,9,  -1.0998
  32PZ20020819,   CBL,    66,  2,     20,     20,2,20020908,0918, 78.4978,-155.8125, 3201,    166.1,  -1.0806,  34.2557,2,  34.2644,2,    270.0,2,    299.0,2,     8.10,2,    10.10,2,     0.01,2,     0.83,2,    6.597,2,    3.086,2,    0.441,2,  -999.00,9,  -999.00,9,  -1.0850
  32PZ20020819,   CBL,    66,  2,     19,     19,2,20020908,0918, 78.4978,-155.8125, 3201,    180.8,  -0.7167,  34.3634,2,  34.3674,2,    268.5,2,    296.4,2,     7.70,2,    10.50,2,     0.01,2,     0.83,2, -999.000,9, -999.000,9, -999.000,9,  -999.00,9,  -999.00,9,  -0.7222
  32PZ20020819,   CBL,    66,  2,     18,     18,2,20020908,0918, 78.4978,-155.8125, 3201,    215.8,  -0.0323,  34.5382,2,  34.5352,2,    285.3,2,    294.5,2,     7.50,2,    11.30,2,     0.01,2,     0.85,2,    6.179,2,    2.896,2,    0.403,2,  -999.00,9,  -999.00,9,  -0.0402
  32PZ20020819,   CBL,    66,  2,     17,     17,2,20020908,0918, 78.4978,-155.8125, 3201,    270.1,   0.7394,  34.7436,2,  34.7470,2,    295.0,2,    295.1,2,     6.70,2,    12.30,2,     0.01,2,     0.88,2,    5.829,2,    2.737,2,    0.376,2,  -999.00,9,  -999.00,9,   0.7275
  32PZ20020819,   CBL,    66,  2,     16,     16,2,20020908,0918, 78.4978,-155.8125, 3201,    339.5,   1.0402,  34.8194,2,  34.8214,2,    298.4,2,    296.4,2,  -999.00,9,  -999.00,9,  -999.00,9,  -999.00,9, -999.000,9, -999.000,9, -999.000,9,  -999.00,9,  -999.00,9,   1.0242
  32PZ20020819,   CBL,    66,  2,     15,     15,2,20020908,0918, 78.4978,-155.8125, 3201,    388.9,   1.1339,  34.8462,2,  34.8462,2,    299.9,2,    298.1,2,     6.50,2,    12.70,2,     0.01,2,     0.89,2,    5.554,2,    2.610,2,    0.359,2,     0.27,2,    43.90,2,   1.1150
  32PZ20020819,   CBL,    66,  2,     14,     14,2,20020908,0918, 78.4978,-155.8125, 3201,    447.5,   1.0205,  34.8566,2,  34.8568,2,    298.7,2,    299.6,2,     6.50,2,    12.70,2,     0.01,2,     0.89,2,    5.568,2,    2.633,2,    0.371,2,  -999.00,9,  -999.00,9,   0.9990
  32PZ20020819,   CBL,    66,  2,     13,     13,2,20020908,0918, 78.4978,-155.8125, 3201,    546.3,   0.7496,  34.8599,2,  34.8598,2,    300.8,2,    301.1,2,     6.50,2,    12.70,2,     0.01,2,     0.89,2,    5.029,2,    2.377,2,    0.336,2,  -999.00,9,  -999.00,9,   0.7241
  32PZ20020819,   CBL,    66,  2,     12,     12,2,20020908,0918, 78.4978,-155.8125, 3201,    654.7,   0.4811,  34.8620,2,  34.8625,2,    301.9,2,    302.2,2,  -999.00,9,  -999.00,9,  -999.00,9,  -999.00,9,    4.920,2,    2.278,2,    0.317,2,  -999.00,9,  -999.00,9,   0.4513
  32PZ20020819,   CBL,    66,  2,     11,     11,2,20020908,0918, 78.4978,-155.8125, 3201,    773.1,   0.2506,  34.8631,2,  34.8627,2,    303.2,2,    303.1,2,     6.60,2,    12.70,2,     0.01,2,     0.90,2,    4.772,2,    2.205,2,    0.296,2,     0.16,2,    43.60,2,   0.2161
  32PZ20020819,   CBL,    66,  2,     10,     10,2,20020908,0918, 78.4978,-155.8125, 3201,    934.8,  -0.0177,  34.8721,2,  34.8726,2,    304.0,2,    303.7,2,  -999.00,9,  -999.00,9,  -999.00,9,  -999.00,9,    4.244,6,    1.946,6,    0.253,6,  -999.00,9,  -999.00,9,  -0.0587
  32PZ20020819,   CBL,    66,  2,      9,      9,2,20020908,0918, 78.4978,-155.8125, 3201,   1135.1,  -0.1555,  34.8855,2,  34.8858,2,    303.0,2,    302.9,2,     7.40,2,    13.20,2,     0.01,2,     0.93,2,    3.349,2,    1.515,2,    0.196,2,  -999.00,9,  -999.00,9,  -0.2061
  32PZ20020819,   CBL,    66,  2,      8,      8,2,20020908,0918, 78.4978,-155.8125, 3201,   1380.0,  -0.2996,  34.9024,2,  34.9021,2,    301.2,2,    301.6,2,  -999.00,9,  -999.00,9,  -999.00,9,  -999.00,9,    2.364,2,    1.094,2,    0.143,2,  -999.00,9,  -999.00,9,  -0.3625
  32PZ20020819,   CBL,    66,  2,      7,      7,2,20020908,0918, 78.4978,-155.8125, 3201,   1623.9,  -0.3852,  34.9180,2,  34.9177,2,    298.2,2,    297.9,2,     9.50,2,    14.10,2,     0.01,2,     1.00,2,    1.386,2,    0.642,2,    0.068,2,  -999.00,9,  -999.00,9,  -0.4616
  32PZ20020819,   CBL,    66,  2,      6,      6,2,20020908,0918, 78.4978,-155.8125, 3201,   1828.3,  -0.4063,  34.9310,2,  34.9316,2,    293.9,2,    295.8,2,  -999.00,9,  -999.00,9,  -999.00,9,  -999.00,9,    0.679,6,    0.311,6,    0.026,6,  -999.00,9,  -999.00,9,  -0.4953
  32PZ20020819,   CBL,    66,  2,      5,      5,2,20020908,0918, 78.4978,-155.8125, 3201,   2063.0,  -0.4041,  34.9444,2,  34.9448,2,    290.9,2,    290.3,2,    11.90,2,    14.70,2,     0.01,2,     1.05,2,    0.287,2,    0.163,2,    0.028,2,  -999.00,9,  -999.00,9,  -0.5087
  32PZ20020819,   CBL,    66,  2,      4,      4,2,20020908,0918, 78.4978,-155.8125, 3201,   2358.0,  -0.3889,  34.9517,2,  34.9519,2,    287.9,2,    287.7,2,  -999.00,9,  -999.00,9,  -999.00,9,  -999.00,9,    0.130,2,    0.081,2,    0.001,2,  -999.00,9,  -999.00,9,  -0.5147
  32PZ20020819,   CBL,    66,  2,      3,      3,2,20020908,0918, 78.4978,-155.8125, 3201,   2656.0,  -0.3637,  34.9556,2,  34.9559,2,    285.7,2,    285.9,2,    13.40,2,    15.00,2,     0.01,2,     1.07,2,    0.010,2,    0.004,2,    0.000,2,  -999.00,9,  -999.00,9,  -0.5126
  32PZ20020819,   CBL,    66,  2,      2,      2,2,20020908,0918, 78.4978,-155.8125, 3201,   2954.4,  -0.3372,  34.9569,2,  34.9569,2,    284.9,2,    284.9,2,  -999.00,9,  -999.00,9,  -999.00,9,  -999.00,9,    0.005,2,    0.016,2,    0.000,2,  -999.00,9,  -999.00,9,  -0.5107
  32PZ20020819,   CBL,    66,  2,      1,      1,2,20020908,0918, 78.4978,-155.8125, 3201,   3226.2,  -0.3133,  34.9568,2,  34.9571,2,    284.7,2,    280.7,3,    13.60,2,    15.10,2,     0.01,2,     1.07,2,    0.005,2,    0.016,2,    0.000,2,  -999.00,9,  -999.00,9,  -0.5104