BOTTLE,20220815CCHSIOAMB
EXPOCODE,SECT_ID,STNNBR,CASTNO,SAMPNO,BTLNBR,BTLNBR_FLAG_W,DATE,TIME,LATITUDE,LONGITUDE,DEPTH,CTDPRS,CTDTMP,CTDSAL,CTDSAL_FLAG_W,SALNTY,SALNTY_FLAG_W,CTDOXY,CTDOXY_FLAG_W,OXYGEN,OXYGEN_FLAG_W,SILCAT,SILCAT_FLAG_W,NITRAT,NITRAT_FLAG_W,NITRIT,NITRIT_FLAG_W,PHSPHT,PHSPHT_FLAG_W,CFC-11,CFC-11_FLAG_W,CFC-12,CFC-12_FLAG_W,CFC113,CFC113_FLAG_W,DELO18,DELO18_FLAG_W,BARIUM,BARIUM_FLAG_W,THETA
,,,,,,,,,,,METERS,DBAR,ITS-90,PSS-78,,PSS-78,,UMOL/KG,,UMOL/KG,,UMOL/KG,,UMOL/KG,,UMOL/KG,,UMOL/KG,,PMOL/KG,,PMOL/KG,,PMOL/KG,,/MILLE,,NMOL/KG,,DEG C
  32PZ20020819,   CBL,    86,  1,     24,     24,2,20020912,1107, 77.0802,-160.6128, 1835,     10.2,  -1.5585,  29.4864,2,  29.5123,2,    386.3,2,    387.8,2,     1.90,2,     0.10,2,     0.00,2,     0.76,2,    7.582,2,    3.840,2,    0.713,2,    -2.55,2,    61.80,2,  -1.5586
  32PZ20020819,   CBL,    86,  1,     23,     23,2,20020912,1107, 77.0802,-160.6128, 1835,     25.1,  -1.4523,  29.8278,2,  29.9158,2,    390.0,2,    391.3,2,     2.40,2,     0.10,2,     0.03,2,     0.79,2,    7.442,2,    3.826,2,    0.709,2,    -2.48,2,    63.90,2,  -1.4526
  32PZ20020819,   CBL,    86,  1,     22,     22,2,20020912,1107, 77.0802,-160.6128, 1835,     35.9,  -1.0743,  31.1328,2,  31.2154,2,    387.5,2,    370.4,2,     8.30,2,     2.50,2,     0.15,2,     1.01,2,    7.038,2,    3.650,2,    0.647,2,  -999.00,9,  -999.00,9,  -1.0750
  32PZ20020819,   CBL,    86,  1,     21,     21,2,20020912,1107, 77.0802,-160.6128, 1835,     43.9,  -1.2703,  31.5002,2,  31.5490,2,    374.3,2,    355.1,2,    11.90,2,     4.60,2,     0.04,2,     1.17,2,    6.836,2,    3.529,2,    0.604,2,    -1.84,2,    60.20,2,  -1.2711
  32PZ20020819,   CBL,    86,  1,     20,     20,2,20020912,1107, 77.0802,-160.6128, 1835,     66.6,  -1.1311,  32.3442,2,  32.3669,2,    315.1,2,    303.4,2,    24.20,2,    10.70,2,     0.01,2,     1.58,2,    6.173,2,    3.133,2,    0.470,2,    -1.60,2,    69.00,2,  -1.1325
  32PZ20020819,   CBL,    86,  1,     19,     19,2,20020912,1107, 77.0802,-160.6128, 1835,     82.1,  -1.0659,  32.5336,2,  32.5797,2,    298.3,2,    285.0,2,    29.10,2,    12.90,2,     0.01,2,     1.76,2,    6.088,2,    3.077,2,    0.471,2,    -1.49,2,    71.00,2,  -1.0678
  32PZ20020819,   CBL,    86,  1,     18,     18,2,20020912,1107, 77.0802,-160.6128, 1835,    101.2,  -1.3244,  32.7569,2,  32.7758,2,    280.2,2,    279.4,2,    34.30,2,    14.60,2,     0.01,2,     1.92,2,    6.185,2,    3.164,2,    0.488,2,    -1.39,2,    68.10,2,  -1.3265
  32PZ20020819,   CBL,    86,  1,     17,     17,2,20020912,1107, 77.0802,-160.6128, 1835,    118.8,  -1.5353,  32.9494,2,  32.9715,2,    284.2,2,    279.3,2,    35.40,2,    15.00,2,     0.01,2,     1.88,2,    5.747,2,    2.925,2,    0.430,2,    -1.52,2,    68.50,2,  -1.5376
  32PZ20020819,   CBL,    86,  1,     16,     16,2,20020912,1107, 77.0802,-160.6128, 1835,    137.7,  -1.5531,  33.2129,2,  33.2362,2,    278.4,2,    276.8,2,    37.00,2,    15.40,2,     0.01,2,     1.89,2,    5.657,2,    2.925,2,    0.425,2,  -999.00,9,  -999.00,9,  -1.5559
  32PZ20020819,   CBL,    86,  1,     15,     15,2,20020912,1107, 77.0802,-160.6128, 1835,    157.4,  -1.3220,  33.6128,2,  33.6522,2,    266.1,2,    262.3,2,    36.60,2,    16.10,2,     0.01,2,     1.82,2,    5.209,2,    2.621,2,    0.373,2,  -999.00,9,  -999.00,9,  -1.3257
  32PZ20020819,   CBL,    86,  1,     14,     14,2,20020912,1107, 77.0802,-160.6128, 1835,    177.0,  -1.0036,  34.0770,2,  34.1188,2,    250.2,2,    250.2,2,    26.50,2,    14.60,2,     0.01,2,     1.43,2,    4.921,2,    2.389,2,    0.286,2,    -0.54,2,    51.50,2,  -1.0084
  32PZ20020819,   CBL,    86,  1,     13,     13,2,20020912,1107, 77.0802,-160.6128, 1835,    199.9,  -0.6723,  34.3521,2,  34.3622,2,    258.2,2,    268.0,2,    15.40,2,    12.70,2,     0.01,2,     1.05,2,    5.387,2,    2.516,2,    0.315,2,  -999.00,9,  -999.00,9,  -0.6784
  32PZ20020819,   CBL,    86,  1,     12,     12,2,20020912,1107, 77.0802,-160.6128, 1835,    269.9,   0.5232,  34.6954,2,  34.6987,2,    287.6,2,    289.6,2,     7.40,2,    12.40,2,     0.01,2,     0.87,2,    5.115,2,    2.363,2,    0.304,2,  -999.00,9,  -999.00,9,   0.5118
  32PZ20020819,   CBL,    86,  1,     11,     11,2,20020912,1107, 77.0802,-160.6128, 1835,    336.3,   0.9844,  34.8265,2,  34.8192,2,    296.1,2,    295.6,2,     6.50,2,    12.70,2,     0.01,2,     0.86,2,    5.143,2,    2.428,2,    0.321,2,     0.26,2,    40.90,2,   0.9687
  32PZ20020819,   CBL,    86,  1,     10,     10,2,20020912,1107, 77.0802,-160.6128, 1835,    374.5,   0.9742,  34.8386,2,  34.8375,2,    297.5,2,    297.5,2,     6.40,2,    12.70,2,     0.01,2,     0.86,2,    4.916,2,    2.306,2,    0.302,2,  -999.00,9,  -999.00,9,   0.9566
  32PZ20020819,   CBL,    86,  1,      9,      9,2,20020912,1107, 77.0802,-160.6128, 1835,    419.9,   0.7730,  34.8349,2,  34.8365,2,    297.1,2,    296.9,2,     6.70,2,    12.80,2,     0.01,2,     0.87,2,    4.549,2,    2.108,2,    0.271,2,  -999.00,9,  -999.00,9,   0.7538
  32PZ20020819,   CBL,    86,  1,      8,      8,2,20020912,1107, 77.0802,-160.6128, 1835,    520.7,   0.6152,  34.8516,2,  34.8529,2,    299.1,2,    299.0,2,     6.70,2,    12.80,2,     0.01,2,     0.87,2,    4.561,2,    2.075,2,    0.257,2,  -999.00,9,  -999.00,9,   0.5916
  32PZ20020819,   CBL,    86,  1,      7,      7,2,20020912,1107, 77.0802,-160.6128, 1835,    693.7,   0.3038,  34.8617,2,  34.8633,2,    300.5,2,    300.6,2,     7.00,2,    12.80,2,     0.01,2,     0.88,2,    3.995,6,    1.872,6,    0.224,6,     0.14,2,    40.90,2,   0.2730
  32PZ20020819,   CBL,    86,  1,      6,      6,2,20020912,1107, 77.0802,-160.6128, 1835,    865.6,   0.0993,  34.8700,2,  34.8724,2,    301.9,2,    302.5,2,     7.10,2,    12.90,2,     0.01,2,     0.89,2,    3.713,2,    1.703,2,    0.199,2,  -999.00,9,  -999.00,9,   0.0610
  32PZ20020819,   CBL,    86,  1,      5,      5,2,20020912,1107, 77.0802,-160.6128, 1835,   1137.0,  -0.1000,  34.8927,2,  34.8921,2,    299.6,2,    298.5,2,     8.30,2,    13.30,2,     0.01,2,     0.93,2,    2.000,2,    0.940,2,    0.091,2,  -999.00,9,  -999.00,9,  -0.1512
  32PZ20020819,   CBL,    86,  1,      4,      4,2,20020912,1107, 77.0802,-160.6128, 1835,   1316.2,  -0.2254,  34.9044,2,  34.9037,2,    298.3,2,    298.5,2,     8.90,2,    13.50,2,     0.01,2,     0.94,2,    1.710,2,    0.817,2,    0.082,2,  -999.00,9,  -999.00,9,  -0.2854
  32PZ20020819,   CBL,    86,  1,      3,      3,2,20020912,1107, 77.0802,-160.6128, 1835,   1494.7,  -0.2691,  34.9202,2,  34.9187,2,    292.9,2,    293.0,2,    11.30,2,    14.10,2,     0.01,2,     0.99,2,    0.629,6,    0.309,6,    0.024,6,  -999.00,9,  -999.00,9,  -0.3391
  32PZ20020819,   CBL,    86,  1,      2,      2,2,20020912,1107, 77.0802,-160.6128, 1835,   1682.8,  -0.3194,  34.9254,2,  34.9295,2,    292.0,2,    292.0,2,    11.90,2,    14.30,2,     0.01,2,     1.00,2,    0.587,2,    0.286,2,    0.025,2,  -999.00,9,  -999.00,9,  -0.4003
  32PZ20020819,   CBL,    86,  1,      1,      1,2,20020912,1107, 77.0802,-160.6128, 1835,   1811.7,  -0.3202,  34.9283,2,  34.9323,2,    290.9,2,    290.9,2,    12.50,2,    14.40,2,     0.01,2,     1.01,2,    0.459,2,    0.233,2,    0.029,2,  -999.00,9,  -999.00,9,  -0.4093
  32PZ20020819,   CBL,    87,  1,     18,     18,2,20020912,1519, 77.1453,-161.2915,  899,     10.2,  -1.5724,  29.3004,2,  29.3941,2,    381.9,2,    383.9,2,  -999.00,9,  -999.00,9,  -999.00,9,  -999.00,9,    7.631,2,    3.818,2,    0.724,2,  -999.00,9,  -999.00,9,  -1.5725
  32PZ20020819,   CBL,    87,  1,     17,     17,2,20020912,1519, 77.1453,-161.2915,  899,     30.9,  -0.9366,  31.1008,2,-999.0000,9,    395.5,2,    365.2,2,  -999.00,9,  -999.00,9,  -999.00,9,  -999.00,9,    7.124,2,    3.548,2,    0.595,2,  -999.00,9,  -999.00,9,  -0.9372
  32PZ20020819,   CBL,    87,  1,     16,     16,2,20020912,1519, 77.1453,-161.2915,  899,     51.5,  -1.1300,  31.9895,2,  32.0586,2,    349.0,2,    322.1,2,    17.80,2,     8.30,2,     0.02,2,     1.39,2,    6.824,2,    3.394,2,    0.531,2,  -999.00,9,  -999.00,9,  -1.1311
  32PZ20020819,   CBL,    87,  1,     15,     15,2,20020912,1519, 77.1453,-161.2915,  899,     66.5,  -1.1967,  32.3558,2,-999.0000,9,    316.7,2,    296.1,2,    25.10,2,    11.40,2,     0.01,2,     1.63,2,    6.488,2,    3.217,2,    0.488,2,  -999.00,9,  -999.00,9,  -1.1981
  32PZ20020819,   CBL,    87,  1,     14,     14,2,20020912,1519, 77.1453,-161.2915,  899,     81.4,  -1.0527,  32.6066,2,-999.0000,9,    294.2,2,    279.3,2,    30.90,2,    13.70,2,     0.01,2,     1.85,2,    6.255,2,    3.136,2,    0.461,2,  -999.00,9,  -999.00,9,  -1.0546
  32PZ20020819,   CBL,    87,  1,     13,     13,2,20020912,1519, 77.1453,-161.2915,  899,     97.7,  -1.2558,  32.7718,2,  32.8006,2,    280.8,2,    274.6,2,    35.80,2,    15.20,2,     0.01,2,     1.98,2,    6.262,2,    3.157,2,    0.463,2,  -999.00,9,  -999.00,9,  -1.2579
  32PZ20020819,   CBL,    87,  1,     12,     12,2,20020912,1519, 77.1453,-161.2915,  899,    114.5,  -1.5533,  32.9438,2,-999.0000,9,    286.6,2,    284.9,2,    35.00,2,    14.70,2,     0.01,2,     1.86,2,    5.968,2,    2.947,2,    0.430,2,  -999.00,9,  -999.00,9,  -1.5555
  32PZ20020819,   CBL,    87,  1,     11,     11,2,20020912,1519, 77.1453,-161.2915,  899,    130.6,  -1.5601,  33.1358,2,-999.0000,9,    286.3,2,    278.6,2,    36.60,2,    15.30,2,     0.01,2,     1.87,2,    5.858,2,    2.906,2,    0.405,2,  -999.00,9,  -999.00,9,  -1.5627
  32PZ20020819,   CBL,    87,  1,     10,     10,2,20020912,1519, 77.1453,-161.2915,  899,    144.8,  -1.5242,  33.3482,2,  33.4337,2,    278.0,2,    270.7,2,    37.20,2,    16.10,2,     0.01,2,     1.88,2,    5.640,2,    2.775,2,    0.379,2,  -999.00,9,  -999.00,9,  -1.5272
  32PZ20020819,   CBL,    87,  1,      9,      9,2,20020912,1519, 77.1453,-161.2915,  899,    165.9,  -1.1261,  33.8575,2,-999.0000,9,    265.9,2,    252.4,2,    32.50,2,    15.80,2,     0.01,2,     1.65,2,    5.130,2,    2.430,2,    0.303,2,  -999.00,9,  -999.00,9,  -1.1303
  32PZ20020819,   CBL,    87,  1,      8,      8,2,20020912,1519, 77.1453,-161.2915,  899,    186.7,  -0.8096,  34.2416,2,  34.2471,2,    250.2,2,    251.0,2,    23.20,2,    14.00,2,     0.01,2,     1.30,2,    5.203,2,    2.394,2,    0.285,2,  -999.00,9,  -999.00,9,  -0.8150
  32PZ20020819,   CBL,    87,  1,      7,      7,2,20020912,1519, 77.1453,-161.2915,  899,    258.2,   0.5104,  34.6830,2,  34.6931,2,    287.8,2,    288.4,2,  -999.00,9,  -999.00,9,  -999.00,9,  -999.00,9,    5.464,2,    2.493,2,    0.331,2,  -999.00,9,  -999.00,9,   0.4996
  32PZ20020819,   CBL,    87,  1,      6,      6,2,20020912,1519, 77.1453,-161.2915,  899,    346.5,   1.0499,  34.8295,2,  34.8276,2,    296.0,2,    296.2,2,  -999.00,9,  -999.00,9,  -999.00,9,  -999.00,9,    5.335,2,    2.451,2,    0.327,2,  -999.00,9,  -999.00,9,   1.0335
  32PZ20020819,   CBL,    87,  1,      5,      5,2,20020912,1519, 77.1453,-161.2915,  899,    384.8,   1.0772,  34.8424,2,  34.8416,2,    297.4,2,    297.3,2,  -999.00,9,  -999.00,9,  -999.00,9,  -999.00,9,    5.292,2,    2.428,2,    0.323,2,  -999.00,9,  -999.00,9,   1.0587
  32PZ20020819,   CBL,    87,  1,      4,      4,2,20020912,1519, 77.1453,-161.2915,  899,    490.0,   0.7980,  34.8555,2,  34.8548,2,    298.9,2,    298.4,2,  -999.00,9,  -999.00,9,  -999.00,9,  -999.00,9,    5.001,2,    2.281,2,    0.294,2,  -999.00,9,  -999.00,9,   0.7752
  32PZ20020819,   CBL,    87,  1,      3,      3,2,20020912,1519, 77.1453,-161.2915,  899,    631.8,   0.4136,  34.8610,2,  34.8609,2,    300.4,2,    300.4,2,  -999.00,9,  -999.00,9,  -999.00,9,  -999.00,9,    4.606,6,    2.109,6,    0.262,6,  -999.00,9,  -999.00,9,   0.3854
  32PZ20020819,   CBL,    87,  1,      2,      2,2,20020912,1519, 77.1453,-161.2915,  899,    769.8,   0.2190,  34.8657,2,  34.8659,2,    301.3,2,    301.8,2,  -999.00,9,  -999.00,9,  -999.00,9,  -999.00,9,    4.252,2,    1.948,2,    0.236,2,  -999.00,9,  -999.00,9,   0.1849
  32PZ20020819,   CBL,    87,  1,      1,      1,2,20020912,1519, 77.1453,-161.2915,  899,    964.3,   0.0300,  34.8749,2,  34.8755,2,    301.5,2,    301.0,2,  -999.00,9,  -999.00,9,  -999.00,9,  -999.00,9,    3.580,6,    1.633,6,    0.192,6,  -999.00,9,  -999.00,9,  -0.0129
  32PZ20020819,   CBL,    88,  1,     24,     24,2,20020912,1818, 77.2270,-161.8393, 1510,     12.5,  -1.5776,  29.6106,2,  29.6110,2,    382.3,2,    383.4,2,     1.70,2,     0.10,2,     0.00,2,     0.77,2,    7.455,2,    3.875,2,    0.701,2,    -2.44,2,    60.30,2,  -1.5777
  32PZ20020819,   CBL,    88,  1,     23,     23,2,20020912,1818, 77.2270,-161.8393, 1510,     35.2,  -1.1515,  31.0245,2,  30.9937,2,    389.5,2,    383.0,2,     6.40,2,     1.40,2,     0.23,2,     0.95,2,    7.320,2,    3.796,2,    0.664,2,    -2.27,2,    60.10,2,  -1.1521
  32PZ20020819,   CBL,    88,  1,     22,     22,2,20020912,1818, 77.2270,-161.8393, 1510,     52.8,  -0.9294,  31.9521,2,  32.0380,2,    351.8,2,    321.6,2,    17.00,2,     7.70,2,     0.02,2,     1.36,2,    6.462,2,    3.355,2,    0.516,2,    -1.71,2,    64.90,2,  -0.9306
  32PZ20020819,   CBL,    88,  1,     21,     21,2,20020912,1818, 77.2270,-161.8393, 1510,     68.9,  -1.2432,  32.2994,2,  32.3149,2,    316.3,2,    302.5,2,    22.80,2,    10.60,2,     0.02,2,     1.56,2,    6.471,2,    3.297,2,    0.503,2,    -1.70,2,    65.40,2,  -1.2446
  32PZ20020819,   CBL,    88,  1,     20,     20,2,20020912,1818, 77.2270,-161.8393, 1510,     83.6,  -1.2541,  32.5530,2,  32.5666,2,    292.5,2,    284.1,2,    29.30,2,    13.30,2,     0.02,2,     1.76,2,    6.016,2,    3.093,2,    0.453,2,    -1.54,2,    67.50,2,  -1.2559
  32PZ20020819,   CBL,    88,  1,     19,     19,2,20020912,1818, 77.2270,-161.8393, 1510,     93.3,  -1.2238,  32.6971,2,  32.6982,2,    281.3,2,    275.9,2,    32.90,2,    14.50,2,     0.02,2,     1.89,2,    6.174,6,    3.167,6,    0.462,6,  -999.00,9,  -999.00,9,  -1.2258
  32PZ20020819,   CBL,    88,  1,     18,     18,2,20020912,1818, 77.2270,-161.8393, 1510,    103.1,  -1.3871,  32.7820,2,  32.8067,2,    272.6,2,    272.9,2,    35.50,2,    15.30,2,     0.02,2,     1.95,2,    6.085,2,    3.161,2,    0.466,2,    -1.54,2,    69.50,2,  -1.3892
  32PZ20020819,   CBL,    88,  1,     17,     17,2,20020912,1818, 77.2270,-161.8393, 1510,    119.0,  -1.5303,  32.9994,2,  33.0431,2,    274.4,2,    272.0,2,    37.00,2,    15.70,2,     0.02,2,     1.94,2,    5.828,2,    3.001,2,    0.441,2,  -999.00,9,  -999.00,9,  -1.5327
  32PZ20020819,   CBL,    88,  1,     16,     16,2,20020912,1818, 77.2270,-161.8393, 1510,    135.2,  -1.5280,  33.2843,2,  33.2888,2,    268.2,2,    265.5,2,    40.00,2,    16.30,2,     0.02,2,     1.98,2,    5.943,2,    3.072,2,    0.432,2,    -1.49,2,    70.80,2,  -1.5308
  32PZ20020819,   CBL,    88,  1,     15,     15,2,20020912,1818, 77.2270,-161.8393, 1510,    154.1,  -1.2989,  33.6649,2,  33.6984,2,    252.4,2,    249.3,2,    37.70,2,    16.20,2,     0.01,2,     1.83,2,    5.469,2,    2.746,2,    0.382,2,  -999.00,9,  -999.00,9,  -1.3025
  32PZ20020819,   CBL,    88,  1,     14,     14,2,20020912,1818, 77.2270,-161.8393, 1510,    175.4,  -0.9235,  34.1809,2,  34.1945,2,    244.5,2,    248.5,2,    24.80,2,    14.10,2,     0.01,2,     1.34,2,    5.429,2,    2.559,2,    0.314,2,    -0.29,2,    55.20,2,  -0.9284
  32PZ20020819,   CBL,    88,  1,     13,     13,2,20020912,1818, 77.2270,-161.8393, 1510,    216.4,  -0.1967,  34.4942,2,  34.4902,2,    270.8,2,    275.0,2,    12.10,2,    12.20,2,     0.01,2,     0.95,2,    5.750,2,    2.625,2,    0.345,2,  -999.00,9,  -999.00,9,  -0.2043
  32PZ20020819,   CBL,    88,  1,     12,     12,2,20020912,1818, 77.2270,-161.8393, 1510,    279.3,   0.7841,  34.7594,2,  34.7623,2,    288.9,2,    289.9,2,     7.50,2,    12.70,2,     0.01,2,     0.88,2,    5.426,2,    2.507,2,    0.339,2,  -999.00,9,  -999.00,9,   0.7717
  32PZ20020819,   CBL,    88,  1,     11,     11,2,20020912,1818, 77.2270,-161.8393, 1510,    309.2,   0.9004,  34.7934,2,  34.7957,2,    293.2,2,    292.0,2,     7.00,2,    12.70,2,     0.01,2,     0.87,2,    5.340,2,    2.493,2,    0.338,2,  -999.00,9,  -999.00,9,   0.8862
  32PZ20020819,   CBL,    88,  1,     10,     10,2,20020912,1818, 77.2270,-161.8393, 1510,    341.8,   1.0217,  34.8272,2,  34.8279,2,    294.8,2,    295.0,2,     6.90,2,    12.70,2,     0.01,2,     0.87,2,    5.267,2,    2.464,2,    0.332,2,  -999.00,9,  -999.00,9,   1.0056
  32PZ20020819,   CBL,    88,  1,      9,      9,2,20020912,1818, 77.2270,-161.8393, 1510,    370.0,   1.0321,  34.8374,2,  34.8385,2,    295.6,2,    295.6,2,     6.90,2,    12.80,2,     0.01,2,     0.87,2,    5.199,2,    2.467,2,    0.323,2,     0.25,2,    41.40,2,   1.0145
  32PZ20020819,   CBL,    88,  1,      8,      8,2,20020912,1818, 77.2270,-161.8393, 1510,    392.4,   0.9835,  34.8404,2,  34.8405,2,    296.2,2,    295.6,2,     6.90,2,    12.60,2,     0.01,2,     0.88,2,    5.211,2,    2.426,2,    0.325,2,  -999.00,9,  -999.00,9,   0.9649
  32PZ20020819,   CBL,    88,  1,      7,      7,2,20020912,1818, 77.2270,-161.8393, 1510,    467.1,   0.8138,  34.8526,2,  34.8535,2,    297.1,2,    297.3,2,     7.00,2,    12.60,2,     0.01,2,     0.88,2,    4.975,6,    2.343,6,    0.309,6,  -999.00,9,  -999.00,9,   0.7921
  32PZ20020819,   CBL,    88,  1,      6,      6,2,20020912,1818, 77.2270,-161.8393, 1510,    575.9,   0.5368,  34.8569,2,  34.8576,2,    298.5,2,    300.1,2,     7.20,2,    12.80,2,     0.01,2,     0.88,2,    4.758,2,    2.227,2,    0.300,2,  -999.00,9,  -999.00,9,   0.5108
  32PZ20020819,   CBL,    88,  1,      5,      5,2,20020912,1818, 77.2270,-161.8393, 1510,    718.2,   0.2442,  34.8637,2,  34.8643,2,    300.9,2,    301.0,2,     7.10,2,    12.80,2,     0.01,2,     0.89,2,    4.035,2,    1.907,2,    0.223,2,     0.24,2,    44.50,2,   0.2125
  32PZ20020819,   CBL,    88,  1,      4,      4,2,20020912,1818, 77.2270,-161.8393, 1510,    906.3,   0.0563,  34.8739,2,  34.8745,2,    301.3,2,    300.8,2,     7.40,2,    12.90,2,     0.01,2,     0.90,2,    3.482,2,    1.634,2,    0.192,2,  -999.00,9,  -999.00,9,   0.0162
  32PZ20020819,   CBL,    88,  1,      3,      3,2,20020912,1818, 77.2270,-161.8393, 1510,   1096.1,  -0.1074,  34.8896,2,  34.8898,2,    299.5,2,    299.6,2,     8.10,2,    13.20,2,     0.01,2,     0.92,2,    2.474,2,    1.145,2,    0.121,2,  -999.00,9,  -999.00,9,  -0.1563
  32PZ20020819,   CBL,    88,  1,      2,      2,2,20020912,1818, 77.2270,-161.8393, 1510,   1241.8,  -0.1938,  34.8997,2,  34.8995,2,    298.6,2,    298.9,2,     8.50,2,    13.40,2,     0.01,2,     0.93,2,    1.947,2,    0.924,2,    0.125,2,  -999.00,9,  -999.00,9,  -0.2499
  32PZ20020819,   CBL,    88,  1,      1,      1,2,20020912,1818, 77.2270,-161.8393, 1510,   1394.1,  -0.2669,  34.9092,2,  34.9101,2,    298.3,2,    298.1,2,     9.10,2,    13.60,2,     0.01,2,     0.95,2,    1.464,2,    0.685,2,    0.061,2,  -999.00,9,  -999.00,9,  -0.3310