BOTTLE,20220815CCHSIOAMB
# Changed BARIUM units from UM/KG to NMOL/KG
#BOTTLE,20140114SIOCCHRJL
# Changed SILCAT data initialized - changed flag 5 to flag 2 per Bob Key email 12/2014
# Changed SALNTY empty data values from flag 2 to flag 9
# Changed DELO18 units from '0/00' to '/MILLE'
# BOTTLE,20120815PRINUNIVRMK
# 6/8/10 Initialized README file  
# Data source: CCHDO 
# SHIP: USCG Polar Star 
# Cruise:CBL 2002 (AWS-02-II) 
# Region: Chukchi Sea 
# EXPOCODE: 32PZ20020819 
# DATES: 8/19 - 9/23/2002 
# Chief Scientist: R. Woodgate 
# 126 stations with 24 place Rosette 
# Hydro: Who - CCHDO; Status - final  
# 	Notes: 	 
# Nuts/O2: Who - CCHDO; Status - final  
# 	Notes: 
# CFC: Who - W. Smethie; Status - final  
# 	Notes: includes CFC-113 
# H3/He3: Who - P. Schlosser; Status - no data 
# Other: LADCP, Ba, I-129 
# 	Notes: Barium data erors corrected in this version 
# References: 
# Woodgate, R.A., K.Aagaard, J.H.Swift, W.M.Smethie, K.K.Falkner, 2007, Atlantic Water Circulation over the Mendeleev Ridge and Chukchi Borderland from Thermohaline Intrusions and Water Mass Properties, J. Geophys. Res., 112, C02005, doi:10.1029/2005JC003416. 
# Woodgate, R.A., K.Aagaard, J.H.Swift, K.K.Falkner, W.M.Smethie, 2005, Pacific Ventilation of the Arctic Ocean’s lower halocline by upwelling and diapycnal mixing over the continental margin, Geophysical Research Letters, 32, L18609, doi:10.1029/2005GL023999. 
# Falkner, K.K., M.Steele, R.A.Woodgate, J.Swift, K.Aagaard, J.Morison, 2005, Dissolved oxygen extrema in the Arctic ocean halocline from the North Pole to the Lincoln Sea, Deep-Sea Res. I, 52 (7), 1138--1154. 
# Previous 
# BOTTLE,20100624CCHDOSIOdm 
# Parameter name O18/O16 changed to DELO18. 
# EXPOCODE changed from 32PZAWS02.2 to 32PZ20020819. 
# CBL2002 pubs: 
# Woodgate, R.A., K.Aagaard, J.H.Swift, W.M.Smethie, K.K.Falkner, 2007, 
#  Atlantic Water Circulation over the Mendeleev Ridge and Chukchi  
#  Borderland from Thermohaline Intrusions and Water Mass Properties, J.  
#  Geophys. Res., 112, C02005, doi:10.1029/2005JC003416. 
# Woodgate, R.A., K.Aagaard, J.H.Swift, K.K.Falkner, W.M.Smethie, 2005,  
#  Pacific Ventilation of the Arctic Ocean's lower halocline by upwelling  
#  and diapycnal mixing over the continental margin, Geophysical Research  
#  Letters, 32, L18609, doi:10.1029/2005GL023999. 
# Falkner, K.K., M.Steele, R.A.Woodgate, J.Swift, K.Aagaard, J.Morison,  
#  2005, Dissolved oxygen extrema in the Arctic ocean halocline from the  
#  North Pole to the Lincoln Sea, Deep-Sea Res. I, 52 (7), 1138--1154 
# BOTTLE,20040309WHPSIOdm 
# CFC data from Hoyle Lee, LDEO, email, Mar 8, 2004. 
# Barium and O18/O16 data from file CBL_Ba_18O_data.txt received from Jim Swift on Jan 21, 2004 
# Nutrients from shipboard data. 
# Deep high nitrites (>100db & >0.02) have been flagged "3". Will be rechecked later. 
# HYD and SUM files from ODF data as of Jan 21, 2004. 
# code : jjward hyd_to_exchange.pl  
# original files copied from HTML directory: 20040309 
# original HYD file: cbl02hy.txt   Tue Mar  9 12:23:27 2004 
# original SUM file: cbl02su.txt   Thu Jan 29 07:13:10 2004 
EXPOCODE,SECT_ID,STNNBR,CASTNO,SAMPNO,BTLNBR,BTLNBR_FLAG_W,DATE,TIME,LATITUDE,LONGITUDE,DEPTH,CTDPRS,CTDTMP,CTDSAL,CTDSAL_FLAG_W,SALNTY,SALNTY_FLAG_W,CTDOXY,CTDOXY_FLAG_W,OXYGEN,OXYGEN_FLAG_W,SILCAT,SILCAT_FLAG_W,NITRAT,NITRAT_FLAG_W,NITRIT,NITRIT_FLAG_W,PHSPHT,PHSPHT_FLAG_W,CFC-11,CFC-11_FLAG_W,CFC-12,CFC-12_FLAG_W,CFC113,CFC113_FLAG_W,DELO18,DELO18_FLAG_W,BARIUM,BARIUM_FLAG_W,THETA
,,,,,,,,,,,METERS,DBAR,ITS-90,PSS-78,,PSS-78,,UMOL/KG,,UMOL/KG,,UMOL/KG,,UMOL/KG,,UMOL/KG,,UMOL/KG,,PMOL/KG,,PMOL/KG,,PMOL/KG,,/MILLE,,NMOL/KG,,DEG C
  32PZ20020819,   CBL,     1,  1,     18,     18,2,20020822,2223, 75.5953,-167.7633,  186,      1.3,  -1.4134,  27.7022,2,  27.7028,2,    385.3,2,    377.8,2,     5.40,2,     0.00,2,     0.00,2,     0.66,2,    7.324,2,    3.809,2,    0.671,2,    -3.29,2,    69.10,2,  -1.4134
  32PZ20020819,   CBL,     1,  1,     17,     17,2,20020822,2223, 75.5953,-167.7633,  186,      9.7,  -1.3716,  27.7029,2,  27.7142,2,    379.2,2,    377.8,2,     5.40,2,     0.00,2,     0.00,2,     0.66,2,    7.538,6,    4.028,6,    0.696,6,    -3.22,2,    67.70,2,  -1.3717
  32PZ20020819,   CBL,     1,  1,     16,     16,2,20020822,2223, 75.5953,-167.7633,  186,     24.2,  -1.0589,  29.3588,2,  30.1751,2,    386.0,2,    385.8,2,     7.30,2,     0.10,2,     0.01,2,     0.74,2,    7.210,2,    3.725,2,    0.649,2,  -999.00,9,  -999.00,9,  -1.0593
  32PZ20020819,   CBL,     1,  1,     15,     15,2,20020822,2223, 75.5953,-167.7633,  186,     39.0,  -0.4100,  31.1141,2,  31.1425,2,    372.0,2,    350.5,2,     9.30,2,     2.60,2,     0.17,2,     0.98,2,    6.755,2,    3.432,2,    0.562,2,    -2.16,2,    60.80,2,  -0.4110
  32PZ20020819,   CBL,     1,  1,     14,     14,2,20020822,2223, 75.5953,-167.7633,  186,     53.4,  -0.8968,  31.9072,2,  31.9673,2,    348.0,2,    322.6,2,    17.50,2,     7.20,2,     0.01,2,     1.33,2,    6.542,2,    3.406,2,    0.527,2,    -1.91,2,    62.50,2,  -0.8980
  32PZ20020819,   CBL,     1,  1,     13,     13,2,20020822,2223, 75.5953,-167.7633,  186,     68.3,  -1.0127,  32.3003,2,  32.3332,2,    315.9,2,    296.4,2,    25.30,2,    10.70,2,     0.00,2,     1.60,2,    6.276,2,    3.249,2,    0.487,2,    -1.82,2,    64.40,2,  -1.0142
  32PZ20020819,   CBL,     1,  1,     11,     11,2,20020822,2223, 75.5953,-167.7633,  186,     88.0,  -1.0315,  32.5779,2,  32.6024,2,    286.9,2,    282.3,2,    30.60,2,    13.10,2,     0.00,2,     1.79,2,    6.033,2,    3.141,2,    0.457,2,  -999.00,9,  -999.00,9,  -1.0335
  32PZ20020819,   CBL,     1,  1,     12,     12,2,20020822,2223, 75.5953,-167.7633,  186,     88.0,  -1.0315,  32.5781,2,  32.6047,2,    286.8,2,    281.4,2,  -999.00,9,  -999.00,9,  -999.00,9,  -999.00,9, -999.000,9, -999.000,9, -999.000,9,  -999.00,9,  -999.00,9,  -1.0335
  32PZ20020819,   CBL,     1,  1,      9,      9,2,20020822,2223, 75.5953,-167.7633,  186,    108.0,  -1.3528,  32.7978,2,  32.8314,2,    279.9,2,    284.1,2,    34.50,2,    14.30,2,     0.00,2,     1.87,2,    6.009,2,    3.103,2,    0.457,2,    -1.59,2,    63.40,2,  -1.3551
  32PZ20020819,   CBL,     1,  1,     10,     10,2,20020822,2223, 75.5953,-167.7633,  186,    108.0,  -1.3526,  32.7980,2,  32.8152,2,    279.8,2,    283.0,2,  -999.00,9,  -999.00,9,  -999.00,9,  -999.00,9, -999.000,9, -999.000,9, -999.000,9,  -999.00,9,  -999.00,9,  -1.3549
  32PZ20020819,   CBL,     1,  1,      7,      7,2,20020822,2223, 75.5953,-167.7633,  186,    127.6,  -1.5066,  33.0866,2,  33.1308,2,    286.2,2,    285.2,2,    34.80,2,    14.60,2,     0.00,2,     1.82,2,    5.575,2,    2.960,2,    0.403,2,    -1.54,2,    67.30,2,  -1.5092
  32PZ20020819,   CBL,     1,  1,      8,      8,2,20020822,2223, 75.5953,-167.7633,  186,    127.6,  -1.5068,  33.0841,2,  33.1254,2,    286.8,2,    285.2,3,  -999.00,9,  -999.00,9,  -999.00,9,  -999.00,9, -999.000,9, -999.000,9, -999.000,9,  -999.00,9,  -999.00,9,  -1.5094
  32PZ20020819,   CBL,     1,  1,      5,      5,2,20020822,2223, 75.5953,-167.7633,  186,    147.4,  -1.3616,  33.5027,2,  33.5368,2,    277.5,2,    275.1,2,    34.90,2,    15.20,2,     0.00,2,     1.77,2,    5.324,2,    2.795,2,    0.358,2,    -1.22,2,    61.80,2,  -1.3649
  32PZ20020819,   CBL,     1,  1,      6,      6,2,20020822,2223, 75.5953,-167.7633,  186,    147.4,  -1.3629,  33.4994,2,  33.5535,2,    277.4,2,    274.6,2,  -999.00,9,  -999.00,9,  -999.00,9,  -999.00,9, -999.000,9, -999.000,9, -999.000,9,  -999.00,9,  -999.00,9,  -1.3662
  32PZ20020819,   CBL,     1,  1,      3,      3,2,20020822,2223, 75.5953,-167.7633,  186,    167.0,  -0.8976,  33.9683,2,  33.9775,2,    266.9,2,    267.4,2,    29.30,2,    14.60,2,     0.01,2,     1.53,2,    4.982,2,    2.668,2,    0.317,2,    -0.70,2,    55.40,2,  -0.9022
  32PZ20020819,   CBL,     1,  1,      4,      4,2,20020822,2223, 75.5953,-167.7633,  186,    167.0,  -0.8966,  33.9669,2,  33.9773,2,    266.8,2,    266.8,2,  -999.00,9,  -999.00,9,  -999.00,9,  -999.00,9,    5.088,2,    2.557,2,    0.316,2,  -999.00,9,  -999.00,9,  -0.9012
  32PZ20020819,   CBL,     1,  1,      1,      1,2,20020822,2223, 75.5953,-167.7633,  186,    180.1,  -0.6239,  34.1776,2,  34.1589,2,    260.1,2,    260.5,2,    28.10,2,    14.50,2,     0.01,2,     1.43,2,    4.919,2,    2.527,2,    0.299,2,    -0.49,2,    48.80,2,  -0.6294
  32PZ20020819,   CBL,     1,  1,      2,      2,2,20020822,2223, 75.5953,-167.7633,  186,    180.1,  -0.6119,  34.1835,2,  34.1599,2,    260.0,2,    260.4,2,  -999.00,9,  -999.00,9,  -999.00,9,  -999.00,9, -999.000,9, -999.000,9, -999.000,9,  -999.00,9,  -999.00,9,  -0.6174
  32PZ20020819,   CBL,     2,  1,     20,     20,2,20020823,0652, 75.9478,-168.5283,  395,      0.8,  -1.3882,  27.9156,2,  27.9131,2,    375.6,2,    378.2,2,     5.80,2,     0.00,2,     0.00,2,     0.66,2, -999.000,9, -999.000,9, -999.000,9,  -999.00,9,  -999.00,9,  -1.3882
  32PZ20020819,   CBL,     2,  1,     19,     19,2,20020823,0652, 75.9478,-168.5283,  395,      4.9,  -1.3888,  27.9210,2,  27.9207,2,    377.5,2,    378.2,2,     5.90,2,     0.00,2,     0.00,2,     0.65,2,    7.312,2,    3.895,2,    0.661,2,    -3.17,2,    67.70,2,  -1.3888
  32PZ20020819,   CBL,     2,  1,     18,     18,2,20020823,0652, 75.9478,-168.5283,  395,     19.7,  -1.4552,  27.9271,2,  28.0622,2,    379.9,2,    379.4,2,     5.90,2,     0.00,2,     0.00,2,     0.66,2,    7.279,2,    3.883,2,    0.668,2,    -3.07,2,    68.10,2,  -1.4554
  32PZ20020819,   CBL,     2,  1,     17,     17,2,20020823,0652, 75.9478,-168.5283,  395,     34.7,  -0.6219,  31.1432,2,  31.2838,2,    375.8,2,    344.5,2,    10.50,2,     3.30,2,     0.13,2,     1.02,2, -999.000,9, -999.000,9, -999.000,9,  -999.00,9,  -999.00,9,  -0.6227
  32PZ20020819,   CBL,     2,  1,     16,     16,2,20020823,0652, 75.9478,-168.5283,  395,     49.4,  -0.8195,  31.7958,2,  31.8199,2,    345.8,2,    327.5,2,    16.30,2,     6.10,2,     0.03,2,     1.26,2,    6.523,2,    3.461,2,    0.537,2,    -1.93,2,    61.20,2,  -0.8206
  32PZ20020819,   CBL,     2,  1,     15,     15,2,20020823,0652, 75.9478,-168.5283,  395,     64.4,  -1.0339,  32.1612,2,  32.1979,2,    318.5,2,    307.0,2,    22.20,2,     9.00,2,     0.00,2,     1.48,2,    6.347,2,    3.373,2,    0.508,2,    -1.84,2,    63.30,2,  -1.0353
  32PZ20020819,   CBL,     2,  1,     14,     14,2,20020823,0652, 75.9478,-168.5283,  395,     74.4,  -1.2252,  32.3474,2,  32.3720,2,    305.6,2,    305.1,2,    25.30,2,    10.80,2,     0.00,2,     1.59,2,    6.113,2,    3.153,2,    0.441,2,  -999.00,9,  -999.00,9,  -1.2268
  32PZ20020819,   CBL,     2,  1,     13,     13,2,20020823,0652, 75.9478,-168.5283,  395,     88.5,  -1.4347,  32.5259,2,  32.5529,2,    298.3,2,    295.7,2,    30.90,2,    12.20,2,     0.00,2,     1.70,2,    6.117,2,    3.106,2,    0.449,2,    -1.70,2,    67.60,2,  -1.4364
  32PZ20020819,   CBL,     2,  1,     12,     12,2,20020823,0652, 75.9478,-168.5283,  395,    103.7,  -1.1568,  32.7193,2,  32.7289,2,    289.7,2,    281.6,2,    33.00,2,    14.10,2,     0.00,2,     1.87,2,    6.017,2,    3.064,2,    0.446,2,  -999.00,9,  -999.00,9,  -1.1591
  32PZ20020819,   CBL,     2,  1,     11,     11,2,20020823,0652, 75.9478,-168.5283,  395,    118.5,  -1.5112,  32.8404,2,  32.8679,2,    285.5,2,    290.7,2,    33.50,2,    14.20,2,     0.00,2,     1.81,2,    5.566,2,    3.086,2,    0.417,2,  -999.00,9,  -999.00,9,  -1.5135
  32PZ20020819,   CBL,     2,  1,     10,     10,2,20020823,0652, 75.9478,-168.5283,  395,    133.2,  -1.5441,  33.0025,2,  33.0168,2,    283.3,2,    289.9,2,    34.20,2,    14.60,2,     0.00,2,     1.81,2,    5.549,2,    2.765,2,    0.367,2,    -1.64,2,    66.20,2,  -1.5468
  32PZ20020819,   CBL,     2,  1,      9,      9,2,20020823,0652, 75.9478,-168.5283,  395,    148.4,  -1.5143,  33.2339,2,  33.2881,2,    281.6,2,    278.2,2,    37.00,2,    15.30,2,     0.00,2,     1.86,2,    5.740,2,    2.932,2,    0.397,2,  -999.00,9,  -999.00,9,  -1.5174
  32PZ20020819,   CBL,     2,  1,      8,      8,2,20020823,0652, 75.9478,-168.5283,  395,    163.0,  -1.3180,  33.5910,2,  33.6736,2,    266.4,2,    270.0,2,    36.00,2,    15.50,2,     0.00,2,     1.74,2,    5.203,2,    2.707,2,    0.351,2,    -1.16,2,    62.30,2,  -1.3218
  32PZ20020819,   CBL,     2,  1,      7,      7,2,20020823,0652, 75.9478,-168.5283,  395,    192.6,  -0.5188,  34.2582,2,  34.2893,2,    261.0,2,    256.8,2,    25.80,2,    14.40,2,     0.00,2,     1.35,2,    4.913,2,    2.470,2,    0.279,2,  -999.00,9,  -999.00,9,  -0.5249
  32PZ20020819,   CBL,     2,  1,      6,      6,2,20020823,0652, 75.9478,-168.5283,  395,    222.9,  -0.0154,  34.5213,2,  34.5228,2,    244.5,2,    238.6,2,    27.10,2,    14.50,2,     0.00,2,     1.29,2,    5.006,2,    2.396,2,    0.270,2,  -999.00,9,  -999.00,9,  -0.0236
  32PZ20020819,   CBL,     2,  1,      5,      5,2,20020823,0652, 75.9478,-168.5283,  395,    251.8,   0.3506,  34.6410,2,  34.6564,2,    238.3,2,    244.0,2,    25.10,2,    14.40,2,     0.00,2,     1.21,2,    5.202,6,    2.566,6,    0.294,6,     0.18,2,    47.00,2,   0.3404
  32PZ20020819,   CBL,     2,  1,      4,      4,2,20020823,0652, 75.9478,-168.5283,  395,    281.6,   0.8032,  34.7649,2,  34.7666,2,    266.3,2,    269.1,2,    16.10,2,    13.60,2,     0.01,2,     1.01,2,    5.370,2,    2.563,2,    0.329,2,  -999.00,9,  -999.00,9,   0.7906
  32PZ20020819,   CBL,     2,  1,      3,      3,2,20020823,0652, 75.9478,-168.5283,  395,    311.1,   0.9303,  34.8105,2,  34.8559,3,    280.3,2,    280.4,2,    13.20,2,    13.40,2,     0.01,2,     0.97,2,    5.343,2,    2.664,2,    0.332,2,     0.23,2,    40.50,2,   0.9160
  32PZ20020819,   CBL,     2,  1,      2,      2,2,20020823,0652, 75.9478,-168.5283,  395,    341.1,   0.8694,  34.8432,2,  34.8428,2,    289.4,2,    289.7,2,    11.00,2,    13.20,2,     0.01,2,     0.93,2,    5.166,2,    2.421,2,    0.318,2,  -999.00,9,  -999.00,9,   0.8537
  32PZ20020819,   CBL,     2,  1,      1,      1,2,20020823,0652, 75.9478,-168.5283,  395,    380.4,   0.7923,  34.8516,2,  34.8505,2,    292.0,2,    291.8,2,    10.50,2,    13.10,2,     0.02,2,     0.92,2,    5.154,2,    2.490,2,    0.319,2,     0.25,2,    40.70,2,   0.7750