BOTTLE,20220815CCHSIOAMB
EXPOCODE,SECT_ID,STNNBR,CASTNO,SAMPNO,BTLNBR,BTLNBR_FLAG_W,DATE,TIME,LATITUDE,LONGITUDE,DEPTH,CTDPRS,CTDTMP,CTDSAL,CTDSAL_FLAG_W,SALNTY,SALNTY_FLAG_W,CTDOXY,CTDOXY_FLAG_W,OXYGEN,OXYGEN_FLAG_W,SILCAT,SILCAT_FLAG_W,NITRAT,NITRAT_FLAG_W,NITRIT,NITRIT_FLAG_W,PHSPHT,PHSPHT_FLAG_W,CFC-11,CFC-11_FLAG_W,CFC-12,CFC-12_FLAG_W,CFC113,CFC113_FLAG_W,DELO18,DELO18_FLAG_W,BARIUM,BARIUM_FLAG_W,THETA
,,,,,,,,,,,METERS,DBAR,ITS-90,PSS-78,,PSS-78,,UMOL/KG,,UMOL/KG,,UMOL/KG,,UMOL/KG,,UMOL/KG,,UMOL/KG,,PMOL/KG,,PMOL/KG,,PMOL/KG,,/MILLE,,NMOL/KG,,DEG C
  32PZ20020819,   CBL,   126,  1,     26,     26,2,20020921,0346, 75.8802,-171.1608, 1785,     12.3,  -1.5139,  28.0425,2,  28.0644,2,    376.5,2,    379.2,2,  -999.00,9,  -999.00,9,  -999.00,9,  -999.00,9,    7.555,2,    3.975,2,    0.750,2,    -2.79,2,    68.20,2,  -1.5140
  32PZ20020819,   CBL,   126,  1,     25,     25,2,20020921,0346, 75.8802,-171.1608, 1785,     26.3,  -1.1092,  30.2935,2,  30.2771,2,    385.6,2,    374.3,2,  -999.00,9,  -999.00,9,  -999.00,9,  -999.00,9,    6.953,2,    3.592,2,    0.661,2,    -2.30,2,    66.40,2,  -1.1097
  32PZ20020819,   CBL,   126,  1,     24,     24,2,20020921,0346, 75.8802,-171.1608, 1785,     36.1,  -0.9716,  31.4452,2,  31.4766,2,    355.6,2,   -999.0,9,  -999.00,9,  -999.00,9,  -999.00,9,  -999.00,9,    6.729,2,    3.502,2,    0.613,2,    -1.90,2,    60.90,2,  -0.9724
  32PZ20020819,   CBL,   126,  1,     23,     23,2,20020921,0346, 75.8802,-171.1608, 1785,     54.3,  -1.2346,  32.0557,2,  32.0578,2,    309.7,2,   -999.0,9,  -999.00,9,  -999.00,9,  -999.00,9,  -999.00,9,    6.558,2,    3.398,2,    0.594,2,    -1.50,2,    68.10,2,  -1.2357
  32PZ20020819,   CBL,   126,  1,     22,     22,2,20020921,0346, 75.8802,-171.1608, 1785,     65.9,  -1.0164,  32.2937,2,  32.2936,2,    304.5,2,    293.6,2,  -999.00,9,  -999.00,9,  -999.00,9,  -999.00,9,    6.471,2,    3.390,2,    0.563,2,    -1.53,2,    69.10,2,  -1.0179
  32PZ20020819,   CBL,   126,  1,     21,     21,2,20020921,0346, 75.8802,-171.1608, 1785,     85.4,  -0.9539,  32.6266,2,  32.6256,2,    275.9,2,   -999.0,9,  -999.00,9,  -999.00,9,  -999.00,9,  -999.00,9,    6.181,6,    3.244,6,    0.498,6,    -1.45,2,    68.50,2,  -0.9559
  32PZ20020819,   CBL,   126,  1,     20,     20,2,20020921,0346, 75.8802,-171.1608, 1785,    101.4,  -1.2323,  32.7930,2,  32.7954,2,    264.5,2,    263.4,2,  -999.00,9,  -999.00,9,  -999.00,9,  -999.00,9,    6.093,2,    3.243,2,    0.507,2,    -1.38,2,    70.50,2,  -1.2345
  32PZ20020819,   CBL,   126,  1,     19,     19,2,20020921,0346, 75.8802,-171.1608, 1785,    125.0,  -1.5407,  33.1237,2,  33.1127,2,    274.7,2,    273.1,2,  -999.00,9,  -999.00,9,  -999.00,9,  -999.00,9,    5.867,2,    3.015,2,    0.444,2,    -1.53,2,    72.80,2,  -1.5432
  32PZ20020819,   CBL,   126,  1,     18,     18,2,20020921,0346, 75.8802,-171.1608, 1785,    170.9,  -0.7169,  34.2797,2,  34.2835,2,    236.9,2,    243.1,2,  -999.00,9,  -999.00,9,  -999.00,9,  -999.00,9,    5.489,2,    2.616,2,    0.329,2,    -0.25,2,    50.60,2,  -0.7220
  32PZ20020819,   CBL,   126,  1,     17,     17,2,20020921,0346, 75.8802,-171.1608, 1785,    240.7,   0.5374,  34.6712,2,-999.0000,9,    285.3,2,   -999.0,9,  -999.00,9,  -999.00,9,  -999.00,9,  -999.00,9,    5.628,2,    2.694,2,    0.371,2,  -999.00,9,  -999.00,9,   0.5273
  32PZ20020819,   CBL,   126,  1,     16,     16,2,20020921,0346, 75.8802,-171.1608, 1785,    302.9,   0.9895,  34.7982,2,-999.0000,9,    294.3,2,    294.1,2,  -999.00,9,  -999.00,9,  -999.00,9,  -999.00,9,    5.437,2,    2.549,2,    0.369,2,  -999.00,9,  -999.00,9,   0.9754
  32PZ20020819,   CBL,   126,  1,     15,     15,2,20020921,0346, 75.8802,-171.1608, 1785,    386.0,   1.1352,  34.8476,2,-999.0000,9,    297.6,2,   -999.0,9,  -999.00,9,  -999.00,9,  -999.00,9,  -999.00,9,    5.342,2,    2.498,2,    0.351,2,  -999.00,9,  -999.00,9,   1.1165
  32PZ20020819,   CBL,   126,  1,     14,     14,2,20020921,0346, 75.8802,-171.1608, 1785,    431.4,   1.0434,  34.8545,2,-999.0000,9,    297.6,2,   -999.0,9,  -999.00,9,  -999.00,9,  -999.00,9,  -999.00,9,    5.189,2,    2.494,2,    0.355,2,  -999.00,9,  -999.00,9,   1.0226
  32PZ20020819,   CBL,   126,  1,     13,     13,2,20020921,0346, 75.8802,-171.1608, 1785,    506.4,   0.8403,  34.8574,2,-999.0000,9,    300.1,2,   -999.0,9,  -999.00,9,  -999.00,9,  -999.00,9,  -999.00,9,    5.227,2,    2.375,2,    0.350,2,  -999.00,9,  -999.00,9,   0.8164
  32PZ20020819,   CBL,   126,  1,     12,     12,2,20020921,0346, 75.8802,-171.1608, 1785,    603.5,   0.5881,  34.8582,2,  34.8578,2,    301.9,2,    302.0,2,  -999.00,9,  -999.00,9,  -999.00,9,  -999.00,9,    5.077,2,    2.338,2,    0.330,2,     0.14,2,    43.10,2,   0.5604
  32PZ20020819,   CBL,   126,  1,     11,     11,2,20020921,0346, 75.8802,-171.1608, 1785,    694.5,   0.3773,  34.8587,2,-999.0000,9,    302.5,2,   -999.0,9,  -999.00,9,  -999.00,9,  -999.00,9,  -999.00,9,    4.862,6,    2.213,6,    0.304,6,  -999.00,9,  -999.00,9,   0.3461
  32PZ20020819,   CBL,   126,  1,     10,     10,2,20020921,0346, 75.8802,-171.1608, 1785,    793.7,   0.1918,  34.8605,2,-999.0000,9,    304.0,2,   -999.0,9,  -999.00,9,  -999.00,9,  -999.00,9,  -999.00,9,    4.925,2,    2.222,2,    0.310,2,  -999.00,9,  -999.00,9,   0.1566
  32PZ20020819,   CBL,   126,  1,      9,      9,2,20020921,0346, 75.8802,-171.1608, 1785,    981.9,  -0.0399,  34.8703,2,  34.8690,2,    304.4,2,    304.3,2,  -999.00,9,  -999.00,9,  -999.00,9,  -999.00,9,    4.447,2,    2.086,2,    0.272,2,     0.36,2,    46.00,2,  -0.0832
  32PZ20020819,   CBL,   126,  1,      8,      8,2,20020921,0346, 75.8802,-171.1608, 1785,   1109.6,  -0.1397,  34.8786,2,-999.0000,9,    304.1,2,   -999.0,9,  -999.00,9,  -999.00,9,  -999.00,9,  -999.00,9,    4.171,2,    1.916,2,    0.249,2,  -999.00,9,  -999.00,9,  -0.1890
  32PZ20020819,   CBL,   126,  1,      7,      7,2,20020921,0346, 75.8802,-171.1608, 1785,   1212.2,  -0.2192,  34.8865,2,-999.0000,9,    303.3,2,   -999.0,9,  -999.00,9,  -999.00,9,  -999.00,9,  -999.00,9, -999.000,9, -999.000,9, -999.000,9,  -999.00,9,  -999.00,9,  -0.2734
  32PZ20020819,   CBL,   126,  1,      6,      6,2,20020921,0346, 75.8802,-171.1608, 1785,   1314.9,  -0.2901,  34.8938,2,-999.0000,9,    302.6,2,    302.4,2,  -999.00,9,  -999.00,9,  -999.00,9,  -999.00,9,    3.189,2,    1.451,2,    0.179,2,  -999.00,9,  -999.00,9,  -0.3493
  32PZ20020819,   CBL,   126,  1,      5,      5,2,20020921,0346, 75.8802,-171.1608, 1785,   1416.9,  -0.3493,  34.9000,2,-999.0000,9,    302.5,2,   -999.0,9,  -999.00,9,  -999.00,9,  -999.00,9,  -999.00,9,    2.851,2,    1.318,2,    0.165,2,  -999.00,9,  -999.00,9,  -0.4137
  32PZ20020819,   CBL,   126,  1,      4,      4,2,20020921,0346, 75.8802,-171.1608, 1785,   1518.6,  -0.4051,  34.9079,2,-999.0000,9,    300.9,2,   -999.0,9,  -999.00,9,  -999.00,9,  -999.00,9,  -999.00,9,    2.334,2,    1.066,2,    0.130,2,  -999.00,9,  -999.00,9,  -0.4749
  32PZ20020819,   CBL,   126,  1,      3,      3,2,20020921,0346, 75.8802,-171.1608, 1785,   1618.8,  -0.4241,  34.9171,2,-999.0000,9,    298.0,2,    297.3,2,  -999.00,9,  -999.00,9,  -999.00,9,  -999.00,9,    1.620,2,    0.740,2,    0.070,2,  -999.00,9,  -999.00,9,  -0.4997
  32PZ20020819,   CBL,   126,  1,      2,      2,2,20020921,0346, 75.8802,-171.1608, 1785,   1720.2,  -0.4309,  34.9363,2,-999.0000,9,    291.5,2,   -999.0,9,  -999.00,9,  -999.00,9,  -999.00,9,  -999.00,9,    0.594,2,    0.272,2,    0.013,2,  -999.00,9,  -999.00,9,  -0.5127
  32PZ20020819,   CBL,   126,  1,      1,      1,2,20020921,0346, 75.8802,-171.1608, 1785,   1778.8,  -0.4216,  34.9423,2,  34.9438,2,    286.5,2,    286.7,2,  -999.00,9,  -999.00,9,  -999.00,9,  -999.00,9,    0.424,2,    0.196,2,    0.003,2,  -999.00,9,  -999.00,9,  -0.5072