BOTTLE,20220815CCHSIOAMB
EXPOCODE,SECT_ID,STNNBR,CASTNO,SAMPNO,BTLNBR,BTLNBR_FLAG_W,DATE,TIME,LATITUDE,LONGITUDE,DEPTH,CTDPRS,CTDTMP,CTDSAL,CTDSAL_FLAG_W,SALNTY,SALNTY_FLAG_W,CTDOXY,CTDOXY_FLAG_W,OXYGEN,OXYGEN_FLAG_W,SILCAT,SILCAT_FLAG_W,NITRAT,NITRAT_FLAG_W,NITRIT,NITRIT_FLAG_W,PHSPHT,PHSPHT_FLAG_W,CFC-11,CFC-11_FLAG_W,CFC-12,CFC-12_FLAG_W,CFC113,CFC113_FLAG_W,DELO18,DELO18_FLAG_W,BARIUM,BARIUM_FLAG_W,THETA
,,,,,,,,,,,METERS,DBAR,ITS-90,PSS-78,,PSS-78,,UMOL/KG,,UMOL/KG,,UMOL/KG,,UMOL/KG,,UMOL/KG,,UMOL/KG,,PMOL/KG,,PMOL/KG,,PMOL/KG,,/MILLE,,NMOL/KG,,DEG C
  32PZ20020819,   CBL,   117,  1,     24,     24,2,20020919,2242, 75.4197,-162.2927, 1956,     14.1,  -1.0095,  27.4263,2,  27.4261,2,    374.2,2,    376.5,2,     3.70,2,     0.10,2,     0.00,2,     0.65,2,    7.513,2,    3.850,2,    0.753,2,    -3.46,2,    67.10,2,  -1.0097
  32PZ20020819,   CBL,   117,  1,     23,     23,2,20020919,2242, 75.4197,-162.2927, 1956,     32.9,   0.0292,  31.2855,2,  31.2584,2,    396.8,2,    395.9,2,     3.80,2,     0.10,2,     0.00,2,     0.83,2, -999.000,9, -999.000,9, -999.000,9,    -2.41,2,    64.30,2,   0.0282
  32PZ20020819,   CBL,   117,  1,     22,     22,2,20020919,2242, 75.4197,-162.2927, 1956,     59.4,  -1.0770,  32.1358,2,  32.1379,2,    340.0,2,    326.7,2,    18.10,2,     7.80,2,     0.09,2,     1.40,2,    6.353,2,    3.191,2,    0.512,2,    -2.07,2,    70.90,2,  -1.0783
  32PZ20020819,   CBL,   117,  1,     21,     21,2,20020919,2242, 75.4197,-162.2927, 1956,     85.0,  -1.3415,  32.4816,2,-999.0000,9,    306.9,2,    300.4,2,    27.10,2,    11.70,2,     0.09,2,     1.68,2, -999.000,9, -999.000,9, -999.000,9,  -999.00,9,  -999.00,9,  -1.3432
  32PZ20020819,   CBL,   117,  1,     20,     20,2,20020919,2242, 75.4197,-162.2927, 1956,    102.7,  -1.3113,  32.6577,2,  32.6599,2,    294.2,2,    289.0,2,    30.40,2,    13.30,2,     0.10,3,     1.80,2,    5.965,2,    2.950,2,    0.459,2,    -1.58,2,    72.70,2,  -1.3135
  32PZ20020819,   CBL,   117,  1,     19,     19,2,20020919,2242, 75.4197,-162.2927, 1956,    116.6,  -1.4521,  32.7703,2,  32.7604,2,    290.2,2,    287.0,2,    33.00,2,    14.10,2,     0.09,3,     1.86,2,    5.949,6,    2.983,6,    0.459,6,    -1.62,2,    72.70,2,  -1.4544
  32PZ20020819,   CBL,   117,  1,     18,     18,2,20020919,2242, 75.4197,-162.2927, 1956,    140.1,  -1.5491,  33.0064,2,  33.0112,2,    289.9,2,    288.2,2,    34.00,2,    14.50,2,     0.09,3,     1.85,2,    5.666,2,    2.799,2,    0.403,2,    -1.55,2,    70.20,2,  -1.5519
  32PZ20020819,   CBL,   117,  1,     17,     17,2,20020919,2242, 75.4197,-162.2927, 1956,    185.5,  -1.2108,  33.7978,2,  33.7926,2,    278.6,2,    273.0,2,    30.50,2,    14.90,2,     0.09,3,     1.64,2,    5.091,2,    2.506,2,    0.346,2,    -1.07,2,    62.20,2,  -1.2154
  32PZ20020819,   CBL,   117,  1,     16,     16,2,20020919,2242, 75.4197,-162.2927, 1956,    228.0,  -0.4044,  34.4402,2,  34.4497,2,    264.4,2,    264.2,2,    16.30,2,    12.80,2,     0.08,3,     1.08,2,    5.047,2,    2.379,2,    0.266,2,    -0.07,2,    45.70,2,  -0.4120
  32PZ20020819,   CBL,   117,  1,     15,     15,2,20020919,2242, 75.4197,-162.2927, 1956,    252.2,   0.0731,  34.5800,2,-999.0000,9,    268.0,2,    271.3,2,    13.10,2,    12.60,2,     0.07,3,     0.98,2,    5.163,2,    2.430,2,    0.283,2,  -999.00,9,  -999.00,9,   0.0635
  32PZ20020819,   CBL,   117,  1,     14,     14,2,20020919,2242, 75.4197,-162.2927, 1956,    286.4,   0.5025,  34.6989,2,-999.0000,9,    274.9,2,    281.2,2,    10.10,2,    12.60,2,     0.08,3,     0.92,2,    5.170,2,    2.482,2,    0.305,2,  -999.00,9,  -999.00,9,   0.4904
  32PZ20020819,   CBL,   117,  1,     13,     13,2,20020919,2242, 75.4197,-162.2927, 1956,    298.5,   0.7045,  34.7503,2,-999.0000,9,    275.8,2,    286.1,2,     8.80,2,    12.70,2,     0.08,3,     0.90,2, -999.000,9, -999.000,9, -999.000,9,  -999.00,9,  -999.00,9,   0.6914
  32PZ20020819,   CBL,   117,  1,     12,     12,2,20020919,2242, 75.4197,-162.2927, 1956,    317.8,   0.8829,  34.7833,2,-999.0000,9,    285.7,2,    287.3,2,     8.70,2,    12.70,2,     0.07,3,     0.90,2,    5.213,2,    2.515,2,    0.332,2,  -999.00,9,  -999.00,9,   0.8684
  32PZ20020819,   CBL,   117,  1,     11,     11,2,20020919,2242, 75.4197,-162.2927, 1956,    352.0,   0.8829,  34.8112,2,-999.0000,9,    292.8,2,    292.8,2,     7.40,2,    12.60,2,     0.08,3,     0.88,2,    5.205,6,    2.450,6,    0.327,6,  -999.00,9,  -999.00,9,   0.8667
  32PZ20020819,   CBL,   117,  1,     10,     10,2,20020919,2242, 75.4197,-162.2927, 1956,    376.3,   0.8763,  34.8159,2,  34.8174,2,    294.1,2,    294.1,2,     7.00,2,    12.60,2,     0.08,3,     0.88,2,    5.079,2,    2.400,2,    0.319,2,     0.13,2,    45.20,2,   0.8589
  32PZ20020819,   CBL,   117,  1,      9,      9,2,20020919,2242, 75.4197,-162.2927, 1956,    419.1,   0.8116,  34.8292,2,-999.0000,9,    295.9,2,    295.1,2,     7.20,2,    12.70,2,     0.07,3,     0.88,2,    4.802,2,    2.289,2,    0.268,2,  -999.00,9,  -999.00,9,   0.7923
  32PZ20020819,   CBL,   117,  1,      8,      8,2,20020919,2242, 75.4197,-162.2927, 1956,    523.7,   0.6332,  34.8470,2,  34.8481,2,    297.2,2,    296.7,2,     7.40,2,    12.70,2,     0.07,3,     0.88,2,    4.738,2,    2.245,2,    0.275,2,     0.23,2,    43.40,2,   0.6093
  32PZ20020819,   CBL,   117,  1,      7,      7,2,20020919,2242, 75.4197,-162.2927, 1956,    617.6,   0.4384,  34.8526,2,-999.0000,9,    298.2,2,    298.3,2,     7.40,2,    12.80,2,     0.07,3,     0.89,2,    4.380,2,    2.074,2,    0.235,2,  -999.00,9,  -999.00,9,   0.4107
  32PZ20020819,   CBL,   117,  1,      6,      6,2,20020919,2242, 75.4197,-162.2927, 1956,    874.1,   0.1713,  34.8659,2,  34.8674,2,    299.7,2,    299.8,2,     7.50,2,    12.80,2,     0.06,3,     0.90,2, -999.000,9, -999.000,9, -999.000,9,     0.37,2,    46.80,2,   0.1321
  32PZ20020819,   CBL,   117,  1,      5,      5,2,20020919,2242, 75.4197,-162.2927, 1956,   1015.0,   0.0321,  34.8778,2,-999.0000,9,    299.0,2,    299.3,2,     7.80,2,    13.00,2,     0.06,3,     0.91,2,    2.708,2,    1.268,2,    0.114,2,  -999.00,9,  -999.00,9,  -0.0136
  32PZ20020819,   CBL,   117,  1,      4,      4,2,20020919,2242, 75.4197,-162.2927, 1956,   1265.7,  -0.1252,  34.8996,2,-999.0000,9,    295.8,2,    296.3,2,     9.50,2,    13.40,2,     0.06,3,     0.95,2,    1.350,2,    0.637,2,    0.039,2,  -999.00,9,  -999.00,9,  -0.1834
  32PZ20020819,   CBL,   117,  1,      3,      3,2,20020919,2242, 75.4197,-162.2927, 1956,   1571.4,  -0.2814,  34.9221,2,  34.9236,2,    290.8,2,    291.3,2,    12.10,2,    14.20,2,     0.06,3,     1.01,2,    0.412,2,    0.201,2,    0.004,2,  -999.00,9,  -999.00,9,  -0.3559
  32PZ20020819,   CBL,   117,  1,      2,      2,2,20020919,2242, 75.4197,-162.2927, 1956,   1858.6,  -0.3035,  34.9280,2,-999.0000,9,    287.6,2,    287.9,2,    14.00,2,    14.50,2,     0.06,3,     1.03,2,    0.303,2,    0.154,2,    0.008,2,  -999.00,9,  -999.00,9,  -0.3959
  32PZ20020819,   CBL,   117,  1,      1,      1,2,20020919,2242, 75.4197,-162.2927, 1956,   1937.3,  -0.3019,  34.9281,2,  34.9285,2,    287.9,2,    287.7,2,    14.00,2,    14.40,2,     0.06,3,     1.03,2,    0.370,2,    0.184,2,    0.040,3,  -999.00,9,  -999.00,9,  -0.3996
  32PZ20020819,   CBL,   118,  1,     30,     30,2,20020920,0220, 75.3913,-163.3550, 1468,      8.4,  -1.3940,  27.5393,2,  27.5406,2,    378.8,2,    379.9,2,     4.30,2,     0.10,2,     0.00,2,     0.67,2,    7.750,2,    3.980,2,    0.751,2,    -3.33,2,    66.90,2,  -1.3941
  32PZ20020819,   CBL,   118,  1,     29,     29,2,20020920,0220, 75.3913,-163.3550, 1468,     18.4,  -1.2432,  27.6513,2,  28.3184,2,    381.9,2,    384.4,2,     4.30,2,     0.10,2,     0.00,2,     0.70,2,    7.564,2,    3.866,2,    0.703,2,    -3.27,2,    67.80,2,  -1.2434
  32PZ20020819,   CBL,   118,  1,     28,     28,2,20020920,0220, 75.3913,-163.3550, 1468,     30.5,  -0.0769,  31.1340,2,  31.2559,2,    396.1,2,    395.5,2,     4.00,2,     0.10,2,     0.01,2,     0.84,2,    6.804,2,    3.444,2,    0.586,2,    -2.38,2,    68.10,2,  -0.0778
  32PZ20020819,   CBL,   118,  1,     27,     27,2,20020920,0220, 75.3913,-163.3550, 1468,     55.9,  -1.0379,  32.1865,2,-999.0000,9,    334.4,2,    316.7,2,    19.90,2,     9.20,2,     0.03,2,     1.47,2,    6.267,2,    3.154,2,    0.502,2,  -999.00,9,  -999.00,9,  -1.0391
  32PZ20020819,   CBL,   118,  1,     26,     26,2,20020920,0220, 75.3913,-163.3550, 1468,     69.0,  -1.2836,  32.3573,2,  32.3586,2,    310.7,2,    301.0,2,    25.60,2,    11.30,2,     0.01,2,     1.63,2,    6.126,2,    3.148,2,    0.518,2,    -1.82,2,    68.20,2,  -1.2850
  32PZ20020819,   CBL,   118,  1,     25,     25,2,20020920,0220, 75.3913,-163.3550, 1468,     82.6,  -1.2956,  32.5022,2,  32.5048,2,    301.1,2,    296.8,2,    27.40,2,    12.30,2,     0.01,2,     1.69,2,    6.153,2,    3.071,2,    0.480,2,  -999.00,9,  -999.00,9,  -1.2973
  32PZ20020819,   CBL,   118,  1,     24,     24,2,20020920,0220, 75.3913,-163.3550, 1468,    103.5,  -1.2412,  32.6759,2,  32.6749,2,    291.6,2,    288.6,2,    29.80,2,    13.30,2,     0.01,2,     1.77,2,    6.065,2,    3.074,2,    0.484,2,    -1.53,2,    68.40,2,  -1.2434
  32PZ20020819,   CBL,   118,  1,     23,     23,2,20020920,0220, 75.3913,-163.3550, 1468,    121.8,  -1.4667,  32.8092,2,-999.0000,9,    286.8,2,    288.0,2,    33.00,2,    14.40,2,     0.01,2,     1.85,2,    5.904,2,    2.949,2,    0.472,2,  -999.00,9,  -999.00,9,  -1.4691
  32PZ20020819,   CBL,   118,  1,     22,     22,2,20020920,0220, 75.3913,-163.3550, 1468,    152.9,  -1.5418,  33.1132,2,  33.1206,2,    286.5,2,    286.0,2,    33.80,2,    15.00,2,     0.01,2,     1.83,2,    5.607,2,    2.761,2,    0.396,2,    -1.47,2,    69.50,2,  -1.5449
  32PZ20020819,   CBL,   118,  1,     21,     21,2,20020920,0220, 75.3913,-163.3550, 1468,    182.4,  -1.3743,  33.5343,2,-999.0000,9,    280.5,2,    278.7,2,    33.20,2,    15.40,2,     0.01,2,     1.75,2,    5.323,6,    2.639,6,    0.368,2,  -999.00,9,  -999.00,9,  -1.3785
  32PZ20020819,   CBL,   118,  1,     18,     18,2,20020920,0220, 75.3913,-163.3550, 1468,    217.1,  -0.7346,  34.2856,2,  34.2862,2,    265.0,2,    264.0,2,    20.20,2,    13.70,2,     0.01,2,     1.24,2,    4.794,2,    2.268,2,    0.303,2,    -0.27,2,    49.50,2,  -0.7412
  32PZ20020819,   CBL,   118,  1,     19,     19,2,20020920,0220, 75.3913,-163.3550, 1468,    217.1,  -0.6904,  34.2936,2,  34.2801,2,    264.8,2,   -999.0,9,  -999.00,9,  -999.00,9,  -999.00,9,  -999.00,9, -999.000,9, -999.000,9, -999.000,9,  -999.00,9,  -999.00,9,  -0.6970
  32PZ20020819,   CBL,   118,  1,     20,     20,2,20020920,0220, 75.3913,-163.3550, 1468,    217.1,  -0.7657,  34.2479,2,  34.2819,2,    264.6,2,   -999.0,9,  -999.00,9,  -999.00,9,  -999.00,9,  -999.00,9, -999.000,9, -999.000,9, -999.000,9,  -999.00,9,  -999.00,9,  -0.7722
  32PZ20020819,   CBL,   118,  1,     17,     17,2,20020920,0220, 75.3913,-163.3550, 1468,    252.5,   0.0386,  34.5705,2,-999.0000,9,    260.7,2,    263.3,2,    15.90,2,    13.20,2,     0.00,2,     1.06,2,    5.195,2,    2.434,2,    0.318,2,  -999.00,9,  -999.00,9,   0.0291
  32PZ20020819,   CBL,   118,  1,     16,     16,2,20020920,0220, 75.3913,-163.3550, 1468,    321.9,   0.8733,  34.7695,2,  34.7704,2,    274.2,2,    277.9,2,    11.50,2,    13.30,2,     0.00,2,     0.95,2,    5.507,2,    2.595,2,    0.375,2,  -999.00,9,  -999.00,9,   0.8586
  32PZ20020819,   CBL,   118,  1,     14,     14,2,20020920,0220, 75.3913,-163.3550, 1468,    376.4,   1.0292,  34.8206,2,  34.8221,2,    288.8,2,   -999.0,9,  -999.00,9,  -999.00,9,  -999.00,9,  -999.00,9, -999.000,9, -999.000,9, -999.000,9,  -999.00,9,  -999.00,9,   1.0113
  32PZ20020819,   CBL,   118,  1,     13,     13,2,20020920,0220, 75.3913,-163.3550, 1468,    376.5,   1.0283,  34.8233,2,  34.8201,2,    288.8,2,    289.9,2,     8.30,2,    13.00,2,     0.00,2,     0.91,2,    5.383,6,    2.535,6,    0.367,6,     0.16,2,    42.10,2,   1.0104
  32PZ20020819,   CBL,   118,  1,     15,     15,2,20020920,0220, 75.3913,-163.3550, 1468,    376.5,   1.0271,  34.8229,2,  34.8215,2,    288.8,2,   -999.0,9,  -999.00,9,  -999.00,9,  -999.00,9,  -999.00,9, -999.000,9, -999.000,9, -999.000,9,  -999.00,9,  -999.00,9,   1.0092
  32PZ20020819,   CBL,   118,  1,     12,     12,2,20020920,0220, 75.3913,-163.3550, 1468,    442.4,   0.9242,  34.8417,2,  34.8425,2,    294.4,2,    293.6,2,     8.10,2,    12.90,2,     0.01,2,     0.91,2,    5.010,2,    2.367,2,    0.337,2,  -999.00,9,  -999.00,9,   0.9033
  32PZ20020819,   CBL,   118,  1,     11,     11,2,20020920,0220, 75.3913,-163.3550, 1468,    502.0,   0.6982,  34.8480,2,  34.8482,2,    296.5,2,    296.3,2,     7.60,2,    12.90,2,     0.00,2,     0.90,2,    4.916,2,    2.289,2,    0.306,2,  -999.00,9,  -999.00,9,   0.6752
  32PZ20020819,   CBL,   118,  1,     10,     10,2,20020920,0220, 75.3913,-163.3550, 1468,    605.8,   0.4886,  34.8556,2,  34.8559,2,    298.1,2,    298.1,2,     8.00,2,    13.00,2,     0.01,2,     0.91,2,    4.658,2,    2.174,2,    0.281,2,  -999.00,9,  -999.00,9,   0.4613
  32PZ20020819,   CBL,   118,  1,      7,      7,2,20020920,0220, 75.3913,-163.3550, 1468,    710.1,   0.2908,  34.8611,2,  34.8602,2,    299.8,2,    299.6,2,     7.40,2,    13.00,2,     0.00,2,     0.91,2,    4.161,2,    1.927,2,    0.228,2,     0.22,2,    46.60,2,   0.2593
  32PZ20020819,   CBL,   118,  1,      8,      8,2,20020920,0220, 75.3913,-163.3550, 1468,    710.1,   0.2917,  34.8614,2,  34.8618,2,    299.8,2,   -999.0,9,  -999.00,9,  -999.00,9,  -999.00,9,  -999.00,9, -999.000,9, -999.000,9, -999.000,9,  -999.00,9,  -999.00,9,   0.2602
  32PZ20020819,   CBL,   118,  1,      9,      9,2,20020920,0220, 75.3913,-163.3550, 1468,    710.1,   0.2924,  34.8612,2,  34.8618,2,    299.8,2,   -999.0,9,  -999.00,9,  -999.00,9,  -999.00,9,  -999.00,9, -999.000,9, -999.000,9, -999.000,9,  -999.00,9,  -999.00,9,   0.2609
  32PZ20020819,   CBL,   118,  1,      6,      6,2,20020920,0220, 75.3913,-163.3550, 1468,    819.1,   0.1755,  34.8661,2,  34.8661,2,    300.0,2,    300.9,2,     7.50,2,    13.00,2,     0.00,2,     0.91,2,    3.737,2,    1.705,2,    0.194,2,  -999.00,9,  -999.00,9,   0.1391
  32PZ20020819,   CBL,   118,  1,      5,      5,2,20020920,0220, 75.3913,-163.3550, 1468,    932.9,   0.0618,  34.8741,2,  34.8732,2,    299.7,2,    299.6,2,     7.60,2,    13.10,2,     0.00,2,     0.92,2,    3.016,2,    1.400,2,    0.136,2,     0.33,2,    45.80,2,   0.0203
  32PZ20020819,   CBL,   118,  1,      4,      4,2,20020920,0220, 75.3913,-163.3550, 1468,    992.7,   0.0071,  34.8790,2,-999.0000,9,    299.3,2,    299.5,2,     7.70,2,    13.20,2,     0.00,2,     0.92,2,    2.738,2,    1.278,2,    0.122,2,  -999.00,9,  -999.00,9,  -0.0372
  32PZ20020819,   CBL,   118,  1,      3,      3,2,20020920,0220, 75.3913,-163.3550, 1468,   1141.1,  -0.0869,  34.8931,2,-999.0000,9,    297.5,2,    297.6,2,     8.70,2,    13.50,2,     0.00,2,     0.94,2,    1.673,2,    0.791,2,    0.057,2,  -999.00,9,  -999.00,9,  -0.1384
  32PZ20020819,   CBL,   118,  1,      2,      2,2,20020920,0220, 75.3913,-163.3550, 1468,   1338.9,  -0.1982,  34.9107,2,-999.0000,9,    293.8,2,    294.1,2,    10.50,2,    14.00,2,     0.00,2,     0.98,2,    0.744,2,    0.348,2,    0.010,2,  -999.00,9,  -999.00,9,  -0.2598
  32PZ20020819,   CBL,   118,  1,      1,      1,2,20020920,0220, 75.3913,-163.3550, 1468,   1471.6,  -0.2659,  34.9199,2,  34.9192,2,    291.9,2,    291.7,2,    11.60,2,    14.30,2,     0.00,2,     1.01,2,    0.438,2,    0.209,2,    0.012,2,  -999.00,9,  -999.00,9,  -0.3346