BOTTLE,20220815CCHSIOAMB
EXPOCODE,SECT_ID,STNNBR,CASTNO,SAMPNO,BTLNBR,BTLNBR_FLAG_W,DATE,TIME,LATITUDE,LONGITUDE,DEPTH,CTDPRS,CTDTMP,CTDSAL,CTDSAL_FLAG_W,SALNTY,SALNTY_FLAG_W,CTDOXY,CTDOXY_FLAG_W,OXYGEN,OXYGEN_FLAG_W,SILCAT,SILCAT_FLAG_W,NITRAT,NITRAT_FLAG_W,NITRIT,NITRIT_FLAG_W,PHSPHT,PHSPHT_FLAG_W,CFC-11,CFC-11_FLAG_W,CFC-12,CFC-12_FLAG_W,CFC113,CFC113_FLAG_W,DELO18,DELO18_FLAG_W,BARIUM,BARIUM_FLAG_W,THETA
,,,,,,,,,,,METERS,DBAR,ITS-90,PSS-78,,PSS-78,,UMOL/KG,,UMOL/KG,,UMOL/KG,,UMOL/KG,,UMOL/KG,,UMOL/KG,,PMOL/KG,,PMOL/KG,,PMOL/KG,,/MILLE,,NMOL/KG,,DEG C
  32PZ20020819,   CBL,     5,  1,     29,     29,2,20020824,0752, 76.0853,-168.9597, 1360,      1.6,  -1.3931,  28.0063,2,  28.0141,2,    375.9,2,    378.8,2,     4.60,2,     0.00,2,     0.00,2,     0.65,2,    7.336,2,    3.767,2,    0.690,2,    -3.00,2,    65.00,2,  -1.3931
  32PZ20020819,   CBL,     5,  1,     28,     28,2,20020824,0752, 76.0853,-168.9597, 1360,      9.2,  -1.3913,  28.0136,2,  28.0258,2,    379.3,2,    378.6,2,     4.60,2,     0.00,2,     0.00,2,     0.65,2, -999.000,9, -999.000,9, -999.000,9,  -999.00,9,  -999.00,9,  -1.3914
  32PZ20020819,   CBL,     5,  1,     27,     27,2,20020824,0752, 76.0853,-168.9597, 1360,     24.0,  -1.3109,  28.5057,2,  29.5174,2,    380.9,2,    385.1,2,     5.30,2,     0.10,2,     0.01,2,     0.73,2,    7.165,2,    3.663,2,    0.657,2,    -2.99,2,    69.80,2,  -1.3112
  32PZ20020819,   CBL,     5,  1,     26,     26,2,20020824,0752, 76.0853,-168.9597, 1360,     39.0,  -0.5055,  31.3653,2,  31.5599,2,    366.6,2,    339.6,2,    11.70,2,     4.30,2,     0.08,2,     1.11,2, -999.000,9, -999.000,9, -999.000,9,    -2.03,2,    60.70,2,  -0.5065
  32PZ20020819,   CBL,     5,  1,     25,     25,2,20020824,0752, 76.0853,-168.9597, 1360,     54.5,  -0.9428,  31.9582,2,  32.0381,2,    330.0,2,    313.2,2,    18.70,2,     7.70,2,     0.01,2,     1.38,2,    6.361,2,    3.494,2,    0.557,2,    -1.86,2,    62.80,2,  -0.9440
  32PZ20020819,   CBL,     5,  1,     24,     24,2,20020824,0752, 76.0853,-168.9597, 1360,     67.7,  -1.0534,  32.2565,2,  32.3294,2,    312.1,2,    300.3,2,    24.10,2,    10.10,2,     0.01,2,     1.56,2, -999.000,9, -999.000,9, -999.000,9,    -1.70,2,    63.70,2,  -1.0549
  32PZ20020819,   CBL,     5,  1,     23,     23,2,20020824,0752, 76.0853,-168.9597, 1360,     84.1,  -1.3075,  32.5637,2,  32.5883,2,    293.9,2,    287.6,2,    29.60,2,    12.60,2,     0.00,2,     1.75,2,    6.063,2,    3.139,2,    0.478,2,  -999.00,9,  -999.00,9,  -1.3092
  32PZ20020819,   CBL,     5,  1,     22,     22,2,20020824,0752, 76.0853,-168.9597, 1360,     99.1,  -1.1754,  32.7022,2,  32.7249,2,    285.6,2,    275.7,2,    32.60,2,    14.20,2,     0.01,2,     1.90,2, -999.000,9, -999.000,9, -999.000,9,    -1.52,2,    67.90,2,  -1.1776
  32PZ20020819,   CBL,     5,  1,     21,     21,2,20020824,0752, 76.0853,-168.9597, 1360,    113.9,  -1.4408,  32.8339,2,  32.8586,2,    280.2,2,    284.6,2,    33.80,2,    14.20,2,     0.00,2,     1.85,2,    5.909,2,    3.031,2,    0.445,2,  -999.00,9,  -999.00,9,  -1.4431
  32PZ20020819,   CBL,     5,  1,     20,     20,2,20020824,0752, 76.0853,-168.9597, 1360,    128.9,  -1.5295,  33.0709,2,  33.1158,2,    281.7,2,    287.2,2,    33.00,2,    14.40,2,     0.00,2,     1.78,2, -999.000,9, -999.000,9, -999.000,9,    -1.51,2,    66.40,2,  -1.5321
  32PZ20020819,   CBL,     5,  1,     19,     19,2,20020824,0752, 76.0853,-168.9597, 1360,    143.8,  -1.4425,  33.3776,2,  33.4877,2,    282.9,2,    273.1,2,    35.20,2,    15.40,2,     0.01,2,     1.80,2,    5.381,2,    2.742,2,    0.374,2,  -999.00,9,  -999.00,9,  -1.4456
  32PZ20020819,   CBL,     5,  1,     18,     18,2,20020824,0752, 76.0853,-168.9597, 1360,    158.3,  -1.1986,  33.7736,2,  33.8304,2,    267.0,2,    250.9,2,    35.10,2,    15.80,2,     0.00,2,     1.73,2, -999.000,9, -999.000,9, -999.000,9,  -999.00,9,  -999.00,9,  -1.2025
  32PZ20020819,   CBL,     5,  1,     17,     17,2,20020824,0752, 76.0853,-168.9597, 1360,    173.5,  -0.9516,  34.1317,2,  34.1807,2,    246.9,2,    246.0,2,    25.70,2,    14.10,2,     0.00,2,     1.36,2,    5.415,2,    2.602,2,    0.318,2,    -0.42,2,    47.90,2,  -0.9564
  32PZ20020819,   CBL,     5,  1,     16,     16,2,20020824,0752, 76.0853,-168.9597, 1360,    187.9,  -0.6622,  34.3325,2,  34.3679,2,    249.8,2,    252.8,2,    20.30,2,    13.20,2,     0.00,2,     1.16,2, -999.000,9, -999.000,9, -999.000,9,  -999.00,9,  -999.00,9,  -0.6680
  32PZ20020819,   CBL,     5,  1,     15,     15,2,20020824,0752, 76.0853,-168.9597, 1360,    202.7,  -0.2472,  34.4675,2,  34.4891,2,    252.1,2,    255.1,2,    18.60,2,    13.10,2,     0.00,2,     1.09,2,    5.597,2,    2.670,2,    0.327,2,  -999.00,9,  -999.00,9,  -0.2542
  32PZ20020819,   CBL,     5,  1,     14,     14,2,20020824,0752, 76.0853,-168.9597, 1360,    217.5,   0.0856,  34.5615,2,  34.5630,2,    257.7,2,    269.8,2,    13.40,2,    12.70,2,     0.00,2,     0.97,2, -999.000,9, -999.000,9, -999.000,9,  -999.00,9,  -999.00,9,   0.0774
  32PZ20020819,   CBL,     5,  1,     13,     13,2,20020824,0752, 76.0853,-168.9597, 1360,    247.2,   0.6780,  34.7102,2,  34.6946,2,    281.9,2,    279.5,2,    10.50,2,    12.80,2,     0.01,2,     0.92,2,    5.614,2,    2.665,2,    0.358,2,  -999.00,9,  -999.00,9,   0.6673
  32PZ20020819,   CBL,     5,  1,     12,     12,2,20020824,0752, 76.0853,-168.9597, 1360,    297.2,   1.0147,  34.8025,2,  34.8030,2,    294.2,2,    292.1,2,     7.20,2,    12.80,2,     0.01,2,     0.88,2,    5.361,2,    2.555,2,    0.350,2,  -999.00,9,  -999.00,9,   1.0008
  32PZ20020819,   CBL,     5,  1,     11,     11,2,20020824,0752, 76.0853,-168.9597, 1360,    351.1,   1.1350,  34.8454,2,  34.8443,2,    297.8,2,    296.3,2,     6.80,2,    12.80,2,     0.01,2,     0.87,2,    5.270,2,    2.543,2,    0.342,2,     0.32,2,    37.70,2,   1.1181
  32PZ20020819,   CBL,     5,  1,     10,     10,2,20020824,0752, 76.0853,-168.9597, 1360,    415.1,   1.0561,  34.8540,2,  34.8566,2,    298.4,2,    298.1,2,     6.70,2,    12.70,2,     0.01,2,     0.87,2, -999.000,9, -999.000,9, -999.000,9,  -999.00,9,  -999.00,9,   1.0361
  32PZ20020819,   CBL,     5,  1,      9,      9,2,20020824,0752, 76.0853,-168.9597, 1360,    494.7,   0.8132,  34.8597,2,  34.8588,2,    299.5,2,    299.4,2,     6.80,2,    12.80,2,     0.00,2,     0.87,2,    5.045,2,    2.515,2,    0.326,2,  -999.00,9,  -999.00,9,   0.7900
  32PZ20020819,   CBL,     5,  1,      8,      8,2,20020824,0752, 76.0853,-168.9597, 1360,    593.7,   0.5544,  34.8598,2,  34.8593,2,    300.9,2,    301.5,2,     6.80,2,    12.70,2,     0.00,2,     0.88,2,    4.993,2,    2.394,2,    0.320,2,  -999.00,9,  -999.00,9,   0.5274
  32PZ20020819,   CBL,     5,  1,      7,      7,2,20020824,0752, 76.0853,-168.9597, 1360,    692.6,   0.3162,  34.8604,2,  34.8629,2,    302.3,2,    302.8,2,     6.60,2,    12.70,2,     0.00,2,     0.88,2,    4.722,2,    2.237,2,    0.295,2,     0.17,2,    39.20,2,   0.2854
  32PZ20020819,   CBL,     5,  1,      5,      5,2,20020824,0752, 76.0853,-168.9597, 1360,    791.7,   0.1302,  34.8635,2,  34.8661,2,    304.3,2,    304.3,2,     6.60,2,    12.70,2,     0.00,2,     0.88,2,    4.628,2,    2.206,2,    0.282,2,  -999.00,9,  -999.00,9,   0.0955
  32PZ20020819,   CBL,     5,  1,      4,      4,2,20020824,0752, 76.0853,-168.9597, 1360,    940.0,  -0.0481,  34.8712,2,  34.8740,2,    304.3,2,    304.2,2,     6.90,2,    12.70,2,     0.00,2,     0.89,2, -999.000,9, -999.000,9, -999.000,9,  -999.00,9,  -999.00,9,  -0.0891
  32PZ20020819,   CBL,     5,  1,      3,      3,2,20020824,0752, 76.0853,-168.9597, 1360,   1088.4,  -0.1828,  34.8821,2,  34.8792,2,    302.9,2,    302.4,2,     8.10,2,    13.00,2,     0.00,2,     0.92,2,    4.167,6,    2.034,6,    0.244,6,  -999.00,9,  -999.00,9,  -0.2306
  32PZ20020819,   CBL,     5,  1,      2,      2,2,20020824,0752, 76.0853,-168.9597, 1360,   1237.7,  -0.3011,  34.8927,2,  34.8948,2,    302.1,2,    301.5,2,     8.60,2,    13.30,2,     0.00,2,     0.94,2, -999.000,9, -999.000,9, -999.000,9,  -999.00,9,  -999.00,9,  -0.3559
  32PZ20020819,   CBL,     5,  1,      1,      1,2,20020824,0752, 76.0853,-168.9597, 1360,   1344.4,  -0.3505,  34.8986,2,  34.9010,2,    301.7,2,    302.0,2,     8.80,2,    13.50,2,     0.00,2,     0.95,2,    2.981,2,    1.455,2,    0.175,2,  -999.00,9,  -999.00,9,  -0.4108
  32PZ20020819,   CBL,     6,  1,     36,     36,2,20020824,1140, 76.1357,-169.1623, 1751,      2.1,  -1.3588,  28.0441,2,  28.0442,2,    374.4,2,    378.4,2,     4.90,2,     0.00,2,     0.00,2,     0.65,2, -999.000,9, -999.000,9, -999.000,9,  -999.00,9,  -999.00,9,  -1.3588
  32PZ20020819,   CBL,     6,  1,     35,     35,2,20020824,1140, 76.1357,-169.1623, 1751,     12.5,  -1.3897,  28.0530,2,  28.0716,2,    379.7,2,    378.5,2,     4.60,2,     0.00,2,     0.00,2,     0.65,2,    7.328,2,    3.711,2,    0.688,2,    -3.00,2,    64.10,2,  -1.3898
  32PZ20020819,   CBL,     6,  1,     34,     34,2,20020824,1140, 76.1357,-169.1623, 1751,     22.2,  -1.4235,  28.1041,2,  28.3180,2,    380.8,2,    380.0,2,     4.70,2,     0.00,2,     0.00,2,     0.67,2, -999.000,9, -999.000,9, -999.000,9,    -2.95,2,    64.50,2,  -1.4237
  32PZ20020819,   CBL,     6,  1,     33,     33,2,20020824,1140, 76.1357,-169.1623, 1751,     36.7,  -0.8113,  31.0830,2,  31.1374,2,    371.4,2,    355.0,2,     8.10,2,     2.50,2,     0.20,2,     0.98,2,    6.690,2,    3.399,2,    0.573,2,    -2.07,2,    58.30,2,  -0.8121
  32PZ20020819,   CBL,     6,  1,     32,     32,2,20020824,1140, 76.1357,-169.1623, 1751,     51.7,  -1.0749,  31.9129,2,  31.9256,2,    336.8,2,    320.9,2,    15.60,2,     6.90,2,     0.01,2,     1.28,2, -999.000,9, -999.000,9, -999.000,9,    -1.73,2,    59.70,2,  -1.0760
  32PZ20020819,   CBL,     6,  1,     31,     31,2,20020824,1140, 76.1357,-169.1623, 1751,     66.7,  -1.2594,  32.2219,2,  32.2427,2,    315.4,2,    305.8,2,    20.60,2,     9.90,2,     0.01,2,     1.51,2,    6.635,2,    3.532,2,    0.546,2,  -999.00,9,  -999.00,9,  -1.2608
  32PZ20020819,   CBL,     6,  1,     30,     30,2,20020824,1140, 76.1357,-169.1623, 1751,     81.4,  -0.7943,  32.5805,2,  32.6002,2,    285.6,2,    266.4,2,    31.00,2,    14.10,2,     0.00,2,     1.88,2, -999.000,9, -999.000,9, -999.000,9,    -1.47,2,    67.10,2,  -0.7963
  32PZ20020819,   CBL,     6,  1,     29,     29,2,20020824,1140, 76.1357,-169.1623, 1751,     96.4,  -1.0001,  32.7398,2,  32.7382,2,    256.3,2,    262.3,2,    35.30,2,    15.70,2,     0.00,2,     2.05,2,    6.222,2,    3.174,2,    0.506,2,    -1.45,2,    68.10,2,  -1.0024
  32PZ20020819,   CBL,     6,  1,     28,     28,2,20020824,1140, 76.1357,-169.1623, 1751,    110.9,  -1.4482,  32.8435,2,  32.8419,2,    265.4,2,    274.4,2,    36.00,2,    15.10,2,     0.00,2,     1.96,2, -999.000,9, -999.000,9, -999.000,9,  -999.00,9,  -999.00,9,  -1.4504
  32PZ20020819,   CBL,     6,  1,     27,     27,2,20020824,1140, 76.1357,-169.1623, 1751,    124.5,  -1.5565,  33.0204,2,  33.0341,2,    272.9,2,    272.4,2,    37.40,2,    15.40,2,     0.00,2,     1.95,2,    5.875,2,    3.012,2,    0.421,2,    -1.53,2,    67.50,2,  -1.5590
  32PZ20020819,   CBL,     6,  1,     26,     26,2,20020824,1140, 76.1357,-169.1623, 1751,    140.3,  -1.5395,  33.2947,2,  33.2917,2,    267.4,2,    266.3,2,    40.70,2,    15.90,2,     0.01,2,     1.99,2,    5.868,2,    2.962,2,    0.421,2,  -999.00,9,  -999.00,9,  -1.5424
  32PZ20020819,   CBL,     6,  1,     25,     25,2,20020824,1140, 76.1357,-169.1623, 1751,    155.4,  -1.2573,  33.7228,2,  33.7282,2,    250.2,2,    240.1,2,    40.00,2,    16.60,2,     0.01,2,     1.90,2,    5.469,2,    2.625,2,    0.345,2,  -999.00,9,  -999.00,9,  -1.2610
  32PZ20020819,   CBL,     6,  1,     22,     22,2,20020824,1140, 76.1357,-169.1623, 1751,    170.0,  -1.0251,  34.0702,2,  34.0673,2,    243.9,2,    245.5,2,    29.40,2,    14.60,2,     0.00,2,     1.50,2,    5.465,2,    2.601,2,    0.307,2,    -0.48,2,    50.30,2,  -1.0297
  32PZ20020819,   CBL,     6,  1,     23,     23,2,20020824,1140, 76.1357,-169.1623, 1751,    170.0,  -1.0260,  34.0744,2,  34.0631,2,    243.8,2,   -999.0,9,  -999.00,9,  -999.00,9,  -999.00,9,  -999.00,9, -999.000,9, -999.000,9, -999.000,9,  -999.00,9,  -999.00,9,  -1.0306
  32PZ20020819,   CBL,     6,  1,     24,     24,2,20020824,1140, 76.1357,-169.1623, 1751,    170.0,  -1.0183,  34.0782,2,  34.0541,2,    243.8,2,   -999.0,9,  -999.00,9,  -999.00,9,  -999.00,9,  -999.00,9, -999.000,9, -999.000,9, -999.000,9,  -999.00,9,  -999.00,9,  -1.0229
  32PZ20020819,   CBL,     6,  1,     21,     21,2,20020824,1140, 76.1357,-169.1623, 1751,    185.2,  -0.8996,  34.2763,2,  34.2812,2,    254.4,2,    263.1,2,    16.90,2,    12.70,2,     0.00,2,     1.09,2, -999.000,9, -999.000,9, -999.000,9,  -999.00,9,  -999.00,9,  -0.9049
  32PZ20020819,   CBL,     6,  1,     20,     20,2,20020824,1140, 76.1357,-169.1623, 1751,    199.4,  -0.5310,  34.3877,2,  34.3984,2,    269.0,2,    273.6,2,    12.60,2,    12.00,2,     0.00,2,     0.97,2,    5.994,2,    2.697,2,    0.351,2,  -999.00,9,  -999.00,9,  -0.5374
  32PZ20020819,   CBL,     6,  1,     19,     19,2,20020824,1140, 76.1357,-169.1623, 1751,    238.7,   0.3220,  34.6093,2,  34.6109,2,    279.9,2,    280.8,2,    10.40,2,    12.40,2,     0.01,2,     0.91,2, -999.000,9, -999.000,9, -999.000,9,  -999.00,9,  -999.00,9,   0.3125
  32PZ20020819,   CBL,     6,  1,     18,     18,2,20020824,1140, 76.1357,-169.1623, 1751,    288.2,   0.8959,  34.7627,2,  34.7626,2,    289.1,2,    288.9,2,     8.00,2,    12.60,2,     0.01,2,     0.89,2,    5.546,2,    2.613,2,    0.350,2,  -999.00,9,  -999.00,9,   0.8828
  32PZ20020819,   CBL,     6,  1,     17,     17,2,20020824,1140, 76.1357,-169.1623, 1751,    338.2,   1.1219,  34.8289,2,  34.8291,2,    293.1,2,    294.1,2,     7.30,2,    12.70,2,     0.00,2,     0.89,2,    5.388,2,    2.490,2,    0.361,2,  -999.00,9,  -999.00,9,   1.1057
  32PZ20020819,   CBL,     6,  1,     14,     14,2,20020824,1140, 76.1357,-169.1623, 1751,    372.0,   1.1421,  34.8421,2,  34.8412,2,    295.2,2,    295.6,2,     7.20,2,    12.70,2,     0.00,2,     0.88,2,    5.409,2,    2.578,2,    0.342,2,     0.18,2,    38.60,2,   1.1241
  32PZ20020819,   CBL,     6,  1,     15,     15,2,20020824,1140, 76.1357,-169.1623, 1751,    372.0,   1.1428,  34.8423,2,  34.8390,2,    295.2,2,   -999.0,9,  -999.00,9,  -999.00,9,  -999.00,9,  -999.00,9, -999.000,9, -999.000,9, -999.000,9,  -999.00,9,  -999.00,9,   1.1248
  32PZ20020819,   CBL,     6,  1,     16,     16,2,20020824,1140, 76.1357,-169.1623, 1751,    372.0,   1.1430,  34.8424,2,  34.8421,2,    295.2,2,   -999.0,9,  -999.00,9,  -999.00,9,  -999.00,9,  -999.00,9, -999.000,9, -999.000,9, -999.000,9,  -999.00,9,  -999.00,9,   1.1250
  32PZ20020819,   CBL,     6,  1,     13,     13,2,20020824,1140, 76.1357,-169.1623, 1751,    421.4,   1.0713,  34.8498,2,  34.8487,2,    297.1,2,    296.8,2,     7.10,2,    12.80,2,     0.00,2,     0.88,2,    5.154,2,    2.531,2,    0.323,2,  -999.00,9,  -999.00,9,   1.0510
  32PZ20020819,   CBL,     6,  1,     12,     12,2,20020824,1140, 76.1357,-169.1623, 1751,    495.9,   0.8882,  34.8602,2,  34.8586,2,    299.6,2,    299.6,2,     6.90,2,    12.80,2,     0.00,2,     0.88,2,    5.119,2,    2.340,2,    0.318,2,  -999.00,9,  -999.00,9,   0.8647
  32PZ20020819,   CBL,     6,  1,     11,     11,2,20020824,1140, 76.1357,-169.1623, 1751,    593.7,   0.6132,  34.8602,2,  34.8543,2,    301.4,2,    301.8,2,     6.80,2,    12.70,2,     0.00,2,     0.88,2,    5.062,2,    2.291,2,    0.300,2,  -999.00,9,  -999.00,9,   0.5859
  32PZ20020819,   CBL,     6,  1,      8,      8,2,20020824,1140, 76.1357,-169.1623, 1751,    742.2,   0.2740,  34.8607,2,  34.8595,2,    303.4,2,    303.4,2,     6.80,2,    12.70,2,     0.00,2,     0.89,2,    4.888,2,    2.233,2,    0.290,2,     0.21,2,    38.90,2,   0.2409
  32PZ20020819,   CBL,     6,  1,      9,      9,2,20020824,1140, 76.1357,-169.1623, 1751,    742.2,   0.2742,  34.8607,2,  34.8596,2,    303.3,2,   -999.0,9,  -999.00,9,  -999.00,9,  -999.00,9,  -999.00,9, -999.000,9, -999.000,9, -999.000,9,  -999.00,9,  -999.00,9,   0.2411
  32PZ20020819,   CBL,     6,  1,     10,     10,2,20020824,1140, 76.1357,-169.1623, 1751,    742.2,   0.2736,  34.8608,2,  34.8584,2,    303.3,2,   -999.0,9,  -999.00,9,  -999.00,9,  -999.00,9,  -999.00,9, -999.000,9, -999.000,9, -999.000,9,  -999.00,9,  -999.00,9,   0.2406
  32PZ20020819,   CBL,     6,  1,      7,      7,2,20020824,1140, 76.1357,-169.1623, 1751,    890.8,   0.0530,  34.8660,2,  34.8646,2,    305.0,2,    304.2,2,     6.90,2,    12.70,2,     0.00,2,     0.90,2,    4.663,2,    2.097,2,    0.266,2,  -999.00,9,  -999.00,9,   0.0138
  32PZ20020819,   CBL,     6,  1,      6,      6,2,20020824,1140, 76.1357,-169.1623, 1751,   1039.1,  -0.0968,  34.8761,2,  34.8761,2,    304.4,2,    304.9,2,     7.20,2,    12.80,2,     0.00,2,     0.91,2,    4.104,2,    1.898,2,    0.232,2,  -999.00,9,  -999.00,9,  -0.1427
  32PZ20020819,   CBL,     6,  1,      5,      5,2,20020824,1140, 76.1357,-169.1623, 1751,   1189.4,  -0.2155,  34.8871,2,  34.8871,2,    303.6,2,    302.7,2,     7.90,2,    13.20,2,     0.00,2,     0.92,2,    3.529,6,    1.739,6,    0.197,6,  -999.00,9,  -999.00,9,  -0.2685
  32PZ20020819,   CBL,     6,  1,      4,      4,2,20020824,1140, 76.1357,-169.1623, 1751,   1387.7,  -0.3617,  34.9029,2,  34.9027,2,    302.3,2,    301.4,2,     8.70,2,    13.60,2,     0.00,2,     0.96,2, -999.000,9, -999.000,9, -999.000,9,  -999.00,9,  -999.00,9,  -0.4243
  32PZ20020819,   CBL,     6,  1,      3,      3,2,20020824,1140, 76.1357,-169.1623, 1751,   1536.3,  -0.4309,  34.9184,2,  34.9180,2,    298.2,2,    298.3,2,    10.10,2,    14.10,2,     0.00,2,     1.00,2,    1.631,2,    0.769,2,    0.075,2,  -999.00,9,  -999.00,9,  -0.5014
  32PZ20020819,   CBL,     6,  1,      2,      2,2,20020824,1140, 76.1357,-169.1623, 1751,   1636.6,  -0.4349,  34.9365,2,  34.9366,2,    290.3,2,    290.6,2,    12.30,2,    14.70,2,     0.00,2,     1.04,2,    0.712,2,    0.292,2,    0.032,2,  -999.00,9,  -999.00,9,  -0.5115
  32PZ20020819,   CBL,     6,  1,      1,      1,2,20020824,1140, 76.1357,-169.1623, 1751,   1728.7,  -0.4401,  34.9416,2,  34.9413,2,    289.7,2,    290.0,2,    12.50,2,    14.70,2,     0.00,2,     1.05,2,    0.459,2,    0.298,3,    0.023,2,  -999.00,9,  -999.00,9,  -0.5223