BOTTLE,20220815CCHSIOAMB
EXPOCODE,SECT_ID,STNNBR,CASTNO,SAMPNO,BTLNBR,BTLNBR_FLAG_W,DATE,TIME,LATITUDE,LONGITUDE,DEPTH,CTDPRS,CTDTMP,CTDSAL,CTDSAL_FLAG_W,SALNTY,SALNTY_FLAG_W,CTDOXY,CTDOXY_FLAG_W,OXYGEN,OXYGEN_FLAG_W,SILCAT,SILCAT_FLAG_W,NITRAT,NITRAT_FLAG_W,NITRIT,NITRIT_FLAG_W,PHSPHT,PHSPHT_FLAG_W,CFC-11,CFC-11_FLAG_W,CFC-12,CFC-12_FLAG_W,CFC113,CFC113_FLAG_W,DELO18,DELO18_FLAG_W,BARIUM,BARIUM_FLAG_W,THETA
,,,,,,,,,,,METERS,DBAR,ITS-90,PSS-78,,PSS-78,,UMOL/KG,,UMOL/KG,,UMOL/KG,,UMOL/KG,,UMOL/KG,,UMOL/KG,,PMOL/KG,,PMOL/KG,,PMOL/KG,,/MILLE,,NMOL/KG,,DEG C
  32PZ20020819,   CBL,     9,  1,     31,     31,2,20020825,2135, 76.4800,-175.2223, 2038,      1.6,  -1.3894,  28.7949,2,  28.7942,2,    372.7,2,    377.7,2,     4.30,2,     0.00,2,     0.00,2,     0.69,2, -999.000,9, -999.000,9, -999.000,9,    -2.37,2,    56.50,2,  -1.3894
  32PZ20020819,   CBL,     9,  1,     30,     30,2,20020825,2135, 76.4800,-175.2223, 2038,     10.8,  -1.3972,  28.7946,2,  28.8198,2,    377.0,2,    377.4,2,     4.20,2,     0.00,2,     0.00,2,     0.70,2,    7.432,2,    3.794,2,    0.685,2,  -999.00,9,  -999.00,9,  -1.3973
  32PZ20020819,   CBL,     9,  1,     29,     29,2,20020825,2135, 76.4800,-175.2223, 2038,     25.8,  -1.2384,  29.5964,2,  29.8273,2,    381.9,2,    384.2,2,     4.90,2,     0.10,2,     0.01,2,     0.75,2, -999.000,9, -999.000,9, -999.000,9,    -2.23,2,    58.10,2,  -1.2388
  32PZ20020819,   CBL,     9,  1,     28,     28,2,20020825,2135, 76.4800,-175.2223, 2038,     35.4,  -1.0797,  31.5061,2,  31.5459,2,    379.6,2,    345.3,2,    12.50,2,     4.40,2,     0.22,2,     1.15,2,    6.911,2,    3.503,2,    0.575,2,    -1.92,2,    61.00,2,  -1.0804
  32PZ20020819,   CBL,     9,  1,     27,     27,2,20020825,2135, 76.4800,-175.2223, 2038,     54.9,  -1.4565,  32.2181,2,  32.3043,2,    314.7,2,    302.1,2,    21.90,2,    10.60,2,     0.02,2,     1.56,2, -999.000,9, -999.000,9, -999.000,9,    -1.64,2,    63.90,2,  -1.4575
  32PZ20020819,   CBL,     9,  1,     26,     26,2,20020825,2135, 76.4800,-175.2223, 2038,     70.0,  -1.2822,  32.5434,2,  32.6047,2,    291.7,2,    280.6,2,    30.20,2,    13.70,2,     0.01,2,     1.81,2, -999.000,9, -999.000,9, -999.000,9,  -999.00,9,  -999.00,9,  -1.2837
  32PZ20020819,   CBL,     9,  1,     25,     25,2,20020825,2135, 76.4800,-175.2223, 2038,     84.9,  -1.1781,  32.7690,2,  32.7872,2,    267.9,2,    260.8,2,    36.20,2,    16.00,2,     0.01,2,     2.05,2, -999.000,9, -999.000,9, -999.000,9,    -1.37,2,    70.40,2,  -1.1800
  32PZ20020819,   CBL,     9,  1,     24,     24,2,20020825,2135, 76.4800,-175.2223, 2038,     99.4,  -1.5363,  32.9440,2,  32.9778,2,    267.3,2,    267.0,2,    37.10,2,    15.40,2,     0.01,2,     1.97,2, -999.000,9, -999.000,9, -999.000,9,    -1.57,2,    69.90,2,  -1.5382
  32PZ20020819,   CBL,     9,  1,     23,     23,2,20020825,2135, 76.4800,-175.2223, 2038,    114.5,  -1.5289,  33.1706,2,  33.1855,2,    262.3,2,    256.7,2,    41.40,2,    16.70,2,     0.01,2,     2.07,2,    6.023,2,    3.255,2,    0.452,2,    -1.37,2,    69.30,2,  -1.5312
  32PZ20020819,   CBL,     9,  1,     22,     22,2,20020825,2135, 76.4800,-175.2223, 2038,    129.3,  -1.4059,  33.4730,2,  33.5386,2,    250.5,2,    234.3,2,    44.50,2,    17.40,2,     0.01,2,     2.08,2,    5.816,2,    3.060,2,    0.429,2,  -999.00,9,  -999.00,9,  -1.4088
  32PZ20020819,   CBL,     9,  1,     21,     21,2,20020825,2135, 76.4800,-175.2223, 2038,    144.1,  -1.2859,  33.9335,2,  33.9532,2,    235.8,2,    250.9,2,    26.60,2,    13.60,2,     0.01,2,     1.41,2,    6.107,2,    2.898,2,    0.378,2,    -0.62,2,    52.20,2,  -1.2894
  32PZ20020819,   CBL,     9,  1,     20,     20,2,20020825,2135, 76.4800,-175.2223, 2038,    159.0,  -1.2062,  34.1448,2,  34.1652,2,    254.9,2,    274.5,2,    14.50,2,    11.70,2,     0.01,2,     1.02,2, -999.000,9, -999.000,9, -999.000,9,  -999.00,9,  -999.00,9,  -1.2102
  32PZ20020819,   CBL,     9,  1,     19,     19,2,20020825,2135, 76.4800,-175.2223, 2038,    173.9,  -0.8987,  34.2937,2,  34.3023,2,    267.9,2,    283.7,2,    10.70,2,    11.20,2,     0.01,2,     0.90,2,    6.310,2,    2.892,2,    0.381,2,  -999.00,9,  -999.00,9,  -0.9036
  32PZ20020819,   CBL,     9,  1,     18,     18,2,20020825,2135, 76.4800,-175.2223, 2038,    188.4,  -0.5544,  34.3849,2,  34.3928,2,    275.4,2,    285.5,2,     9.50,2,    11.20,2,     0.01,2,     0.88,2, -999.000,9, -999.000,9, -999.000,9,  -999.00,9,  -999.00,9,  -0.5604
  32PZ20020819,   CBL,     9,  1,     17,     17,2,20020825,2135, 76.4800,-175.2223, 2038,    228.0,   0.2362,  34.5873,2,  34.5979,2,    283.5,2,    283.6,2,     9.40,2,    12.10,2,     0.01,2,     0.89,2,    5.861,2,    2.682,2,    0.357,2,  -999.00,9,  -999.00,9,   0.2273
  32PZ20020819,   CBL,     9,  1,     16,     16,2,20020825,2135, 76.4800,-175.2223, 2038,    277.3,   0.8338,  34.7579,2,  34.7571,2,    292.4,2,    291.6,2,     7.10,2,    12.40,2,     0.00,2,     0.89,2,    5.519,2,    2.578,2,    0.356,2,  -999.00,9,  -999.00,9,   0.8214
  32PZ20020819,   CBL,     9,  1,     15,     15,2,20020825,2135, 76.4800,-175.2223, 2038,    326.6,   1.0626,  34.8305,2,  34.8283,2,    297.2,2,    296.1,2,     6.60,2,    12.60,2,     0.00,2,     0.87,2,    5.435,2,    2.536,2,    0.346,2,     0.18,2,    40.10,2,   1.0471
  32PZ20020819,   CBL,     9,  1,     14,     14,2,20020825,2135, 76.4800,-175.2223, 2038,    371.2,   1.1064,  34.8474,2,  34.8455,2,    298.7,2,    297.5,2,     6.60,2,    12.60,2,     0.00,2,     0.87,2,    5.258,2,    2.432,2,    0.319,2,  -999.00,9,  -999.00,9,   1.0885
  32PZ20020819,   CBL,     9,  1,     13,     13,2,20020825,2135, 76.4800,-175.2223, 2038,    420.5,   0.9986,  34.8572,2,  34.8550,2,    298.5,2,    299.1,2,     6.50,2,    12.60,2,     0.00,2,     0.87,2,    5.254,2,    2.452,2,    0.320,2,  -999.00,9,  -999.00,9,   0.9786
  32PZ20020819,   CBL,     9,  1,     12,     12,2,20020825,2135, 76.4800,-175.2223, 2038,    494.1,   0.7958,  34.8584,2,  34.8575,2,    299.5,2,    300.5,2,     6.40,2,    12.50,2,     0.00,2,     0.87,2,    5.112,2,    2.361,2,    0.310,2,  -999.00,9,  -999.00,9,   0.7728
  32PZ20020819,   CBL,     9,  1,     11,     11,2,20020825,2135, 76.4800,-175.2223, 2038,    592.8,   0.5637,  34.8584,2,  34.8585,2,    301.5,2,    301.9,2,     6.50,2,    12.60,2,     0.00,2,     0.87,2,    5.038,2,    2.343,2,    0.292,2,  -999.00,9,  -999.00,9,   0.5367
  32PZ20020819,   CBL,     9,  1,     10,     10,2,20020825,2135, 76.4800,-175.2223, 2038,    691.5,   0.3473,  34.8605,2,  34.8589,2,    302.3,2,    302.8,2,     6.50,2,    12.60,2,     0.01,2,     0.88,2,    4.716,2,    2.143,2,    0.281,2,  -999.00,9,  -999.00,9,   0.3164
  32PZ20020819,   CBL,     9,  1,      9,      9,2,20020825,2135, 76.4800,-175.2223, 2038,    789.9,   0.1688,  34.8626,2,  34.8604,2,    304.8,2,    304.5,2,     6.40,2,    12.50,2,     0.00,2,     0.88,2,    5.019,6,    2.327,6,    0.311,6,  -999.00,9,  -999.00,9,   0.1340
  32PZ20020819,   CBL,     9,  1,      8,      8,2,20020825,2135, 76.4800,-175.2223, 2038,    938.3,  -0.0102,  34.8698,2,  34.8681,2,    303.8,2,    303.7,2,     7.00,2,    12.70,2,     0.00,2,     0.90,2,    4.348,2,    1.974,2,    0.247,2,  -999.00,9,  -999.00,9,  -0.0514
  32PZ20020819,   CBL,     9,  1,      7,      7,2,20020825,2135, 76.4800,-175.2223, 2038,   1086.2,  -0.1459,  34.8809,2,  34.8795,2,    303.0,2,    302.8,2,     7.40,2,    12.90,2,     0.01,2,     0.91,2,    3.852,2,    1.778,2,    0.212,2,  -999.00,9,  -999.00,9,  -0.1939
  32PZ20020819,   CBL,     9,  1,      6,      6,2,20020825,2135, 76.4800,-175.2223, 2038,   1284.4,  -0.2858,  34.8955,2,  34.8938,2,    302.7,2,    302.3,2,     8.00,2,    13.10,2,     0.00,2,     0.93,2,    2.800,2,    1.477,2,    0.144,2,  -999.00,9,  -999.00,9,  -0.3434
  32PZ20020819,   CBL,     9,  1,      5,      5,2,20020825,2135, 76.4800,-175.2223, 2038,   1483.0,  -0.3920,  34.9109,2,  34.9105,2,    301.0,2,    300.4,2,     8.90,2,    13.60,2,     0.00,2,     0.96,2,    1.798,2,    0.861,2,    0.076,2,  -999.00,9,  -999.00,9,  -0.4598
  32PZ20020819,   CBL,     9,  1,      4,      4,2,20020825,2135, 76.4800,-175.2223, 2038,   1681.8,  -0.4474,  34.9288,2,  34.9292,2,    296.3,2,    295.8,2,    10.50,2,    14.20,2,     0.00,2,     1.00,2,    0.758,2,    0.366,2,    0.027,2,  -999.00,9,  -999.00,9,  -0.5265
  32PZ20020819,   CBL,     9,  1,      3,      3,2,20020825,2135, 76.4800,-175.2223, 2038,   1830.9,  -0.4359,  34.9422,2,  34.9412,2,    290.9,2,    290.5,2,    12.00,2,    14.70,2,     0.00,2,     1.03,2,    0.300,6,    0.147,6,    0.014,6,  -999.00,9,  -999.00,9,  -0.5246
  32PZ20020819,   CBL,     9,  1,      2,      2,2,20020825,2135, 76.4800,-175.2223, 2038,   1930.8,  -0.4181,  34.9498,2,  34.9483,2,    287.3,2,    286.9,2,    13.10,2,    14.90,2,     0.00,2,     1.06,2,    0.077,2,    0.078,2,    0.005,2,  -999.00,9,  -999.00,9,  -0.5136
  32PZ20020819,   CBL,     9,  1,      1,      1,2,20020825,2135, 76.4800,-175.2223, 2038,   2009.8,  -0.3956,  34.9544,2,  34.9534,2,    281.9,2,    282.3,2,    14.60,2,    15.20,2,     0.00,2,     1.07,2,    0.021,2,    0.015,2,    0.003,2,  -999.00,9,  -999.00,9,  -0.4968
  32PZ20020819,   CBL,    10,  1,     30,     30,2,20020826,0235, 76.4740,-176.3522, 1744,      1.8,  -1.3404,  28.8546,2,  28.8572,2,    377.2,2,    378.8,2,     3.50,2,     0.00,2,     0.00,2,     0.73,2, -999.000,9, -999.000,9, -999.000,9,    -2.39,2,    57.60,2,  -1.3404
  32PZ20020819,   CBL,    10,  1,     29,     29,2,20020826,0235, 76.4740,-176.3522, 1744,     11.7,  -1.3864,  28.8569,2,  28.8574,2,    380.8,2,    379.1,2,     3.60,2,     0.00,2,     0.00,2,     0.73,2,    7.428,2,    3.783,2,    0.692,2,  -999.00,9,  -999.00,9,  -1.3865
  32PZ20020819,   CBL,    10,  1,     28,     28,2,20020826,0235, 76.4740,-176.3522, 1744,     26.9,  -1.2598,  29.3678,2,  29.5425,2,    383.2,2,    388.1,2,     3.50,2,     0.00,2,     0.00,2,     0.75,2, -999.000,9, -999.000,9, -999.000,9,  -999.00,9,  -999.00,9,  -1.2602
  32PZ20020819,   CBL,    10,  1,     27,     27,2,20020826,0235, 76.4740,-176.3522, 1744,     36.5,  -1.1978,  30.8082,2,  31.0258,2,    387.7,2,    369.7,2,     9.40,2,     2.40,2,     0.13,2,     1.02,2,    7.074,2,    3.554,2,    0.619,2,    -2.02,2,    61.30,2,  -1.1985
  32PZ20020819,   CBL,    10,  1,     26,     26,2,20020826,0235, 76.4740,-176.3522, 1744,     56.2,  -1.3416,  32.2116,2,  32.2345,2,    328.5,2,    307.8,2,    20.60,2,     9.70,2,     0.02,2,     1.51,2, -999.000,9, -999.000,9, -999.000,9,  -999.00,9,  -999.00,9,  -1.3427
  32PZ20020819,   CBL,    10,  1,     25,     25,2,20020826,0235, 76.4740,-176.3522, 1744,     71.0,  -1.4307,  32.5257,2,  32.5648,2,    307.1,2,    286.0,2,    29.00,2,    13.00,2,     0.01,2,     1.77,2,    6.363,2,    3.234,2,    0.476,2,    -1.55,2,    68.80,2,  -1.4321
  32PZ20020819,   CBL,    10,  1,     24,     24,2,20020826,0235, 76.4740,-176.3522, 1744,     85.7,  -1.4669,  32.8016,2,  32.8164,2,    284.8,2,    265.0,2,    35.10,2,    15.40,2,     0.01,2,     1.97,2, -999.000,9, -999.000,9, -999.000,9,  -999.00,9,  -999.00,9,  -1.4686
  32PZ20020819,   CBL,    10,  1,     23,     23,2,20020826,0235, 76.4740,-176.3522, 1744,    100.7,  -1.5381,  33.0519,2,  33.0659,2,    265.6,2,    260.6,2,    39.20,2,    16.10,2,     0.01,2,     2.03,2, -999.000,9, -999.000,9, -999.000,9,    -1.41,2,    70.00,2,  -1.5401
  32PZ20020819,   CBL,    10,  1,     22,     22,2,20020826,0235, 76.4740,-176.3522, 1744,    115.7,  -1.4529,  33.3813,2,  33.4393,2,    250.4,2,    239.9,2,    44.80,2,    17.50,2,     0.01,2,     2.13,2, -999.000,9, -999.000,9, -999.000,9,  -999.00,9,  -999.00,9,  -1.4554
  32PZ20020819,   CBL,    10,  1,     21,     21,2,20020826,0235, 76.4740,-176.3522, 1744,    130.3,  -1.3157,  33.8053,2,  33.8193,2,    238.9,2,    244.3,2,    33.30,2,    15.00,2,     0.01,2,     1.65,2,    6.082,2,    2.933,2,    0.386,2,    -0.91,2,    56.30,2,  -1.3188
  32PZ20020819,   CBL,    10,  1,     20,     20,2,20020826,0235, 76.4740,-176.3522, 1744,    145.3,  -1.3729,  34.0487,2,  34.0742,2,    270.1,2,    286.2,2,    12.90,2,    10.70,2,     0.01,2,     0.95,2, -999.000,9, -999.000,9, -999.000,9,  -999.00,9,  -999.00,9,  -1.3763
  32PZ20020819,   CBL,    10,  1,     19,     19,2,20020826,0235, 76.4740,-176.3522, 1744,    160.1,  -1.2838,  34.1869,2,  34.1916,2,    288.7,2,    297.1,2,     8.70,2,     9.90,2,     0.01,2,     0.82,2,    6.683,2,    3.199,2,    0.463,2,    -0.32,2,    43.30,2,  -1.2878
  32PZ20020819,   CBL,    10,  1,     18,     18,2,20020826,0235, 76.4740,-176.3522, 1744,    174.9,  -0.9845,  34.3052,2,  34.3148,2,    299.7,2,    300.4,2,     7.50,2,    10.20,2,     0.01,2,     0.81,2, -999.000,9, -999.000,9, -999.000,9,  -999.00,9,  -999.00,9,  -0.9893
  32PZ20020819,   CBL,    10,  1,     17,     17,2,20020826,0235, 76.4740,-176.3522, 1744,    189.4,  -0.6207,  34.3937,2,  34.4021,2,    298.0,2,    294.4,2,     7.90,2,    10.70,2,     0.00,2,     0.84,2, -999.000,9, -999.000,9, -999.000,9,    -0.09,2,    42.20,2,  -0.6266
  32PZ20020819,   CBL,    10,  1,     16,     16,2,20020826,0235, 76.4740,-176.3522, 1744,    229.1,   0.1692,  34.5900,2,  34.5953,2,    292.6,2,    292.4,2,     7.60,2,    11.50,2,     0.00,2,     0.86,2,    6.041,2,    2.809,2,    0.387,2,  -999.00,9,  -999.00,9,   0.1604
  32PZ20020819,   CBL,    10,  1,     15,     15,2,20020826,0235, 76.4740,-176.3522, 1744,    248.7,   0.4232,  34.6553,2,  34.6644,2,    292.4,2,    293.8,2,     7.20,2,    11.80,2,     0.00,2,     0.86,2,    5.836,2,    2.770,2,    0.377,2,     0.10,2,    41.20,2,   0.4130
  32PZ20020819,   CBL,    10,  1,     14,     14,2,20020826,0235, 76.4740,-176.3522, 1744,    278.3,   0.7905,  34.7569,2,  34.7556,2,    295.8,2,    294.8,2,     6.70,2,    12.30,2,     0.00,2,     0.87,2,    5.643,2,    2.793,2,    0.389,2,  -999.00,9,  -999.00,9,   0.7781
  32PZ20020819,   CBL,    10,  1,     13,     13,2,20020826,0235, 76.4740,-176.3522, 1744,    327.8,   1.0162,  34.8146,2,  34.8224,2,    298.5,2,    297.6,2,     6.40,2,    12.50,2,     0.00,2,     0.88,2,    5.529,2,    2.602,2,    0.370,2,  -999.00,9,  -999.00,9,   1.0008
  32PZ20020819,   CBL,    10,  1,     12,     12,2,20020826,0235, 76.4740,-176.3522, 1744,    381.8,   1.1494,  34.8495,2,  34.8489,2,    298.9,2,    298.6,2,     6.50,2,    12.50,2,     0.01,2,     0.88,2,    5.357,2,    2.480,2,    0.349,2,     0.15,2,    40.90,2,   1.1309
  32PZ20020819,   CBL,    10,  1,     11,     11,2,20020826,0235, 76.4740,-176.3522, 1744,    421.0,   1.0471,  34.8459,2,  34.8454,2,    298.7,2,    297.7,2,     6.70,2,    12.70,2,     0.00,2,     0.88,2,    5.182,2,    2.404,2,    0.328,2,  -999.00,9,  -999.00,9,   1.0269
  32PZ20020819,   CBL,    10,  1,     10,     10,2,20020826,0235, 76.4740,-176.3522, 1744,    495.0,   0.8843,  34.8589,2,  34.8587,2,    301.0,2,    300.4,2,     6.50,2,    12.70,2,     0.00,2,     0.89,2,    5.154,2,    2.401,2,    0.326,2,  -999.00,9,  -999.00,9,   0.8608
  32PZ20020819,   CBL,    10,  1,      9,      9,2,20020826,0235, 76.4740,-176.3522, 1744,    593.7,   0.6111,  34.8601,2,  34.8601,2,    301.4,2,    302.3,2,     6.40,2,    12.60,2,     0.00,2,     0.88,2,    5.092,2,    2.378,2,    0.322,2,  -999.00,9,  -999.00,9,   0.5838
  32PZ20020819,   CBL,    10,  1,      8,      8,2,20020826,0235, 76.4740,-176.3522, 1744,    692.8,   0.4069,  34.8631,2,  34.8624,2,    303.4,2,    303.8,2,     6.40,2,    12.40,2,     0.00,2,     0.88,2, -999.000,9, -999.000,9, -999.000,9,  -999.00,9,  -999.00,9,   0.3756
  32PZ20020819,   CBL,    10,  1,      7,      7,2,20020826,0235, 76.4740,-176.3522, 1744,    791.6,   0.1919,  34.8629,2,  34.8636,2,    305.0,2,    304.6,2,     6.40,2,    12.50,2,     0.00,2,     0.89,2,    5.105,2,    2.348,2,    0.336,2,     0.28,2,    41.90,2,   0.1568
  32PZ20020819,   CBL,    10,  1,      6,      6,2,20020826,0235, 76.4740,-176.3522, 1744,    939.2,  -0.0014,  34.8694,2,  34.8699,2,    304.5,2,    305.2,2,     6.70,2,    12.70,2,     0.00,2,     0.89,2,    4.498,2,    2.095,2,    0.261,2,  -999.00,9,  -999.00,9,  -0.0428
  32PZ20020819,   CBL,    10,  1,      5,      5,2,20020826,0235, 76.4740,-176.3522, 1744,   1086.2,  -0.1395,  34.8797,2,  34.8799,2,    304.1,2,    303.8,2,     7.10,2,    12.90,2,     0.00,2,     0.91,2,    3.979,6,    1.875,6,    0.224,6,  -999.00,9,  -999.00,9,  -0.1875
  32PZ20020819,   CBL,    10,  1,      4,      4,2,20020826,0235, 76.4740,-176.3522, 1744,   1284.1,  -0.2807,  34.8944,2,  34.8946,2,    303.0,2,    302.9,2,     7.80,2,    13.20,2,     0.00,2,     0.94,2,    3.194,2,    1.509,2,    0.176,2,  -999.00,9,  -999.00,9,  -0.3383
  32PZ20020819,   CBL,    10,  1,      3,      3,2,20020826,0235, 76.4740,-176.3522, 1744,   1483.0,  -0.3999,  34.9113,2,  34.9141,2,    300.3,2,    300.7,2,     9.00,2,    13.60,2,     0.00,2,     0.97,2,    1.941,2,    0.951,2,    0.094,2,  -999.00,9,  -999.00,9,  -0.4676
  32PZ20020819,   CBL,    10,  1,      2,      2,2,20020826,0235, 76.4740,-176.3522, 1744,   1632.2,  -0.4390,  34.9288,2,  34.9288,2,    294.7,2,    294.7,2,    10.80,2,    14.40,2,     0.00,2,     1.01,2,    0.886,2,    0.446,2,    0.040,2,  -999.00,9,  -999.00,9,  -0.5152
  32PZ20020819,   CBL,    10,  1,      1,      1,2,20020826,0235, 76.4740,-176.3522, 1744,   1716.9,  -0.4324,  34.9400,2,  34.9406,2,    290.9,2,    290.6,2,    11.90,2,    14.70,2,     0.00,2,     1.04,2,    0.465,2,    0.241,2,    0.023,2,  -999.00,9,  -999.00,9,  -0.5140