BOTTLE,20220815CCHSIOAMB
EXPOCODE,SECT_ID,STNNBR,CASTNO,SAMPNO,BTLNBR,BTLNBR_FLAG_W,DATE,TIME,LATITUDE,LONGITUDE,DEPTH,CTDPRS,CTDTMP,CTDSAL,CTDSAL_FLAG_W,SALNTY,SALNTY_FLAG_W,CTDOXY,CTDOXY_FLAG_W,OXYGEN,OXYGEN_FLAG_W,SILCAT,SILCAT_FLAG_W,NITRAT,NITRAT_FLAG_W,NITRIT,NITRIT_FLAG_W,PHSPHT,PHSPHT_FLAG_W,CFC-11,CFC-11_FLAG_W,CFC-12,CFC-12_FLAG_W,CFC113,CFC113_FLAG_W,DELO18,DELO18_FLAG_W,BARIUM,BARIUM_FLAG_W,THETA
,,,,,,,,,,,METERS,DBAR,ITS-90,PSS-78,,PSS-78,,UMOL/KG,,UMOL/KG,,UMOL/KG,,UMOL/KG,,UMOL/KG,,UMOL/KG,,PMOL/KG,,PMOL/KG,,PMOL/KG,,/MILLE,,NMOL/KG,,DEG C
  32PZ20020819,   CBL,    27,  1,     24,     24,2,20020831,0021, 79.9618,-179.8897, 1632,      1.7,  -1.4436,  29.9525,2,  29.9524,2,    371.6,2,    373.5,2,     8.90,2,     1.70,2,     0.06,2,     0.50,2, -999.000,9, -999.000,9, -999.000,9,  -999.00,9,  -999.00,9,  -1.4436
  32PZ20020819,   CBL,    27,  1,     23,     23,2,20020831,0021, 79.9618,-179.8897, 1632,     12.5,  -1.4647,  29.9530,2,  29.9517,2,    375.1,2,    374.2,2,     8.90,2,     1.70,2,     0.06,2,     0.50,2,    7.716,2,    3.903,2,    0.686,2,    -3.95,2,    58.30,2,  -1.4649
  32PZ20020819,   CBL,    27,  1,     22,     22,2,20020831,0021, 79.9618,-179.8897, 1632,     22.7,  -1.4812,  29.9577,2,  29.9820,2,    376.2,2,    373.6,2,     8.90,2,     1.80,2,     0.06,2,     0.51,2, -999.000,9, -999.000,9, -999.000,9,    -4.04,2,    59.60,2,  -1.4815
  32PZ20020819,   CBL,    27,  1,     21,     21,2,20020831,0021, 79.9618,-179.8897, 1632,     37.1,  -1.4943,  30.5031,2,  30.5182,2,    373.6,2,    368.7,2,     9.60,2,     2.70,2,     0.06,2,     0.56,2, -999.000,9, -999.000,9, -999.000,9,  -999.00,9,  -999.00,9,  -1.4948
  32PZ20020819,   CBL,    27,  1,     20,     20,2,20020831,0021, 79.9618,-179.8897, 1632,     52.3,  -1.6042,  32.4389,2,  32.6618,2,    345.2,2,    315.4,2,    13.00,2,     7.60,2,     0.01,2,     0.90,2,    7.365,2,    3.660,2,    0.548,2,    -1.59,2,    52.80,2,  -1.6051
  32PZ20020819,   CBL,    27,  1,     19,     19,2,20020831,0021, 79.9618,-179.8897, 1632,     61.6,  -1.5661,  33.3278,2,  33.4398,2,    313.1,2,    298.1,2,    13.90,2,     9.20,2,     0.01,2,     0.94,2, -999.000,9, -999.000,9, -999.000,9,    -1.07,2,    49.90,2,  -1.5673
  32PZ20020819,   CBL,    27,  1,     18,     18,2,20020831,0021, 79.9618,-179.8897, 1632,     71.7,  -1.5437,  33.7164,2,  33.7339,2,    301.7,2,    302.7,2,    11.20,2,     9.00,2,     0.01,2,     0.85,2, -999.000,9, -999.000,9, -999.000,9,    -0.79,2,    47.00,2,  -1.5452
  32PZ20020819,   CBL,    27,  1,     17,     17,2,20020831,0021, 79.9618,-179.8897, 1632,     86.1,  -1.5219,  33.9435,2,  33.9569,2,    305.5,2,    307.8,2,     7.90,2,     8.70,2,     0.01,2,     0.75,2, -999.000,9, -999.000,9, -999.000,9,    -0.55,2,    45.40,2,  -1.5237
  32PZ20020819,   CBL,    27,  1,     16,     16,2,20020831,0021, 79.9618,-179.8897, 1632,     96.3,  -1.4730,  34.0611,2,  34.0752,2,    309.4,2,    309.2,2,     6.70,2,     8.70,2,     0.00,2,     0.74,2, -999.000,9, -999.000,9, -999.000,9,  -999.00,9,  -999.00,9,  -1.4751
  32PZ20020819,   CBL,    27,  1,     15,     15,2,20020831,0021, 79.9618,-179.8897, 1632,    106.2,  -1.3686,  34.1736,2,  34.1852,2,    310.4,2,    310.6,2,     5.90,2,     8.90,2,     0.00,2,     0.73,2,    6.875,6,    3.333,6,    0.489,6,    -0.31,2,    43.80,2,  -1.3711
  32PZ20020819,   CBL,    27,  1,     14,     14,2,20020831,0021, 79.9618,-179.8897, 1632,    120.8,  -1.1296,  34.2595,2,  34.2619,2,    311.3,2,    310.2,2,     5.70,2,     9.10,2,     0.00,2,     0.73,2, -999.000,9, -999.000,9, -999.000,9,  -999.00,9,  -999.00,9,  -1.1327
  32PZ20020819,   CBL,    27,  1,     13,     13,2,20020831,0021, 79.9618,-179.8897, 1632,    150.0,  -0.5451,  34.4161,2,  34.4310,2,    306.7,2,    305.5,2,     5.70,2,    10.00,2,     0.00,2,     0.77,2, -999.000,9, -999.000,9, -999.000,9,  -999.00,9,  -999.00,9,  -0.5498
  32PZ20020819,   CBL,    27,  1,     12,     12,2,20020831,0021, 79.9618,-179.8897, 1632,    213.2,   0.3237,  34.6514,2,  34.6618,2,    301.3,2,    302.6,2,     5.70,2,    11.20,2,     0.00,2,     0.82,2,    5.987,2,    2.915,2,    0.403,2,     0.06,2,    41.60,2,   0.3152
  32PZ20020819,   CBL,    27,  1,     11,     11,2,20020831,0021, 79.9618,-179.8897, 1632,    282.9,   0.8613,  34.7985,2,  34.7999,2,    300.4,2,    300.4,2,     5.90,2,    12.10,2,     0.00,2,     0.85,2, -999.000,9, -999.000,9, -999.000,9,  -999.00,9,  -999.00,9,   0.8485
  32PZ20020819,   CBL,    27,  1,     10,     10,2,20020831,0021, 79.9618,-179.8897, 1632,    355.9,   1.0833,  34.8427,2,  34.8489,3,    301.4,2,    301.8,2,     5.90,2,    12.30,2,     0.00,2,     0.87,2,    5.588,2,    2.715,2,    0.374,2,     0.13,2,    41.30,2,   1.0663
  32PZ20020819,   CBL,    27,  1,      9,      9,2,20020831,0021, 79.9618,-179.8897, 1632,    409.0,   1.0036,  34.8498,2,  34.8491,2,    303.1,2,    303.0,2,     6.00,2,    12.30,2,     0.00,2,     0.87,2,    5.603,2,    2.735,2,    0.388,2,  -999.00,9,  -999.00,9,   0.9841
  32PZ20020819,   CBL,    27,  1,      8,      8,2,20020831,0021, 79.9618,-179.8897, 1632,    460.1,   0.9072,  34.8582,2,  34.8576,2,    303.8,2,    303.5,2,     6.00,2,    12.40,2,     0.00,2,     0.87,2,    5.558,2,    2.697,2,    0.383,2,  -999.00,9,  -999.00,9,   0.8855
  32PZ20020819,   CBL,    27,  1,      7,      7,2,20020831,0021, 79.9618,-179.8897, 1632,    673.6,   0.3746,  34.8611,2,  34.8654,3,    305.1,2,    304.2,2,     6.40,2,    12.50,2,     0.00,2,     0.88,2, -999.000,9, -999.000,9, -999.000,9,  -999.00,9,  -999.00,9,   0.3445
  32PZ20020819,   CBL,    27,  1,      6,      6,2,20020831,0021, 79.9618,-179.8897, 1632,    864.3,   0.0394,  34.8657,2,  34.8652,2,    305.8,2,    306.4,2,     6.60,2,    12.50,2,     0.00,2,     0.89,2,    4.954,2,    2.351,2,    0.315,2,     0.21,2,    42.10,2,   0.0016
  32PZ20020819,   CBL,    27,  1,      5,      5,2,20020831,0021, 79.9618,-179.8897, 1632,   1016.7,  -0.1026,  34.8779,2,  34.8780,2,    304.4,2,    304.3,2,     7.00,2,    12.80,2,     0.00,2,     0.91,2, -999.000,9, -999.000,9, -999.000,9,  -999.00,9,  -999.00,9,  -0.1472
  32PZ20020819,   CBL,    27,  1,      4,      4,2,20020831,0021, 79.9618,-179.8897, 1632,   1274.2,  -0.3083,  34.8971,2,  34.8965,2,    303.2,2,    303.2,2,     7.80,2,    13.20,2,     0.00,2,     0.94,2,    3.069,2,    1.472,2,    0.170,2,  -999.00,9,  -999.00,9,  -0.3651
  32PZ20020819,   CBL,    27,  1,      3,      3,2,20020831,0021, 79.9618,-179.8897, 1632,   1418.5,  -0.3925,  34.9079,2,  34.9077,2,    301.2,2,    301.7,2,     8.70,2,    13.70,2,     0.00,2,     0.97,2,    2.343,2,    1.121,2,    0.113,2,  -999.00,9,  -999.00,9,  -0.4566
  32PZ20020819,   CBL,    27,  1,      2,      2,2,20020831,0021, 79.9618,-179.8897, 1632,   1561.3,  -0.4618,  34.9226,2,  34.9225,2,    296.3,2,    296.4,2,    10.40,2,    14.40,2,     0.00,2,     1.01,2,    1.386,2,    0.671,2,    0.060,2,  -999.00,9,  -999.00,9,  -0.5334
  32PZ20020819,   CBL,    27,  1,      1,      1,2,20020831,0021, 79.9618,-179.8897, 1632,   1620.2,  -0.4569,  34.9335,2,  34.9360,2,    291.8,2,    291.8,2,    11.80,2,    14.70,2,     0.00,2,     1.03,2,    0.818,2,    0.398,2,    0.041,2,  -999.00,9,  -999.00,9,  -0.5322
  32PZ20020819,   CBL,    28,  1,     24,     24,2,20020831,0340, 79.9963,-179.0042, 1560,      1.8,  -1.5003,  29.9709,2,  29.9698,2,    370.1,2,    372.5,2,     8.90,2,     1.70,2,     0.06,2,     0.51,2, -999.000,9, -999.000,9, -999.000,9,  -999.00,9,  -999.00,9,  -1.5003
  32PZ20020819,   CBL,    28,  1,     23,     23,2,20020831,0340, 79.9963,-179.0042, 1560,     13.1,  -1.5024,  29.9711,2,  29.9689,2,    372.8,2,    373.5,2,     8.90,2,     1.70,2,     0.06,2,     0.51,2,    7.668,2,    3.879,2,    0.711,2,    -4.04,2,    61.60,2,  -1.5026
  32PZ20020819,   CBL,    28,  1,     22,     22,2,20020831,0340, 79.9963,-179.0042, 1560,     23.1,  -1.5098,  29.9914,2,  30.1244,2,    374.1,2,    370.9,2,     8.80,2,     1.90,2,     0.08,2,     0.51,2, -999.000,9, -999.000,9, -999.000,9,  -999.00,9,  -999.00,9,  -1.5101
  32PZ20020819,   CBL,    28,  1,     21,     21,2,20020831,0340, 79.9963,-179.0042, 1560,     38.0,  -1.5051,  30.5895,2,  30.6658,2,    372.7,2,    366.6,2,     9.40,2,     2.90,2,     0.05,2,     0.57,2, -999.000,9, -999.000,9, -999.000,9,    -3.87,2,    59.20,2,  -1.5057
  32PZ20020819,   CBL,    28,  1,     20,     20,2,20020831,0340, 79.9963,-179.0042, 1560,     52.7,  -1.5985,  32.4894,2,  32.6919,2,    341.7,2,    310.6,2,    13.60,2,     7.80,2,     0.01,2,     0.92,2,    7.348,2,    3.661,2,    0.550,2,    -1.60,2,    54.00,2,  -1.5994
  32PZ20020819,   CBL,    28,  1,     19,     19,2,20020831,0340, 79.9963,-179.0042, 1560,     62.2,  -1.5384,  33.3648,2,  33.4487,2,    304.5,2,    289.7,2,    16.70,2,     9.80,2,     0.01,2,     1.04,2, -999.000,9, -999.000,9, -999.000,9,    -1.11,2,    51.10,2,  -1.5397
  32PZ20020819,   CBL,    28,  1,     18,     18,2,20020831,0340, 79.9963,-179.0042, 1560,     69.6,  -1.5387,  33.7070,2,  33.7278,2,    295.4,2,    300.6,2,    11.70,2,     9.00,2,     0.01,2,     0.87,2, -999.000,9, -999.000,9, -999.000,9,    -0.86,2,    48.10,2,  -1.5401
  32PZ20020819,   CBL,    28,  1,     17,     17,2,20020831,0340, 79.9963,-179.0042, 1560,     87.0,  -1.5316,  33.9766,2,  33.9982,2,    309.3,2,    310.5,2,     7.00,2,     8.50,2,     0.01,2,     0.73,2, -999.000,9, -999.000,9, -999.000,9,    -0.55,2,    44.80,2,  -1.5335
  32PZ20020819,   CBL,    28,  1,     16,     16,2,20020831,0340, 79.9963,-179.0042, 1560,     96.8,  -1.4635,  34.0881,2,  34.1024,2,    310.2,2,    310.1,2,     6.30,2,     8.60,2,     0.01,2,     0.72,2, -999.000,9, -999.000,9, -999.000,9,  -999.00,9,  -999.00,9,  -1.4657
  32PZ20020819,   CBL,    28,  1,     15,     15,2,20020831,0340, 79.9963,-179.0042, 1560,    106.7,  -1.3507,  34.1731,2,  34.1844,2,    311.6,2,    311.9,2,     5.80,2,     8.80,2,     0.01,2,     0.72,2, -999.000,9, -999.000,9, -999.000,9,    -0.36,2,    43.70,2,  -1.3532
  32PZ20020819,   CBL,    28,  1,     14,     14,2,20020831,0340, 79.9963,-179.0042, 1560,    121.5,  -1.0696,  34.2659,2,  34.2791,2,    312.1,2,    311.1,2,     5.60,2,     9.10,2,     0.01,2,     0.72,2,    6.841,2,    3.292,2,    0.486,2,    -0.26,2,    43.70,2,  -1.0728
  32PZ20020819,   CBL,    28,  1,     13,     13,2,20020831,0340, 79.9963,-179.0042, 1560,    151.1,  -0.6819,  34.4001,2,  34.4202,2,    308.7,2,    306.5,2,     5.70,2,     9.90,2,     0.01,2,     0.77,2, -999.000,9, -999.000,9, -999.000,9,  -999.00,9,  -999.00,9,  -0.6865
  32PZ20020819,   CBL,    28,  1,     12,     12,2,20020831,0340, 79.9963,-179.0042, 1560,    219.3,   0.6273,  34.7329,2,  34.7238,2,    300.8,2,    301.1,2,     5.80,2,    11.70,2,     0.01,2,     0.84,2, -999.000,9, -999.000,9, -999.000,9,  -999.00,9,  -999.00,9,   0.6180
  32PZ20020819,   CBL,    28,  1,     11,     11,2,20020831,0340, 79.9963,-179.0042, 1560,    283.3,   0.9181,  34.8008,2,  34.8010,2,    299.1,2,    299.6,2,     5.90,2,    12.20,2,     0.01,2,     0.86,2,    5.642,2,    2.723,2,    0.400,2,  -999.00,9,  -999.00,9,   0.9052
  32PZ20020819,   CBL,    28,  1,     10,     10,2,20020831,0340, 79.9963,-179.0042, 1560,    377.2,   1.0528,  34.8406,2,  34.8422,2,    300.8,2,    301.9,2,     5.90,2,    12.30,2,     0.00,2,     0.86,2,    5.714,2,    2.766,2,    0.425,2,     0.19,2,    41.50,2,   1.0348
  32PZ20020819,   CBL,    28,  1,      9,      9,2,20020831,0340, 79.9963,-179.0042, 1560,    410.3,   0.9970,  34.8455,2,  34.8446,2,    301.7,2,    303.0,2,     6.00,2,    12.30,2,     0.00,2,     0.86,2, -999.000,9, -999.000,9, -999.000,9,  -999.00,9,  -999.00,9,   0.9775
  32PZ20020819,   CBL,    28,  1,      8,      8,2,20020831,0340, 79.9963,-179.0042, 1560,    458.7,   0.8854,  34.8515,2,  34.8508,2,    304.2,2,    303.9,2,     6.00,2,    12.40,2,     0.00,2,     0.87,2,    5.641,2,    2.733,2,    0.400,2,  -999.00,9,  -999.00,9,   0.8638
  32PZ20020819,   CBL,    28,  1,      7,      7,2,20020831,0340, 79.9963,-179.0042, 1560,    560.1,   0.6111,  34.8567,2,  34.8557,2,    304.9,2,    304.6,2,     6.10,2,    12.40,2,     0.00,2,     0.87,2,    5.544,2,    2.722,2,    0.407,2,  -999.00,9,  -999.00,9,   0.5855
  32PZ20020819,   CBL,    28,  1,      6,      6,2,20020831,0340, 79.9963,-179.0042, 1560,    682.5,   0.3704,  34.8619,2,  34.8617,2,    304.3,2,    304.2,2,     6.30,2,    12.60,2,     0.01,2,     0.89,2,    5.106,2,    2.438,2,    0.340,2,  -999.00,9,  -999.00,9,   0.3398
  32PZ20020819,   CBL,    28,  1,      5,      5,2,20020831,0340, 79.9963,-179.0042, 1560,    798.5,   0.1457,  34.8632,2,  34.8629,2,    305.5,2,    305.1,2,     6.40,2,    12.60,2,     0.00,2,     0.89,2,    5.075,2,    2.391,2,    0.354,2,     0.24,2,    43.20,2,   0.1106
  32PZ20020819,   CBL,    28,  1,      4,      4,2,20020831,0340, 79.9963,-179.0042, 1560,   1011.6,  -0.1141,  34.8751,2,  34.8754,2,    305.1,2,    305.0,2,     6.90,2,    12.80,2,     0.00,2,     0.91,2,    4.376,2,    2.063,2,    0.267,2,  -999.00,9,  -999.00,9,  -0.1584
  32PZ20020819,   CBL,    28,  1,      3,      3,2,20020831,0340, 79.9963,-179.0042, 1560,   1216.1,  -0.2846,  34.8907,2,  34.8911,2,    303.9,2,    304.0,2,     7.70,2,    13.10,2,     0.00,2,     0.92,2,    3.617,2,    1.706,2,    0.217,2,  -999.00,9,  -999.00,9,  -0.3384
  32PZ20020819,   CBL,    28,  1,      2,      2,2,20020831,0340, 79.9963,-179.0042, 1560,   1420.7,  -0.4242,  34.9090,2,  34.9095,2,    300.0,2,    300.4,2,     9.20,2,    13.90,2,     0.00,2,     0.98,2,    2.214,2,    1.063,2,    0.119,2,  -999.00,9,  -999.00,9,  -0.4880
  32PZ20020819,   CBL,    28,  1,      1,      1,2,20020831,0340, 79.9963,-179.0042, 1560,   1525.6,  -0.4654,  34.9181,2,  34.9182,2,    297.4,2,    297.4,2,    10.20,2,    14.20,2,     0.00,2,     1.00,2,    1.559,2,    0.751,2,    0.074,2,  -999.00,9,  -999.00,9,  -0.5349