BOTTLE,20220815CCHSIOAMB
EXPOCODE,SECT_ID,STNNBR,CASTNO,SAMPNO,BTLNBR,BTLNBR_FLAG_W,DATE,TIME,LATITUDE,LONGITUDE,DEPTH,CTDPRS,CTDTMP,CTDSAL,CTDSAL_FLAG_W,SALNTY,SALNTY_FLAG_W,CTDOXY,CTDOXY_FLAG_W,OXYGEN,OXYGEN_FLAG_W,SILCAT,SILCAT_FLAG_W,NITRAT,NITRAT_FLAG_W,NITRIT,NITRIT_FLAG_W,PHSPHT,PHSPHT_FLAG_W,CFC-11,CFC-11_FLAG_W,CFC-12,CFC-12_FLAG_W,CFC113,CFC113_FLAG_W,DELO18,DELO18_FLAG_W,BARIUM,BARIUM_FLAG_W,THETA
,,,,,,,,,,,METERS,DBAR,ITS-90,PSS-78,,PSS-78,,UMOL/KG,,UMOL/KG,,UMOL/KG,,UMOL/KG,,UMOL/KG,,UMOL/KG,,PMOL/KG,,PMOL/KG,,PMOL/KG,,/MILLE,,NMOL/KG,,DEG C
  32PZ20020819,   CBL,    25,  1,     26,     26,2,20020830,1530, 79.7500, 177.7077, 1672,      1.8,  -1.4470,  30.0218,2,  30.0207,2,    371.8,2,    374.2,2,     9.40,2,     1.80,2,     0.06,2,     0.55,2, -999.000,9, -999.000,9, -999.000,9,  -999.00,9,  -999.00,9,  -1.4470
  32PZ20020819,   CBL,    25,  1,     25,     25,2,20020830,1530, 79.7500, 177.7077, 1672,     12.7,  -1.4427,  30.0239,2,  30.0238,2,    374.6,2,    373.8,2,     9.50,2,     1.80,2,     0.06,2,     0.55,2,    7.657,2,    3.883,2,    0.684,2,    -3.96,2,    59.10,2,  -1.4429
  32PZ20020819,   CBL,    25,  1,     24,     24,2,20020830,1530, 79.7500, 177.7077, 1672,     32.4,  -1.4710,  30.4162,2,  30.4458,2,    375.7,2,    367.6,2,    10.00,2,     2.50,2,     0.08,2,     0.62,2, -999.000,9, -999.000,9, -999.000,9,    -3.86,2,    59.60,2,  -1.4715
  32PZ20020819,   CBL,    25,  1,     23,     23,2,20020830,1530, 79.7500, 177.7077, 1672,     52.7,  -1.5881,  32.3876,2,  32.4477,2,    342.4,2,    319.0,2,    12.70,2,     6.60,2,     0.02,2,     1.00,2, -999.000,9, -999.000,9, -999.000,9,    -1.60,2,    53.40,2,  -1.5890
  32PZ20020819,   CBL,    25,  1,     22,     22,2,20020830,1530, 79.7500, 177.7077, 1672,     62.1,  -1.5622,  33.1657,2,  33.2226,2,    320.2,2,    300.0,2,    14.30,2,     8.80,2,     0.02,2,     0.94,2, -999.000,9, -999.000,9, -999.000,9,    -1.18,2,    52.10,2,  -1.5634
  32PZ20020819,   CBL,    25,  1,     21,     21,2,20020830,1530, 79.7500, 177.7077, 1672,     72.4,  -1.5423,  33.6686,2,  33.6862,2,    304.6,2,    305.1,2,    10.50,2,     8.60,2,     0.02,2,     0.82,2,    7.099,2,    3.487,2,    0.513,2,    -0.79,2,    48.80,2,  -1.5438
  32PZ20020819,   CBL,    25,  1,     20,     20,2,20020830,1530, 79.7500, 177.7077, 1672,     82.2,  -1.5402,  33.8684,2,  33.8852,2,    307.4,2,    308.4,2,     8.50,2,     8.50,2,     0.02,2,     0.77,2, -999.000,9, -999.000,9, -999.000,9,  -999.00,9,  -999.00,9,  -1.5419
  32PZ20020819,   CBL,    25,  1,     19,     19,2,20020830,1530, 79.7500, 177.7077, 1672,     91.7,  -1.5099,  34.0049,2,  34.0120,2,    310.6,2,    310.4,2,     7.10,2,     8.40,2,     0.02,2,     0.74,2, -999.000,9, -999.000,9, -999.000,9,  -999.00,9,  -999.00,9,  -1.5119
  32PZ20020819,   CBL,    25,  1,     18,     18,2,20020830,1530, 79.7500, 177.7077, 1672,    102.0,  -1.4577,  34.0896,2,  34.1041,2,    311.5,2,    309.7,2,     6.50,2,     8.70,2,     0.02,2,     0.73,2, -999.000,9, -999.000,9, -999.000,9,    -0.48,2,    45.40,2,  -1.4600
  32PZ20020819,   CBL,    25,  1,     17,     17,2,20020830,1530, 79.7500, 177.7077, 1672,    111.3,  -1.4237,  34.1549,2,  34.1712,2,    311.5,2,    312.3,2,     6.00,2,     8.70,2,     0.02,2,     0.72,2,    6.875,2,    3.355,2,    0.490,2,    -0.31,2,    45.30,2,  -1.4263
  32PZ20020819,   CBL,    25,  1,     16,     16,2,20020830,1530, 79.7500, 177.7077, 1672,    121.1,  -1.2994,  34.2204,2,  34.2286,2,    312.9,2,    311.3,2,     5.70,2,     8.80,2,     0.02,2,     0.72,2, -999.000,9, -999.000,9, -999.000,9,  -999.00,9,  -999.00,9,  -1.3023
  32PZ20020819,   CBL,    25,  1,     15,     15,2,20020830,1530, 79.7500, 177.7077, 1672,    150.7,  -0.7759,  34.3850,2,  34.3925,2,    312.4,2,    308.1,2,     5.70,2,     9.60,2,     0.02,2,     0.76,2,    6.438,2,    3.131,2,    0.465,2,  -999.00,9,  -999.00,9,  -0.7803
  32PZ20020819,   CBL,    25,  1,     14,     14,2,20020830,1530, 79.7500, 177.7077, 1672,    199.6,  -0.0097,  34.5870,2,  34.5889,2,    307.1,2,    304.7,2,     5.70,2,    10.70,2,     0.02,2,     0.80,2, -999.000,9, -999.000,9, -999.000,9,  -999.00,9,  -999.00,9,  -0.0170
  32PZ20020819,   CBL,    25,  1,     13,     13,2,20020830,1530, 79.7500, 177.7077, 1672,    257.1,   0.6969,  34.7563,2,  34.7557,2,    302.0,2,    302.0,2,     5.80,2,    11.70,2,     0.02,2,     0.84,2,    5.844,2,    2.853,2,    0.412,2,  -999.00,9,  -999.00,9,   0.6857
  32PZ20020819,   CBL,    25,  1,     12,     12,2,20020830,1530, 79.7500, 177.7077, 1672,    324.7,   1.0014,  34.8257,2,  34.8256,2,    302.3,2,    302.1,2,     5.90,2,    12.10,2,     0.02,2,     0.86,2,    5.680,2,    2.767,2,    0.404,2,  -999.00,9,  -999.00,9,   0.9862
  32PZ20020819,   CBL,    25,  1,     11,     11,2,20020830,1530, 79.7500, 177.7077, 1672,    375.3,   1.0871,  34.8444,2,  34.8433,2,    302.1,2,    302.5,2,     5.90,2,    12.20,2,     0.02,2,     0.86,2,    5.636,2,    2.736,2,    0.400,2,     0.13,2,    42.50,2,   1.0691
  32PZ20020819,   CBL,    25,  1,     10,     10,2,20020830,1530, 79.7500, 177.7077, 1672,    417.1,   1.0262,  34.8536,2,  34.8529,2,    302.9,2,    303.3,2,     5.90,2,    12.20,2,     0.02,2,     0.87,2,    5.609,2,    2.801,2,    0.401,2,  -999.00,9,  -999.00,9,   1.0062
  32PZ20020819,   CBL,    25,  1,      9,      9,2,20020830,1530, 79.7500, 177.7077, 1672,    481.7,   0.8719,  34.8594,2,  34.8610,2,    303.8,2,    304.2,2,     6.00,2,    12.20,2,     0.02,2,     0.87,2,    5.506,6,    2.683,6,    0.383,6,  -999.00,9,  -999.00,9,   0.8492
  32PZ20020819,   CBL,    25,  1,      8,      8,2,20020830,1530, 79.7500, 177.7077, 1672,    621.8,   0.5089,  34.8602,2,  34.8601,2,    305.7,2,    305.9,2,     6.10,2,    12.20,2,     0.02,2,     0.87,2,    5.407,2,    2.625,2,    0.381,2,  -999.00,9,  -999.00,9,   0.4807
  32PZ20020819,   CBL,    25,  1,      7,      7,2,20020830,1530, 79.7500, 177.7077, 1672,    762.4,   0.2139,  34.8604,2,  34.8603,2,    306.2,2,    305.8,2,     6.30,2,    12.40,2,     0.02,2,     0.88,2,    5.244,2,    2.551,2,    0.362,2,     0.18,2,    42.70,2,   0.1802
  32PZ20020819,   CBL,    25,  1,      6,      6,2,20020830,1530, 79.7500, 177.7077, 1672,    951.2,  -0.0827,  34.8668,2,  34.8670,2,    307.0,2,    306.8,2,     6.70,2,    12.50,2,     0.02,2,     0.89,2,    5.094,2,    2.463,2,    0.349,2,  -999.00,9,  -999.00,9,  -0.1240
  32PZ20020819,   CBL,    25,  1,      5,      5,2,20020830,1530, 79.7500, 177.7077, 1672,   1139.8,  -0.2448,  34.8788,2,  34.8785,2,    306.3,2,    305.4,2,     7.20,2,    12.70,2,     0.02,2,     0.92,2,    4.636,2,    2.236,2,    0.307,2,  -999.00,9,  -999.00,9,  -0.2948
  32PZ20020819,   CBL,    25,  1,      4,      4,2,20020830,1530, 79.7500, 177.7077, 1672,   1281.8,  -0.3648,  34.8879,2,  34.8869,2,    305.1,2,    305.1,2,     7.80,2,    13.00,2,     0.02,2,     0.93,2, -999.000,9, -999.000,9, -999.000,9,  -999.00,9,  -999.00,9,  -0.4214
  32PZ20020819,   CBL,    25,  1,      3,      3,2,20020830,1530, 79.7500, 177.7077, 1672,   1425.8,  -0.4424,  34.9006,2,  34.9006,2,    303.1,2,    302.7,2,     8.50,2,    13.50,2,     0.02,2,     0.97,2,    2.885,2,    1.409,2,    0.178,2,  -999.00,9,  -999.00,9,  -0.5063
  32PZ20020819,   CBL,    25,  1,      2,      2,2,20020830,1530, 79.7500, 177.7077, 1672,   1575.4,  -0.5026,  34.9170,2,  34.9183,2,    298.6,2,    297.4,2,    10.20,2,    14.20,2,     0.02,2,     1.00,2,    1.585,2,    0.766,2,    0.083,2,  -999.00,9,  -999.00,9,  -0.5745
  32PZ20020819,   CBL,    25,  1,      1,      1,2,20020830,1530, 79.7500, 177.7077, 1672,   1663.0,  -0.4729,  34.9342,2,  34.9325,2,    292.1,2,    292.4,2,    11.80,2,    14.60,2,     0.02,2,     1.03,2,    0.822,2,    0.396,2,    0.035,2,  -999.00,9,  -999.00,9,  -0.5506
  32PZ20020819,   CBL,    26,  1,     25,     25,2,20020830,1844, 79.8930, 178.7167, 1820,      1.4,  -1.4528,  29.9520,2,  29.9455,2,    372.0,2,    374.5,2,     9.00,2,     1.40,2,     0.05,2,     0.51,2, -999.000,9, -999.000,9, -999.000,9,  -999.00,9,  -999.00,9,  -1.4528
  32PZ20020819,   CBL,    26,  1,     24,     24,2,20020830,1844, 79.8930, 178.7167, 1820,     12.8,  -1.4609,  29.9539,2,  29.9537,2,    374.5,2,    374.2,2,     9.00,2,     1.40,2,     0.05,2,     0.52,2,    7.663,2,    3.868,2,    0.694,2,    -4.01,2,    59.20,2,  -1.4611
  32PZ20020819,   CBL,    26,  1,     23,     23,2,20020830,1844, 79.8930, 178.7167, 1820,     22.8,  -1.4594,  30.0286,2,  30.0459,2,    375.9,2,    375.7,2,     8.50,2,     1.20,2,     0.05,2,     0.59,2, -999.000,9, -999.000,9, -999.000,9,    -3.73,2,    57.60,2,  -1.4597
  32PZ20020819,   CBL,    26,  1,     22,     22,2,20020830,1844, 79.8930, 178.7167, 1820,     37.4,  -1.5070,  30.6708,2,  30.7653,2,    375.9,2,    372.5,2,     8.80,2,     2.00,2,     0.06,2,     0.76,2, -999.000,9, -999.000,9, -999.000,9,  -999.00,9,  -999.00,9,  -1.5076
  32PZ20020819,   CBL,    26,  1,     21,     21,2,20020830,1844, 79.8930, 178.7167, 1820,     57.0,  -1.5961,  32.9696,2,  33.0362,2,    330.0,2,    322.0,2,     7.60,2,     6.60,2,     0.03,2,     0.66,2, -999.000,9, -999.000,9, -999.000,9,    -1.30,2,    48.50,2,  -1.5972
  32PZ20020819,   CBL,    26,  1,     20,     20,2,20020830,1844, 79.8930, 178.7167, 1820,     67.3,  -1.5804,  33.5522,2,  33.6269,2,    316.4,2,    315.6,2,     7.30,2,     7.50,2,     0.03,2,     0.69,2,    7.228,2,    3.557,2,    0.519,2,    -0.78,2,    46.10,2,  -1.5818
  32PZ20020819,   CBL,    26,  1,     19,     19,2,20020830,1844, 79.8930, 178.7167, 1820,     77.0,  -1.5560,  33.8361,2,  33.8530,2,    313.3,2,    312.5,2,     7.70,2,     8.00,2,     0.03,2,     0.73,2, -999.000,9, -999.000,9, -999.000,9,    -0.73,2,    45.70,2,  -1.5576
  32PZ20020819,   CBL,    26,  1,     18,     18,2,20020830,1844, 79.8930, 178.7167, 1820,     87.0,  -1.5030,  33.9716,2,  33.9936,2,    314.4,2,    305.4,2,     8.60,2,     8.70,2,     0.02,2,     0.78,2, -999.000,9, -999.000,9, -999.000,9,    -0.57,2,    46.40,2,  -1.5049
  32PZ20020819,   CBL,    26,  1,     17,     17,2,20020830,1844, 79.8930, 178.7167, 1820,     96.6,  -1.4610,  34.0877,2,  34.0898,2,    312.4,2,    308.8,2,     7.20,2,     8.70,2,     0.02,2,     0.74,2, -999.000,9, -999.000,9, -999.000,9,    -0.41,2,    44.50,2,  -1.4632
  32PZ20020819,   CBL,    26,  1,     16,     16,2,20020830,1844, 79.8930, 178.7167, 1820,    106.3,  -1.4219,  34.1570,2,  34.1595,2,    311.8,2,    311.5,2,     6.30,2,     8.60,2,     0.02,2,     0.72,2,    6.878,2,    3.354,2,    0.484,2,    -0.41,2,    49.30,2,  -1.4243
  32PZ20020819,   CBL,    26,  1,     15,     15,2,20020830,1844, 79.8930, 178.7167, 1820,    121.6,  -1.3388,  34.2369,2,  34.2503,2,    311.3,2,    314.9,2,     5.50,2,     8.70,2,     0.02,2,     0.71,2, -999.000,9, -999.000,9, -999.000,9,  -999.00,9,  -999.00,9,  -1.3417
  32PZ20020819,   CBL,    26,  1,     14,     14,2,20020830,1844, 79.8930, 178.7167, 1820,    151.1,  -0.7548,  34.4019,2,  34.4144,2,    309.0,2,    308.0,2,     5.70,2,     9.60,2,     0.02,2,     0.75,2, -999.000,9, -999.000,9, -999.000,9,  -999.00,9,  -999.00,9,  -0.7593
  32PZ20020819,   CBL,    26,  1,     13,     13,2,20020830,1844, 79.8930, 178.7167, 1820,    210.0,   0.3111,  34.6516,2,  34.6489,2,    303.5,2,    303.3,2,     5.70,2,    11.00,2,     0.02,2,     0.81,2,    6.154,2,    2.998,2,    0.432,2,  -999.00,9,  -999.00,9,   0.3028
  32PZ20020819,   CBL,    26,  1,     12,     12,2,20020830,1844, 79.8930, 178.7167, 1820,    269.2,   0.7153,  34.7608,2,  34.7660,2,    300.7,2,    301.9,2,     5.80,2,    11.70,2,     0.02,2,     0.84,2, -999.000,9, -999.000,9, -999.000,9,  -999.00,9,  -999.00,9,   0.7035
  32PZ20020819,   CBL,    26,  1,     11,     11,2,20020830,1844, 79.8930, 178.7167, 1820,    328.2,   1.0097,  34.8290,2,  34.8283,2,    302.9,2,    301.2,2,     6.10,2,    12.10,2,     0.02,2,     0.86,2,    5.665,2,    2.752,2,    0.402,2,  -999.00,9,  -999.00,9,   0.9943
  32PZ20020819,   CBL,    26,  1,     10,     10,2,20020830,1844, 79.8930, 178.7167, 1820,    371.4,   1.0866,  34.8443,2,  34.8418,2,    302.4,2,    301.8,2,     6.10,2,    12.20,2,     0.02,2,     0.86,2,    5.519,2,    2.667,2,    0.377,2,     0.12,2,    41.80,2,   1.0688
  32PZ20020819,   CBL,    26,  1,      9,      9,2,20020830,1844, 79.8930, 178.7167, 1820,    445.4,   0.9737,  34.8576,2,  34.8563,2,    303.5,2,    303.2,2,     6.10,2,    12.20,2,     0.02,2,     0.86,2,    5.618,2,    2.713,2,    0.398,2,  -999.00,9,  -999.00,9,   0.9525
  32PZ20020819,   CBL,    26,  1,      8,      8,2,20020830,1844, 79.8930, 178.7167, 1820,    591.9,   0.6181,  34.8610,2,  34.8604,2,    303.8,2,    304.3,2,     6.40,2,    12.30,2,     0.02,2,     0.87,2, -999.000,9, -999.000,9, -999.000,9,  -999.00,9,  -999.00,9,   0.5908
  32PZ20020819,   CBL,    26,  1,      7,      7,2,20020830,1844, 79.8930, 178.7167, 1820,    785.5,   0.2152,  34.8632,2,  34.8633,2,    304.5,2,    305.2,2,     6.40,2,    12.40,2,     0.02,2,     0.88,2,    5.127,2,    2.452,2,    0.336,2,     0.26,2,    42.00,2,   0.1803
  32PZ20020819,   CBL,    26,  1,      6,      6,2,20020830,1844, 79.8930, 178.7167, 1820,    980.1,  -0.0696,  34.8698,2,  34.8696,2,    305.5,2,    305.4,2,     6.60,2,    12.60,2,     0.02,2,     0.90,2, -999.000,9, -999.000,9, -999.000,9,  -999.00,9,  -999.00,9,  -0.1126
  32PZ20020819,   CBL,    26,  1,      4,      4,2,20020830,1844, 79.8930, 178.7167, 1820,   1221.0,  -0.2365,  34.8896,2,  34.8882,2,    304.2,2,    303.9,2,     7.40,2,    13.10,2,     0.02,2,     0.92,2,    3.449,2,    1.622,2,    0.192,2,  -999.00,9,  -999.00,9,  -0.2910
  32PZ20020819,   CBL,    26,  1,      3,      3,2,20020830,1844, 79.8930, 178.7167, 1820,   1466.5,  -0.3857,  34.9074,2,  34.9078,2,    302.0,2,    301.5,2,     8.80,2,    13.70,2,     0.02,2,     0.96,2,    2.385,2,    1.143,2,    0.132,2,  -999.00,9,  -999.00,9,  -0.4526
  32PZ20020819,   CBL,    26,  1,      2,      2,2,20020830,1844, 79.8930, 178.7167, 1820,   1665.1,  -0.4574,  34.9243,2,  34.9239,2,    295.6,2,    295.5,2,    10.70,2,    14.30,2,     0.02,2,     1.01,2,    1.232,2,    0.587,2,    0.049,2,  -999.00,9,  -999.00,9,  -0.5354
  32PZ20020819,   CBL,    26,  1,      1,      1,2,20020830,1844, 79.8930, 178.7167, 1820,   1798.1,  -0.4245,  34.9441,2,  34.9453,2,    286.1,2,    286.5,2,    13.20,2,    15.00,2,     0.02,2,     1.07,2,    0.338,2,    0.156,2,    0.008,2,  -999.00,9,  -999.00,9,  -0.5113