BOTTLE,20220815CCHSIOAMB
EXPOCODE,SECT_ID,STNNBR,CASTNO,SAMPNO,BTLNBR,BTLNBR_FLAG_W,DATE,TIME,LATITUDE,LONGITUDE,DEPTH,CTDPRS,CTDTMP,CTDSAL,CTDSAL_FLAG_W,SALNTY,SALNTY_FLAG_W,CTDOXY,CTDOXY_FLAG_W,OXYGEN,OXYGEN_FLAG_W,SILCAT,SILCAT_FLAG_W,NITRAT,NITRAT_FLAG_W,NITRIT,NITRIT_FLAG_W,PHSPHT,PHSPHT_FLAG_W,CFC-11,CFC-11_FLAG_W,CFC-12,CFC-12_FLAG_W,CFC113,CFC113_FLAG_W,DELO18,DELO18_FLAG_W,BARIUM,BARIUM_FLAG_W,THETA
,,,,,,,,,,,METERS,DBAR,ITS-90,PSS-78,,PSS-78,,UMOL/KG,,UMOL/KG,,UMOL/KG,,UMOL/KG,,UMOL/KG,,UMOL/KG,,PMOL/KG,,PMOL/KG,,PMOL/KG,,/MILLE,,NMOL/KG,,DEG C
  32PZ20020819,   CBL,   100,  1,     24,     24,2,20020915,0648, 76.3917,-169.7812, 2235,     10.2,  -1.5015,  27.9990,2,  27.9958,2,    375.0,2,    377.6,2,     4.50,2,     0.10,2,     0.00,2,     0.64,2,    7.344,2,    3.800,2,    0.709,2,  -999.00,9,  -999.00,9,  -1.5016
  32PZ20020819,   CBL,   100,  1,     23,     23,2,20020915,0648, 76.3917,-169.7812, 2235,     30.8,  -0.8422,  30.8290,2,  30.8199,2,    379.8,2,    362.1,2,     7.50,2,     1.50,2,     0.33,2,     0.90,2,    6.647,2,    3.405,2,    0.614,2,  -999.00,9,  -999.00,9,  -0.8428
  32PZ20020819,   CBL,   100,  1,     22,     22,2,20020915,0648, 76.3917,-169.7812, 2235,     56.2,  -1.2155,  32.0820,2,  32.0676,2,    323.6,2,    317.0,2,    17.70,2,     8.40,2,     0.02,2,     1.39,2,    6.622,2,    3.406,2,    0.553,2,  -999.00,9,  -999.00,9,  -1.2166
  32PZ20020819,   CBL,   100,  1,     21,     21,2,20020915,0648, 76.3917,-169.7812, 2235,     71.8,  -1.0533,  32.3572,2,  32.3604,2,    304.5,2,    292.2,2,    24.80,2,    10.90,2,     0.01,2,     1.61,2,    6.167,2,    3.183,2,    0.507,2,  -999.00,9,  -999.00,9,  -1.0549
  32PZ20020819,   CBL,   100,  1,     20,     20,2,20020915,0648, 76.3917,-169.7812, 2235,     87.1,  -0.9193,  32.6024,2,  32.6049,2,    285.4,2,    276.2,2,    30.10,2,    13.60,2,     0.00,2,     1.82,2,    6.166,2,    3.126,2,    0.494,2,  -999.00,9,  -999.00,9,  -0.9214
  32PZ20020819,   CBL,   100,  1,     19,     19,2,20020915,0648, 76.3917,-169.7812, 2235,    100.9,  -1.1686,  32.7585,2,  32.7602,2,    265.8,2,    266.5,2,    34.90,2,    15.50,2,     0.01,2,     2.01,2,    6.150,2,    3.183,2,    0.506,2,  -999.00,9,  -999.00,9,  -1.1709
  32PZ20020819,   CBL,   100,  1,     18,     18,2,20020915,0648, 76.3917,-169.7812, 2235,    120.1,  -1.5225,  32.9826,2,  32.9944,2,    277.1,2,    275.5,2,    36.00,2,    15.40,2,     0.00,2,     1.92,2,    5.843,2,    2.992,2,    0.461,2,  -999.00,9,  -999.00,9,  -1.5249
  32PZ20020819,   CBL,   100,  1,     17,     17,2,20020915,0648, 76.3917,-169.7812, 2235,    137.5,  -1.5031,  33.2957,2,  33.3369,2,    267.6,2,    267.8,2,    38.20,2,    16.00,2,     0.00,2,     1.92,2,    5.672,2,    2.872,2,    0.427,2,  -999.00,9,  -999.00,9,  -1.5060
  32PZ20020819,   CBL,   100,  1,     16,     16,2,20020915,0648, 76.3917,-169.7812, 2235,    155.0,  -1.1710,  33.7693,2,  33.7877,2,    265.0,2,    258.1,2,    34.30,2,    15.80,2,     0.00,2,     1.73,2,    5.132,2,    2.536,2,    0.362,2,  -999.00,9,  -999.00,9,  -1.1749
  32PZ20020819,   CBL,   100,  1,     15,     15,2,20020915,0648, 76.3917,-169.7812, 2235,    173.3,  -0.8438,  34.2124,2,  34.2142,2,    246.0,2,    245.7,2,    25.50,2,    14.30,2,     0.00,2,     1.35,2,    5.450,2,    2.525,2,    0.335,2,  -999.00,9,  -999.00,9,  -0.8488
  32PZ20020819,   CBL,   100,  1,     14,     14,2,20020915,0648, 76.3917,-169.7812, 2235,    222.0,   0.1233,  34.5611,2,  34.5490,2,    276.5,2,    275.5,2,    11.60,2,    12.50,2,     0.00,2,     0.93,2,    5.881,2,    2.683,2,    0.370,2,  -999.00,9,  -999.00,9,   0.1149
  32PZ20020819,   CBL,   100,  1,     13,     13,2,20020915,0648, 76.3917,-169.7812, 2235,    268.3,   0.8367,  34.7523,2,  34.7482,2,    287.3,2,    288.4,2,     8.00,2,    12.80,2,     0.00,2,     0.88,2,    5.458,2,    2.525,2,    0.354,2,  -999.00,9,  -999.00,9,   0.8247
  32PZ20020819,   CBL,   100,  1,     12,     12,2,20020915,0648, 76.3917,-169.7812, 2235,    299.3,   0.9788,  34.7964,2,  34.7983,2,    293.5,2,    292.5,2,     7.00,2,    12.80,2,     0.00,2,     0.87,2,    5.358,2,    2.488,2,    0.350,2,  -999.00,9,  -999.00,9,   0.9649
  32PZ20020819,   CBL,   100,  1,     11,     11,2,20020915,0648, 76.3917,-169.7812, 2235,    365.0,   1.1206,  34.8477,2,  34.8488,2,    296.6,2,    296.2,2,     6.70,2,    12.80,2,     0.00,2,     0.87,2,    5.355,6,    2.462,6,    0.350,6,  -999.00,9,  -999.00,9,   1.1030
  32PZ20020819,   CBL,   100,  1,     10,     10,2,20020915,0648, 76.3917,-169.7812, 2235,    435.2,   1.0106,  34.8575,2,  34.8587,2,    297.7,2,    298.6,2,     6.70,2,    12.80,2,     0.00,2,     0.87,2,    5.160,2,    2.404,2, -999.000,9,  -999.00,9,  -999.00,9,   0.9898
  32PZ20020819,   CBL,   100,  1,      9,      9,2,20020915,0648, 76.3917,-169.7812, 2235,    535.7,   0.7380,  34.8579,2,  34.8565,2,    299.6,2,    300.3,2,     6.70,2,    12.80,2,     0.00,2,     0.87,2,    5.120,2,    2.349,2,    0.334,2,  -999.00,9,  -999.00,9,   0.7131
  32PZ20020819,   CBL,   100,  1,      8,      8,2,20020915,0648, 76.3917,-169.7812, 2235,    676.5,   0.4013,  34.8596,2,  34.8525,3,    301.6,2,    301.8,2,     6.80,2,    12.60,2,     0.00,2,     0.87,2,    4.904,2,    2.206,2,    0.308,2,  -999.00,9,  -999.00,9,   0.3709
  32PZ20020819,   CBL,   100,  1,      7,      7,2,20020915,0648, 76.3917,-169.7812, 2235,    839.2,   0.1145,  34.8639,2,  34.8588,3,    303.4,2,    303.1,2,     6.80,2,    12.70,2,     0.00,2,     0.88,2,    4.616,2,    2.087,2,    0.283,2,  -999.00,9,  -999.00,9,   0.0775
  32PZ20020819,   CBL,   100,  1,      6,      6,2,20020915,0648, 76.3917,-169.7812, 2235,   1051.4,  -0.1012,  34.8775,2,  34.8789,2,    303.9,2,    304.1,2,     7.20,2,    12.90,2,     0.00,2,     0.90,2,    4.013,2,    1.855,2,    0.228,2,  -999.00,9,  -999.00,9,  -0.1477
  32PZ20020819,   CBL,   100,  1,      5,      5,2,20020915,0648, 76.3917,-169.7812, 2235,   1338.6,  -0.2963,  34.8980,2,  34.9009,2,    302.6,2,    301.9,2,     8.00,2,    13.30,2,     0.00,2,     0.92,2,    2.640,2,    1.235,2,    0.125,2,  -999.00,9,  -999.00,9,  -0.3568
  32PZ20020819,   CBL,   100,  1,      4,      4,2,20020915,0648, 76.3917,-169.7812, 2235,   1629.8,  -0.4200,  34.9209,2,  34.9207,2,    299.2,2,    297.6,2,     9.70,2,    14.00,2,     0.00,2,     0.97,2,    1.247,2,    0.581,2,    0.045,2,  -999.00,9,  -999.00,9,  -0.4963
  32PZ20020819,   CBL,   100,  1,      3,      3,2,20020915,0648, 76.3917,-169.7812, 2235,   1925.2,  -0.4340,  34.9430,2,  34.9438,2,    290.6,2,    290.2,2,    12.00,2,    14.70,2,     0.00,2,     1.02,2,    0.319,6,    0.152,6,    0.017,6,  -999.00,9,  -999.00,9,  -0.5289
  32PZ20020819,   CBL,   100,  1,      2,      2,2,20020915,0648, 76.3917,-169.7812, 2235,   2074.3,  -0.3917,  34.9538,2,  34.9506,3,    284.4,2,    282.9,2,    14.60,2,    15.20,2,     0.00,2,     1.05,2,    0.078,2,    0.038,2,    0.004,2,  -999.00,9,  -999.00,9,  -0.4973
  32PZ20020819,   CBL,   100,  1,      1,      1,2,20020915,0648, 76.3917,-169.7812, 2235,   2215.1,  -0.3803,  34.9543,2,  34.9530,2,    281.7,2,    281.8,2,    15.00,2,    15.20,2,     0.00,2,     1.06,2,    0.065,2,    0.043,2,    0.000,2,  -999.00,9,  -999.00,9,  -0.4960
  32PZ20020819,   CBL,   101,  1,     24,     24,2,20020915,1105, 76.2462,-169.2152, 2052,     11.1,  -1.4870,  27.8932,2,  28.0004,2,    375.6,2,    378.6,2,     4.60,2,     0.10,2,     0.00,2,     0.64,2,    7.578,2,    3.841,2,    0.707,2,  -999.00,9,  -999.00,9,  -1.4871
  32PZ20020819,   CBL,   101,  1,     23,     23,2,20020915,1105, 76.2462,-169.2152, 2052,     28.3,  -0.8425,  30.4137,2,  30.7158,2,    389.1,2,    367.2,2,     7.40,2,     1.10,2,     0.19,2,     0.86,2,    6.984,2,    3.526,2,    0.618,2,  -999.00,9,  -999.00,9,  -0.8431
  32PZ20020819,   CBL,   101,  1,     22,     22,2,20020915,1105, 76.2462,-169.2152, 2052,     43.5,  -0.9142,  31.5727,2,  31.6716,2,    363.6,2,    340.7,2,    14.10,2,     4.90,2,     0.10,2,     1.18,2,    6.807,2,    3.394,2,    0.565,2,  -999.00,9,  -999.00,9,  -0.9152
  32PZ20020819,   CBL,   101,  1,     21,     21,2,20020915,1105, 76.2462,-169.2152, 2052,     60.4,  -1.0417,  32.1052,2,  32.1366,2,    326.8,2,    311.4,2,    20.10,2,     8.40,2,     0.02,2,     1.43,2,    6.574,2,    3.297,2,    0.531,2,  -999.00,9,  -999.00,9,  -1.0430
  32PZ20020819,   CBL,   101,  1,     20,     20,2,20020915,1105, 76.2462,-169.2152, 2052,     80.0,  -1.3546,  32.4008,2,  32.4468,2,    296.1,2,    293.9,2,    29.20,2,    11.80,2,     0.01,2,     1.69,2,    6.226,2,    3.134,2,    0.497,2,  -999.00,9,  -999.00,9,  -1.3562
  32PZ20020819,   CBL,   101,  1,     19,     19,2,20020915,1105, 76.2462,-169.2152, 2052,     97.0,  -1.4461,  32.5915,2,  32.6464,2,    290.1,2,    290.2,2,    32.90,2,    13.30,2,     0.01,2,     1.79,2,    6.231,2,    3.133,2,    0.503,2,  -999.00,9,  -999.00,9,  -1.4480
  32PZ20020819,   CBL,   101,  1,     18,     18,2,20020915,1105, 76.2462,-169.2152, 2052,    116.4,  -1.5368,  32.8364,2,  32.8752,2,    289.9,2,    290.3,2,    34.10,2,    14.20,2,     0.01,2,     1.82,2,    5.998,2,    2.969,2,    0.458,2,  -999.00,9,  -999.00,9,  -1.5391
  32PZ20020819,   CBL,   101,  1,     17,     17,2,20020915,1105, 76.2462,-169.2152, 2052,    135.6,  -1.5249,  33.1146,2,  33.1685,2,    287.1,2,    284.8,2,    34.20,2,    14.50,2,     0.01,2,     1.81,2,    5.731,2,    2.827,2,    0.404,2,  -999.00,9,  -999.00,9,  -1.5277
  32PZ20020819,   CBL,   101,  1,     16,     16,2,20020915,1105, 76.2462,-169.2152, 2052,    155.8,  -1.3163,  33.5868,2,  33.7450,2,    249.9,2,    259.8,2,    34.40,2,    15.50,2,     0.01,2,     1.74,2,    5.285,2,    2.594,2,    0.348,2,  -999.00,9,  -999.00,9,  -1.3200
  32PZ20020819,   CBL,   101,  1,     15,     15,2,20020915,1105, 76.2462,-169.2152, 2052,    175.6,  -0.9142,  34.0800,2,  34.1662,2,    249.1,2,    246.5,2,    28.00,2,    14.50,2,     0.01,2,     1.45,2,    5.229,6,    2.463,6,    0.304,6,  -999.00,9,  -999.00,9,  -0.9191
  32PZ20020819,   CBL,   101,  1,     14,     14,2,20020915,1105, 76.2462,-169.2152, 2052,    195.6,  -0.4761,  34.3942,2,  34.4271,2,    244.4,2,    252.5,2,    19.90,2,    13.20,2,     0.01,2,     1.14,2,    5.685,2,    2.612,2,    0.336,2,  -999.00,9,  -999.00,9,  -0.4825
  32PZ20020819,   CBL,   101,  1,     13,     13,2,20020915,1105, 76.2462,-169.2152, 2052,    220.1,   0.0235,  34.5421,2,  34.5487,2,    253.4,2,    267.9,2,    13.70,2,    12.80,2,     0.01,2,     0.98,2,    5.953,2,    2.740,2,    0.370,2,  -999.00,9,  -999.00,9,   0.0153
  32PZ20020819,   CBL,   101,  1,     12,     12,2,20020915,1105, 76.2462,-169.2152, 2052,    254.8,   0.5723,  34.6826,2,  34.6881,2,    276.9,2,    281.8,2,     9.60,2,    12.70,2,     0.01,2,     0.90,2,    5.777,2,    2.678,2,    0.374,2,  -999.00,9,  -999.00,9,   0.5615
  32PZ20020819,   CBL,   101,  1,     11,     11,2,20020915,1105, 76.2462,-169.2152, 2052,    317.0,   0.9905,  34.7970,2,  34.7970,2,    292.8,2,    292.7,2,     7.10,2,    12.70,2,     0.01,2,     0.87,2,    5.404,2,    2.514,2,    0.351,2,  -999.00,9,  -999.00,9,   0.9757
  32PZ20020819,   CBL,   101,  1,     10,     10,2,20020915,1105, 76.2462,-169.2152, 2052,    394.1,   1.1305,  34.8481,2,  34.8517,2,    297.0,2,    297.0,2,     6.70,2,    12.80,2,     0.01,2,     0.87,2,    5.357,2,    2.476,2,    0.344,2,  -999.00,9,  -999.00,9,   1.1114
  32PZ20020819,   CBL,   101,  1,      9,      9,2,20020915,1105, 76.2462,-169.2152, 2052,    497.1,   0.8666,  34.8583,2,  34.8587,2,    298.9,2,    299.4,2,     6.70,2,    12.80,2,     0.01,2,     0.87,2,    5.198,2,    2.407,2,    0.323,2,  -999.00,9,  -999.00,9,   0.8431
  32PZ20020819,   CBL,   101,  1,      8,      8,2,20020915,1105, 76.2462,-169.2152, 2052,    615.8,   0.5689,  34.8590,2,  34.8607,2,    300.9,2,    301.2,2,     6.60,2,    12.70,2,     0.01,2,     0.87,2,    5.174,2,    2.379,2,    0.321,2,  -999.00,9,  -999.00,9,   0.5407
  32PZ20020819,   CBL,   101,  1,      7,      7,2,20020915,1105, 76.2462,-169.2152, 2052,    754.0,   0.2854,  34.8601,2,  34.8605,2,    302.5,2,    302.9,2,     6.60,2,    12.60,2,     0.01,2,     0.87,2,    4.956,2,    2.256,2,    0.309,2,  -999.00,9,  -999.00,9,   0.2517
  32PZ20020819,   CBL,   101,  1,      6,      6,2,20020915,1105, 76.2462,-169.2152, 2052,    965.5,  -0.0164,  34.8696,2,  34.8695,2,    304.2,2,    303.7,2,     6.90,2,    12.80,2,     0.01,2,     0.89,2,    4.633,2,    2.122,2,    0.277,2,  -999.00,9,  -999.00,9,  -0.0590
  32PZ20020819,   CBL,   101,  1,      5,      5,2,20020915,1105, 76.2462,-169.2152, 2052,   1187.0,  -0.1968,  34.8853,2,  34.8855,2,    303.2,2,    302.7,2,     7.60,2,    13.10,2,     0.01,2,     0.91,2,    3.713,2,    1.719,2,    0.189,2,  -999.00,9,  -999.00,9,  -0.2498
  32PZ20020819,   CBL,   101,  1,      4,      4,2,20020915,1105, 76.2462,-169.2152, 2052,   1482.3,  -0.3784,  34.9095,2,  34.9098,2,    300.7,2,    300.0,2,     9.00,2,    13.70,2,     0.01,2,     0.95,2,    2.026,2,    0.955,2,    0.089,2,  -999.00,9,  -999.00,9,  -0.4463
  32PZ20020819,   CBL,   101,  1,      3,      3,2,20020915,1105, 76.2462,-169.2152, 2052,   1782.0,  -0.4506,  34.9364,2,  34.9370,2,    293.2,2,    292.8,2,    11.40,2,    14.50,2,     0.01,2,     1.01,2,    0.528,6,    0.247,6,    0.017,6,  -999.00,9,  -999.00,9,  -0.5360
  32PZ20020819,   CBL,   101,  1,      2,      2,2,20020915,1105, 76.2462,-169.2152, 2052,   1942.4,  -0.4173,  34.9492,2,  34.9492,2,    287.3,2,    287.1,2,    13.20,2,    14.90,2,     0.01,2,     1.04,2,    0.151,2,    0.069,2,    0.006,2,  -999.00,9,  -999.00,9,  -0.5136
  32PZ20020819,   CBL,   101,  1,      1,      1,2,20020915,1105, 76.2462,-169.2152, 2052,   2037.4,  -0.3900,  34.9538,2,  34.9539,2,    279.3,2,    279.3,2,    15.50,2,    15.30,2,     0.01,2,     1.07,2,    0.072,2,    0.033,2,    0.005,2,  -999.00,9,  -999.00,9,  -0.4931