BOTTLE,20220815CCHSIOAMB
EXPOCODE,SECT_ID,STNNBR,CASTNO,SAMPNO,BTLNBR,BTLNBR_FLAG_W,DATE,TIME,LATITUDE,LONGITUDE,DEPTH,CTDPRS,CTDTMP,CTDSAL,CTDSAL_FLAG_W,SALNTY,SALNTY_FLAG_W,CTDOXY,CTDOXY_FLAG_W,OXYGEN,OXYGEN_FLAG_W,SILCAT,SILCAT_FLAG_W,NITRAT,NITRAT_FLAG_W,NITRIT,NITRIT_FLAG_W,PHSPHT,PHSPHT_FLAG_W,CFC-11,CFC-11_FLAG_W,CFC-12,CFC-12_FLAG_W,CFC113,CFC113_FLAG_W,DELO18,DELO18_FLAG_W,BARIUM,BARIUM_FLAG_W,THETA
,,,,,,,,,,,METERS,DBAR,ITS-90,PSS-78,,PSS-78,,UMOL/KG,,UMOL/KG,,UMOL/KG,,UMOL/KG,,UMOL/KG,,UMOL/KG,,PMOL/KG,,PMOL/KG,,PMOL/KG,,/MILLE,,NMOL/KG,,DEG C
  32PZ20020819,   CBL,   111,  1,     24,     24,2,20020919,0412, 74.6657,-157.9812,  991,     13.2,  -0.9333,  26.6975,2,  26.6992,2,    375.7,2,    377.6,2,     3.50,2,     0.10,2,     0.00,2,     0.60,2,    7.772,2,    3.902,2,    0.780,2,    -3.61,2,    66.90,2,  -0.9335
  32PZ20020819,   CBL,   111,  1,     23,     23,2,20020919,0412, 74.6657,-157.9812,  991,     26.8,  -0.0962,  31.3753,2,  31.4760,2,    386.1,2,    386.2,2,     5.10,2,     0.70,2,     0.06,2,     0.88,2,    6.879,2,    3.390,2,    0.534,2,    -2.22,2,    61.40,2,  -0.0970
  32PZ20020819,   CBL,   111,  1,     22,     22,2,20020919,0412, 74.6657,-157.9812,  991,     32.7,  -0.6537,  31.7053,2,  31.7410,2,    389.6,2,    370.7,2,     6.70,2,     2.30,2,     0.10,2,     0.99,2,    6.855,2,    3.381,2,    0.524,2,    -1.88,2,    59.30,2,  -0.6545
  32PZ20020819,   CBL,   111,  1,     21,     21,2,20020919,0412, 74.6657,-157.9812,  991,     49.7,  -1.2016,  32.1148,2,  32.1256,2,    335.9,2,    315.5,2,    17.40,2,     9.10,2,     0.10,2,     1.44,2,    6.550,2,    3.239,2,    0.478,2,    -1.66,2,    69.40,2,  -1.2026
  32PZ20020819,   CBL,   111,  1,     20,     20,2,20020919,0412, 74.6657,-157.9812,  991,     61.3,  -1.0092,  32.3347,2,  32.3333,2,    310.3,2,    292.0,2,    22.20,2,    11.90,2,     0.07,2,     1.67,2,    6.209,2,    3.057,2,    0.461,2,    -1.61,2,    69.10,2,  -1.0106
  32PZ20020819,   CBL,   111,  1,     19,     19,2,20020919,0412, 74.6657,-157.9812,  991,     86.2,  -0.8429,  32.5575,2,  32.5618,2,    260.6,2,    254.6,2,    24.40,2,    15.20,2,     0.06,2,     1.89,2,    5.893,2,    2.942,2,    0.408,2,    -1.65,2,    71.30,2,  -0.8450
  32PZ20020819,   CBL,   111,  1,     18,     18,2,20020919,0412, 74.6657,-157.9812,  991,    116.6,  -1.3561,  32.6718,2,  32.6702,2,    267.7,2,    271.8,2,    29.10,2,    14.60,2,     0.05,3,     1.85,2,    5.538,2,    2.690,2,    0.365,2,  -999.00,9,  -999.00,9,  -1.3585
  32PZ20020819,   CBL,   111,  1,     17,     17,2,20020919,0412, 74.6657,-157.9812,  991,    139.8,  -1.5211,  32.7923,2,  32.7931,2,    274.6,2,    292.5,2,    33.40,2,    14.40,2,     0.05,3,     1.84,2,    6.266,2,    3.063,2,    0.458,2,  -999.00,9,  -999.00,9,  -1.5239
  32PZ20020819,   CBL,   111,  1,     16,     16,2,20020919,0412, 74.6657,-157.9812,  991,    173.7,  -1.5483,  33.0714,2,  33.0919,2,    287.1,2,    276.0,2,    37.50,2,    16.30,2,     0.05,3,     1.96,2,    5.749,2,    2.820,2,    0.409,2,    -1.58,2,    70.60,2,  -1.5518
  32PZ20020819,   CBL,   111,  1,     15,     15,2,20020919,0412, 74.6657,-157.9812,  991,    205.2,  -1.2804,  33.7046,2,  33.7864,2,    267.0,2,    266.2,2,    30.30,2,    15.10,2,     0.05,3,     1.60,2,    5.318,6,    2.535,6,    0.342,6,  -999.00,9,  -999.00,9,  -1.2854
  32PZ20020819,   CBL,   111,  1,     14,     14,2,20020919,0412, 74.6657,-157.9812,  991,    220.1,  -1.0665,  34.1308,2,  34.1344,2,    269.2,2,    270.6,2,    19.10,2,    13.00,2,     0.04,3,     1.20,2,    5.321,2,    2.466,2,    0.325,2,  -999.00,9,  -999.00,9,  -1.0725
  32PZ20020819,   CBL,   111,  1,     13,     13,2,20020919,0412, 74.6657,-157.9812,  991,    261.2,  -0.2444,  34.4771,2,  34.4832,2,    284.9,2,    285.9,2,     9.50,2,    11.70,2,     0.04,3,     0.89,2,    5.522,2,    2.515,2,    0.334,2,  -999.00,9,  -999.00,9,  -0.2536
  32PZ20020819,   CBL,   111,  1,     12,     12,2,20020919,0412, 74.6657,-157.9812,  991,    305.6,   0.5337,  34.7010,2,  34.7030,2,    288.9,2,    289.8,2,     7.90,2,    12.40,2,     0.04,3,     0.88,2,    5.039,2,    2.295,2,    0.303,2,  -999.00,9,  -999.00,9,   0.5207
  32PZ20020819,   CBL,   111,  1,     11,     11,2,20020919,0412, 74.6657,-157.9812,  991,    367.8,   0.9361,  34.8210,2,  34.8214,2,    295.7,2,    296.4,2,     6.70,2,    12.60,2,     0.04,3,     0.87,2,    5.086,2,    2.332,2,    0.323,2,     0.15,2,    48.30,2,   0.9189
  32PZ20020819,   CBL,   111,  1,     10,     10,2,20020919,0412, 74.6657,-157.9812,  991,    397.2,   0.8673,  34.8192,2,  34.8192,2,    296.3,2,    295.9,2,     6.70,2,    12.60,2,     0.04,3,     0.86,2,    4.910,2,    2.253,2,    0.294,2,  -999.00,9,  -999.00,9,   0.8489
  32PZ20020819,   CBL,   111,  1,      9,      9,2,20020919,0412, 74.6657,-157.9812,  991,    425.2,   0.8600,  34.8322,2,  34.8314,2,    297.6,2,    295.2,2,     6.70,2,    12.70,2,     0.04,3,     0.87,2,    4.714,2,    2.159,2,    0.286,2,  -999.00,9,  -999.00,9,   0.8402
  32PZ20020819,   CBL,   111,  1,      8,      8,2,20020919,0412, 74.6657,-157.9812,  991,    463.3,   0.7617,  34.8351,2,  34.8349,2,    297.3,2,    297.3,2,     6.70,2,    12.60,2,     0.04,3,     0.87,2,    4.550,2,    2.081,2,    0.270,2,  -999.00,9,  -999.00,9,   0.7404
  32PZ20020819,   CBL,   111,  1,      7,      7,2,20020919,0412, 74.6657,-157.9812,  991,    502.1,   0.7082,  34.8455,2,  34.8471,2,    298.8,2,    298.5,2,     6.60,2,    12.70,2,     0.04,3,     0.87,2,    4.596,2,    2.104,2,    0.259,2,  -999.00,9,  -999.00,9,   0.6851
  32PZ20020819,   CBL,   111,  1,      6,      6,2,20020919,0412, 74.6657,-157.9812,  991,    602.9,   0.4505,  34.8520,2,  34.8534,2,    298.9,2,    298.9,2,     7.00,2,    12.80,2,     0.04,3,     0.87,2,    4.113,2,    1.880,2,    0.216,2,  -999.00,9,  -999.00,9,   0.4235
  32PZ20020819,   CBL,   111,  1,      5,      5,2,20020919,0412, 74.6657,-157.9812,  991,    652.0,   0.3849,  34.8586,2,  34.8587,2,    298.7,2,    298.9,2,     7.00,2,    12.80,2,     0.04,3,     0.89,2,    3.661,2,    1.693,2,    0.193,2,  -999.00,9,  -999.00,9,   0.3558
  32PZ20020819,   CBL,   111,  1,      4,      4,2,20020919,0412, 74.6657,-157.9812,  991,    701.2,   0.3008,  34.8600,2,  34.8601,2,    299.2,2,    300.1,2,     7.00,2,    12.80,2,     0.04,3,     0.88,2,    3.680,2,    1.697,2,    0.197,2,     0.24,2,    44.20,2,   0.2697
  32PZ20020819,   CBL,   111,  1,      3,      3,2,20020919,0412, 74.6657,-157.9812,  991,    803.7,   0.1358,  34.8667,2,  34.8664,2,    301.0,2,    301.1,2,     7.10,2,    12.80,2,     0.04,3,     0.89,2,    3.608,6,    1.655,6,    0.196,6,  -999.00,9,  -999.00,9,   0.1005
  32PZ20020819,   CBL,   111,  1,      2,      2,2,20020919,0412, 74.6657,-157.9812,  991,    884.9,   0.0543,  34.8735,2,  34.8737,2,    299.6,2,    299.9,2,     7.70,2,    12.90,2,     0.04,3,     0.91,2,    3.033,2,    1.405,2,    0.161,2,  -999.00,9,  -999.00,9,   0.0153
  32PZ20020819,   CBL,   111,  1,      1,      1,3,20020919,0412, 74.6657,-157.9812,  991,    971.2,  -0.0241,  34.8818,2,  34.8798,2,    298.1,2,    298.2,2,     8.70,2,    13.20,2,     0.05,3,     0.92,2,    2.499,2,    1.148,2,    0.114,2,  -999.00,9,  -999.00,9,  -0.0670
  32PZ20020819,   CBL,   112,  1,     23,     23,2,20020919,0810, 74.8918,-158.9783, 1088,     11.8,  -0.8339,  26.6997,2,  26.7014,2,    376.4,2,    379.6,2,     3.30,2,     0.00,2,     0.00,2,     0.60,2,    7.298,2,    3.816,2,    0.731,2,    -3.72,2,    72.20,2,  -0.8341
  32PZ20020819,   CBL,   112,  1,     22,     22,2,20020919,0810, 74.8918,-158.9783, 1088,     21.8,  -0.5828,  26.8315,2,  27.6214,2,    379.6,2,    382.4,2,     3.30,2,     0.00,2,     0.00,2,     0.65,2, -999.000,9, -999.000,9, -999.000,9,    -3.57,2,    67.60,2,  -0.5832
  32PZ20020819,   CBL,   112,  1,     21,     21,2,20020919,0810, 74.8918,-158.9783, 1088,     38.6,   0.2552,  31.3687,2,  31.3704,2,    397.0,2,    394.3,2,     3.40,2,     0.10,2,     0.00,2,     0.82,2,    6.799,2,    3.351,2,    0.580,2,    -2.35,2,    62.90,2,   0.2540
  32PZ20020819,   CBL,   112,  1,     20,     20,9,20020919,0810, 74.8918,-158.9783, 1088,     62.4,  -0.8605,  32.0366,2,-999.0000,9,    356.7,2,   -999.0,9,  -999.00,9,  -999.00,9,  -999.00,9,  -999.00,9, -999.000,9, -999.000,9, -999.000,9,  -999.00,9,  -999.00,9,  -0.8620
  32PZ20020819,   CBL,   112,  1,     19,     19,2,20020919,0810, 74.8918,-158.9783, 1088,     76.7,  -1.1830,  32.3133,2,  32.3133,2,    322.7,2,    312.3,2,    21.60,2,     9.80,2,     0.07,2,     1.54,2,    6.172,2,    3.062,2,    0.480,2,  -999.00,9,  -999.00,9,  -1.1846
  32PZ20020819,   CBL,   112,  1,     18,     18,2,20020919,0810, 74.8918,-158.9783, 1088,     91.4,  -1.3467,  32.5183,2,  32.5221,2,    303.5,2,    299.9,2,    27.20,2,    12.20,2,     0.07,2,     1.70,2, -999.000,9, -999.000,9, -999.000,9,    -1.83,2,    70.80,2,  -1.3486
  32PZ20020819,   CBL,   112,  1,     17,     17,2,20020919,0810, 74.8918,-158.9783, 1088,    106.2,  -1.3725,  32.6644,2,  32.6673,2,    292.0,2,    290.1,2,    30.30,2,    13.40,2,     0.08,3,     1.80,2, -999.000,9, -999.000,9, -999.000,9,  -999.00,9,  -999.00,9,  -1.3747
  32PZ20020819,   CBL,   112,  1,     16,     16,2,20020919,0810, 74.8918,-158.9783, 1088,    121.1,  -1.4758,  32.7915,2,  32.7984,2,    286.4,2,    287.1,2,    33.40,2,    14.30,2,     0.08,3,     1.86,2, -999.000,9, -999.000,9, -999.000,9,    -1.68,2,    69.50,2,  -1.4782
  32PZ20020819,   CBL,   112,  1,     15,     15,2,20020919,0810, 74.8918,-158.9783, 1088,    135.9,  -1.5433,  32.9316,2,  32.9432,2,    286.9,2,    287.5,2,    33.80,2,    14.70,2,     0.07,3,     1.86,2,    5.544,2,    2.739,2,    0.405,2,  -999.00,9,  -999.00,9,  -1.5460
  32PZ20020819,   CBL,   112,  1,     14,     14,2,20020919,0810, 74.8918,-158.9783, 1088,    150.5,  -1.5471,  33.0878,2,  33.0970,2,    284.8,2,    283.7,2,    34.90,2,    15.10,2,     0.07,3,     1.87,2,    5.396,2,    2.691,2,    0.405,2,  -999.00,9,  -999.00,9,  -1.5501
  32PZ20020819,   CBL,   112,  1,     13,     13,2,20020919,0810, 74.8918,-158.9783, 1088,    165.4,  -1.5113,  33.2737,2,  33.2930,2,    281.1,2,    281.5,2,    35.10,2,    15.30,2,     0.07,3,     1.84,2, -999.000,9, -999.000,9, -999.000,9,  -999.00,9,  -999.00,9,  -1.5148
  32PZ20020819,   CBL,   112,  1,     12,     12,2,20020919,0810, 74.8918,-158.9783, 1088,    185.4,  -1.3221,  33.6532,2,  33.6809,2,    276.5,2,    274.5,2,    32.20,2,    15.10,2,     0.07,3,     1.70,2,    5.034,2,    2.493,2,    0.331,2,  -999.00,9,  -999.00,9,  -1.3265
  32PZ20020819,   CBL,   112,  1,     11,     11,2,20020919,0810, 74.8918,-158.9783, 1088,    205.1,  -1.0535,  34.0540,2,  34.0752,2,    267.7,2,    265.5,2,    23.80,2,    13.90,2,     0.06,3,     1.37,2,    4.931,2,    2.328,2,    0.305,2,  -999.00,9,  -999.00,9,  -1.0590
  32PZ20020819,   CBL,   112,  1,     10,     10,2,20020919,0810, 74.8918,-158.9783, 1088,    224.8,  -0.6507,  34.3455,2,  34.3541,2,    263.3,2,    269.0,2,    16.60,2,    12.60,2,     0.06,3,     1.11,2,    4.973,2,    2.263,2,    0.270,2,    -0.24,2,    47.10,2,  -0.6577
  32PZ20020819,   CBL,   112,  1,      9,      9,2,20020919,0810, 74.8918,-158.9783, 1088,    288.9,   0.4414,  34.6926,2,  34.6932,2,    280.4,2,    285.1,2,     9.10,2,    12.40,2,     0.06,3,     0.91,2,    5.045,2,    2.315,2,    0.286,2,  -999.00,9,  -999.00,9,   0.4294
  32PZ20020819,   CBL,   112,  1,      8,      8,2,20020919,0810, 74.8918,-158.9783, 1088,    336.6,   0.7015,  34.7789,2,  34.7764,2,    291.5,2,    292.3,2,     7.20,2,    12.40,2,     0.06,3,     0.87,2,    4.931,2,    2.262,2,    0.304,2,  -999.00,9,  -999.00,9,   0.6866
  32PZ20020819,   CBL,   112,  1,      7,      7,2,20020919,0810, 74.8918,-158.9783, 1088,    397.6,   0.8060,  34.8259,2,  34.8235,2,    295.8,2,    296.5,2,     6.90,2,    12.50,2,     0.06,3,     0.87,2,    4.784,6,    2.212,6,    0.280,6,     0.13,2,    41.30,2,   0.7878
  32PZ20020819,   CBL,   112,  1,      6,      6,2,20020919,0810, 74.8918,-158.9783, 1088,    477.2,   0.6619,  34.8403,2,  34.8391,2,    297.3,2,    298.0,2,     7.00,2,    12.50,2,     0.06,3,     0.88,2,    4.556,2,    2.122,2,    0.263,2,  -999.00,9,  -999.00,9,   0.6403
  32PZ20020819,   CBL,   112,  1,      5,      5,2,20020919,0810, 74.8918,-158.9783, 1088,    556.1,   0.5001,  34.8478,2,  34.8463,2,    298.5,2,    297.5,2,     7.30,2,    12.60,2,     0.06,3,     0.89,2,    4.330,2,    2.013,2,    0.244,2,     0.11,2,    42.00,2,   0.4752
  32PZ20020819,   CBL,   112,  1,      4,      4,2,20020919,0810, 74.8918,-158.9783, 1088,    694.2,   0.2837,  34.8606,2,  34.8583,2,    299.4,2,    299.0,2,     7.40,2,    12.80,2,     0.06,3,     0.89,2,    3.743,2,    1.738,2,    0.194,2,  -999.00,9,  -999.00,9,   0.2530
  32PZ20020819,   CBL,   112,  1,      3,      3,2,20020919,0810, 74.8918,-158.9783, 1088,    912.1,   0.0668,  34.8759,2,  34.8735,2,    298.5,2,    298.6,2,     8.10,2,    13.00,2,     0.06,3,     0.91,2,    2.758,6,    1.292,6,    0.134,6,  -999.00,9,  -999.00,9,   0.0263
  32PZ20020819,   CBL,   112,  1,      2,      2,2,20020919,0810, 74.8918,-158.9783, 1088,   1016.3,   0.0031,  34.8832,2,  34.8818,2,    297.7,2,    297.6,2,     8.60,2,    13.10,2,     0.06,3,     0.93,2,    2.312,2,    1.097,2,    0.097,2,  -999.00,9,  -999.00,9,  -0.0424
  32PZ20020819,   CBL,   112,  1,      1,      1,2,20020919,0810, 74.8918,-158.9783, 1088,   1120.2,  -0.0747,  34.8933,2,  34.8908,2,    296.5,2,    296.8,2,     9.40,2,    13.30,2,     0.06,3,     0.94,2,    1.759,2,    0.826,2,    0.081,2,  -999.00,9,  -999.00,9,  -0.1252
  32PZ20020819,   CBL,   113,  1,     19,     19,2,20020919,1034, 74.9302,-159.0707, 1721,     12.0,  -0.8401,  26.7192,2,  26.7196,2,    375.2,2,    377.2,2,  -999.00,9,  -999.00,9,  -999.00,9,  -999.00,9,    7.715,2,    3.908,2,    0.730,2,  -999.00,9,  -999.00,9,  -0.8403
  32PZ20020819,   CBL,   113,  1,     18,     18,2,20020919,1034, 74.9302,-159.0707, 1721,     37.2,   0.3533,  31.3137,2,  31.3661,2,    393.4,2,    391.7,2,     3.00,2,     0.20,2,     0.00,2,     0.82,2,    6.776,2,    3.341,2,    0.534,2,  -999.00,9,  -999.00,9,   0.3521
  32PZ20020819,   CBL,   113,  1,     17,     17,2,20020919,1034, 74.9302,-159.0707, 1721,     63.0,  -0.9705,  32.0947,2,-999.0000,9,    344.6,2,   -999.0,9,    17.10,2,     7.90,2,     0.03,2,     1.37,2,    6.544,2,    3.181,2,    0.489,2,  -999.00,9,  -999.00,9,  -0.9719
  32PZ20020819,   CBL,   113,  1,     16,     16,2,20020919,1034, 74.9302,-159.0707, 1721,     82.7,  -1.2802,  32.4015,2,-999.0000,9,    312.2,2,   -999.0,9,    24.50,2,    11.20,2,     0.02,2,     1.62,2, -999.000,9, -999.000,9, -999.000,9,  -999.00,9,  -999.00,9,  -1.2819
  32PZ20020819,   CBL,   113,  1,     15,     15,2,20020919,1034, 74.9302,-159.0707, 1721,    102.3,  -1.3595,  32.6417,2,-999.0000,9,    297.0,2,   -999.0,9,    29.80,2,    13.30,2,     0.02,2,     1.77,2,    5.964,2,    2.923,2,    0.423,2,  -999.00,9,  -999.00,9,  -1.3616
  32PZ20020819,   CBL,   113,  1,     14,     14,2,20020919,1034, 74.9302,-159.0707, 1721,    121.8,  -1.5019,  32.8058,2,-999.0000,9,    290.1,2,   -999.0,9,    32.90,2,    14.40,2,     0.02,2,     1.83,2, -999.000,9, -999.000,9, -999.000,9,  -999.00,9,  -999.00,9,  -1.5043
  32PZ20020819,   CBL,   113,  1,     13,     13,2,20020919,1034, 74.9302,-159.0707, 1721,    141.7,  -1.5491,  33.0017,2,  33.0225,2,    288.9,2,    285.6,2,    34.70,2,    15.10,2,     0.02,2,     1.87,2,    5.585,2,    2.721,2,    0.388,2,  -999.00,9,  -999.00,9,  -1.5519
  32PZ20020819,   CBL,   113,  1,     12,     12,2,20020919,1034, 74.9302,-159.0707, 1721,    161.5,  -1.5231,  33.2354,2,-999.0000,9,    285.6,2,   -999.0,9,    35.00,2,    15.40,2,     0.02,2,     1.84,2, -999.000,9, -999.000,9, -999.000,9,  -999.00,9,  -999.00,9,  -1.5265
  32PZ20020819,   CBL,   113,  1,     11,     11,2,20020919,1034, 74.9302,-159.0707, 1721,    181.2,  -1.3647,  33.5999,2,-999.0000,9,    280.6,2,   -999.0,9,    32.40,2,    15.20,2,     0.02,2,     1.72,2, -999.000,9, -999.000,9, -999.000,9,  -999.00,9,  -999.00,9,  -1.3689
  32PZ20020819,   CBL,   113,  1,     10,     10,2,20020919,1034, 74.9302,-159.0707, 1721,    201.0,  -1.0780,  34.0279,2,-999.0000,9,    271.8,2,   -999.0,9,    24.00,2,    14.20,2,     0.02,2,     1.38,2,    4.945,2,    2.296,2,    0.293,2,  -999.00,9,  -999.00,9,  -1.0833
  32PZ20020819,   CBL,   113,  1,      9,      9,2,20020919,1034, 74.9302,-159.0707, 1721,    220.5,  -0.7926,  34.2653,2,  34.2846,2,    264.7,2,    264.3,2,    19.30,2,    13.50,2,     0.01,2,     1.20,2,    4.844,2,    2.223,2,    0.264,2,  -999.00,9,  -999.00,9,  -0.7992
  32PZ20020819,   CBL,   113,  1,      8,      8,2,20020919,1034, 74.9302,-159.0707, 1721,    264.9,   0.0626,  34.5851,2,  34.5922,2,    276.3,2,    276.6,2,    11.30,2,    12.60,2,     0.01,2,     0.94,2,    5.111,2,    2.325,2,    0.291,2,  -999.00,9,  -999.00,9,   0.0525
  32PZ20020819,   CBL,   113,  1,      7,      7,2,20020919,1034, 74.9302,-159.0707, 1721,    370.1,   0.7941,  34.8095,2,  34.8110,2,    293.5,2,    294.0,2,     6.90,2,    12.70,2,     0.01,2,     0.85,2,    4.939,6,    2.277,6,    0.290,6,  -999.00,9,  -999.00,9,   0.7773
  32PZ20020819,   CBL,   113,  1,      6,      6,2,20020919,1034, 74.9302,-159.0707, 1721,    475.9,   0.6561,  34.8375,2,  34.8404,2,    296.4,2,    296.3,2,     7.00,2,    12.90,2,     0.01,2,     0.88,2,    4.621,2,    2.106,2,    0.247,2,  -999.00,9,  -999.00,9,   0.6345
  32PZ20020819,   CBL,   113,  1,      5,      5,2,20020919,1034, 74.9302,-159.0707, 1721,    593.8,   0.4488,  34.8515,2,  34.8544,2,    298.2,2,    298.0,2,     7.30,2,    12.90,2,     0.01,2,     0.88,2,    4.261,2,    1.936,2,    0.229,2,  -999.00,9,  -999.00,9,   0.4223
  32PZ20020819,   CBL,   113,  1,      4,      4,2,20020919,1034, 74.9302,-159.0707, 1721,    790.0,   0.1827,  34.8661,2,  34.8696,2,    299.3,2,    299.2,2,     7.40,2,    13.00,2,     0.01,2,     0.89,2,    3.494,2,    1.592,2,    0.171,2,  -999.00,9,  -999.00,9,   0.1478
  32PZ20020819,   CBL,   113,  1,      3,      3,2,20020919,1034, 74.9302,-159.0707, 1721,   1085.3,  -0.0618,  34.8916,2,  34.8941,2,    296.1,2,    296.5,2,     9.10,2,    13.50,2,     0.01,2,     0.93,2,    1.834,2,    0.860,2,    0.069,2,  -999.00,9,  -999.00,9,  -0.1105
  32PZ20020819,   CBL,   113,  1,      2,      2,2,20020919,1034, 74.9302,-159.0707, 1721,   1397.4,  -0.2279,  34.9159,2,  34.9181,2,    291.0,2,    291.3,2,  -999.00,9,  -999.00,9,  -999.00,9,  -999.00,9,    0.568,2,    0.281,2,    0.019,2,  -999.00,9,  -999.00,9,  -0.2926
  32PZ20020819,   CBL,   113,  1,      1,      1,2,20020919,1034, 74.9302,-159.0707, 1721,   1707.6,  -0.2979,  34.9269,2,  34.9290,2,    287.3,2,    287.1,2,  -999.00,9,  -999.00,9,  -999.00,9,  -999.00,9,    0.301,2,    0.142,2,    0.013,2,  -999.00,9,  -999.00,9,  -0.3807