BOTTLE,20220815CCHSIOAMB
EXPOCODE,SECT_ID,STNNBR,CASTNO,SAMPNO,BTLNBR,BTLNBR_FLAG_W,DATE,TIME,LATITUDE,LONGITUDE,DEPTH,CTDPRS,CTDTMP,CTDSAL,CTDSAL_FLAG_W,SALNTY,SALNTY_FLAG_W,CTDOXY,CTDOXY_FLAG_W,OXYGEN,OXYGEN_FLAG_W,SILCAT,SILCAT_FLAG_W,NITRAT,NITRAT_FLAG_W,NITRIT,NITRIT_FLAG_W,PHSPHT,PHSPHT_FLAG_W,CFC-11,CFC-11_FLAG_W,CFC-12,CFC-12_FLAG_W,CFC113,CFC113_FLAG_W,DELO18,DELO18_FLAG_W,BARIUM,BARIUM_FLAG_W,THETA
,,,,,,,,,,,METERS,DBAR,ITS-90,PSS-78,,PSS-78,,UMOL/KG,,UMOL/KG,,UMOL/KG,,UMOL/KG,,UMOL/KG,,UMOL/KG,,PMOL/KG,,PMOL/KG,,PMOL/KG,,/MILLE,,NMOL/KG,,DEG C
  32PZ20020819,   CBL,    48,  1,     24,     24,2,20020904,1103, 78.6625,-164.2658,  798,      1.7,  -1.5699,  29.8897,2,  29.8895,2,    381.5,2,    383.4,2,     1.30,2,     0.10,2,     0.00,2,     0.82,2, -999.000,9, -999.000,9, -999.000,9,  -999.00,9,  -999.00,9,  -1.5699
  32PZ20020819,   CBL,    48,  1,     23,     23,2,20020904,1103, 78.6625,-164.2658,  798,     14.7,  -1.5682,  29.8904,2,  29.8927,2,    383.3,2,    383.5,2,     1.20,2,     0.00,2,     0.00,2,     0.82,2,    7.463,2,    3.852,2,    0.716,2,    -2.45,2,    59.00,2,  -1.5684
  32PZ20020819,   CBL,    48,  1,     22,     22,2,20020904,1103, 78.6625,-164.2658,  798,     24.3,  -1.4117,  30.6996,2,  30.9226,2,    381.3,2,    385.3,2,     5.80,2,     1.70,2,     0.09,2,     1.00,2, -999.000,9, -999.000,9, -999.000,9,    -2.07,2,    58.80,2,  -1.4121
  32PZ20020819,   CBL,    48,  1,     21,     21,2,20020904,1103, 78.6625,-164.2658,  798,     43.4,  -1.5397,  31.7668,2,  31.8208,2,    351.3,2,    329.0,2,    17.00,2,     7.60,2,     0.02,2,     1.39,2,    6.981,2,    3.610,2,    0.619,2,    -1.65,2,    58.20,2,  -1.5404
  32PZ20020819,   CBL,    48,  1,     20,     20,2,20020904,1103, 78.6625,-164.2658,  798,     61.2,  -1.5330,  32.2715,2,  32.3073,2,    307.1,2,    294.8,2,    23.40,2,    11.50,2,     0.01,2,     1.63,2,    6.457,2,    3.410,2,    0.523,2,  -999.00,9,  -999.00,9,  -1.5341
  32PZ20020819,   CBL,    48,  1,     19,     19,2,20020904,1103, 78.6625,-164.2658,  798,     75.8,  -1.4852,  32.5304,2,  32.5490,2,    286.7,2,    275.6,2,    30.30,2,    14.20,2,     0.01,2,     1.82,2,    6.305,2,    3.251,2,    0.514,2,    -1.32,2,    66.00,2,  -1.4866
  32PZ20020819,   CBL,    48,  1,     18,     18,2,20020904,1103, 78.6625,-164.2658,  798,     90.6,  -1.4591,  32.7524,2,  32.7801,2,    265.7,2,    260.4,2,    36.00,2,    16.10,2,     0.01,2,     1.97,2,    6.022,2,    3.127,2,    0.459,2,  -999.00,9,  -999.00,9,  -1.4609
  32PZ20020819,   CBL,    48,  1,     17,     17,2,20020904,1103, 78.6625,-164.2658,  798,    104.9,  -1.4652,  32.9938,2,  32.9987,2,    252.3,2,    250.0,2,    40.50,2,    17.70,2,     0.01,2,     2.10,2,    5.958,6,    3.061,6,    0.465,6,    -1.33,2,    71.10,2,  -1.4673
  32PZ20020819,   CBL,    48,  1,     16,     16,2,20020904,1103, 78.6625,-164.2658,  798,    114.5,  -1.4662,  33.1130,2,  33.1269,2,    247.1,2,    245.9,2,    43.50,2,    18.50,2,     0.00,2,     2.18,2, -999.000,9, -999.000,9, -999.000,9,  -999.00,9,  -999.00,9,  -1.4686
  32PZ20020819,   CBL,    48,  1,     15,     15,2,20020904,1103, 78.6625,-164.2658,  798,    125.1,  -1.4561,  33.2608,2,  33.3197,2,    242.4,2,    239.7,2,    45.00,2,    18.20,2,     0.00,2,     2.14,2,    5.952,2,    3.000,2,    0.432,2,  -999.00,9,  -999.00,9,  -1.4588
  32PZ20020819,   CBL,    48,  1,     14,     14,2,20020904,1103, 78.6625,-164.2658,  798,    134.9,  -1.3892,  33.5261,2,  33.5499,2,    235.5,2,    240.6,2,    41.70,2,    17.00,2,     0.00,2,     1.97,2,    5.777,2,    2.892,2,    0.395,2,    -1.06,2,    50.90,2,  -1.3922
  32PZ20020819,   CBL,    48,  1,     13,     13,2,20020904,1103, 78.6625,-164.2658,  798,    144.3,  -1.2932,  33.7750,2,  33.7942,2,    234.9,2,    245.2,2,    33.80,2,    15.20,2,     0.00,2,     1.68,2,    5.756,2,    2.835,2,    0.386,2,  -999.00,9,  -999.00,9,  -1.2966
  32PZ20020819,   CBL,    48,  1,     12,     12,2,20020904,1103, 78.6625,-164.2658,  798,    154.8,  -1.1607,  33.9964,2,  34.0158,2,    253.8,2,    251.7,2,    26.60,2,    14.00,2,     0.00,2,     1.43,2, -999.000,9, -999.000,9, -999.000,9,    -0.60,2,    53.90,2,  -1.1646
  32PZ20020819,   CBL,    48,  1,     11,     11,2,20020904,1103, 78.6625,-164.2658,  798,    169.4,  -1.0439,  34.1944,2,  34.2124,2,    270.7,2,    269.7,2,    16.60,2,    12.40,2,     0.00,2,     1.11,2,    5.832,2,    2.747,2,    0.370,2,  -999.00,9,  -999.00,9,  -1.0485
  32PZ20020819,   CBL,    48,  1,     10,     10,2,20020904,1103, 78.6625,-164.2658,  798,    188.8,  -0.6550,  34.3658,2,  34.3726,2,    280.0,2,    281.2,2,    11.00,2,    11.60,2,     0.00,2,     0.94,2,    5.929,2,    2.746,2,    0.367,2,  -999.00,9,  -999.00,9,  -0.6608
  32PZ20020819,   CBL,    48,  1,      9,      9,2,20020904,1103, 78.6625,-164.2658,  798,    238.6,   0.3127,  34.6157,2,  34.6171,2,    289.4,2,    291.3,2,     7.60,2,    11.80,2,     0.00,2,     0.87,2,    5.726,2,    2.696,2,    0.379,2,  -999.00,9,  -999.00,9,   0.3032
  32PZ20020819,   CBL,    48,  1,      8,      8,2,20020904,1103, 78.6625,-164.2658,  798,    287.5,   0.8613,  34.7651,2,  34.7668,2,    295.7,2,    294.9,2,     6.40,2,    12.30,2,     0.00,2,     0.88,2,    5.425,2,    2.610,2,    0.345,2,  -999.00,9,  -999.00,9,   0.8483
  32PZ20020819,   CBL,    48,  1,      7,      7,2,20020904,1103, 78.6625,-164.2658,  798,    336.2,   1.0932,  34.8298,2,  34.8299,2,    297.0,2,    296.5,2,     6.50,2,    12.60,2,     0.00,2,     0.88,2,    5.463,2,    2.590,2,    0.352,2,  -999.00,9,  -999.00,9,   1.0772
  32PZ20020819,   CBL,    48,  1,      6,      6,2,20020904,1103, 78.6625,-164.2658,  798,    382.8,   1.1647,  34.8491,2,  34.8500,2,    299.4,2,    298.5,2,     6.30,2,    12.60,2,     0.00,2,     0.88,2,    5.319,2,    2.488,2,    0.363,2,     0.21,2,    48.30,2,   1.1461
  32PZ20020819,   CBL,    48,  1,      5,      5,2,20020904,1103, 78.6625,-164.2658,  798,    418.5,   1.0766,  34.8492,2,  34.8503,2,    299.4,2,    298.9,2,     6.30,2,    12.60,2,     0.00,2,     0.88,2,    5.108,2,    2.401,2,    0.326,2,  -999.00,9,  -999.00,9,   1.0564
  32PZ20020819,   CBL,    48,  1,      4,      4,2,20020904,1103, 78.6625,-164.2658,  798,    488.3,   0.9122,  34.8610,2,  34.8621,2,    300.7,2,    300.3,2,     6.30,2,    12.70,2,     0.00,2,     0.89,2,    5.239,2,    2.413,2,    0.322,2,  -999.00,9,  -999.00,9,   0.8890
  32PZ20020819,   CBL,    48,  1,      3,      3,2,20020904,1103, 78.6625,-164.2658,  798,    587.3,   0.6199,  34.8594,2,  34.8605,2,    300.5,2,    300.9,2,     6.40,2,    12.70,2,     0.00,2,     0.89,2,    4.851,2,    2.284,2,    0.315,2,  -999.00,9,  -999.00,9,   0.5929
  32PZ20020819,   CBL,    48,  1,      2,      2,2,20020904,1103, 78.6625,-164.2658,  798,    687.0,   0.4042,  34.8622,2,  34.8637,2,    301.0,2,    301.7,2,     6.50,2,    12.80,2,     0.00,2,     0.90,2,    4.496,2,    2.130,2,    0.286,2,     0.26,2,    45.80,2,   0.3732
  32PZ20020819,   CBL,    48,  1,      1,      1,2,20020904,1103, 78.6625,-164.2658,  798,    786.8,   0.0451,  34.8688,2,  34.8692,2,    300.1,2,    299.9,2,     8.40,2,    12.90,2,     0.01,2,     0.91,2,    4.700,2,    2.163,2,    0.286,2,  -999.00,9,  -999.00,9,   0.0112
  32PZ20020819,   CBL,    49,  1,     24,     24,2,20020904,1719, 78.9433,-162.0268, 1060,      1.7,  -1.5589,  30.0725,2,  30.0714,2,    384.3,2,    385.6,2,     1.50,2,     0.20,2,     0.00,2,     0.82,2, -999.000,9, -999.000,9, -999.000,9,  -999.00,9,  -999.00,9,  -1.5589
  32PZ20020819,   CBL,    49,  1,     23,     23,2,20020904,1719, 78.9433,-162.0268, 1060,     17.0,  -1.5837,  30.0846,2,  30.3758,2,    386.8,2,    387.3,2,     2.70,2,     0.50,2,     0.02,2,     0.86,2,    7.574,2,    3.820,2,    0.729,2,    -2.12,2,    57.10,2,  -1.5839
  32PZ20020819,   CBL,    49,  1,     22,     22,2,20020904,1719, 78.9433,-162.0268, 1060,     31.6,  -1.5070,  31.2964,2,  31.5626,2,    388.8,2,    342.7,2,    14.50,2,     6.20,2,     0.09,2,     1.30,2,    7.089,2,    3.573,2,    0.586,2,    -1.64,2,    74.40,2,  -1.5075
  32PZ20020819,   CBL,    49,  1,     21,     21,2,20020904,1719, 78.9433,-162.0268, 1060,     51.5,  -1.5700,  32.1017,2,  32.1271,2,    320.1,2,    308.0,2,    19.60,2,     9.70,2,     0.02,2,     1.50,2,    6.895,2,    3.498,2,    0.530,2,    -1.44,2,    74.30,2,  -1.5709
  32PZ20020819,   CBL,    49,  1,     20,     20,2,20020904,1719, 78.9433,-162.0268, 1060,     66.4,  -1.5129,  32.3556,2,  32.4003,2,    302.3,2,    288.8,2,    25.20,2,    12.00,2,     0.01,2,     1.69,2, -999.000,9, -999.000,9, -999.000,9,  -999.00,9,  -999.00,9,  -1.5141
  32PZ20020819,   CBL,    49,  1,     19,     19,2,20020904,1719, 78.9433,-162.0268, 1060,     81.1,  -1.4653,  32.7004,2,  32.7286,2,    276.7,2,    263.2,2,    34.30,2,    15.20,2,     0.00,2,     1.92,2,    6.345,2,    3.258,2,    0.485,2,    -1.27,2,    70.90,2,  -1.4669
  32PZ20020819,   CBL,    49,  1,     18,     18,2,20020904,1719, 78.9433,-162.0268, 1060,     90.6,  -1.4600,  32.9386,2,  32.9930,2,    261.5,2,    243.9,2,    40.50,2,    17.50,2,     0.00,2,     2.12,2, -999.000,9, -999.000,9, -999.000,9,  -999.00,9,  -999.00,9,  -1.4618
  32PZ20020819,   CBL,    49,  1,     17,     17,2,20020904,1719, 78.9433,-162.0268, 1060,    100.7,  -1.4556,  33.1710,2,  33.2242,2,    246.9,2,    239.2,2,    39.40,2,    16.50,2,     0.00,2,     1.96,2,    6.375,6,    3.244,6,    0.459,6,    -1.01,2,    64.20,2,  -1.4577
  32PZ20020819,   CBL,    49,  1,     16,     16,2,20020904,1719, 78.9433,-162.0268, 1060,    110.5,  -1.4385,  33.4824,2,  33.5816,2,    241.5,2,    251.5,2,    32.10,2,    14.40,2,     0.00,2,     1.61,2, -999.000,9, -999.000,9, -999.000,9,  -999.00,9,  -999.00,9,  -1.4409
  32PZ20020819,   CBL,    49,  1,     15,     15,2,20020904,1719, 78.9433,-162.0268, 1060,    120.6,  -1.3936,  33.8180,2,  33.8816,2,    248.5,2,    272.4,2,    20.00,2,    12.00,2,     0.00,2,     1.20,2,    6.662,2,    3.184,2,    0.450,2,    -0.54,2,    54.40,2,  -1.3963
  32PZ20020819,   CBL,    49,  1,     14,     14,2,20020904,1719, 78.9433,-162.0268, 1060,    130.5,  -1.3314,  34.0250,2,  34.0379,2,    264.4,2,    274.8,2,    16.80,2,    11.90,2,     0.00,2,     1.10,2, -999.000,9, -999.000,9, -999.000,9,  -999.00,9,  -999.00,9,  -1.3345
  32PZ20020819,   CBL,    49,  1,     13,     13,2,20020904,1719, 78.9433,-162.0268, 1060,    140.0,  -1.2682,  34.1039,2,  34.1619,2,    273.2,2,    279.7,2,    13.80,2,    11.50,2,     0.00,2,     1.01,2,    6.310,2,    2.950,2,    0.381,2,    -0.21,2,    46.10,2,  -1.2716
  32PZ20020819,   CBL,    49,  1,     12,     12,2,20020904,1719, 78.9433,-162.0268, 1060,    189.1,  -0.2571,  34.4732,2,  34.4782,2,    284.8,2,    286.6,2,     9.30,2,    11.60,2,     0.00,2,     0.90,2,    6.159,2,    2.881,2,    0.380,2,  -999.00,9,  -999.00,9,  -0.2636
  32PZ20020819,   CBL,    49,  1,     11,     11,2,20020904,1719, 78.9433,-162.0268, 1060,    238.7,   0.5278,  34.6769,2,  34.6860,2,    293.2,2,    289.0,2,     8.00,2,    12.20,2,     0.00,2,     0.89,2,    5.765,2,    2.666,2,    0.331,2,  -999.00,9,  -999.00,9,   0.5178
  32PZ20020819,   CBL,    49,  1,     10,     10,2,20020904,1719, 78.9433,-162.0268, 1060,    268.3,   0.8044,  34.7607,2,  34.7654,2,    294.3,2,    296.2,2,     6.40,2,    12.30,2,     0.00,2,     0.87,2,    5.685,2,    2.665,2,    0.347,2,  -999.00,9,  -999.00,9,   0.7924
  32PZ20020819,   CBL,    49,  1,      9,      9,2,20020904,1719, 78.9433,-162.0268, 1060,    297.5,   0.9477,  34.8026,2,  34.8025,2,    295.8,2,    298.7,2,     6.00,2,    12.30,2,     0.00,2,     0.87,2,    5.685,2,    2.658,2,    0.381,2,  -999.00,9,  -999.00,9,   0.9340
  32PZ20020819,   CBL,    49,  1,      8,      8,2,20020904,1719, 78.9433,-162.0268, 1060,    332.1,   1.0642,  34.8271,2,  34.8279,2,    297.6,2,    296.4,2,     6.50,2,    12.70,2,     0.00,2,     0.89,2,    5.459,2,    2.547,2,    0.322,2,  -999.00,9,  -999.00,9,   1.0485
  32PZ20020819,   CBL,    49,  1,      7,      7,2,20020904,1719, 78.9433,-162.0268, 1060,    386.2,   1.1314,  34.8491,2,  34.8511,2,    299.5,2,    298.2,2,     6.40,2,    12.80,2,     0.00,2,     0.89,2,    5.323,2,    2.477,2,    0.315,2,     0.48,2,    54.80,2,   1.1127
  32PZ20020819,   CBL,    49,  1,      6,      6,2,20020904,1719, 78.9433,-162.0268, 1060,    449.4,   0.9998,  34.8609,2,  34.8628,2,    300.9,2,    301.8,2,     6.20,2,    12.70,2,     0.00,2,     0.89,2,    5.324,2,    2.494,2,    0.316,2,  -999.00,9,  -999.00,9,   0.9783
  32PZ20020819,   CBL,    49,  1,      5,      5,2,20020904,1719, 78.9433,-162.0268, 1060,    542.5,   0.7225,  34.8613,2,  34.8624,2,    301.7,2,    301.7,2,     6.20,2,    12.70,2,     0.00,2,     0.89,2,    5.140,2,    2.416,2,    0.337,2,  -999.00,9,  -999.00,9,   0.6973
  32PZ20020819,   CBL,    49,  1,      4,      4,2,20020904,1719, 78.9433,-162.0268, 1060,    679.9,   0.3794,  34.8626,2,  34.8632,2,    302.8,2,    302.8,2,     6.40,2,    12.70,2,     0.00,2,     0.90,2,    4.830,2,    2.233,2,    0.273,2,  -999.00,9,  -999.00,9,   0.3489
  32PZ20020819,   CBL,    49,  1,      3,      3,2,20020904,1719, 78.9433,-162.0268, 1060,    788.1,   0.1615,  34.8651,2,  34.8663,2,    303.4,2,    304.1,2,     6.50,2,    12.80,2,     0.00,2,     0.91,2,    4.711,2,    2.173,2,    0.277,2,     0.66,2,  -999.00,9,   0.1268
  32PZ20020819,   CBL,    49,  1,      2,      2,2,20020904,1719, 78.9433,-162.0268, 1060,    910.3,  -0.0135,  34.8717,2,  34.8728,2,    303.7,2,    304.0,2,     6.60,2,    12.90,2,     0.00,2,     0.91,2,    4.424,2,    2.031,2,    0.222,2,  -999.00,9,  -999.00,9,  -0.0533
  32PZ20020819,   CBL,    49,  1,      1,      1,2,20020904,1719, 78.9433,-162.0268, 1060,   1034.0,  -0.1470,  34.8817,2,  34.8850,2,    302.2,2,    302.0,2,     8.10,2,    13.10,2,     0.01,2,     0.94,2,    4.022,2,    1.853,2,    0.222,2,  -999.00,9,  -999.00,9,  -0.1922
  32PZ20020819,   CBL,    50,  1,     17,     17,2,20020904,2110, 79.0232,-162.0120, 1536,     18.3,  -1.6235,  30.3673,2,  30.4458,2,    387.3,2,    387.6,2,  -999.00,9,  -999.00,9,  -999.00,9,  -999.00,9, -999.000,9, -999.000,9, -999.000,9,  -999.00,9,  -999.00,9,  -1.6237
  32PZ20020819,   CBL,    50,  1,     16,     16,2,20020904,2110, 79.0232,-162.0120, 1536,     62.2,  -1.5826,  32.2739,2,  32.3281,2,    307.8,2,   -999.0,9,    25.20,2,    10.50,2,     0.01,2,     1.63,2, -999.000,9, -999.000,9, -999.000,9,  -999.00,9,  -999.00,9,  -1.5837
  32PZ20020819,   CBL,    50,  1,     15,     15,2,20020904,2110, 79.0232,-162.0120, 1536,     82.4,  -1.5060,  32.8228,2,  32.8807,2,    268.2,2,   -999.0,9,    36.00,2,    14.60,2,     0.01,2,     1.89,2, -999.000,9, -999.000,9, -999.000,9,  -999.00,9,  -999.00,9,  -1.5076
  32PZ20020819,   CBL,    50,  1,     14,     14,2,20020904,2110, 79.0232,-162.0120, 1536,     98.3,  -1.4416,  33.3089,2,  33.3638,2,    241.3,2,    238.0,2,    39.30,2,    16.10,2,     0.01,2,     1.89,2, -999.000,9, -999.000,9, -999.000,9,  -999.00,9,  -999.00,9,  -1.4437
  32PZ20020819,   CBL,    50,  1,     13,     13,2,20020904,2110, 79.0232,-162.0120, 1536,    117.0,  -1.3791,  33.8965,2,  33.9200,2,    252.3,2,   -999.0,9,    20.30,2,    12.20,2,     0.00,2,     1.21,2, -999.000,9, -999.000,9, -999.000,9,  -999.00,9,  -999.00,9,  -1.3818
  32PZ20020819,   CBL,    50,  1,     12,     12,2,20020904,2110, 79.0232,-162.0120, 1536,    131.7,  -1.3474,  34.1179,2,  34.1375,2,    276.3,2,   -999.0,9,     9.50,2,    10.10,2,     0.01,2,     0.85,2, -999.000,9, -999.000,9, -999.000,9,  -999.00,9,  -999.00,9,  -1.3505
  32PZ20020819,   CBL,    50,  1,     11,     11,2,20020904,2110, 79.0232,-162.0120, 1536,    161.9,  -0.8896,  34.3498,2,  34.3544,2,    301.7,2,    305.1,2,  -999.00,9,  -999.00,9,  -999.00,9,  -999.00,9, -999.000,9, -999.000,9, -999.000,9,  -999.00,9,  -999.00,9,  -0.8942
  32PZ20020819,   CBL,    50,  1,     10,     10,2,20020904,2110, 79.0232,-162.0120, 1536,    292.1,   0.9211,  34.8001,2,  34.7987,2,    299.8,2,    298.7,2,  -999.00,9,  -999.00,9,  -999.00,9,  -999.00,9, -999.000,9, -999.000,9, -999.000,9,  -999.00,9,  -999.00,9,   0.9077
  32PZ20020819,   CBL,    50,  1,      9,      9,2,20020904,2110, 79.0232,-162.0120, 1536,    408.6,   1.0487,  34.8521,2,  34.8531,2,    301.2,2,    301.8,2,  -999.00,9,  -999.00,9,  -999.00,9,  -999.00,9, -999.000,9, -999.000,9, -999.000,9,  -999.00,9,  -999.00,9,   1.0291
  32PZ20020819,   CBL,    50,  1,      8,      8,2,20020904,2110, 79.0232,-162.0120, 1536,    566.1,   0.6284,  34.8581,2,  34.8550,2,    301.5,2,    301.1,2,  -999.00,9,  -999.00,9,  -999.00,9,  -999.00,9, -999.000,9, -999.000,9, -999.000,9,  -999.00,9,  -999.00,9,   0.6024
  32PZ20020819,   CBL,    50,  1,      7,      7,2,20020904,2110, 79.0232,-162.0120, 1536,    760.7,   0.2109,  34.8605,2,  34.8598,2,    303.8,2,    303.5,2,  -999.00,9,  -999.00,9,  -999.00,9,  -999.00,9, -999.000,9, -999.000,9, -999.000,9,  -999.00,9,  -999.00,9,   0.1773
  32PZ20020819,   CBL,    50,  1,      6,      6,2,20020904,2110, 79.0232,-162.0120, 1536,    965.5,  -0.0696,  34.8735,2,  34.8750,2,    303.2,2,    303.4,2,  -999.00,9,  -999.00,9,  -999.00,9,  -999.00,9, -999.000,9, -999.000,9, -999.000,9,  -999.00,9,  -999.00,9,  -0.1118
  32PZ20020819,   CBL,    50,  1,      5,      5,2,20020904,2110, 79.0232,-162.0120, 1536,   1118.2,  -0.1818,  34.8832,2,  34.8838,2,    302.2,2,    302.9,2,  -999.00,9,  -999.00,9,  -999.00,9,  -999.00,9, -999.000,9, -999.000,9, -999.000,9,  -999.00,9,  -999.00,9,  -0.2312
  32PZ20020819,   CBL,    50,  1,      4,      4,2,20020904,2110, 79.0232,-162.0120, 1536,   1320.0,  -0.3165,  34.8987,2,  34.9006,2,    301.2,2,    301.6,2,  -999.00,9,  -999.00,9,  -999.00,9,  -999.00,9, -999.000,9, -999.000,9, -999.000,9,  -999.00,9,  -999.00,9,  -0.3758
  32PZ20020819,   CBL,    50,  1,      3,      3,2,20020904,2110, 79.0232,-162.0120, 1536,   1472.7,  -0.3866,  34.9088,2,  34.9094,2,    298.8,2,    298.9,2,  -999.00,9,  -999.00,9,  -999.00,9,  -999.00,9, -999.000,9, -999.000,9, -999.000,9,  -999.00,9,  -999.00,9,  -0.4539
  32PZ20020819,   CBL,    50,  1,      1,      1,2,20020904,2110, 79.0232,-162.0120, 1536,   1501.6,  -0.3896,  34.9099,2,  34.9108,2,    298.7,2,    298.6,2,  -999.00,9,  -999.00,9,  -999.00,9,  -999.00,9, -999.000,9, -999.000,9, -999.000,9,  -999.00,9,  -999.00,9,  -0.4585
  32PZ20020819,   CBL,    50,  1,      2,      2,2,20020904,2110, 79.0232,-162.0120, 1536,   1501.8,  -0.3897,  34.9099,2,-999.0000,9,    298.7,2,   -999.0,9,  -999.00,9,  -999.00,9,  -999.00,9,  -999.00,9, -999.000,9, -999.000,9, -999.000,9,  -999.00,9,  -999.00,9,  -0.4587