BOTTLE,20220815CCHSIOAMB
EXPOCODE,SECT_ID,STNNBR,CASTNO,SAMPNO,BTLNBR,BTLNBR_FLAG_W,DATE,TIME,LATITUDE,LONGITUDE,DEPTH,CTDPRS,CTDTMP,CTDSAL,CTDSAL_FLAG_W,SALNTY,SALNTY_FLAG_W,CTDOXY,CTDOXY_FLAG_W,OXYGEN,OXYGEN_FLAG_W,SILCAT,SILCAT_FLAG_W,NITRAT,NITRAT_FLAG_W,NITRIT,NITRIT_FLAG_W,PHSPHT,PHSPHT_FLAG_W,CFC-11,CFC-11_FLAG_W,CFC-12,CFC-12_FLAG_W,CFC113,CFC113_FLAG_W,DELO18,DELO18_FLAG_W,BARIUM,BARIUM_FLAG_W,THETA
,,,,,,,,,,,METERS,DBAR,ITS-90,PSS-78,,PSS-78,,UMOL/KG,,UMOL/KG,,UMOL/KG,,UMOL/KG,,UMOL/KG,,UMOL/KG,,PMOL/KG,,PMOL/KG,,PMOL/KG,,/MILLE,,NMOL/KG,,DEG C
  32PZ20020819,   CBL,    95,  1,     19,     19,2,20020914,0342, 77.2088,-167.9023,  541,     13.4,  -1.5308,  28.8212,2,  28.8291,2,    376.8,2,    378.4,2,     2.60,2,     0.10,2,     0.00,2,     0.70,2,    7.750,2,    3.878,2,    0.702,2,    -2.72,2,    60.00,2,  -1.5309
  32PZ20020819,   CBL,    95,  1,     18,     18,2,20020914,0342, 77.2088,-167.9023,  541,     30.8,  -1.0188,  30.6159,2,  30.9032,2,    384.9,2,    373.6,2,     7.30,2,     1.60,2,     0.28,2,     0.94,2,    7.220,2,    3.568,2,    0.627,2,    -2.18,2,    59.80,2,  -1.0194
  32PZ20020819,   CBL,    95,  1,     17,     17,2,20020914,0342, 77.2088,-167.9023,  541,     45.3,  -0.9223,  31.8041,2,  31.8737,2,    349.3,2,    326.6,2,    15.30,2,     6.80,2,     0.02,2,     1.28,2,    6.807,6,    3.442,6,    0.555,6,  -999.00,9,  -999.00,9,  -0.9233
  32PZ20020819,   CBL,    95,  1,     16,     16,2,20020914,0342, 77.2088,-167.9023,  541,     58.8,  -1.3422,  32.1961,2,  32.2093,2,    321.8,2,    307.3,2,    20.00,2,     9.80,2,     0.01,2,     1.49,2,    6.685,2,    3.331,2,    0.515,2,    -1.64,2,    62.40,2,  -1.3433
  32PZ20020819,   CBL,    95,  1,     15,     15,2,20020914,0342, 77.2088,-167.9023,  541,     80.8,  -1.0661,  32.5867,2,  32.6077,2,    290.4,2,    277.5,2,    30.20,2,    13.50,2,     0.01,2,     1.81,2,    6.325,2,    3.160,2,    0.476,2,    -1.50,2,    68.50,2,  -1.0679
  32PZ20020819,   CBL,    95,  1,     14,     14,2,20020914,0342, 77.2088,-167.9023,  541,    102.4,  -1.4081,  32.8110,2,  32.8192,2,    272.3,2,    274.0,2,    34.90,2,    15.20,2,     0.01,2,     1.94,2,    6.274,2,    3.120,2,    0.460,2,    -1.55,2,    69.40,2,  -1.4102
  32PZ20020819,   CBL,    95,  1,     13,     13,2,20020914,0342, 77.2088,-167.9023,  541,    115.1,  -1.5288,  32.9802,2,  33.0046,2,    276.0,2,    267.9,2,    37.00,2,    15.80,2,     0.01,2,     1.96,2,    6.110,2,    3.036,2,    0.436,2,    -1.50,2,    70.80,2,  -1.5311
  32PZ20020819,   CBL,    95,  1,     12,     12,2,20020914,0342, 77.2088,-167.9023,  541,    126.4,  -1.5248,  33.1605,2,  33.1850,2,    271.9,2,    271.9,2,    37.50,2,    15.80,2,     0.01,2,     1.92,2,    5.940,2,    2.941,2,    0.410,2,    -1.41,2,    69.30,2,  -1.5274
  32PZ20020819,   CBL,    95,  1,     11,     11,2,20020914,0342, 77.2088,-167.9023,  541,    142.4,  -1.4226,  33.4403,2,  33.4688,2,    270.8,2,    267.0,2,    37.60,2,    15.90,2,     0.01,2,     1.87,2,    6.081,2,    2.788,2,    0.374,2,    -1.32,2,    65.40,2,  -1.4257
  32PZ20020819,   CBL,    95,  1,     10,     10,2,20020914,0342, 77.2088,-167.9023,  541,    174.5,  -0.8237,  34.2257,2,  34.2326,2,    246.4,2,    246.5,2,    25.10,2,    14.10,2,     0.00,2,     1.34,2,    5.443,2,    2.507,2,    0.319,2,    -0.35,2,    49.40,2,  -0.8287
  32PZ20020819,   CBL,    95,  1,      9,      9,2,20020914,0342, 77.2088,-167.9023,  541,    212.5,   0.0079,  34.5475,2,  34.5535,2,    266.8,2,    268.1,2,    13.90,2,    12.70,2,     0.00,2,     0.98,2,    5.818,2,    2.648,2,    0.323,2,  -999.00,9,  -999.00,9,   0.0000
  32PZ20020819,   CBL,    95,  1,      8,      8,2,20020914,0342, 77.2088,-167.9023,  541,    243.4,   0.5043,  34.6786,2,  34.6836,2,    272.6,2,    270.9,2,    13.20,2,    13.00,2,     0.01,2,     0.96,2,    5.687,2,    2.631,2,    0.328,2,  -999.00,9,  -999.00,9,   0.4942
  32PZ20020819,   CBL,    95,  1,      7,      7,2,20020914,0342, 77.2088,-167.9023,  541,    254.5,   0.6281,  34.7091,2,  34.7140,2,    271.3,2,    277.3,2,    11.10,2,    13.00,2,     0.00,2,     0.93,2,    5.653,6,    2.587,6,    0.339,6,  -999.00,9,  -999.00,9,   0.6172
  32PZ20020819,   CBL,    95,  1,      6,      6,2,20020914,0342, 77.2088,-167.9023,  541,    294.4,   0.8911,  34.7821,2,  34.7819,2,    285.1,2,    286.9,2,     8.40,2,    12.90,2,     0.00,2,     0.89,2,    5.399,2,    2.456,2,    0.325,2,  -999.00,9,  -999.00,9,   0.8777
  32PZ20020819,   CBL,    95,  1,      5,      5,2,20020914,0342, 77.2088,-167.9023,  541,    343.2,   1.0062,  34.8231,2,  34.8241,2,    291.7,2,    290.8,2,     7.80,2,    12.90,2,     0.00,2,     0.88,2,    5.389,2,    2.465,2,    0.323,2,     0.12,2,    40.30,2,   0.9901
  32PZ20020819,   CBL,    95,  1,      4,      4,2,20020914,0342, 77.2088,-167.9023,  541,    384.2,   0.9562,  34.8380,2,  34.8395,2,    292.7,2,    292.5,2,     7.90,2,    12.90,2,     0.00,2,     0.88,2,    5.269,2,    2.405,2,    0.310,2,  -999.00,9,  -999.00,9,   0.9382
  32PZ20020819,   CBL,    95,  1,      3,      3,2,20020914,0342, 77.2088,-167.9023,  541,    446.7,   0.8397,  34.8484,2,  34.8485,2,    293.3,2,    293.6,2,     8.10,2,    13.00,2,     0.00,2,     0.89,2,    5.143,2,    2.352,2,    0.288,2,  -999.00,9,  -999.00,9,   0.8189
  32PZ20020819,   CBL,    95,  1,      2,      2,2,20020914,0342, 77.2088,-167.9023,  541,    507.0,   0.6806,  34.8530,2,  34.8532,2,    294.2,2,    294.3,2,     8.50,2,    13.10,2,     0.00,2,     0.89,2,    5.019,2,    2.293,2,    0.280,2,  -999.00,9,  -999.00,9,   0.6574
  32PZ20020819,   CBL,    95,  1,      1,      1,2,20020914,0342, 77.2088,-167.9023,  541,    529.1,   0.6117,  34.8545,2,  34.8558,2,    292.5,2,    292.6,2,     9.90,2,    13.20,2,     0.01,2,     0.90,2,    4.942,2,    2.256,2,    0.269,2,  -999.00,9,  -999.00,9,   0.5877
  32PZ20020819,   CBL,    96,  1,     18,     18,2,20020914,0705, 77.1742,-168.3882,  959,     13.7,  -1.5434,  28.7523,2,  28.7550,2,    377.3,2,    378.5,2,     3.20,2,     0.10,2,     0.00,2,     0.69,2,    7.535,2,    3.796,2,    0.712,2,  -999.00,9,  -999.00,9,  -1.5435
  32PZ20020819,   CBL,    96,  1,     17,     17,2,20020914,0705, 77.1742,-168.3882,  959,     22.5,  -1.4746,  28.9462,2,-999.0000,9,    379.1,2,    381.4,2,  -999.00,9,  -999.00,9,  -999.00,9,  -999.00,9, -999.000,9, -999.000,9, -999.000,9,  -999.00,9,  -999.00,9,  -1.4749
  32PZ20020819,   CBL,    96,  1,     16,     16,2,20020914,0705, 77.1742,-168.3882,  959,     30.3,  -1.0969,  30.1308,2,-999.0000,9,    384.6,2,    378.5,2,     6.70,2,     0.70,2,     0.28,2,     0.84,2, -999.000,9, -999.000,9, -999.000,9,  -999.00,9,  -999.00,9,  -1.0974
  32PZ20020819,   CBL,    96,  1,     15,     15,2,20020914,0705, 77.1742,-168.3882,  959,     41.9,  -1.0155,  31.6568,2,-999.0000,9,    354.2,2,   -999.0,9,    14.80,2,     6.20,2,     0.10,2,     1.25,2, -999.000,9, -999.000,9, -999.000,9,  -999.00,9,  -999.00,9,  -1.0164
  32PZ20020819,   CBL,    96,  1,     14,     14,2,20020914,0705, 77.1742,-168.3882,  959,     56.9,  -1.4263,  32.1204,2,-999.0000,9,    320.2,2,   -999.0,9,    18.30,2,     9.20,2,     0.02,2,     1.44,2, -999.000,9, -999.000,9, -999.000,9,  -999.00,9,  -999.00,9,  -1.4273
  32PZ20020819,   CBL,    96,  1,     13,     13,2,20020914,0705, 77.1742,-168.3882,  959,     71.6,  -1.2541,  32.3958,2,-999.0000,9,    302.0,2,   -999.0,9,    26.10,2,    11.80,2,     0.01,2,     1.66,2, -999.000,9, -999.000,9, -999.000,9,  -999.00,9,  -999.00,9,  -1.2556
  32PZ20020819,   CBL,    96,  1,     12,     12,2,20020914,0705, 77.1742,-168.3882,  959,     98.6,  -1.2050,  32.7729,2,  32.7732,2,    271.0,2,    269.2,2,    35.20,2,    15.20,2,     0.01,2,     2.00,2,    6.259,2,    3.246,2,    0.501,2,  -999.00,9,  -999.00,9,  -1.2072
  32PZ20020819,   CBL,    96,  1,     11,     11,2,20020914,0705, 77.1742,-168.3882,  959,    124.5,  -1.5088,  33.0990,2,  33.1200,2,    283.0,2,    277.4,2,    36.10,2,    15.10,2,     0.01,2,     1.87,2,    5.628,2,    2.906,2,    0.410,2,  -999.00,9,  -999.00,9,  -1.5113
  32PZ20020819,   CBL,    96,  1,     10,     10,2,20020914,0705, 77.1742,-168.3882,  959,    143.9,  -1.4165,  33.4601,2,-999.0000,9,    270.1,2,    269.2,2,    37.20,2,    15.90,2,     0.01,2,     1.86,2, -999.000,9, -999.000,9, -999.000,9,  -999.00,9,  -999.00,9,  -1.4197
  32PZ20020819,   CBL,    96,  1,      9,      9,2,20020914,0705, 77.1742,-168.3882,  959,    170.1,  -0.9568,  34.1772,2,  34.1883,2,    250.9,2,   -999.0,9,    24.50,2,    13.90,2,     0.01,2,     1.32,2,    5.421,2,    2.592,2,    0.324,2,  -999.00,9,  -999.00,9,  -0.9615
  32PZ20020819,   CBL,    96,  1,      8,      8,2,20020914,0705, 77.1742,-168.3882,  959,    203.5,  -0.2838,  34.4678,2,  34.4722,2,    262.6,2,    265.9,2,    15.00,2,    12.70,2,     0.01,2,     1.01,2, -999.000,9, -999.000,9, -999.000,9,  -999.00,9,  -999.00,9,  -0.2908
  32PZ20020819,   CBL,    96,  1,      7,      7,2,20020914,0705, 77.1742,-168.3882,  959,    244.9,   0.4905,  34.6703,2,-999.0000,9,    279.2,2,   -999.0,9,    10.80,2,    12.90,2,     0.01,2,     0.92,2, -999.000,9, -999.000,9, -999.000,9,  -999.00,9,  -999.00,9,   0.4803
  32PZ20020819,   CBL,    96,  1,      6,      6,2,20020914,0705, 77.1742,-168.3882,  959,    285.7,   0.8877,  34.7785,2,  34.7771,2,    286.2,2,    286.8,2,     8.70,2,    13.00,2,     0.01,2,     0.89,2,    5.400,2,    2.565,2,    0.343,2,  -999.00,9,  -999.00,9,   0.8747
  32PZ20020819,   CBL,    96,  1,      5,      5,2,20020914,0705, 77.1742,-168.3882,  959,    343.4,   1.0133,  34.8263,2,  34.8263,2,    291.4,2,    290.7,2,     8.00,2,    13.10,2,     0.01,2,     0.88,2,    5.274,6,    2.506,6,    0.331,6,  -999.00,9,  -999.00,9,   0.9971
  32PZ20020819,   CBL,    96,  1,      4,      4,2,20020914,0705, 77.1742,-168.3882,  959,    412.0,   0.8812,  34.8439,2,-999.0000,9,    293.5,2,   -999.0,9,     8.20,2,    13.10,2,     0.01,2,     0.88,2,    5.124,2,    2.424,2,    0.310,2,  -999.00,9,  -999.00,9,   0.8620
  32PZ20020819,   CBL,    96,  1,      3,      3,2,20020914,0705, 77.1742,-168.3882,  959,    609.1,   0.4463,  34.8595,2,  34.8595,2,    298.8,2,    298.6,2,  -999.00,9,  -999.00,9,  -999.00,9,  -999.00,9,    4.950,2,    2.295,2,    0.303,2,  -999.00,9,  -999.00,9,   0.4190
  32PZ20020819,   CBL,    96,  1,      2,      2,2,20020914,0705, 77.1742,-168.3882,  959,    801.3,   0.0205,  34.8671,2,-999.0000,9,    303.2,2,    303.6,2,  -999.00,9,  -999.00,9,  -999.00,9,  -999.00,9,    4.905,2,    2.267,2,    0.299,2,  -999.00,9,  -999.00,9,  -0.0139
  32PZ20020819,   CBL,    96,  1,      1,      1,2,20020914,0705, 77.1742,-168.3882,  959,    954.8,  -0.1629,  34.8795,2,  34.8794,2,    300.7,2,    300.8,2,     8.90,2,    13.20,2,     0.01,2,     0.91,2,    4.494,6,    2.088,6,    0.272,6,  -999.00,9,  -999.00,9,  -0.2038
  32PZ20020819,   CBL,    97,  1,     24,     24,2,20020914,1059, 77.1425,-168.9327, 1691,     12.8,  -1.5531,  28.7976,2,  28.7949,2,    377.4,2,    378.8,2,     2.80,2,     0.10,2,     0.00,2,     0.70,2,    7.660,2,    3.770,2,    0.702,2,    -2.59,2,    60.10,2,  -1.5532
  32PZ20020819,   CBL,    97,  1,     23,     23,2,20020914,1059, 77.1425,-168.9327, 1691,     31.3,  -0.9566,  30.6451,2,  30.6343,2,    383.6,2,    374.0,2,     6.40,2,     0.90,2,     0.33,2,     0.87,2, -999.000,9, -999.000,9, -999.000,9,    -2.33,2,    60.90,2,  -0.9572
  32PZ20020819,   CBL,    97,  1,     22,     22,2,20020914,1059, 77.1425,-168.9327, 1691,     39.1,  -0.7734,  31.3585,2,  31.3857,2,    364.7,2,    350.0,2,    10.00,2,     3.50,2,     0.17,2,     1.06,2,    6.969,2,    3.435,2,    0.593,2,    -1.90,2,    61.60,2,  -0.7743
  32PZ20020819,   CBL,    97,  1,     21,     21,2,20020914,1059, 77.1425,-168.9327, 1691,     57.5,  -1.4783,  32.0811,2,  32.0786,2,    325.4,2,    316.7,2,    17.90,2,     8.90,2,     0.03,2,     1.41,2,    7.020,2,    3.491,2,    0.565,2,    -1.64,2,    58.60,2,  -1.4793
  32PZ20020819,   CBL,    97,  1,     20,     20,2,20020914,1059, 77.1425,-168.9327, 1691,     71.9,  -1.3597,  32.3385,2,  32.3628,2,    307.0,2,    296.5,2,    24.00,2,    11.50,2,     0.02,2,     1.62,2, -999.000,9, -999.000,9, -999.000,9,  -999.00,9,  -999.00,9,  -1.3611
  32PZ20020819,   CBL,    97,  1,     19,     19,2,20020914,1059, 77.1425,-168.9327, 1691,     84.3,  -1.3827,  32.5802,2,  32.5799,2,    291.3,2,    284.1,2,    29.60,2,    13.70,2,     0.02,2,     1.78,2,    6.408,2,    3.162,2,    0.468,2,  -999.00,9,  -999.00,9,  -1.3844
  32PZ20020819,   CBL,    97,  1,     18,     18,2,20020914,1059, 77.1425,-168.9327, 1691,    100.5,  -1.4304,  32.7747,2,  32.7886,2,    277.6,2,    272.6,2,    34.80,2,    15.20,2,     0.02,2,     1.94,2,    6.307,2,    3.154,2,    0.464,2,    -1.45,2,    69.10,2,  -1.4324
  32PZ20020819,   CBL,    97,  1,     17,     17,2,20020914,1059, 77.1425,-168.9327, 1691,    111.2,  -1.5472,  32.9634,2,  32.9892,2,    278.8,2,    271.9,2,    37.00,2,    15.50,2,     0.02,2,     1.94,2,    6.060,2,    3.006,2,    0.429,2,    -1.54,2,    70.90,2,  -1.5494
  32PZ20020819,   CBL,    97,  1,     16,     16,2,20020914,1059, 77.1425,-168.9327, 1691,    130.9,  -1.4989,  33.3131,2,  33.3301,2,    266.9,2,    265.6,2,    39.60,2,    16.10,2,     0.01,2,     1.95,2,    5.920,2,    2.913,2,    0.408,2,  -999.00,9,  -999.00,9,  -1.5016
  32PZ20020819,   CBL,    97,  1,     15,     15,2,20020914,1059, 77.1425,-168.9327, 1691,    146.2,  -1.2622,  33.6890,2,  33.7298,2,    255.9,2,    248.9,2,    38.00,2,    16.40,2,     0.01,2,     1.84,2,    5.500,2,    2.661,2,    0.343,2,  -999.00,9,  -999.00,9,  -1.2657
  32PZ20020819,   CBL,    97,  1,     14,     14,2,20020914,1059, 77.1425,-168.9327, 1691,    165.7,  -0.9735,  34.1752,2,  34.1595,2,    245.9,2,    249.2,2,    24.70,2,    14.00,2,     0.01,2,     1.33,2,    5.663,2,    2.600,2,    0.324,2,    -0.39,2,    51.20,2,  -0.9780
  32PZ20020819,   CBL,    97,  1,     13,     13,2,20020914,1059, 77.1425,-168.9327, 1691,    203.6,  -0.1628,  34.4822,2,  34.4954,2,    275.1,2,    276.2,2,    11.80,2,    12.20,2,     0.01,2,     0.93,2,    6.011,2,    2.712,2,    0.361,2,  -999.00,9,  -999.00,9,  -0.1700
  32PZ20020819,   CBL,    97,  1,     12,     12,2,20020914,1059, 77.1425,-168.9327, 1691,    290.3,   0.9990,  34.7981,2,  34.7976,2,    292.5,2,    292.8,2,     7.20,2,    12.60,2,     0.01,2,     0.87,2,    5.588,2,    2.560,2,    0.363,2,  -999.00,9,  -999.00,9,   0.9855
  32PZ20020819,   CBL,    97,  1,     11,     11,2,20020914,1059, 77.1425,-168.9327, 1691,    324.4,   1.1132,  34.8321,2,  34.8310,2,    294.9,2,    294.6,2,     7.00,2,    12.60,2,     0.01,2,     0.86,2,    5.547,2,    2.550,2,    0.361,2,  -999.00,9,  -999.00,9,   1.0977
  32PZ20020819,   CBL,    97,  1,     10,     10,2,20020914,1059, 77.1425,-168.9327, 1691,    376.9,   1.1551,  34.8495,2,  34.8475,2,    296.7,2,    297.1,2,     6.90,2,    12.60,2,     0.01,2,     0.86,2,    5.512,2,    2.545,2,    0.354,2,     0.23,2,    57.10,2,   1.1368
  32PZ20020819,   CBL,    97,  1,      9,      9,2,20020914,1059, 77.1425,-168.9327, 1691,    435.1,   1.0516,  34.8535,2,  34.8528,2,    297.6,2,    297.7,2,     7.10,2,    12.70,2,     0.01,2,     0.86,2,    5.409,6,    2.481,6,    0.340,6,  -999.00,9,  -999.00,9,   1.0306
  32PZ20020819,   CBL,    97,  1,      8,      8,2,20020914,1059, 77.1425,-168.9327, 1691,    514.3,   0.8514,  34.8591,2,  34.8585,2,    299.9,2,    299.6,2,     6.90,2,    12.70,2,     0.01,2,     0.86,2,    5.202,2,    2.394,2,    0.326,2,  -999.00,9,  -999.00,9,   0.8271
  32PZ20020819,   CBL,    97,  1,      7,      7,2,20020914,1059, 77.1425,-168.9327, 1691,    611.9,   0.5658,  34.8604,2,  34.8595,2,    301.6,2,    301.5,2,     6.80,2,    12.60,2,     0.01,2,     0.86,2,    5.157,2,    2.348,2,    0.321,2,  -999.00,9,  -999.00,9,   0.5378
  32PZ20020819,   CBL,    97,  1,      6,      6,2,20020914,1059, 77.1425,-168.9327, 1691,    738.8,   0.2845,  34.8606,2,  34.8611,2,    302.9,2,    304.0,2,     6.70,2,    12.60,2,     0.01,2,     0.86,2,    4.885,2,    2.235,2,    0.289,2,     0.22,2,    42.30,2,   0.2516
  32PZ20020819,   CBL,    97,  1,      5,      5,2,20020914,1059, 77.1425,-168.9327, 1691,    943.0,   0.0089,  34.8687,2,  34.8688,2,    304.0,2,    303.8,2,     7.00,2,    12.60,2,     0.01,2,     0.87,2,    4.648,2,    2.120,2,    0.282,2,  -999.00,9,  -999.00,9,  -0.0327
  32PZ20020819,   CBL,    97,  1,      4,      4,2,20020914,1059, 77.1425,-168.9327, 1691,   1165.5,  -0.1944,  34.8848,2,  34.8841,2,    303.3,2,    303.4,2,     7.60,2,    12.90,2,     0.01,2,     0.90,2,    3.958,2,    1.815,2,    0.214,2,  -999.00,9,  -999.00,9,  -0.2462
  32PZ20020819,   CBL,    97,  1,      3,      3,2,20020914,1059, 77.1425,-168.9327, 1691,   1389.0,  -0.3465,  34.9027,2,  34.9020,2,    301.2,2,    301.7,2,     8.50,2,    13.50,2,     0.01,2,     0.93,2,    2.655,6,    1.246,6,    0.145,6,  -999.00,9,  -999.00,9,  -0.4094
  32PZ20020819,   CBL,    97,  1,      2,      2,2,20020914,1059, 77.1425,-168.9327, 1691,   1537.9,  -0.4213,  34.9152,2,  34.9142,2,    298.0,2,    297.9,2,    10.00,2,    14.00,2,     0.01,2,     0.97,2,    1.922,2,    0.913,2,    0.104,2,  -999.00,9,  -999.00,9,  -0.4920
  32PZ20020819,   CBL,    97,  1,      1,      1,2,20020914,1059, 77.1425,-168.9327, 1691,   1676.9,  -0.4300,  34.9293,2,  34.9280,2,    293.4,2,    293.4,2,    11.50,2,    14.40,2,     0.01,2,     1.00,2,    1.071,2,    0.506,2,    0.055,2,  -999.00,9,  -999.00,9,  -0.5091