BOTTLE,20220815CCHSIOAMB
EXPOCODE,STNNBR,CASTNO,SAMPNO,BTLNBR,BTLNBR_FLAG_W,DATE,TIME,LATITUDE,LONGITUDE,DEPTH,CTDPRS,CTDTMP,CTDSAL,CTDSAL_FLAG_W,SALNTY,SALNTY_FLAG_W,CTDOXY,CTDOXY_FLAG_W,OXYGEN,OXYGEN_FLAG_W,SILCAT,SILCAT_FLAG_W,NITRAT,NITRAT_FLAG_W,NITRIT,NITRIT_FLAG_W,PHSPHT,PHSPHT_FLAG_W,AMMONI,AMMONI_FLAG_W,TCARBN,TCARBN_FLAG_W,ALKALI,ALKALI_FLAG_W,UREA,UREA_FLAG_W,CHLORA,CHLORA_FLAG_W,PHAEO,PHAEO_FLAG_W,FLUORO,FLUORO_FLAG_W,THETA,BTL_DATE,BTL_TIME
,,,,,,,,,,METERS,DBAR,ITS-90,PSS-78,,PSS-78,,UMOL/KG,,UMOL/KG,,UMOL/KG,,UMOL/KG,,UMOL/KG,,UMOL/KG,,UMOL/KG,,UMOL/KG,,UMOL/KG,,UMOL/KG,,UG/L,,UG/L,,VOLTS,,DEG C,,
  32H120040718,    15,  1,    112,     12,2,20040723, 647, 71.3910,-157.6000,  118,      1.6,   1.3848,  26.3822,2,  26.4163,2,    436.9,2,    445.9,2,     8.48,2,     0.06,2,     0.01,2,     0.47,2,     0.02,2,   1616.9,   2,   1826.8,   2,     0.04,2,     0.53,2,     0.07,2,    1.317,2,   1.3847,20040723, 724
  32H120040718,    15,  1,    111,     11,2,20040723, 647, 71.3910,-157.6000,  118,      9.9,  -0.4512,  29.3545,2,-999.0000,9,    644.6,2,    661.6,2,     1.87,2,     0.01,2,     0.01,2,     0.42,2,     0.02,2,   1654.7,   2,   2000.9,   2,     0.06,2,     0.84,2,     0.32,2,    1.708,2,  -0.4514,20040723, 722
  32H120040718,    15,  1,    110,     10,2,20040723, 647, 71.3910,-157.6000,  118,     15.0,  -0.9274,  30.0818,2,-999.0000,9,    649.2,2,    696.8,2,     1.05,2,     0.01,2,     0.01,2,     0.47,2,     0.01,2,   1694.0,   2,   2059.8,   2,     0.07,2,     4.26,2,     0.71,2,    2.427,2,  -0.9277,20040723, 719
  32H120040718,    15,  1,    109,      9,2,20040723, 647, 71.3910,-157.6000,  118,     19.8,  -1.1551,  31.2720,2,-999.0000,9,    476.6,2,    490.9,2,    16.44,2,     0.98,2,     0.05,2,     1.13,2,     0.13,2,   1924.4,   2,   2128.7,   2,     0.19,2,    29.06,2,     0.64,2,    3.006,2,  -1.1555,20040723, 713
  32H120040718,    15,  1,    108,      8,2,20040723, 647, 71.3910,-157.6000,  118,     24.2,  -1.5245,  31.7355,2,-999.0000,9,    371.5,2,    376.2,2,    37.39,2,    10.95,2,     0.18,2,     1.65,2,      0.7,2,   2043.8,   2,   2168.2,   2,     0.11,2,  -999.00,9,  -999.00,9,    2.208,2,  -1.5249,20040723, 710
  32H120040718,    15,  1,    107,      7,2,20040723, 647, 71.3910,-157.6000,  118,     35.1,  -1.5390,  32.4470,2,-999.0000,9,    347.6,2,    354.0,2,    36.21,2,    10.84,2,     0.20,2,     1.73,2,     1.56,2,   2093.4,   2,   2217.5,   2,     0.14,2,     2.76,2,     0.51,2,    1.688,2,  -1.5396,20040723, 705
  32H120040718,    15,  1,    106,      6,2,20040723, 647, 71.3910,-157.6000,  118,     50.3,  -1.7063,  32.7425,2,-999.0000,9,    332.5,2,    336.2,2,    44.72,2,    13.63,2,     0.18,2,     1.94,2,     1.56,2,   2128.2,   2,   2235.9,   2,     0.13,2,     1.88,2,     0.33,2,    1.821,2,  -1.7072,20040723, 703
  32H120040718,    15,  1,    105,      5,2,20040723, 647, 71.3910,-157.6000,  118,     64.2,  -1.7278,  32.8320,2,-999.0000,9,    324.4,2,    328.5,2,    47.08,2,    14.53,2,     0.16,2,     2.04,2,     1.58,2,   2131.3,   2,   2240.6,   2,     0.13,2,  -999.00,9,  -999.00,9,    1.357,2,  -1.7289,20040723, 700
  32H120040718,    15,  1,    104,      4,2,20040723, 647, 71.3910,-157.6000,  118,     79.6,  -1.7316,  32.8817,2,-999.0000,9,    321.6,2,    325.1,2,    46.28,2,    14.27,2,     0.14,2,     2.03,2,     1.58,2,   2148.0,   2,   2252.4,   2,     0.14,2,     0.98,2,     0.49,2,    1.479,2,  -1.7330,20040723, 656
  32H120040718,    15,  1,    103,      3,2,20040723, 647, 71.3910,-157.6000,  118,     94.7,  -1.7327,  32.9064,2,-999.0000,9,    319.5,2,    324.1,2,    45.34,2,    13.87,2,     0.14,2,     2.04,2,     1.58,2,   2148.7,   2,   2245.7,   2,     0.15,2,  -999.00,9,  -999.00,9,    1.461,2,  -1.7344,20040723, 653
  32H120040718,    15,  1,    102,      2,2,20040723, 647, 71.3910,-157.6000,  118,    107.8,  -1.7323,  32.9142,2,  32.9142,2,    318.0,2,    321.5,2,    44.75,2,    13.78,2,     0.14,2,     2.04,2,     1.59,2,   2170.3,   2,   2252.8,   2,     0.16,2,     1.17,2,     0.57,2,    1.608,2,  -1.7342,20040723, 650
  32H120040718,    15,  1,    101,      1,2,20040723, 647, 71.3910,-157.6000,  118,    112.5,  -1.7320,  32.9183,2,  32.9177,2,    317.2,2,    320.8,2,    44.50,2,    13.73,2,     0.14,2,     2.04,2,     1.59,2,   2168.8,   2,   2255.9,   2,     0.22,2,  -999.00,9,  -999.00,9,    1.600,2,  -1.7340,20040723, 647
  32H120040718,    15,  2,    207,      7,2,20040723, 850, 71.3910,-157.6000,  118,     81.5,  -1.7308,  32.9072,2,-999.0000,9,    318.4,2,   -999.0,9,  -999.00,9,  -999.00,9,  -999.00,9,  -999.00,9,     -999,9,   -999.0,   9,   -999.0,   9,     -999,9,  -999.00,9,  -999.00,9,    1.517,2,  -1.7322,20040723, 851
  32H120040718,    15,  2,    212,     12,2,20040723, 850, 71.3910,-157.6000,  118,     81.5,  -1.7308,  32.9081,2,-999.0000,9,    318.0,2,   -999.0,9,  -999.00,9,  -999.00,9,  -999.00,9,  -999.00,9,     -999,9,   -999.0,   9,   -999.0,   9,     -999,9,  -999.00,9,  -999.00,9,    1.522,2,  -1.7322,20040723, 852
  32H120040718,    15,  2,    208,      8,2,20040723, 850, 71.3910,-157.6000,  118,     81.5,  -1.7309,  32.9078,2,-999.0000,9,    318.3,2,   -999.0,9,  -999.00,9,  -999.00,9,  -999.00,9,  -999.00,9,     -999,9,   -999.0,   9,   -999.0,   9,     -999,9,  -999.00,9,  -999.00,9,    1.520,2,  -1.7323,20040723, 851
  32H120040718,    15,  2,    209,      9,2,20040723, 850, 71.3910,-157.6000,  118,     81.5,  -1.7310,  32.9086,2,-999.0000,9,    318.4,2,   -999.0,9,  -999.00,9,  -999.00,9,  -999.00,9,  -999.00,9,     -999,9,   -999.0,   9,   -999.0,   9,     -999,9,  -999.00,9,  -999.00,9,    1.528,2,  -1.7324,20040723, 851
  32H120040718,    15,  2,    204,      4,2,20040723, 850, 71.3910,-157.6000,  118,     81.5,  -1.7311,  32.9083,2,-999.0000,9,    318.3,2,   -999.0,9,  -999.00,9,  -999.00,9,  -999.00,9,  -999.00,9,     -999,9,   -999.0,   9,   -999.0,   9,     -999,9,  -999.00,9,  -999.00,9,    1.571,2,  -1.7325,20040723, 850
  32H120040718,    15,  2,    203,      3,2,20040723, 850, 71.3910,-157.6000,  118,     81.5,  -1.7311,  32.9086,2,-999.0000,9,    318.5,2,   -999.0,9,  -999.00,9,  -999.00,9,  -999.00,9,  -999.00,9,     -999,9,   -999.0,   9,   -999.0,   9,     -999,9,  -999.00,9,  -999.00,9,    1.544,2,  -1.7325,20040723, 850
  32H120040718,    15,  2,    206,      6,2,20040723, 850, 71.3910,-157.6000,  118,     81.5,  -1.7312,  32.9079,2,-999.0000,9,    318.3,2,   -999.0,9,  -999.00,9,  -999.00,9,  -999.00,9,  -999.00,9,     -999,9,   -999.0,   9,   -999.0,   9,     -999,9,  -999.00,9,  -999.00,9,    1.533,2,  -1.7326,20040723, 851
  32H120040718,    15,  2,    205,      5,2,20040723, 850, 71.3910,-157.6000,  118,     81.5,  -1.7312,  32.9085,2,-999.0000,9,    318.3,2,   -999.0,9,  -999.00,9,  -999.00,9,  -999.00,9,  -999.00,9,     -999,9,   -999.0,   9,   -999.0,   9,     -999,9,  -999.00,9,  -999.00,9,    1.528,2,  -1.7326,20040723, 851
  32H120040718,    15,  2,    210,     10,2,20040723, 850, 71.3910,-157.6000,  118,     81.5,  -1.7312,  32.9086,2,-999.0000,9,    318.0,2,   -999.0,9,  -999.00,9,  -999.00,9,  -999.00,9,  -999.00,9,     -999,9,   -999.0,   9,   -999.0,   9,     -999,9,  -999.00,9,  -999.00,9,    1.516,2,  -1.7326,20040723, 852
  32H120040718,    15,  2,    211,     11,2,20040723, 850, 71.3910,-157.6000,  118,     81.5,  -1.7312,  32.9091,2,-999.0000,9,    318.0,2,   -999.0,9,  -999.00,9,  -999.00,9,  -999.00,9,  -999.00,9,     -999,9,   -999.0,   9,   -999.0,   9,     -999,9,  -999.00,9,  -999.00,9,    1.583,2,  -1.7326,20040723, 852
  32H120040718,    15,  2,    202,      2,2,20040723, 850, 71.3910,-157.6000,  118,     81.6,  -1.7310,  32.9083,2,-999.0000,9,    318.4,2,   -999.0,9,  -999.00,9,  -999.00,9,  -999.00,9,  -999.00,9,     -999,9,   -999.0,   9,   -999.0,   9,     -999,9,  -999.00,9,  -999.00,9,    1.528,2,  -1.7324,20040723, 850
  32H120040718,    15,  2,    201,      1,2,20040723, 850, 71.3910,-157.6000,  118,     81.6,  -1.7312,  32.9086,2,-999.0000,9,    318.2,2,   -999.0,9,    44.35,2,    13.79,2,     0.14,2,     2.05,2,     1.54,2,   -999.0,   9,   -999.0,   9,     0.16,2,  -999.00,9,  -999.00,9,    1.518,2,  -1.7326,20040723, 850
  32H120040718,    15,  3,    312,     12,2,20040723,1433, 71.3910,-157.6000,  118,      1.5,   1.1967,  26.8549,2,-999.0000,9,    473.5,2,    473.7,2,     5.11,2,     0.04,2,     0.01,2,     0.45,2,     0.31,2,   -999.0,   9,   -999.0,   9,     0.04,2,     0.47,2,     0.06,2,    1.116,2,   1.1967,20040723,1501
  32H120040718,    15,  3,    311,     11,2,20040723,1433, 71.3910,-157.6000,  118,      5.0,  -0.1041,  27.9613,2,-999.0000,9,    451.0,2,    466.3,2,     3.37,2,    -0.01,2,     0.01,2,     0.46,2,     0.31,2,   -999.0,   9,   -999.0,   9,     0.04,2,     0.45,2,     0.07,2,    1.343,2,  -0.1042,20040723,1459
  32H120040718,    15,  3,    310,     10,2,20040723,1433, 71.3910,-157.6000,  118,      8.0,  -0.7324,  29.0994,2,-999.0000,9,    457.8,2,    499.8,2,     1.18,2,     0.04,2,     0.01,2,     0.52,2,     0.28,2,   -999.0,   9,   -999.0,   9,     0.04,2,     1.94,2,     0.09,2,    1.822,2,  -0.7325,20040723,1456
  32H120040718,    15,  3,    309,      9,2,20040723,1433, 71.3910,-157.6000,  118,     12.1,  -0.8091,  29.8178,2,-999.0000,9,    648.3,2,    591.0,2,     2.76,2,     0.25,2,     0.02,2,     0.57,2,     0.36,2,   -999.0,   9,   -999.0,   9,     0.08,2,     7.68,2,     0.64,2,    2.125,2,  -0.8093,20040723,1453
  32H120040718,    15,  3,    308,      8,2,20040723,1433, 71.3910,-157.6000,  118,     18.4,  -1.0437,  31.0298,2,-999.0000,9,    513.7,2,    449.1,2,    20.15,2,     3.26,2,     0.10,2,     1.26,2,     0.64,2,   -999.0,   9,   -999.0,   9,     0.23,2,    11.85,2,     0.01,2,    2.892,2,  -1.0441,20040723,1450
  32H120040718,    15,  3,    307,      7,2,20040723,1433, 71.3910,-157.6000,  118,     18.4,  -1.0460,  31.0219,2,-999.0000,9,    514.4,2,   -999.0,9,  -999.00,9,  -999.00,9,  -999.00,9,  -999.00,9,     -999,9,   -999.0,   9,   -999.0,   9,     -999,9,  -999.00,9,  -999.00,9,    2.905,2,  -1.0464,20040723,1450
  32H120040718,    15,  3,    306,      6,2,20040723,1433, 71.3910,-157.6000,  118,     27.8,  -1.4596,  31.9096,2,-999.0000,9,    370.1,2,    375.6,2,    34.47,2,     9.97,2,     0.18,2,     1.61,2,     1.06,2,   -999.0,   9,   -999.0,   9,     0.14,2,    11.23,2,     1.26,2,    2.289,2,  -1.4601,20040723,1447
  32H120040718,    15,  3,    305,      5,2,20040723,1433, 71.3910,-157.6000,  118,     61.6,  -1.7243,  32.8272,2,-999.0000,9,    324.3,2,   -999.0,9,    45.83,2,    14.17,2,     0.16,2,     2.03,2,     1.88,2,   -999.0,   9,   -999.0,   9,     0.11,2,  -999.00,9,  -999.00,9,    1.500,2,  -1.7254,20040723,1442
  32H120040718,    15,  3,    304,      4,2,20040723,1433, 71.3910,-157.6000,  118,     91.8,  -1.7276,  32.8596,2,-999.0000,9,    322.2,2,   -999.0,9,    45.59,2,    14.18,2,     0.15,2,     2.03,2,     1.85,2,   -999.0,   9,   -999.0,   9,      0.1,2,  -999.00,9,  -999.00,9,    1.523,2,  -1.7292,20040723,1438
  32H120040718,    15,  3,    303,      3,2,20040723,1433, 71.3910,-157.6000,  118,    124.4,  -1.7266,  32.9548,2,-999.0000,9,    310.1,2,   -999.0,9,  -999.00,9,  -999.00,9,  -999.00,9,  -999.00,9,     -999,9,   -999.0,   9,   -999.0,   9,     -999,9,  -999.00,9,  -999.00,9,    1.615,2,  -1.7289,20040723,1433
  32H120040718,    15,  3,    302,      2,2,20040723,1433, 71.3910,-157.6000,  118,    124.4,  -1.7266,  32.9550,2,-999.0000,9,    310.1,2,   -999.0,9,  -999.00,9,  -999.00,9,  -999.00,9,  -999.00,9,     -999,9,   -999.0,   9,   -999.0,   9,     -999,9,  -999.00,9,  -999.00,9,    1.660,2,  -1.7289,20040723,1433
  32H120040718,    15,  3,    301,      1,2,20040723,1433, 71.3910,-157.6000,  118,    124.4,  -1.7267,  32.9551,2,-999.0000,9,    310.2,2,   -999.0,9,    41.06,2,    12.62,2,     0.15,2,     2.04,2,      1.8,2,   -999.0,   9,   -999.0,   9,     0.15,2,  -999.00,9,  -999.00,9,    1.599,2,  -1.7290,20040723,1433
  32H120040718,    16,  1,    112,     12,2,20040724,  16, 71.7020,-156.1420,   98,      1.6,   0.1129,  27.0560,2,  26.4381,2,    374.3,2,    378.5,2,     3.39,2,     0.08,2,     0.00,2,     0.55,2,     0.09,2,   1774.2,   2,   1918.0,   2,     0.03,2,     0.17,2,     0.04,2,    0.576,2,   0.1129,20040724,  55
  32H120040718,    16,  1,    111,     11,2,20040724,  16, 71.7020,-156.1420,   98,      5.0,   3.1616,  28.9886,2,  28.7876,2,    379.3,2,    382.7,2,     5.43,2,     0.04,2,     0.00,2,     0.57,2,     0.08,2,   1829.6,   2,   2016.8,   2,     0.04,2,     0.29,2,     0.05,2,    0.829,2,   3.1613,20040724,  53
  32H120040718,    16,  1,    110,     10,2,20040724,  16, 71.7020,-156.1420,   98,     10.1,   3.9967,  29.3754,2,-999.0000,9,    379.3,2,    383.4,2,     6.09,2,     0.03,2,     0.00,2,     0.56,2,     0.07,2,   -999.0,   9,   -999.0,   9,     0.05,2,     0.37,2,     0.06,2,    0.959,2,   3.9961,20040724,  51
  32H120040718,    16,  1,    109,      9,2,20040724,  16, 71.7020,-156.1420,   98,     15.1,   2.6589,  30.4399,2,-999.0000,9,    407.0,2,    402.5,2,     5.28,2,     0.03,2,     0.00,2,     0.60,2,     0.07,2,   -999.0,   9,   -999.0,   9,     0.05,2,  -999.00,9,  -999.00,9,    1.503,2,   2.6581,20040724,  47
  32H120040718,    16,  1,    108,      8,2,20040724,  16, 71.7020,-156.1420,   98,     20.7,  -1.2298,  31.4411,2,-999.0000,9,    454.5,2,    467.7,2,     8.35,2,     0.19,2,     0.03,2,     0.81,2,     0.11,2,   -999.0,   9,   -999.0,   9,      0.1,2,     4.19,2,     0.07,2,    2.774,2,  -1.2302,20040724,  43
  32H120040718,    16,  1,    107,      7,2,20040724,  16, 71.7020,-156.1420,   98,     25.0,  -0.9786,  31.8661,2,-999.0000,9,    408.5,2,    418.8,2,    13.13,2,     2.63,2,     0.10,2,     1.07,2,     0.48,2,   -999.0,   9,   -999.0,   9,      0.1,2,     1.58,2,     0.01,2,    2.105,2,  -0.9791,20040724,  40
  32H120040718,    16,  1,    106,      6,2,20040724,  16, 71.7020,-156.1420,   98,     35.0,  -1.2073,  32.2046,2,-999.0000,9,    379.9,2,    376.9,2,    20.38,2,     5.49,2,     0.18,2,     1.37,2,     1.68,2,   -999.0,   9,   -999.0,   9,     0.15,2,     0.39,2,     0.25,2,    1.535,2,  -1.2080,20040724,  35
  32H120040718,    16,  1,    105,      5,2,20040724,  16, 71.7020,-156.1420,   98,     50.4,  -1.5163,  32.4541,2,-999.0000,9,    350.1,2,   -999.0,9,    28.54,2,     8.66,2,     0.22,2,     1.62,2,     2.17,2,   -999.0,   9,   -999.0,   9,     0.14,2,     0.94,2,     0.46,2,    1.252,2,  -1.5172,20040724,  31
  32H120040718,    16,  1,    104,      4,2,20040724,  16, 71.7020,-156.1420,   98,     75.7,  -1.6068,  32.6698,2,-999.0000,9,    349.1,2,    352.5,2,    35.21,2,    10.51,2,     0.19,2,     1.76,2,     1.98,2,   -999.0,   9,   -999.0,   9,     0.11,2,  -999.00,9,  -999.00,9,    1.238,2,  -1.6082,20040724,  26
  32H120040718,    16,  1,    103,      3,2,20040724,  16, 71.7020,-156.1420,   98,     84.6,  -1.5946,  32.9262,2,-999.0000,9,    330.6,2,   -999.0,9,    36.00,2,    10.24,2,     0.14,2,     1.79,2,     1.93,2,   -999.0,   9,   -999.0,   9,     0.17,2,  -999.00,9,  -999.00,9,    1.219,2,  -1.5962,20040724,  22
  32H120040718,    16,  1,    102,      2,2,20040724,  16, 71.7020,-156.1420,   98,     84.6,  -1.5947,  32.9256,2,  32.9248,2,    330.3,2,    337.3,2,    36.21,2,    10.28,2,     0.14,2,     1.80,2,      1.9,2,   -999.0,   9,   -999.0,   9,     0.16,2,  -999.00,9,  -999.00,9,    1.313,2,  -1.5963,20040724,  21
  32H120040718,    16,  1,    101,      1,2,20040724,  16, 71.7020,-156.1420,   98,     94.5,  -1.4889,  33.1394,2,  33.1193,2,    323.7,2,    326.2,2,    30.31,2,     9.40,2,     0.11,2,     1.67,2,     1.38,2,   -999.0,   9,   -999.0,   9,     0.16,2,     0.40,2,     0.38,2,    1.231,2,  -1.4908,20040724,  16
  32H120040718,    17,  1,    112,     12,2,20040724, 242, 71.6730,-155.9940,  119,      1.7,   1.3796,  26.9595,2,  26.5011,2,    448.4,2,    449.4,2,     6.89,2,     0.02,2,     0.00,2,     0.40,2,     0.07,2,   1591.5,   2,   1832.8,   2,     0.03,2,     0.23,2,     0.05,2,    0.755,2,   1.3795,20040724, 328
  32H120040718,    17,  1,    111,     11,2,20040724, 242, 71.6730,-155.9940,  119,      5.3,  -0.6018,  29.6145,3,-999.0000,9,    623.8,2,    588.2,2,     1.68,2,     0.02,2,     0.00,2,     0.46,2,     0.06,2,   1732.7,   2,   2043.6,   2,     0.05,2,     0.83,2,     0.12,2,    1.414,2,-999.0000,20040724, 325
  32H120040718,    17,  1,    110,     10,2,20040724, 242, 71.6730,-155.9940,  119,     10.4,  -0.9864,  30.5297,3,-999.0000,9,    509.4,3,    576.7,2,     1.44,2,     0.02,2,     0.00,2,     0.54,2,     0.07,2,   -999.0,   9,   -999.0,   9,     0.09,2,     2.96,2,     0.39,2,    2.122,2,-999.0000,20040724, 322
  32H120040718,    17,  1,    109,      9,2,20040724, 242, 71.6730,-155.9940,  119,     15.3,  -0.9656,  30.3415,2,-999.0000,9,    537.8,2,    560.0,2,     1.43,2,     0.02,2,     0.00,2,     0.52,2,     0.07,2,   -999.0,   9,   -999.0,   9,     0.06,2,     2.27,2,     0.35,2,    1.827,2,  -0.9659,20040724, 318
  32H120040718,    17,  1,    108,      8,2,20040724, 242, 71.6730,-155.9940,  119,     19.1,  -1.1493,  31.3385,2,-999.0000,9,    431.2,2,    444.6,2,     3.02,2,     0.02,2,     0.00,2,     0.73,2,     0.08,2,   -999.0,   9,   -999.0,   9,     0.09,2,     8.24,2,     0.11,2,    2.759,2,  -1.1497,20040724, 315
  32H120040718,    17,  1,    107,      7,2,20040724, 242, 71.6730,-155.9940,  119,     24.0,  -1.1500,  31.7109,2,-999.0000,9,    399.9,2,    404.3,2,     3.47,2,     0.02,2,     0.00,2,     0.81,2,     0.07,2,   -999.0,   9,   -999.0,   9,     0.06,2,     1.77,2,     0.08,2,    1.759,2,  -1.1505,20040724, 311
  32H120040718,    17,  1,    106,      6,2,20040724, 242, 71.6730,-155.9940,  119,     34.2,  -1.1278,  32.0314,2,-999.0000,9,    378.0,2,    375.9,2,     5.30,2,     2.32,2,     0.04,2,     1.07,2,      0.4,2,   -999.0,   9,   -999.0,   9,     0.13,2,     5.46,2,     0.82,2,    2.225,2,  -1.1285,20040724, 307
  32H120040718,    17,  1,    105,      5,9,20040724, 242, 71.6730,-155.9940,  119,     49.5,  -1.1728,  32.2845,2,-999.0000,9,    367.6,2,   -999.0,9,  -999.00,9,  -999.00,9,  -999.00,9,  -999.00,9,     -999,9,   -999.0,   9,   -999.0,   9,     -999,9,  -999.00,9,  -999.00,9,    1.597,2,  -1.1738,20040724, 301
  32H120040718,    17,  1,    104,      4,2,20040724, 242, 71.6730,-155.9940,  119,     64.5,  -1.5814,  32.5969,2,-999.0000,9,    349.8,2,    357.8,2,    33.68,2,     9.98,2,     0.18,2,     1.69,2,     1.79,2,   -999.0,   9,   -999.0,   9,     0.12,2,     0.52,2,     0.41,2,    1.307,2,  -1.5826,20040724, 256
  32H120040718,    17,  1,    103,      3,2,20040724, 242, 71.6730,-155.9940,  119,     79.7,  -1.6325,  32.8112,2,-999.0000,9,    339.9,2,    345.6,2,    37.44,2,    11.13,2,     0.16,2,     1.81,2,     1.93,2,   -999.0,   9,   -999.0,   9,      0.2,2,  -999.00,9,  -999.00,9,    1.339,2,  -1.6340,20040724, 252
  32H120040718,    17,  1,    102,      2,2,20040724, 242, 71.6730,-155.9940,  119,     94.9,  -1.5277,  33.1355,2,  33.1513,2,    327.9,2,    332.1,2,    30.60,2,     8.92,2,     0.10,2,     1.66,2,     1.57,2,   -999.0,   9,   -999.0,   9,     0.38,2,     0.41,2,     0.38,2,    1.118,2,  -1.5296,20040724, 247
  32H120040718,    17,  1,    101,      1,2,20040724, 242, 71.6730,-155.9940,  119,    115.4,  -1.4975,  33.2638,2,  33.2649,2,    312.9,2,    318.3,2,    31.97,2,     9.37,2,     0.10,2,     1.73,2,     1.66,2,   -999.0,   9,   -999.0,   9,     0.27,2,  -999.00,9,  -999.00,9,    1.495,2,  -1.4999,20040724, 242