BOTTLE,20220815CCHSIOAMB
# Copy DATE/TIME to new BTL_DATE/BTL_TIME cols
# Set DATE/TIME to value at deepest bottle
# Changed TCARBN and ALKALI -999 flag value to 9 (the flag itself was "-999")
# Changed urea flag value from 3 to 5 at STN 21, cast 2, sample 207
# Times aren't zero padded, this is OK
#BOTTLE,20090202PRINUNIVRMK
# 10/6/08 Initialized README file  
# Data source: http://data.eol.ucar.edu 
# Cruise Dates: 7/18-8/26/2004 
# Chief Scientist: L. Codispoti and J. Swift 
# Ship and cruise designation: Healy; HLY-04-03 
# EXPOCODE: 32H120040718 
# Region: North Alaskan shelf 
# 60 stations with 12 bottle rosette 
# Hydro: Who - J.Swift; Status - final 
# 	Notes: 	 
# Nuts/O2: Who - Codispotti; Status - final 
# 	Notes: CTDOXY not calibrated 
# 	Includes urea and NH4. Small changes in these should be treated 
# 		with caution (questions to Codispotti) 
# TCO2: Who - N. Bates; Status - final 
# 	Notes: Samples poisoned with HgCl2 for measurement at BBSR 
# 	Somma system used with CRM 
# 	Estimated precision and accuracy of ~0.025%; ~0.5umol/kg 
# 	For metnods see Bates et al., 1996, 1998; Bates 2001 
# 	See Bates et al., 2005a. 
# 	Final data fron Bates 1/30/09 
# Alk: Who - N. Bates; Status - final 
# 	Notes: Final data fron Bates 1/30/09 
# Other: Fluorometer (uncalibrated), Chlorophyl, Phaeophytn 
# 	See Dunton et al., 2005,2006 
# References: 
# Bates, N.R., Interannual changes of oceanic CO2 and biogeochemical properties in the western North Atlantic subtropical gyre, Deep-Sea Res. II, 48(8-9), 1507-1528, 2001.  
# Bates, N.R., Michaels, A.F., and Knap, A.H., Seasonal and interannual variability of the oceanic carbon dioxide system at the U.S. JGOFS Bermuda Atlantic Time-series Site, Deep-Sea Res. II, 43(2-3), 347-383, 1996.  
# Bates, N.R., Hansell, D.A., Carlson, C.A., and Gordon, L.I., Distribution of CO2 species, estimates of net community production and air-sea CO2 exchange in the Ross Sea polynya, J. Geophys. Res., 103(C2), 2883-2896, 1998.  
# Bates, N. R., M. H. P. Best, and D. A. Hansell, Spatio-temporal distribution of dissolved inorganic carbon and net community production in the Chukchi and Beaufort Seas, Deep-Sea Res. II, 52, 3303-3323,  2005a. 
# Dunton, K.H., T. Weingartner and E.C. Carmack, The nearshore Beaufort Sea ecosystem: sources and fate of marine and terrestrial carbon in arctic coastal food webs,Prog. Oceanogr., 71, 362-378, 2006. 
# Dunton, K.H., J.L. Goodall, S.V. Schonberg, J.M. Grebmeier, and D.R. Maidment, Multi-decadal synthesis of benthic-pelagic coupling in the western arctic: Role of cross-shelf advective processes, Deep-Sea Res. II, 52, 3462-3477, 2005. 
EXPOCODE,STNNBR,CASTNO,SAMPNO,BTLNBR,BTLNBR_FLAG_W,DATE,TIME,LATITUDE,LONGITUDE,DEPTH,CTDPRS,CTDTMP,CTDSAL,CTDSAL_FLAG_W,SALNTY,SALNTY_FLAG_W,CTDOXY,CTDOXY_FLAG_W,OXYGEN,OXYGEN_FLAG_W,SILCAT,SILCAT_FLAG_W,NITRAT,NITRAT_FLAG_W,NITRIT,NITRIT_FLAG_W,PHSPHT,PHSPHT_FLAG_W,AMMONI,AMMONI_FLAG_W,TCARBN,TCARBN_FLAG_W,ALKALI,ALKALI_FLAG_W,UREA,UREA_FLAG_W,CHLORA,CHLORA_FLAG_W,PHAEO,PHAEO_FLAG_W,FLUORO,FLUORO_FLAG_W,THETA,BTL_DATE,BTL_TIME
,,,,,,,,,,METERS,DBAR,ITS-90,PSS-78,,PSS-78,,UMOL/KG,,UMOL/KG,,UMOL/KG,,UMOL/KG,,UMOL/KG,,UMOL/KG,,UMOL/KG,,UMOL/KG,,UMOL/KG,,UMOL/KG,,UG/L,,UG/L,,VOLTS,,DEG C,,
  32H120040718,     1,  1,    112,     12,2,20040719,1300, 65.6600,-168.2140,   40,      1.6,  11.1328,  29.8918,2,  29.9316,2,    281.8,2,    281.3,2,     9.18,2,     0.16,2,     0.02,2,     0.65,2,     0.23,2,   2108.2,   2,   2267.2,   2,     0.11,2,     1.19,2,     0.41,2,    1.783,2,  11.1326,20040719,1329
  32H120040718,     1,  1,    111,     11,2,20040719,1300, 65.6600,-168.2140,   40,      5.3,  10.7089,  29.9593,2,-999.0000,9,    282.7,2,    281.9,2,     8.96,2,     0.11,2,     0.02,2,     0.66,2,      0.3,2,   2107.4,   2,   2260.6,   2,     0.11,2,     1.09,2,     0.33,2,    1.766,2,  10.7083,20040719,1327
  32H120040718,     1,  1,    110,     10,2,20040719,1300, 65.6600,-168.2140,   40,      9.2,   9.8977,  30.1292,2,-999.0000,9,    284.1,2,    282.2,2,     8.96,2,     0.11,2,     0.03,2,     0.66,2,     0.35,2,   -999.0,   9,   -999.0,   9,     0.11,2,     0.98,2,     0.47,2,    1.722,2,   9.8967,20040719,1325
  32H120040718,     1,  1,    109,      9,2,20040719,1300, 65.6600,-168.2140,   40,      9.3,   9.2655,  30.2970,2,-999.0000,9,    285.4,2,    282.0,2,     9.09,2,     0.10,2,     0.03,2,     0.66,2,     0.35,2,   2103.9,   2,   2262.2,   2,      0.1,2,  -999.00,9,  -999.00,9,    1.653,2,   9.2645,20040719,1323
  32H120040718,     1,  1,    108,      8,2,20040719,1300, 65.6600,-168.2140,   40,     11.2,   9.1432,  30.3434,2,-999.0000,9,    286.3,2,    283.9,2,     8.65,2,     0.17,2,     0.03,2,     0.68,2,     0.44,2,   2093.6,   2,   2248.4,   2,     0.15,2,     0.92,2,     0.27,2,    1.617,2,   9.1421,20040719,1320
  32H120040718,     1,  1,    106,      6,2,20040719,1300, 65.6600,-168.2140,   40,     16.2,   8.7267,  30.5427,2,-999.0000,9,    288.6,2,    285.7,2,     7.95,2,     0.11,2,     0.04,2,     0.68,2,     0.53,2,   2073.4,   2,   2235.1,   2,     0.15,2,     0.68,2,     0.32,2,    1.574,2,   8.7251,20040719,1316
  32H120040718,     1,  1,    107,      7,2,20040719,1300, 65.6600,-168.2140,   40,     16.2,   8.7472,  30.5305,2,-999.0000,9,    288.4,2,   -999.0,9,     7.95,2,     0.12,2,     0.03,2,     0.68,2,     0.51,2,   -999.0,   9,   -999.0,   9,     0.15,2,  -999.00,9,  -999.00,9,    1.554,2,   8.7456,20040719,1317
  32H120040718,     1,  1,    105,      5,2,20040719,1300, 65.6600,-168.2140,   40,     21.2,   8.5237,  30.6954,2,-999.0000,9,    292.3,2,    290.0,2,     7.23,2,     0.15,2,     0.03,2,     0.67,2,     0.51,2,   2054.6,   2,   2219.6,   2,     0.12,2,     0.63,2,     0.38,2,    1.531,2,   8.5216,20040719,1313
  32H120040718,     1,  1,    104,      4,2,20040719,1300, 65.6600,-168.2140,   40,     26.2,   8.4539,  30.7600,2,  30.7469,2,    293.8,2,    291.2,2,     6.77,2,     0.14,2,     0.03,2,     0.66,2,      0.5,2,   2041.0,   2,   2210.5,   2,     0.12,2,     0.49,2,     0.50,2,    1.545,2,   8.4514,20040719,1309
  32H120040718,     1,  1,    103,      3,2,20040719,1300, 65.6600,-168.2140,   40,     31.2,   8.4278,  30.8010,2,  30.8162,2,    294.9,2,    292.9,2,     6.31,2,     0.14,2,     0.03,2,     0.64,2,     0.14,2,   2028.3,   2,   2199.8,   2,     0.13,2,     0.56,2,     0.25,2,    1.549,2,   8.4248,20040719,1303
  32H120040718,     1,  1,    102,      2,2,20040719,1300, 65.6600,-168.2140,   40,     36.4,   8.1897,  30.9408,2,-999.0000,9,    299.4,2,   -999.0,9,     5.62,2,     0.14,2,     0.03,2,     0.64,2,     0.13,2,   -999.0,   9,   -999.0,   9,     0.12,2,  -999.00,9,  -999.00,9,    1.535,2,   8.1862,20040719,1301
  32H120040718,     1,  1,    101,      1,2,20040719,1300, 65.6600,-168.2140,   40,     36.4,   8.2445,  30.9205,2,  30.9134,2,    298.8,2,    296.3,2,     5.62,2,     0.14,2,     0.03,2,     0.64,2,     0.49,2,   2015.1,   2,   2202.2,   2,     0.13,2,     0.54,2,     0.35,2,    1.532,2,   8.2410,20040719,1300
  32H120040718,     2,  1,    112,     12,2,20040719,1500, 65.6610,-168.4040,   51,      1.7,  10.1012,  31.2532,2,  31.2790,2,    311.4,2,    316.4,2,     0.47,2,     0.02,2,     0.01,2,     0.17,2,     0.09,2,   1883.5,   2,   2137.3,   2,     0.09,2,     0.38,2,     0.04,2,    1.320,2,  10.1010,20040719,1533
  32H120040718,     2,  1,    111,     11,2,20040719,1500, 65.6610,-168.4040,   51,      6.4,   8.5103,  31.3669,2,-999.0000,9,    335.4,2,    336.0,2,     1.06,2,     0.02,2,     0.01,2,     0.22,2,     0.16,2,   1895.0,   2,   2168.7,   2,     0.09,2,  -999.00,9,  -999.00,9,    1.341,2,   8.5097,20040719,1530
  32H120040718,     2,  1,    108,      8,2,20040719,1500, 65.6610,-168.4040,   51,     11.4,   5.8690,  31.3733,2,-999.0000,9,    348.0,2,   -999.0,9,  -999.00,9,  -999.00,9,  -999.00,9,  -999.00,9,     -999,9,   -999.0,   9,   -999.0,   9,     -999,9,  -999.00,9,  -999.00,9,    1.499,2,   5.8681,20040719,1524
  32H120040718,     2,  1,    109,      9,2,20040719,1500, 65.6610,-168.4040,   51,     11.4,   5.8703,  31.3720,2,-999.0000,9,    348.5,2,   -999.0,9,  -999.00,9,  -999.00,9,  -999.00,9,  -999.00,9,     -999,9,   -999.0,   9,   -999.0,   9,     -999,9,  -999.00,9,  -999.00,9,    1.474,2,   5.8694,20040719,1524
  32H120040718,     2,  1,    110,     10,2,20040719,1500, 65.6610,-168.4040,   51,     11.4,   5.8819,  31.3728,2,-999.0000,9,    348.7,2,    349.0,2,     2.83,2,     0.05,2,     0.02,2,     0.42,2,     0.25,2,   1940.9,   2,   2172.8,   2,      0.1,2,     0.59,2,     0.19,2,    1.518,2,   5.8810,20040719,1525
  32H120040718,     2,  1,    107,      7,2,20040719,1500, 65.6610,-168.4040,   51,     16.3,   5.9972,  31.4444,2,-999.0000,9,    354.2,2,    353.8,2,     2.83,2,     0.01,2,     0.02,2,     0.42,2,     0.23,2,   1922.8,   2,   2154.2,   2,     0.09,2,     0.63,2,     0.25,2,    1.474,2,   5.9959,20040719,1519
  32H120040718,     2,  1,    106,      6,2,20040719,1500, 65.6610,-168.4040,   51,     21.3,   4.7761,  31.5927,2,-999.0000,9,    387.0,2,    385.8,2,     2.24,2,     0.01,2,     0.02,2,     0.40,2,     0.17,2,   1919.6,   2,   2159.9,   2,     0.09,2,     1.05,2,     0.20,2,    1.735,2,   4.7746,20040719,1514
  32H120040718,     2,  1,    105,      5,2,20040719,1500, 65.6610,-168.4040,   51,     26.4,   4.0449,  31.6664,2,-999.0000,9,    389.6,2,    387.9,2,     2.37,2,     0.05,2,     0.02,2,     0.49,2,     0.21,2,   1934.1,   2,   2168.7,   2,      0.1,2,     1.76,2,     0.34,2,    1.875,2,   4.0432,20040719,1511
  32H120040718,     2,  1,    104,      4,2,20040719,1500, 65.6610,-168.4040,   51,     31.5,   3.6292,  31.6987,2,-999.0000,9,    390.0,2,    387.5,2,     2.48,2,     0.05,2,     0.02,2,     0.54,2,     0.22,2,   1940.8,   2,   2167.7,   2,      0.1,2,     2.12,2,     0.46,2,    1.934,2,   3.6273,20040719,1508
  32H120040718,     2,  1,    103,      3,2,20040719,1500, 65.6610,-168.4040,   51,     41.6,   3.2636,  31.7257,2,-999.0000,9,    387.4,2,   -999.0,9,     2.48,2,     0.09,2,     0.03,2,     0.62,2,     0.27,2,   1953.6,   2,   2183.3,   2,     0.12,2,     3.01,2,     0.72,2,    2.067,2,   3.2612,20040719,1503
  32H120040718,     2,  1,    101,      1,2,20040719,1500, 65.6610,-168.4040,   51,     47.2,   3.1576,  31.7378,2,  31.7355,2,    387.0,2,    385.9,2,     2.60,2,     0.09,2,     0.03,2,     0.63,2,      0.3,2,   1954.4,   2,   2157.7,   2,     0.12,2,     3.13,2,     0.42,2,    2.152,2,   3.1549,20040719,1500
  32H120040718,     2,  1,    102,      2,2,20040719,1500, 65.6610,-168.4040,   51,     47.3,   3.1867,  31.7344,2,  31.7356,2,    387.1,2,   -999.0,9,  -999.00,9,  -999.00,9,  -999.00,9,  -999.00,9,     -999,9,   -999.0,   9,   -999.0,   9,     -999,9,  -999.00,9,  -999.00,9,    2.139,2,   3.1840,20040719,1500
  32H120040718,     3,  1,    112,     12,2,20040719,1721, 65.6770,-168.5550,   52,      1.5,   8.9583,  31.4014,3,  31.4189,2,    345.3,2,    348.3,2,     0.62,2,     0.00,2,     0.01,2,     0.12,2,     0.12,2,   1877.8,   2,   2153.9,   2,     0.08,2,     0.85,2,     0.03,2,    1.146,2,   8.9581,20040719,1752
  32H120040718,     3,  1,    111,     11,2,20040719,1721, 65.6770,-168.5550,   52,      5.8,   5.8271,  32.2511,2,-999.0000,9,    486.8,2,    452.3,2,     7.30,2,     0.49,2,     0.04,2,     0.39,2,     0.22,2,   1930.2,   2,   2204.0,   2,     0.14,2,     3.99,2,     0.52,2,    2.244,2,   5.8266,20040719,1748
  32H120040718,     3,  1,    110,     10,2,20040719,1721, 65.6770,-168.5550,   52,     11.0,   2.8607,  32.1953,2,-999.0000,9,    396.4,2,    398.2,2,     9.65,2,     2.63,2,     0.07,2,     0.73,2,     0.58,2,   1984.9,   2,   2198.0,   2,     0.16,2,     8.49,2,     1.22,2,    2.578,2,   2.8601,20040719,1746
  32H120040718,     3,  1,    109,      9,2,20040719,1721, 65.6770,-168.5550,   52,     11.0,   2.9118,  32.1937,2,-999.0000,9,    396.8,2,   -999.0,9,  -999.00,9,  -999.00,9,  -999.00,9,  -999.00,9,     -999,9,   -999.0,   9,   -999.0,   9,     -999,9,  -999.00,9,  -999.00,9,    2.606,2,   2.9112,20040719,1745
  32H120040718,     3,  1,    108,      8,2,20040719,1721, 65.6770,-168.5550,   52,     11.1,   2.8768,  32.1943,2,-999.0000,9,    395.3,2,   -999.0,9,  -999.00,9,  -999.00,9,  -999.00,9,  -999.00,9,     -999,9,   -999.0,   9,   -999.0,   9,     -999,9,  -999.00,9,  -999.00,9,    2.556,2,   2.8762,20040719,1744
  32H120040718,     3,  1,    107,      7,2,20040719,1721, 65.6770,-168.5550,   52,     16.0,   2.6500,  32.1981,2,-999.0000,9,    380.5,2,    379.8,2,    10.60,2,     3.54,2,     0.08,2,     0.89,2,     0.85,2,   2000.8,   2,   2196.5,   2,     0.16,2,     9.31,2,     1.02,2,    2.548,2,   2.6492,20040719,1741
  32H120040718,     3,  1,    106,      6,2,20040719,1721, 65.6770,-168.5550,   52,     21.0,   2.6354,  32.1954,2,-999.0000,9,    375.5,2,    372.5,2,    11.07,2,     4.24,2,     0.07,2,     0.91,2,      1.1,2,   2007.4,   2,   2196.7,   2,     0.19,2,     9.59,2,     1.34,2,    2.541,2,   2.6343,20040719,1738
  32H120040718,     3,  1,    105,      5,2,20040719,1721, 65.6770,-168.5550,   52,     25.8,   2.5763,  32.2050,2,-999.0000,9,    369.3,2,    369.9,2,    11.31,2,     4.33,2,     0.07,2,     0.93,2,     1.13,2,   2012.9,   2,   2230.3,   2,     0.22,2,    10.16,2,     1.80,2,    2.519,2,   2.5749,20040719,1734
  32H120040718,     3,  1,    104,      4,2,20040719,1721, 65.6770,-168.5550,   52,     31.1,   2.5477,  32.2144,2,-999.0000,9,    365.7,2,    367.0,2,    11.78,2,     4.60,2,     0.08,2,     0.99,2,     1.21,2,   2014.9,   2,   2199.8,   2,     0.21,2,    10.22,2,     1.38,2,    2.592,2,   2.5461,20040719,1730
  32H120040718,     3,  1,    103,      3,2,20040719,1721, 65.6770,-168.5550,   52,     39.1,   2.5592,  32.2104,2,  32.2136,2,    366.8,2,    365.1,2,    12.26,2,     4.60,2,     0.08,2,     0.99,2,     1.29,2,   2017.0,   2,   2222.4,   2,     0.29,2,    10.00,2,     1.39,2,    2.585,2,   2.5571,20040719,1726
  32H120040718,     3,  1,    101,      1,2,20040719,1721, 65.6770,-168.5550,   52,     45.4,   2.5442,  32.2188,2,  32.2175,2,    364.6,2,    364.0,2,    12.62,2,     4.64,2,     0.08,2,     0.99,2,     1.35,2,   2018.3,   2,   2203.0,   2,     0.22,2,    10.11,2,     1.56,2,    2.601,2,   2.5418,20040719,1720
  32H120040718,     3,  1,    102,      2,2,20040719,1721, 65.6770,-168.5550,   52,     45.4,   2.5452,  32.2178,2,-999.0000,9,    364.6,2,   -999.0,9,  -999.00,9,  -999.00,9,  -999.00,9,  -999.00,9,     -999,9,   -999.0,   9,   -999.0,   9,     -999,9,  -999.00,9,  -999.00,9,    2.593,2,   2.5428,20040719,1721
  32H120040718,     4,  1,    112,     12,2,20040719,1936, 65.6910,-168.7140,   49,      2.0,   6.1219,  32.3477,2,  32.3520,2,    449.8,2,    452.3,2,    10.16,2,     1.08,2,     0.03,2,     0.40,2,     0.04,2,   1940.7,   2,   2214.3,   2,     0.08,2,     3.91,2,     1.01,2,    2.243,2,   6.1217,20040719,2006
  32H120040718,     4,  1,    111,     11,2,20040719,1936, 65.6910,-168.7140,   49,      5.6,   6.2161,  32.3452,2,-999.0000,9,    449.6,2,    449.7,2,    10.16,2,     1.03,2,     0.03,2,     0.42,2,     0.05,2,   1939.2,   2,   2213.1,   2,     0.08,2,     3.76,2,     0.93,2,    2.128,2,   6.2156,20040719,2003
  32H120040718,     4,  1,    110,     10,2,20040719,1936, 65.6910,-168.7140,   49,     10.8,   3.5773,  32.3159,2,-999.0000,9,    419.5,2,    432.5,2,    11.55,2,     1.94,2,     0.04,2,     0.62,2,     0.11,2,   1956.8,   2,   2208.5,   2,     0.08,2,     5.04,2,     0.49,2,    2.403,2,   3.5766,20040719,2000
  32H120040718,     4,  1,    109,      9,9,20040719,1936, 65.6910,-168.7140,   49,     10.8,   4.4979,  32.3006,2,-999.0000,9,    427.5,2,   -999.0,9,  -999.00,9,  -999.00,9,  -999.00,9,  -999.00,9,     -999,9,   -999.0,   9,   -999.0,   9,     -999,9,  -999.00,9,  -999.00,9,    2.129,2,   4.4972,20040719,1959
  32H120040718,     4,  1,    108,      8,2,20040719,1936, 65.6910,-168.7140,   49,     10.8,   4.9210,  32.3024,2,-999.0000,9,    425.5,2,   -999.0,9,  -999.00,9,  -999.00,9,  -999.00,9,  -999.00,9,     -999,9,   -999.0,   9,   -999.0,   9,     -999,9,  -999.00,9,  -999.00,9,    2.146,2,   4.9202,20040719,1959
  32H120040718,     4,  1,    107,      7,2,20040719,1936, 65.6910,-168.7140,   49,     15.7,   2.7453,  32.3472,2,-999.0000,9,    377.6,2,    379.0,2,    17.91,2,     5.98,2,     0.07,2,     1.01,2,     0.78,2,   2016.5,   2,   2216.2,   2,     0.11,2,     9.48,2,     0.62,2,    2.578,2,   2.7445,20040719,1956
  32H120040718,     4,  1,    106,      6,2,20040719,1936, 65.6910,-168.7140,   49,     20.9,   2.5117,  32.4370,2,-999.0000,9,    359.1,2,    360.2,2,    20.79,2,     9.38,2,     0.08,2,     1.26,2,     1.42,2,   2040.8,   2,   2210.7,   2,     0.18,2,     9.26,2,     1.05,2,    2.430,2,   2.5106,20040719,1953
  32H120040718,     4,  1,    105,      5,2,20040719,1936, 65.6910,-168.7140,   49,     25.8,   2.5112,  32.4411,2,-999.0000,9,    358.7,2,    358.4,2,    21.03,2,     9.23,2,     0.09,2,     1.29,2,     1.48,2,   2044.3,   2,   2234.1,   2,     0.19,2,     9.40,2,     1.35,2,    2.415,2,   2.5098,20040719,1949
  32H120040718,     4,  1,    104,      4,2,20040719,1936, 65.6910,-168.7140,   49,     30.8,   2.4953,  32.4453,2,  32.4427,2,    358.6,2,    359.0,2,    20.91,2,     9.52,2,     0.09,2,     1.30,2,      1.4,2,   2056.8,   2,   2237.7,   2,     0.19,2,     9.56,2,     1.41,2,    2.409,2,   2.4937,20040719,1944
  32H120040718,     4,  1,    103,      3,2,20040719,1936, 65.6910,-168.7140,   49,     39.9,   2.4710,  32.4538,2,  32.4532,2,    357.7,2,    357.6,2,    21.14,2,     9.93,2,     0.09,2,     1.30,2,     1.31,2,   2043.3,   2,   2212.2,   2,     0.17,2,     8.80,2,     1.45,2,    2.413,2,   2.4689,20040719,1940
  32H120040718,     4,  1,    102,      2,2,20040719,1936, 65.6910,-168.7140,   49,     45.8,   2.4749,  32.4601,2,-999.0000,9,    355.7,2,   -999.0,9,  -999.00,9,  -999.00,9,  -999.00,9,  -999.00,9,     -999,9,   -999.0,   9,   -999.0,   9,     -999,9,  -999.00,9,  -999.00,9,    2.439,2,   2.4725,20040719,1937
  32H120040718,     4,  1,    101,      1,2,20040719,1936, 65.6910,-168.7140,   49,     45.9,   2.4748,  32.4601,2,  32.4597,2,    355.5,2,    355.3,2,    21.37,2,    10.30,2,     0.09,2,     1.30,2,     1.33,2,   2042.9,   2,   2211.0,   2,     0.16,2,     8.77,2,     0.55,2,    2.416,2,   2.4724,20040719,1936