BOTTLE,20220815CCHSIOAMB
EXPOCODE,STNNBR,CASTNO,SAMPNO,BTLNBR,BTLNBR_FLAG_W,DATE,TIME,LATITUDE,LONGITUDE,DEPTH,CTDPRS,CTDTMP,CTDSAL,CTDSAL_FLAG_W,SALNTY,SALNTY_FLAG_W,CTDOXY,CTDOXY_FLAG_W,OXYGEN,OXYGEN_FLAG_W,SILCAT,SILCAT_FLAG_W,NITRAT,NITRAT_FLAG_W,NITRIT,NITRIT_FLAG_W,PHSPHT,PHSPHT_FLAG_W,AMMONI,AMMONI_FLAG_W,TCARBN,TCARBN_FLAG_W,ALKALI,ALKALI_FLAG_W,UREA,UREA_FLAG_W,CHLORA,CHLORA_FLAG_W,PHAEO,PHAEO_FLAG_W,FLUORO,FLUORO_FLAG_W,THETA,BTL_DATE,BTL_TIME
,,,,,,,,,,METERS,DBAR,ITS-90,PSS-78,,PSS-78,,UMOL/KG,,UMOL/KG,,UMOL/KG,,UMOL/KG,,UMOL/KG,,UMOL/KG,,UMOL/KG,,UMOL/KG,,UMOL/KG,,UMOL/KG,,UG/L,,UG/L,,VOLTS,,DEG C,,
  32H120040718,    52,  2,    212,     12,2,20040818,1306, 73.9000,-157.8540, 3809,    178.5,  -1.5610,  33.2047,2,  33.1954,2,    307.0,2,    305.0,2,    29.58,2,    12.65,2,     0.05,2,     1.67,2,     0.16,2,   -999.0,   9,   -999.0,   9,     0.07,2,  -999.00,9,  -999.00,9,    0.801,2,  -1.5647,20040818,1424
  32H120040718,    52,  2,    211,     11,2,20040818,1306, 73.9000,-157.8540, 3809,    203.9,  -1.2827,  33.6339,2,-999.0000,9,    268.1,2,    280.6,2,    29.56,2,    14.38,2,     0.02,2,     1.66,2,     0.07,2,   2198.6,   2,   2291.2,   2,     0.07,2,  -999.00,9,  -999.00,9,    0.757,2,  -1.2876,20040818,1418
  32H120040718,    52,  2,    210,     10,2,20040818,1306, 73.9000,-157.8540, 3809,    228.5,  -1.0437,  34.1078,2,-999.0000,9,    262.0,2,    273.1,2,    22.52,2,    13.63,2,     0.02,2,     1.37,2,     0.07,2,   -999.0,   9,   -999.0,   9,     0.07,2,  -999.00,9,  -999.00,9,    0.731,2,  -1.0499,20040818,1413
  32H120040718,    52,  2,    209,      9,2,20040818,1306, 73.9000,-157.8540, 3809,    254.3,  -0.5443,  34.3862,2,-999.0000,9,    266.4,2,    278.4,2,    12.94,2,    12.06,2,     0.02,2,     1.04,2,     0.05,2,   -999.0,   9,   -999.0,   9,     0.07,2,  -999.00,9,  -999.00,9,    0.740,2,  -0.5525,20040818,1408
  32H120040718,    52,  2,    208,      8,2,20040818,1306, 73.9000,-157.8540, 3809,    304.9,   0.3851,  34.6596,2,-999.0000,9,    274.7,2,    287.3,2,     8.18,2,    12.02,2,     0.02,2,     0.91,2,     0.04,2,   2144.1,   2,   2293.9,   2,     0.07,2,  -999.00,9,  -999.00,9,    0.647,2,   0.3725,20040818,1402
  32H120040718,    52,  2,    207,      7,2,20040818,1306, 73.9000,-157.8540, 3809,    356.2,   0.7725,  34.7844,2,  34.7856,2,    278.5,2,    291.2,2,     7.23,2,    12.34,2,     0.02,2,     0.91,2,     0.05,2,   -999.0,   9,   -999.0,   9,     0.07,2,  -999.00,9,  -999.00,9,    0.672,2,   0.7564,20040818,1356
  32H120040718,    52,  2,    206,      6,2,20040818,1306, 73.9000,-157.8540, 3809,    409.3,   0.8518,  34.8198,2,  34.8222,2,    280.5,2,    293.5,2,     6.90,2,    12.44,2,     0.02,2,     0.90,2,     0.05,2,   2143.2,   2,   2315.1,   2,     0.07,2,  -999.00,9,  -999.00,9,    0.628,2,   0.8328,20040818,1351
  32H120040718,    52,  2,    205,      5,2,20040818,1306, 73.9000,-157.8540, 3809,    611.4,   0.5144,  34.8551,2,  34.8566,2,    284.4,2,    298.0,2,     6.70,2,    12.49,2,     0.01,2,     0.91,2,     0.04,2,   2140.5,   2,   2307.0,   2,     0.09,2,  -999.00,9,  -999.00,9,    0.603,2,   0.4867,20040818,1343
  32H120040718,    52,  2,    204,      4,3,20040818,1306, 73.9000,-157.8540, 3809,    811.1,   0.1997,  34.8678,2,  34.7512,0,    284.6,2,   -999.0,9,     7.86,4,    12.58,4,     0.02,4,     0.94,4,     0.04,4,   2141.3,   2,   -999.0,   9,     0.07,4,  -999.00,9,  -999.00,9,    0.607,2,   0.1636,20040818,1333
  32H120040718,    52,  2,    203,      3,3,20040818,1306, 73.9000,-157.8540, 3809,   1013.3,  -0.0216,  34.8813,2,-999.0000,9,    285.0,2,   -999.0,9,  -999.00,9,  -999.00,9,  -999.00,9,  -999.00,9,     -999,9,   -999.0,   9,   -999.0,   9,     -999,9,  -999.00,9,  -999.00,9,    0.601,2,  -0.0667,20040818,1325
  32H120040718,    52,  2,    202,      2,2,20040818,1306, 73.9000,-157.8540, 3809,   1267.3,  -0.2034,  34.8997,2,  34.9006,2,    283.8,2,    299.4,2,     7.43,2,    12.99,2,     0.01,2,     0.96,2,     0.03,2,   2139.7,   2,   2306.5,   2,     0.07,2,  -999.00,9,  -999.00,9,    0.581,2,  -0.2609,20040818,1316
  32H120040718,    52,  2,    201,      1,2,20040818,1306, 73.9000,-157.8540, 3809,   1522.3,  -0.3275,  34.9174,2,  34.9175,2,    282.5,2,    297.7,2,     8.80,2,    13.46,2,     0.01,2,     0.99,2,     0.04,2,   2137.0,   2,   2315.4,   2,     0.07,2,  -999.00,9,  -999.00,9,    0.561,2,  -0.3984,20040818,1306
  32H120040718,    52,  3,    311,     11,2,20040818,1541, 73.9000,-157.8540, 3809,    106.3,  -1.3571,  32.4330,2,-999.0000,9,    292.0,2,   -999.0,9,  -999.00,9,  -999.00,9,  -999.00,9,  -999.00,9,     -999,9,   -999.0,   9,   -999.0,   9,     -999,9,  -999.00,9,  -999.00,9,    0.802,2,  -1.3592,20040818,1550
  32H120040718,    52,  3,    308,      8,2,20040818,1541, 73.9000,-157.8540, 3809,    106.4,  -1.3549,  32.4308,2,-999.0000,9,    291.7,2,   -999.0,9,  -999.00,9,  -999.00,9,  -999.00,9,  -999.00,9,     -999,9,   -999.0,   9,   -999.0,   9,     -999,9,  -999.00,9,  -999.00,9,    0.796,2,  -1.3570,20040818,1548
  32H120040718,    52,  3,    309,      9,2,20040818,1541, 73.9000,-157.8540, 3809,    106.4,  -1.3550,  32.4307,2,-999.0000,9,    291.5,2,   -999.0,9,  -999.00,9,  -999.00,9,  -999.00,9,  -999.00,9,     -999,9,   -999.0,   9,   -999.0,   9,     -999,9,  -999.00,9,  -999.00,9,    0.783,2,  -1.3571,20040818,1548
  32H120040718,    52,  3,    307,      7,2,20040818,1541, 73.9000,-157.8540, 3809,    106.4,  -1.3557,  32.4317,2,-999.0000,9,    291.2,2,   -999.0,9,  -999.00,9,  -999.00,9,  -999.00,9,  -999.00,9,     -999,9,   -999.0,   9,   -999.0,   9,     -999,9,  -999.00,9,  -999.00,9,    0.776,2,  -1.3578,20040818,1548
  32H120040718,    52,  3,    310,     10,2,20040818,1541, 73.9000,-157.8540, 3809,    106.4,  -1.3569,  32.4329,2,-999.0000,9,    291.4,2,   -999.0,9,  -999.00,9,  -999.00,9,  -999.00,9,  -999.00,9,     -999,9,   -999.0,   9,   -999.0,   9,     -999,9,  -999.00,9,  -999.00,9,    0.792,2,  -1.3590,20040818,1549
  32H120040718,    52,  3,    312,     12,2,20040818,1541, 73.9000,-157.8540, 3809,    106.4,  -1.3574,  32.4331,2,-999.0000,9,    291.6,2,   -999.0,9,    24.22,2,    11.39,2,     0.02,2,     1.64,2,     0.08,2,   -999.0,   9,   -999.0,   9,     0.07,2,  -999.00,9,  -999.00,9,    0.794,2,  -1.3595,20040818,1550
  32H120040718,    52,  3,    306,      6,2,20040818,1541, 73.9000,-157.8540, 3809,    162.3,  -1.5315,  33.0300,2,-999.0000,9,    283.6,2,   -999.0,9,  -999.00,9,  -999.00,9,  -999.00,9,  -999.00,9,     -999,9,   -999.0,   9,   -999.0,   9,     -999,9,  -999.00,9,  -999.00,9,    0.735,2,  -1.5348,20040818,1542
  32H120040718,    52,  3,    305,      5,2,20040818,1541, 73.9000,-157.8540, 3809,    162.3,  -1.5318,  33.0297,2,-999.0000,9,    282.1,2,   -999.0,9,  -999.00,9,  -999.00,9,  -999.00,9,  -999.00,9,     -999,9,   -999.0,   9,   -999.0,   9,     -999,9,  -999.00,9,  -999.00,9,    0.750,2,  -1.5351,20040818,1542
  32H120040718,    52,  3,    304,      4,2,20040818,1541, 73.9000,-157.8540, 3809,    162.3,  -1.5350,  33.0285,2,-999.0000,9,    282.2,2,   -999.0,9,  -999.00,9,  -999.00,9,  -999.00,9,  -999.00,9,     -999,9,   -999.0,   9,   -999.0,   9,     -999,9,  -999.00,9,  -999.00,9,    0.737,2,  -1.5383,20040818,1542
  32H120040718,    52,  3,    303,      3,2,20040818,1541, 73.9000,-157.8540, 3809,    162.3,  -1.5374,  33.0275,2,-999.0000,9,    282.8,2,   -999.0,9,  -999.00,9,  -999.00,9,  -999.00,9,  -999.00,9,     -999,9,   -999.0,   9,   -999.0,   9,     -999,9,  -999.00,9,  -999.00,9,    0.730,2,  -1.5407,20040818,1542
  32H120040718,    52,  3,    302,      2,2,20040818,1541, 73.9000,-157.8540, 3809,    162.3,  -1.5395,  33.0264,2,-999.0000,9,    283.6,2,   -999.0,9,  -999.00,9,  -999.00,9,  -999.00,9,  -999.00,9,     -999,9,   -999.0,   9,   -999.0,   9,     -999,9,  -999.00,9,  -999.00,9,    0.756,2,  -1.5428,20040818,1541
  32H120040718,    52,  3,    301,      1,2,20040818,1541, 73.9000,-157.8540, 3809,    162.4,  -1.5369,  33.0260,2,-999.0000,9,    285.5,2,   -999.0,9,    30.63,2,    11.80,2,     0.08,2,     1.71,2,     0.49,2,   -999.0,   9,   -999.0,   9,     0.09,2,  -999.00,9,  -999.00,9,    0.781,2,  -1.5402,20040818,1541
  32H120040718,    52,  4,    408,      8,2,20040818,1716, 73.9000,-157.8540, 3809,     47.5,   0.6423,  31.2312,2,-999.0000,9,    368.5,2,   -999.0,9,  -999.00,9,  -999.00,9,  -999.00,9,  -999.00,9,     -999,9,   -999.0,   9,   -999.0,   9,     -999,9,  -999.00,9,  -999.00,9,    1.218,2,   0.6407,20040818,1718
  32H120040718,    52,  4,    409,      9,2,20040818,1716, 73.9000,-157.8540, 3809,     47.5,   0.6482,  31.2296,2,-999.0000,9,    368.8,2,   -999.0,9,  -999.00,9,  -999.00,9,  -999.00,9,  -999.00,9,     -999,9,   -999.0,   9,   -999.0,   9,     -999,9,  -999.00,9,  -999.00,9,    1.223,2,   0.6466,20040818,1719
  32H120040718,    52,  4,    403,      3,2,20040818,1716, 73.9000,-157.8540, 3809,     47.5,   0.6523,  31.2276,2,-999.0000,9,    368.9,2,   -999.0,9,  -999.00,9,  -999.00,9,  -999.00,9,  -999.00,9,     -999,9,   -999.0,   9,   -999.0,   9,     -999,9,  -999.00,9,  -999.00,9,    1.222,2,   0.6507,20040818,1717
  32H120040718,    52,  4,    404,      4,2,20040818,1716, 73.9000,-157.8540, 3809,     47.5,   0.6584,  31.2258,2,-999.0000,9,    369.1,2,   -999.0,9,  -999.00,9,  -999.00,9,  -999.00,9,  -999.00,9,     -999,9,   -999.0,   9,   -999.0,   9,     -999,9,  -999.00,9,  -999.00,9,    1.234,2,   0.6567,20040818,1717
  32H120040718,    52,  4,    402,      2,2,20040818,1716, 73.9000,-157.8540, 3809,     47.5,   0.6594,  31.2256,2,-999.0000,9,    368.4,2,   -999.0,9,  -999.00,9,  -999.00,9,  -999.00,9,  -999.00,9,     -999,9,   -999.0,   9,   -999.0,   9,     -999,9,  -999.00,9,  -999.00,9,    1.212,2,   0.6577,20040818,1717
  32H120040718,    52,  4,    407,      7,2,20040818,1716, 73.9000,-157.8540, 3809,     47.5,   0.6620,  31.2252,2,-999.0000,9,    368.2,2,   -999.0,9,  -999.00,9,  -999.00,9,  -999.00,9,  -999.00,9,     -999,9,   -999.0,   9,   -999.0,   9,     -999,9,  -999.00,9,  -999.00,9,    1.228,2,   0.6603,20040818,1718
  32H120040718,    52,  4,    412,     12,2,20040818,1716, 73.9000,-157.8540, 3809,     47.5,   0.6625,  31.2261,2,-999.0000,9,    368.0,2,   -999.0,9,  -999.00,9,  -999.00,9,  -999.00,9,  -999.00,9,     -999,9,   -999.0,   9,   -999.0,   9,     -999,9,  -999.00,9,  -999.00,9,    1.228,2,   0.6608,20040818,1720
  32H120040718,    52,  4,    410,     10,2,20040818,1716, 73.9000,-157.8540, 3809,     47.5,   0.6737,  31.2216,2,-999.0000,9,    368.4,2,   -999.0,9,  -999.00,9,  -999.00,9,  -999.00,9,  -999.00,9,     -999,9,   -999.0,   9,   -999.0,   9,     -999,9,  -999.00,9,  -999.00,9,    1.223,2,   0.6720,20040818,1720
  32H120040718,    52,  4,    405,      5,2,20040818,1716, 73.9000,-157.8540, 3809,     47.5,   0.6753,  31.2202,2,-999.0000,9,    367.8,2,   -999.0,9,  -999.00,9,  -999.00,9,  -999.00,9,  -999.00,9,     -999,9,   -999.0,   9,   -999.0,   9,     -999,9,  -999.00,9,  -999.00,9,    1.222,2,   0.6736,20040818,1718
  32H120040718,    52,  4,    411,     11,2,20040818,1716, 73.9000,-157.8540, 3809,     47.5,   0.6771,  31.2208,2,-999.0000,9,    368.3,2,   -999.0,9,  -999.00,9,  -999.00,9,  -999.00,9,  -999.00,9,     -999,9,   -999.0,   9,   -999.0,   9,     -999,9,  -999.00,9,  -999.00,9,    1.236,2,   0.6754,20040818,1720
  32H120040718,    52,  4,    406,      6,2,20040818,1716, 73.9000,-157.8540, 3809,     47.5,   0.6782,  31.2194,2,-999.0000,9,    367.2,2,   -999.0,9,  -999.00,9,  -999.00,9,  -999.00,9,  -999.00,9,     -999,9,   -999.0,   9,   -999.0,   9,     -999,9,  -999.00,9,  -999.00,9,    1.217,2,   0.6765,20040818,1718
  32H120040718,    52,  4,    401,      1,2,20040818,1716, 73.9000,-157.8540, 3809,     47.5,   0.6786,  31.2189,2,-999.0000,9,    366.8,2,   -999.0,9,     3.08,2,     0.19,2,     0.01,2,     0.83,2,      0.1,2,   -999.0,   9,   -999.0,   9,     0.07,2,  -999.00,9,  -999.00,9,    1.207,2,   0.6769,20040818,1716
  32H120040718,    53,  1,    112,     12,2,20040819, 703, 73.7610,-159.0180, 3119,      1.9,   2.5037,  27.3099,2,-999.0000,9,    343.8,2,    358.6,2,     3.18,2,     0.04,2,     0.01,2,     0.59,2,     0.14,2,   1823.7,   2,   1926.0,   2,     0.04,2,     0.12,2,     0.04,2,    0.998,2,   2.5036,20040819, 747
  32H120040718,    53,  1,    111,     11,2,20040819, 703, 73.7610,-159.0180, 3119,      6.0,   2.5779,  27.5295,2,  27.4825,2,    341.8,2,    358.1,2,     3.30,2,     0.04,2,     0.00,2,     0.59,2,     0.14,2,   1825.0,   2,   1951.4,   2,     0.04,2,  -999.00,9,  -999.00,9,    0.942,2,   2.5776,20040819, 744
  32H120040718,    53,  1,    110,     10,2,20040819, 703, 73.7610,-159.0180, 3119,     16.0,  -0.3907,  29.0340,2,  28.9549,2,    374.5,2,    397.6,2,     2.56,2,     0.04,2,     0.01,2,     0.69,2,     0.11,2,   -999.0,   9,   -999.0,   9,     0.05,2,     0.10,2,     0.04,2,    0.961,2,  -0.3910,20040819, 739
  32H120040718,    53,  1,    109,      9,2,20040819, 703, 73.7610,-159.0180, 3119,     26.2,   0.8652,  30.0995,2,-999.0000,9,    366.1,2,    398.7,2,     3.64,2,     0.04,2,     0.01,2,     0.72,2,     0.14,2,   1981.9,   2,   2137.8,   2,     0.06,2,     0.20,2,     0.05,2,    1.150,2,   0.8643,20040819, 735
  32H120040718,    53,  1,    108,      8,2,20040819, 703, 73.7610,-159.0180, 3119,     41.5,  -0.3147,  31.5949,2,-999.0000,9,    366.9,2,    383.3,2,     7.06,2,     1.40,2,     0.10,2,     0.96,2,     0.13,2,   -999.0,   9,   -999.0,   9,     0.08,2,     0.75,2,     0.08,2,    1.558,2,  -0.3158,20040819, 728
  32H120040718,    53,  1,    107,      7,2,20040819, 703, 73.7610,-159.0180, 3119,     53.5,  -0.7324,  31.9517,2,-999.0000,9,    341.3,2,    355.3,2,    10.59,2,     4.50,2,     0.07,2,     1.23,2,      0.6,2,   2084.1,   2,   2234.7,   2,     0.14,2,     1.73,2,     0.10,2,    1.776,2,  -0.7337,20040819, 724
  32H120040718,    53,  1,    106,      6,2,20040819, 703, 73.7610,-159.0180, 3119,     56.5,  -0.7461,  31.9948,2,  31.9874,2,    336.5,2,    352.7,2,    11.55,2,     4.82,2,     0.08,2,     1.27,2,     0.79,2,   -999.0,   9,   -999.0,   9,     0.14,2,  -999.00,9,  -999.00,9,    1.499,2,  -0.7475,20040819, 721
  32H120040718,    53,  1,    105,      5,2,20040819, 703, 73.7610,-159.0180, 3119,     66.7,  -0.7923,  32.1994,2,-999.0000,9,    334.6,2,    348.3,2,    14.86,2,     5.84,2,     0.08,2,     1.35,2,     0.84,2,   2103.7,   2,   2238.6,   2,     0.13,2,     0.09,2,     0.08,2,    0.957,2,  -0.7939,20040819, 718
  32H120040718,    53,  1,    104,      4,2,20040819, 703, 73.7610,-159.0180, 3119,     81.6,  -0.9137,  32.4322,2,-999.0000,9,    337.3,2,    346.2,2,    17.62,2,     7.17,2,     0.09,2,     1.43,2,     0.93,2,   -999.0,   9,   -999.0,   9,     0.13,2,  -999.00,9,  -999.00,9,    0.869,2,  -0.9156,20040819, 714
  32H120040718,    53,  1,    103,      3,2,20040819, 703, 73.7610,-159.0180, 3119,    101.9,  -1.2739,  32.6425,2,-999.0000,9,    317.5,2,    332.1,2,    24.08,2,     9.48,2,     0.10,2,     1.58,2,     0.98,2,   2137.4,   2,   2236.0,   2,     0.11,2,     0.04,2,     0.04,2,    0.796,2,  -1.2761,20040819, 711
  32H120040718,    53,  1,    102,      2,2,20040819, 703, 73.7610,-159.0180, 3119,    127.3,  -1.5373,  32.8762,2,  32.8699,2,    278.9,2,    289.9,2,    31.46,2,    14.16,2,     0.02,2,     1.81,2,     0.07,2,   -999.0,   9,   -999.0,   9,     0.07,2,  -999.00,9,  -999.00,9,    0.751,2,  -1.5398,20040819, 707
  32H120040718,    53,  1,    101,      1,2,20040819, 703, 73.7610,-159.0180, 3119,    152.0,  -1.5843,  33.1037,2,  33.0937,2,    316.6,2,    329.0,2,    33.68,2,    11.16,2,     0.11,2,     1.77,2,     0.87,2,   -999.0,   9,   -999.0,   9,     0.11,2,     0.03,2,     0.06,2,    0.877,2,  -1.5873,20040819, 703
  32H120040718,    53,  2,    212,     12,2,20040819, 952, 73.7610,-159.0180, 3119,    177.9,  -1.4441,  33.4956,2,  33.4873,2,    296.9,2,    297.5,2,    29.90,2,    12.96,2,     0.07,2,     1.67,2,     0.26,2,   -999.0,   9,   -999.0,   9,     0.08,2,  -999.00,9,  -999.00,9,    0.774,2,  -1.4480,20040819,1106
  32H120040718,    53,  2,    211,     11,2,20040819, 952, 73.7610,-159.0180, 3119,    203.2,  -1.0980,  34.0582,2,-999.0000,9,    264.2,2,    274.9,2,    24.21,2,    13.73,2,     0.03,2,     1.44,2,     0.04,2,   2188.1,   2,   2293.2,   2,     0.08,2,  -999.00,9,  -999.00,9,    0.750,2,  -1.1034,20040819,1102
  32H120040718,    53,  2,    210,     10,2,20040819, 952, 73.7610,-159.0180, 3119,    253.8,  -0.0614,  34.5424,2,-999.0000,9,    266.7,2,    280.1,2,    11.01,2,    12.22,2,     0.02,2,     0.99,2,     0.02,2,   -999.0,   9,   -999.0,   9,     0.07,2,  -999.00,9,  -999.00,9,    0.660,2,  -0.0707,20040819,1057
  32H120040718,    53,  2,    209,      9,2,20040819, 952, 73.7610,-159.0180, 3119,    304.4,   0.6663,  34.7518,2,-999.0000,9,    274.8,2,    288.3,2,     7.94,2,    12.26,2,     0.02,2,     0.92,2,     0.02,2,   -999.0,   9,   -999.0,   9,     0.08,2,  -999.00,9,  -999.00,9,    0.629,2,   0.6530,20040819,1054
  32H120040718,    53,  2,    208,      8,2,20040819, 952, 73.7610,-159.0180, 3119,    354.8,   0.8356,  34.7994,2,-999.0000,9,    277.5,2,    291.8,2,     7.21,2,    12.31,2,     0.02,2,     0.91,2,     0.02,2,   -999.0,   9,   -999.0,   9,     0.07,2,  -999.00,9,  -999.00,9,    0.655,2,   0.8194,20040819,1048
  32H120040718,    53,  2,    207,      7,2,20040819, 952, 73.7610,-159.0180, 3119,    405.2,   0.9216,  34.8370,2,-999.0000,9,    280.8,2,    295.3,2,     6.58,2,    12.26,2,     0.02,2,     0.90,2,     0.01,2,   2135.3,   2,   2293.7,   2,     0.07,2,  -999.00,9,  -999.00,9,    0.627,2,   0.9026,20040819,1042
  32H120040718,    53,  2,    206,      6,2,20040819, 952, 73.7610,-159.0180, 3119,    507.8,   0.6634,  34.8461,2,-999.0000,9,    281.2,2,    295.9,2,     6.80,2,    12.40,2,     0.02,2,     0.91,2,     0.01,2,   -999.0,   9,   -999.0,   9,     0.07,2,  -999.00,9,  -999.00,9,    0.577,2,   0.6402,20040819,1037
  32H120040718,    53,  2,    205,      5,2,20040819, 952, 73.7610,-159.0180, 3119,    608.9,   0.4713,  34.8552,2,  34.8565,2,    280.7,2,    297.8,2,     7.03,2,    12.50,2,     0.02,2,     0.91,2,        0,2,   2143.2,   2,   2295.2,   2,     0.07,2,  -999.00,9,  -999.00,9,    0.618,2,   0.4439,20040819,1029
  32H120040718,    53,  2,    204,      4,2,20040819, 952, 73.7610,-159.0180, 3119,    811.3,   0.1660,  34.8672,2,-999.0000,9,    284.1,2,    299.6,2,     6.94,2,    12.50,2,     0.01,2,     0.92,2,        0,2,   -999.0,   9,   -999.0,   9,     0.07,2,  -999.00,9,  -999.00,9,    0.590,2,   0.1301,20040819,1021
  32H120040718,    53,  2,    203,      3,2,20040819, 952, 73.7610,-159.0180, 3119,   1014.0,  -0.0549,  34.8809,2,  34.8831,2,    283.8,2,    300.4,2,     7.27,2,    12.64,2,     0.01,2,     0.93,2,     0.01,2,   -999.0,   9,   -999.0,   9,     0.07,2,  -999.00,9,  -999.00,9,    0.546,2,  -0.0998,20040819,1011
  32H120040718,    53,  2,    202,      2,2,20040819, 952, 73.7610,-159.0180, 3119,   1268.6,  -0.2263,  34.8997,2,  34.9021,2,    282.3,2,    299.5,2,     8.03,2,    12.97,2,     0.01,2,     0.96,2,        0,2,   -999.0,   9,   -999.0,   9,     0.08,2,  -999.00,9,  -999.00,9,    0.606,2,  -0.2836,20040819,1002
  32H120040718,    53,  2,    201,      1,2,20040819, 952, 73.7610,-159.0180, 3119,   1523.4,  -0.3346,  34.9160,2,  34.9157,2,    280.7,2,    297.5,2,     8.99,2,    13.38,2,     0.01,2,     0.99,2,        0,2,   2143.9,   2,   2304.2,   2,     0.07,2,  -999.00,9,  -999.00,9,    0.607,2,  -0.4055,20040819, 952