BOTTLE,20220815CCHSIOAMB
EXPOCODE,STNNBR,CASTNO,SAMPNO,BTLNBR,BTLNBR_FLAG_W,DATE,TIME,LATITUDE,LONGITUDE,DEPTH,CTDPRS,CTDTMP,CTDSAL,CTDSAL_FLAG_W,SALNTY,SALNTY_FLAG_W,CTDOXY,CTDOXY_FLAG_W,OXYGEN,OXYGEN_FLAG_W,SILCAT,SILCAT_FLAG_W,NITRAT,NITRAT_FLAG_W,NITRIT,NITRIT_FLAG_W,PHSPHT,PHSPHT_FLAG_W,AMMONI,AMMONI_FLAG_W,TCARBN,TCARBN_FLAG_W,ALKALI,ALKALI_FLAG_W,UREA,UREA_FLAG_W,CHLORA,CHLORA_FLAG_W,PHAEO,PHAEO_FLAG_W,FLUORO,FLUORO_FLAG_W,THETA,BTL_DATE,BTL_TIME
,,,,,,,,,,METERS,DBAR,ITS-90,PSS-78,,PSS-78,,UMOL/KG,,UMOL/KG,,UMOL/KG,,UMOL/KG,,UMOL/KG,,UMOL/KG,,UMOL/KG,,UMOL/KG,,UMOL/KG,,UMOL/KG,,UG/L,,UG/L,,VOLTS,,DEG C,,
  32H120040718,    22,  9,    912,     12,2,20040726,1742, 71.9320,-154.9050,  542,     21.0,  -1.1015,  31.4708,2,-999.0000,9,    437.2,2,   -999.0,9,  -999.00,9,  -999.00,9,  -999.00,9,  -999.00,9,     -999,9,   -999.0,   9,   -999.0,   9,     -999,9,  -999.00,9,  -999.00,9,    2.546,2,  -1.1019,20040726,1743
  32H120040718,    22,  9,    911,     11,2,20040726,1742, 71.9320,-154.9050,  542,     21.0,  -1.1124,  31.4824,2,-999.0000,9,    435.9,2,   -999.0,9,  -999.00,9,  -999.00,9,  -999.00,9,  -999.00,9,     -999,9,   -999.0,   9,   -999.0,   9,     -999,9,  -999.00,9,  -999.00,9,    2.483,2,  -1.1128,20040726,1743
  32H120040718,    22,  9,    910,     10,2,20040726,1742, 71.9320,-154.9050,  542,     21.0,  -1.1135,  31.4835,2,-999.0000,9,    436.4,2,   -999.0,9,  -999.00,9,  -999.00,9,  -999.00,9,  -999.00,9,     -999,9,   -999.0,   9,   -999.0,   9,     -999,9,  -999.00,9,  -999.00,9,    2.522,2,  -1.1139,20040726,1743
  32H120040718,    22,  9,    909,      9,2,20040726,1742, 71.9320,-154.9050,  542,     21.0,  -1.1138,  31.4841,2,-999.0000,9,    435.2,2,   -999.0,9,  -999.00,9,  -999.00,9,  -999.00,9,  -999.00,9,     -999,9,   -999.0,   9,   -999.0,   9,     -999,9,  -999.00,9,  -999.00,9,    2.516,2,  -1.1142,20040726,1742
  32H120040718,    22,  9,    901,      1,2,20040726,1742, 71.9320,-154.9050,  542,     21.1,  -1.1131,  31.5033,2,-999.0000,9,    431.7,2,   -999.0,9,     2.76,2,     0.18,2,     0.03,2,     0.78,2,     0.23,2,   -999.0,   9,   -999.0,   9,     0.12,2,  -999.00,9,  -999.00,9,    2.288,2,  -1.1135,20040726,1740
  32H120040718,    22,  9,    902,      2,2,20040726,1742, 71.9320,-154.9050,  542,     21.1,  -1.1134,  31.5029,2,-999.0000,9,    432.2,2,   -999.0,9,  -999.00,9,  -999.00,9,  -999.00,9,  -999.00,9,     -999,9,   -999.0,   9,   -999.0,   9,     -999,9,  -999.00,9,  -999.00,9,    2.213,2,  -1.1138,20040726,1741
  32H120040718,    22,  9,    903,      3,2,20040726,1742, 71.9320,-154.9050,  542,     21.1,  -1.1140,  31.5009,2,-999.0000,9,    432.0,2,   -999.0,9,  -999.00,9,  -999.00,9,  -999.00,9,  -999.00,9,     -999,9,   -999.0,   9,   -999.0,   9,     -999,9,  -999.00,9,  -999.00,9,    2.322,2,  -1.1144,20040726,1741
  32H120040718,    22,  9,    904,      4,2,20040726,1742, 71.9320,-154.9050,  542,     21.1,  -1.1145,  31.4982,2,-999.0000,9,    432.6,2,   -999.0,9,  -999.00,9,  -999.00,9,  -999.00,9,  -999.00,9,     -999,9,   -999.0,   9,   -999.0,   9,     -999,9,  -999.00,9,  -999.00,9,    2.271,2,  -1.1149,20040726,1741
  32H120040718,    22,  9,    905,      5,2,20040726,1742, 71.9320,-154.9050,  542,     21.1,  -1.1149,  31.4947,2,-999.0000,9,    433.3,2,   -999.0,9,  -999.00,9,  -999.00,9,  -999.00,9,  -999.00,9,     -999,9,   -999.0,   9,   -999.0,   9,     -999,9,  -999.00,9,  -999.00,9,    2.305,2,  -1.1153,20040726,1741
  32H120040718,    22,  9,    908,      8,2,20040726,1742, 71.9320,-154.9050,  542,     21.1,  -1.1150,  31.4881,2,-999.0000,9,    434.7,2,   -999.0,9,  -999.00,9,  -999.00,9,  -999.00,9,  -999.00,9,     -999,9,   -999.0,   9,   -999.0,   9,     -999,9,  -999.00,9,  -999.00,9,    2.433,2,  -1.1154,20040726,1742
  32H120040718,    22,  9,    907,      7,2,20040726,1742, 71.9320,-154.9050,  542,     21.1,  -1.1151,  31.4899,2,-999.0000,9,    434.3,2,   -999.0,9,  -999.00,9,  -999.00,9,  -999.00,9,  -999.00,9,     -999,9,   -999.0,   9,   -999.0,   9,     -999,9,  -999.00,9,  -999.00,9,    2.414,2,  -1.1155,20040726,1742
  32H120040718,    22,  9,    906,      6,2,20040726,1742, 71.9320,-154.9050,  542,     21.1,  -1.1151,  31.4913,2,-999.0000,9,    433.9,2,   -999.0,9,  -999.00,9,  -999.00,9,  -999.00,9,  -999.00,9,     -999,9,   -999.0,   9,   -999.0,   9,     -999,9,  -999.00,9,  -999.00,9,    2.400,2,  -1.1155,20040726,1742
  32H120040718,    23,  1,    112,     12,2,20040727,  38, 71.9890,-154.7530,  895,    176.5,   0.0217,  34.5996,2,  34.5998,2,    268.7,2,    275.7,2,    12.59,2,    12.94,2,     0.02,2,     1.02,2,     0.03,2,   -999.0,   9,   -999.0,   9,     0.09,2,  -999.00,9,  -999.00,9,    0.701,2,   0.0152,20040727, 128
  32H120040718,    23,  1,    111,     11,2,20040727,  38, 71.9890,-154.7530,  895,    202.0,   0.3453,  34.6975,2,-999.0000,9,    271.8,2,    279.1,2,    11.03,2,    12.94,2,     0.01,2,     0.98,2,     0.03,2,   2210.5,   2,   2292.9,   2,     0.09,2,  -999.00,9,  -999.00,9,    0.661,2,   0.3372,20040727, 124
  32H120040718,    23,  1,    110,     10,2,20040727,  38, 71.9890,-154.7530,  895,    252.0,   0.5855,  34.7728,2,-999.0000,9,    277.2,2,    285.3,2,     8.90,2,    12.70,2,     0.04,2,     0.93,2,     0.05,2,   -999.0,   9,   -999.0,   9,      0.1,2,  -999.00,9,  -999.00,9,    0.747,2,   0.5748,20040727, 121
  32H120040718,    23,  1,    109,      9,2,20040727,  38, 71.9890,-154.7530,  895,    301.3,   0.6681,  34.8122,2,-999.0000,9,    281.0,2,    289.6,2,     8.34,2,    12.65,2,     0.03,2,     0.91,2,     0.04,2,   2204.7,   2,   2305.1,   2,      0.1,2,  -999.00,9,  -999.00,9,    0.621,2,   0.6549,20040727, 116
  32H120040718,    23,  1,    108,      8,2,20040727,  38, 71.9890,-154.7530,  895,    350.5,   0.6371,  34.8250,2,-999.0000,9,    283.1,2,    292.4,2,     7.79,2,    12.60,2,     0.01,2,     0.89,2,     0.03,2,   -999.0,   9,   -999.0,   9,     0.09,2,  -999.00,9,  -999.00,9,    0.655,2,   0.6217,20040727, 111
  32H120040718,    23,  1,    107,      7,2,20040727,  38, 71.9890,-154.7530,  895,    406.6,   0.6111,  34.8381,2,-999.0000,9,    283.6,2,    293.2,2,     7.79,2,    12.60,2,     0.01,2,     0.89,2,     0.03,2,   2145.8,   2,   2306.2,   2,      0.1,2,  -999.00,9,  -999.00,9,    0.642,2,   0.5931,20040727, 107
  32H120040718,    23,  1,    106,      6,2,20040727,  38, 71.9890,-154.7530,  895,    505.2,   0.5338,  34.8476,2,-999.0000,9,    285.5,2,    294.9,2,     7.56,2,    12.54,2,     0.01,2,     0.89,2,     0.05,2,   2148.3,   2,   2306.8,   2,      0.1,2,  -999.00,9,  -999.00,9,    0.702,2,   0.5113,20040727, 102
  32H120040718,    23,  1,    105,      5,2,20040727,  38, 71.9890,-154.7530,  895,    601.0,   0.4611,  34.8543,2,-999.0000,9,    286.1,2,    295.5,2,     7.67,2,    12.53,2,     0.01,2,     0.89,2,     0.04,2,   2147.5,   2,   2306.3,   2,      0.1,2,  -999.00,9,  -999.00,9,    0.673,2,   0.4342,20040727,  57
  32H120040718,    23,  1,    104,      4,3,20040727,  38, 71.9890,-154.7530,  895,    699.7,   0.3575,  34.8604,2,  34.7808,0,    286.6,2,   -999.0,9,     8.24,4,    12.41,4,     0.01,4,     0.91,4,     0.06,4,   -999.0,   9,   -999.0,   9,      0.1,4,  -999.00,9,  -999.00,9,    0.629,2,   0.3261,20040727,  52
  32H120040718,    23,  1,    103,      3,2,20040727,  38, 71.9890,-154.7530,  895,    799.0,   0.2098,  34.8675,2,  34.8675,2,    288.3,2,    298.4,2,     7.67,2,    12.47,2,     0.01,2,     0.89,2,     0.04,2,   2148.2,   2,   2308.0,   2,      0.1,2,  -999.00,9,  -999.00,9,    0.630,2,   0.1742,20040727,  46
  32H120040718,    23,  1,    102,      2,2,20040727,  38, 71.9890,-154.7530,  895,    846.9,   0.0957,  34.8734,2,  34.8731,2,    288.9,2,    299.0,2,     7.67,2,    12.51,2,     0.01,2,     0.90,2,     0.04,2,   -999.0,   9,   -999.0,   9,      0.1,2,  -999.00,9,  -999.00,9,    0.650,2,   0.0584,20040727,  42
  32H120040718,    23,  1,    101,      1,2,20040727,  38, 71.9890,-154.7530,  895,    895.2,   0.0624,  34.8756,2,  34.8818,2,    288.1,2,    298.3,2,     7.91,2,    12.56,2,     0.01,2,     0.90,2,     0.04,2,   2143.1,   2,   2307.8,   2,      0.1,2,  -999.00,9,  -999.00,9,    0.614,2,   0.0228,20040727,  38
  32H120040718,    23,  2,    212,     12,2,20040727, 506, 71.9890,-154.7530,  895,      1.8,   0.5021,  26.5360,2,-999.0000,9,    361.9,2,    369.0,2,     3.89,2,     0.09,2,     0.00,2,     0.53,2,     0.27,2,   1780.2,   2,   -999.0,   5,     0.03,2,     0.04,2,     0.01,2,    0.785,2,   0.5021,20040727, 542
  32H120040718,    23,  2,    211,     11,2,20040727, 506, 71.9890,-154.7530,  895,      5.2,  -0.0646,  27.8323,2,-999.0000,9,    373.1,2,    382.0,2,     3.65,2,     0.09,2,     0.00,2,     0.57,2,     0.19,2,   -999.0,   9,   -999.0,   9,     0.04,2,     0.03,2,     0.01,2,    0.957,2,  -0.0647,20040727, 540
  32H120040718,    23,  2,    210,     10,2,20040727, 506, 71.9890,-154.7530,  895,     10.4,  -0.2176,  29.4960,2,-999.0000,9,    429.4,2,    425.4,2,     4.32,2,     0.09,2,     0.00,2,     0.64,2,     0.21,2,   1939.3,   2,   2071.1,   2,     0.07,2,     0.03,2,     0.01,2,    1.116,2,  -0.2178,20040727, 537
  32H120040718,    23,  2,    209,      9,2,20040727, 506, 71.9890,-154.7530,  895,     20.4,   0.1322,  31.1213,2,-999.0000,9,    463.5,2,    470.4,2,     2.38,2,     0.14,2,     0.01,2,     0.66,2,     0.27,2,   -999.0,   9,   -999.0,   9,     0.07,2,     0.02,2,     0.00,2,    0.854,2,   0.1316,20040727, 535
  32H120040718,    23,  2,    208,      8,2,20040727, 506, 71.9890,-154.7530,  895,     30.2,  -1.0174,  32.0871,2,-999.0000,9,    405.1,2,    423.8,2,     9.40,2,     2.03,2,     0.07,2,     1.04,2,     0.51,2,   2105.4,   2,   2225.4,   2,      0.1,2,     0.18,2,     0.02,2,    1.819,2,  -1.0181,20040727, 531
  32H120040718,    23,  2,    207,      7,2,20040727, 506, 71.9890,-154.7530,  895,     40.2,  -1.1566,  32.3727,2,-999.0000,9,    382.7,2,    385.7,2,    17.52,2,     5.56,2,     0.13,2,     1.34,2,     1.19,2,   2147.5,   2,   2240.8,   2,     0.17,2,     0.09,2,     0.01,2,    1.714,2,  -1.1574,20040727, 528
  32H120040718,    23,  2,    206,      6,2,20040727, 506, 71.9890,-154.7530,  895,     49.5,  -1.5594,  32.5884,2,-999.0000,9,    353.1,2,    361.7,2,    28.74,2,     9.02,2,     0.19,2,     1.60,2,     1.81,2,   -999.0,   9,   -999.0,   9,     0.14,2,     0.03,2,     0.01,2,    1.296,2,  -1.5603,20040727, 526
  32H120040718,    23,  2,    205,      5,2,20040727, 506, 71.9890,-154.7530,  895,     64.4,  -1.5508,  32.7782,2,-999.0000,9,    331.2,2,    349.8,2,    31.20,2,     9.97,2,     0.13,2,     1.64,2,     1.48,2,   2194.3,   2,   2253.1,   2,     0.15,2,  -999.00,9,  -999.00,9,    1.274,2,  -1.5520,20040727, 523
  32H120040718,    23,  2,    204,      4,2,20040727, 506, 71.9890,-154.7530,  895,     79.7,  -1.5785,  32.9468,2,-999.0000,9,    326.6,2,    346.1,2,    34.10,2,     9.83,2,     0.13,2,     1.69,2,     1.68,2,   2217.2,   2,   2267.5,   2,     0.15,2,  -999.00,9,  -999.00,9,    1.135,2,  -1.5800,20040727, 519
  32H120040718,    23,  2,    203,      3,2,20040727, 506, 71.9890,-154.7530,  895,     99.7,  -1.4719,  33.2207,2,-999.0000,9,    269.6,2,    281.0,2,    33.41,2,    14.81,2,     0.02,2,     1.77,2,     0.15,2,   2250.7,   2,   2279.1,   2,     0.08,2,     0.03,2,     0.02,2,    0.945,2,  -1.4740,20040727, 515
  32H120040718,    23,  2,    202,      2,2,20040727, 506, 71.9890,-154.7530,  895,    125.2,  -1.0787,  33.9344,2,  33.8997,2,    270.5,2,    273.6,2,    26.55,2,    14.24,2,     0.02,2,     1.48,2,     0.05,2,   -999.0,   9,   -999.0,   9,     0.08,2,  -999.00,9,  -999.00,9,    0.938,2,  -1.0819,20040727, 511
  32H120040718,    23,  2,    201,      1,2,20040727, 506, 71.9890,-154.7530,  895,    150.1,  -0.4669,  34.4027,2,  34.3965,2,    268.9,2,    277.5,2,    18.12,2,    13.40,2,     0.04,2,     1.21,2,     0.02,2,   2238.1,   2,   2299.8,   2,     0.08,2,     0.04,2,     0.05,2,    0.751,2,  -0.4717,20040727, 506
  32H120040718,    23,  3,    311,     11,2,20040727, 716, 71.9890,-154.7530,  895,     50.6,  -1.4789,  32.5880,2,-999.0000,9,    352.6,2,   -999.0,9,  -999.00,9,  -999.00,9,  -999.00,9,  -999.00,9,     -999,9,   -999.0,   9,   -999.0,   9,     -999,9,  -999.00,9,  -999.00,9,    1.282,2,  -1.4799,20040727, 723
  32H120040718,    23,  3,    312,     12,2,20040727, 716, 71.9890,-154.7530,  895,     50.6,  -1.4791,  32.5877,2,-999.0000,9,    352.6,2,   -999.0,9,  -999.00,9,  -999.00,9,  -999.00,9,  -999.00,9,     -999,9,   -999.0,   9,   -999.0,   9,     -999,9,  -999.00,9,  -999.00,9,    1.380,2,  -1.4801,20040727, 723
  32H120040718,    23,  3,    310,     10,2,20040727, 716, 71.9890,-154.7530,  895,     50.6,  -1.4792,  32.5882,2,-999.0000,9,    352.7,2,   -999.0,9,  -999.00,9,  -999.00,9,  -999.00,9,  -999.00,9,     -999,9,   -999.0,   9,   -999.0,   9,     -999,9,  -999.00,9,  -999.00,9,    1.344,2,  -1.4802,20040727, 723
  32H120040718,    23,  3,    309,      9,2,20040727, 716, 71.9890,-154.7530,  895,     50.6,  -1.4799,  32.5885,2,-999.0000,9,    352.4,2,   -999.0,9,  -999.00,9,  -999.00,9,  -999.00,9,  -999.00,9,     -999,9,   -999.0,   9,   -999.0,   9,     -999,9,  -999.00,9,  -999.00,9,    1.378,2,  -1.4809,20040727, 723
  32H120040718,    23,  3,    308,      8,2,20040727, 716, 71.9890,-154.7530,  895,     50.6,  -1.4808,  32.5888,2,-999.0000,9,    351.8,2,   -999.0,9,    27.24,2,     8.60,2,     0.17,2,     1.56,2,     1.65,2,   -999.0,   9,   -999.0,   9,     0.15,2,  -999.00,9,  -999.00,9,    1.290,2,  -1.4818,20040727, 722
  32H120040718,    23,  3,    307,      7,2,20040727, 716, 71.9890,-154.7530,  895,     50.6,  -1.4814,  32.5902,2,-999.0000,9,    351.8,2,   -999.0,9,  -999.00,9,  -999.00,9,  -999.00,9,  -999.00,9,     -999,9,   -999.0,   9,   -999.0,   9,     -999,9,  -999.00,9,  -999.00,9,    1.467,2,  -1.4824,20040727, 722
  32H120040718,    23,  3,    301,      1,2,20040727, 716, 71.9890,-154.7530,  895,    109.9,  -1.3615,  33.4450,2,-999.0000,9,    269.5,2,   -999.0,9,  -999.00,9,  -999.00,9,  -999.00,9,  -999.00,9,     -999,9,   -999.0,   9,   -999.0,   9,     -999,9,  -999.00,9,  -999.00,9,    1.094,2,  -1.3639,20040727, 715
  32H120040718,    23,  3,    303,      3,2,20040727, 716, 71.9890,-154.7530,  895,    109.9,  -1.3617,  33.4424,2,-999.0000,9,    272.8,2,   -999.0,9,  -999.00,9,  -999.00,9,  -999.00,9,  -999.00,9,     -999,9,   -999.0,   9,   -999.0,   9,     -999,9,  -999.00,9,  -999.00,9,    0.909,2,  -1.3641,20040727, 716
  32H120040718,    23,  3,    305,      5,2,20040727, 716, 71.9890,-154.7530,  895,    109.9,  -1.3634,  33.4408,2,-999.0000,9,    272.8,2,   -999.0,9,  -999.00,9,  -999.00,9,  -999.00,9,  -999.00,9,     -999,9,   -999.0,   9,   -999.0,   9,     -999,9,  -999.00,9,  -999.00,9,    0.934,2,  -1.3658,20040727, 716
  32H120040718,    23,  3,    302,      2,2,20040727, 716, 71.9890,-154.7530,  895,    109.9,  -1.3640,  33.4427,2,-999.0000,9,    273.2,2,   -999.0,9,  -999.00,9,  -999.00,9,  -999.00,9,  -999.00,9,     -999,9,   -999.0,   9,   -999.0,   9,     -999,9,  -999.00,9,  -999.00,9,    0.944,2,  -1.3664,20040727, 715
  32H120040718,    23,  3,    306,      6,2,20040727, 716, 71.9890,-154.7530,  895,    109.9,  -1.3652,  33.4402,2,-999.0000,9,    273.6,2,   -999.0,9,  -999.00,9,  -999.00,9,  -999.00,9,  -999.00,9,     -999,9,   -999.0,   9,   -999.0,   9,     -999,9,  -999.00,9,  -999.00,9,    1.056,2,  -1.3676,20040727, 717
  32H120040718,    23,  3,    304,      4,2,20040727, 716, 71.9890,-154.7530,  895,    109.9,  -1.3673,  33.4414,2,-999.0000,9,    274.8,2,   -999.0,9,    30.33,2,    13.61,2,     0.05,2,     1.66,2,     0.25,2,   -999.0,   9,   -999.0,   9,      0.1,2,  -999.00,9,  -999.00,9,    0.884,2,  -1.3697,20040727, 716
  32H120040718,    23,  4,    412,     12,2,20040727, 853, 71.9890,-154.7530,  895,    152.4,  -0.5231,  34.3724,2,-999.0000,9,    266.3,2,   -999.0,9,  -999.00,9,  -999.00,9,  -999.00,9,  -999.00,9,     -999,9,   -999.0,   9,   -999.0,   9,     -999,9,  -999.00,9,  -999.00,9,    0.689,2,  -0.5279,20040727, 855
  32H120040718,    23,  4,    411,     11,2,20040727, 853, 71.9890,-154.7530,  895,    152.4,  -0.5325,  34.3643,2,-999.0000,9,    266.6,2,   -999.0,9,  -999.00,9,  -999.00,9,  -999.00,9,  -999.00,9,     -999,9,   -999.0,   9,   -999.0,   9,     -999,9,  -999.00,9,  -999.00,9,    0.768,2,  -0.5373,20040727, 855
  32H120040718,    23,  4,    410,     10,2,20040727, 853, 71.9890,-154.7530,  895,    152.4,  -0.5463,  34.3554,2,-999.0000,9,    266.4,2,   -999.0,9,  -999.00,9,  -999.00,9,  -999.00,9,  -999.00,9,     -999,9,   -999.0,   9,   -999.0,   9,     -999,9,  -999.00,9,  -999.00,9,    0.724,2,  -0.5511,20040727, 855
  32H120040718,    23,  4,    409,      9,2,20040727, 853, 71.9890,-154.7530,  895,    152.4,  -0.5518,  34.3532,2,-999.0000,9,    266.6,2,   -999.0,9,    19.33,2,    13.49,2,     0.03,2,     1.26,2,     0.02,2,   -999.0,   9,   -999.0,   9,     0.09,2,  -999.00,9,  -999.00,9,    0.815,2,  -0.5566,20040727, 855
  32H120040718,    23,  4,    408,      8,2,20040727, 853, 71.9890,-154.7530,  895,    152.4,  -0.5525,  34.3527,2,-999.0000,9,    266.3,2,   -999.0,9,  -999.00,9,  -999.00,9,  -999.00,9,  -999.00,9,     -999,9,   -999.0,   9,   -999.0,   9,     -999,9,  -999.00,9,  -999.00,9,    0.732,2,  -0.5573,20040727, 854
  32H120040718,    23,  4,    407,      7,2,20040727, 853, 71.9890,-154.7530,  895,    152.4,  -0.5623,  34.3471,2,-999.0000,9,    266.3,2,   -999.0,9,  -999.00,9,  -999.00,9,  -999.00,9,  -999.00,9,     -999,9,   -999.0,   9,   -999.0,   9,     -999,9,  -999.00,9,  -999.00,9,    0.692,2,  -0.5671,20040727, 854
  32H120040718,    23,  4,    406,      6,2,20040727, 853, 71.9890,-154.7530,  895,    152.4,  -0.5628,  34.3461,2,-999.0000,9,    266.7,2,   -999.0,9,  -999.00,9,  -999.00,9,  -999.00,9,  -999.00,9,     -999,9,   -999.0,   9,   -999.0,   9,     -999,9,  -999.00,9,  -999.00,9,    1.226,2,  -0.5676,20040727, 854
  32H120040718,    23,  4,    405,      5,2,20040727, 853, 71.9890,-154.7530,  895,    152.4,  -0.5762,  34.3401,2,-999.0000,9,    267.1,2,   -999.0,9,  -999.00,9,  -999.00,9,  -999.00,9,  -999.00,9,     -999,9,   -999.0,   9,   -999.0,   9,     -999,9,  -999.00,9,  -999.00,9,    0.737,2,  -0.5809,20040727, 853
  32H120040718,    23,  4,    404,      4,2,20040727, 853, 71.9890,-154.7530,  895,    152.4,  -0.5791,  34.3389,2,-999.0000,9,    267.1,2,   -999.0,9,  -999.00,9,  -999.00,9,  -999.00,9,  -999.00,9,     -999,9,   -999.0,   9,   -999.0,   9,     -999,9,  -999.00,9,  -999.00,9,    0.693,2,  -0.5838,20040727, 853
  32H120040718,    23,  4,    403,      3,2,20040727, 853, 71.9890,-154.7530,  895,    152.4,  -0.5884,  34.3345,2,-999.0000,9,    267.7,2,   -999.0,9,  -999.00,9,  -999.00,9,  -999.00,9,  -999.00,9,     -999,9,   -999.0,   9,   -999.0,   9,     -999,9,  -999.00,9,  -999.00,9,    0.725,2,  -0.5931,20040727, 853
  32H120040718,    23,  4,    402,      2,2,20040727, 853, 71.9890,-154.7530,  895,    152.4,  -0.5894,  34.3340,2,-999.0000,9,    267.5,2,   -999.0,9,  -999.00,9,  -999.00,9,  -999.00,9,  -999.00,9,     -999,9,   -999.0,   9,   -999.0,   9,     -999,9,  -999.00,9,  -999.00,9,    0.784,2,  -0.5941,20040727, 853
  32H120040718,    23,  4,    401,      1,2,20040727, 853, 71.9890,-154.7530,  895,    152.4,  -0.5928,  34.3311,2,-999.0000,9,    267.9,2,   -999.0,9,  -999.00,9,  -999.00,9,  -999.00,9,  -999.00,9,     -999,9,   -999.0,   9,   -999.0,   9,     -999,9,  -999.00,9,  -999.00,9,    0.733,2,  -0.5975,20040727, 853