BOTTLE,20220815CCHSIOAMB
EXPOCODE,STNNBR,CASTNO,SAMPNO,BTLNBR,BTLNBR_FLAG_W,DATE,TIME,LATITUDE,LONGITUDE,DEPTH,CTDPRS,CTDTMP,CTDSAL,CTDSAL_FLAG_W,SALNTY,SALNTY_FLAG_W,CTDOXY,CTDOXY_FLAG_W,OXYGEN,OXYGEN_FLAG_W,SILCAT,SILCAT_FLAG_W,NITRAT,NITRAT_FLAG_W,NITRIT,NITRIT_FLAG_W,PHSPHT,PHSPHT_FLAG_W,AMMONI,AMMONI_FLAG_W,TCARBN,TCARBN_FLAG_W,ALKALI,ALKALI_FLAG_W,UREA,UREA_FLAG_W,CHLORA,CHLORA_FLAG_W,PHAEO,PHAEO_FLAG_W,FLUORO,FLUORO_FLAG_W,THETA,BTL_DATE,BTL_TIME
,,,,,,,,,,METERS,DBAR,ITS-90,PSS-78,,PSS-78,,UMOL/KG,,UMOL/KG,,UMOL/KG,,UMOL/KG,,UMOL/KG,,UMOL/KG,,UMOL/KG,,UMOL/KG,,UMOL/KG,,UMOL/KG,,UG/L,,UG/L,,VOLTS,,DEG C,,
  32H120040718,    49,  6,    608,      8,2,20040815,1847, 73.0420,-157.9910, 1931,     61.6,  -1.3453,  32.4962,2,-999.0000,9,    331.4,2,   -999.0,9,  -999.00,9,  -999.00,9,  -999.00,9,  -999.00,9,     -999,9,   -999.0,   9,   -999.0,   9,     -999,9,  -999.00,9,  -999.00,9,    1.776,2,  -1.3465,20040815,1848
  32H120040718,    49,  6,    607,      7,2,20040815,1847, 73.0420,-157.9910, 1931,     61.6,  -1.3454,  32.4963,2,-999.0000,9,    331.9,2,   -999.0,9,  -999.00,9,  -999.00,9,  -999.00,9,  -999.00,9,     -999,9,   -999.0,   9,   -999.0,   9,     -999,9,  -999.00,9,  -999.00,9,    1.743,2,  -1.3466,20040815,1848
  32H120040718,    49,  6,    609,      9,2,20040815,1847, 73.0420,-157.9910, 1931,     61.6,  -1.3455,  32.4960,2,-999.0000,9,    331.9,2,   -999.0,9,  -999.00,9,  -999.00,9,  -999.00,9,  -999.00,9,     -999,9,   -999.0,   9,   -999.0,   9,     -999,9,  -999.00,9,  -999.00,9,    1.709,2,  -1.3467,20040815,1849
  32H120040718,    49,  6,    606,      6,2,20040815,1847, 73.0420,-157.9910, 1931,     61.6,  -1.3459,  32.4974,2,-999.0000,9,    332.8,2,   -999.0,9,  -999.00,9,  -999.00,9,  -999.00,9,  -999.00,9,     -999,9,   -999.0,   9,   -999.0,   9,     -999,9,  -999.00,9,  -999.00,9,    1.738,2,  -1.3471,20040815,1848
  32H120040718,    49,  6,    610,     10,2,20040815,1847, 73.0420,-157.9910, 1931,     61.6,  -1.3481,  32.4963,2,-999.0000,9,    332.1,2,   -999.0,9,  -999.00,9,  -999.00,9,  -999.00,9,  -999.00,9,     -999,9,   -999.0,   9,   -999.0,   9,     -999,9,  -999.00,9,  -999.00,9,    1.705,2,  -1.3493,20040815,1849
  32H120040718,    49,  6,    612,     12,2,20040815,1847, 73.0420,-157.9910, 1931,     61.6,  -1.3492,  32.4974,2,-999.0000,9,    332.7,2,   -999.0,9,  -999.00,9,  -999.00,9,  -999.00,9,  -999.00,9,     -999,9,   -999.0,   9,   -999.0,   9,     -999,9,  -999.00,9,  -999.00,9,    1.687,2,  -1.3504,20040815,1850
  32H120040718,    49,  6,    601,      1,2,20040815,1847, 73.0420,-157.9910, 1931,     61.6,  -1.3501,  32.4982,2,-999.0000,9,    332.2,2,   -999.0,9,    26.13,2,     9.13,2,     0.16,2,     1.63,2,     1.74,2,   -999.0,   9,   -999.0,   9,     0.12,2,  -999.00,9,  -999.00,9,    1.772,2,  -1.3513,20040815,1846
  32H120040718,    49,  6,    611,     11,2,20040815,1847, 73.0420,-157.9910, 1931,     61.6,  -1.3505,  32.4969,2,-999.0000,9,    332.4,2,   -999.0,9,  -999.00,9,  -999.00,9,  -999.00,9,  -999.00,9,     -999,9,   -999.0,   9,   -999.0,   9,     -999,9,  -999.00,9,  -999.00,9,    1.717,2,  -1.3517,20040815,1849
  32H120040718,    49,  6,    605,      5,2,20040815,1847, 73.0420,-157.9910, 1931,     61.6,  -1.3554,  32.5002,2,-999.0000,9,    332.8,2,   -999.0,9,  -999.00,9,  -999.00,9,  -999.00,9,  -999.00,9,     -999,9,   -999.0,   9,   -999.0,   9,     -999,9,  -999.00,9,  -999.00,9,    1.727,2,  -1.3566,20040815,1847
  32H120040718,    49,  6,    602,      2,2,20040815,1847, 73.0420,-157.9910, 1931,     61.6,  -1.3578,  32.5011,2,-999.0000,9,    332.4,2,   -999.0,9,  -999.00,9,  -999.00,9,  -999.00,9,  -999.00,9,     -999,9,   -999.0,   9,   -999.0,   9,     -999,9,  -999.00,9,  -999.00,9,    1.758,2,  -1.3590,20040815,1846
  32H120040718,    49,  6,    604,      4,2,20040815,1847, 73.0420,-157.9910, 1931,     61.6,  -1.3597,  32.5014,2,-999.0000,9,    333.0,2,   -999.0,9,  -999.00,9,  -999.00,9,  -999.00,9,  -999.00,9,     -999,9,   -999.0,   9,   -999.0,   9,     -999,9,  -999.00,9,  -999.00,9,    1.607,2,  -1.3609,20040815,1847
  32H120040718,    49,  6,    603,      3,2,20040815,1847, 73.0420,-157.9910, 1931,     61.6,  -1.3601,  32.5015,2,-999.0000,9,    333.0,2,   -999.0,9,  -999.00,9,  -999.00,9,  -999.00,9,  -999.00,9,     -999,9,   -999.0,   9,   -999.0,   9,     -999,9,  -999.00,9,  -999.00,9,    1.813,2,  -1.3613,20040815,1847
  32H120040718,    49,  7,    712,     12,2,20040815,2159, 73.0420,-157.9910, 1931,     24.6,   0.0270,  30.6486,2,-999.0000,9,    452.8,2,   -999.0,9,     2.39,2,     0.10,2,     0.00,2,     0.63,2,      0.2,2,   -999.0,   9,   -999.0,   9,     0.05,2,  -999.00,9,  -999.00,9,    1.149,2,   0.0263,20040815,2300
  32H120040718,    49,  7,    710,     10,2,20040815,2159, 73.0420,-157.9910, 1931,     50.1,  -0.9969,  32.2273,2,-999.0000,9,    337.9,2,   -999.0,9,    17.04,2,     5.98,2,     0.18,2,     1.40,2,     1.65,2,   -999.0,   9,   -999.0,   9,     0.11,2,  -999.00,9,  -999.00,9,    1.384,2,  -0.9980,20040815,2255
  32H120040718,    49,  7,    711,     11,2,20040815,2159, 73.0420,-157.9910, 1931,     50.1,  -1.0000,  32.2303,2,-999.0000,9,    337.4,2,   -999.0,9,    16.82,2,     5.88,2,     0.18,2,     1.39,2,     1.65,2,   -999.0,   9,   -999.0,   9,     0.12,2,  -999.00,9,  -999.00,9,    1.061,2,  -1.0011,20040815,2255
  32H120040718,    49,  7,    708,      8,3,20040815,2159, 73.0420,-157.9910, 1931,    111.5,  -1.5199,  33.1621,2,-999.0000,9,    304.7,2,   -999.0,9,  -999.00,9,  -999.00,9,  -999.00,9,  -999.00,9,     -999,9,   -999.0,   9,   -999.0,   9,     -999,9,  -999.00,9,  -999.00,9,    0.947,2,  -1.5222,20040815,2249
  32H120040718,    49,  7,    709,      9,2,20040815,2159, 73.0420,-157.9910, 1931,    111.5,  -1.5218,  33.1647,2,-999.0000,9,    305.3,2,   -999.0,9,    31.14,2,    10.38,2,     0.11,2,     1.73,2,     1.63,2,   -999.0,   9,   -999.0,   9,     0.12,2,  -999.00,9,  -999.00,9,    0.957,2,  -1.5240,20040815,2250
  32H120040718,    49,  7,    707,      7,2,20040815,2159, 73.0420,-157.9910, 1931,    156.3,  -1.1862,  33.8940,2,-999.0000,9,    278.8,2,   -999.0,9,    24.61,2,    12.54,2,     0.08,2,     1.48,2,     0.14,2,   -999.0,   9,   -999.0,   9,     0.06,2,  -999.00,9,  -999.00,9,    0.788,2,  -1.1901,20040815,2243
  32H120040718,    49,  7,    706,      6,2,20040815,2159, 73.0420,-157.9910, 1931,    156.3,  -1.1970,  33.8960,2,-999.0000,9,    279.1,2,   -999.0,9,    24.82,2,    12.59,2,     0.08,2,     1.48,2,     0.12,2,   -999.0,   9,   -999.0,   9,     0.05,2,  -999.00,9,  -999.00,9,    0.747,2,  -1.2009,20040815,2243
  32H120040718,    49,  7,    704,      4,2,20040815,2159, 73.0420,-157.9910, 1931,    304.8,   0.8829,  34.8214,2,-999.0000,9,    277.6,2,   -999.0,9,     6.69,2,    12.34,2,     0.01,2,     0.88,2,     0.07,2,   -999.0,   9,   -999.0,   9,     0.04,2,  -999.00,9,  -999.00,9,    0.592,2,   0.8690,20040815,2236
  32H120040718,    49,  7,    705,      5,2,20040815,2159, 73.0420,-157.9910, 1931,    304.8,   0.8834,  34.8214,2,-999.0000,9,    277.6,2,   -999.0,9,     6.79,2,    12.34,2,     0.01,2,     0.89,2,     0.07,2,   -999.0,   9,   -999.0,   9,     0.05,2,  -999.00,9,  -999.00,9,    0.594,2,   0.8695,20040815,2236
  32H120040718,    49,  7,    702,      2,2,20040815,2159, 73.0420,-157.9910, 1931,    811.6,   0.1099,  34.8709,2,-999.0000,9,    281.9,2,   -999.0,9,     7.01,2,    12.50,2,     0.01,2,     0.90,2,     0.09,2,   -999.0,   9,   -999.0,   9,     0.05,2,  -999.00,9,  -999.00,9,    0.572,2,   0.0743,20040815,2223
  32H120040718,    49,  7,    703,      3,2,20040815,2159, 73.0420,-157.9910, 1931,    811.6,   0.1101,  34.8709,2,-999.0000,9,    281.8,2,   -999.0,9,     6.90,2,    12.50,2,     0.01,2,     0.90,2,     0.08,2,   -999.0,   9,   -999.0,   9,     0.04,2,  -999.00,9,  -999.00,9,    0.590,2,   0.0745,20040815,2223
  32H120040718,    49,  7,    701,      1,3,20040815,2159, 73.0420,-157.9910, 1931,   1928.7,  -0.4045,  34.9412,2,-999.0000,9,    272.1,2,   -999.0,9,  -999.00,9,  -999.00,9,  -999.00,9,  -999.00,9,     -999,9,   -999.0,   9,   -999.0,   9,     -999,9,  -999.00,9,  -999.00,9,    0.563,2,  -0.5001,20040815,2159
  32H120040718,    50,  1,    112,     12,2,20040816, 602, 73.3880,-157.4120, 3157,      1.8,   3.4124,  26.2474,2,  26.2681,0,    334.1,2,    352.9,2,     4.21,2,     0.04,2,     0.00,2,     0.54,2,     0.05,2,   1739.1,   2,   1910.8,   2,     0.04,2,     0.25,2,     0.05,2,    1.134,2,   3.4123,20040816, 634
  32H120040718,    50,  1,    111,     11,2,20040816, 602, 73.3880,-157.4120, 3157,      5.7,   3.4555,  26.2715,2,-999.0000,9,    333.7,2,    351.2,2,     4.30,2,     0.04,2,     0.00,2,     0.51,2,     0.05,2,   1772.0,   2,   1889.0,   2,     0.06,2,  -999.00,9,  -999.00,9,    1.150,2,   3.4552,20040816, 631
  32H120040718,    50,  1,    110,     10,2,20040816, 602, 73.3880,-157.4120, 3157,     11.6,   2.9049,  26.5138,2,  26.7037,2,    335.4,2,    356.3,2,     4.19,2,     0.00,2,     0.00,2,     0.52,2,     0.04,2,   -999.0,   9,   -999.0,   9,     0.03,2,     0.20,2,     0.05,2,    1.149,2,   2.9044,20040816, 628
  32H120040718,    50,  1,    109,      9,2,20040816, 602, 73.3880,-157.4120, 3157,     20.6,   0.2738,  29.4028,2,-999.0000,9,    369.5,2,    387.5,2,     3.86,2,     0.03,2,     0.00,2,     0.65,2,     0.01,2,   -999.0,   9,   -999.0,   9,     0.05,2,     0.16,2,     0.06,2,    1.089,2,   0.2732,20040816, 626
  32H120040718,    50,  1,    108,      8,2,20040816, 602, 73.3880,-157.4120, 3157,     26.6,   1.9598,  30.0804,2,  30.0268,2,    359.1,2,    381.2,2,     4.71,2,     0.03,2,     0.00,2,     0.69,2,        0,2,   -999.0,   9,   -999.0,   9,     0.05,2,  -999.00,9,  -999.00,9,    1.247,2,   1.9586,20040816, 624
  32H120040718,    50,  1,    107,      7,2,20040816, 602, 73.3880,-157.4120, 3157,     32.6,   1.0087,  30.3547,2,-999.0000,9,    365.6,2,    389.1,2,     4.38,2,     0.03,2,     0.00,2,     0.72,2,     0.08,2,   -999.0,   9,   -999.0,   9,     0.06,2,     0.27,2,     0.06,2,    1.185,2,   1.0075,20040816, 622
  32H120040718,    50,  1,    106,      6,2,20040816, 602, 73.3880,-157.4120, 3157,     40.9,   1.1880,  31.1252,2,  31.0920,2,    370.6,2,    395.1,2,     6.19,2,     0.24,2,     0.03,2,     0.78,2,     0.59,2,   -999.0,   9,   -999.0,   9,     0.12,2,     0.15,2,     0.03,2,    0.998,2,   1.1864,20040816, 619
  32H120040718,    50,  1,    105,      5,2,20040816, 602, 73.3880,-157.4120, 3157,     61.0,  -0.9907,  31.9701,2,-999.0000,9,    333.1,2,    355.4,2,    12.99,2,     4.86,2,     0.10,2,     1.22,2,     0.66,2,   -999.0,   9,   -999.0,   9,     0.11,2,     0.12,2,     0.07,2,    1.143,2,  -0.9920,20040816, 616
  32H120040718,    50,  1,    104,      4,2,20040816, 602, 73.3880,-157.4120, 3157,     81.1,  -1.1497,  32.2896,2,-999.0000,9,    333.3,2,    358.3,2,    19.13,2,     6.74,2,     0.19,2,     1.43,2,     1.16,2,   -999.0,   9,   -999.0,   9,     0.08,2,  -999.00,9,  -999.00,9,    0.935,2,  -1.1514,20040816, 613
  32H120040718,    50,  1,    103,      3,2,20040816, 602, 73.3880,-157.4120, 3157,    101.3,  -1.3257,  32.5199,2,  32.5177,2,    315.9,2,    337.5,2,    24.10,2,     9.40,2,     0.14,2,     1.58,2,     1.05,2,   -999.0,   9,   -999.0,   9,      0.1,2,     0.05,2,     0.08,2,    0.898,2,  -1.3278,20040816, 610
  32H120040718,    50,  1,    102,      2,2,20040816, 602, 73.3880,-157.4120, 3157,    126.7,  -1.4745,  32.7732,2,  32.7691,2,    300.5,2,    321.2,2,    29.36,2,    11.31,2,     0.09,2,     1.70,2,     0.81,2,   -999.0,   9,   -999.0,   9,     0.12,2,  -999.00,9,  -999.00,9,    0.884,2,  -1.4770,20040816, 606
  32H120040718,    50,  1,    101,      1,2,20040816, 602, 73.3880,-157.4120, 3157,    151.6,  -1.4800,  33.0111,2,  32.9852,2,    291.2,2,    318.1,2,    27.56,2,    11.12,2,     0.10,2,     1.62,2,     0.33,2,   -999.0,   9,   -999.0,   9,     0.09,2,     0.04,2,     0.08,2,    0.830,2,  -1.4831,20040816, 602
  32H120040718,    50,  2,    212,     12,2,20040816, 855, 73.3880,-157.4120, 3157,    178.6,  -1.4832,  33.3788,2,  33.3671,2,    284.5,2,    323.4,2,    26.69,2,    10.00,2,     0.10,2,     1.55,2,     0.55,2,   2190.7,   2,   2303.6,   2,     0.07,2,  -999.00,9,  -999.00,9,    0.790,2,  -1.4871,20040816,1008
  32H120040718,    50,  2,    211,     11,2,20040816, 855, 73.3880,-157.4120, 3157,    203.0,  -1.2666,  33.8948,2,  33.8816,2,    270.5,2,    297.4,2,    26.26,2,    12.66,2,     0.08,2,     1.51,2,     0.02,2,   -999.0,   9,   -999.0,   9,     0.06,2,  -999.00,9,  -999.00,9,    0.777,2,  -1.2716,20040816,1003
  32H120040718,    50,  2,    210,     10,2,20040816, 855, 73.3880,-157.4120, 3157,    253.5,  -0.2417,  34.4997,2,-999.0000,9,    259.7,2,    275.2,2,    14.51,2,    12.95,2,     0.01,2,     1.09,2,        0,2,   2154.6,   2,   2316.3,   2,     0.06,2,  -999.00,9,  -999.00,9,    0.667,2,  -0.2506,20040816, 958
  32H120040718,    50,  2,    209,      9,2,20040816, 855, 73.3880,-157.4120, 3157,    305.2,   0.5576,  34.7317,2,  34.7340,2,    269.0,2,    286.6,2,     8.68,2,    12.54,2,     0.01,2,     0.92,2,        0,2,   -999.0,   9,   -999.0,   9,     0.06,2,  -999.00,9,  -999.00,9,    0.637,2,   0.5445,20040816, 953
  32H120040718,    50,  2,    208,      8,2,20040816, 855, 73.3880,-157.4120, 3157,    355.7,   0.8116,  34.8060,2,  34.8082,2,    274.7,2,    291.5,2,     7.19,2,    12.45,2,     0.01,2,     0.89,2,        0,2,   -999.0,   9,   -999.0,   9,     0.07,2,  -999.00,9,  -999.00,9,    0.606,2,   0.7954,20040816, 946
  32H120040718,    50,  2,    207,      7,2,20040816, 855, 73.3880,-157.4120, 3157,    407.3,   0.8041,  34.8310,2,  34.8330,2,    277.4,2,    293.9,2,     6.85,2,    12.45,2,     0.01,2,     0.88,2,        0,2,   -999.0,   9,   -999.0,   9,     0.06,2,  -999.00,9,  -999.00,9,    0.628,2,   0.7854,20040816, 940
  32H120040718,    50,  2,    206,      6,2,20040816, 855, 73.3880,-157.4120, 3157,    509.2,   0.6181,  34.8473,2,  34.8484,2,    278.4,2,    296.0,2,     6.75,2,    12.50,2,     0.00,2,     0.88,2,        0,2,   -999.0,   9,   -999.0,   9,     0.06,2,  -999.00,9,  -999.00,9,    0.613,2,   0.5950,20040816, 935
  32H120040718,    50,  2,    205,      5,2,20040816, 855, 73.3880,-157.4120, 3157,    610.4,   0.4568,  34.8575,2,  34.8602,2,    279.6,2,    297.1,2,     6.75,2,    12.55,2,     0.00,2,     0.89,2,        0,2,   -999.0,   9,   -999.0,   9,     0.06,2,  -999.00,9,  -999.00,9,    0.615,2,   0.4294,20040816, 928
  32H120040718,    50,  2,    204,      4,2,20040816, 855, 73.3880,-157.4120, 3157,    812.4,   0.1546,  34.8690,2,  34.8713,2,    281.1,2,    299.1,2,     6.84,2,    12.56,2,     0.00,2,     0.90,2,        0,2,   -999.0,   9,   -999.0,   9,     0.06,2,  -999.00,9,  -999.00,9,    0.591,2,   0.1187,20040816, 921
  32H120040718,    50,  2,    203,      3,2,20040816, 855, 73.3880,-157.4120, 3157,   1013.5,  -0.0706,  34.8828,2,  34.8847,2,    281.3,2,    300.6,2,     7.16,2,    12.74,2,     0.00,2,     0.91,2,        0,2,   -999.0,   9,   -999.0,   9,     0.06,2,  -999.00,9,  -999.00,9,    0.572,2,  -0.1153,20040816, 914
  32H120040718,    50,  2,    202,      2,2,20040816, 855, 73.3880,-157.4120, 3157,   1266.7,  -0.2337,  34.9008,2,  34.9032,2,    280.4,2,    299.4,2,     8.01,2,    13.03,2,     0.00,2,     0.94,2,        0,2,   -999.0,   9,   -999.0,   9,     0.06,2,  -999.00,9,  -999.00,9,    0.563,2,  -0.2908,20040816, 904
  32H120040718,    50,  2,    201,      1,2,20040816, 855, 73.3880,-157.4120, 3157,   1517.8,  -0.3488,  34.9181,2,  34.9206,2,    278.3,2,    298.1,2,     8.96,2,    13.50,2,     0.00,2,     0.97,2,        0,2,   -999.0,   9,   -999.0,   9,     0.06,2,  -999.00,9,  -999.00,9,    0.550,2,  -0.4192,20040816, 855
  32H120040718,    50,  3,    307,      7,2,20040816,1319, 73.3880,-157.4120, 3157,    107.6,  -1.4661,  32.5964,2,-999.0000,9,    302.6,2,   -999.0,9,  -999.00,9,  -999.00,9,  -999.00,9,  -999.00,9,     -999,9,   -999.0,   9,   -999.0,   9,     -999,9,  -999.00,9,  -999.00,9,    0.836,2,  -1.4682,20040816,1323
  32H120040718,    50,  3,    311,     11,2,20040816,1319, 73.3880,-157.4120, 3157,    107.7,  -1.4705,  32.5965,2,-999.0000,9,    293.4,2,   -999.0,9,  -999.00,9,  -999.00,9,  -999.00,9,  -999.00,9,     -999,9,   -999.0,   9,   -999.0,   9,     -999,9,  -999.00,9,  -999.00,9,    0.847,2,  -1.4726,20040816,1324
  32H120040718,    50,  3,    312,     12,2,20040816,1319, 73.3880,-157.4120, 3157,    107.7,  -1.4706,  32.5961,2,-999.0000,9,    293.6,2,   -999.0,9,    26.97,2,    11.12,2,     0.10,2,     1.68,2,      0.8,2,   -999.0,   9,   -999.0,   9,     0.08,2,  -999.00,9,  -999.00,9,    0.843,2,  -1.4727,20040816,1324
  32H120040718,    50,  3,    310,     10,2,20040816,1319, 73.3880,-157.4120, 3157,    107.7,  -1.4706,  32.5971,2,-999.0000,9,    293.4,2,   -999.0,9,  -999.00,9,  -999.00,9,  -999.00,9,  -999.00,9,     -999,9,   -999.0,   9,   -999.0,   9,     -999,9,  -999.00,9,  -999.00,9,    0.828,2,  -1.4727,20040816,1324
  32H120040718,    50,  3,    308,      8,2,20040816,1319, 73.3880,-157.4120, 3157,    107.7,  -1.4707,  32.5974,2,-999.0000,9,    299.1,2,   -999.0,9,  -999.00,9,  -999.00,9,  -999.00,9,  -999.00,9,     -999,9,   -999.0,   9,   -999.0,   9,     -999,9,  -999.00,9,  -999.00,9,    0.873,2,  -1.4728,20040816,1323
  32H120040718,    50,  3,    309,      9,2,20040816,1319, 73.3880,-157.4120, 3157,    107.7,  -1.4708,  32.5980,2,-999.0000,9,    294.0,2,   -999.0,9,  -999.00,9,  -999.00,9,  -999.00,9,  -999.00,9,     -999,9,   -999.0,   9,   -999.0,   9,     -999,9,  -999.00,9,  -999.00,9,    0.847,2,  -1.4729,20040816,1323
  32H120040718,    50,  3,    301,      1,2,20040816,1319, 73.3880,-157.4120, 3157,    159.0,  -1.5132,  33.1488,2,-999.0000,9,    301.6,2,   -999.0,9,    29.90,2,    10.38,2,     0.11,2,     1.69,2,      1.1,2,   -999.0,   9,   -999.0,   9,     0.14,2,  -999.00,9,  -999.00,9,    0.826,2,  -1.5165,20040816,1318
  32H120040718,    50,  3,    302,      2,2,20040816,1319, 73.3880,-157.4120, 3157,    159.1,  -1.5130,  33.1504,2,-999.0000,9,    302.2,2,   -999.0,9,  -999.00,9,  -999.00,9,  -999.00,9,  -999.00,9,     -999,9,   -999.0,   9,   -999.0,   9,     -999,9,  -999.00,9,  -999.00,9,    0.831,2,  -1.5163,20040816,1318
  32H120040718,    50,  3,    305,      5,2,20040816,1319, 73.3880,-157.4120, 3157,    159.2,  -1.5121,  33.1567,2,-999.0000,9,    303.2,2,   -999.0,9,  -999.00,9,  -999.00,9,  -999.00,9,  -999.00,9,     -999,9,   -999.0,   9,   -999.0,   9,     -999,9,  -999.00,9,  -999.00,9,    0.851,2,  -1.5154,20040816,1319
  32H120040718,    50,  3,    304,      4,2,20040816,1319, 73.3880,-157.4120, 3157,    159.2,  -1.5122,  33.1553,2,-999.0000,9,    302.9,2,   -999.0,9,  -999.00,9,  -999.00,9,  -999.00,9,  -999.00,9,     -999,9,   -999.0,   9,   -999.0,   9,     -999,9,  -999.00,9,  -999.00,9,    0.860,2,  -1.5155,20040816,1319
  32H120040718,    50,  3,    303,      3,2,20040816,1319, 73.3880,-157.4120, 3157,    159.2,  -1.5123,  33.1529,2,-999.0000,9,    302.2,2,   -999.0,9,  -999.00,9,  -999.00,9,  -999.00,9,  -999.00,9,     -999,9,   -999.0,   9,   -999.0,   9,     -999,9,  -999.00,9,  -999.00,9,    0.851,2,  -1.5156,20040816,1318
  32H120040718,    50,  3,    306,      6,2,20040816,1319, 73.3880,-157.4120, 3157,    159.3,  -1.5117,  33.1553,2,-999.0000,9,    303.0,2,   -999.0,9,  -999.00,9,  -999.00,9,  -999.00,9,  -999.00,9,     -999,9,   -999.0,   9,   -999.0,   9,     -999,9,  -999.00,9,  -999.00,9,    0.883,2,  -1.5150,20040816,1319