BOTTLE,20220815CCHSIOAMB
EXPOCODE,STNNBR,CASTNO,SAMPNO,BTLNBR,BTLNBR_FLAG_W,DATE,TIME,LATITUDE,LONGITUDE,DEPTH,CTDPRS,CTDTMP,CTDSAL,CTDSAL_FLAG_W,SALNTY,SALNTY_FLAG_W,CTDOXY,CTDOXY_FLAG_W,OXYGEN,OXYGEN_FLAG_W,SILCAT,SILCAT_FLAG_W,NITRAT,NITRAT_FLAG_W,NITRIT,NITRIT_FLAG_W,PHSPHT,PHSPHT_FLAG_W,AMMONI,AMMONI_FLAG_W,TCARBN,TCARBN_FLAG_W,ALKALI,ALKALI_FLAG_W,UREA,UREA_FLAG_W,CHLORA,CHLORA_FLAG_W,PHAEO,PHAEO_FLAG_W,FLUORO,FLUORO_FLAG_W,THETA,BTL_DATE,BTL_TIME
,,,,,,,,,,METERS,DBAR,ITS-90,PSS-78,,PSS-78,,UMOL/KG,,UMOL/KG,,UMOL/KG,,UMOL/KG,,UMOL/KG,,UMOL/KG,,UMOL/KG,,UMOL/KG,,UMOL/KG,,UMOL/KG,,UG/L,,UG/L,,VOLTS,,DEG C,,
  32H120040718,    51,  4,    410,     10,2,20040817,1639, 73.7980,-156.7220, 3688,      1.9,  -0.4432,  26.0100,2,-999.0000,9,    366.5,2,    380.3,2,     2.02,2,     0.06,2,     0.02,2,     0.60,2,     0.13,2,   -999.0,   9,   -999.0,   9,     0.05,2,     0.04,2,     0.01,2,    0.654,2,  -0.4432,20040817,1721
  32H120040718,    51,  4,    412,     12,9,20040817,1639, 73.7980,-156.7220, 3688,      1.9,  -0.4448,  26.0083,2,-999.0000,9,    366.8,2,   -999.0,9,  -999.00,9,  -999.00,9,  -999.00,9,  -999.00,9,     -999,9,   -999.0,   9,   -999.0,   9,     -999,9,  -999.00,9,  -999.00,9,    0.639,2,  -0.4448,20040817,1721
  32H120040718,    51,  4,    411,     11,2,20040817,1639, 73.7980,-156.7220, 3688,      1.9,  -0.4455,  26.0093,2,-999.0000,9,    366.9,2,   -999.0,9,  -999.00,9,  -999.00,9,  -999.00,9,  -999.00,9,     -999,9,   -999.0,   9,   -999.0,   9,     -999,9,  -999.00,9,  -999.00,9,    0.609,2,  -0.4455,20040817,1721
  32H120040718,    51,  4,    409,      9,2,20040817,1639, 73.7980,-156.7220, 3688,     13.5,  -0.6702,  28.1285,2,-999.0000,9,    380.8,2,    394.3,2,     2.33,2,     0.06,2,     0.02,2,     0.67,2,     0.13,2,   -999.0,   9,   -999.0,   9,     0.02,2,     0.06,2,     0.01,2,    0.749,2,  -0.6704,20040817,1714
  32H120040718,    51,  4,    408,      8,2,20040817,1639, 73.7980,-156.7220, 3688,     22.9,  -0.6705,  29.2590,2,-999.0000,9,    384.9,2,    398.9,2,     2.53,2,     0.06,2,     0.01,2,     0.71,2,     0.13,2,   -999.0,   9,   -999.0,   9,     0.03,2,     0.06,2,     0.01,2,    0.766,2,  -0.6709,20040817,1709
  32H120040718,    51,  4,    406,      6,2,20040817,1639, 73.7980,-156.7220, 3688,     35.4,  -1.0279,  30.1936,2,-999.0000,9,    388.9,2,   -999.0,9,  -999.00,9,  -999.00,9,  -999.00,9,  -999.00,9,     -999,9,   -999.0,   9,   -999.0,   9,     -999,9,  -999.00,9,  -999.00,9,    0.969,2,  -1.0285,20040817,1704
  32H120040718,    51,  4,    407,      7,2,20040817,1639, 73.7980,-156.7220, 3688,     35.4,  -1.0284,  30.1981,2,-999.0000,9,    388.6,2,    400.0,2,     3.15,2,     0.15,2,     0.02,2,     0.76,2,     0.12,2,   -999.0,   9,   -999.0,   9,     0.03,2,     0.15,2,     0.04,2,    0.975,2,  -1.0290,20040817,1704
  32H120040718,    51,  4,    405,      5,2,20040817,1639, 73.7980,-156.7220, 3688,     55.4,  -0.0317,  31.8135,2,-999.0000,9,    354.2,2,    361.8,2,     9.90,2,     3.39,2,     0.09,2,     1.12,2,     0.46,2,   -999.0,   9,   -999.0,   9,     0.09,2,     0.35,2,     0.13,2,    1.392,2,  -0.0334,20040817,1658
  32H120040718,    51,  4,    403,      3,2,20040817,1639, 73.7980,-156.7220, 3688,     84.7,  -1.2845,  32.2479,2,-999.0000,9,    306.9,2,   -999.0,9,  -999.00,9,  -999.00,9,  -999.00,9,  -999.00,9,     -999,9,   -999.0,   9,   -999.0,   9,     -999,9,  -999.00,9,  -999.00,9,    0.941,2,  -1.2862,20040817,1652
  32H120040718,    51,  4,    404,      4,2,20040817,1639, 73.7980,-156.7220, 3688,     84.7,  -1.2855,  32.2502,2,-999.0000,9,    307.3,2,    318.2,2,    21.96,2,     9.78,2,     0.03,2,     1.55,2,     0.11,2,   -999.0,   9,   -999.0,   9,     0.05,2,     0.08,2,     0.04,2,    0.895,2,  -1.2872,20040817,1652
  32H120040718,    51,  4,    402,      2,2,20040817,1639, 73.7980,-156.7220, 3688,    152.6,  -1.5319,  33.0414,2,-999.0000,9,    278.3,2,   -999.0,9,    31.59,2,    14.33,2,     0.03,2,     1.77,2,     0.09,2,   -999.0,   9,   -999.0,   9,     0.06,2,  -999.00,9,  -999.00,9,    0.744,2,  -1.5350,20040817,1646
  32H120040718,    51,  4,    401,      1,2,20040817,1639, 73.7980,-156.7220, 3688,    203.1,  -1.2185,  33.8601,2,-999.0000,9,    265.1,2,   -999.0,9,    27.86,2,    14.46,2,     0.03,2,     1.57,2,     0.08,2,   -999.0,   9,   -999.0,   9,     0.06,2,  -999.00,9,  -999.00,9,    0.735,2,  -1.2236,20040817,1639
  32H120040718,    51,  5,    503,      3,2,20040817,1930, 73.7980,-156.7220, 3688,     34.1,  -0.7299,  30.1761,2,-999.0000,9,    384.4,2,   -999.0,9,  -999.00,9,  -999.00,9,  -999.00,9,  -999.00,9,     -999,9,   -999.0,   9,   -999.0,   9,     -999,9,  -999.00,9,  -999.00,9,    0.992,2,  -0.7306,20040817,1936
  32H120040718,    51,  5,    504,      4,2,20040817,1930, 73.7980,-156.7220, 3688,     34.1,  -0.7372,  30.1740,2,-999.0000,9,    384.2,2,   -999.0,9,  -999.00,9,  -999.00,9,  -999.00,9,  -999.00,9,     -999,9,   -999.0,   9,   -999.0,   9,     -999,9,  -999.00,9,  -999.00,9,    0.982,2,  -0.7379,20040817,1936
  32H120040718,    51,  5,    505,      5,2,20040817,1930, 73.7980,-156.7220, 3688,     34.1,  -0.7441,  30.1723,2,-999.0000,9,    384.5,2,   -999.0,9,  -999.00,9,  -999.00,9,  -999.00,9,  -999.00,9,     -999,9,   -999.0,   9,   -999.0,   9,     -999,9,  -999.00,9,  -999.00,9,    0.975,2,  -0.7448,20040817,1937
  32H120040718,    51,  5,    508,      8,2,20040817,1930, 73.7980,-156.7220, 3688,     34.1,  -0.7478,  30.1775,2,-999.0000,9,    384.3,2,   -999.0,9,  -999.00,9,  -999.00,9,  -999.00,9,  -999.00,9,     -999,9,   -999.0,   9,   -999.0,   9,     -999,9,  -999.00,9,  -999.00,9,    0.995,2,  -0.7485,20040817,1937
  32H120040718,    51,  5,    506,      6,2,20040817,1930, 73.7980,-156.7220, 3688,     34.1,  -0.7482,  30.1734,2,-999.0000,9,    384.1,2,   -999.0,9,  -999.00,9,  -999.00,9,  -999.00,9,  -999.00,9,     -999,9,   -999.0,   9,   -999.0,   9,     -999,9,  -999.00,9,  -999.00,9,    1.005,2,  -0.7489,20040817,1937
  32H120040718,    51,  5,    509,      9,2,20040817,1930, 73.7980,-156.7220, 3688,     34.1,  -0.7487,  30.1782,2,-999.0000,9,    384.4,2,   -999.0,9,  -999.00,9,  -999.00,9,  -999.00,9,  -999.00,9,     -999,9,   -999.0,   9,   -999.0,   9,     -999,9,  -999.00,9,  -999.00,9,    1.010,2,  -0.7494,20040817,1938
  32H120040718,    51,  5,    507,      7,2,20040817,1930, 73.7980,-156.7220, 3688,     34.1,  -0.7499,  30.1755,2,-999.0000,9,    384.6,2,   -999.0,9,  -999.00,9,  -999.00,9,  -999.00,9,  -999.00,9,     -999,9,   -999.0,   9,   -999.0,   9,     -999,9,  -999.00,9,  -999.00,9,    1.006,2,  -0.7506,20040817,1937
  32H120040718,    51,  5,    510,     10,2,20040817,1930, 73.7980,-156.7220, 3688,     34.1,  -0.7552,  30.1777,2,-999.0000,9,    384.2,2,   -999.0,9,  -999.00,9,  -999.00,9,  -999.00,9,  -999.00,9,     -999,9,   -999.0,   9,   -999.0,   9,     -999,9,  -999.00,9,  -999.00,9,    0.971,2,  -0.7559,20040817,1938
  32H120040718,    51,  5,    511,     11,2,20040817,1930, 73.7980,-156.7220, 3688,     34.1,  -0.7665,  30.1760,2,-999.0000,9,    384.0,2,   -999.0,9,  -999.00,9,  -999.00,9,  -999.00,9,  -999.00,9,     -999,9,   -999.0,   9,   -999.0,   9,     -999,9,  -999.00,9,  -999.00,9,    0.990,2,  -0.7672,20040817,1938
  32H120040718,    51,  5,    512,     12,2,20040817,1930, 73.7980,-156.7220, 3688,     34.1,  -0.7790,  30.1737,2,-999.0000,9,    384.6,2,   -999.0,9,     3.02,2,     0.10,2,     0.01,2,     0.73,2,     0.12,2,   -999.0,   9,   -999.0,   9,     0.04,2,  -999.00,9,  -999.00,9,    1.010,2,  -0.7797,20040817,1938
  32H120040718,    51,  5,    501,      1,2,20040817,1930, 73.7980,-156.7220, 3688,     48.2,  -0.0047,  31.5336,2,-999.0000,9,    356.4,2,   -999.0,9,     5.92,2,     0.53,2,     0.05,2,     0.93,2,     0.19,2,   -999.0,   9,   -999.0,   9,     0.06,2,  -999.00,9,  -999.00,9,    2.074,2,  -0.0061,20040817,1929
  32H120040718,    51,  5,    502,      2,2,20040817,1930, 73.7980,-156.7220, 3688,     48.2,   0.0092,  31.5278,2,-999.0000,9,    361.9,2,   -999.0,9,  -999.00,9,  -999.00,9,  -999.00,9,  -999.00,9,     -999,9,   -999.0,   9,   -999.0,   9,     -999,9,  -999.00,9,  -999.00,9,    2.099,2,   0.0078,20040817,1930
  32H120040718,    51,  6,    608,      8,2,20040817,2146, 73.7980,-156.7220, 3688,    102.1,  -1.4218,  32.5043,2,-999.0000,9,    286.8,2,   -999.0,9,  -999.00,9,  -999.00,9,  -999.00,9,  -999.00,9,     -999,9,   -999.0,   9,   -999.0,   9,     -999,9,  -999.00,9,  -999.00,9,    0.742,2,  -1.4238,20040817,2152
  32H120040718,    51,  6,    607,      7,2,20040817,2146, 73.7980,-156.7220, 3688,    102.1,  -1.4219,  32.5044,2,-999.0000,9,    287.0,2,   -999.0,9,  -999.00,9,  -999.00,9,  -999.00,9,  -999.00,9,     -999,9,   -999.0,   9,   -999.0,   9,     -999,9,  -999.00,9,  -999.00,9,    0.750,2,  -1.4239,20040817,2151
  32H120040718,    51,  6,    609,      9,2,20040817,2146, 73.7980,-156.7220, 3688,    102.1,  -1.4223,  32.5049,2,-999.0000,9,    286.8,2,   -999.0,9,  -999.00,9,  -999.00,9,  -999.00,9,  -999.00,9,     -999,9,   -999.0,   9,   -999.0,   9,     -999,9,  -999.00,9,  -999.00,9,    0.762,2,  -1.4243,20040817,2152
  32H120040718,    51,  6,    610,     10,2,20040817,2146, 73.7980,-156.7220, 3688,    102.1,  -1.4232,  32.5055,2,-999.0000,9,    287.0,2,   -999.0,9,  -999.00,9,  -999.00,9,  -999.00,9,  -999.00,9,     -999,9,   -999.0,   9,   -999.0,   9,     -999,9,  -999.00,9,  -999.00,9,    0.764,2,  -1.4252,20040817,2152
  32H120040718,    51,  6,    612,     12,2,20040817,2146, 73.7980,-156.7220, 3688,    102.1,  -1.4233,  32.5054,2,-999.0000,9,    287.3,2,   -999.0,9,    25.38,2,    11.96,2,     0.03,2,     1.68,2,     0.09,2,   -999.0,   9,   -999.0,   9,     0.06,2,  -999.00,9,  -999.00,9,    0.744,2,  -1.4253,20040817,2153
  32H120040718,    51,  6,    611,     11,2,20040817,2146, 73.7980,-156.7220, 3688,    102.1,  -1.4235,  32.5057,2,-999.0000,9,    287.0,2,   -999.0,9,  -999.00,9,  -999.00,9,  -999.00,9,  -999.00,9,     -999,9,   -999.0,   9,   -999.0,   9,     -999,9,  -999.00,9,  -999.00,9,    0.759,2,  -1.4255,20040817,2152
  32H120040718,    51,  6,    601,      1,2,20040817,2146, 73.7980,-156.7220, 3688,    152.6,  -1.5495,  33.0498,2,-999.0000,9,    270.0,2,   -999.0,9,    34.57,2,    15.23,2,     0.02,2,     1.88,2,     0.09,2,   -999.0,   9,   -999.0,   9,     0.05,2,  -999.00,9,  -999.00,9,    0.761,2,  -1.5526,20040817,2145
  32H120040718,    51,  6,    602,      2,2,20040817,2146, 73.7980,-156.7220, 3688,    152.6,  -1.5496,  33.0518,2,-999.0000,9,    270.5,2,   -999.0,9,  -999.00,9,  -999.00,9,  -999.00,9,  -999.00,9,     -999,9,   -999.0,   9,   -999.0,   9,     -999,9,  -999.00,9,  -999.00,9,    0.768,2,  -1.5527,20040817,2145
  32H120040718,    51,  6,    603,      3,3,20040817,2146, 73.7980,-156.7220, 3688,    152.6,  -1.5497,  33.0533,2,-999.0000,9,    269.7,2,   -999.0,9,  -999.00,9,  -999.00,9,  -999.00,9,  -999.00,9,     -999,9,   -999.0,   9,   -999.0,   9,     -999,9,  -999.00,9,  -999.00,9,    0.772,2,  -1.5528,20040817,2145
  32H120040718,    51,  6,    604,      4,2,20040817,2146, 73.7980,-156.7220, 3688,    152.6,  -1.5500,  33.0551,2,-999.0000,9,    269.0,2,   -999.0,9,  -999.00,9,  -999.00,9,  -999.00,9,  -999.00,9,     -999,9,   -999.0,   9,   -999.0,   9,     -999,9,  -999.00,9,  -999.00,9,    0.813,2,  -1.5531,20040817,2146
  32H120040718,    51,  6,    605,      5,2,20040817,2146, 73.7980,-156.7220, 3688,    152.6,  -1.5501,  33.0560,2,-999.0000,9,    268.6,2,   -999.0,9,  -999.00,9,  -999.00,9,  -999.00,9,  -999.00,9,     -999,9,   -999.0,   9,   -999.0,   9,     -999,9,  -999.00,9,  -999.00,9,    0.763,2,  -1.5532,20040817,2146
  32H120040718,    51,  6,    606,      6,2,20040817,2146, 73.7980,-156.7220, 3688,    152.6,  -1.5502,  33.0572,2,-999.0000,9,    268.9,2,   -999.0,9,  -999.00,9,  -999.00,9,  -999.00,9,  -999.00,9,     -999,9,   -999.0,   9,   -999.0,   9,     -999,9,  -999.00,9,  -999.00,9,    0.762,2,  -1.5533,20040817,2146
  32H120040718,    51,  7,    701,      1,2,20040817,2245, 73.7980,-156.7220, 3688,     41.9,   0.9041,  31.1632,2,-999.0000,9,    379.6,2,   -999.0,9,  -999.00,9,  -999.00,9,  -999.00,9,  -999.00,9,     -999,9,   -999.0,   9,   -999.0,   9,     -999,9,  -999.00,9,  -999.00,9,    1.327,2,   0.9026,20040817,2242
  32H120040718,    51,  7,    702,      2,2,20040817,2245, 73.7980,-156.7220, 3688,     41.9,   0.9368,  31.1617,2,-999.0000,9,    379.7,2,   -999.0,9,     4.97,2,     0.18,2,     0.03,2,     0.79,2,     0.33,2,   -999.0,   9,   -999.0,   9,     0.09,2,  -999.00,9,  -999.00,9,    1.343,2,   0.9352,20040817,2242
  32H120040718,    51,  7,    703,      3,2,20040817,2245, 73.7980,-156.7220, 3688,     41.9,   0.9610,  31.1605,2,-999.0000,9,    379.6,2,   -999.0,9,  -999.00,9,  -999.00,9,  -999.00,9,  -999.00,9,     -999,9,   -999.0,   9,   -999.0,   9,     -999,9,  -999.00,9,  -999.00,9,    1.327,2,   0.9594,20040817,2242
  32H120040718,    51,  7,    704,      4,2,20040817,2245, 73.7980,-156.7220, 3688,     41.9,   0.9776,  31.1608,2,-999.0000,9,    379.0,2,   -999.0,9,  -999.00,9,  -999.00,9,  -999.00,9,  -999.00,9,     -999,9,   -999.0,   9,   -999.0,   9,     -999,9,  -999.00,9,  -999.00,9,    1.301,2,   0.9760,20040817,2243
  32H120040718,    51,  7,    705,      5,2,20040817,2245, 73.7980,-156.7220, 3688,     41.9,   0.9872,  31.1543,2,-999.0000,9,    377.3,2,   -999.0,9,  -999.00,9,  -999.00,9,  -999.00,9,  -999.00,9,     -999,9,   -999.0,   9,   -999.0,   9,     -999,9,  -999.00,9,  -999.00,9,    1.411,2,   0.9856,20040817,2243
  32H120040718,    51,  7,    706,      6,2,20040817,2245, 73.7980,-156.7220, 3688,     41.9,   1.0077,  31.1484,2,-999.0000,9,    380.7,2,   -999.0,9,  -999.00,9,  -999.00,9,  -999.00,9,  -999.00,9,     -999,9,   -999.0,   9,   -999.0,   9,     -999,9,  -999.00,9,  -999.00,9,    1.298,2,   1.0061,20040817,2243
  32H120040718,    51,  7,    707,      7,2,20040817,2245, 73.7980,-156.7220, 3688,     41.9,   1.0420,  31.1435,2,-999.0000,9,    384.1,2,   -999.0,9,  -999.00,9,  -999.00,9,  -999.00,9,  -999.00,9,     -999,9,   -999.0,   9,   -999.0,   9,     -999,9,  -999.00,9,  -999.00,9,    1.253,2,   1.0404,20040817,2243
  32H120040718,    51,  7,    708,      8,2,20040817,2245, 73.7980,-156.7220, 3688,     41.9,   1.0913,  31.1427,2,-999.0000,9,    382.7,2,   -999.0,9,  -999.00,9,  -999.00,9,  -999.00,9,  -999.00,9,     -999,9,   -999.0,   9,   -999.0,   9,     -999,9,  -999.00,9,  -999.00,9,    1.296,2,   1.0897,20040817,2244
  32H120040718,    51,  7,    709,      9,2,20040817,2245, 73.7980,-156.7220, 3688,     41.9,   1.1596,  31.1433,2,-999.0000,9,    381.7,2,   -999.0,9,  -999.00,9,  -999.00,9,  -999.00,9,  -999.00,9,     -999,9,   -999.0,   9,   -999.0,   9,     -999,9,  -999.00,9,  -999.00,9,    1.281,2,   1.1580,20040817,2244
  32H120040718,    51,  7,    710,     10,2,20040817,2245, 73.7980,-156.7220, 3688,     41.9,   1.2476,  31.1460,2,-999.0000,9,    380.0,2,   -999.0,9,  -999.00,9,  -999.00,9,  -999.00,9,  -999.00,9,     -999,9,   -999.0,   9,   -999.0,   9,     -999,9,  -999.00,9,  -999.00,9,    1.268,2,   1.2459,20040817,2244
  32H120040718,    51,  7,    711,     11,2,20040817,2245, 73.7980,-156.7220, 3688,     41.9,   1.3585,  31.1463,2,-999.0000,9,    378.0,2,   -999.0,9,     5.08,2,     0.23,2,     0.03,2,     0.80,2,     0.34,2,   -999.0,   9,   -999.0,   9,     0.09,2,  -999.00,9,  -999.00,9,    1.283,2,   1.3568,20040817,2244
  32H120040718,    51,  7,    712,     12,2,20040817,2245, 73.7980,-156.7220, 3688,     41.9,   1.3933,  31.1440,2,-999.0000,9,    376.2,2,   -999.0,9,  -999.00,9,  -999.00,9,  -999.00,9,  -999.00,9,     -999,9,   -999.0,   9,   -999.0,   9,     -999,9,  -999.00,9,  -999.00,9,    1.254,2,   1.3916,20040817,2245
  32H120040718,    52,  1,    112,     12,2,20040818, 846, 73.9000,-157.8540, 3809,      1.6,   0.1716,  26.0696,2,  26.0676,2,    365.2,2,    379.2,2,     2.18,2,     0.08,2,     0.01,2,     0.60,2,     0.12,2,   1787.0,   2,   1850.4,   2,     0.02,2,     0.04,2,     0.01,2,    0.742,2,   0.1716,20040818, 937
  32H120040718,    52,  1,    111,     11,2,20040818, 846, 73.9000,-157.8540, 3809,      5.8,   0.1319,  26.0693,2,-999.0000,9,    365.3,2,    380.6,2,     2.18,2,     0.04,2,     0.00,2,     0.60,2,     0.11,2,   1795.2,   2,   1899.9,   2,     0.03,2,  -999.00,9,  -999.00,9,    0.743,2,   0.1318,20040818, 933
  32H120040718,    52,  1,    110,     10,2,20040818, 846, 73.9000,-157.8540, 3809,     15.7,  -0.6703,  27.7689,2,-999.0000,9,    377.4,2,    396.4,2,     2.49,2,     0.03,2,     0.00,2,     0.67,2,     0.13,2,   1930.0,   2,   2043.6,   2,     0.03,2,     0.05,2,     0.01,2,    0.786,2,  -0.6706,20040818, 929
  32H120040718,    52,  1,    109,      9,2,20040818, 846, 73.9000,-157.8540, 3809,     30.9,  -0.7909,  29.1411,2,  29.1025,2,    380.5,2,    397.7,2,     2.60,2,     0.03,2,     0.01,2,     0.70,2,     0.12,2,   1961.0,   2,   2097.0,   2,     0.04,2,     0.05,2,     0.01,2,    0.763,2,  -0.7915,20040818, 927
  32H120040718,    52,  1,    108,      8,2,20040818, 846, 73.9000,-157.8540, 3809,     41.0,  -0.6576,  30.2998,2,-999.0000,9,    383.0,2,    401.9,2,     3.56,2,     0.03,2,     0.01,2,     0.75,2,     0.12,2,   2005.6,   2,   2153.5,   2,     0.06,2,     0.12,2,     0.02,2,    1.054,2,  -0.6585,20040818, 922
  32H120040718,    52,  1,    107,      7,2,20040818, 846, 73.9000,-157.8540, 3809,     46.1,  -0.3321,  31.0874,2,  30.9545,2,    380.6,2,    398.4,2,     5.04,2,     0.07,2,     0.01,2,     0.82,2,     0.12,2,   -999.0,   9,   -999.0,   9,     0.07,2,     0.54,2,     0.09,2,    1.536,2,  -0.3333,20040818, 917
  32H120040718,    52,  1,    106,      6,2,20040818, 846, 73.9000,-157.8540, 3809,     54.1,  -0.2080,  31.6259,2,-999.0000,9,    341.2,2,    359.0,2,     9.91,2,     3.04,2,     0.09,2,     1.10,2,     0.16,2,   2064.2,   2,   2221.4,   2,     0.07,2,     1.32,2,     0.51,2,    1.572,2,  -0.2095,20040818, 910
  32H120040718,    52,  1,    105,      5,2,20040818, 846, 73.9000,-157.8540, 3809,     60.9,  -0.6456,  31.8360,2,  31.8320,2,    329.0,2,    340.3,2,    14.57,2,     6.11,2,     0.05,2,     1.33,2,     0.21,2,   -999.0,   9,   -999.0,   9,     0.08,2,     0.34,2,     0.35,2,    1.323,2,  -0.6471,20040818, 905
  32H120040718,    52,  1,    104,      4,2,20040818, 846, 73.9000,-157.8540, 3809,     76.1,  -0.7564,  32.0844,2,-999.0000,9,    327.0,2,    336.6,2,    16.67,2,     6.94,2,     0.06,2,     1.37,2,     0.34,2,   2101.6,   2,   2227.1,   2,     0.09,2,  -999.00,9,  -999.00,9,    1.127,2,  -0.7583,20040818, 900
  32H120040718,    52,  1,    103,      3,2,20040818, 846, 73.9000,-157.8540, 3809,    101.3,  -1.3015,  32.3603,2,-999.0000,9,    301.6,2,    313.2,2,    23.09,2,    10.41,2,     0.02,2,     1.60,2,      0.1,2,   2079.5,   2,   2244.2,   2,     0.07,2,     0.03,2,     0.04,2,    0.834,2,  -1.3036,20040818, 856
  32H120040718,    52,  1,    102,      2,2,20040818, 846, 73.9000,-157.8540, 3809,    126.8,  -1.4310,  32.6573,2,-999.0000,9,    295.6,2,    313.2,2,    26.23,2,    11.24,2,     0.06,2,     1.65,2,     0.44,2,   -999.0,   9,   -999.0,   9,     0.09,2,  -999.00,9,  -999.00,9,    0.777,2,  -1.4336,20040818, 851
  32H120040718,    52,  1,    101,      1,2,20040818, 846, 73.9000,-157.8540, 3809,    152.7,  -1.4621,  32.9382,2,  32.9029,2,    311.7,2,    322.5,2,    27.70,2,    10.94,2,     0.09,2,     1.65,2,     0.59,2,   -999.0,   9,   -999.0,   9,      0.1,2,     0.02,2,     0.05,2,    0.825,2,  -1.4652,20040818, 846