BOTTLE,20220815CCHSIOAMB
EXPOCODE,STNNBR,CASTNO,SAMPNO,BTLNBR,BTLNBR_FLAG_W,DATE,TIME,LATITUDE,LONGITUDE,DEPTH,CTDPRS,CTDTMP,CTDSAL,CTDSAL_FLAG_W,SALNTY,SALNTY_FLAG_W,CTDOXY,CTDOXY_FLAG_W,OXYGEN,OXYGEN_FLAG_W,SILCAT,SILCAT_FLAG_W,NITRAT,NITRAT_FLAG_W,NITRIT,NITRIT_FLAG_W,PHSPHT,PHSPHT_FLAG_W,AMMONI,AMMONI_FLAG_W,TCARBN,TCARBN_FLAG_W,ALKALI,ALKALI_FLAG_W,UREA,UREA_FLAG_W,CHLORA,CHLORA_FLAG_W,PHAEO,PHAEO_FLAG_W,FLUORO,FLUORO_FLAG_W,THETA,BTL_DATE,BTL_TIME
,,,,,,,,,,METERS,DBAR,ITS-90,PSS-78,,PSS-78,,UMOL/KG,,UMOL/KG,,UMOL/KG,,UMOL/KG,,UMOL/KG,,UMOL/KG,,UMOL/KG,,UMOL/KG,,UMOL/KG,,UMOL/KG,,UG/L,,UG/L,,VOLTS,,DEG C,,
  32H120040718,     8,  1,    112,     12,2,20040721,1429, 69.9560,-164.3910,   32,      2.1,   9.7128,  29.9175,2,  29.8079,2,    297.7,2,    294.9,2,     8.13,2,     0.12,2,     0.00,2,     0.55,2,     0.19,2,   1973.5,   2,   2152.5,   2,     0.04,2,     0.50,2,     0.09,2,    1.435,2,   9.7126,20040721,1446
  32H120040718,     8,  1,    111,     11,2,20040721,1429, 69.9560,-164.3910,   32,      6.0,   9.6512,  29.9812,2,-999.0000,9,    299.5,2,    299.5,2,     8.00,2,     0.12,2,     0.00,2,     0.57,2,      0.2,2,   -999.0,   9,   -999.0,   9,     0.04,2,     0.43,2,     0.12,2,    1.457,2,   9.6506,20040721,1445
  32H120040718,     8,  1,    109,      9,9,20040721,1429, 69.9560,-164.3910,   32,     11.1,   7.4535,  30.3016,2,-999.0000,9,    316.1,2,   -999.0,9,  -999.00,9,  -999.00,9,  -999.00,9,  -999.00,9,     -999,9,   -999.0,   9,   -999.0,   9,     -999,9,  -999.00,9,  -999.00,9,    1.513,2,   7.4525,20040721,1441
  32H120040718,     8,  1,    108,      8,9,20040721,1429, 69.9560,-164.3910,   32,     11.1,   7.5089,  30.3077,2,-999.0000,9,    315.4,2,   -999.0,9,  -999.00,9,  -999.00,9,  -999.00,9,  -999.00,9,     -999,9,   -999.0,   9,   -999.0,   9,     -999,9,  -999.00,9,  -999.00,9,    1.525,2,   7.5079,20040721,1441
  32H120040718,     8,  1,    110,     10,2,20040721,1429, 69.9560,-164.3910,   32,     11.1,   7.5220,  30.2957,2,-999.0000,9,    315.7,2,    311.9,2,     8.69,2,     0.12,2,     0.00,2,     0.62,2,     0.19,2,   2009.3,   2,   2181.5,   2,     0.03,2,     0.43,2,     0.23,2,    1.499,2,   7.5210,20040721,1441
  32H120040718,     8,  1,    107,      7,2,20040721,1429, 69.9560,-164.3910,   32,     16.0,   6.4167,  30.8682,2,-999.0000,9,    315.2,2,    314.3,2,     7.53,2,     0.16,2,     0.01,2,     0.65,2,      0.3,2,   2001.2,   2,   2184.4,   2,     0.04,2,     0.63,2,     0.32,2,    1.641,2,   6.4154,20040721,1438
  32H120040718,     8,  1,    106,      6,2,20040721,1429, 69.9560,-164.3910,   32,     16.1,   6.4560,  30.8561,2,-999.0000,9,    315.1,2,   -999.0,9,     7.41,2,     0.11,2,     0.01,2,     0.64,2,     0.27,2,   -999.0,   9,   -999.0,   9,     0.05,2,  -999.00,9,  -999.00,9,    1.635,2,   6.4547,20040721,1437
  32H120040718,     8,  1,    105,      5,2,20040721,1429, 69.9560,-164.3910,   32,     21.4,   4.2956,  30.9663,2,-999.0000,9,    305.6,2,    307.9,2,    11.32,2,     0.38,2,     0.05,2,     0.79,2,     1.17,2,   2034.6,   2,   2195.6,   2,     0.14,2,     0.93,2,     0.44,2,    1.640,2,   4.2942,20040721,1433
  32H120040718,     8,  1,    104,      4,9,20040721,1429, 69.9560,-164.3910,   32,     21.4,   4.3388,  30.9574,2,-999.0000,9,    305.9,2,   -999.0,9,  -999.00,9,  -999.00,9,  -999.00,9,  -999.00,9,     -999,9,   -999.0,   9,   -999.0,   9,     -999,9,  -999.00,9,  -999.00,9,    1.634,2,   4.3374,20040721,1433
  32H120040718,     8,  1,    103,      3,9,20040721,1429, 69.9560,-164.3910,   32,     21.4,   4.3731,  30.9523,2,-999.0000,9,    306.5,2,   -999.0,9,  -999.00,9,  -999.00,9,  -999.00,9,  -999.00,9,     -999,9,   -999.0,   9,   -999.0,   9,     -999,9,  -999.00,9,  -999.00,9,    1.633,2,   4.3717,20040721,1433
  32H120040718,     8,  1,    101,      1,2,20040721,1429, 69.9560,-164.3910,   32,     27.7,   4.6102,  31.1381,2,  31.1309,2,    307.3,2,    307.2,2,    11.31,2,     0.41,2,     0.07,2,     0.85,2,     1.67,2,   2030.5,   2,   2196.1,   2,     0.19,2,     0.56,2,     0.58,2,    1.481,2,   4.6083,20040721,1429
  32H120040718,     8,  1,    102,      2,9,20040721,1429, 69.9560,-164.3910,   32,     27.7,   4.6248,  31.1508,2,-999.0000,9,    307.4,2,   -999.0,9,  -999.00,9,  -999.00,9,  -999.00,9,  -999.00,9,     -999,9,   -999.0,   9,   -999.0,   9,     -999,9,  -999.00,9,  -999.00,9,    1.485,2,   4.6229,20040721,1429
  32H120040718,     8,  2,    211,     11,2,20040721,1601, 69.9560,-164.3910,   32,      2.0,   9.7497,  29.8715,2,-999.0000,9,    153.6,4,    297.5,2,     8.20,2,     0.06,2,     0.00,2,     0.56,2,     0.19,2,   -999.0,   9,   -999.0,   9,     0.06,2,     0.50,2,     0.07,2,    1.343,2,   9.7495,20040721,1615
  32H120040718,     8,  2,    212,     12,2,20040721,1601, 69.9560,-164.3910,   32,      2.0,   9.7703,  29.8717,2,-999.0000,9,    151.8,4,   -999.0,9,  -999.00,9,  -999.00,9,  -999.00,9,  -999.00,9,     -999,9,   -999.0,   9,   -999.0,   9,     -999,9,  -999.00,9,  -999.00,9,    1.324,2,   9.7701,20040721,1615
  32H120040718,     8,  2,    210,     10,2,20040721,1601, 69.9560,-164.3910,   32,      5.2,   9.2541,  30.0421,2,-999.0000,9,    151.9,4,    301.9,2,     8.19,2,     0.06,2,     0.00,2,     0.57,2,     0.18,2,   -999.0,   9,   -999.0,   9,     0.05,2,     0.44,2,     0.14,2,    1.435,2,   9.2536,20040721,1613
  32H120040718,     8,  2,    209,      9,2,20040721,1601, 69.9560,-164.3910,   32,      8.5,   8.3498,  30.2111,2,-999.0000,9,    138.8,4,    310.7,2,     8.65,2,     0.06,2,     0.00,2,     0.61,2,      0.2,2,   -999.0,   9,   -999.0,   9,     0.06,2,     0.42,2,     0.21,2,    1.442,2,   8.3490,20040721,1610
  32H120040718,     8,  2,    208,      8,2,20040721,1601, 69.9560,-164.3910,   32,     12.8,   7.0377,  30.5324,2,-999.0000,9,    157.8,4,   -999.0,9,  -999.00,9,  -999.00,9,  -999.00,9,  -999.00,9,     -999,9,   -999.0,   9,   -999.0,   9,     -999,9,  -999.00,9,  -999.00,9,    1.487,2,   7.0366,20040721,1608
  32H120040718,     8,  2,    207,      7,2,20040721,1601, 69.9560,-164.3910,   32,     12.8,   7.0649,  30.5307,2,-999.0000,9,    166.3,4,    317.3,2,     6.57,2,     0.06,2,     0.01,2,     0.60,2,     0.21,2,   -999.0,   9,   -999.0,   9,     0.06,2,     0.40,2,     0.26,2,    1.477,2,   7.0638,20040721,1607
  32H120040718,     8,  2,    206,      6,2,20040721,1601, 69.9560,-164.3910,   32,     12.8,   7.1879,  30.5140,2,-999.0000,9,    194.8,4,   -999.0,9,  -999.00,9,  -999.00,9,  -999.00,9,  -999.00,9,     -999,9,   -999.0,   9,   -999.0,   9,     -999,9,  -999.00,9,  -999.00,9,    1.480,2,   7.1868,20040721,1607
  32H120040718,     8,  2,    205,      5,2,20040721,1601, 69.9560,-164.3910,   32,     19.7,   6.7987,  31.0982,2,-999.0000,9,    316.5,2,    316.0,2,     6.10,2,     0.14,2,     0.02,2,     0.59,2,     0.42,2,   -999.0,   9,   -999.0,   9,     0.07,2,     0.43,2,     0.26,2,    1.560,2,   6.7970,20040721,1605
  32H120040718,     8,  2,    204,      4,2,20040721,1601, 69.9560,-164.3910,   32,     28.0,   4.2126,  31.1347,2,-999.0000,9,    307.8,2,    311.0,2,    11.49,2,     0.36,2,     0.07,2,     0.84,2,     1.44,2,   -999.0,   9,   -999.0,   9,     0.16,2,     0.68,2,     0.40,2,    1.521,2,   4.2108,20040721,1602
  32H120040718,     8,  2,    203,      3,2,20040721,1601, 69.9560,-164.3910,   32,     28.0,   4.2187,  31.1359,2,-999.0000,9,    307.6,2,   -999.0,9,  -999.00,9,  -999.00,9,  -999.00,9,  -999.00,9,     -999,9,   -999.0,   9,   -999.0,   9,     -999,9,  -999.00,9,  -999.00,9,    1.524,2,   4.2169,20040721,1601
  32H120040718,     8,  2,    202,      2,2,20040721,1601, 69.9560,-164.3910,   32,     28.0,   4.2378,  31.1343,2,-999.0000,9,    307.1,2,   -999.0,9,  -999.00,9,  -999.00,9,  -999.00,9,  -999.00,9,     -999,9,   -999.0,   9,   -999.0,   9,     -999,9,  -999.00,9,  -999.00,9,    1.520,2,   4.2360,20040721,1601
  32H120040718,     8,  2,    201,      1,2,20040721,1601, 69.9560,-164.3910,   32,     28.0,   4.2520,  31.1260,2,-999.0000,9,    307.6,2,   -999.0,9,  -999.00,9,  -999.00,9,  -999.00,9,  -999.00,9,     -999,9,   -999.0,   9,   -999.0,   9,     -999,9,  -999.00,9,  -999.00,9,    1.533,2,   4.2502,20040721,1601
  32H120040718,     9,  1,    107,      7,2,20040722, 605, 71.1460,-159.6250,   68,      1.6,   1.0023,  27.4476,2,  27.4850,2,    536.4,2,    544.0,2,     4.99,2,     0.07,2,     0.00,2,     0.39,2,     0.16,2,   1583.4,   2,   -999.0,   5,     0.04,2,     0.80,2,     0.01,2,    1.444,2,   1.0023,20040722, 629
  32H120040718,     9,  1,    106,      6,2,20040722, 605, 71.1460,-159.6250,   68,      5.1,   0.3539,  28.3997,2,-999.0000,9,    599.0,2,    580.4,2,     4.30,2,     0.07,2,     0.00,2,     0.39,2,     0.14,2,   1599.3,   2,   -999.0,   5,     0.04,2,     0.81,2,     0.09,2,    1.524,2,   0.3538,20040722, 625
  32H120040718,     9,  1,    105,      5,2,20040722, 605, 71.1460,-159.6250,   68,      9.8,  -0.9176,  29.9996,2,-999.0000,9,    553.2,2,    550.4,2,     2.67,2,     0.06,2,     0.01,2,     0.53,2,     0.15,2,   -999.0,   9,   -999.0,   9,     0.06,2,     7.43,2,     0.13,2,    2.497,2,  -0.9178,20040722, 622
  32H120040718,     9,  1,    104,      4,2,20040722, 605, 71.1460,-159.6250,   68,     19.9,  -1.4192,  31.7648,2,-999.0000,9,    458.0,2,    472.1,2,     8.17,2,     0.19,2,     0.02,2,     0.89,2,      0.2,2,   -999.0,   9,   -999.0,   9,     0.08,2,    19.94,2,     1.00,2,    2.673,2,  -1.4195,20040722, 618
  32H120040718,     9,  1,    103,      3,2,20040722, 605, 71.1460,-159.6250,   68,     30.0,  -1.7173,  32.8443,2,-999.0000,9,    331.9,2,    335.7,2,    45.02,2,    13.97,2,     0.14,2,     1.98,2,     1.54,2,   -999.0,   9,   -999.0,   9,     0.12,2,     2.24,2,     0.54,2,    1.740,2,  -1.7178,20040722, 614
  32H120040718,     9,  1,    102,      2,2,20040722, 605, 71.1460,-159.6250,   68,     45.3,  -1.7218,  32.8502,2,-999.0000,9,    329.8,2,    333.0,2,    45.47,2,    14.19,2,     0.14,2,     2.00,2,     1.61,2,   -999.0,   9,   -999.0,   9,     0.17,2,     1.98,2,     1.02,2,    1.679,2,  -1.7226,20040722, 610
  32H120040718,     9,  1,    101,      1,2,20040722, 605, 71.1460,-159.6250,   68,     64.1,  -1.7274,  32.8617,2,  32.8612,2,    327.7,2,    330.4,2,    46.48,2,    14.59,2,     0.14,2,     2.04,2,     1.65,2,   -999.0,   9,   -999.0,   9,     0.13,2,     2.01,2,     0.53,2,    1.730,2,  -1.7285,20040722, 605
  32H120040718,    10,  1,    107,      7,9,20040722, 813, 71.1130,-159.5130,   64,      1.9,   1.3106,  25.6774,2,-999.0000,9,    427.4,2,   -999.0,9,  -999.00,9,  -999.00,9,  -999.00,9,  -999.00,9,     -999,9,   -999.0,   9,   -999.0,   9,     -999,9,  -999.00,9,  -999.00,9,    1.546,2,   1.3105,20040722, 835
  32H120040718,    10,  1,    112,     12,9,20040722, 813, 71.1130,-159.5130,   64,      1.9,   1.3372,  25.6460,2,-999.0000,9,    425.6,2,   -999.0,9,  -999.00,9,  -999.00,9,  -999.00,9,  -999.00,9,     -999,9,   -999.0,   9,   -999.0,   9,     -999,9,  -999.00,9,  -999.00,9,    1.555,2,   1.3371,20040722, 836
  32H120040718,    10,  1,    111,     11,9,20040722, 813, 71.1130,-159.5130,   64,      1.9,   1.3382,  25.6458,2,-999.0000,9,    423.5,2,   -999.0,9,  -999.00,9,  -999.00,9,  -999.00,9,  -999.00,9,     -999,9,   -999.0,   9,   -999.0,   9,     -999,9,  -999.00,9,  -999.00,9,    1.589,2,   1.3381,20040722, 836
  32H120040718,    10,  1,    109,      9,9,20040722, 813, 71.1130,-159.5130,   64,      1.9,   1.3517,  25.6168,2,-999.0000,9,    423.2,2,   -999.0,9,  -999.00,9,  -999.00,9,  -999.00,9,  -999.00,9,     -999,9,   -999.0,   9,   -999.0,   9,     -999,9,  -999.00,9,  -999.00,9,    1.545,2,   1.3516,20040722, 835
  32H120040718,    10,  1,    110,     10,9,20040722, 813, 71.1130,-159.5130,   64,      1.9,   1.3522,  25.6150,2,-999.0000,9,    422.4,2,   -999.0,9,  -999.00,9,  -999.00,9,  -999.00,9,  -999.00,9,     -999,9,   -999.0,   9,   -999.0,   9,     -999,9,  -999.00,9,  -999.00,9,    1.528,2,   1.3521,20040722, 836
  32H120040718,    10,  1,    108,      8,2,20040722, 813, 71.1130,-159.5130,   64,      1.9,   1.3527,  25.6114,2,  26.1235,2,    426.8,2,    469.0,2,     7.47,2,     0.08,2,     0.00,2,     0.48,2,     0.16,2,   1579.0,   2,   -999.0,   5,     0.02,2,     1.47,2,     0.08,2,    1.521,2,   1.3526,20040722, 835
  32H120040718,    10,  1,    106,      6,2,20040722, 813, 71.1130,-159.5130,   64,      6.7,  -0.3088,  29.0038,2,-999.0000,9,    643.5,2,    712.9,2,     2.40,2,     0.06,2,     0.01,2,     0.47,2,     0.18,2,   1582.7,   2,   1960.5,   2,     0.08,2,     6.47,2,     0.03,2,    2.381,2,  -0.3089,20040722, 833
  32H120040718,    10,  1,    105,      5,2,20040722, 813, 71.1130,-159.5130,   64,     11.7,  -1.2421,  30.5989,2,-999.0000,9,    616.5,2,    685.7,2,     2.40,2,     0.05,2,     0.03,2,     0.68,2,     0.32,2,   -999.0,   9,   -999.0,   9,     0.18,2,    22.67,2,     0.24,2,    2.865,2,  -1.2423,20040722, 829
  32H120040718,    10,  1,    104,      4,2,20040722, 813, 71.1130,-159.5130,   64,     21.6,  -1.5606,  31.9607,2,-999.0000,9,    386.4,2,    393.3,2,    34.56,2,     8.52,2,     0.13,2,     1.56,2,     0.86,2,   -999.0,   9,   -999.0,   9,     0.13,2,    17.37,2,     0.03,2,    2.494,2,  -1.5610,20040722, 824
  32H120040718,    10,  1,    103,      3,2,20040722, 813, 71.1130,-159.5130,   64,     31.9,  -1.7237,  32.7434,2,-999.0000,9,    323.6,2,    327.3,2,    49.16,2,    14.97,2,     0.24,2,     2.08,2,     2.31,2,   -999.0,   9,   -999.0,   9,     0.09,2,     0.24,2,     0.38,2,    1.191,2,  -1.7242,20040722, 820
  32H120040718,    10,  1,    102,      2,2,20040722, 813, 71.1130,-159.5130,   64,     47.1,  -1.7237,  32.7441,2,-999.0000,9,    323.9,2,    326.1,2,    49.17,2,    14.96,2,     0.24,2,     2.09,2,     2.29,2,   -999.0,   9,   -999.0,   9,     0.09,2,     0.34,2,     0.48,2,    1.182,2,  -1.7245,20040722, 817
  32H120040718,    10,  1,    101,      1,2,20040722, 813, 71.1130,-159.5130,   64,     61.1,  -1.7236,  32.7465,2,  32.7480,2,    324.4,2,    325.7,2,    49.40,2,    15.15,2,     0.24,2,     2.09,2,     2.29,2,   -999.0,   9,   -999.0,   9,     0.09,2,     0.26,2,     0.39,2,    1.141,2,  -1.7246,20040722, 813
  32H120040718,    11,  1,    111,     11,9,20040722,1007, 71.0780,-159.4260,   76,      2.0,   0.7619,  28.1637,2,-999.0000,9,    496.3,2,   -999.0,9,  -999.00,9,  -999.00,9,  -999.00,9,  -999.00,9,     -999,9,   -999.0,   9,   -999.0,   9,     -999,9,  -999.00,9,  -999.00,9,    1.538,2,   0.7618,20040722,1042
  32H120040718,    11,  1,    110,     10,9,20040722,1007, 71.0780,-159.4260,   76,      2.0,   1.2191,  27.8753,2,-999.0000,9,    420.5,2,   -999.0,9,  -999.00,9,  -999.00,9,  -999.00,9,  -999.00,9,     -999,9,   -999.0,   9,   -999.0,   9,     -999,9,  -999.00,9,  -999.00,9,    1.489,2,   1.2190,20040722,1041
  32H120040718,    11,  1,    112,     12,9,20040722,1007, 71.0780,-159.4260,   76,      2.0,   1.4961,  27.6821,2,-999.0000,9,    448.2,2,   -999.0,9,  -999.00,9,  -999.00,9,  -999.00,9,  -999.00,9,     -999,9,   -999.0,   9,   -999.0,   9,     -999,9,  -999.00,9,  -999.00,9,    1.469,2,   1.4960,20040722,1042
  32H120040718,    11,  1,    109,      9,2,20040722,1007, 71.0780,-159.4260,   76,      2.0,   1.8059,  27.4971,2,  27.5854,2,    416.9,2,    427.7,2,     9.86,2,     0.02,2,     0.02,2,     0.56,2,     0.03,2,   1709.0,   2,   1900.7,   2,     0.07,2,     0.76,2,     0.07,2,    1.431,2,   1.8058,20040722,1041
  32H120040718,    11,  1,    108,      8,2,20040722,1007, 71.0780,-159.4260,   76,      6.5,  -0.4501,  29.5443,2,-999.0000,9,    579.9,2,    587.4,2,     5.51,2,     0.01,2,     0.02,2,     0.54,2,     0.08,2,   1713.5,   2,   2010.6,   2,     0.14,2,  -999.00,9,  -999.00,9,    1.914,2,  -0.4502,20040722,1038
  32H120040718,    11,  1,    107,      7,2,20040722,1007, 71.0780,-159.4260,   76,     11.5,  -0.8112,  30.1775,2,-999.0000,9,    617.8,2,    617.3,2,     5.85,2,     0.05,2,     0.03,2,     0.62,2,     0.05,2,   -999.0,   9,   -999.0,   9,      0.1,2,     4.07,2,     0.53,2,    2.047,2,  -0.8114,20040722,1035
  32H120040718,    11,  1,    106,      6,2,20040722,1007, 71.0780,-159.4260,   76,     21.6,  -1.5188,  31.7563,2,-999.0000,9,    366.6,2,    368.1,2,    39.01,2,    12.01,2,     0.19,2,     1.66,2,     0.61,2,   -999.0,   9,   -999.0,   9,     0.13,2,     6.28,2,     1.09,2,    2.092,2,  -1.5192,20040722,1030
  32H120040718,    11,  1,    105,      5,2,20040722,1007, 71.0780,-159.4260,   76,     31.2,  -1.6264,  32.4428,2,-999.0000,9,    339.7,2,    343.8,2,    37.40,2,    10.84,2,     0.22,2,     1.82,2,     2.98,2,   -999.0,   9,   -999.0,   9,     0.27,2,     0.89,2,     0.50,2,    1.473,2,  -1.6269,20040722,1026
  32H120040718,    11,  1,    104,      4,2,20040722,1007, 71.0780,-159.4260,   76,     41.9,  -1.6650,  32.4992,2,-999.0000,9,    335.9,2,    339.0,2,    41.69,2,    12.04,2,     0.24,2,     1.90,2,     3.06,2,   -999.0,   9,   -999.0,   9,     0.27,2,     0.82,2,     0.43,2,    1.500,2,  -1.6657,20040722,1021
  32H120040718,    11,  1,    103,      3,9,20040722,1007, 71.0780,-159.4260,   76,     52.1,  -1.6809,  32.5500,2,-999.0000,9,    334.5,2,   -999.0,9,  -999.00,9,  -999.00,9,  -999.00,9,  -999.00,9,     -999,9,   -999.0,   9,   -999.0,   9,     -999,9,  -999.00,9,  -999.00,9,    1.530,2,  -1.6818,20040722,1015
  32H120040718,    11,  1,    102,      2,2,20040722,1007, 71.0780,-159.4260,   76,     62.3,  -1.6799,  32.5470,2,  32.5479,2,    335.0,2,    337.6,2,    43.61,2,    12.84,2,     0.25,2,     1.93,2,     2.69,2,   -999.0,   9,   -999.0,   9,     0.22,2,     0.60,2,     0.54,2,    1.486,2,  -1.6810,20040722,1010
  32H120040718,    11,  1,    101,      1,2,20040722,1007, 71.0780,-159.4260,   76,     73.4,  -1.6821,  32.5542,2,  32.5552,2,    334.9,2,    337.2,2,    43.94,2,    12.96,2,     0.25,2,     1.93,2,     2.61,2,   -999.0,   9,   -999.0,   9,      0.2,2,  -999.00,9,  -999.00,9,    1.470,2,  -1.6834,20040722,1007