BOTTLE,20220815CCHSIOAMB
EXPOCODE,STNNBR,CASTNO,SAMPNO,BTLNBR,BTLNBR_FLAG_W,DATE,TIME,LATITUDE,LONGITUDE,DEPTH,CTDPRS,CTDTMP,CTDSAL,CTDSAL_FLAG_W,SALNTY,SALNTY_FLAG_W,CTDOXY,CTDOXY_FLAG_W,OXYGEN,OXYGEN_FLAG_W,SILCAT,SILCAT_FLAG_W,NITRAT,NITRAT_FLAG_W,NITRIT,NITRIT_FLAG_W,PHSPHT,PHSPHT_FLAG_W,AMMONI,AMMONI_FLAG_W,TCARBN,TCARBN_FLAG_W,ALKALI,ALKALI_FLAG_W,UREA,UREA_FLAG_W,CHLORA,CHLORA_FLAG_W,PHAEO,PHAEO_FLAG_W,FLUORO,FLUORO_FLAG_W,THETA,BTL_DATE,BTL_TIME
,,,,,,,,,,METERS,DBAR,ITS-90,PSS-78,,PSS-78,,UMOL/KG,,UMOL/KG,,UMOL/KG,,UMOL/KG,,UMOL/KG,,UMOL/KG,,UMOL/KG,,UMOL/KG,,UMOL/KG,,UMOL/KG,,UG/L,,UG/L,,VOLTS,,DEG C,,
  32H120040718,    55,  5,    503,      3,2,20040820, 738, 73.2900,-160.0740, 1176,     31.5,   1.0479,  31.1151,2,-999.0000,9,    369.5,2,   -999.0,9,  -999.00,9,  -999.00,9,  -999.00,9,  -999.00,9,     -999,9,   -999.0,   9,   -999.0,   9,     -999,9,  -999.00,9,  -999.00,9,    1.517,2,   1.0467,20040820, 737
  32H120040718,    55,  5,    501,      1,2,20040820, 738, 73.2900,-160.0740, 1176,     31.5,   1.0581,  31.1311,2,-999.0000,9,    369.5,2,   -999.0,9,  -999.00,9,  -999.00,9,  -999.00,9,  -999.00,9,     -999,9,   -999.0,   9,   -999.0,   9,     -999,9,  -999.00,9,  -999.00,9,    1.335,2,   1.0569,20040820, 735
  32H120040718,    55,  5,    502,      2,2,20040820, 738, 73.2900,-160.0740, 1176,     31.5,   1.0593,  31.1307,2,-999.0000,9,    369.1,2,   -999.0,9,  -999.00,9,  -999.00,9,  -999.00,9,  -999.00,9,     -999,9,   -999.0,   9,   -999.0,   9,     -999,9,  -999.00,9,  -999.00,9,    1.395,2,   1.0581,20040820, 735
  32H120040718,    55,  5,    509,      9,2,20040820, 738, 73.2900,-160.0740, 1176,     31.5,   1.0649,  31.1072,2,-999.0000,9,    370.2,2,   -999.0,9,  -999.00,9,  -999.00,9,  -999.00,9,  -999.00,9,     -999,9,   -999.0,   9,   -999.0,   9,     -999,9,  -999.00,9,  -999.00,9,    1.397,2,   1.0637,20040820, 739
  32H120040718,    55,  5,    512,     12,2,20040820, 738, 73.2900,-160.0740, 1176,     31.5,   1.0832,  31.0939,2,-999.0000,9,    369.8,2,   -999.0,9,  -999.00,9,  -999.00,9,  -999.00,9,  -999.00,9,     -999,9,   -999.0,   9,   -999.0,   9,     -999,9,  -999.00,9,  -999.00,9,    1.363,2,   1.0820,20040820, 741
  32H120040718,    55,  5,    511,     11,2,20040820, 738, 73.2900,-160.0740, 1176,     31.5,   1.0852,  31.0901,2,-999.0000,9,    369.3,2,   -999.0,9,  -999.00,9,  -999.00,9,  -999.00,9,  -999.00,9,     -999,9,   -999.0,   9,   -999.0,   9,     -999,9,  -999.00,9,  -999.00,9,    1.345,2,   1.0840,20040820, 740
  32H120040718,    55,  5,    508,      8,2,20040820, 738, 73.2900,-160.0740, 1176,     31.5,   1.0881,  31.1225,2,-999.0000,9,    371.1,2,   -999.0,9,  -999.00,9,  -999.00,9,  -999.00,9,  -999.00,9,     -999,9,   -999.0,   9,   -999.0,   9,     -999,9,  -999.00,9,  -999.00,9,    1.335,2,   1.0869,20040820, 739
  32H120040718,    55,  5,    504,      4,2,20040820, 738, 73.2900,-160.0740, 1176,     31.5,   1.0980,  31.1342,2,-999.0000,9,    370.4,2,   -999.0,9,  -999.00,9,  -999.00,9,  -999.00,9,  -999.00,9,     -999,9,   -999.0,   9,   -999.0,   9,     -999,9,  -999.00,9,  -999.00,9,    1.450,2,   1.0968,20040820, 738
  32H120040718,    55,  5,    510,     10,2,20040820, 738, 73.2900,-160.0740, 1176,     31.5,   1.1046,  31.0806,2,-999.0000,9,    369.4,2,   -999.0,9,  -999.00,9,  -999.00,9,  -999.00,9,  -999.00,9,     -999,9,   -999.0,   9,   -999.0,   9,     -999,9,  -999.00,9,  -999.00,9,    1.349,2,   1.1034,20040820, 740
  32H120040718,    55,  5,    507,      7,2,20040820, 738, 73.2900,-160.0740, 1176,     31.5,   1.1719,  31.1474,2,-999.0000,9,    371.2,2,   -999.0,9,     6.02,2,     0.33,2,     0.05,2,     0.83,2,      0.4,2,   -999.0,   9,   -999.0,   9,     0.11,2,  -999.00,9,  -999.00,9,    1.383,2,   1.1707,20040820, 738
  32H120040718,    55,  5,    505,      5,2,20040820, 738, 73.2900,-160.0740, 1176,     31.5,   1.1755,  31.1496,2,-999.0000,9,    371.4,2,   -999.0,9,  -999.00,9,  -999.00,9,  -999.00,9,  -999.00,9,     -999,9,   -999.0,   9,   -999.0,   9,     -999,9,  -999.00,9,  -999.00,9,    1.435,2,   1.1743,20040820, 738
  32H120040718,    55,  5,    506,      6,2,20040820, 738, 73.2900,-160.0740, 1176,     31.5,   1.1926,  31.1523,2,-999.0000,9,    371.4,2,   -999.0,9,  -999.00,9,  -999.00,9,  -999.00,9,  -999.00,9,     -999,9,   -999.0,   9,   -999.0,   9,     -999,9,  -999.00,9,  -999.00,9,    1.456,2,   1.1914,20040820, 738
  32H120040718,    55,  6,    611,     11,9,20040820,1632, 73.2900,-160.0740, 1176,      1.9,   3.3366,  26.7309,2,-999.0000,9,    346.9,2,   -999.0,9,  -999.00,9,  -999.00,9,  -999.00,9,  -999.00,9,     -999,9,   -999.0,   9,   -999.0,   9,     -999,9,  -999.00,9,  -999.00,9,    0.772,2,   3.3365,20040820,1701
  32H120040718,    55,  6,    610,     10,2,20040820,1632, 73.2900,-160.0740, 1176,      1.9,   3.3513,  26.7190,2,-999.0000,9,    346.7,2,    354.0,2,     3.82,2,     0.03,2,     0.00,2,     0.56,2,     0.14,2,   -999.0,   9,   -999.0,   9,     0.12,2,     0.18,2,     0.04,2,    0.340,2,   3.3512,20040820,1701
  32H120040718,    55,  6,    612,     12,9,20040820,1632, 73.2900,-160.0740, 1176,      1.9,   3.3578,  26.7104,2,-999.0000,9,    346.8,2,   -999.0,9,  -999.00,9,  -999.00,9,  -999.00,9,  -999.00,9,     -999,9,   -999.0,   9,   -999.0,   9,     -999,9,  -999.00,9,  -999.00,9,    0.331,2,   3.3577,20040820,1701
  32H120040718,    55,  6,    609,      9,2,20040820,1632, 73.2900,-160.0740, 1176,      8.3,   0.5315,  27.6515,2,-999.0000,9,    378.0,2,    377.9,2,     3.28,2,     0.03,2,     0.00,2,     0.61,2,      0.1,2,   -999.0,   9,   -999.0,   9,     0.03,2,     0.13,2,     0.05,2,    0.940,2,   0.5313,20040820,1658
  32H120040718,    55,  6,    608,      8,2,20040820,1632, 73.2900,-160.0740, 1176,     13.7,   2.0630,  29.2863,2,-999.0000,9,    370.2,2,    377.7,2,     3.60,2,     0.03,2,     0.00,2,     0.62,2,      0.1,2,   -999.0,   9,   -999.0,   9,     0.04,2,     0.14,2,     0.04,2,    1.015,2,   2.0624,20040820,1655
  32H120040718,    55,  6,    606,      6,2,20040820,1632, 73.2900,-160.0740, 1176,     21.0,   0.1366,  30.0755,2,-999.0000,9,    382.7,2,   -999.0,9,  -999.00,9,  -999.00,9,  -999.00,9,  -999.00,9,     -999,9,   -999.0,   9,   -999.0,   9,     -999,9,  -999.00,9,  -999.00,9,    1.091,2,   0.1360,20040820,1652
  32H120040718,    55,  6,    607,      7,2,20040820,1632, 73.2900,-160.0740, 1176,     21.0,   0.1537,  30.0838,2,-999.0000,9,    381.7,2,    393.9,2,     3.70,2,     0.02,2,     0.01,2,     0.73,2,      0.1,2,   -999.0,   9,   -999.0,   9,     0.04,2,     0.14,2,     0.05,2,    1.086,2,   0.1531,20040820,1652
  32H120040718,    55,  6,    605,      5,2,20040820,1632, 73.2900,-160.0740, 1176,     32.5,   0.0659,  31.3783,2,-999.0000,9,    372.3,2,    382.7,2,     6.69,2,     0.43,2,     0.11,2,     0.91,2,     0.31,2,   -999.0,   9,   -999.0,   9,     0.07,2,     0.28,2,     0.09,2,    1.403,2,   0.0649,20040820,1649
  32H120040718,    55,  6,    604,      4,2,20040820,1632, 73.2900,-160.0740, 1176,     49.5,  -0.6763,  31.9800,2,-999.0000,9,    346.8,2,    359.8,2,    13.60,2,     4.43,2,     0.18,2,     1.25,2,     1.12,2,   -999.0,   9,   -999.0,   9,     0.11,2,     0.07,2,     0.07,2,    0.984,2,  -0.6775,20040820,1647
  32H120040718,    55,  6,    603,      3,2,20040820,1632, 73.2900,-160.0740, 1176,    103.3,  -1.5255,  32.8539,2,-999.0000,9,    308.8,2,   -999.0,9,    30.61,2,    13.09,2,     0.06,2,     1.79,2,     0.32,2,   -999.0,   9,   -999.0,   9,     0.07,2,  -999.00,9,  -999.00,9,    0.917,2,  -1.5275,20040820,1642
  32H120040718,    55,  6,    602,      2,2,20040820,1632, 73.2900,-160.0740, 1176,    153.9,  -1.6547,  33.3048,2,-999.0000,9,    298.2,2,   -999.0,9,    46.96,2,    15.96,2,     0.14,2,     2.17,2,     0.88,2,   -999.0,   9,   -999.0,   9,     0.09,2,  -999.00,9,  -999.00,9,    1.039,2,  -1.6577,20040820,1637
  32H120040718,    55,  6,    601,      1,3,20040820,1632, 73.2900,-160.0740, 1176,    207.3,  -0.1710,  34.5173,2,-999.0000,9,    269.4,2,   -999.0,9,  -999.00,9,  -999.00,9,  -999.00,9,  -999.00,9,     -999,9,   -999.0,   9,   -999.0,   9,     -999,9,  -999.00,9,  -999.00,9,    0.636,2,  -0.1783,20040820,1632
  32H120040718,    55,  7,    712,     12,2,20040820,1849, 73.2900,-160.0740, 1176,     30.7,   1.1031,  31.0931,2,-999.0000,9,    381.2,2,   -999.0,9,     5.31,2,     0.14,2,     0.03,2,     0.77,2,     0.39,2,   -999.0,   9,   -999.0,   9,     0.07,2,  -999.00,9,  -999.00,9,    1.594,2,   1.1019,20040820,1853
  32H120040718,    55,  7,    711,     11,2,20040820,1849, 73.2900,-160.0740, 1176,     30.7,   1.1215,  31.1357,2,-999.0000,9,    377.7,2,   -999.0,9,  -999.00,9,  -999.00,9,  -999.00,9,  -999.00,9,     -999,9,   -999.0,   9,   -999.0,   9,     -999,9,  -999.00,9,  -999.00,9,    1.625,2,   1.1203,20040820,1853
  32H120040718,    55,  7,    702,      2,2,20040820,1849, 73.2900,-160.0740, 1176,     30.8,   1.1853,  31.0430,2,-999.0000,9,    387.6,2,   -999.0,9,  -999.00,9,  -999.00,9,  -999.00,9,  -999.00,9,     -999,9,   -999.0,   9,   -999.0,   9,     -999,9,  -999.00,9,  -999.00,9,    1.711,2,   1.1841,20040820,1848
  32H120040718,    55,  7,    703,      3,2,20040820,1849, 73.2900,-160.0740, 1176,     30.8,   1.1872,  31.0407,2,-999.0000,9,    387.6,2,   -999.0,9,  -999.00,9,  -999.00,9,  -999.00,9,  -999.00,9,     -999,9,   -999.0,   9,   -999.0,   9,     -999,9,  -999.00,9,  -999.00,9,    1.639,2,   1.1860,20040820,1849
  32H120040718,    55,  7,    710,     10,2,20040820,1849, 73.2900,-160.0740, 1176,     30.8,   1.1918,  31.0443,2,-999.0000,9,    389.3,2,   -999.0,9,  -999.00,9,  -999.00,9,  -999.00,9,  -999.00,9,     -999,9,   -999.0,   9,   -999.0,   9,     -999,9,  -999.00,9,  -999.00,9,    1.648,2,   1.1906,20040820,1852
  32H120040718,    55,  7,    708,      8,2,20040820,1849, 73.2900,-160.0740, 1176,     30.8,   1.2204,  30.9448,2,-999.0000,9,    380.6,2,   -999.0,9,  -999.00,9,  -999.00,9,  -999.00,9,  -999.00,9,     -999,9,   -999.0,   9,   -999.0,   9,     -999,9,  -999.00,9,  -999.00,9,    1.724,2,   1.2192,20040820,1851
  32H120040718,    55,  7,    701,      1,2,20040820,1849, 73.2900,-160.0740, 1176,     30.8,   1.2329,  31.0180,2,-999.0000,9,    383.5,2,   -999.0,9,     5.74,2,     0.18,2,     0.03,2,     0.80,2,     0.54,2,   -999.0,   9,   -999.0,   9,     0.13,2,  -999.00,9,  -999.00,9,    1.742,2,   1.2317,20040820,1848
  32H120040718,    55,  7,    704,      4,2,20040820,1849, 73.2900,-160.0740, 1176,     30.8,   1.2382,  31.0120,2,-999.0000,9,    386.6,2,   -999.0,9,  -999.00,9,  -999.00,9,  -999.00,9,  -999.00,9,     -999,9,   -999.0,   9,   -999.0,   9,     -999,9,  -999.00,9,  -999.00,9,    1.743,2,   1.2370,20040820,1849
  32H120040718,    55,  7,    707,      7,2,20040820,1849, 73.2900,-160.0740, 1176,     30.8,   1.2478,  30.9549,2,-999.0000,9,    380.3,2,   -999.0,9,  -999.00,9,  -999.00,9,  -999.00,9,  -999.00,9,     -999,9,   -999.0,   9,   -999.0,   9,     -999,9,  -999.00,9,  -999.00,9,    1.762,2,   1.2466,20040820,1850
  32H120040718,    55,  7,    706,      6,2,20040820,1849, 73.2900,-160.0740, 1176,     30.8,   1.2620,  30.9639,2,-999.0000,9,    380.4,2,   -999.0,9,  -999.00,9,  -999.00,9,  -999.00,9,  -999.00,9,     -999,9,   -999.0,   9,   -999.0,   9,     -999,9,  -999.00,9,  -999.00,9,    1.689,2,   1.2608,20040820,1850
  32H120040718,    55,  7,    709,      9,2,20040820,1849, 73.2900,-160.0740, 1176,     30.8,   1.2627,  30.9502,2,-999.0000,9,    379.4,2,   -999.0,9,  -999.00,9,  -999.00,9,  -999.00,9,  -999.00,9,     -999,9,   -999.0,   9,   -999.0,   9,     -999,9,  -999.00,9,  -999.00,9,    1.619,2,   1.2615,20040820,1851
  32H120040718,    55,  7,    705,      5,2,20040820,1849, 73.2900,-160.0740, 1176,     30.8,   1.2763,  30.9786,2,-999.0000,9,    380.8,2,   -999.0,9,  -999.00,9,  -999.00,9,  -999.00,9,  -999.00,9,     -999,9,   -999.0,   9,   -999.0,   9,     -999,9,  -999.00,9,  -999.00,9,    1.721,2,   1.2751,20040820,1849
  32H120040718,    56,  1,    112,     12,2,20040822, 115, 73.2222,-160.1944,  485,    179.8,  -0.6267,  34.3208,2,-999.0000,9,    267.4,2,    275.9,2,    19.11,2,    13.35,2,     0.03,2,     1.29,2,      0.1,2,   -999.0,   9,   -999.0,   9,     0.09,2,  -999.00,9,  -999.00,9,    0.737,2,  -0.6322,20040822, 204
  32H120040718,    56,  1,    111,     11,2,20040822, 115, 73.2222,-160.1944,  485,    204.5,  -0.1047,  34.5387,2,-999.0000,9,    268.4,2,    276.4,2,    13.24,2,    12.72,2,     0.03,2,     1.08,2,      0.1,2,   2165.4,   2,   2314.2,   2,     0.09,2,  -999.00,9,  -999.00,9,    0.711,2,  -0.1120,20040822, 200
  32H120040718,    56,  1,    110,     10,2,20040822, 115, 73.2222,-160.1944,  485,    229.7,   0.3008,  34.6605,2,  34.6604,2,    272.2,2,    280.6,2,    10.41,2,    12.58,2,     0.03,2,     0.99,2,     0.09,2,   -999.0,   9,   -999.0,   9,     0.09,2,  -999.00,9,  -999.00,9,    0.661,2,   0.2917,20040822, 156
  32H120040718,    56,  1,    109,      9,2,20040822, 115, 73.2222,-160.1944,  485,    254.4,   0.5851,  34.7388,2,  34.7351,2,    277.1,2,    284.7,2,     8.74,2,    12.49,2,     0.03,2,     0.95,2,     0.08,2,   2148.8,   2,   2300.0,   2,     0.09,2,  -999.00,9,  -999.00,9,    0.687,2,   0.5743,20040822, 152
  32H120040718,    56,  1,    108,      8,2,20040822, 115, 73.2222,-160.1944,  485,    280.7,   0.6865,  34.7680,2,  34.7676,2,    279.2,2,    287.8,2,     8.00,2,    12.44,2,     0.03,2,     0.93,2,     0.08,2,   -999.0,   9,   -999.0,   9,     0.08,2,  -999.00,9,  -999.00,9,    0.590,2,   0.6742,20040822, 147
  32H120040718,    56,  1,    107,      7,2,20040822, 115, 73.2222,-160.1944,  485,    305.5,   0.7868,  34.7996,2,  34.8001,2,    281.7,2,    291.5,2,     7.48,2,    12.40,2,     0.03,2,     0.92,2,     0.09,2,   2146.2,   2,   2302.7,   2,     0.11,2,  -999.00,9,  -999.00,9,    0.642,2,   0.7731,20040822, 143
  32H120040718,    56,  1,    106,      6,2,20040822, 115, 73.2222,-160.1944,  485,    332.3,   0.8006,  34.8226,2,  34.8223,2,    283.3,2,    292.1,2,     7.37,2,    12.40,2,     0.03,2,     0.92,2,     0.09,2,   -999.0,   9,   -999.0,   9,     0.09,2,  -999.00,9,  -999.00,9,    0.633,2,   0.7856,20040822, 139
  32H120040718,    56,  1,    105,      5,2,20040822, 115, 73.2222,-160.1944,  485,    357.6,   0.7200,  34.8340,2,-999.0000,9,    281.7,2,    290.0,2,     8.64,2,    12.63,2,     0.03,2,     0.93,2,     0.09,2,   -999.0,   9,   -999.0,   9,     0.09,2,  -999.00,9,  -999.00,9,    0.599,2,   0.7040,20040822, 134
  32H120040718,    56,  1,    104,      4,3,20040822, 115, 73.2222,-160.1944,  485,    382.9,   0.7109,  34.8361,2,-999.0000,9,    282.1,2,   -999.0,9,  -999.00,9,  -999.00,9,  -999.00,9,  -999.00,9,     -999,9,   -999.0,   9,   -999.0,   9,     -999,9,  -999.00,9,  -999.00,9,    0.638,2,   0.6937,20040822, 130
  32H120040718,    56,  1,    103,      3,2,20040822, 115, 73.2222,-160.1944,  485,    406.3,   0.6861,  34.8405,2,-999.0000,9,    280.5,2,    289.4,2,     9.38,2,    12.72,2,     0.03,2,     0.94,2,     0.09,2,   2151.6,   2,   2303.3,   2,     0.09,2,  -999.00,9,  -999.00,9,    0.629,2,   0.6678,20040822, 125
  32H120040718,    56,  1,    102,      2,2,20040822, 115, 73.2222,-160.1944,  485,    454.3,   0.6040,  34.8484,2,-999.0000,9,    282.6,2,    292.3,2,     8.85,2,    12.67,2,     0.03,2,     0.93,2,     0.11,2,   2151.0,   2,   2299.9,   2,     0.29,2,  -999.00,9,  -999.00,9,    0.638,2,   0.5837,20040822, 119
  32H120040718,    56,  1,    101,      1,2,20040822, 115, 73.2222,-160.1944,  485,    475.7,   0.5923,  34.8493,2,-999.0000,9,    281.7,2,    290.8,2,     9.37,2,    12.71,2,     0.03,2,     0.94,2,     0.11,2,   -999.0,   9,   -999.0,   9,     0.17,2,  -999.00,9,  -999.00,9,    0.649,2,   0.5710,20040822, 115
  32H120040718,    56,  2,    212,     12,2,20040822, 350, 73.2222,-160.1944,  485,      2.0,   3.1605,  27.5030,2,-999.0000,9,    349.1,2,    357.5,2,     3.19,2,     0.05,2,     0.00,2,     0.54,2,     0.17,2,   1810.8,   2,   1944.7,   2,     0.06,2,     0.13,2,     0.03,2,    0.962,2,   3.1604,20040822, 432
  32H120040718,    56,  2,    211,     11,2,20040822, 350, 73.2222,-160.1944,  485,      6.6,   2.0829,  27.8281,2,-999.0000,9,    354.6,2,    359.6,2,     3.08,2,     0.05,2,     0.00,2,     0.55,2,     0.16,2,   1814.6,   2,   1951.4,   2,     0.04,2,  -999.00,9,  -999.00,9,    0.863,2,   2.0826,20040822, 429
  32H120040718,    56,  2,    210,     10,2,20040822, 350, 73.2222,-160.1944,  485,     16.5,   0.9275,  30.4333,2,  30.2900,2,    382.0,2,    393.4,2,     3.18,2,     0.04,2,     0.01,2,     0.68,2,     0.15,2,   -999.0,   9,   -999.0,   9,     0.06,2,     0.18,2,     0.05,2,    1.189,2,   0.9269,20040822, 426
  32H120040718,    56,  2,    209,      9,2,20040822, 350, 73.2222,-160.1944,  485,     21.4,  -0.0044,  30.8147,2,-999.0000,9,    385.9,2,    394.4,2,     4.14,2,     0.04,2,     0.01,2,     0.75,2,     0.15,2,   2013.2,   2,   2175.2,   2,     0.07,2,  -999.00,9,  -999.00,9,    1.249,2,  -0.0050,20040822, 423
  32H120040718,    56,  2,    208,      8,2,20040822, 350, 73.2222,-160.1944,  485,     30.9,  -0.6287,  31.6338,2,  31.6130,2,    398.8,2,    411.4,2,     4.14,2,     0.07,2,     0.02,2,     0.84,2,     0.23,2,   -999.0,   9,   -999.0,   9,     0.09,2,     0.26,2,     0.04,2,    1.298,2,  -0.6294,20040822, 420
  32H120040718,    56,  2,    207,      7,2,20040822, 350, 73.2222,-160.1944,  485,     40.4,  -0.4277,  31.9438,2,-999.0000,9,    356.1,2,    369.8,2,    11.41,2,     2.99,2,     0.21,2,     1.15,2,     1.24,2,   2054.4,   2,   2214.2,   2,     0.13,2,     0.09,2,     0.07,2,    1.039,2,  -0.4288,20040822, 415
  32H120040718,    56,  2,    206,      6,2,20040822, 350, 73.2222,-160.1944,  485,     50.6,  -0.7558,  32.1599,2,  32.1488,2,    353.6,2,    364.7,2,    15.92,2,     4.98,2,     0.21,2,     1.34,2,     1.59,2,   -999.0,   9,   -999.0,   9,     0.13,2,     0.10,2,     0.04,2,    1.093,2,  -0.7570,20040822, 412
  32H120040718,    56,  2,    205,      5,2,20040822, 350, 73.2222,-160.1944,  485,     66.6,  -1.3477,  32.4564,2,  32.4370,2,    318.5,2,    342.1,2,    21.77,2,     8.51,2,     0.18,2,     1.55,2,     1.28,2,   2123.6,   2,   2241.5,   2,     0.09,2,  -999.00,9,  -999.00,9,    0.883,2,  -1.3490,20040822, 408
  32H120040718,    56,  2,    204,      4,2,20040822, 350, 73.2222,-160.1944,  485,     81.3,  -1.4545,  32.6398,2,-999.0000,9,    305.6,2,    313.4,2,    26.05,2,    11.30,2,     0.09,2,     1.66,2,     0.43,2,   2160.0,   2,   2264.5,   2,     0.09,2,  -999.00,9,  -999.00,9,    0.783,2,  -1.4561,20040822, 405
  32H120040718,    56,  2,    203,      3,2,20040822, 350, 73.2222,-160.1944,  485,    102.1,  -1.5501,  32.9978,2,-999.0000,9,    300.6,2,    302.7,2,    32.17,2,    13.05,2,     0.08,2,     1.81,2,     0.67,2,   2188.0,   2,   2270.1,   2,     0.17,2,     0.03,2,     0.05,2,    0.860,2,  -1.5521,20040822, 400
  32H120040718,    56,  2,    202,      2,2,20040822, 350, 73.2222,-160.1944,  485,    125.4,  -1.7249,  33.2461,2,-999.0000,9,    300.2,2,    313.1,2,    49.48,2,    16.89,2,     0.13,2,     2.22,2,     0.85,2,   -999.0,   9,   -999.0,   9,      0.1,2,  -999.00,9,  -999.00,9,    1.003,2,  -1.7272,20040822, 356
  32H120040718,    56,  2,    201,      1,2,20040822, 350, 73.2222,-160.1944,  485,    150.7,  -1.5767,  33.3700,2,  33.3496,2,    296.2,2,    303.1,2,    48.96,3,    16.83,3,     0.15,3,     2.22,3,     0.84,3,   -999.0,   9,   -999.0,   9,     0.11,3,     0.12,2,     0.20,2,    1.030,2,  -1.5798,20040822, 350