BOTTLE,20220815CCHSIOAMB
EXPOCODE,STNNBR,CASTNO,SAMPNO,BTLNBR,BTLNBR_FLAG_W,DATE,TIME,LATITUDE,LONGITUDE,DEPTH,CTDPRS,CTDTMP,CTDSAL,CTDSAL_FLAG_W,SALNTY,SALNTY_FLAG_W,CTDOXY,CTDOXY_FLAG_W,OXYGEN,OXYGEN_FLAG_W,SILCAT,SILCAT_FLAG_W,NITRAT,NITRAT_FLAG_W,NITRIT,NITRIT_FLAG_W,PHSPHT,PHSPHT_FLAG_W,AMMONI,AMMONI_FLAG_W,TCARBN,TCARBN_FLAG_W,ALKALI,ALKALI_FLAG_W,UREA,UREA_FLAG_W,CHLORA,CHLORA_FLAG_W,PHAEO,PHAEO_FLAG_W,FLUORO,FLUORO_FLAG_W,THETA,BTL_DATE,BTL_TIME
,,,,,,,,,,METERS,DBAR,ITS-90,PSS-78,,PSS-78,,UMOL/KG,,UMOL/KG,,UMOL/KG,,UMOL/KG,,UMOL/KG,,UMOL/KG,,UMOL/KG,,UMOL/KG,,UMOL/KG,,UMOL/KG,,UG/L,,UG/L,,VOLTS,,DEG C,,
  32H120040718,    35,  1,    112,     12,2,20040807, 553, 72.1720,-153.9390, 1865,    177.3,  -0.0506,  34.5756,2,  34.5706,2,    267.5,2,    276.5,2,    14.47,2,    13.35,2,     0.03,2,     1.12,2,     0.01,2,   -999.0,   9,   -999.0,   9,     0.07,2,  -999.00,9,  -999.00,9,    0.695,2,  -0.0570,20040807, 707
  32H120040718,    35,  1,    111,     11,2,20040807, 553, 72.1720,-153.9390, 1865,    202.2,   0.2843,  34.6840,2,  34.6838,2,    270.6,2,    279.4,2,    11.57,2,    13.10,2,     0.02,2,     1.03,2,        0,2,   2161.1,   2,   2293.0,   2,     0.07,2,  -999.00,9,  -999.00,9,    0.676,2,   0.2763,20040807, 704
  32H120040718,    35,  1,    110,     10,2,20040807, 553, 72.1720,-153.9390, 1865,    227.9,   0.4896,  34.7386,2,-999.0000,9,    273.9,2,    282.8,2,     9.41,2,    12.84,2,     0.03,2,     0.96,2,     0.01,2,   -999.0,   9,   -999.0,   9,      0.1,2,  -999.00,9,  -999.00,9,    0.681,2,   0.4801,20040807, 700
  32H120040718,    35,  1,    109,      9,2,20040807, 553, 72.1720,-153.9390, 1865,    252.2,   0.6084,  34.7763,2,-999.0000,9,    278.0,2,    286.7,2,     8.23,2,    12.68,2,     0.02,2,     0.92,2,     0.01,2,   -999.0,   9,   -999.0,   9,     0.07,2,  -999.00,9,  -999.00,9,    0.678,2,   0.5976,20040807, 655
  32H120040718,    35,  1,    108,      8,3,20040807, 553, 72.1720,-153.9390, 1865,    303.2,   0.6719,  34.8153,2,-999.0000,9,    279.9,2,   -999.0,9,  -999.00,9,  -999.00,9,  -999.00,9,  -999.00,9,     -999,9,   -999.0,   9,   -999.0,   9,     -999,9,  -999.00,9,  -999.00,9,    0.703,2,   0.6586,20040807, 650
  32H120040718,    35,  1,    107,      7,3,20040807, 553, 72.1720,-153.9390, 1865,    353.6,   0.6201,  34.8265,2,-999.0000,9,    280.1,2,   -999.0,9,  -999.00,9,  -999.00,9,  -999.00,9,  -999.00,9,     -999,9,   -999.0,   9,   -999.0,   9,     -999,9,  -999.00,9,  -999.00,9,    0.643,2,   0.6046,20040807, 646
  32H120040718,    35,  1,    106,      6,2,20040807, 553, 72.1720,-153.9390, 1865,    405.5,   0.6002,  34.8407,2,  34.8407,2,    282.1,2,    292.3,2,     7.58,2,    12.67,2,     0.03,2,     0.91,2,        0,2,   2150.4,   2,   2320.0,   2,     0.07,2,  -999.00,9,  -999.00,9,    0.627,2,   0.5823,20040807, 642
  32H120040718,    35,  1,    105,      5,2,20040807, 553, 72.1720,-153.9390, 1865,    709.3,   0.1961,  34.8682,2,-999.0000,9,    287.0,2,    298.7,2,     6.93,2,    12.58,2,     0.01,2,     0.90,2,        0,2,   2147.5,   2,   2297.0,   2,     0.06,2,  -999.00,9,  -999.00,9,    0.641,2,   0.1652,20040807, 632
  32H120040718,    35,  1,    104,      4,2,20040807, 553, 72.1720,-153.9390, 1865,   1015.1,  -0.1096,  34.8888,2,  34.8893,2,    287.3,2,    300.0,2,     7.36,2,    12.81,2,     0.01,2,     0.92,2,        0,2,   2149.4,   2,   2303.2,   2,     0.07,2,  -999.00,9,  -999.00,9,    0.598,2,  -0.1541,20040807, 622
  32H120040718,    35,  1,    103,      3,2,20040807, 553, 72.1720,-153.9390, 1865,   1319.0,  -0.2884,  34.9100,2,-999.0000,9,    285.0,2,    299.2,2,     8.22,2,    13.22,2,     0.01,2,     0.96,2,        0,2,   -999.0,   9,   -999.0,   9,     0.07,2,  -999.00,9,  -999.00,9,    0.559,2,  -0.3479,20040807, 612
  32H120040718,    35,  1,    102,      2,2,20040807, 553, 72.1720,-153.9390, 1865,   1624.2,  -0.3878,  34.9309,2,  34.9309,2,    279.5,2,    293.9,2,    10.47,2,    13.91,2,     0.01,2,     1.01,2,        0,2,   -999.0,   9,   -999.0,   9,     0.07,2,  -999.00,9,  -999.00,9,    0.584,2,  -0.4642,20040807, 602
  32H120040718,    35,  1,    101,      1,2,20040807, 553, 72.1720,-153.9390, 1865,   1887.8,  -0.4101,  34.9462,2,  34.9464,2,    274.5,2,   -999.0,9,    13.58,2,    14.38,2,     0.01,2,     1.05,2,     0.01,2,   2150.2,   2,   2305.9,   2,     0.07,2,  -999.00,9,  -999.00,9,    0.565,2,  -0.5029,20040807, 553
  32H120040718,    35,  2,    212,     12,2,20040807, 850, 72.1720,-153.9390, 1865,      2.3,   3.5589,  27.5757,2,  27.5706,2,    340.7,2,    350.6,2,     4.90,2,     0.08,2,     0.00,2,     0.48,2,     0.08,2,   1787.0,   2,   1945.9,   2,     0.05,2,     0.30,2,     0.08,2,    1.314,2,   3.5588,20040807, 934
  32H120040718,    35,  2,    211,     11,2,20040807, 850, 72.1720,-153.9390, 1865,      6.7,   3.5661,  27.6633,2,-999.0000,9,    341.3,2,    351.9,2,     4.90,2,     0.02,2,     0.00,2,     0.49,2,     0.08,2,   -999.0,   9,   -999.0,   9,     0.04,2,  -999.00,9,  -999.00,9,    1.297,2,   3.5657,20040807, 932
  32H120040718,    35,  2,    210,     10,2,20040807, 850, 72.1720,-153.9390, 1865,     11.6,   4.1722,  30.3057,2,-999.0000,9,    352.7,2,    367.0,2,     5.75,2,     0.07,2,     0.01,2,     0.58,2,     0.11,2,   1897.6,   2,   2104.0,   2,     0.06,2,     0.47,2,     0.13,2,    1.343,2,   4.1715,20040807, 928
  32H120040718,    35,  2,    209,      9,2,20040807, 850, 72.1720,-153.9390, 1865,     21.7,   0.4227,  31.4631,2,-999.0000,9,    395.4,2,    441.7,2,     4.12,2,     0.23,2,     0.01,2,     0.77,2,     0.19,2,   1996.9,   2,   2195.8,   2,     0.07,2,     0.32,2,     0.08,2,    0.944,2,   0.4220,20040807, 925
  32H120040718,    35,  2,    208,      8,2,20040807, 850, 72.1720,-153.9390, 1865,     31.6,  -0.9971,  31.9926,2,-999.0000,9,    399.3,2,    417.3,2,     7.68,2,     1.37,2,     0.05,2,     1.00,2,     0.42,2,   2046.0,   2,   2226.9,   2,     0.11,2,     0.40,2,     0.06,2,    1.707,2,  -0.9978,20040807, 921
  32H120040718,    35,  2,    207,      7,2,20040807, 850, 72.1720,-153.9390, 1865,     42.0,  -1.0836,  32.2166,2,-999.0000,9,    344.5,2,    354.5,2,    19.05,2,     6.44,2,     0.19,2,     1.40,2,     1.29,2,   2099.7,   2,   2230.4,   2,     0.11,2,     0.85,2,     0.18,2,    1.413,2,  -1.0845,20040807, 917
  32H120040718,    35,  2,    206,      6,2,20040807, 850, 72.1720,-153.9390, 1865,     52.2,  -1.3285,  32.3675,2,-999.0000,9,    294.9,2,    306.2,2,    22.58,2,    10.87,2,     0.02,2,     1.60,2,     0.06,2,   2152.7,   2,   2250.4,   2,     0.05,2,     0.28,2,     0.09,2,    1.073,2,  -1.3295,20040807, 913
  32H120040718,    35,  2,    205,      5,2,20040807, 850, 72.1720,-153.9390, 1865,     66.9,  -1.4635,  32.5877,2,-999.0000,9,    328.3,2,    338.2,2,    29.30,2,    10.12,2,     0.20,2,     1.67,2,     1.67,2,   2135.8,   2,   2237.3,   2,      0.1,2,     0.28,2,     0.21,2,    1.052,2,  -1.4648,20040807, 909
  32H120040718,    35,  2,    204,      4,2,20040807, 850, 72.1720,-153.9390, 1865,     82.1,  -1.5591,  32.7269,2,-999.0000,9,    329.1,2,    343.6,2,    32.49,2,    10.41,2,     0.18,2,     1.72,2,     1.89,2,   2141.6,   2,   2241.1,   2,     0.12,2,  -999.00,9,  -999.00,9,    1.093,2,  -1.5606,20040807, 904
  32H120040718,    35,  2,    203,      3,2,20040807, 850, 72.1720,-153.9390, 1865,    102.3,  -1.4900,  32.9739,2,-999.0000,9,    320.3,2,    328.9,2,    29.82,2,    10.21,2,     0.11,2,     1.68,2,     1.32,2,   2178.2,   2,   2267.2,   2,     0.13,2,     0.11,2,     0.19,2,    0.962,2,  -1.4920,20040807, 900
  32H120040718,    35,  2,    202,      2,2,20040807, 850, 72.1720,-153.9390, 1865,    127.7,  -1.3627,  33.4323,2,  33.4551,2,    288.2,2,    299.9,2,    28.42,2,    12.18,2,     0.10,2,     1.62,2,      0.5,2,   -999.0,   9,   -999.0,   9,     0.09,2,  -999.00,9,  -999.00,9,    0.773,2,  -1.3655,20040807, 855
  32H120040718,    35,  2,    201,      1,2,20040807, 850, 72.1720,-153.9390, 1865,    153.0,  -0.5280,  34.3350,2,  34.3244,2,    275.7,2,    283.6,2,    19.01,2,    12.67,2,     0.12,2,     1.29,2,     0.34,2,   -999.0,   9,   -999.0,   9,     0.08,2,     0.12,2,     0.22,2,    0.799,2,  -0.5328,20040807, 850
  32H120040718,    35,  3,    309,      9,2,20040807,1510, 72.1720,-153.9390, 1865,     61.9,  -1.4482,  32.5175,2,-999.0000,9,    339.9,2,   -999.0,9,  -999.00,9,  -999.00,9,  -999.00,9,  -999.00,9,     -999,9,   -999.0,   9,   -999.0,   9,     -999,9,  -999.00,9,  -999.00,9,    1.142,2,  -1.4494,20040807,1514
  32H120040718,    35,  3,    307,      7,2,20040807,1510, 72.1720,-153.9390, 1865,     61.9,  -1.4484,  32.5143,2,-999.0000,9,    340.7,2,   -999.0,9,  -999.00,9,  -999.00,9,  -999.00,9,  -999.00,9,     -999,9,   -999.0,   9,   -999.0,   9,     -999,9,  -999.00,9,  -999.00,9,    1.142,2,  -1.4496,20040807,1514
  32H120040718,    35,  3,    310,     10,2,20040807,1510, 72.1720,-153.9390, 1865,     61.9,  -1.4499,  32.5201,2,-999.0000,9,    339.9,2,   -999.0,9,  -999.00,9,  -999.00,9,  -999.00,9,  -999.00,9,     -999,9,   -999.0,   9,   -999.0,   9,     -999,9,  -999.00,9,  -999.00,9,    1.151,2,  -1.4511,20040807,1514
  32H120040718,    35,  3,    311,     11,2,20040807,1510, 72.1720,-153.9390, 1865,     61.9,  -1.4499,  32.5201,2,-999.0000,9,    339.4,2,   -999.0,9,  -999.00,9,  -999.00,9,  -999.00,9,  -999.00,9,     -999,9,   -999.0,   9,   -999.0,   9,     -999,9,  -999.00,9,  -999.00,9,    1.130,2,  -1.4511,20040807,1515
  32H120040718,    35,  3,    312,     12,2,20040807,1510, 72.1720,-153.9390, 1865,     61.9,  -1.4507,  32.5210,2,-999.0000,9,    339.8,2,   -999.0,9,    27.99,2,     8.91,2,     0.22,2,     1.60,2,     2.19,2,   -999.0,   9,   -999.0,   9,     0.11,2,  -999.00,9,  -999.00,9,    1.126,2,  -1.4519,20040807,1515
  32H120040718,    35,  3,    308,      8,2,20040807,1510, 72.1720,-153.9390, 1865,     62.0,  -1.4483,  32.5159,2,-999.0000,9,    340.7,2,   -999.0,9,  -999.00,9,  -999.00,9,  -999.00,9,  -999.00,9,     -999,9,   -999.0,   9,   -999.0,   9,     -999,9,  -999.00,9,  -999.00,9,    1.134,2,  -1.4495,20040807,1514
  32H120040718,    35,  3,    301,      1,2,20040807,1510, 72.1720,-153.9390, 1865,    112.5,  -1.4256,  33.2544,2,-999.0000,9,    293.3,2,   -999.0,9,    28.08,2,    11.85,2,     0.09,2,     1.61,2,     0.48,2,   -999.0,   9,   -999.0,   9,     0.05,2,  -999.00,9,  -999.00,9,    0.862,2,  -1.4280,20040807,1509
  32H120040718,    35,  3,    302,      2,2,20040807,1510, 72.1720,-153.9390, 1865,    112.5,  -1.4264,  33.2532,2,-999.0000,9,    293.1,2,   -999.0,9,  -999.00,9,  -999.00,9,  -999.00,9,  -999.00,9,     -999,9,   -999.0,   9,   -999.0,   9,     -999,9,  -999.00,9,  -999.00,9,    0.830,2,  -1.4288,20040807,1509
  32H120040718,    35,  3,    303,      3,2,20040807,1510, 72.1720,-153.9390, 1865,    112.5,  -1.4272,  33.2525,2,-999.0000,9,    293.4,2,   -999.0,9,  -999.00,9,  -999.00,9,  -999.00,9,  -999.00,9,     -999,9,   -999.0,   9,   -999.0,   9,     -999,9,  -999.00,9,  -999.00,9,    0.824,2,  -1.4296,20040807,1510
  32H120040718,    35,  3,    304,      4,2,20040807,1510, 72.1720,-153.9390, 1865,    112.5,  -1.4292,  33.2506,2,-999.0000,9,    293.5,2,   -999.0,9,  -999.00,9,  -999.00,9,  -999.00,9,  -999.00,9,     -999,9,   -999.0,   9,   -999.0,   9,     -999,9,  -999.00,9,  -999.00,9,    0.775,2,  -1.4316,20040807,1510
  32H120040718,    35,  3,    305,      5,2,20040807,1510, 72.1720,-153.9390, 1865,    112.5,  -1.4307,  33.2491,2,-999.0000,9,    292.4,2,   -999.0,9,  -999.00,9,  -999.00,9,  -999.00,9,  -999.00,9,     -999,9,   -999.0,   9,   -999.0,   9,     -999,9,  -999.00,9,  -999.00,9,    0.786,2,  -1.4331,20040807,1510
  32H120040718,    35,  3,    306,      6,2,20040807,1510, 72.1720,-153.9390, 1865,    112.5,  -1.4310,  33.2488,2,-999.0000,9,    291.8,2,   -999.0,9,  -999.00,9,  -999.00,9,  -999.00,9,  -999.00,9,     -999,9,   -999.0,   9,   -999.0,   9,     -999,9,  -999.00,9,  -999.00,9,    0.843,2,  -1.4334,20040807,1510
  32H120040718,    35,  4,    404,      4,2,20040807,1607, 72.1720,-153.9390, 1865,     28.5,  -0.4875,  31.9184,2,-999.0000,9,    373.0,2,   -999.0,9,  -999.00,9,  -999.00,9,  -999.00,9,  -999.00,9,     -999,9,   -999.0,   9,   -999.0,   9,     -999,9,  -999.00,9,  -999.00,9,    1.718,2,  -0.4882,20040807,1607
  32H120040718,    35,  4,    406,      6,2,20040807,1607, 72.1720,-153.9390, 1865,     28.5,  -0.4979,  31.9175,2,-999.0000,9,    372.5,2,   -999.0,9,  -999.00,9,  -999.00,9,  -999.00,9,  -999.00,9,     -999,9,   -999.0,   9,   -999.0,   9,     -999,9,  -999.00,9,  -999.00,9,    1.711,2,  -0.4986,20040807,1608
  32H120040718,    35,  4,    407,      7,2,20040807,1607, 72.1720,-153.9390, 1865,     28.5,  -0.5154,  31.9202,2,-999.0000,9,    372.1,2,   -999.0,9,  -999.00,9,  -999.00,9,  -999.00,9,  -999.00,9,     -999,9,   -999.0,   9,   -999.0,   9,     -999,9,  -999.00,9,  -999.00,9,    1.904,2,  -0.5161,20040807,1608
  32H120040718,    35,  4,    408,      8,2,20040807,1607, 72.1720,-153.9390, 1865,     28.5,  -0.5299,  31.9214,2,-999.0000,9,    372.4,2,   -999.0,9,  -999.00,9,  -999.00,9,  -999.00,9,  -999.00,9,     -999,9,   -999.0,   9,   -999.0,   9,     -999,9,  -999.00,9,  -999.00,9,    1.865,2,  -0.5306,20040807,1609
  32H120040718,    35,  4,    412,     12,2,20040807,1607, 72.1720,-153.9390, 1865,     28.5,  -0.5311,  31.9322,2,-999.0000,9,    373.2,2,   -999.0,9,  -999.00,9,  -999.00,9,  -999.00,9,  -999.00,9,     -999,9,   -999.0,   9,   -999.0,   9,     -999,9,  -999.00,9,  -999.00,9,    2.053,2,  -0.5318,20040807,1611
  32H120040718,    35,  4,    411,     11,2,20040807,1607, 72.1720,-153.9390, 1865,     28.5,  -0.5339,  31.9316,2,-999.0000,9,    373.7,2,   -999.0,9,  -999.00,9,  -999.00,9,  -999.00,9,  -999.00,9,     -999,9,   -999.0,   9,   -999.0,   9,     -999,9,  -999.00,9,  -999.00,9,    1.991,2,  -0.5346,20040807,1610
  32H120040718,    35,  4,    409,      9,2,20040807,1607, 72.1720,-153.9390, 1865,     28.5,  -0.5406,  31.9287,2,-999.0000,9,    373.9,2,   -999.0,9,  -999.00,9,  -999.00,9,  -999.00,9,  -999.00,9,     -999,9,   -999.0,   9,   -999.0,   9,     -999,9,  -999.00,9,  -999.00,9,    2.020,2,  -0.5413,20040807,1610
  32H120040718,    35,  4,    410,     10,2,20040807,1607, 72.1720,-153.9390, 1865,     28.5,  -0.5407,  31.9285,2,-999.0000,9,    373.6,2,   -999.0,9,  -999.00,9,  -999.00,9,  -999.00,9,  -999.00,9,     -999,9,   -999.0,   9,   -999.0,   9,     -999,9,  -999.00,9,  -999.00,9,    2.040,2,  -0.5414,20040807,1610
  32H120040718,    35,  4,    402,      2,2,20040807,1607, 72.1720,-153.9390, 1865,     28.6,  -0.4763,  31.9188,2,-999.0000,9,    371.2,2,   -999.0,9,  -999.00,9,  -999.00,9,  -999.00,9,  -999.00,9,     -999,9,   -999.0,   9,   -999.0,   9,     -999,9,  -999.00,9,  -999.00,9,    1.667,2,  -0.4770,20040807,1606
  32H120040718,    35,  4,    401,      1,2,20040807,1607, 72.1720,-153.9390, 1865,     28.6,  -0.4772,  31.9190,2,-999.0000,9,    370.1,2,   -999.0,9,     4.74,2,     0.63,2,     0.02,2,     0.95,2,     0.41,2,   -999.0,   9,   -999.0,   9,     0.09,2,  -999.00,9,  -999.00,9,    1.520,2,  -0.4779,20040807,1606
  32H120040718,    35,  4,    403,      3,2,20040807,1607, 72.1720,-153.9390, 1865,     28.6,  -0.4889,  31.9196,2,-999.0000,9,    373.0,2,   -999.0,9,  -999.00,9,  -999.00,9,  -999.00,9,  -999.00,9,     -999,9,   -999.0,   9,   -999.0,   9,     -999,9,  -999.00,9,  -999.00,9,    1.801,2,  -0.4896,20040807,1607
  32H120040718,    35,  4,    405,      5,2,20040807,1607, 72.1720,-153.9390, 1865,     28.6,  -0.4894,  31.9183,2,-999.0000,9,    373.2,2,   -999.0,9,  -999.00,9,  -999.00,9,  -999.00,9,  -999.00,9,     -999,9,   -999.0,   9,   -999.0,   9,     -999,9,  -999.00,9,  -999.00,9,    1.639,2,  -0.4901,20040807,1607
  32H120040718,    35,  5,    510,     10,9,20040807,1733, 72.1720,-153.9390, 1865,      2.0,   3.6017,  27.5998,2,-999.0000,9,    339.2,2,   -999.0,9,  -999.00,9,  -999.00,9,  -999.00,9,  -999.00,9,     -999,9,   -999.0,   9,   -999.0,   9,     -999,9,  -999.00,9,  -999.00,9,    1.420,2,   3.6016,20040807,1747
  32H120040718,    35,  5,    511,     11,9,20040807,1733, 72.1720,-153.9390, 1865,      2.0,   3.6017,  27.6041,2,-999.0000,9,    339.4,2,   -999.0,9,  -999.00,9,  -999.00,9,  -999.00,9,  -999.00,9,     -999,9,   -999.0,   9,   -999.0,   9,     -999,9,  -999.00,9,  -999.00,9,    1.450,2,   3.6016,20040807,1748
  32H120040718,    35,  5,    508,      8,2,20040807,1733, 72.1720,-153.9390, 1865,      2.0,   3.6025,  27.5888,2,-999.0000,9,    338.9,2,    351.2,2,     4.76,2,     0.02,2,     0.00,2,     0.47,2,     0.19,2,   -999.0,   9,   -999.0,   9,     0.03,2,     0.47,2,     0.06,2,    1.465,2,   3.6024,20040807,1747
  32H120040718,    35,  5,    509,      9,9,20040807,1733, 72.1720,-153.9390, 1865,      2.1,   3.6031,  27.5899,2,-999.0000,9,    339.1,2,   -999.0,9,  -999.00,9,  -999.00,9,  -999.00,9,  -999.00,9,     -999,9,   -999.0,   9,   -999.0,   9,     -999,9,  -999.00,9,  -999.00,9,    1.486,2,   3.6030,20040807,1747
  32H120040718,    35,  5,    512,     12,9,20040807,1733, 72.1720,-153.9390, 1865,      2.1,   3.6045,  27.6025,2,-999.0000,9,    339.4,2,   -999.0,9,  -999.00,9,  -999.00,9,  -999.00,9,  -999.00,9,     -999,9,   -999.0,   9,   -999.0,   9,     -999,9,  -999.00,9,  -999.00,9,    1.451,2,   3.6044,20040807,1748
  32H120040718,    35,  5,    507,      7,2,20040807,1733, 72.1720,-153.9390, 1865,      6.1,   3.5767,  27.6988,2,-999.0000,9,    339.9,2,    352.5,2,     4.76,2,     0.02,2,     0.00,2,     0.47,2,     0.25,2,   -999.0,   9,   -999.0,   9,      0.1,2,     0.46,2,     0.07,2,    1.474,2,   3.5764,20040807,1744
  32H120040718,    35,  5,    506,      6,2,20040807,1733, 72.1720,-153.9390, 1865,     10.1,   3.6547,  29.5511,2,-999.0000,9,    362.8,2,    373.9,2,     4.42,2,     0.01,2,     0.00,2,     0.51,2,      0.2,2,   -999.0,   9,   -999.0,   9,     0.04,2,     0.61,2,     0.12,2,    1.431,2,   3.6541,20040807,1741
  32H120040718,    35,  5,    505,      5,2,20040807,1733, 72.1720,-153.9390, 1865,     15.1,   3.9459,  30.5023,2,-999.0000,9,    358.4,2,    370.2,2,     5.70,2,     0.07,2,     0.00,2,     0.57,2,     0.21,2,   -999.0,   9,   -999.0,   9,     0.04,2,     0.41,2,     0.14,2,    1.460,2,   3.9450,20040807,1739
  32H120040718,    35,  5,    504,      4,2,20040807,1733, 72.1720,-153.9390, 1865,     23.3,   0.0585,  31.6001,2,-999.0000,9,    396.5,2,    429.5,2,     3.87,2,     0.11,2,     0.00,2,     0.73,2,     0.28,2,   -999.0,   9,   -999.0,   9,     0.05,2,     0.43,2,     0.18,2,    1.144,2,   0.0578,20040807,1736
  32H120040718,    35,  5,    501,      1,9,20040807,1733, 72.1720,-153.9390, 1865,     35.2,  -0.7980,  32.0660,2,-999.0000,9,    364.8,2,   -999.0,9,  -999.00,9,  -999.00,9,  -999.00,9,  -999.00,9,     -999,9,   -999.0,   9,   -999.0,   9,     -999,9,  -999.00,9,  -999.00,9,    1.381,2,  -0.7988,20040807,1733
  32H120040718,    35,  5,    503,      3,2,20040807,1733, 72.1720,-153.9390, 1865,     35.3,  -0.7924,  32.0669,2,-999.0000,9,    364.8,2,    384.5,2,    12.40,2,     3.51,2,     0.12,2,     1.16,2,     1.24,2,   -999.0,   9,   -999.0,   9,      0.1,2,     0.71,2,     0.12,2,    1.329,2,  -0.7932,20040807,1733
  32H120040718,    35,  5,    502,      2,9,20040807,1733, 72.1720,-153.9390, 1865,     35.3,  -0.7957,  32.0666,2,-999.0000,9,    364.4,2,   -999.0,9,  -999.00,9,  -999.00,9,  -999.00,9,  -999.00,9,     -999,9,   -999.0,   9,   -999.0,   9,     -999,9,  -999.00,9,  -999.00,9,    1.344,2,  -0.7965,20040807,1733