BOTTLE,20220815CCHSIOAMB
EXPOCODE,STNNBR,CASTNO,SAMPNO,BTLNBR,BTLNBR_FLAG_W,DATE,TIME,LATITUDE,LONGITUDE,DEPTH,CTDPRS,CTDTMP,CTDSAL,CTDSAL_FLAG_W,SALNTY,SALNTY_FLAG_W,CTDOXY,CTDOXY_FLAG_W,OXYGEN,OXYGEN_FLAG_W,SILCAT,SILCAT_FLAG_W,NITRAT,NITRAT_FLAG_W,NITRIT,NITRIT_FLAG_W,PHSPHT,PHSPHT_FLAG_W,AMMONI,AMMONI_FLAG_W,TCARBN,TCARBN_FLAG_W,ALKALI,ALKALI_FLAG_W,UREA,UREA_FLAG_W,CHLORA,CHLORA_FLAG_W,PHAEO,PHAEO_FLAG_W,FLUORO,FLUORO_FLAG_W,THETA,BTL_DATE,BTL_TIME
,,,,,,,,,,METERS,DBAR,ITS-90,PSS-78,,PSS-78,,UMOL/KG,,UMOL/KG,,UMOL/KG,,UMOL/KG,,UMOL/KG,,UMOL/KG,,UMOL/KG,,UMOL/KG,,UMOL/KG,,UMOL/KG,,UG/L,,UG/L,,VOLTS,,DEG C,,
  32H120040718,    12,  1,    112,     12,9,20040722,1228, 71.0540,-159.2890,   75,      2.0,   4.4940,  29.5442,2,-999.0000,9,    365.2,2,   -999.0,9,  -999.00,9,  -999.00,9,  -999.00,9,  -999.00,9,     -999,9,   -999.0,   9,   -999.0,   9,     -999,9,  -999.00,9,  -999.00,9,    1.584,2,   4.4939,20040722,1302
  32H120040718,    12,  1,    110,     10,2,20040722,1228, 71.0540,-159.2890,   75,      2.1,   4.5396,  29.5067,2,  29.5631,2,    374.2,2,    374.4,2,     7.53,2,    -0.01,2,     0.01,2,     0.62,2,     0.01,2,   1861.4,   2,   2043.4,   2,     0.09,2,     0.88,2,     0.04,2,    1.582,2,   4.5395,20040722,1301
  32H120040718,    12,  1,    111,     11,9,20040722,1228, 71.0540,-159.2890,   75,      2.1,   4.8580,  29.4804,2,-999.0000,9,    363.0,2,   -999.0,9,  -999.00,9,  -999.00,9,  -999.00,9,  -999.00,9,     -999,9,   -999.0,   9,   -999.0,   9,     -999,9,  -999.00,9,  -999.00,9,    1.579,2,   4.8579,20040722,1301
  32H120040718,    12,  1,    109,      9,2,20040722,1228, 71.0540,-159.2890,   75,      6.0,   4.2157,  29.6246,2,-999.0000,9,    373.6,2,    380.6,2,     6.95,2,    -0.01,2,     0.01,2,     0.63,2,     0.01,2,   1871.5,   2,   2060.8,   2,     0.09,2,  -999.00,9,  -999.00,9,    1.628,2,   4.2153,20040722,1259
  32H120040718,    12,  1,    108,      8,2,20040722,1228, 71.0540,-159.2890,   75,     11.0,  -0.7210,  30.9050,2,-999.0000,9,    490.4,2,    482.8,2,     8.30,2,    -0.01,2,     0.01,2,     0.64,2,     0.02,2,   -999.0,   9,   -999.0,   9,     0.11,2,     3.41,2,     0.38,2,    2.407,2,  -0.7212,20040722,1255
  32H120040718,    12,  1,    107,      7,2,20040722,1228, 71.0540,-159.2890,   75,     15.9,   0.2607,  31.9760,2,-999.0000,9,    369.9,2,    412.0,2,    12.28,2,     0.73,2,     0.07,2,     0.93,2,     0.34,2,   -999.0,   9,   -999.0,   9,     0.17,2,     9.31,2,     0.03,2,    2.248,2,   0.2602,20040722,1252
  32H120040718,    12,  1,    106,      6,9,20040722,1228, 71.0540,-159.2890,   75,     21.0,   0.3096,  31.9856,2,-999.0000,9,    364.5,2,   -999.0,9,  -999.00,9,  -999.00,9,  -999.00,9,  -999.00,9,     -999,9,   -999.0,   9,   -999.0,   9,     -999,9,  -999.00,9,  -999.00,9,    1.950,2,   0.3089,20040722,1249
  32H120040718,    12,  1,    105,      5,2,20040722,1228, 71.0540,-159.2890,   75,     31.1,   0.3905,  32.0023,2,-999.0000,9,    361.7,2,    364.4,2,     8.74,2,     0.72,2,     0.08,2,     1.00,2,     0.77,2,   -999.0,   9,   -999.0,   9,      0.2,2,     1.12,2,     0.35,2,    1.621,2,   0.3894,20040722,1244
  32H120040718,    12,  1,    104,      4,2,20040722,1228, 71.0540,-159.2890,   75,     41.2,   0.3949,  32.0016,2,-999.0000,9,    362.1,2,    364.2,2,     8.63,2,     0.72,2,     0.08,2,     1.01,2,     0.77,2,   -999.0,   9,   -999.0,   9,     0.18,2,     0.85,2,     0.36,2,    1.659,2,   0.3935,20040722,1240
  32H120040718,    12,  1,    103,      3,2,20040722,1228, 71.0540,-159.2890,   75,     51.5,   0.3962,  32.0061,2,-999.0000,9,    361.4,2,    363.7,2,     8.74,2,     0.81,2,     0.08,2,     1.01,2,      0.8,2,   -999.0,   9,   -999.0,   9,     0.19,2,     0.76,2,     0.30,2,    1.589,2,   0.3944,20040722,1237
  32H120040718,    12,  1,    102,      2,2,20040722,1228, 71.0540,-159.2890,   75,     62.5,   0.0879,  32.0275,2,  32.0303,2,    361.7,2,    364.4,2,    10.44,2,     1.24,2,     0.11,2,     1.07,2,     1.02,2,   -999.0,   9,   -999.0,   9,     0.18,2,     1.26,2,     1.16,2,    1.584,2,   0.0859,20040722,1232
  32H120040718,    12,  1,    101,      1,2,20040722,1228, 71.0540,-159.2890,   75,     72.0,   0.0164,  32.0323,2,  32.0309,2,    362.3,2,   -999.0,9,    10.54,2,     1.28,2,     0.11,2,     1.08,2,     1.02,2,   -999.0,   9,   -999.0,   9,     0.19,2,     1.17,2,     1.24,2,    1.582,2,   0.0142,20040722,1228
  32H120040718,    13,  1,    107,      7,2,20040722,1427, 71.0280,-159.2210,   60,      2.5,   5.4634,  30.1223,2,  29.9243,2,    339.4,2,    343.4,2,     6.45,2,     0.01,2,     0.01,2,     0.61,2,     0.01,2,   1897.9,   2,   2073.4,   2,     0.08,2,     0.59,2,     0.09,2,    1.375,2,   5.4632,20040722,1447
  32H120040718,    13,  1,    112,     12,9,20040722,1427, 71.0280,-159.2210,   60,      2.5,   5.4970,  30.2467,2,-999.0000,9,    337.3,2,   -999.0,9,  -999.00,9,  -999.00,9,  -999.00,9,  -999.00,9,     -999,9,   -999.0,   9,   -999.0,   9,     -999,9,  -999.00,9,  -999.00,9,    1.351,2,   5.4968,20040722,1447
  32H120040718,    13,  1,    108,      8,9,20040722,1427, 71.0280,-159.2210,   60,      2.5,   5.5020,  30.2281,2,-999.0000,9,    338.5,2,   -999.0,9,  -999.00,9,  -999.00,9,  -999.00,9,  -999.00,9,     -999,9,   -999.0,   9,   -999.0,   9,     -999,9,  -999.00,9,  -999.00,9,    1.361,2,   5.5018,20040722,1447
  32H120040718,    13,  1,    111,     11,9,20040722,1427, 71.0280,-159.2210,   60,      2.5,   5.5153,  30.2795,2,-999.0000,9,    336.7,2,   -999.0,9,  -999.00,9,  -999.00,9,  -999.00,9,  -999.00,9,     -999,9,   -999.0,   9,   -999.0,   9,     -999,9,  -999.00,9,  -999.00,9,    1.377,2,   5.5151,20040722,1447
  32H120040718,    13,  1,    109,      9,9,20040722,1427, 71.0280,-159.2210,   60,      2.5,   5.5215,  30.2770,2,-999.0000,9,    337.4,2,   -999.0,9,  -999.00,9,  -999.00,9,  -999.00,9,  -999.00,9,     -999,9,   -999.0,   9,   -999.0,   9,     -999,9,  -999.00,9,  -999.00,9,    1.370,2,   5.5213,20040722,1447
  32H120040718,    13,  1,    110,     10,9,20040722,1427, 71.0280,-159.2210,   60,      2.5,   5.5259,  30.2908,2,-999.0000,9,    337.0,2,   -999.0,9,  -999.00,9,  -999.00,9,  -999.00,9,  -999.00,9,     -999,9,   -999.0,   9,   -999.0,   9,     -999,9,  -999.00,9,  -999.00,9,    1.373,2,   5.5257,20040722,1447
  32H120040718,    13,  1,    106,      6,2,20040722,1427, 71.0280,-159.2210,   60,      6.2,   5.6411,  30.5145,2,-999.0000,9,    327.2,2,    334.0,2,     4.49,2,     0.01,2,     0.01,2,     0.59,2,     0.01,2,   1935.4,   2,   2118.4,   2,     0.07,2,  -999.00,9,  -999.00,9,    1.342,2,   5.6406,20040722,1445
  32H120040718,    13,  1,    105,      5,2,20040722,1427, 71.0280,-159.2210,   60,     11.2,   5.0487,  31.1708,2,-999.0000,9,    341.1,2,    337.6,2,     3.92,2,     0.00,2,     0.01,2,     0.57,2,     0.01,2,   -999.0,   9,   -999.0,   9,     0.07,2,     0.35,2,     0.05,2,    1.636,2,   5.0479,20040722,1441
  32H120040718,    13,  1,    104,      4,2,20040722,1427, 71.0280,-159.2210,   60,     21.3,   4.0275,  31.6446,2,-999.0000,9,    339.4,2,    340.7,2,     4.71,2,     0.07,2,     0.03,2,     0.60,2,     0.17,2,   -999.0,   9,   -999.0,   9,     0.09,2,     0.28,2,     0.14,2,    1.502,2,   4.0261,20040722,1438
  32H120040718,    13,  1,    103,      3,2,20040722,1427, 71.0280,-159.2210,   60,     31.1,   3.9933,  31.6544,2,-999.0000,9,    339.0,2,    340.6,2,     4.82,2,     0.07,2,     0.03,2,     0.61,2,     0.19,2,   -999.0,   9,   -999.0,   9,     0.09,2,     0.53,2,     0.31,2,    1.478,2,   3.9913,20040722,1435
  32H120040718,    13,  1,    102,      2,2,20040722,1427, 71.0280,-159.2210,   60,     41.5,   3.8507,  31.6654,2,-999.0000,9,    339.8,2,    341.8,2,     5.04,2,     0.11,2,     0.04,2,     0.63,2,     0.23,2,   -999.0,   9,   -999.0,   9,     0.13,2,     0.49,2,     0.31,2,    1.466,2,   3.8481,20040722,1431
  32H120040718,    13,  1,    101,      1,2,20040722,1427, 71.0280,-159.2210,   60,     57.8,   3.1131,  31.7280,2,  31.7265,2,    345.0,2,    345.8,2,     5.37,2,     0.15,2,     0.05,2,     0.67,2,     0.28,2,   -999.0,   9,   -999.0,   9,     0.11,2,     0.56,2,     0.34,2,    1.464,2,   3.1098,20040722,1427
  32H120040718,    14,  1,    112,     12,2,20040722,1608, 71.0690,-159.4620,   75,      1.8,   2.3231,  28.1901,2,-999.0000,9,    411.9,2,   -999.0,9,  -999.00,9,  -999.00,9,  -999.00,9,  -999.00,9,     -999,9,   -999.0,   9,   -999.0,   9,     -999,9,  -999.00,9,  -999.00,9,    1.071,2,   2.3230,20040722,1633
  32H120040718,    14,  1,    111,     11,2,20040722,1608, 71.0690,-159.4620,   75,      1.8,   2.3292,  28.1879,2,-999.0000,9,    411.8,2,    415.5,2,    10.18,2,     0.05,2,     0.01,2,     0.60,2,      0.1,2,   1747.2,   2,   1942.5,   2,     0.06,2,     0.54,2,     0.09,2,    1.120,2,   2.3291,20040722,1633
  32H120040718,    14,  1,    110,     10,2,20040722,1608, 71.0690,-159.4620,   75,      4.4,   0.6072,  28.8083,2,-999.0000,9,    492.6,2,    496.7,2,     7.20,2,     0.05,2,     0.01,2,     0.58,2,     0.09,2,   1738.2,   2,   1982.2,   2,     0.06,2,     0.78,2,     0.12,2,    1.242,2,   0.6071,20040722,1630
  32H120040718,    14,  1,    109,      9,2,20040722,1608, 71.0690,-159.4620,   75,      7.0,  -0.0672,  29.1601,2,-999.0000,9,    539.9,2,    535.0,2,     5.81,2,     0.04,2,     0.01,2,     0.57,2,      0.1,2,   1737.4,   2,   2006.4,   2,     0.07,2,     1.07,2,     0.09,2,    1.421,2,  -0.0674,20040722,1628
  32H120040718,    14,  1,    107,      7,2,20040722,1608, 71.0690,-159.4620,   75,     10.4,  -0.6883,  30.0356,2,-999.0000,9,    582.4,2,   -999.0,9,  -999.00,9,  -999.00,9,  -999.00,9,  -999.00,9,     -999,9,   -999.0,   9,   -999.0,   9,     -999,9,  -999.00,9,  -999.00,9,    1.842,2,  -0.6885,20040722,1625
  32H120040718,    14,  1,    108,      8,2,20040722,1608, 71.0690,-159.4620,   75,     10.4,  -0.7494,  30.0986,2,-999.0000,9,    586.5,2,    570.0,2,     6.95,2,     0.08,2,     0.02,2,     0.65,2,      0.1,2,   1780.0,   2,   2073.4,   2,     0.07,2,     2.89,2,     0.62,2,    1.830,2,  -0.7496,20040722,1625
  32H120040718,    14,  1,    106,      6,2,20040722,1608, 71.0690,-159.4620,   75,     15.7,  -1.3116,  31.5578,2,-999.0000,9,    427.4,2,    410.4,2,    19.59,2,     1.57,2,     0.07,2,     1.25,2,     0.29,2,   2006.0,   2,   2167.5,   2,     0.21,2,    32.56,2,     0.17,2,    3.123,2,  -1.3119,20040722,1622
  32H120040718,    14,  1,    104,      4,2,20040722,1608, 71.0690,-159.4620,   75,     23.7,  -0.3610,  32.0382,2,-999.0000,9,    366.5,2,   -999.0,9,  -999.00,9,  -999.00,9,  -999.00,9,  -999.00,9,     -999,9,   -999.0,   9,   -999.0,   9,     -999,9,  -999.00,9,  -999.00,9,    1.805,2,  -0.3616,20040722,1618
  32H120040718,    14,  1,    105,      5,2,20040722,1608, 71.0690,-159.4620,   75,     23.7,  -0.3700,  32.0376,2,-999.0000,9,    366.5,2,    369.1,2,    12.17,2,     1.90,2,     0.14,2,     1.13,2,     1.22,2,   2048.6,   2,   2212.7,   2,     0.17,2,     1.46,2,     0.63,2,    1.760,2,  -0.3706,20040722,1618
  32H120040718,    14,  1,    103,      3,2,20040722,1608, 71.0690,-159.4620,   75,     41.4,  -0.5052,  32.0613,2,-999.0000,9,    365.2,2,   -999.0,9,    13.88,2,     2.53,2,     0.15,2,     1.16,2,     1.38,2,   -999.0,   9,   -999.0,   9,     0.18,2,  -999.00,9,  -999.00,9,    1.656,2,  -0.5063,20040722,1615
  32H120040718,    14,  1,    102,      2,2,20040722,1608, 71.0690,-159.4620,   75,     61.6,  -1.5514,  32.3907,2,-999.0000,9,    343.9,2,   -999.0,9,    28.54,2,     8.15,2,     0.21,2,     1.68,2,     3.18,2,   2106.4,   2,   2214.7,   2,     0.29,2,  -999.00,9,  -999.00,9,    1.480,2,  -1.5525,20040722,1611
  32H120040718,    14,  1,    101,      1,2,20040722,1608, 71.0690,-159.4620,   75,     72.0,  -1.6282,  32.4634,2,-999.0000,9,    336.6,2,   -999.0,9,    37.73,2,    10.90,2,     0.22,2,     1.86,2,     3.41,2,   2113.0,   2,   2219.3,   2,     0.29,2,  -999.00,9,  -999.00,9,    1.541,2,  -1.6295,20040722,1608
  32H120040718,    14,  2,    212,     12,2,20040722,1933, 71.0690,-159.4620,   75,     11.0,  -0.7423,  29.8662,2,-999.0000,9,    584.3,2,   -999.0,9,     4.22,2,     0.00,2,     0.02,2,     0.59,2,      0.1,2,   -999.0,   9,   -999.0,   9,     0.07,2,  -999.00,9,  -999.00,9,    1.515,2,  -0.7425,20040722,1943
  32H120040718,    14,  2,    210,     10,2,20040722,1933, 71.0690,-159.4620,   75,     19.1,  -0.6933,  31.9530,2,-999.0000,9,    377.8,2,   -999.0,9,  -999.00,9,  -999.00,9,  -999.00,9,  -999.00,9,     -999,9,   -999.0,   9,   -999.0,   9,     -999,9,  -999.00,9,  -999.00,9,    2.451,2,  -0.6938,20040722,1940
  32H120040718,    14,  2,    209,      9,2,20040722,1933, 71.0690,-159.4620,   75,     19.1,  -0.6959,  31.9556,2,-999.0000,9,    378.8,2,   -999.0,9,  -999.00,9,  -999.00,9,  -999.00,9,  -999.00,9,     -999,9,   -999.0,   9,   -999.0,   9,     -999,9,  -999.00,9,  -999.00,9,    2.455,2,  -0.6964,20040722,1940
  32H120040718,    14,  2,    211,     11,2,20040722,1933, 71.0690,-159.4620,   75,     19.1,  -0.7231,  31.9452,2,-999.0000,9,    381.9,2,   -999.0,9,  -999.00,9,  -999.00,9,  -999.00,9,  -999.00,9,     -999,9,   -999.0,   9,   -999.0,   9,     -999,9,  -999.00,9,  -999.00,9,    2.513,2,  -0.7236,20040722,1941
  32H120040718,    14,  2,    205,      5,2,20040722,1933, 71.0690,-159.4620,   75,     19.2,  -0.6611,  31.9617,2,-999.0000,9,    380.1,2,   -999.0,9,  -999.00,9,  -999.00,9,  -999.00,9,  -999.00,9,     -999,9,   -999.0,   9,   -999.0,   9,     -999,9,  -999.00,9,  -999.00,9,    2.488,2,  -0.6616,20040722,1939
  32H120040718,    14,  2,    206,      6,2,20040722,1933, 71.0690,-159.4620,   75,     19.2,  -0.6653,  31.9611,2,-999.0000,9,    377.4,2,   -999.0,9,  -999.00,9,  -999.00,9,  -999.00,9,  -999.00,9,     -999,9,   -999.0,   9,   -999.0,   9,     -999,9,  -999.00,9,  -999.00,9,    2.414,2,  -0.6658,20040722,1939
  32H120040718,    14,  2,    207,      7,2,20040722,1933, 71.0690,-159.4620,   75,     19.2,  -0.6792,  31.9587,2,-999.0000,9,    377.6,2,   -999.0,9,  -999.00,9,  -999.00,9,  -999.00,9,  -999.00,9,     -999,9,   -999.0,   9,   -999.0,   9,     -999,9,  -999.00,9,  -999.00,9,    2.404,2,  -0.6797,20040722,1940
  32H120040718,    14,  2,    208,      8,2,20040722,1933, 71.0690,-159.4620,   75,     19.2,  -0.6815,  31.9577,2,-999.0000,9,    379.0,2,   -999.0,9,  -999.00,9,  -999.00,9,  -999.00,9,  -999.00,9,     -999,9,   -999.0,   9,   -999.0,   9,     -999,9,  -999.00,9,  -999.00,9,    2.475,2,  -0.6820,20040722,1940
  32H120040718,    14,  2,    204,      4,2,20040722,1933, 71.0690,-159.4620,   75,     19.2,  -0.7028,  31.9419,2,-999.0000,9,    382.6,2,   -999.0,9,  -999.00,9,  -999.00,9,  -999.00,9,  -999.00,9,     -999,9,   -999.0,   9,   -999.0,   9,     -999,9,  -999.00,9,  -999.00,9,    2.541,2,  -0.7033,20040722,1939
  32H120040718,    14,  2,    203,      3,2,20040722,1933, 71.0690,-159.4620,   75,     19.2,  -0.7678,  31.9168,2,-999.0000,9,    387.3,2,   -999.0,9,    17.84,2,     3.34,2,     0.13,2,     1.20,2,     0.63,2,   -999.0,   9,   -999.0,   9,     0.21,2,  -999.00,9,  -999.00,9,    2.669,2,  -0.7683,20040722,1939
  32H120040718,    14,  2,    202,      2,2,20040722,1933, 71.0690,-159.4620,   75,     57.8,  -0.9941,  32.1449,2,-999.0000,9,    361.3,2,   -999.0,9,    20.12,2,     4.95,2,     0.19,2,     1.40,2,     2.05,2,   -999.0,   9,   -999.0,   9,     0.32,2,  -999.00,9,  -999.00,9,    1.580,2,  -0.9954,20040722,1934
  32H120040718,    14,  2,    201,      1,2,20040722,1933, 71.0690,-159.4620,   75,     57.8,  -1.0327,  32.1540,2,-999.0000,9,    360.5,2,   -999.0,9,    20.23,2,     4.95,2,     0.19,2,     1.40,2,     2.09,2,   -999.0,   9,   -999.0,   9,     0.29,2,  -999.00,9,  -999.00,9,    1.633,2,  -1.0340,20040722,1933
  32H120040718,    14,  3,    306,      6,2,20040722,2055, 71.0690,-159.4620,   75,     71.0,  -0.8025,  32.0926,2,-999.0000,9,    364.8,2,   -999.0,9,  -999.00,9,  -999.00,9,  -999.00,9,  -999.00,9,     -999,9,   -999.0,   9,   -999.0,   9,     -999,9,  -999.00,9,  -999.00,9,    1.672,2,  -0.8042,20040722,2056
  32H120040718,    14,  3,    311,     11,2,20040722,2055, 71.0690,-159.4620,   75,     71.0,  -0.8088,  32.0942,2,-999.0000,9,    364.9,2,   -999.0,9,  -999.00,9,  -999.00,9,  -999.00,9,  -999.00,9,     -999,9,   -999.0,   9,   -999.0,   9,     -999,9,  -999.00,9,  -999.00,9,    1.630,2,  -0.8105,20040722,2057
  32H120040718,    14,  3,    312,     12,2,20040722,2055, 71.0690,-159.4620,   75,     71.0,  -0.8099,  32.0943,2,-999.0000,9,    364.7,2,   -999.0,9,  -999.00,9,  -999.00,9,  -999.00,9,  -999.00,9,     -999,9,   -999.0,   9,   -999.0,   9,     -999,9,  -999.00,9,  -999.00,9,    1.695,2,  -0.8116,20040722,2057
  32H120040718,    14,  3,    307,      7,2,20040722,2055, 71.0690,-159.4620,   75,     71.0,  -0.8114,  32.0946,2,-999.0000,9,    364.8,2,   -999.0,9,  -999.00,9,  -999.00,9,  -999.00,9,  -999.00,9,     -999,9,   -999.0,   9,   -999.0,   9,     -999,9,  -999.00,9,  -999.00,9,    1.667,2,  -0.8131,20040722,2056
  32H120040718,    14,  3,    310,     10,2,20040722,2055, 71.0690,-159.4620,   75,     71.0,  -0.8117,  32.0948,2,-999.0000,9,    364.9,2,   -999.0,9,  -999.00,9,  -999.00,9,  -999.00,9,  -999.00,9,     -999,9,   -999.0,   9,   -999.0,   9,     -999,9,  -999.00,9,  -999.00,9,    1.737,2,  -0.8134,20040722,2057
  32H120040718,    14,  3,    309,      9,2,20040722,2055, 71.0690,-159.4620,   75,     71.0,  -0.8137,  32.0950,2,-999.0000,9,    364.8,2,   -999.0,9,  -999.00,9,  -999.00,9,  -999.00,9,  -999.00,9,     -999,9,   -999.0,   9,   -999.0,   9,     -999,9,  -999.00,9,  -999.00,9,    1.640,2,  -0.8154,20040722,2057
  32H120040718,    14,  3,    305,      5,2,20040722,2055, 71.0690,-159.4620,   75,     71.0,  -0.8145,  32.0943,2,-999.0000,9,    365.0,2,   -999.0,9,  -999.00,9,  -999.00,9,  -999.00,9,  -999.00,9,     -999,9,   -999.0,   9,   -999.0,   9,     -999,9,  -999.00,9,  -999.00,9,    1.653,2,  -0.8162,20040722,2056
  32H120040718,    14,  3,    308,      8,2,20040722,2055, 71.0690,-159.4620,   75,     71.0,  -0.8158,  32.0956,2,-999.0000,9,    364.9,2,   -999.0,9,  -999.00,9,  -999.00,9,  -999.00,9,  -999.00,9,     -999,9,   -999.0,   9,   -999.0,   9,     -999,9,  -999.00,9,  -999.00,9,    1.662,2,  -0.8175,20040722,2056
  32H120040718,    14,  3,    303,      3,2,20040722,2055, 71.0690,-159.4620,   75,     71.0,  -0.8166,  32.0947,2,-999.0000,9,    365.0,2,   -999.0,9,  -999.00,9,  -999.00,9,  -999.00,9,  -999.00,9,     -999,9,   -999.0,   9,   -999.0,   9,     -999,9,  -999.00,9,  -999.00,9,    1.681,2,  -0.8183,20040722,2055
  32H120040718,    14,  3,    302,      2,2,20040722,2055, 71.0690,-159.4620,   75,     71.0,  -0.8203,  32.0953,2,-999.0000,9,    365.0,2,   -999.0,9,  -999.00,9,  -999.00,9,  -999.00,9,  -999.00,9,     -999,9,   -999.0,   9,   -999.0,   9,     -999,9,  -999.00,9,  -999.00,9,    1.665,2,  -0.8220,20040722,2055
  32H120040718,    14,  3,    304,      4,2,20040722,2055, 71.0690,-159.4620,   75,     71.0,  -0.8221,  32.0956,2,-999.0000,9,    364.9,2,   -999.0,9,  -999.00,9,  -999.00,9,  -999.00,9,  -999.00,9,     -999,9,   -999.0,   9,   -999.0,   9,     -999,9,  -999.00,9,  -999.00,9,    1.680,2,  -0.8238,20040722,2055
  32H120040718,    14,  3,    301,      1,2,20040722,2055, 71.0690,-159.4620,   75,     71.0,  -0.8228,  32.0964,2,-999.0000,9,    364.8,2,   -999.0,9,    18.52,2,     4.34,2,     0.17,2,     1.32,2,     1.72,2,   -999.0,   9,   -999.0,   9,     0.27,2,  -999.00,9,  -999.00,9,    1.647,2,  -0.8245,20040722,2055