BOTTLE,20220815CCHSIOAMB
EXPOCODE,STNNBR,CASTNO,SAMPNO,BTLNBR,BTLNBR_FLAG_W,DATE,TIME,LATITUDE,LONGITUDE,DEPTH,CTDPRS,CTDTMP,CTDSAL,CTDSAL_FLAG_W,SALNTY,SALNTY_FLAG_W,CTDOXY,CTDOXY_FLAG_W,OXYGEN,OXYGEN_FLAG_W,SILCAT,SILCAT_FLAG_W,NITRAT,NITRAT_FLAG_W,NITRIT,NITRIT_FLAG_W,PHSPHT,PHSPHT_FLAG_W,AMMONI,AMMONI_FLAG_W,TCARBN,TCARBN_FLAG_W,ALKALI,ALKALI_FLAG_W,UREA,UREA_FLAG_W,CHLORA,CHLORA_FLAG_W,PHAEO,PHAEO_FLAG_W,FLUORO,FLUORO_FLAG_W,THETA,BTL_DATE,BTL_TIME
,,,,,,,,,,METERS,DBAR,ITS-90,PSS-78,,PSS-78,,UMOL/KG,,UMOL/KG,,UMOL/KG,,UMOL/KG,,UMOL/KG,,UMOL/KG,,UMOL/KG,,UMOL/KG,,UMOL/KG,,UMOL/KG,,UG/L,,UG/L,,VOLTS,,DEG C,,
  32H120040718,    44,  2,    208,      8,2,20040812, 631, 72.6986,-158.4556,  220,     41.0,  -1.4203,  32.2828,2,-999.0000,9,    462.0,2,   -999.0,9,     6.36,2,     0.07,2,     0.00,2,     0.87,2,     0.13,2,   -999.0,   9,   -999.0,   9,     0.13,2,  -999.00,9,  -999.00,9,    2.090,2,  -1.4211,20040812, 644
  32H120040718,    44,  2,    212,     12,2,20040812, 631, 72.6986,-158.4556,  220,     41.0,  -1.4221,  32.2856,2,-999.0000,9,    457.5,2,   -999.0,9,     6.37,2,     0.07,2,     0.01,2,     0.86,2,      0.1,2,   -999.0,   9,   -999.0,   9,     0.09,2,  -999.00,9,  -999.00,9,    2.350,2,  -1.4229,20040812, 645
  32H120040718,    44,  2,    209,      9,2,20040812, 631, 72.6986,-158.4556,  220,     41.0,  -1.4224,  32.2852,2,-999.0000,9,    459.3,2,   -999.0,9,  -999.00,9,  -999.00,9,  -999.00,9,  -999.00,9,     -999,9,   -999.0,   9,   -999.0,   9,     -999,9,  -999.00,9,  -999.00,9,    2.056,2,  -1.4232,20040812, 645
  32H120040718,    44,  2,    210,     10,2,20040812, 631, 72.6986,-158.4556,  220,     41.0,  -1.4225,  32.2852,2,-999.0000,9,    458.3,2,   -999.0,9,  -999.00,9,  -999.00,9,  -999.00,9,  -999.00,9,     -999,9,   -999.0,   9,   -999.0,   9,     -999,9,  -999.00,9,  -999.00,9,    2.076,2,  -1.4233,20040812, 645
  32H120040718,    44,  2,    211,     11,2,20040812, 631, 72.6986,-158.4556,  220,     41.0,  -1.4232,  32.2869,2,-999.0000,9,    456.5,2,   -999.0,9,  -999.00,9,  -999.00,9,  -999.00,9,  -999.00,9,     -999,9,   -999.0,   9,   -999.0,   9,     -999,9,  -999.00,9,  -999.00,9,    1.965,2,  -1.4240,20040812, 645
  32H120040718,    44,  2,    202,      2,2,20040812, 631, 72.6986,-158.4556,  220,    101.5,  -1.7651,  33.1071,2,-999.0000,9,    306.4,2,   -999.0,9,    46.95,2,    14.83,2,     0.15,2,     2.09,2,     1.55,2,   -999.0,   9,   -999.0,   9,     0.18,2,     0.15,2,     0.25,2,    1.063,2,  -1.7669,20040812, 638
  32H120040718,    44,  2,    203,      3,2,20040812, 631, 72.6986,-158.4556,  220,    101.6,  -1.7654,  33.1072,2,-999.0000,9,    306.4,2,   -999.0,9,  -999.00,9,  -999.00,9,  -999.00,9,  -999.00,9,     -999,9,   -999.0,   9,   -999.0,   9,     -999,9,  -999.00,9,  -999.00,9,    1.073,2,  -1.7672,20040812, 638
  32H120040718,    44,  2,    204,      4,2,20040812, 631, 72.6986,-158.4556,  220,    101.6,  -1.7658,  33.1075,2,-999.0000,9,    306.7,2,   -999.0,9,  -999.00,9,  -999.00,9,  -999.00,9,  -999.00,9,     -999,9,   -999.0,   9,   -999.0,   9,     -999,9,  -999.00,9,  -999.00,9,    1.073,2,  -1.7676,20040812, 638
  32H120040718,    44,  2,    205,      5,2,20040812, 631, 72.6986,-158.4556,  220,    101.6,  -1.7662,  33.1077,2,-999.0000,9,    306.4,2,   -999.0,9,  -999.00,9,  -999.00,9,  -999.00,9,  -999.00,9,     -999,9,   -999.0,   9,   -999.0,   9,     -999,9,  -999.00,9,  -999.00,9,    1.067,2,  -1.7680,20040812, 638
  32H120040718,    44,  2,    206,      6,2,20040812, 631, 72.6986,-158.4556,  220,    101.6,  -1.7663,  33.1079,2,-999.0000,9,    306.3,2,   -999.0,9,  -999.00,9,  -999.00,9,  -999.00,9,  -999.00,9,     -999,9,   -999.0,   9,   -999.0,   9,     -999,9,  -999.00,9,  -999.00,9,    1.067,2,  -1.7681,20040812, 639
  32H120040718,    44,  2,    207,      7,2,20040812, 631, 72.6986,-158.4556,  220,    101.6,  -1.7663,  33.1080,2,-999.0000,9,    306.4,2,   -999.0,9,    47.29,2,    14.83,2,     0.15,2,     2.09,2,      1.6,2,   -999.0,   9,   -999.0,   9,     0.18,2,  -999.00,9,  -999.00,9,    1.070,2,  -1.7681,20040812, 639
  32H120040718,    44,  2,    201,      1,2,20040812, 631, 72.6986,-158.4556,  220,    220.1,   0.6487,  34.7650,2,-999.0000,9,    262.9,2,   -999.0,9,    14.99,2,    12.97,2,     0.18,2,     1.15,2,     0.23,2,   -999.0,   9,   -999.0,   9,     0.18,2,     0.07,2,     0.12,2,    0.792,2,   0.6393,20040812, 631
  32H120040718,    44,  3,    312,     12,2,20040812,1555, 72.6986,-158.4556,  220,      1.6,   1.5140,  27.6867,2,-999.0000,9,    362.2,2,   -999.0,9,  -999.00,9,  -999.00,9,  -999.00,9,  -999.00,9,     -999,9,   -999.0,   9,   -999.0,   9,     -999,9,  -999.00,9,  -999.00,9,    0.862,2,   1.5139,20040812,1631
  32H120040718,    44,  3,    311,     11,2,20040812,1555, 72.6986,-158.4556,  220,      1.6,   1.5207,  27.7449,2,-999.0000,9,    362.5,2,    372.6,2,     3.00,2,     0.06,2,     0.00,2,     0.56,2,     0.07,2,   -999.0,   9,   -999.0,   9,     0.05,2,     0.12,2,     0.03,2,    0.871,2,   1.5206,20040812,1630
  32H120040718,    44,  3,    310,     10,2,20040812,1555, 72.6986,-158.4556,  220,     10.6,   1.5755,  28.0745,2,-999.0000,9,    364.4,2,    380.2,2,     2.88,2,     0.01,2,     0.00,2,     0.57,2,     0.06,2,   -999.0,   9,   -999.0,   9,     0.04,2,     0.15,2,     0.04,2,    0.896,2,   1.5751,20040812,1627
  32H120040718,    44,  3,    309,      9,2,20040812,1555, 72.6986,-158.4556,  220,     17.7,  -0.3506,  30.2028,2,-999.0000,9,    436.1,2,    440.7,2,     2.01,2,     0.00,2,     0.00,2,     0.66,2,      0.1,2,   -999.0,   9,   -999.0,   9,     0.06,2,     0.13,2,     0.05,2,    0.868,2,  -0.3510,20040812,1623
  32H120040718,    44,  3,    307,      7,2,20040812,1555, 72.6986,-158.4556,  220,     27.5,  -0.9988,  31.2880,2,-999.0000,9,    410.7,2,   -999.0,9,  -999.00,9,  -999.00,9,  -999.00,9,  -999.00,9,     -999,9,   -999.0,   9,   -999.0,   9,     -999,9,  -999.00,9,  -999.00,9,    1.005,2,  -0.9994,20040812,1620
  32H120040718,    44,  3,    308,      8,2,20040812,1555, 72.6986,-158.4556,  220,     27.5,  -0.9995,  31.2894,2,-999.0000,9,    411.4,2,    431.4,2,     3.73,2,     0.21,2,     0.01,2,     0.75,2,     0.09,2,   -999.0,   9,   -999.0,   9,     0.07,2,     0.34,2,     0.02,2,    0.998,2,  -1.0001,20040812,1620
  32H120040718,    44,  3,    306,      6,2,20040812,1555, 72.6986,-158.4556,  220,     42.6,  -1.4173,  32.3205,2,-999.0000,9,    424.4,2,    429.2,2,    13.16,2,     1.59,2,     0.03,2,     1.16,2,     0.48,2,   -999.0,   9,   -999.0,   9,     0.14,2,     3.52,2,     0.14,2,    2.336,2,  -1.4181,20040812,1616
  32H120040718,    44,  3,    304,      4,2,20040812,1555, 72.6986,-158.4556,  220,     64.8,  -1.5236,  32.8787,2,-999.0000,9,    312.4,2,   -999.0,9,  -999.00,9,  -999.00,9,  -999.00,9,  -999.00,9,     -999,9,   -999.0,   9,   -999.0,   9,     -999,9,  -999.00,9,  -999.00,9,    1.081,2,  -1.5248,20040812,1611
  32H120040718,    44,  3,    305,      5,2,20040812,1555, 72.6986,-158.4556,  220,     64.8,  -1.5244,  32.8771,2,-999.0000,9,    312.4,2,    328.6,2,    30.93,2,    10.66,2,     0.11,2,     1.73,2,     1.28,2,   -999.0,   9,   -999.0,   9,     0.13,2,     0.12,2,     0.15,2,    0.978,2,  -1.5256,20040812,1612
  32H120040718,    44,  3,    303,      3,2,20040812,1555, 72.6986,-158.4556,  220,    102.3,  -1.7554,  33.1329,2,-999.0000,9,    302.7,2,   -999.0,9,    44.21,2,    14.13,2,     0.13,2,     2.05,2,     1.56,2,   -999.0,   9,   -999.0,   9,     0.09,2,  -999.00,9,  -999.00,9,    1.077,2,  -1.7572,20040812,1606
  32H120040718,    44,  3,    302,      2,2,20040812,1555, 72.6986,-158.4556,  220,    152.8,  -0.0639,  34.5406,2,-999.0000,9,    262.4,2,   -999.0,9,    15.79,2,    13.31,2,     0.05,2,     1.17,2,     0.06,2,   -999.0,   9,   -999.0,   9,     0.09,2,  -999.00,9,  -999.00,9,    0.768,2,  -0.0694,20040812,1601
  32H120040718,    44,  3,    301,      1,2,20040812,1555, 72.6986,-158.4556,  220,    204.0,   0.6118,  34.7536,2,-999.0000,9,    261.7,2,   -999.0,9,    15.03,2,    13.00,2,     0.15,2,     1.13,2,      0.2,2,   -999.0,   9,   -999.0,   9,     0.09,2,  -999.00,9,  -999.00,9,    0.797,2,   0.6032,20040812,1555
  32H120040718,    45,  1,    112,     12,2,20040812,2014, 72.7460,-158.4370,  259,      4.5,   1.4409,  27.6141,2,  27.5661,2,    360.2,2,   -999.0,9,     2.69,2,     0.10,2,     0.00,2,     0.56,2,     0.16,2,   1812.1,   2,   1951.2,   2,     0.03,2,     0.10,2,     0.02,2,    0.813,2,   1.4407,20040812,2056
  32H120040718,    45,  1,    111,     11,2,20040812,2014, 72.7460,-158.4370,  259,     16.7,  -0.5759,  30.2102,2,-999.0000,9,    429.0,2,    444.2,2,     1.81,2,     0.04,2,     0.00,2,     0.64,2,     0.15,2,   1952.4,   2,   2137.9,   2,     0.04,2,     0.10,2,     0.02,2,    0.849,2,  -0.5763,20040812,2052
  32H120040718,    45,  1,    110,     10,2,20040812,2014, 72.7460,-158.4370,  259,     26.8,  -1.1734,  31.2409,2,-999.0000,9,    387.8,2,   -999.0,9,     3.95,2,     0.04,2,     0.00,2,     0.79,2,     0.13,2,   -999.0,   9,   -999.0,   9,     0.05,2,     0.10,2,     0.02,2,    0.963,2,  -1.1739,20040812,2049
  32H120040718,    45,  1,    109,      9,2,20040812,2014, 72.7460,-158.4370,  259,     36.9,  -1.2431,  31.8957,2,-999.0000,9,    342.7,2,    371.7,2,     9.07,2,     2.42,2,     0.06,2,     1.14,2,     0.33,2,   -999.0,   9,   -999.0,   9,      0.1,2,     1.23,2,     0.00,2,    1.870,2,  -1.2438,20040812,2046
  32H120040718,    45,  1,    108,      8,2,20040812,2014, 72.7460,-158.4370,  259,     47.1,  -1.5085,  32.4975,2,-999.0000,9,    343.8,2,   -999.0,9,    23.83,2,     7.50,2,     0.08,2,     1.56,2,     0.97,2,   -999.0,   9,   -999.0,   9,     0.12,2,     0.40,2,     0.12,2,    1.464,2,  -1.5094,20040812,2043
  32H120040718,    45,  1,    107,      7,2,20040812,2014, 72.7460,-158.4370,  259,     62.2,  -1.5204,  32.8392,2,-999.0000,9,    320.0,2,    329.4,2,    32.59,2,    10.90,2,     0.12,2,     1.75,2,      1.5,2,   -999.0,   9,   -999.0,   9,      0.1,2,  -999.00,9,  -999.00,9,    0.983,2,  -1.5216,20040812,2039
  32H120040718,    45,  1,    106,      6,2,20040812,2014, 72.7460,-158.4370,  259,     77.4,  -1.7550,  33.0368,2,-999.0000,9,    297.3,2,   -999.0,9,    49.10,2,    15.32,2,     0.14,2,     2.16,2,      1.5,2,   -999.0,   9,   -999.0,   9,     0.08,2,     0.14,2,     0.26,2,    1.089,2,  -1.7564,20040812,2036
  32H120040718,    45,  1,    105,      5,2,20040812,2014, 72.7460,-158.4370,  259,    102.6,  -1.7240,  33.0892,2,-999.0000,9,    300.7,2,    313.0,2,    46.66,2,    14.86,2,     0.14,2,     2.10,2,     1.35,2,   -999.0,   9,   -999.0,   9,     0.09,2,     0.13,2,     0.20,2,    1.055,2,  -1.7259,20040812,2032
  32H120040718,    45,  1,    104,      4,2,20040812,2014, 72.7460,-158.4370,  259,    153.1,  -0.3284,  34.4415,2,-999.0000,9,    264.0,2,   -999.0,9,    18.05,2,    13.40,2,     0.06,2,     1.25,2,     0.12,2,   -999.0,   9,   -999.0,   9,     0.06,2,  -999.00,9,  -999.00,9,    0.755,2,  -0.3335,20040812,2027
  32H120040718,    45,  1,    103,      3,2,20040812,2014, 72.7460,-158.4370,  259,    203.8,   0.5672,  34.7339,2,-999.0000,9,    271.1,2,    282.2,2,    10.07,2,    12.72,2,     0.02,2,     0.97,2,     0.11,2,   -999.0,   9,   -999.0,   9,     0.06,2,     0.04,2,     0.06,2,    0.705,2,   0.5587,20040812,2022
  32H120040718,    45,  1,    102,      2,2,20040812,2014, 72.7460,-158.4370,  259,    229.0,   0.6889,  34.7782,2,-999.0000,9,    267.7,2,   -999.0,9,    11.55,2,    12.76,2,     0.14,2,     1.01,2,     0.12,2,   -999.0,   9,   -999.0,   9,     0.07,2,  -999.00,9,  -999.00,9,    0.731,2,   0.6790,20040812,2019
  32H120040718,    45,  1,    101,      1,2,20040812,2014, 72.7460,-158.4370,  259,    256.2,   0.7193,  34.7913,2,  34.7911,2,    267.3,2,    277.5,2,    12.61,2,    12.83,2,     0.18,2,     1.03,2,     0.15,2,   -999.0,   9,   -999.0,   9,     0.07,2,  -999.00,9,  -999.00,9,    0.783,2,   0.7081,20040812,2014
  32H120040718,    46,  1,    112,     12,2,20040812,2216, 72.7760,-158.3590,  300,      6.0,   2.4237,  27.4550,2,  27.5173,2,    349.1,2,   -999.0,9,     3.35,2,     0.08,2,     0.00,2,     0.53,2,     0.14,2,   1812.1,   2,   1951.9,   2,     0.02,2,     0.18,2,     0.01,2,    0.892,2,   2.4234,20040812,2301
  32H120040718,    46,  1,    111,     11,2,20040812,2216, 72.7760,-158.3590,  300,     25.9,  -0.9533,  31.2010,2,-999.0000,9,    412.0,2,    430.8,2,     1.93,2,     0.02,2,     0.00,2,     0.70,2,     0.12,2,   -999.0,   9,   -999.0,   9,     0.05,2,     0.15,2,     0.01,2,    0.986,2,  -0.9538,20040812,2257
  32H120040718,    46,  1,    110,     10,2,20040812,2216, 72.7760,-158.3590,  300,     41.3,  -1.0199,  32.1077,2,-999.0000,9,    355.0,2,   -999.0,9,    12.18,2,     4.30,2,     0.06,2,     1.31,2,     0.39,2,   -999.0,   9,   -999.0,   9,     0.13,2,     7.11,2,     0.09,2,    2.551,2,  -1.0208,20040812,2253
  32H120040718,    46,  1,    109,      9,2,20040812,2216, 72.7760,-158.3590,  300,     51.6,  -1.3088,  32.5053,2,-999.0000,9,    331.6,2,    344.8,2,    22.68,2,     8.52,2,     0.12,2,     1.55,2,     1.47,2,   -999.0,   9,   -999.0,   9,     0.11,2,     0.55,2,     0.09,2,    1.362,2,  -1.3098,20040812,2250
  32H120040718,    46,  1,    108,      8,2,20040812,2216, 72.7760,-158.3590,  300,     76.4,  -1.6519,  32.9664,2,-999.0000,9,    306.3,2,   -999.0,9,    38.53,2,    12.91,2,     0.08,2,     1.88,2,     0.83,2,   -999.0,   9,   -999.0,   9,     0.09,2,     0.17,2,     0.20,2,    1.369,2,  -1.6533,20040812,2247
  32H120040718,    46,  1,    107,      7,2,20040812,2216, 72.7760,-158.3590,  300,    101.6,  -1.7017,  33.1089,2,-999.0000,9,    297.9,2,    311.0,2,    44.34,2,    14.91,2,     0.12,2,     2.05,2,     1.05,2,   -999.0,   9,   -999.0,   9,     0.08,2,     0.14,2,     0.19,2,    1.110,2,  -1.7036,20040812,2243
  32H120040718,    46,  1,    106,      6,2,20040812,2216, 72.7760,-158.3590,  300,    127.0,  -1.5131,  33.3045,2,-999.0000,9,    305.2,2,   -999.0,9,    29.52,2,    10.71,2,     0.08,2,     1.65,2,     1.14,2,   -999.0,   9,   -999.0,   9,     0.11,2,     0.07,2,     0.17,2,    0.922,2,  -1.5157,20040812,2239
  32H120040718,    46,  1,    105,      5,2,20040812,2216, 72.7760,-158.3590,  300,    153.1,  -0.7622,  34.2258,2,-999.0000,9,    269.9,2,    283.3,2,    21.35,2,    12.82,2,     0.11,2,     1.37,2,     0.31,2,   -999.0,   9,   -999.0,   9,     0.06,2,  -999.00,9,  -999.00,9,    0.783,2,  -0.7667,20040812,2234
  32H120040718,    46,  1,    104,      4,2,20040812,2216, 72.7760,-158.3590,  300,    178.5,   0.1462,  34.6149,2,-999.0000,9,    266.2,2,   -999.0,9,    11.80,2,    12.77,2,     0.00,2,     1.01,2,     0.11,2,   -999.0,   9,   -999.0,   9,     0.05,2,  -999.00,9,  -999.00,9,    0.725,2,   0.1394,20040812,2230
  32H120040718,    46,  1,    103,      3,2,20040812,2216, 72.7760,-158.3590,  300,    202.9,   0.4630,  34.7057,2,-999.0000,9,    269.9,2,    280.0,2,    10.40,2,    12.77,2,     0.00,2,     0.97,2,      0.1,2,   -999.0,   9,   -999.0,   9,     0.06,2,     0.04,2,     0.05,2,    0.733,2,   0.4547,20040812,2226
  32H120040718,    46,  1,    102,      2,2,20040812,2216, 72.7760,-158.3590,  300,    254.3,   0.7766,  34.8019,2,  34.8002,2,    276.6,2,    287.0,2,     8.48,2,    12.59,2,     0.02,2,     0.92,2,      0.1,2,   -999.0,   9,   -999.0,   9,     0.07,2,  -999.00,9,  -999.00,9,    0.731,2,   0.7653,20040812,2221
  32H120040718,    46,  1,    101,      1,3,20040812,2216, 72.7760,-158.3590,  300,    298.1,   0.7677,  34.8182,2,-999.0000,9,    273.4,2,   -999.0,9,  -999.00,9,  -999.00,9,  -999.00,9,  -999.00,9,     -999,9,   -999.0,   9,   -999.0,   9,     -999,9,  -999.00,9,  -999.00,9,    0.712,2,   0.7544,20040812,2216
  32H120040718,    47,  1,    112,     12,2,20040813, 205, 72.8200,-158.2530,  406,    100.0,  -1.6096,  33.0233,2,  33.0208,2,    300.4,2,    315.0,2,    34.39,2,    11.45,2,     0.16,2,     1.81,2,     0.85,2,   -999.0,   5,   2281.9,   2,     0.09,2,  -999.00,9,  -999.00,9,    0.965,2,  -1.6115,20040813, 246
  32H120040718,    47,  1,    111,     11,2,20040813, 205, 72.8200,-158.2530,  406,    126.3,  -1.3927,  33.4021,2,-999.0000,9,    259.7,2,    279.7,2,    31.94,2,    14.65,2,     0.04,2,     1.76,2,     0.06,2,   -999.0,   9,   -999.0,   9,     0.05,2,  -999.00,9,  -999.00,9,    0.738,2,  -1.3955,20040813, 242
  32H120040718,    47,  1,    110,     10,2,20040813, 205, 72.8200,-158.2530,  406,    149.4,  -1.1906,  33.9407,2,-999.0000,9,    282.5,2,    295.5,2,    24.60,2,    12.30,2,     0.09,2,     1.47,2,     0.34,2,   2199.4,   2,   2317.4,   2,     0.06,2,  -999.00,9,  -999.00,9,    0.771,2,  -1.1943,20040813, 239
  32H120040718,    47,  1,    109,      9,2,20040813, 205, 72.8200,-158.2530,  406,    176.8,   0.1121,  34.6079,2,-999.0000,9,    263.8,2,    275.4,2,    13.21,2,    13.08,2,     0.03,2,     1.07,2,     0.05,2,   -999.0,   9,   -999.0,   9,     0.07,2,  -999.00,9,  -999.00,9,    0.689,2,   0.1054,20040813, 235
  32H120040718,    47,  1,    108,      8,2,20040813, 205, 72.8200,-158.2530,  406,    199.9,   0.4447,  34.7004,2,-999.0000,9,    267.7,2,    280.4,2,    10.33,2,    12.83,2,     0.02,2,     0.98,2,     0.04,2,   2149.6,   2,   2302.2,   2,     0.05,2,  -999.00,9,  -999.00,9,    0.652,2,   0.4365,20040813, 231
  32H120040718,    47,  1,    107,      7,2,20040813, 205, 72.8200,-158.2530,  406,    225.1,   0.6527,  34.7565,2,  34.7533,2,    273.6,2,    285.8,2,     8.19,2,    12.51,2,     0.03,2,     0.92,2,     0.04,2,   -999.0,   9,   -999.0,   9,     0.05,2,  -999.00,9,  -999.00,9,    0.651,2,   0.6430,20040813, 227
  32H120040718,    47,  1,    106,      6,2,20040813, 205, 72.8200,-158.2530,  406,    250.4,   0.7428,  34.7836,2,  34.7841,2,    276.9,2,    288.9,2,     7.44,2,    12.47,2,     0.02,2,     0.90,2,     0.05,2,   2141.4,   2,   2320.6,   2,     0.06,2,  -999.00,9,  -999.00,9,    0.663,2,   0.7318,20040813, 223
  32H120040718,    47,  1,    105,      5,2,20040813, 205, 72.8200,-158.2530,  406,    275.5,   0.8049,  34.8133,2,-999.0000,9,    277.0,2,    289.4,2,     7.75,2,    12.57,2,     0.03,2,     0.91,2,     0.05,2,   -999.0,   9,   -999.0,   9,     0.06,2,  -999.00,9,  -999.00,9,    0.685,2,   0.7926,20040813, 218
  32H120040718,    47,  1,    104,      4,2,20040813, 205, 72.8200,-158.2530,  406,    301.1,   0.7521,  34.8222,2,-999.0000,9,    274.4,2,    287.1,2,     9.25,2,    12.77,2,     0.03,2,     0.94,2,     0.05,2,   2147.0,   2,   2306.5,   2,     0.06,2,  -999.00,9,  -999.00,9,    0.648,2,   0.7387,20040813, 215
  32H120040718,    47,  1,    103,      3,2,20040813, 205, 72.8200,-158.2530,  406,    350.2,   0.6619,  34.8410,2,-999.0000,9,    278.0,2,    290.7,2,     8.61,2,    12.73,2,     0.03,2,     0.92,2,     0.04,2,   2146.5,   2,   2309.7,   2,     0.06,2,  -999.00,9,  -999.00,9,    0.611,2,   0.6464,20040813, 210
  32H120040718,    47,  1,    102,      2,2,20040813, 205, 72.8200,-158.2530,  406,    400.2,   0.6061,  34.8464,2,-999.0000,9,    278.5,2,   -999.0,9,     8.92,2,    12.68,2,     0.02,2,     0.92,2,     0.05,2,   -999.0,   9,   -999.0,   9,     0.06,2,  -999.00,9,  -999.00,9,    0.671,2,   0.5884,20040813, 205
  32H120040718,    47,  1,    101,      1,2,20040813, 205, 72.8200,-158.2530,  406,    400.2,   0.6064,  34.8463,2,  34.8457,2,    278.9,2,    291.1,2,     8.81,2,    12.68,2,     0.02,2,     0.92,2,     0.05,2,   2140.8,   2,   2308.9,   2,     0.06,2,  -999.00,9,  -999.00,9,    0.654,2,   0.5887,20040813, 205