BOTTLE,20220815CCHSIOAMB
EXPOCODE,STNNBR,CASTNO,SAMPNO,BTLNBR,BTLNBR_FLAG_W,DATE,TIME,LATITUDE,LONGITUDE,DEPTH,CTDPRS,CTDTMP,CTDSAL,CTDSAL_FLAG_W,SALNTY,SALNTY_FLAG_W,CTDOXY,CTDOXY_FLAG_W,OXYGEN,OXYGEN_FLAG_W,SILCAT,SILCAT_FLAG_W,NITRAT,NITRAT_FLAG_W,NITRIT,NITRIT_FLAG_W,PHSPHT,PHSPHT_FLAG_W,AMMONI,AMMONI_FLAG_W,TCARBN,TCARBN_FLAG_W,ALKALI,ALKALI_FLAG_W,UREA,UREA_FLAG_W,CHLORA,CHLORA_FLAG_W,PHAEO,PHAEO_FLAG_W,FLUORO,FLUORO_FLAG_W,THETA,BTL_DATE,BTL_TIME
,,,,,,,,,,METERS,DBAR,ITS-90,PSS-78,,PSS-78,,UMOL/KG,,UMOL/KG,,UMOL/KG,,UMOL/KG,,UMOL/KG,,UMOL/KG,,UMOL/KG,,UMOL/KG,,UMOL/KG,,UMOL/KG,,UG/L,,UG/L,,VOLTS,,DEG C,,
  32H120040718,    18,  1,    112,     12,2,20040724, 453, 71.6400,-155.8840,  166,      1.8,   0.8391,  27.1831,2,  25.9963,2,    502.9,2,    475.3,2,     6.40,2,     0.03,2,     0.01,2,     0.39,2,     0.02,2,   1538.5,   2,   1800.1,   2,     0.04,2,     0.34,2,     0.05,2,    0.994,2,   0.8391,20040724, 541
  32H120040718,    18,  1,    111,     11,2,20040724, 453, 71.6400,-155.8840,  166,      7.4,  -0.3484,  29.2398,2,  29.1343,2,    643.3,2,    696.7,2,     2.07,2,     0.03,2,     0.01,2,     0.42,2,     0.02,2,   1606.3,   2,   1990.6,   2,     0.05,2,     0.72,2,     0.17,2,    1.499,2,  -0.3486,20040724, 538
  32H120040718,    18,  1,    110,     10,2,20040724, 453, 71.6400,-155.8840,  166,     16.6,  -1.3960,  30.8313,2,-999.0000,9,    504.4,2,    586.3,2,     3.27,2,     0.00,2,     0.04,2,     0.74,2,     0.07,2,   1815.2,   2,   2087.2,   2,     0.12,2,    19.85,2,     0.89,2,    2.983,2,  -1.3963,20040724, 533
  32H120040718,    18,  1,    109,      9,2,20040724, 453, 71.6400,-155.8840,  166,     25.6,  -0.7636,  31.8446,2,-999.0000,9,    390.7,2,    415.5,2,    10.18,2,     0.54,2,     0.23,2,     1.05,2,     0.13,2,   2016.4,   2,   2167.3,   2,     0.13,2,    30.32,2,     1.44,2,    2.717,2,  -0.7642,20040724, 529
  32H120040718,    18,  1,    108,      8,2,20040724, 453, 71.6400,-155.8840,  166,     34.4,  -0.7397,  32.1151,2,-999.0000,9,    360.8,2,    366.1,2,    20.58,2,     5.96,2,     0.16,2,     1.33,2,     1.25,2,   2066.1,   2,   2209.8,   2,     0.14,2,     4.21,2,     0.82,2,    2.104,2,  -0.7405,20040724, 524
  32H120040718,    18,  1,    107,      7,2,20040724, 453, 71.6400,-155.8840,  166,     49.7,  -1.1972,  32.2157,2,-999.0000,9,    355.7,2,    360.7,2,    24.60,2,     6.92,2,     0.20,2,     1.45,2,     1.96,2,   2089.0,   2,   2215.8,   2,      0.2,2,     0.96,2,     0.55,2,    1.652,2,  -1.1982,20040724, 520
  32H120040718,    18,  1,    106,      6,2,20040724, 453, 71.6400,-155.8840,  166,     64.8,  -1.2906,  32.2939,2,-999.0000,9,    352.6,2,    357.9,2,    26.80,2,     7.84,2,     0.19,2,     1.55,2,     1.73,2,   2094.4,   2,   2220.5,   2,     0.15,2,  -999.00,9,  -999.00,9,    1.962,2,  -1.2919,20040724, 516
  32H120040718,    18,  1,    105,      5,2,20040724, 453, 71.6400,-155.8840,  166,     79.7,  -1.4590,  32.4302,2,-999.0000,9,    341.8,2,    347.0,2,    33.54,2,    10.53,2,     0.21,2,     1.74,2,     2.19,2,   2098.9,   2,   2230.5,   2,     0.16,2,  -999.00,9,  -999.00,9,    1.626,2,  -1.4605,20040724, 512
  32H120040718,    18,  1,    104,      4,2,20040724, 453, 71.6400,-155.8840,  166,     95.1,  -1.6560,  32.6761,2,-999.0000,9,    330.8,2,    336.4,2,    40.04,2,    12.53,2,     0.20,2,     1.88,2,     1.77,2,   2140.2,   2,   2239.2,   2,     0.18,2,  -999.00,9,  -999.00,9,    1.612,2,  -1.6577,20040724, 508
  32H120040718,    18,  1,    103,      3,2,20040724, 453, 71.6400,-155.8840,  166,    105.1,  -1.6925,  32.8396,2,-999.0000,9,    314.9,2,    321.7,2,    41.22,2,    12.90,2,     0.19,2,     1.97,2,     1.67,2,   2155.8,   2,   2248.0,   2,     0.12,2,  -999.00,9,  -999.00,9,    1.527,2,  -1.6944,20040724, 505
  32H120040718,    18,  1,    102,      2,2,20040724, 453, 71.6400,-155.8840,  166,    130.3,  -1.7092,  33.0617,2,  33.0583,2,    309.2,2,    313.5,2,    36.28,2,    10.82,2,     0.14,2,     1.96,2,     1.78,2,   2187.7,   2,   2280.2,   2,     0.22,2,     0.29,2,     1.22,2,    1.580,2,  -1.7116,20040724, 500
  32H120040718,    18,  1,    101,      1,2,20040724, 453, 71.6400,-155.8840,  166,    164.2,  -0.2614,  34.4067,2,  34.3733,2,    266.9,2,    271.3,2,    21.25,2,    12.91,2,     0.16,2,     1.43,2,     1.06,2,   2181.7,   2,   2321.9,   2,     0.64,2,     0.23,2,     1.24,2,    1.388,2,  -0.2670,20040724, 453
  32H120040718,    19,  1,    112,     12,2,20040724, 741, 71.6030,-155.7760,  212,      4.3,   3.4365,  28.4510,2,  28.2753,2,    390.9,2,    394.0,2,     9.69,2,     0.11,2,     0.01,2,     0.62,2,     0.02,2,   1769.5,   2,   1951.7,   2,     0.02,2,     0.56,2,     0.05,2,    1.299,2,   3.4363,20040724, 824
  32H120040718,    19,  1,    111,     11,2,20040724, 741, 71.6030,-155.7760,  212,      9.4,   3.1986,  30.4679,2,-999.0000,9,    402.7,2,    418.1,2,     5.95,2,     0.11,2,     0.01,2,     0.64,2,     0.01,2,   1882.6,   2,   2097.6,   2,     0.04,2,  -999.00,9,  -999.00,9,    1.807,2,   3.1981,20040724, 820
  32H120040718,    19,  1,    110,     10,2,20040724, 741, 71.6030,-155.7760,  212,     16.3,   2.4189,  31.3206,2,-999.0000,9,    373.9,2,    374.8,2,     6.69,2,     0.10,2,     0.02,2,     0.69,2,     0.01,2,   -999.0,   9,   -999.0,   9,     0.06,2,     2.25,2,     0.28,2,    1.967,2,   2.4181,20040724, 817
  32H120040718,    19,  1,    109,      9,2,20040724, 741, 71.6030,-155.7760,  212,     31.4,   1.8647,  31.6436,2,-999.0000,9,    354.8,2,    357.9,2,     7.88,2,     0.65,2,     0.07,2,     0.82,2,      0.5,2,   -999.0,   9,   -999.0,   9,      0.1,2,     1.00,2,     0.47,2,    1.592,2,   1.8633,20040724, 812
  32H120040718,    19,  1,    108,      8,2,20040724, 741, 71.6030,-155.7760,  212,     46.6,   1.7237,  31.6691,2,-999.0000,9,    356.3,2,    359.9,2,     8.16,2,     0.82,2,     0.08,2,     0.84,2,     0.52,2,   -999.0,   9,   -999.0,   9,     0.11,2,     1.33,2,     0.50,2,    1.656,2,   1.7216,20040724, 809
  32H120040718,    19,  1,    107,      7,2,20040724, 741, 71.6030,-155.7760,  212,     61.7,   0.7946,  31.8662,2,-999.0000,9,    359.9,2,    365.2,2,    10.26,2,     1.67,2,     0.10,2,     0.97,2,     0.76,2,   -999.0,   9,   -999.0,   9,     0.13,2,  -999.00,9,  -999.00,9,    1.678,2,   0.7923,20040724, 805
  32H120040718,    19,  1,    106,      6,2,20040724, 741, 71.6030,-155.7760,  212,     77.8,   0.3122,  31.9345,2,-999.0000,9,    362.5,2,    366.6,2,    12.37,2,     2.44,2,     0.11,2,     1.06,2,     0.84,2,   -999.0,   9,   -999.0,   9,     0.12,2,     2.79,2,     0.52,2,    1.913,2,   0.3096,20040724, 801
  32H120040718,    19,  1,    105,      5,2,20040724, 741, 71.6030,-155.7760,  212,    102.8,  -1.0407,  32.2501,2,-999.0000,9,    351.6,2,    355.9,2,    25.82,2,     7.55,2,     0.19,2,     1.53,2,     1.85,2,   -999.0,   9,   -999.0,   9,     0.17,2,     2.31,2,     0.65,2,    1.818,2,  -1.0430,20040724, 756
  32H120040718,    19,  1,    104,      4,2,20040724, 741, 71.6030,-155.7760,  212,    128.9,  -1.5856,  32.5561,2,-999.0000,9,    336.6,2,    341.9,2,    37.32,2,    11.50,2,     0.22,2,     1.82,2,     2.13,2,   -999.0,   9,   -999.0,   9,     0.17,2,  -999.00,9,  -999.00,9,    1.503,2,  -1.5880,20040724, 752
  32H120040718,    19,  1,    103,      3,2,20040724, 741, 71.6030,-155.7760,  212,    154.5,  -1.7186,  33.0669,2,-999.0000,9,    304.1,2,    309.2,2,    36.45,2,    10.80,2,     0.16,2,     1.96,2,     1.64,2,   -999.0,   9,   -999.0,   9,     0.17,2,     0.85,2,     0.76,2,    1.455,2,  -1.7215,20040724, 747
  32H120040718,    19,  1,    102,      2,2,20040724, 741, 71.6030,-155.7760,  212,    185.2,   0.0403,  34.4705,2,-999.0000,9,    257.5,2,    260.6,2,    20.39,2,    12.69,2,     0.15,2,     1.25,2,     0.79,2,   -999.0,   9,   -999.0,   9,     0.16,2,  -999.00,9,  -999.00,9,    1.554,2,   0.0335,20040724, 744
  32H120040718,    19,  1,    101,      1,2,20040724, 741, 71.6030,-155.7760,  212,    209.0,   0.2947,  34.6451,2,  34.6418,2,    254.5,2,    257.6,2,    17.83,2,    12.88,2,     0.15,2,     1.17,2,     0.56,2,   -999.0,   9,   -999.0,   9,     0.17,2,  -999.00,9,  -999.00,9,    1.686,2,   0.2864,20040724, 741
  32H120040718,    20,  1,    112,     12,2,20040724,1042, 71.5780,-155.6780,  156,      2.2,   6.7805,  29.7015,2,  29.7042,2,    336.6,2,    339.4,2,     8.40,2,     0.09,2,     0.02,2,     0.62,2,     0.02,2,   1901.7,   2,   2073.0,   2,     0.06,2,  -999.00,9,  -999.00,9,    1.474,2,   6.7803,20040724,1132
  32H120040718,    20,  1,    111,     11,2,20040724,1042, 71.5780,-155.6780,  156,      6.5,   6.7935,  29.9139,2,-999.0000,9,    334.5,2,    337.2,2,     8.11,2,     0.04,2,     0.02,2,     0.62,2,     0.02,2,   1921.4,   2,   2091.8,   2,     0.06,2,  -999.00,9,  -999.00,9,    1.441,2,   6.7930,20040724,1129
  32H120040718,    20,  1,    110,     10,2,20040724,1042, 71.5780,-155.6780,  156,     11.6,   5.8891,  30.8063,2,-999.0000,9,    330.2,2,    334.7,2,     6.67,2,     0.04,2,     0.02,2,     0.63,2,        0,2,   -999.0,   9,   -999.0,   9,     0.06,2,     0.86,2,     0.24,2,    1.546,2,   5.8882,20040724,1126
  32H120040718,    20,  1,    109,      9,2,20040724,1042, 71.5780,-155.6780,  156,     15.5,   5.2875,  31.1919,2,-999.0000,9,    331.9,2,    335.5,2,     6.03,2,     0.09,2,     0.02,2,     0.65,2,        0,2,   -999.0,   9,   -999.0,   9,     0.06,2,     1.11,2,     0.17,2,    1.627,2,   5.2864,20040724,1121
  32H120040718,    20,  1,    108,      8,2,20040724,1042, 71.5780,-155.6780,  156,     21.4,   5.1249,  31.2290,2,-999.0000,9,    328.7,2,    331.2,2,     6.30,2,     0.13,2,     0.02,2,     0.68,2,     0.13,2,   -999.0,   9,   -999.0,   9,     0.07,2,     0.83,2,     0.48,2,    1.577,2,   5.1234,20040724,1117
  32H120040718,    20,  1,    107,      7,2,20040724,1042, 71.5780,-155.6780,  156,     31.5,   3.9697,  31.3457,2,-999.0000,9,    336.1,2,    336.4,2,     7.05,2,     0.21,2,     0.04,2,     0.72,2,     0.35,2,   -999.0,   9,   -999.0,   9,      0.1,2,  -999.00,9,  -999.00,9,    1.561,2,   3.9677,20040724,1113
  32H120040718,    20,  1,    106,      6,2,20040724,1042, 71.5780,-155.6780,  156,     42.5,   2.9336,  31.4631,2,-999.0000,9,    344.5,2,    346.9,2,     7.55,2,     0.27,2,     0.06,2,     0.77,2,     0.37,2,   -999.0,   9,   -999.0,   9,     0.11,2,     0.97,2,     0.30,2,    1.623,2,   2.9313,20040724,1108
  32H120040718,    20,  1,    105,      5,2,20040724,1042, 71.5780,-155.6780,  156,     52.2,   2.7900,  31.4812,2,-999.0000,9,    345.8,2,    348.5,2,     7.50,2,     0.32,2,     0.06,2,     0.77,2,      0.4,2,   -999.0,   9,   -999.0,   9,     0.12,2,     0.96,2,     0.31,2,    1.642,2,   2.7872,20040724,1104
  32H120040718,    20,  1,    104,      4,2,20040724,1042, 71.5780,-155.6780,  156,     78.5,   1.6582,  31.7024,2,-999.0000,9,    355.9,2,    359.6,2,     7.89,2,     0.58,2,     0.08,2,     0.82,2,     0.51,2,   -999.0,   9,   -999.0,   9,     0.13,2,  -999.00,9,  -999.00,9,    1.611,2,   1.6547,20040724,1059
  32H120040718,    20,  1,    103,      3,2,20040724,1042, 71.5780,-155.6780,  156,    104.7,   0.7936,  31.8494,2,-999.0000,9,    361.0,2,    364.7,2,    10.57,2,     1.66,2,     0.10,2,     0.96,2,     0.69,2,   -999.0,   9,   -999.0,   9,     0.13,2,     1.86,2,     0.51,2,    1.805,2,   0.7897,20040724,1053
  32H120040718,    20,  1,    102,      2,2,20040724,1042, 71.5780,-155.6780,  156,    127.4,  -1.1521,  32.3028,2,  32.3202,2,    349.6,2,    354.5,2,    27.68,2,     7.78,2,     0.28,2,     1.55,2,     1.76,2,   -999.0,   9,   -999.0,   9,     0.17,2,  -999.00,9,  -999.00,9,    1.624,2,  -1.1549,20040724,1046
  32H120040718,    20,  1,    101,      1,2,20040724,1042, 71.5780,-155.6780,  156,    146.0,  -1.3990,  32.9337,2,  32.9059,2,    313.4,2,    319.7,2,    37.48,2,    11.94,2,     0.20,2,     1.83,2,      1.8,2,   -999.0,   9,   -999.0,   9,     0.15,2,  -999.00,9,  -999.00,9,    1.594,2,  -1.4021,20040724,1042
  32H120040718,    21,  1,    107,      7,2,20040724,1348, 71.6170,-156.0500,  172,     76.7,  -1.6960,  32.7291,2,-999.0000,9,    326.9,2,   -999.0,9,    44.20,2,    13.56,2,     0.19,2,     1.96,2,     1.77,2,   -999.0,   9,   -999.0,   9,     0.14,2,  -999.00,9,  -999.00,9,    1.659,2,  -1.6973,20040724,1353
  32H120040718,    21,  1,    111,     11,2,20040724,1348, 71.6170,-156.0500,  172,     76.7,  -1.6963,  32.7290,2,-999.0000,9,    327.4,2,   -999.0,9,  -999.00,9,  -999.00,9,  -999.00,9,  -999.00,9,     -999,9,   -999.0,   9,   -999.0,   9,     -999,9,  -999.00,9,  -999.00,9,    1.549,2,  -1.6976,20040724,1353
  32H120040718,    21,  1,    109,      9,2,20040724,1348, 71.6170,-156.0500,  172,     76.7,  -1.6965,  32.7285,2,-999.0000,9,    327.5,2,   -999.0,9,  -999.00,9,  -999.00,9,  -999.00,9,  -999.00,9,     -999,9,   -999.0,   9,   -999.0,   9,     -999,9,  -999.00,9,  -999.00,9,    1.599,2,  -1.6978,20040724,1353
  32H120040718,    21,  1,    110,     10,2,20040724,1348, 71.6170,-156.0500,  172,     76.7,  -1.6967,  32.7289,2,-999.0000,9,    327.5,2,   -999.0,9,  -999.00,9,  -999.00,9,  -999.00,9,  -999.00,9,     -999,9,   -999.0,   9,   -999.0,   9,     -999,9,  -999.00,9,  -999.00,9,    1.624,2,  -1.6980,20040724,1353
  32H120040718,    21,  1,    108,      8,2,20040724,1348, 71.6170,-156.0500,  172,     76.7,  -1.6969,  32.7281,2,-999.0000,9,    327.3,2,   -999.0,9,  -999.00,9,  -999.00,9,  -999.00,9,  -999.00,9,     -999,9,   -999.0,   9,   -999.0,   9,     -999,9,  -999.00,9,  -999.00,9,    1.615,2,  -1.6982,20040724,1353
  32H120040718,    21,  1,    112,     12,2,20040724,1348, 71.6170,-156.0500,  172,     76.7,  -1.6971,  32.7273,2,-999.0000,9,    327.3,2,   -999.0,9,  -999.00,9,  -999.00,9,  -999.00,9,  -999.00,9,     -999,9,   -999.0,   9,   -999.0,   9,     -999,9,  -999.00,9,  -999.00,9,    1.556,2,  -1.6984,20040724,1354
  32H120040718,    21,  1,    101,      1,2,20040724,1348, 71.6170,-156.0500,  172,    132.0,  -1.7158,  32.9583,2,-999.0000,9,    303.0,2,   -999.0,9,    40.91,2,    12.28,2,     0.17,2,     2.00,2,      1.5,2,   -999.0,   9,   -999.0,   9,     0.17,2,  -999.00,9,  -999.00,9,    1.504,2,  -1.7182,20040724,1347
  32H120040718,    21,  1,    102,      2,2,20040724,1348, 71.6170,-156.0500,  172,    132.1,  -1.7159,  32.9577,2,-999.0000,9,    303.3,2,   -999.0,9,  -999.00,9,  -999.00,9,  -999.00,9,  -999.00,9,     -999,9,   -999.0,   9,   -999.0,   9,     -999,9,  -999.00,9,  -999.00,9,    1.545,2,  -1.7183,20040724,1348
  32H120040718,    21,  1,    103,      3,2,20040724,1348, 71.6170,-156.0500,  172,    132.1,  -1.7161,  32.9584,2,-999.0000,9,    303.4,2,   -999.0,9,  -999.00,9,  -999.00,9,  -999.00,9,  -999.00,9,     -999,9,   -999.0,   9,   -999.0,   9,     -999,9,  -999.00,9,  -999.00,9,    1.468,2,  -1.7185,20040724,1348
  32H120040718,    21,  1,    104,      4,2,20040724,1348, 71.6170,-156.0500,  172,    132.1,  -1.7166,  32.9615,2,-999.0000,9,    303.5,2,   -999.0,9,  -999.00,9,  -999.00,9,  -999.00,9,  -999.00,9,     -999,9,   -999.0,   9,   -999.0,   9,     -999,9,  -999.00,9,  -999.00,9,    1.465,2,  -1.7190,20040724,1348
  32H120040718,    21,  1,    105,      5,2,20040724,1348, 71.6170,-156.0500,  172,    132.1,  -1.7169,  32.9649,2,-999.0000,9,    303.0,2,   -999.0,9,  -999.00,9,  -999.00,9,  -999.00,9,  -999.00,9,     -999,9,   -999.0,   9,   -999.0,   9,     -999,9,  -999.00,9,  -999.00,9,    1.399,2,  -1.7193,20040724,1348
  32H120040718,    21,  1,    106,      6,2,20040724,1348, 71.6170,-156.0500,  172,    132.1,  -1.7176,  32.9690,2,-999.0000,9,    303.1,2,   -999.0,9,  -999.00,9,  -999.00,9,  -999.00,9,  -999.00,9,     -999,9,   -999.0,   9,   -999.0,   9,     -999,9,  -999.00,9,  -999.00,9,    1.498,2,  -1.7200,20040724,1348
  32H120040718,    21,  2,    212,     12,2,20040724,1549, 71.6170,-156.0500,  172,      1.9,   1.1078,  26.1425,2,-999.0000,9,    432.8,2,    428.1,2,     6.38,2,     0.03,2,     0.00,2,     0.39,2,     0.03,2,   -999.0,   9,   -999.0,   9,     0.06,2,     0.37,2,     0.07,2,    1.106,2,   1.1077,20040724,1624
  32H120040718,    21,  2,    211,     11,2,20040724,1549, 71.6170,-156.0500,  172,      5.0,   0.1126,  28.2024,2,-999.0000,9,    446.9,2,    445.4,2,     5.51,2,     0.03,2,     0.01,2,     0.47,2,     0.02,2,   -999.0,   9,   -999.0,   9,     0.07,2,     0.28,2,     0.02,2,    1.066,2,   0.1125,20040724,1622
  32H120040718,    21,  2,    210,     10,2,20040724,1549, 71.6170,-156.0500,  172,      7.9,  -0.5639,  28.9511,2,-999.0000,9,    468.2,2,    476.7,2,     2.25,2,     0.03,2,     0.01,2,     0.51,2,     0.01,2,   -999.0,   9,   -999.0,   9,      0.1,2,     0.41,2,     0.01,2,    1.187,2,  -0.5641,20040724,1619
  32H120040718,    21,  2,    209,      9,2,20040724,1549, 71.6170,-156.0500,  172,     11.8,  -0.8643,  29.6537,2,-999.0000,9,    485.1,2,    487.2,2,     1.96,2,     0.02,2,     0.00,2,     0.51,2,     0.01,2,   -999.0,   9,   -999.0,   9,     0.11,2,     0.78,2,     0.09,2,    1.493,2,  -0.8645,20040724,1616
  32H120040718,    21,  2,    208,      8,2,20040724,1549, 71.6170,-156.0500,  172,     18.1,  -1.0361,  30.1589,2,-999.0000,9,    464.5,2,    491.2,2,     2.24,2,    -0.01,2,     0.01,2,     0.53,2,     0.04,2,   -999.0,   9,   -999.0,   9,     0.13,2,     1.26,2,     0.14,2,    1.721,2,  -1.0364,20040724,1613
  32H120040718,    21,  2,    207,      7,2,20040724,1549, 71.6170,-156.0500,  172,     27.2,  -1.0634,  31.1503,2,-999.0000,9,    437.8,2,    444.3,2,     4.91,2,     0.20,2,     0.02,2,     0.71,2,     0.03,2,   -999.0,   9,   -999.0,   9,     -999,5,     5.00,2,     0.13,2,    1.566,2,  -1.0639,20040724,1609
  32H120040718,    21,  2,    206,      6,2,20040724,1549, 71.6170,-156.0500,  172,     37.6,  -1.3371,  31.9116,2,-999.0000,9,    399.9,2,   -999.0,9,    19.81,2,     5.28,2,     0.14,2,     1.25,2,     0.68,2,   -999.0,   9,   -999.0,   9,     0.17,2,  -999.00,9,  -999.00,9,    2.599,2,  -1.3378,20040724,1605
  32H120040718,    21,  2,    205,      5,2,20040724,1549, 71.6170,-156.0500,  172,     37.6,  -1.3374,  31.9123,2,-999.0000,9,    399.5,2,   -999.0,9,  -999.00,9,  -999.00,9,  -999.00,9,  -999.00,9,     -999,9,   -999.0,   9,   -999.0,   9,     -999,9,  -999.00,9,  -999.00,9,    2.668,2,  -1.3381,20040724,1605
  32H120040718,    21,  2,    204,      4,2,20040724,1549, 71.6170,-156.0500,  172,     77.0,  -1.4934,  32.4379,2,-999.0000,9,    340.6,2,   -999.0,9,    36.53,2,    10.48,2,     0.23,2,     1.75,2,     2.39,2,   -999.0,   9,   -999.0,   9,     0.18,2,  -999.00,9,  -999.00,9,    1.473,2,  -1.4948,20040724,1601
  32H120040718,    21,  2,    203,      3,2,20040724,1549, 71.6170,-156.0500,  172,    112.0,  -1.7068,  32.7867,2,-999.0000,9,    321.6,2,   -999.0,9,    44.27,2,    13.34,2,     0.19,2,     1.98,2,     1.71,2,   -999.0,   9,   -999.0,   9,     0.13,2,  -999.00,9,  -999.00,9,    1.430,2,  -1.7088,20040724,1557
  32H120040718,    21,  2,    202,      2,2,20040724,1549, 71.6170,-156.0500,  172,    175.6,  -1.5261,  33.1648,2,-999.0000,9,    293.6,2,   -999.0,9,    37.71,2,    11.77,2,     0.17,2,     1.93,2,     1.52,2,   -999.0,   9,   -999.0,   9,      0.2,2,  -999.00,9,  -999.00,9,    1.568,2,  -1.5297,20040724,1553
  32H120040718,    21,  2,    201,      1,2,20040724,1549, 71.6170,-156.0500,  172,    200.9,   0.2658,  34.6614,2,-999.0000,9,    263.8,2,   -999.0,9,    18.88,2,    12.69,2,     0.14,2,     1.40,2,      0.7,2,   -999.0,   9,   -999.0,   9,     0.16,2,  -999.00,9,  -999.00,9,    1.667,2,   0.2579,20040724,1549