BOTTLE,20220815CCHSIOAMB
EXPOCODE,STNNBR,CASTNO,SAMPNO,BTLNBR,BTLNBR_FLAG_W,DATE,TIME,LATITUDE,LONGITUDE,DEPTH,CTDPRS,CTDTMP,CTDSAL,CTDSAL_FLAG_W,SALNTY,SALNTY_FLAG_W,CTDOXY,CTDOXY_FLAG_W,OXYGEN,OXYGEN_FLAG_W,SILCAT,SILCAT_FLAG_W,NITRAT,NITRAT_FLAG_W,NITRIT,NITRIT_FLAG_W,PHSPHT,PHSPHT_FLAG_W,AMMONI,AMMONI_FLAG_W,TCARBN,TCARBN_FLAG_W,ALKALI,ALKALI_FLAG_W,UREA,UREA_FLAG_W,CHLORA,CHLORA_FLAG_W,PHAEO,PHAEO_FLAG_W,FLUORO,FLUORO_FLAG_W,THETA,BTL_DATE,BTL_TIME
,,,,,,,,,,METERS,DBAR,ITS-90,PSS-78,,PSS-78,,UMOL/KG,,UMOL/KG,,UMOL/KG,,UMOL/KG,,UMOL/KG,,UMOL/KG,,UMOL/KG,,UMOL/KG,,UMOL/KG,,UMOL/KG,,UG/L,,UG/L,,VOLTS,,DEG C,,
  32H120040718,    25,  2,    206,      6,2,20040729, 512, 71.2900,-152.5430,   50,     44.0,   3.1008,  31.3385,2,-999.0000,9,    336.7,2,   -999.0,9,  -999.00,9,  -999.00,9,  -999.00,9,  -999.00,9,     -999,9,   -999.0,   9,   -999.0,   9,     -999,9,  -999.00,9,  -999.00,9,    1.243,2,   3.0984,20040729, 511
  32H120040718,    25,  2,    207,      7,2,20040729, 512, 71.2900,-152.5430,   50,     44.0,   3.1078,  31.3405,2,-999.0000,9,    336.5,2,   -999.0,9,  -999.00,9,  -999.00,9,  -999.00,9,  -999.00,9,     -999,9,   -999.0,   9,   -999.0,   9,     -999,9,  -999.00,9,  -999.00,9,    1.227,2,   3.1054,20040729, 511
  32H120040718,    25,  2,    201,      1,2,20040729, 512, 71.2900,-152.5430,   50,     44.0,   3.1194,  31.3428,2,-999.0000,9,    336.9,2,   -999.0,9,  -999.00,9,  -999.00,9,  -999.00,9,  -999.00,9,     -999,9,   -999.0,   9,   -999.0,   9,     -999,9,  -999.00,9,  -999.00,9,    1.199,2,   3.1170,20040729, 510
  32H120040718,    25,  2,    209,      9,2,20040729, 512, 71.2900,-152.5430,   50,     44.0,   3.1337,  31.3439,2,-999.0000,9,    335.1,2,   -999.0,9,  -999.00,9,  -999.00,9,  -999.00,9,  -999.00,9,     -999,9,   -999.0,   9,   -999.0,   9,     -999,9,  -999.00,9,  -999.00,9,    1.215,2,   3.1312,20040729, 512
  32H120040718,    25,  2,    203,      3,2,20040729, 512, 71.2900,-152.5430,   50,     44.0,   3.1351,  31.3447,2,-999.0000,9,    336.1,2,   -999.0,9,  -999.00,9,  -999.00,9,  -999.00,9,  -999.00,9,     -999,9,   -999.0,   9,   -999.0,   9,     -999,9,  -999.00,9,  -999.00,9,    1.206,2,   3.1326,20040729, 510
  32H120040718,    25,  2,    205,      5,2,20040729, 512, 71.2900,-152.5430,   50,     44.0,   3.1364,  31.3447,2,-999.0000,9,    335.4,2,   -999.0,9,  -999.00,9,  -999.00,9,  -999.00,9,  -999.00,9,     -999,9,   -999.0,   9,   -999.0,   9,     -999,9,  -999.00,9,  -999.00,9,    1.248,2,   3.1339,20040729, 511
  32H120040718,    25,  2,    204,      4,2,20040729, 512, 71.2900,-152.5430,   50,     44.0,   3.1365,  31.3445,2,-999.0000,9,    335.8,2,   -999.0,9,  -999.00,9,  -999.00,9,  -999.00,9,  -999.00,9,     -999,9,   -999.0,   9,   -999.0,   9,     -999,9,  -999.00,9,  -999.00,9,    1.215,2,   3.1340,20040729, 511
  32H120040718,    25,  2,    211,     11,2,20040729, 512, 71.2900,-152.5430,   50,     44.0,   3.1405,  31.3445,2,-999.0000,9,    334.5,2,   -999.0,9,  -999.00,9,  -999.00,9,  -999.00,9,  -999.00,9,     -999,9,   -999.0,   9,   -999.0,   9,     -999,9,  -999.00,9,  -999.00,9,    1.215,2,   3.1380,20040729, 512
  32H120040718,    25,  2,    202,      2,2,20040729, 512, 71.2900,-152.5430,   50,     44.0,   3.1468,  31.3461,2,-999.0000,9,    335.7,2,   -999.0,9,     7.99,2,     0.32,2,     0.05,2,     0.81,2,     0.87,2,   -999.0,   9,   -999.0,   9,     0.17,2,  -999.00,9,  -999.00,9,    1.191,2,   3.1443,20040729, 510
  32H120040718,    25,  2,    212,     12,2,20040729, 512, 71.2900,-152.5430,   50,     44.0,   3.1499,  31.3461,2,-999.0000,9,    335.2,2,   -999.0,9,     8.23,2,     0.32,2,     0.06,2,     0.81,2,     0.92,2,   -999.0,   9,   -999.0,   9,     0.18,2,  -999.00,9,  -999.00,9,    1.204,2,   3.1474,20040729, 513
  32H120040718,    25,  2,    208,      8,2,20040729, 512, 71.2900,-152.5430,   50,     44.0,   3.1547,  31.3464,2,-999.0000,9,    336.0,2,   -999.0,9,  -999.00,9,  -999.00,9,  -999.00,9,  -999.00,9,     -999,9,   -999.0,   9,   -999.0,   9,     -999,9,  -999.00,9,  -999.00,9,    1.225,2,   3.1522,20040729, 512
  32H120040718,    25,  2,    210,     10,2,20040729, 512, 71.2900,-152.5430,   50,     44.0,   3.1633,  31.3474,2,-999.0000,9,    335.7,2,   -999.0,9,  -999.00,9,  -999.00,9,  -999.00,9,  -999.00,9,     -999,9,   -999.0,   9,   -999.0,   9,     -999,9,  -999.00,9,  -999.00,9,    1.181,2,   3.1608,20040729, 512
  32H120040718,    25,  3,    312,     12,2,20040729,1431, 71.2900,-152.5430,   50,      2.2,   3.7756,  21.0952,2,-999.0000,9,    349.3,2,   -999.0,9,  -999.00,9,  -999.00,9,  -999.00,9,  -999.00,9,     -999,9,   -999.0,   9,   -999.0,   9,     -999,9,  -999.00,9,  -999.00,9,    1.451,2,   3.7755,20040729,1455
  32H120040718,    25,  3,    311,     11,2,20040729,1431, 71.2900,-152.5430,   50,      2.2,   3.7765,  21.0751,2,-999.0000,9,    349.1,2,    354.7,2,     6.37,2,     0.08,2,     0.00,2,     0.37,2,     0.17,2,   -999.0,   9,   -999.0,   9,     0.04,2,     0.46,2,     0.19,2,    1.451,2,   3.7764,20040729,1454
  32H120040718,    25,  3,    310,     10,2,20040729,1431, 71.2900,-152.5430,   50,      3.2,   4.3062,  23.1665,2,-999.0000,9,    344.0,2,    351.9,2,     6.58,2,     0.08,2,     0.00,2,     0.39,2,     0.18,2,   -999.0,   9,   -999.0,   9,     0.04,2,     0.51,2,     0.12,2,    1.538,2,   4.3060,20040729,1453
  32H120040718,    25,  3,    309,      9,2,20040729,1431, 71.2900,-152.5430,   50,      4.8,   6.0255,  28.5021,2,-999.0000,9,    327.1,2,    333.9,2,     8.33,2,     0.02,2,     0.00,2,     0.56,2,      0.2,2,   -999.0,   9,   -999.0,   9,     0.07,2,     0.53,2,     0.14,2,    1.467,2,   6.0251,20040729,1450
  32H120040718,    25,  3,    307,      7,2,20040729,1431, 71.2900,-152.5430,   50,      7.1,   6.3441,  29.2406,2,-999.0000,9,    323.4,2,    325.9,2,     9.09,2,     0.07,2,     0.00,2,     0.62,2,     0.19,2,   -999.0,   9,   -999.0,   9,     0.08,2,     0.54,2,     0.21,2,    1.428,2,   6.3435,20040729,1447
  32H120040718,    25,  3,    308,      8,2,20040729,1431, 71.2900,-152.5430,   50,      7.1,   6.4301,  29.3815,2,-999.0000,9,    321.8,2,   -999.0,9,  -999.00,9,  -999.00,9,  -999.00,9,  -999.00,9,     -999,9,   -999.0,   9,   -999.0,   9,     -999,9,  -999.00,9,  -999.00,9,    1.405,2,   6.4295,20040729,1447
  32H120040718,    25,  3,    306,      6,2,20040729,1431, 71.2900,-152.5430,   50,     10.6,   6.4617,  30.3609,2,-999.0000,9,    313.8,2,    319.2,2,     9.18,2,     0.01,2,     0.01,2,     0.66,2,     0.16,2,   -999.0,   9,   -999.0,   9,     0.08,2,     0.60,2,     0.27,2,    1.528,2,   6.4608,20040729,1445
  32H120040718,    25,  3,    304,      4,2,20040729,1431, 71.2900,-152.5430,   50,     15.8,   6.2825,  30.5810,2,-999.0000,9,    309.3,2,   -999.0,9,  -999.00,9,  -999.00,9,  -999.00,9,  -999.00,9,     -999,9,   -999.0,   9,   -999.0,   9,     -999,9,  -999.00,9,  -999.00,9,    1.551,2,   6.2812,20040729,1441
  32H120040718,    25,  3,    305,      5,2,20040729,1431, 71.2900,-152.5430,   50,     15.8,   6.2928,  30.5796,2,-999.0000,9,    309.4,2,    316.0,2,     9.06,2,     0.06,2,     0.01,2,     0.70,2,     0.31,2,   -999.0,   9,   -999.0,   9,      0.1,2,     0.57,2,     0.33,2,    1.537,2,   6.2915,20040729,1441
  32H120040718,    25,  3,    303,      3,2,20040729,1431, 71.2900,-152.5430,   50,     21.2,   6.1592,  30.7116,2,-999.0000,9,    307.7,2,   -999.0,9,     8.82,2,     0.10,2,     0.02,2,     0.72,2,     0.51,2,   -999.0,   9,   -999.0,   9,     0.12,2,  -999.00,9,  -999.00,9,    1.441,2,   6.1575,20040729,1438
  32H120040718,    25,  3,    302,      2,2,20040729,1431, 71.2900,-152.5430,   50,     31.2,   5.0705,  30.9305,2,-999.0000,9,    327.4,2,   -999.0,9,     7.59,2,     0.10,2,     0.02,2,     0.71,2,     0.43,2,   -999.0,   9,   -999.0,   9,     0.14,2,  -999.00,9,  -999.00,9,    1.445,2,   5.0683,20040729,1435
  32H120040718,    25,  3,    301,      1,2,20040729,1431, 71.2900,-152.5430,   50,     41.5,   3.9583,  31.1520,2,-999.0000,9,    333.1,2,   -999.0,9,     7.58,2,     0.19,2,     0.04,2,     0.74,2,     0.67,2,   -999.0,   9,   -999.0,   9,     0.14,2,  -999.00,9,  -999.00,9,    1.329,2,   3.9557,20040729,1431
  32H120040718,    26,  1,    112,     12,2,20040730, 120, 71.4510,-152.4000,  117,      1.9,   4.4159,  27.6195,2,  27.0307,2,    329.7,2,    337.0,2,     7.37,2,     0.05,2,     0.01,2,     0.56,2,     0.16,2,   1777.8,   2,   1924.8,   2,     0.06,2,     6.66,2,     2.70,2,    1.550,2,   4.4158,20040730, 146
  32H120040718,    26,  1,    111,     11,2,20040730, 120, 71.4510,-152.4000,  117,      5.1,   4.4336,  28.0789,2,-999.0000,9,    328.7,2,    333.8,2,     7.58,2,     0.05,2,     0.01,2,     0.61,2,     0.17,2,   -999.0,   9,   -999.0,   9,     0.07,2,     0.62,2,     0.20,2,    1.615,2,   4.4333,20040730, 144
  32H120040718,    26,  1,    110,     10,2,20040730, 120, 71.4510,-152.4000,  117,     10.1,   6.3185,  29.1762,2,-999.0000,9,    321.7,2,    327.8,2,     8.35,2,     0.05,2,     0.01,2,     0.59,2,     0.14,2,   1875.7,   2,   2053.9,   2,     0.08,2,     0.90,2,     0.22,2,    1.708,2,   6.3177,20040730, 142
  32H120040718,    26,  1,    109,      9,2,20040730, 120, 71.4510,-152.4000,  117,     15.0,   6.5099,  29.8035,2,-999.0000,9,    320.9,2,    326.0,2,     8.66,2,     0.04,2,     0.01,2,     0.65,2,     0.32,2,   -999.0,   9,   -999.0,   9,      0.1,2,     0.55,2,     0.52,2,    1.495,2,   6.5087,20040730, 140
  32H120040718,    26,  1,    108,      8,2,20040730, 120, 71.4510,-152.4000,  117,     19.9,   5.8644,  29.9453,2,-999.0000,9,    329.3,2,    331.8,2,     8.54,2,     0.04,2,     0.01,2,     0.65,2,     0.32,2,   1930.7,   2,   2104.4,   2,     0.09,2,     0.40,2,     0.38,2,    1.459,2,   5.8629,20040730, 138
  32H120040718,    26,  1,    107,      7,2,20040730, 120, 71.4510,-152.4000,  117,     30.2,   5.7565,  30.6588,2,-999.0000,9,    320.3,2,    328.2,2,     8.41,2,     0.03,2,     0.02,2,     0.69,2,     0.36,2,   1977.2,   2,   2176.1,   2,     0.12,2,     0.47,2,     0.41,2,    1.367,2,   5.7542,20040730, 136
  32H120040718,    26,  1,    106,      6,2,20040730, 120, 71.4510,-152.4000,  117,     39.9,   5.6182,  30.8991,2,-999.0000,9,    311.6,2,    319.0,2,     8.29,2,     0.07,2,     0.03,2,     0.74,2,     0.73,2,   1997.4,   2,   2167.3,   2,     0.14,2,     0.29,2,     0.20,2,    1.164,2,   5.6152,20040730, 134
  32H120040718,    26,  1,    105,      5,2,20040730, 120, 71.4510,-152.4000,  117,     50.5,   5.6246,  30.9709,2,  30.9668,2,    311.1,2,    317.5,2,     8.17,2,     0.07,2,     0.03,2,     0.73,2,     0.69,2,   1997.1,   2,   2176.6,   2,     0.13,2,     0.20,2,     0.25,2,    1.117,2,   5.6208,20040730, 131
  32H120040718,    26,  1,    104,      4,3,20040730, 120, 71.4510,-152.4000,  117,     60.4,   4.8932,  31.0863,2,-999.0000,9,    313.9,2,   -999.0,9,     8.49,2,     0.06,2,     0.04,2,     0.76,2,     0.84,2,   -999.0,   9,   -999.0,   9,     0.17,2,  -999.00,9,  -999.00,9,    1.103,2,   4.8890,20040730, 129
  32H120040718,    26,  1,    103,      3,2,20040730, 120, 71.4510,-152.4000,  117,     75.5,   2.9992,  31.3895,2,-999.0000,9,    336.7,2,    343.0,2,     8.58,2,     0.44,2,     0.07,2,     0.83,2,     0.85,2,   2016.6,   2,   2188.7,   2,     0.16,2,     0.17,2,     0.45,2,    1.201,2,   2.9950,20040730, 126
  32H120040718,    26,  1,    102,      2,2,20040730, 120, 71.4510,-152.4000,  117,     95.5,  -0.7489,  32.1686,2,  32.0799,2,    356.4,2,   -999.0,9,    16.78,2,     4.20,2,     0.15,2,     1.24,2,     1.22,2,   2073.6,   2,   2217.9,   2,     0.15,2,     0.58,2,     0.38,2,    1.385,2,  -0.7513,20040730, 123
  32H120040718,    26,  1,    101,      1,3,20040730, 120, 71.4510,-152.4000,  117,    113.2,  -1.1892,  32.5156,2,-999.0000,9,    343.1,2,   -999.0,9,    18.88,2,     5.73,2,     0.12,2,     1.27,2,     1.07,2,   -999.0,   9,   -999.0,   9,     0.18,2,     0.42,2,     0.52,2,    1.444,2,  -1.1917,20040730, 120
  32H120040718,    26,  2,    208,      8,2,20040730, 339, 71.4510,-152.4000,  117,     40.5,   5.5169,  30.9544,2,-999.0000,9,    314.6,2,   -999.0,9,  -999.00,9,  -999.00,9,  -999.00,9,  -999.00,9,     -999,9,   -999.0,   9,   -999.0,   9,     -999,9,  -999.00,9,  -999.00,9,    1.173,2,   5.5139,20040730, 346
  32H120040718,    26,  2,    212,     12,2,20040730, 339, 71.4510,-152.4000,  117,     40.5,   5.5183,  30.9523,2,-999.0000,9,    314.3,2,   -999.0,9,  -999.00,9,  -999.00,9,  -999.00,9,  -999.00,9,     -999,9,   -999.0,   9,   -999.0,   9,     -999,9,  -999.00,9,  -999.00,9,    1.216,2,   5.5153,20040730, 347
  32H120040718,    26,  2,    207,      7,2,20040730, 339, 71.4510,-152.4000,  117,     40.5,   5.5194,  30.9526,2,-999.0000,9,    314.3,2,   -999.0,9,  -999.00,9,  -999.00,9,  -999.00,9,  -999.00,9,     -999,9,   -999.0,   9,   -999.0,   9,     -999,9,  -999.00,9,  -999.00,9,    1.201,2,   5.5164,20040730, 345
  32H120040718,    26,  2,    209,      9,2,20040730, 339, 71.4510,-152.4000,  117,     40.5,   5.5197,  30.9523,2,-999.0000,9,    314.6,2,   -999.0,9,  -999.00,9,  -999.00,9,  -999.00,9,  -999.00,9,     -999,9,   -999.0,   9,   -999.0,   9,     -999,9,  -999.00,9,  -999.00,9,    1.174,2,   5.5167,20040730, 346
  32H120040718,    26,  2,    211,     11,2,20040730, 339, 71.4510,-152.4000,  117,     40.5,   5.5224,  30.9497,2,-999.0000,9,    314.4,2,   -999.0,9,     8.11,2,     0.11,2,     0.02,2,     0.72,2,      0.7,2,   -999.0,   9,   -999.0,   9,     0.14,2,  -999.00,9,  -999.00,9,    1.169,2,   5.5194,20040730, 346
  32H120040718,    26,  2,    210,     10,2,20040730, 339, 71.4510,-152.4000,  117,     40.5,   5.5229,  30.9498,2,-999.0000,9,    314.3,2,   -999.0,9,  -999.00,9,  -999.00,9,  -999.00,9,  -999.00,9,     -999,9,   -999.0,   9,   -999.0,   9,     -999,9,  -999.00,9,  -999.00,9,    1.184,2,   5.5199,20040730, 346
  32H120040718,    26,  2,    206,      6,2,20040730, 339, 71.4510,-152.4000,  117,     91.1,   0.4972,  31.8924,2,-999.0000,9,    347.4,2,   -999.0,9,  -999.00,9,  -999.00,9,  -999.00,9,  -999.00,9,     -999,9,   -999.0,   9,   -999.0,   9,     -999,9,  -999.00,9,  -999.00,9,    1.405,2,   0.4940,20040730, 340
  32H120040718,    26,  2,    205,      5,2,20040730, 339, 71.4510,-152.4000,  117,     91.1,   0.4995,  31.8922,2,-999.0000,9,    347.5,2,   -999.0,9,  -999.00,9,  -999.00,9,  -999.00,9,  -999.00,9,     -999,9,   -999.0,   9,   -999.0,   9,     -999,9,  -999.00,9,  -999.00,9,    1.364,2,   0.4963,20040730, 340
  32H120040718,    26,  2,    204,      4,2,20040730, 339, 71.4510,-152.4000,  117,     91.1,   0.5014,  31.8917,2,-999.0000,9,    347.4,2,   -999.0,9,  -999.00,9,  -999.00,9,  -999.00,9,  -999.00,9,     -999,9,   -999.0,   9,   -999.0,   9,     -999,9,  -999.00,9,  -999.00,9,    1.316,2,   0.4982,20040730, 339
  32H120040718,    26,  2,    203,      3,2,20040730, 339, 71.4510,-152.4000,  117,     91.1,   0.5062,  31.8909,2,-999.0000,9,    347.0,2,   -999.0,9,  -999.00,9,  -999.00,9,  -999.00,9,  -999.00,9,     -999,9,   -999.0,   9,   -999.0,   9,     -999,9,  -999.00,9,  -999.00,9,    1.322,2,   0.5030,20040730, 339
  32H120040718,    26,  2,    202,      2,2,20040730, 339, 71.4510,-152.4000,  117,     91.1,   0.5067,  31.8909,2,-999.0000,9,    347.3,2,   -999.0,9,    14.21,2,     2.63,2,     0.13,2,     1.10,2,     1.16,2,   -999.0,   9,   -999.0,   9,     0.23,2,  -999.00,9,  -999.00,9,    1.324,2,   0.5035,20040730, 339
  32H120040718,    26,  2,    201,      1,2,20040730, 339, 71.4510,-152.4000,  117,     91.1,   0.5101,  31.8903,2,-999.0000,9,    347.6,2,   -999.0,9,  -999.00,9,  -999.00,9,  -999.00,9,  -999.00,9,     -999,9,   -999.0,   9,   -999.0,   9,     -999,9,  -999.00,9,  -999.00,9,    1.339,2,   0.5069,20040730, 339
  32H120040718,    27,  1,    112,     12,2,20040730,1323, 71.4870,-152.4870,  105,      2.4,   5.8829,  29.3028,2,  29.2574,2,    328.7,2,    334.0,2,     8.50,2,     0.08,2,     0.00,2,     0.59,2,      0.1,2,   -999.0,   9,   -999.0,   9,     0.05,2,     0.54,2,     0.20,2,    1.446,2,   5.8827,20040730,1401
  32H120040718,    27,  1,    111,     11,2,20040730,1323, 71.4870,-152.4870,  105,      6.5,   6.1995,  29.7637,2,  29.6547,2,    326.4,2,    330.3,2,     8.70,2,     0.02,2,     0.00,2,     0.62,2,     0.12,2,   -999.0,   9,   -999.0,   9,     0.05,2,  -999.00,9,  -999.00,9,    1.527,2,   6.1990,20040730,1359
  32H120040718,    27,  1,    110,     10,2,20040730,1323, 71.4870,-152.4870,  105,     11.6,   5.1940,  29.8932,2,-999.0000,9,    336.1,2,    340.9,2,     8.35,2,     0.02,2,     0.00,2,     0.65,2,     0.17,2,   -999.0,   9,   -999.0,   9,     0.06,2,     0.64,2,     0.25,2,    1.433,2,   5.1932,20040730,1356
  32H120040718,    27,  1,    109,      9,2,20040730,1323, 71.4870,-152.4870,  105,     16.7,   5.0828,  30.2013,2,-999.0000,9,    328.9,2,    340.2,2,     8.11,2,     0.07,2,     0.01,2,     0.72,2,     0.47,2,   -999.0,   9,   -999.0,   9,      0.1,2,  -999.00,9,  -999.00,9,    1.426,2,   5.0816,20040730,1352
  32H120040718,    27,  1,    108,      8,2,20040730,1323, 71.4870,-152.4870,  105,     21.3,   3.8463,  30.3648,2,-999.0000,9,    349.0,2,    355.1,2,     7.21,2,     0.06,2,     0.01,2,     0.72,2,     0.51,2,   -999.0,   9,   -999.0,   9,      0.1,2,     0.29,2,     0.19,2,    1.279,2,   3.8450,20040730,1350
  32H120040718,    27,  1,    107,      7,2,20040730,1323, 71.4870,-152.4870,  105,     31.7,   4.6749,  30.8035,2,-999.0000,9,    335.7,2,    333.0,2,     7.64,2,     0.10,2,     0.02,2,     0.72,2,     0.59,2,   -999.0,   9,   -999.0,   9,     0.11,2,     0.28,2,     0.24,2,    1.236,2,   4.6728,20040730,1346
  32H120040718,    27,  1,    106,      6,2,20040730,1323, 71.4870,-152.4870,  105,     43.7,   4.5106,  31.1598,2,-999.0000,9,    329.9,2,    333.5,2,     7.84,2,     0.19,2,     0.03,2,     0.74,2,     0.63,2,   -999.0,   9,   -999.0,   9,     0.11,2,     0.27,2,     0.26,2,    1.213,2,   4.5077,20040730,1344
  32H120040718,    27,  1,    105,      5,2,20040730,1323, 71.4870,-152.4870,  105,     55.8,   2.8096,  31.2688,2,-999.0000,9,    361.8,2,    367.1,2,     8.37,2,     0.42,2,     0.05,2,     0.76,2,     0.35,2,   -999.0,   9,   -999.0,   9,      0.1,2,     1.07,2,     0.32,2,    1.566,2,   2.8066,20040730,1339
  32H120040718,    27,  1,    104,      4,2,20040730,1323, 71.4870,-152.4870,  105,     64.8,   2.1394,  31.4447,2,-999.0000,9,    368.7,2,    373.6,2,     8.25,2,     0.56,2,     0.06,2,     0.78,2,     0.44,2,   -999.0,   9,   -999.0,   9,      0.1,2,     0.72,2,     0.26,2,    1.546,2,   2.1363,20040730,1335
  32H120040718,    27,  1,    103,      3,2,20040730,1323, 71.4870,-152.4870,  105,     75.0,   1.5528,  31.5686,2,-999.0000,9,    367.8,2,    358.0,2,     9.00,2,     0.73,2,     0.09,2,     0.86,2,     0.73,2,   -999.0,   9,   -999.0,   9,     0.13,2,     0.49,2,     0.27,2,    1.470,2,   1.5496,20040730,1331
  32H120040718,    27,  1,    102,      2,2,20040730,1323, 71.4870,-152.4870,  105,     87.0,   0.5942,  31.7762,2,  31.7729,2,    364.0,2,    371.6,2,    11.19,2,     1.82,2,     0.13,2,     0.99,2,     0.83,2,   -999.0,   9,   -999.0,   9,     0.15,2,  -999.00,9,  -999.00,9,    1.490,2,   0.5911,20040730,1327
  32H120040718,    27,  1,    101,      1,2,20040730,1323, 71.4870,-152.4870,  105,    102.7,  -0.8851,  32.1986,2,  32.1183,2,    359.3,2,    365.8,2,    16.12,2,     4.45,2,     0.14,2,     1.26,2,     1.13,2,   -999.0,   9,   -999.0,   9,     0.12,2,     0.51,2,     0.34,2,    1.315,2,  -0.8875,20040730,1323