BOTTLE,20220815CCHSIOAMB
EXPOCODE,STNNBR,CASTNO,SAMPNO,BTLNBR,BTLNBR_FLAG_W,DATE,TIME,LATITUDE,LONGITUDE,DEPTH,CTDPRS,CTDTMP,CTDSAL,CTDSAL_FLAG_W,SALNTY,SALNTY_FLAG_W,CTDOXY,CTDOXY_FLAG_W,OXYGEN,OXYGEN_FLAG_W,SILCAT,SILCAT_FLAG_W,NITRAT,NITRAT_FLAG_W,NITRIT,NITRIT_FLAG_W,PHSPHT,PHSPHT_FLAG_W,AMMONI,AMMONI_FLAG_W,TCARBN,TCARBN_FLAG_W,ALKALI,ALKALI_FLAG_W,UREA,UREA_FLAG_W,CHLORA,CHLORA_FLAG_W,PHAEO,PHAEO_FLAG_W,FLUORO,FLUORO_FLAG_W,THETA,BTL_DATE,BTL_TIME
,,,,,,,,,,METERS,DBAR,ITS-90,PSS-78,,PSS-78,,UMOL/KG,,UMOL/KG,,UMOL/KG,,UMOL/KG,,UMOL/KG,,UMOL/KG,,UMOL/KG,,UMOL/KG,,UMOL/KG,,UMOL/KG,,UG/L,,UG/L,,VOLTS,,DEG C,,
  32H120040718,    54,  6,    612,     12,2,20040819, 630, 73.4810,-159.6040, 2165,     17.8,   1.9946,  29.5175,2,-999.0000,9,    377.4,2,   -999.0,9,     3.29,2,     0.06,2,     0.00,2,     0.62,2,     0.18,2,   -999.0,   9,   -999.0,   9,     0.15,2,  -999.00,9,  -999.00,9,    1.208,2,   1.9938,20040819, 639
  32H120040718,    54,  6,    611,     11,2,20040819, 630, 73.4810,-159.6040, 2165,     17.8,   2.2855,  29.6231,2,-999.0000,9,    374.5,2,   -999.0,9,  -999.00,9,  -999.00,9,  -999.00,9,  -999.00,9,     -999,9,   -999.0,   9,   -999.0,   9,     -999,9,  -999.00,9,  -999.00,9,    1.219,2,   2.2847,20040819, 638
  32H120040718,    54,  6,    610,     10,2,20040819, 630, 73.4810,-159.6040, 2165,     41.6,  -0.3122,  31.8325,2,-999.0000,9,    357.1,2,   -999.0,9,  -999.00,9,  -999.00,9,  -999.00,9,  -999.00,9,     -999,9,   -999.0,   9,   -999.0,   9,     -999,9,  -999.00,9,  -999.00,9,    1.226,2,  -0.3133,20040819, 633
  32H120040718,    54,  6,    609,      9,2,20040819, 630, 73.4810,-159.6040, 2165,     41.6,  -0.3128,  31.8375,2,-999.0000,9,    357.4,2,   -999.0,9,  -999.00,9,  -999.00,9,  -999.00,9,  -999.00,9,     -999,9,   -999.0,   9,   -999.0,   9,     -999,9,  -999.00,9,  -999.00,9,    1.156,2,  -0.3139,20040819, 632
  32H120040718,    54,  6,    608,      8,2,20040819, 630, 73.4810,-159.6040, 2165,     41.6,  -0.3198,  31.8401,2,-999.0000,9,    356.5,2,   -999.0,9,  -999.00,9,  -999.00,9,  -999.00,9,  -999.00,9,     -999,9,   -999.0,   9,   -999.0,   9,     -999,9,  -999.00,9,  -999.00,9,    1.221,2,  -0.3209,20040819, 632
  32H120040718,    54,  6,    607,      7,2,20040819, 630, 73.4810,-159.6040, 2165,     41.6,  -0.3240,  31.8422,2,-999.0000,9,    356.0,2,   -999.0,9,  -999.00,9,  -999.00,9,  -999.00,9,  -999.00,9,     -999,9,   -999.0,   9,   -999.0,   9,     -999,9,  -999.00,9,  -999.00,9,    1.147,2,  -0.3251,20040819, 632
  32H120040718,    54,  6,    606,      6,2,20040819, 630, 73.4810,-159.6040, 2165,     41.7,  -0.3248,  31.8420,2,-999.0000,9,    357.2,2,   -999.0,9,  -999.00,9,  -999.00,9,  -999.00,9,  -999.00,9,     -999,9,   -999.0,   9,   -999.0,   9,     -999,9,  -999.00,9,  -999.00,9,    1.143,2,  -0.3259,20040819, 632
  32H120040718,    54,  6,    605,      5,2,20040819, 630, 73.4810,-159.6040, 2165,     41.7,  -0.3257,  31.8413,2,-999.0000,9,    357.5,2,   -999.0,9,  -999.00,9,  -999.00,9,  -999.00,9,  -999.00,9,     -999,9,   -999.0,   9,   -999.0,   9,     -999,9,  -999.00,9,  -999.00,9,    1.157,2,  -0.3268,20040819, 631
  32H120040718,    54,  6,    604,      4,2,20040819, 630, 73.4810,-159.6040, 2165,     41.7,  -0.3282,  31.8431,2,-999.0000,9,    356.4,2,   -999.0,9,  -999.00,9,  -999.00,9,  -999.00,9,  -999.00,9,     -999,9,   -999.0,   9,   -999.0,   9,     -999,9,  -999.00,9,  -999.00,9,    1.133,2,  -0.3293,20040819, 631
  32H120040718,    54,  6,    603,      3,2,20040819, 630, 73.4810,-159.6040, 2165,     41.7,  -0.3325,  31.8458,2,-999.0000,9,    355.6,2,   -999.0,9,  -999.00,9,  -999.00,9,  -999.00,9,  -999.00,9,     -999,9,   -999.0,   9,   -999.0,   9,     -999,9,  -999.00,9,  -999.00,9,    1.154,2,  -0.3336,20040819, 631
  32H120040718,    54,  6,    602,      2,2,20040819, 630, 73.4810,-159.6040, 2165,     41.7,  -0.3343,  31.8468,2,-999.0000,9,    355.4,2,   -999.0,9,  -999.00,9,  -999.00,9,  -999.00,9,  -999.00,9,     -999,9,   -999.0,   9,   -999.0,   9,     -999,9,  -999.00,9,  -999.00,9,    1.176,2,  -0.3354,20040819, 631
  32H120040718,    54,  6,    601,      1,2,20040819, 630, 73.4810,-159.6040, 2165,     41.7,  -0.3357,  31.8475,2,-999.0000,9,    354.9,2,   -999.0,9,     8.42,2,     1.88,2,     0.08,2,     1.05,2,     0.63,2,   -999.0,   9,   -999.0,   9,     0.17,2,  -999.00,9,  -999.00,9,    1.251,2,  -0.3368,20040819, 630
  32H120040718,    55,  1,    112,     12,2,20040820,2110, 73.2900,-160.0740, 1176,    178.3,  -0.6637,  34.2692,2,-999.0000,9,    263.6,2,    276.8,2,    20.56,2,    13.50,2,     0.04,2,     1.34,2,     0.13,2,   -999.0,   9,   -999.0,   9,     0.08,2,  -999.00,9,  -999.00,9,    0.730,2,  -0.6691,20040820,2214
  32H120040718,    55,  1,    111,     11,2,20040820,2110, 73.2900,-160.0740, 1176,    203.2,  -0.1810,  34.5140,2,  34.5106,2,    264.3,2,    277.0,2,    13.28,2,    12.61,2,     0.03,2,     1.07,2,     0.08,2,   2154.2,   2,   2283.6,   2,     0.08,2,  -999.00,9,  -999.00,9,    0.717,2,  -0.1882,20040820,2210
  32H120040718,    55,  1,    110,     10,2,20040820,2110, 73.2900,-160.0740, 1176,    228.8,   0.1757,  34.6269,2,  34.6289,2,    266.1,2,    278.9,2,    11.06,2,    12.57,2,     0.02,2,     1.01,2,     0.07,2,   -999.0,   9,   -999.0,   9,     0.08,2,  -999.00,9,  -999.00,9,    0.662,2,   0.1668,20040820,2206
  32H120040718,    55,  1,    109,      9,2,20040820,2110, 73.2900,-160.0740, 1176,    255.7,   0.5316,  34.7274,2,-999.0000,9,    271.1,2,    283.9,2,     9.05,2,    12.53,2,     0.02,2,     0.95,2,     0.06,2,   -999.0,   9,   -999.0,   9,     0.08,2,  -999.00,9,  -999.00,9,    0.617,2,   0.5208,20040820,2202
  32H120040718,    55,  1,    108,      8,2,20040820,2110, 73.2900,-160.0740, 1176,    304.8,   0.7542,  34.7923,2,  34.7940,2,    276.5,2,    289.6,2,     7.46,2,    12.48,2,     0.02,2,     0.92,2,     0.05,2,   2137.6,   2,   2293.6,   2,     0.09,2,  -999.00,9,  -999.00,9,    0.619,2,   0.7406,20040820,2156
  32H120040718,    55,  1,    107,      7,2,20040820,2110, 73.2900,-160.0740, 1176,    355.0,   0.8083,  34.8264,2,  34.8291,2,    279.4,2,    293.3,2,     7.04,2,    12.39,2,     0.02,2,     0.91,2,     0.05,2,   -999.0,   9,   -999.0,   9,     0.08,2,  -999.00,9,  -999.00,9,    0.615,2,   0.7922,20040820,2151
  32H120040718,    55,  1,    106,      6,2,20040820,2110, 73.2900,-160.0740, 1176,    406.3,   0.7149,  34.8360,2,-999.0000,9,    280.7,2,    294.1,2,     7.05,2,    12.49,2,     0.02,2,     0.91,2,     0.04,2,   2140.8,   2,   2300.7,   2,     0.08,2,  -999.00,9,  -999.00,9,    0.610,2,   0.6965,20040820,2146
  32H120040718,    55,  1,    105,      5,2,20040820,2110, 73.2900,-160.0740, 1176,    509.6,   0.5583,  34.8493,2,-999.0000,9,    282.5,2,    296.8,2,     6.74,2,    12.45,2,     0.02,2,     0.90,2,     0.06,2,   2141.9,   2,   2309.1,   2,     0.08,2,  -999.00,9,  -999.00,9,    0.574,2,   0.5355,20040820,2141
  32H120040718,    55,  1,    104,      4,2,20040820,2110, 73.2900,-160.0740, 1176,    610.4,   0.4146,  34.8572,2,-999.0000,9,    281.3,2,    296.0,2,     7.70,2,    12.59,2,     0.02,2,     0.91,2,     0.06,2,   2141.7,   2,   2294.6,   2,     0.08,2,  -999.00,9,  -999.00,9,    0.632,2,   0.3874,20040820,2134
  32H120040718,    55,  1,    103,      3,3,20040820,2110, 73.2900,-160.0740, 1176,    811.5,   0.2026,  34.8670,2,-999.0000,9,    283.0,2,   -999.0,9,  -999.00,9,  -999.00,9,  -999.00,9,  -999.00,9,     -999,9,   -999.0,   9,   -999.0,   9,     -999,9,  -999.00,9,  -999.00,9,    0.609,2,   0.1664,20040820,2126
  32H120040718,    55,  1,    102,      2,2,20040820,2110, 73.2900,-160.0740, 1176,   1012.6,  -0.0304,  34.8809,2,-999.0000,9,    283.8,2,    300.8,2,     7.38,2,    12.63,2,     0.02,2,     0.93,2,     0.05,2,   -999.0,   9,   -999.0,   9,     0.11,2,  -999.00,9,  -999.00,9,    0.593,2,  -0.0754,20040820,2118
  32H120040718,    55,  1,    101,      1,2,20040820,2110, 73.2900,-160.0740, 1176,   1181.6,  -0.1295,  34.8901,2,  34.8918,2,    282.7,2,    299.1,2,     7.91,2,    12.77,2,     0.02,2,     0.95,2,     0.06,2,   2141.6,   2,   2301.7,   2,     0.07,2,  -999.00,9,  -999.00,9,    0.633,2,  -0.1829,20040820,2110
  32H120040718,    55,  2,    212,     12,2,20040820, 122, 73.2900,-160.0740, 1176,      2.0,   2.2830,  26.0704,2,-999.0000,9,    345.5,2,    367.2,2,     2.84,2,     0.07,2,     0.00,2,     0.55,2,     0.14,2,   1766.1,   2,   1854.6,   2,     0.02,2,     0.15,2,     0.03,2,    0.826,2,   2.2829,20040820, 159
  32H120040718,    55,  2,    211,     11,2,20040820, 122, 73.2900,-160.0740, 1176,      5.9,   2.2668,  26.2592,2,-999.0000,9,    351.3,2,    366.3,2,     2.95,2,     0.02,2,     0.00,2,     0.55,2,     0.14,2,   1771.6,   2,   1861.5,   2,     0.02,2,  -999.00,9,  -999.00,9,    0.853,2,   2.2666,20040820, 156
  32H120040718,    55,  2,    210,     10,2,20040820, 122, 73.2900,-160.0740, 1176,     10.9,   1.8130,  28.2296,2,  28.2080,2,    358.4,2,    372.7,2,     3.27,2,     0.02,2,     0.00,2,     0.58,2,     0.14,2,   -999.0,   9,   -999.0,   9,     0.04,2,     0.12,2,     0.04,2,    0.927,2,   1.8126,20040820, 153
  32H120040718,    55,  2,    209,      9,2,20040820, 122, 73.2900,-160.0740, 1176,     20.9,  -0.0970,  29.6618,2,-999.0000,9,    375.6,2,    395.0,2,     2.84,2,     0.02,2,     0.01,2,     0.70,2,     0.14,2,   1968.3,   2,   2106.6,   2,     0.04,2,     0.10,2,     0.03,2,    0.882,2,  -0.0975,20040820, 150
  32H120040718,    55,  2,    208,      8,2,20040820, 122, 73.2900,-160.0740, 1176,     30.9,   0.1890,  30.6397,2,  30.5633,2,    380.6,2,    402.6,2,     3.81,2,     0.01,2,     0.01,2,     0.73,2,     0.14,2,   -999.0,   9,   -999.0,   9,     0.06,2,     0.29,2,     0.08,2,    1.466,2,   0.1881,20040820, 147
  32H120040718,    55,  2,    207,      7,2,20040820, 122, 73.2900,-160.0740, 1176,     41.1,  -0.2256,  31.5742,2,  31.5584,2,    364.3,2,    387.3,2,     7.32,2,     1.25,2,     0.16,2,     0.94,2,     0.32,2,   2033.4,   2,   2193.9,   2,     0.08,2,     1.62,2,     0.15,2,    1.227,2,  -0.2267,20040820, 144
  32H120040718,    55,  2,    206,      6,2,20040820, 122, 73.2900,-160.0740, 1176,     51.3,  -0.2693,  31.8523,2,-999.0000,9,    352.8,2,    372.7,2,    11.04,2,     2.92,2,     0.15,2,     1.14,2,     1.14,2,   -999.0,   9,   -999.0,   9,     0.16,2,     0.05,2,     0.04,2,    1.013,2,  -0.2707,20040820, 141
  32H120040718,    55,  2,    205,      5,2,20040820, 122, 73.2900,-160.0740, 1176,     66.4,  -1.1067,  32.3412,2,-999.0000,9,    339.0,2,    352.7,2,    19.06,2,     6.94,2,     0.16,2,     1.47,2,     1.38,2,   2106.8,   2,   2225.1,   2,     0.16,2,  -999.00,9,  -999.00,9,    1.210,2,  -1.1081,20040820, 137
  32H120040718,    55,  2,    204,      4,2,20040820, 122, 73.2900,-160.0740, 1176,     81.4,  -1.4338,  32.5802,2,-999.0000,9,    284.6,2,    304.8,2,    26.53,2,    11.91,2,     0.06,2,     1.70,2,     0.41,2,   -999.0,   9,   -999.0,   9,     0.15,2,  -999.00,9,  -999.00,9,    0.782,2,  -1.4354,20040820, 134
  32H120040718,    55,  2,    203,      3,2,20040820, 122, 73.2900,-160.0740, 1176,    101.7,  -1.5164,  32.8848,2,  32.8992,2,    313.9,2,    327.9,2,    30.73,2,    10.78,2,     0.11,2,     1.72,2,     1.11,2,   2157.8,   2,   2259.9,   2,     0.17,2,     0.06,2,     0.06,2,    0.978,2,  -1.5184,20040820, 130
  32H120040718,    55,  2,    202,      2,2,20040820, 122, 73.2900,-160.0740, 1176,    125.0,  -1.7340,  33.1296,2,-999.0000,9,    294.5,2,    309.5,2,    50.18,2,    16.76,2,     0.14,2,     2.21,2,     0.88,2,   -999.0,   9,   -999.0,   9,     0.09,2,  -999.00,9,  -999.00,9,    1.061,2,  -1.7363,20040820, 127
  32H120040718,    55,  2,    201,      1,2,20040820, 122, 73.2900,-160.0740, 1176,    150.4,  -1.7405,  33.2416,2,-999.0000,9,    293.8,2,    307.8,2,    55.04,2,    18.37,2,     0.17,2,     2.38,2,     1.11,2,   -999.0,   9,   -999.0,   9,      0.1,2,     0.14,2,     0.23,2,    1.013,2,  -1.7433,20040820, 122
  32H120040718,    55,  3,    311,     11,2,20040820, 427, 73.2900,-160.0740, 1176,     14.9,   1.4194,  29.0194,2,-999.0000,9,    363.2,2,   -999.0,9,     3.54,2,    -0.01,2,     0.01,2,     0.61,2,     0.11,2,   -999.0,   9,   -999.0,   9,     0.05,2,  -999.00,9,  -999.00,9,    1.050,2,   1.4188,20040820, 518
  32H120040718,    55,  3,    312,     12,2,20040820, 427, 73.2900,-160.0740, 1176,     14.9,   1.5515,  29.0220,2,-999.0000,9,    362.1,2,   -999.0,9,     3.54,2,    -0.01,2,     0.01,2,     0.62,2,      0.1,2,   -999.0,   9,   -999.0,   9,     0.05,2,  -999.00,9,  -999.00,9,    1.045,2,   1.5509,20040820, 519
  32H120040718,    55,  3,    308,      8,2,20040820, 427, 73.2900,-160.0740, 1176,     36.2,  -0.0686,  31.5096,2,-999.0000,9,    356.7,2,   -999.0,9,     6.51,2,     0.81,2,     0.12,2,     0.90,2,     0.23,2,   -999.0,   9,   -999.0,   9,     0.08,2,  -999.00,9,  -999.00,9,    1.682,2,  -0.0696,20040820, 512
  32H120040718,    55,  3,    309,      9,2,20040820, 427, 73.2900,-160.0740, 1176,     36.2,  -0.0757,  31.5128,2,-999.0000,9,    356.9,2,   -999.0,9,     6.72,2,     0.95,2,     0.13,2,     0.92,2,     0.23,2,   -999.0,   9,   -999.0,   9,     0.08,2,  -999.00,9,  -999.00,9,    1.724,2,  -0.0767,20040820, 513
  32H120040718,    55,  3,    310,     10,2,20040820, 427, 73.2900,-160.0740, 1176,     36.2,  -0.0896,  31.5193,2,-999.0000,9,    356.8,2,   -999.0,9,     6.94,2,     1.08,2,     0.14,2,     0.96,2,     0.23,2,   -999.0,   9,   -999.0,   9,     0.15,2,  -999.00,9,  -999.00,9,    1.724,2,  -0.0906,20040820, 513
  32H120040718,    55,  3,    306,      6,2,20040820, 427, 73.2900,-160.0740, 1176,    153.3,  -1.4719,  33.3279,2,-999.0000,9,    291.0,2,   -999.0,9,    36.44,2,    13.29,2,     0.12,2,     1.88,2,     0.82,2,   -999.0,   9,   -999.0,   9,      0.1,2,  -999.00,9,  -999.00,9,    0.877,2,  -1.4752,20040820, 502
  32H120040718,    55,  3,    307,      7,2,20040820, 427, 73.2900,-160.0740, 1176,    153.3,  -1.4721,  33.3276,2,-999.0000,9,    291.0,2,   -999.0,9,    35.38,2,    12.78,2,     0.12,2,     1.85,2,     0.85,2,   -999.0,   9,   -999.0,   9,      0.1,2,  -999.00,9,  -999.00,9,    0.884,2,  -1.4754,20040820, 502
  32H120040718,    55,  3,    304,      4,2,20040820, 427, 73.2900,-160.0740, 1176,    507.5,   0.5673,  34.8486,2,-999.0000,9,    280.6,2,   -999.0,9,     6.46,2,    12.42,2,     0.02,2,     0.91,2,     0.01,2,   -999.0,   9,   -999.0,   9,     0.07,2,  -999.00,9,  -999.00,9,    0.642,2,   0.5445,20040820, 446
  32H120040718,    55,  3,    305,      5,2,20040820, 427, 73.2900,-160.0740, 1176,    507.6,   0.5677,  34.8487,2,-999.0000,9,    280.9,2,   -999.0,9,     6.58,2,    12.41,2,     0.02,2,     0.92,2,     0.01,2,   -999.0,   9,   -999.0,   9,      0.1,2,  -999.00,9,  -999.00,9,    0.591,2,   0.5449,20040820, 446
  32H120040718,    55,  3,    303,      3,2,20040820, 427, 73.2900,-160.0740, 1176,   1238.1,  -0.2148,  34.8988,2,-999.0000,9,    282.4,2,   -999.0,9,     7.74,2,    12.98,2,     0.01,2,     0.97,2,     0.02,2,   -999.0,   9,   -999.0,   9,     0.09,2,  -999.00,9,  -999.00,9,    0.595,2,  -0.2705,20040820, 428
  32H120040718,    55,  3,    302,      2,2,20040820, 427, 73.2900,-160.0740, 1176,   1238.1,  -0.2153,  34.8989,2,-999.0000,9,    282.5,2,   -999.0,9,     7.73,2,    12.98,2,     0.01,2,     0.96,2,        0,2,   -999.0,   9,   -999.0,   9,     0.07,2,  -999.00,9,  -999.00,9,    0.587,2,  -0.2710,20040820, 427
  32H120040718,    55,  3,    301,      1,2,20040820, 427, 73.2900,-160.0740, 1176,   1238.1,  -0.2154,  34.8989,2,-999.0000,9,    282.5,2,   -999.0,9,     7.73,2,    12.97,2,     0.02,2,     0.96,2,        0,2,   -999.0,   9,   -999.0,   9,     0.07,2,  -999.00,9,  -999.00,9,    0.565,2,  -0.2711,20040820, 427
  32H120040718,    55,  4,    412,     12,2,20040820, 639, 73.2900,-160.0740, 1176,     77.8,  -1.3332,  32.5133,2,-999.0000,9,    324.6,2,   -999.0,9,    23.46,2,     8.76,2,     0.16,2,     1.58,2,     1.46,2,   -999.0,   9,   -999.0,   9,     0.12,2,  -999.00,9,  -999.00,9,    1.137,2,  -1.3348,20040820, 647
  32H120040718,    55,  4,    411,     11,2,20040820, 639, 73.2900,-160.0740, 1176,     77.8,  -1.3360,  32.5148,2,-999.0000,9,    324.6,2,   -999.0,9,  -999.00,9,  -999.00,9,  -999.00,9,  -999.00,9,     -999,9,   -999.0,   9,   -999.0,   9,     -999,9,  -999.00,9,  -999.00,9,    1.104,2,  -1.3376,20040820, 646
  32H120040718,    55,  4,    409,      9,2,20040820, 639, 73.2900,-160.0740, 1176,     77.8,  -1.3387,  32.5184,2,-999.0000,9,    325.0,2,   -999.0,9,  -999.00,9,  -999.00,9,  -999.00,9,  -999.00,9,     -999,9,   -999.0,   9,   -999.0,   9,     -999,9,  -999.00,9,  -999.00,9,    1.123,2,  -1.3403,20040820, 646
  32H120040718,    55,  4,    408,      8,2,20040820, 639, 73.2900,-160.0740, 1176,     77.8,  -1.3403,  32.5189,2,-999.0000,9,    324.1,2,   -999.0,9,  -999.00,9,  -999.00,9,  -999.00,9,  -999.00,9,     -999,9,   -999.0,   9,   -999.0,   9,     -999,9,  -999.00,9,  -999.00,9,    1.081,2,  -1.3419,20040820, 646
  32H120040718,    55,  4,    410,     10,2,20040820, 639, 73.2900,-160.0740, 1176,     77.8,  -1.3405,  32.5157,2,-999.0000,9,    324.1,2,   -999.0,9,  -999.00,9,  -999.00,9,  -999.00,9,  -999.00,9,     -999,9,   -999.0,   9,   -999.0,   9,     -999,9,  -999.00,9,  -999.00,9,    1.101,2,  -1.3421,20040820, 646
  32H120040718,    55,  4,    407,      7,2,20040820, 639, 73.2900,-160.0740, 1176,     77.8,  -1.3426,  32.5190,2,-999.0000,9,    324.2,2,   -999.0,9,  -999.00,9,  -999.00,9,  -999.00,9,  -999.00,9,     -999,9,   -999.0,   9,   -999.0,   9,     -999,9,  -999.00,9,  -999.00,9,    1.080,2,  -1.3442,20040820, 645
  32H120040718,    55,  4,    401,      1,2,20040820, 639, 73.2900,-160.0740, 1176,    138.1,  -1.7343,  33.2141,2,-999.0000,9,    294.6,2,   -999.0,9,    55.22,2,    18.18,2,     0.17,2,     2.39,2,     1.22,2,   -999.0,   9,   -999.0,   9,      0.1,2,  -999.00,9,  -999.00,9,    1.048,2,  -1.7369,20040820, 638
  32H120040718,    55,  4,    404,      4,2,20040820, 639, 73.2900,-160.0740, 1176,    138.1,  -1.7345,  33.2140,2,-999.0000,9,    294.5,2,   -999.0,9,  -999.00,9,  -999.00,9,  -999.00,9,  -999.00,9,     -999,9,   -999.0,   9,   -999.0,   9,     -999,9,  -999.00,9,  -999.00,9,    1.048,2,  -1.7371,20040820, 638
  32H120040718,    55,  4,    402,      2,2,20040820, 639, 73.2900,-160.0740, 1176,    138.1,  -1.7347,  33.2141,2,-999.0000,9,    294.7,2,   -999.0,9,  -999.00,9,  -999.00,9,  -999.00,9,  -999.00,9,     -999,9,   -999.0,   9,   -999.0,   9,     -999,9,  -999.00,9,  -999.00,9,    1.048,2,  -1.7373,20040820, 638
  32H120040718,    55,  4,    403,      3,2,20040820, 639, 73.2900,-160.0740, 1176,    138.1,  -1.7350,  33.2141,2,-999.0000,9,    294.8,2,   -999.0,9,  -999.00,9,  -999.00,9,  -999.00,9,  -999.00,9,     -999,9,   -999.0,   9,   -999.0,   9,     -999,9,  -999.00,9,  -999.00,9,    1.050,2,  -1.7376,20040820, 638
  32H120040718,    55,  4,    405,      5,2,20040820, 639, 73.2900,-160.0740, 1176,    138.1,  -1.7364,  33.2142,2,-999.0000,9,    294.9,2,   -999.0,9,  -999.00,9,  -999.00,9,  -999.00,9,  -999.00,9,     -999,9,   -999.0,   9,   -999.0,   9,     -999,9,  -999.00,9,  -999.00,9,    1.082,2,  -1.7390,20040820, 639
  32H120040718,    55,  4,    406,      6,2,20040820, 639, 73.2900,-160.0740, 1176,    138.1,  -1.7387,  33.2149,2,-999.0000,9,    294.5,2,   -999.0,9,  -999.00,9,  -999.00,9,  -999.00,9,  -999.00,9,     -999,9,   -999.0,   9,   -999.0,   9,     -999,9,  -999.00,9,  -999.00,9,    1.056,2,  -1.7413,20040820, 639