BOTTLE,20220815CCHSIOAMB
EXPOCODE,STNNBR,CASTNO,SAMPNO,BTLNBR,BTLNBR_FLAG_W,DATE,TIME,LATITUDE,LONGITUDE,DEPTH,CTDPRS,CTDTMP,CTDSAL,CTDSAL_FLAG_W,SALNTY,SALNTY_FLAG_W,CTDOXY,CTDOXY_FLAG_W,OXYGEN,OXYGEN_FLAG_W,SILCAT,SILCAT_FLAG_W,NITRAT,NITRAT_FLAG_W,NITRIT,NITRIT_FLAG_W,PHSPHT,PHSPHT_FLAG_W,AMMONI,AMMONI_FLAG_W,TCARBN,TCARBN_FLAG_W,ALKALI,ALKALI_FLAG_W,UREA,UREA_FLAG_W,CHLORA,CHLORA_FLAG_W,PHAEO,PHAEO_FLAG_W,FLUORO,FLUORO_FLAG_W,THETA,BTL_DATE,BTL_TIME
,,,,,,,,,,METERS,DBAR,ITS-90,PSS-78,,PSS-78,,UMOL/KG,,UMOL/KG,,UMOL/KG,,UMOL/KG,,UMOL/KG,,UMOL/KG,,UMOL/KG,,UMOL/KG,,UMOL/KG,,UMOL/KG,,UG/L,,UG/L,,VOLTS,,DEG C,,
  32H120040718,    47,  2,    212,     12,2,20040813, 426, 72.8200,-158.2530,  406,      2.4,   3.4755,  27.0258,2,  27.0226,2,    333.0,2,    349.8,2,     4.45,2,     0.08,2,     0.00,2,     0.50,2,     0.06,2,   1787.0,   2,   1921.8,   2,     0.02,2,     0.22,2,     0.06,2,    1.110,2,   3.4754,20040813, 502
  32H120040718,    47,  2,    211,     11,2,20040813, 426, 72.8200,-158.2530,  406,      6.3,   3.3627,  27.0503,2,-999.0000,9,    334.7,2,    351.0,2,     4.44,2,     0.08,2,     0.00,2,     0.52,2,     0.05,2,   1792.4,   2,   -999.0,   5,     0.02,2,  -999.00,9,  -999.00,9,    1.179,2,   3.3624,20040813, 459
  32H120040718,    47,  2,    210,     10,2,20040813, 426, 72.8200,-158.2530,  406,     11.2,   3.3670,  27.9000,2,-999.0000,9,    341.4,2,    357.5,2,     3.89,2,     0.08,2,     0.00,2,     0.53,2,     0.13,2,   1822.2,   2,   1954.1,   2,     0.02,2,     0.25,2,     0.08,2,    1.193,2,   3.3664,20040813, 456
  32H120040718,    47,  2,    209,      9,2,20040813, 426, 72.8200,-158.2530,  406,     16.2,   0.8348,  29.7720,2,-999.0000,9,    403.7,2,    410.3,2,     3.35,2,     0.08,2,     0.00,2,     0.62,2,     0.08,2,   -999.0,   9,   -999.0,   9,     0.03,2,  -999.00,9,  -999.00,9,    1.204,2,   0.8343,20040813, 454
  32H120040718,    47,  2,    208,      8,2,20040813, 426, 72.8200,-158.2530,  406,     26.2,  -0.9415,  31.2040,2,-999.0000,9,    405.5,2,    427.7,2,     3.24,2,     0.08,2,     0.00,2,     0.74,2,      0.1,2,   2029.2,   2,   2195.9,   2,     0.06,2,     0.08,2,     0.03,2,    0.925,2,  -0.9420,20040813, 452
  32H120040718,    47,  2,    207,      7,2,20040813, 426, 72.8200,-158.2530,  406,     36.2,  -0.7569,  31.8853,2,-999.0000,9,    388.9,2,    402.2,2,     5.38,2,     0.78,2,     0.04,2,     0.93,2,      0.4,2,   2050.0,   2,   2231.3,   2,     0.08,2,     0.13,2,     0.05,2,    0.909,2,  -0.7578,20040813, 448
  32H120040718,    47,  2,    206,      6,2,20040813, 426, 72.8200,-158.2530,  406,     45.5,  -0.8676,  32.2113,2,-999.0000,9,    334.8,2,    355.1,2,    19.59,2,     6.23,2,     0.22,2,     1.42,2,     1.86,2,   2087.0,   2,   2222.2,   2,      0.1,2,     0.50,2,     0.14,2,    1.400,2,  -0.8687,20040813, 445
  32H120040718,    47,  2,    205,      5,2,20040813, 426, 72.8200,-158.2530,  406,     61.2,  -1.4797,  32.5580,2,  32.5454,2,    324.1,2,    343.9,2,    30.20,2,     9.73,2,     0.24,2,     1.69,2,     2.02,2,   2128.6,   2,   2238.7,   2,     0.08,2,     0.10,2,     0.12,2,    1.015,2,  -1.4809,20040813, 441
  32H120040718,    47,  2,    204,      4,2,20040813, 426, 72.8200,-158.2530,  406,     76.6,  -1.4575,  32.7557,2,-999.0000,9,    320.6,2,    336.2,2,    27.01,2,     9.66,2,     0.10,2,     1.62,2,     1.08,2,   2156.0,   2,   2276.7,   2,     0.11,2,  -999.00,9,  -999.00,9,    1.019,2,  -1.4590,20040813, 438
  32H120040718,    47,  2,    203,      3,2,20040813, 426, 72.8200,-158.2530,  406,    101.8,  -1.5972,  33.0466,2,-999.0000,9,    301.9,2,    318.8,2,    35.92,2,    10.83,2,     0.13,2,     1.88,2,     2.19,2,   -999.0,   9,   -999.0,   9,     0.15,2,     0.07,2,     0.20,2,    0.974,2,  -1.5992,20040813, 435
  32H120040718,    47,  2,    202,      2,2,20040813, 426, 72.8200,-158.2530,  406,    127.3,  -1.3834,  33.4199,2,-999.0000,9,    263.4,2,    279.3,2,    31.43,2,    14.52,2,     0.03,2,     1.74,2,     0.08,2,   -999.0,   9,   -999.0,   9,     0.06,2,  -999.00,9,  -999.00,9,    0.768,2,  -1.3862,20040813, 431
  32H120040718,    47,  2,    201,      1,2,20040813, 426, 72.8200,-158.2530,  406,    151.8,  -1.2771,  33.9524,2,  33.9312,2,    291.7,2,    306.9,2,    24.32,2,    11.78,2,     0.11,2,     1.46,2,     0.15,2,   -999.0,   9,   -999.0,   9,     0.06,2,     0.03,2,     0.05,2,    0.775,2,  -1.2808,20040813, 426
  32H120040718,    47,  3,    312,     12,2,20040813, 644, 72.8200,-158.2530,  406,     31.3,  -0.0649,  31.5963,2,-999.0000,9,    383.5,2,   -999.0,9,  -999.00,9,  -999.00,9,  -999.00,9,  -999.00,9,     -999,9,   -999.0,   9,   -999.0,   9,     -999,9,  -999.00,9,  -999.00,9,    1.005,2,  -0.0658,20040813, 715
  32H120040718,    47,  3,    311,     11,2,20040813, 644, 72.8200,-158.2530,  406,     31.3,  -0.0755,  31.5939,2,-999.0000,9,    383.9,2,   -999.0,9,     5.47,2,     0.60,2,     0.05,2,     0.89,2,     0.48,2,   -999.0,   9,   -999.0,   9,     0.08,2,  -999.00,9,  -999.00,9,    0.946,2,  -0.0764,20040813, 714
  32H120040718,    47,  3,    310,     10,2,20040813, 644, 72.8200,-158.2530,  406,     44.6,  -1.0420,  32.2039,2,-999.0000,9,    343.7,2,   -999.0,9,  -999.00,9,  -999.00,9,  -999.00,9,  -999.00,9,     -999,9,   -999.0,   9,   -999.0,   9,     -999,9,  -999.00,9,  -999.00,9,    1.495,2,  -1.0430,20040813, 710
  32H120040718,    47,  3,    309,      9,2,20040813, 644, 72.8200,-158.2530,  406,     44.6,  -1.0442,  32.2047,2,-999.0000,9,    344.9,2,   -999.0,9,    14.56,2,     5.17,2,     0.18,2,     1.38,2,     1.49,2,   -999.0,   9,   -999.0,   9,     0.11,2,  -999.00,9,  -999.00,9,    1.796,2,  -1.0452,20040813, 710
  32H120040718,    47,  3,    308,      8,2,20040813, 644, 72.8200,-158.2530,  406,    109.8,  -1.5108,  33.1548,2,-999.0000,9,    296.3,2,   -999.0,9,  -999.00,9,  -999.00,9,  -999.00,9,  -999.00,9,     -999,9,   -999.0,   9,   -999.0,   9,     -999,9,  -999.00,9,  -999.00,9,    0.894,2,  -1.5130,20040813, 704
  32H120040718,    47,  3,    307,      7,2,20040813, 644, 72.8200,-158.2530,  406,    109.8,  -1.5109,  33.1541,2,-999.0000,9,    296.3,2,   -999.0,9,    30.79,2,    10.66,2,     0.10,2,     1.73,2,     1.39,2,   -999.0,   9,   -999.0,   9,     0.12,2,  -999.00,9,  -999.00,9,    0.893,2,  -1.5131,20040813, 704
  32H120040718,    47,  3,    306,      6,2,20040813, 644, 72.8200,-158.2530,  406,    157.3,  -0.9974,  34.1445,2,-999.0000,9,    292.6,2,   -999.0,9,  -999.00,9,  -999.00,9,  -999.00,9,  -999.00,9,     -999,9,   -999.0,   9,   -999.0,   9,     -999,9,  -999.00,9,  -999.00,9,    0.837,2,  -1.0017,20040813, 700
  32H120040718,    47,  3,    305,      5,2,20040813, 644, 72.8200,-158.2530,  406,    157.3,  -1.0099,  34.1439,2,-999.0000,9,    292.7,2,   -999.0,9,    21.33,2,    11.62,2,     0.13,2,     1.40,2,     0.55,2,   -999.0,   9,   -999.0,   9,     0.06,2,  -999.00,9,  -999.00,9,    0.809,2,  -1.0141,20040813, 659
  32H120040718,    47,  3,    303,      3,2,20040813, 644, 72.8200,-158.2530,  406,    317.5,   0.7245,  34.8304,2,-999.0000,9,    272.5,2,   -999.0,9,     9.41,2,    12.70,2,     0.04,2,     0.95,2,     0.04,2,   -999.0,   9,   -999.0,   9,     0.07,2,  -999.00,9,  -999.00,9,    0.664,2,   0.7104,20040813, 651
  32H120040718,    47,  3,    302,      2,2,20040813, 644, 72.8200,-158.2530,  406,    317.5,   0.7250,  34.8304,2,-999.0000,9,    272.4,2,   -999.0,9,  -999.00,9,  -999.00,9,  -999.00,9,  -999.00,9,     -999,9,   -999.0,   9,   -999.0,   9,     -999,9,  -999.00,9,  -999.00,9,    0.591,2,   0.7109,20040813, 651
  32H120040718,    47,  3,    304,      4,2,20040813, 644, 72.8200,-158.2530,  406,    317.5,   0.7251,  34.8303,2,-999.0000,9,    272.4,2,   -999.0,9,  -999.00,9,  -999.00,9,  -999.00,9,  -999.00,9,     -999,9,   -999.0,   9,   -999.0,   9,     -999,9,  -999.00,9,  -999.00,9,    0.653,2,   0.7110,20040813, 651
  32H120040718,    47,  3,    301,      1,2,20040813, 644, 72.8200,-158.2530,  406,    426.8,   0.5827,  34.8482,2,-999.0000,9,    277.1,2,   -999.0,9,     8.23,2,    12.61,2,     0.02,2,     0.92,2,     0.04,2,   -999.0,   9,   -999.0,   9,     0.05,2,  -999.00,9,  -999.00,9,    0.636,2,   0.5638,20040813, 644
  32H120040718,    47,  4,    407,      7,2,20040813, 824, 72.8200,-158.2530,  406,    112.6,  -1.5071,  33.1597,2,-999.0000,9,    267.0,2,   -999.0,9,  -999.00,9,  -999.00,9,  -999.00,9,  -999.00,9,     -999,9,   -999.0,   9,   -999.0,   9,     -999,9,  -999.00,9,  -999.00,9,    0.733,2,  -1.5094,20040813, 830
  32H120040718,    47,  4,    410,     10,2,20040813, 824, 72.8200,-158.2530,  406,    112.6,  -1.5089,  33.1574,2,-999.0000,9,    267.0,2,   -999.0,9,  -999.00,9,  -999.00,9,  -999.00,9,  -999.00,9,     -999,9,   -999.0,   9,   -999.0,   9,     -999,9,  -999.00,9,  -999.00,9,    0.759,2,  -1.5112,20040813, 831
  32H120040718,    47,  4,    408,      8,2,20040813, 824, 72.8200,-158.2530,  406,    112.6,  -1.5090,  33.1563,2,-999.0000,9,    266.9,2,   -999.0,9,  -999.00,9,  -999.00,9,  -999.00,9,  -999.00,9,     -999,9,   -999.0,   9,   -999.0,   9,     -999,9,  -999.00,9,  -999.00,9,    0.696,2,  -1.5113,20040813, 830
  32H120040718,    47,  4,    411,     11,2,20040813, 824, 72.8200,-158.2530,  406,    112.6,  -1.5100,  33.1582,2,-999.0000,9,    266.9,2,   -999.0,9,  -999.00,9,  -999.00,9,  -999.00,9,  -999.00,9,     -999,9,   -999.0,   9,   -999.0,   9,     -999,9,  -999.00,9,  -999.00,9,    0.728,2,  -1.5123,20040813, 832
  32H120040718,    47,  4,    412,     12,2,20040813, 824, 72.8200,-158.2530,  406,    112.6,  -1.5100,  33.1582,2,-999.0000,9,    266.7,2,   -999.0,9,    33.67,2,    15.12,2,     0.02,2,     1.84,2,     0.07,2,   -999.0,   9,   -999.0,   9,     0.09,2,  -999.00,9,  -999.00,9,    0.743,2,  -1.5123,20040813, 832
  32H120040718,    47,  4,    409,      9,2,20040813, 824, 72.8200,-158.2530,  406,    112.6,  -1.5102,  33.1582,2,-999.0000,9,    266.9,2,   -999.0,9,  -999.00,9,  -999.00,9,  -999.00,9,  -999.00,9,     -999,9,   -999.0,   9,   -999.0,   9,     -999,9,  -999.00,9,  -999.00,9,    0.722,2,  -1.5125,20040813, 831
  32H120040718,    47,  4,    403,      3,2,20040813, 824, 72.8200,-158.2530,  406,    172.4,   0.0175,  34.5788,2,-999.0000,9,    261.5,2,   -999.0,9,  -999.00,9,  -999.00,9,  -999.00,9,  -999.00,9,     -999,9,   -999.0,   9,   -999.0,   9,     -999,9,  -999.00,9,  -999.00,9,    0.678,2,   0.0112,20040813, 823
  32H120040718,    47,  4,    402,      2,2,20040813, 824, 72.8200,-158.2530,  406,    172.4,   0.0176,  34.5787,2,-999.0000,9,    261.5,2,   -999.0,9,  -999.00,9,  -999.00,9,  -999.00,9,  -999.00,9,     -999,9,   -999.0,   9,   -999.0,   9,     -999,9,  -999.00,9,  -999.00,9,    0.689,2,   0.0113,20040813, 823
  32H120040718,    47,  4,    401,      1,2,20040813, 824, 72.8200,-158.2530,  406,    172.4,   0.0185,  34.5792,2,-999.0000,9,    261.7,2,   -999.0,9,    14.75,2,    13.27,2,     0.03,2,     1.13,2,     0.11,2,   -999.0,   9,   -999.0,   9,      0.5,2,  -999.00,9,  -999.00,9,    0.709,2,   0.0122,20040813, 823
  32H120040718,    47,  4,    404,      4,2,20040813, 824, 72.8200,-158.2530,  406,    172.4,   0.0186,  34.5791,2,-999.0000,9,    261.6,2,   -999.0,9,  -999.00,9,  -999.00,9,  -999.00,9,  -999.00,9,     -999,9,   -999.0,   9,   -999.0,   9,     -999,9,  -999.00,9,  -999.00,9,    0.697,2,   0.0123,20040813, 823
  32H120040718,    47,  4,    405,      5,2,20040813, 824, 72.8200,-158.2530,  406,    172.4,   0.0195,  34.5797,2,-999.0000,9,    261.4,2,   -999.0,9,  -999.00,9,  -999.00,9,  -999.00,9,  -999.00,9,     -999,9,   -999.0,   9,   -999.0,   9,     -999,9,  -999.00,9,  -999.00,9,    0.703,2,   0.0132,20040813, 824
  32H120040718,    47,  4,    406,      6,2,20040813, 824, 72.8200,-158.2530,  406,    172.4,   0.0226,  34.5808,2,-999.0000,9,    261.4,2,   -999.0,9,  -999.00,9,  -999.00,9,  -999.00,9,  -999.00,9,     -999,9,   -999.0,   9,   -999.0,   9,     -999,9,  -999.00,9,  -999.00,9,    0.672,2,   0.0163,20040813, 824
  32H120040718,    47,  5,    504,      4,2,20040813, 915, 72.8200,-158.2530,  406,     56.2,  -1.2754,  32.4507,2,-999.0000,9,    329.2,2,   -999.0,9,  -999.00,9,  -999.00,9,  -999.00,9,  -999.00,9,     -999,9,   -999.0,   9,   -999.0,   9,     -999,9,  -999.00,9,  -999.00,9,    1.324,2,  -1.2765,20040813, 915
  32H120040718,    47,  5,    505,      5,2,20040813, 915, 72.8200,-158.2530,  406,     56.2,  -1.2780,  32.4507,2,-999.0000,9,    329.7,2,   -999.0,9,  -999.00,9,  -999.00,9,  -999.00,9,  -999.00,9,     -999,9,   -999.0,   9,   -999.0,   9,     -999,9,  -999.00,9,  -999.00,9,    1.276,2,  -1.2791,20040813, 916
  32H120040718,    47,  5,    506,      6,2,20040813, 915, 72.8200,-158.2530,  406,     56.2,  -1.2799,  32.4508,2,-999.0000,9,    329.8,2,   -999.0,9,  -999.00,9,  -999.00,9,  -999.00,9,  -999.00,9,     -999,9,   -999.0,   9,   -999.0,   9,     -999,9,  -999.00,9,  -999.00,9,    1.132,2,  -1.2810,20040813, 916
  32H120040718,    47,  5,    507,      7,2,20040813, 915, 72.8200,-158.2530,  406,     56.2,  -1.2818,  32.4506,2,-999.0000,9,    329.6,2,   -999.0,9,  -999.00,9,  -999.00,9,  -999.00,9,  -999.00,9,     -999,9,   -999.0,   9,   -999.0,   9,     -999,9,  -999.00,9,  -999.00,9,    1.189,2,  -1.2829,20040813, 916
  32H120040718,    47,  5,    508,      8,2,20040813, 915, 72.8200,-158.2530,  406,     56.2,  -1.2862,  32.4510,2,-999.0000,9,    329.0,2,   -999.0,9,  -999.00,9,  -999.00,9,  -999.00,9,  -999.00,9,     -999,9,   -999.0,   9,   -999.0,   9,     -999,9,  -999.00,9,  -999.00,9,    1.377,2,  -1.2873,20040813, 917
  32H120040718,    47,  5,    509,      9,2,20040813, 915, 72.8200,-158.2530,  406,     56.2,  -1.2895,  32.4515,2,-999.0000,9,    328.5,2,   -999.0,9,  -999.00,9,  -999.00,9,  -999.00,9,  -999.00,9,     -999,9,   -999.0,   9,   -999.0,   9,     -999,9,  -999.00,9,  -999.00,9,    1.281,2,  -1.2906,20040813, 917
  32H120040718,    47,  5,    512,     12,2,20040813, 915, 72.8200,-158.2530,  406,     56.2,  -1.2898,  32.4506,2,-999.0000,9,    328.8,2,   -999.0,9,  -999.00,9,  -999.00,9,  -999.00,9,  -999.00,9,     -999,9,   -999.0,   9,   -999.0,   9,     -999,9,  -999.00,9,  -999.00,9,    1.208,2,  -1.2909,20040813, 918
  32H120040718,    47,  5,    510,     10,2,20040813, 915, 72.8200,-158.2530,  406,     56.2,  -1.2904,  32.4517,2,-999.0000,9,    328.7,2,   -999.0,9,  -999.00,9,  -999.00,9,  -999.00,9,  -999.00,9,     -999,9,   -999.0,   9,   -999.0,   9,     -999,9,  -999.00,9,  -999.00,9,    1.220,2,  -1.2915,20040813, 917
  32H120040718,    47,  5,    511,     11,2,20040813, 915, 72.8200,-158.2530,  406,     56.2,  -1.2905,  32.4513,2,-999.0000,9,    328.4,2,   -999.0,9,  -999.00,9,  -999.00,9,  -999.00,9,  -999.00,9,     -999,9,   -999.0,   9,   -999.0,   9,     -999,9,  -999.00,9,  -999.00,9,    1.355,2,  -1.2916,20040813, 918
  32H120040718,    47,  5,    501,      1,2,20040813, 915, 72.8200,-158.2530,  406,     56.3,  -1.2698,  32.4501,2,-999.0000,9,    330.3,2,   -999.0,9,    23.17,2,     8.30,2,     0.17,2,     1.54,2,     1.75,2,   -999.0,   9,   -999.0,   9,     0.16,2,  -999.00,9,  -999.00,9,    1.312,2,  -1.2710,20040813, 915
  32H120040718,    47,  5,    502,      2,2,20040813, 915, 72.8200,-158.2530,  406,     56.3,  -1.2716,  32.4501,2,-999.0000,9,    330.2,2,   -999.0,9,  -999.00,9,  -999.00,9,  -999.00,9,  -999.00,9,     -999,9,   -999.0,   9,   -999.0,   9,     -999,9,  -999.00,9,  -999.00,9,    1.255,2,  -1.2728,20040813, 915
  32H120040718,    47,  5,    503,      3,2,20040813, 915, 72.8200,-158.2530,  406,     56.3,  -1.2734,  32.4502,2,-999.0000,9,    330.7,2,   -999.0,9,  -999.00,9,  -999.00,9,  -999.00,9,  -999.00,9,     -999,9,   -999.0,   9,   -999.0,   9,     -999,9,  -999.00,9,  -999.00,9,    1.219,2,  -1.2745,20040813, 915
  32H120040718,    47,  6,    611,     11,2,20040813,1520, 72.8200,-158.2530,  406,      2.6,   2.1600,  27.4900,2,-999.0000,9,    345.2,2,    362.4,2,     3.21,2,     0.01,2,     0.00,2,     0.54,2,     0.08,2,   -999.0,   9,   -999.0,   9,     0.05,2,     0.16,2,     0.03,2,    0.960,2,   2.1599,20040813,1546
  32H120040718,    47,  6,    612,     12,9,20040813,1520, 72.8200,-158.2530,  406,      2.6,   2.1733,  27.4855,2,-999.0000,9,    345.4,2,   -999.0,9,  -999.00,9,  -999.00,9,  -999.00,9,  -999.00,9,     -999,9,   -999.0,   9,   -999.0,   9,     -999,9,  -999.00,9,  -999.00,9,    0.993,2,   2.1732,20040813,1546
  32H120040718,    47,  6,    610,     10,2,20040813,1520, 72.8200,-158.2530,  406,      8.7,   1.2602,  28.1678,2,-999.0000,9,    368.9,2,    379.5,2,     2.99,2,     0.01,2,     0.00,2,     0.55,2,     0.11,2,   -999.0,   9,   -999.0,   9,     0.22,2,     0.13,2,     0.03,2,    0.964,2,   1.2599,20040813,1544
  32H120040718,    47,  6,    609,      9,2,20040813,1520, 72.8200,-158.2530,  406,     14.3,  -0.6948,  30.8426,2,-999.0000,9,    401.1,2,    425.1,2,     2.22,2,     0.00,2,     0.00,2,     0.69,2,     0.07,2,   -999.0,   9,   -999.0,   9,     0.09,2,     0.10,2,     0.01,2,    0.970,2,  -0.6951,20040813,1541
  32H120040718,    47,  6,    608,      8,2,20040813,1520, 72.8200,-158.2530,  406,     22.1,  -1.0156,  31.3486,2,-999.0000,9,    400.9,2,    424.9,2,     2.64,2,     0.05,2,     0.00,2,     0.73,2,     0.06,2,   -999.0,   9,   -999.0,   9,      0.1,2,     0.16,2,     0.03,2,    1.086,2,  -1.0160,20040813,1539
  32H120040718,    47,  6,    607,      7,9,20040813,1520, 72.8200,-158.2530,  406,     22.1,  -1.0162,  31.3442,2,-999.0000,9,    401.9,2,   -999.0,9,  -999.00,9,  -999.00,9,  -999.00,9,  -999.00,9,     -999,9,   -999.0,   9,   -999.0,   9,     -999,9,  -999.00,9,  -999.00,9,    1.094,2,  -1.0166,20040813,1538
  32H120040718,    47,  6,    606,      6,2,20040813,1520, 72.8200,-158.2530,  406,     34.5,  -0.7687,  32.1753,2,-999.0000,9,    375.5,2,    416.1,2,     5.54,2,     0.46,2,     0.01,2,     0.91,2,     0.19,2,   -999.0,   9,   -999.0,   9,     0.13,2,     0.87,2,     0.04,2,    2.250,2,  -0.7695,20040813,1536
  32H120040718,    47,  6,    604,      4,9,20040813,1520, 72.8200,-158.2530,  406,     52.3,  -1.4534,  32.5635,2,-999.0000,9,    331.1,2,   -999.0,9,  -999.00,9,  -999.00,9,  -999.00,9,  -999.00,9,     -999,9,   -999.0,   9,   -999.0,   9,     -999,9,  -999.00,9,  -999.00,9,    1.287,2,  -1.4544,20040813,1532
  32H120040718,    47,  6,    605,      5,2,20040813,1520, 72.8200,-158.2530,  406,     52.3,  -1.4631,  32.5636,2,-999.0000,9,    330.9,2,    350.2,2,    26.98,2,     9.18,2,     0.19,2,     1.63,2,     2.07,2,   -999.0,   9,   -999.0,   9,     0.16,2,     0.31,2,     0.10,2,    1.209,2,  -1.4641,20040813,1533
  32H120040718,    47,  6,    603,      3,2,20040813,1520, 72.8200,-158.2530,  406,    103.3,  -1.6244,  33.1127,2,-999.0000,9,    303.1,2,   -999.0,9,    38.42,2,    12.89,2,     0.12,2,     1.90,2,      1.1,2,   -999.0,   9,   -999.0,   9,     0.11,2,  -999.00,9,  -999.00,9,    0.973,2,  -1.6264,20040813,1528
  32H120040718,    47,  6,    602,      2,2,20040813,1520, 72.8200,-158.2530,  406,    153.6,  -0.7224,  34.2420,2,-999.0000,9,    265.9,2,   -999.0,9,    21.31,2,    12.99,2,     0.15,2,     1.38,2,     0.25,2,   -999.0,   9,   -999.0,   9,      0.1,2,  -999.00,9,  -999.00,9,    0.802,2,  -0.7269,20040813,1523
  32H120040718,    47,  6,    601,      1,2,20040813,1520, 72.8200,-158.2530,  406,    204.3,   0.5080,  34.7185,2,-999.0000,9,    267.7,2,   -999.0,9,     9.46,2,    12.70,2,     0.03,2,     0.96,2,     0.01,2,   -999.0,   9,   -999.0,   9,     0.11,2,  -999.00,9,  -999.00,9,    0.663,2,   0.4995,20040813,1520