BOTTLE,20220815CCHSIOAMB
EXPOCODE,STNNBR,CASTNO,SAMPNO,BTLNBR,BTLNBR_FLAG_W,DATE,TIME,LATITUDE,LONGITUDE,DEPTH,CTDPRS,CTDTMP,CTDSAL,CTDSAL_FLAG_W,SALNTY,SALNTY_FLAG_W,CTDOXY,CTDOXY_FLAG_W,OXYGEN,OXYGEN_FLAG_W,SILCAT,SILCAT_FLAG_W,NITRAT,NITRAT_FLAG_W,NITRIT,NITRIT_FLAG_W,PHSPHT,PHSPHT_FLAG_W,AMMONI,AMMONI_FLAG_W,TCARBN,TCARBN_FLAG_W,ALKALI,ALKALI_FLAG_W,UREA,UREA_FLAG_W,CHLORA,CHLORA_FLAG_W,PHAEO,PHAEO_FLAG_W,FLUORO,FLUORO_FLAG_W,THETA,BTL_DATE,BTL_TIME
,,,,,,,,,,METERS,DBAR,ITS-90,PSS-78,,PSS-78,,UMOL/KG,,UMOL/KG,,UMOL/KG,,UMOL/KG,,UMOL/KG,,UMOL/KG,,UMOL/KG,,UMOL/KG,,UMOL/KG,,UMOL/KG,,UG/L,,UG/L,,VOLTS,,DEG C,,
  32H120040718,    35,  6,    612,     12,2,20040807,  14, 72.1720,-153.9390, 1865,     10.3,   4.8129,  30.3653,2,-999.0000,9,    339.0,2,   -999.0,9,     4.95,2,     0.05,2,     0.00,2,     0.58,2,     0.23,2,   -999.0,   9,   -999.0,   9,     0.04,2,  -999.00,9,  -999.00,9,    1.695,2,   4.8122,20040807, 114
  32H120040718,    35,  6,    611,     11,2,20040807,  14, 72.1720,-153.9390, 1865,     10.3,   4.9999,  30.3347,2,-999.0000,9,    334.3,2,   -999.0,9,     4.84,2,     0.05,2,     0.00,2,     0.58,2,     0.21,2,   -999.0,   9,   -999.0,   9,     0.03,2,  -999.00,9,  -999.00,9,    1.642,2,   4.9992,20040807, 113
  32H120040718,    35,  6,    609,      9,2,20040807,  14, 72.1720,-153.9390, 1865,     61.3,  -1.3744,  32.3309,2,-999.0000,9,    362.5,2,   -999.0,9,    19.50,2,     5.94,2,     0.26,2,     1.40,2,     2.13,2,   -999.0,   9,   -999.0,   9,     0.06,2,  -999.00,9,  -999.00,9,    0.990,2,  -1.3756,20040807, 108
  32H120040718,    35,  6,    610,     10,2,20040807,  14, 72.1720,-153.9390, 1865,     61.3,  -1.3960,  32.3330,2,-999.0000,9,    362.9,2,   -999.0,9,    19.29,2,     5.95,2,     0.26,2,     1.40,2,     2.17,2,   -999.0,   9,   -999.0,   9,     0.06,2,  -999.00,9,  -999.00,9,    0.994,2,  -1.3972,20040807, 108
  32H120040718,    35,  6,    608,      8,2,20040807,  14, 72.1720,-153.9390, 1865,    132.0,  -1.6210,  33.0456,2,-999.0000,9,    294.9,2,   -999.0,9,    36.29,2,    11.20,2,     0.14,2,     1.87,2,      1.7,2,   -999.0,   9,   -999.0,   9,     0.12,2,  -999.00,9,  -999.00,9,    1.109,2,  -1.6235,20040807, 101
  32H120040718,    35,  6,    607,      7,2,20040807,  14, 72.1720,-153.9390, 1865,    132.0,  -1.6215,  33.0469,2,-999.0000,9,    294.6,2,   -999.0,9,    36.29,2,    11.26,2,     0.14,2,     1.87,2,     1.67,2,   -999.0,   9,   -999.0,   9,     0.12,2,  -999.00,9,  -999.00,9,    1.098,2,  -1.6240,20040807, 101
  32H120040718,    35,  6,    605,      5,2,20040807,  14, 72.1720,-153.9390, 1865,    359.1,   0.6303,  34.8236,2,-999.0000,9,    278.7,2,   -999.0,9,     7.57,2,    12.56,2,     0.00,2,     0.88,2,     0.11,2,   -999.0,   9,   -999.0,   9,     0.03,2,  -999.00,9,  -999.00,9,    0.656,2,   0.6145,20040807,  50
  32H120040718,    35,  6,    606,      6,2,20040807,  14, 72.1720,-153.9390, 1865,    359.3,   0.6303,  34.8237,2,-999.0000,9,    278.8,2,   -999.0,9,     7.57,2,    12.55,2,     0.00,2,     0.89,2,     0.11,2,   -999.0,   9,   -999.0,   9,     0.03,2,  -999.00,9,  -999.00,9,    0.624,2,   0.6145,20040807,  50
  32H120040718,    35,  6,    604,      4,2,20040807,  14, 72.1720,-153.9390, 1865,   2053.9,  -0.4053,  34.9531,2,-999.0000,9,    268.2,2,   -999.0,9,    14.16,2,    14.41,2,     0.00,2,     1.03,2,     0.16,2,   -999.0,   9,   -999.0,   9,     0.03,2,  -999.00,9,  -999.00,9,    0.534,2,  -0.5093,20040807,  15
  32H120040718,    35,  6,    603,      3,2,20040807,  14, 72.1720,-153.9390, 1865,   2054.5,  -0.4052,  34.9531,2,-999.0000,9,    268.0,2,   -999.0,9,    14.15,2,    14.41,2,     0.00,2,     1.03,2,     0.15,2,   -999.0,   9,   -999.0,   9,     0.03,2,  -999.00,9,  -999.00,9,    0.586,2,  -0.5093,20040807,  14
  32H120040718,    35,  6,    602,      2,2,20040807,  14, 72.1720,-153.9390, 1865,   2055.1,  -0.4052,  34.9530,2,-999.0000,9,    268.1,2,   -999.0,9,    14.05,2,    14.41,2,     0.00,2,     1.04,2,     0.13,2,   -999.0,   9,   -999.0,   9,     0.08,2,  -999.00,9,  -999.00,9,    0.618,2,  -0.5093,20040807,  14
  32H120040718,    35,  6,    601,      1,2,20040807,  14, 72.1720,-153.9390, 1865,   2055.6,  -0.4051,  34.9530,2,-999.0000,9,    268.2,2,   -999.0,9,    14.15,2,    14.41,2,     0.00,2,     1.04,2,     0.13,2,   -999.0,   9,   -999.0,   9,     0.07,2,  -999.00,9,  -999.00,9,    0.553,2,  -0.5092,20040807,  14
  32H120040718,    36,  1,    112,     12,2,20040808, 717, 72.4125,-153.3916, 2924,    178.4,  -1.0165,  33.9883,2,  33.9958,2,    264.6,2,    278.9,2,    24.40,2,    13.70,2,     0.06,2,     1.46,2,     0.16,2,   -999.0,   9,   -999.0,   9,     0.07,2,  -999.00,9,  -999.00,9,    0.754,2,  -1.0213,20040808, 839
  32H120040718,    36,  1,    111,     11,2,20040808, 717, 72.4125,-153.3916, 2924,    203.0,  -0.4113,  34.4156,2,  34.4031,2,    260.5,2,    276.1,2,    18.10,2,    13.60,2,     0.05,2,     1.26,2,     0.08,2,   2181.7,   2,   2303.8,   2,     0.07,2,  -999.00,9,  -999.00,9,    0.719,2,  -0.4180,20040808, 836
  32H120040718,    36,  1,    110,     10,2,20040808, 717, 72.4125,-153.3916, 2924,    228.4,   0.0495,  34.6094,2,-999.0000,9,    262.7,2,    275.4,2,    13.50,2,    13.35,2,     0.04,2,     1.08,2,     0.08,2,   -999.0,   9,   -999.0,   9,     0.07,2,  -999.00,9,  -999.00,9,    0.699,2,   0.0409,20040808, 832
  32H120040718,    36,  1,    109,      9,3,20040808, 717, 72.4125,-153.3916, 2924,    254.8,   0.3491,  34.7036,2,-999.0000,9,    265.6,2,   -999.0,9,  -999.00,9,  -999.00,9,  -999.00,9,  -999.00,9,     -999,9,   -999.0,   9,   -999.0,   9,     -999,9,  -999.00,9,  -999.00,9,    0.691,2,   0.3388,20040808, 828
  32H120040718,    36,  1,    108,      8,2,20040808, 717, 72.4125,-153.3916, 2924,    280.0,   0.5373,  34.7586,2,-999.0000,9,    269.9,2,    283.2,2,     9.54,2,    12.97,2,     0.05,2,     0.97,2,     0.07,2,   -999.0,   9,   -999.0,   9,     0.07,2,  -999.00,9,  -999.00,9,    0.661,2,   0.5254,20040808, 824
  32H120040718,    36,  1,    107,      7,2,20040808, 717, 72.4125,-153.3916, 2924,    308.6,   0.6339,  34.7942,2,-999.0000,9,    272.7,2,    286.1,2,     8.56,2,    12.86,2,     0.05,2,     0.94,2,     0.07,2,   2145.1,   2,   2299.2,   2,     0.07,2,  -999.00,9,  -999.00,9,    0.699,2,   0.6205,20040808, 806
  32H120040718,    36,  1,    106,      6,2,20040808, 717, 72.4125,-153.3916, 2924,    404.1,   0.5958,  34.8274,2,-999.0000,9,    277.0,2,    291.5,2,     7.81,2,    12.79,2,     0.02,2,     0.92,2,     0.07,2,   2148.5,   2,   2304.4,   2,     0.07,2,  -999.00,9,  -999.00,9,    0.603,2,   0.5780,20040808, 803
  32H120040718,    36,  1,    105,      5,2,20040808, 717, 72.4125,-153.3916, 2924,    604.1,   0.3706,  34.8537,2,-999.0000,9,    280.8,2,    296.0,2,     7.05,2,    12.69,2,     0.01,2,     0.90,2,     0.09,2,   2143.5,   2,   2300.7,   2,     0.07,2,  -999.00,9,  -999.00,9,    0.641,2,   0.3440,20040808, 757
  32H120040718,    36,  1,    104,      4,2,20040808, 717, 72.4125,-153.3916, 2924,    810.6,   0.1061,  34.8663,3,  34.8727,2,    282.8,2,    298.7,2,     7.15,2,    12.74,2,     0.01,2,     0.91,2,     0.07,2,   -999.0,   9,   -999.0,   9,     0.07,2,  -999.00,9,  -999.00,9,    0.620,2,   0.0706,20040808, 751
  32H120040718,    36,  1,    103,      3,2,20040808, 717, 72.4125,-153.3916, 2924,   1014.3,  -0.0762,  34.8799,3,  34.8869,2,    283.3,2,    299.7,2,     7.13,2,    12.80,2,     0.01,2,     0.92,2,     0.07,2,   2142.0,   2,   2304.6,   2,     0.07,2,  -999.00,9,  -999.00,9,    0.605,2,  -0.1209,20040808, 744
  32H120040718,    36,  1,    102,      2,2,20040808, 717, 72.4125,-153.3916, 2924,   1267.9,  -0.2366,  34.9035,2,  34.9044,2,    282.9,2,    299.2,2,     7.88,2,    13.11,2,     0.01,2,     0.94,2,     0.06,2,   -999.0,   9,   -999.0,   9,     0.07,2,  -999.00,9,  -999.00,9,    0.593,2,  -0.2938,20040808, 725
  32H120040718,    36,  1,    101,      1,2,20040808, 717, 72.4125,-153.3916, 2924,   1498.8,  -0.3465,  34.9201,2,  34.9200,2,    280.1,2,    296.4,2,     9.16,2,    13.64,2,     0.01,2,     0.98,2,     0.06,2,   2145.5,   2,   2304.6,   2,     0.07,2,  -999.00,9,  -999.00,9,    0.495,2,  -0.4158,20040808, 717
  32H120040718,    36,  2,    212,     12,2,20040808,1058, 72.4125,-153.3916, 2924,      2.0,   0.7682,  24.8246,2,  25.3608,2,    359.8,2,    372.3,2,     3.26,2,     0.11,2,     0.00,2,     0.52,2,     0.09,2,   1717.5,   2,   1819.7,   2,     0.03,2,     0.13,2,     0.04,2,    0.947,2,   0.7682,20040808,1138
  32H120040718,    36,  2,    211,     11,2,20040808,1058, 72.4125,-153.3916, 2924,      6.7,   4.1823,  27.6839,2,-999.0000,9,    328.4,2,    344.9,2,     5.62,2,     0.05,2,     0.00,2,     0.53,2,     0.12,2,   -999.0,   9,   -999.0,   9,     0.06,2,  -999.00,9,  -999.00,9,    1.450,2,   4.1819,20040808,1136
  32H120040718,    36,  2,    210,     10,2,20040808,1058, 72.4125,-153.3916, 2924,     11.6,   3.6650,  28.0367,2,-999.0000,9,    332.6,2,    347.5,2,     5.61,2,     0.05,2,     0.00,2,     0.54,2,     0.14,2,   1831.4,   2,   1987.0,   2,     0.06,2,     0.80,2,     0.11,2,    1.745,2,   3.6644,20040808,1132
  32H120040718,    36,  2,    209,      9,2,20040808,1058, 72.4125,-153.3916, 2924,     21.6,   3.6332,  29.1208,2,-999.0000,9,    339.7,2,    356.0,2,     5.82,2,     0.10,2,     0.00,2,     0.54,2,     0.16,2,   1844.2,   2,   2039.6,   2,     0.07,2,     0.47,2,     0.10,2,    1.495,2,   3.6320,20040808,1128
  32H120040718,    36,  2,    208,      8,2,20040808,1058, 72.4125,-153.3916, 2924,     31.5,  -0.8611,  30.1738,2,-999.0000,9,    379.4,2,    391.5,2,     3.64,2,     0.09,2,     0.00,2,     0.72,2,     0.19,2,   1997.4,   2,   2141.1,   2,     0.07,2,     0.21,2,     0.09,2,    0.967,2,  -0.8617,20040808,1124
  32H120040718,    36,  2,    207,      7,2,20040808,1058, 72.4125,-153.3916, 2924,     41.9,  -0.3488,  31.5733,2,-999.0000,9,    357.7,2,    368.9,2,     8.59,2,     2.07,2,     0.16,2,     1.02,2,     0.17,2,   2065.4,   2,   2211.6,   2,     0.08,2,     0.46,2,     0.50,2,    1.594,2,  -0.3499,20040808,1120
  32H120040718,    36,  2,    206,      6,2,20040808,1058, 72.4125,-153.3916, 2924,     51.9,  -0.9225,  31.8679,2,-999.0000,9,    327.7,2,    342.6,2,    12.23,2,     5.60,2,     0.14,2,     1.22,2,     0.13,2,   2094.8,   2,   2217.7,   2,     0.08,2,     0.44,2,     0.55,2,    1.573,2,  -0.9237,20040808,1118
  32H120040718,    36,  2,    205,      5,2,20040808,1058, 72.4125,-153.3916, 2924,     67.0,  -1.2536,  32.1943,2,-999.0000,9,    301.7,2,    315.8,2,    18.96,2,     9.53,2,     0.03,2,     1.50,2,     0.09,2,   2134.0,   2,   2232.1,   2,     0.08,2,     0.13,2,     0.10,2,    1.116,2,  -1.2550,20040808,1115
  32H120040718,    36,  2,    204,      4,2,20040808,1058, 72.4125,-153.3916, 2924,     82.0,  -1.4358,  32.4594,2,-999.0000,9,    293.3,2,    306.8,2,    23.43,2,    11.23,2,     0.01,2,     1.59,2,     0.09,2,   2162.3,   2,   2250.3,   2,     0.08,2,     0.05,2,     0.03,2,    0.763,2,  -1.4374,20040808,1111
  32H120040718,    36,  2,    203,      3,2,20040808,1058, 72.4125,-153.3916, 2924,    102.0,  -1.4593,  32.6378,2,-999.0000,9,    280.7,2,    293.8,2,    27.79,2,    13.07,2,     0.01,2,     1.73,2,     0.08,2,   2177.0,   2,   2254.8,   2,     0.09,2,     0.03,2,     0.03,2,    0.735,2,  -1.4613,20040808,1108
  32H120040718,    36,  2,    202,      2,2,20040808,1058, 72.4125,-153.3916, 2924,    128.5,  -1.5241,  32.9269,2,-999.0000,9,    275.0,2,    288.7,2,    31.18,2,    14.39,2,     0.01,2,     1.79,2,     0.08,2,   -999.0,   9,   -999.0,   9,      0.1,2,  -999.00,9,  -999.00,9,    0.708,2,  -1.5267,20040808,1103
  32H120040718,    36,  2,    201,      1,2,20040808,1058, 72.4125,-153.3916, 2924,    154.7,  -1.4252,  33.2310,2,  33.2128,2,    289.7,2,    295.9,2,    29.68,2,    13.42,2,     0.04,2,     1.69,2,      0.1,2,   -999.0,   9,   -999.0,   9,     0.09,2,     0.01,2,     0.03,2,    0.812,2,  -1.4285,20040808,1058
  32H120040718,    36,  3,    312,     12,2,20040808,1442, 72.4125,-153.3916, 2924,     87.3,  -1.4809,  32.5402,2,-999.0000,9,    293.5,2,   -999.0,9,    24.48,2,    11.58,2,     0.01,2,     1.61,2,     0.08,2,   -999.0,   9,   -999.0,   9,     0.06,2,  -999.00,9,  -999.00,9,    0.758,2,  -1.4826,20040808,1450
  32H120040718,    36,  3,    311,     11,2,20040808,1442, 72.4125,-153.3916, 2924,     87.3,  -1.4813,  32.5401,2,-999.0000,9,    292.8,2,   -999.0,9,  -999.00,9,  -999.00,9,  -999.00,9,  -999.00,9,     -999,9,   -999.0,   9,   -999.0,   9,     -999,9,  -999.00,9,  -999.00,9,    0.752,2,  -1.4830,20040808,1450
  32H120040718,    36,  3,    310,     10,2,20040808,1442, 72.4125,-153.3916, 2924,     87.3,  -1.4820,  32.5396,2,-999.0000,9,    293.2,2,   -999.0,9,  -999.00,9,  -999.00,9,  -999.00,9,  -999.00,9,     -999,9,   -999.0,   9,   -999.0,   9,     -999,9,  -999.00,9,  -999.00,9,    0.780,2,  -1.4837,20040808,1449
  32H120040718,    36,  3,    309,      9,2,20040808,1442, 72.4125,-153.3916, 2924,     87.3,  -1.4821,  32.5390,2,-999.0000,9,    293.1,2,   -999.0,9,  -999.00,9,  -999.00,9,  -999.00,9,  -999.00,9,     -999,9,   -999.0,   9,   -999.0,   9,     -999,9,  -999.00,9,  -999.00,9,    0.762,2,  -1.4838,20040808,1449
  32H120040718,    36,  3,    308,      8,2,20040808,1442, 72.4125,-153.3916, 2924,     87.3,  -1.4827,  32.5395,2,-999.0000,9,    293.2,2,   -999.0,9,  -999.00,9,  -999.00,9,  -999.00,9,  -999.00,9,     -999,9,   -999.0,   9,   -999.0,   9,     -999,9,  -999.00,9,  -999.00,9,    0.752,2,  -1.4844,20040808,1448
  32H120040718,    36,  3,    307,      7,2,20040808,1442, 72.4125,-153.3916, 2924,     87.3,  -1.4831,  32.5402,2,-999.0000,9,    292.6,2,   -999.0,9,  -999.00,9,  -999.00,9,  -999.00,9,  -999.00,9,     -999,9,   -999.0,   9,   -999.0,   9,     -999,9,  -999.00,9,  -999.00,9,    0.744,2,  -1.4848,20040808,1448
  32H120040718,    36,  3,    301,      1,2,20040808,1442, 72.4125,-153.3916, 2924,    153.8,  -1.4143,  33.3054,2,-999.0000,9,    290.2,2,   -999.0,9,    28.19,2,    12.28,2,     0.09,2,     1.63,2,     0.31,2,   -999.0,   9,   -999.0,   9,     0.17,2,  -999.00,9,  -999.00,9,    0.785,2,  -1.4177,20040808,1441
  32H120040718,    36,  3,    302,      2,2,20040808,1442, 72.4125,-153.3916, 2924,    153.8,  -1.4156,  33.3057,2,-999.0000,9,    289.9,2,   -999.0,9,  -999.00,9,  -999.00,9,  -999.00,9,  -999.00,9,     -999,9,   -999.0,   9,   -999.0,   9,     -999,9,  -999.00,9,  -999.00,9,    0.772,2,  -1.4190,20040808,1442
  32H120040718,    36,  3,    304,      4,2,20040808,1442, 72.4125,-153.3916, 2924,    154.0,  -1.4146,  33.3071,2,-999.0000,9,    293.9,2,   -999.0,9,  -999.00,9,  -999.00,9,  -999.00,9,  -999.00,9,     -999,9,   -999.0,   9,   -999.0,   9,     -999,9,  -999.00,9,  -999.00,9,    0.805,2,  -1.4180,20040808,1442
  32H120040718,    36,  3,    303,      3,2,20040808,1442, 72.4125,-153.3916, 2924,    154.0,  -1.4168,  33.3066,2,-999.0000,9,    292.1,2,   -999.0,9,  -999.00,9,  -999.00,9,  -999.00,9,  -999.00,9,     -999,9,   -999.0,   9,   -999.0,   9,     -999,9,  -999.00,9,  -999.00,9,    0.821,2,  -1.4202,20040808,1442
  32H120040718,    36,  3,    306,      6,2,20040808,1442, 72.4125,-153.3916, 2924,    154.1,  -1.4111,  33.3090,2,-999.0000,9,    294.3,2,   -999.0,9,  -999.00,9,  -999.00,9,  -999.00,9,  -999.00,9,     -999,9,   -999.0,   9,   -999.0,   9,     -999,9,  -999.00,9,  -999.00,9,    0.825,2,  -1.4145,20040808,1443
  32H120040718,    36,  3,    305,      5,2,20040808,1442, 72.4125,-153.3916, 2924,    154.1,  -1.4128,  33.3081,2,-999.0000,9,    293.8,2,   -999.0,9,  -999.00,9,  -999.00,9,  -999.00,9,  -999.00,9,     -999,9,   -999.0,   9,   -999.0,   9,     -999,9,  -999.00,9,  -999.00,9,    0.773,2,  -1.4162,20040808,1442
  32H120040718,    36,  4,    402,      2,2,20040808,1534, 72.4125,-153.3916, 2924,     35.7,  -0.2467,  31.2652,2,-999.0000,9,    370.5,2,   -999.0,9,  -999.00,9,  -999.00,9,  -999.00,9,  -999.00,9,     -999,9,   -999.0,   9,   -999.0,   9,     -999,9,  -999.00,9,  -999.00,9,    1.256,2,  -0.2477,20040808,1531
  32H120040718,    36,  4,    401,      1,2,20040808,1534, 72.4125,-153.3916, 2924,     35.7,  -0.2664,  31.2587,2,-999.0000,9,    370.6,2,   -999.0,9,     5.90,2,     0.20,2,     0.03,2,     0.86,2,     0.12,2,   -999.0,   9,   -999.0,   9,     0.09,2,  -999.00,9,  -999.00,9,    1.265,2,  -0.2674,20040808,1530
  32H120040718,    36,  4,    403,      3,2,20040808,1534, 72.4125,-153.3916, 2924,     35.7,  -0.2808,  31.2524,2,-999.0000,9,    371.1,2,   -999.0,9,  -999.00,9,  -999.00,9,  -999.00,9,  -999.00,9,     -999,9,   -999.0,   9,   -999.0,   9,     -999,9,  -999.00,9,  -999.00,9,    1.260,2,  -0.2817,20040808,1531
  32H120040718,    36,  4,    405,      5,2,20040808,1534, 72.4125,-153.3916, 2924,     35.7,  -0.3449,  31.2386,2,-999.0000,9,    370.9,2,   -999.0,9,  -999.00,9,  -999.00,9,  -999.00,9,  -999.00,9,     -999,9,   -999.0,   9,   -999.0,   9,     -999,9,  -999.00,9,  -999.00,9,    1.309,2,  -0.3458,20040808,1531
  32H120040718,    36,  4,    407,      7,2,20040808,1534, 72.4125,-153.3916, 2924,     35.7,  -0.3455,  31.2407,2,-999.0000,9,    371.8,2,   -999.0,9,  -999.00,9,  -999.00,9,  -999.00,9,  -999.00,9,     -999,9,   -999.0,   9,   -999.0,   9,     -999,9,  -999.00,9,  -999.00,9,    1.335,2,  -0.3464,20040808,1532
  32H120040718,    36,  4,    406,      6,2,20040808,1534, 72.4125,-153.3916, 2924,     35.7,  -0.3463,  31.2381,2,-999.0000,9,    371.2,2,   -999.0,9,  -999.00,9,  -999.00,9,  -999.00,9,  -999.00,9,     -999,9,   -999.0,   9,   -999.0,   9,     -999,9,  -999.00,9,  -999.00,9,    1.311,2,  -0.3472,20040808,1532
  32H120040718,    36,  4,    404,      4,2,20040808,1534, 72.4125,-153.3916, 2924,     35.7,  -0.3521,  31.2386,2,-999.0000,9,    371.3,2,   -999.0,9,  -999.00,9,  -999.00,9,  -999.00,9,  -999.00,9,     -999,9,   -999.0,   9,   -999.0,   9,     -999,9,  -999.00,9,  -999.00,9,    1.289,2,  -0.3530,20040808,1531
  32H120040718,    36,  4,    408,      8,2,20040808,1534, 72.4125,-153.3916, 2924,     35.7,  -0.3859,  31.2291,2,-999.0000,9,    371.6,2,   -999.0,9,  -999.00,9,  -999.00,9,  -999.00,9,  -999.00,9,     -999,9,   -999.0,   9,   -999.0,   9,     -999,9,  -999.00,9,  -999.00,9,    1.368,2,  -0.3868,20040808,1532
  32H120040718,    36,  4,    409,      9,2,20040808,1534, 72.4125,-153.3916, 2924,     35.7,  -0.5027,  31.1993,2,-999.0000,9,    373.4,2,   -999.0,9,  -999.00,9,  -999.00,9,  -999.00,9,  -999.00,9,     -999,9,   -999.0,   9,   -999.0,   9,     -999,9,  -999.00,9,  -999.00,9,    1.340,2,  -0.5036,20040808,1533
  32H120040718,    36,  4,    410,     10,2,20040808,1534, 72.4125,-153.3916, 2924,     35.7,  -0.5191,  31.1920,2,-999.0000,9,    373.8,2,   -999.0,9,  -999.00,9,  -999.00,9,  -999.00,9,  -999.00,9,     -999,9,   -999.0,   9,   -999.0,   9,     -999,9,  -999.00,9,  -999.00,9,    1.339,2,  -0.5200,20040808,1533
  32H120040718,    36,  4,    411,     11,2,20040808,1534, 72.4125,-153.3916, 2924,     35.7,  -0.5394,  31.1834,2,-999.0000,9,    373.7,2,   -999.0,9,  -999.00,9,  -999.00,9,  -999.00,9,  -999.00,9,     -999,9,   -999.0,   9,   -999.0,   9,     -999,9,  -999.00,9,  -999.00,9,    1.349,2,  -0.5403,20040808,1533
  32H120040718,    36,  4,    412,     12,2,20040808,1534, 72.4125,-153.3916, 2924,     35.7,  -0.5545,  31.1671,2,-999.0000,9,    374.8,2,   -999.0,9,  -999.00,9,  -999.00,9,  -999.00,9,  -999.00,9,     -999,9,   -999.0,   9,   -999.0,   9,     -999,9,  -999.00,9,  -999.00,9,    1.332,2,  -0.5554,20040808,1534