BOTTLE,20220815CCHSIOAMB
EXPOCODE,STNNBR,CASTNO,SAMPNO,BTLNBR,BTLNBR_FLAG_W,DATE,TIME,LATITUDE,LONGITUDE,DEPTH,CTDPRS,CTDTMP,CTDSAL,CTDSAL_FLAG_W,SALNTY,SALNTY_FLAG_W,CTDOXY,CTDOXY_FLAG_W,OXYGEN,OXYGEN_FLAG_W,SILCAT,SILCAT_FLAG_W,NITRAT,NITRAT_FLAG_W,NITRIT,NITRIT_FLAG_W,PHSPHT,PHSPHT_FLAG_W,AMMONI,AMMONI_FLAG_W,TCARBN,TCARBN_FLAG_W,ALKALI,ALKALI_FLAG_W,UREA,UREA_FLAG_W,CHLORA,CHLORA_FLAG_W,PHAEO,PHAEO_FLAG_W,FLUORO,FLUORO_FLAG_W,THETA,BTL_DATE,BTL_TIME
,,,,,,,,,,METERS,DBAR,ITS-90,PSS-78,,PSS-78,,UMOL/KG,,UMOL/KG,,UMOL/KG,,UMOL/KG,,UMOL/KG,,UMOL/KG,,UMOL/KG,,UMOL/KG,,UMOL/KG,,UMOL/KG,,UG/L,,UG/L,,VOLTS,,DEG C,,
  32H120040718,    33,  2,    212,     12,2,20040805, 626, 71.6510,-152.1750,  954,      2.6,   2.2741,  28.3272,2,  28.3224,2,    363.4,2,    373.5,2,     5.63,2,     0.00,2,     0.00,2,     0.52,2,      0.2,2,   1755.3,   2,   1958.8,   2,     0.04,2,     0.46,2,     0.13,2,    1.285,2,   2.2740,20040805, 658
  32H120040718,    33,  2,    211,     11,2,20040805, 626, 71.6510,-152.1750,  954,      6.5,   2.4041,  28.3310,2,  28.3400,2,    360.6,2,    371.4,2,     5.96,2,     0.00,2,     0.00,2,     0.52,2,      0.2,2,   -999.0,   9,   -999.0,   9,     0.05,2,  -999.00,9,  -999.00,9,    1.367,2,   2.4038,20040805, 657
  32H120040718,    33,  2,    210,     10,2,20040805, 626, 71.6510,-152.1750,  954,     11.4,   2.5402,  28.3456,2,-999.0000,9,    358.3,2,    367.6,2,     6.17,2,     0.00,2,     0.00,2,     0.51,2,     0.21,2,   1759.0,   2,   1968.0,   2,     0.05,2,     0.48,2,     0.10,2,    1.389,2,   2.5397,20040805, 656
  32H120040718,    33,  2,    209,      9,2,20040805, 626, 71.6510,-152.1750,  954,     20.9,  -0.7935,  31.1226,2,-999.0000,9,    478.0,2,    483.6,2,     3.63,2,    -0.01,2,     0.01,2,     0.62,2,     0.15,2,   1922.8,   2,   2149.8,   2,     0.08,2,     0.32,2,     0.06,2,    1.215,2,  -0.7940,20040805, 653
  32H120040718,    33,  2,    208,      8,2,20040805, 626, 71.6510,-152.1750,  954,     32.6,  -1.0547,  31.9491,2,-999.0000,9,    423.7,2,    444.7,2,    12.28,2,     1.98,2,     0.10,2,     1.02,2,     0.51,2,   2015.1,   2,   2206.6,   2,     0.09,2,     2.79,2,     0.21,2,    1.869,2,  -1.0554,20040805, 650
  32H120040718,    33,  2,    207,      7,2,20040805, 626, 71.6510,-152.1750,  954,     41.0,  -1.0659,  32.1009,2,-999.0000,9,    392.1,2,    415.6,2,    15.77,2,     3.41,2,     0.14,2,     1.19,2,      0.9,2,   2044.4,   2,   2207.0,   2,     0.12,2,     2.91,2,     0.24,2,    1.805,2,  -1.0668,20040805, 647
  32H120040718,    33,  2,    206,      6,2,20040805, 626, 71.6510,-152.1750,  954,     51.0,  -1.1269,  32.3460,2,-999.0000,9,    344.4,2,    360.6,2,    21.85,2,     7.17,2,     0.21,2,     1.48,2,     1.39,2,   2094.5,   2,   2225.4,   2,     0.09,2,     2.08,2,     0.37,2,    1.436,2,  -1.1280,20040805, 644
  32H120040718,    33,  2,    205,      5,2,20040805, 626, 71.6510,-152.1750,  954,     66.7,  -1.4748,  32.5293,2,-999.0000,9,    332.3,2,    344.2,2,    29.66,2,    10.14,2,     0.22,2,     1.68,2,     1.51,2,   2117.9,   2,   2231.3,   2,      0.1,2,     0.98,2,     0.40,2,    1.462,2,  -1.4761,20040805, 640
  32H120040718,    33,  2,    204,      4,2,20040805, 626, 71.6510,-152.1750,  954,     84.4,  -1.5740,  32.6677,2,-999.0000,9,    321.8,2,    333.2,2,    37.91,2,    11.94,2,     0.27,2,     1.88,2,     1.79,2,   2122.1,   2,   2229.5,   2,     0.14,2,     1.39,2,     0.72,2,    1.631,2,  -1.5756,20040805, 637
  32H120040718,    33,  2,    203,      3,2,20040805, 626, 71.6510,-152.1750,  954,    106.5,  -1.6616,  32.8827,2,-999.0000,9,    303.5,2,    314.7,2,    38.44,2,    12.09,2,     0.21,2,     1.97,2,      1.5,2,   2180.5,   2,   2250.1,   2,     0.13,2,     1.07,2,     0.58,2,    1.503,2,  -1.6636,20040805, 633
  32H120040718,    33,  2,    202,      2,2,20040805, 626, 71.6510,-152.1750,  954,    125.7,  -1.6525,  33.0365,2,  33.0365,2,    289.8,2,    299.5,2,    38.34,2,    11.59,2,     0.18,2,     2.02,2,      1.4,2,   -999.0,   9,   -999.0,   9,     0.18,2,  -999.00,9,  -999.00,9,    1.336,2,  -1.6549,20040805, 629
  32H120040718,    33,  2,    201,      1,2,20040805, 626, 71.6510,-152.1750,  954,    143.4,  -1.5486,  33.1897,2,  33.1874,2,    286.5,2,    297.8,2,    36.38,2,    10.92,2,     0.16,2,     1.94,2,     1.52,2,   -999.0,   9,   -999.0,   9,     0.21,2,     0.44,2,     0.47,2,    1.285,2,  -1.5515,20040805, 626
  32H120040718,    33,  3,    307,      7,2,20040805, 906, 71.6510,-152.1750,  954,    112.4,  -1.6374,  33.1322,2,-999.0000,9,    278.2,2,   -999.0,9,  -999.00,9,  -999.00,9,  -999.00,9,  -999.00,9,     -999,9,   -999.0,   9,   -999.0,   9,     -999,9,  -999.00,9,  -999.00,9,    1.287,2,  -1.6395,20040805, 912
  32H120040718,    33,  3,    308,      8,2,20040805, 906, 71.6510,-152.1750,  954,    112.4,  -1.6390,  33.1318,2,-999.0000,9,    278.4,2,   -999.0,9,  -999.00,9,  -999.00,9,  -999.00,9,  -999.00,9,     -999,9,   -999.0,   9,   -999.0,   9,     -999,9,  -999.00,9,  -999.00,9,    1.271,2,  -1.6411,20040805, 912
  32H120040718,    33,  3,    309,      9,2,20040805, 906, 71.6510,-152.1750,  954,    112.4,  -1.6469,  33.1289,2,-999.0000,9,    279.1,2,   -999.0,9,  -999.00,9,  -999.00,9,  -999.00,9,  -999.00,9,     -999,9,   -999.0,   9,   -999.0,   9,     -999,9,  -999.00,9,  -999.00,9,    1.301,2,  -1.6490,20040805, 913
  32H120040718,    33,  3,    312,     12,2,20040805, 906, 71.6510,-152.1750,  954,    112.4,  -1.6619,  33.1252,2,-999.0000,9,    279.7,2,   -999.0,9,    39.88,2,    10.62,2,     0.16,2,     2.01,2,     1.97,2,   -999.0,   9,   -999.0,   9,     0.25,2,  -999.00,9,  -999.00,9,    1.266,2,  -1.6640,20040805, 914
  32H120040718,    33,  3,    310,     10,2,20040805, 906, 71.6510,-152.1750,  954,    112.5,  -1.6536,  33.1272,2,-999.0000,9,    279.9,2,   -999.0,9,  -999.00,9,  -999.00,9,  -999.00,9,  -999.00,9,     -999,9,   -999.0,   9,   -999.0,   9,     -999,9,  -999.00,9,  -999.00,9,    1.296,2,  -1.6557,20040805, 913
  32H120040718,    33,  3,    311,     11,2,20040805, 906, 71.6510,-152.1750,  954,    112.5,  -1.6576,  33.1260,2,-999.0000,9,    279.8,2,   -999.0,9,  -999.00,9,  -999.00,9,  -999.00,9,  -999.00,9,     -999,9,   -999.0,   9,   -999.0,   9,     -999,9,  -999.00,9,  -999.00,9,    1.284,2,  -1.6597,20040805, 913
  32H120040718,    33,  3,    306,      6,2,20040805, 906, 71.6510,-152.1750,  954,    163.1,  -0.9484,  34.1213,2,-999.0000,9,    265.7,2,   -999.0,9,  -999.00,9,  -999.00,9,  -999.00,9,  -999.00,9,     -999,9,   -999.0,   9,   -999.0,   9,     -999,9,  -999.00,9,  -999.00,9,    0.822,2,  -0.9529,20040805, 907
  32H120040718,    33,  3,    302,      2,2,20040805, 906, 71.6510,-152.1750,  954,    163.2,  -0.9303,  34.1395,2,-999.0000,9,    265.4,2,   -999.0,9,  -999.00,9,  -999.00,9,  -999.00,9,  -999.00,9,     -999,9,   -999.0,   9,   -999.0,   9,     -999,9,  -999.00,9,  -999.00,9,    1.004,2,  -0.9348,20040805, 905
  32H120040718,    33,  3,    301,      1,2,20040805, 906, 71.6510,-152.1750,  954,    163.2,  -0.9303,  34.1397,2,-999.0000,9,    265.5,2,   -999.0,9,    22.92,2,    14.22,2,     0.01,2,     1.39,2,     0.03,2,   -999.0,   9,   -999.0,   9,     0.06,2,  -999.00,9,  -999.00,9,    0.805,2,  -0.9348,20040805, 905
  32H120040718,    33,  3,    303,      3,2,20040805, 906, 71.6510,-152.1750,  954,    163.2,  -0.9320,  34.1373,2,-999.0000,9,    265.4,2,   -999.0,9,  -999.00,9,  -999.00,9,  -999.00,9,  -999.00,9,     -999,9,   -999.0,   9,   -999.0,   9,     -999,9,  -999.00,9,  -999.00,9,    0.857,2,  -0.9365,20040805, 906
  32H120040718,    33,  3,    304,      4,2,20040805, 906, 71.6510,-152.1750,  954,    163.2,  -0.9472,  34.1248,2,-999.0000,9,    265.8,2,   -999.0,9,  -999.00,9,  -999.00,9,  -999.00,9,  -999.00,9,     -999,9,   -999.0,   9,   -999.0,   9,     -999,9,  -999.00,9,  -999.00,9,    0.813,2,  -0.9517,20040805, 906
  32H120040718,    33,  3,    305,      5,2,20040805, 906, 71.6510,-152.1750,  954,    163.2,  -0.9479,  34.1224,2,-999.0000,9,    265.5,2,   -999.0,9,  -999.00,9,  -999.00,9,  -999.00,9,  -999.00,9,     -999,9,   -999.0,   9,   -999.0,   9,     -999,9,  -999.00,9,  -999.00,9,    0.843,2,  -0.9524,20040805, 906
  32H120040718,    33,  4,    404,      4,2,20040805,1007, 71.6510,-152.1750,  954,     61.5,  -1.3935,  32.4511,2,-999.0000,9,    334.3,2,   -999.0,9,  -999.00,9,  -999.00,9,  -999.00,9,  -999.00,9,     -999,9,   -999.0,   9,   -999.0,   9,     -999,9,  -999.00,9,  -999.00,9,    1.457,2,  -1.3947,20040805,1005
  32H120040718,    33,  4,    403,      3,2,20040805,1007, 71.6510,-152.1750,  954,     61.5,  -1.3949,  32.4528,2,-999.0000,9,    333.6,2,   -999.0,9,  -999.00,9,  -999.00,9,  -999.00,9,  -999.00,9,     -999,9,   -999.0,   9,   -999.0,   9,     -999,9,  -999.00,9,  -999.00,9,    1.393,2,  -1.3961,20040805,1004
  32H120040718,    33,  4,    402,      2,2,20040805,1007, 71.6510,-152.1750,  954,     61.5,  -1.4055,  32.4553,2,-999.0000,9,    332.9,2,   -999.0,9,  -999.00,9,  -999.00,9,  -999.00,9,  -999.00,9,     -999,9,   -999.0,   9,   -999.0,   9,     -999,9,  -999.00,9,  -999.00,9,    1.528,2,  -1.4067,20040805,1004
  32H120040718,    33,  4,    401,      1,2,20040805,1007, 71.6510,-152.1750,  954,     61.5,  -1.4064,  32.4558,2,-999.0000,9,    333.5,2,   -999.0,9,    30.24,2,     9.81,2,     0.24,2,     1.67,2,     1.77,2,   -999.0,   9,   -999.0,   9,      0.1,2,  -999.00,9,  -999.00,9,    1.408,2,  -1.4076,20040805,1004
  32H120040718,    33,  4,    411,     11,2,20040805,1007, 71.6510,-152.1750,  954,     61.6,  -1.3628,  32.4537,2,-999.0000,9,    334.7,2,   -999.0,9,  -999.00,9,  -999.00,9,  -999.00,9,  -999.00,9,     -999,9,   -999.0,   9,   -999.0,   9,     -999,9,  -999.00,9,  -999.00,9,    1.437,2,  -1.3640,20040805,1007
  32H120040718,    33,  4,    410,     10,2,20040805,1007, 71.6510,-152.1750,  954,     61.6,  -1.3638,  32.4537,2,-999.0000,9,    334.3,2,   -999.0,9,  -999.00,9,  -999.00,9,  -999.00,9,  -999.00,9,     -999,9,   -999.0,   9,   -999.0,   9,     -999,9,  -999.00,9,  -999.00,9,    1.483,2,  -1.3650,20040805,1007
  32H120040718,    33,  4,    408,      8,2,20040805,1007, 71.6510,-152.1750,  954,     61.6,  -1.3783,  32.4510,2,-999.0000,9,    333.9,2,   -999.0,9,  -999.00,9,  -999.00,9,  -999.00,9,  -999.00,9,     -999,9,   -999.0,   9,   -999.0,   9,     -999,9,  -999.00,9,  -999.00,9,    1.398,2,  -1.3795,20040805,1006
  32H120040718,    33,  4,    409,      9,2,20040805,1007, 71.6510,-152.1750,  954,     61.6,  -1.3825,  32.4497,2,-999.0000,9,    334.6,2,   -999.0,9,  -999.00,9,  -999.00,9,  -999.00,9,  -999.00,9,     -999,9,   -999.0,   9,   -999.0,   9,     -999,9,  -999.00,9,  -999.00,9,    1.404,2,  -1.3837,20040805,1007
  32H120040718,    33,  4,    405,      5,2,20040805,1007, 71.6510,-152.1750,  954,     61.6,  -1.3957,  32.4543,2,-999.0000,9,    333.5,2,   -999.0,9,  -999.00,9,  -999.00,9,  -999.00,9,  -999.00,9,     -999,9,   -999.0,   9,   -999.0,   9,     -999,9,  -999.00,9,  -999.00,9,    1.414,2,  -1.3969,20040805,1005
  32H120040718,    33,  4,    406,      6,2,20040805,1007, 71.6510,-152.1750,  954,     61.6,  -1.3998,  32.4481,2,-999.0000,9,    333.6,2,   -999.0,9,  -999.00,9,  -999.00,9,  -999.00,9,  -999.00,9,     -999,9,   -999.0,   9,   -999.0,   9,     -999,9,  -999.00,9,  -999.00,9,    1.427,2,  -1.4010,20040805,1005
  32H120040718,    33,  4,    407,      7,2,20040805,1007, 71.6510,-152.1750,  954,     61.6,  -1.4045,  32.4477,2,-999.0000,9,    333.5,2,   -999.0,9,  -999.00,9,  -999.00,9,  -999.00,9,  -999.00,9,     -999,9,   -999.0,   9,   -999.0,   9,     -999,9,  -999.00,9,  -999.00,9,    1.474,2,  -1.4057,20040805,1006
  32H120040718,    33,  4,    412,     12,2,20040805,1007, 71.6510,-152.1750,  954,     61.7,  -1.3486,  32.4533,2,-999.0000,9,    334.5,2,   -999.0,9,  -999.00,9,  -999.00,9,  -999.00,9,  -999.00,9,     -999,9,   -999.0,   9,   -999.0,   9,     -999,9,  -999.00,9,  -999.00,9,    1.397,2,  -1.3498,20040805,1007
  32H120040718,    33,  5,    511,     11,2,20040805,1728, 71.6510,-152.1750,  954,      3.6,   2.2008,  28.1231,2,-999.0000,9,    362.6,2,    367.9,2,     5.75,2,     0.06,2,     0.00,2,     0.49,2,     0.11,2,   -999.0,   9,   -999.0,   9,     0.05,2,     0.40,2,     0.10,2,    1.127,2,   2.2006,20040805,1756
  32H120040718,    33,  5,    512,     12,2,20040805,1728, 71.6510,-152.1750,  954,      3.6,   2.2057,  28.1232,2,-999.0000,9,    362.8,2,   -999.0,9,  -999.00,9,  -999.00,9,  -999.00,9,  -999.00,9,     -999,9,   -999.0,   9,   -999.0,   9,     -999,9,  -999.00,9,  -999.00,9,    1.164,2,   2.2055,20040805,1756
  32H120040718,    33,  5,    510,     10,2,20040805,1728, 71.6510,-152.1750,  954,      5.3,   2.1976,  28.1230,2,-999.0000,9,    363.0,2,    368.1,2,     5.75,2,     0.06,2,     0.00,2,     0.50,2,     0.09,2,   -999.0,   9,   -999.0,   9,     0.04,2,     0.36,2,     0.11,2,    1.174,2,   2.1974,20040805,1754
  32H120040718,    33,  5,    509,      9,2,20040805,1728, 71.6510,-152.1750,  954,      7.3,   2.1836,  28.1195,2,-999.0000,9,    363.0,2,    368.2,2,     5.74,2,     0.01,2,     0.00,2,     0.49,2,     0.09,2,   -999.0,   9,   -999.0,   9,     0.04,2,     0.35,2,     0.08,2,    1.183,2,   2.1833,20040805,1752
  32H120040718,    33,  5,    508,      8,2,20040805,1728, 71.6510,-152.1750,  954,     12.3,   2.1771,  28.1241,2,-999.0000,9,    363.6,2,    368.6,2,     5.73,2,     0.00,2,     0.00,2,     0.48,2,     0.09,2,   -999.0,   9,   -999.0,   9,     0.04,2,     0.36,2,     0.11,2,    1.290,2,   2.1766,20040805,1750
  32H120040718,    33,  5,    507,      7,2,20040805,1728, 71.6510,-152.1750,  954,     12.4,   2.1857,  28.1186,2,-999.0000,9,    363.3,2,   -999.0,9,  -999.00,9,  -999.00,9,  -999.00,9,  -999.00,9,     -999,9,   -999.0,   9,   -999.0,   9,     -999,9,  -999.00,9,  -999.00,9,    1.244,2,   2.1852,20040805,1749
  32H120040718,    33,  5,    506,      6,2,20040805,1728, 71.6510,-152.1750,  954,     19.1,   1.1495,  30.1084,2,-999.0000,9,    457.4,2,    441.3,2,     3.72,2,     0.00,2,     0.00,2,     0.57,2,     0.08,2,   -999.0,   9,   -999.0,   9,     0.05,2,     0.21,2,     0.07,2,    1.047,2,   1.1488,20040805,1745
  32H120040718,    33,  5,    504,      4,2,20040805,1728, 71.6510,-152.1750,  954,     28.9,  -0.8075,  31.5927,2,-999.0000,9,    429.7,2,   -999.0,9,  -999.00,9,  -999.00,9,  -999.00,9,  -999.00,9,     -999,9,   -999.0,   9,   -999.0,   9,     -999,9,  -999.00,9,  -999.00,9,    1.160,2,  -0.8082,20040805,1742
  32H120040718,    33,  5,    505,      5,2,20040805,1728, 71.6510,-152.1750,  954,     29.0,  -0.8057,  31.6118,2,-999.0000,9,    426.1,2,    440.3,2,     3.38,2,     0.00,2,     0.00,2,     0.77,2,     0.01,2,   -999.0,   9,   -999.0,   9,     0.05,2,     0.25,2,     0.13,2,    1.185,2,  -0.8064,20040805,1742
  32H120040718,    33,  5,    503,      3,2,20040805,1728, 71.6510,-152.1750,  954,     72.3,  -1.4746,  32.6130,2,-999.0000,9,    337.3,2,   -999.0,9,    28.97,2,     9.87,2,     0.17,2,     1.65,2,     1.47,2,   -999.0,   9,   -999.0,   9,      0.1,2,  -999.00,9,  -999.00,9,    1.223,2,  -1.4760,20040805,1738
  32H120040718,    33,  5,    502,      2,2,20040805,1728, 71.6510,-152.1750,  954,    110.6,  -1.4820,  33.1158,2,-999.0000,9,    311.8,2,   -999.0,9,    30.17,2,    10.47,2,     0.10,2,     1.70,2,     1.07,2,   -999.0,   9,   -999.0,   9,     0.12,2,  -999.00,9,  -999.00,9,    1.132,2,  -1.4843,20040805,1734
  32H120040718,    33,  5,    501,      1,2,20040805,1728, 71.6510,-152.1750,  954,    155.0,  -1.1273,  33.8811,2,-999.0000,9,    277.3,2,   -999.0,9,    26.21,2,    13.63,2,     0.05,2,     1.52,2,     0.06,2,   -999.0,   9,   -999.0,   9,     0.05,2,  -999.00,9,  -999.00,9,    0.997,2,  -1.1312,20040805,1728
  32H120040718,    34,  1,    112,     12,2,20040806, 327, 71.6500,-152.3900,  549,    103.0,  -1.0184,  32.1951,2,-999.0000,9,    372.8,2,    380.5,2,    19.17,2,     5.09,2,     0.19,2,     1.37,2,     1.51,2,   2058.1,   2,   2225.9,   2,     0.12,2,     0.72,2,     0.23,2,    1.699,2,  -1.0207,20040806, 420
  32H120040718,    34,  1,    111,     11,2,20040806, 327, 71.6500,-152.3900,  549,    126.6,  -1.4438,  32.4288,2,  32.4264,2,    351.3,2,    359.0,2,    27.29,2,     8.17,2,     0.22,2,     1.61,2,      1.7,2,   -999.0,   9,   -999.0,   9,     0.12,2,     0.79,2,     0.31,2,    1.738,2,  -1.4463,20040806, 416
  32H120040718,    34,  1,    110,     10,2,20040806, 327, 71.6500,-152.3900,  549,    152.4,  -1.6466,  32.8371,2,-999.0000,9,    317.7,2,    326.1,2,    37.45,2,    11.88,2,     0.22,2,     1.92,2,     1.66,2,   2148.8,   2,   2245.9,   2,     0.11,2,     0.50,2,     0.22,2,    1.611,2,  -1.6495,20040806, 412
  32H120040718,    34,  1,    109,      9,2,20040806, 327, 71.6500,-152.3900,  549,    177.9,  -1.1702,  33.5239,2,  33.4385,2,    286.6,2,    295.0,2,    32.39,2,    11.56,2,     0.15,2,     1.80,2,     1.33,2,   -999.0,   9,   -999.0,   9,     0.15,2,  -999.00,9,  -999.00,9,    1.494,2,  -1.1745,20040806, 407
  32H120040718,    34,  1,    108,      8,2,20040806, 327, 71.6500,-152.3900,  549,    203.9,  -0.2392,  34.3408,2,-999.0000,9,    270.8,2,    276.5,2,    21.74,2,    12.31,2,     0.12,2,     1.43,2,     0.71,2,   2182.7,   2,   2299.0,   2,     0.12,2,     0.14,2,     0.18,2,    1.267,2,  -0.2462,20040806, 403
  32H120040718,    34,  1,    107,      7,2,20040806, 327, 71.6500,-152.3900,  549,    229.2,   0.1711,  34.6205,2,-999.0000,9,    268.9,2,    274.4,2,    15.80,2,    12.90,2,     0.10,2,     1.21,2,     0.39,2,   -999.0,   9,   -999.0,   9,      0.1,2,  -999.00,9,  -999.00,9,    1.398,2,   0.1622,20040806, 358
  32H120040718,    34,  1,    106,      6,2,20040806, 327, 71.6500,-152.3900,  549,    256.0,   0.2989,  34.6805,2,-999.0000,9,    270.1,2,    275.4,2,    13.70,2,    12.77,2,     0.09,2,     1.12,2,     0.26,2,   2166.3,   2,   2298.3,   2,      0.1,2,  -999.00,9,  -999.00,9,    1.069,2,   0.2886,20040806, 354
  32H120040718,    34,  1,    105,      5,2,20040806, 327, 71.6500,-152.3900,  549,    305.6,   0.5287,  34.7776,2,-999.0000,9,    275.1,2,    280.5,2,    11.59,2,    12.78,2,     0.07,2,     1.05,2,      0.2,2,   2157.4,   2,   2299.3,   2,     0.08,2,  -999.00,9,  -999.00,9,    1.316,2,   0.5157,20040806, 349
  32H120040718,    34,  1,    104,      4,2,20040806, 327, 71.6500,-152.3900,  549,    356.4,   0.5974,  34.8055,2,-999.0000,9,    278.0,2,    284.2,2,    10.16,2,    12.73,2,     0.07,2,     0.99,2,     0.12,2,   -999.0,   9,   -999.0,   9,     0.08,2,  -999.00,9,  -999.00,9,    0.796,2,   0.5818,20040806, 343
  32H120040718,    34,  1,    103,      3,2,20040806, 327, 71.6500,-152.3900,  549,    406.2,   0.6107,  34.8133,2,  34.8148,2,    278.0,2,    284.1,2,    10.26,2,    12.87,2,     0.06,2,     0.99,2,     0.14,2,   2149.8,   2,   2303.7,   2,     0.08,2,  -999.00,9,  -999.00,9,    0.851,2,   0.5927,20040806, 338
  32H120040718,    34,  1,    102,      2,2,20040806, 327, 71.6500,-152.3900,  549,    478.8,   0.6108,  34.8257,2,-999.0000,9,    279.7,2,    286.5,2,     9.69,2,    12.77,2,     0.06,2,     0.98,2,     0.12,2,   -999.0,   9,   -999.0,   9,     0.12,2,  -999.00,9,  -999.00,9,    0.807,2,   0.5893,20040806, 332
  32H120040718,    34,  1,    101,      1,2,20040806, 327, 71.6500,-152.3900,  549,    523.7,   0.5890,  34.8263,2,  34.8263,2,    280.2,2,    286.5,2,     9.57,2,    12.92,2,     0.05,2,     0.98,2,     0.13,2,   2151.9,   2,   2310.3,   2,     0.09,2,  -999.00,9,  -999.00,9,    0.792,2,   0.5654,20040806, 327