BOTTLE,20220815CCHSIOAMB
EXPOCODE,STNNBR,CASTNO,SAMPNO,BTLNBR,BTLNBR_FLAG_W,DATE,TIME,LATITUDE,LONGITUDE,DEPTH,CTDPRS,CTDTMP,CTDSAL,CTDSAL_FLAG_W,SALNTY,SALNTY_FLAG_W,CTDOXY,CTDOXY_FLAG_W,OXYGEN,OXYGEN_FLAG_W,SILCAT,SILCAT_FLAG_W,NITRAT,NITRAT_FLAG_W,NITRIT,NITRIT_FLAG_W,PHSPHT,PHSPHT_FLAG_W,AMMONI,AMMONI_FLAG_W,TCARBN,TCARBN_FLAG_W,ALKALI,ALKALI_FLAG_W,UREA,UREA_FLAG_W,CHLORA,CHLORA_FLAG_W,PHAEO,PHAEO_FLAG_W,FLUORO,FLUORO_FLAG_W,THETA,BTL_DATE,BTL_TIME
,,,,,,,,,,METERS,DBAR,ITS-90,PSS-78,,PSS-78,,UMOL/KG,,UMOL/KG,,UMOL/KG,,UMOL/KG,,UMOL/KG,,UMOL/KG,,UMOL/KG,,UMOL/KG,,UMOL/KG,,UMOL/KG,,UG/L,,UG/L,,VOLTS,,DEG C,,
  32H120040718,    22,  2,    212,     12,2,20040726, 123, 71.9320,-154.9050,  542,    175.6,   0.2531,  34.6694,2,  34.6698,2,    273.9,2,    277.4,2,    11.70,2,    13.03,2,     0.06,2,     1.02,2,     0.05,2,   2152.3,   2,   2299.4,   2,     0.06,2,  -999.00,9,  -999.00,9,    0.729,2,   0.2463,20040726, 207
  32H120040718,    22,  2,    211,     11,2,20040726, 123, 71.9320,-154.9050,  542,    200.1,   0.4410,  34.7355,2,  34.7282,2,    278.9,2,    281.7,2,    10.55,2,    13.05,2,     0.10,2,     1.00,2,     0.04,2,   -999.0,   9,   -999.0,   9,     0.07,2,  -999.00,9,  -999.00,9,    0.781,2,   0.4328,20040726, 203
  32H120040718,    22,  2,    210,     10,2,20040726, 123, 71.9320,-154.9050,  542,    225.3,   0.5753,  34.7751,2,  34.7756,2,    281.7,2,    285.4,2,     9.06,2,    12.88,2,     0.07,2,     0.95,2,     0.04,2,   2153.1,   2,   2303.4,   2,     0.07,2,  -999.00,9,  -999.00,9,    0.750,2,   0.5658,20040726, 159
  32H120040718,    22,  2,    209,      9,2,20040726, 123, 71.9320,-154.9050,  542,    250.5,   0.6524,  34.8043,2,  34.8046,2,    284.8,2,    288.0,2,     8.25,2,    12.80,2,     0.04,2,     0.93,2,     0.05,2,   -999.0,   9,   -999.0,   9,     0.07,2,  -999.00,9,  -999.00,9,    0.688,2,   0.6416,20040726, 156
  32H120040718,    22,  2,    208,      8,2,20040726, 123, 71.9320,-154.9050,  542,    301.1,   0.6328,  34.8209,2,  34.8223,2,    286.0,2,    290.4,2,     7.79,2,    12.76,2,     0.03,2,     0.91,2,     0.04,2,   -999.0,   9,   -999.0,   9,     0.06,2,  -999.00,9,  -999.00,9,    0.764,2,   0.6197,20040726, 150
  32H120040718,    22,  2,    207,      7,2,20040726, 123, 71.9320,-154.9050,  542,    350.7,   0.6105,  34.8324,2,  34.8341,2,    287.8,2,    291.8,2,     7.78,2,    12.72,2,     0.02,2,     0.90,2,     0.03,2,   2146.4,   2,   2303.4,   2,     0.06,2,  -999.00,9,  -999.00,9,    0.642,2,   0.5951,20040726, 144
  32H120040718,    22,  2,    206,      6,2,20040726, 123, 71.9320,-154.9050,  542,    401.3,   0.5946,  34.8428,2,  34.8438,2,    289.0,2,    293.1,2,     7.90,2,    12.73,2,     0.02,2,     0.90,2,     0.03,2,   -999.0,   9,   -999.0,   9,     0.06,2,  -999.00,9,  -999.00,9,    0.664,2,   0.5769,20040726, 139
  32H120040718,    22,  2,    205,      5,2,20040726, 123, 71.9320,-154.9050,  542,    451.9,   0.5596,  34.8457,2,  34.8466,2,    289.3,2,    293.9,2,     7.77,2,    12.68,2,     0.01,2,     0.90,2,     0.04,2,   -999.0,   9,   -999.0,   9,     0.06,2,  -999.00,9,  -999.00,9,    0.666,2,   0.5396,20040726, 134
  32H120040718,    22,  2,    204,      4,2,20040726, 123, 71.9320,-154.9050,  542,    499.5,   0.5438,  34.8476,2,  34.8488,2,    289.8,2,    294.0,2,     7.65,2,    12.69,2,     0.01,2,     0.90,2,     0.03,2,   -999.0,   9,   -999.0,   9,     0.06,2,  -999.00,9,  -999.00,9,    0.669,2,   0.5215,20040726, 128
  32H120040718,    22,  2,    203,      3,3,20040726, 123, 71.9320,-154.9050,  542,    537.6,   0.5208,  34.8500,2,-999.0000,9,    289.9,2,   -999.0,9,  -999.00,9,  -999.00,9,  -999.00,9,  -999.00,9,     -999,9,   -999.0,   9,   -999.0,   9,     -999,9,  -999.00,9,  -999.00,9,    0.686,2,   0.4967,20040726, 124
  32H120040718,    22,  2,    201,      1,3,20040726, 123, 71.9320,-154.9050,  542,    537.6,   0.5238,  34.8496,2,-999.0000,9,    289.7,2,   -999.0,9,     8.33,4,    12.58,4,     0.02,4,     0.92,4,     0.08,4,   -999.0,   9,   -999.0,   9,     0.06,4,  -999.00,9,  -999.00,9,    0.699,2,   0.4997,20040726, 123
  32H120040718,    22,  2,    202,      2,2,20040726, 123, 71.9320,-154.9050,  542,    537.6,   0.5240,  34.8496,2,  34.8510,2,    289.6,2,    293.7,2,     7.76,2,    12.69,2,     0.01,2,     0.90,2,     0.04,2,   2148.4,   2,   2305.6,   2,     0.05,2,  -999.00,9,  -999.00,9,    0.709,2,   0.4999,20040726, 123
  32H120040718,    22,  5,    512,     12,2,20040726, 439, 71.9320,-154.9050,  542,      1.7,   3.4842,  27.1389,2,  26.7032,2,    381.1,2,    384.2,2,     5.26,2,     0.08,2,     0.00,2,     0.44,2,     0.14,2,   1686.2,   2,   1857.6,   2,     0.03,2,     0.13,2,     0.03,2,    0.781,2,   3.4841,20040726, 516
  32H120040718,    22,  5,    511,     11,2,20040726, 439, 71.9320,-154.9050,  542,      4.4,   4.5549,  28.9681,2,  28.8477,2,    378.8,2,    384.7,2,     6.18,2,     0.08,2,     0.00,2,     0.50,2,     0.17,2,   -999.0,   9,   -999.0,   9,     0.11,2,  -999.00,9,  -999.00,9,    0.875,2,   4.5546,20040726, 513
  32H120040718,    22,  5,    510,     10,2,20040726, 439, 71.9320,-154.9050,  542,      9.5,   1.7554,  29.2164,2,-999.0000,9,    463.5,2,    438.5,2,     4.90,2,     0.08,2,     0.00,2,     0.49,2,     0.14,2,   1806.9,   2,   2022.7,   2,     0.09,2,     0.17,2,     0.03,2,    1.024,2,   1.7550,20040726, 510
  32H120040718,    22,  5,    509,      9,2,20040726, 439, 71.9320,-154.9050,  542,     19.4,  -1.0929,  31.4017,2,-999.0000,9,    473.2,2,    482.7,2,     5.12,2,     0.08,2,     0.00,2,     0.69,2,     0.09,2,   -999.0,   9,   -999.0,   9,     0.06,2,     1.56,2,     0.20,2,    2.051,2,  -1.0933,20040726, 507
  32H120040718,    22,  5,    508,      8,2,20040726, 439, 71.9320,-154.9050,  542,     29.3,  -1.1105,  31.9941,2,-999.0000,9,    409.8,2,    421.8,2,    12.66,2,     2.87,2,     0.09,2,     1.05,2,     0.27,2,   2042.4,   2,   2213.9,   2,     0.16,2,     4.84,2,     0.27,2,    2.201,2,  -1.1111,20040726, 504
  32H120040718,    22,  5,    507,      7,2,20040726, 439, 71.9320,-154.9050,  542,     39.5,  -1.2235,  32.3369,2,-999.0000,9,    355.1,2,    362.4,2,    25.27,2,     7.34,2,     0.19,2,     1.49,2,     1.59,2,   2097.8,   2,   2225.8,   2,     0.16,2,     1.24,2,     0.42,2,    1.595,2,  -1.2243,20040726, 501
  32H120040718,    22,  5,    506,      6,2,20040726, 439, 71.9320,-154.9050,  542,     49.9,  -1.6604,  32.5811,2,-999.0000,9,    331.8,2,    346.9,2,    32.40,2,    10.09,2,     0.22,2,     1.74,2,     2.14,2,   -999.0,   9,   -999.0,   9,     0.13,2,     0.94,2,     0.56,2,    1.706,2,  -1.6613,20040726, 457
  32H120040718,    22,  5,    505,      5,2,20040726, 439, 71.9320,-154.9050,  542,     65.0,  -1.6678,  32.7942,2,-999.0000,9,    332.6,2,    338.3,2,    38.84,2,    11.80,2,     0.16,2,     1.86,2,     1.79,2,   2141.5,   2,   2261.4,   2,     0.17,2,  -999.00,9,  -999.00,9,    1.618,2,  -1.6690,20040726, 454
  32H120040718,    22,  5,    504,      4,2,20040726, 439, 71.9320,-154.9050,  542,     80.2,  -1.6904,  32.9353,2,-999.0000,9,    324.2,2,    329.5,2,    41.44,2,    12.62,2,     0.12,2,     1.96,2,     1.94,2,   2157.4,   2,   2256.4,   2,     0.17,2,  -999.00,9,  -999.00,9,    1.402,2,  -1.6918,20040726, 451
  32H120040718,    22,  5,    503,      3,2,20040726, 439, 71.9320,-154.9050,  542,     99.3,  -1.5025,  33.3375,2,  33.2983,2,    320.2,2,    320.9,2,    34.62,2,    10.61,2,     0.12,2,     1.75,2,     1.75,2,   2184.8,   2,   2284.2,   2,     0.17,2,     0.38,2,     0.49,2,    1.224,2,  -1.5045,20040726, 448
  32H120040718,    22,  5,    502,      2,2,20040726, 439, 71.9320,-154.9050,  542,    124.5,  -0.6770,  34.2802,2,  34.2853,2,    279.2,2,    283.0,2,    19.64,2,    13.00,2,     0.10,2,     1.30,2,     0.19,2,   -999.0,   9,   -999.0,   9,     0.07,2,  -999.00,9,  -999.00,9,    0.928,2,  -0.6807,20040726, 443
  32H120040718,    22,  5,    501,      1,2,20040726, 439, 71.9320,-154.9050,  542,    149.8,  -0.0765,  34.5638,2,  34.5572,2,    271.2,2,    274.4,2,    13.61,2,    13.17,2,     0.05,2,     1.07,2,     0.13,2,   2161.7,   2,   2296.2,   2,      0.2,2,     0.11,2,     0.19,2,    1.263,2,  -0.0818,20040726, 439
  32H120040718,    22,  6,    609,      9,2,20040726, 639, 71.9320,-154.9050,  542,     78.2,  -1.6560,  32.9248,2,-999.0000,9,    326.0,2,   -999.0,9,  -999.00,9,  -999.00,9,  -999.00,9,  -999.00,9,     -999,9,   -999.0,   9,   -999.0,   9,     -999,9,  -999.00,9,  -999.00,9,    1.465,2,  -1.6574,20040726, 650
  32H120040718,    22,  6,    611,     11,2,20040726, 639, 71.9320,-154.9050,  542,     78.2,  -1.6571,  32.9253,2,-999.0000,9,    325.2,2,   -999.0,9,  -999.00,9,  -999.00,9,  -999.00,9,  -999.00,9,     -999,9,   -999.0,   9,   -999.0,   9,     -999,9,  -999.00,9,  -999.00,9,    1.461,2,  -1.6585,20040726, 651
  32H120040718,    22,  6,    610,     10,2,20040726, 639, 71.9320,-154.9050,  542,     78.2,  -1.6593,  32.9255,2,-999.0000,9,    326.1,2,   -999.0,9,  -999.00,9,  -999.00,9,  -999.00,9,  -999.00,9,     -999,9,   -999.0,   9,   -999.0,   9,     -999,9,  -999.00,9,  -999.00,9,    1.428,2,  -1.6607,20040726, 651
  32H120040718,    22,  6,    608,      8,2,20040726, 639, 71.9320,-154.9050,  542,     78.2,  -1.6686,  32.9266,2,-999.0000,9,    325.7,2,   -999.0,9,  -999.00,9,  -999.00,9,  -999.00,9,  -999.00,9,     -999,9,   -999.0,   9,   -999.0,   9,     -999,9,  -999.00,9,  -999.00,9,    1.391,2,  -1.6700,20040726, 650
  32H120040718,    22,  6,    607,      7,2,20040726, 639, 71.9320,-154.9050,  542,     78.2,  -1.6706,  32.9228,2,-999.0000,9,    324.6,2,   -999.0,9,    41.39,2,    12.53,2,     0.12,2,     1.93,2,     1.92,2,   -999.0,   9,   -999.0,   9,     0.11,2,  -999.00,9,  -999.00,9,    1.398,2,  -1.6720,20040726, 649
  32H120040718,    22,  6,    612,     12,2,20040726, 639, 71.9320,-154.9050,  542,     78.2,  -1.6745,  32.9257,2,-999.0000,9,    324.9,2,   -999.0,9,  -999.00,9,  -999.00,9,  -999.00,9,  -999.00,9,     -999,9,   -999.0,   9,   -999.0,   9,     -999,9,  -999.00,9,  -999.00,9,    1.441,2,  -1.6759,20040726, 651
  32H120040718,    22,  6,    606,      6,2,20040726, 639, 71.9320,-154.9050,  542,    189.6,   0.3140,  34.6883,2,-999.0000,9,    273.5,2,   -999.0,9,  -999.00,9,  -999.00,9,  -999.00,9,  -999.00,9,     -999,9,   -999.0,   9,   -999.0,   9,     -999,9,  -999.00,9,  -999.00,9,    0.711,2,   0.3065,20040726, 641
  32H120040718,    22,  6,    604,      4,2,20040726, 639, 71.9320,-154.9050,  542,    189.6,   0.3143,  34.6883,2,-999.0000,9,    273.4,2,   -999.0,9,  -999.00,9,  -999.00,9,  -999.00,9,  -999.00,9,     -999,9,   -999.0,   9,   -999.0,   9,     -999,9,  -999.00,9,  -999.00,9,    0.746,2,   0.3068,20040726, 640
  32H120040718,    22,  6,    605,      5,2,20040726, 639, 71.9320,-154.9050,  542,    189.6,   0.3149,  34.6884,2,-999.0000,9,    273.4,2,   -999.0,9,  -999.00,9,  -999.00,9,  -999.00,9,  -999.00,9,     -999,9,   -999.0,   9,   -999.0,   9,     -999,9,  -999.00,9,  -999.00,9,    0.816,2,   0.3074,20040726, 640
  32H120040718,    22,  6,    603,      3,2,20040726, 639, 71.9320,-154.9050,  542,    189.6,   0.3150,  34.6885,2,-999.0000,9,    273.4,2,   -999.0,9,  -999.00,9,  -999.00,9,  -999.00,9,  -999.00,9,     -999,9,   -999.0,   9,   -999.0,   9,     -999,9,  -999.00,9,  -999.00,9,    0.849,2,   0.3075,20040726, 640
  32H120040718,    22,  6,    602,      2,2,20040726, 639, 71.9320,-154.9050,  542,    189.6,   0.3153,  34.6885,2,-999.0000,9,    273.4,2,   -999.0,9,  -999.00,9,  -999.00,9,  -999.00,9,  -999.00,9,     -999,9,   -999.0,   9,   -999.0,   9,     -999,9,  -999.00,9,  -999.00,9,    0.750,2,   0.3078,20040726, 639
  32H120040718,    22,  6,    601,      1,2,20040726, 639, 71.9320,-154.9050,  542,    189.6,   0.3157,  34.6886,2,-999.0000,9,    273.5,2,   -999.0,9,    11.44,2,    13.10,2,     0.06,2,     1.01,2,     0.04,2,   -999.0,   9,   -999.0,   9,     0.04,2,  -999.00,9,  -999.00,9,    0.740,2,   0.3082,20040726, 639
  32H120040718,    22,  7,    712,     12,2,20040726, 754, 71.9320,-154.9050,  542,     25.3,  -1.0049,  31.7563,2,-999.0000,9,    410.2,2,   -999.0,9,     9.33,2,     1.18,2,     0.05,2,     0.95,2,     0.19,2,   -999.0,   9,   -999.0,   9,     0.09,2,  -999.00,9,  -999.00,9,    2.401,2,  -1.0054,20040726, 824
  32H120040718,    22,  7,    710,     10,2,20040726, 754, 71.9320,-154.9050,  542,     31.3,  -1.0214,  32.1148,2,-999.0000,9,    372.5,2,   -999.0,9,  -999.00,9,  -999.00,9,  -999.00,9,  -999.00,9,     -999,9,   -999.0,   9,   -999.0,   9,     -999,9,  -999.00,9,  -999.00,9,    2.042,2,  -1.0221,20040726, 821
  32H120040718,    22,  7,    709,      9,2,20040726, 754, 71.9320,-154.9050,  542,     31.3,  -1.0514,  32.1098,2,-999.0000,9,    378.3,2,   -999.0,9,  -999.00,9,  -999.00,9,  -999.00,9,  -999.00,9,     -999,9,   -999.0,   9,   -999.0,   9,     -999,9,  -999.00,9,  -999.00,9,    2.137,2,  -1.0521,20040726, 821
  32H120040718,    22,  7,    711,     11,2,20040726, 754, 71.9320,-154.9050,  542,     31.3,  -1.0839,  32.1042,2,-999.0000,9,    377.0,2,   -999.0,9,  -999.00,9,  -999.00,9,  -999.00,9,  -999.00,9,     -999,9,   -999.0,   9,   -999.0,   9,     -999,9,  -999.00,9,  -999.00,9,    2.031,2,  -1.0846,20040726, 821
  32H120040718,    22,  7,    708,      8,2,20040726, 754, 71.9320,-154.9050,  542,     31.3,  -1.0854,  32.1021,2,-999.0000,9,    387.8,2,   -999.0,9,  -999.00,9,  -999.00,9,  -999.00,9,  -999.00,9,     -999,9,   -999.0,   9,   -999.0,   9,     -999,9,  -999.00,9,  -999.00,9,    2.135,2,  -1.0861,20040726, 820
  32H120040718,    22,  7,    705,      5,2,20040726, 754, 71.9320,-154.9050,  542,     31.3,  -1.1060,  32.0966,2,-999.0000,9,    381.2,2,   -999.0,9,    16.91,2,     4.53,2,     0.12,2,     1.20,2,     0.62,2,   -999.0,   9,   -999.0,   9,     0.11,2,  -999.00,9,  -999.00,9,    2.120,2,  -1.1067,20040726, 820
  32H120040718,    22,  7,    706,      6,2,20040726, 754, 71.9320,-154.9050,  542,     31.3,  -1.1183,  32.0915,2,-999.0000,9,    386.3,2,   -999.0,9,  -999.00,9,  -999.00,9,  -999.00,9,  -999.00,9,     -999,9,   -999.0,   9,   -999.0,   9,     -999,9,  -999.00,9,  -999.00,9,    2.177,2,  -1.1190,20040726, 820
  32H120040718,    22,  7,    707,      7,2,20040726, 754, 71.9320,-154.9050,  542,     31.3,  -1.1273,  32.0916,2,-999.0000,9,    386.4,2,   -999.0,9,  -999.00,9,  -999.00,9,  -999.00,9,  -999.00,9,     -999,9,   -999.0,   9,   -999.0,   9,     -999,9,  -999.00,9,  -999.00,9,    2.071,2,  -1.1279,20040726, 820
  32H120040718,    22,  7,    704,      4,2,20040726, 754, 71.9320,-154.9050,  542,     71.6,  -1.6933,  32.8860,2,-999.0000,9,    327.4,2,   -999.0,9,  -999.00,9,  -999.00,9,  -999.00,9,  -999.00,9,     -999,9,   -999.0,   9,   -999.0,   9,     -999,9,  -999.00,9,  -999.00,9,    1.383,2,  -1.6946,20040726, 814
  32H120040718,    22,  7,    703,      3,2,20040726, 754, 71.9320,-154.9050,  542,     71.6,  -1.6941,  32.8865,2,-999.0000,9,    327.8,2,   -999.0,9,    41.56,2,    12.83,2,     0.15,2,     1.95,2,     1.97,2,   -999.0,   9,   -999.0,   9,     0.12,2,  -999.00,9,  -999.00,9,    1.434,2,  -1.6954,20040726, 814
  32H120040718,    22,  7,    702,      2,2,20040726, 754, 71.9320,-154.9050,  542,    112.3,  -1.0876,  33.7301,2,-999.0000,9,    299.2,2,   -999.0,9,    28.03,2,    11.09,2,     0.14,2,     1.59,2,     1.18,2,   -999.0,   9,   -999.0,   9,     0.14,2,  -999.00,9,  -999.00,9,    1.202,2,  -1.0904,20040726, 809
  32H120040718,    22,  7,    701,      1,2,20040726, 754, 71.9320,-154.9050,  542,    746.8,   0.4074,  34.8576,2,-999.0000,9,    286.8,2,   -999.0,9,     9.62,2,    12.35,2,     0.03,2,     0.97,2,     0.19,2,   -999.0,   9,   -999.0,   9,      0.1,2,  -999.00,9,  -999.00,9,    0.782,2,   0.3733,20040726, 754
  32H120040718,    22,  8,    812,     12,2,20040726,1547, 71.9320,-154.9050,  542,      1.5,   3.4196,  26.9840,2,-999.0000,9,    375.1,2,    388.0,2,  -999.00,5,  -999.00,5,  -999.00,5,  -999.00,5,     -999,5,   -999.0,   9,   -999.0,   9,     -999,5,     0.25,2,     0.04,2,    0.796,2,   3.4195,20040726,1620
  32H120040718,    22,  8,    811,     11,2,20040726,1547, 71.9320,-154.9050,  542,      1.5,   3.4216,  26.9985,2,-999.0000,9,    375.2,2,   -999.0,9,  -999.00,9,  -999.00,9,  -999.00,9,  -999.00,9,     -999,9,   -999.0,   9,   -999.0,   9,     -999,9,  -999.00,9,  -999.00,9,    0.783,2,   3.4215,20040726,1620
  32H120040718,    22,  8,    810,     10,2,20040726,1547, 71.9320,-154.9050,  542,      6.4,   2.0715,  28.8041,2,-999.0000,9,    422.5,2,    432.2,2,     4.53,2,     0.03,2,     0.01,2,     0.48,2,     0.18,2,   -999.0,   9,   -999.0,   9,     0.04,2,     0.27,2,     0.06,2,    1.032,2,   2.0712,20040726,1617
  32H120040718,    22,  8,    809,      9,2,20040726,1547, 71.9320,-154.9050,  542,     10.2,  -0.2392,  29.8090,2,-999.0000,9,    455.9,2,    461.3,2,     3.84,2,     0.02,2,     0.01,2,     0.50,2,     0.15,2,   -999.0,   9,   -999.0,   9,     0.05,2,     1.03,2,     0.07,2,    1.160,2,  -0.2394,20040726,1614
  32H120040718,    22,  8,    808,      8,2,20040726,1547, 71.9320,-154.9050,  542,     15.9,   0.6573,  30.9633,2,-999.0000,9,    458.0,2,    465.6,2,     3.60,2,     0.07,2,     0.01,2,     0.57,2,     0.15,2,   -999.0,   9,   -999.0,   9,     0.07,2,     5.11,2,     0.45,2,    1.936,2,   0.6568,20040726,1611
  32H120040718,    22,  8,    807,      7,2,20040726,1547, 71.9320,-154.9050,  542,     15.9,   0.7332,  30.9742,2,-999.0000,9,    462.1,2,   -999.0,9,  -999.00,9,  -999.00,9,  -999.00,9,  -999.00,9,     -999,9,   -999.0,   9,   -999.0,   9,     -999,9,  -999.00,9,  -999.00,9,    1.950,2,   0.7326,20040726,1610
  32H120040718,    22,  8,    806,      6,2,20040726,1547, 71.9320,-154.9050,  542,     23.9,  -1.1039,  31.7256,2,-999.0000,9,    392.6,2,    403.5,2,     3.37,2,     0.05,2,     0.02,2,     0.68,2,     0.15,2,   -999.0,   9,   -999.0,   9,     0.08,2,    10.95,2,     0.25,2,    2.536,2,  -1.1044,20040726,1606
  32H120040718,    22,  8,    805,      5,2,20040726,1547, 71.9320,-154.9050,  542,     36.3,  -1.1628,  32.2132,2,-999.0000,9,    360.6,2,    388.8,2,  -999.00,9,  -999.00,9,  -999.00,9,  -999.00,9,     -999,9,   -999.0,   9,   -999.0,   9,     -999,9,     4.59,2,     0.17,2,    1.990,2,  -1.1636,20040726,1603
  32H120040718,    22,  8,    804,      4,2,20040726,1547, 71.9320,-154.9050,  542,     36.3,  -1.1640,  32.2134,2,-999.0000,9,    360.3,2,   -999.0,9,     5.17,2,     0.52,2,     0.03,2,     0.89,2,     0.16,2,   -999.0,   9,   -999.0,   9,     0.09,2,  -999.00,9,  -999.00,9,    2.039,2,  -1.1648,20040726,1603
  32H120040718,    22,  8,    803,      3,2,20040726,1547, 71.9320,-154.9050,  542,     82.1,  -1.6504,  32.9276,2,-999.0000,9,    323.7,2,   -999.0,9,    15.60,2,     4.36,2,     0.15,2,     1.26,2,     0.91,2,   -999.0,   9,   -999.0,   9,     0.13,2,  -999.00,9,  -999.00,9,    1.413,2,  -1.6519,20040726,1558
  32H120040718,    22,  8,    802,      2,2,20040726,1547, 71.9320,-154.9050,  542,    142.7,  -0.1665,  34.5282,2,-999.0000,9,    269.8,2,   -999.0,9,    14.67,2,    13.22,2,     0.10,2,     1.13,2,     0.13,2,   -999.0,   9,   -999.0,   9,      0.1,2,  -999.00,9,  -999.00,9,    0.834,2,  -0.1715,20040726,1552
  32H120040718,    22,  8,    801,      1,2,20040726,1547, 71.9320,-154.9050,  542,    204.0,   0.4767,  34.7390,2,-999.0000,9,    277.2,2,   -999.0,9,    10.03,2,    12.98,2,     0.08,2,     0.98,2,     0.09,2,   -999.0,   9,   -999.0,   9,     0.09,2,  -999.00,9,  -999.00,9,    0.739,2,   0.4683,20040726,1547