BOTTLE,20220815CCHSIOAMB
EXPOCODE,STNNBR,CASTNO,SAMPNO,BTLNBR,BTLNBR_FLAG_W,DATE,TIME,LATITUDE,LONGITUDE,DEPTH,CTDPRS,CTDTMP,CTDSAL,CTDSAL_FLAG_W,SALNTY,SALNTY_FLAG_W,CTDOXY,CTDOXY_FLAG_W,OXYGEN,OXYGEN_FLAG_W,SILCAT,SILCAT_FLAG_W,NITRAT,NITRAT_FLAG_W,NITRIT,NITRIT_FLAG_W,PHSPHT,PHSPHT_FLAG_W,AMMONI,AMMONI_FLAG_W,TCARBN,TCARBN_FLAG_W,ALKALI,ALKALI_FLAG_W,UREA,UREA_FLAG_W,CHLORA,CHLORA_FLAG_W,PHAEO,PHAEO_FLAG_W,FLUORO,FLUORO_FLAG_W,THETA,BTL_DATE,BTL_TIME
,,,,,,,,,,METERS,DBAR,ITS-90,PSS-78,,PSS-78,,UMOL/KG,,UMOL/KG,,UMOL/KG,,UMOL/KG,,UMOL/KG,,UMOL/KG,,UMOL/KG,,UMOL/KG,,UMOL/KG,,UMOL/KG,,UG/L,,UG/L,,VOLTS,,DEG C,,
  32H120040718,    36,  5,    511,     11,2,20040808,1628, 72.4125,-153.3916, 2924,      2.2,   3.9903,  28.0028,2,-999.0000,9,    334.3,2,    347.1,2,     5.80,2,     0.06,2,     0.00,2,     0.51,2,     0.13,2,   -999.0,   9,   -999.0,   9,     0.07,2,     0.52,2,     0.08,2,    1.399,2,   3.9902,20040808,1700
  32H120040718,    36,  5,    512,     12,2,20040808,1628, 72.4125,-153.3916, 2924,      2.3,   3.9893,  27.9984,2,-999.0000,9,    333.1,2,   -999.0,9,  -999.00,9,  -999.00,9,  -999.00,9,  -999.00,9,     -999,9,   -999.0,   9,   -999.0,   9,     -999,9,  -999.00,9,  -999.00,9,    1.342,2,   3.9892,20040808,1700
  32H120040718,    36,  5,    510,     10,2,20040808,1628, 72.4125,-153.3916, 2924,      6.4,   3.8420,  28.0390,2,-999.0000,9,    335.3,2,    351.3,2,     5.68,2,     0.06,2,     0.00,2,     0.52,2,     0.13,2,   -999.0,   9,   -999.0,   9,     0.05,2,     0.43,2,     0.09,2,    1.427,2,   3.8416,20040808,1657
  32H120040718,    36,  5,    509,      9,2,20040808,1628, 72.4125,-153.3916, 2924,     10.4,   3.6597,  28.7840,2,-999.0000,9,    340.3,2,    365.4,2,     5.25,2,     0.05,2,     0.00,2,     0.55,2,     0.16,2,   -999.0,   9,   -999.0,   9,     0.07,2,     0.36,2,     0.08,2,    1.487,2,   3.6591,20040808,1654
  32H120040718,    36,  5,    507,      7,2,20040808,1628, 72.4125,-153.3916, 2924,     15.8,   3.1472,  29.5140,2,-999.0000,9,    360.7,2,   -999.0,9,  -999.00,9,  -999.00,9,  -999.00,9,  -999.00,9,     -999,9,   -999.0,   9,   -999.0,   9,     -999,9,  -999.00,9,  -999.00,9,    1.393,2,   3.1464,20040808,1652
  32H120040718,    36,  5,    508,      8,2,20040808,1628, 72.4125,-153.3916, 2924,     15.8,   3.1589,  29.5603,2,-999.0000,9,    362.7,2,    383.3,2,     4.48,2,     0.04,2,     0.00,2,     0.65,2,     0.16,2,   -999.0,   9,   -999.0,   9,     0.06,2,     0.32,2,     0.09,2,    1.255,2,   3.1581,20040808,1652
  32H120040718,    36,  5,    506,      6,2,20040808,1628, 72.4125,-153.3916, 2924,     24.4,  -0.9421,  30.4972,2,-999.0000,9,    378.8,2,    395.1,2,     3.71,2,     0.04,2,     0.00,2,     0.76,2,     0.09,2,   -999.0,   9,   -999.0,   9,     0.05,2,     0.17,2,     0.08,2,    1.049,2,  -0.9426,20040808,1648
  32H120040718,    36,  5,    504,      4,2,20040808,1628, 72.4125,-153.3916, 2924,     36.8,  -0.7456,  31.5926,2,-999.0000,9,    352.0,2,   -999.0,9,  -999.00,9,  -999.00,9,  -999.00,9,  -999.00,9,     -999,9,   -999.0,   9,   -999.0,   9,     -999,9,  -999.00,9,  -999.00,9,    1.607,2,  -0.7465,20040808,1644
  32H120040718,    36,  5,    505,      5,2,20040808,1628, 72.4125,-153.3916, 2924,     36.8,  -0.7481,  31.6023,2,-999.0000,9,    351.6,2,    369.7,2,     8.54,2,     2.17,2,     0.26,2,     1.02,2,     0.11,2,   -999.0,   9,   -999.0,   9,     0.06,2,     0.45,2,     0.65,2,    1.608,2,  -0.7490,20040808,1644
  32H120040718,    36,  5,    503,      3,2,20040808,1628, 72.4125,-153.3916, 2924,     71.9,  -1.3815,  32.3917,2,-999.0000,9,    293.1,2,   -999.0,9,    22.74,2,    10.93,2,     0.02,2,     1.59,2,     0.06,2,   -999.0,   9,   -999.0,   9,     0.05,2,  -999.00,9,  -999.00,9,    0.821,2,  -1.3829,20040808,1639
  32H120040718,    36,  5,    502,      2,2,20040808,1628, 72.4125,-153.3916, 2924,    143.6,  -1.4476,  33.2334,2,-999.0000,9,    270.4,2,   -999.0,9,    32.40,2,    14.93,2,     0.01,2,     1.81,2,     0.06,2,   -999.0,   9,   -999.0,   9,     0.06,2,  -999.00,9,  -999.00,9,    0.729,2,  -1.4507,20040808,1634
  32H120040718,    36,  5,    501,      1,2,20040808,1628, 72.4125,-153.3916, 2924,    203.3,  -0.4360,  34.4084,2,-999.0000,9,    261.4,2,   -999.0,9,    18.12,2,    13.63,2,     0.04,2,     1.26,2,     0.05,2,   -999.0,   9,   -999.0,   9,     0.07,2,  -999.00,9,  -999.00,9,    0.719,2,  -0.4427,20040808,1628
  32H120040718,    36,  6,    609,      9,2,20040808,2356, 72.4125,-153.3916, 2924,     14.7,   5.2022,  29.7725,2,-999.0000,9,    319.2,2,   -999.0,9,  -999.00,9,  -999.00,9,  -999.00,9,  -999.00,9,     -999,9,   -999.0,   9,   -999.0,   9,     -999,9,  -999.00,9,  -999.00,9,    1.618,2,   5.2012,20040808,   4
  32H120040718,    36,  6,    608,      8,2,20040808,2356, 72.4125,-153.3916, 2924,     14.7,   5.2023,  29.7730,2,-999.0000,9,    319.9,2,   -999.0,9,  -999.00,9,  -999.00,9,  -999.00,9,  -999.00,9,     -999,9,   -999.0,   9,   -999.0,   9,     -999,9,  -999.00,9,  -999.00,9,    1.628,2,   5.2013,20040808,   4
  32H120040718,    36,  6,    612,     12,2,20040808,2356, 72.4125,-153.3916, 2924,     14.7,   5.2025,  29.7730,2,-999.0000,9,    320.5,2,   -999.0,9,     7.04,2,     0.16,2,     0.01,2,     0.61,2,     0.18,2,   -999.0,   9,   -999.0,   9,     0.22,2,  -999.00,9,  -999.00,9,    1.611,2,   5.2015,20040808,   5
  32H120040718,    36,  6,    610,     10,2,20040808,2356, 72.4125,-153.3916, 2924,     14.7,   5.2029,  29.7714,2,-999.0000,9,    319.8,2,   -999.0,9,  -999.00,9,  -999.00,9,  -999.00,9,  -999.00,9,     -999,9,   -999.0,   9,   -999.0,   9,     -999,9,  -999.00,9,  -999.00,9,    1.627,2,   5.2019,20040808,   5
  32H120040718,    36,  6,    611,     11,2,20040808,2356, 72.4125,-153.3916, 2924,     14.7,   5.2030,  29.7677,2,-999.0000,9,    320.2,2,   -999.0,9,     7.02,2,     0.16,2,     0.00,2,     0.62,2,     0.15,2,   -999.0,   9,   -999.0,   9,     0.24,2,  -999.00,9,  -999.00,9,    1.648,2,   5.2020,20040808,   5
  32H120040718,    36,  6,    607,      7,2,20040808,2356, 72.4125,-153.3916, 2924,     14.7,   5.2034,  29.7671,2,-999.0000,9,    319.8,2,   -999.0,9,  -999.00,9,  -999.00,9,  -999.00,9,  -999.00,9,     -999,9,   -999.0,   9,   -999.0,   9,     -999,9,  -999.00,9,  -999.00,9,    1.675,2,   5.2024,20040808,   4
  32H120040718,    36,  6,    606,      6,2,20040808,2356, 72.4125,-153.3916, 2924,     14.7,   5.2054,  29.7630,2,-999.0000,9,    320.2,2,   -999.0,9,  -999.00,9,  -999.00,9,  -999.00,9,  -999.00,9,     -999,9,   -999.0,   9,   -999.0,   9,     -999,9,  -999.00,9,  -999.00,9,    1.641,2,   5.2044,20040808,   4
  32H120040718,    36,  6,    605,      5,2,20040808,2356, 72.4125,-153.3916, 2924,     14.7,   5.2119,  29.7483,2,-999.0000,9,    319.9,2,   -999.0,9,  -999.00,9,  -999.00,9,  -999.00,9,  -999.00,9,     -999,9,   -999.0,   9,   -999.0,   9,     -999,9,  -999.00,9,  -999.00,9,    1.641,2,   5.2109,20040808,   3
  32H120040718,    36,  6,    604,      4,2,20040808,2356, 72.4125,-153.3916, 2924,     14.7,   5.2165,  29.7397,2,-999.0000,9,    319.9,2,   -999.0,9,  -999.00,9,  -999.00,9,  -999.00,9,  -999.00,9,     -999,9,   -999.0,   9,   -999.0,   9,     -999,9,  -999.00,9,  -999.00,9,    1.640,2,   5.2155,20040808,   3
  32H120040718,    36,  6,    603,      3,2,20040808,2356, 72.4125,-153.3916, 2924,     56.0,  -0.8266,  32.1233,2,-999.0000,9,    370.8,2,   -999.0,9,  -999.00,9,  -999.00,9,  -999.00,9,  -999.00,9,     -999,9,   -999.0,   9,   -999.0,   9,     -999,9,  -999.00,9,  -999.00,9,    1.608,2,  -0.8279,20040808,2356
  32H120040718,    36,  6,    602,      2,2,20040808,2356, 72.4125,-153.3916, 2924,     56.0,  -0.8287,  32.1224,2,-999.0000,9,    371.0,2,   -999.0,9,    12.88,2,     3.76,2,     0.13,2,     1.20,2,     0.95,2,   -999.0,   9,   -999.0,   9,     0.17,2,  -999.00,9,  -999.00,9,    1.683,2,  -0.8300,20040808,2356
  32H120040718,    36,  6,    601,      1,2,20040808,2356, 72.4125,-153.3916, 2924,     56.0,  -0.8389,  32.1213,2,-999.0000,9,    371.2,2,   -999.0,9,    12.13,2,     3.44,2,     0.12,2,     1.18,2,     0.87,2,   -999.0,   9,   -999.0,   9,     0.27,2,  -999.00,9,  -999.00,9,    1.589,2,  -0.8402,20040808,2356
  32H120040718,    37,  1,    112,     12,2,20040809, 324, 72.6940,-152.9570, 3769,    176.2,  -1.4697,  33.3015,2,  33.2942,2,    269.7,2,    279.2,2,    33.12,2,    15.04,2,     0.01,2,     1.79,2,     0.02,2,   -999.0,   9,   -999.0,   9,     0.07,2,  -999.00,9,  -999.00,9,    0.736,2,  -1.4735,20040809, 433
  32H120040718,    37,  1,    111,     11,2,20040809, 324, 72.6940,-152.9570, 3769,    201.7,  -1.2368,  33.8023,2,  33.7971,2,    266.7,2,    275.5,2,    28.56,2,    14.51,2,     0.01,2,     1.58,2,     0.01,2,   2207.8,   2,   2297.2,   2,     0.07,2,  -999.00,9,  -999.00,9,    0.684,2,  -1.2418,20040809, 430
  32H120040718,    37,  1,    110,     10,2,20040809, 324, 72.6940,-152.9570, 3769,    227.3,  -0.8215,  34.2459,2,-999.0000,9,    263.3,2,    274.3,2,    18.62,2,    13.19,2,     0.01,2,     1.23,2,        0,2,   -999.0,   9,   -999.0,   9,     0.07,2,  -999.00,9,  -999.00,9,    0.692,2,  -0.8282,20040809, 426
  32H120040718,    37,  1,    109,      9,2,20040809, 324, 72.6940,-152.9570, 3769,    252.6,  -0.2434,  34.4983,2,-999.0000,9,    265.6,2,    276.8,2,    12.67,2,    12.82,2,     0.01,2,     1.03,2,        0,2,   2185.4,   2,   2331.4,   2,     0.07,2,  -999.00,9,  -999.00,9,    0.663,2,  -0.2523,20040809, 422
  32H120040718,    37,  1,    108,      8,2,20040809, 324, 72.6940,-152.9570, 3769,    277.9,   0.0694,  34.6127,2,-999.0000,9,    266.0,2,    277.1,2,    11.50,2,    13.07,2,     0.01,2,     1.00,2,        0,2,   -999.0,   9,   -999.0,   9,     0.07,2,  -999.00,9,  -999.00,9,    0.644,2,   0.0588,20040809, 418
  32H120040718,    37,  1,    107,      7,2,20040809, 324, 72.6940,-152.9570, 3769,    302.8,   0.3424,  34.6930,2,-999.0000,9,    268.8,2,    279.3,2,    10.42,2,    13.17,2,     0.00,2,     0.98,2,        0,2,   2163.4,   2,   2301.6,   2,     0.08,2,  -999.00,9,  -999.00,9,    0.612,2,   0.3300,20040809, 414
  32H120040718,    37,  1,    106,      6,2,20040809, 324, 72.6940,-152.9570, 3769,    353.7,   0.5940,  34.7748,2,-999.0000,9,    276.8,2,    287.8,2,     7.65,2,    12.80,2,     0.00,2,     0.91,2,        0,2,   -999.0,   9,   -999.0,   9,     0.07,2,  -999.00,9,  -999.00,9,    0.610,2,   0.5786,20040809, 409
  32H120040718,    37,  1,    105,      5,2,20040809, 324, 72.6940,-152.9570, 3769,    504.9,   0.5982,  34.8399,2,-999.0000,9,    283.1,2,    294.7,2,     6.70,2,    12.80,2,     0.00,2,     0.89,2,        0,2,   2154.8,   2,   2323.8,   2,     0.07,2,  -999.00,9,  -999.00,9,    0.597,2,   0.5754,20040809, 401
  32H120040718,    37,  1,    104,      4,2,20040809, 324, 72.6940,-152.9570, 3769,    759.9,   0.2703,  34.8647,2,  34.8656,2,    285.4,2,    297.9,2,     6.69,2,    12.85,2,     0.00,2,     0.90,2,        0,2,   -999.0,   9,   -999.0,   9,     0.07,2,  -999.00,9,  -999.00,9,    0.585,2,   0.2364,20040809, 352
  32H120040718,    37,  1,    103,      3,2,20040809, 324, 72.6940,-152.9570, 3769,   1013.2,  -0.0107,  34.8824,2,  34.8827,2,    286.7,2,    300.0,2,     6.89,2,    12.94,2,     0.00,2,     0.91,2,        0,2,   2151.0,   2,   2307.2,   2,     0.07,2,  -999.00,9,  -999.00,9,    0.567,2,  -0.0559,20040809, 342
  32H120040718,    37,  1,    102,      2,2,20040809, 324, 72.6940,-152.9570, 3769,   1267.5,  -0.1947,  34.8992,2,  34.8999,2,    286.1,2,    299.6,2,     7.42,2,    13.19,2,     0.00,2,     0.93,2,        0,2,   -999.0,   9,   -999.0,   9,     0.07,2,  -999.00,9,  -999.00,9,    0.545,2,  -0.2523,20040809, 333
  32H120040718,    37,  1,    101,      1,2,20040809, 324, 72.6940,-152.9570, 3769,   1521.5,  -0.3191,  34.9167,2,  34.9176,2,    286.2,2,    298.1,2,     8.37,2,    13.55,2,     0.00,2,     0.96,2,        0,2,   2147.6,   2,   2311.1,   2,     0.08,2,  -999.00,9,  -999.00,9,    0.511,2,  -0.3901,20040809, 324
  32H120040718,    37,  2,    212,     12,2,20040809, 738, 72.6940,-152.9570, 3769,      1.7,  -1.0060,  25.6822,2,-999.0000,9,    366.0,2,    379.9,2,     2.07,2,     0.27,2,     0.00,2,     0.55,2,     0.01,2,   1770.1,   2,   1836.1,   2,     0.01,2,     0.06,2,     0.01,2,    0.811,2,  -1.0060,20040809, 828
  32H120040718,    37,  2,    211,     11,2,20040809, 738, 72.6940,-152.9570, 3769,      5.9,  -1.0230,  25.8018,2,  25.7462,2,    366.5,2,    379.5,2,     2.06,2,     0.26,2,     0.00,2,     0.56,2,        0,2,   -999.0,   9,   -999.0,   9,     0.01,2,  -999.00,9,  -999.00,9,    0.782,2,  -1.0231,20040809, 827
  32H120040718,    37,  2,    210,     10,2,20040809, 738, 72.6940,-152.9570, 3769,     10.4,  -1.1136,  26.2864,2,-999.0000,9,    367.3,2,    382.2,2,     1.85,2,     0.20,2,     0.00,2,     0.58,2,        0,2,   1806.0,   2,   1868.2,   2,     0.01,2,     0.04,2,     0.01,2,    0.710,2,  -1.1137,20040809, 824
  32H120040718,    37,  2,    209,      9,2,20040809, 738, 72.6940,-152.9570, 3769,     15.7,  -0.7799,  27.9617,2,-999.0000,9,    377.3,2,    393.6,2,     1.94,2,     0.19,2,     0.00,2,     0.62,2,     0.02,2,   -999.0,   9,   -999.0,   9,     0.02,2,  -999.00,9,  -999.00,9,    0.769,2,  -0.7801,20040809, 819
  32H120040718,    37,  2,    208,      8,2,20040809, 738, 72.6940,-152.9570, 3769,     21.5,  -0.8934,  28.6179,2,-999.0000,9,    381.5,2,    396.4,2,     2.05,2,     0.24,2,     0.00,2,     0.64,2,     0.01,2,   1949.8,   2,   -999.0,   5,     0.02,2,     0.05,2,     0.01,2,    0.705,2,  -0.8937,20040809, 816
  32H120040718,    37,  2,    207,      7,2,20040809, 738, 72.6940,-152.9570, 3769,     31.8,  -0.9116,  29.1011,2,-999.0000,9,    379.9,2,    395.0,2,     2.15,2,     0.17,2,     0.00,2,     0.67,2,     0.02,2,   1970.8,   2,   -999.0,   5,     0.03,2,     0.08,2,     0.02,2,    0.714,2,  -0.9121,20040809, 811
  32H120040718,    37,  2,    206,      6,2,20040809, 738, 72.6940,-152.9570, 3769,     42.0,  -1.0595,  29.8869,2,  29.8251,2,    382.3,2,    396.5,2,     2.67,2,     0.16,2,     0.00,2,     0.71,2,     0.02,2,   2001.0,   2,   -999.0,   5,     0.03,2,     0.11,2,     0.05,2,    0.919,2,  -1.0602,20040809, 806
  32H120040718,    37,  2,    205,      5,2,20040809, 738, 72.6940,-152.9570, 3769,     52.0,  -0.2640,  31.2627,2,-999.0000,9,    371.7,2,    388.1,2,     5.34,2,     0.21,2,     0.00,2,     0.83,2,     0.05,2,   2046.2,   2,   -999.0,   5,     0.05,2,     0.28,2,     0.25,2,    1.204,2,  -0.2654,20040809, 800
  32H120040718,    37,  2,    204,      4,2,20040809, 738, 72.6940,-152.9570, 3769,     77.4,  -1.1917,  32.1117,2,-999.0000,9,    308.2,2,    322.3,2,    16.85,2,     8.62,2,     0.02,2,     1.40,2,     0.02,2,   2131.5,   2,   2259.5,   2,     0.05,2,     0.17,2,     0.16,2,    1.149,2,  -1.1933,20040809, 755
  32H120040718,    37,  2,    203,      3,2,20040809, 738, 72.6940,-152.9570, 3769,    102.2,  -1.4101,  32.4559,2,-999.0000,9,    291.6,2,    304.5,2,    23.74,2,    11.63,2,     0.00,2,     1.61,2,     0.01,2,   2164.5,   2,   2249.3,   2,     0.09,2,     0.04,2,     0.02,2,    0.788,2,  -1.4121,20040809, 750
  32H120040718,    37,  2,    202,      2,2,20040809, 738, 72.6940,-152.9570, 3769,    127.7,  -1.4829,  32.7336,2,-999.0000,9,    277.0,2,    289.8,2,    29.03,2,    13.78,2,     0.00,2,     1.76,2,        0,2,   -999.0,   9,   -999.0,   9,     0.05,2,  -999.00,9,  -999.00,9,    0.681,2,  -1.4854,20040809, 743
  32H120040718,    37,  2,    201,      1,2,20040809, 738, 72.6940,-152.9570, 3769,    152.8,  -1.5344,  32.9736,2,  32.9635,2,    273.8,2,    285.9,2,    32.19,2,    14.83,2,     0.00,2,     1.82,2,     0.01,2,   2195.0,   2,   2265.3,   2,     0.05,2,     0.00,2,     0.01,2,    0.728,2,  -1.5375,20040809, 738
  32H120040718,    37,  3,    307,      7,2,20040809,1455, 72.6940,-152.9570, 3769,    103.0,  -1.3470,  32.4668,2,-999.0000,9,    286.2,2,   -999.0,9,  -999.00,9,  -999.00,9,  -999.00,9,  -999.00,9,     -999,9,   -999.0,   9,   -999.0,   9,     -999,9,  -999.00,9,  -999.00,9,    0.760,2,  -1.3491,20040809,1459
  32H120040718,    37,  3,    308,      8,2,20040809,1455, 72.6940,-152.9570, 3769,    103.0,  -1.3476,  32.4675,2,-999.0000,9,    285.8,2,   -999.0,9,  -999.00,9,  -999.00,9,  -999.00,9,  -999.00,9,     -999,9,   -999.0,   9,   -999.0,   9,     -999,9,  -999.00,9,  -999.00,9,    0.745,2,  -1.3497,20040809,1459
  32H120040718,    37,  3,    309,      9,2,20040809,1455, 72.6940,-152.9570, 3769,    103.0,  -1.3489,  32.4680,2,-999.0000,9,    286.0,2,   -999.0,9,  -999.00,9,  -999.00,9,  -999.00,9,  -999.00,9,     -999,9,   -999.0,   9,   -999.0,   9,     -999,9,  -999.00,9,  -999.00,9,    0.746,2,  -1.3510,20040809,1459
  32H120040718,    37,  3,    310,     10,2,20040809,1455, 72.6940,-152.9570, 3769,    103.0,  -1.3494,  32.4681,2,-999.0000,9,    286.0,2,   -999.0,9,  -999.00,9,  -999.00,9,  -999.00,9,  -999.00,9,     -999,9,   -999.0,   9,   -999.0,   9,     -999,9,  -999.00,9,  -999.00,9,    0.762,2,  -1.3515,20040809,1500
  32H120040718,    37,  3,    312,     12,2,20040809,1455, 72.6940,-152.9570, 3769,    103.0,  -1.3495,  32.4680,2,-999.0000,9,    285.8,2,   -999.0,9,    24.92,2,    12.16,2,     0.01,2,     1.68,2,     0.11,2,   -999.0,   9,   -999.0,   9,     0.11,2,  -999.00,9,  -999.00,9,    0.761,2,  -1.3516,20040809,1500
  32H120040718,    37,  3,    311,     11,2,20040809,1455, 72.6940,-152.9570, 3769,    103.0,  -1.3496,  32.4681,2,-999.0000,9,    285.8,2,   -999.0,9,  -999.00,9,  -999.00,9,  -999.00,9,  -999.00,9,     -999,9,   -999.0,   9,   -999.0,   9,     -999,9,  -999.00,9,  -999.00,9,    0.777,2,  -1.3517,20040809,1500
  32H120040718,    37,  3,    301,      1,2,20040809,1455, 72.6940,-152.9570, 3769,    173.7,  -1.4643,  33.2536,2,-999.0000,9,    266.4,2,   -999.0,9,    33.29,2,    15.27,2,     0.01,2,     1.81,2,     0.11,2,   -999.0,   9,   -999.0,   9,     0.23,2,  -999.00,9,  -999.00,9,    0.717,2,  -1.4680,20040809,1452
  32H120040718,    37,  3,    302,      2,2,20040809,1455, 72.6940,-152.9570, 3769,    173.8,  -1.4644,  33.2524,2,-999.0000,9,    266.8,2,   -999.0,9,  -999.00,9,  -999.00,9,  -999.00,9,  -999.00,9,     -999,9,   -999.0,   9,   -999.0,   9,     -999,9,  -999.00,9,  -999.00,9,    0.699,2,  -1.4681,20040809,1453
  32H120040718,    37,  3,    304,      4,2,20040809,1455, 72.6940,-152.9570, 3769,    173.8,  -1.4647,  33.2574,2,-999.0000,9,    267.1,2,   -999.0,9,  -999.00,9,  -999.00,9,  -999.00,9,  -999.00,9,     -999,9,   -999.0,   9,   -999.0,   9,     -999,9,  -999.00,9,  -999.00,9,    0.732,2,  -1.4684,20040809,1454
  32H120040718,    37,  3,    303,      3,2,20040809,1455, 72.6940,-152.9570, 3769,    173.8,  -1.4648,  33.2571,2,-999.0000,9,    266.9,2,   -999.0,9,  -999.00,9,  -999.00,9,  -999.00,9,  -999.00,9,     -999,9,   -999.0,   9,   -999.0,   9,     -999,9,  -999.00,9,  -999.00,9,    0.707,2,  -1.4685,20040809,1453
  32H120040718,    37,  3,    305,      5,2,20040809,1455, 72.6940,-152.9570, 3769,    173.8,  -1.4649,  33.2575,2,-999.0000,9,    267.5,2,   -999.0,9,  -999.00,9,  -999.00,9,  -999.00,9,  -999.00,9,     -999,9,   -999.0,   9,   -999.0,   9,     -999,9,  -999.00,9,  -999.00,9,    0.696,2,  -1.4686,20040809,1454
  32H120040718,    37,  3,    306,      6,2,20040809,1455, 72.6940,-152.9570, 3769,    173.8,  -1.4650,  33.2576,2,-999.0000,9,    267.3,2,   -999.0,9,  -999.00,9,  -999.00,9,  -999.00,9,  -999.00,9,     -999,9,   -999.0,   9,   -999.0,   9,     -999,9,  -999.00,9,  -999.00,9,    0.699,2,  -1.4687,20040809,1455