BOTTLE,20220815CCHSIOAMB
EXPOCODE,STNNBR,CASTNO,SAMPNO,BTLNBR,BTLNBR_FLAG_W,DATE,TIME,LATITUDE,LONGITUDE,DEPTH,CTDPRS,CTDTMP,CTDSAL,CTDSAL_FLAG_W,SALNTY,SALNTY_FLAG_W,CTDOXY,CTDOXY_FLAG_W,OXYGEN,OXYGEN_FLAG_W,SILCAT,SILCAT_FLAG_W,NITRAT,NITRAT_FLAG_W,NITRIT,NITRIT_FLAG_W,PHSPHT,PHSPHT_FLAG_W,AMMONI,AMMONI_FLAG_W,TCARBN,TCARBN_FLAG_W,ALKALI,ALKALI_FLAG_W,UREA,UREA_FLAG_W,CHLORA,CHLORA_FLAG_W,PHAEO,PHAEO_FLAG_W,FLUORO,FLUORO_FLAG_W,THETA,BTL_DATE,BTL_TIME
,,,,,,,,,,METERS,DBAR,ITS-90,PSS-78,,PSS-78,,UMOL/KG,,UMOL/KG,,UMOL/KG,,UMOL/KG,,UMOL/KG,,UMOL/KG,,UMOL/KG,,UMOL/KG,,UMOL/KG,,UMOL/KG,,UG/L,,UG/L,,VOLTS,,DEG C,,
  32H120040718,    54,  1,    112,     12,2,20040819,1447, 73.4810,-159.6040, 2165,      1.7,   2.6351,  26.7999,2,  26.8491,2,    343.6,2,    358.1,2,     2.89,2,     0.03,2,     0.01,2,     0.59,2,     0.16,2,   1799.3,   2,   1912.0,   2,     0.03,2,     0.11,2,     0.02,2,    0.861,2,   2.6350,20040819,1522
  32H120040718,    54,  1,    111,     11,2,20040819,1447, 73.4810,-159.6040, 2165,      5.7,   2.0494,  27.0860,2,-999.0000,9,    346.3,2,    359.9,2,     3.10,2,     0.03,2,     0.00,2,     0.57,2,     0.15,2,   1801.7,   2,   1896.4,   2,     0.04,2,  -999.00,9,  -999.00,9,    0.989,2,   2.0492,20040819,1520
  32H120040718,    54,  1,    110,     10,2,20040819,1447, 73.4810,-159.6040, 2165,     15.6,   2.5200,  27.6485,2,-999.0000,9,    343.0,2,    359.8,2,     3.32,2,     0.03,2,     0.00,2,     0.56,2,     0.14,2,   -999.0,   9,   -999.0,   9,     0.04,2,     0.12,2,     0.03,2,    0.981,2,   2.5193,20040819,1518
  32H120040718,    54,  1,    109,      9,2,20040819,1447, 73.4810,-159.6040, 2165,     25.8,   0.6658,  30.8499,2,-999.0000,9,    408.0,2,    422.8,2,     3.96,2,     0.07,2,     0.01,2,     0.72,2,     0.14,2,   1978.6,   2,   2189.9,   2,     0.06,2,     0.25,2,     0.06,2,    1.233,2,   0.6649,20040819,1515
  32H120040718,    54,  1,    108,      8,2,20040819,1447, 73.4810,-159.6040, 2165,     35.8,  -0.2918,  31.5683,2,-999.0000,9,    374.3,2,    392.9,2,     6.10,2,     0.69,2,     0.05,2,     0.91,2,     0.19,2,   -999.0,   9,   -999.0,   9,     0.08,2,     0.98,2,     0.06,2,    1.498,2,  -0.2928,20040819,1513
  32H120040718,    54,  1,    107,      7,2,20040819,1447, 73.4810,-159.6040, 2165,     41.0,  -0.4455,  31.8006,2,-999.0000,9,    353.1,2,    386.6,2,     5.24,2,     1.38,2,     0.05,2,     1.00,2,     0.27,2,   2050.3,   2,   2217.0,   2,     0.12,2,     0.72,2,     0.03,2,    1.490,2,  -0.4466,20040819,1510
  32H120040718,    54,  1,    106,      6,2,20040819,1447, 73.4810,-159.6040, 2165,     56.7,  -0.7807,  32.2652,2,-999.0000,9,    333.7,2,    349.7,2,    15.47,2,     6.21,2,     0.09,2,     1.37,2,     0.84,2,   -999.0,   9,   -999.0,   9,     0.12,2,     0.11,2,     0.06,2,    0.957,2,  -0.7821,20040819,1504
  32H120040718,    54,  1,    105,      5,2,20040819,1447, 73.4810,-159.6040, 2165,     67.0,  -0.9999,  32.4313,2,-999.0000,9,    326.7,2,    340.8,2,    18.75,2,     7.91,2,     0.10,2,     1.47,2,     0.82,2,   2119.5,   2,   2247.9,   2,      0.1,2,  -999.00,9,  -999.00,9,    0.871,2,  -1.0014,20040819,1501
  32H120040718,    54,  1,    104,      4,2,20040819,1447, 73.4810,-159.6040, 2165,     82.1,  -1.3361,  32.6240,2,-999.0000,9,    309.9,2,    326.8,2,    24.36,2,     9.95,2,     0.09,2,     1.59,2,     0.66,2,   2143.8,   2,   2253.6,   2,     0.08,2,  -999.00,9,  -999.00,9,    0.829,2,  -1.3378,20040819,1458
  32H120040718,    54,  1,    103,      3,2,20040819,1447, 73.4810,-159.6040, 2165,    102.3,  -1.5293,  32.8454,2,-999.0000,9,    276.7,2,    290.9,2,    31.02,2,    13.87,2,     0.03,2,     1.80,2,     0.11,2,   2181.5,   2,   2261.8,   2,     0.07,2,     0.02,2,     0.05,2,    0.711,2,  -1.5313,20040819,1455
  32H120040718,    54,  1,    102,      2,2,20040819,1447, 73.4810,-159.6040, 2165,    127.5,  -1.5374,  33.0882,2,  33.0843,2,    279.9,2,    286.5,2,    33.01,2,    14.69,2,     0.03,2,     1.83,2,     0.09,2,   -999.0,   9,   -999.0,   9,     0.07,2,  -999.00,9,  -999.00,9,    0.759,2,  -1.5400,20040819,1451
  32H120040718,    54,  1,    101,      1,2,20040819,1447, 73.4810,-159.6040, 2165,    156.1,  -1.4284,  33.4861,2,  33.4541,2,    306.9,2,    319.5,2,    26.57,2,    10.89,2,     0.11,2,     1.56,2,     0.32,2,   -999.0,   9,   -999.0,   9,     0.07,2,     0.02,2,     0.05,2,    0.793,2,  -1.4318,20040819,1447
  32H120040718,    54,  2,    212,     12,2,20040819,1634, 73.4810,-159.6040, 2165,      2.0,   2.2854,  26.8937,2,-999.0000,9,    345.5,2,   -999.0,9,  -999.00,9,  -999.00,9,  -999.00,9,  -999.00,9,     -999,9,   -999.0,   9,   -999.0,   9,     -999,9,  -999.00,9,  -999.00,9,    0.959,2,   2.2853,20040819,1708
  32H120040718,    54,  2,    211,     11,2,20040819,1634, 73.4810,-159.6040, 2165,      2.0,   2.2862,  26.8961,2,-999.0000,9,    345.4,2,    359.8,2,     2.92,2,     0.06,2,     0.00,2,     0.57,2,     0.14,2,   -999.0,   9,   -999.0,   9,     0.03,2,     0.12,2,     0.03,2,    0.924,2,   2.2861,20040819,1707
  32H120040718,    54,  2,    210,     10,2,20040819,1634, 73.4810,-159.6040, 2165,     10.3,   1.5509,  27.1976,2,-999.0000,9,    348.8,2,    364.6,2,     2.81,2,     0.07,2,     0.00,2,     0.57,2,     0.13,2,   -999.0,   9,   -999.0,   9,     0.03,2,     0.13,2,     0.03,2,    0.926,2,   1.5505,20040819,1703
  32H120040718,    54,  2,    209,      9,2,20040819,1634, 73.4810,-159.6040, 2165,     16.8,   2.0623,  27.9424,2,-999.0000,9,    354.4,2,    377.1,2,     3.03,2,     0.06,2,     0.00,2,     0.59,2,     0.13,2,   -999.0,   9,   -999.0,   9,     0.04,2,     0.18,2,     0.05,2,    1.113,2,   2.0616,20040819,1700
  32H120040718,    54,  2,    207,      7,2,20040819,1634, 73.4810,-159.6040, 2165,     26.1,   0.4477,  30.8119,2,-999.0000,9,    414.6,2,   -999.0,9,  -999.00,9,  -999.00,9,  -999.00,9,  -999.00,9,     -999,9,   -999.0,   9,   -999.0,   9,     -999,9,  -999.00,9,  -999.00,9,    1.256,2,   0.4469,20040819,1655
  32H120040718,    54,  2,    208,      8,2,20040819,1634, 73.4810,-159.6040, 2165,     26.1,   0.4730,  30.8268,2,-999.0000,9,    414.1,2,    433.3,2,     3.56,2,     0.19,2,     0.02,2,     0.73,2,     0.16,2,   -999.0,   9,   -999.0,   9,     0.06,2,     0.23,2,     0.04,2,    1.151,2,   0.4722,20040819,1656
  32H120040718,    54,  2,    206,      6,2,20040819,1634, 73.4810,-159.6040, 2165,     40.5,  -0.3237,  31.7429,2,-999.0000,9,    381.0,2,    393.9,2,     7.09,2,     1.07,2,     0.07,2,     0.99,2,     0.62,2,   -999.0,   9,   -999.0,   9,     0.11,2,     0.26,2,     0.01,2,    1.115,2,  -0.3248,20040819,1652
  32H120040718,    54,  2,    204,      4,2,20040819,1634, 73.4810,-159.6040, 2165,     61.8,  -0.9562,  32.3128,2,-999.0000,9,    322.2,2,   -999.0,9,  -999.00,9,  -999.00,9,  -999.00,9,  -999.00,9,     -999,9,   -999.0,   9,   -999.0,   9,     -999,9,  -999.00,9,  -999.00,9,    0.932,2,  -0.9576,20040819,1648
  32H120040718,    54,  2,    205,      5,2,20040819,1634, 73.4810,-159.6040, 2165,     61.8,  -1.0086,  32.3130,2,-999.0000,9,    322.8,2,    333.7,2,    19.00,2,     8.26,2,     0.08,2,     1.48,2,     0.53,2,   -999.0,   9,   -999.0,   9,     0.09,2,     0.15,2,     0.08,2,    0.942,2,  -1.0100,20040819,1648
  32H120040718,    54,  2,    203,      3,2,20040819,1634, 73.4810,-159.6040, 2165,    102.9,  -1.4375,  32.8691,2,-999.0000,9,    318.8,2,   -999.0,9,    23.01,2,     8.80,2,     0.13,2,     1.50,2,     0.47,2,   -999.0,   9,   -999.0,   9,     0.07,2,  -999.00,9,  -999.00,9,    0.832,2,  -1.4396,20040819,1644
  32H120040718,    54,  2,    202,      2,2,20040819,1634, 73.4810,-159.6040, 2165,    153.4,  -1.4496,  33.4389,2,-999.0000,9,    310.9,2,   -999.0,9,    25.65,2,     9.82,2,     0.12,2,     1.53,2,     0.59,2,   -999.0,   9,   -999.0,   9,     0.08,2,  -999.00,9,  -999.00,9,    0.825,2,  -1.4529,20040819,1639
  32H120040718,    54,  2,    201,      1,2,20040819,1634, 73.4810,-159.6040, 2165,    203.2,  -0.4532,  34.4030,2,-999.0000,9,    262.3,2,   -999.0,9,    17.82,2,    13.45,2,     0.03,2,     1.24,2,     0.06,2,   -999.0,   9,   -999.0,   9,     0.07,2,  -999.00,9,  -999.00,9,    0.691,2,  -0.4598,20040819,1634
  32H120040718,    54,  3,    312,     12,2,20040819,2220, 73.4810,-159.6040, 2165,    175.5,  -1.2935,  33.8838,2,-999.0000,9,    293.9,2,    305.2,2,    25.54,2,    12.28,2,     0.04,2,     1.49,2,     0.09,2,   -999.0,   9,   -999.0,   9,     0.08,2,  -999.00,9,  -999.00,9,    0.727,2,  -1.2977,20040819,2334
  32H120040718,    54,  3,    311,     11,2,20040819,2220, 73.4810,-159.6040, 2165,    200.8,  -0.5796,  34.3312,2,  34.3232,2,    261.0,2,    274.5,2,    19.12,2,    13.53,2,     0.01,2,     1.28,2,     0.08,2,   2168.4,   2,   2286.1,   2,     0.08,2,  -999.00,9,  -999.00,9,    0.688,2,  -0.5859,20040819,2330
  32H120040718,    54,  3,    310,     10,2,20040819,2220, 73.4810,-159.6040, 2165,    225.1,  -0.0532,  34.5570,2,  34.5580,2,    263.1,2,    276.2,2,    13.01,2,    12.76,2,     0.01,2,     1.05,2,     0.08,2,   -999.0,   9,   -999.0,   9,     0.11,2,  -999.00,9,  -999.00,9,    0.634,2,  -0.0614,20040819,2326
  32H120040718,    54,  3,    309,      9,2,20040819,2220, 73.4810,-159.6040, 2165,    250.0,   0.3042,  34.6651,2,-999.0000,9,    266.0,2,    279.6,2,    10.48,2,    12.71,2,     0.01,2,     0.99,2,     0.08,2,   -999.0,   9,   -999.0,   9,     0.08,2,  -999.00,9,  -999.00,9,    0.610,2,   0.2942,20040819,2321
  32H120040718,    54,  3,    308,      8,2,20040819,2220, 73.4810,-159.6040, 2165,    275.1,   0.6132,  34.7461,2,  34.7452,2,    272.5,2,    286.4,2,     8.26,2,    12.49,2,     0.01,2,     0.93,2,     0.07,2,   -999.0,   9,   -999.0,   9,     0.08,2,  -999.00,9,  -999.00,9,    0.612,2,   0.6014,20040819,2317
  32H120040718,    54,  3,    307,      7,2,20040819,2220, 73.4810,-159.6040, 2165,    300.2,   0.7322,  34.7820,2,-999.0000,9,    275.5,2,    289.9,2,     7.42,2,    12.44,2,     0.01,2,     0.91,2,     0.06,2,   2140.1,   2,   2304.6,   2,     0.08,2,  -999.00,9,  -999.00,9,    0.628,2,   0.7189,20040819,2313
  32H120040718,    54,  3,    306,      6,2,20040819,2220, 73.4810,-159.6040, 2165,    350.1,   0.8195,  34.8183,2,  34.8206,2,    278.0,2,    293.6,2,     7.00,2,    12.44,2,     0.01,2,     0.90,2,     0.06,2,   -999.0,   9,   -999.0,   9,     0.08,2,  -999.00,9,  -999.00,9,    0.610,2,   0.8036,20040819,2308
  32H120040718,    54,  3,    305,      5,2,20040819,2220, 73.4810,-159.6040, 2165,    500.7,   0.5643,  34.8499,2,-999.0000,9,    281.6,2,    296.4,2,     6.80,2,    12.50,2,     0.01,2,     0.90,2,     0.06,2,   2141.4,   2,   2303.6,   2,     0.08,2,  -999.00,9,  -999.00,9,    0.634,2,   0.5419,20040819,2300
  32H120040718,    54,  3,    304,      4,2,20040819,2220, 73.4810,-159.6040, 2165,    750.8,   0.1487,  34.8695,2,-999.0000,9,    282.6,2,    299.8,2,     7.34,2,    12.59,2,     0.01,2,     0.92,2,     0.06,2,   -999.0,   9,   -999.0,   9,     0.09,2,  -999.00,9,  -999.00,9,    0.610,2,   0.1160,20040819,2251
  32H120040718,    54,  3,    303,      3,2,20040819,2220, 73.4810,-159.6040, 2165,   1001.5,  -0.0060,  34.8803,2,-999.0000,9,    282.6,2,    299.1,2,     7.67,2,    12.72,2,     0.00,2,     0.93,2,     0.06,2,   2137.3,   2,   2296.2,   2,     0.08,2,  -999.00,9,  -999.00,9,    0.581,2,  -0.0506,20040819,2240
  32H120040718,    54,  3,    302,      2,2,20040819,2220, 73.4810,-159.6040, 2165,   1251.5,  -0.2040,  34.8974,2,  34.8985,2,    283.4,2,    300.7,2,     8.00,2,    12.91,2,     0.00,2,     0.95,2,     0.05,2,   -999.0,   9,   -999.0,   9,     0.08,2,  -999.00,9,  -999.00,9,    0.533,2,  -0.2606,20040819,2229
  32H120040718,    54,  3,    301,      1,2,20040819,2220, 73.4810,-159.6040, 2165,   1501.9,  -0.3276,  34.9158,2,  34.9184,2,    281.7,2,    297.6,2,     9.06,2,    13.41,2,     0.00,2,     0.98,2,     0.04,2,   2138.5,   2,   2305.2,   2,     0.09,2,  -999.00,9,  -999.00,9,    0.581,2,  -0.3973,20040819,2220
  32H120040718,    54,  4,    411,     11,2,20040819, 211, 73.4810,-159.6040, 2165,     36.7,  -0.1233,  31.5599,2,-999.0000,9,    377.2,2,   -999.0,9,     5.60,2,     0.69,2,     0.03,2,     0.88,2,     0.21,2,   -999.0,   9,   -999.0,   9,      0.1,2,  -999.00,9,  -999.00,9,    1.607,2,  -0.1243,20040819, 316
  32H120040718,    54,  4,    412,     12,2,20040819, 211, 73.4810,-159.6040, 2165,     36.7,  -0.1385,  31.5536,2,-999.0000,9,    376.9,2,   -999.0,9,     5.38,2,     0.65,2,     0.03,2,     0.87,2,     0.23,2,   -999.0,   9,   -999.0,   9,      0.1,2,  -999.00,9,  -999.00,9,    1.631,2,  -0.1395,20040819, 316
  32H120040718,    54,  4,    410,     10,3,20040819, 211, 73.4810,-159.6040, 2165,    130.7,  -1.5259,  33.1019,2,-999.0000,9,    272.4,2,   -999.0,9,  -999.00,9,  -999.00,9,  -999.00,9,  -999.00,9,     -999,9,   -999.0,   9,   -999.0,   9,     -999,9,  -999.00,9,  -999.00,9,    0.771,2,  -1.5285,20040819, 308
  32H120040718,    54,  4,    409,      9,2,20040819, 211, 73.4810,-159.6040, 2165,    130.7,  -1.5260,  33.1014,2,-999.0000,9,    272.3,2,   -999.0,9,    32.85,2,    14.62,2,     0.01,2,     1.82,2,     0.08,2,   -999.0,   9,   -999.0,   9,     0.08,2,  -999.00,9,  -999.00,9,    0.723,2,  -1.5286,20040819, 307
  32H120040718,    54,  4,    407,      7,2,20040819, 211, 73.4810,-159.6040, 2165,    184.9,  -0.9803,  34.0680,2,-999.0000,9,    265.3,2,   -999.0,9,    24.22,2,    13.82,2,     0.02,2,     1.46,2,     0.06,2,   -999.0,   9,   -999.0,   9,     0.08,2,  -999.00,9,  -999.00,9,    0.724,2,  -0.9854,20040819, 302
  32H120040718,    54,  4,    408,      8,2,20040819, 211, 73.4810,-159.6040, 2165,    185.0,  -0.9816,  34.0675,2,-999.0000,9,    265.8,2,   -999.0,9,    24.43,2,    13.82,2,     0.02,2,     1.46,2,     0.07,2,   -999.0,   9,   -999.0,   9,     0.08,2,  -999.00,9,  -999.00,9,    0.715,2,  -0.9867,20040819, 302
  32H120040718,    54,  4,    406,      6,2,20040819, 211, 73.4810,-159.6040, 2165,    506.7,   0.5502,  34.8500,2,-999.0000,9,    281.3,2,   -999.0,9,     6.90,2,    12.46,2,     0.01,2,     0.91,2,     0.05,2,   -999.0,   9,   -999.0,   9,     0.08,2,  -999.00,9,  -999.00,9,    0.584,2,   0.5275,20040819, 252
  32H120040718,    54,  4,    405,      5,2,20040819, 211, 73.4810,-159.6040, 2165,   1013.8,  -0.0056,  34.8810,2,-999.0000,9,    282.0,2,   -999.0,9,     7.86,2,    12.73,2,     0.01,2,     0.93,2,     0.04,2,   -999.0,   9,   -999.0,   9,     0.08,2,  -999.00,9,  -999.00,9,    0.592,2,  -0.0509,20040819, 238
  32H120040718,    54,  4,    404,      4,2,20040819, 211, 73.4810,-159.6040, 2165,   1013.8,  -0.0066,  34.8811,2,-999.0000,9,    281.9,2,   -999.0,9,     7.76,2,    12.69,2,     0.01,2,     0.93,2,     0.03,2,   -999.0,   9,   -999.0,   9,     0.08,2,  -999.00,9,  -999.00,9,    0.591,2,  -0.0519,20040819, 238
  32H120040718,    54,  4,    403,      3,2,20040819, 211, 73.4810,-159.6040, 2165,   2213.0,  -0.3953,  34.9515,2,-999.0000,9,    269.6,2,   -999.0,9,    13.18,2,    14.47,2,     0.01,2,     1.06,2,     0.04,2,   -999.0,   9,   -999.0,   9,     0.07,2,  -999.00,9,  -999.00,9,    0.521,2,  -0.5105,20040819, 211
  32H120040718,    54,  4,    402,      2,2,20040819, 211, 73.4810,-159.6040, 2165,   2213.0,  -0.3954,  34.9516,2,-999.0000,9,    269.3,2,   -999.0,9,    13.18,2,    14.43,2,     0.01,2,     1.06,2,     0.04,2,   -999.0,   9,   -999.0,   9,     0.07,2,  -999.00,9,  -999.00,9,    0.480,2,  -0.5106,20040819, 211
  32H120040718,    54,  4,    401,      1,2,20040819, 211, 73.4810,-159.6040, 2165,   2213.1,  -0.3954,  34.9516,2,-999.0000,9,    268.9,2,   -999.0,9,    13.19,2,    14.43,2,     0.01,2,     1.06,2,     0.04,2,   -999.0,   9,   -999.0,   9,     0.09,2,  -999.00,9,  -999.00,9,    0.544,2,  -0.5107,20040819, 211
  32H120040718,    54,  5,    511,     11,2,20040819, 438, 73.4810,-159.6040, 2165,     76.8,  -1.0895,  32.5406,2,-999.0000,9,    322.9,2,   -999.0,9,  -999.00,9,  -999.00,9,  -999.00,9,  -999.00,9,     -999,9,   -999.0,   9,   -999.0,   9,     -999,9,  -999.00,9,  -999.00,9,    0.828,2,  -1.0912,20040819, 446
  32H120040718,    54,  5,    512,     12,2,20040819, 438, 73.4810,-159.6040, 2165,     76.8,  -1.0922,  32.5408,2,-999.0000,9,    323.0,2,   -999.0,9,    21.90,2,     8.53,2,     0.12,2,     1.52,2,     1.13,2,   -999.0,   9,   -999.0,   9,     0.11,2,  -999.00,9,  -999.00,9,    0.819,2,  -1.0939,20040819, 446
  32H120040718,    54,  5,    510,     10,2,20040819, 438, 73.4810,-159.6040, 2165,     76.8,  -1.0942,  32.5406,2,-999.0000,9,    323.2,2,   -999.0,9,  -999.00,9,  -999.00,9,  -999.00,9,  -999.00,9,     -999,9,   -999.0,   9,   -999.0,   9,     -999,9,  -999.00,9,  -999.00,9,    0.834,2,  -1.0959,20040819, 446
  32H120040718,    54,  5,    509,      9,2,20040819, 438, 73.4810,-159.6040, 2165,     76.8,  -1.1073,  32.5406,2,-999.0000,9,    322.5,2,   -999.0,9,  -999.00,9,  -999.00,9,  -999.00,9,  -999.00,9,     -999,9,   -999.0,   9,   -999.0,   9,     -999,9,  -999.00,9,  -999.00,9,    0.827,2,  -1.1090,20040819, 445
  32H120040718,    54,  5,    508,      8,2,20040819, 438, 73.4810,-159.6040, 2165,     76.8,  -1.1168,  32.5403,2,-999.0000,9,    321.8,2,   -999.0,9,  -999.00,9,  -999.00,9,  -999.00,9,  -999.00,9,     -999,9,   -999.0,   9,   -999.0,   9,     -999,9,  -999.00,9,  -999.00,9,    0.846,2,  -1.1185,20040819, 445
  32H120040718,    54,  5,    507,      7,2,20040819, 438, 73.4810,-159.6040, 2165,     76.8,  -1.1345,  32.5400,2,-999.0000,9,    320.3,2,   -999.0,9,  -999.00,9,  -999.00,9,  -999.00,9,  -999.00,9,     -999,9,   -999.0,   9,   -999.0,   9,     -999,9,  -999.00,9,  -999.00,9,    0.845,2,  -1.1362,20040819, 445
  32H120040718,    54,  5,    506,      6,2,20040819, 438, 73.4810,-159.6040, 2165,    131.4,  -1.5391,  33.1127,2,-999.0000,9,    289.1,2,   -999.0,9,  -999.00,9,  -999.00,9,  -999.00,9,  -999.00,9,     -999,9,   -999.0,   9,   -999.0,   9,     -999,9,  -999.00,9,  -999.00,9,    0.769,2,  -1.5417,20040819, 439
  32H120040718,    54,  5,    505,      5,2,20040819, 438, 73.4810,-159.6040, 2165,    131.4,  -1.5423,  33.1125,2,-999.0000,9,    287.4,2,   -999.0,9,  -999.00,9,  -999.00,9,  -999.00,9,  -999.00,9,     -999,9,   -999.0,   9,   -999.0,   9,     -999,9,  -999.00,9,  -999.00,9,    0.769,2,  -1.5449,20040819, 439
  32H120040718,    54,  5,    504,      4,2,20040819, 438, 73.4810,-159.6040, 2165,    131.4,  -1.5441,  33.1129,2,-999.0000,9,    286.4,2,   -999.0,9,  -999.00,9,  -999.00,9,  -999.00,9,  -999.00,9,     -999,9,   -999.0,   9,   -999.0,   9,     -999,9,  -999.00,9,  -999.00,9,    0.807,2,  -1.5467,20040819, 439
  32H120040718,    54,  5,    503,      3,2,20040819, 438, 73.4810,-159.6040, 2165,    131.4,  -1.5458,  33.1133,2,-999.0000,9,    285.0,2,   -999.0,9,  -999.00,9,  -999.00,9,  -999.00,9,  -999.00,9,     -999,9,   -999.0,   9,   -999.0,   9,     -999,9,  -999.00,9,  -999.00,9,    0.778,2,  -1.5484,20040819, 439
  32H120040718,    54,  5,    502,      2,2,20040819, 438, 73.4810,-159.6040, 2165,    131.4,  -1.5458,  33.1144,2,-999.0000,9,    285.4,2,   -999.0,9,  -999.00,9,  -999.00,9,  -999.00,9,  -999.00,9,     -999,9,   -999.0,   9,   -999.0,   9,     -999,9,  -999.00,9,  -999.00,9,    0.777,2,  -1.5484,20040819, 438
  32H120040718,    54,  5,    501,      1,2,20040819, 438, 73.4810,-159.6040, 2165,    131.4,  -1.5477,  33.1145,2,-999.0000,9,    284.4,2,   -999.0,9,    32.54,2,    13.83,2,     0.05,2,     1.78,2,     0.11,2,   -999.0,   9,   -999.0,   9,     0.11,2,  -999.00,9,  -999.00,9,    0.777,2,  -1.5503,20040819, 438