BOTTLE,20220815CCHSIOAMB
EXPOCODE,STNNBR,CASTNO,SAMPNO,BTLNBR,BTLNBR_FLAG_W,DATE,TIME,LATITUDE,LONGITUDE,DEPTH,CTDPRS,CTDTMP,CTDSAL,CTDSAL_FLAG_W,SALNTY,SALNTY_FLAG_W,CTDOXY,CTDOXY_FLAG_W,OXYGEN,OXYGEN_FLAG_W,SILCAT,SILCAT_FLAG_W,NITRAT,NITRAT_FLAG_W,NITRIT,NITRIT_FLAG_W,PHSPHT,PHSPHT_FLAG_W,AMMONI,AMMONI_FLAG_W,TCARBN,TCARBN_FLAG_W,ALKALI,ALKALI_FLAG_W,UREA,UREA_FLAG_W,CHLORA,CHLORA_FLAG_W,PHAEO,PHAEO_FLAG_W,FLUORO,FLUORO_FLAG_W,THETA,BTL_DATE,BTL_TIME
,,,,,,,,,,METERS,DBAR,ITS-90,PSS-78,,PSS-78,,UMOL/KG,,UMOL/KG,,UMOL/KG,,UMOL/KG,,UMOL/KG,,UMOL/KG,,UMOL/KG,,UMOL/KG,,UMOL/KG,,UMOL/KG,,UG/L,,UG/L,,VOLTS,,DEG C,,
  32H120040718,    48,  6,    612,     12,2,20040814,1820, 72.8569,-158.3051, 1045,     21.5,  -0.8482,  30.8829,2,-999.0000,9,    419.8,2,   -999.0,9,     1.88,2,     0.08,2,     0.00,2,     0.68,2,     0.02,2,   -999.0,   9,   -999.0,   9,     0.05,2,  -999.00,9,  -999.00,9,    0.790,2,  -0.8486,20040814,1825
  32H120040718,    48,  6,    611,     11,2,20040814,1820, 72.8569,-158.3051, 1045,     21.5,  -0.8493,  30.8842,2,-999.0000,9,    419.3,2,   -999.0,9,  -999.00,9,  -999.00,9,  -999.00,9,  -999.00,9,     -999,9,   -999.0,   9,   -999.0,   9,     -999,9,  -999.00,9,  -999.00,9,    0.814,2,  -0.8497,20040814,1825
  32H120040718,    48,  6,    601,      1,2,20040814,1820, 72.8569,-158.3051, 1045,     43.6,  -0.9815,  32.1936,2,-999.0000,9,    343.0,2,   -999.0,9,    15.26,2,     5.73,2,     0.13,2,     1.40,2,     1.13,2,   -999.0,   9,   -999.0,   9,     0.14,2,  -999.00,9,  -999.00,9,    1.872,2,  -0.9825,20040814,1817
  32H120040718,    48,  6,    603,      3,2,20040814,1820, 72.8569,-158.3051, 1045,     43.6,  -0.9835,  32.1955,2,-999.0000,9,    343.5,2,   -999.0,9,  -999.00,9,  -999.00,9,  -999.00,9,  -999.00,9,     -999,9,   -999.0,   9,   -999.0,   9,     -999,9,  -999.00,9,  -999.00,9,    1.754,2,  -0.9845,20040814,1818
  32H120040718,    48,  6,    602,      2,2,20040814,1820, 72.8569,-158.3051, 1045,     43.6,  -0.9837,  32.1953,2,-999.0000,9,    343.4,2,   -999.0,9,  -999.00,9,  -999.00,9,  -999.00,9,  -999.00,9,     -999,9,   -999.0,   9,   -999.0,   9,     -999,9,  -999.00,9,  -999.00,9,    2.001,2,  -0.9847,20040814,1817
  32H120040718,    48,  6,    605,      5,2,20040814,1820, 72.8569,-158.3051, 1045,     43.6,  -0.9852,  32.1968,2,-999.0000,9,    343.2,2,   -999.0,9,  -999.00,9,  -999.00,9,  -999.00,9,  -999.00,9,     -999,9,   -999.0,   9,   -999.0,   9,     -999,9,  -999.00,9,  -999.00,9,    1.791,2,  -0.9862,20040814,1818
  32H120040718,    48,  6,    604,      4,2,20040814,1820, 72.8569,-158.3051, 1045,     43.6,  -0.9870,  32.1968,2,-999.0000,9,    343.6,2,   -999.0,9,  -999.00,9,  -999.00,9,  -999.00,9,  -999.00,9,     -999,9,   -999.0,   9,   -999.0,   9,     -999,9,  -999.00,9,  -999.00,9,    1.795,2,  -0.9880,20040814,1818
  32H120040718,    48,  6,    606,      6,2,20040814,1820, 72.8569,-158.3051, 1045,     43.6,  -0.9916,  32.1978,2,-999.0000,9,    343.0,2,   -999.0,9,  -999.00,9,  -999.00,9,  -999.00,9,  -999.00,9,     -999,9,   -999.0,   9,   -999.0,   9,     -999,9,  -999.00,9,  -999.00,9,    1.842,2,  -0.9926,20040814,1818
  32H120040718,    48,  6,    607,      7,2,20040814,1820, 72.8569,-158.3051, 1045,     43.6,  -0.9933,  32.1981,2,-999.0000,9,    342.8,2,   -999.0,9,  -999.00,9,  -999.00,9,  -999.00,9,  -999.00,9,     -999,9,   -999.0,   9,   -999.0,   9,     -999,9,  -999.00,9,  -999.00,9,    1.796,2,  -0.9943,20040814,1819
  32H120040718,    48,  6,    608,      8,2,20040814,1820, 72.8569,-158.3051, 1045,     43.6,  -1.0046,  32.1932,2,-999.0000,9,    342.5,2,   -999.0,9,  -999.00,9,  -999.00,9,  -999.00,9,  -999.00,9,     -999,9,   -999.0,   9,   -999.0,   9,     -999,9,  -999.00,9,  -999.00,9,    1.903,2,  -1.0056,20040814,1819
  32H120040718,    48,  6,    610,     10,2,20040814,1820, 72.8569,-158.3051, 1045,     43.6,  -1.0062,  32.2059,2,-999.0000,9,    340.9,2,   -999.0,9,  -999.00,9,  -999.00,9,  -999.00,9,  -999.00,9,     -999,9,   -999.0,   9,   -999.0,   9,     -999,9,  -999.00,9,  -999.00,9,    1.703,2,  -1.0072,20040814,1820
  32H120040718,    48,  6,    609,      9,2,20040814,1820, 72.8569,-158.3051, 1045,     43.6,  -1.0075,  32.2017,2,-999.0000,9,    342.0,2,   -999.0,9,  -999.00,9,  -999.00,9,  -999.00,9,  -999.00,9,     -999,9,   -999.0,   9,   -999.0,   9,     -999,9,  -999.00,9,  -999.00,9,    1.789,2,  -1.0085,20040814,1820
  32H120040718,    49,  2,    212,     12,2,20040815, 311, 73.0420,-157.9910, 1931,    178.4,  -0.8074,  34.2047,2,  34.2106,2,    268.8,2,    282.0,2,    20.68,2,    13.13,2,     0.11,2,     1.35,2,     0.21,2,   -999.0,   9,   -999.0,   9,     0.08,2,  -999.00,9,  -999.00,9,    0.845,2,  -0.8126,20040815, 433
  32H120040718,    49,  2,    211,     11,2,20040815, 311, 73.0420,-157.9910, 1931,    204.1,  -0.0186,  34.5706,2,-999.0000,9,    263.7,2,    275.1,2,    13.56,2,    13.09,2,     0.03,2,     1.07,2,     0.03,2,   2153.7,   2,   2299.3,   2,     0.07,2,  -999.00,9,  -999.00,9,    0.684,2,  -0.0261,20040815, 429
  32H120040718,    49,  2,    210,     10,2,20040815, 311, 73.0420,-157.9910, 1931,    254.3,   0.6251,  34.7502,2,-999.0000,9,    273.4,2,    286.6,2,     8.03,2,    12.48,2,     0.03,2,     0.92,2,     0.03,2,   -999.0,   9,   -999.0,   9,     0.07,2,  -999.00,9,  -999.00,9,    0.618,2,   0.6142,20040815, 424
  32H120040718,    49,  2,    209,      9,2,20040815, 311, 73.0420,-157.9910, 1931,    305.1,   0.8247,  34.8083,2,-999.0000,9,    277.3,2,    290.4,2,     7.38,2,    12.48,2,     0.03,2,     0.90,2,     0.01,2,   2140.9,   2,   2307.3,   2,     0.07,2,  -999.00,9,  -999.00,9,    0.680,2,   0.8109,20040815, 418
  32H120040718,    49,  2,    208,      8,2,20040815, 311, 73.0420,-157.9910, 1931,    355.6,   0.8359,  34.8321,2,-999.0000,9,    280.3,2,    293.8,2,     6.64,2,    12.38,2,     0.02,2,     0.89,2,        0,2,   -999.0,   9,   -999.0,   9,     0.07,2,  -999.00,9,  -999.00,9,    0.654,2,   0.8196,20040815, 413
  32H120040718,    49,  2,    207,      7,2,20040815, 311, 73.0420,-157.9910, 1931,    507.1,   0.5446,  34.8492,2,-999.0000,9,    281.5,2,    296.7,2,     6.74,2,    12.55,2,     0.02,2,     0.89,2,        0,2,   -999.0,   9,   -999.0,   9,     0.07,2,  -999.00,9,  -999.00,9,    0.632,2,   0.5219,20040815, 406
  32H120040718,    49,  2,    206,      6,2,20040815, 311, 73.0420,-157.9910, 1931,    760.7,   0.1877,  34.8674,2,-999.0000,9,    283.9,2,    299.2,2,     6.94,2,    12.49,2,     0.02,2,     0.90,2,        0,2,   -999.0,   9,   -999.0,   9,     0.07,2,  -999.00,9,  -999.00,9,    0.593,2,   0.1542,20040815, 356
  32H120040718,    49,  2,    205,      5,2,20040815, 311, 73.0420,-157.9910, 1931,   1014.1,  -0.0665,  34.8835,2,  34.8845,2,    283.8,2,    299.7,2,     7.26,2,    12.65,2,     0.02,2,     0.92,2,        0,2,   -999.0,   9,   -999.0,   9,     0.07,2,  -999.00,9,  -999.00,9,    0.589,2,  -0.1113,20040815, 347
  32H120040718,    49,  2,    204,      4,2,20040815, 311, 73.0420,-157.9910, 1931,   1268.8,  -0.2415,  34.9025,2,  34.9030,2,    282.3,2,    298.7,2,     8.21,2,    13.01,2,     0.02,2,     0.95,2,        0,2,   -999.0,   9,   -999.0,   9,     0.07,2,  -999.00,9,  -999.00,9,    0.586,2,  -0.2987,20040815, 338
  32H120040718,    49,  2,    203,      3,2,20040815, 311, 73.0420,-157.9910, 1931,   1522.1,  -0.3524,  34.9207,2,  34.9222,2,    279.3,2,    296.4,2,     9.28,2,    13.53,2,     0.02,2,     0.98,2,        0,2,   -999.0,   9,   -999.0,   9,     0.07,2,  -999.00,9,  -999.00,9,    0.595,2,  -0.4230,20040815, 329
  32H120040718,    49,  2,    202,      2,2,20040815, 311, 73.0420,-157.9910, 1931,   1776.0,  -0.4026,  34.9368,2,  34.9381,2,    274.6,2,    291.5,2,    10.97,2,    14.05,2,     0.02,2,     1.03,2,        0,2,   -999.0,   9,   -999.0,   9,     0.07,2,  -999.00,9,  -999.00,9,    0.557,2,  -0.4883,20040815, 319
  32H120040718,    49,  2,    201,      1,2,20040815, 311, 73.0420,-157.9910, 1931,   1950.1,  -0.4068,  34.9444,2,  34.9453,2,    271.6,2,    288.2,2,    12.13,2,    14.25,2,     0.02,2,     1.04,2,        0,2,   -999.0,   9,   -999.0,   9,     0.08,2,  -999.00,9,  -999.00,9,    0.559,2,  -0.5038,20040815, 311
  32H120040718,    49,  3,    312,     12,2,20040815, 616, 73.0420,-157.9910, 1931,      2.0,   2.5821,  26.6033,2,-999.0000,9,    342.3,2,    357.7,2,     3.30,2,     0.06,2,     0.00,2,     0.52,2,     0.03,2,   1780.8,   2,   1891.5,   2,     0.03,2,     0.09,2,     0.02,2,    1.074,2,   2.5820,20040815, 655
  32H120040718,    49,  3,    311,     11,2,20040815, 616, 73.0420,-157.9910, 1931,      6.8,   2.3572,  27.4801,2,  27.3054,2,    344.7,2,    360.9,2,     2.87,2,     0.06,2,     0.00,2,     0.54,2,     0.03,2,   1807.0,   2,   1939.4,   2,     0.04,2,  -999.00,9,  -999.00,9,    0.890,2,   2.3569,20040815, 653
  32H120040718,    49,  3,    310,     10,2,20040815, 616, 73.0420,-157.9910, 1931,     11.9,   1.9945,  27.7199,2,  27.7270,2,    350.6,2,    365.7,2,     2.65,2,     0.05,2,     0.00,2,     0.54,2,     0.03,2,   -999.0,   9,   -999.0,   9,     0.03,2,     0.06,2,     0.01,2,    0.894,2,   1.9940,20040815, 650
  32H120040718,    49,  3,    309,      9,2,20040815, 616, 73.0420,-157.9910, 1931,     21.6,  -0.1834,  30.2779,2,  30.2497,2,    406.0,2,    424.6,2,     2.42,2,     0.05,2,     0.00,2,     0.66,2,     0.03,2,   -999.0,   9,   -999.0,   9,     0.05,2,     0.08,2,     0.01,2,    1.045,2,  -0.1839,20040815, 646
  32H120040718,    49,  3,    308,      8,2,20040815, 616, 73.0420,-157.9910, 1931,     32.0,  -0.1099,  31.3859,2,  31.3779,2,    421.3,2,    439.9,2,     3.92,2,     0.10,2,     0.01,2,     0.75,2,     0.17,2,   -999.0,   9,   -999.0,   9,     0.07,2,     0.09,2,     0.01,2,    1.150,2,  -0.1108,20040815, 643
  32H120040718,    49,  3,    307,      7,2,20040815, 616, 73.0420,-157.9910, 1931,     42.1,  -1.1375,  31.8306,2,  31.7961,2,    367.6,2,    386.2,2,     6.37,2,     0.40,2,     0.01,2,     0.99,2,     0.15,2,   -999.0,   9,   -999.0,   9,     0.11,2,     0.22,2,     0.00,2,    1.466,2,  -1.1384,20040815, 639
  32H120040718,    49,  3,    306,      6,2,20040815, 616, 73.0420,-157.9910, 1931,     51.1,  -0.8332,  32.2368,2,-999.0000,9,    353.1,2,    377.1,2,     9.35,2,     3.56,2,     0.07,2,     1.22,2,     0.61,2,   -999.0,   9,   -999.0,   9,     0.16,2,     2.26,2,     0.07,2,    2.238,2,  -0.8344,20040815, 635
  32H120040718,    49,  3,    305,      5,2,20040815, 616, 73.0420,-157.9910, 1931,     67.0,  -1.3738,  32.5636,2,-999.0000,9,    326.2,2,    346.7,2,    24.74,2,     8.62,2,     0.14,2,     1.58,2,     1.36,2,   -999.0,   9,   -999.0,   9,     0.11,2,  -999.00,9,  -999.00,9,    1.519,2,  -1.3751,20040815, 631
  32H120040718,    49,  3,    304,      4,2,20040815, 616, 73.0420,-157.9910, 1931,     82.5,  -1.4949,  32.7848,2,-999.0000,9,    316.2,2,    332.5,2,    29.06,2,    10.22,2,     0.14,2,     1.66,2,     1.39,2,   -999.0,   9,   -999.0,   9,     0.09,2,  -999.00,9,  -999.00,9,    1.064,2,  -1.4965,20040815, 627
  32H120040718,    49,  3,    303,      3,2,20040815, 616, 73.0420,-157.9910, 1931,    102.5,  -1.5567,  32.9950,2,  32.9904,2,    294.6,2,    320.4,2,    32.44,2,    11.36,2,     0.10,2,     1.76,2,     1.31,2,   -999.0,   9,   -999.0,   9,     0.12,2,     0.03,2,     0.06,2,    0.889,2,  -1.5587,20040815, 624
  32H120040718,    49,  3,    302,      2,2,20040815, 616, 73.0420,-157.9910, 1931,    127.6,  -1.5317,  33.1930,2,-999.0000,9,    286.7,2,    313.6,2,    35.50,2,    12.40,2,     0.10,2,     1.83,2,      1.1,2,   -999.0,   9,   -999.0,   9,      0.1,2,  -999.00,9,  -999.00,9,    0.899,2,  -1.5343,20040815, 620
  32H120040718,    49,  3,    301,      1,2,20040815, 616, 73.0420,-157.9910, 1931,    152.0,  -1.2683,  33.7150,2,-999.0000,9,    275.9,2,    288.6,2,    27.65,2,    13.08,2,     0.08,2,     1.58,2,     0.26,2,   -999.0,   9,   -999.0,   9,     0.16,2,     0.02,2,     0.03,2,    0.748,2,  -1.2719,20040815, 616
  32H120040718,    49,  4,    411,     11,2,20040815,1536, 73.0420,-157.9910, 1931,      2.1,   2.2133,  27.5506,2,-999.0000,9,    342.8,2,    359.8,2,     3.08,2,     0.09,2,     0.00,2,     0.55,2,      0.1,2,   -999.0,   9,   -999.0,   9,     0.03,2,     0.07,2,     0.01,2,    0.924,2,   2.2132,20040815,1615
  32H120040718,    49,  4,    410,     10,3,20040815,1536, 73.0420,-157.9910, 1931,      2.1,   2.4490,  27.2420,2,-999.0000,9,    341.6,2,   -999.0,9,  -999.00,9,  -999.00,9,  -999.00,9,  -999.00,9,     -999,9,   -999.0,   9,   -999.0,   9,     -999,9,  -999.00,9,  -999.00,9,    0.960,2,   2.4489,20040815,1614
  32H120040718,    49,  4,    412,     12,9,20040815,1536, 73.0420,-157.9910, 1931,      2.1,   2.6079,  27.0185,2,-999.0000,9,    341.1,2,   -999.0,9,  -999.00,9,  -999.00,9,  -999.00,9,  -999.00,9,     -999,9,   -999.0,   9,   -999.0,   9,     -999,9,  -999.00,9,  -999.00,9,    0.918,2,   2.6078,20040815,1615
  32H120040718,    49,  4,    409,      9,2,20040815,1536, 73.0420,-157.9910, 1931,     10.5,   2.1446,  27.7619,2,-999.0000,9,    336.3,3,    368.4,2,     2.96,2,     0.08,2,     0.00,2,     0.57,2,      0.1,2,   -999.0,   9,   -999.0,   9,     0.05,2,     0.07,2,     0.02,2,    0.912,2,   2.1442,20040815,1610
  32H120040718,    49,  4,    408,      8,2,20040815,1536, 73.0420,-157.9910, 1931,     17.3,   0.8710,  29.3993,2,-999.0000,9,    386.5,3,    410.0,2,     2.53,2,     0.08,2,     0.00,2,     0.65,2,     0.12,2,   -999.0,   9,   -999.0,   9,     0.05,2,     0.11,2,     0.02,2,    1.074,2,   0.8704,20040815,1606
  32H120040718,    49,  4,    407,      7,2,20040815,1536, 73.0420,-157.9910, 1931,     26.5,   0.5418,  31.0562,2,-999.0000,9,    408.5,2,    427.7,2,     3.39,2,     0.08,2,     0.00,2,     0.73,2,     0.18,2,   -999.0,   9,   -999.0,   9,     0.06,2,     0.14,2,     0.01,2,    1.138,2,   0.5409,20040815,1602
  32H120040718,    49,  4,    406,      6,2,20040815,1536, 73.0420,-157.9910, 1931,     41.4,  -0.8481,  31.9664,2,-999.0000,9,    376.9,2,    390.3,2,     6.84,2,     0.90,2,     0.02,2,     1.06,2,     0.33,2,   -999.0,   9,   -999.0,   9,     0.11,2,     0.72,2,     0.02,2,    1.398,2,  -0.8491,20040815,1558
  32H120040718,    49,  4,    405,      5,2,20040815,1536, 73.0420,-157.9910, 1931,     49.5,  -0.9332,  32.2597,2,-999.0000,9,    344.2,2,   -999.0,9,    12.43,2,     4.99,2,     0.08,2,     1.38,2,     0.99,2,   -999.0,   9,   -999.0,   9,     0.17,2,  -999.00,9,  -999.00,9,    2.113,2,  -0.9343,20040815,1553
  32H120040718,    49,  4,    404,      4,2,20040815,1536, 73.0420,-157.9910, 1931,     63.2,  -1.3262,  32.4795,2,-999.0000,9,    334.1,2,    347.6,2,    23.99,2,     8.45,2,     0.17,2,     1.61,2,     1.82,2,   -999.0,   9,   -999.0,   9,     0.12,2,     0.98,2,     0.02,2,    1.672,2,  -1.3275,20040815,1549
  32H120040718,    49,  4,    403,      3,2,20040815,1536, 73.0420,-157.9910, 1931,    102.5,  -1.6070,  33.0263,2,-999.0000,9,    308.5,2,   -999.0,9,    34.34,2,    11.75,2,     0.11,2,     1.80,2,     0.78,2,   -999.0,   9,   -999.0,   9,      0.1,2,  -999.00,9,  -999.00,9,    0.947,2,  -1.6090,20040815,1544
  32H120040718,    49,  4,    402,      2,2,20040815,1536, 73.0420,-157.9910, 1931,    152.8,  -1.2672,  33.6675,2,-999.0000,9,    266.6,2,   -999.0,9,    28.98,2,    13.99,2,     0.04,2,     1.64,2,     0.19,2,   -999.0,   9,   -999.0,   9,     0.06,2,  -999.00,9,  -999.00,9,    0.782,2,  -1.2708,20040815,1540
  32H120040718,    49,  4,    401,      1,2,20040815,1536, 73.0420,-157.9910, 1931,    203.6,  -0.0366,  34.5645,2,-999.0000,9,    263.9,2,   -999.0,9,    13.15,2,    11.40,2,     0.03,2,     1.07,2,     0.14,2,   -999.0,   9,   -999.0,   9,     0.14,2,  -999.00,9,  -999.00,9,    0.688,2,  -0.0440,20040815,1536
  32H120040718,    49,  5,    509,      9,2,20040815,1743, 73.0420,-157.9910, 1931,    112.3,  -1.6329,  33.0879,2,-999.0000,9,    296.5,2,   -999.0,9,  -999.00,9,  -999.00,9,  -999.00,9,  -999.00,9,     -999,9,   -999.0,   9,   -999.0,   9,     -999,9,  -999.00,9,  -999.00,9,    0.958,2,  -1.6350,20040815,1752
  32H120040718,    49,  5,    508,      8,2,20040815,1743, 73.0420,-157.9910, 1931,    112.3,  -1.6330,  33.0877,2,-999.0000,9,    296.6,2,   -999.0,9,  -999.00,9,  -999.00,9,  -999.00,9,  -999.00,9,     -999,9,   -999.0,   9,   -999.0,   9,     -999,9,  -999.00,9,  -999.00,9,    0.983,2,  -1.6351,20040815,1752
  32H120040718,    49,  5,    510,     10,2,20040815,1743, 73.0420,-157.9910, 1931,    112.3,  -1.6338,  33.0881,2,-999.0000,9,    296.5,2,   -999.0,9,  -999.00,9,  -999.00,9,  -999.00,9,  -999.00,9,     -999,9,   -999.0,   9,   -999.0,   9,     -999,9,  -999.00,9,  -999.00,9,    0.938,2,  -1.6359,20040815,1752
  32H120040718,    49,  5,    511,     11,2,20040815,1743, 73.0420,-157.9910, 1931,    112.3,  -1.6361,  33.0885,2,-999.0000,9,    296.8,2,   -999.0,9,  -999.00,9,  -999.00,9,  -999.00,9,  -999.00,9,     -999,9,   -999.0,   9,   -999.0,   9,     -999,9,  -999.00,9,  -999.00,9,    0.953,2,  -1.6382,20040815,1753
  32H120040718,    49,  5,    512,     12,2,20040815,1743, 73.0420,-157.9910, 1931,    112.3,  -1.6370,  33.0894,2,-999.0000,9,    296.2,2,   -999.0,9,    38.51,2,    13.25,2,     0.12,2,     1.91,2,     0.91,2,   -999.0,   9,   -999.0,   9,     0.08,2,  -999.00,9,  -999.00,9,    0.957,2,  -1.6391,20040815,1753
  32H120040718,    49,  5,    507,      7,2,20040815,1743, 73.0420,-157.9910, 1931,    112.3,  -1.6469,  33.0885,2,-999.0000,9,    297.0,2,   -999.0,9,  -999.00,9,  -999.00,9,  -999.00,9,  -999.00,9,     -999,9,   -999.0,   9,   -999.0,   9,     -999,9,  -999.00,9,  -999.00,9,    0.957,2,  -1.6490,20040815,1750
  32H120040718,    49,  5,    506,      6,2,20040815,1743, 73.0420,-157.9910, 1931,    193.2,  -0.1864,  34.5127,2,-999.0000,9,    260.3,2,   -999.0,9,  -999.00,9,  -999.00,9,  -999.00,9,  -999.00,9,     -999,9,   -999.0,   9,   -999.0,   9,     -999,9,  -999.00,9,  -999.00,9,    0.696,2,  -0.1932,20040815,1745
  32H120040718,    49,  5,    505,      5,2,20040815,1743, 73.0420,-157.9910, 1931,    193.2,  -0.1890,  34.5112,2,-999.0000,9,    260.2,2,   -999.0,9,  -999.00,9,  -999.00,9,  -999.00,9,  -999.00,9,     -999,9,   -999.0,   9,   -999.0,   9,     -999,9,  -999.00,9,  -999.00,9,    0.666,2,  -0.1958,20040815,1744
  32H120040718,    49,  5,    504,      4,2,20040815,1743, 73.0420,-157.9910, 1931,    193.2,  -0.1905,  34.5089,2,-999.0000,9,    260.1,2,   -999.0,9,  -999.00,9,  -999.00,9,  -999.00,9,  -999.00,9,     -999,9,   -999.0,   9,   -999.0,   9,     -999,9,  -999.00,9,  -999.00,9,    0.709,2,  -0.1973,20040815,1744
  32H120040718,    49,  5,    502,      2,2,20040815,1743, 73.0420,-157.9910, 1931,    193.2,  -0.1909,  34.5082,2,-999.0000,9,    260.6,2,   -999.0,9,  -999.00,9,  -999.00,9,  -999.00,9,  -999.00,9,     -999,9,   -999.0,   9,   -999.0,   9,     -999,9,  -999.00,9,  -999.00,9,    0.708,2,  -0.1977,20040815,1743
  32H120040718,    49,  5,    503,      3,2,20040815,1743, 73.0420,-157.9910, 1931,    193.2,  -0.1910,  34.5080,2,-999.0000,9,    260.3,2,   -999.0,9,  -999.00,9,  -999.00,9,  -999.00,9,  -999.00,9,     -999,9,   -999.0,   9,   -999.0,   9,     -999,9,  -999.00,9,  -999.00,9,    0.646,2,  -0.1978,20040815,1743
  32H120040718,    49,  5,    501,      1,2,20040815,1743, 73.0420,-157.9910, 1931,    193.2,  -0.1910,  34.5081,2,-999.0000,9,    260.3,2,   -999.0,9,    15.09,2,    13.11,2,     0.03,2,     1.13,2,     0.07,2,   -999.0,   9,   -999.0,   9,     0.14,2,  -999.00,9,  -999.00,9,    0.694,2,  -0.1978,20040815,1743