BOTTLE,20220815CCHSIOAMB
EXPOCODE,STNNBR,CASTNO,SAMPNO,BTLNBR,BTLNBR_FLAG_W,DATE,TIME,LATITUDE,LONGITUDE,DEPTH,CTDPRS,CTDTMP,CTDSAL,CTDSAL_FLAG_W,SALNTY,SALNTY_FLAG_W,CTDOXY,CTDOXY_FLAG_W,OXYGEN,OXYGEN_FLAG_W,SILCAT,SILCAT_FLAG_W,NITRAT,NITRAT_FLAG_W,NITRIT,NITRIT_FLAG_W,PHSPHT,PHSPHT_FLAG_W,AMMONI,AMMONI_FLAG_W,TCARBN,TCARBN_FLAG_W,ALKALI,ALKALI_FLAG_W,UREA,UREA_FLAG_W,CHLORA,CHLORA_FLAG_W,PHAEO,PHAEO_FLAG_W,FLUORO,FLUORO_FLAG_W,THETA,BTL_DATE,BTL_TIME
,,,,,,,,,,METERS,DBAR,ITS-90,PSS-78,,PSS-78,,UMOL/KG,,UMOL/KG,,UMOL/KG,,UMOL/KG,,UMOL/KG,,UMOL/KG,,UMOL/KG,,UMOL/KG,,UMOL/KG,,UMOL/KG,,UG/L,,UG/L,,VOLTS,,DEG C,,
  32H120040718,    28,  1,    112,     12,2,20040730,1512, 71.5430,-152.4390,  140,      2.4,   5.4506,  27.9123,2,-999.0000,9,    331.2,2,    339.6,2,     7.32,2,     0.00,2,     0.00,2,     0.54,2,     0.07,2,   -999.0,   9,   -999.0,   9,     0.05,2,     0.75,2,     0.19,2,    1.588,2,   5.4504,20040730,1542
  32H120040718,    28,  1,    111,     11,2,20040730,1512, 71.5430,-152.4390,  140,      4.2,   5.9885,  29.1087,2,-999.0000,9,    324.2,2,    331.9,2,     8.07,2,    -0.01,2,     0.00,2,     0.57,2,     0.06,2,   -999.0,   9,   -999.0,   9,     0.05,2,     0.69,2,     0.16,2,    1.592,2,   5.9882,20040730,1540
  32H120040718,    28,  1,    110,     10,2,20040730,1512, 71.5430,-152.4390,  140,      6.4,   5.9378,  30.1654,2,-999.0000,9,    315.4,2,    323.9,2,     9.15,2,     0.04,2,     0.01,2,     0.66,2,     0.15,2,   -999.0,   9,   -999.0,   9,     0.08,2,     0.49,2,     0.27,2,    1.426,2,   5.9373,20040730,1537
  32H120040718,    28,  1,    108,      8,2,20040730,1512, 71.5430,-152.4390,  140,      9.5,   5.9147,  30.3882,2,-999.0000,9,    310.4,2,    316.4,2,     9.58,2,     0.08,2,     0.01,2,     0.72,2,     0.47,2,   -999.0,   9,   -999.0,   9,     0.12,2,     0.44,2,     0.39,2,    1.497,2,   5.9140,20040730,1535
  32H120040718,    28,  1,    109,      9,2,20040730,1512, 71.5430,-152.4390,  140,      9.5,   5.9405,  30.3949,2,-999.0000,9,    310.4,2,   -999.0,9,  -999.00,9,  -999.00,9,  -999.00,9,  -999.00,9,     -999,9,   -999.0,   9,   -999.0,   9,     -999,9,  -999.00,9,  -999.00,9,    1.478,2,   5.9398,20040730,1535
  32H120040718,    28,  1,    107,      7,2,20040730,1512, 71.5430,-152.4390,  140,     14.3,   5.8826,  30.6530,2,-999.0000,9,    317.4,2,    320.8,2,     8.68,2,     0.08,2,     0.01,2,     0.71,2,     0.43,2,   -999.0,   9,   -999.0,   9,     0.12,2,     0.64,2,     0.35,2,    1.518,2,   5.8815,20040730,1532
  32H120040718,    28,  1,    106,      6,2,20040730,1512, 71.5430,-152.4390,  140,     21.5,   5.5731,  30.8148,2,-999.0000,9,    316.9,2,    327.2,2,     8.11,2,     0.07,2,     0.01,2,     0.71,2,     0.37,2,   -999.0,   9,   -999.0,   9,      0.1,2,     0.64,2,     0.40,2,    1.439,2,   5.5715,20040730,1528
  32H120040718,    28,  1,    105,      5,2,20040730,1512, 71.5430,-152.4390,  140,     26.3,   3.9761,  30.7998,2,-999.0000,9,    363.6,2,   -999.0,9,  -999.00,9,  -999.00,9,  -999.00,9,  -999.00,9,     -999,9,   -999.0,   9,   -999.0,   9,     -999,9,  -999.00,9,  -999.00,9,    1.541,2,   3.9745,20040730,1525
  32H120040718,    28,  1,    104,      4,2,20040730,1512, 71.5430,-152.4390,  140,     60.9,   2.8307,  31.4955,2,-999.0000,9,    342.1,2,   -999.0,9,     8.20,2,     0.43,2,     0.06,2,     0.79,2,     0.67,2,   -999.0,   9,   -999.0,   9,     0.13,2,  -999.00,9,  -999.00,9,    1.215,2,   2.8274,20040730,1521
  32H120040718,    28,  1,    103,      3,2,20040730,1512, 71.5430,-152.4390,  140,     91.3,   1.2172,  31.7520,2,-999.0000,9,    351.7,2,   -999.0,9,     9.62,2,     1.15,2,     0.10,2,     0.91,2,     0.84,2,   -999.0,   9,   -999.0,   9,     0.13,2,  -999.00,9,  -999.00,9,    1.240,2,   1.2135,20040730,1518
  32H120040718,    28,  1,    102,      2,2,20040730,1512, 71.5430,-152.4390,  140,    137.4,  -1.4422,  32.6604,2,-999.0000,9,    328.8,2,    342.5,2,    27.11,2,     9.73,2,     0.13,2,     1.59,2,     1.17,2,   -999.0,   9,   -999.0,   9,     0.14,2,  -999.00,9,  -999.00,9,    0.996,2,  -1.4450,20040730,1512
  32H120040718,    28,  1,    101,      1,2,20040730,1512, 71.5430,-152.4390,  140,    137.5,  -1.4381,  32.6600,2,-999.0000,9,    329.5,2,   -999.0,9,  -999.00,9,  -999.00,9,  -999.00,9,  -999.00,9,     -999,9,   -999.0,   9,   -999.0,   9,     -999,9,  -999.00,9,  -999.00,9,    1.014,2,  -1.4409,20040730,1512
  32H120040718,    28,  2,    211,     11,2,20040730,1657, 71.5430,-152.4390,  140,     26.0,   4.0460,  30.7522,2,-999.0000,9,    363.4,2,   -999.0,9,  -999.00,9,  -999.00,9,  -999.00,9,  -999.00,9,     -999,9,   -999.0,   9,   -999.0,   9,     -999,9,  -999.00,9,  -999.00,9,    1.529,2,   4.0444,20040730,1659
  32H120040718,    28,  2,    212,     12,2,20040730,1657, 71.5430,-152.4390,  140,     26.0,   4.0704,  30.7585,2,-999.0000,9,    363.7,2,   -999.0,9,     7.72,2,     0.16,2,     0.03,2,     0.71,2,     0.38,2,   -999.0,   9,   -999.0,   9,     0.11,2,  -999.00,9,  -999.00,9,    1.501,2,   4.0688,20040730,1659
  32H120040718,    28,  2,    209,      9,2,20040730,1657, 71.5430,-152.4390,  140,     26.0,   4.0749,  30.7651,2,-999.0000,9,    362.9,2,   -999.0,9,  -999.00,9,  -999.00,9,  -999.00,9,  -999.00,9,     -999,9,   -999.0,   9,   -999.0,   9,     -999,9,  -999.00,9,  -999.00,9,    1.574,2,   4.0733,20040730,1659
  32H120040718,    28,  2,    210,     10,2,20040730,1657, 71.5430,-152.4390,  140,     26.0,   4.0870,  30.7681,2,-999.0000,9,    362.8,2,   -999.0,9,  -999.00,9,  -999.00,9,  -999.00,9,  -999.00,9,     -999,9,   -999.0,   9,   -999.0,   9,     -999,9,  -999.00,9,  -999.00,9,    1.534,2,   4.0854,20040730,1659
  32H120040718,    28,  2,    208,      8,2,20040730,1657, 71.5430,-152.4390,  140,     26.0,   4.1291,  30.7781,2,-999.0000,9,    360.8,2,   -999.0,9,  -999.00,9,  -999.00,9,  -999.00,9,  -999.00,9,     -999,9,   -999.0,   9,   -999.0,   9,     -999,9,  -999.00,9,  -999.00,9,    1.567,2,   4.1275,20040730,1658
  32H120040718,    28,  2,    207,      7,2,20040730,1657, 71.5430,-152.4390,  140,     26.0,   4.1476,  30.7868,2,-999.0000,9,    359.4,2,   -999.0,9,  -999.00,9,  -999.00,9,  -999.00,9,  -999.00,9,     -999,9,   -999.0,   9,   -999.0,   9,     -999,9,  -999.00,9,  -999.00,9,    1.487,2,   4.1460,20040730,1658
  32H120040718,    28,  2,    206,      6,2,20040730,1657, 71.5430,-152.4390,  140,     26.0,   4.1491,  30.8019,2,-999.0000,9,    358.4,2,   -999.0,9,  -999.00,9,  -999.00,9,  -999.00,9,  -999.00,9,     -999,9,   -999.0,   9,   -999.0,   9,     -999,9,  -999.00,9,  -999.00,9,    1.515,2,   4.1475,20040730,1658
  32H120040718,    28,  2,    205,      5,2,20040730,1657, 71.5430,-152.4390,  140,     26.0,   4.1804,  30.8218,2,-999.0000,9,    357.5,2,   -999.0,9,  -999.00,9,  -999.00,9,  -999.00,9,  -999.00,9,     -999,9,   -999.0,   9,   -999.0,   9,     -999,9,  -999.00,9,  -999.00,9,    1.456,2,   4.1788,20040730,1658
  32H120040718,    28,  2,    204,      4,2,20040730,1657, 71.5430,-152.4390,  140,     26.0,   4.1913,  30.8263,2,-999.0000,9,    356.2,2,   -999.0,9,  -999.00,9,  -999.00,9,  -999.00,9,  -999.00,9,     -999,9,   -999.0,   9,   -999.0,   9,     -999,9,  -999.00,9,  -999.00,9,    1.447,2,   4.1897,20040730,1657
  32H120040718,    28,  2,    202,      2,2,20040730,1657, 71.5430,-152.4390,  140,     26.0,   4.2046,  30.8673,2,-999.0000,9,    355.3,2,   -999.0,9,  -999.00,9,  -999.00,9,  -999.00,9,  -999.00,9,     -999,9,   -999.0,   9,   -999.0,   9,     -999,9,  -999.00,9,  -999.00,9,    1.446,2,   4.2029,20040730,1657
  32H120040718,    28,  2,    201,      1,2,20040730,1657, 71.5430,-152.4390,  140,     26.0,   4.2088,  30.8260,2,-999.0000,9,    354.6,2,   -999.0,9,     7.81,2,     0.15,2,     0.03,2,     0.71,2,     0.47,2,   -999.0,   9,   -999.0,   9,     0.12,2,  -999.00,9,  -999.00,9,    1.414,2,   4.2071,20040730,1657
  32H120040718,    28,  2,    203,      3,2,20040730,1657, 71.5430,-152.4390,  140,     26.0,   4.2301,  30.8737,2,-999.0000,9,    351.5,2,   -999.0,9,  -999.00,9,  -999.00,9,  -999.00,9,  -999.00,9,     -999,9,   -999.0,   9,   -999.0,   9,     -999,9,  -999.00,9,  -999.00,9,    1.454,2,   4.2284,20040730,1657
  32H120040718,    29,  1,    112,     12,2,20040730,2024, 71.5760,-152.4630,  158,      2.9,   7.0388,  30.0310,2,  29.9827,2,    324.5,2,    327.5,2,     9.78,2,     0.07,2,     0.00,2,     0.65,2,     0.19,2,   1955.9,   2,   2112.7,   2,     0.07,2,     0.56,2,     0.32,2,    1.560,2,   7.0386,20040730,2055
  32H120040718,    29,  1,    111,     11,2,20040730,2024, 71.5760,-152.4630,  158,      4.6,   7.3274,  30.3599,2,  30.3384,2,    303.9,2,    308.8,2,    10.30,2,     0.06,2,     0.01,2,     0.70,2,     0.25,2,   1995.5,   2,   2147.9,   2,     0.09,2,     0.63,2,     0.30,2,    1.627,2,   7.3270,20040730,2053
  32H120040718,    29,  1,    110,     10,2,20040730,2024, 71.5760,-152.4630,  158,      9.6,   6.2141,  30.6267,2,-999.0000,9,    320.4,2,    322.3,2,     8.84,2,     0.05,2,     0.01,2,     0.71,2,     0.46,2,   1995.8,   2,   2152.3,   2,     0.11,2,     0.58,2,     0.33,2,    1.514,2,   6.2133,20040730,2051
  32H120040718,    29,  1,    109,      9,2,20040730,2024, 71.5760,-152.4630,  158,     14.6,   5.8503,  30.8204,2,-999.0000,9,    309.8,2,    314.5,2,     8.92,2,     0.09,2,     0.02,2,     0.76,2,     0.84,2,   2012.7,   2,   2165.2,   2,     0.15,2,     0.31,2,     0.30,2,    1.350,2,   5.8492,20040730,2049
  32H120040718,    29,  1,    108,      8,2,20040730,2024, 71.5760,-152.4630,  158,     19.5,   5.4191,  30.8922,2,-999.0000,9,    307.2,2,    311.5,2,     9.56,2,     0.13,2,     0.03,2,     0.83,2,     1.18,2,   2019.4,   2,   2164.4,   2,     0.18,2,     0.26,2,     0.21,2,    1.185,2,   5.4177,20040730,2047
  32H120040718,    29,  1,    107,      7,2,20040730,2024, 71.5760,-152.4630,  158,     29.6,   4.4738,  31.1694,2,-999.0000,9,    325.0,2,    328.2,2,     7.98,2,     0.17,2,     0.04,2,     0.77,2,     0.84,2,   2020.6,   2,   2179.6,   2,     0.15,2,     0.21,2,     0.24,2,    1.199,2,   4.4718,20040730,2044
  32H120040718,    29,  1,    106,      6,2,20040730,2024, 71.5760,-152.4630,  158,     39.7,   3.6191,  31.3006,2,-999.0000,9,    333.1,2,    337.7,2,     7.73,2,     0.24,2,     0.05,2,     0.79,2,     0.83,2,   2027.1,   2,   2193.4,   2,     0.15,2,     0.25,2,     0.29,2,    1.213,2,   3.6167,20040730,2042
  32H120040718,    29,  1,    105,      5,2,20040730,2024, 71.5760,-152.4630,  158,     49.9,   3.1503,  31.4564,2,-999.0000,9,    338.8,2,    343.9,2,     7.92,2,     0.33,2,     0.06,2,     0.78,2,     0.72,2,   2023.9,   2,   1274.7,   2,     0.14,2,     0.24,2,     0.29,2,    1.228,2,   3.1475,20040730,2039
  32H120040718,    29,  1,    104,      4,3,20040730,2024, 71.5760,-152.4630,  158,     75.3,   1.8249,  31.5485,2,-999.0000,9,    344.5,2,   -999.0,9,  -999.00,9,  -999.00,9,  -999.00,9,  -999.00,9,     -999,9,   2023.9,   2,   -999.0,   9,     -999,9,  -999.00,9,  -999.00,9,    1.142,2,   1.8215,20040730,2035
  32H120040718,    29,  1,    103,      3,2,20040730,2024, 71.5760,-152.4630,  158,    100.3,   1.1525,  31.7645,2,-999.0000,9,    352.5,2,    358.1,2,     9.54,2,     1.21,2,     0.11,2,     0.93,2,     0.96,2,   2034.5,   2,   2200.1,   2,     0.15,2,     0.22,2,     0.43,2,    1.260,2,   1.1484,20040730,2032
  32H120040718,    29,  1,    102,      2,2,20040730,2024, 71.5760,-152.4630,  158,    125.5,  -0.9101,  32.1668,2,  32.1640,2,    352.8,2,    361.0,2,    18.31,2,     5.62,2,     0.16,2,     1.34,2,     1.24,2,   2090.9,   2,   2223.5,   2,     0.14,2,  -999.00,9,  -999.00,9,    1.271,2,  -0.9131,20040730,2028
  32H120040718,    29,  1,    101,      1,2,20040730,2024, 71.5760,-152.4630,  158,    152.4,  -1.5710,  33.0097,2,  32.9868,2,    310.2,2,    318.4,2,    36.98,2,    11.16,2,     0.15,2,     1.89,2,     1.73,2,   2182.9,   2,   2271.6,   2,     0.15,2,     0.45,2,     0.51,2,    1.314,2,  -1.5740,20040730,2024
  32H120040718,    29,  2,    211,     11,2,20040730,2218, 71.5760,-152.4630,  158,     96.2,   1.2067,  31.7553,2,-999.0000,9,    351.6,2,   -999.0,9,  -999.00,9,  -999.00,9,  -999.00,9,  -999.00,9,     -999,9,   -999.0,   9,   -999.0,   9,     -999,9,  -999.00,9,  -999.00,9,    1.255,2,   1.2028,20040730,2224
  32H120040718,    29,  2,    212,     12,2,20040730,2218, 71.5760,-152.4630,  158,     96.2,   1.2076,  31.7551,2,-999.0000,9,    351.6,2,   -999.0,9,  -999.00,9,  -999.00,9,  -999.00,9,  -999.00,9,     -999,9,   -999.0,   9,   -999.0,   9,     -999,9,  -999.00,9,  -999.00,9,    1.264,2,   1.2037,20040730,2224
  32H120040718,    29,  2,    208,      8,2,20040730,2218, 71.5760,-152.4630,  158,     96.3,   1.2029,  31.7559,2,-999.0000,9,    351.5,2,   -999.0,9,  -999.00,9,  -999.00,9,  -999.00,9,  -999.00,9,     -999,9,   -999.0,   9,   -999.0,   9,     -999,9,  -999.00,9,  -999.00,9,    1.255,2,   1.1990,20040730,2223
  32H120040718,    29,  2,    209,      9,2,20040730,2218, 71.5760,-152.4630,  158,     96.3,   1.2041,  31.7556,2,-999.0000,9,    351.7,2,   -999.0,9,  -999.00,9,  -999.00,9,  -999.00,9,  -999.00,9,     -999,9,   -999.0,   9,   -999.0,   9,     -999,9,  -999.00,9,  -999.00,9,    1.255,2,   1.2002,20040730,2223
  32H120040718,    29,  2,    207,      7,2,20040730,2218, 71.5760,-152.4630,  158,     96.3,   1.2042,  31.7557,2,-999.0000,9,    351.6,2,   -999.0,9,     9.68,2,     1.24,2,     0.12,2,     0.93,2,     0.98,2,   -999.0,   9,   -999.0,   9,     0.15,2,  -999.00,9,  -999.00,9,    1.241,2,   1.2003,20040730,2223
  32H120040718,    29,  2,    210,     10,2,20040730,2218, 71.5760,-152.4630,  158,     96.3,   1.2044,  31.7556,2,-999.0000,9,    351.6,2,   -999.0,9,  -999.00,9,  -999.00,9,  -999.00,9,  -999.00,9,     -999,9,   -999.0,   9,   -999.0,   9,     -999,9,  -999.00,9,  -999.00,9,    1.248,2,   1.2005,20040730,2223
  32H120040718,    29,  2,    201,      1,2,20040730,2218, 71.5760,-152.4630,  158,    141.5,  -1.3712,  32.5672,2,-999.0000,9,    350.5,2,   -999.0,9,    22.41,2,     7.72,2,     0.14,2,     1.49,2,     1.47,2,   -999.0,   9,   -999.0,   9,     0.22,2,  -999.00,9,  -999.00,9,    1.149,2,  -1.3741,20040730,2217
  32H120040718,    29,  2,    202,      2,2,20040730,2218, 71.5760,-152.4630,  158,    141.6,  -1.3768,  32.5678,2,-999.0000,9,    350.4,2,   -999.0,9,  -999.00,9,  -999.00,9,  -999.00,9,  -999.00,9,     -999,9,   -999.0,   9,   -999.0,   9,     -999,9,  -999.00,9,  -999.00,9,    1.222,2,  -1.3797,20040730,2217
  32H120040718,    29,  2,    203,      3,2,20040730,2218, 71.5760,-152.4630,  158,    141.6,  -1.3901,  32.5708,2,-999.0000,9,    350.0,2,   -999.0,9,  -999.00,9,  -999.00,9,  -999.00,9,  -999.00,9,     -999,9,   -999.0,   9,   -999.0,   9,     -999,9,  -999.00,9,  -999.00,9,    1.179,2,  -1.3930,20040730,2217
  32H120040718,    29,  2,    204,      4,2,20040730,2218, 71.5760,-152.4630,  158,    141.6,  -1.3961,  32.5711,2,-999.0000,9,    350.2,2,   -999.0,9,  -999.00,9,  -999.00,9,  -999.00,9,  -999.00,9,     -999,9,   -999.0,   9,   -999.0,   9,     -999,9,  -999.00,9,  -999.00,9,    1.146,2,  -1.3990,20040730,2217
  32H120040718,    29,  2,    205,      5,2,20040730,2218, 71.5760,-152.4630,  158,    141.6,  -1.4007,  32.5716,2,-999.0000,9,    350.0,2,   -999.0,9,  -999.00,9,  -999.00,9,  -999.00,9,  -999.00,9,     -999,9,   -999.0,   9,   -999.0,   9,     -999,9,  -999.00,9,  -999.00,9,    1.132,2,  -1.4036,20040730,2218
  32H120040718,    29,  2,    206,      6,2,20040730,2218, 71.5760,-152.4630,  158,    141.6,  -1.4109,  32.5731,2,-999.0000,9,    350.4,2,   -999.0,9,  -999.00,9,  -999.00,9,  -999.00,9,  -999.00,9,     -999,9,   -999.0,   9,   -999.0,   9,     -999,9,  -999.00,9,  -999.00,9,    1.113,2,  -1.4138,20040730,2218
  32H120040718,    30,  1,    112,     12,3,20040801, 717, 72.6050,-151.8670, 3843,    177.5,  -1.3869,  33.3856,2,-999.0000,9,    268.1,2,   -999.0,9,  -999.00,9,  -999.00,9,  -999.00,9,  -999.00,9,     -999,9,   -999.0,   9,   -999.0,   9,     -999,9,  -999.00,9,  -999.00,9,    0.705,2,  -1.3909,20040801, 840
  32H120040718,    30,  1,    111,     11,2,20040801, 717, 72.6050,-151.8670, 3843,    203.5,  -1.1033,  33.9499,2,  33.9267,2,    268.2,2,    275.1,2,    26.35,2,    14.60,2,     0.00,2,     1.49,2,     0.07,2,   2195.7,   2,   2298.2,   2,     0.05,2,  -999.00,9,  -999.00,9,    0.690,2,  -1.1086,20040801, 836
  32H120040718,    30,  1,    110,     10,3,20040801, 717, 72.6050,-151.8670, 3843,    255.1,  -0.1774,  34.5315,2,  34.2585,0,    269.9,2,   -999.0,9,    14.86,4,    13.12,4,     0.00,4,     1.12,4,     0.07,4,   -999.0,   9,   -999.0,   9,     0.05,4,  -999.00,9,  -999.00,9,    0.650,2,  -0.1865,20040801, 830
  32H120040718,    30,  1,    109,      9,2,20040801, 717, 72.6050,-151.8670, 3843,    308.7,   0.4286,  34.7159,2,  34.7758,0,    275.7,2,    286.5,0,     8.15,3,    13.06,3,     0.00,3,     0.92,3,     0.05,3,   2142.3,   2,   2302.8,   2,     0.05,3,  -999.00,9,  -999.00,9,    0.638,2,   0.4157,20040801, 823
  32H120040718,    30,  1,    108,      8,3,20040801, 717, 72.6050,-151.8670, 3843,    364.1,   0.7302,  34.8014,2,-999.0000,9,    283.4,2,   -999.0,9,    11.06,4,    12.86,4,     0.00,4,     1.02,4,     0.05,4,   -999.0,   9,   -999.0,   9,     0.05,4,  -999.00,9,  -999.00,9,    0.610,2,   0.7139,20040801, 816
  32H120040718,    30,  1,    107,      7,2,20040801, 717, 72.6050,-151.8670, 3843,    412.1,   0.7416,  34.8270,2,  34.8263,2,    287.3,2,    292.5,2,     6.72,2,    12.95,2,     0.00,2,     0.88,2,     0.05,2,   2133.5,   2,   2331.5,   2,     0.05,2,  -999.00,9,  -999.00,9,    0.664,2,   0.7229,20040801, 812
  32H120040718,    30,  1,    106,      6,2,20040801, 717, 72.6050,-151.8670, 3843,    510.9,   0.5791,  34.8442,2,  34.8436,2,    287.2,2,    293.6,2,     7.23,2,    12.89,2,     0.00,2,     0.89,2,     0.05,2,   2143.4,   2,   2303.8,   2,     0.05,2,  -999.00,9,  -999.00,9,    0.610,2,   0.5561,20040801, 806
  32H120040718,    30,  1,    105,      5,2,20040801, 717, 72.6050,-151.8670, 3843,    612.4,   0.4400,  34.8561,2,  34.8553,2,    289.5,2,    295.8,2,     6.78,2,    12.89,2,     0.00,2,     0.89,2,     0.05,2,   -999.0,   9,   -999.0,   9,     0.05,2,  -999.00,9,  -999.00,9,    0.616,2,   0.4126,20040801, 758
  32H120040718,    30,  1,    104,      4,2,20040801, 717, 72.6050,-151.8670, 3843,    813.3,   0.1721,  34.8689,2,  34.8686,2,    291.7,2,    298.8,2,     6.55,2,    12.78,2,     0.00,2,     0.89,2,     0.05,2,   2142.4,   2,   2304.4,   2,     0.04,2,  -999.00,9,  -999.00,9,    0.584,2,   0.1360,20040801, 750
  32H120040718,    30,  1,    103,      3,3,20040801, 717, 72.6050,-151.8670, 3843,   1016.4,  -0.0320,  34.8838,2,-999.0000,9,    291.4,2,   -999.0,9,  -999.00,9,  -999.00,9,  -999.00,9,  -999.00,9,     -999,9,   -999.0,   9,   -999.0,   9,     -999,9,  -999.00,9,  -999.00,9,    0.599,2,  -0.0772,20040801, 738
  32H120040718,    30,  1,    102,      2,2,20040801, 717, 72.6050,-151.8670, 3843,   1266.5,  -0.2044,  34.9009,2,  34.9003,2,    290.7,2,    300.3,2,     7.29,2,    13.25,2,     0.00,2,     0.93,2,     0.04,2,   -999.0,   9,   -999.0,   9,     0.04,2,  -999.00,9,  -999.00,9,    0.555,2,  -0.2618,20040801, 728
  32H120040718,    30,  1,    101,      1,2,20040801, 717, 72.6050,-151.8670, 3843,   1515.7,  -0.3244,  34.9172,2,  34.9169,2,    289.2,2,    297.9,2,     8.15,2,    13.62,2,     0.00,2,     0.96,2,     0.04,2,   2131.2,   2,   2308.0,   2,     0.04,2,  -999.00,9,  -999.00,9,    0.538,2,  -0.3950,20040801, 717