BOTTLE,20220815CCHSIOAMB
EXPOCODE,STNNBR,CASTNO,SAMPNO,BTLNBR,BTLNBR_FLAG_W,DATE,TIME,LATITUDE,LONGITUDE,DEPTH,CTDPRS,CTDTMP,CTDSAL,CTDSAL_FLAG_W,SALNTY,SALNTY_FLAG_W,CTDOXY,CTDOXY_FLAG_W,OXYGEN,OXYGEN_FLAG_W,SILCAT,SILCAT_FLAG_W,NITRAT,NITRAT_FLAG_W,NITRIT,NITRIT_FLAG_W,PHSPHT,PHSPHT_FLAG_W,AMMONI,AMMONI_FLAG_W,TCARBN,TCARBN_FLAG_W,ALKALI,ALKALI_FLAG_W,UREA,UREA_FLAG_W,CHLORA,CHLORA_FLAG_W,PHAEO,PHAEO_FLAG_W,FLUORO,FLUORO_FLAG_W,THETA,BTL_DATE,BTL_TIME
,,,,,,,,,,METERS,DBAR,ITS-90,PSS-78,,PSS-78,,UMOL/KG,,UMOL/KG,,UMOL/KG,,UMOL/KG,,UMOL/KG,,UMOL/KG,,UMOL/KG,,UMOL/KG,,UMOL/KG,,UMOL/KG,,UG/L,,UG/L,,VOLTS,,DEG C,,
  32H120040718,    31,  4,    407,      7,2,20040802,1844, 72.4130,-151.9020, 3428,    107.3,  -1.5022,  32.6244,2,-999.0000,9,    294.7,2,   -999.0,9,  -999.00,9,  -999.00,9,  -999.00,9,  -999.00,9,     -999,9,   -999.0,   9,   -999.0,   9,     -999,9,  -999.00,9,  -999.00,9,    0.740,2,  -1.5043,20040802,1853
  32H120040718,    31,  4,    408,      8,2,20040802,1844, 72.4130,-151.9020, 3428,    107.3,  -1.5022,  32.6251,2,-999.0000,9,    293.2,2,   -999.0,9,  -999.00,9,  -999.00,9,  -999.00,9,  -999.00,9,     -999,9,   -999.0,   9,   -999.0,   9,     -999,9,  -999.00,9,  -999.00,9,    0.760,2,  -1.5043,20040802,1853
  32H120040718,    31,  4,    409,      9,2,20040802,1844, 72.4130,-151.9020, 3428,    107.3,  -1.5049,  32.6265,2,-999.0000,9,    295.5,2,   -999.0,9,  -999.00,9,  -999.00,9,  -999.00,9,  -999.00,9,     -999,9,   -999.0,   9,   -999.0,   9,     -999,9,  -999.00,9,  -999.00,9,    0.735,2,  -1.5070,20040802,1854
  32H120040718,    31,  4,    410,     10,2,20040802,1844, 72.4130,-151.9020, 3428,    107.3,  -1.5068,  32.6273,2,-999.0000,9,    295.5,2,   -999.0,9,  -999.00,9,  -999.00,9,  -999.00,9,  -999.00,9,     -999,9,   -999.0,   9,   -999.0,   9,     -999,9,  -999.00,9,  -999.00,9,    0.747,2,  -1.5089,20040802,1854
  32H120040718,    31,  4,    411,     11,2,20040802,1844, 72.4130,-151.9020, 3428,    107.3,  -1.5088,  32.6291,2,-999.0000,9,    296.8,2,   -999.0,9,  -999.00,9,  -999.00,9,  -999.00,9,  -999.00,9,     -999,9,   -999.0,   9,   -999.0,   9,     -999,9,  -999.00,9,  -999.00,9,    0.701,2,  -1.5109,20040802,1854
  32H120040718,    31,  4,    412,     12,2,20040802,1844, 72.4130,-151.9020, 3428,    107.3,  -1.5097,  32.6312,2,-999.0000,9,    296.7,2,   -999.0,9,    25.85,2,    12.17,2,     0.00,2,     1.63,2,     0.14,2,   -999.0,   9,   -999.0,   9,     0.06,2,  -999.00,9,  -999.00,9,    0.725,2,  -1.5118,20040802,1854
  32H120040718,    31,  4,    403,      3,2,20040802,1844, 72.4130,-151.9020, 3428,    167.8,  -1.4208,  33.2601,2,-999.0000,9,    291.1,2,   -999.0,9,  -999.00,9,  -999.00,9,  -999.00,9,  -999.00,9,     -999,9,   -999.0,   9,   -999.0,   9,     -999,9,  -999.00,9,  -999.00,9,    0.746,2,  -1.4245,20040802,1845
  32H120040718,    31,  4,    402,      2,2,20040802,1844, 72.4130,-151.9020, 3428,    167.8,  -1.4209,  33.2598,2,-999.0000,9,    291.4,2,   -999.0,9,  -999.00,9,  -999.00,9,  -999.00,9,  -999.00,9,     -999,9,   -999.0,   9,   -999.0,   9,     -999,9,  -999.00,9,  -999.00,9,    0.761,2,  -1.4246,20040802,1845
  32H120040718,    31,  4,    404,      4,2,20040802,1844, 72.4130,-151.9020, 3428,    167.8,  -1.4216,  33.2586,2,-999.0000,9,    290.7,2,   -999.0,9,  -999.00,9,  -999.00,9,  -999.00,9,  -999.00,9,     -999,9,   -999.0,   9,   -999.0,   9,     -999,9,  -999.00,9,  -999.00,9,    0.748,2,  -1.4253,20040802,1845
  32H120040718,    31,  4,    405,      5,2,20040802,1844, 72.4130,-151.9020, 3428,    167.8,  -1.4217,  33.2583,2,-999.0000,9,    290.5,2,   -999.0,9,  -999.00,9,  -999.00,9,  -999.00,9,  -999.00,9,     -999,9,   -999.0,   9,   -999.0,   9,     -999,9,  -999.00,9,  -999.00,9,    0.748,2,  -1.4254,20040802,1845
  32H120040718,    31,  4,    406,      6,2,20040802,1844, 72.4130,-151.9020, 3428,    167.8,  -1.4218,  33.2582,2,-999.0000,9,    290.4,2,   -999.0,9,  -999.00,9,  -999.00,9,  -999.00,9,  -999.00,9,     -999,9,   -999.0,   9,   -999.0,   9,     -999,9,  -999.00,9,  -999.00,9,    0.769,2,  -1.4255,20040802,1845
  32H120040718,    31,  4,    401,      1,2,20040802,1844, 72.4130,-151.9020, 3428,    167.9,  -1.4203,  33.2610,2,-999.0000,9,    291.6,2,   -999.0,9,    28.55,2,    12.42,2,     0.08,2,     1.63,2,     0.33,2,   -999.0,   9,   -999.0,   9,     0.05,2,  -999.00,9,  -999.00,9,    0.734,2,  -1.4240,20040802,1844
  32H120040718,    31,  5,    510,     10,2,20040802,2000, 72.4130,-151.9020, 3428,     50.3,  -0.6192,  31.3240,2,-999.0000,9,    378.3,2,   -999.0,9,  -999.00,9,  -999.00,9,  -999.00,9,  -999.00,9,     -999,9,   -999.0,   9,   -999.0,   9,     -999,9,  -999.00,9,  -999.00,9,    1.622,2,  -0.6204,20040802,2005
  32H120040718,    31,  5,    512,     12,2,20040802,2000, 72.4130,-151.9020, 3428,     50.3,  -0.6193,  31.3246,2,-999.0000,9,    377.9,2,   -999.0,9,  -999.00,9,  -999.00,9,  -999.00,9,  -999.00,9,     -999,9,   -999.0,   9,   -999.0,   9,     -999,9,  -999.00,9,  -999.00,9,    1.622,2,  -0.6205,20040802,2006
  32H120040718,    31,  5,    511,     11,2,20040802,2000, 72.4130,-151.9020, 3428,     50.3,  -0.6194,  31.3247,2,-999.0000,9,    378.1,2,   -999.0,9,     6.42,2,     0.21,2,     0.07,2,     0.85,2,     0.18,2,   -999.0,   9,   -999.0,   9,     0.07,2,  -999.00,9,  -999.00,9,    1.615,2,  -0.6206,20040802,2005
  32H120040718,    31,  5,    509,      9,2,20040802,2000, 72.4130,-151.9020, 3428,     50.3,  -0.6196,  31.3263,2,-999.0000,9,    378.0,2,   -999.0,9,  -999.00,9,  -999.00,9,  -999.00,9,  -999.00,9,     -999,9,   -999.0,   9,   -999.0,   9,     -999,9,  -999.00,9,  -999.00,9,    1.625,2,  -0.6208,20040802,2005
  32H120040718,    31,  5,    508,      8,2,20040802,2000, 72.4130,-151.9020, 3428,     50.3,  -0.6203,  31.3280,2,-999.0000,9,    378.0,2,   -999.0,9,  -999.00,9,  -999.00,9,  -999.00,9,  -999.00,9,     -999,9,   -999.0,   9,   -999.0,   9,     -999,9,  -999.00,9,  -999.00,9,    1.634,2,  -0.6215,20040802,2005
  32H120040718,    31,  5,    507,      7,2,20040802,2000, 72.4130,-151.9020, 3428,     50.3,  -0.6215,  31.3280,2,-999.0000,9,    377.8,2,   -999.0,9,  -999.00,9,  -999.00,9,  -999.00,9,  -999.00,9,     -999,9,   -999.0,   9,   -999.0,   9,     -999,9,  -999.00,9,  -999.00,9,    1.641,2,  -0.6227,20040802,2004
  32H120040718,    31,  5,    501,      1,2,20040802,2000, 72.4130,-151.9020, 3428,     79.9,  -1.3033,  32.2988,2,-999.0000,9,    303.4,2,   -999.0,9,  -999.00,9,  -999.00,9,  -999.00,9,  -999.00,9,     -999,9,   -999.0,   9,   -999.0,   9,     -999,9,  -999.00,9,  -999.00,9,    1.032,2,  -1.3049,20040802,1958
  32H120040718,    31,  5,    502,      2,2,20040802,2000, 72.4130,-151.9020, 3428,     79.9,  -1.3034,  32.2988,2,-999.0000,9,    303.4,2,   -999.0,9,    21.03,2,    10.34,2,     0.02,2,     1.56,2,     0.16,2,   -999.0,   9,   -999.0,   9,     0.33,2,  -999.00,9,  -999.00,9,    1.019,2,  -1.3050,20040802,1959
  32H120040718,    31,  5,    503,      3,2,20040802,2000, 72.4130,-151.9020, 3428,     79.9,  -1.3036,  32.2989,2,-999.0000,9,    303.3,2,   -999.0,9,  -999.00,9,  -999.00,9,  -999.00,9,  -999.00,9,     -999,9,   -999.0,   9,   -999.0,   9,     -999,9,  -999.00,9,  -999.00,9,    1.026,2,  -1.3052,20040802,1959
  32H120040718,    31,  5,    504,      4,2,20040802,2000, 72.4130,-151.9020, 3428,     79.9,  -1.3046,  32.2998,2,-999.0000,9,    303.3,2,   -999.0,9,  -999.00,9,  -999.00,9,  -999.00,9,  -999.00,9,     -999,9,   -999.0,   9,   -999.0,   9,     -999,9,  -999.00,9,  -999.00,9,    1.005,2,  -1.3062,20040802,1959
  32H120040718,    31,  5,    505,      5,2,20040802,2000, 72.4130,-151.9020, 3428,     79.9,  -1.3051,  32.3006,2,-999.0000,9,    303.2,2,   -999.0,9,  -999.00,9,  -999.00,9,  -999.00,9,  -999.00,9,     -999,9,   -999.0,   9,   -999.0,   9,     -999,9,  -999.00,9,  -999.00,9,    1.007,2,  -1.3067,20040802,1959
  32H120040718,    31,  5,    506,      6,2,20040802,2000, 72.4130,-151.9020, 3428,     79.9,  -1.3059,  32.3017,2,-999.0000,9,    303.4,2,   -999.0,9,  -999.00,9,  -999.00,9,  -999.00,9,  -999.00,9,     -999,9,   -999.0,   9,   -999.0,   9,     -999,9,  -999.00,9,  -999.00,9,    0.992,2,  -1.3075,20040802,2000
  32H120040718,    32,  1,    112,     12,2,20040803,1235, 71.9700,-152.1610, 2145,    178.6,  -0.0241,  34.5819,2,  34.5789,2,    269.9,2,    277.6,2,    14.30,2,    13.33,2,     0.07,2,     1.09,2,     0.11,2,   -999.0,   9,   -999.0,   9,      0.1,2,  -999.00,9,  -999.00,9,    0.848,2,  -0.0306,20040803,1411
  32H120040718,    32,  1,    111,     11,2,20040803,1235, 71.9700,-152.1610, 2145,    204.8,   0.3576,  34.7144,2,-999.0000,9,    274.5,2,    281.2,2,    11.33,2,    13.19,2,     0.15,2,     1.02,2,      0.1,2,   2172.2,   2,   2303.0,   2,     0.09,2,  -999.00,9,  -999.00,9,    0.774,2,   0.3494,20040803,1406
  32H120040718,    32,  1,    110,     10,2,20040803,1235, 71.9700,-152.1610, 2145,    255.0,   0.5759,  34.7982,2,-999.0000,9,    279.5,2,    286.2,2,     9.02,2,    12.95,2,     0.08,2,     0.95,2,     0.08,2,   -999.0,   9,   -999.0,   9,     0.09,2,  -999.00,9,  -999.00,9,    0.804,2,   0.5650,20040803,1401
  32H120040718,    32,  1,    109,      9,2,20040803,1235, 71.9700,-152.1610, 2145,    306.0,   0.5915,  34.8198,2,-999.0000,9,    282.4,2,    289.4,2,     8.24,2,    12.76,2,     0.03,2,     0.92,2,     0.07,2,   2150.8,   2,   2300.9,   2,     0.09,2,  -999.00,9,  -999.00,9,    0.679,2,   0.5783,20040803,1356
  32H120040718,    32,  1,    108,      8,2,20040803,1235, 71.9700,-152.1610, 2145,    406.1,   0.5663,  34.8405,2,-999.0000,9,    285.1,2,    292.5,2,     7.57,2,    12.81,2,     0.02,2,     0.89,2,     0.07,2,   2151.5,   2,   2310.7,   2,     0.08,2,  -999.00,9,  -999.00,9,    0.672,2,   0.5485,20040803,1349
  32H120040718,    32,  1,    107,      7,2,20040803,1235, 71.9700,-152.1610, 2145,    506.4,   0.4492,  34.8527,2,-999.0000,9,    285.9,2,    293.4,2,     7.68,2,    12.79,2,     0.04,2,     0.90,2,     0.07,2,   2154.9,   2,   2302.6,   2,     0.08,2,  -999.00,9,  -999.00,9,    0.675,2,   0.4270,20040803,1341
  32H120040718,    32,  1,    106,      6,2,20040803,1235, 71.9700,-152.1610, 2145,    708.3,   0.2384,  34.8661,2,-999.0000,9,    287.4,2,    296.4,2,     7.45,2,    12.73,2,     0.04,2,     0.91,2,     0.07,2,   -999.0,   9,   -999.0,   9,     0.09,2,  -999.00,9,  -999.00,9,    0.760,2,   0.2073,20040803,1332
  32H120040718,    32,  1,    105,      5,2,20040803,1235, 71.9700,-152.1610, 2145,    912.5,   0.0199,  34.8792,2,-999.0000,9,    288.4,2,    298.0,2,     7.66,2,    12.74,2,     0.02,2,     0.92,2,     0.05,2,   2155.4,   2,   2305.9,   2,     0.08,2,  -999.00,9,  -999.00,9,    1.218,2,  -0.0202,20040803,1323
  32H120040718,    32,  1,    104,      4,2,20040803,1235, 71.9700,-152.1610, 2145,   1116.4,  -0.1426,  34.8930,2,  34.8913,2,    287.8,2,    298.2,2,     8.21,2,    13.04,2,     0.01,2,     0.93,2,     0.06,2,   -999.0,   9,   -999.0,   9,     0.09,2,  -999.00,9,  -999.00,9,    0.618,2,  -0.1923,20040803,1313
  32H120040718,    32,  1,    103,      3,2,20040803,1235, 71.9700,-152.1610, 2145,   1424.3,  -0.3404,  34.9194,2,  34.9167,2,    285.0,2,    296.1,2,     9.64,2,    13.57,2,     0.01,2,     0.97,2,     0.05,2,   2154.6,   2,   2306.1,   2,     0.09,2,  -999.00,9,  -999.00,9,    0.539,2,  -0.4054,20040803,1302
  32H120040718,    32,  1,    102,      2,2,20040803,1235, 71.9700,-152.1610, 2145,   1728.7,  -0.3993,  34.9362,2,  34.9334,2,    280.1,2,    291.8,2,    11.38,2,    14.13,2,     0.01,2,     1.01,2,     0.05,2,   -999.0,   9,   -999.0,   9,     0.08,2,  -999.00,9,  -999.00,9,    0.540,2,  -0.4820,20040803,1249
  32H120040718,    32,  1,    101,      1,2,20040803,1235, 71.9700,-152.1610, 2145,   2173.4,  -0.3965,  34.9558,2,  34.9527,2,    269.2,2,    280.0,2,    15.55,2,    14.70,2,     0.01,2,     1.06,2,     0.07,2,   -999.0,   9,   -999.0,   9,     0.08,2,  -999.00,9,  -999.00,9,    0.680,2,  -0.5089,20040803,1235
  32H120040718,    32,  2,    211,     11,9,20040803,1532, 71.9700,-152.1610, 2145,      2.1,   3.8602,  28.4764,2,-999.0000,9,    354.0,2,   -999.0,9,  -999.00,9,  -999.00,9,  -999.00,9,  -999.00,9,     -999,9,   -999.0,   9,   -999.0,   9,     -999,9,  -999.00,9,  -999.00,9,    1.292,2,   3.8601,20040803,1605
  32H120040718,    32,  2,    210,     10,2,20040803,1532, 71.9700,-152.1610, 2145,      2.1,   3.8820,  28.4304,2,-999.0000,9,    351.2,2,    361.1,2,     5.56,2,     0.00,2,     0.00,2,     0.53,2,     0.22,2,   -999.0,   9,   -999.0,   9,     0.08,2,     0.34,2,     0.12,2,    1.364,2,   3.8819,20040803,1605
  32H120040718,    32,  2,    212,     12,9,20040803,1532, 71.9700,-152.1610, 2145,      2.1,   3.8844,  28.4792,2,-999.0000,9,    353.2,2,   -999.0,9,  -999.00,9,  -999.00,9,  -999.00,9,  -999.00,9,     -999,9,   -999.0,   9,   -999.0,   9,     -999,9,  -999.00,9,  -999.00,9,    1.280,2,   3.8843,20040803,1605
  32H120040718,    32,  2,    209,      9,2,20040803,1532, 71.9700,-152.1610, 2145,      6.0,   3.9591,  28.5862,2,-999.0000,9,    353.2,2,    364.5,2,     5.44,2,     0.00,2,     0.00,2,     0.52,2,     0.22,2,   -999.0,   9,   -999.0,   9,     0.11,2,     0.36,2,     0.11,2,    1.321,2,   3.9588,20040803,1602
  32H120040718,    32,  2,    208,      8,2,20040803,1532, 71.9700,-152.1610, 2145,      9.6,   3.9567,  28.5693,2,-999.0000,9,    356.7,2,    394.8,2,     4.88,2,     0.00,2,     0.00,2,     0.55,2,     0.19,2,   -999.0,   9,   -999.0,   9,     0.07,2,     0.37,2,     0.10,2,    1.334,2,   3.9561,20040803,1559
  32H120040718,    32,  2,    207,      7,2,20040803,1532, 71.9700,-152.1610, 2145,     13.6,   0.6799,  30.3422,2,-999.0000,9,    445.8,2,    463.9,2,     3.54,2,     0.00,2,     0.00,2,     0.64,2,      0.2,2,   -999.0,   9,   -999.0,   9,      0.1,2,     0.35,2,     0.05,2,    1.096,2,   0.6795,20040803,1557
  32H120040718,    32,  2,    206,      6,2,20040803,1532, 71.9700,-152.1610, 2145,     21.4,  -0.4540,  31.3809,2,-999.0000,9,    451.7,2,    432.2,2,     4.31,2,     0.13,2,     0.01,2,     0.74,2,     0.13,2,   -999.0,   9,   -999.0,   9,     0.08,2,     1.57,2,     0.02,2,    1.245,2,  -0.4545,20040803,1553
  32H120040718,    32,  2,    205,      5,2,20040803,1532, 71.9700,-152.1610, 2145,     32.4,  -0.3973,  32.0168,2,-999.0000,9,    354.1,2,   -999.0,9,  -999.00,9,  -999.00,9,  -999.00,9,  -999.00,9,     -999,9,   -999.0,   9,   -999.0,   9,     -999,9,  -999.00,9,  -999.00,9,    1.915,2,  -0.3982,20040803,1550
  32H120040718,    32,  2,    204,      4,2,20040803,1532, 71.9700,-152.1610, 2145,     32.4,  -0.3981,  32.0162,2,-999.0000,9,    353.8,2,    362.8,2,    12.69,2,     3.71,2,     0.19,2,     1.19,2,     0.97,2,   -999.0,   9,   -999.0,   9,     0.12,2,     3.04,2,     0.10,2,    1.936,2,  -0.3990,20040803,1549
  32H120040718,    32,  2,    203,      3,2,20040803,1532, 71.9700,-152.1610, 2145,     92.2,  -1.5966,  32.9026,2,-999.0000,9,    322.0,2,   -999.0,9,    36.24,2,    11.51,2,     0.14,2,     1.81,2,     1.67,2,   -999.0,   9,   -999.0,   9,     0.12,2,  -999.00,9,  -999.00,9,    1.191,2,  -1.5983,20040803,1542
  32H120040718,    32,  2,    202,      2,2,20040803,1532, 71.9700,-152.1610, 2145,    143.2,  -0.9496,  34.0106,2,-999.0000,9,    294.4,2,   -999.0,9,    23.74,2,    11.17,2,     0.13,2,     1.44,2,     0.94,2,   -999.0,   9,   -999.0,   9,     0.14,2,  -999.00,9,  -999.00,9,    1.024,2,  -0.9535,20040803,1536
  32H120040718,    32,  2,    201,      1,2,20040803,1532, 71.9700,-152.1610, 2145,    204.1,   0.4389,  34.7329,2,-999.0000,9,    274.1,2,   -999.0,9,    10.56,2,    13.15,2,     0.06,2,     0.99,2,     0.06,2,   -999.0,   9,   -999.0,   9,     0.07,2,  -999.00,9,  -999.00,9,    0.696,2,   0.4306,20040803,1532
  32H120040718,    32,  3,    307,      7,2,20040803,1715, 71.9700,-152.1610, 2145,     29.2,  -0.3701,  31.9369,2,-999.0000,9,    365.7,2,   -999.0,9,  -999.00,9,  -999.00,9,  -999.00,9,  -999.00,9,     -999,9,   -999.0,   9,   -999.0,   9,     -999,9,  -999.00,9,  -999.00,9,    2.451,2,  -0.3709,20040803,1718
  32H120040718,    32,  3,    306,      6,2,20040803,1715, 71.9700,-152.1610, 2145,     29.2,  -0.3950,  31.9419,2,-999.0000,9,    363.7,2,   -999.0,9,  -999.00,9,  -999.00,9,  -999.00,9,  -999.00,9,     -999,9,   -999.0,   9,   -999.0,   9,     -999,9,  -999.00,9,  -999.00,9,    2.283,2,  -0.3958,20040803,1717
  32H120040718,    32,  3,    308,      8,2,20040803,1715, 71.9700,-152.1610, 2145,     29.2,  -0.4160,  31.9446,2,-999.0000,9,    365.0,2,   -999.0,9,  -999.00,9,  -999.00,9,  -999.00,9,  -999.00,9,     -999,9,   -999.0,   9,   -999.0,   9,     -999,9,  -999.00,9,  -999.00,9,    2.322,2,  -0.4168,20040803,1718
  32H120040718,    32,  3,    309,      9,2,20040803,1715, 71.9700,-152.1610, 2145,     29.2,  -0.4697,  31.9477,2,-999.0000,9,    365.7,2,   -999.0,9,  -999.00,9,  -999.00,9,  -999.00,9,  -999.00,9,     -999,9,   -999.0,   9,   -999.0,   9,     -999,9,  -999.00,9,  -999.00,9,    2.227,2,  -0.4705,20040803,1719
  32H120040718,    32,  3,    310,     10,2,20040803,1715, 71.9700,-152.1610, 2145,     29.2,  -0.5200,  31.9482,2,-999.0000,9,    366.5,2,   -999.0,9,  -999.00,9,  -999.00,9,  -999.00,9,  -999.00,9,     -999,9,   -999.0,   9,   -999.0,   9,     -999,9,  -999.00,9,  -999.00,9,    2.135,2,  -0.5208,20040803,1719
  32H120040718,    32,  3,    312,     12,2,20040803,1715, 71.9700,-152.1610, 2145,     29.2,  -0.5983,  31.9531,2,-999.0000,9,    371.2,2,   -999.0,9,     6.90,2,     1.80,2,     0.08,2,     1.08,2,     0.28,2,   -999.0,   9,   -999.0,   9,     0.19,2,  -999.00,9,  -999.00,9,    2.344,2,  -0.5990,20040803,1720
  32H120040718,    32,  3,    311,     11,2,20040803,1715, 71.9700,-152.1610, 2145,     29.2,  -0.6513,  31.9458,2,-999.0000,9,    372.6,2,   -999.0,9,  -999.00,9,  -999.00,9,  -999.00,9,  -999.00,9,     -999,9,   -999.0,   9,   -999.0,   9,     -999,9,  -999.00,9,  -999.00,9,    2.203,2,  -0.6520,20040803,1719
  32H120040718,    32,  3,    301,      1,2,20040803,1715, 71.9700,-152.1610, 2145,     29.3,  -0.3415,  31.9320,2,-999.0000,9,    366.5,2,   -999.0,9,     6.45,2,     1.28,2,     0.06,2,     1.09,2,     0.34,2,   -999.0,   9,   -999.0,   9,     0.12,2,  -999.00,9,  -999.00,9,    2.570,2,  -0.3423,20040803,1713
  32H120040718,    32,  3,    304,      4,2,20040803,1715, 71.9700,-152.1610, 2145,     29.3,  -0.3913,  31.9361,2,-999.0000,9,    366.1,2,   -999.0,9,  -999.00,9,  -999.00,9,  -999.00,9,  -999.00,9,     -999,9,   -999.0,   9,   -999.0,   9,     -999,9,  -999.00,9,  -999.00,9,    2.425,2,  -0.3921,20040803,1715
  32H120040718,    32,  3,    302,      2,2,20040803,1715, 71.9700,-152.1610, 2145,     29.3,  -0.4088,  31.9345,2,-999.0000,9,    367.1,2,   -999.0,9,  -999.00,9,  -999.00,9,  -999.00,9,  -999.00,9,     -999,9,   -999.0,   9,   -999.0,   9,     -999,9,  -999.00,9,  -999.00,9,    2.502,2,  -0.4096,20040803,1714
  32H120040718,    32,  3,    305,      5,2,20040803,1715, 71.9700,-152.1610, 2145,     29.3,  -0.4258,  31.9423,2,-999.0000,9,    364.8,2,   -999.0,9,  -999.00,9,  -999.00,9,  -999.00,9,  -999.00,9,     -999,9,   -999.0,   9,   -999.0,   9,     -999,9,  -999.00,9,  -999.00,9,    2.334,2,  -0.4266,20040803,1716
  32H120040718,    32,  3,    303,      3,2,20040803,1715, 71.9700,-152.1610, 2145,     29.3,  -0.4528,  31.9354,2,-999.0000,9,    367.3,2,   -999.0,9,  -999.00,9,  -999.00,9,  -999.00,9,  -999.00,9,     -999,9,   -999.0,   9,   -999.0,   9,     -999,9,  -999.00,9,  -999.00,9,    2.404,2,  -0.4536,20040803,1715