BOTTLE,20220815CCHSIOAMB
EXPOCODE,STNNBR,CASTNO,SAMPNO,BTLNBR,BTLNBR_FLAG_W,DATE,TIME,LATITUDE,LONGITUDE,DEPTH,CTDPRS,CTDTMP,CTDSAL,CTDSAL_FLAG_W,SALNTY,SALNTY_FLAG_W,CTDOXY,CTDOXY_FLAG_W,OXYGEN,OXYGEN_FLAG_W,SILCAT,SILCAT_FLAG_W,NITRAT,NITRAT_FLAG_W,NITRIT,NITRIT_FLAG_W,PHSPHT,PHSPHT_FLAG_W,AMMONI,AMMONI_FLAG_W,TCARBN,TCARBN_FLAG_W,ALKALI,ALKALI_FLAG_W,UREA,UREA_FLAG_W,CHLORA,CHLORA_FLAG_W,PHAEO,PHAEO_FLAG_W,FLUORO,FLUORO_FLAG_W,THETA,BTL_DATE,BTL_TIME
,,,,,,,,,,METERS,DBAR,ITS-90,PSS-78,,PSS-78,,UMOL/KG,,UMOL/KG,,UMOL/KG,,UMOL/KG,,UMOL/KG,,UMOL/KG,,UMOL/KG,,UMOL/KG,,UMOL/KG,,UMOL/KG,,UG/L,,UG/L,,VOLTS,,DEG C,,
  32H120040718,    50,  4,    402,      2,2,20040816,1417, 73.3880,-157.4120, 3157,     42.0,   0.2784,  31.0074,2,-999.0000,9,    361.9,2,   -999.0,9,  -999.00,9,  -999.00,9,  -999.00,9,  -999.00,9,     -999,9,   -999.0,   9,   -999.0,   9,     -999,9,  -999.00,9,  -999.00,9,    1.152,2,   0.2771,20040816,1413
  32H120040718,    50,  4,    401,      1,2,20040816,1417, 73.3880,-157.4120, 3157,     42.0,   0.3010,  31.0177,2,-999.0000,9,    361.7,2,   -999.0,9,     5.29,2,     0.14,2,     0.02,2,     0.85,2,     0.18,2,   -999.0,   9,   -999.0,   9,     0.07,2,  -999.00,9,  -999.00,9,    1.133,2,   0.2997,20040816,1413
  32H120040718,    50,  4,    410,     10,2,20040816,1417, 73.3880,-157.4120, 3157,     42.0,   0.3043,  31.0101,2,-999.0000,9,    362.7,2,   -999.0,9,  -999.00,9,  -999.00,9,  -999.00,9,  -999.00,9,     -999,9,   -999.0,   9,   -999.0,   9,     -999,9,  -999.00,9,  -999.00,9,    1.194,2,   0.3030,20040816,1416
  32H120040718,    50,  4,    403,      3,2,20040816,1417, 73.3880,-157.4120, 3157,     42.0,   0.3061,  31.0145,2,-999.0000,9,    361.8,2,   -999.0,9,  -999.00,9,  -999.00,9,  -999.00,9,  -999.00,9,     -999,9,   -999.0,   9,   -999.0,   9,     -999,9,  -999.00,9,  -999.00,9,    1.140,2,   0.3048,20040816,1413
  32H120040718,    50,  4,    411,     11,2,20040816,1417, 73.3880,-157.4120, 3157,     42.0,   0.3314,  31.0117,2,-999.0000,9,    362.7,2,   -999.0,9,  -999.00,9,  -999.00,9,  -999.00,9,  -999.00,9,     -999,9,   -999.0,   9,   -999.0,   9,     -999,9,  -999.00,9,  -999.00,9,    1.153,2,   0.3301,20040816,1416
  32H120040718,    50,  4,    409,      9,2,20040816,1417, 73.3880,-157.4120, 3157,     42.0,   0.3425,  31.0153,2,-999.0000,9,    362.6,2,   -999.0,9,  -999.00,9,  -999.00,9,  -999.00,9,  -999.00,9,     -999,9,   -999.0,   9,   -999.0,   9,     -999,9,  -999.00,9,  -999.00,9,    1.179,2,   0.3412,20040816,1415
  32H120040718,    50,  4,    407,      7,2,20040816,1417, 73.3880,-157.4120, 3157,     42.0,   0.3628,  31.0512,2,-999.0000,9,    362.7,2,   -999.0,9,  -999.00,9,  -999.00,9,  -999.00,9,  -999.00,9,     -999,9,   -999.0,   9,   -999.0,   9,     -999,9,  -999.00,9,  -999.00,9,    1.248,2,   0.3615,20040816,1415
  32H120040718,    50,  4,    404,      4,2,20040816,1417, 73.3880,-157.4120, 3157,     42.0,   0.3664,  31.0287,2,-999.0000,9,    361.9,2,   -999.0,9,  -999.00,9,  -999.00,9,  -999.00,9,  -999.00,9,     -999,9,   -999.0,   9,   -999.0,   9,     -999,9,  -999.00,9,  -999.00,9,    1.168,2,   0.3651,20040816,1414
  32H120040718,    50,  4,    406,      6,2,20040816,1417, 73.3880,-157.4120, 3157,     42.0,   0.3706,  31.0590,2,-999.0000,9,    363.0,2,   -999.0,9,  -999.00,9,  -999.00,9,  -999.00,9,  -999.00,9,     -999,9,   -999.0,   9,   -999.0,   9,     -999,9,  -999.00,9,  -999.00,9,    1.202,2,   0.3693,20040816,1414
  32H120040718,    50,  4,    405,      5,2,20040816,1417, 73.3880,-157.4120, 3157,     42.0,   0.3727,  31.0562,2,-999.0000,9,    362.9,2,   -999.0,9,  -999.00,9,  -999.00,9,  -999.00,9,  -999.00,9,     -999,9,   -999.0,   9,   -999.0,   9,     -999,9,  -999.00,9,  -999.00,9,    1.204,2,   0.3714,20040816,1414
  32H120040718,    50,  4,    408,      8,2,20040816,1417, 73.3880,-157.4120, 3157,     42.0,   0.3793,  31.0318,2,-999.0000,9,    363.0,2,   -999.0,9,  -999.00,9,  -999.00,9,  -999.00,9,  -999.00,9,     -999,9,   -999.0,   9,   -999.0,   9,     -999,9,  -999.00,9,  -999.00,9,    1.168,2,   0.3780,20040816,1415
  32H120040718,    50,  4,    412,     12,2,20040816,1417, 73.3880,-157.4120, 3157,     42.0,   0.3839,  31.0225,2,-999.0000,9,    362.3,2,   -999.0,9,  -999.00,9,  -999.00,9,  -999.00,9,  -999.00,9,     -999,9,   -999.0,   9,   -999.0,   9,     -999,9,  -999.00,9,  -999.00,9,    1.176,2,   0.3826,20040816,1417
  32H120040718,    50,  5,    512,     12,2,20040816,1501, 73.3880,-157.4120, 3157,      2.1,   2.4853,  26.1470,2,-999.0000,9,    338.6,2,   -999.0,9,  -999.00,9,  -999.00,9,  -999.00,9,  -999.00,9,     -999,9,   -999.0,   9,   -999.0,   9,     -999,9,  -999.00,9,  -999.00,9,    1.027,2,   2.4852,20040816,1543
  32H120040718,    50,  5,    511,     11,2,20040816,1501, 73.3880,-157.4120, 3157,      2.1,   2.4906,  25.9492,2,-999.0000,9,    340.0,2,    361.3,2,     3.60,2,     0.06,2,     0.01,2,     0.55,2,     0.18,2,   -999.0,   9,   -999.0,   9,     0.03,2,     0.20,2,     0.05,2,    1.037,2,   2.4905,20040816,1543
  32H120040718,    50,  5,    510,     10,2,20040816,1501, 73.3880,-157.4120, 3157,      8.8,   2.4912,  26.2336,2,-999.0000,9,    336.7,2,    360.2,2,     3.81,2,     0.07,2,     0.00,2,     0.56,2,     0.18,2,   -999.0,   9,   -999.0,   9,     0.04,2,     0.20,2,     0.05,2,    1.052,2,   2.4908,20040816,1540
  32H120040718,    50,  5,    509,      9,2,20040816,1501, 73.3880,-157.4120, 3157,     14.6,   1.6099,  27.4340,2,-999.0000,9,    345.4,2,    364.5,2,     3.59,2,     0.02,2,     0.01,2,     0.58,2,     0.17,2,   -999.0,   9,   -999.0,   9,     0.04,2,     0.20,2,     0.05,2,    1.079,2,   1.6094,20040816,1536
  32H120040718,    50,  5,    508,      8,2,20040816,1501, 73.3880,-157.4120, 3157,     22.4,  -0.3092,  28.8874,2,-999.0000,9,    365.9,2,    381.5,2,     3.70,2,     0.07,2,     0.01,2,     0.67,2,     0.16,2,   -999.0,   9,   -999.0,   9,     0.06,2,     0.21,2,     0.06,2,    1.214,2,  -0.3097,20040816,1532
  32H120040718,    50,  5,    507,      7,2,20040816,1501, 73.3880,-157.4120, 3157,     22.4,  -0.3123,  28.8857,2,-999.0000,9,    366.0,2,   -999.0,9,  -999.00,9,  -999.00,9,  -999.00,9,  -999.00,9,     -999,9,   -999.0,   9,   -999.0,   9,     -999,9,  -999.00,9,  -999.00,9,    1.152,2,  -0.3128,20040816,1532
  32H120040718,    50,  5,    506,      6,2,20040816,1501, 73.3880,-157.4120, 3157,     34.6,   0.1129,  30.2277,2,-999.0000,9,    368.5,2,    393.2,2,     4.12,2,     0.06,2,     0.01,2,     0.76,2,     0.26,2,   -999.0,   9,   -999.0,   9,     0.07,2,     0.16,2,     0.04,2,    1.073,2,   0.1119,20040816,1528
  32H120040718,    50,  5,    505,      5,2,20040816,1501, 73.3880,-157.4120, 3157,     52.8,  -0.3935,  31.6566,2,-999.0000,9,    383.0,2,    412.3,2,     4.22,2,     0.23,2,     0.03,2,     0.86,2,     0.37,2,   -999.0,   9,   -999.0,   9,     0.11,2,     0.15,2,     0.02,2,    0.851,2,  -0.3949,20040816,1524
  32H120040718,    50,  5,    504,      4,2,20040816,1501, 73.3880,-157.4120, 3157,     52.8,  -0.3974,  31.6543,2,-999.0000,9,    386.3,2,   -999.0,9,  -999.00,9,  -999.00,9,  -999.00,9,  -999.00,9,     -999,9,   -999.0,   9,   -999.0,   9,     -999,9,  -999.00,9,  -999.00,9,    0.861,2,  -0.3988,20040816,1524
  32H120040718,    50,  5,    503,      3,2,20040816,1501, 73.3880,-157.4120, 3157,    102.7,  -1.3731,  32.5268,2,-999.0000,9,    302.5,2,   -999.0,9,    24.84,2,    10.27,2,     0.11,2,     1.61,2,     0.84,2,   -999.0,   9,   -999.0,   9,     0.09,2,  -999.00,9,  -999.00,9,    0.912,2,  -1.3752,20040816,1509
  32H120040718,    50,  5,    502,      2,2,20040816,1501, 73.3880,-157.4120, 3157,    153.6,  -1.5458,  33.0610,2,-999.0000,9,    286.7,2,   -999.0,9,    33.14,2,    14.69,2,     0.03,2,     1.83,2,     0.11,2,   -999.0,   9,   -999.0,   9,     0.08,2,  -999.00,9,  -999.00,9,    0.701,2,  -1.5489,20040816,1505
  32H120040718,    50,  5,    501,      1,2,20040816,1501, 73.3880,-157.4120, 3157,    203.2,  -1.2712,  33.8555,2,-999.0000,9,    266.6,2,   -999.0,9,    29.85,2,    14.50,2,     0.03,2,     1.61,2,     0.08,2,   -999.0,   9,   -999.0,   9,     0.09,2,  -999.00,9,  -999.00,9,    0.753,2,  -1.2762,20040816,1501
  32H120040718,    51,  1,    112,     12,2,20040817,   5, 73.7980,-156.7220, 3688,     43.4,   0.1527,  31.3309,2,-999.0000,9,    368.8,2,   -999.0,9,     4.86,2,     0.11,2,     0.03,2,     0.86,2,     0.09,2,   -999.0,   9,   -999.0,   9,     0.05,2,  -999.00,9,  -999.00,9,    1.473,2,   0.1514,20040817, 142
  32H120040718,    51,  1,    111,     11,2,20040817,   5, 73.7980,-156.7220, 3688,     51.3,  -0.3428,  31.6723,2,-999.0000,9,    333.6,2,   -999.0,9,    11.20,2,     4.01,2,     0.07,2,     1.17,2,     0.13,2,   -999.0,   9,   -999.0,   9,     0.06,2,  -999.00,9,  -999.00,9,    1.556,2,  -0.3442,20040817, 136
  32H120040718,    51,  1,    109,      9,2,20040817,   5, 73.7980,-156.7220, 3688,    150.3,  -1.5399,  32.9831,2,-999.0000,9,    271.9,2,   -999.0,9,    32.45,2,    14.46,2,     0.01,2,     1.84,2,     0.06,2,   -999.0,   9,   -999.0,   9,     0.06,2,  -999.00,9,  -999.00,9,    0.735,2,  -1.5429,20040817, 127
  32H120040718,    51,  1,    110,     10,2,20040817,   5, 73.7980,-156.7220, 3688,    150.3,  -1.5401,  32.9833,2,-999.0000,9,    272.2,2,   -999.0,9,    32.34,2,    14.44,2,     0.01,2,     1.84,2,     0.06,2,   -999.0,   9,   -999.0,   9,     0.06,2,  -999.00,9,  -999.00,9,    0.759,2,  -1.5431,20040817, 127
  32H120040718,    51,  1,    108,      8,2,20040817,   5, 73.7980,-156.7220, 3688,    217.2,  -1.0135,  34.1309,2,-999.0000,9,    258.1,2,   -999.0,9,    21.98,2,    13.47,2,     0.01,2,     1.36,2,     0.04,2,   -999.0,   9,   -999.0,   9,     0.06,2,  -999.00,9,  -999.00,9,    0.757,2,  -1.0195,20040817, 121
  32H120040718,    51,  1,    106,      6,2,20040817,   5, 73.7980,-156.7220, 3688,    530.4,   0.6134,  34.8485,2,-999.0000,9,    279.1,2,   -999.0,9,     6.77,2,    12.45,2,     0.01,2,     0.91,2,     0.02,2,   -999.0,   9,   -999.0,   9,     0.07,2,  -999.00,9,  -999.00,9,    0.627,2,   0.5893,20040817, 109
  32H120040718,    51,  1,    107,      7,2,20040817,   5, 73.7980,-156.7220, 3688,    530.5,   0.6134,  34.8485,2,-999.0000,9,    279.3,2,   -999.0,9,     6.87,2,    12.44,2,     0.01,2,     0.92,2,     0.02,2,   -999.0,   9,   -999.0,   9,     0.07,2,  -999.00,9,  -999.00,9,    0.655,2,   0.5893,20040817, 109
  32H120040718,    51,  1,    104,      4,2,20040817,   5, 73.7980,-156.7220, 3688,   1014.8,  -0.0492,  34.8814,2,-999.0000,9,    281.2,2,   -999.0,9,     7.10,2,    12.64,2,     0.00,2,     0.94,2,     0.02,2,   -999.0,   9,   -999.0,   9,     0.06,2,  -999.00,9,  -999.00,9,    0.622,2,  -0.0942,20040817,  55
  32H120040718,    51,  1,    105,      5,2,20040817,   5, 73.7980,-156.7220, 3688,   1014.9,  -0.0496,  34.8813,2,-999.0000,9,    280.9,2,   -999.0,9,     7.19,2,    12.64,2,     0.01,2,     0.94,2,     0.02,2,   -999.0,   9,   -999.0,   9,     0.06,2,  -999.00,9,  -999.00,9,    0.608,2,  -0.0946,20040817,  55
  32H120040718,    51,  1,    101,      1,2,20040817,   5, 73.7980,-156.7220, 3688,   3740.0,  -0.2665,  34.9585,2,-999.0000,9,    262.7,2,   -999.0,9,    13.62,2,    14.55,2,     0.00,2,     1.07,2,     0.02,2,   -999.0,   9,   -999.0,   9,     0.07,2,  -999.00,9,  -999.00,9,    0.535,2,  -0.5117,20040817,   5
  32H120040718,    51,  1,    102,      2,2,20040817,   5, 73.7980,-156.7220, 3688,   3740.0,  -0.2666,  34.9584,2,-999.0000,9,    262.5,2,   -999.0,9,    13.62,2,    14.54,2,     0.00,2,     1.08,2,     0.01,2,   -999.0,   9,   -999.0,   9,     0.06,2,  -999.00,9,  -999.00,9,    0.477,2,  -0.5118,20040817,   5
  32H120040718,    51,  1,    103,      3,2,20040817,   5, 73.7980,-156.7220, 3688,   3740.0,  -0.2667,  34.9585,2,-999.0000,9,    262.6,2,   -999.0,9,    13.61,2,    14.54,2,     0.00,2,     1.07,2,     0.02,2,   -999.0,   9,   -999.0,   9,     0.06,2,  -999.00,9,  -999.00,9,    0.512,2,  -0.5119,20040817,   5
  32H120040718,    51,  2,    212,     12,2,20040817, 316, 73.7980,-156.7220, 3688,    178.4,  -1.4184,  33.4472,2,-999.0000,9,    194.7,4,    279.1,2,    33.35,2,    15.13,2,     0.02,2,     1.79,2,     0.06,2,   -999.0,   9,   -999.0,   9,     0.08,2,  -999.00,9,  -999.00,9,    0.756,2,  -1.4224,20040817, 427
  32H120040718,    51,  2,    211,     11,2,20040817, 316, 73.7980,-156.7220, 3688,    203.8,  -1.2118,  33.9301,2,-999.0000,9,    193.1,4,    272.2,2,    26.95,2,    14.15,2,     0.01,2,     1.51,2,     0.04,2,   2190.2,   2,   2294.9,   2,     0.08,2,  -999.00,9,  -999.00,9,    0.735,2,  -1.2169,20040817, 423
  32H120040718,    51,  2,    210,     10,2,20040817, 316, 73.7980,-156.7220, 3688,    228.9,  -0.7621,  34.2943,2,  34.2848,2,    195.0,4,    275.4,2,    17.31,2,    12.94,2,     0.01,2,     1.19,2,     0.04,2,   -999.0,   9,   -999.0,   9,     0.15,2,  -999.00,9,  -999.00,9,    0.684,2,  -0.7690,20040817, 419
  32H120040718,    51,  2,    209,      9,2,20040817, 316, 73.7980,-156.7220, 3688,    254.0,  -0.2169,  34.5033,2,  34.5002,2,    194.3,4,    276.1,2,    13.73,2,    12.85,2,     0.01,2,     1.08,2,     0.03,2,   -999.0,   9,   -999.0,   9,     0.09,2,  -999.00,9,  -999.00,9,    0.697,2,  -0.2259,20040817, 416
  32H120040718,    51,  2,    208,      8,2,20040817, 316, 73.7980,-156.7220, 3688,    305.5,   0.5224,  34.7167,2,  34.7159,2,    186.5,4,    284.2,2,     8.99,2,    12.62,2,     0.01,2,     0.95,2,     0.02,2,   2145.3,   2,   2308.8,   2,     0.09,2,  -999.00,9,  -999.00,9,    0.650,2,   0.5094,20040817, 411
  32H120040718,    51,  2,    207,      7,2,20040817, 316, 73.7980,-156.7220, 3688,    355.2,   0.7665,  34.8061,2,  34.7914,2,    162.7,4,    290.2,2,     7.40,2,    12.52,2,     0.01,2,     0.92,2,     0.01,2,   -999.0,   9,   -999.0,   9,     0.08,2,  -999.00,9,  -999.00,9,    0.610,2,   0.7505,20040817, 405
  32H120040718,    51,  2,    206,      6,2,20040817, 316, 73.7980,-156.7220, 3688,    406.4,   0.8463,  34.8216,2,  34.8346,2,    192.0,4,    295.1,2,     6.55,2,    12.44,2,     0.01,2,     0.90,2,     0.01,2,   2133.7,   2,   2305.6,   2,     0.08,2,  -999.00,9,  -999.00,9,    0.632,2,   0.8275,20040817, 359
  32H120040718,    51,  2,    205,      5,2,20040817, 316, 73.7980,-156.7220, 3688,    608.6,   0.4809,  34.8564,2,-999.0000,9,    280.6,2,    298.0,2,     6.55,2,    12.53,2,     0.01,2,     0.91,2,     0.01,2,   2136.4,   2,   2304.7,   2,     0.09,2,  -999.00,9,  -999.00,9,    0.605,2,   0.4535,20040817, 350
  32H120040718,    51,  2,    204,      4,2,20040817, 316, 73.7980,-156.7220, 3688,    811.9,   0.1567,  34.8687,2,-999.0000,9,    281.9,2,    299.5,2,     6.76,2,    12.58,2,     0.01,2,     0.92,2,     0.01,2,   2138.3,   2,   2304.6,   2,     0.11,2,  -999.00,9,  -999.00,9,    0.565,2,   0.1208,20040817, 342
  32H120040718,    51,  2,    203,      3,2,20040817, 316, 73.7980,-156.7220, 3688,   1014.4,  -0.0574,  34.8809,2,-999.0000,9,    282.7,2,    300.6,2,     6.96,2,    12.67,2,     0.01,2,     0.93,2,        0,2,   2142.4,   2,   2331.5,   2,     0.09,2,  -999.00,9,  -999.00,9,    0.568,2,  -0.1023,20040817, 334
  32H120040718,    51,  2,    202,      2,2,20040817, 316, 73.7980,-156.7220, 3688,   1268.4,  -0.2259,  34.9003,2,-999.0000,9,    281.4,2,    300.9,2,     7.70,2,    13.05,2,     0.01,2,     0.95,2,     0.01,2,   -999.0,   9,   -999.0,   9,     0.09,2,  -999.00,9,  -999.00,9,    0.594,2,  -0.2832,20040817, 325
  32H120040718,    51,  2,    201,      1,2,20040817, 316, 73.7980,-156.7220, 3688,   1521.1,  -0.3372,  34.9173,2,  34.9192,2,    279.4,2,    297.7,2,     8.75,2,    13.47,2,     0.01,2,     0.99,2,     0.01,2,   2092.8,   2,   2312.9,   2,     0.07,2,  -999.00,9,  -999.00,9,    0.583,2,  -0.4080,20040817, 316
  32H120040718,    51,  3,    312,     12,2,20040817, 731, 73.7980,-156.7220, 3688,      2.0,  -0.4663,  25.9925,2,  25.9882,2,    362.6,2,    382.6,2,     1.98,2,     0.07,2,     0.00,2,     0.58,2,     0.06,2,   1783.4,   2,   1870.4,   2,     0.01,2,     0.03,2,     0.01,2,    0.681,2,  -0.4663,20040817, 820
  32H120040718,    51,  3,    311,     11,2,20040817, 731, 73.7980,-156.7220, 3688,      5.7,  -0.4636,  25.9872,2,-999.0000,9,    362.3,2,    381.3,2,     1.97,2,     0.02,2,     0.00,2,     0.59,2,     0.06,2,   1787.0,   2,   1871.0,   2,     0.02,2,  -999.00,9,  -999.00,9,    0.695,2,  -0.4637,20040817, 819
  32H120040718,    51,  3,    310,     10,2,20040817, 731, 73.7980,-156.7220, 3688,     14.6,  -0.6947,  27.7112,2,-999.0000,9,    373.1,2,    391.1,2,     2.18,2,     0.02,2,     0.00,2,     0.64,2,     0.07,2,   1883.1,   2,   1960.4,   2,     0.04,2,     0.07,2,     0.01,2,    0.835,2,  -0.6949,20040817, 814
  32H120040718,    51,  3,    309,      9,2,20040817, 731, 73.7980,-156.7220, 3688,     24.7,  -0.7980,  29.1673,2,-999.0000,9,    378.5,2,    398.0,2,     2.50,2,     0.02,2,     0.00,2,     0.70,2,     0.08,2,   1961.0,   2,   -999.0,   5,     0.04,2,     0.06,2,     0.02,2,    0.851,2,  -0.7984,20040817, 808
  32H120040718,    51,  3,    308,      8,2,20040817, 731, 73.7980,-156.7220, 3688,     35.2,  -0.8384,  29.8431,2,-999.0000,9,    379.5,2,    399.7,2,     2.81,2,     0.02,2,     0.00,2,     0.73,2,     0.08,2,   1996.2,   2,   2137.6,   2,     0.04,2,     0.09,2,     0.02,2,    0.912,2,  -0.8391,20040817, 803
  32H120040718,    51,  3,    307,      7,2,20040817, 731, 73.7980,-156.7220, 3688,     46.0,  -0.2069,  31.1997,2,-999.0000,9,    378.5,2,    400.3,2,     4.92,2,     0.18,2,     0.03,2,     0.81,2,     0.08,2,   2019.2,   2,   2197.1,   2,     0.07,2,     0.84,2,     0.06,2,    1.744,2,  -0.2082,20040817, 758
  32H120040718,    51,  3,    306,      6,2,20040817, 731, 73.7980,-156.7220, 3688,     51.2,  -0.0874,  31.6322,2,-999.0000,9,    344.9,2,    385.2,2,     6.72,2,     1.42,2,     0.07,2,     0.96,2,     0.26,2,   -999.0,   9,   -999.0,   9,     0.08,2,  -999.00,9,  -999.00,9,    1.632,2,  -0.0889,20040817, 755
  32H120040718,    51,  3,    305,      5,2,20040817, 731, 73.7980,-156.7220, 3688,     55.0,  -0.3647,  31.7302,2,-999.0000,9,    336.5,2,    356.3,2,    10.21,2,     3.76,2,     0.08,2,     1.13,2,     0.14,2,   2071.1,   2,   2217.2,   2,     0.06,2,     0.41,2,     0.13,2,    1.451,2,  -0.3662,20040817, 751
  32H120040718,    51,  3,    304,      4,2,20040817, 731, 73.7980,-156.7220, 3688,     75.1,  -1.1251,  32.1335,2,-999.0000,9,    308.5,2,    328.0,2,    19.89,2,     8.61,2,     0.01,2,     1.47,2,     0.06,2,   2117.6,   2,   2233.7,   2,     0.05,2,  -999.00,9,  -999.00,9,    0.902,2,  -1.1267,20040817, 747
  32H120040718,    51,  3,    303,      3,2,20040817, 731, 73.7980,-156.7220, 3688,    100.2,  -1.3600,  32.4378,2,-999.0000,9,    286.7,2,    304.1,2,    24.71,2,    11.41,2,     0.01,2,     1.66,2,     0.07,2,   2149.1,   2,   2246.4,   2,     0.11,2,     0.02,2,     0.04,2,    0.771,2,  -1.3620,20040817, 741
  32H120040718,    51,  3,    302,      2,2,20040817, 731, 73.7980,-156.7220, 3688,    127.0,  -1.4986,  32.7348,2,-999.0000,9,    275.5,2,    291.2,2,    29.63,2,    13.65,2,     0.01,2,     1.79,2,     0.04,2,   -999.0,   9,   -999.0,   9,     0.06,2,  -999.00,9,  -999.00,9,    0.750,2,  -1.5011,20040817, 735
  32H120040718,    51,  3,    301,      1,2,20040817, 731, 73.7980,-156.7220, 3688,    151.8,  -1.5316,  32.9962,2,  32.9689,2,    271.5,2,    287.3,2,    32.25,2,    14.53,2,     0.01,2,     1.82,2,     0.03,2,   -999.0,   9,   -999.0,   9,     0.07,2,     0.01,2,     0.05,2,    0.768,2,  -1.5347,20040817, 731