BOTTLE,20220815CCHSIOAMB
EXPOCODE,STNNBR,CASTNO,SAMPNO,BTLNBR,BTLNBR_FLAG_W,DATE,TIME,LATITUDE,LONGITUDE,DEPTH,CTDPRS,CTDTMP,CTDSAL,CTDSAL_FLAG_W,SALNTY,SALNTY_FLAG_W,CTDOXY,CTDOXY_FLAG_W,OXYGEN,OXYGEN_FLAG_W,SILCAT,SILCAT_FLAG_W,NITRAT,NITRAT_FLAG_W,NITRIT,NITRIT_FLAG_W,PHSPHT,PHSPHT_FLAG_W,AMMONI,AMMONI_FLAG_W,TCARBN,TCARBN_FLAG_W,ALKALI,ALKALI_FLAG_W,UREA,UREA_FLAG_W,CHLORA,CHLORA_FLAG_W,PHAEO,PHAEO_FLAG_W,FLUORO,FLUORO_FLAG_W,THETA,BTL_DATE,BTL_TIME
,,,,,,,,,,METERS,DBAR,ITS-90,PSS-78,,PSS-78,,UMOL/KG,,UMOL/KG,,UMOL/KG,,UMOL/KG,,UMOL/KG,,UMOL/KG,,UMOL/KG,,UMOL/KG,,UMOL/KG,,UMOL/KG,,UG/L,,UG/L,,VOLTS,,DEG C,,
  32H120040718,    56,  3,    310,     10,2,20040822, 655, 73.2222,-160.1944,  485,     29.5,   0.1283,  31.4935,2,-999.0000,9,    364.1,2,   -999.0,9,  -999.00,9,  -999.00,9,  -999.00,9,  -999.00,9,     -999,9,   -999.0,   9,   -999.0,   9,     -999,9,  -999.00,9,  -999.00,9,    1.486,2,   0.1274,20040822, 728
  32H120040718,    56,  3,    311,     11,2,20040822, 655, 73.2222,-160.1944,  485,     29.5,   0.1548,  31.4811,2,-999.0000,9,    365.5,2,   -999.0,9,  -999.00,9,  -999.00,9,  -999.00,9,  -999.00,9,     -999,9,   -999.0,   9,   -999.0,   9,     -999,9,  -999.00,9,  -999.00,9,    1.491,2,   0.1539,20040822, 728
  32H120040718,    56,  3,    312,     12,2,20040822, 655, 73.2222,-160.1944,  485,     29.5,   0.2475,  31.4688,2,-999.0000,9,    365.6,2,   -999.0,9,     6.79,2,     0.59,2,     0.09,2,     0.93,2,     0.34,2,   -999.0,   9,   -999.0,   9,     0.09,2,  -999.00,9,  -999.00,9,    1.576,2,   0.2466,20040822, 729
  32H120040718,    56,  3,    307,      7,2,20040822, 655, 73.2222,-160.1944,  485,    122.7,  -1.5135,  33.1254,2,-999.0000,9,    280.1,2,   -999.0,9,  -999.00,9,  -999.00,9,  -999.00,9,  -999.00,9,     -999,9,   -999.0,   9,   -999.0,   9,     -999,9,  -999.00,9,  -999.00,9,    0.760,2,  -1.5160,20040822, 716
  32H120040718,    56,  3,    308,      8,2,20040822, 655, 73.2222,-160.1944,  485,    122.7,  -1.5191,  33.1297,2,-999.0000,9,    280.8,2,   -999.0,9,  -999.00,9,  -999.00,9,  -999.00,9,  -999.00,9,     -999,9,   -999.0,   9,   -999.0,   9,     -999,9,  -999.00,9,  -999.00,9,    0.758,2,  -1.5216,20040822, 716
  32H120040718,    56,  3,    309,      9,2,20040822, 655, 73.2222,-160.1944,  485,    122.7,  -1.5260,  33.1325,2,-999.0000,9,    282.7,2,   -999.0,9,    32.39,2,    13.85,2,     0.06,2,     1.85,2,     0.39,2,   -999.0,   9,   -999.0,   9,     0.09,2,  -999.00,9,  -999.00,9,    0.775,2,  -1.5285,20040822, 717
  32H120040718,    56,  3,    304,      4,2,20040822, 655, 73.2222,-160.1944,  485,    161.8,  -0.9716,  34.0191,2,-999.0000,9,    272.0,2,   -999.0,9,  -999.00,9,  -999.00,9,  -999.00,9,  -999.00,9,     -999,9,   -999.0,   9,   -999.0,   9,     -999,9,  -999.00,9,  -999.00,9,    0.770,2,  -0.9760,20040822, 710
  32H120040718,    56,  3,    305,      5,2,20040822, 655, 73.2222,-160.1944,  485,    161.9,  -0.9639,  34.0270,2,-999.0000,9,    271.7,2,   -999.0,9,    24.58,2,    13.67,2,     0.05,2,     1.51,2,     0.12,2,   -999.0,   9,   -999.0,   9,     0.09,2,  -999.00,9,  -999.00,9,    0.776,2,  -0.9683,20040822, 710
  32H120040718,    56,  3,    306,      6,2,20040822, 655, 73.2222,-160.1944,  485,    162.0,  -0.9669,  34.0241,2,-999.0000,9,    271.8,2,   -999.0,9,    24.58,2,    13.63,2,     0.05,2,     1.51,2,     0.12,2,   -999.0,   9,   -999.0,   9,     0.09,2,  -999.00,9,  -999.00,9,    0.800,2,  -0.9713,20040822, 711
  32H120040718,    56,  3,    303,      3,2,20040822, 655, 73.2222,-160.1944,  485,    486.6,   0.5842,  34.8495,2,-999.0000,9,    281.4,2,   -999.0,9,     9.42,2,    12.68,2,     0.03,2,     0.96,2,     0.13,2,   -999.0,   9,   -999.0,   9,     0.09,2,  -999.00,9,  -999.00,9,    0.651,2,   0.5624,20040822, 656
  32H120040718,    56,  3,    302,      2,2,20040822, 655, 73.2222,-160.1944,  485,    487.3,   0.5845,  34.8495,2,-999.0000,9,    281.4,2,   -999.0,9,  -999.00,9,  -999.00,9,  -999.00,9,  -999.00,9,     -999,9,   -999.0,   9,   -999.0,   9,     -999,9,  -999.00,9,  -999.00,9,    0.715,2,   0.5627,20040822, 656
  32H120040718,    56,  3,    301,      1,2,20040822, 655, 73.2222,-160.1944,  485,    488.0,   0.5843,  34.8496,2,-999.0000,9,    281.5,2,   -999.0,9,  -999.00,9,  -999.00,9,  -999.00,9,  -999.00,9,     -999,9,   -999.0,   9,   -999.0,   9,     -999,9,  -999.00,9,  -999.00,9,    0.664,2,   0.5624,20040822, 655
  32H120040718,    56,  4,    409,      9,2,20040822, 829, 73.2222,-160.1944,  485,     67.0,  -1.3527,  32.4719,2,-999.0000,9,    329.5,2,   -999.0,9,  -999.00,9,  -999.00,9,  -999.00,9,  -999.00,9,     -999,9,   -999.0,   9,   -999.0,   9,     -999,9,  -999.00,9,  -999.00,9,    0.869,2,  -1.3540,20040822, 837
  32H120040718,    56,  4,    411,     11,2,20040822, 829, 73.2222,-160.1944,  485,     67.0,  -1.3556,  32.4740,2,-999.0000,9,    328.8,2,   -999.0,9,  -999.00,9,  -999.00,9,  -999.00,9,  -999.00,9,     -999,9,   -999.0,   9,   -999.0,   9,     -999,9,  -999.00,9,  -999.00,9,    0.893,2,  -1.3569,20040822, 840
  32H120040718,    56,  4,    410,     10,2,20040822, 829, 73.2222,-160.1944,  485,     67.0,  -1.3561,  32.4746,2,-999.0000,9,    329.1,2,   -999.0,9,  -999.00,9,  -999.00,9,  -999.00,9,  -999.00,9,     -999,9,   -999.0,   9,   -999.0,   9,     -999,9,  -999.00,9,  -999.00,9,    0.885,2,  -1.3574,20040822, 840
  32H120040718,    56,  4,    412,     12,2,20040822, 829, 73.2222,-160.1944,  485,     67.0,  -1.3564,  32.4752,2,-999.0000,9,    328.7,2,   -999.0,9,    23.03,2,     9.09,2,     0.15,2,     1.59,2,     1.24,2,   -999.0,   9,   -999.0,   9,     0.12,2,  -999.00,9,  -999.00,9,    0.877,2,  -1.3577,20040822, 841
  32H120040718,    56,  4,    407,      7,2,20040822, 829, 73.2222,-160.1944,  485,     67.1,  -1.3543,  32.4728,2,-999.0000,9,    328.8,2,   -999.0,9,  -999.00,9,  -999.00,9,  -999.00,9,  -999.00,9,     -999,9,   -999.0,   9,   -999.0,   9,     -999,9,  -999.00,9,  -999.00,9,    0.879,2,  -1.3556,20040822, 836
  32H120040718,    56,  4,    408,      8,2,20040822, 829, 73.2222,-160.1944,  485,     67.1,  -1.3548,  32.4733,2,-999.0000,9,    329.0,2,   -999.0,9,  -999.00,9,  -999.00,9,  -999.00,9,  -999.00,9,     -999,9,   -999.0,   9,   -999.0,   9,     -999,9,  -999.00,9,  -999.00,9,    0.881,2,  -1.3561,20040822, 837
  32H120040718,    56,  4,    406,      6,2,20040822, 829, 73.2222,-160.1944,  485,    142.9,  -1.6535,  33.2971,2,-999.0000,9,    299.1,2,   -999.0,9,  -999.00,9,  -999.00,9,  -999.00,9,  -999.00,9,     -999,9,   -999.0,   9,   -999.0,   9,     -999,9,  -999.00,9,  -999.00,9,    0.951,2,  -1.6563,20040822, 831
  32H120040718,    56,  4,    405,      5,2,20040822, 829, 73.2222,-160.1944,  485,    142.9,  -1.6548,  33.2971,2,-999.0000,9,    299.3,2,   -999.0,9,  -999.00,9,  -999.00,9,  -999.00,9,  -999.00,9,     -999,9,   -999.0,   9,   -999.0,   9,     -999,9,  -999.00,9,  -999.00,9,    0.971,2,  -1.6576,20040822, 831
  32H120040718,    56,  4,    403,      3,2,20040822, 829, 73.2222,-160.1944,  485,    142.9,  -1.6589,  33.2965,2,-999.0000,9,    299.3,2,   -999.0,9,  -999.00,9,  -999.00,9,  -999.00,9,  -999.00,9,     -999,9,   -999.0,   9,   -999.0,   9,     -999,9,  -999.00,9,  -999.00,9,    0.997,2,  -1.6617,20040822, 830
  32H120040718,    56,  4,    401,      1,2,20040822, 829, 73.2222,-160.1944,  485,    142.9,  -1.6718,  33.2946,2,-999.0000,9,    296.9,2,   -999.0,9,    48.01,2,    16.57,2,     0.14,2,     2.21,2,     0.92,2,   -999.0,   9,   -999.0,   9,     0.11,2,  -999.00,9,  -999.00,9,    0.993,2,  -1.6746,20040822, 829
  32H120040718,    56,  4,    404,      4,2,20040822, 829, 73.2222,-160.1944,  485,    143.0,  -1.6513,  33.2972,2,-999.0000,9,    299.4,2,   -999.0,9,  -999.00,9,  -999.00,9,  -999.00,9,  -999.00,9,     -999,9,   -999.0,   9,   -999.0,   9,     -999,9,  -999.00,9,  -999.00,9,    0.974,2,  -1.6541,20040822, 830
  32H120040718,    56,  4,    402,      2,2,20040822, 829, 73.2222,-160.1944,  485,    143.0,  -1.6626,  33.2954,2,-999.0000,9,    297.9,2,   -999.0,9,  -999.00,9,  -999.00,9,  -999.00,9,  -999.00,9,     -999,9,   -999.0,   9,   -999.0,   9,     -999,9,  -999.00,9,  -999.00,9,    1.007,2,  -1.6654,20040822, 829
  32H120040718,    56,  5,    505,      5,2,20040822, 926, 73.2222,-160.1944,  485,     34.8,   0.1566,  31.7027,2,-999.0000,9,    372.1,2,   -999.0,9,  -999.00,9,  -999.00,9,  -999.00,9,  -999.00,9,     -999,9,   -999.0,   9,   -999.0,   9,     -999,9,  -999.00,9,  -999.00,9,    1.086,2,   0.1555,20040822, 924
  32H120040718,    56,  5,    504,      4,2,20040822, 926, 73.2222,-160.1944,  485,     34.8,   0.2097,  31.6977,2,-999.0000,9,    372.6,2,   -999.0,9,  -999.00,9,  -999.00,9,  -999.00,9,  -999.00,9,     -999,9,   -999.0,   9,   -999.0,   9,     -999,9,  -999.00,9,  -999.00,9,    1.108,2,   0.2086,20040822, 923
  32H120040718,    56,  5,    507,      7,2,20040822, 926, 73.2222,-160.1944,  485,     34.8,   0.3132,  31.7104,2,-999.0000,9,    375.4,2,   -999.0,9,  -999.00,9,  -999.00,9,  -999.00,9,  -999.00,9,     -999,9,   -999.0,   9,   -999.0,   9,     -999,9,  -999.00,9,  -999.00,9,    1.071,2,   0.3121,20040822, 925
  32H120040718,    56,  5,    512,     12,2,20040822, 926, 73.2222,-160.1944,  485,     34.8,   0.4047,  31.7293,2,-999.0000,9,    379.6,2,   -999.0,9,  -999.00,9,  -999.00,9,  -999.00,9,  -999.00,9,     -999,9,   -999.0,   9,   -999.0,   9,     -999,9,  -999.00,9,  -999.00,9,    1.035,2,   0.4035,20040822, 928
  32H120040718,    56,  5,    511,     11,2,20040822, 926, 73.2222,-160.1944,  485,     34.8,   0.4213,  31.7244,2,-999.0000,9,    380.0,2,   -999.0,9,  -999.00,9,  -999.00,9,  -999.00,9,  -999.00,9,     -999,9,   -999.0,   9,   -999.0,   9,     -999,9,  -999.00,9,  -999.00,9,    1.041,2,   0.4201,20040822, 927
  32H120040718,    56,  5,    510,     10,2,20040822, 926, 73.2222,-160.1944,  485,     34.8,   0.4227,  31.7351,2,-999.0000,9,    379.1,2,   -999.0,9,  -999.00,9,  -999.00,9,  -999.00,9,  -999.00,9,     -999,9,   -999.0,   9,   -999.0,   9,     -999,9,  -999.00,9,  -999.00,9,    1.016,2,   0.4215,20040822, 927
  32H120040718,    56,  5,    508,      8,2,20040822, 926, 73.2222,-160.1944,  485,     34.8,   0.4246,  31.7297,2,-999.0000,9,    380.0,2,   -999.0,9,  -999.00,9,  -999.00,9,  -999.00,9,  -999.00,9,     -999,9,   -999.0,   9,   -999.0,   9,     -999,9,  -999.00,9,  -999.00,9,    1.031,2,   0.4234,20040822, 925
  32H120040718,    56,  5,    502,      2,2,20040822, 926, 73.2222,-160.1944,  485,     34.9,  -0.0683,  31.6114,2,-999.0000,9,    363.0,2,   -999.0,9,  -999.00,9,  -999.00,9,  -999.00,9,  -999.00,9,     -999,9,   -999.0,   9,   -999.0,   9,     -999,9,  -999.00,9,  -999.00,9,    1.331,2,  -0.0693,20040822, 922
  32H120040718,    56,  5,    501,      1,2,20040822, 926, 73.2222,-160.1944,  485,     34.9,  -0.1393,  31.5964,2,-999.0000,9,    364.6,2,   -999.0,9,     7.79,2,     1.35,2,     0.16,2,     0.99,2,      0.4,2,   -999.0,   9,   -999.0,   9,     0.11,2,  -999.00,9,  -999.00,9,    1.353,2,  -0.1403,20040822, 922
  32H120040718,    56,  5,    503,      3,2,20040822, 926, 73.2222,-160.1944,  485,     34.9,   0.2548,  31.6911,2,-999.0000,9,    369.6,2,   -999.0,9,  -999.00,9,  -999.00,9,  -999.00,9,  -999.00,9,     -999,9,   -999.0,   9,   -999.0,   9,     -999,9,  -999.00,9,  -999.00,9,    1.079,2,   0.2537,20040822, 923
  32H120040718,    56,  5,    506,      6,2,20040822, 926, 73.2222,-160.1944,  485,     34.9,   0.2631,  31.7050,2,-999.0000,9,    372.3,2,   -999.0,9,  -999.00,9,  -999.00,9,  -999.00,9,  -999.00,9,     -999,9,   -999.0,   9,   -999.0,   9,     -999,9,  -999.00,9,  -999.00,9,    1.092,2,   0.2620,20040822, 924
  32H120040718,    56,  5,    509,      9,2,20040822, 926, 73.2222,-160.1944,  485,     34.9,   0.4307,  31.7447,2,-999.0000,9,    380.4,2,   -999.0,9,  -999.00,9,  -999.00,9,  -999.00,9,  -999.00,9,     -999,9,   -999.0,   9,   -999.0,   9,     -999,9,  -999.00,9,  -999.00,9,    1.012,2,   0.4295,20040822, 926
  32H120040718,    57,  1,    110,     10,2,20040822,1632, 73.1440,-160.4310,  267,      2.5,   1.3675,  26.9326,2,-999.0000,9,    366.4,2,    377.3,2,     5.16,2,     0.06,2,     0.00,2,     0.59,2,     0.16,2,   -999.0,   9,   -999.0,   9,     0.05,2,     0.20,2,     0.03,2,    1.023,2,   1.3674,20040822,1706
  32H120040718,    57,  1,    111,     11,9,20040822,1632, 73.1440,-160.4310,  267,      2.5,   1.3780,  26.9313,2,-999.0000,9,    366.8,2,   -999.0,9,  -999.00,9,  -999.00,9,  -999.00,9,  -999.00,9,     -999,9,   -999.0,   9,   -999.0,   9,     -999,9,  -999.00,9,  -999.00,9,    1.024,2,   1.3779,20040822,1706
  32H120040718,    57,  1,    112,     12,9,20040822,1632, 73.1440,-160.4310,  267,      2.7,   1.4062,  26.9227,2,-999.0000,9,    366.1,2,   -999.0,9,  -999.00,9,  -999.00,9,  -999.00,9,  -999.00,9,     -999,9,   -999.0,   9,   -999.0,   9,     -999,9,  -999.00,9,  -999.00,9,    1.079,2,   1.4061,20040822,1706
  32H120040718,    57,  1,    109,      9,2,20040822,1632, 73.1440,-160.4310,  267,      8.2,   1.5274,  26.8830,2,-999.0000,9,    364.0,2,    374.0,2,     5.06,2,     0.06,2,     0.00,2,     0.58,2,     0.16,2,   -999.0,   9,   -999.0,   9,     0.05,2,     0.20,2,     0.02,2,    1.142,2,   1.5271,20040822,1704
  32H120040718,    57,  1,    108,      8,2,20040822,1632, 73.1440,-160.4310,  267,     13.7,  -0.6338,  29.9758,2,-999.0000,9,    473.8,2,    493.5,2,     8.96,2,     0.05,2,     0.00,2,     0.75,2,     0.15,2,   -999.0,   9,   -999.0,   9,     0.06,2,     0.25,2,     0.05,2,    1.206,2,  -0.6341,20040822,1700
  32H120040718,    57,  1,    107,      7,2,20040822,1632, 73.1440,-160.4310,  267,     21.1,  -0.9464,  31.3766,2,-999.0000,9,    400.4,2,    421.5,2,     5.36,2,     0.05,2,     0.00,2,     0.82,2,     0.16,2,   -999.0,   9,   -999.0,   9,     0.11,2,     0.19,2,     0.04,2,    1.386,2,  -0.9468,20040822,1656
  32H120040718,    57,  1,    106,      6,2,20040822,1632, 73.1440,-160.4310,  267,     32.7,  -1.1279,  32.0825,2,-999.0000,9,    401.2,2,    419.4,2,    12.96,2,     0.13,2,     0.01,2,     1.08,2,     0.14,2,   -999.0,   9,   -999.0,   9,     0.09,2,     0.94,2,     0.14,2,    1.678,2,  -1.1286,20040822,1653
  32H120040718,    57,  1,    105,      5,2,20040822,1632, 73.1440,-160.4310,  267,     42.7,  -1.4457,  32.3595,2,-999.0000,9,    337.5,2,   -999.0,9,    20.83,2,     7.84,2,     0.09,2,     1.56,2,     0.66,2,   -999.0,   9,   -999.0,   9,     0.14,2,  -999.00,9,  -999.00,9,    2.158,2,  -1.4465,20040822,1650
  32H120040718,    57,  1,    104,      4,2,20040822,1632, 73.1440,-160.4310,  267,     49.8,  -1.5949,  32.5070,2,-999.0000,9,    321.7,2,    330.4,2,    35.16,2,    12.04,2,     0.09,2,     1.92,2,     0.87,2,   -999.0,   9,   -999.0,   9,     0.15,2,     2.03,2,     0.14,2,    1.671,2,  -1.5958,20040822,1647
  32H120040718,    57,  1,    103,      3,2,20040822,1632, 73.1440,-160.4310,  267,    102.7,  -1.6956,  33.2293,2,-999.0000,9,    300.8,2,   -999.0,9,    47.29,2,    16.38,2,     0.11,2,     2.18,2,     0.78,2,   -999.0,   9,   -999.0,   9,     0.09,2,  -999.00,9,  -999.00,9,    1.028,2,  -1.6975,20040822,1642
  32H120040718,    57,  1,    102,      2,2,20040822,1632, 73.1440,-160.4310,  267,    153.5,  -0.6401,  34.3203,2,-999.0000,9,    272.3,2,   -999.0,9,    19.12,2,    13.41,2,     0.03,2,     1.30,2,     0.06,2,   -999.0,   9,   -999.0,   9,      0.1,2,  -999.00,9,  -999.00,9,    0.893,2,  -0.6448,20040822,1636
  32H120040718,    57,  1,    101,      1,2,20040822,1632, 73.1440,-160.4310,  267,    202.4,   0.3047,  34.6604,2,-999.0000,9,    272.8,2,   -999.0,9,     9.99,2,    12.50,2,     0.03,2,     0.97,2,     0.05,2,   -999.0,   9,   -999.0,   9,     0.07,2,  -999.00,9,  -999.00,9,    0.696,2,   0.2967,20040822,1632
  32H120040718,    58,  1,    112,     12,2,20040822,2015, 73.1029,-160.5146,  213,      2.3,   2.3896,  26.8076,2,  26.7955,2,    352.8,2,    364.1,2,     4.64,2,     0.06,2,     0.00,2,     0.58,2,     0.13,2,   1785.3,   2,   1949.4,   2,     0.03,2,     0.19,2,     0.02,2,    0.857,2,   2.3895,20040822,2055
  32H120040718,    58,  1,    111,     11,2,20040822,2015, 73.1029,-160.5146,  213,     11.3,   1.8214,  27.6947,2,-999.0000,9,    361.7,2,    368.4,2,     3.47,2,     0.06,2,     0.00,2,     0.58,2,     0.13,2,   1813.9,   2,   1956.6,   2,     0.03,2,     0.14,2,     0.04,2,    0.884,2,   1.8210,20040822,2050
  32H120040718,    58,  1,    110,     10,2,20040822,2015, 73.1029,-160.5146,  213,     26.3,  -1.0142,  31.5917,2,  31.5720,2,    431.9,2,    450.6,2,    10.88,2,     0.06,2,     0.00,2,     0.96,2,     0.12,2,   2022.0,   2,   2207.0,   2,     0.06,2,     0.37,2,     0.09,2,    1.336,2,  -1.0147,20040822,2047
  32H120040718,    58,  1,    109,      9,2,20040822,2015, 73.1029,-160.5146,  213,     36.4,  -1.4106,  32.1670,2,-999.0000,9,    391.1,2,    407.5,2,    13.30,2,     0.56,2,     0.02,2,     1.14,2,      0.2,2,   -999.0,   9,   -999.0,   9,     0.08,2,     1.68,2,     0.36,2,    1.896,2,  -1.4113,20040822,2044
  32H120040718,    58,  1,    108,      8,2,20040822,2015, 73.1029,-160.5146,  213,     44.4,  -1.3815,  32.3960,2,  32.3595,2,    332.0,2,    348.2,2,    23.71,2,     9.19,2,     0.09,2,     1.66,2,     0.87,2,   2130.6,   2,   2247.9,   2,     0.14,2,     5.64,2,     0.04,2,    2.065,2,  -1.3824,20040822,2041
  32H120040718,    58,  1,    107,      7,2,20040822,2015, 73.1029,-160.5146,  213,     51.6,  -1.6125,  32.5502,2,-999.0000,9,    322.7,2,    333.3,2,    33.76,2,    11.69,2,     0.09,2,     1.90,2,     0.96,2,   2144.6,   2,   2242.0,   2,     0.13,2,     2.49,2,     0.10,2,    1.759,2,  -1.6134,20040822,2037
  32H120040718,    58,  1,    106,      6,2,20040822,2015, 73.1029,-160.5146,  213,     76.8,  -1.6704,  33.0789,2,  33.0738,2,    308.1,2,    315.6,2,    43.93,2,    14.47,2,     0.12,2,     2.07,2,     1.04,2,   2182.0,   2,   2264.8,   2,     0.08,2,  -999.00,9,  -999.00,9,    0.995,2,  -1.6718,20040822,2033
  32H120040718,    58,  1,    105,      5,2,20040822,2015, 73.1029,-160.5146,  213,    102.1,  -1.6557,  33.1931,2,-999.0000,9,    300.7,2,    310.2,2,    45.50,2,    16.01,2,     0.11,2,     2.13,2,     0.65,2,   2183.9,   2,   2268.7,   2,     0.08,2,     0.07,2,     0.12,2,    0.943,2,  -1.6576,20040822,2030
  32H120040718,    58,  1,    104,      4,2,20040822,2015, 73.1029,-160.5146,  213,    127.3,  -1.3135,  33.6412,2,-999.0000,9,    294.4,2,    308.0,2,    29.55,2,    12.42,2,     0.10,2,     1.67,2,     0.38,2,   2188.4,   2,   2303.8,   2,     0.08,2,  -999.00,9,  -999.00,9,    0.877,2,  -1.3164,20040822,2026
  32H120040718,    58,  1,    103,      3,2,20040822,2015, 73.1029,-160.5146,  213,    152.5,  -0.2001,  34.4213,2,-999.0000,9,    260.3,2,    269.3,2,    19.38,2,    13.66,2,     0.14,2,     1.32,2,     0.15,2,   2171.4,   2,   2293.4,   2,     0.57,2,     0.09,2,     0.17,2,    0.862,2,  -0.2053,20040822,2023
  32H120040718,    58,  1,    102,      2,2,20040822,2015, 73.1029,-160.5146,  213,    177.5,   0.0771,  34.5973,2,  34.5957,2,    267.0,2,    276.9,2,    12.23,2,    12.84,2,     0.05,2,     1.05,2,     0.05,2,   -999.0,   9,   -999.0,   9,     0.08,2,  -999.00,9,  -999.00,9,    0.740,2,   0.0705,20040822,2019
  32H120040718,    58,  1,    101,      1,2,20040822,2015, 73.1029,-160.5146,  213,    210.7,   0.3672,  34.6809,2,  34.6763,2,    264.5,2,    272.7,2,    13.49,2,    12.72,2,     0.06,2,     1.09,2,     0.25,2,   2161.9,   2,   2292.8,   2,     0.13,2,     0.08,2,     0.14,2,    0.791,2,   0.3587,20040822,2015