BOTTLE,20220815CCHSIOAMB
EXPOCODE,STNNBR,CASTNO,SAMPNO,BTLNBR,BTLNBR_FLAG_W,DATE,TIME,LATITUDE,LONGITUDE,DEPTH,CTDPRS,CTDTMP,CTDSAL,CTDSAL_FLAG_W,SALNTY,SALNTY_FLAG_W,CTDOXY,CTDOXY_FLAG_W,OXYGEN,OXYGEN_FLAG_W,SILCAT,SILCAT_FLAG_W,NITRAT,NITRAT_FLAG_W,NITRIT,NITRIT_FLAG_W,PHSPHT,PHSPHT_FLAG_W,AMMONI,AMMONI_FLAG_W,TCARBN,TCARBN_FLAG_W,ALKALI,ALKALI_FLAG_W,UREA,UREA_FLAG_W,CHLORA,CHLORA_FLAG_W,PHAEO,PHAEO_FLAG_W,FLUORO,FLUORO_FLAG_W,THETA,BTL_DATE,BTL_TIME
,,,,,,,,,,METERS,DBAR,ITS-90,PSS-78,,PSS-78,,UMOL/KG,,UMOL/KG,,UMOL/KG,,UMOL/KG,,UMOL/KG,,UMOL/KG,,UMOL/KG,,UMOL/KG,,UMOL/KG,,UMOL/KG,,UG/L,,UG/L,,VOLTS,,DEG C,,
  32H120040718,    38,  3,    304,      4,2,20040810,1941, 72.2170,-159.1960,   49,     26.0,  -1.5536,  32.4071,2,-999.0000,9,    413.3,2,   -999.0,9,  -999.00,9,  -999.00,9,  -999.00,9,  -999.00,9,     -999,9,   -999.0,   9,   -999.0,   9,     -999,9,  -999.00,9,  -999.00,9,    2.280,2,  -1.5541,20040810,1945
  32H120040718,    38,  3,    303,      3,2,20040810,1941, 72.2170,-159.1960,   49,     26.0,  -1.5549,  32.4078,2,-999.0000,9,    412.6,2,   -999.0,9,    25.84,2,     1.22,3,     0.03,2,     1.23,2,     0.13,2,   -999.0,   9,   -999.0,   9,     0.12,2,  -999.00,9,  -999.00,9,    2.459,2,  -1.5554,20040810,1945
  32H120040718,    38,  3,    305,      5,2,20040810,1941, 72.2170,-159.1960,   49,     26.0,  -1.5580,  32.4075,2,-999.0000,9,    412.6,2,   -999.0,9,  -999.00,9,  -999.00,9,  -999.00,9,  -999.00,9,     -999,9,   -999.0,   9,   -999.0,   9,     -999,9,  -999.00,9,  -999.00,9,    2.291,2,  -1.5585,20040810,1946
  32H120040718,    38,  3,    306,      6,2,20040810,1941, 72.2170,-159.1960,   49,     26.0,  -1.5595,  32.4078,2,-999.0000,9,    412.2,2,   -999.0,9,  -999.00,9,  -999.00,9,  -999.00,9,  -999.00,9,     -999,9,   -999.0,   9,   -999.0,   9,     -999,9,  -999.00,9,  -999.00,9,    2.288,2,  -1.5600,20040810,1946
  32H120040718,    38,  3,    307,      7,2,20040810,1941, 72.2170,-159.1960,   49,     26.0,  -1.5635,  32.4092,2,-999.0000,9,    411.9,2,   -999.0,9,  -999.00,9,  -999.00,9,  -999.00,9,  -999.00,9,     -999,9,   -999.0,   9,   -999.0,   9,     -999,9,  -999.00,9,  -999.00,9,    2.369,2,  -1.5640,20040810,1946
  32H120040718,    38,  3,    308,      8,2,20040810,1941, 72.2170,-159.1960,   49,     26.0,  -1.5769,  32.4190,2,-999.0000,9,    402.1,2,   -999.0,9,  -999.00,9,  -999.00,9,  -999.00,9,  -999.00,9,     -999,9,   -999.0,   9,   -999.0,   9,     -999,9,  -999.00,9,  -999.00,9,    2.310,2,  -1.5774,20040810,1946
  32H120040718,    38,  3,    309,      9,2,20040810,1941, 72.2170,-159.1960,   49,     26.0,  -1.5914,  32.4290,2,-999.0000,9,    394.9,2,   -999.0,9,  -999.00,9,  -999.00,9,  -999.00,9,  -999.00,9,     -999,9,   -999.0,   9,   -999.0,   9,     -999,9,  -999.00,9,  -999.00,9,    2.651,2,  -1.5918,20040810,1947
  32H120040718,    38,  3,    310,     10,2,20040810,1941, 72.2170,-159.1960,   49,     26.0,  -1.6085,  32.4435,2,-999.0000,9,    374.9,2,   -999.0,9,  -999.00,9,  -999.00,9,  -999.00,9,  -999.00,9,     -999,9,   -999.0,   9,   -999.0,   9,     -999,9,  -999.00,9,  -999.00,9,    3.037,2,  -1.6089,20040810,1947
  32H120040718,    38,  3,    312,     12,2,20040810,1941, 72.2170,-159.1960,   49,     26.0,  -1.6115,  32.4477,2,-999.0000,9,    367.7,2,   -999.0,9,    25.96,2,     0.69,3,     0.03,2,     1.22,2,      0.1,2,   -999.0,   9,   -999.0,   9,     0.12,2,  -999.00,9,  -999.00,9,    3.089,2,  -1.6119,20040810,1947
  32H120040718,    38,  3,    311,     11,2,20040810,1941, 72.2170,-159.1960,   49,     26.0,  -1.6136,  32.4499,2,-999.0000,9,    367.4,2,   -999.0,9,  -999.00,9,  -999.00,9,  -999.00,9,  -999.00,9,     -999,9,   -999.0,   9,   -999.0,   9,     -999,9,  -999.00,9,  -999.00,9,    3.055,2,  -1.6140,20040810,1947
  32H120040718,    38,  3,    302,      2,2,20040810,1941, 72.2170,-159.1960,   49,     35.0,  -1.7339,  32.7893,2,-999.0000,9,    317.1,2,   -999.0,9,    43.59,2,    15.17,2,     0.10,2,     2.08,2,     0.21,2,   -999.0,   9,   -999.0,   9,     0.18,2,  -999.00,9,  -999.00,9,    1.814,2,  -1.7345,20040810,1942
  32H120040718,    38,  3,    301,      1,2,20040810,1941, 72.2170,-159.1960,   49,     35.0,  -1.7345,  32.7894,2,-999.0000,9,    313.7,2,   -999.0,9,    43.03,2,    14.71,2,     0.10,2,     2.04,2,     0.22,2,   -999.0,   9,   -999.0,   9,     0.16,2,  -999.00,9,  -999.00,9,    1.861,2,  -1.7351,20040810,1941
  32H120040718,    39,  1,    112,     12,2,20040811, 157, 72.3790,-158.9710,   51,      5.6,  -0.1378,  28.0619,2,  28.0671,2,    392.7,2,    409.9,2,    11.03,2,     0.09,2,     0.00,2,     0.70,2,     0.13,2,   1777.0,   2,   1958.6,   2,     0.04,2,     0.43,2,     0.08,2,    1.235,2,  -0.1379,20040811, 214
  32H120040718,    39,  1,    111,     11,2,20040811, 157, 72.3790,-158.9710,   51,      5.6,  -0.1410,  28.0677,2,-999.0000,9,    393.4,2,   -999.0,9,  -999.00,9,  -999.00,9,  -999.00,9,  -999.00,9,     -999,9,   -999.0,   9,   -999.0,   9,     -999,9,  -999.00,9,  -999.00,9,    1.243,2,  -0.1411,20040811, 213
  32H120040718,    39,  1,    109,      9,2,20040811, 157, 72.3790,-158.9710,   51,     15.0,  -0.7247,  30.1640,2,-999.0000,9,    490.0,2,    468.3,2,     4.26,2,     0.04,2,     0.00,2,     0.59,2,     0.15,2,   -999.0,   9,   -999.0,   9,     0.04,2,     0.20,2,     0.03,2,    1.164,2,  -0.7250,20040811, 211
  32H120040718,    39,  1,    110,     10,9,20040811, 157, 72.3790,-158.9710,   51,     15.1,  -0.7438,  30.1971,2,-999.0000,9,    490.3,2,   -999.0,9,  -999.00,9,  -999.00,9,  -999.00,9,  -999.00,9,     -999,9,   -999.0,   9,   -999.0,   9,     -999,9,  -999.00,9,  -999.00,9,    1.146,2,  -0.7441,20040811, 211
  32H120040718,    39,  1,    107,      7,2,20040811, 157, 72.3790,-158.9710,   51,     26.6,  -1.5438,  32.2532,2,-999.0000,9,    367.6,2,    420.0,2,    24.45,2,     0.64,2,     0.04,2,     1.17,2,     0.17,2,   -999.0,   9,   -999.0,   9,     0.09,2,     4.45,2,     0.76,2,    2.366,2,  -1.5443,20040811, 206
  32H120040718,    39,  1,    108,      8,9,20040811, 157, 72.3790,-158.9710,   51,     26.7,  -1.5095,  32.2486,2,-999.0000,9,    381.7,2,   -999.0,9,  -999.00,9,  -999.00,9,  -999.00,9,  -999.00,9,     -999,9,   -999.0,   9,   -999.0,   9,     -999,9,  -999.00,9,  -999.00,9,    2.217,2,  -1.5100,20040811, 206
  32H120040718,    39,  1,    105,      5,2,20040811, 157, 72.3790,-158.9710,   51,     30.9,  -1.6204,  32.4531,2,-999.0000,9,    370.3,2,    381.3,2,    32.38,2,     7.50,2,     0.11,2,     1.56,2,     0.33,2,   -999.0,   9,   -999.0,   9,      0.1,2,     8.71,2,     0.24,2,    2.332,2,  -1.6209,20040811, 203
  32H120040718,    39,  1,    106,      6,9,20040811, 157, 72.3790,-158.9710,   51,     31.1,  -1.6464,  32.4951,2,-999.0000,9,    362.3,2,   -999.0,9,  -999.00,9,  -999.00,9,  -999.00,9,  -999.00,9,     -999,9,   -999.0,   9,   -999.0,   9,     -999,9,  -999.00,9,  -999.00,9,    2.200,2,  -1.6469,20040811, 204
  32H120040718,    39,  1,    103,      3,2,20040811, 157, 72.3790,-158.9710,   51,     36.0,  -1.7146,  32.7238,2,-999.0000,9,    304.9,2,    334.8,2,    39.13,2,    12.66,2,     0.07,2,     1.92,2,     0.52,2,   -999.0,   9,   -999.0,   9,     0.11,2,     3.11,2,     0.11,2,    1.821,2,  -1.7152,20040811, 201
  32H120040718,    39,  1,    104,      4,9,20040811, 157, 72.3790,-158.9710,   51,     36.1,  -1.7177,  32.7317,2,-999.0000,9,    303.9,2,   -999.0,9,  -999.00,9,  -999.00,9,  -999.00,9,  -999.00,9,     -999,9,   -999.0,   9,   -999.0,   9,     -999,9,  -999.00,9,  -999.00,9,    1.707,2,  -1.7183,20040811, 201
  32H120040718,    39,  1,    102,      2,9,20040811, 157, 72.3790,-158.9710,   51,     46.0,  -1.7393,  33.0179,2,-999.0000,9,    288.5,2,   -999.0,9,  -999.00,9,  -999.00,9,  -999.00,9,  -999.00,9,     -999,9,   -999.0,   9,   -999.0,   9,     -999,9,  -999.00,9,  -999.00,9,    1.658,2,  -1.7401,20040811, 158
  32H120040718,    39,  1,    101,      1,2,20040811, 157, 72.3790,-158.9710,   51,     46.1,  -1.7393,  33.0192,2,  33.0185,2,    288.2,2,    300.1,2,    53.62,2,    16.89,2,     0.16,2,     2.30,2,     2.06,2,   -999.0,   9,   -999.0,   9,     0.14,2,     1.60,2,     0.36,2,    1.602,2,  -1.7401,20040811, 157
  32H120040718,    40,  1,    112,     12,2,20040811, 352, 72.4760,-158.8840,   52,      1.8,  -0.3451,  28.0107,2,  28.0180,2,    402.5,2,   -999.0,9,    12.03,2,     0.09,2,     0.00,2,     0.72,2,     0.13,2,   1768.8,   2,   1948.0,   2,     0.04,2,     0.42,2,     0.08,2,    1.372,2,  -0.3451,20040811, 419
  32H120040718,    40,  1,    111,     11,2,20040811, 352, 72.4760,-158.8840,   52,      5.2,  -0.3333,  28.0186,2,-999.0000,9,    403.6,2,    420.1,2,    12.02,2,     0.03,2,     0.00,2,     0.73,2,     0.13,2,   1769.5,   2,   1947.3,   2,     0.04,2,  -999.00,9,  -999.00,9,    1.354,2,  -0.3334,20040811, 417
  32H120040718,    40,  1,    110,     10,2,20040811, 352, 72.4760,-158.8840,   52,     10.1,  -0.9581,  30.9325,2,-999.0000,9,    478.0,2,   -999.0,9,     7.61,2,     0.03,2,     0.00,2,     0.73,2,     0.14,2,   -999.0,   9,   -999.0,   9,     0.05,2,     0.31,2,     0.04,2,    1.232,2,  -0.9583,20040811, 415
  32H120040718,    40,  1,    109,      9,2,20040811, 352, 72.4760,-158.8840,   52,     15.1,  -1.2839,  31.6861,2,-999.0000,9,    440.5,2,    467.4,2,    16.96,2,     0.02,2,     0.01,2,     1.04,2,     0.13,2,   -999.0,   9,   -999.0,   9,     0.06,2,  -999.00,9,  -999.00,9,    1.538,2,  -1.2842,20040811, 413
  32H120040718,    40,  1,    108,      8,2,20040811, 352, 72.4760,-158.8840,   52,     20.2,  -1.4960,  32.0983,2,-999.0000,9,    389.5,2,   -999.0,9,    23.51,2,     0.47,2,     0.03,2,     1.19,2,     0.17,2,   -999.0,   9,   -999.0,   9,     0.07,2,     1.84,2,     0.21,2,    1.933,2,  -1.4964,20040811, 410
  32H120040718,    40,  1,    106,      6,2,20040811, 352, 72.4760,-158.8840,   52,     25.4,  -1.5975,  32.2959,2,-999.0000,9,    386.8,2,   -999.0,9,    31.73,2,     4.74,2,     0.09,2,     1.42,2,     0.28,2,   -999.0,   9,   -999.0,   9,     0.09,2,  -999.00,9,  -999.00,9,    1.925,2,  -1.5979,20040811, 407
  32H120040718,    40,  1,    107,      7,2,20040811, 352, 72.4760,-158.8840,   52,     25.4,  -1.5994,  32.3014,2,-999.0000,9,    382.0,2,    402.8,2,    31.53,2,     4.27,2,     0.09,2,     1.40,2,     0.27,2,   -999.0,   9,   -999.0,   9,     0.09,2,     5.00,2,     0.01,2,    1.974,2,  -1.5998,20040811, 408
  32H120040718,    40,  1,    105,      5,2,20040811, 352, 72.4760,-158.8840,   52,     30.0,  -1.6754,  32.4664,2,-999.0000,9,    319.8,2,    341.1,2,    37.64,2,    11.62,2,     0.08,2,     1.85,2,     0.44,2,   -999.0,   9,   -999.0,   9,     0.12,2,     4.04,2,     0.12,2,    1.867,2,  -1.6759,20040811, 405
  32H120040718,    40,  1,    104,      4,2,20040811, 352, 72.4760,-158.8840,   52,     35.9,  -1.7148,  32.6108,2,-999.0000,9,    310.3,2,   -999.0,9,    43.65,2,    14.43,2,     0.10,2,     2.01,2,     0.44,2,   -999.0,   9,   -999.0,   9,     0.08,2,  -999.00,9,  -999.00,9,    1.967,2,  -1.7154,20040811, 402
  32H120040718,    40,  1,    103,      3,2,20040811, 352, 72.4760,-158.8840,   52,     40.1,  -1.7023,  32.7362,2,-999.0000,9,    337.5,2,    359.0,2,    43.86,2,    13.64,2,     0.16,2,     1.90,2,     0.85,2,   -999.0,   9,   -999.0,   9,     0.08,2,     4.52,2,     0.37,2,    1.887,2,  -1.7030,20040811, 359
  32H120040718,    40,  1,    102,      2,2,20040811, 352, 72.4760,-158.8840,   52,     45.7,  -1.7494,  33.0813,2,-999.0000,9,    286.9,2,   -999.0,9,    54.11,2,    17.49,2,     0.17,2,     2.32,2,     1.49,2,   -999.0,   9,   -999.0,   9,     0.15,2,  -999.00,9,  -999.00,9,    1.547,2,  -1.7502,20040811, 355
  32H120040718,    40,  1,    101,      1,2,20040811, 352, 72.4760,-158.8840,   52,     49.8,  -1.7487,  33.0814,2,  33.0747,2,    287.5,2,    300.4,2,    54.31,2,    17.44,2,     0.17,2,     2.33,2,     1.55,2,   -999.0,   9,   -999.0,   9,     0.16,2,     1.61,2,     0.31,2,    1.479,2,  -1.7496,20040811, 352
  32H120040718,    41,  1,    112,     12,2,20040811, 557, 72.5567,-158.7862,   62,      2.0,  -0.2951,  28.0081,2,  28.0264,2,    405.6,2,   -999.0,9,    11.47,2,     0.07,2,     0.00,2,     0.70,2,     0.14,2,   1763.2,   2,   1953.0,   2,     0.04,2,  -999.00,9,  -999.00,9,    1.391,2,  -0.2951,20040811, 618
  32H120040718,    41,  1,    111,     11,2,20040811, 557, 72.5567,-158.7862,   62,      5.6,  -0.3008,  28.0270,2,-999.0000,9,    405.4,2,    428.4,2,    11.14,2,     0.02,2,     0.00,2,     0.70,2,     0.12,2,   1770.1,   2,   -999.0,   9,     0.05,2,  -999.00,9,  -999.00,9,    1.390,2,  -0.3009,20040811, 615
  32H120040718,    41,  1,    110,     10,2,20040811, 557, 72.5567,-158.7862,   62,     10.3,  -0.4539,  28.6138,2,-999.0000,9,    436.6,2,   -999.0,9,     8.78,2,     0.02,2,     0.00,2,     0.65,2,     0.12,2,   -999.0,   9,   -999.0,   9,     0.05,2,  -999.00,9,  -999.00,9,    1.370,2,  -0.4541,20040811, 612
  32H120040718,    41,  1,    109,      9,2,20040811, 557, 72.5567,-158.7862,   62,     20.4,  -1.1588,  31.5030,2,-999.0000,9,    379.2,2,    446.5,2,     5.44,2,     0.01,2,     0.00,2,     0.74,2,     0.14,2,   -999.0,   9,   -999.0,   9,     0.08,2,  -999.00,9,  -999.00,9,    1.016,2,  -1.1592,20040811, 609
  32H120040718,    41,  1,    108,      8,2,20040811, 557, 72.5567,-158.7862,   62,     30.5,  -1.5390,  32.1551,2,-999.0000,9,    404.3,2,   -999.0,9,  -999.00,9,  -999.00,9,  -999.00,9,  -999.00,9,     -999,9,   -999.0,   9,   -999.0,   9,     -999,9,  -999.00,9,  -999.00,9,    1.944,2,  -1.5395,20040811, 606
  32H120040718,    41,  1,    107,      7,2,20040811, 557, 72.5567,-158.7862,   62,     30.5,  -1.5402,  32.1605,2,-999.0000,9,    402.1,2,    413.5,2,    23.59,2,     1.34,2,     0.06,2,     1.25,2,     0.22,2,   -999.0,   9,   -999.0,   9,     0.09,2,  -999.00,9,  -999.00,9,    1.999,2,  -1.5407,20040811, 606
  32H120040718,    41,  1,    105,      5,2,20040811, 557, 72.5567,-158.7862,   62,     40.5,  -1.6894,  32.5895,2,-999.0000,9,    306.4,2,    363.3,2,    39.21,2,    10.89,2,     0.11,2,     1.76,2,     0.37,2,   -999.0,   9,   -999.0,   9,     0.11,2,  -999.00,9,  -999.00,9,    1.901,2,  -1.6901,20040811, 603
  32H120040718,    41,  1,    106,      6,2,20040811, 557, 72.5567,-158.7862,   62,     40.5,  -1.6905,  32.5922,2,-999.0000,9,    308.3,2,   -999.0,9,  -999.00,9,  -999.00,9,  -999.00,9,  -999.00,9,     -999,9,   -999.0,   9,   -999.0,   9,     -999,9,  -999.00,9,  -999.00,9,    2.214,2,  -1.6912,20040811, 603
  32H120040718,    41,  1,    104,      4,2,20040811, 557, 72.5567,-158.7862,   62,     50.8,  -1.7206,  32.9114,2,-999.0000,9,    304.3,2,   -999.0,9,  -999.00,9,  -999.00,9,  -999.00,9,  -999.00,9,     -999,9,   -999.0,   9,   -999.0,   9,     -999,9,  -999.00,9,  -999.00,9,    1.343,2,  -1.7215,20040811, 600
  32H120040718,    41,  1,    103,      3,2,20040811, 557, 72.5567,-158.7862,   62,     50.8,  -1.7207,  32.9113,2,-999.0000,9,    304.6,2,    320.8,2,    44.26,2,    13.93,2,     0.11,2,     1.99,2,     0.79,2,   -999.0,   9,   -999.0,   9,     0.13,2,  -999.00,9,  -999.00,9,    1.335,2,  -1.7216,20040811, 600
  32H120040718,    41,  1,    101,      1,9,20040811, 557, 72.5567,-158.7862,   62,     58.8,  -1.7493,  33.0251,2,-999.0000,9,    283.9,2,   -999.0,9,  -999.00,9,  -999.00,9,  -999.00,9,  -999.00,9,     -999,9,   -999.0,   9,   -999.0,   9,     -999,9,  -999.00,9,  -999.00,9,    1.349,2,  -1.7503,20040811, 556
  32H120040718,    41,  1,    102,      2,2,20040811, 557, 72.5567,-158.7862,   62,     58.8,  -1.7494,  33.0255,2,  33.0089,2,    283.1,2,    300.1,2,    53.26,2,    16.61,2,     0.15,2,     2.31,2,     1.06,2,   -999.0,   9,   -999.0,   9,     0.12,2,  -999.00,9,  -999.00,9,    1.367,2,  -1.7504,20040811, 557
  32H120040718,    42,  1,    112,     12,2,20040811, 808, 72.6091,-158.7336,   82,      2.1,   1.1805,  27.2297,2,  27.3305,2,    355.7,2,    372.3,2,     2.81,2,     0.02,2,     0.00,2,     0.55,2,     0.13,2,   1790.0,   2,   1926.4,   2,     0.01,2,     0.16,2,     0.04,2,    0.847,2,   1.1804,20040811, 849
  32H120040718,    42,  1,    111,     11,2,20040811, 808, 72.6091,-158.7336,   82,      6.2,   1.1545,  27.3522,2,-999.0000,9,    356.5,2,    372.6,2,     2.80,2,     0.02,2,     0.00,2,     0.55,2,     0.14,2,   1790.5,   2,   1927.5,   2,     0.01,2,  -999.00,9,  -999.00,9,    0.852,2,   1.1543,20040811, 845
  32H120040718,    42,  1,    110,     10,2,20040811, 808, 72.6091,-158.7336,   82,     11.2,   0.9057,  27.7126,2,-999.0000,9,    366.2,2,    380.6,2,     2.80,2,     0.01,2,     0.00,2,     0.55,2,     0.13,2,   1803.8,   2,   1951.8,   2,     0.01,2,     0.05,2,     0.13,2,    0.870,2,   0.9054,20040811, 843
  32H120040718,    42,  1,    109,      9,2,20040811, 808, 72.6091,-158.7336,   82,     16.3,   0.3655,  28.8755,2,-999.0000,9,    378.8,2,    399.5,2,     2.69,2,     0.07,2,     0.00,2,     0.58,2,     0.15,2,   -999.0,   9,   -999.0,   9,     0.01,2,  -999.00,9,  -999.00,9,    0.928,2,   0.3651,20040811, 839
  32H120040718,    42,  1,    108,      8,2,20040811, 808, 72.6091,-158.7336,   82,     21.9,  -0.8359,  30.7587,2,-999.0000,9,    413.8,2,    432.4,2,     2.13,2,     0.01,2,     0.00,2,     0.67,2,     0.09,2,   1994.8,   2,   2167.4,   2,     0.02,2,     0.07,2,     0.02,2,    0.732,2,  -0.8364,20040811, 834
  32H120040718,    42,  1,    107,      7,2,20040811, 808, 72.6091,-158.7336,   82,     34.4,  -0.7621,  32.0769,2,-999.0000,9,    378.0,2,   -999.0,9,  -999.00,9,  -999.00,9,  -999.00,9,  -999.00,9,     -999,9,   -999.0,   9,   -999.0,   9,     -999,9,  -999.00,9,  -999.00,9,    2.263,2,  -0.7629,20040811, 831
  32H120040718,    42,  1,    106,      6,2,20040811, 808, 72.6091,-158.7336,   82,     34.4,  -0.8992,  32.1364,2,-999.0000,9,    353.6,2,    397.1,2,     6.72,2,     0.68,2,     0.02,2,     0.99,2,     0.17,2,   2062.1,   2,   2225.9,   2,     0.08,2,     3.03,2,     0.03,2,    2.027,2,  -0.9000,20040811, 830
  32H120040718,    42,  1,    105,      5,2,20040811, 808, 72.6091,-158.7336,   82,     42.1,  -1.2068,  32.4576,2,-999.0000,9,    330.4,2,    346.2,2,    21.25,2,     7.82,2,     0.11,2,     1.52,2,     1.33,2,   2124.0,   2,   2232.2,   2,      0.1,2,     0.20,2,     0.08,2,    1.120,2,  -1.2077,20040811, 825
  32H120040718,    42,  1,    104,      4,2,20040811, 808, 72.6091,-158.7336,   82,     51.5,  -1.4750,  32.6564,2,-999.0000,9,    322.4,2,    338.7,2,    24.40,2,     9.14,2,     0.10,2,     1.56,2,     1.09,2,   2144.2,   2,   2273.6,   2,     0.07,2,     0.31,2,     0.08,2,    1.310,2,  -1.4760,20040811, 821
  32H120040718,    42,  1,    103,      3,2,20040811, 808, 72.6091,-158.7336,   82,     66.4,  -1.7441,  33.0102,2,-999.0000,9,    285.2,2,    300.3,2,    53.43,2,    17.03,2,     0.14,2,     2.30,2,      1.3,2,   2188.9,   2,   2245.1,   2,     0.11,2,  -999.00,9,  -999.00,9,    1.404,2,  -1.7453,20040811, 816
  32H120040718,    42,  1,    102,      2,2,20040811, 808, 72.6091,-158.7336,   82,     76.8,  -1.7433,  33.0720,2,  33.0556,2,    288.3,2,    302.2,2,    54.38,2,    17.54,2,     0.14,2,     2.35,2,     1.67,2,   2097.6,   2,   2246.0,   2,      0.1,2,  -999.00,9,  -999.00,9,    1.626,2,  -1.7447,20040811, 811
  32H120040718,    42,  1,    101,      1,2,20040811, 808, 72.6091,-158.7336,   82,     80.5,  -1.7435,  33.0817,2,  33.0826,2,    289.0,2,    302.2,2,    54.91,2,    17.90,2,     0.14,2,     2.36,2,     1.73,2,   2184.1,   2,   2244.5,   2,      0.1,2,     2.39,2,     0.41,2,    1.653,2,  -1.7449,20040811, 808