BOTTLE,20220815CCHSIOAMB
EXPOCODE,STNNBR,CASTNO,SAMPNO,BTLNBR,BTLNBR_FLAG_W,DATE,TIME,LATITUDE,LONGITUDE,DEPTH,CTDPRS,CTDTMP,CTDSAL,CTDSAL_FLAG_W,SALNTY,SALNTY_FLAG_W,CTDOXY,CTDOXY_FLAG_W,OXYGEN,OXYGEN_FLAG_W,SILCAT,SILCAT_FLAG_W,NITRAT,NITRAT_FLAG_W,NITRIT,NITRIT_FLAG_W,PHSPHT,PHSPHT_FLAG_W,AMMONI,AMMONI_FLAG_W,TCARBN,TCARBN_FLAG_W,ALKALI,ALKALI_FLAG_W,UREA,UREA_FLAG_W,CHLORA,CHLORA_FLAG_W,PHAEO,PHAEO_FLAG_W,FLUORO,FLUORO_FLAG_W,THETA,BTL_DATE,BTL_TIME
,,,,,,,,,,METERS,DBAR,ITS-90,PSS-78,,PSS-78,,UMOL/KG,,UMOL/KG,,UMOL/KG,,UMOL/KG,,UMOL/KG,,UMOL/KG,,UMOL/KG,,UMOL/KG,,UMOL/KG,,UMOL/KG,,UG/L,,UG/L,,VOLTS,,DEG C,,
  32H120040718,    30,  2,    212,     12,2,20040801,1227, 72.6050,-151.8670, 3843,      2.3,  -1.2750,  26.5137,2,  26.5123,2,    377.4,2,    383.0,2,     1.81,2,     0.07,2,     0.00,2,     0.59,2,     0.13,2,   1801.3,   2,   1902.4,   2,        0,2,     0.03,2,     0.01,2,    0.674,2,  -1.2750,20040801,1307
  32H120040718,    30,  2,    211,     11,2,20040801,1227, 72.6050,-151.8670, 3843,      5.9,  -1.2881,  26.5141,2,-999.0000,9,    377.5,2,    383.3,2,     1.79,2,     0.01,2,     0.00,2,     0.59,2,     0.14,2,   -999.0,   9,   -999.0,   9,        0,2,  -999.00,9,  -999.00,9,    0.628,2,  -1.2881,20040801,1305
  32H120040718,    30,  2,    210,     10,2,20040801,1227, 72.6050,-151.8670, 3843,     11.0,  -1.2841,  26.5421,2,-999.0000,9,    377.7,2,    385.5,2,     1.77,2,     0.01,2,     0.00,2,     0.59,2,     0.14,2,   1813.3,   2,   1918.4,   2,        0,2,     0.03,2,     0.01,2,    0.662,2,  -1.2842,20040801,1301
  32H120040718,    30,  2,    209,      9,2,20040801,1227, 72.6050,-151.8670, 3843,     21.7,  -0.8865,  28.3981,2,-999.0000,9,    385.3,2,    390.3,2,     1.96,2,     0.00,2,     0.00,2,     0.64,2,     0.15,2,   1892.5,   2,   2029.3,   2,     0.01,2,     0.06,2,     0.01,2,    0.718,2,  -0.8868,20040801,1258
  32H120040718,    30,  2,    208,      8,2,20040801,1227, 72.6050,-151.8670, 3843,     32.0,  -1.0033,  29.5616,2,-999.0000,9,    390.9,2,    397.9,2,     2.26,2,     0.05,2,     0.00,2,     0.70,2,     0.11,2,   1983.5,   2,   2123.3,   2,     0.01,2,     0.09,2,     0.04,2,    0.787,2,  -1.0038,20040801,1254
  32H120040718,    30,  2,    207,      7,2,20040801,1227, 72.6050,-151.8670, 3843,     41.0,  -1.1873,  30.1524,2,-999.0000,9,    392.7,2,    398.5,2,     2.58,2,     0.05,2,     0.00,2,     1.01,2,      0.1,2,   2000.9,   2,   2147.3,   2,     0.01,2,     0.11,2,     0.05,2,    0.929,2,  -1.1880,20040801,1251
  32H120040718,    30,  2,    206,      6,2,20040801,1227, 72.6050,-151.8670, 3843,     56.0,  -0.3727,  31.6164,2,-999.0000,9,    360.6,2,    370.6,2,     7.83,2,     1.82,2,     0.09,2,     0.99,2,     0.11,2,   2054.1,   2,   2208.7,   2,     0.03,2,     0.83,2,     0.37,2,    1.707,2,  -0.3742,20040801,1246
  32H120040718,    30,  2,    205,      5,2,20040801,1227, 72.6050,-151.8670, 3843,     66.2,  -1.0590,  31.9495,2,-999.0000,9,    328.5,2,    337.2,2,    12.96,2,     6.53,2,     0.05,2,     1.27,2,     0.08,2,   2088.2,   2,   2217.6,   2,     0.03,2,     0.29,2,     0.34,2,    1.355,2,  -1.0604,20040801,1243
  32H120040718,    30,  2,    204,      4,2,20040801,1227, 72.6050,-151.8670, 3843,     81.0,  -1.2827,  32.2474,2,-999.0000,9,    308.1,2,    314.0,2,    19.51,2,     9.88,2,     0.01,2,     1.50,2,     0.07,2,   2132.0,   2,   2241.5,   2,     0.02,2,  -999.00,9,  -999.00,9,    0.990,2,  -1.2843,20040801,1239
  32H120040718,    30,  2,    203,      3,2,20040801,1227, 72.6050,-151.8670, 3843,    101.3,  -1.3988,  32.5180,2,  32.5094,2,    292.4,2,    297.6,2,    25.29,2,    12.44,2,     0.00,2,     1.67,2,     0.07,2,   -999.0,   9,   -999.0,   9,     0.03,2,     0.03,2,     0.02,2,    0.720,2,  -1.4008,20040801,1234
  32H120040718,    30,  2,    202,      2,2,20040801,1227, 72.6050,-151.8670, 3843,    127.6,  -1.4989,  32.7734,2,  32.7683,2,    283.4,2,    288.5,2,    29.86,2,    14.21,2,     0.00,2,     1.78,2,     0.06,2,   -999.0,   9,   -999.0,   9,     0.03,2,  -999.00,9,  -999.00,9,    0.727,2,  -1.5014,20040801,1230
  32H120040718,    30,  2,    201,      1,2,20040801,1227, 72.6050,-151.8670, 3843,    153.0,  -1.5236,  33.0238,2,  33.0172,2,    279.5,2,    284.4,2,    32.36,2,    14.97,2,     0.00,2,     1.82,2,     0.05,2,   2192.8,   2,   2271.6,   2,     0.02,2,     0.01,2,     0.01,2,    0.724,2,  -1.5267,20040801,1227
  32H120040718,    30,  3,    307,      7,2,20040801,1423, 72.6050,-151.8670, 3843,     96.3,  -1.3940,  32.4684,2,-999.0000,9,    296.2,2,   -999.0,9,  -999.00,9,  -999.00,9,  -999.00,9,  -999.00,9,     -999,9,   -999.0,   9,   -999.0,   9,     -999,9,  -999.00,9,  -999.00,9,    0.765,2,  -1.3959,20040801,1431
  32H120040718,    30,  3,    308,      8,2,20040801,1423, 72.6050,-151.8670, 3843,     96.3,  -1.3946,  32.4703,2,-999.0000,9,    296.2,2,   -999.0,9,  -999.00,9,  -999.00,9,  -999.00,9,  -999.00,9,     -999,9,   -999.0,   9,   -999.0,   9,     -999,9,  -999.00,9,  -999.00,9,    0.774,2,  -1.3965,20040801,1431
  32H120040718,    30,  3,    309,      9,2,20040801,1423, 72.6050,-151.8670, 3843,     96.3,  -1.3952,  32.4722,2,-999.0000,9,    296.0,2,   -999.0,9,  -999.00,9,  -999.00,9,  -999.00,9,  -999.00,9,     -999,9,   -999.0,   9,   -999.0,   9,     -999,9,  -999.00,9,  -999.00,9,    0.785,2,  -1.3971,20040801,1431
  32H120040718,    30,  3,    310,     10,2,20040801,1423, 72.6050,-151.8670, 3843,     96.3,  -1.3953,  32.4724,2,-999.0000,9,    296.2,2,   -999.0,9,  -999.00,9,  -999.00,9,  -999.00,9,  -999.00,9,     -999,9,   -999.0,   9,   -999.0,   9,     -999,9,  -999.00,9,  -999.00,9,    0.740,2,  -1.3972,20040801,1432
  32H120040718,    30,  3,    311,     11,2,20040801,1423, 72.6050,-151.8670, 3843,     96.3,  -1.3955,  32.4729,2,-999.0000,9,    296.1,2,   -999.0,9,  -999.00,9,  -999.00,9,  -999.00,9,  -999.00,9,     -999,9,   -999.0,   9,   -999.0,   9,     -999,9,  -999.00,9,  -999.00,9,    0.778,2,  -1.3974,20040801,1432
  32H120040718,    30,  3,    312,     12,2,20040801,1423, 72.6050,-151.8670, 3843,     96.3,  -1.3959,  32.4742,2,-999.0000,9,    295.9,2,   -999.0,9,    24.40,2,    11.83,2,     0.00,2,     1.63,2,     0.07,2,   -999.0,   9,   -999.0,   9,     0.02,2,  -999.00,9,  -999.00,9,    0.756,2,  -1.3978,20040801,1432
  32H120040718,    30,  3,    306,      6,2,20040801,1423, 72.6050,-151.8670, 3843,    253.9,  -0.0815,  34.5625,2,-999.0000,9,    270.7,2,   -999.0,9,  -999.00,9,  -999.00,9,  -999.00,9,  -999.00,9,     -999,9,   -999.0,   9,   -999.0,   9,     -999,9,  -999.00,9,  -999.00,9,    0.635,2,  -0.0908,20040801,1424
  32H120040718,    30,  3,    301,      1,2,20040801,1423, 72.6050,-151.8670, 3843,    253.9,  -0.0823,  34.5613,2,-999.0000,9,    270.9,2,   -999.0,9,    12.75,2,    13.10,2,     0.00,2,     1.03,2,     0.03,2,   -999.0,   9,   -999.0,   9,     0.03,2,  -999.00,9,  -999.00,9,    0.623,2,  -0.0916,20040801,1422
  32H120040718,    30,  3,    302,      2,2,20040801,1423, 72.6050,-151.8670, 3843,    253.9,  -0.0828,  34.5610,2,-999.0000,9,    270.6,2,   -999.0,9,  -999.00,9,  -999.00,9,  -999.00,9,  -999.00,9,     -999,9,   -999.0,   9,   -999.0,   9,     -999,9,  -999.00,9,  -999.00,9,    0.671,2,  -0.0921,20040801,1422
  32H120040718,    30,  3,    305,      5,2,20040801,1423, 72.6050,-151.8670, 3843,    253.9,  -0.0832,  34.5619,2,-999.0000,9,    270.9,2,   -999.0,9,  -999.00,9,  -999.00,9,  -999.00,9,  -999.00,9,     -999,9,   -999.0,   9,   -999.0,   9,     -999,9,  -999.00,9,  -999.00,9,    0.649,2,  -0.0925,20040801,1423
  32H120040718,    30,  3,    303,      3,2,20040801,1423, 72.6050,-151.8670, 3843,    253.9,  -0.0837,  34.5612,2,-999.0000,9,    270.8,2,   -999.0,9,  -999.00,9,  -999.00,9,  -999.00,9,  -999.00,9,     -999,9,   -999.0,   9,   -999.0,   9,     -999,9,  -999.00,9,  -999.00,9,    0.647,2,  -0.0930,20040801,1423
  32H120040718,    30,  3,    304,      4,2,20040801,1423, 72.6050,-151.8670, 3843,    253.9,  -0.0846,  34.5613,2,-999.0000,9,    270.7,2,   -999.0,9,  -999.00,9,  -999.00,9,  -999.00,9,  -999.00,9,     -999,9,   -999.0,   9,   -999.0,   9,     -999,9,  -999.00,9,  -999.00,9,    0.641,2,  -0.0939,20040801,1423
  32H120040718,    30,  4,    412,     12,2,20040801,1519, 72.6050,-151.8670, 3843,     53.6,  -0.2721,  31.5014,2,-999.0000,9,    372.5,2,   -999.0,9,  -999.00,9,  -999.00,9,  -999.00,9,  -999.00,9,     -999,9,   -999.0,   9,   -999.0,   9,     -999,9,  -999.00,9,  -999.00,9,    1.732,2,  -0.2736,20040801,1524
  32H120040718,    30,  4,    411,     11,2,20040801,1519, 72.6050,-151.8670, 3843,     53.6,  -0.2735,  31.5012,2,-999.0000,9,    373.1,2,   -999.0,9,  -999.00,9,  -999.00,9,  -999.00,9,  -999.00,9,     -999,9,   -999.0,   9,   -999.0,   9,     -999,9,  -999.00,9,  -999.00,9,    1.691,2,  -0.2750,20040801,1523
  32H120040718,    30,  4,    409,      9,2,20040801,1519, 72.6050,-151.8670, 3843,     53.6,  -0.2737,  31.4994,2,-999.0000,9,    374.1,2,   -999.0,9,  -999.00,9,  -999.00,9,  -999.00,9,  -999.00,9,     -999,9,   -999.0,   9,   -999.0,   9,     -999,9,  -999.00,9,  -999.00,9,    1.669,2,  -0.2752,20040801,1522
  32H120040718,    30,  4,    408,      8,2,20040801,1519, 72.6050,-151.8670, 3843,     53.6,  -0.2738,  31.4993,2,-999.0000,9,    374.3,2,   -999.0,9,  -999.00,9,  -999.00,9,  -999.00,9,  -999.00,9,     -999,9,   -999.0,   9,   -999.0,   9,     -999,9,  -999.00,9,  -999.00,9,    1.668,2,  -0.2753,20040801,1522
  32H120040718,    30,  4,    407,      7,2,20040801,1519, 72.6050,-151.8670, 3843,     53.6,  -0.2738,  31.4996,2,-999.0000,9,    374.4,2,   -999.0,9,  -999.00,9,  -999.00,9,  -999.00,9,  -999.00,9,     -999,9,   -999.0,   9,   -999.0,   9,     -999,9,  -999.00,9,  -999.00,9,    1.670,2,  -0.2753,20040801,1522
  32H120040718,    30,  4,    410,     10,2,20040801,1519, 72.6050,-151.8670, 3843,     53.6,  -0.2741,  31.5010,2,-999.0000,9,    373.7,2,   -999.0,9,  -999.00,9,  -999.00,9,  -999.00,9,  -999.00,9,     -999,9,   -999.0,   9,   -999.0,   9,     -999,9,  -999.00,9,  -999.00,9,    1.670,2,  -0.2756,20040801,1523
  32H120040718,    30,  4,    406,      6,2,20040801,1519, 72.6050,-151.8670, 3843,     53.6,  -0.2747,  31.5007,2,-999.0000,9,    373.8,2,   -999.0,9,  -999.00,9,  -999.00,9,  -999.00,9,  -999.00,9,     -999,9,   -999.0,   9,   -999.0,   9,     -999,9,  -999.00,9,  -999.00,9,    1.671,2,  -0.2762,20040801,1521
  32H120040718,    30,  4,    405,      5,2,20040801,1519, 72.6050,-151.8670, 3843,     53.6,  -0.2759,  31.5028,2,-999.0000,9,    368.3,2,   -999.0,9,  -999.00,9,  -999.00,9,  -999.00,9,  -999.00,9,     -999,9,   -999.0,   9,   -999.0,   9,     -999,9,  -999.00,9,  -999.00,9,    1.734,2,  -0.2774,20040801,1520
  32H120040718,    30,  4,    401,      1,2,20040801,1519, 72.6050,-151.8670, 3843,     53.6,  -0.2839,  31.5151,2,-999.0000,9,    368.1,2,   -999.0,9,  -999.00,9,  -999.00,9,  -999.00,9,  -999.00,9,     -999,9,   -999.0,   9,   -999.0,   9,     -999,9,  -999.00,9,  -999.00,9,    1.716,2,  -0.2854,20040801,1518
  32H120040718,    30,  4,    402,      2,2,20040801,1519, 72.6050,-151.8670, 3843,     53.6,  -0.2940,  31.5214,2,-999.0000,9,    367.1,2,   -999.0,9,     7.92,2,     1.73,2,     0.09,2,     0.98,2,     0.11,2,   -999.0,   9,   -999.0,   9,     0.03,2,  -999.00,9,  -999.00,9,    1.735,2,  -0.2955,20040801,1519
  32H120040718,    30,  4,    404,      4,2,20040801,1519, 72.6050,-151.8670, 3843,     53.6,  -0.3227,  31.5359,2,-999.0000,9,    367.1,2,   -999.0,9,  -999.00,9,  -999.00,9,  -999.00,9,  -999.00,9,     -999,9,   -999.0,   9,   -999.0,   9,     -999,9,  -999.00,9,  -999.00,9,    1.724,2,  -0.3241,20040801,1520
  32H120040718,    30,  4,    403,      3,2,20040801,1519, 72.6050,-151.8670, 3843,     53.6,  -0.3584,  31.5497,2,-999.0000,9,    366.3,2,   -999.0,9,  -999.00,9,  -999.00,9,  -999.00,9,  -999.00,9,     -999,9,   -999.0,   9,   -999.0,   9,     -999,9,  -999.00,9,  -999.00,9,    1.714,2,  -0.3598,20040801,1519
  32H120040718,    30,  5,    512,     12,2,20040801,1641, 72.6050,-151.8670, 3843,      2.0,  -1.2814,  26.4850,2,-999.0000,9,    376.9,2,   -999.0,9,  -999.00,9,  -999.00,9,  -999.00,9,  -999.00,9,     -999,9,   -999.0,   9,   -999.0,   9,     -999,9,  -999.00,9,  -999.00,9,    0.515,2,  -1.2814,20040801,1713
  32H120040718,    30,  5,    511,     11,2,20040801,1641, 72.6050,-151.8670, 3843,      2.0,  -1.2821,  26.4857,2,-999.0000,9,    377.0,2,    384.2,2,     1.96,2,     0.04,2,     0.00,2,     0.59,2,     0.11,2,   -999.0,   9,   -999.0,   9,        0,2,     0.03,2,     0.01,2,    0.543,2,  -1.2821,20040801,1713
  32H120040718,    30,  5,    510,     10,2,20040801,1641, 72.6050,-151.8670, 3843,     17.7,  -0.9533,  27.5751,2,-999.0000,9,    383.1,2,    393.7,2,     2.19,2,     0.00,2,     0.00,2,     0.64,2,      0.1,2,   -999.0,   9,   -999.0,   9,     0.01,2,     0.04,2,     0.01,2,    0.557,2,  -0.9535,20040801,1710
  32H120040718,    30,  5,    509,      9,2,20040801,1641, 72.6050,-151.8670, 3843,     30.1,  -1.0275,  28.9671,2,-999.0000,9,    389.8,2,    395.3,2,     3.08,2,     0.09,2,     0.00,2,     0.71,2,      0.1,2,   -999.0,   9,   -999.0,   9,     0.01,2,     0.09,2,     0.03,2,    0.670,2,  -1.0280,20040801,1708
  32H120040718,    30,  5,    507,      7,2,20040801,1641, 72.6050,-151.8670, 3843,     46.7,  -0.1686,  31.0622,2,-999.0000,9,    382.6,2,    383.9,2,     5.83,2,     0.57,2,     0.02,2,     0.86,2,     0.09,2,   -999.0,   9,   -999.0,   9,     0.02,2,     0.37,2,     0.18,2,    1.119,2,  -0.1699,20040801,1704
  32H120040718,    30,  5,    508,      8,2,20040801,1641, 72.6050,-151.8670, 3843,     46.7,  -0.1804,  31.0453,2,-999.0000,9,    382.8,2,   -999.0,9,  -999.00,9,  -999.00,9,  -999.00,9,  -999.00,9,     -999,9,   -999.0,   9,   -999.0,   9,     -999,9,  -999.00,9,  -999.00,9,    1.150,2,  -0.1817,20040801,1704
  32H120040718,    30,  5,    506,      6,2,20040801,1641, 72.6050,-151.8670, 3843,     73.2,  -1.1359,  32.0550,2,-999.0000,9,    320.8,2,    326.7,2,    16.16,2,     8.20,2,     0.01,2,     1.39,2,     0.08,2,   -999.0,   9,   -999.0,   9,     0.06,2,     0.18,2,     0.12,2,    1.159,2,  -1.1374,20040801,1700
  32H120040718,    30,  5,    504,      4,2,20040801,1641, 72.6050,-151.8670, 3843,    112.0,  -1.4353,  32.6154,2,-999.0000,9,    287.1,2,   -999.0,9,  -999.00,9,  -999.00,9,  -999.00,9,  -999.00,9,     -999,9,   -999.0,   9,   -999.0,   9,     -999,9,  -999.00,9,  -999.00,9,    0.661,2,  -1.4375,20040801,1654
  32H120040718,    30,  5,    505,      5,2,20040801,1641, 72.6050,-151.8670, 3843,    112.0,  -1.4357,  32.6125,2,-999.0000,9,    287.2,2,    292.7,2,    27.75,2,    13.35,2,     0.00,2,     1.74,2,     0.06,2,   -999.0,   9,   -999.0,   9,     0.04,2,     0.01,2,     0.02,2,    0.692,2,  -1.4379,20040801,1655
  32H120040718,    30,  5,    503,      3,2,20040801,1641, 72.6050,-151.8670, 3843,    152.7,  -1.5185,  33.1066,2,-999.0000,9,    275.9,2,   -999.0,9,    33.87,2,    15.71,2,     0.00,2,     1.86,2,     0.04,2,   -999.0,   9,   -999.0,   9,     0.03,2,  -999.00,9,  -999.00,9,    0.702,2,  -1.5216,20040801,1649
  32H120040718,    30,  5,    502,      2,2,20040801,1641, 72.6050,-151.8670, 3843,    204.2,  -1.0724,  34.0545,2,-999.0000,9,    270.6,2,   -999.0,9,    25.03,2,    14.37,2,     0.00,2,     1.45,2,     0.03,2,   -999.0,   9,   -999.0,   9,     0.03,2,  -999.00,9,  -999.00,9,    0.695,2,  -1.0779,20040801,1644
  32H120040718,    30,  5,    501,      1,2,20040801,1641, 72.6050,-151.8670, 3843,    254.2,  -0.1062,  34.5485,2,-999.0000,9,    271.3,2,   -999.0,9,    12.25,2,    13.08,2,     0.00,2,     1.04,2,     0.05,2,   -999.0,   9,   -999.0,   9,     0.06,2,  -999.00,9,  -999.00,9,    0.625,2,  -0.1154,20040801,1641
  32H120040718,    30,  6,    612,     12,2,20040801,1850, 72.6050,-151.8670, 3843,     52.9,  -0.2274,  31.4549,2,-999.0000,9,    370.2,2,   -999.0,9,     7.54,2,     1.18,2,     0.10,2,     0.94,2,     0.13,2,   -999.0,   9,   -999.0,   9,     0.04,2,  -999.00,9,  -999.00,9,    1.708,2,  -0.2289,20040801,1854
  32H120040718,    30,  6,    611,     11,2,20040801,1850, 72.6050,-151.8670, 3843,     52.9,  -0.2333,  31.4552,2,-999.0000,9,    370.9,2,   -999.0,9,  -999.00,9,  -999.00,9,  -999.00,9,  -999.00,9,     -999,9,   -999.0,   9,   -999.0,   9,     -999,9,  -999.00,9,  -999.00,9,    1.704,2,  -0.2348,20040801,1854
  32H120040718,    30,  6,    610,     10,2,20040801,1850, 72.6050,-151.8670, 3843,     52.9,  -0.2550,  31.4572,2,-999.0000,9,    371.2,2,   -999.0,9,  -999.00,9,  -999.00,9,  -999.00,9,  -999.00,9,     -999,9,   -999.0,   9,   -999.0,   9,     -999,9,  -999.00,9,  -999.00,9,    1.706,2,  -0.2564,20040801,1854
  32H120040718,    30,  6,    609,      9,2,20040801,1850, 72.6050,-151.8670, 3843,     52.9,  -0.2686,  31.4582,2,-999.0000,9,    373.6,2,   -999.0,9,  -999.00,9,  -999.00,9,  -999.00,9,  -999.00,9,     -999,9,   -999.0,   9,   -999.0,   9,     -999,9,  -999.00,9,  -999.00,9,    1.703,2,  -0.2700,20040801,1853
  32H120040718,    30,  6,    608,      8,2,20040801,1850, 72.6050,-151.8670, 3843,     52.9,  -0.3529,  31.4661,2,-999.0000,9,    375.2,2,   -999.0,9,  -999.00,9,  -999.00,9,  -999.00,9,  -999.00,9,     -999,9,   -999.0,   9,   -999.0,   9,     -999,9,  -999.00,9,  -999.00,9,    1.689,2,  -0.3543,20040801,1853
  32H120040718,    30,  6,    604,      4,2,20040801,1850, 72.6050,-151.8670, 3843,     52.9,  -0.3730,  31.4765,2,-999.0000,9,    374.9,2,   -999.0,9,  -999.00,9,  -999.00,9,  -999.00,9,  -999.00,9,     -999,9,   -999.0,   9,   -999.0,   9,     -999,9,  -999.00,9,  -999.00,9,    1.710,2,  -0.3744,20040801,1851
  32H120040718,    30,  6,    605,      5,2,20040801,1850, 72.6050,-151.8670, 3843,     52.9,  -0.3733,  31.4762,2,-999.0000,9,    375.1,2,   -999.0,9,  -999.00,9,  -999.00,9,  -999.00,9,  -999.00,9,     -999,9,   -999.0,   9,   -999.0,   9,     -999,9,  -999.00,9,  -999.00,9,    1.707,2,  -0.3747,20040801,1851
  32H120040718,    30,  6,    601,      1,2,20040801,1850, 72.6050,-151.8670, 3843,     52.9,  -0.3744,  31.4752,2,-999.0000,9,    374.2,2,   -999.0,9,     8.09,2,     1.76,2,     0.12,2,     0.99,2,     0.13,2,   -999.0,   9,   -999.0,   9,     0.04,2,  -999.00,9,  -999.00,9,    1.706,2,  -0.3758,20040801,1849
  32H120040718,    30,  6,    607,      7,2,20040801,1850, 72.6050,-151.8670, 3843,     52.9,  -0.3767,  31.4798,2,-999.0000,9,    374.5,2,   -999.0,9,  -999.00,9,  -999.00,9,  -999.00,9,  -999.00,9,     -999,9,   -999.0,   9,   -999.0,   9,     -999,9,  -999.00,9,  -999.00,9,    1.679,2,  -0.3781,20040801,1852
  32H120040718,    30,  6,    606,      6,2,20040801,1850, 72.6050,-151.8670, 3843,     52.9,  -0.3799,  31.4824,2,-999.0000,9,    374.6,2,   -999.0,9,  -999.00,9,  -999.00,9,  -999.00,9,  -999.00,9,     -999,9,   -999.0,   9,   -999.0,   9,     -999,9,  -999.00,9,  -999.00,9,    1.682,2,  -0.3813,20040801,1852
  32H120040718,    30,  6,    602,      2,2,20040801,1850, 72.6050,-151.8670, 3843,     52.9,  -0.3874,  31.4866,2,-999.0000,9,    374.3,2,   -999.0,9,  -999.00,9,  -999.00,9,  -999.00,9,  -999.00,9,     -999,9,   -999.0,   9,   -999.0,   9,     -999,9,  -999.00,9,  -999.00,9,    1.687,2,  -0.3888,20040801,1850
  32H120040718,    30,  6,    603,      3,2,20040801,1850, 72.6050,-151.8670, 3843,     52.9,  -0.3880,  31.4862,2,-999.0000,9,    373.9,2,   -999.0,9,  -999.00,9,  -999.00,9,  -999.00,9,  -999.00,9,     -999,9,   -999.0,   9,   -999.0,   9,     -999,9,  -999.00,9,  -999.00,9,    1.686,2,  -0.3894,20040801,1850