BOTTLE,20220815CCHSIOAMB
EXPOCODE,STNNBR,CASTNO,SAMPNO,BTLNBR,BTLNBR_FLAG_W,DATE,TIME,LATITUDE,LONGITUDE,DEPTH,CTDPRS,CTDTMP,CTDSAL,CTDSAL_FLAG_W,SALNTY,SALNTY_FLAG_W,CTDOXY,CTDOXY_FLAG_W,OXYGEN,OXYGEN_FLAG_W,SILCAT,SILCAT_FLAG_W,NITRAT,NITRAT_FLAG_W,NITRIT,NITRIT_FLAG_W,PHSPHT,PHSPHT_FLAG_W,AMMONI,AMMONI_FLAG_W,TCARBN,TCARBN_FLAG_W,ALKALI,ALKALI_FLAG_W,UREA,UREA_FLAG_W,CHLORA,CHLORA_FLAG_W,PHAEO,PHAEO_FLAG_W,FLUORO,FLUORO_FLAG_W,THETA,BTL_DATE,BTL_TIME
,,,,,,,,,,METERS,DBAR,ITS-90,PSS-78,,PSS-78,,UMOL/KG,,UMOL/KG,,UMOL/KG,,UMOL/KG,,UMOL/KG,,UMOL/KG,,UMOL/KG,,UMOL/KG,,UMOL/KG,,UMOL/KG,,UG/L,,UG/L,,VOLTS,,DEG C,,
  32H120040718,    48,  1,    112,     12,2,20040814, 209, 72.8569,-158.3051, 1045,    179.0,   0.0158,  34.5754,2,  34.5727,2,    264.5,2,    273.9,2,    14.54,2,    13.12,2,     0.04,2,     1.11,2,     0.08,2,   -999.0,   9,   -999.0,   9,     0.08,2,  -999.00,9,  -999.00,9,    0.724,2,   0.0092,20040814, 310
  32H120040718,    48,  1,    111,     11,2,20040814, 209, 72.8569,-158.3051, 1045,    203.4,   0.3808,  34.6815,2,-999.0000,9,    269.8,2,    279.6,2,    10.42,2,    12.60,2,     0.03,2,     0.97,2,     0.07,2,   2147.6,   2,   2300.3,   2,     0.08,2,  -999.00,9,  -999.00,9,    0.673,2,   0.3726,20040814, 307
  32H120040718,    48,  1,    110,     10,9,20040814, 209, 72.8569,-158.3051, 1045,    234.0,   0.7006,  34.7702,2,-999.0000,9,    277.8,2,   -999.0,9,  -999.00,9,  -999.00,9,  -999.00,9,  -999.00,9,     -999,9,   -999.0,   9,   -999.0,   9,     -999,9,  -999.00,9,  -999.00,9,    0.647,2,   0.6904,20040814, 301
  32H120040718,    48,  1,    109,      9,9,20040814, 209, 72.8569,-158.3051, 1045,    257.1,   0.7806,  34.7941,2,-999.0000,9,    279.6,2,   -999.0,9,  -999.00,9,  -999.00,9,  -999.00,9,  -999.00,9,     -999,9,   -999.0,   9,   -999.0,   9,     -999,9,  -999.00,9,  -999.00,9,    0.648,2,   0.7692,20040814, 256
  32H120040718,    48,  1,    108,      8,2,20040814, 209, 72.8569,-158.3051, 1045,    307.4,   0.8222,  34.8253,2,-999.0000,9,    281.8,2,    292.8,2,     6.91,2,    12.35,2,     0.02,2,     0.88,2,     0.07,2,   2138.6,   2,   2308.5,   2,     0.12,2,  -999.00,9,  -999.00,9,    0.634,2,   0.8083,20040814, 250
  32H120040718,    48,  1,    107,      7,2,20040814, 209, 72.8569,-158.3051, 1045,    359.2,   0.7188,  34.8328,2,-999.0000,9,    278.8,2,    290.0,2,     8.29,2,    12.49,2,     0.03,2,     0.90,2,     0.07,2,   -999.0,   9,   -999.0,   9,     0.08,2,  -999.00,9,  -999.00,9,    0.650,2,   0.7027,20040814, 243
  32H120040718,    48,  1,    106,      6,2,20040814, 209, 72.8569,-158.3051, 1045,    403.0,   0.6676,  34.8402,2,-999.0000,9,    280.0,2,    290.9,2,     8.49,2,    12.54,2,     0.03,2,     0.90,2,     0.07,2,   -999.0,   9,   -999.0,   9,     0.08,2,  -999.00,9,  -999.00,9,    0.643,2,   0.6496,20040814, 238
  32H120040718,    48,  1,    105,      5,2,20040814, 209, 72.8569,-158.3051, 1045,    502.5,   0.5685,  34.8493,2,  34.8516,2,    282.9,2,    294.0,2,     7.64,2,    12.44,2,     0.02,2,     0.89,2,     0.06,2,   -999.0,   9,   -999.0,   9,     0.08,2,  -999.00,9,  -999.00,9,    0.596,2,   0.5460,20040814, 233
  32H120040718,    48,  1,    104,      4,2,20040814, 209, 72.8569,-158.3051, 1045,    604.4,   0.5040,  34.8529,2,  34.8548,2,    283.0,2,    295.1,2,     7.74,2,    12.45,2,     0.02,2,     0.89,2,     0.06,2,   -999.0,   9,   -999.0,   9,      0.1,2,  -999.00,9,  -999.00,9,    0.659,2,   0.4767,20040814, 228
  32H120040718,    48,  1,    103,      3,2,20040814, 209, 72.8569,-158.3051, 1045,    807.3,   0.2783,  34.8636,2,  34.8659,2,    285.2,2,    297.9,2,     7.20,2,    12.45,2,     0.02,2,     0.90,2,     0.06,2,   -999.0,   9,   -999.0,   9,     0.09,2,  -999.00,9,  -999.00,9,    0.629,2,   0.2418,20040814, 220
  32H120040718,    48,  1,    102,      2,2,20040814, 209, 72.8569,-158.3051, 1045,    808.1,   0.2759,  34.8637,2,  34.8659,2,    285.4,2,    297.9,2,     7.20,2,    12.45,2,     0.02,2,     0.89,2,     0.06,2,   -999.0,   9,   -999.0,   9,     0.08,2,  -999.00,9,  -999.00,9,    0.621,2,   0.2394,20040814, 220
  32H120040718,    48,  1,    101,      1,2,20040814, 209, 72.8569,-158.3051, 1045,   1029.3,   0.0524,  34.8754,2,  34.8770,2,    285.8,2,    298.9,2,     7.41,2,    12.49,2,     0.02,2,     0.91,2,     0.06,2,   -999.0,   9,   -999.0,   9,     0.12,2,  -999.00,9,  -999.00,9,    0.604,2,   0.0058,20040814, 209
  32H120040718,    48,  2,    212,     12,2,20040814, 514, 72.8569,-158.3051, 1045,      3.3,   2.5915,  27.6323,2,-999.0000,9,    344.9,2,    356.8,2,     3.39,2,     0.06,2,     0.00,2,     0.52,2,     0.07,2,   1810.0,   2,   1953.6,   2,     0.05,2,     0.18,2,     0.04,2,    1.026,2,   2.5914,20040814, 552
  32H120040718,    48,  2,    211,     11,2,20040814, 514, 72.8569,-158.3051, 1045,      6.8,   2.5863,  27.6326,2,  27.6334,2,    345.1,2,    358.4,2,     3.48,2,     0.00,2,     0.00,2,     0.52,2,     0.07,2,   1812.6,   2,   1953.0,   2,     0.06,2,  -999.00,9,  -999.00,9,    1.045,2,   2.5860,20040814, 549
  32H120040718,    48,  2,    210,     10,2,20040814, 514, 72.8569,-158.3051, 1045,     11.3,   1.6024,  28.1735,2,  28.0304,2,    376.5,2,    379.7,2,     3.16,2,     0.00,2,     0.00,2,     0.53,2,     0.09,2,   -999.0,   9,   -999.0,   9,     0.06,2,     0.16,2,     0.04,2,    0.975,2,   1.6020,20040814, 546
  32H120040718,    48,  2,    209,      9,2,20040814, 514, 72.8569,-158.3051, 1045,     21.4,  -0.7781,  30.4791,2,  30.4568,2,    447.8,2,    466.5,2,     1.66,2,    -0.01,2,     0.01,2,     0.58,2,     0.07,2,   -999.0,   9,   -999.0,   9,     0.07,2,     0.09,2,     0.03,2,    0.892,2,  -0.7785,20040814, 543
  32H120040718,    48,  2,    208,      8,2,20040814, 514, 72.8569,-158.3051, 1045,     31.4,  -1.1777,  31.5168,2,-999.0000,9,    447.5,2,    470.4,2,     6.12,2,    -0.01,2,     0.01,2,     0.72,2,     0.08,2,   -999.0,   9,   -999.0,   9,     0.08,2,     0.17,2,     0.04,2,    1.062,2,  -1.1783,20040814, 540
  32H120040718,    48,  2,    207,      7,2,20040814, 514, 72.8569,-158.3051, 1045,     41.5,  -0.8519,  32.1269,2,-999.0000,9,    348.0,2,    370.5,2,    11.63,2,     3.94,2,     0.14,2,     1.26,2,     0.62,2,   -999.0,   9,   -999.0,   9,     0.18,2,     9.07,2,     0.08,2,    1.760,2,  -0.8529,20040814, 537
  32H120040718,    48,  2,    206,      6,2,20040814, 514, 72.8569,-158.3051, 1045,     51.7,  -1.0926,  32.3508,2,-999.0000,9,    339.7,2,    353.1,2,    20.28,2,     7.09,2,     0.19,2,     1.46,2,     1.54,2,   -999.0,   9,   -999.0,   9,     0.13,2,     0.32,2,     0.06,2,    1.315,2,  -1.0937,20040814, 533
  32H120040718,    48,  2,    205,      5,2,20040814, 514, 72.8569,-158.3051, 1045,     67.6,  -1.3227,  32.5629,2,-999.0000,9,    310.9,2,    341.6,2,    24.17,2,     8.82,2,     0.17,2,     1.54,2,     1.47,2,   -999.0,   9,   -999.0,   9,     0.12,2,  -999.00,9,  -999.00,9,    0.926,2,  -1.3241,20040814, 529
  32H120040718,    48,  2,    204,      4,2,20040814, 514, 72.8569,-158.3051, 1045,     82.3,  -1.4610,  32.7786,2,-999.0000,9,    315.9,2,    313.3,2,    28.68,2,    11.71,2,     0.08,2,     1.69,2,     0.66,2,   -999.0,   9,   -999.0,   9,     0.12,2,  -999.00,9,  -999.00,9,    0.845,2,  -1.4626,20040814, 525
  32H120040718,    48,  2,    203,      3,2,20040814, 514, 72.8569,-158.3051, 1045,    102.7,  -1.6855,  33.0176,2,  33.0116,2,    305.3,2,    317.8,2,    39.50,2,    13.12,2,     0.12,2,     1.90,2,     0.76,2,   -999.0,   9,   -999.0,   9,     0.09,2,     0.10,2,     0.13,2,    1.010,2,  -1.6874,20040814, 522
  32H120040718,    48,  2,    202,      2,2,20040814, 514, 72.8569,-158.3051, 1045,    128.0,  -1.6510,  33.1677,2,  33.1573,2,    307.7,2,    320.6,2,    40.75,2,    13.06,2,     0.13,2,     1.93,2,     1.43,2,   -999.0,   9,   -999.0,   9,      0.1,2,  -999.00,9,  -999.00,9,    1.031,2,  -1.6535,20040814, 518
  32H120040718,    48,  2,    201,      1,2,20040814, 514, 72.8569,-158.3051, 1045,    152.0,  -1.3247,  33.7538,2,  33.7369,2,    276.8,2,    298.4,2,    26.96,2,    12.25,2,     0.09,2,     1.54,2,     0.39,2,   -999.0,   9,   -999.0,   9,     0.12,2,     0.06,2,     0.08,2,    0.756,2,  -1.3283,20040814, 514
  32H120040718,    48,  3,    311,     11,2,20040814, 825, 72.8569,-158.3051, 1045,     41.8,  -0.8393,  32.1728,2,-999.0000,9,    347.2,2,   -999.0,9,    11.60,2,     4.60,2,     0.10,2,     1.30,2,     0.65,2,   -999.0,   9,   -999.0,   9,     0.23,2,  -999.00,9,  -999.00,9,    2.050,2,  -0.8403,20040814, 837
  32H120040718,    48,  3,    312,     12,2,20040814, 825, 72.8569,-158.3051, 1045,     41.8,  -0.8397,  32.1719,2,-999.0000,9,    346.5,2,   -999.0,9,  -999.00,9,  -999.00,9,  -999.00,9,  -999.00,9,     -999,9,   -999.0,   9,   -999.0,   9,     -999,9,  -999.00,9,  -999.00,9,    1.992,2,  -0.8407,20040814, 837
  32H120040718,    48,  3,    303,      3,2,20040814, 825, 72.8569,-158.3051, 1045,    204.2,   0.1855,  34.6290,2,-999.0000,9,    267.6,2,   -999.0,9,  -999.00,9,  -999.00,9,  -999.00,9,  -999.00,9,     -999,9,   -999.0,   9,   -999.0,   9,     -999,9,  -999.00,9,  -999.00,9,    0.693,2,   0.1776,20040814, 823
  32H120040718,    48,  3,    304,      4,2,20040814, 825, 72.8569,-158.3051, 1045,    204.2,   0.1864,  34.6292,2,-999.0000,9,    267.6,2,   -999.0,9,  -999.00,9,  -999.00,9,  -999.00,9,  -999.00,9,     -999,9,   -999.0,   9,   -999.0,   9,     -999,9,  -999.00,9,  -999.00,9,    0.686,2,   0.1785,20040814, 824
  32H120040718,    48,  3,    305,      5,2,20040814, 825, 72.8569,-158.3051, 1045,    204.2,   0.1884,  34.6299,2,-999.0000,9,    267.6,2,   -999.0,9,  -999.00,9,  -999.00,9,  -999.00,9,  -999.00,9,     -999,9,   -999.0,   9,   -999.0,   9,     -999,9,  -999.00,9,  -999.00,9,    0.676,2,   0.1805,20040814, 824
  32H120040718,    48,  3,    306,      6,2,20040814, 825, 72.8569,-158.3051, 1045,    204.2,   0.1893,  34.6303,2,-999.0000,9,    267.5,2,   -999.0,9,  -999.00,9,  -999.00,9,  -999.00,9,  -999.00,9,     -999,9,   -999.0,   9,   -999.0,   9,     -999,9,  -999.00,9,  -999.00,9,    0.674,2,   0.1814,20040814, 824
  32H120040718,    48,  3,    307,      7,2,20040814, 825, 72.8569,-158.3051, 1045,    204.2,   0.1899,  34.6307,2,-999.0000,9,    267.5,2,   -999.0,9,  -999.00,9,  -999.00,9,  -999.00,9,  -999.00,9,     -999,9,   -999.0,   9,   -999.0,   9,     -999,9,  -999.00,9,  -999.00,9,    0.689,2,   0.1820,20040814, 825
  32H120040718,    48,  3,    310,     10,2,20040814, 825, 72.8569,-158.3051, 1045,    204.2,   0.1912,  34.6316,2,-999.0000,9,    267.4,2,   -999.0,9,  -999.00,9,  -999.00,9,  -999.00,9,  -999.00,9,     -999,9,   -999.0,   9,   -999.0,   9,     -999,9,  -999.00,9,  -999.00,9,    0.674,2,   0.1833,20040814, 826
  32H120040718,    48,  3,    301,      1,2,20040814, 825, 72.8569,-158.3051, 1045,    204.2,   0.1915,  34.6305,2,-999.0000,9,    267.4,2,   -999.0,9,    10.93,2,    12.56,2,     0.04,2,     0.99,2,     0.05,2,   -999.0,   9,   -999.0,   9,     0.09,2,  -999.00,9,  -999.00,9,    0.654,2,   0.1836,20040814, 823
  32H120040718,    48,  3,    302,      2,2,20040814, 825, 72.8569,-158.3051, 1045,    204.2,   0.1917,  34.6310,2,-999.0000,9,    267.4,2,   -999.0,9,  -999.00,9,  -999.00,9,  -999.00,9,  -999.00,9,     -999,9,   -999.0,   9,   -999.0,   9,     -999,9,  -999.00,9,  -999.00,9,    0.700,2,   0.1838,20040814, 823
  32H120040718,    48,  3,    308,      8,2,20040814, 825, 72.8569,-158.3051, 1045,    204.2,   0.1919,  34.6314,2,-999.0000,9,    267.4,2,   -999.0,9,  -999.00,9,  -999.00,9,  -999.00,9,  -999.00,9,     -999,9,   -999.0,   9,   -999.0,   9,     -999,9,  -999.00,9,  -999.00,9,    0.673,2,   0.1840,20040814, 825
  32H120040718,    48,  3,    309,      9,2,20040814, 825, 72.8569,-158.3051, 1045,    204.2,   0.1925,  34.6320,2,-999.0000,9,    267.3,2,   -999.0,9,  -999.00,9,  -999.00,9,  -999.00,9,  -999.00,9,     -999,9,   -999.0,   9,   -999.0,   9,     -999,9,  -999.00,9,  -999.00,9,    0.674,2,   0.1846,20040814, 825
  32H120040718,    48,  4,    412,     12,2,20040814, 926, 72.8569,-158.3051, 1045,     62.3,  -1.3015,  32.4998,2,-999.0000,9,    340.0,2,   -999.0,9,    21.79,2,     7.96,2,     0.12,2,     1.53,2,     1.36,2,   -999.0,   9,   -999.0,   9,     0.13,2,  -999.00,9,  -999.00,9,    1.164,2,  -1.3028,20040814, 934
  32H120040718,    48,  4,    411,     11,2,20040814, 926, 72.8569,-158.3051, 1045,     62.3,  -1.3077,  32.5008,2,-999.0000,9,    340.3,2,   -999.0,9,  -999.00,9,  -999.00,9,  -999.00,9,  -999.00,9,     -999,9,   -999.0,   9,   -999.0,   9,     -999,9,  -999.00,9,  -999.00,9,    1.163,2,  -1.3090,20040814, 934
  32H120040718,    48,  4,    410,     10,2,20040814, 926, 72.8569,-158.3051, 1045,     62.3,  -1.3226,  32.5049,2,-999.0000,9,    340.1,2,   -999.0,9,  -999.00,9,  -999.00,9,  -999.00,9,  -999.00,9,     -999,9,   -999.0,   9,   -999.0,   9,     -999,9,  -999.00,9,  -999.00,9,    1.249,2,  -1.3239,20040814, 934
  32H120040718,    48,  4,    408,      8,2,20040814, 926, 72.8569,-158.3051, 1045,     62.3,  -1.3237,  32.5050,2,-999.0000,9,    340.8,2,   -999.0,9,  -999.00,9,  -999.00,9,  -999.00,9,  -999.00,9,     -999,9,   -999.0,   9,   -999.0,   9,     -999,9,  -999.00,9,  -999.00,9,    1.167,2,  -1.3250,20040814, 933
  32H120040718,    48,  4,    409,      9,2,20040814, 926, 72.8569,-158.3051, 1045,     62.3,  -1.3272,  32.5087,2,-999.0000,9,    340.7,2,   -999.0,9,  -999.00,9,  -999.00,9,  -999.00,9,  -999.00,9,     -999,9,   -999.0,   9,   -999.0,   9,     -999,9,  -999.00,9,  -999.00,9,    1.196,2,  -1.3285,20040814, 933
  32H120040718,    48,  4,    407,      7,2,20040814, 926, 72.8569,-158.3051, 1045,     62.3,  -1.3301,  32.5086,2,-999.0000,9,    340.3,2,   -999.0,9,  -999.00,9,  -999.00,9,  -999.00,9,  -999.00,9,     -999,9,   -999.0,   9,   -999.0,   9,     -999,9,  -999.00,9,  -999.00,9,    1.196,2,  -1.3314,20040814, 933
  32H120040718,    48,  4,    403,      3,2,20040814, 926, 72.8569,-158.3051, 1045,    117.2,  -1.7279,  33.0868,2,-999.0000,9,    303.6,2,   -999.0,9,  -999.00,9,  -999.00,9,  -999.00,9,  -999.00,9,     -999,9,   -999.0,   9,   -999.0,   9,     -999,9,  -999.00,9,  -999.00,9,    1.047,2,  -1.7300,20040814, 925
  32H120040718,    48,  4,    404,      4,2,20040814, 926, 72.8569,-158.3051, 1045,    117.2,  -1.7282,  33.0863,2,-999.0000,9,    303.6,2,   -999.0,9,  -999.00,9,  -999.00,9,  -999.00,9,  -999.00,9,     -999,9,   -999.0,   9,   -999.0,   9,     -999,9,  -999.00,9,  -999.00,9,    1.056,2,  -1.7303,20040814, 925
  32H120040718,    48,  4,    402,      2,2,20040814, 926, 72.8569,-158.3051, 1045,    117.2,  -1.7289,  33.0860,2,-999.0000,9,    303.6,2,   -999.0,9,  -999.00,9,  -999.00,9,  -999.00,9,  -999.00,9,     -999,9,   -999.0,   9,   -999.0,   9,     -999,9,  -999.00,9,  -999.00,9,    1.055,2,  -1.7310,20040814, 924
  32H120040718,    48,  4,    401,      1,2,20040814, 926, 72.8569,-158.3051, 1045,    117.2,  -1.7292,  33.0858,2,-999.0000,9,    303.7,2,   -999.0,9,    46.20,2,    14.63,2,     0.14,2,     2.07,2,     1.26,2,   -999.0,   9,   -999.0,   9,     0.07,2,  -999.00,9,  -999.00,9,    1.046,2,  -1.7313,20040814, 924
  32H120040718,    48,  4,    406,      6,2,20040814, 926, 72.8569,-158.3051, 1045,    117.2,  -1.7295,  33.0861,2,-999.0000,9,    303.5,2,   -999.0,9,  -999.00,9,  -999.00,9,  -999.00,9,  -999.00,9,     -999,9,   -999.0,   9,   -999.0,   9,     -999,9,  -999.00,9,  -999.00,9,    1.045,2,  -1.7316,20040814, 927
  32H120040718,    48,  4,    405,      5,2,20040814, 926, 72.8569,-158.3051, 1045,    117.2,  -1.7303,  33.0836,2,-999.0000,9,    303.3,2,   -999.0,9,  -999.00,9,  -999.00,9,  -999.00,9,  -999.00,9,     -999,9,   -999.0,   9,   -999.0,   9,     -999,9,  -999.00,9,  -999.00,9,    1.059,2,  -1.7324,20040814, 926
  32H120040718,    48,  5,    511,     11,2,20040814,1600, 72.8569,-158.3051, 1045,      2.3,   1.6774,  27.6600,2,-999.0000,9,    354.8,2,    367.9,2,     2.42,2,     0.07,2,     0.00,2,     0.56,2,     0.01,2,   -999.0,   9,   -999.0,   9,     0.02,2,     0.12,2,     0.03,2,    0.868,2,   1.6773,20040814,1633
  32H120040718,    48,  5,    512,     12,2,20040814,1600, 72.8569,-158.3051, 1045,      2.3,   1.6812,  27.6560,2,-999.0000,9,    354.7,2,   -999.0,9,  -999.00,9,  -999.00,9,  -999.00,9,  -999.00,9,     -999,9,   -999.0,   9,   -999.0,   9,     -999,9,  -999.00,9,  -999.00,9,    0.876,2,   1.6811,20040814,1633
  32H120040718,    48,  5,    510,     10,2,20040814,1600, 72.8569,-158.3051, 1045,     10.2,   1.6838,  27.6484,2,-999.0000,9,    354.7,2,    377.6,2,     2.31,2,     0.06,2,     0.00,2,     0.57,2,        0,2,   -999.0,   9,   -999.0,   9,     0.02,2,     0.12,2,     0.02,2,    0.882,2,   1.6834,20040814,1631
  32H120040718,    48,  5,    509,      9,2,20040814,1600, 72.8569,-158.3051, 1045,     17.0,  -0.2440,  30.5068,2,-999.0000,9,    427.5,2,    439.5,2,     2.07,2,     0.06,2,     0.00,2,     0.66,2,     0.03,2,   -999.0,   9,   -999.0,   9,     0.04,2,     0.10,2,     0.02,2,    1.013,2,  -0.2444,20040814,1628
  32H120040718,    48,  5,    508,      8,2,20040814,1600, 72.8569,-158.3051, 1045,     26.2,  -1.0538,  31.1768,2,-999.0000,9,    401.3,2,    415.1,2,     3.13,2,     0.11,2,     0.00,2,     0.76,2,     0.02,2,   -999.0,   9,   -999.0,   9,     0.05,2,     0.14,2,     0.01,2,    0.979,2,  -1.0543,20040814,1625
  32H120040718,    48,  5,    507,      7,2,20040814,1600, 72.8569,-158.3051, 1045,     26.2,  -1.0546,  31.1624,2,-999.0000,9,    402.2,2,   -999.0,9,  -999.00,9,  -999.00,9,  -999.00,9,  -999.00,9,     -999,9,   -999.0,   9,   -999.0,   9,     -999,9,  -999.00,9,  -999.00,9,    0.953,2,  -1.0551,20040814,1625
  32H120040718,    48,  5,    506,      6,2,20040814,1600, 72.8569,-158.3051, 1045,     40.7,  -0.8221,  32.0523,2,-999.0000,9,    361.7,2,    380.0,2,     8.38,2,     2.47,2,     0.06,2,     1.14,2,      0.4,2,   -999.0,   9,   -999.0,   9,     0.13,2,     1.30,2,     0.03,2,    1.703,2,  -0.8231,20040814,1621
  32H120040718,    48,  5,    504,      4,2,20040814,1600, 72.8569,-158.3051, 1045,     62.0,  -0.9188,  32.4634,2,-999.0000,9,    339.1,2,   -999.0,9,  -999.00,9,  -999.00,9,  -999.00,9,  -999.00,9,     -999,9,   -999.0,   9,   -999.0,   9,     -999,9,  -999.00,9,  -999.00,9,    0.895,2,  -0.9203,20040814,1616
  32H120040718,    48,  5,    505,      5,2,20040814,1600, 72.8569,-158.3051, 1045,     62.0,  -0.9312,  32.4629,2,-999.0000,9,    338.7,2,    351.2,2,    20.01,2,     7.56,2,     0.15,2,     1.48,2,     1.37,2,   -999.0,   9,   -999.0,   9,     0.09,2,     0.10,2,     0.06,2,    0.887,2,  -0.9327,20040814,1617
  32H120040718,    48,  5,    503,      3,2,20040814,1600, 72.8569,-158.3051, 1045,    102.6,  -1.5934,  33.0145,2,-999.0000,9,    306.8,2,   -999.0,9,    33.69,2,    11.22,2,     0.12,2,     1.80,2,     1.42,2,   -999.0,   9,   -999.0,   9,      0.1,2,  -999.00,9,  -999.00,9,    0.961,2,  -1.5954,20040814,1611
  32H120040718,    48,  5,    502,      2,2,20040814,1600, 72.8569,-158.3051, 1045,    153.3,  -1.3143,  33.6629,2,-999.0000,9,    274.7,2,   -999.0,9,    28.57,2,    13.33,2,     0.09,2,     1.63,2,     0.14,2,   -999.0,   9,   -999.0,   9,     0.07,2,  -999.00,9,  -999.00,9,    0.792,2,  -1.3179,20040814,1606
  32H120040718,    48,  5,    501,      1,2,20040814,1600, 72.8569,-158.3051, 1045,    203.9,   0.0685,  34.5907,2,-999.0000,9,    264.5,2,   -999.0,9,    12.17,2,    12.75,2,     0.03,2,     1.04,2,        0,2,   -999.0,   9,   -999.0,   9,     0.05,2,  -999.00,9,  -999.00,9,    0.677,2,   0.0609,20040814,1600