BOTTLE,20220815CCHSIOAMB
EXPOCODE,STNNBR,CASTNO,SAMPNO,BTLNBR,BTLNBR_FLAG_W,DATE,TIME,LATITUDE,LONGITUDE,DEPTH,CTDPRS,CTDTMP,CTDSAL,CTDSAL_FLAG_W,SALNTY,SALNTY_FLAG_W,CTDOXY,CTDOXY_FLAG_W,OXYGEN,OXYGEN_FLAG_W,SILCAT,SILCAT_FLAG_W,NITRAT,NITRAT_FLAG_W,NITRIT,NITRIT_FLAG_W,PHSPHT,PHSPHT_FLAG_W,AMMONI,AMMONI_FLAG_W,TCARBN,TCARBN_FLAG_W,ALKALI,ALKALI_FLAG_W,UREA,UREA_FLAG_W,CHLORA,CHLORA_FLAG_W,PHAEO,PHAEO_FLAG_W,FLUORO,FLUORO_FLAG_W,THETA,BTL_DATE,BTL_TIME
,,,,,,,,,,METERS,DBAR,ITS-90,PSS-78,,PSS-78,,UMOL/KG,,UMOL/KG,,UMOL/KG,,UMOL/KG,,UMOL/KG,,UMOL/KG,,UMOL/KG,,UMOL/KG,,UMOL/KG,,UMOL/KG,,UG/L,,UG/L,,VOLTS,,DEG C,,
  32H120040718,    37,  4,    402,      2,2,20040809,1545, 72.6940,-152.9570, 3769,     58.3,  -0.3904,  31.6066,2,-999.0000,9,    355.7,2,   -999.0,9,  -999.00,9,  -999.00,9,  -999.00,9,  -999.00,9,     -999,9,   -999.0,   9,   -999.0,   9,     -999,9,  -999.00,9,  -999.00,9,    1.637,2,  -0.3919,20040809,1544
  32H120040718,    37,  4,    403,      3,2,20040809,1545, 72.6940,-152.9570, 3769,     58.3,  -0.3925,  31.6074,2,-999.0000,9,    355.0,2,   -999.0,9,  -999.00,9,  -999.00,9,  -999.00,9,  -999.00,9,     -999,9,   -999.0,   9,   -999.0,   9,     -999,9,  -999.00,9,  -999.00,9,    1.691,2,  -0.3940,20040809,1544
  32H120040718,    37,  4,    401,      1,2,20040809,1545, 72.6940,-152.9570, 3769,     58.3,  -0.3930,  31.6018,2,-999.0000,9,    355.9,2,   -999.0,9,  -999.00,9,  -999.00,9,  -999.00,9,  -999.00,9,     -999,9,   -999.0,   9,   -999.0,   9,     -999,9,  -999.00,9,  -999.00,9,    1.602,2,  -0.3945,20040809,1543
  32H120040718,    37,  4,    404,      4,2,20040809,1545, 72.6940,-152.9570, 3769,     58.3,  -0.3958,  31.6086,2,-999.0000,9,    354.7,2,   -999.0,9,  -999.00,9,  -999.00,9,  -999.00,9,  -999.00,9,     -999,9,   -999.0,   9,   -999.0,   9,     -999,9,  -999.00,9,  -999.00,9,    1.634,2,  -0.3973,20040809,1544
  32H120040718,    37,  4,    412,     12,2,20040809,1545, 72.6940,-152.9570, 3769,     58.3,  -0.3999,  31.6098,2,-999.0000,9,    355.6,2,   -999.0,9,     7.85,2,     1.53,2,     0.18,2,     0.98,2,     0.12,2,   -999.0,   9,   -999.0,   9,     0.14,2,  -999.00,9,  -999.00,9,    1.611,2,  -0.4014,20040809,1546
  32H120040718,    37,  4,    411,     11,2,20040809,1545, 72.6940,-152.9570, 3769,     58.3,  -0.4019,  31.6110,2,-999.0000,9,    355.5,2,   -999.0,9,  -999.00,9,  -999.00,9,  -999.00,9,  -999.00,9,     -999,9,   -999.0,   9,   -999.0,   9,     -999,9,  -999.00,9,  -999.00,9,    1.621,2,  -0.4034,20040809,1546
  32H120040718,    37,  4,    405,      5,2,20040809,1545, 72.6940,-152.9570, 3769,     58.3,  -0.4024,  31.6106,2,-999.0000,9,    353.9,2,   -999.0,9,  -999.00,9,  -999.00,9,  -999.00,9,  -999.00,9,     -999,9,   -999.0,   9,   -999.0,   9,     -999,9,  -999.00,9,  -999.00,9,    1.616,2,  -0.4039,20040809,1545
  32H120040718,    37,  4,    410,     10,2,20040809,1545, 72.6940,-152.9570, 3769,     58.3,  -0.4046,  31.6124,2,-999.0000,9,    354.7,2,   -999.0,9,  -999.00,9,  -999.00,9,  -999.00,9,  -999.00,9,     -999,9,   -999.0,   9,   -999.0,   9,     -999,9,  -999.00,9,  -999.00,9,    1.618,2,  -0.4061,20040809,1546
  32H120040718,    37,  4,    406,      6,2,20040809,1545, 72.6940,-152.9570, 3769,     58.3,  -0.4064,  31.6125,2,-999.0000,9,    355.5,2,   -999.0,9,  -999.00,9,  -999.00,9,  -999.00,9,  -999.00,9,     -999,9,   -999.0,   9,   -999.0,   9,     -999,9,  -999.00,9,  -999.00,9,    1.606,2,  -0.4079,20040809,1545
  32H120040718,    37,  4,    409,      9,2,20040809,1545, 72.6940,-152.9570, 3769,     58.3,  -0.4067,  31.6133,2,-999.0000,9,    355.4,2,   -999.0,9,  -999.00,9,  -999.00,9,  -999.00,9,  -999.00,9,     -999,9,   -999.0,   9,   -999.0,   9,     -999,9,  -999.00,9,  -999.00,9,    1.612,2,  -0.4082,20040809,1546
  32H120040718,    37,  4,    408,      8,2,20040809,1545, 72.6940,-152.9570, 3769,     58.3,  -0.4102,  31.6148,2,-999.0000,9,    355.1,2,   -999.0,9,  -999.00,9,  -999.00,9,  -999.00,9,  -999.00,9,     -999,9,   -999.0,   9,   -999.0,   9,     -999,9,  -999.00,9,  -999.00,9,    1.608,2,  -0.4117,20040809,1545
  32H120040718,    37,  4,    407,      7,2,20040809,1545, 72.6940,-152.9570, 3769,     58.3,  -0.4121,  31.6158,2,-999.0000,9,    354.6,2,   -999.0,9,  -999.00,9,  -999.00,9,  -999.00,9,  -999.00,9,     -999,9,   -999.0,   9,   -999.0,   9,     -999,9,  -999.00,9,  -999.00,9,    1.615,2,  -0.4136,20040809,1545
  32H120040718,    37,  5,    511,     11,2,20040809,1641, 72.6940,-152.9570, 3769,      1.9,  -1.0101,  26.3741,2,-999.0000,9,    367.7,2,    382.3,2,     1.91,2,     0.09,2,     0.00,2,     0.59,2,     0.02,2,   -999.0,   9,   -999.0,   9,     0.01,2,     0.03,2,     0.01,2,    0.623,2,  -1.0101,20040809,1710
  32H120040718,    37,  5,    512,     12,2,20040809,1641, 72.6940,-152.9570, 3769,      1.9,  -1.0134,  26.3687,2,-999.0000,9,    368.2,2,   -999.0,9,  -999.00,9,  -999.00,9,  -999.00,9,  -999.00,9,     -999,9,   -999.0,   9,   -999.0,   9,     -999,9,  -999.00,9,  -999.00,9,    0.550,2,  -1.0134,20040809,1711
  32H120040718,    37,  5,    510,     10,2,20040809,1641, 72.6940,-152.9570, 3769,     16.1,  -0.7849,  28.0388,2,-999.0000,9,    376.1,2,    394.5,2,     2.11,2,     0.03,2,     0.00,2,     0.64,2,     0.04,2,   -999.0,   9,   -999.0,   9,     0.03,2,     0.05,2,     0.01,2,    0.664,2,  -0.7852,20040809,1707
  32H120040718,    37,  5,    509,      9,2,20040809,1641, 72.6940,-152.9570, 3769,     27.2,  -0.9454,  28.9513,2,-999.0000,9,    380.1,2,    395.6,2,     2.31,2,     0.03,2,     0.00,2,     0.68,2,     0.05,2,   -999.0,   9,   -999.0,   9,     0.04,2,     0.07,2,     0.03,2,    0.700,2,  -0.9458,20040809,1703
  32H120040718,    37,  5,    507,      7,2,20040809,1641, 72.6940,-152.9570, 3769,     42.1,  -1.0652,  29.9628,2,-999.0000,9,    381.4,2,   -999.0,9,  -999.00,9,  -999.00,9,  -999.00,9,  -999.00,9,     -999,9,   -999.0,   9,   -999.0,   9,     -999,9,  -999.00,9,  -999.00,9,    0.816,2,  -1.0659,20040809,1659
  32H120040718,    37,  5,    506,      6,2,20040809,1641, 72.6940,-152.9570, 3769,     42.1,  -1.0707,  29.9731,2,-999.0000,9,    382.1,2,   -999.0,9,  -999.00,9,  -999.00,9,  -999.00,9,  -999.00,9,     -999,9,   -999.0,   9,   -999.0,   9,     -999,9,  -999.00,9,  -999.00,9,    0.845,2,  -1.0714,20040809,1659
  32H120040718,    37,  5,    508,      8,2,20040809,1641, 72.6940,-152.9570, 3769,     42.1,  -1.0794,  29.9512,2,-999.0000,9,    382.0,2,    383.5,2,     5.33,2,     1.10,2,     0.05,2,     0.85,2,     0.07,2,   -999.0,   9,   -999.0,   9,     0.05,2,     0.23,2,     0.21,2,    0.896,2,  -1.0801,20040809,1659
  32H120040718,    37,  5,    505,      5,2,20040809,1641, 72.6940,-152.9570, 3769,     66.0,  -0.8405,  31.8597,2,-999.0000,9,    329.6,2,    343.8,2,    11.86,2,     5.40,2,     0.12,2,     1.21,2,     0.08,2,   -999.0,   9,   -999.0,   9,     0.06,2,     0.34,2,     0.39,2,    1.356,2,  -0.8420,20040809,1655
  32H120040718,    37,  5,    503,      3,2,20040809,1641, 72.6940,-152.9570, 3769,    101.1,  -1.3672,  32.4472,2,-999.0000,9,    289.0,2,   -999.0,9,  -999.00,9,  -999.00,9,  -999.00,9,  -999.00,9,     -999,9,   -999.0,   9,   -999.0,   9,     -999,9,  -999.00,9,  -999.00,9,    0.748,2,  -1.3692,20040809,1650
  32H120040718,    37,  5,    504,      4,2,20040809,1641, 72.6940,-152.9570, 3769,    101.1,  -1.3676,  32.4480,2,-999.0000,9,    289.2,2,    301.8,2,    24.24,2,    11.63,2,     0.01,2,     1.64,2,     0.05,2,   -999.0,   9,   -999.0,   9,     0.06,2,     0.04,2,     0.05,2,    0.718,2,  -1.3696,20040809,1650
  32H120040718,    37,  5,    502,      2,2,20040809,1641, 72.6940,-152.9570, 3769,    153.0,  -1.5273,  32.9888,2,-999.0000,9,    284.3,2,   -999.0,9,    31.35,2,    13.59,2,     0.04,2,     1.78,2,     0.21,2,   -999.0,   9,   -999.0,   9,     0.07,2,  -999.00,9,  -999.00,9,    0.775,2,  -1.5304,20040809,1645
  32H120040718,    37,  5,    501,      1,2,20040809,1641, 72.6940,-152.9570, 3769,    202.8,  -1.2303,  33.8081,2,-999.0000,9,    272.9,2,   -999.0,9,    27.70,2,    13.94,2,     0.04,2,     1.56,2,     0.05,2,   -999.0,   9,   -999.0,   9,     0.06,2,  -999.00,9,  -999.00,9,    0.757,2,  -1.2353,20040809,1641
  32H120040718,    37,  6,    612,     12,2,20040809,1953, 72.6940,-152.9570, 3769,     56.5,  -0.1439,  31.5234,2,-999.0000,9,    356.5,2,   -999.0,9,     7.32,2,     0.90,2,     0.14,2,     0.94,2,     0.09,2,   -999.0,   9,   -999.0,   9,     0.06,2,  -999.00,9,  -999.00,9,    1.828,2,  -0.1455,20040809,2138
  32H120040718,    37,  6,    610,     10,2,20040809,1953, 72.6940,-152.9570, 3769,    167.4,  -1.4844,  33.1760,2,-999.0000,9,    269.5,2,   -999.0,9,    31.11,2,    13.94,2,     0.05,2,     1.74,2,     0.14,2,   -999.0,   9,   -999.0,   9,     0.06,2,  -999.00,9,  -999.00,9,    0.713,2,  -1.4879,20040809,2129
  32H120040718,    37,  6,    611,     11,2,20040809,1953, 72.6940,-152.9570, 3769,    167.4,  -1.4848,  33.1769,2,-999.0000,9,    266.9,2,   -999.0,9,    31.22,2,    13.94,2,     0.05,2,     1.75,2,      0.1,2,   -999.0,   9,   -999.0,   9,     0.06,2,  -999.00,9,  -999.00,9,    0.754,2,  -1.4883,20040809,2129
  32H120040718,    37,  6,    608,      8,2,20040809,1953, 72.6940,-152.9570, 3769,    243.6,  -0.4516,  34.4238,2,-999.0000,9,    261.1,2,   -999.0,9,    16.06,2,    13.17,2,     0.01,2,     1.15,2,     0.03,2,   -999.0,   9,   -999.0,   9,     0.06,2,  -999.00,9,  -999.00,9,    0.685,2,  -0.4597,20040809,2121
  32H120040718,    37,  6,    609,      9,2,20040809,1953, 72.6940,-152.9570, 3769,    243.6,  -0.4551,  34.4227,2,-999.0000,9,    261.3,2,   -999.0,9,    16.17,2,    13.17,2,     0.01,2,     1.16,2,     0.03,2,   -999.0,   9,   -999.0,   9,     0.06,2,  -999.00,9,  -999.00,9,    0.675,2,  -0.4632,20040809,2122
  32H120040718,    37,  6,    606,      6,2,20040809,1953, 72.6940,-152.9570, 3769,    438.2,   0.6441,  34.8061,2,-999.0000,9,    274.2,2,   -999.0,9,     7.70,2,    12.65,2,     0.01,2,     0.91,2,     0.02,2,   -999.0,   9,   -999.0,   9,     0.06,2,  -999.00,9,  -999.00,9,    0.642,2,   0.6245,20040809,2113
  32H120040718,    37,  6,    607,      7,3,20040809,1953, 72.6940,-152.9570, 3769,    438.5,   0.6442,  34.8061,2,-999.0000,9,    274.1,2,   -999.0,9,  -999.00,9,  -999.00,9,  -999.00,9,  -999.00,9,     -999,9,   -999.0,   9,   -999.0,   9,     -999,9,  -999.00,9,  -999.00,9,    0.608,2,   0.6246,20040809,2113
  32H120040718,    37,  6,    605,      5,3,20040809,1953, 72.6940,-152.9570, 3769,   2030.4,  -0.4042,  34.9423,2,-999.0000,9,    271.0,2,   -999.0,9,  -999.00,9,  -999.00,9,  -999.00,9,  -999.00,9,     -999,9,   -999.0,   9,   -999.0,   9,     -999,9,  -999.00,9,  -999.00,9,    0.531,2,  -0.5066,20040809,2043
  32H120040718,    37,  6,    604,      4,2,20040809,1953, 72.6940,-152.9570, 3769,   2030.4,  -0.4043,  34.9424,2,-999.0000,9,    270.8,2,   -999.0,9,    10.90,2,    14.12,2,     0.01,2,     1.01,2,     0.02,2,   -999.0,   9,   -999.0,   9,     0.06,2,  -999.00,9,  -999.00,9,    0.524,2,  -0.5067,20040809,2042
  32H120040718,    37,  6,    602,      2,2,20040809,1953, 72.6940,-152.9570, 3769,   3893.7,  -0.2513,  34.9591,2,-999.0000,9,    264.6,2,   -999.0,9,    13.46,2,    14.53,2,     0.01,2,     1.04,2,     0.02,2,   -999.0,   9,   -999.0,   9,     0.06,2,  -999.00,9,  -999.00,9,    0.529,2,  -0.5117,20040809,1953
  32H120040718,    37,  6,    603,      3,2,20040809,1953, 72.6940,-152.9570, 3769,   3893.7,  -0.2513,  34.9591,2,-999.0000,9,    264.7,2,   -999.0,9,    13.36,2,    14.53,2,     0.01,2,     1.04,2,     0.02,2,   -999.0,   9,   -999.0,   9,     0.06,2,  -999.00,9,  -999.00,9,    0.478,2,  -0.5117,20040809,1953
  32H120040718,    37,  6,    601,      1,2,20040809,1953, 72.6940,-152.9570, 3769,   3893.8,  -0.2516,  34.9589,2,-999.0000,9,    264.8,2,   -999.0,9,    13.34,2,    14.53,2,     0.01,2,     1.05,2,     0.02,2,   -999.0,   9,   -999.0,   9,     0.06,2,  -999.00,9,  -999.00,9,    0.479,2,  -0.5120,20040809,1953
  32H120040718,    38,  1,    112,     12,9,20040810,1535, 72.2170,-159.1960,   49,      1.9,  -0.0947,  28.3812,2,-999.0000,9,    407.5,2,   -999.0,9,  -999.00,9,  -999.00,9,  -999.00,9,  -999.00,9,     -999,9,   -999.0,   9,   -999.0,   9,     -999,9,  -999.00,9,  -999.00,9,    1.314,2,  -0.0947,20040810,1552
  32H120040718,    38,  1,    110,     10,9,20040810,1535, 72.2170,-159.1960,   49,      1.9,  -0.1243,  28.4010,2,-999.0000,9,    411.2,2,   -999.0,9,  -999.00,9,  -999.00,9,  -999.00,9,  -999.00,9,     -999,9,   -999.0,   9,   -999.0,   9,     -999,9,  -999.00,9,  -999.00,9,    1.329,2,  -0.1243,20040810,1551
  32H120040718,    38,  1,    111,     11,9,20040810,1535, 72.2170,-159.1960,   49,      1.9,  -0.1345,  28.4147,2,-999.0000,9,    409.1,2,   -999.0,9,  -999.00,9,  -999.00,9,  -999.00,9,  -999.00,9,     -999,9,   -999.0,   9,   -999.0,   9,     -999,9,  -999.00,9,  -999.00,9,    1.336,2,  -0.1345,20040810,1552
  32H120040718,    38,  1,    109,      9,9,20040810,1535, 72.2170,-159.1960,   49,      1.9,  -0.1905,  28.4753,2,-999.0000,9,    411.9,2,   -999.0,9,  -999.00,9,  -999.00,9,  -999.00,9,  -999.00,9,     -999,9,   -999.0,   9,   -999.0,   9,     -999,9,  -999.00,9,  -999.00,9,    1.380,2,  -0.1905,20040810,1550
  32H120040718,    38,  1,    108,      8,2,20040810,1535, 72.2170,-159.1960,   49,      1.9,  -0.2174,  28.5020,2,-999.0000,9,    412.1,2,    427.8,2,    11.96,2,     0.08,2,     0.00,2,     0.72,2,     0.05,2,   -999.0,   9,   -999.0,   9,     0.04,2,     0.28,2,     0.08,2,    1.269,2,  -0.2174,20040810,1550
  32H120040718,    38,  1,    107,      7,2,20040810,1535, 72.2170,-159.1960,   49,      6.0,  -0.2002,  28.4407,2,-999.0000,9,    411.6,2,    437.0,2,    12.26,2,     0.02,2,     0.00,2,     0.74,2,     0.04,2,   -999.0,   9,   -999.0,   9,     0.05,2,     0.32,2,     0.06,2,    1.387,2,  -0.2003,20040810,1548
  32H120040718,    38,  1,    106,      6,2,20040810,1535, 72.2170,-159.1960,   49,      9.5,  -1.0746,  30.6642,2,-999.0000,9,    468.5,2,    479.8,2,    13.60,2,     0.02,2,     0.00,2,     0.83,2,     0.03,2,   -999.0,   9,   -999.0,   9,     0.05,2,     0.40,2,     0.08,2,    1.356,2,  -1.0748,20040810,1546
  32H120040718,    38,  1,    105,      5,2,20040810,1535, 72.2170,-159.1960,   49,     14.4,  -1.4131,  31.9313,2,-999.0000,9,    419.5,2,    445.3,2,    24.17,2,     0.01,2,     0.01,2,     1.15,2,     0.05,2,   -999.0,   9,   -999.0,   9,     0.06,2,     0.47,2,     0.22,2,    1.608,2,  -1.4134,20040810,1543
  32H120040718,    38,  1,    102,      2,2,20040810,1535, 72.2170,-159.1960,   49,     23.2,  -1.5877,  32.4327,2,-999.0000,9,    421.2,2,    396.0,2,    27.62,2,     2.29,2,     0.06,2,     1.36,2,     0.13,2,   -999.0,   9,   -999.0,   9,     0.11,2,    12.24,2,     0.02,2,    2.483,2,  -1.5881,20040810,1539
  32H120040718,    38,  1,    103,      3,2,20040810,1535, 72.2170,-159.1960,   49,     23.2,  -1.5902,  32.4315,2,-999.0000,9,    421.0,2,   -999.0,9,  -999.00,9,  -999.00,9,  -999.00,9,  -999.00,9,     -999,9,   -999.0,   9,   -999.0,   9,     -999,9,  -999.00,9,  -999.00,9,    2.588,2,  -1.5906,20040810,1539
  32H120040718,    38,  1,    104,      4,2,20040810,1535, 72.2170,-159.1960,   49,     23.2,  -1.5970,  32.4381,2,-999.0000,9,    414.8,2,   -999.0,9,  -999.00,9,  -999.00,9,  -999.00,9,  -999.00,9,     -999,9,   -999.0,   9,   -999.0,   9,     -999,9,  -999.00,9,  -999.00,9,    2.667,2,  -1.5974,20040810,1539
  32H120040718,    38,  1,    101,      1,2,20040810,1535, 72.2170,-159.1960,   49,     33.7,  -1.7385,  32.9706,2,-999.0000,9,    302.3,2,    312.6,2,    50.22,2,    16.99,2,     0.17,2,     2.22,2,     1.29,2,   -999.0,   9,   -999.0,   9,      0.1,2,     4.67,2,     0.92,2,    2.158,2,  -1.7391,20040810,1535
  32H120040718,    38,  2,    212,     12,2,20040810,1748, 72.2170,-159.1960,   49,      2.1,  -0.4324,  29.2986,2,  29.2336,2,    439.7,2,    458.2,2,     7.62,2,     0.06,2,     0.00,2,     0.65,2,     0.03,2,   1833.5,   2,   2040.2,   2,     0.04,2,     0.30,2,     0.06,2,    1.196,2,  -0.4324,20040810,1817
  32H120040718,    38,  2,    211,     11,2,20040810,1748, 72.2170,-159.1960,   49,      6.5,  -0.5014,  29.5004,2,-999.0000,9,    448.7,2,    466.7,2,     6.21,2,     0.00,2,     0.00,2,     0.63,2,     0.03,2,   1851.4,   2,   2062.6,   2,     0.05,2,     0.28,2,     0.06,2,    1.227,2,  -0.5015,20040810,1815
  32H120040718,    38,  2,    210,     10,9,20040810,1748, 72.2170,-159.1960,   49,     11.6,  -0.7199,  29.9979,2,-999.0000,9,    462.6,2,   -999.0,9,  -999.00,9,  -999.00,9,  -999.00,9,  -999.00,9,     -999,9,   -999.0,   9,   -999.0,   9,     -999,9,  -999.00,9,  -999.00,9,    1.164,2,  -0.7201,20040810,1813
  32H120040718,    38,  2,    209,      9,2,20040810,1748, 72.2170,-159.1960,   49,     11.6,  -0.7533,  30.1132,2,-999.0000,9,    462.9,2,    482.8,2,     3.18,2,     0.00,2,     0.00,2,     0.60,2,     0.03,2,   1889.8,   2,   -999.0,   5,     0.06,2,     0.20,2,     0.04,2,    1.093,2,  -0.7535,20040810,1812
  32H120040718,    38,  2,    208,      8,9,20040810,1748, 72.2170,-159.1960,   49,     16.5,  -0.9638,  30.9217,2,-999.0000,9,    498.9,2,   -999.0,9,  -999.00,9,  -999.00,9,  -999.00,9,  -999.00,9,     -999,9,   -999.0,   9,   -999.0,   9,     -999,9,  -999.00,9,  -999.00,9,    1.313,2,  -0.9641,20040810,1808
  32H120040718,    38,  2,    207,      7,2,20040810,1748, 72.2170,-159.1960,   49,     16.5,  -0.9665,  30.9373,2,-999.0000,9,    498.5,2,    515.9,2,     6.91,2,    -0.01,2,     0.01,2,     0.68,2,     0.03,2,   1919.1,   2,   -999.0,   5,     0.06,2,     0.27,2,     0.05,2,    1.320,2,  -0.9668,20040810,1808
  32H120040718,    38,  2,    206,      6,2,20040810,1748, 72.2170,-159.1960,   49,     21.5,  -1.4360,  32.0707,2,-999.0000,9,    413.0,2,    434.1,2,    24.20,2,     0.29,2,     0.02,2,     1.14,2,     0.06,2,   2064.9,   2,   2207.3,   2,     0.08,2,     2.29,2,     0.29,2,    1.704,2,  -1.4364,20040810,1804
  32H120040718,    38,  2,    205,      5,9,20040810,1748, 72.2170,-159.1960,   49,     27.2,  -1.6070,  32.4456,2,-999.0000,9,    362.0,2,   -999.0,9,  -999.00,9,  -999.00,9,  -999.00,9,  -999.00,9,     -999,9,   -999.0,   9,   -999.0,   9,     -999,9,  -999.00,9,  -999.00,9,    2.455,2,  -1.6075,20040810,1800
  32H120040718,    38,  2,    204,      4,2,20040810,1748, 72.2170,-159.1960,   49,     27.2,  -1.6075,  32.4306,2,-999.0000,9,    380.2,2,    421.6,2,    31.15,2,     1.73,2,     0.07,2,     1.31,2,     0.14,2,   2090.3,   2,   2217.2,   2,     0.11,2,     4.37,2,     0.54,2,    2.608,2,  -1.6080,20040810,1800
  32H120040718,    38,  2,    203,      3,2,20040810,1748, 72.2170,-159.1960,   49,     31.6,  -1.6955,  32.6669,2,-999.0000,9,    314.9,2,    341.9,2,    36.83,2,    11.67,2,     0.07,2,     1.88,2,      0.9,2,   2156.0,   2,   2238.7,   2,     0.16,2,     3.78,2,     0.31,2,    2.097,2,  -1.6960,20040810,1756
  32H120040718,    38,  2,    202,      2,2,20040810,1748, 72.2170,-159.1960,   49,     40.7,  -1.7429,  33.0330,2,  33.0270,2,    288.1,2,    299.3,2,    52.48,2,    16.98,2,     0.16,2,     2.30,2,     1.63,2,   2191.4,   2,   2249.3,   2,     0.12,2,     1.60,2,     0.34,2,    1.621,2,  -1.7436,20040810,1752
  32H120040718,    38,  2,    201,      1,3,20040810,1748, 72.2170,-159.1960,   49,     46.1,  -1.7463,  33.0708,2,  32.9981,0,    289.4,2,    307.3,0,    51.61,3,    16.68,3,     0.15,3,     2.29,3,     1.39,3,   2186.7,   2,   2246.5,   2,     0.13,3,  -999.00,9,  -999.00,9,    1.725,2,  -1.7471,20040810,1748