BOTTLE,20220815CCHSIOAMB
EXPOCODE,STNNBR,CASTNO,SAMPNO,BTLNBR,BTLNBR_FLAG_W,DATE,TIME,LATITUDE,LONGITUDE,DEPTH,CTDPRS,CTDTMP,CTDSAL,CTDSAL_FLAG_W,SALNTY,SALNTY_FLAG_W,CTDOXY,CTDOXY_FLAG_W,OXYGEN,OXYGEN_FLAG_W,SILCAT,SILCAT_FLAG_W,NITRAT,NITRAT_FLAG_W,NITRIT,NITRIT_FLAG_W,PHSPHT,PHSPHT_FLAG_W,AMMONI,AMMONI_FLAG_W,TCARBN,TCARBN_FLAG_W,ALKALI,ALKALI_FLAG_W,UREA,UREA_FLAG_W,CHLORA,CHLORA_FLAG_W,PHAEO,PHAEO_FLAG_W,FLUORO,FLUORO_FLAG_W,THETA,BTL_DATE,BTL_TIME
,,,,,,,,,,METERS,DBAR,ITS-90,PSS-78,,PSS-78,,UMOL/KG,,UMOL/KG,,UMOL/KG,,UMOL/KG,,UMOL/KG,,UMOL/KG,,UMOL/KG,,UMOL/KG,,UMOL/KG,,UMOL/KG,,UG/L,,UG/L,,VOLTS,,DEG C,,
  32H120040718,    58,  2,    208,      8,2,20040822,2229, 73.1029,-160.5146,  213,     45.6,  -1.4771,  32.4762,2,-999.0000,9,    326.5,2,   -999.0,9,  -999.00,9,  -999.00,9,  -999.00,9,  -999.00,9,     -999,9,   -999.0,   9,   -999.0,   9,     -999,9,  -999.00,9,  -999.00,9,    1.847,2,  -1.4779,20040822,2236
  32H120040718,    58,  2,    207,      7,2,20040822,2229, 73.1029,-160.5146,  213,     45.6,  -1.4829,  32.4772,2,-999.0000,9,    326.8,2,   -999.0,9,  -999.00,9,  -999.00,9,  -999.00,9,  -999.00,9,     -999,9,   -999.0,   9,   -999.0,   9,     -999,9,  -999.00,9,  -999.00,9,    1.818,2,  -1.4837,20040822,2236
  32H120040718,    58,  2,    211,     11,2,20040822,2229, 73.1029,-160.5146,  213,     45.6,  -1.4891,  32.4761,2,-999.0000,9,    326.7,2,   -999.0,9,  -999.00,9,  -999.00,9,  -999.00,9,  -999.00,9,     -999,9,   -999.0,   9,   -999.0,   9,     -999,9,  -999.00,9,  -999.00,9,    1.821,2,  -1.4899,20040822,2237
  32H120040718,    58,  2,    212,     12,2,20040822,2229, 73.1029,-160.5146,  213,     45.6,  -1.4902,  32.4788,2,-999.0000,9,    326.6,2,   -999.0,9,    30.42,2,    10.22,2,     0.10,2,     1.73,2,     0.77,2,   -999.0,   9,   -999.0,   9,     0.13,2,  -999.00,9,  -999.00,9,    1.833,2,  -1.4910,20040822,2237
  32H120040718,    58,  2,    209,      9,2,20040822,2229, 73.1029,-160.5146,  213,     45.6,  -1.4922,  32.4708,2,-999.0000,9,    326.8,2,   -999.0,9,  -999.00,9,  -999.00,9,  -999.00,9,  -999.00,9,     -999,9,   -999.0,   9,   -999.0,   9,     -999,9,  -999.00,9,  -999.00,9,    1.967,2,  -1.4930,20040822,2236
  32H120040718,    58,  2,    210,     10,2,20040822,2229, 73.1029,-160.5146,  213,     45.6,  -1.4936,  32.4714,2,-999.0000,9,    326.9,2,   -999.0,9,  -999.00,9,  -999.00,9,  -999.00,9,  -999.00,9,     -999,9,   -999.0,   9,   -999.0,   9,     -999,9,  -999.00,9,  -999.00,9,    1.878,2,  -1.4944,20040822,2237
  32H120040718,    58,  2,    204,      4,2,20040822,2229, 73.1029,-160.5146,  213,     81.8,  -1.7099,  33.1114,2,-999.0000,9,    299.7,2,   -999.0,9,  -999.00,9,  -999.00,9,  -999.00,9,  -999.00,9,     -999,9,   -999.0,   9,   -999.0,   9,     -999,9,  -999.00,9,  -999.00,9,    1.030,2,  -1.7114,20040822,2230
  32H120040718,    58,  2,    205,      5,2,20040822,2229, 73.1029,-160.5146,  213,     81.8,  -1.7104,  33.1115,2,-999.0000,9,    299.6,2,   -999.0,9,  -999.00,9,  -999.00,9,  -999.00,9,  -999.00,9,     -999,9,   -999.0,   9,   -999.0,   9,     -999,9,  -999.00,9,  -999.00,9,    1.074,2,  -1.7119,20040822,2230
  32H120040718,    58,  2,    203,      3,2,20040822,2229, 73.1029,-160.5146,  213,     81.8,  -1.7104,  33.1115,2,-999.0000,9,    299.3,2,   -999.0,9,  -999.00,9,  -999.00,9,  -999.00,9,  -999.00,9,     -999,9,   -999.0,   9,   -999.0,   9,     -999,9,  -999.00,9,  -999.00,9,    1.044,2,  -1.7119,20040822,2230
  32H120040718,    58,  2,    206,      6,2,20040822,2229, 73.1029,-160.5146,  213,     81.8,  -1.7118,  33.1120,2,-999.0000,9,    299.5,2,   -999.0,9,  -999.00,9,  -999.00,9,  -999.00,9,  -999.00,9,     -999,9,   -999.0,   9,   -999.0,   9,     -999,9,  -999.00,9,  -999.00,9,    1.095,2,  -1.7133,20040822,2231
  32H120040718,    58,  2,    201,      1,2,20040822,2229, 73.1029,-160.5146,  213,     81.9,  -1.7145,  33.1106,2,-999.0000,9,    299.5,2,   -999.0,9,    45.19,2,    14.90,2,     0.13,2,     2.08,2,     0.92,2,   -999.0,   9,   -999.0,   9,      0.1,2,  -999.00,9,  -999.00,9,    1.161,2,  -1.7160,20040822,2229
  32H120040718,    58,  2,    202,      2,2,20040822,2229, 73.1029,-160.5146,  213,     81.9,  -1.7160,  33.1112,2,-999.0000,9,    299.3,2,   -999.0,9,  -999.00,9,  -999.00,9,  -999.00,9,  -999.00,9,     -999,9,   -999.0,   9,   -999.0,   9,     -999,9,  -999.00,9,  -999.00,9,    1.033,2,  -1.7175,20040822,2229
  32H120040718,    59,  1,    112,     12,2,20040823, 951, 73.0085,-160.7348,  127,      2.6,   0.3860,  28.0278,2,  28.1294,2,    392.7,2,    410.4,2,     3.43,2,     0.02,2,     0.00,2,     0.62,2,     0.19,2,   1814.6,   2,   1991.9,   2,     0.03,2,     0.16,2,     0.03,2,    1.079,2,   0.3859,20040823,1027
  32H120040718,    59,  1,    111,     11,2,20040823, 951, 73.0085,-160.7348,  127,      6.3,   0.0867,  28.3523,2,-999.0000,9,    396.6,2,    403.2,2,     3.42,2,     0.03,2,     0.00,2,     0.62,2,     0.18,2,   -999.0,   9,   -999.0,   9,     0.03,2,  -999.00,9,  -999.00,9,    1.022,2,   0.0865,20040823,1024
  32H120040718,    59,  1,    110,     10,2,20040823, 951, 73.0085,-160.7348,  127,     11.2,  -0.2479,  29.6087,2,-999.0000,9,    451.8,2,    474.7,2,     8.39,2,     0.02,2,     0.00,2,     0.74,2,     0.19,2,   1863.8,   2,   2090.0,   2,     0.04,2,     0.18,2,     0.04,2,    1.152,2,  -0.2482,20040823,1022
  32H120040718,    59,  1,    109,      9,2,20040823, 951, 73.0085,-160.7348,  127,     16.3,  -0.5901,  30.3543,2,-999.0000,9,    432.3,2,    470.3,2,     6.91,2,     0.02,2,     0.00,2,     0.76,2,     0.18,2,   -999.0,   9,   -999.0,   9,     0.05,2,  -999.00,9,  -999.00,9,    1.168,2,  -0.5905,20040823,1020
  32H120040718,    59,  1,    108,      8,2,20040823, 951, 73.0085,-160.7348,  127,     21.3,  -0.8629,  30.6667,2,-999.0000,9,    462.9,2,    457.6,2,     7.22,2,     0.02,2,     0.00,2,     0.78,2,     0.17,2,   1949.1,   2,   -999.0,   5,     0.05,2,     0.22,2,     0.05,2,    1.414,2,  -0.8633,20040823,1018
  32H120040718,    59,  1,    107,      7,2,20040823, 951, 73.0085,-160.7348,  127,     33.8,  -1.6484,  32.2915,2,-999.0000,9,    331.2,2,    368.0,2,    29.09,2,     6.96,2,     0.07,2,     1.64,2,     0.47,2,   2110.1,   2,   2229.2,   2,     0.12,2,     3.23,2,     0.75,2,    2.461,2,  -1.6490,20040823,1013
  32H120040718,    59,  1,    106,      6,2,20040823, 951, 73.0085,-160.7348,  127,     42.3,  -1.7328,  32.6714,2,-999.0000,9,    294.0,2,    301.9,2,    47.67,2,    15.87,2,     0.08,2,     2.21,2,     0.44,2,   -999.0,   9,   -999.0,   9,     0.09,2,    10.18,2,     1.17,2,    1.725,2,  -1.7335,20040823,1009
  32H120040718,    59,  1,    105,      5,2,20040823, 951, 73.0085,-160.7348,  127,     51.9,  -1.6119,  32.8246,2,-999.0000,9,    296.4,2,    306.3,2,    48.93,2,    14.67,2,     0.26,2,     2.28,2,     1.79,2,   2159.5,   2,   2246.5,   2,     0.08,2,     0.70,2,     0.32,2,    1.365,2,  -1.6128,20040823,1006
  32H120040718,    59,  1,    104,      4,2,20040823, 951, 73.0085,-160.7348,  127,     61.6,  -1.6255,  32.8578,2,-999.0000,9,    295.4,2,    304.5,2,    50.19,2,    15.23,2,     0.25,2,     2.29,2,     1.71,2,   2152.1,   2,   2246.4,   2,     0.07,2,  -999.00,9,  -999.00,9,    1.427,2,  -1.6266,20040823,1002
  32H120040718,    59,  1,    103,      3,2,20040823, 951, 73.0085,-160.7348,  127,     76.9,  -1.6297,  32.8883,2,-999.0000,9,    294.4,2,    304.0,2,    50.83,2,    15.31,2,     0.26,2,     2.32,2,     1.84,2,   2163.9,   2,   2247.4,   2,     0.07,2,  -999.00,9,  -999.00,9,    1.368,2,  -1.6311,20040823, 958
  32H120040718,    59,  1,    102,      2,2,20040823, 951, 73.0085,-160.7348,  127,    102.0,  -1.6378,  32.9387,2,  32.9395,2,    293.7,2,    303.5,2,    52.00,2,    15.57,2,     0.27,2,     2.34,2,     1.92,2,   -999.0,   9,   -999.0,   9,     0.09,2,  -999.00,9,  -999.00,9,    1.384,2,  -1.6397,20040823, 954
  32H120040718,    59,  1,    101,      1,2,20040823, 951, 73.0085,-160.7348,  127,    127.0,  -1.6449,  32.9642,2,  32.9614,2,    292.4,2,    301.5,2,    52.74,2,    15.77,2,     0.26,2,     2.36,2,     1.92,2,   2172.1,   2,   2242.6,   2,     0.07,2,     0.68,2,     0.40,2,    1.375,2,  -1.6473,20040823, 951
  32H120040718,    59,  2,    211,     11,2,20040823,1611, 73.0085,-160.7348,  127,      2.3,   0.7780,  27.3391,2,-999.0000,9,    377.3,2,    387.4,2,     4.31,2,     0.07,2,     0.01,2,     0.61,2,     0.13,2,   -999.0,   9,   -999.0,   9,     0.05,2,     0.16,2,     0.04,2,    0.999,2,   0.7779,20040823,1638
  32H120040718,    59,  2,    212,     12,9,20040823,1611, 73.0085,-160.7348,  127,      2.6,   1.1684,  26.8435,2,-999.0000,9,    370.2,2,   -999.0,9,  -999.00,9,  -999.00,9,  -999.00,9,  -999.00,9,     -999,9,   -999.0,   9,   -999.0,   9,     -999,9,  -999.00,9,  -999.00,9,    0.986,2,   1.1683,20040823,1638
  32H120040718,    59,  2,    209,      9,2,20040823,1611, 73.0085,-160.7348,  127,      9.1,   0.7416,  27.4248,2,-999.0000,9,    379.1,2,    399.6,2,     4.19,2,     0.02,2,     0.01,2,     0.62,2,     0.17,2,   -999.0,   9,   -999.0,   9,     0.05,2,     0.19,2,     0.03,2,    1.088,2,   0.7413,20040823,1635
  32H120040718,    59,  2,    210,     10,9,20040823,1611, 73.0085,-160.7348,  127,      9.2,   0.7121,  27.5004,2,-999.0000,9,    379.7,2,   -999.0,9,  -999.00,9,  -999.00,9,  -999.00,9,  -999.00,9,     -999,9,   -999.0,   9,   -999.0,   9,     -999,9,  -999.00,9,  -999.00,9,    1.041,2,   0.7118,20040823,1636
  32H120040718,    59,  2,    207,      7,2,20040823,1611, 73.0085,-160.7348,  127,     15.0,  -0.1733,  28.9826,2,-999.0000,9,    464.7,2,    435.9,2,     5.76,2,     0.02,2,     0.01,2,     0.67,2,     0.16,2,   -999.0,   9,   -999.0,   9,     0.06,2,     0.19,2,     0.03,2,    1.150,2,  -0.1736,20040823,1632
  32H120040718,    59,  2,    208,      8,9,20040823,1611, 73.0085,-160.7348,  127,     15.1,  -0.6312,  29.3754,2,-999.0000,9,    450.9,2,   -999.0,9,  -999.00,9,  -999.00,9,  -999.00,9,  -999.00,9,     -999,9,   -999.0,   9,   -999.0,   9,     -999,9,  -999.00,9,  -999.00,9,    1.112,2,  -0.6315,20040823,1632
  32H120040718,    59,  2,    206,      6,2,20040823,1611, 73.0085,-160.7348,  127,     23.3,  -0.8582,  30.7313,2,-999.0000,9,    472.1,2,    505.3,2,    11.44,2,     0.02,2,     0.01,2,     0.86,2,     0.16,2,   -999.0,   9,   -999.0,   9,     0.07,2,     0.19,2,     0.05,2,    1.195,2,  -0.8587,20040823,1629
  32H120040718,    59,  2,    205,      5,2,20040823,1611, 73.0085,-160.7348,  127,     36.0,  -1.4525,  31.9098,2,-999.0000,9,    411.2,2,    428.4,2,    14.16,2,     0.28,2,     0.02,2,     1.09,2,     0.23,2,   -999.0,   9,   -999.0,   9,      0.1,2,     1.75,2,     0.16,2,    1.890,2,  -1.4531,20040823,1625
  32H120040718,    59,  2,    204,      4,9,20040823,1611, 73.0085,-160.7348,  127,     42.7,  -1.6404,  32.3441,2,-999.0000,9,    343.1,2,   -999.0,9,  -999.00,9,  -999.00,9,  -999.00,9,  -999.00,9,     -999,9,   -999.0,   9,   -999.0,   9,     -999,9,  -999.00,9,  -999.00,9,    2.569,2,  -1.6411,20040823,1622
  32H120040718,    59,  2,    203,      3,2,20040823,1611, 73.0085,-160.7348,  127,     42.7,  -1.6447,  32.3547,2,-999.0000,9,    339.3,2,   -999.0,9,    34.01,2,     6.85,2,     0.11,2,     1.73,2,     0.68,2,   -999.0,   9,   -999.0,   9,     0.14,2,  -999.00,9,  -999.00,9,    2.611,2,  -1.6454,20040823,1622
  32H120040718,    59,  2,    202,      2,2,20040823,1611, 73.0085,-160.7348,  127,     54.9,  -1.7060,  32.6675,2,-999.0000,9,    299.1,2,    310.2,2,    43.59,2,    14.39,2,     0.10,2,     2.09,2,     0.63,2,   -999.0,   9,   -999.0,   9,     0.14,2,     0.87,2,     0.30,2,    1.503,2,  -1.7069,20040823,1618
  32H120040718,    59,  2,    201,      1,2,20040823,1611, 73.0085,-160.7348,  127,    143.9,  -0.1161,  34.5115,2,-999.0000,9,    262.0,2,   -999.0,9,    15.77,2,    13.12,2,     0.09,2,     1.19,2,     0.12,2,   -999.0,   9,   -999.0,   9,     0.09,2,  -999.00,9,  -999.00,9,    0.913,2,  -0.1212,20040823,1611
  32H120040718,    59,  3,    311,     11,2,20040823,1807, 73.0085,-160.7348,  127,     52.0,  -1.7024,  32.5795,2,-999.0000,9,    301.2,2,   -999.0,9,  -999.00,9,  -999.00,9,  -999.00,9,  -999.00,9,     -999,9,   -999.0,   9,   -999.0,   9,     -999,9,  -999.00,9,  -999.00,9,    1.431,2,  -1.7033,20040823,1812
  32H120040718,    59,  3,    310,     10,2,20040823,1807, 73.0085,-160.7348,  127,     52.0,  -1.7052,  32.5931,2,-999.0000,9,    301.0,2,   -999.0,9,  -999.00,9,  -999.00,9,  -999.00,9,  -999.00,9,     -999,9,   -999.0,   9,   -999.0,   9,     -999,9,  -999.00,9,  -999.00,9,    1.478,2,  -1.7061,20040823,1812
  32H120040718,    59,  3,    307,      7,2,20040823,1807, 73.0085,-160.7348,  127,     52.1,  -1.7043,  32.5860,2,-999.0000,9,    300.8,2,   -999.0,9,  -999.00,9,  -999.00,9,  -999.00,9,  -999.00,9,     -999,9,   -999.0,   9,   -999.0,   9,     -999,9,  -999.00,9,  -999.00,9,    1.435,2,  -1.7052,20040823,1811
  32H120040718,    59,  3,    308,      8,2,20040823,1807, 73.0085,-160.7348,  127,     52.2,  -1.7054,  32.5944,2,-999.0000,9,    300.8,2,   -999.0,9,  -999.00,9,  -999.00,9,  -999.00,9,  -999.00,9,     -999,9,   -999.0,   9,   -999.0,   9,     -999,9,  -999.00,9,  -999.00,9,    1.492,2,  -1.7063,20040823,1811
  32H120040718,    59,  3,    312,     12,2,20040823,1807, 73.0085,-160.7348,  127,     52.3,  -1.6994,  32.5714,2,-999.0000,9,    302.0,2,   -999.0,9,    41.38,2,    14.04,2,     0.09,2,     2.04,2,     0.62,2,   -999.0,   9,   -999.0,   9,     0.13,2,  -999.00,9,  -999.00,9,    1.386,2,  -1.7003,20040823,1812
  32H120040718,    59,  3,    309,      9,2,20040823,1807, 73.0085,-160.7348,  127,     52.3,  -1.7053,  32.5974,2,-999.0000,9,    300.7,2,   -999.0,9,  -999.00,9,  -999.00,9,  -999.00,9,  -999.00,9,     -999,9,   -999.0,   9,   -999.0,   9,     -999,9,  -999.00,9,  -999.00,9,    1.424,2,  -1.7062,20040823,1812
  32H120040718,    59,  3,    304,      4,2,20040823,1807, 73.0085,-160.7348,  127,    102.6,  -1.7219,  33.1617,2,-999.0000,9,    299.0,2,   -999.0,9,  -999.00,9,  -999.00,9,  -999.00,9,  -999.00,9,     -999,9,   -999.0,   9,   -999.0,   9,     -999,9,  -999.00,9,  -999.00,9,    1.056,2,  -1.7238,20040823,1807
  32H120040718,    59,  3,    301,      1,2,20040823,1807, 73.0085,-160.7348,  127,    102.7,  -1.7223,  33.1667,2,-999.0000,9,    299.6,2,   -999.0,9,    49.94,2,    16.97,2,     0.13,2,     2.25,2,     0.85,2,   -999.0,   9,   -999.0,   9,     0.09,2,  -999.00,9,  -999.00,9,    0.983,2,  -1.7242,20040823,1806
  32H120040718,    59,  3,    305,      5,2,20040823,1807, 73.0085,-160.7348,  127,    102.7,  -1.7229,  33.1630,2,-999.0000,9,    298.9,2,   -999.0,9,  -999.00,9,  -999.00,9,  -999.00,9,  -999.00,9,     -999,9,   -999.0,   9,   -999.0,   9,     -999,9,  -999.00,9,  -999.00,9,    0.984,2,  -1.7248,20040823,1808
  32H120040718,    59,  3,    302,      2,2,20040823,1807, 73.0085,-160.7348,  127,    102.7,  -1.7241,  33.1650,2,-999.0000,9,    299.1,2,   -999.0,9,  -999.00,9,  -999.00,9,  -999.00,9,  -999.00,9,     -999,9,   -999.0,   9,   -999.0,   9,     -999,9,  -999.00,9,  -999.00,9,    0.983,2,  -1.7260,20040823,1807
  32H120040718,    59,  3,    306,      6,2,20040823,1807, 73.0085,-160.7348,  127,    102.7,  -1.7257,  33.1614,2,-999.0000,9,    298.3,2,   -999.0,9,  -999.00,9,  -999.00,9,  -999.00,9,  -999.00,9,     -999,9,   -999.0,   9,   -999.0,   9,     -999,9,  -999.00,9,  -999.00,9,    0.992,2,  -1.7276,20040823,1808
  32H120040718,    59,  3,    303,      3,2,20040823,1807, 73.0085,-160.7348,  127,    102.8,  -1.7212,  33.1636,2,-999.0000,9,    298.9,2,   -999.0,9,  -999.00,9,  -999.00,9,  -999.00,9,  -999.00,9,     -999,9,   -999.0,   9,   -999.0,   9,     -999,9,  -999.00,9,  -999.00,9,    0.992,2,  -1.7231,20040823,1807
  32H120040718,    60,  1,    112,     12,2,20040824, 110, 72.7380,-161.3010,   50,      1.8,   2.5881,  25.1265,2,  25.1085,2,    359.9,2,    371.0,2,    10.33,2,     0.03,2,     0.00,2,     0.53,2,     0.15,2,   1600.9,   2,   1746.2,   2,     0.02,2,     0.26,2,     0.01,2,    0.933,2,   2.5880,20040824, 140
  32H120040718,    60,  1,    111,     11,2,20040824, 110, 72.7380,-161.3010,   50,      5.4,   0.2888,  28.7784,2,-999.0000,9,    446.2,2,    421.2,2,    11.98,2,     0.03,2,     0.00,2,     0.62,2,     0.16,2,   1687.7,   2,   1871.6,   2,     0.04,2,  -999.00,9,  -999.00,9,    0.932,2,   0.2887,20040824, 137
  32H120040718,    60,  1,    110,     10,2,20040824, 110, 72.7380,-161.3010,   50,     10.0,  -0.7615,  31.2948,2,  31.1443,2,    491.2,2,    516.3,2,     6.16,2,     0.03,2,     0.00,2,     0.69,2,     0.18,2,   1860.6,   2,   2141.6,   2,     0.12,2,     0.55,2,     0.00,2,    1.386,2,  -0.7617,20040824, 133
  32H120040718,    60,  1,    109,      9,2,20040824, 110, 72.7380,-161.3010,   50,     21.0,  -0.9902,  32.3988,2,-999.0000,9,    343.6,2,    382.9,2,    22.21,2,     6.37,2,     0.22,2,     1.58,2,     0.61,2,   2057.1,   2,   2208.7,   2,     0.16,2,    17.43,2,     0.72,2,    2.260,2,  -0.9907,20040824, 129
  32H120040718,    60,  1,    108,      8,2,20040824, 110, 72.7380,-161.3010,   50,     26.0,  -0.9129,  32.4963,2,  32.4974,2,    318.4,2,    330.3,2,    28.06,2,     5.89,2,     0.34,2,     1.88,2,     4.35,2,   -999.0,   9,   -999.0,   9,     0.27,2,  -999.00,9,  -999.00,9,    1.336,2,  -0.9135,20040824, 123
  32H120040718,    60,  1,    107,      7,2,20040824, 110, 72.7380,-161.3010,   50,     31.3,  -0.9122,  32.4966,2,-999.0000,9,    318.2,2,    329.6,2,    28.16,2,     5.88,2,     0.34,2,     1.90,2,     4.42,2,   2094.4,   2,   2227.1,   2,     0.26,2,     0.57,2,     0.17,2,    1.321,2,  -0.9129,20040824, 119
  32H120040718,    60,  1,    106,      6,2,20040824, 110, 72.7380,-161.3010,   50,     36.3,  -0.9119,  32.4966,2,-999.0000,9,    318.1,2,    329.3,2,    28.26,2,     5.88,2,     0.34,2,     1.89,2,     4.46,2,   -999.0,   9,   -999.0,   9,     0.26,2,  -999.00,9,  -999.00,9,    1.357,2,  -0.9128,20040824, 116
  32H120040718,    60,  1,    104,      4,2,20040824, 110, 72.7380,-161.3010,   50,     41.6,  -0.9118,  32.4968,2,-999.0000,9,    317.7,2,    329.3,2,    28.37,2,     5.87,2,     0.35,2,     1.90,2,     4.47,2,   2094.7,   2,   2229.0,   2,     0.25,2,     0.52,2,     0.22,2,    1.321,2,  -0.9128,20040824, 113
  32H120040718,    60,  1,    105,      5,2,20040824, 110, 72.7380,-161.3010,   50,     41.7,  -0.9128,  32.4974,2,-999.0000,9,    316.5,2,    328.6,2,    28.37,2,     5.87,2,     0.35,2,     1.91,2,     4.47,2,   -999.0,   9,   -999.0,   9,      0.3,2,  -999.00,9,  -999.00,9,    1.323,2,  -0.9138,20040824, 114
  32H120040718,    60,  1,    103,      3,2,20040824, 110, 72.7380,-161.3010,   50,     45.0,  -0.9134,  32.4978,2,-999.0000,9,    316.7,2,    327.6,2,    28.58,2,     5.86,2,     0.35,2,     1.93,2,     4.46,2,   -999.0,   9,   -999.0,   9,     0.25,2,  -999.00,9,  -999.00,9,    1.363,2,  -0.9145,20040824, 111
  32H120040718,    60,  1,    101,      1,2,20040824, 110, 72.7380,-161.3010,   50,     45.1,  -0.9122,  32.4971,2,  32.4977,2,    316.9,2,    328.1,2,    28.58,2,     5.94,2,     0.36,2,     1.92,2,     4.49,2,   2091.4,   2,   2235.5,   2,     0.32,2,     0.54,2,     0.27,2,    1.305,2,  -0.9133,20040824, 110
  32H120040718,    60,  1,    102,      2,2,20040824, 110, 72.7380,-161.3010,   50,     45.1,  -0.9133,  32.4977,2,-999.0000,9,    316.7,2,    328.4,2,    28.58,2,     5.86,2,     0.35,2,     1.92,2,     4.46,2,   2091.0,   2,   2229.8,   2,     0.25,2,  -999.00,9,  -999.00,9,    1.378,2,  -0.9144,20040824, 110