BOTTLE,20220815CCHSIOAMB
EXPOCODE,STNNBR,CASTNO,SAMPNO,BTLNBR,BTLNBR_FLAG_W,DATE,TIME,LATITUDE,LONGITUDE,DEPTH,CTDPRS,CTDTMP,CTDSAL,CTDSAL_FLAG_W,SALNTY,SALNTY_FLAG_W,CTDOXY,CTDOXY_FLAG_W,OXYGEN,OXYGEN_FLAG_W,SILCAT,SILCAT_FLAG_W,NITRAT,NITRAT_FLAG_W,NITRIT,NITRIT_FLAG_W,PHSPHT,PHSPHT_FLAG_W,AMMONI,AMMONI_FLAG_W,TCARBN,TCARBN_FLAG_W,ALKALI,ALKALI_FLAG_W,UREA,UREA_FLAG_W,CHLORA,CHLORA_FLAG_W,PHAEO,PHAEO_FLAG_W,FLUORO,FLUORO_FLAG_W,THETA,BTL_DATE,BTL_TIME
,,,,,,,,,,METERS,DBAR,ITS-90,PSS-78,,PSS-78,,UMOL/KG,,UMOL/KG,,UMOL/KG,,UMOL/KG,,UMOL/KG,,UMOL/KG,,UMOL/KG,,UMOL/KG,,UMOL/KG,,UMOL/KG,,UG/L,,UG/L,,VOLTS,,DEG C,,
  32H120040718,    23,  5,    511,     11,2,20040727,1612, 71.9890,-154.7530,  895,      1.9,   2.0860,  26.4390,2,-999.0000,9,    358.9,2,    369.7,2,     4.83,2,     0.03,2,     0.00,2,     0.52,2,     0.29,2,   -999.0,   9,   -999.0,   9,     0.04,2,     0.05,2,     0.01,2,    0.945,2,   2.0859,20040727,1655
  32H120040718,    23,  5,    512,     12,2,20040727,1612, 71.9890,-154.7530,  895,      2.0,   2.0821,  26.4684,2,-999.0000,9,    358.6,2,   -999.0,9,  -999.00,9,  -999.00,9,  -999.00,9,  -999.00,9,     -999,9,   -999.0,   9,   -999.0,   9,     -999,9,  -999.00,9,  -999.00,9,    0.900,2,   2.0820,20040727,1655
  32H120040718,    23,  5,    510,     10,2,20040727,1612, 71.9890,-154.7530,  895,      7.3,   0.9181,  27.7637,2,-999.0000,9,    365.9,2,    379.6,2,     4.21,2,     0.03,2,     0.00,2,     0.57,2,     0.33,2,   -999.0,   9,   -999.0,   9,     0.05,2,     0.04,2,     0.01,2,    0.994,2,   0.9179,20040727,1652
  32H120040718,    23,  5,    509,      9,2,20040727,1612, 71.9890,-154.7530,  895,     11.9,   2.7802,  29.7037,2,-999.0000,9,    398.4,2,    441.5,2,     4.48,2,     0.03,2,     0.00,2,     0.61,2,     0.21,2,   -999.0,   9,   -999.0,   9,     0.05,2,     0.06,2,     0.01,2,    1.249,2,   2.7796,20040727,1648
  32H120040718,    23,  5,    508,      8,2,20040727,1612, 71.9890,-154.7530,  895,     18.3,  -0.1106,  31.5076,2,-999.0000,9,    439.1,2,   -999.0,9,  -999.00,9,  -999.00,9,  -999.00,9,  -999.00,9,     -999,9,   -999.0,   9,   -999.0,   9,     -999,9,  -999.00,9,  -999.00,9,    1.033,2,  -0.1111,20040727,1644
  32H120040718,    23,  5,    507,      7,2,20040727,1612, 71.9890,-154.7530,  895,     18.3,  -0.1422,  31.5390,2,-999.0000,9,    435.0,2,    443.9,2,     3.53,2,     0.29,2,     0.01,2,     0.74,2,     0.42,2,   -999.0,   9,   -999.0,   9,     0.08,2,     0.03,2,     0.01,2,    0.935,2,  -0.1427,20040727,1644
  32H120040718,    23,  5,    506,      6,2,20040727,1612, 71.9890,-154.7530,  895,     28.3,  -1.0126,  32.0822,2,-999.0000,9,    349.3,2,    373.2,2,    16.20,2,     4.75,2,     0.11,2,     1.23,2,     0.81,2,   -999.0,   9,   -999.0,   9,      0.1,2,     0.03,2,     0.01,2,    1.222,2,  -1.0132,20040727,1639
  32H120040718,    23,  5,    504,      4,2,20040727,1612, 71.9890,-154.7530,  895,     42.9,  -1.4140,  32.4755,2,-999.0000,9,    354.1,2,   -999.0,9,  -999.00,9,  -999.00,9,  -999.00,9,  -999.00,9,     -999,9,   -999.0,   9,   -999.0,   9,     -999,9,  -999.00,9,  -999.00,9,    1.176,2,  -1.4148,20040727,1635
  32H120040718,    23,  5,    505,      5,2,20040727,1612, 71.9890,-154.7530,  895,     42.9,  -1.4278,  32.4790,2,-999.0000,9,    354.2,2,    357.3,2,    25.04,2,     8.35,2,     0.14,2,     1.53,2,     1.33,2,   -999.0,   9,   -999.0,   9,     0.09,2,     0.26,2,     0.12,2,    1.145,2,  -1.4286,20040727,1635
  32H120040718,    23,  5,    503,      3,2,20040727,1612, 71.9890,-154.7530,  895,    102.6,  -1.4977,  33.2512,2,-999.0000,9,    321.0,2,   -999.0,9,    27.75,2,     8.82,2,     0.09,2,     1.56,2,     1.37,2,   -999.0,   9,   -999.0,   9,     0.15,2,  -999.00,9,  -999.00,9,    1.042,2,  -1.4998,20040727,1628
  32H120040718,    23,  5,    502,      2,2,20040727,1612, 71.9890,-154.7530,  895,    151.7,  -0.2395,  34.4923,2,-999.0000,9,    270.4,2,   -999.0,9,    15.90,2,    13.28,2,     0.08,2,     1.15,2,     0.15,2,   -999.0,   9,   -999.0,   9,     0.07,2,  -999.00,9,  -999.00,9,    0.855,2,  -0.2447,20040727,1621
  32H120040718,    23,  5,    501,      1,2,20040727,1612, 71.9890,-154.7530,  895,    203.2,   0.4553,  34.7309,2,-999.0000,9,    274.0,2,   -999.0,9,    10.25,2,    13.09,2,     0.05,2,     0.97,2,     0.09,2,   -999.0,   9,   -999.0,   9,     0.12,2,  -999.00,9,  -999.00,9,    0.771,2,   0.4470,20040727,1612
  32H120040718,    24,  1,    112,     12,2,20040728,1239, 72.2300,-154.2030, 2139,    241.1,   0.4729,  34.7451,2,  34.7486,2,    276.8,2,    283.2,2,     9.98,2,    13.02,2,     0.00,2,     0.95,2,     0.07,2,   -999.0,   9,   -999.0,   9,     0.05,2,  -999.00,9,  -999.00,9,    0.745,2,   0.4629,20040728,1403
  32H120040718,    24,  1,    111,     11,2,20040728,1239, 72.2300,-154.2030, 2139,    306.3,   0.6311,  34.8074,2,-999.0000,9,    283.0,2,    289.6,2,     7.83,2,    12.81,2,     0.00,2,     0.89,2,     0.06,2,   2149.7,   2,   2298.7,   2,     0.04,2,  -999.00,9,  -999.00,9,    0.697,2,   0.6178,20040728,1356
  32H120040718,    24,  1,    110,     10,2,20040728,1239, 72.2300,-154.2030, 2139,    405.9,   0.5670,  34.8404,2,-999.0000,9,    286.0,2,    293.3,2,     7.56,2,    12.81,2,     0.00,2,     0.88,2,     0.07,2,   2140.8,   2,   2295.6,   2,     0.04,2,  -999.00,9,  -999.00,9,    0.581,2,   0.5492,20040728,1352
  32H120040718,    24,  1,    109,      9,2,20040728,1239, 72.2300,-154.2030, 2139,    457.5,   0.5162,  34.8477,2,-999.0000,9,    287.1,2,    294.7,2,     7.38,2,    12.81,2,     0.00,2,     0.88,2,     0.06,2,   -999.0,   9,   -999.0,   9,     0.04,2,  -999.00,9,  -999.00,9,    0.637,2,   0.4961,20040728,1349
  32H120040718,    24,  1,    108,      8,2,20040728,1239, 72.2300,-154.2030, 2139,    507.7,   0.4525,  34.8527,2,  34.8523,2,    287.1,2,    295.0,2,     7.43,2,    12.86,2,     0.00,2,     0.88,2,     0.06,2,   2141.1,   2,   2299.6,   2,     0.04,2,  -999.00,9,  -999.00,9,    0.623,2,   0.4302,20040728,1345
  32H120040718,    24,  1,    107,      7,2,20040728,1239, 72.2300,-154.2030, 2139,    609.0,   0.3404,  34.8609,2,  34.8614,2,    288.5,2,    296.7,2,     7.26,2,    12.86,2,     0.00,2,     0.89,2,     0.06,2,   -999.0,   9,   -999.0,   9,     0.03,2,  -999.00,9,  -999.00,9,    0.637,2,   0.3137,20040728,1339
  32H120040718,    24,  1,    106,      6,2,20040728,1239, 72.2300,-154.2030, 2139,    760.9,   0.1277,  34.8716,2,  34.8719,2,    290.2,2,    299.1,2,     6.98,2,    12.86,2,     0.00,2,     0.88,2,     0.06,2,   2142.1,   2,   2305.4,   2,     0.03,2,  -999.00,9,  -999.00,9,    0.564,2,   0.0946,20040728,1332
  32H120040718,    24,  1,    105,      5,2,20040728,1239, 72.2300,-154.2030, 2139,   1015.3,  -0.1137,  34.8885,2,  34.8887,2,    290.2,2,    299.8,2,     7.48,2,    13.00,2,     0.00,2,     0.90,2,     0.06,2,   -999.0,   9,   -999.0,   9,     0.03,2,  -999.00,9,  -999.00,9,    0.601,2,  -0.1582,20040728,1323
  32H120040718,    24,  1,    104,      4,2,20040728,1239, 72.2300,-154.2030, 2139,   1268.9,  -0.2604,  34.9054,2,  34.9057,2,    288.7,2,    299.2,2,     8.18,2,    13.33,2,     0.00,2,     0.93,2,     0.06,2,   2201.8,   2,   2307.6,   2,     0.03,2,  -999.00,9,  -999.00,9,    0.572,2,  -0.3174,20040728,1312
  32H120040718,    24,  1,    103,      3,2,20040728,1239, 72.2300,-154.2030, 2139,   1523.4,  -0.3635,  34.9236,2,  34.9232,2,    284.5,2,    295.6,2,     9.66,2,    13.90,2,     0.00,2,     0.97,2,     0.05,2,   -999.0,   9,   -999.0,   9,     0.02,2,  -999.00,9,  -999.00,9,    0.516,2,  -0.4341,20040728,1302
  32H120040718,    24,  1,    102,      2,3,20040728,1239, 72.2300,-154.2030, 2139,   1778.8,  -0.4057,  34.9381,2,  34.7041,0,    280.3,2,   -999.0,9,    11.70,4,    13.47,4,     0.01,4,     1.03,4,     0.14,4,   -999.0,   9,   -999.0,   9,     0.02,4,  -999.00,9,  -999.00,9,    0.505,2,  -0.4915,20040728,1250
  32H120040718,    24,  1,    101,      1,2,20040728,1239, 72.2300,-154.2030, 2139,   1992.0,  -0.4046,  34.9456,2,  34.9456,2,    277.1,2,    287.6,2,    12.40,2,    14.64,2,     0.00,2,     1.07,3,     0.06,2,   2199.0,   2,   2310.3,   2,     0.03,2,  -999.00,9,  -999.00,9,    0.503,2,  -0.5044,20040728,1239
  32H120040718,    24,  2,    211,     11,2,20040728,1607, 72.2300,-154.2030, 2139,      2.1,   1.6205,  27.0081,2,-999.0000,9,    390.5,2,    398.3,2,     5.89,2,     0.10,2,     0.00,2,     0.49,2,     0.16,2,   -999.0,   9,   -999.0,   9,     0.02,2,     0.37,2,     0.03,2,    0.965,2,   1.6204,20040728,1637
  32H120040718,    24,  2,    212,     12,2,20040728,1607, 72.2300,-154.2030, 2139,      2.1,   1.6246,  27.0067,2,-999.0000,9,    391.0,2,   -999.0,9,  -999.00,9,  -999.00,9,  -999.00,9,  -999.00,9,     -999,9,   -999.0,   9,   -999.0,   9,     -999,9,  -999.00,9,  -999.00,9,    0.965,2,   1.6245,20040728,1638
  32H120040718,    24,  2,    210,     10,2,20040728,1607, 72.2300,-154.2030, 2139,      8.3,   0.7503,  29.0379,2,-999.0000,9,    388.8,2,    398.5,2,     4.72,2,     0.10,2,     0.00,2,     0.64,2,     0.27,2,   -999.0,   9,   -999.0,   9,     0.02,2,     0.24,2,     0.04,2,    0.862,2,   0.7500,20040728,1635
  32H120040718,    24,  2,    209,      9,2,20040728,1607, 72.2300,-154.2030, 2139,     13.6,   3.2809,  31.2690,2,-999.0000,9,    358.2,2,    393.6,2,     4.76,2,     0.15,2,     0.00,2,     0.70,2,     0.29,2,   -999.0,   9,   -999.0,   9,     0.03,2,     0.31,2,     0.08,2,    1.547,2,   3.2801,20040728,1632
  32H120040718,    24,  2,    207,      7,2,20040728,1607, 72.2300,-154.2030, 2139,     21.0,   2.5251,  31.5060,2,-999.0000,9,    353.9,2,   -999.0,9,  -999.00,9,  -999.00,9,  -999.00,9,  -999.00,9,     -999,9,   -999.0,   9,   -999.0,   9,     -999,9,  -999.00,9,  -999.00,9,    1.612,2,   2.5240,20040728,1629
  32H120040718,    24,  2,    208,      8,2,20040728,1607, 72.2300,-154.2030, 2139,     21.0,   2.5470,  31.5011,2,-999.0000,9,    353.4,2,    358.1,2,     8.12,2,     0.68,2,     0.06,2,     0.80,2,     0.58,2,   -999.0,   9,   -999.0,   9,     0.08,2,     1.05,2,     0.32,2,    1.612,2,   2.5459,20040728,1629
  32H120040718,    24,  2,    206,      6,2,20040728,1607, 72.2300,-154.2030, 2139,     32.6,   1.0830,  31.6729,2,-999.0000,9,    352.3,2,    357.4,2,    10.16,2,     1.22,2,     0.11,2,     0.92,2,     0.93,2,   -999.0,   9,   -999.0,   9,     0.09,2,     0.59,2,     0.33,2,    1.388,2,   1.0817,20040728,1626
  32H120040718,    24,  2,    204,      4,2,20040728,1607, 72.2300,-154.2030, 2139,     49.3,   0.2496,  31.9345,2,-999.0000,9,    355.6,2,   -999.0,9,  -999.00,9,  -999.00,9,  -999.00,9,  -999.00,9,     -999,9,   -999.0,   9,   -999.0,   9,     -999,9,  -999.00,9,  -999.00,9,    1.429,2,   0.2480,20040728,1622
  32H120040718,    24,  2,    205,      5,2,20040728,1607, 72.2300,-154.2030, 2139,     49.3,   0.2522,  31.9348,2,-999.0000,9,    355.4,2,    361.6,2,    13.95,2,     2.97,2,     0.13,2,     1.10,2,     1.18,2,   -999.0,   9,   -999.0,   9,     0.12,2,     0.55,2,     0.55,2,    1.436,2,   0.2506,20040728,1622
  32H120040718,    24,  2,    203,      3,2,20040728,1607, 72.2300,-154.2030, 2139,    100.6,  -1.5595,  32.6228,2,-999.0000,9,    332.6,2,   -999.0,9,    28.88,2,     9.60,2,     0.16,2,     1.62,2,     1.61,2,   -999.0,   9,   -999.0,   9,     0.11,2,  -999.00,9,  -999.00,9,    1.528,2,  -1.5614,20040728,1617
  32H120040718,    24,  2,    202,      2,2,20040728,1607, 72.2300,-154.2030, 2139,    151.3,  -1.3263,  33.6088,2,-999.0000,9,    310.5,2,   -999.0,9,    28.82,2,     9.75,2,     0.11,2,     1.58,2,     1.45,2,   -999.0,   9,   -999.0,   9,     0.14,2,  -999.00,9,  -999.00,9,    1.103,2,  -1.3298,20040728,1613
  32H120040718,    24,  2,    201,      1,2,20040728,1607, 72.2300,-154.2030, 2139,    203.6,   0.0697,  34.6123,2,-999.0000,9,    272.6,2,   -999.0,9,    13.96,2,    13.48,2,     0.02,2,     1.09,2,     0.06,2,   -999.0,   9,   -999.0,   9,     0.03,2,  -999.00,9,  -999.00,9,    0.749,2,   0.0621,20040728,1607
  32H120040718,    24,  3,    312,     12,2,20040728,1827, 72.2300,-154.2030, 2139,      4.5,   2.2418,  27.7058,2,-999.0000,9,    379.2,2,    389.1,2,     5.54,2,     0.07,2,     0.00,2,     0.58,2,      0.2,2,   1838.6,   2,   -999.0,   5,     0.04,2,     0.26,2,     0.05,2,    0.934,2,   2.2416,20040728,1906
  32H120040718,    24,  3,    311,     11,2,20040728,1827, 72.2300,-154.2030, 2139,     11.4,  -0.8569,  30.0030,2,  29.8945,2,    398.2,2,   -999.0,9,     3.36,2,     0.07,2,     0.00,2,     0.71,2,     0.26,2,   -999.0,   9,   -999.0,   9,     0.04,2,     0.10,2,     0.03,2,    0.710,2,  -0.8571,20040728,1904
  32H120040718,    24,  3,    310,     10,2,20040728,1827, 72.2300,-154.2030, 2139,     16.3,   1.9556,  31.0286,2,-999.0000,9,    412.9,2,    409.8,2,     5.34,2,     0.10,2,     0.02,2,     0.71,2,     0.24,2,   1987.0,   2,   2169.9,   2,     0.06,2,     0.46,2,     0.09,2,    1.460,2,   1.9549,20040728,1902
  32H120040718,    24,  3,    309,      9,2,20040728,1827, 72.2300,-154.2030, 2139,     25.4,   2.5454,  31.5217,2,-999.0000,9,    348.6,2,    356.3,2,     8.65,2,     0.73,2,     0.07,2,     0.83,2,     0.64,2,   2023.5,   2,   2190.1,   2,     0.11,2,     0.86,2,     0.33,2,    1.502,2,   2.5441,20040728,1859
  32H120040718,    24,  3,    308,      8,2,20040728,1827, 72.2300,-154.2030, 2139,     41.7,   1.2549,  31.7542,2,-999.0000,9,    352.0,2,    359.6,2,    10.07,2,     1.33,2,     0.10,2,     0.92,2,     0.85,2,   2030.6,   2,   2197.4,   2,     0.12,2,     0.54,2,     0.49,2,    1.466,2,   1.2532,20040728,1856
  32H120040718,    24,  3,    307,      7,2,20040728,1827, 72.2300,-154.2030, 2139,     61.8,  -0.0269,  31.9987,2,-999.0000,9,    353.4,2,    362.8,2,    15.17,2,     3.35,2,     0.14,2,     1.14,2,     1.24,2,   -999.0,   9,   -999.0,   9,     0.13,2,     0.71,2,     0.59,2,    1.424,2,  -0.0288,20040728,1853
  32H120040718,    24,  3,    306,      6,2,20040728,1827, 72.2300,-154.2030, 2139,     82.0,  -0.8939,  32.1856,2,-999.0000,9,    349.3,2,    358.2,2,    19.36,2,     5.97,2,     0.16,2,     1.37,2,     1.29,2,   2092.7,   2,   2223.9,   2,     0.11,2,  -999.00,9,  -999.00,9,    1.473,2,  -0.8958,20040728,1849
  32H120040718,    24,  3,    305,      5,2,20040728,1827, 72.2300,-154.2030, 2139,    102.1,  -1.5590,  32.6855,2,-999.0000,9,    329.0,2,    338.5,2,    36.09,2,    11.28,2,     0.19,2,     1.78,2,      1.7,2,   2141.8,   2,   2241.4,   2,      0.1,2,     0.79,2,     0.34,2,    1.459,2,  -1.5609,20040728,1845
  32H120040718,    24,  3,    304,      4,2,20040728,1827, 72.2300,-154.2030, 2139,    134.3,  -1.5123,  33.1929,2,-999.0000,9,    321.7,2,    317.5,2,    27.96,2,    10.74,2,     0.09,2,     1.61,2,     0.66,2,   2180.4,   2,   2300.4,   2,     0.09,2,  -999.00,9,  -999.00,9,    1.200,2,  -1.5151,20040728,1840
  32H120040718,    24,  3,    303,      3,2,20040728,1827, 72.2300,-154.2030, 2139,    164.4,  -0.9372,  34.1120,2,-999.0000,9,    295.0,2,    303.7,2,    22.26,2,    11.00,2,     0.14,2,     1.41,2,     0.77,2,   2191.9,   2,   2318.7,   2,     0.09,2,  -999.00,9,  -999.00,9,    0.911,2,  -0.9417,20040728,1836
  32H120040718,    24,  3,    302,      2,2,20040728,1827, 72.2300,-154.2030, 2139,    192.8,  -0.1338,  34.5399,2,  34.5303,2,    268.0,2,    277.0,2,    15.66,2,    13.46,2,     0.02,2,     1.14,2,     0.05,2,   -999.0,   9,   -999.0,   9,     0.06,2,     0.11,2,     0.12,2,    0.760,2,  -0.1407,20040728,1831
  32H120040718,    24,  3,    301,      1,2,20040728,1827, 72.2300,-154.2030, 2139,    224.7,   0.2984,  34.6932,2,  34.6888,2,    270.9,2,    278.4,2,    12.06,2,    13.27,2,     0.06,2,     1.04,2,     0.06,2,   2146.2,   2,   2301.4,   2,     0.07,2,  -999.00,9,  -999.00,9,    0.763,2,   0.2895,20040728,1827
  32H120040718,    25,  1,    112,     12,2,20040729, 327, 71.2900,-152.5430,   50,      2.0,   5.7213,  27.5657,2,  26.0677,2,    331.0,2,    343.1,2,     7.34,2,     0.00,2,     0.00,2,     0.50,2,     0.25,2,   1754.7,   2,   -999.0,   5,     0.09,2,     0.59,2,     0.23,2,    1.501,2,   5.7212,20040729, 354
  32H120040718,    25,  1,    111,     11,2,20040729, 327, 71.2900,-152.5430,   50,      4.9,   6.2897,  29.2159,2,  28.8443,2,    323.2,2,    332.1,2,     8.41,2,     0.00,2,     0.00,2,     0.58,2,     0.24,2,   1883.2,   2,   2036.6,   2,     0.12,2,     0.69,2,     0.28,2,    1.519,2,   6.2893,20040729, 350
  32H120040718,    25,  1,    110,     10,2,20040729, 327, 71.2900,-152.5430,   50,      9.7,   6.1694,  30.1637,2,-999.0000,9,    312.4,2,    324.2,2,     9.06,2,    -0.01,2,     0.01,2,     0.64,2,     0.27,2,   1948.1,   2,   2097.8,   2,     0.16,2,     0.66,2,     0.51,2,    1.563,2,   6.1686,20040729, 348
  32H120040718,    25,  1,    109,      9,2,20040729, 327, 71.2900,-152.5430,   50,     14.7,   5.6966,  30.6046,2,-999.0000,9,    309.5,2,    317.1,2,     9.27,2,     0.07,2,     0.02,2,     0.74,2,     0.68,2,   1992.9,   2,   2148.3,   2,     0.16,2,     0.50,2,     0.31,2,    1.398,2,   5.6955,20040729, 346
  32H120040718,    25,  1,    107,      7,2,20040729, 327, 71.2900,-152.5430,   50,     19.8,   5.4099,  30.8038,2,-999.0000,9,    325.3,2,    327.1,2,     8.35,2,     0.01,2,     0.01,2,     0.71,2,     0.49,2,   1998.8,   2,   2148.9,   2,     0.15,2,     0.53,2,     0.32,2,    1.505,2,   5.4085,20040729, 343
  32H120040718,    25,  1,    108,      8,2,20040729, 327, 71.2900,-152.5430,   50,     19.9,   5.4031,  30.8036,2,-999.0000,9,    324.7,2,    327.6,2,     8.26,2,     0.02,2,     0.01,2,     0.70,2,     0.47,2,   -999.0,   9,   -999.0,   9,     0.14,2,  -999.00,9,  -999.00,9,    1.481,2,   5.4016,20040729, 343
  32H120040718,    25,  1,    106,      6,2,20040729, 327, 71.2900,-152.5430,   50,     24.9,   5.3662,  30.8144,2,-999.0000,9,    327.9,2,    334.9,2,     7.56,2,    -0.01,2,     0.01,2,     0.68,2,     0.31,2,   2000.2,   2,   2159.3,   2,     0.12,2,     0.71,2,     0.31,2,    1.508,2,   5.3644,20040729, 340
  32H120040718,    25,  1,    105,      5,2,20040729, 327, 71.2900,-152.5430,   50,     29.7,   4.8743,  30.9098,2,-999.0000,9,    332.7,2,    339.0,2,     7.11,2,     0.01,2,     0.01,2,     0.67,2,     0.34,2,   2001.6,   2,   2160.8,   2,     0.12,2,  -999.00,9,  -999.00,9,    1.547,2,   4.8722,20040729, 338
  32H120040718,    25,  1,    104,      4,3,20040729, 327, 71.2900,-152.5430,   50,     34.9,   3.8775,  30.9049,2,-999.0000,9,    362.5,2,   -999.0,9,     7.09,2,     0.01,2,     0.02,2,     0.67,2,     0.37,2,   -999.0,   9,   -999.0,   9,     0.13,2,     0.94,2,     0.35,2,    1.683,2,   3.8754,20040729, 335
  32H120040718,    25,  1,    103,      3,2,20040729, 327, 71.2900,-152.5430,   50,     39.8,   3.9712,  31.1287,2,-999.0000,9,    339.5,2,    344.1,2,     7.19,2,     0.11,2,     0.02,2,     0.71,2,     0.66,2,   2012.8,   2,   2170.0,   2,     0.16,2,  -999.00,9,  -999.00,9,    1.509,2,   3.9687,20040729, 332
  32H120040718,    25,  1,    102,      2,2,20040729, 327, 71.2900,-152.5430,   50,     45.7,   2.5312,  31.3221,2,  31.2054,0,    354.7,2,   -999.0,9,     8.72,2,     0.45,2,     0.05,2,     0.84,2,     1.14,2,   -999.0,   9,   -999.0,   9,     0.19,2,  -999.00,9,  -999.00,9,    1.180,2,   2.5289,20040729, 328
  32H120040718,    25,  1,    101,      1,2,20040729, 327, 71.2900,-152.5430,   50,     45.7,   2.6305,  31.3431,2,  31.1828,0,    346.7,2,    363.7,2,     8.16,2,     0.35,2,     0.04,2,     0.80,2,     0.97,2,   2012.6,   2,   2172.7,   2,     0.18,2,     0.41,2,     0.17,2,    1.261,2,   2.6281,20040729, 327