BOTTLE,20220815CCHSIOAMB
EXPOCODE,STNNBR,CASTNO,SAMPNO,BTLNBR,BTLNBR_FLAG_W,DATE,TIME,LATITUDE,LONGITUDE,DEPTH,CTDPRS,CTDTMP,CTDSAL,CTDSAL_FLAG_W,SALNTY,SALNTY_FLAG_W,CTDOXY,CTDOXY_FLAG_W,OXYGEN,OXYGEN_FLAG_W,SILCAT,SILCAT_FLAG_W,NITRAT,NITRAT_FLAG_W,NITRIT,NITRIT_FLAG_W,PHSPHT,PHSPHT_FLAG_W,AMMONI,AMMONI_FLAG_W,TCARBN,TCARBN_FLAG_W,ALKALI,ALKALI_FLAG_W,UREA,UREA_FLAG_W,CHLORA,CHLORA_FLAG_W,PHAEO,PHAEO_FLAG_W,FLUORO,FLUORO_FLAG_W,THETA,BTL_DATE,BTL_TIME
,,,,,,,,,,METERS,DBAR,ITS-90,PSS-78,,PSS-78,,UMOL/KG,,UMOL/KG,,UMOL/KG,,UMOL/KG,,UMOL/KG,,UMOL/KG,,UMOL/KG,,UMOL/KG,,UMOL/KG,,UMOL/KG,,UG/L,,UG/L,,VOLTS,,DEG C,,
  32H120040718,     5,  1,    112,     12,2,20040719,2245, 65.7150,-168.9030,   47,      2.3,   7.0664,  32.6469,2,  32.6475,2,    481.9,2,    482.0,2,    18.01,2,     0.39,2,     0.02,2,     0.54,2,     0.11,2,   1959.3,   2,   2230.3,   2,     0.16,2,    15.95,2,     0.17,2,    2.631,2,   7.0662,20040719,2316
  32H120040718,     5,  1,    111,     11,2,20040719,2245, 65.7150,-168.9030,   47,      6.1,   7.4699,  32.6276,2,  32.6468,2,    482.1,2,   -999.0,9,    18.01,2,     0.44,2,     0.02,2,     0.55,2,     0.08,2,   1978.6,   2,   2262.0,   2,     0.15,2,    16.72,2,     0.09,2,    2.637,2,   7.4693,20040719,2314
  32H120040718,     5,  1,    110,     10,2,20040719,2245, 65.7150,-168.9030,   47,     11.1,   6.5071,  32.6264,3,-999.0000,9,    463.9,2,   -999.0,9,    18.82,2,     1.11,2,     0.04,2,     0.63,2,     0.08,2,   -999.0,   9,   -999.0,   9,     0.15,2,  -999.00,9,  -999.00,9,    2.778,2,-999.0000,20040719,2310
  32H120040718,     5,  1,    109,      9,2,20040719,2245, 65.7150,-168.9030,   47,     11.2,   4.4365,  32.6982,2,-999.0000,9,    468.6,2,   -999.0,9,    19.52,2,     1.78,2,     0.06,2,     0.69,2,     0.09,2,   -999.0,   9,   -999.0,   9,     0.15,2,  -999.00,9,  -999.00,9,    2.885,2,   4.4357,20040719,2310
  32H120040718,     5,  1,    108,      8,2,20040719,2245, 65.7150,-168.9030,   47,     11.2,   6.7676,  32.6112,3,-999.0000,9,    402.6,2,    441.9,2,    20.55,2,     3.51,2,     0.08,2,     0.81,2,     0.15,2,   1998.1,   2,   2231.4,   2,     0.16,2,    17.26,2,     0.37,2,    2.719,2,-999.0000,20040719,2309
  32H120040718,     5,  1,    107,      7,2,20040719,2245, 65.7150,-168.9030,   47,     16.2,   2.6297,  32.6830,2,-999.0000,9,    333.5,2,    333.2,2,    27.83,2,    16.18,2,     0.14,2,     1.62,2,     0.97,2,   2079.3,   2,   2230.2,   2,     0.14,2,     3.48,2,     0.81,2,    2.012,2,   2.6288,20040719,2304
  32H120040718,     5,  1,    106,      6,9,20040719,2245, 65.7150,-168.9030,   47,     21.1,   2.6175,  32.6860,2,-999.0000,9,    331.5,2,   -999.0,9,  -999.00,9,  -999.00,9,  -999.00,9,  -999.00,9,     -999,9,   -999.0,   9,   -999.0,   9,     -999,9,  -999.00,9,  -999.00,9,    1.982,2,   2.6164,20040719,2301
  32H120040718,     5,  1,    105,      5,2,20040719,2245, 65.7150,-168.9030,   47,     26.1,   2.6160,  32.6863,2,-999.0000,9,    331.0,2,    330.8,2,    28.06,2,    16.42,2,     0.15,2,     1.64,2,     1.02,2,   2081.3,   2,   2222.1,   2,     0.17,2,     3.24,2,     0.84,2,    1.963,2,   2.6146,20040719,2257
  32H120040718,     5,  1,    104,      4,2,20040719,2245, 65.7150,-168.9030,   47,     31.2,   2.6162,  32.6865,2,-999.0000,9,    330.2,2,   -999.0,9,    28.28,2,    16.61,2,     0.15,2,     1.64,2,     1.08,2,   2081.5,   2,   2227.5,   2,     0.18,2,     3.13,2,     0.88,2,    1.988,2,   2.6145,20040719,2253
  32H120040718,     5,  1,    103,      3,2,20040719,2245, 65.7150,-168.9030,   47,     36.3,   2.6135,  32.6889,2,-999.0000,9,    329.9,2,    330.1,2,    28.41,2,    16.53,2,     0.15,2,     1.64,2,     1.07,2,   2080.6,   2,   2222.2,   2,     0.15,2,     3.21,2,     0.97,2,    1.908,2,   2.6115,20040719,2249
  32H120040718,     5,  1,    101,      1,2,20040719,2245, 65.7150,-168.9030,   47,     42.1,   2.6104,  32.6849,2,  32.6842,2,    330.1,2,    331.4,2,    28.42,2,    16.27,2,     0.15,2,     1.65,2,     1.16,2,   2082.5,   2,   2227.2,   2,     0.17,2,     3.32,2,     0.83,2,    1.953,2,   2.6081,20040719,2244
  32H120040718,     5,  1,    102,      2,2,20040719,2245, 65.7150,-168.9030,   47,     42.1,   2.6125,  32.6887,2,-999.0000,9,    329.4,2,   -999.0,9,    28.42,2,    16.49,2,     0.15,2,     1.64,2,     1.09,2,   -999.0,   9,   -999.0,   9,     0.15,2,  -999.00,9,  -999.00,9,    1.936,2,   2.6102,20040719,2245
  32H120040718,     6,  1,    112,     12,2,20040720,1025, 67.5310,-168.8810,   50,      2.2,   8.3098,  30.6850,2,  30.6703,2,    390.2,2,    389.8,2,     0.99,2,     0.14,2,     0.00,2,     0.17,2,     0.19,2,   1805.0,   2,   2109.5,   2,     0.05,2,     0.55,2,     0.15,2,    1.556,2,   8.3096,20040720,1049
  32H120040718,     6,  1,    111,     11,2,20040720,1025, 67.5310,-168.8810,   50,      5.8,   8.4763,  30.5846,2,-999.0000,9,    387.0,2,    387.6,2,     0.86,2,     0.09,2,     0.00,2,     0.17,2,     0.19,2,   1802.4,   2,   2108.7,   2,     0.06,2,     0.58,2,     0.14,2,    1.579,2,   8.4757,20040720,1048
  32H120040718,     6,  1,    110,     10,2,20040720,1025, 67.5310,-168.8810,   50,     10.7,   8.5177,  30.5686,3,-999.0000,9,    395.4,2,    389.9,2,     0.85,2,     0.09,2,     0.00,2,     0.17,2,     0.21,2,   1804.0,   2,   2106.9,   2,     0.06,2,     0.61,2,     0.13,2,    1.576,2,-999.0000,20040720,1046
  32H120040718,     6,  1,    109,      9,2,20040720,1025, 67.5310,-168.8810,   50,     15.0,   4.5859,  31.9805,2,-999.0000,9,    452.3,2,   -999.0,9,     1.30,2,     0.09,2,     0.00,2,     0.20,2,     0.19,2,   -999.0,   9,   -999.0,   9,     0.07,2,     0.55,2,     0.28,2,    1.781,2,   4.5849,20040720,1043
  32H120040718,     6,  1,    106,      6,2,20040720,1025, 67.5310,-168.8810,   50,     19.3,   3.6766,  32.0600,2,-999.0000,9,    464.1,2,   -999.0,9,  -999.00,9,  -999.00,9,  -999.00,9,  -999.00,9,     -999,9,   -999.0,   9,   -999.0,   9,     -999,9,  -999.00,9,  -999.00,9,    1.963,2,   3.6754,20040720,1040
  32H120040718,     6,  1,    107,      7,9,20040720,1025, 67.5310,-168.8810,   50,     19.5,   3.4541,  32.0470,2,-999.0000,9,    461.3,2,   -999.0,9,  -999.00,9,  -999.00,9,  -999.00,9,  -999.00,9,     -999,9,   -999.0,   9,   -999.0,   9,     -999,9,  -999.00,9,  -999.00,9,    2.062,2,   3.4529,20040720,1040
  32H120040718,     6,  1,    108,      8,2,20040720,1025, 67.5310,-168.8810,   50,     19.7,   3.1400,  32.0307,2,-999.0000,9,    452.7,2,    466.1,2,     1.28,2,     0.09,2,     0.00,2,     0.23,2,     0.19,2,   1897.8,   2,   2196.3,   2,     0.08,2,     0.78,2,     0.87,2,    2.258,2,   3.1389,20040720,1040
  32H120040718,     6,  1,    105,      5,2,20040720,1025, 67.5310,-168.8810,   50,     24.6,   2.6784,  32.0596,2,-999.0000,9,    441.0,2,    455.6,2,     0.69,2,     0.09,2,     0.00,2,     0.29,2,     0.19,2,   1921.1,   2,   2199.4,   2,     0.07,2,     2.09,2,     0.25,2,    2.190,2,   2.6771,20040720,1037
  32H120040718,     6,  1,    104,      4,2,20040720,1025, 67.5310,-168.8810,   50,     30.7,   2.2661,  32.1412,2,-999.0000,9,    357.9,2,    358.1,2,    12.34,2,     4.29,2,     0.09,2,     1.21,2,     3.19,2,   2011.1,   2,   2196.4,   2,     0.33,2,     8.41,2,     0.77,2,    2.433,2,   2.2646,20040720,1033
  32H120040718,     6,  1,    103,      3,2,20040720,1025, 67.5310,-168.8810,   50,     39.4,   2.2540,  32.1751,2,  32.1758,2,    358.8,2,    358.6,2,    14.74,2,     4.67,2,     0.12,2,     1.23,2,     2.83,2,   2022.0,   2,   2216.9,   2,     0.33,2,    10.46,2,     1.68,2,    2.578,2,   2.2520,20040720,1029
  32H120040718,     6,  1,    101,      1,2,20040720,1025, 67.5310,-168.8810,   50,     46.4,   2.2518,  32.1727,2,  32.1730,2,    359.3,2,    359.2,2,    14.73,2,     4.67,2,     0.12,2,     1.26,2,      2.8,2,   2015.6,   2,   2221.2,   2,     0.33,2,    11.20,2,     2.32,2,    2.570,2,   2.2495,20040720,1025
  32H120040718,     6,  1,    102,      2,9,20040720,1025, 67.5310,-168.8810,   50,     46.5,   2.2517,  32.1728,2,-999.0000,9,    359.1,2,   -999.0,9,  -999.00,9,  -999.00,9,  -999.00,9,  -999.00,9,     -999,9,   -999.0,   9,   -999.0,   9,     -999,9,  -999.00,9,  -999.00,9,    2.589,2,   2.2494,20040720,1025
  32H120040718,     6,  2,    212,     12,2,20040720,1702, 67.5310,-168.8810,   50,      2.4,   8.3211,  32.3382,2,-999.0000,9,    401.9,2,   -999.0,9,  -999.00,9,  -999.00,9,  -999.00,9,  -999.00,9,     -999,9,   -999.0,   9,   -999.0,   9,     -999,9,  -999.00,9,  -999.00,9,    1.601,2,   8.3209,20040720,1721
  32H120040718,     6,  2,    211,     11,2,20040720,1702, 67.5310,-168.8810,   50,      2.4,   8.3323,  32.3383,2,-999.0000,9,    401.5,2,    402.3,2,     2.25,2,     0.22,2,     0.01,2,     0.13,2,     0.22,2,   -999.0,   9,   -999.0,   9,     0.11,2,     0.64,2,     0.12,2,    1.465,2,   8.3321,20040720,1721
  32H120040718,     6,  2,    210,     10,2,20040720,1702, 67.5310,-168.8810,   50,      6.7,   8.2178,  32.3415,2,-999.0000,9,    401.7,2,    402.6,2,     2.12,2,     0.22,2,     0.00,2,     0.13,2,     0.21,2,   -999.0,   9,   -999.0,   9,     0.12,2,     0.64,2,     0.15,2,    1.557,2,   8.2171,20040720,1718
  32H120040718,     6,  2,    209,      9,2,20040720,1702, 67.5310,-168.8810,   50,     11.2,   8.5483,  32.3352,2,-999.0000,9,    398.5,2,    401.5,2,     2.46,2,     0.22,2,     0.01,2,     0.15,2,     0.21,2,   -999.0,   9,   -999.0,   9,      0.1,2,     0.69,2,     0.13,2,    1.393,2,   8.5472,20040720,1716
  32H120040718,     6,  2,    208,      8,2,20040720,1702, 67.5310,-168.8810,   50,     11.4,   8.5743,  32.3330,2,-999.0000,9,    398.3,2,   -999.0,9,  -999.00,9,  -999.00,9,  -999.00,9,  -999.00,9,     -999,9,   -999.0,   9,   -999.0,   9,     -999,9,  -999.00,9,  -999.00,9,    1.404,2,   8.5732,20040720,1716
  32H120040718,     6,  2,    206,      6,2,20040720,1702, 67.5310,-168.8810,   50,     16.9,   2.4622,  32.3455,2,-999.0000,9,    366.4,2,   -999.0,9,  -999.00,9,  -999.00,9,  -999.00,9,  -999.00,9,     -999,9,   -999.0,   9,   -999.0,   9,     -999,9,  -999.00,9,  -999.00,9,    2.315,2,   2.4613,20040720,1712
  32H120040718,     6,  2,    207,      7,2,20040720,1702, 67.5310,-168.8810,   50,     16.9,   2.4642,  32.3426,2,-999.0000,9,    366.4,2,    382.3,2,    16.44,2,     5.44,2,     0.10,2,     0.94,2,     1.08,2,   -999.0,   9,   -999.0,   9,     0.15,2,     6.12,2,     0.78,2,    2.284,2,   2.4633,20040720,1713
  32H120040718,     6,  2,    204,      4,2,20040720,1702, 67.5310,-168.8810,   50,     25.8,   2.4344,  32.3552,2,-999.0000,9,    353.7,2,   -999.0,9,  -999.00,9,  -999.00,9,  -999.00,9,  -999.00,9,     -999,9,   -999.0,   9,   -999.0,   9,     -999,9,  -999.00,9,  -999.00,9,    2.322,2,   2.4331,20040720,1709
  32H120040718,     6,  2,    205,      5,2,20040720,1702, 67.5310,-168.8810,   50,     25.9,   2.4335,  32.3550,2,-999.0000,9,    353.9,2,    354.1,2,    20.35,2,     7.79,2,     0.14,2,     1.23,2,     2.02,2,   -999.0,   9,   -999.0,   9,     0.24,2,     7.70,2,     1.34,2,    2.293,2,   2.4322,20040720,1709
  32H120040718,     6,  2,    203,      3,2,20040720,1702, 67.5310,-168.8810,   50,     39.2,   2.6014,  32.4105,2,-999.0000,9,    363.9,2,    368.5,2,    18.84,2,     7.04,2,     0.13,2,     1.10,2,     1.51,2,   -999.0,   9,   -999.0,   9,     0.22,2,     8.71,2,     1.07,2,    2.449,2,   2.5993,20040720,1706
  32H120040718,     6,  2,    202,      2,2,20040720,1702, 67.5310,-168.8810,   50,     45.0,   2.6259,  32.4309,2,-999.0000,9,    356.2,2,   -999.0,9,  -999.00,9,  -999.00,9,  -999.00,9,  -999.00,9,     -999,9,   -999.0,   9,   -999.0,   9,     -999,9,  -999.00,9,  -999.00,9,    2.360,2,   2.6235,20040720,1703
  32H120040718,     6,  2,    201,      1,2,20040720,1702, 67.5310,-168.8810,   50,     45.1,   2.6248,  32.4308,2,-999.0000,9,    356.5,2,   -999.0,9,    20.11,2,     8.04,2,     0.13,2,     1.23,2,     1.73,2,   -999.0,   9,   -999.0,   9,     0.24,2,  -999.00,9,  -999.00,9,    2.326,2,   2.6224,20040720,1702
  32H120040718,     6,  3,    311,     11,2,20040720,1836, 67.5310,-168.8810,   50,     40.7,   2.4293,  32.3380,2,-999.0000,9,    361.8,2,   -999.0,9,  -999.00,9,  -999.00,9,  -999.00,9,  -999.00,9,     -999,9,   -999.0,   9,   -999.0,   9,     -999,9,  -999.00,9,  -999.00,9,    2.367,2,   2.4272,20040720,1837
  32H120040718,     6,  3,    304,      4,2,20040720,1836, 67.5310,-168.8810,   50,     40.8,   2.4288,  32.3390,2,-999.0000,9,    361.6,2,   -999.0,9,  -999.00,9,  -999.00,9,  -999.00,9,  -999.00,9,     -999,9,   -999.0,   9,   -999.0,   9,     -999,9,  -999.00,9,  -999.00,9,    2.319,2,   2.4267,20040720,1835
  32H120040718,     6,  3,    309,      9,2,20040720,1836, 67.5310,-168.8810,   50,     40.8,   2.4302,  32.3387,2,-999.0000,9,    361.8,2,   -999.0,9,  -999.00,9,  -999.00,9,  -999.00,9,  -999.00,9,     -999,9,   -999.0,   9,   -999.0,   9,     -999,9,  -999.00,9,  -999.00,9,    2.343,2,   2.4281,20040720,1836
  32H120040718,     6,  3,    312,     12,2,20040720,1836, 67.5310,-168.8810,   50,     40.8,   2.4310,  32.3386,2,-999.0000,9,    361.4,2,   -999.0,9,  -999.00,9,  -999.00,9,  -999.00,9,  -999.00,9,     -999,9,   -999.0,   9,   -999.0,   9,     -999,9,  -999.00,9,  -999.00,9,    2.298,2,   2.4289,20040720,1837
  32H120040718,     6,  3,    303,      3,2,20040720,1836, 67.5310,-168.8810,   50,     40.9,   2.4289,  32.3391,2,-999.0000,9,    361.3,2,   -999.0,9,  -999.00,9,  -999.00,9,  -999.00,9,  -999.00,9,     -999,9,   -999.0,   9,   -999.0,   9,     -999,9,  -999.00,9,  -999.00,9,    2.302,2,   2.4268,20040720,1835
  32H120040718,     6,  3,    302,      2,2,20040720,1836, 67.5310,-168.8810,   50,     40.9,   2.4301,  32.3400,2,-999.0000,9,    361.4,2,   -999.0,9,  -999.00,9,  -999.00,9,  -999.00,9,  -999.00,9,     -999,9,   -999.0,   9,   -999.0,   9,     -999,9,  -999.00,9,  -999.00,9,    2.296,2,   2.4280,20040720,1834
  32H120040718,     6,  3,    305,      5,2,20040720,1836, 67.5310,-168.8810,   50,     40.9,   2.4315,  32.3402,2,-999.0000,9,    361.5,2,   -999.0,9,    18.72,2,     6.92,2,     0.13,2,     1.14,2,     1.71,2,   -999.0,   9,   -999.0,   9,     0.26,2,  -999.00,9,  -999.00,9,    2.347,2,   2.4294,20040720,1835
  32H120040718,     6,  3,    306,      6,2,20040720,1836, 67.5310,-168.8810,   50,     40.9,   2.4327,  32.3407,2,-999.0000,9,    361.6,2,   -999.0,9,  -999.00,9,  -999.00,9,  -999.00,9,  -999.00,9,     -999,9,   -999.0,   9,   -999.0,   9,     -999,9,  -999.00,9,  -999.00,9,    2.323,2,   2.4306,20040720,1835
  32H120040718,     6,  3,    310,     10,2,20040720,1836, 67.5310,-168.8810,   50,     41.0,   2.4308,  32.3391,2,-999.0000,9,    361.8,2,   -999.0,9,  -999.00,9,  -999.00,9,  -999.00,9,  -999.00,9,     -999,9,   -999.0,   9,   -999.0,   9,     -999,9,  -999.00,9,  -999.00,9,    2.377,2,   2.4287,20040720,1836
  32H120040718,     6,  3,    307,      7,2,20040720,1836, 67.5310,-168.8810,   50,     41.0,   2.4330,  32.3406,2,-999.0000,9,    361.7,2,   -999.0,9,  -999.00,9,  -999.00,9,  -999.00,9,  -999.00,9,     -999,9,   -999.0,   9,   -999.0,   9,     -999,9,  -999.00,9,  -999.00,9,    2.354,2,   2.4309,20040720,1835
  32H120040718,     6,  3,    301,      1,2,20040720,1836, 67.5310,-168.8810,   50,     41.1,   2.4326,  32.3415,2,-999.0000,9,    361.4,2,   -999.0,9,  -999.00,9,  -999.00,9,  -999.00,9,  -999.00,9,     -999,9,   -999.0,   9,   -999.0,   9,     -999,9,  -999.00,9,  -999.00,9,    2.310,2,   2.4305,20040720,1834
  32H120040718,     6,  3,    308,      8,2,20040720,1836, 67.5310,-168.8810,   50,     41.1,   2.4347,  32.3415,2,-999.0000,9,    361.7,2,   -999.0,9,  -999.00,9,  -999.00,9,  -999.00,9,  -999.00,9,     -999,9,   -999.0,   9,   -999.0,   9,     -999,9,  -999.00,9,  -999.00,9,    2.340,2,   2.4326,20040720,1836
  32H120040718,     7,  1,    112,     12,2,20040721, 245, 68.5040,-167.4010,   44,      3.0,  10.3122,  30.7395,2,  30.7469,2,    295.2,2,    296.0,2,     4.71,2,     0.03,2,     0.00,2,     0.48,2,        0,2,   1971.2,   2,   2155.2,   2,     0.08,2,     0.42,2,     0.06,2,    1.258,2,  10.3119,20040721, 310
  32H120040718,     7,  1,    111,     11,2,20040721, 245, 68.5040,-167.4010,   44,      6.0,  10.2719,  30.7512,2,  30.7576,2,    295.3,2,    296.4,2,     4.71,2,     0.03,2,     0.00,2,     0.48,2,      0.1,2,   1972.0,   2,   2159.8,   2,     0.23,2,     0.43,2,     0.08,2,    1.300,2,  10.2712,20040721, 307
  32H120040718,     7,  1,    108,      8,2,20040721, 245, 68.5040,-167.4010,   44,     11.2,  10.3250,  30.7483,2,-999.0000,9,    295.1,2,    295.3,2,     4.61,2,     0.03,2,     0.00,2,     0.47,2,     0.01,2,   1969.9,   2,   2155.2,   2,     0.07,2,     0.43,2,     0.05,2,    1.289,2,  10.3238,20040721, 303
  32H120040718,     7,  1,    110,     10,2,20040721, 245, 68.5040,-167.4010,   44,     11.3,   9.8437,  30.8124,2,-999.0000,9,    300.1,2,   -999.0,9,     4.60,2,     0.03,2,     0.00,2,     0.48,2,     0.01,2,   -999.0,   9,   -999.0,   9,     0.06,2,  -999.00,9,  -999.00,9,    1.414,2,   9.8425,20040721, 304
  32H120040718,     7,  1,    109,      9,2,20040721, 245, 68.5040,-167.4010,   44,     11.3,   9.8616,  30.8138,2,-999.0000,9,    299.9,2,   -999.0,9,     4.60,2,     0.03,2,     0.00,2,     0.48,2,     0.01,2,   -999.0,   9,   -999.0,   9,     0.05,2,  -999.00,9,  -999.00,9,    1.413,2,   9.8604,20040721, 304
  32H120040718,     7,  1,    107,      7,2,20040721, 245, 68.5040,-167.4010,   44,     16.0,   9.8979,  30.8127,2,-999.0000,9,    299.6,2,    297.5,2,     4.61,2,     0.02,2,     0.00,2,     0.47,2,     0.01,2,   1972.3,   2,   2161.2,   2,     0.05,2,     0.39,2,     0.07,2,    1.398,2,   9.8962,20040721, 300
  32H120040718,     7,  1,    106,      6,2,20040721, 245, 68.5040,-167.4010,   44,     21.5,   9.8460,  30.8200,2,-999.0000,9,    300.1,2,    300.5,2,     4.49,2,     0.02,2,     0.00,2,     0.47,2,     0.02,2,   1973.6,   2,   2165.2,   2,     0.06,2,     0.41,2,     0.08,2,    1.425,2,   9.8437,20040721, 256
  32H120040718,     7,  1,    105,      5,2,20040721, 245, 68.5040,-167.4010,   44,     26.8,   9.8595,  30.8226,2,-999.0000,9,    300.4,2,    301.6,2,     4.62,2,     0.02,2,     0.00,2,     0.48,2,     0.01,2,   1972.3,   2,   2168.5,   2,     0.06,2,     0.40,2,     0.08,2,    1.429,2,   9.8566,20040721, 253
  32H120040718,     7,  1,    104,      4,2,20040721, 245, 68.5040,-167.4010,   44,     31.8,   6.5920,  30.8182,2,-999.0000,9,    315.5,2,    315.0,2,     7.16,2,     0.06,2,     0.01,2,     0.61,2,     0.07,2,   -999.0,   9,   -999.0,   9,     0.06,2,  -999.00,9,  -999.00,9,    1.764,2,   6.5894,20040721, 249
  32H120040718,     7,  1,    103,      3,2,20040721, 245, 68.5040,-167.4010,   44,     31.9,   6.5345,  30.8164,2,-999.0000,9,    315.1,2,    316.8,2,     7.62,2,     0.10,2,     0.02,2,     0.64,2,     0.15,2,   1993.8,   2,   2167.0,   2,     0.06,2,     1.11,2,     0.41,2,    1.743,2,   6.5319,20040721, 248
  32H120040718,     7,  1,    101,      1,2,20040721, 245, 68.5040,-167.4010,   44,     37.4,   6.3853,  30.8092,2,  30.8076,2,    315.0,2,    315.4,2,     8.09,2,     0.19,2,     0.02,2,     0.68,2,     0.34,2,   1997.9,   2,   2167.2,   2,     0.07,2,     0.74,2,     0.43,2,    1.593,2,   6.3823,20040721, 245
  32H120040718,     7,  1,    102,      2,2,20040721, 245, 68.5040,-167.4010,   44,     37.5,   6.3883,  30.8094,2,-999.0000,9,    315.0,2,   -999.0,9,     8.08,2,     0.14,2,     0.02,2,     0.68,2,     0.35,2,   -999.0,   9,   -999.0,   9,     0.08,2,  -999.00,9,  -999.00,9,    1.603,2,   6.3853,20040721, 245