BOTTLE,20220815CCHSIOAMB
EXPOCODE,STNNBR,CASTNO,SAMPNO,BTLNBR,BTLNBR_FLAG_W,DATE,TIME,LATITUDE,LONGITUDE,DEPTH,CTDPRS,CTDTMP,CTDSAL,CTDSAL_FLAG_W,SALNTY,SALNTY_FLAG_W,CTDOXY,CTDOXY_FLAG_W,OXYGEN,OXYGEN_FLAG_W,SILCAT,SILCAT_FLAG_W,NITRAT,NITRAT_FLAG_W,NITRIT,NITRIT_FLAG_W,PHSPHT,PHSPHT_FLAG_W,AMMONI,AMMONI_FLAG_W,TCARBN,TCARBN_FLAG_W,ALKALI,ALKALI_FLAG_W,UREA,UREA_FLAG_W,CHLORA,CHLORA_FLAG_W,PHAEO,PHAEO_FLAG_W,FLUORO,FLUORO_FLAG_W,THETA,BTL_DATE,BTL_TIME
,,,,,,,,,,METERS,DBAR,ITS-90,PSS-78,,PSS-78,,UMOL/KG,,UMOL/KG,,UMOL/KG,,UMOL/KG,,UMOL/KG,,UMOL/KG,,UMOL/KG,,UMOL/KG,,UMOL/KG,,UMOL/KG,,UG/L,,UG/L,,VOLTS,,DEG C,,
  32H120040718,    42,  2,    209,      9,2,20040811,1035, 72.6091,-158.7336,   82,     34.4,  -0.8230,  32.1927,2,-999.0000,9,    365.6,2,   -999.0,9,  -999.00,9,  -999.00,9,  -999.00,9,  -999.00,9,     -999,9,   -999.0,   9,   -999.0,   9,     -999,9,  -999.00,9,  -999.00,9,    1.805,2,  -0.8238,20040811,1043
  32H120040718,    42,  2,    208,      8,2,20040811,1035, 72.6091,-158.7336,   82,     34.4,  -0.8234,  32.1922,2,-999.0000,9,    364.3,2,   -999.0,9,  -999.00,9,  -999.00,9,  -999.00,9,  -999.00,9,     -999,9,   -999.0,   9,   -999.0,   9,     -999,9,  -999.00,9,  -999.00,9,    1.684,2,  -0.8242,20040811,1043
  32H120040718,    42,  2,    210,     10,2,20040811,1035, 72.6091,-158.7336,   82,     34.4,  -0.8614,  32.1920,2,-999.0000,9,    364.9,2,   -999.0,9,  -999.00,9,  -999.00,9,  -999.00,9,  -999.00,9,     -999,9,   -999.0,   9,   -999.0,   9,     -999,9,  -999.00,9,  -999.00,9,    1.816,2,  -0.8622,20040811,1043
  32H120040718,    42,  2,    207,      7,2,20040811,1035, 72.6091,-158.7336,   82,     34.4,  -0.8926,  32.1953,2,-999.0000,9,    361.2,2,   -999.0,9,  -999.00,9,  -999.00,9,  -999.00,9,  -999.00,9,     -999,9,   -999.0,   9,   -999.0,   9,     -999,9,  -999.00,9,  -999.00,9,    1.811,2,  -0.8934,20040811,1042
  32H120040718,    42,  2,    211,     11,2,20040811,1035, 72.6091,-158.7336,   82,     34.4,  -0.9784,  32.2039,2,-999.0000,9,    360.9,2,   -999.0,9,  -999.00,9,  -999.00,9,  -999.00,9,  -999.00,9,     -999,9,   -999.0,   9,   -999.0,   9,     -999,9,  -999.00,9,  -999.00,9,    1.647,2,  -0.9792,20040811,1044
  32H120040718,    42,  2,    212,     12,2,20040811,1035, 72.6091,-158.7336,   82,     34.4,  -1.0037,  32.2116,2,-999.0000,9,    360.3,2,   -999.0,9,    10.31,2,     2.77,2,     0.04,2,     1.15,2,     0.34,2,   -999.0,   9,   -999.0,   9,     0.09,2,  -999.00,9,  -999.00,9,    1.648,2,  -1.0045,20040811,1044
  32H120040718,    42,  2,    203,      3,2,20040811,1035, 72.6091,-158.7336,   82,     86.9,  -1.7460,  33.1202,2,-999.0000,9,    288.2,2,   -999.0,9,  -999.00,9,  -999.00,9,  -999.00,9,  -999.00,9,     -999,9,   -999.0,   9,   -999.0,   9,     -999,9,  -999.00,9,  -999.00,9,    1.598,2,  -1.7476,20040811,1034
  32H120040718,    42,  2,    204,      4,2,20040811,1035, 72.6091,-158.7336,   82,     86.9,  -1.7462,  33.1231,2,-999.0000,9,    288.2,2,   -999.0,9,  -999.00,9,  -999.00,9,  -999.00,9,  -999.00,9,     -999,9,   -999.0,   9,   -999.0,   9,     -999,9,  -999.00,9,  -999.00,9,    1.690,2,  -1.7478,20040811,1034
  32H120040718,    42,  2,    201,      1,2,20040811,1035, 72.6091,-158.7336,   82,     86.9,  -1.7462,  33.1239,2,-999.0000,9,    288.1,2,   -999.0,9,    55.12,2,    18.36,2,     0.14,2,     2.39,2,     1.74,2,   -999.0,   9,   -999.0,   9,     0.08,2,  -999.00,9,  -999.00,9,    1.670,2,  -1.7478,20040811,1034
  32H120040718,    42,  2,    202,      2,2,20040811,1035, 72.6091,-158.7336,   82,     86.9,  -1.7462,  33.1243,2,-999.0000,9,    288.1,2,   -999.0,9,  -999.00,9,  -999.00,9,  -999.00,9,  -999.00,9,     -999,9,   -999.0,   9,   -999.0,   9,     -999,9,  -999.00,9,  -999.00,9,    1.614,2,  -1.7478,20040811,1034
  32H120040718,    42,  2,    205,      5,2,20040811,1035, 72.6091,-158.7336,   82,     86.9,  -1.7464,  33.1206,2,-999.0000,9,    287.8,2,   -999.0,9,  -999.00,9,  -999.00,9,  -999.00,9,  -999.00,9,     -999,9,   -999.0,   9,   -999.0,   9,     -999,9,  -999.00,9,  -999.00,9,    1.641,2,  -1.7480,20040811,1035
  32H120040718,    42,  2,    206,      6,2,20040811,1035, 72.6091,-158.7336,   82,     86.9,  -1.7466,  33.1238,2,-999.0000,9,    288.4,2,   -999.0,9,  -999.00,9,  -999.00,9,  -999.00,9,  -999.00,9,     -999,9,   -999.0,   9,   -999.0,   9,     -999,9,  -999.00,9,  -999.00,9,    1.567,2,  -1.7482,20040811,1035
  32H120040718,    42,  3,    312,     12,2,20040811,1602, 72.6091,-158.7336,   82,      1.7,   0.9933,  27.2593,2,-999.0000,9,    354.7,2,   -999.0,9,  -999.00,9,  -999.00,9,  -999.00,9,  -999.00,9,     -999,9,   -999.0,   9,   -999.0,   9,     -999,9,  -999.00,9,  -999.00,9,    0.771,2,   0.9932,20040811,1635
  32H120040718,    42,  3,    311,     11,2,20040811,1602, 72.6091,-158.7336,   82,      1.7,   1.0000,  27.2600,2,-999.0000,9,    354.8,2,    370.3,2,     2.42,2,     0.08,2,     0.00,2,     0.55,2,     0.05,2,   -999.0,   9,   -999.0,   9,        0,2,     0.15,2,     0.09,2,    0.790,2,   0.9999,20040811,1635
  32H120040718,    42,  3,    310,     10,2,20040811,1602, 72.6091,-158.7336,   82,     10.5,   0.9895,  27.2589,2,-999.0000,9,    355.0,2,    373.2,2,     2.42,2,     0.02,2,     0.00,2,     0.55,2,     0.04,2,   -999.0,   9,   -999.0,   9,        0,2,     0.10,2,     0.06,2,    0.807,2,   0.9892,20040811,1631
  32H120040718,    42,  3,    309,      9,2,20040811,1602, 72.6091,-158.7336,   82,     17.4,   0.5103,  28.1296,2,-999.0000,9,    383.3,2,    405.0,2,     2.30,2,     0.07,2,     0.00,2,     0.58,2,     0.05,2,   -999.0,   9,   -999.0,   9,        0,2,     0.10,2,     0.07,2,    0.866,2,   0.5098,20040811,1627
  32H120040718,    42,  3,    307,      7,2,20040811,1602, 72.6091,-158.7336,   82,     26.9,  -1.0260,  31.1211,2,-999.0000,9,    420.7,2,   -999.0,9,  -999.00,9,  -999.00,9,  -999.00,9,  -999.00,9,     -999,9,   -999.0,   9,   -999.0,   9,     -999,9,  -999.00,9,  -999.00,9,    0.958,2,  -1.0265,20040811,1624
  32H120040718,    42,  3,    308,      8,2,20040811,1602, 72.6091,-158.7336,   82,     26.9,  -1.0269,  31.1293,2,-999.0000,9,    419.8,2,    483.0,2,     3.47,2,     0.12,2,     0.00,2,     0.64,2,        0,2,   -999.0,   9,   -999.0,   9,        0,2,     0.19,2,     0.04,2,    1.032,2,  -1.0274,20040811,1624
  32H120040718,    42,  3,    306,      6,2,20040811,1602, 72.6091,-158.7336,   82,     41.9,  -1.4457,  32.3124,2,-999.0000,9,    411.6,2,    410.3,2,    18.03,2,     1.86,2,     0.02,2,     1.14,2,     0.06,2,   -999.0,   9,   -999.0,   9,     0.02,2,     3.17,2,     0.60,2,    1.801,2,  -1.4465,20040811,1620
  32H120040718,    42,  3,    305,      5,2,20040811,1602, 72.6091,-158.7336,   82,     44.8,  -1.4806,  32.4410,2,-999.0000,9,    352.4,2,   -999.0,9,    19.08,2,     3.85,2,     0.05,2,     1.41,2,     0.24,2,   -999.0,   9,   -999.0,   9,     0.08,2,  -999.00,9,  -999.00,9,    2.412,2,  -1.4814,20040811,1617
  32H120040718,    42,  3,    303,      3,2,20040811,1602, 72.6091,-158.7336,   82,     63.8,  -1.5293,  32.9492,2,-999.0000,9,    316.0,2,   -999.0,9,  -999.00,9,  -999.00,9,  -999.00,9,  -999.00,9,     -999,9,   -999.0,   9,   -999.0,   9,     -999,9,  -999.00,9,  -999.00,9,    0.953,2,  -1.5305,20040811,1612
  32H120040718,    42,  3,    304,      4,2,20040811,1602, 72.6091,-158.7336,   82,     63.8,  -1.5305,  32.9508,2,-999.0000,9,    315.9,2,    330.7,2,    30.80,2,    10.59,2,     0.08,2,     1.70,2,     0.91,2,   -999.0,   9,   -999.0,   9,     0.05,2,     0.11,2,     0.17,2,    0.949,2,  -1.5317,20040811,1612
  32H120040718,    42,  3,    302,      2,2,20040811,1602, 72.6091,-158.7336,   82,    102.1,  -1.6965,  33.1332,2,-999.0000,9,    296.4,2,   -999.0,9,    46.19,2,    15.38,2,     0.12,2,     2.13,2,     1.05,2,   -999.0,   9,   -999.0,   9,     0.04,2,  -999.00,9,  -999.00,9,    1.127,2,  -1.6984,20040811,1607
  32H120040718,    42,  3,    301,      1,2,20040811,1602, 72.6091,-158.7336,   82,    152.3,  -0.0751,  34.5318,2,-999.0000,9,    257.5,2,   -999.0,9,    17.56,2,    13.48,2,     0.05,2,     1.26,2,     0.07,2,   -999.0,   9,   -999.0,   9,     0.01,2,  -999.00,9,  -999.00,9,    0.815,2,  -0.0805,20040811,1602
  32H120040718,    42,  4,    408,      8,2,20040811,1804, 72.6091,-158.7336,   82,     47.5,  -1.3776,  32.0453,2,-999.0000,9,    344.9,2,   -999.0,9,  -999.00,9,  -999.00,9,  -999.00,9,  -999.00,9,     -999,9,   -999.0,   9,   -999.0,   9,     -999,9,  -999.00,9,  -999.00,9,    1.972,2,  -1.3785,20040811,1802
  32H120040718,    42,  4,    407,      7,2,20040811,1804, 72.6091,-158.7336,   82,     47.5,  -1.3790,  32.0425,2,-999.0000,9,    345.0,2,   -999.0,9,  -999.00,9,  -999.00,9,  -999.00,9,  -999.00,9,     -999,9,   -999.0,   9,   -999.0,   9,     -999,9,  -999.00,9,  -999.00,9,    2.034,2,  -1.3799,20040811,1802
  32H120040718,    42,  4,    405,      5,2,20040811,1804, 72.6091,-158.7336,   82,     47.5,  -1.3815,  32.0470,2,-999.0000,9,    345.8,2,   -999.0,9,  -999.00,9,  -999.00,9,  -999.00,9,  -999.00,9,     -999,9,   -999.0,   9,   -999.0,   9,     -999,9,  -999.00,9,  -999.00,9,    2.000,2,  -1.3824,20040811,1801
  32H120040718,    42,  4,    403,      3,2,20040811,1804, 72.6091,-158.7336,   82,     47.5,  -1.3820,  32.0497,2,-999.0000,9,    348.1,2,   -999.0,9,  -999.00,9,  -999.00,9,  -999.00,9,  -999.00,9,     -999,9,   -999.0,   9,   -999.0,   9,     -999,9,  -999.00,9,  -999.00,9,    1.922,2,  -1.3829,20040811,1801
  32H120040718,    42,  4,    406,      6,2,20040811,1804, 72.6091,-158.7336,   82,     47.5,  -1.3825,  32.0475,2,-999.0000,9,    345.1,2,   -999.0,9,  -999.00,9,  -999.00,9,  -999.00,9,  -999.00,9,     -999,9,   -999.0,   9,   -999.0,   9,     -999,9,  -999.00,9,  -999.00,9,    2.018,2,  -1.3834,20040811,1802
  32H120040718,    42,  4,    401,      1,2,20040811,1804, 72.6091,-158.7336,   82,     47.5,  -1.3831,  32.0513,2,-999.0000,9,    349.5,2,   -999.0,9,    12.17,2,     3.99,2,     0.04,2,     1.21,2,     0.15,2,   -999.0,   9,   -999.0,   9,     0.03,2,  -999.00,9,  -999.00,9,    1.845,2,  -1.3840,20040811,1801
  32H120040718,    42,  4,    402,      2,2,20040811,1804, 72.6091,-158.7336,   82,     47.5,  -1.3844,  32.0519,2,-999.0000,9,    349.0,2,   -999.0,9,  -999.00,9,  -999.00,9,  -999.00,9,  -999.00,9,     -999,9,   -999.0,   9,   -999.0,   9,     -999,9,  -999.00,9,  -999.00,9,    1.807,2,  -1.3853,20040811,1801
  32H120040718,    42,  4,    404,      4,2,20040811,1804, 72.6091,-158.7336,   82,     47.5,  -1.3847,  32.0496,2,-999.0000,9,    347.0,2,   -999.0,9,  -999.00,9,  -999.00,9,  -999.00,9,  -999.00,9,     -999,9,   -999.0,   9,   -999.0,   9,     -999,9,  -999.00,9,  -999.00,9,    1.926,2,  -1.3856,20040811,1801
  32H120040718,    42,  4,    409,      9,2,20040811,1804, 72.6091,-158.7336,   82,     47.5,  -1.3859,  32.0512,2,-999.0000,9,    344.3,2,   -999.0,9,  -999.00,9,  -999.00,9,  -999.00,9,  -999.00,9,     -999,9,   -999.0,   9,   -999.0,   9,     -999,9,  -999.00,9,  -999.00,9,    1.987,2,  -1.3868,20040811,1803
  32H120040718,    42,  4,    410,     10,2,20040811,1804, 72.6091,-158.7336,   82,     47.5,  -1.3916,  32.0566,2,-999.0000,9,    340.9,2,   -999.0,9,  -999.00,9,  -999.00,9,  -999.00,9,  -999.00,9,     -999,9,   -999.0,   9,   -999.0,   9,     -999,9,  -999.00,9,  -999.00,9,    1.805,2,  -1.3925,20040811,1803
  32H120040718,    42,  4,    411,     11,2,20040811,1804, 72.6091,-158.7336,   82,     47.5,  -1.4002,  32.0665,2,-999.0000,9,    342.3,2,   -999.0,9,  -999.00,9,  -999.00,9,  -999.00,9,  -999.00,9,     -999,9,   -999.0,   9,   -999.0,   9,     -999,9,  -999.00,9,  -999.00,9,    1.929,2,  -1.4011,20040811,1803
  32H120040718,    42,  4,    412,     12,2,20040811,1804, 72.6091,-158.7336,   82,     47.5,  -1.4033,  32.0709,2,-999.0000,9,    342.9,2,   -999.0,9,    11.64,2,     3.95,2,     0.04,2,     1.19,2,     0.14,2,   -999.0,   9,   -999.0,   9,     0.02,2,  -999.00,9,  -999.00,9,    2.029,2,  -1.4042,20040811,1804
  32H120040718,    43,  1,    112,     12,2,20040812,2333, 72.6580,-158.5910,  164,      2.0,   1.5140,  27.3021,2,-999.0000,9,    352.4,2,   -999.0,9,     2.89,2,     0.09,2,     0.00,2,     0.55,2,     0.15,2,   1794.1,   2,   1925.5,   2,     0.04,2,  -999.00,9,  -999.00,9,    0.661,2,   1.5139,20040812,   6
  32H120040718,    43,  1,    111,     11,2,20040812,2333, 72.6580,-158.5910,  164,      5.7,   1.5228,  27.3036,2,-999.0000,9,    351.8,2,    367.2,2,     2.89,2,     0.09,2,     0.00,2,     0.55,2,     0.15,2,   1792.4,   2,   1930.2,   2,     0.04,2,  -999.00,9,  -999.00,9,    0.685,2,   1.5226,20040812,   3
  32H120040718,    43,  1,    110,     10,2,20040812,2333, 72.6580,-158.5910,  164,     15.7,  -0.5243,  30.1261,2,-999.0000,9,    422.0,2,   -999.0,9,     2.12,2,     0.08,2,     0.00,2,     0.63,2,     0.17,2,   -999.0,   9,   -999.0,   9,     0.05,2,  -999.00,9,  -999.00,9,    0.707,2,  -0.5246,20040812,   0
  32H120040718,    43,  1,    109,      9,2,20040812,2333, 72.6580,-158.5910,  164,     20.7,  -0.9659,  30.9018,2,-999.0000,9,    418.4,2,    456.2,2,     1.67,2,     0.08,2,     0.00,2,     0.63,2,     0.12,2,   -999.0,   9,   -999.0,   9,     0.06,2,  -999.00,9,  -999.00,9,    0.742,2,  -0.9663,20040812,2358
  32H120040718,    43,  1,    108,      8,2,20040812,2333, 72.6580,-158.5910,  164,     30.7,  -1.2825,  32.0731,2,-999.0000,9,    473.1,2,   -999.0,9,    10.33,2,     0.07,2,     0.01,2,     0.81,2,     0.13,2,   -999.0,   9,   -999.0,   9,     0.07,2,  -999.00,9,  -999.00,9,    1.152,2,  -1.2831,20040812,2355
  32H120040718,    43,  1,    107,      7,2,20040812,2333, 72.6580,-158.5910,  164,     41.0,  -1.5628,  32.4570,2,  32.4348,2,    349.6,2,    366.0,2,    24.31,2,     7.19,2,     0.10,2,     1.55,2,     0.69,2,   -999.0,   9,   -999.0,   9,     0.15,2,  -999.00,9,  -999.00,9,    2.162,2,  -1.5635,20040812,2352
  32H120040718,    43,  1,    106,      6,2,20040812,2333, 72.6580,-158.5910,  164,     51.1,  -1.4772,  32.6755,2,  32.6631,2,    331.6,2,   -999.0,9,    31.07,2,     9.27,2,     0.10,2,     1.72,2,     1.78,2,   -999.0,   9,   -999.0,   9,     0.18,2,  -999.00,9,  -999.00,9,    1.439,2,  -1.4782,20040812,2349
  32H120040718,    43,  1,    105,      5,2,20040812,2333, 72.6580,-158.5910,  164,     76.2,  -1.6229,  33.0657,2,-999.0000,9,    306.1,2,    321.6,2,    36.33,2,    12.23,2,     0.11,2,     1.83,2,     0.78,2,   -999.0,   9,   -999.0,   9,      0.1,2,  -999.00,9,  -999.00,9,    1.033,2,  -1.6243,20040812,2345
  32H120040718,    43,  1,    104,      4,2,20040812,2333, 72.6580,-158.5910,  164,    127.8,  -1.3102,  33.7250,2,-999.0000,9,    291.6,2,   -999.0,9,    26.81,2,    11.58,2,     0.11,2,     1.56,2,     0.54,2,   -999.0,   9,   -999.0,   9,     0.09,2,  -999.00,9,  -999.00,9,    0.873,2,  -1.3132,20040812,2340
  32H120040718,    43,  1,    103,      3,2,20040812,2333, 72.6580,-158.5910,  164,    141.0,  -0.6728,  34.2433,2,-999.0000,9,    266.4,2,    280.8,2,    21.82,2,    13.08,2,     0.09,2,     1.40,2,     0.18,2,   -999.0,   9,   -999.0,   9,     0.08,2,  -999.00,9,  -999.00,9,    0.873,2,  -0.6770,20040812,2338
  32H120040718,    43,  1,    102,      2,2,20040812,2333, 72.6580,-158.5910,  164,    161.5,   0.0370,  34.5663,2,  34.5415,2,    252.8,2,   -999.0,9,    19.28,2,    13.38,2,     0.10,2,     1.33,2,     0.32,2,   -999.0,   9,   -999.0,   9,     0.11,2,  -999.00,9,  -999.00,9,    0.886,2,   0.0311,20040812,2334
  32H120040718,    43,  1,    101,      1,2,20040812,2333, 72.6580,-158.5910,  164,    161.5,   0.0414,  34.5690,2,  34.5539,2,    253.2,2,    265.1,2,    19.16,2,    13.41,2,     0.10,2,     1.32,2,     0.32,2,   -999.0,   9,   -999.0,   9,     0.09,2,  -999.00,9,  -999.00,9,    0.898,2,   0.0355,20040812,2333
  32H120040718,    44,  1,    112,     12,2,20040812, 205, 72.6986,-158.4556,  220,      3.3,   1.2389,  27.2816,2,  27.3056,2,    357.0,2,    372.2,2,     2.46,2,     0.05,2,     0.00,2,     0.55,2,     0.14,2,   1789.3,   2,   1921.6,   2,     0.03,2,     0.10,2,     0.03,2,    0.645,2,   1.2388,20040812, 243
  32H120040718,    44,  1,    111,     11,2,20040812, 205, 72.6986,-158.4556,  220,     13.8,  -0.5046,  29.7086,2,-999.0000,9,    441.4,2,    406.4,2,     2.99,2,     0.05,2,     0.00,2,     0.57,2,     0.17,2,   1805.7,   2,   1970.9,   2,     0.04,2,     0.12,2,     0.04,2,    0.745,2,  -0.5049,20040812, 240
  32H120040718,    44,  1,    110,     10,2,20040812, 205, 72.6986,-158.4556,  220,     26.0,  -1.1743,  31.4166,2,-999.0000,9,    390.4,2,    441.7,2,     3.84,2,     0.04,2,     0.00,2,     0.71,2,     0.11,2,   2023.7,   2,   2203.2,   2,     0.06,2,     0.14,2,     0.02,2,    0.825,2,  -1.1748,20040812, 237
  32H120040718,    44,  1,    109,      9,2,20040812, 205, 72.6986,-158.4556,  220,     36.8,  -1.3973,  32.2660,2,-999.0000,9,    471.9,2,    450.9,2,     8.84,2,     1.37,2,     0.02,2,     1.02,2,     0.21,2,   2055.2,   2,   2239.8,   2,     0.09,2,     2.28,2,     0.08,2,    1.872,2,  -1.3980,20040812, 234
  32H120040718,    44,  1,    108,      8,2,20040812, 205, 72.6986,-158.4556,  220,     47.0,  -1.3891,  32.6243,2,  32.6198,2,    324.6,2,    340.8,2,    25.60,2,     9.03,2,     0.12,2,     1.60,2,     1.54,2,   2142.5,   2,   2242.0,   2,     0.14,2,     0.28,2,     0.13,2,    1.337,2,  -1.3900,20040812, 231
  32H120040718,    44,  1,    107,      7,2,20040812, 205, 72.6986,-158.4556,  220,     61.9,  -1.5553,  32.9003,2,  32.9011,2,    315.5,2,    327.8,2,    30.97,2,    10.57,2,     0.10,2,     1.71,2,     1.22,2,   2156.7,   2,   2264.4,   2,     0.12,2,  -999.00,9,  -999.00,9,    1.012,2,  -1.5565,20040812, 228
  32H120040718,    44,  1,    106,      6,2,20040812, 205, 72.6986,-158.4556,  220,     77.4,  -1.7440,  33.0412,2,-999.0000,9,    293.5,2,    307.5,2,    48.64,2,    15.22,2,     0.14,2,     2.14,2,     1.32,2,   2195.0,   2,   2230.1,   2,     0.09,2,     0.14,2,     0.22,2,    1.166,2,  -1.7454,20040812, 225
  32H120040718,    44,  1,    105,      5,3,20040812, 205, 72.6986,-158.4556,  220,    102.7,  -1.7135,  33.1035,2,-999.0000,9,    297.9,2,   -999.0,9,  -999.00,9,  -999.00,9,  -999.00,9,  -999.00,9,     -999,9,   -999.0,   9,   -999.0,   9,     -999,9,  -999.00,9,  -999.00,9,    1.114,2,  -1.7154,20040812, 221
  32H120040718,    44,  1,    104,      4,2,20040812, 205, 72.6986,-158.4556,  220,    128.0,  -1.3911,  33.4954,2,-999.0000,9,    292.5,2,    312.3,2,    30.42,2,    10.85,2,     0.11,2,     1.68,2,     1.22,2,   -999.0,   9,   -999.0,   9,     0.13,2,     0.10,2,     0.16,2,    0.948,2,  -1.3939,20040812, 217
  32H120040718,    44,  1,    103,      3,2,20040812, 205, 72.6986,-158.4556,  220,    148.4,  -0.3029,  34.4390,2,  34.4274,2,    261.4,2,    273.2,2,    18.35,2,    13.47,2,     0.05,2,     1.27,2,      0.1,2,   2187.2,   2,   2283.4,   2,     0.09,2,  -999.00,9,  -999.00,9,    0.824,2,  -0.3079,20040812, 214
  32H120040718,    44,  1,    102,      2,2,20040812, 205, 72.6986,-158.4556,  220,    177.9,   0.3593,  34.6740,2,-999.0000,9,    266.5,2,    277.9,2,    11.12,2,    12.57,2,     0.03,2,     1.02,2,     0.14,2,   2161.9,   2,   2291.5,   2,     0.34,2,     0.03,2,     0.07,2,    0.690,2,   0.3522,20040812, 210
  32H120040718,    44,  1,    101,      1,3,20040812, 205, 72.6986,-158.4556,  220,    219.0,   0.6309,  34.7578,2,-999.0000,9,    261.3,2,   -999.0,9,  -999.00,9,  -999.00,9,  -999.00,9,  -999.00,9,     -999,9,   -999.0,   9,   -999.0,   9,     -999,9,  -999.00,9,  -999.00,9,    0.839,2,   0.6216,20040812, 205