BOTTLE,20220815CCHSIOAMB
EXPOCODE,STNNBR,CASTNO,SAMPNO,BTLNBR,BTLNBR_FLAG_W,DATE,TIME,LATITUDE,LONGITUDE,DEPTH,CTDPRS,CTDTMP,CTDSAL,CTDSAL_FLAG_W,SALNTY,SALNTY_FLAG_W,CTDOXY,CTDOXY_FLAG_W,OXYGEN,OXYGEN_FLAG_W,SILCAT,SILCAT_FLAG_W,NITRAT,NITRAT_FLAG_W,NITRIT,NITRIT_FLAG_W,PHSPHT,PHSPHT_FLAG_W,AMMONI,AMMONI_FLAG_W,TCARBN,TCARBN_FLAG_W,ALKALI,ALKALI_FLAG_W,UREA,UREA_FLAG_W,CHLORA,CHLORA_FLAG_W,PHAEO,PHAEO_FLAG_W,FLUORO,FLUORO_FLAG_W,THETA,BTL_DATE,BTL_TIME
,,,,,,,,,,METERS,DBAR,ITS-90,PSS-78,,PSS-78,,UMOL/KG,,UMOL/KG,,UMOL/KG,,UMOL/KG,,UMOL/KG,,UMOL/KG,,UMOL/KG,,UMOL/KG,,UMOL/KG,,UMOL/KG,,UG/L,,UG/L,,VOLTS,,DEG C,,
  32H120040718,    30,  7,    712,     12,2,20040801,2208, 72.6050,-151.8670, 3843,     53.7,  -0.4617,  31.6125,2,-999.0000,9,    354.8,2,   -999.0,9,     8.88,2,     2.76,2,     0.06,2,     1.05,2,     0.12,2,   -999.0,   9,   -999.0,   9,     0.02,2,  -999.00,9,  -999.00,9,    1.545,2,  -0.4631,20040801,2354
  32H120040718,    30,  7,    710,     10,2,20040801,2208, 72.6050,-151.8670, 3843,    133.8,  -1.5205,  32.8582,2,-999.0000,9,    278.4,2,   -999.0,9,    32.00,2,    14.85,2,     0.00,2,     1.84,2,     0.06,2,   -999.0,   9,   -999.0,   9,     0.06,2,  -999.00,9,  -999.00,9,    0.689,2,  -1.5232,20040801,2347
  32H120040718,    30,  7,    711,     11,2,20040801,2208, 72.6050,-151.8670, 3843,    133.8,  -1.5209,  32.8595,2,-999.0000,9,    278.2,2,   -999.0,9,    31.86,2,    14.71,2,     0.00,2,     1.84,2,     0.07,2,   -999.0,   9,   -999.0,   9,     0.02,2,  -999.00,9,  -999.00,9,    0.723,2,  -1.5236,20040801,2348
  32H120040718,    30,  7,    709,      9,3,20040801,2208, 72.6050,-151.8670, 3843,    408.9,   0.6563,  34.8226,2,-999.0000,9,    283.3,2,   -999.0,9,  -999.00,9,  -999.00,9,  -999.00,9,  -999.00,9,     -999,9,   -999.0,   9,   -999.0,   9,     -999,9,  -999.00,9,  -999.00,9,    0.579,2,   0.6380,20040801,2339
  32H120040718,    30,  7,    708,      8,2,20040801,2208, 72.6050,-151.8670, 3843,    408.9,   0.6635,  34.8233,2,-999.0000,9,    283.6,2,   -999.0,9,     7.34,2,    12.96,2,     0.00,2,     0.91,2,     0.03,2,   -999.0,   9,   -999.0,   9,     0.02,2,  -999.00,9,  -999.00,9,    0.601,2,   0.6452,20040801,2339
  32H120040718,    30,  7,    706,      6,2,20040801,2208, 72.6050,-151.8670, 3843,   1013.7,  -0.0262,  34.8824,2,-999.0000,9,    288.0,2,   -999.0,9,     7.24,2,    13.10,2,     0.00,2,     0.92,2,     0.03,2,   -999.0,   9,   -999.0,   9,     0.03,2,  -999.00,9,  -999.00,9,    0.558,2,  -0.0713,20040801,2324
  32H120040718,    30,  7,    707,      7,2,20040801,2208, 72.6050,-151.8670, 3843,   1013.8,  -0.0263,  34.8825,2,-999.0000,9,    288.2,2,   -999.0,9,     7.23,2,    13.10,2,     0.00,2,     0.92,2,     0.04,2,   -999.0,   9,   -999.0,   9,     0.03,2,  -999.00,9,  -999.00,9,    0.616,2,  -0.0714,20040801,2324
  32H120040718,    30,  7,    704,      4,2,20040801,2208, 72.6050,-151.8670, 3843,   2031.0,  -0.4087,  34.9456,2,-999.0000,9,    275.7,2,   -999.0,9,    11.47,2,    14.67,2,     0.00,2,     1.02,2,     0.03,2,   -999.0,   9,   -999.0,   9,      0.1,2,  -999.00,9,  -999.00,9,    0.507,2,  -0.5111,20040801,2237
  32H120040718,    30,  7,    705,      5,2,20040801,2208, 72.6050,-151.8670, 3843,   2031.1,  -0.4086,  34.9456,2,-999.0000,9,    275.6,2,   -999.0,9,    11.46,2,    14.53,2,     0.00,2,     1.03,2,     0.02,2,   -999.0,   9,   -999.0,   9,     0.04,2,  -999.00,9,  -999.00,9,    0.509,2,  -0.5110,20040801,2238
  32H120040718,    30,  7,    701,      1,2,20040801,2208, 72.6050,-151.8670, 3843,   3600.5,  -0.2801,  34.9592,2,-999.0000,9,    269.5,2,   -999.0,9,    13.37,2,    14.95,2,     0.00,2,     1.04,2,     0.03,2,   -999.0,   9,   -999.0,   9,     0.03,2,  -999.00,9,  -999.00,9,    0.515,2,  -0.5118,20040801,2208
  32H120040718,    30,  7,    703,      3,3,20040801,2208, 72.6050,-151.8670, 3843,   3600.6,  -0.2799,  34.9591,2,-999.0000,9,    269.3,2,   -999.0,9,  -999.00,9,  -999.00,9,  -999.00,9,  -999.00,9,     -999,9,   -999.0,   9,   -999.0,   9,     -999,9,  -999.00,9,  -999.00,9,    0.485,2,  -0.5116,20040801,2208
  32H120040718,    30,  7,    702,      2,2,20040801,2208, 72.6050,-151.8670, 3843,   3600.6,  -0.2802,  34.9593,2,-999.0000,9,    269.3,2,   -999.0,9,    13.36,2,    14.96,2,     0.00,2,     1.05,2,     0.04,2,   -999.0,   9,   -999.0,   9,     0.22,2,  -999.00,9,  -999.00,9,    0.538,2,  -0.5119,20040801,2208
  32H120040718,    30,  8,    810,     10,2,20040801, 243, 72.6050,-151.8670, 3843,    150.5,  -1.4890,  33.0846,2,-999.0000,9,    288.5,2,   -999.0,9,  -999.00,9,  -999.00,9,  -999.00,9,  -999.00,9,     -999,9,   -999.0,   9,   -999.0,   9,     -999,9,  -999.00,9,  -999.00,9,    0.735,2,  -1.4921,20040801, 245
  32H120040718,    30,  8,    812,     12,2,20040801, 243, 72.6050,-151.8670, 3843,    150.5,  -1.4891,  33.0824,2,-999.0000,9,    289.1,2,   -999.0,9,    30.30,2,    13.86,2,     0.04,2,     1.72,2,     0.09,2,   -999.0,   9,   -999.0,   9,      0.1,2,  -999.00,9,  -999.00,9,    0.756,2,  -1.4922,20040801, 246
  32H120040718,    30,  8,    811,     11,2,20040801, 243, 72.6050,-151.8670, 3843,    150.5,  -1.4891,  33.0830,2,-999.0000,9,    288.9,2,   -999.0,9,  -999.00,9,  -999.00,9,  -999.00,9,  -999.00,9,     -999,9,   -999.0,   9,   -999.0,   9,     -999,9,  -999.00,9,  -999.00,9,    0.734,2,  -1.4922,20040801, 245
  32H120040718,    30,  8,    809,      9,2,20040801, 243, 72.6050,-151.8670, 3843,    150.5,  -1.4895,  33.0856,2,-999.0000,9,    287.9,2,   -999.0,9,  -999.00,9,  -999.00,9,  -999.00,9,  -999.00,9,     -999,9,   -999.0,   9,   -999.0,   9,     -999,9,  -999.00,9,  -999.00,9,    0.722,2,  -1.4926,20040801, 244
  32H120040718,    30,  8,    807,      7,2,20040801, 243, 72.6050,-151.8670, 3843,    150.5,  -1.4903,  33.0855,2,-999.0000,9,    287.3,2,   -999.0,9,  -999.00,9,  -999.00,9,  -999.00,9,  -999.00,9,     -999,9,   -999.0,   9,   -999.0,   9,     -999,9,  -999.00,9,  -999.00,9,    0.753,2,  -1.4934,20040801, 244
  32H120040718,    30,  8,    808,      8,2,20040801, 243, 72.6050,-151.8670, 3843,    150.5,  -1.4904,  33.0858,2,-999.0000,9,    287.2,2,   -999.0,9,  -999.00,9,  -999.00,9,  -999.00,9,  -999.00,9,     -999,9,   -999.0,   9,   -999.0,   9,     -999,9,  -999.00,9,  -999.00,9,    0.745,2,  -1.4935,20040801, 244
  32H120040718,    30,  8,    804,      4,2,20040801, 243, 72.6050,-151.8670, 3843,    150.5,  -1.4908,  33.0848,2,-999.0000,9,    288.1,2,   -999.0,9,  -999.00,9,  -999.00,9,  -999.00,9,  -999.00,9,     -999,9,   -999.0,   9,   -999.0,   9,     -999,9,  -999.00,9,  -999.00,9,    0.737,2,  -1.4939,20040801, 242
  32H120040718,    30,  8,    803,      3,2,20040801, 243, 72.6050,-151.8670, 3843,    150.5,  -1.4909,  33.0845,2,-999.0000,9,    287.6,2,   -999.0,9,  -999.00,9,  -999.00,9,  -999.00,9,  -999.00,9,     -999,9,   -999.0,   9,   -999.0,   9,     -999,9,  -999.00,9,  -999.00,9,    0.755,2,  -1.4940,20040801, 242
  32H120040718,    30,  8,    802,      2,2,20040801, 243, 72.6050,-151.8670, 3843,    150.5,  -1.4914,  33.0844,2,-999.0000,9,    287.7,2,   -999.0,9,  -999.00,9,  -999.00,9,  -999.00,9,  -999.00,9,     -999,9,   -999.0,   9,   -999.0,   9,     -999,9,  -999.00,9,  -999.00,9,    0.728,2,  -1.4945,20040801, 241
  32H120040718,    30,  8,    801,      1,2,20040801, 243, 72.6050,-151.8670, 3843,    150.5,  -1.4915,  33.0840,2,-999.0000,9,    287.6,2,   -999.0,9,    30.55,2,    13.95,2,     0.04,2,     1.73,2,     0.13,2,   -999.0,   9,   -999.0,   9,     0.18,2,  -999.00,9,  -999.00,9,    0.731,2,  -1.4946,20040801, 241
  32H120040718,    30,  8,    805,      5,2,20040801, 243, 72.6050,-151.8670, 3843,    150.5,  -1.4916,  33.0854,2,-999.0000,9,    287.8,2,   -999.0,9,  -999.00,9,  -999.00,9,  -999.00,9,  -999.00,9,     -999,9,   -999.0,   9,   -999.0,   9,     -999,9,  -999.00,9,  -999.00,9,    0.746,2,  -1.4947,20040801, 243
  32H120040718,    30,  8,    806,      6,2,20040801, 243, 72.6050,-151.8670, 3843,    150.5,  -1.4916,  33.0856,2,-999.0000,9,    287.3,2,   -999.0,9,  -999.00,9,  -999.00,9,  -999.00,9,  -999.00,9,     -999,9,   -999.0,   9,   -999.0,   9,     -999,9,  -999.00,9,  -999.00,9,    0.747,2,  -1.4947,20040801, 243
  32H120040718,    31,  1,    112,     12,2,20040802,1058, 72.4130,-151.9020, 3428,    178.9,  -1.3225,  33.6024,2,  33.5747,2,    288.8,2,    296.6,2,    27.45,2,    12.64,2,     0.08,2,     1.55,2,     0.32,2,   -999.0,   9,   -999.0,   9,     0.08,2,  -999.00,9,  -999.00,9,    0.758,2,  -1.3267,20040802,1211
  32H120040718,    31,  1,    111,     11,2,20040802,1058, 72.4130,-151.9020, 3428,    204.2,  -0.9030,  34.1479,2,-999.0000,9,    280.6,2,    288.0,2,    21.88,2,    12.79,2,     0.06,2,     1.36,2,     0.11,2,   2196.8,   2,   2307.4,   2,     0.08,2,  -999.00,9,  -999.00,9,    0.735,2,  -0.9088,20040802,1207
  32H120040718,    31,  1,    110,     10,2,20040802,1058, 72.4130,-151.9020, 3428,    254.7,   0.0525,  34.6051,2,-999.0000,9,    270.5,2,    276.5,2,    12.05,2,    12.84,2,     0.01,2,     1.01,2,      0.1,2,   -999.0,   9,   -999.0,   9,     0.08,2,  -999.00,9,  -999.00,9,    0.635,2,   0.0429,20040802,1202
  32H120040718,    31,  1,    109,      9,2,20040802,1058, 72.4130,-151.9020, 3428,    305.2,   0.4882,  34.7453,2,-999.0000,9,    276.9,2,    283.6,2,     9.20,2,    12.88,2,     0.01,2,     0.94,2,      0.1,2,   2150.7,   2,   2298.8,   2,     0.07,2,  -999.00,9,  -999.00,9,    0.573,2,   0.4753,20040802,1158
  32H120040718,    31,  1,    108,      8,2,20040802,1058, 72.4130,-151.9020, 3428,    356.5,   0.6981,  34.8078,2,-999.0000,9,    283.0,2,    289.3,2,     7.78,2,    12.73,2,     0.01,2,     0.90,2,      0.1,2,   -999.0,   9,   -999.0,   9,     0.07,2,  -999.00,9,  -999.00,9,    0.607,2,   0.6822,20040802,1153
  32H120040718,    31,  1,    107,      7,2,20040802,1058, 72.4130,-151.9020, 3428,    408.0,   0.6700,  34.8241,2,-999.0000,9,    285.4,2,    292.2,2,     7.11,2,    12.48,2,     0.01,2,     0.88,2,     0.11,2,   2145.4,   2,   2304.1,   2,     0.07,2,  -999.00,9,  -999.00,9,    0.590,2,   0.6517,20040802,1148
  32H120040718,    31,  1,    106,      6,2,20040802,1058, 72.4130,-151.9020, 3428,    508.4,   0.5788,  34.8473,2,-999.0000,9,    287.5,2,    294.3,2,     7.21,2,    12.68,2,     0.01,2,     0.88,2,      0.1,2,   2151.3,   2,   2322.0,   2,     0.07,2,  -999.00,9,  -999.00,9,    0.583,2,   0.5559,20040802,1142
  32H120040718,    31,  1,    105,      5,3,20040802,1058, 72.4130,-151.9020, 3428,    608.7,   0.4243,  34.8561,2,-999.0000,9,    287.7,2,   -999.0,9,  -999.00,9,  -999.00,9,  -999.00,9,  -999.00,9,     -999,9,   -999.0,   9,   -999.0,   9,     -999,9,  -999.00,9,  -999.00,9,    0.623,2,   0.3972,20040802,1135
  32H120040718,    31,  1,    104,      4,2,20040802,1058, 72.4130,-151.9020, 3428,    816.2,   0.1677,  34.8698,2,  34.8692,2,    289.8,2,    298.5,2,     7.09,2,    12.67,2,     0.01,2,     0.89,2,     0.11,2,   2106.1,   2,   2319.3,   2,     0.06,2,  -999.00,9,  -999.00,9,    0.588,2,   0.1315,20040802,1126
  32H120040718,    31,  1,    103,      3,2,20040802,1058, 72.4130,-151.9020, 3428,   1017.0,  -0.0205,  34.8822,2,  34.8810,2,    289.8,2,    299.1,2,     7.42,2,    12.76,2,     0.01,2,     0.91,2,     0.11,2,   -999.0,   9,   -999.0,   9,     0.05,2,  -999.00,9,  -999.00,9,    0.608,2,  -0.0658,20040802,1116
  32H120040718,    31,  1,    102,      2,2,20040802,1058, 72.4130,-151.9020, 3428,   1269.2,  -0.2154,  34.9008,2,  34.8991,2,    289.2,2,    298.9,2,     8.07,2,    13.09,2,     0.00,2,     0.93,2,     0.11,2,   -999.0,   9,   -999.0,   9,     0.06,2,  -999.00,9,  -999.00,9,    0.575,2,  -0.2728,20040802,1107
  32H120040718,    31,  1,    101,      1,2,20040802,1058, 72.4130,-151.9020, 3428,   1528.2,  -0.3364,  34.9190,2,  34.9180,2,    287.8,2,    297.6,2,     8.83,2,    13.48,2,     0.00,2,     0.95,2,     0.11,2,   2148.0,   2,   2308.5,   2,     0.06,2,  -999.00,9,  -999.00,9,    0.541,2,  -0.4076,20040802,1058
  32H120040718,    31,  2,    212,     12,2,20040802,1338, 72.4130,-151.9020, 3428,      2.0,  -1.2200,  26.6293,2,  26.6023,2,    375.1,2,    383.0,2,     2.03,2,     0.01,2,     0.00,2,     0.60,2,     0.21,2,   1813.2,   2,   1904.1,   2,        0,2,     0.04,2,     0.01,2,    0.650,2,  -1.2200,20040802,1427
  32H120040718,    31,  2,    211,     11,2,20040802,1338, 72.4130,-151.9020, 3428,      7.0,  -1.2470,  26.6356,2,-999.0000,9,    374.8,2,    382.4,2,     2.02,2,     0.00,2,     0.00,2,     0.60,2,     0.21,2,   -999.0,   9,   -999.0,   9,        0,2,  -999.00,9,  -999.00,9,    0.701,2,  -1.2471,20040802,1424
  32H120040718,    31,  2,    210,     10,2,20040802,1338, 72.4130,-151.9020, 3428,     12.1,  -1.1964,  26.8668,2,-999.0000,9,    375.9,2,    383.4,2,     2.01,2,     0.00,2,     0.00,2,     0.60,2,     0.22,2,   1827.8,   2,   1923.7,   2,        0,2,     0.03,2,     0.01,2,    0.637,2,  -1.1965,20040802,1420
  32H120040718,    31,  2,    209,      9,2,20040802,1338, 72.4130,-151.9020, 3428,     21.4,  -0.9520,  29.4265,2,-999.0000,9,    388.2,2,    397.7,2,     2.45,2,     0.00,2,     0.00,2,     0.68,2,     0.19,2,   1985.9,   2,   2109.2,   2,     0.03,2,     0.04,2,     0.01,2,    0.669,2,  -0.9524,20040802,1415
  32H120040718,    31,  2,    208,      8,2,20040802,1338, 72.4130,-151.9020, 3428,     32.2,  -1.1567,  29.9674,2,-999.0000,9,    390.9,2,    399.2,2,     2.55,2,     0.00,2,     0.00,2,     0.70,2,     0.19,2,   2008.9,   2,   2136.1,   2,     0.04,2,     0.08,2,     0.03,2,    0.853,2,  -1.1572,20040802,1410
  32H120040718,    31,  2,    207,      7,2,20040802,1338, 72.4130,-151.9020, 3428,     42.4,  -1.1181,  30.3366,2,-999.0000,9,    391.5,2,    399.2,2,     2.99,2,     0.00,2,     0.00,2,     0.72,2,     0.18,2,   2022.4,   2,   2157.3,   2,     0.02,2,     0.13,2,     0.07,2,    0.984,2,  -1.1188,20040802,1406
  32H120040718,    31,  2,    206,      6,2,20040802,1338, 72.4130,-151.9020, 3428,     54.6,  -0.6803,  31.6583,2,-999.0000,9,    357.1,2,    365.3,2,     8.91,2,     2.56,2,     0.17,2,     1.03,2,     0.19,2,   2074.2,   2,   2212.4,   2,     0.04,2,     0.47,2,     0.54,2,    1.607,2,  -0.6816,20040802,1401
  32H120040718,    31,  2,    205,      5,2,20040802,1338, 72.4130,-151.9020, 3428,     67.6,  -1.1640,  32.0514,2,-999.0000,9,    319.4,2,    326.1,2,    15.91,2,     7.93,2,     0.04,2,     1.37,2,     0.16,2,   2121.1,   2,   2226.1,   2,     0.04,2,     0.26,2,     0.24,2,    1.370,2,  -1.1654,20040802,1355
  32H120040718,    31,  2,    204,      4,2,20040802,1338, 72.4130,-151.9020, 3428,     82.6,  -1.3310,  32.3234,2,-999.0000,9,    302.9,2,    310.0,2,    21.69,2,    10.43,2,     0.01,2,     1.55,2,     0.15,2,   2154.2,   2,   2240.6,   2,     0.04,2,  -999.00,9,  -999.00,9,    0.955,2,  -1.3326,20040802,1351
  32H120040718,    31,  2,    203,      3,2,20040802,1338, 72.4130,-151.9020, 3428,    102.7,  -1.4898,  32.5784,2,-999.0000,9,    297.4,2,    303.2,2,    25.48,2,    12.02,2,     0.00,2,     1.62,2,     0.14,2,   2121.4,   2,   2297.0,   2,     0.03,2,     0.03,2,     0.02,2,    0.756,2,  -1.4918,20040802,1347
  32H120040718,    31,  2,    202,      2,2,20040802,1338, 72.4130,-151.9020, 3428,    128.3,  -1.5195,  32.8011,2,-999.0000,9,    286.6,2,    293.8,2,    29.38,2,    13.45,2,     0.00,2,     1.73,2,     0.14,2,   -999.0,   9,   -999.0,   9,     0.04,2,  -999.00,9,  -999.00,9,    0.705,2,  -1.5220,20040802,1342
  32H120040718,    31,  2,    201,      1,2,20040802,1338, 72.4130,-151.9020, 3428,    153.9,  -1.4676,  33.0997,2,  33.0660,2,    288.1,2,    309.4,2,    28.28,2,    12.15,2,     0.05,2,     1.63,2,     0.29,2,   -999.0,   9,   -999.0,   9,     0.05,2,     0.01,2,     0.04,2,    0.751,2,  -1.4708,20040802,1338
  32H120040718,    31,  3,    311,     11,2,20040802,1628, 72.4130,-151.9020, 3428,      2.0,  -1.2078,  26.6556,2,-999.0000,9,    375.2,2,    382.9,2,     2.17,2,     0.03,2,     0.00,2,     0.60,2,     0.21,2,   -999.0,   9,   -999.0,   9,     0.01,2,     0.04,2,     0.01,2,    0.584,2,  -1.2078,20040802,1701
  32H120040718,    31,  3,    312,     12,3,20040802,1628, 72.4130,-151.9020, 3428,      2.0,  -1.2220,  26.6463,2,-999.0000,9,    375.1,2,   -999.0,9,  -999.00,9,  -999.00,9,  -999.00,9,  -999.00,9,     -999,9,   -999.0,   9,   -999.0,   9,     -999,9,  -999.00,9,  -999.00,9,    0.541,2,  -1.2220,20040802,1701
  32H120040718,    31,  3,    310,     10,2,20040802,1628, 72.4130,-151.9020, 3428,     15.6,  -0.9705,  27.9789,2,-999.0000,9,    380.8,2,    390.8,2,     2.38,2,     0.03,2,     0.00,2,     0.65,2,     0.22,2,   -999.0,   9,   -999.0,   9,        0,2,     0.05,2,     0.01,2,    0.647,2,  -0.9707,20040802,1658
  32H120040718,    31,  3,    309,      9,3,20040802,1628, 72.4130,-151.9020, 3428,     26.5,  -1.0951,  29.7602,2,-999.0000,9,    389.1,2,   -999.0,9,  -999.00,9,  -999.00,9,  -999.00,9,  -999.00,9,     -999,9,   -999.0,   9,   -999.0,   9,     -999,9,  -999.00,9,  -999.00,9,    0.760,2,  -1.0955,20040802,1654
  32H120040718,    31,  3,    306,      6,2,20040802,1628, 72.4130,-151.9020, 3428,     41.2,  -1.1668,  30.3026,2,-999.0000,9,    390.9,2,   -999.0,9,  -999.00,9,  -999.00,9,  -999.00,9,  -999.00,9,     -999,9,   -999.0,   9,   -999.0,   9,     -999,9,  -999.00,9,  -999.00,9,    1.024,2,  -1.1675,20040802,1650
  32H120040718,    31,  3,    307,      7,9,20040802,1628, 72.4130,-151.9020, 3428,     41.2,  -1.1669,  30.3007,2,-999.0000,9,    390.6,2,   -999.0,9,  -999.00,9,  -999.00,9,  -999.00,9,  -999.00,9,     -999,9,   -999.0,   9,   -999.0,   9,     -999,9,  -999.00,9,  -999.00,9,    1.017,2,  -1.1676,20040802,1650
  32H120040718,    31,  3,    308,      8,2,20040802,1628, 72.4130,-151.9020, 3428,     41.2,  -1.1670,  30.2998,2,-999.0000,9,    390.9,2,    394.3,2,     4.58,2,     0.28,2,     0.03,2,     0.78,2,      0.2,2,   -999.0,   9,   -999.0,   9,     0.02,2,     0.27,2,     0.26,2,    0.999,2,  -1.1677,20040802,1650
  32H120040718,    31,  3,    305,      5,2,20040802,1628, 72.4130,-151.9020, 3428,     64.3,  -1.0830,  31.9946,2,-999.0000,9,    323.5,2,    330.2,2,    14.98,2,     7.47,2,     0.05,2,     1.33,2,     0.16,2,   -999.0,   9,   -999.0,   9,     0.03,2,     0.31,2,     0.28,2,    1.449,2,  -1.0844,20040802,1645
  32H120040718,    31,  3,    303,      3,2,20040802,1628, 72.4130,-151.9020, 3428,     98.4,  -1.4503,  32.5080,2,-999.0000,9,    298.3,2,   -999.0,9,  -999.00,9,  -999.00,9,  -999.00,9,  -999.00,9,     -999,9,   -999.0,   9,   -999.0,   9,     -999,9,  -999.00,9,  -999.00,9,    0.763,2,  -1.4522,20040802,1640
  32H120040718,    31,  3,    304,      4,2,20040802,1628, 72.4130,-151.9020, 3428,     98.4,  -1.4517,  32.5079,2,-999.0000,9,    298.3,2,    305.5,2,    24.56,2,    11.70,2,     0.00,2,     1.60,2,     0.14,2,   -999.0,   9,   -999.0,   9,     0.03,2,     0.04,2,     0.02,2,    0.826,2,  -1.4536,20040802,1640
  32H120040718,    31,  3,    302,      2,2,20040802,1628, 72.4130,-151.9020, 3428,    152.6,  -1.5014,  33.0635,2,-999.0000,9,    284.3,2,   -999.0,9,    30.09,2,    13.53,2,     0.04,2,     1.70,2,     0.19,2,   -999.0,   9,   -999.0,   9,     0.04,2,  -999.00,9,  -999.00,9,    0.751,2,  -1.5045,20040802,1633
  32H120040718,    31,  3,    301,      1,2,20040802,1628, 72.4130,-151.9020, 3428,    204.2,  -0.8542,  34.1780,2,-999.0000,9,    267.9,2,   -999.0,9,    23.10,2,    14.02,2,     0.02,2,     1.39,2,     0.12,2,   -999.0,   9,   -999.0,   9,     0.04,2,  -999.00,9,  -999.00,9,    0.695,2,  -0.8601,20040802,1628