BOTTLE,20220815CCHSIOAMB
EXPOCODE,STNNBR,CASTNO,SAMPNO,BTLNBR,BTLNBR_FLAG_W,DATE,TIME,LATITUDE,LONGITUDE,DEPTH,CTDPRS,CTDTMP,CTDSAL,CTDSAL_FLAG_W,SALNTY,SALNTY_FLAG_W,CTDOXY,CTDOXY_FLAG_W,OXYGEN,OXYGEN_FLAG_W,SILCAT,SILCAT_FLAG_W,NITRAT,NITRAT_FLAG_W,NITRIT,NITRIT_FLAG_W,PHSPHT,PHSPHT_FLAG_W,AMMONI,AMMONI_FLAG_W,TCARBN,TCARBN_FLAG_W,ALKALI,ALKALI_FLAG_W,UREA,UREA_FLAG_W,CHLORA,CHLORA_FLAG_W,PHAEO,PHAEO_FLAG_W,FLUORO,FLUORO_FLAG_W,THETA,BTL_DATE,BTL_TIME
,,,,,,,,,,METERS,DBAR,ITS-90,PSS-78,,PSS-78,,UMOL/KG,,UMOL/KG,,UMOL/KG,,UMOL/KG,,UMOL/KG,,UMOL/KG,,UMOL/KG,,UMOL/KG,,UMOL/KG,,UMOL/KG,,UG/L,,UG/L,,VOLTS,,DEG C,,
  32H120040718,    34,  2,    212,     12,2,20040806, 622, 71.6500,-152.3900,  549,      3.0,   4.1734,  29.1881,2,  29.1863,2,    341.5,2,    343.1,2,     6.38,2,     0.05,2,     0.00,2,     0.54,2,     0.21,2,   1828.1,   2,   2028.6,   2,     0.07,2,     0.83,2,     0.32,2,    1.541,2,   4.1732,20040806, 656
  32H120040718,    34,  2,    211,     11,2,20040806, 622, 71.6500,-152.3900,  549,      5.7,   4.1715,  29.1854,2,  29.1835,2,    341.5,2,    344.6,2,     6.37,2,     0.05,2,     0.00,2,     0.55,2,      0.2,2,   -999.0,   9,   -999.0,   9,     0.08,2,  -999.00,9,  -999.00,9,    1.562,2,   4.1712,20040806, 653
  32H120040718,    34,  2,    210,     10,2,20040806, 622, 71.6500,-152.3900,  549,     10.4,   4.1675,  29.1867,2,  29.1859,2,    341.5,2,    344.1,2,     6.36,2,     0.05,2,     0.00,2,     0.54,2,      0.2,2,   1826.5,   2,   2027.0,   2,     0.09,2,     0.89,2,     0.36,2,    1.587,2,   4.1669,20040806, 651
  32H120040718,    34,  2,    208,      8,2,20040806, 622, 71.6500,-152.3900,  549,     20.7,   4.2347,  29.2818,2,-999.0000,9,    342.1,2,   -999.0,9,     6.34,2,     0.05,2,     0.00,2,     0.54,2,     0.24,2,   -999.0,   9,   -999.0,   9,     0.08,2,  -999.00,9,  -999.00,9,    1.440,2,   4.2334,20040806, 647
  32H120040718,    34,  2,    209,      9,2,20040806, 622, 71.6500,-152.3900,  549,     20.7,   4.3212,  29.4123,2,-999.0000,9,    342.2,2,    344.5,2,     6.35,2,     0.05,2,     0.00,2,     0.54,2,     0.33,2,   1833.5,   2,   2032.3,   2,     0.17,2,     0.63,2,     0.23,2,    1.450,2,   4.3199,20040806, 647
  32H120040718,    34,  2,    207,      7,2,20040806, 622, 71.6500,-152.3900,  549,     30.9,   3.0471,  31.0927,2,-999.0000,9,    381.9,2,    382.4,2,     6.31,2,     0.23,2,     0.02,2,     0.68,2,     0.55,2,   1929.0,   2,   2155.8,   2,     0.11,2,     0.48,2,     0.25,2,    1.319,2,   3.0454,20040806, 644
  32H120040718,    34,  2,    206,      6,2,20040806, 622, 71.6500,-152.3900,  549,     41.3,   2.1616,  31.3022,2,-999.0000,9,    401.2,2,    405.4,2,     5.64,2,     0.13,2,     0.01,2,     0.69,2,     0.46,2,   1930.4,   2,   2155.3,   2,     0.13,2,     0.50,2,     0.20,2,    1.321,2,   2.1596,20040806, 641
  32H120040718,    34,  2,    205,      5,2,20040806, 622, 71.6500,-152.3900,  549,     51.7,   1.7775,  31.5152,2,-999.0000,9,    397.9,2,    403.4,2,     6.18,2,     0.41,2,     0.03,2,     0.75,2,     0.55,2,   1945.0,   2,   2174.1,   2,     0.13,2,     0.59,2,     0.28,2,    1.409,2,   1.7752,20040806, 637
  32H120040718,    34,  2,    204,      4,2,20040806, 622, 71.6500,-152.3900,  549,     65.8,   0.7879,  31.8287,2,-999.0000,9,    393.9,2,    400.4,2,     8.50,2,     1.21,2,     0.06,2,     0.93,2,     0.87,2,   1981.7,   2,   2187.1,   2,     0.15,2,     0.71,2,     0.30,2,    1.423,2,   0.7855,20040806, 634
  32H120040718,    34,  2,    203,      3,2,20040806, 622, 71.6500,-152.3900,  549,     92.4,  -0.7820,  32.1298,2,  32.1237,2,    381.6,2,    388.8,2,    16.45,2,     4.03,2,     0.16,2,     1.25,2,      1.3,2,   2045.0,   2,   2207.7,   2,     0.19,2,  -999.00,9,  -999.00,9,    1.705,2,  -0.7843,20040806, 631
  32H120040718,    34,  2,    202,      2,2,20040806, 622, 71.6500,-152.3900,  549,    127.0,  -1.4801,  32.4589,2,  32.4539,2,    349.4,2,   -999.0,9,    28.20,2,     8.44,2,     0.21,2,     1.61,2,     1.65,2,   -999.0,   9,   -999.0,   9,     0.15,2,  -999.00,9,  -999.00,9,    1.763,2,  -1.4826,20040806, 626
  32H120040718,    34,  2,    201,      1,2,20040806, 622, 71.6500,-152.3900,  549,    152.0,  -1.6778,  32.7830,2,  32.7714,2,    321.9,2,   -999.0,9,    37.97,2,    11.97,2,     0.23,2,     1.91,2,     1.74,2,   -999.0,   9,   -999.0,   9,     0.13,2,  -999.00,9,  -999.00,9,    1.512,2,  -1.6806,20040806, 622
  32H120040718,    34,  3,    307,      7,2,20040806, 849, 71.6500,-152.3900,  549,    107.5,  -1.2949,  32.3066,2,-999.0000,9,    364.2,2,   -999.0,9,  -999.00,9,  -999.00,9,  -999.00,9,  -999.00,9,     -999,9,   -999.0,   9,   -999.0,   9,     -999,9,  -999.00,9,  -999.00,9,    1.759,2,  -1.2971,20040806, 854
  32H120040718,    34,  3,    309,      9,2,20040806, 849, 71.6500,-152.3900,  549,    107.6,  -1.2762,  32.2982,2,-999.0000,9,    364.9,2,   -999.0,9,  -999.00,9,  -999.00,9,  -999.00,9,  -999.00,9,     -999,9,   -999.0,   9,   -999.0,   9,     -999,9,  -999.00,9,  -999.00,9,    1.706,2,  -1.2784,20040806, 855
  32H120040718,    34,  3,    308,      8,2,20040806, 849, 71.6500,-152.3900,  549,    107.6,  -1.2881,  32.3037,2,-999.0000,9,    364.2,2,   -999.0,9,  -999.00,9,  -999.00,9,  -999.00,9,  -999.00,9,     -999,9,   -999.0,   9,   -999.0,   9,     -999,9,  -999.00,9,  -999.00,9,    1.711,2,  -1.2903,20040806, 855
  32H120040718,    34,  3,    310,     10,2,20040806, 849, 71.6500,-152.3900,  549,    107.7,  -1.2818,  32.3007,2,-999.0000,9,    364.8,2,   -999.0,9,  -999.00,9,  -999.00,9,  -999.00,9,  -999.00,9,     -999,9,   -999.0,   9,   -999.0,   9,     -999,9,  -999.00,9,  -999.00,9,    1.760,2,  -1.2840,20040806, 855
  32H120040718,    34,  3,    311,     11,2,20040806, 849, 71.6500,-152.3900,  549,    107.8,  -1.2746,  32.2978,2,-999.0000,9,    365.1,2,   -999.0,9,  -999.00,9,  -999.00,9,  -999.00,9,  -999.00,9,     -999,9,   -999.0,   9,   -999.0,   9,     -999,9,  -999.00,9,  -999.00,9,    1.747,2,  -1.2768,20040806, 855
  32H120040718,    34,  3,    312,     12,2,20040806, 849, 71.6500,-152.3900,  549,    107.9,  -1.2977,  32.3102,2,-999.0000,9,    364.4,2,   -999.0,9,    22.59,2,     6.29,2,     0.20,2,     1.47,2,     1.59,2,   -999.0,   9,   -999.0,   9,     0.18,2,  -999.00,9,  -999.00,9,    1.768,2,  -1.2999,20040806, 856
  32H120040718,    34,  3,    304,      4,2,20040806, 849, 71.6500,-152.3900,  549,    157.9,  -1.6115,  32.9000,2,-999.0000,9,    324.2,2,   -999.0,9,  -999.00,9,  -999.00,9,  -999.00,9,  -999.00,9,     -999,9,   -999.0,   9,   -999.0,   9,     -999,9,  -999.00,9,  -999.00,9,    1.279,2,  -1.6146,20040806, 850
  32H120040718,    34,  3,    305,      5,2,20040806, 849, 71.6500,-152.3900,  549,    157.9,  -1.6116,  32.8999,2,-999.0000,9,    323.4,2,   -999.0,9,  -999.00,9,  -999.00,9,  -999.00,9,  -999.00,9,     -999,9,   -999.0,   9,   -999.0,   9,     -999,9,  -999.00,9,  -999.00,9,    1.329,2,  -1.6147,20040806, 850
  32H120040718,    34,  3,    306,      6,2,20040806, 849, 71.6500,-152.3900,  549,    158.0,  -1.6163,  32.8992,2,-999.0000,9,    323.5,2,   -999.0,9,  -999.00,9,  -999.00,9,  -999.00,9,  -999.00,9,     -999,9,   -999.0,   9,   -999.0,   9,     -999,9,  -999.00,9,  -999.00,9,    1.317,2,  -1.6193,20040806, 851
  32H120040718,    34,  3,    301,      1,2,20040806, 849, 71.6500,-152.3900,  549,    158.6,  -1.5899,  32.9013,2,-999.0000,9,    324.5,2,   -999.0,9,    33.78,2,    10.60,2,     0.14,2,     1.79,2,     1.51,2,   -999.0,   9,   -999.0,   9,     0.17,2,  -999.00,9,  -999.00,9,    1.238,2,  -1.5930,20040806, 849
  32H120040718,    34,  3,    302,      2,2,20040806, 849, 71.6500,-152.3900,  549,    158.8,  -1.6158,  32.9031,2,-999.0000,9,    323.8,2,   -999.0,9,  -999.00,9,  -999.00,9,  -999.00,9,  -999.00,9,     -999,9,   -999.0,   9,   -999.0,   9,     -999,9,  -999.00,9,  -999.00,9,    1.252,2,  -1.6189,20040806, 849
  32H120040718,    34,  3,    303,      3,2,20040806, 849, 71.6500,-152.3900,  549,    158.9,  -1.6313,  32.9034,2,-999.0000,9,    322.8,2,   -999.0,9,  -999.00,9,  -999.00,9,  -999.00,9,  -999.00,9,     -999,9,   -999.0,   9,   -999.0,   9,     -999,9,  -999.00,9,  -999.00,9,    1.298,2,  -1.6343,20040806, 849
  32H120040718,    34,  4,    411,     11,2,20040806, 947, 71.6500,-152.3900,  549,     53.5,   2.7881,  31.4913,2,-999.0000,9,    371.7,2,   -999.0,9,  -999.00,9,  -999.00,9,  -999.00,9,  -999.00,9,     -999,9,   -999.0,   9,   -999.0,   9,     -999,9,  -999.00,9,  -999.00,9,    1.329,2,   2.7852,20040806, 949
  32H120040718,    34,  4,    412,     12,2,20040806, 947, 71.6500,-152.3900,  549,     53.5,   2.7998,  31.4925,2,-999.0000,9,    371.3,2,   -999.0,9,  -999.00,9,  -999.00,9,  -999.00,9,  -999.00,9,     -999,9,   -999.0,   9,   -999.0,   9,     -999,9,  -999.00,9,  -999.00,9,    1.337,2,   2.7969,20040806, 949
  32H120040718,    34,  4,    410,     10,2,20040806, 947, 71.6500,-152.3900,  549,     53.5,   2.8043,  31.4933,2,-999.0000,9,    371.3,2,   -999.0,9,  -999.00,9,  -999.00,9,  -999.00,9,  -999.00,9,     -999,9,   -999.0,   9,   -999.0,   9,     -999,9,  -999.00,9,  -999.00,9,    1.367,2,   2.8014,20040806, 948
  32H120040718,    34,  4,    409,      9,2,20040806, 947, 71.6500,-152.3900,  549,     53.5,   2.8095,  31.4935,2,-999.0000,9,    371.1,2,   -999.0,9,  -999.00,9,  -999.00,9,  -999.00,9,  -999.00,9,     -999,9,   -999.0,   9,   -999.0,   9,     -999,9,  -999.00,9,  -999.00,9,    1.325,2,   2.8066,20040806, 948
  32H120040718,    34,  4,    404,      4,2,20040806, 947, 71.6500,-152.3900,  549,     53.6,   2.7655,  31.4939,2,-999.0000,9,    372.0,2,   -999.0,9,  -999.00,9,  -999.00,9,  -999.00,9,  -999.00,9,     -999,9,   -999.0,   9,   -999.0,   9,     -999,9,  -999.00,9,  -999.00,9,    1.326,2,   2.7627,20040806, 947
  32H120040718,    34,  4,    407,      7,2,20040806, 947, 71.6500,-152.3900,  549,     53.6,   2.7886,  31.4930,2,-999.0000,9,    371.4,2,   -999.0,9,  -999.00,9,  -999.00,9,  -999.00,9,  -999.00,9,     -999,9,   -999.0,   9,   -999.0,   9,     -999,9,  -999.00,9,  -999.00,9,    1.323,2,   2.7857,20040806, 948
  32H120040718,    34,  4,    408,      8,2,20040806, 947, 71.6500,-152.3900,  549,     53.6,   2.8006,  31.4932,2,-999.0000,9,    371.3,2,   -999.0,9,  -999.00,9,  -999.00,9,  -999.00,9,  -999.00,9,     -999,9,   -999.0,   9,   -999.0,   9,     -999,9,  -999.00,9,  -999.00,9,    1.368,2,   2.7977,20040806, 948
  32H120040718,    34,  4,    403,      3,2,20040806, 947, 71.6500,-152.3900,  549,     53.6,   2.8009,  31.4976,2,-999.0000,9,    371.0,2,   -999.0,9,  -999.00,9,  -999.00,9,  -999.00,9,  -999.00,9,     -999,9,   -999.0,   9,   -999.0,   9,     -999,9,  -999.00,9,  -999.00,9,    1.426,2,   2.7980,20040806, 946
  32H120040718,    34,  4,    402,      2,2,20040806, 947, 71.6500,-152.3900,  549,     53.6,   2.8010,  31.4978,2,-999.0000,9,    371.3,2,   -999.0,9,  -999.00,9,  -999.00,9,  -999.00,9,  -999.00,9,     -999,9,   -999.0,   9,   -999.0,   9,     -999,9,  -999.00,9,  -999.00,9,    1.340,2,   2.7981,20040806, 946
  32H120040718,    34,  4,    401,      1,2,20040806, 947, 71.6500,-152.3900,  549,     53.6,   2.8102,  31.4973,2,-999.0000,9,    371.2,2,   -999.0,9,  -999.00,9,  -999.00,9,  -999.00,9,  -999.00,9,     -999,9,   -999.0,   9,   -999.0,   9,     -999,9,  -999.00,9,  -999.00,9,    1.381,2,   2.8073,20040806, 946
  32H120040718,    34,  4,    406,      6,2,20040806, 947, 71.6500,-152.3900,  549,     53.7,   2.8069,  31.4957,2,-999.0000,9,    371.2,2,   -999.0,9,     6.19,2,     0.37,2,     0.04,2,     0.73,2,     0.71,2,   -999.0,   9,   -999.0,   9,     0.17,2,  -999.00,9,  -999.00,9,    1.367,2,   2.8040,20040806, 947
  32H120040718,    34,  4,    405,      5,2,20040806, 947, 71.6500,-152.3900,  549,     53.7,   2.8167,  31.4959,2,-999.0000,9,    371.3,2,   -999.0,9,  -999.00,9,  -999.00,9,  -999.00,9,  -999.00,9,     -999,9,   -999.0,   9,   -999.0,   9,     -999,9,  -999.00,9,  -999.00,9,    1.329,2,   2.8138,20040806, 947
  32H120040718,    34,  5,    512,     12,2,20040806,1633, 71.6500,-152.3900,  549,      2.1,   4.2752,  29.2526,2,-999.0000,9,    337.0,2,   -999.0,9,  -999.00,9,  -999.00,9,  -999.00,9,  -999.00,9,     -999,9,   -999.0,   9,   -999.0,   9,     -999,9,  -999.00,9,  -999.00,9,    1.425,2,   4.2751,20040806,1701
  32H120040718,    34,  5,    511,     11,2,20040806,1633, 71.6500,-152.3900,  549,      2.1,   4.2794,  29.2607,2,-999.0000,9,    337.1,2,    341.3,2,     6.38,2,     0.05,2,     0.00,2,     0.54,2,     0.23,2,   -999.0,   9,   -999.0,   9,     0.04,2,     0.68,2,     0.15,2,    1.450,2,   4.2793,20040806,1701
  32H120040718,    34,  5,    510,     10,2,20040806,1633, 71.6500,-152.3900,  549,      5.0,   4.2701,  29.2571,2,-999.0000,9,    337.0,2,    341.4,2,     6.36,2,     0.05,2,     0.00,2,     0.54,2,     0.24,2,   -999.0,   9,   -999.0,   9,     0.04,2,     0.67,2,     0.15,2,    1.484,2,   4.2698,20040806,1700
  32H120040718,    34,  5,    509,      9,2,20040806,1633, 71.6500,-152.3900,  549,      7.9,   4.3092,  29.2926,2,-999.0000,9,    336.8,2,    341.4,2,     6.46,2,     0.05,2,     0.00,2,     0.54,2,     0.26,2,   -999.0,   9,   -999.0,   9,     0.04,2,     0.64,2,     0.17,2,    1.417,2,   4.3087,20040806,1658
  32H120040718,    34,  5,    508,      8,2,20040806,1633, 71.6500,-152.3900,  549,     11.8,   4.4107,  29.4456,2,-999.0000,9,    336.6,2,    340.9,2,     6.56,2,     0.05,2,     0.00,2,     0.56,2,     0.33,2,   -999.0,   9,   -999.0,   9,     0.04,2,     0.64,2,     0.17,2,    1.496,2,   4.4100,20040806,1654
  32H120040718,    34,  5,    507,      7,2,20040806,1633, 71.6500,-152.3900,  549,     11.8,   4.4157,  29.4512,2,-999.0000,9,    336.7,2,   -999.0,9,  -999.00,9,  -999.00,9,  -999.00,9,  -999.00,9,     -999,9,   -999.0,   9,   -999.0,   9,     -999,9,  -999.00,9,  -999.00,9,    1.410,2,   4.4150,20040806,1654
  32H120040718,    34,  5,    506,      6,2,20040806,1633, 71.6500,-152.3900,  549,     18.0,   4.6922,  29.8049,2,-999.0000,9,    335.2,2,    341.8,2,     6.44,2,     0.05,2,     0.00,2,     0.58,2,     0.38,2,   -999.0,   9,   -999.0,   9,     0.05,2,     0.47,2,     0.15,2,    1.379,2,   4.6910,20040806,1651
  32H120040718,    34,  5,    504,      4,2,20040806,1633, 71.6500,-152.3900,  549,     27.2,   3.1022,  31.1741,2,-999.0000,9,    377.7,2,   -999.0,9,  -999.00,9,  -999.00,9,  -999.00,9,  -999.00,9,     -999,9,   -999.0,   9,   -999.0,   9,     -999,9,  -999.00,9,  -999.00,9,    1.296,2,   3.1007,20040806,1647
  32H120040718,    34,  5,    505,      5,2,20040806,1633, 71.6500,-152.3900,  549,     27.3,   2.9845,  31.1918,2,-999.0000,9,    379.7,2,    383.3,2,     5.64,2,     0.16,2,     0.00,2,     0.66,2,     0.52,2,   -999.0,   9,   -999.0,   9,     0.08,2,     0.50,2,     0.10,2,    1.346,2,   2.9830,20040806,1647
  32H120040718,    34,  5,    503,      3,2,20040806,1633, 71.6500,-152.3900,  549,     77.0,  -0.1781,  31.9943,2,-999.0000,9,    388.5,2,   -999.0,9,    11.60,2,     2.39,2,     0.10,2,     1.09,2,     1.06,2,   -999.0,   9,   -999.0,   9,      0.1,2,  -999.00,9,  -999.00,9,    1.491,2,  -0.1804,20040806,1642
  32H120040718,    34,  5,    502,      2,2,20040806,1633, 71.6500,-152.3900,  549,    127.5,  -1.4985,  32.4555,2,-999.0000,9,    344.3,2,   -999.0,9,    29.09,2,     8.75,2,     0.21,2,     1.64,2,      1.8,2,   -999.0,   9,   -999.0,   9,     0.13,2,  -999.00,9,  -999.00,9,    1.770,2,  -1.5009,20040806,1637
  32H120040718,    34,  5,    501,      1,2,20040806,1633, 71.6500,-152.3900,  549,    177.5,  -1.5124,  33.2185,2,-999.0000,9,    291.5,2,   -999.0,9,    35.10,2,    10.83,2,     0.12,2,     1.84,2,     1.45,2,   -999.0,   9,   -999.0,   9,     0.24,2,  -999.00,9,  -999.00,9,    1.358,2,  -1.5161,20040806,1633
  32H120040718,    34,  6,    611,     11,2,20040806,1937, 71.6500,-152.3900,  549,     11.8,   4.3231,  29.3765,2,-999.0000,9,    338.0,2,   -999.0,9,  -999.00,9,  -999.00,9,  -999.00,9,  -999.00,9,     -999,9,   -999.0,   9,   -999.0,   9,     -999,9,  -999.00,9,  -999.00,9,    1.513,2,   4.3224,20040806,1939
  32H120040718,    34,  6,    610,     10,2,20040806,1937, 71.6500,-152.3900,  549,     11.8,   4.3261,  29.3852,2,-999.0000,9,    338.3,2,   -999.0,9,  -999.00,9,  -999.00,9,  -999.00,9,  -999.00,9,     -999,9,   -999.0,   9,   -999.0,   9,     -999,9,  -999.00,9,  -999.00,9,    1.444,2,   4.3254,20040806,1939
  32H120040718,    34,  6,    609,      9,2,20040806,1937, 71.6500,-152.3900,  549,     11.8,   4.3312,  29.3958,2,-999.0000,9,    338.2,2,   -999.0,9,  -999.00,9,  -999.00,9,  -999.00,9,  -999.00,9,     -999,9,   -999.0,   9,   -999.0,   9,     -999,9,  -999.00,9,  -999.00,9,    1.503,2,   4.3305,20040806,1939
  32H120040718,    34,  6,    612,     12,2,20040806,1937, 71.6500,-152.3900,  549,     11.8,   4.3320,  29.3869,2,-999.0000,9,    338.3,2,   -999.0,9,     6.48,2,     0.05,2,     0.00,2,     0.55,2,     0.28,2,   -999.0,   9,   -999.0,   9,     0.04,2,  -999.00,9,  -999.00,9,    1.494,2,   4.3313,20040806,1939
  32H120040718,    34,  6,    601,      1,2,20040806,1937, 71.6500,-152.3900,  549,     11.8,   4.3343,  29.4837,2,-999.0000,9,    338.8,2,   -999.0,9,     6.35,2,     0.05,2,     0.00,2,     0.56,2,     0.32,2,   -999.0,   9,   -999.0,   9,     0.05,2,  -999.00,9,  -999.00,9,    1.569,2,   4.3336,20040806,1937
  32H120040718,    34,  6,    608,      8,2,20040806,1937, 71.6500,-152.3900,  549,     11.8,   4.3345,  29.4031,2,-999.0000,9,    338.2,2,   -999.0,9,  -999.00,9,  -999.00,9,  -999.00,9,  -999.00,9,     -999,9,   -999.0,   9,   -999.0,   9,     -999,9,  -999.00,9,  -999.00,9,    1.452,2,   4.3338,20040806,1938
  32H120040718,    34,  6,    606,      6,2,20040806,1937, 71.6500,-152.3900,  549,     11.8,   4.3371,  29.4023,2,-999.0000,9,    338.3,2,   -999.0,9,  -999.00,9,  -999.00,9,  -999.00,9,  -999.00,9,     -999,9,   -999.0,   9,   -999.0,   9,     -999,9,  -999.00,9,  -999.00,9,    1.503,2,   4.3364,20040806,1938
  32H120040718,    34,  6,    602,      2,2,20040806,1937, 71.6500,-152.3900,  549,     11.8,   4.3386,  29.4196,2,-999.0000,9,    339.0,2,   -999.0,9,  -999.00,9,  -999.00,9,  -999.00,9,  -999.00,9,     -999,9,   -999.0,   9,   -999.0,   9,     -999,9,  -999.00,9,  -999.00,9,    1.586,2,   4.3379,20040806,1937
  32H120040718,    34,  6,    607,      7,2,20040806,1937, 71.6500,-152.3900,  549,     11.8,   4.3395,  29.4061,2,-999.0000,9,    338.1,2,   -999.0,9,  -999.00,9,  -999.00,9,  -999.00,9,  -999.00,9,     -999,9,   -999.0,   9,   -999.0,   9,     -999,9,  -999.00,9,  -999.00,9,    1.495,2,   4.3388,20040806,1938
  32H120040718,    34,  6,    605,      5,2,20040806,1937, 71.6500,-152.3900,  549,     11.8,   4.3446,  29.4220,2,-999.0000,9,    338.0,2,   -999.0,9,  -999.00,9,  -999.00,9,  -999.00,9,  -999.00,9,     -999,9,   -999.0,   9,   -999.0,   9,     -999,9,  -999.00,9,  -999.00,9,    1.464,2,   4.3439,20040806,1938
  32H120040718,    34,  6,    604,      4,2,20040806,1937, 71.6500,-152.3900,  549,     11.8,   4.3502,  29.4273,2,-999.0000,9,    338.4,2,   -999.0,9,  -999.00,9,  -999.00,9,  -999.00,9,  -999.00,9,     -999,9,   -999.0,   9,   -999.0,   9,     -999,9,  -999.00,9,  -999.00,9,    1.489,2,   4.3495,20040806,1937
  32H120040718,    34,  6,    603,      3,2,20040806,1937, 71.6500,-152.3900,  549,     11.8,   4.3527,  29.4377,2,-999.0000,9,    338.5,2,   -999.0,9,  -999.00,9,  -999.00,9,  -999.00,9,  -999.00,9,     -999,9,   -999.0,   9,   -999.0,   9,     -999,9,  -999.00,9,  -999.00,9,    1.480,2,   4.3520,20040806,1937