BOTTLE,20220815CCHSIOAMB
EXPOCODE,STNNBR,CASTNO,SAMPNO,BTLNBR,BTLNBR_FLAG_W,DATE,TIME,LATITUDE,LONGITUDE,DEPTH,CTDPRS,CTDTMP,CTDSAL,CTDSAL_FLAG_W,SALNTY,SALNTY_FLAG_W,CTDOXY,CTDOXY_FLAG_W,OXYGEN,OXYGEN_FLAG_W,SILCAT,SILCAT_FLAG_W,NITRAT,NITRAT_FLAG_W,NITRIT,NITRIT_FLAG_W,PHSPHT,PHSPHT_FLAG_W,AMMONI,AMMONI_FLAG_W,TCARBN,TCARBN_FLAG_W,ALKALI,ALKALI_FLAG_W,UREA,UREA_FLAG_W,CHLORA,CHLORA_FLAG_W,PHAEO,PHAEO_FLAG_W,FLUORO,FLUORO_FLAG_W,THETA,BTL_DATE,BTL_TIME
,,,,,,,,,,METERS,DBAR,ITS-90,PSS-78,,PSS-78,,UMOL/KG,,UMOL/KG,,UMOL/KG,,UMOL/KG,,UMOL/KG,,UMOL/KG,,UMOL/KG,,UMOL/KG,,UMOL/KG,,UMOL/KG,,UG/L,,UG/L,,VOLTS,,DEG C,,
  32H120040718,    32,  4,    412,     12,2,20040803,2017, 71.9700,-152.1610, 2145,      2.4,   2.0674,  27.5601,2,  27.6380,2,    371.4,2,    373.6,2,     4.47,2,     0.03,2,     0.00,2,     0.49,2,     0.19,2,   1783.5,   2,   1936.0,   2,     0.03,2,     0.20,2,     0.03,2,    0.824,2,   2.0673,20040803,2058
  32H120040718,    32,  4,    411,     11,2,20040803,2017, 71.9700,-152.1610, 2145,      5.3,   1.9922,  27.9054,2,-999.0000,9,    374.2,2,    375.1,2,     4.46,2,     0.03,2,     0.00,2,     0.50,2,     0.18,2,   -999.0,   9,   -999.0,   9,     0.06,2,  -999.00,9,  -999.00,9,    0.838,2,   1.9920,20040803,2055
  32H120040718,    32,  4,    410,     10,2,20040803,2017, 71.9700,-152.1610, 2145,     10.5,   1.1333,  29.6483,2,-999.0000,9,    455.6,2,    446.9,2,     3.45,2,     0.03,2,     0.00,2,     0.53,2,     0.16,2,   1844.7,   2,   2041.7,   2,     0.05,2,     0.16,2,     0.05,2,    0.812,2,   1.1329,20040803,2053
  32H120040718,    32,  4,    409,      9,2,20040803,2017, 71.9700,-152.1610, 2145,     20.3,  -0.2769,  30.9978,2,-999.0000,9,    463.7,2,    484.2,2,     3.10,2,     0.03,2,     0.01,2,     0.63,2,      0.1,2,   -999.0,   9,   -999.0,   9,     0.06,2,     0.23,2,     0.04,2,    1.061,2,  -0.2774,20040803,2050
  32H120040718,    32,  4,    408,      8,2,20040803,2017, 71.9700,-152.1610, 2145,     30.3,  -0.7954,  31.8931,2,-999.0000,9,    404.8,2,    419.6,2,     3.98,2,     0.12,2,     0.01,2,     0.81,2,     0.09,2,   2046.8,   2,   2217.9,   2,     0.06,2,     1.43,2,     0.05,2,    1.741,2,  -0.7961,20040803,2047
  32H120040718,    32,  4,    407,      7,2,20040803,2017, 71.9700,-152.1610, 2145,     40.1,  -1.1869,  32.1757,2,-999.0000,9,    370.5,2,    385.1,2,    11.38,2,     4.32,2,     0.16,2,     1.26,2,     0.56,2,   2086.0,   2,   2221.5,   2,     0.12,2,     2.96,2,     0.01,2,    2.148,2,  -1.1877,20040803,2044
  32H120040718,    32,  4,    406,      6,2,20040803,2017, 71.9700,-152.1610, 2145,     50.7,  -1.3129,  32.3764,2,-999.0000,9,    339.0,2,    354.4,2,    23.12,2,     7.72,2,     0.22,2,     1.50,2,     1.34,2,   2116.6,   2,   2228.4,   2,     0.13,2,     2.89,2,     0.41,2,    1.673,2,  -1.3139,20040803,2041
  32H120040718,    32,  4,    405,      5,2,20040803,2017, 71.9700,-152.1610, 2145,     65.5,  -1.4889,  32.6197,2,-999.0000,9,    326.5,2,    339.1,2,    32.73,2,    10.14,2,     0.22,2,     1.69,2,     1.64,2,   2132.3,   2,   2236.6,   2,     0.09,2,     0.39,2,     0.22,2,    1.373,2,  -1.4901,20040803,2038
  32H120040718,    32,  4,    404,      4,2,20040803,2017, 71.9700,-152.1610, 2145,     80.8,  -1.5378,  32.8445,2,-999.0000,9,    318.0,2,    329.9,2,    35.01,2,    11.25,2,     0.17,2,     1.77,2,      1.5,2,   2156.6,   2,   2254.1,   2,      0.1,2,     0.34,2,     0.20,2,    1.342,2,  -1.5393,20040803,2034
  32H120040718,    32,  4,    403,      3,2,20040803,2017, 71.9700,-152.1610, 2145,     98.7,  -1.5103,  33.1094,2,-999.0000,9,    305.8,2,    316.5,2,    31.61,2,    11.18,2,     0.10,2,     1.71,2,        1,2,   2184.6,   2,   2279.0,   2,     0.12,2,     0.23,2,     0.16,2,    1.099,2,  -1.5123,20040803,2030
  32H120040718,    32,  4,    402,      2,2,20040803,2017, 71.9700,-152.1610, 2145,    123.5,  -1.4051,  33.4773,2,  33.4614,2,    300.3,2,    314.6,2,    29.19,2,    10.36,2,     0.10,2,     1.60,2,     1.01,2,   -999.0,   9,   -999.0,   9,     0.12,2,  -999.00,9,  -999.00,9,    1.046,2,  -1.4078,20040803,2024
  32H120040718,    32,  4,    401,      1,2,20040803,2017, 71.9700,-152.1610, 2145,    150.0,  -0.8385,  34.1770,2,  34.1239,2,    281.2,2,    291.9,2,    21.95,2,    12.30,2,     0.12,2,     1.37,2,     0.21,2,   -999.0,   9,   -999.0,   9,     0.07,2,     0.08,2,     0.11,2,    0.892,2,  -0.8428,20040803,2017
  32H120040718,    32,  5,    507,      7,2,20040803,2214, 71.9700,-152.1610, 2145,    100.8,  -1.5420,  33.1068,2,-999.0000,9,    317.2,2,   -999.0,9,  -999.00,9,  -999.00,9,  -999.00,9,  -999.00,9,     -999,9,   -999.0,   9,   -999.0,   9,     -999,9,  -999.00,9,  -999.00,9,    1.105,2,  -1.5440,20040803,2219
  32H120040718,    32,  5,    508,      8,2,20040803,2214, 71.9700,-152.1610, 2145,    100.8,  -1.5452,  33.1127,2,-999.0000,9,    319.1,2,   -999.0,9,  -999.00,9,  -999.00,9,  -999.00,9,  -999.00,9,     -999,9,   -999.0,   9,   -999.0,   9,     -999,9,  -999.00,9,  -999.00,9,    1.113,2,  -1.5472,20040803,2219
  32H120040718,    32,  5,    512,     12,2,20040803,2214, 71.9700,-152.1610, 2145,    100.9,  -1.5371,  33.1170,2,-999.0000,9,    317.0,2,   -999.0,9,  -999.00,9,  -999.00,9,  -999.00,9,  -999.00,9,     -999,9,   -999.0,   9,   -999.0,   9,     -999,9,  -999.00,9,  -999.00,9,    1.104,2,  -1.5391,20040803,2220
  32H120040718,    32,  5,    511,     11,2,20040803,2214, 71.9700,-152.1610, 2145,    100.9,  -1.5397,  33.1168,2,-999.0000,9,    318.4,2,   -999.0,9,  -999.00,9,  -999.00,9,  -999.00,9,  -999.00,9,     -999,9,   -999.0,   9,   -999.0,   9,     -999,9,  -999.00,9,  -999.00,9,    1.091,2,  -1.5417,20040803,2220
  32H120040718,    32,  5,    510,     10,2,20040803,2214, 71.9700,-152.1610, 2145,    100.9,  -1.5445,  33.1130,2,-999.0000,9,    319.7,2,   -999.0,9,    31.91,2,     9.73,2,     0.12,2,     1.67,2,     1.43,2,   -999.0,   9,   -999.0,   9,     0.16,2,  -999.00,9,  -999.00,9,    1.188,2,  -1.5465,20040803,2220
  32H120040718,    32,  5,    509,      9,2,20040803,2214, 71.9700,-152.1610, 2145,    100.9,  -1.5447,  33.1140,2,-999.0000,9,    319.7,2,   -999.0,9,  -999.00,9,  -999.00,9,  -999.00,9,  -999.00,9,     -999,9,   -999.0,   9,   -999.0,   9,     -999,9,  -999.00,9,  -999.00,9,    1.214,2,  -1.5467,20040803,2220
  32H120040718,    32,  5,    501,      1,2,20040803,2214, 71.9700,-152.1610, 2145,    152.3,  -0.9249,  34.2349,2,-999.0000,9,    301.9,2,   -999.0,9,  -999.00,9,  -999.00,9,  -999.00,9,  -999.00,9,     -999,9,   -999.0,   9,   -999.0,   9,     -999,9,  -999.00,9,  -999.00,9,    0.855,2,  -0.9291,20040803,2213
  32H120040718,    32,  5,    502,      2,2,20040803,2214, 71.9700,-152.1610, 2145,    152.4,  -0.9264,  34.2342,2,-999.0000,9,    302.1,2,   -999.0,9,  -999.00,9,  -999.00,9,  -999.00,9,  -999.00,9,     -999,9,   -999.0,   9,   -999.0,   9,     -999,9,  -999.00,9,  -999.00,9,    0.937,2,  -0.9306,20040803,2213
  32H120040718,    32,  5,    503,      3,2,20040803,2214, 71.9700,-152.1610, 2145,    152.4,  -0.9288,  34.2335,2,-999.0000,9,    302.5,2,   -999.0,9,    20.84,2,    10.30,2,     0.15,2,     1.33,2,     0.66,2,   -999.0,   9,   -999.0,   9,     0.08,2,  -999.00,9,  -999.00,9,    0.875,2,  -0.9330,20040803,2214
  32H120040718,    32,  5,    504,      4,2,20040803,2214, 71.9700,-152.1610, 2145,    152.5,  -0.9317,  34.2318,2,-999.0000,9,    302.2,2,   -999.0,9,  -999.00,9,  -999.00,9,  -999.00,9,  -999.00,9,     -999,9,   -999.0,   9,   -999.0,   9,     -999,9,  -999.00,9,  -999.00,9,    0.841,2,  -0.9359,20040803,2214
  32H120040718,    32,  5,    506,      6,2,20040803,2214, 71.9700,-152.1610, 2145,    152.5,  -0.9356,  34.2304,2,-999.0000,9,    302.8,2,   -999.0,9,  -999.00,9,  -999.00,9,  -999.00,9,  -999.00,9,     -999,9,   -999.0,   9,   -999.0,   9,     -999,9,  -999.00,9,  -999.00,9,    1.113,2,  -0.9398,20040803,2214
  32H120040718,    32,  5,    505,      5,2,20040803,2214, 71.9700,-152.1610, 2145,    152.5,  -0.9357,  34.2303,2,-999.0000,9,    302.4,2,   -999.0,9,  -999.00,9,  -999.00,9,  -999.00,9,  -999.00,9,     -999,9,   -999.0,   9,   -999.0,   9,     -999,9,  -999.00,9,  -999.00,9,    0.889,2,  -0.9399,20040803,2214
  32H120040718,    32,  6,    601,      1,2,20040803,2312, 71.9700,-152.1610, 2145,     50.1,  -1.4301,  32.4951,2,-999.0000,9,    344.8,2,   -999.0,9,  -999.00,9,  -999.00,9,  -999.00,9,  -999.00,9,     -999,9,   -999.0,   9,   -999.0,   9,     -999,9,  -999.00,9,  -999.00,9,    1.304,2,  -1.4311,20040803,2310
  32H120040718,    32,  6,    604,      4,2,20040803,2312, 71.9700,-152.1610, 2145,     50.1,  -1.4366,  32.4775,2,-999.0000,9,    350.9,2,   -999.0,9,  -999.00,9,  -999.00,9,  -999.00,9,  -999.00,9,     -999,9,   -999.0,   9,   -999.0,   9,     -999,9,  -999.00,9,  -999.00,9,    1.395,2,  -1.4376,20040803,2310
  32H120040718,    32,  6,    605,      5,2,20040803,2312, 71.9700,-152.1610, 2145,     50.1,  -1.4379,  32.4785,2,-999.0000,9,    350.6,2,   -999.0,9,  -999.00,9,  -999.00,9,  -999.00,9,  -999.00,9,     -999,9,   -999.0,   9,   -999.0,   9,     -999,9,  -999.00,9,  -999.00,9,    1.370,2,  -1.4389,20040803,2311
  32H120040718,    32,  6,    606,      6,2,20040803,2312, 71.9700,-152.1610, 2145,     50.1,  -1.4383,  32.4793,2,-999.0000,9,    350.4,2,   -999.0,9,  -999.00,9,  -999.00,9,  -999.00,9,  -999.00,9,     -999,9,   -999.0,   9,   -999.0,   9,     -999,9,  -999.00,9,  -999.00,9,    1.278,2,  -1.4393,20040803,2311
  32H120040718,    32,  6,    603,      3,2,20040803,2312, 71.9700,-152.1610, 2145,     50.1,  -1.4397,  32.4800,2,-999.0000,9,    349.3,2,   -999.0,9,  -999.00,9,  -999.00,9,  -999.00,9,  -999.00,9,     -999,9,   -999.0,   9,   -999.0,   9,     -999,9,  -999.00,9,  -999.00,9,    1.300,2,  -1.4406,20040803,2310
  32H120040718,    32,  6,    602,      2,2,20040803,2312, 71.9700,-152.1610, 2145,     50.1,  -1.4397,  32.4876,2,-999.0000,9,    349.0,2,   -999.0,9,  -999.00,9,  -999.00,9,  -999.00,9,  -999.00,9,     -999,9,   -999.0,   9,   -999.0,   9,     -999,9,  -999.00,9,  -999.00,9,    1.419,2,  -1.4407,20040803,2310
  32H120040718,    32,  6,    607,      7,2,20040803,2312, 71.9700,-152.1610, 2145,     50.1,  -1.4404,  32.4810,2,-999.0000,9,    350.1,2,   -999.0,9,  -999.00,9,  -999.00,9,  -999.00,9,  -999.00,9,     -999,9,   -999.0,   9,   -999.0,   9,     -999,9,  -999.00,9,  -999.00,9,    1.382,2,  -1.4413,20040803,2311
  32H120040718,    32,  6,    608,      8,2,20040803,2312, 71.9700,-152.1610, 2145,     50.1,  -1.4425,  32.4854,2,-999.0000,9,    349.3,2,   -999.0,9,  -999.00,9,  -999.00,9,  -999.00,9,  -999.00,9,     -999,9,   -999.0,   9,   -999.0,   9,     -999,9,  -999.00,9,  -999.00,9,    1.359,2,  -1.4434,20040803,2311
  32H120040718,    32,  6,    611,     11,2,20040803,2312, 71.9700,-152.1610, 2145,     50.1,  -1.4430,  32.4906,2,-999.0000,9,    345.4,2,   -999.0,9,    25.13,2,     7.73,2,     0.21,2,     1.51,2,     1.52,2,   -999.0,   9,   -999.0,   9,     0.13,2,  -999.00,9,  -999.00,9,    1.308,2,  -1.4439,20040803,2312
  32H120040718,    32,  6,    610,     10,2,20040803,2312, 71.9700,-152.1610, 2145,     50.1,  -1.4432,  32.4900,2,-999.0000,9,    346.8,2,   -999.0,9,  -999.00,9,  -999.00,9,  -999.00,9,  -999.00,9,     -999,9,   -999.0,   9,   -999.0,   9,     -999,9,  -999.00,9,  -999.00,9,    1.371,2,  -1.4441,20040803,2312
  32H120040718,    32,  6,    609,      9,2,20040803,2312, 71.9700,-152.1610, 2145,     50.1,  -1.4433,  32.4883,2,-999.0000,9,    347.9,2,   -999.0,9,    25.34,2,     7.68,2,     0.21,2,     1.53,2,     1.58,2,   -999.0,   9,   -999.0,   9,     0.22,2,  -999.00,9,  -999.00,9,    1.344,2,  -1.4442,20040803,2312
  32H120040718,    32,  6,    612,     12,2,20040803,2312, 71.9700,-152.1610, 2145,     50.1,  -1.4436,  32.4896,2,-999.0000,9,    346.6,2,   -999.0,9,  -999.00,9,  -999.00,9,  -999.00,9,  -999.00,9,     -999,9,   -999.0,   9,   -999.0,   9,     -999,9,  -999.00,9,  -999.00,9,    1.588,2,  -1.4445,20040803,2312
  32H120040718,    32,  7,    712,     12,2,20040803, 426, 71.9700,-152.1610, 2145,     14.4,   0.0108,  30.7875,2,-999.0000,9,    458.9,2,   -999.0,9,  -999.00,9,  -999.00,9,  -999.00,9,  -999.00,9,     -999,9,   -999.0,   9,   -999.0,   9,     -999,9,  -999.00,9,  -999.00,9,    1.114,2,   0.0104,20040803, 538
  32H120040718,    32,  7,    711,     11,2,20040803, 426, 71.9700,-152.1610, 2145,     14.4,   0.0746,  31.0359,2,-999.0000,9,    446.8,2,   -999.0,9,     3.26,2,     0.11,2,     0.00,2,     0.67,2,      0.1,2,   -999.0,   9,   -999.0,   9,     0.07,2,  -999.00,9,  -999.00,9,    1.103,2,   0.0742,20040803, 538
  32H120040718,    32,  7,    710,     10,2,20040803, 426, 71.9700,-152.1610, 2145,     33.5,  -0.7747,  31.9947,2,-999.0000,9,    391.6,2,   -999.0,9,  -999.00,9,  -999.00,9,  -999.00,9,  -999.00,9,     -999,9,   -999.0,   9,   -999.0,   9,     -999,9,  -999.00,9,  -999.00,9,    2.220,2,  -0.7755,20040803, 533
  32H120040718,    32,  7,    709,      9,2,20040803, 426, 71.9700,-152.1610, 2145,     33.5,  -0.8660,  31.9738,2,-999.0000,9,    393.4,2,   -999.0,9,     4.90,2,     0.24,2,     0.01,2,     0.88,2,     0.13,2,   -999.0,   9,   -999.0,   9,     0.08,2,  -999.00,9,  -999.00,9,    2.006,2,  -0.8668,20040803, 532
  32H120040718,    32,  7,    707,      7,3,20040803, 426, 71.9700,-152.1610, 2145,    108.3,  -1.5062,  33.2684,2,-999.0000,9,    308.6,2,   -999.0,9,  -999.00,9,  -999.00,9,  -999.00,9,  -999.00,9,     -999,9,   -999.0,   9,   -999.0,   9,     -999,9,  -999.00,9,  -999.00,9,    1.061,2,  -1.5084,20040803, 524
  32H120040718,    32,  7,    708,      8,2,20040803, 426, 71.9700,-152.1610, 2145,    108.3,  -1.5140,  33.2736,2,-999.0000,9,    309.7,2,   -999.0,9,    32.06,2,     9.72,2,     0.12,2,     1.69,2,     1.51,2,   -999.0,   9,   -999.0,   9,     0.19,2,  -999.00,9,  -999.00,9,    1.100,2,  -1.5162,20040803, 525
  32H120040718,    32,  7,    706,      6,2,20040803, 426, 71.9700,-152.1610, 2145,    201.2,   0.2173,  34.6559,2,-999.0000,9,    269.4,2,   -999.0,9,    12.91,2,    12.99,2,     0.14,2,     1.07,2,     0.16,2,   -999.0,   9,   -999.0,   9,     0.09,2,  -999.00,9,  -999.00,9,    0.854,2,   0.2095,20040803, 515
  32H120040718,    32,  7,    705,      5,3,20040803, 426, 71.9700,-152.1610, 2145,    201.2,   0.2345,  34.6642,2,-999.0000,9,    269.5,2,   -999.0,9,  -999.00,9,  -999.00,9,  -999.00,9,  -999.00,9,     -999,9,   -999.0,   9,   -999.0,   9,     -999,9,  -999.00,9,  -999.00,9,    0.764,2,   0.2267,20040803, 514
  32H120040718,    32,  7,    704,      4,2,20040803, 426, 71.9700,-152.1610, 2145,   2159.4,  -0.3987,  34.9524,2,-999.0000,9,    270.1,2,   -999.0,9,  -999.00,9,  -999.00,9,  -999.00,9,  -999.00,9,     -999,9,   -999.0,   9,   -999.0,   9,     -999,9,  -999.00,9,  -999.00,9,    0.583,2,  -0.5101,20040803, 428
  32H120040718,    32,  7,    703,      3,2,20040803, 426, 71.9700,-152.1610, 2145,   2161.3,  -0.3985,  34.9527,2,-999.0000,9,    269.9,2,   -999.0,9,  -999.00,9,  -999.00,9,  -999.00,9,  -999.00,9,     -999,9,   -999.0,   9,   -999.0,   9,     -999,9,  -999.00,9,  -999.00,9,    0.557,2,  -0.5101,20040803, 428
  32H120040718,    32,  7,    702,      2,2,20040803, 426, 71.9700,-152.1610, 2145,   2163.0,  -0.3984,  34.9528,2,-999.0000,9,    269.9,2,   -999.0,9,  -999.00,9,  -999.00,9,  -999.00,9,  -999.00,9,     -999,9,   -999.0,   9,   -999.0,   9,     -999,9,  -999.00,9,  -999.00,9,    0.561,2,  -0.5101,20040803, 427
  32H120040718,    32,  7,    701,      1,2,20040803, 426, 71.9700,-152.1610, 2145,   2166.2,  -0.3982,  34.9530,2,-999.0000,9,    269.7,2,   -999.0,9,    14.00,2,    14.54,2,     0.01,2,     1.05,2,     0.02,2,   -999.0,   9,   -999.0,   9,     0.07,2,  -999.00,9,  -999.00,9,    0.583,2,  -0.5101,20040803, 426
  32H120040718,    33,  1,    112,     12,2,20040805, 348, 71.6510,-152.1750,  954,    173.7,  -1.3014,  33.5057,2,-999.0000,9,    281.6,2,    294.8,2,    31.32,2,    12.18,2,     0.09,2,     1.73,2,     0.92,2,   2208.4,   2,   2289.8,   2,     0.13,2,  -999.00,9,  -999.00,9,    1.418,2,  -1.3055,20040805, 445
  32H120040718,    33,  1,    111,     11,3,20040805, 348, 71.6510,-152.1750,  954,    200.6,   0.1157,  34.5933,2,  34.4587,0,    265.6,2,   -999.0,9,    15.95,4,    12.73,4,     0.11,4,     1.19,4,     0.42,4,   -999.0,   9,   -999.0,   9,     0.11,4,  -999.00,9,  -999.00,9,    1.008,2,   0.1081,20040805, 442
  32H120040718,    33,  1,    110,     10,2,20040805, 348, 71.6510,-152.1750,  954,    226.6,   0.4248,  34.7306,2,-999.0000,9,    270.0,2,    279.0,2,    11.61,2,    13.18,2,     0.10,2,     1.04,2,     -999,5,   -999.0,   9,   -999.0,   9,      0.1,2,  -999.00,9,  -999.00,9,    0.930,2,   0.4155,20040805, 438
  32H120040718,    33,  1,    109,      9,2,20040805, 348, 71.6510,-152.1750,  954,    251.9,   0.5392,  34.7635,2,-999.0000,9,    273.3,2,    282.6,2,    14.32,2,    13.05,2,     0.08,2,     0.99,2,     -999,5,   2146.8,   2,   2296.4,   2,     0.09,2,  -999.00,9,  -999.00,9,    0.869,2,   0.5286,20040805, 435
  32H120040718,    33,  1,    108,      8,2,20040805, 348, 71.6510,-152.1750,  954,    275.4,   0.5830,  34.7826,2,-999.0000,9,    274.8,2,    284.2,2,     9.10,2,    13.56,2,     0.05,2,     0.98,2,     -999,5,   -999.0,   9,   -999.0,   9,     0.07,2,  -999.00,9,  -999.00,9,    0.873,2,   0.5712,20040805, 431
  32H120040718,    33,  1,    107,      7,2,20040805, 348, 71.6510,-152.1750,  954,    303.9,   0.6256,  34.8053,2,-999.0000,9,    275.9,2,    285.3,2,     8.99,2,    13.03,2,     0.05,2,     0.98,2,     -999,5,   -999.0,   9,   -999.0,   9,     0.06,2,  -999.00,9,  -999.00,9,    0.728,2,   0.6124,20040805, 428
  32H120040718,    33,  1,    106,      6,2,20040805, 348, 71.6510,-152.1750,  954,    353.9,   0.6240,  34.8213,2,-999.0000,9,    278.0,2,    287.4,2,     8.55,2,    12.77,2,     0.06,2,     0.96,2,     -999,5,   2152.7,   2,   2304.6,   2,     0.05,2,  -999.00,9,  -999.00,9,    0.795,2,   0.6085,20040805, 422
  32H120040718,    33,  1,    105,      5,2,20040805, 348, 71.6510,-152.1750,  954,    453.1,   0.5831,  34.8377,2,  34.8376,2,    279.6,2,    289.3,2,     8.66,2,    12.83,2,     0.06,2,     0.95,2,     0.09,2,   2146.6,   2,   2304.4,   2,     0.06,2,  -999.00,9,  -999.00,9,    0.757,2,   0.5629,20040805, 416
  32H120040718,    33,  1,    104,      4,2,20040805, 348, 71.6510,-152.1750,  954,    553.2,   0.5231,  34.8463,2,  34.8463,2,    281.7,2,    291.5,2,     8.22,2,    12.84,2,     0.04,2,     0.94,2,     0.09,2,   -999.0,   9,   -999.0,   9,     0.06,2,  -999.00,9,  -999.00,9,    0.679,2,   0.4983,20040805, 409
  32H120040718,    33,  1,    103,      3,2,20040805, 348, 71.6510,-152.1750,  954,    700.7,   0.3760,  34.8584,2,  34.8582,2,    283.9,2,    294.4,2,     7.68,2,    12.74,2,     0.04,2,     0.94,2,     0.08,2,   2146.2,   2,   2310.5,   2,     0.06,2,  -999.00,9,  -999.00,9,    0.695,2,   0.3445,20040805, 402
  32H120040718,    33,  1,    102,      2,2,20040805, 348, 71.6510,-152.1750,  954,    845.4,   0.1728,  34.8697,2,  34.8696,2,    286.4,2,    298.7,2,     7.35,2,    12.71,2,     0.02,2,     0.93,2,     0.06,2,   -999.0,   9,   -999.0,   9,     0.06,2,  -999.00,9,  -999.00,9,    0.685,2,   0.1351,20040805, 355
  32H120040718,    33,  1,    101,      1,2,20040805, 348, 71.6510,-152.1750,  954,    954.6,   0.0748,  34.8759,2,  34.8762,2,    285.9,2,    297.0,2,     8.01,2,    12.99,2,     0.04,2,     0.96,2,     0.08,2,   2143.9,   2,   2306.4,   2,     0.06,2,  -999.00,9,  -999.00,9,    0.650,2,   0.0320,20040805, 348