BOTTLE,20220815CCHSIOAMB
EXPOCODE,STNNBR,CASTNO,SAMPNO,BTLNBR,BTLNBR_FLAG_W,DATE,TIME,LATITUDE,LONGITUDE,DEPTH,CTDPRS,CTDTMP,CTDSAL,CTDSAL_FLAG_W,SALNTY,SALNTY_FLAG_W,CTDOXY,CTDOXY_FLAG_W,OXYGEN,OXYGEN_FLAG_W,SILCAT,SILCAT_FLAG_W,NITRAT,NITRAT_FLAG_W,NITRIT,NITRIT_FLAG_W,PHSPHT,PHSPHT_FLAG_W,CHLORA,CHLORA_FLAG_W,PHAEO,PHAEO_FLAG_W,FLUORO,FLUORO_FLAG_W,THETA,BTL_DATE,BTL_TIME
,,,,,,,,,,METERS,DBAR,ITS-90,PSS-78,,PSS-78,,UMOL/KG,,UMOL/KG,,UMOL/KG,,UMOL/KG,,UMOL/KG,,UMOL/KG,,UG/L,,UG/L,,VOLTS,,DEG C,,
  32H120030911,    38,  1,    106,      6,2,20030918,2114, 74.0040,-165.9945, -999,     12.2,  -1.1770,  28.5789,2,  28.8529,2,    361.2,2,   -999.0,9,     5.12,2,     0.03,2,     0.00,2,     0.68,2,     0.18,2,     0.06,2,    0.989,2,  -1.1772,20030918,2126
  32H120030911,    38,  1,    105,      5,2,20030918,2114, 74.0040,-165.9945, -999,     37.3,  -1.4787,  31.3113,2,  31.3095,2,    331.3,2,    344.5,2,    18.55,2,     5.51,2,     0.10,2,     1.39,2,     1.68,2,     0.39,2,    1.770,2,  -1.4793,20030918,2124
  32H120030911,    38,  1,    104,      4,2,20030918,2114, 74.0040,-165.9945, -999,     60.8,  -1.5581,  31.8167,2,  31.8248,2,    295.8,2,    311.8,2,    31.26,2,     8.08,2,     0.18,2,     1.51,2,     0.18,2,     0.28,2,    1.267,2,  -1.5591,20030918,2122
  32H120030911,    38,  1,    103,      3,2,20030918,2114, 74.0040,-165.9945, -999,    102.0,  -1.5756,  32.6085,2,  32.6103,2,    252.6,2,    264.2,2,    53.36,2,    14.57,2,     0.08,2,     2.01,2,     0.05,2,     0.12,2,    0.974,2,  -1.5775,20030918,2119
  32H120030911,    38,  1,    102,      2,2,20030918,2114, 74.0040,-165.9945, -999,    130.5,  -0.6666,  34.0557,2,  34.1363,2,    246.9,2,    256.3,2,    29.42,2,    14.10,2,     0.09,2,     1.42,2,     0.07,2,     0.15,2,    0.870,2,  -0.6705,20030918,2117
  32H120030911,    38,  1,    101,      1,2,20030918,2114, 74.0040,-165.9945, -999,    169.3,   0.0049,  34.5225,2,  34.5157,2,    249.1,2,   -999.0,9,    22.18,2,    13.50,2,     0.08,2,     1.17,2,     0.09,2,     0.12,2,    0.903,2,  -0.0013,20030918,2114
  32H120030911,    39,  1,    106,      6,2,20030918,2235, 73.9213,-165.9963, -999,     12.0,  -0.8523,  28.9285,2,  28.9317,2,    356.6,2,    374.1,2,     5.82,2,    -0.01,2,     0.00,2,     0.71,2,     0.23,2,     0.05,2,    1.068,2,  -0.8525,20030918,2245
  32H120030911,    39,  1,    105,      5,2,20030918,2235, 73.9213,-165.9963, -999,     42.3,  -1.6135,  31.4993,2,  31.5460,2,    306.6,2,    326.4,2,    26.16,2,     7.54,2,     0.15,2,     1.56,2,     0.48,2,     0.40,2,    1.420,2,  -1.6142,20030918,2243
  32H120030911,    39,  1,    104,      4,2,20030918,2235, 73.9213,-165.9963, -999,     64.9,  -1.5403,  31.9739,2,  32.0141,2,    280.7,2,   -999.0,9,    40.56,2,    10.49,2,     0.14,2,     1.66,2,     0.10,2,     0.22,2,    1.147,2,  -1.5414,20030918,2241
  32H120030911,    39,  1,    103,      3,2,20030918,2235, 73.9213,-165.9963, -999,     97.8,  -1.5641,  32.5982,2,  32.6161,2,    250.5,2,    264.6,2,    52.84,2,    14.58,2,     0.08,2,     2.03,2,     0.05,2,     0.13,2,    1.135,2,  -1.5659,20030918,2239
  32H120030911,    39,  1,    102,      2,2,20030918,2235, 73.9213,-165.9963, -999,    120.1,  -1.2607,  33.2557,2,  33.8855,2,    252.0,2,   -999.0,9,    32.76,2,    14.00,2,     0.12,2,     1.59,2,     0.12,2,     0.20,2,    0.939,2,  -1.2636,20030918,2237
  32H120030911,    39,  1,    101,      1,2,20030918,2235, 73.9213,-165.9963, -999,    154.1,  -0.2950,  34.3589,2,  34.3629,2,    241.2,2,    251.1,2,    27.59,2,    14.00,2,     0.13,2,     1.40,2,     0.17,2,     0.07,2,    0.954,2,  -0.3002,20030918,2235
  32H120030911,    40,  1,    106,      6,2,20030919,  28, 73.8387,-166.0040, -999,     12.1,  -0.9699,  28.9665,2,  30.0676,2,    356.9,2,    366.0,2,    12.04,2,     1.77,2,     0.03,2,     0.99,2,     0.50,2,     0.13,2,    1.115,2,  -0.9701,20030919,  38
  32H120030911,    40,  1,    105,      5,2,20030919,  28, 73.8387,-166.0040, -999,     25.9,  -1.2989,  30.8898,2,  31.1187,2,    350.5,2,   -999.0,9,    18.40,2,     3.58,2,     0.07,2,     1.26,2,     0.82,2,     0.24,2,    1.455,2,  -1.2993,20030919,  36
  32H120030911,    40,  1,    104,      4,2,20030919,  28, 73.8387,-166.0040, -999,     40.0,  -1.6006,  31.4864,2,  31.6194,2,    304.0,2,    315.0,2,    28.70,2,     8.43,2,     0.14,2,     1.69,2,     0.48,2,     0.39,2,    1.416,2,  -1.6012,20030919,  35
  32H120030911,    40,  1,    103,      3,2,20030919,  28, 73.8387,-166.0040, -999,     67.8,  -1.5109,  32.1951,2,  32.3097,2,    276.3,2,    279.2,2,    44.48,2,    12.12,2,     0.11,2,     1.79,2,     0.07,2,     0.22,2,    1.093,2,  -1.5121,20030919,  33
  32H120030911,    40,  1,    102,      2,2,20030919,  28, 73.8387,-166.0040, -999,     97.7,  -1.5624,  32.7202,2,  32.8221,2,    246.9,2,   -999.0,9,    45.90,2,    14.88,2,     0.10,2,     2.10,2,     0.07,2,     0.22,2,    1.001,2,  -1.5643,20030919,  31
  32H120030911,    40,  1,    101,      1,2,20030919,  28, 73.8387,-166.0040, -999,    133.8,  -0.3870,  34.2520,2,  34.2461,2,    241.5,2,    250.9,2,    28.73,2,    13.93,2,     0.12,2,     1.48,2,     0.17,2,     0.17,2,    1.000,2,  -0.3913,20030919,  28
  32H120030911,    41,  1,    106,      6,2,20030919, 159, 73.7525,-165.9962, -999,     11.6,  -0.9645,  28.9441,2,  28.9851,2,    350.3,2,    373.7,2,     5.56,2,     0.01,2,     0.00,2,     0.73,2,     0.20,2,     0.06,2,    1.135,2,  -0.9647,20030919, 210
  32H120030911,    41,  1,    105,      5,2,20030919, 159, 73.7525,-165.9962, -999,     23.0,  -0.9062,  29.4877,2,  30.0433,2,    348.5,2,   -999.0,9,    11.07,2,     0.68,2,     0.02,2,     0.96,2,     0.58,2,     0.13,2,    1.238,2,  -0.9066,20030919, 208
  32H120030911,    41,  1,    104,      4,2,20030919, 159, 73.7525,-165.9962, -999,     49.9,  -1.5274,  32.1067,2,  32.2744,2,    269.9,2,    278.0,2,    43.87,2,    11.90,2,     0.11,2,     1.80,2,     0.10,2,     0.17,2,    1.142,2,  -1.5283,20030919, 206
  32H120030911,    41,  1,    103,      3,2,20030919, 159, 73.7525,-165.9962, -999,     74.8,  -1.4449,  32.6427,2,  32.7692,2,    252.1,2,   -999.0,5,    39.62,2,    13.55,2,     0.09,2,     2.05,2,     0.06,2,     0.17,2,    1.055,2,  -1.4464,20030919, 203
  32H120030911,    41,  1,    102,      2,2,20030919, 159, 73.7525,-165.9962, -999,     98.0,  -1.5802,  32.9068,2,  33.1779,2,    245.4,2,   -999.0,9,    41.70,2,    13.98,2,     0.09,2,     1.92,2,     0.07,2,     0.18,2,    1.064,2,  -1.5821,20030919, 201
  32H120030911,    41,  1,    101,      1,2,20030919, 159, 73.7525,-165.9962, -999,    118.1,  -0.7547,  33.9813,2,  33.9437,2,    224.0,2,    237.8,2,    39.24,2,    14.11,2,     0.10,2,     1.75,2,     0.16,2,     0.29,2,    1.091,2,  -0.7581,20030919, 159
  32H120030911,    42,  1,    106,      6,2,20030919, 310, 73.6732,-166.0012, -999,     12.1,  -0.9813,  29.0556,2,  29.1416,2,    350.0,2,    374.2,2,     6.86,2,     0.12,2,     0.00,2,     0.71,2,     0.29,2,     0.07,2,    1.215,2,  -0.9815,20030919, 320
  32H120030911,    42,  1,    105,      5,2,20030919, 310, 73.6732,-166.0012, -999,     30.5,  -1.2675,  31.0522,2,  31.4700,2,    337.9,2,    343.4,2,    19.07,2,     5.51,2,     0.06,2,     1.37,2,     0.67,2,     0.18,2,    1.708,2,  -1.2681,20030919, 318
  32H120030911,    42,  1,    104,      4,2,20030919, 310, 73.6732,-166.0012, -999,     49.9,  -1.3561,  32.1891,2,  32.2726,2,    297.1,2,    305.1,2,    31.66,2,     9.76,2,     0.06,2,     1.67,2,     0.10,2,     0.17,2,    1.150,2,  -1.3571,20030919, 316
  32H120030911,    42,  1,    103,      3,2,20030919, 310, 73.6732,-166.0012, -999,     72.7,  -1.5444,  32.6634,2,  32.7645,2,    245.3,2,    262.4,2,    46.24,2,    14.27,2,     0.05,2,     2.00,2,     0.06,2,     0.11,2,    1.000,2,  -1.5458,20030919, 314
  32H120030911,    42,  1,    102,      2,2,20030919, 310, 73.6732,-166.0012, -999,     89.9,  -1.5107,  33.0471,2,  33.2273,2,    257.3,2,    270.2,2,    39.22,2,    13.76,2,     0.04,2,     1.78,2,     0.06,2,     0.13,2,    0.934,2,  -1.5125,20030919, 312
  32H120030911,    42,  1,    101,      1,2,20030919, 310, 73.6732,-166.0012, -999,    111.6,  -0.9843,  33.8210,2,  33.7575,2,    212.3,2,    227.0,2,    44.85,2,    14.19,2,     0.03,2,     1.87,2,     0.14,2,     0.20,2,    1.043,2,  -0.9872,20030919, 310
  32H120030911,    43,  1,    106,      6,2,20030919, 433, 73.6063,-166.0352, -999,     10.6,  -1.1360,  29.0156,2,  29.0828,2,    353.4,2,    377.8,2,     6.38,2,     0.07,2,     0.00,2,     0.71,2,     0.28,2,     0.07,2,    1.197,2,  -1.1362,20030919, 442
  32H120030911,    43,  1,    105,      5,2,20030919, 433, 73.6063,-166.0352, -999,     25.5,  -1.4145,  31.3361,2,  31.7369,2,    321.3,2,    321.7,2,    25.70,2,     7.90,2,     0.09,2,     1.55,2,     0.70,2,     0.22,2,    1.739,2,  -1.4149,20030919, 441
  32H120030911,    43,  1,    104,      4,2,20030919, 433, 73.6063,-166.0352, -999,     40.9,  -1.5470,  31.9537,2,  32.0710,2,    287.2,2,    303.1,2,    34.58,2,    10.15,2,     0.09,2,     1.66,2,     0.10,2,     0.22,2,    1.150,2,  -1.5477,20030919, 439
  32H120030911,    43,  1,    103,      3,2,20030919, 433, 73.6063,-166.0352, -999,     60.6,  -1.4997,  32.5735,2,  32.6126,2,    239.1,2,    255.9,2,    49.33,2,    14.31,2,     0.05,2,     2.06,2,  -999.00,9,  -999.00,9,    1.020,2,  -1.5008,20030919, 437
  32H120030911,    43,  1,    102,      2,2,20030919, 433, 73.6063,-166.0352, -999,     79.5,  -1.6196,  32.7962,2,  32.8303,2,    233.0,2,    250.0,2,    43.72,2,    13.65,2,     0.09,2,     2.16,2,     0.16,2,     0.23,2,    1.165,2,  -1.6211,20030919, 435
  32H120030911,    43,  1,    101,      1,2,20030919, 433, 73.6063,-166.0352, -999,    103.3,  -1.5055,  33.0503,2,  32.8904,2,    246.0,2,    256.9,2,    44.27,2,    14.14,2,     0.09,2,     2.08,2,     0.11,2,     0.18,2,    1.053,2,  -1.5075,20030919, 433
  32H120030911,    44,  1,    106,      6,2,20030919, 550, 73.5077,-165.9978, -999,     11.9,  -1.1550,  28.8742,2,  29.3629,2,    352.9,2,    380.3,2,     6.12,2,     0.22,2,     0.00,2,     0.75,2,     0.27,2,     0.06,2,    1.168,2,  -1.1552,20030919, 559
  32H120030911,    44,  1,    105,      5,2,20030919, 550, 73.5077,-165.9978, -999,     18.4,  -1.1533,  28.9458,2,  30.1184,2,    351.5,2,    384.4,2,     7.34,2,     0.46,2,     0.00,2,     0.82,2,     0.31,2,     0.09,2,    1.181,2,  -1.1536,20030919, 558
  32H120030911,    44,  1,    104,      4,2,20030919, 550, 73.5077,-165.9978, -999,     30.6,  -1.4234,  32.3927,2,  32.4847,2,    285.0,2,    293.6,2,    29.48,2,    11.78,2,     0.08,2,     1.80,2,  -999.00,9,  -999.00,9,    1.133,2,  -1.4240,20030919, 556
  32H120030911,    44,  1,    103,      3,2,20030919, 550, 73.5077,-165.9978, -999,     51.7,  -1.6046,  32.7659,2,  32.7677,2,    235.8,2,    250.0,2,    36.71,2,    12.54,2,     0.09,2,     2.10,2,     0.10,2,     0.18,2,    1.119,2,  -1.6055,20030919, 554
  32H120030911,    44,  1,    102,      2,2,20030919, 550, 73.5077,-165.9978, -999,     68.1,  -1.6072,  32.7696,2,  32.7719,2,    234.5,2,    248.7,2,    37.69,2,    12.59,2,     0.09,2,     2.11,2,     0.13,2,     0.20,2,    1.150,2,  -1.6084,20030919, 552
  32H120030911,    44,  1,    101,      1,2,20030919, 550, 73.5077,-165.9978, -999,     87.8,  -1.6072,  32.7709,2,  32.7740,2,    234.8,2,    250.0,2,    38.02,2,    12.59,2,     0.10,2,     2.12,2,     0.09,2,     0.19,2,    1.140,2,  -1.6088,20030919, 550
  32H120030911,    45,  1,    105,      5,2,20030919, 702, 73.4260,-165.9980, -999,     10.8,  -1.2320,  28.8591,2,  28.9885,2,    353.8,2,    379.2,2,     5.64,2,     0.02,2,     0.00,2,     0.69,2,     0.28,2,     0.07,2,    1.193,2,  -1.2321,20030919, 710
  32H120030911,    45,  1,    104,      4,2,20030919, 702, 73.4260,-165.9980, -999,     23.4,  -0.9808,  31.7346,2,  31.8671,2,    382.3,2,    341.0,2,    14.55,2,     4.90,2,     0.04,2,     1.36,2,     0.30,2,     0.10,2,    1.263,2,  -0.9813,20030919, 708
  32H120030911,    45,  1,    103,      3,2,20030919, 702, 73.4260,-165.9980, -999,     40.5,  -1.5282,  32.7190,2,  32.7223,2,    245.3,2,    261.2,2,    27.56,2,    11.60,2,     0.10,2,     2.06,2,     0.07,2,     0.18,2,    1.057,2,  -1.5290,20030919, 706
  32H120030911,    45,  1,    102,      2,2,20030919, 702, 73.4260,-165.9980, -999,     58.7,  -1.5553,  32.7335,2,  32.7370,2,    241.3,2,    256.0,2,    29.85,2,    11.75,2,     0.10,2,     2.08,2,     0.08,2,     0.16,2,    1.061,2,  -1.5564,20030919, 704
  32H120030911,    45,  1,    101,      1,2,20030919, 702, 73.4260,-165.9980, -999,     76.3,  -1.5741,  32.7442,2,  32.7403,2,    238.7,2,    253.9,2,    30.62,2,    11.89,2,     0.10,2,     2.09,2,     0.09,2,     0.17,2,    1.067,2,  -1.5755,20030919, 702
  32H120030911,    46,  1,    105,      5,2,20030919, 907, 73.3358,-166.0507, -999,     11.0,  -1.0926,  29.1283,2,  29.2253,2,    350.6,2,    377.0,2,     7.76,2,     0.00,2,     0.00,2,     0.67,2,     0.40,2,     0.11,2,    1.295,2,  -1.0928,20030919, 913
  32H120030911,    46,  1,    104,      4,2,20030919, 907, 73.3358,-166.0507, -999,     22.7,  -0.0829,  31.9460,2,  32.0613,2,    361.6,2,    319.6,2,     7.52,2,     2.59,2,     0.04,2,     1.35,2,     0.17,2,     0.25,2,    1.413,2,  -0.0836,20030919, 912
  32H120030911,    46,  1,    103,      3,2,20030919, 907, 73.3358,-166.0507, -999,     32.8,  -0.3462,  32.4733,2,  32.4806,2,    287.1,2,    308.5,2,    12.15,2,     4.46,2,     0.08,2,     1.76,2,     0.16,2,     0.36,2,    1.219,2,  -0.3471,20030919, 910
  32H120030911,    46,  1,    102,      2,2,20030919, 907, 73.3358,-166.0507, -999,     47.1,  -0.5325,  32.4977,2,  32.5648,2,    286.2,2,    302.6,2,    13.47,2,     6.11,2,     0.08,2,     1.75,2,     0.14,2,     0.26,2,    1.198,2,  -0.5338,20030919, 909
  32H120030911,    46,  1,    101,      1,2,20030919, 907, 73.3358,-166.0507, -999,     67.7,  -1.4839,  32.7047,2,  32.6948,2,    241.5,2,    264.2,2,    25.32,2,    10.55,2,     0.09,2,     1.98,2,     0.09,2,     0.15,2,    1.127,2,  -1.4852,20030919, 907
  32H120030911,    47,  1,    106,      6,2,20030919,1045, 73.2622,-166.0017, -999,     10.2,  -0.8185,  29.3619,2,  29.9023,2,    349.3,2,    367.8,2,     8.95,2,     0.41,2,     0.00,2,     0.74,2,     0.26,2,     0.14,2,    1.259,2,  -0.8187,20030919,1052
  32H120030911,    47,  1,    105,      5,2,20030919,1045, 73.2622,-166.0017, -999,     20.5,  -0.0830,  30.0409,2,  31.3251,2,    344.6,2,    355.5,2,     7.50,2,     1.84,2,     0.02,2,     1.08,2,     0.22,2,     0.13,2,    1.332,2,  -0.0836,20030919,1050
  32H120030911,    47,  1,    104,      4,2,20030919,1045, 73.2622,-166.0017, -999,     32.4,  -0.6617,  32.4660,2,  32.4856,2,    298.9,2,   -999.0,9,     9.81,2,     4.15,2,     0.07,2,     1.65,2,     0.13,2,     0.25,2,    1.091,2,  -0.6625,20030919,1049
  32H120030911,    47,  1,    103,      3,2,20030919,1045, 73.2622,-166.0017, -999,     42.6,  -0.6159,  32.4983,2,  32.5237,2,    291.6,2,    309.1,2,    11.01,2,     4.67,2,     0.08,2,     1.72,2,     0.13,2,     0.30,2,    1.138,2,  -0.6170,20030919,1047
  32H120030911,    47,  1,    102,      2,2,20030919,1045, 73.2622,-166.0017, -999,     54.3,  -0.8883,  32.5518,2,  32.5723,2,    284.2,2,   -999.0,9,    12.22,2,     5.69,2,     0.08,2,     1.77,2,  -999.00,9,  -999.00,9,    1.141,2,  -0.8896,20030919,1046
  32H120030911,    47,  1,    101,      1,2,20030919,1045, 73.2622,-166.0017, -999,     63.4,  -1.1337,  32.5831,2,  32.5799,2,    283.8,2,    304.2,2,    12.11,2,     5.74,2,     0.08,2,     1.75,2,     0.08,2,     0.21,2,    1.071,2,  -1.1351,20030919,1045
  32H120030911,    48,  1,    106,      6,2,20030919,1205, 73.1808,-166.0025, -999,     11.7,  -0.8256,  29.4353,2,  29.4273,2,    348.3,2,   -999.0,9,    10.58,2,     0.00,2,     0.00,2,     0.66,2,     0.35,2,     0.11,2,    1.309,2,  -0.8258,20030919,1212
  32H120030911,    48,  1,    105,      5,2,20030919,1205, 73.1808,-166.0025, -999,     19.6,  -0.2387,  29.7296,2,  30.0162,2,    342.6,2,   -999.0,9,    10.57,2,     0.00,2,     0.00,2,     0.64,2,     0.29,2,     0.14,2,    1.345,2,  -0.2392,20030919,1210
  32H120030911,    48,  1,    104,      4,2,20030919,1205, 73.1808,-166.0025, -999,     29.8,  -0.7759,  32.3334,2,  32.4170,2,    359.0,2,    337.7,2,     6.89,2,     3.02,2,     0.05,2,     1.43,2,     0.18,2,     0.26,2,    1.075,2,  -0.7766,20030919,1209
  32H120030911,    48,  1,    103,      3,2,20030919,1205, 73.1808,-166.0025, -999,     39.4,  -0.4346,  32.4686,2,  32.4755,2,    292.9,2,    312.1,2,    10.98,2,     4.15,2,     0.08,2,     1.67,2,     0.21,2,     0.28,2,    1.167,2,  -0.4357,20030919,1208
  32H120030911,    48,  1,    102,      2,2,20030919,1205, 73.1808,-166.0025, -999,     50.1,  -0.4030,  32.4831,2,  32.4891,2,    288.7,2,    309.4,2,    11.86,2,     4.24,2,     0.09,2,     1.70,2,     0.21,2,     0.32,2,    1.182,2,  -0.4044,20030919,1207
  32H120030911,    48,  1,    101,      1,2,20030919,1205, 73.1808,-166.0025, -999,     59.3,  -0.4298,  32.4873,2,  32.4852,2,    288.6,2,    308.7,2,  -999.00,5,  -999.00,5,  -999.00,5,  -999.00,5,  -999.00,9,  -999.00,9,    1.210,2,  -0.4315,20030919,1205
  32H120030911,    49,  1,    106,      6,2,20030919,1342, 73.0967,-166.0002, -999,     12.0,  -0.5985,  29.5441,2,  29.5455,2,    346.8,2,   -999.0,9,     8.89,2,     0.02,2,     0.00,2,     0.61,2,     0.34,2,     0.12,2,    1.313,2,  -0.5987,20030919,1348
  32H120030911,    49,  1,    105,      5,2,20030919,1342, 73.0967,-166.0002, -999,     20.5,  -0.4765,  29.6195,2,  29.6315,2,    345.5,2,    370.6,2,     8.66,2,     0.02,2,     0.00,2,     0.60,2,     0.30,2,     0.15,2,    1.313,2,  -0.4769,20030919,1347
  32H120030911,    49,  1,    104,      4,2,20030919,1342, 73.0967,-166.0002, -999,     27.8,  -0.7792,  30.4449,2,  31.0327,2,    354.9,2,   -999.0,9,     6.32,2,     0.55,2,     0.01,2,     0.82,2,     0.31,2,     0.13,2,    1.360,2,  -0.7798,20030919,1346
  32H120030911,    49,  1,    103,      3,2,20030919,1342, 73.0967,-166.0002, -999,     37.0,  -0.3784,  32.4712,2,  32.4754,2,    292.0,2,   -999.0,9,    10.96,2,     4.15,2,     0.09,2,     1.63,2,     0.16,2,     0.23,2,    1.156,2,  -0.3794,20030919,1345
  32H120030911,    49,  1,    102,      2,2,20030919,1342, 73.0967,-166.0002, -999,     48.6,  -0.3901,  32.4743,2,  32.4775,2,    291.4,2,   -999.0,9,    11.72,2,     4.19,2,     0.09,2,     1.68,2,     0.21,2,     0.29,2,    1.189,2,  -0.3915,20030919,1344
  32H120030911,    49,  1,    101,      1,2,20030919,1342, 73.0967,-166.0002, -999,     57.1,  -0.4051,  32.4770,2,  32.4760,2,    290.8,2,   -999.0,9,    11.72,2,     4.23,2,     0.10,2,     1.69,2,  -999.00,9,  -999.00,9,    1.253,2,  -0.4067,20030919,1342