BOTTLE,20220815CCHSIOAMB
EXPOCODE,STNNBR,CASTNO,SAMPNO,BTLNBR,BTLNBR_FLAG_W,DATE,TIME,LATITUDE,LONGITUDE,DEPTH,CTDPRS,CTDTMP,CTDSAL,CTDSAL_FLAG_W,SALNTY,SALNTY_FLAG_W,CTDOXY,CTDOXY_FLAG_W,OXYGEN,OXYGEN_FLAG_W,SILCAT,SILCAT_FLAG_W,NITRAT,NITRAT_FLAG_W,NITRIT,NITRIT_FLAG_W,PHSPHT,PHSPHT_FLAG_W,CHLORA,CHLORA_FLAG_W,PHAEO,PHAEO_FLAG_W,FLUORO,FLUORO_FLAG_W,THETA,BTL_DATE,BTL_TIME
,,,,,,,,,,METERS,DBAR,ITS-90,PSS-78,,PSS-78,,UMOL/KG,,UMOL/KG,,UMOL/KG,,UMOL/KG,,UMOL/KG,,UMOL/KG,,UG/L,,UG/L,,VOLTS,,DEG C,,
  32H120030911,   174,  1,    113,     13,9,20031001, 340, 71.7058,-151.3807, -999,      9.4,   0.6203,  29.0368,2,-999.0000,9,    347.5,2,   -999.0,9,  -999.00,9,  -999.00,9,  -999.00,9,  -999.00,9,  -999.00,9,  -999.00,9,    1.240,2,   0.6200,20031001, 433
  32H120030911,   174,  1,    112,     12,9,20031001, 340, 71.7058,-151.3807, -999,     46.5,   1.2375,  31.3873,2,-999.0000,9,    332.0,2,   -999.0,9,  -999.00,9,  -999.00,9,  -999.00,9,  -999.00,9,  -999.00,9,  -999.00,9,    0.956,2,   1.2356,20031001, 429
  32H120030911,   174,  1,    111,     11,9,20031001, 340, 71.7058,-151.3807, -999,    104.8,  -1.4863,  32.5881,2,-999.0000,9,    258.8,2,   -999.0,9,  -999.00,9,  -999.00,9,  -999.00,9,  -999.00,9,  -999.00,9,  -999.00,9,    1.003,2,  -1.4883,20031001, 424
  32H120030911,   174,  1,    110,     10,9,20031001, 340, 71.7058,-151.3807, -999,    150.5,  -0.9998,  34.0168,2,-999.0000,9,    272.3,2,   -999.0,9,  -999.00,9,  -999.00,9,  -999.00,9,  -999.00,9,  -999.00,9,  -999.00,9,    0.669,2,  -1.0038,20031001, 420
  32H120030911,   174,  1,    109,      9,9,20031001, 340, 71.7058,-151.3807, -999,    198.9,   0.0167,  34.6088,2,-999.0000,9,    269.9,2,   -999.0,9,  -999.00,9,  -999.00,9,  -999.00,9,  -999.00,9,  -999.00,9,  -999.00,9,    0.555,2,   0.0093,20031001, 415
  32H120030911,   174,  1,    108,      8,9,20031001, 340, 71.7058,-151.3807, -999,    299.8,   0.6309,  34.7984,2,-999.0000,9,    279.2,2,   -999.0,9,  -999.00,9,  -999.00,9,  -999.00,9,  -999.00,9,  -999.00,9,  -999.00,9,    0.461,2,   0.6179,20031001, 410
  32H120030911,   174,  1,    107,      7,9,20031001, 340, 71.7058,-151.3807, -999,    400.2,   0.5809,  34.8340,2,-999.0000,9,    282.8,2,   -999.0,9,  -999.00,9,  -999.00,9,  -999.00,9,  -999.00,9,  -999.00,9,  -999.00,9,    0.427,2,   0.5633,20031001, 406
  32H120030911,   174,  1,    106,      6,9,20031001, 340, 71.7058,-151.3807, -999,    500.5,   0.4619,  34.8481,2,-999.0000,9,    284.9,2,   -999.0,9,  -999.00,9,  -999.00,9,  -999.00,9,  -999.00,9,  -999.00,9,  -999.00,9,    0.476,2,   0.4399,20031001, 401
  32H120030911,   174,  1,    105,      5,9,20031001, 340, 71.7058,-151.3807, -999,    600.8,   0.3576,  34.8583,2,-999.0000,9,    286.1,2,   -999.0,9,  -999.00,9,  -999.00,9,  -999.00,9,  -999.00,9,  -999.00,9,  -999.00,9,    0.446,2,   0.3312,20031001, 357
  32H120030911,   174,  1,    104,      4,9,20031001, 340, 71.7058,-151.3807, -999,    699.8,   0.2236,  34.8643,2,-999.0000,9,    286.8,2,   -999.0,9,  -999.00,9,  -999.00,9,  -999.00,9,  -999.00,9,  -999.00,9,  -999.00,9,    0.443,2,   0.1930,20031001, 352
  32H120030911,   174,  1,    103,      3,9,20031001, 340, 71.7058,-151.3807, -999,    801.0,   0.1132,  34.8705,2,-999.0000,9,    287.2,2,   -999.0,9,  -999.00,9,  -999.00,9,  -999.00,9,  -999.00,9,  -999.00,9,  -999.00,9,    0.450,2,   0.0782,20031001, 348
  32H120030911,   174,  1,    102,      2,9,20031001, 340, 71.7058,-151.3807, -999,    904.9,   0.0156,  34.8771,2,-999.0000,9,    287.6,2,   -999.0,9,  -999.00,9,  -999.00,9,  -999.00,9,  -999.00,9,  -999.00,9,  -999.00,9,    0.408,2,  -0.0241,20031001, 344
  32H120030911,   174,  1,    101,      1,9,20031001, 340, 71.7058,-151.3807, -999,   1008.7,  -0.0643,  34.8838,2,-999.0000,9,    287.6,2,   -999.0,9,  -999.00,9,  -999.00,9,  -999.00,9,  -999.00,9,  -999.00,9,  -999.00,9,    0.380,2,  -0.1088,20031001, 340
  32H120030911,   175,  1,    102,      2,9,20031001, 521, 71.7503,-151.3542, -999,    306.0,   0.5752,  34.8043,2,-999.0000,9,    278.3,2,   -999.0,9,  -999.00,9,  -999.00,9,  -999.00,9,  -999.00,9,  -999.00,9,  -999.00,9,    0.450,2,   0.5620,20031001, 529
  32H120030911,   175,  1,    101,      1,9,20031001, 521, 71.7503,-151.3542, -999,    600.2,   0.3625,  34.8572,2,-999.0000,9,    285.5,2,   -999.0,9,  -999.00,9,  -999.00,9,  -999.00,9,  -999.00,9,  -999.00,9,  -999.00,9,    0.367,2,   0.3361,20031001, 521
  32H120030911,   190,  1,    106,      6,9,20031002, 418, 71.3597,-152.1033, -999,     10.1,   1.5640,  29.7687,2,-999.0000,9,    335.1,2,   -999.0,9,  -999.00,9,  -999.00,9,  -999.00,9,  -999.00,9,  -999.00,9,  -999.00,9,    1.393,2,   1.5636,20031002, 440
  32H120030911,   190,  1,    105,      5,9,20031002, 418, 71.3597,-152.1033, -999,     19.9,   1.2220,  30.3402,2,-999.0000,9,    335.3,2,   -999.0,9,  -999.00,9,  -999.00,9,  -999.00,9,  -999.00,9,  -999.00,9,  -999.00,9,    1.150,2,   1.2212,20031002, 436
  32H120030911,   190,  1,    104,      4,9,20031002, 418, 71.3597,-152.1033, -999,     30.0,   2.9463,  30.9145,2,-999.0000,9,    310.1,2,   -999.0,9,  -999.00,9,  -999.00,9,  -999.00,9,  -999.00,9,  -999.00,9,  -999.00,9,    0.838,2,   2.9447,20031002, 432
  32H120030911,   190,  1,    103,      3,9,20031002, 418, 71.3597,-152.1033, -999,     40.3,   1.7791,  31.5109,2,-999.0000,9,    315.1,2,   -999.0,9,  -999.00,9,  -999.00,9,  -999.00,9,  -999.00,9,  -999.00,9,  -999.00,9,    0.877,2,   1.7773,20031002, 427
  32H120030911,   190,  1,    102,      2,9,20031002, 418, 71.3597,-152.1033, -999,     50.1,  -0.0435,  32.0461,2,-999.0000,9,    315.0,2,   -999.0,9,  -999.00,9,  -999.00,9,  -999.00,9,  -999.00,9,  -999.00,9,  -999.00,9,    0.986,2,  -0.0450,20031002, 423
  32H120030911,   190,  1,    101,      1,9,20031002, 418, 71.3597,-152.1033, -999,     62.9,  -0.5034,  32.1743,2,-999.0000,9,    312.0,2,   -999.0,9,  -999.00,9,  -999.00,9,  -999.00,9,  -999.00,9,  -999.00,9,  -999.00,9,    0.979,2,  -0.5051,20031002, 418
  32H120030911,   193,  1,    110,     10,9,20031002, 801, 71.4877,-151.9803, -999,     12.6,   1.0372,  30.4150,2,-999.0000,9,    337.5,2,   -999.0,9,  -999.00,9,  -999.00,9,  -999.00,9,  -999.00,9,  -999.00,9,  -999.00,9,    1.126,2,   1.0367,20031002, 838
  32H120030911,   193,  1,    109,      9,9,20031002, 801, 71.4877,-151.9803, -999,     48.8,   2.9372,  31.4478,2,-999.0000,9,    301.9,2,   -999.0,9,  -999.00,9,  -999.00,9,  -999.00,9,  -999.00,9,  -999.00,9,  -999.00,9,    0.873,2,   2.9345,20031002, 833
  32H120030911,   193,  1,    108,      8,9,20031002, 801, 71.4877,-151.9803, -999,    100.5,  -1.4755,  32.5727,2,-999.0000,9,    292.2,2,   -999.0,9,  -999.00,9,  -999.00,9,  -999.00,9,  -999.00,9,  -999.00,9,  -999.00,9,    0.807,2,  -1.4774,20031002, 828
  32H120030911,   193,  1,    107,      7,9,20031002, 801, 71.4877,-151.9803, -999,    162.6,  -0.0312,  34.5047,2,-999.0000,9,    265.8,2,   -999.0,9,  -999.00,9,  -999.00,9,  -999.00,9,  -999.00,9,  -999.00,9,  -999.00,9,    0.689,2,  -0.0371,20031002, 824
  32H120030911,   193,  1,    106,      6,9,20031002, 801, 71.4877,-151.9803, -999,    201.4,   0.3635,  34.7008,2,-999.0000,9,    271.1,2,   -999.0,9,  -999.00,9,  -999.00,9,  -999.00,9,  -999.00,9,  -999.00,9,  -999.00,9,    0.587,2,   0.3554,20031002, 819
  32H120030911,   193,  1,    105,      5,9,20031002, 801, 71.4877,-151.9803, -999,    220.4,   0.5042,  34.7443,2,-999.0000,9,    274.8,2,   -999.0,9,  -999.00,9,  -999.00,9,  -999.00,9,  -999.00,9,  -999.00,9,  -999.00,9,    0.527,2,   0.4950,20031002, 814
  32H120030911,   193,  1,    104,      4,9,20031002, 801, 71.4877,-151.9803, -999,    241.1,   0.5234,  34.7577,2,-999.0000,9,    276.0,2,   -999.0,9,  -999.00,9,  -999.00,9,  -999.00,9,  -999.00,9,  -999.00,9,  -999.00,9,    0.528,2,   0.5133,20031002, 809
  32H120030911,   193,  1,    103,      3,9,20031002, 801, 71.4877,-151.9803, -999,    260.1,   0.5361,  34.7636,2,-999.0000,9,    275.8,2,   -999.0,9,  -999.00,9,  -999.00,9,  -999.00,9,  -999.00,9,  -999.00,9,  -999.00,9,    0.551,2,   0.5251,20031002, 805
  32H120030911,   193,  1,    101,      1,9,20031002, 801, 71.4877,-151.9803, -999,    270.4,   0.5556,  34.7995,2,-999.0000,9,    278.1,2,   -999.0,9,  -999.00,9,  -999.00,9,  -999.00,9,  -999.00,9,  -999.00,9,  -999.00,9,    0.585,2,   0.5441,20031002, 801
  32H120030911,   193,  1,    102,      2,9,20031002, 801, 71.4877,-151.9803, -999,    270.4,   0.5557,  34.7996,2,-999.0000,9,    278.0,2,   -999.0,9,  -999.00,9,  -999.00,9,  -999.00,9,  -999.00,9,  -999.00,9,  -999.00,9,    0.566,2,   0.5442,20031002, 801
  32H120030911,   195,  1,    109,      9,9,20031002,1054, 71.5758,-151.9100, -999,     13.3,   0.2928,  29.2867,2,-999.0000,9,    349.6,2,   -999.0,9,  -999.00,9,  -999.00,9,  -999.00,9,  -999.00,9,  -999.00,9,  -999.00,9,    1.342,2,   0.2924,20031002,1133
  32H120030911,   195,  1,    108,      8,9,20031002,1054, 71.5758,-151.9100, -999,    102.3,  -1.4835,  32.6250,2,-999.0000,9,    284.7,2,   -999.0,9,  -999.00,9,  -999.00,9,  -999.00,9,  -999.00,9,  -999.00,9,  -999.00,9,    0.766,2,  -1.4855,20031002,1127
  32H120030911,   195,  1,    107,      7,9,20031002,1054, 71.5758,-151.9100, -999,    199.7,  -0.2413,  34.4538,2,-999.0000,9,    267.3,2,   -999.0,9,  -999.00,9,  -999.00,9,  -999.00,9,  -999.00,9,  -999.00,9,  -999.00,9,    0.617,2,  -0.2482,20031002,1123
  32H120030911,   195,  1,    106,      6,9,20031002,1054, 71.5758,-151.9100, -999,    299.1,   0.5683,  34.7763,2,-999.0000,9,    275.9,2,   -999.0,9,  -999.00,9,  -999.00,9,  -999.00,9,  -999.00,9,  -999.00,9,  -999.00,9,    0.517,2,   0.5555,20031002,1118
  32H120030911,   195,  1,    105,      5,2,20031002,1054, 71.5758,-151.9100, -999,    400.7,   0.5843,  34.8145,2,  34.8160,2,    279.8,2,   -999.0,9,  -999.00,9,  -999.00,9,  -999.00,9,  -999.00,9,  -999.00,9,  -999.00,9,    0.540,2,   0.5667,20031002,1113
  32H120030911,   195,  1,    104,      4,2,20031002,1054, 71.5758,-151.9100, -999,    500.1,   0.5394,  34.8356,2,  34.8403,2,    282.6,2,   -999.0,9,  -999.00,9,  -999.00,9,  -999.00,9,  -999.00,9,  -999.00,9,  -999.00,9,    0.515,2,   0.5171,20031002,1108
  32H120030911,   195,  1,    103,      3,2,20031002,1054, 71.5758,-151.9100, -999,    598.7,   0.4529,  34.8475,2,  34.8527,2,    284.1,2,   -999.0,9,  -999.00,9,  -999.00,9,  -999.00,9,  -999.00,9,  -999.00,9,  -999.00,9,    0.497,2,   0.4261,20031002,1104
  32H120030911,   195,  1,    102,      2,2,20031002,1054, 71.5758,-151.9100, -999,    696.9,   0.3476,  34.8574,2,  34.8620,2,    285.7,2,   -999.0,9,  -999.00,9,  -999.00,9,  -999.00,9,  -999.00,9,  -999.00,9,  -999.00,9,    0.431,2,   0.3164,20031002,1059
  32H120030911,   195,  1,    101,      1,2,20031002,1054, 71.5758,-151.9100, -999,    831.0,   0.1766,  34.8672,2,  34.8710,2,    286.2,2,   -999.0,9,  -999.00,9,  -999.00,9,  -999.00,9,  -999.00,9,  -999.00,9,  -999.00,9,    0.367,2,   0.1396,20031002,1054
  32H120030911,   210,  1,    104,      4,2,20031006, 636, 71.2287,-152.2117, -999,     10.4,   1.9994,  29.9405,2,  29.8863,2,    331.0,2,    339.8,2,     6.45,2,     0.00,2,     0.01,2,     0.67,2,     0.34,2,     0.18,2,    1.273,2,   1.9989,20031006, 642
  32H120030911,   210,  1,    103,      3,2,20031006, 636, 71.2287,-152.2117, -999,     18.1,   2.1594,  30.3787,2,  30.3435,2,    326.4,2,    334.9,2,     6.15,2,     0.04,2,     0.01,2,     0.69,2,     0.19,2,     0.14,2,    1.076,2,   2.1586,20031006, 640
  32H120030911,   210,  1,    102,      2,2,20031006, 636, 71.2287,-152.2117, -999,     25.8,   2.3589,  30.5243,2,  30.5458,2,    322.0,2,    329.2,2,     6.39,2,     0.12,2,     0.02,2,     0.74,2,     0.10,2,     0.12,2,    0.995,2,   2.3577,20031006, 638
  32H120030911,   210,  1,    101,      1,2,20031006, 636, 71.2287,-152.2117, -999,     37.2,   2.1453,  31.0001,2,  30.5731,2,    314.9,2,    329.6,2,     6.65,2,     0.10,2,     0.03,2,     0.76,2,     0.10,2,     0.12,2,    0.923,2,   2.1436,20031006, 636
  32H120030911,   211,  1,    104,      4,2,20031006, 813, 71.2720,-152.1643, -999,      7.9,   1.4915,  29.3019,2,  29.3860,2,    336.5,2,    346.9,2,     7.09,2,     0.00,2,     0.02,2,     0.67,2,     0.42,2,     0.15,2,    1.410,2,   1.4912,20031006, 819
  32H120030911,   211,  1,    103,      3,2,20031006, 813, 71.2720,-152.1643, -999,     20.0,   1.9316,  30.1007,2,  30.1846,2,    330.2,2,    339.5,2,     6.13,2,    -0.01,2,     0.01,2,     0.69,2,     0.22,2,     0.12,2,    1.184,2,   1.9307,20031006, 817
  32H120030911,   211,  1,    102,      2,2,20031006, 813, 71.2720,-152.1643, -999,     34.9,   2.3531,  30.6683,2,  30.6666,2,    321.0,2,    331.7,2,     5.73,2,     0.03,2,     0.02,2,     0.74,2,     0.09,2,     0.10,2,    1.044,2,   2.3514,20031006, 815
  32H120030911,   211,  1,    101,      1,2,20031006, 813, 71.2720,-152.1643, -999,     45.3,   1.9885,  31.2566,2,  31.0084,2,    314.5,2,    324.8,2,     5.97,2,     0.25,2,     0.04,2,     0.78,2,     0.06,2,     0.10,2,    0.916,2,   1.9864,20031006, 813
  32H120030911,   212,  1,    104,      4,2,20031008, 517, 71.2287,-152.2038, -999,      6.2,   1.4004,  29.3423,2,  29.4313,2,    333.7,2,   -999.0,5,     9.25,2,     0.17,3,     0.30,4,     1.51,2,     0.55,2,     0.40,2,    1.367,2,   1.4002,20031008, 523
  32H120030911,   212,  1,    103,      3,2,20031008, 517, 71.2287,-152.2038, -999,     15.1,   1.1551,  31.5099,2,  31.4631,2,    316.1,2,    326.2,2,    10.68,2,     2.58,3,     0.27,4,     1.30,2,     0.16,2,     0.38,2,    1.025,2,   1.1545,20031008, 521
  32H120030911,   212,  1,    102,      2,2,20031008, 517, 71.2287,-152.2038, -999,     24.7,   0.9379,  31.6318,2,  31.6628,2,    314.7,2,    324.9,2,    11.94,2,     3.27,3,     0.31,4,     1.41,2,     0.12,2,     0.39,2,    0.977,2,   0.9370,20031008, 519
  32H120030911,   212,  1,    101,      1,2,20031008, 517, 71.2287,-152.2038, -999,     37.7,   0.3676,  31.9277,2,  31.9102,2,    310.9,2,   -999.0,5,    14.04,2,     4.49,3,     0.41,4,     1.89,2,     0.20,2,     0.52,2,    1.078,2,   0.3663,20031008, 517
  32H120030911,   213,  1,    104,      4,2,20031008, 614, 71.2713,-152.1658, -999,      6.4,   1.9476,  30.1587,2,  30.1456,2,    327.3,2,   -999.0,5,     7.84,2,     0.23,3,     0.18,4,     1.39,2,     0.30,2,     0.45,2,    1.227,2,   1.9473,20031008, 622
  32H120030911,   213,  1,    103,      3,2,20031008, 614, 71.2713,-152.1658, -999,     19.9,   2.0226,  30.3766,2,  30.5197,2,    325.4,2,   -999.0,5,     8.20,2,     0.37,3,     0.44,4,     1.37,2,     0.20,2,     0.43,2,    1.196,2,   2.0217,20031008, 619
  32H120030911,   213,  1,    102,      2,2,20031008, 614, 71.2713,-152.1658, -999,     34.9,   0.3358,  31.9329,2,  31.9373,2,    310.1,2,    319.0,2,    14.34,2,     4.74,3,     0.45,4,     1.52,2,     0.09,2,     0.34,2,    0.977,2,   0.3346,20031008, 617
  32H120030911,   213,  1,    101,      1,2,20031008, 614, 71.2713,-152.1658, -999,     46.1,  -0.7506,  32.8912,2,  32.3364,2,    295.2,2,    306.3,2,    18.66,2,     7.54,3,     0.47,4,     1.68,2,     0.08,2,     0.33,2,    0.910,2,  -0.7517,20031008, 614
  32H120030911,   214,  1,    104,      4,2,20031008, 742, 71.3150,-152.1283, -999,      6.3,   1.8416,  30.2853,2,  30.2941,2,    328.4,2,    338.8,2,     6.75,2,     0.32,3,     0.07,4,     0.93,2,     0.24,2,     0.18,2,    1.166,2,   1.8413,20031008, 749
  32H120030911,   214,  1,    103,      3,2,20031008, 742, 71.3150,-152.1283, -999,     20.0,   1.8698,  30.2963,2,  30.3305,2,    328.0,2,    338.0,2,     6.99,2,    -0.01,3,     0.37,4,     0.84,2,     0.22,2,     0.19,2,    1.174,2,   1.8689,20031008, 747
  32H120030911,   214,  1,    102,      2,2,20031008, 742, 71.3150,-152.1283, -999,     39.9,   0.8870,  31.8013,2,  32.2450,2,    313.3,2,    312.2,2,    15.22,2,     6.05,3,     0.39,4,     1.21,2,     0.06,2,     0.10,2,    0.952,2,   0.8855,20031008, 745
  32H120030911,   214,  1,    101,      1,2,20031008, 742, 71.3150,-152.1283, -999,     56.6,  -0.8537,  33.5388,2,  33.4538,2,    276.1,2,    285.7,2,    23.42,2,    12.35,3,     0.40,4,     1.45,2,     0.03,2,     0.11,2,    0.809,2,  -0.8552,20031008, 742
  32H120030911,   215,  1,    105,      5,2,20031008, 850, 71.3588,-152.0937, -999,      6.5,   1.5468,  29.6911,2,  29.6937,2,    336.1,2,    346.2,2,     6.39,2,     0.03,3,     0.02,4,     0.70,2,     0.42,2,     0.11,2,    1.327,2,   1.5465,20031008, 900
  32H120030911,   215,  1,    104,      4,2,20031008, 850, 71.3588,-152.0937, -999,     19.7,   1.5418,  29.6933,2,  29.8753,2,    336.3,2,    346.1,2,     6.33,2,     0.03,3,     0.03,4,     0.74,2,     0.37,2,     0.10,2,    1.469,2,   1.5410,20031008, 858
  32H120030911,   215,  1,    103,      3,2,20031008, 850, 71.3588,-152.0937, -999,     34.6,   2.0387,  31.1878,2,  31.2524,2,    326.4,2,    338.6,2,     6.92,2,     0.28,3,     0.37,4,     0.91,2,     0.06,2,     0.08,2,    0.889,2,   2.0371,20031008, 856
  32H120030911,   215,  1,    102,      2,2,20031008, 850, 71.3588,-152.0937, -999,     50.1,   0.3927,  31.9409,2,  31.8945,2,    311.6,2,    326.9,2,    11.88,2,     3.47,3,     0.44,4,     1.25,2,     0.04,2,     0.08,2,    0.884,2,   0.3910,20031008, 854
  32H120030911,   215,  1,    101,      1,2,20031008, 850, 71.3588,-152.0937, -999,     75.6,  -1.0724,  32.9172,2,  32.6784,2,    284.6,2,    298.2,2,    22.16,2,     9.48,3,     0.43,4,     1.62,2,     0.03,2,     0.11,2,    0.841,2,  -1.0741,20031008, 850
  32H120030911,   216,  1,    107,      7,2,20031008,1041, 71.4025,-152.0572, -999,      7.1,   1.4090,  29.6231,2,  29.6415,2,    337.5,2,    348.3,2,     6.63,2,     0.05,3,     0.02,4,     0.74,2,     0.36,2,     0.16,2,    1.316,2,   1.4087,20031008,1054
  32H120030911,   216,  1,    106,      6,2,20031008,1041, 71.4025,-152.0572, -999,     22.2,   1.4155,  29.6850,2,  29.9173,2,    338.3,2,    349.4,2,     6.50,2,     0.05,3,     0.01,4,     0.73,2,     0.25,2,     0.16,2,    1.312,2,   1.4146,20031008,1052
  32H120030911,   216,  1,    105,      5,2,20031008,1041, 71.4025,-152.0572, -999,     50.4,   0.8259,  31.7697,2,  31.7915,2,    310.3,2,    320.3,2,    12.05,2,     3.85,3,     0.11,4,     1.19,2,     0.06,2,     0.10,2,    0.902,2,   0.8240,20031008,1050
  32H120030911,   216,  1,    104,      4,2,20031008,1041, 71.4025,-152.0572, -999,     75.1,  -0.2155,  32.1274,2,  32.1416,2,    311.5,2,    322.2,2,    14.75,2,     5.61,3,     0.15,4,     1.36,2,     0.05,2,     0.09,2,    0.901,2,  -0.2177,20031008,1048
  32H120030911,   216,  1,    103,      3,2,20031008,1041, 71.4025,-152.0572, -999,    100.1,  -0.9318,  33.1989,2,  33.1955,2,    279.3,2,    287.4,2,    24.02,2,    12.05,3,     0.11,4,     1.62,2,     0.03,2,     0.10,2,    0.843,2,  -0.9343,20031008,1046
  32H120030911,   216,  1,    102,      2,2,20031008,1041, 71.4025,-152.0572, -999,    125.5,  -0.0865,  34.4446,2,  34.4345,2,    272.9,2,    282.1,2,    15.68,2,    13.11,3,     0.06,4,     1.22,2,     0.03,2,     0.11,2,    0.756,2,  -0.0909,20031008,1044
  32H120030911,   216,  1,    101,      1,2,20031008,1041, 71.4025,-152.0572, -999,    157.6,   0.1923,  34.6493,2,  34.6507,2,    275.6,2,    284.2,2,    11.98,2,    12.91,3,     0.06,4,     1.14,2,     0.07,2,     0.27,2,    0.908,2,   0.1863,20031008,1041