BOTTLE,20220815CCHSIOAMB
EXPOCODE,STNNBR,CASTNO,SAMPNO,BTLNBR,BTLNBR_FLAG_W,DATE,TIME,LATITUDE,LONGITUDE,DEPTH,CTDPRS,CTDTMP,CTDSAL,CTDSAL_FLAG_W,SALNTY,SALNTY_FLAG_W,CTDOXY,CTDOXY_FLAG_W,OXYGEN,OXYGEN_FLAG_W,SILCAT,SILCAT_FLAG_W,NITRAT,NITRAT_FLAG_W,NITRIT,NITRIT_FLAG_W,PHSPHT,PHSPHT_FLAG_W,CHLORA,CHLORA_FLAG_W,PHAEO,PHAEO_FLAG_W,FLUORO,FLUORO_FLAG_W,THETA,BTL_DATE,BTL_TIME
,,,,,,,,,,METERS,DBAR,ITS-90,PSS-78,,PSS-78,,UMOL/KG,,UMOL/KG,,UMOL/KG,,UMOL/KG,,UMOL/KG,,UMOL/KG,,UG/L,,UG/L,,VOLTS,,DEG C,,
  32H120030911,   120,  1,    110,     10,2,20030925, 921, 71.8258,-151.6825, -999,     99.9,  -1.2973,  32.4046,2,  32.4187,2,    299.0,2,   -999.0,9,  -999.00,9,  -999.00,9,  -999.00,9,  -999.00,9,  -999.00,9,  -999.00,9,    0.886,2,  -1.2994,20030925, 955
  32H120030911,   120,  1,    109,      9,2,20030925, 921, 71.8258,-151.6825, -999,    200.7,  -0.3237,  34.4255,2,  34.4379,2,    267.7,2,   -999.0,9,  -999.00,9,  -999.00,9,  -999.00,9,  -999.00,9,  -999.00,9,  -999.00,9,    0.682,2,  -0.3305,20030925, 951
  32H120030911,   120,  1,    108,      8,2,20030925, 921, 71.8258,-151.6825, -999,    301.3,   0.5291,  34.7705,2,  34.7741,2,    277.9,2,   -999.0,9,  -999.00,9,  -999.00,9,  -999.00,9,  -999.00,9,  -999.00,9,  -999.00,9,    0.462,2,   0.5163,20030925, 947
  32H120030911,   120,  1,    107,      7,2,20030925, 921, 71.8258,-151.6825, -999,    400.3,   0.5785,  34.8242,2,  34.8266,2,    283.3,2,   -999.0,9,  -999.00,9,  -999.00,9,  -999.00,9,  -999.00,9,  -999.00,9,  -999.00,9,    0.492,2,   0.5609,20030925, 943
  32H120030911,   120,  1,    106,      6,2,20030925, 921, 71.8258,-151.6825, -999,    500.5,   0.5011,  34.8447,2,  34.8477,2,    286.1,2,   -999.0,9,  -999.00,9,  -999.00,9,  -999.00,9,  -999.00,9,  -999.00,9,  -999.00,9,    0.478,2,   0.4790,20030925, 940
  32H120030911,   120,  1,    105,      5,2,20030925, 921, 71.8258,-151.6825, -999,    600.0,   0.3919,  34.8555,2,  34.8589,2,    286.9,2,   -999.0,9,  -999.00,9,  -999.00,9,  -999.00,9,  -999.00,9,  -999.00,9,  -999.00,9,    0.453,2,   0.3654,20030925, 936
  32H120030911,   120,  1,    104,      4,2,20030925, 921, 71.8258,-151.6825, -999,    699.8,   0.2623,  34.8621,2,  34.8650,2,    288.4,2,   -999.0,9,  -999.00,9,  -999.00,9,  -999.00,9,  -999.00,9,  -999.00,9,  -999.00,9,    0.434,2,   0.2315,20030925, 932
  32H120030911,   120,  1,    103,      3,2,20030925, 921, 71.8258,-151.6825, -999,    799.9,   0.1421,  34.8682,2,  34.8717,2,    289.2,2,   -999.0,9,  -999.00,9,  -999.00,9,  -999.00,9,  -999.00,9,  -999.00,9,  -999.00,9,    0.471,2,   0.1069,20030925, 928
  32H120030911,   120,  1,    102,      2,2,20030925, 921, 71.8258,-151.6825, -999,    900.0,   0.0601,  34.8738,2,  34.8770,2,    288.8,2,   -999.0,9,  -999.00,9,  -999.00,9,  -999.00,9,  -999.00,9,  -999.00,9,  -999.00,9,    0.494,2,   0.0203,20030925, 924
  32H120030911,   120,  1,    101,      1,2,20030925, 921, 71.8258,-151.6825, -999,   1003.2,  -0.0255,  34.8806,2,  34.8845,2,    288.9,2,   -999.0,9,  -999.00,9,  -999.00,9,  -999.00,9,  -999.00,9,  -999.00,9,  -999.00,9,    0.437,2,  -0.0701,20030925, 921
  32H120030911,   122,  1,    112,     12,9,20030926, 630, 71.8273,-151.6837, -999,     14.2,   0.3887,  29.3699,2,-999.0000,9,    351.0,2,   -999.0,9,  -999.00,9,  -999.00,9,  -999.00,9,  -999.00,9,  -999.00,9,  -999.00,9,    1.347,2,   0.3883,20030926, 733
  32H120030911,   122,  1,    111,     11,9,20030926, 630, 71.8273,-151.6837, -999,     40.2,   3.0594,  30.8984,2,-999.0000,9,    313.5,2,   -999.0,9,  -999.00,9,  -999.00,9,  -999.00,9,  -999.00,9,  -999.00,9,  -999.00,9,    0.949,2,   3.0572,20030926, 730
  32H120030911,   122,  1,    110,     10,2,20030926, 630, 71.8273,-151.6837, -999,    102.8,  -1.3792,  32.9922,2,  32.0699,2,    274.1,2,   -999.0,9,  -999.00,9,  -999.00,9,  -999.00,9,  -999.00,9,  -999.00,9,  -999.00,9,    0.891,2,  -1.3812,20030926, 725
  32H120030911,   122,  1,    109,      9,2,20030926, 630, 71.8273,-151.6837, -999,    143.3,  -1.2410,  33.8006,2,  33.7852,2,    275.1,2,   -999.0,9,  -999.00,9,  -999.00,9,  -999.00,9,  -999.00,9,  -999.00,9,  -999.00,9,    0.680,2,  -1.2445,20030926, 721
  32H120030911,   122,  1,    108,      8,2,20030926, 630, 71.8273,-151.6837, -999,    200.2,  -0.0219,  34.5830,2,  34.5804,2,    268.8,2,   -999.0,9,  -999.00,9,  -999.00,9,  -999.00,9,  -999.00,9,  -999.00,9,  -999.00,9,    0.600,2,  -0.0292,20030926, 717
  32H120030911,   122,  1,    107,      7,2,20030926, 630, 71.8273,-151.6837, -999,    302.3,   0.5743,  34.7822,2,  34.7836,2,    278.9,2,   -999.0,9,  -999.00,9,  -999.00,9,  -999.00,9,  -999.00,9,  -999.00,9,  -999.00,9,    0.541,2,   0.5613,20030926, 713
  32H120030911,   122,  1,    106,      6,2,20030926, 630, 71.8273,-151.6837, -999,    503.8,   0.5026,  34.8461,2,  34.8489,2,    284.7,2,   -999.0,9,  -999.00,9,  -999.00,9,  -999.00,9,  -999.00,9,  -999.00,9,  -999.00,9,    0.461,2,   0.4803,20030926, 708
  32H120030911,   122,  1,    105,      5,2,20030926, 630, 71.8273,-151.6837, -999,    702.6,   0.2696,  34.8617,2,  34.8636,2,    287.3,2,   -999.0,9,  -999.00,9,  -999.00,9,  -999.00,9,  -999.00,9,  -999.00,9,  -999.00,9,    0.508,2,   0.2386,20030926, 702
  32H120030911,   122,  1,    104,      4,2,20030926, 630, 71.8273,-151.6837, -999,    905.2,   0.0304,  34.8762,2,  34.8777,2,    287.7,2,   -999.0,9,  -999.00,9,  -999.00,9,  -999.00,9,  -999.00,9,  -999.00,9,  -999.00,9,    0.447,2,  -0.0094,20030926, 657
  32H120030911,   122,  1,    103,      3,2,20030926, 630, 71.8273,-151.6837, -999,   1302.2,  -0.2566,  34.9046,2,  34.9064,2,    286.8,2,   -999.0,9,  -999.00,9,  -999.00,9,  -999.00,9,  -999.00,9,  -999.00,9,  -999.00,9,    0.390,2,  -0.3155,20030926, 647
  32H120030911,   122,  1,    102,      2,2,20030926, 630, 71.8273,-151.6837, -999,   1699.0,  -0.3769,  34.9279,2,  34.9292,2,    281.7,2,   -999.0,9,  -999.00,9,  -999.00,9,  -999.00,9,  -999.00,9,  -999.00,9,  -999.00,9,    0.338,2,  -0.4581,20030926, 638
  32H120030911,   122,  1,    101,      1,2,20030926, 630, 71.8273,-151.6837, -999,   2001.5,  -0.4023,  34.9426,2,  34.9439,2,    276.7,2,   -999.0,9,  -999.00,9,  -999.00,9,  -999.00,9,  -999.00,9,  -999.00,9,  -999.00,9,    0.293,2,  -0.5028,20030926, 630
  32H120030911,   123,  1,    113,     13,9,20030926,1003, 71.6680,-151.8322, -999,     12.1,   0.6702,  29.9589,2,-999.0000,9,    347.7,2,   -999.0,9,  -999.00,9,  -999.00,9,  -999.00,9,  -999.00,9,  -999.00,9,  -999.00,9,    1.304,2,   0.6698,20030926,1056
  32H120030911,   123,  1,    112,     12,9,20030926,1003, 71.6680,-151.8322, -999,     40.8,   2.5155,  31.7112,2,-999.0000,9,    302.8,2,   -999.0,9,  -999.00,9,  -999.00,9,  -999.00,9,  -999.00,9,  -999.00,9,  -999.00,9,    1.044,2,   2.5134,20030926,1052
  32H120030911,   123,  1,    111,     11,9,20030926,1003, 71.6680,-151.8322, -999,    100.8,  -1.0023,  32.3309,2,-999.0000,9,    296.8,2,   -999.0,9,  -999.00,9,  -999.00,9,  -999.00,9,  -999.00,9,  -999.00,9,  -999.00,9,    1.001,2,  -1.0046,20030926,1047
  32H120030911,   123,  1,    110,     10,2,20030926,1003, 71.6680,-151.8322, -999,    152.0,  -1.3960,  32.7034,2,  32.7085,2,    264.3,2,   -999.0,9,  -999.00,9,  -999.00,9,  -999.00,9,  -999.00,9,  -999.00,9,  -999.00,9,    1.067,2,  -1.3992,20030926,1043
  32H120030911,   123,  1,    109,      9,2,20030926,1003, 71.6680,-151.8322, -999,    200.3,  -0.8229,  34.1922,2,  34.2325,2,    272.0,2,   -999.0,9,  -999.00,9,  -999.00,9,  -999.00,9,  -999.00,9,  -999.00,9,  -999.00,9,    0.651,2,  -0.8287,20030926,1038
  32H120030911,   123,  1,    108,      8,2,20030926,1003, 71.6680,-151.8322, -999,    302.7,   0.5763,  34.7864,2,  34.7903,2,    278.6,2,   -999.0,9,  -999.00,9,  -999.00,9,  -999.00,9,  -999.00,9,  -999.00,9,  -999.00,9,    0.523,2,   0.5633,20030926,1034
  32H120030911,   123,  1,    107,      7,2,20030926,1003, 71.6680,-151.8322, -999,    400.9,   0.5770,  34.8297,2,  34.8332,2,    282.9,2,   -999.0,9,  -999.00,9,  -999.00,9,  -999.00,9,  -999.00,9,  -999.00,9,  -999.00,9,    0.488,2,   0.5594,20030926,1029
  32H120030911,   123,  1,    106,      6,2,20030926,1003, 71.6680,-151.8322, -999,    498.9,   0.4960,  34.8449,2,  34.8595,2,    285.8,2,   -999.0,9,  -999.00,9,  -999.00,9,  -999.00,9,  -999.00,9,  -999.00,9,  -999.00,9,    0.489,2,   0.4739,20030926,1025
  32H120030911,   123,  1,    105,      5,2,20030926,1003, 71.6680,-151.8322, -999,    600.7,   0.4052,  34.8538,2,  34.8565,2,    286.4,2,   -999.0,9,  -999.00,9,  -999.00,9,  -999.00,9,  -999.00,9,  -999.00,9,  -999.00,9,    0.479,2,   0.3786,20030926,1020
  32H120030911,   123,  1,    104,      4,2,20030926,1003, 71.6680,-151.8322, -999,    702.9,   0.2883,  34.8607,2,  34.8638,2,    287.7,2,   -999.0,9,  -999.00,9,  -999.00,9,  -999.00,9,  -999.00,9,  -999.00,9,  -999.00,9,    0.445,2,   0.2572,20030926,1016
  32H120030911,   123,  1,    103,      3,2,20030926,1003, 71.6680,-151.8322, -999,    801.7,   0.1915,  34.8662,2,  34.8693,2,    288.5,2,   -999.0,9,  -999.00,9,  -999.00,9,  -999.00,9,  -999.00,9,  -999.00,9,  -999.00,9,    0.419,2,   0.1559,20030926,1012
  32H120030911,   123,  1,    102,      2,2,20030926,1003, 71.6680,-151.8322, -999,    898.8,   0.0839,  34.8724,2,  34.8746,2,    288.5,2,   -999.0,9,  -999.00,9,  -999.00,9,  -999.00,9,  -999.00,9,  -999.00,9,  -999.00,9,    0.423,2,   0.0440,20030926,1008
  32H120030911,   123,  1,    101,      1,2,20030926,1003, 71.6680,-151.8322, -999,   1001.6,  -0.0098,  34.8789,2,  34.8800,2,    289.6,2,   -999.0,9,  -999.00,9,  -999.00,9,  -999.00,9,  -999.00,9,  -999.00,9,  -999.00,9,    0.412,2,  -0.0544,20030926,1003
  32H120030911,   124,  1,    113,     13,9,20030927,1059, 71.6685,-151.8228, -999,     13.5,   1.1421,  30.4571,2,-999.0000,9,    341.6,2,   -999.0,9,  -999.00,9,  -999.00,9,  -999.00,9,  -999.00,9,  -999.00,9,  -999.00,9,    1.435,2,   1.1416,20030927,1146
  32H120030911,   124,  1,    112,     12,9,20030927,1059, 71.6685,-151.8228, -999,     60.9,   2.9724,  31.2349,2,-999.0000,9,    307.9,2,   -999.0,9,  -999.00,9,  -999.00,9,  -999.00,9,  -999.00,9,  -999.00,9,  -999.00,9,    0.937,2,   2.9691,20030927,1142
  32H120030911,   124,  1,    111,     11,9,20030927,1059, 71.6685,-151.8228, -999,    102.3,  -0.2476,  32.1317,2,-999.0000,9,    314.4,2,   -999.0,9,  -999.00,9,  -999.00,9,  -999.00,9,  -999.00,9,  -999.00,9,  -999.00,9,    1.020,2,  -0.2506,20030927,1138
  32H120030911,   124,  1,    110,     10,9,20030927,1059, 71.6685,-151.8228, -999,    140.8,  -1.4702,  32.6239,2,-999.0000,9,    267.1,2,   -999.0,9,  -999.00,9,  -999.00,9,  -999.00,9,  -999.00,9,  -999.00,9,  -999.00,9,    1.017,2,  -1.4730,20030927,1135
  32H120030911,   124,  1,    109,      9,9,20030927,1059, 71.6685,-151.8228, -999,    201.4,  -0.3110,  34.4616,2,-999.0000,9,    271.3,2,   -999.0,9,  -999.00,9,  -999.00,9,  -999.00,9,  -999.00,9,  -999.00,9,  -999.00,9,    0.661,2,  -0.3178,20030927,1130
  32H120030911,   124,  1,    108,      8,9,20030927,1059, 71.6685,-151.8228, -999,    301.3,   0.5894,  34.7834,2,-999.0000,9,    277.5,2,   -999.0,9,  -999.00,9,  -999.00,9,  -999.00,9,  -999.00,9,  -999.00,9,  -999.00,9,    0.568,2,   0.5764,20030927,1126
  32H120030911,   124,  1,    107,      7,9,20030927,1059, 71.6685,-151.8228, -999,    401.7,   0.6202,  34.8243,2,-999.0000,9,    283.2,2,   -999.0,9,  -999.00,9,  -999.00,9,  -999.00,9,  -999.00,9,  -999.00,9,  -999.00,9,    0.518,2,   0.6024,20030927,1122
  32H120030911,   124,  1,    106,      6,9,20030927,1059, 71.6685,-151.8228, -999,    501.2,   0.5120,  34.8398,2,-999.0000,9,    284.3,2,   -999.0,9,  -999.00,9,  -999.00,9,  -999.00,9,  -999.00,9,  -999.00,9,  -999.00,9,    0.492,2,   0.4898,20030927,1118
  32H120030911,   124,  1,    105,      5,9,20030927,1059, 71.6685,-151.8228, -999,    600.9,   0.4210,  34.8513,2,-999.0000,9,    286.1,2,   -999.0,9,  -999.00,9,  -999.00,9,  -999.00,9,  -999.00,9,  -999.00,9,  -999.00,9,    0.413,2,   0.3943,20030927,1114
  32H120030911,   124,  1,    104,      4,9,20030927,1059, 71.6685,-151.8228, -999,    700.8,   0.2898,  34.8600,2,-999.0000,9,    287.4,2,   -999.0,9,  -999.00,9,  -999.00,9,  -999.00,9,  -999.00,9,  -999.00,9,  -999.00,9,    0.471,2,   0.2588,20030927,1110
  32H120030911,   124,  1,    103,      3,9,20030927,1059, 71.6685,-151.8228, -999,    801.1,   0.2054,  34.8649,2,-999.0000,9,    288.2,2,   -999.0,9,  -999.00,9,  -999.00,9,  -999.00,9,  -999.00,9,  -999.00,9,  -999.00,9,    0.465,2,   0.1698,20030927,1107
  32H120030911,   124,  1,    102,      2,9,20030927,1059, 71.6685,-151.8228, -999,    901.5,   0.1127,  34.8701,2,-999.0000,9,    288.6,2,   -999.0,9,  -999.00,9,  -999.00,9,  -999.00,9,  -999.00,9,  -999.00,9,  -999.00,9,    0.437,2,   0.0725,20030927,1103
  32H120030911,   124,  1,    101,      1,9,20030927,1059, 71.6685,-151.8228, -999,   1001.6,   0.0199,  34.8767,2,-999.0000,9,    288.8,2,   -999.0,9,  -999.00,9,  -999.00,9,  -999.00,9,  -999.00,9,  -999.00,9,  -999.00,9,    0.391,2,  -0.0249,20030927,1059
  32H120030911,   125,  1,    113,     13,9,20030927,1344, 71.6658,-151.8220, -999,     14.1,   1.0162,  30.4121,2,-999.0000,9,    342.6,2,   -999.0,9,  -999.00,9,  -999.00,9,  -999.00,9,  -999.00,9,  -999.00,9,  -999.00,9,    1.381,2,   1.0157,20030927,1438
  32H120030911,   125,  1,    112,     12,9,20030927,1344, 71.6658,-151.8220, -999,     53.7,   2.9684,  31.1517,2,-999.0000,9,    310.0,2,   -999.0,9,  -999.00,9,  -999.00,9,  -999.00,9,  -999.00,9,  -999.00,9,  -999.00,9,    0.949,2,   2.9655,20030927,1434
  32H120030911,   125,  1,    111,     11,9,20030927,1344, 71.6658,-151.8220, -999,    102.5,   0.9425,  32.0867,2,-999.0000,9,    315.0,2,   -999.0,9,  -999.00,9,  -999.00,9,  -999.00,9,  -999.00,9,  -999.00,9,  -999.00,9,    1.092,2,   0.9385,20030927,1430
  32H120030911,   125,  1,    110,     10,9,20030927,1344, 71.6658,-151.8220, -999,    140.1,  -1.4928,  32.5796,2,-999.0000,9,    260.3,2,   -999.0,9,  -999.00,9,  -999.00,9,  -999.00,9,  -999.00,9,  -999.00,9,  -999.00,9,    1.054,2,  -1.4955,20030927,1426
  32H120030911,   125,  1,    109,      9,9,20030927,1344, 71.6658,-151.8220, -999,    200.1,  -0.1236,  34.4626,2,-999.0000,9,    267.7,2,   -999.0,9,  -999.00,9,  -999.00,9,  -999.00,9,  -999.00,9,  -999.00,9,  -999.00,9,    0.725,2,  -0.1307,20030927,1421
  32H120030911,   125,  1,    108,      8,9,20030927,1344, 71.6658,-151.8220, -999,    297.7,   0.5092,  34.7757,2,-999.0000,9,    277.3,2,   -999.0,9,  -999.00,9,  -999.00,9,  -999.00,9,  -999.00,9,  -999.00,9,  -999.00,9,    0.611,2,   0.4966,20030927,1417
  32H120030911,   125,  1,    107,      7,9,20030927,1344, 71.6658,-151.8220, -999,    397.4,   0.5605,  34.8231,2,-999.0000,9,    282.0,2,   -999.0,9,  -999.00,9,  -999.00,9,  -999.00,9,  -999.00,9,  -999.00,9,  -999.00,9,    0.568,2,   0.5431,20030927,1411
  32H120030911,   125,  1,    106,      6,9,20030927,1344, 71.6658,-151.8220, -999,    497.6,   0.5090,  34.8387,2,-999.0000,9,    283.8,2,   -999.0,9,  -999.00,9,  -999.00,9,  -999.00,9,  -999.00,9,  -999.00,9,  -999.00,9,    0.459,2,   0.4870,20030927,1406
  32H120030911,   125,  1,    105,      5,9,20030927,1344, 71.6658,-151.8220, -999,    598.5,   0.4159,  34.8513,2,-999.0000,9,    285.6,2,   -999.0,9,  -999.00,9,  -999.00,9,  -999.00,9,  -999.00,9,  -999.00,9,  -999.00,9,    0.479,2,   0.3893,20030927,1402
  32H120030911,   125,  1,    104,      4,9,20030927,1344, 71.6658,-151.8220, -999,    701.7,   0.2883,  34.8604,2,-999.0000,9,    287.3,2,   -999.0,9,  -999.00,9,  -999.00,9,  -999.00,9,  -999.00,9,  -999.00,9,  -999.00,9,    0.436,2,   0.2572,20030927,1357
  32H120030911,   125,  1,    103,      3,9,20030927,1344, 71.6658,-151.8220, -999,    799.3,   0.2109,  34.8650,2,-999.0000,9,    288.0,2,   -999.0,9,  -999.00,9,  -999.00,9,  -999.00,9,  -999.00,9,  -999.00,9,  -999.00,9,    0.452,2,   0.1753,20030927,1352
  32H120030911,   125,  1,    102,      2,9,20030927,1344, 71.6658,-151.8220, -999,    900.2,   0.1158,  34.8700,2,-999.0000,9,    288.5,2,   -999.0,9,  -999.00,9,  -999.00,9,  -999.00,9,  -999.00,9,  -999.00,9,  -999.00,9,    0.431,2,   0.0756,20030927,1348
  32H120030911,   125,  1,    101,      1,9,20030927,1344, 71.6658,-151.8220, -999,   1000.9,   0.0207,  34.8769,2,-999.0000,9,    288.7,2,   -999.0,9,  -999.00,9,  -999.00,9,  -999.00,9,  -999.00,9,  -999.00,9,  -999.00,9,    0.435,2,  -0.0241,20030927,1344
  32H120030911,   126,  1,    113,     13,9,20030928, 435, 71.6648,-151.8300, -999,     13.2,   0.4651,  28.3748,2,-999.0000,9,    354.3,2,   -999.0,9,  -999.00,9,  -999.00,9,  -999.00,9,  -999.00,9,  -999.00,9,  -999.00,9,    1.126,2,   0.4647,20030928, 523
  32H120030911,   126,  1,    112,     12,9,20030928, 435, 71.6648,-151.8300, -999,     54.3,   1.6028,  31.4290,2,-999.0000,9,    321.4,2,   -999.0,9,  -999.00,9,  -999.00,9,  -999.00,9,  -999.00,9,  -999.00,9,  -999.00,9,    1.110,2,   1.6005,20030928, 518
  32H120030911,   126,  1,    111,     11,9,20030928, 435, 71.6648,-151.8300, -999,    112.8,  -1.4392,  32.5199,2,-999.0000,9,    277.7,2,   -999.0,9,  -999.00,9,  -999.00,9,  -999.00,9,  -999.00,9,  -999.00,9,  -999.00,9,    0.989,2,  -1.4414,20030928, 513
  32H120030911,   126,  1,    110,     10,9,20030928, 435, 71.6648,-151.8300, -999,    153.2,  -0.8720,  33.7661,2,-999.0000,9,    265.6,2,   -999.0,9,  -999.00,9,  -999.00,9,  -999.00,9,  -999.00,9,  -999.00,9,  -999.00,9,    0.813,2,  -0.8762,20030928, 510
  32H120030911,   126,  1,    109,      9,9,20030928, 435, 71.6648,-151.8300, -999,    201.2,   0.1183,  34.6206,2,-999.0000,9,    269.8,2,   -999.0,9,  -999.00,9,  -999.00,9,  -999.00,9,  -999.00,9,  -999.00,9,  -999.00,9,    0.609,2,   0.1107,20030928, 507
  32H120030911,   126,  1,    108,      8,9,20030928, 435, 71.6648,-151.8300, -999,    299.6,   0.5886,  34.7831,2,-999.0000,9,    278.3,2,   -999.0,9,  -999.00,9,  -999.00,9,  -999.00,9,  -999.00,9,  -999.00,9,  -999.00,9,    0.533,2,   0.5757,20030928, 503
  32H120030911,   126,  1,    107,      7,9,20030928, 435, 71.6648,-151.8300, -999,    399.9,   0.6029,  34.8209,2,-999.0000,9,    281.6,2,   -999.0,9,  -999.00,9,  -999.00,9,  -999.00,9,  -999.00,9,  -999.00,9,  -999.00,9,    0.487,2,   0.5852,20030928, 459
  32H120030911,   126,  1,    106,      6,9,20030928, 435, 71.6648,-151.8300, -999,    498.5,   0.5194,  34.8376,2,-999.0000,9,    283.3,2,   -999.0,9,  -999.00,9,  -999.00,9,  -999.00,9,  -999.00,9,  -999.00,9,  -999.00,9,    0.499,2,   0.4973,20030928, 455
  32H120030911,   126,  1,    105,      5,9,20030928, 435, 71.6648,-151.8300, -999,    600.7,   0.3981,  34.8526,2,-999.0000,9,    285.7,2,   -999.0,9,  -999.00,9,  -999.00,9,  -999.00,9,  -999.00,9,  -999.00,9,  -999.00,9,    0.448,2,   0.3715,20030928, 451
  32H120030911,   126,  1,    104,      4,9,20030928, 435, 71.6648,-151.8300, -999,    701.2,   0.3061,  34.8594,2,-999.0000,9,    286.8,2,   -999.0,9,  -999.00,9,  -999.00,9,  -999.00,9,  -999.00,9,  -999.00,9,  -999.00,9,    0.443,2,   0.2749,20030928, 447
  32H120030911,   126,  1,    103,      3,9,20030928, 435, 71.6648,-151.8300, -999,    798.6,   0.1815,  34.8665,2,-999.0000,9,    287.7,2,   -999.0,9,  -999.00,9,  -999.00,9,  -999.00,9,  -999.00,9,  -999.00,9,  -999.00,9,    0.464,2,   0.1461,20030928, 443
  32H120030911,   126,  1,    102,      2,9,20030928, 435, 71.6648,-151.8300, -999,    898.4,   0.0833,  34.8723,2,-999.0000,9,    288.2,2,   -999.0,9,  -999.00,9,  -999.00,9,  -999.00,9,  -999.00,9,  -999.00,9,  -999.00,9,    0.444,2,   0.0434,20030928, 439
  32H120030911,   126,  1,    101,      1,9,20030928, 435, 71.6648,-151.8300, -999,   1001.1,   0.0079,  34.8776,2,-999.0000,9,    288.7,2,   -999.0,9,  -999.00,9,  -999.00,9,  -999.00,9,  -999.00,9,  -999.00,9,  -999.00,9,    0.410,2,  -0.0368,20030928, 435