BOTTLE,20220815CCHSIOAMB
EXPOCODE,STNNBR,CASTNO,SAMPNO,BTLNBR,BTLNBR_FLAG_W,DATE,TIME,LATITUDE,LONGITUDE,DEPTH,CTDPRS,CTDTMP,CTDSAL,CTDSAL_FLAG_W,SALNTY,SALNTY_FLAG_W,CTDOXY,CTDOXY_FLAG_W,OXYGEN,OXYGEN_FLAG_W,SILCAT,SILCAT_FLAG_W,NITRAT,NITRAT_FLAG_W,NITRIT,NITRIT_FLAG_W,PHSPHT,PHSPHT_FLAG_W,CHLORA,CHLORA_FLAG_W,PHAEO,PHAEO_FLAG_W,FLUORO,FLUORO_FLAG_W,THETA,BTL_DATE,BTL_TIME
,,,,,,,,,,METERS,DBAR,ITS-90,PSS-78,,PSS-78,,UMOL/KG,,UMOL/KG,,UMOL/KG,,UMOL/KG,,UMOL/KG,,UMOL/KG,,UG/L,,UG/L,,VOLTS,,DEG C,,
  32H120030911,   223,  1,    114,     14,2,20031009, 646, 71.7045,-151.7938, -999,      9.3,   0.2891,  29.4996,2,  29.5168,2,    352.2,2,    364.0,2,     4.61,2,     0.00,2,     0.00,2,     0.68,2,     0.25,2,     0.16,2,    1.330,2,   0.2888,20031009, 726
  32H120030911,   223,  1,    113,     13,9,20031009, 646, 71.7045,-151.7938, -999,     24.7,   0.6873,  30.5349,2,-999.0000,9,    361.5,2,   -999.0,9,  -999.00,9,  -999.00,9,  -999.00,9,  -999.00,9,  -999.00,9,  -999.00,9,    1.155,2,   0.6865,20031009, 725
  32H120030911,   223,  1,    112,     12,2,20031009, 646, 71.7045,-151.7938, -999,     50.1,  -0.1970,  31.7520,2,-999.0000,9,    344.4,2,    352.1,2,    10.49,2,     3.73,2,     0.24,2,     1.18,2,     0.03,2,     0.05,2,    0.854,2,  -0.1984,20031009, 723
  32H120030911,   223,  1,    111,     11,2,20031009, 646, 71.7045,-151.7938, -999,     74.9,  -1.0382,  32.1645,2,  32.2281,2,    322.7,2,    330.9,2,    16.82,2,     7.50,2,     0.12,2,     1.42,2,     0.02,2,     0.03,2,    0.794,2,  -1.0399,20031009, 722
  32H120030911,   223,  1,    110,     10,2,20031009, 646, 71.7045,-151.7938, -999,    100.0,  -1.4247,  32.5247,2,  32.5445,2,    287.4,2,    300.4,2,    24.32,2,    11.34,2,     0.07,2,     1.69,2,     0.01,2,     0.04,2,    0.769,2,  -1.4267,20031009, 720
  32H120030911,   223,  1,    109,      9,2,20031009, 646, 71.7045,-151.7938, -999,    124.8,  -1.4764,  32.8777,2,  33.1540,2,    276.8,2,    286.1,2,    28.00,2,    13.69,2,     0.06,2,     1.72,2,     0.01,2,     0.04,2,    0.763,2,  -1.4790,20031009, 718
  32H120030911,   223,  1,    108,      8,2,20031009, 646, 71.7045,-151.7938, -999,    150.2,  -1.2052,  33.7834,2,  33.8866,2,    273.7,2,    282.5,2,    24.91,2,    14.06,2,     0.01,2,     1.54,2,     0.00,2,     0.03,2,    0.667,2,  -1.2089,20031009, 717
  32H120030911,   223,  1,    107,      7,2,20031009, 646, 71.7045,-151.7938, -999,    175.5,  -0.6502,  34.2770,2,  34.2852,2,    270.6,2,    280.0,2,    19.75,2,    13.52,2,     0.01,2,     1.35,2,     0.01,2,     0.04,2,    0.625,2,  -0.6556,20031009, 715
  32H120030911,   223,  1,    106,      6,2,20031009, 646, 71.7045,-151.7938, -999,    201.2,  -0.2772,  34.5217,2,  34.5339,2,    271.7,2,    280.9,2,    14.05,2,    12.98,2,     0.01,2,     1.13,2,     0.00,2,     0.03,2,    0.549,2,  -0.2841,20031009, 713
  32H120030911,   223,  1,    105,      5,2,20031009, 646, 71.7045,-151.7938, -999,    300.5,   0.5810,  34.7790,2,  34.7860,2,    277.8,2,    288.1,2,     8.02,2,    12.57,2,     0.02,2,     0.93,2,  -999.00,9,  -999.00,9,    0.487,2,   0.5681,20031009, 710
  32H120030911,   223,  1,    104,      4,2,20031009, 646, 71.7045,-151.7938, -999,    500.4,   0.5109,  34.8408,2,  34.8452,2,    283.6,2,    294.6,2,     6.58,2,    12.47,2,     0.02,2,     0.89,2,  -999.00,9,  -999.00,9,    0.531,2,   0.4887,20031009, 706
  32H120030911,   223,  1,    103,      3,2,20031009, 646, 71.7045,-151.7938, -999,    800.3,   0.1847,  34.8650,2,  34.8696,2,    287.0,2,    299.5,2,     6.27,2,    12.47,2,     0.02,2,     0.89,2,  -999.00,9,  -999.00,9,    0.448,2,   0.1492,20031009, 701
  32H120030911,   223,  1,    102,      2,2,20031009, 646, 71.7045,-151.7938, -999,   1100.6,  -0.0298,  34.8799,2,  34.8839,2,    287.1,2,    299.1,2,     6.64,2,    12.61,2,     0.02,2,     0.91,2,  -999.00,9,  -999.00,9,    0.433,2,  -0.0796,20031009, 655
  32H120030911,   223,  1,    101,      1,2,20031009, 646, 71.7045,-151.7938, -999,   1606.8,  -0.3488,  34.9200,2,  34.9229,2,    283.2,2,    295.4,2,  -999.00,9,  -999.00,9,  -999.00,9,  -999.00,9,  -999.00,9,  -999.00,9,    0.433,2,  -0.4246,20031009, 646
  32H120030911,   224,  1,    117,     17,2,20031009, 927, 71.7492,-151.7558, -999,      8.5,   0.3000,  29.5444,2,  29.5686,2,    349.5,2,    361.3,2,     5.12,2,     0.00,2,     0.00,2,     0.67,2,     0.30,2,     0.16,2,    1.327,2,   0.2998,20031009,1019
  32H120030911,   224,  1,    116,     16,2,20031009, 927, 71.7492,-151.7558, -999,     25.0,   0.8705,  30.5541,2,  30.4910,2,    363.3,2,    379.5,2,     5.11,2,     0.03,2,     0.02,2,     0.74,2,     0.15,2,     0.13,2,    1.170,2,   0.8696,20031009,1017
  32H120030911,   224,  1,    115,     15,2,20031009, 927, 71.7492,-151.7558, -999,     50.0,  -0.4230,  31.7854,2,  31.7823,2,    341.9,2,    354.4,2,    10.32,2,     3.58,2,     0.27,2,     1.12,2,     0.03,2,     0.06,2,    0.906,2,  -0.4243,20031009,1015
  32H120030911,   224,  1,    114,     14,2,20031009, 927, 71.7492,-151.7558, -999,     75.0,  -1.1819,  32.2055,2,  32.2153,2,    313.9,2,    326.0,2,    17.25,2,     8.31,2,     0.08,2,     1.42,2,     0.03,2,     0.04,2,    0.767,2,  -1.1835,20031009,1012
  32H120030911,   224,  1,    113,     13,2,20031009, 927, 71.7492,-151.7558, -999,    101.0,  -1.4277,  32.5090,2,  32.5227,2,    292.8,2,    302.8,2,    24.09,2,    11.23,2,     0.07,2,     1.63,2,     0.01,2,     0.03,2,    0.707,2,  -1.4297,20031009,1010
  32H120030911,   224,  1,    112,     12,2,20031009, 927, 71.7492,-151.7558, -999,    124.8,  -1.4925,  32.9244,2,  32.9962,2,    280.6,2,    287.9,2,    29.53,2,    13.75,2,     0.07,2,     1.75,2,     0.01,2,     0.03,2,    0.703,2,  -1.4950,20031009,1009
  32H120030911,   224,  1,    111,     11,2,20031009, 927, 71.7492,-151.7558, -999,    149.8,  -1.1720,  33.6055,2,  33.9024,2,    269.6,2,    279.8,2,    24.39,2,    13.75,2,     0.05,2,     1.50,2,     0.01,2,     0.05,2,    0.765,2,  -1.1758,20031009,1007
  32H120030911,   224,  1,    110,     10,2,20031009, 927, 71.7492,-151.7558, -999,    175.1,  -0.8323,  34.2117,2,  34.3237,2,    271.7,2,    279.6,2,    19.08,2,    13.45,2,     0.01,2,     1.29,2,     0.00,2,     0.03,2,    0.629,2,  -0.8374,20031009,1005
  32H120030911,   224,  1,    109,      9,2,20031009, 927, 71.7492,-151.7558, -999,    201.3,  -0.3033,  34.4983,2,  34.5388,2,    269.7,2,    279.3,2,    14.66,2,    13.11,2,     0.01,2,     1.12,2,     0.01,2,     0.04,2,    0.594,2,  -0.3102,20031009,1003
  32H120030911,   224,  1,    108,      8,2,20031009, 927, 71.7492,-151.7558, -999,    249.1,   0.2423,  34.6924,2,  34.7052,2,    275.3,2,    285.5,2,    10.10,2,    12.63,2,     0.01,2,     0.97,2,  -999.00,9,  -999.00,9,    0.508,2,   0.2324,20031009,1000
  32H120030911,   224,  1,    107,      7,2,20031009, 927, 71.7492,-151.7558, -999,    300.3,   0.5635,  34.7751,2,  34.7883,2,    279.5,2,    291.0,2,     7.69,2,    12.43,2,     0.01,2,     0.90,2,  -999.00,9,  -999.00,9,    0.459,2,   0.5506,20031009, 958
  32H120030911,   224,  1,    106,      6,2,20031009, 927, 71.7492,-151.7558, -999,    401.4,   0.6071,  34.8238,2,  34.8290,2,    282.3,2,    293.0,2,     7.12,2,    12.42,2,     0.02,2,     0.88,2,  -999.00,9,  -999.00,9,    0.463,2,   0.5894,20031009, 956
  32H120030911,   224,  1,    105,      5,2,20031009, 927, 71.7492,-151.7558, -999,    502.0,   0.5175,  34.8415,2,-999.0000,9,    283.6,2,    295.0,2,     6.94,2,    12.42,2,     0.02,2,     0.88,2,  -999.00,9,  -999.00,9,    0.443,2,   0.4952,20031009, 953
  32H120030911,   224,  1,    104,      4,2,20031009, 927, 71.7492,-151.7558, -999,    801.1,   0.2026,  34.8641,2,  34.8682,2,    287.1,2,    299.1,2,     6.56,2,    12.38,2,     0.01,2,     0.87,2,  -999.00,9,  -999.00,9,    0.477,2,   0.1670,20031009, 947
  32H120030911,   224,  1,    103,      3,2,20031009, 927, 71.7492,-151.7558, -999,   1101.2,  -0.1008,  34.8852,2,  34.8896,2,    287.7,2,    299.7,2,     6.84,2,    12.63,2,     0.01,2,     0.89,2,  -999.00,9,  -999.00,9,    0.440,2,  -0.1500,20031009, 941
  32H120030911,   224,  1,    102,      2,2,20031009, 927, 71.7492,-151.7558, -999,   1401.7,  -0.2526,  34.9037,2,  34.9071,2,    286.0,2,    299.0,2,     7.97,2,    13.01,2,     0.01,2,     0.93,2,  -999.00,9,  -999.00,9,    0.404,2,  -0.3173,20031009, 935
  32H120030911,   224,  1,    101,      1,2,20031009, 927, 71.7492,-151.7558, -999,   1824.9,  -0.4009,  34.9365,2,  34.9394,2,    278.0,2,    290.2,2,    11.06,2,    13.98,2,     0.01,2,     1.02,2,  -999.00,9,  -999.00,9,    0.393,2,  -0.4898,20031009, 927
  32H120030911,   225,  1,    118,     18,2,20031009,1227, 71.7918,-151.7112, -999,      8.2,   0.1803,  29.2680,2,  29.4091,2,    349.2,2,    362.1,2,     5.49,2,     0.06,2,     0.01,2,     0.67,2,     0.27,2,     0.16,2,    1.318,2,   0.1801,20031009,1329
  32H120030911,   225,  1,    117,     17,2,20031009,1227, 71.7918,-151.7112, -999,     24.0,   0.2366,  29.7313,2,  31.0602,2,    356.1,2,    367.7,2,     7.97,2,     1.48,2,     0.12,2,     0.89,2,     0.10,2,     0.08,2,    1.227,2,   0.2359,20031009,1328
  32H120030911,   225,  1,    116,     16,2,20031009,1227, 71.7918,-151.7112, -999,     51.0,  -0.4129,  31.7980,2,  31.9367,2,    342.3,2,    348.8,2,    12.27,2,     4.73,2,     0.22,2,     1.18,2,     0.03,2,     0.06,2,    0.907,2,  -0.4143,20031009,1326
  32H120030911,   225,  1,    115,     15,2,20031009,1227, 71.7918,-151.7112, -999,     75.2,  -1.1693,  32.2532,2,  32.3679,2,    317.6,2,    321.7,2,    19.93,2,     8.74,2,     0.11,2,     1.48,2,     0.01,2,     0.03,2,    0.767,2,  -1.1709,20031009,1324
  32H120030911,   225,  1,    114,     14,2,20031009,1227, 71.7918,-151.7112, -999,    100.7,  -1.4585,  32.5909,2,  32.7203,2,    287.6,2,    295.1,2,    26.78,2,    12.44,2,     0.05,2,     1.67,2,     0.01,2,     0.03,2,    0.706,2,  -1.4605,20031009,1322
  32H120030911,   225,  1,    113,     13,2,20031009,1227, 71.7918,-151.7112, -999,    124.7,  -1.5289,  32.9238,2,  33.1292,2,    278.4,2,    286.3,2,    29.34,2,    13.71,2,     0.06,2,     1.69,2,     0.01,2,     0.04,2,    0.673,2,  -1.5314,20031009,1321
  32H120030911,   225,  1,    112,     12,2,20031009,1227, 71.7918,-151.7112, -999,    149.8,  -1.2277,  33.5542,2,  33.7837,2,    270.0,2,    279.6,2,    25.61,2,    13.55,2,     0.06,2,     1.51,2,     0.01,2,     0.04,2,    0.732,2,  -1.2313,20031009,1319
  32H120030911,   225,  1,    111,     11,2,20031009,1227, 71.7918,-151.7112, -999,    175.0,  -0.8403,  34.2075,2,  34.3514,2,    270.4,2,    279.7,2,    18.54,2,    12.97,2,     0.01,2,     1.21,2,     0.00,2,     0.03,2,    0.593,2,  -0.8454,20031009,1317
  32H120030911,   225,  1,    110,     10,2,20031009,1227, 71.7918,-151.7112, -999,    200.3,  -0.1890,  34.5380,2,  34.5553,2,    269.3,2,    280.1,2,    14.06,2,    12.62,2,     0.01,2,     1.08,2,     0.01,2,     0.04,2,    0.583,2,  -0.1961,20031009,1315
  32H120030911,   225,  1,    109,      9,2,20031009,1227, 71.7918,-151.7112, -999,    250.4,   0.0438,  34.6652,2,  34.6714,2,    278.1,2,    288.1,2,    13.04,2,    12.50,2,     0.01,2,     1.06,2,  -999.00,9,  -999.00,9,    0.590,2,   0.0343,20031009,1313
  32H120030911,   225,  1,    108,      8,2,20031009,1227, 71.7918,-151.7112, -999,    300.5,   0.4282,  34.7440,2,  34.7487,2,    276.2,2,    286.4,2,     9.72,2,    12.49,2,     0.01,2,     0.94,2,  -999.00,9,  -999.00,9,    0.535,2,   0.4157,20031009,1310
  32H120030911,   225,  1,    107,      7,2,20031009,1227, 71.7918,-151.7112, -999,    400.9,   0.6311,  34.8179,2,  34.8220,2,    281.1,2,    291.8,2,     7.43,2,    12.43,2,     0.01,2,     0.86,2,  -999.00,9,  -999.00,9,    0.471,2,   0.6133,20031009,1306
  32H120030911,   225,  1,    106,      6,2,20031009,1227, 71.7918,-151.7112, -999,    503.5,   0.5320,  34.8408,2,  34.8441,2,    283.6,2,    294.8,2,     6.94,2,    12.37,2,     0.01,2,     0.85,2,  -999.00,9,  -999.00,9,    0.398,2,   0.5096,20031009,1302
  32H120030911,   225,  1,    105,      5,2,20031009,1227, 71.7918,-151.7112, -999,    800.9,   0.1686,  34.8657,2,  34.8688,2,    287.0,2,    299.3,2,     6.73,2,    12.46,2,     0.00,2,     0.85,2,  -999.00,9,  -999.00,9,    0.465,2,   0.1332,20031009,1255
  32H120030911,   225,  1,    104,      4,2,20031009,1227, 71.7918,-151.7112, -999,   1102.1,  -0.0953,  34.8845,2,  34.8875,2,    287.3,2,    300.1,2,     7.08,2,    12.60,2,     0.00,2,     0.87,2,  -999.00,9,  -999.00,9,    0.423,2,  -0.1446,20031009,1249
  32H120030911,   225,  1,    103,      3,2,20031009,1227, 71.7918,-151.7112, -999,   1401.5,  -0.2606,  34.9046,2,  34.9072,2,    285.2,2,    299.1,2,     8.27,2,    13.07,2,     0.01,2,     0.92,2,  -999.00,9,  -999.00,9,    0.421,2,  -0.3252,20031009,1242
  32H120030911,   225,  1,    102,      2,2,20031009,1227, 71.7918,-151.7112, -999,   1704.5,  -0.3587,  34.9229,2,  34.9265,2,    282.0,2,    294.3,2,     9.56,2,    13.59,2,     0.01,2,     0.95,2,  -999.00,9,  -999.00,9,    0.383,2,  -0.4404,20031009,1235
  32H120030911,   225,  1,    101,      1,2,20031009,1227, 71.7918,-151.7112, -999,   2076.8,  -0.3950,  34.9430,2,  34.9434,2,    275.0,2,    287.4,2,    11.74,2,    14.22,2,     0.01,2,     1.02,2,  -999.00,9,  -999.00,9,    0.353,2,  -0.5007,20031009,1227
  32H120030911,   226,  1,    118,     18,2,20031009,1554, 71.8408,-151.6805, -999,      8.5,   0.3089,  29.1162,2,  29.1253,2,    349.1,2,    361.5,2,     5.15,2,     0.00,2,     0.00,2,     0.65,2,     0.28,2,     0.16,2,    1.311,2,   0.3087,20031009,1657
  32H120030911,   226,  1,    117,     17,2,20031009,1554, 71.8408,-151.6805, -999,     26.2,   1.1748,  30.3365,2,  30.4066,2,    340.7,2,    353.5,2,     5.42,2,     0.08,2,     0.01,2,     0.71,2,     0.18,2,     0.10,2,    1.179,2,   1.1738,20031009,1655
  32H120030911,   226,  1,    116,     16,2,20031009,1554, 71.8408,-151.6805, -999,     51.6,  -0.6930,  31.8132,2,  31.8453,2,    337.9,2,    350.7,2,    11.06,2,     4.43,2,     0.24,2,     1.16,2,     0.04,2,     0.09,2,    0.990,2,  -0.6943,20031009,1653
  32H120030911,   226,  1,    115,     15,2,20031009,1554, 71.8408,-151.6805, -999,     75.7,  -1.2314,  32.2955,2,  32.4666,2,    308.5,2,    309.8,2,    22.45,2,    10.48,2,     0.07,2,     1.58,2,     0.01,2,     0.03,2,    0.754,2,  -1.2330,20031009,1651
  32H120030911,   226,  1,    114,     14,2,20031009,1554, 71.8408,-151.6805, -999,    100.1,  -1.4746,  32.6444,2,  32.7609,2,    285.4,2,    293.6,2,    28.29,2,    12.88,2,     0.05,2,     1.72,2,     0.01,2,     0.02,2,    0.693,2,  -1.4766,20031009,1649
  32H120030911,   226,  1,    113,     13,2,20031009,1554, 71.8408,-151.6805, -999,    125.9,  -1.5416,  32.9781,2,  33.0232,2,    278.0,2,    286.8,2,    31.38,2,    14.57,2,     0.02,2,     1.77,2,     0.00,2,     0.03,2,    0.661,2,  -1.5441,20031009,1647
  32H120030911,   226,  1,    112,     12,2,20031009,1554, 71.8408,-151.6805, -999,    151.5,  -1.2816,  33.5931,2,  33.9461,2,    270.4,2,    281.1,2,    24.47,2,    13.86,2,     0.03,2,     1.49,2,     0.01,2,     0.03,2,    0.673,2,  -1.2853,20031009,1645
  32H120030911,   226,  1,    111,     11,2,20031009,1554, 71.8408,-151.6805, -999,    175.8,  -0.8279,  34.2222,2,  34.3599,2,    270.9,2,    279.0,2,    18.12,2,    13.34,2,     0.01,2,     1.24,2,     0.00,2,     0.03,2,    0.621,2,  -0.8330,20031009,1643
  32H120030911,   226,  1,    110,     10,2,20031009,1554, 71.8408,-151.6805, -999,    200.4,  -0.2912,  34.4953,2,  34.5411,2,    269.2,2,    279.2,2,    14.43,2,    12.85,2,     0.01,2,     1.12,2,     0.00,2,     0.04,2,    0.621,2,  -0.2981,20031009,1641
  32H120030911,   226,  1,    109,      9,2,20031009,1554, 71.8408,-151.6805, -999,    250.3,   0.2930,  34.6909,2,  34.7073,2,    272.2,2,    284.6,2,    10.56,2,    12.76,2,     0.01,2,     0.99,2,  -999.00,9,  -999.00,9,    0.550,2,   0.2830,20031009,1639
  32H120030911,   226,  1,    108,      8,2,20031009,1554, 71.8408,-151.6805, -999,    300.4,   0.5430,  34.7615,2,  34.7675,2,    276.0,2,    287.0,2,     8.62,2,    12.55,2,     0.01,2,     0.93,2,  -999.00,9,  -999.00,9,    0.524,2,   0.5302,20031009,1636
  32H120030911,   226,  1,    107,      7,2,20031009,1554, 71.8408,-151.6805, -999,    401.0,   0.6179,  34.8207,2,  34.8257,2,    281.2,2,    292.8,2,     7.38,2,    12.26,2,     0.01,2,     0.88,2,  -999.00,9,  -999.00,9,    0.466,2,   0.6001,20031009,1633
  32H120030911,   226,  1,    106,      6,2,20031009,1554, 71.8408,-151.6805, -999,    500.5,   0.5168,  34.8441,2,  34.8510,2,    284.5,2,    295.8,2,     6.81,2,    12.36,2,     0.00,2,     0.86,2,  -999.00,9,  -999.00,9,    0.414,2,   0.4946,20031009,1630
  32H120030911,   226,  1,    105,      5,2,20031009,1554, 71.8408,-151.6805, -999,    800.9,   0.1418,  34.8671,2,  34.8707,2,    287.1,2,    299.9,2,     6.63,2,    12.40,2,     0.00,2,     0.88,2,  -999.00,9,  -999.00,9,    0.435,2,   0.1066,20031009,1623
  32H120030911,   226,  1,    104,      4,2,20031009,1554, 71.8408,-151.6805, -999,   1103.0,  -0.0618,  34.8820,2,  34.8829,2,    287.1,2,    299.9,2,     6.91,2,    12.55,2,     0.00,2,     0.89,2,  -999.00,9,  -999.00,9,    0.424,2,  -0.1114,20031009,1617
  32H120030911,   226,  1,    103,      3,2,20031009,1554, 71.8408,-151.6805, -999,   1400.2,  -0.2861,  34.9078,2,  34.9105,2,    284.8,2,    298.6,2,     8.24,2,    13.09,2,     0.01,2,     0.94,2,  -999.00,9,  -999.00,9,    0.390,2,  -0.3503,20031009,1611
  32H120030911,   226,  1,    102,      2,2,20031009,1554, 71.8408,-151.6805, -999,   1801.8,  -0.3935,  34.9320,2,  34.9343,2,    279.4,2,    292.4,2,    10.17,2,    13.72,2,     0.00,2,     0.98,2,  -999.00,9,  -999.00,9,    0.344,2,  -0.4810,20031009,1603
  32H120030911,   226,  1,    101,      1,2,20031009,1554, 71.8408,-151.6805, -999,   2224.2,  -0.3937,  34.9532,2,  34.9520,2,    270.6,2,    283.1,2,    13.44,2,    14.44,2,     0.01,2,     1.04,2,  -999.00,9,  -999.00,9,    0.340,2,  -0.5098,20031009,1554
  32H120030911,   248,  1,    104,      4,2,20031011,1009, 71.6135,-159.4342, -999,      6.6,  -0.2055,  29.9471,2,  29.9575,2,    350.9,2,    363.3,2,     5.82,2,     0.14,2,     0.00,2,     0.77,2,  -999.00,9,  -999.00,9,    1.434,2,  -0.2057,20031011,1013
  32H120030911,   248,  1,    103,      3,2,20031011,1009, 71.6135,-159.4342, -999,     29.6,   0.5019,  30.7371,2,  30.7342,2,    337.0,2,    348.9,2,     5.61,2,     0.62,2,     0.00,2,     0.75,2,  -999.00,9,  -999.00,9,    1.338,2,   0.5009,20031011,1012
  32H120030911,   248,  1,    102,      2,2,20031011,1009, 71.6135,-159.4342, -999,     40.3,  -1.1888,  32.2366,2,  32.2400,2,    284.8,2,    294.5,2,    20.34,2,     7.43,2,     0.09,2,     2.12,2,  -999.00,9,  -999.00,9,    1.227,2,  -1.1896,20031011,1011
  32H120030911,   248,  1,    101,      1,2,20031011,1009, 71.6135,-159.4342, -999,     47.8,  -1.1872,  32.2377,2,  32.2363,2,    285.1,2,    294.1,2,    20.43,2,     7.42,2,     0.11,2,     2.14,2,  -999.00,9,  -999.00,9,    1.212,2,  -1.1882,20031011,1009
  32H120030911,   249,  1,    104,      4,2,20031011,1127, 71.7008,-159.8652, -999,      7.3,  -0.5108,  29.5922,2,  29.5951,2,    354.7,2,    368.1,2,     5.84,2,     0.08,2,     0.00,2,     0.79,2,  -999.00,9,  -999.00,9,    1.437,2,  -0.5110,20031011,1131
  32H120030911,   249,  1,    103,      3,2,20031011,1127, 71.7008,-159.8652, -999,     19.3,  -0.5076,  29.5961,2,  29.6006,2,    354.0,2,    367.0,2,     5.82,2,     0.08,2,     0.00,2,     0.80,2,  -999.00,9,  -999.00,9,    1.457,2,  -0.5080,20031011,1130
  32H120030911,   249,  1,    102,      2,2,20031011,1127, 71.7008,-159.8652, -999,     36.1,  -0.5644,  32.4342,2,  32.4374,2,    292.4,2,    301.8,2,    10.56,2,     3.75,2,     0.10,2,     1.73,2,  -999.00,9,  -999.00,9,    1.251,2,  -0.5654,20031011,1128
  32H120030911,   249,  1,    101,      1,2,20031011,1127, 71.7008,-159.8652, -999,     47.9,  -0.5784,  32.4342,2,  32.4228,0,    292.3,2,    302.1,2,    11.04,2,     3.88,2,     0.12,2,     1.81,2,  -999.00,9,  -999.00,9,    1.256,2,  -0.5797,20031011,1127