BOTTLE,20220815CCHSIOAMB
EXPOCODE,STNNBR,CASTNO,SAMPNO,BTLNBR,BTLNBR_FLAG_W,DATE,TIME,LATITUDE,LONGITUDE,DEPTH,CTDPRS,CTDTMP,CTDSAL,CTDSAL_FLAG_W,SALNTY,SALNTY_FLAG_W,CTDOXY,CTDOXY_FLAG_W,OXYGEN,OXYGEN_FLAG_W,SILCAT,SILCAT_FLAG_W,NITRAT,NITRAT_FLAG_W,NITRIT,NITRIT_FLAG_W,PHSPHT,PHSPHT_FLAG_W,CHLORA,CHLORA_FLAG_W,PHAEO,PHAEO_FLAG_W,FLUORO,FLUORO_FLAG_W,THETA,BTL_DATE,BTL_TIME
,,,,,,,,,,METERS,DBAR,ITS-90,PSS-78,,PSS-78,,UMOL/KG,,UMOL/KG,,UMOL/KG,,UMOL/KG,,UMOL/KG,,UMOL/KG,,UG/L,,UG/L,,VOLTS,,DEG C,,
  32H120030911,   250,  1,    104,      4,2,20031011,1258, 71.7892,-160.3073, -999,      7.0,  -0.4797,  29.5677,2,  29.5764,2,    354.3,2,    367.0,2,     5.29,2,     0.03,2,     0.00,2,     0.79,2,  -999.00,9,  -999.00,9,    1.447,2,  -0.4798,20031011,1302
  32H120030911,   250,  1,    103,      3,2,20031011,1258, 71.7892,-160.3073, -999,     25.6,  -0.2655,  30.8355,2,  29.8847,2,    337.7,2,    362.7,2,     5.18,2,     0.23,2,     0.00,2,     0.83,2,  -999.00,9,  -999.00,9,    1.359,2,  -0.2661,20031011,1300
  32H120030911,   250,  1,    102,      2,2,20031011,1258, 71.7892,-160.3073, -999,     39.1,  -0.2360,  32.3473,2,  32.3508,2,    301.0,2,    311.6,2,     9.52,2,     2.26,2,     0.11,2,     1.79,2,  -999.00,9,  -999.00,9,    1.309,2,  -0.2371,20031011,1259
  32H120030911,   250,  1,    101,      1,2,20031011,1258, 71.7892,-160.3073, -999,     43.3,  -0.2377,  32.3494,2,  32.3518,2,    301.5,2,    311.7,2,     9.78,2,     2.26,2,     0.12,2,     1.79,2,  -999.00,9,  -999.00,9,    1.329,2,  -0.2390,20031011,1258
  32H120030911,   251,  1,    104,      4,2,20031011,1424, 71.8765,-160.7407, -999,      8.3,  -0.5492,  29.7340,2,  29.7413,2,    353.4,2,    365.9,2,     5.31,2,     0.12,2,     0.01,2,     0.83,2,  -999.00,9,  -999.00,9,    1.448,2,  -0.5494,20031011,1428
  32H120030911,   251,  1,    103,      3,2,20031011,1424, 71.8765,-160.7407, -999,     30.4,  -0.0434,  32.0742,2,  32.0774,2,    312.2,2,    324.4,2,     6.86,2,     1.53,2,     0.06,2,     1.38,2,  -999.00,9,  -999.00,9,    1.174,2,  -0.0443,20031011,1426
  32H120030911,   251,  1,    102,      2,2,20031011,1424, 71.8765,-160.7407, -999,     36.1,  -0.1391,  32.2826,2,  32.2184,2,    307.3,2,    319.7,2,     8.75,2,     1.87,2,     0.11,2,     1.72,2,  -999.00,9,  -999.00,9,    1.330,2,  -0.1402,20031011,1425
  32H120030911,   251,  1,    101,      1,2,20031011,1424, 71.8765,-160.7407, -999,     38.6,  -0.1394,  32.2826,2,  32.2658,2,    307.0,2,    317.5,2,     9.42,2,     1.84,2,     0.14,2,     1.85,2,  -999.00,9,  -999.00,9,    1.317,2,  -0.1405,20031011,1424
  32H120030911,   252,  1,    103,      3,2,20031011,1548, 71.9668,-161.1792, -999,      7.9,  -0.5033,  29.9784,2,  29.9842,2,    351.5,2,    363.7,2,     5.23,2,     0.15,2,     0.02,2,     0.79,2,  -999.00,9,  -999.00,9,    1.424,2,  -0.5035,20031011,1551
  32H120030911,   252,  1,    102,      2,2,20031011,1548, 71.9668,-161.1792, -999,     28.1,   0.3402,  32.1971,2,  32.1052,2,    300.2,2,    312.0,2,    11.13,2,     1.64,2,     0.14,2,     1.85,2,  -999.00,9,  -999.00,9,    1.547,2,   0.3393,20031011,1549
  32H120030911,   252,  1,    101,      1,2,20031011,1548, 71.9668,-161.1792, -999,     32.5,   0.3499,  32.2144,2,  32.2068,2,    300.3,2,    310.3,2,    11.61,2,     1.76,2,     0.17,2,     1.96,2,  -999.00,9,  -999.00,9,    1.592,2,   0.3488,20031011,1548
  32H120030911,   253,  1,    103,      3,2,20031011,1711, 72.0572,-161.6457, -999,      8.1,  -0.4743,  30.0647,2,  30.0681,2,    350.1,2,    362.2,2,     5.35,2,     0.18,2,     0.04,2,     0.85,2,  -999.00,9,  -999.00,9,    1.413,2,  -0.4745,20031011,1714
  32H120030911,   253,  1,    102,      2,2,20031011,1711, 72.0572,-161.6457, -999,     21.0,  -0.4703,  30.0786,2,  30.0723,2,    349.5,2,    362.4,2,     5.15,2,     0.18,2,     0.03,2,     0.85,2,  -999.00,9,  -999.00,9,    1.423,2,  -0.4708,20031011,1713
  32H120030911,   253,  1,    101,      1,2,20031011,1711, 72.0572,-161.6457, -999,     26.1,  -0.0598,  31.4029,2,  30.5495,2,    316.7,2,    347.9,2,     7.20,2,     0.58,2,     0.07,2,     1.14,2,  -999.00,9,  -999.00,9,    1.548,2,  -0.0605,20031011,1711
  32H120030911,   254,  1,    103,      3,2,20031011,1844, 72.1533,-162.1132, -999,      8.1,  -0.4380,  30.2183,2,  30.2217,2,    347.6,2,    359.9,2,     5.77,2,     0.22,2,     0.04,2,     0.88,2,     0.31,2,     0.17,2,    1.443,2,  -0.4382,20031011,1847
  32H120030911,   254,  1,    102,      2,2,20031011,1844, 72.1533,-162.1132, -999,     17.6,  -0.4422,  30.2178,2,  30.2236,2,    347.8,2,    361.3,2,     5.65,2,     0.22,2,     0.04,2,     0.88,2,     0.35,2,     0.20,2,    1.458,2,  -0.4426,20031011,1845
  32H120030911,   254,  1,    101,      1,2,20031011,1844, 72.1533,-162.1132, -999,     22.9,  -0.4408,  30.2194,2,  30.2284,2,    347.5,2,    360.4,2,     5.73,2,     0.22,2,     0.04,2,     0.88,2,     0.36,2,     0.20,2,    1.487,2,  -0.4413,20031011,1844
  32H120030911,   255,  1,    103,      3,2,20031012, 346, 72.2292,-162.0123, -999,      7.2,  -0.4605,  30.1656,2,  30.1723,2,    347.5,2,    361.1,2,     5.51,2,     0.22,2,     0.01,2,     0.79,2,     0.72,2,     0.18,2,    1.526,2,  -0.4607,20031012, 351
  32H120030911,   255,  1,    102,      2,2,20031012, 346, 72.2292,-162.0123, -999,     19.8,  -0.4627,  30.1624,2,  30.1854,2,    349.8,2,    361.3,2,     5.68,2,     0.22,2,     0.01,2,     0.78,2,     0.80,2,     0.25,2,    1.553,2,  -0.4632,20031012, 348
  32H120030911,   255,  1,    101,      1,2,20031012, 346, 72.2292,-162.0123, -999,     31.5,  -0.2117,  32.1936,2,  32.1357,2,    304.5,2,    316.5,2,    10.56,2,     2.42,2,     0.11,2,     1.65,2,     0.66,2,     0.66,2,    1.654,2,  -0.2126,20031012, 346
  32H120030911,   256,  1,    103,      3,2,20031012, 502, 72.3028,-161.8838, -999,      7.6,  -0.4006,  30.1512,2,  30.1591,2,    348.3,2,    362.3,2,     5.20,2,     0.15,2,     0.02,2,     0.76,2,     0.63,2,     0.14,2,    1.549,2,  -0.4008,20031012, 508
  32H120030911,   256,  1,    102,      2,2,20031012, 502, 72.3028,-161.8838, -999,     18.6,  -0.3884,  30.1554,2,  30.1631,2,    347.9,2,    362.5,2,     5.19,2,     0.10,2,     0.02,2,     0.76,2,     0.62,2,     0.12,2,    1.562,2,  -0.3888,20031012, 506
  32H120030911,   256,  1,    101,      1,2,20031012, 502, 72.3028,-161.8838, -999,     36.4,  -0.2632,  32.2253,2,  32.1618,2,    297.6,2,    309.2,2,    11.88,2,     2.68,2,     0.14,2,     1.74,2,     0.97,2,     0.53,2,    1.632,2,  -0.2642,20031012, 502
  32H120030911,   257,  1,    104,      4,2,20031012, 623, 72.3775,-161.7638, -999,      7.8,  -0.2416,  30.2679,2,  30.2710,2,    347.0,2,    359.7,2,     4.88,2,     0.08,2,     0.03,2,     0.71,2,     0.67,2,     0.15,2,    1.547,2,  -0.2418,20031012, 628
  32H120030911,   257,  1,    103,      3,2,20031012, 623, 72.3775,-161.7638, -999,     15.8,  -0.2415,  30.2679,2,  30.3161,2,    346.6,2,    359.3,2,     4.96,2,     0.13,2,     0.03,2,     0.73,2,     0.68,2,     0.16,2,    1.551,2,  -0.2419,20031012, 627
  32H120030911,   257,  1,    102,      2,2,20031012, 623, 72.3775,-161.7638, -999,     28.2,   0.0095,  32.1255,2,  32.1047,2,    301.1,2,    311.8,2,    11.16,2,     1.63,2,     0.16,2,     1.77,2,     1.25,2,     0.43,2,    1.656,2,   0.0086,20031012, 625
  32H120030911,   257,  1,    101,      1,2,20031012, 623, 72.3775,-161.7638, -999,     39.8,   0.0069,  32.1460,2,  32.1304,2,    298.9,2,    310.9,2,    11.54,2,     1.71,2,     0.17,2,     1.77,2,     1.37,2,     0.44,2,    1.750,2,   0.0057,20031012, 623
  32H120030911,   258,  1,    104,      4,2,20031012, 731, 72.4493,-161.6362, -999,      7.8,  -0.3786,  30.1815,2,  30.1841,2,    349.1,2,    361.3,2,     5.20,2,     0.04,2,     0.06,2,     0.76,2,     0.58,2,     0.15,2,    1.526,2,  -0.3788,20031012, 737
  32H120030911,   258,  1,    103,      3,2,20031012, 731, 72.4493,-161.6362, -999,     15.2,  -0.3780,  30.1814,2,  30.1949,2,    348.9,2,    361.0,2,     5.28,2,     0.05,2,     0.06,2,     0.76,2,     0.57,2,     0.14,2,    1.525,2,  -0.3784,20031012, 736
  32H120030911,   258,  1,    102,      2,2,20031012, 731, 72.4493,-161.6362, -999,     30.0,   0.0096,  32.0226,2,  32.0408,2,    302.8,2,    312.4,2,    11.01,2,     1.70,2,     0.18,2,     1.71,2,     1.09,2,     0.50,2,    1.610,2,   0.0087,20031012, 733
  32H120030911,   258,  1,    101,      1,2,20031012, 731, 72.4493,-161.6362, -999,     41.1,  -0.0891,  32.1386,2,  32.0899,2,    297.0,2,    311.1,2,    11.00,2,     1.98,2,     0.19,2,     1.72,2,     1.07,2,     0.44,2,    1.616,2,  -0.0903,20031012, 731
  32H120030911,   259,  1,    104,      4,2,20031012, 831, 72.5242,-161.5143, -999,      7.6,  -0.4302,  29.9330,2,  29.9413,2,    347.9,2,    362.4,2,     5.15,2,     0.01,2,     0.08,2,     0.74,2,     0.39,2,     0.21,2,    1.420,2,  -0.4304,20031012, 837
  32H120030911,   259,  1,    103,      3,2,20031012, 831, 72.5242,-161.5143, -999,     18.7,  -0.3560,  29.9881,2,  30.0769,2,    347.0,2,    358.7,2,     5.50,2,     0.06,2,     0.08,2,     0.75,2,     0.31,2,     0.20,2,    1.398,2,  -0.3564,20031012, 835
  32H120030911,   259,  1,    102,      2,2,20031012, 831, 72.5242,-161.5143, -999,     35.0,   1.0078,  32.1534,2,  32.1810,2,    272.3,2,    279.0,2,    14.41,2,     2.73,2,     0.18,2,     1.76,2,     0.42,2,     0.31,2,    1.318,2,   1.0064,20031012, 833
  32H120030911,   259,  1,    101,      1,2,20031012, 831, 72.5242,-161.5143, -999,     42.2,   0.8555,  32.2809,2,  32.2356,2,    260.6,2,    270.0,2,    17.13,2,     3.08,2,     0.23,2,     1.99,2,     0.49,2,     0.57,2,    1.385,2,   0.8539,20031012, 831
  32H120030911,   260,  1,    104,      4,2,20031012, 932, 72.5967,-161.3935, -999,      7.6,  -0.3524,  30.0126,2,  30.0155,2,    348.0,2,    361.7,2,     5.56,2,    -0.06,2,     0.09,2,     0.73,2,     0.56,2,     0.25,2,    1.503,2,  -0.3526,20031012, 937
  32H120030911,   260,  1,    103,      3,2,20031012, 932, 72.5967,-161.3935, -999,     18.9,  -0.3469,  30.0191,2,  30.0160,2,    347.4,2,    362.0,2,     5.54,2,    -0.06,2,     0.09,2,     0.73,2,     0.64,2,     0.29,2,    1.524,2,  -0.3473,20031012, 935
  32H120030911,   260,  1,    102,      2,2,20031012, 932, 72.5967,-161.3935, -999,     38.7,   0.3573,  32.3476,2,  32.3541,2,    282.3,2,    294.0,2,    14.26,2,     3.43,2,     0.23,2,     1.94,2,     0.13,2,     0.45,2,    1.153,2,   0.3560,20031012, 933
  32H120030911,   260,  1,    101,      1,2,20031012, 932, 72.5967,-161.3935, -999,     42.3,   0.3506,  32.3404,2,  32.2621,2,    282.9,2,    295.0,2,    14.14,2,     3.37,2,     0.23,2,     1.92,2,     0.13,2,     0.45,2,    1.160,2,   0.3492,20031012, 932
  32H120030911,   261,  1,    104,      4,2,20031012,1026, 72.6677,-161.2583, -999,      7.7,  -0.1298,  30.1333,2,  30.1356,2,    348.6,2,    360.9,2,     4.68,2,     0.02,2,     0.00,2,     0.60,2,  -999.00,9,  -999.00,9,    1.336,2,  -0.1300,20031012,1032
  32H120030911,   261,  1,    103,      3,2,20031012,1026, 72.6677,-161.2583, -999,     17.3,  -0.1326,  30.1335,2,  30.1362,2,    348.4,2,    360.7,2,     4.67,2,     0.02,2,     0.00,2,     0.60,2,  -999.00,9,  -999.00,9,    1.335,2,  -0.1330,20031012,1030
  32H120030911,   261,  1,    102,      2,2,20031012,1026, 72.6677,-161.2583, -999,     29.5,  -0.1304,  30.1367,2,  30.1389,2,    348.3,2,    360.3,2,     4.66,2,     0.03,2,     0.00,2,     0.59,2,  -999.00,9,  -999.00,9,    1.370,2,  -0.1312,20031012,1029
  32H120030911,   261,  1,    101,      1,2,20031012,1026, 72.6677,-161.2583, -999,     45.8,   0.4627,  32.3648,2,  32.2087,2,    284.9,2,    300.5,2,    12.41,2,     3.24,2,     0.10,2,     1.69,2,  -999.00,9,  -999.00,9,    1.138,2,   0.4611,20031012,1026
  32H120030911,   262,  1,    104,      4,2,20031012,1117, 72.7405,-161.1252, -999,      7.6,  -0.2441,  30.0695,2,  30.0726,2,    350.5,2,    362.7,2,     4.73,2,     0.00,2,     0.00,2,     0.61,2,  -999.00,9,  -999.00,9,    1.320,2,  -0.2443,20031012,1123
  32H120030911,   262,  1,    103,      3,2,20031012,1117, 72.7405,-161.1252, -999,     17.6,  -0.2440,  30.0711,2,  30.0739,2,    350.3,2,    362.8,2,     4.63,2,     0.00,2,     0.00,2,     0.62,2,  -999.00,9,  -999.00,9,    1.295,2,  -0.2444,20031012,1121
  32H120030911,   262,  1,    102,      2,2,20031012,1117, 72.7405,-161.1252, -999,     35.7,   0.2044,  32.3948,2,  32.4035,2,    296.5,2,    306.5,2,    11.28,2,     3.69,2,     0.10,2,     1.70,2,  -999.00,9,  -999.00,9,    1.055,2,   0.2032,20031012,1119
  32H120030911,   262,  1,    101,      1,2,20031012,1117, 72.7405,-161.1252, -999,     48.1,  -0.1554,  32.4401,2,  32.4291,2,    297.9,2,    307.5,2,    11.56,2,     4.13,2,     0.10,2,     1.74,2,  -999.00,9,  -999.00,9,    1.075,2,  -0.1568,20031012,1117
  32H120030911,   263,  1,    104,      4,2,20031012,1223, 72.8135,-160.9992, -999,      7.6,  -0.5913,  29.8866,2,  29.8886,2,    353.3,2,    367.5,2,     5.52,2,    -0.01,2,     0.01,2,     0.66,2,  -999.00,9,  -999.00,9,    1.207,2,  -0.5915,20031012,1228
  32H120030911,   263,  1,    103,      3,2,20031012,1223, 72.8135,-160.9992, -999,     29.3,   0.2521,  32.3732,2,  32.3601,2,    300.7,2,    316.3,2,     8.81,2,     3.17,2,     0.08,2,     1.55,2,  -999.00,9,  -999.00,9,    1.010,2,   0.2511,20031012,1226
  32H120030911,   263,  1,    102,      2,2,20031012,1223, 72.8135,-160.9992, -999,     40.6,   0.0007,  32.4067,2,  32.4194,2,    296.0,2,    306.6,2,    12.62,2,     3.97,2,     0.13,2,     1.86,2,  -999.00,9,  -999.00,9,    1.105,2,  -0.0006,20031012,1225
  32H120030911,   263,  1,    101,      1,2,20031012,1223, 72.8135,-160.9992, -999,     49.2,  -0.3323,  32.4808,2,  32.4694,2,    291.0,2,    300.8,2,    13.62,2,     4.70,2,     0.14,2,     1.98,2,  -999.00,9,  -999.00,9,    1.115,2,  -0.3337,20031012,1223
  32H120030911,   264,  1,    104,      4,2,20031012,1318, 72.8528,-160.9357, -999,      7.6,  -0.5832,  29.8886,2,  29.8915,2,    350.7,2,    368.3,2,     5.57,2,     0.03,2,     0.02,2,     0.68,2,  -999.00,9,  -999.00,9,    1.248,2,  -0.5834,20031012,1323
  32H120030911,   264,  1,    103,      3,2,20031012,1318, 72.8528,-160.9357, -999,     29.1,  -0.4537,  30.0696,2,  30.0770,2,    351.0,2,    366.1,2,     5.36,2,     0.08,2,     0.02,2,     0.68,2,  -999.00,9,  -999.00,9,    1.317,2,  -0.4544,20031012,1321
  32H120030911,   264,  1,    102,      2,2,20031012,1318, 72.8528,-160.9357, -999,     43.4,  -0.3415,  32.4814,2,  32.4815,2,    286.1,2,    298.3,2,    14.09,2,     4.89,2,     0.15,2,     2.05,2,  -999.00,9,  -999.00,9,    1.146,2,  -0.3427,20031012,1320
  32H120030911,   264,  1,    101,      1,2,20031012,1318, 72.8528,-160.9357, -999,     49.5,  -0.3510,  32.4840,2,  32.4861,2,    285.5,2,    297.7,2,    14.27,2,     4.89,2,     0.16,2,     2.06,2,  -999.00,9,  -999.00,9,    1.132,2,  -0.3524,20031012,1318
  32H120030911,   265,  1,    104,      4,2,20031012,1410, 72.8920,-160.8575, -999,      8.0,  -0.6844,  29.7896,2,  29.7932,2,    352.0,2,    368.3,2,     6.18,2,     0.17,2,     0.04,2,     0.71,2,  -999.00,9,  -999.00,9,    1.329,2,  -0.6846,20031012,1415
  32H120030911,   265,  1,    103,      3,2,20031012,1410, 72.8920,-160.8575, -999,     28.6,  -0.3035,  30.2962,2,  30.6562,2,    348.8,2,    358.5,2,     5.78,2,     0.79,2,     0.05,2,     0.87,2,  -999.00,9,  -999.00,9,    1.191,2,  -0.3042,20031012,1414
  32H120030911,   265,  1,    102,      2,2,20031012,1410, 72.8920,-160.8575, -999,     42.6,  -0.1183,  32.4344,2,  32.4371,2,    296.3,2,    309.5,2,    11.04,2,     4.36,2,     0.10,2,     1.75,2,  -999.00,9,  -999.00,9,    1.098,2,  -0.1196,20031012,1412
  32H120030911,   265,  1,    101,      1,2,20031012,1410, 72.8920,-160.8575, -999,     50.9,  -0.3660,  32.4903,2,  32.4359,2,    290.4,2,    305.6,2,    11.43,2,     4.65,2,     0.11,2,     1.81,2,  -999.00,9,  -999.00,9,    1.089,2,  -0.3674,20031012,1410
  32H120030911,   266,  1,    101,      1,2,20031012,1508, 72.9350,-160.7970, -999,     64.8,  -0.3372,  32.4780,2,  32.4706,2,    290.1,2,    301.6,2,    12.97,2,     3.99,2,     0.91,4,     1.97,2,  -999.00,9,  -999.00,9,    1.107,2,  -0.3391,20031012,1501
  32H120030911,   266,  1,    102,      2,2,20031012,1508, 72.9350,-160.7970, -999,     53.9,  -0.1804,  32.4453,2,  32.4501,2,    297.4,2,    308.1,2,    11.59,2,     3.61,2,     0.99,4,     1.77,2,  -999.00,9,  -999.00,9,    1.013,2,  -0.1820,20031012,1503
  32H120030911,   266,  1,    103,      3,2,20031012,1508, 72.9350,-160.7970, -999,     33.9,  -1.3696,  31.9449,2,  32.0122,2,    293.8,2,    309.4,2,    27.42,2,     7.86,2,     0.16,2,     1.69,2,  -999.00,9,  -999.00,9,    0.938,2,  -1.3702,20031012,1506
  32H120030911,   266,  1,    104,      4,2,20031012,1508, 72.9350,-160.7970, -999,      8.2,  -0.4270,  30.0151,2,  30.0061,2,    350.6,2,    367.1,2,     5.29,2,     0.21,2,     0.01,2,     0.65,2,  -999.00,9,  -999.00,9,    1.281,2,  -0.4272,20031012,1508
  32H120030911,   267,  1,    105,      5,2,20031012,1558, 72.9727,-160.7282, -999,      7.9,  -0.6443,  29.8628,2,  29.8760,2,    353.2,2,    367.7,2,     6.13,2,     0.12,2,     0.00,2,     0.69,2,  -999.00,9,  -999.00,9,    1.366,2,  -0.6445,20031012,1605
  32H120030911,   267,  1,    104,      4,2,20031012,1558, 72.9727,-160.7282, -999,     35.7,  -1.2102,  31.7128,2,  31.8633,2,    320.1,2,   -999.0,9,    25.03,2,     6.88,2,     0.16,2,     1.61,2,  -999.00,9,  -999.00,9,    0.960,2,  -1.2109,20031012,1602
  32H120030911,   267,  1,    103,      3,2,20031012,1558, 72.9727,-160.7282, -999,     46.4,  -0.1527,  32.3798,2,  32.4127,2,    308.1,2,    315.9,2,    12.00,2,     4.46,2,     0.09,2,     1.68,2,  -999.00,9,  -999.00,9,    0.984,2,  -0.1541,20031012,1601
  32H120030911,   267,  1,    102,      2,2,20031012,1558, 72.9727,-160.7282, -999,     63.1,  -0.4149,  32.4867,2,  32.4955,2,    292.4,2,    302.0,2,    12.89,2,     5.02,2,     0.11,2,     1.91,2,  -999.00,9,  -999.00,9,    1.032,2,  -0.4167,20031012,1559
  32H120030911,   267,  1,    101,      1,2,20031012,1558, 72.9727,-160.7282, -999,     72.3,  -0.5049,  32.5241,2,  32.5080,2,    280.0,2,    293.8,2,    14.50,2,     5.39,2,     0.13,2,     2.00,2,  -999.00,9,  -999.00,9,    1.097,2,  -0.5069,20031012,1558
  32H120030911,   268,  1,    106,      6,2,20031012,1744, 73.0163,-160.6590, -999,      8.2,  -0.7489,  29.5887,2,  29.6387,2,    353.4,2,    369.2,2,     6.30,2,     0.10,2,     0.00,2,     0.72,2,  -999.00,9,  -999.00,9,    1.376,2,  -0.7491,20031012,1755
  32H120030911,   268,  1,    105,      5,2,20031012,1744, 73.0163,-160.6590, -999,     28.8,  -0.5129,  30.8783,2,  31.0824,2,    350.8,2,   -999.0,9,    12.29,2,     2.21,2,     0.06,2,     1.17,2,  -999.00,9,  -999.00,9,    1.159,2,  -0.5136,20031012,1753
  32H120030911,   268,  1,    104,      4,2,20031012,1744, 73.0163,-160.6590, -999,     52.6,  -1.2661,  32.2374,2,  32.2383,2,    292.9,2,    307.1,2,    28.25,2,     9.11,2,     0.13,2,     1.69,2,  -999.00,9,  -999.00,9,    0.895,2,  -1.2672,20031012,1751
  32H120030911,   268,  1,    103,      3,2,20031012,1744, 73.0163,-160.6590, -999,     82.3,  -0.9178,  32.5389,2,  32.5410,2,    269.3,2,   -999.0,9,    22.51,2,     7.83,2,     0.12,2,     1.99,2,  -999.00,9,  -999.00,9,    0.976,2,  -0.9198,20031012,1748
  32H120030911,   268,  1,    102,      2,2,20031012,1744, 73.0163,-160.6590, -999,    119.8,  -1.4063,  33.3027,2,  33.2960,2,    271.9,2,    283.6,2,    31.89,2,    13.69,2,     0.06,2,     1.73,2,  -999.00,9,  -999.00,9,    0.768,2,  -1.4089,20031012,1746
  32H120030911,   268,  1,    101,      1,2,20031012,1744, 73.0163,-160.6590, -999,    134.1,  -0.8318,  34.1383,2,  33.9060,2,    263.4,2,    278.8,2,    25.93,2,    13.43,2,     0.06,2,     1.51,2,  -999.00,9,  -999.00,9,    0.818,2,  -0.8355,20031012,1744