BOTTLE,20220815CCHSIOAMB
# Copy DATE/TIME to new BTL_DATE/BTL_TIME cols
# Set DATE/TIME to value at deepest bottle
# Times are not 0 padded, CF conversion still works
# Note added that CTDOXY data have not been calibrated based on email from Bob Key dated 2013-11-13
#BOTTLE,20081219PRINUNIVRMK
# 10/7/08 Initialized README file  
# Data source: http://data.eol.ucar.edu/codiac/dss/id=62.302 
# SHIP: Healy 
# Cruise:HLY-03-03; SBI 
# DATES: 9/11-10/18/2003 
# EXPOCODE:32H120030911 
# Region:Northern Alaska shelf 
# Chief Scientist -L. Codispoti and J. Swift 
# 186 stations with 24 place 10L Rosette 
# Hydro: Who - J.Swift; Status - final 
# 	Notes: Bottle salt higher than CTD salt due to insufficient flushing 
# 		except for deepest bottle (lower). General salt offset <5m 
# Nuts/O2: Who - L.Codispoti; Status - final 
# 	Notes: CTDOXY data have not been calibrated 
# Other: Chloroa, phaeo, fluoro 
# 	See Dunton et al., 2005,2006 
# References: 
# Dunton, K.H., T. Weingartner and E.C. Carmack,Ê The nearshore Beaufort Sea ecosystem: sources and fate of marine and terrestrial carbon in arctic coastal food webs,Prog. Oceanogr., 71, 362-378, 2006. 
# Dunton, K.H., J.L. Goodall, S.V. Schonberg, J.M. Grebmeier, and D.R. Maidment,Ê Multi-decadal synthesis of benthic-pelagic coupling in the western arctic: Role of cross-shelf advective processes, Deep-Sea Res. II, 52, 3462-3477, 2005. 
EXPOCODE,STNNBR,CASTNO,SAMPNO,BTLNBR,BTLNBR_FLAG_W,DATE,TIME,LATITUDE,LONGITUDE,DEPTH,CTDPRS,CTDTMP,CTDSAL,CTDSAL_FLAG_W,SALNTY,SALNTY_FLAG_W,CTDOXY,CTDOXY_FLAG_W,OXYGEN,OXYGEN_FLAG_W,SILCAT,SILCAT_FLAG_W,NITRAT,NITRAT_FLAG_W,NITRIT,NITRIT_FLAG_W,PHSPHT,PHSPHT_FLAG_W,CHLORA,CHLORA_FLAG_W,PHAEO,PHAEO_FLAG_W,FLUORO,FLUORO_FLAG_W,THETA,BTL_DATE,BTL_TIME
,,,,,,,,,,METERS,DBAR,ITS-90,PSS-78,,PSS-78,,UMOL/KG,,UMOL/KG,,UMOL/KG,,UMOL/KG,,UMOL/KG,,UMOL/KG,,UG/L,,UG/L,,VOLTS,,DEG C,,
  32H120030911,     1,  1,    105,      5,2,20030914,  29, 71.3817,-160.1637, -999,     11.9,   0.1393,  29.7783,2,  29.8896,2,    351.2,2,    364.5,2,     9.84,2,     0.08,2,     0.00,2,     0.83,2,     0.36,2,     0.14,2,    1.248,2,   0.1390,20030914,  36
  32H120030911,     1,  1,    104,      4,2,20030914,  29, 71.3817,-160.1637, -999,     18.8,   0.1121,  29.8457,2,  30.6017,2,    351.2,2,    357.6,2,    12.21,2,     1.61,2,     0.01,2,     1.04,2,     0.93,2,     0.14,2,    1.447,2,   0.1116,20030914,  34
  32H120030911,     1,  1,    103,      3,2,20030914,  29, 71.3817,-160.1637, -999,     27.2,  -1.3320,  32.0239,2,  32.1991,2,    302.8,2,    288.1,2,    18.12,2,     9.16,2,     0.07,2,     1.90,2,     2.40,2,     1.12,2,    1.962,2,  -1.3325,20030914,  32
  32H120030911,     1,  1,    102,      2,2,20030914,  29, 71.3817,-160.1637, -999,     31.6,  -1.5219,  32.5087,2,  32.5569,2,    254.0,2,    256.6,2,    26.54,2,    11.86,2,     0.10,2,     2.32,2,     1.38,2,     1.39,2,    1.811,2,  -1.5225,20030914,  31
  32H120030911,     1,  1,    101,      1,2,20030914,  29, 71.3817,-160.1637, -999,     42.2,  -1.5525,  32.5991,2,  32.5915,2,    242.5,2,    251.9,2,    26.31,2,    11.98,2,     0.13,2,     2.47,2,     1.39,2,     1.59,2,    1.630,2,  -1.5533,20030914,  29
  32H120030911,     2,  1,    105,      5,2,20030914, 428, 71.3542,-160.1110, -999,     10.9,   0.0834,  29.7933,2,  29.8037,2,    352.9,2,    366.0,2,     9.50,2,     0.00,2,     0.00,2,     0.83,2,     0.29,2,     0.15,2,    1.336,2,   0.0831,20030914, 435
  32H120030911,     2,  1,    104,      4,2,20030914, 428, 71.3542,-160.1110, -999,     17.5,   0.0662,  29.7969,2,  29.9572,2,    352.6,2,    362.8,2,    10.47,2,     0.41,2,     0.00,2,     0.91,2,     0.42,2,     0.25,2,    1.349,2,   0.0657,20030914, 433
  32H120030911,     2,  1,    103,      3,2,20030914, 428, 71.3542,-160.1110, -999,     25.8,  -0.0326,  29.9823,2,  31.2673,2,    346.5,2,    325.7,2,    16.38,2,     5.16,2,     0.05,2,     1.47,2,     1.58,2,     0.67,2,    1.428,2,  -0.0333,20030914, 431
  32H120030911,     2,  1,    102,      2,2,20030914, 428, 71.3542,-160.1110, -999,     32.3,  -1.5589,  32.5721,2,  32.5691,2,    248.4,2,    256.8,2,    27.71,2,    12.12,2,     0.10,2,     2.31,2,     1.01,2,     0.92,2,    1.535,2,  -1.5595,20030914, 430
  32H120030911,     2,  1,    101,      1,2,20030914, 428, 71.3542,-160.1110, -999,     41.5,  -1.5611,  32.6005,2,  32.5779,2,    243.3,2,    251.0,2,    27.18,2,    12.15,2,     0.13,2,     2.41,2,     1.33,2,     1.84,2,    1.728,2,  -1.5618,20030914, 428
  32H120030911,     3,  1,    104,      4,2,20030914, 557, 71.3250,-160.0585, -999,      9.7,   0.0644,  29.8083,2,  29.8183,2,    351.7,2,    366.4,2,     9.37,2,     0.00,2,     0.00,2,     0.82,2,     0.32,2,     0.19,2,    1.314,2,   0.0641,20030914, 603
  32H120030911,     3,  1,    103,      3,2,20030914, 557, 71.3250,-160.0585, -999,     19.3,   0.0938,  29.8517,2,  29.8637,2,    351.9,2,    368.1,2,     9.48,2,     0.00,2,     0.00,2,     0.84,2,     0.34,2,     0.16,2,    1.324,2,   0.0933,20030914, 601
  32H120030911,     3,  1,    102,      2,2,20030914, 557, 71.3250,-160.0585, -999,     29.7,  -0.9723,  31.4083,2,  31.2333,2,    342.2,2,    309.8,2,    17.78,2,     4.56,2,     0.04,2,     1.43,2,     1.10,2,     0.84,2,    1.827,2,  -0.9729,20030914, 559
  32H120030911,     3,  1,    101,      1,2,20030914, 557, 71.3250,-160.0585, -999,     45.1,  -1.5601,  32.5977,2,  32.5946,2,    244.0,2,    251.2,2,    27.38,2,    12.32,2,     0.11,2,     2.28,2,     1.22,2,     2.34,2,    1.763,2,  -1.5609,20030914, 557
  32H120030911,     4,  1,    105,      5,2,20030914, 657, 71.2988,-160.0025, -999,      9.5,   0.0450,  29.7603,2,  29.7607,2,    351.4,2,    365.5,2,     0.00,3,     0.00,2,     0.00,2,     0.82,2,     0.33,2,     0.15,2,    1.325,2,   0.0447,20030914, 704
  32H120030911,     4,  1,    104,      4,2,20030914, 657, 71.2988,-160.0025, -999,     15.9,   0.0397,  29.7727,2,  29.7773,2,    351.3,2,    365.9,2,     9.35,2,     0.00,2,     0.01,2,     0.81,2,     0.30,2,     0.17,2,    1.343,2,   0.0393,20030914, 702
  32H120030911,     4,  1,    103,      3,2,20030914, 657, 71.2988,-160.0025, -999,     28.7,  -1.1758,  31.9247,2,  31.3834,2,    314.9,2,    327.5,2,    16.78,2,     3.66,2,     0.04,2,     1.35,2,     1.67,2,     0.84,2,    2.195,2,  -1.1763,20030914, 700
  32H120030911,     4,  1,    102,      2,2,20030914, 657, 71.2988,-160.0025, -999,     36.8,  -1.5658,  32.5991,2,  32.6014,2,    242.3,2,    250.5,2,    27.80,2,    12.28,2,     0.12,2,     2.30,2,     1.28,2,     2.10,2,    1.738,2,  -1.5665,20030914, 659
  32H120030911,     4,  1,    101,      1,2,20030914, 657, 71.2988,-160.0025, -999,     47.9,  -1.5621,  32.5996,2,  32.5980,2,    243.0,2,    251.1,2,    27.48,2,    12.27,2,     0.14,2,     2.42,2,     1.52,2,     2.44,2,    1.817,2,  -1.5630,20030914, 657
  32H120030911,     5,  1,    104,      4,2,20030914, 752, 71.2697,-159.9475, -999,     10.4,   0.0371,  29.7826,2,  29.8178,2,    350.3,2,    365.9,2,     9.65,2,     0.04,2,     0.01,2,     0.84,2,     0.28,2,     0.19,2,    1.291,2,   0.0368,20030914, 757
  32H120030911,     5,  1,    103,      3,2,20030914, 752, 71.2697,-159.9475, -999,     28.5,  -0.9020,  31.4654,2,  31.7991,2,    343.5,2,    284.4,2,    23.05,2,     7.84,2,     0.08,2,     1.79,2,     2.09,2,     1.41,2,    1.901,2,  -0.9026,20030914, 756
  32H120030911,     5,  1,    102,      2,2,20030914, 752, 71.2697,-159.9475, -999,     39.8,  -1.5640,  32.5986,2,  32.5997,2,    241.9,2,    250.4,2,    27.90,2,    12.50,2,     0.10,2,     2.34,2,     1.28,2,     2.17,2,    1.717,2,  -1.5647,20030914, 754
  32H120030911,     5,  1,    101,      1,2,20030914, 752, 71.2697,-159.9475, -999,     54.4,  -1.5617,  32.5990,2,  32.6003,2,    242.2,2,    250.5,2,    27.25,2,    12.26,2,     0.10,2,     2.32,2,     1.29,2,     2.77,2,    1.781,2,  -1.5627,20030914, 752
  32H120030911,     6,  1,    105,      5,2,20030914, 845, 71.2410,-159.8918, -999,      9.9,   0.0732,  29.8127,2,  29.8429,2,    352.0,2,    365.1,2,    10.91,2,     0.03,2,     0.00,2,     0.79,2,     0.31,2,     0.20,2,    1.325,2,   0.0729,20030914, 850
  32H120030911,     6,  1,    104,      4,2,20030914, 845, 71.2410,-159.8918, -999,     19.7,   0.1339,  29.8986,2,  30.6072,2,    350.3,2,    345.5,2,    13.72,2,     2.17,2,     0.00,2,     1.09,2,     0.68,2,     0.61,2,    1.474,2,   0.1333,20030914, 849
  32H120030911,     6,  1,    103,      3,2,20030914, 845, 71.2410,-159.8918, -999,     29.9,  -0.8102,  31.2938,2,  32.4554,2,    336.0,2,    255.7,2,    24.21,2,    11.03,2,     0.08,2,     2.14,2,     1.17,2,     1.97,2,    1.786,2,  -0.8109,20030914, 847
  32H120030911,     6,  1,    102,      2,2,20030914, 845, 71.2410,-159.8918, -999,     40.7,  -1.5397,  32.5946,2,  32.5971,2,    242.8,2,    250.9,2,    23.88,2,    11.41,2,     0.09,2,     2.25,2,     1.35,2,     2.45,2,    1.697,2,  -1.5404,20030914, 846
  32H120030911,     6,  1,    101,      1,2,20030914, 845, 71.2410,-159.8918, -999,     52.9,  -1.5285,  32.5960,2,  32.5925,2,    243.6,2,    251.2,2,    23.66,2,    11.41,2,     0.09,2,     2.20,2,     1.13,2,     2.60,2,    1.850,2,  -1.5295,20030914, 845
  32H120030911,     7,  1,    105,      5,2,20030914, 937, 71.2137,-159.8402, -999,     10.3,   0.1668,  29.7827,2,  29.9183,2,    350.5,2,    363.0,2,    10.48,2,     0.26,2,     0.00,2,     0.85,2,     0.40,2,     0.19,2,    1.346,2,   0.1665,20030914, 943
  32H120030911,     7,  1,    104,      4,2,20030914, 937, 71.2137,-159.8402, -999,     20.1,   0.1623,  29.8209,2,  30.7981,2,    349.9,2,    336.5,2,    13.71,2,     3.09,2,     0.01,2,     1.24,2,     0.71,2,     0.63,2,    1.364,2,   0.1617,20030914, 942
  32H120030911,     7,  1,    103,      3,2,20030914, 937, 71.2137,-159.8402, -999,     30.0,  -1.4862,  32.5109,2,  32.5340,2,    259.0,2,    257.2,2,    21.27,2,    10.73,2,     0.09,2,     2.16,2,     1.13,2,     1.63,2,    1.747,2,  -1.4868,20030914, 940
  32H120030911,     7,  1,    102,      2,2,20030914, 937, 71.2137,-159.8402, -999,     39.7,  -1.5172,  32.6005,2,  32.6059,2,    244.3,2,    252.1,2,    20.73,2,    10.87,2,     0.10,2,     2.20,2,     1.10,2,     2.11,2,    1.625,2,  -1.5179,20030914, 939
  32H120030911,     7,  1,    101,      1,2,20030914, 937, 71.2137,-159.8402, -999,     50.8,  -1.5019,  32.6134,2,  32.6079,2,    244.3,2,    251.5,2,    18.24,2,    10.43,2,     0.11,2,     2.17,2,     1.23,2,     2.35,2,    1.819,2,  -1.5028,20030914, 937
  32H120030911,     8,  1,    105,      5,2,20030914,1029, 71.1852,-159.7878, -999,     10.5,   0.1493,  29.8652,2,  29.8699,2,    349.9,2,    365.5,2,     8.85,2,     0.03,2,     0.00,2,     0.79,2,     0.24,2,     0.27,2,    1.376,2,   0.1490,20030914,1034
  32H120030911,     8,  1,    104,      4,2,20030914,1029, 71.1852,-159.7878, -999,     20.6,   0.1556,  29.9120,2,  29.9239,2,    348.2,2,    365.0,2,     8.20,2,     0.03,2,     0.00,2,     0.76,2,     0.44,2,     0.13,2,    1.372,2,   0.1550,20030914,1033
  32H120030911,     8,  1,    103,      3,2,20030914,1029, 71.1852,-159.7878, -999,     32.0,  -0.7142,  31.2981,2,  31.2273,2,    340.9,2,    265.1,2,    15.11,2,     6.42,2,     0.06,2,     1.63,2,     2.07,2,     1.01,2,    2.006,2,  -0.7149,20030914,1032
  32H120030911,     8,  1,    102,      2,2,20030914,1029, 71.1852,-159.7878, -999,     39.8,  -1.4955,  32.6143,2,  32.6199,2,    245.6,2,    254.8,2,    15.85,2,    10.38,2,     0.11,2,     2.12,2,     0.92,2,     1.63,2,    1.569,2,  -1.4962,20030914,1030
  32H120030911,     8,  1,    101,      1,2,20030914,1029, 71.1852,-159.7878, -999,     56.6,  -1.4774,  32.6250,2,  32.6250,2,    246.8,2,    255.1,2,    13.69,2,    10.03,2,     0.11,2,     2.11,2,     1.09,2,     2.67,2,    1.825,2,  -1.4785,20030914,1029
  32H120030911,     9,  1,    106,      6,2,20030914,1203, 71.1568,-159.7365, -999,      6.7,   0.1582,  29.9319,2,  29.9319,2,    349.1,2,    365.7,2,     7.97,2,     0.03,2,     0.00,2,     0.77,2,     0.57,2,     0.08,2,    1.427,2,   0.1580,20030914,1211
  32H120030911,     9,  1,    105,      5,2,20030914,1203, 71.1568,-159.7365, -999,     19.7,   0.1493,  29.9277,2,  29.9302,2,    350.2,2,    366.0,2,     7.54,2,     0.03,2,     0.00,2,     0.77,2,     0.40,2,     0.08,2,    1.435,2,   0.1488,20030914,1209
  32H120030911,     9,  1,    104,      4,2,20030914,1203, 71.1568,-159.7365, -999,     32.7,  -0.5964,  31.1636,2,  30.9542,2,    313.9,2,    321.9,2,    11.32,2,     4.71,2,     0.05,2,     1.39,2,     1.65,2,     0.55,2,    1.771,2,  -0.5972,20030914,1208
  32H120030911,     9,  1,    103,      3,2,20030914,1203, 71.1568,-159.7365, -999,     49.8,  -1.4624,  32.6251,2,  32.6282,2,    249.1,2,    258.9,2,    11.09,2,     9.61,2,     0.10,2,     2.01,2,     1.02,2,     1.31,2,    1.570,2,  -1.4633,20030914,1206
  32H120030911,     9,  1,    102,      2,2,20030914,1203, 71.1568,-159.7365, -999,     60.8,  -1.4599,  32.6257,2,  32.6293,2,    249.5,2,    259.5,2,    11.09,2,     9.41,2,     0.10,2,     1.96,2,     1.18,2,     1.61,2,    1.665,2,  -1.4611,20030914,1205
  32H120030911,     9,  1,    101,      1,2,20030914,1203, 71.1568,-159.7365, -999,     76.5,  -1.4516,  32.6241,2,  32.6276,2,    253.0,2,    263.8,2,    10.55,2,     9.35,2,     0.12,2,     2.02,2,     0.87,2,     2.59,2,    1.924,2,  -1.4531,20030914,1203
  32H120030911,    10,  1,    105,      5,2,20030914,1332, 71.1318,-159.6900, -999,      9.0,   0.1162,  29.9996,2,  30.0046,2,    352.6,2,    365.6,2,     7.45,2,     0.00,2,     0.00,4,     0.67,2,     2.32,2,     0.34,2,    1.381,2,   0.1160,20030914,1340
  32H120030911,    10,  1,    104,      4,2,20030914,1332, 71.1318,-159.6900, -999,     23.2,   0.1142,  29.9996,2,  30.9742,2,    351.2,2,    348.5,2,     9.16,2,     2.35,2,     0.00,4,     1.10,2,     4.33,2,     1.92,2,    1.409,2,   0.1135,20030914,1337
  32H120030911,    10,  1,    103,      3,2,20030914,1332, 71.1318,-159.6900, -999,     34.7,  -1.4255,  32.5431,2,  32.5664,2,    281.6,2,    283.9,2,     7.96,2,     7.86,2,     0.04,4,     1.89,2,     5.68,2,     5.64,2,    1.598,2,  -1.4262,20030914,1336
  32H120030911,    10,  1,    102,      2,2,20030914,1332, 71.1318,-159.6900, -999,     43.9,  -1.4165,  32.5953,2,  32.5999,2,    270.2,2,    279.6,2,     7.53,2,     8.28,2,     0.05,4,     1.92,2,     4.76,2,     5.53,2,    1.661,2,  -1.4173,20030914,1333
  32H120030911,    10,  1,    101,      1,2,20030914,1332, 71.1318,-159.6900, -999,     57.5,  -1.4182,  32.5978,2,  32.5978,2,    269.1,2,    280.9,2,     7.52,2,     8.32,2,     0.06,4,     1.95,2,     1.01,2,     1.35,2,    1.679,2,  -1.4193,20030914,1332
  32H120030911,    11,  1,    105,      5,2,20030914,1440, 71.1007,-159.6267, -999,      9.9,   0.1653,  29.9853,2,  29.9891,2,    352.2,2,    366.7,2,     7.52,2,     0.00,2,     0.00,4,     0.73,2,     0.39,2,     0.05,2,    1.324,2,   0.1650,20030914,1449
  32H120030911,    11,  1,    104,      4,2,20030914,1440, 71.1007,-159.6267, -999,     19.3,   0.1492,  30.0034,2,  30.0050,2,    351.7,2,    366.5,2,     7.62,2,     0.00,2,     0.00,4,     0.74,2,     0.38,2,     0.06,2,    1.335,2,   0.1487,20030914,1447
  32H120030911,    11,  1,    103,      3,2,20030914,1440, 71.1007,-159.6267, -999,     32.4,  -1.0083,  32.3804,2,  32.3593,2,    326.8,2,    340.4,2,     5.23,2,     3.51,2,     0.01,4,     1.47,2,     0.84,2,     0.74,2,    1.490,2,  -1.0090,20030914,1445
  32H120030911,    11,  1,    102,      2,2,20030914,1440, 71.1007,-159.6267, -999,     44.7,  -0.9820,  32.4274,2,  32.4301,2,    321.2,2,    333.6,2,     4.68,2,     3.82,2,     0.03,4,     1.55,2,     0.93,2,     1.15,2,    1.616,2,  -0.9830,20030914,1442
  32H120030911,    11,  1,    101,      1,2,20030914,1440, 71.1007,-159.6267, -999,     57.7,  -0.9763,  32.4259,2,  32.4288,2,    321.8,2,    335.1,2,     4.67,2,     3.82,2,     0.04,4,     1.59,2,     0.98,2,     1.22,2,    1.661,2,  -0.9776,20030914,1440
  32H120030911,    12,  1,    105,      5,3,20030914,1544, 71.0743,-159.5788, -999,     12.2,   0.3342,  30.1586,2,  30.2187,0,    348.8,2,    362.7,4,     7.05,4,     0.00,4,     0.00,4,     0.69,4,     0.30,4,     0.08,4,    1.246,2,   0.3338,20030914,1553
  32H120030911,    12,  1,    104,      4,3,20030914,1544, 71.0743,-159.5788, -999,     22.1,   0.3862,  30.1771,2,  30.9913,0,    347.4,2,    318.2,4,     5.74,4,     0.53,4,     0.00,4,     0.87,4,     0.46,4,     0.26,4,    1.395,2,   0.3855,20030914,1551
  32H120030911,    12,  1,    103,      3,3,20030914,1544, 71.0743,-159.5788, -999,     35.0,  -0.2719,  31.3721,2,  32.0068,0,    366.4,3,    317.4,4,     4.54,4,     1.05,4,     0.00,4,     1.04,4,     0.57,4,     0.46,4,    1.507,2,  -0.2728,20030914,1549
  32H120030911,    12,  1,    102,      2,2,20030914,1544, 71.0743,-159.5788, -999,     50.1,  -0.3057,  32.2725,2,  32.2859,2,    367.2,4,    292.4,2,     3.46,2,     1.41,2,     0.01,4,     1.12,2,     0.60,2,     0.64,2,    1.455,2,  -0.3071,20030914,1547
  32H120030911,    12,  1,    101,      1,2,20030914,1544, 71.0743,-159.5788, -999,     73.3,  -0.5375,  32.3190,2,  32.3023,2,    350.4,4,    277.6,2,     3.66,2,     1.68,2,     0.01,4,     2.08,2,     0.67,2,     0.68,2,    1.574,2,  -0.5395,20030914,1544
  32H120030911,    13,  1,    106,      6,2,20030914,1646, 71.0467,-159.5233, -999,     12.4,   0.3520,  30.1687,2,  30.1816,2,    351.9,2,    363.9,2,     7.11,2,     0.00,2,     0.00,4,     0.68,2,     0.35,2,     0.10,2,    1.328,2,   0.3516,20030914,1657
  32H120030911,    13,  1,    105,      5,2,20030914,1646, 71.0467,-159.5233, -999,     19.9,   0.3404,  30.2364,2,  30.2752,2,    350.9,2,    362.8,2,     7.22,2,     0.03,2,     0.00,4,     0.67,2,     0.53,2,     0.08,2,    1.509,2,   0.3398,20030914,1655
  32H120030911,    13,  1,    104,      4,2,20030914,1646, 71.0467,-159.5233, -999,     29.6,   1.0075,  31.7157,2,  31.8194,2,    326.9,2,    332.2,2,    10.66,2,     1.03,2,     0.02,4,     1.15,2,     0.50,2,     0.41,2,    1.443,2,   1.0064,20030914,1653
  32H120030911,    13,  1,    103,      3,2,20030914,1646, 71.0467,-159.5233, -999,     44.7,   1.6596,  32.0535,2,  32.0581,2,    305.1,2,    314.8,2,    12.69,2,     1.33,2,     0.04,4,     1.30,2,     0.49,2,     0.62,2,    1.404,2,   1.6576,20030914,1650
  32H120030911,    13,  1,    102,      2,2,20030914,1646, 71.0467,-159.5233, -999,     59.3,   1.6983,  32.0596,2,  32.0616,2,    304.0,2,    315.7,2,    12.69,2,     1.33,2,     0.04,4,     1.32,2,     0.53,2,     0.66,2,    1.449,2,   1.6956,20030914,1648
  32H120030911,    13,  1,    101,      1,2,20030914,1646, 71.0467,-159.5233, -999,     72.7,   1.7079,  32.0604,2,  32.0640,2,    304.5,2,    314.4,2,    12.79,2,     1.37,2,     0.05,4,     1.32,2,     0.49,2,     0.64,2,    1.479,2,   1.7046,20030914,1646