BOTTLE,20220815CCHSIOAMB
EXPOCODE,STNNBR,CASTNO,SAMPNO,BTLNBR,BTLNBR_FLAG_W,DATE,TIME,LATITUDE,LONGITUDE,DEPTH,CTDPRS,CTDTMP,CTDSAL,CTDSAL_FLAG_W,SALNTY,SALNTY_FLAG_W,CTDOXY,CTDOXY_FLAG_W,OXYGEN,OXYGEN_FLAG_W,SILCAT,SILCAT_FLAG_W,NITRAT,NITRAT_FLAG_W,NITRIT,NITRIT_FLAG_W,PHSPHT,PHSPHT_FLAG_W,CHLORA,CHLORA_FLAG_W,PHAEO,PHAEO_FLAG_W,FLUORO,FLUORO_FLAG_W,THETA,BTL_DATE,BTL_TIME
,,,,,,,,,,METERS,DBAR,ITS-90,PSS-78,,PSS-78,,UMOL/KG,,UMOL/KG,,UMOL/KG,,UMOL/KG,,UMOL/KG,,UMOL/KG,,UG/L,,UG/L,,VOLTS,,DEG C,,
  32H120030911,    28,  1,    109,      9,2,20030916,2238, 73.8528,-168.1187, -999,     12.4,  -1.2014,  28.6504,2,  29.0563,2,    356.0,2,   -999.0,9,     6.22,2,     0.10,2,     0.00,2,     0.73,2,     0.22,2,     0.05,2,    0.966,2,  -1.2016,20030916,2255
  32H120030911,    28,  1,    108,      8,2,20030916,2238, 73.8528,-168.1187, -999,     22.0,  -0.8614,  30.5612,2,  31.2770,2,    366.4,2,    330.7,2,    20.94,2,     5.85,2,     0.09,2,     1.43,2,     0.60,2,     0.28,2,    1.465,2,  -0.8619,20030916,2254
  32H120030911,    28,  1,    107,      7,2,20030916,2238, 73.8528,-168.1187, -999,     34.2,  -1.5709,  31.4619,2,-999.0000,9,    306.1,2,    313.5,2,    27.12,2,     8.70,2,     0.13,2,     1.64,2,     0.35,2,     0.30,2,    1.429,2,  -1.5714,20030916,2252
  32H120030911,    28,  1,    106,      6,2,20030916,2238, 73.8528,-168.1187, -999,     58.7,  -1.5209,  32.0066,2,  32.0976,2,    291.7,2,    305.4,2,    34.18,2,     9.80,2,     0.12,2,     1.65,2,     0.16,2,     0.18,2,    1.219,2,  -1.5219,20030916,2250
  32H120030911,    28,  1,    105,      5,2,20030916,2238, 73.8528,-168.1187, -999,     79.7,  -1.3598,  32.4989,2,-999.0000,9,    232.2,2,   -999.0,9,    49.25,2,    14.00,2,     0.08,2,     2.12,2,     0.08,2,     0.14,2,    1.121,2,  -1.3614,20030916,2248
  32H120030911,    28,  1,    104,      4,2,20030916,2238, 73.8528,-168.1187, -999,    100.3,  -1.5766,  32.7135,2,  32.7927,2,    251.2,2,    264.5,2,    47.76,2,    14.66,2,     0.08,2,     2.03,2,     0.05,2,     0.10,2,    1.074,2,  -1.5785,20030916,2245
  32H120030911,    28,  1,    103,      3,2,20030916,2238, 73.8528,-168.1187, -999,    128.0,  -1.4318,  33.5185,2,-999.0000,9,    276.8,2,   -999.0,9,    27.29,2,    13.78,2,     0.04,2,     1.37,2,     0.05,2,     0.13,2,    0.867,2,  -1.4346,20030916,2243
  32H120030911,    28,  1,    102,      2,2,20030916,2238, 73.8528,-168.1187, -999,    148.5,  -0.3569,  34.3488,2,  34.3956,2,    252.4,2,    263.7,2,    23.08,2,    13.50,2,     0.07,2,     1.20,2,     0.09,2,     0.13,2,    0.856,2,  -0.3618,20030916,2241
  32H120030911,    28,  1,    101,      1,9,20030916,2238, 73.8528,-168.1187, -999,    170.4,  -0.1367,  34.4492,2,-999.0000,9,    249.8,2,   -999.0,9,  -999.00,9,  -999.00,9,  -999.00,9,  -999.00,9,  -999.00,9,  -999.00,9,    0.984,2,  -0.1427,20030916,2238
  32H120030911,    29,  1,    108,      8,2,20030917,  51, 73.9597,-168.2750, -999,     12.6,  -1.2863,  28.6374,2,-999.0000,9,    361.2,2,   -999.0,9,     4.14,2,     0.02,2,     0.00,2,     0.66,2,     0.14,2,     0.05,2,    0.998,2,  -1.2865,20030917, 108
  32H120030911,    29,  1,    107,      7,2,20030917,  51, 73.9597,-168.2750, -999,     34.3,  -1.4450,  31.3402,2,  31.4547,2,    371.7,2,    373.5,2,    15.42,2,     3.49,2,     0.08,2,     1.14,2,     3.01,2,     0.38,2,    2.097,2,  -1.4456,20030917, 105
  32H120030911,    29,  1,    106,      6,2,20030917,  51, 73.9597,-168.2750, -999,     51.0,  -1.5414,  31.8119,2,  31.8442,2,    322.1,2,    337.3,2,    23.66,2,     7.44,2,     0.12,2,     1.31,2,     0.47,2,     0.24,2,    1.476,2,  -1.5423,20030917, 103
  32H120030911,    29,  1,    105,      5,2,20030917,  51, 73.9597,-168.2750, -999,     82.5,  -1.4649,  32.3384,2,  32.3538,2,    268.3,2,    292.9,2,    40.08,2,    11.27,2,     0.09,2,     1.65,2,     0.07,2,     0.10,2,    1.027,2,  -1.4665,20030917, 101
  32H120030911,    29,  1,    104,      4,2,20030917,  51, 73.9597,-168.2750, -999,    102.2,  -1.5997,  32.5986,2,  32.5986,2,    253.2,2,    270.2,2,    52.29,2,    14.50,2,     0.07,2,     1.99,2,     0.06,2,     0.09,2,    0.965,2,  -1.6016,20030917,  59
  32H120030911,    29,  1,    103,      3,2,20030917,  51, 73.9597,-168.2750, -999,    130.8,  -1.5034,  33.0144,2,  33.0483,2,    267.0,2,    281.9,2,    38.42,2,    13.49,2,     0.06,2,     1.71,2,     0.06,2,     0.09,2,    0.974,2,  -1.5061,20030917,  56
  32H120030911,    29,  1,    102,      2,2,20030917,  51, 73.9597,-168.2750, -999,    165.4,  -0.6162,  34.2683,2,-999.0000,9,    259.0,2,   -999.0,9,    21.67,2,    13.65,2,     0.02,2,     1.18,2,     0.03,2,     0.08,2,    0.759,2,  -0.6213,20030917,  53
  32H120030911,    29,  1,    101,      1,2,20030917,  51, 73.9597,-168.2750, -999,    185.2,  -0.1215,  34.4882,2,-999.0000,9,    255.5,2,    269.7,2,    19.25,2,    13.35,2,     0.02,2,     1.10,2,     0.06,2,     0.10,2,    0.891,2,  -0.1281,20030917,  51
  32H120030911,    31,  1,    115,     15,2,20030918, 820, 74.5698,-163.5915, -999,     10.9,  -1.3142,  28.4613,2,  28.5104,2,    362.7,2,    382.3,2,     3.75,2,     0.01,2,     0.00,2,     0.67,2,     0.14,2,     0.04,2,    0.990,2,  -1.3143,20030918, 903
  32H120030911,    31,  1,    114,     14,2,20030918, 820, 74.5698,-163.5915, -999,     99.7,  -1.5578,  32.4973,2,  32.4938,2,    282.8,2,    302.5,2,    34.40,2,    11.52,2,     0.07,2,     1.62,2,     0.08,2,     0.09,2,    0.950,2,  -1.5596,20030918, 857
  32H120030911,    31,  1,    113,     13,2,20030918, 820, 74.5698,-163.5915, -999,    200.4,  -0.8275,  34.2446,2,  34.2549,2,    263.6,2,    276.3,2,    19.98,2,    13.30,2,     0.01,2,     1.17,2,     0.03,2,     0.06,2,    0.683,2,  -0.8333,20030918, 853
  32H120030911,    31,  1,    112,     12,2,20030918, 820, 74.5698,-163.5915, -999,    342.2,   0.8732,  34.8148,2,  34.8180,2,    278.7,2,    293.0,2,     6.88,2,    12.39,2,     0.00,2,     0.84,2,     0.01,2,     0.04,2,    0.534,2,   0.8575,20030918, 848
  32H120030911,    31,  1,    111,     11,2,20030918, 820, 74.5698,-163.5915, -999,    422.1,   0.7182,  34.8263,2,  34.8291,2,    279.7,2,    294.9,2,     6.65,2,    12.45,2,     0.01,2,     0.83,2,  -999.00,9,  -999.00,9,    0.494,2,   0.6991,20030918, 845
  32H120030911,    31,  1,    110,     10,2,20030918, 820, 74.5698,-163.5915, -999,    524.4,   0.5563,  34.8466,2,  34.8502,2,    282.7,2,   -999.0,9,  -999.00,9,  -999.00,9,  -999.00,9,  -999.00,9,  -999.00,9,  -999.00,9,    0.505,2,   0.5327,20030918, 840
  32H120030911,    31,  1,    109,      9,2,20030918, 820, 74.5698,-163.5915, -999,    524.5,   0.5566,  34.8465,2,  34.8504,2,    282.1,2,    297.5,2,     6.73,2,    12.50,2,     0.00,2,     0.83,2,  -999.00,9,  -999.00,9,    0.484,2,   0.5330,20030918, 840
  32H120030911,    31,  1,    107,      7,2,20030918, 820, 74.5698,-163.5915, -999,    651.3,   0.3499,  34.8563,2,  34.8600,2,    282.9,2,    298.3,2,     7.15,2,    12.56,2,     0.00,2,     0.84,2,  -999.00,9,  -999.00,9,    0.457,2,   0.3210,20030918, 835
  32H120030911,    31,  1,    108,      8,2,20030918, 820, 74.5698,-163.5915, -999,    651.4,   0.3490,  34.8563,2,  34.8601,2,    282.8,2,   -999.0,9,  -999.00,9,  -999.00,9,  -999.00,9,  -999.00,9,  -999.00,9,  -999.00,9,    0.412,2,   0.3201,20030918, 835
  32H120030911,    31,  1,    105,      5,2,20030918, 820, 74.5698,-163.5915, -999,    774.6,   0.2036,  34.8628,2,  34.8666,2,    283.7,2,    299.4,2,     7.03,2,    12.57,2,     0.00,2,     0.86,2,  -999.00,9,  -999.00,9,    0.424,2,   0.1693,20030918, 830
  32H120030911,    31,  1,    106,      6,2,20030918, 820, 74.5698,-163.5915, -999,    774.9,   0.2033,  34.8629,2,  34.8651,2,    283.5,2,   -999.0,9,  -999.00,9,  -999.00,9,  -999.00,9,  -999.00,9,  -999.00,9,  -999.00,9,    0.445,2,   0.1690,20030918, 830
  32H120030911,    31,  1,    103,      3,2,20030918, 820, 74.5698,-163.5915, -999,    898.0,   0.0887,  34.8713,2,  34.8759,2,    283.7,2,    300.1,2,     7.34,2,    12.67,2,     0.00,2,     0.86,2,  -999.00,9,  -999.00,9,    0.393,2,   0.0488,20030918, 825
  32H120030911,    31,  1,    104,      4,2,20030918, 820, 74.5698,-163.5915, -999,    898.1,   0.0887,  34.8712,2,  34.8751,2,    283.5,2,   -999.0,9,  -999.00,9,  -999.00,9,  -999.00,9,  -999.00,9,  -999.00,9,  -999.00,9,    0.417,2,   0.0488,20030918, 825
  32H120030911,    31,  1,    101,      1,2,20030918, 820, 74.5698,-163.5915, -999,   1011.1,  -0.0315,  34.8846,2,-999.0000,9,    282.0,2,    297.5,2,     8.53,2,    12.86,2,     0.01,2,     0.87,2,  -999.00,9,  -999.00,9,    0.394,2,  -0.0764,20030918, 820
  32H120030911,    31,  1,    102,      2,9,20030918, 820, 74.5698,-163.5915, -999,   1011.2,  -0.0329,  34.8851,2,-999.0000,9,    282.0,2,   -999.0,9,  -999.00,9,  -999.00,9,  -999.00,9,  -999.00,9,  -999.00,9,  -999.00,9,    0.421,2,  -0.0778,20030918, 820
  32H120030911,    32,  1,    108,      8,2,20030918,1046, 74.4912,-163.9980, -999,     10.8,  -1.3176,  28.5031,2,  29.2658,2,    363.3,2,    389.8,2,     4.89,2,     0.14,2,     0.00,2,     0.73,2,     0.23,2,     0.05,2,    0.966,2,  -1.3177,20030918,1107
  32H120030911,    32,  1,    107,      7,2,20030918,1046, 74.4912,-163.9980, -999,     26.1,  -1.1127,  31.2046,2,  31.2998,2,    392.8,2,    389.5,2,    12.05,2,     2.02,2,     0.07,2,     1.02,2,     0.94,2,     0.16,2,    1.414,2,  -1.1132,20030918,1105
  32H120030911,    32,  1,    106,      6,2,20030918,1046, 74.4912,-163.9980, -999,    100.5,  -1.5458,  32.5635,2,  32.5689,2,    252.3,2,    263.2,2,    50.44,2,    13.78,2,     0.09,2,     2.00,2,     0.06,2,     0.09,2,    1.016,2,  -1.5477,20030918,1101
  32H120030911,    32,  1,    105,      5,2,20030918,1046, 74.4912,-163.9980, -999,    185.3,  -1.1172,  34.0286,2,  34.0153,2,    267.4,2,    280.2,2,    26.90,2,    14.09,2,     0.01,2,     1.38,2,     0.02,2,     0.05,2,    0.710,2,  -1.1220,20030918,1058
  32H120030911,    32,  1,    104,      4,2,20030918,1046, 74.4912,-163.9980, -999,    299.7,   0.6154,  34.7410,2,  34.7489,2,    271.8,2,    286.2,2,     8.66,2,    12.41,2,     0.01,2,     0.86,2,  -999.00,9,  -999.00,9,    0.546,2,   0.6024,20030918,1055
  32H120030911,    32,  1,    103,      3,2,20030918,1046, 74.4912,-163.9980, -999,    364.9,   0.8104,  34.8073,2,  34.8122,2,    274.0,2,    288.3,2,     8.42,2,    12.51,2,     0.00,2,     0.85,2,  -999.00,9,  -999.00,9,    0.441,2,   0.7938,20030918,1053
  32H120030911,    32,  1,    102,      2,2,20030918,1046, 74.4912,-163.9980, -999,    499.3,   0.5562,  34.8464,2,  34.8502,2,    281.6,2,    296.5,2,     7.41,2,    12.42,2,     0.00,2,     0.83,2,  -999.00,9,  -999.00,9,    0.494,2,   0.5339,20030918,1050
  32H120030911,    32,  1,    101,      1,2,20030918,1046, 74.4912,-163.9980, -999,    618.7,   0.3843,  34.8570,2,  34.8615,2,    282.4,2,    296.9,2,     8.28,2,    12.52,2,     0.01,2,     0.85,2,  -999.00,9,  -999.00,9,    0.517,2,   0.3569,20030918,1046
  32H120030911,    33,  1,    106,      6,2,20030918,1247, 74.4117,-164.4097, -999,     11.7,  -1.3046,  28.4620,2,  28.5139,2,    362.1,2,    381.3,2,     3.52,2,     0.00,2,     0.00,2,     0.67,2,     0.12,2,     0.04,2,    0.936,2,  -1.3047,20030918,1304
  32H120030911,    33,  1,    105,      5,2,20030918,1247, 74.4117,-164.4097, -999,     39.8,  -1.2602,  31.5950,2,  31.6312,2,    339.1,2,    354.7,2,    18.60,2,     4.59,2,     0.20,2,     1.26,2,     0.90,2,     0.42,2,    1.658,2,  -1.2609,20030918,1301
  32H120030911,    33,  1,    104,      4,2,20030918,1247, 74.4117,-164.4097, -999,    135.0,  -1.5413,  33.1112,2,  33.0932,2,    281.5,2,    295.0,2,    32.82,2,    13.32,2,     0.02,2,     1.60,2,     0.02,2,     0.07,2,    0.744,2,  -1.5440,20030918,1258
  32H120030911,    33,  1,    103,      3,2,20030918,1247, 74.4117,-164.4097, -999,    218.6,  -0.1937,  34.4968,2,  34.5037,2,    262.6,2,    276.2,2,    13.92,2,    12.60,2,     0.01,2,     0.97,2,     0.02,2,     0.04,2,    0.629,2,  -0.2014,20030918,1254
  32H120030911,    33,  1,    102,      2,2,20030918,1247, 74.4117,-164.4097, -999,    323.1,   0.8260,  34.8179,2,  34.8198,2,    274.5,2,    288.7,2,     8.51,2,    12.65,2,     0.00,2,     0.84,2,  -999.00,9,  -999.00,9,    0.449,2,   0.8114,20030918,1251
  32H120030911,    33,  1,    101,      1,2,20030918,1247, 74.4117,-164.4097, -999,    422.7,   0.5145,  34.8530,2,  34.8521,2,    278.2,2,    292.4,2,     9.48,2,    12.70,2,     0.01,2,     0.85,2,  -999.00,9,  -999.00,9,    0.541,2,   0.4960,20030918,1247
  32H120030911,    34,  1,    106,      6,2,20030918,1435, 74.3367,-164.7800, -999,     11.8,  -0.9482,  28.7664,2,  28.7517,2,    357.1,2,   -999.0,9,     5.23,2,     0.00,2,     0.00,2,     0.69,2,     0.20,2,     0.04,2,    1.072,2,  -0.9484,20030918,1447
  32H120030911,    34,  1,    105,      5,2,20030918,1435, 74.3367,-164.7800, -999,     49.3,  -1.4214,  31.8139,2,  31.8462,2,    322.5,2,   -999.0,9,    23.97,2,     6.80,2,     0.19,2,     1.32,2,     0.44,2,     0.30,2,    1.460,2,  -1.4223,20030918,1444
  32H120030911,    34,  1,    104,      4,2,20030918,1435, 74.3367,-164.7800, -999,    110.7,  -1.5837,  32.6411,2,  32.6718,2,    286.5,2,    299.6,2,    32.15,2,    12.68,2,     0.06,2,     1.58,2,     0.04,2,     0.09,2,    0.844,2,  -1.5858,20030918,1442
  32H120030911,    34,  1,    103,      3,2,20030918,1435, 74.3367,-164.7800, -999,    190.2,  -0.5250,  34.3291,2,  34.3791,2,    255.9,2,    272.1,2,    19.00,2,    13.14,2,     0.01,2,     1.10,2,     0.02,2,     0.06,2,    0.706,2,  -0.5311,20030918,1440
  32H120030911,    34,  1,    102,      2,2,20030918,1435, 74.3367,-164.7800, -999,    285.1,   0.7679,  34.8079,2,  34.8086,2,    268.6,2,    281.7,2,    11.64,2,    12.85,2,     0.00,2,     0.88,2,  -999.00,9,  -999.00,9,    0.512,2,   0.7552,20030918,1437
  32H120030911,    34,  1,    101,      1,2,20030918,1435, 74.3367,-164.7800, -999,    341.0,   0.5225,  34.8542,2,  34.8514,2,    270.8,2,    285.7,2,    12.07,2,    12.94,2,     0.01,2,     0.87,2,  -999.00,9,  -999.00,9,    0.580,2,   0.5078,20030918,1435
  32H120030911,    35,  1,    106,      6,2,20030918,1621, 74.2482,-165.2080, -999,     12.2,  -1.0961,  28.7807,2,  29.0340,2,    359.2,2,   -999.0,9,     5.93,2,     0.00,2,     0.00,2,     0.71,2,     0.24,2,     0.05,2,    1.098,2,  -1.0963,20030918,1630
  32H120030911,    35,  1,    105,      5,2,20030918,1621, 74.2482,-165.2080, -999,     21.3,  -0.8841,  30.4715,2,  30.7295,2,    375.6,2,   -999.0,9,     8.12,2,     0.00,2,     0.00,2,     0.80,2,     0.56,2,     0.14,2,    1.396,2,  -0.8845,20030918,1629
  32H120030911,    35,  1,    104,      4,2,20030918,1621, 74.2482,-165.2080, -999,     40.4,  -1.5320,  31.6362,2,  31.6679,2,    303.2,2,    347.1,2,    20.40,2,     5.59,2,     0.23,2,     1.28,2,     1.02,2,     0.30,2,    1.308,2,  -1.5327,20030918,1628
  32H120030911,    35,  1,    103,      3,2,20030918,1621, 74.2482,-165.2080, -999,    131.8,  -1.5683,  32.9734,2,  32.9792,2,    283.6,2,    297.7,2,    33.83,2,    13.11,2,     0.05,2,     1.59,2,     0.05,2,     0.08,2,    0.829,2,  -1.5709,20030918,1625
  32H120030911,    35,  1,    102,      2,2,20030918,1621, 74.2482,-165.2080, -999,    242.4,   0.6358,  34.7504,2,  34.7672,2,    262.3,2,    277.2,2,    12.67,2,    12.85,2,     0.01,2,     0.90,2,  -999.00,9,  -999.00,9,    0.547,2,   0.6254,20030918,1623
  32H120030911,    35,  1,    101,      1,2,20030918,1621, 74.2482,-165.2080, -999,    286.4,   0.7397,  34.8366,2,  34.8340,2,    265.7,2,    279.4,2,    13.75,2,    13.03,2,     0.03,2,     0.90,2,  -999.00,9,  -999.00,9,    0.677,2,   0.7270,20030918,1621
  32H120030911,    36,  1,    107,      7,2,20030918,1759, 74.1668,-165.6078, -999,     12.1,  -1.1756,  28.5509,2,-999.0000,9,    361.2,2,   -999.0,9,     5.97,2,     0.02,2,     0.00,2,     0.71,2,     0.23,2,     0.05,2,    1.003,2,  -1.1758,20030918,1814
  32H120030911,    36,  1,    106,      6,2,20030918,1759, 74.1668,-165.6078, -999,     27.0,  -0.9353,  30.0865,2,  30.4243,2,    379.7,2,   -999.0,9,     7.28,2,     0.26,2,     0.01,2,     0.79,2,     0.62,2,     0.10,2,    1.389,2,  -0.9358,20030918,1812
  32H120030911,    36,  1,    105,      5,2,20030918,1759, 74.1668,-165.6078, -999,     49.9,  -1.5018,  31.6528,2,  31.6952,2,    334.1,2,   -999.0,9,    21.32,2,     5.96,2,     0.21,2,     1.26,2,     1.59,2,     0.08,2,    1.825,2,  -1.5026,20030918,1810
  32H120030911,    36,  1,    104,      4,2,20030918,1759, 74.1668,-165.6078, -999,     77.0,  -1.3948,  32.2346,2,  32.2600,2,    292.4,2,    311.3,2,    33.79,2,     9.34,2,     0.14,2,     1.52,2,     0.07,2,     0.15,2,    1.061,2,  -1.3963,20030918,1808
  32H120030911,    36,  1,    103,      3,2,20030918,1759, 74.1668,-165.6078, -999,    108.0,  -1.5945,  32.6686,2,  32.7922,2,    273.7,2,    289.6,2,    38.95,2,    13.24,2,     0.07,2,     1.69,2,     0.04,2,     0.09,2,    0.938,2,  -1.5965,20030918,1806
  32H120030911,    36,  1,    102,      2,2,20030918,1759, 74.1668,-165.6078, -999,    204.7,   0.3619,  34.6639,2,  34.6771,2,    254.7,2,    267.4,2,    15.99,2,    13.04,2,     0.01,2,     0.97,2,  -999.00,9,  -999.00,9,    0.587,2,   0.3537,20030918,1801
  32H120030911,    36,  1,    101,      1,2,20030918,1759, 74.1668,-165.6078, -999,    236.3,   0.6433,  34.7555,2,  27.2720,0,    256.9,2,    269.5,2,    16.50,2,    13.14,2,     0.03,2,     0.97,2,  -999.00,9,  -999.00,9,    0.782,2,   0.6332,20030918,1759
  32H120030911,    37,  1,    107,      7,2,20030918,1946, 74.0853,-166.0062, -999,     12.0,  -1.1671,  28.5848,2,-999.0000,9,    360.1,2,   -999.0,9,  -999.00,9,  -999.00,9,  -999.00,9,  -999.00,9,     0.27,2,     0.06,2,    1.148,2,  -1.1673,20030918,2000
  32H120030911,    37,  1,    106,      6,2,20030918,1946, 74.0853,-166.0062, -999,     38.4,  -1.5143,  31.5230,2,  31.6695,2,    355.4,2,    356.3,2,    20.06,2,     4.92,2,     0.13,2,     1.21,2,     1.09,2,     0.23,2,    1.752,2,  -1.5149,20030918,1958
  32H120030911,    37,  1,    105,      5,2,20030918,1946, 74.0853,-166.0062, -999,     61.6,  -1.5552,  31.9565,2,  32.0968,2,    315.4,2,    323.4,2,    31.77,2,     8.71,2,     0.15,2,     1.45,2,     0.27,2,     0.17,2,    1.308,2,  -1.5563,20030918,1956
  32H120030911,    37,  1,    104,      4,2,20030918,1946, 74.0853,-166.0062, -999,     95.3,  -1.5767,  32.5502,2,  32.7155,2,    281.0,2,   -999.0,9,    37.70,2,    12.63,2,     0.06,2,     1.64,2,     0.07,2,     0.10,2,    0.885,2,  -1.5785,20030918,1953
  32H120030911,    37,  1,    103,      3,2,20030918,1946, 74.0853,-166.0062, -999,    123.3,  -1.4694,  33.2639,2,  33.4509,2,    277.6,2,    290.3,2,    32.27,2,    13.66,2,     0.02,2,     1.53,2,     0.04,2,     0.05,2,    0.773,2,  -1.4720,20030918,1951
  32H120030911,    37,  1,    102,      2,2,20030918,1946, 74.0853,-166.0062, -999,    169.7,  -0.0746,  34.5037,2,  34.5483,2,    252.4,2,   -999.0,9,    18.66,2,    13.22,2,     0.02,2,     1.04,2,  -999.00,9,  -999.00,9,    0.738,2,  -0.0807,20030918,1949
  32H120030911,    37,  1,    101,      1,2,20030918,1946, 74.0853,-166.0062, -999,    210.1,   0.4886,  34.7032,2,  34.7067,2,    253.6,2,    264.4,2,    17.11,2,    13.24,2,     0.04,2,     0.99,2,  -999.00,9,  -999.00,9,    0.912,2,   0.4799,20030918,1946