BOTTLE,20220815CCHSIOAMB
EXPOCODE,STNNBR,CASTNO,SAMPNO,BTLNBR,BTLNBR_FLAG_W,DATE,TIME,LATITUDE,LONGITUDE,DEPTH,CTDPRS,CTDTMP,CTDSAL,CTDSAL_FLAG_W,SALNTY,SALNTY_FLAG_W,CTDOXY,CTDOXY_FLAG_W,OXYGEN,OXYGEN_FLAG_W,SILCAT,SILCAT_FLAG_W,NITRAT,NITRAT_FLAG_W,NITRIT,NITRIT_FLAG_W,PHSPHT,PHSPHT_FLAG_W,CHLORA,CHLORA_FLAG_W,PHAEO,PHAEO_FLAG_W,FLUORO,FLUORO_FLAG_W,THETA,BTL_DATE,BTL_TIME
,,,,,,,,,,METERS,DBAR,ITS-90,PSS-78,,PSS-78,,UMOL/KG,,UMOL/KG,,UMOL/KG,,UMOL/KG,,UMOL/KG,,UMOL/KG,,UG/L,,UG/L,,VOLTS,,DEG C,,
  32H120030911,   217,  1,    109,      9,2,20031008,1321, 71.4442,-152.0203, -999,      7.1,   1.3074,  29.5300,2,  29.5343,2,    339.3,2,    349.7,2,     6.50,2,     0.05,2,     0.00,2,     0.66,2,     0.36,2,     0.17,2,    1.301,2,   1.3071,20031008,1338
  32H120030911,   217,  1,    108,      8,2,20031008,1321, 71.4442,-152.0203, -999,     24.9,   1.3204,  29.6001,2,  30.1533,2,    339.7,2,    345.2,2,     6.01,2,     0.14,2,     0.01,2,     0.71,2,     0.20,2,     0.15,2,    1.278,2,   1.3194,20031008,1336
  32H120030911,   217,  1,    107,      7,2,20031008,1321, 71.4442,-152.0203, -999,     50.7,   1.0040,  31.6486,2,  31.7119,2,    322.2,2,    327.0,2,    10.22,2,     2.93,2,     0.10,2,     1.11,2,     0.05,2,     0.10,2,    0.893,2,   1.0020,20031008,1333
  32H120030911,   217,  1,    106,      6,2,20031008,1321, 71.4442,-152.0203, -999,     74.9,  -0.8489,  32.1783,2,  32.1997,2,    315.4,2,    324.4,2,    16.65,2,     6.52,2,     0.17,2,     1.45,2,     0.03,2,     0.07,2,    0.853,2,  -0.8507,20031008,1331
  32H120030911,   217,  1,    105,      5,2,20031008,1321, 71.4442,-152.0203, -999,    100.5,  -1.2635,  32.6934,2,  32.9056,2,    286.7,2,    293.2,2,    24.57,2,    11.61,2,     0.10,2,     1.63,2,     0.03,2,     0.09,2,    0.815,2,  -1.2657,20031008,1329
  32H120030911,   217,  1,    104,      4,2,20031008,1321, 71.4442,-152.0203, -999,    124.5,  -1.4464,  33.2022,2,  33.4203,2,    276.3,2,    282.9,2,    28.37,2,    14.27,2,     0.05,2,     1.66,2,     0.02,2,     0.05,2,    0.693,2,  -1.4491,20031008,1327
  32H120030911,   217,  1,    103,      3,2,20031008,1321, 71.4442,-152.0203, -999,    150.8,  -1.1055,  33.8043,2,  33.9537,2,    271.9,2,    281.0,2,    22.38,2,    13.57,2,     0.06,2,     1.44,2,     0.01,2,     0.07,2,    0.718,2,  -1.1094,20031008,1325
  32H120030911,   217,  1,    102,      2,2,20031008,1321, 71.4442,-152.0203, -999,    174.6,  -0.3563,  34.3458,2,  34.3636,2,    271.1,2,    279.6,2,    17.30,2,    13.24,2,     0.06,2,     1.25,2,     0.03,2,     0.08,2,    0.678,2,  -0.3621,20031008,1323
  32H120030911,   217,  1,    101,      1,2,20031008,1321, 71.4442,-152.0203, -999,    198.7,  -0.2605,  34.4449,2,  34.4407,2,    271.0,2,    280.9,2,    16.47,2,    13.15,2,     0.06,2,     1.25,2,     0.05,2,     0.18,2,    0.817,2,  -0.2673,20031008,1321
  32H120030911,   218,  1,    112,     12,2,20031008,1633, 71.4910,-151.9835, -999,      7.1,   1.2592,  29.5694,2,  29.6094,2,    339.6,2,    351.1,2,     6.41,2,     0.04,2,     0.01,2,     0.68,2,     0.34,2,     0.18,2,    1.308,2,   1.2589,20031008,1656
  32H120030911,   218,  1,    111,     11,2,20031008,1633, 71.4910,-151.9835, -999,     25.0,   1.1589,  29.6330,2,  30.3072,2,    341.1,2,    354.1,2,     6.49,2,     0.25,2,     0.03,2,     0.76,2,     0.18,2,     0.14,2,    1.286,2,   1.1580,20031008,1654
  32H120030911,   218,  1,    110,     10,2,20031008,1633, 71.4910,-151.9835, -999,     50.7,   1.2679,  31.5890,2,  31.8416,2,    318.9,2,    335.1,2,    10.92,2,     3.47,2,     0.14,2,     1.17,2,     0.04,2,     0.07,2,    0.876,2,   1.2658,20031008,1652
  32H120030911,   218,  1,    109,      9,2,20031008,1633, 71.4910,-151.9835, -999,     75.1,  -1.0182,  32.1667,2,  32.3102,2,    327.8,2,    326.8,2,    18.64,2,     7.85,2,     0.14,2,     1.47,2,     0.02,2,     0.05,2,    0.780,2,  -1.0199,20031008,1650
  32H120030911,   218,  1,    108,      8,2,20031008,1633, 71.4910,-151.9835, -999,    100.5,  -1.4414,  32.5875,2,  32.6704,2,    281.2,2,    293.9,2,    26.56,2,    11.61,2,     0.11,2,     1.75,2,     0.02,2,     0.07,2,    0.825,2,  -1.4434,20031008,1649
  32H120030911,   218,  1,    107,      7,2,20031008,1633, 71.4910,-151.9835, -999,    125.1,  -1.4400,  33.0644,2,  32.6713,0,    276.7,2,    284.5,2,    28.86,2,    13.91,2,     0.08,2,     1.74,2,     0.02,2,     0.06,2,    0.746,2,  -1.4426,20031008,1646
  32H120030911,   218,  1,    106,      6,2,20031008,1633, 71.4910,-151.9835, -999,    150.6,  -1.1311,  33.8504,2,  33.9746,2,    271.4,2,    280.6,2,    24.23,2,    13.91,2,     0.03,2,     1.51,2,     0.01,2,     0.04,2,    0.675,2,  -1.1349,20031008,1644
  32H120030911,   218,  1,    105,      5,2,20031008,1633, 71.4910,-151.9835, -999,    175.8,  -0.3041,  34.4547,2,  34.5052,2,    269.6,2,    278.2,2,    14.96,2,    13.19,2,     0.01,2,     1.17,2,     0.01,2,     0.04,2,    0.642,2,  -0.3101,20031008,1642
  32H120030911,   218,  1,    104,      4,2,20031008,1633, 71.4910,-151.9835, -999,    201.6,   0.3129,  34.6833,2,  34.6965,2,    271.7,2,    280.9,2,    10.84,2,    12.94,2,     0.01,2,     1.04,2,     0.01,2,     0.05,2,    0.577,2,   0.3049,20031008,1640
  32H120030911,   218,  1,    103,      3,2,20031008,1633, 71.4910,-151.9835, -999,    225.6,   0.4796,  34.7466,2,  34.7523,2,    275.2,2,    284.3,2,     9.36,2,    12.65,2,     0.01,2,     0.99,2,  -999.00,9,  -999.00,9,    0.558,2,   0.4702,20031008,1638
  32H120030911,   218,  1,    102,      2,2,20031008,1633, 71.4910,-151.9835, -999,    252.2,   0.5002,  34.7692,2,  34.7751,2,    278.1,2,    287.6,2,     8.86,2,    12.61,2,     0.05,2,     0.98,2,  -999.00,9,  -999.00,9,    0.621,2,   0.4896,20031008,1636
  32H120030911,   218,  1,    101,      1,2,20031008,1633, 71.4910,-151.9835, -999,    286.6,   0.5208,  34.7936,2,  34.7957,2,    278.3,2,    288.0,2,     9.15,2,    12.61,2,     0.06,2,     0.99,2,  -999.00,9,  -999.00,9,    0.660,2,   0.5086,20031008,1633
  32H120030911,   219,  1,    116,     16,2,20031008,2005, 71.5362,-151.9487, -999,      5.9,   0.8281,  29.5472,2,  29.5611,2,    344.7,2,    355.6,2,     5.60,2,     0.00,2,     0.00,2,     0.66,2,     0.36,2,     0.18,2,    1.355,2,   0.8279,20031008,2034
  32H120030911,   219,  1,    115,     15,2,20031008,2005, 71.5362,-151.9487, -999,     24.2,   0.8430,  29.6312,2,  29.8856,2,    344.5,2,    353.4,2,     5.39,2,     0.04,2,     0.00,2,     0.68,2,     0.23,2,     0.15,2,    1.305,2,   0.8422,20031008,2032
  32H120030911,   219,  1,    114,     14,2,20031008,2005, 71.5362,-151.9487, -999,     51.3,   1.0220,  31.5815,2,  31.7358,2,    329.1,2,    337.9,2,     9.48,2,     2.41,2,     0.13,2,     1.10,2,     0.05,2,     0.07,2,    0.885,2,   1.0200,20031008,2030
  32H120030911,   219,  1,    113,     13,3,20031008,2005, 71.5362,-151.9487, -999,     74.9,  -0.7888,  32.2065,2,  31.7044,0,    310.7,2,    339.1,4,     8.87,4,     2.13,4,     0.13,4,     1.08,4,     0.04,4,     0.08,4,    0.868,2,  -0.7906,20031008,2028
  32H120030911,   219,  1,    112,     12,2,20031008,2005, 71.5362,-151.9487, -999,    100.9,  -1.3698,  32.5319,2,  32.6184,2,    277.7,2,    287.3,2,    24.53,2,    10.95,2,     0.12,2,     1.80,2,     0.04,2,     0.10,2,    0.933,2,  -1.3719,20031008,2026
  32H120030911,   219,  1,    111,     11,2,20031008,2005, 71.5362,-151.9487, -999,    125.3,  -1.5472,  32.9784,2,  33.1366,2,    285.3,2,    290.4,2,    28.23,2,    13.48,2,     0.04,2,     1.68,2,     0.01,2,     0.04,2,    0.676,2,  -1.5497,20031008,2024
  32H120030911,   219,  1,    110,     10,2,20031008,2005, 71.5362,-151.9487, -999,    150.6,  -1.1160,  33.8510,2,  33.9865,2,    269.6,2,    279.2,2,    23.61,2,    13.87,2,     0.04,2,     1.48,2,     0.01,2,     0.04,2,    0.666,2,  -1.1199,20031008,2023
  32H120030911,   219,  1,    109,      9,2,20031008,2005, 71.5362,-151.9487, -999,    175.4,  -0.5915,  34.4036,2,  34.4632,2,    273.5,2,    281.3,2,    15.78,2,    13.02,2,     0.01,2,     1.17,2,     0.01,2,     0.03,2,    0.561,2,  -0.5970,20031008,2021
  32H120030911,   219,  1,    108,      8,2,20031008,2005, 71.5362,-151.9487, -999,    200.8,   0.1423,  34.6230,2,  34.6549,2,    269.3,2,    279.7,2,    11.91,2,    12.93,2,     0.05,2,     1.05,2,     0.01,2,     0.05,2,    0.589,2,   0.1346,20031008,2020
  32H120030911,   219,  1,    107,      7,2,20031008,2005, 71.5362,-151.9487, -999,    224.9,   0.3619,  34.7137,2,  34.7331,2,    274.2,2,    284.1,2,     9.72,2,    12.67,2,     0.03,2,     0.98,2,  -999.00,9,  -999.00,9,    0.550,2,   0.3528,20031008,2018
  32H120030911,   219,  1,    106,      6,2,20031008,2005, 71.5362,-151.9487, -999,    250.6,   0.5196,  34.7620,2,  34.7714,2,    277.3,2,    286.7,2,     8.44,2,    12.57,2,     0.03,2,     0.94,2,  -999.00,9,  -999.00,9,    0.555,2,   0.5091,20031008,2016
  32H120030911,   219,  1,    105,      5,2,20031008,2005, 71.5362,-151.9487, -999,    274.6,   0.5586,  34.7819,2,  34.7933,2,    277.5,2,    287.6,2,     8.24,2,    12.55,2,     0.05,2,     0.94,2,  -999.00,9,  -999.00,9,    0.553,2,   0.5469,20031008,2014
  32H120030911,   219,  1,    104,      4,2,20031008,2005, 71.5362,-151.9487, -999,    298.9,   0.5984,  34.8000,2,  34.8053,2,    279.7,2,    289.1,2,     7.84,2,    12.52,2,     0.04,2,     0.92,2,  -999.00,9,  -999.00,9,    0.502,2,   0.5855,20031008,2013
  32H120030911,   219,  1,    103,      3,2,20031008,2005, 71.5362,-151.9487, -999,    399.1,   0.5926,  34.8296,2,  34.8351,2,    283.5,2,    293.3,2,     6.96,2,    12.43,2,     0.02,2,     0.89,2,  -999.00,9,  -999.00,9,    0.495,2,   0.5750,20031008,2010
  32H120030911,   219,  1,    102,      2,2,20031008,2005, 71.5362,-151.9487, -999,    499.5,   0.4821,  34.8427,2,  34.8473,2,    284.7,2,    294.8,2,     6.85,2,    12.44,2,     0.02,2,     0.89,2,  -999.00,9,  -999.00,9,    0.500,2,   0.4601,20031008,2007
  32H120030911,   219,  1,    101,      1,2,20031008,2005, 71.5362,-151.9487, -999,    567.8,   0.4234,  34.8483,2,  34.8513,2,    285.0,2,    294.9,2,     7.02,2,    12.47,2,     0.03,2,     0.89,2,  -999.00,9,  -999.00,9,    0.486,2,   0.3983,20031008,2005
  32H120030911,   220,  1,    112,     12,2,20031009,2336, 71.5782,-151.9067, -999,     11.2,   0.8008,  29.5408,2,  29.7153,2,    345.7,2,    357.0,2,     5.32,2,     0.04,2,     0.00,2,     0.68,2,     0.25,2,     0.18,2,    1.347,2,   0.8004,20031009,   4
  32H120030911,   220,  1,    111,     11,3,20031009,2336, 71.5782,-151.9067, -999,     32.6,   1.5258,  30.6346,2,  30.9921,0,    347.7,2,    338.4,4,     5.96,4,     0.49,4,     0.04,4,     0.81,4,     0.06,4,     0.10,4,    0.976,2,   1.5245,20031009,   2
  32H120030911,   220,  1,    110,     10,2,20031009,2336, 71.5782,-151.9067, -999,     65.5,   0.1981,  31.8931,2,  31.9806,2,    323.7,2,    333.5,2,    11.75,2,     3.99,2,     0.15,2,     1.26,2,     0.03,2,     0.08,2,    0.874,2,   0.1960,20031009,   0
  32H120030911,   220,  1,    109,      9,2,20031009,2336, 71.5782,-151.9067, -999,     96.2,  -1.4198,  32.4956,2,  32.5241,2,    294.1,2,    303.3,2,    24.12,2,    10.07,2,     0.15,2,     1.69,2,     0.01,2,     0.05,2,    0.813,2,  -1.4217,20031009,2358
  32H120030911,   220,  1,    108,      8,2,20031009,2336, 71.5782,-151.9067, -999,    130.6,  -1.4507,  33.1261,2,  33.2063,2,    278.3,2,    285.7,2,    28.91,2,    13.87,2,     0.08,2,     1.71,2,     0.01,2,     0.06,2,    0.722,2,  -1.4535,20031009,2356
  32H120030911,   220,  1,    107,      7,2,20031009,2336, 71.5782,-151.9067, -999,    168.2,  -0.7892,  34.2885,2,  34.2654,2,    274.9,2,    283.4,2,    19.71,2,    13.39,2,     0.01,2,     1.33,2,     0.01,2,     0.06,2,    0.618,2,  -0.7941,20031009,2353
  32H120030911,   220,  1,    106,      6,2,20031009,2336, 71.5782,-151.9067, -999,    229.0,   0.2920,  34.6851,2,  34.6894,2,    272.4,2,    281.9,2,    10.68,2,    12.80,2,     0.05,2,     1.02,2,  -999.00,9,  -999.00,9,    0.582,2,   0.2829,20031009,2351
  32H120030911,   220,  1,    105,      5,2,20031009,2336, 71.5782,-151.9067, -999,    301.8,   0.5697,  34.7852,2,  34.7883,2,    277.5,2,    287.3,2,     8.38,2,    12.54,2,     0.03,2,     0.94,2,  -999.00,9,  -999.00,9,    0.521,2,   0.5567,20031009,2349
  32H120030911,   220,  1,    104,      4,2,20031009,2336, 71.5782,-151.9067, -999,    401.6,   0.5860,  34.8135,2,  34.8179,2,    280.3,2,    290.0,2,     7.70,2,    12.52,2,     0.05,2,     0.92,2,  -999.00,9,  -999.00,9,    0.543,2,   0.5683,20031009,2346
  32H120030911,   220,  1,    103,      3,2,20031009,2336, 71.5782,-151.9067, -999,    499.5,   0.5721,  34.8314,2,  34.8352,2,    282.7,2,    293.3,2,     6.84,2,    12.45,2,     0.02,2,     0.89,2,  -999.00,9,  -999.00,9,    0.504,2,   0.5497,20031009,2344
  32H120030911,   220,  1,    102,      2,2,20031009,2336, 71.5782,-151.9067, -999,    599.7,   0.4595,  34.8467,2,  34.8509,2,    284.9,2,    296.1,2,     6.55,2,    12.45,2,     0.01,2,     0.88,2,  -999.00,9,  -999.00,9,    0.480,2,   0.4326,20031009,2341
  32H120030911,   220,  1,    101,      1,2,20031009,2336, 71.5782,-151.9067, -999,    818.5,   0.1548,  34.8666,2,  34.8700,2,    287.2,2,    298.9,2,     6.92,2,    12.34,2,     0.02,2,     0.90,2,  -999.00,9,  -999.00,9,    0.460,2,   0.1186,20031009,2336
  32H120030911,   221,  1,    112,     12,2,20031009, 146, 71.6205,-151.8660, -999,      7.3,   0.4957,  29.4731,2,  29.5054,2,    346.4,2,    359.5,2,     4.84,2,     0.00,2,     0.00,2,     0.67,2,     0.42,2,     0.19,2,    1.439,2,   0.4955,20031009, 213
  32H120030911,   221,  1,    111,     11,2,20031009, 146, 71.6205,-151.8660, -999,     50.1,   1.2219,  31.6356,2,  31.7273,2,    319.8,2,    332.1,2,     8.42,2,     1.94,2,     0.13,2,     1.08,2,     0.03,2,     0.09,2,    0.832,2,   1.2199,20031009, 211
  32H120030911,   221,  1,    110,     10,2,20031009, 146, 71.6205,-151.8660, -999,    100.4,  -1.4410,  32.5417,2,  32.6054,2,    285.1,2,    289.3,2,    26.33,2,    11.21,2,     0.12,2,     1.80,2,     0.03,2,     0.08,2,    0.820,2,  -1.4430,20031009, 208
  32H120030911,   221,  1,    109,      9,2,20031009, 146, 71.6205,-151.8660, -999,    125.2,  -1.3629,  33.1057,2,  33.1815,2,    270.1,2,    280.7,2,    29.07,2,    13.67,2,     0.08,2,     1.76,2,     0.02,2,     0.06,2,    0.783,2,  -1.3656,20031009, 206
  32H120030911,   221,  1,    108,      8,2,20031009, 146, 71.6205,-151.8660, -999,    149.5,  -1.0411,  33.7793,2,  33.8777,2,    270.5,2,    280.8,2,    24.33,2,    13.71,2,     0.08,2,     1.53,2,  -999.00,9,  -999.00,9,    0.717,2,  -1.0450,20031009, 205
  32H120030911,   221,  1,    107,      7,2,20031009, 146, 71.6205,-151.8660, -999,    199.6,  -0.0065,  34.5743,2,  34.5910,2,    273.8,2,    283.1,2,    12.90,2,    12.90,2,     0.05,2,     1.10,2,  -999.00,9,  -999.00,9,    0.621,2,  -0.0138,20031009, 203
  32H120030911,   221,  1,    106,      6,2,20031009, 146, 71.6205,-151.8660, -999,    249.7,   0.5045,  34.7404,2,  34.7471,2,    273.4,2,    283.6,2,     9.23,2,    12.69,2,     0.01,2,     0.98,2,  -999.00,9,  -999.00,9,    0.490,2,   0.4940,20031009, 202
  32H120030911,   221,  1,    105,      5,2,20031009, 146, 71.6205,-151.8660, -999,    299.7,   0.5782,  34.7800,2,  34.7856,2,    277.2,2,    287.4,2,     8.35,2,    12.52,2,     0.04,2,     0.94,2,  -999.00,9,  -999.00,9,    0.486,2,   0.5653,20031009, 200
  32H120030911,   221,  1,    104,      4,2,20031009, 146, 71.6205,-151.8660, -999,    400.6,   0.5731,  34.8086,2,  34.8116,2,    279.3,2,    290.5,2,     7.96,2,    12.53,2,     0.07,2,     0.93,2,  -999.00,9,  -999.00,9,    0.554,2,   0.5555,20031009, 158
  32H120030911,   221,  1,    103,      3,2,20031009, 146, 71.6205,-151.8660, -999,    601.9,   0.4941,  34.8437,2,  34.8485,2,    284.3,2,    294.9,2,     6.70,2,    12.48,2,     0.02,2,     0.88,2,  -999.00,9,  -999.00,9,    0.471,2,   0.4670,20031009, 153
  32H120030911,   221,  1,    102,      2,2,20031009, 146, 71.6205,-151.8660, -999,    801.6,   0.2303,  34.8624,2,  34.8670,2,    287.1,2,    298.6,2,     6.41,2,    12.48,2,     0.01,2,     0.89,2,  -999.00,9,  -999.00,9,    0.475,2,   0.1945,20031009, 149
  32H120030911,   221,  1,    101,      1,2,20031009, 146, 71.6205,-151.8660, -999,    926.5,  -0.0002,  34.8776,2,  34.8805,2,    287.1,2,    300.1,2,     6.97,2,    12.57,2,     0.02,2,     0.91,2,  -999.00,9,  -999.00,9,    0.437,2,  -0.0409,20031009, 146
  32H120030911,   222,  1,    112,     12,2,20031009, 408, 71.6627,-151.8263, -999,      8.0,   0.6457,  29.6219,2,  29.6540,2,    347.5,2,    359.5,2,     4.73,2,     0.00,2,     0.00,2,     0.67,2,     0.30,2,     0.15,2,    1.319,2,   0.6454,20031009, 443
  32H120030911,   222,  1,    111,     11,2,20031009, 408, 71.6627,-151.8263, -999,     49.7,   0.0589,  31.6736,2,  31.8971,2,    344.3,2,    345.4,2,    11.50,2,     4.46,2,     0.25,2,     1.21,2,     0.03,2,     0.06,2,    0.854,2,   0.0574,20031009, 441
  32H120030911,   222,  1,    110,     10,2,20031009, 408, 71.6627,-151.8263, -999,    100.2,  -1.3647,  32.4945,2,  32.5837,2,    280.9,2,    286.2,2,    23.81,2,    10.47,2,     0.14,2,     1.82,2,     0.04,2,     0.09,2,    0.927,2,  -1.3667,20031009, 438
  32H120030911,   222,  1,    109,      9,2,20031009, 408, 71.6627,-151.8263, -999,    125.2,  -1.4763,  32.8050,2,  33.1039,2,    277.4,2,    284.0,2,    28.24,2,    13.56,2,     0.08,2,     1.75,2,     0.02,2,     0.06,2,    0.764,2,  -1.4789,20031009, 436
  32H120030911,   222,  1,    108,      8,2,20031009, 408, 71.6627,-151.8263, -999,    149.8,  -1.2220,  33.7137,2,  33.9039,2,    272.9,2,    282.7,2,    23.75,2,    13.84,2,     0.04,2,     1.51,2,     0.01,2,     0.04,2,    0.682,2,  -1.2257,20031009, 435
  32H120030911,   222,  1,    107,      7,2,20031009, 408, 71.6627,-151.8263, -999,    200.5,  -0.1382,  34.5412,2,  34.5805,2,    270.2,2,    280.7,2,    13.20,2,    13.05,2,     0.03,2,     1.10,2,     0.01,2,     0.04,2,    0.553,2,  -0.1454,20031009, 433
  32H120030911,   222,  1,    106,      6,2,20031009, 408, 71.6627,-151.8263, -999,    298.7,   0.5293,  34.7717,2,  34.7797,2,    279.2,2,    290.0,2,     7.89,2,    12.52,2,     0.02,2,     0.93,2,  -999.00,9,  -999.00,9,    0.509,2,   0.5166,20031009, 431
  32H120030911,   222,  1,    105,      5,2,20031009, 408, 71.6627,-151.8263, -999,    399.6,   0.5467,  34.8116,2,  34.8186,2,    280.3,2,    292.3,2,     7.49,2,    12.49,2,     0.05,2,     0.94,2,  -999.00,9,  -999.00,9,    0.550,2,   0.5292,20031009, 428
  32H120030911,   222,  1,    104,      4,2,20031009, 408, 71.6627,-151.8263, -999,    600.1,   0.4485,  34.8474,2,  34.8528,2,    284.7,2,    296.1,2,     6.62,2,    12.46,2,     0.02,2,     0.89,2,  -999.00,9,  -999.00,9,    0.476,2,   0.4217,20031009, 424
  32H120030911,   222,  1,    103,      3,2,20031009, 408, 71.6627,-151.8263, -999,    799.9,   0.2543,  34.8614,2,  34.8660,2,    286.5,2,    298.2,2,     6.41,2,    12.46,2,     0.02,2,     0.90,2,  -999.00,9,  -999.00,9,    0.458,2,   0.2184,20031009, 420
  32H120030911,   222,  1,    102,      2,2,20031009, 408, 71.6627,-151.8263, -999,   1100.6,  -0.1052,  34.8864,2,  34.8913,2,    287.2,2,    300.5,2,     6.87,2,    12.70,2,     0.01,2,     0.92,2,  -999.00,9,  -999.00,9,    0.419,2,  -0.1543,20031009, 414
  32H120030911,   222,  1,    101,      1,2,20031009, 408, 71.6627,-151.8263, -999,   1398.0,  -0.3027,  34.9105,2,  34.9131,2,    285.3,2,    297.8,2,     8.08,2,    13.19,2,     0.02,2,     0.97,2,  -999.00,9,  -999.00,9,    0.409,2,  -0.3666,20031009, 408