BOTTLE,20220815CCHSIOAMB
EXPOCODE,STNNBR,CASTNO,SAMPNO,BTLNBR,BTLNBR_FLAG_W,DATE,TIME,LATITUDE,LONGITUDE,DEPTH,CTDPRS,CTDTMP,CTDSAL,CTDSAL_FLAG_W,SALNTY,SALNTY_FLAG_W,CTDOXY,CTDOXY_FLAG_W,OXYGEN,OXYGEN_FLAG_W,SILCAT,SILCAT_FLAG_W,NITRAT,NITRAT_FLAG_W,NITRIT,NITRIT_FLAG_W,PHSPHT,PHSPHT_FLAG_W,CHLORA,CHLORA_FLAG_W,PHAEO,PHAEO_FLAG_W,FLUORO,FLUORO_FLAG_W,THETA,BTL_DATE,BTL_TIME
,,,,,,,,,,METERS,DBAR,ITS-90,PSS-78,,PSS-78,,UMOL/KG,,UMOL/KG,,UMOL/KG,,UMOL/KG,,UMOL/KG,,UMOL/KG,,UG/L,,UG/L,,VOLTS,,DEG C,,
  32H120030911,   269,  1,    106,      6,2,20031012,1851, 73.0560,-160.5900, -999,      7.6,  -0.6876,  29.5940,2,  29.6039,2,    349.7,2,    369.0,2,     6.27,2,     0.22,2,     0.01,2,     0.69,2,  -999.00,9,  -999.00,9,    1.336,2,  -0.6877,20031012,1901
  32H120030911,   269,  1,    105,      5,2,20031012,1851, 73.0560,-160.5900, -999,     36.0,   0.3225,  31.3884,2,  31.4916,2,    354.2,2,    368.3,2,     9.31,2,     1.04,2,     0.15,2,     0.98,2,  -999.00,9,  -999.00,9,    1.051,2,   0.3213,20031012,1859
  32H120030911,   269,  1,    104,      4,2,20031012,1851, 73.0560,-160.5900, -999,     59.5,  -1.2153,  32.2862,2,  32.3166,2,    290.0,2,   -999.0,9,    28.23,2,     8.84,2,     0.15,2,     1.72,2,  -999.00,9,  -999.00,9,    0.920,2,  -1.2165,20031012,1858
  32H120030911,   269,  1,    103,      3,2,20031012,1851, 73.0560,-160.5900, -999,    114.6,  -1.4830,  32.8454,2,  32.9084,2,    270.3,2,    282.0,2,    32.98,2,    13.45,2,     0.08,2,     1.82,2,  -999.00,9,  -999.00,9,    0.797,2,  -1.4853,20031012,1855
  32H120030911,   269,  1,    102,      2,2,20031012,1851, 73.0560,-160.5900, -999,    141.3,  -0.9318,  34.1719,2,  34.1960,2,    270.6,2,   -999.0,9,    20.74,2,    13.19,2,     0.04,2,     1.32,2,  -999.00,9,  -999.00,9,    0.639,2,  -0.9357,20031012,1853
  32H120030911,   269,  1,    101,      1,2,20031012,1851, 73.0560,-160.5900, -999,    156.8,  -0.4854,  34.3668,2,  34.3537,2,    261.3,2,    272.1,2,    18.84,2,    12.97,2,     0.05,2,     1.26,2,  -999.00,9,  -999.00,9,    0.742,2,  -0.4904,20031012,1851
  32H120030911,   270,  1,    108,      8,9,20031012,2000, 73.0938,-160.5202, -999,      7.5,  -0.6619,  29.4535,2,-999.0000,9,    351.5,2,   -999.0,9,  -999.00,9,  -999.00,9,  -999.00,9,  -999.00,9,  -999.00,9,  -999.00,9,    1.382,2,  -0.6620,20031012,2016
  32H120030911,   270,  1,    109,      9,9,20031012,2000, 73.0938,-160.5202, -999,      7.6,  -0.6587,  29.4477,2,-999.0000,9,    351.1,2,   -999.0,9,  -999.00,9,  -999.00,9,  -999.00,9,  -999.00,9,  -999.00,9,  -999.00,9,    1.399,2,  -0.6588,20031012,2016
  32H120030911,   270,  1,    107,      7,2,20031012,2000, 73.0938,-160.5202, -999,      7.6,  -0.6620,  29.4538,2,  29.4588,2,    351.0,2,    369.1,2,     5.48,2,     0.11,2,     0.00,2,     0.69,2,  -999.00,9,  -999.00,9,    1.422,2,  -0.6621,20031012,2016
  32H120030911,   270,  1,    110,     10,9,20031012,2000, 73.0938,-160.5202, -999,      7.7,  -0.6611,  29.4513,2,-999.0000,9,    351.1,2,   -999.0,9,  -999.00,9,  -999.00,9,  -999.00,9,  -999.00,9,  -999.00,9,  -999.00,9,    1.388,2,  -0.6613,20031012,2016
  32H120030911,   270,  1,    111,     11,9,20031012,2000, 73.0938,-160.5202, -999,      8.0,  -0.6625,  29.4531,2,-999.0000,9,    351.7,2,   -999.0,9,  -999.00,9,  -999.00,9,  -999.00,9,  -999.00,9,  -999.00,9,  -999.00,9,    1.383,2,  -0.6627,20031012,2017
  32H120030911,   270,  1,    106,      6,2,20031012,2000, 73.0938,-160.5202, -999,     50.7,  -1.2406,  32.1838,2,  32.2465,2,    294.0,2,   -999.0,9,    29.40,2,     8.70,2,     0.15,2,     1.70,2,  -999.00,9,  -999.00,9,    0.920,2,  -1.2416,20031012,2014
  32H120030911,   270,  1,    105,      5,2,20031012,2000, 73.0938,-160.5202, -999,     98.7,  -1.3093,  32.5536,2,  32.5588,2,    255.3,2,    268.7,2,    32.05,2,    10.81,2,     0.12,2,     2.07,2,  -999.00,9,  -999.00,9,    0.993,2,  -1.3113,20031012,2010
  32H120030911,   270,  1,    104,      4,2,20031012,2000, 73.0938,-160.5202, -999,    124.8,  -1.3516,  33.3012,2,  33.2987,2,    265.4,2,   -999.0,9,    32.70,2,    13.44,2,     0.09,2,     1.77,2,  -999.00,9,  -999.00,9,    0.799,2,  -1.3544,20031012,2008
  32H120030911,   270,  1,    103,      3,2,20031012,2000, 73.0938,-160.5202, -999,    149.4,  -0.8931,  34.0764,2,  34.0792,2,    262.7,2,    275.8,2,    24.54,2,    13.41,2,     0.06,2,     1.45,2,  -999.00,9,  -999.00,9,    0.720,2,  -0.8973,20031012,2005
  32H120030911,   270,  1,    102,      2,2,20031012,2000, 73.0938,-160.5202, -999,    172.5,  -0.3992,  34.4058,2,  34.4089,2,    256.9,2,   -999.0,9,    17.33,2,    12.84,2,     0.04,2,     1.17,2,  -999.00,9,  -999.00,9,    0.659,2,  -0.4049,20031012,2003
  32H120030911,   270,  1,    101,      1,2,20031012,2000, 73.0938,-160.5202, -999,    202.7,   0.0467,  34.5764,2,  34.5769,2,    251.4,2,    266.0,2,    17.13,2,    12.74,2,     0.04,2,     1.12,2,  -999.00,9,  -999.00,9,    0.666,2,   0.0391,20031012,2000
  32H120030911,   271,  1,    107,      7,2,20031012,2133, 73.1357,-160.4453, -999,      8.2,  -0.6556,  29.5217,2,  29.5215,2,    352.7,2,    368.9,2,     5.54,2,     0.15,2,     0.00,2,     0.69,2,  -999.00,9,  -999.00,9,    1.389,2,  -0.6558,20031012,2148
  32H120030911,   271,  1,    106,      6,2,20031012,2133, 73.1357,-160.4453, -999,     49.5,  -0.9232,  31.9964,2,  32.0010,2,    325.5,2,   -999.0,9,    16.25,2,     5.51,2,     0.21,2,     1.34,2,  -999.00,9,  -999.00,9,    0.859,2,  -0.9243,20031012,2146
  32H120030911,   271,  1,    105,      5,2,20031012,2133, 73.1357,-160.4453, -999,     85.8,  -0.8749,  32.5452,2,  32.5494,2,    266.5,2,    278.1,2,    22.21,2,     7.82,2,     0.11,2,     2.04,2,  -999.00,9,  -999.00,9,    1.009,2,  -0.8770,20031012,2143
  32H120030911,   271,  1,    104,      4,2,20031012,2133, 73.1357,-160.4453, -999,    119.5,  -1.4628,  33.0199,2,  33.0254,2,    271.5,2,   -999.0,9,    32.17,2,    13.56,2,     0.06,2,     1.82,2,  -999.00,9,  -999.00,9,    0.835,2,  -1.4653,20031012,2141
  32H120030911,   271,  1,    103,      3,2,20031012,2133, 73.1357,-160.4453, -999,    151.3,  -1.0213,  33.9580,2,  33.9725,2,    266.7,2,    278.3,2,    25.87,2,    13.60,2,     0.07,2,     1.52,2,  -999.00,9,  -999.00,9,    0.735,2,  -1.0253,20031012,2139
  32H120030911,   271,  1,    102,      2,2,20031012,2133, 73.1357,-160.4453, -999,    198.2,  -0.2842,  34.4560,2,  34.4594,2,    260.5,2,   -999.0,9,    15.40,2,    12.67,2,     0.02,2,     1.12,2,  -999.00,9,  -999.00,9,    0.644,2,  -0.2910,20031012,2137
  32H120030911,   271,  1,    101,      1,2,20031012,2133, 73.1357,-160.4453, -999,    262.1,   0.5644,  34.7570,2,  34.7588,2,    258.9,2,    271.6,2,    14.89,2,    13.02,2,     0.06,2,     1.06,2,  -999.00,9,  -999.00,9,    0.650,2,   0.5533,20031012,2133
  32H120030911,   272,  1,    108,      8,2,20031013,2345, 73.1753,-160.3840, -999,      6.5,  -0.5895,  29.4875,2,  29.5042,2,    352.4,2,    368.6,2,     5.46,2,     0.14,2,     0.01,2,     0.69,2,  -999.00,9,  -999.00,9,    1.395,2,  -0.5896,20031013,   2
  32H120030911,   272,  1,    107,      7,2,20031013,2345, 73.1753,-160.3840, -999,     36.1,   0.1574,  31.4228,2,  31.2980,2,    350.2,2,    362.1,2,     7.91,2,     0.83,2,     0.12,2,     0.92,2,  -999.00,9,  -999.00,9,    1.031,2,   0.1563,20031013,   0
  32H120030911,   272,  1,    106,      6,2,20031013,2345, 73.1753,-160.3840, -999,     78.3,  -1.3937,  32.4230,2,  32.4474,2,    298.4,2,    307.8,2,    23.53,2,     9.89,2,     0.12,2,     1.63,2,  -999.00,9,  -999.00,9,    0.725,2,  -1.3952,20031013,2357
  32H120030911,   272,  1,    105,      5,2,20031013,2345, 73.1753,-160.3840, -999,    118.9,  -1.5373,  32.8949,2,  32.9177,2,    278.7,2,    290.4,2,    30.08,2,    13.88,2,     0.04,2,     1.74,2,  -999.00,9,  -999.00,9,    0.664,2,  -1.5396,20031013,2355
  32H120030911,   272,  1,    104,      4,2,20031013,2345, 73.1753,-160.3840, -999,    149.9,  -1.0579,  33.7780,2,  33.8012,2,    264.1,2,   -999.0,9,    27.96,2,    13.87,2,     0.09,2,     1.59,2,  -999.00,9,  -999.00,9,    0.735,2,  -1.0618,20031013,2353
  32H120030911,   272,  1,    103,      3,2,20031013,2345, 73.1753,-160.3840, -999,    200.0,  -0.3896,  34.4104,2,  34.4248,2,    259.6,2,    271.3,2,    16.75,2,    13.00,2,     0.03,2,     1.17,2,  -999.00,9,  -999.00,9,    0.637,2,  -0.3962,20031013,2351
  32H120030911,   272,  1,    102,      2,2,20031013,2345, 73.1753,-160.3840, -999,    250.6,   0.3498,  34.6712,2,  34.6774,2,    264.1,2,   -999.0,9,    12.18,2,    12.68,2,     0.02,2,     1.00,2,  -999.00,9,  -999.00,9,    0.569,2,   0.3397,20031013,2348
  32H120030911,   272,  1,    101,      1,2,20031013,2345, 73.1753,-160.3840, -999,    306.5,   0.6618,  34.7926,2,  34.7943,2,    264.3,2,    275.3,2,    13.18,2,    12.88,2,     0.05,2,     1.01,2,  -999.00,9,  -999.00,9,    0.602,2,   0.6484,20031013,2345
  32H120030911,   273,  1,    108,      8,2,20031013, 111, 73.2155,-160.3068, -999,      7.2,  -0.4181,  29.3207,2,  29.3266,2,    353.7,2,    368.1,2,     4.62,2,     0.04,2,     0.01,2,     0.68,2,  -999.00,9,  -999.00,9,    1.407,2,  -0.4183,20031013, 130
  32H120030911,   273,  1,    107,      7,2,20031013, 111, 73.2155,-160.3068, -999,     29.1,   0.9351,  31.0904,2,  31.1970,2,    353.1,2,    368.3,2,     7.62,2,     0.35,2,     0.08,2,     0.87,2,  -999.00,9,  -999.00,9,    1.148,2,   0.9340,20031013, 128
  32H120030911,   273,  1,    106,      6,2,20031013, 111, 73.2155,-160.3068, -999,     68.0,  -1.2316,  32.2570,2,  32.2649,2,    303.2,2,    320.1,2,    21.08,2,     8.01,2,     0.17,2,     1.53,2,  -999.00,9,  -999.00,9,    0.819,2,  -1.2330,20031013, 125
  32H120030911,   273,  1,    105,      5,2,20031013, 111, 73.2155,-160.3068, -999,    123.1,  -1.5506,  32.7295,2,  32.7851,2,    272.3,2,    284.4,2,    34.24,2,    13.45,2,     0.09,2,     1.88,2,  -999.00,9,  -999.00,9,    0.823,2,  -1.5530,20031013, 122
  32H120030911,   273,  1,    104,      4,2,20031013, 111, 73.2155,-160.3068, -999,    154.9,  -1.2363,  33.6176,2,  33.6363,2,    270.3,2,   -999.0,9,    29.20,2,    13.62,2,     0.06,2,     1.64,2,  -999.00,9,  -999.00,9,    0.761,2,  -1.2400,20031013, 120
  32H120030911,   273,  1,    103,      3,2,20031013, 111, 73.2155,-160.3068, -999,    199.5,  -0.2508,  34.4558,2,  34.4600,2,    263.9,2,    274.0,2,    15.11,2,    12.88,2,     0.01,2,     1.11,2,  -999.00,9,  -999.00,9,    0.625,2,  -0.2577,20031013, 118
  32H120030911,   273,  1,    102,      2,2,20031013, 111, 73.2155,-160.3068, -999,    301.3,   0.7381,  34.7953,2,  34.7975,2,    278.1,2,   -999.0,9,     8.08,2,    12.34,2,     0.00,2,     0.88,2,  -999.00,9,  -999.00,9,    0.477,2,   0.7247,20031013, 115
  32H120030911,   273,  1,    101,      1,2,20031013, 111, 73.2155,-160.3068, -999,    419.5,   0.5140,  34.8470,2,  34.8491,2,    283.7,2,    296.7,2,     7.52,2,    12.26,2,     0.00,2,     0.86,2,  -999.00,9,  -999.00,9,    0.479,2,   0.4957,20031013, 111
  32H120030911,   274,  1,    108,      8,2,20031013, 308, 73.2545,-160.2383, -999,      7.7,  -0.3344,  29.2142,2,  29.2189,2,    353.3,2,    368.3,2,     4.09,2,     0.00,2,     0.00,2,     0.66,2,  -999.00,9,  -999.00,9,    1.416,2,  -0.3346,20031013, 330
  32H120030911,   274,  1,    107,      7,2,20031013, 308, 73.2545,-160.2383, -999,     57.7,  -1.1688,  32.1569,2,  32.1539,2,    317.0,2,   -999.0,9,    20.22,2,     6.85,2,     0.17,2,     1.44,2,  -999.00,9,  -999.00,9,    0.850,2,  -1.1700,20031013, 327
  32H120030911,   274,  1,    106,      6,2,20031013, 308, 73.2545,-160.2383, -999,     83.5,  -0.6608,  32.5095,2,  32.5100,2,    279.7,2,    290.0,2,    16.88,2,     6.78,2,     0.11,2,     1.88,2,  -999.00,9,  -999.00,9,    0.973,2,  -0.6630,20031013, 325
  32H120030911,   274,  1,    105,      5,2,20031013, 308, 73.2545,-160.2383, -999,    135.3,  -1.3304,  32.6934,2,  32.7317,2,    261.0,2,    272.1,2,    25.09,2,    11.43,2,     0.10,2,     1.95,2,  -999.00,9,  -999.00,9,    0.929,2,  -1.3333,20031013, 323
  32H120030911,   274,  1,    104,      4,2,20031013, 308, 73.2545,-160.2383, -999,    200.4,  -0.2317,  34.4818,2,  34.4827,2,    264.0,2,   -999.0,9,    14.09,2,    12.62,2,     0.01,2,     1.08,2,  -999.00,9,  -999.00,9,    0.618,2,  -0.2387,20031013, 321
  32H120030911,   274,  1,    103,      3,2,20031013, 308, 73.2545,-160.2383, -999,    298.4,   0.7477,  34.7831,2,  34.7880,2,    280.5,2,    291.7,2,     6.78,2,    12.09,2,     0.01,2,     0.85,2,  -999.00,9,  -999.00,9,    0.507,2,   0.7345,20031013, 318
  32H120030911,   274,  1,    102,      2,2,20031013, 308, 73.2545,-160.2383, -999,    500.4,   0.5333,  34.8461,2,  34.8491,2,    283.1,2,    294.6,2,     7.23,2,    12.33,2,     0.01,2,     0.86,2,  -999.00,9,  -999.00,9,    0.525,2,   0.5110,20031013, 314
  32H120030911,   274,  1,    101,      1,2,20031013, 308, 73.2545,-160.2383, -999,    791.2,   0.1897,  34.8649,2,  34.8676,2,    286.8,2,    299.4,2,     6.75,2,    12.39,2,     0.00,2,     0.86,2,  -999.00,9,  -999.00,9,    0.400,2,   0.1547,20031013, 308
  32H120030911,   275,  1,    108,      8,2,20031013, 453, 73.2938,-160.1663, -999,      7.7,  -0.0006,  29.1246,2,  29.1287,2,    349.1,2,    365.8,2,     3.98,2,     0.00,2,     0.00,2,     0.63,2,  -999.00,9,  -999.00,9,    1.332,2,  -0.0008,20031013, 519
  32H120030911,   275,  1,    107,      7,2,20031013, 453, 73.2938,-160.1663, -999,     49.9,  -1.2053,  32.0901,2,  32.1370,2,    317.2,2,   -999.0,9,    20.75,2,     7.02,2,     0.17,2,     1.45,2,  -999.00,9,  -999.00,9,    0.864,2,  -1.2063,20031013, 517
  32H120030911,   275,  1,    106,      6,2,20031013, 453, 73.2938,-160.1663, -999,     83.0,  -0.8469,  32.5174,2,  32.5261,2,    272.1,2,    283.8,2,    19.05,2,     7.32,2,     0.11,2,     1.94,2,  -999.00,9,  -999.00,9,    0.954,2,  -0.8489,20031013, 515
  32H120030911,   275,  1,    105,      5,2,20031013, 453, 73.2938,-160.1663, -999,    153.9,  -1.3435,  33.0010,2,  33.0181,2,    256.7,2,    272.4,2,    34.56,2,    13.56,2,     0.12,2,     1.89,2,  -999.00,9,  -999.00,9,    0.857,2,  -1.3469,20031013, 512
  32H120030911,   275,  1,    104,      4,2,20031013, 453, 73.2938,-160.1663, -999,    334.4,   0.8593,  34.8133,2,  34.8161,2,    281.4,2,    293.3,2,     6.31,2,    12.06,2,     0.00,2,     0.85,2,  -999.00,9,  -999.00,9,    0.470,2,   0.8440,20031013, 509
  32H120030911,   275,  1,    103,      3,2,20031013, 453, 73.2938,-160.1663, -999,    628.2,   0.3391,  34.8571,2,  34.8605,2,    284.8,2,    297.3,2,     6.58,2,    12.30,2,     0.00,2,     0.86,2,  -999.00,9,  -999.00,9,    0.388,2,   0.3114,20031013, 503
  32H120030911,   275,  1,    102,      2,2,20031013, 453, 73.2938,-160.1663, -999,    901.3,   0.0824,  34.8718,2,  34.8752,2,    285.6,2,   -999.0,9,     6.75,2,    12.40,2,     0.00,2,     0.87,2,  -999.00,9,  -999.00,9,    0.437,2,   0.0424,20031013, 458
  32H120030911,   275,  1,    101,      1,2,20031013, 453, 73.2938,-160.1663, -999,   1112.9,  -0.1617,  34.8909,2,  34.8942,2,    286.3,2,    298.8,2,     7.31,2,    12.66,2,     0.00,2,     0.90,2,  -999.00,9,  -999.00,9,    0.404,2,  -0.2110,20031013, 453
  32H120030911,   276,  1,    110,     10,2,20031013, 642, 73.3352,-160.0912, -999,      8.1,   0.0318,  29.1966,2,  29.2162,2,    349.4,2,    364.0,2,     4.21,2,     0.00,2,     0.00,2,     0.65,2,  -999.00,9,  -999.00,9,    1.334,2,   0.0316,20031013, 713
  32H120030911,   276,  1,    109,      9,2,20031013, 642, 73.3352,-160.0912, -999,     57.4,  -1.0799,  32.1588,2,  32.1369,2,    316.2,2,    329.7,2,    17.49,2,     6.56,2,     0.18,2,     1.43,2,  -999.00,9,  -999.00,9,    0.843,2,  -1.0811,20031013, 711
  32H120030911,   276,  1,    108,      8,2,20031013, 642, 73.3352,-160.0912, -999,    100.6,  -1.1843,  32.5078,2,  32.5145,2,    272.2,2,    284.3,2,    19.45,2,     8.66,2,     0.11,2,     1.88,2,  -999.00,9,  -999.00,9,    0.932,2,  -1.1865,20031013, 708
  32H120030911,   276,  1,    107,      7,2,20031013, 642, 73.3352,-160.0912, -999,    140.4,  -1.4093,  32.7702,2,  32.8564,2,    259.7,2,    270.8,2,    34.35,2,    13.03,2,     0.10,2,     1.97,2,  -999.00,9,  -999.00,9,    0.888,2,  -1.4122,20031013, 706
  32H120030911,   276,  1,    106,      6,2,20031013, 642, 73.3352,-160.0912, -999,    359.5,   0.7921,  34.8130,2,  34.8180,2,    279.9,2,    294.4,2,     6.36,2,    12.23,2,     0.01,2,     0.92,2,  -999.00,9,  -999.00,9,    0.447,2,   0.7758,20031013, 702
  32H120030911,   276,  1,    105,      5,2,20031013, 642, 73.3352,-160.0912, -999,    699.7,   0.2728,  34.8601,2,  34.8640,2,    284.6,2,    299.9,2,     6.17,2,    12.37,2,     0.00,2,     0.87,2,  -999.00,9,  -999.00,9,    0.447,2,   0.2419,20031013, 655
  32H120030911,   276,  1,    104,      4,2,20031013, 642, 73.3352,-160.0912, -999,   1000.0,  -0.0162,  34.8788,2,  34.8861,2,    284.8,2,    298.8,2,     6.81,2,    12.57,2,     0.00,2,     0.91,2,  -999.00,9,  -999.00,9,    0.409,2,  -0.0607,20031013, 649
  32H120030911,   276,  1,    101,      1,9,20031013, 642, 73.3352,-160.0912, -999,   1320.1,  -0.2394,  34.9002,2,-999.0000,9,    284.7,2,   -999.0,9,  -999.00,9,  -999.00,9,  -999.00,9,  -999.00,9,  -999.00,9,  -999.00,9,    0.331,2,  -0.2995,20031013, 642
  32H120030911,   276,  1,    103,      3,2,20031013, 642, 73.3352,-160.0912, -999,   1320.1,  -0.2397,  34.9003,2,  34.9034,2,    284.9,2,    299.0,2,     7.46,2,    12.91,2,     0.00,2,     0.92,2,  -999.00,9,  -999.00,9,    0.350,2,  -0.2998,20031013, 642
  32H120030911,   276,  1,    102,      2,9,20031013, 642, 73.3352,-160.0912, -999,   1320.3,  -0.2400,  34.9003,2,-999.0000,9,    284.8,2,   -999.0,9,  -999.00,9,  -999.00,9,  -999.00,9,  -999.00,9,  -999.00,9,  -999.00,9,    0.367,2,  -0.3001,20031013, 642