BOTTLE,20220815CCHSIOAMB
EXPOCODE,STNNBR,CASTNO,SAMPNO,BTLNBR,BTLNBR_FLAG_W,DATE,TIME,LATITUDE,LONGITUDE,DEPTH,CTDPRS,CTDTMP,CTDSAL,CTDSAL_FLAG_W,SALNTY,SALNTY_FLAG_W,CTDOXY,CTDOXY_FLAG_W,OXYGEN,OXYGEN_FLAG_W,SILCAT,SILCAT_FLAG_W,NITRAT,NITRAT_FLAG_W,NITRIT,NITRIT_FLAG_W,PHSPHT,PHSPHT_FLAG_W,CHLORA,CHLORA_FLAG_W,PHAEO,PHAEO_FLAG_W,FLUORO,FLUORO_FLAG_W,THETA,BTL_DATE,BTL_TIME
,,,,,,,,,,METERS,DBAR,ITS-90,PSS-78,,PSS-78,,UMOL/KG,,UMOL/KG,,UMOL/KG,,UMOL/KG,,UMOL/KG,,UMOL/KG,,UG/L,,UG/L,,VOLTS,,DEG C,,
  32H120030911,    14,  1,    105,      5,2,20030914,1751, 71.0168,-159.4707, -999,     12.8,   0.4640,  30.2138,2,  30.2642,2,    351.1,2,    361.6,2,     6.64,2,     0.03,2,     0.00,2,     0.75,2,     0.78,2,     0.12,2,    1.599,2,   0.4636,20030914,1801
  32H120030911,    14,  1,    104,      4,2,20030914,1751, 71.0168,-159.4707, -999,     22.2,   3.2916,  31.5202,2,  31.4442,2,    302.1,2,    316.7,2,     7.93,2,     0.47,2,     0.02,2,     0.88,2,     0.53,2,     0.35,2,    1.377,2,   3.2903,20030914,1759
  32H120030911,    14,  1,    103,      3,2,20030914,1751, 71.0168,-159.4707, -999,     36.7,   3.3321,  31.6920,2,  31.7585,2,    296.5,2,    304.9,2,     9.86,2,     0.73,2,     0.03,2,     1.05,2,     0.43,2,     0.37,2,    1.367,2,   3.3300,20030914,1757
  32H120030911,    14,  1,    102,      2,2,20030914,1751, 71.0168,-159.4707, -999,     53.1,   2.8713,  31.9119,2,  31.9171,2,    292.9,2,    302.8,2,    11.70,2,     0.95,2,     0.04,2,     1.17,2,     0.39,2,     0.62,2,    1.425,2,   2.8684,20030914,1754
  32H120030911,    14,  1,    101,      1,3,20030914,1751, 71.0168,-159.4707, -999,     66.8,   2.8553,  31.9182,2,  31.7985,2,    292.8,2,    305.0,4,    10.62,4,     0.82,4,     0.04,4,     1.10,4,     0.36,4,     0.55,4,    1.397,2,   2.8517,20030914,1751
  32H120030911,    15,  1,    105,      5,2,20030914,1856, 70.9887,-159.4265, -999,     12.8,   1.6767,  30.6854,2,  30.8740,2,    334.0,2,    338.6,2,     5.12,2,     0.07,2,     0.00,2,     0.66,2,     0.60,2,     0.24,2,    1.583,2,   1.6762,20030914,1904
  32H120030911,    15,  1,    104,      4,2,20030914,1856, 70.9887,-159.4265, -999,     17.0,   3.5821,  31.3223,2,  31.3366,2,    308.7,2,    318.0,2,     3.16,2,     0.16,2,     0.00,2,     0.59,2,     0.35,2,     0.28,2,    1.377,2,   3.5811,20030914,1903
  32H120030911,    15,  1,    103,      3,2,20030914,1856, 70.9887,-159.4265, -999,     27.5,   3.7129,  31.3604,2,  31.3605,2,    306.7,2,    317.5,2,     3.06,2,     0.16,2,     0.00,2,     0.59,2,     0.38,2,     0.32,2,    1.349,2,   3.7112,20030914,1901
  32H120030911,    15,  1,    102,      2,2,20030914,1856, 70.9887,-159.4265, -999,     41.0,   3.7386,  31.3670,2,  31.3699,2,    306.1,2,    317.5,2,     3.06,2,     0.16,2,     0.00,2,     0.60,2,     0.34,2,     0.31,2,    1.374,2,   3.7361,20030914,1858
  32H120030911,    15,  1,    101,      1,2,20030914,1856, 70.9887,-159.4265, -999,     51.6,   3.7407,  31.3671,2,  31.3664,2,    306.4,2,    317.6,2,     3.06,2,     0.16,2,     0.01,2,     0.60,2,     0.37,2,     0.32,2,    1.334,2,   3.7376,20030914,1856
  32H120030911,    16,  1,    104,      4,2,20030914,2002, 70.9622,-159.3722, -999,     11.9,   0.9657,  30.4048,2,  30.4098,2,    345.8,2,    357.1,2,     6.08,2,     0.00,2,     0.00,2,     0.69,2,     0.55,2,     0.14,2,    1.518,2,   0.9653,20030914,2009
  32H120030911,    16,  1,    103,      3,2,20030914,2002, 70.9622,-159.3722, -999,     17.2,   1.5886,  30.5930,2,  31.2876,2,    335.2,2,    318.5,2,     3.59,2,     0.16,2,     0.00,2,     0.62,2,     0.41,2,     0.34,2,    1.533,2,   1.5879,20030914,2007
  32H120030911,    16,  1,    102,      2,2,20030914,2002, 70.9622,-159.3722, -999,     28.4,   3.8873,  31.3574,2,  31.3620,2,    306.2,2,    316.5,2,     3.37,2,     0.16,2,     0.01,2,     0.64,2,     0.42,2,     0.51,2,    1.441,2,   3.8855,20030914,2005
  32H120030911,    16,  1,    101,      1,2,20030914,2002, 70.9622,-159.3722, -999,     45.7,   3.9146,  31.3625,2,  31.3627,2,    305.7,2,    316.1,2,     3.47,2,     0.16,2,     0.01,2,     0.66,2,     0.42,2,     0.43,2,    1.457,2,   3.9118,20030914,2002
  32H120030911,    17,  1,    105,      5,2,20030914,2055, 70.9365,-159.3273, -999,      9.6,   1.7356,  30.7178,2,  30.7402,2,    334.1,2,    343.3,2,     4.44,2,     0.03,2,     0.00,2,     0.53,2,     0.41,2,     0.11,2,    1.249,2,   1.7352,20030914,2103
  32H120030911,    17,  1,    104,      4,2,20030914,2055, 70.9365,-159.3273, -999,     14.6,   2.1645,  30.8228,2,  30.8802,2,    328.9,2,    336.5,2,     3.69,2,     0.02,2,     0.00,2,     0.53,2,     0.39,2,     0.18,2,    1.370,2,   2.1638,20030914,2101
  32H120030911,    17,  1,    103,      3,2,20030914,2055, 70.9365,-159.3273, -999,     19.8,   2.6991,  30.9478,2,  30.9995,2,    322.0,2,    329.8,2,     3.14,2,     0.07,2,     0.00,2,     0.54,2,     0.43,2,     0.25,2,    1.431,2,   2.6981,20030914,2059
  32H120030911,    17,  1,    102,      2,2,20030914,2055, 70.9365,-159.3273, -999,     25.7,   3.0545,  31.0279,2,  31.0346,2,    317.7,2,    328.0,2,     3.03,2,     0.07,2,     0.01,2,     0.54,2,     0.44,2,     0.26,2,    1.449,2,   3.0531,20030914,2057
  32H120030911,    17,  1,    101,      1,2,20030914,2055, 70.9365,-159.3273, -999,     33.7,   3.1130,  31.0405,2,  31.0366,2,    317.1,2,    327.9,2,     2.92,2,     0.07,2,     0.01,2,     0.53,2,     0.43,2,     0.27,2,    1.468,2,   3.1111,20030914,2055
  32H120030911,    20,  1,    105,      5,2,20030916, 957, 72.9995,-166.9087, -999,      9.8,  -0.1586,  29.6970,2,  29.7640,2,    355.0,2,   -999.0,9,     7.32,2,     0.00,2,     0.00,2,     0.60,2,     0.24,2,     0.06,2,    1.216,2,  -0.1588,20030916,1005
  32H120030911,    20,  1,    104,      4,2,20030916, 957, 72.9995,-166.9087, -999,     20.3,   0.4343,  31.5407,2,  31.8265,2,    382.3,2,   -999.0,9,     2.73,2,     0.94,2,     0.00,2,     0.88,2,     0.37,2,     0.08,2,    1.479,2,   0.4336,20030916,1003
  32H120030911,    20,  1,    103,      3,2,20030916, 957, 72.9995,-166.9087, -999,     29.8,  -0.1611,  32.4599,2,  32.4647,2,    303.5,2,   -999.0,9,     9.58,2,     4.06,2,     0.07,2,     1.63,2,     0.15,2,     0.29,2,    1.129,2,  -0.1620,20030916,1001
  32H120030911,    20,  1,    102,      2,2,20030916, 957, 72.9995,-166.9087, -999,     41.1,  -0.5363,  32.5229,2,  32.5253,2,    289.4,2,   -999.0,9,    13.54,2,     5.40,2,     0.09,2,     1.92,2,     0.37,2,     0.54,2,    1.309,2,  -0.5374,20030916, 959
  32H120030911,    20,  1,    101,      1,2,20030916, 957, 72.9995,-166.9087, -999,     54.2,  -0.5457,  32.5266,2,  32.5269,2,    289.2,2,   -999.0,9,    13.63,2,     5.54,2,     0.10,2,     1.94,2,     0.41,2,     0.55,2,    1.338,2,  -0.5472,20030916, 957
  32H120030911,    21,  1,    104,      4,2,20030916,1135, 73.1038,-167.0497, -999,      9.7,  -0.1637,  29.6908,2,  29.7219,2,    354.5,2,   -999.0,9,     8.01,2,     0.00,2,     0.00,2,     0.63,2,     0.22,2,     0.08,2,    1.148,2,  -0.1639,20030916,1142
  32H120030911,    21,  1,    103,      3,2,20030916,1135, 73.1038,-167.0497, -999,     20.2,  -0.5561,  32.0942,2,  32.1029,2,    375.1,2,   -999.0,9,     3.08,2,     0.94,2,     0.01,2,     1.04,2,     0.27,2,     0.09,2,    1.155,2,  -0.5566,20030916,1140
  32H120030911,    21,  1,    102,      2,2,20030916,1135, 73.1038,-167.0497, -999,     37.3,  -0.4686,  32.5024,2,  32.5039,2,    294.0,2,   -999.0,9,    12.15,2,     4.40,2,     0.09,2,     1.83,2,     0.26,2,     0.48,2,    1.276,2,  -0.4696,20030916,1138
  32H120030911,    21,  1,    101,      1,2,20030916,1135, 73.1038,-167.0497, -999,     57.8,  -0.5085,  32.5096,2,  32.5024,2,    291.1,2,   -999.0,9,    13.01,2,     4.68,2,     0.09,2,     1.84,2,     0.25,2,     0.45,2,    1.260,2,  -0.5101,20030916,1135
  32H120030911,    22,  1,    105,      5,2,20030916,1301, 73.2080,-167.2038, -999,     12.6,  -1.1157,  29.1925,2,  29.1970,2,    358.6,2,    378.5,2,    10.92,2,     0.00,2,     0.00,2,     0.69,2,     0.31,2,     0.08,2,    1.234,2,  -1.1159,20030916,1309
  32H120030911,    22,  1,    104,      4,2,20030916,1301, 73.2080,-167.2038, -999,     23.9,  -1.1493,  31.2532,2,  30.6436,2,    372.8,2,    381.4,2,     9.34,2,     0.71,2,     0.00,2,     0.92,2,     0.37,2,     0.13,2,    1.133,2,  -1.1497,20030916,1306
  32H120030911,    22,  1,    103,      3,2,20030916,1301, 73.2080,-167.2038, -999,     34.8,  -1.2999,  32.6087,2,  32.6011,2,    281.5,2,    289.8,2,    13.83,2,     6.83,2,     0.07,2,     1.80,2,     0.09,2,     0.15,2,    1.078,2,  -1.3006,20030916,1305
  32H120030911,    22,  1,    102,      2,2,20030916,1301, 73.2080,-167.2038, -999,     49.6,  -1.3301,  32.6374,2,  32.6391,2,    269.0,2,    279.2,2,    18.98,2,     7.93,2,     0.09,2,     1.98,2,     0.20,2,     0.38,2,    1.272,2,  -1.3311,20030916,1302
  32H120030911,    22,  1,    101,      1,2,20030916,1301, 73.2080,-167.2038, -999,     61.9,  -1.3382,  32.6405,2,  32.6154,2,    268.6,2,    280.2,2,    18.52,2,     7.78,2,     0.10,2,     1.96,2,     0.22,2,     0.44,2,    1.308,2,  -1.3395,20030916,1301
  32H120030911,    23,  1,    107,      7,2,20030916,1428, 73.3147,-167.3498, -999,     12.8,  -1.1639,  29.1528,2,  29.1659,2,    360.6,2,    378.9,2,     9.50,2,     0.51,2,     0.00,2,     0.69,2,     0.37,2,     0.12,2,    1.313,2,  -1.1641,20030916,1438
  32H120030911,    23,  1,    106,      6,2,20030916,1428, 73.3147,-167.3498, -999,     21.0,  -0.8762,  29.3484,2,  29.4637,2,    357.0,2,    375.5,2,     9.81,2,     0.12,2,     0.00,2,     0.70,2,     0.40,2,     0.12,2,    1.284,2,  -0.8766,20030916,1436
  32H120030911,    23,  1,    105,      5,2,20030916,1428, 73.3147,-167.3498, -999,     33.9,  -1.5165,  32.5174,2,  32.5428,2,    284.7,2,    299.2,2,    24.29,2,    10.22,2,     0.08,2,     1.72,2,     0.31,2,     0.10,2,    1.314,2,  -1.5171,20030916,1435
  32H120030911,    23,  1,    104,      4,2,20030916,1428, 73.3147,-167.3498, -999,     40.1,  -1.5931,  32.7440,2,  32.7389,2,    245.5,2,    257.3,2,    30.30,2,    11.97,2,     0.11,2,     2.04,2,     0.13,2,     0.20,2,    1.210,2,  -1.5938,20030916,1433
  32H120030911,    23,  1,    103,      3,2,20030916,1428, 73.3147,-167.3498, -999,     55.3,  -1.5825,  32.7483,2,  32.7502,2,    243.6,2,    254.2,2,    30.95,2,    12.02,2,     0.12,2,     2.09,2,     0.12,2,     0.24,2,    1.184,2,  -1.5835,20030916,1431
  32H120030911,    23,  1,    102,      2,2,20030916,1428, 73.3147,-167.3498, -999,     68.5,  -1.5817,  32.7479,2,  32.7487,2,    243.9,2,    254.2,2,    30.93,2,    12.02,2,     0.12,2,     2.09,2,     0.14,2,     0.28,2,    1.172,2,  -1.5830,20030916,1429
  32H120030911,    23,  1,    101,      1,2,20030916,1428, 73.3147,-167.3498, -999,     77.3,  -1.5827,  32.7487,2,  32.7478,2,    243.4,2,    254.2,2,    30.80,2,    11.97,2,     0.12,2,     2.10,2,     0.11,2,     0.31,2,    1.203,2,  -1.5841,20030916,1428
  32H120030911,    24,  1,    108,      8,2,20030916,1552, 73.4210,-167.4930, -999,     11.9,  -1.2152,  29.0956,2,  29.1020,2,    359.9,2,   -999.0,9,     7.67,2,     0.00,2,     0.00,2,     0.68,2,     0.44,2,     0.10,2,    1.326,2,  -1.2154,20030916,1602
  32H120030911,    24,  1,    107,      7,2,20030916,1552, 73.4210,-167.4930, -999,     21.9,  -1.2148,  29.0979,2,  29.2697,2,    359.9,2,    377.3,2,     8.00,2,     0.12,2,     0.00,2,     0.71,2,     0.54,2,     0.09,2,    1.357,2,  -1.2151,20030916,1601
  32H120030911,    24,  1,    106,      6,2,20030916,1552, 73.4210,-167.4930, -999,     37.4,  -1.2588,  32.2525,2,  32.3552,2,    318.9,2,   -999.0,9,    10.30,2,     6.57,2,     0.02,2,     1.54,2,     0.26,2,     0.06,2,    1.173,2,  -1.2596,20030916,1559
  32H120030911,    24,  1,    105,      5,2,20030916,1552, 73.4210,-167.4930, -999,     53.7,  -1.6173,  32.7355,2,  32.7484,2,    258.8,2,    268.0,2,    35.87,2,    12.97,2,     0.06,2,     1.98,2,     0.12,2,     0.08,2,    1.240,2,  -1.6183,20030916,1557
  32H120030911,    24,  1,    104,      4,2,20030916,1552, 73.4210,-167.4930, -999,     66.9,  -1.6406,  32.7936,2,  32.7979,2,    240.9,2,   -999.0,9,    42.42,2,    12.91,2,     0.08,2,     2.08,2,     0.07,2,     0.11,2,    1.049,2,  -1.6418,20030916,1556
  32H120030911,    24,  1,    103,      3,2,20030916,1552, 73.4210,-167.4930, -999,     79.2,  -1.6230,  32.8027,2,  32.8051,2,    228.8,2,    238.8,2,    41.97,2,    12.98,2,     0.10,2,     2.10,2,     0.09,2,     0.15,2,    1.106,2,  -1.6244,20030916,1554
  32H120030911,    24,  1,    102,      2,2,20030916,1552, 73.4210,-167.4930, -999,     89.6,  -1.6230,  32.8025,2,  32.8055,2,    228.0,2,   -999.0,9,    42.07,2,    13.03,2,     0.10,2,     2.11,2,     0.11,2,     0.15,2,    1.128,2,  -1.6246,20030916,1553
  32H120030911,    24,  1,    101,      1,2,20030916,1552, 73.4210,-167.4930, -999,     99.8,  -1.6226,  32.8023,2,  32.8054,2,    228.7,2,    238.2,2,    42.06,2,    13.03,2,     0.10,2,     2.12,2,     0.13,2,     0.17,2,    1.203,2,  -1.6244,20030916,1552
  32H120030911,    25,  1,    110,     10,2,20030916,1713, 73.5297,-167.6423, -999,     12.5,  -1.1660,  28.8283,2,  29.1951,2,    354.1,2,   -999.0,9,     7.06,2,     0.41,2,     0.00,2,     0.74,2,     0.29,2,     0.08,2,    1.135,2,  -1.1662,20030916,1726
  32H120030911,    25,  1,    109,      9,2,20030916,1713, 73.5297,-167.6423, -999,     19.8,  -0.9701,  29.5130,2,  30.0103,2,    353.7,2,    367.6,2,    10.27,2,     1.33,2,     0.00,2,     0.91,2,     0.50,2,     0.11,2,    1.318,2,  -0.9705,20030916,1725
  32H120030911,    25,  1,    108,      8,2,20030916,1713, 73.5297,-167.6423, -999,     30.1,  -1.4978,  31.3117,2,  31.3975,2,    325.0,2,   -999.0,9,    17.98,2,     6.47,2,     0.10,2,     1.46,2,     0.65,2,     0.33,2,    1.438,2,  -1.4983,20030916,1723
  32H120030911,    25,  1,    107,      7,2,20030916,1713, 73.5297,-167.6423, -999,     39.6,  -1.5876,  31.5572,2,  31.6609,2,    299.6,2,    312.9,2,    28.44,2,     8.87,2,     0.11,2,     1.64,2,     0.44,2,     0.31,2,    1.416,2,  -1.5882,20030916,1722
  32H120030911,    25,  1,    106,      6,2,20030916,1713, 73.5297,-167.6423, -999,     59.5,  -1.5066,  31.9862,2,  32.3757,2,    280.7,2,   -999.0,9,    40.47,2,    11.77,2,     0.08,2,     1.73,2,     0.10,2,     0.14,2,    1.239,2,  -1.5077,20030916,1720
  32H120030911,    25,  1,    105,      5,2,20030916,1713, 73.5297,-167.6423, -999,     74.3,  -1.5065,  32.3690,2,  32.6222,2,    277.0,2,    275.9,2,    43.80,2,    12.76,2,     0.06,2,     1.75,2,     0.06,2,     0.09,2,    1.033,2,  -1.5079,20030916,1719
  32H120030911,    25,  1,    104,      4,2,20030916,1713, 73.5297,-167.6423, -999,     89.2,  -1.5619,  32.6810,2,  32.8555,2,    262.3,2,   -999.0,9,    41.55,2,    12.95,2,     0.05,2,     1.75,2,     0.05,2,     0.09,2,    0.978,2,  -1.5636,20030916,1717
  32H120030911,    25,  1,    103,      3,2,20030916,1713, 73.5297,-167.6423, -999,     98.7,  -1.5639,  32.8982,2,  33.0487,2,    271.8,2,    280.5,2,    38.54,3,    13.24,2,     0.05,2,     1.75,2,     0.05,2,     0.07,2,    0.940,2,  -1.5658,20030916,1716
  32H120030911,    25,  1,    102,      2,2,20030916,1713, 73.5297,-167.6423, -999,    110.1,  -1.3548,  33.3766,2,  33.4126,2,    254.5,2,   -999.0,9,    42.19,2,    13.81,2,     0.05,2,     1.81,2,     0.07,2,     0.11,2,    0.931,2,  -1.3572,20030916,1714
  32H120030911,    25,  1,    101,      1,2,20030916,1713, 73.5297,-167.6423, -999,    118.6,  -1.1428,  33.6132,2,  33.5226,2,    209.8,2,    228.6,2,    48.43,2,    14.11,2,     0.05,2,     1.92,2,     0.09,2,     0.13,2,    0.995,2,  -1.1457,20030916,1713
  32H120030911,    26,  1,    108,      8,2,20030916,1913, 73.6373,-167.7977, -999,     12.4,  -1.3920,  28.5763,2,-999.0000,9,    359.1,2,    377.1,2,     4.93,2,     0.04,2,     0.00,2,     0.68,2,     0.14,2,     0.04,2,    0.992,2,  -1.3921,20030916,1925
  32H120030911,    26,  1,    107,      7,2,20030916,1913, 73.6373,-167.7977, -999,     30.0,  -1.2815,  30.9487,2,-999.0000,9,    369.9,2,   -999.0,9,    14.25,2,     1.47,2,     0.03,2,     1.03,2,     1.01,2,     0.16,2,    1.569,2,  -1.2820,20030916,1923
  32H120030911,    26,  1,    106,      6,2,20030916,1913, 73.6373,-167.7977, -999,     50.5,  -1.4943,  31.6665,2,  31.6528,2,    325.2,2,    334.9,2,    21.53,2,     6.30,2,     0.24,2,     1.35,2,     1.47,2,     0.23,2,    2.095,2,  -1.4952,20030916,1922
  32H120030911,    26,  1,    105,      5,2,20030916,1913, 73.6373,-167.7977, -999,     69.6,  -1.4683,  32.2019,2,-999.0000,9,    283.0,2,   -999.0,9,    37.99,2,    10.59,2,     0.09,2,     1.64,2,     0.08,2,     0.18,2,    1.131,2,  -1.4696,20030916,1920
  32H120030911,    26,  1,    104,      4,2,20030916,1913, 73.6373,-167.7977, -999,     90.4,  -1.5615,  32.6210,2,  32.6185,2,    253.7,2,    268.3,2,    49.41,2,    13.78,2,     0.06,2,     1.91,2,     0.07,2,     0.09,2,    1.002,2,  -1.5632,20030916,1918
  32H120030911,    26,  1,    103,      3,2,20030916,1913, 73.6373,-167.7977, -999,    109.1,  -1.5169,  33.0148,2,  33.0779,2,    269.5,2,    285.4,2,    37.74,2,    13.31,2,     0.05,2,     1.67,2,     0.05,2,     0.12,2,    0.956,2,  -1.5191,20030916,1916
  32H120030911,    26,  1,    102,      2,2,20030916,1913, 73.6373,-167.7977, -999,    125.0,  -0.5133,  34.1966,2,  34.1982,2,    228.2,2,    240.2,2,    35.49,2,    14.32,2,     0.09,2,     1.54,2,     0.14,2,     0.19,2,    0.988,2,  -0.5172,20030916,1914
  32H120030911,    26,  1,    101,      1,2,20030916,1913, 73.6373,-167.7977, -999,    136.6,  -0.4207,  34.2647,2,  34.0432,2,    230.4,2,    250.0,2,    34.94,2,    14.08,2,     0.08,2,     1.53,2,     0.16,2,     0.15,2,    1.025,2,  -0.4250,20030916,1913
  32H120030911,    27,  1,    108,      8,2,20030916,2053, 73.7465,-167.9587, -999,     11.9,  -1.3990,  28.6847,2,-999.0000,9,    356.0,2,   -999.0,9,     5.12,2,     0.04,2,     0.00,2,     0.69,2,     0.19,2,     0.05,2,    1.011,2,  -1.3991,20030916,2107
  32H120030911,    27,  1,    107,      7,2,20030916,2053, 73.7465,-167.9587, -999,     32.1,  -1.5426,  31.3624,2,  31.3923,2,    324.7,2,    328.5,2,    24.39,2,     7.23,2,     0.12,2,     1.50,2,     1.32,2,     0.27,2,    1.840,2,  -1.5431,20030916,2105
  32H120030911,    27,  1,    106,      6,2,20030916,2053, 73.7465,-167.9587, -999,     59.9,  -1.5830,  31.9099,2,-999.0000,9,    301.2,2,    315.7,2,    32.99,2,     9.15,2,     0.13,2,     1.51,2,     0.16,2,     0.17,2,    1.298,2,  -1.5840,20030916,2102
  32H120030911,    27,  1,    105,      5,2,20030916,2053, 73.7465,-167.9587, -999,     81.3,  -1.4514,  32.5975,2,  32.5991,2,    247.9,2,    262.8,2,    40.41,2,    13.41,2,     0.08,2,     2.03,2,     0.11,2,     0.15,2,    1.106,2,  -1.4530,20030916,2101
  32H120030911,    27,  1,    104,      4,2,20030916,2053, 73.7465,-167.9587, -999,    100.8,  -1.5810,  32.7338,2,-999.0000,9,    240.3,2,   -999.0,9,    46.11,2,    14.65,2,     0.08,2,     2.12,2,     0.07,2,     0.16,2,    1.058,2,  -1.5829,20030916,2059
  32H120030911,    27,  1,    103,      3,2,20030916,2053, 73.7465,-167.9587, -999,    119.8,  -1.5608,  32.8962,2,  32.9447,2,    255.4,2,    274.1,2,    41.73,2,    13.89,2,     0.07,2,     1.86,2,     0.09,2,     0.10,2,    0.988,2,  -1.5631,20030916,2057
  32H120030911,    27,  1,    102,      2,2,20030916,2053, 73.7465,-167.9587, -999,    140.8,  -0.4329,  34.2918,2,-999.0000,9,    247.1,2,   -999.0,9,    26.09,2,    13.77,2,     0.08,2,     1.30,2,     0.13,2,     0.16,2,    0.887,2,  -0.4374,20030916,2055
  32H120030911,    27,  1,    101,      1,2,20030916,2053, 73.7465,-167.9587, -999,    158.7,  -0.2521,  34.3913,2,  34.3869,2,    246.7,2,    260.1,2,    23.98,2,    13.58,2,     0.07,2,     1.23,2,     0.17,2,     0.07,2,    0.978,2,  -0.2575,20030916,2053