BOTTLE,20220815CCHSIOAMB
EXPOCODE,STNNBR,CASTNO,SAMPNO,BTLNBR,BTLNBR_FLAG_W,DATE,TIME,LATITUDE,LONGITUDE,DEPTH,CTDPRS,CTDTMP,CTDSAL,CTDSAL_FLAG_W,SALNTY,SALNTY_FLAG_W,CTDOXY,CTDOXY_FLAG_W,OXYGEN,OXYGEN_FLAG_W,SILCAT,SILCAT_FLAG_W,NITRAT,NITRAT_FLAG_W,NITRIT,NITRIT_FLAG_W,PHSPHT,PHSPHT_FLAG_W,CHLORA,CHLORA_FLAG_W,PHAEO,PHAEO_FLAG_W,FLUORO,FLUORO_FLAG_W,THETA,BTL_DATE,BTL_TIME
,,,,,,,,,,METERS,DBAR,ITS-90,PSS-78,,PSS-78,,UMOL/KG,,UMOL/KG,,UMOL/KG,,UMOL/KG,,UMOL/KG,,UMOL/KG,,UG/L,,UG/L,,VOLTS,,DEG C,,
  32H120030911,   297,  1,    104,      4,2,20031015, 401, 72.9482,-156.7360, -999,     35.3,   1.3818,  30.5193,2,  30.5668,2,    340.1,2,    354.4,2,     5.34,2,     0.12,2,     0.01,2,     0.73,2,  -999.00,9,  -999.00,9,    1.089,2,   1.3804,20031015, 411
  32H120030911,   297,  1,    103,      3,2,20031015, 401, 72.9482,-156.7360, -999,     80.3,  -1.1278,  32.2012,2,  32.2188,2,    315.7,2,    324.5,2,    19.14,2,     7.20,2,     0.17,2,     1.47,2,  -999.00,9,  -999.00,9,    0.817,2,  -1.1295,20031015, 407
  32H120030911,   297,  1,    102,      2,2,20031015, 401, 72.9482,-156.7360, -999,    146.2,  -1.4977,  32.8322,2,  32.8513,2,    277.9,2,    287.8,2,    28.11,2,    13.01,2,     0.08,2,     1.76,2,  -999.00,9,  -999.00,9,    0.723,2,  -1.5006,20031015, 403
  32H120030911,   297,  1,    101,      1,2,20031015, 401, 72.9482,-156.7360, -999,    243.1,  -0.0979,  34.5644,2,  34.5627,2,    268.3,2,    278.2,2,    12.06,2,    12.57,2,     0.01,2,     1.03,2,  -999.00,9,  -999.00,9,    0.539,2,  -0.1067,20031015, 401
  32H120030911,   298,  1,    111,     11,2,20031015,2007, 72.9482,-156.7325, -999,      5.8,  -0.3102,  29.2061,2,  29.2140,2,    353.7,2,    366.5,2,  -999.00,9,  -999.00,9,  -999.00,9,  -999.00,9,  -999.00,9,  -999.00,9,    1.317,2,  -0.3103,20031015,2104
  32H120030911,   298,  1,    110,     10,2,20031015,2007, 72.9482,-156.7325, -999,     41.7,   2.3508,  31.0093,2,  31.0049,2,    326.8,2,    343.6,2,     5.45,2,     0.15,2,     0.02,2,     0.74,2,  -999.00,9,  -999.00,9,    0.958,2,   2.3488,20031015,2102
  32H120030911,   298,  1,    109,      9,2,20031015,2007, 72.9482,-156.7325, -999,     61.3,  -0.2080,  31.8346,2,  31.8951,2,    331.7,2,    341.3,2,    12.73,2,     4.09,2,     0.21,2,     1.25,2,  -999.00,9,  -999.00,9,    0.862,2,  -0.2098,20031015,2059
  32H120030911,   298,  1,    108,      8,2,20031015,2007, 72.9482,-156.7325, -999,     87.0,  -1.2563,  32.2954,2,  32.3590,2,    304.3,2,    310.9,2,    23.59,2,     8.62,2,     0.16,2,     1.63,2,  -999.00,9,  -999.00,9,    0.865,2,  -1.2581,20031015,2057
  32H120030911,   298,  1,    107,      7,2,20031015,2007, 72.9482,-156.7325, -999,    151.9,  -1.5118,  32.8804,2,  32.9516,2,    278.0,2,    288.2,2,    29.53,2,    13.65,2,     0.07,2,     1.75,2,  -999.00,9,  -999.00,9,    0.698,2,  -1.5149,20031015,2054
  32H120030911,   298,  1,    106,      6,2,20031015,2007, 72.9482,-156.7325, -999,    226.8,  -0.4401,  34.4422,2,  34.5019,2,    268.3,2,    279.4,2,    13.44,2,    12.80,2,     0.01,2,     1.09,2,  -999.00,9,  -999.00,9,    0.581,2,  -0.4476,20031015,2050
  32H120030911,   298,  1,    105,      5,2,20031015,2007, 72.9482,-156.7325, -999,    371.8,   0.7057,  34.8078,2,  34.8124,2,    280.4,2,    291.8,2,     6.64,2,    12.30,2,     0.01,2,     0.86,2,  -999.00,9,  -999.00,9,    0.443,2,   0.6891,20031015,2046
  32H120030911,   298,  1,    104,      4,2,20031015,2007, 72.9482,-156.7325, -999,    700.6,   0.3086,  34.8589,2,  34.8623,2,    286.4,2,    300.2,2,  -999.00,9,  -999.00,9,  -999.00,9,  -999.00,9,  -999.00,9,  -999.00,9,    0.416,2,   0.2775,20031015,2040
  32H120030911,   298,  1,    103,      3,2,20031015,2007, 72.9482,-156.7325, -999,    999.0,  -0.0358,  34.8784,2,  34.8822,2,    286.8,2,    299.8,2,  -999.00,9,  -999.00,9,  -999.00,9,  -999.00,9,  -999.00,9,  -999.00,9,    0.428,2,  -0.0801,20031015,2034
  32H120030911,   298,  1,    102,      2,2,20031015,2007, 72.9482,-156.7325, -999,   1699.5,  -0.3912,  34.9288,2,  34.9317,2,    280.1,2,    293.8,2,  -999.00,9,  -999.00,9,  -999.00,9,  -999.00,9,  -999.00,9,  -999.00,9,    0.282,2,  -0.4722,20031015,2022
  32H120030911,   298,  1,    101,      1,2,20031015,2007, 72.9482,-156.7325, -999,   2481.2,  -0.3738,  34.9514,2,  34.9532,2,    271.3,2,    283.5,2,  -999.00,9,  -999.00,9,  -999.00,9,  -999.00,9,  -999.00,9,  -999.00,9,    0.262,2,  -0.5091,20031015,2007
  32H120030911,   299,  1,    106,      6,2,20031015,2246, 72.8893,-156.9378, -999,     13.2,   0.0733,  29.5964,2,  29.6649,2,    348.9,2,    360.8,2,     4.78,2,     0.04,2,     0.01,2,     0.70,2,  -999.00,9,  -999.00,9,    1.440,2,   0.0730,20031015,2256
  32H120030911,   299,  1,    105,      5,2,20031015,2246, 72.8893,-156.9378, -999,     45.1,   1.5156,  30.6484,2,  30.9233,2,    343.3,2,    355.1,2,     6.71,2,     0.69,2,     0.05,2,     0.82,2,  -999.00,9,  -999.00,9,    1.071,2,   1.5137,20031015,2254
  32H120030911,   299,  1,    104,      4,2,20031015,2246, 72.8893,-156.9378, -999,     88.2,  -1.1687,  32.2770,2,  32.3210,2,    305.6,2,    312.7,2,    21.22,2,     8.22,2,     0.19,2,     1.58,2,  -999.00,9,  -999.00,9,    0.800,2,  -1.1706,20031015,2251
  32H120030911,   299,  1,    103,      3,2,20031015,2246, 72.8893,-156.9378, -999,    144.9,  -1.5180,  32.8316,2,  32.8817,2,    278.8,2,    288.3,2,    28.95,2,    13.53,2,     0.08,2,     1.75,2,  -999.00,9,  -999.00,9,    0.698,2,  -1.5209,20031015,2249
  32H120030911,   299,  1,    102,      2,2,20031015,2246, 72.8893,-156.9378, -999,    190.7,  -1.1543,  33.9823,2,  33.9978,2,    274.0,2,    283.4,2,    24.77,2,    13.83,2,     0.01,2,     1.48,2,  -999.00,9,  -999.00,9,    0.604,2,  -1.1592,20031015,2248
  32H120030911,   299,  1,    101,      1,2,20031015,2246, 72.8893,-156.9378, -999,    251.9,   0.0154,  34.6040,2,  34.6045,2,    271.9,2,    283.8,2,    12.10,2,    12.53,2,     0.01,2,     1.04,2,  -999.00,9,  -999.00,9,    0.503,2,   0.0060,20031015,2246
  32H120030911,   300,  1,    106,      6,2,20031016,  17, 72.8307,-157.1352, -999,     42.7,   1.6236,  30.4543,2,  30.8119,2,    340.2,2,    355.0,2,     6.76,2,     0.66,2,     0.06,2,     0.81,2,  -999.00,9,  -999.00,9,    1.077,2,   1.6218,20031016,  30
  32H120030911,   300,  1,    105,      5,2,20031016,  17, 72.8307,-157.1352, -999,     77.2,  -1.0883,  32.2097,2,  32.2165,2,    311.9,2,    323.2,2,    17.65,2,     7.30,2,     0.16,2,     1.46,2,  -900.00,2,  -900.00,2,    0.807,2,  -1.0900,20031016,  28
  32H120030911,   300,  1,    103,      3,2,20031016,  17, 72.8307,-157.1352, -999,    122.6,  -1.5380,  32.5922,2,  32.5938,2,    237.8,2,    245.9,2,    29.34,2,    12.04,2,     0.10,2,     2.15,2,  -999.00,9,  -999.00,9,    1.040,2,  -1.5403,20031016,  24
  32H120030911,   300,  1,    104,      4,9,20031016,  17, 72.8307,-157.1352, -999,    122.8,  -1.5393,  32.5922,2,-999.0000,9,    237.6,2,   -999.0,9,  -999.00,9,  -999.00,9,  -999.00,9,  -999.00,9,  -900.00,2,  -900.00,2,    1.048,2,  -1.5416,20031016,  24
  32H120030911,   300,  1,    102,      2,2,20031016,  17, 72.8307,-157.1352, -999,    170.4,  -1.4005,  33.3440,2,  33.2825,2,    275.1,2,    285.6,2,    29.86,2,    14.06,2,     0.04,2,     1.71,2,  -900.00,2,  -900.00,2,    0.698,2,  -1.4043,20031016,  21
  32H120030911,   300,  1,    101,      1,2,20031016,  17, 72.8307,-157.1352, -999,    250.6,   0.1784,  34.6207,2,  34.6209,2,    269.4,2,    278.5,2,     9.92,2,    12.32,2,     0.01,2,     0.95,2,  -999.00,9,  -999.00,9,    0.493,2,   0.1687,20031016,  17
  32H120030911,   301,  1,    106,      6,2,20031016, 145, 72.7750,-157.3160, -999,      9.1,  -0.3191,  28.7803,2,  28.8302,2,    355.0,2,    368.7,2,     4.50,2,     0.00,2,     0.00,2,     0.64,2,  -999.00,9,  -999.00,9,    1.333,2,  -0.3193,20031016, 155
  32H120030911,   301,  1,    105,      5,2,20031016, 145, 72.7750,-157.3160, -999,     70.8,  -0.9617,  32.0579,2,  32.1547,2,    325.8,2,    328.1,2,    16.36,2,     6.71,2,     0.17,2,     1.42,2,  -999.00,9,  -999.00,9,    0.829,2,  -0.9633,20031016, 153
  32H120030911,   301,  1,    104,      4,2,20031016, 145, 72.7750,-157.3160, -999,    100.7,  -1.4582,  32.5645,2,  32.5711,2,    242.1,2,    250.2,2,    26.55,2,    11.29,2,     0.10,2,     2.12,2,  -999.00,9,  -999.00,9,    1.053,2,  -1.4602,20031016, 151
  32H120030911,   301,  1,    103,      3,2,20031016, 145, 72.7750,-157.3160, -999,    130.9,  -1.5231,  32.6339,2,  32.6351,2,    237.4,2,    245.2,2,    31.45,2,    12.44,2,     0.10,2,     2.17,2,  -999.00,9,  -999.00,9,    1.034,2,  -1.5256,20031016, 149
  32H120030911,   301,  1,    102,      2,2,20031016, 145, 72.7750,-157.3160, -999,    178.0,  -1.2495,  33.7901,2,  33.7573,2,    273.9,2,    284.1,2,    26.72,2,    13.83,2,     0.02,2,     1.57,2,  -999.00,9,  -999.00,9,    0.640,2,  -1.2538,20031016, 147
  32H120030911,   301,  1,    101,      1,2,20031016, 145, 72.7750,-157.3160, -999,    253.5,   0.2381,  34.6665,2,  34.6559,2,    271.6,2,    281.1,2,    10.52,2,    12.57,2,     0.00,2,     0.99,2,  -999.00,9,  -999.00,9,    0.476,2,   0.2281,20031016, 145
  32H120030911,   302,  1,    106,      6,2,20031016, 338, 72.7433,-157.4355, -999,     14.9,  -0.3165,  28.9413,2,  29.7927,2,    353.2,2,    359.4,2,     5.43,2,     0.17,2,     0.01,2,     0.72,2,  -999.00,9,  -999.00,9,    1.324,2,  -0.3168,20031016, 353
  32H120030911,   302,  1,    105,      5,2,20031016, 338, 72.7433,-157.4355, -999,     39.3,   0.6409,  30.5714,2,  30.8294,2,    345.4,2,    360.3,2,     6.34,2,     0.32,2,     0.05,2,     0.81,2,  -999.00,9,  -999.00,9,    1.074,2,   0.6396,20031016, 351
  32H120030911,   302,  1,    104,      4,2,20031016, 338, 72.7433,-157.4355, -999,     84.3,  -1.3509,  32.2553,2,  32.3051,2,    286.1,2,    305.1,2,    25.51,2,     8.19,2,     0.19,2,     1.73,2,  -999.00,9,  -999.00,9,    0.960,2,  -1.3526,20031016, 349
  32H120030911,   302,  1,    103,      3,2,20031016, 338, 72.7433,-157.4355, -999,    135.4,  -1.4671,  32.8049,2,  32.8268,2,    269.6,2,    280.6,2,    32.48,2,    12.98,2,     0.12,2,     1.89,2,  -999.00,9,  -999.00,9,    0.819,2,  -1.4698,20031016, 346
  32H120030911,   302,  1,    102,      2,2,20031016, 338, 72.7433,-157.4355, -999,    250.8,   0.3332,  34.6699,2,  34.6743,2,    259.5,2,    270.0,2,    14.20,2,    13.01,2,     0.02,2,     1.08,2,  -999.00,9,  -999.00,9,    0.610,2,   0.3231,20031016, 343
  32H120030911,   302,  1,    101,      1,2,20031016, 338, 72.7433,-157.4355, -999,    534.2,   0.4376,  34.8509,2,  34.8537,2,    283.3,2,    295.5,2,     7.11,2,    12.36,2,     0.01,2,     0.88,2,  -999.00,9,  -999.00,9,    0.438,2,   0.4141,20031016, 338
  32H120030911,   303,  1,    106,      6,2,20031016, 452, 72.7093,-157.5397, -999,     14.9,  -0.0633,  29.6647,2,  29.8529,2,    348.6,2,    359.1,2,     5.45,2,     0.12,2,     0.01,2,     0.70,2,  -999.00,9,  -999.00,9,    1.408,2,  -0.0637,20031016, 502
  32H120030911,   303,  1,    105,      5,2,20031016, 452, 72.7093,-157.5397, -999,     35.9,   0.8016,  30.3864,2,  30.5426,2,    336.9,2,    348.4,2,     6.46,2,     0.49,2,     0.04,2,     0.78,2,  -999.00,9,  -999.00,9,    1.096,2,   0.8004,20031016, 501
  32H120030911,   303,  1,    104,      4,2,20031016, 452, 72.7093,-157.5397, -999,     85.4,  -1.2252,  32.3649,2,  32.4041,2,    297.9,2,    308.4,2,    22.01,2,     8.07,2,     0.16,2,     1.64,2,  -999.00,9,  -999.00,9,    0.868,2,  -1.2270,20031016, 459
  32H120030911,   303,  1,    103,      3,2,20031016, 452, 72.7093,-157.5397, -999,    123.9,  -1.5371,  32.6300,2,  32.8097,2,    268.7,2,    280.0,2,    32.73,2,    12.93,2,     0.13,2,     1.87,2,  -999.00,9,  -999.00,9,    0.864,2,  -1.5395,20031016, 457
  32H120030911,   303,  1,    102,      2,2,20031016, 452, 72.7093,-157.5397, -999,    199.0,  -0.3729,  34.4672,2,  34.4864,2,    268.0,2,    277.6,2,    13.33,2,    12.62,2,     0.01,2,     1.06,2,  -999.00,9,  -999.00,9,    0.555,2,  -0.3796,20031016, 454
  32H120030911,   303,  1,    101,      1,2,20031016, 452, 72.7093,-157.5397, -999,    305.1,   0.6359,  34.7978,2,  34.8040,2,    273.8,2,    284.4,2,     9.41,2,    12.45,2,     0.03,2,     0.92,2,  -999.00,9,  -999.00,9,    0.552,2,   0.6226,20031016, 452
  32H120030911,   304,  1,    106,      6,2,20031016, 606, 72.6760,-157.6477, -999,      9.6,   0.3254,  30.0497,2,  30.0725,2,    343.4,2,    355.1,2,     5.87,2,     0.18,2,     0.02,2,     0.74,2,  -999.00,9,  -999.00,9,    1.374,2,   0.3251,20031016, 617
  32H120030911,   304,  1,    105,      5,2,20031016, 606, 72.6760,-157.6477, -999,     43.3,   0.7686,  31.1771,2,  31.1991,2,    340.3,2,    355.6,2,     7.63,2,     1.07,2,     0.17,2,     0.94,2,  -999.00,9,  -999.00,9,    1.059,2,   0.7671,20031016, 615
  32H120030911,   304,  1,    104,      4,2,20031016, 606, 72.6760,-157.6477, -999,     80.3,  -1.1966,  32.3375,2,  32.3507,2,    299.7,2,    310.1,2,    19.80,2,     8.79,2,     0.10,2,     1.58,2,  -999.00,9,  -999.00,9,    0.818,2,  -1.1983,20031016, 612
  32H120030911,   304,  1,    103,      3,2,20031016, 606, 72.6760,-157.6477, -999,     92.3,  -1.2205,  32.4603,2,  32.4580,2,    278.5,2,    286.5,2,    30.00,2,    10.28,2,     0.17,2,     1.88,2,  -999.00,9,  -999.00,9,    0.919,2,  -1.2225,20031016, 611
  32H120030911,   304,  1,    102,      2,2,20031016, 606, 72.6760,-157.6477, -999,    117.3,  -1.5515,  32.6080,2,  32.6467,2,    268.3,2,    278.9,2,    35.20,2,    12.75,2,     0.14,2,     1.98,2,  -999.00,9,  -999.00,9,    0.862,2,  -1.5537,20031016, 609
  32H120030911,   304,  1,    101,      1,2,20031016, 606, 72.6760,-157.6477, -999,    265.8,   0.6861,  34.7764,2,  34.2598,2,    277.1,2,    284.1,2,    14.71,2,    12.50,2,     0.04,2,     1.17,2,  -999.00,9,  -999.00,9,    0.524,2,   0.6748,20031016, 606
  32H120030911,   305,  1,    106,      6,2,20031016, 707, 72.6457,-157.7482, -999,     10.0,   0.2018,  30.0267,2,  30.0320,2,    344.6,2,    358.1,2,     5.82,2,     0.18,2,     0.02,2,     0.73,2,  -999.00,9,  -999.00,9,    1.391,2,   0.2015,20031016, 718
  32H120030911,   305,  1,    105,      5,2,20031016, 707, 72.6457,-157.7482, -999,     40.9,   0.8375,  30.4562,2,  30.7525,2,    334.3,2,    344.8,2,     6.65,2,     0.64,2,     0.06,2,     0.82,2,  -999.00,9,  -999.00,9,    1.048,2,   0.8361,20031016, 716
  32H120030911,   305,  1,    104,      4,2,20031016, 707, 72.6457,-157.7482, -999,     61.6,  -0.4798,  32.1551,2,  32.1734,2,    297.4,2,    310.7,2,    15.63,2,     5.72,2,     0.16,2,     1.53,2,  -999.00,9,  -999.00,9,    0.996,2,  -0.4815,20031016, 714
  32H120030911,   305,  1,    103,      3,2,20031016, 707, 72.6457,-157.7482, -999,     72.8,  -0.9034,  32.2942,2,  32.3113,2,    296.5,2,    308.2,2,    17.87,2,     7.25,2,     0.17,2,     1.58,2,  -999.00,9,  -999.00,9,    0.927,2,  -0.9051,20031016, 713
  32H120030911,   305,  1,    102,      2,2,20031016, 707, 72.6457,-157.7482, -999,    122.9,  -1.5285,  32.9001,2,  32.8998,2,    278.7,2,    288.5,2,    29.26,2,    13.70,2,     0.06,2,     1.75,2,  -999.00,9,  -999.00,9,    0.672,2,  -1.5309,20031016, 710
  32H120030911,   305,  1,    101,      1,2,20031016, 707, 72.6457,-157.7482, -999,    258.2,   0.5822,  34.7648,2,  34.7788,2,    269.9,2,    281.1,2,    10.50,2,    12.52,2,     0.03,2,     0.97,2,  -999.00,9,  -999.00,9,    0.544,2,   0.5712,20031016, 707
  32H120030911,   306,  1,    106,      6,2,20031016, 823, 72.6143,-157.8553, -999,     10.2,   0.2939,  30.1064,2,  30.1165,2,    344.3,2,    354.3,2,     5.86,2,     0.17,2,     0.03,2,     0.74,2,  -999.00,9,  -999.00,9,    1.349,2,   0.2936,20031016, 834
  32H120030911,   306,  1,    105,      5,2,20031016, 823, 72.6143,-157.8553, -999,     45.7,   1.0647,  30.8716,2,  30.9195,2,    333.4,2,    344.6,2,     6.88,2,     0.73,2,     0.07,2,     0.86,2,  -999.00,9,  -999.00,9,    1.005,2,   1.0630,20031016, 832
  32H120030911,   306,  1,    104,      4,2,20031016, 823, 72.6143,-157.8553, -999,     61.6,  -1.4064,  32.0385,2,  32.0857,2,    305.1,2,    315.3,2,    26.74,2,     7.64,2,     0.24,2,     1.66,2,  -999.00,9,  -999.00,9,    0.934,2,  -1.4075,20031016, 831
  32H120030911,   306,  1,    103,      3,2,20031016, 823, 72.6143,-157.8553, -999,     74.1,  -0.7644,  32.4120,2,  32.4282,2,    309.8,2,    318.1,2,    11.27,2,     4.84,2,     0.09,2,     1.58,2,  -999.00,9,  -999.00,9,    0.951,2,  -0.7663,20031016, 830
  32H120030911,   306,  1,    102,      2,2,20031016, 823, 72.6143,-157.8553, -999,    109.6,  -1.4727,  32.5740,2,  32.5955,2,    277.2,2,    283.4,2,    30.66,2,    12.01,2,     0.12,2,     1.87,2,  -999.00,9,  -999.00,9,    0.842,2,  -1.4748,20031016, 828
  32H120030911,   306,  1,    101,      1,2,20031016, 823, 72.6143,-157.8553, -999,    223.7,   0.4989,  34.7863,2,  34.7921,2,    271.8,2,    281.7,2,    11.03,2,    12.62,2,     0.05,2,     0.99,2,  -999.00,9,  -999.00,9,    0.616,2,   0.4896,20031016, 823
  32H120030911,   307,  1,    106,      6,2,20031016, 931, 72.5853,-157.9515, -999,      7.6,  -0.1960,  29.6420,2,  29.6606,2,    350.9,2,    361.4,2,     5.16,2,    -0.01,2,     0.01,2,     0.71,2,  -999.00,9,  -999.00,9,    1.435,2,  -0.1962,20031016, 943
  32H120030911,   307,  1,    105,      5,2,20031016, 931, 72.5853,-157.9515, -999,     37.1,   0.9956,  30.4658,2,  30.4936,2,    338.5,2,    349.5,2,     6.08,2,     0.22,2,     0.03,2,     0.75,2,  -999.00,9,  -999.00,9,    1.067,2,   0.9943,20031016, 941
  32H120030911,   307,  1,    104,      4,2,20031016, 931, 72.5853,-157.9515, -999,     61.5,  -1.2722,  32.2165,2,  32.2232,2,    298.8,2,    315.3,2,    22.38,2,     8.24,2,     0.14,2,     1.55,2,  -999.00,9,  -999.00,9,    0.891,2,  -1.2734,20031016, 939
  32H120030911,   307,  1,    103,      3,2,20031016, 931, 72.5853,-157.9515, -999,     79.7,  -0.6163,  32.4289,2,  32.4276,2,    306.6,2,    317.8,2,    10.34,2,     4.26,2,     0.08,2,     1.59,2,  -999.00,9,  -999.00,9,    0.988,2,  -0.6184,20031016, 937
  32H120030911,   307,  1,    102,      2,2,20031016, 931, 72.5853,-157.9515, -999,    110.0,  -1.4962,  32.6471,2,  32.6440,2,    262.6,2,    268.3,2,    27.86,2,    12.05,2,     0.09,2,     1.96,2,  -999.00,9,  -999.00,9,    0.909,2,  -1.4983,20031016, 935
  32H120030911,   307,  1,    101,      1,2,20031016, 931, 72.5853,-157.9515, -999,    188.8,   0.4795,  34.7776,2,  34.7654,2,    268.4,2,    275.3,2,    12.95,2,    12.73,2,     0.06,2,     1.04,2,  -999.00,9,  -999.00,9,    0.636,2,   0.4717,20031016, 931
  32H120030911,   308,  1,    106,      6,2,20031016,1034, 72.5510,-158.0558, -999,      7.5,  -0.2496,  29.6610,2,  29.6665,2,    351.3,2,   -999.0,5,     5.12,2,     0.02,2,     0.00,2,     0.69,2,  -999.00,9,  -999.00,9,    1.421,2,  -0.2498,20031016,1043
  32H120030911,   308,  1,    105,      5,2,20031016,1034, 72.5510,-158.0558, -999,     24.3,   0.3919,  30.1861,2,  30.3013,2,    342.7,2,   -999.0,5,     6.23,2,     0.34,2,     0.02,2,     0.78,2,  -999.00,9,  -999.00,9,    1.406,2,   0.3912,20031016,1042
  32H120030911,   308,  1,    104,      4,2,20031016,1034, 72.5510,-158.0558, -999,     48.1,  -1.4215,  31.8846,2,  31.8897,2,    312.1,2,   -999.0,5,    22.67,2,     6.46,2,     0.20,2,     1.61,2,  -999.00,9,  -999.00,9,    0.947,2,  -1.4224,20031016,1040
  32H120030911,   308,  1,    103,      3,2,20031016,1034, 72.5510,-158.0558, -999,     66.0,  -1.1270,  32.1760,2,  32.1772,2,    296.2,2,   -999.0,5,    24.91,2,     7.22,2,     0.24,2,     1.68,2,  -999.00,9,  -999.00,9,    0.972,2,  -1.1284,20031016,1039
  32H120030911,   308,  1,    102,      2,2,20031016,1034, 72.5510,-158.0558, -999,     94.4,  -1.3532,  32.5469,2,  32.4133,2,    272.1,2,   -999.0,5,    32.01,2,    10.07,2,     0.19,2,     1.90,2,  -999.00,9,  -999.00,9,    0.947,2,  -1.3551,20031016,1037
  32H120030911,   308,  1,    101,      1,2,20031016,1034, 72.5510,-158.0558, -999,    152.1,   0.2434,  34.6458,2,-999.0000,9,    257.7,2,   -999.0,5,    16.54,2,    13.00,2,     0.10,2,     1.20,2,  -999.00,9,  -999.00,9,    0.733,2,   0.2375,20031016,1034