BOTTLE,20220815CCHSIOAMB
EXPOCODE,STNNBR,CASTNO,SAMPNO,BTLNBR,BTLNBR_FLAG_W,DATE,TIME,LATITUDE,LONGITUDE,DEPTH,CTDPRS,CTDTMP,CTDSAL,CTDSAL_FLAG_W,SALNTY,SALNTY_FLAG_W,CTDOXY,CTDOXY_FLAG_W,OXYGEN,OXYGEN_FLAG_W,SILCAT,SILCAT_FLAG_W,NITRAT,NITRAT_FLAG_W,NITRIT,NITRIT_FLAG_W,PHSPHT,PHSPHT_FLAG_W,CHLORA,CHLORA_FLAG_W,PHAEO,PHAEO_FLAG_W,FLUORO,FLUORO_FLAG_W,THETA,BTL_DATE,BTL_TIME
,,,,,,,,,,METERS,DBAR,ITS-90,PSS-78,,PSS-78,,UMOL/KG,,UMOL/KG,,UMOL/KG,,UMOL/KG,,UMOL/KG,,UMOL/KG,,UG/L,,UG/L,,VOLTS,,DEG C,,
  32H120030911,   309,  1,    106,      6,2,20031016,1158, 72.5177,-158.1732, -999,      6.1,  -0.1816,  29.7460,2,  29.7585,2,    350.7,2,   -999.0,5,     5.24,2,     0.06,2,     0.01,2,     0.71,2,  -999.00,9,  -999.00,9,    1.424,2,  -0.1817,20031016,1206
  32H120030911,   309,  1,    105,      5,2,20031016,1158, 72.5177,-158.1732, -999,     21.1,   0.3703,  30.1865,2,  30.4358,2,    343.8,2,   -999.0,5,     6.72,2,     0.58,2,     0.03,2,     0.83,2,  -999.00,9,  -999.00,9,    1.393,2,   0.3697,20031016,1205
  32H120030911,   309,  1,    104,      4,2,20031016,1158, 72.5177,-158.1732, -999,     32.6,  -0.2694,  30.9958,2,  31.4459,2,    351.6,2,   -999.0,5,    11.11,2,     2.66,2,     0.09,2,     1.20,2,  -999.00,9,  -999.00,9,    1.093,2,  -0.2703,20031016,1204
  32H120030911,   309,  1,    103,      3,2,20031016,1158, 72.5177,-158.1732, -999,     47.7,  -1.0567,  32.0832,2,  32.1124,2,    310.5,2,   -999.0,5,    21.31,2,     6.91,2,     0.20,2,     1.55,2,  -999.00,9,  -999.00,9,    0.920,2,  -1.0577,20031016,1202
  32H120030911,   309,  1,    102,      2,2,20031016,1158, 72.5177,-158.1732, -999,     73.8,  -0.6527,  32.4342,2,  32.5215,2,    303.6,2,   -999.0,5,    15.38,2,     6.34,2,     0.10,2,     1.68,2,  -999.00,9,  -999.00,9,    0.984,2,  -0.6546,20031016,1200
  32H120030911,   309,  1,    101,      1,2,20031016,1158, 72.5177,-158.1732, -999,     99.6,  -1.1946,  33.6338,2,  33.6220,2,    266.9,2,   -999.0,5,    30.00,2,    13.70,2,     0.09,2,     1.70,2,  -999.00,9,  -999.00,9,    0.837,2,  -1.1970,20031016,1158
  32H120030911,   310,  1,    106,      6,2,20031016,1255, 72.4863,-158.2740, -999,      8.3,  -0.3851,  29.5388,2,  29.5417,2,    353.6,2,    366.7,3,     4.98,2,     0.01,2,     0.01,2,     0.70,2,  -999.00,9,  -999.00,9,    1.435,2,  -0.3853,20031016,1303
  32H120030911,   310,  1,    105,      5,2,20031016,1255, 72.4863,-158.2740, -999,     19.1,  -0.3742,  29.5467,2,  29.5897,2,    353.2,2,    365.6,3,     5.07,2,     0.00,2,     0.00,2,     0.71,2,  -999.00,9,  -999.00,9,    1.447,2,  -0.3746,20031016,1301
  32H120030911,   310,  1,    104,      4,2,20031016,1255, 72.4863,-158.2740, -999,     29.3,  -0.3108,  30.0461,2,  30.4064,2,    348.8,2,    357.0,3,     8.43,2,     2.41,2,     0.04,2,     1.08,2,  -999.00,9,  -999.00,9,    1.341,2,  -0.3115,20031016,1300
  32H120030911,   310,  1,    103,      3,2,20031016,1255, 72.4863,-158.2740, -999,     38.4,  -0.5647,  32.3922,2,  32.3972,2,    305.5,2,    316.5,3,    11.32,2,     4.32,2,     0.08,2,     1.67,2,  -999.00,9,  -999.00,9,    1.068,2,  -0.5657,20031016,1258
  32H120030911,   310,  1,    102,      2,2,20031016,1255, 72.4863,-158.2740, -999,     51.2,  -0.5528,  32.3958,2,  32.3999,2,    305.2,2,    316.4,3,    11.50,2,     4.26,2,     0.09,2,     1.70,2,  -999.00,9,  -999.00,9,    1.081,2,  -0.5542,20031016,1257
  32H120030911,   310,  1,    101,      1,2,20031016,1255, 72.4863,-158.2740, -999,     66.3,  -0.5516,  32.3960,2,  32.3870,0,    305.0,2,    316.1,3,    11.48,2,     4.19,2,     0.10,2,     1.70,2,  -999.00,9,  -999.00,9,    1.096,2,  -0.5534,20031016,1255
  32H120030911,   311,  1,    106,      6,2,20031016,1351, 72.4552,-158.3810, -999,      8.0,  -0.4586,  29.6585,2,  29.6599,2,    352.9,2,    366.4,3,     5.56,2,     0.06,2,     0.01,2,     0.73,2,  -999.00,9,  -999.00,9,    1.452,2,  -0.4588,20031016,1357
  32H120030911,   311,  1,    105,      5,2,20031016,1351, 72.4552,-158.3810, -999,     20.1,  -0.4525,  29.6618,2,  29.6971,2,    352.9,2,    365.7,3,     5.64,2,     0.10,2,     0.00,2,     0.75,2,  -999.00,9,  -999.00,9,    1.482,2,  -0.4529,20031016,1356
  32H120030911,   311,  1,    104,      4,2,20031016,1351, 72.4552,-158.3810, -999,     30.4,  -0.2798,  30.3254,2,  31.1285,2,    345.5,2,    347.9,3,     8.94,2,     2.96,2,     0.05,2,     1.21,2,  -999.00,9,  -999.00,9,    1.367,2,  -0.2806,20031016,1355
  32H120030911,   311,  1,    103,      3,9,20031016,1351, 72.4552,-158.3810, -999,     40.1,  -0.5319,  32.3887,2,-999.0000,9,    306.1,2,   -999.0,9,  -999.00,9,  -999.00,9,  -999.00,9,  -999.00,9,  -999.00,9,  -999.00,9,    1.088,2,  -0.5330,20031016,1353
  32H120030911,   311,  1,    102,      2,2,20031016,1351, 72.4552,-158.3810, -999,     50.6,  -0.5362,  32.3899,2,  32.3915,2,    305.4,2,    316.4,3,    11.44,2,     4.17,2,     0.09,2,     1.71,2,  -999.00,9,  -999.00,9,    1.116,2,  -0.5376,20031016,1352
  32H120030911,   311,  1,    101,      1,2,20031016,1351, 72.4552,-158.3810, -999,     56.6,  -0.5435,  32.3906,2,  32.3615,0,    305.2,2,    316.7,3,    11.43,2,     4.16,2,     0.09,2,     1.71,2,  -999.00,9,  -999.00,9,    1.097,2,  -0.5450,20031016,1351
  32H120030911,   312,  1,    105,      5,2,20031016,1458, 72.4215,-158.4890, -999,      8.1,  -0.4479,  29.7905,2,  29.7909,2,    323.8,2,    366.3,3,     5.60,2,     0.11,2,     0.00,2,     0.76,2,  -999.00,9,  -999.00,9,    1.468,2,  -0.4481,20031016,1503
  32H120030911,   312,  1,    104,      4,2,20031016,1458, 72.4215,-158.4890, -999,     25.2,   0.2824,  30.5014,2,  30.8775,2,    310.6,2,    348.1,3,     8.40,2,     1.71,2,     0.04,2,     0.99,2,  -999.00,9,  -999.00,9,    1.342,2,   0.2816,20031016,1501
  32H120030911,   312,  1,    103,      3,2,20031016,1458, 72.4215,-158.4890, -999,     40.3,  -0.4076,  32.3860,2,  32.3896,2,    289.2,2,    327.1,3,     8.76,2,     2.96,2,     0.07,2,     1.57,2,  -999.00,9,  -999.00,9,    1.099,2,  -0.4087,20031016,1459
  32H120030911,   312,  1,    101,      1,9,20031016,1458, 72.4215,-158.4890, -999,     46.7,  -0.4107,  32.3876,2,-999.0000,9,    290.4,2,   -999.0,9,  -999.00,9,  -999.00,9,  -999.00,9,  -999.00,9,  -999.00,9,  -999.00,9,    1.087,2,  -0.4120,20031016,1456
  32H120030911,   312,  1,    102,      2,2,20031016,1458, 72.4215,-158.4890, -999,     52.8,  -0.4138,  32.3898,2,  32.3927,2,    290.7,2,    327.0,3,     8.75,2,     2.94,2,     0.07,2,     1.57,2,  -999.00,9,  -999.00,9,    1.097,2,  -0.4153,20031016,1458
  32H120030911,   313,  1,    104,      4,2,20031016,1553, 72.3897,-158.5845, -999,      8.1,  -0.4343,  29.7582,2,  29.7793,2,    351.9,2,    363.4,3,     5.75,2,     0.09,2,     0.01,2,     0.76,2,  -999.00,9,  -999.00,9,    1.466,2,  -0.4345,20031016,1559
  32H120030911,   313,  1,    103,      3,2,20031016,1553, 72.3897,-158.5845, -999,     18.1,  -0.4235,  29.7833,2,  29.7871,2,    352.1,2,    363.0,3,     5.74,2,     0.08,2,     0.01,2,     0.76,2,  -999.00,9,  -999.00,9,    1.453,2,  -0.4239,20031016,1557
  32H120030911,   313,  1,    102,      2,2,20031016,1553, 72.3897,-158.5845, -999,     37.6,  -0.5127,  32.3958,2,  32.3981,2,    312.9,2,    322.9,3,     8.92,2,     3.19,2,     0.08,2,     1.57,2,  -999.00,9,  -999.00,9,    1.108,2,  -0.5137,20031016,1555
  32H120030911,   313,  1,    101,      1,2,20031016,1553, 72.3897,-158.5845, -999,     50.8,  -0.5570,  32.3983,2,  32.1526,2,    309.0,2,    323.6,3,     9.29,2,     3.17,2,     0.08,2,     1.56,2,  -999.00,9,  -999.00,9,    1.151,2,  -0.5583,20031016,1553
  32H120030911,   314,  1,    104,      4,2,20031016,1748, 72.3222,-159.2660, -999,      9.5,  -0.5856,  29.6564,2,  29.6644,2,    354.1,2,    366.5,2,     5.25,2,     0.09,2,     0.00,2,     0.77,2,  -999.00,9,  -999.00,9,    1.510,2,  -0.5858,20031016,1758
  32H120030911,   314,  1,    103,      3,2,20031016,1748, 72.3222,-159.2660, -999,     19.6,  -0.5839,  29.6643,2,  29.7722,2,    353.6,2,    364.6,2,     5.42,2,     0.23,2,     0.00,2,     0.78,2,  -999.00,9,  -999.00,9,    1.453,2,  -0.5843,20031016,1756
  32H120030911,   314,  1,    102,      2,2,20031016,1748, 72.3222,-159.2660, -999,     34.7,  -0.1296,  32.3576,2,  32.3609,2,    309.0,2,    319.6,2,     8.79,2,     2.28,2,     0.09,2,     1.60,2,  -999.00,9,  -999.00,9,    1.075,2,  -0.1306,20031016,1752
  32H120030911,   314,  1,    101,      1,2,20031016,1748, 72.3222,-159.2660, -999,     43.9,  -0.1461,  32.3578,2,  32.3593,2,    309.0,2,    319.3,2,     8.97,2,     2.25,2,     0.15,2,     1.58,2,  -999.00,9,  -999.00,9,    1.125,2,  -0.1474,20031016,1748
  32H120030911,   315,  1,    104,      4,2,20031016,1924, 72.2547,-159.9222, -999,      5.9,  -0.6432,  29.6661,2,  29.6679,2,    354.4,2,    367.2,2,     5.12,2,     0.13,2,     0.00,2,     0.77,2,  -999.00,9,  -999.00,9,    1.487,2,  -0.6433,20031016,1929
  32H120030911,   315,  1,    103,      3,2,20031016,1924, 72.2547,-159.9222, -999,     19.3,  -0.6451,  29.6601,2,  29.8180,2,    353.9,2,    363.6,2,     5.39,2,     0.15,2,     0.07,2,     0.81,2,  -999.00,9,  -999.00,9,    1.503,2,  -0.6455,20031016,1927
  32H120030911,   315,  1,    102,      2,2,20031016,1924, 72.2547,-159.9222, -999,     32.4,  -0.0459,  32.1156,2,  32.1047,2,    304.1,2,    314.5,2,     9.83,2,     1.99,2,     0.10,2,     1.57,2,  -999.00,9,  -999.00,9,    1.202,2,  -0.0469,20031016,1926
  32H120030911,   315,  1,    101,      1,2,20031016,1924, 72.2547,-159.9222, -999,     41.3,   0.1623,  32.3052,2,  32.3012,2,    302.7,2,    312.9,2,    10.29,2,     1.80,2,     0.09,2,     1.59,2,  -999.00,9,  -999.00,9,    1.119,2,   0.1610,20031016,1924
  32H120030911,   316,  1,    103,      3,2,20031016,2047, 72.1863,-160.5748, -999,      8.3,  -0.7347,  29.8793,2,  29.8873,2,    353.5,2,   -999.0,9,     5.18,2,     0.12,2,     0.01,2,     0.76,2,  -999.00,9,  -999.00,9,    1.543,2,  -0.7349,20031016,2052
  32H120030911,   316,  1,    102,      2,2,20031016,2047, 72.1863,-160.5748, -999,     27.6,   0.7262,  32.2566,2,  32.2547,2,    288.9,2,   -999.0,9,    13.22,2,     1.91,2,     0.10,2,     1.73,2,  -999.00,9,  -999.00,9,    1.326,2,   0.7252,20031016,2049
  32H120030911,   316,  1,    101,      1,2,20031016,2047, 72.1863,-160.5748, -999,     35.1,   0.7193,  32.2599,2,  32.2568,2,    288.1,2,   -999.0,9,    13.71,2,     1.98,2,     0.12,2,     1.79,2,  -999.00,9,  -999.00,9,    1.433,2,   0.7180,20031016,2047
  32H120030911,   317,  1,    103,      3,2,20031016,2220, 72.1203,-161.2285, -999,      7.9,  -0.6789,  30.0087,2,-999.0000,9,    351.2,2,   -999.0,9,     5.15,2,     0.21,2,     0.02,2,     0.75,2,  -999.00,9,  -999.00,9,    1.489,2,  -0.6791,20031016,2223
  32H120030911,   317,  1,    102,      2,2,20031016,2220, 72.1203,-161.2285, -999,     17.7,  -0.6539,  30.0645,2,-999.0000,9,    349.6,2,   -999.0,9,     5.69,2,     0.39,2,     0.02,2,     0.80,2,  -999.00,9,  -999.00,9,    1.441,2,  -0.6543,20031016,2222
  32H120030911,   317,  1,    101,      1,2,20031016,2220, 72.1203,-161.2285, -999,     27.6,   0.0207,  31.9751,2,-999.0000,9,    297.5,2,   -999.0,9,    11.70,2,     1.72,2,     0.08,2,     1.43,2,  -999.00,9,  -999.00,9,    1.382,2,   0.0199,20031016,2220
  32H120030911,   318,  1,    104,      4,2,20031017,  19, 72.1077,-162.4808, -999,      7.5,  -0.5358,  30.1506,2,-999.0000,9,    350.3,2,   -999.0,9,     6.13,2,     0.00,2,     0.00,2,     0.76,2,  -999.00,9,  -999.00,9,    1.521,2,  -0.5360,20031017,  24
  32H120030911,   318,  1,    103,      3,2,20031017,  19, 72.1077,-162.4808, -999,     14.9,  -0.5007,  30.2331,2,-999.0000,9,    349.3,2,   -999.0,9,     4.54,2,     0.00,2,     0.00,2,     0.67,2,  -999.00,9,  -999.00,9,    1.587,2,  -0.5010,20031017,  23
  32H120030911,   318,  1,    102,      2,2,20031017,  19, 72.1077,-162.4808, -999,     22.9,  -0.2188,  30.9024,2,-999.0000,9,    322.4,2,   -999.0,9,     8.95,2,     0.07,2,     0.04,2,     1.31,2,  -999.00,9,  -999.00,9,    1.358,2,  -0.2194,20031017,  21
  32H120030911,   318,  1,    101,      1,2,20031017,  19, 72.1077,-162.4808, -999,     31.9,  -0.1879,  31.5840,2,-999.0000,9,    308.8,2,   -999.0,9,    11.75,2,     0.46,2,     0.04,2,     1.92,2,  -999.00,9,  -999.00,9,    1.442,2,  -0.1888,20031017,  19
  32H120030911,   319,  1,    104,      4,2,20031017, 127, 72.1640,-162.9862, -999,      7.6,  -0.2468,  30.4305,2,-999.0000,9,    345.7,2,   -999.0,9,     4.36,2,     0.00,2,     0.00,2,     0.65,2,  -999.00,9,  -999.00,9,    1.555,2,  -0.2470,20031017, 132
  32H120030911,   319,  1,    103,      3,2,20031017, 127, 72.1640,-162.9862, -999,     14.6,  -0.2517,  30.4235,2,-999.0000,9,    346.2,2,   -999.0,9,     5.21,2,     0.00,2,     0.00,2,     0.68,2,  -999.00,9,  -999.00,9,    1.523,2,  -0.2521,20031017, 131
  32H120030911,   319,  1,    102,      2,2,20031017, 127, 72.1640,-162.9862, -999,     23.8,  -0.2466,  30.4579,2,-999.0000,9,    343.5,2,   -999.0,9,     4.65,2,     0.14,2,     0.00,2,     0.66,2,  -999.00,9,  -999.00,9,    1.490,2,  -0.2472,20031017, 129
  32H120030911,   319,  1,    101,      1,2,20031017, 127, 72.1640,-162.9862, -999,     33.9,   0.1060,  32.2377,2,-999.0000,9,    287.8,2,   -999.0,9,    16.62,2,     0.72,2,     0.05,2,     1.83,2,  -999.00,9,  -999.00,9,    1.535,2,   0.1049,20031017, 127
  32H120030911,   320,  1,    104,      4,2,20031017, 240, 72.2245,-163.4817, -999,      7.6,  -0.3044,  30.3262,2,-999.0000,9,    345.8,2,   -999.0,9,     1.24,2,     0.00,2,     0.00,2,     0.76,2,  -999.00,9,  -999.00,9,    1.490,2,  -0.3046,20031017, 245
  32H120030911,   320,  1,    103,      3,2,20031017, 240, 72.2245,-163.4817, -999,     18.6,  -0.3001,  30.3294,2,-999.0000,9,    345.0,2,   -999.0,9,     6.10,2,     0.00,2,     0.00,2,     0.79,2,  -999.00,9,  -999.00,9,    1.475,2,  -0.3006,20031017, 243
  32H120030911,   320,  1,    102,      2,2,20031017, 240, 72.2245,-163.4817, -999,     27.6,   1.4425,  32.0074,2,-999.0000,9,    249.6,2,   -999.0,9,    22.51,2,     1.04,2,     0.00,2,     1.92,2,  -999.00,9,  -999.00,9,    1.343,2,   1.4413,20031017, 241
  32H120030911,   320,  1,    101,      1,2,20031017, 240, 72.2245,-163.4817, -999,     35.0,   1.4477,  32.0069,2,-999.0000,9,    249.7,2,   -999.0,9,    22.32,2,     0.90,2,     0.00,2,     1.86,2,  -999.00,9,  -999.00,9,    1.368,2,   1.4462,20031017, 240
  32H120030911,   321,  1,    104,      4,2,20031017, 350, 72.2837,-163.9810, -999,      7.9,   0.1835,  30.4602,2,-999.0000,9,    340.1,2,   -999.0,9,     3.95,2,     0.00,2,     0.00,2,     0.63,2,  -999.00,9,  -999.00,9,    1.367,2,   0.1833,20031017, 356
  32H120030911,   321,  1,    103,      3,2,20031017, 350, 72.2837,-163.9810, -999,     19.7,   0.2334,  30.4801,2,-999.0000,9,    339.1,2,   -999.0,9,     4.96,2,     0.00,2,     0.00,2,     0.74,2,  -999.00,9,  -999.00,9,    1.369,2,   0.2328,20031017, 354
  32H120030911,   321,  1,    102,      2,2,20031017, 350, 72.2837,-163.9810, -999,     30.4,   2.3277,  32.0258,2,-999.0000,9,    253.9,2,   -999.0,9,    15.67,2,     0.22,2,     0.06,2,     1.57,2,  -999.00,9,  -999.00,9,    1.225,2,   2.3262,20031017, 352
  32H120030911,   321,  1,    101,      1,2,20031017, 350, 72.2837,-163.9810, -999,     38.5,   2.3243,  32.0386,2,-999.0000,9,    252.1,2,   -999.0,9,    19.62,2,     0.41,2,     0.12,2,     1.89,2,  -999.00,9,  -999.00,9,    1.245,2,   2.3224,20031017, 350