BOTTLE,20220815CCHSIOAMB
EXPOCODE,STNNBR,CASTNO,SAMPNO,BTLNBR,BTLNBR_FLAG_W,DATE,TIME,LATITUDE,LONGITUDE,DEPTH,CTDPRS,CTDTMP,CTDSAL,CTDSAL_FLAG_W,SALNTY,SALNTY_FLAG_W,CTDOXY,CTDOXY_FLAG_W,OXYGEN,OXYGEN_FLAG_W,SILCAT,SILCAT_FLAG_W,NITRAT,NITRAT_FLAG_W,NITRIT,NITRIT_FLAG_W,PHSPHT,PHSPHT_FLAG_W,CHLORA,CHLORA_FLAG_W,PHAEO,PHAEO_FLAG_W,FLUORO,FLUORO_FLAG_W,THETA,BTL_DATE,BTL_TIME
,,,,,,,,,,METERS,DBAR,ITS-90,PSS-78,,PSS-78,,UMOL/KG,,UMOL/KG,,UMOL/KG,,UMOL/KG,,UMOL/KG,,UMOL/KG,,UG/L,,UG/L,,VOLTS,,DEG C,,
  32H120030911,   283,  1,    112,     12,2,20031014, 210, 73.7070,-159.4225, -999,      9.2,  -0.6217,  28.6627,2,  28.6560,2,    357.5,2,    370.4,2,     3.37,2,     0.03,2,     0.00,2,     0.64,2,  -999.00,9,  -999.00,9,    1.181,2,  -0.6219,20031014, 307
  32H120030911,   283,  1,    111,     11,2,20031014, 210, 73.7070,-159.4225, -999,     26.6,  -0.4909,  28.9517,2,  30.2207,2,    360.0,2,    384.8,2,     5.36,2,     0.16,2,     0.01,2,     0.75,2,  -999.00,9,  -999.00,9,    1.202,2,  -0.4915,20031014, 306
  32H120030911,   283,  1,    110,     10,2,20031014, 210, 73.7070,-159.4225, -999,     51.8,  -1.4814,  31.8162,2,  31.8301,2,    326.6,2,    339.3,2,    21.87,2,     7.11,2,     0.24,2,     1.42,2,  -999.00,9,  -999.00,9,    1.337,2,  -1.4823,20031014, 304
  32H120030911,   283,  1,    109,      9,2,20031014, 210, 73.7070,-159.4225, -999,     99.9,  -1.3852,  32.4117,2,  32.4619,2,    296.2,2,    304.1,2,    23.45,2,    11.38,2,     0.01,2,     1.60,2,  -999.00,9,  -999.00,9,    0.786,2,  -1.3872,20031014, 301
  32H120030911,   283,  1,    108,      8,2,20031014, 210, 73.7070,-159.4225, -999,    148.8,  -1.5578,  32.9645,2,  32.4601,0,    276.0,2,    287.5,2,    31.71,2,    14.45,2,     0.01,2,     1.77,2,  -999.00,9,  -999.00,9,    0.759,2,  -1.5608,20031014, 300
  32H120030911,   283,  1,    107,      7,2,20031014, 210, 73.7070,-159.4225, -999,    200.0,  -1.2605,  33.8176,2,  33.0281,0,    266.6,2,    277.2,2,    25.77,2,    14.06,2,     0.01,2,     1.49,2,  -999.00,9,  -999.00,9,    0.707,2,  -1.2654,20031014, 258
  32H120030911,   283,  1,    106,      6,2,20031014, 210, 73.7070,-159.4225, -999,    299.8,   0.3573,  34.6793,2,  33.8840,0,    270.7,2,    282.2,2,     8.56,2,    12.34,2,     0.00,2,     0.90,2,  -999.00,9,  -999.00,9,    0.535,2,   0.3450,20031014, 256
  32H120030911,   283,  1,    105,      5,2,20031014, 210, 73.7070,-159.4225, -999,    374.7,   0.8301,  34.8144,2,  34.8185,2,    282.1,2,    293.1,2,     6.19,2,    12.20,2,     0.00,2,     0.84,2,  -999.00,9,  -999.00,9,    0.440,2,   0.8129,20031014, 253
  32H120030911,   283,  1,    104,      4,2,20031014, 210, 73.7070,-159.4225, -999,    699.8,   0.3330,  34.8588,2,  34.8630,2,    284.6,2,    297.0,2,     6.18,2,    12.39,2,     0.00,2,     0.86,2,  -999.00,9,  -999.00,9,    0.413,2,   0.3018,20031014, 247
  32H120030911,   283,  1,    103,      3,2,20031014, 210, 73.7070,-159.4225, -999,   1000.0,  -0.0220,  34.8792,2,  34.8829,2,    286.3,2,    299.3,2,     6.44,2,    12.49,2,     0.00,2,     0.87,2,  -999.00,9,  -999.00,9,    0.386,2,  -0.0664,20031014, 241
  32H120030911,   283,  1,    102,      2,2,20031014, 210, 73.7070,-159.4225, -999,   1699.9,  -0.3853,  34.9263,2,  34.9298,2,    280.7,2,    295.2,2,     8.88,2,    13.61,2,     0.00,2,     0.96,2,  -999.00,9,  -999.00,9,    0.310,2,  -0.4664,20031014, 229
  32H120030911,   283,  1,    101,      1,2,20031014, 210, 73.7070,-159.4225, -999,   2781.1,  -0.3509,  34.9534,2,  34.9568,2,    271.3,2,    284.1,2,    11.98,2,    14.39,2,     0.00,2,     1.01,2,  -999.00,9,  -999.00,9,    0.250,2,  -0.5099,20031014, 210
  32H120030911,   284,  1,    112,     12,2,20031014, 541, 73.7787,-159.2837, -999,     11.8,  -1.0135,  28.6243,2,  28.6232,2,    361.1,2,    375.7,2,     3.31,2,     0.00,2,     0.00,2,     0.65,2,  -999.00,9,  -999.00,9,    1.175,2,  -1.0137,20031014, 643
  32H120030911,   284,  1,    111,     11,2,20031014, 541, 73.7787,-159.2837, -999,     18.2,  -0.8294,  28.7472,2,  28.6934,2,    362.4,2,    374.1,2,     3.48,2,     0.00,2,     0.00,2,     0.66,2,  -999.00,9,  -999.00,9,    1.173,2,  -0.8297,20031014, 641
  32H120030911,   284,  1,    110,     10,2,20031014, 541, 73.7787,-159.2837, -999,     31.7,  -0.6761,  30.9780,2,  31.2800,2,    386.5,2,    393.8,2,     8.76,2,     0.99,2,     0.07,2,     0.95,2,  -999.00,9,  -999.00,9,    1.349,2,  -0.6768,20031014, 640
  32H120030911,   284,  1,    109,      9,2,20031014, 541, 73.7787,-159.2837, -999,     71.9,  -1.3681,  32.1033,2,  32.1525,2,    326.0,2,    339.0,2,    22.42,2,     7.77,2,     0.11,2,     1.42,2,  -999.00,9,  -999.00,9,    1.028,2,  -1.3695,20031014, 638
  32H120030911,   284,  1,    108,      8,2,20031014, 541, 73.7787,-159.2837, -999,    147.8,  -1.5622,  32.9504,2,  32.9761,2,    279.1,2,    289.9,2,    30.86,2,    14.07,2,     0.01,2,     1.75,2,  -999.00,9,  -999.00,9,    0.725,2,  -1.5651,20031014, 634
  32H120030911,   284,  1,    107,      7,2,20031014, 541, 73.7787,-159.2837, -999,    221.2,  -0.9787,  34.1734,2,  34.1987,2,    259.5,2,    272.8,2,    16.62,2,    12.59,2,     0.01,2,     1.15,2,  -999.00,9,  -999.00,9,    0.665,2,  -0.9849,20031014, 631
  32H120030911,   284,  1,    106,      6,2,20031014, 541, 73.7787,-159.2837, -999,    280.4,   0.0487,  34.5892,2,  34.6061,2,    268.1,2,    279.4,2,     9.93,2,    12.25,2,     0.01,2,     0.94,2,  -999.00,9,  -999.00,9,    0.590,2,   0.0380,20031014, 630
  32H120030911,   284,  1,    105,      5,2,20031014, 541, 73.7787,-159.2837, -999,    357.9,   0.7189,  34.7786,2,  34.7932,2,    279.3,2,    290.7,2,     6.49,2,    12.05,2,     0.01,2,     0.85,2,  -999.00,9,  -999.00,9,    0.504,2,   0.7029,20031014, 628
  32H120030911,   284,  1,    104,      4,2,20031014, 541, 73.7787,-159.2837, -999,    700.5,   0.3538,  34.8584,2,  34.8625,2,    285.3,2,    297.9,2,     6.11,2,    12.25,2,     0.00,2,     0.85,2,  -999.00,9,  -999.00,9,    0.436,2,   0.3224,20031014, 621
  32H120030911,   284,  1,    103,      3,2,20031014, 541, 73.7787,-159.2837, -999,   1001.8,  -0.0249,  34.8775,2,  34.8817,2,    286.6,2,    299.9,2,     6.37,2,    12.39,2,     0.00,2,     0.87,2,  -999.00,9,  -999.00,9,    0.380,2,  -0.0694,20031014, 616
  32H120030911,   284,  1,    102,      2,2,20031014, 541, 73.7787,-159.2837, -999,   1481.4,  -0.3249,  34.9121,2,  34.9156,2,    283.6,2,    298.0,2,     7.77,2,    13.13,2,     0.00,2,     0.92,2,  -999.00,9,  -999.00,9,    0.345,2,  -0.3934,20031014, 607
  32H120030911,   284,  1,    101,      1,2,20031014, 541, 73.7787,-159.2837, -999,   3012.0,  -0.3323,  34.9549,2,  34.9564,2,    270.9,2,    284.5,2,    11.91,2,    14.26,2,     0.00,2,     1.01,2,  -999.00,9,  -999.00,9,    0.255,2,  -0.5107,20031014, 541
  32H120030911,   285,  1,    104,      4,2,20031014, 941, 73.5375,-159.5702, -999,     11.1,  -0.5090,  28.6852,2,  28.6819,2,    357.2,2,    369.6,2,     3.76,2,     0.03,2,     0.00,2,     0.65,2,  -999.00,9,  -999.00,9,    1.211,2,  -0.5092,20031014, 949
  32H120030911,   285,  1,    103,      3,2,20031014, 941, 73.5375,-159.5702, -999,     37.6,  -0.1019,  30.9539,2,  30.9207,2,    376.1,2,    392.4,2,     7.09,2,     0.25,2,     0.02,2,     0.82,2,  -999.00,9,  -999.00,9,    1.166,2,  -0.1029,20031014, 947
  32H120030911,   285,  1,    102,      2,2,20031014, 941, 73.5375,-159.5702, -999,     44.7,  -0.1095,  31.4076,2,  31.5494,2,    366.0,2,    376.0,2,    11.41,2,     1.81,2,     0.13,2,     1.05,2,  -999.00,9,  -999.00,9,    1.013,2,  -0.1108,20031014, 946
  32H120030911,   285,  1,    101,      1,2,20031014, 941, 73.5375,-159.5702, -999,    147.4,  -1.5475,  32.9500,2,  32.9642,2,    279.7,2,    289.8,2,    30.53,2,    14.16,2,     0.01,2,     1.75,2,  -999.00,9,  -999.00,9,    0.652,2,  -1.5504,20031014, 941
  32H120030911,   286,  1,    104,      4,2,20031014,1118, 73.4880,-159.3240, -999,     27.1,  -0.2027,  28.8337,2,  29.2810,2,    352.7,2,    369.0,2,     4.82,2,     0.06,2,     0.00,2,     0.67,2,  -999.00,9,  -999.00,9,    1.228,2,  -0.2033,20031014,1131
  32H120030911,   286,  1,    103,      3,2,20031014,1118, 73.4880,-159.3240, -999,    126.1,  -1.5414,  32.6533,2,  32.6723,2,    279.2,2,    292.0,2,    30.74,2,    13.07,2,     0.07,2,     1.77,2,  -999.00,9,  -999.00,9,    0.717,2,  -1.5438,20031014,1128
  32H120030911,   286,  1,    102,      2,2,20031014,1118, 73.4880,-159.3240, -999,    393.3,   0.8073,  34.8245,2,  34.8300,2,    282.7,2,    293.8,2,     6.35,2,    12.27,2,     0.00,2,     0.86,2,  -999.00,9,  -999.00,9,    0.473,2,   0.7893,20031014,1123
  32H120030911,   286,  1,    101,      1,2,20031014,1118, 73.4880,-159.3240, -999,    610.7,   0.4525,  34.8536,2,  34.8580,2,    286.1,2,    297.2,2,     6.24,2,    12.37,2,     0.00,2,     0.86,2,  -999.00,9,  -999.00,9,    0.458,2,   0.4251,20031014,1118
  32H120030911,   287,  1,    104,      4,2,20031014,1319, 73.4388,-159.0873, -999,     25.3,  -0.0453,  29.1622,2,  29.1922,2,    351.1,2,    364.0,2,     4.04,2,     0.01,2,     0.00,2,     0.66,2,  -999.00,9,  -999.00,9,    1.288,2,  -0.0459,20031014,1329
  32H120030911,   287,  1,    103,      3,2,20031014,1319, 73.4388,-159.0873, -999,     44.8,   0.3269,  31.3941,2,  31.5252,2,    359.9,2,    370.5,2,    10.16,2,     1.66,2,     0.17,2,     1.04,2,  -999.00,9,  -999.00,9,    1.093,2,   0.3254,20031014,1327
  32H120030911,   287,  1,    102,      2,2,20031014,1319, 73.4388,-159.0873, -999,    150.5,  -1.5473,  32.9687,2,  32.9749,2,    279.2,2,    290.9,2,    30.80,2,    14.22,2,     0.01,2,     1.80,2,  -999.00,9,  -999.00,9,    0.647,2,  -1.5503,20031014,1322
  32H120030911,   287,  1,    101,      1,2,20031014,1319, 73.4388,-159.0873, -999,    240.6,  -0.1128,  34.5245,2,  34.5451,2,    270.2,2,    280.3,2,     9.82,2,    11.93,2,     0.01,2,     0.95,2,  -999.00,9,  -999.00,9,    0.568,2,  -0.1215,20031014,1319
  32H120030911,   288,  1,    104,      4,2,20031014,1450, 73.3912,-158.8543, -999,     24.5,  -0.1020,  28.8984,2,  28.9628,2,    351.3,2,    364.2,2,     4.46,2,     0.00,2,     0.00,2,     0.66,2,  -999.00,9,  -999.00,9,    1.314,2,  -0.1026,20031014,1502
  32H120030911,   288,  1,    103,      3,2,20031014,1450, 73.3912,-158.8543, -999,     43.8,  -0.3040,  31.4202,2,  31.4370,2,    370.5,2,    382.7,2,     8.86,2,     0.73,2,     0.21,2,     0.97,2,  -999.00,9,  -999.00,9,    1.150,2,  -0.3052,20031014,1500
  32H120030911,   288,  1,    102,      2,2,20031014,1450, 73.3912,-158.8543, -999,    152.6,  -1.5393,  32.9640,2,  32.9514,2,    278.5,2,    289.7,2,    30.32,2,    14.12,2,     0.01,2,     1.74,2,  -999.00,9,  -999.00,9,    0.632,2,  -1.5424,20031014,1455
  32H120030911,   288,  1,    101,      1,2,20031014,1450, 73.3912,-158.8543, -999,    253.1,   0.0948,  34.6028,2,  34.6000,2,    269.0,2,    278.8,2,    10.08,2,    12.37,2,     0.01,2,     0.94,2,  -999.00,9,  -999.00,9,    0.506,2,   0.0851,20031014,1450
  32H120030911,   289,  1,    104,      4,2,20031014,1623, 73.3417,-158.6100, -999,     12.7,  -0.1959,  28.7872,2,  28.8861,2,    352.6,2,    365.2,2,     4.33,2,     0.00,2,     0.00,2,     0.63,2,  -999.00,9,  -999.00,9,    1.282,2,  -0.1962,20031014,1634
  32H120030911,   289,  1,    103,      3,2,20031014,1623, 73.3417,-158.6100, -999,     30.6,   1.1500,  30.3981,2,  30.6679,2,    355.5,2,    376.0,2,     5.70,2,     0.07,2,     0.02,2,     0.72,2,  -999.00,9,  -999.00,9,    1.265,2,   1.1488,20031014,1633
  32H120030911,   289,  1,    102,      2,2,20031014,1623, 73.3417,-158.6100, -999,    150.5,  -1.5551,  32.8642,2,  32.8945,2,    282.6,2,    292.3,2,    29.62,2,    13.84,2,     0.01,2,     1.72,2,  -999.00,9,  -999.00,9,    0.658,2,  -1.5581,20031014,1628
  32H120030911,   289,  1,    101,      1,2,20031014,1623, 73.3417,-158.6100, -999,    250.1,  -0.0622,  34.5533,2,  34.5721,2,    268.3,2,    279.2,2,    10.72,2,    12.34,2,     0.00,2,     0.97,2,  -999.00,9,  -999.00,9,    0.556,2,  -0.0714,20031014,1623
  32H120030911,   290,  1,    104,      4,2,20031014,1749, 73.2885,-158.3763, -999,     13.0,  -0.2262,  28.7261,2,  28.7199,2,    353.0,2,    366.0,2,     4.28,2,     0.00,2,     0.00,2,     0.63,2,  -999.00,9,  -999.00,9,    1.308,2,  -0.2265,20031014,1801
  32H120030911,   290,  1,    103,      3,2,20031014,1749, 73.2885,-158.3763, -999,     28.0,   1.6184,  30.2408,2,  30.2029,2,    343.0,2,    362.5,2,     5.75,2,     0.02,2,     0.00,2,     0.65,2,  -999.00,9,  -999.00,9,    1.288,2,   1.6173,20031014,1759
  32H120030911,   290,  1,    102,      2,2,20031014,1749, 73.2885,-158.3763, -999,    150.6,  -1.5596,  32.9207,2,  32.9242,2,    275.0,2,    284.9,2,    32.69,2,    14.84,2,     0.01,2,     1.81,2,  -999.00,9,  -999.00,9,    0.724,2,  -1.5626,20031014,1754
  32H120030911,   290,  1,    101,      1,2,20031014,1749, 73.2885,-158.3763, -999,    250.8,  -0.1051,  34.5399,2,  34.5686,2,    266.8,2,    277.7,2,    11.27,2,    12.53,2,     0.01,2,     1.00,2,  -999.00,9,  -999.00,9,    0.528,2,  -0.1142,20031014,1749
  32H120030911,   291,  1,    104,      4,2,20031014,1926, 73.2428,-158.1373, -999,     12.8,  -0.2632,  28.8917,2,  28.8969,2,    352.9,2,    365.5,2,     4.68,2,     0.05,2,     0.00,2,     0.64,2,  -999.00,9,  -999.00,9,    1.255,2,  -0.2635,20031014,1936
  32H120030911,   291,  1,    103,      3,2,20031014,1926, 73.2428,-158.1373, -999,     33.8,   1.8320,  30.5444,2,  30.7632,2,    342.1,2,    353.9,2,     6.62,2,     0.61,2,     0.03,2,     0.75,2,  -999.00,9,  -999.00,9,    1.146,2,   1.8305,20031014,1935
  32H120030911,   291,  1,    102,      2,2,20031014,1926, 73.2428,-158.1373, -999,    146.7,  -1.5519,  32.8781,2,  32.9073,2,    280.8,2,    289.9,2,    30.57,2,    14.13,2,     0.01,2,     1.75,2,  -999.00,9,  -999.00,9,    0.672,2,  -1.5548,20031014,1930
  32H120030911,   291,  1,    101,      1,2,20031014,1926, 73.2428,-158.1373, -999,    250.2,  -0.3430,  34.4659,2,  34.4994,2,    266.8,2,    276.7,2,    13.05,2,    12.69,2,     0.01,2,     1.05,2,  -999.00,9,  -999.00,9,    0.559,2,  -0.3516,20031014,1926
  32H120030911,   292,  1,    104,      4,2,20031014,2053, 73.1950,-157.9028, -999,      7.6,  -0.1083,  29.2041,2,  29.1838,2,    350.9,2,    363.8,2,     4.56,2,     0.05,2,     0.00,2,     0.66,2,  -999.00,9,  -999.00,9,    1.317,2,  -0.1085,20031014,2103
  32H120030911,   292,  1,    103,      3,2,20031014,2053, 73.1950,-157.9028, -999,    112.9,  -1.2783,  32.5293,2,  32.5459,2,    271.5,2,    278.9,2,    22.22,2,    10.07,2,     0.11,2,     1.91,2,  -999.00,9,  -999.00,9,    0.895,2,  -1.2807,20031014,2058
  32H120030911,   292,  1,    102,      2,2,20031014,2053, 73.1950,-157.9028, -999,    151.7,  -1.5137,  32.7414,2,  32.8136,2,    279.2,2,    288.9,2,    29.01,2,    13.23,2,     0.07,2,     1.75,2,  -999.00,9,  -999.00,9,    0.722,2,  -1.5167,20031014,2055
  32H120030911,   292,  1,    101,      1,2,20031014,2053, 73.1950,-157.9028, -999,    250.0,  -0.2361,  34.4904,2,  34.5088,2,    267.5,2,    278.6,2,    11.14,2,    12.24,2,     0.01,2,     0.97,2,  -999.00,9,  -999.00,9,    0.556,2,  -0.2449,20031014,2053
  32H120030911,   293,  1,    105,      5,9,20031014,2223, 73.1468,-157.6718, -999,     -0.1,  -0.2356,   3.2084,2,-999.0000,9,    406.3,2,   -999.0,9,  -999.00,9,  -999.00,9,  -999.00,9,  -999.00,9,  -999.00,9,  -999.00,9,    0.236,2,  -0.2356,20031014,2234
  32H120030911,   293,  1,    104,      4,2,20031014,2223, 73.1468,-157.6718, -999,      7.6,  -0.2411,  28.6319,2,  28.6358,2,    354.3,2,    394.6,2,     4.54,2,     0.05,2,     0.00,2,     0.63,2,  -999.00,9,  -999.00,9,    1.290,2,  -0.2413,20031014,2233
  32H120030911,   293,  1,    103,      3,2,20031014,2223, 73.1468,-157.6718, -999,     37.4,   0.6433,  30.4685,2,  30.7093,2,    366.4,2,    383.8,2,     6.09,2,     0.14,2,     0.01,2,     0.75,2,  -999.00,9,  -999.00,9,    1.232,2,   0.6420,20031014,2230
  32H120030911,   293,  1,    102,      2,2,20031014,2223, 73.1468,-157.6718, -999,    150.0,  -1.5445,  32.9035,2,  32.9230,2,    280.0,2,    290.7,2,    30.18,2,    14.00,2,     0.00,2,     1.73,2,  -999.00,9,  -999.00,9,    0.622,2,  -1.5475,20031014,2225
  32H120030911,   293,  1,    101,      1,2,20031014,2223, 73.1468,-157.6718, -999,    250.3,  -0.2790,  34.4930,2,  34.5026,2,    269.2,2,    278.5,2,    12.49,2,    12.40,2,     0.00,2,     1.02,2,  -999.00,9,  -999.00,9,    0.545,2,  -0.2877,20031014,2223
  32H120030911,   294,  1,    104,      4,2,20031015,2356, 73.0963,-157.4407, -999,      7.0,  -0.3487,  28.4108,2,  28.4132,2,    355.4,2,    368.0,2,     4.41,2,     0.05,2,     0.00,2,     0.62,2,  -999.00,9,  -999.00,9,    1.280,2,  -0.3488,20031015,   5
  32H120030911,   294,  1,    103,      3,2,20031015,2356, 73.0963,-157.4407, -999,     42.3,  -0.8719,  31.3079,2,  31.3151,2,    391.9,2,    408.0,2,     6.90,2,     0.25,2,     0.09,2,     0.86,2,  -999.00,9,  -999.00,9,    1.315,2,  -0.8728,20031015,   3
  32H120030911,   294,  1,    102,      2,2,20031015,2356, 73.0963,-157.4407, -999,    150.7,  -1.5561,  32.9650,2,  32.9775,2,    282.1,2,    291.1,2,    30.59,2,    13.91,2,     0.00,2,     1.73,2,  -999.00,9,  -999.00,9,    0.660,2,  -1.5591,20031015,2358
  32H120030911,   294,  1,    101,      1,2,20031015,2356, 73.0963,-157.4407, -999,    251.1,  -0.1899,  34.5141,2,  34.5192,2,    269.3,2,    278.5,2,    11.87,2,    12.36,2,     0.00,2,     1.00,2,  -999.00,9,  -999.00,9,    0.500,2,  -0.1988,20031015,2356
  32H120030911,   295,  1,    104,      4,2,20031015, 119, 73.0447,-157.2063, -999,      7.3,  -0.4205,  28.3610,2,  28.3657,2,    355.2,2,    369.9,2,     4.05,2,     0.02,2,     0.00,2,     0.63,2,  -999.00,9,  -999.00,9,    1.264,2,  -0.4206,20031015, 127
  32H120030911,   295,  1,    103,      3,2,20031015, 119, 73.0447,-157.2063, -999,     37.6,   1.5509,  30.7137,2,  30.7556,2,    346.2,2,    356.4,2,     5.49,2,     0.10,2,     0.01,2,     0.72,2,  -999.00,9,  -999.00,9,    1.130,2,   1.5493,20031015, 125
  32H120030911,   295,  1,    102,      2,2,20031015, 119, 73.0447,-157.2063, -999,    106.2,  -1.4598,  32.5104,2,  32.5160,2,    275.5,2,    282.8,2,    23.96,2,    10.13,2,     0.17,2,     1.86,2,  -999.00,9,  -999.00,9,    0.880,2,  -1.4619,20031015, 122
  32H120030911,   295,  1,    101,      1,2,20031015, 119, 73.0447,-157.2063, -999,    254.4,  -0.0700,  34.5585,2,  34.5681,2,    268.7,2,    279.7,2,    10.85,2,    12.30,2,     0.01,2,     0.99,2,  -999.00,9,  -999.00,9,    0.525,2,  -0.0793,20031015, 119
  32H120030911,   296,  1,    104,      4,2,20031015, 241, 72.9965,-156.9732, -999,      7.8,  -0.0678,  29.2685,2,  29.3444,2,    351.4,2,    363.4,2,     4.69,2,     0.00,2,     0.00,2,     0.67,2,  -999.00,9,  -999.00,9,    1.313,2,  -0.0680,20031015, 251
  32H120030911,   296,  1,    103,      3,2,20031015, 241, 72.9965,-156.9732, -999,     37.0,   1.6552,  30.8856,2,  31.0430,2,    329.5,2,    344.4,2,     6.43,2,     0.69,2,     0.05,2,     0.82,2,  -999.00,9,  -999.00,9,    0.959,2,   1.6536,20031015, 248
  32H120030911,   296,  1,    102,      2,2,20031015, 241, 72.9965,-156.9732, -999,    112.8,  -1.4789,  32.5262,2,  32.5588,2,    271.2,2,    287.0,2,    25.05,2,    11.06,2,     0.12,2,     1.80,2,  -999.00,9,  -999.00,9,    0.878,2,  -1.4811,20031015, 245
  32H120030911,   296,  1,    101,      1,2,20031015, 241, 72.9965,-156.9732, -999,    254.2,   0.0348,  34.5818,2,  34.5839,2,    269.1,2,    280.1,2,     9.79,2,    12.19,2,     0.01,2,     0.94,2,  -999.00,9,  -999.00,9,    0.518,2,   0.0252,20031015, 241