BOTTLE,20220815CCHSIOAMB
EXPOCODE,STNNBR,CASTNO,SAMPNO,BTLNBR,BTLNBR_FLAG_W,DATE,TIME,LATITUDE,LONGITUDE,DEPTH,CTDPRS,CTDTMP,CTDSAL,CTDSAL_FLAG_W,SALNTY,SALNTY_FLAG_W,CTDOXY,CTDOXY_FLAG_W,OXYGEN,OXYGEN_FLAG_W,SILCAT,SILCAT_FLAG_W,NITRAT,NITRAT_FLAG_W,NITRIT,NITRIT_FLAG_W,PHSPHT,PHSPHT_FLAG_W,CHLORA,CHLORA_FLAG_W,PHAEO,PHAEO_FLAG_W,FLUORO,FLUORO_FLAG_W,THETA,BTL_DATE,BTL_TIME
,,,,,,,,,,METERS,DBAR,ITS-90,PSS-78,,PSS-78,,UMOL/KG,,UMOL/KG,,UMOL/KG,,UMOL/KG,,UMOL/KG,,UMOL/KG,,UG/L,,UG/L,,VOLTS,,DEG C,,
  32H120030911,   277,  1,    110,     10,2,20031013, 839, 73.3745,-160.0252, -999,      8.9,  -0.0250,  29.1134,2,  29.2073,2,    349.1,2,    364.5,2,     4.17,2,     0.00,2,     0.00,2,     0.66,2,  -999.00,9,  -999.00,9,    1.295,2,  -0.0252,20031013, 914
  32H120030911,   277,  1,    109,      9,2,20031013, 839, 73.3745,-160.0252, -999,     35.7,   0.6543,  31.0318,2,  31.1748,2,    353.5,2,   -999.0,9,     8.59,2,     0.89,2,     0.04,2,     0.95,2,  -999.00,9,  -999.00,9,    1.179,2,   0.6531,20031013, 912
  32H120030911,   277,  1,    108,      8,2,20031013, 839, 73.3745,-160.0252, -999,     70.4,  -1.2239,  32.2314,2,  32.2664,2,    308.5,2,   -999.0,9,    22.02,2,     7.88,2,     0.16,2,     1.55,2,  -999.00,9,  -999.00,9,    0.824,2,  -1.2254,20031013, 910
  32H120030911,   277,  1,    107,      7,2,20031013, 839, 73.3745,-160.0252, -999,    102.1,  -0.7712,  32.5240,2,  32.5281,2,    274.2,2,    285.0,2,    19.48,2,     7.45,2,     0.11,2,     1.95,2,  -999.00,9,  -999.00,9,    0.967,2,  -0.7738,20031013, 908
  32H120030911,   277,  1,    106,      6,2,20031013, 839, 73.3745,-160.0252, -999,    141.2,  -1.4442,  32.7261,2,  32.8288,2,    261.0,2,    272.6,2,    34.77,2,    13.28,2,     0.11,2,     1.95,2,  -999.00,9,  -999.00,9,    0.846,2,  -1.4471,20031013, 906
  32H120030911,   277,  1,    105,      5,2,20031013, 839, 73.3745,-160.0252, -999,    182.3,  -1.2370,  33.9535,2,  34.0474,2,    275.7,2,    285.8,2,    23.08,2,    13.38,2,     0.01,2,     1.42,2,  -999.00,9,  -999.00,9,    0.640,2,  -1.2416,20031013, 904
  32H120030911,   277,  1,    104,      4,2,20031013, 839, 73.3745,-160.0252, -999,    222.4,  -0.3235,  34.4576,2,  34.4703,2,    268.5,2,    280.2,2,    10.14,2,    11.78,2,     0.01,2,     0.94,2,  -999.00,9,  -999.00,9,    0.619,2,  -0.3311,20031013, 902
  32H120030911,   277,  1,    103,      3,2,20031013, 839, 73.3745,-160.0252, -999,    351.2,   0.9051,  34.8195,2,  34.8237,2,    282.6,2,    294.9,2,     6.03,2,    12.12,2,     0.00,2,     0.84,2,  -999.00,9,  -999.00,9,    0.482,2,   0.8889,20031013, 859
  32H120030911,   277,  1,    102,      2,2,20031013, 839, 73.3745,-160.0252, -999,    794.1,   0.1577,  34.8661,2,  34.8701,2,    286.0,2,    299.3,2,     6.40,2,    12.41,2,     0.00,2,     0.87,2,  -999.00,9,  -999.00,9,    0.448,2,   0.1227,20031013, 851
  32H120030911,   277,  1,    101,      1,2,20031013, 839, 73.3745,-160.0252, -999,   1464.9,  -0.2829,  34.9068,2,  34.9103,2,    284.8,2,    298.1,2,     7.83,2,    13.10,2,     0.00,2,     0.93,2,  -999.00,9,  -999.00,9,    0.313,2,  -0.3509,20031013, 839
  32H120030911,   278,  1,    112,     12,2,20031013,1100, 73.4157,-159.9488, -999,     10.3,  -0.0177,  28.9448,2,  28.9586,2,    349.3,2,    364.3,2,     4.30,2,     0.00,2,     0.00,2,     0.63,2,  -999.00,9,  -999.00,9,    1.221,2,  -0.0180,20031013,1140
  32H120030911,   278,  1,    111,     11,2,20031013,1100, 73.4157,-159.9488, -999,     29.5,   0.7668,  30.6203,2,  31.1722,2,    365.0,2,    370.9,2,     9.47,2,     1.99,2,     0.09,2,     0.96,2,  -999.00,9,  -999.00,9,    1.214,2,   0.7658,20031013,1139
  32H120030911,   278,  1,    110,     10,2,20031013,1100, 73.4157,-159.9488, -999,     64.2,  -1.2879,  32.0232,2,  32.1049,2,    324.5,2,    336.5,2,    20.41,2,     7.80,2,     0.10,2,     1.40,2,  -999.00,9,  -999.00,9,    0.871,2,  -1.2892,20031013,1137
  32H120030911,   278,  1,    109,      9,2,20031013,1100, 73.4157,-159.9488, -999,     99.1,  -1.4080,  32.4297,2,  32.4473,2,    299.3,2,   -999.0,9,    23.92,2,    10.34,2,     0.08,2,     1.59,2,  -999.00,9,  -999.00,9,    0.792,2,  -1.4099,20031013,1135
  32H120030911,   278,  1,    108,      8,2,20031013,1100, 73.4157,-159.9488, -999,    145.2,  -1.5593,  32.9315,2,  32.9712,2,    280.5,2,    292.1,2,    30.11,2,    13.86,2,     0.01,2,     1.74,2,  -999.00,9,  -999.00,9,    0.688,2,  -1.5622,20031013,1133
  32H120030911,   278,  1,    107,      7,2,20031013,1100, 73.4157,-159.9488, -999,    178.2,  -1.4003,  33.5803,2,  33.6259,2,    275.8,2,   -999.0,9,    28.44,2,    13.85,2,     0.01,2,     1.62,2,  -999.00,9,  -999.00,9,    0.629,2,  -1.4044,20031013,1131
  32H120030911,   278,  1,    106,      6,2,20031013,1100, 73.4157,-159.9488, -999,    219.0,  -0.6236,  34.3566,2,  34.3704,2,    267.1,2,    278.7,2,    11.54,2,    11.85,2,     0.01,2,     0.99,2,  -999.00,9,  -999.00,9,    0.652,2,  -0.6305,20031013,1129
  32H120030911,   278,  1,    105,      5,2,20031013,1100, 73.4157,-159.9488, -999,    287.0,   0.4903,  34.7018,2,  34.7111,2,    273.1,2,   -999.0,9,     7.64,2,    12.19,2,     0.01,2,     0.88,2,  -999.00,9,  -999.00,9,    0.486,2,   0.4782,20031013,1126
  32H120030911,   278,  1,    104,      4,2,20031013,1100, 73.4157,-159.9488, -999,    369.3,   0.8364,  34.8154,2,  34.8195,2,    280.9,2,    294.1,2,     6.13,2,    12.19,2,     0.01,2,     0.85,2,  -999.00,9,  -999.00,9,    0.499,2,   0.8195,20031013,1124
  32H120030911,   278,  1,    103,      3,2,20031013,1100, 73.4157,-159.9488, -999,    700.5,   0.2664,  34.8605,2,  34.8651,2,    285.0,2,    298.4,2,     6.21,2,    12.29,2,     0.00,2,     0.87,2,  -999.00,9,  -999.00,9,    0.448,2,   0.2355,20031013,1118
  32H120030911,   278,  1,    102,      2,2,20031013,1100, 73.4157,-159.9488, -999,   1001.5,  -0.0013,  34.8777,2,  34.8823,2,    284.9,2,   -999.0,9,     6.75,2,    12.53,2,     0.00,2,     0.88,2,  -999.00,9,  -999.00,9,    0.399,2,  -0.0460,20031013,1112
  32H120030911,   278,  1,    101,      1,2,20031013,1100, 73.4157,-159.9488, -999,   1616.9,  -0.3712,  34.9233,2,  34.9252,2,    281.4,2,    296.8,2,     8.84,2,    13.46,2,     0.00,2,     0.95,2,  -999.00,9,  -999.00,9,    0.349,2,  -0.4473,20031013,1100
  32H120030911,   279,  1,    112,     12,2,20031013,1332, 73.4873,-159.8203, -999,      8.2,  -0.2440,  28.7825,2,  28.7753,2,    352.1,2,    366.7,2,     4.20,2,     0.00,2,     0.00,2,     0.63,2,  -999.00,9,  -999.00,9,    1.219,2,  -0.2442,20031013,1427
  32H120030911,   279,  1,    111,     11,2,20031013,1332, 73.4873,-159.8203, -999,     36.0,  -0.7074,  31.5701,2,  31.4269,2,    362.0,2,    389.4,2,     9.97,2,     1.00,2,     0.11,2,     0.96,2,  -999.00,9,  -999.00,9,    1.211,2,  -0.7082,20031013,1424
  32H120030911,   279,  1,    110,     10,2,20031013,1332, 73.4873,-159.8203, -999,     69.9,  -1.1681,  32.2400,2,  32.2688,2,    320.1,2,   -999.0,9,    21.85,2,     7.59,2,     0.11,2,     1.47,2,  -999.00,9,  -999.00,9,    0.815,2,  -1.1696,20031013,1421
  32H120030911,   279,  1,    109,      9,2,20031013,1332, 73.4873,-159.8203, -999,     94.3,  -1.5317,  32.4205,2,  32.4433,2,    287.8,2,    300.0,2,    26.28,2,     9.57,2,     0.11,2,     1.77,2,  -999.00,9,  -999.00,9,    0.874,2,  -1.5334,20031013,1419
  32H120030911,   279,  1,    108,      8,2,20031013,1332, 73.4873,-159.8203, -999,    118.5,  -0.8484,  32.5335,2,  32.5419,2,    286.5,2,   -999.0,9,    14.66,2,     6.26,2,     0.09,2,     1.85,2,  -999.00,9,  -999.00,9,    0.962,2,  -0.8514,20031013,1417
  32H120030911,   279,  1,    107,      7,2,20031013,1332, 73.4873,-159.8203, -999,    160.3,  -1.5560,  32.9786,2,  33.0391,2,    278.6,2,   -999.0,9,    30.79,2,    14.01,2,     0.01,2,     1.74,2,  -999.00,9,  -999.00,9,    0.646,2,  -1.5592,20031013,1415
  32H120030911,   279,  1,    106,      6,2,20031013,1332, 73.4873,-159.8203, -999,    212.7,  -1.0443,  34.1428,2,  34.1644,2,    264.8,2,    276.4,2,    18.77,2,    12.99,2,     0.01,2,     1.23,2,  -999.00,9,  -999.00,9,    0.646,2,  -1.0501,20031013,1413
  32H120030911,   279,  1,    105,      5,2,20031013,1332, 73.4873,-159.8203, -999,    252.3,  -0.1444,  34.5114,2,  34.5255,2,    269.5,2,   -999.0,9,     9.59,2,    11.83,2,     0.00,2,     0.91,2,  -999.00,9,  -999.00,9,    0.558,2,  -0.1535,20031013,1410
  32H120030911,   279,  1,    104,      4,2,20031013,1332, 73.4873,-159.8203, -999,    338.7,   0.7672,  34.7806,2,  34.7845,2,    279.3,2,    292.3,2,     6.53,2,    12.07,2,     0.00,2,     0.85,2,  -999.00,9,  -999.00,9,    0.488,2,   0.7520,20031013,1407
  32H120030911,   279,  1,    103,      3,2,20031013,1332, 73.4873,-159.8203, -999,    700.9,   0.3261,  34.8585,2,  34.8634,2,    284.9,2,    298.7,2,     6.24,2,    12.26,2,     0.00,2,     0.86,2,  -999.00,9,  -999.00,9,    0.437,2,   0.2948,20031013,1358
  32H120030911,   279,  1,    102,      2,2,20031013,1332, 73.4873,-159.8203, -999,   1177.6,  -0.1549,  34.8907,2,  34.8949,2,    284.9,2,    299.7,2,     7.19,2,    12.67,2,     0.00,2,     0.90,2,  -999.00,9,  -999.00,9,    0.398,2,  -0.2078,20031013,1347
  32H120030911,   279,  1,    101,      1,2,20031013,1332, 73.4873,-159.8203, -999,   1958.8,  -0.4031,  34.9400,2,  34.9453,2,    275.3,2,    289.1,2,    11.16,2,    14.08,2,     0.00,2,     1.00,2,  -999.00,9,  -999.00,9,    0.271,2,  -0.5007,20031013,1332
  32H120030911,   280,  1,    101,      1,9,20031013,1734, 73.5608,-159.6883, -999,   2255.2,  -0.3898,  34.9458,2,-999.0000,9,    272.6,2,   -999.0,9,  -999.00,9,  -999.00,9,  -999.00,9,  -999.00,9,  -999.00,9,  -999.00,9,    0.263,2,  -0.5081,20031013,1640
  32H120030911,   280,  1,    102,      2,9,20031013,1734, 73.5608,-159.6883, -999,   1000.8,  -0.0364,  34.8793,2,-999.0000,9,    284.9,2,   -999.0,9,  -999.00,9,  -999.00,9,  -999.00,9,  -999.00,9,  -999.00,9,  -999.00,9,    0.419,2,  -0.0807,20031013,1702
  32H120030911,   280,  1,    103,      3,9,20031013,1734, 73.5608,-159.6883, -999,    701.5,   0.3315,  34.8588,2,-999.0000,9,    283.9,2,   -999.0,9,  -999.00,9,  -999.00,9,  -999.00,9,  -999.00,9,  -999.00,9,  -999.00,9,    0.430,2,   0.3002,20031013,1709
  32H120030911,   280,  1,    104,      4,9,20031013,1734, 73.5608,-159.6883, -999,    372.0,   0.8672,  34.8170,2,-999.0000,9,    281.3,2,   -999.0,9,  -999.00,9,  -999.00,9,  -999.00,9,  -999.00,9,  -999.00,9,  -999.00,9,    0.507,2,   0.8501,20031013,1715
  32H120030911,   280,  1,    105,      5,9,20031013,1734, 73.5608,-159.6883, -999,    200.3,  -1.2065,  33.9564,2,-999.0000,9,    267.7,2,   -999.0,9,  -999.00,9,  -999.00,9,  -999.00,9,  -999.00,9,  -999.00,9,  -999.00,9,    0.684,2,  -1.2116,20031013,1720
  32H120030911,   280,  1,    106,      6,9,20031013,1734, 73.5608,-159.6883, -999,    150.9,  -1.5635,  32.9816,2,-999.0000,9,    278.2,2,   -999.0,9,  -999.00,9,  -999.00,9,  -999.00,9,  -999.00,9,  -999.00,9,  -999.00,9,    0.678,2,  -1.5665,20031013,1722
  32H120030911,   280,  1,    107,      7,2,20031013,1734, 73.5608,-159.6883, -999,     71.3,  -1.1571,  32.1276,2,  32.1704,2,    324.4,2,   -999.0,9,    19.02,2,     7.25,2,     0.14,2,     1.41,2,  -999.00,9,  -999.00,9,    0.815,2,  -1.1586,20031013,1726
  32H120030911,   280,  1,    108,      8,2,20031013,1734, 73.5608,-159.6883, -999,     49.8,  -0.8217,  31.7379,2,  31.7161,2,    344.3,2,   -999.0,9,    13.60,2,     3.59,2,     0.23,2,     1.20,2,  -999.00,9,  -999.00,9,    1.016,2,  -0.8228,20031013,1728
  32H120030911,   280,  1,    109,      9,2,20031013,1734, 73.5608,-159.6883, -999,     39.8,  -0.4719,  31.3446,2,  31.5005,2,    379.9,2,   -999.0,9,    10.72,2,     1.56,2,     0.14,2,     1.03,2,  -999.00,9,  -999.00,9,    1.198,2,  -0.4729,20031013,1730
  32H120030911,   280,  1,    110,     10,2,20031013,1734, 73.5608,-159.6883, -999,     30.3,  -0.4397,  29.2314,2,  29.3246,2,    363.5,2,   -999.0,9,     4.47,2,     0.07,2,     0.00,2,     0.69,2,  -999.00,9,  -999.00,9,    1.246,2,  -0.4404,20031013,1731
  32H120030911,   280,  1,    111,     11,2,20031013,1734, 73.5608,-159.6883, -999,     19.8,  -0.5151,  28.6799,2,  28.7160,2,    353.9,2,   -999.0,9,     3.84,2,     0.02,2,     0.00,2,     0.65,2,  -999.00,9,  -999.00,9,    1.193,2,  -0.5155,20031013,1733
  32H120030911,   280,  1,    112,     12,2,20031013,1734, 73.5608,-159.6883, -999,     10.2,  -0.5170,  28.6772,2,  28.6816,2,    354.2,2,   -999.0,9,     3.84,2,     0.02,2,     0.00,2,     0.65,2,  -999.00,9,  -999.00,9,    1.178,2,  -0.5172,20031013,1734
  32H120030911,   281,  1,    106,      6,2,20031013,1855, 73.5602,-159.6888, -999,      5.4,  -0.4866,  28.6562,2,  28.6591,2,    356.2,2,    369.1,2,     3.92,2,     0.01,2,     0.00,2,     0.64,2,  -999.00,9,  -999.00,9,    1.173,2,  -0.4867,20031013,1908
  32H120030911,   281,  1,    105,      5,2,20031013,1855, 73.5602,-159.6888, -999,     50.2,  -0.9957,  31.7566,2,  31.8161,2,    341.1,2,    352.2,2,    16.33,2,     5.26,2,     0.24,2,     1.27,2,  -999.00,9,  -999.00,9,    1.080,2,  -0.9968,20031013,1905
  32H120030911,   281,  1,    104,      4,2,20031013,1855, 73.5602,-159.6888, -999,     99.7,  -1.4065,  32.4452,2,  32.4705,2,    295.3,2,    305.7,2,    24.85,2,    10.37,2,     0.11,2,     1.64,2,  -999.00,9,  -999.00,9,    0.758,2,  -1.4085,20031013,1903
  32H120030911,   281,  1,    103,      3,2,20031013,1855, 73.5602,-159.6888, -999,    149.9,  -1.5588,  33.0060,2,  33.0718,2,    279.1,2,    289.3,2,    31.30,2,    14.14,2,     0.01,2,     1.74,2,  -999.00,9,  -999.00,9,    0.691,2,  -1.5618,20031013,1900
  32H120030911,   281,  1,    102,      2,2,20031013,1855, 73.5602,-159.6888, -999,    201.0,  -1.2031,  33.9720,2,  33.9736,2,    270.7,2,    283.6,2,    24.93,2,    13.69,2,     0.01,2,     1.47,2,  -999.00,9,  -999.00,9,    0.673,2,  -1.2082,20031013,1858
  32H120030911,   281,  1,    101,      1,2,20031013,1855, 73.5602,-159.6888, -999,    250.1,  -0.1705,  34.5028,2,  34.5163,2,    271.3,2,    282.1,2,     9.72,2,    11.70,2,     0.01,2,     0.92,2,  -999.00,9,  -999.00,9,    0.568,2,  -0.1794,20031013,1855
  32H120030911,   282,  1,    113,     13,9,20031013,2132, 73.6332,-159.5532, -999,     -0.2,  -0.7159,  22.1838,2,-999.0000,9,    377.0,2,   -999.0,9,  -999.00,9,  -999.00,9,  -999.00,9,  -999.00,9,  -999.00,9,  -999.00,9,    0.680,2,  -0.7159,20031013,2228
  32H120030911,   282,  1,    112,     12,2,20031013,2132, 73.6332,-159.5532, -999,      9.7,  -0.7190,  28.6261,2,  28.6242,2,    358.6,2,    372.3,2,     3.54,2,     0.00,2,     0.00,2,     0.63,2,  -999.00,9,  -999.00,9,    1.159,2,  -0.7192,20031013,2227
  32H120030911,   282,  1,    111,     11,2,20031013,2132, 73.6332,-159.5532, -999,     34.6,   0.2980,  30.8091,2,  31.0937,2,    373.0,2,    383.0,2,     7.06,2,     0.33,2,     0.05,2,     0.81,2,  -999.00,9,  -999.00,9,    1.349,2,   0.2969,20031013,2226
  32H120030911,   282,  1,    110,     10,2,20031013,2132, 73.6332,-159.5532, -999,     64.3,  -1.0282,  32.0072,2,  32.0323,2,    333.0,2,   -999.0,9,    16.22,2,     6.09,2,     0.17,2,     1.28,2,  -999.00,9,  -999.00,9,    0.840,2,  -1.0296,20031013,2224
  32H120030911,   282,  1,    109,      9,2,20031013,2132, 73.6332,-159.5532, -999,    105.1,  -1.4857,  32.5087,2,  32.5308,2,    294.7,2,    303.6,2,    26.36,2,    11.22,2,     0.07,2,     1.63,2,  -999.00,9,  -999.00,9,    0.739,2,  -1.4877,20031013,2221
  32H120030911,   282,  1,    108,      8,2,20031013,2132, 73.6332,-159.5532, -999,    153.3,  -1.5412,  33.0449,2,  33.0793,2,    277.6,2,    288.6,2,    31.41,2,    14.34,2,     0.01,2,     1.74,2,  -999.00,9,  -999.00,9,    0.674,2,  -1.5443,20031013,2219
  32H120030911,   282,  1,    107,      7,2,20031013,2132, 73.6332,-159.5532, -999,    227.6,  -0.6522,  34.3464,2,  34.3410,2,    266.9,2,    278.4,2,    15.27,2,    12.48,2,     0.01,2,     1.10,2,  -999.00,9,  -999.00,9,    0.627,2,  -0.6593,20031013,2217
  32H120030911,   282,  1,    106,      6,2,20031013,2132, 73.6332,-159.5532, -999,    278.8,   0.2449,  34.6398,2,  34.6603,2,    271.3,2,   -999.0,9,     8.93,2,    12.18,2,     0.01,2,     0.89,2,  -999.00,9,  -999.00,9,    0.575,2,   0.2338,20031013,2215
  32H120030911,   282,  1,    105,      5,2,20031013,2132, 73.6332,-159.5532, -999,    328.7,   0.7688,  34.7809,2,  34.7828,2,    280.4,2,    291.3,2,     6.74,2,    12.03,2,     0.01,2,     0.84,2,  -999.00,9,  -999.00,9,    0.487,2,   0.7541,20031013,2212
  32H120030911,   282,  1,    104,      4,2,20031013,2132, 73.6332,-159.5532, -999,    700.0,   0.3277,  34.8586,2,  34.8627,2,    284.3,2,    298.2,2,     6.46,2,    12.27,2,     0.01,2,     0.85,2,  -999.00,9,  -999.00,9,    0.414,2,   0.2965,20031013,2205
  32H120030911,   282,  1,    103,      3,2,20031013,2132, 73.6332,-159.5532, -999,   1000.2,  -0.0378,  34.8787,2,  34.8828,2,    286.5,2,    300.2,2,     6.74,2,    12.36,2,     0.01,2,     0.87,2,  -999.00,9,  -999.00,9,    0.435,2,  -0.0821,20031013,2159
  32H120030911,   282,  1,    102,      2,2,20031013,2132, 73.6332,-159.5532, -999,   1700.6,  -0.3867,  34.9264,2,  34.9303,2,    280.7,2,    294.8,2,     9.22,2,    13.49,2,     0.01,2,     0.95,2,  -999.00,9,  -999.00,9,    0.323,2,  -0.4678,20031013,2146
  32H120030911,   282,  1,    101,      1,2,20031013,2132, 73.6332,-159.5532, -999,   2523.5,  -0.3707,  34.9507,2,  34.9535,2,    271.8,2,    284.6,2,    12.44,2,    14.26,2,     0.01,2,     1.01,2,  -999.00,9,  -999.00,9,    0.248,2,  -0.5092,20031013,2132