BOTTLE,20220815CCHSIOAMB
EXPOCODE,STNNBR,CASTNO,SAMPNO,BTLNBR,BTLNBR_FLAG_W,DATE,TIME,LATITUDE,LONGITUDE,DEPTH,CTDPRS,CTDTMP,CTDSAL,CTDSAL_FLAG_W,SALNTY,SALNTY_FLAG_W,CTDOXY,CTDOXY_FLAG_W,OXYGEN,OXYGEN_FLAG_W,SILCAT,SILCAT_FLAG_W,NITRAT,NITRAT_FLAG_W,NITRIT,NITRIT_FLAG_W,PHSPHT,PHSPHT_FLAG_W,CHLORA,CHLORA_FLAG_W,PHAEO,PHAEO_FLAG_W,FLUORO,FLUORO_FLAG_W,THETA,BTL_DATE,BTL_TIME
,,,,,,,,,,METERS,DBAR,ITS-90,PSS-78,,PSS-78,,UMOL/KG,,UMOL/KG,,UMOL/KG,,UMOL/KG,,UMOL/KG,,UMOL/KG,,UG/L,,UG/L,,VOLTS,,DEG C,,
  32H120030911,    50,  1,    106,      6,2,20030919,1457, 73.0142,-165.9938, -999,     11.9,  -0.1649,  29.8210,2,  30.0836,2,    340.6,2,   -999.0,9,     6.22,2,     0.07,2,     0.01,2,     0.59,2,     0.36,2,     0.13,2,    1.345,2,  -0.1652,20030919,1503
  32H120030911,    50,  1,    105,      5,2,20030919,1457, 73.0142,-165.9938, -999,     15.1,  -0.0504,  29.8982,2,  30.2895,2,    339.4,2,   -999.0,9,     5.43,2,     0.07,2,     0.00,2,     0.60,2,     0.43,2,     0.15,2,    1.367,2,  -0.0508,20030919,1503
  32H120030911,    50,  1,    104,      4,2,20030919,1457, 73.0142,-165.9938, -999,     24.7,   1.0282,  32.2018,2,  32.1847,2,    338.9,2,    351.2,2,     2.54,2,     2.24,2,     0.05,2,     1.10,2,     0.38,2,     0.21,2,    1.575,2,   1.0272,20030919,1501
  32H120030911,    50,  1,    103,      3,2,20030919,1457, 73.0142,-165.9938, -999,     36.7,  -0.2875,  32.4579,2,  32.4629,2,    290.2,2,    311.4,2,    10.72,2,     4.94,2,     0.10,2,     1.72,2,     0.50,2,     0.34,2,    1.481,2,  -0.2886,20030919,1500
  32H120030911,    50,  1,    102,      2,2,20030919,1457, 73.0142,-165.9938, -999,     47.4,  -0.3728,  32.4867,2,  32.4903,2,    279.3,2,    299.4,2,    13.80,2,     5.61,2,     0.12,2,     1.85,2,     0.79,2,     0.48,2,    1.430,2,  -0.3741,20030919,1458
  32H120030911,    50,  1,    101,      1,2,20030919,1457, 73.0142,-165.9938, -999,     55.8,  -0.4551,  32.5022,2,  32.4973,2,    275.6,2,    296.1,2,    14.57,2,     5.79,2,     0.13,2,     1.90,2,  -999.00,9,  -999.00,9,    1.465,2,  -0.4566,20030919,1457
  32H120030911,    52,  1,    105,      5,2,20030919,1737, 72.8498,-165.9837, -999,     12.0,  -0.2200,  29.8305,2,  29.8744,2,    340.7,2,   -999.0,9,     7.53,2,     0.00,2,     0.02,2,     0.60,2,  -999.00,9,  -999.00,9,    1.286,2,  -0.2203,20030919,1743
  32H120030911,    52,  1,    104,      4,2,20030919,1737, 72.8498,-165.9837, -999,     21.1,  -0.1380,  29.9964,2,  31.0426,2,    348.8,2,    385.8,2,     4.75,2,     0.28,2,     0.03,2,     0.72,2,  -999.00,9,  -999.00,9,    1.294,2,  -0.1386,20030919,1741
  32H120030911,    52,  1,    103,      3,2,20030919,1737, 72.8498,-165.9837, -999,     31.5,  -0.5238,  32.4670,2,  32.4704,2,    293.6,2,    316.8,2,     9.16,2,     4.65,2,     0.11,2,     1.61,2,  -999.00,9,  -999.00,9,    1.136,2,  -0.5246,20030919,1740
  32H120030911,    52,  1,    102,      2,2,20030919,1737, 72.8498,-165.9837, -999,     41.7,  -0.4726,  32.5701,2,  32.5758,2,    264.9,2,    286.5,2,    15.55,2,     6.44,2,     0.38,2,     1.92,2,  -999.00,9,  -999.00,9,    1.156,2,  -0.4737,20030919,1738
  32H120030911,    52,  1,    101,      1,2,20030919,1737, 72.8498,-165.9837, -999,     52.9,  -0.4921,  32.5727,2,  32.5445,2,    262.3,2,    291.9,2,    14.88,2,     6.32,2,     0.07,2,     1.90,2,  -999.00,9,  -999.00,9,    1.243,2,  -0.4935,20030919,1737
  32H120030911,    54,  1,    105,      5,2,20030919,1949, 72.6873,-166.0010, -999,     12.0,   0.0089,  29.8669,2,  29.8784,2,    340.4,2,    366.0,2,     6.41,2,     0.02,2,     0.00,2,     0.57,2,  -999.00,9,  -999.00,9,    1.282,2,   0.0086,20030919,1956
  32H120030911,    54,  1,    104,      4,2,20030919,1949, 72.6873,-166.0010, -999,     20.0,   0.1458,  29.9792,2,  30.2566,2,    339.1,2,    370.6,2,     5.85,2,     0.12,2,     0.00,2,     0.61,2,  -999.00,9,  -999.00,9,    1.254,2,   0.1452,20030919,1955
  32H120030911,    54,  1,    103,      3,2,20030919,1949, 72.6873,-166.0010, -999,     36.5,  -0.3299,  32.5472,2,  32.5499,2,    276.9,2,    297.1,2,    12.02,2,     6.24,2,     0.05,2,     1.78,2,  -999.00,9,  -999.00,9,    1.143,2,  -0.3309,20030919,1952
  32H120030911,    54,  1,    102,      2,2,20030919,1949, 72.6873,-166.0010, -999,     41.6,  -0.3299,  32.5474,2,  32.5505,2,    276.5,2,   -999.0,9,    12.13,2,     6.23,2,     0.07,2,     1.82,2,  -999.00,9,  -999.00,9,    1.153,2,  -0.3311,20030919,1951
  32H120030911,    54,  1,    101,      1,2,20030919,1949, 72.6873,-166.0010, -999,     51.2,  -0.3357,  32.5476,2,  32.5328,2,    275.3,2,    299.3,2,    11.90,2,     6.13,2,     0.07,2,     1.79,2,  -999.00,9,  -999.00,9,    1.191,2,  -0.3372,20030919,1949
  32H120030911,    56,  1,    105,      5,2,20030919,2236, 72.5242,-165.9970, -999,     12.1,   1.1934,  30.4333,2,  30.4487,2,    329.7,2,    353.7,2,     2.28,2,     0.02,2,     0.00,2,     0.48,2,  -999.00,9,  -999.00,9,    1.312,2,   1.1929,20030919,2244
  32H120030911,    56,  1,    104,      4,2,20030919,2236, 72.5242,-165.9970, -999,     19.4,   1.3087,  30.5151,2,  30.5194,2,    329.5,2,    352.5,2,     2.17,2,     0.07,2,     0.00,2,     0.50,2,  -999.00,9,  -999.00,9,    1.426,2,   1.3079,20030919,2242
  32H120030911,    56,  1,    103,      3,2,20030919,2236, 72.5242,-165.9970, -999,     30.5,   0.6142,  32.3693,2,  32.3695,2,    296.0,2,    317.4,2,     8.15,2,     3.69,2,     0.05,2,     1.43,2,  -999.00,9,  -999.00,9,    1.983,2,   0.6131,20030919,2240
  32H120030911,    56,  1,    102,      2,2,20030919,2236, 72.5242,-165.9970, -999,     40.1,   0.5976,  32.3698,2,  32.3705,2,    293.5,2,   -999.0,9,     8.81,2,     3.73,2,     0.06,2,     1.48,2,  -999.00,9,  -999.00,9,    2.036,2,   0.5961,20030919,2238
  32H120030911,    56,  1,    101,      1,2,20030919,2236, 72.5242,-165.9970, -999,     48.2,   0.5568,  32.3744,2,  32.2910,2,    288.6,2,    314.4,2,     8.80,2,     3.63,2,     0.06,2,     1.46,2,  -999.00,9,  -999.00,9,    2.029,2,   0.5551,20030919,2236
  32H120030911,    59,  1,    101,      1,9,20030920, 149, 72.4305,-165.2395, -999,     47.1,   0.6026,  32.3641,2,-999.0000,9,    301.8,2,   -999.0,9,  -999.00,9,  -999.00,9,  -999.00,9,  -999.00,9,  -999.00,9,  -999.00,9,    1.967,2,   0.6009,20030920, 149
  32H120030911,    91,  1,    105,      5,2,20030921,2129, 70.6750,-167.0787, -999,     12.4,   4.2045,  31.6690,2,  31.6752,2,    310.4,2,    320.4,2,     1.73,2,     0.05,2,     0.00,2,     0.51,2,     0.68,2,     0.28,2,    1.613,2,   4.2037,20030921,2136
  32H120030911,    91,  1,    104,      4,2,20030921,2129, 70.6750,-167.0787, -999,     19.3,   4.2001,  31.6702,2,  31.6934,2,    309.8,2,    317.8,2,     2.38,2,     0.14,2,     0.01,2,     0.55,2,     0.49,2,     0.29,2,    1.600,2,   4.1988,20030921,2134
  32H120030911,    91,  1,    103,      3,2,20030921,2129, 70.6750,-167.0787, -999,     27.9,   3.8416,  31.8120,2,  31.8545,2,    303.7,2,    309.5,2,     5.24,2,     0.65,2,     0.05,2,     0.72,2,     0.34,2,     0.26,2,    1.444,2,   3.8399,20030921,2133
  32H120030911,    91,  1,    102,      2,2,20030921,2129, 70.6750,-167.0787, -999,     38.2,   2.9441,  32.2716,2,  32.2532,2,    265.7,2,    274.2,2,    16.77,2,     2.59,2,     0.21,2,     1.31,2,     0.13,2,     0.23,2,    1.138,2,   2.9420,20030921,2131
  32H120030911,    91,  1,    101,      1,2,20030921,2129, 70.6750,-167.0787, -999,     47.8,   2.4635,  32.3042,2,  32.2785,2,    259.4,2,    269.2,2,    18.28,2,     2.98,2,     0.22,2,     1.38,2,     0.12,2,     0.24,2,    1.156,2,   2.4610,20030921,2129
  32H120030911,    92,  1,    103,      3,2,20030922, 617, 70.7020,-168.8353, -999,     11.5,   3.3429,  31.9179,2,  32.0030,2,    319.6,2,    326.7,2,     3.75,2,     0.78,2,     0.05,2,     0.66,2,     1.56,2,     0.13,2,    1.735,2,   3.3422,20030922, 620
  32H120030911,    92,  1,    102,      2,2,20030922, 617, 70.7020,-168.8353, -999,     18.9,   3.7442,  32.2807,2,  32.2801,2,    306.4,2,    316.2,2,     6.17,2,     1.20,2,     0.07,2,     0.79,2,     0.86,2,     0.09,2,    1.487,2,   3.7430,20030922, 619
  32H120030911,    92,  1,    101,      1,2,20030922, 617, 70.7020,-168.8353, -999,     29.5,   3.9625,  32.4487,2,  32.3878,2,    282.4,2,    301.5,2,     9.02,2,     1.66,2,     0.09,2,     0.94,2,     0.31,2,     0.14,2,    1.147,2,   3.9606,20030922, 617
  32H120030911,    93,  1,    104,      4,2,20030922, 801, 70.7007,-168.5610, -999,     11.3,   3.1720,  31.6726,2,  31.6857,2,    321.7,2,    331.9,2,     1.03,2,     0.35,2,     0.03,2,     0.52,2,     1.37,2,     0.19,2,    1.726,2,   3.1714,20030922, 805
  32H120030911,    93,  1,    103,      3,2,20030922, 801, 70.7007,-168.5610, -999,     19.4,   3.2681,  31.7710,2,  31.7710,2,    319.7,2,    328.6,2,     1.34,2,     0.45,2,     0.03,2,     0.55,2,     1.25,2,     0.19,2,    1.818,2,   3.2670,20030922, 804
  32H120030911,    93,  1,    102,      2,2,20030922, 801, 70.7007,-168.5610, -999,     26.9,   3.6860,  32.1916,2,  32.1863,2,    299.4,2,    309.1,2,     4.98,2,     1.11,2,     0.06,2,     0.77,2,     0.33,2,     0.14,2,    1.285,2,   3.6843,20030922, 803
  32H120030911,    93,  1,    101,      1,2,20030922, 801, 70.7007,-168.5610, -999,     36.5,   4.0307,  32.4231,2,  32.3833,2,    266.7,2,    282.2,2,    12.46,2,     2.08,2,     0.12,2,     1.11,2,     0.16,2,     0.20,2,    1.254,2,   4.0283,20030922, 801
  32H120030911,    94,  1,    105,      5,2,20030922, 904, 70.6985,-168.2833, -999,     10.3,   3.1627,  31.7125,2,  31.7142,2,    322.2,2,    333.1,2,     1.40,2,     0.39,2,     0.03,2,     0.54,2,     1.22,2,     0.19,2,    1.655,2,   3.1621,20030922, 909
  32H120030911,    94,  1,    104,      4,2,20030922, 904, 70.6985,-168.2833, -999,     16.7,   3.1732,  31.7139,2,  31.7208,2,    322.0,2,    332.5,2,     1.38,2,     0.38,2,     0.03,2,     0.55,2,     1.27,2,     0.19,2,    1.679,2,   3.1723,20030922, 908
  32H120030911,    94,  1,    103,      3,2,20030922, 904, 70.6985,-168.2833, -999,     24.8,   3.9802,  32.3545,2,  32.3445,2,    295.7,2,    306.2,2,     6.24,2,     1.34,2,     0.06,2,     0.84,2,     0.31,2,     0.12,2,    1.299,2,   3.9786,20030922, 907
  32H120030911,    94,  1,    102,      2,2,20030922, 904, 70.6985,-168.2833, -999,     33.6,   3.9984,  32.4439,2,  32.4362,2,    285.4,2,    294.7,2,     9.20,2,     1.85,2,     0.09,2,     0.99,2,     0.15,2,     0.12,2,    1.134,2,   3.9962,20030922, 905
  32H120030911,    94,  1,    101,      1,2,20030922, 904, 70.6985,-168.2833, -999,     41.7,   4.0179,  32.4621,2,  32.4397,2,    274.5,2,    286.5,2,    12.15,2,     2.02,2,     0.11,2,     1.10,2,     0.17,2,     0.22,2,    1.186,2,   4.0152,20030922, 904
  32H120030911,    95,  1,    105,      5,2,20030922,1033, 70.6980,-168.0093, -999,      9.3,   3.6985,  31.8106,2,  31.8153,2,    316.1,2,    326.8,2,     1.09,2,     0.01,2,     0.00,2,     0.53,2,     0.95,2,     0.22,2,    1.735,2,   3.6979,20030922,1038
  32H120030911,    95,  1,    104,      4,2,20030922,1033, 70.6980,-168.0093, -999,     19.7,   3.5932,  31.9154,2,  31.9233,2,    315.2,2,    325.2,2,     1.63,2,     0.15,2,     0.01,2,     0.57,2,     1.41,2,     0.17,2,    1.757,2,   3.5920,20030922,1037
  32H120030911,    95,  1,    103,      3,2,20030922,1033, 70.6980,-168.0093, -999,     28.2,   3.6470,  32.1052,2,  32.1228,2,    301.0,2,    311.1,2,     3.05,2,     0.27,2,     0.03,2,     0.71,2,     0.23,2,     0.15,2,    1.132,2,   3.6453,20030922,1035
  32H120030911,    95,  1,    102,      2,2,20030922,1033, 70.6980,-168.0093, -999,     35.9,   3.5543,  32.1758,2,  32.1720,2,    298.5,2,    297.7,2,     6.46,2,     0.74,2,     0.05,2,     0.85,2,     0.15,2,     0.16,2,    1.071,2,   3.5521,20030922,1034
  32H120030911,    95,  1,    101,      1,2,20030922,1033, 70.6980,-168.0093, -999,     44.1,   1.7970,  32.3242,2,  32.2429,2,    244.5,2,    265.6,2,    16.01,2,     1.48,2,     0.10,2,     1.16,2,     0.25,2,     0.35,2,    1.332,2,   1.7950,20030922,1033
  32H120030911,    96,  1,    105,      5,2,20030922,1202, 70.7007,-167.7407, -999,     12.7,   4.1213,  31.7009,2,  31.7027,2,    311.3,2,    321.6,2,     1.58,2,     0.02,2,     0.00,2,     0.50,2,     0.65,2,     0.31,2,    1.677,2,   4.1205,20030922,1207
  32H120030911,    96,  1,    104,      4,2,20030922,1202, 70.7007,-167.7407, -999,     19.9,   4.1245,  31.7007,2,  31.7033,2,    311.3,2,    321.7,2,     1.57,2,     0.02,2,     0.00,2,     0.50,2,     0.66,2,     0.30,2,    1.627,2,   4.1232,20030922,1206
  32H120030911,    96,  1,    103,      3,2,20030922,1202, 70.7007,-167.7407, -999,     30.2,   4.1194,  31.7037,2,  31.7447,2,    310.9,2,    319.2,2,     2.78,2,     0.07,2,     0.00,2,     0.54,2,     0.60,2,     0.29,2,    1.632,2,   4.1175,20030922,1205
  32H120030911,    96,  1,    102,      2,2,20030922,1202, 70.7007,-167.7407, -999,     40.0,   3.4753,  32.0876,2,  32.0936,2,    283.7,2,    293.6,2,     7.84,2,     0.32,2,     0.05,2,     0.87,2,     0.13,2,     0.30,2,    1.181,2,   3.4729,20030922,1203
  32H120030911,    96,  1,    101,      1,2,20030922,1202, 70.7007,-167.7407, -999,     49.0,   0.6453,  32.3783,2,  32.2563,2,    263.3,2,    275.8,2,    17.25,2,     2.15,2,     0.16,2,     1.28,2,     0.18,2,     0.39,2,    1.413,2,   0.6435,20030922,1202
  32H120030911,    97,  1,    105,      5,2,20030922,1329, 70.6985,-167.4715, -999,     12.4,   4.0001,  31.7076,2,  31.7101,2,    312.7,2,    322.9,2,     1.97,2,     0.02,2,     0.00,2,     0.50,2,     0.83,2,     0.24,2,    1.638,2,   3.9993,20030922,1335
  32H120030911,    97,  1,    104,      4,2,20030922,1329, 70.6985,-167.4715, -999,     20.1,   3.9967,  31.7086,2,  31.7114,2,    312.4,2,    323.0,2,     2.07,2,     0.02,2,     0.00,2,     0.50,2,     0.80,2,     0.27,2,    1.685,2,   3.9954,20030922,1334
  32H120030911,    97,  1,    103,      3,2,20030922,1329, 70.6985,-167.4715, -999,     33.8,   3.9447,  31.7437,2,  31.7814,2,    310.1,2,    317.3,2,     3.39,2,     0.25,2,     0.02,2,     0.56,2,     0.56,2,     0.24,2,    1.602,2,   3.9426,20030922,1332
  32H120030911,    97,  1,    102,      2,2,20030922,1329, 70.6985,-167.4715, -999,     41.7,   2.3227,  32.3218,2,  32.3207,2,    253.1,2,    260.4,2,    22.56,2,     3.36,2,     0.22,2,     1.51,2,     0.12,2,     0.34,2,    1.225,2,   2.3206,20030922,1331
  32H120030911,    97,  1,    101,      1,3,20030922,1329, 70.6985,-167.4715, -999,     50.5,   1.6717,  32.3391,2,  32.2051,2,    258.5,2,    276.1,4,    17.20,4,     2.67,4,     0.17,4,     1.31,4,     0.23,4,     0.35,4,    1.308,2,   1.6694,20030922,1329
  32H120030911,    98,  1,    105,      5,2,20030922,1434, 70.6980,-167.1958, -999,     12.7,   4.0537,  31.6932,2,  31.6942,2,    312.2,2,    323.0,2,     1.80,2,     0.00,2,     0.00,2,     0.48,2,     0.72,2,     0.25,2,    1.608,2,   4.0529,20030922,1439
  32H120030911,    98,  1,    104,      4,2,20030922,1434, 70.6980,-167.1958, -999,     20.6,   4.0529,  31.6929,2,  31.6940,2,    312.3,2,    323.4,2,     1.91,2,     0.00,2,     0.00,2,     0.48,2,     0.66,2,     0.26,2,    1.643,2,   4.0516,20030922,1438
  32H120030911,    98,  1,    103,      3,2,20030922,1434, 70.6980,-167.1958, -999,     31.2,   4.0539,  31.6937,2,  31.7314,2,    312.2,2,    320.1,2,     2.67,2,     0.12,2,     0.01,2,     0.52,2,     0.73,2,     0.24,2,    1.672,2,   4.0519,20030922,1437
  32H120030911,    98,  1,    102,      2,2,20030922,1434, 70.6980,-167.1958, -999,     40.5,   2.5917,  32.1053,2,  32.0653,2,    281.6,2,    293.2,2,    10.60,2,     1.77,2,     0.11,2,     1.01,2,     0.34,2,     0.23,2,    1.328,2,   2.5896,20030922,1435
  32H120030911,    98,  1,    101,      1,2,20030922,1434, 70.6980,-167.1958, -999,     50.2,   1.7658,  32.3306,2,  32.2562,2,    256.5,2,    267.7,2,    20.32,2,     3.22,2,     0.20,2,     1.48,2,     0.24,2,     0.43,2,    1.305,2,   1.7635,20030922,1434
  32H120030911,    99,  1,    105,      5,2,20030922,1602, 70.7005,-166.9193, -999,     12.2,   3.9904,  31.6950,2,  31.7005,2,    311.8,2,   -999.0,9,     2.31,2,     0.11,2,     0.01,2,     0.55,2,     0.86,2,     0.26,2,    1.648,2,   3.9896,20030922,1606
  32H120030911,    99,  1,    104,      4,2,20030922,1602, 70.7005,-166.9193, -999,     20.1,   3.9067,  31.7228,2,  31.7264,2,    312.4,2,   -999.0,9,     2.85,2,     0.16,2,     0.02,2,     0.57,2,     0.90,2,     0.26,2,    1.699,2,   3.9054,20030922,1605
  32H120030911,    99,  1,    103,      3,2,20030922,1602, 70.7005,-166.9193, -999,     30.0,   3.5648,  31.8702,2,  31.8842,2,    308.9,2,   -999.0,9,     4.50,2,     0.52,2,     0.04,2,     0.71,2,     0.47,2,     0.31,2,    1.488,2,   3.5630,20030922,1604
  32H120030911,    99,  1,    102,      2,2,20030922,1602, 70.7005,-166.9193, -999,     35.0,   3.5151,  31.9088,2,  31.9168,2,    303.6,2,    309.6,2,     5.59,2,     0.71,2,     0.05,2,     0.75,2,     0.31,2,     0.26,2,    1.339,2,   3.5130,20030922,1603
  32H120030911,    99,  1,    101,      1,2,20030922,1602, 70.7005,-166.9193, -999,     45.3,   3.0490,  32.2868,2,  32.1472,2,    261.6,2,    281.0,2,    15.35,2,     1.85,2,     0.17,2,     1.21,2,     0.18,2,     0.30,2,    1.122,2,   3.0464,20030922,1602
  32H120030911,   101,  1,    105,      5,2,20030922,1833, 70.7007,-166.9263, -999,     13.5,   4.0705,  31.6798,2,  31.6836,2,    311.9,2,    322.1,2,     2.15,2,     0.06,2,     0.01,2,     0.51,2,     0.83,2,     0.25,2,    1.644,2,   4.0696,20030922,1839
  32H120030911,   101,  1,    104,      4,2,20030922,1833, 70.7007,-166.9263, -999,     22.3,   3.8870,  31.7337,2,  31.7743,2,    312.4,2,    322.0,2,     3.13,2,     0.24,2,     0.02,2,     0.59,2,     0.82,2,     0.28,2,    1.671,2,   3.8856,20030922,1837
  32H120030911,   101,  1,    103,      3,2,20030922,1833, 70.7007,-166.9263, -999,     29.2,   3.5814,  31.8652,2,  31.8804,2,    309.7,2,    318.1,2,     4.45,2,     0.57,2,     0.04,2,     0.69,2,     0.48,2,     0.28,2,    1.523,2,   3.5796,20030922,1836
  32H120030911,   101,  1,    102,      2,2,20030922,1833, 70.7007,-166.9263, -999,     38.0,   3.4707,  31.9287,2,  31.9877,2,    299.3,2,    298.9,2,     9.62,2,     1.15,2,     0.10,2,     0.93,2,     0.25,2,     0.25,2,    1.281,2,   3.4684,20030922,1834
  32H120030911,   101,  1,    101,      1,2,20030922,1833, 70.7007,-166.9263, -999,     45.4,   2.9940,  32.2874,2,  32.1589,2,    266.8,2,    281.4,2,    14.76,2,     1.90,2,     0.18,2,     1.19,2,     0.14,2,     0.24,2,    1.114,2,   2.9915,20030922,1833
  32H120030911,   102,  1,    104,      4,2,20030922,1946, 70.7013,-166.6555, -999,     11.5,   4.2369,  31.6401,2,-999.0000,9,    309.6,2,    320.2,2,     2.03,2,     0.07,2,     0.00,2,     0.52,2,     0.81,2,     0.27,2,    1.621,2,   4.2362,20030922,1951
  32H120030911,   102,  1,    103,      3,2,20030922,1946, 70.7013,-166.6555, -999,     23.6,   4.2362,  31.6403,2,  31.6443,2,    309.3,2,    319.7,2,     2.13,2,     0.07,2,     0.00,2,     0.52,2,     0.71,2,     0.30,2,    1.611,2,   4.2347,20030922,1949
  32H120030911,   102,  1,    102,      2,2,20030922,1946, 70.7013,-166.6555, -999,     34.9,   3.8666,  31.7694,2,  31.8100,2,    305.3,2,    309.0,2,     5.43,2,     0.72,2,     0.04,2,     0.72,2,     0.36,2,     0.28,2,    1.375,2,   3.8644,20030922,1947
  32H120030911,   102,  1,    101,      1,2,20030922,1946, 70.7013,-166.6555, -999,     43.4,   2.9397,  32.2136,2,  32.1502,2,    254.2,2,    270.9,2,    17.68,2,     2.33,2,     0.17,2,     1.32,2,     0.21,2,     0.43,2,    1.248,2,   2.9373,20030922,1946