BOTTLE,20220815CCHSIOAMB
EXPOCODE,STNNBR,CASTNO,SAMPNO,BTLNBR,BTLNBR_FLAG_W,DATE,TIME,LATITUDE,LONGITUDE,DEPTH,CTDPRS,CTDTMP,CTDSAL,CTDSAL_FLAG_W,SALNTY,SALNTY_FLAG_W,CTDOXY,CTDOXY_FLAG_W,OXYGEN,OXYGEN_FLAG_W,SILCAT,SILCAT_FLAG_W,NITRAT,NITRAT_FLAG_W,NITRIT,NITRIT_FLAG_W,PHSPHT,PHSPHT_FLAG_W,CHLORA,CHLORA_FLAG_W,PHAEO,PHAEO_FLAG_W,FLUORO,FLUORO_FLAG_W,THETA,BTL_DATE,BTL_TIME
,,,,,,,,,,METERS,DBAR,ITS-90,PSS-78,,PSS-78,,UMOL/KG,,UMOL/KG,,UMOL/KG,,UMOL/KG,,UMOL/KG,,UMOL/KG,,UG/L,,UG/L,,VOLTS,,DEG C,,
  32H120030911,   103,  1,    104,      4,2,20030922,2113, 70.6940,-166.3752, -999,     12.5,   3.9102,  31.7272,2,  31.7311,2,    313.5,2,    323.7,2,     2.65,2,     0.16,2,     0.02,2,     0.57,2,     1.25,2,     0.24,2,    1.743,2,   3.9094,20030922,2118
  32H120030911,   103,  1,    103,      3,2,20030922,2113, 70.6940,-166.3752, -999,     21.4,   3.7429,  31.7867,2,  31.7891,2,    312.0,2,    322.3,2,     3.19,2,     0.34,2,     0.02,2,     0.61,2,     0.97,2,     0.28,2,    1.713,2,   3.7416,20030922,2117
  32H120030911,   103,  1,    102,      2,2,20030922,2113, 70.6940,-166.3752, -999,     30.1,   3.4666,  31.8034,2,  31.8031,2,    311.1,2,    321.1,2,     3.30,2,     0.43,2,     0.03,2,     0.63,2,     0.60,2,     0.27,2,    1.526,2,   3.4648,20030922,2115
  32H120030911,   103,  1,    101,      1,2,20030922,2113, 70.6940,-166.3752, -999,     38.7,   3.3777,  31.9170,2,  31.8444,2,    304.3,2,    319.4,2,     3.84,2,     0.53,2,     0.03,2,     0.67,2,     0.46,2,     0.26,2,    1.293,2,   3.3754,20030922,2113
  32H120030911,   104,  1,    104,      4,2,20030922,2237, 70.6993,-166.0950, -999,     12.9,   3.0228,  31.7184,2,  31.7217,2,    320.7,2,    331.0,2,     2.39,2,     0.34,2,     0.02,2,     0.55,2,     1.11,2,     0.18,2,    1.735,2,   3.0221,20030922,2243
  32H120030911,   104,  1,    103,      3,2,20030922,2237, 70.6993,-166.0950, -999,     20.8,   3.0277,  31.7675,2,  31.7750,2,    318.0,2,    328.2,2,     2.83,2,     0.44,2,     0.02,2,     0.59,2,     1.05,2,     0.19,2,    1.720,2,   3.0265,20030922,2242
  32H120030911,   104,  1,    102,      2,2,20030922,2237, 70.6993,-166.0950, -999,     29.5,   3.1719,  31.9558,2,  31.9557,2,    292.2,2,    301.6,2,     7.44,2,     1.17,2,     0.07,2,     0.89,2,     0.16,2,     0.22,2,    1.151,2,   3.1702,20030922,2239
  32H120030911,   104,  1,    101,      1,2,20030922,2237, 70.6993,-166.0950, -999,     38.0,   2.9289,  31.9795,2,  31.9200,2,    286.6,2,    303.3,2,     7.43,2,     1.17,2,     0.07,2,     0.89,2,     0.40,2,     0.27,2,    1.210,2,   2.9268,20030922,2237
  32H120030911,   105,  1,    104,      4,2,20030923,2356, 70.6973,-165.8300, -999,     12.2,   2.5700,  31.4684,2,  31.4693,2,    329.9,2,    340.4,2,     1.14,2,     0.06,2,     0.01,2,     0.44,2,     1.64,2,     0.12,2,    1.864,2,   2.5694,20030923,   2
  32H120030911,   105,  1,    103,      3,2,20030923,2356, 70.6973,-165.8300, -999,     21.3,   2.6837,  31.5693,2,  31.5835,2,    325.2,2,    335.3,2,     1.90,2,     0.24,2,     0.02,2,     0.50,2,     1.03,2,     0.15,2,    1.772,2,   2.6826,20030923,   0
  32H120030911,   105,  1,    102,      2,2,20030923,2356, 70.6973,-165.8300, -999,     30.0,   3.1217,  31.9466,2,  31.9503,2,    302.5,2,    311.8,2,     4.66,2,     0.94,2,     0.05,2,     0.75,2,     0.21,2,     0.19,2,    1.234,2,   3.1200,20030923,2358
  32H120030911,   105,  1,    101,      1,2,20030923,2356, 70.6973,-165.8300, -999,     38.8,   2.8327,  32.0539,2,  31.9959,2,    276.9,2,    290.6,2,     9.37,2,     1.54,2,     0.08,2,     0.99,2,     0.18,2,     0.24,2,    1.149,2,   2.8306,20030923,2356
  32H120030911,   106,  1,    104,      4,2,20030923,  58, 70.6992,-165.5703, -999,     11.9,   2.7296,  31.4746,2,-999.0000,9,    327.7,2,    339.6,2,     1.06,2,     0.02,2,     0.00,4,     0.45,2,     1.19,2,     0.17,2,    1.777,2,   2.7290,20030923, 103
  32H120030911,   106,  1,    103,      3,2,20030923,  58, 70.6992,-165.5703, -999,     17.0,   2.6812,  31.5156,2,  31.5248,2,    327.5,2,    337.8,2,     1.26,2,     0.07,2,     0.00,4,     0.47,2,     1.28,2,     0.16,2,    1.856,2,   2.6803,20030923, 102
  32H120030911,   106,  1,    102,      2,2,20030923,  58, 70.6992,-165.5703, -999,     27.7,   2.8376,  31.8207,2,  31.8260,2,    318.9,2,    328.2,2,     2.57,2,     0.55,2,     0.01,4,     0.62,2,     0.54,2,     0.20,2,    1.546,2,   2.8361,20030923, 100
  32H120030911,   106,  1,    101,      1,2,20030923,  58, 70.6992,-165.5703, -999,     41.3,   2.9297,  31.9666,2,  31.9569,2,    292.0,2,    304.4,2,     7.38,2,     1.19,2,     0.04,4,     0.88,2,     0.21,2,     0.22,2,    1.191,2,   2.9274,20030923,  58
  32H120030911,   107,  1,    104,      4,2,20030923, 322, 70.6208,-165.2675, -999,     12.2,   2.5734,  31.3047,2,  31.2926,2,    329.6,2,    340.2,2,     0.98,2,     0.02,2,     0.00,4,     0.42,2,     0.72,2,     0.13,2,    1.682,2,   2.5728,20030923, 327
  32H120030911,   107,  1,    103,      3,2,20030923, 322, 70.6208,-165.2675, -999,     22.8,   2.7240,  31.4038,2,  31.4668,2,    326.7,2,    335.9,2,     1.19,2,     0.07,2,     0.00,4,     0.45,2,     0.94,2,     0.17,2,    1.720,2,   2.7228,20030923, 325
  32H120030911,   107,  1,    102,      2,2,20030923, 322, 70.6208,-165.2675, -999,     31.8,   3.1816,  31.9205,2,  31.9367,2,    308.5,2,    316.1,2,     3.93,2,     0.88,2,     0.02,4,     0.72,2,     0.28,2,     0.17,2,    1.306,2,   3.1798,20030923, 324
  32H120030911,   107,  1,    101,      1,2,20030923, 322, 70.6208,-165.2675, -999,     40.9,   1.8238,  32.2271,2,  32.0565,2,    277.3,2,    297.4,2,    10.60,2,     1.90,2,     0.06,4,     1.11,2,     0.25,2,     0.25,2,    1.275,2,   1.8219,20030923, 322
  32H120030911,   108,  1,    104,      4,2,20030923, 437, 70.5402,-164.9783, -999,     10.2,   2.4713,  31.2253,2,  31.2278,2,    330.7,2,    341.4,2,     1.02,2,     0.02,2,     0.00,4,     0.42,2,     0.64,2,     0.10,2,    1.578,2,   2.4708,20030923, 445
  32H120030911,   108,  1,    103,      3,2,20030923, 437, 70.5402,-164.9783, -999,     21.7,   2.9613,  31.4007,2,  31.3971,2,    324.0,2,    335.2,2,     0.62,2,     0.02,2,     0.01,4,     0.45,2,     0.79,2,     0.17,2,    1.691,2,   2.9601,20030923, 442
  32H120030911,   108,  1,    102,      2,2,20030923, 437, 70.5402,-164.9783, -999,     30.1,   3.2648,  31.7030,2,  31.6664,2,    307.7,2,    320.0,2,     2.09,2,     0.36,2,     0.00,4,     0.56,2,     0.46,2,     0.21,2,    1.378,2,   3.2631,20030923, 440
  32H120030911,   108,  1,    101,      1,2,20030923, 437, 70.5402,-164.9783, -999,     41.2,   1.6622,  32.2455,2,  32.2392,2,    286.1,2,    294.0,2,    14.79,2,     2.68,2,     0.10,4,     1.45,2,     0.26,2,     0.34,2,    1.289,2,   1.6603,20030923, 437
  32H120030911,   109,  1,    104,      4,2,20030923, 556, 70.4572,-164.6715, -999,     11.5,   2.8401,  31.3263,2,  31.3299,2,    325.5,2,    335.8,2,     0.62,2,     0.02,2,     0.00,4,     0.42,2,     0.86,2,     0.14,2,    1.690,2,   2.8395,20030923, 600
  32H120030911,   109,  1,    103,      3,2,20030923, 556, 70.4572,-164.6715, -999,     23.9,   3.2207,  31.4321,2,  31.4499,2,    321.7,2,    331.3,2,     0.82,2,     0.02,2,     0.00,4,     0.45,2,     0.78,2,     0.20,2,    1.674,2,   3.2193,20030923, 559
  32H120030911,   109,  1,    102,      2,2,20030923, 556, 70.4572,-164.6715, -999,     36.0,   3.3925,  31.6797,2,  31.7151,2,    308.1,2,    314.5,2,     4.89,2,     0.70,2,     0.01,4,     0.69,2,     0.53,2,     0.28,2,    1.497,2,   3.3904,20030923, 557
  32H120030911,   109,  1,    101,      1,2,20030923, 556, 70.4572,-164.6715, -999,     43.3,   2.5957,  32.1014,2,  32.0332,2,    262.2,2,    275.4,2,    18.31,2,     2.32,2,     0.12,4,     1.40,2,     0.33,2,     0.48,2,    1.299,2,   2.5934,20030923, 556
  32H120030911,   110,  1,    104,      4,2,20030923, 712, 70.3782,-164.3817, -999,      9.9,   4.0040,  31.5521,2,  31.5667,2,    314.5,2,    323.4,2,     1.76,2,     0.07,2,     0.00,4,     0.52,2,     0.80,2,     0.25,2,    1.632,2,   4.0034,20030923, 715
  32H120030911,   110,  1,    103,      3,2,20030923, 712, 70.3782,-164.3817, -999,     20.0,   4.0024,  31.5513,2,  31.5736,2,    314.0,2,    322.7,2,     1.74,2,     0.07,2,     0.00,4,     0.52,2,     0.76,2,     0.26,2,    1.650,2,   4.0011,20030923, 714
  32H120030911,   110,  1,    102,      2,2,20030923, 712, 70.3782,-164.3817, -999,     29.9,   4.0699,  31.8633,2,  32.0293,2,    289.3,2,    274.9,2,    15.97,2,     1.47,2,     0.10,4,     1.19,2,     0.31,2,     0.44,2,    1.399,2,   4.0680,20030923, 713
  32H120030911,   110,  1,    101,      1,2,20030923, 712, 70.3782,-164.3817, -999,     40.6,   3.6988,  32.1114,2,  32.1066,2,    253.6,2,    262.1,2,    20.54,2,     1.90,2,     0.15,4,     1.42,2,     0.25,2,     0.49,2,    1.284,2,   3.6963,20030923, 712
  32H120030911,   111,  1,    104,      4,2,20030923, 808, 70.3420,-164.2375, -999,      9.9,   3.3459,  31.4140,2,  31.4186,2,    320.1,2,    330.5,2,     0.36,2,     0.02,2,     0.00,4,     0.45,2,     0.59,2,     0.16,2,    1.566,2,   3.3453,20030923, 812
  32H120030911,   111,  1,    103,      3,2,20030923, 808, 70.3420,-164.2375, -999,     23.9,   3.3521,  31.4114,2,  31.5033,2,    319.9,2,    324.6,2,     1.22,2,     0.12,2,     0.00,4,     0.52,2,     0.56,2,     0.20,2,    1.600,2,   3.3507,20030923, 810
  32H120030911,   111,  1,    102,      2,2,20030923, 808, 70.3420,-164.2375, -999,     29.8,   3.9194,  31.7314,2,  31.9113,2,    300.6,2,    286.3,2,    11.00,2,     1.00,2,     0.09,4,     1.00,2,     0.34,2,     0.36,2,    1.367,2,   3.9175,20030923, 809
  32H120030911,   111,  1,    101,      1,2,20030923, 808, 70.3420,-164.2375, -999,     38.6,   3.9282,  32.1082,2,  32.0897,2,    253.6,2,    261.9,2,    18.72,2,     1.69,2,     0.16,4,     1.42,2,     0.25,2,     0.47,2,    1.264,2,   3.9257,20030923, 808
  32H120030911,   112,  1,    104,      4,2,20030923, 857, 70.3025,-164.0937, -999,     10.5,   4.4230,  31.5335,2,  31.5518,2,    310.3,2,    318.1,2,     2.45,2,     0.06,2,     0.01,2,     0.59,2,     0.65,2,     0.27,2,    1.656,2,   4.4223,20030923, 900
  32H120030911,   112,  1,    103,      3,2,20030923, 857, 70.3025,-164.0937, -999,     18.9,   4.4098,  31.5377,2,  31.5665,2,    309.7,2,    317.5,2,     2.22,2,     0.07,2,     0.00,2,     0.58,2,     0.65,2,     0.30,2,    1.642,2,   4.4085,20030923, 859
  32H120030911,   112,  1,    102,      2,2,20030923, 857, 70.3025,-164.0937, -999,     29.1,   4.0569,  31.7567,2,  31.8535,2,    299.6,2,    292.5,2,     8.82,2,     0.77,2,     0.08,2,     0.90,2,     0.35,2,     0.39,2,    1.394,2,   4.0550,20030923, 858
  32H120030911,   112,  1,    101,      1,2,20030923, 857, 70.3025,-164.0937, -999,     36.3,   4.1018,  32.0072,2,  31.9455,2,    262.5,2,    277.7,2,    13.96,2,     1.16,2,     0.15,2,     1.16,2,     0.33,2,     0.49,2,    1.367,2,   4.0995,20030923, 857
  32H120030911,   113,  1,    104,      4,2,20030923, 944, 70.2600,-163.9542, -999,     11.0,   4.8407,  31.3001,2,  31.4830,2,    306.3,2,    311.3,2,     4.17,2,     0.19,2,     0.04,2,     0.68,2,     0.71,2,     0.32,2,    1.704,2,   4.8399,20030923, 947
  32H120030911,   113,  1,    103,      3,2,20030923, 944, 70.2600,-163.9542, -999,     18.9,   4.2818,  31.5546,2,  31.6722,2,    308.1,2,    307.1,2,     4.83,2,     0.36,2,     0.06,2,     0.71,2,     0.41,2,     0.35,2,    1.452,2,   4.2806,20030923, 946
  32H120030911,   113,  1,    102,      2,2,20030923, 944, 70.2600,-163.9542, -999,     27.2,   4.1388,  31.8635,2,  31.8587,2,    275.7,2,    283.3,2,    11.41,2,     0.98,2,     0.13,2,     1.02,2,     0.31,2,     0.52,2,    1.304,2,   4.1370,20030923, 945
  32H120030911,   113,  1,    101,      1,2,20030923, 944, 70.2600,-163.9542, -999,     34.7,   4.1294,  31.8795,2,  31.8760,2,    272.4,2,    281.1,2,    12.27,2,     1.06,2,     0.15,2,     1.07,2,     0.32,2,     0.57,2,    1.331,2,   4.1272,20030923, 944
  32H120030911,   114,  1,    104,      4,2,20030923,1031, 70.2207,-163.8022, -999,      9.3,   4.6497,  31.4638,2,  31.5558,2,    305.9,2,    309.3,2,     4.35,2,     0.21,2,     0.06,2,     0.72,2,     0.68,2,     0.34,2,    1.661,2,   4.6491,20030923,1035
  32H120030911,   114,  1,    103,      3,2,20030923,1031, 70.2207,-163.8022, -999,     16.4,   4.4315,  31.7556,2,  31.7746,2,    288.1,2,    294.1,2,     7.65,2,     0.56,2,     0.11,2,     0.88,2,     0.37,2,     0.35,2,    1.350,2,   4.4304,20030923,1034
  32H120030911,   114,  1,    102,      2,2,20030923,1031, 70.2207,-163.8022, -999,     24.4,   4.3481,  31.8720,2,  31.8733,2,    273.0,2,    281.1,2,    12.03,2,     0.94,2,     0.16,2,     1.09,2,     0.30,2,     0.46,2,    1.330,2,   4.3465,20030923,1033
  32H120030911,   114,  1,    101,      1,2,20030923,1031, 70.2207,-163.8022, -999,     31.6,   4.3482,  31.8720,2,  31.8421,2,    273.3,2,    283.3,2,    11.35,2,     0.84,2,     0.16,2,     1.06,2,     0.34,2,     0.48,2,    1.316,2,   4.3461,20030923,1031
  32H120030911,   115,  1,    103,      3,2,20030923,1121, 70.1807,-163.6598, -999,      9.5,   5.0198,  31.2088,2,  31.2396,2,    304.1,2,    312.9,2,     4.53,2,     0.00,2,     0.08,2,     0.72,2,     0.83,2,     0.37,2,    1.693,2,   5.0191,20030923,1123
  32H120030911,   115,  1,    102,      2,2,20030923,1121, 70.1807,-163.6598, -999,     14.9,   4.9360,  31.2825,2,  31.3752,2,    301.6,2,    308.6,2,     4.74,2,     0.14,2,     0.09,2,     0.74,2,     0.65,2,     0.31,2,    1.653,2,   4.9350,20030923,1122
  32H120030911,   115,  1,    101,      1,2,20030923,1121, 70.1807,-163.6598, -999,     27.3,   4.6130,  31.7469,2,  31.6556,2,    274.2,2,    294.9,2,     7.48,2,     0.53,2,     0.13,2,     0.86,2,     0.45,2,     0.40,2,    1.350,2,   4.6111,20030923,1121
  32H120030911,   116,  1,    103,      3,2,20030923,1204, 70.1437,-163.5257, -999,     12.4,   5.1170,  31.0504,2,  31.0517,2,    299.8,2,    307.7,2,     6.05,2,     0.21,2,     0.12,2,     0.82,2,     0.76,2,     0.29,2,    1.633,2,   5.1161,20030923,1206
  32H120030911,   116,  1,    102,      2,2,20030923,1204, 70.1437,-163.5257, -999,     19.0,   5.1160,  31.0505,2,  31.0517,2,    299.8,2,    307.1,2,     6.14,2,     0.20,2,     0.12,2,     0.84,2,     0.74,2,     0.32,2,    1.607,2,   5.1146,20030923,1205
  32H120030911,   116,  1,    101,      1,2,20030923,1204, 70.1437,-163.5257, -999,     26.6,   5.1250,  31.0502,2,  31.0519,2,    299.8,2,    307.2,2,     6.19,2,     0.28,2,     0.04,2,     0.82,2,     0.81,2,     0.31,2,    1.631,2,   5.1231,20030923,1204
  32H120030911,   117,  1,    103,      3,2,20030923,1253, 70.1090,-163.3908, -999,     12.1,   5.1391,  31.0462,2,  31.0475,2,    298.9,2,    307.9,2,     7.66,2,     0.25,2,     0.03,2,     0.86,2,     0.79,2,     0.31,2,    1.599,2,   5.1382,20030923,1255
  32H120030911,   117,  1,    102,      2,2,20030923,1253, 70.1090,-163.3908, -999,     20.0,   5.1408,  31.0463,2,  31.0475,2,    299.0,2,    308.0,2,     7.76,2,     0.29,2,     0.03,2,     0.85,2,     0.75,2,     0.31,2,    1.616,2,   5.1394,20030923,1254
  32H120030911,   117,  1,    101,      1,2,20030923,1253, 70.1090,-163.3908, -999,     25.4,   5.1394,  31.0461,2,  31.0477,2,    298.9,2,   -999.0,5,     7.75,2,     0.24,2,     0.03,2,     0.85,2,     0.64,2,     0.31,2,    1.583,2,   5.1376,20030923,1253
  32H120030911,   119,  1,    116,     16,9,20030925, 445, 71.8335,-151.6678, -999,     13.9,   1.8603,  30.1867,2,-999.0000,9,    334.4,2,   -999.0,9,  -999.00,9,  -999.00,9,  -999.00,9,  -999.00,9,  -999.00,9,  -999.00,9,    1.355,2,   1.8597,20030925, 556
  32H120030911,   119,  1,    115,     15,9,20030925, 445, 71.8335,-151.6678, -999,     50.0,   3.1414,  30.9911,2,-999.0000,9,    311.8,2,   -999.0,9,  -999.00,9,  -999.00,9,  -999.00,9,  -999.00,9,  -999.00,9,  -999.00,9,    0.897,2,   3.1386,20030925, 553
  32H120030911,   119,  1,    114,     14,9,20030925, 445, 71.8335,-151.6678, -999,    100.3,  -1.0791,  32.2368,2,-999.0000,9,    322.8,2,   -999.0,9,  -999.00,9,  -999.00,9,  -999.00,9,  -999.00,9,  -999.00,9,  -999.00,9,    0.800,2,  -1.0813,20030925, 549
  32H120030911,   119,  1,    113,     13,9,20030925, 445, 71.8335,-151.6678, -999,    149.9,  -1.4722,  33.2424,2,-999.0000,9,    275.6,2,   -999.0,9,  -999.00,9,  -999.00,9,  -999.00,9,  -999.00,9,  -999.00,9,  -999.00,9,    0.694,2,  -1.4754,20030925, 545
  32H120030911,   119,  1,    112,     12,9,20030925, 445, 71.8335,-151.6678, -999,    199.6,  -0.5389,  34.3666,2,-999.0000,9,    272.4,2,   -999.0,9,  -999.00,9,  -999.00,9,  -999.00,9,  -999.00,9,  -999.00,9,  -999.00,9,    0.659,2,  -0.5453,20030925, 542
  32H120030911,   119,  1,    111,     11,9,20030925, 445, 71.8335,-151.6678, -999,    400.9,   0.5564,  34.8169,2,-999.0000,9,    282.2,2,   -999.0,9,  -999.00,9,  -999.00,9,  -999.00,9,  -999.00,9,  -999.00,9,  -999.00,9,    0.476,2,   0.5389,20030925, 537
  32H120030911,   119,  1,    110,     10,2,20030925, 445, 71.8335,-151.6678, -999,    601.1,   0.3964,  34.8551,2,  34.8590,2,    286.2,2,   -999.0,9,  -999.00,9,  -999.00,9,  -999.00,9,  -999.00,9,  -999.00,9,  -999.00,9,    0.462,2,   0.3698,20030925, 531
  32H120030911,   119,  1,    109,      9,2,20030925, 445, 71.8335,-151.6678, -999,    700.2,   0.2726,  34.8615,2,  34.8653,2,    287.6,2,   -999.0,9,  -999.00,9,  -999.00,9,  -999.00,9,  -999.00,9,  -999.00,9,  -999.00,9,    0.465,2,   0.2417,20030925, 528
  32H120030911,   119,  1,    108,      8,2,20030925, 445, 71.8335,-151.6678, -999,    801.4,   0.1466,  34.8681,2,  34.8716,2,    288.1,2,   -999.0,9,  -999.00,9,  -999.00,9,  -999.00,9,  -999.00,9,  -999.00,9,  -999.00,9,    0.450,2,   0.1113,20030925, 523
  32H120030911,   119,  1,    107,      7,2,20030925, 445, 71.8335,-151.6678, -999,   1000.7,  -0.0359,  34.8808,2,  34.8838,2,    288.1,2,   -999.0,9,  -999.00,9,  -999.00,9,  -999.00,9,  -999.00,9,  -999.00,9,  -999.00,9,    0.469,2,  -0.0803,20030925, 518
  32H120030911,   119,  1,    106,      6,2,20030925, 445, 71.8335,-151.6678, -999,   1202.0,  -0.1877,  34.8958,2,  34.8992,2,    287.4,2,   -999.0,9,  -999.00,9,  -999.00,9,  -999.00,9,  -999.00,9,  -999.00,9,  -999.00,9,    0.434,2,  -0.2417,20030925, 512
  32H120030911,   119,  1,    105,      5,2,20030925, 445, 71.8335,-151.6678, -999,   1401.3,  -0.2913,  34.9091,2,  34.9122,2,    286.3,2,   -999.0,9,  -999.00,9,  -999.00,9,  -999.00,9,  -999.00,9,  -999.00,9,  -999.00,9,    0.395,2,  -0.3555,20030925, 507
  32H120030911,   119,  1,    104,      4,2,20030925, 445, 71.8335,-151.6678, -999,   1600.8,  -0.3491,  34.9202,2,  34.9232,2,    283.9,2,   -999.0,9,  -999.00,9,  -999.00,9,  -999.00,9,  -999.00,9,  -999.00,9,  -999.00,9,    0.344,2,  -0.4245,20030925, 501
  32H120030911,   119,  1,    103,      3,2,20030925, 445, 71.8335,-151.6678, -999,   1798.1,  -0.3862,  34.9308,2,  34.9334,2,    281.0,2,   -999.0,9,  -999.00,9,  -999.00,9,  -999.00,9,  -999.00,9,  -999.00,9,  -999.00,9,    0.384,2,  -0.4735,20030925, 456
  32H120030911,   119,  1,    102,      2,2,20030925, 445, 71.8335,-151.6678, -999,   2000.6,  -0.4011,  34.9418,2,  34.9437,2,    277.1,2,   -999.0,9,  -999.00,9,  -999.00,9,  -999.00,9,  -999.00,9,  -999.00,9,  -999.00,9,    0.289,2,  -0.5015,20030925, 450
  32H120030911,   119,  1,    101,      1,2,20030925, 445, 71.8335,-151.6678, -999,   2197.4,  -0.3934,  34.9488,2,  34.9510,2,    273.1,2,   -999.0,9,  -999.00,9,  -999.00,9,  -999.00,9,  -999.00,9,  -999.00,9,  -999.00,9,    0.364,2,  -0.5076,20030925, 445