BOTTLE,20220815CCHSIOAMB
EXPOCODE,STNNBR,CASTNO,SAMPNO,BTLNBR,BTLNBR_FLAG_W,DATE,TIME,LATITUDE,LONGITUDE,DEPTH,CTDPRS,CTDTMP,CTDSAL,CTDSAL_FLAG_W,SALNTY,SALNTY_FLAG_W,CTDOXY,CTDOXY_FLAG_W,OXYGEN,OXYGEN_FLAG_W,SILCAT,SILCAT_FLAG_W,NITRAT,NITRAT_FLAG_W,NITRIT,NITRIT_FLAG_W,PHSPHT,PHSPHT_FLAG_W,CHLORA,CHLORA_FLAG_W,PHAEO,PHAEO_FLAG_W,FLUORO,FLUORO_FLAG_W,THETA,BTL_DATE,BTL_TIME
,,,,,,,,,,METERS,DBAR,ITS-90,PSS-78,,PSS-78,,UMOL/KG,,UMOL/KG,,UMOL/KG,,UMOL/KG,,UMOL/KG,,UMOL/KG,,UG/L,,UG/L,,VOLTS,,DEG C,,
  32H120040910,    14,  1,    122,     22,2,20040909,1214, 71.7923,-151.7245, 2036,      4.0,   4.6305,  27.1649,2,  27.1702,2,    321.5,2,    330.8,2,     2.09,2,     0.07,2,     0.00,2,     0.44,2,     0.32,2,     0.22,2,    1.400,2,   4.6303,20040909,1350
  32H120040910,    14,  1,    121,     21,2,20040909,1214, 71.7923,-151.7245, 2036,     24.4,   0.0473,  31.7197,2,-999.0000,9,    409.0,2,    428.4,2,     3.64,2,     0.19,2,     0.03,2,     0.84,2,     0.80,2,     0.11,2,    1.586,2,   0.0466,20040909,1347
  32H120040910,    14,  1,    120,     20,2,20040909,1214, 71.7923,-151.7245, 2036,     49.2,  -1.1349,  32.4062,2,-999.0000,9,    332.8,2,    353.9,2,    18.30,2,     6.90,2,     0.17,2,     1.53,2,     0.11,2,     0.08,2,    1.018,2,  -1.1360,20040909,1345
  32H120040910,    14,  1,    119,     19,2,20040909,1214, 71.7923,-151.7245, 2036,     75.3,  -1.5525,  32.8047,2,-999.0000,9,    307.0,2,    321.2,2,    30.79,2,    11.40,2,     0.18,2,     1.85,2,     0.06,2,     0.07,2,    1.008,2,  -1.5539,20040909,1342
  32H120040910,    14,  1,    118,     18,2,20040909,1214, 71.7923,-151.7245, 2036,     99.4,  -1.4902,  33.1991,2,-999.0000,9,    286.1,2,    297.7,2,    32.89,2,    12.46,2,     0.15,2,     1.89,2,     0.06,2,     0.09,2,    0.877,2,  -1.4922,20040909,1339
  32H120040910,    14,  1,    117,     17,2,20040909,1214, 71.7923,-151.7245, 2036,    123.7,  -1.0923,  33.8106,2,-999.0000,9,    277.1,2,    286.0,2,    25.18,2,    12.79,2,     0.14,2,     1.60,2,     0.04,2,     0.07,2,    0.840,2,  -1.0954,20040909,1337
  32H120040910,    14,  1,    116,     16,2,20040909,1214, 71.7923,-151.7245, 2036,    149.6,  -0.4430,  34.3908,2,-999.0000,9,    263.7,2,    275.0,2,    16.82,2,    13.52,2,     0.16,2,     1.30,2,     0.02,2,     0.05,2,    0.752,2,  -0.4478,20040909,1334
  32H120040910,    14,  1,    115,     15,2,20040909,1214, 71.7923,-151.7245, 2036,    176.3,   0.0471,  34.6037,2,-999.0000,9,    264.9,2,    275.7,2,    11.94,2,    13.17,2,     0.05,2,     1.10,2,     0.02,2,     0.03,2,    0.675,2,   0.0406,20040909,1332
  32H120040910,    14,  1,    114,     14,4,20040909,1214, 71.7923,-151.7245, 2036,    202.0,   0.3565,  34.7039,2,-999.0000,9,    268.0,2,    437.4,0,     1.09,4,     0.16,4,     0.01,4,     0.61,4,     0.70,4,     0.07,4,    0.672,2,   0.3484,20040909,1329
  32H120040910,    14,  1,    113,     13,2,20040909,1214, 71.7923,-151.7245, 2036,    250.7,   0.5890,  34.7794,2,-999.0000,9,    273.7,2,    285.5,2,     8.01,2,    12.79,2,     0.04,2,     0.98,2,  -999.00,9,  -999.00,9,    0.656,2,   0.5783,20040909,1326
  32H120040910,    14,  1,    112,     12,2,20040909,1214, 71.7923,-151.7245, 2036,    301.0,   0.6908,  34.8161,2,-999.0000,9,    276.9,2,    288.7,2,     7.54,2,    12.70,2,     0.04,2,     0.96,2,  -999.00,9,  -999.00,9,    0.634,2,   0.6776,20040909,1322
  32H120040910,    14,  1,    111,     11,2,20040909,1214, 71.7923,-151.7245, 2036,    401.6,   0.5850,  34.8407,2,  34.8430,2,    280.6,2,   -999.0,9,  -999.00,9,  -999.00,9,  -999.00,9,  -999.00,9,  -999.00,9,  -999.00,9,    0.633,2,   0.5673,20040909,1319
  32H120040910,    14,  1,    110,     10,2,20040909,1214, 71.7923,-151.7245, 2036,    499.9,   0.4705,  34.8505,2,  34.8532,2,    281.8,2,    295.3,2,     6.79,2,    12.57,2,     0.03,2,     0.94,2,  -999.00,9,  -999.00,9,    0.619,2,   0.4485,20040909,1316
  32H120040910,    14,  1,    109,      9,2,20040909,1214, 71.7923,-151.7245, 2036,    601.9,   0.3544,  34.8603,2,  34.8615,2,    283.3,2,   -999.0,9,  -999.00,9,  -999.00,9,  -999.00,9,  -999.00,9,  -999.00,9,  -999.00,9,    0.619,2,   0.3279,20040909,1310
  32H120040910,    14,  1,    108,      8,2,20040909,1214, 71.7923,-151.7245, 2036,    700.8,   0.2369,  34.8657,2,  34.8676,2,    283.6,2,    297.9,2,     6.69,2,    12.51,2,     0.04,2,     0.95,2,  -999.00,9,  -999.00,9,    0.605,2,   0.2062,20040909,1306
  32H120040910,    14,  1,    107,      7,2,20040909,1214, 71.7923,-151.7245, 2036,    800.9,   0.1120,  34.8727,2,  34.8750,2,    284.2,2,   -999.0,9,  -999.00,9,  -999.00,9,  -999.00,9,  -999.00,9,  -999.00,9,  -999.00,9,    0.668,2,   0.0770,20040909,1301
  32H120040910,    14,  1,    106,      6,2,20040909,1214, 71.7923,-151.7245, 2036,    901.5,   0.0261,  34.8780,2,  34.8795,2,    284.2,2,    301.0,2,     6.87,2,    12.57,2,     0.03,2,     0.95,2,  -999.00,9,  -999.00,9,    0.612,2,  -0.0135,20040909,1256
  32H120040910,    14,  1,    105,      5,2,20040909,1214, 71.7923,-151.7245, 2036,   1001.3,  -0.0648,  34.8851,2,  34.8866,2,    284.2,2,   -999.0,9,  -999.00,9,  -999.00,9,  -999.00,9,  -999.00,9,  -999.00,9,  -999.00,9,    0.601,2,  -0.1090,20040909,1251
  32H120040910,    14,  1,    104,      4,2,20040909,1214, 71.7923,-151.7245, 2036,   1254.4,  -0.2297,  34.9026,2,  34.9051,2,    281.8,2,   -999.0,9,  -999.00,9,  -999.00,9,  -999.00,9,  -999.00,9,  -999.00,9,  -999.00,9,    0.604,2,  -0.2862,20040909,1240
  32H120040910,    14,  1,    103,      3,2,20040909,1214, 71.7923,-151.7245, 2036,   1502.1,  -0.3376,  34.9191,2,  34.9202,2,    280.0,2,   -999.0,9,  -999.00,9,  -999.00,9,  -999.00,9,  -999.00,9,  -999.00,9,  -999.00,9,    0.599,2,  -0.4072,20040909,1233
  32H120040910,    14,  1,    102,      2,2,20040909,1214, 71.7923,-151.7245, 2036,   1751.4,  -0.3976,  34.9354,2,  34.9387,2,    275.6,2,   -999.0,9,  -999.00,9,  -999.00,9,  -999.00,9,  -999.00,9,  -999.00,9,  -999.00,9,    0.543,2,  -0.4818,20040909,1222
  32H120040910,    14,  1,    101,      1,2,20040909,1214, 71.7923,-151.7245, 2036,   2030.6,  -0.4045,  34.9501,2,  34.9519,2,    268.6,2,    287.3,2,    13.28,2,    14.32,2,     0.04,2,     1.10,2,  -999.00,9,  -999.00,9,    0.595,2,  -0.5069,20040909,1214
  32H120040910,    15,  1,    123,     23,2,20040909,1733, 71.8468,-151.7163, 2168,      5.1,   4.9566,  27.8270,2,  27.8269,2,    317.5,2,    327.3,2,     1.50,2,     0.07,2,     0.01,2,     0.42,2,     0.47,2,     0.07,2,    1.501,2,   4.9563,20040909,1853
  32H120040910,    15,  1,    122,     22,2,20040909,1733, 71.8468,-151.7163, 2168,     16.6,   3.0755,  30.5378,2,-999.0000,9,    403.5,2,    407.5,2,     1.59,2,     0.07,2,     0.01,2,     0.54,2,     0.72,2,     0.13,2,    1.707,2,   3.0746,20040909,1851
  32H120040910,    15,  1,    121,     21,2,20040909,1733, 71.8468,-151.7163, 2168,     50.4,  -1.3271,  32.4791,2,-999.0000,9,    343.6,2,    359.9,2,    22.73,2,     6.88,2,     0.19,2,     1.57,2,     0.16,2,     0.07,2,    1.084,2,  -1.3281,20040909,1846
  32H120040910,    15,  1,    120,     20,2,20040909,1733, 71.8468,-151.7163, 2168,     74.7,  -1.5552,  32.9473,2,-999.0000,9,    295.5,2,    308.3,2,    33.93,2,    11.98,2,     0.15,2,     1.91,2,     0.06,2,     0.06,2,    0.913,2,  -1.5566,20040909,1845
  32H120040910,    15,  1,    119,     19,2,20040909,1733, 71.8468,-151.7163, 2168,     99.4,  -1.3434,  33.4573,2,-999.0000,9,    282.7,2,    294.2,2,    29.68,2,    12.25,2,     0.15,2,     1.73,2,     0.03,2,     0.07,2,    0.881,2,  -1.3456,20040909,1843
  32H120040910,    15,  1,    118,     18,2,20040909,1733, 71.8468,-151.7163, 2168,    125.4,  -0.7462,  34.2021,2,-999.0000,9,    270.0,2,    282.6,2,    21.26,2,    12.88,2,     0.15,2,     1.43,2,     0.04,2,     0.06,2,    0.768,2,  -0.7498,20040909,1841
  32H120040910,    15,  1,    117,     17,2,20040909,1733, 71.8468,-151.7163, 2168,    151.9,  -0.2106,  34.5090,2,-999.0000,9,    262.7,2,    273.1,2,    15.40,2,    13.23,2,     0.12,2,     1.19,2,     0.02,2,     0.05,2,    0.669,2,  -0.2158,20040909,1838
  32H120040910,    15,  1,    116,     16,2,20040909,1733, 71.8468,-151.7163, 2168,    174.9,   0.1173,  34.6303,2,-999.0000,9,    264.4,2,    276.3,2,    13.41,2,    13.26,2,     0.08,2,     1.12,2,     0.02,2,     0.04,2,    0.690,2,   0.1107,20040909,1837
  32H120040910,    15,  1,    115,     15,2,20040909,1733, 71.8468,-151.7163, 2168,    200.4,   0.3554,  34.7096,2,-999.0000,9,    267.9,2,    279.0,2,    11.44,2,    13.10,2,     0.06,2,     1.05,2,     0.01,2,     0.03,2,    0.660,2,   0.3474,20040909,1835
  32H120040910,    15,  1,    114,     14,2,20040909,1733, 71.8468,-151.7163, 2168,    251.1,   0.5320,  34.7826,2,-999.0000,9,    274.5,2,    286.4,2,    10.13,2,    12.82,2,     0.03,2,     1.00,2,  -999.00,9,  -999.00,9,    0.612,2,   0.5214,20040909,1832
  32H120040910,    15,  1,    113,     13,2,20040909,1733, 71.8468,-151.7163, 2168,    301.4,   0.5858,  34.8222,2,-999.0000,9,    278.0,2,    290.0,2,     8.91,2,    12.64,2,     0.03,2,     0.96,2,  -999.00,9,  -999.00,9,    0.625,2,   0.5728,20040909,1829
  32H120040910,    15,  1,    112,     12,9,20040909,1733, 71.8468,-151.7163, 2168,    402.3,   0.5185,  34.8462,2,-999.0000,9,    281.8,2,   -999.0,9,  -999.00,9,  -999.00,9,  -999.00,9,  -999.00,9,  -999.00,9,  -999.00,9,    0.631,2,   0.5010,20040909,1826
  32H120040910,    15,  1,    111,     11,2,20040909,1733, 71.8468,-151.7163, 2168,    501.1,   0.4124,  34.8562,2,-999.0000,9,    282.8,2,    296.0,2,     7.51,2,    12.55,2,     0.02,2,     0.93,2,  -999.00,9,  -999.00,9,    0.623,2,   0.3906,20040909,1822
  32H120040910,    15,  1,    110,     10,2,20040909,1733, 71.8468,-151.7163, 2168,    600.9,   0.3030,  34.8624,2,  34.8635,2,    284.0,2,   -999.0,9,  -999.00,9,  -999.00,9,  -999.00,9,  -999.00,9,  -999.00,9,  -999.00,9,    0.638,2,   0.2768,20040909,1819
  32H120040910,    15,  1,    109,      9,2,20040909,1733, 71.8468,-151.7163, 2168,    701.3,   0.1993,  34.8679,2,  34.8678,2,    284.5,2,    298.4,2,     7.51,2,    12.56,2,     0.02,2,     0.93,2,  -999.00,9,  -999.00,9,    0.633,2,   0.1687,20040909,1814
  32H120040910,    15,  1,    108,      8,2,20040909,1733, 71.8468,-151.7163, 2168,    801.2,   0.0855,  34.8741,2,  34.8753,2,    284.5,2,   -999.0,9,  -999.00,9,  -999.00,9,  -999.00,9,  -999.00,9,  -999.00,9,  -999.00,9,    0.607,2,   0.0506,20040909,1811
  32H120040910,    15,  1,    107,      7,2,20040909,1733, 71.8468,-151.7163, 2168,    900.4,  -0.0256,  34.8821,2,  34.8832,2,    283.8,2,    299.1,2,     8.05,2,    12.67,2,     0.05,2,     0.96,2,  -999.00,9,  -999.00,9,    0.599,2,  -0.0648,20040909,1807
  32H120040910,    15,  1,    106,      6,2,20040909,1733, 71.8468,-151.7163, 2168,   1003.1,  -0.0995,  34.8882,2,  34.8891,2,    284.0,2,   -999.0,9,  -999.00,9,  -999.00,9,  -999.00,9,  -999.00,9,  -999.00,9,  -999.00,9,    0.666,2,  -0.1435,20040909,1804
  32H120040910,    15,  1,    105,      5,2,20040909,1733, 71.8468,-151.7163, 2168,   1252.3,  -0.2798,  34.9093,2,  34.9100,2,    281.1,2,   -999.0,9,  -999.00,9,  -999.00,9,  -999.00,9,  -999.00,9,  -999.00,9,  -999.00,9,    0.632,2,  -0.3357,20040909,1756
  32H120040910,    15,  1,    104,      4,2,20040909,1733, 71.8468,-151.7163, 2168,   1498.7,  -0.3617,  34.9236,2,  34.9236,2,    278.8,2,   -999.0,9,  -999.00,9,  -999.00,9,  -999.00,9,  -999.00,9,  -999.00,9,  -999.00,9,    0.578,2,  -0.4308,20040909,1749
  32H120040910,    15,  1,    103,      3,2,20040909,1733, 71.8468,-151.7163, 2168,   1751.0,  -0.3993,  34.9366,2,  34.9391,2,    274.5,2,   -999.0,9,  -999.00,9,  -999.00,9,  -999.00,9,  -999.00,9,  -999.00,9,  -999.00,9,    0.569,2,  -0.4835,20040909,1743
  32H120040910,    15,  1,    102,      2,2,20040909,1733, 71.8468,-151.7163, 2168,   1999.3,  -0.4029,  34.9469,2,  34.9463,2,    269.3,2,   -999.0,9,  -999.00,9,  -999.00,9,  -999.00,9,  -999.00,9,  -999.00,9,  -999.00,9,    0.600,2,  -0.5032,20040909,1737
  32H120040910,    15,  1,    101,      1,2,20040909,1733, 71.8468,-151.7163, 2168,   2162.6,  -0.3982,  34.9556,2,  34.9555,2,    267.0,2,   -999.0,9,    14.86,2,    14.51,2,     0.03,2,     1.09,2,  -999.00,9,  -999.00,9,    0.611,2,  -0.5099,20040909,1733
  32H120040910,    15,  2,    213,     13,2,20040909,1056, 71.8468,-151.7163, 2168,     75.1,  -1.5903,  32.9615,2,  32.9517,2,    296.6,2,   -999.0,9,  -999.00,9,  -999.00,9,  -999.00,9,  -999.00,9,  -999.00,9,  -999.00,9,    0.928,2,  -1.5917,20040909,1103
  32H120040910,    15,  2,    218,     18,2,20040909,1056, 71.8468,-151.7163, 2168,     75.2,  -1.5909,  32.9654,2,-999.0000,9,    296.5,2,   -999.0,9,  -999.00,9,  -999.00,9,  -999.00,9,  -999.00,9,  -999.00,9,  -999.00,9,    0.920,2,  -1.5923,20040909,1104
  32H120040910,    15,  2,    220,     20,2,20040909,1056, 71.8468,-151.7163, 2168,     75.2,  -1.5909,  32.9660,2,-999.0000,9,    296.7,2,   -999.0,9,  -999.00,9,  -999.00,9,  -999.00,9,  -999.00,9,  -999.00,9,  -999.00,9,    0.954,2,  -1.5923,20040909,1104
  32H120040910,    15,  2,    221,     21,2,20040909,1056, 71.8468,-151.7163, 2168,     75.2,  -1.5910,  32.9653,2,-999.0000,9,    296.6,2,   -999.0,9,  -999.00,9,  -999.00,9,  -999.00,9,  -999.00,9,  -999.00,9,  -999.00,9,    0.923,2,  -1.5924,20040909,1104
  32H120040910,    15,  2,    219,     19,2,20040909,1056, 71.8468,-151.7163, 2168,     75.2,  -1.5910,  32.9657,2,  32.9569,2,    296.6,2,   -999.0,9,  -999.00,9,  -999.00,9,  -999.00,9,  -999.00,9,  -999.00,9,  -999.00,9,    0.942,2,  -1.5924,20040909,1104
  32H120040910,    15,  2,    214,     14,2,20040909,1056, 71.8468,-151.7163, 2168,     75.3,  -1.5911,  32.9677,2,-999.0000,9,    296.5,2,   -999.0,9,  -999.00,9,  -999.00,9,  -999.00,9,  -999.00,9,  -999.00,9,  -999.00,9,    0.945,2,  -1.5925,20040909,1103
  32H120040910,    15,  2,    215,     15,2,20040909,1056, 71.8468,-151.7163, 2168,     75.3,  -1.5911,  32.9679,2,-999.0000,9,    296.4,2,   -999.0,9,  -999.00,9,  -999.00,9,  -999.00,9,  -999.00,9,  -999.00,9,  -999.00,9,    0.940,2,  -1.5925,20040909,1103
  32H120040910,    15,  2,    217,     17,2,20040909,1056, 71.8468,-151.7163, 2168,     75.3,  -1.5911,  32.9683,2,-999.0000,9,    296.5,2,   -999.0,9,  -999.00,9,  -999.00,9,  -999.00,9,  -999.00,9,  -999.00,9,  -999.00,9,    0.954,2,  -1.5925,20040909,1104
  32H120040910,    15,  2,    224,     24,2,20040909,1056, 71.8468,-151.7163, 2168,     75.4,  -1.5912,  32.9686,2,-999.0000,9,    296.4,2,   -999.0,9,  -999.00,9,  -999.00,9,  -999.00,9,  -999.00,9,  -999.00,9,  -999.00,9,    0.930,2,  -1.5926,20040909,1104
  32H120040910,    15,  2,    222,     22,2,20040909,1056, 71.8468,-151.7163, 2168,     75.4,  -1.5912,  32.9687,2,  32.9586,2,    296.5,2,   -999.0,9,  -999.00,9,  -999.00,9,  -999.00,9,  -999.00,9,  -999.00,9,  -999.00,9,    0.940,2,  -1.5926,20040909,1104
  32H120040910,    15,  2,    223,     23,2,20040909,1056, 71.8468,-151.7163, 2168,     75.4,  -1.5914,  32.9695,2,-999.0000,9,    296.5,2,   -999.0,9,  -999.00,9,  -999.00,9,  -999.00,9,  -999.00,9,  -999.00,9,  -999.00,9,    0.936,2,  -1.5928,20040909,1104
  32H120040910,    15,  2,    216,     16,2,20040909,1056, 71.8468,-151.7163, 2168,     75.5,  -1.5915,  32.9697,2,  32.9563,2,    296.5,2,   -999.0,9,  -999.00,9,  -999.00,9,  -999.00,9,  -999.00,9,  -999.00,9,  -999.00,9,    0.947,2,  -1.5929,20040909,1103
  32H120040910,    15,  2,    209,      9,2,20040909,1056, 71.8468,-151.7163, 2168,    150.1,  -0.3320,  34.4698,2,-999.0000,9,    263.4,2,   -999.0,9,  -999.00,9,  -999.00,9,  -999.00,9,  -999.00,9,  -999.00,9,  -999.00,9,    0.680,2,  -0.3370,20040909,1057
  32H120040910,    15,  2,    210,     10,2,20040909,1056, 71.8468,-151.7163, 2168,    150.2,  -0.3294,  34.4710,2,  34.4716,2,    263.3,2,   -999.0,9,  -999.00,9,  -999.00,9,  -999.00,9,  -999.00,9,  -999.00,9,  -999.00,9,    0.684,2,  -0.3344,20040909,1057
  32H120040910,    15,  2,    207,      7,2,20040909,1056, 71.8468,-151.7163, 2168,    150.2,  -0.3316,  34.4700,2,  34.4691,2,    263.2,2,   -999.0,9,  -999.00,9,  -999.00,9,  -999.00,9,  -999.00,9,  -999.00,9,  -999.00,9,    0.683,2,  -0.3366,20040909,1056
  32H120040910,    15,  2,    201,      1,2,20040909,1056, 71.8468,-151.7163, 2168,    150.3,  -0.3279,  34.4714,2,  34.4722,2,    263.5,2,   -999.0,9,  -999.00,9,  -999.00,9,  -999.00,9,  -999.00,9,  -999.00,9,  -999.00,9,    0.696,2,  -0.3329,20040909,1056
  32H120040910,    15,  2,    206,      6,2,20040909,1056, 71.8468,-151.7163, 2168,    150.3,  -0.3305,  34.4703,2,-999.0000,9,    263.4,2,   -999.0,9,  -999.00,9,  -999.00,9,  -999.00,9,  -999.00,9,  -999.00,9,  -999.00,9,    0.666,2,  -0.3355,20040909,1056
  32H120040910,    15,  2,    212,     12,2,20040909,1056, 71.8468,-151.7163, 2168,    150.4,  -0.3133,  34.4779,2,-999.0000,9,    263.5,2,   -999.0,9,  -999.00,9,  -999.00,9,  -999.00,9,  -999.00,9,  -999.00,9,  -999.00,9,    0.691,2,  -0.3183,20040909,1057
  32H120040910,    15,  2,    211,     11,2,20040909,1056, 71.8468,-151.7163, 2168,    150.4,  -0.3155,  34.4763,2,-999.0000,9,    263.4,2,   -999.0,9,  -999.00,9,  -999.00,9,  -999.00,9,  -999.00,9,  -999.00,9,  -999.00,9,    0.705,2,  -0.3205,20040909,1057
  32H120040910,    15,  2,    202,      2,2,20040909,1056, 71.8468,-151.7163, 2168,    150.4,  -0.3274,  34.4715,2,-999.0000,9,    263.3,2,   -999.0,9,  -999.00,9,  -999.00,9,  -999.00,9,  -999.00,9,  -999.00,9,  -999.00,9,    0.664,2,  -0.3324,20040909,1056
  32H120040910,    15,  2,    203,      3,2,20040909,1056, 71.8468,-151.7163, 2168,    150.4,  -0.3281,  34.4713,2,-999.0000,9,    263.3,2,   -999.0,9,  -999.00,9,  -999.00,9,  -999.00,9,  -999.00,9,  -999.00,9,  -999.00,9,    0.701,2,  -0.3331,20040909,1056
  32H120040910,    15,  2,    208,      8,2,20040909,1056, 71.8468,-151.7163, 2168,    150.4,  -0.3303,  34.4704,2,-999.0000,9,    263.2,2,   -999.0,9,  -999.00,9,  -999.00,9,  -999.00,9,  -999.00,9,  -999.00,9,  -999.00,9,    0.697,2,  -0.3353,20040909,1057
  32H120040910,    15,  2,    204,      4,2,20040909,1056, 71.8468,-151.7163, 2168,    150.5,  -0.3288,  34.4710,2,  34.4716,2,    263.3,2,   -999.0,9,  -999.00,9,  -999.00,9,  -999.00,9,  -999.00,9,  -999.00,9,  -999.00,9,    0.687,2,  -0.3338,20040909,1056
  32H120040910,    15,  2,    205,      5,2,20040909,1056, 71.8468,-151.7163, 2168,    150.5,  -0.3292,  34.4709,2,-999.0000,9,    263.1,2,   -999.0,9,  -999.00,9,  -999.00,9,  -999.00,9,  -999.00,9,  -999.00,9,  -999.00,9,    0.666,2,  -0.3342,20040909,1056