BOTTLE,20220815CCHSIOAMB
# Copy DATE/TIME to new BTL_DATE/BTL_TIME cols
# Set DATE/TIME to value at deepest bottle
# Times are not zero padded, this is OK
# Note added that CTDOXY data have not been calibrated based on email from Bob Key dated 2013-11-13
#BOTTLE,20081219PRINUNIVRMK
# 10/03/08 Initialized README file  
# Data source:NCASR/EOL http://data/eol.ucar.edu 
# SHIP: Healy 
# Cruise: HLY-04-04 
# Dates: 9/10-10/1/2004 
# EXPOCODE: 32H120040910 
# Region: Dutch Harbon to Nome, Alaska; Chukchi and western Beaufort Seas 
# Chief Scientist - L. Codispoti and J.Swift 
# 117 stations mostly on shelf 
# Hydro: Who - Picard; Status - final 
# 	Notes: some bottle/CTD salt discrepancies noted by flags	 
# Nuts/O2: Who - Swift; Status - final  
# 	Notes: CTDOXY data have not been calibrated 
# Other: Fluorometry (uncalibrated), chlorophyl, phaeo 
# 	See Dunton et al., 2005,2006 
# References: 
# Dunton, K.H., T. Weingartner and E.C. Carmack, The nearshore Beaufort Sea ecosystem: sources and fate of marine and terrestrial carbon in arctic coastal food webs,Prog. Oceanogr., 71, 362-378, 2006. 
# Dunton, K.H., J.L. Goodall, S.V. Schonberg, J.M. Grebmeier, and D.R. Maidment, Multi-decadal synthesis of benthic-pelagic coupling in the western arctic: Role of cross-shelf advective processes, Deep-Sea Res. II, 52, 3462-3477, 2005. 
EXPOCODE,STNNBR,CASTNO,SAMPNO,BTLNBR,BTLNBR_FLAG_W,DATE,TIME,LATITUDE,LONGITUDE,DEPTH,CTDPRS,CTDTMP,CTDSAL,CTDSAL_FLAG_W,SALNTY,SALNTY_FLAG_W,CTDOXY,CTDOXY_FLAG_W,OXYGEN,OXYGEN_FLAG_W,SILCAT,SILCAT_FLAG_W,NITRAT,NITRAT_FLAG_W,NITRIT,NITRIT_FLAG_W,PHSPHT,PHSPHT_FLAG_W,CHLORA,CHLORA_FLAG_W,PHAEO,PHAEO_FLAG_W,FLUORO,FLUORO_FLAG_W,THETA,BTL_DATE,BTL_TIME
,,,,,,,,,,METERS,DBAR,ITS-90,PSS-78,,PSS-78,,UMOL/KG,,UMOL/KG,,UMOL/KG,,UMOL/KG,,UMOL/KG,,UMOL/KG,,UG/L,,UG/L,,VOLTS,,DEG C,,
  32H120040910,     1,  1,    104,      4,2,20040907, 141, 71.2248,-152.2233,   44,      5.5,   3.6124,  27.4208,2,  27.5065,2,    340.7,2,    341.2,2,     2.71,2,     0.11,2,     0.00,2,     0.32,2,     0.34,2,     0.05,2,    1.480,2,   3.6121,20040907, 145
  32H120040910,     1,  1,    103,      3,2,20040907, 141, 71.2248,-152.2233,   44,     20.4,   2.5758,  30.3268,2,  30.9075,2,    407.2,2,    406.3,2,     8.21,2,     0.95,2,     0.05,2,     0.76,2,     1.09,2,     0.05,2,    2.071,2,   2.5748,20040907, 144
  32H120040910,     1,  1,    102,      2,2,20040907, 141, 71.2248,-152.2233,   44,     30.7,   1.1794,  31.3586,2,  31.5278,2,    407.7,2,    428.1,2,    11.03,2,     1.81,2,     0.09,2,     0.99,2,     0.91,2,     0.20,2,    1.360,2,   1.1782,20040907, 143
  32H120040910,     1,  1,    101,      1,2,20040907, 141, 71.2248,-152.2233,   44,     38.8,   0.1395,  31.6826,2,  31.6015,2,    413.1,2,    427.3,2,    11.71,2,     2.03,2,     0.10,2,     1.04,2,     1.09,2,     0.26,2,    1.638,2,   0.1383,20040907, 141
  32H120040910,     2,  1,    104,      4,2,20040907, 316, 71.2715,-152.1875,   53,      5.7,   4.2476,  27.8114,2,  28.0742,2,    333.5,2,    343.4,2,     3.14,2,     0.05,2,     0.01,2,     0.31,2,     0.57,2,     0.12,2,    1.560,2,   4.2473,20040907, 321
  32H120040910,     2,  1,    103,      3,2,20040907, 316, 71.2715,-152.1875,   53,     12.9,   3.4735,  30.8775,2,  30.9515,2,    359.5,2,    375.0,2,     7.20,2,     0.90,2,     0.05,2,     0.71,2,     0.22,2,     0.10,2,    1.446,2,   3.4728,20040907, 320
  32H120040910,     2,  1,    102,      2,2,20040907, 316, 71.2715,-152.1875,   53,     30.6,   1.7331,  31.2969,2,  31.3319,2,    396.1,2,    415.3,2,     9.44,2,     1.40,2,     0.07,2,     0.81,2,     0.25,2,     0.09,2,    1.320,2,   1.7318,20040907, 318
  32H120040910,     2,  1,    101,      1,2,20040907, 316, 71.2715,-152.1875,   53,     47.7,   0.1431,  31.7223,2,  31.6479,2,    409.3,2,    424.3,2,    11.39,2,     2.07,2,     0.10,2,     0.97,2,     0.21,2,     0.09,2,    1.494,2,   0.1416,20040907, 316
  32H120040910,     2,  2,    203,      3,2,20040907, 454, 71.2715,-152.1875,   53,     30.2,   1.9910,  31.2171,2,  31.2911,2,    395.5,2,   -999.0,9,  -999.00,9,  -999.00,9,  -999.00,9,  -999.00,9,  -999.00,9,  -999.00,9,    1.215,2,   1.9896,20040907, 454
  32H120040910,     2,  2,    217,     17,2,20040907, 454, 71.2715,-152.1875,   53,     30.2,   2.0026,  31.2186,2,  31.3267,2,    395.0,2,   -999.0,9,  -999.00,9,  -999.00,9,  -999.00,9,  -999.00,9,  -999.00,9,  -999.00,9,    1.288,2,   2.0012,20040907, 456
  32H120040910,     2,  2,    216,     16,2,20040907, 454, 71.2715,-152.1875,   53,     30.2,   2.0180,  31.2131,2,-999.0000,9,    394.7,2,   -999.0,9,  -999.00,9,  -999.00,9,  -999.00,9,  -999.00,9,  -999.00,9,  -999.00,9,    1.207,2,   2.0166,20040907, 456
  32H120040910,     2,  2,    215,     15,2,20040907, 454, 71.2715,-152.1875,   53,     30.2,   2.0296,  31.2108,2,  31.3328,2,    394.9,2,   -999.0,9,  -999.00,9,  -999.00,9,  -999.00,9,  -999.00,9,  -999.00,9,  -999.00,9,    1.257,2,   2.0282,20040907, 456
  32H120040910,     2,  2,    208,      8,2,20040907, 454, 71.2715,-152.1875,   53,     30.2,   2.0299,  31.2124,2,-999.0000,9,    394.6,2,   -999.0,9,  -999.00,9,  -999.00,9,  -999.00,9,  -999.00,9,  -999.00,9,  -999.00,9,    1.281,2,   2.0285,20040907, 455
  32H120040910,     2,  2,    207,      7,2,20040907, 454, 71.2715,-152.1875,   53,     30.2,   2.0311,  31.2127,2,  31.2028,2,    394.5,2,   -999.0,9,  -999.00,9,  -999.00,9,  -999.00,9,  -999.00,9,  -999.00,9,  -999.00,9,    1.249,2,   2.0297,20040907, 455
  32H120040910,     2,  2,    214,     14,9,20040907, 454, 71.2715,-152.1875,   53,     30.2,   2.0517,  31.2025,2,-999.0000,9,    394.6,2,   -999.0,9,  -999.00,9,  -999.00,9,  -999.00,9,  -999.00,9,  -999.00,9,  -999.00,9,    1.287,2,   2.0503,20040907, 455
  32H120040910,     2,  2,    206,      6,2,20040907, 454, 71.2715,-152.1875,   53,     30.2,   2.0524,  31.2062,2,-999.0000,9,    394.3,2,   -999.0,9,  -999.00,9,  -999.00,9,  -999.00,9,  -999.00,9,  -999.00,9,  -999.00,9,    1.226,2,   2.0510,20040907, 454
  32H120040910,     2,  2,    213,     13,2,20040907, 454, 71.2715,-152.1875,   53,     30.2,   2.0603,  31.1967,2,  31.2468,2,    394.5,2,   -999.0,9,  -999.00,9,  -999.00,9,  -999.00,9,  -999.00,9,  -999.00,9,  -999.00,9,    1.239,2,   2.0589,20040907, 455
  32H120040910,     2,  2,    212,     12,2,20040907, 454, 71.2715,-152.1875,   53,     30.2,   2.0623,  31.1967,2,-999.0000,9,    394.4,2,   -999.0,9,  -999.00,9,  -999.00,9,  -999.00,9,  -999.00,9,  -999.00,9,  -999.00,9,    1.224,2,   2.0609,20040907, 455
  32H120040910,     2,  2,    209,      9,2,20040907, 454, 71.2715,-152.1875,   53,     30.2,   2.0662,  31.2040,2,  31.2047,2,    394.3,2,   -999.0,9,  -999.00,9,  -999.00,9,  -999.00,9,  -999.00,9,  -999.00,9,  -999.00,9,    1.288,2,   2.0648,20040907, 455
  32H120040910,     2,  2,    211,     11,2,20040907, 454, 71.2715,-152.1875,   53,     30.2,   2.0684,  31.1970,2,  31.2120,2,    394.4,2,   -999.0,9,  -999.00,9,  -999.00,9,  -999.00,9,  -999.00,9,  -999.00,9,  -999.00,9,    1.247,2,   2.0670,20040907, 455
  32H120040910,     2,  2,    210,     10,2,20040907, 454, 71.2715,-152.1875,   53,     30.2,   2.0717,  31.1995,2,-999.0000,9,    394.2,2,   -999.0,9,  -999.00,9,  -999.00,9,  -999.00,9,  -999.00,9,  -999.00,9,  -999.00,9,    1.233,2,   2.0703,20040907, 455
  32H120040910,     2,  2,    201,      1,9,20040907, 454, 71.2715,-152.1875,   53,     30.3,   1.8934,  31.2191,2,-999.0000,9,    397.3,2,   -999.0,9,  -999.00,9,  -999.00,9,  -999.00,9,  -999.00,9,  -999.00,9,  -999.00,9,    1.211,2,   1.8920,20040907, 453
  32H120040910,     2,  2,    202,      2,2,20040907, 454, 71.2715,-152.1875,   53,     30.3,   1.9714,  31.2167,2,-999.0000,9,    396.7,2,   -999.0,9,  -999.00,9,  -999.00,9,  -999.00,9,  -999.00,9,  -999.00,9,  -999.00,9,    1.236,2,   1.9700,20040907, 454
  32H120040910,     2,  2,    204,      4,2,20040907, 454, 71.2715,-152.1875,   53,     30.3,   2.0253,  31.2165,2,-999.0000,9,    394.6,2,   -999.0,9,  -999.00,9,  -999.00,9,  -999.00,9,  -999.00,9,  -999.00,9,  -999.00,9,    1.258,2,   2.0239,20040907, 454
  32H120040910,     2,  2,    205,      5,2,20040907, 454, 71.2715,-152.1875,   53,     30.3,   2.0376,  31.2135,2,  31.2141,2,    394.6,2,   -999.0,9,  -999.00,9,  -999.00,9,  -999.00,9,  -999.00,9,  -999.00,9,  -999.00,9,    1.242,2,   2.0362,20040907, 454
  32H120040910,     3,  1,    105,      5,2,20040907, 602, 71.3143,-152.1272,   62,      4.7,   3.7752,  27.5775,2,  27.6131,2,    339.9,2,    350.0,2,     2.21,2,     0.04,2,     0.01,2,     0.25,2,     0.30,2,     0.08,2,    1.502,2,   3.7749,20040907, 610
  32H120040910,     3,  1,    104,      4,2,20040907, 602, 71.3143,-152.1272,   62,     20.7,   2.5343,  31.2883,2,  31.2830,2,    375.1,2,    394.6,2,     7.35,2,     1.03,2,     0.06,2,     0.74,2,     0.87,2,     0.11,2,    1.509,2,   2.5333,20040907, 608
  32H120040910,     3,  1,    103,      3,2,20040907, 602, 71.3143,-152.1272,   62,     30.2,   1.2319,  31.5540,2,  31.6778,2,    392.2,2,    422.4,2,    10.28,2,     2.11,2,     0.10,2,     0.92,2,     0.45,2,     0.06,2,    1.246,2,   1.2307,20040907, 606
  32H120040910,     3,  1,    102,      2,2,20040907, 602, 71.3143,-152.1272,   62,     44.7,   0.0525,  31.7534,2,  31.7579,2,    410.4,2,    425.3,2,    10.77,2,     2.24,2,     0.11,2,     0.97,2,     0.66,2,     0.21,2,    1.436,2,   0.0511,20040907, 603
  32H120040910,     3,  1,    101,      1,2,20040907, 602, 71.3143,-152.1272,   62,     56.9,   0.0373,  31.7584,2,  31.7581,2,    410.0,2,    425.4,2,    10.66,2,     2.28,2,     0.12,2,     0.96,2,     0.60,2,     0.23,2,    1.475,2,   0.0356,20040907, 602
  32H120040910,     4,  1,    104,      4,2,20040907, 808, 71.3652,-152.1120,   73,      5.5,   3.5455,  27.5178,2,  27.6509,2,    342.3,2,    357.8,2,     2.97,2,     0.10,2,     0.00,2,     0.47,2,     0.35,2,     0.06,2,    1.467,2,   3.5452,20040907, 816
  32H120040910,     4,  1,    103,      3,2,20040907, 808, 71.3652,-152.1120,   73,     25.4,   1.2078,  31.7685,2,  31.7297,2,    378.4,2,    391.6,2,     8.25,2,     1.44,2,     0.06,2,     1.02,2,     0.53,2,     0.12,2,    1.336,2,   1.2068,20040907, 812
  32H120040910,     4,  1,    102,      2,2,20040907, 808, 71.3652,-152.1120,   73,     50.3,  -0.2483,  32.0237,2,  32.0284,2,    389.6,2,    405.1,2,    11.09,2,     2.74,2,     0.11,2,     1.24,2,     0.50,2,     0.12,2,    1.277,2,  -0.2497,20040907, 810
  32H120040910,     4,  1,    101,      1,2,20040907, 808, 71.3652,-152.1120,   73,     67.8,  -0.3285,  32.0309,2,  32.0312,2,    391.4,2,    405.9,2,    11.38,2,     2.78,2,     0.12,2,     1.25,2,     0.47,2,     0.14,2,    1.411,2,  -0.3304,20040907, 808
  32H120040910,     4,  2,    219,     19,2,20040907, 935, 71.3652,-152.1120,   73,     25.2,   1.9430,  31.5655,2,  31.6225,2,    373.1,2,   -999.0,9,  -999.00,9,  -999.00,9,  -999.00,9,  -999.00,9,  -999.00,9,  -999.00,9,    1.518,2,   1.9418,20040907, 939
  32H120040910,     4,  2,    222,     22,2,20040907, 935, 71.3652,-152.1120,   73,     25.3,   1.8533,  31.5859,2,-999.0000,9,    373.4,2,   -999.0,9,  -999.00,9,  -999.00,9,  -999.00,9,  -999.00,9,  -999.00,9,  -999.00,9,    1.498,2,   1.8522,20040907, 939
  32H120040910,     4,  2,    213,     13,2,20040907, 935, 71.3652,-152.1120,   73,     25.3,   1.8868,  31.5740,2,  31.6280,2,    374.6,2,   -999.0,9,  -999.00,9,  -999.00,9,  -999.00,9,  -999.00,9,  -999.00,9,  -999.00,9,    1.499,2,   1.8856,20040907, 938
  32H120040910,     4,  2,    223,     23,2,20040907, 935, 71.3652,-152.1120,   73,     25.3,   1.8871,  31.5895,2,  31.5638,2,    373.8,2,   -999.0,9,  -999.00,9,  -999.00,9,  -999.00,9,  -999.00,9,  -999.00,9,  -999.00,9,    1.503,2,   1.8859,20040907, 940
  32H120040910,     4,  2,    224,     24,2,20040907, 935, 71.3652,-152.1120,   73,     25.3,   1.9170,  31.5718,2,-999.0000,9,    373.4,2,   -999.0,9,  -999.00,9,  -999.00,9,  -999.00,9,  -999.00,9,  -999.00,9,  -999.00,9,    1.448,2,   1.9158,20040907, 940
  32H120040910,     4,  2,    221,     21,2,20040907, 935, 71.3652,-152.1120,   73,     25.3,   1.9257,  31.5789,2,  31.5967,2,    372.8,2,   -999.0,9,  -999.00,9,  -999.00,9,  -999.00,9,  -999.00,9,  -999.00,9,  -999.00,9,    1.568,2,   1.9245,20040907, 939
  32H120040910,     4,  2,    218,     18,2,20040907, 935, 71.3652,-152.1120,   73,     25.3,   1.9712,  31.5569,2,-999.0000,9,    372.4,2,   -999.0,9,  -999.00,9,  -999.00,9,  -999.00,9,  -999.00,9,  -999.00,9,  -999.00,9,    1.501,2,   1.9700,20040907, 939
  32H120040910,     4,  2,    220,     20,2,20040907, 935, 71.3652,-152.1120,   73,     25.3,   2.0032,  31.5538,2,-999.0000,9,    372.7,2,   -999.0,9,  -999.00,9,  -999.00,9,  -999.00,9,  -999.00,9,  -999.00,9,  -999.00,9,    1.493,2,   2.0020,20040907, 939
  32H120040910,     4,  2,    214,     14,2,20040907, 935, 71.3652,-152.1120,   73,     25.3,   2.0064,  31.5495,2,-999.0000,9,    372.9,2,   -999.0,9,  -999.00,9,  -999.00,9,  -999.00,9,  -999.00,9,  -999.00,9,  -999.00,9,    1.497,2,   2.0052,20040907, 939
  32H120040910,     4,  2,    217,     17,2,20040907, 935, 71.3652,-152.1120,   73,     25.3,   2.0249,  31.5454,2,  31.7558,0,    370.8,2,   -999.0,9,  -999.00,9,  -999.00,9,  -999.00,9,  -999.00,9,  -999.00,9,  -999.00,9,    1.515,2,   2.0237,20040907, 939
  32H120040910,     4,  2,    215,     15,2,20040907, 935, 71.3652,-152.1120,   73,     25.3,   2.0835,  31.5247,2,  31.6203,2,    372.1,2,   -999.0,9,  -999.00,9,  -999.00,9,  -999.00,9,  -999.00,9,  -999.00,9,  -999.00,9,    1.470,2,   2.0823,20040907, 939
  32H120040910,     4,  2,    216,     16,2,20040907, 935, 71.3652,-152.1120,   73,     25.3,   2.2184,  31.5050,2,-999.0000,9,    370.9,2,   -999.0,9,  -999.00,9,  -999.00,9,  -999.00,9,  -999.00,9,  -999.00,9,  -999.00,9,    1.478,2,   2.2172,20040907, 939
  32H120040910,     4,  2,    208,      8,2,20040907, 935, 71.3652,-152.1120,   73,     50.4,  -0.3651,  31.9986,2,-999.0000,9,    397.0,2,   -999.0,9,  -999.00,9,  -999.00,9,  -999.00,9,  -999.00,9,  -999.00,9,  -999.00,9,    1.409,2,  -0.3665,20040907, 936
  32H120040910,     4,  2,    212,     12,2,20040907, 935, 71.3652,-152.1120,   73,     50.4,  -0.3718,  32.0001,2,-999.0000,9,    396.7,2,   -999.0,9,  -999.00,9,  -999.00,9,  -999.00,9,  -999.00,9,  -999.00,9,  -999.00,9,    1.432,2,  -0.3732,20040907, 936
  32H120040910,     4,  2,    211,     11,2,20040907, 935, 71.3652,-152.1120,   73,     50.4,  -0.3772,  32.0005,2,  32.0062,2,    396.7,2,   -999.0,9,  -999.00,9,  -999.00,9,  -999.00,9,  -999.00,9,  -999.00,9,  -999.00,9,    1.421,2,  -0.3786,20040907, 936
  32H120040910,     4,  2,    207,      7,2,20040907, 935, 71.3652,-152.1120,   73,     50.4,  -0.3783,  32.0023,2,  32.0069,2,    396.9,2,   -999.0,9,  -999.00,9,  -999.00,9,  -999.00,9,  -999.00,9,  -999.00,9,  -999.00,9,    1.413,2,  -0.3797,20040907, 936
  32H120040910,     4,  2,    209,      9,2,20040907, 935, 71.3652,-152.1120,   73,     50.4,  -0.3792,  32.0016,2,  32.0069,2,    396.8,2,   -999.0,9,  -999.00,9,  -999.00,9,  -999.00,9,  -999.00,9,  -999.00,9,  -999.00,9,    1.436,2,  -0.3806,20040907, 936
  32H120040910,     4,  2,    201,      1,2,20040907, 935, 71.3652,-152.1120,   73,     50.4,  -0.3794,  32.0016,2,  32.0061,2,    397.1,2,   -999.0,9,  -999.00,9,  -999.00,9,  -999.00,9,  -999.00,9,  -999.00,9,  -999.00,9,    1.445,2,  -0.3808,20040907, 935
  32H120040910,     4,  2,    202,      2,2,20040907, 935, 71.3652,-152.1120,   73,     50.4,  -0.3796,  32.0017,2,-999.0000,9,    396.9,2,   -999.0,9,  -999.00,9,  -999.00,9,  -999.00,9,  -999.00,9,  -999.00,9,  -999.00,9,    1.492,2,  -0.3810,20040907, 935
  32H120040910,     4,  2,    204,      4,2,20040907, 935, 71.3652,-152.1120,   73,     50.4,  -0.3799,  32.0025,2,-999.0000,9,    396.7,2,   -999.0,9,  -999.00,9,  -999.00,9,  -999.00,9,  -999.00,9,  -999.00,9,  -999.00,9,    1.443,2,  -0.3813,20040907, 935
  32H120040910,     4,  2,    205,      5,2,20040907, 935, 71.3652,-152.1120,   73,     50.4,  -0.3828,  32.0023,2,  32.0067,2,    396.9,2,   -999.0,9,  -999.00,9,  -999.00,9,  -999.00,9,  -999.00,9,  -999.00,9,  -999.00,9,    1.362,2,  -0.3842,20040907, 935
  32H120040910,     4,  2,    206,      6,2,20040907, 935, 71.3652,-152.1120,   73,     50.4,  -0.3844,  32.0048,2,-999.0000,9,    396.9,2,   -999.0,9,  -999.00,9,  -999.00,9,  -999.00,9,  -999.00,9,  -999.00,9,  -999.00,9,    1.427,2,  -0.3858,20040907, 935
  32H120040910,     4,  2,    210,     10,2,20040907, 935, 71.3652,-152.1120,   73,     50.4,  -0.3886,  32.0023,2,-999.0000,9,    397.2,2,   -999.0,9,  -999.00,9,  -999.00,9,  -999.00,9,  -999.00,9,  -999.00,9,  -999.00,9,    1.416,2,  -0.3900,20040907, 936
  32H120040910,     4,  2,    203,      3,2,20040907, 935, 71.3652,-152.1120,   73,     50.4,  -0.3905,  32.0028,2,  32.0061,2,    397.2,2,   -999.0,9,  -999.00,9,  -999.00,9,  -999.00,9,  -999.00,9,  -999.00,9,  -999.00,9,    1.376,2,  -0.3919,20040907, 935
  32H120040910,     5,  1,    107,      7,2,20040907,1031, 71.4000,-152.0633,  161,      4.6,   3.6149,  27.5227,2,  27.5401,2,    338.8,2,    349.3,2,     2.35,2,     0.09,2,     0.01,2,     0.47,2,     0.34,2,     0.07,2,    1.495,2,   3.6147,20040907,1044
  32H120040910,     5,  1,    106,      6,2,20040907,1031, 71.4000,-152.0633,  161,     20.1,   0.1313,  31.0998,2,  31.1959,2,    439.8,2,    437.4,2,     7.13,2,     0.57,2,     0.04,2,     0.89,2,     1.03,2,     0.13,2,    1.820,2,   0.1307,20040907,1042
  32H120040910,     5,  1,    105,      5,2,20040907,1031, 71.4000,-152.0633,  161,     50.9,   0.0182,  32.1198,2,  32.1230,2,    373.0,2,    386.7,2,    10.56,2,     2.68,2,     0.12,2,     1.22,2,     0.45,2,     0.12,2,    1.363,2,   0.0166,20040907,1039
  32H120040910,     5,  1,    104,      4,2,20040907,1031, 71.4000,-152.0633,  161,     75.4,  -0.0419,  32.1382,2,  32.1442,2,    371.9,2,    385.8,2,    10.84,2,     2.91,2,     0.12,2,     1.25,2,     0.49,2,     0.13,2,    1.293,2,  -0.0442,20040907,1037
  32H120040910,     5,  1,    103,      3,2,20040907,1031, 71.4000,-152.0633,  161,    100.5,  -0.2968,  32.1936,2,  32.2112,2,    370.8,2,    385.2,2,    12.61,2,     3.63,2,     0.14,2,     1.36,2,     0.51,2,     0.15,2,    1.320,2,  -0.2997,20040907,1035
  32H120040910,     5,  1,    102,      2,2,20040907,1031, 71.4000,-152.0633,  161,    125.4,  -0.6302,  32.2444,2,  32.2370,2,    369.3,2,    384.6,2,    13.49,2,     3.99,2,     0.15,2,     1.40,2,     0.70,2,     0.27,2,    1.470,2,  -0.6335,20040907,1033
  32H120040910,     5,  1,    101,      1,2,20040907,1031, 71.4000,-152.0633,  161,    156.4,  -0.7887,  32.3034,2,  32.2836,2,    364.1,2,   -999.0,9,    15.06,2,     4.49,2,     0.16,2,     1.48,2,     1.34,2,     0.88,2,    1.860,2,  -0.7927,20040907,1031