BOTTLE,20220815CCHSIOAMB
EXPOCODE,STNNBR,CASTNO,SAMPNO,BTLNBR,BTLNBR_FLAG_W,DATE,TIME,LATITUDE,LONGITUDE,DEPTH,CTDPRS,CTDTMP,CTDSAL,CTDSAL_FLAG_W,SALNTY,SALNTY_FLAG_W,CTDOXY,CTDOXY_FLAG_W,OXYGEN,OXYGEN_FLAG_W,SILCAT,SILCAT_FLAG_W,NITRAT,NITRAT_FLAG_W,NITRIT,NITRIT_FLAG_W,PHSPHT,PHSPHT_FLAG_W,CHLORA,CHLORA_FLAG_W,PHAEO,PHAEO_FLAG_W,FLUORO,FLUORO_FLAG_W,THETA,BTL_DATE,BTL_TIME
,,,,,,,,,,METERS,DBAR,ITS-90,PSS-78,,PSS-78,,UMOL/KG,,UMOL/KG,,UMOL/KG,,UMOL/KG,,UMOL/KG,,UMOL/KG,,UG/L,,UG/L,,VOLTS,,DEG C,,
  32H120040910,     9,  2,    201,      1,2,20040908, 835, 71.5752,-151.9330,  777,    204.8,   0.1327,  34.6283,2,  34.6268,2,    265.5,2,   -999.0,9,  -999.00,9,  -999.00,9,  -999.00,9,  -999.00,9,  -999.00,9,  -999.00,9,    0.696,2,   0.1249,20040908, 833
  32H120040910,     9,  2,    202,      2,2,20040908, 835, 71.5752,-151.9330,  777,    205.1,   0.1332,  34.6289,2,-999.0000,9,    265.4,2,   -999.0,9,  -999.00,9,  -999.00,9,  -999.00,9,  -999.00,9,  -999.00,9,  -999.00,9,    0.673,2,   0.1254,20040908, 833
  32H120040910,     9,  2,    203,      3,2,20040908, 835, 71.5752,-151.9330,  777,    205.4,   0.1354,  34.6297,2,-999.0000,9,    265.6,2,   -999.0,9,  -999.00,9,  -999.00,9,  -999.00,9,  -999.00,9,  -999.00,9,  -999.00,9,    0.692,2,   0.1276,20040908, 834
  32H120040910,     9,  2,    204,      4,2,20040908, 835, 71.5752,-151.9330,  777,    205.7,   0.1365,  34.6297,2,  34.6278,2,    265.5,2,   -999.0,9,  -999.00,9,  -999.00,9,  -999.00,9,  -999.00,9,  -999.00,9,  -999.00,9,    0.666,2,   0.1287,20040908, 834
  32H120040910,     9,  2,    205,      5,2,20040908, 835, 71.5752,-151.9330,  777,    205.9,   0.1389,  34.6306,2,-999.0000,9,    265.6,2,   -999.0,9,  -999.00,9,  -999.00,9,  -999.00,9,  -999.00,9,  -999.00,9,  -999.00,9,    0.710,2,   0.1310,20040908, 834
  32H120040910,     9,  2,    206,      6,2,20040908, 835, 71.5752,-151.9330,  777,    206.1,   0.1434,  34.6318,2,-999.0000,9,    265.7,2,   -999.0,9,  -999.00,9,  -999.00,9,  -999.00,9,  -999.00,9,  -999.00,9,  -999.00,9,    0.737,2,   0.1355,20040908, 834
  32H120040910,     9,  2,    207,      7,2,20040908, 835, 71.5752,-151.9330,  777,    206.4,   0.1457,  34.6326,2,  34.6290,2,    265.4,2,   -999.0,9,  -999.00,9,  -999.00,9,  -999.00,9,  -999.00,9,  -999.00,9,  -999.00,9,    0.690,2,   0.1378,20040908, 834
  32H120040910,     9,  2,    208,      8,2,20040908, 835, 71.5752,-151.9330,  777,    206.5,   0.1494,  34.6335,2,-999.0000,9,    265.5,2,   -999.0,9,  -999.00,9,  -999.00,9,  -999.00,9,  -999.00,9,  -999.00,9,  -999.00,9,    0.690,2,   0.1415,20040908, 834
  32H120040910,     9,  2,    209,      9,2,20040908, 835, 71.5752,-151.9330,  777,    206.7,   0.1577,  34.6358,2,-999.0000,9,    265.5,2,   -999.0,9,  -999.00,9,  -999.00,9,  -999.00,9,  -999.00,9,  -999.00,9,  -999.00,9,    0.692,2,   0.1498,20040908, 834
  32H120040910,     9,  2,    210,     10,2,20040908, 835, 71.5752,-151.9330,  777,    206.8,   0.1567,  34.6360,2,  34.6304,2,    265.5,2,   -999.0,9,  -999.00,9,  -999.00,9,  -999.00,9,  -999.00,9,  -999.00,9,  -999.00,9,    0.739,2,   0.1488,20040908, 834
  32H120040910,     9,  2,    211,     11,2,20040908, 835, 71.5752,-151.9330,  777,    207.0,   0.1579,  34.6363,2,-999.0000,9,    265.5,2,   -999.0,9,  -999.00,9,  -999.00,9,  -999.00,9,  -999.00,9,  -999.00,9,  -999.00,9,    0.683,2,   0.1500,20040908, 834
  32H120040910,     9,  2,    212,     12,2,20040908, 835, 71.5752,-151.9330,  777,    207.0,   0.1671,  34.6390,2,-999.0000,9,    265.4,2,   -999.0,9,  -999.00,9,  -999.00,9,  -999.00,9,  -999.00,9,  -999.00,9,  -999.00,9,    0.705,2,   0.1591,20040908, 835
  32H120040910,     9,  2,    214,     14,2,20040908, 835, 71.5752,-151.9330,  777,    207.2,   0.1754,  34.6411,2,-999.0000,9,    265.3,2,   -999.0,9,  -999.00,9,  -999.00,9,  -999.00,9,  -999.00,9,  -999.00,9,  -999.00,9,    0.701,2,   0.1674,20040908, 835
  32H120040910,     9,  2,    217,     17,2,20040908, 835, 71.5752,-151.9330,  777,    207.3,   0.1736,  34.6406,2,-999.0000,9,    265.4,2,   -999.0,9,  -999.00,9,  -999.00,9,  -999.00,9,  -999.00,9,  -999.00,9,  -999.00,9,    0.692,2,   0.1656,20040908, 835
  32H120040910,     9,  2,    219,     19,2,20040908, 835, 71.5752,-151.9330,  777,    207.3,   0.1744,  34.6408,2,  34.6406,2,    265.4,2,   -999.0,9,  -999.00,9,  -999.00,9,  -999.00,9,  -999.00,9,  -999.00,9,  -999.00,9,    0.729,2,   0.1664,20040908, 835
  32H120040910,     9,  2,    216,     16,2,20040908, 835, 71.5752,-151.9330,  777,    207.3,   0.1747,  34.6408,2,  34.6367,2,    265.4,2,   -999.0,9,  -999.00,9,  -999.00,9,  -999.00,9,  -999.00,9,  -999.00,9,  -999.00,9,    0.684,2,   0.1667,20040908, 835
  32H120040910,     9,  2,    213,     13,2,20040908, 835, 71.5752,-151.9330,  777,    207.3,   0.1749,  34.6408,2,  34.6319,2,    265.4,2,   -999.0,9,  -999.00,9,  -999.00,9,  -999.00,9,  -999.00,9,  -999.00,9,  -999.00,9,    0.720,2,   0.1669,20040908, 835
  32H120040910,     9,  2,    218,     18,2,20040908, 835, 71.5752,-151.9330,  777,    207.4,   0.1743,  34.6407,2,-999.0000,9,    265.5,2,   -999.0,9,  -999.00,9,  -999.00,9,  -999.00,9,  -999.00,9,  -999.00,9,  -999.00,9,    0.713,2,   0.1663,20040908, 835
  32H120040910,     9,  2,    215,     15,2,20040908, 835, 71.5752,-151.9330,  777,    207.4,   0.1757,  34.6409,2,-999.0000,9,    265.3,2,   -999.0,9,  -999.00,9,  -999.00,9,  -999.00,9,  -999.00,9,  -999.00,9,  -999.00,9,    0.684,2,   0.1677,20040908, 835
  32H120040910,     9,  3,    314,     14,2,20040908, 940, 71.5752,-151.9330,  777,     49.9,  -0.7698,  32.1687,2,-999.0000,9,    356.0,2,   -999.0,9,  -999.00,9,  -999.00,9,  -999.00,9,  -999.00,9,  -999.00,9,  -999.00,9,    1.203,2,  -0.7710,20040908, 944
  32H120040910,     9,  3,    315,     15,2,20040908, 940, 71.5752,-151.9330,  777,     50.0,  -0.8000,  32.1737,2,-999.0000,9,    355.8,2,   -999.0,9,  -999.00,9,  -999.00,9,  -999.00,9,  -999.00,9,  -999.00,9,  -999.00,9,    1.077,2,  -0.8012,20040908, 944
  32H120040910,     9,  3,    316,     16,2,20040908, 940, 71.5752,-151.9330,  777,     50.0,  -0.8068,  32.1746,2,  32.1886,2,    355.7,2,   -999.0,9,  -999.00,9,  -999.00,9,  -999.00,9,  -999.00,9,  -999.00,9,  -999.00,9,    1.156,2,  -0.8080,20040908, 944
  32H120040910,     9,  3,    313,     13,2,20040908, 940, 71.5752,-151.9330,  777,     50.0,  -0.8161,  32.1766,2,  32.1872,2,    356.8,2,   -999.0,9,  -999.00,9,  -999.00,9,  -999.00,9,  -999.00,9,  -999.00,9,  -999.00,9,    1.065,2,  -0.8173,20040908, 944
  32H120040910,     9,  3,    321,     21,2,20040908, 940, 71.5752,-151.9330,  777,     50.0,  -0.8194,  32.1755,2,-999.0000,9,    354.1,2,   -999.0,9,  -999.00,9,  -999.00,9,  -999.00,9,  -999.00,9,  -999.00,9,  -999.00,9,    1.129,2,  -0.8206,20040908, 945
  32H120040910,     9,  3,    319,     19,2,20040908, 940, 71.5752,-151.9330,  777,     50.0,  -0.8339,  32.1794,2,  32.1715,2,    355.8,2,   -999.0,9,  -999.00,9,  -999.00,9,  -999.00,9,  -999.00,9,  -999.00,9,  -999.00,9,    1.067,2,  -0.8351,20040908, 945
  32H120040910,     9,  3,    320,     20,2,20040908, 940, 71.5752,-151.9330,  777,     50.0,  -0.8390,  32.1803,2,-999.0000,9,    354.7,2,   -999.0,9,  -999.00,9,  -999.00,9,  -999.00,9,  -999.00,9,  -999.00,9,  -999.00,9,    1.132,2,  -0.8402,20040908, 945
  32H120040910,     9,  3,    324,     24,2,20040908, 940, 71.5752,-151.9330,  777,     50.1,  -0.8175,  32.1758,2,-999.0000,9,    356.8,2,   -999.0,9,  -999.00,9,  -999.00,9,  -999.00,9,  -999.00,9,  -999.00,9,  -999.00,9,    1.390,2,  -0.8187,20040908, 945
  32H120040910,     9,  3,    323,     23,2,20040908, 940, 71.5752,-151.9330,  777,     50.1,  -0.8324,  32.1780,2,-999.0000,9,    355.8,2,   -999.0,9,  -999.00,9,  -999.00,9,  -999.00,9,  -999.00,9,  -999.00,9,  -999.00,9,    1.118,2,  -0.8336,20040908, 945
  32H120040910,     9,  3,    322,     22,2,20040908, 940, 71.5752,-151.9330,  777,     50.1,  -0.8353,  32.1787,2,  32.1626,2,    355.2,2,   -999.0,9,  -999.00,9,  -999.00,9,  -999.00,9,  -999.00,9,  -999.00,9,  -999.00,9,    1.158,2,  -0.8365,20040908, 945
  32H120040910,     9,  3,    317,     17,2,20040908, 940, 71.5752,-151.9330,  777,     50.1,  -0.8418,  32.1809,2,-999.0000,9,    356.1,2,   -999.0,9,  -999.00,9,  -999.00,9,  -999.00,9,  -999.00,9,  -999.00,9,  -999.00,9,    1.243,2,  -0.8430,20040908, 945
  32H120040910,     9,  3,    318,     18,2,20040908, 940, 71.5752,-151.9330,  777,     50.1,  -0.8466,  32.1828,2,-999.0000,9,    355.8,2,   -999.0,9,  -999.00,9,  -999.00,9,  -999.00,9,  -999.00,9,  -999.00,9,  -999.00,9,    1.099,2,  -0.8478,20040908, 945
  32H120040910,     9,  3,    301,      1,2,20040908, 940, 71.5752,-151.9330,  777,    101.4,  -1.5734,  32.8883,2,  32.8857,2,    303.5,2,   -999.0,9,  -999.00,9,  -999.00,9,  -999.00,9,  -999.00,9,  -999.00,9,  -999.00,9,    0.896,2,  -1.5753,20040908, 939
  32H120040910,     9,  3,    302,      2,2,20040908, 940, 71.5752,-151.9330,  777,    101.6,  -1.5717,  32.8906,2,-999.0000,9,    303.6,2,   -999.0,9,  -999.00,9,  -999.00,9,  -999.00,9,  -999.00,9,  -999.00,9,  -999.00,9,    0.904,2,  -1.5736,20040908, 939
  32H120040910,     9,  3,    303,      3,2,20040908, 940, 71.5752,-151.9330,  777,    101.7,  -1.5715,  32.8894,2,-999.0000,9,    303.6,2,   -999.0,9,  -999.00,9,  -999.00,9,  -999.00,9,  -999.00,9,  -999.00,9,  -999.00,9,    0.894,2,  -1.5734,20040908, 939
  32H120040910,     9,  3,    308,      8,2,20040908, 940, 71.5752,-151.9330,  777,    101.8,  -1.5699,  32.8941,2,-999.0000,9,    303.4,2,   -999.0,9,  -999.00,9,  -999.00,9,  -999.00,9,  -999.00,9,  -999.00,9,  -999.00,9,    0.888,2,  -1.5718,20040908, 940
  32H120040910,     9,  3,    304,      4,2,20040908, 940, 71.5752,-151.9330,  777,    101.8,  -1.5710,  32.8919,2,  32.8855,2,    303.5,2,   -999.0,9,  -999.00,9,  -999.00,9,  -999.00,9,  -999.00,9,  -999.00,9,  -999.00,9,    0.883,2,  -1.5729,20040908, 940
  32H120040910,     9,  3,    307,      7,2,20040908, 940, 71.5752,-151.9330,  777,    101.9,  -1.5701,  32.8952,2,  32.8867,2,    303.4,2,   -999.0,9,  -999.00,9,  -999.00,9,  -999.00,9,  -999.00,9,  -999.00,9,  -999.00,9,    1.005,2,  -1.5720,20040908, 940
  32H120040910,     9,  3,    309,      9,2,20040908, 940, 71.5752,-151.9330,  777,    102.0,  -1.5703,  32.8953,2,-999.0000,9,    303.2,2,   -999.0,9,  -999.00,9,  -999.00,9,  -999.00,9,  -999.00,9,  -999.00,9,  -999.00,9,    0.925,2,  -1.5723,20040908, 940
  32H120040910,     9,  3,    305,      5,2,20040908, 940, 71.5752,-151.9330,  777,    102.0,  -1.5708,  32.8943,2,-999.0000,9,    303.4,2,   -999.0,9,  -999.00,9,  -999.00,9,  -999.00,9,  -999.00,9,  -999.00,9,  -999.00,9,    0.899,2,  -1.5728,20040908, 940
  32H120040910,     9,  3,    306,      6,2,20040908, 940, 71.5752,-151.9330,  777,    102.0,  -1.5709,  32.8948,2,-999.0000,9,    303.5,2,   -999.0,9,  -999.00,9,  -999.00,9,  -999.00,9,  -999.00,9,  -999.00,9,  -999.00,9,    0.948,2,  -1.5729,20040908, 940
  32H120040910,     9,  3,    310,     10,2,20040908, 940, 71.5752,-151.9330,  777,    102.1,  -1.5704,  32.8962,2,  32.8908,2,    303.3,2,   -999.0,9,  -999.00,9,  -999.00,9,  -999.00,9,  -999.00,9,  -999.00,9,  -999.00,9,    0.920,2,  -1.5724,20040908, 940
  32H120040910,     9,  3,    312,     12,2,20040908, 940, 71.5752,-151.9330,  777,    102.1,  -1.5707,  32.8967,2,-999.0000,9,    303.3,2,   -999.0,9,  -999.00,9,  -999.00,9,  -999.00,9,  -999.00,9,  -999.00,9,  -999.00,9,    0.906,2,  -1.5727,20040908, 941
  32H120040910,     9,  3,    311,     11,2,20040908, 940, 71.5752,-151.9330,  777,    102.2,  -1.5707,  32.8962,2,-999.0000,9,    303.4,2,   -999.0,9,  -999.00,9,  -999.00,9,  -999.00,9,  -999.00,9,  -999.00,9,  -999.00,9,    0.889,2,  -1.5727,20040908, 940
  32H120040910,    10,  1,    118,     18,2,20040908, 749, 71.6255,-151.8917, 1016,      5.3,   3.5608,  26.3824,2,-999.0000,9,    334.5,2,    337.2,2,     2.89,2,     0.09,2,     0.00,2,     0.49,2,     0.37,2,     0.08,2,    1.312,2,   3.5605,20040908, 833
  32H120040910,    10,  1,    117,     17,2,20040908, 749, 71.6255,-151.8917, 1016,     26.3,   4.7355,  30.7549,2,-999.0000,9,    335.6,2,    354.3,2,     5.35,2,     0.21,2,     0.03,2,     0.72,2,     0.92,2,     0.07,2,    1.494,2,   4.7337,20040908, 831
  32H120040910,    10,  1,    116,     16,2,20040908, 749, 71.6255,-151.8917, 1016,     50.1,  -0.9331,  32.2051,2,-999.0000,9,    365.5,2,    366.8,2,    16.39,2,     5.39,2,     0.14,2,     1.41,2,     0.22,2,     0.07,2,    1.218,2,  -0.9342,20040908, 829
  32H120040910,    10,  1,    115,     15,2,20040908, 749, 71.6255,-151.8917, 1016,     75.1,  -1.4220,  32.6091,2,-999.0000,9,    320.3,2,    330.4,2,    27.78,2,    10.06,2,     0.17,2,     1.75,2,     0.06,2,     0.10,2,    0.947,2,  -1.4235,20040908, 827
  32H120040910,    10,  1,    114,     14,2,20040908, 749, 71.6255,-151.8917, 1016,    100.3,  -1.6312,  32.9291,2,-999.0000,9,    284.9,2,    293.4,2,    40.82,2,    14.04,2,     0.12,2,     2.11,2,     0.17,2,     0.21,2,    1.045,2,  -1.6331,20040908, 825
  32H120040910,    10,  1,    113,     13,2,20040908, 749, 71.6255,-151.8917, 1016,    125.5,  -1.4641,  33.2265,2,-999.0000,9,    270.8,2,    279.9,2,    36.46,2,    14.01,2,     0.11,2,     1.95,2,     0.43,2,     0.22,2,    1.306,2,  -1.4667,20040908, 823
  32H120040910,    10,  1,    112,     12,2,20040908, 749, 71.6255,-151.8917, 1016,    150.4,  -1.0780,  33.8977,2,-999.0000,9,    272.0,2,    276.6,2,    22.16,2,    13.18,2,     0.12,2,     1.46,2,     0.09,2,     0.12,2,    0.777,2,  -1.0819,20040908, 822
  32H120040910,    10,  1,    111,     11,2,20040908, 749, 71.6255,-151.8917, 1016,    175.4,  -0.1936,  34.5063,2,-999.0000,9,    261.1,2,    271.7,2,    16.32,2,    13.24,2,     0.11,2,     1.27,2,     0.08,2,     0.09,2,    0.799,2,  -0.1997,20040908, 820
  32H120040910,    10,  1,    110,     10,2,20040908, 749, 71.6255,-151.8917, 1016,    200.8,   0.2136,  34.6555,2,-999.0000,9,    266.0,2,    275.2,2,    12.52,2,    13.14,2,     0.08,2,     1.10,2,     0.06,2,     0.08,2,    0.754,2,   0.2058,20040908, 818
  32H120040910,    10,  1,    109,      9,2,20040908, 749, 71.6255,-151.8917, 1016,    250.7,   0.5657,  34.7648,2,  34.7686,2,    265.5,2,    275.7,2,    12.81,2,    13.01,2,     0.12,2,     1.13,2,  -999.00,9,  -999.00,9,    0.690,2,   0.5551,20040908, 816
  32H120040910,    10,  1,    108,      8,2,20040908, 749, 71.6255,-151.8917, 1016,    301.0,   0.6556,  34.7990,2,  34.7987,2,    269.6,2,    279.5,2,    11.52,2,    12.94,2,     0.09,2,     1.07,2,  -999.00,9,  -999.00,9,    0.655,2,   0.6425,20040908, 813
  32H120040910,    10,  1,    107,      7,2,20040908, 749, 71.6255,-151.8917, 1016,    400.8,   0.6734,  34.8193,2,  34.8213,2,    271.6,2,    283.0,2,    11.01,2,    12.78,2,     0.08,2,     1.05,2,  -999.00,9,  -999.00,9,    0.690,2,   0.6555,20040908, 810
  32H120040910,    10,  1,    106,      6,2,20040908, 749, 71.6255,-151.8917, 1016,    500.8,   0.6651,  34.8312,2,  34.8327,2,    276.0,2,   -999.0,9,  -999.00,9,  -999.00,9,  -999.00,9,  -999.00,9,  -999.00,9,  -999.00,9,    0.682,2,   0.6423,20040908, 806
  32H120040910,    10,  1,    105,      5,2,20040908, 749, 71.6255,-151.8917, 1016,    600.6,   0.5786,  34.8454,2,  34.8472,2,    279.7,2,    292.0,2,     8.44,2,    12.58,2,     0.05,2,     0.95,2,  -999.00,9,  -999.00,9,    0.614,2,   0.5511,20040908, 803
  32H120040910,    10,  1,    104,      4,2,20040908, 749, 71.6255,-151.8917, 1016,    700.3,   0.4509,  34.8547,2,  34.8562,2,    282.4,2,   -999.0,9,  -999.00,9,  -999.00,9,  -999.00,9,  -999.00,9,  -999.00,9,  -999.00,9,    0.645,2,   0.4190,20040908, 800
  32H120040910,    10,  1,    103,      3,2,20040908, 749, 71.6255,-151.8917, 1016,    800.7,   0.3185,  34.8613,2,  34.8633,2,    283.0,2,    296.6,2,     7.74,2,    12.50,2,     0.05,2,     0.94,2,  -999.00,9,  -999.00,9,    0.657,2,   0.2821,20040908, 757
  32H120040910,    10,  1,    102,      2,2,20040908, 749, 71.6255,-151.8917, 1016,    900.8,   0.2258,  34.8665,2,  34.8670,2,    283.9,2,   -999.0,9,  -999.00,9,  -999.00,9,  -999.00,9,  -999.00,9,  -999.00,9,  -999.00,9,    0.602,2,   0.1848,20040908, 753
  32H120040910,    10,  1,    101,      1,2,20040908, 749, 71.6255,-151.8917, 1016,   1011.1,   0.1199,  34.8720,2,  34.8737,2,    284.6,2,    298.0,2,     7.84,2,    12.51,2,     0.04,2,     0.95,2,  -999.00,9,  -999.00,9,    0.667,2,   0.0737,20040908, 749