BOTTLE,20220815CCHSIOAMB
EXPOCODE,STNNBR,CASTNO,SAMPNO,BTLNBR,BTLNBR_FLAG_W,DATE,TIME,LATITUDE,LONGITUDE,DEPTH,CTDPRS,CTDTMP,CTDSAL,CTDSAL_FLAG_W,SALNTY,SALNTY_FLAG_W,CTDOXY,CTDOXY_FLAG_W,OXYGEN,OXYGEN_FLAG_W,SILCAT,SILCAT_FLAG_W,NITRAT,NITRAT_FLAG_W,NITRIT,NITRIT_FLAG_W,PHSPHT,PHSPHT_FLAG_W,CHLORA,CHLORA_FLAG_W,PHAEO,PHAEO_FLAG_W,FLUORO,FLUORO_FLAG_W,THETA,BTL_DATE,BTL_TIME
,,,,,,,,,,METERS,DBAR,ITS-90,PSS-78,,PSS-78,,UMOL/KG,,UMOL/KG,,UMOL/KG,,UMOL/KG,,UMOL/KG,,UMOL/KG,,UG/L,,UG/L,,VOLTS,,DEG C,,
  32H120040910,     7,  2,    218,     18,2,20040907,1806, 71.4947,-151.9880,  309,    120.4,  -1.6518,  32.9995,2,-999.0000,9,    271.5,2,   -999.0,9,  -999.00,9,  -999.00,9,  -999.00,9,  -999.00,9,  -999.00,9,  -999.00,9,    1.340,2,  -1.6541,20040907,1808
  32H120040910,     7,  2,    219,     19,2,20040907,1806, 71.4947,-151.9880,  309,    120.4,  -1.6518,  32.9996,2,  33.0005,2,    271.3,2,   -999.0,9,  -999.00,9,  -999.00,9,  -999.00,9,  -999.00,9,  -999.00,9,  -999.00,9,    1.351,2,  -1.6541,20040907,1808
  32H120040910,     7,  2,    217,     17,2,20040907,1806, 71.4947,-151.9880,  309,    120.4,  -1.6523,  33.0000,2,-999.0000,9,    271.1,2,   -999.0,9,  -999.00,9,  -999.00,9,  -999.00,9,  -999.00,9,  -999.00,9,  -999.00,9,    1.287,2,  -1.6546,20040907,1807
  32H120040910,     7,  2,    216,     16,2,20040907,1806, 71.4947,-151.9880,  309,    120.4,  -1.6524,  33.0003,2,  32.9992,2,    270.8,2,   -999.0,9,  -999.00,9,  -999.00,9,  -999.00,9,  -999.00,9,  -999.00,9,  -999.00,9,    1.311,2,  -1.6547,20040907,1807
  32H120040910,     7,  2,    212,     12,2,20040907,1806, 71.4947,-151.9880,  309,    120.4,  -1.6531,  32.9989,2,-999.0000,9,    271.1,2,   -999.0,9,  -999.00,9,  -999.00,9,  -999.00,9,  -999.00,9,  -999.00,9,  -999.00,9,    1.297,2,  -1.6554,20040907,1807
  32H120040910,     7,  2,    213,     13,2,20040907,1806, 71.4947,-151.9880,  309,    120.4,  -1.6539,  33.0011,2,  32.9998,2,    271.0,2,   -999.0,9,  -999.00,9,  -999.00,9,  -999.00,9,  -999.00,9,  -999.00,9,  -999.00,9,    1.332,2,  -1.6562,20040907,1807
  32H120040910,     7,  2,    214,     14,2,20040907,1806, 71.4947,-151.9880,  309,    120.4,  -1.6542,  33.0018,2,-999.0000,9,    271.1,2,   -999.0,9,  -999.00,9,  -999.00,9,  -999.00,9,  -999.00,9,  -999.00,9,  -999.00,9,    1.316,2,  -1.6565,20040907,1807
  32H120040910,     7,  2,    215,     15,2,20040907,1806, 71.4947,-151.9880,  309,    120.4,  -1.6542,  33.0025,2,-999.0000,9,    270.7,2,   -999.0,9,  -999.00,9,  -999.00,9,  -999.00,9,  -999.00,9,  -999.00,9,  -999.00,9,    1.259,2,  -1.6565,20040907,1807
  32H120040910,     7,  2,    203,      3,2,20040907,1806, 71.4947,-151.9880,  309,    120.5,  -1.6496,  32.9944,2,-999.0000,9,    273.2,2,   -999.0,9,  -999.00,9,  -999.00,9,  -999.00,9,  -999.00,9,  -999.00,9,  -999.00,9,    1.311,2,  -1.6519,20040907,1805
  32H120040910,     7,  2,    204,      4,2,20040907,1806, 71.4947,-151.9880,  309,    120.5,  -1.6500,  32.9949,2,  32.9965,2,    273.4,2,   -999.0,9,  -999.00,9,  -999.00,9,  -999.00,9,  -999.00,9,  -999.00,9,  -999.00,9,    1.367,2,  -1.6523,20040907,1805
  32H120040910,     7,  2,    202,      2,2,20040907,1806, 71.4947,-151.9880,  309,    120.5,  -1.6504,  32.9947,2,-999.0000,9,    273.0,2,   -999.0,9,  -999.00,9,  -999.00,9,  -999.00,9,  -999.00,9,  -999.00,9,  -999.00,9,    1.261,2,  -1.6527,20040907,1804
  32H120040910,     7,  2,    205,      5,2,20040907,1806, 71.4947,-151.9880,  309,    120.5,  -1.6513,  32.9950,2,-999.0000,9,    273.1,2,   -999.0,9,  -999.00,9,  -999.00,9,  -999.00,9,  -999.00,9,  -999.00,9,  -999.00,9,    1.293,2,  -1.6536,20040907,1805
  32H120040910,     7,  2,    201,      1,2,20040907,1806, 71.4947,-151.9880,  309,    120.5,  -1.6525,  32.9958,2,  32.9962,2,    273.0,2,   -999.0,9,  -999.00,9,  -999.00,9,  -999.00,9,  -999.00,9,  -999.00,9,  -999.00,9,    1.302,2,  -1.6548,20040907,1804
  32H120040910,     7,  2,    206,      6,2,20040907,1806, 71.4947,-151.9880,  309,    120.5,  -1.6531,  32.9970,2,-999.0000,9,    271.2,2,   -999.0,9,  -999.00,9,  -999.00,9,  -999.00,9,  -999.00,9,  -999.00,9,  -999.00,9,    1.236,2,  -1.6554,20040907,1806
  32H120040910,     7,  2,    211,     11,2,20040907,1806, 71.4947,-151.9880,  309,    120.5,  -1.6538,  32.9994,2,-999.0000,9,    270.9,2,   -999.0,9,  -999.00,9,  -999.00,9,  -999.00,9,  -999.00,9,  -999.00,9,  -999.00,9,    1.289,2,  -1.6561,20040907,1807
  32H120040910,     7,  2,    209,      9,2,20040907,1806, 71.4947,-151.9880,  309,    120.5,  -1.6541,  32.9980,2,-999.0000,9,    271.0,2,   -999.0,9,  -999.00,9,  -999.00,9,  -999.00,9,  -999.00,9,  -999.00,9,  -999.00,9,    1.345,2,  -1.6564,20040907,1806
  32H120040910,     7,  2,    210,     10,2,20040907,1806, 71.4947,-151.9880,  309,    120.5,  -1.6545,  32.9983,2,  32.9982,2,    270.8,2,   -999.0,9,  -999.00,9,  -999.00,9,  -999.00,9,  -999.00,9,  -999.00,9,  -999.00,9,    1.256,2,  -1.6568,20040907,1807
  32H120040910,     7,  2,    207,      7,2,20040907,1806, 71.4947,-151.9880,  309,    120.5,  -1.6550,  32.9971,2,  33.0020,2,    271.3,2,   -999.0,9,  -999.00,9,  -999.00,9,  -999.00,9,  -999.00,9,  -999.00,9,  -999.00,9,    1.443,2,  -1.6573,20040907,1806
  32H120040910,     7,  2,    208,      8,2,20040907,1806, 71.4947,-151.9880,  309,    120.5,  -1.6554,  32.9981,2,-999.0000,9,    271.0,2,   -999.0,9,  -999.00,9,  -999.00,9,  -999.00,9,  -999.00,9,  -999.00,9,  -999.00,9,    1.256,2,  -1.6577,20040907,1806
  32H120040910,     7,  3,    324,     24,2,20040907,1919, 71.4947,-151.9880,  309,     49.6,  -0.0516,  32.0483,2,-999.0000,9,    362.6,2,   -999.0,9,  -999.00,9,  -999.00,9,  -999.00,9,  -999.00,9,  -999.00,9,  -999.00,9,    1.086,2,  -0.0531,20040907,1927
  32H120040910,     7,  3,    323,     23,2,20040907,1919, 71.4947,-151.9880,  309,     49.6,  -0.0892,  32.0491,2,-999.0000,9,    363.3,2,   -999.0,9,  -999.00,9,  -999.00,9,  -999.00,9,  -999.00,9,  -999.00,9,  -999.00,9,    1.081,2,  -0.0907,20040907,1927
  32H120040910,     7,  3,    322,     22,2,20040907,1919, 71.4947,-151.9880,  309,     49.6,  -0.0913,  32.0510,2,  32.0682,2,    363.2,2,   -999.0,9,  -999.00,9,  -999.00,9,  -999.00,9,  -999.00,9,  -999.00,9,  -999.00,9,    1.086,2,  -0.0928,20040907,1927
  32H120040910,     7,  3,    317,     17,2,20040907,1919, 71.4947,-151.9880,  309,     49.6,  -0.0915,  32.0568,2,-999.0000,9,    362.1,2,   -999.0,9,  -999.00,9,  -999.00,9,  -999.00,9,  -999.00,9,  -999.00,9,  -999.00,9,    1.095,2,  -0.0930,20040907,1926
  32H120040910,     7,  3,    316,     16,2,20040907,1919, 71.4947,-151.9880,  309,     49.6,  -0.0926,  32.0599,2,  32.0948,2,    362.8,2,   -999.0,9,  -999.00,9,  -999.00,9,  -999.00,9,  -999.00,9,  -999.00,9,  -999.00,9,    1.121,2,  -0.0941,20040907,1926
  32H120040910,     7,  3,    313,     13,2,20040907,1919, 71.4947,-151.9880,  309,     49.6,  -0.0970,  32.0624,2,  32.0945,2,    361.9,2,   -999.0,9,  -999.00,9,  -999.00,9,  -999.00,9,  -999.00,9,  -999.00,9,  -999.00,9,    1.177,2,  -0.0985,20040907,1925
  32H120040910,     7,  3,    320,     20,2,20040907,1919, 71.4947,-151.9880,  309,     49.6,  -0.1012,  32.0493,2,-999.0000,9,    365.5,2,   -999.0,9,  -999.00,9,  -999.00,9,  -999.00,9,  -999.00,9,  -999.00,9,  -999.00,9,    1.105,2,  -0.1027,20040907,1926
  32H120040910,     7,  3,    321,     21,2,20040907,1919, 71.4947,-151.9880,  309,     49.6,  -0.1050,  32.0510,2,-999.0000,9,    365.2,2,   -999.0,9,  -999.00,9,  -999.00,9,  -999.00,9,  -999.00,9,  -999.00,9,  -999.00,9,    1.187,2,  -0.1065,20040907,1926
  32H120040910,     7,  3,    314,     14,2,20040907,1919, 71.4947,-151.9880,  309,     49.6,  -0.1131,  32.0618,2,-999.0000,9,    362.3,2,   -999.0,9,  -999.00,9,  -999.00,9,  -999.00,9,  -999.00,9,  -999.00,9,  -999.00,9,    1.093,2,  -0.1146,20040907,1926
  32H120040910,     7,  3,    315,     15,2,20040907,1919, 71.4947,-151.9880,  309,     49.6,  -0.1272,  32.0582,2,-999.0000,9,    362.5,2,   -999.0,9,  -999.00,9,  -999.00,9,  -999.00,9,  -999.00,9,  -999.00,9,  -999.00,9,    1.138,2,  -0.1287,20040907,1926
  32H120040910,     7,  3,    319,     19,2,20040907,1919, 71.4947,-151.9880,  309,     49.6,  -0.1360,  32.0524,2,  32.0902,2,    364.4,2,   -999.0,9,  -999.00,9,  -999.00,9,  -999.00,9,  -999.00,9,  -999.00,9,  -999.00,9,    1.122,2,  -0.1375,20040907,1926
  32H120040910,     7,  3,    318,     18,2,20040907,1919, 71.4947,-151.9880,  309,     49.6,  -0.1436,  32.0556,2,-999.0000,9,    363.5,2,   -999.0,9,  -999.00,9,  -999.00,9,  -999.00,9,  -999.00,9,  -999.00,9,  -999.00,9,    1.103,2,  -0.1451,20040907,1926
  32H120040910,     7,  3,    301,      1,2,20040907,1919, 71.4947,-151.9880,  309,    251.8,   0.4260,  34.7179,2,  34.7196,2,    263.6,2,   -999.0,9,  -999.00,9,  -999.00,9,  -999.00,9,  -999.00,9,  -999.00,9,  -999.00,9,    0.764,2,   0.4156,20040907,1917
  32H120040910,     7,  3,    302,      2,2,20040907,1919, 71.4947,-151.9880,  309,    252.1,   0.4277,  34.7185,2,-999.0000,9,    263.8,2,   -999.0,9,  -999.00,9,  -999.00,9,  -999.00,9,  -999.00,9,  -999.00,9,  -999.00,9,    0.736,2,   0.4173,20040907,1917
  32H120040910,     7,  3,    303,      3,2,20040907,1919, 71.4947,-151.9880,  309,    252.2,   0.4276,  34.7185,2,-999.0000,9,    263.8,2,   -999.0,9,  -999.00,9,  -999.00,9,  -999.00,9,  -999.00,9,  -999.00,9,  -999.00,9,    0.738,2,   0.4172,20040907,1917
  32H120040910,     7,  3,    304,      4,2,20040907,1919, 71.4947,-151.9880,  309,    252.3,   0.4267,  34.7183,2,  34.7188,2,    263.6,2,   -999.0,9,  -999.00,9,  -999.00,9,  -999.00,9,  -999.00,9,  -999.00,9,  -999.00,9,    0.731,2,   0.4163,20040907,1917
  32H120040910,     7,  3,    305,      5,2,20040907,1919, 71.4947,-151.9880,  309,    252.4,   0.4227,  34.7171,2,-999.0000,9,    263.6,2,   -999.0,9,  -999.00,9,  -999.00,9,  -999.00,9,  -999.00,9,  -999.00,9,  -999.00,9,    0.785,2,   0.4123,20040907,1918
  32H120040910,     7,  3,    306,      6,2,20040907,1919, 71.4947,-151.9880,  309,    252.4,   0.4233,  34.7173,2,-999.0000,9,    263.8,2,   -999.0,9,  -999.00,9,  -999.00,9,  -999.00,9,  -999.00,9,  -999.00,9,  -999.00,9,    0.748,2,   0.4129,20040907,1918
  32H120040910,     7,  3,    307,      7,2,20040907,1919, 71.4947,-151.9880,  309,    252.5,   0.4252,  34.7179,2,  34.7187,2,    263.9,2,   -999.0,9,  -999.00,9,  -999.00,9,  -999.00,9,  -999.00,9,  -999.00,9,  -999.00,9,    0.737,2,   0.4148,20040907,1918
  32H120040910,     7,  3,    308,      8,2,20040907,1919, 71.4947,-151.9880,  309,    252.7,   0.4269,  34.7183,2,-999.0000,9,    263.8,2,   -999.0,9,  -999.00,9,  -999.00,9,  -999.00,9,  -999.00,9,  -999.00,9,  -999.00,9,    0.730,2,   0.4165,20040907,1918
  32H120040910,     7,  3,    309,      9,2,20040907,1919, 71.4947,-151.9880,  309,    252.7,   0.4278,  34.7186,2,-999.0000,9,    263.7,2,   -999.0,9,  -999.00,9,  -999.00,9,  -999.00,9,  -999.00,9,  -999.00,9,  -999.00,9,    0.785,2,   0.4174,20040907,1918
  32H120040910,     7,  3,    310,     10,2,20040907,1919, 71.4947,-151.9880,  309,    252.8,   0.4288,  34.7190,2,  34.7189,2,    263.7,2,   -999.0,9,  -999.00,9,  -999.00,9,  -999.00,9,  -999.00,9,  -999.00,9,  -999.00,9,    0.742,2,   0.4184,20040907,1918
  32H120040910,     7,  3,    311,     11,2,20040907,1919, 71.4947,-151.9880,  309,    252.8,   0.4291,  34.7192,2,-999.0000,9,    263.7,2,   -999.0,9,  -999.00,9,  -999.00,9,  -999.00,9,  -999.00,9,  -999.00,9,  -999.00,9,    0.708,2,   0.4187,20040907,1918
  32H120040910,     7,  3,    312,     12,2,20040907,1919, 71.4947,-151.9880,  309,    252.9,   0.4296,  34.7194,2,-999.0000,9,    263.7,2,   -999.0,9,  -999.00,9,  -999.00,9,  -999.00,9,  -999.00,9,  -999.00,9,  -999.00,9,    0.762,2,   0.4192,20040907,1919
  32H120040910,     8,  1,    113,     13,2,20040907,1936, 71.5333,-151.9472,  610,      4.2,   3.7760,  26.8121,2,  26.8462,2,    330.7,2,    341.7,2,     3.67,2,     0.06,2,     0.00,2,     0.48,2,     0.37,2,     0.05,2,    1.249,2,   3.7758,20040907,2010
  32H120040910,     8,  1,    112,     12,2,20040907,1936, 71.5333,-151.9472,  610,     24.4,  -0.0322,  30.7789,2,  30.8327,2,    453.0,2,    475.6,2,     7.09,2,     0.06,2,     0.01,2,     0.74,2,     0.80,2,     0.10,2,    1.726,2,  -0.0329,20040907,2008
  32H120040910,     8,  1,    111,     11,2,20040907,1936, 71.5333,-151.9472,  610,     50.1,  -1.4771,  32.4436,2,  32.4598,2,    382.2,2,    389.5,2,    20.85,2,     4.44,2,     0.07,2,     1.46,2,     1.31,2,     0.30,2,    1.730,2,  -1.4780,20040907,2006
  32H120040910,     8,  1,    110,     10,2,20040907,1936, 71.5333,-151.9472,  610,     75.2,  -1.6185,  32.8052,2,  32.8159,2,    295.8,2,    307.3,2,    39.91,2,    13.26,2,     0.13,2,     2.13,2,     1.09,2,     0.31,2,    1.489,2,  -1.6199,20040907,2003
  32H120040910,     8,  1,    109,      9,2,20040907,1936, 71.5333,-151.9472,  610,    100.1,  -1.6750,  32.9342,2,  32.9410,2,    276.1,2,    287.5,2,    47.26,2,    15.17,2,     0.10,2,     2.28,2,     0.75,2,     0.38,2,    1.342,2,  -1.6768,20040907,2001
  32H120040910,     8,  1,    108,      8,2,20040907,1936, 71.5333,-151.9472,  610,    125.3,  -1.6639,  33.0004,2,  33.0031,2,    270.6,2,    281.5,2,    49.49,2,    15.62,2,     0.10,2,     2.33,2,     0.65,2,     0.39,2,    1.339,2,  -1.6662,20040907,1959
  32H120040910,     8,  1,    107,      7,2,20040907,1936, 71.5333,-151.9472,  610,    150.5,  -1.4772,  33.2043,2,  33.2027,2,    272.2,2,    284.4,2,    39.11,2,    13.95,2,     0.11,2,     2.00,2,     0.32,2,     0.25,2,    1.190,2,  -1.4804,20040907,1957
  32H120040910,     8,  1,    106,      6,2,20040907,1936, 71.5333,-151.9472,  610,    176.7,  -1.0788,  33.8717,2,  33.8569,2,    270.4,2,    281.4,2,    26.68,2,    13.38,2,     0.09,2,     1.56,2,     0.08,2,     0.10,2,    0.886,2,  -1.0834,20040907,1954
  32H120040910,     8,  1,    105,      5,2,20040907,1936, 71.5333,-151.9472,  610,    252.0,   0.3627,  34.7004,2,  34.7000,2,    261.8,2,    272.7,2,    15.46,2,    12.97,2,     0.13,2,     1.25,2,  -999.00,9,  -999.00,9,    0.827,2,   0.3525,20040907,1951
  32H120040910,     8,  1,    104,      4,2,20040907,1936, 71.5333,-151.9472,  610,    302.6,   0.5617,  34.7615,2,  34.7603,2,    267.1,2,    277.8,2,    13.02,2,    13.19,2,     0.09,2,     1.09,2,  -999.00,9,  -999.00,9,    0.723,2,   0.5487,20040907,1947
  32H120040910,     8,  1,    103,      3,2,20040907,1936, 71.5333,-151.9472,  610,    402.6,   0.6642,  34.8147,2,  34.8118,2,    276.4,2,   -999.0,9,  -999.00,9,  -999.00,9,  -999.00,9,  -999.00,9,  -999.00,9,  -999.00,9,    0.711,2,   0.6462,20040907,1943
  32H120040910,     8,  1,    102,      2,2,20040907,1936, 71.5333,-151.9472,  610,    506.0,   0.6170,  34.8333,2,  34.8344,2,    278.4,2,    291.0,2,     9.61,2,    12.80,2,     0.06,2,     0.97,2,  -999.00,9,  -999.00,9,    0.718,2,   0.5941,20040907,1939
  32H120040910,     8,  1,    101,      1,2,20040907,1936, 71.5333,-151.9472,  610,    604.5,   0.5281,  34.8445,2,  34.8456,2,    279.9,2,    291.3,2,     9.34,2,    12.72,2,     0.06,2,     0.98,2,  -999.00,9,  -999.00,9,    0.807,2,   0.5007,20040907,1936
  32H120040910,     9,  1,    116,     16,2,20040908, 333, 71.5752,-151.9330,  777,      4.9,   3.9684,  26.7130,2,  27.1264,2,    330.7,2,    337.8,2,     3.90,2,     0.10,2,     0.00,2,     0.47,2,     0.41,2,     0.10,2,    1.341,2,   3.9681,20040908, 413
  32H120040910,     9,  1,    115,     15,2,20040908, 333, 71.5752,-151.9330,  777,     25.1,   2.8606,  30.4262,2,  30.6046,2,    395.5,2,    415.7,2,     4.01,2,     0.09,2,     0.01,2,     0.66,2,     0.90,2,     0.15,2,    1.582,2,   2.8593,20040908, 411
  32H120040910,     9,  1,    114,     14,2,20040908, 333, 71.5752,-151.9330,  777,     50.0,  -0.8085,  32.1440,2,  32.2160,2,    370.5,2,    374.6,2,    15.05,2,     4.51,2,     0.14,2,     1.35,2,     0.25,2,     0.09,2,    1.159,2,  -0.8097,20040908, 409
  32H120040910,     9,  1,    113,     13,2,20040908, 333, 71.5752,-151.9330,  777,     75.0,  -1.4008,  32.5346,2,  32.5590,2,    325.3,2,    337.1,2,    27.89,2,     9.36,2,     0.22,2,     1.74,2,     0.11,2,     0.06,2,    0.957,2,  -1.4023,20040908, 407
  32H120040910,     9,  1,    112,     12,2,20040908, 333, 71.5752,-151.9330,  777,    100.3,  -1.5747,  32.8277,2,  32.8733,2,    302.4,2,    309.2,2,    35.14,2,    12.37,2,     0.15,2,     1.95,2,     0.10,2,     0.09,2,    0.916,2,  -1.5766,20040908, 405
  32H120040910,     9,  1,    111,     11,2,20040908, 333, 71.5752,-151.9330,  777,    125.5,  -1.4438,  33.2498,2,  33.3032,2,    276.4,2,    290.0,2,    35.37,2,    13.10,2,     0.14,2,     1.93,2,     0.17,2,     0.17,2,    1.110,2,  -1.4465,20040908, 403
  32H120040910,     9,  1,    110,     10,2,20040908, 333, 71.5752,-151.9330,  777,    150.3,  -1.1310,  33.8073,2,  33.9192,2,    272.9,2,    281.9,2,    26.35,2,    13.19,2,     0.14,2,     1.61,2,     0.12,2,     0.12,2,    0.871,2,  -1.1348,20040908, 401
  32H120040910,     9,  1,    109,      9,2,20040908, 333, 71.5752,-151.9330,  777,    175.5,  -0.3934,  34.3349,2,  34.3777,2,    255.4,2,    265.6,2,    21.35,2,    13.41,2,     0.18,2,     1.49,2,     0.12,2,     0.17,2,    0.922,2,  -0.3992,20040908, 359
  32H120040910,     9,  1,    108,      8,2,20040908, 333, 71.5752,-151.9330,  777,    200.8,   0.0593,  34.6027,2,  34.6028,2,    264.1,2,    274.4,2,    13.89,2,    13.39,2,     0.06,2,     1.15,2,     0.06,2,     0.08,2,    0.758,2,   0.0518,20040908, 356
  32H120040910,     9,  1,    107,      7,2,20040908, 333, 71.5752,-151.9330,  777,    250.8,   0.4868,  34.7395,2,  34.7415,2,    265.5,2,    276.0,2,    12.23,2,    13.30,2,     0.10,2,     1.09,2,  -999.00,9,  -999.00,9,    0.698,2,   0.4763,20040908, 354
  32H120040910,     9,  1,    106,      6,2,20040908, 333, 71.5752,-151.9330,  777,    301.6,   0.6422,  34.7869,2,  34.7889,2,    265.2,2,    275.6,2,    12.76,2,    13.36,2,     0.09,2,     1.11,2,  -999.00,9,  -999.00,9,    0.709,2,   0.6291,20040908, 351
  32H120040910,     9,  1,    105,      5,2,20040908, 333, 71.5752,-151.9330,  777,    401.7,   0.7048,  34.8191,2,  34.8212,2,    272.3,2,   -999.0,9,  -999.00,9,  -999.00,9,  -999.00,9,  -999.00,9,  -999.00,9,  -999.00,9,    0.703,2,   0.6867,20040908, 348
  32H120040910,     9,  1,    104,      4,2,20040908, 333, 71.5752,-151.9330,  777,    501.0,   0.6138,  34.8335,2,  34.8349,2,    278.8,2,    290.3,2,     8.03,2,    12.91,2,     0.04,2,     0.96,2,  -999.00,9,  -999.00,9,    0.649,2,   0.5912,20040908, 346
  32H120040910,     9,  1,    103,      3,2,20040908, 333, 71.5752,-151.9330,  777,    600.7,   0.5355,  34.8483,2,  34.8499,2,    280.3,2,   -999.0,9,  -999.00,9,  -999.00,9,  -999.00,9,  -999.00,9,  -999.00,9,  -999.00,9,    0.664,2,   0.5082,20040908, 342
  32H120040910,     9,  1,    102,      2,2,20040908, 333, 71.5752,-151.9330,  777,    700.3,   0.4536,  34.8530,2,  34.8552,2,    282.0,2,    294.5,2,     7.45,2,    12.78,2,     0.04,2,     0.95,2,  -999.00,9,  -999.00,9,    0.675,2,   0.4216,20040908, 338
  32H120040910,     9,  1,    101,      1,2,20040908, 333, 71.5752,-151.9330,  777,    771.8,   0.3604,  34.8585,2,  34.8611,2,    282.7,2,    295.6,2,     7.47,2,    12.81,2,     0.05,2,     0.96,2,  -999.00,9,  -999.00,9,    0.674,2,   0.3253,20040908, 333