BOTTLE,20220815CCHSIOAMB
EXPOCODE,STNNBR,CASTNO,SAMPNO,BTLNBR,BTLNBR_FLAG_W,DATE,TIME,LATITUDE,LONGITUDE,DEPTH,CTDPRS,CTDTMP,CTDSAL,CTDSAL_FLAG_W,SALNTY,SALNTY_FLAG_W,CTDOXY,CTDOXY_FLAG_W,OXYGEN,OXYGEN_FLAG_W,SILCAT,SILCAT_FLAG_W,NITRAT,NITRAT_FLAG_W,NITRIT,NITRIT_FLAG_W,PHSPHT,PHSPHT_FLAG_W,CHLORA,CHLORA_FLAG_W,PHAEO,PHAEO_FLAG_W,FLUORO,FLUORO_FLAG_W,THETA,BTL_DATE,BTL_TIME
,,,,,,,,,,METERS,DBAR,ITS-90,PSS-78,,PSS-78,,UMOL/KG,,UMOL/KG,,UMOL/KG,,UMOL/KG,,UMOL/KG,,UMOL/KG,,UG/L,,UG/L,,VOLTS,,DEG C,,
  32H120040910,   125,  2,    224,     24,2,20040926, 400, 73.4140,-160.5040,  307,     50.4,  -0.0994,  31.8996,2,  31.9050,2,    357.4,2,   -999.0,9,  -999.00,9,  -999.00,9,  -999.00,9,  -999.00,9,  -999.00,9,  -999.00,9,    1.038,2,  -0.1009,20040926, 413
  32H120040910,   125,  2,    218,     18,2,20040926, 400, 73.4140,-160.5040,  307,    170.8,  -1.7254,  33.1899,2,  33.1916,2,    288.8,2,   -999.0,9,  -999.00,9,  -999.00,9,  -999.00,9,  -999.00,9,  -999.00,9,  -999.00,9,    0.895,2,  -1.7287,20040926, 407
  32H120040910,   125,  2,    223,     23,2,20040926, 400, 73.4140,-160.5040,  307,    170.8,  -1.7274,  33.1870,2,-999.0000,9,    288.7,2,   -999.0,9,  -999.00,9,  -999.00,9,  -999.00,9,  -999.00,9,  -999.00,9,  -999.00,9,    0.892,2,  -1.7306,20040926, 408
  32H120040910,   125,  2,    219,     19,2,20040926, 400, 73.4140,-160.5040,  307,    170.9,  -1.7255,  33.1897,2,-999.0000,9,    288.7,2,   -999.0,9,  -999.00,9,  -999.00,9,  -999.00,9,  -999.00,9,  -999.00,9,  -999.00,9,    0.881,2,  -1.7288,20040926, 407
  32H120040910,   125,  2,    222,     22,2,20040926, 400, 73.4140,-160.5040,  307,    171.1,  -1.7253,  33.1883,2,-999.0000,9,    288.8,2,   -999.0,9,  -999.00,9,  -999.00,9,  -999.00,9,  -999.00,9,  -999.00,9,  -999.00,9,    0.872,2,  -1.7286,20040926, 408
  32H120040910,   125,  2,    220,     20,2,20040926, 400, 73.4140,-160.5040,  307,    171.1,  -1.7256,  33.1899,2,-999.0000,9,    288.7,2,   -999.0,9,  -999.00,9,  -999.00,9,  -999.00,9,  -999.00,9,  -999.00,9,  -999.00,9,    0.858,2,  -1.7289,20040926, 407
  32H120040910,   125,  2,    216,     16,2,20040926, 400, 73.4140,-160.5040,  307,    171.1,  -1.7259,  33.1906,2,-999.0000,9,    288.8,2,   -999.0,9,  -999.00,9,  -999.00,9,  -999.00,9,  -999.00,9,  -999.00,9,  -999.00,9,    0.855,2,  -1.7292,20040926, 407
  32H120040910,   125,  2,    202,      2,2,20040926, 400, 73.4140,-160.5040,  307,    171.1,  -1.7352,  33.1894,2,  33.1863,2,    291.1,2,   -999.0,9,  -999.00,9,  -999.00,9,  -999.00,9,  -999.00,9,  -999.00,9,  -999.00,9,    0.852,2,  -1.7384,20040926, 403
  32H120040910,   125,  2,    221,     21,2,20040926, 400, 73.4140,-160.5040,  307,    171.2,  -1.7251,  33.1897,2,  33.1898,2,    288.7,2,   -999.0,9,  -999.00,9,  -999.00,9,  -999.00,9,  -999.00,9,  -999.00,9,  -999.00,9,    0.884,2,  -1.7284,20040926, 407
  32H120040910,   125,  2,    217,     17,2,20040926, 400, 73.4140,-160.5040,  307,    171.2,  -1.7259,  33.1897,2,-999.0000,9,    288.9,2,   -999.0,9,  -999.00,9,  -999.00,9,  -999.00,9,  -999.00,9,  -999.00,9,  -999.00,9,    0.884,2,  -1.7292,20040926, 407
  32H120040910,   125,  2,    215,     15,2,20040926, 400, 73.4140,-160.5040,  307,    171.2,  -1.7290,  33.1914,2,  33.1963,2,    291.1,2,   -999.0,9,  -999.00,9,  -999.00,9,  -999.00,9,  -999.00,9,  -999.00,9,  -999.00,9,    0.850,2,  -1.7323,20040926, 406
  32H120040910,   125,  2,    204,      4,2,20040926, 400, 73.4140,-160.5040,  307,    171.8,  -1.7291,  33.1926,2,-999.0000,9,    291.8,2,   -999.0,9,  -999.00,9,  -999.00,9,  -999.00,9,  -999.00,9,  -999.00,9,  -999.00,9,    0.878,2,  -1.7324,20040926, 404
  32H120040910,   125,  2,    205,      5,2,20040926, 400, 73.4140,-160.5040,  307,    172.3,  -1.7219,  33.1950,2,  33.1942,2,    291.8,2,   -999.0,9,  -999.00,9,  -999.00,9,  -999.00,9,  -999.00,9,  -999.00,9,  -999.00,9,    0.831,2,  -1.7252,20040926, 404
  32H120040910,   125,  2,    209,      9,2,20040926, 400, 73.4140,-160.5040,  307,    172.4,  -1.7060,  33.1995,2,-999.0000,9,    291.6,2,   -999.0,9,  -999.00,9,  -999.00,9,  -999.00,9,  -999.00,9,  -999.00,9,  -999.00,9,    0.868,2,  -1.7093,20040926, 404
  32H120040910,   125,  2,    203,      3,2,20040926, 400, 73.4140,-160.5040,  307,    172.4,  -1.7187,  33.1947,2,-999.0000,9,    291.1,2,   -999.0,9,  -999.00,9,  -999.00,9,  -999.00,9,  -999.00,9,  -999.00,9,  -999.00,9,    0.881,2,  -1.7220,20040926, 404
  32H120040910,   125,  2,    213,     13,9,20040926, 400, 73.4140,-160.5040,  307,    172.6,  -1.7009,  33.2008,2,-999.0000,9,    291.8,2,   -999.0,9,  -999.00,9,  -999.00,9,  -999.00,9,  -999.00,9,  -999.00,9,  -999.00,9,    0.843,2,  -1.7042,20040926, 405
  32H120040910,   125,  2,    210,     10,2,20040926, 400, 73.4140,-160.5040,  307,    172.7,  -1.7052,  33.2000,2,-999.0000,9,    291.7,2,   -999.0,9,  -999.00,9,  -999.00,9,  -999.00,9,  -999.00,9,  -999.00,9,  -999.00,9,    0.854,2,  -1.7085,20040926, 405
  32H120040910,   125,  2,    208,      8,2,20040926, 400, 73.4140,-160.5040,  307,    172.7,  -1.7070,  33.1997,2,  33.1971,2,    291.7,2,   -999.0,9,  -999.00,9,  -999.00,9,  -999.00,9,  -999.00,9,  -999.00,9,  -999.00,9,    0.848,2,  -1.7103,20040926, 404
  32H120040910,   125,  2,    214,     14,9,20040926, 400, 73.4140,-160.5040,  307,    172.8,  -1.6985,  33.2016,2,-999.0000,9,    291.8,2,   -999.0,9,  -999.00,9,  -999.00,9,  -999.00,9,  -999.00,9,  -999.00,9,  -999.00,9,    0.851,2,  -1.7018,20040926, 405
  32H120040910,   125,  2,    206,      6,2,20040926, 400, 73.4140,-160.5040,  307,    172.9,  -1.7065,  33.1992,2,-999.0000,9,    291.7,2,   -999.0,9,  -999.00,9,  -999.00,9,  -999.00,9,  -999.00,9,  -999.00,9,  -999.00,9,    0.869,2,  -1.7098,20040926, 404
  32H120040910,   125,  2,    207,      7,2,20040926, 400, 73.4140,-160.5040,  307,    173.0,  -1.7013,  33.1993,2,-999.0000,9,    291.7,2,   -999.0,9,  -999.00,9,  -999.00,9,  -999.00,9,  -999.00,9,  -999.00,9,  -999.00,9,    0.850,2,  -1.7046,20040926, 404
  32H120040910,   125,  2,    212,     12,2,20040926, 400, 73.4140,-160.5040,  307,    173.3,  -1.7007,  33.2041,2,-999.0000,9,    291.8,2,   -999.0,9,  -999.00,9,  -999.00,9,  -999.00,9,  -999.00,9,  -999.00,9,  -999.00,9,    0.855,2,  -1.7040,20040926, 405
  32H120040910,   125,  2,    211,     11,2,20040926, 400, 73.4140,-160.5040,  307,    173.4,  -1.7005,  33.2037,2,  33.2000,2,    291.7,2,   -999.0,9,  -999.00,9,  -999.00,9,  -999.00,9,  -999.00,9,  -999.00,9,  -999.00,9,    0.868,2,  -1.7038,20040926, 405
  32H120040910,   125,  2,    201,      1,2,20040926, 400, 73.4140,-160.5040,  307,    250.4,  -0.0223,  34.5581,2,  34.5581,2,    270.3,2,   -999.0,9,  -999.00,9,  -999.00,9,  -999.00,9,  -999.00,9,  -999.00,9,  -999.00,9,    0.622,2,  -0.0316,20040926, 400
  32H120040910,   126,  1,    115,     15,2,20040926, 509, 73.3908,-160.4967,  308,      9.6,   2.3009,  27.6992,2,  27.7090,2,    336.7,2,    347.3,2,     3.20,2,     0.12,2,     0.00,2,     0.39,2,     0.43,2,     0.11,2,    1.310,2,   2.3005,20040926, 537
  32H120040910,   126,  1,    114,     14,2,20040926, 509, 73.3908,-160.4967,  308,     19.7,   0.5607,  29.4272,2,-999.0000,9,    377.2,2,   -999.0,9,     3.59,2,     0.07,2,     0.00,2,     0.56,2,     0.20,2,     0.12,2,    1.285,2,   0.5601,20040926, 536
  32H120040910,   126,  1,    113,     13,2,20040926, 509, 73.3908,-160.4967,  308,     29.7,   0.4468,  29.7716,2,  29.8205,2,    381.2,2,    391.9,2,     3.78,2,     0.00,2,     0.00,2,     0.62,2,     0.23,2,     0.09,2,    1.204,2,   0.4459,20040926, 534
  32H120040910,   126,  1,    112,     12,2,20040926, 509, 73.3908,-160.4967,  308,     39.8,   3.0780,  31.1941,2,-999.0000,9,    344.4,2,   -999.0,9,     6.57,2,     0.21,2,     0.11,2,     0.69,2,     0.54,2,     0.23,2,    1.501,2,   3.0758,20040926, 533
  32H120040910,   126,  1,    111,     11,2,20040926, 509, 73.3908,-160.4967,  308,     50.1,  -0.3224,  31.6988,2,  31.7063,2,    345.7,2,    365.6,2,     9.96,2,     2.57,2,     0.13,2,     0.85,2,     0.19,2,     0.12,2,    1.196,2,  -0.3238,20040926, 531
  32H120040910,   126,  1,    110,     10,2,20040926, 509, 73.3908,-160.4967,  308,     60.7,  -0.8358,  32.0160,2,-999.0000,9,    330.5,2,   -999.0,9,    14.78,2,     5.88,2,     0.15,2,     1.16,2,     0.09,2,     0.09,2,    1.004,2,  -0.8372,20040926, 530
  32H120040910,   126,  1,    109,      9,2,20040926, 509, 73.3908,-160.4967,  308,     80.2,  -1.2632,  32.4015,2,-999.0000,9,    318.0,2,   -999.0,9,    23.50,2,     9.22,2,     0.18,2,     1.40,2,     0.03,2,     0.04,2,    0.826,2,  -1.2649,20040926, 528
  32H120040910,   126,  1,    108,      8,2,20040926, 509, 73.3908,-160.4967,  308,    111.5,  -1.5256,  32.7800,2,  32.7860,2,    301.5,2,    312.8,2,    32.32,2,    12.09,2,     0.14,2,     1.73,2,  -999.00,9,  -999.00,9,    0.815,2,  -1.5278,20040926, 525
  32H120040910,   126,  1,    107,      7,2,20040926, 509, 73.3908,-160.4967,  308,    130.3,  -1.6347,  33.0164,2,-999.0000,9,    291.4,2,   -999.0,9,    38.52,2,    13.80,2,     0.12,2,     1.84,2,  -999.00,9,  -999.00,9,    0.842,2,  -1.6372,20040926, 523
  32H120040910,   126,  1,    106,      6,2,20040926, 509, 73.3908,-160.4967,  308,    150.8,  -1.6688,  33.1374,2,  33.1367,2,    291.0,2,    302.6,2,    46.16,2,    16.26,2,     0.12,2,     1.94,2,  -999.00,9,  -999.00,9,    0.854,2,  -1.6717,20040926, 521
  32H120040910,   126,  1,    105,      5,2,20040926, 509, 73.3908,-160.4967,  308,    170.9,  -1.6850,  33.2557,2,  33.2538,2,    290.1,2,    301.5,2,    49.63,2,    17.63,2,     0.10,2,     1.99,2,     0.01,2,     0.05,2,    0.836,2,  -1.6883,20040926, 518
  32H120040910,   126,  1,    104,      4,2,20040926, 509, 73.3908,-160.4967,  308,    190.4,  -1.2472,  33.8271,2,-999.0000,9,    270.3,2,   -999.0,9,    29.95,2,    14.38,2,     0.04,2,     1.64,2,     0.01,2,     0.03,2,    0.684,2,  -1.2519,20040926, 516
  32H120040910,   126,  1,    103,      3,2,20040926, 509, 73.3908,-160.4967,  308,    219.8,  -0.5279,  34.3730,2,  34.3731,2,    265.5,2,    274.2,2,    18.29,2,    13.26,2,     0.04,2,     1.23,2,  -999.00,9,  -999.00,9,    0.676,2,  -0.5350,20040926, 514
  32H120040910,   126,  1,    102,      2,2,20040926, 509, 73.3908,-160.4967,  308,    260.2,   0.2797,  34.6508,2,-999.0000,9,    271.7,2,   -999.0,9,    11.14,2,    12.59,2,     0.04,2,     0.98,2,  -999.00,9,  -999.00,9,    0.635,2,   0.2693,20040926, 511
  32H120040910,   126,  1,    101,      1,2,20040926, 509, 73.3908,-160.4967,  308,    302.9,   0.6681,  34.7557,2,  34.7583,2,    278.4,2,    287.2,2,     8.83,2,    12.44,2,     0.04,2,     0.91,2,  -999.00,9,  -999.00,9,    0.607,2,   0.6549,20040926, 509
  32H120040910,   127,  1,    115,     15,2,20040926, 643, 73.3618,-160.4962,  306,     10.3,   2.0458,  27.7869,2,  27.8218,2,    343.3,2,    353.7,2,     2.92,2,     0.08,2,     0.00,2,     0.48,2,     0.31,2,     0.13,2,    1.253,2,   2.0454,20040926, 709
  32H120040910,   127,  1,    114,     14,2,20040926, 643, 73.3618,-160.4962,  306,     20.4,  -0.7155,  29.2915,2,-999.0000,9,    382.7,2,   -999.0,9,  -999.00,9,  -999.00,9,  -999.00,9,  -999.00,9,     0.17,2,     0.10,2,    0.994,2,  -0.7159,20040926, 707
  32H120040910,   127,  1,    113,     13,2,20040926, 643, 73.3618,-160.4962,  306,     29.8,   2.1623,  30.9456,2,  31.1314,2,    342.1,2,    353.9,2,     6.20,2,     0.22,2,     0.07,2,     0.75,2,     0.57,2,     0.25,2,    1.572,2,   2.1609,20040926, 706
  32H120040910,   127,  1,    112,     12,2,20040926, 643, 73.3618,-160.4962,  306,     40.8,   1.5536,  31.5356,2,-999.0000,9,    360.7,2,   -999.0,9,  -999.00,9,  -999.00,9,  -999.00,9,  -999.00,9,     0.49,2,     0.19,2,    1.434,2,   1.5518,20040926, 705
  32H120040910,   127,  1,    111,     11,2,20040926, 643, 73.3618,-160.4962,  306,     50.8,   0.1553,  31.8914,2,  31.8912,2,    347.1,2,    358.8,2,    10.40,2,     3.39,2,     0.23,2,     1.13,2,     0.07,2,     0.23,2,    1.083,2,   0.1537,20040926, 703
  32H120040910,   127,  1,    110,     10,2,20040926, 643, 73.3618,-160.4962,  306,     61.0,  -0.9021,  32.0833,2,-999.0000,9,    322.7,2,   -999.0,9,  -999.00,9,  -999.00,9,  -999.00,9,  -999.00,9,     0.10,2,     0.08,2,    1.034,2,  -0.9035,20040926, 702
  32H120040910,   127,  1,    109,      9,2,20040926, 643, 73.3618,-160.4962,  306,     79.7,  -1.2548,  32.3908,2,-999.0000,9,    317.6,2,   -999.0,9,    22.97,2,     9.13,2,     0.15,2,     1.57,2,     0.07,2,     0.05,2,    0.857,2,  -1.2564,20040926, 700
  32H120040910,   127,  1,    108,      8,2,20040926, 643, 73.3618,-160.4962,  306,    110.3,  -1.4935,  32.7631,2,  32.7701,2,    297.2,2,    308.1,2,    29.94,2,    12.19,2,     0.11,2,     1.73,2,  -999.00,9,  -999.00,9,    0.757,2,  -1.4957,20040926, 657
  32H120040910,   127,  1,    107,      7,2,20040926, 643, 73.3618,-160.4962,  306,    131.0,  -1.5857,  33.0024,2,-999.0000,9,    291.9,2,   -999.0,9,    35.11,2,    13.17,2,     0.10,2,     1.85,2,  -999.00,9,  -999.00,9,    0.789,2,  -1.5883,20040926, 655
  32H120040910,   127,  1,    106,      6,2,20040926, 643, 73.3618,-160.4962,  306,    150.3,  -1.6793,  33.1548,2,  33.1565,2,    288.9,2,    300.9,2,    48.35,2,    16.91,2,     0.08,2,     2.17,2,     0.02,2,     0.11,2,    0.878,2,  -1.6822,20040926, 653
  32H120040910,   127,  1,    105,      5,2,20040926, 643, 73.3618,-160.4962,  306,    170.0,  -1.4275,  33.4055,2,  33.4070,2,    287.6,2,    296.5,2,    32.47,2,    13.07,2,     0.11,2,     1.74,2,  -999.00,9,  -999.00,9,    0.763,2,  -1.4312,20040926, 651
  32H120040910,   127,  1,    104,      4,2,20040926, 643, 73.3618,-160.4962,  306,    191.6,  -1.2054,  33.9447,2,-999.0000,9,    272.6,2,   -999.0,9,    27.08,2,    13.91,2,     0.03,2,     1.52,2,  -999.00,9,  -999.00,9,    0.728,2,  -1.2102,20040926, 649
  32H120040910,   127,  1,    103,      3,2,20040926, 643, 73.3618,-160.4962,  306,    220.4,  -0.3913,  34.4372,2,  34.4361,2,    265.5,2,    274.3,2,    16.14,2,    12.99,2,     0.03,2,     1.13,2,  -999.00,9,  -999.00,9,    0.618,2,  -0.3987,20040926, 647
  32H120040910,   127,  1,    102,      2,2,20040926, 643, 73.3618,-160.4962,  306,    260.8,   0.3144,  34.6602,2,-999.0000,9,    271.5,2,   -999.0,9,    10.47,2,    12.46,2,     0.03,2,     0.94,2,  -999.00,9,  -999.00,9,    0.654,2,   0.3039,20040926, 645
  32H120040910,   127,  1,    101,      1,2,20040926, 643, 73.3618,-160.4962,  306,    300.8,   0.7343,  34.7784,2,  34.7802,2,    279.3,2,    289.0,2,     7.95,2,    12.36,2,     0.03,2,     0.87,2,  -999.00,9,  -999.00,9,    0.586,2,   0.7210,20040926, 643