BOTTLE,20220815CCHSIOAMB
EXPOCODE,STNNBR,CASTNO,SAMPNO,BTLNBR,BTLNBR_FLAG_W,DATE,TIME,LATITUDE,LONGITUDE,DEPTH,CTDPRS,CTDTMP,CTDSAL,CTDSAL_FLAG_W,SALNTY,SALNTY_FLAG_W,CTDOXY,CTDOXY_FLAG_W,OXYGEN,OXYGEN_FLAG_W,SILCAT,SILCAT_FLAG_W,NITRAT,NITRAT_FLAG_W,NITRIT,NITRIT_FLAG_W,PHSPHT,PHSPHT_FLAG_W,CHLORA,CHLORA_FLAG_W,PHAEO,PHAEO_FLAG_W,FLUORO,FLUORO_FLAG_W,THETA,BTL_DATE,BTL_TIME
,,,,,,,,,,METERS,DBAR,ITS-90,PSS-78,,PSS-78,,UMOL/KG,,UMOL/KG,,UMOL/KG,,UMOL/KG,,UMOL/KG,,UMOL/KG,,UG/L,,UG/L,,VOLTS,,DEG C,,
  32H120040910,   127,  2,    222,     22,2,20040926, 852, 73.3618,-160.4962,  306,     49.8,  -0.4382,  31.6994,2,  31.7942,2,    346.4,2,   -999.0,9,  -999.00,9,  -999.00,9,  -999.00,9,  -999.00,9,  -999.00,9,  -999.00,9,    1.255,2,  -0.4395,20040926, 904
  32H120040910,   127,  2,    204,      4,2,20040926, 852, 73.3618,-160.4962,  306,    147.0,  -1.6592,  33.1363,2,-999.0000,9,    291.8,2,   -999.0,9,  -999.00,9,  -999.00,9,  -999.00,9,  -999.00,9,  -999.00,9,  -999.00,9,    0.862,2,  -1.6620,20040926, 858
  32H120040910,   127,  2,    215,     15,2,20040926, 852, 73.3618,-160.4962,  306,    147.2,  -1.6608,  33.1386,2,-999.0000,9,    292.1,2,   -999.0,9,  -999.00,9,  -999.00,9,  -999.00,9,  -999.00,9,  -999.00,9,  -999.00,9,    0.824,2,  -1.6636,20040926, 900
  32H120040910,   127,  2,    211,     11,2,20040926, 852, 73.3618,-160.4962,  306,    147.2,  -1.6622,  33.1375,2,-999.0000,9,    291.8,2,   -999.0,9,  -999.00,9,  -999.00,9,  -999.00,9,  -999.00,9,  -999.00,9,  -999.00,9,    0.858,2,  -1.6650,20040926, 859
  32H120040910,   127,  2,    210,     10,2,20040926, 852, 73.3618,-160.4962,  306,    147.2,  -1.6629,  33.1376,2,-999.0000,9,    292.1,2,   -999.0,9,  -999.00,9,  -999.00,9,  -999.00,9,  -999.00,9,  -999.00,9,  -999.00,9,    0.855,2,  -1.6657,20040926, 859
  32H120040910,   127,  2,    209,      9,2,20040926, 852, 73.3618,-160.4962,  306,    147.2,  -1.6630,  33.1389,2,-999.0000,9,    291.8,2,   -999.0,9,  -999.00,9,  -999.00,9,  -999.00,9,  -999.00,9,  -999.00,9,  -999.00,9,    0.853,2,  -1.6658,20040926, 859
  32H120040910,   127,  2,    208,      8,2,20040926, 852, 73.3618,-160.4962,  306,    147.2,  -1.6638,  33.1387,2,  33.1387,2,    292.0,2,   -999.0,9,  -999.00,9,  -999.00,9,  -999.00,9,  -999.00,9,  -999.00,9,  -999.00,9,    0.856,2,  -1.6666,20040926, 859
  32H120040910,   127,  2,    203,      3,2,20040926, 852, 73.3618,-160.4962,  306,    147.2,  -1.6643,  33.1393,2,-999.0000,9,    291.6,2,   -999.0,9,  -999.00,9,  -999.00,9,  -999.00,9,  -999.00,9,  -999.00,9,  -999.00,9,    0.809,2,  -1.6671,20040926, 858
  32H120040910,   127,  2,    214,     14,2,20040926, 852, 73.3618,-160.4962,  306,    147.2,  -1.6682,  33.1394,2,  33.1389,2,    291.9,2,   -999.0,9,  -999.00,9,  -999.00,9,  -999.00,9,  -999.00,9,  -999.00,9,  -999.00,9,    0.848,2,  -1.6710,20040926, 900
  32H120040910,   127,  2,    205,      5,2,20040926, 852, 73.3618,-160.4962,  306,    147.3,  -1.6647,  33.1373,2,  33.1412,2,    291.5,2,   -999.0,9,  -999.00,9,  -999.00,9,  -999.00,9,  -999.00,9,  -999.00,9,  -999.00,9,    0.847,2,  -1.6675,20040926, 859
  32H120040910,   127,  2,    221,     21,2,20040926, 852, 73.3618,-160.4962,  306,    147.3,  -1.6653,  33.1390,2,-999.0000,9,    291.7,2,   -999.0,9,  -999.00,9,  -999.00,9,  -999.00,9,  -999.00,9,  -999.00,9,  -999.00,9,    0.840,2,  -1.6681,20040926, 900
  32H120040910,   127,  2,    206,      6,2,20040926, 852, 73.3618,-160.4962,  306,    147.3,  -1.6654,  33.1386,2,-999.0000,9,    291.6,2,   -999.0,9,  -999.00,9,  -999.00,9,  -999.00,9,  -999.00,9,  -999.00,9,  -999.00,9,    0.860,2,  -1.6682,20040926, 859
  32H120040910,   127,  2,    218,     18,2,20040926, 852, 73.3618,-160.4962,  306,    147.3,  -1.6658,  33.1393,2,-999.0000,9,    291.7,2,   -999.0,9,  -999.00,9,  -999.00,9,  -999.00,9,  -999.00,9,  -999.00,9,  -999.00,9,    0.852,2,  -1.6686,20040926, 900
  32H120040910,   127,  2,    219,     19,2,20040926, 852, 73.3618,-160.4962,  306,    147.3,  -1.6666,  33.1385,2,-999.0000,9,    291.8,2,   -999.0,9,  -999.00,9,  -999.00,9,  -999.00,9,  -999.00,9,  -999.00,9,  -999.00,9,    0.840,2,  -1.6694,20040926, 900
  32H120040910,   127,  2,    220,     20,2,20040926, 852, 73.3618,-160.4962,  306,    147.3,  -1.6680,  33.1386,2,  33.1393,2,    291.7,2,   -999.0,9,  -999.00,9,  -999.00,9,  -999.00,9,  -999.00,9,  -999.00,9,  -999.00,9,    0.854,2,  -1.6708,20040926, 900
  32H120040910,   127,  2,    207,      7,2,20040926, 852, 73.3618,-160.4962,  306,    147.3,  -1.6707,  33.1395,2,-999.0000,9,    291.7,2,   -999.0,9,  -999.00,9,  -999.00,9,  -999.00,9,  -999.00,9,  -999.00,9,  -999.00,9,    0.802,2,  -1.6735,20040926, 859
  32H120040910,   127,  2,    213,     13,2,20040926, 852, 73.3618,-160.4962,  306,    147.4,  -1.6730,  33.1396,2,-999.0000,9,    291.9,2,   -999.0,9,  -999.00,9,  -999.00,9,  -999.00,9,  -999.00,9,  -999.00,9,  -999.00,9,    0.830,2,  -1.6758,20040926, 900
  32H120040910,   127,  2,    212,     12,2,20040926, 852, 73.3618,-160.4962,  306,    147.4,  -1.6759,  33.1399,2,-999.0000,9,    291.7,2,   -999.0,9,  -999.00,9,  -999.00,9,  -999.00,9,  -999.00,9,  -999.00,9,  -999.00,9,    0.845,2,  -1.6787,20040926, 859
  32H120040910,   127,  2,    202,      2,2,20040926, 852, 73.3618,-160.4962,  306,    147.5,  -1.6760,  33.1403,2,  33.1457,2,    291.5,2,   -999.0,9,  -999.00,9,  -999.00,9,  -999.00,9,  -999.00,9,  -999.00,9,  -999.00,9,    0.869,2,  -1.6788,20040926, 858
  32H120040910,   127,  2,    216,     16,2,20040926, 852, 73.3618,-160.4962,  306,    147.5,  -1.6860,  33.1408,2,-999.0000,9,    292.0,2,   -999.0,9,  -999.00,9,  -999.00,9,  -999.00,9,  -999.00,9,  -999.00,9,  -999.00,9,    0.827,2,  -1.6888,20040926, 900
  32H120040910,   127,  2,    217,     17,2,20040926, 852, 73.3618,-160.4962,  306,    147.6,  -1.6879,  33.1411,2,  33.1399,2,    292.0,2,   -999.0,9,  -999.00,9,  -999.00,9,  -999.00,9,  -999.00,9,  -999.00,9,  -999.00,9,    0.865,2,  -1.6907,20040926, 900
  32H120040910,   127,  2,    201,      1,2,20040926, 852, 73.3618,-160.4962,  306,    249.5,   0.1999,  34.6276,2,  34.6286,2,    270.5,2,   -999.0,9,  -999.00,9,  -999.00,9,  -999.00,9,  -999.00,9,  -999.00,9,  -999.00,9,    0.635,2,   0.1901,20040926, 852
  32H120040910,   128,  1,    115,     15,2,20040926,1005, 73.3350,-160.4862,  303,      9.6,   2.0507,  27.5961,2,  27.6003,2,    337.9,2,    347.7,2,     2.76,2,     0.13,2,     0.00,2,     0.46,2,     0.39,2,     0.07,2,    1.317,2,   2.0503,20040926,1042
  32H120040910,   128,  1,    114,     14,2,20040926,1005, 73.3350,-160.4862,  303,     20.4,  -0.6685,  29.2099,2,-999.0000,9,    382.9,2,   -999.0,9,  -999.00,9,  -999.00,9,  -999.00,9,  -999.00,9,     0.17,2,     0.05,2,    1.010,2,  -0.6689,20040926,1039
  32H120040910,   128,  1,    113,     13,2,20040926,1005, 73.3350,-160.4862,  303,     30.6,   0.4492,  30.3555,2,  33.1705,0,    354.2,2,    381.1,2,     4.43,2,     0.07,2,     0.00,2,     0.69,2,     0.29,2,     0.12,2,    1.303,2,   0.4482,20040926,1037
  32H120040910,   128,  1,    112,     12,2,20040926,1005, 73.3350,-160.4862,  303,     39.8,   0.2586,  31.5730,2,-999.0000,9,    365.4,2,   -999.0,9,  -999.00,9,  -999.00,9,  -999.00,9,  -999.00,9,     0.61,2,     0.23,2,    1.268,2,   0.2573,20040926,1035
  32H120040910,   128,  1,    111,     11,2,20040926,1005, 73.3350,-160.4862,  303,     49.9,  -0.2636,  31.8869,2,  31.8747,2,    345.4,2,    357.4,2,    11.05,2,     3.50,2,     0.23,2,     1.12,2,     0.10,2,     0.14,2,    1.133,2,  -0.2650,20040926,1033
  32H120040910,   128,  1,    110,     10,9,20040926,1005, 73.3350,-160.4862,  303,     60.5,  -0.7372,  32.1108,2,-999.0000,9,    343.6,2,   -999.0,9,  -999.00,9,  -999.00,9,  -999.00,9,  -999.00,9,  -999.00,9,  -999.00,9,    0.979,2,  -0.7387,20040926,1030
  32H120040910,   128,  1,    109,      9,2,20040926,1005, 73.3350,-160.4862,  303,     80.7,  -1.3246,  32.4759,2,-999.0000,9,    308.1,2,   -999.0,9,    23.61,2,     9.50,2,     0.14,2,     1.59,2,  -999.00,9,  -999.00,9,    0.769,2,  -1.3262,20040926,1028
  32H120040910,   128,  1,    108,      8,2,20040926,1005, 73.3350,-160.4862,  303,    110.1,  -1.5220,  32.7699,2,  32.7626,2,    292.9,2,    304.0,2,    30.80,2,    12.57,2,     0.10,2,     1.75,2,  -999.00,9,  -999.00,9,    0.974,2,  -1.5241,20040926,1025
  32H120040910,   128,  1,    107,      7,2,20040926,1005, 73.3350,-160.4862,  303,    132.0,  -1.5703,  33.0222,2,-999.0000,9,    284.0,2,   -999.0,9,    35.56,2,    13.83,2,     0.10,2,     1.86,2,  -999.00,9,  -999.00,9,    0.814,2,  -1.5729,20040926,1023
  32H120040910,   128,  1,    106,      6,2,20040926,1005, 73.3350,-160.4862,  303,    152.0,  -1.5688,  33.2315,2,  33.2251,2,    289.4,2,    299.1,2,    40.35,2,    15.19,2,     0.09,2,     1.96,2,     0.03,2,     0.08,2,    0.844,2,  -1.5719,20040926,1019
  32H120040910,   128,  1,    105,      5,2,20040926,1005, 73.3350,-160.4862,  303,    172.5,  -1.3263,  33.7281,2,  33.7158,2,    277.3,2,    287.3,2,    21.99,2,    13.30,2,     0.03,2,     1.31,2,  -999.00,9,  -999.00,9,    0.710,2,  -1.3304,20040926,1017
  32H120040910,   128,  1,    104,      4,2,20040926,1005, 73.3350,-160.4862,  303,    193.1,  -0.9346,  34.1743,2,-999.0000,9,    266.8,2,   -999.0,9,    29.39,2,    13.84,2,     0.07,2,     1.60,2,  -999.00,9,  -999.00,9,    0.669,2,  -0.9400,20040926,1014
  32H120040910,   128,  1,    103,      3,2,20040926,1005, 73.3350,-160.4862,  303,    222.1,  -0.2156,  34.5019,2,  34.5011,2,    267.0,2,    274.5,2,    14.76,2,    12.86,2,     0.03,2,     1.07,2,  -999.00,9,  -999.00,9,    0.646,2,  -0.2234,20040926,1010
  32H120040910,   128,  1,    102,      2,2,20040926,1005, 73.3350,-160.4862,  303,    259.1,   0.4350,  34.6931,2,-999.0000,9,    273.5,2,   -999.0,9,     9.90,2,    12.48,2,     0.03,2,     0.92,2,  -999.00,9,  -999.00,9,    0.633,2,   0.4243,20040926,1007
  32H120040910,   128,  1,    101,      1,2,20040926,1005, 73.3350,-160.4862,  303,    297.7,   0.7635,  34.7830,2,  34.7854,2,    281.2,2,    290.8,2,     7.68,2,    12.23,2,     0.03,2,     0.87,2,  -999.00,9,  -999.00,9,    0.567,2,   0.7502,20040926,1005
  32H120040910,   129,  1,    115,     15,2,20040926,1202, 73.3070,-160.4965,  300,     10.0,  -0.5090,  29.3817,2,  29.4727,2,    381.6,2,    393.9,2,     3.29,2,     0.13,2,     0.00,2,     0.66,2,     0.13,2,     0.07,2,    0.993,2,  -0.5092,20040926,1230
  32H120040910,   129,  1,    114,     14,2,20040926,1202, 73.3070,-160.4965,  300,     20.1,   1.0098,  31.0256,2,-999.0000,9,    365.1,2,   -999.0,9,  -999.00,9,  -999.00,9,  -999.00,9,  -999.00,9,     0.44,2,     0.17,2,    1.414,2,   1.0091,20040926,1229
  32H120040910,   129,  1,    113,     13,2,20040926,1202, 73.3070,-160.4965,  300,     30.0,   1.6083,  31.5480,2,  31.5051,2,    361.6,2,    371.4,2,     7.08,2,     0.47,2,     0.12,2,     0.86,2,     0.56,2,     0.17,2,    1.437,2,   1.6070,20040926,1228
  32H120040910,   129,  1,    112,     12,2,20040926,1202, 73.3070,-160.4965,  300,     39.4,   0.3180,  31.8238,2,-999.0000,9,    355.0,2,   -999.0,9,  -999.00,9,  -999.00,9,  -999.00,9,  -999.00,9,     0.15,2,     0.12,2,    1.132,2,   0.3167,20040926,1226
  32H120040910,   129,  1,    111,     11,2,20040926,1202, 73.3070,-160.4965,  300,     49.3,  -0.3584,  32.0157,2,  32.0223,2,    346.5,2,    354.1,2,    12.29,2,     4.54,2,     0.13,2,     1.21,2,  -999.00,9,  -999.00,9,    0.997,2,  -0.3598,20040926,1225
  32H120040910,   129,  1,    110,     10,9,20040926,1202, 73.3070,-160.4965,  300,     60.3,  -1.1483,  32.2006,2,-999.0000,9,    317.4,2,   -999.0,9,  -999.00,9,  -999.00,9,  -999.00,9,  -999.00,9,  -999.00,9,  -999.00,9,    0.944,2,  -1.1496,20040926,1224
  32H120040910,   129,  1,    109,      9,2,20040926,1202, 73.3070,-160.4965,  300,     80.6,  -0.8255,  32.5542,2,-999.0000,9,    302.1,2,   -999.0,9,    25.50,2,     9.45,2,     0.34,2,     1.88,2,     0.20,2,     0.10,2,    1.088,2,  -0.8275,20040926,1222
  32H120040910,   129,  1,    108,      8,2,20040926,1202, 73.3070,-160.4965,  300,    108.4,  -1.4889,  32.6983,2,  32.6974,2,    301.4,2,    312.4,2,    33.32,2,    12.05,2,     0.15,2,     1.85,2,  -999.00,9,  -999.00,9,    0.897,2,  -1.4910,20040926,1219
  32H120040910,   129,  1,    107,      7,2,20040926,1202, 73.3070,-160.4965,  300,    129.9,  -1.5299,  33.0013,2,-999.0000,9,    282.6,2,   -999.0,9,    34.02,2,    14.16,2,     0.08,2,     1.84,2,  -999.00,9,  -999.00,9,    0.752,2,  -1.5325,20040926,1217
  32H120040910,   129,  1,    106,      6,2,20040926,1202, 73.3070,-160.4965,  300,    148.9,  -1.5721,  33.2725,2,  33.2861,2,    289.9,2,    300.1,2,    40.90,2,    14.83,2,     0.09,2,     1.96,2,     0.03,2,     0.09,2,    0.870,2,  -1.5751,20040926,1215
  32H120040910,   129,  1,    105,      5,2,20040926,1202, 73.3070,-160.4965,  300,    170.9,  -1.2631,  33.8527,2,  33.8599,2,    289.9,2,    298.1,2,    25.82,2,    12.36,2,     0.12,2,     1.51,2,  -999.00,9,  -999.00,9,    0.752,2,  -1.2673,20040926,1214
  32H120040910,   129,  1,    104,      4,2,20040926,1202, 73.3070,-160.4965,  300,    194.0,  -0.7489,  34.2823,2,-999.0000,9,    265.7,2,   -999.0,9,    19.07,2,    13.18,2,     0.03,2,     1.24,2,  -999.00,9,  -999.00,9,    0.690,2,  -0.7547,20040926,1208
  32H120040910,   129,  1,    103,      3,2,20040926,1202, 73.3070,-160.4965,  300,    222.4,   0.0327,  34.5819,2,  34.5803,2,    267.4,2,    276.1,2,    12.77,2,    12.69,2,     0.03,2,     1.02,2,  -999.00,9,  -999.00,9,    0.655,2,   0.0244,20040926,1206
  32H120040910,   129,  1,    102,      2,2,20040926,1202, 73.3070,-160.4965,  300,    257.1,   0.6089,  34.7410,2,-999.0000,9,    276.9,2,   -999.0,9,     8.74,2,    12.35,2,     0.03,2,     0.90,2,  -999.00,9,  -999.00,9,    0.636,2,   0.5979,20040926,1204
  32H120040910,   129,  1,    101,      1,2,20040926,1202, 73.3070,-160.4965,  300,    295.5,   0.7815,  34.7912,2,  34.7941,2,    280.8,2,    289.9,2,     7.82,2,    12.30,2,     0.03,2,     0.88,2,  -999.00,9,  -999.00,9,    0.565,2,   0.7683,20040926,1202
  32H120040910,   129,  2,    222,     22,2,20040926,1442, 73.3070,-160.4965,  300,     52.0,  -0.0093,  31.9822,2,  31.9657,2,    367.8,2,   -999.0,9,  -999.00,9,  -999.00,9,  -999.00,9,  -999.00,9,  -999.00,9,  -999.00,9,    0.942,2,  -0.0109,20040926,1454
  32H120040910,   129,  2,    219,     19,2,20040926,1442, 73.3070,-160.4965,  300,    145.2,  -1.6075,  33.2067,2,-999.0000,9,    290.6,2,   -999.0,9,  -999.00,9,  -999.00,9,  -999.00,9,  -999.00,9,  -999.00,9,  -999.00,9,    0.843,2,  -1.6104,20040926,1450
  32H120040910,   129,  2,    211,     11,2,20040926,1442, 73.3070,-160.4965,  300,    145.4,  -1.6213,  33.2139,2,-999.0000,9,    288.0,2,   -999.0,9,  -999.00,9,  -999.00,9,  -999.00,9,  -999.00,9,  -999.00,9,  -999.00,9,    0.868,2,  -1.6242,20040926,1449
  32H120040910,   129,  2,    218,     18,2,20040926,1442, 73.3070,-160.4965,  300,    145.6,  -1.6097,  33.2087,2,  33.2081,2,    288.7,2,   -999.0,9,  -999.00,9,  -999.00,9,  -999.00,9,  -999.00,9,  -999.00,9,  -999.00,9,    0.877,2,  -1.6126,20040926,1450
  32H120040910,   129,  2,    212,     12,2,20040926,1442, 73.3070,-160.4965,  300,    145.6,  -1.6192,  33.2115,2,-999.0000,9,    288.5,2,   -999.0,9,  -999.00,9,  -999.00,9,  -999.00,9,  -999.00,9,  -999.00,9,  -999.00,9,    0.868,2,  -1.6221,20040926,1449
  32H120040910,   129,  2,    220,     20,2,20040926,1442, 73.3070,-160.4965,  300,    145.7,  -1.6092,  33.2084,2,-999.0000,9,    290.9,2,   -999.0,9,  -999.00,9,  -999.00,9,  -999.00,9,  -999.00,9,  -999.00,9,  -999.00,9,    0.845,2,  -1.6121,20040926,1450
  32H120040910,   129,  2,    214,     14,2,20040926,1442, 73.3070,-160.4965,  300,    145.7,  -1.6160,  33.2079,2,  33.2097,2,    289.7,2,   -999.0,9,  -999.00,9,  -999.00,9,  -999.00,9,  -999.00,9,  -999.00,9,  -999.00,9,    0.842,2,  -1.6189,20040926,1449
  32H120040910,   129,  2,    213,     13,2,20040926,1442, 73.3070,-160.4965,  300,    145.8,  -1.6179,  33.2099,2,-999.0000,9,    288.8,2,   -999.0,9,  -999.00,9,  -999.00,9,  -999.00,9,  -999.00,9,  -999.00,9,  -999.00,9,    0.899,2,  -1.6208,20040926,1449
  32H120040910,   129,  2,    221,     21,2,20040926,1442, 73.3070,-160.4965,  300,    146.1,  -1.6088,  33.2132,2,-999.0000,9,    290.7,2,   -999.0,9,  -999.00,9,  -999.00,9,  -999.00,9,  -999.00,9,  -999.00,9,  -999.00,9,    0.817,2,  -1.6117,20040926,1450
  32H120040910,   129,  2,    215,     15,2,20040926,1442, 73.3070,-160.4965,  300,    146.3,  -1.6099,  33.2106,2,-999.0000,9,    290.7,2,   -999.0,9,  -999.00,9,  -999.00,9,  -999.00,9,  -999.00,9,  -999.00,9,  -999.00,9,    0.865,2,  -1.6128,20040926,1450
  32H120040910,   129,  2,    217,     17,2,20040926,1442, 73.3070,-160.4965,  300,    146.3,  -1.6136,  33.2125,2,-999.0000,9,    290.6,2,   -999.0,9,  -999.00,9,  -999.00,9,  -999.00,9,  -999.00,9,  -999.00,9,  -999.00,9,    0.844,2,  -1.6165,20040926,1450
  32H120040910,   129,  2,    202,      2,2,20040926,1442, 73.3070,-160.4965,  300,    146.6,  -1.6203,  33.2100,2,  33.2078,2,    288.4,2,   -999.0,9,  -999.00,9,  -999.00,9,  -999.00,9,  -999.00,9,  -999.00,9,  -999.00,9,    0.905,2,  -1.6232,20040926,1448
  32H120040910,   129,  2,    208,      8,2,20040926,1442, 73.3070,-160.4965,  300,    146.6,  -1.6265,  33.2132,2,-999.0000,9,    287.2,2,   -999.0,9,  -999.00,9,  -999.00,9,  -999.00,9,  -999.00,9,  -999.00,9,  -999.00,9,    0.857,2,  -1.6294,20040926,1449
  32H120040910,   129,  2,    216,     16,2,20040926,1442, 73.3070,-160.4965,  300,    146.7,  -1.6136,  33.2138,2,-999.0000,9,    291.8,2,   -999.0,9,  -999.00,9,  -999.00,9,  -999.00,9,  -999.00,9,  -999.00,9,  -999.00,9,    0.871,2,  -1.6165,20040926,1450
  32H120040910,   129,  2,    210,     10,3,20040926,1442, 73.3070,-160.4965,  300,    146.7,  -1.6244,  33.2129,2,-999.0000,9,    287.6,2,   -999.0,9,  -999.00,9,  -999.00,9,  -999.00,9,  -999.00,9,  -999.00,9,  -999.00,9,    0.873,2,  -1.6273,20040926,1449
  32H120040910,   129,  2,    207,      7,2,20040926,1442, 73.3070,-160.4965,  300,    146.8,  -1.6307,  33.2134,2,-999.0000,9,    287.8,2,   -999.0,9,  -999.00,9,  -999.00,9,  -999.00,9,  -999.00,9,  -999.00,9,  -999.00,9,    0.858,2,  -1.6336,20040926,1448
  32H120040910,   129,  2,    209,      9,2,20040926,1442, 73.3070,-160.4965,  300,    146.9,  -1.6256,  33.2140,2,  33.2140,2,    287.1,2,   -999.0,9,  -999.00,9,  -999.00,9,  -999.00,9,  -999.00,9,  -999.00,9,  -999.00,9,    0.878,2,  -1.6285,20040926,1449
  32H120040910,   129,  2,    206,      6,2,20040926,1442, 73.3070,-160.4965,  300,    147.0,  -1.6305,  33.2133,2,  33.2140,2,    287.7,2,   -999.0,9,  -999.00,9,  -999.00,9,  -999.00,9,  -999.00,9,  -999.00,9,  -999.00,9,    0.861,2,  -1.6334,20040926,1448
  32H120040910,   129,  2,    203,      3,2,20040926,1442, 73.3070,-160.4965,  300,    147.2,  -1.6306,  33.2136,2,-999.0000,9,    287.8,2,   -999.0,9,  -999.00,9,  -999.00,9,  -999.00,9,  -999.00,9,  -999.00,9,  -999.00,9,    0.841,2,  -1.6335,20040926,1448
  32H120040910,   129,  2,    205,      5,2,20040926,1442, 73.3070,-160.4965,  300,    147.3,  -1.6314,  33.2145,2,-999.0000,9,    287.2,2,   -999.0,9,  -999.00,9,  -999.00,9,  -999.00,9,  -999.00,9,  -999.00,9,  -999.00,9,    0.860,2,  -1.6343,20040926,1448
  32H120040910,   129,  2,    204,      4,2,20040926,1442, 73.3070,-160.4965,  300,    147.3,  -1.6323,  33.2148,2,-999.0000,9,    287.4,2,   -999.0,9,  -999.00,9,  -999.00,9,  -999.00,9,  -999.00,9,  -999.00,9,  -999.00,9,    0.869,2,  -1.6352,20040926,1448
  32H120040910,   129,  2,    201,      1,2,20040926,1442, 73.3070,-160.4965,  300,    252.7,   0.4796,  34.7024,2,  34.7001,2,    274.2,2,   -999.0,9,  -999.00,9,  -999.00,9,  -999.00,9,  -999.00,9,  -999.00,9,  -999.00,9,    0.623,2,   0.4691,20040926,1442