BOTTLE,20220815CCHSIOAMB
EXPOCODE,STNNBR,CASTNO,SAMPNO,BTLNBR,BTLNBR_FLAG_W,DATE,TIME,LATITUDE,LONGITUDE,DEPTH,CTDPRS,CTDTMP,CTDSAL,CTDSAL_FLAG_W,SALNTY,SALNTY_FLAG_W,CTDOXY,CTDOXY_FLAG_W,OXYGEN,OXYGEN_FLAG_W,SILCAT,SILCAT_FLAG_W,NITRAT,NITRAT_FLAG_W,NITRIT,NITRIT_FLAG_W,PHSPHT,PHSPHT_FLAG_W,CHLORA,CHLORA_FLAG_W,PHAEO,PHAEO_FLAG_W,FLUORO,FLUORO_FLAG_W,THETA,BTL_DATE,BTL_TIME
,,,,,,,,,,METERS,DBAR,ITS-90,PSS-78,,PSS-78,,UMOL/KG,,UMOL/KG,,UMOL/KG,,UMOL/KG,,UMOL/KG,,UMOL/KG,,UG/L,,UG/L,,VOLTS,,DEG C,,
  32H120040910,    11,  1,    120,     20,2,20040908,1203, 71.6585,-151.8470, 1373,      5.1,   3.6388,  26.3852,2,  27.6009,2,    333.7,2,    352.7,2,     3.92,2,     0.07,2,     0.01,2,     0.51,2,     0.44,2,     0.11,2,    1.264,2,   3.6385,20040908,1308
  32H120040910,    11,  1,    119,     19,2,20040908,1203, 71.6585,-151.8470, 1373,     24.5,   1.4881,  31.1593,2,-999.0000,9,    423.7,2,    410.0,2,     5.09,2,     0.23,2,     0.03,2,     0.77,2,     0.80,2,     0.16,2,    1.741,2,   1.4871,20040908,1306
  32H120040910,    11,  1,    118,     18,2,20040908,1203, 71.6585,-151.8470, 1373,     50.1,  -0.7480,  32.2228,2,-999.0000,9,    351.9,2,    364.1,2,    15.36,2,     4.97,2,     0.18,2,     1.41,2,     0.12,2,     0.09,2,    1.066,2,  -0.7492,20040908,1303
  32H120040910,    11,  1,    117,     17,2,20040908,1203, 71.6585,-151.8470, 1373,     74.8,  -1.5361,  32.7090,2,-999.0000,9,    309.3,2,    321.2,2,    31.76,2,    11.18,2,     0.18,2,     1.85,2,     0.17,2,     0.09,2,    1.078,2,  -1.5375,20040908,1301
  32H120040910,    11,  1,    116,     16,2,20040908,1203, 71.6585,-151.8470, 1373,     99.9,  -1.7118,  32.9715,2,  32.9868,2,    269.0,2,    282.7,2,    48.47,2,    14.83,2,     0.10,2,     2.27,2,     0.19,2,     0.34,2,    1.208,2,  -1.7136,20040908,1259
  32H120040910,    11,  1,    115,     15,2,20040908,1203, 71.6585,-151.8470, 1373,    124.8,  -1.4204,  33.2808,2,-999.0000,9,    268.7,2,    278.6,2,    35.70,2,    14.23,2,     0.08,2,     1.90,2,     0.22,2,     0.16,2,    1.194,2,  -1.4231,20040908,1257
  32H120040910,    11,  1,    114,     14,2,20040908,1203, 71.6585,-151.8470, 1373,    150.0,  -0.9410,  34.0463,2,-999.0000,9,    273.0,2,    282.7,2,    24.11,2,    13.08,2,     0.13,2,     1.48,2,     0.05,2,     0.07,2,    0.816,2,  -0.9451,20040908,1256
  32H120040910,    11,  1,    113,     13,2,20040908,1203, 71.6585,-151.8470, 1373,    175.1,  -0.1968,  34.4972,2,  34.5105,2,    258.4,2,    269.6,2,    18.78,2,    13.15,2,     0.15,2,     1.36,2,     0.06,2,     0.12,2,    0.846,2,  -0.2029,20040908,1253
  32H120040910,    11,  1,    112,     12,2,20040908,1203, 71.6585,-151.8470, 1373,    200.0,   0.2471,  34.6665,2,  34.6662,2,    265.5,2,    276.0,2,    13.11,2,    13.15,2,     0.06,2,     1.09,2,     0.05,2,     0.07,2,    0.709,2,   0.2393,20040908,1251
  32H120040910,    11,  1,    111,     11,2,20040908,1203, 71.6585,-151.8470, 1373,    250.2,   0.5628,  34.7643,2,  34.7672,2,    265.7,2,    277.0,2,    13.41,2,    13.06,2,     0.12,2,     1.12,2,  -999.00,9,  -999.00,9,    0.715,2,   0.5522,20040908,1248
  32H120040910,    11,  1,    110,     10,2,20040908,1203, 71.6585,-151.8470, 1373,    300.1,   0.6641,  34.8009,2,  34.8032,2,    270.2,2,    281.9,2,    11.91,2,    13.00,2,     0.09,2,     1.04,2,  -999.00,9,  -999.00,9,    0.667,2,   0.6510,20040908,1245
  32H120040910,    11,  1,    109,      9,2,20040908,1203, 71.6585,-151.8470, 1373,    400.3,   0.6721,  34.8239,2,  34.8252,2,    273.9,2,   -999.0,9,  -999.00,9,  -999.00,9,  -999.00,9,  -999.00,9,  -999.00,9,  -999.00,9,    0.632,2,   0.6542,20040908,1242
  32H120040910,    11,  1,    108,      8,2,20040908,1203, 71.6585,-151.8470, 1373,    500.6,   0.6307,  34.8381,2,  34.8393,2,    278.5,2,    290.5,2,     9.15,2,    12.75,2,     0.06,2,     0.96,2,  -999.00,9,  -999.00,9,    0.652,2,   0.6080,20040908,1237
  32H120040910,    11,  1,    107,      7,2,20040908,1203, 71.6585,-151.8470, 1373,    601.0,   0.5182,  34.8492,2,  34.8509,2,    280.9,2,   -999.0,9,  -999.00,9,  -999.00,9,  -999.00,9,  -999.00,9,  -999.00,9,  -999.00,9,    0.636,2,   0.4910,20040908,1233
  32H120040910,    11,  1,    106,      6,2,20040908,1203, 71.6585,-151.8470, 1373,    701.4,   0.3864,  34.8581,2,  34.8594,2,    283.0,2,    296.8,2,     7.97,2,    12.66,2,     0.03,2,     0.93,2,  -999.00,9,  -999.00,9,    0.598,2,   0.3548,20040908,1228
  32H120040910,    11,  1,    105,      5,2,20040908,1203, 71.6585,-151.8470, 1373,    801.8,   0.2644,  34.8643,2,  34.8658,2,    283.8,2,   -999.0,9,  -999.00,9,  -999.00,9,  -999.00,9,  -999.00,9,  -999.00,9,  -999.00,9,    0.640,2,   0.2283,20040908,1222
  32H120040910,    11,  1,    104,      4,2,20040908,1203, 71.6585,-151.8470, 1373,    902.2,   0.1486,  34.8703,2,  34.8708,2,    284.4,2,    298.9,2,     7.96,2,    12.69,2,     0.03,2,     0.94,2,  -999.00,9,  -999.00,9,    0.604,2,   0.1081,20040908,1217
  32H120040910,    11,  1,    103,      3,2,20040908,1203, 71.6585,-151.8470, 1373,   1001.4,   0.0368,  34.8769,2,  34.8790,2,    284.7,2,   -999.0,9,  -999.00,9,  -999.00,9,  -999.00,9,  -999.00,9,  -999.00,9,  -999.00,9,    0.644,2,  -0.0082,20040908,1213
  32H120040910,    11,  1,    102,      2,2,20040908,1203, 71.6585,-151.8470, 1373,   1247.0,  -0.1597,  34.8942,2,  34.8957,2,    283.4,2,   -999.0,9,  -999.00,9,  -999.00,9,  -999.00,9,  -999.00,9,  -999.00,9,  -999.00,9,    0.601,2,  -0.2164,20040908,1207
  32H120040910,    11,  1,    101,      1,2,20040908,1203, 71.6585,-151.8470, 1373,   1368.0,  -0.2379,  34.9040,2,  34.9039,2,    282.4,2,    296.1,2,     9.82,2,    13.18,2,     0.05,2,     1.00,2,  -999.00,9,  -999.00,9,    0.678,2,  -0.3008,20040908,1203
  32H120040910,    12,  1,    121,     21,2,20040908,2141, 71.7027,-151.8190, 1595,      7.1,   6.0465,  28.1438,2,-999.0000,9,    319.0,2,    329.9,2,     4.16,2,     0.11,2,     0.00,2,     0.49,2,     0.45,2,     0.15,2,    1.463,2,   6.0460,20040908,2240
  32H120040910,    12,  1,    120,     20,2,20040908,2141, 71.7027,-151.8190, 1595,     26.8,   1.3987,  31.4343,2,-999.0000,9,    392.1,2,    397.4,2,     5.39,2,     0.39,2,     0.05,2,     0.83,2,     0.51,2,     0.13,2,    1.546,2,   1.3976,20040908,2238
  32H120040910,    12,  1,    119,     19,2,20040908,2141, 71.7027,-151.8190, 1595,     51.0,  -0.5947,  32.2047,2,-999.0000,9,    355.8,2,    367.3,2,    15.20,2,     4.91,2,     0.18,2,     1.40,2,     0.08,2,     0.07,2,    1.013,2,  -0.5960,20040908,2236
  32H120040910,    12,  1,    118,     18,2,20040908,2141, 71.7027,-151.8190, 1595,     77.1,  -1.5131,  32.6462,2,-999.0000,9,    318.8,2,    333.1,2,    29.51,2,    10.26,2,     0.19,2,     1.80,2,     0.04,2,     0.08,2,    0.958,2,  -1.5146,20040908,2234
  32H120040910,    12,  1,    117,     17,2,20040908,2141, 71.7027,-151.8190, 1595,    102.0,  -1.5682,  33.0408,2,-999.0000,9,    293.7,2,    301.9,2,    35.88,2,    12.58,2,     0.14,2,     1.96,2,     0.05,2,     0.09,2,    0.897,2,  -1.5702,20040908,2232
  32H120040910,    12,  1,    116,     16,2,20040908,2141, 71.7027,-151.8190, 1595,    124.7,  -1.2829,  33.5251,2,-999.0000,9,    277.5,2,    289.1,2,    29.79,2,    12.81,2,     0.13,2,     1.74,2,     0.03,2,     0.08,2,    0.881,2,  -1.2858,20040908,2230
  32H120040910,    12,  1,    115,     15,2,20040908,2141, 71.7027,-151.8190, 1595,    150.9,  -0.6748,  34.2464,2,-999.0000,9,    266.0,2,    277.4,2,    20.73,2,    13.61,2,     0.14,2,     1.40,2,     0.02,2,     0.06,2,    0.790,2,  -0.6793,20040908,2229
  32H120040910,    12,  1,    114,     14,2,20040908,2141, 71.7027,-151.8190, 1595,    176.4,  -0.0313,  34.5647,2,-999.0000,9,    259.6,2,    271.5,2,    16.24,2,    13.54,2,     0.12,2,     1.26,2,     0.04,2,     0.07,2,    0.822,2,  -0.0377,20040908,2227
  32H120040910,    12,  1,    113,     13,2,20040908,2141, 71.7027,-151.8190, 1595,    203.0,   0.3010,  34.6815,2,  34.6814,2,    263.4,2,    274.0,2,    13.53,2,    13.57,2,     0.09,2,     1.13,2,     0.02,2,     0.05,2,    0.698,2,   0.2930,20040908,2225
  32H120040910,    12,  1,    112,     12,2,20040908,2141, 71.7027,-151.8190, 1595,    252.1,   0.5666,  34.7624,2,  34.7630,2,    268.0,2,    279.0,2,    11.58,2,    13.32,2,     0.05,2,     1.06,2,  -999.00,9,  -999.00,9,    0.673,2,   0.5559,20040908,2223
  32H120040910,    12,  1,    111,     11,2,20040908,2141, 71.7027,-151.8190, 1595,    305.6,   0.6246,  34.7975,2,  34.7984,2,    270.6,2,    281.8,2,    10.61,2,    13.07,2,     0.12,2,     1.06,2,  -999.00,9,  -999.00,9,    0.700,2,   0.6113,20040908,2221
  32H120040910,    12,  1,    110,     10,2,20040908,2141, 71.7027,-151.8190, 1595,    406.9,   0.6281,  34.8265,2,  34.8279,2,    276.2,2,   -999.0,9,  -999.00,9,  -999.00,9,  -999.00,9,  -999.00,9,  -999.00,9,  -999.00,9,    0.641,2,   0.6100,20040908,2218
  32H120040910,    12,  1,    109,      9,2,20040908,2141, 71.7027,-151.8190, 1595,    504.6,   0.5501,  34.8451,2,  34.8465,2,    281.3,2,    293.7,2,     7.53,2,    12.83,2,     0.03,2,     0.94,2,  -999.00,9,  -999.00,9,    0.621,2,   0.5275,20040908,2215
  32H120040910,    12,  1,    108,      8,2,20040908,2141, 71.7027,-151.8190, 1595,    602.8,   0.4404,  34.8550,2,  34.8565,2,    282.0,2,   -999.0,9,  -999.00,9,  -999.00,9,  -999.00,9,  -999.00,9,  -999.00,9,  -999.00,9,    0.627,2,   0.4135,20040908,2211
  32H120040910,    12,  1,    107,      7,2,20040908,2141, 71.7027,-151.8190, 1595,    703.8,   0.3257,  34.8611,2,  34.8624,2,    283.7,2,    297.0,2,     7.14,2,    12.79,2,     0.02,2,     0.94,2,  -999.00,9,  -999.00,9,    0.666,2,   0.2943,20040908,2208
  32H120040910,    12,  1,    106,      6,2,20040908,2141, 71.7027,-151.8190, 1595,    802.6,   0.1724,  34.8689,2,  34.8705,2,    284.8,2,   -999.0,9,  -999.00,9,  -999.00,9,  -999.00,9,  -999.00,9,  -999.00,9,  -999.00,9,    0.645,2,   0.1369,20040908,2203
  32H120040910,    12,  1,    105,      5,2,20040908,2141, 71.7027,-151.8190, 1595,    902.2,   0.0614,  34.8759,2,  34.8770,2,    283.9,2,    299.2,2,     7.71,2,    12.81,2,     0.04,2,     0.96,2,  -999.00,9,  -999.00,9,    0.599,2,   0.0215,20040908,2159
  32H120040910,    12,  1,    104,      4,2,20040908,2141, 71.7027,-151.8190, 1595,   1001.3,  -0.0033,  34.8804,2,  34.8816,2,    284.0,2,   -999.0,9,  -999.00,9,  -999.00,9,  -999.00,9,  -999.00,9,  -999.00,9,  -999.00,9,    0.629,2,  -0.0479,20040908,2155
  32H120040910,    12,  1,    103,      3,2,20040908,2141, 71.7027,-151.8190, 1595,   1247.8,  -0.1827,  34.8972,2,  34.8987,2,    283.1,2,   -999.0,9,  -999.00,9,  -999.00,9,  -999.00,9,  -999.00,9,  -999.00,9,  -999.00,9,    0.602,2,  -0.2393,20040908,2149
  32H120040910,    12,  1,    102,      2,9,20040908,2141, 71.7027,-151.8190, 1595,   1247.9,  -0.1860,  34.8976,2,-999.0000,9,    283.1,2,   -999.0,9,  -999.00,9,  -999.00,9,  -999.00,9,  -999.00,9,  -999.00,9,  -999.00,9,    0.623,2,  -0.2425,20040908,2148
  32H120040910,    12,  1,    101,      1,2,20040908,2141, 71.7027,-151.8190, 1595,   1590.1,  -0.3719,  34.9270,2,  34.9270,2,    278.2,2,    292.5,2,    11.18,2,    13.94,2,     0.04,2,     1.05,2,  -999.00,9,  -999.00,9,    0.607,2,  -0.4464,20040908,2141
  32H120040910,    13,  1,    122,     22,2,20040909, 159, 71.7553,-151.7737, 1806,      4.8,   4.6050,  27.0583,2,  27.2217,2,    324.1,2,    334.1,2,     2.72,2,     0.15,2,     0.00,2,     0.45,2,     0.45,2,     0.12,2,    1.405,2,   4.6047,20040909, 316
  32H120040910,    13,  1,    121,     21,2,20040909, 159, 71.7553,-151.7737, 1806,     24.4,   1.5967,  31.0037,2,  31.2453,2,    440.0,2,    447.2,2,     2.80,2,     0.27,2,     0.01,2,     0.71,2,     0.67,2,     0.14,2,    1.617,2,   1.5957,20040909, 315
  32H120040910,    13,  1,    120,     20,2,20040909, 159, 71.7553,-151.7737, 1806,     50.1,  -0.8484,  32.3471,2,  32.3851,2,    344.4,2,    351.6,2,    18.02,2,     6.82,2,     0.18,2,     1.54,2,     0.09,2,     0.07,2,    0.994,2,  -0.8496,20040909, 313
  32H120040910,    13,  1,    119,     19,2,20040909, 159, 71.7553,-151.7737, 1806,     75.1,  -1.3243,  32.7134,2,  32.7412,2,    312.7,2,    323.2,2,    28.70,2,    10.64,2,     0.16,2,     1.82,2,     0.08,2,     0.08,2,    0.965,2,  -1.3259,20040909, 311
  32H120040910,    13,  1,    118,     18,2,20040909, 159, 71.7553,-151.7737, 1806,     99.7,  -1.5554,  33.0994,2,  33.1689,2,    289.2,2,    298.6,2,    33.79,2,    12.61,2,     0.14,2,     1.93,2,     0.05,2,     0.09,2,    0.873,2,  -1.5574,20040909, 309
  32H120040910,    13,  1,    117,     17,2,20040909, 159, 71.7553,-151.7737, 1806,    122.9,  -1.1272,  33.8821,2,  33.9397,2,    276.8,2,    285.8,2,    24.21,2,    13.29,2,     0.13,2,     1.54,2,     0.03,2,     0.06,2,    0.798,2,  -1.1303,20040909, 307
  32H120040910,    13,  1,    116,     16,2,20040909, 159, 71.7553,-151.7737, 1806,    149.9,  -0.4274,  34.4025,2,  34.4121,2,    264.1,2,    274.2,2,    17.12,2,    13.72,2,     0.11,2,     1.29,2,     0.02,2,     0.05,2,    0.737,2,  -0.4323,20040909, 305
  32H120040910,    13,  1,    115,     15,2,20040909, 159, 71.7553,-151.7737, 1806,    175.4,   0.0935,  34.6101,2,  34.6224,2,    259.8,2,    271.3,2,    14.48,2,    13.57,2,     0.11,2,     1.23,2,     0.02,2,     0.08,2,    0.776,2,   0.0869,20040909, 302
  32H120040910,    13,  1,    114,     14,2,20040909, 159, 71.7553,-151.7737, 1806,    200.1,   0.3990,  34.7116,2,  34.7220,2,    263.7,2,    272.3,2,    13.30,2,    13.47,2,     0.11,2,     1.20,2,     0.04,2,     0.08,2,    0.737,2,   0.3909,20040909, 300
  32H120040910,    13,  1,    113,     13,2,20040909, 159, 71.7553,-151.7737, 1806,    250.6,   0.6387,  34.7888,2,  34.7934,2,    268.0,2,    278.5,2,    11.45,2,    13.31,2,     0.09,2,     1.09,2,  -999.00,9,  -999.00,9,    0.670,2,   0.6279,20040909, 255
  32H120040910,    13,  1,    112,     12,2,20040909, 159, 71.7553,-151.7737, 1806,    300.5,   0.6785,  34.8161,2,  34.8183,2,    271.5,2,    283.1,2,    10.08,2,    13.15,2,     0.10,2,     1.05,2,  -999.00,9,  -999.00,9,    0.676,2,   0.6653,20040909, 252
  32H120040910,    13,  1,    111,     11,2,20040909, 159, 71.7553,-151.7737, 1806,    401.3,   0.6175,  34.8365,2,  34.8383,2,    278.8,2,   -999.0,9,  -999.00,9,  -999.00,9,  -999.00,9,  -999.00,9,  -999.00,9,  -999.00,9,    0.641,2,   0.5997,20040909, 248
  32H120040910,    13,  1,    110,     10,2,20040909, 159, 71.7553,-151.7737, 1806,    499.7,   0.5182,  34.8494,2,  34.8517,2,    280.9,2,    293.0,2,     7.36,2,    12.89,2,     0.05,2,     0.96,2,  -999.00,9,  -999.00,9,    0.683,2,   0.4960,20040909, 244
  32H120040910,    13,  1,    109,      9,2,20040909, 159, 71.7553,-151.7737, 1806,    599.9,   0.3782,  34.8589,2,  34.8597,2,    283.1,2,   -999.0,9,  -999.00,9,  -999.00,9,  -999.00,9,  -999.00,9,  -999.00,9,  -999.00,9,    0.636,2,   0.3517,20040909, 240
  32H120040910,    13,  1,    108,      8,2,20040909, 159, 71.7553,-151.7737, 1806,    700.5,   0.2265,  34.8661,2,  34.8682,2,    284.4,2,    298.5,2,     6.68,2,    12.81,2,     0.03,2,     0.95,2,  -999.00,9,  -999.00,9,    0.631,2,   0.1958,20040909, 237
  32H120040910,    13,  1,    107,      7,2,20040909, 159, 71.7553,-151.7737, 1806,    801.1,   0.1104,  34.8722,2,  34.8731,2,    284.9,2,   -999.0,9,  -999.00,9,  -999.00,9,  -999.00,9,  -999.00,9,  -999.00,9,  -999.00,9,    0.648,2,   0.0754,20040909, 233
  32H120040910,    13,  1,    106,      6,2,20040909, 159, 71.7553,-151.7737, 1806,    901.8,   0.0073,  34.8792,2,  34.8809,2,    284.7,2,    298.6,2,     7.06,2,    12.88,2,     0.03,2,     0.96,2,  -999.00,9,  -999.00,9,    0.587,2,  -0.0322,20040909, 228
  32H120040910,    13,  1,    105,      5,2,20040909, 159, 71.7553,-151.7737, 1806,   1002.7,  -0.0959,  34.8877,2,  34.8888,2,    284.3,2,   -999.0,9,  -999.00,9,  -999.00,9,  -999.00,9,  -999.00,9,  -999.00,9,  -999.00,9,    0.603,2,  -0.1399,20040909, 223
  32H120040910,    13,  1,    104,      4,2,20040909, 159, 71.7553,-151.7737, 1806,   1251.7,  -0.1955,  34.8987,2,  34.8992,2,    282.3,2,   -999.0,9,  -999.00,9,  -999.00,9,  -999.00,9,  -999.00,9,  -999.00,9,  -999.00,9,    0.652,2,  -0.2522,20040909, 215
  32H120040910,    13,  1,    103,      3,2,20040909, 159, 71.7553,-151.7737, 1806,   1500.3,  -0.3239,  34.9168,2,  34.9166,2,    280.7,2,   -999.0,9,  -999.00,9,  -999.00,9,  -999.00,9,  -999.00,9,  -999.00,9,  -999.00,9,    0.598,2,  -0.3936,20040909, 207
  32H120040910,    13,  1,    102,      2,2,20040909, 159, 71.7553,-151.7737, 1806,   1749.5,  -0.4006,  34.9374,2,  34.9383,2,    273.9,2,   -999.0,9,  -999.00,9,  -999.00,9,  -999.00,9,  -999.00,9,  -999.00,9,  -999.00,9,    0.569,2,  -0.4846,20040909, 201
  32H120040910,    13,  1,    101,      1,2,20040909, 159, 71.7553,-151.7737, 1806,   1801.1,  -0.4069,  34.9409,2,  34.9418,2,    273.6,2,    287.7,2,    11.91,2,    14.38,2,     0.03,2,     1.09,2,  -999.00,9,  -999.00,9,    0.558,2,  -0.4941,20040909, 159