BOTTLE,20220815CCHSIOAMB
EXPOCODE,STNNBR,CASTNO,SAMPNO,BTLNBR,BTLNBR_FLAG_W,DATE,TIME,LATITUDE,LONGITUDE,DEPTH,CTDPRS,CTDTMP,CTDSAL,CTDSAL_FLAG_W,SALNTY,SALNTY_FLAG_W,CTDOXY,CTDOXY_FLAG_W,OXYGEN,OXYGEN_FLAG_W,SILCAT,SILCAT_FLAG_W,NITRAT,NITRAT_FLAG_W,NITRIT,NITRIT_FLAG_W,PHSPHT,PHSPHT_FLAG_W,CHLORA,CHLORA_FLAG_W,PHAEO,PHAEO_FLAG_W,FLUORO,FLUORO_FLAG_W,THETA,BTL_DATE,BTL_TIME
,,,,,,,,,,METERS,DBAR,ITS-90,PSS-78,,PSS-78,,UMOL/KG,,UMOL/KG,,UMOL/KG,,UMOL/KG,,UMOL/KG,,UMOL/KG,,UG/L,,UG/L,,VOLTS,,DEG C,,
  32H120040910,    36,  1,    104,      4,2,20040912,2325, 71.3007,-159.9898,   50,      5.5,   2.5747,  26.9606,2,-999.0000,9,    346.6,2,    357.1,2,     5.72,2,     0.15,2,     0.00,2,     0.53,2,     0.50,2,     0.03,2,    1.251,2,   2.5745,20040912,2329
  32H120040910,    36,  1,    103,      3,2,20040912,2325, 71.3007,-159.9898,   50,     14.9,  -0.4232,  31.1987,2,-999.0000,9,    435.3,2,    441.0,2,     4.15,2,     0.09,2,     0.00,2,     0.77,2,     0.29,2,     0.02,2,    1.417,2,  -0.4236,20040912,2328
  32H120040910,    36,  1,    102,      2,2,20040912,2325, 71.3007,-159.9898,   50,     30.7,  -1.5307,  32.6080,2,  32.5498,2,    295.6,2,    326.3,2,    34.76,2,    13.47,2,     0.15,2,     2.06,2,     8.22,2,     0.58,2,    1.933,2,  -1.5313,20040912,2327
  32H120040910,    36,  1,    101,      1,2,20040912,2325, 71.3007,-159.9898,   50,     44.6,  -1.5103,  32.6361,2,  32.6331,2,    291.4,2,    301.1,2,    41.25,2,    13.78,2,     0.28,2,     2.19,2,     2.68,2,     0.17,2,    1.776,2,  -1.5111,20040912,2325
  32H120040910,    37,  1,    105,      5,2,20040913,  19, 71.2708,-159.9307,   58,      3.7,   2.7804,  26.9201,2,-999.0000,9,    346.5,2,    357.4,2,     5.95,2,     0.19,2,     0.00,2,     0.51,2,     0.60,2,     0.04,2,    1.333,2,   2.7802,20040913,  24
  32H120040910,    37,  1,    104,      4,2,20040913,  19, 71.2708,-159.9307,   58,     14.6,  -0.9292,  31.5051,2,-999.0000,9,    449.7,2,    472.9,2,    13.31,2,     0.18,2,     0.01,2,     0.99,2,     0.36,2,     0.06,2,    1.334,2,  -0.9295,20040913,  23
  32H120040910,    37,  1,    103,      3,2,20040913,  19, 71.2708,-159.9307,   58,     30.0,  -1.6074,  32.6577,2,-999.0000,9,    296.4,2,    313.4,2,    37.17,2,    14.43,2,     0.18,2,     2.14,2,     5.47,2,     0.29,2,    2.051,2,  -1.6079,20040913,  22
  32H120040910,    37,  1,    102,      2,2,20040913,  19, 71.2708,-159.9307,   58,     45.1,  -1.5874,  32.6921,2,  32.6948,2,    285.0,2,    295.8,2,    44.76,2,    14.55,2,     0.20,2,     2.28,2,     2.13,2,     0.17,2,    1.661,2,  -1.5882,20040913,  20
  32H120040910,    37,  1,    101,      1,2,20040913,  19, 71.2708,-159.9307,   58,     53.0,  -1.5967,  32.7019,2,  32.7026,2,    285.8,2,    296.0,2,    44.97,2,    14.87,2,     0.20,2,     2.27,2,     2.11,2,     0.23,2,    1.656,2,  -1.5977,20040913,  19
  32H120040910,    38,  1,    105,      5,2,20040913, 109, 71.2408,-159.8768,   57,      5.1,   2.7540,  26.9336,2,-999.0000,9,    359.6,2,    365.3,2,     5.95,2,     0.23,2,     0.00,2,     0.52,2,     0.55,2,     0.07,2,    1.409,2,   2.7538,20040913, 115
  32H120040910,    38,  1,    104,      4,2,20040913, 109, 71.2408,-159.8768,   57,     15.4,  -0.8748,  31.6284,2,-999.0000,9,    414.1,2,    430.0,2,     6.22,2,     0.13,2,     0.01,2,     0.87,2,     0.33,2,     0.05,2,    1.344,2,  -0.8751,20040913, 113
  32H120040910,    38,  1,    103,      3,2,20040913, 109, 71.2408,-159.8768,   57,     29.9,  -1.5457,  32.5523,2,-999.0000,9,    316.6,2,    322.2,2,    34.67,2,    13.15,2,     0.13,2,     2.03,2,     2.60,2,     0.36,2,    2.198,2,  -1.5462,20040913, 112
  32H120040910,    38,  1,    102,      2,2,20040913, 109, 71.2408,-159.8768,   57,     44.8,  -1.6008,  32.7425,2,  32.7443,2,    284.7,2,    295.7,2,    45.48,2,    14.84,2,     0.21,2,     2.29,2,     2.49,2,     0.23,2,    1.639,2,  -1.6016,20040913, 111
  32H120040910,    38,  1,    101,      1,4,20040913, 109, 71.2408,-159.8768,   57,     52.3,  -1.6008,  32.7436,2,  32.6839,0,    286.3,2,    313.0,0,    41.07,4,    13.17,4,     0.19,4,     2.15,4,     2.11,4,     0.59,4,    1.666,2,  -1.6017,20040913, 109
  32H120040910,    39,  1,    106,      6,2,20040913, 254, 71.2123,-159.8328,   56,      5.4,   2.6965,  26.8939,2,-999.0000,9,    352.3,2,    362.3,2,     5.54,2,     0.23,2,     0.00,2,     0.51,2,     0.54,2,     0.10,2,    1.489,2,   2.6963,20040913, 302
  32H120040910,    39,  1,    105,      5,2,20040913, 254, 71.2123,-159.8328,   56,     15.3,  -0.7679,  31.3243,2,-999.0000,9,    469.3,2,    519.6,2,    16.04,2,     0.12,2,     0.01,2,     0.91,2,     0.28,2,     0.08,2,    1.337,2,  -0.7682,20040913, 300
  32H120040910,    39,  1,    104,      4,2,20040913, 254, 71.2123,-159.8328,   56,     30.3,  -1.5977,  32.5006,2,-999.0000,9,    338.8,2,    369.8,2,    14.97,2,     9.92,2,     0.09,2,     1.69,2,     3.56,2,     1.14,2,    2.249,2,  -1.5982,20040913, 258
  32H120040910,    39,  1,    103,      3,2,20040913, 254, 71.2123,-159.8328,   56,     46.3,  -1.6177,  32.8002,2,  32.8024,2,    284.5,2,    294.7,2,    46.75,2,    15.21,2,     0.20,2,     2.33,2,     1.72,2,     0.25,2,    1.585,2,  -1.6185,20040913, 255
  32H120040910,    39,  1,    101,      1,9,20040913, 254, 71.2123,-159.8328,   56,     50.2,  -1.6171,  32.8009,2,-999.0000,9,    284.9,2,   -999.0,9,  -999.00,9,  -999.00,9,  -999.00,9,  -999.00,9,  -999.00,9,  -999.00,9,    1.612,2,  -1.6180,20040913, 254
  32H120040910,    39,  1,    102,      2,2,20040913, 254, 71.2123,-159.8328,   56,     50.6,  -1.6173,  32.8012,2,  32.8016,2,    285.0,2,    294.5,2,    46.86,2,    15.25,2,     0.20,2,     2.33,2,     1.67,2,     0.30,2,    1.550,2,  -1.6182,20040913, 254
  32H120040910,    40,  1,    105,      5,2,20040913, 402, 71.1825,-159.7832,   59,      4.7,   2.9913,  27.2330,2,  27.2354,2,    349.1,2,    358.7,2,     4.23,2,     0.16,2,     0.00,2,     0.49,2,     0.51,2,     0.11,2,    1.618,2,   2.9911,20040913, 408
  32H120040910,    40,  1,    104,      4,2,20040913, 402, 71.1825,-159.7832,   59,     15.7,  -0.5708,  30.3878,2,-999.0000,9,    524.1,2,    546.6,2,    14.56,2,     0.16,2,     0.00,2,     0.79,2,     0.36,2,     0.07,2,    1.572,2,  -0.5711,20040913, 407
  32H120040910,    40,  1,    103,      3,2,20040913, 402, 71.1825,-159.7832,   59,     30.9,  -1.6504,  32.6841,2,-999.0000,9,    315.7,2,    324.2,2,    37.52,2,    14.05,2,     0.10,2,     2.04,2,     7.52,2,     0.14,2,    2.011,2,  -1.6509,20040913, 405
  32H120040910,    40,  1,    102,      2,2,20040913, 402, 71.1825,-159.7832,   59,     46.0,  -1.6412,  32.8387,2,-999.0000,9,    284.5,2,    294.1,2,    47.88,2,    15.51,2,     0.16,2,     2.32,2,     1.70,2,     0.28,2,    1.512,2,  -1.6420,20040913, 403
  32H120040910,    40,  1,    101,      1,4,20040913, 402, 71.1825,-159.7832,   59,     53.9,  -1.6386,  32.8376,2,  32.7342,0,    285.0,2,    305.2,0,    45.06,4,    14.59,4,     0.17,4,     2.22,4,     2.15,4,     0.22,4,    1.615,2,  -1.6396,20040913, 402
  32H120040910,    41,  1,    106,      6,2,20040913, 500, 71.1590,-159.7415,   82,      5.1,   3.9905,  27.6169,2,-999.0000,9,    337.6,2,    347.4,2,     2.09,2,     0.19,2,     0.02,2,     0.43,2,     0.54,2,     0.13,2,    1.644,2,   3.9902,20040913, 510
  32H120040910,    41,  1,    105,      5,2,20040913, 500, 71.1590,-159.7415,   82,     15.7,  -0.9102,  30.9899,2,-999.0000,9,    479.7,2,    519.5,2,    14.66,2,     0.15,2,     0.00,2,     0.89,2,     0.38,2,     0.05,2,    1.288,2,  -0.9105,20040913, 508
  32H120040910,    41,  1,    104,      4,2,20040913, 500, 71.1590,-159.7415,   82,     29.6,  -1.5794,  32.7183,2,-999.0000,9,    285.8,2,    296.2,2,    44.15,2,    14.13,2,     0.21,2,     2.25,2,     1.98,2,     0.24,2,    1.678,2,  -1.5799,20040913, 506
  32H120040910,    41,  1,    103,      3,2,20040913, 500, 71.1590,-159.7415,   82,     45.3,  -1.5997,  32.7904,2,  32.7917,2,    283.0,2,    293.4,2,    46.62,2,    14.82,2,     0.22,2,     2.30,2,     1.76,2,     0.26,2,    1.539,2,  -1.6005,20040913, 504
  32H120040910,    41,  1,    102,      2,2,20040913, 500, 71.1590,-159.7415,   82,     60.9,  -1.6203,  32.8299,2,  32.8295,2,    280.0,2,    290.2,2,    47.79,2,    15.31,2,     0.19,2,     2.34,2,     2.44,2,     0.33,2,    1.699,2,  -1.6214,20040913, 502
  32H120040910,    41,  1,    101,      1,2,20040913, 500, 71.1590,-159.7415,   82,     76.6,  -1.6406,  32.8548,2,-999.0000,9,    281.8,2,    291.6,2,    48.64,2,    15.66,2,     0.16,2,     2.35,2,     1.94,2,     0.54,2,    1.698,2,  -1.6420,20040913, 500
  32H120040910,    42,  1,    105,      5,2,20040913, 559, 71.1280,-159.6797,   62,      4.8,   3.2649,  28.9742,2,-999.0000,9,    397.1,2,    418.2,2,     6.77,2,     0.25,2,     0.00,2,     0.58,2,     0.56,2,     0.08,2,    1.574,2,   3.2646,20040913, 606
  32H120040910,    42,  1,    104,      4,2,20040913, 559, 71.1280,-159.6797,   62,     15.1,  -1.4374,  32.1663,2,-999.0000,9,    405.6,2,    393.8,2,    25.44,2,     2.70,2,     0.07,2,     1.43,2,     1.75,2,     0.34,2,    1.594,2,  -1.4377,20040913, 604
  32H120040910,    42,  1,    103,      3,2,20040913, 559, 71.1280,-159.6797,   62,     30.6,  -1.5389,  32.7212,2,-999.0000,9,    287.2,2,    298.1,2,    42.99,2,    13.65,2,     0.27,2,     2.24,2,     2.94,2,     0.10,2,    1.787,2,  -1.5395,20040913, 602
  32H120040910,    42,  1,    102,      2,2,20040913, 559, 71.1280,-159.6797,   62,     45.0,  -1.5843,  32.8404,2,  32.8531,2,    268.5,2,    280.4,2,    48.14,2,    15.06,2,     0.25,2,     2.34,2,     2.04,2,     0.20,2,    1.526,2,  -1.5851,20040913, 600
  32H120040910,    42,  1,    101,      1,2,20040913, 559, 71.1280,-159.6797,   62,     57.1,  -1.6566,  32.9029,2,  32.8977,2,    270.1,2,    278.7,2,    49.97,2,    15.90,2,     0.20,2,     2.39,2,     2.24,2,     0.27,2,    1.621,2,  -1.6576,20040913, 559
  32H120040910,    43,  1,    105,      5,2,20040913, 656, 71.0998,-159.6328,   61,      4.7,  -0.3160,  30.3977,2,-999.0000,9,    505.6,2,    505.8,2,    13.35,2,     0.24,2,     0.01,2,     0.81,2,     0.68,2,     0.05,2,    1.581,2,  -0.3161,20040913, 703
  32H120040910,    43,  1,    104,      4,2,20040913, 656, 71.0998,-159.6328,   61,     19.7,  -0.9063,  31.8232,2,-999.0000,9,    392.8,2,    405.4,2,    20.04,2,     2.76,2,     0.06,2,     1.33,2,     2.05,2,     0.11,2,    1.632,2,  -0.9067,20040913, 701
  32H120040910,    43,  1,    103,      3,2,20040913, 656, 71.0998,-159.6328,   61,     30.3,  -1.5738,  32.7768,2,  32.7997,2,    282.3,2,    292.0,2,    47.00,2,    14.73,2,     0.22,2,     2.31,2,     1.64,2,     0.02,2,    1.439,2,  -1.5744,20040913, 659
  32H120040910,    43,  1,    102,      2,2,20040913, 656, 71.0998,-159.6328,   61,     45.6,  -1.6321,  32.8430,2,  32.8459,2,    282.4,2,    291.5,2,    48.60,2,    15.43,2,     0.17,2,     2.33,2,     1.21,2,     0.16,2,    1.437,2,  -1.6329,20040913, 658
  32H120040910,    43,  1,    101,      1,2,20040913, 656, 71.0998,-159.6328,   61,     55.7,  -1.6600,  32.9019,2,-999.0000,9,    277.9,2,    288.2,2,    49.23,2,    15.66,2,     0.18,2,     2.34,2,     1.56,2,     0.19,2,    1.602,2,  -1.6610,20040913, 656
  32H120040910,    44,  1,    106,      6,2,20040913, 754, 71.0717,-159.5842,   76,      5.3,  -0.9311,  31.3076,2,-999.0000,9,    495.2,2,    536.8,2,    16.65,2,     0.23,2,     0.01,2,     0.90,2,     0.57,2,     0.11,2,    1.525,2,  -0.9312,20040913, 802
  32H120040910,    44,  1,    105,      5,2,20040913, 754, 71.0717,-159.5842,   76,     14.9,  -1.3851,  32.2610,2,-999.0000,9,    426.2,2,   -999.0,9,    16.52,2,     0.59,2,     0.03,2,     1.17,2,     0.88,2,     0.20,2,    1.736,2,  -1.3854,20040913, 801
  32H120040910,    44,  1,    104,      4,2,20040913, 754, 71.0717,-159.5842,   76,     30.0,  -1.4539,  32.6718,2,-999.0000,9,    288.8,2,   -999.0,9,    38.44,2,    12.26,2,     0.39,2,     2.15,2,     2.24,2,     0.25,2,    1.659,2,  -1.4545,20040913, 759
  32H120040910,    44,  1,    103,      3,2,20040913, 754, 71.0717,-159.5842,   76,     44.7,  -1.6672,  32.8961,2,-999.0000,9,    278.8,2,    289.6,2,    50.26,2,    16.16,2,     0.15,2,     2.35,2,     1.51,2,     0.26,2,    1.529,2,  -1.6680,20040913, 757
  32H120040910,    44,  1,    102,      2,2,20040913, 754, 71.0717,-159.5842,   76,     60.1,  -1.6669,  32.8974,2,  32.8993,2,    279.1,2,    290.1,2,    50.45,2,    16.15,2,     0.15,2,     2.36,2,     1.31,2,     0.38,2,    1.473,2,  -1.6680,20040913, 756
  32H120040910,    44,  1,    101,      1,2,20040913, 754, 71.0717,-159.5842,   76,     70.9,  -1.6671,  32.9003,2,  32.8964,2,    279.7,2,    288.8,2,    50.55,2,    16.16,2,     0.15,2,     2.37,2,     1.38,2,     0.29,2,    1.514,2,  -1.6684,20040913, 754
  32H120040910,    44,  2,    221,     21,2,20040913, 249, 71.0717,-159.5842,   76,     66.0,  -1.6771,  32.9491,2,-999.0000,9,    270.3,2,   -999.0,9,  -999.00,9,  -999.00,9,  -999.00,9,  -999.00,9,  -999.00,9,  -999.00,9,    1.401,2,  -1.6783,20040913, 253
  32H120040910,    44,  2,    208,      8,2,20040913, 249, 71.0717,-159.5842,   76,     66.0,  -1.6773,  32.9495,2,-999.0000,9,    270.4,2,   -999.0,9,  -999.00,9,  -999.00,9,  -999.00,9,  -999.00,9,  -999.00,9,  -999.00,9,    1.542,2,  -1.6785,20040913, 250
  32H120040910,    44,  2,    220,     20,2,20040913, 249, 71.0717,-159.5842,   76,     66.0,  -1.6774,  32.9493,2,-999.0000,9,    270.2,2,   -999.0,9,  -999.00,9,  -999.00,9,  -999.00,9,  -999.00,9,  -999.00,9,  -999.00,9,    1.416,2,  -1.6786,20040913, 253
  32H120040910,    44,  2,    217,     17,2,20040913, 249, 71.0717,-159.5842,   76,     66.0,  -1.6774,  32.9495,2,-999.0000,9,    270.8,2,   -999.0,9,  -999.00,9,  -999.00,9,  -999.00,9,  -999.00,9,  -999.00,9,  -999.00,9,    1.411,2,  -1.6786,20040913, 252
  32H120040910,    44,  2,    202,      2,2,20040913, 249, 71.0717,-159.5842,   76,     66.1,  -1.6764,  32.9482,2,-999.0000,9,    270.3,2,   -999.0,9,  -999.00,9,  -999.00,9,  -999.00,9,  -999.00,9,  -999.00,9,  -999.00,9,    1.385,2,  -1.6776,20040913, 249
  32H120040910,    44,  2,    204,      4,2,20040913, 249, 71.0717,-159.5842,   76,     66.1,  -1.6766,  32.9406,2,  32.9509,2,    269.0,2,   -999.0,9,  -999.00,9,  -999.00,9,  -999.00,9,  -999.00,9,  -999.00,9,  -999.00,9,    1.391,2,  -1.6778,20040913, 249
  32H120040910,    44,  2,    201,      1,2,20040913, 249, 71.0717,-159.5842,   76,     66.1,  -1.6769,  32.9487,2,  32.9517,2,    270.6,2,   -999.0,9,  -999.00,9,  -999.00,9,  -999.00,9,  -999.00,9,  -999.00,9,  -999.00,9,    1.418,2,  -1.6781,20040913, 248
  32H120040910,    44,  2,    207,      7,2,20040913, 249, 71.0717,-159.5842,   76,     66.1,  -1.6771,  32.9497,2,  32.9495,2,    270.4,2,   -999.0,9,  -999.00,9,  -999.00,9,  -999.00,9,  -999.00,9,  -999.00,9,  -999.00,9,    1.346,2,  -1.6783,20040913, 250
  32H120040910,    44,  2,    222,     22,2,20040913, 249, 71.0717,-159.5842,   76,     66.1,  -1.6772,  32.9492,2,  32.9498,2,    270.7,2,   -999.0,9,  -999.00,9,  -999.00,9,  -999.00,9,  -999.00,9,  -999.00,9,  -999.00,9,    1.462,2,  -1.6784,20040913, 253
  32H120040910,    44,  2,    205,      5,2,20040913, 249, 71.0717,-159.5842,   76,     66.1,  -1.6773,  32.9453,2,-999.0000,9,    268.5,2,   -999.0,9,  -999.00,9,  -999.00,9,  -999.00,9,  -999.00,9,  -999.00,9,  -999.00,9,    1.360,2,  -1.6785,20040913, 249
  32H120040910,    44,  2,    210,     10,2,20040913, 249, 71.0717,-159.5842,   76,     66.1,  -1.6773,  32.9497,2,  32.9513,2,    270.6,2,   -999.0,9,  -999.00,9,  -999.00,9,  -999.00,9,  -999.00,9,  -999.00,9,  -999.00,9,    1.444,2,  -1.6785,20040913, 250
  32H120040910,    44,  2,    211,     11,2,20040913, 249, 71.0717,-159.5842,   76,     66.1,  -1.6774,  32.9490,2,-999.0000,9,    270.6,2,   -999.0,9,  -999.00,9,  -999.00,9,  -999.00,9,  -999.00,9,  -999.00,9,  -999.00,9,    1.404,2,  -1.6786,20040913, 251
  32H120040910,    44,  2,    215,     15,2,20040913, 249, 71.0717,-159.5842,   76,     66.1,  -1.6774,  32.9495,2,-999.0000,9,    270.3,2,   -999.0,9,  -999.00,9,  -999.00,9,  -999.00,9,  -999.00,9,  -999.00,9,  -999.00,9,    1.477,2,  -1.6786,20040913, 252
  32H120040910,    44,  2,    216,     16,2,20040913, 249, 71.0717,-159.5842,   76,     66.1,  -1.6774,  32.9496,2,  32.9512,2,    270.8,2,   -999.0,9,  -999.00,9,  -999.00,9,  -999.00,9,  -999.00,9,  -999.00,9,  -999.00,9,    1.451,2,  -1.6786,20040913, 252
  32H120040910,    44,  2,    219,     19,2,20040913, 249, 71.0717,-159.5842,   76,     66.1,  -1.6778,  32.9489,2,  32.9503,2,    269.6,2,   -999.0,9,  -999.00,9,  -999.00,9,  -999.00,9,  -999.00,9,  -999.00,9,  -999.00,9,    1.489,2,  -1.6790,20040913, 252
  32H120040910,    44,  2,    218,     18,2,20040913, 249, 71.0717,-159.5842,   76,     66.1,  -1.6780,  32.9451,2,-999.0000,9,    270.2,2,   -999.0,9,  -999.00,9,  -999.00,9,  -999.00,9,  -999.00,9,  -999.00,9,  -999.00,9,    1.412,2,  -1.6792,20040913, 252
  32H120040910,    44,  2,    203,      3,2,20040913, 249, 71.0717,-159.5842,   76,     66.2,  -1.6770,  32.9463,2,-999.0000,9,    269.7,2,   -999.0,9,  -999.00,9,  -999.00,9,  -999.00,9,  -999.00,9,  -999.00,9,  -999.00,9,    1.365,2,  -1.6782,20040913, 249
  32H120040910,    44,  2,    209,      9,2,20040913, 249, 71.0717,-159.5842,   76,     66.2,  -1.6774,  32.9495,2,-999.0000,9,    270.6,2,   -999.0,9,  -999.00,9,  -999.00,9,  -999.00,9,  -999.00,9,  -999.00,9,  -999.00,9,    1.366,2,  -1.6786,20040913, 250
  32H120040910,    44,  2,    212,     12,2,20040913, 249, 71.0717,-159.5842,   76,     66.2,  -1.6775,  32.9484,2,-999.0000,9,    270.3,2,   -999.0,9,  -999.00,9,  -999.00,9,  -999.00,9,  -999.00,9,  -999.00,9,  -999.00,9,    1.441,2,  -1.6787,20040913, 251
  32H120040910,    44,  2,    213,     13,2,20040913, 249, 71.0717,-159.5842,   76,     66.2,  -1.6775,  32.9495,2,  32.9505,2,    270.6,2,   -999.0,9,  -999.00,9,  -999.00,9,  -999.00,9,  -999.00,9,  -999.00,9,  -999.00,9,    1.394,2,  -1.6787,20040913, 251
  32H120040910,    44,  2,    214,     14,2,20040913, 249, 71.0717,-159.5842,   76,     66.2,  -1.6776,  32.9467,2,-999.0000,9,    270.4,2,   -999.0,9,  -999.00,9,  -999.00,9,  -999.00,9,  -999.00,9,  -999.00,9,  -999.00,9,    1.345,2,  -1.6788,20040913, 251
  32H120040910,    44,  2,    206,      6,2,20040913, 249, 71.0717,-159.5842,   76,     66.2,  -1.6777,  32.9481,2,-999.0000,9,    269.6,2,   -999.0,9,  -999.00,9,  -999.00,9,  -999.00,9,  -999.00,9,  -999.00,9,  -999.00,9,    1.336,2,  -1.6789,20040913, 249
  32H120040910,    45,  1,    106,      6,2,20040913, 852, 71.0468,-159.5042,   75,      6.0,   7.4424,  30.0813,2,-999.0000,9,    290.5,2,   -999.0,9,     5.12,2,     0.22,2,     0.01,2,     0.50,2,  -999.00,9,  -999.00,9,    1.635,2,   7.4419,20040913, 901
  32H120040910,    45,  1,    105,      5,2,20040913, 852, 71.0468,-159.5042,   75,     14.9,   7.4443,  30.0827,2,-999.0000,9,    292.4,2,   -999.0,9,     5.91,2,     0.17,2,     0.01,2,     0.52,2,  -999.00,9,  -999.00,9,    1.697,2,   7.4430,20040913, 859
  32H120040910,    45,  1,    104,      4,2,20040913, 852, 71.0468,-159.5042,   75,     27.1,  -1.1741,  32.2312,2,  32.2108,2,    434.7,2,    461.6,2,    17.83,2,     0.42,2,     0.05,2,     1.16,2,  -999.00,9,  -999.00,9,    1.854,2,  -1.1747,20040913, 857
  32H120040910,    45,  1,    103,      3,2,20040913, 852, 71.0468,-159.5042,   75,     45.6,  -1.3763,  32.6645,2,-999.0000,9,    311.1,2,   -999.0,9,    31.73,2,     9.19,2,     0.34,2,     1.92,2,  -999.00,9,  -999.00,9,    1.547,2,  -1.3772,20040913, 855
  32H120040910,    45,  1,    102,      2,2,20040913, 852, 71.0468,-159.5042,   75,     60.4,  -1.6695,  32.9446,2,-999.0000,9,    273.7,2,   -999.0,9,    50.47,2,    16.15,2,     0.21,2,     2.37,2,  -999.00,9,  -999.00,9,    1.548,2,  -1.6706,20040913, 853
  32H120040910,    45,  1,    101,      1,2,20040913, 852, 71.0468,-159.5042,   75,     69.6,  -1.6733,  32.9515,2,  32.9453,2,    273.8,2,    284.0,2,    51.32,2,    16.26,2,     0.19,2,     2.37,2,  -999.00,9,  -999.00,9,    1.579,2,  -1.6746,20040913, 852