BOTTLE,20220815CCHSIOAMB
EXPOCODE,STNNBR,CASTNO,SAMPNO,BTLNBR,BTLNBR_FLAG_W,DATE,TIME,LATITUDE,LONGITUDE,DEPTH,CTDPRS,CTDTMP,CTDSAL,CTDSAL_FLAG_W,SALNTY,SALNTY_FLAG_W,CTDOXY,CTDOXY_FLAG_W,OXYGEN,OXYGEN_FLAG_W,SILCAT,SILCAT_FLAG_W,NITRAT,NITRAT_FLAG_W,NITRIT,NITRIT_FLAG_W,PHSPHT,PHSPHT_FLAG_W,CHLORA,CHLORA_FLAG_W,PHAEO,PHAEO_FLAG_W,FLUORO,FLUORO_FLAG_W,THETA,BTL_DATE,BTL_TIME
,,,,,,,,,,METERS,DBAR,ITS-90,PSS-78,,PSS-78,,UMOL/KG,,UMOL/KG,,UMOL/KG,,UMOL/KG,,UMOL/KG,,UMOL/KG,,UG/L,,UG/L,,VOLTS,,DEG C,,
  32H120040910,    69,  1,    107,      7,2,20040916, 227, 72.1288,-156.5967,  180,      4.9,   2.6223,  27.0422,2,  27.0399,2,    337.2,2,    346.7,2,     2.88,2,     0.17,2,     0.00,2,     0.49,2,     0.30,2,     0.09,2,    1.198,2,   2.6221,20040916, 240
  32H120040910,    69,  1,    106,      6,2,20040916, 227, 72.1288,-156.5967,  180,     30.6,  -0.2857,  31.6050,2,-999.0000,9,    423.6,2,    418.1,2,     8.34,2,     0.81,2,     0.09,2,     0.96,2,     0.75,2,     0.16,2,    1.664,2,  -0.2865,20040916, 237
  32H120040910,    69,  1,    105,      5,2,20040916, 227, 72.1288,-156.5967,  180,     60.7,  -1.4541,  32.4981,2,-999.0000,9,    351.2,2,    346.3,2,    24.15,2,     8.58,2,     0.09,2,     1.68,2,     0.17,2,     0.13,2,    1.217,2,  -1.4553,20040916, 235
  32H120040910,    69,  1,    104,      4,2,20040916, 227, 72.1288,-156.5967,  180,     90.4,  -1.5748,  32.9813,2,-999.0000,9,    291.0,2,    304.6,2,    35.75,2,    12.69,2,     0.14,2,     1.93,2,     0.05,2,     0.11,2,    0.864,2,  -1.5765,20040916, 233
  32H120040910,    69,  1,    103,      3,2,20040916, 227, 72.1288,-156.5967,  180,    120.6,  -1.5246,  33.1925,2,-999.0000,9,    276.1,2,    289.4,2,    36.60,2,    14.35,2,     0.10,2,     1.91,2,     0.02,2,     0.12,2,    0.836,2,  -1.5270,20040916, 231
  32H120040910,    69,  1,    102,      2,2,20040916, 227, 72.1288,-156.5967,  180,    151.9,  -1.0788,  33.9611,2,-999.0000,9,    276.4,2,    287.4,2,    24.45,2,    13.15,2,     0.14,2,     1.50,2,     0.03,2,     0.05,2,    0.751,2,  -1.0827,20040916, 229
  32H120040910,    69,  1,    101,      1,2,20040916, 227, 72.1288,-156.5967,  180,    175.1,  -0.4488,  34.3492,2,  34.2671,2,    255.3,2,    276.0,2,    23.30,2,    13.85,2,     0.15,2,     1.47,2,     0.03,2,     0.08,2,    0.803,2,  -0.4544,20040916, 227
  32H120040910,    69,  2,    212,     12,2,20040916, 414, 72.1288,-156.5967,  180,    103.3,  -1.7101,  33.0357,2,-999.0000,9,    284.3,2,   -999.0,9,  -999.00,9,  -999.00,9,  -999.00,9,  -999.00,9,  -999.00,9,  -999.00,9,    1.004,2,  -1.7120,20040916, 414
  32H120040910,    69,  2,    213,     13,2,20040916, 414, 72.1288,-156.5967,  180,    103.3,  -1.7101,  33.0360,2,-999.0000,9,    284.5,2,   -999.0,9,  -999.00,9,  -999.00,9,  -999.00,9,  -999.00,9,  -999.00,9,  -999.00,9,    0.992,2,  -1.7120,20040916, 414
  32H120040910,    69,  2,    216,     16,2,20040916, 414, 72.1288,-156.5967,  180,    103.3,  -1.7106,  33.0356,2,  33.0407,2,    284.5,2,   -999.0,9,  -999.00,9,  -999.00,9,  -999.00,9,  -999.00,9,  -999.00,9,  -999.00,9,    1.037,2,  -1.7125,20040916, 415
  32H120040910,    69,  2,    214,     14,2,20040916, 414, 72.1288,-156.5967,  180,    103.3,  -1.7108,  33.0357,2,-999.0000,9,    284.7,2,   -999.0,9,  -999.00,9,  -999.00,9,  -999.00,9,  -999.00,9,  -999.00,9,  -999.00,9,    0.985,2,  -1.7127,20040916, 414
  32H120040910,    69,  2,    215,     15,2,20040916, 414, 72.1288,-156.5967,  180,    103.3,  -1.7116,  33.0355,2,-999.0000,9,    284.4,2,   -999.0,9,  -999.00,9,  -999.00,9,  -999.00,9,  -999.00,9,  -999.00,9,  -999.00,9,    0.987,2,  -1.7135,20040916, 415
  32H120040910,    69,  2,    217,     17,2,20040916, 414, 72.1288,-156.5967,  180,    103.3,  -1.7120,  33.0350,2,-999.0000,9,    284.6,2,   -999.0,9,  -999.00,9,  -999.00,9,  -999.00,9,  -999.00,9,  -999.00,9,  -999.00,9,    1.006,2,  -1.7139,20040916, 415
  32H120040910,    69,  2,    201,      1,2,20040916, 414, 72.1288,-156.5967,  180,    103.3,  -1.7122,  33.0340,2,  33.0686,0,    284.4,2,   -999.0,9,  -999.00,9,  -999.00,9,  -999.00,9,  -999.00,9,  -999.00,9,  -999.00,9,    0.971,2,  -1.7141,20040916, 413
  32H120040910,    69,  2,    211,     11,2,20040916, 414, 72.1288,-156.5967,  180,    103.3,  -1.7122,  33.0354,2,-999.0000,9,    284.1,2,   -999.0,9,  -999.00,9,  -999.00,9,  -999.00,9,  -999.00,9,  -999.00,9,  -999.00,9,    1.002,2,  -1.7141,20040916, 414
  32H120040910,    69,  2,    210,     10,2,20040916, 414, 72.1288,-156.5967,  180,    103.3,  -1.7122,  33.0354,2,  33.1575,0,    284.1,2,   -999.0,9,  -999.00,9,  -999.00,9,  -999.00,9,  -999.00,9,  -999.00,9,  -999.00,9,    1.004,2,  -1.7141,20040916, 414
  32H120040910,    69,  2,    220,     20,2,20040916, 414, 72.1288,-156.5967,  180,    103.3,  -1.7123,  33.0340,2,  33.0377,2,    284.3,2,   -999.0,9,  -999.00,9,  -999.00,9,  -999.00,9,  -999.00,9,  -999.00,9,  -999.00,9,    1.003,2,  -1.7142,20040916, 415
  32H120040910,    69,  2,    209,      9,2,20040916, 414, 72.1288,-156.5967,  180,    103.3,  -1.7123,  33.0354,2,-999.0000,9,    284.4,2,   -999.0,9,  -999.00,9,  -999.00,9,  -999.00,9,  -999.00,9,  -999.00,9,  -999.00,9,    0.986,2,  -1.7142,20040916, 414
  32H120040910,    69,  2,    219,     19,2,20040916, 414, 72.1288,-156.5967,  180,    103.3,  -1.7124,  33.0341,2,-999.0000,9,    284.2,2,   -999.0,9,  -999.00,9,  -999.00,9,  -999.00,9,  -999.00,9,  -999.00,9,  -999.00,9,    1.010,2,  -1.7143,20040916, 415
  32H120040910,    69,  2,    202,      2,2,20040916, 414, 72.1288,-156.5967,  180,    103.3,  -1.7125,  33.0342,2,-999.0000,9,    284.2,2,   -999.0,9,  -999.00,9,  -999.00,9,  -999.00,9,  -999.00,9,  -999.00,9,  -999.00,9,    0.992,2,  -1.7144,20040916, 413
  32H120040910,    69,  2,    203,      3,2,20040916, 414, 72.1288,-156.5967,  180,    103.3,  -1.7126,  33.0343,2,-999.0000,9,    284.4,2,   -999.0,9,  -999.00,9,  -999.00,9,  -999.00,9,  -999.00,9,  -999.00,9,  -999.00,9,    1.005,2,  -1.7145,20040916, 413
  32H120040910,    69,  2,    204,      4,2,20040916, 414, 72.1288,-156.5967,  180,    103.3,  -1.7126,  33.0343,2,  33.0487,0,    284.2,2,   -999.0,9,  -999.00,9,  -999.00,9,  -999.00,9,  -999.00,9,  -999.00,9,  -999.00,9,    0.996,2,  -1.7145,20040916, 413
  32H120040910,    69,  2,    218,     18,2,20040916, 414, 72.1288,-156.5967,  180,    103.3,  -1.7126,  33.0344,2,-999.0000,9,    284.4,2,   -999.0,9,  -999.00,9,  -999.00,9,  -999.00,9,  -999.00,9,  -999.00,9,  -999.00,9,    1.030,2,  -1.7145,20040916, 415
  32H120040910,    69,  2,    205,      5,2,20040916, 414, 72.1288,-156.5967,  180,    103.3,  -1.7127,  33.0345,2,-999.0000,9,    284.4,2,   -999.0,9,  -999.00,9,  -999.00,9,  -999.00,9,  -999.00,9,  -999.00,9,  -999.00,9,    1.001,2,  -1.7146,20040916, 413
  32H120040910,    69,  2,    206,      6,2,20040916, 414, 72.1288,-156.5967,  180,    103.3,  -1.7128,  33.0346,2,-999.0000,9,    284.2,2,   -999.0,9,  -999.00,9,  -999.00,9,  -999.00,9,  -999.00,9,  -999.00,9,  -999.00,9,    1.002,2,  -1.7147,20040916, 413
  32H120040910,    69,  2,    208,      8,2,20040916, 414, 72.1288,-156.5967,  180,    103.3,  -1.7128,  33.0352,2,-999.0000,9,    284.3,2,   -999.0,9,  -999.00,9,  -999.00,9,  -999.00,9,  -999.00,9,  -999.00,9,  -999.00,9,    1.002,2,  -1.7147,20040916, 414
  32H120040910,    69,  2,    207,      7,2,20040916, 414, 72.1288,-156.5967,  180,    103.3,  -1.7129,  33.0348,2,  33.0809,0,    284.2,2,   -999.0,9,  -999.00,9,  -999.00,9,  -999.00,9,  -999.00,9,  -999.00,9,  -999.00,9,    1.044,2,  -1.7148,20040916, 414
  32H120040910,    69,  3,    323,     23,2,20040916, 508, 72.1288,-156.5967,  180,     50.9,  -1.1630,  32.3008,2,-999.0000,9,    336.1,2,   -999.0,9,  -999.00,9,  -999.00,9,  -999.00,9,  -999.00,9,  -999.00,9,  -999.00,9,    1.048,2,  -1.1641,20040916, 513
  32H120040910,    69,  3,    314,     14,2,20040916, 508, 72.1288,-156.5967,  180,     51.0,  -1.1577,  32.3031,2,-999.0000,9,    335.4,2,   -999.0,9,  -999.00,9,  -999.00,9,  -999.00,9,  -999.00,9,  -999.00,9,  -999.00,9,    1.042,2,  -1.1588,20040916, 512
  32H120040910,    69,  3,    313,     13,2,20040916, 508, 72.1288,-156.5967,  180,     51.0,  -1.1592,  32.3016,2,  32.4238,2,    333.2,2,   -999.0,9,  -999.00,9,  -999.00,9,  -999.00,9,  -999.00,9,  -999.00,9,  -999.00,9,    1.137,2,  -1.1603,20040916, 512
  32H120040910,    69,  3,    315,     15,2,20040916, 508, 72.1288,-156.5967,  180,     51.0,  -1.1601,  32.3022,2,-999.0000,9,    336.6,2,   -999.0,9,  -999.00,9,  -999.00,9,  -999.00,9,  -999.00,9,  -999.00,9,  -999.00,9,    1.047,2,  -1.1612,20040916, 512
  32H120040910,    69,  3,    320,     20,2,20040916, 508, 72.1288,-156.5967,  180,     51.0,  -1.1614,  32.3023,2,-999.0000,9,    336.0,2,   -999.0,9,  -999.00,9,  -999.00,9,  -999.00,9,  -999.00,9,  -999.00,9,  -999.00,9,    1.168,2,  -1.1625,20040916, 513
  32H120040910,    69,  3,    319,     19,2,20040916, 508, 72.1288,-156.5967,  180,     51.0,  -1.1615,  32.3022,2,  32.3902,2,    335.8,2,   -999.0,9,  -999.00,9,  -999.00,9,  -999.00,9,  -999.00,9,  -999.00,9,  -999.00,9,    1.146,2,  -1.1626,20040916, 513
  32H120040910,    69,  3,    316,     16,2,20040916, 508, 72.1288,-156.5967,  180,     51.0,  -1.1618,  32.3021,2,  32.3983,2,    336.0,2,   -999.0,9,  -999.00,9,  -999.00,9,  -999.00,9,  -999.00,9,  -999.00,9,  -999.00,9,    1.065,2,  -1.1629,20040916, 513
  32H120040910,    69,  3,    322,     22,2,20040916, 508, 72.1288,-156.5967,  180,     51.0,  -1.1618,  32.3027,2,  32.3332,2,    335.6,2,   -999.0,9,  -999.00,9,  -999.00,9,  -999.00,9,  -999.00,9,  -999.00,9,  -999.00,9,    1.043,2,  -1.1629,20040916, 513
  32H120040910,    69,  3,    321,     21,2,20040916, 508, 72.1288,-156.5967,  180,     51.0,  -1.1623,  32.3018,2,-999.0000,9,    336.2,2,   -999.0,9,  -999.00,9,  -999.00,9,  -999.00,9,  -999.00,9,  -999.00,9,  -999.00,9,    1.129,2,  -1.1634,20040916, 513
  32H120040910,    69,  3,    318,     18,2,20040916, 508, 72.1288,-156.5967,  180,     51.0,  -1.1627,  32.3016,2,-999.0000,9,    334.9,2,   -999.0,9,  -999.00,9,  -999.00,9,  -999.00,9,  -999.00,9,  -999.00,9,  -999.00,9,    1.271,2,  -1.1638,20040916, 513
  32H120040910,    69,  3,    317,     17,2,20040916, 508, 72.1288,-156.5967,  180,     51.0,  -1.1629,  32.3017,2,-999.0000,9,    335.5,2,   -999.0,9,  -999.00,9,  -999.00,9,  -999.00,9,  -999.00,9,  -999.00,9,  -999.00,9,    1.144,2,  -1.1640,20040916, 513
  32H120040910,    69,  3,    324,     24,2,20040916, 508, 72.1288,-156.5967,  180,     51.0,  -1.1636,  32.3002,2,-999.0000,9,    335.0,2,   -999.0,9,  -999.00,9,  -999.00,9,  -999.00,9,  -999.00,9,  -999.00,9,  -999.00,9,    1.054,2,  -1.1647,20040916, 514
  32H120040910,    69,  3,    305,      5,2,20040916, 508, 72.1288,-156.5967,  180,    160.3,  -0.8227,  34.1392,2,-999.0000,9,    268.8,2,   -999.0,9,  -999.00,9,  -999.00,9,  -999.00,9,  -999.00,9,  -999.00,9,  -999.00,9,    0.781,2,  -0.8273,20040916, 508
  32H120040910,    69,  3,    304,      4,2,20040916, 508, 72.1288,-156.5967,  180,    160.3,  -0.8245,  34.1386,2,  34.1409,2,    269.2,2,   -999.0,9,  -999.00,9,  -999.00,9,  -999.00,9,  -999.00,9,  -999.00,9,  -999.00,9,    0.810,2,  -0.8291,20040916, 507
  32H120040910,    69,  3,    306,      6,2,20040916, 508, 72.1288,-156.5967,  180,    160.3,  -0.8250,  34.1381,2,-999.0000,9,    268.7,2,   -999.0,9,  -999.00,9,  -999.00,9,  -999.00,9,  -999.00,9,  -999.00,9,  -999.00,9,    0.756,2,  -0.8296,20040916, 508
  32H120040910,    69,  3,    303,      3,2,20040916, 508, 72.1288,-156.5967,  180,    160.3,  -0.8255,  34.1382,2,-999.0000,9,    269.2,2,   -999.0,9,  -999.00,9,  -999.00,9,  -999.00,9,  -999.00,9,  -999.00,9,  -999.00,9,    0.773,2,  -0.8301,20040916, 507
  32H120040910,    69,  3,    302,      2,2,20040916, 508, 72.1288,-156.5967,  180,    160.3,  -0.8255,  34.1383,2,-999.0000,9,    269.2,2,   -999.0,9,  -999.00,9,  -999.00,9,  -999.00,9,  -999.00,9,  -999.00,9,  -999.00,9,    0.751,2,  -0.8301,20040916, 507
  32H120040910,    69,  3,    307,      7,2,20040916, 508, 72.1288,-156.5967,  180,    160.3,  -0.8263,  34.1373,2,  34.1509,2,    268.6,2,   -999.0,9,  -999.00,9,  -999.00,9,  -999.00,9,  -999.00,9,  -999.00,9,  -999.00,9,    0.822,2,  -0.8309,20040916, 508
  32H120040910,    69,  3,    310,     10,2,20040916, 508, 72.1288,-156.5967,  180,    160.3,  -0.8268,  34.1374,2,  34.1537,2,    269.2,2,   -999.0,9,  -999.00,9,  -999.00,9,  -999.00,9,  -999.00,9,  -999.00,9,  -999.00,9,    0.779,2,  -0.8314,20040916, 508
  32H120040910,    69,  3,    309,      9,2,20040916, 508, 72.1288,-156.5967,  180,    160.3,  -0.8269,  34.1371,2,-999.0000,9,    269.0,2,   -999.0,9,  -999.00,9,  -999.00,9,  -999.00,9,  -999.00,9,  -999.00,9,  -999.00,9,    0.794,2,  -0.8315,20040916, 508
  32H120040910,    69,  3,    311,     11,2,20040916, 508, 72.1288,-156.5967,  180,    160.3,  -0.8270,  34.1370,2,-999.0000,9,    269.2,2,   -999.0,9,  -999.00,9,  -999.00,9,  -999.00,9,  -999.00,9,  -999.00,9,  -999.00,9,    0.753,2,  -0.8316,20040916, 508
  32H120040910,    69,  3,    301,      1,2,20040916, 508, 72.1288,-156.5967,  180,    160.3,  -0.8271,  34.1377,2,  34.1523,2,    269.2,2,   -999.0,9,  -999.00,9,  -999.00,9,  -999.00,9,  -999.00,9,  -999.00,9,  -999.00,9,    0.771,2,  -0.8317,20040916, 507
  32H120040910,    69,  3,    308,      8,2,20040916, 508, 72.1288,-156.5967,  180,    160.3,  -0.8273,  34.1368,2,-999.0000,9,    268.9,2,   -999.0,9,  -999.00,9,  -999.00,9,  -999.00,9,  -999.00,9,  -999.00,9,  -999.00,9,    0.780,2,  -0.8319,20040916, 508
  32H120040910,    69,  3,    312,     12,2,20040916, 508, 72.1288,-156.5967,  180,    160.4,  -0.8272,  34.1370,2,-999.0000,9,    269.1,2,   -999.0,9,  -999.00,9,  -999.00,9,  -999.00,9,  -999.00,9,  -999.00,9,  -999.00,9,    0.750,2,  -0.8318,20040916, 508
  32H120040910,    70,  1,    108,      8,2,20040916, 613, 72.1738,-156.6322,  210,      4.8,   2.9838,  27.1983,2,  28.8239,2,    333.0,2,    367.1,2,     3.33,2,     0.22,2,     0.02,2,     0.62,2,     0.33,2,     0.10,2,    1.235,2,   2.9836,20040916, 628
  32H120040910,    70,  1,    107,      7,2,20040916, 613, 72.1738,-156.6322,  210,     30.0,   0.1475,  31.5563,2,-999.0000,9,    397.1,2,    399.0,2,     6.16,2,     0.87,2,     0.08,2,     0.96,2,     0.52,2,     0.14,2,    1.506,2,   0.1466,20040916, 626
  32H120040910,    70,  1,    106,      6,2,20040916, 613, 72.1738,-156.6322,  210,     60.4,  -1.4065,  32.5481,2,-999.0000,9,    321.7,2,    323.0,2,    28.82,2,    10.92,2,     0.14,2,     1.80,2,     0.10,2,     0.08,2,    1.293,2,  -1.4077,20040916, 624
  32H120040910,    70,  1,    105,      5,2,20040916, 613, 72.1738,-156.6322,  210,     89.7,  -1.5849,  32.9272,2,-999.0000,9,    290.9,2,    295.4,2,    39.28,2,    14.47,2,     0.10,2,     2.03,2,     0.05,2,     0.11,2,    0.903,2,  -1.5866,20040916, 622
  32H120040910,    70,  1,    104,      4,2,20040916, 613, 72.1738,-156.6322,  210,    120.3,  -1.6851,  33.0648,2,-999.0000,9,    288.0,2,    292.8,2,    43.10,2,    14.87,2,     0.12,2,     2.11,2,     0.05,2,     0.17,2,    0.940,2,  -1.6873,20040916, 620
  32H120040910,    70,  1,    103,      3,2,20040916, 613, 72.1738,-156.6322,  210,    150.2,  -0.7187,  34.2302,2,-999.0000,9,    270.8,2,    280.3,2,    20.67,2,    13.51,2,     0.06,2,     1.39,2,     0.02,2,     0.05,2,    0.748,2,  -0.7231,20040916, 617
  32H120040910,    70,  1,    102,      2,2,20040916, 613, 72.1738,-156.6322,  210,    179.6,   0.0611,  34.5827,2,-999.0000,9,    261.5,2,    266.4,2,    16.81,2,    13.66,2,     0.05,2,     1.22,2,     0.02,2,     0.06,2,    0.701,2,   0.0544,20040916, 616
  32H120040910,    70,  1,    101,      1,2,20040916, 613, 72.1738,-156.6322,  210,    205.2,   0.2876,  34.6508,2,  34.6535,2,    253.5,2,    263.1,2,    18.33,2,    13.78,2,     0.06,2,     1.27,2,     0.03,2,     0.08,2,    0.712,2,   0.2795,20040916, 613
  32H120040910,    71,  1,    108,      8,2,20040916, 839, 72.2147,-156.6915,  222,      4.4,   2.9614,  27.2716,2,-999.0000,9,    333.1,2,    343.0,2,     2.75,2,     0.12,2,     0.00,2,     0.49,2,     0.34,2,     0.08,2,    1.296,2,   2.9612,20040916, 853
  32H120040910,    71,  1,    107,      7,2,20040916, 839, 72.2147,-156.6915,  222,     39.7,  -0.6976,  31.9745,2,-999.0000,9,    371.0,2,    364.1,2,    15.11,2,     4.67,2,     0.11,2,     1.37,2,     0.38,2,     0.16,2,    1.535,2,  -0.6986,20040916, 850
  32H120040910,    71,  1,    106,      6,2,20040916, 839, 72.2147,-156.6915,  222,     59.7,  -1.3404,  32.4547,2,-999.0000,9,    318.3,2,    320.5,2,    31.77,2,    11.44,2,     0.11,2,     1.85,2,     0.12,2,     0.10,2,    0.976,2,  -1.3416,20040916, 848
  32H120040910,    71,  1,    105,      5,2,20040916, 839, 72.2147,-156.6915,  222,     89.2,  -1.5936,  32.8772,2,-999.0000,9,    285.0,2,    296.1,2,    43.09,2,    14.87,2,     0.10,2,     2.11,2,     0.08,2,     0.15,2,    1.044,2,  -1.5953,20040916, 846
  32H120040910,    71,  1,    104,      4,2,20040916, 839, 72.2147,-156.6915,  222,    119.9,  -1.6491,  33.0579,2,-999.0000,9,    281.9,2,    292.8,2,    45.75,2,    15.59,2,     0.10,2,     2.16,2,     0.06,2,     0.17,2,    0.940,2,  -1.6514,20040916, 844
  32H120040910,    71,  1,    103,      3,2,20040916, 839, 72.2147,-156.6915,  222,    150.3,  -0.7699,  34.1958,2,-999.0000,9,    273.1,2,    282.6,2,    21.51,2,    13.33,2,     0.09,2,     1.41,2,     0.02,2,     0.07,2,    0.738,2,  -0.7743,20040916, 843
  32H120040910,    71,  1,    102,      2,2,20040916, 839, 72.2147,-156.6915,  222,    179.5,   0.1763,  34.6172,2,  34.6321,2,    260.3,2,    269.0,2,    14.96,2,    13.50,2,     0.06,2,     1.17,2,  -999.00,9,  -999.00,9,    0.704,2,   0.1694,20040916, 841
  32H120040910,    71,  1,    101,      1,2,20040916, 839, 72.2147,-156.6915,  222,    217.5,   0.4571,  34.7021,2,  34.7022,2,    255.4,2,    265.4,2,    16.90,2,    13.62,2,     0.15,2,     1.20,2,  -999.00,9,  -999.00,9,    0.729,2,   0.4482,20040916, 839