BOTTLE,20220815CCHSIOAMB
EXPOCODE,STNNBR,CASTNO,SAMPNO,BTLNBR,BTLNBR_FLAG_W,DATE,TIME,LATITUDE,LONGITUDE,DEPTH,CTDPRS,CTDTMP,CTDSAL,CTDSAL_FLAG_W,SALNTY,SALNTY_FLAG_W,CTDOXY,CTDOXY_FLAG_W,OXYGEN,OXYGEN_FLAG_W,SILCAT,SILCAT_FLAG_W,NITRAT,NITRAT_FLAG_W,NITRIT,NITRIT_FLAG_W,PHSPHT,PHSPHT_FLAG_W,CHLORA,CHLORA_FLAG_W,PHAEO,PHAEO_FLAG_W,FLUORO,FLUORO_FLAG_W,THETA,BTL_DATE,BTL_TIME
,,,,,,,,,,METERS,DBAR,ITS-90,PSS-78,,PSS-78,,UMOL/KG,,UMOL/KG,,UMOL/KG,,UMOL/KG,,UMOL/KG,,UMOL/KG,,UG/L,,UG/L,,VOLTS,,DEG C,,
  32H120040910,    15,  3,    316,     16,2,20040909,1339, 71.8468,-151.7163, 2168,    249.9,   0.4991,  34.7709,2,-999.0000,9,    274.3,2,   -999.0,9,  -999.00,9,  -999.00,9,  -999.00,9,  -999.00,9,  -999.00,9,  -999.00,9,    0.597,2,   0.4886,20040909,1339
  32H120040910,    15,  3,    303,      3,2,20040909,1339, 71.8468,-151.7163, 2168,    250.0,   0.4992,  34.7706,2,-999.0000,9,    274.2,2,   -999.0,9,  -999.00,9,  -999.00,9,  -999.00,9,  -999.00,9,  -999.00,9,  -999.00,9,    0.645,2,   0.4887,20040909,1338
  32H120040910,    15,  3,    318,     18,2,20040909,1339, 71.8468,-151.7163, 2168,    250.0,   0.4995,  34.7710,2,-999.0000,9,    274.4,2,   -999.0,9,  -999.00,9,  -999.00,9,  -999.00,9,  -999.00,9,  -999.00,9,  -999.00,9,    0.595,2,   0.4890,20040909,1340
  32H120040910,    15,  3,    308,      8,2,20040909,1339, 71.8468,-151.7163, 2168,    250.0,   0.4996,  34.7708,2,-999.0000,9,    274.2,2,   -999.0,9,  -999.00,9,  -999.00,9,  -999.00,9,  -999.00,9,  -999.00,9,  -999.00,9,    0.651,2,   0.4891,20040909,1338
  32H120040910,    15,  3,    301,      1,2,20040909,1339, 71.8468,-151.7163, 2168,    250.1,   0.4988,  34.7703,2,  34.7758,2,    274.3,2,   -999.0,9,  -999.00,9,  -999.00,9,  -999.00,9,  -999.00,9,  -999.00,9,  -999.00,9,    0.643,2,   0.4883,20040909,1337
  32H120040910,    15,  3,    313,     13,2,20040909,1339, 71.8468,-151.7163, 2168,    250.1,   0.4991,  34.7707,2,  34.7723,2,    274.1,2,   -999.0,9,  -999.00,9,  -999.00,9,  -999.00,9,  -999.00,9,  -999.00,9,  -999.00,9,    0.616,2,   0.4886,20040909,1339
  32H120040910,    15,  3,    312,     12,2,20040909,1339, 71.8468,-151.7163, 2168,    250.1,   0.4992,  34.7707,2,-999.0000,9,    274.3,2,   -999.0,9,  -999.00,9,  -999.00,9,  -999.00,9,  -999.00,9,  -999.00,9,  -999.00,9,    0.621,2,   0.4887,20040909,1339
  32H120040910,    15,  3,    305,      5,2,20040909,1339, 71.8468,-151.7163, 2168,    250.1,   0.4992,  34.7707,2,  34.7725,2,    274.3,2,   -999.0,9,  -999.00,9,  -999.00,9,  -999.00,9,  -999.00,9,  -999.00,9,  -999.00,9,    0.648,2,   0.4887,20040909,1338
  32H120040910,    15,  3,    317,     17,2,20040909,1339, 71.8468,-151.7163, 2168,    250.1,   0.4992,  34.7709,2,  34.7724,2,    274.2,2,   -999.0,9,  -999.00,9,  -999.00,9,  -999.00,9,  -999.00,9,  -999.00,9,  -999.00,9,    0.615,2,   0.4887,20040909,1340
  32H120040910,    15,  3,    307,      7,2,20040909,1339, 71.8468,-151.7163, 2168,    250.1,   0.4993,  34.7707,2,-999.0000,9,    274.4,2,   -999.0,9,  -999.00,9,  -999.00,9,  -999.00,9,  -999.00,9,  -999.00,9,  -999.00,9,    0.656,2,   0.4888,20040909,1338
  32H120040910,    15,  3,    309,      9,2,20040909,1339, 71.8468,-151.7163, 2168,    250.1,   0.4995,  34.7708,2,  34.7727,2,    274.3,2,   -999.0,9,  -999.00,9,  -999.00,9,  -999.00,9,  -999.00,9,  -999.00,9,  -999.00,9,    0.586,2,   0.4890,20040909,1339
  32H120040910,    15,  3,    320,     20,2,20040909,1339, 71.8468,-151.7163, 2168,    250.1,   0.4996,  34.7711,2,-999.0000,9,    274.4,2,   -999.0,9,  -999.00,9,  -999.00,9,  -999.00,9,  -999.00,9,  -999.00,9,  -999.00,9,    0.621,2,   0.4891,20040909,1340
  32H120040910,    15,  3,    319,     19,2,20040909,1339, 71.8468,-151.7163, 2168,    250.1,   0.4998,  34.7710,2,-999.0000,9,    274.3,2,   -999.0,9,  -999.00,9,  -999.00,9,  -999.00,9,  -999.00,9,  -999.00,9,  -999.00,9,    0.663,2,   0.4893,20040909,1340
  32H120040910,    15,  3,    302,      2,2,20040909,1339, 71.8468,-151.7163, 2168,    250.2,   0.4990,  34.7706,2,-999.0000,9,    274.2,2,   -999.0,9,  -999.00,9,  -999.00,9,  -999.00,9,  -999.00,9,  -999.00,9,  -999.00,9,    0.643,2,   0.4885,20040909,1338
  32H120040910,    15,  3,    306,      6,2,20040909,1339, 71.8468,-151.7163, 2168,    250.2,   0.4990,  34.7707,2,-999.0000,9,    274.4,2,   -999.0,9,  -999.00,9,  -999.00,9,  -999.00,9,  -999.00,9,  -999.00,9,  -999.00,9,    0.617,2,   0.4885,20040909,1338
  32H120040910,    15,  3,    314,     14,2,20040909,1339, 71.8468,-151.7163, 2168,    250.2,   0.4991,  34.7708,2,-999.0000,9,    274.4,2,   -999.0,9,  -999.00,9,  -999.00,9,  -999.00,9,  -999.00,9,  -999.00,9,  -999.00,9,    0.615,2,   0.4886,20040909,1339
  32H120040910,    15,  3,    315,     15,2,20040909,1339, 71.8468,-151.7163, 2168,    250.2,   0.4992,  34.7708,2,-999.0000,9,    274.4,2,   -999.0,9,  -999.00,9,  -999.00,9,  -999.00,9,  -999.00,9,  -999.00,9,  -999.00,9,    0.617,2,   0.4887,20040909,1339
  32H120040910,    15,  3,    304,      4,2,20040909,1339, 71.8468,-151.7163, 2168,    250.2,   0.4993,  34.7706,2,-999.0000,9,    274.1,2,   -999.0,9,  -999.00,9,  -999.00,9,  -999.00,9,  -999.00,9,  -999.00,9,  -999.00,9,    0.652,2,   0.4888,20040909,1338
  32H120040910,    15,  3,    311,     11,2,20040909,1339, 71.8468,-151.7163, 2168,    250.2,   0.4995,  34.7708,2,-999.0000,9,    274.2,2,   -999.0,9,  -999.00,9,  -999.00,9,  -999.00,9,  -999.00,9,  -999.00,9,  -999.00,9,    0.656,2,   0.4890,20040909,1339
  32H120040910,    15,  3,    310,     10,2,20040909,1339, 71.8468,-151.7163, 2168,    250.2,   0.4995,  34.7709,2,-999.0000,9,    274.1,2,   -999.0,9,  -999.00,9,  -999.00,9,  -999.00,9,  -999.00,9,  -999.00,9,  -999.00,9,    0.592,2,   0.4890,20040909,1339
  32H120040910,    23,  1,    103,      3,2,20040912, 850, 71.9620,-161.2850,   39,      5.4,   3.2493,  26.3041,2,  26.3055,2,    336.1,2,   -999.0,9,     2.95,2,     0.16,2,     0.00,2,     0.38,2,     1.71,2,     0.11,2,    1.564,2,   3.2490,20040912, 854
  32H120040910,    23,  1,    102,      2,2,20040912, 850, 71.9620,-161.2850,   39,     14.9,   5.7685,  28.0024,2,-999.0000,9,    315.7,2,    328.1,2,     0.07,2,     0.11,2,     0.00,2,     0.26,2,     0.60,2,     0.07,2,    1.642,2,   5.7674,20040912, 852
  32H120040910,    23,  1,    101,      1,2,20040912, 850, 71.9620,-161.2850,   39,     34.0,  -0.0626,  32.4149,2,  32.3988,2,    366.3,2,    380.7,2,     5.12,2,     2.75,2,     0.11,2,     1.13,2,     5.65,2,     0.14,2,    2.360,2,  -0.0636,20040912, 850
  32H120040910,    24,  1,    104,      4,2,20040912, 955, 71.8965,-161.1628,   42,      5.0,   3.2098,  26.3804,2,-999.0000,9,    335.2,2,    345.6,2,     3.08,2,     0.11,2,     0.00,2,     0.40,2,     0.67,2,     0.07,2,    1.572,2,   3.2096,20040912,1000
  32H120040910,    24,  1,    103,      3,2,20040912, 955, 71.8965,-161.1628,   42,     15.0,   6.7937,  28.8393,2,-999.0000,9,    306.3,2,    323.3,2,     0.09,2,     0.10,2,     0.01,2,     0.23,2,     0.75,2,     0.13,2,    1.681,2,   6.7925,20040912, 958
  32H120040910,    24,  1,    102,      2,2,20040912, 955, 71.8965,-161.1628,   42,     30.1,  -0.2824,  32.4022,2,  32.3589,2,    358.7,2,    377.0,2,     9.43,2,     2.57,2,     0.15,2,     1.25,2,     3.09,2,     0.00,2,    2.197,2,  -0.2833,20040912, 957
  32H120040910,    24,  1,    101,      1,2,20040912, 955, 71.8965,-161.1628,   42,     36.9,  -0.2452,  32.4063,2,  32.4054,2,    359.2,2,    372.9,2,     7.25,2,     3.33,2,     0.14,2,     1.26,2,     5.37,2,     0.10,2,    2.264,2,  -0.2463,20040912, 955
  32H120040910,    25,  1,    104,      4,2,20040912,1103, 71.8437,-161.0578,   45,      4.8,   3.3345,  26.3751,2,  26.3802,2,    334.3,2,    344.9,2,     3.26,2,     0.10,2,     0.00,2,     0.40,2,     0.61,2,     0.06,2,    1.551,2,   3.3343,20040912,1108
  32H120040910,    25,  1,    103,      3,2,20040912,1103, 71.8437,-161.0578,   45,     15.1,   0.1915,  30.7672,2,-999.0000,9,    474.0,2,    491.1,2,     8.12,2,     0.10,2,     0.01,2,     0.72,2,     0.36,2,     0.04,2,    1.394,2,   0.1911,20040912,1106
  32H120040910,    25,  1,    102,      2,2,20040912,1103, 71.8437,-161.0578,   45,     30.1,  -0.8133,  32.3347,2,-999.0000,9,    353.0,2,    371.6,2,    18.37,2,     2.92,2,     0.23,2,     1.45,2,     1.21,2,     0.78,2,    1.602,2,  -0.8140,20040912,1105
  32H120040910,    25,  1,    101,      1,2,20040912,1103, 71.8437,-161.0578,   45,     39.9,  -0.6229,  32.3930,2,  32.3115,0,    327.7,2,    353.3,2,    15.04,2,     3.62,2,     0.22,2,     1.52,2,     1.16,2,     0.22,2,    1.556,2,  -0.6239,20040912,1103
  32H120040910,    26,  1,    104,      4,2,20040912,1218, 71.7843,-160.9285,   47,      4.7,   3.5255,  27.0497,2,  27.0513,2,    333.5,2,    343.3,2,     3.35,2,     0.10,2,     0.01,2,     0.43,2,     0.72,2,     0.06,2,    1.569,2,   3.5253,20040912,1224
  32H120040910,    26,  1,    103,      3,2,20040912,1218, 71.7843,-160.9285,   47,     15.2,  -0.2559,  31.1491,2,-999.0000,9,    470.0,2,    492.9,2,     9.33,2,     0.09,2,     0.01,2,     0.76,2,     0.28,2,     0.06,2,    1.260,2,  -0.2563,20040912,1223
  32H120040910,    26,  1,    102,      2,2,20040912,1218, 71.7843,-160.9285,   47,     30.8,  -1.1660,  32.5104,2,-999.0000,9,    329.8,2,    374.3,2,    23.23,2,     5.53,2,     0.26,2,     1.56,2,     3.02,2,     0.92,2,    1.959,2,  -1.1667,20040912,1221
  32H120040910,    26,  1,    101,      1,2,20040912,1218, 71.7843,-160.9285,   47,     41.6,  -1.2989,  32.5774,2,  32.5754,2,    296.0,2,    306.6,2,    33.36,2,     9.41,2,     0.42,2,     2.11,2,     3.06,2,     0.97,2,    1.925,2,  -1.2997,20040912,1218
  32H120040910,    27,  1,    104,      4,2,20040912,1331, 71.7288,-160.8232,   47,      5.1,   4.1362,  27.2887,2,  27.3470,2,    329.3,2,    341.2,2,     3.03,2,     0.14,2,     0.01,2,     0.40,2,     0.77,2,     0.08,2,    1.608,2,   4.1359,20040912,1337
  32H120040910,    27,  1,    103,      3,2,20040912,1331, 71.7288,-160.8232,   47,     15.0,  -0.4129,  31.1809,2,-999.0000,9,    480.7,2,    493.9,2,     8.81,2,     0.09,2,     0.01,2,     0.77,2,     0.34,2,     0.05,2,    1.339,2,  -0.4133,20040912,1335
  32H120040910,    27,  1,    102,      2,2,20040912,1331, 71.7288,-160.8232,   47,     32.3,  -1.3717,  32.5386,2,-999.0000,9,    323.1,2,    330.3,2,    25.08,2,     7.94,2,     0.43,2,     1.97,2,     5.97,2,     0.36,2,    2.051,2,  -1.3723,20040912,1333
  32H120040910,    27,  1,    101,      1,2,20040912,1331, 71.7288,-160.8232,   47,     41.8,  -1.3684,  32.6248,2,  32.6139,2,    285.9,2,    298.5,2,    36.52,2,    10.44,2,     0.46,2,     2.16,2,     4.14,2,     0.11,2,    1.958,2,  -1.3692,20040912,1331
  32H120040910,    28,  1,    104,      4,2,20040912,1449, 71.6703,-160.7172,   50,      5.8,   3.1202,  27.0299,2,-999.0000,9,    337.6,2,    363.6,2,     4.35,2,     0.14,2,     0.01,2,     0.50,2,     0.60,2,     0.05,2,    1.513,2,   3.1199,20040912,1454
  32H120040910,    28,  1,    103,      3,2,20040912,1449, 71.6703,-160.7172,   50,     15.1,  -0.2960,  31.4745,2,-999.0000,9,    463.6,2,    479.7,2,     5.53,2,     0.09,2,     0.01,2,     0.72,2,     0.19,2,     0.02,2,    1.080,2,  -0.2964,20040912,1453
  32H120040910,    28,  1,    102,      2,2,20040912,1449, 71.6703,-160.7172,   50,     29.9,  -0.9063,  32.4854,2,  32.4905,2,    311.5,2,    324.2,2,    24.97,2,     5.92,2,     0.44,2,     1.90,2,     2.24,2,     0.24,2,    1.757,2,  -0.9070,20040912,1451
  32H120040910,    28,  1,    101,      1,2,20040912,1449, 71.6703,-160.7172,   50,     44.8,  -1.2467,  32.6016,2,  32.5825,2,    293.6,2,    294.5,2,    32.37,2,     8.91,2,     0.49,2,     2.17,2,     2.69,2,     0.20,2,    1.768,2,  -1.2476,20040912,1449
  32H120040910,    29,  1,    104,      4,2,20040912,1606, 71.6088,-160.5993,   52,      5.1,   2.3134,  27.2577,2,-999.0000,9,    369.6,2,    371.1,2,     6.18,2,     0.14,2,     0.01,2,     0.55,2,     0.50,2,     0.05,2,    1.447,2,   2.3132,20040912,1611
  32H120040910,    29,  1,    103,      3,2,20040912,1606, 71.6088,-160.5993,   52,     14.7,   1.0068,  29.2767,2,-999.0000,9,    434.3,2,    465.4,2,     8.70,2,     0.08,2,     0.01,2,     0.73,2,     0.37,2,     0.07,2,    1.419,2,   1.0063,20040912,1610
  32H120040910,    29,  1,    102,      2,2,20040912,1606, 71.6088,-160.5993,   52,     30.1,  -0.8297,  32.4410,2,  32.4362,2,    327.1,2,    343.3,2,    18.71,2,     4.58,2,     0.34,2,     1.72,2,     3.48,2,     0.10,2,    1.827,2,  -0.8304,20040912,1608
  32H120040910,    29,  1,    101,      1,2,20040912,1606, 71.6088,-160.5993,   52,     47.4,  -1.4912,  32.6891,2,  32.6372,2,    280.5,2,    297.1,2,    36.68,2,    10.76,2,     0.36,2,     2.13,2,     2.98,2,     0.10,2,    1.762,2,  -1.4921,20040912,1606
  32H120040910,    30,  1,    105,      5,2,20040912,1716, 71.5530,-160.4825,   52,      5.1,   2.3361,  26.9261,2,  26.9302,2,    351.8,2,    362.2,2,     6.37,2,     0.13,2,     0.00,2,     0.55,2,     0.41,2,     0.07,2,    1.417,2,   2.3359,20040912,1722
  32H120040910,    30,  1,    104,      4,2,20040912,1716, 71.5530,-160.4825,   52,     15.2,  -0.1269,  30.5609,2,-999.0000,9,    465.1,2,    486.8,2,    11.44,2,     0.08,2,     0.01,2,     0.79,2,     0.44,2,     0.08,2,    1.465,2,  -0.1273,20040912,1721
  32H120040910,    30,  1,    102,      2,9,20040912,1716, 71.5530,-160.4825,   52,     29.9,  -0.9421,  32.4987,2,-999.0000,9,    308.4,2,   -999.0,9,  -999.00,9,  -999.00,9,  -999.00,9,  -999.00,9,  -999.00,9,  -999.00,9,    1.893,2,  -0.9428,20040912,1718
  32H120040910,    30,  1,    103,      3,2,20040912,1716, 71.5530,-160.4825,   52,     30.5,  -0.9243,  32.4954,2,  32.4985,2,    310.9,2,   -999.0,9,    25.24,2,     6.03,2,     0.44,2,     1.87,2,     2.17,2,     0.13,2,    1.862,2,  -0.9250,20040912,1719
  32H120040910,    30,  1,    101,      1,2,20040912,1716, 71.5530,-160.4825,   52,     46.9,  -1.4082,  32.7029,2,-999.0000,9,    272.2,2,    297.3,2,    38.89,2,    10.39,2,     0.38,2,     2.20,2,     2.17,2,     0.34,2,    1.672,2,  -1.4091,20040912,1716
  32H120040910,    31,  1,    104,      4,2,20040912,1819, 71.4962,-160.3730,   51,      5.7,   2.2915,  27.0964,2,  27.0535,2,    353.0,2,    357.4,2,     5.03,2,     0.13,2,     0.01,2,     0.56,2,     0.33,2,     0.06,2,    1.371,2,   2.2913,20040912,1825
  32H120040910,    31,  1,    103,      3,2,20040912,1819, 71.4962,-160.3730,   51,     15.8,  -0.7321,  30.9965,2,-999.0000,9,    488.4,2,    499.3,2,    10.61,2,     0.08,2,     0.01,2,     0.76,2,     0.38,2,     0.06,2,    1.433,2,  -0.7324,20040912,1823
  32H120040910,    31,  1,    102,      2,2,20040912,1819, 71.4962,-160.3730,   51,     31.0,  -1.0421,  32.5326,2,  32.5354,2,    303.2,2,    314.3,2,    30.87,2,     7.38,2,     0.48,2,     2.00,2,     1.90,2,     0.14,2,    1.618,2,  -1.0428,20040912,1822
  32H120040910,    31,  1,    101,      1,2,20040912,1819, 71.4962,-160.3730,   51,     46.1,  -1.3345,  32.6824,2,-999.0000,9,    278.3,2,    288.9,2,    40.14,2,    10.74,2,     0.41,2,     2.18,2,     2.89,2,     0.08,2,    1.706,2,  -1.3354,20040912,1819
  32H120040910,    32,  1,    104,      4,2,20040912,1922, 71.4372,-160.2683,   51,      5.8,   2.3238,  27.1350,2,  27.1344,2,    348.1,2,    359.8,2,     4.81,2,     0.11,2,     0.00,2,     0.55,2,     0.36,2,     0.06,2,    1.165,2,   2.3236,20040912,1927
  32H120040910,    32,  1,    103,      3,2,20040912,1922, 71.4372,-160.2683,   51,     15.8,   2.3008,  27.1632,2,  27.2479,2,    352.5,2,    367.1,2,     5.29,2,     0.06,2,     0.00,2,     0.57,2,     0.34,2,     0.04,2,    1.383,2,   2.3001,20040912,1925
  32H120040910,    32,  1,    102,      2,2,20040912,1922, 71.4372,-160.2683,   51,     31.0,  -1.4114,  32.4386,2,  32.4317,2,    349.7,2,    360.9,2,    25.99,2,     8.26,2,     0.19,2,     1.67,2,     2.74,2,     0.60,2,    1.909,2,  -1.4120,20040912,1923
  32H120040910,    32,  1,    101,      1,2,20040912,1922, 71.4372,-160.2683,   51,     45.6,  -1.4089,  32.7482,2,  32.7291,2,    276.0,2,    285.9,2,    42.71,2,    11.80,2,     0.37,2,     2.25,2,     2.73,2,     0.13,2,    1.628,2,  -1.4098,20040912,1922
  32H120040910,    33,  1,    104,      4,2,20040912,2022, 71.3822,-160.1568,   48,      5.2,   2.4889,  27.1872,2,-999.0000,9,    353.8,2,    377.0,2,     5.55,2,     0.16,2,     0.00,2,     0.58,2,     0.32,2,     0.05,2,    1.209,2,   2.4887,20040912,2029
  32H120040910,    33,  1,    103,      3,2,20040912,2022, 71.3822,-160.1568,   48,     15.5,   0.1878,  29.7901,2,-999.0000,9,    435.0,2,    459.9,2,     7.15,2,     0.11,2,     0.00,2,     0.72,2,     0.31,2,     0.08,2,    1.150,2,   0.1874,20040912,2027
  32H120040910,    33,  1,    102,      2,2,20040912,2022, 71.3822,-160.1568,   48,     30.2,  -1.6305,  32.3705,2,  32.3652,2,    312.8,2,    326.6,2,    31.91,2,    12.21,2,     0.10,2,     1.89,2,     3.13,2,     0.53,2,    2.068,2,  -1.6310,20040912,2025
  32H120040910,    33,  1,    101,      1,2,20040912,2022, 71.3822,-160.1568,   48,     43.4,  -1.3110,  32.6553,2,  32.6073,2,    281.1,2,    296.1,2,    38.55,2,    11.23,2,     0.42,2,     2.18,2,     4.07,2,     0.09,2,    1.901,2,  -1.3119,20040912,2022
  32H120040910,    34,  1,    104,      4,2,20040912,2143, 71.3538,-160.1215,   49,      4.5,   2.5401,  27.0380,2,-999.0000,9,    346.0,2,    356.7,2,     5.78,2,     0.15,2,     0.00,2,     0.55,2,     0.40,2,     0.03,2,    1.333,2,   2.5399,20040912,2147
  32H120040910,    34,  1,    103,      3,2,20040912,2143, 71.3538,-160.1215,   49,     15.1,  -0.6824,  31.5795,2,-999.0000,9,    398.6,2,    426.8,2,     7.87,2,     0.10,2,     0.01,2,     0.91,2,     0.26,2,     0.08,2,    1.347,2,  -0.6828,20040912,2146
  32H120040910,    34,  1,    102,      2,2,20040912,2143, 71.3538,-160.1215,   49,     33.4,  -1.2758,  32.5914,2,  32.5916,2,    293.3,2,    303.7,2,    36.41,2,    11.31,2,     0.48,2,     2.17,2,     3.89,2,     0.14,2,    1.818,2,  -1.2765,20040912,2144
  32H120040910,    34,  1,    101,      1,2,20040912,2143, 71.3538,-160.1215,   49,     43.7,  -1.2727,  32.5921,2,  32.5900,2,    293.0,2,    303.5,2,    36.30,2,    10.85,2,     0.48,2,     2.14,2,     4.06,2,     0.13,2,    1.866,2,  -1.2736,20040912,2143
  32H120040910,    35,  1,    104,      4,2,20040912,2229, 71.3278,-160.0507,   49,      5.7,   2.5772,  26.9859,2,-999.0000,9,    345.1,2,    356.5,2,     5.90,2,     0.20,2,     0.00,2,     0.55,2,     0.39,2,     0.05,2,    1.192,2,   2.5770,20040912,2232
  32H120040910,    35,  1,    103,      3,2,20040912,2229, 71.3278,-160.0507,   49,     14.8,   1.7637,  28.1291,2,-999.0000,9,    433.4,2,    402.0,2,     7.00,2,     0.10,2,     0.00,2,     0.60,2,     0.37,2,     0.04,2,    1.306,2,   1.7631,20040912,2231
  32H120040910,    35,  1,    102,      2,2,20040912,2229, 71.3278,-160.0507,   49,     31.3,  -1.4964,  32.5466,2,  32.4582,2,    307.0,2,    343.5,2,    27.42,2,    11.65,2,     0.10,2,     1.84,2,     2.44,2,     0.42,2,    1.941,2,  -1.4970,20040912,2230
  32H120040910,    35,  1,    101,      1,2,20040912,2229, 71.3278,-160.0507,   49,     44.2,  -1.3595,  32.5843,2,  32.5809,2,    294.4,2,    305.4,2,    37.22,2,    11.06,2,     0.40,2,     2.14,2,     3.02,2,     0.30,2,    1.722,2,  -1.3604,20040912,2229