BOTTLE,20220815CCHSIOAMB
EXPOCODE,STNNBR,CASTNO,SAMPNO,BTLNBR,BTLNBR_FLAG_W,DATE,TIME,LATITUDE,LONGITUDE,DEPTH,CTDPRS,CTDTMP,CTDSAL,CTDSAL_FLAG_W,SALNTY,SALNTY_FLAG_W,CTDOXY,CTDOXY_FLAG_W,OXYGEN,OXYGEN_FLAG_W,SILCAT,SILCAT_FLAG_W,NITRAT,NITRAT_FLAG_W,NITRIT,NITRIT_FLAG_W,PHSPHT,PHSPHT_FLAG_W,CHLORA,CHLORA_FLAG_W,PHAEO,PHAEO_FLAG_W,FLUORO,FLUORO_FLAG_W,THETA,BTL_DATE,BTL_TIME
,,,,,,,,,,METERS,DBAR,ITS-90,PSS-78,,PSS-78,,UMOL/KG,,UMOL/KG,,UMOL/KG,,UMOL/KG,,UMOL/KG,,UMOL/KG,,UG/L,,UG/L,,VOLTS,,DEG C,,
  32H120040910,    54,  1,    106,      6,2,20040914,2027, 71.5778,-155.6672,  159,      4.9,   7.7566,  30.0909,2,-999.0000,9,    281.0,2,    292.4,2,     5.23,2,     0.23,2,     0.02,2,     0.57,2,     0.60,2,     0.11,2,    1.403,2,   7.7562,20040914,2036
  32H120040910,    54,  1,    105,      5,2,20040914,2027, 71.5778,-155.6672,  159,     29.6,   5.1654,  31.1211,2,-999.0000,9,    303.2,2,    331.6,2,     8.68,2,     0.38,2,     0.05,2,     0.88,2,     0.32,2,     0.19,2,    1.266,2,   5.1633,20040914,2034
  32H120040910,    54,  1,    104,      4,2,20040914,2027, 71.5778,-155.6672,  159,     59.9,  -0.9404,  32.4572,2,-999.0000,9,    333.8,2,    338.9,2,    24.47,2,     6.95,2,     0.24,2,     1.75,2,     0.41,2,     0.23,2,    1.338,2,  -0.9418,20040914,2032
  32H120040910,    54,  1,    103,      3,2,20040914,2027, 71.5778,-155.6672,  159,     89.6,  -1.5745,  32.7622,2,  32.8499,2,    300.1,2,    297.3,2,    40.08,2,    13.45,2,     0.14,2,     2.10,2,     0.45,2,     0.18,2,    1.221,2,  -1.5762,20040914,2031
  32H120040910,    54,  1,    102,      2,2,20040914,2027, 71.5778,-155.6672,  159,    120.1,  -1.5529,  33.0436,2,  33.0507,2,    279.8,2,    290.3,2,    37.44,2,    13.99,2,     0.10,2,     1.99,2,     0.09,2,     0.14,2,    0.918,2,  -1.5553,20040914,2029
  32H120040910,    54,  1,    101,      1,2,20040914,2027, 71.5778,-155.6672,  159,    154.0,  -0.7002,  33.9966,2,-999.0000,9,    258.5,2,    270.6,2,    31.20,2,    14.13,2,     0.14,2,     1.80,2,     0.36,2,     0.39,2,    1.267,2,  -0.7047,20040914,2027
  32H120040910,    54,  2,    201,      1,2,20040914,2159, 71.5778,-155.6672,  159,    124.1,  -1.7236,  33.0638,2,  33.1912,0,    265.3,2,   -999.0,9,  -999.00,9,  -999.00,9,  -999.00,9,  -999.00,9,  -999.00,9,  -999.00,9,    1.164,2,  -1.7259,20040914,2157
  32H120040910,    54,  2,    202,      2,2,20040914,2159, 71.5778,-155.6672,  159,    124.3,  -1.7241,  33.0637,2,-999.0000,9,    265.7,2,   -999.0,9,  -999.00,9,  -999.00,9,  -999.00,9,  -999.00,9,  -999.00,9,  -999.00,9,    1.148,2,  -1.7264,20040914,2157
  32H120040910,    54,  2,    203,      3,2,20040914,2159, 71.5778,-155.6672,  159,    124.5,  -1.7242,  33.0639,2,-999.0000,9,    265.4,2,   -999.0,9,  -999.00,9,  -999.00,9,  -999.00,9,  -999.00,9,  -999.00,9,  -999.00,9,    1.147,2,  -1.7265,20040914,2157
  32H120040910,    54,  2,    204,      4,2,20040914,2159, 71.5778,-155.6672,  159,    124.6,  -1.7242,  33.0642,2,  33.0784,0,    265.9,2,   -999.0,9,  -999.00,9,  -999.00,9,  -999.00,9,  -999.00,9,  -999.00,9,  -999.00,9,    1.147,2,  -1.7265,20040914,2157
  32H120040910,    54,  2,    205,      5,2,20040914,2159, 71.5778,-155.6672,  159,    124.6,  -1.7243,  33.0644,2,-999.0000,9,    265.8,2,   -999.0,9,  -999.00,9,  -999.00,9,  -999.00,9,  -999.00,9,  -999.00,9,  -999.00,9,    1.157,2,  -1.7266,20040914,2157
  32H120040910,    54,  2,    206,      6,2,20040914,2159, 71.5778,-155.6672,  159,    124.7,  -1.7242,  33.0642,2,-999.0000,9,    265.8,2,   -999.0,9,  -999.00,9,  -999.00,9,  -999.00,9,  -999.00,9,  -999.00,9,  -999.00,9,    1.200,2,  -1.7265,20040914,2157
  32H120040910,    54,  2,    207,      7,2,20040914,2159, 71.5778,-155.6672,  159,    124.8,  -1.7244,  33.0648,2,  33.1439,2,    265.6,2,   -999.0,9,  -999.00,9,  -999.00,9,  -999.00,9,  -999.00,9,  -999.00,9,  -999.00,9,    1.171,2,  -1.7267,20040914,2157
  32H120040910,    54,  2,    220,     20,2,20040914,2159, 71.5778,-155.6672,  159,    124.9,  -1.7242,  33.0660,2,  33.0643,2,    265.9,2,   -999.0,9,  -999.00,9,  -999.00,9,  -999.00,9,  -999.00,9,  -999.00,9,  -999.00,9,    1.136,2,  -1.7265,20040914,2200
  32H120040910,    54,  2,    208,      8,2,20040914,2159, 71.5778,-155.6672,  159,    124.9,  -1.7244,  33.0649,2,-999.0000,9,    265.5,2,   -999.0,9,  -999.00,9,  -999.00,9,  -999.00,9,  -999.00,9,  -999.00,9,  -999.00,9,    1.162,2,  -1.7267,20040914,2158
  32H120040910,    54,  2,    209,      9,2,20040914,2159, 71.5778,-155.6672,  159,    124.9,  -1.7244,  33.0651,2,-999.0000,9,    265.7,2,   -999.0,9,  -999.00,9,  -999.00,9,  -999.00,9,  -999.00,9,  -999.00,9,  -999.00,9,    1.160,2,  -1.7267,20040914,2158
  32H120040910,    54,  2,    210,     10,2,20040914,2159, 71.5778,-155.6672,  159,    125.0,  -1.7243,  33.0642,2,  33.0639,2,    265.6,2,   -999.0,9,  -999.00,9,  -999.00,9,  -999.00,9,  -999.00,9,  -999.00,9,  -999.00,9,    1.153,2,  -1.7266,20040914,2158
  32H120040910,    54,  2,    219,     19,2,20040914,2159, 71.5778,-155.6672,  159,    125.0,  -1.7243,  33.0659,2,-999.0000,9,    266.0,2,   -999.0,9,  -999.00,9,  -999.00,9,  -999.00,9,  -999.00,9,  -999.00,9,  -999.00,9,    1.115,2,  -1.7266,20040914,2200
  32H120040910,    54,  2,    215,     15,2,20040914,2159, 71.5778,-155.6672,  159,    125.0,  -1.7244,  33.0647,2,-999.0000,9,    265.5,2,   -999.0,9,  -999.00,9,  -999.00,9,  -999.00,9,  -999.00,9,  -999.00,9,  -999.00,9,    1.152,2,  -1.7267,20040914,2159
  32H120040910,    54,  2,    216,     16,2,20040914,2159, 71.5778,-155.6672,  159,    125.0,  -1.7245,  33.0647,2,-999.0000,9,    265.6,2,   -999.0,9,  -999.00,9,  -999.00,9,  -999.00,9,  -999.00,9,  -999.00,9,  -999.00,9,    1.178,2,  -1.7268,20040914,2159
  32H120040910,    54,  2,    217,     17,2,20040914,2159, 71.5778,-155.6672,  159,    125.0,  -1.7245,  33.0650,2,  33.0639,2,    265.8,2,   -999.0,9,  -999.00,9,  -999.00,9,  -999.00,9,  -999.00,9,  -999.00,9,  -999.00,9,    1.136,2,  -1.7268,20040914,2159
  32H120040910,    54,  2,    218,     18,2,20040914,2159, 71.5778,-155.6672,  159,    125.0,  -1.7245,  33.0657,2,-999.0000,9,    265.9,2,   -999.0,9,  -999.00,9,  -999.00,9,  -999.00,9,  -999.00,9,  -999.00,9,  -999.00,9,    1.125,2,  -1.7268,20040914,2200
  32H120040910,    54,  2,    212,     12,2,20040914,2159, 71.5778,-155.6672,  159,    125.1,  -1.7241,  33.0632,2,-999.0000,9,    265.5,2,   -999.0,9,  -999.00,9,  -999.00,9,  -999.00,9,  -999.00,9,  -999.00,9,  -999.00,9,    1.159,2,  -1.7264,20040914,2158
  32H120040910,    54,  2,    213,     13,2,20040914,2159, 71.5778,-155.6672,  159,    125.1,  -1.7241,  33.0637,2,  33.0633,2,    265.8,2,   -999.0,9,  -999.00,9,  -999.00,9,  -999.00,9,  -999.00,9,  -999.00,9,  -999.00,9,    1.147,2,  -1.7264,20040914,2159
  32H120040910,    54,  2,    211,     11,2,20040914,2159, 71.5778,-155.6672,  159,    125.1,  -1.7243,  33.0640,2,-999.0000,9,    265.5,2,   -999.0,9,  -999.00,9,  -999.00,9,  -999.00,9,  -999.00,9,  -999.00,9,  -999.00,9,    1.137,2,  -1.7266,20040914,2158
  32H120040910,    54,  2,    214,     14,2,20040914,2159, 71.5778,-155.6672,  159,    125.1,  -1.7244,  33.0650,2,-999.0000,9,    265.6,2,   -999.0,9,  -999.00,9,  -999.00,9,  -999.00,9,  -999.00,9,  -999.00,9,  -999.00,9,    1.142,2,  -1.7267,20040914,2159
  32H120040910,    55,  1,    107,      7,2,20040914,2255, 71.5957,-155.7127,  190,      5.0,   4.3454,  28.4038,2,-999.0000,9,    317.3,2,    327.3,2,     3.58,2,     0.18,2,     0.01,2,     0.44,2,     0.74,2,     0.07,2,    1.416,2,   4.3451,20040914,2305
  32H120040910,    55,  1,    106,      6,2,20040914,2255, 71.5957,-155.7127,  190,     30.8,   4.8352,  30.9454,2,-999.0000,9,    320.6,2,    380.9,2,     7.12,2,     0.43,2,     0.05,2,     0.83,2,     0.54,2,     0.14,2,    1.379,2,   4.8331,20040914,2304
  32H120040910,    55,  1,    105,      5,2,20040914,2255, 71.5957,-155.7127,  190,     61.1,  -0.9898,  32.4783,2,  32.4749,2,    333.2,2,    348.8,2,    22.37,2,     5.85,2,     0.23,2,     1.66,2,     0.16,2,     0.14,2,    1.439,2,  -0.9912,20040914,2302
  32H120040910,    55,  1,    104,      4,2,20040914,2255, 71.5957,-155.7127,  190,     91.4,  -1.5940,  32.8086,2,-999.0000,9,    297.2,2,    312.0,2,    34.15,2,    12.33,2,     0.18,2,     1.96,2,     0.17,2,     0.13,2,    1.026,2,  -1.5957,20040914,2300
  32H120040910,    55,  1,    103,      3,2,20040914,2255, 71.5957,-155.7127,  190,    120.6,  -1.6574,  33.0449,2,-999.0000,9,    268.2,2,    286.0,2,    43.15,2,    13.52,2,     0.16,2,     2.12,2,     0.09,2,     0.20,2,    1.099,2,  -1.6597,20040914,2258
  32H120040910,    55,  1,    102,      2,2,20040914,2255, 71.5957,-155.7127,  190,    151.3,  -1.2368,  33.6596,2,-999.0000,9,    270.7,2,    279.2,2,    27.11,2,    13.61,2,     0.12,2,     1.62,2,     0.18,2,     0.14,2,    0.901,2,  -1.2404,20040914,2257
  32H120040910,    55,  1,    101,      1,2,20040914,2255, 71.5957,-155.7127,  190,    185.2,  -0.4081,  34.2942,2,  34.2348,2,    257.9,2,    269.4,2,    23.05,2,    13.72,2,     0.14,2,     1.55,2,     0.40,2,     0.33,2,    1.265,2,  -0.4141,20040914,2255
  32H120040910,    56,  1,    109,      9,2,20040915,2359, 71.6158,-155.7443,  229,      5.0,   4.3663,  28.3379,2,  28.3569,2,    319.2,2,    328.8,2,     2.70,2,     0.12,2,     0.00,2,     0.43,2,     0.50,2,     0.30,2,    1.435,2,   4.3660,20040915,  18
  32H120040910,    56,  1,    108,      8,2,20040915,2359, 71.6158,-155.7443,  229,     31.0,   6.0017,  30.8537,2,-999.0000,9,    300.1,2,    332.6,2,     7.35,2,     0.27,2,     0.04,2,     0.78,2,     0.23,2,     0.42,2,    1.329,2,   5.9993,20040915,  16
  32H120040910,    56,  1,    107,      7,2,20040915,2359, 71.6158,-155.7443,  229,     60.2,  -1.1465,  32.4381,2,-999.0000,9,    341.8,2,    352.2,2,    20.76,2,     7.20,2,     0.18,2,     1.60,2,     0.23,2,     0.08,2,    1.333,2,  -1.1478,20040915,  14
  32H120040910,    56,  1,    106,      6,2,20040915,2359, 71.6158,-155.7443,  229,     91.0,  -1.6170,  32.8450,2,-999.0000,9,    286.1,2,    300.0,2,    36.54,2,    13.45,2,     0.14,2,     2.05,2,     0.10,2,     0.13,2,    1.015,2,  -1.6187,20040915,  11
  32H120040910,    56,  1,    105,      5,2,20040915,2359, 71.6158,-155.7443,  229,    122.4,  -1.5886,  33.0807,2,-999.0000,9,    272.6,2,    284.3,2,    41.04,2,    13.98,2,     0.13,2,     2.10,2,     0.06,2,     0.17,2,    0.984,2,  -1.5910,20040915,   8
  32H120040910,    56,  1,    104,      4,2,20040915,2359, 71.6158,-155.7443,  229,    150.3,  -1.2857,  33.5447,2,-999.0000,9,    272.7,2,    283.4,2,    29.71,2,    13.48,2,     0.11,2,     1.74,2,     0.04,2,     0.09,2,    0.947,2,  -1.2892,20040915,   6
  32H120040910,    56,  1,    103,      3,2,20040915,2359, 71.6158,-155.7443,  229,    183.7,  -1.0124,  33.9994,2,-999.0000,9,    269.4,2,    279.6,2,    23.58,2,    13.77,2,     0.05,2,     1.50,2,     0.05,2,     0.05,2,    0.741,2,  -1.0173,20040915,   4
  32H120040910,    56,  1,    102,      2,2,20040915,2359, 71.6158,-155.7443,  229,    200.7,   0.1438,  34.6006,2,  34.5932,2,    255.8,2,    265.8,2,    17.42,2,    13.48,2,     0.12,2,     1.39,2,     0.38,2,     0.34,2,    1.436,2,   0.1362,20040915,   1
  32H120040910,    56,  1,    101,      1,2,20040915,2359, 71.6158,-155.7443,  229,    224.2,   0.1997,  34.6271,2,-999.0000,9,    255.1,2,    233.1,0,    17.73,2,    13.53,2,     0.13,2,     1.44,2,     0.63,2,     0.77,2,    1.857,2,   0.1910,20040915,2359
  32H120040910,    56,  2,    201,      1,2,20040915, 417, 71.6158,-155.7443,  229,    117.4,  -1.6185,  32.9804,2,  32.9927,2,    279.3,2,   -999.0,9,  -999.00,9,  -999.00,9,  -999.00,9,  -999.00,9,  -999.00,9,  -999.00,9,    0.956,2,  -1.6207,20040915, 416
  32H120040910,    56,  2,    219,     19,2,20040915, 417, 71.6158,-155.7443,  229,    117.5,  -1.6071,  32.9676,2,  32.9758,2,    280.4,2,   -999.0,9,  -999.00,9,  -999.00,9,  -999.00,9,  -999.00,9,  -999.00,9,  -999.00,9,    0.954,2,  -1.6093,20040915, 418
  32H120040910,    56,  2,    220,     20,2,20040915, 417, 71.6158,-155.7443,  229,    117.6,  -1.6083,  32.9682,2,-999.0000,9,    280.6,2,   -999.0,9,  -999.00,9,  -999.00,9,  -999.00,9,  -999.00,9,  -999.00,9,  -999.00,9,    0.986,2,  -1.6105,20040915, 418
  32H120040910,    56,  2,    218,     18,2,20040915, 417, 71.6158,-155.7443,  229,    117.6,  -1.6101,  32.9721,2,-999.0000,9,    280.6,2,   -999.0,9,  -999.00,9,  -999.00,9,  -999.00,9,  -999.00,9,  -999.00,9,  -999.00,9,    0.944,2,  -1.6123,20040915, 418
  32H120040910,    56,  2,    203,      3,2,20040915, 417, 71.6158,-155.7443,  229,    117.6,  -1.6170,  32.9795,2,-999.0000,9,    279.4,2,   -999.0,9,  -999.00,9,  -999.00,9,  -999.00,9,  -999.00,9,  -999.00,9,  -999.00,9,    0.945,2,  -1.6192,20040915, 416
  32H120040910,    56,  2,    204,      4,2,20040915, 417, 71.6158,-155.7443,  229,    117.6,  -1.6170,  32.9796,2,  32.9882,2,    279.6,2,   -999.0,9,  -999.00,9,  -999.00,9,  -999.00,9,  -999.00,9,  -999.00,9,  -999.00,9,    0.944,2,  -1.6192,20040915, 416
  32H120040910,    56,  2,    205,      5,2,20040915, 417, 71.6158,-155.7443,  229,    117.6,  -1.6201,  32.9829,2,-999.0000,9,    279.6,2,   -999.0,9,  -999.00,9,  -999.00,9,  -999.00,9,  -999.00,9,  -999.00,9,  -999.00,9,    0.953,2,  -1.6223,20040915, 416
  32H120040910,    56,  2,    213,     13,2,20040915, 417, 71.6158,-155.7443,  229,    117.6,  -1.6216,  32.9804,2,  32.9807,2,    280.1,2,   -999.0,9,  -999.00,9,  -999.00,9,  -999.00,9,  -999.00,9,  -999.00,9,  -999.00,9,    0.984,2,  -1.6238,20040915, 417
  32H120040910,    56,  2,    206,      6,2,20040915, 417, 71.6158,-155.7443,  229,    117.6,  -1.6222,  32.9849,2,-999.0000,9,    279.7,2,   -999.0,9,  -999.00,9,  -999.00,9,  -999.00,9,  -999.00,9,  -999.00,9,  -999.00,9,    0.986,2,  -1.6244,20040915, 416
  32H120040910,    56,  2,    212,     12,2,20040915, 417, 71.6158,-155.7443,  229,    117.6,  -1.6225,  32.9832,2,-999.0000,9,    280.1,2,   -999.0,9,  -999.00,9,  -999.00,9,  -999.00,9,  -999.00,9,  -999.00,9,  -999.00,9,    0.955,2,  -1.6247,20040915, 417
  32H120040910,    56,  2,    208,      8,2,20040915, 417, 71.6158,-155.7443,  229,    117.6,  -1.6238,  32.9863,2,-999.0000,9,    280.3,2,   -999.0,9,  -999.00,9,  -999.00,9,  -999.00,9,  -999.00,9,  -999.00,9,  -999.00,9,    0.960,2,  -1.6260,20040915, 416
  32H120040910,    56,  2,    202,      2,2,20040915, 417, 71.6158,-155.7443,  229,    117.7,  -1.6173,  32.9794,2,-999.0000,9,    279.6,2,   -999.0,9,  -999.00,9,  -999.00,9,  -999.00,9,  -999.00,9,  -999.00,9,  -999.00,9,    0.969,2,  -1.6195,20040915, 416
  32H120040910,    56,  2,    214,     14,2,20040915, 417, 71.6158,-155.7443,  229,    117.7,  -1.6234,  32.9828,2,-999.0000,9,    280.4,2,   -999.0,9,  -999.00,9,  -999.00,9,  -999.00,9,  -999.00,9,  -999.00,9,  -999.00,9,    0.974,2,  -1.6256,20040915, 417
  32H120040910,    56,  2,    207,      7,2,20040915, 417, 71.6158,-155.7443,  229,    117.7,  -1.6237,  32.9864,2,  32.9885,2,    280.1,2,   -999.0,9,  -999.00,9,  -999.00,9,  -999.00,9,  -999.00,9,  -999.00,9,  -999.00,9,    0.943,2,  -1.6259,20040915, 416
  32H120040910,    56,  2,    209,      9,2,20040915, 417, 71.6158,-155.7443,  229,    117.7,  -1.6245,  32.9867,2,-999.0000,9,    280.1,2,   -999.0,9,  -999.00,9,  -999.00,9,  -999.00,9,  -999.00,9,  -999.00,9,  -999.00,9,    0.979,2,  -1.6267,20040915, 417
  32H120040910,    56,  2,    210,     10,2,20040915, 417, 71.6158,-155.7443,  229,    117.7,  -1.6246,  32.9867,2,  32.9848,2,    280.0,2,   -999.0,9,  -999.00,9,  -999.00,9,  -999.00,9,  -999.00,9,  -999.00,9,  -999.00,9,    0.959,2,  -1.6268,20040915, 417
  32H120040910,    56,  2,    211,     11,2,20040915, 417, 71.6158,-155.7443,  229,    117.7,  -1.6252,  32.9868,2,-999.0000,9,    279.7,2,   -999.0,9,  -999.00,9,  -999.00,9,  -999.00,9,  -999.00,9,  -999.00,9,  -999.00,9,    0.960,2,  -1.6274,20040915, 417
  32H120040910,    56,  2,    217,     17,2,20040915, 417, 71.6158,-155.7443,  229,    117.8,  -1.6208,  32.9767,2,-999.0000,9,    280.9,2,   -999.0,9,  -999.00,9,  -999.00,9,  -999.00,9,  -999.00,9,  -999.00,9,  -999.00,9,    0.960,2,  -1.6230,20040915, 417
  32H120040910,    56,  2,    216,     16,2,20040915, 417, 71.6158,-155.7443,  229,    117.8,  -1.6241,  32.9810,2,  32.9799,2,    280.5,2,   -999.0,9,  -999.00,9,  -999.00,9,  -999.00,9,  -999.00,9,  -999.00,9,  -999.00,9,    0.947,2,  -1.6263,20040915, 417
  32H120040910,    56,  2,    215,     15,2,20040915, 417, 71.6158,-155.7443,  229,    117.8,  -1.6245,  32.9832,2,-999.0000,9,    280.2,2,   -999.0,9,  -999.00,9,  -999.00,9,  -999.00,9,  -999.00,9,  -999.00,9,  -999.00,9,    0.951,2,  -1.6267,20040915, 417