BOTTLE,20220815CCHSIOAMB
EXPOCODE,STNNBR,CASTNO,SAMPNO,BTLNBR,BTLNBR_FLAG_W,DATE,TIME,LATITUDE,LONGITUDE,DEPTH,CTDPRS,CTDTMP,CTDSAL,CTDSAL_FLAG_W,SALNTY,SALNTY_FLAG_W,CTDOXY,CTDOXY_FLAG_W,OXYGEN,OXYGEN_FLAG_W,SILCAT,SILCAT_FLAG_W,NITRAT,NITRAT_FLAG_W,NITRIT,NITRIT_FLAG_W,PHSPHT,PHSPHT_FLAG_W,CHLORA,CHLORA_FLAG_W,PHAEO,PHAEO_FLAG_W,FLUORO,FLUORO_FLAG_W,THETA,BTL_DATE,BTL_TIME
,,,,,,,,,,METERS,DBAR,ITS-90,PSS-78,,PSS-78,,UMOL/KG,,UMOL/KG,,UMOL/KG,,UMOL/KG,,UMOL/KG,,UMOL/KG,,UG/L,,UG/L,,VOLTS,,DEG C,,
  32H120040910,   110,  1,    122,     22,2,20040920,1534, 76.2928,-168.7205, 1979,      5.0,  -0.9294,  28.4705,2,-999.0000,9,    363.9,2,    379.5,2,     4.33,2,     0.06,2,     0.00,2,     0.72,2,     0.17,2,     0.04,2,    1.075,2,  -0.9295,20040920,1700
  32H120040910,   110,  1,    121,     21,2,20040920,1534, 76.2928,-168.7205, 1979,     30.0,  -1.0164,  31.2051,2,-999.0000,9,    389.5,2,    395.1,2,     5.34,2,     0.22,2,     0.04,2,     0.86,2,     0.93,2,     0.20,2,    1.691,2,  -1.0170,20040920,1657
  32H120040910,   110,  1,    120,     20,2,20040920,1534, 76.2928,-168.7205, 1979,     40.0,  -1.1009,  31.4971,2,-999.0000,9,    343.7,2,    358.6,2,    10.14,2,     2.01,2,     0.38,2,     1.02,2,     0.75,2,     0.63,2,    1.702,2,  -1.1017,20040920,1655
  32H120040910,   110,  1,    119,     19,2,20040920,1534, 76.2928,-168.7205, 1979,     59.5,  -1.4263,  31.9475,2,-999.0000,9,    307.1,2,    312.1,2,    21.26,2,     8.66,2,     0.05,2,     1.51,2,     0.08,2,     0.08,2,    1.049,2,  -1.4274,20040920,1651
  32H120040910,   110,  1,    118,     18,2,20040920,1534, 76.2928,-168.7205, 1979,     89.7,  -1.1781,  32.4796,2,-999.0000,9,    267.9,2,    274.6,2,    31.19,2,    13.60,2,     0.04,2,     1.93,2,     0.01,2,     0.03,2,    0.774,2,  -1.1800,20040920,1648
  32H120040910,   110,  1,    117,     17,2,20040920,1534, 76.2928,-168.7205, 1979,    118.6,  -1.4563,  32.8500,2,  32.9672,2,    267.5,2,    274.1,2,    35.20,2,    15.13,2,     0.04,2,     1.98,2,  -999.00,9,  -999.00,9,    0.794,2,  -1.4587,20040920,1645
  32H120040910,   110,  1,    116,     16,2,20040920,1534, 76.2928,-168.7205, 1979,    149.9,  -1.4155,  33.4407,2,-999.0000,9,    258.0,2,    263.5,2,    37.32,2,    15.79,2,     0.04,2,     1.92,2,  -999.00,9,  -999.00,9,    0.743,2,  -1.4188,20040920,1643
  32H120040910,   110,  1,    115,     15,2,20040920,1534, 76.2928,-168.7205, 1979,    179.4,  -1.1537,  34.1351,2,-999.0000,9,    262.9,2,    272.7,2,    16.51,2,    11.58,2,     0.04,2,     1.10,2,  -999.00,9,  -999.00,9,    0.732,2,  -1.1584,20040920,1641
  32H120040910,   110,  1,    114,     14,2,20040920,1534, 76.2928,-168.7205, 1979,    210.1,  -0.4624,  34.4026,2,  34.4289,2,    265.3,2,    277.8,2,    11.79,2,    11.44,2,     0.04,2,     0.97,2,     0.01,2,     0.03,2,    0.709,2,  -0.4693,20040920,1638
  32H120040910,   110,  1,    113,     13,2,20040920,1534, 76.2928,-168.7205, 1979,    259.4,   0.2140,  34.6128,2,-999.0000,9,    281.4,2,    293.1,2,     7.70,2,    11.34,2,     0.04,2,     0.88,2,  -999.00,9,  -999.00,9,    0.683,2,   0.2038,20040920,1636
  32H120040910,   110,  1,    112,     12,2,20040920,1534, 76.2928,-168.7205, 1979,    300.0,   0.7552,  34.7536,2,-999.0000,9,    268.0,2,    283.1,2,     9.96,2,    12.59,2,     0.04,2,     0.95,2,  -999.00,9,  -999.00,9,    0.616,2,   0.7419,20040920,1633
  32H120040910,   110,  1,    111,     11,9,20040920,1534, 76.2928,-168.7205, 1979,    400.3,   1.0545,  34.8403,2,-999.0000,9,    286.0,2,   -999.0,9,  -999.00,9,  -999.00,9,  -999.00,9,  -999.00,9,  -999.00,9,  -999.00,9,    0.639,2,   1.0353,20040920,1628
  32H120040910,   110,  1,    110,     10,2,20040920,1534, 76.2928,-168.7205, 1979,    499.8,   0.8300,  34.8546,2,  34.8563,2,    283.2,2,    294.8,2,     8.12,2,    12.54,2,     0.03,2,     0.92,2,  -999.00,9,  -999.00,9,    0.621,2,   0.8065,20040920,1625
  32H120040910,   110,  1,    109,      9,9,20040920,1534, 76.2928,-168.7205, 1979,    600.1,   0.5756,  34.8575,2,-999.0000,9,    286.1,2,   -999.0,9,  -999.00,9,  -999.00,9,  -999.00,9,  -999.00,9,  -999.00,9,  -999.00,9,    0.620,2,   0.5481,20040920,1621
  32H120040910,   110,  1,    108,      8,2,20040920,1534, 76.2928,-168.7205, 1979,    700.1,   0.3619,  34.8600,2,  34.8604,2,    287.6,2,    300.3,2,     7.51,2,    12.36,2,     0.03,2,     0.92,2,  -999.00,9,  -999.00,9,    0.578,2,   0.3305,20040920,1617
  32H120040910,   110,  1,    107,      7,2,20040920,1534, 76.2928,-168.7205, 1979,    799.8,   0.1768,  34.8615,2,  34.8632,2,    288.8,2,   -999.0,9,  -999.00,9,  -999.00,9,  -999.00,9,  -999.00,9,  -999.00,9,  -999.00,9,    0.638,2,   0.1414,20040920,1613
  32H120040910,   110,  1,    106,      6,2,20040920,1534, 76.2928,-168.7205, 1979,    899.9,   0.0293,  34.8657,2,  34.8678,2,    289.0,2,    301.9,2,     7.51,2,    12.36,2,     0.03,2,     0.92,2,  -999.00,9,  -999.00,9,    0.661,2,  -0.0102,20040920,1609
  32H120040910,   110,  1,    105,      5,2,20040920,1534, 76.2928,-168.7205, 1979,    999.3,  -0.0725,  34.8720,2,  34.8737,2,    288.1,2,   -999.0,9,  -999.00,9,  -999.00,9,  -999.00,9,  -999.00,9,  -999.00,9,  -999.00,9,    0.605,2,  -0.1165,20040920,1605
  32H120040910,   110,  1,    104,      4,2,20040920,1534, 76.2928,-168.7205, 1979,   1250.3,  -0.2661,  34.8906,2,  34.8739,0,    287.1,2,   -999.0,9,  -999.00,9,  -999.00,9,  -999.00,9,  -999.00,9,  -999.00,9,  -999.00,9,    0.595,2,  -0.3219,20040920,1558
  32H120040910,   110,  1,    103,      3,2,20040920,1534, 76.2928,-168.7205, 1979,   1500.2,  -0.4070,  34.9108,2,  34.9121,2,    284.1,2,   -999.0,9,  -999.00,9,  -999.00,9,  -999.00,9,  -999.00,9,  -999.00,9,  -999.00,9,    0.534,2,  -0.4757,20040920,1551
  32H120040910,   110,  1,    102,      2,2,20040920,1534, 76.2928,-168.7205, 1979,   1750.2,  -0.4478,  34.9361,2,  34.9371,2,    277.4,2,   -999.0,9,  -999.00,9,  -999.00,9,  -999.00,9,  -999.00,9,  -999.00,9,  -999.00,9,    0.532,2,  -0.5312,20040920,1541
  32H120040910,   110,  1,    101,      1,2,20040920,1534, 76.2928,-168.7205, 1979,   1973.7,  -0.3920,  34.9531,2,  34.9531,2,    266.3,2,    280.3,2,    15.32,2,    14.84,2,     0.04,2,     1.10,2,  -999.00,9,  -999.00,9,    0.541,2,  -0.4908,20040920,1534
  32H120040910,   111,  1,    123,     23,2,20040920,1902, 76.3803,-168.7717, 2072,      4.3,  -1.0083,  28.1594,2,  28.2943,2,    362.0,2,    377.3,2,     4.49,2,     0.15,2,     0.00,2,     0.69,2,     0.54,2,     0.33,2,    1.034,2,  -1.0084,20040920,2039
  32H120040910,   111,  1,    122,     22,2,20040920,1902, 76.3803,-168.7717, 2072,     30.1,  -1.4706,  31.2601,2,  31.2642,2,    374.9,2,    389.7,2,     4.89,2,     0.96,2,     0.18,2,     0.92,2,  -999.00,9,  -999.00,9,    1.521,2,  -1.4711,20040920,2037
  32H120040910,   111,  1,    121,     21,2,20040920,1902, 76.3803,-168.7717, 2072,     36.7,  -1.4523,  31.3605,2,  31.3957,2,    362.8,2,    375.9,2,     8.07,2,     1.51,2,     0.22,2,     0.97,2,     0.63,2,     0.34,2,    1.737,2,  -1.4529,20040920,2035
  32H120040910,   111,  1,    120,     20,2,20040920,1902, 76.3803,-168.7717, 2072,     60.0,  -1.3790,  32.0582,2,  32.0570,2,    299.4,2,    312.7,2,    19.94,2,     8.76,2,     0.05,2,     1.52,2,     0.09,2,     0.07,2,    0.962,2,  -1.3801,20040920,2032
  32H120040910,   111,  1,    119,     19,2,20040920,1902, 76.3803,-168.7717, 2072,     88.6,  -1.2414,  32.5164,2,  32.5258,2,    268.8,2,    278.0,2,    29.26,2,    13.33,2,     0.05,2,     1.92,2,     0.02,2,     0.03,2,    0.784,2,  -1.2433,20040920,2029
  32H120040910,   111,  1,    118,     18,2,20040920,1902, 76.3803,-168.7717, 2072,    120.4,  -1.4731,  32.9280,2,  32.9346,2,    264.6,2,    276.6,2,    34.12,2,    14.76,2,     0.04,2,     1.93,2,  -999.00,9,  -999.00,9,    0.777,2,  -1.4755,20040920,2026
  32H120040910,   111,  1,    117,     17,2,20040920,1902, 76.3803,-168.7717, 2072,    150.2,  -1.4029,  33.4625,2,  33.5687,2,    252.8,2,    262.6,2,    35.40,2,    15.38,2,     0.04,2,     1.83,2,     0.01,2,     0.03,2,    0.765,2,  -1.4063,20040920,2023
  32H120040910,   111,  1,    116,     16,2,20040920,1902, 76.3803,-168.7717, 2072,    180.1,  -1.0944,  34.1758,2,  34.1683,2,    262.6,2,    272.1,2,    16.52,2,    11.59,2,     0.04,2,     1.09,2,  -999.00,9,  -999.00,9,    0.762,2,  -1.0992,20040920,2019
  32H120040910,   111,  1,    115,     15,2,20040920,1902, 76.3803,-168.7717, 2072,    210.6,  -0.5011,  34.4015,2,  34.4014,2,    264.5,2,    275.1,2,    12.60,2,    11.54,2,     0.04,2,     0.98,2,     0.01,2,     0.03,2,    0.692,2,  -0.5079,20040920,2014
  32H120040910,   111,  1,    114,     14,2,20040920,1902, 76.3803,-168.7717, 2072,    260.5,   0.3516,  34.6312,2,  34.6417,2,    270.1,2,    281.4,2,    10.03,2,    11.97,2,     0.04,2,     0.93,2,  -999.00,9,  -999.00,9,    0.693,2,   0.3411,20040920,2010
  32H120040910,   111,  1,    113,     13,2,20040920,1902, 76.3803,-168.7717, 2072,    300.3,   0.7984,  34.7563,2,  34.7571,2,    277.9,2,    289.1,2,     7.88,2,    12.21,2,     0.04,2,     0.90,2,  -999.00,9,  -999.00,9,    0.627,2,   0.7850,20040920,2006
  32H120040910,   111,  1,    112,     12,2,20040920,1902, 76.3803,-168.7717, 2072,    307.7,   0.7715,  34.7560,2,  34.7608,2,    278.9,2,    290.4,2,  -999.00,9,  -999.00,9,  -999.00,9,  -999.00,9,  -999.00,9,  -999.00,9,    0.646,2,   0.7578,20040920,2003
  32H120040910,   111,  1,    111,     11,2,20040920,1902, 76.3803,-168.7717, 2072,    318.6,   0.8656,  34.7797,2,  34.7813,2,    279.1,2,    290.1,2,  -999.00,9,  -999.00,9,  -999.00,9,  -999.00,9,  -999.00,9,  -999.00,9,    0.607,2,   0.8511,20040920,2000
  32H120040910,   111,  1,    110,     10,2,20040920,1902, 76.3803,-168.7717, 2072,    333.5,   0.9147,  34.7948,2,  34.7964,2,    280.4,2,    291.5,2,  -999.00,9,  -999.00,9,  -999.00,9,  -999.00,9,  -999.00,9,  -999.00,9,    0.649,2,   0.8993,20040920,1956
  32H120040910,   111,  1,    109,      9,2,20040920,1902, 76.3803,-168.7717, 2072,    342.7,   0.9170,  34.7958,2,  34.7972,2,    280.9,2,    292.5,2,  -999.00,9,  -999.00,9,  -999.00,9,  -999.00,9,  -999.00,9,  -999.00,9,    0.624,2,   0.9012,20040920,1953
  32H120040910,   111,  1,    108,      8,2,20040920,1902, 76.3803,-168.7717, 2072,    351.8,   0.9349,  34.7995,2,  34.8013,2,    282.8,2,    294.0,2,  -999.00,9,  -999.00,9,  -999.00,9,  -999.00,9,  -999.00,9,  -999.00,9,    0.604,2,   0.9186,20040920,1950
  32H120040910,   111,  1,    107,      7,2,20040920,1902, 76.3803,-168.7717, 2072,    360.9,   1.0162,  34.8204,2,  34.8192,2,    281.5,2,    292.7,2,  -999.00,9,  -999.00,9,  -999.00,9,  -999.00,9,  -999.00,9,  -999.00,9,    0.602,2,   0.9992,20040920,1948
  32H120040910,   111,  1,    106,      6,2,20040920,1902, 76.3803,-168.7717, 2072,    362.2,   1.0343,  34.8253,2,  34.8253,2,    281.7,2,    293.1,2,  -999.00,9,  -999.00,9,  -999.00,9,  -999.00,9,  -999.00,9,  -999.00,9,    0.627,2,   1.0171,20040920,1945
  32H120040910,   111,  1,    105,      5,2,20040920,1902, 76.3803,-168.7717, 2072,    370.2,   1.0427,  34.8282,2,  34.8296,2,    281.8,2,    293.2,2,  -999.00,9,  -999.00,9,  -999.00,9,  -999.00,9,  -999.00,9,  -999.00,9,    0.612,2,   1.0251,20040920,1943
  32H120040910,   111,  1,    104,      4,2,20040920,1902, 76.3803,-168.7717, 2072,    380.6,   1.0388,  34.8279,2,  34.8290,2,    281.9,2,    293.8,2,  -999.00,9,  -999.00,9,  -999.00,9,  -999.00,9,  -999.00,9,  -999.00,9,    0.629,2,   1.0207,20040920,1940
  32H120040910,   111,  1,    103,      3,2,20040920,1902, 76.3803,-168.7717, 2072,    392.3,   1.0319,  34.8279,2,  34.8300,2,    282.8,2,    294.6,2,     7.17,2,    12.16,2,     0.04,2,     0.89,2,  -999.00,9,  -999.00,9,    0.622,2,   1.0132,20040920,1938
  32H120040910,   111,  1,    102,      2,2,20040920,1902, 76.3803,-168.7717, 2072,   1500.6,  -0.4082,  34.9076,2,  34.9085,2,    284.1,2,    299.0,2,     9.43,2,    13.36,2,     0.04,2,     0.99,2,  -999.00,9,  -999.00,9,    0.604,2,  -0.4769,20040920,1914
  32H120040910,   111,  1,    101,      1,2,20040920,1902, 76.3803,-168.7717, 2072,   2066.9,  -0.3888,  34.9532,2,  34.9534,2,    265.9,2,    279.4,2,    15.32,2,    14.80,2,     0.04,2,     1.09,2,  -999.00,9,  -999.00,9,    0.494,2,  -0.4940,20040920,1902
  32H120040910,   111,  2,    216,     16,2,20040920,2359, 76.3803,-168.7717, 2072,    130.7,  -1.4984,  33.1167,2,  33.1868,2,    261.4,2,   -999.0,9,  -999.00,9,  -999.00,9,  -999.00,9,  -999.00,9,  -999.00,9,  -999.00,9,    0.775,2,  -1.5011,20040920,   7
  32H120040910,   111,  2,    221,     21,2,20040920,2359, 76.3803,-168.7717, 2072,    130.7,  -1.4986,  33.1123,2,-999.0000,9,    261.6,2,   -999.0,9,  -999.00,9,  -999.00,9,  -999.00,9,  -999.00,9,  -999.00,9,  -999.00,9,    0.776,2,  -1.5013,20040920,   7
  32H120040910,   111,  2,    214,     14,2,20040920,2359, 76.3803,-168.7717, 2072,    130.7,  -1.4994,  33.1215,2,-999.0000,9,    261.3,2,   -999.0,9,  -999.00,9,  -999.00,9,  -999.00,9,  -999.00,9,  -999.00,9,  -999.00,9,    0.738,2,  -1.5021,20040920,   7
  32H120040910,   111,  2,    223,     23,2,20040920,2359, 76.3803,-168.7717, 2072,    130.8,  -1.4981,  33.1111,2,-999.0000,9,    261.8,2,   -999.0,9,  -999.00,9,  -999.00,9,  -999.00,9,  -999.00,9,  -999.00,9,  -999.00,9,    0.747,2,  -1.5008,20040920,   7
  32H120040910,   111,  2,    222,     22,2,20040920,2359, 76.3803,-168.7717, 2072,    130.8,  -1.4982,  33.1105,2,  33.1314,2,    261.7,2,   -999.0,9,  -999.00,9,  -999.00,9,  -999.00,9,  -999.00,9,  -999.00,9,  -999.00,9,    0.797,2,  -1.5009,20040920,   7
  32H120040910,   111,  2,    220,     20,2,20040920,2359, 76.3803,-168.7717, 2072,    130.8,  -1.4983,  33.1122,2,-999.0000,9,    261.7,2,   -999.0,9,  -999.00,9,  -999.00,9,  -999.00,9,  -999.00,9,  -999.00,9,  -999.00,9,    0.797,2,  -1.5010,20040920,   7
  32H120040910,   111,  2,    217,     17,2,20040920,2359, 76.3803,-168.7717, 2072,    130.8,  -1.4988,  33.1154,2,-999.0000,9,    261.3,2,   -999.0,9,  -999.00,9,  -999.00,9,  -999.00,9,  -999.00,9,  -999.00,9,  -999.00,9,    0.778,2,  -1.5015,20040920,   7
  32H120040910,   111,  2,    215,     15,2,20040920,2359, 76.3803,-168.7717, 2072,    130.8,  -1.4991,  33.1191,2,-999.0000,9,    261.3,2,   -999.0,9,  -999.00,9,  -999.00,9,  -999.00,9,  -999.00,9,  -999.00,9,  -999.00,9,    0.723,2,  -1.5018,20040920,   7
  32H120040910,   111,  2,    213,     13,2,20040920,2359, 76.3803,-168.7717, 2072,    130.8,  -1.4991,  33.1221,2,  33.1852,2,    261.1,2,   -999.0,9,  -999.00,9,  -999.00,9,  -999.00,9,  -999.00,9,  -999.00,9,  -999.00,9,    0.779,2,  -1.5018,20040920,   7
  32H120040910,   111,  2,    224,     24,2,20040920,2359, 76.3803,-168.7717, 2072,    130.9,  -1.4980,  33.1100,2,-999.0000,9,    261.6,2,   -999.0,9,  -999.00,9,  -999.00,9,  -999.00,9,  -999.00,9,  -999.00,9,  -999.00,9,    0.779,2,  -1.5007,20040920,   8
  32H120040910,   111,  2,    218,     18,2,20040920,2359, 76.3803,-168.7717, 2072,    130.9,  -1.4983,  33.1130,2,-999.0000,9,    261.5,2,   -999.0,9,  -999.00,9,  -999.00,9,  -999.00,9,  -999.00,9,  -999.00,9,  -999.00,9,    0.773,2,  -1.5010,20040920,   7
  32H120040910,   111,  2,    219,     19,2,20040920,2359, 76.3803,-168.7717, 2072,    131.0,  -1.4988,  33.1148,2,  33.1661,2,    261.6,2,   -999.0,9,  -999.00,9,  -999.00,9,  -999.00,9,  -999.00,9,  -999.00,9,  -999.00,9,    0.776,2,  -1.5015,20040920,   7
  32H120040910,   111,  2,    204,      4,2,20040920,2359, 76.3803,-168.7717, 2072,    420.7,   1.0885,  34.8422,2,  34.8452,2,    286.5,2,   -999.0,9,  -999.00,9,  -999.00,9,  -999.00,9,  -999.00,9,  -999.00,9,  -999.00,9,    0.532,2,   1.0681,20040920,2359
  32H120040910,   111,  2,    201,      1,2,20040920,2359, 76.3803,-168.7717, 2072,    420.7,   1.0886,  34.8421,2,  34.8438,2,    286.6,2,   -999.0,9,  -999.00,9,  -999.00,9,  -999.00,9,  -999.00,9,  -999.00,9,  -999.00,9,    0.585,2,   1.0682,20040920,2359
  32H120040910,   111,  2,    202,      2,2,20040920,2359, 76.3803,-168.7717, 2072,    420.7,   1.0887,  34.8422,2,-999.0000,9,    286.6,2,   -999.0,9,  -999.00,9,  -999.00,9,  -999.00,9,  -999.00,9,  -999.00,9,  -999.00,9,    0.612,2,   1.0683,20040920,2359
  32H120040910,   111,  2,    212,     12,2,20040920,2359, 76.3803,-168.7717, 2072,    420.8,   1.0877,  34.8421,2,-999.0000,9,    286.4,2,   -999.0,9,  -999.00,9,  -999.00,9,  -999.00,9,  -999.00,9,  -999.00,9,  -999.00,9,    0.600,2,   1.0673,20040920,   0
  32H120040910,   111,  2,    207,      7,2,20040920,2359, 76.3803,-168.7717, 2072,    420.8,   1.0879,  34.8421,2,  34.8448,2,    286.5,2,   -999.0,9,  -999.00,9,  -999.00,9,  -999.00,9,  -999.00,9,  -999.00,9,  -999.00,9,    0.601,2,   1.0675,20040920,   0
  32H120040910,   111,  2,    210,     10,2,20040920,2359, 76.3803,-168.7717, 2072,    420.8,   1.0881,  34.8421,2,  34.8434,2,    286.5,2,   -999.0,9,  -999.00,9,  -999.00,9,  -999.00,9,  -999.00,9,  -999.00,9,  -999.00,9,    0.620,2,   1.0677,20040920,   0
  32H120040910,   111,  2,    208,      8,2,20040920,2359, 76.3803,-168.7717, 2072,    420.8,   1.0882,  34.8420,2,-999.0000,9,    286.7,2,   -999.0,9,  -999.00,9,  -999.00,9,  -999.00,9,  -999.00,9,  -999.00,9,  -999.00,9,    0.565,2,   1.0678,20040920,   0
  32H120040910,   111,  2,    209,      9,2,20040920,2359, 76.3803,-168.7717, 2072,    420.8,   1.0882,  34.8421,2,-999.0000,9,    286.6,2,   -999.0,9,  -999.00,9,  -999.00,9,  -999.00,9,  -999.00,9,  -999.00,9,  -999.00,9,    0.548,2,   1.0678,20040920,   0
  32H120040910,   111,  2,    206,      6,2,20040920,2359, 76.3803,-168.7717, 2072,    420.8,   1.0884,  34.8420,2,-999.0000,9,    286.8,2,   -999.0,9,  -999.00,9,  -999.00,9,  -999.00,9,  -999.00,9,  -999.00,9,  -999.00,9,    0.615,2,   1.0680,20040920,   0
  32H120040910,   111,  2,    211,     11,2,20040920,2359, 76.3803,-168.7717, 2072,    420.8,   1.0885,  34.8421,2,-999.0000,9,    286.5,2,   -999.0,9,  -999.00,9,  -999.00,9,  -999.00,9,  -999.00,9,  -999.00,9,  -999.00,9,    0.588,2,   1.0681,20040920,   0
  32H120040910,   111,  2,    203,      3,2,20040920,2359, 76.3803,-168.7717, 2072,    420.8,   1.0885,  34.8422,2,-999.0000,9,    286.6,2,   -999.0,9,  -999.00,9,  -999.00,9,  -999.00,9,  -999.00,9,  -999.00,9,  -999.00,9,    0.633,2,   1.0681,20040920,2359
  32H120040910,   111,  2,    205,      5,2,20040920,2359, 76.3803,-168.7717, 2072,    420.8,   1.0889,  34.8422,2,-999.0000,9,    286.6,2,   -999.0,9,  -999.00,9,  -999.00,9,  -999.00,9,  -999.00,9,  -999.00,9,  -999.00,9,    0.584,2,   1.0685,20040920,2359