BOTTLE,20220815CCHSIOAMB
EXPOCODE,STNNBR,CASTNO,SAMPNO,BTLNBR,BTLNBR_FLAG_W,DATE,TIME,LATITUDE,LONGITUDE,DEPTH,CTDPRS,CTDTMP,CTDSAL,CTDSAL_FLAG_W,SALNTY,SALNTY_FLAG_W,CTDOXY,CTDOXY_FLAG_W,OXYGEN,OXYGEN_FLAG_W,SILCAT,SILCAT_FLAG_W,NITRAT,NITRAT_FLAG_W,NITRIT,NITRIT_FLAG_W,PHSPHT,PHSPHT_FLAG_W,CHLORA,CHLORA_FLAG_W,PHAEO,PHAEO_FLAG_W,FLUORO,FLUORO_FLAG_W,THETA,BTL_DATE,BTL_TIME
,,,,,,,,,,METERS,DBAR,ITS-90,PSS-78,,PSS-78,,UMOL/KG,,UMOL/KG,,UMOL/KG,,UMOL/KG,,UMOL/KG,,UMOL/KG,,UG/L,,UG/L,,VOLTS,,DEG C,,
  32H120040910,   105,  1,    109,      9,2,20040920, 449, 75.8593,-168.2667,  262,      5.5,  -0.2956,  26.9293,2,-999.0000,9,    362.1,2,    375.3,2,     2.37,2,     0.11,2,     0.01,2,     0.62,2,     0.10,2,     0.04,2,    0.832,2,  -0.2957,20040920, 505
  32H120040910,   105,  1,    108,      8,2,20040920, 449, 75.8593,-168.2667,  262,     39.9,  -0.3403,  31.3367,2,-999.0000,9,    382.0,2,    395.0,2,     4.56,2,     0.20,2,     0.02,2,     0.90,2,     0.20,2,     0.13,2,    1.154,2,  -0.3413,20040920, 503
  32H120040910,   105,  1,    107,      7,2,20040920, 449, 75.8593,-168.2667,  262,     60.0,  -1.0969,  31.9505,2,-999.0000,9,    323.2,2,    334.3,2,    16.56,2,     7.28,2,     0.15,2,     1.44,2,     0.22,2,     0.24,2,    1.270,2,  -1.0982,20040920, 501
  32H120040910,   105,  1,    106,      6,2,20040920, 449, 75.8593,-168.2667,  262,     90.0,  -1.3601,  32.3848,2,-999.0000,9,    295.6,2,    305.9,2,    25.21,2,    11.50,2,     0.04,2,     1.72,2,     0.02,2,     0.04,2,    0.794,2,  -1.3619,20040920, 459
  32H120040910,   105,  1,    105,      5,2,20040920, 449, 75.8593,-168.2667,  262,    120.2,  -1.5211,  32.7193,2,-999.0000,9,    285.0,2,    294.7,2,    29.34,2,    13.30,2,     0.04,2,     1.81,2,     0.03,2,     0.02,2,    0.711,2,  -1.5234,20040920, 457
  32H120040910,   105,  1,    104,      4,2,20040920, 449, 75.8593,-168.2667,  262,    150.4,  -1.3700,  33.2884,2,-999.0000,9,    269.3,2,    280.4,2,    31.39,2,    14.77,2,     0.04,2,     1.83,2,     0.01,2,     0.04,2,    0.754,2,  -1.3733,20040920, 456
  32H120040910,   105,  1,    103,      3,2,20040920, 449, 75.8593,-168.2667,  262,    180.4,  -0.8499,  34.0677,2,-999.0000,9,    257.7,2,    267.2,2,    25.61,2,    14.29,2,     0.04,2,     1.51,2,  -999.00,9,  -999.00,9,    0.770,2,  -0.8550,20040920, 454
  32H120040910,   105,  1,    102,      2,2,20040920, 449, 75.8593,-168.2667,  262,    210.6,  -0.2080,  34.4415,2,  34.4415,2,    250.6,2,    258.6,2,    21.02,2,    13.82,2,     0.04,2,     1.30,2,  -999.00,9,  -999.00,9,    0.705,2,  -0.2154,20040920, 452
  32H120040910,   105,  1,    101,      1,2,20040920, 449, 75.8593,-168.2667,  262,    256.6,   0.5486,  34.7065,2,  34.6992,2,    249.3,2,    255.5,2,    19.44,2,    13.91,2,     0.04,2,     1.16,2,  -999.00,9,  -999.00,9,    0.554,2,   0.5378,20040920, 449
  32H120040910,   106,  1,    111,     11,2,20040920, 610, 75.9483,-168.3285,  359,      5.2,  -0.6264,  27.6994,2,  27.7717,2,    361.7,2,    374.4,2,     3.77,2,     0.15,2,     0.00,2,     0.67,2,     0.10,2,     0.05,2,    0.916,2,  -0.6265,20040920, 628
  32H120040910,   106,  1,    110,     10,2,20040920, 610, 75.9483,-168.3285,  359,     29.9,  -0.5410,  30.2889,2,-999.0000,9,    389.6,2,    403.0,2,     4.14,2,     0.10,2,     0.01,2,     0.78,2,     0.15,2,     0.05,2,    1.062,2,  -0.5417,20040920, 627
  32H120040910,   106,  1,    109,      9,2,20040920, 610, 75.9483,-168.3285,  359,     47.9,  -0.9537,  31.5092,2,-999.0000,9,    337.7,2,    342.5,2,    11.63,2,     3.87,2,     0.24,2,     1.16,2,     0.54,2,     0.31,2,    1.875,2,  -0.9547,20040920, 625
  32H120040910,   106,  1,    108,      8,2,20040920, 610, 75.9483,-168.3285,  359,     59.9,  -1.0362,  31.7700,2,-999.0000,9,    313.8,2,    325.4,2,    17.32,2,     6.64,2,     0.09,2,     1.36,2,     0.16,2,     0.19,2,    1.373,2,  -1.0375,20040920, 624
  32H120040910,   106,  1,    107,      7,2,20040920, 610, 75.9483,-168.3285,  359,     89.9,  -1.3168,  32.1955,2,-999.0000,9,    302.2,2,    313.0,2,    27.00,2,    11.18,2,     0.04,2,     1.71,2,     0.03,2,     0.05,2,    0.849,2,  -1.3186,20040920, 622
  32H120040910,   106,  1,    106,      6,2,20040920, 610, 75.9483,-168.3285,  359,    120.3,  -1.4895,  32.6337,2,-999.0000,9,    285.7,2,    296.1,2,    29.46,2,    12.94,2,     0.04,2,     1.81,2,     0.02,2,     0.05,2,    0.793,2,  -1.4918,20040920, 621
  32H120040910,   106,  1,    105,      5,2,20040920, 610, 75.9483,-168.3285,  359,    150.3,  -1.4484,  33.0779,2,-999.0000,9,    273.3,2,    282.6,2,    32.25,2,    14.46,2,     0.04,2,     1.85,2,  -999.00,9,  -999.00,9,    0.781,2,  -1.4516,20040920, 619
  32H120040910,   106,  1,    104,      4,2,20040920, 610, 75.9483,-168.3285,  359,    181.3,  -1.0090,  33.9751,2,-999.0000,9,    261.0,2,    270.4,2,    27.82,2,    14.27,2,     0.04,2,     1.58,2,  -999.00,9,  -999.00,9,    0.730,2,  -1.0139,20040920, 617
  32H120040910,   106,  1,    103,      3,2,20040920, 610, 75.9483,-168.3285,  359,    211.7,  -0.3850,  34.4120,2,-999.0000,9,    256.8,2,    264.9,2,    17.98,2,    13.08,2,     0.04,2,     1.20,2,  -999.00,9,  -999.00,9,    0.729,2,  -0.3921,20040920, 615
  32H120040910,   106,  1,    102,      2,2,20040920, 610, 75.9483,-168.3285,  359,    260.9,   0.6844,  34.7289,2,  34.7299,2,    252.1,2,    261.0,2,    16.12,2,    13.46,2,     0.04,2,     1.06,2,  -999.00,9,  -999.00,9,    0.656,2,   0.6731,20040920, 613
  32H120040910,   106,  1,    101,      1,2,20040920, 610, 75.9483,-168.3285,  359,    354.2,   0.9013,  34.8401,2,  34.8403,2,    267.9,2,    278.2,2,    13.74,2,    13.26,2,     0.04,2,     1.01,2,  -999.00,9,  -999.00,9,    0.548,2,   0.8849,20040920, 610
  32H120040910,   107,  1,    113,     13,2,20040920, 758, 76.0345,-168.4343,  606,      5.2,  -0.5255,  27.5880,2,-999.0000,9,    361.6,2,    374.6,2,     4.32,2,     0.14,2,     0.01,2,     0.66,2,     0.09,2,     0.04,2,    0.903,2,  -0.5256,20040920, 833
  32H120040910,   107,  1,    112,     12,2,20040920, 758, 76.0345,-168.4343,  606,     30.1,  -0.4572,  30.1094,2,-999.0000,9,    387.9,2,    399.2,2,     5.00,2,     0.17,2,     0.03,2,     0.78,2,     0.21,2,     0.10,2,    1.175,2,  -0.4579,20040920, 831
  32H120040910,   107,  1,    111,     11,2,20040920, 758, 76.0345,-168.4343,  606,     60.3,  -1.1334,  31.7461,2,-999.0000,9,    335.4,2,    350.1,2,    15.43,2,     5.28,2,     0.14,2,     1.30,2,     0.31,2,     0.27,2,    1.362,2,  -1.1346,20040920, 827
  32H120040910,   107,  1,    110,     10,2,20040920, 758, 76.0345,-168.4343,  606,     90.2,  -1.4931,  32.2677,2,-999.0000,9,    303.2,2,    314.1,2,    31.62,2,    12.10,2,     0.05,2,     1.79,2,     0.07,2,     0.03,2,    0.903,2,  -1.4948,20040920, 824
  32H120040910,   107,  1,    109,      9,2,20040920, 758, 76.0345,-168.4343,  606,    120.1,  -1.4355,  32.6362,2,-999.0000,9,    279.4,2,    290.2,2,    29.29,2,    13.20,2,     0.04,2,     1.81,2,     0.02,2,     0.04,2,    0.769,2,  -1.4379,20040920, 821
  32H120040910,   107,  1,    108,      8,2,20040920, 758, 76.0345,-168.4343,  606,    150.4,  -1.4116,  33.1659,2,-999.0000,9,    271.1,2,    279.3,2,    32.38,2,    14.72,2,     0.04,2,     1.81,2,  -999.00,9,  -999.00,9,    0.775,2,  -1.4148,20040920, 819
  32H120040910,   107,  1,    107,      7,2,20040920, 758, 76.0345,-168.4343,  606,    180.5,  -1.0922,  33.9062,2,-999.0000,9,    263.9,2,    271.2,2,    28.47,2,    14.34,2,     0.04,2,     1.58,2,  -999.00,9,  -999.00,9,    0.760,2,  -1.0969,20040920, 816
  32H120040910,   107,  1,    106,      6,2,20040920, 758, 76.0345,-168.4343,  606,    209.8,  -0.3176,  34.4184,2,-999.0000,9,    233.7,2,    243.5,2,    23.47,2,    13.48,2,     0.04,2,     1.28,2,     0.01,2,     0.05,2,    0.680,2,  -0.3247,20040920, 814
  32H120040910,   107,  1,    105,      5,2,20040920, 758, 76.0345,-168.4343,  606,    259.9,   0.5510,  34.6940,2,  34.7041,2,    254.7,2,    264.3,2,    15.14,2,    13.15,2,     0.03,2,     1.03,2,  -999.00,9,  -999.00,9,    0.616,2,   0.5400,20040920, 812
  32H120040910,   107,  1,    104,      4,2,20040920, 758, 76.0345,-168.4343,  606,    300.2,   0.8567,  34.7776,2,  34.7796,2,    270.0,2,    279.4,2,    10.95,2,    12.87,2,     0.03,2,     0.96,2,  -999.00,9,  -999.00,9,    0.604,2,   0.8431,20040920, 809
  32H120040910,   107,  1,    103,      3,2,20040920, 758, 76.0345,-168.4343,  606,    400.4,   0.9936,  34.8460,2,  34.8451,2,    282.0,2,   -999.0,9,  -999.00,9,  -999.00,9,  -999.00,9,  -999.00,9,  -999.00,9,  -999.00,9,    0.598,2,   0.9746,20040920, 806
  32H120040910,   107,  1,    102,      2,2,20040920, 758, 76.0345,-168.4343,  606,    500.4,   0.6541,  34.8560,2,  34.8580,2,    282.8,2,    294.1,2,     9.60,2,    12.63,2,     0.03,2,     0.94,2,  -999.00,9,  -999.00,9,    0.599,2,   0.6313,20040920, 802
  32H120040910,   107,  1,    101,      1,2,20040920, 758, 76.0345,-168.4343,  606,    600.5,   0.1465,  34.8611,2,  34.8620,2,    290.0,2,    300.7,2,     8.17,2,    12.30,2,     0.03,2,     0.92,2,  -999.00,9,  -999.00,9,    0.614,2,   0.1211,20040920, 758
  32H120040910,   108,  1,    118,     18,2,20040920,1005, 76.1225,-168.5190, 1334,      4.5,  -0.5370,  27.1927,2,  27.4128,2,    362.8,2,    376.0,2,     3.22,2,     0.11,2,     0.00,2,     0.66,2,     0.07,2,     0.04,2,    0.828,2,  -0.5371,20040920,1059
  32H120040910,   108,  1,    117,     17,2,20040920,1005, 76.1225,-168.5190, 1334,     29.8,  -0.4262,  30.6387,2,-999.0000,9,    395.4,2,    405.2,2,     5.93,2,     0.53,2,     0.03,2,     0.83,2,     0.21,2,     0.13,2,    1.065,2,  -0.4269,20040920,1057
  32H120040910,   108,  1,    116,     16,2,20040920,1005, 76.1225,-168.5190, 1334,     55.3,  -0.8937,  31.6166,2,-999.0000,9,    356.9,2,    355.6,2,    13.96,2,     4.56,2,     0.12,2,     1.28,2,     0.30,2,     0.29,2,    1.502,2,  -0.8949,20040920,1055
  32H120040910,   108,  1,    115,     15,2,20040920,1005, 76.1225,-168.5190, 1334,     90.0,  -1.4361,  32.2312,2,-999.0000,9,    303.3,2,    313.6,2,    29.02,2,    11.54,2,     0.04,2,     1.75,2,     0.05,2,     0.06,2,    0.911,2,  -1.4378,20040920,1052
  32H120040910,   108,  1,    114,     14,4,20040920,1005, 76.1225,-168.5190, 1334,    120.0,  -1.4004,  32.6229,2,-999.0000,9,    275.9,2,    354.5,0,    14.62,4,     4.85,4,     0.12,4,     1.30,4,     0.30,4,     0.24,4,    0.769,2,  -1.4028,20040920,1049
  32H120040910,   108,  1,    113,     13,2,20040920,1005, 76.1225,-168.5190, 1334,    150.1,  -1.4042,  33.2147,2,-999.0000,9,    269.9,2,    279.2,2,    32.60,2,    14.69,2,     0.04,2,     1.84,2,  -999.00,9,  -999.00,9,    0.808,2,  -1.4075,20040920,1047
  32H120040910,   108,  1,    112,     12,2,20040920,1005, 76.1225,-168.5190, 1334,    180.3,  -1.0770,  34.0004,2,-999.0000,9,    256.5,2,    264.8,2,    23.82,2,    13.16,2,     0.04,2,     1.39,2,     0.01,2,     0.05,2,    0.721,2,  -1.0817,20040920,1045
  32H120040910,   108,  1,    111,     11,2,20040920,1005, 76.1225,-168.5190, 1334,    210.1,  -0.4085,  34.3865,2,-999.0000,9,    237.9,2,    246.6,2,    22.96,2,    13.34,2,     0.03,2,     1.30,2,  -999.00,9,  -999.00,9,    0.714,2,  -0.4155,20040920,1042
  32H120040910,   108,  1,    110,     10,2,20040920,1005, 76.1225,-168.5190, 1334,    259.9,   0.4349,  34.6646,2,-999.0000,9,    255.6,2,    264.8,2,    15.13,2,    12.86,2,     0.03,2,     1.04,2,  -999.00,9,  -999.00,9,    0.645,2,   0.4242,20040920,1039
  32H120040910,   108,  1,    109,      9,2,20040920,1005, 76.1225,-168.5190, 1334,    299.9,   0.8374,  34.7716,2,-999.0000,9,    272.3,2,    282.0,2,    10.21,2,    12.58,2,     0.03,2,     0.96,2,  -999.00,9,  -999.00,9,    0.599,2,   0.8239,20040920,1036
  32H120040910,   108,  1,    108,      8,2,20040920,1005, 76.1225,-168.5190, 1334,    399.8,   1.0676,  34.8438,2,  34.8431,2,    283.7,2,   -999.0,9,  -999.00,9,  -999.00,9,  -999.00,9,  -999.00,9,  -999.00,9,  -999.00,9,    0.584,2,   1.0484,20040920,1031
  32H120040910,   108,  1,    107,      7,2,20040920,1005, 76.1225,-168.5190, 1334,    499.8,   0.7862,  34.8566,2,  34.8583,2,    286.3,2,    296.9,2,     7.66,2,    12.29,2,     0.03,2,     0.92,2,  -999.00,9,  -999.00,9,    0.621,2,   0.7629,20040920,1028
  32H120040910,   108,  1,    106,      6,2,20040920,1005, 76.1225,-168.5190, 1334,    599.8,   0.5170,  34.8583,2,  34.8581,2,    287.8,2,   -999.0,9,  -999.00,9,  -999.00,9,  -999.00,9,  -999.00,9,  -999.00,9,  -999.00,9,    0.631,2,   0.4898,20040920,1025
  32H120040910,   108,  1,    105,      5,2,20040920,1005, 76.1225,-168.5190, 1334,    701.1,   0.2902,  34.8592,2,  34.8613,2,    289.1,2,    300.7,2,     7.74,2,    12.19,2,     0.04,2,     0.93,2,  -999.00,9,  -999.00,9,    0.608,2,   0.2591,20040920,1022
  32H120040910,   108,  1,    104,      4,2,20040920,1005, 76.1225,-168.5190, 1334,    800.1,   0.1047,  34.8621,2,  34.8610,2,    290.0,2,   -999.0,9,  -999.00,9,  -999.00,9,  -999.00,9,  -999.00,9,  -999.00,9,  -999.00,9,    0.621,2,   0.0698,20040920,1019
  32H120040910,   108,  1,    103,      3,2,20040920,1005, 76.1225,-168.5190, 1334,    900.3,  -0.0099,  34.8679,2,  34.8695,2,    290.0,2,    302.0,2,     7.62,2,    12.29,2,     0.03,2,     0.94,2,  -999.00,9,  -999.00,9,    0.586,2,  -0.0492,20040920,1016
  32H120040910,   108,  1,    102,      2,2,20040920,1005, 76.1225,-168.5190, 1334,   1000.3,  -0.1407,  34.8725,2,  34.8733,2,    289.4,2,   -999.0,9,  -999.00,9,  -999.00,9,  -999.00,9,  -999.00,9,  -999.00,9,  -999.00,9,    0.642,2,  -0.1842,20040920,1012
  32H120040910,   108,  1,    101,      1,2,20040920,1005, 76.1225,-168.5190, 1334,   1329.4,  -0.3470,  34.8918,2,  34.8926,2,    287.0,2,    300.0,2,     9.73,2,    12.91,2,     0.03,2,     0.99,2,  -999.00,9,  -999.00,9,    0.589,2,  -0.4064,20040920,1005
  32H120040910,   109,  1,    121,     21,2,20040920,1255, 76.2117,-168.6322, 1813,      4.6,  -0.5053,  27.7029,2,  28.0193,2,    361.9,2,    375.0,2,     4.78,2,     0.15,2,     0.00,2,     0.68,2,     0.11,2,     0.04,2,    0.883,2,  -0.5054,20040920,1404
  32H120040910,   109,  1,    120,     20,2,20040920,1255, 76.2117,-168.6322, 1813,     29.7,  -0.4833,  31.0953,2,-999.0000,9,    385.5,2,    399.0,2,     4.85,2,     0.13,2,     0.02,2,     0.84,2,     0.21,2,     0.09,2,    1.246,2,  -0.4840,20040920,1402
  32H120040910,   109,  1,    119,     19,2,20040920,1255, 76.2117,-168.6322, 1813,     41.5,  -0.9324,  31.5009,2,-999.0000,9,    338.7,2,    346.3,2,    12.65,2,     3.56,2,     0.27,2,     1.14,2,     0.57,2,     0.34,2,    1.759,2,  -0.9333,20040920,1400
  32H120040910,   109,  1,    118,     18,2,20040920,1255, 76.2117,-168.6322, 1813,     59.8,  -1.2253,  31.9480,2,-999.0000,9,    319.5,2,    329.4,2,    20.83,2,     8.19,2,     0.12,2,     1.50,2,     0.19,2,     0.18,2,    1.216,2,  -1.2265,20040920,1358
  32H120040910,   109,  1,    117,     17,2,20040920,1255, 76.2117,-168.6322, 1813,     89.5,  -1.2432,  32.3860,2,  32.3920,2,    287.2,2,    295.0,2,    26.58,2,    11.74,2,     0.03,2,     1.76,2,     0.03,2,     0.06,2,    0.819,2,  -1.2451,20040920,1356
  32H120040910,   109,  1,    116,     16,2,20040920,1255, 76.2117,-168.6322, 1813,    119.6,  -1.5781,  32.7479,2,-999.0000,9,    290.2,2,    302.1,2,    33.65,2,    13.31,2,     0.03,2,     1.83,2,  -999.00,9,  -999.00,9,    0.830,2,  -1.5804,20040920,1353
  32H120040910,   109,  1,    115,     15,2,20040920,1255, 76.2117,-168.6322, 1813,    149.6,  -1.4753,  33.2304,2,-999.0000,9,    253.4,2,    262.1,2,    40.57,2,    16.22,2,     0.04,2,     2.02,2,  -999.00,9,  -999.00,9,    0.826,2,  -1.4785,20040920,1350
  32H120040910,   109,  1,    114,     14,2,20040920,1255, 76.2117,-168.6322, 1813,    180.1,  -1.1839,  34.1021,2,-999.0000,9,    259.1,2,    269.5,2,    18.45,2,    11.81,2,     0.03,2,     1.15,2,     0.01,2,     0.03,2,    0.751,2,  -1.1885,20040920,1347
  32H120040910,   109,  1,    113,     13,2,20040920,1255, 76.2117,-168.6322, 1813,    209.6,  -0.5651,  34.3810,2,-999.0000,9,    267.5,2,    278.6,2,    12.50,2,    11.28,2,     0.03,2,     0.97,2,  -999.00,9,  -999.00,9,    0.679,2,  -0.5718,20040920,1344
  32H120040910,   109,  1,    112,     12,2,20040920,1255, 76.2117,-168.6322, 1813,    259.7,   0.2993,  34.6365,2,-999.0000,9,    279.7,2,    291.4,2,     8.42,2,    11.43,2,     0.03,2,     0.91,2,  -999.00,9,  -999.00,9,    0.598,2,   0.2889,20040920,1340
  32H120040910,   109,  1,    111,     11,9,20040920,1255, 76.2117,-168.6322, 1813,    300.0,   0.7667,  34.7557,2,-999.0000,9,    269.0,2,   -999.0,9,  -999.00,9,  -999.00,9,  -999.00,9,  -999.00,9,  -999.00,9,  -999.00,9,    0.651,2,   0.7533,20040920,1337
  32H120040910,   109,  1,    110,     10,2,20040920,1255, 76.2117,-168.6322, 1813,    399.9,   1.0656,  34.8413,2,  34.8427,2,    286.2,2,   -999.0,9,  -999.00,9,  -999.00,9,  -999.00,9,  -999.00,9,  -999.00,9,  -999.00,9,    0.616,2,   1.0464,20040920,1334
  32H120040910,   109,  1,    109,      9,2,20040920,1255, 76.2117,-168.6322, 1813,    499.5,   0.8316,  34.8559,2,  34.8579,2,    286.7,2,    297.9,2,     7.79,2,    12.30,2,     0.03,2,     0.91,2,  -999.00,9,  -999.00,9,    0.562,2,   0.8081,20040920,1330
  32H120040910,   109,  1,    108,      8,2,20040920,1255, 76.2117,-168.6322, 1813,    599.5,   0.5557,  34.8584,2,  34.8593,2,    287.7,2,   -999.0,9,  -999.00,9,  -999.00,9,  -999.00,9,  -999.00,9,  -999.00,9,  -999.00,9,    0.580,2,   0.5284,20040920,1327
  32H120040910,   109,  1,    107,      7,2,20040920,1255, 76.2117,-168.6322, 1813,    699.8,   0.3249,  34.8595,2,  34.8615,2,    287.7,2,    300.1,2,     8.27,2,    12.34,2,     0.03,2,     0.92,2,  -999.00,9,  -999.00,9,    0.601,2,   0.2937,20040920,1323
  32H120040910,   109,  1,    106,      6,2,20040920,1255, 76.2117,-168.6322, 1813,    799.9,   0.1712,  34.8639,2,  34.8654,2,    289.1,2,   -999.0,9,  -999.00,9,  -999.00,9,  -999.00,9,  -999.00,9,  -999.00,9,  -999.00,9,    0.614,2,   0.1358,20040920,1319
  32H120040910,   109,  1,    105,      5,2,20040920,1255, 76.2117,-168.6322, 1813,    900.0,   0.0166,  34.8667,2,  34.8700,2,    289.4,2,    302.2,2,     8.06,2,    12.34,2,     0.03,2,     0.93,2,  -999.00,9,  -999.00,9,    0.652,2,  -0.0229,20040920,1316
  32H120040910,   109,  1,    104,      4,2,20040920,1255, 76.2117,-168.6322, 1813,   1000.3,  -0.0935,  34.8730,2,  34.8749,2,    288.6,2,   -999.0,9,  -999.00,9,  -999.00,9,  -999.00,9,  -999.00,9,  -999.00,9,  -999.00,9,    0.580,2,  -0.1373,20040920,1312
  32H120040910,   109,  1,    103,      3,2,20040920,1255, 76.2117,-168.6322, 1813,   1249.6,  -0.2756,  34.8910,2,  34.8921,2,    287.7,2,   -999.0,9,  -999.00,9,  -999.00,9,  -999.00,9,  -999.00,9,  -999.00,9,  -999.00,9,    0.621,2,  -0.3313,20040920,1307
  32H120040910,   109,  1,    102,      2,2,20040920,1255, 76.2117,-168.6322, 1813,   1500.0,  -0.4231,  34.9113,2,  34.9126,2,    284.1,2,   -999.0,9,  -999.00,9,  -999.00,9,  -999.00,9,  -999.00,9,  -999.00,9,  -999.00,9,    0.602,2,  -0.4915,20040920,1301
  32H120040910,   109,  1,    101,      1,2,20040920,1255, 76.2117,-168.6322, 1813,   1808.0,  -0.4134,  34.9475,2,  34.9480,2,    271.0,2,    284.3,2,    14.33,2,    14.58,2,     0.04,2,     1.08,2,  -999.00,9,  -999.00,9,    0.471,2,  -0.5010,20040920,1255