BOTTLE,20220815CCHSIOAMB
EXPOCODE,STNNBR,CASTNO,SAMPNO,BTLNBR,BTLNBR_FLAG_W,DATE,TIME,LATITUDE,LONGITUDE,DEPTH,CTDPRS,CTDTMP,CTDSAL,CTDSAL_FLAG_W,SALNTY,SALNTY_FLAG_W,CTDOXY,CTDOXY_FLAG_W,OXYGEN,OXYGEN_FLAG_W,SILCAT,SILCAT_FLAG_W,NITRAT,NITRAT_FLAG_W,NITRIT,NITRIT_FLAG_W,PHSPHT,PHSPHT_FLAG_W,CHLORA,CHLORA_FLAG_W,PHAEO,PHAEO_FLAG_W,FLUORO,FLUORO_FLAG_W,THETA,BTL_DATE,BTL_TIME
,,,,,,,,,,METERS,DBAR,ITS-90,PSS-78,,PSS-78,,UMOL/KG,,UMOL/KG,,UMOL/KG,,UMOL/KG,,UMOL/KG,,UMOL/KG,,UG/L,,UG/L,,VOLTS,,DEG C,,
  32H120040910,   130,  1,    115,     15,2,20040926,1610, 73.2780,-160.4968,  303,      9.6,   2.2673,  27.5099,2,  27.7666,2,    334.7,2,    346.2,2,     2.30,2,     0.12,2,     0.00,2,     0.49,2,     0.39,2,     0.11,2,    1.330,2,   2.2669,20040926,1642
  32H120040910,   130,  1,    114,     14,2,20040926,1610, 73.2780,-160.4968,  303,     19.5,   0.7701,  29.8926,2,-999.0000,9,    370.6,2,   -999.0,9,  -999.00,9,  -999.00,9,  -999.00,9,  -999.00,9,     0.24,2,     0.13,2,    1.176,2,   0.7695,20040926,1640
  32H120040910,   130,  1,    113,     13,2,20040926,1610, 73.2780,-160.4968,  303,     30.8,   0.3538,  31.2754,2,  31.3021,2,    370.8,2,    383.1,2,     5.76,2,     0.09,2,     0.09,2,     0.84,2,  -999.00,9,  -999.00,9,    1.260,2,   0.3528,20040926,1639
  32H120040910,   130,  1,    112,     12,2,20040926,1610, 73.2780,-160.4968,  303,     39.7,   0.1473,  31.7644,2,-999.0000,9,    355.2,2,   -999.0,9,  -999.00,9,  -999.00,9,  -999.00,9,  -999.00,9,     0.17,2,     0.14,2,    1.111,2,   0.1461,20040926,1637
  32H120040910,   130,  1,    111,     11,2,20040926,1610, 73.2780,-160.4968,  303,     50.4,  -1.0649,  32.0116,2,  31.9964,2,    319.2,2,    330.8,2,    14.55,2,     7.01,2,     0.12,2,     1.33,2,  -999.00,9,  -999.00,9,    1.070,2,  -1.0660,20040926,1635
  32H120040910,   130,  1,    110,     10,2,20040926,1610, 73.2780,-160.4968,  303,     60.0,  -1.0576,  32.1855,2,-999.0000,9,    318.6,2,   -999.0,9,  -999.00,9,  -999.00,9,  -999.00,9,  -999.00,9,     0.06,2,     0.06,2,    0.943,2,  -1.0589,20040926,1634
  32H120040910,   130,  1,    109,      9,2,20040926,1610, 73.2780,-160.4968,  303,     80.3,  -0.9248,  32.5575,2,-999.0000,9,    290.1,2,   -999.0,9,    27.81,2,    10.95,2,     0.20,2,     2.04,2,     0.17,2,     0.10,2,    1.042,2,  -0.9267,20040926,1631
  32H120040910,   130,  1,    108,      8,2,20040926,1610, 73.2780,-160.4968,  303,    110.2,  -1.5178,  32.7811,2,  32.7759,2,    299.6,2,    309.0,2,    36.01,2,    12.85,2,     0.14,2,     1.92,2,  -999.00,9,  -999.00,9,    0.907,2,  -1.5199,20040926,1629
  32H120040910,   130,  1,    107,      7,2,20040926,1610, 73.2780,-160.4968,  303,    130.3,  -1.5826,  33.0152,2,-999.0000,9,    286.2,2,   -999.0,9,    38.23,2,    14.26,2,     0.11,2,     1.95,2,     0.05,2,     0.07,2,    0.891,2,  -1.5851,20040926,1627
  32H120040910,   130,  1,    106,      6,2,20040926,1610, 73.2780,-160.4968,  303,    150.0,  -1.4229,  33.3853,2,  33.3566,2,    283.2,2,    291.4,2,    32.30,2,    13.32,2,     0.13,2,     1.81,2,  -999.00,9,  -999.00,9,    0.823,2,  -1.4262,20040926,1625
  32H120040910,   130,  1,    105,      5,2,20040926,1610, 73.2780,-160.4968,  303,    172.2,  -1.0605,  34.0750,2,  34.0497,2,    269.3,2,    283.9,0,    23.51,2,    13.13,2,     0.06,2,     1.46,2,  -999.00,9,  -999.00,9,    0.683,2,  -1.0651,20040926,1622
  32H120040910,   130,  1,    104,      4,2,20040926,1610, 73.2780,-160.4968,  303,    192.7,  -0.4363,  34.4161,2,-999.0000,9,    265.5,2,   -999.0,9,    16.58,2,    13.15,2,     0.05,2,     1.17,2,  -999.00,9,  -999.00,9,    0.689,2,  -0.4426,20040926,1619
  32H120040910,   130,  1,    103,      3,2,20040926,1610, 73.2780,-160.4968,  303,    222.6,   0.2674,  34.6446,2,  34.6405,2,    271.5,2,    281.1,2,    10.23,2,    12.47,2,     0.04,2,     0.96,2,  -999.00,9,  -999.00,9,    0.614,2,   0.2586,20040926,1616
  32H120040910,   130,  1,    102,      2,2,20040926,1610, 73.2780,-160.4968,  303,    260.1,   0.6532,  34.7508,2,-999.0000,9,    278.0,2,   -999.0,9,     7.99,2,    12.32,2,     0.04,2,     0.89,2,  -999.00,9,  -999.00,9,    0.612,2,   0.6420,20040926,1612
  32H120040910,   130,  1,    101,      1,2,20040926,1610, 73.2780,-160.4968,  303,    298.4,   0.8257,  34.8049,2,  34.8066,2,    281.5,2,    291.2,2,     7.07,2,    12.33,2,     0.04,2,     0.88,2,  -999.00,9,  -999.00,9,    0.586,2,   0.8122,20040926,1610
  32H120040910,   131,  1,    115,     15,2,20040926,1744, 73.2573,-160.4837,  305,      9.9,   1.8715,  27.3869,2,  27.4809,2,    338.8,2,    348.7,2,     1.82,2,     0.18,2,     0.00,2,     0.47,2,  -999.00,9,  -999.00,9,    1.329,2,   1.8711,20040926,1811
  32H120040910,   131,  1,    114,     14,9,20040926,1744, 73.2573,-160.4837,  305,     20.3,   3.1524,  30.4778,2,-999.0000,9,    357.9,2,   -999.0,9,  -999.00,9,  -999.00,9,  -999.00,9,  -999.00,9,  -999.00,9,  -999.00,9,    1.327,2,   3.1513,20040926,1810
  32H120040910,   131,  1,    113,     13,2,20040926,1744, 73.2573,-160.4837,  305,     30.1,   0.1855,  31.3425,2,  31.3435,2,    369.0,2,    381.6,2,     5.97,2,     0.24,2,     0.13,2,     0.86,2,  -999.00,9,  -999.00,9,    1.289,2,   0.1846,20040926,1808
  32H120040910,   131,  1,    112,     12,9,20040926,1744, 73.2573,-160.4837,  305,     40.2,  -0.4266,  31.8316,2,-999.0000,9,    343.3,2,   -999.0,9,  -999.00,9,  -999.00,9,  -999.00,9,  -999.00,9,  -999.00,9,  -999.00,9,    1.111,2,  -0.4277,20040926,1807
  32H120040910,   131,  1,    111,     11,2,20040926,1744, 73.2573,-160.4837,  305,     50.5,  -1.0478,  32.0366,2,  32.0453,2,    319.1,2,    334.9,2,    14.66,2,     6.84,2,     0.12,2,     1.35,2,  -999.00,9,  -999.00,9,    1.100,2,  -1.0489,20040926,1805
  32H120040910,   131,  1,    110,     10,9,20040926,1744, 73.2573,-160.4837,  305,     60.4,  -1.2313,  32.2039,2,-999.0000,9,    304.6,2,   -999.0,9,  -999.00,9,  -999.00,9,  -999.00,9,  -999.00,9,  -999.00,9,  -999.00,9,    0.971,2,  -1.2325,20040926,1803
  32H120040910,   131,  1,    109,      9,2,20040926,1744, 73.2573,-160.4837,  305,     80.6,  -1.4007,  32.5139,2,-999.0000,9,    294.4,2,   -999.0,9,    25.08,2,    11.62,2,     0.06,2,     1.67,2,  -999.00,9,  -999.00,9,    0.728,2,  -1.4023,20040926,1802
  32H120040910,   131,  1,    108,      8,2,20040926,1744, 73.2573,-160.4837,  305,    110.1,  -1.5313,  32.7937,2,  32.7852,2,    292.0,2,    307.4,2,    35.34,2,    12.98,2,     0.12,2,     1.90,2,  -999.00,9,  -999.00,9,    0.818,2,  -1.5334,20040926,1800
  32H120040910,   131,  1,    107,      7,2,20040926,1744, 73.2573,-160.4837,  305,    130.6,  -1.6097,  33.0830,2,-999.0000,9,    287.0,2,   -999.0,9,    40.20,2,    14.66,2,     0.10,2,     1.99,2,  -999.00,9,  -999.00,9,    0.829,2,  -1.6122,20040926,1758
  32H120040910,   131,  1,    106,      6,2,20040926,1744, 73.2573,-160.4837,  305,    151.2,  -1.3657,  33.5246,2,  33.5217,2,    287.5,2,    298.9,2,    29.54,2,    12.38,2,     0.13,2,     1.66,2,  -999.00,9,  -999.00,9,    0.802,2,  -1.3691,20040926,1756
  32H120040910,   131,  1,    105,      5,2,20040926,1744, 73.2573,-160.4837,  305,    171.5,  -1.0107,  34.1143,2,  34.0938,2,    264.5,2,    274.1,2,    23.08,2,    13.65,2,     0.03,2,     1.39,2,  -999.00,9,  -999.00,9,    0.715,2,  -1.0153,20040926,1754
  32H120040910,   131,  1,    104,      4,2,20040926,1744, 73.2573,-160.4837,  305,    191.4,  -0.4763,  34.3748,2,-999.0000,9,    264.9,2,   -999.0,9,    18.43,2,    13.46,2,     0.03,2,     1.25,2,  -999.00,9,  -999.00,9,    0.645,2,  -0.4825,20040926,1752
  32H120040910,   131,  1,    103,      3,2,20040926,1744, 73.2573,-160.4837,  305,    220.6,   0.2947,  34.6571,2,  34.6586,2,    270.2,2,    279.7,2,    10.65,2,    12.68,2,     0.03,2,     0.97,2,  -999.00,9,  -999.00,9,    0.632,2,   0.2859,20040926,1750
  32H120040910,   131,  1,    102,      2,2,20040926,1744, 73.2573,-160.4837,  305,    260.5,   0.6705,  34.7627,2,-999.0000,9,    277.2,2,   -999.0,9,     8.20,2,    12.49,2,     0.03,2,     0.91,2,  -999.00,9,  -999.00,9,    0.624,2,   0.6592,20040926,1746
  32H120040910,   131,  1,    101,      1,2,20040926,1744, 73.2573,-160.4837,  305,    300.2,   0.7697,  34.8017,2,  34.8027,2,    277.0,2,    287.1,2,     8.92,2,    12.64,2,     0.04,2,     0.91,2,  -999.00,9,  -999.00,9,    0.585,2,   0.7563,20040926,1744
  32H120040910,   131,  2,    222,     22,2,20040926,2011, 73.2573,-160.4837,  305,     50.7,  -0.8575,  31.9941,2,  31.9997,2,    328.0,2,   -999.0,9,  -999.00,9,  -999.00,9,  -999.00,9,  -999.00,9,  -999.00,9,  -999.00,9,    0.922,2,  -0.8587,20040926,2020
  32H120040910,   131,  2,    202,      2,2,20040926,2011, 73.2573,-160.4837,  305,    136.4,  -1.5213,  33.1719,2,  33.1560,2,    285.0,2,   -999.0,9,  -999.00,9,  -999.00,9,  -999.00,9,  -999.00,9,  -999.00,9,  -999.00,9,    0.739,2,  -1.5241,20040926,2014
  32H120040910,   131,  2,    203,      3,2,20040926,2011, 73.2573,-160.4837,  305,    136.7,  -1.5093,  33.1738,2,-999.0000,9,    284.3,2,   -999.0,9,  -999.00,9,  -999.00,9,  -999.00,9,  -999.00,9,  -999.00,9,  -999.00,9,    0.762,2,  -1.5121,20040926,2014
  32H120040910,   131,  2,    204,      4,2,20040926,2011, 73.2573,-160.4837,  305,    136.7,  -1.5138,  33.1728,2,-999.0000,9,    284.7,2,   -999.0,9,  -999.00,9,  -999.00,9,  -999.00,9,  -999.00,9,  -999.00,9,  -999.00,9,    0.773,2,  -1.5166,20040926,2014
  32H120040910,   131,  2,    205,      5,2,20040926,2011, 73.2573,-160.4837,  305,    136.8,  -1.5225,  33.1711,2,-999.0000,9,    284.6,2,   -999.0,9,  -999.00,9,  -999.00,9,  -999.00,9,  -999.00,9,  -999.00,9,  -999.00,9,    0.754,2,  -1.5253,20040926,2014
  32H120040910,   131,  2,    212,     12,2,20040926,2011, 73.2573,-160.4837,  305,    136.8,  -1.5420,  33.1678,2,-999.0000,9,    283.7,2,   -999.0,9,  -999.00,9,  -999.00,9,  -999.00,9,  -999.00,9,  -999.00,9,  -999.00,9,    0.788,2,  -1.5448,20040926,2015
  32H120040910,   131,  2,    211,     11,2,20040926,2011, 73.2573,-160.4837,  305,    136.9,  -1.5320,  33.1706,2,-999.0000,9,    284.0,2,   -999.0,9,  -999.00,9,  -999.00,9,  -999.00,9,  -999.00,9,  -999.00,9,  -999.00,9,    0.766,2,  -1.5348,20040926,2015
  32H120040910,   131,  2,    213,     13,2,20040926,2011, 73.2573,-160.4837,  305,    137.0,  -1.5434,  33.1671,2,-999.0000,9,    283.9,2,   -999.0,9,  -999.00,9,  -999.00,9,  -999.00,9,  -999.00,9,  -999.00,9,  -999.00,9,    0.756,2,  -1.5462,20040926,2015
  32H120040910,   131,  2,    210,     10,2,20040926,2011, 73.2573,-160.4837,  305,    137.1,  -1.5233,  33.1714,2,  33.1685,2,    283.6,2,   -999.0,9,  -999.00,9,  -999.00,9,  -999.00,9,  -999.00,9,  -999.00,9,  -999.00,9,    0.771,2,  -1.5261,20040926,2015
  32H120040910,   131,  2,    206,      6,2,20040926,2011, 73.2573,-160.4837,  305,    137.2,  -1.5069,  33.1751,2,  33.1711,2,    284.5,2,   -999.0,9,  -999.00,9,  -999.00,9,  -999.00,9,  -999.00,9,  -999.00,9,  -999.00,9,    0.692,2,  -1.5097,20040926,2014
  32H120040910,   131,  2,    214,     14,2,20040926,2011, 73.2573,-160.4837,  305,    137.2,  -1.5116,  33.1757,2,  33.1683,2,    283.4,2,   -999.0,9,  -999.00,9,  -999.00,9,  -999.00,9,  -999.00,9,  -999.00,9,  -999.00,9,    0.774,2,  -1.5144,20040926,2015
  32H120040910,   131,  2,    215,     15,2,20040926,2011, 73.2573,-160.4837,  305,    137.3,  -1.5057,  33.1777,2,-999.0000,9,    282.6,2,   -999.0,9,  -999.00,9,  -999.00,9,  -999.00,9,  -999.00,9,  -999.00,9,  -999.00,9,    0.759,2,  -1.5085,20040926,2015
  32H120040910,   131,  2,    209,      9,2,20040926,2011, 73.2573,-160.4837,  305,    137.3,  -1.5088,  33.1747,2,-999.0000,9,    284.4,2,   -999.0,9,  -999.00,9,  -999.00,9,  -999.00,9,  -999.00,9,  -999.00,9,  -999.00,9,    0.736,2,  -1.5116,20040926,2015
  32H120040910,   131,  2,    219,     19,2,20040926,2011, 73.2573,-160.4837,  305,    137.4,  -1.5049,  33.1786,2,-999.0000,9,    281.9,2,   -999.0,9,  -999.00,9,  -999.00,9,  -999.00,9,  -999.00,9,  -999.00,9,  -999.00,9,    0.736,2,  -1.5077,20040926,2016
  32H120040910,   131,  2,    221,     21,2,20040926,2011, 73.2573,-160.4837,  305,    137.6,  -1.5022,  33.1798,2,-999.0000,9,    281.6,2,   -999.0,9,  -999.00,9,  -999.00,9,  -999.00,9,  -999.00,9,  -999.00,9,  -999.00,9,    0.712,2,  -1.5050,20040926,2016
  32H120040910,   131,  2,    220,     20,2,20040926,2011, 73.2573,-160.4837,  305,    137.6,  -1.5046,  33.1786,2,-999.0000,9,    281.6,2,   -999.0,9,  -999.00,9,  -999.00,9,  -999.00,9,  -999.00,9,  -999.00,9,  -999.00,9,    0.743,2,  -1.5074,20040926,2016
  32H120040910,   131,  2,    207,      7,2,20040926,2011, 73.2573,-160.4837,  305,    137.6,  -1.5093,  33.1746,2,-999.0000,9,    284.7,2,   -999.0,9,  -999.00,9,  -999.00,9,  -999.00,9,  -999.00,9,  -999.00,9,  -999.00,9,    0.732,2,  -1.5121,20040926,2014
  32H120040910,   131,  2,    208,      8,2,20040926,2011, 73.2573,-160.4837,  305,    137.6,  -1.5126,  33.1736,2,-999.0000,9,    284.8,2,   -999.0,9,  -999.00,9,  -999.00,9,  -999.00,9,  -999.00,9,  -999.00,9,  -999.00,9,    0.707,2,  -1.5154,20040926,2015
  32H120040910,   131,  2,    216,     16,2,20040926,2011, 73.2573,-160.4837,  305,    137.7,  -1.5042,  33.1784,2,-999.0000,9,    282.6,2,   -999.0,9,  -999.00,9,  -999.00,9,  -999.00,9,  -999.00,9,  -999.00,9,  -999.00,9,    0.735,2,  -1.5070,20040926,2016
  32H120040910,   131,  2,    218,     18,2,20040926,2011, 73.2573,-160.4837,  305,    137.7,  -1.5055,  33.1780,2,  33.1770,2,    282.1,2,   -999.0,9,  -999.00,9,  -999.00,9,  -999.00,9,  -999.00,9,  -999.00,9,  -999.00,9,    0.749,2,  -1.5083,20040926,2016
  32H120040910,   131,  2,    217,     17,2,20040926,2011, 73.2573,-160.4837,  305,    137.9,  -1.5048,  33.1782,2,-999.0000,9,    282.4,2,   -999.0,9,  -999.00,9,  -999.00,9,  -999.00,9,  -999.00,9,  -999.00,9,  -999.00,9,    0.804,2,  -1.5076,20040926,2016
  32H120040910,   131,  2,    201,      1,2,20040926,2011, 73.2573,-160.4837,  305,    250.5,   0.6107,  34.7461,2,  34.7558,2,    276.5,2,   -999.0,9,  -999.00,9,  -999.00,9,  -999.00,9,  -999.00,9,  -999.00,9,  -999.00,9,    0.603,2,   0.6000,20040926,2011
  32H120040910,   132,  1,    102,      2,2,20040927,1417, 70.6672,-167.0503,   49,     10.2,   6.8680,  30.4903,2,  30.4912,2,    299.5,2,   -999.0,9,  -999.00,9,  -999.00,9,  -999.00,9,  -999.00,9,  -999.00,9,  -999.00,9,    1.672,2,   6.8671,20040927,1420
  32H120040910,   132,  1,    101,      1,2,20040927,1417, 70.6672,-167.0503,   49,     44.4,   0.8914,  32.2411,2,  32.2330,2,    356.7,2,   -999.0,9,  -999.00,9,  -999.00,9,  -999.00,9,  -999.00,9,  -999.00,9,  -999.00,9,    1.434,2,   0.8897,20040927,1417
  32H120040910,   133,  1,    103,      3,2,20040927,2003, 70.6988,-168.8145,   32,     10.0,   5.2607,  31.0830,2,  31.0883,2,    313.5,2,    311.6,2,     1.57,2,     0.12,2,     0.01,2,     0.36,2,  -999.00,9,  -999.00,9,    1.676,2,   5.2600,20040927,2006
  32H120040910,   133,  1,    102,      2,2,20040927,2003, 70.6988,-168.8145,   32,     20.3,   5.2647,  31.0785,2,-999.0000,9,    314.5,2,    324.6,2,     3.16,2,     0.30,2,     0.02,2,     0.54,2,  -999.00,9,  -999.00,9,    1.639,2,   5.2632,20040927,2004
  32H120040910,   133,  1,    101,      1,2,20040927,2003, 70.6988,-168.8145,   32,     26.9,   2.7201,  32.1077,2,-999.0000,9,    348.5,2,    351.9,2,     7.09,2,     0.90,2,     0.06,2,     0.95,2,  -999.00,9,  -999.00,9,    1.383,2,   2.7187,20040927,2003
  32H120040910,   134,  1,    102,      2,2,20040927,2104, 70.6983,-168.5810,   37,     10.0,   5.2866,  30.9959,2,  30.9983,2,    312.5,2,    309.6,2,     1.73,2,     0.07,2,     0.01,2,     0.32,2,  -999.00,9,  -999.00,9,    1.685,2,   5.2859,20040927,2107
  32H120040910,   134,  1,    101,      1,2,20040927,2104, 70.6983,-168.5810,   37,     32.4,   2.7877,  32.1653,2,-999.0000,9,    349.3,2,    345.3,2,     7.00,2,     1.24,2,     0.07,2,     0.97,2,  -999.00,9,  -999.00,9,    1.399,2,   2.7859,20040927,2104
  32H120040910,   135,  1,    103,      3,2,20040927,2210, 70.6955,-168.2967,   40,     10.3,   5.8385,  30.8339,2,  30.8368,2,    310.2,2,    308.0,2,     2.77,2,     0.07,2,     0.01,2,     0.42,2,  -999.00,9,  -999.00,9,    1.691,2,   5.8377,20040927,2213
  32H120040910,   135,  1,    102,      2,2,20040927,2210, 70.6955,-168.2967,   40,     19.4,   4.9647,  31.2102,2,-999.0000,9,    328.0,2,    327.4,2,     5.39,2,     0.69,2,     0.04,2,     0.71,2,  -999.00,9,  -999.00,9,    1.612,2,   4.9633,20040927,2212
  32H120040910,   135,  1,    101,      1,2,20040927,2210, 70.6955,-168.2967,   40,     35.5,   2.8506,  32.1610,2,  32.1614,2,    341.0,2,    340.4,2,     9.45,2,     1.72,2,     0.09,2,     1.11,2,  -999.00,9,  -999.00,9,    1.265,2,   2.8487,20040927,2210
  32H120040910,   136,  1,    103,      3,2,20040927,2322, 70.6973,-168.0207,   45,      9.8,   5.9931,  30.7079,2,  30.7080,2,    307.7,2,    307.0,2,     3.46,2,     0.07,2,     0.01,2,     0.43,2,  -999.00,9,  -999.00,9,    1.729,2,   5.9923,20040927,2326
  32H120040910,   136,  1,    102,      2,2,20040927,2322, 70.6973,-168.0207,   45,     24.5,   2.3633,  32.0060,2,-999.0000,9,    395.0,2,    388.0,2,     3.93,2,     0.49,2,     0.03,2,     0.71,2,  -999.00,9,  -999.00,9,    1.743,2,   2.3621,20040927,2324
  32H120040910,   136,  1,    101,      1,2,20040927,2322, 70.6973,-168.0207,   45,     40.3,   1.6704,  32.2201,2,  32.2170,2,    353.3,2,    360.1,2,    12.34,2,     1.85,2,     0.11,2,     1.12,2,  -999.00,9,  -999.00,9,    1.489,2,   1.6686,20040927,2322