BOTTLE,20220815CCHSIOAMB
EXPOCODE,STNNBR,CASTNO,SAMPNO,BTLNBR,BTLNBR_FLAG_W,DATE,TIME,LATITUDE,LONGITUDE,DEPTH,CTDPRS,CTDTMP,CTDSAL,CTDSAL_FLAG_W,SALNTY,SALNTY_FLAG_W,CTDOXY,CTDOXY_FLAG_W,OXYGEN,OXYGEN_FLAG_W,SILCAT,SILCAT_FLAG_W,NITRAT,NITRAT_FLAG_W,NITRIT,NITRIT_FLAG_W,PHSPHT,PHSPHT_FLAG_W,CHLORA,CHLORA_FLAG_W,PHAEO,PHAEO_FLAG_W,FLUORO,FLUORO_FLAG_W,THETA,BTL_DATE,BTL_TIME
,,,,,,,,,,METERS,DBAR,ITS-90,PSS-78,,PSS-78,,UMOL/KG,,UMOL/KG,,UMOL/KG,,UMOL/KG,,UMOL/KG,,UMOL/KG,,UG/L,,UG/L,,VOLTS,,DEG C,,
  32H120040910,    86,  1,    106,      6,2,20040918,1045, 72.8483,-166.0175,   56,      9.4,   4.0517,  30.2770,2,-999.0000,9,    392.7,2,    414.4,2,     3.14,2,     0.17,2,     0.01,2,     0.44,2,     0.77,2,     0.10,2,    1.506,2,   4.0511,20040918,1053
  32H120040910,    86,  1,    105,      5,2,20040918,1045, 72.8483,-166.0175,   56,     14.8,   3.8059,  31.4547,2,-999.0000,9,    417.1,2,    446.4,2,     3.21,2,     0.12,2,     0.01,2,     0.53,2,     0.92,2,     0.08,2,    1.585,2,   3.8050,20040918,1051
  32H120040910,    86,  1,    104,      4,2,20040918,1045, 72.8483,-166.0175,   56,     30.1,   1.4519,  32.6125,2,  32.6157,2,    340.0,2,    344.5,2,     0.74,2,     7.67,2,     0.13,2,     1.42,2,     2.43,2,     0.08,2,    1.531,2,   1.4506,20040918,1049
  32H120040910,    86,  1,    103,      3,2,20040918,1045, 72.8483,-166.0175,   56,     34.7,   1.0517,  32.6164,2,-999.0000,9,    311.2,2,    318.3,2,     3.87,2,     8.52,2,     0.13,2,     1.73,2,     1.25,2,     0.01,2,    2.179,2,   1.0503,20040918,1048
  32H120040910,    86,  1,    102,      2,2,20040918,1045, 72.8483,-166.0175,   56,     40.3,   0.9346,  32.6510,2,-999.0000,9,    302.0,2,    302.2,2,     8.96,2,     9.42,2,     0.14,2,     1.92,2,     0.67,2,     0.07,2,    1.473,2,   0.9330,20040918,1046
  32H120040910,    86,  1,    101,      1,2,20040918,1045, 72.8483,-166.0175,   56,     51.2,  -0.1860,  32.7011,2,  32.6924,2,    269.1,2,    281.8,2,    15.42,2,    10.89,2,     0.14,2,     2.20,2,     0.54,2,     0.14,2,    1.258,2,  -0.1876,20040918,1045
  32H120040910,    87,  1,    106,      6,2,20040918,1437, 73.3377,-165.9988,   73,      5.1,   0.2465,  25.9974,2,  25.9818,2,    367.6,2,    381.8,2,     5.16,2,     0.18,2,     0.00,2,     0.59,2,     0.23,2,     0.06,2,    1.072,2,   0.2464,20040918,1447
  32H120040910,    87,  1,    105,      5,2,20040918,1437, 73.3377,-165.9988,   73,     15.5,  -0.7480,  30.7423,2,-999.0000,9,    481.9,2,    501.9,2,    13.23,2,     0.12,2,     0.01,2,     0.90,2,     0.45,2,     0.06,2,    1.373,2,  -0.7483,20040918,1445
  32H120040910,    87,  1,    104,      4,2,20040918,1437, 73.3377,-165.9988,   73,     33.3,  -1.6357,  32.1785,2,-999.0000,9,    320.0,2,    333.5,2,    26.82,2,    11.67,2,     0.08,2,     1.83,2,     4.22,2,     1.67,2,    2.264,2,  -1.6362,20040918,1443
  32H120040910,    87,  1,    103,      3,2,20040918,1437, 73.3377,-165.9988,   73,     40.5,  -1.6615,  32.3504,2,-999.0000,9,    299.0,2,    311.7,2,    38.43,2,    14.17,2,     0.09,2,     2.11,2,     4.08,2,     0.08,2,    1.262,2,  -1.6622,20040918,1441
  32H120040910,    87,  1,    102,      2,2,20040918,1437, 73.3377,-165.9988,   73,     50.5,  -1.4954,  32.6066,2,-999.0000,9,    285.5,2,    293.9,2,    41.39,2,    14.76,2,     0.11,2,     2.28,2,     0.39,2,     0.13,2,    1.216,2,  -1.4963,20040918,1440
  32H120040910,    87,  1,    101,      1,2,20040918,1437, 73.3377,-165.9988,   73,     67.7,  -0.8527,  32.7769,2,  32.7481,2,    265.7,2,    277.3,2,    32.96,2,    13.40,2,     0.28,2,     2.35,2,     0.33,2,     0.15,2,    1.137,2,  -0.8544,20040918,1437
  32H120040910,    88,  1,    106,      6,2,20040918,1540, 73.4257,-166.0003,   82,      9.9,   0.4087,  26.0634,2,-999.0000,9,    362.7,2,    379.5,2,     5.13,2,     0.05,2,     0.00,2,     0.60,2,     0.10,2,     0.03,2,    1.126,2,   0.4085,20040918,1547
  32H120040910,    88,  1,    105,      5,2,20040918,1540, 73.4257,-166.0003,   82,     15.2,  -0.5460,  30.2908,2,-999.0000,9,    420.2,2,    430.3,2,     4.63,2,     0.05,2,     0.00,2,     0.73,2,     0.09,2,     0.04,2,    1.079,2,  -0.5463,20040918,1546
  32H120040910,    88,  1,    104,      4,2,20040918,1540, 73.4257,-166.0003,   82,     29.8,  -0.7766,  31.8133,2,-999.0000,9,    369.1,2,    384.6,2,     9.27,2,     1.94,2,     0.07,2,     1.08,2,     0.31,2,     0.20,2,    1.617,2,  -0.7773,20040918,1544
  32H120040910,    88,  1,    103,      3,2,20040918,1540, 73.4257,-166.0003,   82,     40.5,  -1.4586,  32.1835,2,-999.0000,9,    338.1,2,    346.0,2,    22.85,2,     8.55,2,     0.08,2,     1.62,2,     0.27,2,     0.06,2,    1.324,2,  -1.4593,20040918,1543
  32H120040910,    88,  1,    102,      2,2,20040918,1540, 73.4257,-166.0003,   82,     50.1,  -1.6875,  32.4033,2,  32.3963,2,    292.5,2,    303.8,2,    43.63,2,    14.89,2,     0.09,2,     2.13,2,     0.90,2,     0.12,2,    1.273,2,  -1.6883,20040918,1542
  32H120040910,    88,  1,    101,      1,2,20040918,1540, 73.4257,-166.0003,   82,     76.7,  -1.4148,  32.8017,2,  32.7921,2,    274.5,2,    283.2,2,    48.30,2,    14.54,2,     0.24,2,     2.43,2,     0.22,2,     0.20,2,    1.154,2,  -1.4163,20040918,1540
  32H120040910,    89,  1,    124,     24,2,20040918,1636, 73.5060,-165.9828,   94,      4.4,   0.2706,  25.8149,2,-999.0000,9,    363.0,2,    377.0,2,     5.01,2,     0.14,2,     0.00,2,     0.59,2,  -999.00,9,  -999.00,9,    1.026,2,   0.2705,20040918,1647
  32H120040910,    89,  1,    123,     23,2,20040918,1636, 73.5060,-165.9828,   94,     15.1,  -0.3906,  29.9841,2,-999.0000,9,    418.7,2,    436.4,2,     3.81,2,     0.03,2,     0.00,2,     0.70,2,  -999.00,9,  -999.00,9,    1.132,2,  -0.3909,20040918,1646
  32H120040910,    89,  1,    122,     22,2,20040918,1636, 73.5060,-165.9828,   94,     30.2,  -1.1617,  31.7387,2,-999.0000,9,    385.4,2,    395.8,2,    11.32,2,     0.40,2,     0.02,2,     1.06,2,  -999.00,9,  -999.00,9,    1.567,2,  -1.1623,20040918,1645
  32H120040910,    89,  1,    121,     21,2,20040918,1636, 73.5060,-165.9828,   94,     45.4,  -1.4202,  32.2737,2,  32.2843,2,    327.2,2,    335.7,2,    25.79,2,     9.10,2,     0.09,2,     1.62,2,  -999.00,9,  -999.00,9,    1.010,2,  -1.4210,20040918,1643
  32H120040910,    89,  1,    111,     11,2,20040918,1636, 73.5060,-165.9828,   94,     59.9,  -1.6933,  32.5141,2,  32.5124,2,    290.8,2,   -999.0,9,  -999.00,9,  -999.00,9,  -999.00,9,  -999.00,9,  -999.00,9,  -999.00,9,    1.040,2,  -1.6943,20040918,1640
  32H120040910,    89,  1,    106,      6,2,20040918,1636, 73.5060,-165.9828,   94,     60.0,  -1.6931,  32.5161,2,-999.0000,9,    289.7,2,   -999.0,9,  -999.00,9,  -999.00,9,  -999.00,9,  -999.00,9,     0.18,2,     0.04,2,    0.975,2,  -1.6941,20040918,1640
  32H120040910,    89,  1,    116,     16,2,20040918,1636, 73.5060,-165.9828,   94,     60.0,  -1.6934,  32.5113,2,-999.0000,9,    292.1,2,   -999.0,9,  -999.00,9,  -999.00,9,  -999.00,9,  -999.00,9,  -999.00,9,  -999.00,9,    0.967,2,  -1.6944,20040918,1641
  32H120040910,    89,  1,    107,      7,2,20040918,1636, 73.5060,-165.9828,   94,     60.1,  -1.6930,  32.5150,2,-999.0000,9,    289.9,2,   -999.0,9,  -999.00,9,  -999.00,9,  -999.00,9,  -999.00,9,  -999.00,9,  -999.00,9,    0.978,2,  -1.6940,20040918,1640
  32H120040910,    89,  1,    114,     14,2,20040918,1636, 73.5060,-165.9828,   94,     60.1,  -1.6933,  32.5125,2,  32.5132,2,    291.2,2,   -999.0,9,  -999.00,9,  -999.00,9,  -999.00,9,  -999.00,9,  -999.00,9,  -999.00,9,    0.987,2,  -1.6943,20040918,1641
  32H120040910,    89,  1,    113,     13,2,20040918,1636, 73.5060,-165.9828,   94,     60.1,  -1.6933,  32.5128,2,-999.0000,9,    291.1,2,   -999.0,9,  -999.00,9,  -999.00,9,  -999.00,9,  -999.00,9,  -999.00,9,  -999.00,9,    1.048,2,  -1.6943,20040918,1641
  32H120040910,    89,  1,    112,     12,2,20040918,1636, 73.5060,-165.9828,   94,     60.1,  -1.6933,  32.5140,2,-999.0000,9,    291.1,2,   -999.0,9,  -999.00,9,  -999.00,9,  -999.00,9,  -999.00,9,  -999.00,9,  -999.00,9,    0.955,2,  -1.6943,20040918,1641
  32H120040910,    89,  1,    120,     20,2,20040918,1636, 73.5060,-165.9828,   94,     60.1,  -1.6940,  32.5098,2,  32.5106,2,    292.2,2,   -999.0,9,  -999.00,9,  -999.00,9,  -999.00,9,  -999.00,9,  -999.00,9,  -999.00,9,    1.001,2,  -1.6950,20040918,1641
  32H120040910,    89,  1,    110,     10,2,20040918,1636, 73.5060,-165.9828,   94,     60.2,  -1.6931,  32.5137,2,-999.0000,9,    290.6,2,   -999.0,9,  -999.00,9,  -999.00,9,  -999.00,9,  -999.00,9,  -999.00,9,  -999.00,9,    1.007,2,  -1.6941,20040918,1640
  32H120040910,    89,  1,    109,      9,2,20040918,1636, 73.5060,-165.9828,   94,     60.2,  -1.6931,  32.5139,2,-999.0000,9,    290.6,2,   -999.0,9,  -999.00,9,  -999.00,9,  -999.00,9,  -999.00,9,  -999.00,9,  -999.00,9,    0.996,2,  -1.6941,20040918,1640
  32H120040910,    89,  1,    108,      8,2,20040918,1636, 73.5060,-165.9828,   94,     60.2,  -1.6931,  32.5152,2,  32.5102,2,    290.3,2,   -999.0,9,  -999.00,9,  -999.00,9,  -999.00,9,  -999.00,9,  -999.00,9,  -999.00,9,    1.039,2,  -1.6941,20040918,1640
  32H120040910,    89,  1,    115,     15,2,20040918,1636, 73.5060,-165.9828,   94,     60.2,  -1.6932,  32.5130,2,-999.0000,9,    291.9,2,   -999.0,9,  -999.00,9,  -999.00,9,  -999.00,9,  -999.00,9,  -999.00,9,  -999.00,9,    1.055,2,  -1.6942,20040918,1641
  32H120040910,    89,  1,    104,      4,2,20040918,1636, 73.5060,-165.9828,   94,     60.2,  -1.6932,  32.5165,2,-999.0000,9,    289.0,2,   -999.0,9,  -999.00,9,  -999.00,9,  -999.00,9,  -999.00,9,     0.78,2,     0.12,2,    0.971,2,  -1.6942,20040918,1640
  32H120040910,    89,  1,    105,      5,2,20040918,1636, 73.5060,-165.9828,   94,     60.2,  -1.6932,  32.5172,2,  32.5108,2,    289.7,2,   -999.0,9,  -999.00,9,  -999.00,9,  -999.00,9,  -999.00,9,     0.18,2,     0.09,2,    0.986,2,  -1.6942,20040918,1640
  32H120040910,    89,  1,    103,      3,2,20040918,1636, 73.5060,-165.9828,   94,     60.2,  -1.6934,  32.5181,2,-999.0000,9,    289.2,2,   -999.0,9,  -999.00,9,  -999.00,9,  -999.00,9,  -999.00,9,     0.26,2,     0.06,2,    0.962,2,  -1.6944,20040918,1639
  32H120040910,    89,  1,    118,     18,2,20040918,1636, 73.5060,-165.9828,   94,     60.2,  -1.6935,  32.5116,2,-999.0000,9,    292.1,2,   -999.0,9,  -999.00,9,  -999.00,9,  -999.00,9,  -999.00,9,  -999.00,9,  -999.00,9,    1.013,2,  -1.6945,20040918,1641
  32H120040910,    89,  1,    119,     19,2,20040918,1636, 73.5060,-165.9828,   94,     60.2,  -1.6936,  32.5118,2,-999.0000,9,    292.2,2,   -999.0,9,  -999.00,9,  -999.00,9,  -999.00,9,  -999.00,9,  -999.00,9,  -999.00,9,    0.993,2,  -1.6946,20040918,1641
  32H120040910,    89,  1,    117,     17,2,20040918,1636, 73.5060,-165.9828,   94,     60.3,  -1.6934,  32.5131,2,  32.5151,2,    292.5,2,   -999.0,9,  -999.00,9,  -999.00,9,  -999.00,9,  -999.00,9,  -999.00,9,  -999.00,9,    1.022,2,  -1.6944,20040918,1641
  32H120040910,    89,  1,    102,      2,2,20040918,1636, 73.5060,-165.9828,   94,     60.4,  -1.6936,  32.5198,2,  32.5134,2,    288.9,2,    301.9,2,    46.69,2,    16.18,2,     0.10,2,     2.16,2,     0.10,2,     0.07,2,    0.962,2,  -1.6946,20040918,1639
  32H120040910,    89,  1,    101,      1,2,20040918,1636, 73.5060,-165.9828,   94,     89.0,  -1.5744,  32.8994,2,-999.0000,9,    260.6,2,    274.1,2,    54.34,2,    15.91,2,     0.12,2,     2.48,2,     0.14,2,     0.18,2,    1.118,2,  -1.5761,20040918,1636
  32H120040910,    89,  2,    222,     22,2,20040918,1805, 73.5060,-165.9828,   94,     25.0,  -0.4260,  31.1189,2,  31.1746,2,    392.1,2,   -999.0,9,  -999.00,9,  -999.00,9,  -999.00,9,  -999.00,9,  -999.00,9,  -999.00,9,    1.160,2,  -0.4266,20040918,1811
  32H120040910,    89,  2,    223,     23,2,20040918,1805, 73.5060,-165.9828,   94,     25.0,  -0.4264,  31.1136,2,-999.0000,9,    392.7,2,   -999.0,9,  -999.00,9,  -999.00,9,  -999.00,9,  -999.00,9,  -999.00,9,  -999.00,9,    1.168,2,  -0.4270,20040918,1811
  32H120040910,    89,  2,    215,     15,2,20040918,1805, 73.5060,-165.9828,   94,     25.0,  -0.6839,  31.2053,2,-999.0000,9,    407.6,2,   -999.0,9,  -999.00,9,  -999.00,9,  -999.00,9,  -999.00,9,  -999.00,9,  -999.00,9,    1.219,2,  -0.6845,20040918,1810
  32H120040910,    89,  2,    216,     16,2,20040918,1805, 73.5060,-165.9828,   94,     25.1,  -0.7111,  31.2149,2,  31.3725,2,    405.5,2,   -999.0,9,  -999.00,9,  -999.00,9,  -999.00,9,  -999.00,9,  -999.00,9,  -999.00,9,    1.203,2,  -0.7117,20040918,1810
  32H120040910,    89,  2,    219,     19,2,20040918,1805, 73.5060,-165.9828,   94,     25.2,  -0.4915,  31.1719,2,  31.2823,2,    395.8,2,   -999.0,9,  -999.00,9,  -999.00,9,  -999.00,9,  -999.00,9,  -999.00,9,  -999.00,9,    1.242,2,  -0.4921,20040918,1810
  32H120040910,    89,  2,    218,     18,2,20040918,1805, 73.5060,-165.9828,   94,     25.2,  -0.6011,  31.1928,2,-999.0000,9,    398.6,2,   -999.0,9,  -999.00,9,  -999.00,9,  -999.00,9,  -999.00,9,  -999.00,9,  -999.00,9,    1.175,2,  -0.6017,20040918,1810
  32H120040910,    89,  2,    217,     17,2,20040918,1805, 73.5060,-165.9828,   94,     25.2,  -0.6517,  31.1997,2,-999.0000,9,    406.1,2,   -999.0,9,  -999.00,9,  -999.00,9,  -999.00,9,  -999.00,9,  -999.00,9,  -999.00,9,    1.189,2,  -0.6523,20040918,1810
  32H120040910,    89,  2,    214,     14,2,20040918,1805, 73.5060,-165.9828,   94,     25.2,  -0.8142,  31.2388,2,-999.0000,9,    409.6,2,   -999.0,9,  -999.00,9,  -999.00,9,  -999.00,9,  -999.00,9,  -999.00,9,  -999.00,9,    1.244,2,  -0.8147,20040918,1810
  32H120040910,    89,  2,    224,     24,2,20040918,1805, 73.5060,-165.9828,   94,     25.3,  -0.4322,  31.1320,2,-999.0000,9,    394.3,2,   -999.0,9,  -999.00,9,  -999.00,9,  -999.00,9,  -999.00,9,  -999.00,9,  -999.00,9,    1.154,2,  -0.4328,20040918,1811
  32H120040910,    89,  2,    221,     21,2,20040918,1805, 73.5060,-165.9828,   94,     25.3,  -0.4442,  31.1605,2,-999.0000,9,    392.2,2,   -999.0,9,  -999.00,9,  -999.00,9,  -999.00,9,  -999.00,9,  -999.00,9,  -999.00,9,    1.179,2,  -0.4448,20040918,1811
  32H120040910,    89,  2,    220,     20,2,20040918,1805, 73.5060,-165.9828,   94,     25.3,  -0.4609,  31.1652,2,-999.0000,9,    392.9,2,   -999.0,9,  -999.00,9,  -999.00,9,  -999.00,9,  -999.00,9,  -999.00,9,  -999.00,9,    1.156,2,  -0.4615,20040918,1811
  32H120040910,    89,  2,    213,     13,2,20040918,1805, 73.5060,-165.9828,   94,     25.3,  -0.8740,  31.2681,2,  31.4253,2,    409.0,2,   -999.0,9,  -999.00,9,  -999.00,9,  -999.00,9,  -999.00,9,  -999.00,9,  -999.00,9,    1.245,2,  -0.8745,20040918,1810
  32H120040910,    89,  2,    210,     10,2,20040918,1805, 73.5060,-165.9828,   94,     85.3,  -1.5528,  32.8926,2,  32.8946,2,    260.5,2,   -999.0,9,  -999.00,9,  -999.00,9,  -999.00,9,  -999.00,9,  -999.00,9,  -999.00,9,    1.082,2,  -1.5544,20040918,1806
  32H120040910,    89,  2,    211,     11,2,20040918,1805, 73.5060,-165.9828,   94,     85.3,  -1.5547,  32.8929,2,-999.0000,9,    260.4,2,   -999.0,9,  -999.00,9,  -999.00,9,  -999.00,9,  -999.00,9,  -999.00,9,  -999.00,9,    1.061,2,  -1.5563,20040918,1806
  32H120040910,    89,  2,    209,      9,2,20040918,1805, 73.5060,-165.9828,   94,     85.5,  -1.5540,  32.8936,2,-999.0000,9,    260.4,2,   -999.0,9,  -999.00,9,  -999.00,9,  -999.00,9,  -999.00,9,  -999.00,9,  -999.00,9,    1.057,2,  -1.5556,20040918,1806
  32H120040910,    89,  2,    202,      2,2,20040918,1805, 73.5060,-165.9828,   94,     85.5,  -1.5566,  32.8942,2,-999.0000,9,    260.5,2,   -999.0,9,  -999.00,9,  -999.00,9,  -999.00,9,  -999.00,9,  -999.00,9,  -999.00,9,    1.077,2,  -1.5582,20040918,1805
  32H120040910,    89,  2,    212,     12,2,20040918,1805, 73.5060,-165.9828,   94,     85.5,  -1.5573,  32.8938,2,-999.0000,9,    260.5,2,   -999.0,9,  -999.00,9,  -999.00,9,  -999.00,9,  -999.00,9,  -999.00,9,  -999.00,9,    1.109,2,  -1.5589,20040918,1806
  32H120040910,    89,  2,    204,      4,2,20040918,1805, 73.5060,-165.9828,   94,     85.5,  -1.5576,  32.8948,2,  32.8931,2,    260.6,2,   -999.0,9,  -999.00,9,  -999.00,9,  -999.00,9,  -999.00,9,  -999.00,9,  -999.00,9,    1.119,2,  -1.5592,20040918,1805
  32H120040910,    89,  2,    207,      7,2,20040918,1805, 73.5060,-165.9828,   94,     85.6,  -1.5528,  32.8931,2,  32.8915,2,    261.0,2,   -999.0,9,  -999.00,9,  -999.00,9,  -999.00,9,  -999.00,9,  -999.00,9,  -999.00,9,    1.088,2,  -1.5544,20040918,1805
  32H120040910,    89,  2,    205,      5,2,20040918,1805, 73.5060,-165.9828,   94,     85.6,  -1.5535,  32.8931,2,-999.0000,9,    260.2,2,   -999.0,9,  -999.00,9,  -999.00,9,  -999.00,9,  -999.00,9,  -999.00,9,  -999.00,9,    1.080,2,  -1.5551,20040918,1805
  32H120040910,    89,  2,    208,      8,2,20040918,1805, 73.5060,-165.9828,   94,     85.6,  -1.5539,  32.8936,2,-999.0000,9,    260.9,2,   -999.0,9,  -999.00,9,  -999.00,9,  -999.00,9,  -999.00,9,  -999.00,9,  -999.00,9,    1.074,2,  -1.5555,20040918,1805
  32H120040910,    89,  2,    201,      1,2,20040918,1805, 73.5060,-165.9828,   94,     85.6,  -1.5559,  32.8939,2,  32.9016,2,    260.4,2,   -999.0,9,  -999.00,9,  -999.00,9,  -999.00,9,  -999.00,9,  -999.00,9,  -999.00,9,    1.085,2,  -1.5575,20040918,1804
  32H120040910,    89,  2,    206,      6,2,20040918,1805, 73.5060,-165.9828,   94,     85.7,  -1.5510,  32.8921,2,-999.0000,9,    260.5,2,   -999.0,9,  -999.00,9,  -999.00,9,  -999.00,9,  -999.00,9,  -999.00,9,  -999.00,9,    1.226,2,  -1.5526,20040918,1805
  32H120040910,    89,  2,    203,      3,2,20040918,1805, 73.5060,-165.9828,   94,     85.7,  -1.5575,  32.8945,2,-999.0000,9,    260.4,2,   -999.0,9,  -999.00,9,  -999.00,9,  -999.00,9,  -999.00,9,  -999.00,9,  -999.00,9,    1.087,2,  -1.5591,20040918,1805
  32H120040910,    90,  1,    108,      8,2,20040918,2001, 73.6122,-165.9877,  108,      6.0,   0.3310,  25.9022,2,  25.9418,2,    361.3,2,    373.0,2,     5.11,2,     0.12,2,     0.00,2,     0.59,2,     0.18,2,     0.03,2,    1.137,2,   0.3309,20040918,2009
  32H120040910,    90,  1,    107,      7,2,20040918,2001, 73.6122,-165.9877,  108,     30.2,  -1.2594,  31.8029,2,-999.0000,9,    396.6,2,    407.5,2,    19.98,2,     0.83,2,     0.01,2,     1.19,2,     1.40,2,     0.12,2,    1.626,2,  -1.2600,20040918,2008
  32H120040910,    90,  1,    106,      6,9,20040918,2001, 73.6122,-165.9877,  108,     39.9,  -1.5564,  32.1100,2,-999.0000,9,    340.3,2,   -999.0,9,  -999.00,9,  -999.00,9,  -999.00,9,  -999.00,9,  -999.00,9,  -999.00,9,    1.662,2,  -1.5571,20040918,2007
  32H120040910,    90,  1,    105,      5,2,20040918,2001, 73.6122,-165.9877,  108,     50.5,  -1.6737,  32.4000,2,-999.0000,9,    286.2,2,    295.5,2,    43.73,2,    15.43,2,     0.07,2,     2.35,2,     3.43,2,     0.06,2,    1.837,2,  -1.6745,20040918,2005
  32H120040910,    90,  1,    104,      4,2,20040918,2001, 73.6122,-165.9877,  108,     60.3,  -1.6970,  32.5805,2,-999.0000,9,    284.1,2,    292.3,2,    49.83,2,    16.17,2,     0.08,2,     2.30,2,     0.49,2,     0.19,2,    1.241,2,  -1.6980,20040918,2004
  32H120040910,    90,  1,    103,      3,2,20040918,2001, 73.6122,-165.9877,  108,     90.7,  -1.6601,  33.1510,2,-999.0000,9,    261.9,2,    279.1,2,    55.32,2,    17.05,2,     0.08,2,     2.40,2,     0.13,2,     0.14,2,    0.990,2,  -1.6618,20040918,2002
  32H120040910,    90,  1,    101,      1,9,20040918,2001, 73.6122,-165.9877,  108,     98.2,  -1.6605,  33.1560,2,-999.0000,9,    260.2,2,   -999.0,9,  -999.00,9,  -999.00,9,  -999.00,9,  -999.00,9,  -999.00,9,  -999.00,9,    1.027,2,  -1.6623,20040918,2000
  32H120040910,    90,  1,    102,      2,2,20040918,2001, 73.6122,-165.9877,  108,    103.4,  -1.6604,  33.1548,2,  33.1577,2,    258.3,2,    267.2,2,    59.23,2,    17.36,2,     0.08,2,     2.51,2,     0.05,2,     0.09,2,    0.994,2,  -1.6624,20040918,2001