BOTTLE,20220815CCHSIOAMB
EXPOCODE,STNNBR,CASTNO,SAMPNO,BTLNBR,BTLNBR_FLAG_W,DATE,TIME,LATITUDE,LONGITUDE,DEPTH,CTDPRS,CTDTMP,CTDSAL,CTDSAL_FLAG_W,SALNTY,SALNTY_FLAG_W,CTDOXY,CTDOXY_FLAG_W,OXYGEN,OXYGEN_FLAG_W,SILCAT,SILCAT_FLAG_W,NITRAT,NITRAT_FLAG_W,NITRIT,NITRIT_FLAG_W,PHSPHT,PHSPHT_FLAG_W,CHLORA,CHLORA_FLAG_W,PHAEO,PHAEO_FLAG_W,FLUORO,FLUORO_FLAG_W,THETA,BTL_DATE,BTL_TIME
,,,,,,,,,,METERS,DBAR,ITS-90,PSS-78,,PSS-78,,UMOL/KG,,UMOL/KG,,UMOL/KG,,UMOL/KG,,UMOL/KG,,UMOL/KG,,UG/L,,UG/L,,VOLTS,,DEG C,,
  32H120040910,   123,  2,    222,     22,2,20040925,2320, 73.4702,-160.5045,  307,     49.3,   0.2951,  31.5883,2,  31.6040,2,    356.4,2,   -999.0,9,  -999.00,9,  -999.00,9,  -999.00,9,  -999.00,9,  -999.00,9,  -999.00,9,    1.336,2,   0.2935,20040925,2331
  32H120040910,   123,  2,    217,     17,2,20040925,2320, 73.4702,-160.5045,  307,    162.0,  -1.7015,  33.1416,2,-999.0000,9,    292.3,2,   -999.0,9,  -999.00,9,  -999.00,9,  -999.00,9,  -999.00,9,  -999.00,9,  -999.00,9,    0.864,2,  -1.7046,20040925,2325
  32H120040910,   123,  2,    208,      8,2,20040925,2320, 73.4702,-160.5045,  307,    162.2,  -1.7015,  33.1431,2,-999.0000,9,    292.3,2,   -999.0,9,  -999.00,9,  -999.00,9,  -999.00,9,  -999.00,9,  -999.00,9,  -999.00,9,    0.834,2,  -1.7046,20040925,2324
  32H120040910,   123,  2,    212,     12,2,20040925,2320, 73.4702,-160.5045,  307,    162.3,  -1.7004,  33.1423,2,-999.0000,9,    292.2,2,   -999.0,9,  -999.00,9,  -999.00,9,  -999.00,9,  -999.00,9,  -999.00,9,  -999.00,9,    0.851,2,  -1.7035,20040925,2325
  32H120040910,   123,  2,    202,      2,2,20040925,2320, 73.4702,-160.5045,  307,    162.4,  -1.6983,  33.1443,2,  33.1448,2,    292.3,2,   -999.0,9,  -999.00,9,  -999.00,9,  -999.00,9,  -999.00,9,  -999.00,9,  -999.00,9,    0.872,2,  -1.7014,20040925,2323
  32H120040910,   123,  2,    214,     14,2,20040925,2320, 73.4702,-160.5045,  307,    162.4,  -1.7007,  33.1426,2,  33.1454,2,    292.3,2,   -999.0,9,  -999.00,9,  -999.00,9,  -999.00,9,  -999.00,9,  -999.00,9,  -999.00,9,    0.872,2,  -1.7038,20040925,2325
  32H120040910,   123,  2,    210,     10,2,20040925,2320, 73.4702,-160.5045,  307,    162.4,  -1.7010,  33.1429,2,  33.1458,2,    292.2,2,   -999.0,9,  -999.00,9,  -999.00,9,  -999.00,9,  -999.00,9,  -999.00,9,  -999.00,9,    0.842,2,  -1.7041,20040925,2324
  32H120040910,   123,  2,    205,      5,2,20040925,2320, 73.4702,-160.5045,  307,    162.5,  -1.7004,  33.1441,2,-999.0000,9,    292.3,2,   -999.0,9,  -999.00,9,  -999.00,9,  -999.00,9,  -999.00,9,  -999.00,9,  -999.00,9,    0.840,2,  -1.7035,20040925,2324
  32H120040910,   123,  2,    218,     18,2,20040925,2320, 73.4702,-160.5045,  307,    162.5,  -1.7016,  33.1417,2,  33.1452,2,    292.4,2,   -999.0,9,  -999.00,9,  -999.00,9,  -999.00,9,  -999.00,9,  -999.00,9,  -999.00,9,    0.817,2,  -1.7047,20040925,2325
  32H120040910,   123,  2,    220,     20,2,20040925,2320, 73.4702,-160.5045,  307,    162.5,  -1.7016,  33.1421,2,-999.0000,9,    292.3,2,   -999.0,9,  -999.00,9,  -999.00,9,  -999.00,9,  -999.00,9,  -999.00,9,  -999.00,9,    0.872,2,  -1.7047,20040925,2325
  32H120040910,   123,  2,    206,      6,2,20040925,2320, 73.4702,-160.5045,  307,    162.6,  -1.7006,  33.1440,2,  33.1456,2,    292.4,2,   -999.0,9,  -999.00,9,  -999.00,9,  -999.00,9,  -999.00,9,  -999.00,9,  -999.00,9,    0.877,2,  -1.7037,20040925,2324
  32H120040910,   123,  2,    203,      3,2,20040925,2320, 73.4702,-160.5045,  307,    162.7,  -1.6986,  33.1437,2,-999.0000,9,    292.2,2,   -999.0,9,  -999.00,9,  -999.00,9,  -999.00,9,  -999.00,9,  -999.00,9,  -999.00,9,    0.873,2,  -1.7017,20040925,2324
  32H120040910,   123,  2,    215,     15,2,20040925,2320, 73.4702,-160.5045,  307,    162.8,  -1.7007,  33.1426,2,-999.0000,9,    292.3,2,   -999.0,9,  -999.00,9,  -999.00,9,  -999.00,9,  -999.00,9,  -999.00,9,  -999.00,9,    0.881,2,  -1.7038,20040925,2325
  32H120040910,   123,  2,    221,     21,2,20040925,2320, 73.4702,-160.5045,  307,    162.8,  -1.7011,  33.1428,2,-999.0000,9,    292.4,2,   -999.0,9,  -999.00,9,  -999.00,9,  -999.00,9,  -999.00,9,  -999.00,9,  -999.00,9,    0.859,2,  -1.7042,20040925,2325
  32H120040910,   123,  2,    204,      4,2,20040925,2320, 73.4702,-160.5045,  307,    162.9,  -1.6992,  33.1447,2,-999.0000,9,    292.3,2,   -999.0,9,  -999.00,9,  -999.00,9,  -999.00,9,  -999.00,9,  -999.00,9,  -999.00,9,    0.859,2,  -1.7023,20040925,2324
  32H120040910,   123,  2,    211,     11,2,20040925,2320, 73.4702,-160.5045,  307,    162.9,  -1.6999,  33.1445,2,-999.0000,9,    292.4,2,   -999.0,9,  -999.00,9,  -999.00,9,  -999.00,9,  -999.00,9,  -999.00,9,  -999.00,9,    0.859,2,  -1.7030,20040925,2325
  32H120040910,   123,  2,    207,      7,2,20040925,2320, 73.4702,-160.5045,  307,    162.9,  -1.7006,  33.1439,2,-999.0000,9,    292.4,2,   -999.0,9,  -999.00,9,  -999.00,9,  -999.00,9,  -999.00,9,  -999.00,9,  -999.00,9,    0.815,2,  -1.7037,20040925,2324
  32H120040910,   123,  2,    216,     16,2,20040925,2320, 73.4702,-160.5045,  307,    162.9,  -1.7009,  33.1428,2,-999.0000,9,    292.5,2,   -999.0,9,  -999.00,9,  -999.00,9,  -999.00,9,  -999.00,9,  -999.00,9,  -999.00,9,    0.854,2,  -1.7040,20040925,2325
  32H120040910,   123,  2,    213,     13,2,20040925,2320, 73.4702,-160.5045,  307,    163.0,  -1.7006,  33.1437,2,-999.0000,9,    292.3,2,   -999.0,9,  -999.00,9,  -999.00,9,  -999.00,9,  -999.00,9,  -999.00,9,  -999.00,9,    0.851,2,  -1.7037,20040925,2325
  32H120040910,   123,  2,    219,     19,2,20040925,2320, 73.4702,-160.5045,  307,    163.0,  -1.7015,  33.1423,2,-999.0000,9,    292.3,2,   -999.0,9,  -999.00,9,  -999.00,9,  -999.00,9,  -999.00,9,  -999.00,9,  -999.00,9,    0.855,2,  -1.7046,20040925,2325
  32H120040910,   123,  2,    209,      9,2,20040925,2320, 73.4702,-160.5045,  307,    163.1,  -1.6993,  33.1446,2,-999.0000,9,    292.3,2,   -999.0,9,  -999.00,9,  -999.00,9,  -999.00,9,  -999.00,9,  -999.00,9,  -999.00,9,    0.857,2,  -1.7024,20040925,2324
  32H120040910,   123,  2,    201,      1,2,20040925,2320, 73.4702,-160.5045,  307,    249.0,  -0.0929,  34.5371,2,  34.5343,2,    271.0,2,   -999.0,9,  -999.00,9,  -999.00,9,  -999.00,9,  -999.00,9,  -999.00,9,  -999.00,9,    0.665,2,  -0.1020,20040925,2320
  32H120040910,   124,  1,    115,     15,2,20040926,  27, 73.4435,-160.4993,  306,      9.9,   2.1851,  27.6659,2,  27.6672,2,    339.1,2,    348.5,2,     3.41,2,     0.05,2,     0.01,2,     0.32,2,     0.35,2,     0.14,2,    1.211,2,   2.1847,20040926,  49
  32H120040910,   124,  1,    114,     14,2,20040926,  27, 73.4435,-160.4993,  306,     19.9,   2.1698,  28.0198,2,-999.0000,9,    343.7,2,   -999.0,9,     3.70,2,     0.05,2,     0.01,2,     0.40,2,     0.28,2,     0.14,2,    1.271,2,   2.1690,20040926,  48
  32H120040910,   124,  1,    113,     13,2,20040926,  27, 73.4435,-160.4993,  306,     29.8,   2.0436,  29.6645,2,  28.6284,2,    358.5,2,    372.2,2,     4.10,2,     0.04,2,     0.01,2,     0.50,2,     0.22,2,     0.14,2,    1.245,2,   2.0424,20040926,  47
  32H120040910,   124,  1,    112,     12,2,20040926,  27, 73.4435,-160.4993,  306,     39.6,   0.4961,  31.2091,2,-999.0000,9,    375.0,2,   -999.0,9,     5.80,2,     0.14,2,     0.07,2,     0.65,2,     0.34,2,     0.17,2,    1.463,2,   0.4948,20040926,  46
  32H120040910,   124,  1,    111,     11,2,20040926,  27, 73.4435,-160.4993,  306,     50.1,   0.2233,  31.7309,2,  31.8022,2,    356.8,2,    364.4,2,    11.16,2,     2.67,2,     0.23,2,     1.04,2,     0.35,2,     0.16,2,    1.490,2,   0.2217,20040926,  44
  32H120040910,   124,  1,    110,     10,2,20040926,  27, 73.4435,-160.4993,  306,     59.6,  -0.5214,  31.9629,2,-999.0000,9,    341.5,2,   -999.0,9,  -999.00,9,  -999.00,9,  -999.00,9,  -999.00,9,     0.07,2,     0.07,2,    0.993,2,  -0.5230,20040926,  43
  32H120040910,   124,  1,    109,      9,2,20040926,  27, 73.4435,-160.4993,  306,     80.2,  -1.2185,  32.3492,2,-999.0000,9,    321.3,2,   -999.0,9,    22.28,2,     8.56,2,     0.18,2,     1.42,2,     0.04,2,     0.05,2,    0.807,2,  -1.2202,20040926,  41
  32H120040910,   124,  1,    108,      8,2,20040926,  27, 73.4435,-160.4993,  306,    109.3,  -1.5006,  32.7518,2,  32.7675,2,    299.8,2,    310.1,2,    31.07,2,    12.26,2,     0.13,2,     1.69,2,  -999.00,9,  -999.00,9,    0.776,2,  -1.5027,20040926,  39
  32H120040910,   124,  1,    107,      7,2,20040926,  27, 73.4435,-160.4993,  306,    129.4,  -1.6363,  33.0146,2,-999.0000,9,    292.9,2,   -999.0,9,    42.61,2,    14.36,2,     0.12,2,     1.98,2,  -999.00,9,  -999.00,9,    0.829,2,  -1.6388,20040926,  38
  32H120040910,   124,  1,    106,      6,2,20040926,  27, 73.4435,-160.4993,  306,    149.8,  -1.6983,  33.1164,2,  33.1207,2,    293.4,2,    303.7,2,    48.76,2,    16.63,2,     0.12,2,     2.15,2,  -999.00,9,  -999.00,9,    0.834,2,  -1.7011,20040926,  36
  32H120040910,   124,  1,    105,      5,2,20040926,  27, 73.4435,-160.4993,  306,    168.6,  -1.7179,  33.1856,2,  33.1873,2,    291.4,2,    301.3,2,    54.10,2,    18.77,2,     0.10,2,     2.31,2,     0.03,2,     0.14,2,    0.826,2,  -1.7211,20040926,  35
  32H120040910,   124,  1,    104,      4,2,20040926,  27, 73.4435,-160.4993,  306,    191.5,  -1.4304,  33.4075,2,-999.0000,9,    291.8,2,   -999.0,9,  -999.00,9,  -999.00,9,  -999.00,9,  -999.00,9,     0.02,2,     0.06,2,    0.793,2,  -1.4347,20040926,  33
  32H120040910,   124,  1,    103,      3,2,20040926,  27, 73.4435,-160.4993,  306,    220.5,  -0.6546,  34.3121,2,  34.2845,2,    268.7,2,    275.4,2,    19.71,2,    13.34,2,     0.04,2,     1.23,2,  -999.00,9,  -999.00,9,    0.702,2,  -0.6614,20040926,  31
  32H120040910,   124,  1,    102,      2,9,20040926,  27, 73.4435,-160.4993,  306,    259.8,   0.1038,  34.5963,2,-999.0000,9,    272.1,2,   -999.0,9,  -999.00,9,  -999.00,9,  -999.00,9,  -999.00,9,  -999.00,9,  -999.00,9,    0.671,2,   0.0938,20040926,  29
  32H120040910,   124,  1,    101,      1,2,20040926,  27, 73.4435,-160.4993,  306,    301.0,   0.5977,  34.7388,2,  34.7348,2,    276.6,2,    284.3,2,     9.53,2,    12.57,2,     0.04,2,     0.89,2,  -999.00,9,  -999.00,9,    0.591,2,   0.5847,20040926,  27
  32H120040910,   125,  1,    115,     15,2,20040926, 146, 73.4140,-160.5040,  307,      9.6,   2.1260,  27.4846,2,  27.4915,2,    339.1,2,    348.8,2,     3.41,2,     0.14,2,     0.01,2,     0.36,2,     0.29,2,     0.12,2,    1.238,2,   2.1256,20040926, 215
  32H120040910,   125,  1,    114,     14,2,20040926, 146, 73.4140,-160.5040,  307,     19.7,  -0.1884,  28.8316,2,-999.0000,9,    372.7,2,   -999.0,9,     3.39,2,     0.03,2,     0.01,2,     0.50,2,     0.19,2,     0.07,2,    1.163,2,  -0.1888,20040926, 214
  32H120040910,   125,  1,    113,     13,2,20040926, 146, 73.4140,-160.5040,  307,     30.1,   0.4267,  29.9173,2,  29.9841,2,    383.8,2,    386.9,2,     3.99,2,     0.03,2,     0.01,2,     0.56,2,     0.18,2,     0.11,2,    1.101,2,   0.4258,20040926, 212
  32H120040910,   125,  1,    112,     12,2,20040926, 146, 73.4140,-160.5040,  307,     39.3,   0.4521,  31.0002,2,-999.0000,9,    381.7,2,   -999.0,9,     5.28,2,     0.05,2,     0.04,2,     0.61,2,     0.28,2,     0.13,2,    1.249,2,   0.4508,20040926, 211
  32H120040910,   125,  1,    111,     11,2,20040926, 146, 73.4140,-160.5040,  307,     49.3,   0.1130,  31.7500,2,  31.7356,2,    355.5,2,    366.7,2,    10.21,2,     2.38,2,     0.35,2,     0.97,2,     0.32,2,     0.14,2,    1.275,2,   0.1115,20040926, 210
  32H120040910,   125,  1,    110,     10,2,20040926, 146, 73.4140,-160.5040,  307,     59.5,  -0.5337,  32.0120,2,  32.0347,2,    351.0,2,   -999.0,9,  -999.00,9,  -999.00,9,  -999.00,9,  -999.00,9,     0.08,2,     0.06,2,    0.950,2,  -0.5353,20040926, 208
  32H120040910,   125,  1,    109,      9,2,20040926, 146, 73.4140,-160.5040,  307,     79.5,  -1.2231,  32.3704,2,-999.0000,9,    312.2,2,   -999.0,9,    22.20,2,     8.96,2,     0.14,2,     1.43,2,     0.05,2,     0.05,2,    0.796,2,  -1.2248,20040926, 206
  32H120040910,   125,  1,    108,      8,2,20040926, 146, 73.4140,-160.5040,  307,    109.8,  -1.5113,  32.7898,2,  32.7920,2,    300.9,2,    313.7,2,    31.45,2,    11.94,2,     0.13,2,     1.61,2,  -999.00,9,  -999.00,9,    0.789,2,  -1.5134,20040926, 204
  32H120040910,   125,  1,    107,      7,2,20040926, 146, 73.4140,-160.5040,  307,    130.6,  -1.7133,  33.0373,2,-999.0000,9,    292.6,2,   -999.0,9,    46.75,2,    15.65,2,     0.10,2,     1.97,2,  -999.00,9,  -999.00,9,    0.851,2,  -1.7157,20040926, 202
  32H120040910,   125,  1,    106,      6,2,20040926, 146, 73.4140,-160.5040,  307,    149.8,  -1.6956,  33.1244,2,  33.1234,2,    293.4,2,    303.5,2,    50.99,2,    17.63,2,     0.10,2,     2.09,2,  -999.00,9,  -999.00,9,    0.869,2,  -1.6984,20040926, 159
  32H120040910,   125,  1,    105,      5,2,20040926, 146, 73.4140,-160.5040,  307,    169.6,  -1.6862,  33.2016,2,  33.2019,2,    293.3,2,    302.4,2,    50.96,2,    17.93,2,     0.08,2,     2.09,2,     0.03,2,     0.11,2,    0.837,2,  -1.6895,20040926, 157
  32H120040910,   125,  1,    104,      4,2,20040926, 146, 73.4140,-160.5040,  307,    190.2,  -1.3660,  33.5321,2,-999.0000,9,    289.4,2,   -999.0,9,  -999.00,9,  -999.00,9,  -999.00,9,  -999.00,9,     0.02,2,     0.06,2,    0.766,2,  -1.3704,20040926, 154
  32H120040910,   125,  1,    103,      3,2,20040926, 146, 73.4140,-160.5040,  307,    219.6,  -0.7272,  34.2698,2,  34.6083,0,    267.4,2,    274.8,2,    19.73,2,    13.47,2,     0.02,2,     1.12,2,  -999.00,9,  -999.00,9,    0.706,2,  -0.7338,20040926, 152
  32H120040910,   125,  1,    102,      2,9,20040926, 146, 73.4140,-160.5040,  307,    259.5,   0.1139,  34.6027,2,-999.0000,9,    271.7,2,   -999.0,9,  -999.00,9,  -999.00,9,  -999.00,9,  -999.00,9,  -999.00,9,  -999.00,9,    0.664,2,   0.1039,20040926, 149
  32H120040910,   125,  1,    101,      1,2,20040926, 146, 73.4140,-160.5040,  307,    302.0,   0.6794,  34.7583,2,  34.7472,2,    279.2,2,    285.9,2,     9.09,2,    12.55,2,     0.02,2,     0.83,2,  -999.00,9,  -999.00,9,    0.645,2,   0.6662,20040926, 146