BOTTLE,20220815CCHSIOAMB
EXPOCODE,STNNBR,CASTNO,SAMPNO,BTLNBR,BTLNBR_FLAG_W,DATE,TIME,LATITUDE,LONGITUDE,DEPTH,CTDPRS,CTDTMP,CTDSAL,CTDSAL_FLAG_W,SALNTY,SALNTY_FLAG_W,CTDOXY,CTDOXY_FLAG_W,OXYGEN,OXYGEN_FLAG_W,SILCAT,SILCAT_FLAG_W,NITRAT,NITRAT_FLAG_W,NITRIT,NITRIT_FLAG_W,PHSPHT,PHSPHT_FLAG_W,CHLORA,CHLORA_FLAG_W,PHAEO,PHAEO_FLAG_W,FLUORO,FLUORO_FLAG_W,THETA,BTL_DATE,BTL_TIME
,,,,,,,,,,METERS,DBAR,ITS-90,PSS-78,,PSS-78,,UMOL/KG,,UMOL/KG,,UMOL/KG,,UMOL/KG,,UMOL/KG,,UMOL/KG,,UG/L,,UG/L,,VOLTS,,DEG C,,
  32H120040910,    72,  1,    109,      9,2,20040916, 943, 72.2593,-156.7125,  249,      4.6,   2.7532,  27.1728,2,  27.2733,2,    334.5,2,    345.3,2,  -999.00,5,  -999.00,5,  -999.00,5,  -999.00,5,  -999.00,9,  -999.00,9,    1.258,2,   2.7530,20040916,1000
  32H120040910,    72,  1,    108,      8,2,20040916, 943, 72.2593,-156.7125,  249,     40.0,  -0.6669,  31.9613,2,-999.0000,9,    381.4,2,    347.5,2,    20.91,2,     6.96,2,     0.14,2,     1.55,2,  -999.00,9,  -999.00,9,    1.507,2,  -0.6679,20040916, 958
  32H120040910,    72,  1,    107,      7,2,20040916, 943, 72.2593,-156.7125,  249,     60.1,  -1.2714,  32.5560,2,-999.0000,9,    302.4,2,    313.6,2,    31.32,2,    11.59,2,     0.17,2,     1.88,2,  -999.00,9,  -999.00,9,    1.196,2,  -1.2726,20040916, 956
  32H120040910,    72,  1,    106,      6,2,20040916, 943, 72.2593,-156.7125,  249,     89.9,  -1.6102,  32.8389,2,-999.0000,9,    283.2,2,    294.5,2,    40.39,2,    14.22,2,     0.13,2,     2.10,2,  -999.00,9,  -999.00,9,    0.988,2,  -1.6119,20040916, 954
  32H120040910,    72,  1,    105,      5,2,20040916, 943, 72.2593,-156.7125,  249,    120.2,  -1.7088,  33.0421,2,-999.0000,9,    284.5,2,    291.2,2,    44.95,2,    15.98,2,     0.11,2,     2.11,2,  -999.00,9,  -999.00,9,    0.957,2,  -1.7110,20040916, 952
  32H120040910,    72,  1,    104,      4,2,20040916, 943, 72.2593,-156.7125,  249,    150.3,  -1.0578,  33.7995,2,-999.0000,9,    267.5,2,    280.8,2,    27.23,2,    13.47,2,     0.12,2,     1.59,2,  -999.00,9,  -999.00,9,    0.827,2,  -1.0617,20040916, 950
  32H120040910,    72,  1,    103,      3,2,20040916, 943, 72.2593,-156.7125,  249,    180.2,   0.1725,  34.6151,2,-999.0000,9,    260.4,2,    269.2,2,    15.19,2,    13.48,2,     0.06,2,     1.16,2,  -999.00,9,  -999.00,9,    0.743,2,   0.1656,20040916, 948
  32H120040910,    72,  1,    102,      2,2,20040916, 943, 72.2593,-156.7125,  249,    210.1,   0.4587,  34.7027,2,-999.0000,9,    255.0,2,    264.2,2,    17.22,2,    13.57,2,     0.19,2,     1.21,2,  -999.00,9,  -999.00,9,    0.705,2,   0.4501,20040916, 946
  32H120040910,    72,  1,    101,      1,2,20040916, 943, 72.2593,-156.7125,  249,    243.6,   0.5079,  34.7176,2,  34.7191,2,    256.0,2,    265.3,2,    16.78,2,    13.56,2,     0.20,2,     1.19,2,  -999.00,9,  -999.00,9,    0.741,2,   0.4977,20040916, 943
  32H120040910,    73,  1,    109,      9,2,20040916,1157, 72.3027,-156.7693,  255,      4.9,   3.2868,  27.2459,2,-999.0000,9,    330.5,2,    340.3,2,     3.31,2,     0.07,2,     0.00,2,     0.46,2,     0.44,2,     0.12,2,    1.403,2,   3.2866,20040916,1214
  32H120040910,    73,  1,    108,      8,2,20040916,1157, 72.3027,-156.7693,  255,     30.1,   2.2119,  31.3260,2,-999.0000,9,    354.5,2,    387.7,2,     7.55,2,     0.74,2,     0.09,2,     0.92,2,     0.46,2,     0.12,2,    1.415,2,   2.2105,20040916,1211
  32H120040910,    73,  1,    107,      7,2,20040916,1157, 72.3027,-156.7693,  255,     60.2,  -1.1711,  32.3983,2,-999.0000,9,    329.8,2,    306.7,2,    26.48,2,    11.77,2,     0.06,2,     1.70,2,     0.04,2,     0.05,2,    0.857,2,  -1.1724,20040916,1209
  32H120040910,    73,  1,    106,      6,2,20040916,1157, 72.3027,-156.7693,  255,     90.2,  -1.4947,  32.7523,2,-999.0000,9,    278.5,2,    291.7,2,    35.15,2,    13.92,2,     0.07,2,     1.93,2,     0.06,2,     0.09,2,    0.704,2,  -1.4965,20040916,1207
  32H120040910,    73,  1,    105,      5,2,20040916,1157, 72.3027,-156.7693,  255,    120.2,  -1.6062,  32.9996,2,-999.0000,9,    275.7,2,    287.7,2,    37.87,2,    14.26,2,     0.10,2,     1.97,2,     0.05,2,     0.14,2,    0.942,2,  -1.6085,20040916,1205
  32H120040910,    73,  1,    104,      4,2,20040916,1157, 72.3027,-156.7693,  255,    150.3,  -1.3658,  33.3946,2,-999.0000,9,    270.1,2,    281.0,2,    31.51,2,    14.20,2,     0.07,2,     1.77,2,     0.02,2,     0.05,2,    0.710,2,  -1.3692,20040916,1203
  32H120040910,    73,  1,    103,      3,2,20040916,1157, 72.3027,-156.7693,  255,    180.0,  -0.2022,  34.5038,2,-999.0000,9,    264.2,2,    274.9,2,    14.26,2,    13.25,2,     0.03,2,     1.12,2,     0.02,2,     0.05,2,    0.674,2,  -0.2085,20040916,1201
  32H120040910,    73,  1,    102,      2,2,20040916,1157, 72.3027,-156.7693,  255,    210.5,   0.2711,  34.6539,2,  34.6712,2,    266.8,2,    273.9,2,    13.21,2,    13.25,2,     0.08,2,     1.08,2,  -999.00,9,  -999.00,9,    0.698,2,   0.2628,20040916,1159
  32H120040910,    73,  1,    101,      1,2,20040916,1157, 72.3027,-156.7693,  255,    250.3,   0.5129,  34.7199,2,  34.7217,2,    259.8,2,    270.3,2,    14.92,2,    13.24,2,     0.21,2,     1.14,2,     0.02,2,     0.08,2,    0.727,2,   0.5024,20040916,1157
  32H120040910,    74,  1,    110,     10,2,20040916,1321, 72.3450,-156.7147,  299,      4.6,   3.6442,  27.6838,2,-999.0000,9,    332.0,2,    363.5,2,     3.46,2,     0.24,2,     0.01,2,     0.61,2,     0.41,2,     0.13,2,    1.428,2,   3.6440,20040916,1340
  32H120040910,    74,  1,    109,      9,2,20040916,1321, 72.3450,-156.7147,  299,     30.2,   1.3979,  30.9475,2,-999.0000,9,    354.9,2,    368.3,2,     9.72,2,     2.67,2,     0.11,2,     1.05,2,     0.24,2,     0.12,2,    1.264,2,   1.3967,20040916,1338
  32H120040910,    74,  1,    108,      8,2,20040916,1321, 72.3450,-156.7147,  299,     59.5,  -1.1971,  32.1916,2,-999.0000,9,    303.9,2,    317.7,2,    21.45,2,     9.85,2,     0.08,2,     1.60,2,     0.07,2,     0.06,2,    1.004,2,  -1.1983,20040916,1336
  32H120040910,    74,  1,    107,      7,2,20040916,1321, 72.3450,-156.7147,  299,     90.6,  -1.4973,  32.6774,2,  32.7090,2,    302.2,2,    315.3,2,    32.01,2,    11.91,2,     0.15,2,     1.90,2,  -999.00,9,  -999.00,9,    0.965,2,  -1.4990,20040916,1334
  32H120040910,    74,  1,    106,      6,2,20040916,1321, 72.3450,-156.7147,  299,    120.1,  -1.5977,  32.9429,2,-999.0000,9,    278.8,2,    293.0,2,    46.88,2,    16.22,2,     0.10,2,     2.19,2,     0.06,2,     0.16,2,    0.984,2,  -1.6000,20040916,1332
  32H120040910,    74,  1,    105,      5,2,20040916,1321, 72.3450,-156.7147,  299,    150.2,  -1.7066,  33.0977,2,-999.0000,9,    287.5,2,    284.7,2,    30.78,2,    14.28,2,     0.09,2,     1.73,2,  -999.00,9,  -999.00,9,    0.920,2,  -1.7094,20040916,1330
  32H120040910,    74,  1,    104,      4,2,20040916,1321, 72.3450,-156.7147,  299,    180.2,  -1.0846,  33.9436,2,-999.0000,9,    278.0,2,    287.1,2,    24.21,2,    13.26,2,     0.12,2,     1.49,2,     0.02,2,     0.05,2,    0.763,2,  -1.0893,20040916,1328
  32H120040910,    74,  1,    103,      3,2,20040916,1321, 72.3450,-156.7147,  299,    210.2,   0.0289,  34.5771,2,-999.0000,9,    264.0,2,    274.6,2,    13.83,2,    13.25,2,     0.04,2,     1.10,2,     0.01,2,     0.04,2,    0.722,2,   0.0211,20040916,1326
  32H120040910,    74,  1,    102,      2,2,20040916,1321, 72.3450,-156.7147,  299,    260.2,   0.5984,  34.7476,2,  34.7497,2,    266.6,2,    276.1,2,    12.78,2,    13.08,2,     0.15,2,     1.05,2,  -999.00,9,  -999.00,9,    0.679,2,   0.5873,20040916,1323
  32H120040910,    74,  1,    101,      1,2,20040916,1321, 72.3450,-156.7147,  299,    294.2,   0.6421,  34.7593,2,-999.0000,9,    268.7,2,    278.2,2,    12.26,2,    13.03,2,     0.16,2,     1.04,2,  -999.00,9,  -999.00,9,    0.663,2,   0.6293,20040916,1321
  32H120040910,    75,  1,    110,     10,2,20040916,1443, 72.3855,-156.6460,  382,      4.7,   3.3993,  27.1987,2,-999.0000,9,    330.9,2,    337.5,2,     4.10,2,     0.08,2,     0.01,2,     0.47,2,     0.40,2,     0.18,2,    1.363,2,   3.3991,20040916,1504
  32H120040910,    75,  1,    109,      9,2,20040916,1443, 72.3855,-156.6460,  382,     30.1,   2.4548,  31.0437,2,-999.0000,9,    347.0,2,    367.2,2,     5.78,2,     0.15,2,     0.03,2,     0.79,2,     0.55,2,     0.20,2,    1.759,2,   2.4533,20040916,1502
  32H120040910,    75,  1,    108,      8,2,20040916,1443, 72.3855,-156.6460,  382,     60.0,  -0.4190,  32.0648,2,-999.0000,9,    356.7,2,    349.7,2,    13.74,2,     5.52,2,     0.12,2,     1.31,2,     0.08,2,     0.09,2,    0.946,2,  -0.4206,20040916,1500
  32H120040910,    75,  1,    107,      7,2,20040916,1443, 72.3855,-156.6460,  382,     90.3,  -1.3161,  32.5783,2,  32.5847,2,    302.5,2,    313.9,2,    37.22,2,    11.22,2,     0.29,2,     2.05,2,     0.28,2,     0.13,2,    1.205,2,  -1.3180,20040916,1457
  32H120040910,    75,  1,    106,      6,2,20040916,1443, 72.3855,-156.6460,  382,    120.3,  -1.5987,  32.9231,2,-999.0000,9,    288.5,2,    299.5,2,    42.66,2,    14.27,2,     0.11,2,     2.03,2,  -999.00,9,  -999.00,9,    0.945,2,  -1.6010,20040916,1456
  32H120040910,    75,  1,    105,      5,2,20040916,1443, 72.3855,-156.6460,  382,    150.6,  -1.6602,  33.0663,2,-999.0000,9,    283.9,2,    294.3,2,    48.56,2,    15.85,2,     0.09,2,     2.16,2,     0.08,2,     0.11,2,    0.943,2,  -1.6631,20040916,1453
  32H120040910,    75,  1,    104,      4,2,20040916,1443, 72.3855,-156.6460,  382,    179.9,  -1.2286,  33.6512,2,-999.0000,9,    268.6,2,    279.1,2,    30.74,2,    13.92,2,     0.08,2,     1.63,2,  -999.00,9,  -999.00,9,    0.733,2,  -1.2330,20040916,1452
  32H120040910,    75,  1,    103,      3,2,20040916,1443, 72.3855,-156.6460,  382,    212.4,  -0.0879,  34.5320,2,-999.0000,9,    262.3,2,    275.9,2,    15.13,2,    13.28,2,     0.02,2,     1.11,2,     0.02,2,     0.05,2,    0.721,2,  -0.0956,20040916,1450
  32H120040910,    75,  1,    102,      2,2,20040916,1443, 72.3855,-156.6460,  382,    259.9,   0.5299,  34.7250,2,  34.7346,2,    272.9,2,    284.2,2,    10.86,2,    12.72,2,     0.02,2,     0.97,2,  -999.00,9,  -999.00,9,    0.663,2,   0.5189,20040916,1447
  32H120040910,    75,  1,    101,      1,2,20040916,1443, 72.3855,-156.6460,  382,    376.7,   0.7463,  34.8251,2,-999.0000,9,    276.7,2,    286.8,2,    11.05,2,    12.82,2,     0.05,2,     0.97,2,  -999.00,9,  -999.00,9,    0.632,2,   0.7293,20040916,1443
  32H120040910,    76,  1,    114,     14,2,20040916,1734, 72.4260,-156.6010,  763,     10.1,   3.3991,  27.8661,2,-999.0000,9,    340.8,2,    377.3,2,     4.23,2,     0.07,2,     0.00,2,     0.64,2,     0.20,2,     0.08,2,    1.347,2,   3.3986,20040916,1812
  32H120040910,    76,  1,    113,     13,2,20040916,1734, 72.4260,-156.6010,  763,     30.4,  -0.7276,  30.2617,2,-999.0000,9,    382.4,2,    391.6,2,     5.41,2,     0.06,2,     0.01,2,     0.78,2,     0.17,2,     0.09,2,    1.072,2,  -0.7282,20040916,1810
  32H120040910,    76,  1,    112,     12,2,20040916,1734, 72.4260,-156.6010,  763,     60.3,  -0.6698,  31.9758,2,-999.0000,9,    322.9,2,    351.4,2,    13.83,2,     5.39,2,     0.13,2,     1.29,2,     0.10,2,     0.13,2,    1.137,2,  -0.6713,20040916,1807
  32H120040910,    76,  1,    111,     11,2,20040916,1734, 72.4260,-156.6010,  763,     90.4,  -1.2583,  32.4874,2,  32.4874,2,    328.9,2,    337.0,2,    25.10,2,     8.80,2,     0.18,2,     1.66,2,     0.05,2,     0.06,2,    0.903,2,  -1.2602,20040916,1805
  32H120040910,    76,  1,    110,     10,2,20040916,1734, 72.4260,-156.6010,  763,    120.5,  -1.5106,  32.7930,2,-999.0000,9,    278.5,2,    287.6,2,    32.59,2,    14.20,2,     0.02,2,     1.83,2,     0.02,2,     0.02,2,    0.759,2,  -1.5130,20040916,1803
  32H120040910,    76,  1,    109,      9,2,20040916,1734, 72.4260,-156.6010,  763,    150.4,  -1.5110,  33.1128,2,-999.0000,9,    269.4,2,    278.3,2,    36.49,2,    15.62,2,     0.02,2,     1.90,2,     0.01,2,     0.01,2,    0.739,2,  -1.5141,20040916,1801
  32H120040910,    76,  1,    108,      8,2,20040916,1734, 72.4260,-156.6010,  763,    180.5,  -1.2202,  33.6580,2,-999.0000,9,    263.8,2,    278.4,2,    28.69,2,    13.94,2,     0.07,2,     1.60,2,  -999.00,9,  -999.00,9,    0.742,2,  -1.2246,20040916,1758
  32H120040910,    76,  1,    107,      7,2,20040916,1734, 72.4260,-156.6010,  763,    210.4,  -0.4479,  34.3670,2,-999.0000,9,    263.8,2,    272.1,2,    19.97,2,    13.76,2,     0.06,2,     1.32,2,  -999.00,9,  -999.00,9,    0.740,2,  -0.4548,20040916,1756
  32H120040910,    76,  1,    106,      6,2,20040916,1734, 72.4260,-156.6010,  763,    260.6,   0.3258,  34.6783,2,-999.0000,9,    267.9,2,    277.6,2,    12.16,2,    13.15,2,     0.01,2,     1.04,2,  -999.00,9,  -999.00,9,    0.653,2,   0.3153,20040916,1753
  32H120040910,    76,  1,    105,      5,2,20040916,1734, 72.4260,-156.6010,  763,    300.6,   0.6039,  34.7650,2,-999.0000,9,    274.9,2,    286.4,2,     9.64,2,    12.87,2,     0.01,2,     0.96,2,  -999.00,9,  -999.00,9,    0.645,2,   0.5909,20040916,1749
  32H120040910,    76,  1,    104,      4,2,20040916,1734, 72.4260,-156.6010,  763,    497.4,   0.6402,  34.8441,2,-999.0000,9,    282.1,2,    294.0,2,     8.92,2,    12.77,2,     0.02,2,     0.93,2,  -999.00,9,  -999.00,9,    0.637,2,   0.6176,20040916,1742
  32H120040910,    76,  1,    103,      3,9,20040916,1734, 72.4260,-156.6010,  763,    597.4,   0.5690,  34.8489,2,-999.0000,9,    281.8,2,   -999.0,9,  -999.00,9,  -999.00,9,  -999.00,9,  -999.00,9,  -999.00,9,  -999.00,9,    0.597,2,   0.5417,20040916,1740
  32H120040910,    76,  1,    102,      2,2,20040916,1734, 72.4260,-156.6010,  763,    700.4,   0.4677,  34.8542,2,  34.8569,2,    283.8,2,    296.2,2,     8.51,2,    12.77,2,     0.01,2,     0.93,2,  -999.00,9,  -999.00,9,    0.583,2,   0.4357,20040916,1737
  32H120040910,    76,  1,    101,      1,2,20040916,1734, 72.4260,-156.6010,  763,    758.4,   0.3520,  34.8604,2,-999.0000,9,    284.6,2,    297.2,2,     8.59,2,    12.76,2,     0.02,2,     0.94,2,  -999.00,9,  -999.00,9,    0.616,2,   0.3176,20040916,1734
  32H120040910,    77,  1,    114,     14,2,20040916,1930, 72.4687,-156.5470,  971,      4.8,   3.1557,  27.1014,2,-999.0000,9,    332.4,2,    337.3,2,     4.84,2,     0.08,2,     0.00,2,     0.47,2,     0.33,2,     0.15,2,    1.311,2,   3.1555,20040916,2023
  32H120040910,    77,  1,    113,     13,2,20040916,1930, 72.4687,-156.5470,  971,     29.7,  -0.7152,  29.9733,2,-999.0000,9,    382.9,2,    396.7,2,     3.90,2,     0.08,2,     0.00,2,     0.74,2,     0.11,2,     0.08,2,    1.035,2,  -0.7158,20040916,2020
  32H120040910,    77,  1,    112,     12,2,20040916,1930, 72.4687,-156.5470,  971,     59.6,  -1.0117,  31.9694,2,-999.0000,9,    320.9,2,    334.8,2,    14.27,2,     6.68,2,     0.17,2,     1.32,2,     0.12,2,     0.22,2,    1.229,2,  -1.0130,20040916,2016
  32H120040910,    77,  1,    111,     11,2,20040916,1930, 72.4687,-156.5470,  971,     89.6,  -1.4186,  32.4620,2,-999.0000,9,    293.7,2,    302.5,2,    24.27,2,    11.59,2,     0.03,2,     1.66,2,     0.03,2,     0.02,2,    0.777,2,  -1.4203,20040916,2012
  32H120040910,    77,  1,    110,     10,2,20040916,1930, 72.4687,-156.5470,  971,    119.9,  -1.5028,  32.7724,2,-999.0000,9,    280.3,2,    287.5,2,    30.40,2,    14.06,2,     0.02,2,     1.82,2,     0.01,2,     0.01,2,    0.719,2,  -1.5052,20040916,2009
  32H120040910,    77,  1,    109,      9,2,20040916,1930, 72.4687,-156.5470,  971,    150.1,  -1.5093,  33.1084,2,-999.0000,9,    269.4,2,    278.4,2,    34.09,2,    15.39,2,     0.03,2,     1.89,2,     0.01,2,     0.02,2,    0.737,2,  -1.5124,20040916,2006
  32H120040910,    77,  1,    108,      8,2,20040916,1930, 72.4687,-156.5470,  971,    179.7,  -1.2672,  33.6735,2,-999.0000,9,    269.9,2,    281.6,2,    28.07,2,    13.84,2,     0.10,2,     1.62,2,  -999.00,9,  -999.00,9,    0.703,2,  -1.2715,20040916,2003
  32H120040910,    77,  1,    107,      7,2,20040916,1930, 72.4687,-156.5470,  971,    210.3,  -0.7919,  34.2344,2,-999.0000,9,    265.6,2,    275.3,2,    20.76,2,    13.63,2,     0.03,2,     1.34,2,  -999.00,9,  -999.00,9,    0.695,2,  -0.7981,20040916,2000
  32H120040910,    77,  1,    106,      6,2,20040916,1930, 72.4687,-156.5470,  971,    259.6,   0.2900,  34.6663,2,-999.0000,9,    267.7,2,    278.0,2,    11.42,2,    13.03,2,     0.03,2,     1.02,2,  -999.00,9,  -999.00,9,    0.664,2,   0.2796,20040916,1956
  32H120040910,    77,  1,    105,      5,2,20040916,1930, 72.4687,-156.5470,  971,    301.4,   0.7044,  34.7713,2,  34.7719,2,    276.0,2,    284.8,2,     8.87,2,    12.76,2,     0.03,2,     0.95,2,  -999.00,9,  -999.00,9,    0.672,2,   0.6911,20040916,1953
  32H120040910,    77,  1,    104,      4,2,20040916,1930, 72.4687,-156.5470,  971,    501.4,   0.6089,  34.8461,2,  34.8495,2,    281.0,2,    291.6,2,     8.94,2,    12.83,2,     0.04,2,     0.95,2,  -999.00,9,  -999.00,9,    0.662,2,   0.5863,20040916,1945
  32H120040910,    77,  1,    103,      3,2,20040916,1930, 72.4687,-156.5470,  971,    702.3,   0.4098,  34.8574,2,  34.8601,2,    284.2,2,    295.0,2,     8.10,2,    12.72,2,     0.02,2,     0.93,2,  -999.00,9,  -999.00,9,    0.608,2,   0.3780,20040916,1939
  32H120040910,    77,  1,    102,      2,2,20040916,1930, 72.4687,-156.5470,  971,    900.9,   0.1944,  34.8669,2,  34.8699,2,    285.3,2,    297.3,2,     8.15,2,    12.76,2,     0.02,2,     0.94,2,  -999.00,9,  -999.00,9,    0.595,2,   0.1536,20040916,1934
  32H120040910,    77,  1,    101,      1,2,20040916,1930, 72.4687,-156.5470,  971,    965.9,   0.1102,  34.8701,2,  34.8739,2,    284.7,2,    298.9,2,     8.22,2,    12.76,2,     0.02,2,     0.96,2,  -999.00,9,  -999.00,9,    0.919,2,   0.0666,20040916,1930