BOTTLE,20220815CCHSIOAMB
EXPOCODE,STNNBR,CASTNO,SAMPNO,BTLNBR,BTLNBR_FLAG_W,DATE,TIME,LATITUDE,LONGITUDE,DEPTH,CTDPRS,CTDTMP,CTDSAL,CTDSAL_FLAG_W,SALNTY,SALNTY_FLAG_W,CTDOXY,CTDOXY_FLAG_W,OXYGEN,OXYGEN_FLAG_W,SILCAT,SILCAT_FLAG_W,NITRAT,NITRAT_FLAG_W,NITRIT,NITRIT_FLAG_W,PHSPHT,PHSPHT_FLAG_W,CHLORA,CHLORA_FLAG_W,PHAEO,PHAEO_FLAG_W,FLUORO,FLUORO_FLAG_W,THETA,BTL_DATE,BTL_TIME
,,,,,,,,,,METERS,DBAR,ITS-90,PSS-78,,PSS-78,,UMOL/KG,,UMOL/KG,,UMOL/KG,,UMOL/KG,,UMOL/KG,,UMOL/KG,,UG/L,,UG/L,,VOLTS,,DEG C,,
  32H120040910,    56,  3,    301,      1,2,20040915, 513, 71.6158,-155.7443,  229,    215.5,   0.1077,  34.5934,2,  34.5950,2,    253.9,2,   -999.0,9,  -999.00,9,  -999.00,9,  -999.00,9,  -999.00,9,  -999.00,9,  -999.00,9,    1.548,2,   0.0995,20040915, 510
  32H120040910,    56,  3,    302,      2,2,20040915, 513, 71.6158,-155.7443,  229,    215.5,   0.1081,  34.5934,2,-999.0000,9,    254.2,2,   -999.0,9,  -999.00,9,  -999.00,9,  -999.00,9,  -999.00,9,  -999.00,9,  -999.00,9,    1.584,2,   0.0999,20040915, 510
  32H120040910,    56,  3,    303,      3,2,20040915, 513, 71.6158,-155.7443,  229,    215.5,   0.1091,  34.5937,2,-999.0000,9,    254.2,2,   -999.0,9,  -999.00,9,  -999.00,9,  -999.00,9,  -999.00,9,  -999.00,9,  -999.00,9,    1.475,2,   0.1009,20040915, 511
  32H120040910,    56,  3,    304,      4,2,20040915, 513, 71.6158,-155.7443,  229,    215.6,   0.1096,  34.5942,2,  34.5950,2,    254.0,2,   -999.0,9,  -999.00,9,  -999.00,9,  -999.00,9,  -999.00,9,  -999.00,9,  -999.00,9,    1.506,2,   0.1014,20040915, 511
  32H120040910,    56,  3,    305,      5,2,20040915, 513, 71.6158,-155.7443,  229,    215.6,   0.1100,  34.5943,2,-999.0000,9,    254.1,2,   -999.0,9,  -999.00,9,  -999.00,9,  -999.00,9,  -999.00,9,  -999.00,9,  -999.00,9,    1.625,2,   0.1018,20040915, 511
  32H120040910,    56,  3,    306,      6,2,20040915, 513, 71.6158,-155.7443,  229,    215.7,   0.1100,  34.5943,2,-999.0000,9,    254.1,2,   -999.0,9,  -999.00,9,  -999.00,9,  -999.00,9,  -999.00,9,  -999.00,9,  -999.00,9,    1.608,2,   0.1018,20040915, 511
  32H120040910,    56,  3,    307,      7,2,20040915, 513, 71.6158,-155.7443,  229,    215.8,   0.1086,  34.5936,2,  34.5954,2,    254.2,2,   -999.0,9,  -999.00,9,  -999.00,9,  -999.00,9,  -999.00,9,  -999.00,9,  -999.00,9,    1.626,2,   0.1004,20040915, 511
  32H120040910,    56,  3,    308,      8,2,20040915, 513, 71.6158,-155.7443,  229,    215.9,   0.1060,  34.5927,2,-999.0000,9,    253.8,2,   -999.0,9,  -999.00,9,  -999.00,9,  -999.00,9,  -999.00,9,  -999.00,9,  -999.00,9,    1.568,2,   0.0978,20040915, 511
  32H120040910,    56,  3,    309,      9,2,20040915, 513, 71.6158,-155.7443,  229,    215.9,   0.1067,  34.5932,2,-999.0000,9,    254.0,2,   -999.0,9,  -999.00,9,  -999.00,9,  -999.00,9,  -999.00,9,  -999.00,9,  -999.00,9,    1.537,2,   0.0985,20040915, 511
  32H120040910,    56,  3,    310,     10,2,20040915, 513, 71.6158,-155.7443,  229,    216.0,   0.1094,  34.5941,2,  34.5950,2,    254.1,2,   -999.0,9,  -999.00,9,  -999.00,9,  -999.00,9,  -999.00,9,  -999.00,9,  -999.00,9,    1.614,2,   0.1012,20040915, 511
  32H120040910,    56,  3,    311,     11,2,20040915, 513, 71.6158,-155.7443,  229,    216.0,   0.1107,  34.5945,2,-999.0000,9,    254.1,2,   -999.0,9,  -999.00,9,  -999.00,9,  -999.00,9,  -999.00,9,  -999.00,9,  -999.00,9,    1.618,2,   0.1025,20040915, 511
  32H120040910,    56,  3,    312,     12,2,20040915, 513, 71.6158,-155.7443,  229,    216.1,   0.1074,  34.5934,2,-999.0000,9,    253.9,2,   -999.0,9,  -999.00,9,  -999.00,9,  -999.00,9,  -999.00,9,  -999.00,9,  -999.00,9,    1.555,2,   0.0992,20040915, 512
  32H120040910,    56,  3,    313,     13,2,20040915, 513, 71.6158,-155.7443,  229,    216.2,   0.1080,  34.5937,2,  34.5944,2,    254.0,2,   -999.0,9,  -999.00,9,  -999.00,9,  -999.00,9,  -999.00,9,  -999.00,9,  -999.00,9,    1.515,2,   0.0998,20040915, 512
  32H120040910,    56,  3,    314,     14,2,20040915, 513, 71.6158,-155.7443,  229,    216.2,   0.1099,  34.5943,2,-999.0000,9,    254.0,2,   -999.0,9,  -999.00,9,  -999.00,9,  -999.00,9,  -999.00,9,  -999.00,9,  -999.00,9,    1.594,2,   0.1017,20040915, 512
  32H120040910,    56,  3,    316,     16,2,20040915, 513, 71.6158,-155.7443,  229,    216.3,   0.1043,  34.5922,2,  34.5943,2,    254.3,2,   -999.0,9,  -999.00,9,  -999.00,9,  -999.00,9,  -999.00,9,  -999.00,9,  -999.00,9,    1.467,2,   0.0961,20040915, 512
  32H120040910,    56,  3,    315,     15,2,20040915, 513, 71.6158,-155.7443,  229,    216.3,   0.1082,  34.5937,2,-999.0000,9,    254.3,2,   -999.0,9,  -999.00,9,  -999.00,9,  -999.00,9,  -999.00,9,  -999.00,9,  -999.00,9,    1.577,2,   0.1000,20040915, 512
  32H120040910,    56,  3,    317,     17,2,20040915, 513, 71.6158,-155.7443,  229,    216.4,   0.1088,  34.5939,2,-999.0000,9,    254.2,2,   -999.0,9,  -999.00,9,  -999.00,9,  -999.00,9,  -999.00,9,  -999.00,9,  -999.00,9,    1.459,2,   0.1006,20040915, 512
  32H120040910,    56,  3,    318,     18,2,20040915, 513, 71.6158,-155.7443,  229,    216.4,   0.1101,  34.5944,2,-999.0000,9,    254.0,2,   -999.0,9,  -999.00,9,  -999.00,9,  -999.00,9,  -999.00,9,  -999.00,9,  -999.00,9,    1.525,2,   0.1019,20040915, 512
  32H120040910,    56,  3,    319,     19,2,20040915, 513, 71.6158,-155.7443,  229,    216.5,   0.1083,  34.5937,2,  34.5957,2,    253.7,2,   -999.0,9,  -999.00,9,  -999.00,9,  -999.00,9,  -999.00,9,  -999.00,9,  -999.00,9,    1.564,2,   0.1001,20040915, 512
  32H120040910,    56,  3,    320,     20,2,20040915, 513, 71.6158,-155.7443,  229,    216.7,   0.1099,  34.5943,2,-999.0000,9,    254.1,2,   -999.0,9,  -999.00,9,  -999.00,9,  -999.00,9,  -999.00,9,  -999.00,9,  -999.00,9,    1.575,2,   0.1017,20040915, 513
  32H120040910,    57,  1,    106,      6,2,20040915, 212, 71.6523,-155.8182,  160,      6.1,   4.3699,  28.1474,2,  28.1495,2,    322.2,2,    331.7,2,     1.86,2,     0.17,2,     0.01,2,     0.44,2,     0.76,2,     0.22,2,    1.587,2,   4.3695,20040915, 224
  32H120040910,    57,  1,    105,      5,2,20040915, 212, 71.6523,-155.8182,  160,     30.4,  -0.2382,  31.7137,2,-999.0000,9,    401.9,2,    406.0,2,    11.24,2,     2.51,2,     0.12,2,     1.15,2,     0.80,2,     0.18,2,    1.673,2,  -0.2390,20040915, 222
  32H120040910,    57,  1,    104,      4,2,20040915, 212, 71.6523,-155.8182,  160,     61.3,  -1.5125,  32.6837,2,-999.0000,9,    309.0,2,    323.7,2,    28.92,2,    10.87,2,     0.21,2,     1.86,2,     0.08,2,     0.09,2,    0.973,2,  -1.5137,20040915, 220
  32H120040910,    57,  1,    103,      3,2,20040915, 212, 71.6523,-155.8182,  160,     91.6,  -1.6660,  33.0044,2,-999.0000,9,    274.0,2,    285.6,2,    46.16,2,    15.27,2,     0.12,2,     2.23,2,     0.09,2,     0.20,2,    1.025,2,  -1.6677,20040915, 217
  32H120040910,    57,  1,    102,      2,2,20040915, 212, 71.6523,-155.8182,  160,    121.9,  -1.6056,  33.0595,2,  33.0631,2,    273.3,2,    284.3,2,    41.62,2,    14.67,2,     0.11,2,     2.11,2,     0.08,2,     0.17,2,    0.985,2,  -1.6080,20040915, 215
  32H120040910,    57,  1,    101,      1,2,20040915, 212, 71.6523,-155.8182,  160,    155.3,  -1.1902,  33.6718,2,-999.0000,9,    263.4,2,    275.2,2,    33.15,2,    13.54,2,     0.12,2,     1.85,2,     0.09,2,     0.21,2,    1.008,2,  -1.1940,20040915, 212
  32H120040910,    58,  1,    105,      5,2,20040915, 617, 71.6897,-155.8982,  116,      5.5,   3.1791,  27.4578,2,-999.0000,9,    332.5,2,    343.5,2,     1.45,2,     0.11,2,     0.00,2,     0.47,2,     0.30,2,     0.06,2,    1.324,2,   3.1788,20040915, 627
  32H120040910,    58,  1,    104,      4,2,20040915, 617, 71.6897,-155.8982,  116,     20.2,   2.6298,  30.7503,2,-999.0000,9,    408.4,2,    423.9,2,     3.57,2,     0.10,2,     0.01,2,     0.69,2,     0.90,2,     0.16,2,    1.620,2,   2.6288,20040915, 625
  32H120040910,    58,  1,    103,      3,2,20040915, 617, 71.6897,-155.8982,  116,     60.3,  -1.5299,  32.6877,2,-999.0000,9,    312.4,2,    323.5,2,    29.26,2,    11.07,2,     0.22,2,     1.88,2,     0.10,2,     0.10,2,    1.011,2,  -1.5310,20040915, 622
  32H120040910,    58,  1,    102,      2,2,20040915, 617, 71.6897,-155.8982,  116,     90.1,  -1.6774,  32.9746,2,  32.9774,2,    278.1,2,    289.6,2,    46.82,2,    15.71,2,     0.11,2,     2.25,2,     0.13,2,     0.21,2,    1.031,2,  -1.6790,20040915, 619
  32H120040910,    58,  1,    101,      1,2,20040915, 617, 71.6897,-155.8982,  116,    110.6,  -1.5992,  33.0855,2,  33.0076,2,    272.2,2,    285.0,2,    46.90,2,    15.67,2,     0.11,2,     2.24,2,     0.13,2,     0.22,2,    1.006,2,  -1.6013,20040915, 617
  32H120040910,    59,  1,    104,      4,2,20040915, 815, 71.7268,-155.9872,  107,      5.5,   3.2251,  27.4917,2,  27.5159,2,    329.8,2,    342.2,2,     1.30,2,     0.20,2,     0.01,2,     0.48,2,     0.30,2,     0.07,2,    1.274,2,   3.2248,20040915, 824
  32H120040910,    59,  1,    103,      3,2,20040915, 815, 71.7268,-155.9872,  107,     32.3,   0.0872,  31.6994,2,-999.0000,9,    400.7,2,    420.7,2,     5.84,2,     0.88,2,     0.09,2,     0.96,2,     0.69,2,     0.11,2,    1.471,2,   0.0862,20040915, 821
  32H120040910,    59,  1,    102,      2,2,20040915, 815, 71.7268,-155.9872,  107,     60.3,  -1.5308,  32.6833,2,-999.0000,9,    312.0,2,    324.1,2,    29.27,2,    11.03,2,     0.23,2,     1.87,2,     0.09,2,     0.08,2,    1.006,2,  -1.5319,20040915, 818
  32H120040910,    59,  1,    101,      1,2,20040915, 815, 71.7268,-155.9872,  107,    101.9,  -1.4258,  33.3051,2,  33.1904,2,    273.2,2,    286.1,2,    35.54,2,    13.19,2,     0.16,2,     1.95,2,     0.09,2,     0.15,2,    0.963,2,  -1.4279,20040915, 815
  32H120040910,    60,  1,    104,      4,2,20040915, 951, 71.7668,-156.0515,  100,      5.1,   2.6757,  27.3042,2,  27.6800,2,    335.7,2,    350.9,2,     2.16,2,     0.20,2,     0.01,2,     0.51,2,     0.37,2,     0.09,2,    1.337,2,   2.6755,20040915, 959
  32H120040910,    60,  1,    103,      3,2,20040915, 951, 71.7668,-156.0515,  100,     25.1,   0.9555,  31.6922,2,-999.0000,9,    355.3,2,    380.3,2,     7.51,2,     1.69,2,     0.09,2,     1.08,2,     0.31,2,     0.12,2,    1.376,2,   0.9545,20040915, 957
  32H120040910,    60,  1,    102,      2,2,20040915, 951, 71.7668,-156.0515,  100,     60.3,  -1.4609,  32.6038,2,-999.0000,9,    318.2,2,    329.4,2,    28.06,2,    10.35,2,     0.22,2,     1.83,2,     0.08,2,     0.09,2,    1.058,2,  -1.4621,20040915, 955
  32H120040910,    60,  1,    101,      1,2,20040915, 951, 71.7668,-156.0515,  100,     94.7,  -1.6407,  33.0360,2,  33.0259,2,    278.1,2,    282.7,2,  -999.00,5,  -999.00,5,  -999.00,5,  -999.00,5,     0.14,2,     0.27,2,    1.076,2,  -1.6425,20040915, 951
  32H120040910,    61,  1,    104,      4,2,20040915,1346, 71.8007,-156.1427,   91,      4.6,   2.8871,  27.3782,2,  27.6114,2,    335.7,2,    347.3,2,     1.90,2,     0.20,2,     0.01,2,     0.49,2,     0.35,2,     0.08,2,    1.355,2,   2.8869,20040915,1355
  32H120040910,    61,  1,    103,      3,2,20040915,1346, 71.8007,-156.1427,   91,     29.9,   0.2600,  31.8476,2,-999.0000,9,    363.6,2,    379.6,2,    10.82,2,     2.28,2,     0.18,2,     1.11,2,     0.31,2,     0.11,2,    1.374,2,   0.2590,20040915,1352
  32H120040910,    61,  1,    102,      2,2,20040915,1346, 71.8007,-156.1427,   91,     59.9,  -1.4661,  32.6195,2,-999.0000,9,    314.2,2,    313.6,2,    30.17,2,    11.75,2,     0.15,2,     1.87,2,     0.11,2,     0.10,2,    0.919,2,  -1.4672,20040915,1349
  32H120040910,    61,  1,    101,      1,2,20040915,1346, 71.8007,-156.1427,   91,     85.7,  -1.6549,  32.9301,2,  32.8925,2,    284.6,2,    296.6,2,    42.27,2,    14.46,2,     0.13,2,     2.15,2,     0.17,2,     0.18,2,    1.070,2,  -1.6565,20040915,1346
  32H120040910,    62,  1,    104,      4,2,20040915,1439, 71.8388,-156.2285,   82,      4.8,   2.5842,  27.2573,2,  27.5817,2,    336.3,2,    348.9,2,     2.06,2,     0.14,2,     0.01,2,     0.49,2,     0.32,2,     0.06,2,    1.211,2,   2.5840,20040915,1448
  32H120040910,    62,  1,    103,      3,2,20040915,1439, 71.8388,-156.2285,   82,     29.9,  -0.4988,  32.0080,2,-999.0000,9,    345.0,2,    373.9,2,     8.92,2,     3.75,2,     0.14,2,     1.20,2,     1.11,2,     0.18,2,    1.684,2,  -0.4996,20040915,1445
  32H120040910,    62,  1,    102,      2,2,20040915,1439, 71.8388,-156.2285,   82,     59.9,  -1.4787,  32.6552,2,-999.0000,9,    309.2,2,    316.2,2,    34.08,2,    11.74,2,     0.17,2,     1.92,2,     0.19,2,     0.12,2,    1.003,2,  -1.4798,20040915,1442
  32H120040910,    62,  1,    101,      1,2,20040915,1439, 71.8388,-156.2285,   82,     76.9,  -1.5946,  32.8180,2,  32.7999,2,    297.1,2,    309.7,2,    38.47,2,    12.98,2,     0.15,2,     2.03,2,     0.30,2,     0.14,2,    1.103,2,  -1.5960,20040915,1439
  32H120040910,    63,  1,    103,      3,2,20040915,1527, 71.8732,-156.3068,   71,      5.2,   2.8588,  27.4153,2,  28.2159,2,    332.7,2,    369.1,2,     7.18,2,     0.19,2,     0.01,2,     0.52,2,     0.31,2,     0.06,2,    1.301,2,   2.8586,20040915,1533
  32H120040910,    63,  1,    102,      2,2,20040915,1527, 71.8732,-156.3068,   71,     29.7,   0.8320,  31.9622,2,  32.0809,2,    389.3,2,    393.9,2,     6.54,2,     1.83,2,     0.05,2,     0.99,2,     0.64,2,     0.10,2,    1.566,2,   0.8309,20040915,1530
  32H120040910,    63,  1,    101,      1,2,20040915,1527, 71.8732,-156.3068,   71,     66.2,  -1.5984,  32.8322,2,-999.0000,9,    294.0,2,    307.6,2,    40.96,2,    13.81,2,     0.13,2,     2.07,2,     0.29,2,     0.20,2,    1.209,2,  -1.5996,20040915,1527
  32H120040910,    64,  1,    105,      5,2,20040915,1623, 71.9148,-156.3847,   64,      4.8,   2.4344,  27.2553,2,  27.3508,2,    339.1,2,    348.6,2,     2.79,2,     0.14,2,     0.01,2,     0.50,2,     0.35,2,     0.04,2,    1.310,2,   2.4342,20040915,1631
  32H120040910,    64,  1,    104,      4,2,20040915,1623, 71.9148,-156.3847,   64,     14.7,   3.3062,  27.7247,2,-999.0000,9,    335.0,2,    389.8,2,     2.57,2,     0.18,2,     0.01,2,     0.62,2,     0.36,2,     0.08,2,    1.305,2,   3.3055,20040915,1629
  32H120040910,    64,  1,    103,      3,2,20040915,1623, 71.9148,-156.3847,   64,     29.7,  -0.2922,  32.0205,2,-999.0000,9,    392.9,2,    372.1,2,    14.72,2,     5.16,2,     0.12,2,     1.34,2,     0.84,2,     0.17,2,    1.774,2,  -0.2930,20040915,1627
  32H120040910,    64,  1,    102,      2,2,20040915,1623, 71.9148,-156.3847,   64,     44.6,  -1.3852,  32.5317,2,-999.0000,9,    323.5,2,    332.0,2,    26.21,2,     9.75,2,     0.17,2,     1.70,2,     0.17,2,     0.13,2,    1.082,2,  -1.3861,20040915,1625
  32H120040910,    64,  1,    101,      1,2,20040915,1623, 71.9148,-156.3847,   64,     59.2,  -1.5429,  32.7648,2,  32.6814,2,    296.0,2,    315.8,2,    33.70,2,    11.94,2,     0.14,2,     1.89,2,     0.15,2,     0.13,2,    1.009,2,  -1.5440,20040915,1623
  32H120040910,    65,  1,    103,      3,2,20040915,2134, 71.9568,-156.4323,   66,      5.4,   2.6401,  27.3118,2,  27.8154,2,    338.2,2,    354.9,2,     2.42,2,     0.13,2,     0.01,2,     0.51,2,     0.32,2,     0.07,2,    1.199,2,   2.6399,20040915,2139
  32H120040910,    65,  1,    102,      2,2,20040915,2134, 71.9568,-156.4323,   66,     30.6,  -0.5781,  32.0712,2,-999.0000,9,    351.2,2,    360.7,2,    12.42,2,     5.04,2,     0.15,2,     1.30,2,     0.52,2,     0.16,2,    1.551,2,  -0.5789,20040915,2137
  32H120040910,    65,  1,    101,      1,2,20040915,2134, 71.9568,-156.4323,   66,     61.0,  -1.4011,  32.6597,2,  32.6551,2,    299.3,2,    310.8,2,    41.65,2,    12.36,2,     0.29,2,     2.16,2,     0.20,2,     0.21,2,    1.108,2,  -1.4023,20040915,2134
  32H120040910,    66,  1,    104,      4,2,20040915,2219, 72.0015,-156.4750,   89,      5.4,   2.3643,  27.3164,2,  27.3970,2,    340.8,2,    350.3,2,     3.30,2,     0.13,2,     0.01,2,     0.51,2,     0.31,2,     0.06,2,    1.235,2,   2.3641,20040915,2226
  32H120040910,    66,  1,    103,      3,2,20040915,2219, 72.0015,-156.4750,   89,     30.7,  -0.9146,  31.8701,2,-999.0000,9,    407.8,2,    391.9,2,    11.87,2,     2.75,2,     0.09,2,     1.18,2,     0.50,2,     0.09,2,    1.286,2,  -0.9153,20040915,2224
  32H120040910,    66,  1,    102,      2,2,20040915,2219, 72.0015,-156.4750,   89,     61.0,  -1.5026,  32.7059,2,-999.0000,9,    301.1,2,    311.3,2,    37.79,2,    12.84,2,     0.16,2,     2.04,2,     0.26,2,     0.14,2,    1.001,2,  -1.5038,20040915,2221
  32H120040910,    66,  1,    101,      1,2,20040915,2219, 72.0015,-156.4750,   89,     83.9,  -1.6063,  32.8446,2,  32.8085,2,    291.0,2,    305.7,2,    43.47,2,    14.23,2,     0.14,2,     2.16,2,     0.29,2,     0.17,2,    1.043,2,  -1.6078,20040915,2219
  32H120040910,    67,  1,    105,      5,2,20040916,2351, 72.0412,-156.5080,  119,      5.4,   2.8789,  27.2028,2,  27.2502,2,    332.8,2,    345.4,2,     2.46,2,     0.10,2,     0.00,2,     0.48,2,     0.29,2,     0.07,2,    1.205,2,   2.8787,20040916,   0
  32H120040910,    67,  1,    104,      4,2,20040916,2351, 72.0412,-156.5080,  119,     30.5,  -0.6069,  31.8571,2,-999.0000,9,    377.3,2,    382.2,2,     9.04,2,     2.51,2,     0.10,2,     1.14,2,     0.40,2,     0.11,2,    1.454,2,  -0.6077,20040916,2358
  32H120040910,    67,  1,    103,      3,2,20040916,2351, 72.0412,-156.5080,  119,     60.2,  -1.4195,  32.5425,2,-999.0000,9,    317.5,2,    323.2,2,    25.67,2,    10.32,2,     0.17,2,     1.77,2,     0.07,2,     0.09,2,    0.893,2,  -1.4207,20040916,2356
  32H120040910,    67,  1,    102,      2,2,20040916,2351, 72.0412,-156.5080,  119,     90.4,  -1.6233,  32.9763,2,-999.0000,9,    288.1,2,    295.9,2,    41.40,2,    14.43,2,     0.11,2,     2.06,2,     0.06,2,     0.10,2,    0.909,2,  -1.6250,20040916,2353
  32H120040910,    67,  1,    101,      1,2,20040916,2351, 72.0412,-156.5080,  119,    114.0,  -1.6517,  33.0967,2,  33.0847,2,    283.5,2,    296.3,2,    47.70,2,    16.25,2,     0.10,2,     2.22,2,     0.07,2,     0.16,2,    0.954,2,  -1.6539,20040916,2351
  32H120040910,    68,  1,    106,      6,2,20040916, 119, 72.0880,-156.5612,  154,      4.5,   2.9292,  27.1867,2,  27.2272,2,    332.6,2,    343.7,2,     2.77,2,     0.19,2,     0.00,2,     0.49,2,     0.32,2,     0.09,2,    1.280,2,   2.9290,20040916, 132
  32H120040910,    68,  1,    105,      5,2,20040916, 119, 72.0880,-156.5612,  154,     29.8,  -0.3581,  31.8250,2,-999.0000,9,    386.5,2,    402.2,2,     7.02,2,     1.10,2,     0.08,2,     0.99,2,     0.57,2,     0.14,2,    1.477,2,  -0.3589,20040916, 130
  32H120040910,    68,  1,    104,      4,2,20040916, 119, 72.0880,-156.5612,  154,     60.0,  -1.4467,  32.5480,2,-999.0000,9,    316.9,2,    337.5,2,    24.95,2,     9.16,2,     0.12,2,     1.69,2,     0.10,2,     0.09,2,    0.966,2,  -1.4478,20040916, 127
  32H120040910,    68,  1,    103,      3,2,20040916, 119, 72.0880,-156.5612,  154,     90.1,  -1.6640,  32.9983,2,-999.0000,9,    279.3,2,    291.9,2,    45.91,2,    15.27,2,     0.11,2,     2.18,2,     0.07,2,     0.17,2,    1.013,2,  -1.6657,20040916, 125
  32H120040910,    68,  1,    102,      2,2,20040916, 119, 72.0880,-156.5612,  154,    120.5,  -1.5656,  33.1424,2,-999.0000,9,    278.8,2,    286.1,2,    37.72,2,    15.07,2,     0.07,2,     1.97,2,     0.03,2,     0.10,2,    0.889,2,  -1.5680,20040916, 122
  32H120040910,    68,  1,    101,      1,2,20040916, 119, 72.0880,-156.5612,  154,    149.5,  -1.3435,  33.4357,2,  33.3980,2,    267.9,2,    278.5,2,    32.88,2,    14.55,2,     0.05,2,     1.80,2,     0.02,2,     0.06,2,    0.812,2,  -1.3469,20040916, 119