BOTTLE,20220815CCHSIOAMB
EXPOCODE,STNNBR,CASTNO,SAMPNO,BTLNBR,BTLNBR_FLAG_W,DATE,TIME,LATITUDE,LONGITUDE,DEPTH,CTDPRS,CTDTMP,CTDSAL,CTDSAL_FLAG_W,SALNTY,SALNTY_FLAG_W,CTDOXY,CTDOXY_FLAG_W,OXYGEN,OXYGEN_FLAG_W,SILCAT,SILCAT_FLAG_W,NITRAT,NITRAT_FLAG_W,NITRIT,NITRIT_FLAG_W,PHSPHT,PHSPHT_FLAG_W,CHLORA,CHLORA_FLAG_W,PHAEO,PHAEO_FLAG_W,FLUORO,FLUORO_FLAG_W,THETA,BTL_DATE,BTL_TIME
,,,,,,,,,,METERS,DBAR,ITS-90,PSS-78,,PSS-78,,UMOL/KG,,UMOL/KG,,UMOL/KG,,UMOL/KG,,UMOL/KG,,UMOL/KG,,UG/L,,UG/L,,VOLTS,,DEG C,,
  32H120040910,    46,  1,    106,      6,2,20040913, 948, 71.0168,-159.4573,   70,      5.3,   6.9112,  29.6257,2,-999.0000,9,    293.3,2,    301.6,2,     4.77,2,     0.15,2,     0.01,2,     0.50,2,     1.10,2,     0.34,2,    1.683,2,   6.9108,20040913, 956
  32H120040910,    46,  1,    105,      5,2,20040913, 948, 71.0168,-159.4573,   70,     15.8,   7.0836,  29.7604,2,-999.0000,9,    291.4,2,   -999.0,9,     4.89,2,     0.14,2,     0.01,2,     0.51,2,     1.29,2,     0.34,2,    1.754,2,   7.0823,20040913, 954
  32H120040910,    46,  1,    104,      4,2,20040913, 948, 71.0168,-159.4573,   70,     23.7,   3.6327,  31.3594,2,-999.0000,9,    343.1,2,   -999.0,9,     9.24,2,     0.35,2,     0.05,2,     0.90,2,     0.51,2,     0.28,2,    1.568,2,   3.6313,20040913, 953
  32H120040910,    46,  1,    103,      3,2,20040913, 948, 71.0168,-159.4573,   70,     45.6,  -0.6736,  32.3869,2,-999.0000,9,    356.7,2,    364.1,2,    16.08,2,     2.82,2,     0.19,2,     1.39,2,     0.39,2,     0.22,2,    1.447,2,  -0.6748,20040913, 951
  32H120040910,    46,  1,    102,      2,2,20040913, 948, 71.0168,-159.4573,   70,     58.9,  -1.6512,  32.9330,2,  32.9419,2,    275.5,2,    284.6,2,    50.02,2,    16.10,2,     0.23,2,     2.38,2,     0.92,2,     0.26,2,    1.378,2,  -1.6523,20040913, 949
  32H120040910,    46,  1,    101,      1,2,20040913, 948, 71.0168,-159.4573,   70,     65.2,  -1.6517,  32.9433,2,  32.9357,2,    276.0,2,    285.5,2,    49.72,2,    16.09,2,     0.23,2,     2.36,2,     0.90,2,     0.28,2,    1.406,2,  -1.6529,20040913, 948
  32H120040910,    47,  1,    105,      5,2,20040913,1040, 70.9905,-159.4103,   58,      4.7,   6.6752,  29.3147,2,  29.3174,2,    295.8,2,    304.9,2,     5.12,2,     0.23,2,     0.01,2,     0.49,2,     1.02,2,     0.24,2,    1.622,2,   6.6748,20040913,1046
  32H120040910,    47,  1,    104,      4,2,20040913,1040, 70.9905,-159.4103,   58,     19.9,   5.3972,  31.2505,2,-999.0000,9,    293.1,2,    299.8,2,    10.30,2,     0.29,2,     0.05,2,     0.89,2,     0.54,2,     0.22,2,    1.446,2,   5.3957,20040913,1045
  32H120040910,    47,  1,    103,      3,2,20040913,1040, 70.9905,-159.4103,   58,     29.5,   1.4562,  31.7934,2,-999.0000,9,    358.2,2,    364.8,2,     8.05,2,     0.67,2,     0.06,2,     0.97,2,     0.42,2,     0.21,2,    1.397,2,   1.4549,20040913,1043
  32H120040910,    47,  1,    102,      2,2,20040913,1040, 70.9905,-159.4103,   58,     46.0,  -1.3444,  32.7432,2,-999.0000,9,    290.3,2,    323.7,2,    30.83,2,     9.29,2,     0.26,2,     1.90,2,     0.78,2,     0.21,2,    1.437,2,  -1.3453,20040913,1041
  32H120040910,    47,  1,    101,      1,2,20040913,1040, 70.9905,-159.4103,   58,     52.5,  -1.5592,  32.8676,2,  32.8082,2,    281.4,2,    294.1,2,    42.63,2,    13.94,2,     0.28,2,     2.22,2,     1.04,2,     0.26,2,    1.466,2,  -1.5602,20040913,1040
  32H120040910,    47,  2,    218,     18,2,20040913, 459, 70.9905,-159.4103,   58,     48.8,  -1.6479,  32.9417,2,-999.0000,9,    270.3,2,   -999.0,9,  -999.00,9,  -999.00,9,  -999.00,9,  -999.00,9,  -999.00,9,  -999.00,9,    1.487,2,  -1.6488,20040913, 502
  32H120040910,    47,  2,    209,      9,2,20040913, 459, 70.9905,-159.4103,   58,     48.8,  -1.6481,  32.9419,2,-999.0000,9,    270.5,2,   -999.0,9,  -999.00,9,  -999.00,9,  -999.00,9,  -999.00,9,  -999.00,9,  -999.00,9,    1.499,2,  -1.6490,20040913, 500
  32H120040910,    47,  2,    211,     11,2,20040913, 459, 70.9905,-159.4103,   58,     48.8,  -1.6481,  32.9422,2,-999.0000,9,    270.6,2,   -999.0,9,  -999.00,9,  -999.00,9,  -999.00,9,  -999.00,9,  -999.00,9,  -999.00,9,    1.444,2,  -1.6490,20040913, 501
  32H120040910,    47,  2,    220,     20,2,20040913, 459, 70.9905,-159.4103,   58,     48.8,  -1.6484,  32.9425,2,-999.0000,9,    270.4,2,   -999.0,9,  -999.00,9,  -999.00,9,  -999.00,9,  -999.00,9,  -999.00,9,  -999.00,9,    1.426,2,  -1.6493,20040913, 502
  32H120040910,    47,  2,    216,     16,2,20040913, 459, 70.9905,-159.4103,   58,     48.8,  -1.6484,  32.9431,2,  32.9441,2,    270.5,2,   -999.0,9,  -999.00,9,  -999.00,9,  -999.00,9,  -999.00,9,  -999.00,9,  -999.00,9,    1.490,2,  -1.6493,20040913, 502
  32H120040910,    47,  2,    219,     19,2,20040913, 459, 70.9905,-159.4103,   58,     48.8,  -1.6485,  32.9425,2,  32.9445,2,    270.3,2,   -999.0,9,  -999.00,9,  -999.00,9,  -999.00,9,  -999.00,9,  -999.00,9,  -999.00,9,    1.487,2,  -1.6494,20040913, 502
  32H120040910,    47,  2,    208,      8,2,20040913, 459, 70.9905,-159.4103,   58,     48.9,  -1.6474,  32.9406,2,-999.0000,9,    270.3,2,   -999.0,9,  -999.00,9,  -999.00,9,  -999.00,9,  -999.00,9,  -999.00,9,  -999.00,9,    1.440,2,  -1.6483,20040913, 500
  32H120040910,    47,  2,    213,     13,2,20040913, 459, 70.9905,-159.4103,   58,     48.9,  -1.6480,  32.9414,2,  32.9433,2,    270.5,2,   -999.0,9,  -999.00,9,  -999.00,9,  -999.00,9,  -999.00,9,  -999.00,9,  -999.00,9,    1.475,2,  -1.6489,20040913, 501
  32H120040910,    47,  2,    210,     10,2,20040913, 459, 70.9905,-159.4103,   58,     48.9,  -1.6481,  32.9431,2,  32.9441,2,    270.4,2,   -999.0,9,  -999.00,9,  -999.00,9,  -999.00,9,  -999.00,9,  -999.00,9,  -999.00,9,    1.518,2,  -1.6490,20040913, 501
  32H120040910,    47,  2,    207,      7,2,20040913, 459, 70.9905,-159.4103,   58,     48.9,  -1.6481,  32.9432,2,  32.9447,2,    270.5,2,   -999.0,9,  -999.00,9,  -999.00,9,  -999.00,9,  -999.00,9,  -999.00,9,  -999.00,9,    1.459,2,  -1.6490,20040913, 500
  32H120040910,    47,  2,    206,      6,2,20040913, 459, 70.9905,-159.4103,   58,     48.9,  -1.6482,  32.9428,2,-999.0000,9,    270.5,2,   -999.0,9,  -999.00,9,  -999.00,9,  -999.00,9,  -999.00,9,  -999.00,9,  -999.00,9,    1.490,2,  -1.6491,20040913, 500
  32H120040910,    47,  2,    204,      4,2,20040913, 459, 70.9905,-159.4103,   58,     48.9,  -1.6482,  32.9430,2,  32.9444,2,    270.5,2,   -999.0,9,  -999.00,9,  -999.00,9,  -999.00,9,  -999.00,9,  -999.00,9,  -999.00,9,    1.481,2,  -1.6491,20040913, 500
  32H120040910,    47,  2,    217,     17,2,20040913, 459, 70.9905,-159.4103,   58,     48.9,  -1.6482,  32.9430,2,-999.0000,9,    270.3,2,   -999.0,9,  -999.00,9,  -999.00,9,  -999.00,9,  -999.00,9,  -999.00,9,  -999.00,9,    1.417,2,  -1.6491,20040913, 502
  32H120040910,    47,  2,    212,     12,2,20040913, 459, 70.9905,-159.4103,   58,     48.9,  -1.6482,  32.9435,2,-999.0000,9,    270.0,2,   -999.0,9,  -999.00,9,  -999.00,9,  -999.00,9,  -999.00,9,  -999.00,9,  -999.00,9,    1.465,2,  -1.6491,20040913, 501
  32H120040910,    47,  2,    215,     15,2,20040913, 459, 70.9905,-159.4103,   58,     48.9,  -1.6483,  32.9418,2,-999.0000,9,    270.5,2,   -999.0,9,  -999.00,9,  -999.00,9,  -999.00,9,  -999.00,9,  -999.00,9,  -999.00,9,    1.468,2,  -1.6492,20040913, 501
  32H120040910,    47,  2,    203,      3,2,20040913, 459, 70.9905,-159.4103,   58,     48.9,  -1.6483,  32.9425,2,-999.0000,9,    270.3,2,   -999.0,9,  -999.00,9,  -999.00,9,  -999.00,9,  -999.00,9,  -999.00,9,  -999.00,9,    1.528,2,  -1.6492,20040913, 459
  32H120040910,    47,  2,    205,      5,2,20040913, 459, 70.9905,-159.4103,   58,     48.9,  -1.6483,  32.9430,2,-999.0000,9,    270.2,2,   -999.0,9,  -999.00,9,  -999.00,9,  -999.00,9,  -999.00,9,  -999.00,9,  -999.00,9,    1.444,2,  -1.6492,20040913, 500
  32H120040910,    47,  2,    214,     14,2,20040913, 459, 70.9905,-159.4103,   58,     48.9,  -1.6484,  32.9431,2,-999.0000,9,    270.3,2,   -999.0,9,  -999.00,9,  -999.00,9,  -999.00,9,  -999.00,9,  -999.00,9,  -999.00,9,    1.491,2,  -1.6493,20040913, 501
  32H120040910,    47,  2,    201,      1,2,20040913, 459, 70.9905,-159.4103,   58,     48.9,  -1.6487,  32.9432,2,  32.9448,2,    270.2,2,   -999.0,9,  -999.00,9,  -999.00,9,  -999.00,9,  -999.00,9,  -999.00,9,  -999.00,9,    1.479,2,  -1.6496,20040913, 459
  32H120040910,    47,  2,    202,      2,2,20040913, 459, 70.9905,-159.4103,   58,     49.0,  -1.6484,  32.9426,2,-999.0000,9,    270.1,2,   -999.0,9,  -999.00,9,  -999.00,9,  -999.00,9,  -999.00,9,  -999.00,9,  -999.00,9,    1.447,2,  -1.6493,20040913, 459
  32H120040910,    48,  1,    104,      4,2,20040913,1136, 70.9632,-159.3637,   55,      4.5,   6.6320,  29.2578,2,  29.2526,2,    295.0,2,    304.0,2,     4.63,2,     0.23,2,     0.02,2,     0.51,2,     0.98,2,     0.29,2,    1.610,2,   6.6316,20040913,1142
  32H120040910,    48,  1,    103,      3,2,20040913,1136, 70.9632,-159.3637,   55,     14.7,   8.5656,  30.7080,2,-999.0000,9,    266.8,2,    277.8,2,     7.74,2,     0.25,2,     0.03,2,     0.65,2,     0.59,2,     0.24,2,    1.393,2,   8.5642,20040913,1140
  32H120040910,    48,  1,    102,      2,2,20040913,1136, 70.9632,-159.3637,   55,     29.9,   3.1147,  31.5002,2,-999.0000,9,    331.4,2,    347.2,2,     9.11,2,     0.71,2,     0.06,2,     0.96,2,     0.51,2,     0.21,2,    1.416,2,   3.1130,20040913,1138
  32H120040910,    48,  1,    101,      1,2,20040913,1136, 70.9632,-159.3637,   55,     50.1,  -0.3281,  32.3842,2,  31.8813,2,    332.8,2,    340.5,2,    17.33,2,     4.39,2,     0.17,2,     1.35,2,     0.56,2,     0.23,2,    1.386,2,  -0.3295,20040913,1136
  32H120040910,    49,  1,    103,      3,2,20040913,1228, 70.9325,-159.3257,   40,      4.4,   6.5046,  29.2339,2,  29.2342,2,    295.3,2,    304.8,2,     4.42,2,     0.17,2,     0.02,2,     0.50,2,     1.26,2,     0.35,2,    1.678,2,   6.5043,20040913,1232
  32H120040910,    49,  1,    102,      2,2,20040913,1228, 70.9325,-159.3257,   40,     15.0,   6.5048,  29.2375,2,-999.0000,9,    295.3,2,    301.4,2,     4.86,2,     0.12,2,     0.02,2,     0.52,2,     1.28,2,     0.31,2,    1.741,2,   6.5036,20040913,1230
  32H120040910,    49,  1,    101,      1,2,20040913,1228, 70.9325,-159.3257,   40,     34.9,   1.5943,  31.8111,2,  31.7894,2,    354.5,2,    366.0,2,     8.27,2,     0.98,2,     0.07,2,     1.00,2,     0.49,2,     0.29,2,    1.405,2,   1.5928,20040913,1228
  32H120040910,    49,  2,    214,     14,2,20040913, 609, 70.9325,-159.3257,   40,     24.8,  -1.2822,  32.7270,2,-999.0000,9,    292.1,2,   -999.0,9,  -999.00,9,  -999.00,9,  -999.00,9,  -999.00,9,  -999.00,9,  -999.00,9,    1.505,2,  -1.2827,20040913, 610
  32H120040910,    49,  2,    218,     18,2,20040913, 609, 70.9325,-159.3257,   40,     24.8,  -1.2977,  32.7346,2,-999.0000,9,    291.4,2,   -999.0,9,  -999.00,9,  -999.00,9,  -999.00,9,  -999.00,9,  -999.00,9,  -999.00,9,    1.389,2,  -1.2982,20040913, 611
  32H120040910,    49,  2,    215,     15,2,20040913, 609, 70.9325,-159.3257,   40,     24.9,  -1.2855,  32.7288,2,-999.0000,9,    292.2,2,   -999.0,9,  -999.00,9,  -999.00,9,  -999.00,9,  -999.00,9,  -999.00,9,  -999.00,9,    1.457,2,  -1.2860,20040913, 610
  32H120040910,    49,  2,    212,     12,2,20040913, 609, 70.9325,-159.3257,   40,     24.9,  -1.2889,  32.7304,2,-999.0000,9,    291.5,2,   -999.0,9,  -999.00,9,  -999.00,9,  -999.00,9,  -999.00,9,  -999.00,9,  -999.00,9,    1.441,2,  -1.2894,20040913, 610
  32H120040910,    49,  2,    213,     13,2,20040913, 609, 70.9325,-159.3257,   40,     24.9,  -1.2911,  32.7316,2,  32.7363,2,    292.1,2,   -999.0,9,  -999.00,9,  -999.00,9,  -999.00,9,  -999.00,9,  -999.00,9,  -999.00,9,    1.406,2,  -1.2916,20040913, 610
  32H120040910,    49,  2,    216,     16,2,20040913, 609, 70.9325,-159.3257,   40,     24.9,  -1.2941,  32.7324,2,  32.7349,2,    291.8,2,   -999.0,9,  -999.00,9,  -999.00,9,  -999.00,9,  -999.00,9,  -999.00,9,  -999.00,9,    1.382,2,  -1.2946,20040913, 610
  32H120040910,    49,  2,    211,     11,2,20040913, 609, 70.9325,-159.3257,   40,     24.9,  -1.2943,  32.7329,2,-999.0000,9,    291.6,2,   -999.0,9,  -999.00,9,  -999.00,9,  -999.00,9,  -999.00,9,  -999.00,9,  -999.00,9,    1.366,2,  -1.2948,20040913, 610
  32H120040910,    49,  2,    217,     17,2,20040913, 609, 70.9325,-159.3257,   40,     24.9,  -1.2957,  32.7330,2,-999.0000,9,    291.6,2,   -999.0,9,  -999.00,9,  -999.00,9,  -999.00,9,  -999.00,9,  -999.00,9,  -999.00,9,    1.442,2,  -1.2962,20040913, 611
  32H120040910,    49,  2,    201,      1,2,20040913, 609, 70.9325,-159.3257,   40,     24.9,  -1.2966,  32.7350,2,  32.7391,2,    291.5,2,   -999.0,9,  -999.00,9,  -999.00,9,  -999.00,9,  -999.00,9,  -999.00,9,  -999.00,9,    1.435,2,  -1.2971,20040913, 608
  32H120040910,    49,  2,    203,      3,2,20040913, 609, 70.9325,-159.3257,   40,     24.9,  -1.2972,  32.7340,2,-999.0000,9,    291.5,2,   -999.0,9,  -999.00,9,  -999.00,9,  -999.00,9,  -999.00,9,  -999.00,9,  -999.00,9,    1.407,2,  -1.2977,20040913, 608
  32H120040910,    49,  2,    202,      2,2,20040913, 609, 70.9325,-159.3257,   40,     24.9,  -1.2983,  32.7352,2,-999.0000,9,    291.5,2,   -999.0,9,  -999.00,9,  -999.00,9,  -999.00,9,  -999.00,9,  -999.00,9,  -999.00,9,    1.387,2,  -1.2988,20040913, 608
  32H120040910,    49,  2,    210,     10,2,20040913, 609, 70.9325,-159.3257,   40,     24.9,  -1.2984,  32.7349,2,  32.7371,2,    291.5,2,   -999.0,9,  -999.00,9,  -999.00,9,  -999.00,9,  -999.00,9,  -999.00,9,  -999.00,9,    1.497,2,  -1.2989,20040913, 609
  32H120040910,    49,  2,    219,     19,2,20040913, 609, 70.9325,-159.3257,   40,     24.9,  -1.2986,  32.7344,2,  32.7351,2,    291.5,2,   -999.0,9,  -999.00,9,  -999.00,9,  -999.00,9,  -999.00,9,  -999.00,9,  -999.00,9,    1.352,2,  -1.2991,20040913, 611
  32H120040910,    49,  2,    209,      9,2,20040913, 609, 70.9325,-159.3257,   40,     24.9,  -1.2989,  32.7349,2,-999.0000,9,    291.5,2,   -999.0,9,  -999.00,9,  -999.00,9,  -999.00,9,  -999.00,9,  -999.00,9,  -999.00,9,    1.459,2,  -1.2994,20040913, 609
  32H120040910,    49,  2,    220,     20,2,20040913, 609, 70.9325,-159.3257,   40,     24.9,  -1.2990,  32.7344,2,-999.0000,9,    291.3,2,   -999.0,9,  -999.00,9,  -999.00,9,  -999.00,9,  -999.00,9,  -999.00,9,  -999.00,9,    1.410,2,  -1.2995,20040913, 611
  32H120040910,    49,  2,    204,      4,2,20040913, 609, 70.9325,-159.3257,   40,     24.9,  -1.3008,  32.7360,2,  32.7363,2,    291.5,2,   -999.0,9,  -999.00,9,  -999.00,9,  -999.00,9,  -999.00,9,  -999.00,9,  -999.00,9,    1.494,2,  -1.3013,20040913, 608
  32H120040910,    49,  2,    207,      7,2,20040913, 609, 70.9325,-159.3257,   40,     24.9,  -1.3010,  32.7357,2,  32.7369,2,    291.4,2,   -999.0,9,  -999.00,9,  -999.00,9,  -999.00,9,  -999.00,9,  -999.00,9,  -999.00,9,    1.357,2,  -1.3015,20040913, 609
  32H120040910,    49,  2,    208,      8,2,20040913, 609, 70.9325,-159.3257,   40,     24.9,  -1.3011,  32.7360,2,-999.0000,9,    291.4,2,   -999.0,9,  -999.00,9,  -999.00,9,  -999.00,9,  -999.00,9,  -999.00,9,  -999.00,9,    1.393,2,  -1.3016,20040913, 609
  32H120040910,    49,  2,    206,      6,2,20040913, 609, 70.9325,-159.3257,   40,     24.9,  -1.3017,  32.7365,2,-999.0000,9,    291.0,2,   -999.0,9,  -999.00,9,  -999.00,9,  -999.00,9,  -999.00,9,  -999.00,9,  -999.00,9,    1.426,2,  -1.3022,20040913, 609
  32H120040910,    49,  2,    205,      5,2,20040913, 609, 70.9325,-159.3257,   40,     24.9,  -1.3022,  32.7369,2,-999.0000,9,    290.9,2,   -999.0,9,  -999.00,9,  -999.00,9,  -999.00,9,  -999.00,9,  -999.00,9,  -999.00,9,    1.432,2,  -1.3027,20040913, 609
  32H120040910,    50,  1,    103,      3,2,20040914,1642, 71.5215,-155.4465,   36,      4.9,   4.4096,  28.6456,2,  28.6454,2,    315.4,2,    325.9,2,     4.42,2,     0.06,2,     0.00,2,     0.50,2,     0.56,2,     0.10,2,    1.436,2,   4.4093,20040914,1646
  32H120040910,    50,  1,    102,      2,2,20040914,1642, 71.5215,-155.4465,   36,     14.7,   4.4327,  28.6530,2,  28.6633,2,    315.5,2,    326.1,2,     4.62,2,     0.16,2,     0.01,2,     0.50,2,     0.56,2,     0.10,2,    1.409,2,   4.4318,20040914,1644
  32H120040910,    50,  1,    101,      1,2,20040914,1642, 71.5215,-155.4465,   36,     31.1,   3.7968,  31.3355,2,-999.0000,9,    315.5,2,    313.3,2,     7.44,2,     0.26,2,     0.04,2,     0.72,2,     0.54,2,     0.17,2,    1.398,2,   3.7949,20040914,1642
  32H120040910,    51,  1,    104,      4,2,20040914,1734, 71.5298,-155.4977,   50,      5.0,   4.1372,  28.2051,2,  28.2059,2,    320.0,2,    330.3,2,     3.09,2,     0.06,2,     0.00,2,     0.43,2,     0.52,2,     0.08,2,    1.399,2,   4.1369,20040914,1739
  32H120040910,    51,  1,    103,      3,2,20040914,1734, 71.5298,-155.4977,   50,     15.0,   6.1365,  29.5305,2,-999.0000,9,    291.7,2,    313.8,2,     8.25,2,     0.40,2,     0.05,2,     0.81,2,     0.46,2,     0.18,2,    1.424,2,   6.1353,20040914,1738
  32H120040910,    51,  1,    102,      2,2,20040914,1734, 71.5298,-155.4977,   50,     29.3,   3.5838,  31.3081,2,-999.0000,9,    329.4,2,    355.4,2,    11.39,2,     1.65,2,     0.10,2,     1.13,2,     0.35,2,     0.21,2,    1.202,2,   3.5821,20040914,1736
  32H120040910,    51,  1,    101,      1,2,20040914,1734, 71.5298,-155.4977,   50,     45.2,  -0.5532,  32.3699,2,  32.2361,2,    344.3,2,    361.0,2,    18.12,2,     4.02,2,     0.18,2,     1.49,2,     0.48,2,     0.24,2,    1.407,2,  -0.5544,20040914,1734
  32H120040910,    52,  1,    105,      5,2,20040914,1821, 71.5402,-155.5742,   67,      5.2,   4.1879,  28.1686,2,  28.4684,2,    320.2,2,    324.0,2,     3.97,2,     0.10,2,     0.01,2,     0.49,2,     0.67,2,     0.08,2,    1.433,2,   4.1876,20040914,1828
  32H120040910,    52,  1,    104,      4,2,20040914,1821, 71.5402,-155.5742,   67,     15.3,   6.5228,  29.6220,2,  29.8223,2,    293.4,2,    298.9,2,     5.69,2,     0.13,2,     0.02,2,     0.62,2,     0.55,2,     0.10,2,    1.355,2,   6.5216,20040914,1826
  32H120040910,    52,  1,    103,      3,2,20040914,1821, 71.5402,-155.5742,   67,     30.3,   5.4380,  30.7602,2,-999.0000,9,    310.0,2,    340.9,2,     8.21,2,     0.54,2,     0.05,2,     0.88,2,     0.40,2,     0.18,2,    1.308,2,   5.4358,20040914,1824
  32H120040910,    52,  1,    102,      2,2,20040914,1821, 71.5402,-155.5742,   67,     45.5,  -0.0841,  32.1938,2,-999.0000,9,    355.8,2,    354.0,2,    21.29,2,     5.70,2,     0.17,2,     1.56,2,     0.51,2,     0.18,2,    1.292,2,  -0.0855,20040914,1823
  32H120040910,    52,  1,    101,      1,9,20040914,1821, 71.5402,-155.5742,   67,     61.9,  -1.4695,  32.7502,2,-999.0000,9,    301.8,2,   -999.0,9,  -999.00,9,  -999.00,9,  -999.00,9,  -999.00,9,  -999.00,9,  -999.00,9,    1.396,2,  -1.4707,20040914,1821
  32H120040910,    53,  1,    105,      5,2,20040914,1940, 71.5602,-155.6133,  118,      4.3,   5.2394,  28.8235,2,-999.0000,9,    309.9,2,    316.8,2,     4.87,2,     0.14,2,     0.02,2,     0.55,2,     0.79,2,     0.13,2,    1.523,2,   5.2391,20040914,1947
  32H120040910,    53,  1,    104,      4,2,20040914,1940, 71.5602,-155.6133,  118,     29.4,   5.0239,  31.0862,2,-999.0000,9,    309.2,2,    340.8,2,    15.34,2,     3.09,2,     0.14,2,     1.27,2,     0.41,2,     0.21,2,    1.316,2,   5.0218,20040914,1945
  32H120040910,    53,  1,    103,      3,2,20040914,1940, 71.5602,-155.6133,  118,     59.6,  -1.0320,  32.4951,2,  32.5390,2,    329.5,2,    338.3,2,    25.53,2,     7.18,2,     0.24,2,     1.78,2,     0.51,2,     0.22,2,    1.360,2,  -1.0334,20040914,1944
  32H120040910,    53,  1,    102,      2,2,20040914,1940, 71.5602,-155.6133,  118,     90.6,  -1.7035,  33.0028,2,-999.0000,9,    269.1,2,    280.3,2,    53.06,2,    16.78,2,     0.11,2,     2.42,2,     0.45,2,     0.29,2,    1.233,2,  -1.7051,20040914,1942
  32H120040910,    53,  1,    101,      1,2,20040914,1940, 71.5602,-155.6133,  118,    113.4,  -1.6538,  33.1213,2,  33.0950,2,    265.0,2,    276.4,2,    55.55,2,    17.52,2,     0.08,2,     2.46,2,     0.37,2,     0.39,2,    1.244,2,  -1.6559,20040914,1940