BOTTLE,20220815CCHSIOAMB
EXPOCODE,STNNBR,CASTNO,SAMPNO,BTLNBR,BTLNBR_FLAG_W,DATE,TIME,LATITUDE,LONGITUDE,DEPTH,CTDPRS,CTDTMP,CTDSAL,CTDSAL_FLAG_W,SALNTY,SALNTY_FLAG_W,CTDOXY,CTDOXY_FLAG_W,OXYGEN,OXYGEN_FLAG_W,SILCAT,SILCAT_FLAG_W,NITRAT,NITRAT_FLAG_W,NITRIT,NITRIT_FLAG_W,PHSPHT,PHSPHT_FLAG_W,CHLORA,CHLORA_FLAG_W,PHAEO,PHAEO_FLAG_W,FLUORO,FLUORO_FLAG_W,THETA,BTL_DATE,BTL_TIME
,,,,,,,,,,METERS,DBAR,ITS-90,PSS-78,,PSS-78,,UMOL/KG,,UMOL/KG,,UMOL/KG,,UMOL/KG,,UMOL/KG,,UMOL/KG,,UG/L,,UG/L,,VOLTS,,DEG C,,
  32H120040910,     6,  1,    109,      9,2,20040907,1244, 71.4477,-152.0262,  218,      5.0,   3.8696,  27.4873,2,  27.4757,2,    334.0,2,    344.0,2,     2.47,2,     0.07,2,     0.01,2,     0.43,2,     0.45,2,     0.03,2,    1.480,2,   3.8693,20040907,1305
  32H120040910,     6,  1,    108,      8,2,20040907,1244, 71.4477,-152.0262,  218,     25.2,  -0.3095,  31.1693,2,  31.3043,2,    428.1,2,    429.1,2,     5.48,2,     0.42,2,     0.04,2,     0.83,2,     0.63,2,     0.10,2,    1.555,2,  -0.3102,20040907,1303
  32H120040910,     6,  1,    107,      7,2,20040907,1244, 71.4477,-152.0262,  218,     50.0,   0.4934,  32.0269,2,  32.0294,2,    368.1,2,    380.6,2,    10.59,2,     2.53,2,     0.11,2,     1.17,2,     0.45,2,     0.13,2,    1.372,2,   0.4917,20040907,1300
  32H120040910,     6,  1,    106,      6,2,20040907,1244, 71.4477,-152.0262,  218,     75.9,  -0.5738,  32.1362,2,  32.1716,2,    386.6,2,    393.3,2,    13.93,2,     2.99,2,     0.12,2,     1.28,2,     0.64,2,     0.12,2,    1.472,2,  -0.5758,20040907,1257
  32H120040910,     6,  1,    105,      5,2,20040907,1244, 71.4477,-152.0262,  218,    100.9,  -1.1691,  32.4952,2,  32.4921,2,    343.3,2,    358.1,2,    21.58,2,     6.87,2,     0.17,2,     1.65,2,     0.90,2,     0.30,2,    1.581,2,  -1.1713,20040907,1255
  32H120040910,     6,  1,    104,      4,2,20040907,1244, 71.4477,-152.0262,  218,    125.7,  -1.5867,  32.7607,2,  32.7607,2,    304.1,2,    317.1,2,    35.32,2,    12.19,2,     0.14,2,     2.04,2,     1.09,2,     0.43,2,    1.499,2,  -1.5891,20040907,1252
  32H120040910,     6,  1,    103,      3,2,20040907,1244, 71.4477,-152.0262,  218,    150.2,  -1.6566,  32.9096,2,  32.9098,2,    280.5,2,    290.8,2,    43.84,2,    14.75,2,     0.12,2,     2.24,2,     1.00,2,     0.38,2,    1.522,2,  -1.6594,20040907,1250
  32H120040910,     6,  1,    102,      2,2,20040907,1244, 71.4477,-152.0262,  218,    175.8,  -1.4963,  33.1889,2,  33.1214,2,    270.2,2,    282.5,2,    43.31,2,    15.00,2,     0.14,2,     2.18,2,     0.51,2,     0.38,2,    1.303,2,  -1.5000,20040907,1246
  32H120040910,     6,  1,    101,      1,2,20040907,1244, 71.4477,-152.0262,  218,    213.5,  -0.2143,  34.4329,2,  34.3627,2,    255.8,2,    265.7,2,    22.62,2,    13.33,2,     0.17,2,     1.55,2,     1.28,2,     0.82,2,    1.666,2,  -0.2217,20040907,1244
  32H120040910,     6,  2,    213,     13,2,20040907,  23, 71.4477,-152.0262,  218,     51.1,   1.5163,  31.7917,2,-999.0000,9,    367.2,2,   -999.0,9,  -999.00,9,  -999.00,9,  -999.00,9,  -999.00,9,  -999.00,9,  -999.00,9,    1.316,2,   1.5141,20040907,  31
  32H120040910,     6,  2,    214,     14,2,20040907,  23, 71.4477,-152.0262,  218,     51.1,   1.5587,  31.7882,2,  31.8263,2,    367.0,2,   -999.0,9,  -999.00,9,  -999.00,9,  -999.00,9,  -999.00,9,  -999.00,9,  -999.00,9,    1.344,2,   1.5565,20040907,  31
  32H120040910,     6,  2,    220,     20,2,20040907,  23, 71.4477,-152.0262,  218,     51.1,   1.9537,  31.7290,2,  31.7918,2,    361.5,2,   -999.0,9,  -999.00,9,  -999.00,9,  -999.00,9,  -999.00,9,  -999.00,9,  -999.00,9,    1.318,2,   1.9513,20040907,  32
  32H120040910,     6,  2,    219,     19,2,20040907,  23, 71.4477,-152.0262,  218,     51.1,   1.9935,  31.7156,2,-999.0000,9,    361.1,2,   -999.0,9,  -999.00,9,  -999.00,9,  -999.00,9,  -999.00,9,  -999.00,9,  -999.00,9,    1.332,2,   1.9911,20040907,  32
  32H120040910,     6,  2,    221,     21,2,20040907,  23, 71.4477,-152.0262,  218,     51.1,   2.0012,  31.7130,2,-999.0000,9,    361.1,2,   -999.0,9,  -999.00,9,  -999.00,9,  -999.00,9,  -999.00,9,  -999.00,9,  -999.00,9,    1.315,2,   1.9988,20040907,  32
  32H120040910,     6,  2,    223,     23,2,20040907,  23, 71.4477,-152.0262,  218,     51.1,   2.0034,  31.7133,2,-999.0000,9,    360.9,2,   -999.0,9,  -999.00,9,  -999.00,9,  -999.00,9,  -999.00,9,  -999.00,9,  -999.00,9,    1.365,2,   2.0010,20040907,  32
  32H120040910,     6,  2,    215,     15,2,20040907,  23, 71.4477,-152.0262,  218,     51.2,   1.6195,  31.7731,2,-999.0000,9,    366.5,2,   -999.0,9,  -999.00,9,  -999.00,9,  -999.00,9,  -999.00,9,  -999.00,9,  -999.00,9,    1.281,2,   1.6172,20040907,  31
  32H120040910,     6,  2,    216,     16,2,20040907,  23, 71.4477,-152.0262,  218,     51.2,   1.6379,  31.7920,2,  31.8213,2,    366.5,2,   -999.0,9,  -999.00,9,  -999.00,9,  -999.00,9,  -999.00,9,  -999.00,9,  -999.00,9,    1.387,2,   1.6356,20040907,  31
  32H120040910,     6,  2,    217,     17,2,20040907,  23, 71.4477,-152.0262,  218,     51.2,   1.9263,  31.7218,2,-999.0000,9,    364.7,2,   -999.0,9,  -999.00,9,  -999.00,9,  -999.00,9,  -999.00,9,  -999.00,9,  -999.00,9,    1.312,2,   1.9239,20040907,  31
  32H120040910,     6,  2,    218,     18,2,20040907,  23, 71.4477,-152.0262,  218,     51.2,   1.9821,  31.7155,2,  31.7650,2,    361.8,2,   -999.0,9,  -999.00,9,  -999.00,9,  -999.00,9,  -999.00,9,  -999.00,9,  -999.00,9,    1.324,2,   1.9797,20040907,  31
  32H120040910,     6,  2,    224,     24,2,20040907,  23, 71.4477,-152.0262,  218,     51.2,   1.9943,  31.7150,2,-999.0000,9,    361.1,2,   -999.0,9,  -999.00,9,  -999.00,9,  -999.00,9,  -999.00,9,  -999.00,9,  -999.00,9,    1.348,2,   1.9919,20040907,  32
  32H120040910,     6,  2,    222,     22,2,20040907,  23, 71.4477,-152.0262,  218,     51.2,   2.0003,  31.7136,2,  31.7624,2,    361.1,2,   -999.0,9,  -999.00,9,  -999.00,9,  -999.00,9,  -999.00,9,  -999.00,9,  -999.00,9,    1.332,2,   1.9979,20040907,  32
  32H120040910,     6,  2,    202,      2,2,20040907,  23, 71.4477,-152.0262,  218,    101.6,  -1.3381,  32.5926,2,  32.5928,2,    331.6,2,   -999.0,9,  -999.00,9,  -999.00,9,  -999.00,9,  -999.00,9,  -999.00,9,  -999.00,9,    1.514,2,  -1.3402,20040907,  26
  32H120040910,     6,  2,    203,      3,2,20040907,  23, 71.4477,-152.0262,  218,    103.5,  -1.3385,  32.5969,2,-999.0000,9,    329.7,2,   -999.0,9,  -999.00,9,  -999.00,9,  -999.00,9,  -999.00,9,  -999.00,9,  -999.00,9,    1.566,2,  -1.3406,20040907,  27
  32H120040910,     6,  2,    204,      4,2,20040907,  23, 71.4477,-152.0262,  218,    103.8,  -1.3387,  32.5973,2,  32.5951,2,    329.9,2,   -999.0,9,  -999.00,9,  -999.00,9,  -999.00,9,  -999.00,9,  -999.00,9,  -999.00,9,    1.511,2,  -1.3408,20040907,  27
  32H120040910,     6,  2,    205,      5,2,20040907,  23, 71.4477,-152.0262,  218,    104.1,  -1.3380,  32.5969,2,-999.0000,9,    329.7,2,   -999.0,9,  -999.00,9,  -999.00,9,  -999.00,9,  -999.00,9,  -999.00,9,  -999.00,9,    1.486,2,  -1.3401,20040907,  27
  32H120040910,     6,  2,    206,      6,2,20040907,  23, 71.4477,-152.0262,  218,    104.4,  -1.3378,  32.5969,2,  32.5953,2,    329.6,2,   -999.0,9,  -999.00,9,  -999.00,9,  -999.00,9,  -999.00,9,  -999.00,9,  -999.00,9,    1.496,2,  -1.3400,20040907,  28
  32H120040910,     6,  2,    207,      7,2,20040907,  23, 71.4477,-152.0262,  218,    104.5,  -1.3379,  32.5965,2,-999.0000,9,    329.7,2,   -999.0,9,  -999.00,9,  -999.00,9,  -999.00,9,  -999.00,9,  -999.00,9,  -999.00,9,    1.476,2,  -1.3401,20040907,  28
  32H120040910,     6,  2,    208,      8,2,20040907,  23, 71.4477,-152.0262,  218,    104.6,  -1.3379,  32.5964,2,  32.5951,2,    330.0,2,   -999.0,9,  -999.00,9,  -999.00,9,  -999.00,9,  -999.00,9,  -999.00,9,  -999.00,9,    1.487,2,  -1.3401,20040907,  28
  32H120040910,     6,  2,    209,      9,2,20040907,  23, 71.4477,-152.0262,  218,    104.6,  -1.3384,  32.5969,2,-999.0000,9,    329.9,2,   -999.0,9,  -999.00,9,  -999.00,9,  -999.00,9,  -999.00,9,  -999.00,9,  -999.00,9,    1.498,2,  -1.3406,20040907,  28
  32H120040910,     6,  2,    210,     10,2,20040907,  23, 71.4477,-152.0262,  218,    104.7,  -1.3389,  32.5975,2,  32.5959,2,    329.7,2,   -999.0,9,  -999.00,9,  -999.00,9,  -999.00,9,  -999.00,9,  -999.00,9,  -999.00,9,    1.459,2,  -1.3411,20040907,  28
  32H120040910,     6,  2,    211,     11,2,20040907,  23, 71.4477,-152.0262,  218,    104.8,  -1.3390,  32.5975,2,-999.0000,9,    329.7,2,   -999.0,9,  -999.00,9,  -999.00,9,  -999.00,9,  -999.00,9,  -999.00,9,  -999.00,9,    1.472,2,  -1.3412,20040907,  28
  32H120040910,     6,  2,    212,     12,2,20040907,  23, 71.4477,-152.0262,  218,    104.9,  -1.3384,  32.5972,2,  32.5983,2,    329.7,2,   -999.0,9,  -999.00,9,  -999.00,9,  -999.00,9,  -999.00,9,  -999.00,9,  -999.00,9,    1.447,2,  -1.3406,20040907,  29
  32H120040910,     6,  2,    201,      1,9,20040907,  23, 71.4477,-152.0262,  218,    187.9,  -1.4076,  33.3403,2,-999.0000,9,    278.9,2,   -999.0,9,  -999.00,9,  -999.00,9,  -999.00,9,  -999.00,9,  -999.00,9,  -999.00,9,    1.105,2,  -1.4118,20040907,  23
  32H120040910,     6,  3,    301,      1,2,20040907, 134, 71.4477,-152.0262,  218,    151.2,  -1.6280,  32.8193,2,  32.8243,2,    293.7,2,   -999.0,9,  -999.00,9,  -999.00,9,  -999.00,9,  -999.00,9,  -999.00,9,  -999.00,9,    1.464,2,  -1.6309,20040907, 130
  32H120040910,     6,  3,    302,      2,2,20040907, 134, 71.4477,-152.0262,  218,    153.0,  -1.6323,  32.8247,2,-999.0000,9,    292.6,2,   -999.0,9,  -999.00,9,  -999.00,9,  -999.00,9,  -999.00,9,  -999.00,9,  -999.00,9,    1.471,2,  -1.6352,20040907, 131
  32H120040910,     6,  3,    303,      3,2,20040907, 134, 71.4477,-152.0262,  218,    153.4,  -1.6332,  32.8261,2,  32.8227,2,    292.9,2,   -999.0,9,  -999.00,9,  -999.00,9,  -999.00,9,  -999.00,9,  -999.00,9,  -999.00,9,    1.536,2,  -1.6361,20040907, 131
  32H120040910,     6,  3,    305,      5,2,20040907, 134, 71.4477,-152.0262,  218,    153.7,  -1.6339,  32.8255,2,  32.8277,2,    293.0,2,   -999.0,9,  -999.00,9,  -999.00,9,  -999.00,9,  -999.00,9,  -999.00,9,  -999.00,9,    1.488,2,  -1.6368,20040907, 131
  32H120040910,     6,  3,    304,      4,2,20040907, 134, 71.4477,-152.0262,  218,    153.7,  -1.6340,  32.8264,2,-999.0000,9,    292.8,2,   -999.0,9,  -999.00,9,  -999.00,9,  -999.00,9,  -999.00,9,  -999.00,9,  -999.00,9,    1.484,2,  -1.6369,20040907, 131
  32H120040910,     6,  3,    307,      7,2,20040907, 134, 71.4477,-152.0262,  218,    153.8,  -1.6340,  32.8253,2,  32.8240,2,    292.8,2,   -999.0,9,  -999.00,9,  -999.00,9,  -999.00,9,  -999.00,9,  -999.00,9,  -999.00,9,    1.505,2,  -1.6369,20040907, 132
  32H120040910,     6,  3,    306,      6,2,20040907, 134, 71.4477,-152.0262,  218,    153.8,  -1.6354,  32.8280,2,-999.0000,9,    292.3,2,   -999.0,9,  -999.00,9,  -999.00,9,  -999.00,9,  -999.00,9,  -999.00,9,  -999.00,9,    1.452,2,  -1.6383,20040907, 131
  32H120040910,     6,  3,    308,      8,2,20040907, 134, 71.4477,-152.0262,  218,    154.0,  -1.6357,  32.8281,2,-999.0000,9,    292.6,2,   -999.0,9,  -999.00,9,  -999.00,9,  -999.00,9,  -999.00,9,  -999.00,9,  -999.00,9,    1.495,2,  -1.6386,20040907, 132
  32H120040910,     6,  3,    309,      9,2,20040907, 134, 71.4477,-152.0262,  218,    154.1,  -1.6382,  32.8323,2,  32.8291,2,    291.9,2,   -999.0,9,  -999.00,9,  -999.00,9,  -999.00,9,  -999.00,9,  -999.00,9,  -999.00,9,    1.539,2,  -1.6411,20040907, 132
  32H120040910,     6,  3,    310,     10,2,20040907, 134, 71.4477,-152.0262,  218,    154.1,  -1.6383,  32.8328,2,-999.0000,9,    291.9,2,   -999.0,9,  -999.00,9,  -999.00,9,  -999.00,9,  -999.00,9,  -999.00,9,  -999.00,9,    1.465,2,  -1.6412,20040907, 132
  32H120040910,     6,  3,    311,     11,2,20040907, 134, 71.4477,-152.0262,  218,    154.2,  -1.6403,  32.8349,2,  32.8345,2,    291.6,2,   -999.0,9,  -999.00,9,  -999.00,9,  -999.00,9,  -999.00,9,  -999.00,9,  -999.00,9,    1.518,2,  -1.6432,20040907, 133
  32H120040910,     6,  3,    312,     12,2,20040907, 134, 71.4477,-152.0262,  218,    154.3,  -1.6413,  32.8372,2,-999.0000,9,    291.2,2,   -999.0,9,  -999.00,9,  -999.00,9,  -999.00,9,  -999.00,9,  -999.00,9,  -999.00,9,    1.449,2,  -1.6442,20040907, 133
  32H120040910,     6,  3,    313,     13,2,20040907, 134, 71.4477,-152.0262,  218,    154.3,  -1.6433,  32.8403,2,  32.8400,2,    290.8,2,   -999.0,9,  -999.00,9,  -999.00,9,  -999.00,9,  -999.00,9,  -999.00,9,  -999.00,9,    1.586,2,  -1.6462,20040907, 133
  32H120040910,     6,  3,    314,     14,2,20040907, 134, 71.4477,-152.0262,  218,    154.4,  -1.6444,  32.8420,2,-999.0000,9,    290.6,2,   -999.0,9,  -999.00,9,  -999.00,9,  -999.00,9,  -999.00,9,  -999.00,9,  -999.00,9,    1.550,2,  -1.6473,20040907, 133
  32H120040910,     6,  3,    315,     15,2,20040907, 134, 71.4477,-152.0262,  218,    154.4,  -1.6446,  32.8424,2,  32.8353,2,    290.1,2,   -999.0,9,  -999.00,9,  -999.00,9,  -999.00,9,  -999.00,9,  -999.00,9,  -999.00,9,    1.471,2,  -1.6475,20040907, 133
  32H120040910,     6,  3,    316,     16,2,20040907, 134, 71.4477,-152.0262,  218,    154.4,  -1.6459,  32.8469,2,-999.0000,9,    290.0,2,   -999.0,9,  -999.00,9,  -999.00,9,  -999.00,9,  -999.00,9,  -999.00,9,  -999.00,9,    1.421,2,  -1.6488,20040907, 133
  32H120040910,     6,  3,    318,     18,2,20040907, 134, 71.4477,-152.0262,  218,    154.5,  -1.6455,  32.8443,2,-999.0000,9,    289.6,2,   -999.0,9,  -999.00,9,  -999.00,9,  -999.00,9,  -999.00,9,  -999.00,9,  -999.00,9,    1.456,2,  -1.6484,20040907, 134
  32H120040910,     6,  3,    317,     17,2,20040907, 134, 71.4477,-152.0262,  218,    154.5,  -1.6455,  32.8469,2,  32.8391,2,    289.9,2,   -999.0,9,  -999.00,9,  -999.00,9,  -999.00,9,  -999.00,9,  -999.00,9,  -999.00,9,    1.489,2,  -1.6484,20040907, 134
  32H120040910,     6,  3,    319,     19,2,20040907, 134, 71.4477,-152.0262,  218,    154.5,  -1.6476,  32.8507,2,  32.8399,2,    289.3,2,   -999.0,9,  -999.00,9,  -999.00,9,  -999.00,9,  -999.00,9,  -999.00,9,  -999.00,9,    1.449,2,  -1.6505,20040907, 134
  32H120040910,     7,  1,    111,     11,2,20040907,1528, 71.4947,-151.9880,  309,      5.0,   3.5593,  27.3914,2,  27.3999,2,    327.8,2,    349.4,2,     2.57,2,     0.05,2,     0.01,2,     0.41,2,     0.40,2,     0.08,2,    1.594,2,   3.5590,20040907,1555
  32H120040910,     7,  1,    110,     10,2,20040907,1528, 71.4947,-151.9880,  309,     24.5,  -0.4767,  31.1517,2,  31.3731,2,    448.0,2,    457.0,2,     6.76,2,     0.14,2,     0.02,2,     0.84,2,     0.64,2,     0.16,2,    1.605,2,  -0.4773,20040907,1553
  32H120040910,     7,  1,    109,      9,2,20040907,1528, 71.4947,-151.9880,  309,     49.8,  -1.1732,  32.4011,2,  32.4290,2,    366.4,2,    376.5,2,    19.31,2,     5.23,2,     0.14,2,     1.51,2,     0.87,2,     0.20,2,    1.479,2,  -1.1743,20040907,1551
  32H120040910,     7,  1,    108,      8,2,20040907,1528, 71.4947,-151.9880,  309,     74.9,  -1.2515,  32.5491,2,  32.5607,2,    336.5,2,    348.7,2,    25.21,2,     8.20,2,     0.18,2,     1.75,2,     0.97,2,     0.26,2,    1.411,2,  -1.2531,20040907,1548
  32H120040910,     7,  1,    107,      7,2,20040907,1528, 71.4947,-151.9880,  309,    100.1,  -1.5988,  32.8069,2,  32.8140,2,    295.2,2,    306.2,2,    38.61,2,    13.16,2,     0.14,2,     2.11,2,     1.00,2,     0.32,2,    1.500,2,  -1.6007,20040907,1546
  32H120040910,     7,  1,    106,      6,2,20040907,1528, 71.4947,-151.9880,  309,    125.1,  -1.6784,  32.9178,2,  32.9216,2,    277.7,2,    288.9,2,    46.14,2,    15.19,2,     0.10,2,     2.27,2,     0.78,2,     0.41,2,    1.474,2,  -1.6807,20040907,1544
  32H120040910,     7,  1,    105,      5,2,20040907,1528, 71.4947,-151.9880,  309,    151.2,  -1.6539,  33.0056,2,  33.0093,2,    271.2,2,    282.7,2,    48.21,2,    15.64,2,     0.10,2,     2.32,2,     0.64,2,     0.40,2,    1.364,2,  -1.6568,20040907,1542
  32H120040910,     7,  1,    104,      4,2,20040907,1528, 71.4947,-151.9880,  309,    179.5,  -1.2181,  33.6031,2,  33.6012,2,    262.9,2,    274.9,2,    30.19,2,    14.27,2,     0.07,2,     1.73,2,     0.06,2,     0.08,2,    0.834,2,  -1.2225,20040907,1538
  32H120040910,     7,  1,    103,      3,2,20040907,1528, 71.4947,-151.9880,  309,    201.4,  -0.4238,  34.3014,2,  34.2788,2,    255.8,2,    265.9,2,    24.52,2,    13.19,2,     0.19,2,     1.60,2,     0.17,2,     0.23,2,    1.043,2,  -0.4304,20040907,1536
  32H120040910,     7,  1,    102,      2,2,20040907,1528, 71.4947,-151.9880,  309,    250.7,   0.3497,  34.6958,2,  34.6917,2,    265.0,2,    275.2,2,    13.26,2,    13.25,2,     0.08,2,     1.13,2,  -999.00,9,  -999.00,9,    0.730,2,   0.3396,20040907,1532
  32H120040910,     7,  1,    101,      1,2,20040907,1528, 71.4947,-151.9880,  309,    303.7,   0.5039,  34.7457,2,  34.7415,2,    260.6,2,    271.8,2,    15.82,2,    13.04,2,     0.15,2,     1.27,2,  -999.00,9,  -999.00,9,    1.400,2,   0.4910,20040907,1528