BOTTLE,20220815CCHSIOAMB
EXPOCODE,STNNBR,CASTNO,SAMPNO,BTLNBR,BTLNBR_FLAG_W,DATE,TIME,LATITUDE,LONGITUDE,DEPTH,CTDPRS,CTDTMP,CTDSAL,CTDSAL_FLAG_W,SALNTY,SALNTY_FLAG_W,CTDOXY,CTDOXY_FLAG_W,OXYGEN,OXYGEN_FLAG_W,SILCAT,SILCAT_FLAG_W,NITRAT,NITRAT_FLAG_W,NITRIT,NITRIT_FLAG_W,PHSPHT,PHSPHT_FLAG_W,CHLORA,CHLORA_FLAG_W,PHAEO,PHAEO_FLAG_W,FLUORO,FLUORO_FLAG_W,THETA,BTL_DATE,BTL_TIME
,,,,,,,,,,METERS,DBAR,ITS-90,PSS-78,,PSS-78,,UMOL/KG,,UMOL/KG,,UMOL/KG,,UMOL/KG,,UMOL/KG,,UMOL/KG,,UG/L,,UG/L,,VOLTS,,DEG C,,
  32H120040910,    91,  1,    106,      6,2,20040918,2104, 73.6807,-166.0018,  116,      5.5,   0.4726,  26.2255,2,  26.4005,2,    360.8,2,    375.3,2,     4.69,2,     0.16,2,     0.00,2,     0.60,2,     0.21,2,     0.04,2,    1.087,2,   0.4725,20040918,2114
  32H120040910,    91,  1,    105,      5,2,20040918,2104, 73.6807,-166.0018,  116,     30.2,  -1.2104,  31.7643,2,-999.0000,9,    388.2,2,    406.9,2,    16.35,2,     0.10,2,     0.01,2,     1.09,2,     0.88,2,     0.20,2,    1.584,2,  -1.2110,20040918,2112
  32H120040910,    91,  1,    104,      4,2,20040918,2104, 73.6807,-166.0018,  116,     35.5,  -1.4146,  31.9307,2,-999.0000,9,    399.7,2,   -999.0,9,  -999.00,9,  -999.00,9,  -999.00,9,  -999.00,9,     3.03,2,     0.12,2,    2.301,2,  -1.4152,20040918,2110
  32H120040910,    91,  1,    103,      3,2,20040918,2104, 73.6807,-166.0018,  116,     60.3,  -1.6662,  32.7664,2,-999.0000,9,    284.6,2,    286.0,2,    51.46,2,    15.88,2,     0.10,2,     2.38,2,     0.17,2,     0.17,2,    1.097,2,  -1.6673,20040918,2108
  32H120040910,    91,  1,    102,      2,2,20040918,2104, 73.6807,-166.0018,  116,     90.2,  -1.6873,  32.9831,2,-999.0000,9,    260.0,2,    269.8,2,    59.18,2,    17.22,2,     0.06,2,     2.54,2,     0.14,2,     0.17,2,    1.085,2,  -1.6889,20040918,2106
  32H120040910,    91,  1,    101,      1,2,20040918,2104, 73.6807,-166.0018,  116,    111.4,  -1.6986,  33.1560,2,  33.1361,2,    260.2,2,    269.3,2,    60.21,2,    17.90,2,     0.07,2,     2.62,2,     0.17,2,     0.23,2,    1.064,2,  -1.7007,20040918,2104
  32H120040910,    92,  1,    106,      6,2,20040918,2217, 73.7562,-165.9963,  125,      5.7,   0.4721,  26.1722,2,  26.1694,2,    359.8,2,    370.1,2,     3.82,2,     0.12,2,     0.00,2,     0.58,2,     0.16,2,     0.05,2,    1.113,2,   0.4720,20040918,2226
  32H120040910,    92,  1,    105,      5,2,20040918,2217, 73.7562,-165.9963,  125,     29.6,  -1.1031,  31.0977,2,-999.0000,9,    429.3,2,    452.9,2,    12.94,2,     0.11,2,     0.01,2,     1.06,2,     1.76,2,     0.33,2,    1.486,2,  -1.1037,20040918,2224
  32H120040910,    92,  1,    104,      4,2,20040918,2217, 73.7562,-165.9963,  125,     39.2,  -1.1647,  31.9199,2,-999.0000,9,    366.6,2,   -999.0,9,  -999.00,9,  -999.00,9,  -999.00,9,  -999.00,9,     0.51,2,     0.37,2,    1.546,2,  -1.1655,20040918,2223
  32H120040910,    92,  1,    103,      3,2,20040918,2217, 73.7562,-165.9963,  125,     60.0,  -1.5846,  32.4490,2,-999.0000,9,    311.2,2,    320.2,2,    35.42,2,    12.27,2,     0.10,2,     1.90,2,     0.09,2,     0.04,2,    1.101,2,  -1.5857,20040918,2221
  32H120040910,    92,  1,    102,      2,2,20040918,2217, 73.7562,-165.9963,  125,     90.1,  -1.6885,  33.1042,2,-999.0000,9,    256.5,2,    264.6,2,    59.97,2,    17.37,2,     0.06,2,     2.56,2,     0.09,2,     0.23,2,    1.027,2,  -1.6902,20040918,2219
  32H120040910,    92,  1,    101,      1,2,20040918,2217, 73.7562,-165.9963,  125,    119.6,  -1.6036,  33.2489,2,  33.2151,2,    258.2,2,    268.4,2,    59.98,2,    18.03,2,     0.07,2,     2.59,2,     0.07,2,     0.16,2,    0.985,2,  -1.6059,20040918,2217
  32H120040910,    93,  1,    107,      7,2,20040918,2342, 73.8383,-166.0040,  141,      5.9,   0.4052,  26.0211,2,  26.0699,2,    360.4,2,    371.6,2,     4.03,2,     0.21,2,     0.00,2,     0.59,2,     0.18,2,     0.04,2,    1.074,2,   0.4051,20040918,2352
  32H120040910,    93,  1,    106,      6,2,20040918,2342, 73.8383,-166.0040,  141,     29.7,  -0.9197,  31.0983,2,-999.0000,9,    404.4,2,    414.8,2,     7.71,2,     0.21,2,     0.01,2,     0.94,2,     0.26,2,     0.20,2,    1.237,2,  -0.9203,20040918,2350
  32H120040910,    93,  1,    105,      5,2,20040918,2342, 73.8383,-166.0040,  141,     40.7,  -1.2572,  31.8854,2,-999.0000,9,    377.0,2,   -999.0,9,  -999.00,9,  -999.00,9,  -999.00,9,  -999.00,9,     0.41,2,     0.44,2,    1.602,2,  -1.2580,20040918,2349
  32H120040910,    93,  1,    104,      4,2,20040918,2342, 73.8383,-166.0040,  141,     59.1,  -1.6535,  32.3266,2,-999.0000,9,    306.3,2,    316.2,2,    38.10,2,    13.32,2,     0.09,2,     1.99,2,     0.20,2,     0.06,2,    1.063,2,  -1.6545,20040918,2348
  32H120040910,    93,  1,    103,      3,2,20040918,2342, 73.8383,-166.0040,  141,     89.7,  -1.6883,  32.8590,2,-999.0000,9,    289.6,2,    294.9,2,    48.41,2,    15.81,2,     0.06,2,     2.20,2,     0.03,2,     0.07,2,    0.911,2,  -1.6899,20040918,2346
  32H120040910,    93,  1,    102,      2,2,20040918,2342, 73.8383,-166.0040,  141,    120.1,  -1.5609,  33.3133,2,-999.0000,9,    260.8,2,    267.3,2,    56.37,2,    18.31,2,     0.08,2,     2.51,2,     0.04,2,     0.10,2,    0.916,2,  -1.5633,20040918,2344
  32H120040910,    93,  1,    101,      1,2,20040918,2342, 73.8383,-166.0040,  141,    136.4,  -0.2497,  34.3389,2,  34.2033,2,    203.1,2,    208.3,2,    45.03,2,    16.11,2,     0.09,2,     2.14,2,     0.10,2,     0.10,2,    0.894,2,  -0.2543,20040918,2342
  32H120040910,    94,  1,    106,      6,2,20040919,  42, 73.9213,-166.0062,  153,      5.7,   0.8971,  26.7167,2,  26.6774,2,    354.3,2,    364.5,2,     3.42,2,     0.21,2,     0.00,2,     0.58,2,     0.18,2,     0.06,2,    1.127,2,   0.8969,20040919,  51
  32H120040910,    94,  1,    105,      5,2,20040919,  42, 73.9213,-166.0062,  153,     29.9,  -1.0848,  31.5199,2,-999.0000,9,    415.1,2,    423.2,2,    10.99,2,     0.20,2,     0.01,2,     1.03,2,     0.22,2,     0.10,2,    1.306,2,  -1.0854,20040919,  50
  32H120040910,    94,  1,    104,      4,2,20040919,  42, 73.9213,-166.0062,  153,     63.7,  -1.6754,  32.4499,2,-999.0000,9,    297.2,2,    302.3,2,    44.77,2,    15.27,2,     0.09,2,     2.17,2,     0.14,2,     0.14,2,    1.084,2,  -1.6765,20040919,  48
  32H120040910,    94,  1,    103,      3,2,20040919,  42, 73.9213,-166.0062,  153,     89.4,  -1.7067,  32.8524,2,-999.0000,9,    285.1,2,    294.6,2,    50.50,2,    16.29,2,     0.07,2,     2.27,2,     0.06,2,     0.09,2,    0.974,2,  -1.7083,20040919,  46
  32H120040910,    94,  1,    102,      2,2,20040919,  42, 73.9213,-166.0062,  153,    120.4,  -1.3862,  33.4102,2,-999.0000,9,    253.7,2,    259.9,2,    51.25,2,    17.41,2,     0.09,2,     2.39,2,     0.04,2,     0.10,2,    0.896,2,  -1.3888,20040919,  44
  32H120040910,    94,  1,    101,      1,2,20040919,  42, 73.9213,-166.0062,  153,    148.4,  -0.1806,  34.4180,2,  34.4101,2,    215.7,2,    222.3,2,    36.90,2,    15.58,2,     0.10,2,     1.82,2,     0.06,2,     0.10,2,    0.882,2,  -0.1857,20040919,  42
  32H120040910,    95,  1,    107,      7,2,20040919, 153, 74.0042,-166.0010,  185,      5.0,   0.8354,  26.7320,2,  26.7606,2,    354.6,2,    365.4,2,     3.32,2,     0.20,2,     0.00,2,     0.60,2,     0.14,2,     0.05,2,    0.986,2,   0.8353,20040919, 210
  32H120040910,    95,  1,    106,      6,2,20040919, 153, 74.0042,-166.0010,  185,     30.5,  -0.7229,  31.6936,2,-999.0000,9,    391.6,2,    400.3,2,     8.95,2,     1.45,2,     0.03,2,     1.01,2,     0.57,2,     0.29,2,    1.618,2,  -0.7236,20040919, 208
  32H120040910,    95,  1,    105,      5,2,20040919, 153, 74.0042,-166.0010,  185,     60.6,  -1.6713,  32.4675,2,-999.0000,9,    299.1,2,    310.1,2,    40.81,2,    14.17,2,     0.10,2,     2.02,2,     0.10,2,     0.05,2,    0.996,2,  -1.6723,20040919, 205
  32H120040910,    95,  1,    104,      4,2,20040919, 153, 74.0042,-166.0010,  185,     90.7,  -1.7049,  32.9832,2,-999.0000,9,    297.2,2,    306.1,2,    45.64,2,    15.04,2,     0.09,2,     2.11,2,     0.03,2,     0.06,2,    0.901,2,  -1.7065,20040919, 202
  32H120040910,    95,  1,    103,      3,2,20040919, 153, 74.0042,-166.0010,  185,    120.7,  -1.5727,  33.2586,2,-999.0000,9,    263.3,2,    272.2,2,    56.76,2,    17.99,2,     0.08,2,     2.51,2,     0.06,2,     0.12,2,    0.923,2,  -1.5751,20040919, 159
  32H120040910,    95,  1,    102,      2,2,20040919, 153, 74.0042,-166.0010,  185,    150.4,   0.1457,  34.5733,2,-999.0000,9,    226.8,2,    231.7,2,    30.14,2,    14.98,2,     0.03,2,     1.51,2,     0.03,2,     0.09,2,    0.789,2,   0.1400,20040919, 157
  32H120040910,    95,  1,    101,      1,2,20040919, 153, 74.0042,-166.0010,  185,    179.8,   0.2892,  34.6376,2,  34.6391,2,    230.2,2,    237.7,2,    28.03,2,    14.69,2,     0.05,2,     1.42,2,     0.03,2,     0.08,2,    0.761,2,   0.2821,20040919, 153
  32H120040910,    96,  1,    109,      9,2,20040919, 308, 74.0867,-166.0022,  212,      6.2,   1.2799,  27.1939,2,  27.4433,2,    355.7,2,    384.3,2,     3.32,2,     0.19,2,     0.00,2,     0.61,2,     0.25,2,     0.00,2,    1.120,2,   1.2797,20040919, 326
  32H120040910,    96,  1,    108,      8,2,20040919, 308, 74.0867,-166.0022,  212,     29.6,  -0.3570,  31.3752,2,-999.0000,9,    406.2,2,    419.8,2,     5.86,2,     0.23,2,     0.01,2,     0.85,2,  -999.00,9,  -999.00,9,    1.270,2,  -0.3578,20040919, 325
  32H120040910,    96,  1,    107,      7,2,20040919, 308, 74.0867,-166.0022,  212,     39.8,  -1.0547,  31.9892,2,-999.0000,9,    379.2,2,   -999.0,9,  -999.00,9,  -999.00,9,  -999.00,9,  -999.00,9,     0.72,2,     0.21,2,    1.623,2,  -1.0555,20040919, 323
  32H120040910,    96,  1,    106,      6,2,20040919, 308, 74.0867,-166.0022,  212,     60.0,  -1.3565,  32.4995,2,-999.0000,9,    322.7,2,    335.4,2,    25.25,2,     9.31,2,     0.16,2,     1.66,2,     0.20,2,     0.05,2,    0.934,2,  -1.3577,20040919, 320
  32H120040910,    96,  1,    105,      5,2,20040919, 308, 74.0867,-166.0022,  212,     89.4,  -1.5833,  32.9324,2,-999.0000,9,    297.2,2,    310.8,2,    36.55,2,    13.07,2,     0.12,2,     1.92,2,     0.03,2,     0.07,2,    0.852,2,  -1.5850,20040919, 317
  32H120040910,    96,  1,    104,      4,2,20040919, 308, 74.0867,-166.0022,  212,    120.5,  -1.6420,  33.2250,2,-999.0000,9,    287.7,2,    298.5,2,    49.03,2,    17.00,2,     0.08,2,     2.24,2,     0.03,2,     0.11,2,    0.873,2,  -1.6443,20040919, 315
  32H120040910,    96,  1,    103,      3,2,20040919, 308, 74.0867,-166.0022,  212,    149.7,  -0.2844,  34.3751,2,-999.0000,9,    238.0,2,    246.2,2,    27.64,2,    14.66,2,     0.03,2,     1.51,2,  -999.00,9,  -999.00,9,    0.768,2,  -0.2894,20040919, 312
  32H120040910,    96,  1,    102,      2,2,20040919, 308, 74.0867,-166.0022,  212,    180.2,   0.3143,  34.6478,2,-999.0000,9,    252.5,2,    260.3,2,    18.22,2,    13.68,2,     0.06,2,     1.15,2,     0.04,2,     0.05,2,    0.670,2,   0.3072,20040919, 310
  32H120040910,    96,  1,    101,      1,2,20040919, 308, 74.0867,-166.0022,  212,    206.7,   0.4364,  34.6881,2,  34.6836,2,    251.8,2,    259.6,2,    18.64,2,    13.68,2,     0.06,2,     1.14,2,  -999.00,9,  -999.00,9,    0.692,2,   0.4280,20040919, 308
  32H120040910,   100,  1,    102,      2,2,20040919,1458, 75.1012,-168.0035,  166,      5.0,  -0.2146,  26.8705,2,  26.8744,2,    361.1,2,   -999.0,9,  -999.00,9,  -999.00,9,  -999.00,9,  -999.00,9,  -999.00,9,  -999.00,9,    0.825,2,  -0.2147,20040919,1504
  32H120040910,   100,  1,    101,      1,2,20040919,1458, 75.1012,-168.0035,  166,    160.6,  -1.0318,  33.8306,2,  33.8320,2,    260.2,2,   -999.0,9,  -999.00,9,  -999.00,9,  -999.00,9,  -999.00,9,  -999.00,9,  -999.00,9,    0.749,2,  -1.0360,20040919,1458
  32H120040910,   101,  1,    107,      7,2,20040919,2225, 75.5118,-167.8895,  186,      4.4,  -0.2999,  26.9327,2,  26.9288,2,    362.4,2,    373.8,2,     3.13,2,     0.12,2,     0.00,2,     0.62,2,     0.06,2,     0.03,2,    0.782,2,  -0.3000,20040919,2239
  32H120040910,   101,  1,    106,      6,2,20040919,2225, 75.5118,-167.8895,  186,     29.4,  -0.6965,  30.5894,2,-999.0000,9,    408.3,2,    419.0,2,     3.96,2,     0.06,2,     0.00,2,     0.77,2,     0.12,2,     0.06,2,    0.999,2,  -0.6971,20040919,2236
  32H120040910,   101,  1,    105,      5,2,20040919,2225, 75.5118,-167.8895,  186,     49.8,  -1.1123,  31.7748,2,-999.0000,9,    352.2,2,    371.1,2,     9.82,2,     2.87,2,     0.09,2,     1.17,2,     0.41,2,     0.36,2,    1.512,2,  -1.1133,20040919,2235
  32H120040910,   101,  1,    104,      4,2,20040919,2225, 75.5118,-167.8895,  186,     90.5,  -1.5678,  32.5283,2,-999.0000,9,    297.9,2,    311.4,2,    31.65,2,    12.42,2,     0.04,2,     1.78,2,     0.04,2,     0.04,2,    0.854,2,  -1.5695,20040919,2232
  32H120040910,   101,  1,    103,      3,2,20040919,2225, 75.5118,-167.8895,  186,    120.0,  -1.6443,  32.8546,2,-999.0000,9,    300.3,2,    311.3,2,    35.24,2,    13.33,2,     0.04,2,     1.84,2,     0.02,2,     0.05,2,    0.797,2,  -1.6465,20040919,2230
  32H120040910,   101,  1,    102,      2,2,20040919,2225, 75.5118,-167.8895,  186,    151.2,  -1.3297,  33.3855,2,-999.0000,9,    274.4,2,    284.6,2,    31.11,2,    14.46,2,     0.03,2,     1.74,2,     0.02,2,     0.04,2,    0.767,2,  -1.3331,20040919,2227
  32H120040910,   101,  1,    101,      1,2,20040919,2225, 75.5118,-167.8895,  186,    181.4,  -0.8964,  33.9652,2,  33.9434,2,    262.7,2,    272.0,2,    27.00,2,    14.59,2,     0.05,2,     1.55,2,  -999.00,9,  -999.00,9,    0.774,2,  -0.9014,20040919,2225
  32H120040910,   102,  1,    107,      7,2,20040920,  15, 75.5985,-167.9718,  183,      5.5,  -0.2424,  26.9579,2,  26.9701,2,    361.6,2,    373.8,2,     3.17,2,     0.21,2,     0.00,2,     0.62,2,     0.06,2,     0.03,2,    0.781,2,  -0.2425,20040920,  30
  32H120040910,   102,  1,    106,      6,2,20040920,  15, 75.5985,-167.9718,  183,     30.2,  -0.5656,  30.3242,2,-999.0000,9,    399.1,2,    414.6,2,     3.80,2,     0.16,2,     0.00,2,     0.75,2,     0.12,2,     0.07,2,    1.018,2,  -0.5663,20040920,  27
  32H120040910,   102,  1,    105,      5,2,20040920,  15, 75.5985,-167.9718,  183,     60.5,  -1.3921,  32.0782,2,-999.0000,9,    321.9,2,    332.6,2,    20.89,2,     8.51,2,     0.12,2,     1.51,2,     0.20,2,     0.13,2,    1.221,2,  -1.3932,20040920,  25
  32H120040910,   102,  1,    104,      4,2,20040920,  15, 75.5985,-167.9718,  183,     90.4,  -1.6146,  32.5111,2,-999.0000,9,    302.4,2,    313.6,2,    32.22,2,    12.46,2,     0.05,2,     1.78,2,     0.02,2,     0.03,2,    0.830,2,  -1.6162,20040920,  22
  32H120040910,   102,  1,    103,      3,2,20040920,  15, 75.5985,-167.9718,  183,    120.8,  -1.6365,  32.8876,2,-999.0000,9,    299.3,2,    310.7,2,    35.51,2,    13.45,2,     0.05,2,     1.85,2,     0.02,2,     0.04,2,    0.806,2,  -1.6388,20040920,  20
  32H120040910,   102,  1,    102,      2,2,20040920,  15, 75.5985,-167.9718,  183,    150.5,  -1.3018,  33.4572,2,-999.0000,9,    274.9,2,    283.9,2,    30.94,2,    14.64,2,     0.05,2,     1.73,2,     0.02,2,     0.04,2,    0.783,2,  -1.3053,20040920,  18
  32H120040910,   102,  1,    101,      1,2,20040920,  15, 75.5985,-167.9718,  183,    177.9,  -0.8778,  33.9915,2,  33.9874,2,    258.0,2,    265.9,2,    28.07,2,    14.91,2,     0.06,2,     1.55,2,  -999.00,9,  -999.00,9,    0.733,2,  -0.8828,20040920,  15
  32H120040910,   103,  1,    108,      8,2,20040920, 138, 75.6845,-168.0725,  201,      4.5,  -0.1592,  26.8584,2,  26.8677,2,    360.9,2,    372.5,2,     2.90,2,     0.20,2,     0.00,2,     0.61,2,     0.08,2,     0.04,2,    0.845,2,  -0.1593,20040920, 156
  32H120040910,   103,  1,    107,      7,2,20040920, 138, 75.6845,-168.0725,  201,     29.8,  -0.4747,  30.3255,2,-999.0000,9,    397.1,2,    412.0,2,     3.64,2,     0.15,2,     0.01,2,     0.75,2,     0.12,2,     0.07,2,    0.998,2,  -0.4754,20040920, 153
  32H120040910,   103,  1,    106,      6,2,20040920, 138, 75.6845,-168.0725,  201,     59.4,  -1.0470,  32.0022,2,-999.0000,9,    320.7,2,    330.7,2,    17.82,2,     8.06,2,     0.08,2,     1.44,2,     0.19,2,     0.15,2,    1.249,2,  -1.0483,20040920, 151
  32H120040910,   103,  1,    105,      5,2,20040920, 138, 75.6845,-168.0725,  201,     89.9,  -1.4817,  32.4385,2,-999.0000,9,    296.2,2,    306.8,2,    28.60,2,    12.37,2,     0.04,2,     1.75,2,     0.04,2,     0.02,2,    0.789,2,  -1.4834,20040920, 148
  32H120040910,   103,  1,    104,      4,2,20040920, 138, 75.6845,-168.0725,  201,    120.1,  -1.5637,  32.8052,2,-999.0000,9,    287.5,2,    297.0,2,    31.25,2,    13.61,2,     0.04,2,     1.81,2,     0.02,2,     0.04,2,    0.769,2,  -1.5660,20040920, 145
  32H120040910,   103,  1,    103,      3,2,20040920, 138, 75.6845,-168.0725,  201,    149.7,  -1.2205,  33.4865,2,-999.0000,9,    263.6,2,    271.0,2,    30.77,2,    15.07,2,     0.04,2,     1.71,2,     0.01,2,     0.04,2,    0.757,2,  -1.2241,20040920, 143
  32H120040910,   103,  1,    102,      2,2,20040920, 138, 75.6845,-168.0725,  201,    179.9,  -0.5273,  34.1786,2,-999.0000,9,    252.7,2,    260.6,2,    23.93,2,    14.38,2,     0.05,2,     1.39,2,  -999.00,9,  -999.00,9,    0.671,2,  -0.5330,20040920, 140
  32H120040910,   103,  1,    101,      1,2,20040920, 138, 75.6845,-168.0725,  201,    195.8,  -0.4752,  34.3106,2,  34.3095,2,    252.1,2,    260.4,2,    23.77,2,    14.28,2,     0.05,2,     1.37,2,  -999.00,9,  -999.00,9,    0.724,2,  -0.4815,20040920, 138
  32H120040910,   104,  1,    109,      9,2,20040920, 253, 75.7743,-168.1397,  224,      4.8,  -0.2884,  26.9815,2,  26.9891,2,    362.2,2,    373.8,2,     2.98,2,     0.24,2,     0.00,2,     0.62,2,     0.08,2,     0.03,2,    0.808,2,  -0.2885,20040920, 309
  32H120040910,   104,  1,    108,      8,2,20040920, 253, 75.7743,-168.1397,  224,     29.7,  -0.4893,  30.3469,2,-999.0000,9,    396.4,2,    405.0,2,     4.82,2,     0.37,2,     0.02,2,     0.79,2,     0.15,2,     0.10,2,    1.035,2,  -0.4900,20040920, 307
  32H120040910,   104,  1,    107,      7,2,20040920, 253, 75.7743,-168.1397,  224,     49.5,  -0.7557,  31.7372,2,-999.0000,9,    339.4,2,    346.6,2,    14.35,2,     5.47,2,     0.10,2,     1.29,2,     0.32,2,     0.31,2,    1.781,2,  -0.7569,20040920, 305
  32H120040910,   104,  1,    106,      6,2,20040920, 253, 75.7743,-168.1397,  224,     90.5,  -1.4203,  32.4089,2,-999.0000,9,    294.4,2,    306.1,2,    26.70,2,    11.84,2,     0.04,2,     1.71,2,     0.05,2,     0.02,2,    0.774,2,  -1.4221,20040920, 302
  32H120040910,   104,  1,    105,      5,2,20040920, 253, 75.7743,-168.1397,  224,    119.3,  -1.4561,  32.7641,2,-999.0000,9,    276.4,2,    285.5,2,    30.51,2,    13.93,2,     0.04,2,     1.84,2,     0.03,2,     0.03,2,    0.763,2,  -1.4585,20040920, 300
  32H120040910,   104,  1,    104,      4,2,20040920, 253, 75.7743,-168.1397,  224,    149.3,  -1.2914,  33.4930,2,-999.0000,9,    268.0,2,    277.0,2,    30.65,2,    14.73,2,     0.03,2,     1.72,2,     0.01,2,     0.04,2,    0.739,2,  -1.2949,20040920, 258
  32H120040910,   104,  1,    103,      3,2,20040920, 253, 75.7743,-168.1397,  224,    179.9,  -0.6656,  34.2406,2,-999.0000,9,    255.2,2,    263.1,2,    22.74,2,    13.87,2,     0.03,2,     1.35,2,  -999.00,9,  -999.00,9,    0.714,2,  -0.6711,20040920, 256
  32H120040910,   104,  1,    102,      2,2,20040920, 253, 75.7743,-168.1397,  224,    199.4,  -0.2214,  34.4409,2,-999.0000,9,    251.6,2,    259.4,2,    21.74,2,    13.86,2,     0.04,2,     1.26,2,  -999.00,9,  -999.00,9,    0.707,2,  -0.2283,20040920, 254
  32H120040910,   104,  1,    101,      1,2,20040920, 253, 75.7743,-168.1397,  224,    219.2,   0.0110,  34.5297,2,  34.5311,2,    247.7,2,    255.2,2,    22.42,2,    14.00,2,     0.04,2,     1.25,2,  -999.00,9,  -999.00,9,    0.672,2,   0.0029,20040920, 253