BOTTLE,20220815CCHSIOAMB
EXPOCODE,STNNBR,CASTNO,SAMPNO,BTLNBR,BTLNBR_FLAG_W,DATE,TIME,LATITUDE,LONGITUDE,DEPTH,CTDPRS,CTDTMP,CTDSAL,CTDSAL_FLAG_W,SALNTY,SALNTY_FLAG_W,CTDOXY,CTDOXY_FLAG_W,OXYGEN,OXYGEN_FLAG_W,SILCAT,SILCAT_FLAG_W,NITRAT,NITRAT_FLAG_W,NITRIT,NITRIT_FLAG_W,PHSPHT,PHSPHT_FLAG_W,CHLORA,CHLORA_FLAG_W,PHAEO,PHAEO_FLAG_W,FLUORO,FLUORO_FLAG_W,THETA,BTL_DATE,BTL_TIME
,,,,,,,,,,METERS,DBAR,ITS-90,PSS-78,,PSS-78,,UMOL/KG,,UMOL/KG,,UMOL/KG,,UMOL/KG,,UMOL/KG,,UMOL/KG,,UG/L,,UG/L,,VOLTS,,DEG C,,
  32H120040910,    78,  1,    118,     18,2,20040916,2147, 72.5118,-156.4793, 1047,      5.0,   1.4701,  26.2701,2,  26.9289,2,    347.9,2,    362.2,2,     3.29,2,     0.10,2,     0.00,2,     0.56,2,     0.22,2,     0.12,2,    1.118,2,   1.4699,20040916,2239
  32H120040910,    78,  1,    117,     17,2,20040916,2147, 72.5118,-156.4793, 1047,     29.9,  -0.0779,  29.8052,2,-999.0000,9,    379.3,2,    392.1,2,     4.25,2,     0.09,2,     0.01,2,     0.76,2,     0.13,2,     0.10,2,    1.029,2,  -0.0787,20040916,2236
  32H120040910,    78,  1,    116,     16,2,20040916,2147, 72.5118,-156.4793, 1047,     60.3,  -1.0543,  32.0045,2,-999.0000,9,    317.7,2,    319.5,2,    17.76,2,     8.79,2,     0.06,2,     1.46,2,     0.10,2,     0.13,2,    1.215,2,  -1.0556,20040916,2234
  32H120040910,    78,  1,    115,     15,2,20040916,2147, 72.5118,-156.4793, 1047,     90.1,  -1.3961,  32.4976,2,-999.0000,9,    287.5,2,    296.9,2,    25.52,2,    12.20,2,     0.02,2,     1.69,2,     0.03,2,     0.02,2,    0.738,2,  -1.3979,20040916,2231
  32H120040910,    78,  1,    114,     14,2,20040916,2147, 72.5118,-156.4793, 1047,    120.4,  -1.5105,  32.7765,2,  32.7802,2,    280.8,2,    289.3,2,    30.15,2,    13.88,2,     0.02,2,     1.80,2,     0.01,2,     0.01,2,    0.739,2,  -1.5129,20040916,2228
  32H120040910,    78,  1,    113,     13,2,20040916,2147, 72.5118,-156.4793, 1047,    150.4,  -1.5284,  33.0785,2,-999.0000,9,    276.3,2,    283.8,2,    32.82,2,    14.34,2,     0.07,2,     1.82,2,     0.02,2,     0.03,2,    0.799,2,  -1.5315,20040916,2225
  32H120040910,    78,  1,    112,     12,2,20040916,2147, 72.5118,-156.4793, 1047,    179.9,  -1.3345,  33.6191,2,-999.0000,9,    274.4,2,    285.3,2,    29.25,2,    13.97,2,     0.07,2,     1.65,2,  -999.00,9,  -999.00,9,    0.739,2,  -1.3387,20040916,2222
  32H120040910,    78,  1,    111,     11,2,20040916,2147, 72.5118,-156.4793, 1047,    210.1,  -0.8675,  34.1798,2,-999.0000,9,    269.1,2,    274.9,2,    20.33,2,    13.63,2,     0.02,2,     1.33,2,  -999.00,9,  -999.00,9,    0.706,2,  -0.8735,20040916,2219
  32H120040910,    78,  1,    110,     10,2,20040916,2147, 72.5118,-156.4793, 1047,    260.5,   0.2453,  34.6435,2,-999.0000,9,    267.6,2,    277.0,2,    11.73,2,    13.03,2,     0.02,2,     1.03,2,  -999.00,9,  -999.00,9,    0.687,2,   0.2350,20040916,2216
  32H120040910,    78,  1,    109,      9,2,20040916,2147, 72.5118,-156.4793, 1047,    300.6,   0.6407,  34.7584,2,-999.0000,9,    271.2,2,    282.1,2,     9.67,2,    12.93,2,     0.03,2,     0.98,2,  -999.00,9,  -999.00,9,    0.665,2,   0.6276,20040916,2213
  32H120040910,    78,  1,    108,      8,2,20040916,2147, 72.5118,-156.4793, 1047,    400.4,   0.7207,  34.8280,2,  34.8310,2,    280.5,2,    289.6,2,     8.21,2,    12.75,2,     0.02,2,     0.93,2,  -999.00,9,  -999.00,9,    0.615,2,   0.7026,20040916,2209
  32H120040910,    78,  1,    107,      7,2,20040916,2147, 72.5118,-156.4793, 1047,    500.8,   0.6125,  34.8463,2,  34.8490,2,    281.6,2,    291.1,2,     8.68,2,    12.80,2,     0.02,2,     0.93,2,  -999.00,9,  -999.00,9,    0.629,2,   0.5899,20040916,2206
  32H120040910,    78,  1,    106,      6,2,20040916,2147, 72.5118,-156.4793, 1047,    600.2,   0.5068,  34.8523,2,  34.8545,2,    283.6,2,    294.4,2,     8.15,2,    12.72,2,     0.02,2,     0.93,2,  -999.00,9,  -999.00,9,    0.619,2,   0.4797,20040916,2203
  32H120040910,    78,  1,    105,      5,2,20040916,2147, 72.5118,-156.4793, 1047,    700.7,   0.3494,  34.8604,2,  34.8636,2,    284.9,2,    295.7,2,     7.90,2,    12.73,2,     0.01,2,     0.93,2,  -999.00,9,  -999.00,9,    0.631,2,   0.3180,20040916,2200
  32H120040910,    78,  1,    104,      4,2,20040916,2147, 72.5118,-156.4793, 1047,    800.5,   0.2043,  34.8664,2,  34.8683,2,    285.7,2,    297.4,2,     7.86,2,    12.73,2,     0.02,2,     0.93,2,  -999.00,9,  -999.00,9,    0.605,2,   0.1687,20040916,2157
  32H120040910,    78,  1,    103,      3,2,20040916,2147, 72.5118,-156.4793, 1047,    900.9,   0.1637,  34.8684,2,  34.8712,2,    285.9,2,    298.4,2,     7.82,2,    12.77,2,     0.02,2,     0.93,2,  -999.00,9,  -999.00,9,    0.592,2,   0.1231,20040916,2154
  32H120040910,    78,  1,    102,      2,2,20040916,2147, 72.5118,-156.4793, 1047,   1001.0,   0.0814,  34.8733,2,  34.8763,2,    285.8,2,    296.9,2,     8.10,2,    12.82,2,     0.02,2,     0.94,2,  -999.00,9,  -999.00,9,    0.587,2,   0.0361,20040916,2150
  32H120040910,    78,  1,    101,      1,2,20040916,2147, 72.5118,-156.4793, 1047,   1042.3,   0.0161,  34.8776,2,  34.8796,2,    286.0,2,    297.7,2,     8.06,2,    12.82,2,     0.02,2,     0.94,2,  -999.00,9,  -999.00,9,    0.608,2,  -0.0309,20040916,2147
  32H120040910,    79,  1,    102,      2,2,20040917,1433, 73.6113,-166.0232,  111,      4.9,   0.3732,  26.1756,2,  26.1735,2,    360.2,2,   -999.0,9,  -999.00,9,  -999.00,9,  -999.00,9,  -999.00,9,  -999.00,9,  -999.00,9,    1.122,2,   0.3731,20040917,1438
  32H120040910,    79,  1,    101,      1,2,20040917,1433, 73.6113,-166.0232,  111,    106.4,  -1.6704,  33.1723,2,  33.1710,2,    259.4,2,   -999.0,9,  -999.00,9,  -999.00,9,  -999.00,9,  -999.00,9,  -999.00,9,  -999.00,9,    1.084,2,  -1.6724,20040917,1433
  32H120040910,    80,  1,    102,      2,2,20040917,1833, 73.3433,-166.0535,   73,      5.6,   0.2301,  26.1014,2,  27.1124,2,    376.2,2,   -999.0,9,  -999.00,9,  -999.00,9,  -999.00,9,  -999.00,9,  -999.00,9,  -999.00,9,    1.170,2,   0.2300,20040917,1837
  32H120040910,    80,  1,    101,      1,2,20040917,1833, 73.3433,-166.0535,   73,     67.7,  -1.1778,  32.7775,2,  32.7703,2,    275.7,2,   -999.0,9,  -999.00,9,  -999.00,9,  -999.00,9,  -999.00,9,  -999.00,9,  -999.00,9,    1.153,2,  -1.1793,20040917,1833
  32H120040910,    81,  1,    103,      3,2,20040917,2233, 73.2550,-166.0100,   68,      4.8,   0.1890,  25.8239,2,  25.8335,2,    366.6,2,    375.9,2,     5.44,2,     0.10,2,     0.00,2,     0.59,2,     0.21,2,     0.14,2,    0.962,2,   0.1889,20040917,2238
  32H120040910,    81,  1,    102,      2,2,20040917,2233, 73.2550,-166.0100,   68,     32.3,  -1.1438,  32.3229,2,-999.0000,9,    408.5,2,    417.3,2,     7.04,2,     1.58,2,     0.02,2,     1.15,2,     0.82,2,     0.12,2,    1.405,2,  -1.1445,20040917,2236
  32H120040910,    81,  1,    101,      1,2,20040917,2233, 73.2550,-166.0100,   68,     63.3,  -0.8375,  32.7632,2,  32.7666,2,    265.3,2,    272.8,2,    29.47,2,    13.00,2,     0.28,2,     2.36,2,     0.20,2,     0.04,2,    1.157,2,  -0.8391,20040917,2233
  32H120040910,    82,  1,    103,      3,2,20040917,2337, 73.1797,-166.0018,   65,      4.8,   0.0652,  26.6303,2,  26.7407,2,    383.6,2,    396.7,2,     6.89,2,     0.14,2,     0.00,2,     0.66,2,     0.22,2,     0.03,2,    0.953,2,   0.0651,20040917,2340
  32H120040910,    82,  1,    102,      2,2,20040917,2337, 73.1797,-166.0018,   65,     30.4,  -1.6706,  32.3032,2,-999.0000,9,    300.0,2,    308.8,2,    36.02,2,    14.27,2,     0.06,2,     2.16,2,     3.87,2,     0.54,2,    2.266,2,  -1.6711,20040917,2339
  32H120040910,    82,  1,    101,      1,2,20040917,2337, 73.1797,-166.0018,   65,     59.6,  -0.5684,  32.7376,2,  32.7369,2,    265.5,2,    271.6,2,    21.67,2,    12.02,2,     0.20,2,     2.32,2,     0.26,2,     0.14,2,    1.174,2,  -0.5700,20040917,2337
  32H120040910,    83,  1,    106,      6,2,20040918,  40, 73.0967,-166.0058,   62,      9.3,   0.0590,  29.0233,2,  28.5579,2,    448.8,2,    447.4,2,     7.21,2,     0.18,2,     0.00,2,     0.71,2,     0.56,2,     0.02,2,    1.399,2,   0.0588,20040918,  47
  32H120040910,    83,  1,    105,      5,2,20040918,  40, 73.0967,-166.0058,   62,     14.1,  -0.2206,  30.3619,2,-999.0000,9,    483.5,2,    494.2,2,     7.72,2,     0.12,2,     0.00,2,     0.77,2,     0.47,2,     0.01,2,    1.389,2,  -0.2210,20040918,  46
  32H120040910,    83,  1,    104,      4,2,20040918,  40, 73.0967,-166.0058,   62,     30.4,  -0.6200,  32.5407,2,-999.0000,9,    381.6,2,    396.0,2,     7.11,2,     3.84,2,     0.06,2,     1.36,2,     1.80,2,     0.05,2,    1.862,2,  -0.6208,20040918,  45
  32H120040910,    83,  1,    103,      3,2,20040918,  40, 73.0967,-166.0058,   62,     39.1,  -0.2982,  32.6900,2,-999.0000,9,    285.8,2,    299.2,2,     7.32,2,    10.63,2,     0.16,2,     2.11,2,     0.22,2,     0.06,2,    1.446,2,  -0.2993,20040918,  43
  32H120040910,    83,  1,    102,      2,2,20040918,  40, 73.0967,-166.0058,   62,     50.2,  -0.3648,  32.7193,2,-999.0000,9,    269.2,2,    276.2,2,    18.36,2,    11.05,2,     0.17,2,     2.27,2,     0.17,2,     0.16,2,    1.128,2,  -0.3662,20040918,  42
  32H120040910,    83,  1,    101,      1,2,20040918,  40, 73.0967,-166.0058,   62,     57.3,  -0.3815,  32.7206,2,  32.7180,2,    269.0,2,    277.0,2,    17.86,2,    11.04,2,     0.17,2,     2.28,2,     0.20,2,     0.15,2,    1.139,2,  -0.3831,20040918,  40
  32H120040910,    83,  4,    406,      6,2,20040918, 638, 73.0967,-166.0058,   62,      9.4,   0.9627,  29.1845,2,-999.0000,9,    462.2,2,    447.1,2,     7.28,2,     0.12,2,     0.00,2,     0.71,2,     0.56,2,     0.02,2,    1.330,2,   0.9624,20040918, 647
  32H120040910,    83,  4,    405,      5,2,20040918, 638, 73.0967,-166.0058,   62,     15.3,   0.1054,  31.4065,2,-999.0000,9,    464.3,2,    490.4,2,     9.09,2,     0.07,2,     0.00,2,     0.75,2,     0.47,2,     0.01,2,    1.305,2,   0.1049,20040918, 646
  32H120040910,    83,  4,    404,      4,2,20040918, 638, 73.0967,-166.0058,   62,     29.8,   0.0769,  32.6083,2,-999.0000,9,    327.8,2,    345.3,2,     1.51,2,     7.84,2,     0.12,2,     1.65,2,     1.80,2,     0.05,2,    1.727,2,   0.0759,20040918, 644
  32H120040910,    83,  4,    403,      3,2,20040918, 638, 73.0967,-166.0058,   62,     39.2,  -0.2144,  32.7094,2,-999.0000,9,    272.6,2,    281.8,2,    16.75,2,    10.48,2,     0.16,2,     2.21,2,     0.22,2,     0.06,2,    1.146,2,  -0.2156,20040918, 642
  32H120040910,    83,  4,    402,      2,2,20040918, 638, 73.0967,-166.0058,   62,     50.6,  -0.2419,  32.7101,2,  32.7118,2,    270.6,2,    279.9,2,    17.23,2,    10.57,2,     0.16,2,     2.23,2,     0.17,2,     0.16,2,    1.199,2,  -0.2434,20040918, 640
  32H120040910,    83,  4,    401,      1,2,20040918, 638, 73.0967,-166.0058,   62,     55.5,  -0.2539,  32.7106,2,  32.7128,2,    271.0,2,    279.7,2,    17.42,2,    10.62,2,     0.16,2,     2.24,2,     0.20,2,     0.15,2,    1.200,2,  -0.2556,20040918, 638
  32H120040910,    84,  1,    105,      5,2,20040918, 144, 73.0135,-165.9990,   63,      9.0,   1.7465,  28.1730,2,-999.0000,9,    418.0,2,    389.8,2,     5.24,2,     0.16,2,     0.00,2,     0.54,2,     0.53,2,     0.02,2,    1.427,2,   1.7462,20040918, 155
  32H120040910,    84,  1,    104,      4,2,20040918, 144, 73.0135,-165.9990,   63,     14.5,   3.2131,  32.1547,2,-999.0000,9,    440.7,2,    432.0,2,     0.98,2,     0.10,2,     0.01,2,     0.55,2,     1.16,2,     0.03,2,    1.621,2,   3.2123,20040918, 152
  32H120040910,    84,  1,    103,      3,2,20040918, 144, 73.0135,-165.9990,   63,     30.0,   0.8593,  32.5970,2,-999.0000,9,    331.3,2,    337.8,2,     0.08,2,     7.82,2,     0.13,2,     1.57,2,     7.10,2,     0.01,2,    2.397,2,   0.8581,20040918, 150
  32H120040910,    84,  1,    102,      2,2,20040918, 144, 73.0135,-165.9990,   63,     47.5,  -0.1933,  32.7040,2,  32.7056,2,    268.8,2,    276.6,2,    17.73,2,    10.78,2,     0.16,2,     2.26,2,     0.25,2,     0.22,2,    1.287,2,  -0.1947,20040918, 147
  32H120040910,    84,  1,    101,      1,2,20040918, 144, 73.0135,-165.9990,   63,     57.6,  -0.1891,  32.7048,2,  32.7054,2,    269.7,2,    276.1,2,    17.74,2,    10.73,2,     0.16,2,     2.27,2,     0.32,2,     0.16,2,    1.275,2,  -0.1908,20040918, 144
  32H120040910,    85,  1,    105,      5,2,20040918, 812, 72.9335,-165.9787,   58,      9.5,   2.8724,  29.3935,2,-999.0000,9,    391.3,2,    401.5,2,     4.37,2,     0.17,2,     0.00,2,     0.45,2,     0.72,2,     0.07,2,    1.529,2,   2.8719,20040918, 818
  32H120040910,    85,  1,    104,      4,2,20040918, 812, 72.9335,-165.9787,   58,     15.3,   1.1350,  30.9803,2,-999.0000,9,    450.0,2,    443.9,2,     5.88,2,     0.07,2,     0.00,2,     0.58,2,     0.55,2,     0.09,2,    1.424,2,   1.1344,20040918, 817
  32H120040910,    85,  1,    103,      3,2,20040918, 812, 72.9335,-165.9787,   58,     30.1,   1.4454,  32.6395,2,-999.0000,9,    348.7,2,    367.3,2,     0.35,2,     6.85,2,     0.13,2,     1.26,2,     0.33,2,     0.01,2,    1.247,2,   1.4441,20040918, 815
  32H120040910,    85,  1,    102,      2,2,20040918, 812, 72.9335,-165.9787,   58,     45.4,   0.6450,  32.6793,2,  32.6818,2,    295.2,2,    303.9,2,     7.97,2,     9.41,2,     0.14,2,     1.92,2,     0.68,2,     0.02,2,    1.403,2,   0.6433,20040918, 813
  32H120040910,    85,  1,    101,      1,2,20040918, 812, 72.9335,-165.9787,   58,     52.6,  -0.1530,  32.7047,2,  32.6964,2,    271.6,2,    284.7,2,    15.04,2,    10.45,2,     0.15,2,     2.15,2,     0.60,2,     0.27,2,    1.399,2,  -0.1546,20040918, 812
  32H120040910,    85,  2,    220,     20,2,20040918, 926, 72.9335,-165.9787,   58,     29.8,   1.4948,  32.5978,2,-999.0000,9,    357.7,2,   -999.0,9,  -999.00,9,  -999.00,9,  -999.00,9,  -999.00,9,  -999.00,9,  -999.00,9,    1.495,2,   1.4935,20040918, 928
  32H120040910,    85,  2,    216,     16,2,20040918, 926, 72.9335,-165.9787,   58,     29.8,   1.5363,  32.5992,2,  32.6045,2,    359.5,2,   -999.0,9,  -999.00,9,  -999.00,9,  -999.00,9,  -999.00,9,  -999.00,9,  -999.00,9,    1.452,2,   1.5350,20040918, 927
  32H120040910,    85,  2,    204,      4,2,20040918, 926, 72.9335,-165.9787,   58,     29.9,   1.4714,  32.5954,2,  32.6033,2,    359.7,2,   -999.0,9,  -999.00,9,  -999.00,9,  -999.00,9,  -999.00,9,  -999.00,9,  -999.00,9,    1.461,2,   1.4701,20040918, 926
  32H120040910,    85,  2,    219,     19,2,20040918, 926, 72.9335,-165.9787,   58,     29.9,   1.4823,  32.5989,2,  32.6048,2,    358.8,2,   -999.0,9,  -999.00,9,  -999.00,9,  -999.00,9,  -999.00,9,  -999.00,9,  -999.00,9,    1.440,2,   1.4810,20040918, 928
  32H120040910,    85,  2,    218,     18,2,20040918, 926, 72.9335,-165.9787,   58,     29.9,   1.4968,  32.5978,2,-999.0000,9,    359.3,2,   -999.0,9,  -999.00,9,  -999.00,9,  -999.00,9,  -999.00,9,  -999.00,9,  -999.00,9,    1.495,2,   1.4955,20040918, 928
  32H120040910,    85,  2,    212,     12,2,20040918, 926, 72.9335,-165.9787,   58,     29.9,   1.5004,  32.5986,2,-999.0000,9,    360.2,2,   -999.0,9,  -999.00,9,  -999.00,9,  -999.00,9,  -999.00,9,  -999.00,9,  -999.00,9,    1.369,2,   1.4991,20040918, 927
  32H120040910,    85,  2,    210,     10,2,20040918, 926, 72.9335,-165.9787,   58,     29.9,   1.5005,  32.5964,2,  32.6052,2,    360.5,2,   -999.0,9,  -999.00,9,  -999.00,9,  -999.00,9,  -999.00,9,  -999.00,9,  -999.00,9,    1.470,2,   1.4992,20040918, 927
  32H120040910,    85,  2,    214,     14,2,20040918, 926, 72.9335,-165.9787,   58,     29.9,   1.5061,  32.6006,2,-999.0000,9,    359.2,2,   -999.0,9,  -999.00,9,  -999.00,9,  -999.00,9,  -999.00,9,  -999.00,9,  -999.00,9,    1.356,2,   1.5048,20040918, 927
  32H120040910,    85,  2,    207,      7,2,20040918, 926, 72.9335,-165.9787,   58,     29.9,   1.5079,  32.5967,2,  32.6056,2,    359.9,2,   -999.0,9,  -999.00,9,  -999.00,9,  -999.00,9,  -999.00,9,  -999.00,9,  -999.00,9,    1.434,2,   1.5066,20040918, 926
  32H120040910,    85,  2,    201,      1,2,20040918, 926, 72.9335,-165.9787,   58,     30.0,   1.4665,  32.5963,2,  32.6051,2,    357.9,2,   -999.0,9,  -999.00,9,  -999.00,9,  -999.00,9,  -999.00,9,  -999.00,9,  -999.00,9,    1.482,2,   1.4652,20040918, 925
  32H120040910,    85,  2,    203,      3,2,20040918, 926, 72.9335,-165.9787,   58,     30.0,   1.4685,  32.5960,2,-999.0000,9,    358.6,2,   -999.0,9,  -999.00,9,  -999.00,9,  -999.00,9,  -999.00,9,  -999.00,9,  -999.00,9,    1.505,2,   1.4672,20040918, 926
  32H120040910,    85,  2,    205,      5,2,20040918, 926, 72.9335,-165.9787,   58,     30.0,   1.4813,  32.5957,2,-999.0000,9,    359.7,2,   -999.0,9,  -999.00,9,  -999.00,9,  -999.00,9,  -999.00,9,  -999.00,9,  -999.00,9,    1.521,2,   1.4800,20040918, 926
  32H120040910,    85,  2,    211,     11,2,20040918, 926, 72.9335,-165.9787,   58,     30.0,   1.4865,  32.5978,2,-999.0000,9,    360.3,2,   -999.0,9,  -999.00,9,  -999.00,9,  -999.00,9,  -999.00,9,  -999.00,9,  -999.00,9,    1.349,2,   1.4852,20040918, 927
  32H120040910,    85,  2,    221,     21,2,20040918, 926, 72.9335,-165.9787,   58,     30.0,   1.4869,  32.6010,2,-999.0000,9,    357.0,2,   -999.0,9,  -999.00,9,  -999.00,9,  -999.00,9,  -999.00,9,  -999.00,9,  -999.00,9,    1.446,2,   1.4856,20040918, 928
  32H120040910,    85,  2,    209,      9,2,20040918, 926, 72.9335,-165.9787,   58,     30.0,   1.4922,  32.5993,2,-999.0000,9,    360.2,2,   -999.0,9,  -999.00,9,  -999.00,9,  -999.00,9,  -999.00,9,  -999.00,9,  -999.00,9,    1.415,2,   1.4909,20040918, 926
  32H120040910,    85,  2,    215,     15,2,20040918, 926, 72.9335,-165.9787,   58,     30.0,   1.4964,  32.5991,2,-999.0000,9,    359.1,2,   -999.0,9,  -999.00,9,  -999.00,9,  -999.00,9,  -999.00,9,  -999.00,9,  -999.00,9,    1.579,2,   1.4951,20040918, 927
  32H120040910,    85,  2,    202,      2,2,20040918, 926, 72.9335,-165.9787,   58,     30.1,   1.4651,  32.5958,2,-999.0000,9,    358.1,2,   -999.0,9,  -999.00,9,  -999.00,9,  -999.00,9,  -999.00,9,  -999.00,9,  -999.00,9,    1.469,2,   1.4638,20040918, 926
  32H120040910,    85,  2,    206,      6,2,20040918, 926, 72.9335,-165.9787,   58,     30.1,   1.4765,  32.5964,2,-999.0000,9,    359.9,2,   -999.0,9,  -999.00,9,  -999.00,9,  -999.00,9,  -999.00,9,  -999.00,9,  -999.00,9,    1.505,2,   1.4752,20040918, 926
  32H120040910,    85,  2,    213,     13,2,20040918, 926, 72.9335,-165.9787,   58,     30.1,   1.4776,  32.5979,2,  32.6047,2,    360.1,2,   -999.0,9,  -999.00,9,  -999.00,9,  -999.00,9,  -999.00,9,  -999.00,9,  -999.00,9,    1.474,2,   1.4763,20040918, 927
  32H120040910,    85,  2,    217,     17,2,20040918, 926, 72.9335,-165.9787,   58,     30.1,   1.4837,  32.5983,2,-999.0000,9,    359.1,2,   -999.0,9,  -999.00,9,  -999.00,9,  -999.00,9,  -999.00,9,  -999.00,9,  -999.00,9,    1.359,2,   1.4824,20040918, 928
  32H120040910,    85,  2,    208,      8,2,20040918, 926, 72.9335,-165.9787,   58,     30.1,   1.4852,  32.5966,2,-999.0000,9,    359.8,2,   -999.0,9,  -999.00,9,  -999.00,9,  -999.00,9,  -999.00,9,  -999.00,9,  -999.00,9,    1.409,2,   1.4839,20040918, 926