BOTTLE,20220815CCHSIOAMB
EXPOCODE,STNNBR,CASTNO,SAMPNO,BTLNBR,BTLNBR_FLAG_W,DATE,TIME,LATITUDE,LONGITUDE,DEPTH,CTDPRS,CTDTMP,CTDSAL,CTDSAL_FLAG_W,SALNTY,SALNTY_FLAG_W,CTDOXY,CTDOXY_FLAG_W,OXYGEN,OXYGEN_FLAG_W,SILCAT,SILCAT_FLAG_W,NITRAT,NITRAT_FLAG_W,NITRIT,NITRIT_FLAG_W,PHSPHT,PHSPHT_FLAG_W,CHLORA,CHLORA_FLAG_W,PHAEO,PHAEO_FLAG_W,FLUORO,FLUORO_FLAG_W,THETA,BTL_DATE,BTL_TIME
,,,,,,,,,,METERS,DBAR,ITS-90,PSS-78,,PSS-78,,UMOL/KG,,UMOL/KG,,UMOL/KG,,UMOL/KG,,UMOL/KG,,UMOL/KG,,UG/L,,UG/L,,VOLTS,,DEG C,,
  32H120040910,   121,  1,    115,     15,2,20040925,1717, 73.5237,-160.5067,  306,     10.2,   1.5054,  26.7795,2,  26.9171,2,    347.9,2,    357.3,2,     3.05,2,     0.12,2,     0.00,2,     0.50,2,     0.23,2,     0.09,2,    1.208,2,   1.5051,20040925,1742
  32H120040910,   121,  1,    114,     14,2,20040925,1717, 73.5237,-160.5067,  306,     19.6,   0.5376,  28.7397,2,-999.0000,9,    376.9,2,   -999.0,9,  -999.00,9,  -999.00,9,  -999.00,9,  -999.00,9,     0.20,2,     0.05,2,    1.139,2,   0.5370,20040925,1741
  32H120040910,   121,  1,    113,     13,2,20040925,1717, 73.5237,-160.5067,  306,     29.7,  -0.1088,  29.8454,2,  30.1220,2,    382.6,2,    392.0,2,     3.75,2,     0.06,2,     0.00,2,     0.70,2,     0.19,2,     0.09,2,    1.080,2,  -0.1096,20040925,1740
  32H120040910,   121,  1,    112,     12,2,20040925,1717, 73.5237,-160.5067,  306,     40.0,   0.9497,  30.9493,2,-999.0000,9,    373.1,2,   -999.0,9,  -999.00,9,  -999.00,9,  -999.00,9,  -999.00,9,     0.35,2,     0.16,2,    1.497,2,   0.9482,20040925,1738
  32H120040910,   121,  1,    111,     11,2,20040925,1717, 73.5237,-160.5067,  306,     50.5,   1.1085,  31.5489,2,  31.5144,2,    368.4,2,    380.3,2,     6.70,2,     0.46,2,     0.16,2,     0.86,2,     0.77,2,     0.06,2,    1.449,2,   1.1065,20040925,1737
  32H120040910,   121,  1,    110,     10,2,20040925,1717, 73.5237,-160.5067,  306,     60.1,   0.0298,  31.8461,2,-999.0000,9,    358.8,2,   -999.0,9,  -999.00,9,  -999.00,9,  -999.00,9,  -999.00,9,     0.27,2,     0.09,2,    1.268,2,   0.0280,20040925,1735
  32H120040910,   121,  1,    109,      9,2,20040925,1717, 73.5237,-160.5067,  306,     79.8,  -1.1261,  32.2162,2,-999.0000,9,    330.3,2,   -999.0,9,    19.48,2,     7.09,2,     0.19,2,     1.44,2,  -999.00,9,  -999.00,9,    0.927,2,  -1.1278,20040925,1733
  32H120040910,   121,  1,    108,      8,2,20040925,1717, 73.5237,-160.5067,  306,    110.5,  -1.3995,  32.6335,2,  32.6334,2,    299.6,2,    310.8,2,    26.84,2,    11.37,2,     0.11,2,     1.62,2,  -999.00,9,  -999.00,9,    0.771,2,  -1.4017,20040925,1731
  32H120040910,   121,  1,    107,      7,2,20040925,1717, 73.5237,-160.5067,  306,    130.0,  -1.5105,  32.8223,2,-999.0000,9,    281.2,2,   -999.0,9,    31.64,2,    13.99,2,     0.05,2,     1.77,2,     0.02,2,     0.02,2,    0.762,2,  -1.5131,20040925,1729
  32H120040910,   121,  1,    106,      6,2,20040925,1717, 73.5237,-160.5067,  306,    151.3,  -1.6433,  33.0562,2,  33.0484,2,    290.1,2,    298.2,2,    45.42,2,    15.59,2,     0.10,2,     2.05,2,     0.05,2,     0.09,2,    0.894,2,  -1.6462,20040925,1727
  32H120040910,   121,  1,    105,      5,2,20040925,1717, 73.5237,-160.5067,  306,    169.2,  -1.4941,  33.2475,2,  33.2414,2,    298.8,2,    309.8,2,    29.36,2,    11.74,2,     0.12,2,     1.61,2,  -999.00,9,  -999.00,9,    0.794,2,  -1.4977,20040925,1725
  32H120040910,   121,  1,    104,      4,2,20040925,1717, 73.5237,-160.5067,  306,    189.2,  -1.4006,  33.5396,2,-999.0000,9,    286.7,2,   -999.0,9,    30.40,2,    13.69,2,     0.06,2,     1.62,2,     0.01,2,     0.04,2,    0.716,2,  -1.4049,20040925,1723
  32H120040910,   121,  1,    103,      3,2,20040925,1717, 73.5237,-160.5067,  306,    220.6,  -0.7934,  34.2359,2,  34.2319,2,    268.8,2,    278.2,2,    20.33,2,    13.27,2,     0.04,2,     1.25,2,  -999.00,9,  -999.00,9,    0.720,2,  -0.7999,20040925,1722
  32H120040910,   121,  1,    102,      2,2,20040925,1717, 73.5237,-160.5067,  306,    259.3,   0.0082,  34.5715,2,-999.0000,9,    269.1,2,   -999.0,9,    12.64,2,    12.63,2,     0.03,2,     0.98,2,  -999.00,9,  -999.00,9,    0.602,2,  -0.0015,20040925,1720
  32H120040910,   121,  1,    101,      1,2,20040925,1717, 73.5237,-160.5067,  306,    300.7,   0.5226,  34.7212,2,  34.7227,2,    275.0,2,    283.7,2,     9.80,2,    12.58,2,     0.03,2,     0.90,2,  -999.00,9,  -999.00,9,    0.635,2,   0.5098,20040925,1717
  32H120040910,   121,  2,    222,     22,2,20040925,1859, 73.5237,-160.5067,  306,     49.6,   0.9370,  31.6050,2,  31.5767,2,    367.6,2,   -999.0,9,  -999.00,9,  -999.00,9,  -999.00,9,  -999.00,9,  -999.00,9,  -999.00,9,    1.661,2,   0.9351,20040925,1908
  32H120040910,   121,  2,    205,      5,2,20040925,1859, 73.5237,-160.5067,  306,    149.4,  -1.5759,  33.0271,2,-999.0000,9,    284.2,2,   -999.0,9,  -999.00,9,  -999.00,9,  -999.00,9,  -999.00,9,  -999.00,9,  -999.00,9,    0.831,2,  -1.5789,20040925,1902
  32H120040910,   121,  2,    206,      6,2,20040925,1859, 73.5237,-160.5067,  306,    149.5,  -1.5743,  33.0260,2,  33.0293,2,    284.3,2,   -999.0,9,  -999.00,9,  -999.00,9,  -999.00,9,  -999.00,9,  -999.00,9,  -999.00,9,    0.794,2,  -1.5773,20040925,1903
  32H120040910,   121,  2,    207,      7,2,20040925,1859, 73.5237,-160.5067,  306,    149.6,  -1.5768,  33.0263,2,-999.0000,9,    285.0,2,   -999.0,9,  -999.00,9,  -999.00,9,  -999.00,9,  -999.00,9,  -999.00,9,  -999.00,9,    0.801,2,  -1.5798,20040925,1903
  32H120040910,   121,  2,    210,     10,2,20040925,1859, 73.5237,-160.5067,  306,    149.9,  -1.5536,  33.0249,2,  33.0280,2,    285.4,2,   -999.0,9,  -999.00,9,  -999.00,9,  -999.00,9,  -999.00,9,  -999.00,9,  -999.00,9,    0.782,2,  -1.5566,20040925,1903
  32H120040910,   121,  2,    213,     13,2,20040925,1859, 73.5237,-160.5067,  306,    150.0,  -1.5877,  33.0236,2,-999.0000,9,    282.7,2,   -999.0,9,  -999.00,9,  -999.00,9,  -999.00,9,  -999.00,9,  -999.00,9,  -999.00,9,    0.789,2,  -1.5907,20040925,1903
  32H120040910,   121,  2,    218,     18,2,20040925,1859, 73.5237,-160.5067,  306,    150.0,  -1.6167,  33.0206,2,  33.0256,2,    286.6,2,   -999.0,9,  -999.00,9,  -999.00,9,  -999.00,9,  -999.00,9,  -999.00,9,  -999.00,9,    0.834,2,  -1.6196,20040925,1904
  32H120040910,   121,  2,    214,     14,2,20040925,1859, 73.5237,-160.5067,  306,    150.1,  -1.6014,  33.0228,2,  33.0254,2,    283.4,2,   -999.0,9,  -999.00,9,  -999.00,9,  -999.00,9,  -999.00,9,  -999.00,9,  -999.00,9,    0.807,2,  -1.6043,20040925,1904
  32H120040910,   121,  2,    215,     15,2,20040925,1859, 73.5237,-160.5067,  306,    150.2,  -1.5651,  33.0227,2,-999.0000,9,    284.0,2,   -999.0,9,  -999.00,9,  -999.00,9,  -999.00,9,  -999.00,9,  -999.00,9,  -999.00,9,    0.836,2,  -1.5681,20040925,1904
  32H120040910,   121,  2,    208,      8,2,20040925,1859, 73.5237,-160.5067,  306,    150.2,  -1.5772,  33.0262,2,-999.0000,9,    284.3,2,   -999.0,9,  -999.00,9,  -999.00,9,  -999.00,9,  -999.00,9,  -999.00,9,  -999.00,9,    0.826,2,  -1.5802,20040925,1903
  32H120040910,   121,  2,    202,      2,2,20040925,1859, 73.5237,-160.5067,  306,    150.2,  -1.5991,  33.0289,2,  33.0317,2,    285.2,2,   -999.0,9,  -999.00,9,  -999.00,9,  -999.00,9,  -999.00,9,  -999.00,9,  -999.00,9,    0.828,2,  -1.6020,20040925,1902
  32H120040910,   121,  2,    204,      4,2,20040925,1859, 73.5237,-160.5067,  306,    150.2,  -1.6004,  33.0282,2,-999.0000,9,    285.4,2,   -999.0,9,  -999.00,9,  -999.00,9,  -999.00,9,  -999.00,9,  -999.00,9,  -999.00,9,    0.826,2,  -1.6033,20040925,1902
  32H120040910,   121,  2,    209,      9,2,20040925,1859, 73.5237,-160.5067,  306,    150.3,  -1.5928,  33.0235,2,-999.0000,9,    282.0,2,   -999.0,9,  -999.00,9,  -999.00,9,  -999.00,9,  -999.00,9,  -999.00,9,  -999.00,9,    0.817,2,  -1.5958,20040925,1903
  32H120040910,   121,  2,    211,     11,2,20040925,1859, 73.5237,-160.5067,  306,    150.3,  -1.5955,  33.0254,2,-999.0000,9,    283.2,2,   -999.0,9,  -999.00,9,  -999.00,9,  -999.00,9,  -999.00,9,  -999.00,9,  -999.00,9,    0.791,2,  -1.5985,20040925,1903
  32H120040910,   121,  2,    217,     17,2,20040925,1859, 73.5237,-160.5067,  306,    150.3,  -1.6022,  33.0215,2,-999.0000,9,    286.2,2,   -999.0,9,  -999.00,9,  -999.00,9,  -999.00,9,  -999.00,9,  -999.00,9,  -999.00,9,    0.833,2,  -1.6051,20040925,1904
  32H120040910,   121,  2,    216,     16,2,20040925,1859, 73.5237,-160.5067,  306,    150.4,  -1.5952,  33.0228,2,-999.0000,9,    284.8,2,   -999.0,9,  -999.00,9,  -999.00,9,  -999.00,9,  -999.00,9,  -999.00,9,  -999.00,9,    0.811,2,  -1.5982,20040925,1904
  32H120040910,   121,  2,    219,     19,2,20040925,1859, 73.5237,-160.5067,  306,    150.4,  -1.6120,  33.0214,2,-999.0000,9,    285.0,2,   -999.0,9,  -999.00,9,  -999.00,9,  -999.00,9,  -999.00,9,  -999.00,9,  -999.00,9,    0.828,2,  -1.6149,20040925,1904
  32H120040910,   121,  2,    220,     20,2,20040925,1859, 73.5237,-160.5067,  306,    150.5,  -1.6115,  33.0206,2,-999.0000,9,    284.9,2,   -999.0,9,  -999.00,9,  -999.00,9,  -999.00,9,  -999.00,9,  -999.00,9,  -999.00,9,    0.818,2,  -1.6144,20040925,1904
  32H120040910,   121,  2,    203,      3,2,20040925,1859, 73.5237,-160.5067,  306,    150.5,  -1.6206,  33.0283,2,-999.0000,9,    286.5,2,   -999.0,9,  -999.00,9,  -999.00,9,  -999.00,9,  -999.00,9,  -999.00,9,  -999.00,9,    0.829,2,  -1.6235,20040925,1902
  32H120040910,   121,  2,    212,     12,2,20040925,1859, 73.5237,-160.5067,  306,    150.6,  -1.6161,  33.0261,2,-999.0000,9,    281.5,2,   -999.0,9,  -999.00,9,  -999.00,9,  -999.00,9,  -999.00,9,  -999.00,9,  -999.00,9,    0.775,2,  -1.6190,20040925,1903
  32H120040910,   121,  2,    221,     21,2,20040925,1859, 73.5237,-160.5067,  306,    150.8,  -1.6150,  33.0229,2,-999.0000,9,    284.8,2,   -999.0,9,  -999.00,9,  -999.00,9,  -999.00,9,  -999.00,9,  -999.00,9,  -999.00,9,    0.839,2,  -1.6179,20040925,1904
  32H120040910,   121,  2,    201,      1,2,20040925,1859, 73.5237,-160.5067,  306,    249.8,  -0.1063,  34.5338,2,  34.5370,2,    268.1,2,   -999.0,9,  -999.00,9,  -999.00,9,  -999.00,9,  -999.00,9,  -999.00,9,  -999.00,9,    0.688,2,  -0.1154,20040925,1859
  32H120040910,   122,  1,    115,     15,2,20040925,1959, 73.4962,-160.5050,  310,     10.4,   1.9689,  27.3431,2,  27.3509,2,    341.6,2,    350.8,2,     3.75,2,     0.16,2,     0.00,2,     0.46,2,     0.07,2,     0.35,2,    1.227,2,   1.9685,20040925,2019
  32H120040910,   122,  1,    114,     14,2,20040925,1959, 73.4962,-160.5050,  310,     20.9,  -0.2733,  29.0066,2,-999.0000,9,    382.3,2,   -999.0,9,  -999.00,9,  -999.00,9,  -999.00,9,  -999.00,9,     0.15,2,     0.07,2,    1.004,2,  -0.2738,20040925,2018
  32H120040910,   122,  1,    113,     13,2,20040925,1959, 73.4962,-160.5050,  310,     30.1,  -0.5476,  29.7232,2,  29.7500,2,    382.9,2,    396.2,2,     3.24,2,     0.11,2,     0.00,2,     0.67,2,     0.14,2,     0.08,2,    1.065,2,  -0.5482,20040925,2017
  32H120040910,   122,  1,    112,     12,2,20040925,1959, 73.4962,-160.5050,  310,     39.8,   1.9016,  30.9752,2,-999.0000,9,    363.6,2,   -999.0,9,  -999.00,9,  -999.00,9,  -999.00,9,  -999.00,9,     0.41,2,     0.16,2,    1.411,2,   1.8998,20040925,2016
  32H120040910,   122,  1,    111,     11,2,20040925,1959, 73.4962,-160.5050,  310,     50.8,   0.6399,  31.5989,2,  31.5994,2,    365.4,2,    378.0,2,     7.61,2,     0.93,2,     0.18,2,     0.90,2,     0.55,2,     0.14,2,    1.436,2,   0.6381,20040925,2015
  32H120040910,   122,  1,    110,     10,2,20040925,1959, 73.4962,-160.5050,  310,     59.8,  -0.2003,  31.9028,2,-999.0000,9,    354.6,2,   -999.0,9,  -999.00,9,  -999.00,9,  -999.00,9,  -999.00,9,     0.16,2,     0.07,2,    1.070,2,  -0.2020,20040925,2013
  32H120040910,   122,  1,    109,      9,2,20040925,1959, 73.4962,-160.5050,  310,     80.3,  -1.1552,  32.2567,2,-999.0000,9,    319.3,2,   -999.0,9,    20.82,2,     8.57,2,     0.13,2,     1.49,2,  -999.00,9,  -999.00,9,    0.936,2,  -1.1569,20040925,2012
  32H120040910,   122,  1,    108,      8,2,20040925,1959, 73.4962,-160.5050,  310,    109.7,  -1.4717,  32.6681,2,  32.6710,2,    295.6,2,    305.3,2,    29.54,2,    12.29,2,     0.10,2,     1.70,2,  -999.00,9,  -999.00,9,    0.772,2,  -1.4739,20040925,2010
  32H120040910,   122,  1,    107,      7,2,20040925,1959, 73.4962,-160.5050,  310,    130.6,  -1.5531,  32.8963,2,-999.0000,9,    292.7,2,   -999.0,9,    34.69,2,    13.26,2,     0.10,2,     1.81,2,     0.03,2,     0.05,2,    0.808,2,  -1.5557,20040925,2008
  32H120040910,   122,  1,    106,      6,2,20040925,1959, 73.4962,-160.5050,  310,    149.5,  -1.6041,  33.0429,2,  33.0414,2,    285.9,2,    296.3,2,    40.92,2,    14.81,2,     0.09,2,     1.96,2,     0.03,2,     0.07,2,    0.843,2,  -1.6070,20040925,2007
  32H120040910,   122,  1,    105,      5,2,20040925,1959, 73.4962,-160.5050,  310,    170.4,  -1.5140,  33.2382,2,  33.2168,2,    287.8,2,    296.9,2,    35.74,2,    13.82,2,     0.11,2,     1.81,2,  -999.00,9,  -999.00,9,    0.836,2,  -1.5176,20040925,2005
  32H120040910,   122,  1,    104,      4,2,20040925,1959, 73.4962,-160.5050,  310,    188.4,  -1.3851,  33.5486,2,-999.0000,9,    287.8,2,   -999.0,9,    29.87,2,    12.98,2,     0.09,2,     1.61,2,     0.01,2,     0.04,2,    0.729,2,  -1.3894,20040925,2004
  32H120040910,   122,  1,    103,      3,2,20040925,1959, 73.4962,-160.5050,  310,    223.0,  -0.7106,  34.2781,2,  34.2497,2,    266.4,2,    275.0,2,    20.01,2,    13.32,2,     0.03,2,     1.24,2,  -999.00,9,  -999.00,9,    0.696,2,  -0.7174,20040925,2002
  32H120040910,   122,  1,    102,      2,2,20040925,1959, 73.4962,-160.5050,  310,    255.0,  -0.0108,  34.5649,2,-999.0000,9,    269.4,2,   -999.0,9,    12.02,2,    12.54,2,     0.03,2,     0.97,2,  -999.00,9,  -999.00,9,    0.638,2,  -0.0203,20040925,2000
  32H120040910,   122,  1,    101,      1,2,20040925,1959, 73.4962,-160.5050,  310,    304.9,   0.6036,  34.7420,2,  34.7445,2,    275.9,2,    284.9,2,     9.08,2,    12.54,2,     0.03,2,     0.90,2,  -999.00,9,  -999.00,9,    0.591,2,   0.5904,20040925,1959
  32H120040910,   123,  1,    115,     15,2,20040925,2117, 73.4702,-160.5045,  307,      9.7,   2.1722,  27.5037,2,  27.5110,2,    337.4,2,    346.1,2,     3.24,2,     0.15,2,     0.00,2,     0.45,2,     0.37,2,     0.14,2,    1.261,2,   2.1718,20040925,2138
  32H120040910,   123,  1,    114,     14,2,20040925,2117, 73.4702,-160.5045,  307,     20.3,   3.1157,  28.9661,2,-999.0000,9,    351.1,2,   -999.0,9,  -999.00,9,  -999.00,9,  -999.00,9,  -999.00,9,     0.20,2,     0.14,2,    1.245,2,   3.1147,20040925,2137
  32H120040910,   123,  1,    113,     13,2,20040925,2117, 73.4702,-160.5045,  307,     30.3,  -0.2902,  29.7965,2,  29.8232,2,    382.6,2,    393.8,2,     3.84,2,     0.04,2,     0.00,2,     0.68,2,     0.12,2,     0.08,2,    1.049,2,  -0.2909,20040925,2136
  32H120040910,   123,  1,    112,     12,2,20040925,2117, 73.4702,-160.5045,  307,     39.4,   1.1126,  30.9753,2,-999.0000,9,    363.4,2,   -999.0,9,  -999.00,9,  -999.00,9,  -999.00,9,  -999.00,9,     0.31,2,     0.21,2,    1.419,2,   1.1111,20040925,2135
  32H120040910,   123,  1,    111,     11,2,20040925,2117, 73.4702,-160.5045,  307,     49.9,   0.9459,  31.5522,2,  31.5656,2,    362.3,2,    375.5,2,     7.70,2,     0.84,2,     0.20,2,     0.90,2,     0.54,2,     0.17,2,    1.477,2,   0.9440,20040925,2134
  32H120040910,   123,  1,    110,     10,2,20040925,2117, 73.4702,-160.5045,  307,     58.9,  -0.4800,  31.8973,2,-999.0000,9,    337.4,2,   -999.0,9,  -999.00,9,  -999.00,9,  -999.00,9,  -999.00,9,     0.10,2,     0.11,2,    1.061,2,  -0.4816,20040925,2133
  32H120040910,   123,  1,    109,      9,2,20040925,2117, 73.4702,-160.5045,  307,     79.3,  -1.1861,  32.2721,2,-999.0000,9,    312.1,2,   -999.0,9,    20.71,2,     9.08,2,     0.10,2,     1.49,2,     0.06,2,     0.06,2,    0.890,2,  -1.1878,20040925,2131
  32H120040910,   123,  1,    108,      8,2,20040925,2117, 73.4702,-160.5045,  307,    110.6,  -1.4687,  32.6789,2,  32.6803,2,    298.5,2,    298.2,2,    29.43,2,    12.75,2,     0.07,2,     1.71,2,  -999.00,9,  -999.00,9,    0.806,2,  -1.4709,20040925,2129
  32H120040910,   123,  1,    107,      7,2,20040925,2117, 73.4702,-160.5045,  307,    131.0,  -1.5788,  32.9606,2,-999.0000,9,    297.6,2,   -999.0,9,    35.00,2,    12.81,2,     0.11,2,     1.79,2,  -999.00,9,  -999.00,9,    0.822,2,  -1.5814,20040925,2128
  32H120040910,   123,  1,    106,      6,2,20040925,2117, 73.4702,-160.5045,  307,    150.8,  -1.7139,  33.0900,2,  33.0907,2,    293.8,2,    304.1,2,    47.65,2,    16.14,2,     0.11,2,     2.08,2,  -999.00,9,  -999.00,9,    0.844,2,  -1.7167,20040925,2126
  32H120040910,   123,  1,    105,      5,2,20040925,2117, 73.4702,-160.5045,  307,    169.4,  -1.7156,  33.1767,2,  33.1793,2,    291.3,2,    300.7,2,    52.62,2,    18.28,2,     0.09,2,     2.23,2,     0.05,2,     0.14,2,    0.881,2,  -1.7188,20040925,2125
  32H120040910,   123,  1,    104,      4,2,20040925,2117, 73.4702,-160.5045,  307,    189.2,  -1.4924,  33.3664,2,-999.0000,9,    290.0,2,   -999.0,9,    37.64,2,    14.27,2,     0.10,2,     1.84,2,     0.02,2,     0.08,2,    0.786,2,  -1.4965,20040925,2123
  32H120040910,   123,  1,    103,      3,2,20040925,2117, 73.4702,-160.5045,  307,    220.2,  -0.8507,  34.2034,2,  34.2020,2,    268.2,2,    277.9,2,    21.45,2,    13.40,2,     0.04,2,     1.29,2,  -999.00,9,  -999.00,9,    0.684,2,  -0.8571,20040925,2121
  32H120040910,   123,  1,    102,      2,2,20040925,2117, 73.4702,-160.5045,  307,    262.9,   0.1878,  34.6233,2,-999.0000,9,    271.3,2,   -999.0,9,    11.71,2,    12.53,2,     0.03,2,     0.95,2,  -999.00,9,  -999.00,9,    0.621,2,   0.1775,20040925,2119
  32H120040910,   123,  1,    101,      1,2,20040925,2117, 73.4702,-160.5045,  307,    301.9,   0.6109,  34.7417,2,  34.7443,2,    276.6,2,    285.1,2,     9.18,2,    12.48,2,     0.03,2,     0.89,2,  -999.00,9,  -999.00,9,    0.648,2,   0.5979,20040925,2117