BOTTLE,20220815CCHSIOAMB
EXPOCODE,SECT_ID,STNNBR,CASTNO,SAMPNO,BTLNBR,BTLNBR_FLAG_W,DATE,TIME,LATITUDE,LONGITUDE,CTDPRS,CTDTMP,CTDSAL,CTDSAL_FLAG_W,SALNTY,SALNTY_FLAG_W,CTDOXY,CTDOXY_FLAG_W,OXYGEN,OXYGEN_FLAG_W,REFTMP,REFTMP_FLAG_W,BTL_LAT,BTL_LON,BTL_DATE,BTL_TIME
,,,,,,,,,,,DBAR,ITS-90,PSS-78,,PSS-78,,UMOL/KG,,UMOL/KG,,ITS-90,,,,,
 197KN20100404,   ACT,13,1,12,12,2,20100413,1601,-34.5467,28.0827,76.7,19.2863,35.3809,2,35.3791,2,188.8,2,188.2,2,19.2843,2,-34.5479,28.0247,20100413,1742
 197KN20100404,   ACT,13,1,11,11,2,20100413,1601,-34.5467,28.0827,126.9,15.5205,35.3598,2,35.3578,2,175.9,2,175.5,2,15.5399,3,-34.5475,28.0284,20100413,1738
 197KN20100404,   ACT,13,1,9,9,2,20100413,1601,-34.5467,28.0827,226.2,13.5134,35.2386,2,35.2311,2,185,2,187,2,13.5129,2,-34.5472,28.0337,20100413,1733
 197KN20100404,   ACT,13,1,10,10,2,20100413,1601,-34.5467,28.0827,227.3,13.4811,35.2353,2,35.2346,2,185.1,2,186.7,2,13.4808,2,-34.5472,28.0328,20100413,1734
 197KN20100404,   ACT,13,1,8,8,2,20100413,1601,-34.5467,28.0827,428.4,10.8223,34.936,2,34.9342,2,195.8,2,198.2,2,10.8219,2,-34.5468,28.0377,20100413,1729
 197KN20100404,   ACT,13,1,7,7,2,20100413,1601,-34.5467,28.0827,844.1,6.7941,34.6238,2,34.6265,2,156,2,155.7,2,6.7938,2,-34.5458,28.0449,20100413,1719
 197KN20100404,   ACT,13,1,6,6,2,20100413,1601,-34.5467,28.0827,1205.1,4.3931,34.586,2,34.5821,2,158.5,2,153.4,3,4.3967,3,-34.5456,28.0512,20100413,1709
 197KN20100404,   ACT,13,1,5,5,2,20100413,1601,-34.5467,28.0827,1558.5,2.9154,34.6973,2,34.6978,2,171.1,2,171.9,2,2.9162,2,-34.5455,28.0568,20100413,1659
 197KN20100404,   ACT,13,1,4,4,2,20100413,1601,-34.5467,28.0827,2093.2,2.6073,34.7964,2,34.7947,2,203.3,2,207.3,3,2.6073,2,-34.5457,28.0635,20100413,1646
 197KN20100404,   ACT,13,1,3,3,2,20100413,1601,-34.5467,28.0827,2600.2,2.3311,34.8184,2,34.8185,2,218.4,2,218.3,2,2.3312,2,-34.546,28.0695,20100413,1633
 197KN20100404,   ACT,13,1,2,2,2,20100413,1601,-34.5467,28.0827,3237.2,1.8797,34.7962,3,34.7902,2,218.9,2,220,2,1.8797,2,-34.5464,28.076,20100413,1618
 197KN20100404,   ACT,13,1,1,1,2,20100413,1601,-34.5467,28.0827,4048,1.1211,34.7368,2,34.7355,2,216.6,2,217.7,2,1.1209,2,-34.5467,28.0822,20100413,1601
 197KN20100404,   ACT,14,1,12,12,2,20100414,138,-34.6897,28.2028,3.2,26.093,35.4016,2,35.3999,2,207.9,2,207.8,2,26.0932,2,-34.7057,28.144,20100414,317
 197KN20100404,   ACT,14,1,11,11,2,20100414,138,-34.6897,28.2028,44,25.064,35.422,2,35.4129,2,209.2,2,211.2,2,25.0508,2,-34.7047,28.1466,20100414,314
 197KN20100404,   ACT,14,1,10,10,2,20100414,138,-34.6897,28.2028,85.2,21.853,35.4252,2,35.4239,2,-999,9,0,3,21.8411,3,-34.7037,28.1501,20100414,311
 197KN20100404,   ACT,14,1,9,9,2,20100414,138,-34.6897,28.2028,252.8,15.8202,35.4244,2,35.4231,2,181.5,2,182.3,2,15.8189,2,-34.702,28.1559,20100414,305
 197KN20100404,   ACT,14,1,8,8,2,20100414,138,-34.6897,28.2028,492.7,12.5917,35.158,2,35.1567,2,205.8,2,206.9,2,12.5911,2,-34.7001,28.1613,20100414,300
 197KN20100404,   ACT,14,1,7,7,2,20100414,138,-34.6897,28.2028,970,7.1034,34.6646,2,34.6641,2,146.9,2,147.8,2,7.1032,2,-34.6981,28.169,20100414,249
 197KN20100404,   ACT,14,1,6,6,2,20100414,138,-34.6897,28.2028,1414,4.1257,34.6352,2,34.6311,2,146,2,149.1,3,4.1276,2,-34.6966,28.1746,20100414,239
 197KN20100404,   ACT,14,1,5,5,2,20100414,138,-34.6897,28.2028,1843.1,2.7874,34.7253,2,34.7231,2,186.1,2,185.7,2,2.7876,2,-34.695,28.1803,20100414,227
 197KN20100404,   ACT,14,1,4,4,2,20100414,138,-34.6897,28.2028,2367.7,2.5537,34.8095,2,34.8082,2,210.2,2,212.5,2,2.5539,2,-34.693,28.1864,20100414,215
 197KN20100404,   ACT,14,1,3,3,2,20100414,138,-34.6897,28.2028,3062.7,2.1201,34.8121,2,34.8105,2,216.8,2,218.5,2,2.1201,2,-34.6911,28.193,20100414,200
 197KN20100404,   ACT,14,1,2,2,2,20100414,138,-34.6897,28.2028,3633.2,1.5214,34.7685,2,34.7687,2,216.5,2,217.1,2,1.5216,2,-34.6904,28.1979,20100414,148
 197KN20100404,   ACT,14,1,1,1,2,20100414,138,-34.6897,28.2028,4202.8,1.1174,34.7353,2,34.734,2,216.6,2,217.5,2,1.1173,2,-34.6897,28.2024,20100414,138
 197KN20100404,   ACT,15,1,12,12,2,20100414,1830,-34.837,28.2831,41.3,24.7886,35.3954,2,35.3886,2,202.3,2,202.6,2,24.7914,2,-34.8479,28.2396,20100414,2006
 197KN20100404,   ACT,15,1,11,11,2,20100414,1830,-34.837,28.2831,89.5,23.0876,35.4915,2,35.491,2,215.2,2,211.4,2,23.087,2,-34.847,28.2427,20100414,2002
 197KN20100404,   ACT,15,1,10,10,2,20100414,1830,-34.837,28.2831,152.4,19.8534,35.5522,2,35.5509,2,193.8,2,198.2,2,19.8575,2,-34.8461,28.2458,20100414,1959
 197KN20100404,   ACT,15,1,9,9,2,20100414,1830,-34.837,28.2831,244.9,17.2963,35.5704,2,35.5671,2,209.1,2,209.3,2,17.2964,2,-34.8452,28.2488,20100414,1956
 197KN20100404,   ACT,15,1,8,8,2,20100414,1830,-34.837,28.2831,663.4,11.5736,35.0207,2,35.0218,2,216.1,2,216.7,2,11.5752,2,-34.8434,28.2548,20100414,1946
 197KN20100404,   ACT,15,1,7,7,2,20100414,1830,-34.837,28.2831,1004.7,8.2414,34.6976,2,34.699,2,167.4,2,167.6,2,8.2416,2,-34.8421,28.2589,20100414,1939
 197KN20100404,   ACT,15,1,6,6,2,20100414,1830,-34.837,28.2831,1360.4,4.3622,34.4843,2,34.4883,2,176.4,2,172.2,3,4.373,3,-34.841,28.2627,20100414,1931
 197KN20100404,   ACT,15,1,5,5,2,20100414,1830,-34.837,28.2831,1778.9,2.9917,34.6876,2,34.6853,2,167.5,2,170.4,2,2.99,2,-34.84,28.2665,20100414,1922
 197KN20100404,   ACT,15,1,4,4,2,20100414,1830,-34.837,28.2831,2368.7,2.6003,34.7977,2,34.7973,2,205.6,2,205.5,2,2.6003,2,-34.839,28.2712,20100414,1910
 197KN20100404,   ACT,15,1,3,3,2,20100414,1830,-34.837,28.2831,3049.5,2.1963,34.8162,2,34.8158,2,218.7,2,218.7,2,2.1966,2,-34.8384,28.2753,20100414,1856
 197KN20100404,   ACT,15,1,2,2,2,20100414,1830,-34.837,28.2831,3634.7,1.5822,34.7727,2,34.7723,2,217.3,2,217,2,1.5823,2,-34.8374,28.2793,20100414,1844
 197KN20100404,   ACT,15,1,1,1,2,20100414,1830,-34.837,28.2831,4347.7,1.0763,34.7309,2,34.732,2,216.4,2,216.2,2,1.0763,2,-34.837,28.2832,20100414,1830
 197KN20100404,   ACT,16,1,11,11,2,20100415,104,-34.9621,28.3978,112.7,24.3359,35.239,2,35.2447,2,178.7,2,182.8,2,24.3189,3,-34.9656,28.3696,20100415,237
 197KN20100404,   ACT,16,1,10,10,2,20100415,104,-34.9621,28.3978,298.7,17.1117,35.5197,2,35.5256,2,205.9,2,196.5,2,17.1108,2,-34.965,28.3722,20100415,231
 197KN20100404,   ACT,16,1,9,9,2,20100415,104,-34.9621,28.3978,706.1,11.2387,34.9646,2,34.9687,2,214.2,2,219.5,2,11.2352,2,-34.9642,28.3764,20100415,222
 197KN20100404,   ACT,16,1,8,8,2,20100415,104,-34.9621,28.3978,1110.7,7.2758,34.6576,2,34.6574,2,157.6,2,154.3,2,7.2759,2,-34.9636,28.3798,20100415,213
 197KN20100404,   ACT,16,1,7,7,2,20100415,104,-34.9621,28.3978,1624.6,3.2818,34.5784,2,34.5799,2,164.6,2,168,2,3.2817,2,-34.9629,28.383,20100415,202
 197KN20100404,   ACT,16,1,6,6,2,20100415,104,-34.9621,28.3978,2230,2.6806,34.7685,2,34.7675,2,195.8,2,195.3,2,2.6805,2,-34.9626,28.3869,20100415,150
 197KN20100404,   ACT,16,1,5,5,2,20100415,104,-34.9621,28.3978,2812.8,2.3541,34.8187,2,34.8179,2,218.2,2,217.8,2,2.3547,2,-34.9623,28.39,20100415,138
 197KN20100404,   ACT,16,1,4,4,2,20100415,104,-34.9621,28.3978,3336.5,1.9804,34.8027,2,34.805,2,220.9,2,218.7,2,1.9807,2,-34.9622,28.3927,20100415,127
 197KN20100404,   ACT,16,1,3,3,2,20100415,104,-34.9621,28.3978,3626,1.6312,34.7764,2,34.7763,2,219.3,2,217.7,2,1.6315,2,-34.9622,28.3941,20100415,121
 197KN20100404,   ACT,16,1,2,2,2,20100415,104,-34.9621,28.3978,3967.9,1.3333,34.7525,2,34.752,2,217.6,2,216.4,2,1.3335,2,-34.962,28.396,20100415,113
 197KN20100404,   ACT,16,1,1,1,2,20100415,104,-34.9621,28.3978,4389,1.1347,34.735,2,-999,5,215.9,2,216.1,2,1.1327,3,-34.9621,28.3977,20100415,104
 197KN20100404,   ACT,17,1,12,12,2,20100415,552,-35.1566,28.5177,52.9,25.9087,35.2973,2,35.2993,2,203.6,2,203,2,25.9086,2,-35.1602,28.5068,20100415,727
 197KN20100404,   ACT,17,1,11,11,2,20100415,552,-35.1566,28.5177,126.2,25.2481,35.2226,2,35.2215,2,189.1,2,184.6,2,25.2823,2,-35.1601,28.5078,20100415,723
 197KN20100404,   ACT,17,1,10,10,2,20100415,552,-35.1566,28.5177,197.2,22.0936,35.4745,2,35.463,2,176.1,2,191.8,3,22.1167,2,-35.1602,28.5086,20100415,720
 197KN20100404,   ACT,17,1,9,9,2,20100415,552,-35.1566,28.5177,405.8,15.9211,35.433,2,35.4327,2,199.1,2,181.6,3,15.9221,2,-35.1597,28.5089,20100415,715
 197KN20100404,   ACT,17,1,8,8,2,20100415,552,-35.1566,28.5177,599.5,12.9761,35.2113,2,35.212,2,205.8,2,208.6,2,12.9754,2,-35.1595,28.5098,20100415,710
 197KN20100404,   ACT,17,1,7,7,2,20100415,552,-35.1566,28.5177,1209.3,5.6756,34.4327,2,34.4321,2,193.2,2,196.5,2,5.6764,2,-35.1589,28.5117,20100415,658
 197KN20100404,   ACT,17,1,6,6,2,20100415,552,-35.1566,28.5177,1818.5,3.1628,34.6477,2,34.647,2,168.8,2,166.5,2,3.1624,2,-35.1587,28.5135,20100415,646
 197KN20100404,   ACT,17,1,5,5,2,20100415,552,-35.1566,28.5177,2431.9,2.5891,34.7918,2,34.7913,2,201.6,2,202.7,2,2.5892,2,-35.1587,28.5143,20100415,634
 197KN20100404,   ACT,17,1,4,4,2,20100415,552,-35.1566,28.5177,3045.6,2.2286,34.8173,2,34.8159,2,217.1,2,218.3,2,2.2287,2,-35.1586,28.5142,20100415,621
 197KN20100404,   ACT,17,1,3,3,2,20100415,552,-35.1566,28.5177,3575.8,1.7785,34.7872,2,34.7864,2,218.1,2,217.3,2,1.7787,2,-35.158,28.515,20100415,611
 197KN20100404,   ACT,17,1,2,2,9,20100415,552,-35.1566,28.5177,4055.3,1.3218,34.7512,2,-999,9,218,2,-999,9,1.3221,2,-35.1568,28.5157,20100415,600
 197KN20100404,   ACT,17,1,1,1,2,20100415,552,-35.1566,28.5177,4438.6,1.113,34.7332,2,34.7336,2,217.4,2,216.1,2,1.1132,2,-35.1566,28.5175,20100415,552
 197KN20100404,   ACT,18,1,12,12,2,20100415,1213,-35.3447,28.6584,53.3,25.8863,35.2937,2,35.2919,2,201.3,2,200.8,2,25.8852,2,-35.3451,28.6577,20100415,1356
 197KN20100404,   ACT,18,1,11,11,2,20100415,1213,-35.3447,28.6584,132.4,24.9772,35.1883,2,35.1905,2,177.3,2,176.5,2,24.9785,2,-35.3452,28.6577,20100415,1350
 197KN20100404,   ACT,18,1,10,10,2,20100415,1213,-35.3447,28.6584,256.1,18.4541,35.5891,2,35.5874,2,211.7,2,211,2,18.452,2,-35.3451,28.6577,20100415,1346
 197KN20100404,   ACT,18,1,9,9,2,20100415,1213,-35.3447,28.6584,509.9,14.8107,35.3989,2,35.3985,2,198.5,2,201.4,2,14.8102,2,-35.345,28.6579,20100415,1339
 197KN20100404,   ACT,18,1,8,8,2,20100415,1213,-35.3447,28.6584,1013.9,8.3996,34.6263,2,34.6272,2,203.7,2,203.7,2,8.4094,3,-35.3451,28.6578,20100415,1329
 197KN20100404,   ACT,18,1,7,7,2,20100415,1213,-35.3447,28.6584,1419.2,4.3587,34.4707,2,34.4704,2,172.1,2,175.5,2,4.359,2,-35.3451,28.6577,20100415,1320
 197KN20100404,   ACT,18,1,6,6,2,20100415,1213,-35.3447,28.6584,1926.1,3.0148,34.6701,2,34.7755,3,171,2,170.7,2,3.0158,2,-35.3451,28.6578,20100415,1309
 197KN20100404,   ACT,18,1,5,5,2,20100415,1213,-35.3447,28.6584,2332.4,2.6703,34.7751,2,34.7751,2,197.2,2,196.7,2,2.6702,2,-35.345,28.6579,20100415,1259
 197KN20100404,   ACT,18,1,4,4,2,20100415,1213,-35.3447,28.6584,2942.1,2.3444,34.8238,2,34.8244,2,218.5,2,218.8,2,2.3445,2,-35.345,28.6579,20100415,1247
 197KN20100404,   ACT,18,1,3,3,2,20100415,1213,-35.3447,28.6584,3456.9,1.9653,34.8017,2,34.8019,2,218.8,2,218.3,2,1.9662,2,-35.345,28.6579,20100415,1235
 197KN20100404,   ACT,18,1,2,2,2,20100415,1213,-35.3447,28.6584,3978,1.3823,34.7559,2,34.7556,2,216.3,2,216.3,2,1.3822,2,-35.3449,28.6581,20100415,1224
 197KN20100404,   ACT,18,1,1,1,2,20100415,1213,-35.3447,28.6584,4441.9,1.086,34.7311,2,34.7312,2,216,2,215.9,2,1.0859,2,-35.3447,28.6584,20100415,1213
 197KN20100404,   ACT,19,1,12,12,2,20100415,1701,-35.5247,28.7888,134,25.6301,35.2781,2,35.2812,2,195.5,2,195.1,2,25.6333,2,-35.5204,28.7951,20100415,1838
 197KN20100404,   ACT,19,1,11,11,2,20100415,1701,-35.5247,28.7888,249.1,18.9992,35.5877,2,35.5857,2,217.5,2,210.7,2,19.006,2,-35.521,28.795,20100415,1834
 197KN20100404,   ACT,19,1,10,10,2,20100415,1701,-35.5247,28.7888,375.1,17.1729,35.5716,2,35.5703,2,214.9,2,214.3,2,17.1861,3,-35.5216,28.7948,20100415,1830
 197KN20100404,   ACT,19,1,9,9,2,20100415,1701,-35.5247,28.7888,508.8,15.1624,35.4278,2,35.4296,2,199.4,2,199.9,2,15.1622,2,-35.5215,28.7945,20100415,1828
 197KN20100404,   ACT,19,1,8,8,2,20100415,1701,-35.5247,28.7888,1104,6.9415,34.4985,2,34.4999,2,195.4,2,200,2,6.9403,2,-35.5221,28.7934,20100415,1816
 197KN20100404,   ACT,19,1,7,7,2,20100415,1701,-35.5247,28.7888,1416.8,4.7102,34.5296,2,34.5314,2,162.9,2,162.3,2,4.7096,2,-35.5228,28.7928,20100415,1809
 197KN20100404,   ACT,19,1,6,6,2,20100415,1701,-35.5247,28.7888,1921.3,3.0004,34.6689,2,34.6698,2,171.2,2,171.6,2,2.9993,2,-35.5232,28.7923,20100415,1758
 197KN20100404,   ACT,19,1,5,5,2,20100415,1701,-35.5247,28.7888,2334.7,2.6795,34.7741,2,34.7756,2,197.8,2,197.3,2,2.6797,2,-35.5229,28.7918,20100415,1749
 197KN20100404,   ACT,19,1,4,4,2,20100415,1701,-35.5247,28.7888,2944.6,2.335,34.8196,2,34.8203,2,216.9,2,216.9,2,2.3353,2,-35.5238,28.7919,20100415,1736
 197KN20100404,   ACT,19,1,3,3,2,20100415,1701,-35.5247,28.7888,3442.7,1.9716,34.8018,2,34.8045,2,218.6,2,218.3,2,1.9716,2,-35.5233,28.7912,20100415,1726
 197KN20100404,   ACT,19,1,2,2,2,20100415,1701,-35.5247,28.7888,3968.6,1.3921,34.7579,2,34.7599,2,216.9,2,216.7,2,1.3923,2,-35.5244,28.7901,20100415,1715
 197KN20100404,   ACT,19,1,1,1,2,20100415,1701,-35.5247,28.7888,4587.5,0.997,34.7232,2,34.7241,2,216.4,2,216.3,2,0.9975,2,-35.5247,28.7889,20100415,1701
 197KN20100404,   ACT,20,1,12,12,2,20100415,2353,-35.7206,28.913,36.1,25.7768,35.3016,2,35.2977,2,201.3,2,200.9,2,25.7771,2,-35.7121,28.9279,20100416,132
 197KN20100404,   ACT,20,1,11,11,2,20100415,2353,-35.7206,28.913,130.7,24.442,35.1912,2,35.1888,2,174.6,2,174.4,2,24.4451,2,-35.7129,28.9273,20100416,128
 197KN20100404,   ACT,20,1,10,10,2,20100415,2353,-35.7206,28.913,306.2,17.5764,35.5783,2,33.6152,4,209.7,2,211.9,2,17.5754,2,-35.7139,28.9267,20100416,124
 197KN20100404,   ACT,20,1,9,9,2,20100415,2353,-35.7206,28.913,614.3,13.5719,35.2823,2,33.3186,4,210.4,2,210.6,2,13.5729,2,-35.7145,28.9255,20100416,117
 197KN20100404,   ACT,20,1,8,8,2,20100415,2353,-35.7206,28.913,1019.5,8.1988,34.6044,2,34.6079,2,206.3,2,205.5,2,8.1993,2,-35.7152,28.9239,20100416,109
 197KN20100404,   ACT,20,1,7,7,2,20100415,2353,-35.7206,28.913,1291.1,4.9321,34.4215,2,34.4179,3,192.8,2,192.8,2,4.9228,3,-35.7155,28.923,20100416,103
 197KN20100404,   ACT,20,1,6,6,2,20100415,2353,-35.7206,28.913,2020.4,2.8895,34.6902,2,34.6949,2,173.1,2,180.1,3,2.8894,2,-35.7167,28.9207,20100416,47
 197KN20100404,   ACT,20,1,5,5,2,20100415,2353,-35.7206,28.913,2641.8,2.5609,34.8092,2,34.8124,2,209.9,2,210.7,2,2.5617,2,-35.718,28.9191,20100416,35
 197KN20100404,   ACT,20,1,4,4,2,20100415,2353,-35.7206,28.913,3338.7,2.1292,34.8122,2,34.8203,3,219.9,2,220,2,2.1285,2,-35.7198,28.9173,20100416,20
 197KN20100404,   ACT,20,1,3,3,2,20100415,2353,-35.7206,28.913,3845.4,1.6216,34.7744,2,34.7742,2,218.5,2,217.6,2,1.622,2,-35.72,28.9157,20100416,11
 197KN20100404,   ACT,20,1,2,2,2,20100415,2353,-35.7206,28.913,4252.4,1.312,34.7494,2,34.7501,2,217.9,2,218.3,2,1.3122,2,-35.7202,28.9141,20100416,2
 197KN20100404,   ACT,20,1,1,1,2,20100415,2353,-35.7206,28.913,4677.3,1.0624,34.7272,2,34.7285,2,219.4,2,218.8,2,1.062,2,-35.7206,28.913,20100415,2353
 197KN20100404,   ACT,21,1,3,3,2,20100417,716,-33.3469,27.4761,2.4,20.6413,35.3148,2,35.3147,2,225.2,2,225.9,2,20.627,3,-33.3477,27.4747,20100417,719
 197KN20100404,   ACT,21,1,2,2,2,20100417,716,-33.3469,27.4761,12.4,15.8524,35.3217,2,35.322,2,188.2,2,206.8,3,16.0722,3,-33.3475,27.4751,20100417,718
 197KN20100404,   ACT,21,1,1,1,2,20100417,716,-33.3469,27.4761,47.8,11.0297,34.9567,2,34.9616,2,203.9,2,203.6,2,11.0302,2,-33.3469,27.4761,20100417,716
 197KN20100404,   ACT,22,1,3,3,2,20100417,824,-33.4638,27.5431,3.4,20.7282,35.3508,2,35.3508,2,226.5,2,226,2,20.7448,3,-33.4635,27.5417,20100417,828
 197KN20100404,   ACT,22,1,2,2,2,20100417,824,-33.4638,27.5431,32.7,13.75,35.2647,2,35.2682,2,188.9,2,189,2,13.749,2,-33.4635,27.5424,20100417,827
 197KN20100404,   ACT,22,1,1,1,2,20100417,824,-33.4638,27.5431,85.9,11.166,34.9798,2,34.9791,2,204.3,2,204,2,11.1645,2,-33.4639,27.5432,20100417,824
 197KN20100404,   ACT,23,1,11,11,9,20100417,1153,-33.5583,27.5897,1.6,19.9037,35.3541,2,-999,9,-999,9,-999,9,19.9023,2,-33.5562,27.5865,20100417,1215
 197KN20100404,   ACT,23,1,9,9,2,20100417,1153,-33.5583,27.5897,2.2,19.9042,35.354,2,-999,9,225.1,2,226.3,2,19.9039,2,-33.5561,27.5866,20100417,1215
 197KN20100404,   ACT,23,1,12,12,9,20100417,1153,-33.5583,27.5897,2.3,19.9021,35.3542,2,-999,9,-999,9,-999,9,19.9022,3,-33.5562,27.5864,20100417,1215
 197KN20100404,   ACT,23,1,10,10,9,20100417,1153,-33.5583,27.5897,2.5,19.899,35.3541,2,-999,9,-999,9,-999,9,19.8991,2,-33.5561,27.5865,20100417,1215
 197KN20100404,   ACT,23,1,8,8,2,20100417,1153,-33.5583,27.5897,15.4,18.6886,35.3594,2,35.3587,2,214.4,2,193.7,2,18.6782,3,-33.5561,27.5872,20100417,1212
 197KN20100404,   ACT,23,1,7,7,2,20100417,1153,-33.5583,27.5897,35.7,15.4366,35.3295,2,-999,9,173.7,2,172.6,2,15.5081,2,-33.5564,27.5877,20100417,1210
 197KN20100404,   ACT,23,1,6,6,2,20100417,1153,-33.5583,27.5897,51.6,12.4631,35.1391,2,35.1435,2,196.2,2,199.3,2,12.4631,2,-33.5565,27.5881,20100417,1208
 197KN20100404,   ACT,23,1,5,5,2,20100417,1153,-33.5583,27.5897,101.6,11.1932,34.9832,2,-999,9,208,2,208.3,2,11.1976,2,-33.5568,27.5887,20100417,1204
 197KN20100404,   ACT,23,1,4,4,2,20100417,1153,-33.5583,27.5897,137,10.5945,34.902,2,34.9026,2,211.7,2,210.7,2,10.5954,2,-33.5573,27.5888,20100417,1202
 197KN20100404,   ACT,23,1,3,3,2,20100417,1153,-33.5583,27.5897,201,10.2306,34.8618,2,34.8613,2,204.1,2,204.1,2,10.2298,2,-33.5577,27.5891,20100417,1159
 197KN20100404,   ACT,23,1,2,2,2,20100417,1153,-33.5583,27.5897,254.6,10.0455,34.8427,2,34.8434,2,200.6,2,200.8,2,10.0482,2,-33.5578,27.5896,20100417,1156
 197KN20100404,   ACT,23,1,1,1,2,20100417,1153,-33.5583,27.5897,300.5,9.8286,34.8204,2,34.8216,2,197.4,2,197.7,2,9.8343,2,-33.5582,27.5897,20100417,1153
 197KN20100404,   ACT,24,1,12,12,2,20100417,1316,-33.5961,27.6213,2.8,20.2843,35.355,2,-999,9,224.8,2,228.8,2,20.283,2,-33.5919,27.6221,20100417,1351
 197KN20100404,   ACT,24,1,11,11,2,20100417,1316,-33.5961,27.6213,26.7,15.6124,35.3405,2,-999,9,170.6,2,170.3,2,15.6401,3,-33.5921,27.6221,20100417,1348
 197KN20100404,   ACT,24,1,10,10,2,20100417,1316,-33.5961,27.6213,51,13.868,35.2654,2,35.266,2,179,2,182.5,2,13.8724,2,-33.5925,27.6219,20100417,1345
 197KN20100404,   ACT,24,1,9,9,2,20100417,1316,-33.5961,27.6213,90.5,11.7109,35.0511,2,-999,9,201.3,2,204.3,2,11.7103,2,-33.5931,27.6217,20100417,1342
 197KN20100404,   ACT,24,1,8,8,2,20100417,1316,-33.5961,27.6213,141.5,11.0555,34.9659,2,-999,9,204,2,204.2,2,11.0562,2,-33.5936,27.6216,20100417,1338
 197KN20100404,   ACT,24,1,7,7,2,20100417,1316,-33.5961,27.6213,190.9,10.2063,34.8543,2,34.8538,2,210.4,2,206.5,2,10.2053,2,-33.594,27.6215,20100417,1335
 197KN20100404,   ACT,24,1,6,6,2,20100417,1316,-33.5961,27.6213,251.9,9.5295,34.7701,2,-999,9,206.1,2,206.2,2,9.5395,3,-33.5944,27.6214,20100417,1332
 197KN20100404,   ACT,24,1,5,5,2,20100417,1316,-33.5961,27.6213,302.1,9.1577,34.7535,2,-999,9,192.8,2,190.1,2,9.1576,2,-33.5949,27.6212,20100417,1329
 197KN20100404,   ACT,24,1,4,4,2,20100417,1316,-33.5961,27.6213,352.1,8.7152,34.7262,2,34.726,2,179.6,2,178.8,2,8.7133,2,-33.5952,27.621,20100417,1326
 197KN20100404,   ACT,24,1,3,3,2,20100417,1316,-33.5961,27.6213,402.8,8.4895,34.712,2,34.7115,2,173.5,2,174.9,2,8.4913,2,-33.5955,27.621,20100417,1323
 197KN20100404,   ACT,24,1,2,2,2,20100417,1316,-33.5961,27.6213,503.9,7.9179,34.6657,2,34.6651,2,171.9,2,172.7,2,7.9181,2,-33.5958,27.6211,20100417,1319
 197KN20100404,   ACT,24,1,1,1,2,20100417,1316,-33.5961,27.6213,605.1,7.0194,34.5987,2,34.5985,2,169.9,2,169.8,2,7.0204,2,-33.5961,27.6213,20100417,1316