BOTTLE,20220815CCHSIOAMB
# Copy DATE/TIME to new BTL_DATE/BTL_TIME cols, set DATE/TIME to value at deepest bottle, OXYGEN flag from 4 to 5 at station 31 and 33
#BOTTLE,20141013ODF
# 1/10/2013 Initialized README file  
# Data source: CCHDO 4/23/14 
# SHIP: Knorr 
# Cruise: ACT0410, KN197-6, ACT2010 
# Region: off South Africa 
# EXPOCODE: 316N20100404 
# DATES: 4/4 - 4/23/2010 
# Chief Scientist: Lisa Beal 
# 40 stations with 12 place Rosette 
# Bottom depths approximated 
# Hydro: Who - L.Beal; Status - final 
# 	Notes: 	 
# O2: Who - L. Beal; Status - final 
# 	Notes: 
# References: 
EXPOCODE,SECT_ID,STNNBR,CASTNO,SAMPNO,BTLNBR,BTLNBR_FLAG_W,DATE,TIME,LATITUDE,LONGITUDE,CTDPRS,CTDTMP,CTDSAL,CTDSAL_FLAG_W,SALNTY,SALNTY_FLAG_W,CTDOXY,CTDOXY_FLAG_W,OXYGEN,OXYGEN_FLAG_W,REFTMP,REFTMP_FLAG_W,BTL_LAT,BTL_LON,BTL_DATE,BTL_TIME
,,,,,,,,,,,DBAR,ITS-90,PSS-78,,PSS-78,,UMOL/KG,,UMOL/KG,,ITS-90,,,,,
 197KN20100404,   ACT,1,2,3,3,2,20100407,2049,-33.3458,27.481,2.8,21.9373,35.3416,2,35.3434,2,222,2,222.4,2,21.9395,2,-33.3473,27.4794,20100407,2053
 197KN20100404,   ACT,1,2,2,2,2,20100407,2049,-33.3458,27.481,24.1,13.3184,35.1966,2,35.1971,2,196.8,2,197.1,2,13.2963,3,-33.3466,27.4801,20100407,2051
 197KN20100404,   ACT,1,2,1,1,2,20100407,2049,-33.3458,27.481,48.5,13.1395,35.1954,2,35.196,2,195.6,2,195.5,2,13.1381,2,-33.3458,27.481,20100407,2049
 197KN20100404,   ACT,2,1,4,4,2,20100407,2227,-33.4659,27.5409,1.8,25.1186,35.3375,2,35.3381,2,206.8,2,207.5,2,25.1187,2,-33.4677,27.5355,20100407,2235
 197KN20100404,   ACT,2,1,3,3,2,20100407,2227,-33.4659,27.5409,15.8,25.109,35.3374,2,35.3394,2,208,2,207.7,2,25.0978,3,-33.4671,27.5374,20100407,2233
 197KN20100404,   ACT,2,1,2,2,2,20100407,2227,-33.4659,27.5409,44.7,17.1542,35.393,2,35.3931,2,174.7,2,173,2,17.1497,2,-33.4665,27.5393,20100407,2230
 197KN20100404,   ACT,2,1,1,1,2,20100407,2227,-33.4659,27.5409,73.3,13.8195,35.2984,2,35.2987,2,202.3,2,201.6,2,13.8127,2,-33.4659,27.5408,20100407,2227
 197KN20100404,   ACT,3,1,6,6,2,20100407,2353,-33.5603,27.5679,2.5,25.7675,35.3436,2,35.3439,2,205.8,2,205.5,2,25.7684,2,-33.5639,27.5588,20100408,7
 197KN20100404,   ACT,3,1,5,5,2,20100407,2353,-33.5603,27.5679,27.6,23.3497,35.3536,2,35.3524,2,192.6,2,192.3,2,23.1104,2,-33.563,27.5611,20100408,4
 197KN20100404,   ACT,3,1,4,4,2,20100407,2353,-33.5603,27.5679,68.2,16.9821,35.4943,2,35.4976,2,179.2,2,185.6,2,16.9704,2,-33.5622,27.5629,20100408,2
 197KN20100404,   ACT,3,1,3,3,2,20100407,2353,-33.5603,27.5679,107,14.7061,35.3784,2,35.3772,2,196.6,2,196.4,2,14.7066,2,-33.5615,27.5646,20100407,2359
 197KN20100404,   ACT,3,1,2,2,2,20100407,2353,-33.5603,27.5679,146.8,13.8948,35.3097,2,35.3102,2,200.8,2,200.6,2,13.8926,2,-33.561,27.5659,20100407,2356
 197KN20100404,   ACT,3,1,1,1,2,20100407,2353,-33.5603,27.5679,235,11.9426,35.0786,2,35.0821,2,205.8,2,205.6,2,11.9638,3,-33.5604,27.5674,20100407,2353
 197KN20100404,   ACT,4,1,12,12,2,20100409,1207,-33.5949,27.6289,2.1,23.0505,35.3461,2,35.3479,2,222.8,2,220.2,2,23.0503,2,-33.5921,27.6318,20100409,1242
 197KN20100404,   ACT,4,1,11,11,2,20100409,1207,-33.5949,27.6289,24.8,20.2249,35.3287,2,35.3745,2,192,2,190.2,2,20.0283,2,-33.5924,27.6315,20100409,1240
 197KN20100404,   ACT,4,1,10,10,2,20100409,1207,-33.5949,27.6289,50.3,16.3482,35.3922,2,35.327,3,170.1,2,168.7,2,16.3431,2,-33.5927,27.6312,20100409,1237
 197KN20100404,   ACT,4,1,9,9,2,20100409,1207,-33.5949,27.6289,80.9,14.7214,35.327,2,35.3967,3,176,2,175.1,2,14.7224,2,-33.593,27.6309,20100409,1234
 197KN20100404,   ACT,4,1,8,8,2,20100409,1207,-33.5949,27.6289,112,14.0669,35.2859,2,35.2882,2,181.5,2,180.3,2,14.0643,2,-33.5933,27.6306,20100409,1232
 197KN20100404,   ACT,4,1,7,7,2,20100409,1207,-33.5949,27.6289,161.5,12.6634,35.1521,2,35.158,2,196.9,2,195.5,2,12.6603,2,-33.5933,27.6305,20100409,1229
 197KN20100404,   ACT,4,1,6,6,2,20100409,1207,-33.5949,27.6289,211.8,11.3338,35.0027,2,35.0041,2,209.2,2,202.9,2,11.3339,2,-33.5937,27.6301,20100409,1226
 197KN20100404,   ACT,4,1,5,5,2,20100409,1207,-33.5949,27.6289,263.3,10.7148,34.9163,2,34.9174,2,209.9,2,209.2,2,10.7147,2,-33.5941,27.6297,20100409,1223
 197KN20100404,   ACT,4,1,4,4,2,20100409,1207,-33.5949,27.6289,365,9.4815,34.7859,2,34.7873,2,192.1,2,189.8,2,9.4817,2,-33.5943,27.6294,20100409,1219
 197KN20100404,   ACT,4,1,3,3,2,20100409,1207,-33.5949,27.6289,465.2,8.4743,34.7087,2,34.7107,2,175.6,2,173.5,2,8.474,2,-33.5944,27.6293,20100409,1215
 197KN20100404,   ACT,4,1,2,2,2,20100409,1207,-33.5949,27.6289,565.4,7.7644,34.6764,2,34.6781,2,162.2,2,160.6,2,7.7627,2,-33.5948,27.6289,20100409,1211
 197KN20100404,   ACT,4,1,1,1,2,20100409,1207,-33.5949,27.6289,665,6.7218,34.6244,2,34.6277,2,156.5,2,154.6,2,6.7125,2,-33.5949,27.6289,20100409,1207
 197KN20100404,   ACT,5,1,12,12,2,20100409,1421,-33.6479,27.6548,4.2,22.4914,35.3415,2,35.3408,2,221.5,2,221.4,2,22.49,2,-33.642,27.6528,20100409,1516
 197KN20100404,   ACT,5,1,11,11,2,20100409,1421,-33.6479,27.6548,21.9,22.1851,35.3458,2,35.3442,2,206.1,2,216.4,2,22.1757,2,-33.6424,27.6532,20100409,1513
 197KN20100404,   ACT,5,1,10,10,2,20100409,1421,-33.6479,27.6548,40.8,18.0559,35.4019,2,35.3955,2,166.5,2,166,2,18.0794,2,-33.6429,27.6534,20100409,1510
 197KN20100404,   ACT,5,1,9,9,2,20100409,1421,-33.6479,27.6548,70.2,15.5648,35.3594,2,35.33,3,175.9,2,175.2,2,15.4779,3,-33.6433,27.6537,20100409,1506
 197KN20100404,   ACT,5,1,8,8,2,20100409,1421,-33.6479,27.6548,103.4,14.7226,35.3311,2,35.3825,3,176.9,2,176.2,2,14.7369,2,-33.6437,27.6539,20100409,1503
 197KN20100404,   ACT,5,1,7,7,2,20100409,1421,-33.6479,27.6548,202.3,12.0898,35.088,2,35.0902,2,196.1,2,194.3,2,12.0858,2,-33.6441,27.6544,20100409,1459
 197KN20100404,   ACT,5,1,6,6,2,20100409,1421,-33.6479,27.6548,303.3,10.4678,34.8926,2,34.746,3,203.2,2,203.9,2,10.4859,3,-33.6446,27.6547,20100409,1454
 197KN20100404,   ACT,5,1,5,5,2,20100409,1421,-33.6479,27.6548,405.9,9.0434,34.7427,2,34.8902,3,185.9,2,184.7,2,9.0367,2,-33.6452,27.6548,20100409,1449
 197KN20100404,   ACT,5,1,4,4,2,20100409,1421,-33.6479,27.6548,556.8,7.7753,34.6907,2,34.6907,2,152.8,2,155.3,2,7.7758,2,-33.6456,27.6548,20100409,1444
 197KN20100404,   ACT,5,1,3,3,2,20100409,1421,-33.6479,27.6548,711.1,5.3023,34.4266,2,34.4241,2,194.2,2,194.9,2,5.3086,2,-33.6462,27.6548,20100409,1438
 197KN20100404,   ACT,5,1,2,2,2,20100409,1421,-33.6479,27.6548,1018.3,3.9242,34.5758,2,34.5761,2,160.3,2,159.2,2,3.924,2,-33.6469,27.6548,20100409,1428
 197KN20100404,   ACT,5,1,1,1,2,20100409,1421,-33.6479,27.6548,1213.6,3.1873,34.6791,2,34.6786,2,162.3,2,162.2,2,3.1869,2,-33.648,27.6548,20100409,1421
 197KN20100404,   ACT,6,1,10,10,2,20100409,1823,-33.6877,27.6941,81.2,15.7599,35.4027,2,35.398,2,163.4,2,175,2,15.7763,2,-33.6819,27.6952,20100409,1911
 197KN20100404,   ACT,6,1,9,9,2,20100409,1823,-33.6877,27.6941,163.7,13.1238,35.2016,2,35.2006,2,179.8,2,187.9,2,13.1233,2,-33.6822,27.6951,20100409,1907
 197KN20100404,   ACT,6,1,8,8,2,20100409,1823,-33.6877,27.6941,263.7,11.0524,34.9585,2,34.9586,2,207,2,212.2,2,11.0559,2,-33.6824,27.695,20100409,1904
 197KN20100404,   ACT,6,1,7,7,2,20100409,1823,-33.6877,27.6941,411.7,9.2877,34.78,2,34.7777,2,178.4,2,184.4,2,9.2897,2,-33.6829,27.695,20100409,1859
 197KN20100404,   ACT,6,1,6,6,2,20100409,1823,-33.6877,27.6941,611.3,7.3111,34.6953,2,34.6985,2,136.9,2,138.1,2,7.2954,3,-33.6833,27.695,20100409,1853
 197KN20100404,   ACT,6,1,5,5,2,20100409,1823,-33.6877,27.6941,711.7,5.2265,34.4195,2,34.4209,2,192.7,2,195.1,2,5.2228,2,-33.6844,27.6947,20100409,1849
 197KN20100404,   ACT,6,1,4,4,2,20100409,1823,-33.6877,27.6941,858.5,4.6376,34.5243,2,34.5205,2,163,2,164,2,4.638,2,-33.6849,27.6944,20100409,1844
 197KN20100404,   ACT,6,1,3,3,2,20100409,1823,-33.6877,27.6941,1016.8,3.9707,34.5753,2,34.5724,2,159.5,2,157,2,3.9713,2,-33.6857,27.6941,20100409,1839
 197KN20100404,   ACT,6,1,2,2,2,20100409,1823,-33.6877,27.6941,1220,3.1715,34.6511,2,34.6506,2,160.9,2,163.6,2,3.1713,2,-33.6868,27.6939,20100409,1833
 197KN20100404,   ACT,6,1,1,1,2,20100409,1823,-33.6877,27.6941,1726.7,2.7843,34.7387,2,34.7382,2,185.2,2,184.9,2,2.7837,2,-33.6877,27.6941,20100409,1823
 197KN20100404,   ACT,7,1,12,12,2,20100410,2300,-33.769,27.6816,2.4,23.0119,35.3897,2,35.389,2,220.5,2,220.7,2,23.0051,2,-33.752,27.6775,20100410,2358
 197KN20100404,   ACT,7,1,11,11,2,20100410,2300,-33.769,27.6816,31.8,17.2792,35.4049,2,35.4011,2,170.2,2,166.4,2,17.3363,2,-33.7524,27.6777,20100410,2356
 197KN20100404,   ACT,7,1,10,10,2,20100410,2300,-33.769,27.6816,79.6,14.7156,35.3274,2,35.3281,2,175.1,2,175.2,2,14.7148,2,-33.7536,27.678,20100410,2353
 197KN20100404,   ACT,7,1,9,9,2,20100410,2300,-33.769,27.6816,127.1,13.2986,35.2227,2,35.2219,2,184.7,2,187.8,2,13.2952,2,-33.7548,27.6783,20100410,2349
 197KN20100404,   ACT,7,1,8,8,2,20100410,2300,-33.769,27.6816,176.3,12.3191,35.1168,2,35.1179,2,192.8,2,193,2,12.3208,2,-33.7556,27.6785,20100410,2347
 197KN20100404,   ACT,7,1,7,7,2,20100410,2300,-33.769,27.6816,303.9,10.2308,34.8579,2,34.865,2,201.9,2,202.6,2,10.2301,2,-33.7567,27.6788,20100410,2343
 197KN20100404,   ACT,7,1,6,6,2,20100410,2300,-33.769,27.6816,509.6,7.9717,34.6731,2,34.6734,2,173.8,2,167.8,2,7.9706,2,-33.7582,27.6791,20100410,2337
 197KN20100404,   ACT,7,1,5,5,2,20100410,2300,-33.769,27.6816,780.8,4.7901,34.4241,2,34.4237,2,190.3,2,190.5,2,4.7883,2,-33.7601,27.6796,20100410,2330
 197KN20100404,   ACT,7,1,4,4,2,20100410,2300,-33.769,27.6816,1100.9,3.8186,34.5971,2,34.5965,2,156.9,2,155.4,2,3.8194,2,-33.7621,27.68,20100410,2323
 197KN20100404,   ACT,7,1,3,3,2,20100410,2300,-33.769,27.6816,1328.4,3.2426,34.6629,2,34.6631,2,160.4,2,160.6,2,3.2462,2,-33.7637,27.6803,20100410,2317
 197KN20100404,   ACT,7,1,2,2,2,20100410,2300,-33.769,27.6816,1662.8,2.6515,34.7757,2,34.7766,2,198.8,2,198.3,2,2.6513,2,-33.7657,27.6809,20100410,2309
 197KN20100404,   ACT,7,1,1,1,2,20100410,2300,-33.769,27.6816,2110.8,2.6143,34.7921,2,34.7931,2,205.2,2,205.3,2,2.6131,2,-33.7685,27.6815,20100410,2300
 197KN20100404,   ACT,8,1,12,12,2,20100411,221,-33.8732,27.7863,19.5,22.2929,35.3161,2,35.3161,2,201.1,2,206.9,2,22.3004,2,-33.8533,27.7923,20100411,341
 197KN20100404,   ACT,8,1,11,11,2,20100411,221,-33.8732,27.7863,52.7,15.4824,35.3526,2,35.3547,2,175.5,2,177.6,2,15.4626,2,-33.854,27.7924,20100411,339
 197KN20100404,   ACT,8,1,10,10,2,20100411,221,-33.8732,27.7863,121.2,13.1429,35.2134,2,35.214,2,191.9,2,193.2,2,13.1391,2,-33.8549,27.7925,20100411,335
 197KN20100404,   ACT,8,1,9,9,2,20100411,221,-33.8732,27.7863,249.8,11.3455,34.9993,2,34.999,2,200.3,2,201.4,2,11.3448,2,-33.8557,27.7924,20100411,331
 197KN20100404,   ACT,8,1,8,8,2,20100411,221,-33.8732,27.7863,503.6,8.0325,34.6981,2,34.6973,2,173,2,163.5,2,8.0324,2,-33.8575,27.7922,20100411,325
 197KN20100404,   ACT,8,1,7,7,2,20100411,221,-33.8732,27.7863,854.1,4.3183,34.4521,2,34.4518,2,180.3,2,180.9,2,4.3172,2,-33.86,27.7919,20100411,317
 197KN20100404,   ACT,8,1,6,6,2,20100411,221,-33.8732,27.7863,1144.2,3.675,34.624,2,34.624,2,-999,9,180.8,3,3.6746,2,-33.8619,27.7918,20100411,309
 197KN20100404,   ACT,8,1,5,5,2,20100411,221,-33.8732,27.7863,1401.3,2.9646,34.6993,2,34.6985,2,-999,9,143.3,3,2.9666,2,-33.8637,27.7919,20100411,302
 197KN20100404,   ACT,8,1,4,4,2,20100411,221,-33.8732,27.7863,2036.8,2.597,34.7915,2,34.7919,2,204.6,2,203.9,2,2.5958,2,-33.8663,27.7901,20100411,247
 197KN20100404,   ACT,8,1,3,3,2,20100411,221,-33.8732,27.7863,2433.5,2.3466,34.8179,2,34.8182,2,216.2,2,216.4,2,2.3467,2,-33.8685,27.7873,20100411,236
 197KN20100404,   ACT,8,1,2,2,2,20100411,221,-33.8732,27.7863,2696.7,2.2571,34.8176,2,34.8184,2,219.1,2,219.2,2,2.2565,2,-33.8709,27.7862,20100411,228
 197KN20100404,   ACT,8,1,1,1,2,20100411,221,-33.8732,27.7863,2878.2,2.2284,34.8165,2,34.8167,2,220.3,2,219.6,2,2.2313,3,-33.8727,27.7862,20100411,221
 197KN20100404,   ACT,9,1,12,12,2,20100411,1338,-33.9937,27.8533,44.9,18.1257,35.3959,2,35.3957,2,166.7,2,167.3,2,18.1349,2,-33.9639,27.8479,20100411,1511
 197KN20100404,   ACT,9,1,11,11,2,20100411,1338,-33.9937,27.8533,79.5,15.7125,35.3743,2,35.3768,2,169.4,2,167.4,2,15.717,2,-33.9647,27.8484,20100411,1508
 197KN20100404,   ACT,9,1,10,10,2,20100411,1338,-33.9937,27.8533,127,13.6923,35.2472,2,35.2471,2,183.8,2,183.5,2,13.6941,2,-33.9657,27.8492,20100411,1504
 197KN20100404,   ACT,9,1,9,9,2,20100411,1338,-33.9937,27.8533,233.5,11.0193,34.9598,2,34.9601,2,198.7,2,201.3,2,11.0255,2,-33.9674,27.8496,20100411,1500
 197KN20100404,   ACT,9,1,8,8,2,20100411,1338,-33.9937,27.8533,434.1,8.5629,34.7258,2,34.7262,2,174.5,2,172.1,2,8.562,2,-33.9695,27.85,20100411,1454
 197KN20100404,   ACT,9,1,7,7,2,20100411,1338,-33.9937,27.8533,717.6,6.4395,34.6723,2,34.6726,2,136.4,2,135.2,2,6.4395,2,-33.9722,27.8505,20100411,1446
 197KN20100404,   ACT,9,1,6,6,2,20100411,1338,-33.9937,27.8533,1048.2,3.6603,34.5366,2,34.5372,2,160.7,2,165.9,3,3.6602,2,-33.975,27.851,20100411,1437
 197KN20100404,   ACT,9,1,5,5,2,20100411,1338,-33.9937,27.8533,1541.4,2.7919,34.7177,2,34.718,2,181.8,2,185.4,3,2.7916,2,-33.9783,27.8521,20100411,1425
 197KN20100404,   ACT,9,1,4,4,2,20100411,1338,-33.9937,27.8533,2053.2,2.5211,34.7998,2,34.8013,2,208.1,2,206.3,2,2.5214,2,-33.9815,27.8531,20100411,1414
 197KN20100404,   ACT,9,1,3,3,2,20100411,1338,-33.9937,27.8533,2558.3,2.3533,34.8194,2,34.8202,2,216.7,2,216.2,2,2.3532,2,-33.9856,27.8533,20100411,1402
 197KN20100404,   ACT,9,1,2,2,2,20100411,1338,-33.9937,27.8533,3044.9,2.0308,34.8081,2,34.8088,2,217.4,2,219,2,2.0299,2,-33.9893,27.853,20100411,1351
 197KN20100404,   ACT,9,1,1,1,2,20100411,1338,-33.9937,27.8533,3590.6,1.438,34.7629,2,34.7636,2,216,2,216.3,2,1.4378,2,-33.993,27.8532,20100411,1338
 197KN20100404,   ACT,10,1,12,12,2,20100411,1921,-34.116,27.9249,13.1,22.1857,35.3518,2,35.3496,2,199.1,2,224.1,3,22.1835,2,-34.0932,27.9137,20100411,2045
 197KN20100404,   ACT,10,1,11,11,2,20100411,1921,-34.116,27.9249,77,15.7887,35.3904,2,35.3879,2,172.4,2,171.4,2,15.8028,2,-34.0945,27.9148,20100411,2042
 197KN20100404,   ACT,10,1,10,10,2,20100411,1921,-34.116,27.9249,128.6,14.0209,35.2781,2,35.2769,2,178.3,2,180.1,2,14.0342,2,-34.0952,27.916,20100411,2039
 197KN20100404,   ACT,10,1,9,9,2,20100411,1921,-34.116,27.9249,230.2,11.2484,34.9912,2,34.9909,2,196.4,2,195.5,2,11.2539,2,-34.0965,27.917,20100411,2035
 197KN20100404,   ACT,10,1,8,8,2,20100411,1921,-34.116,27.9249,432.9,8.5221,34.7188,2,34.7154,2,173.3,2,172.6,2,8.5228,2,-34.0977,27.9189,20100411,2030
 197KN20100404,   ACT,10,1,7,7,2,20100411,1921,-34.116,27.9249,704.4,6.6004,34.657,2,34.6576,2,141.3,2,141.6,2,6.611,3,-34.0996,27.9211,20100411,2023
 197KN20100404,   ACT,10,1,6,6,2,20100411,1921,-34.116,27.9249,816.9,5.5031,34.5851,2,34.5855,2,169.9,2,152.4,3,5.4958,2,-34.1008,27.9218,20100411,2020
 197KN20100404,   ACT,10,1,5,5,2,20100411,1921,-34.116,27.9249,908.4,4.8189,34.554,2,34.5529,2,159.5,2,158.2,2,4.8404,3,-34.102,27.9226,20100411,2017
 197KN20100404,   ACT,10,1,4,4,2,20100411,1921,-34.116,27.9249,1284.5,3.1421,34.6129,2,34.6095,2,166.6,2,166.7,2,3.1418,2,-34.1046,27.9248,20100411,2008
 197KN20100404,   ACT,10,1,3,3,2,20100411,1921,-34.116,27.9249,2056.5,2.5555,34.7977,2,34.7972,2,205.7,2,205.5,2,2.5548,2,-34.1084,27.9248,20100411,1953
 197KN20100404,   ACT,10,1,2,2,2,20100411,1921,-34.116,27.9249,2819.8,2.1481,34.8148,2,34.8155,2,218.4,2,218.2,2,2.1479,2,-34.1118,27.925,20100411,1938
 197KN20100404,   ACT,10,1,1,1,2,20100411,1921,-34.116,27.9249,3667.4,1.2101,34.746,2,34.7465,2,216.1,2,215.8,2,1.2103,2,-34.1158,27.925,20100411,1921
 197KN20100404,   ACT,11,1,12,12,2,20100412,1111,-34.2709,27.9884,41,19.2141,35.3652,2,35.364,2,192.7,2,190,2,19.2327,3,-34.2605,27.9657,20100412,1236
 197KN20100404,   ACT,11,1,11,11,2,20100412,1111,-34.2709,27.9884,71.3,15.3911,35.3466,2,35.3455,2,177.7,2,178.1,2,15.3902,2,-34.2609,27.9671,20100412,1233
 197KN20100404,   ACT,11,1,10,10,2,20100412,1111,-34.2709,27.9884,126.5,13.3055,35.2205,2,35.2199,2,192.7,2,190,2,13.3053,2,-34.2613,27.9687,20100412,1230
 197KN20100404,   ACT,11,1,9,9,2,20100412,1111,-34.2709,27.9884,231,11.5997,35.0328,2,35.0341,2,195.5,2,198.8,2,11.6023,2,-34.2617,27.9709,20100412,1226
 197KN20100404,   ACT,11,1,8,8,2,20100412,1111,-34.2709,27.9884,427.1,9.1787,34.7734,2,34.7724,2,180.1,2,181.2,2,9.1778,2,-34.2623,27.9736,20100412,1220
 197KN20100404,   ACT,11,1,7,7,2,20100412,1111,-34.2709,27.9884,779,6.0454,34.5668,2,34.5665,2,164.7,2,163.3,2,6.0351,3,-34.2636,27.9763,20100412,1213
 197KN20100404,   ACT,11,1,6,6,2,20100412,1111,-34.2709,27.9884,878.5,5.8922,34.6664,2,34.6663,2,133.9,2,133.8,2,5.8939,2,-34.2641,27.9775,20100412,1209
 197KN20100404,   ACT,11,1,5,5,2,20100412,1111,-34.2709,27.9884,1171.4,3.9983,34.6055,2,34.605,2,153.6,2,154.1,2,3.9982,2,-34.2653,27.9796,20100412,1202
 197KN20100404,   ACT,11,1,4,4,2,20100412,1111,-34.2709,27.9884,2039.1,2.5308,34.7884,2,34.7885,2,203.7,2,203.1,2,2.5305,2,-34.2669,27.9829,20100412,1146
 197KN20100404,   ACT,11,1,3,3,2,20100412,1111,-34.2709,27.9884,2313.7,2.4027,34.813,2,34.8123,2,213.6,2,214.9,2,2.4018,2,-34.2677,27.984,20100412,1139
 197KN20100404,   ACT,11,1,2,2,2,20100412,1111,-34.2709,27.9884,2844.9,2.1101,34.8138,2,34.8137,2,220.9,2,220.9,2,2.1109,2,-34.2689,27.9859,20100412,1128
 197KN20100404,   ACT,11,1,1,1,2,20100412,1111,-34.2709,27.9884,3745.2,1.1666,34.7421,2,34.7425,2,217.6,2,217.6,2,1.166,2,-34.2709,27.9884,20100412,1111
 197KN20100404,   ACT,12,1,12,12,2,20100412,1849,-34.3993,28.0331,44,21.738,35.3626,2,35.3623,2,241.1,2,217.2,3,21.741,2,-34.3896,27.9846,20100412,2019
 197KN20100404,   ACT,12,1,11,11,2,20100412,1849,-34.3993,28.0331,78.8,16.7956,35.3952,2,35.3938,2,170.2,2,169.9,3,16.7763,3,-34.3895,27.9878,20100412,2016
 197KN20100404,   ACT,12,1,10,10,2,20100412,1849,-34.3993,28.0331,127.7,14.8056,35.3274,2,35.3303,2,191.3,2,176.7,3,14.8051,2,-34.3897,27.9906,20100412,2013
 197KN20100404,   ACT,12,1,9,9,2,20100412,1849,-34.3993,28.0331,231.6,12.2808,35.1186,2,35.1203,2,-999,9,202.4,3,12.2821,2,-34.39,27.9937,20100412,2010
 197KN20100404,   ACT,12,1,8,8,2,20100412,1849,-34.3993,28.0331,432.4,9.9676,34.8318,2,34.8334,2,209,2,198.2,3,9.9679,2,-34.3905,27.9979,20100412,2005
 197KN20100404,   ACT,12,1,7,7,2,20100412,1849,-34.3993,28.0331,640.8,8.2036,34.6949,2,34.695,2,173.4,2,170.4,2,8.207,2,-34.391,28.0019,20100412,2000
 197KN20100404,   ACT,12,1,6,6,2,20100412,1849,-34.3993,28.0331,962.4,5.7553,34.6232,2,34.6241,2,148.9,2,144.5,2,5.7554,2,-34.3916,28.0064,20100412,1952
 197KN20100404,   ACT,12,1,5,5,2,20100412,1849,-34.3993,28.0331,1278.8,3.6862,34.6182,2,34.618,2,157.1,2,156.9,2,3.686,2,-34.3924,28.0109,20100412,1944
 197KN20100404,   ACT,12,1,4,4,2,20100412,1849,-34.3993,28.0331,1603.7,2.8433,34.6997,2,34.6987,2,178.9,2,178.9,2,2.8439,2,-34.3934,28.0148,20100412,1935
 197KN20100404,   ACT,12,1,3,3,2,20100412,1849,-34.3993,28.0331,2320.9,2.4171,34.813,2,34.8131,2,215.1,2,215,2,2.4189,3,-34.3952,28.0217,20100412,1920
 197KN20100404,   ACT,12,1,2,2,2,20100412,1849,-34.3993,28.0331,3058.7,2.0111,34.8068,2,34.8064,2,220.5,2,220.5,2,2.0112,2,-34.3971,28.0276,20100412,1905
 197KN20100404,   ACT,12,1,1,1,2,20100412,1849,-34.3993,28.0331,3859.9,1.1295,34.7388,2,34.7384,2,217.7,2,217.9,2,1.1292,2,-34.3992,28.0328,20100412,1849