BOTTLE,20220815CCHSIOAMB
EXPOCODE,SECT_ID,STNNBR,CASTNO,SAMPNO,BTLNBR,BTLNBR_FLAG_W,DATE,TIME,LATITUDE,LONGITUDE,CTDPRS,CTDTMP,CTDSAL,CTDSAL_FLAG_W,SALNTY,SALNTY_FLAG_W,CTDOXY,CTDOXY_FLAG_W,OXYGEN,OXYGEN_FLAG_W,REFTMP,REFTMP_FLAG_W,BTL_LAT,BTL_LON,BTL_DATE,BTL_TIME
,,,,,,,,,,,DBAR,ITS-90,PSS-78,,PSS-78,,UMOL/KG,,UMOL/KG,,ITS-90,,,,,
 197KN20100404,   ACT,35,1,12,12,2,20100419,451,-34.8554,28.3392,33.8,23.3332,35.4824,2,-999,9,211,2,211.5,2,23.3268,2,-34.8594,28.318,20100419,625
 197KN20100404,   ACT,35,1,11,11,2,20100419,451,-34.8554,28.3392,128.4,19.5307,35.5335,2,35.5354,2,191.3,2,190,2,19.5286,2,-34.8585,28.3196,20100419,620
 197KN20100404,   ACT,35,1,10,10,2,20100419,451,-34.8554,28.3392,308.4,16.4214,35.5282,2,-999,9,204.3,2,205.3,2,16.4238,2,-34.8577,28.321,20100419,616
 197KN20100404,   ACT,35,1,9,9,2,20100419,451,-34.8554,28.3392,609.4,12.0951,35.0838,2,-999,9,216.4,2,215.4,2,12.0993,2,-34.8567,28.3228,20100419,609
 197KN20100404,   ACT,35,1,8,8,2,20100419,451,-34.8554,28.3392,915.4,8.9774,34.6996,2,-999,9,203.7,2,201.4,2,8.9768,2,-34.856,28.3245,20100419,602
 197KN20100404,   ACT,35,1,7,7,2,20100419,451,-34.8554,28.3392,1302.9,5.0498,34.5358,2,34.5323,2,159.7,2,162.4,2,5.0478,2,-34.8554,28.3259,20100419,553
 197KN20100404,   ACT,35,1,6,6,2,20100419,451,-34.8554,28.3392,1709.8,3.1798,34.6286,2,-999,9,167.6,2,166.2,2,3.1798,2,-34.8551,28.3278,20100419,545
 197KN20100404,   ACT,35,1,5,5,2,20100419,451,-34.8554,28.3392,2220.7,2.6862,34.7664,2,-999,9,193,2,192.9,2,2.686,2,-34.8551,28.3302,20100419,535
 197KN20100404,   ACT,35,1,4,4,2,20100419,451,-34.8554,28.3392,2731.2,2.437,34.8108,2,34.8111,2,210.5,2,210.5,2,2.4369,2,-34.8551,28.3326,20100419,524
 197KN20100404,   ACT,35,1,3,3,2,20100419,451,-34.8554,28.3392,3344.4,2.036,34.8069,2,34.8072,2,218.3,2,218.5,2,2.036,2,-34.8551,28.3351,20100419,512
 197KN20100404,   ACT,35,1,2,2,2,20100419,451,-34.8554,28.3392,3860.3,1.4271,34.7601,2,34.7604,2,217.4,2,217.3,2,1.427,2,-34.8553,28.3373,20100419,501
 197KN20100404,   ACT,35,1,1,1,2,20100419,451,-34.8554,28.3392,4289.8,1.1464,34.7368,2,34.7376,2,217.8,2,216.9,2,1.1464,2,-34.8554,28.3391,20100419,451
 197KN20100404,   ACT,36,1,12,12,2,20100419,916,-34.9622,28.4016,32.6,22.6965,35.5102,2,-999,9,220.4,2,214.4,2,22.6971,2,-34.9642,28.3879,20100419,1049
 197KN20100404,   ACT,36,1,11,11,2,20100419,916,-34.9622,28.4016,132.6,19.8742,35.5433,2,-999,9,202.4,2,193.9,2,19.8738,2,-34.9641,28.3888,20100419,1045
 197KN20100404,   ACT,36,1,10,10,2,20100419,916,-34.9622,28.4016,353.3,15.8068,35.4759,2,35.4764,2,207.8,2,200,2,15.8084,2,-34.9638,28.3899,20100419,1040
 197KN20100404,   ACT,36,1,9,9,2,20100419,916,-34.9622,28.4016,598.9,12.3845,35.1299,2,-999,9,213.3,2,204.5,2,12.3863,2,-34.9629,28.3912,20100419,1034
 197KN20100404,   ACT,36,1,8,8,2,20100419,916,-34.9622,28.4016,803.4,10.313,34.8503,2,-999,9,217.2,2,212.7,2,10.3126,2,-34.9627,28.3919,20100419,1028
 197KN20100404,   ACT,36,1,7,7,2,20100419,916,-34.9622,28.4016,1116.5,7.462,34.6742,2,34.6747,2,154,2,151.6,2,7.463,2,-34.9624,28.393,20100419,1021
 197KN20100404,   ACT,36,1,6,6,2,20100419,916,-34.9622,28.4016,1624.4,3.5045,34.573,2,-999,9,164.5,2,163.6,2,3.5045,2,-34.9619,28.3946,20100419,1011
 197KN20100404,   ACT,36,1,5,5,2,20100419,916,-34.9622,28.4016,2144.3,2.7058,34.7486,2,-999,9,184.4,2,184,2,2.7059,2,-34.9617,28.3961,20100419,1000
 197KN20100404,   ACT,36,1,4,4,2,20100419,916,-34.9622,28.4016,2743,2.435,34.8137,2,34.8143,2,213.3,2,212.6,2,2.4346,2,-34.9617,28.3976,20100419,948
 197KN20100404,   ACT,36,1,3,3,2,20100419,916,-34.9622,28.4016,3234.3,2.1344,34.813,2,34.8133,2,218.5,2,218.4,2,2.1351,2,-34.9618,28.3989,20100419,938
 197KN20100404,   ACT,36,1,2,2,2,20100419,916,-34.9622,28.4016,3742.3,1.5516,34.7699,2,34.7703,2,215.6,2,216.3,2,1.5509,2,-34.9619,28.4001,20100419,927
 197KN20100404,   ACT,36,1,1,1,2,20100419,916,-34.9622,28.4016,4363,1.1509,34.7364,2,34.7693,3,216.3,2,215.7,2,1.1514,2,-34.9622,28.4016,20100419,916
 197KN20100404,   ACT,37,1,12,12,2,20100419,1338,-35.1486,28.5267,24.5,23.282,35.5074,2,-999,9,212.4,2,211.8,2,23.2821,2,-35.1569,28.5227,20100419,1522
 197KN20100404,   ACT,37,1,11,11,2,20100419,1338,-35.1486,28.5267,128.9,19.5083,35.5101,2,35.5093,2,186.9,2,186.6,2,19.5071,2,-35.156,28.5229,20100419,1517
 197KN20100404,   ACT,37,1,10,10,2,20100419,1338,-35.1486,28.5267,313.4,16.6383,35.5271,2,-999,9,208.4,2,203.1,2,16.6457,2,-35.155,28.5233,20100419,1512
 197KN20100404,   ACT,37,1,9,9,2,20100419,1338,-35.1486,28.5267,616.7,12.4672,35.147,2,-999,9,213.9,2,213.6,2,12.4704,2,-35.1533,28.5237,20100419,1504
 197KN20100404,   ACT,37,1,8,8,2,20100419,1338,-35.1486,28.5267,903.3,10.0104,34.8125,2,-999,9,208.4,2,208.4,2,10.0101,2,-35.1521,28.5248,20100419,1456
 197KN20100404,   ACT,37,1,7,7,2,20100419,1338,-35.1486,28.5267,1295,6.0264,34.6011,2,34.603,2,147.8,2,150.9,2,6.0274,2,-35.1504,28.5254,20100419,1447
 197KN20100404,   ACT,37,1,6,6,2,20100419,1338,-35.1486,28.5267,1710.9,3.2945,34.5915,2,-999,9,167.5,2,165.4,2,3.295,2,-35.1489,28.5246,20100419,1438
 197KN20100404,   ACT,37,1,5,5,2,20100419,1338,-35.1486,28.5267,2222.8,2.726,34.7604,2,-999,9,187.5,2,192.6,3,2.726,2,-35.1491,28.5242,20100419,1427
 197KN20100404,   ACT,37,1,4,4,2,20100419,1338,-35.1486,28.5267,2733.6,2.4698,34.8175,2,34.8176,2,211.9,2,213.7,2,2.47,2,-35.1488,28.5248,20100419,1416
 197KN20100404,   ACT,37,1,3,3,2,20100419,1338,-35.1486,28.5267,3356.1,1.9942,34.8035,2,34.8031,2,217.9,2,217.9,2,1.9941,2,-35.1484,28.5259,20100419,1402
 197KN20100404,   ACT,37,1,2,2,2,20100419,1338,-35.1486,28.5267,3875.5,1.4307,34.7604,2,34.76,2,216.6,2,215.9,2,1.4306,2,-35.1481,28.5265,20100419,1351
 197KN20100404,   ACT,37,1,1,1,2,20100419,1338,-35.1486,28.5267,4417.1,1.1368,34.7354,2,34.7355,2,216,2,215.8,2,1.1364,2,-35.1486,28.5267,20100419,1338
 197KN20100404,   ACT,38,1,12,12,2,20100419,1830,-35.3416,28.6441,31.3,25.2182,35.3093,2,-999,9,205,2,204.9,2,25.2184,2,-35.3398,28.642,20100419,2006
 197KN20100404,   ACT,38,1,11,11,2,20100419,1830,-35.3416,28.6441,126.4,22.0652,35.6002,2,35.6015,2,213.2,2,212.9,2,22.0651,2,-35.3407,28.6422,20100419,2001
 197KN20100404,   ACT,38,1,10,10,2,20100419,1830,-35.3416,28.6441,302.2,17.2068,35.5715,2,-999,9,214.6,2,214.4,2,17.2066,2,-35.3412,28.6422,20100419,1956
 197KN20100404,   ACT,38,1,9,9,2,20100419,1830,-35.3416,28.6441,601.2,12.9007,35.2029,2,-999,9,213.5,2,213.6,2,12.9008,2,-35.3419,28.6421,20100419,1949
 197KN20100404,   ACT,38,1,8,8,2,20100419,1830,-35.3416,28.6441,906.1,9.4571,34.738,2,-999,9,210.5,2,209.6,2,9.454,2,-35.3425,28.6421,20100419,1942
 197KN20100404,   ACT,38,1,7,7,2,20100419,1830,-35.3416,28.6441,1310.6,4.8715,34.4369,2,34.4367,2,186.9,2,186.6,2,4.8729,2,-35.3431,28.6421,20100419,1933
 197KN20100404,   ACT,38,1,6,6,2,20100419,1830,-35.3416,28.6441,1716.9,3.4187,34.611,2,-999,9,161.2,2,161.2,2,3.4184,2,-35.3437,28.642,20100419,1924
 197KN20100404,   ACT,38,1,5,5,2,20100419,1830,-35.3416,28.6441,2217.9,2.7284,34.755,2,-999,9,189.5,2,189.9,2,2.7283,2,-35.3438,28.642,20100419,1914
 197KN20100404,   ACT,38,1,4,4,2,20100419,1830,-35.3416,28.6441,2734.1,2.4567,34.8172,2,34.8163,2,213.6,2,213.9,2,2.4566,2,-35.3437,28.6426,20100419,1904
 197KN20100404,   ACT,38,1,3,3,2,20100419,1830,-35.3416,28.6441,3351.8,2.01,34.805,2,34.8047,2,218.6,2,217.8,2,2.0103,2,-35.3432,28.6439,20100419,1852
 197KN20100404,   ACT,38,1,2,2,2,20100419,1830,-35.3416,28.6441,3871.3,1.4367,34.761,2,34.7604,2,216.4,2,216.3,2,1.437,2,-35.3425,28.6441,20100419,1841
 197KN20100404,   ACT,38,1,1,1,2,20100419,1830,-35.3416,28.6441,4385.8,1.1471,34.7363,2,34.7398,3,215.9,2,215.8,2,1.147,2,-35.3416,28.6441,20100419,1830
 197KN20100404,   ACT,39,1,12,12,2,20100419,2316,-35.523,28.7764,76.9,23.915,35.4084,2,-999,9,201.9,2,207.5,2,23.9401,3,-35.516,28.7783,20100420,47
 197KN20100404,   ACT,39,1,11,11,2,20100419,2316,-35.523,28.7764,126.9,21.6318,35.5754,2,-999,9,214.1,2,213.7,2,21.6323,2,-35.5162,28.7787,20100420,45
 197KN20100404,   ACT,39,1,10,10,2,20100419,2316,-35.523,28.7764,401,15.7505,35.4676,2,35.4681,2,198.5,2,198.9,2,15.745,2,-35.5176,28.7788,20100420,39
 197KN20100404,   ACT,39,1,9,9,2,20100419,2316,-35.523,28.7764,700.3,12.1361,35.0946,2,-999,9,211.1,2,211,2,12.14,2,-35.5184,28.7791,20100420,32
 197KN20100404,   ACT,39,1,8,8,2,20100419,2316,-35.523,28.7764,1382.7,4.937,34.5427,2,-999,9,160.9,2,159.8,2,4.9385,2,-35.5192,28.7791,20100420,20
 197KN20100404,   ACT,39,1,7,7,2,20100419,2316,-35.523,28.7764,1710.6,3.4927,34.6077,2,34.6067,2,160.2,2,160.3,2,3.5011,3,-35.52,28.7788,20100420,13
 197KN20100404,   ACT,39,1,6,6,2,20100419,2316,-35.523,28.7764,2016.3,2.889,34.6984,2,-999,9,177.1,2,178.3,2,2.8896,2,-35.5203,28.7786,20100420,6
 197KN20100404,   ACT,39,1,5,5,2,20100419,2316,-35.523,28.7764,2619.7,2.5274,34.8087,2,-999,9,208.5,2,209.3,2,2.5271,2,-35.5212,28.7782,20100419,2355
 197KN20100404,   ACT,39,1,4,4,2,20100419,2316,-35.523,28.7764,3240.7,2.1274,34.8128,2,34.8127,2,218.9,2,217.6,2,2.1277,2,-35.5222,28.7776,20100419,2343
 197KN20100404,   ACT,39,1,3,3,2,20100419,2316,-35.523,28.7764,3754.6,1.5412,34.7707,2,34.771,2,216.8,2,216.9,2,1.5404,2,-35.5225,28.7771,20100419,2333
 197KN20100404,   ACT,39,1,2,2,2,20100419,2316,-35.523,28.7764,4266.8,1.1838,34.7399,2,34.7392,2,216.7,2,216.6,2,1.1836,2,-35.5229,28.7766,20100419,2323
 197KN20100404,   ACT,39,1,1,1,2,20100419,2316,-35.523,28.7764,4522,1.1013,34.7323,2,34.7325,2,215.4,2,216.3,2,1.1016,2,-35.523,28.7764,20100419,2316
 197KN20100404,   ACT,40,1,12,12,2,20100420,523,-35.7196,28.8852,56,23.2782,35.4501,2,-999,9,210.7,2,210.6,2,23.2483,3,-35.7126,28.8825,20100420,702
 197KN20100404,   ACT,40,1,11,11,2,20100420,523,-35.7196,28.8852,202.4,18.0289,35.5881,2,-999,9,209.7,2,209.3,2,18.0286,2,-35.7141,28.8834,20100420,657
 197KN20100404,   ACT,40,1,10,10,2,20100420,523,-35.7196,28.8852,500.8,14.3568,35.366,2,35.3662,2,205.9,2,206.2,2,14.3576,2,-35.715,28.8847,20100420,650
 197KN20100404,   ACT,40,1,9,9,2,20100420,523,-35.7196,28.8852,1003.1,8.0525,34.59,2,-999,9,205.3,2,204.5,2,8.0502,2,-35.7153,28.885,20100420,640
 197KN20100404,   ACT,40,1,8,8,2,20100420,523,-35.7196,28.8852,1311.3,4.725,34.4114,2,-999,9,192.2,2,192.3,2,4.7219,2,-35.7157,28.8848,20100420,633
 197KN20100404,   ACT,40,1,7,7,2,20100420,523,-35.7196,28.8852,1606.6,3.6922,34.5568,2,34.5588,2,163.9,2,163.3,2,3.6927,2,-35.716,28.885,20100420,626
 197KN20100404,   ACT,40,1,6,6,2,20100420,523,-35.7196,28.8852,2133.1,2.7942,34.735,2,-999,9,183.8,2,184.3,2,2.794,2,-35.7171,28.8849,20100420,616
 197KN20100404,   ACT,40,1,5,5,2,20100420,523,-35.7196,28.8852,2534.2,2.5696,34.8009,2,-999,9,206.6,2,206.2,2,2.5701,2,-35.7174,28.8848,20100420,607
 197KN20100404,   ACT,40,1,4,4,2,20100420,523,-35.7196,28.8852,3154.7,2.2312,34.8188,2,34.8188,2,219,2,218.7,2,2.2311,2,-35.7175,28.8846,20100420,555
 197KN20100404,   ACT,40,1,3,3,2,20100420,523,-35.7196,28.8852,3848.7,1.5461,34.7699,2,34.7697,2,217.3,2,216.9,2,1.5467,2,-35.718,28.8844,20100420,542
 197KN20100404,   ACT,40,1,2,2,2,20100420,523,-35.7196,28.8852,4181.2,1.3225,34.751,2,34.7506,2,216.8,2,216.7,2,1.3226,2,-35.7188,28.8848,20100420,534
 197KN20100404,   ACT,40,1,1,1,2,20100420,523,-35.7196,28.8852,4605.3,1.1373,34.7345,2,34.7343,2,216.4,2,215.9,2,1.1373,2,-35.7196,28.8851,20100420,523