BOTTLE,20220815CCHSIOAMB
EXPOCODE,SECT_ID,STNNBR,CASTNO,SAMPNO,BTLNBR,BTLNBR_FLAG_W,DATE,TIME,LATITUDE,LONGITUDE,CTDPRS,CTDTMP,CTDSAL,CTDSAL_FLAG_W,SALNTY,SALNTY_FLAG_W,CTDOXY,CTDOXY_FLAG_W,OXYGEN,OXYGEN_FLAG_W,REFTMP,REFTMP_FLAG_W,BTL_LAT,BTL_LON,BTL_DATE,BTL_TIME
,,,,,,,,,,,DBAR,ITS-90,PSS-78,,PSS-78,,UMOL/KG,,UMOL/KG,,ITS-90,,,,,
 197KN20100404,   ACT,25,1,12,12,2,20100417,1502,-33.6521,27.653,7.2,20.3087,35.3565,2,-999,9,227.8,2,228.7,2,20.3101,2,-33.6548,27.6618,20100417,1554
 197KN20100404,   ACT,25,1,11,11,2,20100417,1502,-33.6521,27.653,40.8,15.3991,35.3406,2,-999,9,175.7,2,174.1,2,15.3959,2,-33.6538,27.6615,20100417,1551
 197KN20100404,   ACT,25,1,10,10,2,20100417,1502,-33.6521,27.653,72.3,13.3592,35.2099,2,35.2121,2,183.5,2,184.7,2,13.3438,3,-33.653,27.6612,20100417,1548
 197KN20100404,   ACT,25,1,9,9,2,20100417,1502,-33.6521,27.653,111.2,12.0548,35.0881,2,-999,9,192.3,2,195.3,2,12.0554,2,-33.6521,27.6612,20100417,1544
 197KN20100404,   ACT,25,1,8,8,2,20100417,1502,-33.6521,27.653,196.8,10.5704,34.9079,2,-999,9,203.9,2,197.4,2,10.5579,3,-33.6511,27.6604,20100417,1540
 197KN20100404,   ACT,25,1,7,7,2,20100417,1502,-33.6521,27.653,286,9.7498,34.8006,2,34.7972,2,198.3,2,203,2,9.7508,2,-33.6497,27.6604,20100417,1536
 197KN20100404,   ACT,25,1,6,6,2,20100417,1502,-33.6521,27.653,404.3,8.6297,34.7249,2,-999,9,173.9,2,174.7,2,8.6287,2,-33.6487,27.659,20100417,1532
 197KN20100404,   ACT,25,1,5,5,2,20100417,1502,-33.6521,27.653,554.5,6.5218,34.5552,2,-999,9,175.3,2,173.6,2,6.5216,2,-33.6491,27.6574,20100417,1526
 197KN20100404,   ACT,25,1,4,4,2,20100417,1502,-33.6521,27.653,603.1,6.4166,34.5945,2,34.5958,2,158,2,158.6,2,6.4172,2,-33.6489,27.6565,20100417,1522
 197KN20100404,   ACT,25,1,3,3,2,20100417,1502,-33.6521,27.653,713.9,5.0327,34.4389,2,34.4391,2,188,2,188.8,2,5.0386,2,-33.6488,27.6549,20100417,1518
 197KN20100404,   ACT,25,1,2,2,2,20100417,1502,-33.6521,27.653,1015.9,3.8294,34.5831,2,34.5836,2,158.9,2,158.7,2,3.829,2,-33.6506,27.6536,20100417,1510
 197KN20100404,   ACT,25,1,1,1,2,20100417,1502,-33.6521,27.653,1248.2,3.5252,34.6515,2,34.6515,2,155.1,2,155.7,2,3.5251,2,-33.6521,27.653,20100417,1502
 197KN20100404,   ACT,26,1,12,12,2,20100417,1714,-33.7072,27.694,4,21.1182,35.3495,2,-999,9,223.1,2,217.2,2,21.1174,2,-33.7126,27.7006,20100417,1813
 197KN20100404,   ACT,26,1,11,11,2,20100417,1714,-33.7072,27.694,24.1,20.4077,35.3528,2,-999,9,209.6,2,204.7,2,20.4103,2,-33.7122,27.7004,20100417,1811
 197KN20100404,   ACT,26,1,10,10,2,20100417,1714,-33.7072,27.694,78.6,13.8381,35.2539,2,35.2556,2,183.5,2,181.5,2,13.8436,2,-33.7117,27.7007,20100417,1807
 197KN20100404,   ACT,26,1,9,9,2,20100417,1714,-33.7072,27.694,152.3,12.0997,35.0935,2,-999,9,199.8,2,195.3,2,12.0998,2,-33.7112,27.7004,20100417,1803
 197KN20100404,   ACT,26,1,8,8,2,20100417,1714,-33.7072,27.694,251.3,10.4112,34.8887,2,-999,9,203.5,2,196.4,2,10.4102,2,-33.7106,27.6999,20100417,1759
 197KN20100404,   ACT,26,1,7,7,2,20100417,1714,-33.7072,27.694,398.8,8.5688,34.6759,2,34.6769,2,194.3,2,196.7,2,8.5683,2,-33.7101,27.699,20100417,1754
 197KN20100404,   ACT,26,1,6,6,2,20100417,1714,-33.7072,27.694,609.3,6.5894,34.6301,2,-999,9,154.1,2,150.3,2,6.5891,2,-33.7094,27.6984,20100417,1749
 197KN20100404,   ACT,26,1,5,5,2,20100417,1714,-33.7072,27.694,724.8,4.9181,34.4799,2,-999,9,173,2,175.2,2,4.9106,2,-33.7096,27.6981,20100417,1744
 197KN20100404,   ACT,26,1,4,4,2,20100417,1714,-33.7072,27.694,873.1,4.3174,34.4788,2,34.4791,2,177.3,2,173.7,2,4.3177,2,-33.7096,27.6973,20100417,1738
 197KN20100404,   ACT,26,1,3,3,2,20100417,1714,-33.7072,27.694,1019.4,3.9639,34.5862,2,-999,9,158,2,155.1,2,3.9633,2,-33.7092,27.696,20100417,1733
 197KN20100404,   ACT,26,1,2,2,2,20100417,1714,-33.7072,27.694,1213,3.4426,34.6501,2,34.6525,2,154.9,2,157.1,2,3.4438,2,-33.7087,27.6958,20100417,1726
 197KN20100404,   ACT,26,1,1,1,2,20100417,1714,-33.7072,27.694,1816.2,2.82,34.7276,2,34.7274,2,181.5,2,181.1,2,2.8199,2,-33.7074,27.6942,20100417,1714
 197KN20100404,   ACT,27,1,12,12,2,20100417,1947,-33.7907,27.7318,26.4,19.5346,35.3651,2,-999,9,194.2,2,195.3,2,19.6397,3,-33.794,27.741,20100417,2051
 197KN20100404,   ACT,27,1,11,11,2,20100417,1947,-33.7907,27.7318,78.2,14.3529,35.3035,2,-999,9,198.5,2,201,3,14.3861,3,-33.7936,27.7408,20100417,2047
 197KN20100404,   ACT,27,1,10,10,2,20100417,1947,-33.7907,27.7318,176.8,12.0314,35.0864,2,35.0868,2,196.1,2,196.6,2,12.0302,2,-33.7932,27.74,20100417,2043
 197KN20100404,   ACT,27,1,9,9,2,20100417,1947,-33.7907,27.7318,304.6,9.9363,34.8373,2,-999,9,192,2,192.6,2,9.9156,2,-33.7931,27.7391,20100417,2039
 197KN20100404,   ACT,27,1,8,8,2,20100417,1947,-33.7907,27.7318,503.5,7.8029,34.6791,2,-999,9,169.6,2,162.6,2,7.8027,2,-33.7931,27.7386,20100417,2034
 197KN20100404,   ACT,27,1,7,7,2,20100417,1947,-33.7907,27.7318,728.9,5.8369,34.6197,2,34.6095,2,147.7,2,147.3,2,5.8367,2,-33.7927,27.7386,20100417,2028
 197KN20100404,   ACT,27,1,6,6,2,20100417,1947,-33.7907,27.7318,1024.3,3.8449,34.5449,2,-999,9,163.7,2,163.2,2,3.8412,2,-33.7923,27.7368,20100417,2021
 197KN20100404,   ACT,27,1,5,5,2,20100417,1947,-33.7907,27.7318,1273.1,3.2748,34.6671,2,-999,9,159.4,2,159.2,2,3.2753,2,-33.7922,27.7352,20100417,2014
 197KN20100404,   ACT,27,1,4,4,2,20100417,1947,-33.7907,27.7318,1572.7,2.8459,34.7158,2,34.7148,2,175.5,2,176.5,2,2.8458,2,-33.7915,27.7347,20100417,2006
 197KN20100404,   ACT,27,1,3,3,2,20100417,1947,-33.7907,27.7318,1774.2,2.7009,34.7526,2,34.753,2,188.1,2,189,2,2.7004,2,-33.791,27.7342,20100417,2000
 197KN20100404,   ACT,27,1,2,2,2,20100417,1947,-33.7907,27.7318,2032.2,2.64,34.7769,2,34.7771,2,198.2,2,197.9,2,2.6393,2,-33.7908,27.7328,20100417,1953
 197KN20100404,   ACT,27,1,1,1,2,20100417,1947,-33.7907,27.7318,2230,2.6006,34.7888,2,34.7889,2,201.6,2,202,2,2.5997,2,-33.7907,27.7317,20100417,1947
 197KN20100404,   ACT,28,1,12,12,2,20100417,2241,-33.9027,27.7991,2.2,21.5584,35.3495,2,-999,9,208.9,2,218.3,2,21.5566,2,-33.9116,27.8012,20100417,2357
 197KN20100404,   ACT,28,1,11,11,2,20100417,2241,-33.9027,27.7991,32.5,18.1079,35.3762,2,-999,9,183.2,2,171.2,2,18.1116,2,-33.9113,27.8012,20100417,2355
 197KN20100404,   ACT,28,1,10,10,2,20100417,2241,-33.9027,27.7991,152.6,12.67,35.1592,2,35.1429,3,192.9,2,192.9,2,12.673,2,-33.9107,27.8014,20100417,2350
 197KN20100404,   ACT,28,1,9,9,2,20100417,2241,-33.9027,27.7991,251.6,10.7459,34.9284,2,-999,9,198.6,2,199.1,2,10.7463,2,-33.9103,27.8013,20100417,2347
 197KN20100404,   ACT,28,1,8,8,2,20100417,2241,-33.9027,27.7991,498.9,8.1194,34.6987,2,-999,9,171.5,2,169.5,2,8.1164,2,-33.9095,27.8016,20100417,2341
 197KN20100404,   ACT,28,1,7,7,2,20100417,2241,-33.9027,27.7991,806.7,5.6222,34.5832,2,34.5871,2,150.6,2,156.4,2,5.622,2,-33.9089,27.8021,20100417,2334
 197KN20100404,   ACT,28,1,6,6,2,20100417,2241,-33.9027,27.7991,1041.3,3.7727,34.5432,2,-999,9,169,2,167,2,3.7738,2,-33.9084,27.8018,20100417,2327
 197KN20100404,   ACT,28,1,5,5,2,20100417,2241,-33.9027,27.7991,1422.6,3.0318,34.6936,2,-999,9,169.6,2,165.6,2,3.0319,2,-33.9079,27.8015,20100417,2319
 197KN20100404,   ACT,28,1,4,4,2,20100417,2241,-33.9027,27.7991,1901.4,2.5919,34.7857,2,34.7854,2,199.5,2,200.8,2,2.5919,2,-33.9069,27.8013,20100417,2308
 197KN20100404,   ACT,28,1,3,3,2,20100417,2241,-33.9027,27.7991,2417.8,2.4887,34.8092,2,34.808,2,210.8,2,212.2,2,2.489,2,-33.9055,27.801,20100417,2258
 197KN20100404,   ACT,28,1,2,2,2,20100417,2241,-33.9027,27.7991,2898,2.1312,34.8134,2,34.8121,2,219.4,2,219.6,2,2.1329,3,-33.9039,27.7997,20100417,2247
 197KN20100404,   ACT,28,1,1,1,2,20100417,2241,-33.9027,27.7991,3168.2,2.0878,34.8099,2,34.8078,2,221.3,2,219.8,2,2.0875,2,-33.9028,27.7992,20100417,2241
 197KN20100404,   ACT,29,1,12,12,2,20100418,204,-34.0494,27.8319,33.2,19.5554,35.3625,2,-999,9,194.1,2,189.9,2,19.5435,3,-34.0673,27.8321,20100418,333
 197KN20100404,   ACT,29,1,11,11,2,20100418,204,-34.0494,27.8319,102.5,14.5236,35.3072,2,-999,9,179.9,2,177.2,2,14.5229,2,-34.0653,27.8324,20100418,329
 197KN20100404,   ACT,29,1,10,10,2,20100418,204,-34.0494,27.8319,198.9,11.7929,35.0555,2,35.06,2,199.6,2,197.7,2,11.7928,2,-34.0635,27.8331,20100418,325
 197KN20100404,   ACT,29,1,9,9,2,20100418,204,-34.0494,27.8319,396.8,9.4745,34.786,2,-999,9,190,2,188.9,2,9.4735,2,-34.0608,27.8338,20100418,319
 197KN20100404,   ACT,29,1,8,8,2,20100418,204,-34.0494,27.8319,602.2,7.5237,34.666,2,-999,9,156.5,2,156.2,2,7.5236,2,-34.0587,27.834,20100418,313
 197KN20100404,   ACT,29,1,7,7,2,20100418,204,-34.0494,27.8319,908,5.3783,34.6337,2,34.6376,2,137.8,2,137.8,2,5.381,2,-34.0561,27.8334,20100418,305
 197KN20100404,   ACT,29,1,6,6,2,20100418,204,-34.0494,27.8319,1333.4,3.0158,34.6409,2,-999,9,169.9,2,169.7,2,3.0154,2,-34.0549,27.8328,20100418,255
 197KN20100404,   ACT,29,1,5,5,2,20100418,204,-34.0494,27.8319,1809.6,2.6384,34.7653,2,-999,9,192.9,2,193.4,2,2.6383,2,-34.054,27.833,20100418,244
 197KN20100404,   ACT,29,1,4,4,2,20100418,204,-34.0494,27.8319,2293.9,2.4067,34.8102,2,34.8125,2,211.9,2,211.6,2,2.4065,2,-34.0529,27.8335,20100418,234
 197KN20100404,   ACT,29,1,3,3,2,20100418,204,-34.0494,27.8319,2679.7,2.1749,34.8154,2,34.8171,2,218,2,218.6,2,2.1749,2,-34.0517,27.8333,20100418,225
 197KN20100404,   ACT,29,1,2,2,2,20100418,204,-34.0494,27.8319,3110.8,1.9002,34.7981,2,34.7982,2,218.5,2,218.2,2,1.9006,2,-34.0504,27.8324,20100418,215
 197KN20100404,   ACT,29,1,1,1,2,20100418,204,-34.0494,27.8319,3639.2,1.4375,34.7615,2,34.7606,2,216.7,2,217,2,1.4394,3,-34.0495,27.832,20100418,204
 197KN20100404,   ACT,30,1,12,12,2,20100418,557,-34.2025,27.9119,35.3,21.5295,35.3755,2,-999,9,191.4,2,193.3,2,21.5512,3,-34.236,27.9025,20100418,742
 197KN20100404,   ACT,30,1,11,11,2,20100418,557,-34.2025,27.9119,129,14.7403,35.3433,2,-999,9,179.2,2,180.7,2,14.7403,2,-34.2325,27.9039,20100418,737
 197KN20100404,   ACT,30,1,10,10,2,20100418,557,-34.2025,27.9119,306.9,11.5698,35.0274,2,34.616,3,202,2,200.2,2,11.5716,2,-34.2292,27.9048,20100418,732
 197KN20100404,   ACT,30,1,9,9,2,20100418,557,-34.2025,27.9119,514.1,9.3276,34.7698,2,-999,9,188.4,2,189.8,2,9.327,2,-34.2254,27.906,20100418,726
 197KN20100404,   ACT,30,1,8,8,2,20100418,557,-34.2025,27.9119,731.1,6.8857,34.6521,2,-999,9,149.6,2,148.5,2,6.8857,2,-34.2222,27.9066,20100418,720
 197KN20100404,   ACT,30,1,7,7,2,20100418,557,-34.2025,27.9119,1025.5,4.9576,34.6121,2,35.0313,3,146.7,2,145.1,2,4.9574,2,-34.2186,27.9075,20100418,712
 197KN20100404,   ACT,30,1,6,6,2,20100418,557,-34.2025,27.9119,1454.8,2.9819,34.6614,2,-999,9,169.3,2,170.7,2,2.9811,2,-34.2153,27.9095,20100418,702
 197KN20100404,   ACT,30,1,5,5,2,20100418,557,-34.2025,27.9119,2018,2.5837,34.79,2,-999,9,202.6,2,203.4,2,2.5831,2,-34.2113,27.9108,20100418,649
 197KN20100404,   ACT,30,1,4,4,2,20100418,557,-34.2025,27.9119,2532.5,2.3187,34.8203,2,34.8218,2,218.6,2,217.3,2,2.3189,2,-34.2075,27.9109,20100418,635
 197KN20100404,   ACT,30,1,3,3,2,20100418,557,-34.2025,27.9119,2921,2.0704,34.8105,2,34.8115,2,219.9,2,219.6,2,2.0703,2,-34.2052,27.9114,20100418,624
 197KN20100404,   ACT,30,1,2,2,2,20100418,557,-34.2025,27.9119,3324.9,1.6467,34.7789,2,34.7797,2,217.3,2,217.5,2,1.6441,3,-34.203,27.9131,20100418,612
 197KN20100404,   ACT,30,1,1,1,2,20100418,557,-34.2025,27.9119,3676.2,1.2361,34.7451,2,34.7445,2,216.5,2,217.2,2,1.2376,3,-34.2025,27.912,20100418,557
 197KN20100404,   ACT,31,1,12,12,2,20100418,1216,-34.3575,27.9977,42.6,23.1476,35.3388,2,-999,9,216.7,2,201.1,2,23.1577,2,-34.3974,27.9758,20100418,1354
 197KN20100404,   ACT,31,1,11,11,2,20100418,1216,-34.3575,27.9977,103.8,18.3031,35.4116,2,35.4135,2,151.2,2,150.6,2,18.3031,2,-34.3946,27.9772,20100418,1350
 197KN20100404,   ACT,31,1,10,10,2,20100418,1216,-34.3575,27.9977,202.8,15.0449,35.3806,2,-999,9,179.2,2,183.6,2,15.0399,2,-34.3915,27.9789,20100418,1345
 197KN20100404,   ACT,31,1,9,9,2,20100418,1216,-34.3575,27.9977,406.9,11.8182,35.0576,2,-999,9,205.3,2,207,2,11.8085,2,-34.3875,27.981,20100418,1339
 197KN20100404,   ACT,31,1,8,8,2,20100418,1216,-34.3575,27.9977,661.8,8.8256,34.7268,2,-999,9,186.9,2,184.3,2,8.8287,2,-34.3834,27.9832,20100418,1332
 197KN20100404,   ACT,31,1,7,7,2,20100418,1216,-34.3575,27.9977,1103.1,5.1484,34.5944,2,34.5969,2,147.4,2,148.1,2,5.1491,2,-34.3787,27.986,20100418,1321
 197KN20100404,   ACT,31,1,6,6,2,20100418,1216,-34.3575,27.9977,1375.5,3.3513,34.5871,2,-999,9,165.2,2,164.3,2,3.3514,2,-34.3757,27.9879,20100418,1313
 197KN20100404,   ACT,31,1,5,5,2,20100418,1216,-34.3575,27.9977,1773.2,2.7666,34.7334,2,-999,9,184.2,2,185.5,2,2.7666,2,-34.372,27.9899,20100418,1302
 197KN20100404,   ACT,31,1,4,4,2,20100418,1216,-34.3575,27.9977,2015.9,2.6161,34.7884,2,34.7874,2,201.9,2,202.5,2,2.6162,2,-34.3691,27.9913,20100418,1254
 197KN20100404,   ACT,31,1,3,3,2,20100418,1216,-34.3575,27.9977,2444,2.4,34.8209,2,34.8206,2,216.6,2,216.4,2,2.3997,2,-34.3653,27.9934,20100418,1243
 197KN20100404,   ACT,31,1,2,2,2,20100418,1216,-34.3575,27.9977,2984.5,2.0205,34.8072,2,34.8066,2,218.3,2,218.5,2,2.0207,2,-34.3615,27.9949,20100418,1232
 197KN20100404,   ACT,31,1,1,1,2,20100418,1216,-34.3575,27.9977,3762.8,1.1719,34.7423,2,34.7416,2,-999,9,-999,5,1.1719,2,-34.358,27.9974,20100418,1216
 197KN20100404,   ACT,32,1,12,12,2,20100418,1617,-34.4318,28.0707,51.5,25.2407,35.3045,2,-999,9,219.6,2,203.8,2,25.2875,3,-34.4635,28.0437,20100418,1759
 197KN20100404,   ACT,32,1,11,11,2,20100418,1617,-34.4318,28.0707,78.1,21.8541,35.4286,2,-999,9,185.5,2,198.1,2,21.8559,2,-34.4623,28.0448,20100418,1756
 197KN20100404,   ACT,32,1,10,10,2,20100418,1617,-34.4318,28.0707,133.6,17.8461,35.5134,2,35.5121,2,179.7,2,178.7,2,17.8445,2,-34.4604,28.0464,20100418,1753
 197KN20100404,   ACT,32,1,9,9,2,20100418,1617,-34.4318,28.0707,301.9,13.99,35.3188,2,-999,9,199,2,199.1,2,13.9898,2,-34.4578,28.0483,20100418,1747
 197KN20100404,   ACT,32,1,8,8,2,20100418,1617,-34.4318,28.0707,745.2,8.8293,34.7061,2,-999,9,188,2,188.6,2,8.8189,2,-34.453,28.0516,20100418,1738
 197KN20100404,   ACT,32,1,7,7,2,20100418,1617,-34.4318,28.0707,1136.5,5.4829,34.6195,2,34.6178,2,142.4,2,143.1,2,5.4831,2,-34.4493,28.0542,20100418,1728
 197KN20100404,   ACT,32,1,6,6,2,20100418,1617,-34.4318,28.0707,1353.4,3.782,34.606,2,-999,9,159.5,2,155.5,2,3.7805,2,-34.4473,28.056,20100418,1721
 197KN20100404,   ACT,32,1,5,5,2,20100418,1617,-34.4318,28.0707,1842.3,2.7841,34.7299,2,-999,9,182.8,2,184,2,2.784,2,-34.4436,28.0589,20100418,1709
 197KN20100404,   ACT,32,1,4,4,2,20100418,1617,-34.4318,28.0707,2342.8,2.5194,34.8078,2,34.808,2,208.6,2,209.7,2,2.5196,2,-34.4397,28.0623,20100418,1654
 197KN20100404,   ACT,32,1,3,3,2,20100418,1617,-34.4318,28.0707,2809.7,2.1775,34.8165,2,34.8159,2,218.9,2,218.5,2,2.1773,2,-34.4367,28.065,20100418,1642
 197KN20100404,   ACT,32,1,2,2,2,20100418,1617,-34.4318,28.0707,3236.9,1.7493,34.7874,2,34.7878,2,218.2,2,217.3,2,1.7501,2,-34.4345,28.0675,20100418,1631
 197KN20100404,   ACT,32,1,1,1,2,20100418,1617,-34.4318,28.0707,3875.7,1.1697,34.7412,2,34.741,2,216.5,2,216.4,2,1.1695,2,-34.4322,28.0704,20100418,1617
 197KN20100404,   ACT,33,1,12,12,2,20100418,2037,-34.5821,28.1653,53.7,25.5256,35.3222,2,-999,9,202.8,2,202.9,2,25.6276,3,-34.6015,28.1412,20100418,2211
 197KN20100404,   ACT,33,1,11,11,2,20100418,2037,-34.5821,28.1653,129,18.8603,35.5379,2,-999,9,189.8,2,-999,5,18.8591,2,-34.5999,28.1429,20100418,2207
 197KN20100404,   ACT,33,1,10,10,2,20100418,2037,-34.5821,28.1653,252.5,16.2283,35.5076,2,35.5078,2,197.9,2,197.5,2,16.2279,2,-34.5986,28.1444,20100418,2203
 197KN20100404,   ACT,33,1,9,9,2,20100418,2037,-34.5821,28.1653,457,13.0973,35.2322,2,-999,9,197.5,2,-999,5,13.0979,2,-34.5965,28.1462,20100418,2157
 197KN20100404,   ACT,33,1,8,8,2,20100418,2037,-34.5821,28.1653,908.5,7.9491,34.6769,2,-999,9,167.4,2,167.3,2,7.9494,2,-34.5932,28.1493,20100418,2147
 197KN20100404,   ACT,33,1,7,7,2,20100418,2037,-34.5821,28.1653,1113.8,5.5088,34.5192,2,34.5211,2,167.9,2,168.8,2,5.4892,2,-34.592,28.1506,20100418,2141
 197KN20100404,   ACT,33,1,6,6,2,20100418,2037,-34.5821,28.1653,1343.3,4.012,34.518,2,-999,9,167.7,2,167,2,4.0119,2,-34.5907,28.1519,20100418,2135
 197KN20100404,   ACT,33,1,5,5,2,20100418,2037,-34.5821,28.1653,1761.3,2.9271,34.685,2,-999,9,172.6,2,174,2,2.9277,2,-34.5886,28.154,20100418,2125
 197KN20100404,   ACT,33,1,4,4,2,20100418,2037,-34.5821,28.1653,2363.8,2.5429,34.8008,2,34.8003,2,206.4,2,206.4,2,2.5429,2,-34.5872,28.1568,20100418,2113
 197KN20100404,   ACT,33,1,3,3,2,20100418,2037,-34.5821,28.1653,3040.9,2.1386,34.814,2,34.8131,2,219.4,2,219.2,2,2.138,2,-34.5848,28.1599,20100418,2059
 197KN20100404,   ACT,33,1,2,2,2,20100418,2037,-34.5821,28.1653,3646.8,1.4692,34.7643,2,34.764,2,216.1,2,216.4,2,1.47,2,-34.5833,28.1627,20100418,2046
 197KN20100404,   ACT,33,1,1,1,2,20100418,2037,-34.5821,28.1653,4063.7,1.1404,34.7379,2,34.7374,2,214.5,2,214.6,2,1.1398,2,-34.5823,28.165,20100418,2037
 197KN20100404,   ACT,34,1,12,12,2,20100419,25,-34.6807,28.2384,53.6,24.4069,35.5254,2,-999,9,209.6,2,210,2,24.4399,3,-34.6905,28.2158,20100419,157
 197KN20100404,   ACT,34,1,11,11,2,20100419,25,-34.6807,28.2384,152.8,18.1586,35.5421,2,-999,9,184.2,2,184.4,2,18.1601,2,-34.69,28.2173,20100419,153
 197KN20100404,   ACT,34,1,10,10,2,20100419,25,-34.6807,28.2384,300.7,15.7473,35.4729,2,-999,9,199.2,2,198.1,2,15.7471,2,-34.6892,28.219,20100419,148
 197KN20100404,   ACT,34,1,9,9,2,20100419,25,-34.6807,28.2384,509.7,12.8364,35.1991,2,35.1996,2,213.3,2,213.4,2,12.8361,2,-34.6884,28.2209,20100419,141
 197KN20100404,   ACT,34,1,8,8,2,20100419,25,-34.6807,28.2384,857.6,9.1648,34.735,2,-999,9,197.1,2,193,2,9.1683,2,-34.6866,28.2238,20100419,134
 197KN20100404,   ACT,34,1,7,7,2,20100419,25,-34.6807,28.2384,1272.8,4.5627,34.4877,2,-999,9,172.6,2,171.7,2,4.5635,2,-34.6855,28.2255,20100419,125
 197KN20100404,   ACT,34,1,6,6,2,20100419,25,-34.6807,28.2384,1634.3,3.2515,34.6291,2,34.629,2,163.4,2,163.4,2,3.2516,2,-34.6846,28.2266,20100419,117
 197KN20100404,   ACT,34,1,5,5,2,20100419,25,-34.6807,28.2384,2128.2,2.6822,34.762,2,-999,9,190.1,2,191.4,2,2.6818,2,-34.6834,28.2287,20100419,107
 197KN20100404,   ACT,34,1,4,4,2,20100419,25,-34.6807,28.2384,2616.2,2.4167,34.8117,2,34.8115,2,211.4,2,212.2,2,2.4162,2,-34.6829,28.2311,20100419,56
 197KN20100404,   ACT,34,1,3,3,2,20100419,25,-34.6807,28.2384,3133.9,2.1038,34.8106,2,34.8108,2,218.4,2,217.7,2,2.1032,2,-34.6822,28.2337,20100419,46
 197KN20100404,   ACT,34,1,2,2,2,20100419,25,-34.6807,28.2384,3613.7,1.5707,34.7721,2,34.7718,2,217.9,2,217,2,1.5706,2,-34.6817,28.2357,20100419,36
 197KN20100404,   ACT,34,1,1,1,2,20100419,25,-34.6807,28.2384,4159.2,1.1481,34.7379,2,34.738,2,219.2,2,220,2,1.1478,2,-34.6808,28.2383,20100419,25