BOTTLE,20220815CCHSIOAMB
EXPOCODE,SECT_ID,STNNBR,CASTNO,SAMPNO,BTLNBR,BTLNBR_FLAG_W,DATE,TIME,LATITUDE,LONGITUDE,DEPTH,CTDPRS,CTDTMP,CTDSAL,CTDSAL_FLAG_W,SALNTY,SALNTY_FLAG_W,CTDOXY,CTDOXY_FLAG_W,OXYGEN,OXYGEN_FLAG_W,SILCAT,SILCAT_FLAG_W,NITRAT,NITRAT_FLAG_W,PHSPHT,PHSPHT_FLAG_W,XMISS,XMISS_FLAG_W,FLUOR,FLUOR_FLAG_W,PAR,PAR_FLAG_W
,,,,,,,,,,,METERS,DBAR,ITS-90,PSS-78,,PSS-78,,UMOL/KG,,UMOL/KG,,UMOL/KG,,UMOL/KG,,UMOL/KG,,%TRANS,,VOLTS,,VOLTS,
  09AR20120105,  I09S,    43,  1,     24,     24,2,20120129,1251,-53.2097, 115.0160, 3968,      8.7,   4.7917,  33.8210,2,  33.8206,2,   -999.0,5,    314.7,2,     7.40,2,    24.23,2,  -999.00,9,    97.96,2,    0.958,2,    0.000,2
  09AR20120105,  I09S,    43,  1,     23,     23,2,20120129,1251,-53.2097, 115.0160, 3968,     40.4,   4.7880,  33.8205,2,-999.0000,9,    315.0,2,   -999.0,9,  -999.00,9,  -999.00,9,  -999.00,9,    96.96,2,    0.974,2,    0.000,2
  09AR20120105,  I09S,    43,  1,     22,     22,2,20120129,1251,-53.2097, 115.0160, 3968,     40.3,   4.7885,  33.8205,2,-999.0000,9,    315.0,2,   -999.0,9,  -999.00,9,  -999.00,9,  -999.00,9,    97.06,2,    0.948,2,    0.000,2
  09AR20120105,  I09S,    43,  1,     21,     21,2,20120129,1251,-53.2097, 115.0160, 3968,     40.3,   4.7883,  33.8205,2,  33.8206,2,    315.0,2,    314.6,2,     7.30,2,    24.20,2,  -999.00,9,    97.00,2,    0.954,2,    0.000,2
  09AR20120105,  I09S,    43,  1,     20,     20,2,20120129,1251,-53.2097, 115.0160, 3968,     75.9,   4.6199,  33.8178,2,  33.8185,2,    315.7,2,    314.6,2,     7.60,2,    24.23,2,  -999.00,9,    97.30,2,    1.226,2,    0.000,2
  09AR20120105,  I09S,    43,  1,     19,     19,2,20120129,1251,-53.2097, 115.0160, 3968,    106.1,   2.7013,  33.8726,2,  33.8731,2,    325.2,2,    323.8,2,    15.80,2,    25.80,2,  -999.00,9,    98.26,2,    0.685,2,    0.000,2
  09AR20120105,  I09S,    43,  1,     18,     18,2,20120129,1251,-53.2097, 115.0160, 3968,    160.9,   1.5775,  33.9147,2,  33.9169,2,    322.4,2,    319.1,2,    22.30,2,    28.37,2,  -999.00,9,    97.91,2,   -0.116,2,    0.000,2
  09AR20120105,  I09S,    43,  1,     17,     17,2,20120129,1251,-53.2097, 115.0160, 3968,    281.4,   2.1131,  34.2059,2,  34.2050,2,    233.0,2,    238.4,2,    44.60,2,    32.90,2,  -999.00,9,    97.88,2,   -0.181,2,    0.000,2
  09AR20120105,  I09S,    43,  1,     16,     16,2,20120129,1251,-53.2097, 115.0160, 3968,    350.0,   2.1903,  34.3093,2,  34.3070,2,    211.4,2,    214.1,2,    54.10,2,    33.98,2,  -999.00,9,    97.87,2,   -0.184,2,    0.000,2
  09AR20120105,  I09S,    43,  1,     15,     15,2,20120129,1251,-53.2097, 115.0160, 3968,    525.1,   2.4154,  34.5144,2,  34.5142,2,    180.8,2,    179.8,2,    69.20,2,    34.28,2,  -999.00,9,    97.61,2,   -0.182,2,    0.000,2
  09AR20120105,  I09S,    43,  1,     14,     14,2,20120129,1251,-53.2097, 115.0160, 3968,    649.5,   2.3637,  34.5823,2,  34.5820,2,    179.0,2,    177.5,2,    73.30,2,    33.73,2,  -999.00,9,    97.60,2,   -0.174,2,    0.000,2
  09AR20120105,  I09S,    43,  1,     13,     13,2,20120129,1251,-53.2097, 115.0160, 3968,    801.0,   2.2550,  34.6433,2,  34.6427,2,    180.2,2,    179.1,2,    77.10,2,    33.00,2,  -999.00,9,    97.58,2,   -0.179,2,    0.000,2
  09AR20120105,  I09S,    43,  1,     12,     12,2,20120129,1251,-53.2097, 115.0160, 3968,    999.4,   2.1568,  34.7017,2,  34.7017,2,    184.9,2,    184.6,2,    80.10,2,    31.78,2,  -999.00,9,    97.56,2,   -0.182,2,    0.000,2
  09AR20120105,  I09S,    43,  1,     11,     11,2,20120129,1251,-53.2097, 115.0160, 3968,   1300.9,   1.9513,  34.7402,2,  34.7404,2,    193.1,2,    192.9,2,    85.40,2,    30.69,2,  -999.00,9,    97.50,2,   -0.178,2,    0.000,2
  09AR20120105,  I09S,    43,  1,     10,     10,2,20120129,1251,-53.2097, 115.0160, 3968,   1550.9,   1.7586,  34.7468,2,  34.7469,2,    197.4,2,    197.3,2,    90.90,2,    30.59,2,  -999.00,9,    97.45,2,   -0.173,2,    0.000,2
  09AR20120105,  I09S,    43,  1,      9,      9,2,20120129,1251,-53.2097, 115.0160, 3968,   1800.6,   1.5409,  34.7426,2,  34.7427,2,    200.2,2,    200.4,2,    97.60,2,    30.74,2,  -999.00,9,    97.41,2,   -0.178,2,    0.000,2
  09AR20120105,  I09S,    43,  1,      8,      8,2,20120129,1251,-53.2097, 115.0160, 3968,   2100.1,   1.2623,  34.7310,2,  34.7311,2,    203.6,2,    203.7,2,   106.40,2,    31.26,2,  -999.00,9,    97.34,2,   -0.183,2,    0.000,2
  09AR20120105,  I09S,    43,  1,      7,      7,2,20120129,1251,-53.2097, 115.0160, 3968,   2399.7,   0.9812,  34.7167,2,  34.7162,2,    207.2,2,    207.1,2,   114.70,2,    31.68,2,  -999.00,9,    97.28,2,   -0.180,2,    0.000,2
  09AR20120105,  I09S,    43,  1,      6,      6,2,20120129,1251,-53.2097, 115.0160, 3968,   2700.1,   0.6907,  34.7014,2,  34.7015,2,    211.2,2,    211.5,2,   122.10,2,    32.27,2,  -999.00,9,    97.23,2,   -0.187,2,    0.000,2
  09AR20120105,  I09S,    43,  1,      5,      5,2,20120129,1251,-53.2097, 115.0160, 3968,   3000.2,   0.4925,  34.6918,2,  34.6916,2,    215.6,2,    215.4,2,   127.30,2,    32.34,2,  -999.00,9,    97.18,2,   -0.186,2,    0.000,2
  09AR20120105,  I09S,    43,  1,      4,      4,2,20120129,1251,-53.2097, 115.0160, 3968,   3350.1,   0.3417,  34.6844,2,  34.6838,2,    219.3,2,    219.5,2,   132.90,2,    32.47,2,  -999.00,9,    97.17,2,   -0.184,2,    0.000,2
  09AR20120105,  I09S,    43,  1,      3,      3,2,20120129,1251,-53.2097, 115.0160, 3968,   3649.3,   0.2717,  34.6805,2,  34.6796,2,    221.8,2,    221.8,2,   135.80,2,    32.43,2,  -999.00,9,    97.16,2,   -0.184,2,    0.000,2
  09AR20120105,  I09S,    43,  1,      2,      2,2,20120129,1251,-53.2097, 115.0160, 3968,   3900.6,   0.2520,  34.6785,2,  34.6777,2,    223.1,2,    222.8,2,   137.60,2,    32.48,2,  -999.00,9,    97.16,2,   -0.180,2,    0.000,2
  09AR20120105,  I09S,    43,  1,      1,      1,2,20120129,1251,-53.2097, 115.0160, 3968,   4032.2,   0.2571,  34.6778,2,  34.6771,2,    223.6,2,    223.0,2,   137.90,2,    32.48,2,  -999.00,9,    97.17,2,   -0.179,2,    0.000,2
  09AR20120105,  I09S,    44,  1,     24,     24,2,20120129,2003,-52.6113, 115.0020, 3771,      9.5,   4.4435,  33.8285,2,  33.8284,2,    318.0,2,    317.1,2,    11.50,2,    24.88,2,     1.63,2,    98.57,2,    0.742,2,   30.690,2
  09AR20120105,  I09S,    44,  1,     23,     23,2,20120129,2003,-52.6113, 115.0020, 3771,      9.5,   4.4372,  33.8282,2,-999.0000,9,    318.0,2,   -999.0,9,  -999.00,9,  -999.00,9,  -999.00,9,    97.88,2,    0.721,2,   31.240,2
  09AR20120105,  I09S,    44,  1,     22,     22,2,20120129,2003,-52.6113, 115.0020, 3771,      9.5,   4.4367,  33.8281,2,-999.0000,9,    318.0,2,   -999.0,9,  -999.00,9,  -999.00,9,  -999.00,9,    97.80,2,    0.695,2,   32.000,2
  09AR20120105,  I09S,    44,  1,     21,     21,2,20120129,2003,-52.6113, 115.0020, 3771,     34.4,   4.4335,  33.8278,2,  33.8284,2,    317.3,2,    317.8,2,    11.40,2,    24.78,2,     1.64,2,    97.07,2,    0.794,2,    5.242,2
  09AR20120105,  I09S,    44,  1,     20,     20,2,20120129,2003,-52.6113, 115.0020, 3771,     89.5,   3.9507,  33.8360,2,  33.8372,2,    319.1,2,    319.5,2,    13.60,2,    25.00,2,     1.69,2,    97.13,2,    1.148,2,    0.376,2
  09AR20120105,  I09S,    44,  1,     19,     19,2,20120129,2003,-52.6113, 115.0020, 3771,    109.9,   2.8969,  33.8722,2,  33.8703,2,    322.1,2,    321.8,2,    16.90,2,    25.61,2,     1.79,2,    98.13,2,    0.490,2,    0.081,2
  09AR20120105,  I09S,    44,  1,     18,     18,2,20120129,2003,-52.6113, 115.0020, 3771,    169.6,   1.5045,  33.9347,2,  33.9334,2,    316.8,2,    315.3,2,    24.20,2,    28.33,2,     1.95,2,    97.82,2,   -0.160,2,    0.000,2
  09AR20120105,  I09S,    44,  1,     17,     17,2,20120129,2003,-52.6113, 115.0020, 3771,    250.3,   1.8625,  34.1706,2,  34.1783,2,    243.8,2,    249.4,2,    43.90,2,    32.44,2,     2.22,2,    97.89,2,   -0.185,2,    0.000,2
  09AR20120105,  I09S,    44,  1,     16,     16,2,20120129,2003,-52.6113, 115.0020, 3771,    375.1,   2.2034,  34.3887,2,  34.3872,2,    198.8,2,    197.9,2,    61.50,2,    34.67,2,     2.36,2,    97.64,2,   -0.180,2,    0.000,2
  09AR20120105,  I09S,    44,  1,     15,     15,2,20120129,2003,-52.6113, 115.0020, 3771,    500.5,   2.2733,  34.4993,2,  34.4993,2,    182.4,2,    181.5,2,    69.90,2,    34.67,2,     2.37,2,    97.58,2,   -0.182,2,    0.000,2
  09AR20120105,  I09S,    44,  1,     14,     14,2,20120129,2003,-52.6113, 115.0020, 3771,    625.8,   2.2861,  34.5817,2,  34.5820,2,    177.9,2,    177.4,2,    74.50,2,    33.96,2,     2.33,2,    97.57,2,   -0.177,2,    0.000,2
  09AR20120105,  I09S,    44,  1,     13,     13,2,20120129,2003,-52.6113, 115.0020, 3771,    801.0,   2.2180,  34.6606,2,  34.6622,2,    180.6,2,    179.7,2,    78.30,2,    32.73,2,     2.25,2,    97.56,2,   -0.181,2,    0.000,2
  09AR20120105,  I09S,    44,  1,     12,     12,2,20120129,2003,-52.6113, 115.0020, 3771,    999.7,   2.1409,  34.7148,2,  34.7148,2,    186.0,2,    187.1,2,    80.40,2,    31.35,2,     2.16,2,    97.54,2,   -0.180,2,    0.000,2
  09AR20120105,  I09S,    44,  1,     11,     11,2,20120129,2003,-52.6113, 115.0020, 3771,   1249.6,   1.9406,  34.7386,2,  34.7388,2,    192.5,2,    192.3,2,    85.50,2,    30.72,2,     2.13,2,    97.49,2,   -0.180,2,    0.000,2
  09AR20120105,  I09S,    44,  1,     10,     10,2,20120129,2003,-52.6113, 115.0020, 3771,   1499.2,   1.7429,  34.7461,2,  34.7480,2,    197.4,2,    197.3,2,    90.80,2,    30.39,2,     2.11,2,    97.44,2,   -0.181,2,    0.000,2
  09AR20120105,  I09S,    44,  1,      9,      9,2,20120129,2003,-52.6113, 115.0020, 3771,   1750.4,   1.5086,  34.7411,2,  34.7410,2,    200.3,2,    200.6,2,    97.50,2,    30.55,2,     2.13,2,    97.39,2,   -0.176,2,    0.000,2
  09AR20120105,  I09S,    44,  1,      8,      8,2,20120129,2003,-52.6113, 115.0020, 3771,   2000.5,   1.2849,  34.7323,2,  34.7323,2,    203.0,2,    203.0,2,   104.50,2,    30.81,2,     2.16,2,    97.34,2,   -0.182,2,    0.000,2
  09AR20120105,  I09S,    44,  1,      7,      7,2,20120129,2003,-52.6113, 115.0020, 3771,   2301.4,   0.9925,  34.7176,2,  34.7180,2,    206.4,2,    206.6,2,   112.40,2,    31.13,2,     2.19,2,    97.28,2,   -0.188,2,    0.000,2
  09AR20120105,  I09S,    44,  1,      6,      6,2,20120129,2003,-52.6113, 115.0020, 3771,   2602.3,   0.7656,  34.7055,2,  34.7052,2,    209.8,2,    209.8,2,   119.30,2,    31.58,2,     2.22,2,    97.23,2,   -0.179,2,    0.000,2
  09AR20120105,  I09S,    44,  1,      5,      5,2,20120129,2003,-52.6113, 115.0020, 3771,   2898.8,   0.5161,  34.6934,2,  34.6930,2,    214.9,2,    215.2,2,   126.90,2,    32.08,2,     2.26,2,    97.18,2,   -0.184,2,    0.000,2
  09AR20120105,  I09S,    44,  1,      4,      4,2,20120129,2003,-52.6113, 115.0020, 3771,   3201.2,   0.3693,  34.6858,2,  34.6855,2,    218.7,2,    218.6,2,   132.60,2,    32.57,2,     2.27,2,    97.16,2,   -0.180,2,    0.000,2
  09AR20120105,  I09S,    44,  1,      3,      3,2,20120129,2003,-52.6113, 115.0020, 3771,   3450.2,   0.3217,  34.6829,2,  34.6826,2,    220.4,2,    220.3,2,   134.40,2,    32.62,2,     2.28,2,    97.16,2,   -0.183,2,    0.000,2
  09AR20120105,  I09S,    44,  1,      2,      2,2,20120129,2003,-52.6113, 115.0020, 3771,   3699.5,   0.2640,  34.6796,2,  34.6796,2,    222.6,2,    222.2,2,   136.40,2,    32.62,2,     2.29,2,    97.14,2,   -0.183,2,    0.000,2
  09AR20120105,  I09S,    44,  1,      1,      1,2,20120129,2003,-52.6113, 115.0020, 3771,   3824.3,   0.2503,  34.6785,2,  34.6783,2,    223.5,2,    222.7,2,   137.60,2,    32.64,2,     2.29,2,    97.16,2,   -0.187,2,    0.000,2
  09AR20120105,  I09S,    45,  1,     24,     24,2,20120130,0211,-51.9742, 114.9990, 3679,     10.6,   3.9214,  33.8433,2,  33.8443,2,    324.1,2,    323.0,2,    15.00,2,    25.39,2,     1.66,2,    97.62,2,    0.120,2,  168.500,2
  09AR20120105,  I09S,    45,  1,     23,     23,2,20120130,0211,-51.9742, 114.9990, 3679,     40.7,   3.8257,  33.8439,2,-999.0000,9,    323.1,2,   -999.0,9,  -999.00,9,  -999.00,9,  -999.00,9,    96.52,2,    0.709,2,   33.280,2
  09AR20120105,  I09S,    45,  1,     22,     22,2,20120130,0211,-51.9742, 114.9990, 3679,     40.8,   3.8217,  33.8440,2,-999.0000,9,    323.1,2,   -999.0,9,  -999.00,9,  -999.00,9,  -999.00,9,    96.51,2,    0.698,2,   32.820,2
  09AR20120105,  I09S,    45,  1,     21,     21,2,20120130,0211,-51.9742, 114.9990, 3679,     40.7,   3.8137,  33.8439,2,  33.8449,2,    323.1,2,    323.7,2,    15.10,2,    25.54,2,     1.68,2,    96.66,2,    0.750,2,   32.730,2
  09AR20120105,  I09S,    45,  1,     20,     20,2,20120130,0211,-51.9742, 114.9990, 3679,     74.2,   3.5937,  33.8445,2,  33.8457,2,    324.1,2,    323.6,2,    15.40,2,    25.77,2,     1.69,2,    96.51,2,    1.247,2,    6.246,2
  09AR20120105,  I09S,    45,  1,     19,     19,2,20120130,0211,-51.9742, 114.9990, 3679,    101.2,   2.8153,  33.8680,2,  33.8656,2,    323.2,2,    324.0,2,    17.60,2,    26.38,2,     1.78,2,    97.66,2,    0.842,2,    1.597,2
  09AR20120105,  I09S,    45,  1,     18,     18,2,20120130,0211,-51.9742, 114.9990, 3679,    144.3,   1.3592,  33.9509,2,  33.9510,2,    314.4,2,    312.2,2,    26.40,2,    29.37,2,     1.97,2,    97.90,2,   -0.145,2,    0.264,2
  09AR20120105,  I09S,    45,  1,     17,     17,2,20120130,0211,-51.9742, 114.9990, 3679,    251.1,   2.0574,  34.2393,2,  34.2387,2,    229.5,2,    230.7,2,    48.50,2,    33.88,2,     2.28,2,    97.92,2,   -0.188,2,    0.000,2
  09AR20120105,  I09S,    45,  1,     16,     16,2,20120130,0211,-51.9742, 114.9990, 3679,    400.1,   2.2339,  34.4351,2,  34.4353,2,    190.9,2,    190.3,2,    65.20,2,    35.16,2,     2.36,2,    97.57,2,   -0.176,2,    0.000,2
  09AR20120105,  I09S,    45,  1,     15,     15,2,20120130,0211,-51.9742, 114.9990, 3679,    599.1,   2.2487,  34.5905,2,  34.5902,2,    177.1,2,    177.1,2,    75.30,2,    34.22,2,     2.32,2,    97.57,2,   -0.177,2,    0.000,2
  09AR20120105,  I09S,    45,  1,     14,     14,2,20120130,0211,-51.9742, 114.9990, 3679,    799.8,   2.1757,  34.6715,2,  34.6728,2,    181.1,2,    180.7,2,    79.00,2,    32.62,2,     2.24,2,    97.55,2,   -0.176,2,    0.000,2
  09AR20120105,  I09S,    45,  1,     13,     13,2,20120130,0211,-51.9742, 114.9990, 3679,   1051.3,   2.0240,  34.7216,2,  34.7215,2,    188.5,2,    188.6,2,    82.80,2,    31.33,2,     2.14,2,    97.51,2,   -0.176,2,    0.000,2
  09AR20120105,  I09S,    45,  1,     12,     12,2,20120130,0211,-51.9742, 114.9990, 3679,   1300.2,   1.8617,  34.7411,2,  34.7414,2,    193.6,2,    193.7,2,    87.50,2,    30.84,2,     2.12,2,    97.47,2,   -0.177,2,    0.000,2
  09AR20120105,  I09S,    45,  1,     11,     11,2,20120130,0211,-51.9742, 114.9990, 3679,   1500.8,   1.6942,  34.7438,2,  34.7441,2,    197.8,2,    197.3,2,    91.80,2,    30.67,2,     2.11,2,    97.44,2,   -0.176,2,    0.000,2
  09AR20120105,  I09S,    45,  1,     10,     10,2,20120130,0211,-51.9742, 114.9990, 3679,   1500.6,   1.6945,  34.7437,2,  34.7443,2,    197.8,2,    197.4,2,    91.70,2,    30.74,2,     2.10,2,    97.44,2,   -0.182,2,    0.000,2
  09AR20120105,  I09S,    45,  1,      9,      9,2,20120130,0211,-51.9742, 114.9990, 3679,   1705.0,   1.5006,  34.7401,2,  34.7402,2,    200.8,2,    200.1,2,    96.80,2,    30.87,2,     2.14,2,    97.39,2,   -0.179,2,    0.000,2
  09AR20120105,  I09S,    45,  1,      8,      8,2,20120130,0211,-51.9742, 114.9990, 3679,   1898.3,   1.3174,  34.7334,2,  34.7335,2,    202.9,2,    202.4,2,   103.20,2,    31.16,2,     2.15,2,    97.34,2,   -0.183,2,    0.000,2
  09AR20120105,  I09S,    45,  1,      7,      7,2,20120130,0211,-51.9742, 114.9990, 3679,   2099.1,   1.1459,  34.7250,2,  34.7250,2,    205.0,2,    204.3,2,   107.50,2,    31.44,2,     2.16,2,    97.29,2,   -0.177,2,    0.000,2
  09AR20120105,  I09S,    45,  1,      6,      6,2,20120130,0211,-51.9742, 114.9990, 3679,   2400.8,   0.8822,  34.7112,2,  34.7111,2,    207.9,2,    207.6,2,   116.30,2,    31.94,2,     2.23,2,    97.24,2,   -0.176,2,    0.000,2
  09AR20120105,  I09S,    45,  1,      5,      5,2,20120130,0211,-51.9742, 114.9990, 3679,   2699.3,   0.6545,  34.6992,2,  34.6991,2,    211.6,2,    211.3,2,   122.10,2,    32.30,2,     2.25,2,    97.20,2,   -0.175,2,    0.000,2
  09AR20120105,  I09S,    45,  1,      4,      4,2,20120130,0211,-51.9742, 114.9990, 3679,   3000.5,   0.4272,  34.6889,2,  34.6891,2,    217.3,2,    217.1,2,   128.20,2,    32.53,2,     2.27,2,    97.17,2,   -0.185,2,    0.000,2
  09AR20120105,  I09S,    45,  1,      3,      3,2,20120130,0211,-51.9742, 114.9990, 3679,   3298.5,   0.3177,  34.6835,2,  34.6834,2,    220.4,2,    220.1,2,   134.20,2,    32.57,2,     2.28,2,    97.15,2,   -0.179,2,    0.000,2
  09AR20120105,  I09S,    45,  1,      2,      2,2,20120130,0211,-51.9742, 114.9990, 3679,   3600.8,   0.2574,  34.6797,2,  34.6791,2,    221.8,2,    222.2,2,   135.80,2,    32.63,2,     2.28,2,    97.13,2,   -0.180,2,    0.000,2
  09AR20120105,  I09S,    45,  1,      1,      1,2,20120130,0211,-51.9742, 114.9990, 3679,   3732.2,   0.2295,  34.6780,2,  34.6773,2,    223.0,2,    222.8,2,   136.90,2,    32.60,2,     2.28,2,    97.16,2,   -0.178,2,    0.000,2