BOTTLE,20220815CCHSIOAMB
EXPOCODE,SECT_ID,STNNBR,CASTNO,SAMPNO,BTLNBR,BTLNBR_FLAG_W,DATE,TIME,LATITUDE,LONGITUDE,DEPTH,CTDPRS,CTDTMP,CTDSAL,CTDSAL_FLAG_W,SALNTY,SALNTY_FLAG_W,CTDOXY,CTDOXY_FLAG_W,OXYGEN,OXYGEN_FLAG_W,SILCAT,SILCAT_FLAG_W,NITRAT,NITRAT_FLAG_W,PHSPHT,PHSPHT_FLAG_W,XMISS,XMISS_FLAG_W,FLUOR,FLUOR_FLAG_W,PAR,PAR_FLAG_W
,,,,,,,,,,,METERS,DBAR,ITS-90,PSS-78,,PSS-78,,UMOL/KG,,UMOL/KG,,UMOL/KG,,UMOL/KG,,UMOL/KG,,%TRANS,,VOLTS,,VOLTS,
  09AR20120105,  I09S,    40,  1,     24,     24,2,20120128,1424,-55.0045, 115.0020, 4484,      4.8,   4.2309,  33.8355,2,  33.8359,2,    317.2,2,    315.6,2,     7.80,2,    24.51,2,     1.61,2,    96.81,2,    0.773,2,    0.028,2
  09AR20120105,  I09S,    40,  1,     23,     23,2,20120128,1424,-55.0045, 115.0020, 4484,     43.9,   4.2201,  33.8349,2,-999.0000,9,    316.4,2,   -999.0,9,  -999.00,9,  -999.00,9,  -999.00,9,    96.93,2,    0.830,2,    0.000,2
  09AR20120105,  I09S,    40,  1,     22,     22,2,20120128,1424,-55.0045, 115.0020, 4484,     43.7,   4.2227,  33.8350,2,-999.0000,9,    316.4,2,   -999.0,9,  -999.00,9,  -999.00,9,  -999.00,9,    96.96,2,    0.871,2,    0.000,2
  09AR20120105,  I09S,    40,  1,     21,     21,2,20120128,1424,-55.0045, 115.0020, 4484,     43.5,   4.2165,  33.8347,2,  33.8355,2,    316.4,2,    315.5,2,     7.90,2,    24.56,2,     1.61,2,    96.88,2,    0.719,2,    0.000,2
  09AR20120105,  I09S,    40,  1,     20,     20,2,20120128,1424,-55.0045, 115.0020, 4484,     84.1,   4.1737,  33.8340,2,  33.8351,2,    316.0,2,    315.3,2,     8.20,2,    24.59,2,     1.61,2,    97.02,2,    0.919,2,    0.000,2
  09AR20120105,  I09S,    40,  1,     19,     19,2,20120128,1424,-55.0045, 115.0020, 4484,    113.9,   3.6675,  33.8490,2,  33.8523,2,    313.1,2,    316.2,2,    11.60,2,    25.15,2,     1.70,2,    97.15,2,    0.567,2,    0.000,2
  09AR20120105,  I09S,    40,  1,     18,     18,2,20120128,1424,-55.0045, 115.0020, 4484,    175.1,   1.7437,  33.9394,2,  33.9406,2,    310.0,2,    309.9,2,    23.50,2,    28.58,2,     1.92,2,    97.90,2,   -0.176,2,    0.000,2
  09AR20120105,  I09S,    40,  1,     17,     17,2,20120128,1424,-55.0045, 115.0020, 4484,    324.8,   2.1309,  34.2524,2,  34.2534,2,    229.2,2,    227.3,2,    48.80,2,    33.29,2,     2.25,2,    97.83,2,   -0.185,2,    0.000,2
  09AR20120105,  I09S,    40,  1,     16,     16,2,20120128,1424,-55.0045, 115.0020, 4484,    499.8,   2.3379,  34.4608,2,  34.4616,2,    185.9,2,    185.2,2,    65.80,2,    34.51,2,     2.33,2,    97.62,2,   -0.179,2,    0.000,2
  09AR20120105,  I09S,    40,  1,     15,     15,2,20120128,1424,-55.0045, 115.0020, 4484,    698.1,   2.4159,  34.6063,2,  34.6073,2,    176.3,2,    176.1,2,    73.30,2,    33.31,2,     2.28,2,    97.62,2,   -0.179,2,    0.000,2
  09AR20120105,  I09S,    40,  1,     14,     14,2,20120128,1424,-55.0045, 115.0020, 4484,    899.4,   2.2567,  34.6683,2,  34.6690,2,    179.3,2,    179.9,2,    77.60,2,    32.39,2,     2.20,2,    97.60,2,   -0.182,2,    0.000,2
  09AR20120105,  I09S,    40,  1,     13,     13,2,20120128,1424,-55.0045, 115.0020, 4484,   1201.8,   2.1099,  34.7326,2,  34.7325,2,    189.3,2,    190.2,2,    81.10,2,    30.77,2,     2.09,2,    97.56,2,   -0.176,2,    0.000,2
  09AR20120105,  I09S,    40,  1,     12,     12,2,20120128,1424,-55.0045, 115.0020, 4484,   1549.4,   1.8383,  34.7470,2,  34.7471,2,    196.3,2,    195.8,2,    88.60,2,    30.44,2,     2.08,2,    97.50,2,   -0.185,2,    0.000,2
  09AR20120105,  I09S,    40,  1,     11,     11,2,20120128,1424,-55.0045, 115.0020, 4484,   1799.8,   1.5963,  34.7436,2,  34.7437,2,    199.7,2,    199.5,2,    95.60,2,    30.64,2,     2.09,2,    97.44,2,   -0.178,2,    0.000,2
  09AR20120105,  I09S,    40,  1,     10,     10,2,20120128,1424,-55.0045, 115.0020, 4484,   2100.7,   1.3152,  34.7325,2,  34.7323,2,    202.5,2,    202.8,2,   103.80,2,    31.12,2,     2.12,2,    97.39,2,   -0.178,2,    0.000,2
  09AR20120105,  I09S,    40,  1,      9,      9,2,20120128,1424,-55.0045, 115.0020, 4484,   2398.9,   1.0491,  34.7190,2,  34.7189,2,    205.0,2,    205.4,2,   111.80,2,    31.54,2,     2.17,2,    97.32,2,   -0.176,2,    0.000,2
  09AR20120105,  I09S,    40,  1,      8,      8,2,20120128,1424,-55.0045, 115.0020, 4484,   2699.9,   0.8004,  34.7059,2,  34.7062,2,    208.4,2,    209.0,2,   118.40,2,    32.03,2,     2.21,2,    97.28,2,   -0.179,2,    0.000,2
  09AR20120105,  I09S,    40,  1,      7,      7,2,20120128,1424,-55.0045, 115.0020, 4484,   2999.1,   0.5729,  34.6949,2,  34.6944,2,    213.4,2,    213.9,2,   124.70,2,    32.25,2,     2.24,2,    97.23,2,   -0.178,2,    0.000,2
  09AR20120105,  I09S,    40,  1,      6,      6,2,20120128,1424,-55.0045, 115.0020, 4484,   3300.6,   0.4108,  34.6870,2,  34.6865,2,    217.6,2,    217.7,2,   129.00,2,    32.39,2,     2.24,2,    97.21,2,   -0.182,2,    0.000,2
  09AR20120105,  I09S,    40,  1,      5,      5,2,20120128,1424,-55.0045, 115.0020, 4484,   3600.7,   0.3096,  34.6819,2,  34.6810,2,    220.4,2,    221.0,2,   132.60,2,    32.45,2,     2.24,2,    97.19,2,   -0.185,2,    0.000,2
  09AR20120105,  I09S,    40,  1,      4,      4,2,20120128,1424,-55.0045, 115.0020, 4484,   3848.7,   0.2529,  34.6785,2,  34.6781,2,    222.4,2,    222.6,2,   135.60,2,    32.39,2,     2.24,2,    97.18,2,   -0.183,2,    0.000,2
  09AR20120105,  I09S,    40,  1,      3,      3,2,20120128,1424,-55.0045, 115.0020, 4484,   4148.7,   0.2112,  34.6754,2,  34.6765,2,    224.4,2,    224.6,2,   138.00,2,    32.37,2,     2.25,2,    97.19,2,   -0.174,2,    0.000,2
  09AR20120105,  I09S,    40,  1,      2,      2,2,20120128,1424,-55.0045, 115.0020, 4484,   4449.2,   0.2199,  34.6745,2,  34.6743,2,    225.2,2,    225.0,2,   138.40,2,    32.40,2,     2.25,2,    97.18,2,   -0.178,2,    0.000,2
  09AR20120105,  I09S,    40,  1,      1,      1,2,20120128,1424,-55.0045, 115.0020, 4484,   4563.7,   0.2263,  34.6741,2,  34.6740,2,    225.5,2,    226.3,2,   138.70,2,    32.48,2,     2.24,2,    97.19,2,   -0.178,2,    0.000,2
  09AR20120105,  I09S,    41,  1,     24,     24,2,20120128,2155,-54.3973, 115.0060, 4175,      3.8,   4.4188,  33.8254,2,  33.8253,2,    316.0,2,    314.4,2,     7.60,2,    24.33,2,     1.60,2,    97.71,2,   -0.048,2,   85.490,2
  09AR20120105,  I09S,    41,  1,     23,     23,2,20120128,2155,-54.3973, 115.0060, 4175,     49.0,   4.4183,  33.8252,2,-999.0000,9,    314.9,2,   -999.0,9,  -999.00,9,  -999.00,9,  -999.00,9,    97.82,2,    0.535,2,   25.590,2
  09AR20120105,  I09S,    41,  1,     22,     22,2,20120128,2155,-54.3973, 115.0060, 4175,     49.1,   4.4171,  33.8252,2,-999.0000,9,    314.9,2,   -999.0,9,  -999.00,9,  -999.00,9,  -999.00,9,    98.03,2,    0.466,2,   24.620,2
  09AR20120105,  I09S,    41,  1,     21,     21,2,20120128,2155,-54.3973, 115.0060, 4175,     48.9,   4.4168,  33.8251,2,  33.8255,2,    314.9,2,    314.6,2,     7.60,2,    24.34,2,     1.61,2,    98.10,2,    0.466,2,   25.910,2
  09AR20120105,  I09S,    41,  1,     20,     20,2,20120128,2155,-54.3973, 115.0060, 4175,     90.1,   4.3814,  33.8242,2,  33.8257,2,    314.7,2,    314.1,2,     7.70,2,    24.30,2,     1.61,2,    98.12,2,    0.712,2,    3.707,2
  09AR20120105,  I09S,    41,  1,     19,     19,2,20120128,2155,-54.3973, 115.0060, 4175,    124.8,   2.5113,  33.8810,2,  33.8819,2,    317.5,2,    322.4,2,    17.90,2,    26.32,2,     1.84,2,    98.02,2,    0.235,2,    0.628,2
  09AR20120105,  I09S,    41,  1,     18,     18,2,20120128,2155,-54.3973, 115.0060, 4175,    169.8,   1.6253,  33.9456,2,  33.9495,2,    312.5,2,    310.0,2,    24.90,2,    28.78,2,     1.94,2,    97.83,2,   -0.175,2,    0.077,2
  09AR20120105,  I09S,    41,  1,     17,     17,2,20120128,2155,-54.3973, 115.0060, 4175,    225.1,   1.9523,  34.1168,2,  34.1164,2,    265.8,2,    263.5,2,    36.70,2,    31.31,2,     2.13,2,    97.95,2,   -0.188,2,    0.000,2
  09AR20120105,  I09S,    41,  1,     16,     16,2,20120128,2155,-54.3973, 115.0060, 4175,    373.9,   2.2370,  34.3706,2,  34.3717,2,    201.7,2,    200.5,2,    59.10,2,    33.84,2,     2.32,2,    97.64,2,   -0.181,2,    0.000,2
  09AR20120105,  I09S,    41,  1,     15,     15,2,20120128,2155,-54.3973, 115.0060, 4175,    550.0,   2.3347,  34.5283,2,  34.5288,2,    178.5,2,    178.4,2,    70.40,2,    33.69,2,     2.32,2,    97.60,2,   -0.185,2,    0.000,2
  09AR20120105,  I09S,    41,  1,     14,     14,2,20120128,2155,-54.3973, 115.0060, 4175,    700.2,   2.3148,  34.6189,2,  34.6191,2,    176.7,2,    177.4,2,    75.00,2,    32.49,2,     2.25,2,    97.60,2,   -0.181,2,    0.000,2
  09AR20120105,  I09S,    41,  1,     13,     13,2,20120128,2155,-54.3973, 115.0060, 4175,    900.4,   2.2213,  34.6817,2,  34.6828,2,    181.2,2,    181.7,2,    78.50,2,    31.91,2,     2.18,2,    97.57,2,   -0.175,2,    0.000,2
  09AR20120105,  I09S,    41,  1,     12,     12,2,20120128,2155,-54.3973, 115.0060, 4175,   1201.7,   2.0185,  34.7315,2,  34.7321,2,    189.8,2,    190.3,2,    84.20,2,    30.99,2,     2.11,2,    97.52,2,   -0.179,2,    0.000,2
  09AR20120105,  I09S,    41,  1,     11,     11,2,20120128,2155,-54.3973, 115.0060, 4175,   1501.1,   1.8047,  34.7466,2,  34.7471,2,    196.2,2,    196.3,2,    90.30,2,    30.50,2,     2.08,2,    97.47,2,   -0.176,2,    0.000,2
  09AR20120105,  I09S,    41,  1,     10,     10,2,20120128,2155,-54.3973, 115.0060, 4175,   1750.9,   1.5985,  34.7436,2,  34.7443,2,    199.4,2,    199.2,2,    96.40,2,    30.62,2,     2.10,2,    97.41,2,   -0.182,2,    0.000,2
  09AR20120105,  I09S,    41,  1,      9,      9,2,20120128,2155,-54.3973, 115.0060, 4175,   2002.4,   1.3445,  34.7340,2,  34.7343,2,    202.4,2,    202.3,2,   104.00,2,    31.05,2,     2.13,2,    97.36,2,   -0.178,2,    0.000,2
  09AR20120105,  I09S,    41,  1,      8,      8,2,20120128,2155,-54.3973, 115.0060, 4175,   2301.2,   1.1004,  34.7225,2,  34.7227,2,    205.1,2,    204.9,2,   112.20,2,    31.56,2,     2.17,2,    97.29,2,   -0.183,2,    0.000,2
  09AR20120105,  I09S,    41,  1,      7,      7,2,20120128,2155,-54.3973, 115.0060, 4175,   2601.2,   0.8402,  34.7088,2,  34.7087,2,    208.6,2,    208.7,2,   119.70,2,    31.84,2,     2.20,2,    97.24,2,   -0.175,2,    0.000,2
  09AR20120105,  I09S,    41,  1,      6,      6,2,20120128,2155,-54.3973, 115.0060, 4175,   2900.9,   0.5734,  34.6954,2,  34.6950,2,    213.3,2,    213.7,2,   125.70,2,    32.24,2,     2.23,2,    97.20,2,   -0.179,2,    0.000,2
  09AR20120105,  I09S,    41,  1,      5,      5,2,20120128,2155,-54.3973, 115.0060, 4175,   3198.6,   0.4083,  34.6874,2,  34.6879,2,    217.2,2,    217.6,2,   130.80,2,    32.31,2,     2.24,2,    97.18,2,   -0.184,2,    0.000,2
  09AR20120105,  I09S,    41,  1,      4,      4,2,20120128,2155,-54.3973, 115.0060, 4175,   3600.8,   0.2793,  34.6805,2,  34.6802,2,    221.3,2,    221.5,2,   135.00,2,    32.42,2,     2.24,2,    97.17,2,   -0.182,2,    0.000,2
  09AR20120105,  I09S,    41,  1,      3,      3,2,20120128,2155,-54.3973, 115.0060, 4175,   3849.1,   0.2624,  34.6789,2,  34.6781,2,    222.6,2,    222.3,2,   136.00,2,    32.16,2,     2.23,2,    97.17,2,   -0.186,2,    0.000,2
  09AR20120105,  I09S,    41,  1,      2,      2,2,20120128,2155,-54.3973, 115.0060, 4175,   4049.2,   0.2465,  34.6773,2,  34.6769,2,    223.8,2,    223.2,2,   136.80,2,    32.07,2,     2.24,2,    97.16,2,   -0.182,2,    0.000,2
  09AR20120105,  I09S,    41,  1,      1,      1,2,20120128,2155,-54.3973, 115.0060, 4175,   4245.1,   0.2248,  34.6755,2,  34.6749,2,    225.5,2,   -999.0,9,   137.60,2,    31.87,2,     2.23,2,    97.17,2,   -0.181,2,    0.000,2
  09AR20120105,  I09S,    42,  1,     24,     24,2,20120129,0506,-53.8070, 115.0080, 4003,      7.0,   4.5139,  33.8276,2,  33.8283,2,    316.1,2,    315.2,2,     7.30,2,    24.56,2,     1.61,2,    97.73,2,    0.190,2,   94.110,2
  09AR20120105,  I09S,    42,  1,     23,     23,2,20120129,0506,-53.8070, 115.0080, 4003,     39.5,   4.4647,  33.8272,2,-999.0000,9,    315.5,2,   -999.0,9,  -999.00,9,  -999.00,9,  -999.00,9,    97.57,2,    0.581,2,   16.490,2
  09AR20120105,  I09S,    42,  1,     22,     22,2,20120129,0506,-53.8070, 115.0080, 4003,     39.5,   4.4738,  33.8274,2,-999.0000,9,    315.5,2,   -999.0,9,  -999.00,9,  -999.00,9,  -999.00,9,    97.53,2,    0.588,2,   16.130,2
  09AR20120105,  I09S,    42,  1,     21,     21,2,20120129,0506,-53.8070, 115.0080, 4003,     39.4,   4.4562,  33.8273,2,  33.8280,2,    315.5,2,    315.2,2,     7.20,2,    24.58,2,     1.62,2,    97.64,2,    0.620,2,   16.270,2
  09AR20120105,  I09S,    42,  1,     20,     20,2,20120129,0506,-53.8070, 115.0080, 4003,     80.0,   4.3993,  33.8272,2,  33.8288,2,    314.4,2,    314.8,2,     7.40,2,    24.57,2,     1.62,2,    97.59,2,    1.129,2,    2.541,2
  09AR20120105,  I09S,    42,  1,     19,     19,2,20120129,0506,-53.8070, 115.0080, 4003,    109.8,   2.5189,  33.8850,2,  33.8856,2,    319.6,2,    320.4,2,    18.20,2,    26.75,2,     1.85,2,    97.96,2,    0.132,2,    0.578,2
  09AR20120105,  I09S,    42,  1,     18,     18,2,20120129,0506,-53.8070, 115.0080, 4003,    175.9,   1.4859,  33.9368,2,  33.9369,2,    302.5,2,    315.2,2,    24.80,2,    29.07,2,     1.95,2,    97.71,2,   -0.178,2,    0.012,2
  09AR20120105,  I09S,    42,  1,     17,     17,2,20120129,0506,-53.8070, 115.0080, 4003,    325.5,   2.0673,  34.3027,2,  34.3029,2,    216.3,2,    216.6,2,    54.70,2,    34.08,2,     2.32,2,    97.84,2,   -0.187,2,    0.000,2
  09AR20120105,  I09S,    42,  1,     16,     16,2,20120129,0506,-53.8070, 115.0080, 4003,    546.3,   2.3041,  34.5383,2,  34.5384,2,    178.0,2,    177.4,2,    72.10,2,    34.51,2,     2.36,2,    97.60,2,   -0.175,2,    0.000,2
  09AR20120105,  I09S,    42,  1,     15,     15,2,20120129,0506,-53.8070, 115.0080, 4003,    649.4,   2.3074,  34.5999,2,  34.5989,2,    176.6,2,    176.7,2,    74.90,2,    33.79,2,     2.31,2,    97.59,2,   -0.182,2,    0.000,2
  09AR20120105,  I09S,    42,  1,     14,     14,2,20120129,0506,-53.8070, 115.0080, 4003,    849.1,   2.1906,  34.6669,2,  34.6669,2,    179.6,2,    179.6,2,    79.00,2,    32.74,2,     2.24,2,    97.57,2,   -0.175,2,    0.000,2
  09AR20120105,  I09S,    42,  1,     13,     13,2,20120129,0506,-53.8070, 115.0080, 4003,    998.9,   2.1142,  34.7061,2,  34.7062,2,    185.3,2,    184.4,2,    81.20,2,    31.90,2,     2.18,2,    97.55,2,   -0.184,2,    0.000,2
  09AR20120105,  I09S,    42,  1,     12,     12,2,20120129,0506,-53.8070, 115.0080, 4003,   1251.1,   1.9951,  34.7422,2,  34.7425,2,    192.1,2,    192.8,2,    84.10,2,    30.78,2,     2.11,2,    97.52,2,   -0.182,2,    0.000,2
  09AR20120105,  I09S,    42,  1,     11,     11,2,20120129,0506,-53.8070, 115.0080, 4003,   1500.5,   1.8098,  34.7502,2,  34.7504,2,    197.4,2,    197.4,2,    89.50,2,    30.49,2,     2.08,2,    97.47,2,   -0.179,2,    0.000,2
  09AR20120105,  I09S,    42,  1,     10,     10,2,20120129,0506,-53.8070, 115.0080, 4003,   1699.9,   1.6231,  34.7461,2,  34.7465,2,    199.6,2,    199.7,2,    95.00,2,    30.70,2,     2.11,2,    97.44,2,   -0.180,2,    0.000,2
  09AR20120105,  I09S,    42,  1,      9,      9,2,20120129,0506,-53.8070, 115.0080, 4003,   1898.1,   1.4376,  34.7393,2,  34.7396,2,    201.7,2,    201.6,2,   100.70,2,    30.99,2,     2.13,2,    97.38,2,   -0.177,2,    0.000,2
  09AR20120105,  I09S,    42,  1,      8,      8,2,20120129,0506,-53.8070, 115.0080, 4003,   2150.0,   1.1852,  34.7270,2,  34.7278,2,    204.1,2,    204.1,2,   108.00,2,    31.44,2,     2.17,2,    97.33,2,   -0.178,2,    0.000,2
  09AR20120105,  I09S,    42,  1,      7,      7,2,20120129,0506,-53.8070, 115.0080, 4003,   2450.7,   0.9605,  34.7153,2,  34.7154,2,    206.9,2,   -999.0,9,   114.70,2,    31.86,2,     2.20,2,    97.28,2,   -0.176,2,    0.000,2
  09AR20120105,  I09S,    42,  1,      6,      6,2,20120129,0506,-53.8070, 115.0080, 4003,   2748.5,   0.7200,  34.7030,2,  34.7030,2,    210.6,2,    210.7,2,   121.20,2,    32.18,2,     2.23,2,    97.23,2,   -0.173,2,    0.000,2
  09AR20120105,  I09S,    42,  1,      5,      5,2,20120129,0506,-53.8070, 115.0080, 4003,   2999.5,   0.5335,  34.6935,2,  34.6930,2,    214.3,2,    214.5,2,   125.80,2,    32.33,2,     2.24,2,    97.19,2,   -0.183,2,    0.000,2
  09AR20120105,  I09S,    42,  1,      4,      4,2,20120129,0506,-53.8070, 115.0080, 4003,   3299.5,   0.3787,  34.6859,2,  34.6850,2,    218.3,2,    218.9,2,   129.60,2,    32.47,2,     2.26,2,    97.18,2,   -0.179,2,    0.000,2
  09AR20120105,  I09S,    42,  1,      3,      3,2,20120129,0506,-53.8070, 115.0080, 4003,   3599.7,   0.2815,  34.6811,2,  34.6802,2,    221.6,2,    221.6,2,   133.90,2,    32.47,2,     2.26,2,    97.16,2,   -0.182,2,    0.000,2
  09AR20120105,  I09S,    42,  1,      2,      2,2,20120129,0506,-53.8070, 115.0080, 4003,   3799.3,   0.2387,  34.6784,2,  34.6777,2,    223.2,2,    223.1,2,   135.00,2,    32.49,2,     2.25,2,    97.15,2,   -0.181,2,    0.000,2
  09AR20120105,  I09S,    42,  1,      1,      1,2,20120129,0506,-53.8070, 115.0080, 4003,   4066.2,   0.2089,  34.6759,2,  34.6755,2,    225.0,2,    224.5,2,   138.80,2,    32.55,2,     2.26,2,    97.16,2,   -0.181,2,    0.000,2