BOTTLE,20220815CCHSIOAMB
EXPOCODE,SECT_ID,STNNBR,CASTNO,SAMPNO,BTLNBR,BTLNBR_FLAG_W,DATE,TIME,LATITUDE,LONGITUDE,DEPTH,CTDPRS,CTDTMP,CTDSAL,CTDSAL_FLAG_W,SALNTY,SALNTY_FLAG_W,CTDOXY,CTDOXY_FLAG_W,OXYGEN,OXYGEN_FLAG_W,SILCAT,SILCAT_FLAG_W,NITRAT,NITRAT_FLAG_W,PHSPHT,PHSPHT_FLAG_W,XMISS,XMISS_FLAG_W,FLUOR,FLUOR_FLAG_W,PAR,PAR_FLAG_W
,,,,,,,,,,,METERS,DBAR,ITS-90,PSS-78,,PSS-78,,UMOL/KG,,UMOL/KG,,UMOL/KG,,UMOL/KG,,UMOL/KG,,%TRANS,,VOLTS,,VOLTS,
  09AR20120105,  I09S,     7,  1,     24,     24,2,20120111,1146,-66.7652, 144.3170,  927,      5.4,  -1.1083,  33.9975,2,  34.0028,2,    386.8,2,    389.8,2,    68.80,2,    17.58,2,     1.39,2,    74.34,2,   21.442,2,    1.057,2
  09AR20120105,  I09S,     7,  1,     23,     23,2,20120111,1146,-66.7652, 144.3170,  927,      5.3,  -1.1078,  33.9998,2,-999.0000,9,    386.8,2,   -999.0,9,  -999.00,9,  -999.00,9,  -999.00,9,    75.13,2,   21.791,2,    1.070,2
  09AR20120105,  I09S,     7,  1,     22,     22,2,20120111,1146,-66.7652, 144.3170,  927,      5.4,  -1.1080,  33.9986,2,-999.0000,9,    386.8,2,   -999.0,9,  -999.00,9,  -999.00,9,  -999.00,9,    75.38,2,   21.659,2,    1.070,2
  09AR20120105,  I09S,     7,  1,     21,     21,2,20120111,1146,-66.7652, 144.3170,  927,      5.3,  -1.1094,  33.9975,2,  33.9985,2,    386.8,2,    390.7,2,    68.40,2,    17.27,2,     1.38,2,    74.72,2,   22.403,2,    1.071,2
  09AR20120105,  I09S,     7,  1,     20,     20,2,20120111,1146,-66.7652, 144.3170,  927,     25.2,  -1.0646,  34.0312,2,  34.0524,2,    386.4,2,    384.6,2,    67.30,2,    19.20,2,     1.47,2,    74.87,2,   23.080,2,    0.000,2
  09AR20120105,  I09S,     7,  1,     19,     19,2,20120111,1146,-66.7652, 144.3170,  927,     51.4,  -1.2314,  34.1066,2,  34.1373,2,    371.5,2,    365.6,2,    67.80,2,    20.84,2,     1.58,2,    75.98,2,   22.514,2,    0.000,2
  09AR20120105,  I09S,     7,  1,     18,     18,2,20120111,1146,-66.7652, 144.3170,  927,     75.0,  -1.5270,  34.2952,2,-999.0000,9,    342.0,2,   -999.0,9,  -999.00,9,  -999.00,9,  -999.00,9,    91.31,2,    4.751,2,    0.000,2
  09AR20120105,  I09S,     7,  1,     17,     17,2,20120111,1146,-66.7652, 144.3170,  927,     75.1,  -1.5285,  34.2955,2,-999.0000,9,    340.6,2,   -999.0,9,  -999.00,9,  -999.00,9,  -999.00,9,    91.46,2,    5.550,2,    0.000,2
  09AR20120105,  I09S,     7,  1,     16,     16,2,20120111,1146,-66.7652, 144.3170,  927,     75.1,  -1.5308,  34.2963,2,  34.3114,2,    340.6,2,    338.3,2,    71.60,2,    26.19,2,     1.92,2,    92.06,2,    5.228,2,    0.000,2
  09AR20120105,  I09S,     7,  1,     15,     15,2,20120111,1146,-66.7652, 144.3170,  927,    100.5,  -1.6980,  34.3406,2,  34.3501,2,    326.7,2,    327.7,2,    72.10,2,    27.77,2,     1.98,2,    95.31,2,    3.439,2,    0.000,2
  09AR20120105,  I09S,     7,  1,     14,     14,2,20120111,1146,-66.7652, 144.3170,  927,    125.2,  -1.7380,  34.3760,2,  34.3782,2,    319.2,2,    317.8,2,    72.60,2,    29.08,2,     2.03,2,    96.54,2,    1.327,2,    0.000,2
  09AR20120105,  I09S,     7,  1,     13,     13,2,20120111,1146,-66.7652, 144.3170,  927,    250.2,  -1.7967,  34.4182,2,  34.4172,2,    305.9,2,    306.7,2,    74.40,2,    30.25,2,     2.06,2,    96.55,2,   -0.139,2,    0.000,2
  09AR20120105,  I09S,     7,  1,     12,     12,2,20120111,1146,-66.7652, 144.3170,  927,    349.1,  -1.8678,  34.4450,2,-999.0000,9,    305.2,2,   -999.0,9,  -999.00,9,  -999.00,9,  -999.00,9,    96.54,2,   -0.158,2,    0.000,2
  09AR20120105,  I09S,     7,  1,     11,     11,2,20120111,1146,-66.7652, 144.3170,  927,    348.2,  -1.8672,  34.4451,2,-999.0000,9,    305.3,2,   -999.0,9,  -999.00,9,  -999.00,9,  -999.00,9,    96.54,2,   -0.161,2,    0.000,2
  09AR20120105,  I09S,     7,  1,     10,     10,2,20120111,1146,-66.7652, 144.3170,  927,    347.7,  -1.8697,  34.4451,2,-999.0000,9,    305.3,2,   -999.0,9,  -999.00,9,  -999.00,9,  -999.00,9,    96.54,2,   -0.150,2,    0.000,2
  09AR20120105,  I09S,     7,  1,      9,      9,2,20120111,1146,-66.7652, 144.3170,  927,    347.9,  -1.8741,  34.4438,2,  34.4425,2,    305.3,2,    308.3,2,    74.70,2,    30.28,2,     2.07,2,    96.54,2,   -0.156,2,    0.000,2
  09AR20120105,  I09S,     7,  1,      8,      8,2,20120111,1146,-66.7652, 144.3170,  927,    474.8,  -1.9112,  34.4925,2,  34.4938,2,    305.0,2,    307.6,2,    75.30,2,    30.44,2,     2.08,2,    96.54,2,   -0.171,2,    0.000,2
  09AR20120105,  I09S,     7,  1,      7,      7,2,20120111,1146,-66.7652, 144.3170,  927,    580.6,  -1.9003,  34.5209,2,-999.0000,9,    306.3,2,   -999.0,9,  -999.00,9,  -999.00,9,  -999.00,9,    96.55,2,   -0.167,2,    0.000,2
  09AR20120105,  I09S,     7,  1,      6,      6,2,20120111,1146,-66.7652, 144.3170,  927,    580.6,  -1.9004,  34.5207,2,-999.0000,9,    306.3,2,   -999.0,9,  -999.00,9,  -999.00,9,  -999.00,9,    96.55,2,   -0.163,2,    0.000,2
  09AR20120105,  I09S,     7,  1,      5,      5,2,20120111,1146,-66.7652, 144.3170,  927,    580.5,  -1.9005,  34.5209,2,-999.0000,9,    306.3,2,   -999.0,9,  -999.00,9,  -999.00,9,  -999.00,9,    96.55,2,   -0.170,2,    0.000,2
  09AR20120105,  I09S,     7,  1,      4,      4,2,20120111,1146,-66.7652, 144.3170,  927,    580.5,  -1.9007,  34.5209,2,  34.5211,2,    306.3,2,    302.7,2,    75.00,2,    30.41,2,     2.07,2,    96.55,2,   -0.174,2,    0.000,2
  09AR20120105,  I09S,     7,  1,      3,      3,2,20120111,1146,-66.7652, 144.3170,  927,    703.6,  -1.8856,  34.5480,2,  34.5472,2,    310.3,2,    311.2,2,    74.90,2,    30.44,2,     2.06,2,    96.56,2,   -0.177,2,    0.000,2
  09AR20120105,  I09S,     7,  1,      2,      2,2,20120111,1146,-66.7652, 144.3170,  927,    849.2,  -1.8820,  34.5686,2,  34.5671,2,    312.8,2,    313.2,2,    75.00,2,    30.49,2,     2.06,2,    96.60,2,   -0.185,2,    0.000,2
  09AR20120105,  I09S,     7,  1,      1,      1,2,20120111,1146,-66.7652, 144.3170,  927,    933.1,  -1.8781,  34.5735,2,  34.5726,2,    313.5,2,    312.9,2,    76.10,2,    30.49,2,     2.08,2,    96.66,2,   -0.182,2,    0.000,2
  09AR20120105,  I09S,     8,  1,     24,     24,2,20120120,1159,-65.3737, 112.9210,  704,     26.0,  -1.5974,  33.5789,2,-999.0000,9,   -999.0,5,   -999.0,9,  -999.00,9,  -999.00,9,  -999.00,9,    88.68,2,    5.068,2,    1.866,2
  09AR20120105,  I09S,     8,  1,     23,     23,2,20120120,1159,-65.3737, 112.9210,  704,     25.9,  -1.5977,  33.5794,2,-999.0000,9,   -999.0,5,   -999.0,9,  -999.00,9,  -999.00,9,  -999.00,9,    88.72,2,    4.916,2,    1.870,2
  09AR20120105,  I09S,     8,  1,     22,     22,2,20120120,1159,-65.3737, 112.9210,  704,     25.9,  -1.5976,  33.5792,2,-999.0000,9,   -999.0,5,   -999.0,9,  -999.00,9,  -999.00,9,  -999.00,9,    88.70,2,    5.282,2,    1.874,2
  09AR20120105,  I09S,     8,  1,     21,     21,2,20120120,1159,-65.3737, 112.9210,  704,     26.0,  -1.5967,  33.5763,2,-999.0000,9,   -999.0,5,   -999.0,9,  -999.00,9,  -999.00,9,  -999.00,9,    88.48,2,    5.176,2,    1.902,2
  09AR20120105,  I09S,     8,  1,     20,     20,2,20120120,1159,-65.3737, 112.9210,  704,     26.0,  -1.6006,  33.5943,2,-999.0000,9,   -999.0,5,   -999.0,9,  -999.00,9,  -999.00,9,  -999.00,9,    88.64,2,    5.353,2,    1.913,2
  09AR20120105,  I09S,     8,  1,     19,     19,2,20120120,1159,-65.3737, 112.9210,  704,     25.9,  -1.6022,  33.6039,2,-999.0000,9,   -999.0,5,   -999.0,9,  -999.00,9,  -999.00,9,  -999.00,9,    88.96,2,    5.447,2,    1.917,2
  09AR20120105,  I09S,     8,  1,     18,     18,2,20120120,1159,-65.3737, 112.9210,  704,     25.9,  -1.6037,  33.6134,2,-999.0000,9,   -999.0,5,   -999.0,9,  -999.00,9,  -999.00,9,  -999.00,9,    89.11,2,    5.005,2,    1.931,2
  09AR20120105,  I09S,     8,  1,     17,     17,2,20120120,1159,-65.3737, 112.9210,  704,     25.9,  -1.6061,  33.6334,2,-999.0000,9,   -999.0,5,   -999.0,9,  -999.00,9,  -999.00,9,  -999.00,9,    89.11,2,    4.761,2,    1.949,2
  09AR20120105,  I09S,     8,  1,     16,     16,2,20120120,1159,-65.3737, 112.9210,  704,     25.9,  -1.6089,  33.6503,2,-999.0000,9,   -999.0,5,   -999.0,9,  -999.00,9,  -999.00,9,  -999.00,9,    89.80,2,    5.613,2,    1.942,2
  09AR20120105,  I09S,     8,  1,     15,     15,2,20120120,1159,-65.3737, 112.9210,  704,     25.9,  -1.6100,  33.6555,2,-999.0000,9,   -999.0,5,   -999.0,9,  -999.00,9,  -999.00,9,  -999.00,9,    89.44,2,    5.043,2,    1.921,2
  09AR20120105,  I09S,     8,  1,     14,     14,2,20120120,1159,-65.3737, 112.9210,  704,     25.9,  -1.6056,  33.6263,2,-999.0000,9,   -999.0,5,   -999.0,9,  -999.00,9,  -999.00,9,  -999.00,9,    88.86,2,    5.604,2,    1.931,2
  09AR20120105,  I09S,     8,  1,     13,     13,2,20120120,1159,-65.3737, 112.9210,  704,     25.9,  -1.6021,  33.6031,2,-999.0000,9,   -999.0,5,   -999.0,9,  -999.00,9,  -999.00,9,  -999.00,9,    88.73,2,    5.486,2,    1.966,2
  09AR20120105,  I09S,     8,  1,     12,     12,2,20120120,1159,-65.3737, 112.9210,  704,     26.0,  -1.6000,  33.5896,2,-999.0000,9,   -999.0,5,   -999.0,9,  -999.00,9,  -999.00,9,  -999.00,9,    88.67,2,    5.300,2,    1.986,2
  09AR20120105,  I09S,     8,  1,     11,     11,2,20120120,1159,-65.3737, 112.9210,  704,     26.0,  -1.5963,  33.5752,2,-999.0000,9,   -999.0,5,   -999.0,9,  -999.00,9,  -999.00,9,  -999.00,9,    88.77,2,    4.704,2,    1.982,2
  09AR20120105,  I09S,     8,  1,     10,     10,2,20120120,1159,-65.3737, 112.9210,  704,     25.9,  -1.5925,  33.5635,2,-999.0000,9,   -999.0,5,   -999.0,9,  -999.00,9,  -999.00,9,  -999.00,9,    88.45,2,    4.959,2,    1.986,2
  09AR20120105,  I09S,     8,  1,      9,      9,2,20120120,1159,-65.3737, 112.9210,  704,     25.9,  -1.5905,  33.5565,2,-999.0000,9,   -999.0,5,   -999.0,9,  -999.00,9,  -999.00,9,  -999.00,9,    88.37,2,    5.409,2,    1.998,2
  09AR20120105,  I09S,     8,  1,      8,      8,2,20120120,1159,-65.3737, 112.9210,  704,     25.9,  -1.5877,  33.5475,2,-999.0000,9,   -999.0,5,   -999.0,9,  -999.00,9,  -999.00,9,  -999.00,9,    88.58,2,    4.980,2,    2.002,2
  09AR20120105,  I09S,     8,  1,      7,      7,2,20120120,1159,-65.3737, 112.9210,  704,     25.8,  -1.5843,  33.5384,2,-999.0000,9,   -999.0,5,   -999.0,9,  -999.00,9,  -999.00,9,  -999.00,9,    88.62,2,    4.909,2,    2.009,2
  09AR20120105,  I09S,     8,  1,      6,      6,2,20120120,1159,-65.3737, 112.9210,  704,     25.9,  -1.5835,  33.5357,2,-999.0000,9,   -999.0,5,   -999.0,9,  -999.00,9,  -999.00,9,  -999.00,9,    88.69,2,    4.983,2,    2.012,2
  09AR20120105,  I09S,     8,  1,      5,      5,2,20120120,1159,-65.3737, 112.9210,  704,     25.8,  -1.5722,  33.5069,2,-999.0000,9,   -999.0,5,   -999.0,9,  -999.00,9,  -999.00,9,  -999.00,9,    88.23,2,    5.221,2,    2.018,2
  09AR20120105,  I09S,     8,  1,      4,      4,2,20120120,1159,-65.3737, 112.9210,  704,     25.8,  -1.5720,  33.5056,2,-999.0000,9,   -999.0,5,   -999.0,9,  -999.00,9,  -999.00,9,  -999.00,9,    87.91,2,    5.044,2,    2.024,2
  09AR20120105,  I09S,     8,  1,      3,      3,2,20120120,1159,-65.3737, 112.9210,  704,     25.8,  -1.5779,  33.5211,2,-999.0000,9,   -999.0,5,   -999.0,9,  -999.00,9,  -999.00,9,  -999.00,9,    88.61,2,    4.670,2,    2.013,2
  09AR20120105,  I09S,     8,  1,      2,      2,2,20120120,1159,-65.3737, 112.9210,  704,     25.8,  -1.5792,  33.5247,2,-999.0000,9,   -999.0,5,   -999.0,9,  -999.00,9,  -999.00,9,  -999.00,9,    88.57,2,    4.916,2,    2.005,2
  09AR20120105,  I09S,     8,  1,      1,      1,2,20120120,1159,-65.3737, 112.9210,  704,     25.8,  -1.5774,  33.5200,2,-999.0000,9,   -999.0,5,   -999.0,9,  -999.00,9,  -999.00,9,  -999.00,9,    88.47,2,    4.767,2,    1.950,2
  09AR20120105,  I09S,     9,  1,     24,     24,2,20120120,1311,-65.3832, 112.9050,  658,      5.3,  -1.4735,  33.2725,2,  33.2803,2,    354.9,2,    355.5,2,    58.40,2,    24.93,2,     1.66,2,    90.66,2,    2.407,2,    2.613,2
  09AR20120105,  I09S,     9,  1,     23,     23,2,20120120,1311,-65.3832, 112.9050,  658,      5.3,  -1.4781,  33.2762,2,-999.0000,9,    354.9,2,   -999.0,9,  -999.00,9,  -999.00,9,  -999.00,9,    90.72,2,    2.342,2,    2.636,2
  09AR20120105,  I09S,     9,  1,     22,     22,2,20120120,1311,-65.3832, 112.9050,  658,      5.2,  -1.4781,  33.2747,2,-999.0000,9,    354.9,2,   -999.0,9,  -999.00,9,  -999.00,9,  -999.00,9,    90.70,2,    2.660,2,    2.687,2
  09AR20120105,  I09S,     9,  1,     21,     21,2,20120120,1311,-65.3832, 112.9050,  658,      5.2,  -1.4671,  33.2638,2,-999.0000,9,    354.9,2,   -999.0,9,  -999.00,9,  -999.00,9,  -999.00,9,    90.63,2,    2.455,2,    2.696,2
  09AR20120105,  I09S,     9,  1,     20,     20,2,20120120,1311,-65.3832, 112.9050,  658,     20.0,  -1.4912,  33.3719,2,  33.3652,2,    351.4,2,    352.6,2,    59.10,2,    25.22,2,     1.68,2,    90.99,2,    2.671,2,    0.490,2
  09AR20120105,  I09S,     9,  1,     19,     19,2,20120120,1311,-65.3832, 112.9050,  658,     20.0,  -1.4914,  33.3717,2,-999.0000,9,    351.4,2,   -999.0,9,  -999.00,9,  -999.00,9,  -999.00,9,    91.13,2,    2.748,2,    0.500,2
  09AR20120105,  I09S,     9,  1,     18,     18,2,20120120,1311,-65.3832, 112.9050,  658,     20.0,  -1.4919,  33.3724,2,-999.0000,9,    351.4,2,   -999.0,9,  -999.00,9,  -999.00,9,  -999.00,9,    90.93,2,    3.341,2,    0.504,2
  09AR20120105,  I09S,     9,  1,     17,     17,2,20120120,1311,-65.3832, 112.9050,  658,     24.0,  -1.4939,  33.3773,2,-999.0000,9,    348.7,2,   -999.0,9,  -999.00,9,  -999.00,9,  -999.00,9,    91.11,2,    2.699,2,    0.336,2
  09AR20120105,  I09S,     9,  1,     16,     16,2,20120120,1311,-65.3832, 112.9050,  658,     28.6,  -1.6212,  33.7749,2,  33.7439,2,    345.7,2,    337.6,2,    63.30,2,    26.62,2,     1.81,2,    90.51,2,    4.255,2,    0.198,2
  09AR20120105,  I09S,     9,  1,     15,     15,2,20120120,1311,-65.3832, 112.9050,  658,     49.8,  -1.7186,  34.1695,2,  34.1777,2,    306.2,2,    301.3,2,    70.00,2,    30.22,2,     2.08,2,    96.74,2,    0.994,2,    0.000,2
  09AR20120105,  I09S,     9,  1,     14,     14,2,20120120,1311,-65.3832, 112.9050,  658,     75.0,  -1.7412,  34.2066,2,  34.2054,2,    300.4,2,    303.2,2,    68.20,2,    30.16,2,     2.08,2,    96.74,2,    0.629,2,    0.000,2
  09AR20120105,  I09S,     9,  1,     13,     13,2,20120120,1311,-65.3832, 112.9050,  658,    100.9,  -1.7430,  34.2356,2,  34.2354,2,    300.5,2,    300.3,2,    66.30,2,    30.23,2,     2.08,2,    96.75,2,    0.321,2,    0.000,2
  09AR20120105,  I09S,     9,  1,     12,     12,2,20120120,1311,-65.3832, 112.9050,  658,    199.1,  -1.8062,  34.2762,2,  34.2762,2,    302.6,2,    302.8,2,    64.80,2,    30.69,2,     2.10,2,    96.77,2,   -0.081,2,    0.000,2
  09AR20120105,  I09S,     9,  1,     11,     11,2,20120120,1311,-65.3832, 112.9050,  658,    299.6,  -1.7792,  34.3063,2,  34.3064,2,    306.7,2,    308.1,2,    63.80,2,    30.69,2,     2.08,2,    96.91,2,   -0.163,2,    0.000,2
  09AR20120105,  I09S,     9,  1,     10,     10,2,20120120,1311,-65.3832, 112.9050,  658,    350.4,  -1.5175,  34.3467,2,  34.3468,2,    298.5,2,    296.8,2,    67.10,2,    30.98,2,     2.12,2,    97.07,2,   -0.170,2,    0.000,2
  09AR20120105,  I09S,     9,  1,      9,      9,2,20120120,1311,-65.3832, 112.9050,  658,    400.1,  -0.7172,  34.4525,2,  34.4540,2,    266.4,2,    264.3,2,    76.10,2,    31.60,2,     2.17,2,    97.22,2,   -0.174,2,    0.000,2
  09AR20120105,  I09S,     9,  1,      8,      8,2,20120120,1311,-65.3832, 112.9050,  658,    449.5,   0.4795,  34.6272,2,  34.6266,2,    232.0,2,    221.0,2,    92.70,2,    32.07,2,     2.21,2,    97.29,2,   -0.167,2,    0.000,2
  09AR20120105,  I09S,     9,  1,      7,      7,2,20120120,1311,-65.3832, 112.9050,  658,    500.6,   0.7295,  34.6679,2,-999.0000,9,    213.2,2,   -999.0,9,  -999.00,9,  -999.00,9,  -999.00,9,    97.30,2,   -0.168,2,    0.000,2
  09AR20120105,  I09S,     9,  1,      6,      6,2,20120120,1311,-65.3832, 112.9050,  658,    500.6,   0.7315,  34.6686,2,-999.0000,9,    213.2,2,   -999.0,9,  -999.00,9,  -999.00,9,  -999.00,9,    97.30,2,   -0.173,2,    0.000,2
  09AR20120105,  I09S,     9,  1,      5,      5,2,20120120,1311,-65.3832, 112.9050,  658,    500.6,   0.7328,  34.6695,2,-999.0000,9,    213.2,2,   -999.0,9,  -999.00,9,  -999.00,9,  -999.00,9,    97.30,2,   -0.174,2,    0.000,2
  09AR20120105,  I09S,     9,  1,      4,      4,2,20120120,1311,-65.3832, 112.9050,  658,    500.6,   0.7320,  34.6702,2,  34.6694,2,    213.2,2,    212.7,2,    97.80,2,    32.04,2,     2.21,2,    97.29,2,   -0.169,2,    0.000,2
  09AR20120105,  I09S,     9,  1,      3,      3,2,20120120,1311,-65.3832, 112.9050,  658,    549.8,   0.7078,  34.6728,2,  34.6730,2,    212.0,2,    212.8,2,    98.90,2,    32.02,2,     2.20,2,    97.29,2,   -0.195,2,    0.000,2
  09AR20120105,  I09S,     9,  1,      2,      2,2,20120120,1311,-65.3832, 112.9050,  658,    601.0,   0.6909,  34.6727,2,  34.6728,2,    213.6,2,    213.2,2,    99.60,2,    32.00,2,     2.20,2,    97.24,2,   -0.151,2,    0.000,2
  09AR20120105,  I09S,     9,  1,      1,      1,2,20120120,1311,-65.3832, 112.9050,  658,    643.9,   0.5146,  34.6748,2,  34.6749,2,    215.5,2,    216.2,2,   105.90,2,    32.02,2,     2.21,2,    97.22,2,   -0.188,2,    0.000,2