BOTTLE,20220815CCHSIOAMB
EXPOCODE,SECT_ID,STNNBR,CASTNO,SAMPNO,BTLNBR,BTLNBR_FLAG_W,DATE,TIME,LATITUDE,LONGITUDE,DEPTH,CTDPRS,CTDTMP,CTDSAL,CTDSAL_FLAG_W,SALNTY,SALNTY_FLAG_W,CTDOXY,CTDOXY_FLAG_W,OXYGEN,OXYGEN_FLAG_W,SILCAT,SILCAT_FLAG_W,NITRAT,NITRAT_FLAG_W,PHSPHT,PHSPHT_FLAG_W,XMISS,XMISS_FLAG_W,FLUOR,FLUOR_FLAG_W,PAR,PAR_FLAG_W
,,,,,,,,,,,METERS,DBAR,ITS-90,PSS-78,,PSS-78,,UMOL/KG,,UMOL/KG,,UMOL/KG,,UMOL/KG,,UMOL/KG,,%TRANS,,VOLTS,,VOLTS,
  09AR20120105,  I09S,     4,  1,     24,     24,2,20120111,0310,-67.1453, 145.5600,  899,      5.4,  -0.9733,  33.9445,2,  33.9512,2,    400.6,2,    398.6,2,    67.60,2,    15.18,2,     1.30,2,    63.88,2,   14.533,2,  273.900,2
  09AR20120105,  I09S,     4,  1,     23,     23,2,20120111,0310,-67.1453, 145.5600,  899,     20.9,  -1.0391,  33.9620,2,-999.0000,9,    399.3,2,   -999.0,9,  -999.00,9,  -999.00,9,  -999.00,9,    65.16,2,   33.368,2,    2.851,2
  09AR20120105,  I09S,     4,  1,     22,     22,2,20120111,0310,-67.1453, 145.5600,  899,     20.9,  -1.0389,  33.9612,2,-999.0000,9,    399.3,2,   -999.0,9,  -999.00,9,  -999.00,9,  -999.00,9,    64.99,2,   33.910,2,    2.996,2
  09AR20120105,  I09S,     4,  1,     21,     21,2,20120111,0310,-67.1453, 145.5600,  899,     20.9,  -1.0422,  33.9600,2,  33.9600,2,    399.3,2,    397.0,2,    67.60,2,    15.41,2,     1.38,2,    64.94,2,   33.957,2,    2.943,2
  09AR20120105,  I09S,     4,  1,     20,     20,2,20120111,0310,-67.1453, 145.5600,  899,     40.5,  -1.0454,  33.9660,2,  33.9673,2,    397.5,2,    396.0,2,    68.20,2,    15.46,2,     1.33,2,    65.11,2,   33.557,2,    0.000,2
  09AR20120105,  I09S,     4,  1,     19,     19,2,20120111,0310,-67.1453, 145.5600,  899,     55.4,  -1.3083,  34.1290,2,-999.0000,9,    350.2,2,   -999.0,9,  -999.00,9,  -999.00,9,  -999.00,9,    72.69,2,   26.106,2,    0.000,2
  09AR20120105,  I09S,     4,  1,     18,     18,2,20120111,0310,-67.1453, 145.5600,  899,     55.4,  -1.3015,  34.1255,2,-999.0000,9,    350.2,2,   -999.0,9,  -999.00,9,  -999.00,9,  -999.00,9,    72.63,2,   25.364,2,    0.000,2
  09AR20120105,  I09S,     4,  1,     17,     17,2,20120111,0310,-67.1453, 145.5600,  899,     55.4,  -1.2977,  34.1212,2,  34.1166,2,    350.2,2,    372.8,2,    71.10,2,    20.38,2,     1.61,2,    72.95,2,   25.378,2,    0.000,2
  09AR20120105,  I09S,     4,  1,     16,     16,2,20120111,0310,-67.1453, 145.5600,  899,     69.3,  -1.7127,  34.3366,2,  34.7665,4,    327.4,2,    327.0,2,    73.80,2,    28.17,2,     2.02,2,    94.45,2,    2.415,2,    0.000,2
  09AR20120105,  I09S,     4,  1,     15,     15,2,20120111,0310,-67.1453, 145.5600,  899,    100.6,  -1.7620,  34.3863,2,-999.0000,9,    308.7,2,   -999.0,9,  -999.00,9,  -999.00,9,  -999.00,9,    96.61,2,    0.017,2,    0.000,2
  09AR20120105,  I09S,     4,  1,     14,     14,2,20120111,0310,-67.1453, 145.5600,  899,    100.5,  -1.7620,  34.3862,2,  34.3851,2,    308.7,2,    307.4,2,    75.20,2,    30.26,2,     2.09,2,    96.60,2,    0.035,2,    0.000,2
  09AR20120105,  I09S,     4,  1,     13,     13,2,20120111,0310,-67.1453, 145.5600,  899,    150.0,  -1.7535,  34.4023,2,  34.4022,2,    305.8,2,    304.8,2,    75.10,2,    30.38,2,     2.08,2,    96.59,2,   -0.148,2,    0.000,2
  09AR20120105,  I09S,     4,  1,     12,     12,2,20120111,0310,-67.1453, 145.5600,  899,    200.3,  -1.7577,  34.4147,2,-999.0000,9,    303.1,2,   -999.0,9,  -999.00,9,  -999.00,9,  -999.00,9,    96.58,2,   -0.149,2,    0.000,2
  09AR20120105,  I09S,     4,  1,     11,     11,2,20120111,0310,-67.1453, 145.5600,  899,    200.3,  -1.7579,  34.4149,2,-999.0000,9,    303.1,2,   -999.0,9,  -999.00,9,  -999.00,9,  -999.00,9,    96.58,2,   -0.155,2,    0.000,2
  09AR20120105,  I09S,     4,  1,     10,     10,2,20120111,0310,-67.1453, 145.5600,  899,    200.3,  -1.7580,  34.4149,2,-999.0000,9,    303.1,2,   -999.0,9,  -999.00,9,  -999.00,9,  -999.00,9,    96.58,2,   -0.148,2,    0.000,2
  09AR20120105,  I09S,     4,  1,      9,      9,2,20120111,0310,-67.1453, 145.5600,  899,    200.3,  -1.7589,  34.4149,2,  34.4154,2,    303.1,2,    302.7,2,    75.70,2,    30.46,2,     2.08,2,    96.58,2,   -0.149,2,    0.000,2
  09AR20120105,  I09S,     4,  1,      8,      8,2,20120111,0310,-67.1453, 145.5600,  899,    302.1,  -1.7391,  34.4459,2,  34.4501,2,    299.3,2,    299.6,2,    76.40,2,    30.57,2,     2.10,2,    96.57,2,   -0.166,2,    0.000,2
  09AR20120105,  I09S,     4,  1,      7,      7,2,20120111,0310,-67.1453, 145.5600,  899,    450.1,  -1.8881,  34.4988,2,-999.0000,9,    308.5,2,   -999.0,9,  -999.00,9,  -999.00,9,  -999.00,9,    96.56,2,   -0.179,2,    0.000,2
  09AR20120105,  I09S,     4,  1,      6,      6,2,20120111,0310,-67.1453, 145.5600,  899,    450.1,  -1.8881,  34.4990,2,-999.0000,9,    308.5,2,   -999.0,9,  -999.00,9,  -999.00,9,  -999.00,9,    96.56,2,   -0.170,2,    0.000,2
  09AR20120105,  I09S,     4,  1,      5,      5,2,20120111,0310,-67.1453, 145.5600,  899,    450.2,  -1.8883,  34.4990,2,-999.0000,9,    308.5,2,   -999.0,9,  -999.00,9,  -999.00,9,  -999.00,9,    96.56,2,   -0.174,2,    0.000,2
  09AR20120105,  I09S,     4,  1,      4,      4,2,20120111,0310,-67.1453, 145.5600,  899,    450.4,  -1.8883,  34.4989,2,  34.4984,2,    308.5,2,    306.6,2,    76.30,2,    30.57,2,     2.10,2,    96.56,2,   -0.173,2,    0.000,2
  09AR20120105,  I09S,     4,  1,      3,      3,2,20120111,0310,-67.1453, 145.5600,  899,    600.5,  -1.9081,  34.5452,2,  34.5463,2,    311.4,2,    311.2,2,    75.70,2,    30.43,2,     2.09,2,    96.57,2,   -0.165,2,    0.000,2
  09AR20120105,  I09S,     4,  1,      2,      2,2,20120111,0310,-67.1453, 145.5600,  899,    749.8,  -1.8884,  34.5622,2,  34.5622,2,    312.8,2,    313.2,2,    75.40,2,    30.35,2,     2.08,2,    96.57,2,   -0.182,2,    0.000,2
  09AR20120105,  I09S,     4,  1,      1,      1,2,20120111,0310,-67.1453, 145.5600,  899,    906.0,  -1.8852,  34.5791,2,  34.5815,2,    312.3,2,    313.3,2,    76.60,2,    30.43,2,     2.09,2,    96.65,2,   -0.182,2,    0.000,2
  09AR20120105,  I09S,     5,  1,     24,     24,2,20120111,0617,-67.0493, 145.1780, 1319,      5.4,  -0.8857,  33.9297,2,  33.9298,2,    408.6,2,    407.2,2,    67.70,2,    13.46,2,     1.19,2,    63.89,2,   27.957,2,   35.550,2
  09AR20120105,  I09S,     5,  1,     23,     23,2,20120111,0617,-67.0493, 145.1780, 1319,      5.4,  -0.8861,  33.9298,2,-999.0000,9,    408.6,2,   -999.0,9,  -999.00,9,  -999.00,9,  -999.00,9,    64.53,2,   31.382,2,   36.570,2
  09AR20120105,  I09S,     5,  1,     22,     22,2,20120111,0617,-67.0493, 145.1780, 1319,      5.4,  -0.8870,  33.9298,2,-999.0000,9,    408.6,2,   -999.0,9,  -999.00,9,  -999.00,9,  -999.00,9,    64.11,2,   29.140,2,   36.660,2
  09AR20120105,  I09S,     5,  1,     21,     21,2,20120111,0617,-67.0493, 145.1780, 1319,      5.4,  -0.8836,  33.9296,2,-999.0000,9,    408.6,2,   -999.0,9,  -999.00,9,  -999.00,9,  -999.00,9,    63.93,2,   30.325,2,   36.740,2
  09AR20120105,  I09S,     5,  1,     20,     20,2,20120111,0617,-67.0493, 145.1780, 1319,     26.1,  -0.9506,  33.9343,2,  33.9339,2,    403.7,2,    405.3,2,    67.30,2,    13.64,2,     1.18,2,    64.84,2,   33.981,2,    0.052,2
  09AR20120105,  I09S,     5,  1,     19,     19,2,20120111,0617,-67.0493, 145.1780, 1319,     50.9,  -1.0292,  33.9791,2,  34.0181,2,    384.8,2,    391.5,2,    69.40,2,    16.37,2,     1.36,2,    66.65,2,   33.141,2,    0.000,2
  09AR20120105,  I09S,     5,  1,     18,     18,2,20120111,0617,-67.0493, 145.1780, 1319,     60.9,  -1.4005,  34.1840,2,  34.1955,2,    359.0,2,    351.3,2,    71.90,2,    23.26,2,     1.76,2,    77.02,2,   17.939,2,    0.000,2
  09AR20120105,  I09S,     5,  1,     17,     17,2,20120111,0617,-67.0493, 145.1780, 1319,     75.3,  -1.6784,  34.3439,2,  34.3511,2,    321.6,2,    318.9,2,    74.30,2,    28.91,2,     2.01,2,    90.33,2,    7.051,2,    0.000,2
  09AR20120105,  I09S,     5,  1,     16,     16,2,20120111,0617,-67.0493, 145.1780, 1319,    101.0,  -1.7565,  34.3869,2,  34.3927,4,    307.0,2,    307.1,2,    75.20,2,    30.23,2,     2.05,2,    96.58,2,    0.144,2,    0.000,2
  09AR20120105,  I09S,     5,  1,     15,     15,2,20120111,0617,-67.0493, 145.1780, 1319,    125.8,  -1.7523,  34.3966,2,  34.3988,2,    305.5,2,    303.9,2,    75.40,2,    30.34,2,     2.05,2,    96.57,2,   -0.107,2,    0.000,2
  09AR20120105,  I09S,     5,  1,     14,     14,2,20120111,0617,-67.0493, 145.1780, 1319,    201.5,  -1.7570,  34.4126,2,  34.4145,2,    301.8,2,    302.8,2,    75.40,2,    30.38,2,     2.06,2,    96.56,2,   -0.096,2,    0.000,2
  09AR20120105,  I09S,     5,  1,     13,     13,2,20120111,0617,-67.0493, 145.1780, 1319,    350.6,  -1.7920,  34.4523,2,  34.4531,2,    300.7,2,    301.3,2,    76.50,2,    30.49,2,     2.08,2,    96.55,2,   -0.170,2,    0.000,2
  09AR20120105,  I09S,     5,  1,     12,     12,2,20120111,0617,-67.0493, 145.1780, 1319,    498.4,  -1.9310,  34.5038,2,-999.0000,9,    307.6,2,   -999.0,9,  -999.00,9,  -999.00,9,  -999.00,9,    96.55,2,   -0.176,2,    0.000,2
  09AR20120105,  I09S,     5,  1,     11,     11,2,20120111,0617,-67.0493, 145.1780, 1319,    498.8,  -1.9310,  34.5038,2,-999.0000,9,    307.6,2,   -999.0,9,  -999.00,9,  -999.00,9,  -999.00,9,    96.56,2,   -0.159,2,    0.000,2
  09AR20120105,  I09S,     5,  1,     10,     10,2,20120111,0617,-67.0493, 145.1780, 1319,    499.0,  -1.9303,  34.5046,2,-999.0000,9,    307.7,2,   -999.0,9,  -999.00,9,  -999.00,9,  -999.00,9,    96.56,2,   -0.181,2,    0.000,2
  09AR20120105,  I09S,     5,  1,      9,      9,2,20120111,0617,-67.0493, 145.1780, 1319,    499.4,  -1.9306,  34.5047,2,  34.5071,2,    307.7,2,    309.2,2,    75.70,2,    30.41,2,     2.06,2,    96.56,2,   -0.155,2,    0.000,2
  09AR20120105,  I09S,     5,  1,      8,      8,2,20120111,0617,-67.0493, 145.1780, 1319,    655.6,  -1.8952,  34.5429,2,  34.5429,2,    308.8,2,   -999.0,9,    75.70,2,    30.35,2,     2.08,2,    96.57,2,   -0.171,2,    0.000,2
  09AR20120105,  I09S,     5,  1,      7,      7,2,20120111,0617,-67.0493, 145.1780, 1319,    799.9,  -1.8822,  34.5565,2,-999.0000,9,    311.0,2,   -999.0,9,  -999.00,9,  -999.00,9,  -999.00,9,    96.57,2,   -0.180,2,    0.000,2
  09AR20120105,  I09S,     5,  1,      6,      6,2,20120111,0617,-67.0493, 145.1780, 1319,    800.1,  -1.8821,  34.5564,2,-999.0000,9,    311.0,2,   -999.0,9,  -999.00,9,  -999.00,9,  -999.00,9,    96.57,2,   -0.177,2,    0.000,2
  09AR20120105,  I09S,     5,  1,      5,      5,2,20120111,0617,-67.0493, 145.1780, 1319,    800.2,  -1.8822,  34.5564,2,-999.0000,9,    311.0,2,   -999.0,9,  -999.00,9,  -999.00,9,  -999.00,9,    96.58,2,   -0.177,2,    0.000,2
  09AR20120105,  I09S,     5,  1,      4,      4,2,20120111,0617,-67.0493, 145.1780, 1319,    800.5,  -1.8822,  34.5565,2,  34.5553,2,    311.0,2,    312.7,2,    75.50,2,    30.33,2,     2.07,2,    96.58,2,   -0.177,2,    0.000,2
  09AR20120105,  I09S,     5,  1,      3,      3,2,20120111,0617,-67.0493, 145.1780, 1319,    996.9,  -1.8785,  34.5642,2,  34.5641,2,    312.5,2,    312.9,2,    75.50,2,    30.35,2,     2.07,2,    96.59,2,   -0.182,2,    0.000,2
  09AR20120105,  I09S,     5,  1,      2,      2,2,20120111,0617,-67.0493, 145.1780, 1319,   1200.7,  -1.8793,  34.5789,2,  34.5781,2,    313.2,2,    312.9,2,    76.20,2,    30.38,2,     2.07,2,    96.60,2,   -0.184,2,    0.000,2
  09AR20120105,  I09S,     5,  1,      1,      1,2,20120111,0617,-67.0493, 145.1780, 1319,   1333.1,  -1.8792,  34.5892,2,  34.5877,2,    312.7,2,    311.7,2,    76.90,2,    30.45,2,     2.08,2,    96.65,2,   -0.182,2,    0.000,2
  09AR20120105,  I09S,     6,  1,     24,     24,2,20120111,0907,-66.9023, 144.7440, 1014,      5.0,  -0.9689,  33.9959,2,  33.9998,2,    393.9,2,    393.3,2,    66.60,2,    16.41,2,     1.33,2,    72.03,2,   23.171,2,   12.140,2
  09AR20120105,  I09S,     6,  1,     23,     23,2,20120111,0907,-66.9023, 144.7440, 1014,      4.9,  -0.9711,  33.9963,2,-999.0000,9,    393.9,2,   -999.0,9,  -999.00,9,  -999.00,9,  -999.00,9,    72.04,2,   24.117,2,   12.300,2
  09AR20120105,  I09S,     6,  1,     22,     22,2,20120111,0907,-66.9023, 144.7440, 1014,      4.9,  -0.9727,  33.9973,2,-999.0000,9,    393.9,2,   -999.0,9,  -999.00,9,  -999.00,9,  -999.00,9,    72.59,2,   20.492,2,   12.450,2
  09AR20120105,  I09S,     6,  1,     21,     21,2,20120111,0907,-66.9023, 144.7440, 1014,      4.9,  -0.9723,  33.9977,2,-999.0000,9,    393.9,2,   -999.0,9,  -999.00,9,  -999.00,9,  -999.00,9,    72.19,2,   22.641,2,   12.450,2
  09AR20120105,  I09S,     6,  1,     20,     20,2,20120111,0907,-66.9023, 144.7440, 1014,     24.6,  -1.0176,  34.0146,2,  34.0268,2,    388.3,2,    389.4,2,    67.40,2,    17.06,2,     1.38,2,    72.89,2,   27.698,2,    0.039,2
  09AR20120105,  I09S,     6,  1,     19,     19,2,20120111,0907,-66.9023, 144.7440, 1014,     39.8,  -1.1148,  34.0358,2,  34.0841,2,    384.2,2,    377.2,2,    68.70,2,    19.11,2,     1.49,2,    74.72,2,   26.514,2,    0.000,2
  09AR20120105,  I09S,     6,  1,     18,     18,2,20120111,0907,-66.9023, 144.7440, 1014,     60.2,  -1.3541,  34.1721,2,-999.0000,9,    379.4,2,   -999.0,9,  -999.00,9,  -999.00,9,  -999.00,9,    81.28,2,   18.372,2,    0.000,2
  09AR20120105,  I09S,     6,  1,     17,     17,2,20120111,0907,-66.9023, 144.7440, 1014,     60.2,  -1.3423,  34.1669,2,  34.1868,2,    379.4,2,    351.7,2,    70.70,2,    22.44,2,     1.69,2,    80.48,2,   19.515,2,    0.000,2
  09AR20120105,  I09S,     6,  1,     16,     16,2,20120111,0907,-66.9023, 144.7440, 1014,     75.4,  -1.5981,  34.3067,2,  34.3194,2,    354.7,2,    327.0,2,    73.30,2,    27.68,2,     1.96,2,    88.12,2,    9.320,2,    0.000,2
  09AR20120105,  I09S,     6,  1,     15,     15,2,20120111,0907,-66.9023, 144.7440, 1014,     99.4,  -1.7509,  34.3791,2,  34.3834,2,    317.0,2,    312.5,2,    74.40,2,    29.71,2,     2.04,2,    96.59,2,    0.872,2,    0.000,2
  09AR20120105,  I09S,     6,  1,     14,     14,2,20120111,0907,-66.9023, 144.7440, 1014,    124.9,  -1.7607,  34.3909,2,  34.3902,2,    309.2,2,    309.6,2,    74.90,2,    29.99,2,     2.05,2,    96.57,2,    0.452,2,    0.000,2
  09AR20120105,  I09S,     6,  1,     13,     13,2,20120111,0907,-66.9023, 144.7440, 1014,    200.8,  -1.7785,  34.4128,2,  34.4130,2,    305.2,2,    305.4,2,    75.20,2,    30.29,2,     2.06,2,    96.55,2,   -0.123,2,    0.000,2
  09AR20120105,  I09S,     6,  1,     12,     12,2,20120111,0907,-66.9023, 144.7440, 1014,    349.7,  -1.8466,  34.4528,2,-999.0000,9,    302.7,2,   -999.0,9,  -999.00,9,  -999.00,9,  -999.00,9,    96.54,2,   -0.170,2,    0.000,2
  09AR20120105,  I09S,     6,  1,     11,     11,2,20120111,0907,-66.9023, 144.7440, 1014,    349.7,  -1.8525,  34.4521,2,-999.0000,9,    302.7,2,   -999.0,9,  -999.00,9,  -999.00,9,  -999.00,9,    96.55,2,   -0.168,2,    0.000,2
  09AR20120105,  I09S,     6,  1,     10,     10,2,20120111,0907,-66.9023, 144.7440, 1014,    349.7,  -1.8523,  34.4520,2,-999.0000,9,    302.7,2,   -999.0,9,  -999.00,9,  -999.00,9,  -999.00,9,    96.54,2,   -0.171,2,    0.000,2
  09AR20120105,  I09S,     6,  1,      9,      9,2,20120111,0907,-66.9023, 144.7440, 1014,    349.9,  -1.8474,  34.4523,2,  34.4511,2,    302.7,2,    304.4,2,    76.00,2,    30.41,2,     2.07,2,    96.54,2,   -0.172,2,    0.000,2
  09AR20120105,  I09S,     6,  1,      8,      8,2,20120111,0907,-66.9023, 144.7440, 1014,    450.4,  -1.9942,  34.4812,2,  34.4813,2,    308.2,2,    310.2,2,    75.80,2,    30.42,2,     2.07,2,    96.54,2,   -0.176,2,    0.000,2
  09AR20120105,  I09S,     6,  1,      7,      7,2,20120111,0907,-66.9023, 144.7440, 1014,    599.6,  -2.0099,  34.4999,2,-999.0000,9,    309.6,2,   -999.0,9,  -999.00,9,  -999.00,9,  -999.00,9,    96.54,2,   -0.183,2,    0.000,2
  09AR20120105,  I09S,     6,  1,      6,      6,2,20120111,0907,-66.9023, 144.7440, 1014,    599.6,  -2.0103,  34.5000,2,-999.0000,9,    309.6,2,   -999.0,9,  -999.00,9,  -999.00,9,  -999.00,9,    96.54,2,   -0.183,2,    0.000,2
  09AR20120105,  I09S,     6,  1,      5,      5,2,20120111,0907,-66.9023, 144.7440, 1014,    599.6,  -2.0104,  34.5001,2,-999.0000,9,    309.6,2,   -999.0,9,  -999.00,9,  -999.00,9,  -999.00,9,    96.54,2,   -0.178,2,    0.000,2
  09AR20120105,  I09S,     6,  1,      4,      4,2,20120111,0907,-66.9023, 144.7440, 1014,    599.7,  -2.0106,  34.5001,2,  34.4996,2,    309.6,2,    311.4,2,    76.00,2,    30.42,2,     2.07,2,    96.54,2,   -0.185,2,    0.000,2
  09AR20120105,  I09S,     6,  1,      3,      3,2,20120111,0907,-66.9023, 144.7440, 1014,    751.7,  -1.9381,  34.5351,2,  34.5355,2,    311.4,2,    311.0,2,    75.80,2,    30.38,2,     2.08,2,    96.56,2,   -0.179,2,    0.000,2
  09AR20120105,  I09S,     6,  1,      2,      2,2,20120111,0907,-66.9023, 144.7440, 1014,    901.7,  -1.8994,  34.5591,2,  34.5587,2,    313.8,2,    312.5,2,    75.80,2,    30.35,2,     2.07,2,    96.57,2,   -0.183,2,    0.000,2
  09AR20120105,  I09S,     6,  1,      1,      1,2,20120111,0907,-66.9023, 144.7440, 1014,   1023.2,  -1.8854,  34.5801,2,  34.5795,2,    315.4,3,   -999.0,9,    76.40,2,    30.38,2,     2.09,2,    96.64,2,   -0.182,2,    0.000,2