BOTTLE,20220815CCHSIOAMB
EXPOCODE,SECT_ID,STNNBR,CASTNO,SAMPNO,BTLNBR,BTLNBR_FLAG_W,DATE,TIME,LATITUDE,LONGITUDE,DEPTH,CTDPRS,CTDTMP,CTDSAL,CTDSAL_FLAG_W,SALNTY,SALNTY_FLAG_W,CTDOXY,CTDOXY_FLAG_W,OXYGEN,OXYGEN_FLAG_W,SILCAT,SILCAT_FLAG_W,NITRAT,NITRAT_FLAG_W,PHSPHT,PHSPHT_FLAG_W,XMISS,XMISS_FLAG_W,FLUOR,FLUOR_FLAG_W,PAR,PAR_FLAG_W
,,,,,,,,,,,METERS,DBAR,ITS-90,PSS-78,,PSS-78,,UMOL/KG,,UMOL/KG,,UMOL/KG,,UMOL/KG,,UMOL/KG,,%TRANS,,VOLTS,,VOLTS,
  09AR20120105,  I09S,    74,  1,     24,     24,2,20120205,2006,-40.2920, 114.9950, 4705,   1098.4,   4.7169,  34.3465,2,-999.0000,9,   -999.0,5,   -999.0,9,  -999.00,9,  -999.00,9,  -999.00,9,    98.17,2,   -0.191,2,    0.000,2
  09AR20120105,  I09S,    74,  1,     23,     23,2,20120205,2006,-40.2920, 114.9950, 4705,   1098.3,   4.7170,  34.3464,2,-999.0000,9,   -999.0,5,   -999.0,9,  -999.00,9,  -999.00,9,  -999.00,9,    98.16,2,   -0.190,2,    0.000,2
  09AR20120105,  I09S,    74,  1,     22,     22,2,20120205,2006,-40.2920, 114.9950, 4705,   1098.5,   4.7168,  34.3465,2,-999.0000,9,   -999.0,5,   -999.0,9,  -999.00,9,  -999.00,9,  -999.00,9,    98.16,2,   -0.188,2,    0.000,2
  09AR20120105,  I09S,    74,  1,     21,     21,2,20120205,2006,-40.2920, 114.9950, 4705,   1098.5,   4.7166,  34.3464,2,-999.0000,9,   -999.0,5,   -999.0,9,  -999.00,9,  -999.00,9,  -999.00,9,    98.14,2,   -0.189,2,    0.000,2
  09AR20120105,  I09S,    74,  1,     20,     20,2,20120205,2006,-40.2920, 114.9950, 4705,   1098.4,   4.7175,  34.3465,2,-999.0000,9,   -999.0,5,   -999.0,9,  -999.00,9,  -999.00,9,  -999.00,9,    98.13,2,   -0.192,2,    0.000,2
  09AR20120105,  I09S,    74,  1,     19,     19,2,20120205,2006,-40.2920, 114.9950, 4705,   1098.4,   4.7172,  34.3466,2,-999.0000,9,   -999.0,5,   -999.0,9,  -999.00,9,  -999.00,9,  -999.00,9,    98.12,2,   -0.192,2,    0.000,2
  09AR20120105,  I09S,    74,  1,     18,     18,2,20120205,2006,-40.2920, 114.9950, 4705,   1098.3,   4.7180,  34.3466,2,-999.0000,9,   -999.0,5,   -999.0,9,  -999.00,9,  -999.00,9,  -999.00,9,    98.11,2,   -0.194,2,    0.000,2
  09AR20120105,  I09S,    74,  1,     17,     17,2,20120205,2006,-40.2920, 114.9950, 4705,   1098.2,   4.7167,  34.3465,2,-999.0000,9,   -999.0,5,   -999.0,9,  -999.00,9,  -999.00,9,  -999.00,9,    98.10,2,   -0.190,2,    0.000,2
  09AR20120105,  I09S,    74,  1,     16,     16,2,20120205,2006,-40.2920, 114.9950, 4705,   1098.3,   4.7165,  34.3464,2,-999.0000,9,   -999.0,5,   -999.0,9,  -999.00,9,  -999.00,9,  -999.00,9,    98.09,2,   -0.190,2,    0.000,2
  09AR20120105,  I09S,    74,  1,     15,     15,2,20120205,2006,-40.2920, 114.9950, 4705,   1098.3,   4.7153,  34.3462,2,-999.0000,9,   -999.0,5,   -999.0,9,  -999.00,9,  -999.00,9,  -999.00,9,    98.07,2,   -0.188,2,    0.000,2
  09AR20120105,  I09S,    74,  1,     14,     14,2,20120205,2006,-40.2920, 114.9950, 4705,   1098.2,   4.7154,  34.3462,2,-999.0000,9,   -999.0,5,   -999.0,9,  -999.00,9,  -999.00,9,  -999.00,9,    98.06,2,   -0.191,2,    0.000,2
  09AR20120105,  I09S,    74,  1,     13,     13,2,20120205,2006,-40.2920, 114.9950, 4705,   1098.4,   4.7149,  34.3462,2,-999.0000,9,   -999.0,5,   -999.0,9,  -999.00,9,  -999.00,9,  -999.00,9,    98.05,2,   -0.185,2,    0.000,2
  09AR20120105,  I09S,    74,  1,     12,     12,2,20120205,2006,-40.2920, 114.9950, 4705,   1098.3,   4.7128,  34.3460,2,-999.0000,9,   -999.0,5,   -999.0,9,  -999.00,9,  -999.00,9,  -999.00,9,    98.03,2,   -0.194,2,    0.000,2
  09AR20120105,  I09S,    74,  1,     11,     11,2,20120205,2006,-40.2920, 114.9950, 4705,   4774.2,   0.8616,  34.7015,2,-999.0000,9,   -999.0,5,   -999.0,9,  -999.00,9,  -999.00,9,  -999.00,9,    97.33,2,   -0.176,2,    0.000,2
  09AR20120105,  I09S,    74,  1,     10,     10,2,20120205,2006,-40.2920, 114.9950, 4705,   4774.8,   0.8617,  34.7014,2,-999.0000,9,   -999.0,5,   -999.0,9,  -999.00,9,  -999.00,9,  -999.00,9,    97.33,2,   -0.181,2,    0.000,2
  09AR20120105,  I09S,    74,  1,      9,      9,2,20120205,2006,-40.2920, 114.9950, 4705,   4774.3,   0.8617,  34.7014,2,-999.0000,9,   -999.0,5,   -999.0,9,  -999.00,9,  -999.00,9,  -999.00,9,    97.33,2,   -0.183,2,    0.000,2
  09AR20120105,  I09S,    74,  1,      8,      8,2,20120205,2006,-40.2920, 114.9950, 4705,   4774.7,   0.8616,  34.7013,2,-999.0000,9,   -999.0,5,   -999.0,9,  -999.00,9,  -999.00,9,  -999.00,9,    97.33,2,   -0.178,2,    0.000,2
  09AR20120105,  I09S,    74,  1,      7,      7,2,20120205,2006,-40.2920, 114.9950, 4705,   4776.0,   0.8618,  34.7013,2,-999.0000,9,   -999.0,5,   -999.0,9,  -999.00,9,  -999.00,9,  -999.00,9,    97.33,2,   -0.182,2,    0.000,2
  09AR20120105,  I09S,    74,  1,      6,      6,2,20120205,2006,-40.2920, 114.9950, 4705,   4775.3,   0.8617,  34.7015,2,-999.0000,9,   -999.0,5,   -999.0,9,  -999.00,9,  -999.00,9,  -999.00,9,    97.32,2,   -0.176,2,    0.000,2
  09AR20120105,  I09S,    74,  1,      5,      5,2,20120205,2006,-40.2920, 114.9950, 4705,   4776.2,   0.8618,  34.7015,2,-999.0000,9,   -999.0,5,   -999.0,9,  -999.00,9,  -999.00,9,  -999.00,9,    97.32,2,   -0.178,2,    0.000,2
  09AR20120105,  I09S,    74,  1,      4,      4,2,20120205,2006,-40.2920, 114.9950, 4705,   4776.3,   0.8618,  34.7014,2,-999.0000,9,   -999.0,5,   -999.0,9,  -999.00,9,  -999.00,9,  -999.00,9,    97.32,2,   -0.179,2,    0.000,2
  09AR20120105,  I09S,    74,  1,      3,      3,2,20120205,2006,-40.2920, 114.9950, 4705,   4775.9,   0.8617,  34.7015,2,-999.0000,9,   -999.0,5,   -999.0,9,  -999.00,9,  -999.00,9,  -999.00,9,    97.32,2,   -0.182,2,    0.000,2
  09AR20120105,  I09S,    74,  1,      2,      2,2,20120205,2006,-40.2920, 114.9950, 4705,   4775.6,   0.8618,  34.7014,2,-999.0000,9,   -999.0,5,   -999.0,9,  -999.00,9,  -999.00,9,  -999.00,9,    97.32,2,   -0.179,2,    0.000,2
  09AR20120105,  I09S,    74,  1,      1,      1,2,20120205,2006,-40.2920, 114.9950, 4705,   4775.3,   0.8617,  34.7013,2,-999.0000,9,   -999.0,5,   -999.0,9,  -999.00,9,  -999.00,9,  -999.00,9,    97.33,2,   -0.183,2,    0.000,2
  09AR20120105,  I09S,    75,  1,     24,     24,2,20120206,0226,-40.2957, 114.9990, 4683,      9.5,  15.2419,  34.9133,2,  34.9136,2,    256.6,2,    255.7,2,     1.10,2,     3.28,2,     0.31,2,    96.07,2,    0.193,2,  173.300,2
  09AR20120105,  I09S,    75,  1,     23,     23,2,20120206,0226,-40.2957, 114.9990, 4683,     20.5,  15.1902,  34.9137,2,-999.0000,9,    256.5,2,   -999.0,9,  -999.00,9,  -999.00,9,  -999.00,9,    95.90,2,    0.413,2,   78.140,2
  09AR20120105,  I09S,    75,  1,     22,     22,2,20120206,0226,-40.2957, 114.9990, 4683,     20.5,  15.1907,  34.9137,2,-999.0000,9,    256.5,2,   -999.0,9,  -999.00,9,  -999.00,9,  -999.00,9,    95.89,2,    0.429,2,   77.490,2
  09AR20120105,  I09S,    75,  1,     21,     21,2,20120206,0226,-40.2957, 114.9990, 4683,     30.0,  15.1735,  34.9137,2,  34.9144,2,    256.8,2,    255.5,2,     1.10,2,     3.33,2,     0.31,2,    95.90,2,    0.470,2,   43.350,2
  09AR20120105,  I09S,    75,  1,     20,     20,2,20120206,0226,-40.2957, 114.9990, 4683,     54.8,  13.4889,  34.8990,2,  34.8997,2,    270.3,2,    269.5,2,     1.40,2,     4.77,2,     0.41,2,    95.72,2,    1.141,2,   10.060,2
  09AR20120105,  I09S,    75,  1,     19,     19,2,20120206,0226,-40.2957, 114.9990, 4683,     90.0,  11.8720,  34.8784,2,  34.8790,2,    263.0,2,    264.2,2,     2.10,2,     7.07,2,     0.59,2,    98.37,2,    0.482,2,    0.986,2
  09AR20120105,  I09S,    75,  1,     18,     18,2,20120206,0226,-40.2957, 114.9990, 4683,    199.9,  10.4719,  34.7753,2,  34.7756,2,    257.5,2,    257.3,2,     2.70,2,    10.74,2,     0.78,2,    99.49,2,   -0.196,2,    0.000,2
  09AR20120105,  I09S,    75,  1,     17,     17,2,20120206,0226,-40.2957, 114.9990, 4683,    351.1,   9.5167,  34.6646,2,  34.6635,2,    255.4,2,    254.8,2,     3.90,2,    14.27,2,     0.98,2,    99.36,2,   -0.201,2,    0.000,2
  09AR20120105,  I09S,    75,  1,     16,     16,2,20120206,0226,-40.2957, 114.9990, 4683,    502.2,   9.0841,  34.6133,2,  34.6134,2,    251.8,2,    252.2,2,     4.50,2,    15.75,2,     1.06,2,    99.28,2,   -0.204,2,    0.000,2
  09AR20120105,  I09S,    75,  1,     15,     15,2,20120206,0226,-40.2957, 114.9990, 4683,    703.7,   8.7129,  34.5868,2,  34.5865,2,    238.0,2,    237.3,2,     6.30,2,    18.32,2,     1.23,2,    98.88,2,   -0.212,2,    0.000,2
  09AR20120105,  I09S,    75,  1,     14,     14,2,20120206,0226,-40.2957, 114.9990, 4683,    895.0,   7.0700,  34.4517,2,  34.4524,2,    207.4,2,    206.6,2,    15.20,2,    24.86,2,     1.65,2,    98.39,2,   -0.192,2,    0.000,2
  09AR20120105,  I09S,    75,  1,     13,     13,2,20120206,0226,-40.2957, 114.9990, 4683,   1099.6,   4.8733,  34.3522,2,  34.3523,2,    202.3,2,    201.8,2,    29.90,2,    30.03,2,     2.00,2,    98.03,2,   -0.186,2,    0.000,2
  09AR20120105,  I09S,    75,  1,     12,     12,2,20120206,0226,-40.2957, 114.9990, 4683,   1297.5,   3.6369,  34.4019,2,  34.4037,2,    186.3,2,    185.5,2,    50.00,2,    33.06,2,     2.25,2,    97.86,2,   -0.184,2,    0.000,2
  09AR20120105,  I09S,    75,  1,     11,     11,2,20120206,0226,-40.2957, 114.9990, 4683,   1499.0,   3.0299,  34.4960,2,  34.4960,2,    170.9,2,    170.4,2,    65.60,2,    34.12,2,     2.34,2,    97.78,2,   -0.184,2,    0.000,2
  09AR20120105,  I09S,    75,  1,     10,     10,2,20120206,0226,-40.2957, 114.9990, 4683,   1752.2,   2.7647,  34.6062,2,  34.6069,2,    161.5,2,    161.7,2,    79.20,2,    33.93,2,     2.34,2,    97.74,2,   -0.178,2,    0.000,2
  09AR20120105,  I09S,    75,  1,      9,      9,2,20120206,0226,-40.2957, 114.9990, 4683,   2100.8,   2.4877,  34.6883,2,  34.6887,2,    166.3,2,    166.0,2,    90.40,2,    32.93,2,     2.28,2,    97.68,2,   -0.177,2,    0.000,2
  09AR20120105,  I09S,    75,  1,      8,      8,2,20120206,0226,-40.2957, 114.9990, 4683,   2451.1,   2.2187,  34.7269,2,  34.7270,2,    179.4,2,    178.7,2,    93.00,2,    31.89,2,     2.19,2,    97.61,2,   -0.179,2,    0.000,2
  09AR20120105,  I09S,    75,  1,      7,      7,2,20120206,0226,-40.2957, 114.9990, 4683,   2801.3,   1.9345,  34.7425,2,  34.7429,2,    190.9,2,    190.6,2,    96.00,2,    30.98,2,     2.12,2,    97.54,2,   -0.181,2,    0.000,2
  09AR20120105,  I09S,    75,  1,      6,      6,2,20120206,0226,-40.2957, 114.9990, 4683,   3202.4,   1.5735,  34.7384,2,  34.7382,2,    199.0,2,    198.7,2,   104.30,2,    31.14,2,     2.13,2,    97.44,2,   -0.175,2,    0.000,2
  09AR20120105,  I09S,    75,  1,      5,      5,2,20120206,0226,-40.2957, 114.9990, 4683,   3600.0,   1.1667,  34.7213,2,  34.7211,2,    206.1,2,    205.7,2,   115.80,2,    31.62,2,     2.17,2,    97.36,2,   -0.182,2,    0.000,2
  09AR20120105,  I09S,    75,  1,      4,      4,2,20120206,0226,-40.2957, 114.9990, 4683,   4000.6,   0.8910,  34.7071,2,  34.7068,2,    210.8,2,    210.5,2,   123.60,2,    32.06,2,     2.20,2,    97.33,2,   -0.182,2,    0.000,2
  09AR20120105,  I09S,    75,  1,      3,      3,2,20120206,0226,-40.2957, 114.9990, 4683,   4349.9,   0.8329,  34.7028,2,  34.7028,2,    211.4,2,    211.4,2,   125.50,2,    32.12,2,     2.20,2,    97.32,2,   -0.180,2,    0.000,2
  09AR20120105,  I09S,    75,  1,      2,      2,2,20120206,0226,-40.2957, 114.9990, 4683,   4598.6,   0.8419,  34.7016,2,  34.7017,2,    210.9,2,    211.3,2,   125.80,2,    32.08,2,     2.20,2,    97.32,2,   -0.185,2,    0.000,2
  09AR20120105,  I09S,    75,  1,      1,      1,2,20120206,0226,-40.2957, 114.9990, 4683,   4758.0,   0.8613,  34.7015,2,  34.7013,2,    210.6,2,    211.3,2,   126.10,2,    32.24,2,     2.21,2,    97.32,2,   -0.184,2,    0.000,2
  09AR20120105,  I09S,    78,  1,     24,     24,2,20120206,0603,-39.7007, 114.9920, 4752,      9.7,  16.0322,  34.9107,2,  34.9075,2,    252.9,2,    251.9,2,     1.20,2,     2.72,2,     0.28,2,    96.36,2,    0.486,2,    0.001,2
  09AR20120105,  I09S,    78,  1,     23,     23,2,20120206,0603,-39.7007, 114.9920, 4752,     44.6,  13.6567,  34.7871,2,-999.0000,9,    265.2,2,   -999.0,9,  -999.00,9,  -999.00,9,  -999.00,9,    96.16,2,    1.225,2,    0.000,2
  09AR20120105,  I09S,    78,  1,     22,     22,2,20120206,0603,-39.7007, 114.9920, 4752,     44.5,  13.6589,  34.7890,2,-999.0000,9,    265.2,2,   -999.0,9,  -999.00,9,  -999.00,9,  -999.00,9,    96.13,2,    1.276,2,    0.000,2
  09AR20120105,  I09S,    78,  1,     21,     21,2,20120206,0603,-39.7007, 114.9920, 4752,     44.5,  13.6617,  34.7913,2,  34.8056,2,    265.2,2,    269.0,2,     1.40,2,     4.87,2,     0.43,2,    96.16,2,    1.206,2,    0.000,2
  09AR20120105,  I09S,    78,  1,     20,     20,2,20120206,0603,-39.7007, 114.9920, 4752,     66.0,  13.0098,  34.9813,2,  34.9752,2,    260.4,2,    261.0,2,     1.30,2,     4.21,2,     0.45,2,    98.45,2,    0.452,2,    0.000,2
  09AR20120105,  I09S,    78,  1,     19,     19,2,20120206,0603,-39.7007, 114.9920, 4752,     81.0,  12.5056,  34.9227,2,  34.9264,2,    258.3,2,    258.3,2,     1.70,2,     5.43,2,     0.52,2,    98.92,2,    0.241,2,    0.000,2
  09AR20120105,  I09S,    78,  1,     18,     18,2,20120206,0603,-39.7007, 114.9920, 4752,    200.4,  10.1920,  34.7475,2,  34.7488,2,    248.5,2,    249.2,2,     3.00,2,    12.48,2,     0.89,2,    99.53,2,   -0.202,2,    0.000,2
  09AR20120105,  I09S,    78,  1,     17,     17,2,20120206,0603,-39.7007, 114.9920, 4752,    300.3,   9.6963,  34.7016,2,  34.7015,2,    249.6,2,    249.2,2,     4.00,2,    14.29,2,     0.99,2,    99.38,2,   -0.206,2,    0.000,2
  09AR20120105,  I09S,    78,  1,     16,     16,2,20120206,0603,-39.7007, 114.9920, 4752,    500.6,   9.1540,  34.6457,2,  34.6462,2,    238.8,2,    239.3,2,     5.20,2,    16.92,2,     1.14,2,    99.23,2,   -0.195,2,    0.000,2
  09AR20120105,  I09S,    78,  1,     15,     15,2,20120206,0603,-39.7007, 114.9920, 4752,    699.6,   8.1908,  34.5390,2,  34.5398,2,    225.2,2,    224.3,2,     8.70,2,    20.72,2,     1.39,2,    98.83,2,   -0.197,2,    0.000,2
  09AR20120105,  I09S,    78,  1,     14,     14,2,20120206,0603,-39.7007, 114.9920, 4752,    900.2,   6.0939,  34.4059,2,  34.4069,2,    199.0,2,    199.3,2,    21.50,2,    27.64,2,     1.85,2,    98.28,2,   -0.188,2,    0.000,2
  09AR20120105,  I09S,    78,  1,     13,     13,2,20120206,0603,-39.7007, 114.9920, 4752,   1049.7,   4.6467,  34.3595,2,  34.3601,2,    197.6,2,    198.2,2,    33.10,2,    30.55,2,     2.07,2,    98.01,2,   -0.191,2,    0.000,2
  09AR20120105,  I09S,    78,  1,     12,     12,2,20120206,0603,-39.7007, 114.9920, 4752,   1299.8,   3.4495,  34.4248,2,  34.4263,2,    179.9,2,    180.2,2,    54.20,2,    33.27,2,     2.29,2,    97.84,2,   -0.188,2,    0.000,2
  09AR20120105,  I09S,    78,  1,     11,     11,2,20120206,0603,-39.7007, 114.9920, 4752,   1552.8,   2.8886,  34.5313,2,  34.5317,2,    167.2,2,    167.2,2,    70.60,2,    34.50,2,     2.36,2,    97.80,2,   -0.181,2,    0.000,2
  09AR20120105,  I09S,    78,  1,     10,     10,2,20120206,0603,-39.7007, 114.9920, 4752,   1799.4,   2.6536,  34.6289,2,  34.6280,2,    163.8,2,    164.1,2,    81.30,2,    33.94,2,     2.33,2,    97.73,2,   -0.180,2,    0.000,2
  09AR20120105,  I09S,    78,  1,      9,      9,2,20120206,0603,-39.7007, 114.9920, 4752,   2150.2,   2.3905,  34.7044,2,  34.7044,2,    169.6,2,    169.3,2,    93.10,2,    32.87,2,     2.28,2,    97.67,2,   -0.179,2,    0.000,2
  09AR20120105,  I09S,    78,  1,      8,      8,2,20120206,0603,-39.7007, 114.9920, 4752,   2501.7,   2.1105,  34.7323,2,  34.7319,2,    180.3,2,    180.1,2,    97.10,2,    31.89,2,     2.20,2,    97.60,2,   -0.179,2,    0.000,2
  09AR20120105,  I09S,    78,  1,      7,      7,2,20120206,0603,-39.7007, 114.9920, 4752,   2799.3,   1.8576,  34.7419,2,  34.7420,2,    191.2,2,    191.2,2,    98.10,2,    31.11,2,     2.13,2,    97.52,2,   -0.181,2,    0.000,2
  09AR20120105,  I09S,    78,  1,      6,      6,2,20120206,0603,-39.7007, 114.9920, 4752,   3150.7,   1.5363,  34.7351,2,  34.7349,2,    196.7,2,    196.1,2,   107.30,2,    31.31,2,     2.16,2,    97.44,2,   -0.182,2,    0.000,2
  09AR20120105,  I09S,    78,  1,      5,      5,2,20120206,0603,-39.7007, 114.9920, 4752,   3551.6,   1.1908,  34.7220,2,  34.7215,2,    203.6,2,    202.8,2,   115.80,2,    31.52,2,     2.18,2,    97.38,2,   -0.178,2,    0.000,2
  09AR20120105,  I09S,    78,  1,      4,      4,2,20120206,0603,-39.7007, 114.9920, 4752,   3897.8,   0.9563,  34.7107,2,  34.7107,2,    207.7,2,    207.5,2,   121.80,2,    31.74,2,     2.19,2,    97.34,2,   -0.182,2,    0.000,2
  09AR20120105,  I09S,    78,  1,      3,      3,2,20120206,0603,-39.7007, 114.9920, 4752,   4250.2,   0.8409,  34.7041,2,  34.7038,2,    210.5,2,    210.1,2,   125.60,2,    32.09,2,     2.22,2,    97.32,2,   -0.185,2,    0.000,2
  09AR20120105,  I09S,    78,  1,      2,      2,2,20120206,0603,-39.7007, 114.9920, 4752,   4549.3,   0.8452,  34.7025,2,  34.7040,2,    210.5,2,    210.6,2,   127.00,2,    32.38,2,     2.23,2,    97.32,2,   -0.183,2,    0.000,2
  09AR20120105,  I09S,    78,  1,      1,      1,2,20120206,0603,-39.7007, 114.9920, 4752,   4832.2,   0.8716,  34.7018,2,  34.7019,2,    211.1,2,    211.0,2,   126.90,2,    32.36,2,     2.23,2,    97.33,2,   -0.180,2,    0.000,2