BOTTLE,20220815CCHSIOAMB
EXPOCODE,SECT_ID,STNNBR,CASTNO,SAMPNO,BTLNBR,BTLNBR_FLAG_W,DATE,TIME,LATITUDE,LONGITUDE,DEPTH,CTDPRS,CTDTMP,CTDSAL,CTDSAL_FLAG_W,SALNTY,SALNTY_FLAG_W,CTDOXY,CTDOXY_FLAG_W,OXYGEN,OXYGEN_FLAG_W,SILCAT,SILCAT_FLAG_W,NITRAT,NITRAT_FLAG_W,PHSPHT,PHSPHT_FLAG_W,XMISS,XMISS_FLAG_W,FLUOR,FLUOR_FLAG_W,PAR,PAR_FLAG_W
,,,,,,,,,,,METERS,DBAR,ITS-90,PSS-78,,PSS-78,,UMOL/KG,,UMOL/KG,,UMOL/KG,,UMOL/KG,,UMOL/KG,,%TRANS,,VOLTS,,VOLTS,
  09AR20120105,  I09S,    60,  1,     24,     24,2,20120202,1737,-45.4855, 115.0050, 4195,      8.4,  11.6341,  34.6369,2,  34.6368,2,    275.9,2,    273.3,2,     1.70,2,     9.12,2,     0.67,2,    95.75,2,    0.227,2,  142.300,2
  09AR20120105,  I09S,    60,  1,     23,     23,2,20120202,1737,-45.4855, 115.0050, 4195,     49.1,  11.5738,  34.6329,2,-999.0000,9,    275.7,2,   -999.0,9,  -999.00,9,  -999.00,9,  -999.00,9,    95.71,2,    0.748,2,   14.150,2
  09AR20120105,  I09S,    60,  1,     22,     22,2,20120202,1737,-45.4855, 115.0050, 4195,     49.1,  11.5732,  34.6329,2,-999.0000,9,    275.7,2,   -999.0,9,  -999.00,9,  -999.00,9,  -999.00,9,    95.73,2,    0.729,2,   14.070,2
  09AR20120105,  I09S,    60,  1,     21,     21,2,20120202,1737,-45.4855, 115.0050, 4195,     49.7,  11.5738,  34.6329,2,  34.6329,2,    275.7,2,    273.6,2,     1.70,2,     9.16,2,     0.68,2,    95.70,2,    0.734,2,   13.790,2
  09AR20120105,  I09S,    60,  1,     20,     20,2,20120202,1737,-45.4855, 115.0050, 4195,     79.4,  11.4845,  34.6214,2,  34.6217,2,    274.5,2,    273.5,2,     1.70,2,     9.33,2,     0.70,2,    96.25,2,    0.844,2,    2.847,2
  09AR20120105,  I09S,    60,  1,     19,     19,2,20120202,1737,-45.4855, 115.0050, 4195,    109.7,  10.7826,  34.7598,2,  34.7600,2,    268.1,2,    268.1,2,     2.60,2,     9.22,2,     0.71,2,    98.42,2,    0.494,2,    0.563,2
  09AR20120105,  I09S,    60,  1,     18,     18,2,20120202,1737,-45.4855, 115.0050, 4195,    200.7,  10.1567,  34.7418,2,  34.7435,2,    265.7,2,    263.3,2,     3.50,2,    11.66,2,     0.83,2,    99.60,2,   -0.108,2,    0.000,2
  09AR20120105,  I09S,    60,  1,     17,     17,2,20120202,1737,-45.4855, 115.0050, 4195,    299.7,  10.0748,  34.7583,2,  34.7583,2,    260.3,2,    260.5,2,     4.10,2,    12.50,2,     0.88,2,    99.49,2,   -0.203,2,    0.000,2
  09AR20120105,  I09S,    60,  1,     16,     16,2,20120202,1737,-45.4855, 115.0050, 4195,    450.0,   9.3881,  34.6595,2,  34.6604,2,    248.3,2,    247.2,2,     5.20,2,    15.77,2,     1.06,2,    99.12,2,   -0.201,2,    0.000,2
  09AR20120105,  I09S,    60,  1,     15,     15,2,20120202,1737,-45.4855, 115.0050, 4195,    597.2,   8.3865,  34.5367,2,  34.5372,2,    232.8,2,    237.0,2,     7.50,2,    19.39,2,     1.29,2,    98.73,2,   -0.202,2,    0.000,2
  09AR20120105,  I09S,    60,  1,     14,     14,2,20120202,1737,-45.4855, 115.0050, 4195,    800.4,   6.5462,  34.4155,2,  34.4175,2,    210.9,2,    210.9,2,    17.20,2,    25.94,2,     1.73,2,    98.31,2,   -0.195,2,    0.000,2
  09AR20120105,  I09S,    60,  1,     13,     13,2,20120202,1737,-45.4855, 115.0050, 4195,    996.1,   4.6958,  34.3202,2,  34.3219,2,    212.8,2,    212.4,2,    27.70,2,    29.77,2,     2.00,2,    98.02,2,   -0.186,2,    0.000,2
  09AR20120105,  I09S,    60,  1,     12,     12,2,20120202,1737,-45.4855, 115.0050, 4195,   1200.2,   3.6789,  34.3563,2,  34.3574,2,    198.7,2,    198.8,2,    43.00,2,    32.31,2,     2.21,2,    97.85,2,   -0.184,2,    0.000,2
  09AR20120105,  I09S,    60,  1,     11,     11,2,20120202,1737,-45.4855, 115.0050, 4195,   1400.9,   3.0705,  34.4286,2,  34.4294,2,    186.0,2,    185.9,2,    56.30,2,    33.75,2,     2.31,2,    97.76,2,   -0.182,2,    0.000,2
  09AR20120105,  I09S,    60,  1,     10,     10,2,20120202,1737,-45.4855, 115.0050, 4195,   1652.4,   2.7422,  34.5478,2,  34.5480,2,    175.3,2,    175.0,2,    68.70,2,    33.64,2,     2.32,2,    97.73,2,   -0.177,2,    0.000,2
  09AR20120105,  I09S,    60,  1,      9,      9,2,20120202,1737,-45.4855, 115.0050, 4195,   1952.4,   2.5114,  34.6625,2,  34.6643,2,    179.9,2,    179.5,2,    74.80,2,    32.23,2,     2.21,2,    97.67,2,   -0.177,2,    0.000,2
  09AR20120105,  I09S,    60,  1,      8,      8,2,20120202,1737,-45.4855, 115.0050, 4195,   2251.2,   2.3202,  34.7263,2,  34.7280,2,    187.9,2,    188.6,2,    78.50,2,    30.84,2,     2.11,2,    97.60,2,   -0.179,2,    0.000,2
  09AR20120105,  I09S,    60,  1,      7,      7,2,20120202,1737,-45.4855, 115.0050, 4195,   2580.8,   2.0391,  34.7494,2,  34.7498,2,    195.2,2,    195.8,2,    85.80,2,    30.27,2,     2.08,2,    97.53,2,   -0.175,2,    0.000,2
  09AR20120105,  I09S,    60,  1,      6,      6,2,20120202,1737,-45.4855, 115.0050, 4195,   2897.8,   1.6514,  34.7431,2,  34.7435,2,    199.6,2,    200.2,2,    98.40,2,    30.73,2,     2.11,2,    97.44,2,   -0.177,2,    0.000,2
  09AR20120105,  I09S,    60,  1,      5,      5,2,20120202,1737,-45.4855, 115.0050, 4195,   3199.9,   1.3773,  34.7312,2,  34.7321,2,    202.5,2,    202.9,2,   107.80,2,    31.28,2,     2.16,2,    97.40,2,   -0.181,2,    0.000,2
  09AR20120105,  I09S,    60,  1,      4,      4,2,20120202,1737,-45.4855, 115.0050, 4195,   3498.9,   1.2073,  34.7225,2,  34.7231,2,    205.5,2,    205.4,2,   113.20,2,    31.62,2,     2.18,2,    97.36,2,   -0.178,2,    0.000,2
  09AR20120105,  I09S,    60,  1,      3,      3,2,20120202,1737,-45.4855, 115.0050, 4195,   3797.2,   1.0974,  34.7163,2,  34.7162,2,    206.6,2,    207.0,2,   116.80,2,    31.78,2,     2.19,2,    97.35,2,   -0.178,2,    0.000,2
  09AR20120105,  I09S,    60,  1,      2,      2,2,20120202,1737,-45.4855, 115.0050, 4195,   4101.5,   1.0567,  34.7127,2,  34.7136,2,    207.7,2,    208.0,2,   118.80,2,    31.77,2,     2.20,2,    97.34,2,   -0.181,2,    0.000,2
  09AR20120105,  I09S,    60,  1,      1,      1,2,20120202,1737,-45.4855, 115.0050, 4195,   4262.9,   1.0315,  34.7107,2,  34.7111,2,    208.2,2,    208.6,2,   120.30,2,    31.79,2,     2.21,2,    97.35,2,   -0.182,2,    0.000,2
  09AR20120105,  I09S,    63,  1,     20,     20,2,20120202,2255,-44.9978, 115.0100, 4276,     69.4,  11.1913,  34.7120,2,  34.7121,2,    270.3,2,    271.2,2,     2.10,2,     8.82,2,     0.69,2,    98.35,2,    0.560,2,    0.000,2
  09AR20120105,  I09S,    63,  1,     19,     19,2,20120202,2255,-44.9978, 115.0100, 4276,     90.4,  10.6141,  34.7305,2,  34.7296,2,    269.4,2,    268.2,2,     3.20,2,     9.87,2,     0.77,2,    98.86,2,    0.446,2,    0.000,2
  09AR20120105,  I09S,    63,  1,     18,     18,2,20120202,2255,-44.9978, 115.0100, 4276,    149.9,  10.1611,  34.7288,2,  34.7284,2,    264.4,2,    265.7,2,     3.40,2,    11.35,2,     0.82,2,    99.64,2,   -0.172,2,    0.000,2
  09AR20120105,  I09S,    63,  1,     17,     17,2,20120202,2255,-44.9978, 115.0100, 4276,    298.1,  10.1305,  34.7658,2,  34.7653,2,    263.3,2,    262.0,2,     4.10,2,    12.10,2,     0.86,2,    99.60,2,   -0.204,2,    0.000,2
  09AR20120105,  I09S,    63,  1,     16,     16,2,20120202,2255,-44.9978, 115.0100, 4276,    450.6,   9.6879,  34.6935,2,  34.6936,2,    254.6,2,    256.2,2,     4.70,2,    14.30,2,     0.99,2,    99.20,2,   -0.203,2,    0.000,2
  09AR20120105,  I09S,    63,  1,     15,     15,2,20120202,2255,-44.9978, 115.0100, 4276,    650.6,   8.6150,  34.5813,2,  34.5810,2,    229.5,2,    230.1,2,     7.80,2,    19.29,2,     1.29,2,    98.82,2,   -0.198,2,    0.000,2
  09AR20120105,  I09S,    63,  1,     14,     14,2,20120202,2255,-44.9978, 115.0100, 4276,    797.5,   7.0468,  34.4509,2,  34.4514,2,    210.8,2,    209.4,2,    15.20,2,    24.86,2,     1.66,2,    98.36,2,   -0.190,2,    0.000,2
  09AR20120105,  I09S,    63,  1,     13,     13,2,20120202,2255,-44.9978, 115.0100, 4276,   1104.2,   4.1935,  34.3036,2,  34.3044,2,    212.2,2,    213.6,2,    31.70,2,    30.63,2,     2.08,2,    97.91,2,   -0.189,2,    0.000,2
  09AR20120105,  I09S,    63,  1,     12,     12,2,20120202,2255,-44.9978, 115.0100, 4276,   1298.4,   3.4223,  34.3706,2,  34.3708,2,    196.4,2,    195.1,2,    47.10,2,    33.04,2,     2.25,2,    97.81,2,   -0.179,2,    0.000,2
  09AR20120105,  I09S,    63,  1,     11,     11,2,20120202,2255,-44.9978, 115.0100, 4276,   1501.8,   2.9705,  34.4644,2,  34.4650,2,    180.3,2,    180.8,2,    60.40,2,    33.91,2,     2.32,2,    97.75,2,   -0.181,2,    0.000,2
  09AR20120105,  I09S,    63,  1,     10,     10,2,20120202,2255,-44.9978, 115.0100, 4276,   1699.2,   2.7241,  34.5574,2,  34.5578,2,    172.9,2,    173.3,2,    69.30,2,    33.94,2,     2.32,2,    97.70,2,   -0.181,2,    0.000,2
  09AR20120105,  I09S,    63,  1,      9,      9,2,20120202,2255,-44.9978, 115.0100, 4276,   1946.7,   2.5519,  34.6505,2,  34.6517,2,    173.5,2,    172.4,2,    77.40,2,    32.99,2,     2.26,2,    97.67,2,   -0.171,2,    0.000,2
  09AR20120105,  I09S,    63,  1,      8,      8,2,20120202,2255,-44.9978, 115.0100, 4276,   2149.5,   2.4171,  34.6987,2,  34.6989,2,    179.2,2,    179.3,2,    79.70,2,    31.99,2,     2.19,2,    97.62,2,   -0.175,2,    0.000,2
  09AR20120105,  I09S,    63,  1,      7,      7,2,20120202,2255,-44.9978, 115.0100, 4276,   2397.2,   2.2372,  34.7324,2,  34.7325,2,    185.9,2,    186.5,2,    83.50,2,    31.07,2,     2.12,2,    97.58,2,   -0.174,2,    0.000,2
  09AR20120105,  I09S,    63,  1,      6,      6,2,20120202,2255,-44.9978, 115.0100, 4276,   2699.1,   1.9644,  34.7474,2,  34.7473,2,    193.9,2,    194.2,2,    89.30,2,    30.62,2,     2.10,2,    97.50,2,   -0.177,2,    0.000,2
  09AR20120105,  I09S,    63,  1,      5,      5,2,20120202,2255,-44.9978, 115.0100, 4276,   3099.4,   1.5417,  34.7384,2,  34.7384,2,    200.5,2,    201.0,2,   101.40,2,    30.79,2,     2.12,2,    97.40,2,   -0.173,2,    0.000,2
  09AR20120105,  I09S,    63,  1,      4,      4,2,20120202,2255,-44.9978, 115.0100, 4276,   3447.9,   1.1867,  34.7222,2,  34.7219,2,    205.9,2,    205.9,2,   113.80,2,    31.50,2,     2.19,2,    97.34,2,   -0.181,2,    0.000,2
  09AR20120105,  I09S,    63,  1,      3,      3,2,20120202,2255,-44.9978, 115.0100, 4276,   3799.0,   1.0101,  34.7124,2,  34.7127,2,    208.8,2,    208.0,2,   120.20,2,    31.83,2,     2.21,2,    97.31,2,   -0.179,2,    0.000,2
  09AR20120105,  I09S,    63,  1,      2,      2,2,20120202,2255,-44.9978, 115.0100, 4276,   4098.4,   0.9210,  34.7068,2,  34.7064,2,    210.1,2,    209.9,2,   123.10,2,    32.08,2,     2.23,2,    97.29,2,   -0.179,2,    0.000,2
  09AR20120105,  I09S,    63,  1,      1,      1,2,20120202,2255,-44.9978, 115.0100, 4276,   4341.8,   0.9037,  34.7047,2,  34.7050,2,    210.4,2,    210.0,2,   124.10,2,    32.04,2,     2.24,2,    97.31,2,   -0.178,2,    0.000,2
  09AR20120105,  I09S,    64,  1,     24,     24,2,20120202,0423,-44.4832, 115.0020, 4426,      8.2,  12.6542,  34.7447,2,  34.7443,2,    269.1,2,    269.4,2,  -999.00,9,  -999.00,9,  -999.00,9,    95.34,2,    0.875,2,    1.608,2
  09AR20120105,  I09S,    64,  1,     23,     23,2,20120202,0423,-44.4832, 115.0020, 4426,     20.0,  12.6442,  34.7445,2,-999.0000,9,    269.1,2,   -999.0,9,  -999.00,9,  -999.00,9,  -999.00,9,    95.30,2,    0.894,2,    0.314,2
  09AR20120105,  I09S,    64,  1,     22,     22,2,20120202,0423,-44.4832, 115.0020, 4426,     19.9,  12.6134,  34.7431,2,-999.0000,9,    269.1,2,   -999.0,9,     1.90,2,     7.92,2,     0.61,2,    95.28,2,    0.897,2,    0.298,2
  09AR20120105,  I09S,    64,  1,     21,     21,2,20120202,0423,-44.4832, 115.0020, 4426,     45.4,  12.1696,  34.7290,2,  34.7292,2,    273.4,2,    272.9,2,     2.00,2,     7.99,2,     0.61,2,    95.26,2,    1.125,2,    0.009,2
  09AR20120105,  I09S,    64,  1,     20,     20,2,20120202,0423,-44.4832, 115.0020, 4426,     71.5,  11.7801,  34.7234,2,  34.7237,2,    269.4,2,    269.0,2,     2.20,2,     8.56,2,     0.66,2,    97.59,2,    0.824,2,    0.000,2
  09AR20120105,  I09S,    64,  1,     19,     19,2,20120202,0423,-44.4832, 115.0020, 4426,    112.9,  10.2903,  34.7170,2,  34.7184,2,    267.4,2,    266.6,2,     3.40,2,    11.29,2,     0.81,2,    99.36,2,    0.080,2,    0.000,2
  09AR20120105,  I09S,    64,  1,     18,     18,2,20120202,0423,-44.4832, 115.0020, 4426,    200.5,  10.0367,  34.7202,2,  34.7195,2,    264.2,2,    264.6,2,     3.70,2,    12.00,2,     0.86,2,    99.66,2,   -0.192,2,    0.000,2
  09AR20120105,  I09S,    64,  1,     17,     17,2,20120202,0423,-44.4832, 115.0020, 4426,    351.1,   9.9100,  34.7161,2,  34.7158,2,    262.2,2,    262.9,2,     4.00,2,    12.69,2,     0.89,2,    99.55,2,   -0.200,2,    0.000,2
  09AR20120105,  I09S,    64,  1,     16,     16,2,20120202,0423,-44.4832, 115.0020, 4426,    503.3,   9.5660,  34.6788,2,  34.6792,2,    249.6,2,    250.7,2,     4.80,2,    14.93,2,     1.03,2,    99.15,2,   -0.206,2,    0.000,2
  09AR20120105,  I09S,    64,  1,     15,     15,2,20120202,0423,-44.4832, 115.0020, 4426,    701.3,   8.4424,  34.5632,2,  34.5635,2,    227.0,2,    227.5,2,     8.20,2,    19.96,2,     1.33,2,    98.69,2,   -0.195,2,    0.000,2
  09AR20120105,  I09S,    64,  1,     14,     14,2,20120202,0423,-44.4832, 115.0020, 4426,    900.9,   6.3079,  34.3972,2,  34.3980,2,    209.8,2,    210.9,2,    18.00,2,    26.37,2,     1.78,2,    98.27,2,   -0.191,2,    0.000,2
  09AR20120105,  I09S,    64,  1,     13,     13,2,20120202,0423,-44.4832, 115.0020, 4426,   1099.8,   4.4596,  34.3162,2,  34.3162,2,    211.9,2,    212.2,2,    29.80,2,    30.11,2,     2.04,2,    97.96,2,   -0.188,2,    0.000,2
  09AR20120105,  I09S,    64,  1,     12,     12,2,20120202,0423,-44.4832, 115.0020, 4426,   1301.5,   3.5316,  34.3593,2,  34.3598,2,    197.6,2,    198.4,2,    44.90,2,    32.60,2,     2.25,2,    97.82,2,   -0.184,2,    0.000,2
  09AR20120105,  I09S,    64,  1,     11,     11,2,20120202,0423,-44.4832, 115.0020, 4426,   1501.3,   3.0245,  34.4545,2,  34.4546,2,    183.0,2,    181.9,2,    59.60,2,    34.02,2,     2.33,2,    97.75,2,   -0.185,2,    0.000,2
  09AR20120105,  I09S,    64,  1,     10,     10,2,20120202,0423,-44.4832, 115.0020, 4426,   1749.3,   2.6904,  34.5736,2,  34.5737,2,    175.0,2,    175.1,2,    70.60,2,    33.62,2,     2.31,2,    97.70,2,   -0.176,2,    0.000,2
  09AR20120105,  I09S,    64,  1,      9,      9,2,20120202,0423,-44.4832, 115.0020, 4426,   1999.8,   2.5148,  34.6655,2,  34.6655,2,    178.9,2,    178.8,2,    75.50,2,    32.24,2,     2.22,2,    97.66,2,   -0.185,2,    0.000,2
  09AR20120105,  I09S,    64,  1,      8,      8,2,20120202,0423,-44.4832, 115.0020, 4426,   2345.8,   2.2884,  34.7299,2,  34.7300,2,    188.1,2,    188.0,2,    81.20,2,    31.01,2,     2.13,2,    97.58,2,   -0.181,2,    0.000,2
  09AR20120105,  I09S,    64,  1,      7,      7,2,20120202,0423,-44.4832, 115.0020, 4426,   2697.6,   1.9703,  34.7476,2,  34.7477,2,    194.7,2,    194.5,2,    90.40,2,    30.66,2,     2.10,2,    97.50,2,   -0.178,2,    0.000,2
  09AR20120105,  I09S,    64,  1,      6,      6,2,20120202,0423,-44.4832, 115.0020, 4426,   3000.2,   1.6498,  34.7423,2,  34.7423,2,    199.2,2,    199.4,2,    99.40,2,    30.74,2,     2.11,2,    97.42,2,   -0.178,2,    0.000,2
  09AR20120105,  I09S,    64,  1,      5,      5,2,20120202,0423,-44.4832, 115.0020, 4426,   3300.5,   1.3089,  34.7282,2,  34.7282,2,    203.3,2,    203.9,2,   110.80,2,    31.29,2,     2.16,2,    97.36,2,   -0.183,2,    0.000,2
  09AR20120105,  I09S,    64,  1,      4,      4,2,20120202,0423,-44.4832, 115.0020, 4426,   3648.9,   1.0270,  34.7139,2,  34.7135,2,    207.0,2,    207.7,2,   120.80,2,    31.89,2,     2.22,2,    97.31,2,   -0.183,2,    0.000,2
  09AR20120105,  I09S,    64,  1,      3,      3,2,20120202,0423,-44.4832, 115.0020, 4426,   3998.1,   0.9107,  34.7069,2,  34.7064,2,    209.6,2,    209.8,2,   124.20,2,    32.06,2,     2.24,2,    97.29,2,   -0.182,2,    0.000,2
  09AR20120105,  I09S,    64,  1,      2,      2,2,20120202,0423,-44.4832, 115.0020, 4426,   4299.0,   0.8728,  34.7036,2,  34.7028,2,    210.9,2,    210.6,2,   125.90,2,    32.12,2,     2.24,2,    97.30,2,   -0.179,2,    0.000,2
  09AR20120105,  I09S,    64,  1,      1,      1,2,20120202,0423,-44.4832, 115.0020, 4426,   4493.5,   0.8813,  34.7030,2,  34.7024,2,    211.2,2,    210.9,2,   126.10,2,    32.19,2,     2.25,2,    97.30,2,   -0.183,2,    0.000,2