BOTTLE,20220815CCHSIOAMB
EXPOCODE,SECT_ID,STNNBR,CASTNO,SAMPNO,BTLNBR,BTLNBR_FLAG_W,DATE,TIME,LATITUDE,LONGITUDE,DEPTH,CTDPRS,CTDTMP,CTDSAL,CTDSAL_FLAG_W,SALNTY,SALNTY_FLAG_W,CTDOXY,CTDOXY_FLAG_W,OXYGEN,OXYGEN_FLAG_W,SILCAT,SILCAT_FLAG_W,NITRAT,NITRAT_FLAG_W,PHSPHT,PHSPHT_FLAG_W,XMISS,XMISS_FLAG_W,FLUOR,FLUOR_FLAG_W,PAR,PAR_FLAG_W
,,,,,,,,,,,METERS,DBAR,ITS-90,PSS-78,,PSS-78,,UMOL/KG,,UMOL/KG,,UMOL/KG,,UMOL/KG,,UMOL/KG,,%TRANS,,VOLTS,,VOLTS,
  09AR20120105,  I09S,    57,  1,     24,     24,2,20120201,1043,-46.9928, 115.0190, 3922,      9.7,  10.0975,  34.1901,2,  34.1891,2,    280.6,2,    280.8,2,     1.60,2,    14.34,2,     0.99,2,    97.83,2,    0.356,2,    0.000,2
  09AR20120105,  I09S,    57,  1,     23,     23,2,20120201,1043,-46.9928, 115.0190, 3922,     50.6,   9.9549,  34.1828,2,-999.0000,9,    282.1,2,   -999.0,9,  -999.00,9,  -999.00,9,  -999.00,9,    98.31,2,    0.358,2,    0.000,2
  09AR20120105,  I09S,    57,  1,     22,     22,2,20120201,1043,-46.9928, 115.0190, 3922,     50.8,   9.9436,  34.1822,2,-999.0000,9,    282.1,2,   -999.0,9,  -999.00,9,  -999.00,9,  -999.00,9,    98.31,2,    0.398,2,    0.000,2
  09AR20120105,  I09S,    57,  1,     21,     21,2,20120201,1043,-46.9928, 115.0190, 3922,     50.8,   9.9545,  34.1827,2,  34.1893,2,    282.1,2,    281.0,2,     1.70,2,    14.27,2,     1.01,2,    98.32,2,    0.375,2,    0.000,2
  09AR20120105,  I09S,    57,  1,     20,     20,2,20120201,1043,-46.9928, 115.0190, 3922,     72.2,  10.0130,  34.3375,2,  34.3415,2,    276.9,2,    280.0,2,     2.10,2,    13.11,2,     0.94,2,    96.54,2,    1.384,2,    0.000,2
  09AR20120105,  I09S,    57,  1,     19,     19,2,20120201,1043,-46.9928, 115.0190, 3922,     93.5,  10.2803,  34.7509,2,  34.7524,2,    264.8,2,    265.5,2,     4.00,2,    11.53,2,     0.83,2,    98.40,2,    0.650,2,    0.000,2
  09AR20120105,  I09S,    57,  1,     18,     18,2,20120201,1043,-46.9928, 115.0190, 3922,    200.0,   9.8878,  34.7290,2,  34.7288,2,    262.3,2,    261.7,2,     4.70,2,    12.96,2,     0.90,2,    99.50,2,   -0.195,2,    0.000,2
  09AR20120105,  I09S,    57,  1,     17,     17,2,20120201,1043,-46.9928, 115.0190, 3922,    299.0,   9.2980,  34.6297,2,  34.6293,2,    261.3,2,    259.6,2,     5.30,2,    14.87,2,     1.02,2,    99.30,2,   -0.196,2,    0.000,2
  09AR20120105,  I09S,    57,  1,     16,     16,2,20120201,1043,-46.9928, 115.0190, 3922,    419.8,   8.4055,  34.4886,2,  34.4846,2,    266.6,2,    267.6,2,     5.90,2,    16.47,2,     1.12,2,    98.97,2,   -0.190,2,    0.000,2
  09AR20120105,  I09S,    57,  1,     15,     15,2,20120201,1043,-46.9928, 115.0190, 3922,    442.5,   8.2659,  34.4695,2,  34.4658,2,    267.8,2,    267.2,2,     6.10,2,    16.92,2,     1.14,2,    98.88,2,   -0.199,2,    0.000,2
  09AR20120105,  I09S,    57,  1,     14,     14,2,20120201,1043,-46.9928, 115.0190, 3922,    598.6,   7.3533,  34.4705,2,  34.4712,2,    216.6,2,    215.6,2,    13.90,2,    23.85,2,     1.55,2,    98.47,2,   -0.194,2,    0.000,2
  09AR20120105,  I09S,    57,  1,     13,     13,2,20120201,1043,-46.9928, 115.0190, 3922,    849.9,   4.6776,  34.3162,2,  34.3164,2,    213.7,2,    213.7,2,    27.50,2,    29.89,2,     1.97,2,    98.01,2,   -0.186,2,    0.000,2
  09AR20120105,  I09S,    57,  1,     12,     12,2,20120201,1043,-46.9928, 115.0190, 3922,   1046.8,   3.6554,  34.3349,2,  34.3348,2,    203.1,2,    203.9,2,    40.80,2,    32.21,2,     2.17,2,    97.83,2,   -0.175,2,    0.000,2
  09AR20120105,  I09S,    57,  1,     11,     11,2,20120201,1043,-46.9928, 115.0190, 3922,   1350.9,   2.8837,  34.4756,2,  34.4756,2,    181.4,2,    179.9,2,    62.30,2,    34.07,2,     2.31,2,    97.72,2,   -0.180,2,    0.000,2
  09AR20120105,  I09S,    57,  1,     10,     10,2,20120201,1043,-46.9928, 115.0190, 3922,   1575.3,   2.6746,  34.5820,2,  34.5814,2,    172.3,2,    172.8,2,    71.60,2,    33.75,2,     2.30,2,    97.70,2,   -0.182,2,    0.000,2
  09AR20120105,  I09S,    57,  1,      9,      9,2,20120201,1043,-46.9928, 115.0190, 3922,   1799.6,   2.4806,  34.6477,2,  34.6478,2,    178.5,2,    178.7,2,    74.80,2,    32.67,2,     2.22,2,    97.67,2,   -0.178,2,    0.000,2
  09AR20120105,  I09S,    57,  1,      8,      8,2,20120201,1043,-46.9928, 115.0190, 3922,   2098.2,   2.3213,  34.7248,2,  34.7247,2,    187.2,2,    188.3,2,    78.30,2,    30.96,2,     2.09,2,    97.61,2,   -0.174,2,    0.000,2
  09AR20120105,  I09S,    57,  1,      7,      7,2,20120201,1043,-46.9928, 115.0190, 3922,   2351.1,   2.1230,  34.7470,2,  34.7465,2,    193.0,2,    194.0,2,    83.20,2,    30.56,2,     2.05,2,    97.55,2,   -0.176,2,    0.000,2
  09AR20120105,  I09S,    57,  1,      6,      6,2,20120201,1043,-46.9928, 115.0190, 3922,   2600.9,   1.8708,  34.7494,2,  34.7492,2,    197.1,2,    197.8,2,    90.80,2,    30.63,2,     2.06,2,    97.50,2,   -0.180,2,    0.000,2
  09AR20120105,  I09S,    57,  1,      5,      5,2,20120201,1043,-46.9928, 115.0190, 3922,   2899.1,   1.5242,  34.7384,2,  34.7378,2,    200.6,2,    201.1,2,   102.20,2,    31.22,2,     2.11,2,    97.42,2,   -0.187,2,    0.000,2
  09AR20120105,  I09S,    57,  1,      4,      4,2,20120201,1043,-46.9928, 115.0190, 3922,   3198.8,   1.2918,  34.7275,2,  34.7270,2,    203.2,2,    203.6,2,   110.10,2,    31.64,2,     2.15,2,    97.38,2,   -0.181,2,    0.000,2
  09AR20120105,  I09S,    57,  1,      3,      3,2,20120201,1043,-46.9928, 115.0190, 3922,   3497.3,   1.1285,  34.7190,2,  34.7186,2,    205.8,2,    206.0,2,   115.30,2,    31.91,2,     2.17,2,    97.35,2,   -0.184,2,    0.000,2
  09AR20120105,  I09S,    57,  1,      2,      2,2,20120201,1043,-46.9928, 115.0190, 3922,   3796.1,   1.0650,  34.7145,2,  34.7131,2,    207.4,2,    207.2,2,   118.30,2,    32.03,2,     2.17,2,    97.35,2,   -0.174,2,    0.000,2
  09AR20120105,  I09S,    57,  1,      1,      1,2,20120201,1043,-46.9928, 115.0190, 3922,   3974.6,   1.0667,  34.7136,2,  34.7127,2,    207.9,2,    207.3,2,   119.90,2,    31.77,2,     2.20,2,    97.36,2,   -0.178,2,    0.000,2
  09AR20120105,  I09S,    58,  1,     24,     24,2,20120201,1118,-46.5003, 115.0130, 4141,      8.4,  10.8820,  34.4062,2,  34.4049,2,    275.4,2,    275.2,2,     1.50,2,    11.89,2,     0.87,2,    98.08,2,    0.296,2,    0.002,2
  09AR20120105,  I09S,    58,  1,     23,     23,2,20120201,1118,-46.5003, 115.0130, 4141,     19.0,  10.8884,  34.4066,2,-999.0000,9,    275.1,2,   -999.0,9,  -999.00,9,  -999.00,9,  -999.00,9,    98.11,2,    0.321,2,    0.000,2
  09AR20120105,  I09S,    58,  1,     22,     22,2,20120201,1118,-46.5003, 115.0130, 4141,     19.1,  10.8891,  34.4065,2,-999.0000,9,    275.1,2,   -999.0,9,  -999.00,9,  -999.00,9,  -999.00,9,    98.11,2,    0.310,2,    0.000,2
  09AR20120105,  I09S,    58,  1,     21,     21,2,20120201,1118,-46.5003, 115.0130, 4141,     23.9,  10.7484,  34.3935,2,  34.3804,2,    274.9,2,    276.7,2,     1.50,2,    12.28,2,     0.89,2,    97.93,2,    0.486,2,    0.000,2
  09AR20120105,  I09S,    58,  1,     20,     20,2,20120201,1118,-46.5003, 115.0130, 4141,     59.9,  10.5799,  34.5044,2,  34.4970,2,    277.1,2,    275.7,2,     1.80,2,    11.22,2,     0.83,2,    97.57,2,    0.958,2,    0.000,2
  09AR20120105,  I09S,    58,  1,     19,     19,2,20120201,1118,-46.5003, 115.0130, 4141,     93.7,  10.5429,  34.7876,2,  34.7862,2,    265.3,2,    262.9,2,     3.00,2,    10.36,2,     0.76,2,    99.46,2,   -0.081,2,    0.000,2
  09AR20120105,  I09S,    58,  1,     18,     18,2,20120201,1118,-46.5003, 115.0130, 4141,    149.9,  10.0979,  34.7397,2,  34.7392,2,    262.4,2,    263.4,2,     3.80,2,    11.82,2,     0.85,2,    99.65,2,   -0.188,2,    0.000,2
  09AR20120105,  I09S,    58,  1,     17,     17,2,20120201,1118,-46.5003, 115.0130, 4141,    301.2,   9.8989,  34.7265,2,  34.7270,2,    262.5,2,    263.6,2,     4.30,2,    12.52,2,     0.90,2,    99.48,2,   -0.206,2,    0.000,2
  09AR20120105,  I09S,    58,  1,     16,     16,2,20120201,1118,-46.5003, 115.0130, 4141,    449.2,   9.2571,  34.6349,2,  34.6343,2,    247.9,2,    246.7,2,     5.80,2,    15.95,2,     1.11,2,    99.02,2,   -0.201,2,    0.000,2
  09AR20120105,  I09S,    58,  1,     15,     15,2,20120201,1118,-46.5003, 115.0130, 4141,    600.3,   8.2083,  34.5376,2,  34.5372,2,    225.6,2,    225.7,2,     9.50,2,    20.57,2,     1.39,2,    98.64,2,   -0.200,2,    0.000,2
  09AR20120105,  I09S,    58,  1,     14,     14,2,20120201,1118,-46.5003, 115.0130, 4141,    801.0,   6.1356,  34.3936,2,  34.3935,2,    207.3,2,    206.2,2,    19.70,2,    27.14,2,     1.83,2,    98.22,2,   -0.195,2,    0.000,2
  09AR20120105,  I09S,    58,  1,     13,     13,2,20120201,1118,-46.5003, 115.0130, 4141,    999.1,   4.3430,  34.3173,2,  34.3176,2,    210.6,2,    211.1,2,    31.10,2,    30.56,2,     2.07,2,    97.92,2,   -0.184,2,    0.000,2
  09AR20120105,  I09S,    58,  1,     12,     12,2,20120201,1118,-46.5003, 115.0130, 4141,   1200.8,   3.4180,  34.3703,2,  34.3709,2,    195.3,2,    195.1,2,    46.40,2,    33.07,2,     2.26,2,    97.80,2,   -0.184,2,    0.000,2
  09AR20120105,  I09S,    58,  1,     11,     11,2,20120201,1118,-46.5003, 115.0130, 4141,   1399.8,   2.9528,  34.4641,2,  34.4650,2,    180.6,2,    180.8,2,    59.80,2,    33.76,2,     2.32,2,    97.74,2,   -0.181,2,    0.000,2
  09AR20120105,  I09S,    58,  1,     10,     10,2,20120201,1118,-46.5003, 115.0130, 4141,   1599.3,   2.7295,  34.5586,2,  34.5582,2,    173.4,2,    173.1,2,    69.10,2,    33.73,2,     2.33,2,    97.70,2,   -0.175,2,    0.000,2
  09AR20120105,  I09S,    58,  1,      9,      9,2,20120201,1118,-46.5003, 115.0130, 4141,   1901.5,   2.4965,  34.6678,2,  34.6671,2,    178.4,2,    178.8,2,    74.40,2,    32.22,2,     2.23,2,    97.66,2,   -0.175,2,    0.000,2
  09AR20120105,  I09S,    58,  1,      8,      8,2,20120201,1118,-46.5003, 115.0130, 4141,   2202.4,   2.2983,  34.7291,2,  34.7290,2,    188.8,2,    189.1,2,    77.80,2,    30.71,2,     2.11,2,    97.60,2,   -0.180,2,    0.000,2
  09AR20120105,  I09S,    58,  1,      7,      7,2,20120201,1118,-46.5003, 115.0130, 4141,   2449.7,   2.0886,  34.7500,2,  34.7496,2,    195.6,2,    195.4,2,    82.90,2,    30.19,2,     2.07,2,    97.54,2,   -0.178,2,    0.000,2
  09AR20120105,  I09S,    58,  1,      6,      6,2,20120201,1118,-46.5003, 115.0130, 4141,   2798.6,   1.7352,  34.7462,2,  34.7459,2,    199.5,2,    199.4,2,    93.80,2,    30.49,2,     2.10,2,    97.45,2,   -0.183,2,    0.000,2
  09AR20120105,  I09S,    58,  1,      5,      5,2,20120201,1118,-46.5003, 115.0130, 4141,   3148.7,   1.3771,  34.7314,2,  34.7305,2,    202.4,2,    202.8,2,   105.80,2,    31.17,2,     2.15,2,    97.39,2,   -0.180,2,    0.000,2
  09AR20120105,  I09S,    58,  1,      4,      4,2,20120201,1118,-46.5003, 115.0130, 4141,   3498.7,   1.1797,  34.7214,2,  34.7203,2,    205.3,2,    205.5,2,   112.40,2,    31.32,2,     2.18,2,    97.36,2,   -0.183,2,    0.000,2
  09AR20120105,  I09S,    58,  1,      3,      3,2,20120201,1118,-46.5003, 115.0130, 4141,   3799.1,   1.1054,  34.7166,2,  34.7158,2,    206.6,2,    206.6,2,   116.10,2,    31.48,2,     2.19,2,    97.36,2,   -0.177,2,    0.000,2
  09AR20120105,  I09S,    58,  1,      2,      2,2,20120201,1118,-46.5003, 115.0130, 4141,   4048.2,   1.0887,  34.7144,2,  34.7138,2,    207.4,2,    207.3,2,   118.50,2,    31.47,2,     2.21,2,    97.36,2,   -0.179,2,    0.000,2
  09AR20120105,  I09S,    58,  1,      1,      1,2,20120201,1118,-46.5003, 115.0130, 4141,   4201.3,   1.1024,  34.7141,2,  34.7132,2,    208.0,2,    207.4,2,   118.90,2,    31.62,2,     2.22,2,    97.36,2,   -0.181,2,    0.000,2
  09AR20120105,  I09S,    59,  1,     24,     24,2,20120202,1149,-46.0053, 115.0010, 4115,      9.5,  11.5630,  34.5981,2,  34.5985,2,    273.5,2,    272.8,2,  -999.00,9,     9.30,2,     0.72,2,    96.23,2,    0.215,2,  255.900,2
  09AR20120105,  I09S,    59,  1,     23,     23,2,20120202,1149,-46.0053, 115.0010, 4115,     19.9,  11.5631,  34.5987,2,-999.0000,9,    273.6,2,   -999.0,9,  -999.00,9,  -999.00,9,  -999.00,9,    96.21,2,    0.344,2,   96.480,2
  09AR20120105,  I09S,    59,  1,     22,     22,2,20120202,1149,-46.0053, 115.0010, 4115,     19.8,  11.5624,  34.5987,2,-999.0000,9,    273.6,2,   -999.0,9,  -999.00,9,  -999.00,9,  -999.00,9,    96.22,2,    0.325,2,   98.830,2
  09AR20120105,  I09S,    59,  1,     21,     21,2,20120202,1149,-46.0053, 115.0010, 4115,     30.6,  11.5515,  34.5981,2,  34.5979,2,    273.7,2,    273.0,2,     1.80,2,     9.29,2,     0.71,2,    96.28,2,    0.500,2,   62.960,2
  09AR20120105,  I09S,    59,  1,     20,     20,2,20120202,1149,-46.0053, 115.0010, 4115,     70.0,  11.1563,  34.6749,2,  34.6730,2,    272.7,2,    271.4,2,     2.10,2,     8.99,2,     0.70,2,    97.75,2,    0.589,2,   12.670,2
  09AR20120105,  I09S,    59,  1,     19,     19,2,20120202,1149,-46.0053, 115.0010, 4115,    111.6,  10.6185,  34.7311,2,  34.7309,2,    269.2,2,    270.1,2,     2.70,2,     9.44,2,     0.75,2,    98.84,2,    0.200,2,    1.489,2
  09AR20120105,  I09S,    59,  1,     18,     18,2,20120202,1149,-46.0053, 115.0010, 4115,    200.3,  10.1541,  34.7511,2,  34.7502,2,    262.9,2,    263.4,2,     3.70,2,    11.69,2,     0.85,2,    99.65,2,   -0.197,2,    0.038,2
  09AR20120105,  I09S,    59,  1,     17,     17,2,20120202,1149,-46.0053, 115.0010, 4115,    298.8,  10.0602,  34.7535,2,  34.7526,2,    258.4,2,    255.6,2,     4.20,2,    12.89,2,     0.92,2,    99.56,2,   -0.204,2,    0.000,2
  09AR20120105,  I09S,    59,  1,     16,     16,2,20120202,1149,-46.0053, 115.0010, 4115,    451.5,   9.3418,  34.6442,2,  34.6443,2,    249.2,2,    252.3,2,     5.30,2,    15.32,2,     1.07,2,    99.14,2,   -0.195,2,    0.000,2
  09AR20120105,  I09S,    59,  1,     15,     15,2,20120202,1149,-46.0053, 115.0010, 4115,    600.0,   8.2916,  34.5048,2,  34.5060,2,    246.8,2,    243.6,2,     7.50,2,    18.85,2,     1.28,2,    98.78,2,   -0.203,2,    0.000,2
  09AR20120105,  I09S,    59,  1,     14,     14,2,20120202,1149,-46.0053, 115.0010, 4115,    749.3,   7.2211,  34.4634,2,  34.4634,2,    209.9,2,    210.0,2,    14.50,2,    24.39,2,     1.64,2,    98.42,2,   -0.195,2,    0.000,2
  09AR20120105,  I09S,    59,  1,     13,     13,2,20120202,1149,-46.0053, 115.0010, 4115,    900.2,   5.4339,  34.3454,2,  34.3452,2,    211.3,2,    212.7,2,    22.70,2,    28.37,2,     1.91,2,    98.12,2,   -0.198,2,    0.000,2
  09AR20120105,  I09S,    59,  1,     12,     12,2,20120202,1149,-46.0053, 115.0010, 4115,   1098.8,   4.0278,  34.3213,2,  34.3209,2,    208.4,2,    208.3,2,    35.30,2,    31.31,2,     2.14,2,    97.88,2,   -0.190,2,    0.000,2
  09AR20120105,  I09S,    59,  1,     11,     11,2,20120202,1149,-46.0053, 115.0010, 4115,   1298.7,   3.2405,  34.3824,2,  34.3845,2,    193.2,2,    192.7,2,    49.70,2,    33.31,2,     2.29,2,    97.78,2,   -0.181,2,    0.000,2
  09AR20120105,  I09S,    59,  1,     10,     10,2,20120202,1149,-46.0053, 115.0010, 4115,   1500.0,   2.9085,  34.4941,2,  34.4936,2,    178.0,2,    177.8,2,    62.40,2,    33.92,2,     2.33,2,    97.72,2,   -0.179,2,    0.000,2
  09AR20120105,  I09S,    59,  1,      9,      9,2,20120202,1149,-46.0053, 115.0010, 4115,   1750.9,   2.6112,  34.6126,2,  34.6115,2,    174.5,2,    175.0,2,    71.90,2,    33.01,2,     2.29,2,    97.68,2,   -0.178,2,    0.000,2
  09AR20120105,  I09S,    59,  1,      8,      8,2,20120202,1149,-46.0053, 115.0010, 4115,   1999.8,   2.4884,  34.6832,2,  34.6832,2,    182.0,2,    181.3,2,    75.00,2,    31.92,2,     2.20,2,    97.65,2,   -0.179,2,    0.000,2
  09AR20120105,  I09S,    59,  1,      7,      7,2,20120202,1149,-46.0053, 115.0010, 4115,   2300.0,   2.2713,  34.7354,2,  34.7351,2,    190.6,2,    190.2,2,    79.40,2,    30.65,2,     2.11,2,    97.58,2,   -0.176,2,    0.000,2
  09AR20120105,  I09S,    59,  1,      6,      6,2,20120202,1149,-46.0053, 115.0010, 4115,   2599.3,   1.9816,  34.7506,2,  34.7502,2,    196.1,2,    196.4,2,    87.50,2,  -999.00,9,     2.10,2,    97.51,2,   -0.176,2,    0.000,2
  09AR20120105,  I09S,    59,  1,      5,      5,2,20120202,1149,-46.0053, 115.0010, 4115,   2948.8,   1.5839,  34.7405,2,  34.7398,2,    200.3,2,    200.8,2,   100.80,2,    30.96,2,     2.15,2,    97.42,2,   -0.178,2,    0.000,2
  09AR20120105,  I09S,    59,  1,      4,      4,2,20120202,1149,-46.0053, 115.0010, 4115,   3297.9,   1.2890,  34.7270,2,  34.7260,2,    203.8,2,    203.8,2,   110.80,2,    31.48,2,     2.19,2,    97.36,2,   -0.177,2,    0.000,2
  09AR20120105,  I09S,    59,  1,      3,      3,2,20120202,1149,-46.0053, 115.0010, 4115,   3651.3,   1.0849,  34.7164,2,  34.7156,2,    206.6,2,    206.9,2,   117.40,2,    31.78,2,     2.20,2,    97.34,2,   -0.175,2,    0.000,2
  09AR20120105,  I09S,    59,  1,      2,      2,2,20120202,1149,-46.0053, 115.0010, 4115,   3999.6,   1.0710,  34.7139,2,  34.7136,2,    207.8,2,    207.6,2,   118.90,2,    31.91,2,     2.21,2,    97.34,2,   -0.179,2,    0.000,2
  09AR20120105,  I09S,    59,  1,      1,      1,2,20120202,1149,-46.0053, 115.0010, 4115,   4175.4,   1.0589,  34.7124,2,  34.7117,2,    208.6,2,    208.0,2,   119.00,2,    31.92,2,     2.21,2,    97.35,2,   -0.179,2,    0.000,2