BOTTLE,20220815CCHSIOAMB
EXPOCODE,SECT_ID,STNNBR,CASTNO,SAMPNO,BTLNBR,BTLNBR_FLAG_W,DATE,TIME,LATITUDE,LONGITUDE,DEPTH,CTDPRS,CTDTMP,CTDSAL,CTDSAL_FLAG_W,SALNTY,SALNTY_FLAG_W,CTDOXY,CTDOXY_FLAG_W,OXYGEN,OXYGEN_FLAG_W,SILCAT,SILCAT_FLAG_W,NITRAT,NITRAT_FLAG_W,PHSPHT,PHSPHT_FLAG_W,XMISS,XMISS_FLAG_W,FLUOR,FLUOR_FLAG_W,PAR,PAR_FLAG_W
,,,,,,,,,,,METERS,DBAR,ITS-90,PSS-78,,PSS-78,,UMOL/KG,,UMOL/KG,,UMOL/KG,,UMOL/KG,,UMOL/KG,,%TRANS,,VOLTS,,VOLTS,
  09AR20120105,  I09S,    95,  1,     24,     24,2,20120210,0300,-34.4572, 115.0860,   51,      8.9,  22.1232,  35.5181,2,  35.5190,2,    217.7,2,    217.3,2,     1.80,2,     0.00,2,     0.05,2,    97.46,2,   -0.016,2,  342.600,2
  09AR20120105,  I09S,    95,  1,     23,     23,2,20120210,0300,-34.4572, 115.0860,   51,      8.8,  22.1231,  35.5182,2,-999.0000,9,    217.7,2,   -999.0,9,  -999.00,9,  -999.00,9,  -999.00,9,    97.43,2,    0.032,2,  160.400,2
  09AR20120105,  I09S,    95,  1,     22,     22,2,20120210,0300,-34.4572, 115.0860,   51,      8.9,  22.1231,  35.5182,2,-999.0000,9,    217.7,2,   -999.0,9,  -999.00,9,  -999.00,9,  -999.00,9,    97.53,2,   -0.034,2,   93.420,2
  09AR20120105,  I09S,    95,  1,     21,     21,2,20120210,0300,-34.4572, 115.0860,   51,      8.9,  22.1234,  35.5181,2,-999.0000,9,    217.7,2,   -999.0,9,  -999.00,9,  -999.00,9,  -999.00,9,    97.53,2,   -0.024,2,   93.900,2
  09AR20120105,  I09S,    95,  1,     20,     20,2,20120210,0300,-34.4572, 115.0860,   51,     14.7,  22.1243,  35.5181,2,  35.5178,2,    216.9,2,    217.2,2,     1.80,2,     0.00,2,     0.05,2,    97.51,2,   -0.001,2,   56.910,2
  09AR20120105,  I09S,    95,  1,     19,     19,2,20120210,0300,-34.4572, 115.0860,   51,     14.7,  22.1240,  35.5186,2,-999.0000,9,    216.9,2,   -999.0,9,  -999.00,9,  -999.00,9,  -999.00,9,    97.47,2,    0.003,2,   70.780,2
  09AR20120105,  I09S,    95,  1,     18,     18,2,20120210,0300,-34.4572, 115.0860,   51,     14.6,  22.1237,  35.5190,2,-999.0000,9,    216.9,2,   -999.0,9,  -999.00,9,  -999.00,9,  -999.00,9,    97.48,2,    0.000,2,   78.670,2
  09AR20120105,  I09S,    95,  1,     17,     17,2,20120210,0300,-34.4572, 115.0860,   51,     14.7,  22.1233,  35.5198,2,-999.0000,9,    216.9,2,   -999.0,9,  -999.00,9,  -999.00,9,  -999.00,9,    97.52,2,   -0.004,2,   80.140,2
  09AR20120105,  I09S,    95,  1,     16,     16,2,20120210,0300,-34.4572, 115.0860,   51,     14.7,  22.1234,  35.5196,2,-999.0000,9,    216.9,2,   -999.0,9,  -999.00,9,  -999.00,9,  -999.00,9,    97.52,2,    0.005,2,   89.390,2
  09AR20120105,  I09S,    95,  1,     15,     15,2,20120210,0300,-34.4572, 115.0860,   51,     14.6,  22.1238,  35.5190,2,-999.0000,9,    216.9,2,   -999.0,9,  -999.00,9,  -999.00,9,  -999.00,9,    97.54,2,   -0.004,2,  122.000,2
  09AR20120105,  I09S,    95,  1,     14,     14,2,20120210,0300,-34.4572, 115.0860,   51,     14.6,  22.1236,  35.5191,2,-999.0000,9,    216.9,2,   -999.0,9,  -999.00,9,  -999.00,9,  -999.00,9,    97.57,2,   -0.003,2,  111.100,2
  09AR20120105,  I09S,    95,  1,     13,     13,2,20120210,0300,-34.4572, 115.0860,   51,     14.6,  22.1234,  35.5192,2,-999.0000,9,    216.9,2,   -999.0,9,  -999.00,9,  -999.00,9,  -999.00,9,    97.57,2,   -0.001,2,   69.660,2
  09AR20120105,  I09S,    95,  1,     12,     12,2,20120210,0300,-34.4572, 115.0860,   51,     14.5,  22.1234,  35.5191,2,-999.0000,9,    216.9,2,   -999.0,9,  -999.00,9,  -999.00,9,  -999.00,9,    97.44,2,   -0.014,2,   66.260,2
  09AR20120105,  I09S,    95,  1,     11,     11,2,20120210,0300,-34.4572, 115.0860,   51,     14.6,  22.1235,  35.5188,2,-999.0000,9,    216.9,2,   -999.0,9,  -999.00,9,  -999.00,9,  -999.00,9,    97.43,2,   -0.010,2,   62.770,2
  09AR20120105,  I09S,    95,  1,     10,     10,2,20120210,0300,-34.4572, 115.0860,   51,     14.6,  22.1236,  35.5188,2,-999.0000,9,    216.9,2,   -999.0,9,  -999.00,9,  -999.00,9,  -999.00,9,    97.51,2,   -0.009,2,   57.430,2
  09AR20120105,  I09S,    95,  1,      9,      9,2,20120210,0300,-34.4572, 115.0860,   51,     14.5,  22.1235,  35.5189,2,-999.0000,9,    216.9,2,   -999.0,9,  -999.00,9,  -999.00,9,  -999.00,9,    97.49,2,   -0.004,2,   53.350,2
  09AR20120105,  I09S,    95,  1,      8,      8,2,20120210,0300,-34.4572, 115.0860,   51,     24.6,  22.1024,  35.5410,2,  35.5496,2,    217.5,2,    217.3,2,     1.70,2,     0.00,2,     0.05,2,    97.65,2,    0.002,2,   27.600,2
  09AR20120105,  I09S,    95,  1,      7,      7,2,20120210,0300,-34.4572, 115.0860,   51,     24.6,  22.1022,  35.5413,2,-999.0000,9,    217.5,2,   -999.0,9,  -999.00,9,  -999.00,9,  -999.00,9,    97.65,2,   -0.003,2,   31.320,2
  09AR20120105,  I09S,    95,  1,      6,      6,2,20120210,0300,-34.4572, 115.0860,   51,     24.5,  22.1009,  35.5420,2,-999.0000,9,    217.5,2,   -999.0,9,  -999.00,9,  -999.00,9,  -999.00,9,    97.60,2,    0.000,2,   34.100,2
  09AR20120105,  I09S,    95,  1,      5,      5,2,20120210,0300,-34.4572, 115.0860,   51,     24.4,  22.0992,  35.5428,2,-999.0000,9,    217.5,2,   -999.0,9,  -999.00,9,  -999.00,9,  -999.00,9,    97.56,2,    0.004,2,   31.250,2
  09AR20120105,  I09S,    95,  1,      4,      4,2,20120210,0300,-34.4572, 115.0860,   51,     24.6,  22.0991,  35.5432,2,-999.0000,9,    217.5,2,   -999.0,9,  -999.00,9,  -999.00,9,  -999.00,9,    97.59,2,   -0.001,2,   28.760,2
  09AR20120105,  I09S,    95,  1,      3,      3,2,20120210,0300,-34.4572, 115.0860,   51,     24.4,  22.0933,  35.5455,2,-999.0000,9,    217.5,2,   -999.0,9,  -999.00,9,  -999.00,9,  -999.00,9,    97.62,2,   -0.021,2,   27.430,2
  09AR20120105,  I09S,    95,  1,      2,      2,2,20120210,0300,-34.4572, 115.0860,   51,     37.2,  21.6267,  35.6524,2,  35.6411,2,    216.0,2,    215.8,2,     1.70,2,     0.23,2,     0.08,2,    97.51,2,    0.254,2,   11.270,2
  09AR20120105,  I09S,    95,  1,      1,      1,2,20120210,0300,-34.4572, 115.0860,   51,     37.2,  21.6281,  35.6521,2,-999.0000,9,    216.0,2,   -999.0,9,  -999.00,9,  -999.00,9,  -999.00,9,    97.55,2,    0.243,2,   11.410,2