BOTTLE,20220815CCHSIOAMB
EXPOCODE,SECT_ID,STNNBR,CASTNO,SAMPNO,BTLNBR,BTLNBR_FLAG_W,DATE,TIME,LATITUDE,LONGITUDE,DEPTH,CTDPRS,CTDTMP,CTDSAL,CTDSAL_FLAG_W,SALNTY,SALNTY_FLAG_W,CTDOXY,CTDOXY_FLAG_W,OXYGEN,OXYGEN_FLAG_W,SILCAT,SILCAT_FLAG_W,NITRAT,NITRAT_FLAG_W,PHSPHT,PHSPHT_FLAG_W,XMISS,XMISS_FLAG_W,FLUOR,FLUOR_FLAG_W,PAR,PAR_FLAG_W
,,,,,,,,,,,METERS,DBAR,ITS-90,PSS-78,,PSS-78,,UMOL/KG,,UMOL/KG,,UMOL/KG,,UMOL/KG,,UMOL/KG,,%TRANS,,VOLTS,,VOLTS,
  09AR20120105,  I09S,    13,  1,     24,     24,2,20120121,0141,-64.8867, 113.2400, 1480,     45.3,  -1.6599,  34.1939,2,-999.0000,9,   -999.0,5,   -999.0,9,  -999.00,9,  -999.00,9,  -999.00,9,    96.08,2,    2.633,2,    3.129,2
  09AR20120105,  I09S,    13,  1,     23,     23,2,20120121,0141,-64.8867, 113.2400, 1480,     45.2,  -1.6596,  34.1941,2,-999.0000,9,   -999.0,5,   -999.0,9,  -999.00,9,  -999.00,9,  -999.00,9,    96.12,2,    2.442,2,    3.130,2
  09AR20120105,  I09S,    13,  1,     22,     22,2,20120121,0141,-64.8867, 113.2400, 1480,     45.1,  -1.6595,  34.1939,2,-999.0000,9,   -999.0,5,   -999.0,9,  -999.00,9,  -999.00,9,  -999.00,9,    96.22,2,    2.668,2,    3.130,2
  09AR20120105,  I09S,    13,  1,     21,     21,2,20120121,0141,-64.8867, 113.2400, 1480,     45.1,  -1.6597,  34.1938,2,-999.0000,9,   -999.0,5,   -999.0,9,  -999.00,9,  -999.00,9,  -999.00,9,    96.35,2,    2.838,2,    3.120,2
  09AR20120105,  I09S,    13,  1,     20,     20,2,20120121,0141,-64.8867, 113.2400, 1480,     45.1,  -1.6596,  34.1938,2,-999.0000,9,   -999.0,5,   -999.0,9,  -999.00,9,  -999.00,9,  -999.00,9,    96.26,2,    2.870,2,    3.102,2
  09AR20120105,  I09S,    13,  1,     19,     19,2,20120121,0141,-64.8867, 113.2400, 1480,     45.4,  -1.6601,  34.1938,2,-999.0000,9,   -999.0,5,   -999.0,9,  -999.00,9,  -999.00,9,  -999.00,9,    96.30,2,    2.577,2,    3.125,2
  09AR20120105,  I09S,    13,  1,     18,     18,2,20120121,0141,-64.8867, 113.2400, 1480,     45.3,  -1.6602,  34.1939,2,-999.0000,9,   -999.0,5,   -999.0,9,  -999.00,9,  -999.00,9,  -999.00,9,    96.28,2,    2.882,2,    3.207,2
  09AR20120105,  I09S,    13,  1,     17,     17,2,20120121,0141,-64.8867, 113.2400, 1480,     45.2,  -1.6599,  34.1939,2,-999.0000,9,   -999.0,5,   -999.0,9,  -999.00,9,  -999.00,9,  -999.00,9,    96.24,2,    2.584,2,    3.250,2
  09AR20120105,  I09S,    13,  1,     16,     16,2,20120121,0141,-64.8867, 113.2400, 1480,     45.4,  -1.6601,  34.1938,2,-999.0000,9,   -999.0,5,   -999.0,9,  -999.00,9,  -999.00,9,  -999.00,9,    96.32,2,    2.599,2,    3.111,2
  09AR20120105,  I09S,    13,  1,     15,     15,2,20120121,0141,-64.8867, 113.2400, 1480,     45.2,  -1.6599,  34.1937,2,-999.0000,9,   -999.0,5,   -999.0,9,  -999.00,9,  -999.00,9,  -999.00,9,    96.30,2,    3.312,2,    3.152,2
  09AR20120105,  I09S,    13,  1,     14,     14,2,20120121,0141,-64.8867, 113.2400, 1480,     45.2,  -1.6597,  34.1931,2,-999.0000,9,   -999.0,5,   -999.0,9,  -999.00,9,  -999.00,9,  -999.00,9,    96.42,2,    2.690,2,    3.183,2
  09AR20120105,  I09S,    13,  1,     13,     13,2,20120121,0141,-64.8867, 113.2400, 1480,     45.3,  -1.6601,  34.1927,2,-999.0000,9,   -999.0,5,   -999.0,9,  -999.00,9,  -999.00,9,  -999.00,9,    96.23,2,    2.613,2,    3.179,2
  09AR20120105,  I09S,    13,  1,     12,     12,2,20120121,0141,-64.8867, 113.2400, 1480,     45.3,  -1.6605,  34.1924,2,-999.0000,9,   -999.0,5,   -999.0,9,  -999.00,9,  -999.00,9,  -999.00,9,    96.28,2,    2.598,2,    3.196,2
  09AR20120105,  I09S,    13,  1,     11,     11,2,20120121,0141,-64.8867, 113.2400, 1480,     45.2,  -1.6606,  34.1923,2,-999.0000,9,   -999.0,5,   -999.0,9,  -999.00,9,  -999.00,9,  -999.00,9,    96.08,2,    2.743,2,    3.206,2
  09AR20120105,  I09S,    13,  1,     10,     10,2,20120121,0141,-64.8867, 113.2400, 1480,     45.4,  -1.6608,  34.1919,2,-999.0000,9,   -999.0,5,   -999.0,9,  -999.00,9,  -999.00,9,  -999.00,9,    96.08,2,    2.709,2,    3.159,2
  09AR20120105,  I09S,    13,  1,      9,      9,2,20120121,0141,-64.8867, 113.2400, 1480,     45.2,  -1.6608,  34.1918,2,-999.0000,9,   -999.0,5,   -999.0,9,  -999.00,9,  -999.00,9,  -999.00,9,    96.06,2,    2.547,2,    3.246,2
  09AR20120105,  I09S,    13,  1,      8,      8,2,20120121,0141,-64.8867, 113.2400, 1480,     45.2,  -1.6611,  34.1913,2,-999.0000,9,   -999.0,5,   -999.0,9,  -999.00,9,  -999.00,9,  -999.00,9,    96.09,2,    3.005,2,    3.227,2
  09AR20120105,  I09S,    13,  1,      7,      7,2,20120121,0141,-64.8867, 113.2400, 1480,     45.3,  -1.6611,  34.1925,2,-999.0000,9,   -999.0,5,   -999.0,9,  -999.00,9,  -999.00,9,  -999.00,9,    96.13,2,    2.664,2,    3.169,2
  09AR20120105,  I09S,    13,  1,      6,      6,2,20120121,0141,-64.8867, 113.2400, 1480,     45.2,  -1.6611,  34.1919,2,-999.0000,9,   -999.0,5,   -999.0,9,  -999.00,9,  -999.00,9,  -999.00,9,    96.23,2,    2.976,2,    3.098,2
  09AR20120105,  I09S,    13,  1,      5,      5,2,20120121,0141,-64.8867, 113.2400, 1480,     45.3,  -1.6620,  34.1919,2,-999.0000,9,   -999.0,5,   -999.0,9,  -999.00,9,  -999.00,9,  -999.00,9,    95.93,2,    3.028,2,    3.000,2
  09AR20120105,  I09S,    13,  1,      4,      4,2,20120121,0141,-64.8867, 113.2400, 1480,     45.2,  -1.6632,  34.1906,2,-999.0000,9,   -999.0,5,   -999.0,9,  -999.00,9,  -999.00,9,  -999.00,9,    96.03,2,    2.568,2,    3.026,2
  09AR20120105,  I09S,    13,  1,      3,      3,2,20120121,0141,-64.8867, 113.2400, 1480,     45.1,  -1.6626,  34.1883,2,-999.0000,9,   -999.0,5,   -999.0,9,  -999.00,9,  -999.00,9,  -999.00,9,    96.12,2,    3.019,2,    3.164,2
  09AR20120105,  I09S,    13,  1,      2,      2,2,20120121,0141,-64.8867, 113.2400, 1480,     45.1,  -1.6587,  34.1853,2,-999.0000,9,   -999.0,5,   -999.0,9,  -999.00,9,  -999.00,9,  -999.00,9,    95.99,2,    2.844,2,    3.150,2
  09AR20120105,  I09S,    13,  1,      1,      1,2,20120121,0141,-64.8867, 113.2400, 1480,     45.1,  -1.6585,  34.1850,2,-999.0000,9,   -999.0,5,   -999.0,9,  -999.00,9,  -999.00,9,  -999.00,9,    95.91,2,    2.727,2,    3.034,2
  09AR20120105,  I09S,    14,  1,     24,     24,2,20120121,0234,-64.9000, 113.2360, 1450,     14.8,  -0.4682,  33.6557,2,  33.6549,2,    347.5,2,    348.9,2,    57.80,2,    26.12,2,     1.73,2,    93.10,2,    0.421,2,   99.440,2
  09AR20120105,  I09S,    14,  1,     23,     23,2,20120121,0234,-64.9000, 113.2360, 1450,     20.3,  -0.4823,  33.6584,2,-999.0000,9,    348.1,2,   -999.0,9,  -999.00,9,  -999.00,9,  -999.00,9,    93.14,2,    0.915,2,   71.370,2
  09AR20120105,  I09S,    14,  1,     22,     22,2,20120121,0234,-64.9000, 113.2360, 1450,     20.3,  -0.4893,  33.6601,2,-999.0000,9,    348.1,2,   -999.0,9,  -999.00,9,  -999.00,9,  -999.00,9,    93.19,2,    0.943,2,   71.590,2
  09AR20120105,  I09S,    14,  1,     21,     21,2,20120121,0234,-64.9000, 113.2360, 1450,     20.3,  -0.4791,  33.6576,2,  33.6588,2,    348.1,2,    348.7,2,    57.50,2,    26.15,2,     1.72,2,    93.10,2,    0.900,2,   71.720,2
  09AR20120105,  I09S,    14,  1,     20,     20,2,20120121,0234,-64.9000, 113.2360, 1450,     38.9,  -1.5378,  34.0557,2,  34.0574,2,    331.3,2,    328.7,2,    61.80,2,    28.11,2,     1.92,2,    94.11,2,    2.737,2,   15.040,2
  09AR20120105,  I09S,    14,  1,     19,     19,2,20120121,0234,-64.9000, 113.2360, 1450,     55.0,  -1.6821,  34.2119,2,  34.2150,2,    300.5,2,    304.7,2,    66.10,2,    30.00,2,     2.06,2,    96.85,2,    1.604,2,    3.753,2
  09AR20120105,  I09S,    14,  1,     18,     18,2,20120121,0234,-64.9000, 113.2360, 1450,     90.2,  -1.7957,  34.2665,2,  34.2656,2,    294.3,2,    296.5,2,    66.10,2,    31.01,2,     2.12,2,    96.92,2,    0.135,2,    0.534,2
  09AR20120105,  I09S,    14,  1,     17,     17,2,20120121,0234,-64.9000, 113.2360, 1450,    138.1,  -1.6246,  34.3243,2,  34.3233,2,    305.5,2,    299.3,2,    65.60,2,    31.03,2,     2.12,2,    97.09,2,   -0.138,2,    0.033,2
  09AR20120105,  I09S,    14,  1,     16,     16,2,20120121,0234,-64.9000, 113.2360, 1450,    200.8,  -0.2366,  34.5138,2,  34.5082,2,    260.0,2,    248.6,2,    79.30,2,    32.16,2,     2.19,2,    97.24,2,   -0.169,2,    0.000,2
  09AR20120105,  I09S,    14,  1,     15,     15,2,20120121,0234,-64.9000, 113.2360, 1450,    261.7,   0.9003,  34.6526,2,  34.6529,2,    208.2,2,    207.0,2,    89.60,2,    32.55,2,     2.23,2,    97.31,2,   -0.162,2,    0.000,2
  09AR20120105,  I09S,    14,  1,     14,     14,2,20120121,0234,-64.9000, 113.2360, 1450,    310.3,   0.7817,  34.6582,2,  34.6574,2,    213.0,2,    211.9,2,    91.00,2,    32.34,2,     2.21,2,    97.31,2,   -0.175,2,    0.000,2
  09AR20120105,  I09S,    14,  1,     13,     13,2,20120121,0234,-64.9000, 113.2360, 1450,    376.0,   0.8953,  34.6804,2,  34.6798,2,    204.4,2,    208.8,2,    94.40,2,    32.12,2,     2.20,2,    97.30,2,   -0.166,2,    0.000,2
  09AR20120105,  I09S,    14,  1,     12,     12,2,20120121,0234,-64.9000, 113.2360, 1450,    475.9,   0.7326,  34.6777,2,  34.6769,2,    212.9,2,    213.8,2,    97.20,2,    31.84,2,     2.19,2,    97.29,2,   -0.176,2,    0.000,2
  09AR20120105,  I09S,    14,  1,     11,     11,2,20120121,0234,-64.9000, 113.2360, 1450,    574.7,   0.7527,  34.6894,2,  34.6891,2,    213.9,2,    211.2,2,   102.80,2,    31.98,2,     2.20,2,    97.26,2,   -0.178,2,    0.000,2
  09AR20120105,  I09S,    14,  1,     10,     10,2,20120121,0234,-64.9000, 113.2360, 1450,    673.9,   0.6378,  34.6858,2,  34.6879,2,    213.6,2,    212.8,2,   106.70,2,    32.19,2,     2.21,2,    97.24,2,   -0.182,2,    0.000,2
  09AR20120105,  I09S,    14,  1,      9,      9,2,20120121,0234,-64.9000, 113.2360, 1450,    800.5,   0.5169,  34.6817,2,  34.6816,2,    214.6,2,    214.4,2,   110.30,2,    32.35,2,     2.22,2,    97.22,2,   -0.185,2,    0.000,2
  09AR20120105,  I09S,    14,  1,      8,      8,2,20120121,0234,-64.9000, 113.2360, 1450,    925.4,   0.4256,  34.6787,2,  34.6789,2,    215.6,2,    215.9,2,   113.10,2,    32.41,2,     2.24,2,    97.21,2,   -0.176,2,    0.000,2
  09AR20120105,  I09S,    14,  1,      7,      7,2,20120121,0234,-64.9000, 113.2360, 1450,    925.2,   0.4258,  34.6788,2,-999.0000,9,    215.6,2,   -999.0,9,  -999.00,9,  -999.00,9,  -999.00,9,    97.20,2,   -0.183,2,    0.000,2
  09AR20120105,  I09S,    14,  1,      6,      6,2,20120121,0234,-64.9000, 113.2360, 1450,    925.2,   0.4255,  34.6788,2,-999.0000,9,    215.6,2,   -999.0,9,  -999.00,9,  -999.00,9,  -999.00,9,    97.21,2,   -0.177,2,    0.000,2
  09AR20120105,  I09S,    14,  1,      5,      5,2,20120121,0234,-64.9000, 113.2360, 1450,    924.9,   0.4247,  34.6787,2,-999.0000,9,    215.5,2,   -999.0,9,  -999.00,9,  -999.00,9,  -999.00,9,    97.21,2,   -0.176,2,    0.000,2
  09AR20120105,  I09S,    14,  1,      4,      4,2,20120121,0234,-64.9000, 113.2360, 1450,   1049.1,   0.3515,  34.6764,2,  34.6763,2,    216.8,2,    217.2,2,   115.00,2,    32.49,2,     2.24,2,    97.19,2,   -0.178,2,    0.000,2
  09AR20120105,  I09S,    14,  1,      3,      3,2,20120121,0234,-64.9000, 113.2360, 1450,   1197.6,   0.2168,  34.6699,2,  34.6700,2,    220.2,2,    220.2,2,   115.70,2,    32.50,2,     2.24,2,    97.15,2,   -0.178,2,    0.000,2
  09AR20120105,  I09S,    14,  1,      2,      2,2,20120121,0234,-64.9000, 113.2360, 1450,   1349.3,   0.1064,  34.6668,2,  34.6671,2,    223.2,2,    223.1,2,   117.20,2,    32.51,2,     2.25,2,    97.13,2,   -0.175,2,    0.000,2
  09AR20120105,  I09S,    14,  1,      1,      1,2,20120121,0234,-64.9000, 113.2360, 1450,   1458.0,  -0.0726,  34.6600,2,  34.6596,2,    228.1,2,    227.9,2,   118.10,2,    32.74,2,     2.26,2,    97.17,2,   -0.193,2,    0.000,2
  09AR20120105,  I09S,    15,  1,     24,     24,2,20120121,0631,-64.6392, 113.2950, 1912,      6.7,  -0.2555,  33.6575,2,  33.6582,2,   -999.0,5,    348.3,2,    53.90,2,    25.29,2,     1.67,2,    92.76,2,    0.693,2,  122.900,2
  09AR20120105,  I09S,    15,  1,     23,     23,2,20120121,0631,-64.6392, 113.2950, 1912,     24.3,  -0.2740,  33.6655,2,-999.0000,9,    347.3,2,   -999.0,9,  -999.00,9,  -999.00,9,  -999.00,9,    92.71,2,    1.306,2,   20.500,2
  09AR20120105,  I09S,    15,  1,     22,     22,2,20120121,0631,-64.6392, 113.2950, 1912,     24.3,  -0.2526,  33.6639,2,-999.0000,9,    347.3,2,   -999.0,9,  -999.00,9,  -999.00,9,  -999.00,9,    92.82,2,    1.217,2,   20.690,2
  09AR20120105,  I09S,    15,  1,     21,     21,2,20120121,0631,-64.6392, 113.2950, 1912,     24.4,  -0.2652,  33.6707,2,  33.6674,2,    347.3,2,    347.6,2,    53.60,2,    25.32,2,     1.67,2,    92.84,2,    1.230,2,   20.560,2
  09AR20120105,  I09S,    15,  1,     20,     20,2,20120121,0631,-64.6392, 113.2950, 1912,     40.2,  -1.6021,  34.2421,2,  34.2417,2,    314.0,2,    308.8,2,    64.30,2,    29.49,2,     2.00,2,    96.14,2,    2.005,2,    6.488,2
  09AR20120105,  I09S,    15,  1,     19,     19,2,20120121,0631,-64.6392, 113.2950, 1912,     60.6,  -1.7066,  34.2782,2,  34.2803,2,    298.9,2,    299.6,2,    66.00,2,    30.32,2,     2.08,2,    97.01,2,    0.918,2,    1.705,2
  09AR20120105,  I09S,    15,  1,     18,     18,2,20120121,0631,-64.6392, 113.2950, 1912,     79.4,  -1.6383,  34.3113,2,  34.3103,2,    291.8,2,    293.4,2,    66.90,2,    30.87,2,     2.11,2,    97.11,2,    0.227,2,    0.637,2
  09AR20120105,  I09S,    15,  1,     17,     17,2,20120121,0631,-64.6392, 113.2950, 1912,    100.3,  -1.1111,  34.3793,2,  34.3766,2,    271.1,2,    276.4,2,    71.30,2,    31.44,2,     2.16,2,    97.26,2,    0.101,2,    0.250,2
  09AR20120105,  I09S,    15,  1,     16,     16,2,20120121,0631,-64.6392, 113.2950, 1912,    150.1,   0.5917,  34.6027,2,  34.6012,2,    217.5,2,    216.6,2,    85.40,2,    32.43,2,     2.22,2,    97.37,2,   -0.134,2,    0.002,2
  09AR20120105,  I09S,    15,  1,     15,     15,2,20120121,0631,-64.6392, 113.2950, 1912,    185.6,   1.0584,  34.6622,2,  34.6622,2,    202.4,2,    202.5,2,    89.00,2,    32.23,2,     2.22,2,    97.39,2,   -0.147,2,    0.000,2
  09AR20120105,  I09S,    15,  1,     14,     14,2,20120121,0631,-64.6392, 113.2950, 1912,    275.0,   1.2841,  34.7090,2,  34.7095,2,    197.9,2,    196.3,2,    93.60,2,    31.99,2,     2.19,2,    97.39,2,   -0.169,2,    0.000,2
  09AR20120105,  I09S,    15,  1,     13,     13,2,20120121,0631,-64.6392, 113.2950, 1912,    375.9,   1.1603,  34.7084,2,  34.7087,2,    200.7,2,    200.8,2,    96.10,2,    31.66,2,     2.18,2,    97.35,2,   -0.170,2,    0.000,2
  09AR20120105,  I09S,    15,  1,     12,     12,2,20120121,0631,-64.6392, 113.2950, 1912,    500.9,   0.9758,  34.7036,2,  34.7038,2,    205.7,2,    205.4,2,   100.20,2,    31.65,2,     2.17,2,    97.30,2,   -0.174,2,    0.000,2
  09AR20120105,  I09S,    15,  1,     11,     11,2,20120121,0631,-64.6392, 113.2950, 1912,    699.9,   0.7368,  34.6937,2,  34.6936,2,    210.2,2,    210.5,2,   105.70,2,    31.78,2,     2.20,2,    97.26,2,   -0.181,2,    0.000,2
  09AR20120105,  I09S,    15,  1,     10,     10,2,20120121,0631,-64.6392, 113.2950, 1912,    900.8,   0.5638,  34.6875,2,  34.6875,2,    212.3,2,    213.0,2,   111.30,2,    32.09,2,     2.22,2,    97.23,2,   -0.174,2,    0.000,2
  09AR20120105,  I09S,    15,  1,      9,      9,2,20120121,0631,-64.6392, 113.2950, 1912,   1098.4,   0.3861,  34.6794,2,  34.6792,2,    216.0,2,    216.0,2,   114.40,2,    32.25,2,     2.24,2,    97.20,2,   -0.176,2,    0.000,2
  09AR20120105,  I09S,    15,  1,      8,      8,2,20120121,0631,-64.6392, 113.2950, 1912,   1300.5,   0.2406,  34.6727,2,  34.6728,2,    219.2,2,    219.4,2,   116.00,2,    32.43,2,     2.24,2,    97.17,2,   -0.178,2,    0.000,2
  09AR20120105,  I09S,    15,  1,      7,      7,2,20120121,0631,-64.6392, 113.2950, 1912,   1501.5,   0.1331,  34.6706,2,-999.0000,9,    222.8,2,   -999.0,9,  -999.00,9,  -999.00,9,  -999.00,9,    97.15,2,   -0.181,2,    0.000,2
  09AR20120105,  I09S,    15,  1,      6,      6,2,20120121,0631,-64.6392, 113.2950, 1912,   1501.2,   0.1349,  34.6708,2,-999.0000,9,    222.8,2,   -999.0,9,  -999.00,9,  -999.00,9,  -999.00,9,    97.14,2,   -0.180,2,    0.000,2
  09AR20120105,  I09S,    15,  1,      5,      5,2,20120121,0631,-64.6392, 113.2950, 1912,   1500.9,   0.1360,  34.6710,2,-999.0000,9,    222.8,2,   -999.0,9,  -999.00,9,  -999.00,9,  -999.00,9,    97.15,2,   -0.178,2,    0.000,2
  09AR20120105,  I09S,    15,  1,      4,      4,2,20120121,0631,-64.6392, 113.2950, 1912,   1500.9,   0.1355,  34.6709,2,  34.6706,2,    222.8,2,    221.9,2,   118.50,2,    32.53,2,     2.25,2,    97.14,2,   -0.180,2,    0.000,2
  09AR20120105,  I09S,    15,  1,      3,      3,2,20120121,0631,-64.6392, 113.2950, 1912,   1701.3,   0.0606,  34.6704,2,  34.6706,2,    225.0,2,    224.7,2,   120.40,2,    32.45,2,     2.25,2,    97.14,2,   -0.182,2,    0.000,2
  09AR20120105,  I09S,    15,  1,      2,      2,2,20120121,0631,-64.6392, 113.2950, 1912,   1851.3,  -0.0622,  34.6617,2,  34.6618,2,    228.4,2,    229.3,2,   115.90,2,    32.32,2,     2.24,2,    97.12,2,   -0.181,2,    0.000,2
  09AR20120105,  I09S,    15,  1,      1,      1,2,20120121,0631,-64.6392, 113.2950, 1912,   1933.8,  -0.1489,  34.6562,2,  34.6561,2,    232.4,2,    232.3,2,   115.30,2,    32.47,2,     2.24,2,    97.12,2,   -0.182,2,    0.000,2