BOTTLE,20220815CCHSIOAMB
EXPOCODE,SECT_ID,STNNBR,CASTNO,SAMPNO,BTLNBR,BTLNBR_FLAG_W,DATE,TIME,LATITUDE,LONGITUDE,DEPTH,CTDPRS,CTDTMP,CTDSAL,CTDSAL_FLAG_W,SALNTY,SALNTY_FLAG_W,CTDOXY,CTDOXY_FLAG_W,OXYGEN,OXYGEN_FLAG_W,SILCAT,SILCAT_FLAG_W,NITRAT,NITRAT_FLAG_W,PHSPHT,PHSPHT_FLAG_W,XMISS,XMISS_FLAG_W,FLUOR,FLUOR_FLAG_W,PAR,PAR_FLAG_W
,,,,,,,,,,,METERS,DBAR,ITS-90,PSS-78,,PSS-78,,UMOL/KG,,UMOL/KG,,UMOL/KG,,UMOL/KG,,UMOL/KG,,%TRANS,,VOLTS,,VOLTS,
  09AR20120105,  I09S,    16,  1,     24,     24,2,20120121,1654,-64.4013, 113.3790, 2448,     42.2,  -1.2100,  34.1570,2,-999.0000,9,   -999.0,5,   -999.0,9,  -999.00,9,  -999.00,9,  -999.00,9,    90.59,2,    5.526,2,    0.000,2
  09AR20120105,  I09S,    16,  1,     23,     23,2,20120121,1654,-64.4013, 113.3790, 2448,     42.1,  -1.1593,  34.1410,2,-999.0000,9,   -999.0,5,   -999.0,9,  -999.00,9,  -999.00,9,  -999.00,9,    90.05,2,    5.318,2,    0.000,2
  09AR20120105,  I09S,    16,  1,     22,     22,2,20120121,1654,-64.4013, 113.3790, 2448,     42.1,  -1.1442,  34.1364,2,-999.0000,9,   -999.0,5,   -999.0,9,  -999.00,9,  -999.00,9,  -999.00,9,    90.07,2,    4.944,2,    0.000,2
  09AR20120105,  I09S,    16,  1,     21,     21,2,20120121,1654,-64.4013, 113.3790, 2448,     42.2,  -1.1543,  34.1400,2,-999.0000,9,   -999.0,5,   -999.0,9,  -999.00,9,  -999.00,9,  -999.00,9,    90.20,2,    5.434,2,    0.000,2
  09AR20120105,  I09S,    16,  1,     20,     20,2,20120121,1654,-64.4013, 113.3790, 2448,     42.3,  -1.1459,  34.1385,2,-999.0000,9,   -999.0,5,   -999.0,9,  -999.00,9,  -999.00,9,  -999.00,9,    89.19,2,    5.455,2,    0.000,2
  09AR20120105,  I09S,    16,  1,     19,     19,2,20120121,1654,-64.4013, 113.3790, 2448,     42.1,  -1.1165,  34.1261,2,-999.0000,9,   -999.0,5,   -999.0,9,  -999.00,9,  -999.00,9,  -999.00,9,    89.65,2,    5.590,2,    0.000,2
  09AR20120105,  I09S,    16,  1,     18,     18,2,20120121,1654,-64.4013, 113.3790, 2448,     42.2,  -1.1099,  34.1250,2,-999.0000,9,   -999.0,5,   -999.0,9,  -999.00,9,  -999.00,9,  -999.00,9,    89.54,2,    6.424,2,    0.000,2
  09AR20120105,  I09S,    16,  1,     17,     17,2,20120121,1654,-64.4013, 113.3790, 2448,     42.2,  -1.0755,  34.1139,2,-999.0000,9,   -999.0,5,   -999.0,9,  -999.00,9,  -999.00,9,  -999.00,9,    89.08,2,    5.571,2,    0.000,2
  09AR20120105,  I09S,    16,  1,     16,     16,2,20120121,1654,-64.4013, 113.3790, 2448,     42.3,  -1.0959,  34.1203,2,-999.0000,9,   -999.0,5,   -999.0,9,  -999.00,9,  -999.00,9,  -999.00,9,    89.21,2,    5.581,2,    0.000,2
  09AR20120105,  I09S,    16,  1,     15,     15,2,20120121,1654,-64.4013, 113.3790, 2448,     42.3,  -1.0667,  34.1082,2,-999.0000,9,   -999.0,5,   -999.0,9,  -999.00,9,  -999.00,9,  -999.00,9,    88.37,2,    6.760,2,    0.000,2
  09AR20120105,  I09S,    16,  1,     14,     14,2,20120121,1654,-64.4013, 113.3790, 2448,     42.3,  -1.0531,  34.1045,2,-999.0000,9,   -999.0,5,   -999.0,9,  -999.00,9,  -999.00,9,  -999.00,9,    89.32,2,    5.511,2,    0.000,2
  09AR20120105,  I09S,    16,  1,     13,     13,2,20120121,1654,-64.4013, 113.3790, 2448,     42.2,  -1.0142,  34.0925,2,-999.0000,9,   -999.0,5,   -999.0,9,  -999.00,9,  -999.00,9,  -999.00,9,    88.43,2,    5.738,2,    0.000,2
  09AR20120105,  I09S,    16,  1,     12,     12,2,20120121,1654,-64.4013, 113.3790, 2448,     42.2,  -1.0283,  34.0969,2,-999.0000,9,   -999.0,5,   -999.0,9,  -999.00,9,  -999.00,9,  -999.00,9,    88.18,2,    6.870,2,    0.000,2
  09AR20120105,  I09S,    16,  1,     11,     11,2,20120121,1654,-64.4013, 113.3790, 2448,     42.3,  -1.0441,  34.1010,2,-999.0000,9,   -999.0,5,   -999.0,9,  -999.00,9,  -999.00,9,  -999.00,9,    88.59,2,    6.666,2,    0.000,2
  09AR20120105,  I09S,    16,  1,     10,     10,2,20120121,1654,-64.4013, 113.3790, 2448,     42.3,  -1.0489,  34.1035,2,-999.0000,9,   -999.0,5,   -999.0,9,  -999.00,9,  -999.00,9,  -999.00,9,    88.41,2,    6.459,2,    0.000,2
  09AR20120105,  I09S,    16,  1,      9,      9,2,20120121,1654,-64.4013, 113.3790, 2448,     42.3,  -1.0526,  34.1055,2,-999.0000,9,   -999.0,5,   -999.0,9,  -999.00,9,  -999.00,9,  -999.00,9,    88.43,2,    6.028,2,    0.000,2
  09AR20120105,  I09S,    16,  1,      8,      8,2,20120121,1654,-64.4013, 113.3790, 2448,     42.1,  -1.0327,  34.0976,2,-999.0000,9,   -999.0,5,   -999.0,9,  -999.00,9,  -999.00,9,  -999.00,9,    88.56,2,    6.557,2,    0.000,2
  09AR20120105,  I09S,    16,  1,      7,      7,2,20120121,1654,-64.4013, 113.3790, 2448,     42.1,  -1.0242,  34.0949,2,-999.0000,9,   -999.0,5,   -999.0,9,  -999.00,9,  -999.00,9,  -999.00,9,    88.21,2,    6.054,2,    0.000,2
  09AR20120105,  I09S,    16,  1,      6,      6,2,20120121,1654,-64.4013, 113.3790, 2448,     42.2,  -1.0308,  34.0972,2,-999.0000,9,   -999.0,5,   -999.0,9,  -999.00,9,  -999.00,9,  -999.00,9,    88.35,2,    6.313,2,    0.000,2
  09AR20120105,  I09S,    16,  1,      5,      5,2,20120121,1654,-64.4013, 113.3790, 2448,     42.2,  -1.0377,  34.0986,2,-999.0000,9,   -999.0,5,   -999.0,9,  -999.00,9,  -999.00,9,  -999.00,9,    88.68,2,    6.302,2,    0.000,2
  09AR20120105,  I09S,    16,  1,      4,      4,2,20120121,1654,-64.4013, 113.3790, 2448,     42.1,  -1.0442,  34.0998,2,-999.0000,9,   -999.0,5,   -999.0,9,  -999.00,9,  -999.00,9,  -999.00,9,    88.94,2,    6.289,2,    0.000,2
  09AR20120105,  I09S,    16,  1,      3,      3,2,20120121,1654,-64.4013, 113.3790, 2448,     42.1,  -1.0481,  34.1017,2,-999.0000,9,   -999.0,5,   -999.0,9,  -999.00,9,  -999.00,9,  -999.00,9,    89.14,2,    6.479,2,    0.000,2
  09AR20120105,  I09S,    16,  1,      2,      2,2,20120121,1654,-64.4013, 113.3790, 2448,     42.0,  -1.0541,  34.1048,2,-999.0000,9,   -999.0,5,   -999.0,9,  -999.00,9,  -999.00,9,  -999.00,9,    89.00,2,    5.797,2,    0.000,2
  09AR20120105,  I09S,    16,  1,      1,      1,2,20120121,1654,-64.4013, 113.3790, 2448,     42.0,  -1.0776,  34.1134,2,-999.0000,9,   -999.0,5,   -999.0,9,  -999.00,9,  -999.00,9,  -999.00,9,    89.50,2,    5.270,2,    0.000,2
  09AR20120105,  I09S,    17,  1,     24,     24,2,20120121,1755,-64.4012, 113.3710, 2449,      3.7,   0.2941,  33.8023,2,  33.8030,2,   -999.0,5,    345.1,2,    46.90,2,    23.74,2,     1.59,2,    95.06,2,    1.199,2,    2.565,2
  09AR20120105,  I09S,    17,  1,     23,     23,2,20120121,1755,-64.4012, 113.3710, 2449,     19.6,   0.2934,  33.8051,2,-999.0000,9,    343.8,2,   -999.0,9,  -999.00,9,  -999.00,9,  -999.00,9,    95.34,2,    1.246,2,    0.561,2
  09AR20120105,  I09S,    17,  1,     22,     22,2,20120121,1755,-64.4012, 113.3710, 2449,     19.5,   0.2950,  33.8056,2,-999.0000,9,    343.8,2,   -999.0,9,  -999.00,9,  -999.00,9,  -999.00,9,    95.21,2,    1.226,2,    0.568,2
  09AR20120105,  I09S,    17,  1,     21,     21,2,20120121,1755,-64.4012, 113.3710, 2449,     19.4,   0.2917,  33.8069,2,  33.8165,2,    343.8,2,    344.7,2,    47.30,2,    23.80,2,     1.61,2,    95.58,2,    1.124,2,    0.565,2
  09AR20120105,  I09S,    17,  1,     20,     20,2,20120121,1755,-64.4012, 113.3710, 2449,     30.0,  -0.9081,  34.0674,2,  34.0521,2,    342.7,2,    331.3,2,    56.10,2,    26.52,2,     1.87,2,    88.94,2,    6.353,2,    0.238,2
  09AR20120105,  I09S,    17,  1,     19,     19,2,20120121,1755,-64.4012, 113.3710, 2449,     41.9,  -1.4671,  34.2561,2,  34.2542,2,    302.0,2,    302.7,2,    66.50,2,    29.34,2,     2.08,2,    96.93,2,    1.630,2,    0.024,2
  09AR20120105,  I09S,    17,  1,     18,     18,2,20120121,1755,-64.4012, 113.3710, 2449,     50.3,  -1.3700,  34.3064,2,  34.3021,2,    279.2,2,    290.4,2,    69.70,2,    30.10,2,     2.13,2,    97.21,2,    0.467,2,    0.000,2
  09AR20120105,  I09S,    17,  1,     17,     17,2,20120121,1755,-64.4012, 113.3710, 2449,     71.7,  -0.7309,  34.4182,2,  34.4100,2,    252.2,2,    261.6,2,    75.30,2,    31.25,2,     2.18,2,    97.33,2,    0.136,2,    0.000,2
  09AR20120105,  I09S,    17,  1,     16,     16,2,20120121,1755,-64.4012, 113.3710, 2449,    149.9,   1.1887,  34.6785,2,  34.6781,2,    197.0,2,    196.5,2,    90.40,2,    32.24,2,     2.23,2,    97.44,2,   -0.115,2,    0.000,2
  09AR20120105,  I09S,    17,  1,     15,     15,2,20120121,1755,-64.4012, 113.3710, 2449,    200.3,   1.3788,  34.7077,2,  34.7072,2,    192.6,2,    192.7,2,    92.80,2,    32.02,2,     2.22,2,    97.44,2,   -0.133,2,    0.000,2
  09AR20120105,  I09S,    17,  1,     14,     14,2,20120121,1755,-64.4012, 113.3710, 2449,    299.3,   1.3838,  34.7230,2,  34.7235,2,    194.2,2,    194.0,2,    95.70,2,    31.69,2,     2.19,2,    97.42,2,   -0.169,2,    0.000,2
  09AR20120105,  I09S,    17,  1,     13,     13,2,20120121,1755,-64.4012, 113.3710, 2449,    400.7,   1.3351,  34.7263,2,  34.7264,2,    196.7,2,    196.3,2,    97.90,2,    31.51,2,     2.18,2,    97.40,2,   -0.170,2,    0.000,2
  09AR20120105,  I09S,    17,  1,     12,     12,2,20120121,1755,-64.4012, 113.3710, 2449,    498.2,   1.2271,  34.7251,2,  34.7274,2,    199.1,2,    199.0,2,   100.90,2,    31.43,2,     2.19,2,    97.38,2,   -0.177,2,    0.000,2
  09AR20120105,  I09S,    17,  1,     11,     11,2,20120121,1755,-64.4012, 113.3710, 2449,    649.9,   1.0730,  34.7188,2,  34.7189,2,    202.3,2,    201.9,2,   104.50,2,    31.57,2,     2.19,2,    97.33,2,   -0.178,2,    0.000,2
  09AR20120105,  I09S,    17,  1,     10,     10,2,20120121,1755,-64.4012, 113.3710, 2449,    800.2,   0.8620,  34.7063,2,  34.7077,2,    206.3,2,    207.0,2,   107.90,2,    31.73,2,     2.21,2,    97.29,2,   -0.177,2,    0.000,2
  09AR20120105,  I09S,    17,  1,      9,      9,2,20120121,1755,-64.4012, 113.3710, 2449,    950.7,   0.7386,  34.7018,2,  34.7020,2,    207.6,2,    208.2,2,   112.20,2,    31.89,2,     2.22,2,    97.27,2,   -0.173,2,    0.000,2
  09AR20120105,  I09S,    17,  1,      8,      8,2,20120121,1755,-64.4012, 113.3710, 2449,   1099.1,   0.6273,  34.6971,2,  34.6971,2,    209.5,2,    209.9,2,   115.60,2,    32.04,2,     2.24,2,    97.24,2,   -0.184,2,    0.000,2
  09AR20120105,  I09S,    17,  1,      7,      7,2,20120121,1755,-64.4012, 113.3710, 2449,   1300.3,   0.4286,  34.6852,2,  34.6863,2,    214.6,2,    214.0,2,   117.40,2,    32.24,2,     2.25,2,    97.21,2,   -0.187,2,    0.000,2
  09AR20120105,  I09S,    17,  1,      6,      6,2,20120121,1755,-64.4012, 113.3710, 2449,   1500.3,   0.2595,  34.6781,2,  34.6783,2,    218.4,2,    218.5,2,   119.80,2,    32.36,2,     2.26,2,    97.19,2,   -0.177,2,    0.000,2
  09AR20120105,  I09S,    17,  1,      5,      5,2,20120121,1755,-64.4012, 113.3710, 2449,   1699.9,   0.1379,  34.6719,2,-999.0000,9,    222.8,2,   -999.0,9,  -999.00,9,  -999.00,9,  -999.00,9,    97.16,2,   -0.183,2,    0.000,2
  09AR20120105,  I09S,    17,  1,      4,      4,2,20120121,1755,-64.4012, 113.3710, 2449,   1900.5,   0.0889,  34.6730,2,  34.6732,2,    224.6,2,    224.6,2,   122.20,2,    32.27,2,     2.26,2,    97.14,2,   -0.186,2,    0.000,2
  09AR20120105,  I09S,    17,  1,      3,      3,2,20120121,1755,-64.4012, 113.3710, 2449,   2099.3,  -0.0560,  34.6631,2,  34.6631,2,    229.8,2,    229.3,2,   117.40,2,    32.13,2,     2.25,2,    97.13,2,   -0.179,2,    0.000,2
  09AR20120105,  I09S,    17,  1,      2,      2,2,20120121,1755,-64.4012, 113.3710, 2449,   2300.3,  -0.1454,  34.6559,2,  34.6557,2,    232.8,2,    233.6,2,   112.80,2,    32.03,2,     2.25,2,    97.11,2,   -0.179,2,    0.000,2
  09AR20120105,  I09S,    17,  1,      1,      1,2,20120121,1755,-64.4012, 113.3710, 2449,   2477.2,  -0.1811,  34.6534,2,  34.6531,2,    234.4,2,    234.4,2,   112.90,2,    32.07,2,     2.24,2,    97.12,2,   -0.181,2,    0.000,2
  09AR20120105,  I09S,    18,  1,     24,     24,2,20120122,0259,-64.0232, 113.3070, 2978,      4.5,   0.5135,  33.7769,2,  33.7770,2,    346.5,2,    346.3,2,    46.00,2,    24.03,2,     1.58,2,    93.67,2,    0.014,2,  216.200,2
  09AR20120105,  I09S,    18,  1,     23,     23,2,20120122,0259,-64.0232, 113.3070, 2978,     21.2,   0.5055,  33.7774,2,-999.0000,9,    345.6,2,   -999.0,9,  -999.00,9,  -999.00,9,  -999.00,9,    93.52,2,    0.781,2,   46.780,2
  09AR20120105,  I09S,    18,  1,     22,     22,2,20120122,0259,-64.0232, 113.3070, 2978,     21.2,   0.5036,  33.7774,2,-999.0000,9,    345.6,2,   -999.0,9,  -999.00,9,  -999.00,9,  -999.00,9,    93.57,2,    0.739,2,   46.210,2
  09AR20120105,  I09S,    18,  1,     21,     21,2,20120122,0259,-64.0232, 113.3070, 2978,     21.0,   0.5065,  33.7773,2,  33.7787,2,    345.6,2,    345.7,2,    45.90,2,    24.14,2,     1.58,2,    93.43,2,    0.711,2,   45.860,2
  09AR20120105,  I09S,    18,  1,     20,     20,2,20120122,0259,-64.0232, 113.3070, 2978,     39.6,   0.0642,  33.8592,2,  33.8594,2,    337.4,2,    346.5,2,    47.60,2,    24.69,2,     1.65,2,    90.82,2,    3.117,2,   10.630,2
  09AR20120105,  I09S,    18,  1,     19,     19,2,20120122,0259,-64.0232, 113.3070, 2978,     48.8,  -1.5011,  34.2343,2,  34.2305,2,    316.5,2,    316.0,2,    61.80,2,    28.96,2,     2.01,2,    91.79,2,    4.524,2,    3.612,2
  09AR20120105,  I09S,    18,  1,     18,     18,2,20120122,0259,-64.0232, 113.3070, 2978,     59.6,  -1.3759,  34.3124,2,  34.3139,2,    286.0,2,    289.4,2,    68.80,2,    30.34,2,     2.14,2,    97.21,2,    0.449,2,    1.394,2
  09AR20120105,  I09S,    18,  1,     17,     17,2,20120122,0259,-64.0232, 113.3070, 2978,     79.8,  -0.3978,  34.4628,2,  34.4612,2,    254.9,2,    249.1,2,    76.70,2,    31.77,2,     2.20,2,    97.32,2,    0.121,2,    0.536,2
  09AR20120105,  I09S,    18,  1,     16,     16,2,20120122,0259,-64.0232, 113.3070, 2978,    126.8,   1.0449,  34.6460,2,  34.6456,2,    205.8,2,    201.8,2,    87.40,2,    32.38,2,     2.24,2,    97.45,2,   -0.112,2,    0.048,2
  09AR20120105,  I09S,    18,  1,     15,     15,2,20120122,0259,-64.0232, 113.3070, 2978,    250.1,   1.4881,  34.7181,2,  34.7180,2,    190.7,2,    191.2,2,    92.80,2,    31.84,2,     2.20,2,    97.45,2,   -0.169,2,    0.000,2
  09AR20120105,  I09S,    18,  1,     14,     14,2,20120122,0259,-64.0232, 113.3070, 2978,    374.0,   1.4276,  34.7279,2,  34.7286,2,    194.2,2,    194.4,2,    96.00,2,    31.47,2,     2.17,2,    97.43,2,   -0.173,2,    0.000,2
  09AR20120105,  I09S,    18,  1,     13,     13,2,20120122,0259,-64.0232, 113.3070, 2978,    600.3,   1.2336,  34.7263,2,  34.7262,2,    199.5,2,    199.5,2,   101.40,2,    31.41,2,     2.18,2,    97.39,2,   -0.174,2,    0.000,2
  09AR20120105,  I09S,    18,  1,     12,     12,2,20120122,0259,-64.0232, 113.3070, 2978,    750.6,   1.0739,  34.7192,2,  34.7192,2,    202.5,2,    202.6,2,   105.00,2,    31.51,2,     2.20,2,    97.35,2,   -0.179,2,    0.000,2
  09AR20120105,  I09S,    18,  1,     11,     11,2,20120122,0259,-64.0232, 113.3070, 2978,    900.5,   0.9012,  34.7108,2,  34.7103,2,    204.7,2,    205.5,2,   108.90,2,    31.65,2,     2.20,2,    97.31,2,   -0.182,2,    0.000,2
  09AR20120105,  I09S,    18,  1,     10,     10,2,20120122,0259,-64.0232, 113.3070, 2978,   1050.2,   0.7582,  34.7024,2,  34.7026,2,    207.8,2,    208.2,2,   111.70,2,    31.85,2,     2.22,2,    97.27,2,   -0.179,2,    0.000,2
  09AR20120105,  I09S,    18,  1,      9,      9,2,20120122,0259,-64.0232, 113.3070, 2978,   1199.5,   0.6143,  34.6948,2,  34.6948,2,    210.9,2,    210.5,2,   114.80,2,    32.00,2,     2.25,2,    97.25,2,   -0.181,2,    0.000,2
  09AR20120105,  I09S,    18,  1,      8,      8,2,20120122,0259,-64.0232, 113.3070, 2978,   1449.7,   0.4475,  34.6893,2,  34.6895,2,    213.0,2,    213.2,2,   120.10,2,    32.26,2,     2.26,2,    97.21,2,   -0.180,2,    0.000,2
  09AR20120105,  I09S,    18,  1,      7,      7,2,20120122,0259,-64.0232, 113.3070, 2978,   1700.6,   0.2577,  34.6786,2,  34.6785,2,    218.2,2,    218.5,2,   120.30,2,    32.23,2,     2.25,2,    97.19,2,   -0.183,2,    0.000,2
  09AR20120105,  I09S,    18,  1,      6,      6,2,20120122,0259,-64.0232, 113.3070, 2978,   1950.2,   0.1458,  34.6754,2,  34.6751,2,    222.2,2,    221.9,2,   122.40,2,    32.29,2,     2.26,2,    97.16,2,   -0.178,2,    0.000,2
  09AR20120105,  I09S,    18,  1,      5,      5,2,20120122,0259,-64.0232, 113.3070, 2978,   2202.0,   0.0339,  34.6708,2,  34.6704,2,    226.1,2,    225.9,2,   122.30,2,    32.07,2,     2.25,2,    97.14,2,   -0.176,2,    0.000,2
  09AR20120105,  I09S,    18,  1,      4,      4,2,20120122,0259,-64.0232, 113.3070, 2978,   2475.8,  -0.0682,  34.6657,2,  34.6645,2,    230.0,2,    230.0,2,   120.50,2,    31.94,2,     2.24,2,    97.14,2,   -0.191,2,    0.000,2
  09AR20120105,  I09S,    18,  1,      3,      3,2,20120122,0259,-64.0232, 113.3070, 2978,   2749.4,  -0.1595,  34.6585,2,  34.6584,2,    234.1,2,    234.4,2,   115.30,2,    31.56,2,     2.22,2,    97.12,2,   -0.183,2,    0.000,2
  09AR20120105,  I09S,    18,  1,      2,      2,2,20120122,0259,-64.0232, 113.3070, 2978,   2902.0,  -0.1953,  34.6558,2,  34.6555,2,    236.0,2,   -999.0,9,   114.50,2,    31.64,2,     2.24,2,    97.11,2,   -0.184,2,    0.000,2
  09AR20120105,  I09S,    18,  1,      1,      1,2,20120122,0259,-64.0232, 113.3070, 2978,   3019.1,  -0.2173,  34.6551,2,  34.6543,2,    235.6,2,    236.1,2,   118.20,2,    32.19,2,     2.26,2,    97.11,2,   -0.183,2,    0.000,2