BOTTLE,20220815CCHSIOAMB
EXPOCODE,SECT_ID,STNNBR,CASTNO,SAMPNO,BTLNBR,BTLNBR_FLAG_W,DATE,TIME,LATITUDE,LONGITUDE,DEPTH,CTDPRS,CTDTMP,CTDSAL,CTDSAL_FLAG_W,SALNTY,SALNTY_FLAG_W,CTDOXY,CTDOXY_FLAG_W,OXYGEN,OXYGEN_FLAG_W,SILCAT,SILCAT_FLAG_W,NITRAT,NITRAT_FLAG_W,PHSPHT,PHSPHT_FLAG_W,XMISS,XMISS_FLAG_W,FLUOR,FLUOR_FLAG_W,PAR,PAR_FLAG_W
,,,,,,,,,,,METERS,DBAR,ITS-90,PSS-78,,PSS-78,,UMOL/KG,,UMOL/KG,,UMOL/KG,,UMOL/KG,,UMOL/KG,,%TRANS,,VOLTS,,VOLTS,
  09AR20120105,  I09S,    89,  1,     24,     24,2,20120209,1206,-35.5200, 114.9980, 2427,     14.8,  22.0759,  35.4539,2,  35.4521,2,    218.8,2,    219.3,2,     2.60,2,     0.00,2,     0.04,2,    98.14,2,   -0.142,2,    3.883,2
  09AR20120105,  I09S,    89,  1,     23,     23,2,20120209,1206,-35.5200, 114.9980, 2427,     19.9,  22.0337,  35.4580,2,-999.0000,9,    218.4,2,   -999.0,9,  -999.00,9,  -999.00,9,  -999.00,9,    98.14,2,   -0.135,2,    3.464,2
  09AR20120105,  I09S,    89,  1,     22,     22,2,20120209,1206,-35.5200, 114.9980, 2427,     20.0,  22.0229,  35.4594,2,-999.0000,9,    218.4,2,   -999.0,9,  -999.00,9,  -999.00,9,  -999.00,9,    98.16,2,   -0.137,2,    3.448,2
  09AR20120105,  I09S,    89,  1,     21,     21,2,20120209,1206,-35.5200, 114.9980, 2427,     55.0,  21.2603,  35.5319,2,  35.5304,2,    220.7,2,    222.2,2,     2.30,2,     0.00,2,     0.04,2,    98.23,2,   -0.050,2,    1.019,2
  09AR20120105,  I09S,    89,  1,     20,     20,2,20120209,1206,-35.5200, 114.9980, 2427,     74.6,  19.6853,  35.6425,2,  35.6382,2,    229.0,2,    228.5,2,     2.40,2,     0.00,2,     0.05,2,    98.07,2,    0.291,2,    0.453,2
  09AR20120105,  I09S,    89,  1,     19,     19,2,20120209,1206,-35.5200, 114.9980, 2427,     90.1,  18.9573,  35.5926,2,  35.5928,2,    233.6,2,    230.3,2,     2.20,2,     0.03,2,     0.07,2,    97.89,2,    0.393,2,    0.166,2
  09AR20120105,  I09S,    89,  1,     18,     18,2,20120209,1206,-35.5200, 114.9980, 2427,    123.6,  16.4457,  35.5313,2,  35.5219,2,    241.6,2,    239.9,2,     1.90,2,     0.37,2,     0.15,2,    98.81,2,    0.129,2,    0.000,2
  09AR20120105,  I09S,    89,  1,     17,     17,2,20120209,1206,-35.5200, 114.9980, 2427,    251.7,  12.2148,  35.0449,2,  35.0453,2,    241.8,2,    241.2,2,     1.90,2,     7.13,2,     0.62,2,    99.69,2,   -0.201,2,    0.000,2
  09AR20120105,  I09S,    89,  1,     16,     16,2,20120209,1206,-35.5200, 114.9980, 2427,    374.0,   9.8501,  34.7286,2,  34.7290,2,    242.5,2,    244.3,2,     3.60,2,    14.16,2,     1.02,2,    99.31,2,   -0.204,2,    0.000,2
  09AR20120105,  I09S,    89,  1,     15,     15,2,20120209,1206,-35.5200, 114.9980, 2427,    500.3,   9.0111,  34.6226,2,  34.6217,2,    244.7,2,    246.2,2,     5.00,2,    16.93,2,  -999.00,9,    99.05,2,   -0.203,2,    0.000,2
  09AR20120105,  I09S,    89,  1,     14,     14,2,20120209,1206,-35.5200, 114.9980, 2427,    603.1,   8.5339,  34.5750,2,  34.5751,2,    231.0,2,    231.9,2,     7.00,2,    19.64,2,  -999.00,9,    98.78,2,   -0.195,2,    0.000,2
  09AR20120105,  I09S,    89,  1,     13,     13,2,20120209,1206,-35.5200, 114.9980, 2427,    701.4,   7.3476,  34.4732,2,  34.4750,2,    207.9,2,    206.6,2,    13.60,2,    24.57,2,     1.64,2,    98.43,2,   -0.190,2,    0.000,2
  09AR20120105,  I09S,    89,  1,     12,     12,2,20120209,1206,-35.5200, 114.9980, 2427,    801.9,   5.8177,  34.3935,2,  34.3949,2,    197.9,2,    198.1,2,    23.40,2,    28.64,2,     1.92,2,    98.11,2,   -0.190,2,    0.000,2
  09AR20120105,  I09S,    89,  1,     11,     11,2,20120209,1206,-35.5200, 114.9980, 2427,    901.5,   4.5557,  34.3731,2,  34.3737,2,    194.7,2,    193.7,2,    35.60,2,    31.12,2,     2.14,2,    97.89,2,   -0.185,2,    0.000,2
  09AR20120105,  I09S,    89,  1,     10,     10,2,20120209,1206,-35.5200, 114.9980, 2427,   1003.6,   3.8562,  34.3979,2,  34.3976,2,    186.6,2,    186.4,2,    46.60,2,    32.79,2,  -999.00,9,    97.77,2,   -0.180,2,    0.000,2
  09AR20120105,  I09S,    89,  1,      9,      9,2,20120209,1206,-35.5200, 114.9980, 2427,   1156.1,   3.2863,  34.4659,2,  34.4658,2,    169.2,2,    172.5,2,    61.00,2,    34.27,2,  -999.00,9,    97.66,2,   -0.178,2,    0.000,2
  09AR20120105,  I09S,    89,  1,      8,      8,2,20120209,1206,-35.5200, 114.9980, 2427,   1299.6,   3.0454,  34.5187,2,  34.5188,2,    166.1,2,    165.2,2,    69.20,2,    34.82,2,     2.42,2,    97.60,2,   -0.182,2,    0.000,2
  09AR20120105,  I09S,    89,  1,      7,      7,2,20120209,1206,-35.5200, 114.9980, 2427,   1449.9,   2.8869,  34.5637,2,  34.5635,2,    161.9,2,    161.9,2,    74.80,2,    34.79,2,     2.43,2,    97.57,2,   -0.184,2,    0.000,2
  09AR20120105,  I09S,    89,  1,      6,      6,2,20120209,1206,-35.5200, 114.9980, 2427,   1602.1,   2.7139,  34.6219,2,  34.6215,2,    160.6,2,    160.7,2,    82.00,2,    34.41,2,     2.42,2,    97.53,2,   -0.171,2,    0.000,2
  09AR20120105,  I09S,    89,  1,      5,      5,2,20120209,1206,-35.5200, 114.9980, 2427,   1800.4,   2.5227,  34.6697,2,  34.6698,2,    163.7,2,    163.4,2,    88.20,2,    33.70,2,  -999.00,9,    97.49,2,   -0.177,2,    0.000,2
  09AR20120105,  I09S,    89,  1,      4,      4,2,20120209,1206,-35.5200, 114.9980, 2427,   1998.7,   2.3635,  34.7032,2,  34.7046,2,    165.7,2,   -999.0,9,    95.00,2,    33.14,2,     2.36,2,    97.46,2,   -0.170,2,    0.000,2
  09AR20120105,  I09S,    89,  1,      3,      3,2,20120209,1206,-35.5200, 114.9980, 2427,   2202.1,   2.1743,  34.7213,2,  34.7215,2,    169.9,2,    170.6,2,   100.40,2,    32.81,2,  -999.00,9,    97.42,2,   -0.175,2,    0.000,2
  09AR20120105,  I09S,    89,  1,      2,      2,2,20120209,1206,-35.5200, 114.9980, 2427,   2299.4,   2.1135,  34.7245,2,  34.7239,2,    172.9,2,    172.1,2,   102.20,2,    32.79,2,     2.34,2,    97.41,2,   -0.174,2,    0.000,2
  09AR20120105,  I09S,    89,  1,      1,      1,2,20120209,1206,-35.5200, 114.9980, 2427,   2439.9,   2.0336,  34.7274,2,  34.7270,2,    173.8,2,    174.0,2,   104.90,2,    32.98,2,     2.33,2,    97.43,2,   -0.173,2,    0.000,2
  09AR20120105,  I09S,    90,  1,     24,     24,2,20120209,1623,-35.2093, 114.9960, 1540,     14.1,  22.6575,  35.3180,2,  35.3165,2,    217.3,2,    217.0,2,     2.70,2,     0.00,2,     0.05,2,    97.89,2,   -0.045,2,    0.000,2
  09AR20120105,  I09S,    90,  1,     23,     23,2,20120209,1623,-35.2093, 114.9960, 1540,     14.2,  22.6573,  35.3179,2,-999.0000,9,    217.3,2,   -999.0,9,  -999.00,9,  -999.00,9,  -999.00,9,    97.88,2,   -0.051,2,    0.000,2
  09AR20120105,  I09S,    90,  1,     22,     22,2,20120209,1623,-35.2093, 114.9960, 1540,     14.1,  22.6552,  35.3179,2,-999.0000,9,    217.3,2,   -999.0,9,  -999.00,9,  -999.00,9,  -999.00,9,    97.88,2,   -0.043,2,    0.000,2
  09AR20120105,  I09S,    90,  1,     21,     21,2,20120209,1623,-35.2093, 114.9960, 1540,     14.1,  22.6601,  35.3175,2,-999.0000,9,    217.3,2,   -999.0,9,  -999.00,9,  -999.00,9,  -999.00,9,    97.90,2,   -0.055,2,    0.000,2
  09AR20120105,  I09S,    90,  1,     20,     20,2,20120209,1623,-35.2093, 114.9960, 1540,     39.4,  21.5274,  35.5430,2,  35.4715,2,    222.0,2,    220.6,2,     2.60,2,     0.00,2,     0.04,2,    97.96,2,   -0.031,2,    0.000,2
  09AR20120105,  I09S,    90,  1,     19,     19,2,20120209,1623,-35.2093, 114.9960, 1540,     39.2,  21.6112,  35.5230,2,-999.0000,9,    222.0,2,   -999.0,9,  -999.00,9,  -999.00,9,  -999.00,9,    97.96,2,   -0.044,2,    0.000,2
  09AR20120105,  I09S,    90,  1,     18,     18,2,20120209,1623,-35.2093, 114.9960, 1540,     59.1,  21.2341,  35.6021,2,  35.6013,2,    221.5,2,    222.2,2,     2.40,2,     0.00,2,     0.03,2,    98.44,2,   -0.013,2,    0.000,2
  09AR20120105,  I09S,    90,  1,     17,     17,2,20120209,1623,-35.2093, 114.9960, 1540,     59.1,  21.2338,  35.6019,2,-999.0000,9,    221.5,2,   -999.0,9,  -999.00,9,  -999.00,9,  -999.00,9,    98.43,2,   -0.022,2,    0.000,2
  09AR20120105,  I09S,    90,  1,     16,     16,2,20120209,1623,-35.2093, 114.9960, 1540,     79.4,  19.2739,  35.6398,2,  35.6401,2,    232.2,2,    233.4,2,     2.10,2,     0.00,2,     0.06,2,    98.54,2,    0.096,2,    0.000,2
  09AR20120105,  I09S,    90,  1,     15,     15,2,20120209,1623,-35.2093, 114.9960, 1540,     79.3,  19.3142,  35.6378,2,-999.0000,9,    232.2,2,   -999.0,9,  -999.00,9,  -999.00,9,  -999.00,9,    98.54,2,    0.073,2,    0.000,2
  09AR20120105,  I09S,    90,  1,     14,     14,2,20120209,1623,-35.2093, 114.9960, 1540,    100.7,  18.1511,  35.7246,2,  35.7266,2,    229.8,2,    228.6,2,     2.20,2,     0.36,2,     0.12,2,    99.17,2,   -0.027,2,    0.000,2
  09AR20120105,  I09S,    90,  1,     13,     13,2,20120209,1623,-35.2093, 114.9960, 1540,    100.8,  18.1555,  35.7252,2,-999.0000,9,    229.8,2,   -999.0,9,  -999.00,9,  -999.00,9,  -999.00,9,    99.16,2,   -0.031,2,    0.000,2
  09AR20120105,  I09S,    90,  1,     12,     12,2,20120209,1623,-35.2093, 114.9960, 1540,    151.0,  16.2273,  35.5440,2,  35.5500,2,    238.0,2,    238.2,2,     1.80,2,     0.25,2,     0.15,2,    99.27,2,   -0.045,2,    0.000,2
  09AR20120105,  I09S,    90,  1,     11,     11,2,20120209,1623,-35.2093, 114.9960, 1540,    151.2,  16.2253,  35.5430,2,-999.0000,9,    238.0,2,   -999.0,9,  -999.00,9,  -999.00,9,  -999.00,9,    99.27,2,   -0.059,2,    0.000,2
  09AR20120105,  I09S,    90,  1,     10,     10,2,20120209,1623,-35.2093, 114.9960, 1540,    199.7,  14.6108,  35.3944,2,  35.4348,2,    233.2,2,    234.8,2,     1.80,2,     2.62,2,     0.30,2,    99.50,2,   -0.172,2,    0.000,2
  09AR20120105,  I09S,    90,  1,      9,      9,2,20120209,1623,-35.2093, 114.9960, 1540,    299.6,  11.9068,  35.0360,2,  35.0366,2,    236.3,2,    236.3,2,     2.10,2,     8.41,2,     0.68,2,    99.49,2,   -0.200,2,    0.000,2
  09AR20120105,  I09S,    90,  1,      8,      8,2,20120209,1623,-35.2093, 114.9960, 1540,    452.1,   9.3397,  34.6755,2,  34.6796,2,    242.1,2,    242.6,2,     4.40,2,    15.85,2,     1.11,2,    99.04,2,   -0.205,2,    0.000,2
  09AR20120105,  I09S,    90,  1,      7,      7,2,20120209,1623,-35.2093, 114.9960, 1540,    653.8,   7.6548,  34.4971,2,  34.4981,2,    213.5,2,    211.9,2,    11.80,2,    23.20,2,     1.53,2,    98.51,2,   -0.192,2,    0.000,2
  09AR20120105,  I09S,    90,  1,      6,      6,2,20120209,1623,-35.2093, 114.9960, 1540,    749.5,   6.3518,  34.4195,2,  34.4210,2,    198.5,2,    198.8,2,    19.90,2,    27.23,2,     1.85,2,    98.18,2,   -0.190,2,    0.000,2
  09AR20120105,  I09S,    90,  1,      5,      5,2,20120209,1623,-35.2093, 114.9960, 1540,    851.5,   4.9749,  34.3629,2,  34.3635,2,    198.4,2,    199.1,2,    29.50,2,    30.10,2,     2.05,2,    97.95,2,   -0.201,2,    0.000,2
  09AR20120105,  I09S,    90,  1,      4,      4,2,20120209,1623,-35.2093, 114.9960, 1540,    998.3,   3.9040,  34.4009,2,  34.4010,2,    186.2,2,    185.8,2,    46.70,2,    32.63,2,     2.26,2,    97.75,2,   -0.185,2,    0.000,2
  09AR20120105,  I09S,    90,  1,      3,      3,2,20120209,1623,-35.2093, 114.9960, 1540,   1151.8,   3.2963,  34.4574,2,  34.4573,2,    173.5,2,    174.1,2,    59.60,2,    33.98,2,     2.37,2,    97.66,2,   -0.181,2,    0.000,2
  09AR20120105,  I09S,    90,  1,      2,      2,2,20120209,1623,-35.2093, 114.9960, 1540,   1301.5,   2.9666,  34.5240,2,  34.5243,2,    166.4,2,    166.0,2,    69.30,2,    34.52,2,     2.42,2,    97.64,2,   -0.193,2,    0.000,2
  09AR20120105,  I09S,    90,  1,      1,      1,2,20120209,1623,-35.2093, 114.9960, 1540,   1524.0,   2.9423,  34.5733,2,  34.5732,2,    159.1,2,    158.8,2,    76.90,2,    34.60,2,     2.45,2,    97.71,2,   -0.174,2,    0.000,2
  09AR20120105,  I09S,    91,  1,     24,     24,2,20120209,2319,-35.0563, 115.0070,  768,     10.3,  22.7482,  35.3136,2,  35.3137,2,   -999.0,5,    216.0,2,     2.70,2,     0.00,2,     0.07,2,    97.91,2,    0.012,2,    0.000,2
  09AR20120105,  I09S,    91,  1,     23,     23,2,20120209,2319,-35.0563, 115.0070,  768,     20.1,  22.7565,  35.3127,2,-999.0000,9,    216.2,2,   -999.0,9,  -999.00,9,  -999.00,9,  -999.00,9,    97.88,2,    0.023,2,    0.000,2
  09AR20120105,  I09S,    91,  1,     22,     22,2,20120209,2319,-35.0563, 115.0070,  768,     20.2,  22.7576,  35.3127,2,-999.0000,9,    216.2,2,   -999.0,9,  -999.00,9,  -999.00,9,  -999.00,9,    97.92,2,    0.027,2,    0.000,2
  09AR20120105,  I09S,    91,  1,     21,     21,2,20120209,2319,-35.0563, 115.0070,  768,     44.7,  22.5686,  35.3421,2,-999.0000,9,    216.3,2,   -999.0,9,  -999.00,9,  -999.00,9,  -999.00,9,    97.98,2,   -0.005,2,    0.000,2
  09AR20120105,  I09S,    91,  1,     20,     20,2,20120209,2319,-35.0563, 115.0070,  768,     44.8,  22.7036,  35.3215,2,  35.3206,2,    216.3,2,    216.2,2,     2.70,2,     0.00,2,     0.06,2,    97.86,2,    0.019,2,    0.000,2
  09AR20120105,  I09S,    91,  1,     19,     19,2,20120209,2319,-35.0563, 115.0070,  768,     72.2,  21.4433,  35.5091,2,-999.0000,9,    221.8,2,   -999.0,9,  -999.00,9,  -999.00,9,  -999.00,9,    98.54,2,   -0.036,2,    0.000,2
  09AR20120105,  I09S,    91,  1,     18,     18,2,20120209,2319,-35.0563, 115.0070,  768,     90.7,  20.6233,  35.5666,2,  35.5667,2,    222.8,2,    225.3,2,     2.30,2,     0.00,2,     0.05,2,    98.70,2,    0.015,2,    0.000,2
  09AR20120105,  I09S,    91,  1,     17,     17,2,20120209,2319,-35.0563, 115.0070,  768,    119.5,  18.3175,  35.6546,2,-999.0000,9,    231.7,2,   -999.0,9,  -999.00,9,  -999.00,9,  -999.00,9,    98.60,2,    0.207,2,    0.000,2
  09AR20120105,  I09S,    91,  1,     16,     16,2,20120209,2319,-35.0563, 115.0070,  768,    119.8,  18.3264,  35.6550,2,-999.0000,9,    231.7,2,   -999.0,9,  -999.00,9,  -999.00,9,  -999.00,9,    98.60,2,    0.196,2,    0.000,2
  09AR20120105,  I09S,    91,  1,     15,     15,2,20120209,2319,-35.0563, 115.0070,  768,    141.2,  17.5176,  35.6289,2,-999.0000,9,    235.8,2,   -999.0,9,  -999.00,9,  -999.00,9,  -999.00,9,    99.18,2,   -0.058,2,    0.000,2
  09AR20120105,  I09S,    91,  1,     14,     14,2,20120209,2319,-35.0563, 115.0070,  768,    140.7,  17.5448,  35.6274,2,  35.6293,2,    235.8,2,    238.0,2,     2.00,2,     0.00,2,     0.10,2,    99.19,2,   -0.031,2,    0.000,2
  09AR20120105,  I09S,    91,  1,     13,     13,2,20120209,2319,-35.0563, 115.0070,  768,    199.2,  15.3115,  35.4286,2,-999.0000,9,    238.8,2,   -999.0,9,  -999.00,9,  -999.00,9,  -999.00,9,    99.35,2,   -0.049,2,    0.000,2
  09AR20120105,  I09S,    91,  1,     12,     12,2,20120209,2319,-35.0563, 115.0070,  768,    199.3,  15.2950,  35.4279,2,  35.4283,2,    238.8,2,    238.2,2,     1.70,2,     1.38,2,     0.18,2,    99.36,2,   -0.067,2,    0.000,2
  09AR20120105,  I09S,    91,  1,     11,     11,2,20120209,2319,-35.0563, 115.0070,  768,    299.7,  13.1259,  35.1817,2,-999.0000,9,    240.1,2,   -999.0,9,  -999.00,9,  -999.00,9,  -999.00,9,    99.71,2,   -0.179,2,    0.000,2
  09AR20120105,  I09S,    91,  1,     10,     10,2,20120209,2319,-35.0563, 115.0070,  768,    299.9,  13.1262,  35.1815,2,  35.1823,2,    240.1,2,    240.2,2,     1.70,2,     4.99,2,     0.49,2,    99.70,2,   -0.188,2,    0.000,2
  09AR20120105,  I09S,    91,  1,      9,      9,2,20120209,2319,-35.0563, 115.0070,  768,    399.4,  10.6135,  34.8507,2,-999.0000,9,    237.1,2,   -999.0,9,  -999.00,9,  -999.00,9,  -999.00,9,    99.12,2,   -0.195,2,    0.000,2
  09AR20120105,  I09S,    91,  1,      8,      8,2,20120209,2319,-35.0563, 115.0070,  768,    399.8,  10.5938,  34.8479,2,  34.8481,2,    237.1,2,    238.4,2,     3.20,2,    12.21,2,  -999.00,9,    99.07,2,   -0.196,2,    0.000,2
  09AR20120105,  I09S,    91,  1,      7,      7,2,20120209,2319,-35.0563, 115.0070,  768,    399.9,  10.5885,  34.8493,2,-999.0000,9,    237.1,2,   -999.0,9,  -999.00,9,  -999.00,9,  -999.00,9,    99.04,2,   -0.197,2,    0.000,2
  09AR20120105,  I09S,    91,  1,      6,      6,2,20120209,2319,-35.0563, 115.0070,  768,    400.1,  10.4913,  34.8360,2,-999.0000,9,    237.1,2,   -999.0,9,  -999.00,9,  -999.00,9,  -999.00,9,    99.02,2,   -0.192,2,    0.000,2
  09AR20120105,  I09S,    91,  1,      5,      5,2,20120209,2319,-35.0563, 115.0070,  768,    551.7,   8.0233,  34.5315,2,-999.0000,9,    220.4,2,   -999.0,9,  -999.00,9,  -999.00,9,  -999.00,9,    98.73,2,   -0.196,2,    0.000,2
  09AR20120105,  I09S,    91,  1,      4,      4,2,20120209,2319,-35.0563, 115.0070,  768,    551.5,   8.0256,  34.5315,2,  34.5321,2,    220.4,2,    220.3,2,     9.80,2,    21.47,2,     1.47,2,    98.71,2,   -0.187,2,    0.000,2
  09AR20120105,  I09S,    91,  1,      3,      3,2,20120209,2319,-35.0563, 115.0070,  768,    673.0,   6.5289,  34.4309,2,-999.0000,9,    199.0,2,   -999.0,9,  -999.00,9,  -999.00,9,  -999.00,9,    98.56,2,   -0.189,2,    0.000,2
  09AR20120105,  I09S,    91,  1,      2,      2,2,20120209,2319,-35.0563, 115.0070,  768,    673.0,   6.5211,  34.4306,2,  34.4306,2,    199.0,2,    199.2,2,    18.90,2,    26.83,2,  -999.00,9,    98.56,2,   -0.189,2,    0.000,2
  09AR20120105,  I09S,    91,  1,      1,      1,2,20120209,2319,-35.0563, 115.0070,  768,    758.4,   5.4925,  34.3920,2,  34.3904,2,    196.0,2,    195.9,2,    26.80,2,    29.15,2,     1.98,2,    99.00,2,   -0.197,2,    0.000,2