BOTTLE,20220815CCHSIOAMB
EXPOCODE,SECT_ID,STNNBR,CASTNO,SAMPNO,BTLNBR,BTLNBR_FLAG_W,DATE,TIME,LATITUDE,LONGITUDE,DEPTH,CTDPRS,CTDTMP,CTDSAL,CTDSAL_FLAG_W,SALNTY,SALNTY_FLAG_W,CTDOXY,CTDOXY_FLAG_W,OXYGEN,OXYGEN_FLAG_W,SILCAT,SILCAT_FLAG_W,NITRAT,NITRAT_FLAG_W,PHSPHT,PHSPHT_FLAG_W,XMISS,XMISS_FLAG_W,FLUOR,FLUOR_FLAG_W,PAR,PAR_FLAG_W
,,,,,,,,,,,METERS,DBAR,ITS-90,PSS-78,,PSS-78,,UMOL/KG,,UMOL/KG,,UMOL/KG,,UMOL/KG,,UMOL/KG,,%TRANS,,VOLTS,,VOLTS,
  09AR20120105,  I09S,    37,  1,     24,     24,2,20120127,2247,-56.1928, 115.0040, 4486,    498.7,   2.2869,  34.5545,2,-999.0000,9,   -999.0,5,   -999.0,9,  -999.00,9,  -999.00,9,  -999.00,9,    97.60,2,   -0.178,2,    0.000,2
  09AR20120105,  I09S,    37,  1,     23,     23,2,20120127,2247,-56.1928, 115.0040, 4486,    498.8,   2.2872,  34.5549,2,-999.0000,9,   -999.0,5,   -999.0,9,  -999.00,9,  -999.00,9,  -999.00,9,    97.60,2,   -0.171,2,    0.000,2
  09AR20120105,  I09S,    37,  1,     22,     22,2,20120127,2247,-56.1928, 115.0040, 4486,    499.1,   2.2875,  34.5548,2,-999.0000,9,   -999.0,5,   -999.0,9,  -999.00,9,  -999.00,9,  -999.00,9,    97.60,2,   -0.177,2,    0.000,2
  09AR20120105,  I09S,    37,  1,     21,     21,2,20120127,2247,-56.1928, 115.0040, 4486,    498.5,   2.2869,  34.5546,2,-999.0000,9,   -999.0,5,   -999.0,9,  -999.00,9,  -999.00,9,  -999.00,9,    97.60,2,   -0.182,2,    0.000,2
  09AR20120105,  I09S,    37,  1,     20,     20,2,20120127,2247,-56.1928, 115.0040, 4486,    498.7,   2.2872,  34.5548,2,-999.0000,9,   -999.0,5,   -999.0,9,  -999.00,9,  -999.00,9,  -999.00,9,    97.60,2,   -0.181,2,    0.000,2
  09AR20120105,  I09S,    37,  1,     19,     19,2,20120127,2247,-56.1928, 115.0040, 4486,    499.0,   2.2873,  34.5548,2,-999.0000,9,   -999.0,5,   -999.0,9,  -999.00,9,  -999.00,9,  -999.00,9,    97.60,2,   -0.180,2,    0.000,2
  09AR20120105,  I09S,    37,  1,     18,     18,2,20120127,2247,-56.1928, 115.0040, 4486,    498.6,   2.2873,  34.5549,2,-999.0000,9,   -999.0,5,   -999.0,9,  -999.00,9,  -999.00,9,  -999.00,9,    97.60,2,   -0.180,2,    0.000,2
  09AR20120105,  I09S,    37,  1,     17,     17,2,20120127,2247,-56.1928, 115.0040, 4486,    498.3,   2.2883,  34.5553,2,-999.0000,9,   -999.0,5,   -999.0,9,  -999.00,9,  -999.00,9,  -999.00,9,    97.60,2,   -0.176,2,    0.000,2
  09AR20120105,  I09S,    37,  1,     16,     16,2,20120127,2247,-56.1928, 115.0040, 4486,    498.8,   2.2884,  34.5555,2,-999.0000,9,   -999.0,5,   -999.0,9,  -999.00,9,  -999.00,9,  -999.00,9,    97.60,2,   -0.186,2,    0.000,2
  09AR20120105,  I09S,    37,  1,     15,     15,2,20120127,2247,-56.1928, 115.0040, 4486,    498.9,   2.2884,  34.5556,2,-999.0000,9,   -999.0,5,   -999.0,9,  -999.00,9,  -999.00,9,  -999.00,9,    97.60,2,   -0.178,2,    0.000,2
  09AR20120105,  I09S,    37,  1,     14,     14,2,20120127,2247,-56.1928, 115.0040, 4486,    498.6,   2.2885,  34.5557,2,-999.0000,9,   -999.0,5,   -999.0,9,  -999.00,9,  -999.00,9,  -999.00,9,    97.60,2,   -0.176,2,    0.000,2
  09AR20120105,  I09S,    37,  1,     13,     13,2,20120127,2247,-56.1928, 115.0040, 4486,    498.8,   2.2886,  34.5561,2,-999.0000,9,   -999.0,5,   -999.0,9,  -999.00,9,  -999.00,9,  -999.00,9,    97.59,2,   -0.177,2,    0.000,2
  09AR20120105,  I09S,    37,  1,     12,     12,2,20120127,2247,-56.1928, 115.0040, 4486,    498.9,   2.2884,  34.5565,2,-999.0000,9,   -999.0,5,   -999.0,9,  -999.00,9,  -999.00,9,  -999.00,9,    97.60,2,   -0.173,2,    0.000,2
  09AR20120105,  I09S,    37,  1,     11,     11,2,20120127,2247,-56.1928, 115.0040, 4486,   1001.2,   2.0595,  34.7238,2,-999.0000,9,   -999.0,5,   -999.0,9,  -999.00,9,  -999.00,9,  -999.00,9,    97.57,2,   -0.177,2,    0.000,2
  09AR20120105,  I09S,    37,  1,     10,     10,2,20120127,2247,-56.1928, 115.0040, 4486,   1001.5,   2.0594,  34.7239,2,-999.0000,9,   -999.0,5,   -999.0,9,  -999.00,9,  -999.00,9,  -999.00,9,    97.57,2,   -0.181,2,    0.000,2
  09AR20120105,  I09S,    37,  1,      9,      9,2,20120127,2247,-56.1928, 115.0040, 4486,   1001.6,   2.0594,  34.7239,2,-999.0000,9,   -999.0,5,   -999.0,9,  -999.00,9,  -999.00,9,  -999.00,9,    97.58,2,   -0.181,2,    0.000,2
  09AR20120105,  I09S,    37,  1,      8,      8,2,20120127,2247,-56.1928, 115.0040, 4486,   1001.5,   2.0594,  34.7238,2,-999.0000,9,   -999.0,5,   -999.0,9,  -999.00,9,  -999.00,9,  -999.00,9,    97.58,2,   -0.184,2,    0.000,2
  09AR20120105,  I09S,    37,  1,      7,      7,2,20120127,2247,-56.1928, 115.0040, 4486,   1001.4,   2.0594,  34.7238,2,-999.0000,9,   -999.0,5,   -999.0,9,  -999.00,9,  -999.00,9,  -999.00,9,    97.58,2,   -0.179,2,    0.000,2
  09AR20120105,  I09S,    37,  1,      6,      6,2,20120127,2247,-56.1928, 115.0040, 4486,   1001.4,   2.0592,  34.7239,2,-999.0000,9,   -999.0,5,   -999.0,9,  -999.00,9,  -999.00,9,  -999.00,9,    97.58,2,   -0.177,2,    0.000,2
  09AR20120105,  I09S,    37,  1,      5,      5,2,20120127,2247,-56.1928, 115.0040, 4486,   1001.3,   2.0593,  34.7240,2,-999.0000,9,   -999.0,5,   -999.0,9,  -999.00,9,  -999.00,9,  -999.00,9,    97.58,2,   -0.180,2,    0.000,2
  09AR20120105,  I09S,    37,  1,      4,      4,2,20120127,2247,-56.1928, 115.0040, 4486,   1000.9,   2.0594,  34.7239,2,-999.0000,9,   -999.0,5,   -999.0,9,  -999.00,9,  -999.00,9,  -999.00,9,    97.59,2,   -0.177,2,    0.000,2
  09AR20120105,  I09S,    37,  1,      3,      3,2,20120127,2247,-56.1928, 115.0040, 4486,   1000.9,   2.0595,  34.7238,2,-999.0000,9,   -999.0,5,   -999.0,9,  -999.00,9,  -999.00,9,  -999.00,9,    97.59,2,   -0.176,2,    0.000,2
  09AR20120105,  I09S,    37,  1,      2,      2,2,20120127,2247,-56.1928, 115.0040, 4486,   1001.1,   2.0595,  34.7239,2,-999.0000,9,   -999.0,5,   -999.0,9,  -999.00,9,  -999.00,9,  -999.00,9,    97.59,2,   -0.175,2,    0.000,2
  09AR20120105,  I09S,    37,  1,      1,      1,2,20120127,2247,-56.1928, 115.0040, 4486,   1000.9,   2.0602,  34.7235,2,-999.0000,9,   -999.0,5,   -999.0,9,  -999.00,9,  -999.00,9,  -999.00,9,    97.59,2,   -0.182,2,    0.000,2
  09AR20120105,  I09S,    38,  1,     24,     24,2,20120128,0027,-56.2015, 115.0040, 4651,     10.3,   3.7396,  33.8381,2,  33.8406,2,    321.2,2,    319.0,2,    11.40,2,    25.00,2,     1.65,2,    96.67,2,    0.169,2,  131.600,2
  09AR20120105,  I09S,    38,  1,     23,     23,2,20120128,0027,-56.2015, 115.0040, 4651,     30.2,   3.6551,  33.8395,2,-999.0000,9,    320.7,2,   -999.0,9,  -999.00,9,  -999.00,9,  -999.00,9,    96.35,2,    0.556,2,   40.350,2
  09AR20120105,  I09S,    38,  1,     22,     22,2,20120128,0027,-56.2015, 115.0040, 4651,     30.0,   3.6507,  33.8397,2,-999.0000,9,    320.7,2,   -999.0,9,  -999.00,9,  -999.00,9,  -999.00,9,    96.43,2,    0.549,2,   41.750,2
  09AR20120105,  I09S,    38,  1,     21,     21,2,20120128,0027,-56.2015, 115.0040, 4651,     30.2,   3.6436,  33.8397,2,  33.8408,2,    320.7,2,    319.2,2,    11.70,2,    24.96,2,     1.66,2,    96.33,2,    0.510,2,   42.500,2
  09AR20120105,  I09S,    38,  1,     20,     20,2,20120128,0027,-56.2015, 115.0040, 4651,     71.5,   3.1264,  33.8530,2,  33.8562,2,    321.3,2,    322.1,2,    14.80,2,    25.46,2,     1.72,2,    96.50,2,    0.808,2,    5.682,2
  09AR20120105,  I09S,    38,  1,     19,     19,2,20120128,0027,-56.2015, 115.0040, 4651,    110.5,   2.0783,  33.8796,2,  33.8807,2,    325.0,2,    327.8,2,    19.80,2,    26.14,2,     1.81,2,    97.76,2,    0.345,2,    0.853,2
  09AR20120105,  I09S,    38,  1,     18,     18,2,20120128,0027,-56.2015, 115.0040, 4651,    159.0,   1.3703,  33.9504,2,  33.9508,2,    296.2,2,    312.7,2,    27.00,2,    28.97,2,     1.96,2,    97.85,2,   -0.127,2,    0.090,2
  09AR20120105,  I09S,    38,  1,     17,     17,2,20120128,0027,-56.2015, 115.0040, 4651,    251.7,   1.9389,  34.2629,2,  34.2634,2,    228.4,2,    226.8,2,    51.70,2,    33.67,2,     2.29,2,    97.90,2,   -0.183,2,    0.000,2
  09AR20120105,  I09S,    38,  1,     16,     16,2,20120128,0027,-56.2015, 115.0040, 4651,    401.9,   2.2322,  34.4730,2,  34.4724,2,    184.7,2,    184.6,2,    68.00,2,    34.71,2,     2.37,2,    97.60,2,   -0.179,2,    0.000,2
  09AR20120105,  I09S,    38,  1,     15,     15,2,20120128,0027,-56.2015, 115.0040, 4651,    550.1,   2.2790,  34.5886,2,  34.5895,2,    176.9,2,    177.1,2,    74.50,2,    33.81,2,     2.30,2,    97.59,2,   -0.176,2,    0.000,2
  09AR20120105,  I09S,    38,  1,     14,     14,2,20120128,0027,-56.2015, 115.0040, 4651,    701.7,   2.2084,  34.6524,2,  34.6525,2,    178.4,2,    178.9,2,    78.10,2,    32.87,2,     2.26,2,    97.58,2,   -0.174,2,    0.000,2
  09AR20120105,  I09S,    38,  1,     13,     13,2,20120128,0027,-56.2015, 115.0040, 4651,    851.5,   2.1380,  34.6928,2,  34.6932,2,    182.7,2,    182.9,2,    80.30,2,    32.00,2,     2.19,2,    97.56,2,   -0.180,2,    0.000,2
  09AR20120105,  I09S,    38,  1,     12,     12,2,20120128,0027,-56.2015, 115.0040, 4651,   1000.0,   2.0541,  34.7210,2,  34.7219,2,    187.9,2,    187.6,2,    82.60,2,    31.25,2,     2.14,2,    97.55,2,   -0.179,2,    0.000,2
  09AR20120105,  I09S,    38,  1,     11,     11,2,20120128,0027,-56.2015, 115.0040, 4651,   1252.6,   1.9169,  34.7437,2,  34.7435,2,    194.1,2,    193.7,2,    86.20,2,    30.46,2,     2.10,2,    97.50,2,   -0.180,2,    0.000,2
  09AR20120105,  I09S,    38,  1,     10,     10,2,20120128,0027,-56.2015, 115.0040, 4651,   1601.6,   1.5778,  34.7424,2,  34.7451,2,    199.0,2,    199.0,2,    95.70,2,    30.61,2,     2.11,2,    97.42,2,   -0.177,2,    0.000,2
  09AR20120105,  I09S,    38,  1,      9,      9,2,20120128,0027,-56.2015, 115.0040, 4651,   1951.1,   1.2837,  34.7316,2,  34.7321,2,    202.8,2,    202.6,2,   104.70,2,    31.00,2,     2.14,2,    97.36,2,   -0.178,2,    0.000,2
  09AR20120105,  I09S,    38,  1,      8,      8,2,20120128,0027,-56.2015, 115.0040, 4651,   2299.6,   0.9924,  34.7168,2,  34.7168,2,    206.8,2,    206.2,2,   113.40,2,    31.55,2,     2.19,2,    97.29,2,   -0.185,2,    0.000,2
  09AR20120105,  I09S,    38,  1,      7,      7,2,20120128,0027,-56.2015, 115.0040, 4651,   2700.6,   0.6440,  34.6991,2,  34.6999,2,    212.4,2,    212.0,2,   122.80,2,    32.04,2,     2.23,2,    97.24,2,   -0.183,2,    0.000,2
  09AR20120105,  I09S,    38,  1,      6,      6,2,20120128,0027,-56.2015, 115.0040, 4651,   3101.2,   0.4180,  34.6882,2,  34.6875,2,    218.1,2,   -999.0,9,   129.00,2,    31.96,3,     2.23,2,    97.19,2,   -0.181,2,    0.000,2
  09AR20120105,  I09S,    38,  1,      5,      5,2,20120128,0027,-56.2015, 115.0040, 4651,   3501.1,   0.2735,  34.6808,2,  34.6800,2,    222.4,2,    221.5,2,   132.70,2,    31.93,3,     2.24,2,    97.18,2,   -0.182,2,    0.000,2
  09AR20120105,  I09S,    38,  1,      4,      4,2,20120128,0027,-56.2015, 115.0040, 4651,   3898.6,   0.1695,  34.6752,2,  34.6743,2,    226.0,2,    225.5,2,   136.10,2,    32.43,2,     2.26,2,    97.16,2,   -0.181,2,    0.000,2
  09AR20120105,  I09S,    38,  1,      3,      3,2,20120128,0027,-56.2015, 115.0040, 4651,   4249.9,   0.0940,  34.6707,2,  34.6702,2,    229.8,2,    228.9,2,   135.20,2,    32.51,2,     2.26,2,    97.15,2,   -0.180,2,    0.000,2
  09AR20120105,  I09S,    38,  1,      2,      2,2,20120128,0027,-56.2015, 115.0040, 4651,   4599.7,   0.0401,  34.6651,2,  34.6649,2,    232.9,2,    232.5,2,   137.30,2,    32.44,2,     2.26,2,    97.16,2,   -0.184,2,    0.000,2
  09AR20120105,  I09S,    38,  1,      1,      1,2,20120128,0027,-56.2015, 115.0040, 4651,   4732.7,   0.0444,  34.6642,2,  34.6637,2,    233.2,2,    232.6,2,   137.50,2,    32.39,2,     2.26,2,    97.16,2,   -0.183,2,    0.000,2
  09AR20120105,  I09S,    39,  1,     24,     24,2,20120128,0718,-55.5995, 115.0130, 4608,      7.6,   4.1565,  33.8334,2,  33.8341,2,    317.1,2,    316.4,2,     9.50,2,    24.75,2,     1.61,2,    96.68,2,    0.142,2,  100.900,2
  09AR20120105,  I09S,    39,  1,     23,     23,2,20120128,0718,-55.5995, 115.0130, 4608,     34.1,   4.1438,  33.8331,2,-999.0000,9,    317.2,2,   -999.0,9,  -999.00,9,  -999.00,9,  -999.00,9,    96.43,2,    0.682,2,   14.410,2
  09AR20120105,  I09S,    39,  1,     22,     22,2,20120128,0718,-55.5995, 115.0130, 4608,     34.0,   4.1451,  33.8331,2,-999.0000,9,    317.2,2,   -999.0,9,  -999.00,9,  -999.00,9,  -999.00,9,    96.42,2,    0.693,2,   14.080,2
  09AR20120105,  I09S,    39,  1,     21,     21,2,20120128,0718,-55.5995, 115.0130, 4608,     34.2,   4.1461,  33.8332,2,  33.8337,2,    317.2,2,    316.5,2,     9.40,2,    24.78,2,     1.61,2,    96.38,2,    0.670,2,   14.340,2
  09AR20120105,  I09S,    39,  1,     20,     20,2,20120128,0718,-55.5995, 115.0130, 4608,     85.6,   4.0912,  33.8325,2,  33.8333,2,    316.9,2,    315.9,2,     9.60,2,    24.80,2,     1.61,2,    96.81,2,    0.834,2,    0.724,2
  09AR20120105,  I09S,    39,  1,     19,     19,2,20120128,0718,-55.5995, 115.0130, 4608,    118.9,   3.2415,  33.8561,2,  33.8572,2,    316.5,2,    318.8,2,    13.70,2,    25.67,2,     1.75,2,    97.15,2,    0.469,2,    0.108,2
  09AR20120105,  I09S,    39,  1,     18,     18,2,20120128,0718,-55.5995, 115.0130, 4608,    173.6,   1.8823,  33.9537,2,  33.9542,2,    306.6,2,    304.6,2,    23.60,2,    28.81,2,     1.93,2,    97.94,2,   -0.177,2,    0.000,2
  09AR20120105,  I09S,    39,  1,     17,     17,2,20120128,0718,-55.5995, 115.0130, 4608,    300.2,   2.0156,  34.2390,2,  34.2425,2,    232.0,2,    231.8,2,    48.50,2,    33.30,2,     2.25,2,    97.88,2,   -0.186,2,    0.000,2
  09AR20120105,  I09S,    39,  1,     16,     16,2,20120128,0718,-55.5995, 115.0130, 4608,    549.9,   2.3090,  34.5317,2,  34.5315,2,    178.9,2,    178.8,2,    71.20,2,    34.28,2,     2.33,2,    97.61,2,   -0.178,2,    0.000,2
  09AR20120105,  I09S,    39,  1,     15,     15,2,20120128,0718,-55.5995, 115.0130, 4608,    677.9,   2.2870,  34.6056,2,  34.6071,2,    177.4,2,    177.2,2,    75.10,2,    33.49,2,     2.28,2,    97.60,2,   -0.177,2,    0.000,2
  09AR20120105,  I09S,    39,  1,     14,     14,2,20120128,0718,-55.5995, 115.0130, 4608,    900.4,   2.1998,  34.6833,2,  34.6838,2,    181.4,2,    181.8,2,    78.80,2,    32.13,2,     2.19,2,    97.58,2,   -0.176,2,    0.000,2
  09AR20120105,  I09S,    39,  1,     13,     13,2,20120128,0718,-55.5995, 115.0130, 4608,   1201.0,   1.9976,  34.7323,2,  34.7329,2,    190.6,2,    190.2,2,    83.90,2,    30.95,2,     2.11,2,    97.53,2,   -0.181,2,    0.000,2
  09AR20120105,  I09S,    39,  1,     12,     12,2,20120128,0718,-55.5995, 115.0130, 4608,   1498.6,   1.7755,  34.7455,2,  34.7459,2,    196.2,2,    196.4,2,    90.20,2,    30.53,2,     2.09,2,    97.47,2,   -0.174,2,    0.000,2
  09AR20120105,  I09S,    39,  1,     11,     11,2,20120128,0718,-55.5995, 115.0130, 4608,   1802.2,   1.5108,  34.7411,2,  34.7421,2,    200.4,2,    200.3,2,    97.60,2,    30.71,2,     2.09,2,    97.42,2,   -0.180,2,    0.000,2
  09AR20120105,  I09S,    39,  1,     10,     10,2,20120128,0718,-55.5995, 115.0130, 4608,   2103.2,   1.2504,  34.7299,2,  34.7319,2,    203.1,2,    203.3,2,   105.80,2,    31.18,2,     2.14,2,    97.39,2,   -0.177,2,    0.000,2
  09AR20120105,  I09S,    39,  1,      9,      9,2,20120128,0718,-55.5995, 115.0130, 4608,   2497.8,   0.9203,  34.7129,2,  34.7135,2,    207.4,2,    207.4,2,   115.40,2,    31.76,2,     2.19,2,    97.29,2,   -0.181,2,    0.000,2
  09AR20120105,  I09S,    39,  1,      8,      8,2,20120128,0718,-55.5995, 115.0130, 4608,   2699.4,   0.7405,  34.7037,2,  34.7040,2,    210.4,2,    210.4,2,   120.30,2,    32.09,2,     2.21,2,    97.25,2,   -0.182,2,    0.000,2
  09AR20120105,  I09S,    39,  1,      7,      7,2,20120128,0718,-55.5995, 115.0130, 4608,   3101.3,   0.4617,  34.6898,2,  34.6893,2,    216.3,2,    216.2,2,   127.10,2,    32.36,2,     2.23,2,    97.21,2,   -0.178,2,    0.000,2
  09AR20120105,  I09S,    39,  1,      6,      6,2,20120128,0718,-55.5995, 115.0130, 4608,   3400.9,   0.3412,  34.6839,2,  34.6832,2,    219.6,2,    219.6,2,   130.80,2,    32.47,2,     2.24,2,    97.19,2,   -0.186,2,    0.000,2
  09AR20120105,  I09S,    39,  1,      5,      5,2,20120128,0718,-55.5995, 115.0130, 4608,   3697.0,   0.2635,  34.6796,2,  34.6792,2,    222.3,2,    222.4,2,   134.50,2,    32.50,2,     2.24,2,    97.18,2,   -0.178,2,    0.000,2
  09AR20120105,  I09S,    39,  1,      4,      4,2,20120128,0718,-55.5995, 115.0130, 4608,   3998.8,   0.2171,  34.6767,2,  34.6763,2,    224.2,2,    224.2,2,   136.00,2,    32.48,2,     2.26,2,    97.18,2,   -0.179,2,    0.000,2
  09AR20120105,  I09S,    39,  1,      3,      3,2,20120128,0718,-55.5995, 115.0130, 4608,   4299.8,   0.1625,  34.6733,2,  34.6722,2,    226.7,2,    226.5,2,   137.60,2,    32.45,2,     2.25,2,    97.17,2,   -0.189,2,    0.000,2
  09AR20120105,  I09S,    39,  1,      2,      2,2,20120128,0718,-55.5995, 115.0130, 4608,   4499.1,   0.1420,  34.6713,2,  34.6710,2,    228.0,2,    227.9,2,   137.80,2,    32.46,2,     2.25,2,    97.16,2,   -0.182,2,    0.000,2
  09AR20120105,  I09S,    39,  1,      1,      1,2,20120128,0718,-55.5995, 115.0130, 4608,   4692.3,   0.1409,  34.6700,2,  34.6696,2,    229.0,2,    228.6,2,   137.70,2,    32.42,2,     2.24,2,    97.17,2,   -0.182,2,    0.000,2