BOTTLE,20220815CCHSIOAMB
EXPOCODE,SECT_ID,STNNBR,CASTNO,SAMPNO,BTLNBR,BTLNBR_FLAG_W,DATE,TIME,LATITUDE,LONGITUDE,DEPTH,CTDPRS,CTDTMP,CTDSAL,CTDSAL_FLAG_W,SALNTY,SALNTY_FLAG_W,CTDOXY,CTDOXY_FLAG_W,OXYGEN,OXYGEN_FLAG_W,SILCAT,SILCAT_FLAG_W,NITRAT,NITRAT_FLAG_W,PHSPHT,PHSPHT_FLAG_W,XMISS,XMISS_FLAG_W,FLUOR,FLUOR_FLAG_W,PAR,PAR_FLAG_W
,,,,,,,,,,,METERS,DBAR,ITS-90,PSS-78,,PSS-78,,UMOL/KG,,UMOL/KG,,UMOL/KG,,UMOL/KG,,UMOL/KG,,%TRANS,,VOLTS,,VOLTS,
  09AR20120105,  I09S,    31,  1,     24,     24,2,20120125,0732,-59.8112, 115.0430, 4495,     10.6,   2.5737,  33.8599,2,  33.8582,2,    326.5,2,    326.1,2,    15.80,2,    26.01,2,     1.71,2,    96.16,2,    0.202,2,   86.920,2
  09AR20120105,  I09S,    31,  1,     23,     23,2,20120125,0732,-59.8112, 115.0430, 4495,     44.5,   2.5159,  33.8594,2,-999.0000,9,    326.6,2,   -999.0,9,  -999.00,9,  -999.00,9,  -999.00,9,    96.08,2,    0.764,2,   10.360,2
  09AR20120105,  I09S,    31,  1,     22,     22,2,20120125,0732,-59.8112, 115.0430, 4495,     44.5,   2.5222,  33.8594,2,-999.0000,9,    326.6,2,   -999.0,9,  -999.00,9,  -999.00,9,  -999.00,9,    96.01,2,    0.790,2,   10.510,2
  09AR20120105,  I09S,    31,  1,     21,     21,2,20120125,0732,-59.8112, 115.0430, 4495,     44.4,   2.5278,  33.8595,2,  33.8586,2,    326.6,2,    325.9,2,    15.80,2,    26.00,2,     1.72,2,    95.84,2,    0.766,2,   10.610,2
  09AR20120105,  I09S,    31,  1,     20,     20,2,20120125,0732,-59.8112, 115.0430, 4495,     70.3,   2.3398,  33.8634,2,  33.8656,2,    326.4,2,    326.1,2,    16.40,2,    26.15,2,     1.74,2,    96.50,2,    0.924,2,    2.741,2
  09AR20120105,  I09S,    31,  1,     19,     19,2,20120125,0732,-59.8112, 115.0430, 4495,     99.0,   0.8479,  33.9096,2,  33.9193,2,    328.8,2,    330.6,2,    24.10,2,    27.87,2,     1.92,2,    97.78,2,    0.336,2,    0.655,2
  09AR20120105,  I09S,    31,  1,     18,     18,2,20120125,0732,-59.8112, 115.0430, 4495,    130.6,   0.5498,  33.9325,2,  33.9393,2,    328.2,2,    327.2,2,    26.90,2,    28.66,2,     1.97,2,    97.83,2,    0.009,2,    0.149,2
  09AR20120105,  I09S,    31,  1,     17,     17,2,20120125,0732,-59.8112, 115.0430, 4495,    374.7,   2.2338,  34.5029,2,  34.5091,2,    180.4,2,    179.5,2,    71.10,2,    34.78,2,     2.36,2,    97.62,2,   -0.183,2,    0.000,2
  09AR20120105,  I09S,    31,  1,     16,     16,2,20120125,0732,-59.8112, 115.0430, 4495,    475.8,   2.1715,  34.5710,2,  34.5706,2,    176.9,2,    177.5,2,    75.40,2,    34.16,2,     2.32,2,    97.62,2,   -0.181,2,    0.000,2
  09AR20120105,  I09S,    31,  1,     15,     15,2,20120125,0732,-59.8112, 115.0430, 4495,    574.6,   2.2098,  34.6379,2,  34.6370,2,    176.9,2,    176.0,2,    78.50,2,    33.41,2,     2.29,2,    97.62,2,   -0.176,2,    0.000,2
  09AR20120105,  I09S,    31,  1,     14,     14,2,20120125,0732,-59.8112, 115.0430, 4495,    801.6,   2.0829,  34.7001,2,  34.7019,2,    182.6,2,    183.0,2,    82.10,2,    32.12,2,     2.19,2,    97.60,2,   -0.179,2,    0.000,2
  09AR20120105,  I09S,    31,  1,     13,     13,2,20120125,0732,-59.8112, 115.0430, 4495,   1099.9,   1.9258,  34.7383,2,  34.7372,2,    190.6,2,    191.2,2,    86.40,2,    31.00,2,     2.10,2,    97.55,2,   -0.179,2,    0.000,2
  09AR20120105,  I09S,    31,  1,     12,     12,2,20120125,0732,-59.8112, 115.0430, 4495,   1349.1,   1.7299,  34.7448,2,  34.7449,2,    195.8,2,    196.0,2,    91.60,2,    30.78,2,     2.11,2,    97.50,2,   -0.178,2,    0.000,2
  09AR20120105,  I09S,    31,  1,     11,     11,2,20120125,0732,-59.8112, 115.0430, 4495,   1700.2,   1.4088,  34.7374,2,  34.7353,2,    200.5,2,    200.8,2,   100.80,2,    30.99,2,     2.12,2,    97.42,2,   -0.185,2,    0.000,2
  09AR20120105,  I09S,    31,  1,     10,     10,2,20120125,0732,-59.8112, 115.0430, 4495,   2000.1,   1.1462,  34.7258,2,  34.7274,2,    203.9,2,    204.0,2,   109.00,2,    31.38,2,     2.17,2,    97.37,2,   -0.183,2,    0.000,2
  09AR20120105,  I09S,    31,  1,      9,      9,2,20120125,0732,-59.8112, 115.0430, 4495,   2299.6,   0.8933,  34.7124,2,  34.7142,2,    207.1,2,    206.9,2,   116.00,2,    31.87,2,     2.21,2,    97.32,2,   -0.177,2,    0.000,2
  09AR20120105,  I09S,    31,  1,      8,      8,2,20120125,0732,-59.8112, 115.0430, 4495,   2600.2,   0.6850,  34.7012,2,  34.7015,2,    210.5,2,    210.1,2,   121.50,2,    32.24,2,     2.22,2,    97.28,2,   -0.178,2,    0.000,2
  09AR20120105,  I09S,    31,  1,      7,      7,2,20120125,0732,-59.8112, 115.0430, 4495,   2899.5,   0.4784,  34.6915,2,  34.6904,2,    215.0,2,    215.2,2,   127.00,2,    32.49,2,     2.25,2,    97.24,2,   -0.183,2,    0.000,2
  09AR20120105,  I09S,    31,  1,      6,      6,2,20120125,0732,-59.8112, 115.0430, 4495,   3199.9,   0.3345,  34.6847,2,  34.6844,2,    219.2,2,    219.2,2,   129.20,2,    32.55,2,     2.26,2,    97.21,2,   -0.178,2,    0.000,2
  09AR20120105,  I09S,    31,  1,      5,      5,2,20120125,0732,-59.8112, 115.0430, 4495,   3600.4,   0.2048,  34.6787,2,  34.6787,2,    223.6,2,    223.3,2,   132.00,2,    32.51,2,     2.26,2,    97.20,2,   -0.182,2,    0.000,2
  09AR20120105,  I09S,    31,  1,      4,      4,2,20120125,0732,-59.8112, 115.0430, 4495,   3900.7,   0.1239,  34.6743,2,  34.6734,2,    226.6,2,    226.6,2,   133.50,2,    32.46,2,     2.26,2,    97.19,2,   -0.176,2,    0.000,2
  09AR20120105,  I09S,    31,  1,      3,      3,2,20120125,0732,-59.8112, 115.0430, 4495,   4198.7,   0.0544,  34.6698,2,  34.6714,2,    229.5,2,    230.4,2,   134.50,2,    32.40,2,     2.25,2,    97.17,2,   -0.181,2,    0.000,2
  09AR20120105,  I09S,    31,  1,      2,      2,2,20120125,0732,-59.8112, 115.0430, 4495,   4531.4,  -0.0309,  34.6610,2,  34.6645,2,    233.8,2,    234.5,2,   135.80,2,    32.24,2,     2.24,2,    97.14,2,   -0.184,2,    0.000,2
  09AR20120105,  I09S,    31,  1,      1,      1,2,20120125,0732,-59.8112, 115.0430, 4495,   4575.4,  -0.0794,  34.6558,2,  34.6547,2,    236.2,2,    236.4,2,   136.40,2,    32.25,2,     2.24,2,    97.15,2,   -0.177,2,    0.000,2
  09AR20120105,  I09S,    32,  1,     24,     24,2,20120125,1415,-59.2067, 115.0000, 4524,      4.6,   2.1511,  33.8635,2,  33.8651,2,    330.1,2,    330.6,2,    19.20,2,    26.09,2,     1.71,2,    95.86,2,    1.157,2,    0.094,2
  09AR20120105,  I09S,    32,  1,     23,     23,2,20120125,1415,-59.2067, 115.0000, 4524,     40.2,   2.0814,  33.8636,2,-999.0000,9,    330.2,2,   -999.0,9,  -999.00,9,  -999.00,9,  -999.00,9,    95.72,2,    1.274,2,    0.000,2
  09AR20120105,  I09S,    32,  1,     22,     22,2,20120125,1415,-59.2067, 115.0000, 4524,     40.1,   2.0825,  33.8635,2,-999.0000,9,    330.2,2,   -999.0,9,  -999.00,9,  -999.00,9,  -999.00,9,    95.71,2,    1.352,2,    0.000,2
  09AR20120105,  I09S,    32,  1,     21,     21,2,20120125,1415,-59.2067, 115.0000, 4524,     40.2,   2.0867,  33.8634,2,  33.8647,2,    330.2,2,   -999.0,9,    19.30,2,    26.09,2,     1.72,2,    95.80,2,    1.321,2,    0.000,2
  09AR20120105,  I09S,    32,  1,     20,     20,2,20120125,1415,-59.2067, 115.0000, 4524,     65.1,   1.8054,  33.8716,2,  33.8723,2,    332.8,2,    332.3,2,    20.60,2,    26.18,2,     1.73,2,    95.58,2,    1.693,2,    0.000,2
  09AR20120105,  I09S,    32,  1,     19,     19,2,20120125,1415,-59.2067, 115.0000, 4524,     84.7,   0.7797,  33.9065,2,  33.9026,2,    335.8,2,    336.2,2,    23.40,2,    27.27,2,     1.90,2,    97.14,2,    0.998,2,    0.000,2
  09AR20120105,  I09S,    32,  1,     18,     18,2,20120125,1415,-59.2067, 115.0000, 4524,    110.7,   0.1858,  33.9445,2,  33.9451,2,    330.5,2,    330.4,2,    29.10,2,    28.79,2,     1.98,2,    97.94,2,    0.086,2,    0.000,2
  09AR20120105,  I09S,    32,  1,     17,     17,2,20120125,1415,-59.2067, 115.0000, 4524,    221.3,   1.9214,  34.3746,2,  34.3772,2,    203.7,2,    201.6,2,    63.00,2,    34.55,2,     2.37,2,    97.81,2,   -0.174,2,    0.000,2
  09AR20120105,  I09S,    32,  1,     16,     16,2,20120125,1415,-59.2067, 115.0000, 4524,    350.7,   2.1715,  34.5357,2,  34.5360,2,    176.8,2,    176.7,2,    73.80,2,    34.61,2,     2.38,2,    97.61,2,   -0.179,2,    0.000,2
  09AR20120105,  I09S,    32,  1,     15,     15,2,20120125,1415,-59.2067, 115.0000, 4524,    480.0,   2.1917,  34.6176,2,  34.6248,2,    174.9,2,    175.3,2,    78.00,2,  -999.00,9,     2.30,2,    97.60,2,   -0.177,2,    0.000,2
  09AR20120105,  I09S,    32,  1,     14,     14,2,20120125,1415,-59.2067, 115.0000, 4524,    700.6,   2.0953,  34.6921,2,  34.6926,2,    180.5,2,    181.4,2,    81.80,2,    32.21,2,     2.21,2,    97.58,2,   -0.181,2,    0.000,2
  09AR20120105,  I09S,    32,  1,     13,     13,2,20120125,1415,-59.2067, 115.0000, 4524,    899.9,   1.9937,  34.7231,2,  34.7227,2,    186.4,2,    187.4,2,    84.50,2,    31.48,2,     2.17,2,    97.56,2,   -0.180,2,    0.000,2
  09AR20120105,  I09S,    32,  1,     12,     12,2,20120125,1415,-59.2067, 115.0000, 4524,   1198.2,   1.7877,  34.7443,2,  34.7477,2,    194.5,2,    194.8,2,    90.10,2,    30.87,2,     2.11,2,    97.50,2,   -0.181,2,    0.000,2
  09AR20120105,  I09S,    32,  1,     11,     11,2,20120125,1415,-59.2067, 115.0000, 4524,   1549.6,   1.4781,  34.7398,2,  34.7421,2,    199.7,2,    199.7,2,    98.10,2,    30.92,2,     2.12,2,    97.44,2,   -0.176,2,    0.000,2
  09AR20120105,  I09S,    32,  1,     10,     10,2,20120125,1415,-59.2067, 115.0000, 4524,   1901.7,   1.1728,  34.7268,2,  34.7270,2,    203.6,2,    203.4,2,   107.00,2,    31.20,2,     2.17,2,    97.39,2,   -0.177,2,    0.000,2
  09AR20120105,  I09S,    32,  1,      9,      9,2,20120125,1415,-59.2067, 115.0000, 4524,   2198.7,   0.9501,  34.7152,2,  34.7164,2,    206.2,2,    206.2,2,   113.60,2,    31.60,2,     2.19,2,    97.32,2,   -0.178,2,    0.000,2
  09AR20120105,  I09S,    32,  1,      8,      8,2,20120125,1415,-59.2067, 115.0000, 4524,   2499.2,   0.7212,  34.7024,2,  34.7056,2,    209.9,2,    209.2,2,   119.50,2,    32.05,2,     2.23,2,    97.28,2,   -0.181,2,    0.000,2
  09AR20120105,  I09S,    32,  1,      7,      7,2,20120125,1415,-59.2067, 115.0000, 4524,   2798.6,   0.5210,  34.6930,2,  34.6942,2,    214.1,2,    213.8,2,   124.40,2,    32.27,2,     2.23,2,    97.25,2,   -0.186,2,    0.000,2
  09AR20120105,  I09S,    32,  1,      6,      6,2,20120125,1415,-59.2067, 115.0000, 4524,   3100.1,   0.3614,  34.6858,2,  34.6875,2,    218.4,2,    217.9,2,   128.10,2,    32.35,2,     2.26,2,    97.22,2,   -0.182,2,    0.000,2
  09AR20120105,  I09S,    32,  1,      5,      5,2,20120125,1415,-59.2067, 115.0000, 4524,   3399.5,   0.2534,  34.6811,2,  34.6830,2,    221.9,2,    221.5,2,   131.50,2,    32.44,2,     2.26,2,    97.20,2,   -0.185,2,    0.000,2
  09AR20120105,  I09S,    32,  1,      4,      4,2,20120125,1415,-59.2067, 115.0000, 4524,   3697.8,   0.1630,  34.6766,2,  34.6755,2,    225.2,2,    224.9,2,   132.00,2,    32.43,2,     2.26,2,    97.19,2,   -0.178,2,    0.000,2
  09AR20120105,  I09S,    32,  1,      3,      3,2,20120125,1415,-59.2067, 115.0000, 4524,   4000.0,   0.0858,  34.6722,2,  34.6740,2,    228.4,2,    228.1,2,   133.50,2,    32.41,2,     2.25,2,    97.18,2,   -0.184,2,    0.000,2
  09AR20120105,  I09S,    32,  1,      2,      2,2,20120125,1415,-59.2067, 115.0000, 4524,   4299.2,   0.0285,  34.6673,2,  34.6667,2,    231.0,2,    231.2,2,   134.80,2,    32.36,2,     2.26,2,    97.15,2,   -0.180,2,    0.000,2
  09AR20120105,  I09S,    32,  1,      1,      1,2,20120125,1415,-59.2067, 115.0000, 4524,   4605.7,  -0.0850,  34.6551,2,  34.6545,2,    236.5,2,    236.6,2,   136.60,2,  -999.00,9,     2.25,2,    97.14,2,   -0.181,2,    0.000,2
  09AR20120105,  I09S,    33,  1,     24,     24,2,20120125,2105,-58.6048, 114.9830, 4533,     13.1,   2.0472,  33.8633,2,  33.8651,2,    330.6,2,    331.4,2,    17.50,2,    26.30,2,  -999.00,9,    96.03,2,    0.896,2,   32.720,2
  09AR20120105,  I09S,    33,  1,     23,     23,2,20120125,2105,-58.6048, 114.9830, 4533,     37.8,   2.0281,  33.8639,2,-999.0000,9,    330.6,2,   -999.0,9,  -999.00,9,  -999.00,9,  -999.00,9,    96.09,2,    1.002,2,    6.615,2
  09AR20120105,  I09S,    33,  1,     22,     22,2,20120125,2105,-58.6048, 114.9830, 4533,     38.0,   2.0209,  33.8640,2,-999.0000,9,    330.6,2,   -999.0,9,  -999.00,9,  -999.00,9,  -999.00,9,    96.06,2,    1.024,2,    6.629,2
  09AR20120105,  I09S,    33,  1,     21,     21,2,20120125,2105,-58.6048, 114.9830, 4533,     38.3,   2.0310,  33.8636,2,  33.8647,2,    330.6,2,    331.6,2,    17.50,2,    26.33,2,  -999.00,9,    96.07,2,    0.979,2,    6.800,2
  09AR20120105,  I09S,    33,  1,     20,     20,2,20120125,2105,-58.6048, 114.9830, 4533,     58.5,   1.9599,  33.8657,2,  33.8660,2,    331.3,2,    331.2,2,    17.70,2,    26.40,2,  -999.00,9,    96.04,2,    1.066,2,    2.744,2
  09AR20120105,  I09S,    33,  1,     19,     19,2,20120125,2105,-58.6048, 114.9830, 4533,     80.3,   1.4686,  33.8808,2,  33.8799,2,    331.2,2,    333.5,2,    19.60,2,    26.82,2,  -999.00,9,    96.50,2,    1.265,2,    0.779,2
  09AR20120105,  I09S,    33,  1,     18,     18,2,20120125,2105,-58.6048, 114.9830, 4533,    129.3,  -0.1186,  33.9456,2,  33.9451,2,    335.3,2,    334.7,2,    31.40,2,    28.78,2,  -999.00,9,    97.87,2,    0.008,2,    0.047,2
  09AR20120105,  I09S,    33,  1,     17,     17,2,20120125,2105,-58.6048, 114.9830, 4533,    250.2,   2.0947,  34.4045,2,  34.4043,2,    193.0,2,    191.6,2,    65.00,2,    35.15,2,  -999.00,9,    97.82,2,   -0.183,2,    0.000,2
  09AR20120105,  I09S,    33,  1,     16,     16,2,20120125,2105,-58.6048, 114.9830, 4533,    372.0,   2.1853,  34.5419,2,  34.5417,2,    176.7,2,    176.3,2,    74.40,2,    34.79,2,  -999.00,9,    97.62,2,   -0.175,2,    0.000,2
  09AR20120105,  I09S,    33,  1,     15,     15,2,20120125,2105,-58.6048, 114.9830, 4533,    479.7,   2.2053,  34.6087,2,  34.6091,2,    174.1,2,    174.4,2,    77.70,2,    33.99,2,  -999.00,9,    97.61,2,   -0.179,2,    0.000,2
  09AR20120105,  I09S,    33,  1,     14,     14,2,20120125,2105,-58.6048, 114.9830, 4533,    577.4,   2.1812,  34.6471,2,  34.6464,2,    175.4,2,    176.1,2,    79.50,2,    33.37,2,  -999.00,9,    97.60,2,   -0.176,2,    0.000,2
  09AR20120105,  I09S,    33,  1,     13,     13,2,20120125,2105,-58.6048, 114.9830, 4533,    743.4,   2.1050,  34.6916,2,  34.6920,2,    180.6,2,    181.2,2,    81.80,2,    32.34,2,  -999.00,9,    97.57,2,   -0.180,2,    0.000,2
  09AR20120105,  I09S,    33,  1,     12,     12,2,20120125,2105,-58.6048, 114.9830, 4533,    949.7,   1.9627,  34.7253,2,  34.7250,2,    187.5,2,    188.1,2,    85.20,2,    31.44,2,  -999.00,9,    97.55,2,   -0.180,2,    0.000,2
  09AR20120105,  I09S,    33,  1,     11,     11,2,20120125,2105,-58.6048, 114.9830, 4533,   1250.8,   1.7497,  34.7423,2,  34.7416,2,    194.6,2,    194.9,2,    90.90,2,    30.92,2,  -999.00,9,    97.49,2,   -0.186,2,    0.000,2
  09AR20120105,  I09S,    33,  1,     10,     10,2,20120125,2105,-58.6048, 114.9830, 4533,   1626.7,   1.4165,  34.7371,2,  34.7359,2,    200.6,2,    200.6,2,   100.30,2,    31.05,2,  -999.00,9,    97.42,2,   -0.176,2,    0.000,2
  09AR20120105,  I09S,    33,  1,      9,      9,2,20120125,2105,-58.6048, 114.9830, 4533,   1900.2,   1.1884,  34.7270,2,  34.7264,2,    203.5,2,    203.2,2,   107.00,2,    31.44,2,  -999.00,9,    97.36,2,   -0.175,2,    0.000,2
  09AR20120105,  I09S,    33,  1,      8,      8,2,20120125,2105,-58.6048, 114.9830, 4533,   2200.1,   0.9589,  34.7153,2,  34.7150,2,    205.9,2,    206.2,2,   114.10,2,    31.95,2,  -999.00,9,    97.32,2,   -0.177,2,    0.000,2
  09AR20120105,  I09S,    33,  1,      7,      7,2,20120125,2105,-58.6048, 114.9830, 4533,   2551.5,   0.6830,  34.7010,2,  34.6999,2,    210.0,2,    210.6,2,   121.70,2,    32.30,2,  -999.00,9,    97.26,2,   -0.182,2,    0.000,2
  09AR20120105,  I09S,    33,  1,      6,      6,2,20120125,2105,-58.6048, 114.9830, 4533,   2899.1,   0.4668,  34.6904,2,  34.6893,2,    215.4,2,    215.0,2,   126.60,2,    32.53,2,  -999.00,9,    97.23,2,   -0.181,2,    0.000,2
  09AR20120105,  I09S,    33,  1,      5,      5,2,20120125,2105,-58.6048, 114.9830, 4533,   3249.4,   0.3075,  34.6832,2,  34.6820,2,    219.9,2,    220.0,2,   129.90,2,    32.62,2,  -999.00,9,    97.21,2,   -0.184,2,    0.000,2
  09AR20120105,  I09S,    33,  1,      4,      4,2,20120125,2105,-58.6048, 114.9830, 4533,   3598.5,   0.2112,  34.6785,2,  34.6767,2,    223.2,2,    223.5,2,   131.60,2,    32.62,2,  -999.00,9,    97.19,2,   -0.179,2,    0.000,2
  09AR20120105,  I09S,    33,  1,      3,      3,2,20120125,2105,-58.6048, 114.9830, 4533,   3951.1,   0.0968,  34.6726,2,  34.6712,2,    227.4,2,    227.9,2,   132.50,2,    32.60,2,  -999.00,9,    97.17,2,   -0.186,2,    0.000,2
  09AR20120105,  I09S,    33,  1,      2,      2,2,20120125,2105,-58.6048, 114.9830, 4533,   4299.3,   0.0179,  34.6670,2,  34.6643,2,    230.7,2,    231.6,2,   134.40,2,    32.46,2,  -999.00,9,    97.13,2,   -0.185,2,    0.000,2
  09AR20120105,  I09S,    33,  1,      1,      1,2,20120125,2105,-58.6048, 114.9830, 4533,   4615.7,  -0.1014,  34.6536,2,  34.6533,2,    237.2,2,    237.7,2,   133.70,2,    32.32,2,  -999.00,9,    97.12,2,   -0.181,2,    0.000,2