BOTTLE,20220815CCHSIOAMB
EXPOCODE,SECT_ID,STNNBR,CASTNO,SAMPNO,BTLNBR,BTLNBR_FLAG_W,DATE,TIME,LATITUDE,LONGITUDE,DEPTH,CTDPRS,CTDTMP,CTDSAL,CTDSAL_FLAG_W,SALNTY,SALNTY_FLAG_W,CTDOXY,CTDOXY_FLAG_W,OXYGEN,OXYGEN_FLAG_W,SILCAT,SILCAT_FLAG_W,NITRAT,NITRAT_FLAG_W,PHSPHT,PHSPHT_FLAG_W,XMISS,XMISS_FLAG_W,FLUOR,FLUOR_FLAG_W,PAR,PAR_FLAG_W
,,,,,,,,,,,METERS,DBAR,ITS-90,PSS-78,,PSS-78,,UMOL/KG,,UMOL/KG,,UMOL/KG,,UMOL/KG,,UMOL/KG,,%TRANS,,VOLTS,,VOLTS,
  09AR20120105,  I09S,    22,  1,     24,     24,2,20120122,1859,-63.2712, 113.3500, 3513,      8.9,   0.6667,  33.8854,2,-999.0000,9,   -999.0,5,   -999.0,9,  -999.00,9,  -999.00,9,  -999.00,9,    96.72,2,    0.579,2,    0.467,2
  09AR20120105,  I09S,    22,  1,     23,     23,2,20120122,1859,-63.2712, 113.3500, 3513,      8.9,   0.6698,  33.8851,2,-999.0000,9,   -999.0,5,   -999.0,9,  -999.00,9,  -999.00,9,  -999.00,9,    96.73,2,    0.558,2,    0.460,2
  09AR20120105,  I09S,    22,  1,     22,     22,2,20120122,1859,-63.2712, 113.3500, 3513,      8.8,   0.6697,  33.8851,2,-999.0000,9,   -999.0,5,   -999.0,9,  -999.00,9,  -999.00,9,  -999.00,9,    96.75,2,    0.558,2,    0.469,2
  09AR20120105,  I09S,    22,  1,     21,     21,2,20120122,1859,-63.2712, 113.3500, 3513,      8.9,   0.6726,  33.8848,2,-999.0000,9,   -999.0,5,   -999.0,9,  -999.00,9,  -999.00,9,  -999.00,9,    96.78,2,    0.509,2,    0.470,2
  09AR20120105,  I09S,    22,  1,     20,     20,2,20120122,1859,-63.2712, 113.3500, 3513,      8.8,   0.6739,  33.8846,2,-999.0000,9,   -999.0,5,   -999.0,9,  -999.00,9,  -999.00,9,  -999.00,9,    96.81,2,    0.532,2,    0.459,2
  09AR20120105,  I09S,    22,  1,     19,     19,2,20120122,1859,-63.2712, 113.3500, 3513,      8.9,   0.6734,  33.8843,2,-999.0000,9,   -999.0,5,   -999.0,9,  -999.00,9,  -999.00,9,  -999.00,9,    96.84,2,    0.492,2,    0.457,2
  09AR20120105,  I09S,    22,  1,     18,     18,2,20120122,1859,-63.2712, 113.3500, 3513,      8.9,   0.6729,  33.8839,2,-999.0000,9,   -999.0,5,   -999.0,9,  -999.00,9,  -999.00,9,  -999.00,9,    96.82,2,    0.496,2,    0.446,2
  09AR20120105,  I09S,    22,  1,     17,     17,2,20120122,1859,-63.2712, 113.3500, 3513,      8.8,   0.6733,  33.8839,2,-999.0000,9,   -999.0,5,   -999.0,9,  -999.00,9,  -999.00,9,  -999.00,9,    96.81,2,    0.513,2,    0.450,2
  09AR20120105,  I09S,    22,  1,     16,     16,2,20120122,1859,-63.2712, 113.3500, 3513,      8.7,   0.6737,  33.8841,2,-999.0000,9,   -999.0,5,   -999.0,9,  -999.00,9,  -999.00,9,  -999.00,9,    96.80,2,    0.493,2,    0.461,2
  09AR20120105,  I09S,    22,  1,     15,     15,2,20120122,1859,-63.2712, 113.3500, 3513,      8.9,   0.6737,  33.8840,2,-999.0000,9,   -999.0,5,   -999.0,9,  -999.00,9,  -999.00,9,  -999.00,9,    96.78,2,    0.540,2,    0.447,2
  09AR20120105,  I09S,    22,  1,     14,     14,2,20120122,1859,-63.2712, 113.3500, 3513,      8.8,   0.6739,  33.8838,2,-999.0000,9,   -999.0,5,   -999.0,9,  -999.00,9,  -999.00,9,  -999.00,9,    96.80,2,    0.472,2,    0.435,2
  09AR20120105,  I09S,    22,  1,     13,     13,2,20120122,1859,-63.2712, 113.3500, 3513,      4.9,   0.6713,  33.8836,2,-999.0000,9,   -999.0,5,   -999.0,9,  -999.00,9,  -999.00,9,  -999.00,9,    96.80,2,    0.482,2,    0.584,2
  09AR20120105,  I09S,    22,  1,     12,     12,2,20120122,1859,-63.2712, 113.3500, 3513,      5.0,   0.6711,  33.8835,2,-999.0000,9,   -999.0,5,   -999.0,9,  -999.00,9,  -999.00,9,  -999.00,9,    96.74,2,    0.477,2,    0.599,2
  09AR20120105,  I09S,    22,  1,     11,     11,2,20120122,1859,-63.2712, 113.3500, 3513,     44.6,  -1.1547,  34.1901,2,-999.0000,9,   -999.0,5,   -999.0,9,  -999.00,9,  -999.00,9,  -999.00,9,    94.53,2,    2.293,2,    0.005,2
  09AR20120105,  I09S,    22,  1,     10,     10,2,20120122,1859,-63.2712, 113.3500, 3513,     44.6,  -1.1574,  34.1912,2,-999.0000,9,   -999.0,5,   -999.0,9,  -999.00,9,  -999.00,9,  -999.00,9,    94.41,2,    2.378,2,    0.006,2
  09AR20120105,  I09S,    22,  1,      9,      9,2,20120122,1859,-63.2712, 113.3500, 3513,     44.5,  -1.1519,  34.1892,2,-999.0000,9,   -999.0,5,   -999.0,9,  -999.00,9,  -999.00,9,  -999.00,9,    94.66,2,    2.387,2,    0.003,2
  09AR20120105,  I09S,    22,  1,      8,      8,2,20120122,1859,-63.2712, 113.3500, 3513,     44.3,  -1.1515,  34.1891,2,-999.0000,9,   -999.0,5,   -999.0,9,  -999.00,9,  -999.00,9,  -999.00,9,    94.00,2,    2.398,2,    0.004,2
  09AR20120105,  I09S,    22,  1,      7,      7,2,20120122,1859,-63.2712, 113.3500, 3513,     44.3,  -1.1504,  34.1887,2,-999.0000,9,   -999.0,5,   -999.0,9,  -999.00,9,  -999.00,9,  -999.00,9,    94.19,2,    2.378,2,    0.004,2
  09AR20120105,  I09S,    22,  1,      6,      6,2,20120122,1859,-63.2712, 113.3500, 3513,     44.7,  -1.1371,  34.1830,2,-999.0000,9,   -999.0,5,   -999.0,9,  -999.00,9,  -999.00,9,  -999.00,9,    94.01,2,    2.615,2,    0.002,2
  09AR20120105,  I09S,    22,  1,      5,      5,2,20120122,1859,-63.2712, 113.3500, 3513,     44.8,  -1.1301,  34.1796,2,-999.0000,9,   -999.0,5,   -999.0,9,  -999.00,9,  -999.00,9,  -999.00,9,    93.71,2,    2.739,2,    0.001,2
  09AR20120105,  I09S,    22,  1,      4,      4,2,20120122,1859,-63.2712, 113.3500, 3513,     44.7,  -1.1183,  34.1747,2,-999.0000,9,   -999.0,5,   -999.0,9,  -999.00,9,  -999.00,9,  -999.00,9,    93.73,2,    2.832,2,    0.002,2
  09AR20120105,  I09S,    22,  1,      3,      3,2,20120122,1859,-63.2712, 113.3500, 3513,     44.6,  -1.1163,  34.1729,2,-999.0000,9,   -999.0,5,   -999.0,9,  -999.00,9,  -999.00,9,  -999.00,9,    93.72,2,    3.087,2,    0.003,2
  09AR20120105,  I09S,    22,  1,      2,      2,2,20120122,1859,-63.2712, 113.3500, 3513,     44.7,  -1.1115,  34.1705,2,-999.0000,9,   -999.0,5,   -999.0,9,  -999.00,9,  -999.00,9,  -999.00,9,    93.80,2,    2.966,2,    0.004,2
  09AR20120105,  I09S,    22,  1,      1,      1,2,20120122,1859,-63.2712, 113.3500, 3513,     44.6,  -1.0705,  34.1590,2,-999.0000,9,   -999.0,5,   -999.0,9,  -999.00,9,  -999.00,9,  -999.00,9,    93.65,2,    2.831,2,    0.001,2
  09AR20120105,  I09S,    23,  1,     24,     24,2,20120123,0247,-62.7915, 113.3100, 3822,      5.0,   0.9439,  33.8541,2,  33.8543,2,   -999.0,5,    340.5,2,    44.40,2,    26.46,2,     1.76,2,    95.81,2,   -0.078,2,  163.400,2
  09AR20120105,  I09S,    23,  1,     23,     23,2,20120123,0247,-62.7915, 113.3100, 3822,      4.9,   0.9437,  33.8541,2,-999.0000,9,   -999.0,5,   -999.0,9,  -999.00,9,  -999.00,9,  -999.00,9,    95.80,2,   -0.074,2,  164.100,2
  09AR20120105,  I09S,    23,  1,     22,     22,2,20120123,0247,-62.7915, 113.3100, 3822,      5.0,   0.9463,  33.8540,2,-999.0000,9,   -999.0,5,   -999.0,9,  -999.00,9,  -999.00,9,  -999.00,9,    95.82,2,   -0.080,2,  163.900,2
  09AR20120105,  I09S,    23,  1,     21,     21,2,20120123,0247,-62.7915, 113.3100, 3822,     30.0,   0.7822,  33.8542,2,  33.8619,2,    342.9,2,    341.4,2,    44.30,2,    26.49,2,     1.76,2,    95.48,2,    0.336,2,   38.380,2
  09AR20120105,  I09S,    23,  1,     20,     20,2,20120123,0247,-62.7915, 113.3100, 3822,     44.5,  -0.3272,  33.9840,2,  33.9755,2,    340.5,2,    346.2,2,    45.10,2,    26.68,2,     1.78,2,    92.82,2,    2.115,2,   20.630,2
  09AR20120105,  I09S,    23,  1,     19,     19,2,20120123,0247,-62.7915, 113.3100, 3822,     59.7,  -1.2264,  34.1719,2,  34.1715,2,    321.3,2,    323.9,2,    53.00,2,    28.93,2,     1.94,2,    92.86,2,    4.775,2,    5.104,2
  09AR20120105,  I09S,    23,  1,     18,     18,2,20120123,0247,-62.7915, 113.3100, 3822,     74.4,  -1.3004,  34.2508,2,  34.2517,2,    304.9,2,    302.0,2,    62.70,2,    30.27,2,     2.12,2,    97.25,2,    1.065,2,    1.284,2
  09AR20120105,  I09S,    23,  1,     17,     17,2,20120123,0247,-62.7915, 113.3100, 3822,    100.1,  -0.3938,  34.3770,2,  34.3639,2,    237.0,2,    263.4,2,    69.60,2,    31.74,2,     2.20,2,    97.38,2,    0.144,2,    0.303,2
  09AR20120105,  I09S,    23,  1,     16,     16,2,20120123,0247,-62.7915, 113.3100, 3822,    250.3,   1.6043,  34.6707,2,  34.6712,2,    186.8,2,    187.5,2,    86.10,2,    32.53,2,     2.24,2,    97.50,2,   -0.171,2,    0.000,2
  09AR20120105,  I09S,    23,  1,     15,     15,2,20120123,0247,-62.7915, 113.3100, 3822,    499.4,   1.6114,  34.7285,2,  34.7286,2,    192.5,2,    192.3,2,    91.90,2,    31.37,2,     2.16,2,    97.47,2,   -0.182,2,    0.000,2
  09AR20120105,  I09S,    23,  1,     14,     14,2,20120123,0247,-62.7915, 113.3100, 3822,    799.2,   1.3823,  34.7336,2,  34.7341,2,    198.8,2,    198.7,2,    98.70,2,    31.10,2,     2.15,2,    97.41,2,   -0.185,2,    0.000,2
  09AR20120105,  I09S,    23,  1,     13,     13,2,20120123,0247,-62.7915, 113.3100, 3822,   1099.9,   1.0997,  34.7233,2,  34.7239,2,    202.7,2,    202.6,2,   107.00,2,    31.41,2,     2.19,2,    97.35,2,   -0.179,2,    0.000,2
  09AR20120105,  I09S,    23,  1,     12,     12,2,20120123,0247,-62.7915, 113.3100, 3822,   1349.2,   0.8998,  34.7134,2,  34.7135,2,    205.5,2,    205.5,2,   112.70,2,    31.76,2,     2.20,2,    97.31,2,   -0.177,2,    0.000,2
  09AR20120105,  I09S,    23,  1,     11,     11,2,20120123,0247,-62.7915, 113.3100, 3822,   1698.2,   0.6229,  34.6987,2,  34.6981,2,    209.7,2,    209.7,2,   119.80,2,    32.19,2,     2.24,2,    97.26,2,   -0.180,2,    0.000,2
  09AR20120105,  I09S,    23,  1,     10,     10,2,20120123,0247,-62.7915, 113.3100, 3822,   1949.6,   0.4640,  34.6907,2,  34.6908,2,    213.3,2,    213.4,2,   123.10,2,    32.33,2,     2.26,2,    97.24,2,   -0.186,2,    0.000,2
  09AR20120105,  I09S,    23,  1,      9,      9,2,20120123,0247,-62.7915, 113.3100, 3822,   2150.7,   0.3567,  34.6858,2,  34.6853,2,    216.3,2,    216.2,2,   124.80,2,    32.35,2,     2.26,2,    97.21,2,   -0.182,2,    0.000,2
  09AR20120105,  I09S,    23,  1,      8,      8,2,20120123,0247,-62.7915, 113.3100, 3822,   2399.9,   0.2341,  34.6814,2,  34.6808,2,    219.6,2,    220.0,2,   128.10,2,    32.42,2,     2.27,2,    97.20,2,   -0.183,2,    0.000,2
  09AR20120105,  I09S,    23,  1,      7,      7,2,20120123,0247,-62.7915, 113.3100, 3822,   2700.7,   0.1186,  34.6759,2,  34.6755,2,    223.6,2,    224.0,2,   128.70,2,    32.43,2,     2.26,2,    97.18,2,   -0.179,2,    0.000,2
  09AR20120105,  I09S,    23,  1,      6,      6,2,20120123,0247,-62.7915, 113.3100, 3822,   2950.0,   0.0502,  34.6735,2,  34.6724,2,    226.2,2,    226.7,2,   130.80,2,    32.44,2,     2.27,2,    97.17,2,   -0.183,2,    0.000,2
  09AR20120105,  I09S,    23,  1,      5,      5,2,20120123,0247,-62.7915, 113.3100, 3822,   3198.3,  -0.0173,  34.6697,2,  34.6684,2,    229.0,2,    229.5,2,   131.10,2,    32.38,2,     2.25,2,    97.16,2,   -0.181,2,    0.000,2
  09AR20120105,  I09S,    23,  1,      4,      4,2,20120123,0247,-62.7915, 113.3100, 3822,   3399.8,  -0.0613,  34.6667,2,  34.6651,2,    231.1,2,    231.4,2,   132.00,2,    32.31,2,     2.26,2,    97.14,2,   -0.177,2,    0.000,2
  09AR20120105,  I09S,    23,  1,      3,      3,2,20120123,0247,-62.7915, 113.3100, 3822,   3599.6,  -0.1162,  34.6616,2,  34.6604,2,    233.7,2,    234.2,2,   131.20,2,    32.27,2,     2.26,2,    97.14,2,   -0.183,2,    0.000,2
  09AR20120105,  I09S,    23,  1,      2,      2,2,20120123,0247,-62.7915, 113.3100, 3822,   3750.8,  -0.2062,  34.6522,2,  34.6515,2,    237.2,2,    237.9,2,   131.70,2,    32.14,2,     2.25,2,    97.13,2,   -0.179,2,    0.000,2
  09AR20120105,  I09S,    23,  1,      1,      1,2,20120123,0247,-62.7915, 113.3100, 3822,   3883.4,  -0.2599,  34.6457,2,  34.6447,2,    240.4,2,    241.1,2,   123.90,2,    32.03,2,     2.24,2,    97.12,2,   -0.183,2,    0.000,2
  09AR20120105,  I09S,    24,  1,     24,     24,2,20120123,0849,-62.3073, 113.3040, 4068,      4.2,   1.0128,  33.6944,2,  33.6950,2,    342.8,2,    342.3,2,    39.80,2,    26.24,2,     1.73,2,    94.42,2,    0.814,2,   35.370,2
  09AR20120105,  I09S,    24,  1,     23,     23,2,20120123,0849,-62.3073, 113.3040, 4068,      4.3,   1.0122,  33.6942,2,-999.0000,9,    342.8,2,   -999.0,9,  -999.00,9,  -999.00,9,  -999.00,9,    94.36,2,    0.806,2,   34.640,2
  09AR20120105,  I09S,    24,  1,     22,     22,2,20120123,0849,-62.3073, 113.3040, 4068,      4.2,   1.0118,  33.6943,2,-999.0000,9,    342.8,2,   -999.0,9,  -999.00,9,  -999.00,9,  -999.00,9,    94.36,2,    0.816,2,   34.480,2
  09AR20120105,  I09S,    24,  1,     21,     21,2,20120123,0849,-62.3073, 113.3040, 4068,     30.7,   0.7055,  33.7141,2,  33.7175,2,    348.0,2,    344.9,2,    40.00,2,    26.26,2,     1.74,2,    94.10,2,    1.229,2,    3.244,2
  09AR20120105,  I09S,    24,  1,     20,     20,2,20120123,0849,-62.3073, 113.3040, 4068,     49.8,  -0.9609,  34.0436,2,  34.0386,2,    354.4,2,    348.9,2,    44.70,2,    26.95,2,     1.79,2,    91.12,2,    4.592,2,    0.936,2
  09AR20120105,  I09S,    24,  1,     19,     19,2,20120123,0849,-62.3073, 113.3040, 4068,     64.9,  -1.2359,  34.1244,2,  34.1199,2,    325.0,2,    336.0,2,    48.60,2,    27.99,2,     1.88,2,    92.11,2,    5.027,2,    0.187,2
  09AR20120105,  I09S,    24,  1,     18,     18,2,20120123,0849,-62.3073, 113.3040, 4068,     89.1,  -0.7773,  34.2403,2,  34.2375,2,    279.8,2,    287.9,2,    60.90,2,    30.98,2,     2.15,2,    97.33,2,    0.578,2,    0.000,2
  09AR20120105,  I09S,    24,  1,     17,     17,2,20120123,0849,-62.3073, 113.3040, 4068,    200.1,   1.2741,  34.5689,2,  34.5688,2,    200.3,2,    198.1,2,    80.50,2,    33.21,2,     2.30,2,    97.47,2,   -0.165,2,    0.000,2
  09AR20120105,  I09S,    24,  1,     16,     16,2,20120123,0849,-62.3073, 113.3040, 4068,    300.4,   1.6242,  34.6577,2,  34.6574,2,    188.8,2,    187.9,2,    85.50,2,    32.71,2,     2.27,2,    97.51,2,   -0.188,2,    0.000,2
  09AR20120105,  I09S,    24,  1,     15,     15,2,20120123,0849,-62.3073, 113.3040, 4068,    475.3,   1.7216,  34.7156,2,  34.7160,2,    190.4,2,    189.8,2,    88.90,2,    31.66,2,     2.20,2,    97.50,2,   -0.180,2,    0.000,2
  09AR20120105,  I09S,    24,  1,     14,     14,2,20120123,0849,-62.3073, 113.3040, 4068,    624.7,   1.6109,  34.7271,2,  34.7278,2,    193.6,2,    194.2,2,    91.30,2,    31.23,2,     2.16,2,    97.47,2,   -0.178,2,    0.000,2
  09AR20120105,  I09S,    24,  1,     13,     13,2,20120123,0849,-62.3073, 113.3040, 4068,    850.2,   1.4458,  34.7339,2,  34.7339,2,    197.6,2,    198.5,2,    97.20,2,    31.00,2,     2.14,2,    97.43,2,   -0.175,2,    0.000,2
  09AR20120105,  I09S,    24,  1,     12,     12,2,20120123,0849,-62.3073, 113.3040, 4068,   1150.7,   1.1916,  34.7265,2,  34.7276,2,    201.6,2,    202.3,2,   104.70,2,    31.25,2,     2.17,2,    97.37,2,   -0.181,2,    0.000,2
  09AR20120105,  I09S,    24,  1,     11,     11,2,20120123,0849,-62.3073, 113.3040, 4068,   1451.2,   0.9754,  34.7163,2,  34.7164,2,    204.5,2,    205.0,2,   111.40,2,    31.62,2,     2.21,2,    97.32,2,   -0.182,2,    0.000,2
  09AR20120105,  I09S,    24,  1,     10,     10,2,20120123,0849,-62.3073, 113.3040, 4068,   1748.2,   0.7485,  34.7041,2,  34.7044,2,    207.6,2,    208.0,2,   117.60,2,    32.09,2,     2.24,2,    97.28,2,   -0.185,2,    0.000,2
  09AR20120105,  I09S,    24,  1,      9,      9,2,20120123,0849,-62.3073, 113.3040, 4068,   2099.7,   0.5095,  34.6921,2,  34.6920,2,    212.7,2,    212.8,2,   123.50,2,    32.37,2,     2.26,2,    97.24,2,   -0.183,2,    0.000,2
  09AR20120105,  I09S,    24,  1,      8,      8,2,20120123,0849,-62.3073, 113.3040, 4068,   2475.3,   0.2953,  34.6814,2,  34.6812,2,    218.7,2,    218.8,2,   125.30,2,    32.36,2,     2.27,2,    97.21,2,   -0.187,2,    0.000,2
  09AR20120105,  I09S,    24,  1,      7,      7,2,20120123,0849,-62.3073, 113.3040, 4068,   2799.4,   0.1803,  34.6778,2,  34.6781,2,    222.2,2,    222.4,2,   129.00,2,    32.59,2,     2.27,2,    97.19,2,   -0.181,2,    0.000,2
  09AR20120105,  I09S,    24,  1,      6,      6,2,20120123,0849,-62.3073, 113.3040, 4068,   3130.6,   0.0334,  34.6672,2,  34.6680,2,    228.3,2,    228.4,2,   123.00,2,    32.23,2,     2.25,2,    97.16,2,   -0.186,2,    0.000,2
  09AR20120105,  I09S,    24,  1,      5,      5,2,20120123,0849,-62.3073, 113.3040, 4068,   3440.9,  -0.0229,  34.6675,2,  34.6677,2,    230.3,2,    230.6,2,   129.10,2,    32.47,2,     2.26,2,    97.15,2,   -0.183,2,    0.000,2
  09AR20120105,  I09S,    24,  1,      4,      4,2,20120123,0849,-62.3073, 113.3040, 4068,   3700.5,  -0.0855,  34.6621,2,  34.6626,2,    233.3,2,    233.7,2,   127.60,2,    32.28,2,     2.26,2,    97.14,2,   -0.187,2,    0.000,2
  09AR20120105,  I09S,    24,  1,      3,      3,2,20120123,0849,-62.3073, 113.3040, 4068,   3949.9,  -0.1832,  34.6517,2,  34.6506,2,    238.3,2,    239.1,2,   120.80,2,    32.17,2,     2.24,2,    97.11,2,   -0.184,2,    0.000,2
  09AR20120105,  I09S,    24,  1,      2,      2,2,20120123,0849,-62.3073, 113.3040, 4068,   4049.7,  -0.2333,  34.6466,2,  34.6480,2,    240.4,2,    240.8,2,   124.20,2,    32.17,2,     2.25,2,    97.12,2,   -0.191,2,    0.000,2
  09AR20120105,  I09S,    24,  1,      1,      1,2,20120123,0849,-62.3073, 113.3040, 4068,   4137.3,  -0.2329,  34.6456,2,  34.6449,2,    240.7,2,    240.9,2,   124.50,2,    32.02,2,     2.24,2,    97.11,2,   -0.184,2,    0.000,2