BOTTLE,20220815CCHSIOAMB
EXPOCODE,SECT_ID,STNNBR,CASTNO,SAMPNO,BTLNBR,BTLNBR_FLAG_W,DATE,TIME,LATITUDE,LONGITUDE,DEPTH,CTDPRS,CTDTMP,CTDSAL,CTDSAL_FLAG_W,SALNTY,SALNTY_FLAG_W,CTDOXY,CTDOXY_FLAG_W,OXYGEN,OXYGEN_FLAG_W,SILCAT,SILCAT_FLAG_W,NITRAT,NITRAT_FLAG_W,PHSPHT,PHSPHT_FLAG_W,XMISS,XMISS_FLAG_W,FLUOR,FLUOR_FLAG_W,PAR,PAR_FLAG_W
,,,,,,,,,,,METERS,DBAR,ITS-90,PSS-78,,PSS-78,,UMOL/KG,,UMOL/KG,,UMOL/KG,,UMOL/KG,,UMOL/KG,,%TRANS,,VOLTS,,VOLTS,
  09AR20120105,  I09S,    34,  1,     24,     24,2,20120126,0459,-58.0018, 115.0090, 4559,      9.2,   2.8162,  33.8451,2,  33.8451,2,    326.4,2,    325.6,2,    16.20,2,    26.03,2,     1.70,2,    95.81,2,    0.314,2,   91.720,2
  09AR20120105,  I09S,    34,  1,     23,     23,2,20120126,0459,-58.0018, 115.0090, 4559,     33.2,   2.7648,  33.8489,2,-999.0000,9,    326.2,2,   -999.0,9,  -999.00,9,  -999.00,9,  -999.00,9,    95.62,2,    0.756,2,   23.830,2
  09AR20120105,  I09S,    34,  1,     22,     22,2,20120126,0459,-58.0018, 115.0090, 4559,     33.8,   2.7620,  33.8492,2,-999.0000,9,    326.2,2,   -999.0,9,  -999.00,9,  -999.00,9,  -999.00,9,    95.62,2,    0.793,2,   23.290,2
  09AR20120105,  I09S,    34,  1,     21,     21,2,20120126,0459,-58.0018, 115.0090, 4559,     34.0,   2.7640,  33.8489,2,  33.8500,2,    326.2,2,    326.2,2,    16.10,2,    26.03,2,     1.70,2,    95.64,2,    0.768,2,   24.830,2
  09AR20120105,  I09S,    34,  1,     20,     20,2,20120126,0459,-58.0018, 115.0090, 4559,     60.1,   2.7213,  33.8536,2,  33.8551,2,    326.6,2,    326.3,2,    16.20,2,    26.13,2,     1.71,2,    95.83,2,    0.875,2,    6.988,2
  09AR20120105,  I09S,    34,  1,     19,     19,2,20120126,0459,-58.0018, 115.0090, 4559,     80.5,   2.5802,  33.8587,2,  33.8604,2,    326.6,2,    326.7,2,    16.40,2,    26.28,2,     1.74,2,    95.95,2,    1.062,2,    2.367,2
  09AR20120105,  I09S,    34,  1,     18,     18,2,20120126,0459,-58.0018, 115.0090, 4559,    109.8,   1.3968,  33.8904,2,  33.8909,2,    330.5,2,    330.8,2,    22.80,2,    27.31,2,     1.88,2,    97.87,2,    0.456,2,    0.472,2
  09AR20120105,  I09S,    34,  1,     17,     17,2,20120126,0459,-58.0018, 115.0090, 4559,    249.7,   1.7797,  34.3312,2,  34.3305,2,    213.7,2,    212.2,2,    60.30,2,    34.78,2,     2.35,2,    97.90,2,   -0.182,2,    0.000,2
  09AR20120105,  I09S,    34,  1,     16,     16,2,20120126,0459,-58.0018, 115.0090, 4559,    402.2,   2.2308,  34.5412,2,  34.5411,2,    177.7,2,    177.9,2,    73.10,2,    34.45,2,     2.33,2,    97.62,2,   -0.176,2,    0.000,2
  09AR20120105,  I09S,    34,  1,     15,     15,2,20120126,0459,-58.0018, 115.0090, 4559,    600.7,   2.1821,  34.6471,2,  34.6478,2,    176.9,2,    177.1,2,    78.70,2,    32.99,2,     2.26,2,    97.61,2,   -0.177,2,    0.000,2
  09AR20120105,  I09S,    34,  1,     14,     14,2,20120126,0459,-58.0018, 115.0090, 4559,    801.2,   2.1308,  34.7027,2,  34.7028,2,    182.6,2,    183.0,2,    81.10,2,    31.85,2,     2.18,2,    97.58,2,   -0.180,2,    0.000,2
  09AR20120105,  I09S,    34,  1,     13,     13,2,20120126,0459,-58.0018, 115.0090, 4559,   1146.5,   1.9055,  34.7410,2,  34.7414,2,    191.8,2,    192.3,2,    86.80,2,    30.79,2,     2.10,2,    97.55,2,   -0.180,2,    0.000,2
  09AR20120105,  I09S,    34,  1,     12,     12,2,20120126,0459,-58.0018, 115.0090, 4559,   1352.0,   1.7408,  34.7445,2,  34.7441,2,    195.8,2,    197.6,2,    91.20,2,    30.73,2,     2.10,2,    97.49,2,   -0.184,2,    0.000,2
  09AR20120105,  I09S,    34,  1,     11,     11,2,20120126,0459,-58.0018, 115.0090, 4559,   1700.5,   1.4337,  34.7379,2,  34.7386,2,    200.7,2,    200.6,2,    99.70,2,    31.01,2,     2.12,2,    97.43,2,   -0.185,2,    0.000,2
  09AR20120105,  I09S,    34,  1,     10,     10,2,20120126,0459,-58.0018, 115.0090, 4559,   1997.9,   1.1722,  34.7265,2,  34.7301,2,    203.6,2,    203.7,2,   107.80,2,    31.39,2,     2.16,2,    97.36,2,   -0.183,2,    0.000,2
  09AR20120105,  I09S,    34,  1,      9,      9,2,20120126,0459,-58.0018, 115.0090, 4559,   2300.1,   0.9196,  34.7129,2,  34.7131,2,    206.1,2,    206.6,2,   114.60,2,    31.79,2,     2.19,2,    97.31,2,   -0.179,2,    0.000,2
  09AR20120105,  I09S,    34,  1,      8,      8,2,20120126,0459,-58.0018, 115.0090, 4559,   2600.7,   0.6987,  34.7014,2,  34.7017,2,    209.8,2,    210.1,2,   120.70,2,    32.24,2,     2.23,2,    97.26,2,   -0.182,2,    0.000,2
  09AR20120105,  I09S,    34,  1,      7,      7,2,20120126,0459,-58.0018, 115.0090, 4559,   2902.0,   0.4910,  34.6906,2,  34.6903,2,    213.9,2,    214.6,2,   125.10,2,    32.44,2,     2.24,2,    97.24,2,   -0.180,2,    0.000,2
  09AR20120105,  I09S,    34,  1,      6,      6,2,20120126,0459,-58.0018, 115.0090, 4559,   3200.3,   0.3539,  34.6848,2,  34.6844,2,    218.3,2,    218.4,2,   128.40,2,    32.45,2,     2.25,2,    97.21,2,   -0.181,2,    0.000,2
  09AR20120105,  I09S,    34,  1,      5,      5,2,20120126,0459,-58.0018, 115.0090, 4559,   3549.7,   0.2304,  34.6793,2,  34.6789,2,    222.3,2,    222.4,2,   131.60,2,    32.58,2,     2.26,2,    97.19,2,   -0.179,2,    0.000,2
  09AR20120105,  I09S,    34,  1,      4,      4,2,20120126,0459,-58.0018, 115.0090, 4559,   3902.3,   0.1378,  34.6747,2,  34.6743,2,    226.1,2,    226.2,2,   133.90,2,    32.52,2,     2.26,2,    97.18,2,   -0.191,2,    0.000,2
  09AR20120105,  I09S,    34,  1,      3,      3,2,20120126,0459,-58.0018, 115.0090, 4559,   4201.1,   0.0595,  34.6693,2,  34.6696,2,    229.5,2,    229.8,2,   133.40,2,    32.51,2,     2.25,2,    97.16,2,   -0.186,2,    0.000,2
  09AR20120105,  I09S,    34,  1,      2,      2,2,20120126,0459,-58.0018, 115.0090, 4559,   4526.6,  -0.0122,  34.6622,2,  34.6616,2,    233.6,2,    233.6,2,   134.80,2,    32.47,2,     2.25,2,    97.14,2,   -0.183,2,    0.000,2
  09AR20120105,  I09S,    34,  1,      1,      1,2,20120126,0459,-58.0018, 115.0090, 4559,   4643.2,  -0.0216,  34.6601,2,  34.6610,2,    234.6,2,    234.7,2,   135.60,2,    32.37,2,     2.25,2,    97.13,2,   -0.177,2,    0.000,2
  09AR20120105,  I09S,    35,  1,     24,     24,2,20120127,0847,-57.4078, 114.9950, 4548,      9.0,   3.5808,  33.8406,2,  33.8422,2,    321.9,2,    321.2,2,    14.60,2,    25.69,2,     1.67,2,    95.95,2,    0.873,2,    3.050,2
  09AR20120105,  I09S,    35,  1,     23,     23,2,20120127,0847,-57.4078, 114.9950, 4548,     29.9,   3.4606,  33.8413,2,-999.0000,9,    321.2,2,   -999.0,9,  -999.00,9,  -999.00,9,  -999.00,9,    95.61,2,    0.944,2,    0.849,2
  09AR20120105,  I09S,    35,  1,     22,     22,2,20120127,0847,-57.4078, 114.9950, 4548,     29.8,   3.4627,  33.8413,2,-999.0000,9,    321.2,2,   -999.0,9,  -999.00,9,  -999.00,9,  -999.00,9,    95.52,2,    0.921,2,    0.834,2
  09AR20120105,  I09S,    35,  1,     21,     21,2,20120127,0847,-57.4078, 114.9950, 4548,     30.0,   3.4651,  33.8411,2,  33.8418,2,    321.2,2,    321.7,2,    14.60,2,    25.53,2,     1.67,2,    95.61,2,    0.961,2,    0.849,2
  09AR20120105,  I09S,    35,  1,     20,     20,2,20120127,0847,-57.4078, 114.9950, 4548,     59.3,   3.3882,  33.8430,2,  33.8443,2,    322.0,2,    321.6,2,    14.80,2,    25.56,2,     1.69,2,    95.77,2,    1.113,2,    0.196,2
  09AR20120105,  I09S,    35,  1,     19,     19,2,20120127,0847,-57.4078, 114.9950, 4548,    110.2,   1.8656,  33.9121,2,  33.9124,2,    322.1,2,    318.1,2,    21.30,2,    28.09,2,     1.91,2,    97.93,2,   -0.027,2,    0.000,2
  09AR20120105,  I09S,    35,  1,     18,     18,2,20120127,0847,-57.4078, 114.9950, 4548,    159.5,   1.1764,  33.9801,2,  33.9806,2,    306.4,2,    307.1,2,    29.60,2,    29.57,2,     1.99,2,    97.95,2,   -0.156,2,    0.000,2
  09AR20120105,  I09S,    35,  1,     17,     17,2,20120127,0847,-57.4078, 114.9950, 4548,    249.8,   1.9140,  34.2535,2,  34.2556,2,    228.2,2,    229.2,2,    50.90,2,    33.39,2,     2.28,2,    97.92,2,   -0.179,2,    0.000,2
  09AR20120105,  I09S,    35,  1,     16,     16,2,20120127,0847,-57.4078, 114.9950, 4548,    381.6,   2.2463,  34.4663,2,  34.4677,2,    186.9,2,    185.3,2,    67.00,2,    34.38,2,     2.35,2,    97.63,2,   -0.186,2,    0.000,2
  09AR20120105,  I09S,    35,  1,     15,     15,2,20120127,0847,-57.4078, 114.9950, 4548,    525.3,   2.2950,  34.5805,2,  34.5804,2,    177.8,2,    177.5,2,    73.50,2,    33.63,2,     2.30,2,    97.63,2,   -0.178,2,    0.000,2
  09AR20120105,  I09S,    35,  1,     14,     14,2,20120127,0847,-57.4078, 114.9950, 4548,    600.9,   2.2591,  34.6228,2,  34.6225,2,    177.0,2,    177.4,2,    76.00,2,    33.24,2,     2.26,2,    97.62,2,   -0.183,2,    0.000,2
  09AR20120105,  I09S,    35,  1,     13,     13,2,20120127,0847,-57.4078, 114.9950, 4548,    848.9,   2.1980,  34.7045,2,  34.7038,2,    182.8,2,    184.4,2,    78.80,2,    31.58,2,     2.15,2,    97.60,2,   -0.176,2,    0.000,2
  09AR20120105,  I09S,    35,  1,     12,     12,2,20120127,0847,-57.4078, 114.9950, 4548,   1200.3,   1.9551,  34.7422,2,  34.7427,2,    192.5,2,    193.0,2,    84.80,2,    30.57,2,     2.08,2,    97.56,2,   -0.182,2,    0.000,2
  09AR20120105,  I09S,    35,  1,     11,     11,2,20120127,0847,-57.4078, 114.9950, 4548,   1501.9,   1.7395,  34.7472,2,  34.7477,2,    197.5,2,    197.6,2,    91.00,2,    30.47,2,     2.08,2,    97.49,2,   -0.176,2,    0.000,2
  09AR20120105,  I09S,    35,  1,     10,     10,2,20120127,0847,-57.4078, 114.9950, 4548,   1799.4,   1.4344,  34.7386,2,  34.7388,2,    201.2,2,    201.2,2,   100.30,2,    30.87,2,     2.12,2,    97.43,2,   -0.176,2,    0.000,2
  09AR20120105,  I09S,    35,  1,      9,      9,2,20120127,0847,-57.4078, 114.9950, 4548,   2148.1,   1.1333,  34.7240,2,  34.7244,2,    204.3,2,    204.6,2,   109.00,2,    31.56,2,     2.15,2,    97.36,2,   -0.184,2,    0.000,2
  09AR20120105,  I09S,    35,  1,      8,      8,2,20120127,0847,-57.4078, 114.9950, 4548,   2500.3,   0.8632,  34.7103,2,  34.7101,2,    208.2,2,    208.1,2,   117.20,2,    32.06,2,     2.20,2,    97.30,2,   -0.184,2,    0.000,2
  09AR20120105,  I09S,    35,  1,      7,      7,2,20120127,0847,-57.4078, 114.9950, 4548,   2851.1,   0.5808,  34.6963,2,  34.6956,2,    213.8,2,   -999.0,9,   125.20,2,    32.60,2,     2.23,2,    97.25,2,   -0.186,2,    0.000,2
  09AR20120105,  I09S,    35,  1,      6,      6,2,20120127,0847,-57.4078, 114.9950, 4548,   3150.2,   0.4160,  34.6879,2,  34.6869,2,    217.9,2,    217.3,2,   129.00,2,    32.82,2,     2.26,2,    97.21,2,   -0.183,2,    0.000,2
  09AR20120105,  I09S,    35,  1,      5,      5,2,20120127,0847,-57.4078, 114.9950, 4548,   3502.3,   0.2560,  34.6801,2,  34.6802,2,    221.6,2,    222.6,2,   131.70,2,    32.68,2,     2.26,2,    97.20,2,   -0.182,2,    0.000,2
  09AR20120105,  I09S,    35,  1,      4,      4,2,20120127,0847,-57.4078, 114.9950, 4548,   3850.6,   0.1798,  34.6760,2,  34.6755,2,    224.7,2,    224.9,2,   134.00,2,    32.42,2,     2.26,2,    97.19,2,   -0.184,2,    0.000,2
  09AR20120105,  I09S,    35,  1,      3,      3,2,20120127,0847,-57.4078, 114.9950, 4548,   4199.8,   0.1084,  34.6717,2,  34.6706,2,    227.5,2,    228.1,2,   134.20,2,    32.27,2,     2.24,2,    97.18,2,   -0.187,2,    0.000,2
  09AR20120105,  I09S,    35,  1,      2,      2,2,20120127,0847,-57.4078, 114.9950, 4548,   4499.3,   0.0386,  34.6660,2,  34.6659,2,    230.6,2,    231.5,2,   135.40,2,    32.23,2,     2.24,2,    97.16,2,   -0.184,2,    0.000,2
  09AR20120105,  I09S,    35,  1,      1,      1,2,20120127,0847,-57.4078, 114.9950, 4548,   4630.5,   0.0256,  34.6640,2,  34.6623,2,    231.5,2,    232.7,2,   135.20,2,    32.24,2,     2.24,2,    97.15,2,   -0.182,2,    0.000,2
  09AR20120105,  I09S,    36,  1,     24,     24,2,20120127,1552,-56.8077, 115.0060, 4522,      9.4,   2.8385,  33.8462,2,  33.8474,2,    326.2,2,    326.2,2,    16.50,2,    26.00,2,     1.70,2,    95.67,2,    1.193,2,    0.000,2
  09AR20120105,  I09S,    36,  1,     23,     23,2,20120127,1552,-56.8077, 115.0060, 4522,     45.5,   2.8430,  33.8463,2,-999.0000,9,    327.0,2,   -999.0,9,  -999.00,9,  -999.00,9,  -999.00,9,    95.58,2,    1.148,2,    0.000,2
  09AR20120105,  I09S,    36,  1,     22,     22,2,20120127,1552,-56.8077, 115.0060, 4522,     45.3,   2.8439,  33.8464,2,-999.0000,9,    327.0,2,   -999.0,9,  -999.00,9,  -999.00,9,  -999.00,9,    95.59,2,    1.128,2,    0.000,2
  09AR20120105,  I09S,    36,  1,     21,     21,2,20120127,1552,-56.8077, 115.0060, 4522,     45.6,   2.8445,  33.8464,2,  33.8472,2,    327.0,2,    325.5,2,    16.50,2,    26.03,2,     1.70,2,    95.54,2,    1.144,2,    0.000,2
  09AR20120105,  I09S,    36,  1,     20,     20,2,20120127,1552,-56.8077, 115.0060, 4522,     88.5,   2.8171,  33.8481,2,  33.8490,2,    329.0,2,    325.8,2,    16.70,2,    26.03,2,     1.71,2,    95.61,2,    1.208,2,    0.000,2
  09AR20120105,  I09S,    36,  1,     19,     19,2,20120127,1552,-56.8077, 115.0060, 4522,    111.4,   2.1167,  33.8741,2,  33.8742,2,    333.3,2,    328.8,2,    19.40,2,    26.60,2,     1.84,2,    97.67,2,    0.614,2,    0.000,2
  09AR20120105,  I09S,    36,  1,     18,     18,2,20120127,1552,-56.8077, 115.0060, 4522,    159.9,   1.0386,  33.9643,2,  33.9673,2,    313.6,2,    312.3,2,    29.80,2,    29.57,2,     2.00,2,    97.96,2,   -0.127,2,    0.000,2
  09AR20120105,  I09S,    36,  1,     17,     17,2,20120127,1552,-56.8077, 115.0060, 4522,    250.4,   1.9118,  34.3135,2,  34.3144,2,    216.0,2,    215.6,2,    57.30,2,    34.18,2,     2.32,2,    97.86,2,   -0.182,2,    0.000,2
  09AR20120105,  I09S,    36,  1,     16,     16,2,20120127,1552,-56.8077, 115.0060, 4522,    374.8,   2.2000,  34.4874,2,  34.4881,2,    183.2,2,    182.4,2,    70.10,2,    34.67,2,     2.37,2,    97.62,2,   -0.177,2,    0.000,2
  09AR20120105,  I09S,    36,  1,     15,     15,2,20120127,1552,-56.8077, 115.0060, 4522,    499.5,   2.2573,  34.5872,2,  34.5867,2,    176.4,2,    176.6,2,    75.30,2,    33.85,2,     2.31,2,    97.62,2,   -0.176,2,    0.000,2
  09AR20120105,  I09S,    36,  1,     14,     14,2,20120127,1552,-56.8077, 115.0060, 4522,    600.3,   2.2445,  34.6342,2,  34.6337,2,    177.1,2,    177.7,2,    77.30,2,    33.09,2,     2.26,2,    97.60,2,   -0.178,2,    0.000,2
  09AR20120105,  I09S,    36,  1,     13,     13,2,20120127,1552,-56.8077, 115.0060, 4522,    900.5,   2.0748,  34.7071,2,  34.7068,2,    184.8,2,    185.0,2,    82.20,2,    31.76,2,     2.17,2,    97.57,2,   -0.177,2,    0.000,2
  09AR20120105,  I09S,    36,  1,     12,     12,2,20120127,1552,-56.8077, 115.0060, 4522,   1175.6,   1.9149,  34.7388,2,  34.7390,2,    191.5,2,    192.3,2,    86.60,2,    30.78,2,     2.10,2,    97.52,2,   -0.174,2,    0.000,2
  09AR20120105,  I09S,    36,  1,     11,     11,2,20120127,1552,-56.8077, 115.0060, 4522,   1449.8,   1.6855,  34.7433,2,  34.7429,2,    196.9,2,    197.1,2,    93.10,2,    30.70,2,     2.11,2,    97.47,2,   -0.178,2,    0.000,2
  09AR20120105,  I09S,    36,  1,     10,     10,2,20120127,1552,-56.8077, 115.0060, 4522,   1700.0,   1.4583,  34.7389,2,  34.7386,2,    200.5,2,    200.6,2,    99.70,2,    30.91,2,     2.12,2,    97.42,2,   -0.179,2,    0.000,2
  09AR20120105,  I09S,    36,  1,      9,      9,2,20120127,1552,-56.8077, 115.0060, 4522,   2049.8,   1.1706,  34.7265,2,  34.7268,2,    204.0,2,    204.0,2,   108.70,2,    31.43,2,     2.17,2,    97.36,2,   -0.178,2,    0.000,2
  09AR20120105,  I09S,    36,  1,      8,      8,2,20120127,1552,-56.8077, 115.0060, 4522,   2400.0,   0.9029,  34.7120,2,  34.7117,2,    207.2,2,    207.2,2,   116.10,2,    31.91,2,     2.20,2,    97.30,2,   -0.183,2,    0.000,2
  09AR20120105,  I09S,    36,  1,      7,      7,2,20120127,1552,-56.8077, 115.0060, 4522,   2800.3,   0.6120,  34.6977,2,  34.6965,2,    213.0,2,    213.0,2,   124.30,2,    32.36,2,     2.24,2,    97.25,2,   -0.183,2,    0.000,2
  09AR20120105,  I09S,    36,  1,      6,      6,2,20120127,1552,-56.8077, 115.0060, 4522,   3199.6,   0.3967,  34.6873,2,  34.6861,2,    218.1,2,    218.0,2,   130.20,2,    32.47,2,     2.24,2,    97.21,2,   -0.185,2,    0.000,2
  09AR20120105,  I09S,    36,  1,      5,      5,2,20120127,1552,-56.8077, 115.0060, 4522,   3600.0,   0.2662,  34.6803,2,  34.6789,2,    222.3,2,    222.2,2,   132.30,2,    32.61,2,     2.25,2,    97.20,2,   -0.181,2,    0.000,2
  09AR20120105,  I09S,    36,  1,      4,      4,2,20120127,1552,-56.8077, 115.0060, 4522,   3951.4,   0.1849,  34.6758,2,  34.6743,2,    225.3,2,    225.0,2,   134.60,2,    32.49,2,     2.25,2,    97.19,2,   -0.188,2,    0.000,2
  09AR20120105,  I09S,    36,  1,      3,      3,2,20120127,1552,-56.8077, 115.0060, 4522,   4301.0,   0.1008,  34.6707,2,  34.6694,2,    228.9,2,    228.6,2,   136.40,2,    32.47,2,     2.25,2,    97.17,2,   -0.179,2,    0.000,2
  09AR20120105,  I09S,    36,  1,      2,      2,2,20120127,1552,-56.8077, 115.0060, 4522,   4499.4,   0.0652,  34.6678,2,  34.6661,2,    231.0,2,    230.7,2,   136.00,2,    32.50,2,     2.26,2,    97.16,2,   -0.182,2,    0.000,2
  09AR20120105,  I09S,    36,  1,      1,      1,2,20120127,1552,-56.8077, 115.0060, 4522,   4600.8,   0.0468,  34.6657,2,  34.6641,2,    232.0,2,    231.6,2,   136.60,2,    32.39,2,     2.25,2,    97.16,2,   -0.189,2,    0.000,2