BOTTLE,20220815CCHSIOAMB
# Removed rows that only had fill values
#BOTTLE,20131017PRINUNIVRMK
# 10/28/2013 Initialized README file  
# Data source: CCHDO 10/17/13 
# SHIP: Aurora Australis 
# Cruise: I09S 
# Region: South of Australia on 117E 
# EXPOCODE: 09AR20120105 
# DATES: 1/5 - 2/12/2012 
# Chief Scientist: S. Rintoul 
# 88 stations with 24 place Rosette 
# Hydro: Who - S.Rintoul; Status - final 
# 	Notes: 	 
# Nuts: Who - S.Rintoul; Status - final  
# 	Notes: nitrate is really NO3+NO2 
# O2: Who - S.Rintoul; Status - final 
# 	Notes: 
# TCO2: Who - ; Status - 
# 	Notes:  
# Other: CTD values for fluorescence, par and transmiss.  
# References: 
EXPOCODE,SECT_ID,STNNBR,CASTNO,SAMPNO,BTLNBR,BTLNBR_FLAG_W,DATE,TIME,LATITUDE,LONGITUDE,DEPTH,CTDPRS,CTDTMP,CTDSAL,CTDSAL_FLAG_W,SALNTY,SALNTY_FLAG_W,CTDOXY,CTDOXY_FLAG_W,OXYGEN,OXYGEN_FLAG_W,SILCAT,SILCAT_FLAG_W,NITRAT,NITRAT_FLAG_W,PHSPHT,PHSPHT_FLAG_W,XMISS,XMISS_FLAG_W,FLUOR,FLUOR_FLAG_W,PAR,PAR_FLAG_W
,,,,,,,,,,,METERS,DBAR,ITS-90,PSS-78,,PSS-78,,UMOL/KG,,UMOL/KG,,UMOL/KG,,UMOL/KG,,UMOL/KG,,%TRANS,,VOLTS,,VOLTS,
  09AR20120105,  I09S,     1,  1,     24,     24,2,20120108,0756,-55.9960, 145.1910, 2856,      6.8,   2.6434,  33.7877,2,  33.7875,2,    333.6,2,    333.5,2,    21.30,2,    27.12,2,     1.83,2,    95.45,2,    0.618,2,   13.930,2
  09AR20120105,  I09S,     1,  1,     23,     23,2,20120108,0756,-55.9960, 145.1910, 2856,     50.5,   2.5099,  33.7892,2,-999.0000,9,    333.2,2,   -999.0,9,  -999.00,9,  -999.00,9,  -999.00,9,    95.33,2,    0.869,2,    1.490,2
  09AR20120105,  I09S,     1,  1,     22,     22,2,20120108,0756,-55.9960, 145.1910, 2856,     50.5,   2.5100,  33.7891,2,-999.0000,9,    333.2,2,   -999.0,9,  -999.00,9,  -999.00,9,  -999.00,9,    95.32,2,    0.865,2,    1.497,2
  09AR20120105,  I09S,     1,  1,     21,     21,2,20120108,0756,-55.9960, 145.1910, 2856,     50.5,   2.5084,  33.7889,2,  33.7915,2,    333.2,2,    334.5,2,    21.30,2,    27.09,2,     1.83,2,    95.35,2,    0.853,2,    1.493,2
  09AR20120105,  I09S,     1,  1,     20,     20,2,20120108,0756,-55.9960, 145.1910, 2856,     98.4,  -0.4648,  33.8460,2,  33.8435,2,    345.0,2,    346.4,2,    29.10,2,    28.34,2,     2.01,2,    97.34,2,    0.387,2,    0.111,2
  09AR20120105,  I09S,     1,  1,     19,     19,2,20120108,0756,-55.9960, 145.1910, 2856,    149.9,   0.3292,  34.1575,2,  34.1583,2,    246.5,2,    264.6,2,    50.00,2,    33.05,2,     2.26,2,    97.58,2,   -0.071,2,    0.000,2
  09AR20120105,  I09S,     1,  1,     18,     18,2,20120108,0756,-55.9960, 145.1910, 2856,    199.9,   2.0091,  34.3983,2,  34.3986,2,    189.4,2,    191.2,2,    64.70,2,    35.16,2,     2.40,2,    97.70,2,   -0.181,2,    0.000,2
  09AR20120105,  I09S,     1,  1,     17,     17,2,20120108,0756,-55.9960, 145.1910, 2856,    298.7,   2.2648,  34.5202,2,  34.5191,2,    173.6,2,    173.2,2,    72.90,2,    34.99,2,     2.40,2,    97.72,2,   -0.176,2,    0.000,2
  09AR20120105,  I09S,     1,  1,     16,     16,2,20120108,0756,-55.9960, 145.1910, 2856,    400.4,   2.2745,  34.5869,2,  34.5881,2,    171.8,2,    170.9,2,    76.60,2,    34.33,2,     2.35,2,    97.72,2,   -0.175,2,    0.000,2
  09AR20120105,  I09S,     1,  1,     15,     15,2,20120108,0756,-55.9960, 145.1910, 2856,    550.2,   2.2406,  34.6550,2,  34.6541,2,    175.4,2,    174.9,2,    79.10,2,    33.20,2,     2.27,2,    97.71,2,   -0.182,2,    0.000,2
  09AR20120105,  I09S,     1,  1,     14,     14,2,20120108,0756,-55.9960, 145.1910, 2856,    700.0,   2.1565,  34.6966,2,  34.6958,2,    180.3,2,    180.4,2,    81.30,2,    32.18,2,     2.21,2,    97.69,2,   -0.176,2,    0.000,2
  09AR20120105,  I09S,     1,  1,     13,     13,2,20120108,0756,-55.9960, 145.1910, 2856,    850.3,   2.0662,  34.7206,2,  34.7205,2,    184.3,2,    184.6,2,    83.20,2,    31.53,2,     2.16,2,    97.67,2,   -0.174,2,    0.000,2
  09AR20120105,  I09S,     1,  1,     12,     12,2,20120108,0756,-55.9960, 145.1910, 2856,    999.4,   1.9661,  34.7366,2,-999.0000,9,    189.1,2,   -999.0,9,  -999.00,9,  -999.00,9,  -999.00,9,    97.65,2,   -0.177,2,    0.000,2
  09AR20120105,  I09S,     1,  1,     11,     11,2,20120108,0756,-55.9960, 145.1910, 2856,    999.1,   1.9663,  34.7367,2,  34.7366,2,    189.1,2,    189.7,2,    85.60,2,    31.00,2,     2.13,2,    97.64,2,   -0.176,2,    0.000,2
  09AR20120105,  I09S,     1,  1,     10,     10,2,20120108,0756,-55.9960, 145.1910, 2856,   1201.2,   1.8346,  34.7451,2,  34.7447,2,    193.8,2,    193.9,2,    89.10,2,    30.68,2,     2.10,2,    97.60,2,   -0.182,2,    0.000,2
  09AR20120105,  I09S,     1,  1,      9,      9,2,20120108,0756,-55.9960, 145.1910, 2856,   1399.0,   1.6657,  34.7459,2,  34.7455,2,    197.4,2,    197.2,2,    93.60,2,    30.70,2,     2.10,2,    97.55,2,   -0.180,2,    0.000,2
  09AR20120105,  I09S,     1,  1,      8,      8,2,20120108,0756,-55.9960, 145.1910, 2856,   1600.8,   1.4551,  34.7408,2,  34.7400,2,    200.4,2,    200.2,2,    99.40,2,    30.95,2,     2.12,2,    97.52,2,   -0.188,2,    0.000,2
  09AR20120105,  I09S,     1,  1,      7,      7,2,20120108,0756,-55.9960, 145.1910, 2856,   1799.0,   1.2917,  34.7343,2,  34.7368,2,    202.5,2,    202.5,2,   104.40,2,  -999.00,9,     2.14,2,    97.49,2,   -0.184,2,    0.000,2
  09AR20120105,  I09S,     1,  1,      6,      6,2,20120108,0756,-55.9960, 145.1910, 2856,   2000.0,   1.1052,  34.7255,2,  34.7256,2,    204.4,2,    204.6,2,   109.90,2,    31.56,2,     2.17,2,    97.44,2,   -0.186,2,    0.000,2
  09AR20120105,  I09S,     1,  1,      5,      5,2,20120108,0756,-55.9960, 145.1910, 2856,   2198.7,   0.9507,  34.7177,2,  34.7188,2,    206.7,2,    206.7,2,   115.20,2,    31.76,2,     2.19,2,    97.41,2,   -0.177,2,    0.000,2
  09AR20120105,  I09S,     1,  1,      4,      4,2,20120108,0756,-55.9960, 145.1910, 2856,   2399.3,   0.7921,  34.7098,2,  34.7089,2,    209.4,2,    209.4,2,   119.70,2,    31.95,2,     2.21,2,    97.39,2,   -0.176,2,    0.000,2
  09AR20120105,  I09S,     1,  1,      3,      3,2,20120108,0756,-55.9960, 145.1910, 2856,   2599.5,   0.6379,  34.7023,2,  34.7030,2,    211.9,2,    211.7,2,   125.50,2,    32.18,2,     2.23,2,    97.36,2,   -0.186,2,    0.000,2
  09AR20120105,  I09S,     1,  1,      2,      2,2,20120108,0756,-55.9960, 145.1910, 2856,   2801.0,   0.5129,  34.6964,2,  34.6971,2,    214.5,2,    214.9,2,   131.30,2,    32.45,2,     2.24,2,    97.36,2,   -0.183,2,    0.000,2
  09AR20120105,  I09S,     1,  1,      1,      1,2,20120108,0756,-55.9960, 145.1910, 2856,   2886.2,   0.4947,  34.6954,2,  34.6942,2,    214.9,2,    214.6,2,   132.80,2,  -999.00,9,     2.22,2,    97.38,2,   -0.185,2,    0.000,2
  09AR20120105,  I09S,     2,  1,     24,     24,2,20120110,1846,-66.9103, 145.3840,  708,      3.9,  -1.0773,  34.0452,2,-999.0000,9,   -999.0,5,   -999.0,9,  -999.00,9,  -999.00,9,  -999.00,9,    73.55,2,   19.542,2,   52.560,2
  09AR20120105,  I09S,     2,  1,     23,     23,2,20120110,1846,-66.9103, 145.3840,  708,      3.8,  -1.0774,  34.0454,2,-999.0000,9,   -999.0,5,   -999.0,9,  -999.00,9,  -999.00,9,  -999.00,9,    73.59,2,   19.938,2,   52.520,2
  09AR20120105,  I09S,     2,  1,     22,     22,2,20120110,1846,-66.9103, 145.3840,  708,      3.8,  -1.0784,  34.0454,2,-999.0000,9,   -999.0,5,   -999.0,9,  -999.00,9,  -999.00,9,  -999.00,9,    72.36,2,   20.016,2,   51.890,2
  09AR20120105,  I09S,     2,  1,     21,     21,2,20120110,1846,-66.9103, 145.3840,  708,      3.8,  -1.0794,  34.0456,2,-999.0000,9,   -999.0,5,   -999.0,9,  -999.00,9,  -999.00,9,  -999.00,9,    73.47,2,   18.887,2,   52.460,2
  09AR20120105,  I09S,     2,  1,     20,     20,2,20120110,1846,-66.9103, 145.3840,  708,      3.8,  -1.0788,  34.0453,2,  34.0460,2,   -999.0,5,   -999.0,9,    66.60,2,    17.89,2,     1.43,2,    74.56,2,   19.677,2,   54.020,2
  09AR20120105,  I09S,     2,  1,     19,     19,2,20120110,1846,-66.9103, 145.3840,  708,     19.2,  -1.0870,  34.0522,2,-999.0000,9,   -999.0,5,   -999.0,9,  -999.00,9,  -999.00,9,  -999.00,9,    73.83,2,   28.964,2,    0.863,2
  09AR20120105,  I09S,     2,  1,     18,     18,2,20120110,1846,-66.9103, 145.3840,  708,     39.9,  -1.0845,  34.0768,2,-999.0000,9,   -999.0,5,   -999.0,9,  -999.00,9,  -999.00,9,  -999.00,9,    73.67,2,   26.739,2,    0.000,2
  09AR20120105,  I09S,     2,  1,     17,     17,2,20120110,1846,-66.9103, 145.3840,  708,     59.4,  -1.1690,  34.1663,2,  34.1848,2,   -999.0,5,   -999.0,9,    67.70,2,    21.40,2,     1.65,2,    79.53,2,   19.455,2,    0.000,2
  09AR20120105,  I09S,     2,  1,     16,     16,2,20120110,1846,-66.9103, 145.3840,  708,     59.3,  -1.1671,  34.1624,2,-999.0000,9,   -999.0,5,   -999.0,9,  -999.00,9,  -999.00,9,  -999.00,9,    79.12,2,   22.783,2,    0.000,2
  09AR20120105,  I09S,     2,  1,     15,     15,2,20120110,1846,-66.9103, 145.3840,  708,     80.2,  -1.3623,  34.2727,2,-999.0000,9,   -999.0,5,   -999.0,9,  -999.00,9,  -999.00,9,  -999.00,9,    87.15,2,    9.688,2,    0.000,2
  09AR20120105,  I09S,     2,  1,     14,     14,2,20120110,1846,-66.9103, 145.3840,  708,    104.9,  -1.6751,  34.3739,2,-999.0000,9,    313.8,2,   -999.0,9,  -999.00,9,  -999.00,9,  -999.00,9,    94.76,2,    2.629,2,    0.000,2
  09AR20120105,  I09S,     2,  1,     13,     13,2,20120110,1846,-66.9103, 145.3840,  708,    104.8,  -1.6761,  34.3751,2,  34.3839,2,    313.8,2,    313.8,2,    71.90,2,    29.29,2,     2.05,2,    95.00,2,    3.766,2,    0.000,2
  09AR20120105,  I09S,     2,  1,     12,     12,2,20120110,1846,-66.9103, 145.3840,  708,    150.7,  -1.8001,  34.4417,2,-999.0000,9,    304.1,2,   -999.0,9,  -999.00,9,  -999.00,9,  -999.00,9,    96.59,2,    0.005,2,    0.000,2
  09AR20120105,  I09S,     2,  1,     11,     11,2,20120110,1846,-66.9103, 145.3840,  708,    150.7,  -1.7994,  34.4416,2,-999.0000,9,    304.1,2,   -999.0,9,  -999.00,9,  -999.00,9,  -999.00,9,    96.58,2,   -0.010,2,    0.000,2
  09AR20120105,  I09S,     2,  1,     10,     10,2,20120110,1846,-66.9103, 145.3840,  708,    150.7,  -1.7987,  34.4415,2,-999.0000,9,    304.1,2,   -999.0,9,  -999.00,9,  -999.00,9,  -999.00,9,    96.58,2,   -0.088,2,    0.000,2
  09AR20120105,  I09S,     2,  1,      9,      9,2,20120110,1846,-66.9103, 145.3840,  708,    150.6,  -1.8019,  34.4419,2,  34.4553,4,    304.1,2,    305.6,2,    75.20,2,    30.34,2,     2.08,2,    96.58,2,   -0.093,2,    0.000,2
  09AR20120105,  I09S,     2,  1,      8,      8,2,20120110,1846,-66.9103, 145.3840,  708,    201.3,  -1.8536,  34.4803,2,  34.4818,2,    306.8,2,    307.1,2,    75.20,2,    30.32,2,     2.09,2,    96.57,2,   -0.016,2,    0.000,2
  09AR20120105,  I09S,     2,  1,      7,      7,2,20120110,1846,-66.9103, 145.3840,  708,    301.5,  -2.0009,  34.5064,2,-999.0000,9,    309.6,2,   -999.0,9,  -999.00,9,  -999.00,9,  -999.00,9,    96.56,2,   -0.176,2,    0.000,2
  09AR20120105,  I09S,     2,  1,      6,      6,2,20120110,1846,-66.9103, 145.3840,  708,    301.5,  -2.0011,  34.5063,2,-999.0000,9,    309.6,2,   -999.0,9,  -999.00,9,  -999.00,9,  -999.00,9,    96.57,2,   -0.172,2,    0.000,2
  09AR20120105,  I09S,     2,  1,      5,      5,2,20120110,1846,-66.9103, 145.3840,  708,    301.5,  -2.0041,  34.5063,2,-999.0000,9,    309.6,2,   -999.0,9,  -999.00,9,  -999.00,9,  -999.00,9,    96.56,2,   -0.166,2,    0.000,2
  09AR20120105,  I09S,     2,  1,      4,      4,2,20120110,1846,-66.9103, 145.3840,  708,    301.4,  -2.0018,  34.5064,2,  34.5072,2,    309.6,2,    310.9,2,    75.90,2,    30.38,2,     2.10,2,    96.57,2,   -0.141,2,    0.000,2
  09AR20120105,  I09S,     2,  1,      3,      3,2,20120110,1846,-66.9103, 145.3840,  708,    448.6,  -1.9869,  34.5345,2,  34.5321,2,    312.0,2,    311.6,2,    76.00,2,    30.31,2,     2.10,2,    96.58,2,   -0.182,2,    0.000,2
  09AR20120105,  I09S,     2,  1,      2,      2,2,20120110,1846,-66.9103, 145.3840,  708,    600.0,  -1.9009,  34.5528,2,  34.5529,2,    312.4,2,    312.0,2,    75.30,2,    30.23,2,     2.09,2,    96.59,2,   -0.177,2,    0.000,2
  09AR20120105,  I09S,     2,  1,      1,      1,2,20120110,1846,-66.9103, 145.3840,  708,    711.5,  -1.8865,  34.5726,2,  34.5718,2,    314.2,2,    313.4,2,    75.90,2,    30.10,2,     2.09,2,    96.69,2,   -0.158,2,    0.000,2
  09AR20120105,  I09S,     3,  1,     24,     24,2,20120111,0045,-67.2218, 145.8550,  709,      4.8,  -0.9209,  33.9829,2,-999.0000,9,    401.6,2,   -999.0,9,  -999.00,9,  -999.00,9,  -999.00,9,    63.43,2,   30.245,2,  160.300,2
  09AR20120105,  I09S,     3,  1,     23,     23,2,20120111,0045,-67.2218, 145.8550,  709,      4.8,  -0.9208,  33.9830,2,-999.0000,9,    401.6,2,   -999.0,9,  -999.00,9,  -999.00,9,  -999.00,9,    63.97,2,   31.903,2,  156.700,2
  09AR20120105,  I09S,     3,  1,     22,     22,2,20120111,0045,-67.2218, 145.8550,  709,      4.8,  -0.9200,  33.9830,2,-999.0000,9,    401.6,2,   -999.0,9,  -999.00,9,  -999.00,9,  -999.00,9,    62.87,2,   30.126,2,  154.300,2
  09AR20120105,  I09S,     3,  1,     21,     21,2,20120111,0045,-67.2218, 145.8550,  709,      4.8,  -0.9192,  33.9829,2,  33.9831,2,    401.6,2,    401.2,2,    68.30,2,    14.58,2,     1.27,2,    62.91,2,   30.001,2,  154.900,2
  09AR20120105,  I09S,     3,  1,     20,     20,2,20120111,0045,-67.2218, 145.8550,  709,     19.7,  -0.9565,  33.9833,2,-999.0000,9,    401.0,2,   -999.0,9,  -999.00,9,  -999.00,9,  -999.00,9,    63.63,2,   33.982,2,    1.814,2
  09AR20120105,  I09S,     3,  1,     19,     19,2,20120111,0045,-67.2218, 145.8550,  709,     29.4,  -0.9876,  33.9838,2,-999.0000,9,    400.3,2,   -999.0,9,  -999.00,9,  -999.00,9,  -999.00,9,    64.53,2,   33.982,2,    0.134,2
  09AR20120105,  I09S,     3,  1,     18,     18,2,20120111,0045,-67.2218, 145.8550,  709,     45.1,  -1.1484,  34.0441,2,-999.0000,9,    395.0,2,   -999.0,9,  -999.00,9,  -999.00,9,  -999.00,9,    66.44,2,   33.390,2,    0.000,2
  09AR20120105,  I09S,     3,  1,     17,     17,2,20120111,0045,-67.2218, 145.8550,  709,     45.1,  -1.1560,  34.0487,2,  34.0237,2,    395.0,2,    389.9,2,    69.60,2,    16.70,2,     1.42,2,    67.24,2,   32.380,2,    0.000,2
  09AR20120105,  I09S,     3,  1,     16,     16,2,20120111,0045,-67.2218, 145.8550,  709,     64.9,  -1.6698,  34.3415,2,-999.0000,9,    343.0,2,   -999.0,9,  -999.00,9,  -999.00,9,  -999.00,9,    88.71,2,    7.048,2,    0.000,2
  09AR20120105,  I09S,     3,  1,     15,     15,2,20120111,0045,-67.2218, 145.8550,  709,     74.4,  -1.7390,  34.3730,2,-999.0000,9,    323.8,2,   -999.0,9,  -999.00,9,  -999.00,9,  -999.00,9,    94.88,2,    2.874,2,    0.000,2
  09AR20120105,  I09S,     3,  1,     14,     14,2,20120111,0045,-67.2218, 145.8550,  709,    100.6,  -1.7594,  34.3869,2,-999.0000,9,    311.7,2,   -999.0,9,  -999.00,9,  -999.00,9,  -999.00,9,    96.62,2,    0.505,2,    0.000,2
  09AR20120105,  I09S,     3,  1,     13,     13,2,20120111,0045,-67.2218, 145.8550,  709,    100.5,  -1.7594,  34.3871,2,  34.3882,2,    311.7,2,    309.9,2,    73.90,2,    30.12,2,     2.07,2,    96.62,2,    0.601,2,    0.000,2
  09AR20120105,  I09S,     3,  1,     12,     12,2,20120111,0045,-67.2218, 145.8550,  709,    149.8,  -1.7472,  34.4033,2,-999.0000,9,    305.8,2,   -999.0,9,  -999.00,9,  -999.00,9,  -999.00,9,    96.59,2,   -0.045,2,    0.000,2
  09AR20120105,  I09S,     3,  1,     11,     11,2,20120111,0045,-67.2218, 145.8550,  709,    149.9,  -1.7468,  34.4034,2,-999.0000,9,    305.8,2,   -999.0,9,  -999.00,9,  -999.00,9,  -999.00,9,    96.60,2,   -0.095,2,    0.000,2
  09AR20120105,  I09S,     3,  1,     10,     10,2,20120111,0045,-67.2218, 145.8550,  709,    149.8,  -1.7467,  34.4033,2,-999.0000,9,    305.8,2,   -999.0,9,  -999.00,9,  -999.00,9,  -999.00,9,    96.60,2,   -0.094,2,    0.000,2
  09AR20120105,  I09S,     3,  1,      9,      9,2,20120111,0045,-67.2218, 145.8550,  709,    149.9,  -1.7469,  34.4030,2,  34.4025,2,    305.8,2,    311.0,2,    75.20,2,    30.35,2,     2.09,2,    96.60,2,   -0.107,2,    0.000,2
  09AR20120105,  I09S,     3,  1,      8,      8,2,20120111,0045,-67.2218, 145.8550,  709,    199.7,  -1.7564,  34.4132,2,  34.4131,2,    304.7,2,    302.7,2,    75.80,2,    30.41,2,     2.08,2,    96.59,2,   -0.152,2,    0.000,2
  09AR20120105,  I09S,     3,  1,      7,      7,2,20120111,0045,-67.2218, 145.8550,  709,    300.2,  -1.7518,  34.4361,2,-999.0000,9,    302.5,2,   -999.0,9,  -999.00,9,  -999.00,9,  -999.00,9,    96.59,2,   -0.166,2,    0.000,2
  09AR20120105,  I09S,     3,  1,      6,      6,2,20120111,0045,-67.2218, 145.8550,  709,    300.3,  -1.7526,  34.4362,2,-999.0000,9,    302.5,2,   -999.0,9,  -999.00,9,  -999.00,9,  -999.00,9,    96.59,2,   -0.156,2,    0.000,2
  09AR20120105,  I09S,     3,  1,      5,      5,2,20120111,0045,-67.2218, 145.8550,  709,    300.3,  -1.7535,  34.4360,2,-999.0000,9,    302.5,2,   -999.0,9,  -999.00,9,  -999.00,9,  -999.00,9,    96.59,2,   -0.171,2,    0.000,2
  09AR20120105,  I09S,     3,  1,      4,      4,2,20120111,0045,-67.2218, 145.8550,  709,    300.1,  -1.7551,  34.4357,2,  34.4343,2,    302.5,2,    300.4,2,    76.10,2,    30.46,2,     2.10,2,    96.59,2,   -0.121,2,    0.000,2
  09AR20120105,  I09S,     3,  1,      3,      3,2,20120111,0045,-67.2218, 145.8550,  709,    450.7,  -1.8523,  34.4822,2,  34.4811,2,    305.0,2,    303.3,2,    76.50,2,    30.48,2,     2.08,2,    96.58,2,   -0.178,2,    0.000,2
  09AR20120105,  I09S,     3,  1,      2,      2,2,20120111,0045,-67.2218, 145.8550,  709,    600.4,  -1.8975,  34.5498,2,  34.5486,2,    311.5,2,    311.4,2,    76.00,2,    30.40,2,     2.09,2,    96.59,2,   -0.178,2,    0.000,2
  09AR20120105,  I09S,     3,  1,      1,      1,2,20120111,0045,-67.2218, 145.8550,  709,    714.7,  -1.8893,  34.5686,2,  34.5669,2,    313.8,2,    314.7,2,    75.90,2,    30.37,2,     2.09,2,    96.64,2,   -0.180,2,    0.000,2