BOTTLE,20220815CCHSIOAMB
EXPOCODE,SECT_ID,STNNBR,CASTNO,SAMPNO,BTLNBR,BTLNBR_FLAG_W,DATE,TIME,LATITUDE,LONGITUDE,DEPTH,CTDPRS,CTDTMP,CTDSAL,CTDSAL_FLAG_W,SALNTY,SALNTY_FLAG_W,CTDOXY,CTDOXY_FLAG_W,OXYGEN,OXYGEN_FLAG_W,SILCAT,SILCAT_FLAG_W,NITRAT,NITRAT_FLAG_W,PHSPHT,PHSPHT_FLAG_W,XMISS,XMISS_FLAG_W,FLUOR,FLUOR_FLAG_W,PAR,PAR_FLAG_W
,,,,,,,,,,,METERS,DBAR,ITS-90,PSS-78,,PSS-78,,UMOL/KG,,UMOL/KG,,UMOL/KG,,UMOL/KG,,UMOL/KG,,%TRANS,,VOLTS,,VOLTS,
  09AR20120105,  I09S,    86,  1,     24,     24,2,20120208,1542,-36.5345, 114.9800, 5380,      3.9,  19.9463,  35.6095,2,  35.6090,2,    229.4,2,    228.0,2,     2.10,2,     0.00,2,     0.04,2,    98.44,2,   -0.109,2,    0.163,2
  09AR20120105,  I09S,    86,  1,     23,     23,2,20120208,1542,-36.5345, 114.9800, 5380,     53.5,  18.9739,  35.5516,2,-999.0000,9,    234.1,2,   -999.0,9,  -999.00,9,  -999.00,9,  -999.00,9,    98.07,2,    0.062,2,    0.000,2
  09AR20120105,  I09S,    86,  1,     22,     22,2,20120208,1542,-36.5345, 114.9800, 5380,     53.5,  18.9935,  35.5552,2,-999.0000,9,    234.1,2,   -999.0,9,  -999.00,9,  -999.00,9,  -999.00,9,    98.07,2,    0.028,2,    0.000,2
  09AR20120105,  I09S,    86,  1,     21,     21,2,20120208,1542,-36.5345, 114.9800, 5380,     53.5,  19.0208,  35.5628,2,  35.5630,2,    234.1,2,    233.7,2,     1.90,2,     0.00,2,     0.05,2,    98.08,2,    0.012,2,    0.000,2
  09AR20120105,  I09S,    86,  1,     20,     20,2,20120208,1542,-36.5345, 114.9800, 5380,     75.6,  16.5341,  35.3335,2,  35.3334,2,    253.0,2,    252.9,2,     1.40,2,     0.00,2,     0.12,2,    97.06,2,    0.652,2,    0.000,2
  09AR20120105,  I09S,    86,  1,     19,     19,2,20120208,1542,-36.5345, 114.9800, 5380,     99.7,  15.5091,  35.4314,2,  35.4304,2,    243.2,2,    242.3,2,     1.60,2,     0.65,2,     0.16,2,    98.12,2,    0.555,2,    0.000,2
  09AR20120105,  I09S,    86,  1,     18,     18,2,20120208,1542,-36.5345, 114.9800, 5380,    249.6,  12.3620,  35.1093,2,  35.1114,2,    248.3,2,    247.1,2,     2.00,2,     6.34,2,     0.51,2,    99.69,2,   -0.202,2,    0.000,2
  09AR20120105,  I09S,    86,  1,     17,     17,2,20120208,1542,-36.5345, 114.9800, 5380,    399.9,   9.8069,  34.7136,2,  34.7138,2,    246.7,2,    245.9,2,     3.50,2,    14.14,2,     0.97,2,    99.38,2,   -0.199,2,    0.000,2
  09AR20120105,  I09S,    86,  1,     16,     16,2,20120208,1542,-36.5345, 114.9800, 5380,    600.7,   9.0279,  34.6263,2,  34.6258,2,    240.6,2,    242.2,2,     5.10,2,    17.32,2,     1.15,2,    99.20,2,   -0.199,2,    0.000,2
  09AR20120105,  I09S,    86,  1,     15,     15,2,20120208,1542,-36.5345, 114.9800, 5380,    801.3,   7.8578,  34.5086,2,  34.5089,2,    219.1,2,    216.2,2,    10.50,2,    22.70,2,     1.49,2,    98.74,2,   -0.197,2,    0.000,2
  09AR20120105,  I09S,    86,  1,     14,     14,2,20120208,1542,-36.5345, 114.9800, 5380,   1050.1,   5.0480,  34.3801,2,  34.3800,2,    194.8,2,    195.0,2,    31.00,2,    30.45,2,     2.04,2,    98.00,2,   -0.187,2,    0.000,2
  09AR20120105,  I09S,    86,  1,     13,     13,2,20120208,1542,-36.5345, 114.9800, 5380,   1200.2,   3.9317,  34.3980,2,  34.3984,2,    185.8,2,    186.1,2,    46.10,2,    32.74,2,     2.23,2,    97.74,2,   -0.184,2,    0.000,2
  09AR20120105,  I09S,    86,  1,     12,     12,2,20120208,1542,-36.5345, 114.9800, 5380,   1548.5,   2.9268,  34.5504,2,  34.5504,2,    164.8,2,   -999.0,9,    72.50,2,    34.47,2,     2.38,2,    97.57,2,   -0.178,2,    0.000,2
  09AR20120105,  I09S,    86,  1,     11,     11,2,20120208,1542,-36.5345, 114.9800, 5380,   1896.9,   2.5724,  34.6601,2,  34.6608,2,    163.2,2,    163.1,2,    86.70,2,    34.03,2,     2.34,2,    97.49,2,   -0.175,2,    0.000,2
  09AR20120105,  I09S,    86,  1,     10,     10,2,20120208,1542,-36.5345, 114.9800, 5380,   2199.1,   2.3196,  34.7110,2,  34.7105,2,    168.2,2,    167.7,2,    98.00,2,    33.57,2,     2.30,2,    97.44,2,   -0.179,2,    0.000,2
  09AR20120105,  I09S,    86,  1,      9,      9,2,20120208,1542,-36.5345, 114.9800, 5380,   2549.2,   2.0478,  34.7294,2,  34.7290,2,    175.4,2,    175.2,2,   104.50,2,    33.00,2,     2.28,2,    97.37,2,   -0.175,2,    0.000,2
  09AR20120105,  I09S,    86,  1,      8,      8,2,20120208,1542,-36.5345, 114.9800, 5380,   2950.4,   1.7951,  34.7329,2,  34.7319,2,    184.1,2,    183.0,2,   109.00,2,    32.72,2,     2.25,2,    97.32,2,   -0.176,2,    0.000,2
  09AR20120105,  I09S,    86,  1,      7,      7,2,20120208,1542,-36.5345, 114.9800, 5380,   3300.1,   1.5852,  34.7325,2,  34.7317,2,    191.2,2,    190.8,2,   110.80,2,    32.31,2,     2.22,2,    97.27,2,   -0.174,2,    0.000,2
  09AR20120105,  I09S,    86,  1,      6,      6,2,20120208,1542,-36.5345, 114.9800, 5380,   3767.8,   1.3067,  34.7242,2,  34.7235,2,    197.6,2,    197.3,2,   116.60,2,    32.21,2,     2.22,2,    97.21,2,   -0.180,2,    0.000,2
  09AR20120105,  I09S,    86,  1,      5,      5,2,20120208,1542,-36.5345, 114.9800, 5380,   4200.9,   1.1117,  34.7157,2,  34.7142,2,    202.6,2,    203.3,2,   120.60,2,    32.30,2,     2.22,2,    97.19,2,   -0.185,2,    0.000,2
  09AR20120105,  I09S,    86,  1,      4,      4,2,20120208,1542,-36.5345, 114.9800, 5380,   4598.7,   0.9990,  34.7096,2,  34.7085,2,    206.4,2,    206.4,2,   123.30,2,    32.59,2,     2.24,2,    97.17,2,   -0.182,2,    0.000,2
  09AR20120105,  I09S,    86,  1,      3,      3,2,20120208,1542,-36.5345, 114.9800, 5380,   4998.9,   0.9657,  34.7062,2,  34.7060,2,    207.8,2,    207.6,2,   125.20,2,    32.74,2,     2.25,2,    97.16,2,   -0.185,2,    0.000,2
  09AR20120105,  I09S,    86,  1,      2,      2,2,20120208,1542,-36.5345, 114.9800, 5380,   5300.8,   0.9899,  34.7055,2,  34.7054,2,    207.6,2,    207.6,2,   124.90,2,    32.78,2,     2.24,2,    97.18,2,   -0.181,2,    0.000,2
  09AR20120105,  I09S,    86,  1,      1,      1,2,20120208,1542,-36.5345, 114.9800, 5380,   5479.8,   0.9971,  34.7046,2,  34.7036,2,    207.7,2,    207.8,2,   125.30,2,    32.66,2,     2.24,2,    97.17,2,   -0.177,2,    0.000,2
  09AR20120105,  I09S,    87,  1,     24,     24,2,20120208,2257,-36.0172, 114.9830, 5252,      9.2,  21.9672,  35.4613,2,  35.4610,2,    218.8,2,    218.5,2,     2.60,2,     0.00,2,     0.02,2,    98.40,2,   -0.129,2,   79.560,2
  09AR20120105,  I09S,    87,  1,     23,     23,2,20120208,2257,-36.0172, 114.9830, 5252,     19.3,  21.9497,  35.4675,2,-999.0000,9,    219.0,2,   -999.0,9,  -999.00,9,  -999.00,9,  -999.00,9,    98.41,2,   -0.129,2,   55.540,2
  09AR20120105,  I09S,    87,  1,     22,     22,2,20120208,2257,-36.0172, 114.9830, 5252,     19.4,  21.9435,  35.4707,2,-999.0000,9,    219.0,2,   -999.0,9,  -999.00,9,  -999.00,9,  -999.00,9,    98.42,2,   -0.128,2,   76.590,2
  09AR20120105,  I09S,    87,  1,     21,     21,2,20120208,2257,-36.0172, 114.9830, 5252,     39.4,  21.3231,  35.6128,2,  35.6123,2,    222.3,2,    222.1,2,     2.30,2,     0.00,2,     0.00,2,    98.30,2,   -0.077,2,   37.810,2
  09AR20120105,  I09S,    87,  1,     20,     20,2,20120208,2257,-36.0172, 114.9830, 5252,     70.6,  17.9373,  35.6873,2,  35.6857,2,    232.8,2,    232.2,2,     2.10,2,     0.19,2,     0.08,2,    98.29,2,    0.225,2,    4.121,2
  09AR20120105,  I09S,    87,  1,     19,     19,2,20120208,2257,-36.0172, 114.9830, 5252,    119.9,  16.0339,  35.5675,2,  35.5683,2,    233.1,2,    233.8,2,     1.80,2,     1.00,2,     0.16,2,    99.30,2,   -0.102,2,    0.371,2
  09AR20120105,  I09S,    87,  1,     18,     18,2,20120208,2257,-36.0172, 114.9830, 5252,    250.2,  13.0644,  35.1859,2,  35.1861,2,    238.4,2,    238.4,2,     1.40,2,     5.07,2,     0.43,2,    99.72,2,   -0.200,2,    0.000,2
  09AR20120105,  I09S,    87,  1,     17,     17,2,20120208,2257,-36.0172, 114.9830, 5252,    401.0,  10.3210,  34.8089,2,  34.8084,2,    239.8,2,    239.2,2,     3.10,2,    13.04,2,     0.91,2,    99.30,2,   -0.202,2,    0.000,2
  09AR20120105,  I09S,    87,  1,     16,     16,2,20120208,2257,-36.0172, 114.9830, 5252,    549.9,   9.1710,  34.6502,2,  34.6511,2,    242.2,2,    242.9,2,     4.70,2,    16.51,2,     1.10,2,    98.94,2,   -0.203,2,    0.000,2
  09AR20120105,  I09S,    87,  1,     15,     15,2,20120208,2257,-36.0172, 114.9830, 5252,    750.5,   7.5711,  34.4940,2,  34.4942,2,    211.9,2,    209.0,2,    12.60,2,    23.68,2,     1.56,2,    98.44,2,   -0.200,2,    0.000,2
  09AR20120105,  I09S,    87,  1,     14,     14,2,20120208,2257,-36.0172, 114.9830, 5252,    951.4,   5.0171,  34.3661,2,  34.3682,2,    198.4,2,    197.8,2,    29.60,2,    29.99,2,     2.01,2,    97.91,2,   -0.191,2,    0.000,2
  09AR20120105,  I09S,    87,  1,     13,     13,2,20120208,2257,-36.0172, 114.9830, 5252,   1151.1,   3.6695,  34.4162,2,  34.4163,2,    180.8,2,    182.0,2,    51.20,2,    33.01,2,     2.25,2,    97.69,2,   -0.185,2,    0.000,2
  09AR20120105,  I09S,    87,  1,     12,     12,2,20120208,2257,-36.0172, 114.9830, 5252,   1400.9,   2.9905,  34.5119,2,  34.5119,2,    167.7,2,    167.8,2,    68.00,2,    34.30,2,     2.34,2,    97.58,2,   -0.183,2,    0.000,2
  09AR20120105,  I09S,    87,  1,     11,     11,2,20120208,2257,-36.0172, 114.9830, 5252,   1700.3,   2.6249,  34.6294,2,  34.6299,2,    163.4,2,    163.0,2,    82.10,2,    34.11,2,     2.33,2,    97.49,2,   -0.178,2,    0.000,2
  09AR20120105,  I09S,    87,  1,     10,     10,2,20120208,2257,-36.0172, 114.9830, 5252,   2001.2,   2.3886,  34.7019,2,  34.7015,2,    166.2,2,    165.9,2,    96.20,2,    33.52,2,     2.29,2,    97.44,2,   -0.178,2,    0.000,2
  09AR20120105,  I09S,    87,  1,      9,      9,2,20120208,2257,-36.0172, 114.9830, 5252,   2400.4,   2.0721,  34.7283,2,  34.7280,2,    173.8,2,    174.5,2,   104.20,2,    32.89,2,     2.25,2,    97.38,2,   -0.171,2,    0.000,2
  09AR20120105,  I09S,    87,  1,      8,      8,2,20120208,2257,-36.0172, 114.9830, 5252,   2798.9,   1.8002,  34.7336,2,  34.7335,2,    183.0,2,    183.3,2,   108.40,2,    32.48,2,     2.22,2,    97.31,2,   -0.177,2,    0.000,2
  09AR20120105,  I09S,    87,  1,      7,      7,2,20120208,2257,-36.0172, 114.9830, 5252,   3198.9,   1.5588,  34.7311,2,  34.7305,2,    189.9,2,    189.9,2,   112.60,2,    32.25,2,     2.21,2,    97.27,2,   -0.175,2,    0.000,2
  09AR20120105,  I09S,    87,  1,      6,      6,2,20120208,2257,-36.0172, 114.9830, 5252,   3699.9,   1.3465,  34.7249,2,  34.7237,2,    195.1,2,    194.9,2,   117.40,2,    32.20,2,     2.20,2,    97.24,2,   -0.176,2,    0.000,2
  09AR20120105,  I09S,    87,  1,      5,      5,2,20120208,2257,-36.0172, 114.9830, 5252,   4099.2,   1.2236,  34.7191,2,  34.7182,2,    197.7,2,    197.9,2,   121.40,2,    32.41,2,     2.22,2,    97.22,2,   -0.183,2,    0.000,2
  09AR20120105,  I09S,    87,  1,      4,      4,2,20120208,2257,-36.0172, 114.9830, 5252,   4499.4,   1.0779,  34.7129,2,  34.7117,2,    203.8,2,    204.1,2,   122.40,2,    32.33,2,     2.22,2,    97.19,2,   -0.178,2,    0.000,2
  09AR20120105,  I09S,    87,  1,      3,      3,2,20120208,2257,-36.0172, 114.9830, 5252,   4900.9,   0.9834,  34.7074,2,  34.7066,2,    206.8,2,    207.3,2,   124.30,2,    32.50,2,     2.21,2,    97.18,2,   -0.178,2,    0.000,2
  09AR20120105,  I09S,    87,  1,      2,      2,2,20120208,2257,-36.0172, 114.9830, 5252,   5200.9,   0.9784,  34.7055,2,  34.7056,2,    207.3,2,    207.7,2,   125.50,2,    32.68,2,     2.22,2,    97.18,2,   -0.179,2,    0.000,2
  09AR20120105,  I09S,    87,  1,      1,      1,2,20120208,2257,-36.0172, 114.9830, 5252,   5341.9,   0.9625,  34.7039,2,  34.7066,2,    207.8,2,    207.6,2,   126.20,2,    32.83,2,     2.23,2,    97.18,2,   -0.183,2,    0.000,2
  09AR20120105,  I09S,    88,  1,     24,     24,2,20120209,0525,-35.6667, 114.9940, 5096,      9.2,  21.2545,  35.5437,2,  35.5425,2,    222.4,2,    222.2,2,     2.30,2,     0.00,2,     0.03,2,    98.12,2,   -0.116,2,  251.200,2
  09AR20120105,  I09S,    88,  1,     23,     23,2,20120209,0525,-35.6667, 114.9940, 5096,     49.7,  21.1938,  35.5443,2,-999.0000,9,    222.7,2,   -999.0,9,  -999.00,9,  -999.00,9,  -999.00,9,    98.07,2,   -0.058,2,   41.500,2
  09AR20120105,  I09S,    88,  1,     22,     22,2,20120209,0525,-35.6667, 114.9940, 5096,     49.8,  21.1989,  35.5438,2,-999.0000,9,    222.7,2,   -999.0,9,  -999.00,9,  -999.00,9,  -999.00,9,    98.03,2,   -0.059,2,   58.890,2
  09AR20120105,  I09S,    88,  1,     21,     21,2,20120209,0525,-35.6667, 114.9940, 5096,     49.6,  21.1856,  35.5442,2,  35.5440,2,    222.7,2,    222.5,2,     2.30,2,     0.00,2,     0.03,2,    98.10,2,   -0.054,2,   66.360,2
  09AR20120105,  I09S,    88,  1,     20,     20,2,20120209,0525,-35.6667, 114.9940, 5096,    114.3,  17.0343,  35.5868,2,  35.5874,2,    239.0,2,    238.4,2,     1.90,2,  -999.00,9,     0.09,2,    98.72,2,    0.235,2,    1.815,2
  09AR20120105,  I09S,    88,  1,     19,     19,2,20120209,0525,-35.6667, 114.9940, 5096,    128.9,  16.3985,  35.5960,2,  35.5835,2,    231.9,2,    234.3,2,     1.90,2,     0.80,2,     0.15,2,    99.20,2,    0.019,2,    0.680,2
  09AR20120105,  I09S,    88,  1,     18,     18,2,20120209,0525,-35.6667, 114.9940, 5096,    248.1,  12.7676,  35.1369,2,  35.1412,2,    241.3,2,    239.2,2,     1.60,2,     5.80,2,     0.48,2,    99.71,2,   -0.195,2,    0.000,2
  09AR20120105,  I09S,    88,  1,     17,     17,2,20120209,0525,-35.6667, 114.9940, 5096,    398.7,   9.6247,  34.7013,2,  34.7026,2,    245.6,2,    245.0,2,     3.90,2,    14.93,2,     1.02,2,    99.17,2,   -0.201,2,    0.000,2
  09AR20120105,  I09S,    88,  1,     16,     16,2,20120209,0525,-35.6667, 114.9940, 5096,    549.8,   8.7288,  34.5958,2,  34.5960,2,    236.5,2,    236.1,2,     6.20,2,    18.88,2,     1.25,2,    98.82,2,   -0.201,2,    0.000,2
  09AR20120105,  I09S,    88,  1,     15,     15,2,20120209,0525,-35.6667, 114.9940, 5096,    748.6,   6.3652,  34.4248,2,  34.4247,2,    198.8,2,    198.0,2,    20.30,2,    27.64,2,     1.83,2,    98.13,2,   -0.193,2,    0.000,2
  09AR20120105,  I09S,    88,  1,     14,     14,2,20120209,0525,-35.6667, 114.9940, 5096,    949.3,   4.2497,  34.3772,2,  34.3770,2,    190.8,2,    191.6,2,    39.50,2,  -999.00,9,     2.17,2,    97.82,2,   -0.191,2,    0.000,2
  09AR20120105,  I09S,    88,  1,     13,     13,2,20120209,0525,-35.6667, 114.9940, 5096,   1201.8,   3.2327,  34.4693,2,  34.4689,2,    173.2,2,    172.4,2,    61.20,2,    34.08,2,     2.35,2,    97.64,2,   -0.178,2,    0.000,2
  09AR20120105,  I09S,    88,  1,     12,     12,2,20120209,0525,-35.6667, 114.9940, 5096,   1449.7,   2.8517,  34.5671,2,  34.5673,2,    162.8,2,    162.9,2,    74.60,2,    34.44,2,     2.38,2,    97.56,2,   -0.177,2,    0.000,2
  09AR20120105,  I09S,    88,  1,     11,     11,2,20120209,0525,-35.6667, 114.9940, 5096,   1751.7,   2.5577,  34.6615,2,  34.6623,2,    163.0,2,    162.8,2,    87.30,2,    34.09,2,     2.35,2,    97.50,2,   -0.176,2,    0.000,2
  09AR20120105,  I09S,    88,  1,     10,     10,2,20120209,0525,-35.6667, 114.9940, 5096,   2101.8,   2.3036,  34.7117,2,  34.7109,2,    168.2,2,    168.2,2,    97.40,2,    33.40,2,     2.30,2,    97.44,2,   -0.177,2,    0.000,2
  09AR20120105,  I09S,    88,  1,      9,      9,2,20120209,0525,-35.6667, 114.9940, 5096,   2401.4,   2.0603,  34.7276,2,  34.7268,2,    174.0,2,    173.4,2,   104.70,2,    33.04,2,     2.29,2,    97.38,2,   -0.168,2,    0.000,2
  09AR20120105,  I09S,    88,  1,      8,      8,2,20120209,0525,-35.6667, 114.9940, 5096,   2745.1,   1.8390,  34.7325,2,  34.7321,2,    181.2,2,    180.8,2,   107.50,2,    32.59,2,     2.25,2,    97.34,2,   -0.178,2,    0.000,2
  09AR20120105,  I09S,    88,  1,      7,      7,2,20120209,0525,-35.6667, 114.9940, 5096,   3100.3,   1.6253,  34.7319,2,  34.7313,2,    188.3,2,    187.4,2,   111.00,2,    32.33,2,     2.23,2,    97.29,2,   -0.175,2,    0.000,2
  09AR20120105,  I09S,    88,  1,      6,      6,2,20120209,0525,-35.6667, 114.9940, 5096,   3501.5,   1.4305,  34.7288,2,  34.7276,2,    193.8,2,    194.5,2,   113.70,2,    32.21,2,     2.22,2,    97.27,2,   -0.179,2,    0.000,2
  09AR20120105,  I09S,    88,  1,      5,      5,2,20120209,0525,-35.6667, 114.9940, 5096,   3898.5,   1.2430,  34.7206,2,  34.7203,2,    197.2,2,    196.9,2,   120.20,2,    32.56,2,     2.24,2,    97.22,2,   -0.176,2,    0.000,2
  09AR20120105,  I09S,    88,  1,      4,      4,2,20120209,0525,-35.6667, 114.9940, 5096,   4297.5,   1.1096,  34.7148,2,  34.7170,2,    203.3,2,    202.3,2,   122.20,2,    32.56,2,     2.24,2,    97.20,2,   -0.184,2,    0.000,2
  09AR20120105,  I09S,    88,  1,      3,      3,2,20120209,0525,-35.6667, 114.9940, 5096,   4699.9,   0.9952,  34.7089,2,  34.7085,2,    207.0,2,    206.4,2,   124.20,2,    32.69,2,     2.24,2,    97.18,2,   -0.183,2,    0.000,2
  09AR20120105,  I09S,    88,  1,      2,      2,2,20120209,0525,-35.6667, 114.9940, 5096,   4999.9,   0.9780,  34.7066,2,  34.7054,2,    207.8,2,    207.5,2,   124.80,2,    32.76,2,     2.24,2,    97.18,2,   -0.179,2,    0.000,2
  09AR20120105,  I09S,    88,  1,      1,      1,2,20120209,0525,-35.6667, 114.9940, 5096,   5179.2,   0.9903,  34.7059,2,  34.7060,2,    208.0,2,    207.2,2,   124.60,2,    32.65,2,     2.24,2,    97.18,2,   -0.181,2,    0.000,2