BOTTLE,20220815CCHSIOAMB
EXPOCODE,SECT_ID,STNNBR,CASTNO,SAMPNO,BTLNBR,BTLNBR_FLAG_W,DATE,TIME,LATITUDE,LONGITUDE,DEPTH,CTDPRS,CTDTMP,CTDSAL,CTDSAL_FLAG_W,SALNTY,SALNTY_FLAG_W,CTDOXY,CTDOXY_FLAG_W,OXYGEN,OXYGEN_FLAG_W,SILCAT,SILCAT_FLAG_W,NITRAT,NITRAT_FLAG_W,PHSPHT,PHSPHT_FLAG_W,XMISS,XMISS_FLAG_W,FLUOR,FLUOR_FLAG_W,PAR,PAR_FLAG_W
,,,,,,,,,,,METERS,DBAR,ITS-90,PSS-78,,PSS-78,,UMOL/KG,,UMOL/KG,,UMOL/KG,,UMOL/KG,,UMOL/KG,,%TRANS,,VOLTS,,VOLTS,
  09AR20120105,  I09S,    68,  1,     24,     24,2,20120204,1830,-43.0013, 114.9900, 4386,      9.9,  13.3625,  34.7544,2,  34.7539,2,   -999.0,5,    269.4,2,  -999.00,9,     6.11,2,  -999.00,9,    91.71,2,    1.776,2,   32.400,2
  09AR20120105,  I09S,    68,  1,     23,     23,2,20120204,1830,-43.0013, 114.9900, 4386,     34.6,  13.3639,  34.7541,2,-999.0000,9,    269.4,2,   -999.0,9,  -999.00,9,  -999.00,9,  -999.00,9,    91.74,2,    1.797,2,    4.198,2
  09AR20120105,  I09S,    68,  1,     22,     22,2,20120204,1830,-43.0013, 114.9900, 4386,     34.0,  13.3613,  34.7542,2,-999.0000,9,    269.4,2,   -999.0,9,  -999.00,9,  -999.00,9,  -999.00,9,    91.76,2,    1.820,2,    4.256,2
  09AR20120105,  I09S,    68,  1,     21,     21,2,20120204,1830,-43.0013, 114.9900, 4386,     34.4,  13.3617,  34.7539,2,  34.7537,2,    269.4,2,    269.5,2,  -999.00,9,     6.13,2,  -999.00,9,    91.78,2,    1.804,2,    5.608,2
  09AR20120105,  I09S,    68,  1,     20,     20,2,20120204,1830,-43.0013, 114.9900, 4386,     59.2,  12.2265,  34.7607,2,  34.7606,2,    270.7,2,    267.3,2,     2.20,2,     7.43,2,  -999.00,9,    97.45,2,    1.002,2,    1.018,2
  09AR20120105,  I09S,    68,  1,     19,     19,2,20120204,1830,-43.0013, 114.9900, 4386,     89.0,  11.3243,  34.8013,2,  34.7994,2,    267.1,2,    264.0,2,     2.70,2,     8.12,2,  -999.00,9,    99.07,2,    0.158,2,    0.197,2
  09AR20120105,  I09S,    68,  1,     18,     18,2,20120204,1830,-43.0013, 114.9900, 4386,    200.8,  10.1800,  34.7285,2,  34.7282,2,    260.7,2,    264.4,2,     3.70,2,    11.47,2,  -999.00,9,    99.60,2,   -0.196,2,    0.000,2
  09AR20120105,  I09S,    68,  1,     17,     17,2,20120204,1830,-43.0013, 114.9900, 4386,    350.0,   9.8562,  34.7145,2,  34.7146,2,    254.4,2,    256.2,2,     4.50,2,    13.53,2,  -999.00,9,    99.68,2,   -0.211,2,    0.000,2
  09AR20120105,  I09S,    68,  1,     16,     16,2,20120204,1830,-43.0013, 114.9900, 4386,    499.5,   9.3767,  34.6577,2,  34.6578,2,    246.8,2,   -999.0,9,     5.30,2,    15.71,2,  -999.00,9,    99.38,2,   -0.207,2,    0.000,2
  09AR20120105,  I09S,    68,  1,     15,     15,2,20120204,1830,-43.0013, 114.9900, 4386,    700.9,   8.5625,  34.5712,2,  34.5718,2,    234.8,2,    234.4,2,     7.10,2,    19.21,2,  -999.00,9,    99.05,2,   -0.197,2,    0.000,2
  09AR20120105,  I09S,    68,  1,     14,     14,2,20120204,1830,-43.0013, 114.9900, 4386,    902.6,   6.7151,  34.4314,2,  34.4320,2,    204.7,2,    203.3,2,    17.50,2,    26.29,2,  -999.00,9,    98.44,2,   -0.199,2,    0.000,2
  09AR20120105,  I09S,    68,  1,     13,     13,2,20120204,1830,-43.0013, 114.9900, 4386,   1102.3,   4.7126,  34.3371,2,  34.3380,2,    206.4,2,    205.9,2,    29.70,2,    30.44,2,  -999.00,9,    98.09,2,   -0.189,2,    0.000,2
  09AR20120105,  I09S,    68,  1,     12,     12,2,20120204,1830,-43.0013, 114.9900, 4386,   1398.5,   3.3168,  34.4096,2,  34.4106,2,    185.7,2,    185.9,2,    52.70,2,    33.82,2,  -999.00,9,    97.83,2,   -0.185,2,    0.000,2
  09AR20120105,  I09S,    68,  1,     11,     11,2,20120204,1830,-43.0013, 114.9900, 4386,   1703.0,   2.7876,  34.5481,2,  34.5468,2,    170.5,2,    170.8,2,    71.10,2,    34.49,2,  -999.00,9,    97.75,2,   -0.176,2,    0.000,2
  09AR20120105,  I09S,    68,  1,     10,     10,2,20120204,1830,-43.0013, 114.9900, 4386,   1998.0,   2.5536,  34.6565,2,  34.6571,2,    173.0,2,    172.6,2,    79.70,2,    33.42,2,  -999.00,9,    97.70,2,   -0.181,2,    0.000,2
  09AR20120105,  I09S,    68,  1,      9,      9,2,20120204,1830,-43.0013, 114.9900, 4386,   2298.8,   2.3327,  34.7210,2,  34.7213,2,    186.2,2,    185.6,2,    80.80,2,    31.63,2,  -999.00,9,    97.65,2,   -0.178,2,    0.000,2
  09AR20120105,  I09S,    68,  1,      8,      8,2,20120204,1830,-43.0013, 114.9900, 4386,   2598.8,   2.0919,  34.7480,2,  34.7478,2,    194.6,2,    194.2,2,    80.80,3,    30.78,2,  -999.00,9,    97.59,2,   -0.181,2,    0.000,2
  09AR20120105,  I09S,    68,  1,      7,      7,2,20120204,1830,-43.0013, 114.9900, 4386,   2901.8,   1.7514,  34.7458,2,  34.7465,2,    199.2,2,    198.7,2,    96.90,2,    31.00,2,  -999.00,9,    97.49,2,   -0.176,2,    0.000,2
  09AR20120105,  I09S,    68,  1,      6,      6,2,20120204,1830,-43.0013, 114.9900, 4386,   3201.0,   1.4087,  34.7328,2,  34.7327,2,    203.1,2,    202.7,2,   108.20,2,    31.44,2,  -999.00,9,    97.41,2,   -0.176,2,    0.000,2
  09AR20120105,  I09S,    68,  1,      5,      5,2,20120204,1830,-43.0013, 114.9900, 4386,   3504.2,   1.0909,  34.7175,2,  34.7176,2,    207.1,2,    206.4,2,   118.40,2,    31.91,2,  -999.00,9,    97.34,2,   -0.176,2,    0.000,2
  09AR20120105,  I09S,    68,  1,      4,      4,2,20120204,1830,-43.0013, 114.9900, 4386,   3800.3,   0.8805,  34.7065,2,  34.7070,2,    210.9,2,    210.5,2,   125.10,2,    32.16,2,  -999.00,9,    97.31,2,   -0.179,2,    0.000,2
  09AR20120105,  I09S,    68,  1,      3,      3,2,20120204,1830,-43.0013, 114.9900, 4386,   4100.9,   0.8276,  34.7029,2,  34.7024,2,    212.8,2,    211.3,2,   126.40,2,    32.12,2,  -999.00,9,    97.30,2,   -0.181,2,    0.000,2
  09AR20120105,  I09S,    68,  1,      2,      2,2,20120204,1830,-43.0013, 114.9900, 4386,   4298.4,   0.8296,  34.7019,2,  34.7020,2,    213.6,2,    214.4,2,   126.40,2,    32.08,2,  -999.00,9,    97.30,2,   -0.185,2,    0.000,2
  09AR20120105,  I09S,    68,  1,      1,      1,2,20120204,1830,-43.0013, 114.9900, 4386,   4458.0,   0.8355,  34.7011,2,  34.7009,2,    214.3,2,    213.9,2,   126.00,2,    32.13,2,  -999.00,9,    97.32,2,   -0.178,2,    0.000,2
  09AR20120105,  I09S,    69,  1,     24,     24,2,20120204,0037,-42.5022, 114.9960, 4325,     14.2,  14.3966,  34.7366,2,  34.7363,2,    265.1,2,    263.6,2,  -999.00,9,     4.55,2,     0.45,2,    93.19,2,    1.713,2,    0.000,2
  09AR20120105,  I09S,    69,  1,     23,     23,2,20120204,0037,-42.5022, 114.9960, 4325,     33.4,  14.4000,  34.7358,2,-999.0000,9,    262.2,2,   -999.0,9,  -999.00,9,  -999.00,9,  -999.00,9,    92.98,2,    1.741,2,    0.000,2
  09AR20120105,  I09S,    69,  1,     22,     22,2,20120204,0037,-42.5022, 114.9960, 4325,     33.8,  14.4000,  34.7356,2,-999.0000,9,    262.2,2,   -999.0,9,  -999.00,9,  -999.00,9,  -999.00,9,    92.99,2,    1.777,2,    0.000,2
  09AR20120105,  I09S,    69,  1,     21,     21,2,20120204,0037,-42.5022, 114.9960, 4325,     33.5,  14.3983,  34.7355,2,  34.7353,2,    262.2,2,    263.6,2,  -999.00,9,     4.57,2,     0.44,2,    93.08,2,    1.752,2,    0.000,2
  09AR20120105,  I09S,    69,  1,     20,     20,2,20120204,0037,-42.5022, 114.9960, 4325,     63.7,  12.4354,  34.7375,2,  34.7370,2,    272.3,2,    271.7,2,     2.50,2,     7.78,2,     0.65,2,    98.36,2,    0.401,2,    0.000,2
  09AR20120105,  I09S,    69,  1,     19,     19,2,20120204,0037,-42.5022, 114.9960, 4325,     90.5,  11.5464,  34.8379,2,  34.8434,2,    267.5,2,    263.1,2,     2.40,2,     7.86,2,     0.67,2,    98.75,2,    0.376,2,    0.000,2
  09AR20120105,  I09S,    69,  1,     18,     18,2,20120204,0037,-42.5022, 114.9960, 4325,    149.7,  10.4302,  34.6984,2,  34.6993,2,    263.0,2,    263.9,2,     3.20,2,    11.13,2,  -999.00,9,    99.56,2,   -0.113,2,    0.000,2
  09AR20120105,  I09S,    69,  1,     17,     17,2,20120204,0037,-42.5022, 114.9960, 4325,    247.8,  10.3368,  34.7778,2,  34.7779,2,    260.6,2,    260.8,2,     3.40,2,    11.14,2,     0.84,2,    99.51,2,   -0.194,2,    0.000,2
  09AR20120105,  I09S,    69,  1,     16,     16,2,20120204,0037,-42.5022, 114.9960, 4325,    349.9,   9.8774,  34.7252,2,  34.7250,2,    251.6,2,    252.5,2,     4.20,2,    13.72,2,     1.00,2,    99.54,2,   -0.198,2,    0.000,2
  09AR20120105,  I09S,    69,  1,     15,     15,2,20120204,0037,-42.5022, 114.9960, 4325,    499.2,   9.3278,  34.6557,2,  34.6557,2,    244.2,2,    245.0,2,     5.10,2,    16.00,2,  -999.00,9,    99.21,2,   -0.200,2,    0.000,2
  09AR20120105,  I09S,    69,  1,     14,     14,2,20120204,0037,-42.5022, 114.9960, 4325,    704.3,   8.4705,  34.5633,2,  34.5631,2,    231.5,2,    231.4,2,     7.70,2,    19.63,2,     1.36,2,    98.81,2,   -0.198,2,    0.000,2
  09AR20120105,  I09S,    69,  1,     13,     13,2,20120204,0037,-42.5022, 114.9960, 4325,    877.6,   6.6662,  34.4245,2,  34.4261,2,    205.1,2,    205.6,2,    17.40,2,    26.15,2,  -999.00,9,    98.40,2,   -0.191,2,    0.000,2
  09AR20120105,  I09S,    69,  1,     12,     12,2,20120204,0037,-42.5022, 114.9960, 4325,   1098.8,   4.5143,  34.3311,2,  34.3313,2,    206.7,2,    206.8,2,    31.50,2,    30.57,2,     2.09,2,    98.03,2,   -0.192,2,    0.000,2
  09AR20120105,  I09S,    69,  1,     11,     11,2,20120204,0037,-42.5022, 114.9960, 4325,   1301.0,   3.5759,  34.3866,2,  34.3861,2,    190.0,2,    189.7,2,    48.50,2,    33.15,2,     2.30,2,    97.88,2,   -0.189,2,    0.000,2
  09AR20120105,  I09S,    69,  1,     10,     10,2,20120204,0037,-42.5022, 114.9960, 4325,   1504.5,   3.0200,  34.4757,2,  34.4754,2,    176.2,2,    176.3,2,    63.20,2,    34.34,2,  -999.00,9,    97.78,2,   -0.179,2,    0.000,2
  09AR20120105,  I09S,    69,  1,      9,      9,2,20120204,0037,-42.5022, 114.9960, 4325,   1801.4,   2.6595,  34.6052,2,  34.6044,2,    170.4,2,    170.6,2,    75.30,2,    33.87,2,  -999.00,9,    97.72,2,   -0.179,2,    0.000,2
  09AR20120105,  I09S,    69,  1,      8,      8,2,20120204,0037,-42.5022, 114.9960, 4325,   2150.1,   2.4255,  34.6983,2,  34.6985,2,    180.3,2,    180.1,2,    80.30,2,    32.03,2,     2.25,2,    97.68,2,   -0.182,2,    0.000,2
  09AR20120105,  I09S,    69,  1,      7,      7,2,20120204,0037,-42.5022, 114.9960, 4325,   2501.1,   2.1568,  34.7412,2,  34.7412,2,    189.8,2,    190.2,2,    86.40,2,    30.94,2,     2.18,2,    97.60,2,   -0.176,2,    0.000,2
  09AR20120105,  I09S,    69,  1,      6,      6,2,20120204,0037,-42.5022, 114.9960, 4325,   2848.7,   1.8159,  34.7464,2,  34.7463,2,    196.6,2,    196.5,2,    94.90,2,    30.95,2,     2.18,2,    97.50,2,   -0.182,2,    0.000,2
  09AR20120105,  I09S,    69,  1,      5,      5,2,20120204,0037,-42.5022, 114.9960, 4325,   3197.6,   1.4197,  34.7336,2,  34.7333,2,    202.1,2,    202.2,2,   107.10,2,    31.25,2,     2.19,2,    97.40,2,   -0.176,2,    0.000,2
  09AR20120105,  I09S,    69,  1,      4,      4,2,20120204,0037,-42.5022, 114.9960, 4325,   3548.9,   1.0475,  34.7156,2,  34.7150,2,    207.1,2,    208.0,2,   118.60,2,    31.85,2,     2.27,2,    97.34,2,   -0.172,2,    0.000,2
  09AR20120105,  I09S,    69,  1,      3,      3,2,20120204,0037,-42.5022, 114.9960, 4325,   3900.2,   0.8618,  34.7055,2,  34.7052,2,    210.4,2,    210.2,2,   124.20,2,    32.01,2,  -999.00,9,    97.31,2,   -0.183,2,    0.000,2
  09AR20120105,  I09S,    69,  1,      2,      2,2,20120204,0037,-42.5022, 114.9960, 4325,   4237.1,   0.8337,  34.7027,2,  34.7028,2,    211.3,2,    210.9,2,   126.40,2,    32.26,2,     2.30,2,    97.31,2,   -0.180,2,    0.000,2
  09AR20120105,  I09S,    69,  1,      1,      1,2,20120204,0037,-42.5022, 114.9960, 4325,   4394.2,   0.8426,  34.7020,2,  34.7019,2,    211.8,2,    211.0,2,   125.50,2,    32.22,2,  -999.00,9,    97.31,2,   -0.181,2,    0.000,2
  09AR20120105,  I09S,    70,  1,     24,     24,2,20120204,0351,-41.9942, 114.9990, 4543,      8.7,  14.4845,  34.8266,2,  34.8259,2,    261.1,2,    260.0,2,     1.60,2,     4.93,2,     0.42,2,    96.96,2,    0.386,2,   36.700,2
  09AR20120105,  I09S,    70,  1,     23,     23,2,20120204,0351,-41.9942, 114.9990, 4543,     20.1,  14.4796,  34.8253,2,-999.0000,9,    260.8,2,   -999.0,9,  -999.00,9,  -999.00,9,  -999.00,9,    97.09,2,    0.330,2,   12.040,2
  09AR20120105,  I09S,    70,  1,     22,     22,2,20120204,0351,-41.9942, 114.9990, 4543,     19.7,  14.4812,  34.8255,2,-999.0000,9,    260.8,2,   -999.0,9,  -999.00,9,  -999.00,9,  -999.00,9,    97.06,2,    0.343,2,   12.020,2
  09AR20120105,  I09S,    70,  1,     21,     21,2,20120204,0351,-41.9942, 114.9990, 4543,     38.3,  14.4588,  34.8226,2,  34.8229,2,    260.2,2,    260.1,2,     1.70,2,     5.00,2,     0.43,2,    97.08,2,    0.375,2,    4.007,2
  09AR20120105,  I09S,    70,  1,     20,     20,2,20120204,0351,-41.9942, 114.9990, 4543,     74.9,  11.9189,  34.8054,2,  34.7998,2,    269.3,2,    269.3,2,     2.30,2,     7.36,2,     0.59,2,    98.59,2,    0.394,2,    0.524,2
  09AR20120105,  I09S,    70,  1,     19,     19,2,20120204,0351,-41.9942, 114.9990, 4543,    118.8,  10.5559,  34.6971,2,  34.6964,2,    264.5,2,    264.3,2,     3.10,2,    10.71,2,     0.79,2,    99.54,2,    0.067,2,    0.027,2
  09AR20120105,  I09S,    70,  1,     18,     18,2,20120204,0351,-41.9942, 114.9990, 4543,    201.1,  10.1434,  34.7216,2,  34.7201,2,    259.7,2,    260.0,2,     3.40,2,    11.75,2,     0.84,2,    99.49,2,   -0.200,2,    0.000,2
  09AR20120105,  I09S,    70,  1,     17,     17,2,20120204,0351,-41.9942, 114.9990, 4543,    352.7,   9.6359,  34.6870,2,  34.6871,2,    252.3,2,    252.6,2,     4.60,2,    14.36,2,     1.00,2,    99.50,2,   -0.207,2,    0.000,2
  09AR20120105,  I09S,    70,  1,     16,     16,2,20120204,0351,-41.9942, 114.9990, 4543,    498.8,   9.2163,  34.6409,2,  34.6404,2,    245.8,2,    245.8,2,     4.90,2,    16.01,2,     1.08,2,    99.17,2,   -0.196,2,    0.000,2
  09AR20120105,  I09S,    70,  1,     15,     15,2,20120204,0351,-41.9942, 114.9990, 4543,    701.0,   8.2390,  34.5397,2,  34.5398,2,    225.5,2,    225.6,2,     9.10,2,    20.41,2,     1.37,2,    98.71,2,   -0.201,2,    0.000,2
  09AR20120105,  I09S,    70,  1,     14,     14,2,20120204,0351,-41.9942, 114.9990, 4543,    897.6,   6.2430,  34.4031,2,  34.4027,2,    203.2,2,    202.8,2,    19.70,2,    27.11,2,     1.82,2,    98.25,2,   -0.194,2,    0.000,2
  09AR20120105,  I09S,    70,  1,     13,     13,2,20120204,0351,-41.9942, 114.9990, 4543,   1067.4,   4.5600,  34.3359,2,  34.3358,2,    204.8,2,    205.3,2,    31.30,2,    30.45,2,     2.07,2,    97.99,2,   -0.182,2,    0.000,2
  09AR20120105,  I09S,    70,  1,     12,     12,2,20120204,0351,-41.9942, 114.9990, 4543,   1300.2,   3.4818,  34.3990,2,  34.3992,2,    187.1,2,    187.0,2,    50.80,2,    33.48,2,     2.30,2,    97.86,2,   -0.181,2,    0.000,2
  09AR20120105,  I09S,    70,  1,     11,     11,2,20120204,0351,-41.9942, 114.9990, 4543,   1548.2,   2.9505,  34.5093,2,  34.5089,2,    170.9,2,    170.8,2,    66.80,2,    34.18,2,     2.36,2,    97.76,2,   -0.186,2,    0.000,2
  09AR20120105,  I09S,    70,  1,     10,     10,2,20120204,0351,-41.9942, 114.9990, 4543,   1803.2,   2.6734,  34.6145,2,  34.6136,2,    166.8,2,    166.9,2,    77.30,2,    33.46,2,     2.33,2,    97.72,2,   -0.179,2,    0.000,2
  09AR20120105,  I09S,    70,  1,      9,      9,2,20120204,0351,-41.9942, 114.9990, 4543,   2099.8,   2.4444,  34.6951,2,  34.6944,2,    170.6,2,    170.4,2,    88.10,2,    32.40,2,     2.28,2,    97.67,2,   -0.182,2,    0.000,2
  09AR20120105,  I09S,    70,  1,      8,      8,2,20120204,0351,-41.9942, 114.9990, 4543,   2399.7,   2.2040,  34.7305,2,  34.7298,2,    181.6,2,    181.7,2,    90.70,2,    31.46,2,     2.17,2,    97.60,2,   -0.173,2,    0.000,2
  09AR20120105,  I09S,    70,  1,      7,      7,2,20120204,0351,-41.9942, 114.9990, 4543,   2699.8,   1.9526,  34.7465,2,  34.7461,2,    193.0,2,    193.1,2,    92.50,2,    30.77,2,     2.13,2,    97.53,2,   -0.169,2,    0.000,2
  09AR20120105,  I09S,    70,  1,      6,      6,2,20120204,0351,-41.9942, 114.9990, 4543,   3050.4,   1.5746,  34.7396,2,  34.7388,2,    198.8,2,    199.0,2,   103.60,2,    31.24,2,     2.16,2,    97.44,2,   -0.178,2,    0.000,2
  09AR20120105,  I09S,    70,  1,      5,      5,2,20120204,0351,-41.9942, 114.9990, 4543,   3401.1,   1.2170,  34.7244,2,  34.7233,2,    203.9,2,    204.4,2,   114.20,2,    31.66,2,     2.21,2,    97.36,2,   -0.180,2,    0.000,2
  09AR20120105,  I09S,    70,  1,      4,      4,2,20120204,0351,-41.9942, 114.9990, 4543,   3752.1,   0.9191,  34.7095,2,  34.7083,2,    208.9,2,    209.4,2,   122.60,2,    32.01,2,     2.23,2,    97.31,2,   -0.180,2,    0.000,2
  09AR20120105,  I09S,    70,  1,      3,      3,2,20120204,0351,-41.9942, 114.9990, 4543,   4098.7,   0.8157,  34.7032,2,  34.7024,2,    211.3,2,    211.2,2,   125.80,2,    32.06,2,     2.24,2,    97.30,2,   -0.180,2,    0.000,2
  09AR20120105,  I09S,    70,  1,      2,      2,2,20120204,0351,-41.9942, 114.9990, 4543,   4449.5,   0.8244,  34.7016,2,  34.7007,2,    211.9,2,    211.2,2,   126.40,2,    32.00,2,     2.25,2,    97.31,2,   -0.176,2,    0.000,2
  09AR20120105,  I09S,    70,  1,      1,      1,2,20120204,0351,-41.9942, 114.9990, 4543,   4614.6,   0.8418,  34.7012,2,  34.7003,2,    212.2,2,    211.4,2,   126.20,2,    31.90,2,     2.24,2,    97.31,2,   -0.180,2,    0.000,2