BOTTLE,20220815CCHSIOAMB
EXPOCODE,SECT_ID,STNNBR,CASTNO,SAMPNO,BTLNBR,BTLNBR_FLAG_W,DATE,TIME,LATITUDE,LONGITUDE,DEPTH,CTDPRS,CTDTMP,CTDSAL,CTDSAL_FLAG_W,SALNTY,SALNTY_FLAG_W,CTDOXY,CTDOXY_FLAG_W,OXYGEN,OXYGEN_FLAG_W,SILCAT,SILCAT_FLAG_W,NITRAT,NITRAT_FLAG_W,PHSPHT,PHSPHT_FLAG_W,XMISS,XMISS_FLAG_W,FLUOR,FLUOR_FLAG_W,PAR,PAR_FLAG_W
,,,,,,,,,,,METERS,DBAR,ITS-90,PSS-78,,PSS-78,,UMOL/KG,,UMOL/KG,,UMOL/KG,,UMOL/KG,,UMOL/KG,,%TRANS,,VOLTS,,VOLTS,
  09AR20120105,  I09S,    79,  1,     24,     24,2,20120206,1340,-39.1018, 114.9920, 4835,      9.0,  17.7874,  35.5140,2,  35.5146,2,    240.5,2,    240.3,2,     1.80,2,     0.04,2,     0.05,2,    97.43,2,    0.224,2,    0.000,2
  09AR20120105,  I09S,    79,  1,     23,     23,2,20120206,1340,-39.1018, 114.9920, 4835,     21.8,  17.7896,  35.5146,2,-999.0000,9,    239.6,2,   -999.0,9,  -999.00,9,  -999.00,9,  -999.00,9,    97.42,2,    0.264,2,    0.000,2
  09AR20120105,  I09S,    79,  1,     22,     22,2,20120206,1340,-39.1018, 114.9920, 4835,     21.5,  17.7903,  35.5147,2,-999.0000,9,    239.6,2,   -999.0,9,  -999.00,9,  -999.00,9,  -999.00,9,    97.42,2,    0.238,2,    0.000,2
  09AR20120105,  I09S,    79,  1,     21,     21,2,20120206,1340,-39.1018, 114.9920, 4835,     43.7,  17.7952,  35.5156,2,  35.5152,2,    239.3,2,    240.5,2,     1.80,2,     0.05,2,     0.07,2,    97.41,2,    0.242,2,    0.000,2
  09AR20120105,  I09S,    79,  1,     20,     20,2,20120206,1340,-39.1018, 114.9920, 4835,     63.3,  13.2945,  34.7399,2,  34.7445,2,    266.8,2,    270.3,2,     1.60,2,     5.71,2,     0.48,2,    97.10,2,    1.103,2,    0.000,2
  09AR20120105,  I09S,    79,  1,     19,     19,2,20120206,1340,-39.1018, 114.9920, 4835,     79.5,  12.1569,  34.7959,2,  34.7942,2,    271.8,2,    272.7,2,     1.90,2,     6.54,2,     0.55,2,    98.39,2,    0.586,2,    0.000,2
  09AR20120105,  I09S,    79,  1,     18,     18,2,20120206,1340,-39.1018, 114.9920, 4835,    100.9,  11.5367,  34.7642,2,  34.7640,2,    264.7,2,    266.1,2,     2.20,2,     7.70,2,     0.64,2,    99.07,2,    0.180,2,    0.000,2
  09AR20120105,  I09S,    79,  1,     17,     17,2,20120206,1340,-39.1018, 114.9920, 4835,    299.5,   9.8817,  34.7219,2,  34.7215,2,    246.6,2,    249.3,2,     3.70,2,    13.65,2,     0.94,2,    99.38,2,   -0.201,2,    0.000,2
  09AR20120105,  I09S,    79,  1,     16,     16,2,20120206,1340,-39.1018, 114.9920, 4835,    503.6,   9.0658,  34.6170,2,  34.6177,2,    249.8,2,    250.8,2,     4.70,2,    16.02,2,     1.07,2,    99.24,2,   -0.200,2,    0.000,2
  09AR20120105,  I09S,    79,  1,     15,     15,2,20120206,1340,-39.1018, 114.9920, 4835,    698.7,   8.4291,  34.5551,2,  34.5559,2,    231.9,2,    232.2,2,     7.50,2,    19.74,2,     1.31,2,    98.78,2,   -0.198,2,    0.000,2
  09AR20120105,  I09S,    79,  1,     14,     14,2,20120206,1340,-39.1018, 114.9920, 4835,    900.4,   6.4850,  34.4197,2,  34.4180,2,    201.6,2,    201.2,2,    18.90,2,    27.21,2,     1.79,2,    98.32,2,   -0.185,2,    0.000,2
  09AR20120105,  I09S,    79,  1,     13,     13,2,20120206,1340,-39.1018, 114.9920, 4835,   1050.7,   4.8141,  34.3507,2,  34.3509,2,    202.1,2,    202.2,2,    30.20,2,    30.66,2,     2.03,2,    98.04,2,   -0.186,2,    0.000,2
  09AR20120105,  I09S,    79,  1,     12,     12,2,20120206,1340,-39.1018, 114.9920, 4835,   1350.0,   3.3251,  34.4300,2,  34.4298,2,    180.9,2,    181.0,2,    55.70,2,    34.05,2,     2.31,2,    97.83,2,   -0.181,2,    0.000,2
  09AR20120105,  I09S,    79,  1,     11,     11,2,20120206,1340,-39.1018, 114.9920, 4835,   1749.9,   2.7336,  34.6071,2,  34.6105,2,    164.0,2,    164.4,2,    78.00,2,    34.10,2,     2.33,2,    97.73,2,   -0.177,2,    0.000,2
  09AR20120105,  I09S,    79,  1,     10,     10,2,20120206,1340,-39.1018, 114.9920, 4835,   2099.6,   2.4425,  34.6957,2,  34.6887,4,    174.3,2,   -999.0,9,  -999.00,9,  -999.00,9,  -999.00,9,    97.67,2,   -0.174,2,    0.000,2
  09AR20120105,  I09S,    79,  1,      9,      9,2,20120206,1340,-39.1018, 114.9920, 4835,   2448.1,   2.1480,  34.7341,2,  34.7355,2,    183.7,2,    183.5,2,    91.50,2,    31.51,2,     2.15,2,    97.60,2,   -0.170,2,    0.000,2
  09AR20120105,  I09S,    79,  1,      8,      8,2,20120206,1340,-39.1018, 114.9920, 4835,   2698.0,   1.9526,  34.7441,2,  34.7441,2,    190.0,2,    191.1,2,    93.20,2,    30.96,2,     2.11,2,    97.55,2,   -0.183,2,    0.000,2
  09AR20120105,  I09S,    79,  1,      7,      7,2,20120206,1340,-39.1018, 114.9920, 4835,   3051.1,   1.6150,  34.7385,2,  34.7376,2,    196.7,2,    196.3,2,   104.00,2,    31.46,2,     2.13,2,    97.47,2,   -0.181,2,    0.000,2
  09AR20120105,  I09S,    79,  1,      6,      6,2,20120206,1340,-39.1018, 114.9920, 4835,   3400.8,   1.3266,  34.7280,2,  34.7274,2,    200.4,2,    200.4,2,   113.10,2,    32.08,2,     2.16,2,    97.42,2,   -0.174,2,    0.000,2
  09AR20120105,  I09S,    79,  1,      5,      5,2,20120206,1340,-39.1018, 114.9920, 4835,   3749.0,   1.0980,  34.7172,2,  34.7166,2,    204.6,2,    204.2,2,   119.60,2,    32.37,2,     2.19,2,    97.36,2,   -0.179,2,    0.000,2
  09AR20120105,  I09S,    79,  1,      4,      4,2,20120206,1340,-39.1018, 114.9920, 4835,   4099.2,   0.9069,  34.7078,2,  34.7072,2,    208.5,2,    208.4,2,   123.90,2,    32.49,2,     2.21,2,    97.34,2,   -0.177,2,    0.000,2
  09AR20120105,  I09S,    79,  1,      3,      3,2,20120206,1340,-39.1018, 114.9920, 4835,   4451.2,   0.8638,  34.7040,2,  34.7032,2,    209.6,2,    210.0,2,   125.50,2,    32.49,2,     2.21,2,    97.34,2,   -0.181,2,    0.000,2
  09AR20120105,  I09S,    79,  1,      2,      2,2,20120206,1340,-39.1018, 114.9920, 4835,   4750.0,   0.8813,  34.7030,2,  34.7020,2,    209.7,2,    210.0,2,   125.70,2,    32.44,2,     2.22,2,    97.34,2,   -0.181,2,    0.000,2
  09AR20120105,  I09S,    79,  1,      1,      1,2,20120206,1340,-39.1018, 114.9920, 4835,   4914.5,   0.8903,  34.7021,2,  34.7020,2,    210.2,2,    210.3,2,   125.90,2,    32.36,2,     2.21,2,    97.34,2,   -0.181,2,    0.000,2
  09AR20120105,  I09S,    80,  1,     24,     24,2,20120207,2040,-38.4955, 115.0060, 4695,      9.6,  17.7992,  35.4889,2,  35.4904,2,    243.0,2,    240.1,2,     1.80,2,     0.02,2,     0.08,2,    96.96,2,    0.029,2,  515.800,2
  09AR20120105,  I09S,    80,  1,     23,     23,2,20120207,2040,-38.4955, 115.0060, 4695,     19.8,  17.7941,  35.4893,2,-999.0000,9,    242.7,2,   -999.0,9,  -999.00,9,  -999.00,9,  -999.00,9,    96.96,2,    0.143,2,  223.100,2
  09AR20120105,  I09S,    80,  1,     22,     22,2,20120207,2040,-38.4955, 115.0060, 4695,     19.8,  17.7941,  35.4892,2,-999.0000,9,    242.7,2,   -999.0,9,  -999.00,9,  -999.00,9,  -999.00,9,    96.99,2,    0.154,2,  200.600,2
  09AR20120105,  I09S,    80,  1,     21,     21,2,20120207,2040,-38.4955, 115.0060, 4695,     39.7,  17.7838,  35.4872,2,  35.4882,2,    242.0,2,    240.2,2,     1.80,2,     0.03,2,     0.08,2,    97.03,2,    0.238,2,   69.840,2
  09AR20120105,  I09S,    80,  1,     20,     20,2,20120207,2040,-38.4955, 115.0060, 4695,     63.3,  14.5505,  35.1012,2,  35.1201,2,    251.4,2,    259.5,2,     1.40,2,     2.12,2,     0.27,2,    97.84,2,    0.583,2,   15.710,2
  09AR20120105,  I09S,    80,  1,     19,     19,2,20120207,2040,-38.4955, 115.0060, 4695,     90.9,  12.3724,  34.8752,2,  34.8780,2,    258.9,2,    265.3,2,     1.80,2,     5.86,2,     0.53,2,    98.67,2,    0.271,2,    3.190,2
  09AR20120105,  I09S,    80,  1,     18,     18,2,20120207,2040,-38.4955, 115.0060, 4695,    189.5,  10.7936,  34.7823,2,  34.7836,2,    258.4,2,    259.9,2,     2.30,2,     9.51,2,     0.72,2,    99.54,2,   -0.176,2,    0.046,2
  09AR20120105,  I09S,    80,  1,     17,     17,2,20120207,2040,-38.4955, 115.0060, 4695,    349.5,   9.5897,  34.6745,2,  34.6738,2,    255.3,2,    254.3,2,     3.90,2,    14.11,2,     1.00,2,    99.46,2,   -0.209,2,    0.000,2
  09AR20120105,  I09S,    80,  1,     16,     16,2,20120207,2040,-38.4955, 115.0060, 4695,    501.6,   9.1121,  34.6212,2,  34.6207,2,    251.5,2,    250.7,2,     4.70,2,    15.93,2,     1.10,2,    99.28,2,   -0.202,2,    0.000,2
  09AR20120105,  I09S,    80,  1,     15,     15,2,20120207,2040,-38.4955, 115.0060, 4695,    701.1,   8.5238,  34.5645,2,  34.5649,2,    235.0,2,    234.8,2,     6.90,2,    19.25,2,     1.30,2,    98.84,2,   -0.199,2,    0.000,2
  09AR20120105,  I09S,    80,  1,     14,     14,2,20120207,2040,-38.4955, 115.0060, 4695,    900.4,   6.5145,  34.4200,2,  34.4202,2,    202.2,2,    201.1,2,    18.50,2,    27.05,2,     1.80,2,    98.33,2,   -0.186,2,    0.000,2
  09AR20120105,  I09S,    80,  1,     13,     13,2,20120207,2040,-38.4955, 115.0060, 4695,   1102.1,   4.4971,  34.3582,2,  34.3590,2,    197.8,2,    197.8,2,    34.80,2,    31.39,2,     2.11,2,    98.00,2,   -0.187,2,    0.000,2
  09AR20120105,  I09S,    80,  1,     12,     12,2,20120207,2040,-38.4955, 115.0060, 4695,   1399.4,   3.2199,  34.4783,2,  34.4783,2,    170.1,2,    170.2,2,    63.70,2,    34.60,2,     2.36,2,    97.83,2,   -0.182,2,    0.000,2
  09AR20120105,  I09S,    80,  1,     11,     11,2,20120207,2040,-38.4955, 115.0060, 4695,   1700.5,   2.7880,  34.6013,2,  34.6012,2,    161.4,2,    161.1,2,    79.10,2,    34.25,2,     2.36,2,    97.75,2,   -0.180,2,    0.000,2
  09AR20120105,  I09S,    80,  1,     10,     10,2,20120207,2040,-38.4955, 115.0060, 4695,   2100.7,   2.4545,  34.6959,2,  34.6956,2,    167.4,2,    167.3,2,    91.80,2,    33.14,2,     2.29,2,    97.68,2,   -0.180,2,    0.000,2
  09AR20120105,  I09S,    80,  1,      9,      9,2,20120207,2040,-38.4955, 115.0060, 4695,   2450.5,   2.1465,  34.7273,2,  34.7272,2,    175.7,2,    175.8,2,    99.50,2,    32.46,2,     2.25,2,    97.61,2,   -0.178,2,    0.000,2
  09AR20120105,  I09S,    80,  1,      8,      8,2,20120207,2040,-38.4955, 115.0060, 4695,   2798.1,   1.8511,  34.7364,2,  34.7363,2,    185.5,2,    185.6,2,   104.30,2,    32.07,2,     2.20,2,    97.54,2,   -0.178,2,    0.000,2
  09AR20120105,  I09S,    80,  1,      7,      7,2,20120207,2040,-38.4955, 115.0060, 4695,   3149.0,   1.5283,  34.7346,2,  34.7337,2,    196.1,2,    196.0,2,   108.10,2,    31.65,2,     2.16,2,    97.45,2,   -0.179,2,    0.000,2
  09AR20120105,  I09S,    80,  1,      6,      6,2,20120207,2040,-38.4955, 115.0060, 4695,   3499.5,   1.2741,  34.7227,2,  34.7221,2,    195.9,2,    195.5,2,   120.60,3,    32.69,2,     2.23,2,    97.42,2,   -0.180,2,    0.000,2
  09AR20120105,  I09S,    80,  1,      5,      5,2,20120207,2040,-38.4955, 115.0060, 4695,   3850.6,   1.1932,  34.7197,2,  34.7193,2,    200.5,2,    200.4,2,   120.40,2,    32.47,2,     2.22,2,    97.39,2,   -0.181,2,    0.000,2
  09AR20120105,  I09S,    80,  1,      4,      4,2,20120207,2040,-38.4955, 115.0060, 4695,   4099.2,   0.9937,  34.7113,2,  34.7103,2,    206.5,2,    206.7,2,   122.40,2,    32.25,2,     2.21,2,    97.36,2,   -0.182,2,    0.000,2
  09AR20120105,  I09S,    80,  1,      3,      3,2,20120207,2040,-38.4955, 115.0060, 4695,   4450.1,   0.8732,  34.7046,2,  34.7040,2,    209.2,2,    209.2,2,   125.00,2,    32.13,2,     2.21,2,    97.34,2,   -0.181,2,    0.000,2
  09AR20120105,  I09S,    80,  1,      2,      2,2,20120207,2040,-38.4955, 115.0060, 4695,   4601.2,   0.8732,  34.7037,2,  34.7028,2,    209.5,2,    209.8,2,   125.80,2,    32.23,2,     2.22,2,    97.34,2,   -0.183,2,    0.000,2
  09AR20120105,  I09S,    80,  1,      1,      1,2,20120207,2040,-38.4955, 115.0060, 4695,   4767.0,   0.8871,  34.7032,2,  34.7038,2,    209.4,2,    209.6,2,   126.00,2,    32.30,2,     2.24,2,    97.34,2,   -0.181,2,    0.000,2
  09AR20120105,  I09S,    81,  1,     24,     24,2,20120207,0035,-37.9990, 115.0000, 4779,      9.1,  20.9016,  35.5676,2,  35.5669,2,    227.2,2,    223.9,2,     2.10,2,     0.00,2,     0.03,2,    98.66,2,   -0.136,2,   32.260,2
  09AR20120105,  I09S,    81,  1,     23,     23,2,20120207,0035,-37.9990, 115.0000, 4779,     49.9,  20.0570,  35.6173,2,-999.0000,9,    227.5,2,   -999.0,9,  -999.00,9,  -999.00,9,  -999.00,9,    98.83,2,   -0.075,2,   41.580,2
  09AR20120105,  I09S,    81,  1,     22,     22,2,20120207,0035,-37.9990, 115.0000, 4779,     49.8,  20.0506,  35.6172,2,-999.0000,9,    227.5,2,   -999.0,9,  -999.00,9,  -999.00,9,  -999.00,9,    98.82,2,   -0.076,2,   41.820,2
  09AR20120105,  I09S,    81,  1,     21,     21,2,20120207,0035,-37.9990, 115.0000, 4779,     50.0,  20.0494,  35.6165,2,  35.6086,2,    227.5,2,    228.9,2,     2.00,2,     0.00,2,     0.03,2,    98.84,2,   -0.076,2,   41.220,2
  09AR20120105,  I09S,    81,  1,     20,     20,2,20120207,0035,-37.9990, 115.0000, 4779,     70.3,  16.9645,  35.4675,2,  35.4630,2,    244.9,2,    248.5,2,     1.60,2,     0.00,2,     0.08,2,    98.64,2,    0.119,2,   17.470,2
  09AR20120105,  I09S,    81,  1,     19,     19,2,20120207,0035,-37.9990, 115.0000, 4779,     95.1,  15.2013,  35.3444,2,  35.3470,2,    250.6,2,    250.2,2,     1.30,2,     0.26,2,     0.15,2,    98.72,2,    0.292,2,    3.885,2
  09AR20120105,  I09S,    81,  1,     18,     18,2,20120207,0035,-37.9990, 115.0000, 4779,    107.6,  14.8545,  35.3261,2,  35.3311,2,    247.2,2,    245.0,2,     1.30,2,     1.09,2,     0.19,2,    99.11,2,    0.165,2,    2.347,2
  09AR20120105,  I09S,    81,  1,     17,     17,2,20120207,0035,-37.9990, 115.0000, 4779,    251.3,  12.0940,  35.0227,2,  35.0232,2,    241.2,2,    244.7,2,     1.70,2,     6.96,2,     0.55,2,    99.79,2,   -0.201,2,    0.000,2
  09AR20120105,  I09S,    81,  1,     16,     16,2,20120207,0035,-37.9990, 115.0000, 4779,    398.9,   9.6936,  34.6974,2,  34.6971,2,    245.2,2,    247.4,2,     3.50,2,    14.04,2,     0.97,2,    99.55,2,   -0.205,2,    0.000,2
  09AR20120105,  I09S,    81,  1,     15,     15,2,20120207,0035,-37.9990, 115.0000, 4779,    550.3,   9.1964,  34.6452,2,  34.6445,2,    247.5,2,    246.2,2,     4.40,2,    15.93,2,     1.07,2,    99.40,2,   -0.205,2,    0.000,2
  09AR20120105,  I09S,    81,  1,     14,     14,2,20120207,0035,-37.9990, 115.0000, 4779,    798.9,   8.0337,  34.5212,2,  34.5207,2,    222.3,2,    220.8,2,     9.50,2,    21.72,2,     1.42,2,    98.68,2,   -0.196,2,    0.000,2
  09AR20120105,  I09S,    81,  1,     13,     13,2,20120207,0035,-37.9990, 115.0000, 4779,   1049.9,   5.2974,  34.3765,2,  34.3768,2,    197.4,2,    197.8,2,    27.70,2,    29.72,2,     1.96,2,    98.19,2,   -0.192,2,    0.000,2
  09AR20120105,  I09S,    81,  1,     12,     12,2,20120207,0035,-37.9990, 115.0000, 4779,   1374.6,   3.3628,  34.4514,2,  34.4516,2,    174.1,2,    174.6,2,    59.30,2,    33.97,2,     2.31,2,    97.88,2,   -0.178,2,    0.000,2
  09AR20120105,  I09S,    81,  1,     11,     11,2,20120207,0035,-37.9990, 115.0000, 4779,   1701.3,   2.8651,  34.5849,2,  34.5840,2,    161.6,2,    160.8,2,    77.40,2,    34.10,2,     2.35,2,    97.79,2,   -0.177,2,    0.000,2
  09AR20120105,  I09S,    81,  1,     10,     10,2,20120207,0035,-37.9990, 115.0000, 4779,   2048.9,   2.5212,  34.6805,2,  34.6814,2,    169.3,2,    168.4,2,    86.70,2,    32.98,2,     2.26,2,    97.72,2,   -0.176,2,    0.000,2
  09AR20120105,  I09S,    81,  1,      9,      9,2,20120207,0035,-37.9990, 115.0000, 4779,   2398.9,   2.2444,  34.7273,2,  34.7270,2,    179.6,2,    181.2,2,    90.30,2,    31.83,2,     2.17,2,    97.64,2,   -0.170,2,    0.000,2
  09AR20120105,  I09S,    81,  1,      8,      8,2,20120207,0035,-37.9990, 115.0000, 4779,   2748.8,   1.9399,  34.7421,2,  34.7416,2,    190.5,2,    189.9,2,    96.40,2,    31.43,2,     2.13,2,    97.57,2,   -0.177,2,    0.000,2
  09AR20120105,  I09S,    81,  1,      7,      7,2,20120207,0035,-37.9990, 115.0000, 4779,   3100.3,   1.6115,  34.7379,2,  34.7374,2,    196.7,2,    196.1,2,   104.90,2,    31.46,2,     2.13,2,    97.47,2,   -0.181,2,    0.000,2
  09AR20120105,  I09S,    81,  1,      6,      6,2,20120207,0035,-37.9990, 115.0000, 4779,   3450.5,   1.3068,  34.7264,2,  34.7258,2,    200.1,2,    199.4,2,   114.70,2,    31.84,2,     2.17,2,    97.44,2,   -0.175,2,    0.000,2
  09AR20120105,  I09S,    81,  1,      5,      5,2,20120207,0035,-37.9990, 115.0000, 4779,   3801.0,   1.1280,  34.7174,2,  34.7166,2,    200.8,2,    201.4,2,   120.30,2,    32.05,2,     2.19,2,    97.39,2,   -0.179,2,    0.000,2
  09AR20120105,  I09S,    81,  1,      4,      4,2,20120207,0035,-37.9990, 115.0000, 4779,   4149.8,   0.9634,  34.7098,2,  34.7095,2,    206.2,2,    206.8,2,   122.50,2,    31.89,2,     2.19,2,    97.36,2,   -0.178,2,    0.000,2
  09AR20120105,  I09S,    81,  1,      3,      3,2,20120207,0035,-37.9990, 115.0000, 4779,   4400.2,   0.8888,  34.7055,2,  34.7054,2,    208.4,2,    209.0,2,   124.30,2,    32.02,2,     2.19,2,    97.36,2,   -0.175,2,    0.000,2
  09AR20120105,  I09S,    81,  1,      2,      2,2,20120207,0035,-37.9990, 115.0000, 4779,   4598.5,   0.8769,  34.7039,2,  34.7030,2,    208.8,2,    209.5,2,   125.60,2,    32.25,2,     2.20,2,    97.35,2,   -0.177,2,    0.000,2
  09AR20120105,  I09S,    81,  1,      1,      1,2,20120207,0035,-37.9990, 115.0000, 4779,   4859.7,   0.8993,  34.7031,2,  34.7030,2,    208.9,2,    209.5,2,   126.30,2,    32.52,2,     2.21,2,    97.36,2,   -0.181,2,    0.000,2