BOTTLE,20220815CCHSIOAMB
EXPOCODE,SECT_ID,STNNBR,CASTNO,SAMPNO,BTLNBR,BTLNBR_FLAG_W,DATE,TIME,LATITUDE,LONGITUDE,DEPTH,CTDPRS,CTDTMP,CTDSAL,CTDSAL_FLAG_W,SALNTY,SALNTY_FLAG_W,CTDOXY,CTDOXY_FLAG_W,OXYGEN,OXYGEN_FLAG_W,SILCAT,SILCAT_FLAG_W,NITRAT,NITRAT_FLAG_W,PHSPHT,PHSPHT_FLAG_W,XMISS,XMISS_FLAG_W,FLUOR,FLUOR_FLAG_W,PAR,PAR_FLAG_W
,,,,,,,,,,,METERS,DBAR,ITS-90,PSS-78,,PSS-78,,UMOL/KG,,UMOL/KG,,UMOL/KG,,UMOL/KG,,UMOL/KG,,%TRANS,,VOLTS,,VOLTS,
  09AR20120105,  I09S,    83,  1,     24,     24,2,20120207,0717,-37.5083, 115.0300, 5231,     10.6,  18.9401,  35.6529,2,  35.6532,2,    233.6,2,    232.8,2,     1.90,2,     0.00,2,     0.02,2,    98.96,2,   -0.147,2,    0.000,2
  09AR20120105,  I09S,    83,  1,     23,     23,2,20120207,0717,-37.5083, 115.0300, 5231,     20.7,  18.9391,  35.6540,2,-999.0000,9,    233.3,2,   -999.0,9,  -999.00,9,  -999.00,9,  -999.00,9,    98.96,2,   -0.146,2,    0.000,2
  09AR20120105,  I09S,    83,  1,     22,     22,2,20120207,0717,-37.5083, 115.0300, 5231,     20.6,  18.9391,  35.6538,2,-999.0000,9,    233.3,2,   -999.0,9,  -999.00,9,  -999.00,9,  -999.00,9,    98.97,2,   -0.152,2,    0.000,2
  09AR20120105,  I09S,    83,  1,     21,     21,2,20120207,0717,-37.5083, 115.0300, 5231,     50.6,  18.9185,  35.6484,2,  35.6494,2,    232.7,2,    232.8,2,     1.90,2,     0.00,2,     0.03,2,    98.95,2,   -0.135,2,    0.000,2
  09AR20120105,  I09S,    83,  1,     20,     20,2,20120207,0717,-37.5083, 115.0300, 5231,     89.9,  16.3112,  35.5557,2,  35.5561,2,   -999.0,5,    242.3,2,     1.60,2,     0.00,2,     0.08,2,    99.09,2,   -0.018,2,    0.000,2
  09AR20120105,  I09S,    83,  1,     19,     19,2,20120207,0717,-37.5083, 115.0300, 5231,    121.5,  15.9254,  35.5527,2,  35.5527,2,    238.7,2,    238.3,2,     1.60,2,     0.20,2,     0.10,2,    99.00,2,    0.237,2,    0.000,2
  09AR20120105,  I09S,    83,  1,     18,     18,2,20120207,0717,-37.5083, 115.0300, 5231,    249.8,  14.6327,  35.4006,2,  35.4003,2,    233.2,2,    233.0,2,     1.40,2,     2.41,2,     0.26,2,    99.64,2,   -0.205,2,    0.000,2
  09AR20120105,  I09S,    83,  1,     17,     17,2,20120207,0717,-37.5083, 115.0300, 5231,    400.2,  13.0904,  35.2575,2,  35.2570,2,    234.6,2,    234.4,2,     1.30,2,     4.98,2,     0.43,2,    99.75,2,   -0.204,2,    0.000,2
  09AR20120105,  I09S,    83,  1,     16,     16,2,20120207,0717,-37.5083, 115.0300, 5231,    550.6,  10.1986,  34.7827,2,  34.7821,2,    240.3,2,    241.5,2,     3.10,2,    13.17,2,     0.92,2,    99.30,2,   -0.204,2,    0.000,2
  09AR20120105,  I09S,    83,  1,     15,     15,2,20120207,0717,-37.5083, 115.0300, 5231,    750.5,   9.0645,  34.6360,2,  34.6366,2,    239.4,2,    239.0,2,     5.10,2,    17.33,2,     1.16,2,    98.86,2,   -0.195,2,    0.000,2
  09AR20120105,  I09S,    83,  1,     14,     14,2,20120207,0717,-37.5083, 115.0300, 5231,    949.8,   7.4015,  34.4760,2,  34.4762,2,    206.3,2,    206.2,2,    13.60,2,    24.42,2,     1.61,2,    98.32,2,   -0.188,2,    0.000,2
  09AR20120105,  I09S,    83,  1,     13,     13,2,20120207,0717,-37.5083, 115.0300, 5231,   1154.3,   4.6831,  34.3766,2,  34.3778,2,    193.0,2,    193.5,2,    34.90,2,    31.03,2,     2.08,2,    98.00,2,   -0.184,2,    0.000,2
  09AR20120105,  I09S,    83,  1,     12,     12,2,20120207,0717,-37.5083, 115.0300, 5231,   1450.1,   3.2448,  34.4740,2,  34.4756,2,    170.8,2,    170.8,2,    63.20,2,    34.20,2,     2.33,2,    97.60,2,   -0.184,2,    0.000,2
  09AR20120105,  I09S,    83,  1,     11,     11,2,20120207,0717,-37.5083, 115.0300, 5231,   1799.7,   2.7332,  34.6096,2,  34.6111,2,    162.0,2,    161.9,2,    80.10,2,    33.75,2,     2.34,2,    97.51,2,   -0.178,2,    0.000,2
  09AR20120105,  I09S,    83,  1,     10,     10,2,20120207,0717,-37.5083, 115.0300, 5231,   2149.9,   2.4256,  34.6974,2,  34.6977,2,    166.0,2,    166.0,2,    94.30,2,    32.95,2,     2.29,2,    97.44,2,   -0.174,2,    0.000,2
  09AR20120105,  I09S,    83,  1,      9,      9,2,20120207,0717,-37.5083, 115.0300, 5231,   2499.0,   2.1513,  34.7247,2,  34.7266,2,    173.7,2,    173.0,2,   102.60,2,    32.52,2,     2.26,2,    97.38,2,   -0.173,2,    0.000,2
  09AR20120105,  I09S,    83,  1,      8,      8,2,20120207,0717,-37.5083, 115.0300, 5231,   2849.4,   1.9106,  34.7333,2,  34.7329,2,    181.4,2,    181.2,2,   106.90,2,    32.38,2,     2.22,2,    97.33,2,   -0.180,2,    0.000,2
  09AR20120105,  I09S,    83,  1,      7,      7,2,20120207,0717,-37.5083, 115.0300, 5231,   3200.7,   1.6841,  34.7363,2,  34.7357,2,    191.7,2,    191.7,2,   107.10,2,    31.81,2,     2.17,2,    97.27,2,   -0.180,2,    0.000,2
  09AR20120105,  I09S,    83,  1,      6,      6,2,20120207,0717,-37.5083, 115.0300, 5231,   3601.0,   1.3156,  34.7261,2,  34.7260,2,    200.1,2,    199.6,2,   115.10,2,    31.86,2,     2.18,2,    97.20,2,   -0.180,2,    0.000,2
  09AR20120105,  I09S,    83,  1,      5,      5,2,20120207,0717,-37.5083, 115.0300, 5231,   3999.0,   1.1272,  34.7167,2,  34.7158,2,    202.6,2,    202.7,2,   120.70,2,    32.11,2,     2.20,2,    97.16,2,   -0.176,2,    0.000,2
  09AR20120105,  I09S,    83,  1,      4,      4,2,20120207,0717,-37.5083, 115.0300, 5231,   4399.9,   0.9662,  34.7087,2,  34.7079,2,    207.4,2,    207.1,2,   123.30,2,    32.12,2,     2.20,2,    97.15,2,   -0.180,2,    0.000,2
  09AR20120105,  I09S,    83,  1,      3,      3,2,20120207,0717,-37.5083, 115.0300, 5231,   4801.4,   0.9196,  34.7047,2,  34.7044,2,    208.9,2,    208.3,2,   124.50,2,    32.08,2,     2.21,2,    97.16,2,   -0.178,2,    0.000,2
  09AR20120105,  I09S,    83,  1,      2,      2,2,20120207,0717,-37.5083, 115.0300, 5231,   5100.4,   0.9396,  34.7038,2,  34.7032,2,    209.0,2,    209.0,2,   125.30,2,    32.14,2,     2.21,2,    97.16,2,   -0.181,2,    0.000,2
  09AR20120105,  I09S,    83,  1,      1,      1,2,20120207,0717,-37.5083, 115.0300, 5231,   5321.0,   0.9605,  34.7031,2,  34.7032,2,    209.3,2,    209.0,2,   125.90,2,    32.30,2,     2.22,2,    97.16,2,   -0.177,2,    0.000,2
  09AR20120105,  I09S,    84,  1,     24,     24,2,20120208,0751,-37.0422, 114.9860, 5726,   1100.8,   5.3454,  34.3826,2,-999.0000,9,   -999.0,5,   -999.0,9,  -999.00,9,  -999.00,9,  -999.00,9,    98.06,2,   -0.187,2,    0.000,2
  09AR20120105,  I09S,    84,  1,     23,     23,2,20120208,0751,-37.0422, 114.9860, 5726,   1100.9,   5.3443,  34.3826,2,-999.0000,9,   -999.0,5,   -999.0,9,  -999.00,9,  -999.00,9,  -999.00,9,    98.06,2,   -0.190,2,    0.000,2
  09AR20120105,  I09S,    84,  1,     22,     22,2,20120208,0751,-37.0422, 114.9860, 5726,   1100.8,   5.3436,  34.3825,2,-999.0000,9,   -999.0,5,   -999.0,9,  -999.00,9,  -999.00,9,  -999.00,9,    98.04,2,   -0.186,2,    0.000,2
  09AR20120105,  I09S,    84,  1,     21,     21,2,20120208,0751,-37.0422, 114.9860, 5726,   1100.6,   5.3444,  34.3826,2,-999.0000,9,   -999.0,5,   -999.0,9,  -999.00,9,  -999.00,9,  -999.00,9,    98.03,2,   -0.189,2,    0.000,2
  09AR20120105,  I09S,    84,  1,     20,     20,2,20120208,0751,-37.0422, 114.9860, 5726,   1100.7,   5.3434,  34.3824,2,-999.0000,9,   -999.0,5,   -999.0,9,  -999.00,9,  -999.00,9,  -999.00,9,    98.02,2,   -0.189,2,    0.000,2
  09AR20120105,  I09S,    84,  1,     19,     19,2,20120208,0751,-37.0422, 114.9860, 5726,   1100.6,   5.3415,  34.3823,2,-999.0000,9,   -999.0,5,   -999.0,9,  -999.00,9,  -999.00,9,  -999.00,9,    98.01,2,   -0.191,2,    0.000,2
  09AR20120105,  I09S,    84,  1,     18,     18,2,20120208,0751,-37.0422, 114.9860, 5726,   1100.5,   5.3394,  34.3822,2,-999.0000,9,   -999.0,5,   -999.0,9,  -999.00,9,  -999.00,9,  -999.00,9,    98.00,2,   -0.190,2,    0.000,2
  09AR20120105,  I09S,    84,  1,     17,     17,2,20120208,0751,-37.0422, 114.9860, 5726,   1100.5,   5.3413,  34.3824,2,-999.0000,9,   -999.0,5,   -999.0,9,  -999.00,9,  -999.00,9,  -999.00,9,    97.98,2,   -0.188,2,    0.000,2
  09AR20120105,  I09S,    84,  1,     16,     16,2,20120208,0751,-37.0422, 114.9860, 5726,   1100.3,   5.3419,  34.3825,2,-999.0000,9,   -999.0,5,   -999.0,9,  -999.00,9,  -999.00,9,  -999.00,9,    97.97,2,   -0.192,2,    0.000,2
  09AR20120105,  I09S,    84,  1,     15,     15,2,20120208,0751,-37.0422, 114.9860, 5726,   1100.2,   5.3439,  34.3823,2,-999.0000,9,   -999.0,5,   -999.0,9,  -999.00,9,  -999.00,9,  -999.00,9,    97.96,2,   -0.192,2,    0.000,2
  09AR20120105,  I09S,    84,  1,     14,     14,2,20120208,0751,-37.0422, 114.9860, 5726,   1100.2,   5.3443,  34.3824,2,-999.0000,9,   -999.0,5,   -999.0,9,  -999.00,9,  -999.00,9,  -999.00,9,    97.95,2,   -0.191,2,    0.000,2
  09AR20120105,  I09S,    84,  1,     13,     13,2,20120208,0751,-37.0422, 114.9860, 5726,   1099.9,   5.3439,  34.3825,2,-999.0000,9,   -999.0,5,   -999.0,9,  -999.00,9,  -999.00,9,  -999.00,9,    97.92,2,   -0.192,2,    0.000,2
  09AR20120105,  I09S,    84,  1,     12,     12,2,20120208,0751,-37.0422, 114.9860, 5726,   1099.7,   5.3316,  34.3824,2,-999.0000,9,   -999.0,5,   -999.0,9,  -999.00,9,  -999.00,9,  -999.00,9,    97.91,2,   -0.188,2,    0.000,2
  09AR20120105,  I09S,    84,  1,     11,     11,2,20120208,0751,-37.0422, 114.9860, 5726,   5826.2,   1.0286,  34.7035,2,-999.0000,9,   -999.0,5,   -999.0,9,  -999.00,9,  -999.00,9,  -999.00,9,    97.18,2,   -0.182,2,    0.000,2
  09AR20120105,  I09S,    84,  1,     10,     10,2,20120208,0751,-37.0422, 114.9860, 5726,   5826.3,   1.0286,  34.7034,2,-999.0000,9,   -999.0,5,   -999.0,9,  -999.00,9,  -999.00,9,  -999.00,9,    97.18,2,   -0.184,2,    0.000,2
  09AR20120105,  I09S,    84,  1,      9,      9,2,20120208,0751,-37.0422, 114.9860, 5726,   5826.4,   1.0284,  34.7036,2,-999.0000,9,   -999.0,5,   -999.0,9,  -999.00,9,  -999.00,9,  -999.00,9,    97.18,2,   -0.183,2,    0.000,2
  09AR20120105,  I09S,    84,  1,      8,      8,2,20120208,0751,-37.0422, 114.9860, 5726,   5827.4,   1.0287,  34.7034,2,-999.0000,9,   -999.0,5,   -999.0,9,  -999.00,9,  -999.00,9,  -999.00,9,    97.18,2,   -0.186,2,    0.000,2
  09AR20120105,  I09S,    84,  1,      7,      7,2,20120208,0751,-37.0422, 114.9860, 5726,   5828.8,   1.0289,  34.7034,2,-999.0000,9,   -999.0,5,   -999.0,9,  -999.00,9,  -999.00,9,  -999.00,9,    97.18,2,   -0.181,2,    0.000,2
  09AR20120105,  I09S,    84,  1,      6,      6,2,20120208,0751,-37.0422, 114.9860, 5726,   5828.6,   1.0288,  34.7034,2,-999.0000,9,   -999.0,5,   -999.0,9,  -999.00,9,  -999.00,9,  -999.00,9,    97.18,2,   -0.178,2,    0.000,2
  09AR20120105,  I09S,    84,  1,      5,      5,2,20120208,0751,-37.0422, 114.9860, 5726,   5828.6,   1.0289,  34.7034,2,-999.0000,9,   -999.0,5,   -999.0,9,  -999.00,9,  -999.00,9,  -999.00,9,    97.18,2,   -0.180,2,    0.000,2
  09AR20120105,  I09S,    84,  1,      4,      4,2,20120208,0751,-37.0422, 114.9860, 5726,   5828.4,   1.0288,  34.7035,2,-999.0000,9,   -999.0,5,   -999.0,9,  -999.00,9,  -999.00,9,  -999.00,9,    97.18,2,   -0.185,2,    0.000,2
  09AR20120105,  I09S,    84,  1,      3,      3,2,20120208,0751,-37.0422, 114.9860, 5726,   5828.1,   1.0288,  34.7034,2,-999.0000,9,   -999.0,5,   -999.0,9,  -999.00,9,  -999.00,9,  -999.00,9,    97.18,2,   -0.180,2,    0.000,2
  09AR20120105,  I09S,    84,  1,      2,      2,2,20120208,0751,-37.0422, 114.9860, 5726,   5828.0,   1.0288,  34.7034,2,-999.0000,9,   -999.0,5,   -999.0,9,  -999.00,9,  -999.00,9,  -999.00,9,    97.18,2,   -0.189,2,    0.000,2
  09AR20120105,  I09S,    84,  1,      1,      1,2,20120208,0751,-37.0422, 114.9860, 5726,   5827.7,   1.0288,  34.7034,2,-999.0000,9,   -999.0,5,   -999.0,9,  -999.00,9,  -999.00,9,  -999.00,9,    97.18,2,   -0.180,2,    0.000,2
  09AR20120105,  I09S,    85,  1,     24,     24,2,20120208,0825,-37.0397, 114.9890, 5727,      5.3,  19.9124,  35.6250,2,  35.6244,2,   -999.0,5,    228.6,2,     2.10,2,     0.00,2,     0.03,2,    98.81,2,   -0.160,2,   57.250,2
  09AR20120105,  I09S,    85,  1,     23,     23,2,20120208,0825,-37.0397, 114.9890, 5727,     44.9,  19.3428,  35.6006,2,-999.0000,9,    231.3,2,   -999.0,9,  -999.00,9,  -999.00,9,  -999.00,9,    98.87,2,   -0.131,2,   66.180,2
  09AR20120105,  I09S,    85,  1,     22,     22,2,20120208,0825,-37.0397, 114.9890, 5727,     45.1,  19.3579,  35.6006,2,-999.0000,9,    233.6,2,   -999.0,9,  -999.00,9,  -999.00,9,  -999.00,9,    98.90,2,   -0.129,2,   65.390,2
  09AR20120105,  I09S,    85,  1,     21,     21,2,20120208,0825,-37.0397, 114.9890, 5727,     44.9,  19.3165,  35.5972,2,  35.6021,2,    231.3,2,    232.0,2,     2.00,2,     0.00,2,     0.03,2,    98.86,2,   -0.130,2,   63.460,2
  09AR20120105,  I09S,    85,  1,     20,     20,2,20120208,0825,-37.0397, 114.9890, 5727,     80.0,  16.4368,  35.5567,2,  35.5567,2,    244.6,2,    244.6,2,     1.70,2,     0.00,2,     0.08,2,    98.82,2,    0.044,2,    5.072,2
  09AR20120105,  I09S,    85,  1,     19,     19,2,20120208,0825,-37.0397, 114.9890, 5727,     99.8,  16.1144,  35.5658,2,  35.5656,2,    243.4,2,    242.5,2,     1.70,2,     0.00,2,     0.09,2,    99.08,2,    0.133,2,    5.400,2
  09AR20120105,  I09S,    85,  1,     18,     18,2,20120208,0825,-37.0397, 114.9890, 5727,    249.5,  14.3244,  35.3720,2,  35.3713,2,    233.1,2,    233.0,2,     1.40,2,     2.83,2,     0.30,2,    99.65,2,   -0.201,2,    0.000,2
  09AR20120105,  I09S,    85,  1,     17,     17,2,20120208,0825,-37.0397, 114.9890, 5727,    401.5,  13.2842,  35.3162,2,  35.3159,2,    235.6,2,    235.2,2,     1.30,2,     4.27,2,     0.39,2,    99.73,2,   -0.203,2,    0.000,2
  09AR20120105,  I09S,    85,  1,     16,     16,2,20120208,0825,-37.0397, 114.9890, 5727,    599.3,   9.8105,  34.7338,2,  34.7347,2,    242.2,2,    242.1,2,     3.70,2,    14.55,2,     1.00,2,    99.40,2,   -0.205,2,    0.000,2
  09AR20120105,  I09S,    85,  1,     15,     15,2,20120208,0825,-37.0397, 114.9890, 5727,    800.5,   8.8226,  34.6067,2,  34.6087,2,    236.8,2,    236.3,2,     6.00,2,    18.41,2,     1.23,2,    98.89,2,   -0.201,2,    0.000,2
  09AR20120105,  I09S,    85,  1,     14,     14,2,20120208,0825,-37.0397, 114.9890, 5727,   1000.6,   6.8130,  34.4469,2,  34.4491,2,    199.5,2,    199.3,2,    17.60,2,    26.21,2,     1.75,2,    98.23,2,   -0.188,2,    0.000,2
  09AR20120105,  I09S,    85,  1,     13,     13,2,20120208,0825,-37.0397, 114.9890, 5727,   1200.8,   4.3946,  34.3783,2,  34.3792,2,    191.8,2,    191.9,2,    38.60,2,    31.48,2,     2.16,2,    97.78,2,   -0.191,2,    0.000,2
  09AR20120105,  I09S,    85,  1,     12,     12,2,20120208,0825,-37.0397, 114.9890, 5727,   1549.7,   3.0256,  34.5162,2,  34.5164,2,    166.8,2,    166.3,2,    69.10,2,    34.48,2,     2.38,2,    97.58,2,   -0.175,2,    0.000,2
  09AR20120105,  I09S,    85,  1,     11,     11,2,20120208,0825,-37.0397, 114.9890, 5727,   1901.3,   2.6422,  34.6495,2,  34.6555,2,    160.2,2,    160.7,2,    87.10,2,    34.09,2,     2.36,2,    97.49,2,   -0.168,2,    0.000,2
  09AR20120105,  I09S,    85,  1,     10,     10,2,20120208,0825,-37.0397, 114.9890, 5727,   2250.6,   2.3468,  34.7070,2,  34.7079,2,    167.7,2,    167.5,2,    97.00,2,    33.18,2,     2.31,2,    97.44,2,   -0.174,2,    0.000,2
  09AR20120105,  I09S,    85,  1,      9,      9,2,20120208,0825,-37.0397, 114.9890, 5727,   2600.0,   2.0655,  34.7279,2,  34.7315,2,    174.7,2,    174.3,2,   104.60,2,    32.72,2,     2.28,2,    97.37,2,   -0.180,2,    0.000,2
  09AR20120105,  I09S,    85,  1,      8,      8,2,20120208,0825,-37.0397, 114.9890, 5727,   2950.8,   1.8516,  34.7323,2,  34.7321,2,    181.6,2,    181.3,2,   108.20,2,    32.32,2,     2.26,2,    97.32,2,   -0.176,2,    0.000,2
  09AR20120105,  I09S,    85,  1,      7,      7,2,20120208,0825,-37.0397, 114.9890, 5727,   3300.3,   1.6432,  34.7341,2,  34.7355,2,    191.3,2,    191.2,2,   108.90,2,    31.82,2,     2.20,2,    97.28,2,   -0.182,2,    0.000,2
  09AR20120105,  I09S,    85,  1,      6,      6,2,20120208,0825,-37.0397, 114.9890, 5727,   3798.8,   1.3264,  34.7245,2,  34.7239,2,    198.0,2,    197.4,2,   117.30,2,    32.18,2,     2.22,2,    97.21,2,   -0.177,2,    0.000,2
  09AR20120105,  I09S,    85,  1,      5,      5,2,20120208,0825,-37.0397, 114.9890, 5727,   4299.3,   1.0729,  34.7134,2,  34.7135,2,    204.4,2,    204.0,2,   123.10,2,    32.51,2,     2.23,2,    97.17,2,   -0.182,2,    0.000,2
  09AR20120105,  I09S,    85,  1,      4,      4,2,20120208,0825,-37.0397, 114.9890, 5727,   4799.2,   0.9443,  34.7061,2,  34.7056,2,    208.7,2,    207.8,2,   125.60,2,    32.59,2,     2.24,2,    97.16,2,   -0.177,2,    0.000,2
  09AR20120105,  I09S,    85,  1,      3,      3,2,20120208,0825,-37.0397, 114.9890, 5727,   5299.5,   0.9693,  34.7042,2,  34.7058,2,    208.9,2,    208.7,2,   125.90,2,    32.56,2,     2.24,2,    97.18,2,   -0.179,2,    0.000,2
  09AR20120105,  I09S,    85,  1,      2,      2,2,20120208,0825,-37.0397, 114.9890, 5727,   5649.6,   1.0071,  34.7035,2,  34.7046,2,    209.3,2,    209.0,2,   125.10,2,    32.39,2,     2.23,2,    97.19,2,   -0.183,2,    0.000,2
  09AR20120105,  I09S,    85,  1,      1,      1,2,20120208,0825,-37.0397, 114.9890, 5727,   5837.5,   1.0299,  34.7032,2,  34.7052,2,    209.8,2,    208.7,2,   125.40,2,    32.32,2,     2.24,2,    97.19,2,   -0.182,2,    0.000,2