BOTTLE,20220815CCHSIOAMB
EXPOCODE,SECT_ID,STNNBR,CASTNO,SAMPNO,BTLNBR,BTLNBR_FLAG_W,DATE,TIME,LATITUDE,LONGITUDE,DEPTH,CTDPRS,CTDTMP,CTDSAL,CTDSAL_FLAG_W,SALNTY,SALNTY_FLAG_W,CTDOXY,CTDOXY_FLAG_W,OXYGEN,OXYGEN_FLAG_W,SILCAT,SILCAT_FLAG_W,NITRAT,NITRAT_FLAG_W,PHSPHT,PHSPHT_FLAG_W,XMISS,XMISS_FLAG_W,FLUOR,FLUOR_FLAG_W,PAR,PAR_FLAG_W
,,,,,,,,,,,METERS,DBAR,ITS-90,PSS-78,,PSS-78,,UMOL/KG,,UMOL/KG,,UMOL/KG,,UMOL/KG,,UMOL/KG,,%TRANS,,VOLTS,,VOLTS,
  09AR20120105,  I09S,    19,  1,     24,     24,2,20120122,0827,-63.6373, 113.3210, 3266,     50.6,  -1.4830,  34.2109,2,-999.0000,9,   -999.0,5,   -999.0,9,  -999.00,9,  -999.00,9,  -999.00,9,    95.35,2,    1.689,2,    5.194,2
  09AR20120105,  I09S,    19,  1,     23,     23,2,20120122,0827,-63.6373, 113.3210, 3266,     50.7,  -1.4806,  34.2106,2,-999.0000,9,   -999.0,5,   -999.0,9,  -999.00,9,  -999.00,9,  -999.00,9,    95.28,2,    1.687,2,    5.176,2
  09AR20120105,  I09S,    19,  1,     22,     22,2,20120122,0827,-63.6373, 113.3210, 3266,     50.7,  -1.4785,  34.2103,2,-999.0000,9,   -999.0,5,   -999.0,9,  -999.00,9,  -999.00,9,  -999.00,9,    95.43,2,    1.627,2,    5.202,2
  09AR20120105,  I09S,    19,  1,     21,     21,2,20120122,0827,-63.6373, 113.3210, 3266,     50.7,  -1.4803,  34.2108,2,-999.0000,9,   -999.0,5,   -999.0,9,  -999.00,9,  -999.00,9,  -999.00,9,    95.25,2,    1.576,2,    5.215,2
  09AR20120105,  I09S,    19,  1,     20,     20,2,20120122,0827,-63.6373, 113.3210, 3266,     50.6,  -1.4781,  34.2109,2,-999.0000,9,   -999.0,5,   -999.0,9,  -999.00,9,  -999.00,9,  -999.00,9,    95.22,2,    1.603,2,    5.239,2
  09AR20120105,  I09S,    19,  1,     19,     19,2,20120122,0827,-63.6373, 113.3210, 3266,     50.8,  -1.4812,  34.2123,2,-999.0000,9,   -999.0,5,   -999.0,9,  -999.00,9,  -999.00,9,  -999.00,9,    95.41,2,    1.625,2,    5.134,2
  09AR20120105,  I09S,    19,  1,     18,     18,2,20120122,0827,-63.6373, 113.3210, 3266,     50.7,  -1.4776,  34.2114,2,-999.0000,9,   -999.0,5,   -999.0,9,  -999.00,9,  -999.00,9,  -999.00,9,    95.61,2,    1.499,2,    5.108,2
  09AR20120105,  I09S,    19,  1,     17,     17,2,20120122,0827,-63.6373, 113.3210, 3266,     50.7,  -1.4796,  34.2123,2,-999.0000,9,   -999.0,5,   -999.0,9,  -999.00,9,  -999.00,9,  -999.00,9,    95.83,2,    1.498,2,    5.101,2
  09AR20120105,  I09S,    19,  1,     16,     16,2,20120122,0827,-63.6373, 113.3210, 3266,     50.6,  -1.4791,  34.2125,2,-999.0000,9,   -999.0,5,   -999.0,9,  -999.00,9,  -999.00,9,  -999.00,9,    95.86,2,    1.416,2,    5.109,2
  09AR20120105,  I09S,    19,  1,     15,     15,2,20120122,0827,-63.6373, 113.3210, 3266,     50.7,  -1.4793,  34.2127,2,-999.0000,9,   -999.0,5,   -999.0,9,  -999.00,9,  -999.00,9,  -999.00,9,    95.91,2,    1.478,2,    5.090,2
  09AR20120105,  I09S,    19,  1,     14,     14,2,20120122,0827,-63.6373, 113.3210, 3266,     50.4,  -1.4812,  34.2132,2,-999.0000,9,   -999.0,5,   -999.0,9,  -999.00,9,  -999.00,9,  -999.00,9,    95.80,2,    1.437,2,    5.121,2
  09AR20120105,  I09S,    19,  1,     13,     13,2,20120122,0827,-63.6373, 113.3210, 3266,     50.6,  -1.4897,  34.2153,2,-999.0000,9,   -999.0,5,   -999.0,9,  -999.00,9,  -999.00,9,  -999.00,9,    95.85,2,    1.368,2,    5.005,2
  09AR20120105,  I09S,    19,  1,     12,     12,2,20120122,0827,-63.6373, 113.3210, 3266,     50.6,  -1.4925,  34.2159,2,-999.0000,9,   -999.0,5,   -999.0,9,  -999.00,9,  -999.00,9,  -999.00,9,    95.90,2,    1.346,2,    5.053,2
  09AR20120105,  I09S,    19,  1,     11,     11,2,20120122,0827,-63.6373, 113.3210, 3266,     50.8,  -1.4913,  34.2159,2,-999.0000,9,   -999.0,5,   -999.0,9,  -999.00,9,  -999.00,9,  -999.00,9,    95.93,2,    1.338,2,    5.080,2
  09AR20120105,  I09S,    19,  1,     10,     10,2,20120122,0827,-63.6373, 113.3210, 3266,     50.7,  -1.4869,  34.2151,2,-999.0000,9,   -999.0,5,   -999.0,9,  -999.00,9,  -999.00,9,  -999.00,9,    95.86,2,    1.392,2,    5.164,2
  09AR20120105,  I09S,    19,  1,      9,      9,2,20120122,0827,-63.6373, 113.3210, 3266,     50.8,  -1.4887,  34.2158,2,-999.0000,9,   -999.0,5,   -999.0,9,  -999.00,9,  -999.00,9,  -999.00,9,    95.97,2,    1.323,2,    5.069,2
  09AR20120105,  I09S,    19,  1,      8,      8,2,20120122,0827,-63.6373, 113.3210, 3266,     50.8,  -1.4865,  34.2150,2,-999.0000,9,   -999.0,5,   -999.0,9,  -999.00,9,  -999.00,9,  -999.00,9,    95.78,2,    1.382,2,    5.068,2
  09AR20120105,  I09S,    19,  1,      7,      7,2,20120122,0827,-63.6373, 113.3210, 3266,     50.7,  -1.4845,  34.2143,2,-999.0000,9,   -999.0,5,   -999.0,9,  -999.00,9,  -999.00,9,  -999.00,9,    95.84,2,    1.546,2,    5.125,2
  09AR20120105,  I09S,    19,  1,      6,      6,2,20120122,0827,-63.6373, 113.3210, 3266,     50.7,  -1.4853,  34.2144,2,-999.0000,9,   -999.0,5,   -999.0,9,  -999.00,9,  -999.00,9,  -999.00,9,    95.84,2,    1.623,2,    5.177,2
  09AR20120105,  I09S,    19,  1,      5,      5,2,20120122,0827,-63.6373, 113.3210, 3266,     50.7,  -1.4887,  34.2152,2,-999.0000,9,   -999.0,5,   -999.0,9,  -999.00,9,  -999.00,9,  -999.00,9,    95.83,2,    1.546,2,    5.236,2
  09AR20120105,  I09S,    19,  1,      4,      4,2,20120122,0827,-63.6373, 113.3210, 3266,     50.8,  -1.4965,  34.2169,2,-999.0000,9,   -999.0,5,   -999.0,9,  -999.00,9,  -999.00,9,  -999.00,9,    95.92,2,    1.586,2,    5.222,2
  09AR20120105,  I09S,    19,  1,      3,      3,2,20120122,0827,-63.6373, 113.3210, 3266,     50.7,  -1.4893,  34.2151,2,-999.0000,9,   -999.0,5,   -999.0,9,  -999.00,9,  -999.00,9,  -999.00,9,    95.91,2,    1.562,2,    5.299,2
  09AR20120105,  I09S,    19,  1,      2,      2,2,20120122,0827,-63.6373, 113.3210, 3266,     50.7,  -1.4805,  34.2136,2,-999.0000,9,   -999.0,5,   -999.0,9,  -999.00,9,  -999.00,9,  -999.00,9,    95.90,2,    1.505,2,    5.382,2
  09AR20120105,  I09S,    19,  1,      1,      1,2,20120122,0827,-63.6373, 113.3210, 3266,     50.8,  -1.5078,  34.2206,2,-999.0000,9,   -999.0,5,   -999.0,9,  -999.00,9,  -999.00,9,  -999.00,9,    95.89,2,    1.547,2,    5.456,2
  09AR20120105,  I09S,    20,  1,     24,     24,2,20120122,0926,-63.6447, 113.3380, 3263,      5.0,   0.5862,  33.9144,2,  33.9150,2,    339.6,2,    338.4,2,    48.00,2,    25.33,2,     1.76,2,    96.39,2,    0.249,2,   56.070,2
  09AR20120105,  I09S,    20,  1,     23,     23,2,20120122,0926,-63.6447, 113.3380, 3263,      5.2,   0.5840,  33.9145,2,-999.0000,9,    339.6,2,   -999.0,9,  -999.00,9,  -999.00,9,  -999.00,9,    96.39,2,    0.270,2,   52.950,2
  09AR20120105,  I09S,    20,  1,     22,     22,2,20120122,0926,-63.6447, 113.3380, 3263,      5.0,   0.5813,  33.9144,2,-999.0000,9,    339.6,2,   -999.0,9,  -999.00,9,  -999.00,9,  -999.00,9,    96.40,2,    0.272,2,   50.040,2
  09AR20120105,  I09S,    20,  1,     21,     21,2,20120122,0926,-63.6447, 113.3380, 3263,     29.2,   0.4921,  33.9162,2,  33.9185,2,    338.6,2,    339.6,2,    48.00,2,    25.37,2,     1.76,2,    96.21,2,    0.465,2,    9.665,2
  09AR20120105,  I09S,    20,  1,     20,     20,2,20120122,0926,-63.6447, 113.3380, 3263,     50.5,  -1.5133,  34.2220,2,  34.2132,2,    304.7,2,    317.5,2,    61.60,2,    28.89,2,     2.03,2,    95.20,2,    2.078,2,    4.342,2
  09AR20120105,  I09S,    20,  1,     19,     19,2,20120122,0926,-63.6447, 113.3380, 3263,     64.4,  -1.3599,  34.3218,2,  34.3219,2,    288.2,2,    288.3,2,    68.90,2,    30.48,2,     2.14,2,    97.13,2,    0.370,2,    1.799,2
  09AR20120105,  I09S,    20,  1,     18,     18,2,20120122,0926,-63.6447, 113.3380, 3263,     80.5,  -0.8239,  34.4036,2,  34.4035,2,    264.8,2,    265.4,2,    73.50,2,    31.41,2,     2.19,2,    97.25,2,    0.098,2,    0.840,2
  09AR20120105,  I09S,    20,  1,     17,     17,2,20120122,0926,-63.6447, 113.3380, 3263,    109.7,   0.3865,  34.5472,2,  34.5462,2,    227.4,2,    223.9,2,    81.10,2,    32.26,2,     2.24,2,    97.39,2,    0.075,2,    0.199,2
  09AR20120105,  I09S,    20,  1,     16,     16,2,20120122,0926,-63.6447, 113.3380, 3263,    149.8,   1.1148,  34.6456,2,  34.6470,2,    199.9,2,    200.8,2,    87.00,2,    32.38,2,     2.25,2,    97.45,2,   -0.101,2,    0.000,2
  09AR20120105,  I09S,    20,  1,     15,     15,2,20120122,0926,-63.6447, 113.3380, 3263,    300.6,   1.4836,  34.7213,2,  34.7217,2,    192.5,2,   -999.0,9,    93.30,2,    31.65,2,     2.19,2,    97.45,2,   -0.169,2,    0.000,2
  09AR20120105,  I09S,    20,  1,     14,     14,2,20120122,0926,-63.6447, 113.3380, 3263,    498.8,   1.3812,  34.7315,2,  34.7317,2,    196.0,2,    196.9,2,    98.40,2,    31.34,2,     2.17,2,    97.42,2,   -0.175,2,    0.000,2
  09AR20120105,  I09S,    20,  1,     13,     13,2,20120122,0926,-63.6447, 113.3380, 3263,    727.0,   1.1902,  34.7269,2,  34.7284,2,    200.2,2,    200.4,2,   103.80,2,    31.45,2,     2.19,2,    97.39,2,   -0.175,2,    0.000,2
  09AR20120105,  I09S,    20,  1,     12,     12,2,20120122,0926,-63.6447, 113.3380, 3263,    923.4,   1.0119,  34.7197,2,  34.7195,2,    203.0,2,    203.5,2,   109.20,2,    31.63,2,     2.21,2,    97.34,2,   -0.179,2,    0.000,2
  09AR20120105,  I09S,    20,  1,     11,     11,2,20120122,0926,-63.6447, 113.3380, 3263,   1150.3,   0.8295,  34.7109,2,  34.7125,2,    206.1,2,    206.0,2,   114.20,2,    31.83,2,     2.23,2,    97.29,2,   -0.184,2,    0.000,2
  09AR20120105,  I09S,    20,  1,     10,     10,2,20120122,0926,-63.6447, 113.3380, 3263,   1398.9,   0.5966,  34.6969,2,  34.6975,2,    209.4,2,    210.0,2,   118.50,2,    32.14,2,     2.25,2,    97.24,2,   -0.182,2,    0.000,2
  09AR20120105,  I09S,    20,  1,      9,      9,2,20120122,0926,-63.6447, 113.3380, 3263,   1619.3,   0.4172,  34.6867,2,  34.6877,2,    215.3,2,    214.3,2,   120.20,2,    32.24,2,     2.27,2,    97.21,2,   -0.183,2,    0.000,2
  09AR20120105,  I09S,    20,  1,      8,      8,2,20120122,0926,-63.6447, 113.3380, 3263,   1900.9,   0.2781,  34.6823,2,  34.6824,2,    217.7,2,    217.8,2,   123.90,2,    32.36,2,     2.27,2,    97.19,2,   -0.185,2,    0.000,2
  09AR20120105,  I09S,    20,  1,      7,      7,2,20120122,0926,-63.6447, 113.3380, 3263,   2275.5,   0.0862,  34.6727,2,  34.6724,2,    224.1,2,    224.5,2,   123.40,2,    32.32,2,     2.27,2,    97.16,2,   -0.181,2,    0.000,2
  09AR20120105,  I09S,    20,  1,      6,      6,2,20120122,0926,-63.6447, 113.3380, 3263,   2449.0,   0.0358,  34.6725,2,  34.6726,2,    226.1,2,    226.5,2,   126.40,2,    32.33,2,     2.27,2,    97.14,2,   -0.182,2,    0.000,2
  09AR20120105,  I09S,    20,  1,      5,      5,2,20120122,0926,-63.6447, 113.3380, 3263,   2649.8,  -0.0338,  34.6688,2,  34.6688,2,    228.1,2,    227.4,2,   126.00,2,    32.25,2,     2.27,2,    97.14,2,   -0.180,2,    0.000,2
  09AR20120105,  I09S,    20,  1,      4,      4,2,20120122,0926,-63.6447, 113.3380, 3263,   2799.8,  -0.0786,  34.6662,2,  34.6657,2,    230.9,2,    230.8,2,   124.90,2,    32.20,2,     2.26,2,    97.13,2,   -0.175,2,    0.000,2
  09AR20120105,  I09S,    20,  1,      3,      3,2,20120122,0926,-63.6447, 113.3380, 3263,   2999.9,  -0.1579,  34.6592,2,  34.6590,2,    233.9,2,    234.3,2,   118.00,2,    32.13,2,     2.25,2,    97.13,2,   -0.181,2,    0.000,2
  09AR20120105,  I09S,    20,  1,      2,      2,2,20120122,0926,-63.6447, 113.3380, 3263,   3198.5,  -0.1988,  34.6566,2,  34.6565,2,    236.3,2,    234.9,2,   118.40,2,    32.01,2,     2.25,2,    97.11,2,   -0.185,2,    0.000,2
  09AR20120105,  I09S,    20,  1,      1,      1,2,20120122,0926,-63.6447, 113.3380, 3263,   3311.1,  -0.2485,  34.6522,2,  34.6517,2,    238.2,2,    238.4,2,   120.80,2,    31.97,2,     2.25,2,    97.11,2,   -0.181,2,    0.000,2
  09AR20120105,  I09S,    21,  1,     24,     24,2,20120122,1452,-63.2877, 113.3290, 3505,      4.8,   0.5679,  33.8915,2,  33.8927,2,    341.7,2,    340.5,2,    47.50,2,    25.52,2,     1.76,2,    96.47,2,    0.613,2,    0.000,2
  09AR20120105,  I09S,    21,  1,     23,     23,2,20120122,1452,-63.2877, 113.3290, 3505,     19.7,   0.5464,  33.8936,2,-999.0000,9,    339.7,2,   -999.0,9,  -999.00,9,  -999.00,9,  -999.00,9,    96.67,2,    0.541,2,    0.000,2
  09AR20120105,  I09S,    21,  1,     22,     22,2,20120122,1452,-63.2877, 113.3290, 3505,     19.7,   0.5422,  33.8934,2,-999.0000,9,    339.7,2,   -999.0,9,  -999.00,9,  -999.00,9,  -999.00,9,    96.64,2,    0.576,2,    0.000,2
  09AR20120105,  I09S,    21,  1,     21,     21,2,20120122,1452,-63.2877, 113.3290, 3505,     19.6,   0.5509,  33.8920,2,  33.8956,2,    339.7,2,    340.3,2,    47.90,2,    25.54,2,     1.77,2,    96.58,2,    0.622,2,    0.000,2
  09AR20120105,  I09S,    21,  1,     20,     20,2,20120122,1452,-63.2877, 113.3290, 3505,     44.5,  -1.3028,  34.2262,2,  34.2148,2,    335.7,2,    316.7,2,    59.80,2,    29.15,2,     2.04,2,    94.65,2,    2.170,2,    0.000,2
  09AR20120105,  I09S,    21,  1,     19,     19,2,20120122,1452,-63.2877, 113.3290, 3505,     60.4,  -1.0670,  34.3343,2,  34.3352,2,    280.2,2,    282.4,2,    69.70,2,    30.92,2,     2.17,2,    97.28,2,    0.893,2,    0.000,2
  09AR20120105,  I09S,    21,  1,     18,     18,2,20120122,1452,-63.2877, 113.3290, 3505,     80.6,   0.1073,  34.4839,2,  34.4828,2,    239.1,2,    236.3,2,    77.40,2,    32.37,2,     2.24,2,    97.40,2,    0.170,2,    0.000,2
  09AR20120105,  I09S,    21,  1,     17,     17,2,20120122,1452,-63.2877, 113.3290, 3505,     99.6,   0.8531,  34.5753,2,  34.5730,2,    212.6,2,    209.8,2,    81.90,2,    32.81,2,     2.27,2,    97.46,2,    0.014,2,    0.000,2
  09AR20120105,  I09S,    21,  1,     16,     16,2,20120122,1452,-63.2877, 113.3290, 3505,    199.9,   1.5193,  34.6865,2,  34.6865,2,    189.9,2,    190.4,2,    88.00,2,    32.34,2,     2.24,2,    97.48,2,   -0.161,2,    0.000,2
  09AR20120105,  I09S,    21,  1,     15,     15,2,20120122,1452,-63.2877, 113.3290, 3505,    300.3,   1.6027,  34.7174,2,  34.7184,2,    190.3,2,    190.4,2,    91.20,2,    31.74,2,     2.20,2,    97.47,2,   -0.173,2,    0.000,2
  09AR20120105,  I09S,    21,  1,     14,     14,2,20120122,1452,-63.2877, 113.3290, 3505,    500.5,   1.4897,  34.7326,2,  34.7327,2,    195.2,2,    195.0,2,    95.10,2,    31.39,2,     2.17,2,    97.44,2,   -0.177,2,    0.000,2
  09AR20120105,  I09S,    21,  1,     13,     13,2,20120122,1452,-63.2877, 113.3290, 3505,    749.7,   1.2917,  34.7316,2,  34.7313,2,    199.7,2,    199.4,2,   101.90,2,    31.38,2,     2.17,2,    97.40,2,   -0.175,2,    0.000,2
  09AR20120105,  I09S,    21,  1,     12,     12,2,20120122,1452,-63.2877, 113.3290, 3505,    950.2,   1.1211,  34.7249,2,  34.7252,2,    202.4,2,    202.3,2,   106.60,2,    31.48,2,     2.20,2,    97.36,2,   -0.177,2,    0.000,2
  09AR20120105,  I09S,    21,  1,     11,     11,2,20120122,1452,-63.2877, 113.3290, 3505,   1149.1,   0.9384,  34.7156,2,  34.7150,2,    204.5,2,    204.7,2,   112.00,2,    31.79,2,     2.22,2,    97.32,2,   -0.182,2,    0.000,2
  09AR20120105,  I09S,    21,  1,     10,     10,2,20120122,1452,-63.2877, 113.3290, 3505,   1400.8,   0.7406,  34.7056,2,  34.7066,2,    207.5,2,    207.6,2,   117.80,2,    32.12,2,     2.24,2,    97.28,2,   -0.180,2,    0.000,2
  09AR20120105,  I09S,    21,  1,      9,      9,2,20120122,1452,-63.2877, 113.3290, 3505,   1676.9,   0.4917,  34.6909,2,  34.6912,2,    212.6,2,    212.6,2,   121.00,2,    32.46,2,     2.27,2,    97.23,2,   -0.183,2,    0.000,2
  09AR20120105,  I09S,    21,  1,      8,      8,2,20120122,1452,-63.2877, 113.3290, 3505,   1949.0,   0.3204,  34.6839,2,  34.6836,2,    216.6,2,    216.9,2,   123.60,2,    32.52,2,     2.28,2,    97.20,2,   -0.182,2,    0.000,2
  09AR20120105,  I09S,    21,  1,      7,      7,2,20120122,1452,-63.2877, 113.3290, 3505,   2273.2,   0.1586,  34.6776,2,  34.6775,2,    221.8,2,    222.0,2,   126.30,2,    32.54,2,     2.27,2,    97.18,2,   -0.186,2,    0.000,2
  09AR20120105,  I09S,    21,  1,      6,      6,2,20120122,1452,-63.2877, 113.3290, 3505,   2500.6,   0.0830,  34.6754,2,  34.6753,2,    224.0,2,    224.6,2,   128.20,2,    32.51,2,     2.28,2,    97.17,2,   -0.181,2,    0.000,2
  09AR20120105,  I09S,    21,  1,      5,      5,2,20120122,1452,-63.2877, 113.3290, 3505,   2725.3,  -0.0019,  34.6707,2,  34.6704,2,    227.6,2,    227.9,2,   127.20,2,    32.53,2,     2.27,2,    97.14,2,   -0.182,2,    0.000,2
  09AR20120105,  I09S,    21,  1,      4,      4,2,20120122,1452,-63.2877, 113.3290, 3505,   2999.3,  -0.0651,  34.6685,2,  34.6673,2,    230.6,2,    230.5,2,   131.00,2,    32.51,2,     2.27,2,    97.14,2,   -0.188,2,    0.000,2
  09AR20120105,  I09S,    21,  1,      3,      3,2,20120122,1452,-63.2877, 113.3290, 3505,   3251.7,  -0.1628,  34.6600,2,  34.6592,2,    235.0,2,    235.2,2,   124.60,2,    32.31,2,     2.25,2,    97.12,2,   -0.185,2,    0.000,2
  09AR20120105,  I09S,    21,  1,      2,      2,2,20120122,1452,-63.2877, 113.3290, 3505,   3450.1,  -0.2450,  34.6516,2,  34.6506,2,    239.4,2,    239.3,2,   119.80,2,    32.18,2,     2.25,2,    97.11,2,   -0.187,2,    0.000,2
  09AR20120105,  I09S,    21,  1,      1,      1,2,20120122,1452,-63.2877, 113.3290, 3505,   3557.5,  -0.2668,  34.6488,2,  34.6476,2,    240.1,2,    240.0,2,   123.20,2,    32.25,2,     2.25,2,    97.11,2,   -0.178,2,    0.000,2