BOTTLE,20220815CCHSIOAMB
EXPOCODE,SECT_ID,STNNBR,CASTNO,SAMPNO,BTLNBR,BTLNBR_FLAG_W,DATE,TIME,LATITUDE,LONGITUDE,DEPTH,CTDPRS,CTDTMP,CTDSAL,CTDSAL_FLAG_W,SALNTY,SALNTY_FLAG_W,CTDOXY,CTDOXY_FLAG_W,OXYGEN,OXYGEN_FLAG_W,SILCAT,SILCAT_FLAG_W,NITRAT,NITRAT_FLAG_W,PHSPHT,PHSPHT_FLAG_W,XMISS,XMISS_FLAG_W,FLUOR,FLUOR_FLAG_W,PAR,PAR_FLAG_W
,,,,,,,,,,,METERS,DBAR,ITS-90,PSS-78,,PSS-78,,UMOL/KG,,UMOL/KG,,UMOL/KG,,UMOL/KG,,UMOL/KG,,%TRANS,,VOLTS,,VOLTS,
  09AR20120105,  I09S,    92,  1,     24,     24,2,20120209,0407,-34.9533, 115.0080,  224,      8.8,  22.8028,  35.3068,2,  35.3068,2,   -999.0,5,    215.7,2,     2.70,2,     0.00,2,     0.05,2,    98.05,2,    0.018,2,    0.000,2
  09AR20120105,  I09S,    92,  1,     23,     23,2,20120209,0407,-34.9533, 115.0080,  224,      8.7,  22.8041,  35.3068,2,-999.0000,9,   -999.0,5,   -999.0,9,  -999.00,9,  -999.00,9,  -999.00,9,    98.03,2,    0.047,2,    0.000,2
  09AR20120105,  I09S,    92,  1,     22,     22,2,20120209,0407,-34.9533, 115.0080,  224,      8.7,  22.8050,  35.3067,2,-999.0000,9,   -999.0,5,   -999.0,9,  -999.00,9,  -999.00,9,  -999.00,9,    98.05,2,    0.041,2,    0.000,2
  09AR20120105,  I09S,    92,  1,     21,     21,2,20120209,0407,-34.9533, 115.0080,  224,      8.6,  22.8056,  35.3068,2,-999.0000,9,   -999.0,5,   -999.0,9,  -999.00,9,  -999.00,9,  -999.00,9,    98.06,2,    0.034,2,    0.000,2
  09AR20120105,  I09S,    92,  1,     20,     20,2,20120209,0407,-34.9533, 115.0080,  224,     19.7,  22.8132,  35.3075,2,-999.0000,9,    215.9,2,   -999.0,9,  -999.00,9,  -999.00,9,  -999.00,9,    98.06,2,    0.080,2,    0.000,2
  09AR20120105,  I09S,    92,  1,     19,     19,2,20120209,0407,-34.9533, 115.0080,  224,     19.6,  22.8135,  35.3074,2,-999.0000,9,    215.9,2,   -999.0,9,  -999.00,9,  -999.00,9,  -999.00,9,    98.03,2,    0.057,2,    0.000,2
  09AR20120105,  I09S,    92,  1,     18,     18,2,20120209,0407,-34.9533, 115.0080,  224,     19.6,  22.8141,  35.3075,2,-999.0000,9,    215.9,2,   -999.0,9,  -999.00,9,  -999.00,9,  -999.00,9,    98.06,2,    0.034,2,    0.000,2
  09AR20120105,  I09S,    92,  1,     17,     17,2,20120209,0407,-34.9533, 115.0080,  224,     40.0,  22.8176,  35.3078,2,-999.0000,9,    215.6,2,   -999.0,9,  -999.00,9,  -999.00,9,  -999.00,9,    98.07,2,    0.038,2,    0.000,2
  09AR20120105,  I09S,    92,  1,     16,     16,2,20120209,0407,-34.9533, 115.0080,  224,     40.2,  22.8187,  35.3079,2,  35.3068,2,    215.6,2,    215.6,2,     2.70,2,     0.00,2,     0.06,2,    98.08,2,    0.029,2,    0.000,2
  09AR20120105,  I09S,    92,  1,     15,     15,2,20120209,0407,-34.9533, 115.0080,  224,     39.9,  22.8182,  35.3078,2,-999.0000,9,    215.6,2,   -999.0,9,  -999.00,9,  -999.00,9,  -999.00,9,    98.08,2,    0.036,2,    0.000,2
  09AR20120105,  I09S,    92,  1,     14,     14,2,20120209,0407,-34.9533, 115.0080,  224,     70.7,  22.8178,  35.3103,2,  35.3275,2,    215.5,2,    215.7,2,     2.70,2,     0.00,2,     0.06,2,    98.06,2,    0.046,2,    0.000,2
  09AR20120105,  I09S,    92,  1,     13,     13,2,20120209,0407,-34.9533, 115.0080,  224,     70.6,  22.7993,  35.3162,2,-999.0000,9,    215.5,2,   -999.0,9,  -999.00,9,  -999.00,9,  -999.00,9,    98.10,2,    0.051,2,    0.000,2
  09AR20120105,  I09S,    92,  1,     12,     12,2,20120209,0407,-34.9533, 115.0080,  224,     90.6,  21.3090,  35.5484,2,  35.5498,2,    217.6,2,    218.3,2,     2.80,2,     0.18,2,     0.07,2,    98.61,2,    0.181,2,    0.000,2
  09AR20120105,  I09S,    92,  1,     11,     11,2,20120209,0407,-34.9533, 115.0080,  224,     90.7,  21.3004,  35.5508,2,-999.0000,9,    217.6,2,   -999.0,9,  -999.00,9,  -999.00,9,  -999.00,9,    98.63,2,    0.177,2,    0.000,2
  09AR20120105,  I09S,    92,  1,     10,     10,2,20120209,0407,-34.9533, 115.0080,  224,    106.0,  20.4731,  35.6061,2,-999.0000,9,    219.1,2,   -999.0,9,  -999.00,9,  -999.00,9,  -999.00,9,    99.04,2,   -0.072,2,    0.000,2
  09AR20120105,  I09S,    92,  1,      9,      9,2,20120209,0407,-34.9533, 115.0080,  224,    105.9,  20.4712,  35.6062,2,-999.0000,9,    219.1,2,   -999.0,9,  -999.00,9,  -999.00,9,  -999.00,9,    99.04,2,   -0.097,2,    0.000,2
  09AR20120105,  I09S,    92,  1,      8,      8,2,20120209,0407,-34.9533, 115.0080,  224,    122.1,  19.0469,  35.6958,2,  35.6909,2,    232.3,2,    231.6,2,     2.30,2,     0.06,2,     0.07,2,    99.05,2,   -0.010,2,    0.000,2
  09AR20120105,  I09S,    92,  1,      7,      7,2,20120209,0407,-34.9533, 115.0080,  224,    122.1,  19.0465,  35.6959,2,-999.0000,9,    232.3,2,   -999.0,9,  -999.00,9,  -999.00,9,  -999.00,9,    99.04,2,   -0.018,2,    0.000,2
  09AR20120105,  I09S,    92,  1,      6,      6,2,20120209,0407,-34.9533, 115.0080,  224,    122.1,  19.0283,  35.6986,2,-999.0000,9,    232.3,2,   -999.0,9,  -999.00,9,  -999.00,9,  -999.00,9,    99.03,2,   -0.008,2,    0.000,2
  09AR20120105,  I09S,    92,  1,      5,      5,2,20120209,0407,-34.9533, 115.0080,  224,    122.2,  19.0145,  35.7000,2,-999.0000,9,    232.3,2,   -999.0,9,  -999.00,9,  -999.00,9,  -999.00,9,    99.03,2,    0.019,2,    0.000,2
  09AR20120105,  I09S,    92,  1,      4,      4,2,20120209,0407,-34.9533, 115.0080,  224,    160.3,  17.3612,  35.6774,2,  35.6763,2,    235.4,2,    235.2,2,     2.10,2,     0.07,2,     0.11,2,    99.33,2,   -0.120,2,    0.000,2
  09AR20120105,  I09S,    92,  1,      3,      3,2,20120209,0407,-34.9533, 115.0080,  224,    160.3,  17.3608,  35.6780,2,-999.0000,9,    235.4,2,   -999.0,9,  -999.00,9,  -999.00,9,  -999.00,9,    99.30,2,   -0.110,2,    0.000,2
  09AR20120105,  I09S,    92,  1,      2,      2,2,20120209,0407,-34.9533, 115.0080,  224,    210.8,  16.3509,  35.6081,2,  35.6072,2,    231.7,2,    232.0,2,     2.00,2,     1.22,2,     0.19,2,    99.33,2,   -0.154,2,    0.000,2
  09AR20120105,  I09S,    92,  1,      1,      1,2,20120209,0407,-34.9533, 115.0080,  224,    210.7,  16.3529,  35.6086,2,-999.0000,9,    231.7,2,   -999.0,9,  -999.00,9,  -999.00,9,  -999.00,9,    99.33,2,   -0.158,2,    0.000,2
  09AR20120105,  I09S,    93,  1,     24,     24,2,20120209,1157,-34.8170, 114.9990,  147,      9.0,  22.7012,  35.2967,2,  35.2964,2,    215.9,2,    215.5,2,     2.80,2,     0.00,2,     0.07,2,    97.76,2,    0.134,2,    0.095,2
  09AR20120105,  I09S,    93,  1,     23,     23,2,20120209,1157,-34.8170, 114.9990,  147,      9.1,  22.7000,  35.2967,2,-999.0000,9,    215.9,2,   -999.0,9,  -999.00,9,  -999.00,9,  -999.00,9,    97.75,2,    0.122,2,    0.090,2
  09AR20120105,  I09S,    93,  1,     22,     22,2,20120209,1157,-34.8170, 114.9990,  147,      9.0,  22.7009,  35.2966,2,-999.0000,9,    215.8,2,   -999.0,9,  -999.00,9,  -999.00,9,  -999.00,9,    97.76,2,    0.130,2,    0.088,2
  09AR20120105,  I09S,    93,  1,     21,     21,2,20120209,1157,-34.8170, 114.9990,  147,      9.0,  22.7018,  35.2966,2,-999.0000,9,    215.9,2,   -999.0,9,  -999.00,9,  -999.00,9,  -999.00,9,    97.76,2,    0.176,2,    0.082,2
  09AR20120105,  I09S,    93,  1,     20,     20,2,20120209,1157,-34.8170, 114.9990,  147,     20.2,  22.7116,  35.2964,2,-999.0000,9,    215.3,2,   -999.0,9,  -999.00,9,  -999.00,9,  -999.00,9,    97.76,2,    0.132,2,    0.000,2
  09AR20120105,  I09S,    93,  1,     19,     19,2,20120209,1157,-34.8170, 114.9990,  147,     20.2,  22.7116,  35.2965,2,-999.0000,9,    215.3,2,   -999.0,9,  -999.00,9,  -999.00,9,  -999.00,9,    97.76,2,    0.134,2,    0.000,2
  09AR20120105,  I09S,    93,  1,     18,     18,2,20120209,1157,-34.8170, 114.9990,  147,     20.2,  22.7102,  35.2966,2,-999.0000,9,    215.3,2,   -999.0,9,  -999.00,9,  -999.00,9,  -999.00,9,    97.73,2,    0.124,2,    0.000,2
  09AR20120105,  I09S,    93,  1,     17,     17,2,20120209,1157,-34.8170, 114.9990,  147,     20.3,  22.7120,  35.2964,2,-999.0000,9,    215.3,2,   -999.0,9,  -999.00,9,  -999.00,9,  -999.00,9,    97.76,2,    0.140,2,    0.000,2
  09AR20120105,  I09S,    93,  1,     16,     16,2,20120209,1157,-34.8170, 114.9990,  147,     20.3,  22.7127,  35.2965,2,-999.0000,9,    215.3,2,   -999.0,9,  -999.00,9,  -999.00,9,  -999.00,9,    97.75,2,    0.143,2,    0.000,2
  09AR20120105,  I09S,    93,  1,     15,     15,2,20120209,1157,-34.8170, 114.9990,  147,     20.4,  22.7131,  35.2964,2,-999.0000,9,    215.3,2,   -999.0,9,  -999.00,9,  -999.00,9,  -999.00,9,    97.75,2,    0.176,2,    0.000,2
  09AR20120105,  I09S,    93,  1,     14,     14,2,20120209,1157,-34.8170, 114.9990,  147,     35.3,  22.7150,  35.2965,2,  35.2962,2,    215.2,2,    215.4,2,     2.80,2,     0.00,2,     0.07,2,    97.77,2,    0.135,2,    0.000,2
  09AR20120105,  I09S,    93,  1,     13,     13,2,20120209,1157,-34.8170, 114.9990,  147,     35.2,  22.7144,  35.2965,2,-999.0000,9,    215.2,2,   -999.0,9,  -999.00,9,  -999.00,9,  -999.00,9,    97.75,2,    0.162,2,    0.000,2
  09AR20120105,  I09S,    93,  1,     12,     12,2,20120209,1157,-34.8170, 114.9990,  147,     65.0,  22.6257,  35.3125,2,  35.3279,2,    215.0,2,    215.2,2,     2.80,2,     0.05,2,     0.07,2,    97.82,2,    0.134,2,    0.000,2
  09AR20120105,  I09S,    93,  1,     11,     11,2,20120209,1157,-34.8170, 114.9990,  147,     64.8,  22.5633,  35.3230,2,-999.0000,9,    215.0,2,   -999.0,9,  -999.00,9,  -999.00,9,  -999.00,9,    97.86,2,    0.111,2,    0.000,2
  09AR20120105,  I09S,    93,  1,     10,     10,2,20120209,1157,-34.8170, 114.9990,  147,     64.7,  22.4920,  35.3358,2,-999.0000,9,    215.0,2,   -999.0,9,  -999.00,9,  -999.00,9,  -999.00,9,    97.90,2,    0.104,2,    0.000,2
  09AR20120105,  I09S,    93,  1,      9,      9,2,20120209,1157,-34.8170, 114.9990,  147,     84.9,  21.2606,  35.5277,2,-999.0000,9,    216.6,2,   -999.0,9,  -999.00,9,  -999.00,9,  -999.00,9,    98.82,2,    0.042,2,    0.000,2
  09AR20120105,  I09S,    93,  1,      8,      8,2,20120209,1157,-34.8170, 114.9990,  147,     84.9,  21.2031,  35.5368,2,-999.0000,9,    216.6,2,   -999.0,9,  -999.00,9,  -999.00,9,  -999.00,9,    98.81,2,    0.004,2,    0.000,2
  09AR20120105,  I09S,    93,  1,      7,      7,2,20120209,1157,-34.8170, 114.9990,  147,     99.1,  20.9160,  35.5690,2,-999.0000,9,    218.2,2,   -999.0,9,  -999.00,9,  -999.00,9,  -999.00,9,    98.91,2,   -0.057,2,    0.000,2
  09AR20120105,  I09S,    93,  1,      6,      6,2,20120209,1157,-34.8170, 114.9990,  147,     99.0,  20.9170,  35.5690,2,-999.0000,9,    217.8,2,   -999.0,9,  -999.00,9,  -999.00,9,  -999.00,9,    98.91,2,   -0.034,2,    0.000,2
  09AR20120105,  I09S,    93,  1,      5,      5,2,20120209,1157,-34.8170, 114.9990,  147,     98.9,  20.9182,  35.5687,2,-999.0000,9,    217.8,2,   -999.0,9,  -999.00,9,  -999.00,9,  -999.00,9,    98.89,2,   -0.028,2,    0.000,2
  09AR20120105,  I09S,    93,  1,      4,      4,2,20120209,1157,-34.8170, 114.9990,  147,     98.4,  20.9200,  35.5686,2,  35.5675,2,    217.8,2,    217.8,2,     2.80,2,     0.36,2,     0.08,2,    98.90,2,   -0.055,2,    0.000,2
  09AR20120105,  I09S,    93,  1,      3,      3,2,20120209,1157,-34.8170, 114.9990,  147,     98.6,  20.9177,  35.5688,2,-999.0000,9,    217.8,2,   -999.0,9,  -999.00,9,  -999.00,9,  -999.00,9,    98.89,2,   -0.031,2,    0.000,2
  09AR20120105,  I09S,    93,  1,      2,      2,2,20120209,1157,-34.8170, 114.9990,  147,    132.5,  20.1486,  35.6377,2,  35.6372,2,    219.5,2,    219.3,2,     2.70,2,     0.47,2,     0.10,2,    98.99,2,   -0.097,2,    0.000,2
  09AR20120105,  I09S,    93,  1,      1,      1,2,20120209,1157,-34.8170, 114.9990,  147,    132.4,  20.1497,  35.6379,2,-999.0000,9,    219.5,2,   -999.0,9,  -999.00,9,  -999.00,9,  -999.00,9,    98.98,2,   -0.074,2,    0.000,2
  09AR20120105,  I09S,    94,  1,     24,     24,2,20120209,2025,-34.6033, 115.0470,  106,      9.0,  21.8031,  35.5043,2,  35.5060,2,    217.0,2,    217.2,2,     1.90,2,     0.00,2,     0.06,2,    97.28,2,    0.136,2,   95.330,2
  09AR20120105,  I09S,    94,  1,     23,     23,2,20120209,2025,-34.6033, 115.0470,  106,      9.1,  21.8026,  35.5045,2,-999.0000,9,    217.0,2,   -999.0,9,  -999.00,9,  -999.00,9,  -999.00,9,    97.27,2,    0.142,2,   90.940,2
  09AR20120105,  I09S,    94,  1,     22,     22,2,20120209,2025,-34.6033, 115.0470,  106,      9.2,  21.8038,  35.4989,2,-999.0000,9,    217.0,2,   -999.0,9,  -999.00,9,  -999.00,9,  -999.00,9,    97.30,2,    0.147,2,   95.420,2
  09AR20120105,  I09S,    94,  1,     21,     21,2,20120209,2025,-34.6033, 115.0470,  106,      9.2,  21.8008,  35.5048,2,-999.0000,9,    217.0,2,   -999.0,9,  -999.00,9,  -999.00,9,  -999.00,9,    97.29,2,    0.148,2,   93.220,2
  09AR20120105,  I09S,    94,  1,     20,     20,2,20120209,2025,-34.6033, 115.0470,  106,     19.5,  21.7953,  35.5063,2,-999.0000,9,    217.0,2,   -999.0,9,  -999.00,9,  -999.00,9,  -999.00,9,    97.29,2,    0.126,2,   23.360,2
  09AR20120105,  I09S,    94,  1,     19,     19,2,20120209,2025,-34.6033, 115.0470,  106,     19.5,  21.7934,  35.5068,2,-999.0000,9,    217.0,2,   -999.0,9,  -999.00,9,  -999.00,9,  -999.00,9,    97.21,2,    0.129,2,   19.110,2
  09AR20120105,  I09S,    94,  1,     18,     18,2,20120209,2025,-34.6033, 115.0470,  106,     19.6,  21.7894,  35.5077,2,-999.0000,9,    217.0,2,   -999.0,9,  -999.00,9,  -999.00,9,  -999.00,9,    97.29,2,    0.162,2,   17.490,2
  09AR20120105,  I09S,    94,  1,     17,     17,2,20120209,2025,-34.6033, 115.0470,  106,     19.6,  21.7857,  35.5087,2,-999.0000,9,    217.0,2,   -999.0,9,  -999.00,9,  -999.00,9,  -999.00,9,    97.30,2,    0.130,2,   16.410,2
  09AR20120105,  I09S,    94,  1,     16,     16,2,20120209,2025,-34.6033, 115.0470,  106,     19.5,  21.7804,  35.5098,2,-999.0000,9,    217.0,2,   -999.0,9,  -999.00,9,  -999.00,9,  -999.00,9,    97.28,2,    0.139,2,   15.650,2
  09AR20120105,  I09S,    94,  1,     15,     15,2,20120209,2025,-34.6033, 115.0470,  106,     19.5,  21.7576,  35.5150,2,-999.0000,9,    217.0,2,   -999.0,9,  -999.00,9,  -999.00,9,  -999.00,9,    97.29,2,    0.128,2,   15.420,2
  09AR20120105,  I09S,    94,  1,     14,     14,2,20120209,2025,-34.6033, 115.0470,  106,     34.9,  21.5641,  35.5516,2,  35.5517,2,    217.1,2,    216.8,2,     1.60,2,     0.00,2,     0.06,2,    97.32,2,    0.121,2,    6.639,2
  09AR20120105,  I09S,    94,  1,     13,     13,2,20120209,2025,-34.6033, 115.0470,  106,     34.6,  21.5489,  35.5542,2,-999.0000,9,    217.1,2,   -999.0,9,  -999.00,9,  -999.00,9,  -999.00,9,    97.32,2,    0.114,2,    6.083,2
  09AR20120105,  I09S,    94,  1,     12,     12,2,20120209,2025,-34.6033, 115.0470,  106,     59.4,  21.4363,  35.5825,2,  35.5839,2,    216.9,2,    216.9,2,     1.40,2,     0.03,2,     0.07,2,    97.48,2,    0.131,2,    1.506,2
  09AR20120105,  I09S,    94,  1,     11,     11,2,20120209,2025,-34.6033, 115.0470,  106,     59.3,  21.4211,  35.5849,2,-999.0000,9,    216.9,2,   -999.0,9,  -999.00,9,  -999.00,9,  -999.00,9,    97.54,2,    0.121,2,    1.538,2
  09AR20120105,  I09S,    94,  1,     10,     10,2,20120209,2025,-34.6033, 115.0470,  106,     59.3,  21.4062,  35.5874,2,-999.0000,9,    216.9,2,   -999.0,9,  -999.00,9,  -999.00,9,  -999.00,9,    97.62,2,    0.120,2,    1.421,2
  09AR20120105,  I09S,    94,  1,      9,      9,2,20120209,2025,-34.6033, 115.0470,  106,     75.1,  21.3469,  35.5950,2,-999.0000,9,    216.9,2,   -999.0,9,  -999.00,9,  -999.00,9,  -999.00,9,    97.81,2,    0.087,2,    0.605,2
  09AR20120105,  I09S,    94,  1,      8,      8,2,20120209,2025,-34.6033, 115.0470,  106,     75.2,  21.3452,  35.5951,2,  35.5930,2,    216.9,2,    216.9,2,     1.50,2,     0.09,2,     0.08,2,    97.80,2,    0.093,2,    0.589,2
  09AR20120105,  I09S,    94,  1,      7,      7,2,20120209,2025,-34.6033, 115.0470,  106,     75.1,  21.3457,  35.5949,2,-999.0000,9,    216.9,2,   -999.0,9,  -999.00,9,  -999.00,9,  -999.00,9,    97.79,2,    0.127,2,    0.564,2
  09AR20120105,  I09S,    94,  1,      6,      6,2,20120209,2025,-34.6033, 115.0470,  106,     75.1,  21.3467,  35.5947,2,-999.0000,9,    216.9,2,   -999.0,9,  -999.00,9,  -999.00,9,  -999.00,9,    97.77,2,    0.095,2,    0.544,2
  09AR20120105,  I09S,    94,  1,      5,      5,2,20120209,2025,-34.6033, 115.0470,  106,     75.1,  21.3538,  35.5940,2,-999.0000,9,    216.9,2,   -999.0,9,  -999.00,9,  -999.00,9,  -999.00,9,    97.79,2,    0.121,2,    0.554,2
  09AR20120105,  I09S,    94,  1,      4,      4,2,20120209,2025,-34.6033, 115.0470,  106,     75.1,  21.3564,  35.5938,2,-999.0000,9,    216.9,2,   -999.0,9,  -999.00,9,  -999.00,9,  -999.00,9,    97.79,2,    0.098,2,    0.584,2
  09AR20120105,  I09S,    94,  1,      3,      3,2,20120209,2025,-34.6033, 115.0470,  106,     75.1,  21.3576,  35.5937,2,-999.0000,9,    216.9,2,   -999.0,9,  -999.00,9,  -999.00,9,  -999.00,9,    97.80,2,    0.095,2,    0.587,2
  09AR20120105,  I09S,    94,  1,      2,      2,2,20120209,2025,-34.6033, 115.0470,  106,     91.4,  21.3346,  35.5963,2,  35.5957,2,    216.8,2,    217.0,2,     1.50,2,     0.08,2,     0.07,2,    97.84,2,    0.097,2,    0.183,2
  09AR20120105,  I09S,    94,  1,      1,      1,2,20120209,2025,-34.6033, 115.0470,  106,     91.5,  21.3338,  35.5962,2,-999.0000,9,    216.8,2,   -999.0,9,  -999.00,9,  -999.00,9,  -999.00,9,    97.83,2,    0.094,2,    0.159,2