BOTTLE,20220815CCHSIOAMB
EXPOCODE,SECT_ID,STNNBR,CASTNO,SAMPNO,BTLNBR,BTLNBR_FLAG_W,DATE,TIME,LATITUDE,LONGITUDE,DEPTH,CTDPRS,CTDTMP,CTDSAL,CTDSAL_FLAG_W,SALNTY,SALNTY_FLAG_W,CTDOXY,CTDOXY_FLAG_W,OXYGEN,OXYGEN_FLAG_W,SILCAT,SILCAT_FLAG_W,NITRAT,NITRAT_FLAG_W,PHSPHT,PHSPHT_FLAG_W,XMISS,XMISS_FLAG_W,FLUOR,FLUOR_FLAG_W,PAR,PAR_FLAG_W
,,,,,,,,,,,METERS,DBAR,ITS-90,PSS-78,,PSS-78,,UMOL/KG,,UMOL/KG,,UMOL/KG,,UMOL/KG,,UMOL/KG,,%TRANS,,VOLTS,,VOLTS,
  09AR20120105,  I09S,    52,  1,     24,     24,2,20120131,1832,-48.4648, 115.0040, 3913,      9.3,   8.3942,  33.9581,2,  33.9579,2,    292.5,2,    291.4,2,     2.80,2,    18.15,2,     1.24,2,    97.14,2,    0.510,2,    3.428,2
  09AR20120105,  I09S,    52,  1,     23,     23,2,20120131,1832,-48.4648, 115.0040, 3913,     19.1,   8.3998,  33.9590,2,-999.0000,9,    292.6,2,   -999.0,9,  -999.00,9,  -999.00,9,  -999.00,9,    97.12,2,    0.540,2,    1.464,2
  09AR20120105,  I09S,    52,  1,     22,     22,2,20120131,1832,-48.4648, 115.0040, 3913,     18.9,   8.4036,  33.9608,2,-999.0000,9,    292.6,2,   -999.0,9,  -999.00,9,  -999.00,9,  -999.00,9,    97.13,2,    0.524,2,    1.486,2
  09AR20120105,  I09S,    52,  1,     21,     21,2,20120131,1832,-48.4648, 115.0040, 3913,     40.1,   8.4349,  33.9968,2,  34.0031,2,    291.3,2,    290.6,2,     2.50,2,    17.46,2,     1.20,2,    97.06,2,    0.647,2,    0.581,2
  09AR20120105,  I09S,    52,  1,     20,     20,2,20120131,1832,-48.4648, 115.0040, 3913,     69.7,   8.3197,  34.0448,2,  34.0437,2,    289.4,2,    289.8,2,     2.20,2,    16.92,2,     1.17,2,    97.39,2,    0.922,2,    0.114,2
  09AR20120105,  I09S,    52,  1,     19,     19,2,20120131,1832,-48.4648, 115.0040, 3913,     91.3,   8.0937,  34.0352,2,  34.0347,2,    289.1,2,    289.4,2,     2.50,2,    17.38,2,     1.20,2,    98.22,2,    0.793,2,    0.007,2
  09AR20120105,  I09S,    52,  1,     18,     18,2,20120131,1832,-48.4648, 115.0040, 3913,    116.0,   7.3983,  34.1482,2,  34.1372,2,    281.0,2,    288.0,2,     3.60,2,    17.66,2,     1.26,2,    98.59,2,    0.661,2,    0.000,2
  09AR20120105,  I09S,    52,  1,     17,     17,2,20120131,1832,-48.4648, 115.0040, 3913,    182.2,   7.1200,  34.2593,2,  34.2585,2,    276.2,2,    278.6,2,     6.20,2,    18.62,2,     1.28,2,    98.85,2,   -0.159,2,    0.000,2
  09AR20120105,  I09S,    52,  1,     16,     16,2,20120131,1832,-48.4648, 115.0040, 3913,    302.5,   6.2764,  34.2199,2,  34.2217,2,    266.8,2,    258.6,2,     9.70,2,    22.35,2,     1.51,2,    98.51,2,   -0.191,2,    0.000,2
  09AR20120105,  I09S,    52,  1,     15,     15,2,20120131,1832,-48.4648, 115.0040, 3913,    452.7,   5.6065,  34.2985,2,  34.3009,2,    229.7,2,    227.8,2,    17.30,2,    26.46,2,     1.79,2,    98.11,2,   -0.190,2,    0.000,2
  09AR20120105,  I09S,    52,  1,     14,     14,2,20120131,1832,-48.4648, 115.0040, 3913,    600.4,   4.1690,  34.2327,2,  34.2323,2,    231.8,2,    231.0,2,    25.20,2,    29.32,2,     2.00,2,    97.88,2,   -0.186,2,    0.000,2
  09AR20120105,  I09S,    52,  1,     13,     13,2,20120131,1832,-48.4648, 115.0040, 3913,    799.9,   3.2603,  34.2818,2,  34.2827,2,    214.9,2,    215.0,2,    39.30,2,    31.73,2,     2.19,2,    97.74,2,   -0.181,2,    0.000,2
  09AR20120105,  I09S,    52,  1,     12,     12,2,20120131,1832,-48.4648, 115.0040, 3913,   1001.0,   2.8215,  34.3934,2,  34.3931,2,    193.3,2,    193.3,2,    55.30,2,    33.43,2,     2.32,2,    97.70,2,   -0.180,2,    0.000,2
  09AR20120105,  I09S,    52,  1,     11,     11,2,20120131,1832,-48.4648, 115.0040, 3913,   1269.7,   2.6553,  34.5521,2,  34.5523,2,    178.0,2,    180.1,2,    69.20,2,    33.69,2,     2.33,2,    97.69,2,   -0.179,2,    0.000,2
  09AR20120105,  I09S,    52,  1,     10,     10,2,20120131,1832,-48.4648, 115.0040, 3913,   1499.2,   2.5360,  34.6444,2,  34.6447,2,    179.5,2,    178.0,2,    73.60,2,    32.48,2,     2.25,2,    97.67,2,   -0.181,2,    0.000,2
  09AR20120105,  I09S,    52,  1,      9,      9,2,20120131,1832,-48.4648, 115.0040, 3913,   1701.2,   2.3991,  34.6971,2,  34.6975,2,    184.2,2,   -999.0,9,    76.40,2,    31.39,2,     2.17,2,    97.63,2,   -0.181,2,    0.000,2
  09AR20120105,  I09S,    52,  1,      8,      8,2,20120131,1832,-48.4648, 115.0040, 3913,   2000.8,   2.2048,  34.7399,2,  34.7396,2,    191.1,2,    191.5,2,    80.50,2,    30.27,2,     2.09,2,    97.57,2,   -0.174,2,    0.000,2
  09AR20120105,  I09S,    52,  1,      7,      7,2,20120131,1832,-48.4648, 115.0040, 3913,   2299.5,   1.9298,  34.7515,2,  34.7512,2,    196.3,2,    197.0,2,    88.30,2,    29.98,2,     2.09,2,    97.50,2,   -0.180,2,    0.000,2
  09AR20120105,  I09S,    52,  1,      6,      6,2,20120131,1832,-48.4648, 115.0040, 3913,   2600.7,   1.5827,  34.7418,2,  34.7410,2,    200.5,2,    200.5,2,    99.70,2,    30.39,2,     2.12,2,    97.42,2,   -0.181,2,    0.000,2
  09AR20120105,  I09S,    52,  1,      5,      5,2,20120131,1832,-48.4648, 115.0040, 3913,   2898.0,   1.3400,  34.7312,2,  34.7307,2,    203.4,2,    203.0,2,   108.40,2,    30.79,2,     2.16,2,    97.38,2,   -0.172,2,    0.000,2
  09AR20120105,  I09S,    52,  1,      4,      4,2,20120131,1832,-48.4648, 115.0040, 3913,   3198.6,   1.1226,  34.7204,2,  34.7195,2,    206.5,2,    205.8,2,   115.80,2,    31.34,2,     2.20,2,    97.35,2,   -0.182,2,    0.000,2
  09AR20120105,  I09S,    52,  1,      3,      3,2,20120131,1832,-48.4648, 115.0040, 3913,   3549.1,   1.0653,  34.7162,2,  34.7160,2,    207.4,2,    207.0,2,   118.90,2,    31.81,2,     2.23,2,    97.35,2,   -0.184,2,    0.000,2
  09AR20120105,  I09S,    52,  1,      2,      2,2,20120131,1832,-48.4648, 115.0040, 3913,   3847.8,   1.0846,  34.7155,2,  34.7144,2,    207.4,2,    207.1,2,   119.20,2,    31.79,2,     2.22,2,    97.36,2,   -0.181,2,    0.000,2
  09AR20120105,  I09S,    52,  1,      1,      1,2,20120131,1832,-48.4648, 115.0040, 3913,   3968.3,   1.0974,  34.7153,2,  34.7146,2,    207.5,2,    207.0,2,   119.20,2,    31.70,2,     2.23,2,    97.36,2,   -0.182,2,    0.000,2
  09AR20120105,  I09S,    53,  1,     24,     24,2,20120201,2357,-47.9925, 115.0070, 3611,      8.9,   9.1496,  34.1209,2,  34.1213,2,    286.4,2,    286.0,2,     2.00,2,    15.97,2,     1.12,2,    96.92,2,    0.015,2,  114.100,2
  09AR20120105,  I09S,    53,  1,     23,     23,2,20120201,2357,-47.9925, 115.0070, 3611,     18.6,   9.1216,  34.1203,2,-999.0000,9,    286.2,2,   -999.0,9,  -999.00,9,  -999.00,9,  -999.00,9,    96.87,2,    0.263,2,   61.760,2
  09AR20120105,  I09S,    53,  1,     22,     22,2,20120201,2357,-47.9925, 115.0070, 3611,     18.3,   9.1324,  34.1205,2,-999.0000,9,    286.2,2,   -999.0,9,  -999.00,9,  -999.00,9,  -999.00,9,    96.87,2,    0.217,2,   59.220,2
  09AR20120105,  I09S,    53,  1,     21,     21,2,20120201,2357,-47.9925, 115.0070, 3611,     43.5,   8.9843,  34.1148,2,  34.1146,2,    286.5,2,    286.7,2,     2.00,2,    16.01,2,     1.12,2,    96.70,2,    0.584,2,   22.950,2
  09AR20120105,  I09S,    53,  1,     20,     20,2,20120201,2357,-47.9925, 115.0070, 3611,     64.7,   8.5682,  34.0864,2,  34.0866,2,    288.5,2,    288.1,2,     2.10,2,    16.39,2,     1.14,2,    96.84,2,    1.045,2,    8.850,2
  09AR20120105,  I09S,    53,  1,     19,     19,2,20120201,2357,-47.9925, 115.0070, 3611,    109.8,   8.2307,  34.0936,2,  34.1172,2,    284.6,2,    286.2,2,     2.70,2,    16.81,2,     1.19,2,    98.30,2,    0.732,2,    0.961,2
  09AR20120105,  I09S,    53,  1,     18,     18,2,20120201,2357,-47.9925, 115.0070, 3611,    160.2,   7.3373,  34.2806,2,  34.2799,2,    279.4,2,    278.1,2,     5.80,2,    18.34,2,     1.27,2,    98.98,2,   -0.035,2,    0.055,2
  09AR20120105,  I09S,    53,  1,     17,     17,2,20120201,2357,-47.9925, 115.0070, 3611,    251.2,   7.0070,  34.2672,2,  34.2685,2,    275.6,2,    275.6,2,     6.60,2,    19.24,2,     1.32,2,    98.72,2,   -0.188,2,    0.000,2
  09AR20120105,  I09S,    53,  1,     16,     16,2,20120201,2357,-47.9925, 115.0070, 3611,    375.2,   6.6906,  34.3290,2,  34.3295,2,    246.2,2,    239.2,2,    11.70,2,    23.55,2,     1.57,2,    98.37,2,   -0.191,2,    0.000,2
  09AR20120105,  I09S,    53,  1,     15,     15,2,20120201,2357,-47.9925, 115.0070, 3611,    500.2,   5.4556,  34.2714,2,  34.2711,2,    231.6,2,    232.2,2,    17.30,2,    27.22,2,     1.82,2,    98.12,2,   -0.197,2,    0.000,2
  09AR20120105,  I09S,    53,  1,     14,     14,2,20120201,2357,-47.9925, 115.0070, 3611,    650.4,   4.5310,  34.2805,2,  34.2815,2,    220.8,2,    221.9,2,    25.80,2,    29.74,2,     2.01,2,    97.93,2,   -0.189,2,    0.000,2
  09AR20120105,  I09S,    53,  1,     13,     13,2,20120201,2357,-47.9925, 115.0070, 3611,    800.3,   3.7706,  34.3142,2,  34.3142,2,    209.3,2,    209.4,2,    36.80,2,    31.70,2,     2.18,2,    97.80,2,   -0.183,2,    0.000,2
  09AR20120105,  I09S,    53,  1,     12,     12,2,20120201,2357,-47.9925, 115.0070, 3611,   1001.2,   2.8775,  34.3697,2,  34.3698,2,    197.1,2,    196.3,2,    52.20,2,    33.48,2,     2.32,2,    97.70,2,   -0.185,2,    0.000,2
  09AR20120105,  I09S,    53,  1,     11,     11,2,20120201,2357,-47.9925, 115.0070, 3611,   1201.3,   2.6624,  34.4838,2,  34.4838,2,    180.7,2,    181.1,2,    64.10,2,    33.92,2,     2.35,2,    97.69,2,   -0.177,2,    0.000,2
  09AR20120105,  I09S,    53,  1,     10,     10,2,20120201,2357,-47.9925, 115.0070, 3611,   1400.2,   2.5810,  34.5883,2,  34.5877,2,    176.5,2,    176.2,2,    71.10,2,    33.57,2,     2.32,2,    97.68,2,   -0.178,2,    0.000,2
  09AR20120105,  I09S,    53,  1,      9,      9,2,20120201,2357,-47.9925, 115.0070, 3611,   1599.9,   2.4716,  34.6609,2,  34.6614,2,    179.8,2,    179.5,2,    74.30,2,    32.57,2,     2.25,2,    97.65,2,   -0.175,2,    0.000,2
  09AR20120105,  I09S,    53,  1,      8,      8,2,20120201,2357,-47.9925, 115.0070, 3611,   1800.8,   2.3671,  34.7061,2,  34.7066,2,    184.9,2,    184.2,2,    77.10,2,    31.71,2,     2.18,2,    97.62,2,   -0.178,2,    0.000,2
  09AR20120105,  I09S,    53,  1,      7,      7,2,20120201,2357,-47.9925, 115.0070, 3611,   2050.0,   2.1952,  34.7399,2,  34.7400,2,    192.4,2,    191.9,2,    80.10,2,    30.65,2,     2.11,2,    97.57,2,   -0.173,2,    0.000,2
  09AR20120105,  I09S,    53,  1,      6,      6,2,20120201,2357,-47.9925, 115.0070, 3611,   2300.2,   1.9825,  34.7502,2,  34.7502,2,    196.6,2,    196.3,2,    85.90,2,    30.34,2,     2.10,2,    97.51,2,   -0.179,2,    0.000,2
  09AR20120105,  I09S,    53,  1,      5,      5,2,20120201,2357,-47.9925, 115.0070, 3611,   2598.5,   1.6396,  34.7436,2,  34.7431,2,    200.4,2,    200.4,2,    97.10,2,    30.67,2,     2.13,2,    97.42,2,   -0.176,2,    0.000,2
  09AR20120105,  I09S,    53,  1,      4,      4,2,20120201,2357,-47.9925, 115.0070, 3611,   2899.2,   1.3400,  34.7310,2,  34.7305,2,    203.1,2,    203.2,2,   107.30,2,    31.09,2,     2.18,2,    97.38,2,   -0.178,2,    0.000,2
  09AR20120105,  I09S,    53,  1,      3,      3,2,20120201,2357,-47.9925, 115.0070, 3611,   3250.2,   1.1204,  34.7197,2,  34.7201,2,    206.3,2,    206.0,2,   115.30,2,    31.59,2,     2.21,2,    97.34,2,   -0.175,2,    0.000,2
  09AR20120105,  I09S,    53,  1,      2,      2,2,20120201,2357,-47.9925, 115.0070, 3611,   3548.7,   1.0513,  34.7152,2,  34.7142,2,    207.9,2,    207.3,2,   118.80,2,    32.02,2,     2.24,2,    97.34,2,   -0.176,2,    0.000,2
  09AR20120105,  I09S,    53,  1,      1,      1,2,20120201,2357,-47.9925, 115.0070, 3611,   3659.4,   1.0440,  34.7142,2,  34.7132,2,    208.5,2,    207.4,2,   119.40,2,    32.05,2,     2.25,2,    97.36,2,   -0.179,2,    0.000,2
  09AR20120105,  I09S,    54,  1,     24,     24,2,20120201,0523,-47.4992, 115.0130, 3732,      8.9,  10.2275,  34.1980,2,  34.1989,2,    280.8,2,    280.6,2,     1.60,2,    14.25,2,     1.00,2,    97.85,2,   -0.081,2,  103.100,2
  09AR20120105,  I09S,    54,  1,     23,     23,2,20120201,0523,-47.4992, 115.0130, 3732,     41.0,  10.1036,  34.1964,2,-999.0000,9,    281.3,2,   -999.0,9,  -999.00,9,  -999.00,9,  -999.00,9,    98.04,2,    0.130,2,   34.060,2
  09AR20120105,  I09S,    54,  1,     22,     22,2,20120201,0523,-47.4992, 115.0130, 3732,     40.7,  10.1047,  34.1964,2,-999.0000,9,    281.3,2,   -999.0,9,  -999.00,9,  -999.00,9,  -999.00,9,    98.02,2,    0.131,2,   34.280,2
  09AR20120105,  I09S,    54,  1,     21,     21,2,20120201,0523,-47.4992, 115.0130, 3732,     40.5,  10.1033,  34.1963,2,  34.1973,2,    281.3,2,    280.9,2,     1.60,2,    14.30,2,     0.99,2,    98.02,2,    0.134,2,   34.460,2
  09AR20120105,  I09S,    54,  1,     20,     20,2,20120201,0523,-47.4992, 115.0130, 3732,     69.3,   9.7714,  34.3501,2,  34.3437,2,    282.1,2,    280.7,2,     1.90,2,    13.29,2,     0.95,2,    98.12,2,    0.465,2,   17.720,2
  09AR20120105,  I09S,    54,  1,     19,     19,2,20120201,0523,-47.4992, 115.0130, 3732,     91.0,   9.5669,  34.5858,2,  34.5814,2,    276.4,2,    273.5,2,     3.30,2,    13.36,2,     0.95,2,    97.50,2,    0.862,2,    7.010,2
  09AR20120105,  I09S,    54,  1,     18,     18,2,20120201,0523,-47.4992, 115.0130, 3732,    108.3,   9.9975,  34.7428,2,  34.7066,2,    258.1,2,    263.0,2,     4.30,2,    13.28,2,     0.93,2,    99.21,2,    0.083,2,    1.177,2
  09AR20120105,  I09S,    54,  1,     17,     17,2,20120201,0523,-47.4992, 115.0130, 3732,    250.0,   8.9679,  34.5776,2,  34.5771,2,    256.8,2,    261.5,2,     5.60,2,    15.54,2,     1.07,2,    99.25,2,   -0.189,2,    0.000,2
  09AR20120105,  I09S,    54,  1,     16,     16,2,20120201,0523,-47.4992, 115.0130, 3732,    313.5,   8.5692,  34.5173,2,  34.5172,2,    265.5,2,    264.9,2,     6.00,2,    16.20,2,     1.12,2,    99.11,2,   -0.192,2,    0.000,2
  09AR20120105,  I09S,    54,  1,     15,     15,2,20120201,0523,-47.4992, 115.0130, 3732,    401.8,   8.5761,  34.5873,2,  34.5887,2,    238.5,2,    223.6,2,     9.20,2,    19.95,2,     1.33,2,    98.73,2,   -0.193,2,    0.000,2
  09AR20120105,  I09S,    54,  1,     14,     14,2,20120201,0523,-47.4992, 115.0130, 3732,    551.6,   6.6617,  34.4330,2,  34.4338,2,    208.8,2,    209.1,2,    17.30,2,    25.78,2,     1.71,2,    98.29,2,   -0.188,2,    0.000,2
  09AR20120105,  I09S,    54,  1,     13,     13,2,20120201,0523,-47.4992, 115.0130, 3732,    799.1,   4.3607,  34.3217,2,  34.3215,2,    211.8,2,    210.6,2,    31.50,2,    30.50,2,     2.06,2,    97.95,2,   -0.192,2,    0.000,2
  09AR20120105,  I09S,    54,  1,     12,     12,2,20120201,0523,-47.4992, 115.0130, 3732,   1002.2,   3.3269,  34.3378,2,  34.3388,2,    197.9,2,    202.5,2,    44.40,2,    32.73,2,     2.22,2,    97.80,2,   -0.188,2,    0.000,2
  09AR20120105,  I09S,    54,  1,     11,     11,2,20120201,0523,-47.4992, 115.0130, 3732,   1274.9,   2.8741,  34.4885,2,  34.4887,2,    180.3,2,    178.8,2,    63.10,2,    33.97,2,     2.32,2,    97.72,2,   -0.181,2,    0.000,2
  09AR20120105,  I09S,    54,  1,     10,     10,2,20120201,0523,-47.4992, 115.0130, 3732,   1449.9,   2.6745,  34.5677,2,  34.5681,2,    174.5,2,    174.7,2,    70.10,2,    33.66,2,     2.30,2,    97.69,2,   -0.178,2,    0.000,2
  09AR20120105,  I09S,    54,  1,      9,      9,2,20120201,0523,-47.4992, 115.0130, 3732,   1697.9,   2.5201,  34.6603,2,  34.6602,2,    179.3,2,    179.3,2,    74.00,2,    32.25,2,     2.21,2,    97.66,2,   -0.179,2,    0.000,2
  09AR20120105,  I09S,    54,  1,      8,      8,2,20120201,0523,-47.4992, 115.0130, 3732,   1900.0,   2.3348,  34.7018,2,  34.7019,2,    184.2,2,    184.4,2,    77.90,2,    31.55,2,     2.15,2,    97.62,2,   -0.174,2,    0.000,2
  09AR20120105,  I09S,    54,  1,      7,      7,2,20120201,0523,-47.4992, 115.0130, 3732,   2151.4,   2.1996,  34.7422,2,  34.7423,2,    192.3,2,    192.5,2,    81.00,2,    30.45,2,     2.08,2,    97.57,2,   -0.179,2,    0.000,2
  09AR20120105,  I09S,    54,  1,      6,      6,2,20120201,0523,-47.4992, 115.0130, 3732,   2398.2,   1.9797,  34.7516,2,  34.7516,2,    197.0,2,    196.7,2,    87.30,2,    30.26,2,     2.07,2,    97.50,2,   -0.175,2,    0.000,2
  09AR20120105,  I09S,    54,  1,      5,      5,2,20120201,0523,-47.4992, 115.0130, 3732,   2600.5,   1.7545,  34.7471,2,  34.7469,2,    199.2,2,    199.1,2,    94.50,2,    30.63,2,     2.10,2,    97.44,2,   -0.180,2,    0.000,2
  09AR20120105,  I09S,    54,  1,      4,      4,2,20120201,0523,-47.4992, 115.0130, 3732,   2899.7,   1.4542,  34.7358,2,  34.7363,2,    202.0,2,    202.1,2,   104.40,2,    31.36,2,     2.13,2,    97.40,2,   -0.178,2,    0.000,2
  09AR20120105,  I09S,    54,  1,      3,      3,2,20120201,0523,-47.4992, 115.0130, 3732,   3249.1,   1.2027,  34.7234,2,  34.7229,2,    205.3,2,    205.1,2,   113.30,2,    31.87,2,     2.17,2,    97.35,2,   -0.183,2,    0.000,2
  09AR20120105,  I09S,    54,  1,      2,      2,2,20120201,0523,-47.4992, 115.0130, 3732,   3547.9,   1.0822,  34.7167,2,  34.7152,2,    207.4,2,    207.0,2,   117.30,2,    32.10,2,     2.18,2,    97.34,2,   -0.181,2,    0.000,2
  09AR20120105,  I09S,    54,  1,      1,      1,2,20120201,0523,-47.4992, 115.0130, 3732,   3787.6,   1.0557,  34.7141,2,  34.7131,2,    208.6,2,    207.4,2,   118.90,2,    32.13,2,     2.19,2,    97.35,2,   -0.175,2,    0.000,2