BOTTLE,20220815CCHSIOAMB
EXPOCODE,SECT_ID,STNNBR,CASTNO,SAMPNO,BTLNBR,BTLNBR_FLAG_W,DATE,TIME,LATITUDE,LONGITUDE,DEPTH,CTDPRS,CTDTMP,CTDSAL,CTDSAL_FLAG_W,SALNTY,SALNTY_FLAG_W,CTDOXY,CTDOXY_FLAG_W,OXYGEN,OXYGEN_FLAG_W,SILCAT,SILCAT_FLAG_W,NITRAT,NITRAT_FLAG_W,PHSPHT,PHSPHT_FLAG_W,XMISS,XMISS_FLAG_W,FLUOR,FLUOR_FLAG_W,PAR,PAR_FLAG_W
,,,,,,,,,,,METERS,DBAR,ITS-90,PSS-78,,PSS-78,,UMOL/KG,,UMOL/KG,,UMOL/KG,,UMOL/KG,,UMOL/KG,,%TRANS,,VOLTS,,VOLTS,
  09AR20120105,  I09S,    65,  1,     24,     24,2,20120203,1044,-43.9860, 115.0030, 4336,   4100.0,   0.8609,  34.7042,2,-999.0000,9,   -999.0,5,   -999.0,9,  -999.00,9,  -999.00,9,  -999.00,9,    97.29,2,   -0.185,2,    0.000,2
  09AR20120105,  I09S,    65,  1,     23,     23,2,20120203,1044,-43.9860, 115.0030, 4336,   4100.0,   0.8608,  34.7041,2,-999.0000,9,   -999.0,5,   -999.0,9,  -999.00,9,  -999.00,9,  -999.00,9,    97.29,2,   -0.174,2,    0.000,2
  09AR20120105,  I09S,    65,  1,     22,     22,2,20120203,1044,-43.9860, 115.0030, 4336,   4099.8,   0.8610,  34.7042,2,-999.0000,9,   -999.0,5,   -999.0,9,  -999.00,9,  -999.00,9,  -999.00,9,    97.29,2,   -0.177,2,    0.000,2
  09AR20120105,  I09S,    65,  1,     21,     21,2,20120203,1044,-43.9860, 115.0030, 4336,   4100.0,   0.8610,  34.7042,2,-999.0000,9,   -999.0,5,   -999.0,9,  -999.00,9,  -999.00,9,  -999.00,9,    97.29,2,   -0.178,2,    0.000,2
  09AR20120105,  I09S,    65,  1,     20,     20,2,20120203,1044,-43.9860, 115.0030, 4336,   4100.2,   0.8609,  34.7042,2,-999.0000,9,   -999.0,5,   -999.0,9,  -999.00,9,  -999.00,9,  -999.00,9,    97.29,2,   -0.183,2,    0.000,2
  09AR20120105,  I09S,    65,  1,     19,     19,2,20120203,1044,-43.9860, 115.0030, 4336,   4100.3,   0.8607,  34.7042,2,-999.0000,9,   -999.0,5,   -999.0,9,  -999.00,9,  -999.00,9,  -999.00,9,    97.29,2,   -0.183,2,    0.000,2
  09AR20120105,  I09S,    65,  1,     18,     18,2,20120203,1044,-43.9860, 115.0030, 4336,   4100.5,   0.8608,  34.7041,2,-999.0000,9,   -999.0,5,   -999.0,9,  -999.00,9,  -999.00,9,  -999.00,9,    97.29,2,   -0.183,2,    0.000,2
  09AR20120105,  I09S,    65,  1,     17,     17,2,20120203,1044,-43.9860, 115.0030, 4336,   4100.5,   0.8607,  34.7042,2,-999.0000,9,   -999.0,5,   -999.0,9,  -999.00,9,  -999.00,9,  -999.00,9,    97.29,2,   -0.183,2,    0.000,2
  09AR20120105,  I09S,    65,  1,     16,     16,2,20120203,1044,-43.9860, 115.0030, 4336,   4100.3,   0.8611,  34.7042,2,-999.0000,9,   -999.0,5,   -999.0,9,  -999.00,9,  -999.00,9,  -999.00,9,    97.29,2,   -0.183,2,    0.000,2
  09AR20120105,  I09S,    65,  1,     15,     15,2,20120203,1044,-43.9860, 115.0030, 4336,   4100.8,   0.8611,  34.7042,2,-999.0000,9,   -999.0,5,   -999.0,9,  -999.00,9,  -999.00,9,  -999.00,9,    97.29,2,   -0.181,2,    0.000,2
  09AR20120105,  I09S,    65,  1,     14,     14,2,20120203,1044,-43.9860, 115.0030, 4336,   4100.7,   0.8610,  34.7042,2,-999.0000,9,   -999.0,5,   -999.0,9,  -999.00,9,  -999.00,9,  -999.00,9,    97.29,2,   -0.177,2,    0.000,2
  09AR20120105,  I09S,    65,  1,     13,     13,2,20120203,1044,-43.9860, 115.0030, 4336,   4100.2,   0.8609,  34.7043,2,-999.0000,9,   -999.0,5,   -999.0,9,  -999.00,9,  -999.00,9,  -999.00,9,    97.29,2,   -0.183,2,    0.000,2
  09AR20120105,  I09S,    65,  1,     12,     12,2,20120203,1044,-43.9860, 115.0030, 4336,   4100.2,   0.8610,  34.7042,2,-999.0000,9,   -999.0,5,   -999.0,9,  -999.00,9,  -999.00,9,  -999.00,9,    97.29,2,   -0.180,2,    0.000,2
  09AR20120105,  I09S,    65,  1,     11,     11,2,20120203,1044,-43.9860, 115.0030, 4336,   4399.2,   0.8567,  34.7027,2,-999.0000,9,   -999.0,5,   -999.0,9,  -999.00,9,  -999.00,9,  -999.00,9,    97.29,2,   -0.184,2,    0.000,2
  09AR20120105,  I09S,    65,  1,     10,     10,2,20120203,1044,-43.9860, 115.0030, 4336,   4398.9,   0.8567,  34.7027,2,-999.0000,9,   -999.0,5,   -999.0,9,  -999.00,9,  -999.00,9,  -999.00,9,    97.29,2,   -0.180,2,    0.000,2
  09AR20120105,  I09S,    65,  1,      9,      9,2,20120203,1044,-43.9860, 115.0030, 4336,   4398.3,   0.8568,  34.7026,2,-999.0000,9,   -999.0,5,   -999.0,9,  -999.00,9,  -999.00,9,  -999.00,9,    97.29,2,   -0.176,2,    0.000,2
  09AR20120105,  I09S,    65,  1,      8,      8,2,20120203,1044,-43.9860, 115.0030, 4336,   4398.7,   0.8567,  34.7027,2,-999.0000,9,   -999.0,5,   -999.0,9,  -999.00,9,  -999.00,9,  -999.00,9,    97.29,2,   -0.180,2,    0.000,2
  09AR20120105,  I09S,    65,  1,      7,      7,2,20120203,1044,-43.9860, 115.0030, 4336,   4398.1,   0.8568,  34.7027,2,-999.0000,9,   -999.0,5,   -999.0,9,  -999.00,9,  -999.00,9,  -999.00,9,    97.29,2,   -0.183,2,    0.000,2
  09AR20120105,  I09S,    65,  1,      6,      6,2,20120203,1044,-43.9860, 115.0030, 4336,   4397.7,   0.8566,  34.7027,2,-999.0000,9,   -999.0,5,   -999.0,9,  -999.00,9,  -999.00,9,  -999.00,9,    97.29,2,   -0.175,2,    0.000,2
  09AR20120105,  I09S,    65,  1,      5,      5,2,20120203,1044,-43.9860, 115.0030, 4336,   4397.7,   0.8565,  34.7027,2,-999.0000,9,   -999.0,5,   -999.0,9,  -999.00,9,  -999.00,9,  -999.00,9,    97.29,2,   -0.186,2,    0.000,2
  09AR20120105,  I09S,    65,  1,      4,      4,2,20120203,1044,-43.9860, 115.0030, 4336,   4397.2,   0.8566,  34.7027,2,-999.0000,9,   -999.0,5,   -999.0,9,  -999.00,9,  -999.00,9,  -999.00,9,    97.29,2,   -0.177,2,    0.000,2
  09AR20120105,  I09S,    65,  1,      3,      3,2,20120203,1044,-43.9860, 115.0030, 4336,   4397.1,   0.8565,  34.7027,2,-999.0000,9,   -999.0,5,   -999.0,9,  -999.00,9,  -999.00,9,  -999.00,9,    97.29,2,   -0.181,2,    0.000,2
  09AR20120105,  I09S,    65,  1,      2,      2,2,20120203,1044,-43.9860, 115.0030, 4336,   4396.7,   0.8564,  34.7026,2,-999.0000,9,   -999.0,5,   -999.0,9,  -999.00,9,  -999.00,9,  -999.00,9,    97.29,2,   -0.185,2,    0.000,2
  09AR20120105,  I09S,    65,  1,      1,      1,2,20120203,1044,-43.9860, 115.0030, 4336,   4396.5,   0.8564,  34.7027,2,-999.0000,9,   -999.0,5,   -999.0,9,  -999.00,9,  -999.00,9,  -999.00,9,    97.29,2,   -0.181,2,    0.000,2
  09AR20120105,  I09S,    66,  1,     24,     24,2,20120203,1115,-43.9862, 114.9990, 4337,     10.6,  12.7061,  34.7367,2,  34.7370,2,    273.0,2,    273.4,2,     1.10,2,     6.96,2,     0.55,2,    93.18,2,    0.857,2,   93.080,2
  09AR20120105,  I09S,    66,  1,     23,     23,2,20120203,1115,-43.9862, 114.9990, 4337,     40.0,  12.3921,  34.7335,2,-999.0000,9,    272.9,2,   -999.0,9,  -999.00,9,  -999.00,9,  -999.00,9,    94.76,2,    1.246,2,   19.040,2
  09AR20120105,  I09S,    66,  1,     22,     22,2,20120203,1115,-43.9862, 114.9990, 4337,     40.2,  12.4165,  34.7340,2,-999.0000,9,    272.9,2,   -999.0,9,  -999.00,9,  -999.00,9,  -999.00,9,    94.66,2,    1.224,2,   18.030,2
  09AR20120105,  I09S,    66,  1,     21,     21,2,20120203,1115,-43.9862, 114.9990, 4337,     40.1,  12.4263,  34.7343,2,  34.7331,2,    272.9,2,    272.7,2,     1.40,2,     7.34,2,     0.59,2,    94.48,2,    1.264,2,   18.770,2
  09AR20120105,  I09S,    66,  1,     20,     20,2,20120203,1115,-43.9862, 114.9990, 4337,     63.2,  11.9956,  34.7280,2,  34.7276,2,    268.3,2,    267.9,2,     2.00,2,     7.92,2,     0.65,2,    97.34,2,    0.867,2,    4.062,2
  09AR20120105,  I09S,    66,  1,     19,     19,2,20120203,1115,-43.9862, 114.9990, 4337,     91.0,  11.1344,  34.7277,2,  34.7272,2,    268.9,2,    268.0,2,     2.40,2,     8.82,2,     0.74,2,    98.86,2,    0.146,2,    0.565,2
  09AR20120105,  I09S,    66,  1,     18,     18,2,20120203,1115,-43.9862, 114.9990, 4337,    199.8,   9.9966,  34.7082,2,  34.7077,2,    264.9,2,    264.9,2,     3.80,2,    12.06,2,     0.87,2,    99.57,2,   -0.194,2,    0.000,2
  09AR20120105,  I09S,    66,  1,     17,     17,2,20120203,1115,-43.9862, 114.9990, 4337,    297.8,   9.9295,  34.7170,2,  34.7168,2,    262.8,2,    265.5,2,     3.90,2,    12.21,2,     0.88,2,    99.63,2,   -0.198,2,    0.000,2
  09AR20120105,  I09S,    66,  1,     16,     16,2,20120203,1115,-43.9862, 114.9990, 4337,    451.5,   9.6429,  34.6800,2,  34.6798,2,    255.4,2,    256.4,2,     4.70,2,    14.14,2,     1.00,2,    99.28,2,   -0.204,2,    0.000,2
  09AR20120105,  I09S,    66,  1,     15,     15,2,20120203,1115,-43.9862, 114.9990, 4337,    597.2,   9.0535,  34.6227,2,  34.6232,2,    237.1,2,    236.8,2,     6.60,2,    17.45,2,     1.19,2,    98.96,2,   -0.203,2,    0.000,2
  09AR20120105,  I09S,    66,  1,     14,     14,2,20120203,1115,-43.9862, 114.9990, 4337,    747.4,   7.8029,  34.5073,2,  34.5084,2,    218.9,2,    217.8,2,    11.70,2,    22.31,2,     1.50,2,    98.58,2,   -0.197,2,    0.000,2
  09AR20120105,  I09S,    66,  1,     13,     13,2,20120203,1115,-43.9862, 114.9990, 4337,    898.9,   6.1906,  34.3918,2,  34.3921,2,    210.0,2,    210.3,2,    19.10,2,    26.85,2,     1.80,2,    98.24,2,   -0.193,2,    0.000,2
  09AR20120105,  I09S,    66,  1,     12,     12,2,20120203,1115,-43.9862, 114.9990, 4337,   1050.2,   4.6652,  34.3118,2,  34.3127,2,    214.4,2,    214.8,2,    27.50,2,    29.90,2,     2.00,2,    97.97,2,   -0.191,2,    0.000,2
  09AR20120105,  I09S,    66,  1,     11,     11,2,20120203,1115,-43.9862, 114.9990, 4337,   1301.3,   3.4939,  34.3617,2,  34.3623,2,    197.2,2,    197.1,2,    45.70,2,    32.75,2,     2.25,2,    97.81,2,   -0.186,2,    0.000,2
  09AR20120105,  I09S,    66,  1,     10,     10,2,20120203,1115,-43.9862, 114.9990, 4337,   1551.1,   2.9615,  34.4875,2,  34.4877,2,    177.8,2,    177.9,2,    63.30,2,    33.82,2,     2.35,2,    97.74,2,   -0.183,2,    0.000,2
  09AR20120105,  I09S,    66,  1,      9,      9,2,20120203,1115,-43.9862, 114.9990, 4337,   1804.7,   2.6515,  34.5947,2,  34.5946,2,    174.8,2,    174.2,2,    72.60,2,    33.23,2,     2.30,2,    97.70,2,   -0.176,2,    0.000,2
  09AR20120105,  I09S,    66,  1,      8,      8,2,20120203,1115,-43.9862, 114.9990, 4337,   2097.0,   2.4613,  34.6853,2,  34.6850,2,    177.7,2,    177.6,2,    80.10,2,    32.11,2,     2.23,2,    97.65,2,   -0.180,2,    0.000,2
  09AR20120105,  I09S,    66,  1,      7,      7,2,20120203,1115,-43.9862, 114.9990, 4337,   2401.6,   2.2384,  34.7364,2,  34.7364,2,    189.8,2,    189.9,2,    82.40,2,    30.63,2,     2.11,2,    97.59,2,   -0.180,2,    0.000,2
  09AR20120105,  I09S,    66,  1,      6,      6,2,20120203,1115,-43.9862, 114.9990, 4337,   2697.5,   1.9579,  34.7486,2,  34.7486,2,    195.2,2,    195.4,2,    90.60,2,    30.49,2,     2.10,2,    97.50,2,   -0.181,2,    0.000,2
  09AR20120105,  I09S,    66,  1,      5,      5,2,20120203,1115,-43.9862, 114.9990, 4337,   3103.4,   1.5282,  34.7380,2,  34.7378,2,    200.8,2,    200.8,2,   104.00,2,    31.12,2,     2.14,2,    97.42,2,   -0.178,2,    0.000,2
  09AR20120105,  I09S,    66,  1,      4,      4,2,20120203,1115,-43.9862, 114.9990, 4337,   3500.2,   1.1401,  34.7198,2,  34.7193,2,    205.6,2,    205.9,2,   116.30,2,    31.90,2,     2.20,2,    97.34,2,   -0.178,2,    0.000,2
  09AR20120105,  I09S,    66,  1,      3,      3,2,20120203,1115,-43.9862, 114.9990, 4337,   3895.9,   0.8997,  34.7071,2,  34.7144,4,    209.9,2,    209.6,2,   123.40,2,    32.26,2,     2.23,2,    97.29,2,   -0.174,2,    0.000,2
  09AR20120105,  I09S,    66,  1,      2,      2,2,20120203,1115,-43.9862, 114.9990, 4337,   4248.7,   0.8485,  34.7030,2,  34.7028,2,    211.7,2,    211.0,2,   125.30,2,    32.19,2,     2.24,2,    97.29,2,   -0.190,2,    0.000,2
  09AR20120105,  I09S,    66,  1,      1,      1,2,20120203,1115,-43.9862, 114.9990, 4337,   4406.4,   0.8572,  34.7026,2,  34.7022,2,    212.2,2,    212.5,2,   125.30,2,    32.28,2,     2.24,2,    97.29,2,   -0.184,2,    0.000,2
  09AR20120105,  I09S,    67,  1,     24,     24,2,20120203,1148,-43.4992, 115.0030, 4442,      9.7,  12.9244,  34.7392,2,  34.7386,2,    272.1,2,    273.0,2,     1.40,2,  -999.00,9,     0.58,2,    93.34,2,    2.055,2,    0.000,2
  09AR20120105,  I09S,    67,  1,     23,     23,2,20120203,1148,-43.4992, 115.0030, 4442,     34.5,  12.8870,  34.7368,2,-999.0000,9,    274.8,2,   -999.0,9,  -999.00,9,  -999.00,9,  -999.00,9,    93.51,2,    2.089,2,    0.000,2
  09AR20120105,  I09S,    67,  1,     22,     22,2,20120203,1148,-43.4992, 115.0030, 4442,     34.8,  12.8838,  34.7368,2,-999.0000,9,    274.8,2,   -999.0,9,  -999.00,9,  -999.00,9,  -999.00,9,    93.50,2,    2.007,2,    0.000,2
  09AR20120105,  I09S,    67,  1,     21,     21,2,20120203,1148,-43.4992, 115.0030, 4442,     34.9,  12.8900,  34.7365,2,  34.7370,2,    274.8,2,    273.4,2,     1.40,2,     6.46,2,     0.57,2,    93.51,2,    1.991,2,    0.000,2
  09AR20120105,  I09S,    67,  1,     20,     20,2,20120203,1148,-43.4992, 115.0030, 4442,     69.9,  11.3248,  34.7304,2,  34.7300,2,    270.7,2,    270.7,2,     2.60,2,     8.70,2,     0.74,2,    97.68,2,    0.878,2,    0.000,2
  09AR20120105,  I09S,    67,  1,     19,     19,2,20120203,1148,-43.4992, 115.0030, 4442,    108.6,  10.3716,  34.7019,2,  34.7015,2,    265.8,2,    266.1,2,     3.70,2,    11.25,2,     0.86,2,    99.49,2,   -0.056,2,    0.000,2
  09AR20120105,  I09S,    67,  1,     18,     18,2,20120203,1148,-43.4992, 115.0030, 4442,    250.1,   9.9628,  34.7179,2,  34.7174,2,    264.5,2,    265.7,2,     3.90,2,    12.05,2,     0.88,2,    99.51,2,   -0.203,2,    0.000,2
  09AR20120105,  I09S,    67,  1,     17,     17,2,20120203,1148,-43.4992, 115.0030, 4442,    446.6,   9.5955,  34.6707,2,  34.6704,2,    257.2,2,    258.3,2,     4.70,2,    14.10,2,     1.02,2,    99.40,2,   -0.207,2,    0.000,2
  09AR20120105,  I09S,    67,  1,     16,     16,2,20120203,1148,-43.4992, 115.0030, 4442,    602.1,   9.1102,  34.6313,2,  34.6313,2,    239.5,2,    238.5,2,     6.40,2,    17.29,2,     1.20,2,    99.12,2,   -0.205,2,    0.000,2
  09AR20120105,  I09S,    67,  1,     15,     15,2,20120203,1148,-43.4992, 115.0030, 4442,    750.4,   7.9376,  34.5187,2,  34.5188,2,    219.3,2,    218.8,2,    11.10,2,    22.02,2,     1.48,2,    98.76,2,   -0.199,2,    0.000,2
  09AR20120105,  I09S,    67,  1,     14,     14,2,20120203,1148,-43.4992, 115.0030, 4442,    899.7,   6.3846,  34.4073,2,  34.4075,2,    207.0,2,    207.5,2,    18.60,2,    26.79,2,     1.80,2,    98.35,2,   -0.189,2,    0.000,2
  09AR20120105,  I09S,    67,  1,     13,     13,2,20120203,1148,-43.4992, 115.0030, 4442,   1052.1,   4.8205,  34.3338,2,  34.3341,2,    207.0,2,    208.2,2,    28.10,2,    30.00,2,     2.03,2,    98.06,2,   -0.184,2,    0.000,2
  09AR20120105,  I09S,    67,  1,     12,     12,2,20120203,1148,-43.4992, 115.0030, 4442,   1250.1,   3.6848,  34.3469,2,  34.3478,2,    199.7,2,    200.5,2,    41.50,2,    32.25,2,     2.22,2,    97.86,2,   -0.183,2,    0.000,2
  09AR20120105,  I09S,    67,  1,     11,     11,2,20120203,1148,-43.4992, 115.0030, 4442,   1501.0,   3.0155,  34.4660,2,  34.4663,2,    178.4,2,    178.2,2,    60.70,2,    33.88,2,     2.35,2,    97.75,2,   -0.175,2,    0.000,2
  09AR20120105,  I09S,    67,  1,     10,     10,2,20120203,1148,-43.4992, 115.0030, 4442,   1802.4,   2.6648,  34.5961,2,  34.5960,2,    170.5,2,    170.6,2,    73.10,2,    33.53,2,     2.34,2,    97.70,2,   -0.185,2,    0.000,2
  09AR20120105,  I09S,    67,  1,      9,      9,2,20120203,1148,-43.4992, 115.0030, 4442,   2103.3,   2.4554,  34.6872,2,  34.6869,2,    178.0,2,    177.7,2,    78.50,2,    32.05,2,     2.24,2,    97.65,2,   -0.176,2,    0.000,2
  09AR20120105,  I09S,    67,  1,      8,      8,2,20120203,1148,-43.4992, 115.0030, 4442,   2397.8,   2.2577,  34.7335,2,  34.7335,2,    188.8,2,    188.6,2,    80.90,2,    30.79,2,     2.14,2,    97.60,2,   -0.178,2,    0.000,2
  09AR20120105,  I09S,    67,  1,      7,      7,2,20120203,1148,-43.4992, 115.0030, 4442,   2749.7,   1.9306,  34.7495,2,  34.7490,2,    196.4,2,    197.0,2,    89.10,2,    30.56,2,     2.11,2,    97.50,2,   -0.180,2,    0.000,2
  09AR20120105,  I09S,    67,  1,      6,      6,2,20120203,1148,-43.4992, 115.0030, 4442,   3046.8,   1.5759,  34.7399,2,  34.7396,2,    200.0,2,    200.6,2,   100.30,2,    31.00,2,     2.15,2,    97.42,2,   -0.179,2,    0.000,2
  09AR20120105,  I09S,    67,  1,      5,      5,2,20120203,1148,-43.4992, 115.0030, 4442,   3349.5,   1.2365,  34.7249,2,  34.7250,2,    204.3,2,    204.7,2,   111.00,2,    31.65,2,     2.19,2,    97.34,2,   -0.176,2,    0.000,2
  09AR20120105,  I09S,    67,  1,      4,      4,2,20120203,1148,-43.4992, 115.0030, 4442,   3700.4,   0.9403,  34.7098,2,  34.7089,2,    208.7,2,    209.6,2,   120.10,2,    32.18,2,     2.23,2,    97.29,2,   -0.177,2,    0.000,2
  09AR20120105,  I09S,    67,  1,      3,      3,2,20120203,1148,-43.4992, 115.0030, 4442,   3999.6,   0.8597,  34.7048,2,  34.7044,2,    210.6,2,    211.1,2,   123.10,2,    32.25,2,     2.24,2,    97.29,2,   -0.179,2,    0.000,2
  09AR20120105,  I09S,    67,  1,      2,      2,2,20120203,1148,-43.4992, 115.0030, 4442,   4297.9,   0.8462,  34.7026,2,  34.7024,2,    211.5,2,    211.6,2,   124.10,2,    32.19,2,     2.25,2,    97.29,2,   -0.178,2,    0.000,2
  09AR20120105,  I09S,    67,  1,      1,      1,2,20120203,1148,-43.4992, 115.0030, 4442,   4516.8,   0.8610,  34.7020,2,  34.7017,2,    211.9,2,    211.2,2,   124.40,2,    32.04,2,     2.25,2,    97.29,2,   -0.180,2,    0.000,2