BOTTLE,20220815CCHSIOAMB
EXPOCODE,SECT_ID,STNNBR,CASTNO,SAMPNO,BTLNBR,BTLNBR_FLAG_W,DATE,TIME,LATITUDE,LONGITUDE,DEPTH,CTDPRS,CTDTMP,CTDSAL,CTDSAL_FLAG_W,SALNTY,SALNTY_FLAG_W,CTDOXY,CTDOXY_FLAG_W,OXYGEN,OXYGEN_FLAG_W,SILCAT,SILCAT_FLAG_W,NITRAT,NITRAT_FLAG_W,PHSPHT,PHSPHT_FLAG_W,XMISS,XMISS_FLAG_W,FLUOR,FLUOR_FLAG_W,PAR,PAR_FLAG_W
,,,,,,,,,,,METERS,DBAR,ITS-90,PSS-78,,PSS-78,,UMOL/KG,,UMOL/KG,,UMOL/KG,,UMOL/KG,,UMOL/KG,,%TRANS,,VOLTS,,VOLTS,
  09AR20120105,  I09S,    10,  1,     24,     24,2,20120120,1825,-65.1732, 113.0470, 1466,     34.6,  -1.6295,  34.1284,2,-999.0000,9,   -999.0,5,   -999.0,9,  -999.00,9,  -999.00,9,  -999.00,9,    94.89,2,    2.682,2,    0.000,2
  09AR20120105,  I09S,    10,  1,     23,     23,2,20120120,1825,-65.1732, 113.0470, 1466,     34.6,  -1.6327,  34.1281,2,-999.0000,9,   -999.0,5,   -999.0,9,  -999.00,9,  -999.00,9,  -999.00,9,    94.91,2,    2.645,2,    0.000,2
  09AR20120105,  I09S,    10,  1,     22,     22,2,20120120,1825,-65.1732, 113.0470, 1466,     34.6,  -1.6360,  34.1277,2,-999.0000,9,   -999.0,5,   -999.0,9,  -999.00,9,  -999.00,9,  -999.00,9,    94.12,2,    3.762,2,    0.000,2
  09AR20120105,  I09S,    10,  1,     21,     21,2,20120120,1825,-65.1732, 113.0470, 1466,     34.6,  -1.6356,  34.1269,2,-999.0000,9,   -999.0,5,   -999.0,9,  -999.00,9,  -999.00,9,  -999.00,9,    94.32,2,    3.233,2,    0.000,2
  09AR20120105,  I09S,    10,  1,     20,     20,2,20120120,1825,-65.1732, 113.0470, 1466,     34.6,  -1.6355,  34.1264,2,-999.0000,9,   -999.0,5,   -999.0,9,  -999.00,9,  -999.00,9,  -999.00,9,    94.49,2,    3.158,2,    0.000,2
  09AR20120105,  I09S,    10,  1,     19,     19,2,20120120,1825,-65.1732, 113.0470, 1466,     34.6,  -1.6261,  34.1193,2,-999.0000,9,   -999.0,5,   -999.0,9,  -999.00,9,  -999.00,9,  -999.00,9,    93.66,2,    3.866,2,    0.000,2
  09AR20120105,  I09S,    10,  1,     18,     18,2,20120120,1825,-65.1732, 113.0470, 1466,     34.6,  -1.6270,  34.1169,2,-999.0000,9,   -999.0,5,   -999.0,9,  -999.00,9,  -999.00,9,  -999.00,9,    93.48,2,    3.671,2,    0.000,2
  09AR20120105,  I09S,    10,  1,     17,     17,2,20120120,1825,-65.1732, 113.0470, 1466,     34.6,  -1.6205,  34.1173,2,-999.0000,9,   -999.0,5,   -999.0,9,  -999.00,9,  -999.00,9,  -999.00,9,    93.59,2,    3.973,2,    0.000,2
  09AR20120105,  I09S,    10,  1,     16,     16,2,20120120,1825,-65.1732, 113.0470, 1466,     34.5,  -1.6244,  34.1147,2,-999.0000,9,   -999.0,5,   -999.0,9,  -999.00,9,  -999.00,9,  -999.00,9,    93.19,2,    3.809,2,    0.000,2
  09AR20120105,  I09S,    10,  1,     15,     15,2,20120120,1825,-65.1732, 113.0470, 1466,     34.7,  -1.6200,  34.1145,2,-999.0000,9,   -999.0,5,   -999.0,9,  -999.00,9,  -999.00,9,  -999.00,9,    93.08,2,    4.035,2,    0.000,2
  09AR20120105,  I09S,    10,  1,     14,     14,2,20120120,1825,-65.1732, 113.0470, 1466,     34.6,  -1.6238,  34.1122,2,-999.0000,9,   -999.0,5,   -999.0,9,  -999.00,9,  -999.00,9,  -999.00,9,    93.23,2,    5.453,2,    0.000,2
  09AR20120105,  I09S,    10,  1,     13,     13,2,20120120,1825,-65.1732, 113.0470, 1466,     34.6,  -1.6182,  34.1152,2,-999.0000,9,   -999.0,5,   -999.0,9,  -999.00,9,  -999.00,9,  -999.00,9,    93.15,2,    4.542,2,    0.000,2
  09AR20120105,  I09S,    10,  1,     12,     12,2,20120120,1825,-65.1732, 113.0470, 1466,     34.7,  -1.6332,  34.1109,2,-999.0000,9,   -999.0,5,   -999.0,9,  -999.00,9,  -999.00,9,  -999.00,9,    93.72,2,    3.807,2,    0.000,2
  09AR20120105,  I09S,    10,  1,     11,     11,2,20120120,1825,-65.1732, 113.0470, 1466,     34.7,  -1.6478,  34.1073,2,-999.0000,9,   -999.0,5,   -999.0,9,  -999.00,9,  -999.00,9,  -999.00,9,    94.84,2,    4.583,2,    0.000,2
  09AR20120105,  I09S,    10,  1,     10,     10,2,20120120,1825,-65.1732, 113.0470, 1466,     34.8,  -1.6693,  34.1050,2,-999.0000,9,   -999.0,5,   -999.0,9,  -999.00,9,  -999.00,9,  -999.00,9,    95.22,2,    2.722,2,    0.000,2
  09AR20120105,  I09S,    10,  1,      9,      9,2,20120120,1825,-65.1732, 113.0470, 1466,     34.7,  -1.6768,  34.1046,2,-999.0000,9,   -999.0,5,   -999.0,9,  -999.00,9,  -999.00,9,  -999.00,9,    95.54,2,    2.456,2,    0.000,2
  09AR20120105,  I09S,    10,  1,      8,      8,2,20120120,1825,-65.1732, 113.0470, 1466,     34.7,  -1.6833,  34.1040,2,-999.0000,9,   -999.0,5,   -999.0,9,  -999.00,9,  -999.00,9,  -999.00,9,    95.29,2,    2.346,2,    0.000,2
  09AR20120105,  I09S,    10,  1,      7,      7,2,20120120,1825,-65.1732, 113.0470, 1466,     34.7,  -1.6857,  34.1037,2,-999.0000,9,   -999.0,5,   -999.0,9,  -999.00,9,  -999.00,9,  -999.00,9,    95.75,2,    1.859,2,    0.000,2
  09AR20120105,  I09S,    10,  1,      6,      6,2,20120120,1825,-65.1732, 113.0470, 1466,     34.7,  -1.6830,  34.1039,2,-999.0000,9,   -999.0,5,   -999.0,9,  -999.00,9,  -999.00,9,  -999.00,9,    96.10,2,    2.206,2,    0.000,2
  09AR20120105,  I09S,    10,  1,      5,      5,2,20120120,1825,-65.1732, 113.0470, 1466,     34.7,  -1.6776,  34.1061,2,-999.0000,9,   -999.0,5,   -999.0,9,  -999.00,9,  -999.00,9,  -999.00,9,    95.68,2,    2.251,2,    0.000,2
  09AR20120105,  I09S,    10,  1,      4,      4,2,20120120,1825,-65.1732, 113.0470, 1466,     34.7,  -1.6469,  34.1179,2,-999.0000,9,   -999.0,5,   -999.0,9,  -999.00,9,  -999.00,9,  -999.00,9,    95.14,2,    3.688,2,    0.000,2
  09AR20120105,  I09S,    10,  1,      3,      3,2,20120120,1825,-65.1732, 113.0470, 1466,     34.7,  -1.6514,  34.1178,2,-999.0000,9,   -999.0,5,   -999.0,9,  -999.00,9,  -999.00,9,  -999.00,9,    94.78,2,    3.452,2,    0.000,2
  09AR20120105,  I09S,    10,  1,      2,      2,2,20120120,1825,-65.1732, 113.0470, 1466,     34.6,  -1.6645,  34.1130,2,-999.0000,9,   -999.0,5,   -999.0,9,  -999.00,9,  -999.00,9,  -999.00,9,    95.50,2,    2.746,2,    0.000,2
  09AR20120105,  I09S,    10,  1,      1,      1,2,20120120,1825,-65.1732, 113.0470, 1466,     34.7,  -1.6504,  34.1209,2,-999.0000,9,   -999.0,5,   -999.0,9,  -999.00,9,  -999.00,9,  -999.00,9,    95.36,2,    3.338,2,    0.000,2
  09AR20120105,  I09S,    11,  1,     24,     24,2,20120120,1927,-65.1752, 113.0610, 1459,      4.6,  -1.2717,  33.2991,2,  33.3158,2,    351.5,2,    354.2,2,    57.50,2,    24.41,2,     1.67,2,    93.01,2,    1.677,2,   10.020,2
  09AR20120105,  I09S,    11,  1,     23,     23,2,20120120,1927,-65.1752, 113.0610, 1459,     25.6,  -1.5586,  34.0345,2,-999.0000,9,    335.2,2,   -999.0,9,  -999.00,9,  -999.00,9,  -999.00,9,    88.56,2,    6.095,2,    1.027,2
  09AR20120105,  I09S,    11,  1,     22,     22,2,20120120,1927,-65.1752, 113.0610, 1459,     25.7,  -1.5584,  34.0344,2,-999.0000,9,    335.2,2,   -999.0,9,  -999.00,9,  -999.00,9,  -999.00,9,    88.61,2,    6.805,2,    1.032,2
  09AR20120105,  I09S,    11,  1,     21,     21,2,20120120,1927,-65.1752, 113.0610, 1459,     25.6,  -1.5525,  34.0312,2,  34.0113,2,    335.2,2,    341.5,2,    66.70,2,    26.02,2,     1.81,2,    89.12,2,    6.232,2,    1.053,2
  09AR20120105,  I09S,    11,  1,     20,     20,2,20120120,1927,-65.1752, 113.0610, 1459,     34.7,  -1.6081,  34.0941,2,  34.0927,2,    326.8,2,    326.7,2,    69.40,2,    27.60,2,     1.91,2,    89.59,2,    7.179,2,    0.257,2
  09AR20120105,  I09S,    11,  1,     19,     19,2,20120120,1927,-65.1752, 113.0610, 1459,     48.9,  -1.6729,  34.1436,2,  34.1403,2,    306.1,2,    306.4,2,    71.10,2,    29.61,2,     2.06,2,    94.17,2,    2.905,2,    0.000,2
  09AR20120105,  I09S,    11,  1,     18,     18,2,20120120,1927,-65.1752, 113.0610, 1459,     74.3,  -1.7588,  34.1943,2,  34.1954,2,    301.4,2,    300.4,2,    69.70,2,    30.32,2,     2.10,2,    96.72,2,    0.522,2,    0.000,2
  09AR20120105,  I09S,    11,  1,     17,     17,2,20120120,1927,-65.1752, 113.0610, 1459,     89.0,  -1.7557,  34.2100,2,  34.2105,2,    301.8,2,    302.0,2,    68.70,2,    30.30,2,     2.09,2,    96.74,2,    0.161,2,    0.000,2
  09AR20120105,  I09S,    11,  1,     16,     16,2,20120120,1927,-65.1752, 113.0610, 1459,    149.9,  -1.7695,  34.2512,2,  34.2507,2,    302.2,2,    303.8,2,    66.30,2,    30.41,2,     2.09,2,    96.75,2,   -0.029,2,    0.000,2
  09AR20120105,  I09S,    11,  1,     15,     15,2,20120120,1927,-65.1752, 113.0610, 1459,    225.0,  -1.7873,  34.2843,2,  34.2838,2,    305.4,2,    306.3,2,    65.30,2,    30.62,2,     2.09,2,    96.86,2,   -0.145,2,    0.000,2
  09AR20120105,  I09S,    11,  1,     14,     14,2,20120120,1927,-65.1752, 113.0610, 1459,    299.8,  -1.7495,  34.3095,2,  34.3115,2,    305.7,2,    306.5,2,    64.30,2,    30.62,2,     2.08,2,    97.06,2,   -0.162,2,    0.000,2
  09AR20120105,  I09S,    11,  1,     13,     13,2,20120120,1927,-65.1752, 113.0610, 1459,    400.1,   0.0235,  34.5435,2,  34.5419,2,    240.8,2,    237.6,2,    81.60,2,    32.06,2,     2.21,2,    97.26,2,   -0.156,2,    0.000,2
  09AR20120105,  I09S,    11,  1,     12,     12,2,20120120,1927,-65.1752, 113.0610, 1459,    499.7,   0.7390,  34.6625,2,  34.6616,2,    212.5,2,    214.0,2,    92.50,2,    31.99,2,     2.19,2,    97.29,2,   -0.178,2,    0.000,2
  09AR20120105,  I09S,    11,  1,     11,     11,2,20120120,1927,-65.1752, 113.0610, 1459,    600.2,   0.6568,  34.6704,2,  34.6702,2,    215.4,2,    216.0,2,    97.50,2,    32.02,2,     2.20,2,    97.27,2,   -0.182,2,    0.000,2
  09AR20120105,  I09S,    11,  1,     10,     10,2,20120120,1927,-65.1752, 113.0610, 1459,    749.9,   0.6957,  34.6906,2,  34.6895,2,    211.6,2,    212.0,2,   106.80,2,    32.23,2,     2.21,2,    97.26,2,   -0.182,2,    0.000,2
  09AR20120105,  I09S,    11,  1,      9,      9,2,20120120,1927,-65.1752, 113.0610, 1459,    849.2,   0.5552,  34.6853,2,  34.6850,2,    214.0,2,    213.8,2,   110.90,2,    32.35,2,     2.23,2,    97.23,2,   -0.179,2,    0.000,2
  09AR20120105,  I09S,    11,  1,      8,      8,2,20120120,1927,-65.1752, 113.0610, 1459,   1000.3,   0.3810,  34.6778,2,  34.6773,2,    216.8,2,    216.9,2,   114.60,2,    32.53,2,     2.24,2,    97.20,2,   -0.178,2,    0.000,2
  09AR20120105,  I09S,    11,  1,      7,      7,2,20120120,1927,-65.1752, 113.0610, 1459,   1000.2,   0.3810,  34.6777,2,-999.0000,9,    216.8,2,   -999.0,9,  -999.00,9,  -999.00,9,  -999.00,9,    97.19,2,   -0.175,2,    0.000,2
  09AR20120105,  I09S,    11,  1,      6,      6,2,20120120,1927,-65.1752, 113.0610, 1459,   1000.3,   0.3806,  34.6777,2,-999.0000,9,    216.8,2,   -999.0,9,  -999.00,9,  -999.00,9,  -999.00,9,    97.20,2,   -0.179,2,    0.000,2
  09AR20120105,  I09S,    11,  1,      5,      5,2,20120120,1927,-65.1752, 113.0610, 1459,   1000.4,   0.3784,  34.6777,2,-999.0000,9,    216.8,2,   -999.0,9,  -999.00,9,  -999.00,9,  -999.00,9,    97.19,2,   -0.184,2,    0.000,2
  09AR20120105,  I09S,    11,  1,      4,      4,2,20120120,1927,-65.1752, 113.0610, 1459,   1102.3,   0.2934,  34.6748,2,  34.6751,2,    218.4,2,    218.6,2,   116.60,2,    32.68,2,     2.25,2,    97.18,2,   -0.181,2,    0.000,2
  09AR20120105,  I09S,    11,  1,      3,      3,2,20120120,1927,-65.1752, 113.0610, 1459,   1248.3,   0.1458,  34.6680,2,  34.6690,2,    222.1,2,    222.2,2,   117.60,2,    32.85,2,     2.27,2,    97.14,2,   -0.183,2,    0.000,2
  09AR20120105,  I09S,    11,  1,      2,      2,2,20120120,1927,-65.1752, 113.0610, 1459,   1349.2,   0.0689,  34.6664,2,  34.6665,2,    224.4,2,    224.2,2,   118.20,2,    32.79,2,     2.26,2,    97.13,2,   -0.179,2,    0.000,2
  09AR20120105,  I09S,    11,  1,      1,      1,2,20120120,1927,-65.1752, 113.0610, 1459,   1472.0,  -0.1027,  34.6598,2,  34.6598,2,    229.1,2,    229.5,2,   117.30,2,    32.51,2,     2.25,2,    97.17,2,   -0.169,2,    0.000,2
  09AR20120105,  I09S,    12,  1,     24,     24,2,20120120,2229,-65.0247, 113.1600, 1462,      5.1,  -0.7982,  33.4238,2,  33.4225,2,    356.1,2,    356.0,2,    56.50,2,    24.56,2,     1.62,2,    91.25,2,    0.956,2,   98.330,2
  09AR20120105,  I09S,    12,  1,     23,     23,2,20120120,2229,-65.0247, 113.1600, 1462,     30.8,  -0.8973,  33.6277,2,-999.0000,9,    344.2,2,   -999.0,9,  -999.00,9,  -999.00,9,  -999.00,9,    92.84,2,    2.497,2,    6.352,2
  09AR20120105,  I09S,    12,  1,     22,     22,2,20120120,2229,-65.0247, 113.1600, 1462,     30.9,  -0.8414,  33.6112,2,-999.0000,9,    344.2,2,   -999.0,9,  -999.00,9,  -999.00,9,  -999.00,9,    92.84,2,    2.551,2,    6.520,2
  09AR20120105,  I09S,    12,  1,     21,     21,2,20120120,2229,-65.0247, 113.1600, 1462,     30.9,  -0.9254,  33.6413,2,  33.6926,2,    344.2,2,    347.0,2,    59.20,2,    26.12,2,     1.78,2,    93.00,2,    2.568,2,    6.485,2
  09AR20120105,  I09S,    12,  1,     20,     20,2,20120120,2229,-65.0247, 113.1600, 1462,     50.0,  -1.5112,  34.0485,2,  34.0546,2,    325.8,2,    321.8,2,    63.90,2,    28.47,2,     1.96,2,    96.41,2,    1.636,2,    1.356,2
  09AR20120105,  I09S,    12,  1,     19,     19,2,20120120,2229,-65.0247, 113.1600, 1462,     69.7,  -1.6886,  34.1970,2,  34.1932,2,    314.2,2,    304.1,2,    67.00,2,    29.89,2,     2.07,2,    96.82,2,    0.754,2,    0.323,2
  09AR20120105,  I09S,    12,  1,     18,     18,2,20120120,2229,-65.0247, 113.1600, 1462,     91.6,  -1.7207,  34.2277,2,  34.2256,2,    301.0,2,    298.6,2,    67.70,2,    30.34,2,     2.10,2,    96.88,2,    0.380,2,    0.042,2
  09AR20120105,  I09S,    12,  1,     17,     17,2,20120120,2229,-65.0247, 113.1600, 1462,    131.5,  -1.7081,  34.2761,2,  34.2777,2,    289.3,2,    291.4,2,    67.10,2,    31.00,2,     2.14,2,    96.97,2,    0.049,2,    0.000,2
  09AR20120105,  I09S,    12,  1,     16,     16,2,20120120,2229,-65.0247, 113.1600, 1462,    200.3,  -1.1497,  34.3838,2,  34.3862,2,    277.4,2,    278.9,2,  -999.00,9,    31.31,2,     2.15,2,    97.12,2,   -0.136,2,    0.000,2
  09AR20120105,  I09S,    12,  1,     15,     15,2,20120120,2229,-65.0247, 113.1600, 1462,    248.6,  -0.3096,  34.4984,2,  34.5031,2,    247.8,2,    249.1,2,    78.70,2,    31.84,2,     2.21,2,    97.24,2,   -0.165,2,    0.000,2
  09AR20120105,  I09S,    12,  1,     14,     14,2,20120120,2229,-65.0247, 113.1600, 1462,    301.6,   0.4753,  34.6059,2,  34.6056,2,    220.0,2,    222.0,2,    85.80,2,    32.17,2,     2.23,2,    97.29,2,   -0.173,2,    0.000,2
  09AR20120105,  I09S,    12,  1,     13,     13,2,20120120,2229,-65.0247, 113.1600, 1462,    375.8,   1.0882,  34.6862,2,  34.6877,2,    206.2,2,    201.9,2,    93.00,2,    32.12,2,     2.21,2,    97.29,2,   -0.173,2,    0.000,2
  09AR20120105,  I09S,    12,  1,     12,     12,2,20120120,2229,-65.0247, 113.1600, 1462,    450.5,   0.6910,  34.6640,2,  34.6633,2,    215.4,2,    215.5,2,    93.40,2,    31.77,2,     2.20,2,    97.26,2,   -0.184,2,    0.000,2
  09AR20120105,  I09S,    12,  1,     11,     11,2,20120120,2229,-65.0247, 113.1600, 1462,    550.6,   0.6391,  34.6725,2,  34.6714,2,    216.1,2,    215.8,2,    98.10,2,    31.72,2,     2.22,2,    97.25,2,   -0.175,2,    0.000,2
  09AR20120105,  I09S,    12,  1,     10,     10,2,20120120,2229,-65.0247, 113.1600, 1462,    649.3,   0.5469,  34.6728,2,  34.6722,2,    216.4,2,    217.0,2,   102.00,2,    31.79,2,     2.21,2,    97.24,2,   -0.177,2,    0.000,2
  09AR20120105,  I09S,    12,  1,      9,      9,2,20120120,2229,-65.0247, 113.1600, 1462,    750.4,   0.5449,  34.6787,2,  34.6785,2,    216.6,2,    215.6,2,   106.00,2,    31.88,2,     2.23,2,    97.24,2,   -0.188,2,    0.000,2
  09AR20120105,  I09S,    12,  1,      8,      8,2,20120120,2229,-65.0247, 113.1600, 1462,    897.4,   0.4496,  34.6769,2,  34.6787,2,    217.7,2,    216.4,2,   110.20,2,    32.13,2,     2.25,2,    97.21,2,   -0.179,2,    0.000,2
  09AR20120105,  I09S,    12,  1,      7,      7,2,20120120,2229,-65.0247, 113.1600, 1462,    897.5,   0.4538,  34.6775,2,-999.0000,9,    217.7,2,   -999.0,9,  -999.00,9,  -999.00,9,  -999.00,9,    97.21,2,   -0.184,2,    0.000,2
  09AR20120105,  I09S,    12,  1,      6,      6,2,20120120,2229,-65.0247, 113.1600, 1462,    897.9,   0.4581,  34.6779,2,-999.0000,9,    217.7,2,   -999.0,9,  -999.00,9,  -999.00,9,  -999.00,9,    97.21,2,   -0.182,2,    0.000,2
  09AR20120105,  I09S,    12,  1,      5,      5,2,20120120,2229,-65.0247, 113.1600, 1462,    898.1,   0.4576,  34.6780,2,-999.0000,9,    217.7,2,   -999.0,9,  -999.00,9,  -999.00,9,  -999.00,9,    97.21,2,   -0.184,2,    0.000,2
  09AR20120105,  I09S,    12,  1,      4,      4,2,20120120,2229,-65.0247, 113.1600, 1462,   1049.6,   0.3180,  34.6711,2,  34.6706,2,    219.3,2,    220.4,2,   112.20,2,    32.25,2,     2.24,2,    97.19,2,   -0.180,2,    0.000,2
  09AR20120105,  I09S,    12,  1,      3,      3,2,20120120,2229,-65.0247, 113.1600, 1462,   1198.9,   0.2414,  34.6694,2,  34.6694,2,    221.0,2,    220.4,2,   114.40,2,    32.29,2,     2.26,2,    97.16,2,   -0.185,2,    0.000,2
  09AR20120105,  I09S,    12,  1,      2,      2,2,20120120,2229,-65.0247, 113.1600, 1462,   1351.7,   0.0975,  34.6650,2,  34.6651,2,    223.8,2,    223.8,2,   116.20,2,    32.31,2,     2.27,2,    97.14,2,   -0.176,2,    0.000,2
  09AR20120105,  I09S,    12,  1,      1,      1,2,20120120,2229,-65.0247, 113.1600, 1462,   1471.0,  -0.0401,  34.6617,2,  34.6616,2,    228.1,2,   -999.0,9,   117.50,2,    32.36,2,     2.28,2,    97.16,2,   -0.184,2,    0.000,2