BOTTLE,20220815CCHSIOAMB
EXPOCODE,SECT_ID,STNNBR,CASTNO,SAMPNO,BTLNBR,BTLNBR_FLAG_W,DATE,TIME,LATITUDE,LONGITUDE,DEPTH,CTDPRS,CTDTMP,CTDSAL,CTDSAL_FLAG_W,SALNTY,SALNTY_FLAG_W,CTDOXY,CTDOXY_FLAG_W,OXYGEN,OXYGEN_FLAG_W,SILCAT,SILCAT_FLAG_W,NITRAT,NITRAT_FLAG_W,PHSPHT,PHSPHT_FLAG_W,XMISS,XMISS_FLAG_W,FLUOR,FLUOR_FLAG_W,PAR,PAR_FLAG_W
,,,,,,,,,,,METERS,DBAR,ITS-90,PSS-78,,PSS-78,,UMOL/KG,,UMOL/KG,,UMOL/KG,,UMOL/KG,,UMOL/KG,,%TRANS,,VOLTS,,VOLTS,
  09AR20120105,  I09S,    46,  1,     24,     24,2,20120130,0805,-51.4747, 115.0150, 3511,     10.6,   4.2584,  33.8427,2,  33.8445,2,    321.0,2,    320.4,2,    13.00,2,    25.21,2,     1.65,2,    97.32,2,    0.496,2,   22.590,2
  09AR20120105,  I09S,    46,  1,     23,     23,2,20120130,0805,-51.4747, 115.0150, 3511,     39.8,   3.8934,  33.8443,2,-999.0000,9,    320.6,2,   -999.0,9,  -999.00,9,  -999.00,9,  -999.00,9,    96.11,2,    0.906,2,    5.546,2
  09AR20120105,  I09S,    46,  1,     22,     22,2,20120130,0805,-51.4747, 115.0150, 3511,     39.6,   3.8967,  33.8443,2,-999.0000,9,    320.6,2,   -999.0,9,  -999.00,9,  -999.00,9,  -999.00,9,    96.09,2,    0.899,2,    5.638,2
  09AR20120105,  I09S,    46,  1,     21,     21,2,20120130,0805,-51.4747, 115.0150, 3511,     39.8,   3.8934,  33.8442,2,  33.8451,2,    320.6,2,    321.5,2,    13.20,2,    25.25,2,     1.65,2,    96.09,2,    0.898,2,    5.699,2
  09AR20120105,  I09S,    46,  1,     20,     20,2,20120130,0805,-51.4747, 115.0150, 3511,     80.1,   3.7266,  33.8465,2,  33.8469,2,    318.4,2,    320.6,2,    13.90,2,    25.43,2,     1.68,2,    97.09,2,    1.074,2,    0.645,2
  09AR20120105,  I09S,    46,  1,     19,     19,2,20120130,0805,-51.4747, 115.0150, 3511,    100.9,   2.7986,  33.8678,2,  33.8688,2,    315.9,2,    323.1,2,    17.70,2,    26.30,2,     1.79,2,    97.97,2,    0.432,2,    0.179,2
  09AR20120105,  I09S,    46,  1,     18,     18,2,20120130,0805,-51.4747, 115.0150, 3511,    150.9,   1.5313,  33.9146,2,  33.9148,2,    299.0,2,    319.3,2,    22.70,2,    28.56,2,     1.93,2,    97.84,2,   -0.124,2,    0.000,2
  09AR20120105,  I09S,    46,  1,     17,     17,2,20120130,0805,-51.4747, 115.0150, 3511,    200.0,   1.7873,  34.0678,2,  34.0690,2,    280.1,2,    277.5,2,    34.10,2,    31.12,2,     2.11,2,    97.85,2,   -0.183,2,    0.000,2
  09AR20120105,  I09S,    46,  1,     16,     16,2,20120130,0805,-51.4747, 115.0150, 3511,    274.0,   2.2222,  34.2575,2,  34.2546,2,    221.9,2,    225.0,2,    48.60,2,    33.59,2,     2.29,2,    97.96,2,   -0.183,2,    0.000,2
  09AR20120105,  I09S,    46,  1,     15,     15,2,20120130,0805,-51.4747, 115.0150, 3511,    421.1,   2.4468,  34.4323,2,  34.4322,2,    187.5,2,    187.9,2,    62.90,2,    34.60,2,     2.36,2,    97.60,2,   -0.175,2,    0.000,2
  09AR20120105,  I09S,    46,  1,     14,     14,2,20120130,0805,-51.4747, 115.0150, 3511,    625.3,   2.3088,  34.5899,2,  34.5912,2,    177.2,2,    177.3,2,    74.70,2,    33.83,2,     2.31,2,    97.57,2,   -0.179,2,    0.000,2
  09AR20120105,  I09S,    46,  1,     13,     13,2,20120130,0805,-51.4747, 115.0150, 3511,    851.6,   2.1256,  34.6791,2,  34.6792,2,    180.5,2,    180.9,2,    80.60,2,    32.59,2,     2.23,2,    97.54,2,   -0.179,2,    0.000,2
  09AR20120105,  I09S,    46,  1,     12,     12,2,20120130,0805,-51.4747, 115.0150, 3511,   1024.6,   2.1032,  34.7170,2,  34.7166,2,    187.2,2,    186.8,2,    81.30,2,    31.53,2,     2.16,2,    97.52,2,   -0.176,2,    0.000,2
  09AR20120105,  I09S,    46,  1,     11,     11,2,20120130,0805,-51.4747, 115.0150, 3511,   1199.9,   1.9456,  34.7354,2,  34.7357,2,    191.5,2,    191.0,2,    86.20,2,    31.17,2,     2.13,2,    97.49,2,   -0.180,2,    0.000,2
  09AR20120105,  I09S,    46,  1,     10,     10,2,20120130,0805,-51.4747, 115.0150, 3511,   1401.4,   1.7960,  34.7431,2,  34.7435,2,    195.5,2,    195.1,2,    89.90,2,    30.92,2,     2.12,2,    97.44,2,   -0.182,2,    0.000,2
  09AR20120105,  I09S,    46,  1,      9,      9,2,20120130,0805,-51.4747, 115.0150, 3511,   1599.4,   1.6167,  34.7434,2,  34.7463,2,    198.3,2,    198.2,2,    94.70,2,    30.94,2,     2.13,2,    97.42,2,   -0.178,2,    0.000,2
  09AR20120105,  I09S,    46,  1,      8,      8,2,20120130,0805,-51.4747, 115.0150, 3511,   1799.4,   1.4170,  34.7373,2,  34.7400,2,    200.6,2,    201.0,2,   100.70,2,    31.23,2,     2.15,2,    97.36,2,   -0.177,2,    0.000,2
  09AR20120105,  I09S,    46,  1,      7,      7,2,20120130,0805,-51.4747, 115.0150, 3511,   2000.7,   1.2319,  34.7295,2,  34.7292,2,    202.8,2,    203.1,2,   106.70,2,    31.56,2,     2.19,2,    97.32,2,   -0.179,2,    0.000,2
  09AR20120105,  I09S,    46,  1,      6,      6,2,20120130,0805,-51.4747, 115.0150, 3511,   2303.4,   0.9554,  34.7155,2,  34.7154,2,    206.1,2,    206.7,2,   115.10,2,    31.98,2,     2.21,2,    97.26,2,   -0.180,2,    0.000,2
  09AR20120105,  I09S,    46,  1,      5,      5,2,20120130,0805,-51.4747, 115.0150, 3511,   2599.0,   0.6805,  34.7013,2,  34.7013,2,    210.6,2,    211.0,2,   122.50,2,    32.35,2,     2.26,2,    97.20,2,   -0.181,2,    0.000,2
  09AR20120105,  I09S,    46,  1,      4,      4,2,20120130,0805,-51.4747, 115.0150, 3511,   2899.2,   0.4634,  34.6903,2,  34.6901,2,    215.2,2,    215.5,2,   127.50,2,    32.63,2,     2.27,2,    97.17,2,   -0.181,2,    0.000,2
  09AR20120105,  I09S,    46,  1,      3,      3,2,20120130,0805,-51.4747, 115.0150, 3511,   3199.5,   0.3228,  34.6837,2,  34.6830,2,    219.1,2,    219.1,2,   133.10,2,    32.68,2,     2.28,2,    97.15,2,   -0.182,2,    0.000,2
  09AR20120105,  I09S,    46,  1,      2,      2,2,20120130,0805,-51.4747, 115.0150, 3511,   3451.1,   0.3138,  34.6823,2,  34.6918,4,    220.2,2,    220.0,2,   135.10,2,    32.68,2,     2.28,2,    97.15,2,   -0.181,2,    0.000,2
  09AR20120105,  I09S,    46,  1,      1,      1,2,20120130,0805,-51.4747, 115.0150, 3511,   3559.8,   0.3179,  34.6822,2,  34.6814,2,    220.6,2,    220.5,2,   135.40,2,    32.65,2,     2.29,2,    97.16,2,   -0.178,2,    0.000,2
  09AR20120105,  I09S,    47,  1,     24,     24,2,20120130,1337,-50.9940, 115.0170, 4001,      9.9,   4.9164,  33.8287,2,  33.8288,2,    318.2,2,    316.6,2,     6.90,2,    24.17,2,     1.58,2,    98.34,2,    0.539,2,    0.000,2
  09AR20120105,  I09S,    47,  1,     23,     23,2,20120130,1337,-50.9940, 115.0170, 4001,     22.1,   4.8806,  33.8286,2,-999.0000,9,    317.9,2,   -999.0,9,  -999.00,9,  -999.00,9,  -999.00,9,    97.60,2,    0.579,2,    0.000,2
  09AR20120105,  I09S,    47,  1,     22,     22,2,20120130,1337,-50.9940, 115.0170, 4001,     21.9,   4.9132,  33.8285,2,-999.0000,9,    317.9,2,   -999.0,9,  -999.00,9,  -999.00,9,  -999.00,9,    97.67,2,    0.585,2,    0.000,2
  09AR20120105,  I09S,    47,  1,     21,     21,2,20120130,1337,-50.9940, 115.0170, 4001,     38.6,   4.6227,  33.8298,2,  33.8300,2,    319.1,2,    318.0,2,     7.20,2,    24.19,2,     1.58,2,    97.11,2,    0.816,2,    0.000,2
  09AR20120105,  I09S,    47,  1,     20,     20,2,20120130,1337,-50.9940, 115.0170, 4001,     79.5,   4.3290,  33.8293,2,  33.8300,2,    316.8,2,    318.2,2,     7.60,2,    24.29,2,     1.60,2,    96.44,2,    1.633,2,    0.000,2
  09AR20120105,  I09S,    47,  1,     19,     19,2,20120130,1337,-50.9940, 115.0170, 4001,    109.3,   2.8345,  33.8701,2,  33.8715,2,    314.8,2,    321.4,2,    14.40,2,    25.50,2,     1.75,2,    97.86,2,    0.699,2,    0.000,2
  09AR20120105,  I09S,    47,  1,     18,     18,2,20120130,1337,-50.9940, 115.0170, 4001,    150.4,   2.0984,  33.9520,2,  33.9518,2,    304.6,2,    302.9,2,    21.30,2,    28.33,2,     1.92,2,    97.87,2,   -0.127,2,    0.000,2
  09AR20120105,  I09S,    47,  1,     17,     17,2,20120130,1337,-50.9940, 115.0170, 4001,    259.3,   2.3247,  34.1556,2,  34.1554,2,    234.8,2,    247.5,2,    37.60,2,    31.61,2,     2.16,2,    97.83,2,   -0.181,2,    0.000,2
  09AR20120105,  I09S,    47,  1,     16,     16,2,20120130,1337,-50.9940, 115.0170, 4001,    374.4,   2.4489,  34.3162,2,  34.3166,2,    210.5,2,    208.4,2,    51.90,2,    33.57,2,     2.31,2,    97.66,2,   -0.180,2,    0.000,2
  09AR20120105,  I09S,    47,  1,     15,     15,2,20120130,1337,-50.9940, 115.0170, 4001,    501.5,   2.2703,  34.4245,2,  34.4273,2,    191.2,2,    190.1,2,    64.00,2,    34.66,2,     2.38,2,    97.60,2,   -0.179,2,    0.000,2
  09AR20120105,  I09S,    47,  1,     14,     14,2,20120130,1337,-50.9940, 115.0170, 4001,    700.6,   2.3750,  34.5643,2,  34.5639,2,    176.6,2,    177.5,2,    72.50,2,    34.11,2,     2.34,2,    97.60,2,   -0.178,2,    0.000,2
  09AR20120105,  I09S,    47,  1,     13,     13,2,20120130,1337,-50.9940, 115.0170, 4001,    924.9,   2.2369,  34.6665,2,  34.6665,2,    179.4,2,    180.4,2,    78.40,2,    32.72,2,     2.25,2,    97.57,2,   -0.178,2,    0.000,2
  09AR20120105,  I09S,    47,  1,     12,     12,2,20120130,1337,-50.9940, 115.0170, 4001,   1098.8,   2.1703,  34.7113,2,  34.7111,2,    185.4,2,    186.2,2,    80.00,2,    31.66,2,     2.17,2,    97.55,2,   -0.173,2,    0.000,2
  09AR20120105,  I09S,    47,  1,     11,     11,2,20120130,1337,-50.9940, 115.0170, 4001,   1349.1,   2.0028,  34.7380,2,  34.7378,2,    191.8,2,    191.6,2,    84.30,2,    31.01,2,     2.12,2,    97.51,2,   -0.176,2,    0.000,2
  09AR20120105,  I09S,    47,  1,     10,     10,2,20120130,1337,-50.9940, 115.0170, 4001,   1600.2,   1.7742,  34.7452,2,  34.7447,2,    196.5,2,    196.4,2,    91.00,2,    30.89,2,     2.12,2,    97.44,2,   -0.181,2,    0.000,2
  09AR20120105,  I09S,    47,  1,      9,      9,2,20120130,1337,-50.9940, 115.0170, 4001,   1901.7,   1.4910,  34.7400,2,  34.7400,2,    200.6,2,    200.7,2,    99.30,2,    31.08,2,     2.15,2,    97.39,2,   -0.179,2,    0.000,2
  09AR20120105,  I09S,    47,  1,      8,      8,2,20120130,1337,-50.9940, 115.0170, 4001,   2101.5,   1.2955,  34.7319,2,  34.7313,2,    202.2,2,    202.8,2,   105.30,2,    31.46,2,     2.18,2,    97.34,2,   -0.180,2,    0.000,2
  09AR20120105,  I09S,    47,  1,      7,      7,2,20120130,1337,-50.9940, 115.0170, 4001,   2400.0,   1.0625,  34.7202,2,  34.7207,2,    205.0,2,    205.7,2,   112.90,2,    31.85,2,     2.20,2,    97.29,2,   -0.181,2,    0.000,2
  09AR20120105,  I09S,    47,  1,      6,      6,2,20120130,1337,-50.9940, 115.0170, 4001,   2699.1,   0.8037,  34.7067,2,  34.7062,2,    209.0,2,    209.3,2,   120.20,2,    32.28,2,     2.24,2,    97.24,2,   -0.179,2,    0.000,2
  09AR20120105,  I09S,    47,  1,      5,      5,2,20120130,1337,-50.9940, 115.0170, 4001,   2998.8,   0.5532,  34.6945,2,  34.6938,2,    213.7,2,    214.3,2,   127.40,2,    32.49,2,     2.27,2,    97.19,2,   -0.176,2,    0.000,2
  09AR20120105,  I09S,    47,  1,      4,      4,2,20120130,1337,-50.9940, 115.0170, 4001,   3350.2,   0.3810,  34.6859,2,  34.6847,2,    217.9,2,    218.6,2,   133.30,2,    32.64,2,     2.27,2,    97.18,2,   -0.183,2,    0.000,2
  09AR20120105,  I09S,    47,  1,      3,      3,2,20120130,1337,-50.9940, 115.0170, 4001,   3700.8,   0.3658,  34.6837,2,  34.6818,2,    219.2,2,    219.4,2,   135.00,2,    32.65,2,     2.28,2,    97.19,2,   -0.181,2,    0.000,2
  09AR20120105,  I09S,    47,  1,      2,      2,2,20120130,1337,-50.9940, 115.0170, 4001,   4018.9,   0.3930,  34.6834,2,  34.6824,2,    219.1,2,    219.6,2,   135.00,2,    32.70,2,     2.28,2,    97.19,2,   -0.186,2,    0.000,2
  09AR20120105,  I09S,    47,  1,      1,      1,2,20120130,1337,-50.9940, 115.0170, 4001,   4063.8,   0.3973,  34.6833,2,  34.6826,2,    219.2,2,    219.7,2,   135.40,2,    32.65,2,     2.28,2,    97.19,2,   -0.180,2,    0.000,2
  09AR20120105,  I09S,    48,  1,     24,     24,2,20120130,1934,-50.4917, 115.0090, 3059,      3.6,   5.7229,  33.8363,2,  33.8357,2,    311.2,2,    309.9,2,     5.00,2,    22.92,2,     1.55,2,    97.11,2,    0.548,2,   15.950,2
  09AR20120105,  I09S,    48,  1,     23,     23,2,20120130,1934,-50.4917, 115.0090, 3059,     20.4,   5.7227,  33.8363,2,-999.0000,9,    310.5,2,   -999.0,9,  -999.00,9,  -999.00,9,  -999.00,9,    97.31,2,    0.413,2,    4.857,2
  09AR20120105,  I09S,    48,  1,     22,     22,2,20120130,1934,-50.4917, 115.0090, 3059,     20.5,   5.7225,  33.8363,2,-999.0000,9,    310.5,2,   -999.0,9,  -999.00,9,  -999.00,9,  -999.00,9,    97.41,2,    0.410,2,    4.852,2
  09AR20120105,  I09S,    48,  1,     21,     21,2,20120130,1934,-50.4917, 115.0090, 3059,     40.0,   5.4518,  33.8432,2,  33.8429,2,    311.0,2,    311.0,2,     5.40,2,    22.80,2,     1.53,2,    96.62,2,    0.994,2,    1.664,2
  09AR20120105,  I09S,    48,  1,     20,     20,2,20120130,1934,-50.4917, 115.0090, 3059,     67.0,   5.3467,  33.8498,2,  33.8500,2,    309.5,2,    310.3,2,     5.60,2,    22.75,2,     1.54,2,    96.83,2,    1.201,2,    0.388,2
  09AR20120105,  I09S,    48,  1,     19,     19,2,20120130,1934,-50.4917, 115.0090, 3059,     89.2,   4.3475,  33.9315,2,  33.9332,2,    304.0,2,    305.1,2,     8.30,2,    23.41,2,     1.60,2,    98.34,2,    0.615,2,    0.069,2
  09AR20120105,  I09S,    48,  1,     18,     18,2,20120130,1934,-50.4917, 115.0090, 3059,    110.4,   4.3015,  33.9748,2,  33.9747,2,    292.2,2,    293.8,2,    10.40,2,    24.12,2,     1.65,2,    98.26,2,    0.106,2,    0.000,2
  09AR20120105,  I09S,    48,  1,     17,     17,2,20120130,1934,-50.4917, 115.0090, 3059,    200.5,   4.2294,  34.1457,2,  34.1452,2,    254.1,2,    252.9,2,    19.10,2,    27.73,2,     1.90,2,    98.31,2,   -0.182,2,    0.000,2
  09AR20120105,  I09S,    48,  1,     16,     16,2,20120130,1934,-50.4917, 115.0090, 3059,    300.6,   3.6119,  34.1797,2,  34.1793,2,    241.9,2,    242.0,2,    26.20,2,    29.88,2,     2.05,2,    98.05,2,   -0.192,2,    0.000,2
  09AR20120105,  I09S,    48,  1,     15,     15,2,20120130,1934,-50.4917, 115.0090, 3059,    400.2,   3.2648,  34.2369,2,  34.2377,2,    226.1,2,    225.1,2,    35.00,2,    31.62,2,     2.17,2,    97.71,2,   -0.188,2,    0.000,2
  09AR20120105,  I09S,    48,  1,     14,     14,2,20120130,1934,-50.4917, 115.0090, 3059,    546.5,   2.7633,  34.3242,2,  34.3244,2,    202.8,2,    201.9,2,    49.10,2,    33.53,2,     2.32,2,    97.66,2,   -0.184,2,    0.000,2
  09AR20120105,  I09S,    48,  1,     13,     13,2,20120130,1934,-50.4917, 115.0090, 3059,    699.2,   2.6919,  34.4456,2,  34.4451,2,    184.3,2,    184.6,2,    60.90,2,    34.25,2,     2.37,2,    97.65,2,   -0.181,2,    0.000,2
  09AR20120105,  I09S,    48,  1,     12,     12,2,20120130,1934,-50.4917, 115.0090, 3059,    849.2,   2.5246,  34.5355,2,  34.5349,2,    177.8,2,    177.8,2,    69.00,2,    34.04,2,     2.36,2,    97.63,2,   -0.181,2,    0.000,2
  09AR20120105,  I09S,    48,  1,     11,     11,2,20120130,1934,-50.4917, 115.0090, 3059,    998.8,   2.4495,  34.6080,2,  34.6077,2,    176.8,2,    176.8,2,    72.50,2,    33.41,2,     2.30,2,    97.61,2,   -0.181,2,    0.000,2
  09AR20120105,  I09S,    48,  1,     10,     10,2,20120130,1934,-50.4917, 115.0090, 3059,   1150.8,   2.3189,  34.6552,2,  34.6549,2,    179.7,2,    179.6,2,    76.40,2,    32.64,2,     2.25,2,    97.60,2,   -0.181,2,    0.000,2
  09AR20120105,  I09S,    48,  1,      9,      9,2,20120130,1934,-50.4917, 115.0090, 3059,   1299.3,   2.2264,  34.6935,2,  34.6930,2,    183.9,2,    183.9,2,    79.20,2,    31.83,2,     2.22,2,    97.58,2,   -0.183,2,    0.000,2
  09AR20120105,  I09S,    48,  1,      8,      8,2,20120130,1934,-50.4917, 115.0090, 3059,   1500.9,   2.1634,  34.7327,2,  34.7323,2,    190.3,2,    190.1,2,    80.60,2,    30.73,2,     2.14,2,    97.55,2,   -0.174,2,    0.000,2
  09AR20120105,  I09S,    48,  1,      7,      7,2,20120130,1934,-50.4917, 115.0090, 3059,   1699.9,   2.0129,  34.7477,2,  34.7475,2,    194.6,2,    194.7,2,    84.50,2,    30.34,2,     2.12,2,    97.52,2,   -0.179,2,    0.000,2
  09AR20120105,  I09S,    48,  1,      6,      6,2,20120130,1934,-50.4917, 115.0090, 3059,   1899.6,   1.8392,  34.7500,2,  34.7494,2,    197.6,2,    197.3,2,    89.70,2,    30.34,2,     2.12,2,    97.46,2,   -0.184,2,    0.000,2
  09AR20120105,  I09S,    48,  1,      5,      5,2,20120130,1934,-50.4917, 115.0090, 3059,   2097.5,   1.6149,  34.7450,2,  34.7443,2,    199.9,2,    199.7,2,    96.80,2,    30.63,2,     2.15,2,    97.41,2,   -0.182,2,    0.000,2
  09AR20120105,  I09S,    48,  1,      4,      4,2,20120130,1934,-50.4917, 115.0090, 3059,   2398.8,   1.3403,  34.7334,2,  34.7327,2,    202.7,2,    202.6,2,   105.40,2,    31.03,2,     2.18,2,    97.34,2,   -0.179,2,    0.000,2
  09AR20120105,  I09S,    48,  1,      3,      3,2,20120130,1934,-50.4917, 115.0090, 3059,   2701.1,   1.0449,  34.7184,2,  34.7174,2,    205.9,2,    206.0,2,   113.90,2,    31.53,2,     2.22,2,    97.29,2,   -0.179,2,    0.000,2
  09AR20120105,  I09S,    48,  1,      2,      2,2,20120130,1934,-50.4917, 115.0090, 3059,   2898.7,   0.8634,  34.7093,2,  34.7087,2,    209.1,2,    209.0,2,   120.60,2,    31.88,2,     2.25,2,    97.25,2,   -0.182,2,    0.000,2
  09AR20120105,  I09S,    48,  1,      1,      1,2,20120130,1934,-50.4917, 115.0090, 3059,   3094.9,   0.7496,  34.7033,2,  34.7019,2,    211.2,2,    211.0,2,   125.90,2,    31.98,2,     2.26,2,    97.29,2,   -0.181,2,    0.000,2