BOTTLE,20220815CCHSIOAMB
EXPOCODE,SECT_ID,STNNBR,CASTNO,BTLNBR,BTLNBR_FLAG_W,DATE,TIME,LATITUDE,LONGITUDE,DEPTH,CTDPRS,CTDTMP,CTDSAL,CTDSAL_FLAG_W,SALNTY,SALNTY_FLAG_W,CTDOXY,CTDOXY_FLAG_W,OXYGEN,OXYGEN_FLAG_W,SILCAT,SILCAT_FLAG_W,NITRAT,NITRAT_FLAG_W,NITRIT,NITRIT_FLAG_W,PHSPHT,PHSPHT_FLAG_W,TCARBN,TCARBN_FLAG_W,ALKALI,ALKALI_FLAG_W,PH_TOT,PH_TOT_FLAG_W,PH_TMP,POC,POC_FLAG_W,PON,PON_FLAG_W,FUCO,FUCO_FLAG_W,ALPHA-BETA-CAR,ALPHA-BETA-CAR_FLAG_W,ALLO,ALLO_FLAG_W,BUT-FUCO,BUT-FUCO_FLAG_W,CHL_C1C2,CHL_C1C2_FLAG_W,CHL_C3,CHL_C3_FLAG_W,CHLIDE_A,CHLIDE_A_FLAG_W,DIADINO,DIADINO_FLAG_W,DIATO,DIATO_FLAG_W,DV_CHL_A,DV_CHL_A_FLAG_W,DV_CHL_B,DV_CHL_B_FLAG_W,GYRO,GYRO_FLAG_W,HEX-FUCO,HEX-FUCO_FLAG_W,LUT,LUT_FLAG_W,MV_CHL_A,MV_CHL_A_FLAG_W,MV_CHL_B,MV_CHL_B_FLAG_W,NEO,NEO_FLAG_W,PERID,PERID_FLAG_W,PHIDE_A,PHIDE_A_FLAG_W,PHYTIN_A,PHYTIN_A_FLAG_W,PRAS,PRAS_FLAG_W,TOT_CHL_A,TOT_CHL_A_FLAG_W,TOT_CHL_B,TOT_CHL_B_FLAG_W,TOT_CHL_C,TOT_CHL_C_FLAG_W,VIOLA,VIOLA_FLAG_W,ZEA,ZEA_FLAG_W,THETA,BTL_DATE,BTL_TIME
,,,,,,,,,,METERS,DBAR,ITS-90,PSS-78,,PSS-78,,UMOL/KG,,UMOL/KG,,UMOL/KG,,UMOL/KG,,UMOL/KG,,UMOL/KG,,UMOL/KG,,UMOL/KG,,,,DEG C,uG/KG,,ug/kg,,NMOL/KG,,MG/M^3,,MG/M^3,,MG/M^3,,MG/M^3,,MG/M^3,,MG/M^3,,MG/M^3,,MG/M^3,,MG/M^3,,MG/M^3,,MG/M^3,,MG/M^3,,MG/M^3,,MG/M^3,,MG/M^3,,MG/M^3,,MG/M^3,,MG/M^3,,MG/M^3,,MG/M^3,,MG/M^3,,MG/M^3,,MG/M^3,,MG/M^3,,MG/M^3,,DEG C,,
06AQ20141202,        A12,      14,          1,         24,2,20141211,       1513,   -54.9990,    -0.0013,       2208,    15.5,  -0.5368,  33.8636,2,-999.0000,9,    355.4,2,   360.7,2,   41.41,2,   24.08,2,    0.27,2,    1.54,2,  2170.8,2,  2296.6,2,-999.0000,9,  -999.00,     -999.0,9,     -999.0,9,     -999.0,9,     -999.0,9,     -999.0,9,     -999.0,9,     -999.0,9,     -999.0,9,     -999.0,9,     -999.0,9,     -999.0,9,     -999.0,9,     -999.0,9,     -999.0,9,     -999.0,9,     -999.0,9,     -999.0,9,     -999.0,9,     -999.0,9,     -999.0,9,     -999.0,9,     -999.0,9,     -999.0,9,     -999.0,9,     -999.0,9,     -999.0,9,     -999.0,9,     -999.0,9,  -0.5373,20141211,       1555
06AQ20141202,        A12,      14,          1,         23,2,20141211,       1513,   -54.9990,    -0.0013,       2208,    14.6,  -0.5466,  33.8634,2,-999.0000,9,    355.3,2,   360.3,2,   41.41,2,   24.03,2,    0.27,2,    1.56,2,  2169.2,2,  2295.2,2,-999.0000,9,  -999.00,     -999.0,9,     -999.0,9,     -999.0,9,     -999.0,9,     -999.0,9,     -999.0,9,     -999.0,9,     -999.0,9,     -999.0,9,     -999.0,9,     -999.0,9,     -999.0,9,     -999.0,9,     -999.0,9,     -999.0,9,     -999.0,9,     -999.0,9,     -999.0,9,     -999.0,9,     -999.0,9,     -999.0,9,     -999.0,9,     -999.0,9,     -999.0,9,     -999.0,9,     -999.0,9,     -999.0,9,     -999.0,9,  -0.5470,20141211,       1555
06AQ20141202,        A12,      14,          1,         22,2,20141211,       1513,   -54.9990,    -0.0013,       2208,    25.1,  -0.5513,  33.8632,2,-999.0000,9,    355.3,2,   359.9,2,   41.31,2,   23.96,2,    0.27,2,    1.56,2,  2169.0,2,  2296.6,2,-999.0000,9,  -999.00,     -999.0,9,     -999.0,9,     -999.0,9,     -999.0,9,     -999.0,9,     -999.0,9,     -999.0,9,     -999.0,9,     -999.0,9,     -999.0,9,     -999.0,9,     -999.0,9,     -999.0,9,     -999.0,9,     -999.0,9,     -999.0,9,     -999.0,9,     -999.0,9,     -999.0,9,     -999.0,9,     -999.0,9,     -999.0,9,     -999.0,9,     -999.0,9,     -999.0,9,     -999.0,9,     -999.0,9,     -999.0,9,  -0.5520,20141211,       1554
06AQ20141202,        A12,      14,          1,         21,2,20141211,       1513,   -54.9990,    -0.0013,       2208,    24.6,  -0.5512,  33.8635,2,-999.0000,9,    355.1,2,   359.7,2,   41.51,2,   24.09,2,    0.28,2,    1.57,2,  2168.3,2,  2296.2,2,-999.0000,9,  -999.00,     -999.0,9,     -999.0,9,     -999.0,9,     -999.0,9,     -999.0,9,     -999.0,9,     -999.0,9,     -999.0,9,     -999.0,9,     -999.0,9,     -999.0,9,     -999.0,9,     -999.0,9,     -999.0,9,     -999.0,9,     -999.0,9,     -999.0,9,     -999.0,9,     -999.0,9,     -999.0,9,     -999.0,9,     -999.0,9,     -999.0,9,     -999.0,9,     -999.0,9,     -999.0,9,     -999.0,9,     -999.0,9,  -0.5519,20141211,       1554
06AQ20141202,        A12,      14,          1,         20,2,20141211,       1513,   -54.9990,    -0.0013,       2208,    54.7,  -0.6005,  33.8702,2,-999.0000,9,    353.5,2,   358.7,2,   41.70,2,   24.17,2,    0.27,2,    1.59,2,  2172.3,2,  2296.4,2,-999.0000,9,  -999.00,     -999.0,9,     -999.0,9,     -999.0,9,     -999.0,9,     -999.0,9,     -999.0,9,     -999.0,9,     -999.0,9,     -999.0,9,     -999.0,9,     -999.0,9,     -999.0,9,     -999.0,9,     -999.0,9,     -999.0,9,     -999.0,9,     -999.0,9,     -999.0,9,     -999.0,9,     -999.0,9,     -999.0,9,     -999.0,9,     -999.0,9,     -999.0,9,     -999.0,9,     -999.0,9,     -999.0,9,     -999.0,9,  -0.6021,20141211,       1553
06AQ20141202,        A12,      14,          1,         19,2,20141211,       1513,   -54.9990,    -0.0013,       2208,    55.1,  -0.6002,  33.8680,2,-999.0000,9,    353.5,2,   358.6,2,   41.70,2,   24.30,2,    0.27,2,    1.65,2,  2172.3,2,  2292.1,2,-999.0000,9,  -999.00,     -999.0,9,     -999.0,9,     -999.0,9,     -999.0,9,     -999.0,9,     -999.0,9,     -999.0,9,     -999.0,9,     -999.0,9,     -999.0,9,     -999.0,9,     -999.0,9,     -999.0,9,     -999.0,9,     -999.0,9,     -999.0,9,     -999.0,9,     -999.0,9,     -999.0,9,     -999.0,9,     -999.0,9,     -999.0,9,     -999.0,9,     -999.0,9,     -999.0,9,     -999.0,9,     -999.0,9,     -999.0,9,  -0.6018,20141211,       1553
06AQ20141202,        A12,      14,          1,         18,2,20141211,       1513,   -54.9990,    -0.0013,       2208,    74.7,  -0.7724,  33.9531,2,-999.0000,9,    345.5,2,   347.9,2,   46.88,2,   26.02,2,    0.25,2,    1.85,2,  2188.1,2,  2298.6,2,-999.0000,9,  -999.00,     -999.0,9,     -999.0,9,     -999.0,9,     -999.0,9,     -999.0,9,     -999.0,9,     -999.0,9,     -999.0,9,     -999.0,9,     -999.0,9,     -999.0,9,     -999.0,9,     -999.0,9,     -999.0,9,     -999.0,9,     -999.0,9,     -999.0,9,     -999.0,9,     -999.0,9,     -999.0,9,     -999.0,9,     -999.0,9,     -999.0,9,     -999.0,9,     -999.0,9,     -999.0,9,     -999.0,9,     -999.0,9,  -0.7745,20141211,       1551
06AQ20141202,        A12,      14,          1,         17,2,20141211,       1513,   -54.9990,    -0.0013,       2208,   100.3,  -0.6994,  34.0301,2,-999.0000,9,    321.4,2,   323.0,2,   53.61,2,   27.91,2,    0.19,2,    1.98,2,  2201.0,2,  2303.2,2,-999.0000,9,  -999.00,     -999.0,9,     -999.0,9,     -999.0,9,     -999.0,9,     -999.0,9,     -999.0,9,     -999.0,9,     -999.0,9,     -999.0,9,     -999.0,9,     -999.0,9,     -999.0,9,     -999.0,9,     -999.0,9,     -999.0,9,     -999.0,9,     -999.0,9,     -999.0,9,     -999.0,9,     -999.0,9,     -999.0,9,     -999.0,9,     -999.0,9,     -999.0,9,     -999.0,9,     -999.0,9,     -999.0,9,     -999.0,9,  -0.7023,20141211,       1550
06AQ20141202,        A12,      14,          1,         16,2,20141211,       1513,   -54.9990,    -0.0013,       2208,   126.1,  -0.0956,  34.1797,2,-999.0000,9,    266.9,2,   279.0,2,   60.83,2,   30.41,2,    0.10,2,    2.14,2,  2219.0,2,  2308.6,2,-999.0000,9,  -999.00,     -999.0,9,     -999.0,9,     -999.0,9,     -999.0,9,     -999.0,9,     -999.0,9,     -999.0,9,     -999.0,9,     -999.0,9,     -999.0,9,     -999.0,9,     -999.0,9,     -999.0,9,     -999.0,9,     -999.0,9,     -999.0,9,     -999.0,9,     -999.0,9,     -999.0,9,     -999.0,9,     -999.0,9,     -999.0,9,     -999.0,9,     -999.0,9,     -999.0,9,     -999.0,9,     -999.0,9,     -999.0,9,  -0.1000,20141211,       1549
06AQ20141202,        A12,      14,          1,         15,2,20141211,       1513,   -54.9990,    -0.0013,       2208,   151.5,   0.7927,  34.3403,2,-999.0000,9,    222.0,2,   227.5,2,   69.22,2,   33.20,2,    0.04,2,    2.29,2,  2239.0,2,  2319.2,2,-999.0000,9,  -999.00,     -999.0,9,     -999.0,9,     -999.0,9,     -999.0,9,     -999.0,9,     -999.0,9,     -999.0,9,     -999.0,9,     -999.0,9,     -999.0,9,     -999.0,9,     -999.0,9,     -999.0,9,     -999.0,9,     -999.0,9,     -999.0,9,     -999.0,9,     -999.0,9,     -999.0,9,     -999.0,9,     -999.0,9,     -999.0,9,     -999.0,9,     -999.0,9,     -999.0,9,     -999.0,9,     -999.0,9,     -999.0,9,   0.7862,20141211,       1548
06AQ20141202,        A12,      14,          1,         14,2,20141211,       1513,   -54.9990,    -0.0013,       2208,   201.5,   1.5792,  34.4840,2,-999.0000,9,    184.0,2,   187.9,2,   77.02,2,   34.56,2,    0.01,2,    2.38,2,  2254.9,2,  2328.9,2,-999.0000,9,  -999.00,     -999.0,9,     -999.0,9,     -999.0,9,     -999.0,9,     -999.0,9,     -999.0,9,     -999.0,9,     -999.0,9,     -999.0,9,     -999.0,9,     -999.0,9,     -999.0,9,     -999.0,9,     -999.0,9,     -999.0,9,     -999.0,9,     -999.0,9,     -999.0,9,     -999.0,9,     -999.0,9,     -999.0,9,     -999.0,9,     -999.0,9,     -999.0,9,     -999.0,9,     -999.0,9,     -999.0,9,     -999.0,9,   1.5691,20141211,       1547
06AQ20141202,        A12,      14,          1,         13,2,20141211,       1513,   -54.9990,    -0.0013,       2208,   251.8,   1.8230,  34.5724,2,-999.0000,9,    173.9,2,   177.2,2,   81.51,2,   34.34,2,    0.00,2,    2.37,2,  2260.9,2,  2334.8,2,-999.0000,9,  -999.00,     -999.0,9,     -999.0,9,     -999.0,9,     -999.0,9,     -999.0,9,     -999.0,9,     -999.0,9,     -999.0,9,     -999.0,9,     -999.0,9,     -999.0,9,     -999.0,9,     -999.0,9,     -999.0,9,     -999.0,9,     -999.0,9,     -999.0,9,     -999.0,9,     -999.0,9,     -999.0,9,     -999.0,9,     -999.0,9,     -999.0,9,     -999.0,9,     -999.0,9,     -999.0,9,     -999.0,9,     -999.0,9,   1.8098,20141211,       1545
06AQ20141202,        A12,      14,          1,         12,2,20141211,       1513,   -54.9990,    -0.0013,       2208,   302.7,   1.8464,  34.6053,2,-999.0000,9,    173.1,2,   177.7,2,   83.56,2,   34.22,2,    0.00,2,    2.34,2,  2261.8,2,  2340.5,2,-999.0000,9,  -999.00,     -999.0,9,     -999.0,9,     -999.0,9,     -999.0,9,     -999.0,9,     -999.0,9,     -999.0,9,     -999.0,9,     -999.0,9,     -999.0,9,     -999.0,9,     -999.0,9,     -999.0,9,     -999.0,9,     -999.0,9,     -999.0,9,     -999.0,9,     -999.0,9,     -999.0,9,     -999.0,9,     -999.0,9,     -999.0,9,     -999.0,9,     -999.0,9,     -999.0,9,     -999.0,9,     -999.0,9,     -999.0,9,   1.8303,20141211,       1544
06AQ20141202,        A12,      14,          1,         11,2,20141211,       1513,   -54.9990,    -0.0013,       2208,   403.9,   1.8306,  34.6536,2,-999.0000,9,    175.1,2,   177.7,2,   87.07,2,   33.31,2,    0.00,2,    2.28,2,  2261.8,2,  2343.5,2,-999.0000,9,  -999.00,     -999.0,9,     -999.0,9,     -999.0,9,     -999.0,9,     -999.0,9,     -999.0,9,     -999.0,9,     -999.0,9,     -999.0,9,     -999.0,9,     -999.0,9,     -999.0,9,     -999.0,9,     -999.0,9,     -999.0,9,     -999.0,9,     -999.0,9,     -999.0,9,     -999.0,9,     -999.0,9,     -999.0,9,     -999.0,9,     -999.0,9,     -999.0,9,     -999.0,9,     -999.0,9,     -999.0,9,     -999.0,9,   1.8088,20141211,       1541
06AQ20141202,        A12,      14,          1,         10,2,20141211,       1513,   -54.9990,    -0.0013,       2208,   504.4,   1.7791,  34.6780,2,-999.0000,9,    178.3,2,   181.7,2,   89.21,2,   32.43,2,    0.00,2,    2.24,2,  2261.7,2,  2347.1,2,-999.0000,9,  -999.00,     -999.0,9,     -999.0,9,     -999.0,9,     -999.0,9,     -999.0,9,     -999.0,9,     -999.0,9,     -999.0,9,     -999.0,9,     -999.0,9,     -999.0,9,     -999.0,9,     -999.0,9,     -999.0,9,     -999.0,9,     -999.0,9,     -999.0,9,     -999.0,9,     -999.0,9,     -999.0,9,     -999.0,9,     -999.0,9,     -999.0,9,     -999.0,9,     -999.0,9,     -999.0,9,     -999.0,9,     -999.0,9,   1.7516,20141211,       1539
06AQ20141202,        A12,      14,          1,          9,2,20141211,       1513,   -54.9990,    -0.0013,       2208,   607.0,   1.6414,  34.6945,2,-999.0000,9,    183.9,2,   189.2,2,   92.24,2,   32.04,2,    0.00,2,    2.23,2,  2261.9,2,  2349.8,2,-999.0000,9,  -999.00,     -999.0,9,     -999.0,9,     -999.0,9,     -999.0,9,     -999.0,9,     -999.0,9,     -999.0,9,     -999.0,9,     -999.0,9,     -999.0,9,     -999.0,9,     -999.0,9,     -999.0,9,     -999.0,9,     -999.0,9,     -999.0,9,     -999.0,9,     -999.0,9,     -999.0,9,     -999.0,9,     -999.0,9,     -999.0,9,     -999.0,9,     -999.0,9,     -999.0,9,     -999.0,9,     -999.0,9,     -999.0,9,   1.6085,20141211,       1537
06AQ20141202,        A12,      14,          1,          8,2,20141211,       1513,   -54.9990,    -0.0013,       2208,   707.8,   1.4862,  34.6989,2,-999.0000,9,    187.9,2,   192.2,2,   94.97,2,   31.81,2,    0.00,2,    2.21,2,  2259.7,2,  2351.8,2,-999.0000,9,  -999.00,     -999.0,9,     -999.0,9,     -999.0,9,     -999.0,9,     -999.0,9,     -999.0,9,     -999.0,9,     -999.0,9,     -999.0,9,     -999.0,9,     -999.0,9,     -999.0,9,     -999.0,9,     -999.0,9,     -999.0,9,     -999.0,9,     -999.0,9,     -999.0,9,     -999.0,9,     -999.0,9,     -999.0,9,     -999.0,9,     -999.0,9,     -999.0,9,     -999.0,9,     -999.0,9,     -999.0,9,     -999.0,9,   1.4481,20141211,       1534
06AQ20141202,        A12,      14,          1,          7,2,20141211,       1513,   -54.9990,    -0.0013,       2208,   810.6,   1.4168,  34.7071,2,-999.0000,9,    190.7,2,   195.8,2,   96.43,2,   31.30,2,    0.00,2,    2.19,2,  2260.7,2,  2353.3,2,-999.0000,9,  -999.00,     -999.0,9,     -999.0,9,     -999.0,9,     -999.0,9,     -999.0,9,     -999.0,9,     -999.0,9,     -999.0,9,     -999.0,9,     -999.0,9,     -999.0,9,     -999.0,9,     -999.0,9,     -999.0,9,     -999.0,9,     -999.0,9,     -999.0,9,     -999.0,9,     -999.0,9,     -999.0,9,     -999.0,9,     -999.0,9,     -999.0,9,     -999.0,9,     -999.0,9,     -999.0,9,     -999.0,9,     -999.0,9,   1.3729,20141211,       1532
06AQ20141202,        A12,      14,          1,          6,2,20141211,       1513,   -54.9990,    -0.0013,       2208,   910.0,   1.2970,  34.7086,2,-999.0000,9,    193.3,2,   198.0,2,   99.07,2,   31.42,2,   -0.01,2,    2.19,2,  2260.6,2,  2354.1,2,-999.0000,9,  -999.00,     -999.0,9,     -999.0,9,     -999.0,9,     -999.0,9,     -999.0,9,     -999.0,9,     -999.0,9,     -999.0,9,     -999.0,9,     -999.0,9,     -999.0,9,     -999.0,9,     -999.0,9,     -999.0,9,     -999.0,9,     -999.0,9,     -999.0,9,     -999.0,9,     -999.0,9,     -999.0,9,     -999.0,9,     -999.0,9,     -999.0,9,     -999.0,9,     -999.0,9,     -999.0,9,     -999.0,9,     -999.0,9,   1.2478,20141211,       1530
06AQ20141202,        A12,      14,          1,          5,2,20141211,       1513,   -54.9990,    -0.0013,       2208,  1012.2,   1.2098,  34.7084,2,-999.0000,9,    194.9,2,   199.6,2,  101.51,2,   31.73,2,    0.00,2,    2.19,2,  2256.2,2,  2353.0,2,-999.0000,9,  -999.00,     -999.0,9,     -999.0,9,     -999.0,9,     -999.0,9,     -999.0,9,     -999.0,9,     -999.0,9,     -999.0,9,     -999.0,9,     -999.0,9,     -999.0,9,     -999.0,9,     -999.0,9,     -999.0,9,     -999.0,9,     -999.0,9,     -999.0,9,     -999.0,9,     -999.0,9,     -999.0,9,     -999.0,9,     -999.0,9,     -999.0,9,     -999.0,9,     -999.0,9,     -999.0,9,     -999.0,9,     -999.0,9,   1.1550,20141211,       1527
06AQ20141202,        A12,      14,          1,          4,2,20141211,       1513,   -54.9990,    -0.0013,       2208,  1214.7,   0.9506,  34.6999,2,-999.0000,9,    198.4,2,   203.6,2,  107.27,2,   31.69,2,    0.00,2,    2.19,2,  2260.2,2,  2355.6,2,-999.0000,9,  -999.00,     -999.0,9,     -999.0,9,     -999.0,9,     -999.0,9,     -999.0,9,     -999.0,9,     -999.0,9,     -999.0,9,     -999.0,9,     -999.0,9,     -999.0,9,     -999.0,9,     -999.0,9,     -999.0,9,     -999.0,9,     -999.0,9,     -999.0,9,     -999.0,9,     -999.0,9,     -999.0,9,     -999.0,9,     -999.0,9,     -999.0,9,     -999.0,9,     -999.0,9,     -999.0,9,     -999.0,9,     -999.0,9,   0.8852,20141211,       1523
06AQ20141202,        A12,      14,          1,          3,2,20141211,       1513,   -54.9990,    -0.0013,       2208,  1417.4,   0.7665,  34.6939,2,-999.0000,9,    200.4,2,   207.0,2,  112.44,2,   32.11,2,    0.00,2,    2.21,2,  2261.6,2,  2354.8,2,-999.0000,9,  -999.00,     -999.0,9,     -999.0,9,     -999.0,9,     -999.0,9,     -999.0,9,     -999.0,9,     -999.0,9,     -999.0,9,     -999.0,9,     -999.0,9,     -999.0,9,     -999.0,9,     -999.0,9,     -999.0,9,     -999.0,9,     -999.0,9,     -999.0,9,     -999.0,9,     -999.0,9,     -999.0,9,     -999.0,9,     -999.0,9,     -999.0,9,     -999.0,9,     -999.0,9,     -999.0,9,     -999.0,9,     -999.0,9,   0.6899,20141211,       1518
06AQ20141202,        A12,      14,          1,          2,2,20141211,       1513,   -54.9990,    -0.0013,       2208,  1620.4,   0.6110,  34.6886,2,-999.0000,9,    203.0,2,   208.6,2,  117.52,2,   32.27,2,    0.00,2,    2.22,2,  2262.2,2,  2356.3,2,-999.0000,9,  -999.00,     -999.0,9,     -999.0,9,     -999.0,9,     -999.0,9,     -999.0,9,     -999.0,9,     -999.0,9,     -999.0,9,     -999.0,9,     -999.0,9,     -999.0,9,     -999.0,9,     -999.0,9,     -999.0,9,     -999.0,9,     -999.0,9,     -999.0,9,     -999.0,9,     -999.0,9,     -999.0,9,     -999.0,9,     -999.0,9,     -999.0,9,     -999.0,9,     -999.0,9,     -999.0,9,     -999.0,9,     -999.0,9,   0.5227,20141211,       1514
06AQ20141202,        A12,      14,          1,          1,2,20141211,       1513,   -54.9990,    -0.0013,       2208,  1662.8,   0.6022,  34.6882,2,-999.0000,9,    203.0,2,   208.7,2,  117.71,2,   32.32,2,    0.00,2,    2.22,2,  2255.6,2,  2357.1,2,-999.0000,9,  -999.00,     -999.0,9,     -999.0,9,     -999.0,9,     -999.0,9,     -999.0,9,     -999.0,9,     -999.0,9,     -999.0,9,     -999.0,9,     -999.0,9,     -999.0,9,     -999.0,9,     -999.0,9,     -999.0,9,     -999.0,9,     -999.0,9,     -999.0,9,     -999.0,9,     -999.0,9,     -999.0,9,     -999.0,9,     -999.0,9,     -999.0,9,     -999.0,9,     -999.0,9,     -999.0,9,     -999.0,9,     -999.0,9,   0.5111,20141211,       1513