BOTTLE,20220815CCHSIOAMB
EXPOCODE,SECT_ID,STNNBR,CASTNO,BTLNBR,BTLNBR_FLAG_W,DATE,TIME,LATITUDE,LONGITUDE,DEPTH,CTDPRS,CTDTMP,CTDSAL,CTDSAL_FLAG_W,SALNTY,SALNTY_FLAG_W,CTDOXY,CTDOXY_FLAG_W,OXYGEN,OXYGEN_FLAG_W,SILCAT,SILCAT_FLAG_W,NITRAT,NITRAT_FLAG_W,NITRIT,NITRIT_FLAG_W,PHSPHT,PHSPHT_FLAG_W,TCARBN,TCARBN_FLAG_W,ALKALI,ALKALI_FLAG_W,PH_TOT,PH_TOT_FLAG_W,PH_TMP,POC,POC_FLAG_W,PON,PON_FLAG_W,FUCO,FUCO_FLAG_W,ALPHA-BETA-CAR,ALPHA-BETA-CAR_FLAG_W,ALLO,ALLO_FLAG_W,BUT-FUCO,BUT-FUCO_FLAG_W,CHL_C1C2,CHL_C1C2_FLAG_W,CHL_C3,CHL_C3_FLAG_W,CHLIDE_A,CHLIDE_A_FLAG_W,DIADINO,DIADINO_FLAG_W,DIATO,DIATO_FLAG_W,DV_CHL_A,DV_CHL_A_FLAG_W,DV_CHL_B,DV_CHL_B_FLAG_W,GYRO,GYRO_FLAG_W,HEX-FUCO,HEX-FUCO_FLAG_W,LUT,LUT_FLAG_W,MV_CHL_A,MV_CHL_A_FLAG_W,MV_CHL_B,MV_CHL_B_FLAG_W,NEO,NEO_FLAG_W,PERID,PERID_FLAG_W,PHIDE_A,PHIDE_A_FLAG_W,PHYTIN_A,PHYTIN_A_FLAG_W,PRAS,PRAS_FLAG_W,TOT_CHL_A,TOT_CHL_A_FLAG_W,TOT_CHL_B,TOT_CHL_B_FLAG_W,TOT_CHL_C,TOT_CHL_C_FLAG_W,VIOLA,VIOLA_FLAG_W,ZEA,ZEA_FLAG_W,THETA,BTL_DATE,BTL_TIME
,,,,,,,,,,METERS,DBAR,ITS-90,PSS-78,,PSS-78,,UMOL/KG,,UMOL/KG,,UMOL/KG,,UMOL/KG,,UMOL/KG,,UMOL/KG,,UMOL/KG,,UMOL/KG,,,,DEG C,uG/KG,,ug/kg,,NMOL/KG,,MG/M^3,,MG/M^3,,MG/M^3,,MG/M^3,,MG/M^3,,MG/M^3,,MG/M^3,,MG/M^3,,MG/M^3,,MG/M^3,,MG/M^3,,MG/M^3,,MG/M^3,,MG/M^3,,MG/M^3,,MG/M^3,,MG/M^3,,MG/M^3,,MG/M^3,,MG/M^3,,MG/M^3,,MG/M^3,,MG/M^3,,MG/M^3,,MG/M^3,,DEG C,,
06AQ20141202,        A12,      40,         11,         24,2,20150103,       0517,   -70.5232,    -7.9593,       1014,     5.3,  -1.7764,  34.2499,2,-999.0000,9,    332.1,2,   335.4,2,   61.12,2,   29.84,2,    0.06,2,    1.97,2,  -999.0,9,  -999.0,9,-999.0000,9,  -999.00,     -999.0,9,     -999.0,9,     -999.0,9,     -999.0,9,     -999.0,9,     -999.0,9,     -999.0,9,     -999.0,9,     -999.0,9,     -999.0,9,     -999.0,9,     -999.0,9,     -999.0,9,     -999.0,9,     -999.0,9,     -999.0,9,     -999.0,9,     -999.0,9,     -999.0,9,     -999.0,9,     -999.0,9,     -999.0,9,     -999.0,9,     -999.0,9,     -999.0,9,     -999.0,9,     -999.0,9,     -999.0,9,  -1.7765,20150103,       0538
06AQ20141202,        A12,      40,         11,         23,2,20150103,       0517,   -70.5232,    -7.9593,       1014,    10.7,  -1.7320,  34.2536,2,-999.0000,9,    332.7,2,   335.6,2,   60.83,2,   29.91,2,    0.06,2,    2.00,2,  -999.0,9,  -999.0,9,-999.0000,9,  -999.00,     -999.0,9,     -999.0,9,     -999.0,9,     -999.0,9,     -999.0,9,     -999.0,9,     -999.0,9,     -999.0,9,     -999.0,9,     -999.0,9,     -999.0,9,     -999.0,9,     -999.0,9,     -999.0,9,     -999.0,9,     -999.0,9,     -999.0,9,     -999.0,9,     -999.0,9,     -999.0,9,     -999.0,9,     -999.0,9,     -999.0,9,     -999.0,9,     -999.0,9,     -999.0,9,     -999.0,9,     -999.0,9,  -1.7322,20150103,       0538
06AQ20141202,        A12,      40,         11,         22,2,20150103,       0517,   -70.5232,    -7.9593,       1014,    15.6,  -1.7207,  34.2583,2,-999.0000,9,    334.2,2,   336.5,2,   60.93,2,   29.87,2,    0.06,2,    1.98,2,  -999.0,9,  -999.0,9,-999.0000,9,  -999.00,     -999.0,9,     -999.0,9,     -999.0,9,     -999.0,9,     -999.0,9,     -999.0,9,     -999.0,9,     -999.0,9,     -999.0,9,     -999.0,9,     -999.0,9,     -999.0,9,     -999.0,9,     -999.0,9,     -999.0,9,     -999.0,9,     -999.0,9,     -999.0,9,     -999.0,9,     -999.0,9,     -999.0,9,     -999.0,9,     -999.0,9,     -999.0,9,     -999.0,9,     -999.0,9,     -999.0,9,     -999.0,9,  -1.7210,20150103,       0537
06AQ20141202,        A12,      40,         11,         21,2,20150103,       0517,   -70.5232,    -7.9593,       1014,    20.6,  -1.6022,  34.2749,2,-999.0000,9,    335.7,2,   338.3,2,   60.93,2,   29.79,2,    0.06,2,    1.97,2,  -999.0,9,  -999.0,9,-999.0000,9,  -999.00,     -999.0,9,     -999.0,9,     -999.0,9,     -999.0,9,     -999.0,9,     -999.0,9,     -999.0,9,     -999.0,9,     -999.0,9,     -999.0,9,     -999.0,9,     -999.0,9,     -999.0,9,     -999.0,9,     -999.0,9,     -999.0,9,     -999.0,9,     -999.0,9,     -999.0,9,     -999.0,9,     -999.0,9,     -999.0,9,     -999.0,9,     -999.0,9,     -999.0,9,     -999.0,9,     -999.0,9,     -999.0,9,  -1.6026,20150103,       0536
06AQ20141202,        A12,      40,         11,         20,2,20150103,       0517,   -70.5232,    -7.9593,       1014,    25.5,  -1.5667,  34.2815,2,-999.0000,9,    336.7,2,   339.8,2,   60.73,2,   29.65,2,    0.07,2,    1.96,2,  -999.0,9,  -999.0,9,-999.0000,9,  -999.00,     -999.0,9,     -999.0,9,     -999.0,9,     -999.0,9,     -999.0,9,     -999.0,9,     -999.0,9,     -999.0,9,     -999.0,9,     -999.0,9,     -999.0,9,     -999.0,9,     -999.0,9,     -999.0,9,     -999.0,9,     -999.0,9,     -999.0,9,     -999.0,9,     -999.0,9,     -999.0,9,     -999.0,9,     -999.0,9,     -999.0,9,     -999.0,9,     -999.0,9,     -999.0,9,     -999.0,9,     -999.0,9,  -1.5672,20150103,       0536
06AQ20141202,        A12,      40,         11,         19,2,20150103,       0517,   -70.5232,    -7.9593,       1014,    31.2,  -1.5543,  34.2839,2,-999.0000,9,    337.3,2,   340.1,2,   60.83,2,   29.89,2,    0.06,2,    1.96,2,  -999.0,9,  -999.0,9,-999.0000,9,  -999.00,     -999.0,9,     -999.0,9,     -999.0,9,     -999.0,9,     -999.0,9,     -999.0,9,     -999.0,9,     -999.0,9,     -999.0,9,     -999.0,9,     -999.0,9,     -999.0,9,     -999.0,9,     -999.0,9,     -999.0,9,     -999.0,9,     -999.0,9,     -999.0,9,     -999.0,9,     -999.0,9,     -999.0,9,     -999.0,9,     -999.0,9,     -999.0,9,     -999.0,9,     -999.0,9,     -999.0,9,     -999.0,9,  -1.5550,20150103,       0535
06AQ20141202,        A12,      40,         11,         18,2,20150103,       0517,   -70.5232,    -7.9593,       1014,    40.9,  -1.6069,  34.2992,2,-999.0000,9,    334.4,2,   338.7,2,   61.02,2,   30.14,2,    0.05,2,    2.02,2,  -999.0,9,  -999.0,9,-999.0000,9,  -999.00,     -999.0,9,     -999.0,9,     -999.0,9,     -999.0,9,     -999.0,9,     -999.0,9,     -999.0,9,     -999.0,9,     -999.0,9,     -999.0,9,     -999.0,9,     -999.0,9,     -999.0,9,     -999.0,9,     -999.0,9,     -999.0,9,     -999.0,9,     -999.0,9,     -999.0,9,     -999.0,9,     -999.0,9,     -999.0,9,     -999.0,9,     -999.0,9,     -999.0,9,     -999.0,9,     -999.0,9,     -999.0,9,  -1.6078,20150103,       0534
06AQ20141202,        A12,      40,         11,         17,2,20150103,       0517,   -70.5232,    -7.9593,       1014,    50.6,  -1.6498,  34.3299,2,-999.0000,9,    337.4,2,   340.4,2,   60.63,2,   29.95,2,    0.04,2,    1.97,2,  -999.0,9,  -999.0,9,-999.0000,9,  -999.00,     -999.0,9,     -999.0,9,     -999.0,9,     -999.0,9,     -999.0,9,     -999.0,9,     -999.0,9,     -999.0,9,     -999.0,9,     -999.0,9,     -999.0,9,     -999.0,9,     -999.0,9,     -999.0,9,     -999.0,9,     -999.0,9,     -999.0,9,     -999.0,9,     -999.0,9,     -999.0,9,     -999.0,9,     -999.0,9,     -999.0,9,     -999.0,9,     -999.0,9,     -999.0,9,     -999.0,9,     -999.0,9,  -1.6508,20150103,       0528
06AQ20141202,        A12,      40,         11,         16,2,20150103,       0517,   -70.5232,    -7.9593,       1014,    61.0,  -1.7053,  34.3339,2,-999.0000,9,    333.8,2,   337.1,2, -999.00,9, -999.00,9, -999.00,9, -999.00,9,  -999.0,9,  -999.0,9,-999.0000,9,  -999.00,     -999.0,9,     -999.0,9,     -999.0,9,     -999.0,9,     -999.0,9,     -999.0,9,     -999.0,9,     -999.0,9,     -999.0,9,     -999.0,9,     -999.0,9,     -999.0,9,     -999.0,9,     -999.0,9,     -999.0,9,     -999.0,9,     -999.0,9,     -999.0,9,     -999.0,9,     -999.0,9,     -999.0,9,     -999.0,9,     -999.0,9,     -999.0,9,     -999.0,9,     -999.0,9,     -999.0,9,     -999.0,9,  -1.7065,20150103,       0528
06AQ20141202,        A12,      40,         11,         15,2,20150103,       0517,   -70.5232,    -7.9593,       1014,    61.0,  -1.7068,  34.3349,2,-999.0000,9,    333.9,2,   337.1,2,   60.14,2,   30.40,2,    0.05,2,    2.01,2,  -999.0,9,  -999.0,9,-999.0000,9,  -999.00,     -999.0,9,     -999.0,9,     -999.0,9,     -999.0,9,     -999.0,9,     -999.0,9,     -999.0,9,     -999.0,9,     -999.0,9,     -999.0,9,     -999.0,9,     -999.0,9,     -999.0,9,     -999.0,9,     -999.0,9,     -999.0,9,     -999.0,9,     -999.0,9,     -999.0,9,     -999.0,9,     -999.0,9,     -999.0,9,     -999.0,9,     -999.0,9,     -999.0,9,     -999.0,9,     -999.0,9,     -999.0,9,  -1.7080,20150103,       0527
06AQ20141202,        A12,      40,         11,         14,2,20150103,       0517,   -70.5232,    -7.9593,       1014,    71.2,  -1.7720,  34.3357,2,-999.0000,9,    328.2,2,   332.3,2,   61.22,2,   30.96,2,    0.04,2,    2.04,2,  -999.0,9,  -999.0,9,-999.0000,9,  -999.00,     -999.0,9,     -999.0,9,     -999.0,9,     -999.0,9,     -999.0,9,     -999.0,9,     -999.0,9,     -999.0,9,     -999.0,9,     -999.0,9,     -999.0,9,     -999.0,9,     -999.0,9,     -999.0,9,     -999.0,9,     -999.0,9,     -999.0,9,     -999.0,9,     -999.0,9,     -999.0,9,     -999.0,9,     -999.0,9,     -999.0,9,     -999.0,9,     -999.0,9,     -999.0,9,     -999.0,9,     -999.0,9,  -1.7734,20150103,       0527
06AQ20141202,        A12,      40,         11,         13,2,20150103,       0517,   -70.5232,    -7.9593,       1014,    80.4,  -1.8050,  34.3384,2,-999.0000,9,    327.3,2,   330.9,2,   61.31,2,   31.21,2,    0.04,2,    2.04,2,  -999.0,9,  -999.0,9,-999.0000,9,  -999.00,     -999.0,9,     -999.0,9,     -999.0,9,     -999.0,9,     -999.0,9,     -999.0,9,     -999.0,9,     -999.0,9,     -999.0,9,     -999.0,9,     -999.0,9,     -999.0,9,     -999.0,9,     -999.0,9,     -999.0,9,     -999.0,9,     -999.0,9,     -999.0,9,     -999.0,9,     -999.0,9,     -999.0,9,     -999.0,9,     -999.0,9,     -999.0,9,     -999.0,9,     -999.0,9,     -999.0,9,     -999.0,9,  -1.8066,20150103,       0526
06AQ20141202,        A12,      40,         11,         12,2,20150103,       0517,   -70.5232,    -7.9593,       1014,    91.4,  -1.8258,  34.3425,2,-999.0000,9,    325.8,2,   330.0,2,   61.41,2,   31.36,2,    0.04,2,    2.07,2,  -999.0,9,  -999.0,9,-999.0000,9,  -999.00,     -999.0,9,     -999.0,9,     -999.0,9,     -999.0,9,     -999.0,9,     -999.0,9,     -999.0,9,     -999.0,9,     -999.0,9,     -999.0,9,     -999.0,9,     -999.0,9,     -999.0,9,     -999.0,9,     -999.0,9,     -999.0,9,     -999.0,9,     -999.0,9,     -999.0,9,     -999.0,9,     -999.0,9,     -999.0,9,     -999.0,9,     -999.0,9,     -999.0,9,     -999.0,9,     -999.0,9,     -999.0,9,  -1.8276,20150103,       0525
06AQ20141202,        A12,      40,         11,         11,2,20150103,       0517,   -70.5232,    -7.9593,       1014,   101.5,  -1.8520,  34.3450,2,-999.0000,9,    325.2,2,   328.7,2,   61.21,2,   31.37,2,    0.03,2,    2.08,2,  -999.0,9,  -999.0,9,-999.0000,9,  -999.00,     -999.0,9,     -999.0,9,     -999.0,9,     -999.0,9,     -999.0,9,     -999.0,9,     -999.0,9,     -999.0,9,     -999.0,9,     -999.0,9,     -999.0,9,     -999.0,9,     -999.0,9,     -999.0,9,     -999.0,9,     -999.0,9,     -999.0,9,     -999.0,9,     -999.0,9,     -999.0,9,     -999.0,9,     -999.0,9,     -999.0,9,     -999.0,9,     -999.0,9,     -999.0,9,     -999.0,9,     -999.0,9,  -1.8540,20150103,       0525
06AQ20141202,        A12,      40,         11,         10,2,20150103,       0517,   -70.5232,    -7.9593,       1014,   111.5,  -1.8626,  34.3479,2,-999.0000,9,    324.6,2,   327.6,2,   61.70,2,   31.71,2,    0.02,2,    2.08,2,  -999.0,9,  -999.0,9,-999.0000,9,  -999.00,     -999.0,9,     -999.0,9,     -999.0,9,     -999.0,9,     -999.0,9,     -999.0,9,     -999.0,9,     -999.0,9,     -999.0,9,     -999.0,9,     -999.0,9,     -999.0,9,     -999.0,9,     -999.0,9,     -999.0,9,     -999.0,9,     -999.0,9,     -999.0,9,     -999.0,9,     -999.0,9,     -999.0,9,     -999.0,9,     -999.0,9,     -999.0,9,     -999.0,9,     -999.0,9,     -999.0,9,     -999.0,9,  -1.8648,20150103,       0524
06AQ20141202,        A12,      40,         11,          9,2,20150103,       0517,   -70.5232,    -7.9593,       1014,   121.3,  -1.8726,  34.3492,2,-999.0000,9,    324.3,2,   327.3,2,   62.00,2,   31.94,2,    0.02,2,    2.07,2,  -999.0,9,  -999.0,9,-999.0000,9,  -999.00,     -999.0,9,     -999.0,9,     -999.0,9,     -999.0,9,     -999.0,9,     -999.0,9,     -999.0,9,     -999.0,9,     -999.0,9,     -999.0,9,     -999.0,9,     -999.0,9,     -999.0,9,     -999.0,9,     -999.0,9,     -999.0,9,     -999.0,9,     -999.0,9,     -999.0,9,     -999.0,9,     -999.0,9,     -999.0,9,     -999.0,9,     -999.0,9,     -999.0,9,     -999.0,9,     -999.0,9,     -999.0,9,  -1.8750,20150103,       0523
06AQ20141202,        A12,      40,         11,          8,2,20150103,       0517,   -70.5232,    -7.9593,       1014,   141.6,  -1.8806,  34.3508,2,-999.0000,9,    323.9,2,   326.8,2,   61.51,2,   31.89,2,    0.02,2,    2.09,2,  -999.0,9,  -999.0,9,-999.0000,9,  -999.00,     -999.0,9,     -999.0,9,     -999.0,9,     -999.0,9,     -999.0,9,     -999.0,9,     -999.0,9,     -999.0,9,     -999.0,9,     -999.0,9,     -999.0,9,     -999.0,9,     -999.0,9,     -999.0,9,     -999.0,9,     -999.0,9,     -999.0,9,     -999.0,9,     -999.0,9,     -999.0,9,     -999.0,9,     -999.0,9,     -999.0,9,     -999.0,9,     -999.0,9,     -999.0,9,     -999.0,9,     -999.0,9,  -1.8834,20150103,       0522
06AQ20141202,        A12,      40,         11,          7,2,20150103,       0517,   -70.5232,    -7.9593,       1014,   159.8,  -1.8846,  34.3526,2,-999.0000,9,    323.9,2,  -999.0,9, -999.00,9, -999.00,9, -999.00,9, -999.00,9,  -999.0,9,  -999.0,9,-999.0000,9,  -999.00,     -999.0,9,     -999.0,9,     -999.0,9,     -999.0,9,     -999.0,9,     -999.0,9,     -999.0,9,     -999.0,9,     -999.0,9,     -999.0,9,     -999.0,9,     -999.0,9,     -999.0,9,     -999.0,9,     -999.0,9,     -999.0,9,     -999.0,9,     -999.0,9,     -999.0,9,     -999.0,9,     -999.0,9,     -999.0,9,     -999.0,9,     -999.0,9,     -999.0,9,     -999.0,9,     -999.0,9,     -999.0,9,  -1.8878,20150103,       0521
06AQ20141202,        A12,      40,         11,          6,2,20150103,       0517,   -70.5232,    -7.9593,       1014,   160.6,  -1.8857,  34.3528,2,-999.0000,9,    323.7,2,  -999.0,9, -999.00,9, -999.00,9, -999.00,9, -999.00,9,  -999.0,9,  -999.0,9,-999.0000,9,  -999.00,     -999.0,9,     -999.0,9,     -999.0,9,     -999.0,9,     -999.0,9,     -999.0,9,     -999.0,9,     -999.0,9,     -999.0,9,     -999.0,9,     -999.0,9,     -999.0,9,     -999.0,9,     -999.0,9,     -999.0,9,     -999.0,9,     -999.0,9,     -999.0,9,     -999.0,9,     -999.0,9,     -999.0,9,     -999.0,9,     -999.0,9,     -999.0,9,     -999.0,9,     -999.0,9,     -999.0,9,     -999.0,9,  -1.8889,20150103,       0521
06AQ20141202,        A12,      40,         11,          5,2,20150103,       0517,   -70.5232,    -7.9593,       1014,   161.9,  -1.8856,  34.3529,2,-999.0000,9,    323.7,2,   327.0,2,   61.80,2,   31.97,2,    0.00,2,    2.09,2,  -999.0,9,  -999.0,9,-999.0000,9,  -999.00,     -999.0,9,     -999.0,9,     -999.0,9,     -999.0,9,     -999.0,9,     -999.0,9,     -999.0,9,     -999.0,9,     -999.0,9,     -999.0,9,     -999.0,9,     -999.0,9,     -999.0,9,     -999.0,9,     -999.0,9,     -999.0,9,     -999.0,9,     -999.0,9,     -999.0,9,     -999.0,9,     -999.0,9,     -999.0,9,     -999.0,9,     -999.0,9,     -999.0,9,     -999.0,9,     -999.0,9,     -999.0,9,  -1.8888,20150103,       0521
06AQ20141202,        A12,      40,         11,          4,2,20150103,       0517,   -70.5232,    -7.9593,       1014,   182.3,  -1.9005,  34.3544,2,-999.0000,9,    323.8,2,   327.2,2,   62.00,2,   31.69,2,    0.00,2,    2.08,2,  -999.0,9,  -999.0,9,-999.0000,9,  -999.00,     -999.0,9,     -999.0,9,     -999.0,9,     -999.0,9,     -999.0,9,     -999.0,9,     -999.0,9,     -999.0,9,     -999.0,9,     -999.0,9,     -999.0,9,     -999.0,9,     -999.0,9,     -999.0,9,     -999.0,9,     -999.0,9,     -999.0,9,     -999.0,9,     -999.0,9,     -999.0,9,     -999.0,9,     -999.0,9,     -999.0,9,     -999.0,9,     -999.0,9,     -999.0,9,     -999.0,9,     -999.0,9,  -1.9041,20150103,       0520
06AQ20141202,        A12,      40,         11,          3,2,20150103,       0517,   -70.5232,    -7.9593,       1014,   202.4,  -1.8998,  34.3571,2,-999.0000,9,    322.9,2,   327.0,2,   62.09,2,   31.69,2,    0.00,2,    2.08,2,  -999.0,9,  -999.0,9,-999.0000,9,  -999.00,     -999.0,9,     -999.0,9,     -999.0,9,     -999.0,9,     -999.0,9,     -999.0,9,     -999.0,9,     -999.0,9,     -999.0,9,     -999.0,9,     -999.0,9,     -999.0,9,     -999.0,9,     -999.0,9,     -999.0,9,     -999.0,9,     -999.0,9,     -999.0,9,     -999.0,9,     -999.0,9,     -999.0,9,     -999.0,9,     -999.0,9,     -999.0,9,     -999.0,9,     -999.0,9,     -999.0,9,     -999.0,9,  -1.9039,20150103,       0519
06AQ20141202,        A12,      40,         11,          2,2,20150103,       0517,   -70.5232,    -7.9593,       1014,   222.6,  -1.8982,  34.3578,2,-999.0000,9,    322.7,2,   327.0,2,   62.19,2,   31.69,2,    0.00,2,    2.08,2,  -999.0,9,  -999.0,9,-999.0000,9,  -999.00,     -999.0,9,     -999.0,9,     -999.0,9,     -999.0,9,     -999.0,9,     -999.0,9,     -999.0,9,     -999.0,9,     -999.0,9,     -999.0,9,     -999.0,9,     -999.0,9,     -999.0,9,     -999.0,9,     -999.0,9,     -999.0,9,     -999.0,9,     -999.0,9,     -999.0,9,     -999.0,9,     -999.0,9,     -999.0,9,     -999.0,9,     -999.0,9,     -999.0,9,     -999.0,9,     -999.0,9,     -999.0,9,  -1.9027,20150103,       0518
06AQ20141202,        A12,      40,         11,          1,2,20150103,       0517,   -70.5232,    -7.9593,       1014,   231.8,  -1.8957,  34.3573,2,-999.0000,9,    322.8,2,   326.9,2,   62.29,2,   31.54,2,    0.00,2,    2.07,2,  -999.0,9,  -999.0,9,-999.0000,9,  -999.00,     -999.0,9,     -999.0,9,     -999.0,9,     -999.0,9,     -999.0,9,     -999.0,9,     -999.0,9,     -999.0,9,     -999.0,9,     -999.0,9,     -999.0,9,     -999.0,9,     -999.0,9,     -999.0,9,     -999.0,9,     -999.0,9,     -999.0,9,     -999.0,9,     -999.0,9,     -999.0,9,     -999.0,9,     -999.0,9,     -999.0,9,     -999.0,9,     -999.0,9,     -999.0,9,     -999.0,9,     -999.0,9,  -1.9004,20150103,       0517