BOTTLE,20220815CCHSIOAMB
EXPOCODE,SECT_ID,STNNBR,CASTNO,BTLNBR,BTLNBR_FLAG_W,DATE,TIME,LATITUDE,LONGITUDE,DEPTH,CTDPRS,CTDTMP,CTDSAL,CTDSAL_FLAG_W,SALNTY,SALNTY_FLAG_W,CTDOXY,CTDOXY_FLAG_W,OXYGEN,OXYGEN_FLAG_W,SILCAT,SILCAT_FLAG_W,NITRAT,NITRAT_FLAG_W,NITRIT,NITRIT_FLAG_W,PHSPHT,PHSPHT_FLAG_W,TCARBN,TCARBN_FLAG_W,ALKALI,ALKALI_FLAG_W,PH_TOT,PH_TOT_FLAG_W,PH_TMP,POC,POC_FLAG_W,PON,PON_FLAG_W,FUCO,FUCO_FLAG_W,ALPHA-BETA-CAR,ALPHA-BETA-CAR_FLAG_W,ALLO,ALLO_FLAG_W,BUT-FUCO,BUT-FUCO_FLAG_W,CHL_C1C2,CHL_C1C2_FLAG_W,CHL_C3,CHL_C3_FLAG_W,CHLIDE_A,CHLIDE_A_FLAG_W,DIADINO,DIADINO_FLAG_W,DIATO,DIATO_FLAG_W,DV_CHL_A,DV_CHL_A_FLAG_W,DV_CHL_B,DV_CHL_B_FLAG_W,GYRO,GYRO_FLAG_W,HEX-FUCO,HEX-FUCO_FLAG_W,LUT,LUT_FLAG_W,MV_CHL_A,MV_CHL_A_FLAG_W,MV_CHL_B,MV_CHL_B_FLAG_W,NEO,NEO_FLAG_W,PERID,PERID_FLAG_W,PHIDE_A,PHIDE_A_FLAG_W,PHYTIN_A,PHYTIN_A_FLAG_W,PRAS,PRAS_FLAG_W,TOT_CHL_A,TOT_CHL_A_FLAG_W,TOT_CHL_B,TOT_CHL_B_FLAG_W,TOT_CHL_C,TOT_CHL_C_FLAG_W,VIOLA,VIOLA_FLAG_W,ZEA,ZEA_FLAG_W,THETA,BTL_DATE,BTL_TIME
,,,,,,,,,,METERS,DBAR,ITS-90,PSS-78,,PSS-78,,UMOL/KG,,UMOL/KG,,UMOL/KG,,UMOL/KG,,UMOL/KG,,UMOL/KG,,UMOL/KG,,UMOL/KG,,,,DEG C,uG/KG,,ug/kg,,NMOL/KG,,MG/M^3,,MG/M^3,,MG/M^3,,MG/M^3,,MG/M^3,,MG/M^3,,MG/M^3,,MG/M^3,,MG/M^3,,MG/M^3,,MG/M^3,,MG/M^3,,MG/M^3,,MG/M^3,,MG/M^3,,MG/M^3,,MG/M^3,,MG/M^3,,MG/M^3,,MG/M^3,,MG/M^3,,MG/M^3,,MG/M^3,,MG/M^3,,MG/M^3,,DEG C,,
06AQ20141202,        A12,      81,          1,         24,2,20150121,       1234,   -61.0003,     0.0023,       5472,    14.7,   0.3822,  33.6069,2,  33.6090,2,    351.5,2,   359.2,2,   45.23,2,   20.30,2,    0.32,2,    1.26,2,  -999.0,9,  -999.0,9,   7.7451,2,    25.00,        199,2,         40,2,     0.2650,2,      0.010,2,     -999.0,9,      0.007,2,      0.188,2,      0.066,2,      0.020,2,      0.066,2,      0.005,2,     -999.0,9,     -999.0,9,     -999.0,9,      0.079,2,     -999.0,9,      0.388,2,     -999.0,9,     -999.0,9,      0.011,2,      0.247,2,      0.080,2,     -999.0,9,      0.408,2,     -999.0,9,      0.254,2,     -999.0,9,     -999.0,9,   0.3817,20150121,       1428
06AQ20141202,        A12,      81,          1,         23,2,20150121,       1234,   -61.0003,     0.0023,       5472,    14.8,   0.3714,  33.6063,2,  33.6108,2,    351.4,2,   359.3,2,   45.62,2,   20.29,2,    0.31,2,    1.25,2,  -999.0,9,  -999.0,9,   7.7535,2,    25.00,        185,2,         38,2,     0.2680,2,      0.010,2,     -999.0,9,      0.007,2,      0.178,2,      0.062,2,      0.019,2,      0.065,2,      0.004,2,     -999.0,9,     -999.0,9,     -999.0,9,      0.077,2,     -999.0,9,      0.431,2,     -999.0,9,     -999.0,9,      0.010,2,      0.209,2,      0.078,2,     -999.0,9,      0.450,2,     -999.0,9,      0.240,2,     -999.0,9,     -999.0,9,   0.3709,20150121,       1428
06AQ20141202,        A12,      81,          1,         22,2,20150121,       1234,   -61.0003,     0.0023,       5472,    24.8,  -0.1538,  33.7240,2,  33.6684,2,    350.9,2,   357.0,2,   47.76,2,   21.06,2,    0.30,2,    1.35,2,  -999.0,9,  -999.0,9,   7.7331,2,    25.00,        166,2,         34,2,     0.3610,2,      0.012,2,     -999.0,9,      0.009,2,      0.201,2,      0.069,2,      0.022,2,      0.065,2,      0.004,2,     -999.0,9,     -999.0,9,     -999.0,9,      0.091,2,     -999.0,9,      0.616,2,     -999.0,9,     -999.0,9,      0.009,2,      0.158,2,      0.060,2,     -999.0,9,      0.638,2,     -999.0,9,      0.270,2,     -999.0,9,     -999.0,9,  -0.1546,20150121,       1427
06AQ20141202,        A12,      81,          1,         21,2,20150121,       1234,   -61.0003,     0.0023,       5472,    51.1,  -1.6881,  34.1227,2,  34.1209,2,    321.2,2,   329.5,2,   63.37,2,   26.36,2,    0.25,2,    1.89,2,  -999.0,9,  -999.0,9,   7.6418,2,    25.00,     -999.0,9,     -999.0,9,     -999.0,9,     -999.0,9,     -999.0,9,     -999.0,9,     -999.0,9,     -999.0,9,     -999.0,9,     -999.0,9,     -999.0,9,     -999.0,9,     -999.0,9,     -999.0,9,     -999.0,9,     -999.0,9,     -999.0,9,     -999.0,9,     -999.0,9,     -999.0,9,     -999.0,9,     -999.0,9,     -999.0,9,     -999.0,9,     -999.0,9,     -999.0,9,     -999.0,9,     -999.0,9,  -1.6891,20150121,       1426
06AQ20141202,        A12,      81,          1,         20,2,20150121,       1234,   -61.0003,     0.0023,       5472,    75.7,  -1.7592,  34.1915,2,  34.1892,2,    312.8,2,   320.8,2,   66.49,2,   27.02,2,    0.28,2,    1.96,2,  -999.0,9,  -999.0,9,   7.6275,2,    25.00,     -999.0,9,     -999.0,9,     -999.0,9,     -999.0,9,     -999.0,9,     -999.0,9,     -999.0,9,     -999.0,9,     -999.0,9,     -999.0,9,     -999.0,9,     -999.0,9,     -999.0,9,     -999.0,9,     -999.0,9,     -999.0,9,     -999.0,9,     -999.0,9,     -999.0,9,     -999.0,9,     -999.0,9,     -999.0,9,     -999.0,9,     -999.0,9,     -999.0,9,     -999.0,9,     -999.0,9,     -999.0,9,  -1.7607,20150121,       1424
06AQ20141202,        A12,      81,          1,         19,2,20150121,       1234,   -61.0003,     0.0023,       5472,   101.4,  -1.4964,  34.2794,2,  34.2622,2,    297.2,2,   305.3,2,   71.27,2,   28.19,2,    0.29,2,    2.00,2,  -999.0,9,  -999.0,9,   7.6141,2,    25.00,     -999.0,9,     -999.0,9,     -999.0,9,     -999.0,9,     -999.0,9,     -999.0,9,     -999.0,9,     -999.0,9,     -999.0,9,     -999.0,9,     -999.0,9,     -999.0,9,     -999.0,9,     -999.0,9,     -999.0,9,     -999.0,9,     -999.0,9,     -999.0,9,     -999.0,9,     -999.0,9,     -999.0,9,     -999.0,9,     -999.0,9,     -999.0,9,     -999.0,9,     -999.0,9,     -999.0,9,     -999.0,9,  -1.4987,20150121,       1423
06AQ20141202,        A12,      81,          1,         18,2,20150121,       1234,   -61.0003,     0.0023,       5472,   151.1,   0.5054,  34.6586,2,  34.6621,2,    188.7,2,   193.1,2,  109.91,2,   34.01,2,    0.02,2,    2.33,2,  -999.0,9,  -999.0,9,   7.5240,3,    25.00,     -999.0,9,     -999.0,9,     -999.0,9,     -999.0,9,     -999.0,9,     -999.0,9,     -999.0,9,     -999.0,9,     -999.0,9,     -999.0,9,     -999.0,9,     -999.0,9,     -999.0,9,     -999.0,9,     -999.0,9,     -999.0,9,     -999.0,9,     -999.0,9,     -999.0,9,     -999.0,9,     -999.0,9,     -999.0,9,     -999.0,9,     -999.0,9,     -999.0,9,     -999.0,9,     -999.0,9,     -999.0,9,   0.4992,20150121,       1422
06AQ20141202,        A12,      81,          1,         17,2,20150121,       1234,   -61.0003,     0.0023,       5472,   204.8,   0.5700,  34.6838,2,  34.6829,2,    184.6,2,   188.7,2,  114.88,2,   34.19,2,    0.00,2,    2.35,2,  -999.0,9,  -999.0,9,   7.5444,2,    25.00,     -999.0,9,     -999.0,9,     -999.0,9,     -999.0,9,     -999.0,9,     -999.0,9,     -999.0,9,     -999.0,9,     -999.0,9,     -999.0,9,     -999.0,9,     -999.0,9,     -999.0,9,     -999.0,9,     -999.0,9,     -999.0,9,     -999.0,9,     -999.0,9,     -999.0,9,     -999.0,9,     -999.0,9,     -999.0,9,     -999.0,9,     -999.0,9,     -999.0,9,     -999.0,9,     -999.0,9,     -999.0,9,   0.5614,20150121,       1420
06AQ20141202,        A12,      81,          1,         16,2,20150121,       1234,   -61.0003,     0.0023,       5472,   304.4,   0.4910,  34.6865,2,  34.6866,2,    185.2,2,   189.3,2,  119.57,2,   34.24,2,    0.00,2,    2.36,2,  -999.0,9,  -999.0,9,   7.5456,2,    25.00,     -999.0,9,     -999.0,9,     -999.0,9,     -999.0,9,     -999.0,9,     -999.0,9,     -999.0,9,     -999.0,9,     -999.0,9,     -999.0,9,     -999.0,9,     -999.0,9,     -999.0,9,     -999.0,9,     -999.0,9,     -999.0,9,     -999.0,9,     -999.0,9,     -999.0,9,     -999.0,9,     -999.0,9,     -999.0,9,     -999.0,9,     -999.0,9,     -999.0,9,     -999.0,9,     -999.0,9,     -999.0,9,   0.4782,20150121,       1417
06AQ20141202,        A12,      81,          1,         15,2,20150121,       1234,   -61.0003,     0.0023,       5472,   405.7,   0.4358,  34.6869,2,  34.6863,2,    186.8,2,   191.0,2,  121.91,2,   34.28,2,    0.00,2,    2.36,2,  -999.0,9,  -999.0,9,   7.5479,2,    25.00,     -999.0,9,     -999.0,9,     -999.0,9,     -999.0,9,     -999.0,9,     -999.0,9,     -999.0,9,     -999.0,9,     -999.0,9,     -999.0,9,     -999.0,9,     -999.0,9,     -999.0,9,     -999.0,9,     -999.0,9,     -999.0,9,     -999.0,9,     -999.0,9,     -999.0,9,     -999.0,9,     -999.0,9,     -999.0,9,     -999.0,9,     -999.0,9,     -999.0,9,     -999.0,9,     -999.0,9,     -999.0,9,   0.4185,20150121,       1415
06AQ20141202,        A12,      81,          1,         14,2,20150121,       1234,   -61.0003,     0.0023,       5472,   607.9,   0.3500,  34.6846,2,  34.6844,2,    190.6,2,   195.5,2,  125.13,2,   33.91,2,    0.00,2,    2.36,2,  -999.0,9,  -999.0,9,   7.5540,2,    25.00,     -999.0,9,     -999.0,9,     -999.0,9,     -999.0,9,     -999.0,9,     -999.0,9,     -999.0,9,     -999.0,9,     -999.0,9,     -999.0,9,     -999.0,9,     -999.0,9,     -999.0,9,     -999.0,9,     -999.0,9,     -999.0,9,     -999.0,9,     -999.0,9,     -999.0,9,     -999.0,9,     -999.0,9,     -999.0,9,     -999.0,9,     -999.0,9,     -999.0,9,     -999.0,9,     -999.0,9,     -999.0,9,   0.3235,20150121,       1411
06AQ20141202,        A12,      81,          1,         13,2,20150121,       1234,   -61.0003,     0.0023,       5472,   809.1,   0.2440,  34.6805,2,  34.6808,2,    197.0,2,   202.3,2,  126.69,2,   33.65,2,    0.00,2,    2.33,2,  -999.0,9,  -999.0,9,   7.5644,2,    25.00,     -999.0,9,     -999.0,9,     -999.0,9,     -999.0,9,     -999.0,9,     -999.0,9,     -999.0,9,     -999.0,9,     -999.0,9,     -999.0,9,     -999.0,9,     -999.0,9,     -999.0,9,     -999.0,9,     -999.0,9,     -999.0,9,     -999.0,9,     -999.0,9,     -999.0,9,     -999.0,9,     -999.0,9,     -999.0,9,     -999.0,9,     -999.0,9,     -999.0,9,     -999.0,9,     -999.0,9,     -999.0,9,   0.2080,20150121,       1406
06AQ20141202,        A12,      81,          1,         12,2,20150121,       1234,   -61.0003,     0.0023,       5472,   911.8,   0.2006,  34.6791,2,  34.6792,2,    199.3,2,   205.0,2,  127.08,2,   33.78,2,    0.00,2,    2.32,2,  -999.0,9,  -999.0,9,   7.5676,2,    25.00,     -999.0,9,     -999.0,9,     -999.0,9,     -999.0,9,     -999.0,9,     -999.0,9,     -999.0,9,     -999.0,9,     -999.0,9,     -999.0,9,     -999.0,9,     -999.0,9,     -999.0,9,     -999.0,9,     -999.0,9,     -999.0,9,     -999.0,9,     -999.0,9,     -999.0,9,     -999.0,9,     -999.0,9,     -999.0,9,     -999.0,9,     -999.0,9,     -999.0,9,     -999.0,9,     -999.0,9,     -999.0,9,   0.1595,20150121,       1404
06AQ20141202,        A12,      81,          1,         11,2,20150121,       1234,   -61.0003,     0.0023,       5472,  1011.7,   0.1640,  34.6770,2,  34.6775,2,    201.6,2,   206.9,2,  127.28,2,   33.69,2,    0.00,2,    2.32,2,  -999.0,9,  -999.0,9,   7.5714,6,    25.00,     -999.0,9,     -999.0,9,     -999.0,9,     -999.0,9,     -999.0,9,     -999.0,9,     -999.0,9,     -999.0,9,     -999.0,9,     -999.0,9,     -999.0,9,     -999.0,9,     -999.0,9,     -999.0,9,     -999.0,9,     -999.0,9,     -999.0,9,     -999.0,9,     -999.0,9,     -999.0,9,     -999.0,9,     -999.0,9,     -999.0,9,     -999.0,9,     -999.0,9,     -999.0,9,     -999.0,9,     -999.0,9,   0.1178,20150121,       1401
06AQ20141202,        A12,      81,          1,         10,2,20150121,       1234,   -61.0003,     0.0023,       5472,  1518.3,  -0.0224,  34.6698,2,  34.6695,2,    212.5,2,   219.9,2,  127.57,2,   33.14,2,    0.00,2,    2.29,2,  -999.0,9,  -999.0,9,   7.5873,2,    25.00,     -999.0,9,     -999.0,9,     -999.0,9,     -999.0,9,     -999.0,9,     -999.0,9,     -999.0,9,     -999.0,9,     -999.0,9,     -999.0,9,     -999.0,9,     -999.0,9,     -999.0,9,     -999.0,9,     -999.0,9,     -999.0,9,     -999.0,9,     -999.0,9,     -999.0,9,     -999.0,9,     -999.0,9,     -999.0,9,     -999.0,9,     -999.0,9,     -999.0,9,     -999.0,9,     -999.0,9,     -999.0,9,  -0.0961,20150121,       1351
06AQ20141202,        A12,      81,          1,          9,2,20150121,       1234,   -61.0003,     0.0023,       5472,  2028.4,  -0.1607,  34.6642,2,  34.6634,2,    220.3,2,   230.7,2,  126.99,2,   32.75,2,    0.00,2,    2.26,2,  -999.0,9,  -999.0,9,   7.5924,2,    25.00,     -999.0,9,     -999.0,9,     -999.0,9,     -999.0,9,     -999.0,9,     -999.0,9,     -999.0,9,     -999.0,9,     -999.0,9,     -999.0,9,     -999.0,9,     -999.0,9,     -999.0,9,     -999.0,9,     -999.0,9,     -999.0,9,     -999.0,9,     -999.0,9,     -999.0,9,     -999.0,9,     -999.0,9,     -999.0,9,     -999.0,9,     -999.0,9,     -999.0,9,     -999.0,9,     -999.0,9,     -999.0,9,  -0.2658,20150121,       1341
06AQ20141202,        A12,      81,          1,          8,2,20150121,       1234,   -61.0003,     0.0023,       5472,  2538.3,  -0.2514,  34.6603,2,  34.6603,2,    225.3,2,   235.0,2,  126.01,2,   32.54,2,    0.00,2,    2.25,2,  -999.0,9,  -999.0,9,   7.5960,2,    25.00,     -999.0,9,     -999.0,9,     -999.0,9,     -999.0,9,     -999.0,9,     -999.0,9,     -999.0,9,     -999.0,9,     -999.0,9,     -999.0,9,     -999.0,9,     -999.0,9,     -999.0,9,     -999.0,9,     -999.0,9,     -999.0,9,     -999.0,9,     -999.0,9,     -999.0,9,     -999.0,9,     -999.0,9,     -999.0,9,     -999.0,9,     -999.0,9,     -999.0,9,     -999.0,9,     -999.0,9,     -999.0,9,  -0.3921,20150121,       1331
06AQ20141202,        A12,      81,          1,          7,2,20150121,       1234,   -61.0003,     0.0023,       5472,  3050.5,  -0.3116,  34.6575,2,  34.6568,2,    229.6,2,   239.4,2,  126.11,2,   32.43,2,    0.00,2,    2.24,2,  -999.0,9,  -999.0,9,   7.5998,2,    25.00,     -999.0,9,     -999.0,9,     -999.0,9,     -999.0,9,     -999.0,9,     -999.0,9,     -999.0,9,     -999.0,9,     -999.0,9,     -999.0,9,     -999.0,9,     -999.0,9,     -999.0,9,     -999.0,9,     -999.0,9,     -999.0,9,     -999.0,9,     -999.0,9,     -999.0,9,     -999.0,9,     -999.0,9,     -999.0,9,     -999.0,9,     -999.0,9,     -999.0,9,     -999.0,9,     -999.0,9,     -999.0,9,  -0.4921,20150121,       1322
06AQ20141202,        A12,      81,          1,          6,2,20150121,       1234,   -61.0003,     0.0023,       5472,  3563.5,  -0.3590,  34.6555,2,  34.6542,2,    232.9,2,   242.5,2,  127.09,2,   32.47,2,    0.00,2,    2.24,2,  -999.0,9,  -999.0,9,   7.6067,2,    25.00,     -999.0,9,     -999.0,9,     -999.0,9,     -999.0,9,     -999.0,9,     -999.0,9,     -999.0,9,     -999.0,9,     -999.0,9,     -999.0,9,     -999.0,9,     -999.0,9,     -999.0,9,     -999.0,9,     -999.0,9,     -999.0,9,     -999.0,9,     -999.0,9,     -999.0,9,     -999.0,9,     -999.0,9,     -999.0,9,     -999.0,9,     -999.0,9,     -999.0,9,     -999.0,9,     -999.0,9,     -999.0,9,  -0.5834,20150121,       1312
06AQ20141202,        A12,      81,          1,          5,2,20150121,       1234,   -61.0003,     0.0023,       5472,  3871.6,  -0.3949,  34.6534,2,  34.6523,2,    235.8,2,   245.5,2,  125.43,2,   32.50,2,    0.00,2,    2.24,2,  -999.0,9,  -999.0,9,   7.6064,2,    25.00,     -999.0,9,     -999.0,9,     -999.0,9,     -999.0,9,     -999.0,9,     -999.0,9,     -999.0,9,     -999.0,9,     -999.0,9,     -999.0,9,     -999.0,9,     -999.0,9,     -999.0,9,     -999.0,9,     -999.0,9,     -999.0,9,     -999.0,9,     -999.0,9,     -999.0,9,     -999.0,9,     -999.0,9,     -999.0,9,     -999.0,9,     -999.0,9,     -999.0,9,     -999.0,9,     -999.0,9,     -999.0,9,  -0.6471,20150121,       1306
06AQ20141202,        A12,      81,          1,          4,2,20150121,       1234,   -61.0003,     0.0023,       5472,  4078.2,  -0.4264,  34.6509,2,  34.6500,2,    238.0,2,   247.4,2,  123.38,2,   32.30,2,    0.00,2,    2.23,2,  -999.0,9,  -999.0,9,   7.6072,2,    25.00,     -999.0,9,     -999.0,9,     -999.0,9,     -999.0,9,     -999.0,9,     -999.0,9,     -999.0,9,     -999.0,9,     -999.0,9,     -999.0,9,     -999.0,9,     -999.0,9,     -999.0,9,     -999.0,9,     -999.0,9,     -999.0,9,     -999.0,9,     -999.0,9,     -999.0,9,     -999.0,9,     -999.0,9,     -999.0,9,     -999.0,9,     -999.0,9,     -999.0,9,     -999.0,9,     -999.0,9,     -999.0,9,  -0.6978,20150121,       1302
06AQ20141202,        A12,      81,          1,          3,2,20150121,       1234,   -61.0003,     0.0023,       5472,  4593.5,  -0.4508,  34.6476,2,  34.6463,2,    241.7,2,   250.5,2,  121.43,2,   32.36,2,    0.00,2,    2.23,2,  -999.0,9,  -999.0,9,   7.6076,2,    25.00,     -999.0,9,     -999.0,9,     -999.0,9,     -999.0,9,     -999.0,9,     -999.0,9,     -999.0,9,     -999.0,9,     -999.0,9,     -999.0,9,     -999.0,9,     -999.0,9,     -999.0,9,     -999.0,9,     -999.0,9,     -999.0,9,     -999.0,9,     -999.0,9,     -999.0,9,     -999.0,9,     -999.0,9,     -999.0,9,     -999.0,9,     -999.0,9,     -999.0,9,     -999.0,9,     -999.0,9,     -999.0,9,  -0.7739,20150121,       1252
06AQ20141202,        A12,      81,          1,          2,2,20150121,       1234,   -61.0003,     0.0023,       5472,  5106.8,  -0.4079,  34.6470,2,  34.6464,2,    241.9,2,   249.8,2,  123.87,2,   32.24,2,    0.00,2,    2.24,2,  -999.0,9,  -999.0,9,   7.6073,2,    25.00,     -999.0,9,     -999.0,9,     -999.0,9,     -999.0,9,     -999.0,9,     -999.0,9,     -999.0,9,     -999.0,9,     -999.0,9,     -999.0,9,     -999.0,9,     -999.0,9,     -999.0,9,     -999.0,9,     -999.0,9,     -999.0,9,     -999.0,9,     -999.0,9,     -999.0,9,     -999.0,9,     -999.0,9,     -999.0,9,     -999.0,9,     -999.0,9,     -999.0,9,     -999.0,9,     -999.0,9,     -999.0,9,  -0.7885,20150121,       1242
06AQ20141202,        A12,      81,          1,          1,2,20150121,       1234,   -61.0003,     0.0023,       5472,  5461.8,  -0.3657,  34.6466,2,  34.6463,2,    242.3,2,   249.9,2,  124.06,2,   32.41,2,    0.00,2,    2.22,2,  -999.0,9,  -999.0,9,   7.6061,6,    25.00,     -999.0,9,     -999.0,9,     -999.0,9,     -999.0,9,     -999.0,9,     -999.0,9,     -999.0,9,     -999.0,9,     -999.0,9,     -999.0,9,     -999.0,9,     -999.0,9,     -999.0,9,     -999.0,9,     -999.0,9,     -999.0,9,     -999.0,9,     -999.0,9,     -999.0,9,     -999.0,9,     -999.0,9,     -999.0,9,     -999.0,9,     -999.0,9,     -999.0,9,     -999.0,9,     -999.0,9,     -999.0,9,  -0.7886,20150121,       1234