BOTTLE,20220815CCHSIOAMB
EXPOCODE,SECT_ID,STNNBR,CASTNO,BTLNBR,BTLNBR_FLAG_W,DATE,TIME,LATITUDE,LONGITUDE,DEPTH,CTDPRS,CTDTMP,CTDSAL,CTDSAL_FLAG_W,SALNTY,SALNTY_FLAG_W,CTDOXY,CTDOXY_FLAG_W,OXYGEN,OXYGEN_FLAG_W,SILCAT,SILCAT_FLAG_W,NITRAT,NITRAT_FLAG_W,NITRIT,NITRIT_FLAG_W,PHSPHT,PHSPHT_FLAG_W,TCARBN,TCARBN_FLAG_W,ALKALI,ALKALI_FLAG_W,PH_TOT,PH_TOT_FLAG_W,PH_TMP,POC,POC_FLAG_W,PON,PON_FLAG_W,FUCO,FUCO_FLAG_W,ALPHA-BETA-CAR,ALPHA-BETA-CAR_FLAG_W,ALLO,ALLO_FLAG_W,BUT-FUCO,BUT-FUCO_FLAG_W,CHL_C1C2,CHL_C1C2_FLAG_W,CHL_C3,CHL_C3_FLAG_W,CHLIDE_A,CHLIDE_A_FLAG_W,DIADINO,DIADINO_FLAG_W,DIATO,DIATO_FLAG_W,DV_CHL_A,DV_CHL_A_FLAG_W,DV_CHL_B,DV_CHL_B_FLAG_W,GYRO,GYRO_FLAG_W,HEX-FUCO,HEX-FUCO_FLAG_W,LUT,LUT_FLAG_W,MV_CHL_A,MV_CHL_A_FLAG_W,MV_CHL_B,MV_CHL_B_FLAG_W,NEO,NEO_FLAG_W,PERID,PERID_FLAG_W,PHIDE_A,PHIDE_A_FLAG_W,PHYTIN_A,PHYTIN_A_FLAG_W,PRAS,PRAS_FLAG_W,TOT_CHL_A,TOT_CHL_A_FLAG_W,TOT_CHL_B,TOT_CHL_B_FLAG_W,TOT_CHL_C,TOT_CHL_C_FLAG_W,VIOLA,VIOLA_FLAG_W,ZEA,ZEA_FLAG_W,THETA,BTL_DATE,BTL_TIME
,,,,,,,,,,METERS,DBAR,ITS-90,PSS-78,,PSS-78,,UMOL/KG,,UMOL/KG,,UMOL/KG,,UMOL/KG,,UMOL/KG,,UMOL/KG,,UMOL/KG,,UMOL/KG,,,,DEG C,uG/KG,,ug/kg,,NMOL/KG,,MG/M^3,,MG/M^3,,MG/M^3,,MG/M^3,,MG/M^3,,MG/M^3,,MG/M^3,,MG/M^3,,MG/M^3,,MG/M^3,,MG/M^3,,MG/M^3,,MG/M^3,,MG/M^3,,MG/M^3,,MG/M^3,,MG/M^3,,MG/M^3,,MG/M^3,,MG/M^3,,MG/M^3,,MG/M^3,,MG/M^3,,MG/M^3,,MG/M^3,,DEG C,,
06AQ20141202,        A12,      42,          1,         24,2,20150103,       0023,   -70.5742,    -9.0567,        923,    10.4,  -1.1434,  34.3302,2,-999.0000,9,    358.6,2,   362.5,2,   59.26,2,   26.23,2,    0.08,2,    1.78,2,  -999.0,9,  -999.0,9,-999.0000,9,  -999.00,     -999.0,9,     -999.0,9,     -999.0,9,     -999.0,9,     -999.0,9,     -999.0,9,     -999.0,9,     -999.0,9,     -999.0,9,     -999.0,9,     -999.0,9,     -999.0,9,     -999.0,9,     -999.0,9,     -999.0,9,     -999.0,9,     -999.0,9,     -999.0,9,     -999.0,9,     -999.0,9,     -999.0,9,     -999.0,9,     -999.0,9,     -999.0,9,     -999.0,9,     -999.0,9,     -999.0,9,     -999.0,9,  -1.1437,20150103,       0046
06AQ20141202,        A12,      42,          1,         23,2,20150103,       0023,   -70.5742,    -9.0567,        923,    15.5,  -1.1715,  34.3285,2,-999.0000,9,    358.8,2,   361.5,2,   59.07,2,   26.28,2,    0.07,2,    1.80,2,  -999.0,9,  -999.0,9,-999.0000,9,  -999.00,     -999.0,9,     -999.0,9,     -999.0,9,     -999.0,9,     -999.0,9,     -999.0,9,     -999.0,9,     -999.0,9,     -999.0,9,     -999.0,9,     -999.0,9,     -999.0,9,     -999.0,9,     -999.0,9,     -999.0,9,     -999.0,9,     -999.0,9,     -999.0,9,     -999.0,9,     -999.0,9,     -999.0,9,     -999.0,9,     -999.0,9,     -999.0,9,     -999.0,9,     -999.0,9,     -999.0,9,     -999.0,9,  -1.1719,20150103,       0046
06AQ20141202,        A12,      42,          1,         22,2,20150103,       0023,   -70.5742,    -9.0567,        923,    20.6,  -1.1829,  34.3287,2,-999.0000,9,    358.7,2,   357.6,2, -999.00,9, -999.00,9, -999.00,9, -999.00,9,  -999.0,9,  -999.0,9,-999.0000,9,  -999.00,     -999.0,9,     -999.0,9,     -999.0,9,     -999.0,9,     -999.0,9,     -999.0,9,     -999.0,9,     -999.0,9,     -999.0,9,     -999.0,9,     -999.0,9,     -999.0,9,     -999.0,9,     -999.0,9,     -999.0,9,     -999.0,9,     -999.0,9,     -999.0,9,     -999.0,9,     -999.0,9,     -999.0,9,     -999.0,9,     -999.0,9,     -999.0,9,     -999.0,9,     -999.0,9,     -999.0,9,     -999.0,9,  -1.1834,20150103,       0045
06AQ20141202,        A12,      42,          1,         21,2,20150103,       0023,   -70.5742,    -9.0567,        923,    20.6,  -1.1766,  34.3278,2,-999.0000,9,    358.0,2,   357.6,2,   59.46,2,   26.75,2,    0.07,2,    1.83,2,  -999.0,9,  -999.0,9,-999.0000,9,  -999.00,     -999.0,9,     -999.0,9,     -999.0,9,     -999.0,9,     -999.0,9,     -999.0,9,     -999.0,9,     -999.0,9,     -999.0,9,     -999.0,9,     -999.0,9,     -999.0,9,     -999.0,9,     -999.0,9,     -999.0,9,     -999.0,9,     -999.0,9,     -999.0,9,     -999.0,9,     -999.0,9,     -999.0,9,     -999.0,9,     -999.0,9,     -999.0,9,     -999.0,9,     -999.0,9,     -999.0,9,     -999.0,9,  -1.1771,20150103,       0045
06AQ20141202,        A12,      42,          1,         20,2,20150103,       0023,   -70.5742,    -9.0567,        923,    30.2,  -1.2504,  34.3273,2,-999.0000,9,    354.6,2,   352.7,2,   60.04,2,   27.43,2,    0.06,2,    1.88,2,  -999.0,9,  -999.0,9,-999.0000,9,  -999.00,     -999.0,9,     -999.0,9,     -999.0,9,     -999.0,9,     -999.0,9,     -999.0,9,     -999.0,9,     -999.0,9,     -999.0,9,     -999.0,9,     -999.0,9,     -999.0,9,     -999.0,9,     -999.0,9,     -999.0,9,     -999.0,9,     -999.0,9,     -999.0,9,     -999.0,9,     -999.0,9,     -999.0,9,     -999.0,9,     -999.0,9,     -999.0,9,     -999.0,9,     -999.0,9,     -999.0,9,     -999.0,9,  -1.2511,20150103,       0044
06AQ20141202,        A12,      42,          1,         19,2,20150103,       0023,   -70.5742,    -9.0567,        923,    40.5,  -1.4350,  34.3294,2,-999.0000,9,    342.8,2,   347.0,2,   60.53,2,   27.94,2,    0.06,2,    1.94,2,  -999.0,9,  -999.0,9,-999.0000,9,  -999.00,     -999.0,9,     -999.0,9,     -999.0,9,     -999.0,9,     -999.0,9,     -999.0,9,     -999.0,9,     -999.0,9,     -999.0,9,     -999.0,9,     -999.0,9,     -999.0,9,     -999.0,9,     -999.0,9,     -999.0,9,     -999.0,9,     -999.0,9,     -999.0,9,     -999.0,9,     -999.0,9,     -999.0,9,     -999.0,9,     -999.0,9,     -999.0,9,     -999.0,9,     -999.0,9,     -999.0,9,     -999.0,9,  -1.4359,20150103,       0044
06AQ20141202,        A12,      42,          1,         18,2,20150103,       0023,   -70.5742,    -9.0567,        923,    49.0,  -1.4477,  34.3295,2,-999.0000,9,    340.5,2,   345.4,2,   60.73,2,   28.37,2,    0.05,2,    1.94,2,  -999.0,9,  -999.0,9,-999.0000,9,  -999.00,     -999.0,9,     -999.0,9,     -999.0,9,     -999.0,9,     -999.0,9,     -999.0,9,     -999.0,9,     -999.0,9,     -999.0,9,     -999.0,9,     -999.0,9,     -999.0,9,     -999.0,9,     -999.0,9,     -999.0,9,     -999.0,9,     -999.0,9,     -999.0,9,     -999.0,9,     -999.0,9,     -999.0,9,     -999.0,9,     -999.0,9,     -999.0,9,     -999.0,9,     -999.0,9,     -999.0,9,     -999.0,9,  -1.4488,20150103,       0043
06AQ20141202,        A12,      42,          1,         17,2,20150103,       0023,   -70.5742,    -9.0567,        923,    60.8,  -1.6454,  34.3304,2,-999.0000,9,    332.1,2,   336.0,2,   59.85,2,   29.28,2,    0.04,2,    2.01,2,  -999.0,9,  -999.0,9,-999.0000,9,  -999.00,     -999.0,9,     -999.0,9,     -999.0,9,     -999.0,9,     -999.0,9,     -999.0,9,     -999.0,9,     -999.0,9,     -999.0,9,     -999.0,9,     -999.0,9,     -999.0,9,     -999.0,9,     -999.0,9,     -999.0,9,     -999.0,9,     -999.0,9,     -999.0,9,     -999.0,9,     -999.0,9,     -999.0,9,     -999.0,9,     -999.0,9,     -999.0,9,     -999.0,9,     -999.0,9,     -999.0,9,     -999.0,9,  -1.6467,20150103,       0042
06AQ20141202,        A12,      42,          1,         16,2,20150103,       0023,   -70.5742,    -9.0567,        923,    71.0,  -1.6836,  34.3326,2,-999.0000,9,    331.9,2,   335.6,2,   61.22,2,   29.24,2,    0.05,2,    2.01,2,  -999.0,9,  -999.0,9,-999.0000,9,  -999.00,     -999.0,9,     -999.0,9,     -999.0,9,     -999.0,9,     -999.0,9,     -999.0,9,     -999.0,9,     -999.0,9,     -999.0,9,     -999.0,9,     -999.0,9,     -999.0,9,     -999.0,9,     -999.0,9,     -999.0,9,     -999.0,9,     -999.0,9,     -999.0,9,     -999.0,9,     -999.0,9,     -999.0,9,     -999.0,9,     -999.0,9,     -999.0,9,     -999.0,9,     -999.0,9,     -999.0,9,     -999.0,9,  -1.6851,20150103,       0042
06AQ20141202,        A12,      42,          1,         15,2,20150103,       0023,   -70.5742,    -9.0567,        923,    80.6,  -1.6905,  34.3321,2,-999.0000,9,    331.7,2,   335.6,2,   60.92,2,   29.13,2,    0.04,2,    2.00,2,  -999.0,9,  -999.0,9,-999.0000,9,  -999.00,     -999.0,9,     -999.0,9,     -999.0,9,     -999.0,9,     -999.0,9,     -999.0,9,     -999.0,9,     -999.0,9,     -999.0,9,     -999.0,9,     -999.0,9,     -999.0,9,     -999.0,9,     -999.0,9,     -999.0,9,     -999.0,9,     -999.0,9,     -999.0,9,     -999.0,9,     -999.0,9,     -999.0,9,     -999.0,9,     -999.0,9,     -999.0,9,     -999.0,9,     -999.0,9,     -999.0,9,     -999.0,9,  -1.6922,20150103,       0041
06AQ20141202,        A12,      42,          1,         14,2,20150103,       0023,   -70.5742,    -9.0567,        923,    91.3,  -1.7460,  34.3337,2,-999.0000,9,    329.2,2,   333.1,2,   61.02,2,   29.38,2,    0.04,2,    2.03,2,  -999.0,9,  -999.0,9,-999.0000,9,  -999.00,     -999.0,9,     -999.0,9,     -999.0,9,     -999.0,9,     -999.0,9,     -999.0,9,     -999.0,9,     -999.0,9,     -999.0,9,     -999.0,9,     -999.0,9,     -999.0,9,     -999.0,9,     -999.0,9,     -999.0,9,     -999.0,9,     -999.0,9,     -999.0,9,     -999.0,9,     -999.0,9,     -999.0,9,     -999.0,9,     -999.0,9,     -999.0,9,     -999.0,9,     -999.0,9,     -999.0,9,     -999.0,9,  -1.7479,20150103,       0040
06AQ20141202,        A12,      42,          1,         13,2,20150103,       0023,   -70.5742,    -9.0567,        923,   101.3,  -1.7649,  34.3356,2,-999.0000,9,    328.6,2,   332.6,2,   61.12,2,   29.48,2,    0.03,2,    2.03,2,  -999.0,9,  -999.0,9,-999.0000,9,  -999.00,     -999.0,9,     -999.0,9,     -999.0,9,     -999.0,9,     -999.0,9,     -999.0,9,     -999.0,9,     -999.0,9,     -999.0,9,     -999.0,9,     -999.0,9,     -999.0,9,     -999.0,9,     -999.0,9,     -999.0,9,     -999.0,9,     -999.0,9,     -999.0,9,     -999.0,9,     -999.0,9,     -999.0,9,     -999.0,9,     -999.0,9,     -999.0,9,     -999.0,9,     -999.0,9,     -999.0,9,     -999.0,9,  -1.7669,20150103,       0039
06AQ20141202,        A12,      42,          1,         12,2,20150103,       0023,   -70.5742,    -9.0567,        923,   126.6,  -1.7776,  34.3358,2,-999.0000,9,    327.9,2,   332.0,2,   61.02,2,   29.54,2,    0.03,2,    2.02,2,  -999.0,9,  -999.0,9,-999.0000,9,  -999.00,     -999.0,9,     -999.0,9,     -999.0,9,     -999.0,9,     -999.0,9,     -999.0,9,     -999.0,9,     -999.0,9,     -999.0,9,     -999.0,9,     -999.0,9,     -999.0,9,     -999.0,9,     -999.0,9,     -999.0,9,     -999.0,9,     -999.0,9,     -999.0,9,     -999.0,9,     -999.0,9,     -999.0,9,     -999.0,9,     -999.0,9,     -999.0,9,     -999.0,9,     -999.0,9,     -999.0,9,     -999.0,9,  -1.7802,20150103,       0038
06AQ20141202,        A12,      42,          1,         11,2,20150103,       0023,   -70.5742,    -9.0567,        923,   151.6,  -1.7934,  34.3376,2,-999.0000,9,    326.6,2,   330.5,2,   61.31,2,   29.75,2,    0.03,2,    2.05,2,  -999.0,9,  -999.0,9,-999.0000,9,  -999.00,     -999.0,9,     -999.0,9,     -999.0,9,     -999.0,9,     -999.0,9,     -999.0,9,     -999.0,9,     -999.0,9,     -999.0,9,     -999.0,9,     -999.0,9,     -999.0,9,     -999.0,9,     -999.0,9,     -999.0,9,     -999.0,9,     -999.0,9,     -999.0,9,     -999.0,9,     -999.0,9,     -999.0,9,     -999.0,9,     -999.0,9,     -999.0,9,     -999.0,9,     -999.0,9,     -999.0,9,     -999.0,9,  -1.7965,20150103,       0037
06AQ20141202,        A12,      42,          1,         10,2,20150103,       0023,   -70.5742,    -9.0567,        923,   176.9,  -1.8280,  34.3395,2,-999.0000,9,    325.0,2,   328.6,2,   61.41,2,   29.96,2,    0.03,2,    2.05,2,  -999.0,9,  -999.0,9,-999.0000,9,  -999.00,     -999.0,9,     -999.0,9,     -999.0,9,     -999.0,9,     -999.0,9,     -999.0,9,     -999.0,9,     -999.0,9,     -999.0,9,     -999.0,9,     -999.0,9,     -999.0,9,     -999.0,9,     -999.0,9,     -999.0,9,     -999.0,9,     -999.0,9,     -999.0,9,     -999.0,9,     -999.0,9,     -999.0,9,     -999.0,9,     -999.0,9,     -999.0,9,     -999.0,9,     -999.0,9,     -999.0,9,     -999.0,9,  -1.8316,20150103,       0036
06AQ20141202,        A12,      42,          1,          9,2,20150103,       0023,   -70.5742,    -9.0567,        923,   202.2,  -1.8362,  34.3411,2,-999.0000,9,    324.0,2,   328.0,2,   61.51,2,   29.86,2,    0.02,2,    2.06,2,  -999.0,9,  -999.0,9,-999.0000,9,  -999.00,     -999.0,9,     -999.0,9,     -999.0,9,     -999.0,9,     -999.0,9,     -999.0,9,     -999.0,9,     -999.0,9,     -999.0,9,     -999.0,9,     -999.0,9,     -999.0,9,     -999.0,9,     -999.0,9,     -999.0,9,     -999.0,9,     -999.0,9,     -999.0,9,     -999.0,9,     -999.0,9,     -999.0,9,     -999.0,9,     -999.0,9,     -999.0,9,     -999.0,9,     -999.0,9,     -999.0,9,     -999.0,9,  -1.8404,20150103,       0035
06AQ20141202,        A12,      42,          1,          8,2,20150103,       0023,   -70.5742,    -9.0567,        923,   227.8,  -1.8436,  34.3435,2,-999.0000,9,    323.3,2,   327.7,2,   61.70,2,   29.90,2,    0.02,2,    2.05,2,  -999.0,9,  -999.0,9,-999.0000,9,  -999.00,     -999.0,9,     -999.0,9,     -999.0,9,     -999.0,9,     -999.0,9,     -999.0,9,     -999.0,9,     -999.0,9,     -999.0,9,     -999.0,9,     -999.0,9,     -999.0,9,     -999.0,9,     -999.0,9,     -999.0,9,     -999.0,9,     -999.0,9,     -999.0,9,     -999.0,9,     -999.0,9,     -999.0,9,     -999.0,9,     -999.0,9,     -999.0,9,     -999.0,9,     -999.0,9,     -999.0,9,     -999.0,9,  -1.8483,20150103,       0034
06AQ20141202,        A12,      42,          1,          7,2,20150103,       0023,   -70.5742,    -9.0567,        923,   253.0,  -1.8482,  34.3462,2,-999.0000,9,    323.1,2,  -999.0,9, -999.00,9, -999.00,9, -999.00,9, -999.00,9,  -999.0,9,  -999.0,9,-999.0000,9,  -999.00,     -999.0,9,     -999.0,9,     -999.0,9,     -999.0,9,     -999.0,9,     -999.0,9,     -999.0,9,     -999.0,9,     -999.0,9,     -999.0,9,     -999.0,9,     -999.0,9,     -999.0,9,     -999.0,9,     -999.0,9,     -999.0,9,     -999.0,9,     -999.0,9,     -999.0,9,     -999.0,9,     -999.0,9,     -999.0,9,     -999.0,9,     -999.0,9,     -999.0,9,     -999.0,9,     -999.0,9,     -999.0,9,  -1.8535,20150103,       0032
06AQ20141202,        A12,      42,          1,          6,2,20150103,       0023,   -70.5742,    -9.0567,        923,   253.0,  -1.8486,  34.3464,2,-999.0000,9,    323.1,2,  -999.0,9, -999.00,9, -999.00,9, -999.00,9, -999.00,9,  -999.0,9,  -999.0,9,-999.0000,9,  -999.00,     -999.0,9,     -999.0,9,     -999.0,9,     -999.0,9,     -999.0,9,     -999.0,9,     -999.0,9,     -999.0,9,     -999.0,9,     -999.0,9,     -999.0,9,     -999.0,9,     -999.0,9,     -999.0,9,     -999.0,9,     -999.0,9,     -999.0,9,     -999.0,9,     -999.0,9,     -999.0,9,     -999.0,9,     -999.0,9,     -999.0,9,     -999.0,9,     -999.0,9,     -999.0,9,     -999.0,9,     -999.0,9,  -1.8539,20150103,       0032
06AQ20141202,        A12,      42,          1,          5,2,20150103,       0023,   -70.5742,    -9.0567,        923,   252.9,  -1.8482,  34.3465,2,-999.0000,9,    323.2,2,   327.5,2,   61.51,2,   29.93,2,    0.00,2,    2.05,2,  -999.0,9,  -999.0,9,-999.0000,9,  -999.00,     -999.0,9,     -999.0,9,     -999.0,9,     -999.0,9,     -999.0,9,     -999.0,9,     -999.0,9,     -999.0,9,     -999.0,9,     -999.0,9,     -999.0,9,     -999.0,9,     -999.0,9,     -999.0,9,     -999.0,9,     -999.0,9,     -999.0,9,     -999.0,9,     -999.0,9,     -999.0,9,     -999.0,9,     -999.0,9,     -999.0,9,     -999.0,9,     -999.0,9,     -999.0,9,     -999.0,9,     -999.0,9,  -1.8535,20150103,       0032
06AQ20141202,        A12,      42,          1,          4,2,20150103,       0023,   -70.5742,    -9.0567,        923,   303.6,  -1.8573,  34.3516,2,-999.0000,9,    322.6,2,   326.9,2,   61.80,2,   29.98,2,    0.00,2,    2.05,2,  -999.0,9,  -999.0,9,-999.0000,9,  -999.00,     -999.0,9,     -999.0,9,     -999.0,9,     -999.0,9,     -999.0,9,     -999.0,9,     -999.0,9,     -999.0,9,     -999.0,9,     -999.0,9,     -999.0,9,     -999.0,9,     -999.0,9,     -999.0,9,     -999.0,9,     -999.0,9,     -999.0,9,     -999.0,9,     -999.0,9,     -999.0,9,     -999.0,9,     -999.0,9,     -999.0,9,     -999.0,9,     -999.0,9,     -999.0,9,     -999.0,9,     -999.0,9,  -1.8638,20150103,       0030
06AQ20141202,        A12,      42,          1,          3,2,20150103,       0023,   -70.5742,    -9.0567,        923,   354.2,  -1.8774,  34.3661,2,-999.0000,9,    321.9,2,   326.8,2,   61.99,2,   30.04,2,    0.00,2,    2.07,2,  -999.0,9,  -999.0,9,-999.0000,9,  -999.00,     -999.0,9,     -999.0,9,     -999.0,9,     -999.0,9,     -999.0,9,     -999.0,9,     -999.0,9,     -999.0,9,     -999.0,9,     -999.0,9,     -999.0,9,     -999.0,9,     -999.0,9,     -999.0,9,     -999.0,9,     -999.0,9,     -999.0,9,     -999.0,9,     -999.0,9,     -999.0,9,     -999.0,9,     -999.0,9,     -999.0,9,     -999.0,9,     -999.0,9,     -999.0,9,     -999.0,9,     -999.0,9,  -1.8851,20150103,       0028
06AQ20141202,        A12,      42,          1,          2,2,20150103,       0023,   -70.5742,    -9.0567,        923,   404.8,  -1.8836,  34.3878,2,-999.0000,9,    321.7,2,   326.2,2,   62.68,2,   30.22,2,    0.00,2,    2.05,2,  -999.0,9,  -999.0,9,-999.0000,9,  -999.00,     -999.0,9,     -999.0,9,     -999.0,9,     -999.0,9,     -999.0,9,     -999.0,9,     -999.0,9,     -999.0,9,     -999.0,9,     -999.0,9,     -999.0,9,     -999.0,9,     -999.0,9,     -999.0,9,     -999.0,9,     -999.0,9,     -999.0,9,     -999.0,9,     -999.0,9,     -999.0,9,     -999.0,9,     -999.0,9,     -999.0,9,     -999.0,9,     -999.0,9,     -999.0,9,     -999.0,9,     -999.0,9,  -1.8926,20150103,       0026
06AQ20141202,        A12,      42,          1,          1,2,20150103,       0023,   -70.5742,    -9.0567,        923,   461.6,  -1.8824,  34.3877,2,-999.0000,9,    321.6,2,   326.6,2,   62.68,2,   30.24,2,    0.00,2,    2.06,2,  -999.0,9,  -999.0,9,-999.0000,9,  -999.00,     -999.0,9,     -999.0,9,     -999.0,9,     -999.0,9,     -999.0,9,     -999.0,9,     -999.0,9,     -999.0,9,     -999.0,9,     -999.0,9,     -999.0,9,     -999.0,9,     -999.0,9,     -999.0,9,     -999.0,9,     -999.0,9,     -999.0,9,     -999.0,9,     -999.0,9,     -999.0,9,     -999.0,9,     -999.0,9,     -999.0,9,     -999.0,9,     -999.0,9,     -999.0,9,     -999.0,9,     -999.0,9,  -1.8930,20150103,       0023
06AQ20141202,        A12,      49,          1,          2,2,20150107,       2223,   -70.5218,    -8.7580,       1005,    20.6,  -1.8135,  34.2749,2,-999.0000,9,    335.4,2,  -999.0,9, -999.00,9, -999.00,9, -999.00,9, -999.00,9,  -999.0,9,  -999.0,9,-999.0000,9,  -999.00,     -999.0,9,     -999.0,9,     -999.0,9,     -999.0,9,     -999.0,9,     -999.0,9,     -999.0,9,     -999.0,9,     -999.0,9,     -999.0,9,     -999.0,9,     -999.0,9,     -999.0,9,     -999.0,9,     -999.0,9,     -999.0,9,     -999.0,9,     -999.0,9,     -999.0,9,     -999.0,9,     -999.0,9,     -999.0,9,     -999.0,9,     -999.0,9,     -999.0,9,     -999.0,9,     -999.0,9,     -999.0,9,  -1.8139,20150107,       2223
06AQ20141202,        A12,      49,          1,          1,2,20150107,       2223,   -70.5218,    -8.7580,       1005,    20.6,  -1.8106,  34.2738,2,-999.0000,9,    335.4,2,  -999.0,9, -999.00,9, -999.00,9, -999.00,9, -999.00,9,  -999.0,9,  -999.0,9,-999.0000,9,  -999.00,     -999.0,9,     -999.0,9,     -999.0,9,     -999.0,9,     -999.0,9,     -999.0,9,     -999.0,9,     -999.0,9,     -999.0,9,     -999.0,9,     -999.0,9,     -999.0,9,     -999.0,9,     -999.0,9,     -999.0,9,     -999.0,9,     -999.0,9,     -999.0,9,     -999.0,9,     -999.0,9,     -999.0,9,     -999.0,9,     -999.0,9,     -999.0,9,     -999.0,9,     -999.0,9,     -999.0,9,     -999.0,9,  -1.8110,20150107,       2223