BOTTLE,20220815CCHSIOAMB
EXPOCODE,SECT_ID,STNNBR,CASTNO,BTLNBR,BTLNBR_FLAG_W,DATE,TIME,LATITUDE,LONGITUDE,DEPTH,CTDPRS,CTDTMP,CTDSAL,CTDSAL_FLAG_W,SALNTY,SALNTY_FLAG_W,CTDOXY,CTDOXY_FLAG_W,OXYGEN,OXYGEN_FLAG_W,SILCAT,SILCAT_FLAG_W,NITRAT,NITRAT_FLAG_W,NITRIT,NITRIT_FLAG_W,PHSPHT,PHSPHT_FLAG_W,TCARBN,TCARBN_FLAG_W,ALKALI,ALKALI_FLAG_W,PH_TOT,PH_TOT_FLAG_W,PH_TMP,POC,POC_FLAG_W,PON,PON_FLAG_W,FUCO,FUCO_FLAG_W,ALPHA-BETA-CAR,ALPHA-BETA-CAR_FLAG_W,ALLO,ALLO_FLAG_W,BUT-FUCO,BUT-FUCO_FLAG_W,CHL_C1C2,CHL_C1C2_FLAG_W,CHL_C3,CHL_C3_FLAG_W,CHLIDE_A,CHLIDE_A_FLAG_W,DIADINO,DIADINO_FLAG_W,DIATO,DIATO_FLAG_W,DV_CHL_A,DV_CHL_A_FLAG_W,DV_CHL_B,DV_CHL_B_FLAG_W,GYRO,GYRO_FLAG_W,HEX-FUCO,HEX-FUCO_FLAG_W,LUT,LUT_FLAG_W,MV_CHL_A,MV_CHL_A_FLAG_W,MV_CHL_B,MV_CHL_B_FLAG_W,NEO,NEO_FLAG_W,PERID,PERID_FLAG_W,PHIDE_A,PHIDE_A_FLAG_W,PHYTIN_A,PHYTIN_A_FLAG_W,PRAS,PRAS_FLAG_W,TOT_CHL_A,TOT_CHL_A_FLAG_W,TOT_CHL_B,TOT_CHL_B_FLAG_W,TOT_CHL_C,TOT_CHL_C_FLAG_W,VIOLA,VIOLA_FLAG_W,ZEA,ZEA_FLAG_W,THETA,BTL_DATE,BTL_TIME
,,,,,,,,,,METERS,DBAR,ITS-90,PSS-78,,PSS-78,,UMOL/KG,,UMOL/KG,,UMOL/KG,,UMOL/KG,,UMOL/KG,,UMOL/KG,,UMOL/KG,,UMOL/KG,,,,DEG C,uG/KG,,ug/kg,,NMOL/KG,,MG/M^3,,MG/M^3,,MG/M^3,,MG/M^3,,MG/M^3,,MG/M^3,,MG/M^3,,MG/M^3,,MG/M^3,,MG/M^3,,MG/M^3,,MG/M^3,,MG/M^3,,MG/M^3,,MG/M^3,,MG/M^3,,MG/M^3,,MG/M^3,,MG/M^3,,MG/M^3,,MG/M^3,,MG/M^3,,MG/M^3,,MG/M^3,,MG/M^3,,DEG C,,
06AQ20141202,        A12,      13,          1,         24,2,20141211,       0819,   -54.2542,    -0.0080,       2728,    24.7,  -0.4504,  33.8851,2,-999.0000,9,    355.1,2,   359.9,2,   37.41,2,   24.52,2,    0.28,2,    1.59,2,  2173.2,2,  2295.4,2,-999.0000,9,  -999.00,     -999.0,9,     -999.0,9,     -999.0,9,     -999.0,9,     -999.0,9,     -999.0,9,     -999.0,9,     -999.0,9,     -999.0,9,     -999.0,9,     -999.0,9,     -999.0,9,     -999.0,9,     -999.0,9,     -999.0,9,     -999.0,9,     -999.0,9,     -999.0,9,     -999.0,9,     -999.0,9,     -999.0,9,     -999.0,9,     -999.0,9,     -999.0,9,     -999.0,9,     -999.0,9,     -999.0,9,     -999.0,9,  -0.4511,20141211,       0925
06AQ20141202,        A12,      13,          1,         23,2,20141211,       0819,   -54.2542,    -0.0080,       2728,    50.3,  -0.4534,  33.8857,2,-999.0000,9,    354.3,2,   359.6,2,   37.60,2,   24.42,2,    0.27,2,    1.60,2,  2183.9,2,  2296.0,2,-999.0000,9,  -999.00,     -999.0,9,     -999.0,9,     -999.0,9,     -999.0,9,     -999.0,9,     -999.0,9,     -999.0,9,     -999.0,9,     -999.0,9,     -999.0,9,     -999.0,9,     -999.0,9,     -999.0,9,     -999.0,9,     -999.0,9,     -999.0,9,     -999.0,9,     -999.0,9,     -999.0,9,     -999.0,9,     -999.0,9,     -999.0,9,     -999.0,9,     -999.0,9,     -999.0,9,     -999.0,9,     -999.0,9,     -999.0,9,  -0.4549,20141211,       0923
06AQ20141202,        A12,      13,          1,         22,2,20141211,       0819,   -54.2542,    -0.0080,       2728,    50.4,  -0.4552,  33.8863,2,-999.0000,9,    354.9,2,   359.6,2, -999.00,9, -999.00,9, -999.00,9, -999.00,9,  2183.9,2,  2296.0,2,-999.0000,9,  -999.00,     -999.0,9,     -999.0,9,     -999.0,9,     -999.0,9,     -999.0,9,     -999.0,9,     -999.0,9,     -999.0,9,     -999.0,9,     -999.0,9,     -999.0,9,     -999.0,9,     -999.0,9,     -999.0,9,     -999.0,9,     -999.0,9,     -999.0,9,     -999.0,9,     -999.0,9,     -999.0,9,     -999.0,9,     -999.0,9,     -999.0,9,     -999.0,9,     -999.0,9,     -999.0,9,     -999.0,9,     -999.0,9,  -0.4567,20141211,       0923
06AQ20141202,        A12,      13,          1,         21,2,20141211,       0819,   -54.2542,    -0.0080,       2728,    75.6,  -0.4747,  33.8904,2,-999.0000,9,    354.2,2,   358.8,2,   38.19,2,   24.39,2,    0.28,2,    1.62,2,  2175.4,2,  2296.3,2,-999.0000,9,  -999.00,     -999.0,9,     -999.0,9,     -999.0,9,     -999.0,9,     -999.0,9,     -999.0,9,     -999.0,9,     -999.0,9,     -999.0,9,     -999.0,9,     -999.0,9,     -999.0,9,     -999.0,9,     -999.0,9,     -999.0,9,     -999.0,9,     -999.0,9,     -999.0,9,     -999.0,9,     -999.0,9,     -999.0,9,     -999.0,9,     -999.0,9,     -999.0,9,     -999.0,9,     -999.0,9,     -999.0,9,     -999.0,9,  -0.4770,20141211,       0922
06AQ20141202,        A12,      13,          1,         20,2,20141211,       0819,   -54.2542,    -0.0080,       2728,   100.4,  -0.5380,  33.8993,2,-999.0000,9,    353.4,2,   357.6,2,   39.16,2,   24.62,2,    0.30,2,    1.68,2,  2176.7,2,  2295.8,2,-999.0000,9,  -999.00,     -999.0,9,     -999.0,9,     -999.0,9,     -999.0,9,     -999.0,9,     -999.0,9,     -999.0,9,     -999.0,9,     -999.0,9,     -999.0,9,     -999.0,9,     -999.0,9,     -999.0,9,     -999.0,9,     -999.0,9,     -999.0,9,     -999.0,9,     -999.0,9,     -999.0,9,     -999.0,9,     -999.0,9,     -999.0,9,     -999.0,9,     -999.0,9,     -999.0,9,     -999.0,9,     -999.0,9,     -999.0,9,  -0.5410,20141211,       0920
06AQ20141202,        A12,      13,          1,         19,2,20141211,       0819,   -54.2542,    -0.0080,       2728,   127.7,  -0.6167,  33.9089,2,-999.0000,9,    351.2,2,   356.6,2,   40.33,2,   25.00,2,    0.29,2,    1.70,2,  2180.3,2,  2295.4,2,-999.0000,9,  -999.00,     -999.0,9,     -999.0,9,     -999.0,9,     -999.0,9,     -999.0,9,     -999.0,9,     -999.0,9,     -999.0,9,     -999.0,9,     -999.0,9,     -999.0,9,     -999.0,9,     -999.0,9,     -999.0,9,     -999.0,9,     -999.0,9,     -999.0,9,     -999.0,9,     -999.0,9,     -999.0,9,     -999.0,9,     -999.0,9,     -999.0,9,     -999.0,9,     -999.0,9,     -999.0,9,     -999.0,9,     -999.0,9,  -0.6205,20141211,       0919
06AQ20141202,        A12,      13,          1,         18,2,20141211,       0819,   -54.2542,    -0.0080,       2728,   150.9,  -0.8518,  33.9427,2,-999.0000,9,    337.9,2,   343.1,2,   45.80,2,   26.82,2,    0.24,2,    1.88,2,  2191.5,2,  2298.2,2,-999.0000,9,  -999.00,     -999.0,9,     -999.0,9,     -999.0,9,     -999.0,9,     -999.0,9,     -999.0,9,     -999.0,9,     -999.0,9,     -999.0,9,     -999.0,9,     -999.0,9,     -999.0,9,     -999.0,9,     -999.0,9,     -999.0,9,     -999.0,9,     -999.0,9,     -999.0,9,     -999.0,9,     -999.0,9,     -999.0,9,     -999.0,9,     -999.0,9,     -999.0,9,     -999.0,9,     -999.0,9,     -999.0,9,     -999.0,9,  -0.8560,20141211,       0918
06AQ20141202,        A12,      13,          1,         17,2,20141211,       0819,   -54.2542,    -0.0080,       2728,   201.9,  -0.0322,  34.2184,2,-999.0000,9,    259.1,2,   266.3,2,   63.95,2,   31.62,2,    0.04,2,    2.20,2,  2230.4,2,  2310.5,2,-999.0000,9,  -999.00,     -999.0,9,     -999.0,9,     -999.0,9,     -999.0,9,     -999.0,9,     -999.0,9,     -999.0,9,     -999.0,9,     -999.0,9,     -999.0,9,     -999.0,9,     -999.0,9,     -999.0,9,     -999.0,9,     -999.0,9,     -999.0,9,     -999.0,9,     -999.0,9,     -999.0,9,     -999.0,9,     -999.0,9,     -999.0,9,     -999.0,9,     -999.0,9,     -999.0,9,     -999.0,9,     -999.0,9,     -999.0,9,  -0.0395,20141211,       0916
06AQ20141202,        A12,      13,          1,         16,2,20141211,       0819,   -54.2542,    -0.0080,       2728,   253.7,   0.8690,  34.3840,2,-999.0000,9,    215.6,2,   217.0,2,   64.04,2,   31.63,2,    0.04,2,    2.21,2,  2248.3,2,  2322.6,2,-999.0000,9,  -999.00,     -999.0,9,     -999.0,9,     -999.0,9,     -999.0,9,     -999.0,9,     -999.0,9,     -999.0,9,     -999.0,9,     -999.0,9,     -999.0,9,     -999.0,9,     -999.0,9,     -999.0,9,     -999.0,9,     -999.0,9,     -999.0,9,     -999.0,9,     -999.0,9,     -999.0,9,     -999.0,9,     -999.0,9,     -999.0,9,     -999.0,9,     -999.0,9,     -999.0,9,     -999.0,9,     -999.0,9,     -999.0,9,   0.8578,20141211,       0914
06AQ20141202,        A12,      13,          1,         15,2,20141211,       0819,   -54.2542,    -0.0080,       2728,   303.1,   1.6043,  34.5410,2,-999.0000,9,    182.9,2,   185.7,2,   81.02,2,   34.40,2,    0.00,2,    2.37,2,  2260.1,2,  2333.9,2,-999.0000,9,  -999.00,     -999.0,9,     -999.0,9,     -999.0,9,     -999.0,9,     -999.0,9,     -999.0,9,     -999.0,9,     -999.0,9,     -999.0,9,     -999.0,9,     -999.0,9,     -999.0,9,     -999.0,9,     -999.0,9,     -999.0,9,     -999.0,9,     -999.0,9,     -999.0,9,     -999.0,9,     -999.0,9,     -999.0,9,     -999.0,9,     -999.0,9,     -999.0,9,     -999.0,9,     -999.0,9,     -999.0,9,     -999.0,9,   1.5888,20141211,       0913
06AQ20141202,        A12,      13,          1,         14,2,20141211,       0819,   -54.2542,    -0.0080,       2728,   404.4,   1.7574,  34.6127,2,-999.0000,9,    176.4,2,   179.2,2,   85.51,2,   34.07,2,    0.00,2,    2.35,2,  2262.2,2,  2341.1,2,-999.0000,9,  -999.00,     -999.0,9,     -999.0,9,     -999.0,9,     -999.0,9,     -999.0,9,     -999.0,9,     -999.0,9,     -999.0,9,     -999.0,9,     -999.0,9,     -999.0,9,     -999.0,9,     -999.0,9,     -999.0,9,     -999.0,9,     -999.0,9,     -999.0,9,     -999.0,9,     -999.0,9,     -999.0,9,     -999.0,9,     -999.0,9,     -999.0,9,     -999.0,9,     -999.0,9,     -999.0,9,     -999.0,9,     -999.0,9,   1.7358,20141211,       0910
06AQ20141202,        A12,      13,          1,         13,2,20141211,       0819,   -54.2542,    -0.0080,       2728,   507.2,   1.7350,  34.6564,2,-999.0000,9,    178.2,2,   181.2,2,   87.07,2,   33.14,2,    0.00,2,    2.30,2,  2262.8,2,  2349.5,2,-999.0000,9,  -999.00,     -999.0,9,     -999.0,9,     -999.0,9,     -999.0,9,     -999.0,9,     -999.0,9,     -999.0,9,     -999.0,9,     -999.0,9,     -999.0,9,     -999.0,9,     -999.0,9,     -999.0,9,     -999.0,9,     -999.0,9,     -999.0,9,     -999.0,9,     -999.0,9,     -999.0,9,     -999.0,9,     -999.0,9,     -999.0,9,     -999.0,9,     -999.0,9,     -999.0,9,     -999.0,9,     -999.0,9,     -999.0,9,   1.7076,20141211,       0908
06AQ20141202,        A12,      13,          1,         12,2,20141211,       0819,   -54.2542,    -0.0080,       2728,   606.4,   1.6742,  34.6780,2,-999.0000,9,    181.4,2,   184.6,2,   90.87,2,   32.82,2,    0.00,2,    2.26,2,  2256.7,2,  2350.6,2,-999.0000,9,  -999.00,     -999.0,9,     -999.0,9,     -999.0,9,     -999.0,9,     -999.0,9,     -999.0,9,     -999.0,9,     -999.0,9,     -999.0,9,     -999.0,9,     -999.0,9,     -999.0,9,     -999.0,9,     -999.0,9,     -999.0,9,     -999.0,9,     -999.0,9,     -999.0,9,     -999.0,9,     -999.0,9,     -999.0,9,     -999.0,9,     -999.0,9,     -999.0,9,     -999.0,9,     -999.0,9,     -999.0,9,     -999.0,9,   1.6412,20141211,       0906
06AQ20141202,        A12,      13,          1,         11,2,20141211,       0819,   -54.2542,    -0.0080,       2728,   708.3,   1.6184,  34.6921,2,-999.0000,9,    184.4,2,   186.9,2,   92.53,2,   32.51,2,    0.00,2,    2.25,2,  2259.8,2,  2352.8,2,-999.0000,9,  -999.00,     -999.0,9,     -999.0,9,     -999.0,9,     -999.0,9,     -999.0,9,     -999.0,9,     -999.0,9,     -999.0,9,     -999.0,9,     -999.0,9,     -999.0,9,     -999.0,9,     -999.0,9,     -999.0,9,     -999.0,9,     -999.0,9,     -999.0,9,     -999.0,9,     -999.0,9,     -999.0,9,     -999.0,9,     -999.0,9,     -999.0,9,     -999.0,9,     -999.0,9,     -999.0,9,     -999.0,9,     -999.0,9,   1.5795,20141211,       0903
06AQ20141202,        A12,      13,          1,         10,2,20141211,       0819,   -54.2542,    -0.0080,       2728,   809.7,   1.5056,  34.6986,2,-999.0000,9,    187.6,2,   191.1,2,   94.97,2,   32.13,2,    0.00,2,    2.23,2,  2259.1,2,  2351.3,2,-999.0000,9,  -999.00,     -999.0,9,     -999.0,9,     -999.0,9,     -999.0,9,     -999.0,9,     -999.0,9,     -999.0,9,     -999.0,9,     -999.0,9,     -999.0,9,     -999.0,9,     -999.0,9,     -999.0,9,     -999.0,9,     -999.0,9,     -999.0,9,     -999.0,9,     -999.0,9,     -999.0,9,     -999.0,9,     -999.0,9,     -999.0,9,     -999.0,9,     -999.0,9,     -999.0,9,     -999.0,9,     -999.0,9,     -999.0,9,   1.4612,20141211,       0901
06AQ20141202,        A12,      13,          1,          9,2,20141211,       0819,   -54.2542,    -0.0080,       2728,   909.9,   1.4069,  34.7042,2,-999.0000,9,    190.8,2,   196.0,2,   97.61,2,   32.00,2,    0.00,2,    2.21,2,  2257.8,2,  2348.6,2,-999.0000,9,  -999.00,     -999.0,9,     -999.0,9,     -999.0,9,     -999.0,9,     -999.0,9,     -999.0,9,     -999.0,9,     -999.0,9,     -999.0,9,     -999.0,9,     -999.0,9,     -999.0,9,     -999.0,9,     -999.0,9,     -999.0,9,     -999.0,9,     -999.0,9,     -999.0,9,     -999.0,9,     -999.0,9,     -999.0,9,     -999.0,9,     -999.0,9,     -999.0,9,     -999.0,9,     -999.0,9,     -999.0,9,     -999.0,9,   1.3569,20141211,       0859
06AQ20141202,        A12,      13,          1,          8,2,20141211,       0819,   -54.2542,    -0.0080,       2728,  1013.2,   1.2401,  34.7070,2,-999.0000,9,    194.1,2,   198.2,2,  101.61,2,   31.79,2,    0.00,2,    2.21,2,  2258.1,2,  2354.6,2,-999.0000,9,  -999.00,     -999.0,9,     -999.0,9,     -999.0,9,     -999.0,9,     -999.0,9,     -999.0,9,     -999.0,9,     -999.0,9,     -999.0,9,     -999.0,9,     -999.0,9,     -999.0,9,     -999.0,9,     -999.0,9,     -999.0,9,     -999.0,9,     -999.0,9,     -999.0,9,     -999.0,9,     -999.0,9,     -999.0,9,     -999.0,9,     -999.0,9,     -999.0,9,     -999.0,9,     -999.0,9,     -999.0,9,     -999.0,9,   1.1849,20141211,       0856
06AQ20141202,        A12,      13,          1,          7,2,20141211,       0819,   -54.2542,    -0.0080,       2728,  1214.7,   1.0368,  34.7031,2,-999.0000,9,    197.6,2,   202.1,2,  106.00,2,   31.80,2,    0.00,2,    2.22,2,  2259.0,2,  2354.7,2,-999.0000,9,  -999.00,     -999.0,9,     -999.0,9,     -999.0,9,     -999.0,9,     -999.0,9,     -999.0,9,     -999.0,9,     -999.0,9,     -999.0,9,     -999.0,9,     -999.0,9,     -999.0,9,     -999.0,9,     -999.0,9,     -999.0,9,     -999.0,9,     -999.0,9,     -999.0,9,     -999.0,9,     -999.0,9,     -999.0,9,     -999.0,9,     -999.0,9,     -999.0,9,     -999.0,9,     -999.0,9,     -999.0,9,     -999.0,9,   0.9706,20141211,       0852
06AQ20141202,        A12,      13,          1,          6,2,20141211,       0819,   -54.2542,    -0.0080,       2728,  1417.1,   0.8536,  34.6969,2,-999.0000,9,    199.9,2,   204.9,2,  110.68,2,   32.07,2,    0.00,2,    2.24,2,  2262.5,2,  2356.0,2,-999.0000,9,  -999.00,     -999.0,9,     -999.0,9,     -999.0,9,     -999.0,9,     -999.0,9,     -999.0,9,     -999.0,9,     -999.0,9,     -999.0,9,     -999.0,9,     -999.0,9,     -999.0,9,     -999.0,9,     -999.0,9,     -999.0,9,     -999.0,9,     -999.0,9,     -999.0,9,     -999.0,9,     -999.0,9,     -999.0,9,     -999.0,9,     -999.0,9,     -999.0,9,     -999.0,9,     -999.0,9,     -999.0,9,     -999.0,9,   0.7760,20141211,       0847
06AQ20141202,        A12,      13,          1,          5,2,20141211,       0819,   -54.2542,    -0.0080,       2728,  1622.6,   0.6963,  34.6910,2,-999.0000,9,    202.2,2,   207.1,2,  113.71,2,   32.56,2,    0.00,2,    2.25,2,  2258.7,2,  2354.7,2,-999.0000,9,  -999.00,     -999.0,9,     -999.0,9,     -999.0,9,     -999.0,9,     -999.0,9,     -999.0,9,     -999.0,9,     -999.0,9,     -999.0,9,     -999.0,9,     -999.0,9,     -999.0,9,     -999.0,9,     -999.0,9,     -999.0,9,     -999.0,9,     -999.0,9,     -999.0,9,     -999.0,9,     -999.0,9,     -999.0,9,     -999.0,9,     -999.0,9,     -999.0,9,     -999.0,9,     -999.0,9,     -999.0,9,     -999.0,9,   0.6067,20141211,       0843
06AQ20141202,        A12,      13,          1,          4,2,20141211,       0819,   -54.2542,    -0.0080,       2728,  1826.2,   0.5781,  34.6870,2,-999.0000,9,    203.8,2,   209.2,2,  116.83,2,   32.70,2,    0.00,2,    2.26,2,  2262.8,2,  2357.7,2,-999.0000,9,  -999.00,     -999.0,9,     -999.0,9,     -999.0,9,     -999.0,9,     -999.0,9,     -999.0,9,     -999.0,9,     -999.0,9,     -999.0,9,     -999.0,9,     -999.0,9,     -999.0,9,     -999.0,9,     -999.0,9,     -999.0,9,     -999.0,9,     -999.0,9,     -999.0,9,     -999.0,9,     -999.0,9,     -999.0,9,     -999.0,9,     -999.0,9,     -999.0,9,     -999.0,9,     -999.0,9,     -999.0,9,     -999.0,9,   0.4759,20141211,       0838
06AQ20141202,        A12,      13,          1,          3,2,20141211,       0819,   -54.2542,    -0.0080,       2728,  2029.0,   0.4730,  34.6842,2,-999.0000,9,    205.8,2,   211.7,2,  120.25,2,   32.64,2,    0.00,2,    2.25,2,  2262.1,2,  2357.6,2,-999.0000,9,  -999.00,     -999.0,9,     -999.0,9,     -999.0,9,     -999.0,9,     -999.0,9,     -999.0,9,     -999.0,9,     -999.0,9,     -999.0,9,     -999.0,9,     -999.0,9,     -999.0,9,     -999.0,9,     -999.0,9,     -999.0,9,     -999.0,9,     -999.0,9,     -999.0,9,     -999.0,9,     -999.0,9,     -999.0,9,     -999.0,9,     -999.0,9,     -999.0,9,     -999.0,9,     -999.0,9,     -999.0,9,     -999.0,9,   0.3577,20141211,       0834
06AQ20141202,        A12,      13,          1,          2,2,20141211,       0819,   -54.2542,    -0.0080,       2728,  2232.8,   0.4130,  34.6819,2,-999.0000,9,    207.1,2,   212.4,2,  123.67,2,   32.90,2,    0.00,2,    2.27,2,  2264.5,2,  2357.3,2,-999.0000,9,  -999.00,     -999.0,9,     -999.0,9,     -999.0,9,     -999.0,9,     -999.0,9,     -999.0,9,     -999.0,9,     -999.0,9,     -999.0,9,     -999.0,9,     -999.0,9,     -999.0,9,     -999.0,9,     -999.0,9,     -999.0,9,     -999.0,9,     -999.0,9,     -999.0,9,     -999.0,9,     -999.0,9,     -999.0,9,     -999.0,9,     -999.0,9,     -999.0,9,     -999.0,9,     -999.0,9,     -999.0,9,     -999.0,9,   0.2834,20141211,       0830
06AQ20141202,        A12,      13,          1,          1,2,20141211,       0819,   -54.2542,    -0.0080,       2728,  2717.7,   0.3901,  34.6804,2,-999.0000,9,    207.7,2,   213.6,2,  127.38,2,   32.86,2,    0.00,2,    2.28,2,  2265.6,2,  2359.7,2,-999.0000,9,  -999.00,     -999.0,9,     -999.0,9,     -999.0,9,     -999.0,9,     -999.0,9,     -999.0,9,     -999.0,9,     -999.0,9,     -999.0,9,     -999.0,9,     -999.0,9,     -999.0,9,     -999.0,9,     -999.0,9,     -999.0,9,     -999.0,9,     -999.0,9,     -999.0,9,     -999.0,9,     -999.0,9,     -999.0,9,     -999.0,9,     -999.0,9,     -999.0,9,     -999.0,9,     -999.0,9,     -999.0,9,     -999.0,9,   0.2221,20141211,       0819