BOTTLE,20220815CCHSIOAMB
EXPOCODE,SECT_ID,STNNBR,CASTNO,BTLNBR,BTLNBR_FLAG_W,DATE,TIME,LATITUDE,LONGITUDE,DEPTH,CTDPRS,CTDTMP,CTDSAL,CTDSAL_FLAG_W,SALNTY,SALNTY_FLAG_W,CTDOXY,CTDOXY_FLAG_W,OXYGEN,OXYGEN_FLAG_W,SILCAT,SILCAT_FLAG_W,NITRAT,NITRAT_FLAG_W,NITRIT,NITRIT_FLAG_W,PHSPHT,PHSPHT_FLAG_W,TCARBN,TCARBN_FLAG_W,ALKALI,ALKALI_FLAG_W,PH_TOT,PH_TOT_FLAG_W,PH_TMP,POC,POC_FLAG_W,PON,PON_FLAG_W,FUCO,FUCO_FLAG_W,ALPHA-BETA-CAR,ALPHA-BETA-CAR_FLAG_W,ALLO,ALLO_FLAG_W,BUT-FUCO,BUT-FUCO_FLAG_W,CHL_C1C2,CHL_C1C2_FLAG_W,CHL_C3,CHL_C3_FLAG_W,CHLIDE_A,CHLIDE_A_FLAG_W,DIADINO,DIADINO_FLAG_W,DIATO,DIATO_FLAG_W,DV_CHL_A,DV_CHL_A_FLAG_W,DV_CHL_B,DV_CHL_B_FLAG_W,GYRO,GYRO_FLAG_W,HEX-FUCO,HEX-FUCO_FLAG_W,LUT,LUT_FLAG_W,MV_CHL_A,MV_CHL_A_FLAG_W,MV_CHL_B,MV_CHL_B_FLAG_W,NEO,NEO_FLAG_W,PERID,PERID_FLAG_W,PHIDE_A,PHIDE_A_FLAG_W,PHYTIN_A,PHYTIN_A_FLAG_W,PRAS,PRAS_FLAG_W,TOT_CHL_A,TOT_CHL_A_FLAG_W,TOT_CHL_B,TOT_CHL_B_FLAG_W,TOT_CHL_C,TOT_CHL_C_FLAG_W,VIOLA,VIOLA_FLAG_W,ZEA,ZEA_FLAG_W,THETA,BTL_DATE,BTL_TIME
,,,,,,,,,,METERS,DBAR,ITS-90,PSS-78,,PSS-78,,UMOL/KG,,UMOL/KG,,UMOL/KG,,UMOL/KG,,UMOL/KG,,UMOL/KG,,UMOL/KG,,UMOL/KG,,,,DEG C,uG/KG,,ug/kg,,NMOL/KG,,MG/M^3,,MG/M^3,,MG/M^3,,MG/M^3,,MG/M^3,,MG/M^3,,MG/M^3,,MG/M^3,,MG/M^3,,MG/M^3,,MG/M^3,,MG/M^3,,MG/M^3,,MG/M^3,,MG/M^3,,MG/M^3,,MG/M^3,,MG/M^3,,MG/M^3,,MG/M^3,,MG/M^3,,MG/M^3,,MG/M^3,,MG/M^3,,MG/M^3,,DEG C,,
06AQ20141202,        A12,       8,          1,         24,2,20141208,       2319,   -49.0178,     2.8418,       4246,    28.6,   4.9082,  33.7938,2,  33.7946,2,    313.9,2,   317.3,2,    3.03,2,   20.71,2,    0.30,2,    1.45,2,  2120.5,2,  2270.6,2,   7.7444,2,    25.00,         61,2,         12,2,     0.0490,2,      0.002,2,      0.001,2,      0.011,2,      0.030,2,      0.020,2,      0.001,2,      0.007,2,     -999.0,9,     -999.0,9,     -999.0,9,     -999.0,9,      0.038,2,     -999.0,9,      0.208,2,      0.016,2,      0.001,2,      0.008,2,      0.011,2,      0.003,2,      0.004,2,      0.209,2,      0.016,2,      0.050,2,      0.001,2,     -999.0,9,   4.9061,20141208,       0042
06AQ20141202,        A12,       8,          1,         23,2,20141208,       2319,   -49.0178,     2.8418,       4246,    27.9,   4.9086,  33.7941,2,  33.7946,2,    314.0,2,   316.9,2,    2.83,2,   20.83,2,    0.30,2,    1.47,2,  2119.8,2,  2270.2,2,   7.7450,2,    25.00,         53,2,         10,2,     0.0710,2,      0.004,2,      0.001,2,      0.020,2,      0.036,2,      0.024,2,      0.001,2,      0.017,2,      0.001,2,     -999.0,9,     -999.0,9,     -999.0,9,      0.054,2,     -999.0,9,      0.240,2,      0.017,2,      0.002,2,      0.009,2,      0.017,2,      0.007,2,      0.004,2,      0.241,2,      0.017,2,      0.060,2,      0.001,2,      0.001,2,   4.9065,20141208,       0042
06AQ20141202,        A12,       8,          1,         22,2,20141208,       2319,   -49.0178,     2.8418,       4246,    56.1,   4.9117,  33.7940,2,  33.7947,2,    313.3,2,   316.7,2,    2.93,2,   20.80,2,    0.29,2,    1.46,2,  2118.3,2,  2268.7,2,   7.7445,2,    25.00,         58,2,         13,2,     0.0770,2,      0.004,2,      0.001,2,      0.021,2,      0.039,2,      0.026,2,      0.003,2,      0.017,2,      0.001,2,     -999.0,9,     -999.0,9,     -999.0,9,      0.055,2,     -999.0,9,      0.250,2,      0.017,2,      0.002,2,      0.010,2,      0.017,2,      0.005,2,      0.004,2,      0.253,2,      0.017,2,      0.065,2,      0.001,2,      0.001,2,   4.9075,20141208,       0041
06AQ20141202,        A12,       8,          1,         21,2,20141208,       2319,   -49.0178,     2.8418,       4246,    74.3,   4.9104,  33.7961,2,  33.7972,2,    313.0,2,   316.1,2,    3.13,2,   20.80,2,    0.31,2,    1.47,2,  2119.0,2,  2268.0,2,   7.7437,2,    25.00,     -999.0,9,     -999.0,9,     -999.0,9,     -999.0,9,     -999.0,9,     -999.0,9,     -999.0,9,     -999.0,9,     -999.0,9,     -999.0,9,     -999.0,9,     -999.0,9,     -999.0,9,     -999.0,9,     -999.0,9,     -999.0,9,     -999.0,9,     -999.0,9,     -999.0,9,     -999.0,9,     -999.0,9,     -999.0,9,     -999.0,9,     -999.0,9,     -999.0,9,     -999.0,9,     -999.0,9,     -999.0,9,   4.9049,20141208,       0040
06AQ20141202,        A12,       8,          1,         20,2,20141208,       2319,   -49.0178,     2.8418,       4246,   101.7,   4.8818,  33.7980,2,  33.8003,2,    312.3,2,   315.5,2,    3.22,2,   20.83,2,    0.40,2,    1.47,2,  2119.6,2,  2266.4,2,   7.7424,2,    25.00,     -999.0,9,     -999.0,9,     -999.0,9,     -999.0,9,     -999.0,9,     -999.0,9,     -999.0,9,     -999.0,9,     -999.0,9,     -999.0,9,     -999.0,9,     -999.0,9,     -999.0,9,     -999.0,9,     -999.0,9,     -999.0,9,     -999.0,9,     -999.0,9,     -999.0,9,     -999.0,9,     -999.0,9,     -999.0,9,     -999.0,9,     -999.0,9,     -999.0,9,     -999.0,9,     -999.0,9,     -999.0,9,   4.8742,20141208,       0039
06AQ20141202,        A12,       8,          1,         19,2,20141208,       2319,   -49.0178,     2.8418,       4246,   152.5,   3.9717,  33.9517,2,  33.9502,2,    292.1,2,   297.3,2,    7.72,2,   24.70,2,    0.04,2,    1.71,2,  2138.7,2,  2270.6,2,   7.6948,2,    25.00,     -999.0,9,     -999.0,9,     -999.0,9,     -999.0,9,     -999.0,9,     -999.0,9,     -999.0,9,     -999.0,9,     -999.0,9,     -999.0,9,     -999.0,9,     -999.0,9,     -999.0,9,     -999.0,9,     -999.0,9,     -999.0,9,     -999.0,9,     -999.0,9,     -999.0,9,     -999.0,9,     -999.0,9,     -999.0,9,     -999.0,9,     -999.0,9,     -999.0,9,     -999.0,9,     -999.0,9,     -999.0,9,   3.9613,20141208,       0038
06AQ20141202,        A12,       8,          1,         18,2,20141208,       2319,   -49.0178,     2.8418,       4246,   204.7,   3.6834,  34.1065,2,  34.1074,2,    272.4,2,   276.1,2,   15.23,2,   27.51,2,    0.00,2,    1.88,2,  2159.1,2,  2276.2,2,   7.6593,2,    25.00,     -999.0,9,     -999.0,9,     -999.0,9,     -999.0,9,     -999.0,9,     -999.0,9,     -999.0,9,     -999.0,9,     -999.0,9,     -999.0,9,     -999.0,9,     -999.0,9,     -999.0,9,     -999.0,9,     -999.0,9,     -999.0,9,     -999.0,9,     -999.0,9,     -999.0,9,     -999.0,9,     -999.0,9,     -999.0,9,     -999.0,9,     -999.0,9,     -999.0,9,     -999.0,9,     -999.0,9,     -999.0,9,   3.6698,20141208,       0036
06AQ20141202,        A12,       8,          1,         17,2,20141208,       2319,   -49.0178,     2.8418,       4246,   304.1,   2.8466,  34.1164,2,  34.1169,2,    263.6,2,   268.4,2,   23.53,2,   29.48,2,    0.00,2,    2.04,2,  2176.2,2,  2282.7,2,   7.6345,2,    25.00,     -999.0,9,     -999.0,9,     -999.0,9,     -999.0,9,     -999.0,9,     -999.0,9,     -999.0,9,     -999.0,9,     -999.0,9,     -999.0,9,     -999.0,9,     -999.0,9,     -999.0,9,     -999.0,9,     -999.0,9,     -999.0,9,     -999.0,9,     -999.0,9,     -999.0,9,     -999.0,9,     -999.0,9,     -999.0,9,     -999.0,9,     -999.0,9,     -999.0,9,     -999.0,9,     -999.0,9,     -999.0,9,   2.8282,20141208,       0034
06AQ20141202,        A12,       8,          1,         16,2,20141208,       2319,   -49.0178,     2.8418,       4246,   404.7,   2.7043,  34.1789,2,  34.1774,2,    242.1,2,   246.7,2,   31.34,2,   31.12,2,    0.00,2,    2.13,2,  2189.2,2,  2291.8,2,   7.6086,6,    25.00,     -999.0,9,     -999.0,9,     -999.0,9,     -999.0,9,     -999.0,9,     -999.0,9,     -999.0,9,     -999.0,9,     -999.0,9,     -999.0,9,     -999.0,9,     -999.0,9,     -999.0,9,     -999.0,9,     -999.0,9,     -999.0,9,     -999.0,9,     -999.0,9,     -999.0,9,     -999.0,9,     -999.0,9,     -999.0,9,     -999.0,9,     -999.0,9,     -999.0,9,     -999.0,9,     -999.0,9,     -999.0,9,   2.6799,20141208,       0032
06AQ20141202,        A12,       8,          1,         15,2,20141208,       2319,   -49.0178,     2.8418,       4246,   603.8,   2.7105,  34.3529,2,  34.3561,2,    193.3,2,   197.8,2,   51.16,2,   33.84,2,    0.00,2,    2.33,2,  2224.3,2,  2309.3,2,   7.5590,2,    25.00,     -999.0,9,     -999.0,9,     -999.0,9,     -999.0,9,     -999.0,9,     -999.0,9,     -999.0,9,     -999.0,9,     -999.0,9,     -999.0,9,     -999.0,9,     -999.0,9,     -999.0,9,     -999.0,9,     -999.0,9,     -999.0,9,     -999.0,9,     -999.0,9,     -999.0,9,     -999.0,9,     -999.0,9,     -999.0,9,     -999.0,9,     -999.0,9,     -999.0,9,     -999.0,9,     -999.0,9,     -999.0,9,   2.6729,20141208,       0029
06AQ20141202,        A12,       8,          1,         14,2,20141208,       2319,   -49.0178,     2.8418,       4246,   811.8,   2.5753,  34.4971,2,  34.4963,2,    172.4,2,   175.8,2,   65.60,2,   34.22,2,    0.00,2,    2.36,2,  2244.6,2,  2324.6,2,   7.5472,2,    25.00,     -999.0,9,     -999.0,9,     -999.0,9,     -999.0,9,     -999.0,9,     -999.0,9,     -999.0,9,     -999.0,9,     -999.0,9,     -999.0,9,     -999.0,9,     -999.0,9,     -999.0,9,     -999.0,9,     -999.0,9,     -999.0,9,     -999.0,9,     -999.0,9,     -999.0,9,     -999.0,9,     -999.0,9,     -999.0,9,     -999.0,9,     -999.0,9,     -999.0,9,     -999.0,9,     -999.0,9,     -999.0,9,   2.5241,20141208,       0024
06AQ20141202,        A12,       8,          1,         13,2,20141208,       2319,   -49.0178,     2.8418,       4246,   908.9,   2.5229,  34.5371,2,  34.5372,2,    168.7,2,   172.3,2,   69.31,2,   34.33,2,    0.00,2,    2.37,2,  2248.0,2,  2329.4,2,   7.5449,2,    25.00,     -999.0,9,     -999.0,9,     -999.0,9,     -999.0,9,     -999.0,9,     -999.0,9,     -999.0,9,     -999.0,9,     -999.0,9,     -999.0,9,     -999.0,9,     -999.0,9,     -999.0,9,     -999.0,9,     -999.0,9,     -999.0,9,     -999.0,9,     -999.0,9,     -999.0,9,     -999.0,9,     -999.0,9,     -999.0,9,     -999.0,9,     -999.0,9,     -999.0,9,     -999.0,9,     -999.0,9,     -999.0,9,   2.4652,20141208,       0022
06AQ20141202,        A12,       8,          1,         12,2,20141208,       2319,   -49.0178,     2.8418,       4246,  1010.3,   2.5614,  34.5964,2,  34.5980,2,    170.4,2,   174.5,2,   69.89,2,   33.30,2,    0.00,2,    2.28,2,  2244.9,2,  2334.3,2,   7.5599,2,    25.00,     -999.0,9,     -999.0,9,     -999.0,9,     -999.0,9,     -999.0,9,     -999.0,9,     -999.0,9,     -999.0,9,     -999.0,9,     -999.0,9,     -999.0,9,     -999.0,9,     -999.0,9,     -999.0,9,     -999.0,9,     -999.0,9,     -999.0,9,     -999.0,9,     -999.0,9,     -999.0,9,     -999.0,9,     -999.0,9,     -999.0,9,     -999.0,9,     -999.0,9,     -999.0,9,     -999.0,9,     -999.0,9,   2.4960,20141208,       0020
06AQ20141202,        A12,       8,          1,         11,2,20141208,       2319,   -49.0178,     2.8418,       4246,  1212.2,   2.4708,  34.6660,2,  34.6663,2,    174.0,2,   177.3,2,   73.50,2,   32.26,2,    0.00,2,    2.22,2,  2245.3,2,  2340.0,2,   7.5754,6,    25.00,     -999.0,9,     -999.0,9,     -999.0,9,     -999.0,9,     -999.0,9,     -999.0,9,     -999.0,9,     -999.0,9,     -999.0,9,     -999.0,9,     -999.0,9,     -999.0,9,     -999.0,9,     -999.0,9,     -999.0,9,     -999.0,9,     -999.0,9,     -999.0,9,     -999.0,9,     -999.0,9,     -999.0,9,     -999.0,9,     -999.0,9,     -999.0,9,     -999.0,9,     -999.0,9,     -999.0,9,     -999.0,9,   2.3911,20141208,       0016
06AQ20141202,        A12,       8,          1,         10,2,20141208,       2319,   -49.0178,     2.8418,       4246,  1519.2,   2.3838,  34.7349,2,  34.7338,2,    184.5,2,   190.0,2,   72.32,2,   30.35,2,    0.00,2,    2.08,2,  2240.3,2,  2343.9,2,   7.6021,2,    25.00,     -999.0,9,     -999.0,9,     -999.0,9,     -999.0,9,     -999.0,9,     -999.0,9,     -999.0,9,     -999.0,9,     -999.0,9,     -999.0,9,     -999.0,9,     -999.0,9,     -999.0,9,     -999.0,9,     -999.0,9,     -999.0,9,     -999.0,9,     -999.0,9,     -999.0,9,     -999.0,9,     -999.0,9,     -999.0,9,     -999.0,9,     -999.0,9,     -999.0,9,     -999.0,9,     -999.0,9,     -999.0,9,   2.2811,20141208,       0011
06AQ20141202,        A12,       8,          1,          9,2,20141208,       2319,   -49.0178,     2.8418,       4246,  1823.5,   2.2168,  34.7681,2,  34.7680,2,    194.5,2,   201.4,2,   74.08,2,   29.09,2,    0.00,2,    2.00,2,  2233.5,2,  2343.5,2,   7.6218,2,    25.00,     -999.0,9,     -999.0,9,     -999.0,9,     -999.0,9,     -999.0,9,     -999.0,9,     -999.0,9,     -999.0,9,     -999.0,9,     -999.0,9,     -999.0,9,     -999.0,9,     -999.0,9,     -999.0,9,     -999.0,9,     -999.0,9,     -999.0,9,     -999.0,9,     -999.0,9,     -999.0,9,     -999.0,9,     -999.0,9,     -999.0,9,     -999.0,9,     -999.0,9,     -999.0,9,     -999.0,9,     -999.0,9,   2.0915,20141208,       0005
06AQ20141202,        A12,       8,          1,          8,2,20141208,       2319,   -49.0178,     2.8418,       4246,  2028.1,   2.0474,  34.7730,2,  34.7731,2,    198.4,2,   204.6,2,   76.62,2,   28.82,2,    0.00,2,    1.99,2,  2233.0,2,  2345.6,2,   7.6274,2,    25.00,     -999.0,9,     -999.0,9,     -999.0,9,     -999.0,9,     -999.0,9,     -999.0,9,     -999.0,9,     -999.0,9,     -999.0,9,     -999.0,9,     -999.0,9,     -999.0,9,     -999.0,9,     -999.0,9,     -999.0,9,     -999.0,9,     -999.0,9,     -999.0,9,     -999.0,9,     -999.0,9,     -999.0,9,     -999.0,9,     -999.0,9,     -999.0,9,     -999.0,9,     -999.0,9,     -999.0,9,     -999.0,9,   1.9074,20141208,       0001
06AQ20141202,        A12,       8,          1,          7,2,20141208,       2319,   -49.0178,     2.8418,       4246,  2232.3,   1.8478,  34.7688,2,  34.7689,2,    200.6,2,   206.8,2,   82.77,2,   29.11,2,    0.00,2,    2.01,2,  2236.0,2,  2349.3,2,   7.6286,2,    25.00,     -999.0,9,     -999.0,9,     -999.0,9,     -999.0,9,     -999.0,9,     -999.0,9,     -999.0,9,     -999.0,9,     -999.0,9,     -999.0,9,     -999.0,9,     -999.0,9,     -999.0,9,     -999.0,9,     -999.0,9,     -999.0,9,     -999.0,9,     -999.0,9,     -999.0,9,     -999.0,9,     -999.0,9,     -999.0,9,     -999.0,9,     -999.0,9,     -999.0,9,     -999.0,9,     -999.0,9,     -999.0,9,   1.6935,20141208,       2358
06AQ20141202,        A12,       8,          1,          6,2,20141208,       2319,   -49.0178,     2.8418,       4246,  2536.0,   1.5399,  34.7514,2,  34.7513,2,    201.0,2,   208.0,2,   91.36,2,   29.88,2,    0.00,2,    2.06,2,  2243.0,2,  2352.6,2,   7.6214,2,    25.00,     -999.0,9,     -999.0,9,     -999.0,9,     -999.0,9,     -999.0,9,     -999.0,9,     -999.0,9,     -999.0,9,     -999.0,9,     -999.0,9,     -999.0,9,     -999.0,9,     -999.0,9,     -999.0,9,     -999.0,9,     -999.0,9,     -999.0,9,     -999.0,9,     -999.0,9,     -999.0,9,     -999.0,9,     -999.0,9,     -999.0,9,     -999.0,9,     -999.0,9,     -999.0,9,     -999.0,9,     -999.0,9,   1.3646,20141208,       2352
06AQ20141202,        A12,       8,          1,          5,2,20141208,       2319,   -49.0178,     2.8418,       4246,  2844.9,   1.3011,  34.7370,2,  34.7366,2,    202.3,2,   209.3,2,   99.95,2,   30.48,2,    0.00,2,    2.10,2,  2247.4,2,  2355.5,2,   7.6166,2,    25.00,     -999.0,9,     -999.0,9,     -999.0,9,     -999.0,9,     -999.0,9,     -999.0,9,     -999.0,9,     -999.0,9,     -999.0,9,     -999.0,9,     -999.0,9,     -999.0,9,     -999.0,9,     -999.0,9,     -999.0,9,     -999.0,9,     -999.0,9,     -999.0,9,     -999.0,9,     -999.0,9,     -999.0,9,     -999.0,9,     -999.0,9,     -999.0,9,     -999.0,9,     -999.0,9,     -999.0,9,     -999.0,9,   1.1027,20141208,       2347
06AQ20141202,        A12,       8,          1,          4,2,20141208,       2319,   -49.0178,     2.8418,       4246,  3047.9,   1.0907,  34.7196,2,  34.7191,2,    201.8,2,   209.6,2,  106.88,2,   31.25,2,    0.00,2,    2.17,2,  2253.0,2,  2357.3,2,   7.6199,3,    25.00,     -999.0,9,     -999.0,9,     -999.0,9,     -999.0,9,     -999.0,9,     -999.0,9,     -999.0,9,     -999.0,9,     -999.0,9,     -999.0,9,     -999.0,9,     -999.0,9,     -999.0,9,     -999.0,9,     -999.0,9,     -999.0,9,     -999.0,9,     -999.0,9,     -999.0,9,     -999.0,9,     -999.0,9,     -999.0,9,     -999.0,9,     -999.0,9,     -999.0,9,     -999.0,9,     -999.0,9,     -999.0,9,   0.8782,20141208,       2343
06AQ20141202,        A12,       8,          1,          3,2,20141208,       2319,   -49.0178,     2.8418,       4246,  3352.2,   0.8695,  34.7039,2,  34.7028,2,    203.4,2,   210.7,2,  113.61,2,   31.71,2,    0.00,2,    2.20,2,  2256.8,2,  2358.5,2,   7.5998,2,    25.00,     -999.0,9,     -999.0,9,     -999.0,9,     -999.0,9,     -999.0,9,     -999.0,9,     -999.0,9,     -999.0,9,     -999.0,9,     -999.0,9,     -999.0,9,     -999.0,9,     -999.0,9,     -999.0,9,     -999.0,9,     -999.0,9,     -999.0,9,     -999.0,9,     -999.0,9,     -999.0,9,     -999.0,9,     -999.0,9,     -999.0,9,     -999.0,9,     -999.0,9,     -999.0,9,     -999.0,9,     -999.0,9,   0.6335,20141208,       2337
06AQ20141202,        A12,       8,          1,          2,2,20141208,       2319,   -49.0178,     2.8418,       4246,  3558.3,   0.7752,  34.7002,2,  34.6993,2,    205.2,2,   211.8,2,  117.61,2,   32.00,2,    0.00,2,    2.22,2,  2256.7,2,  2360.5,2,   7.6157,3,    25.00,     -999.0,9,     -999.0,9,     -999.0,9,     -999.0,9,     -999.0,9,     -999.0,9,     -999.0,9,     -999.0,9,     -999.0,9,     -999.0,9,     -999.0,9,     -999.0,9,     -999.0,9,     -999.0,9,     -999.0,9,     -999.0,9,     -999.0,9,     -999.0,9,     -999.0,9,     -999.0,9,     -999.0,9,     -999.0,9,     -999.0,9,     -999.0,9,     -999.0,9,     -999.0,9,     -999.0,9,     -999.0,9,   0.5215,20141208,       2334
06AQ20141202,        A12,       8,          1,          1,2,20141208,       2319,   -49.0178,     2.8418,       4246,  4236.4,   0.6859,  34.6901,2,  34.6890,2,    206.7,2,   213.4,2,  123.28,2,   32.26,2,    0.00,2,    2.23,2,  2257.2,2,  2359.8,2,   7.5951,2,    25.00,     -999.0,9,     -999.0,9,     -999.0,9,     -999.0,9,     -999.0,9,     -999.0,9,     -999.0,9,     -999.0,9,     -999.0,9,     -999.0,9,     -999.0,9,     -999.0,9,     -999.0,9,     -999.0,9,     -999.0,9,     -999.0,9,     -999.0,9,     -999.0,9,     -999.0,9,     -999.0,9,     -999.0,9,     -999.0,9,     -999.0,9,     -999.0,9,     -999.0,9,     -999.0,9,     -999.0,9,     -999.0,9,   0.3650,20141208,       2319