BOTTLE,20220815CCHSIOAMB
EXPOCODE,SECT_ID,STNNBR,CASTNO,BTLNBR,BTLNBR_FLAG_W,DATE,TIME,LATITUDE,LONGITUDE,DEPTH,CTDPRS,CTDTMP,CTDSAL,CTDSAL_FLAG_W,SALNTY,SALNTY_FLAG_W,CTDOXY,CTDOXY_FLAG_W,OXYGEN,OXYGEN_FLAG_W,SILCAT,SILCAT_FLAG_W,NITRAT,NITRAT_FLAG_W,NITRIT,NITRIT_FLAG_W,PHSPHT,PHSPHT_FLAG_W,TCARBN,TCARBN_FLAG_W,ALKALI,ALKALI_FLAG_W,PH_TOT,PH_TOT_FLAG_W,PH_TMP,POC,POC_FLAG_W,PON,PON_FLAG_W,FUCO,FUCO_FLAG_W,ALPHA-BETA-CAR,ALPHA-BETA-CAR_FLAG_W,ALLO,ALLO_FLAG_W,BUT-FUCO,BUT-FUCO_FLAG_W,CHL_C1C2,CHL_C1C2_FLAG_W,CHL_C3,CHL_C3_FLAG_W,CHLIDE_A,CHLIDE_A_FLAG_W,DIADINO,DIADINO_FLAG_W,DIATO,DIATO_FLAG_W,DV_CHL_A,DV_CHL_A_FLAG_W,DV_CHL_B,DV_CHL_B_FLAG_W,GYRO,GYRO_FLAG_W,HEX-FUCO,HEX-FUCO_FLAG_W,LUT,LUT_FLAG_W,MV_CHL_A,MV_CHL_A_FLAG_W,MV_CHL_B,MV_CHL_B_FLAG_W,NEO,NEO_FLAG_W,PERID,PERID_FLAG_W,PHIDE_A,PHIDE_A_FLAG_W,PHYTIN_A,PHYTIN_A_FLAG_W,PRAS,PRAS_FLAG_W,TOT_CHL_A,TOT_CHL_A_FLAG_W,TOT_CHL_B,TOT_CHL_B_FLAG_W,TOT_CHL_C,TOT_CHL_C_FLAG_W,VIOLA,VIOLA_FLAG_W,ZEA,ZEA_FLAG_W,THETA,BTL_DATE,BTL_TIME
,,,,,,,,,,METERS,DBAR,ITS-90,PSS-78,,PSS-78,,UMOL/KG,,UMOL/KG,,UMOL/KG,,UMOL/KG,,UMOL/KG,,UMOL/KG,,UMOL/KG,,UMOL/KG,,,,DEG C,uG/KG,,ug/kg,,NMOL/KG,,MG/M^3,,MG/M^3,,MG/M^3,,MG/M^3,,MG/M^3,,MG/M^3,,MG/M^3,,MG/M^3,,MG/M^3,,MG/M^3,,MG/M^3,,MG/M^3,,MG/M^3,,MG/M^3,,MG/M^3,,MG/M^3,,MG/M^3,,MG/M^3,,MG/M^3,,MG/M^3,,MG/M^3,,MG/M^3,,MG/M^3,,MG/M^3,,MG/M^3,,DEG C,,
06AQ20141202,        A12,      82,          2,         24,2,20150127,       1607,   -49.0000,    12.9333,       4624,    14.3,   4.7592,  33.7537,2,  33.7540,2,    308.5,2,   313.5,2,    0.39,2,   20.50,2,    0.21,2,    1.43,2,  -999.0,9,  -999.0,9,   7.7509,2,    25.00,         43,2,          9,2,     0.0500,2,      0.003,2,     -999.0,9,      0.015,2,      0.039,2,      0.030,2,      0.007,2,      0.012,2,     -999.0,9,     -999.0,9,     -999.0,9,     -999.0,9,      0.078,2,     -999.0,9,      0.199,2,     -999.0,9,     -999.0,9,      0.004,2,      0.011,2,      0.005,2,     -999.0,9,      0.206,2,     -999.0,9,      0.069,2,     -999.0,9,     -999.0,9,   4.7582,20150127,       1701
06AQ20141202,        A12,      82,          2,         23,2,20150127,       1607,   -49.0000,    12.9333,       4624,    15.0,   4.7596,  33.7534,2,  33.7546,2,    308.4,2,   314.6,2,    0.29,2,   20.51,2,    0.21,2,    1.43,2,  -999.0,9,  -999.0,9,   7.7511,2,    25.00,         20,2,          4,2,     0.0490,2,      0.002,2,     -999.0,9,      0.015,2,      0.038,2,      0.030,2,      0.006,2,      0.012,2,     -999.0,9,     -999.0,9,     -999.0,9,     -999.0,9,      0.079,2,     -999.0,9,      0.199,2,     -999.0,9,     -999.0,9,      0.003,2,      0.013,2,      0.005,2,     -999.0,9,      0.205,2,     -999.0,9,      0.068,2,     -999.0,9,     -999.0,9,   4.7585,20150127,       1701
06AQ20141202,        A12,      82,          2,         22,2,20150127,       1607,   -49.0000,    12.9333,       4624,    50.0,   4.7613,  33.7535,2,  33.7547,2,    307.5,2,   312.9,2,    0.29,2,   20.51,2,    0.21,2,    1.44,2,  -999.0,9,  -999.0,9,   7.7497,2,    25.00,         48,2,          7,2,     0.0490,2,      0.003,2,     -999.0,9,      0.015,2,      0.039,2,      0.031,2,      0.007,2,      0.012,2,     -999.0,9,     -999.0,9,     -999.0,9,     -999.0,9,      0.080,2,     -999.0,9,      0.200,2,     -999.0,9,     -999.0,9,      0.003,2,      0.012,2,      0.005,2,     -999.0,9,      0.207,2,     -999.0,9,      0.070,2,     -999.0,9,     -999.0,9,   4.7576,20150127,       1700
06AQ20141202,        A12,      82,          2,         21,2,20150127,       1607,   -49.0000,    12.9333,       4624,    75.5,   4.7502,  33.7542,2,  33.7566,2,    306.9,2,   314.3,2,    0.39,2,   20.58,2,    0.21,2,    1.45,2,  -999.0,9,  -999.0,9,   7.7499,2,    25.00,     -999.0,9,     -999.0,9,     -999.0,9,     -999.0,9,     -999.0,9,     -999.0,9,     -999.0,9,     -999.0,9,     -999.0,9,     -999.0,9,     -999.0,9,     -999.0,9,     -999.0,9,     -999.0,9,     -999.0,9,     -999.0,9,     -999.0,9,     -999.0,9,     -999.0,9,     -999.0,9,     -999.0,9,     -999.0,9,     -999.0,9,     -999.0,9,     -999.0,9,     -999.0,9,     -999.0,9,     -999.0,9,   4.7447,20150127,       1659
06AQ20141202,        A12,      82,          2,         20,2,20150127,       1607,   -49.0000,    12.9333,       4624,   100.2,   4.0787,  33.7856,2,  33.7938,2,    303.5,2,   310.1,2,    4.20,2,   21.83,2,    0.22,2,    1.60,2,  -999.0,9,  -999.0,9,   7.7054,2,    25.00,     -999.0,9,     -999.0,9,     -999.0,9,     -999.0,9,     -999.0,9,     -999.0,9,     -999.0,9,     -999.0,9,     -999.0,9,     -999.0,9,     -999.0,9,     -999.0,9,     -999.0,9,     -999.0,9,     -999.0,9,     -999.0,9,     -999.0,9,     -999.0,9,     -999.0,9,     -999.0,9,     -999.0,9,     -999.0,9,     -999.0,9,     -999.0,9,     -999.0,9,     -999.0,9,     -999.0,9,     -999.0,9,   4.0719,20150127,       1658
06AQ20141202,        A12,      82,          2,         19,2,20150127,       1607,   -49.0000,    12.9333,       4624,   126.3,   3.1167,  33.8838,2,  33.8799,2,    293.4,2,   303.5,2,   11.92,2,   24.82,2,    0.17,2,    1.78,2,  -999.0,9,  -999.0,9,   7.6043,3,    25.00,     -999.0,9,     -999.0,9,     -999.0,9,     -999.0,9,     -999.0,9,     -999.0,9,     -999.0,9,     -999.0,9,     -999.0,9,     -999.0,9,     -999.0,9,     -999.0,9,     -999.0,9,     -999.0,9,     -999.0,9,     -999.0,9,     -999.0,9,     -999.0,9,     -999.0,9,     -999.0,9,     -999.0,9,     -999.0,9,     -999.0,9,     -999.0,9,     -999.0,9,     -999.0,9,     -999.0,9,     -999.0,9,   3.1090,20150127,       1657
06AQ20141202,        A12,      82,          2,         18,2,20150127,       1607,   -49.0000,    12.9333,       4624,   151.2,   3.1908,  34.0203,2,  34.0210,2,    276.2,2,   281.7,2,   16.99,2,   27.58,2,    0.02,2,    1.89,2,  -999.0,9,  -999.0,9,   7.6546,2,    25.00,     -999.0,9,     -999.0,9,     -999.0,9,     -999.0,9,     -999.0,9,     -999.0,9,     -999.0,9,     -999.0,9,     -999.0,9,     -999.0,9,     -999.0,9,     -999.0,9,     -999.0,9,     -999.0,9,     -999.0,9,     -999.0,9,     -999.0,9,     -999.0,9,     -999.0,9,     -999.0,9,     -999.0,9,     -999.0,9,     -999.0,9,     -999.0,9,     -999.0,9,     -999.0,9,     -999.0,9,     -999.0,9,   3.1815,20150127,       1656
06AQ20141202,        A12,      82,          2,         17,2,20150127,       1607,   -49.0000,    12.9333,       4624,   202.5,   3.1158,  34.0814,2,  34.0820,2,    266.8,2,   273.9,2,   20.21,2,   28.60,2,    0.01,2,    1.96,2,  -999.0,9,  -999.0,9,   7.6475,2,    25.00,     -999.0,9,     -999.0,9,     -999.0,9,     -999.0,9,     -999.0,9,     -999.0,9,     -999.0,9,     -999.0,9,     -999.0,9,     -999.0,9,     -999.0,9,     -999.0,9,     -999.0,9,     -999.0,9,     -999.0,9,     -999.0,9,     -999.0,9,     -999.0,9,     -999.0,9,     -999.0,9,     -999.0,9,     -999.0,9,     -999.0,9,     -999.0,9,     -999.0,9,     -999.0,9,     -999.0,9,     -999.0,9,   3.1033,20150127,       1654
06AQ20141202,        A12,      82,          2,         16,2,20150127,       1607,   -49.0000,    12.9333,       4624,   251.6,   2.8102,  34.1204,2,  34.1219,2,    254.5,2,   260.1,2,   25.97,2,   29.88,2,    0.01,2,    2.05,2,  -999.0,9,  -999.0,9,   7.6219,2,    25.00,     -999.0,9,     -999.0,9,     -999.0,9,     -999.0,9,     -999.0,9,     -999.0,9,     -999.0,9,     -999.0,9,     -999.0,9,     -999.0,9,     -999.0,9,     -999.0,9,     -999.0,9,     -999.0,9,     -999.0,9,     -999.0,9,     -999.0,9,     -999.0,9,     -999.0,9,     -999.0,9,     -999.0,9,     -999.0,9,     -999.0,9,     -999.0,9,     -999.0,9,     -999.0,9,     -999.0,9,     -999.0,9,   2.7952,20150127,       1653
06AQ20141202,        A12,      82,          2,         15,2,20150127,       1607,   -49.0000,    12.9333,       4624,   303.9,   2.7726,  34.1764,2,  34.1756,2,    235.7,2,   241.8,2,   31.64,2,   31.01,2,    0.00,2,    2.12,2,  -999.0,9,  -999.0,9,   7.5936,2,    25.00,     -999.0,9,     -999.0,9,     -999.0,9,     -999.0,9,     -999.0,9,     -999.0,9,     -999.0,9,     -999.0,9,     -999.0,9,     -999.0,9,     -999.0,9,     -999.0,9,     -999.0,9,     -999.0,9,     -999.0,9,     -999.0,9,     -999.0,9,     -999.0,9,     -999.0,9,     -999.0,9,     -999.0,9,     -999.0,9,     -999.0,9,     -999.0,9,     -999.0,9,     -999.0,9,     -999.0,9,     -999.0,9,   2.7544,20150127,       1652
06AQ20141202,        A12,      82,          2,         14,2,20150127,       1607,   -49.0000,    12.9333,       4624,   403.2,   2.6525,  34.2579,2,  34.2542,2,    213.0,2,   218.8,2,   41.98,2,   32.56,2,    0.00,2,    2.24,2,  -999.0,9,  -999.0,9,   7.5785,2,    25.00,     -999.0,9,     -999.0,9,     -999.0,9,     -999.0,9,     -999.0,9,     -999.0,9,     -999.0,9,     -999.0,9,     -999.0,9,     -999.0,9,     -999.0,9,     -999.0,9,     -999.0,9,     -999.0,9,     -999.0,9,     -999.0,9,     -999.0,9,     -999.0,9,     -999.0,9,     -999.0,9,     -999.0,9,     -999.0,9,     -999.0,9,     -999.0,9,     -999.0,9,     -999.0,9,     -999.0,9,     -999.0,9,   2.6283,20150127,       1649
06AQ20141202,        A12,      82,          2,         13,2,20150127,       1607,   -49.0000,    12.9333,       4624,   504.5,   2.6734,  34.3523,2,  34.3516,2,    190.1,2,   195.2,2,   52.04,2,   33.92,2,    0.00,2,    2.34,2,  -999.0,9,  -999.0,9,   7.5548,2,    25.00,     -999.0,9,     -999.0,9,     -999.0,9,     -999.0,9,     -999.0,9,     -999.0,9,     -999.0,9,     -999.0,9,     -999.0,9,     -999.0,9,     -999.0,9,     -999.0,9,     -999.0,9,     -999.0,9,     -999.0,9,     -999.0,9,     -999.0,9,     -999.0,9,     -999.0,9,     -999.0,9,     -999.0,9,     -999.0,9,     -999.0,9,     -999.0,9,     -999.0,9,     -999.0,9,     -999.0,9,     -999.0,9,   2.6426,20150127,       1647
06AQ20141202,        A12,      82,          2,         12,2,20150127,       1607,   -49.0000,    12.9333,       4624,   605.9,   2.6243,  34.4438,2,  34.4403,2,    175.8,2,   179.9,2,   60.92,2,   34.44,2,    0.00,2,    2.40,2,  -999.0,9,  -999.0,9,   7.5460,2,    25.00,     -999.0,9,     -999.0,9,     -999.0,9,     -999.0,9,     -999.0,9,     -999.0,9,     -999.0,9,     -999.0,9,     -999.0,9,     -999.0,9,     -999.0,9,     -999.0,9,     -999.0,9,     -999.0,9,     -999.0,9,     -999.0,9,     -999.0,9,     -999.0,9,     -999.0,9,     -999.0,9,     -999.0,9,     -999.0,9,     -999.0,9,     -999.0,9,     -999.0,9,     -999.0,9,     -999.0,9,     -999.0,9,   2.5869,20150127,       1645
06AQ20141202,        A12,      82,          2,         11,2,20150127,       1607,   -49.0000,    12.9333,       4624,   707.7,   2.6172,  34.5118,2,  34.5116,2,    169.7,2,   173.3,2,   65.80,2,   34.23,2,    0.00,2,    2.35,2,  -999.0,9,  -999.0,9,   7.5495,2,    25.00,     -999.0,9,     -999.0,9,     -999.0,9,     -999.0,9,     -999.0,9,     -999.0,9,     -999.0,9,     -999.0,9,     -999.0,9,     -999.0,9,     -999.0,9,     -999.0,9,     -999.0,9,     -999.0,9,     -999.0,9,     -999.0,9,     -999.0,9,     -999.0,9,     -999.0,9,     -999.0,9,     -999.0,9,     -999.0,9,     -999.0,9,     -999.0,9,     -999.0,9,     -999.0,9,     -999.0,9,     -999.0,9,   2.5729,20150127,       1642
06AQ20141202,        A12,      82,          2,         10,2,20150127,       1607,   -49.0000,    12.9333,       4624,   809.1,   2.5052,  34.5444,2,  34.5436,2,    167.0,2,   170.9,2,   70.19,2,   34.20,2,    0.00,2,    2.35,2,  -999.0,9,  -999.0,9,   7.4784,4,    25.00,     -999.0,9,     -999.0,9,     -999.0,9,     -999.0,9,     -999.0,9,     -999.0,9,     -999.0,9,     -999.0,9,     -999.0,9,     -999.0,9,     -999.0,9,     -999.0,9,     -999.0,9,     -999.0,9,     -999.0,9,     -999.0,9,     -999.0,9,     -999.0,9,     -999.0,9,     -999.0,9,     -999.0,9,     -999.0,9,     -999.0,9,     -999.0,9,     -999.0,9,     -999.0,9,     -999.0,9,     -999.0,9,   2.4546,20150127,       1640
06AQ20141202,        A12,      82,          2,          9,2,20150127,       1607,   -49.0000,    12.9333,       4624,   910.6,   2.4800,  34.5908,2,  34.5915,2,    166.7,2,   171.5,2,   72.82,2,   33.70,2,    0.00,2,    2.31,2,  -999.0,9,  -999.0,9,   7.5488,2,    25.00,     -999.0,9,     -999.0,9,     -999.0,9,     -999.0,9,     -999.0,9,     -999.0,9,     -999.0,9,     -999.0,9,     -999.0,9,     -999.0,9,     -999.0,9,     -999.0,9,     -999.0,9,     -999.0,9,     -999.0,9,     -999.0,9,     -999.0,9,     -999.0,9,     -999.0,9,     -999.0,9,     -999.0,9,     -999.0,9,     -999.0,9,     -999.0,9,     -999.0,9,     -999.0,9,     -999.0,9,     -999.0,9,   2.4224,20150127,       1638
06AQ20141202,        A12,      82,          2,          8,2,20150127,       1607,   -49.0000,    12.9333,       4624,  1014.5,   2.5035,  34.6403,2,  34.6391,2,    169.6,2,   173.8,2,   72.52,2,   32.68,2,    0.00,2,    2.28,2,  -999.0,9,  -999.0,9,   7.5602,2,    25.00,     -999.0,9,     -999.0,9,     -999.0,9,     -999.0,9,     -999.0,9,     -999.0,9,     -999.0,9,     -999.0,9,     -999.0,9,     -999.0,9,     -999.0,9,     -999.0,9,     -999.0,9,     -999.0,9,     -999.0,9,     -999.0,9,     -999.0,9,     -999.0,9,     -999.0,9,     -999.0,9,     -999.0,9,     -999.0,9,     -999.0,9,     -999.0,9,     -999.0,9,     -999.0,9,     -999.0,9,     -999.0,9,   2.4382,20150127,       1635
06AQ20141202,        A12,      82,          2,          7,2,20150127,       1607,   -49.0000,    12.9333,       4624,  1265.2,   2.4212,  34.7037,2,  34.7051,2,    176.7,2,   181.5,2,   74.67,2,   31.16,2,    0.00,2,    2.17,2,  -999.0,9,  -999.0,9,   7.5790,2,    25.00,     -999.0,9,     -999.0,9,     -999.0,9,     -999.0,9,     -999.0,9,     -999.0,9,     -999.0,9,     -999.0,9,     -999.0,9,     -999.0,9,     -999.0,9,     -999.0,9,     -999.0,9,     -999.0,9,     -999.0,9,     -999.0,9,     -999.0,9,     -999.0,9,     -999.0,9,     -999.0,9,     -999.0,9,     -999.0,9,     -999.0,9,     -999.0,9,     -999.0,9,     -999.0,9,     -999.0,9,     -999.0,9,   2.3379,20150127,       1631
06AQ20141202,        A12,      82,          2,          6,2,20150127,       1607,   -49.0000,    12.9333,       4624,  1520.6,   2.3021,  34.7511,2,  34.7519,2,    186.7,2,   191.9,2,   74.27,2,   29.59,2,    0.00,2,    2.07,2,  -999.0,9,  -999.0,9,   7.6048,2,    25.00,     -999.0,9,     -999.0,9,     -999.0,9,     -999.0,9,     -999.0,9,     -999.0,9,     -999.0,9,     -999.0,9,     -999.0,9,     -999.0,9,     -999.0,9,     -999.0,9,     -999.0,9,     -999.0,9,     -999.0,9,     -999.0,9,     -999.0,9,     -999.0,9,     -999.0,9,     -999.0,9,     -999.0,9,     -999.0,9,     -999.0,9,     -999.0,9,     -999.0,9,     -999.0,9,     -999.0,9,     -999.0,9,   2.2002,20150127,       1626
06AQ20141202,        A12,      82,          2,          5,2,20150127,       1607,   -49.0000,    12.9333,       4624,  1770.8,   2.0994,  34.7665,2,  34.7667,2,    192.7,2,   199.3,2,   77.59,2,   29.24,2,    0.00,2,    2.00,2,  -999.0,9,  -999.0,9,   7.6195,2,    25.00,     -999.0,9,     -999.0,9,     -999.0,9,     -999.0,9,     -999.0,9,     -999.0,9,     -999.0,9,     -999.0,9,     -999.0,9,     -999.0,9,     -999.0,9,     -999.0,9,     -999.0,9,     -999.0,9,     -999.0,9,     -999.0,9,     -999.0,9,     -999.0,9,     -999.0,9,     -999.0,9,     -999.0,9,     -999.0,9,     -999.0,9,     -999.0,9,     -999.0,9,     -999.0,9,     -999.0,9,     -999.0,9,   1.9800,20150127,       1621
06AQ20141202,        A12,      82,          2,          4,2,20150127,       1607,   -49.0000,    12.9333,       4624,  2025.1,   1.9153,  34.7685,2,  34.7686,2,    196.6,2,   203.7,2,   81.50,2,   29.09,2,    0.00,2,    2.00,2,  -999.0,9,  -999.0,9,   7.6252,2,    25.00,     -999.0,9,     -999.0,9,     -999.0,9,     -999.0,9,     -999.0,9,     -999.0,9,     -999.0,9,     -999.0,9,     -999.0,9,     -999.0,9,     -999.0,9,     -999.0,9,     -999.0,9,     -999.0,9,     -999.0,9,     -999.0,9,     -999.0,9,     -999.0,9,     -999.0,9,     -999.0,9,     -999.0,9,     -999.0,9,     -999.0,9,     -999.0,9,     -999.0,9,     -999.0,9,     -999.0,9,     -999.0,9,   1.7776,20150127,       1617
06AQ20141202,        A12,      82,          2,          3,2,20150127,       1607,   -49.0000,    12.9333,       4624,  2274.6,   1.6320,  34.7525,2,  34.7532,2,    196.7,2,   203.7,2,   90.09,2,   29.78,2,    0.00,2,    2.04,2,  -999.0,9,  -999.0,9,   7.6179,2,    25.00,     -999.0,9,     -999.0,9,     -999.0,9,     -999.0,9,     -999.0,9,     -999.0,9,     -999.0,9,     -999.0,9,     -999.0,9,     -999.0,9,     -999.0,9,     -999.0,9,     -999.0,9,     -999.0,9,     -999.0,9,     -999.0,9,     -999.0,9,     -999.0,9,     -999.0,9,     -999.0,9,     -999.0,9,     -999.0,9,     -999.0,9,     -999.0,9,     -999.0,9,     -999.0,9,     -999.0,9,     -999.0,9,   1.4778,20150127,       1613
06AQ20141202,        A12,      82,          2,          2,2,20150127,       1607,   -49.0000,    12.9333,       4624,  2280.3,   1.6303,  34.7525,2,  34.7534,2,    196.7,2,   201.3,2,   90.28,2,   29.86,2,    0.00,2,    2.05,2,  -999.0,9,  -999.0,9,   7.6180,6,    25.00,     -999.0,9,     -999.0,9,     -999.0,9,     -999.0,9,     -999.0,9,     -999.0,9,     -999.0,9,     -999.0,9,     -999.0,9,     -999.0,9,     -999.0,9,     -999.0,9,     -999.0,9,     -999.0,9,     -999.0,9,     -999.0,9,     -999.0,9,     -999.0,9,     -999.0,9,     -999.0,9,     -999.0,9,     -999.0,9,     -999.0,9,     -999.0,9,     -999.0,9,     -999.0,9,     -999.0,9,     -999.0,9,   1.4756,20150127,       1612
06AQ20141202,        A12,      82,          2,          1,2,20150127,       1607,   -49.0000,    12.9333,       4624,  2536.3,   1.4589,  34.7519,2,-999.0000,9,    201.1,2,  -999.0,9, -999.00,9, -999.00,9, -999.00,9, -999.00,9,  -999.0,9,  -999.0,9,-999.0000,9,  -999.00,     -999.0,9,     -999.0,9,     -999.0,9,     -999.0,9,     -999.0,9,     -999.0,9,     -999.0,9,     -999.0,9,     -999.0,9,     -999.0,9,     -999.0,9,     -999.0,9,     -999.0,9,     -999.0,9,     -999.0,9,     -999.0,9,     -999.0,9,     -999.0,9,     -999.0,9,     -999.0,9,     -999.0,9,     -999.0,9,     -999.0,9,     -999.0,9,     -999.0,9,     -999.0,9,     -999.0,9,     -999.0,9,   1.2851,20150127,       1607