BOTTLE,20220815CCHSIOAMB
EXPOCODE,SECT_ID,STNNBR,CASTNO,BTLNBR,BTLNBR_FLAG_W,DATE,TIME,LATITUDE,LONGITUDE,DEPTH,CTDPRS,CTDTMP,CTDSAL,CTDSAL_FLAG_W,SALNTY,SALNTY_FLAG_W,CTDOXY,CTDOXY_FLAG_W,OXYGEN,OXYGEN_FLAG_W,SILCAT,SILCAT_FLAG_W,NITRAT,NITRAT_FLAG_W,NITRIT,NITRIT_FLAG_W,PHSPHT,PHSPHT_FLAG_W,TCARBN,TCARBN_FLAG_W,ALKALI,ALKALI_FLAG_W,PH_TOT,PH_TOT_FLAG_W,PH_TMP,POC,POC_FLAG_W,PON,PON_FLAG_W,FUCO,FUCO_FLAG_W,ALPHA-BETA-CAR,ALPHA-BETA-CAR_FLAG_W,ALLO,ALLO_FLAG_W,BUT-FUCO,BUT-FUCO_FLAG_W,CHL_C1C2,CHL_C1C2_FLAG_W,CHL_C3,CHL_C3_FLAG_W,CHLIDE_A,CHLIDE_A_FLAG_W,DIADINO,DIADINO_FLAG_W,DIATO,DIATO_FLAG_W,DV_CHL_A,DV_CHL_A_FLAG_W,DV_CHL_B,DV_CHL_B_FLAG_W,GYRO,GYRO_FLAG_W,HEX-FUCO,HEX-FUCO_FLAG_W,LUT,LUT_FLAG_W,MV_CHL_A,MV_CHL_A_FLAG_W,MV_CHL_B,MV_CHL_B_FLAG_W,NEO,NEO_FLAG_W,PERID,PERID_FLAG_W,PHIDE_A,PHIDE_A_FLAG_W,PHYTIN_A,PHYTIN_A_FLAG_W,PRAS,PRAS_FLAG_W,TOT_CHL_A,TOT_CHL_A_FLAG_W,TOT_CHL_B,TOT_CHL_B_FLAG_W,TOT_CHL_C,TOT_CHL_C_FLAG_W,VIOLA,VIOLA_FLAG_W,ZEA,ZEA_FLAG_W,THETA,BTL_DATE,BTL_TIME
,,,,,,,,,,METERS,DBAR,ITS-90,PSS-78,,PSS-78,,UMOL/KG,,UMOL/KG,,UMOL/KG,,UMOL/KG,,UMOL/KG,,UMOL/KG,,UMOL/KG,,UMOL/KG,,,,DEG C,uG/KG,,ug/kg,,NMOL/KG,,MG/M^3,,MG/M^3,,MG/M^3,,MG/M^3,,MG/M^3,,MG/M^3,,MG/M^3,,MG/M^3,,MG/M^3,,MG/M^3,,MG/M^3,,MG/M^3,,MG/M^3,,MG/M^3,,MG/M^3,,MG/M^3,,MG/M^3,,MG/M^3,,MG/M^3,,MG/M^3,,MG/M^3,,MG/M^3,,MG/M^3,,MG/M^3,,MG/M^3,,DEG C,,
06AQ20141202,        A12,      23,          1,         24,2,20141214,       1652,   -60.9950,    -0.0072,       5475,    15.7,  -1.5388,  33.9898,2,-999.0000,9,    336.3,2,   344.8,2,   62.89,2,   26.32,2,    0.28,2,    1.81,2,  2191.0,2,  2307.7,2,-999.0000,9,  -999.00,     -999.0,9,     -999.0,9,     -999.0,9,     -999.0,9,     -999.0,9,     -999.0,9,     -999.0,9,     -999.0,9,     -999.0,9,     -999.0,9,     -999.0,9,     -999.0,9,     -999.0,9,     -999.0,9,     -999.0,9,     -999.0,9,     -999.0,9,     -999.0,9,     -999.0,9,     -999.0,9,     -999.0,9,     -999.0,9,     -999.0,9,     -999.0,9,     -999.0,9,     -999.0,9,     -999.0,9,     -999.0,9,  -1.5391,20141214,       1852
06AQ20141202,        A12,      23,          1,         23,2,20141214,       1652,   -60.9950,    -0.0072,       5475,    45.7,  -1.7612,  34.1605,2,-999.0000,9,    321.7,2,   329.7,2,   65.13,2,   27.03,2,    0.25,2,    1.87,2,  2205.4,2,  2326.6,2,-999.0000,9,  -999.00,     -999.0,9,     -999.0,9,     -999.0,9,     -999.0,9,     -999.0,9,     -999.0,9,     -999.0,9,     -999.0,9,     -999.0,9,     -999.0,9,     -999.0,9,     -999.0,9,     -999.0,9,     -999.0,9,     -999.0,9,     -999.0,9,     -999.0,9,     -999.0,9,     -999.0,9,     -999.0,9,     -999.0,9,     -999.0,9,     -999.0,9,     -999.0,9,     -999.0,9,     -999.0,9,     -999.0,9,     -999.0,9,  -1.7621,20141214,       1851
06AQ20141202,        A12,      23,          1,         22,2,20141214,       1652,   -60.9950,    -0.0072,       5475,    46.0,  -1.7616,  34.1602,2,-999.0000,9,    321.8,2,   329.7,2, -999.00,9, -999.00,9, -999.00,9, -999.00,9,  2205.4,2,  2326.6,2,-999.0000,9,  -999.00,     -999.0,9,     -999.0,9,     -999.0,9,     -999.0,9,     -999.0,9,     -999.0,9,     -999.0,9,     -999.0,9,     -999.0,9,     -999.0,9,     -999.0,9,     -999.0,9,     -999.0,9,     -999.0,9,     -999.0,9,     -999.0,9,     -999.0,9,     -999.0,9,     -999.0,9,     -999.0,9,     -999.0,9,     -999.0,9,     -999.0,9,     -999.0,9,     -999.0,9,     -999.0,9,     -999.0,9,     -999.0,9,  -1.7625,20141214,       1851
06AQ20141202,        A12,      23,          1,         21,2,20141214,       1652,   -60.9950,    -0.0072,       5475,    50.5,  -1.7673,  34.1627,2,-999.0000,9,    321.2,2,   328.8,2,   65.52,2,   27.19,2,    0.25,2,    1.91,2,  2205.9,2,  2316.4,2,-999.0000,9,  -999.00,     -999.0,9,     -999.0,9,     -999.0,9,     -999.0,9,     -999.0,9,     -999.0,9,     -999.0,9,     -999.0,9,     -999.0,9,     -999.0,9,     -999.0,9,     -999.0,9,     -999.0,9,     -999.0,9,     -999.0,9,     -999.0,9,     -999.0,9,     -999.0,9,     -999.0,9,     -999.0,9,     -999.0,9,     -999.0,9,     -999.0,9,     -999.0,9,     -999.0,9,     -999.0,9,     -999.0,9,     -999.0,9,  -1.7683,20141214,       1850
06AQ20141202,        A12,      23,          1,         20,2,20141214,       1652,   -60.9950,    -0.0072,       5475,   110.6,  -0.6425,  34.4463,2,-999.0000,9,    253.5,2,   257.8,2,   90.59,2,   31.77,2,    0.03,2,    2.19,2,  2245.6,2,  2339.3,2,-999.0000,9,  -999.00,     -999.0,9,     -999.0,9,     -999.0,9,     -999.0,9,     -999.0,9,     -999.0,9,     -999.0,9,     -999.0,9,     -999.0,9,     -999.0,9,     -999.0,9,     -999.0,9,     -999.0,9,     -999.0,9,     -999.0,9,     -999.0,9,     -999.0,9,     -999.0,9,     -999.0,9,     -999.0,9,     -999.0,9,     -999.0,9,     -999.0,9,     -999.0,9,     -999.0,9,     -999.0,9,     -999.0,9,     -999.0,9,  -0.6458,20141214,       1849
06AQ20141202,        A12,      23,          1,         19,2,20141214,       1652,   -60.9950,    -0.0072,       5475,   152.1,   0.5184,  34.6589,2,-999.0000,9,    192.0,2,   196.5,2,  108.74,2,   33.85,2,    0.00,2,    2.31,2,  2267.4,2,  2351.4,2,-999.0000,9,  -999.00,     -999.0,9,     -999.0,9,     -999.0,9,     -999.0,9,     -999.0,9,     -999.0,9,     -999.0,9,     -999.0,9,     -999.0,9,     -999.0,9,     -999.0,9,     -999.0,9,     -999.0,9,     -999.0,9,     -999.0,9,     -999.0,9,     -999.0,9,     -999.0,9,     -999.0,9,     -999.0,9,     -999.0,9,     -999.0,9,     -999.0,9,     -999.0,9,     -999.0,9,     -999.0,9,     -999.0,9,     -999.0,9,   0.5122,20141214,       1848
06AQ20141202,        A12,      23,          1,         18,2,20141214,       1652,   -60.9950,    -0.0072,       5475,   203.0,   0.5674,  34.6830,2,-999.0000,9,    188.7,2,   195.0,2,  114.98,2,   34.00,2,    0.00,2,    2.33,2,  2269.8,2,  2353.4,2,-999.0000,9,  -999.00,     -999.0,9,     -999.0,9,     -999.0,9,     -999.0,9,     -999.0,9,     -999.0,9,     -999.0,9,     -999.0,9,     -999.0,9,     -999.0,9,     -999.0,9,     -999.0,9,     -999.0,9,     -999.0,9,     -999.0,9,     -999.0,9,     -999.0,9,     -999.0,9,     -999.0,9,     -999.0,9,     -999.0,9,     -999.0,9,     -999.0,9,     -999.0,9,     -999.0,9,     -999.0,9,     -999.0,9,     -999.0,9,   0.5589,20141214,       1846
06AQ20141202,        A12,      23,          1,         17,2,20141214,       1652,   -60.9950,    -0.0072,       5475,   303.3,   0.4840,  34.6860,2,-999.0000,9,    187.0,2,   191.9,2,  120.54,2,   34.53,2,    0.00,2,    2.35,2,  2268.6,2,  2355.7,2,-999.0000,9,  -999.00,     -999.0,9,     -999.0,9,     -999.0,9,     -999.0,9,     -999.0,9,     -999.0,9,     -999.0,9,     -999.0,9,     -999.0,9,     -999.0,9,     -999.0,9,     -999.0,9,     -999.0,9,     -999.0,9,     -999.0,9,     -999.0,9,     -999.0,9,     -999.0,9,     -999.0,9,     -999.0,9,     -999.0,9,     -999.0,9,     -999.0,9,     -999.0,9,     -999.0,9,     -999.0,9,     -999.0,9,     -999.0,9,   0.4712,20141214,       1843
06AQ20141202,        A12,      23,          1,         16,2,20141214,       1652,   -60.9950,    -0.0072,       5475,   404.7,   0.4408,  34.6862,2,-999.0000,9,    187.3,2,   192.4,2,  119.76,2,   34.36,2,    0.00,2,    2.35,2,  2270.0,2,  2355.6,2,-999.0000,9,  -999.00,     -999.0,9,     -999.0,9,     -999.0,9,     -999.0,9,     -999.0,9,     -999.0,9,     -999.0,9,     -999.0,9,     -999.0,9,     -999.0,9,     -999.0,9,     -999.0,9,     -999.0,9,     -999.0,9,     -999.0,9,     -999.0,9,     -999.0,9,     -999.0,9,     -999.0,9,     -999.0,9,     -999.0,9,     -999.0,9,     -999.0,9,     -999.0,9,     -999.0,9,     -999.0,9,     -999.0,9,     -999.0,9,   0.4236,20141214,       1841
06AQ20141202,        A12,      23,          1,         15,2,20141214,       1652,   -60.9950,    -0.0072,       5475,   607.3,   0.3498,  34.6845,2,-999.0000,9,    192.0,2,   197.9,2,  125.72,2,   34.17,2,    0.00,2,    2.35,2,  2269.2,2,  2355.9,2,-999.0000,9,  -999.00,     -999.0,9,     -999.0,9,     -999.0,9,     -999.0,9,     -999.0,9,     -999.0,9,     -999.0,9,     -999.0,9,     -999.0,9,     -999.0,9,     -999.0,9,     -999.0,9,     -999.0,9,     -999.0,9,     -999.0,9,     -999.0,9,     -999.0,9,     -999.0,9,     -999.0,9,     -999.0,9,     -999.0,9,     -999.0,9,     -999.0,9,     -999.0,9,     -999.0,9,     -999.0,9,     -999.0,9,     -999.0,9,   0.3233,20141214,       1837
06AQ20141202,        A12,      23,          1,         14,2,20141214,       1652,   -60.9950,    -0.0072,       5475,   810.3,   0.2526,  34.6808,2,-999.0000,9,    196.9,2,   203.6,2,  127.47,2,   33.81,2,    0.00,2,    2.33,2,  2266.1,2,  2356.6,2,-999.0000,9,  -999.00,     -999.0,9,     -999.0,9,     -999.0,9,     -999.0,9,     -999.0,9,     -999.0,9,     -999.0,9,     -999.0,9,     -999.0,9,     -999.0,9,     -999.0,9,     -999.0,9,     -999.0,9,     -999.0,9,     -999.0,9,     -999.0,9,     -999.0,9,     -999.0,9,     -999.0,9,     -999.0,9,     -999.0,9,     -999.0,9,     -999.0,9,     -999.0,9,     -999.0,9,     -999.0,9,     -999.0,9,     -999.0,9,   0.2164,20141214,       1832
06AQ20141202,        A12,      23,          1,         13,2,20141214,       1652,   -60.9950,    -0.0072,       5475,   911.3,   0.2134,  34.6792,2,-999.0000,9,    199.4,2,   206.2,2,  126.30,2,   33.82,2,    0.00,2,    2.33,2,  2266.6,2,  2357.8,2,-999.0000,9,  -999.00,     -999.0,9,     -999.0,9,     -999.0,9,     -999.0,9,     -999.0,9,     -999.0,9,     -999.0,9,     -999.0,9,     -999.0,9,     -999.0,9,     -999.0,9,     -999.0,9,     -999.0,9,     -999.0,9,     -999.0,9,     -999.0,9,     -999.0,9,     -999.0,9,     -999.0,9,     -999.0,9,     -999.0,9,     -999.0,9,     -999.0,9,     -999.0,9,     -999.0,9,     -999.0,9,     -999.0,9,     -999.0,9,   0.1722,20141214,       1830
06AQ20141202,        A12,      23,          1,         12,2,20141214,       1652,   -60.9950,    -0.0072,       5475,  1011.3,   0.1690,  34.6774,2,-999.0000,9,    202.7,2,   209.3,2,  126.99,2,   33.75,2,    0.00,2,    2.30,2,  2264.4,2,  2358.7,2,-999.0000,9,  -999.00,     -999.0,9,     -999.0,9,     -999.0,9,     -999.0,9,     -999.0,9,     -999.0,9,     -999.0,9,     -999.0,9,     -999.0,9,     -999.0,9,     -999.0,9,     -999.0,9,     -999.0,9,     -999.0,9,     -999.0,9,     -999.0,9,     -999.0,9,     -999.0,9,     -999.0,9,     -999.0,9,     -999.0,9,     -999.0,9,     -999.0,9,     -999.0,9,     -999.0,9,     -999.0,9,     -999.0,9,     -999.0,9,   0.1228,20141214,       1827
06AQ20141202,        A12,      23,          1,         11,2,20141214,       1652,   -60.9950,    -0.0072,       5475,  1520.8,  -0.0227,  34.6694,2,-999.0000,9,    212.8,2,   220.6,2,  128.16,2,   33.37,2,    0.00,2,    2.28,2,  2259.2,2,  2357.0,2,-999.0000,9,  -999.00,     -999.0,9,     -999.0,9,     -999.0,9,     -999.0,9,     -999.0,9,     -999.0,9,     -999.0,9,     -999.0,9,     -999.0,9,     -999.0,9,     -999.0,9,     -999.0,9,     -999.0,9,     -999.0,9,     -999.0,9,     -999.0,9,     -999.0,9,     -999.0,9,     -999.0,9,     -999.0,9,     -999.0,9,     -999.0,9,     -999.0,9,     -999.0,9,     -999.0,9,     -999.0,9,     -999.0,9,     -999.0,9,  -0.0966,20141214,       1817
06AQ20141202,        A12,      23,          1,         10,2,20141214,       1652,   -60.9950,    -0.0072,       5475,  2030.8,  -0.1632,  34.6639,2,-999.0000,9,    220.1,2,   229.3,2,  126.70,2,   32.99,2,    0.00,2,    2.25,2,  2256.6,2,  2355.4,2,-999.0000,9,  -999.00,     -999.0,9,     -999.0,9,     -999.0,9,     -999.0,9,     -999.0,9,     -999.0,9,     -999.0,9,     -999.0,9,     -999.0,9,     -999.0,9,     -999.0,9,     -999.0,9,     -999.0,9,     -999.0,9,     -999.0,9,     -999.0,9,     -999.0,9,     -999.0,9,     -999.0,9,     -999.0,9,     -999.0,9,     -999.0,9,     -999.0,9,     -999.0,9,     -999.0,9,     -999.0,9,     -999.0,9,     -999.0,9,  -0.2685,20141214,       1807
06AQ20141202,        A12,      23,          1,          9,2,20141214,       1652,   -60.9950,    -0.0072,       5475,  2540.4,  -0.2504,  34.6603,2,-999.0000,9,    225.2,2,   237.2,2,  126.99,2,   32.72,2,    0.00,2,    2.25,2,  2253.2,2,  2354.5,2,-999.0000,9,  -999.00,     -999.0,9,     -999.0,9,     -999.0,9,     -999.0,9,     -999.0,9,     -999.0,9,     -999.0,9,     -999.0,9,     -999.0,9,     -999.0,9,     -999.0,9,     -999.0,9,     -999.0,9,     -999.0,9,     -999.0,9,     -999.0,9,     -999.0,9,     -999.0,9,     -999.0,9,     -999.0,9,     -999.0,9,     -999.0,9,     -999.0,9,     -999.0,9,     -999.0,9,     -999.0,9,     -999.0,9,     -999.0,9,  -0.3912,20141214,       1756
06AQ20141202,        A12,      23,          1,          8,2,20141214,       1652,   -60.9950,    -0.0072,       5475,  3047.1,  -0.3072,  34.6580,2,-999.0000,9,    229.1,2,   239.8,2,  125.43,2,   32.64,2,    0.00,2,    2.24,2,  2251.3,2,  2353.6,2,-999.0000,9,  -999.00,     -999.0,9,     -999.0,9,     -999.0,9,     -999.0,9,     -999.0,9,     -999.0,9,     -999.0,9,     -999.0,9,     -999.0,9,     -999.0,9,     -999.0,9,     -999.0,9,     -999.0,9,     -999.0,9,     -999.0,9,     -999.0,9,     -999.0,9,     -999.0,9,     -999.0,9,     -999.0,9,     -999.0,9,     -999.0,9,     -999.0,9,     -999.0,9,     -999.0,9,     -999.0,9,     -999.0,9,     -999.0,9,  -0.4876,20141214,       1747
06AQ20141202,        A12,      23,          1,          7,2,20141214,       1652,   -60.9950,    -0.0072,       5475,  3563.2,  -0.3543,  34.6555,2,-999.0000,9,    232.8,2,   244.7,2,  127.77,2,   32.44,2,    0.00,2,    2.25,2,  2249.0,2,  2353.3,2,-999.0000,9,  -999.00,     -999.0,9,     -999.0,9,     -999.0,9,     -999.0,9,     -999.0,9,     -999.0,9,     -999.0,9,     -999.0,9,     -999.0,9,     -999.0,9,     -999.0,9,     -999.0,9,     -999.0,9,     -999.0,9,     -999.0,9,     -999.0,9,     -999.0,9,     -999.0,9,     -999.0,9,     -999.0,9,     -999.0,9,     -999.0,9,     -999.0,9,     -999.0,9,     -999.0,9,     -999.0,9,     -999.0,9,     -999.0,9,  -0.5788,20141214,       1736
06AQ20141202,        A12,      23,          1,          6,2,20141214,       1652,   -60.9950,    -0.0072,       5475,  3871.8,  -0.3828,  34.6538,2,-999.0000,9,    235.3,2,   245.9,2,  126.40,2,   32.33,2,    0.00,2,    2.24,2,  2249.8,2,  2353.6,2,-999.0000,9,  -999.00,     -999.0,9,     -999.0,9,     -999.0,9,     -999.0,9,     -999.0,9,     -999.0,9,     -999.0,9,     -999.0,9,     -999.0,9,     -999.0,9,     -999.0,9,     -999.0,9,     -999.0,9,     -999.0,9,     -999.0,9,     -999.0,9,     -999.0,9,     -999.0,9,     -999.0,9,     -999.0,9,     -999.0,9,     -999.0,9,     -999.0,9,     -999.0,9,     -999.0,9,     -999.0,9,     -999.0,9,     -999.0,9,  -0.6354,20141214,       1729
06AQ20141202,        A12,      23,          1,          5,2,20141214,       1652,   -60.9950,    -0.0072,       5475,  4077.4,  -0.4098,  34.6516,2,-999.0000,9,    237.6,2,   248.5,2,  123.18,2,   32.68,2,    0.00,2,    2.24,2,  2247.7,2,  2353.7,2,-999.0000,9,  -999.00,     -999.0,9,     -999.0,9,     -999.0,9,     -999.0,9,     -999.0,9,     -999.0,9,     -999.0,9,     -999.0,9,     -999.0,9,     -999.0,9,     -999.0,9,     -999.0,9,     -999.0,9,     -999.0,9,     -999.0,9,     -999.0,9,     -999.0,9,     -999.0,9,     -999.0,9,     -999.0,9,     -999.0,9,     -999.0,9,     -999.0,9,     -999.0,9,     -999.0,9,     -999.0,9,     -999.0,9,     -999.0,9,  -0.6816,20141214,       1724
06AQ20141202,        A12,      23,          1,          4,2,20141214,       1652,   -60.9950,    -0.0072,       5475,  4592.3,  -0.4416,  34.6480,2,-999.0000,9,    241.8,2,   252.1,2,  120.84,2,   32.44,2,    0.00,2,    2.24,2,  2247.2,2,  2353.2,2,-999.0000,9,  -999.00,     -999.0,9,     -999.0,9,     -999.0,9,     -999.0,9,     -999.0,9,     -999.0,9,     -999.0,9,     -999.0,9,     -999.0,9,     -999.0,9,     -999.0,9,     -999.0,9,     -999.0,9,     -999.0,9,     -999.0,9,     -999.0,9,     -999.0,9,     -999.0,9,     -999.0,9,     -999.0,9,     -999.0,9,     -999.0,9,     -999.0,9,     -999.0,9,     -999.0,9,     -999.0,9,     -999.0,9,     -999.0,9,  -0.7649,20141214,       1714
06AQ20141202,        A12,      23,          1,          3,2,20141214,       1652,   -60.9950,    -0.0072,       5475,  5109.0,  -0.4074,  34.6471,2,-999.0000,9,    242.8,2,   253.0,2,  124.45,2,   32.40,2,    0.00,2,    2.25,2,  2248.9,2,  2352.2,2,-999.0000,9,  -999.00,     -999.0,9,     -999.0,9,     -999.0,9,     -999.0,9,     -999.0,9,     -999.0,9,     -999.0,9,     -999.0,9,     -999.0,9,     -999.0,9,     -999.0,9,     -999.0,9,     -999.0,9,     -999.0,9,     -999.0,9,     -999.0,9,     -999.0,9,     -999.0,9,     -999.0,9,     -999.0,9,     -999.0,9,     -999.0,9,     -999.0,9,     -999.0,9,     -999.0,9,     -999.0,9,     -999.0,9,     -999.0,9,  -0.7883,20141214,       1703
06AQ20141202,        A12,      23,          1,          2,2,20141214,       1652,   -60.9950,    -0.0072,       5475,  5315.6,  -0.3841,  34.6472,2,-999.0000,9,    242.9,2,   251.0,2,  125.23,2,   32.41,2,    0.00,2,    2.24,2,  2248.8,2,  2352.3,2,-999.0000,9,  -999.00,     -999.0,9,     -999.0,9,     -999.0,9,     -999.0,9,     -999.0,9,     -999.0,9,     -999.0,9,     -999.0,9,     -999.0,9,     -999.0,9,     -999.0,9,     -999.0,9,     -999.0,9,     -999.0,9,     -999.0,9,     -999.0,9,     -999.0,9,     -999.0,9,     -999.0,9,     -999.0,9,     -999.0,9,     -999.0,9,     -999.0,9,     -999.0,9,     -999.0,9,     -999.0,9,     -999.0,9,     -999.0,9,  -0.7894,20141214,       1658
06AQ20141202,        A12,      23,          1,          1,2,20141214,       1652,   -60.9950,    -0.0072,       5475,  5465.0,  -0.3657,  34.6470,2,-999.0000,9,    243.0,2,   254.3,2,  122.60,2,   32.54,2,    0.00,2,    2.23,2,  2248.7,2,  2351.4,2,-999.0000,9,  -999.00,     -999.0,9,     -999.0,9,     -999.0,9,     -999.0,9,     -999.0,9,     -999.0,9,     -999.0,9,     -999.0,9,     -999.0,9,     -999.0,9,     -999.0,9,     -999.0,9,     -999.0,9,     -999.0,9,     -999.0,9,     -999.0,9,     -999.0,9,     -999.0,9,     -999.0,9,     -999.0,9,     -999.0,9,     -999.0,9,     -999.0,9,     -999.0,9,     -999.0,9,     -999.0,9,     -999.0,9,     -999.0,9,  -0.7890,20141214,       1652