BOTTLE,20220815CCHSIOAMB
EXPOCODE,SECT_ID,STNNBR,CASTNO,BTLNBR,BTLNBR_FLAG_W,DATE,TIME,LATITUDE,LONGITUDE,DEPTH,CTDPRS,CTDTMP,CTDSAL,CTDSAL_FLAG_W,SALNTY,SALNTY_FLAG_W,CTDOXY,CTDOXY_FLAG_W,OXYGEN,OXYGEN_FLAG_W,SILCAT,SILCAT_FLAG_W,NITRAT,NITRAT_FLAG_W,NITRIT,NITRIT_FLAG_W,PHSPHT,PHSPHT_FLAG_W,TCARBN,TCARBN_FLAG_W,ALKALI,ALKALI_FLAG_W,PH_TOT,PH_TOT_FLAG_W,PH_TMP,POC,POC_FLAG_W,PON,PON_FLAG_W,FUCO,FUCO_FLAG_W,ALPHA-BETA-CAR,ALPHA-BETA-CAR_FLAG_W,ALLO,ALLO_FLAG_W,BUT-FUCO,BUT-FUCO_FLAG_W,CHL_C1C2,CHL_C1C2_FLAG_W,CHL_C3,CHL_C3_FLAG_W,CHLIDE_A,CHLIDE_A_FLAG_W,DIADINO,DIADINO_FLAG_W,DIATO,DIATO_FLAG_W,DV_CHL_A,DV_CHL_A_FLAG_W,DV_CHL_B,DV_CHL_B_FLAG_W,GYRO,GYRO_FLAG_W,HEX-FUCO,HEX-FUCO_FLAG_W,LUT,LUT_FLAG_W,MV_CHL_A,MV_CHL_A_FLAG_W,MV_CHL_B,MV_CHL_B_FLAG_W,NEO,NEO_FLAG_W,PERID,PERID_FLAG_W,PHIDE_A,PHIDE_A_FLAG_W,PHYTIN_A,PHYTIN_A_FLAG_W,PRAS,PRAS_FLAG_W,TOT_CHL_A,TOT_CHL_A_FLAG_W,TOT_CHL_B,TOT_CHL_B_FLAG_W,TOT_CHL_C,TOT_CHL_C_FLAG_W,VIOLA,VIOLA_FLAG_W,ZEA,ZEA_FLAG_W,THETA,BTL_DATE,BTL_TIME
,,,,,,,,,,METERS,DBAR,ITS-90,PSS-78,,PSS-78,,UMOL/KG,,UMOL/KG,,UMOL/KG,,UMOL/KG,,UMOL/KG,,UMOL/KG,,UMOL/KG,,UMOL/KG,,,,DEG C,uG/KG,,ug/kg,,NMOL/KG,,MG/M^3,,MG/M^3,,MG/M^3,,MG/M^3,,MG/M^3,,MG/M^3,,MG/M^3,,MG/M^3,,MG/M^3,,MG/M^3,,MG/M^3,,MG/M^3,,MG/M^3,,MG/M^3,,MG/M^3,,MG/M^3,,MG/M^3,,MG/M^3,,MG/M^3,,MG/M^3,,MG/M^3,,MG/M^3,,MG/M^3,,MG/M^3,,MG/M^3,,DEG C,,
06AQ20141202,        A12,      21,          1,         24,2,20141214,       0320,   -59.9838,    -0.0010,       5461,    13.0,  -1.5484,  33.9360,2,  33.9644,2,    335.4,2,   343.6,2,   65.82,2,   26.12,2,    0.26,2,    1.79,2,  2193.2,2,  2306.3,2,   7.7148,3,    25.00,         70,2,         14,2,     0.1670,2,      0.006,2,     -999.0,9,      0.006,2,      0.088,2,      0.032,2,      0.005,2,      0.026,2,     -999.0,9,     -999.0,9,     -999.0,9,     -999.0,9,      0.036,2,     -999.0,9,      0.353,2,     -999.0,9,     -999.0,9,      0.003,2,      0.054,2,      0.013,2,     -999.0,9,      0.358,2,     -999.0,9,      0.120,2,     -999.0,9,     -999.0,9,  -1.5487,20141214,       0457
06AQ20141202,        A12,      21,          1,         23,2,20141214,       0320,   -59.9838,    -0.0010,       5461,    14.5,  -1.5423,  33.9305,2,  33.9712,2,    335.3,2,   341.0,2,   65.53,2,   26.20,2,    0.25,2,    1.81,2,  2190.6,2,  2303.9,2,   7.6569,2,    25.00,         74,2,         16,2,     0.1530,2,      0.005,2,     -999.0,9,      0.005,2,      0.087,2,      0.031,2,      0.008,2,      0.020,2,     -999.0,9,     -999.0,9,     -999.0,9,     -999.0,9,      0.034,2,     -999.0,9,      0.326,2,     -999.0,9,     -999.0,9,      0.003,2,      0.056,2,      0.016,2,     -999.0,9,      0.334,2,     -999.0,9,      0.118,2,     -999.0,9,     -999.0,9,  -1.5426,20141214,       0457
06AQ20141202,        A12,      21,          1,         22,2,20141214,       0320,   -59.9838,    -0.0010,       5461,    24.8,  -1.6234,  33.9931,2,  34.0193,2,    333.1,2,   338.1,2,   65.14,2,   26.27,2,    0.25,2,    1.79,2,  2197.1,2,  2310.2,2,   7.7251,3,    25.00,         67,2,         15,2,     0.1730,2,      0.004,2,     -999.0,9,      0.006,2,      0.084,2,      0.036,2,      0.004,2,      0.019,2,     -999.0,9,     -999.0,9,     -999.0,9,     -999.0,9,      0.039,2,     -999.0,9,      0.372,2,     -999.0,9,     -999.0,9,      0.003,2,      0.044,2,      0.009,2,     -999.0,9,      0.376,2,     -999.0,9,      0.120,2,     -999.0,9,     -999.0,9,  -1.6239,20141214,       0457
06AQ20141202,        A12,      21,          1,         21,2,20141214,       0320,   -59.9838,    -0.0010,       5461,    51.6,  -1.7532,  34.1526,2,  34.1502,2,    320.1,2,   328.2,2,   66.40,2,   26.87,2,    0.24,2,    1.87,2,  2208.1,2,  2316.6,2,   7.6369,2,    25.00,     -999.0,9,     -999.0,9,     -999.0,9,     -999.0,9,     -999.0,9,     -999.0,9,     -999.0,9,     -999.0,9,     -999.0,9,     -999.0,9,     -999.0,9,     -999.0,9,     -999.0,9,     -999.0,9,     -999.0,9,     -999.0,9,     -999.0,9,     -999.0,9,     -999.0,9,     -999.0,9,     -999.0,9,     -999.0,9,     -999.0,9,     -999.0,9,     -999.0,9,     -999.0,9,     -999.0,9,     -999.0,9,  -1.7542,20141214,       0456
06AQ20141202,        A12,      21,          1,         20,2,20141214,       0320,   -59.9838,    -0.0010,       5461,    76.8,  -1.7594,  34.2127,2,  34.2112,2,    314.3,2,   320.8,2,   66.10,2,   27.30,2,    0.25,2,    1.93,2,  2217.5,2,  2319.0,2,   7.6768,3,    25.00,     -999.0,9,     -999.0,9,     -999.0,9,     -999.0,9,     -999.0,9,     -999.0,9,     -999.0,9,     -999.0,9,     -999.0,9,     -999.0,9,     -999.0,9,     -999.0,9,     -999.0,9,     -999.0,9,     -999.0,9,     -999.0,9,     -999.0,9,     -999.0,9,     -999.0,9,     -999.0,9,     -999.0,9,     -999.0,9,     -999.0,9,     -999.0,9,     -999.0,9,     -999.0,9,     -999.0,9,     -999.0,9,  -1.7609,20141214,       0455
06AQ20141202,        A12,      21,          1,         19,2,20141214,       0320,   -59.9838,    -0.0010,       5461,   101.9,  -1.1828,  34.3407,2,  34.3014,2,    289.1,2,   299.3,2,   72.74,2,   28.71,2,    0.22,2,    1.98,2,  2228.5,2,  2327.7,2,   7.6092,2,    25.00,     -999.0,9,     -999.0,9,     -999.0,9,     -999.0,9,     -999.0,9,     -999.0,9,     -999.0,9,     -999.0,9,     -999.0,9,     -999.0,9,     -999.0,9,     -999.0,9,     -999.0,9,     -999.0,9,     -999.0,9,     -999.0,9,     -999.0,9,     -999.0,9,     -999.0,9,     -999.0,9,     -999.0,9,     -999.0,9,     -999.0,9,     -999.0,9,     -999.0,9,     -999.0,9,     -999.0,9,     -999.0,9,  -1.1854,20141214,       0454
06AQ20141202,        A12,      21,          1,         18,2,20141214,       0320,   -59.9838,    -0.0010,       5461,   152.4,   0.5603,  34.6647,2,  34.6689,2,    190.5,2,   194.8,2,  108.83,2,   33.80,2,    0.01,2,    2.31,2,  2270.0,2,  2350.8,2,   7.5392,3,    25.00,     -999.0,9,     -999.0,9,     -999.0,9,     -999.0,9,     -999.0,9,     -999.0,9,     -999.0,9,     -999.0,9,     -999.0,9,     -999.0,9,     -999.0,9,     -999.0,9,     -999.0,9,     -999.0,9,     -999.0,9,     -999.0,9,     -999.0,9,     -999.0,9,     -999.0,9,     -999.0,9,     -999.0,9,     -999.0,9,     -999.0,9,     -999.0,9,     -999.0,9,     -999.0,9,     -999.0,9,     -999.0,9,   0.5540,20141214,       0452
06AQ20141202,        A12,      21,          1,         17,2,20141214,       0320,   -59.9838,    -0.0010,       5461,   202.7,   0.6106,  34.6863,2,  34.6847,2,    190.5,2,   194.7,2,  113.42,2,   33.66,2,    0.00,2,    2.30,2,  2268.7,2,  2351.4,2,   7.5566,2,    25.00,     -999.0,9,     -999.0,9,     -999.0,9,     -999.0,9,     -999.0,9,     -999.0,9,     -999.0,9,     -999.0,9,     -999.0,9,     -999.0,9,     -999.0,9,     -999.0,9,     -999.0,9,     -999.0,9,     -999.0,9,     -999.0,9,     -999.0,9,     -999.0,9,     -999.0,9,     -999.0,9,     -999.0,9,     -999.0,9,     -999.0,9,     -999.0,9,     -999.0,9,     -999.0,9,     -999.0,9,     -999.0,9,   0.6020,20141214,       0451
06AQ20141202,        A12,      21,          1,         16,2,20141214,       0320,   -59.9838,    -0.0010,       5461,   402.3,   0.4404,  34.6865,2,  34.6852,2,    189.2,2,   194.6,2,  121.52,2,   34.21,2,    0.00,2,    2.34,2,  2274.3,2,  2354.8,2,   7.5552,2,    25.00,     -999.0,9,     -999.0,9,     -999.0,9,     -999.0,9,     -999.0,9,     -999.0,9,     -999.0,9,     -999.0,9,     -999.0,9,     -999.0,9,     -999.0,9,     -999.0,9,     -999.0,9,     -999.0,9,     -999.0,9,     -999.0,9,     -999.0,9,     -999.0,9,     -999.0,9,     -999.0,9,     -999.0,9,     -999.0,9,     -999.0,9,     -999.0,9,     -999.0,9,     -999.0,9,     -999.0,9,     -999.0,9,   0.4233,20141214,       0447
06AQ20141202,        A12,      21,          1,         15,2,20141214,       0320,   -59.9838,    -0.0010,       5461,   606.4,   0.3408,  34.6844,2,  34.6838,2,    193.4,2,   199.2,2,  125.03,2,   33.98,2,    0.00,2,    2.33,2,  2276.1,2,  2355.5,2,   7.5976,3,    25.00,     -999.0,9,     -999.0,9,     -999.0,9,     -999.0,9,     -999.0,9,     -999.0,9,     -999.0,9,     -999.0,9,     -999.0,9,     -999.0,9,     -999.0,9,     -999.0,9,     -999.0,9,     -999.0,9,     -999.0,9,     -999.0,9,     -999.0,9,     -999.0,9,     -999.0,9,     -999.0,9,     -999.0,9,     -999.0,9,     -999.0,9,     -999.0,9,     -999.0,9,     -999.0,9,     -999.0,9,     -999.0,9,   0.3144,20141214,       0443
06AQ20141202,        A12,      21,          1,         14,2,20141214,       0320,   -59.9838,    -0.0010,       5461,   808.0,   0.2484,  34.6808,2,  34.6802,2,    199.0,2,   204.7,2,  126.11,2,   33.57,2,    0.00,2,    2.32,2,  2271.4,2,  2354.6,2,   7.5702,2,    25.00,     -999.0,9,     -999.0,9,     -999.0,9,     -999.0,9,     -999.0,9,     -999.0,9,     -999.0,9,     -999.0,9,     -999.0,9,     -999.0,9,     -999.0,9,     -999.0,9,     -999.0,9,     -999.0,9,     -999.0,9,     -999.0,9,     -999.0,9,     -999.0,9,     -999.0,9,     -999.0,9,     -999.0,9,     -999.0,9,     -999.0,9,     -999.0,9,     -999.0,9,     -999.0,9,     -999.0,9,     -999.0,9,   0.2124,20141214,       0439
06AQ20141202,        A12,      21,          1,         13,2,20141214,       0320,   -59.9838,    -0.0010,       5461,   911.9,   0.2014,  34.6786,2,  34.6785,2,    201.3,2,   207.2,2,  126.79,2,   33.46,2,    0.00,2,    2.31,2,  2269.4,2,  2356.3,2,   7.5685,2,    25.00,     -999.0,9,     -999.0,9,     -999.0,9,     -999.0,9,     -999.0,9,     -999.0,9,     -999.0,9,     -999.0,9,     -999.0,9,     -999.0,9,     -999.0,9,     -999.0,9,     -999.0,9,     -999.0,9,     -999.0,9,     -999.0,9,     -999.0,9,     -999.0,9,     -999.0,9,     -999.0,9,     -999.0,9,     -999.0,9,     -999.0,9,     -999.0,9,     -999.0,9,     -999.0,9,     -999.0,9,     -999.0,9,   0.1603,20141214,       0437
06AQ20141202,        A12,      21,          1,         12,2,20141214,       0320,   -59.9838,    -0.0010,       5461,  1011.5,   0.1642,  34.6770,2,  34.6771,2,    203.4,2,   210.7,2,  126.99,2,   33.63,2,    0.00,2,    2.30,2,  2269.4,2,  2355.6,2,   7.5709,2,    25.00,     -999.0,9,     -999.0,9,     -999.0,9,     -999.0,9,     -999.0,9,     -999.0,9,     -999.0,9,     -999.0,9,     -999.0,9,     -999.0,9,     -999.0,9,     -999.0,9,     -999.0,9,     -999.0,9,     -999.0,9,     -999.0,9,     -999.0,9,     -999.0,9,     -999.0,9,     -999.0,9,     -999.0,9,     -999.0,9,     -999.0,9,     -999.0,9,     -999.0,9,     -999.0,9,     -999.0,9,     -999.0,9,   0.1180,20141214,       0435
06AQ20141202,        A12,      21,          1,         11,2,20141214,       0320,   -59.9838,    -0.0010,       5461,  1313.5,   0.0448,  34.6720,2,  34.6725,2,    210.7,2,   218.0,2,  127.08,2,   33.19,2,    0.00,2,    2.28,2,  2265.2,2,  2354.6,2,   7.5826,2,    25.00,     -999.0,9,     -999.0,9,     -999.0,9,     -999.0,9,     -999.0,9,     -999.0,9,     -999.0,9,     -999.0,9,     -999.0,9,     -999.0,9,     -999.0,9,     -999.0,9,     -999.0,9,     -999.0,9,     -999.0,9,     -999.0,9,     -999.0,9,     -999.0,9,     -999.0,9,     -999.0,9,     -999.0,9,     -999.0,9,     -999.0,9,     -999.0,9,     -999.0,9,     -999.0,9,     -999.0,9,     -999.0,9,  -0.0174,20141214,       0430
06AQ20141202,        A12,      21,          1,         10,2,20141214,       0320,   -59.9838,    -0.0010,       5461,  1516.6,  -0.0196,  34.6697,2,  34.6692,2,    213.6,2,   221.4,2,  127.38,2,   33.07,2,    0.00,2,    2.27,2,  2263.4,2,  2354.4,2,   7.5861,2,    25.00,     -999.0,9,     -999.0,9,     -999.0,9,     -999.0,9,     -999.0,9,     -999.0,9,     -999.0,9,     -999.0,9,     -999.0,9,     -999.0,9,     -999.0,9,     -999.0,9,     -999.0,9,     -999.0,9,     -999.0,9,     -999.0,9,     -999.0,9,     -999.0,9,     -999.0,9,     -999.0,9,     -999.0,9,     -999.0,9,     -999.0,9,     -999.0,9,     -999.0,9,     -999.0,9,     -999.0,9,     -999.0,9,  -0.0933,20141214,       0426
06AQ20141202,        A12,      21,          1,          9,2,20141214,       0320,   -59.9838,    -0.0010,       5461,  2028.2,  -0.1594,  34.6638,2,  34.6630,2,    221.2,2,   231.2,2,  127.28,2,   32.69,2,    0.00,2,    2.26,2,  2260.6,2,  2353.9,2,   7.5926,2,    25.00,     -999.0,9,     -999.0,9,     -999.0,9,     -999.0,9,     -999.0,9,     -999.0,9,     -999.0,9,     -999.0,9,     -999.0,9,     -999.0,9,     -999.0,9,     -999.0,9,     -999.0,9,     -999.0,9,     -999.0,9,     -999.0,9,     -999.0,9,     -999.0,9,     -999.0,9,     -999.0,9,     -999.0,9,     -999.0,9,     -999.0,9,     -999.0,9,     -999.0,9,     -999.0,9,     -999.0,9,     -999.0,9,  -0.2645,20141214,       0417
06AQ20141202,        A12,      21,          1,          8,2,20141214,       0320,   -59.9838,    -0.0010,       5461,  3048.6,  -0.3018,  34.6579,2,  34.6564,2,    230.2,2,   240.9,2,  126.40,2,   32.34,2,    0.00,2,    2.24,2,  2256.1,2,  2353.4,2,   7.6011,2,    25.00,     -999.0,9,     -999.0,9,     -999.0,9,     -999.0,9,     -999.0,9,     -999.0,9,     -999.0,9,     -999.0,9,     -999.0,9,     -999.0,9,     -999.0,9,     -999.0,9,     -999.0,9,     -999.0,9,     -999.0,9,     -999.0,9,     -999.0,9,     -999.0,9,     -999.0,9,     -999.0,9,     -999.0,9,     -999.0,9,     -999.0,9,     -999.0,9,     -999.0,9,     -999.0,9,     -999.0,9,     -999.0,9,  -0.4824,20141214,       0359
06AQ20141202,        A12,      21,          1,          7,2,20141214,       0320,   -59.9838,    -0.0010,       5461,  3562.5,  -0.3513,  34.6556,2,  34.6536,2,    233.9,2,   243.2,2,  127.28,2,   32.28,2,    0.00,2,    2.24,2,  2255.8,2,  2352.7,2,   7.6048,2,    25.00,     -999.0,9,     -999.0,9,     -999.0,9,     -999.0,9,     -999.0,9,     -999.0,9,     -999.0,9,     -999.0,9,     -999.0,9,     -999.0,9,     -999.0,9,     -999.0,9,     -999.0,9,     -999.0,9,     -999.0,9,     -999.0,9,     -999.0,9,     -999.0,9,     -999.0,9,     -999.0,9,     -999.0,9,     -999.0,9,     -999.0,9,     -999.0,9,     -999.0,9,     -999.0,9,     -999.0,9,     -999.0,9,  -0.5758,20141214,       0351
06AQ20141202,        A12,      21,          1,          6,2,20141214,       0320,   -59.9838,    -0.0010,       5461,  3871.6,  -0.3782,  34.6538,2,  34.6521,2,    235.7,2,   245.4,2,  126.60,2,   32.41,2,    0.00,2,    2.24,2,  2252.7,2,  2352.4,2,   7.6073,2,    25.00,     -999.0,9,     -999.0,9,     -999.0,9,     -999.0,9,     -999.0,9,     -999.0,9,     -999.0,9,     -999.0,9,     -999.0,9,     -999.0,9,     -999.0,9,     -999.0,9,     -999.0,9,     -999.0,9,     -999.0,9,     -999.0,9,     -999.0,9,     -999.0,9,     -999.0,9,     -999.0,9,     -999.0,9,     -999.0,9,     -999.0,9,     -999.0,9,     -999.0,9,     -999.0,9,     -999.0,9,     -999.0,9,  -0.6309,20141214,       0346
06AQ20141202,        A12,      21,          1,          5,2,20141214,       0320,   -59.9838,    -0.0010,       5461,  4075.6,  -0.4033,  34.6522,2,  34.6505,2,    238.1,2,   247.7,2,  125.33,2,   32.41,2,    0.00,2,    2.24,2,  2252.0,2,  2351.0,2,   7.6078,2,    25.00,     -999.0,9,     -999.0,9,     -999.0,9,     -999.0,9,     -999.0,9,     -999.0,9,     -999.0,9,     -999.0,9,     -999.0,9,     -999.0,9,     -999.0,9,     -999.0,9,     -999.0,9,     -999.0,9,     -999.0,9,     -999.0,9,     -999.0,9,     -999.0,9,     -999.0,9,     -999.0,9,     -999.0,9,     -999.0,9,     -999.0,9,     -999.0,9,     -999.0,9,     -999.0,9,     -999.0,9,     -999.0,9,  -0.6751,20141214,       0342
06AQ20141202,        A12,      21,          1,          4,2,20141214,       0320,   -59.9838,    -0.0010,       5461,  4384.8,  -0.4342,  34.6495,2,  34.6477,2,    241.4,2,   251.2,2,  122.50,2,   32.38,2,    0.00,2,    2.24,2,  2252.6,2,  2353.5,2,   7.6072,2,    25.00,     -999.0,9,     -999.0,9,     -999.0,9,     -999.0,9,     -999.0,9,     -999.0,9,     -999.0,9,     -999.0,9,     -999.0,9,     -999.0,9,     -999.0,9,     -999.0,9,     -999.0,9,     -999.0,9,     -999.0,9,     -999.0,9,     -999.0,9,     -999.0,9,     -999.0,9,     -999.0,9,     -999.0,9,     -999.0,9,     -999.0,9,     -999.0,9,     -999.0,9,     -999.0,9,     -999.0,9,     -999.0,9,  -0.7362,20141214,       0337
06AQ20141202,        A12,      21,          1,          3,2,20141214,       0320,   -59.9838,    -0.0010,       5461,  4592.7,  -0.4412,  34.6483,2,  34.6465,2,    242.2,2,   251.8,2,  121.82,2,   32.34,2,    0.00,2,    2.23,2,  2250.6,2,  2353.7,2,   7.6074,2,    25.00,     -999.0,9,     -999.0,9,     -999.0,9,     -999.0,9,     -999.0,9,     -999.0,9,     -999.0,9,     -999.0,9,     -999.0,9,     -999.0,9,     -999.0,9,     -999.0,9,     -999.0,9,     -999.0,9,     -999.0,9,     -999.0,9,     -999.0,9,     -999.0,9,     -999.0,9,     -999.0,9,     -999.0,9,     -999.0,9,     -999.0,9,     -999.0,9,     -999.0,9,     -999.0,9,     -999.0,9,     -999.0,9,  -0.7646,20141214,       0334
06AQ20141202,        A12,      21,          1,          2,2,20141214,       0320,   -59.9838,    -0.0010,       5461,  4900.6,  -0.4262,  34.6473,2,  34.6455,2,    242.8,2,   251.1,2,  122.89,2,   32.26,2,    0.00,2,    2.21,2,  2252.5,2,  2353.5,2,   7.6089,2,    25.00,     -999.0,9,     -999.0,9,     -999.0,9,     -999.0,9,     -999.0,9,     -999.0,9,     -999.0,9,     -999.0,9,     -999.0,9,     -999.0,9,     -999.0,9,     -999.0,9,     -999.0,9,     -999.0,9,     -999.0,9,     -999.0,9,     -999.0,9,     -999.0,9,     -999.0,9,     -999.0,9,     -999.0,9,     -999.0,9,     -999.0,9,     -999.0,9,     -999.0,9,     -999.0,9,     -999.0,9,     -999.0,9,  -0.7832,20141214,       0329
06AQ20141202,        A12,      21,          1,          1,2,20141214,       0320,   -59.9838,    -0.0010,       5461,  5450.7,  -0.3673,  34.6469,2,  34.6461,2,    243.1,2,   251.6,2,  124.74,2,   32.27,2,    0.00,2,    2.23,2,  2250.6,2,  2351.6,2,   7.6050,2,    25.00,     -999.0,9,     -999.0,9,     -999.0,9,     -999.0,9,     -999.0,9,     -999.0,9,     -999.0,9,     -999.0,9,     -999.0,9,     -999.0,9,     -999.0,9,     -999.0,9,     -999.0,9,     -999.0,9,     -999.0,9,     -999.0,9,     -999.0,9,     -999.0,9,     -999.0,9,     -999.0,9,     -999.0,9,     -999.0,9,     -999.0,9,     -999.0,9,     -999.0,9,     -999.0,9,     -999.0,9,     -999.0,9,  -0.7889,20141214,       0320