BOTTLE,20220815CCHSIOAMB
EXPOCODE,SECT_ID,STNNBR,CASTNO,BTLNBR,BTLNBR_FLAG_W,DATE,TIME,LATITUDE,LONGITUDE,DEPTH,CTDPRS,CTDTMP,CTDSAL,CTDSAL_FLAG_W,SALNTY,SALNTY_FLAG_W,CTDOXY,CTDOXY_FLAG_W,OXYGEN,OXYGEN_FLAG_W,SILCAT,SILCAT_FLAG_W,NITRAT,NITRAT_FLAG_W,NITRIT,NITRIT_FLAG_W,PHSPHT,PHSPHT_FLAG_W,TCARBN,TCARBN_FLAG_W,ALKALI,ALKALI_FLAG_W,PH_TOT,PH_TOT_FLAG_W,PH_TMP,POC,POC_FLAG_W,PON,PON_FLAG_W,FUCO,FUCO_FLAG_W,ALPHA-BETA-CAR,ALPHA-BETA-CAR_FLAG_W,ALLO,ALLO_FLAG_W,BUT-FUCO,BUT-FUCO_FLAG_W,CHL_C1C2,CHL_C1C2_FLAG_W,CHL_C3,CHL_C3_FLAG_W,CHLIDE_A,CHLIDE_A_FLAG_W,DIADINO,DIADINO_FLAG_W,DIATO,DIATO_FLAG_W,DV_CHL_A,DV_CHL_A_FLAG_W,DV_CHL_B,DV_CHL_B_FLAG_W,GYRO,GYRO_FLAG_W,HEX-FUCO,HEX-FUCO_FLAG_W,LUT,LUT_FLAG_W,MV_CHL_A,MV_CHL_A_FLAG_W,MV_CHL_B,MV_CHL_B_FLAG_W,NEO,NEO_FLAG_W,PERID,PERID_FLAG_W,PHIDE_A,PHIDE_A_FLAG_W,PHYTIN_A,PHYTIN_A_FLAG_W,PRAS,PRAS_FLAG_W,TOT_CHL_A,TOT_CHL_A_FLAG_W,TOT_CHL_B,TOT_CHL_B_FLAG_W,TOT_CHL_C,TOT_CHL_C_FLAG_W,VIOLA,VIOLA_FLAG_W,ZEA,ZEA_FLAG_W,THETA,BTL_DATE,BTL_TIME
,,,,,,,,,,METERS,DBAR,ITS-90,PSS-78,,PSS-78,,UMOL/KG,,UMOL/KG,,UMOL/KG,,UMOL/KG,,UMOL/KG,,UMOL/KG,,UMOL/KG,,UMOL/KG,,,,DEG C,uG/KG,,ug/kg,,NMOL/KG,,MG/M^3,,MG/M^3,,MG/M^3,,MG/M^3,,MG/M^3,,MG/M^3,,MG/M^3,,MG/M^3,,MG/M^3,,MG/M^3,,MG/M^3,,MG/M^3,,MG/M^3,,MG/M^3,,MG/M^3,,MG/M^3,,MG/M^3,,MG/M^3,,MG/M^3,,MG/M^3,,MG/M^3,,MG/M^3,,MG/M^3,,MG/M^3,,MG/M^3,,DEG C,,
06AQ20141202,        A12,      10,          2,         24,2,20141210,       0342,   -51.4242,     0.0133,       2686,    16.6,   2.2016,  33.8482,2,-999.0000,9,    331.6,2,   335.4,2,   16.21,2,   24.74,2,    0.20,2,    1.65,2,  2155.2,2,  2286.2,2,-999.0000,9,  -999.00,     -999.0,9,     -999.0,9,     -999.0,9,     -999.0,9,     -999.0,9,     -999.0,9,     -999.0,9,     -999.0,9,     -999.0,9,     -999.0,9,     -999.0,9,     -999.0,9,     -999.0,9,     -999.0,9,     -999.0,9,     -999.0,9,     -999.0,9,     -999.0,9,     -999.0,9,     -999.0,9,     -999.0,9,     -999.0,9,     -999.0,9,     -999.0,9,     -999.0,9,     -999.0,9,     -999.0,9,     -999.0,9,   2.2007,20141210,       0435
06AQ20141202,        A12,      10,          2,         23,2,20141210,       0342,   -51.4242,     0.0133,       2686,    26.2,   2.1990,  33.8480,2,-999.0000,9,    331.7,2,   335.5,2,   16.51,2,   24.91,2,    0.18,2,    1.64,2,  2155.9,2,  2284.8,2,-999.0000,9,  -999.00,     -999.0,9,     -999.0,9,     -999.0,9,     -999.0,9,     -999.0,9,     -999.0,9,     -999.0,9,     -999.0,9,     -999.0,9,     -999.0,9,     -999.0,9,     -999.0,9,     -999.0,9,     -999.0,9,     -999.0,9,     -999.0,9,     -999.0,9,     -999.0,9,     -999.0,9,     -999.0,9,     -999.0,9,     -999.0,9,     -999.0,9,     -999.0,9,     -999.0,9,     -999.0,9,     -999.0,9,     -999.0,9,   2.1976,20141210,       0434
06AQ20141202,        A12,      10,          2,         22,2,20141210,       0342,   -51.4242,     0.0133,       2686,    51.1,   2.1777,  33.8505,2,-999.0000,9,    332.1,2,   336.3,2,   16.70,2,   24.82,2,    0.19,2,    1.63,2,  2152.4,2,  2284.9,2,-999.0000,9,  -999.00,     -999.0,9,     -999.0,9,     -999.0,9,     -999.0,9,     -999.0,9,     -999.0,9,     -999.0,9,     -999.0,9,     -999.0,9,     -999.0,9,     -999.0,9,     -999.0,9,     -999.0,9,     -999.0,9,     -999.0,9,     -999.0,9,     -999.0,9,     -999.0,9,     -999.0,9,     -999.0,9,     -999.0,9,     -999.0,9,     -999.0,9,     -999.0,9,     -999.0,9,     -999.0,9,     -999.0,9,     -999.0,9,   2.1750,20141210,       0433
06AQ20141202,        A12,      10,          2,         21,2,20141210,       0342,   -51.4242,     0.0133,       2686,    77.1,   2.1694,  33.8517,2,-999.0000,9,    331.9,2,   336.1,2,   16.51,2,   24.86,2,    0.19,2,    1.64,2,  2158.5,2,  2284.7,2,-999.0000,9,  -999.00,     -999.0,9,     -999.0,9,     -999.0,9,     -999.0,9,     -999.0,9,     -999.0,9,     -999.0,9,     -999.0,9,     -999.0,9,     -999.0,9,     -999.0,9,     -999.0,9,     -999.0,9,     -999.0,9,     -999.0,9,     -999.0,9,     -999.0,9,     -999.0,9,     -999.0,9,     -999.0,9,     -999.0,9,     -999.0,9,     -999.0,9,     -999.0,9,     -999.0,9,     -999.0,9,     -999.0,9,     -999.0,9,   2.1653,20141210,       0432
06AQ20141202,        A12,      10,          2,         20,2,20141210,       0342,   -51.4242,     0.0133,       2686,   101.7,   2.1408,  33.8523,2,-999.0000,9,    331.2,2,   334.9,2,   16.80,2,   24.93,2,    0.18,2,    1.66,2,  2157.8,2,  2286.8,2,-999.0000,9,  -999.00,     -999.0,9,     -999.0,9,     -999.0,9,     -999.0,9,     -999.0,9,     -999.0,9,     -999.0,9,     -999.0,9,     -999.0,9,     -999.0,9,     -999.0,9,     -999.0,9,     -999.0,9,     -999.0,9,     -999.0,9,     -999.0,9,     -999.0,9,     -999.0,9,     -999.0,9,     -999.0,9,     -999.0,9,     -999.0,9,     -999.0,9,     -999.0,9,     -999.0,9,     -999.0,9,     -999.0,9,     -999.0,9,   2.1355,20141210,       0431
06AQ20141202,        A12,      10,          2,         19,2,20141210,       0342,   -51.4242,     0.0133,       2686,   127.2,   1.7778,  33.8694,2,-999.0000,9,    327.6,2,   331.9,2,   19.73,2,   25.81,2,    0.18,2,    1.78,2,  2163.8,2,  2286.4,2,-999.0000,9,  -999.00,     -999.0,9,     -999.0,9,     -999.0,9,     -999.0,9,     -999.0,9,     -999.0,9,     -999.0,9,     -999.0,9,     -999.0,9,     -999.0,9,     -999.0,9,     -999.0,9,     -999.0,9,     -999.0,9,     -999.0,9,     -999.0,9,     -999.0,9,     -999.0,9,     -999.0,9,     -999.0,9,     -999.0,9,     -999.0,9,     -999.0,9,     -999.0,9,     -999.0,9,     -999.0,9,     -999.0,9,     -999.0,9,   1.7715,20141210,       0430
06AQ20141202,        A12,      10,          2,         18,2,20141210,       0342,   -51.4242,     0.0133,       2686,   151.2,   1.3704,  33.9156,2,-999.0000,9,    310.5,2,   315.5,2,   22.95,2,   27.60,2,    0.11,2,    1.91,2,  2175.4,2,  2287.4,2,-999.0000,9,  -999.00,     -999.0,9,     -999.0,9,     -999.0,9,     -999.0,9,     -999.0,9,     -999.0,9,     -999.0,9,     -999.0,9,     -999.0,9,     -999.0,9,     -999.0,9,     -999.0,9,     -999.0,9,     -999.0,9,     -999.0,9,     -999.0,9,     -999.0,9,     -999.0,9,     -999.0,9,     -999.0,9,     -999.0,9,     -999.0,9,     -999.0,9,     -999.0,9,     -999.0,9,     -999.0,9,     -999.0,9,     -999.0,9,   1.3633,20141210,       0430
06AQ20141202,        A12,      10,          2,         17,2,20141210,       0342,   -51.4242,     0.0133,       2686,   201.2,   1.6141,  34.1207,2,-999.0000,9,    251.1,2,   256.4,2,   39.55,2,   31.76,2,    0.01,2,    2.20,2,  2208.3,2,  2296.6,2,-999.0000,9,  -999.00,     -999.0,9,     -999.0,9,     -999.0,9,     -999.0,9,     -999.0,9,     -999.0,9,     -999.0,9,     -999.0,9,     -999.0,9,     -999.0,9,     -999.0,9,     -999.0,9,     -999.0,9,     -999.0,9,     -999.0,9,     -999.0,9,     -999.0,9,     -999.0,9,     -999.0,9,     -999.0,9,     -999.0,9,     -999.0,9,     -999.0,9,     -999.0,9,     -999.0,9,     -999.0,9,     -999.0,9,     -999.0,9,   1.6041,20141210,       0428
06AQ20141202,        A12,      10,          2,         16,2,20141210,       0342,   -51.4242,     0.0133,       2686,   252.9,   1.9950,  34.3087,2,-999.0000,9,    202.8,2,   204.3,2,   56.53,2,   34.63,2,    0.00,2,    2.39,2,  2235.4,2,  2312.4,2,-999.0000,9,  -999.00,     -999.0,9,     -999.0,9,     -999.0,9,     -999.0,9,     -999.0,9,     -999.0,9,     -999.0,9,     -999.0,9,     -999.0,9,     -999.0,9,     -999.0,9,     -999.0,9,     -999.0,9,     -999.0,9,     -999.0,9,     -999.0,9,     -999.0,9,     -999.0,9,     -999.0,9,     -999.0,9,     -999.0,9,     -999.0,9,     -999.0,9,     -999.0,9,     -999.0,9,     -999.0,9,     -999.0,9,     -999.0,9,   1.9815,20141210,       0427
06AQ20141202,        A12,      10,          2,         15,2,20141210,       0342,   -51.4242,     0.0133,       2686,   303.0,   2.0792,  34.3900,2,-999.0000,9,    186.6,2,   189.4,2,   63.85,2,   35.23,2,    0.00,2,    2.43,2,  2247.2,2,  2317.8,2,-999.0000,9,  -999.00,     -999.0,9,     -999.0,9,     -999.0,9,     -999.0,9,     -999.0,9,     -999.0,9,     -999.0,9,     -999.0,9,     -999.0,9,     -999.0,9,     -999.0,9,     -999.0,9,     -999.0,9,     -999.0,9,     -999.0,9,     -999.0,9,     -999.0,9,     -999.0,9,     -999.0,9,     -999.0,9,     -999.0,9,     -999.0,9,     -999.0,9,     -999.0,9,     -999.0,9,     -999.0,9,     -999.0,9,     -999.0,9,   2.0626,20141210,       0426
06AQ20141202,        A12,      10,          2,         14,2,20141210,       0342,   -51.4242,     0.0133,       2686,   405.0,   2.1652,  34.5129,2,-999.0000,9,    169.6,2,   172.4,2,   73.12,2,   35.33,2,    0.00,2,    2.43,2,  2255.7,2,  2328.3,2,-999.0000,9,  -999.00,     -999.0,9,     -999.0,9,     -999.0,9,     -999.0,9,     -999.0,9,     -999.0,9,     -999.0,9,     -999.0,9,     -999.0,9,     -999.0,9,     -999.0,9,     -999.0,9,     -999.0,9,     -999.0,9,     -999.0,9,     -999.0,9,     -999.0,9,     -999.0,9,     -999.0,9,     -999.0,9,     -999.0,9,     -999.0,9,     -999.0,9,     -999.0,9,     -999.0,9,     -999.0,9,     -999.0,9,     -999.0,9,   2.1423,20141210,       0424
06AQ20141202,        A12,      10,          2,         13,2,20141210,       0342,   -51.4242,     0.0133,       2686,   506.1,   2.1548,  34.5747,2,-999.0000,9,    166.4,2,   169.5,2,   77.60,2,   34.84,2,    0.00,2,    2.40,2,  2255.9,2,  2334.0,2,-999.0000,9,  -999.00,     -999.0,9,     -999.0,9,     -999.0,9,     -999.0,9,     -999.0,9,     -999.0,9,     -999.0,9,     -999.0,9,     -999.0,9,     -999.0,9,     -999.0,9,     -999.0,9,     -999.0,9,     -999.0,9,     -999.0,9,     -999.0,9,     -999.0,9,     -999.0,9,     -999.0,9,     -999.0,9,     -999.0,9,     -999.0,9,     -999.0,9,     -999.0,9,     -999.0,9,     -999.0,9,     -999.0,9,     -999.0,9,   2.1258,20141210,       0423
06AQ20141202,        A12,      10,          2,         12,2,20141210,       0342,   -51.4242,     0.0133,       2686,   607.3,   2.1611,  34.6219,2,-999.0000,9,    167.5,2,   171.1,2,   80.63,2,   34.10,2,    0.00,2,    2.34,2,  2262.0,2,  2338.4,2,-999.0000,9,  -999.00,     -999.0,9,     -999.0,9,     -999.0,9,     -999.0,9,     -999.0,9,     -999.0,9,     -999.0,9,     -999.0,9,     -999.0,9,     -999.0,9,     -999.0,9,     -999.0,9,     -999.0,9,     -999.0,9,     -999.0,9,     -999.0,9,     -999.0,9,     -999.0,9,     -999.0,9,     -999.0,9,     -999.0,9,     -999.0,9,     -999.0,9,     -999.0,9,     -999.0,9,     -999.0,9,     -999.0,9,     -999.0,9,   2.1257,20141210,       0421
06AQ20141202,        A12,      10,          2,         11,2,20141210,       0342,   -51.4242,     0.0133,       2686,   707.7,   2.0973,  34.6537,2,-999.0000,9,    170.6,2,   173.2,2,   81.50,2,   33.54,2,    0.00,2,    2.31,2,  2259.1,2,  2343.8,2,-999.0000,9,  -999.00,     -999.0,9,     -999.0,9,     -999.0,9,     -999.0,9,     -999.0,9,     -999.0,9,     -999.0,9,     -999.0,9,     -999.0,9,     -999.0,9,     -999.0,9,     -999.0,9,     -999.0,9,     -999.0,9,     -999.0,9,     -999.0,9,     -999.0,9,     -999.0,9,     -999.0,9,     -999.0,9,     -999.0,9,     -999.0,9,     -999.0,9,     -999.0,9,     -999.0,9,     -999.0,9,     -999.0,9,     -999.0,9,   2.0558,20141210,       0419
06AQ20141202,        A12,      10,          2,         10,2,20141210,       0342,   -51.4242,     0.0133,       2686,   807.9,   2.0256,  34.6799,2,-999.0000,9,    174.7,2,   177.8,2,   83.55,2,   32.74,2,    0.00,2,    2.25,2,  2257.8,2,  2346.4,2,-999.0000,9,  -999.00,     -999.0,9,     -999.0,9,     -999.0,9,     -999.0,9,     -999.0,9,     -999.0,9,     -999.0,9,     -999.0,9,     -999.0,9,     -999.0,9,     -999.0,9,     -999.0,9,     -999.0,9,     -999.0,9,     -999.0,9,     -999.0,9,     -999.0,9,     -999.0,9,     -999.0,9,     -999.0,9,     -999.0,9,     -999.0,9,     -999.0,9,     -999.0,9,     -999.0,9,     -999.0,9,     -999.0,9,     -999.0,9,   1.9780,20141210,       0417
06AQ20141202,        A12,      10,          2,          9,2,20141210,       0342,   -51.4242,     0.0133,       2686,   908.6,   1.9599,  34.6994,2,-999.0000,9,    178.7,2,   183.1,2,   85.89,2,   32.24,2,    0.00,2,    2.22,2,  2257.6,2,  2347.0,2,-999.0000,9,  -999.00,     -999.0,9,     -999.0,9,     -999.0,9,     -999.0,9,     -999.0,9,     -999.0,9,     -999.0,9,     -999.0,9,     -999.0,9,     -999.0,9,     -999.0,9,     -999.0,9,     -999.0,9,     -999.0,9,     -999.0,9,     -999.0,9,     -999.0,9,     -999.0,9,     -999.0,9,     -999.0,9,     -999.0,9,     -999.0,9,     -999.0,9,     -999.0,9,     -999.0,9,     -999.0,9,     -999.0,9,     -999.0,9,   1.9060,20141210,       0415
06AQ20141202,        A12,      10,          2,          8,2,20141210,       0342,   -51.4242,     0.0133,       2686,  1011.7,   1.9028,  34.7116,2,-999.0000,9,    182.2,2,   186.1,2,   86.38,2,   31.80,2,    0.00,2,    2.19,2,  2258.0,2,  2348.0,2,-999.0000,9,  -999.00,     -999.0,9,     -999.0,9,     -999.0,9,     -999.0,9,     -999.0,9,     -999.0,9,     -999.0,9,     -999.0,9,     -999.0,9,     -999.0,9,     -999.0,9,     -999.0,9,     -999.0,9,     -999.0,9,     -999.0,9,     -999.0,9,     -999.0,9,     -999.0,9,     -999.0,9,     -999.0,9,     -999.0,9,     -999.0,9,     -999.0,9,     -999.0,9,     -999.0,9,     -999.0,9,     -999.0,9,     -999.0,9,   1.8424,20141210,       0413
06AQ20141202,        A12,      10,          2,          7,2,20141210,       0342,   -51.4242,     0.0133,       2686,  1213.0,   1.7119,  34.7312,2,-999.0000,9,    190.3,2,   194.8,2,   89.11,2,   30.97,2,    0.00,2,    2.15,2,  2255.5,2,  2352.9,2,-999.0000,9,  -999.00,     -999.0,9,     -999.0,9,     -999.0,9,     -999.0,9,     -999.0,9,     -999.0,9,     -999.0,9,     -999.0,9,     -999.0,9,     -999.0,9,     -999.0,9,     -999.0,9,     -999.0,9,     -999.0,9,     -999.0,9,     -999.0,9,     -999.0,9,     -999.0,9,     -999.0,9,     -999.0,9,     -999.0,9,     -999.0,9,     -999.0,9,     -999.0,9,     -999.0,9,     -999.0,9,     -999.0,9,     -999.0,9,   1.6393,20141210,       0409
06AQ20141202,        A12,      10,          2,          6,2,20141210,       0342,   -51.4242,     0.0133,       2686,  1417.6,   1.5056,  34.7313,2,-999.0000,9,    194.7,2,   199.4,2,   93.89,2,   31.02,2,    0.00,2,    2.14,2,  2254.5,2,  2353.5,2,-999.0000,9,  -999.00,     -999.0,9,     -999.0,9,     -999.0,9,     -999.0,9,     -999.0,9,     -999.0,9,     -999.0,9,     -999.0,9,     -999.0,9,     -999.0,9,     -999.0,9,     -999.0,9,     -999.0,9,     -999.0,9,     -999.0,9,     -999.0,9,     -999.0,9,     -999.0,9,     -999.0,9,     -999.0,9,     -999.0,9,     -999.0,9,     -999.0,9,     -999.0,9,     -999.0,9,     -999.0,9,     -999.0,9,     -999.0,9,   1.4206,20141210,       0405
06AQ20141202,        A12,      10,          2,          5,2,20141210,       0342,   -51.4242,     0.0133,       2686,  1620.6,   1.2598,  34.7205,2,-999.0000,9,    196.6,2,   201.4,2,  100.04,2,   31.35,2,    0.00,2,    2.16,2,  2258.1,2,  2353.1,2,-999.0000,9,  -999.00,     -999.0,9,     -999.0,9,     -999.0,9,     -999.0,9,     -999.0,9,     -999.0,9,     -999.0,9,     -999.0,9,     -999.0,9,     -999.0,9,     -999.0,9,     -999.0,9,     -999.0,9,     -999.0,9,     -999.0,9,     -999.0,9,     -999.0,9,     -999.0,9,     -999.0,9,     -999.0,9,     -999.0,9,     -999.0,9,     -999.0,9,     -999.0,9,     -999.0,9,     -999.0,9,     -999.0,9,     -999.0,9,   1.1631,20141210,       0402
06AQ20141202,        A12,      10,          2,          4,2,20141210,       0342,   -51.4242,     0.0133,       2686,  1823.8,   1.0703,  34.7127,2,-999.0000,9,    199.0,2,   204.2,2,  104.73,2,   31.68,2,    0.00,2,    2.20,2,  2261.1,2,  2357.4,2,-999.0000,9,  -999.00,     -999.0,9,     -999.0,9,     -999.0,9,     -999.0,9,     -999.0,9,     -999.0,9,     -999.0,9,     -999.0,9,     -999.0,9,     -999.0,9,     -999.0,9,     -999.0,9,     -999.0,9,     -999.0,9,     -999.0,9,     -999.0,9,     -999.0,9,     -999.0,9,     -999.0,9,     -999.0,9,     -999.0,9,     -999.0,9,     -999.0,9,     -999.0,9,     -999.0,9,     -999.0,9,     -999.0,9,     -999.0,9,   0.9612,20141210,       0358
06AQ20141202,        A12,      10,          2,          3,2,20141210,       0342,   -51.4242,     0.0133,       2686,  2028.8,   0.9080,  34.7049,2,-999.0000,9,    201.0,2,   206.4,2,  108.83,2,   31.92,2,    0.00,2,    2.21,2,  2260.8,2,  2356.4,2,-999.0000,9,  -999.00,     -999.0,9,     -999.0,9,     -999.0,9,     -999.0,9,     -999.0,9,     -999.0,9,     -999.0,9,     -999.0,9,     -999.0,9,     -999.0,9,     -999.0,9,     -999.0,9,     -999.0,9,     -999.0,9,     -999.0,9,     -999.0,9,     -999.0,9,     -999.0,9,     -999.0,9,     -999.0,9,     -999.0,9,     -999.0,9,     -999.0,9,     -999.0,9,     -999.0,9,     -999.0,9,     -999.0,9,     -999.0,9,   0.7858,20141210,       0354
06AQ20141202,        A12,      10,          2,          2,2,20141210,       0342,   -51.4242,     0.0133,       2686,  2230.6,   0.7651,  34.6978,2,-999.0000,9,    202.5,2,   207.8,2,  113.52,2,   32.12,2,    0.00,2,    2.23,2,  2259.6,2,  2356.3,2,-999.0000,9,  -999.00,     -999.0,9,     -999.0,9,     -999.0,9,     -999.0,9,     -999.0,9,     -999.0,9,     -999.0,9,     -999.0,9,     -999.0,9,     -999.0,9,     -999.0,9,     -999.0,9,     -999.0,9,     -999.0,9,     -999.0,9,     -999.0,9,     -999.0,9,     -999.0,9,     -999.0,9,     -999.0,9,     -999.0,9,     -999.0,9,     -999.0,9,     -999.0,9,     -999.0,9,     -999.0,9,     -999.0,9,     -999.0,9,   0.6296,20141210,       0350
06AQ20141202,        A12,      10,          2,          1,2,20141210,       0342,   -51.4242,     0.0133,       2686,  2676.4,   0.5349,  34.6878,2,-999.0000,9,    205.3,2,   211.6,2,  123.08,2,   32.58,2,    0.00,2,    2.24,2,  2262.3,2,  2358.1,2,-999.0000,9,  -999.00,     -999.0,9,     -999.0,9,     -999.0,9,     -999.0,9,     -999.0,9,     -999.0,9,     -999.0,9,     -999.0,9,     -999.0,9,     -999.0,9,     -999.0,9,     -999.0,9,     -999.0,9,     -999.0,9,     -999.0,9,     -999.0,9,     -999.0,9,     -999.0,9,     -999.0,9,     -999.0,9,     -999.0,9,     -999.0,9,     -999.0,9,     -999.0,9,     -999.0,9,     -999.0,9,     -999.0,9,     -999.0,9,   0.3674,20141210,       0342