BOTTLE,20220815CCHSIOAMB
EXPOCODE,SECT_ID,STNNBR,CASTNO,BTLNBR,BTLNBR_FLAG_W,DATE,TIME,LATITUDE,LONGITUDE,DEPTH,CTDPRS,CTDTMP,CTDSAL,CTDSAL_FLAG_W,SALNTY,SALNTY_FLAG_W,CTDOXY,CTDOXY_FLAG_W,OXYGEN,OXYGEN_FLAG_W,SILCAT,SILCAT_FLAG_W,NITRAT,NITRAT_FLAG_W,NITRIT,NITRIT_FLAG_W,PHSPHT,PHSPHT_FLAG_W,TCARBN,TCARBN_FLAG_W,ALKALI,ALKALI_FLAG_W,PH_TOT,PH_TOT_FLAG_W,PH_TMP,POC,POC_FLAG_W,PON,PON_FLAG_W,FUCO,FUCO_FLAG_W,ALPHA-BETA-CAR,ALPHA-BETA-CAR_FLAG_W,ALLO,ALLO_FLAG_W,BUT-FUCO,BUT-FUCO_FLAG_W,CHL_C1C2,CHL_C1C2_FLAG_W,CHL_C3,CHL_C3_FLAG_W,CHLIDE_A,CHLIDE_A_FLAG_W,DIADINO,DIADINO_FLAG_W,DIATO,DIATO_FLAG_W,DV_CHL_A,DV_CHL_A_FLAG_W,DV_CHL_B,DV_CHL_B_FLAG_W,GYRO,GYRO_FLAG_W,HEX-FUCO,HEX-FUCO_FLAG_W,LUT,LUT_FLAG_W,MV_CHL_A,MV_CHL_A_FLAG_W,MV_CHL_B,MV_CHL_B_FLAG_W,NEO,NEO_FLAG_W,PERID,PERID_FLAG_W,PHIDE_A,PHIDE_A_FLAG_W,PHYTIN_A,PHYTIN_A_FLAG_W,PRAS,PRAS_FLAG_W,TOT_CHL_A,TOT_CHL_A_FLAG_W,TOT_CHL_B,TOT_CHL_B_FLAG_W,TOT_CHL_C,TOT_CHL_C_FLAG_W,VIOLA,VIOLA_FLAG_W,ZEA,ZEA_FLAG_W,THETA,BTL_DATE,BTL_TIME
,,,,,,,,,,METERS,DBAR,ITS-90,PSS-78,,PSS-78,,UMOL/KG,,UMOL/KG,,UMOL/KG,,UMOL/KG,,UMOL/KG,,UMOL/KG,,UMOL/KG,,UMOL/KG,,,,DEG C,uG/KG,,ug/kg,,NMOL/KG,,MG/M^3,,MG/M^3,,MG/M^3,,MG/M^3,,MG/M^3,,MG/M^3,,MG/M^3,,MG/M^3,,MG/M^3,,MG/M^3,,MG/M^3,,MG/M^3,,MG/M^3,,MG/M^3,,MG/M^3,,MG/M^3,,MG/M^3,,MG/M^3,,MG/M^3,,MG/M^3,,MG/M^3,,MG/M^3,,MG/M^3,,MG/M^3,,MG/M^3,,DEG C,,
06AQ20141202,        A12,       6,          1,         24,2,20141207,       1805,   -46.2148,     5.6752,       4884,    15.6,   5.8939,  33.7909,2,-999.0000,9,    311.0,2,   316.4,2,    2.54,2,   20.40,2,    0.25,2,    1.45,2,  2113.1,2,  2263.3,2,-999.0000,9,  -999.00,     -999.0,9,     -999.0,9,     -999.0,9,     -999.0,9,     -999.0,9,     -999.0,9,     -999.0,9,     -999.0,9,     -999.0,9,     -999.0,9,     -999.0,9,     -999.0,9,     -999.0,9,     -999.0,9,     -999.0,9,     -999.0,9,     -999.0,9,     -999.0,9,     -999.0,9,     -999.0,9,     -999.0,9,     -999.0,9,     -999.0,9,     -999.0,9,     -999.0,9,     -999.0,9,     -999.0,9,     -999.0,9,   5.8926,20141207,       1947
06AQ20141202,        A12,       6,          1,         23,2,20141207,       1805,   -46.2148,     5.6752,       4884,    25.1,   5.7770,  33.7917,2,-999.0000,9,    311.4,2,   314.7,2,    3.03,2,   20.51,2,    0.24,2,    1.44,2,  2111.0,2,  2262.7,2,-999.0000,9,  -999.00,     -999.0,9,     -999.0,9,     -999.0,9,     -999.0,9,     -999.0,9,     -999.0,9,     -999.0,9,     -999.0,9,     -999.0,9,     -999.0,9,     -999.0,9,     -999.0,9,     -999.0,9,     -999.0,9,     -999.0,9,     -999.0,9,     -999.0,9,     -999.0,9,     -999.0,9,     -999.0,9,     -999.0,9,     -999.0,9,     -999.0,9,     -999.0,9,     -999.0,9,     -999.0,9,     -999.0,9,     -999.0,9,   5.7750,20141207,       1947
06AQ20141202,        A12,       6,          1,         22,2,20141207,       1805,   -46.2148,     5.6752,       4884,    60.7,   4.9504,  33.8092,2,-999.0000,9,    311.5,2,   314.6,2, -999.00,9, -999.00,9, -999.00,9, -999.00,9,  2120.2,2,  2262.7,2,-999.0000,9,  -999.00,     -999.0,9,     -999.0,9,     -999.0,9,     -999.0,9,     -999.0,9,     -999.0,9,     -999.0,9,     -999.0,9,     -999.0,9,     -999.0,9,     -999.0,9,     -999.0,9,     -999.0,9,     -999.0,9,     -999.0,9,     -999.0,9,     -999.0,9,     -999.0,9,     -999.0,9,     -999.0,9,     -999.0,9,     -999.0,9,     -999.0,9,     -999.0,9,     -999.0,9,     -999.0,9,     -999.0,9,     -999.0,9,   4.9459,20141207,       1946
06AQ20141202,        A12,       6,          1,         21,2,20141207,       1805,   -46.2148,     5.6752,       4884,    60.1,   4.9465,  33.8113,2,-999.0000,9,    311.0,2,   314.6,2,    4.00,2,   21.22,2,    0.26,2,    1.51,2,  2120.2,2,  2262.7,2,-999.0000,9,  -999.00,     -999.0,9,     -999.0,9,     -999.0,9,     -999.0,9,     -999.0,9,     -999.0,9,     -999.0,9,     -999.0,9,     -999.0,9,     -999.0,9,     -999.0,9,     -999.0,9,     -999.0,9,     -999.0,9,     -999.0,9,     -999.0,9,     -999.0,9,     -999.0,9,     -999.0,9,     -999.0,9,     -999.0,9,     -999.0,9,     -999.0,9,     -999.0,9,     -999.0,9,     -999.0,9,     -999.0,9,     -999.0,9,   4.9420,20141207,       1946
06AQ20141202,        A12,       6,          1,         20,2,20141207,       1805,   -46.2148,     5.6752,       4884,   100.7,   4.3758,  33.8182,2,-999.0000,9,    312.7,2,   316.0,2,    4.88,2,   21.75,2,    0.30,2,    1.56,2,  2123.7,2,  2262.9,2,-999.0000,9,  -999.00,     -999.0,9,     -999.0,9,     -999.0,9,     -999.0,9,     -999.0,9,     -999.0,9,     -999.0,9,     -999.0,9,     -999.0,9,     -999.0,9,     -999.0,9,     -999.0,9,     -999.0,9,     -999.0,9,     -999.0,9,     -999.0,9,     -999.0,9,     -999.0,9,     -999.0,9,     -999.0,9,     -999.0,9,     -999.0,9,     -999.0,9,     -999.0,9,     -999.0,9,     -999.0,9,     -999.0,9,     -999.0,9,   4.3687,20141207,       1945
06AQ20141202,        A12,       6,          1,         19,2,20141207,       1805,   -46.2148,     5.6752,       4884,   152.0,   3.9742,  33.8240,2,-999.0000,9,    310.9,2,   315.9,2,    5.96,2,   22.62,2,    0.24,2,    1.59,2,  2132.0,2,  2267.1,2,-999.0000,9,  -999.00,     -999.0,9,     -999.0,9,     -999.0,9,     -999.0,9,     -999.0,9,     -999.0,9,     -999.0,9,     -999.0,9,     -999.0,9,     -999.0,9,     -999.0,9,     -999.0,9,     -999.0,9,     -999.0,9,     -999.0,9,     -999.0,9,     -999.0,9,     -999.0,9,     -999.0,9,     -999.0,9,     -999.0,9,     -999.0,9,     -999.0,9,     -999.0,9,     -999.0,9,     -999.0,9,     -999.0,9,     -999.0,9,   3.9639,20141207,       1943
06AQ20141202,        A12,       6,          1,         18,2,20141207,       1805,   -46.2148,     5.6752,       4884,   201.7,   3.9970,  33.9845,2,-999.0000,9,    285.2,2,   290.1,2,    9.67,2,   25.45,2,    0.02,2,    1.74,2,  2146.2,2,  2269.7,2,-999.0000,9,  -999.00,     -999.0,9,     -999.0,9,     -999.0,9,     -999.0,9,     -999.0,9,     -999.0,9,     -999.0,9,     -999.0,9,     -999.0,9,     -999.0,9,     -999.0,9,     -999.0,9,     -999.0,9,     -999.0,9,     -999.0,9,     -999.0,9,     -999.0,9,     -999.0,9,     -999.0,9,     -999.0,9,     -999.0,9,     -999.0,9,     -999.0,9,     -999.0,9,     -999.0,9,     -999.0,9,     -999.0,9,     -999.0,9,   3.9832,20141207,       1942
06AQ20141202,        A12,       6,          1,         17,2,20141207,       1805,   -46.2148,     5.6752,       4884,   303.1,   3.3610,  34.1133,2,-999.0000,9,    263.6,2,   268.2,2,   19.33,2,   28.73,2,    0.01,2,    1.96,2,  2167.6,2,  2277.1,2,-999.0000,9,  -999.00,     -999.0,9,     -999.0,9,     -999.0,9,     -999.0,9,     -999.0,9,     -999.0,9,     -999.0,9,     -999.0,9,     -999.0,9,     -999.0,9,     -999.0,9,     -999.0,9,     -999.0,9,     -999.0,9,     -999.0,9,     -999.0,9,     -999.0,9,     -999.0,9,     -999.0,9,     -999.0,9,     -999.0,9,     -999.0,9,     -999.0,9,     -999.0,9,     -999.0,9,     -999.0,9,     -999.0,9,     -999.0,9,   3.3414,20141207,       1940
06AQ20141202,        A12,       6,          1,         16,2,20141207,       1805,   -46.2148,     5.6752,       4884,   402.7,   3.0072,  34.1571,2,-999.0000,9,    246.1,2,   250.7,2,   27.05,2,   30.66,2,    0.00,2,    2.10,2,  2183.6,2,  2282.5,2,-999.0000,9,  -999.00,     -999.0,9,     -999.0,9,     -999.0,9,     -999.0,9,     -999.0,9,     -999.0,9,     -999.0,9,     -999.0,9,     -999.0,9,     -999.0,9,     -999.0,9,     -999.0,9,     -999.0,9,     -999.0,9,     -999.0,9,     -999.0,9,     -999.0,9,     -999.0,9,     -999.0,9,     -999.0,9,     -999.0,9,     -999.0,9,     -999.0,9,     -999.0,9,     -999.0,9,     -999.0,9,     -999.0,9,     -999.0,9,   2.9820,20141207,       1937
06AQ20141202,        A12,       6,          1,         15,2,20141207,       1805,   -46.2148,     5.6752,       4884,   607.3,   2.8562,  34.3039,2,-999.0000,9,    203.6,2,   207.6,2,   44.62,2,   33.30,2,    0.00,2,    2.28,2,  2213.0,2,  2301.3,2,-999.0000,9,  -999.00,     -999.0,9,     -999.0,9,     -999.0,9,     -999.0,9,     -999.0,9,     -999.0,9,     -999.0,9,     -999.0,9,     -999.0,9,     -999.0,9,     -999.0,9,     -999.0,9,     -999.0,9,     -999.0,9,     -999.0,9,     -999.0,9,     -999.0,9,     -999.0,9,     -999.0,9,     -999.0,9,     -999.0,9,     -999.0,9,     -999.0,9,     -999.0,9,     -999.0,9,     -999.0,9,     -999.0,9,     -999.0,9,   2.8177,20141207,       1934
06AQ20141202,        A12,       6,          1,         14,2,20141207,       1805,   -46.2148,     5.6752,       4884,   809.6,   2.7096,  34.4275,2,-999.0000,9,    180.2,2,   184.2,2,   58.58,2,   34.41,2,    0.00,2,    2.36,2,  2236.6,2,  2315.6,2,-999.0000,9,  -999.00,     -999.0,9,     -999.0,9,     -999.0,9,     -999.0,9,     -999.0,9,     -999.0,9,     -999.0,9,     -999.0,9,     -999.0,9,     -999.0,9,     -999.0,9,     -999.0,9,     -999.0,9,     -999.0,9,     -999.0,9,     -999.0,9,     -999.0,9,     -999.0,9,     -999.0,9,     -999.0,9,     -999.0,9,     -999.0,9,     -999.0,9,     -999.0,9,     -999.0,9,     -999.0,9,     -999.0,9,     -999.0,9,   2.6578,20141207,       1929
06AQ20141202,        A12,       6,          1,         13,2,20141207,       1805,   -46.2148,     5.6752,       4884,  1009.8,   2.5602,  34.5379,2,-999.0000,9,    169.3,2,   173.5,2,   68.53,2,   34.36,2,    0.00,2,    2.37,2,  2248.4,2,  2327.3,2,-999.0000,9,  -999.00,     -999.0,9,     -999.0,9,     -999.0,9,     -999.0,9,     -999.0,9,     -999.0,9,     -999.0,9,     -999.0,9,     -999.0,9,     -999.0,9,     -999.0,9,     -999.0,9,     -999.0,9,     -999.0,9,     -999.0,9,     -999.0,9,     -999.0,9,     -999.0,9,     -999.0,9,     -999.0,9,     -999.0,9,     -999.0,9,     -999.0,9,     -999.0,9,     -999.0,9,     -999.0,9,     -999.0,9,     -999.0,9,   2.4950,20141207,       1925
06AQ20141202,        A12,       6,          1,         12,2,20141207,       1805,   -46.2148,     5.6752,       4884,  1215.2,   2.5642,  34.6423,2,-999.0000,9,    173.4,2,   176.8,2,   70.77,2,   32.68,2,    0.00,2,    2.24,2,  2244.9,2,  2335.2,2,-999.0000,9,  -999.00,     -999.0,9,     -999.0,9,     -999.0,9,     -999.0,9,     -999.0,9,     -999.0,9,     -999.0,9,     -999.0,9,     -999.0,9,     -999.0,9,     -999.0,9,     -999.0,9,     -999.0,9,     -999.0,9,     -999.0,9,     -999.0,9,     -999.0,9,     -999.0,9,     -999.0,9,     -999.0,9,     -999.0,9,     -999.0,9,     -999.0,9,     -999.0,9,     -999.0,9,     -999.0,9,     -999.0,9,     -999.0,9,   2.4835,20141207,       1921
06AQ20141202,        A12,       6,          1,         11,2,20141207,       1805,   -46.2148,     5.6752,       4884,  1518.0,   2.4924,  34.7259,2,-999.0000,9,    182.9,2,   187.6,2,   71.45,2,   30.56,2,    0.00,2,    2.10,2,  2241.2,2,  2338.0,2,-999.0000,9,  -999.00,     -999.0,9,     -999.0,9,     -999.0,9,     -999.0,9,     -999.0,9,     -999.0,9,     -999.0,9,     -999.0,9,     -999.0,9,     -999.0,9,     -999.0,9,     -999.0,9,     -999.0,9,     -999.0,9,     -999.0,9,     -999.0,9,     -999.0,9,     -999.0,9,     -999.0,9,     -999.0,9,     -999.0,9,     -999.0,9,     -999.0,9,     -999.0,9,     -999.0,9,     -999.0,9,     -999.0,9,     -999.0,9,   2.3886,20141207,       1913
06AQ20141202,        A12,       6,          1,         10,2,20141207,       1805,   -46.2148,     5.6752,       4884,  2028.0,   2.0648,  34.7794,2,-999.0000,9,    199.7,2,   206.2,2,   76.42,2,   28.67,2,    0.00,2,    1.96,2,  2234.8,2,  2342.4,2,-999.0000,9,  -999.00,     -999.0,9,     -999.0,9,     -999.0,9,     -999.0,9,     -999.0,9,     -999.0,9,     -999.0,9,     -999.0,9,     -999.0,9,     -999.0,9,     -999.0,9,     -999.0,9,     -999.0,9,     -999.0,9,     -999.0,9,     -999.0,9,     -999.0,9,     -999.0,9,     -999.0,9,     -999.0,9,     -999.0,9,     -999.0,9,     -999.0,9,     -999.0,9,     -999.0,9,     -999.0,9,     -999.0,9,     -999.0,9,   1.9245,20141207,       1904
06AQ20141202,        A12,       6,          1,          9,2,20141207,       1805,   -46.2148,     5.6752,       4884,  2538.0,   1.6349,  34.7561,2,-999.0000,9,    199.0,2,   206.3,2,   90.18,2,   29.88,2,    0.00,2,    2.05,2,  2245.3,2,  2356.0,2,-999.0000,9,  -999.00,     -999.0,9,     -999.0,9,     -999.0,9,     -999.0,9,     -999.0,9,     -999.0,9,     -999.0,9,     -999.0,9,     -999.0,9,     -999.0,9,     -999.0,9,     -999.0,9,     -999.0,9,     -999.0,9,     -999.0,9,     -999.0,9,     -999.0,9,     -999.0,9,     -999.0,9,     -999.0,9,     -999.0,9,     -999.0,9,     -999.0,9,     -999.0,9,     -999.0,9,     -999.0,9,     -999.0,9,     -999.0,9,   1.4576,20141207,       1854
06AQ20141202,        A12,       6,          1,          8,2,20141207,       1805,   -46.2148,     5.6752,       4884,  3047.0,   1.4856,  34.7450,2,-999.0000,9,    199.3,2,   207.9,2,   96.43,2,   30.40,2,    0.00,2,    2.08,2,  2248.1,2,  2351.0,2,-999.0000,9,  -999.00,     -999.0,9,     -999.0,9,     -999.0,9,     -999.0,9,     -999.0,9,     -999.0,9,     -999.0,9,     -999.0,9,     -999.0,9,     -999.0,9,     -999.0,9,     -999.0,9,     -999.0,9,     -999.0,9,     -999.0,9,     -999.0,9,     -999.0,9,     -999.0,9,     -999.0,9,     -999.0,9,     -999.0,9,     -999.0,9,     -999.0,9,     -999.0,9,     -999.0,9,     -999.0,9,     -999.0,9,     -999.0,9,   1.2642,20141207,       1844
06AQ20141202,        A12,       6,          1,          7,2,20141207,       1805,   -46.2148,     5.6752,       4884,  3559.0,   1.0582,  34.7250,2,-999.0000,9,    204.5,2,   212.8,2,  107.56,2,   31.10,2,    0.00,2,    2.15,2,  2252.7,2,  2358.4,2,-999.0000,9,  -999.00,     -999.0,9,     -999.0,9,     -999.0,9,     -999.0,9,     -999.0,9,     -999.0,9,     -999.0,9,     -999.0,9,     -999.0,9,     -999.0,9,     -999.0,9,     -999.0,9,     -999.0,9,     -999.0,9,     -999.0,9,     -999.0,9,     -999.0,9,     -999.0,9,     -999.0,9,     -999.0,9,     -999.0,9,     -999.0,9,     -999.0,9,     -999.0,9,     -999.0,9,     -999.0,9,     -999.0,9,     -999.0,9,   0.7970,20141207,       1835
06AQ20141202,        A12,       6,          1,          6,2,20141207,       1805,   -46.2148,     5.6752,       4884,  3867.4,   0.8531,  34.7069,2,-999.0000,9,    204.7,2,   212.7,2,  116.44,2,   31.93,2,    0.00,2,    2.20,2,  2253.8,2,  2358.1,2,-999.0000,9,  -999.00,     -999.0,9,     -999.0,9,     -999.0,9,     -999.0,9,     -999.0,9,     -999.0,9,     -999.0,9,     -999.0,9,     -999.0,9,     -999.0,9,     -999.0,9,     -999.0,9,     -999.0,9,     -999.0,9,     -999.0,9,     -999.0,9,     -999.0,9,     -999.0,9,     -999.0,9,     -999.0,9,     -999.0,9,     -999.0,9,     -999.0,9,     -999.0,9,     -999.0,9,     -999.0,9,     -999.0,9,     -999.0,9,   0.5661,20141207,       1829
06AQ20141202,        A12,       6,          1,          5,2,20141207,       1805,   -46.2148,     5.6752,       4884,  4070.6,   0.8122,  34.7021,2,-999.0000,9,    204.9,2,   212.8,2,  118.10,2,   32.20,2,    0.00,2,    2.22,2,  2260.7,2,  2360.1,2,-999.0000,9,  -999.00,     -999.0,9,     -999.0,9,     -999.0,9,     -999.0,9,     -999.0,9,     -999.0,9,     -999.0,9,     -999.0,9,     -999.0,9,     -999.0,9,     -999.0,9,     -999.0,9,     -999.0,9,     -999.0,9,     -999.0,9,     -999.0,9,     -999.0,9,     -999.0,9,     -999.0,9,     -999.0,9,     -999.0,9,     -999.0,9,     -999.0,9,     -999.0,9,     -999.0,9,     -999.0,9,     -999.0,9,     -999.0,9,   0.5052,20141207,       1825
06AQ20141202,        A12,       6,          1,          4,2,20141207,       1805,   -46.2148,     5.6752,       4884,  4380.9,   0.7933,  34.6971,2,-999.0000,9,    204.8,2,   213.8,2,  121.13,2,   32.17,2,    0.00,2,    2.22,2,  2261.7,2,  2357.3,2,-999.0000,9,  -999.00,     -999.0,9,     -999.0,9,     -999.0,9,     -999.0,9,     -999.0,9,     -999.0,9,     -999.0,9,     -999.0,9,     -999.0,9,     -999.0,9,     -999.0,9,     -999.0,9,     -999.0,9,     -999.0,9,     -999.0,9,     -999.0,9,     -999.0,9,     -999.0,9,     -999.0,9,     -999.0,9,     -999.0,9,     -999.0,9,     -999.0,9,     -999.0,9,     -999.0,9,     -999.0,9,     -999.0,9,     -999.0,9,   0.4534,20141207,       1818
06AQ20141202,        A12,       6,          1,          3,2,20141207,       1805,   -46.2148,     5.6752,       4884,  4587.0,   0.7910,  34.6951,2,-999.0000,9,    204.9,2,   212.3,2,  121.52,2,   32.43,2,    0.00,2,    2.24,2,  2261.1,2,  2358.5,2,-999.0000,9,  -999.00,     -999.0,9,     -999.0,9,     -999.0,9,     -999.0,9,     -999.0,9,     -999.0,9,     -999.0,9,     -999.0,9,     -999.0,9,     -999.0,9,     -999.0,9,     -999.0,9,     -999.0,9,     -999.0,9,     -999.0,9,     -999.0,9,     -999.0,9,     -999.0,9,     -999.0,9,     -999.0,9,     -999.0,9,     -999.0,9,     -999.0,9,     -999.0,9,     -999.0,9,     -999.0,9,     -999.0,9,     -999.0,9,   0.4283,20141207,       1814
06AQ20141202,        A12,       6,          1,          2,2,20141207,       1805,   -46.2148,     5.6752,       4884,  4687.6,   0.7944,  34.6942,2,-999.0000,9,    205.1,2,   213.6,2,  122.69,2,   32.49,2,    0.00,2,    2.24,2,  2264.8,2,  2358.3,2,-999.0000,9,  -999.00,     -999.0,9,     -999.0,9,     -999.0,9,     -999.0,9,     -999.0,9,     -999.0,9,     -999.0,9,     -999.0,9,     -999.0,9,     -999.0,9,     -999.0,9,     -999.0,9,     -999.0,9,     -999.0,9,     -999.0,9,     -999.0,9,     -999.0,9,     -999.0,9,     -999.0,9,     -999.0,9,     -999.0,9,     -999.0,9,     -999.0,9,     -999.0,9,     -999.0,9,     -999.0,9,     -999.0,9,     -999.0,9,   0.4202,20141207,       1812
06AQ20141202,        A12,       6,          1,          1,2,20141207,       1805,   -46.2148,     5.6752,       4884,  4874.0,   0.8069,  34.6932,2,-999.0000,9,    205.1,2,   213.8,2,  121.42,2,   32.46,2,    0.00,2,    2.23,2,  2261.9,2,  2359.0,2,-999.0000,9,  -999.00,     -999.0,9,     -999.0,9,     -999.0,9,     -999.0,9,     -999.0,9,     -999.0,9,     -999.0,9,     -999.0,9,     -999.0,9,     -999.0,9,     -999.0,9,     -999.0,9,     -999.0,9,     -999.0,9,     -999.0,9,     -999.0,9,     -999.0,9,     -999.0,9,     -999.0,9,     -999.0,9,     -999.0,9,     -999.0,9,     -999.0,9,     -999.0,9,     -999.0,9,     -999.0,9,     -999.0,9,     -999.0,9,   0.4108,20141207,       1805