BOTTLE,20220815CCHSIOAMB
EXPOCODE,SECT_ID,STNNBR,CASTNO,BTLNBR,BTLNBR_FLAG_W,DATE,TIME,LATITUDE,LONGITUDE,DEPTH,CTDPRS,CTDTMP,CTDSAL,CTDSAL_FLAG_W,SALNTY,SALNTY_FLAG_W,CTDOXY,CTDOXY_FLAG_W,OXYGEN,OXYGEN_FLAG_W,SILCAT,SILCAT_FLAG_W,NITRAT,NITRAT_FLAG_W,NITRIT,NITRIT_FLAG_W,PHSPHT,PHSPHT_FLAG_W,TCARBN,TCARBN_FLAG_W,ALKALI,ALKALI_FLAG_W,PH_TOT,PH_TOT_FLAG_W,PH_TMP,POC,POC_FLAG_W,PON,PON_FLAG_W,FUCO,FUCO_FLAG_W,ALPHA-BETA-CAR,ALPHA-BETA-CAR_FLAG_W,ALLO,ALLO_FLAG_W,BUT-FUCO,BUT-FUCO_FLAG_W,CHL_C1C2,CHL_C1C2_FLAG_W,CHL_C3,CHL_C3_FLAG_W,CHLIDE_A,CHLIDE_A_FLAG_W,DIADINO,DIADINO_FLAG_W,DIATO,DIATO_FLAG_W,DV_CHL_A,DV_CHL_A_FLAG_W,DV_CHL_B,DV_CHL_B_FLAG_W,GYRO,GYRO_FLAG_W,HEX-FUCO,HEX-FUCO_FLAG_W,LUT,LUT_FLAG_W,MV_CHL_A,MV_CHL_A_FLAG_W,MV_CHL_B,MV_CHL_B_FLAG_W,NEO,NEO_FLAG_W,PERID,PERID_FLAG_W,PHIDE_A,PHIDE_A_FLAG_W,PHYTIN_A,PHYTIN_A_FLAG_W,PRAS,PRAS_FLAG_W,TOT_CHL_A,TOT_CHL_A_FLAG_W,TOT_CHL_B,TOT_CHL_B_FLAG_W,TOT_CHL_C,TOT_CHL_C_FLAG_W,VIOLA,VIOLA_FLAG_W,ZEA,ZEA_FLAG_W,THETA,BTL_DATE,BTL_TIME
,,,,,,,,,,METERS,DBAR,ITS-90,PSS-78,,PSS-78,,UMOL/KG,,UMOL/KG,,UMOL/KG,,UMOL/KG,,UMOL/KG,,UMOL/KG,,UMOL/KG,,UMOL/KG,,,,DEG C,uG/KG,,ug/kg,,NMOL/KG,,MG/M^3,,MG/M^3,,MG/M^3,,MG/M^3,,MG/M^3,,MG/M^3,,MG/M^3,,MG/M^3,,MG/M^3,,MG/M^3,,MG/M^3,,MG/M^3,,MG/M^3,,MG/M^3,,MG/M^3,,MG/M^3,,MG/M^3,,MG/M^3,,MG/M^3,,MG/M^3,,MG/M^3,,MG/M^3,,MG/M^3,,MG/M^3,,MG/M^3,,DEG C,,
06AQ20141202,        A12,      16,          1,         24,2,20141212,       0813,   -56.9280,     0.0010,       4155,    21.0,  -0.9595,  34.0759,2,  34.0788,2,    351.7,2,   360.1,2,   65.33,2,   25.61,2,    0.22,2,    1.68,2,  2194.9,2,  2314.8,2,   7.6748,2,    25.00,         88,2,         19,2,     0.1430,2,      0.006,2,      0.001,2,      0.009,2,      0.075,2,      0.027,2,      0.010,2,      0.027,2,      0.003,2,     -999.0,9,     -999.0,9,     -999.0,9,      0.047,2,     -999.0,9,      0.336,2,     -999.0,9,     -999.0,9,      0.011,2,      0.101,2,      0.018,2,     -999.0,9,      0.346,2,     -999.0,9,      0.102,2,     -999.0,9,     -999.0,9,  -0.9600,20141212,       0938
06AQ20141202,        A12,      16,          1,         23,2,20141212,       0813,   -56.9280,     0.0010,       4155,    20.3,  -0.9619,  34.0766,2,  34.0782,2,    351.4,2,   358.0,2,   65.43,2,   25.73,2,    0.21,2,    1.71,2,  2194.8,2,  2313.2,2,   7.6739,2,    25.00,         99,2,         22,2,     0.1270,2,      0.005,2,      0.001,2,      0.008,2,      0.073,2,      0.025,2,      0.008,2,      0.022,2,      0.002,2,     -999.0,9,     -999.0,9,     -999.0,9,      0.042,2,     -999.0,9,      0.296,2,     -999.0,9,     -999.0,9,      0.011,2,      0.113,2,      0.024,2,     -999.0,9,      0.304,2,     -999.0,9,      0.098,2,     -999.0,9,     -999.0,9,  -0.9624,20141212,       0938
06AQ20141202,        A12,      16,          1,         22,2,20141212,       0813,   -56.9280,     0.0010,       4155,    59.9,  -1.1065,  34.0880,2,  34.0902,2,    347.8,2,   353.2,2,   66.79,2,   25.96,2,    0.21,2,    1.77,2,  2198.9,2,  2315.3,2,   7.6676,2,    25.00,         75,2,         16,2,     0.1540,2,      0.006,2,      0.001,2,      0.011,2,      0.076,2,      0.030,2,      0.005,2,      0.020,2,      0.002,2,     -999.0,9,     -999.0,9,     -999.0,9,      0.049,2,     -999.0,9,      0.371,2,     -999.0,9,     -999.0,9,      0.007,2,      0.089,2,      0.016,2,     -999.0,9,      0.376,2,     -999.0,9,      0.106,2,     -999.0,9,     -999.0,9,  -1.1080,20141212,       0936
06AQ20141202,        A12,      16,          1,         21,2,20141212,       0813,   -56.9280,     0.0010,       4155,    74.8,  -1.4320,  34.1712,2,  34.1762,2,    323.7,2,   335.8,2,   72.26,2,   27.62,2,    0.19,2,    1.96,2,  2214.6,2,  2319.2,2,   7.6375,6,    25.00,     -999.0,9,     -999.0,9,     -999.0,9,     -999.0,9,     -999.0,9,     -999.0,9,     -999.0,9,     -999.0,9,     -999.0,9,     -999.0,9,     -999.0,9,     -999.0,9,     -999.0,9,     -999.0,9,     -999.0,9,     -999.0,9,     -999.0,9,     -999.0,9,     -999.0,9,     -999.0,9,     -999.0,9,     -999.0,9,     -999.0,9,     -999.0,9,     -999.0,9,     -999.0,9,     -999.0,9,     -999.0,9,  -1.4337,20141212,       0936
06AQ20141202,        A12,      16,          1,         20,2,20141212,       0813,   -56.9280,     0.0010,       4155,   100.8,  -1.4188,  34.2468,2,  34.2595,2,    309.5,2,   315.0,2,   75.57,2,   28.74,2,    0.15,2,    2.04,2,  2225.7,2,  2324.3,2,   7.6185,2,    25.00,     -999.0,9,     -999.0,9,     -999.0,9,     -999.0,9,     -999.0,9,     -999.0,9,     -999.0,9,     -999.0,9,     -999.0,9,     -999.0,9,     -999.0,9,     -999.0,9,     -999.0,9,     -999.0,9,     -999.0,9,     -999.0,9,     -999.0,9,     -999.0,9,     -999.0,9,     -999.0,9,     -999.0,9,     -999.0,9,     -999.0,9,     -999.0,9,     -999.0,9,     -999.0,9,     -999.0,9,     -999.0,9,  -1.4211,20141212,       0934
06AQ20141202,        A12,      16,          1,         19,2,20141212,       0813,   -56.9280,     0.0010,       4155,   151.7,  -0.8726,  34.3838,2,  34.3850,2,    270.6,2,   277.4,2,   81.23,2,   30.33,2,    0.06,2,    2.11,2,  2238.9,2,  2331.1,2,   7.5954,2,    25.00,     -999.0,9,     -999.0,9,     -999.0,9,     -999.0,9,     -999.0,9,     -999.0,9,     -999.0,9,     -999.0,9,     -999.0,9,     -999.0,9,     -999.0,9,     -999.0,9,     -999.0,9,     -999.0,9,     -999.0,9,     -999.0,9,     -999.0,9,     -999.0,9,     -999.0,9,     -999.0,9,     -999.0,9,     -999.0,9,     -999.0,9,     -999.0,9,     -999.0,9,     -999.0,9,     -999.0,9,     -999.0,9,  -0.8769,20141212,       0933
06AQ20141202,        A12,      16,          1,         18,2,20141212,       0813,   -56.9280,     0.0010,       4155,   200.9,  -0.3758,  34.4763,2,  34.4779,2,    246.7,2,   251.1,2,   87.18,2,   31.35,2,    0.00,2,    2.18,2,  2246.8,2,  2334.6,2,   7.5843,2,    25.00,     -999.0,9,     -999.0,9,     -999.0,9,     -999.0,9,     -999.0,9,     -999.0,9,     -999.0,9,     -999.0,9,     -999.0,9,     -999.0,9,     -999.0,9,     -999.0,9,     -999.0,9,     -999.0,9,     -999.0,9,     -999.0,9,     -999.0,9,     -999.0,9,     -999.0,9,     -999.0,9,     -999.0,9,     -999.0,9,     -999.0,9,     -999.0,9,     -999.0,9,     -999.0,9,     -999.0,9,     -999.0,9,  -0.3825,20141212,       0931
06AQ20141202,        A12,      16,          1,         17,2,20141212,       0813,   -56.9280,     0.0010,       4155,   302.6,   0.5629,  34.6378,2,  34.6402,2,    204.7,2,   209.4,2,  101.12,2,   32.70,2,    0.00,2,    2.26,2,  2261.2,2,  2348.4,2,   7.5740,2,    25.00,     -999.0,9,     -999.0,9,     -999.0,9,     -999.0,9,     -999.0,9,     -999.0,9,     -999.0,9,     -999.0,9,     -999.0,9,     -999.0,9,     -999.0,9,     -999.0,9,     -999.0,9,     -999.0,9,     -999.0,9,     -999.0,9,     -999.0,9,     -999.0,9,     -999.0,9,     -999.0,9,     -999.0,9,     -999.0,9,     -999.0,9,     -999.0,9,     -999.0,9,     -999.0,9,     -999.0,9,     -999.0,9,   0.5500,20141212,       0929
06AQ20141202,        A12,      16,          1,         16,2,20141212,       0813,   -56.9280,     0.0010,       4155,   391.2,   0.8371,  34.6881,2,  34.6884,2,    198.8,2,   203.0,2,  105.81,2,   32.26,2,    0.00,2,    2.23,2,  2263.0,2,  2354.9,2,   7.5849,2,    25.00,     -999.0,9,     -999.0,9,     -999.0,9,     -999.0,9,     -999.0,9,     -999.0,9,     -999.0,9,     -999.0,9,     -999.0,9,     -999.0,9,     -999.0,9,     -999.0,9,     -999.0,9,     -999.0,9,     -999.0,9,     -999.0,9,     -999.0,9,     -999.0,9,     -999.0,9,     -999.0,9,     -999.0,9,     -999.0,9,     -999.0,9,     -999.0,9,     -999.0,9,     -999.0,9,     -999.0,9,     -999.0,9,   0.8192,20141212,       0926
06AQ20141202,        A12,      16,          1,         15,2,20141212,       0813,   -56.9280,     0.0010,       4155,   505.0,   0.7306,  34.6869,2,  34.6875,2,    199.9,2,   204.7,2,  109.71,2,   32.25,2,    0.00,2,    2.24,2,  2262.5,2,  2353.2,2,   7.5836,2,    25.00,     -999.0,9,     -999.0,9,     -999.0,9,     -999.0,9,     -999.0,9,     -999.0,9,     -999.0,9,     -999.0,9,     -999.0,9,     -999.0,9,     -999.0,9,     -999.0,9,     -999.0,9,     -999.0,9,     -999.0,9,     -999.0,9,     -999.0,9,     -999.0,9,     -999.0,9,     -999.0,9,     -999.0,9,     -999.0,9,     -999.0,9,     -999.0,9,     -999.0,9,     -999.0,9,     -999.0,9,     -999.0,9,   0.7074,20141212,       0924
06AQ20141202,        A12,      16,          1,         14,2,20141212,       0813,   -56.9280,     0.0010,       4155,   606.3,   0.5925,  34.6831,2,  34.6836,2,    198.8,2,   202.7,2,  112.64,2,   32.79,2,    0.00,2,    2.26,2,  2268.0,2,  2353.9,2,   7.5753,2,    25.00,     -999.0,9,     -999.0,9,     -999.0,9,     -999.0,9,     -999.0,9,     -999.0,9,     -999.0,9,     -999.0,9,     -999.0,9,     -999.0,9,     -999.0,9,     -999.0,9,     -999.0,9,     -999.0,9,     -999.0,9,     -999.0,9,     -999.0,9,     -999.0,9,     -999.0,9,     -999.0,9,     -999.0,9,     -999.0,9,     -999.0,9,     -999.0,9,     -999.0,9,     -999.0,9,     -999.0,9,     -999.0,9,   0.5648,20141212,       0922
06AQ20141202,        A12,      16,          1,         13,2,20141212,       0813,   -56.9280,     0.0010,       4155,   808.6,   0.5195,  34.6864,2,  34.6868,2,    202.5,2,   211.0,2,  116.35,2,   32.44,2,    0.00,2,    2.26,2,  2264.0,2,  2355.8,2,   7.5814,2,    25.00,     -999.0,9,     -999.0,9,     -999.0,9,     -999.0,9,     -999.0,9,     -999.0,9,     -999.0,9,     -999.0,9,     -999.0,9,     -999.0,9,     -999.0,9,     -999.0,9,     -999.0,9,     -999.0,9,     -999.0,9,     -999.0,9,     -999.0,9,     -999.0,9,     -999.0,9,     -999.0,9,     -999.0,9,     -999.0,9,     -999.0,9,     -999.0,9,     -999.0,9,     -999.0,9,     -999.0,9,     -999.0,9,   0.4816,20141212,       0917
06AQ20141202,        A12,      16,          1,         12,2,20141212,       0813,   -56.9280,     0.0010,       4155,   911.1,   0.4562,  34.6846,2,  34.6852,2,    202.9,2,   210.1,2,  116.64,2,   32.74,2,    0.00,2,    2.27,2,  2268.9,2,  2358.0,2,   7.5805,2,    25.00,     -999.0,9,     -999.0,9,     -999.0,9,     -999.0,9,     -999.0,9,     -999.0,9,     -999.0,9,     -999.0,9,     -999.0,9,     -999.0,9,     -999.0,9,     -999.0,9,     -999.0,9,     -999.0,9,     -999.0,9,     -999.0,9,     -999.0,9,     -999.0,9,     -999.0,9,     -999.0,9,     -999.0,9,     -999.0,9,     -999.0,9,     -999.0,9,     -999.0,9,     -999.0,9,     -999.0,9,     -999.0,9,   0.4132,20141212,       0915
06AQ20141202,        A12,      16,          1,         11,2,20141212,       0813,   -56.9280,     0.0010,       4155,  1011.4,   0.4095,  34.6835,2,  34.6833,2,    203.5,2,   210.0,2,  119.08,2,   32.73,2,    0.00,2,    2.27,2,  2267.0,2,  2355.3,2,   7.5801,2,    25.00,     -999.0,9,     -999.0,9,     -999.0,9,     -999.0,9,     -999.0,9,     -999.0,9,     -999.0,9,     -999.0,9,     -999.0,9,     -999.0,9,     -999.0,9,     -999.0,9,     -999.0,9,     -999.0,9,     -999.0,9,     -999.0,9,     -999.0,9,     -999.0,9,     -999.0,9,     -999.0,9,     -999.0,9,     -999.0,9,     -999.0,9,     -999.0,9,     -999.0,9,     -999.0,9,     -999.0,9,     -999.0,9,   0.3613,20141212,       0912
06AQ20141202,        A12,      16,          1,         10,2,20141212,       0813,   -56.9280,     0.0010,       4155,  1214.4,   0.2976,  34.6795,2,  34.6797,2,    205.7,2,   212.2,2,  121.91,2,   32.91,2,    0.00,2,    2.28,2,  2268.9,2,  2355.8,2,   7.5799,2,    25.00,     -999.0,9,     -999.0,9,     -999.0,9,     -999.0,9,     -999.0,9,     -999.0,9,     -999.0,9,     -999.0,9,     -999.0,9,     -999.0,9,     -999.0,9,     -999.0,9,     -999.0,9,     -999.0,9,     -999.0,9,     -999.0,9,     -999.0,9,     -999.0,9,     -999.0,9,     -999.0,9,     -999.0,9,     -999.0,9,     -999.0,9,     -999.0,9,     -999.0,9,     -999.0,9,     -999.0,9,     -999.0,9,   0.2387,20141212,       0908
06AQ20141202,        A12,      16,          1,          9,2,20141212,       0813,   -56.9280,     0.0010,       4155,  1519.6,   0.1795,  34.6752,2,  34.6754,2,    208.4,2,   214.5,2,  123.08,2,   32.85,2,    0.00,2,    2.29,2,  2269.6,2,  2354.4,2,   7.5788,2,    25.00,     -999.0,9,     -999.0,9,     -999.0,9,     -999.0,9,     -999.0,9,     -999.0,9,     -999.0,9,     -999.0,9,     -999.0,9,     -999.0,9,     -999.0,9,     -999.0,9,     -999.0,9,     -999.0,9,     -999.0,9,     -999.0,9,     -999.0,9,     -999.0,9,     -999.0,9,     -999.0,9,     -999.0,9,     -999.0,9,     -999.0,9,     -999.0,9,     -999.0,9,     -999.0,9,     -999.0,9,     -999.0,9,   0.1032,20141212,       0902
06AQ20141202,        A12,      16,          1,          8,2,20141212,       0813,   -56.9280,     0.0010,       4155,  1723.0,   0.0940,  34.6719,2,  34.6720,2,    213.1,2,   220.1,2,  124.64,2,   32.66,2,    0.00,2,    2.28,2,  2266.8,2,  2355.7,2,   7.5846,2,    25.00,     -999.0,9,     -999.0,9,     -999.0,9,     -999.0,9,     -999.0,9,     -999.0,9,     -999.0,9,     -999.0,9,     -999.0,9,     -999.0,9,     -999.0,9,     -999.0,9,     -999.0,9,     -999.0,9,     -999.0,9,     -999.0,9,     -999.0,9,     -999.0,9,     -999.0,9,     -999.0,9,     -999.0,9,     -999.0,9,     -999.0,9,     -999.0,9,     -999.0,9,     -999.0,9,     -999.0,9,     -999.0,9,   0.0057,20141212,       0858
06AQ20141202,        A12,      16,          1,          7,2,20141212,       0813,   -56.9280,     0.0010,       4155,  2027.8,  -0.0073,  34.6679,2,  34.6679,2,    216.8,2,   222.6,2,  125.52,2,   32.55,2,    0.00,2,    2.29,2,  2264.6,2,  2354.7,2,   7.5859,2,    25.00,     -999.0,9,     -999.0,9,     -999.0,9,     -999.0,9,     -999.0,9,     -999.0,9,     -999.0,9,     -999.0,9,     -999.0,9,     -999.0,9,     -999.0,9,     -999.0,9,     -999.0,9,     -999.0,9,     -999.0,9,     -999.0,9,     -999.0,9,     -999.0,9,     -999.0,9,     -999.0,9,     -999.0,9,     -999.0,9,     -999.0,9,     -999.0,9,     -999.0,9,     -999.0,9,     -999.0,9,     -999.0,9,  -0.1149,20141212,       0852
06AQ20141202,        A12,      16,          1,          6,2,20141212,       0813,   -56.9280,     0.0010,       4155,  2230.5,  -0.0668,  34.6658,2,  34.6654,2,    219.6,2,   227.0,2,  126.40,2,   32.47,2,    0.00,2,    2.28,2,  2265.1,2,  2355.2,2,   7.5889,2,    25.00,     -999.0,9,     -999.0,9,     -999.0,9,     -999.0,9,     -999.0,9,     -999.0,9,     -999.0,9,     -999.0,9,     -999.0,9,     -999.0,9,     -999.0,9,     -999.0,9,     -999.0,9,     -999.0,9,     -999.0,9,     -999.0,9,     -999.0,9,     -999.0,9,     -999.0,9,     -999.0,9,     -999.0,9,     -999.0,9,     -999.0,9,     -999.0,9,     -999.0,9,     -999.0,9,     -999.0,9,     -999.0,9,  -0.1879,20141212,       0847
06AQ20141202,        A12,      16,          1,          5,2,20141212,       0813,   -56.9280,     0.0010,       4155,  2537.2,  -0.1521,  34.6623,2,  34.6622,2,    224.1,2,   232.5,2,  126.60,2,   32.65,2,    0.00,2,    2.26,2,  2260.4,2,  2355.1,2,   7.5931,2,    25.00,     -999.0,9,     -999.0,9,     -999.0,9,     -999.0,9,     -999.0,9,     -999.0,9,     -999.0,9,     -999.0,9,     -999.0,9,     -999.0,9,     -999.0,9,     -999.0,9,     -999.0,9,     -999.0,9,     -999.0,9,     -999.0,9,     -999.0,9,     -999.0,9,     -999.0,9,     -999.0,9,     -999.0,9,     -999.0,9,     -999.0,9,     -999.0,9,     -999.0,9,     -999.0,9,     -999.0,9,     -999.0,9,  -0.2946,20141212,       0841
06AQ20141202,        A12,      16,          1,          4,2,20141212,       0813,   -56.9280,     0.0010,       4155,  2845.2,  -0.2012,  34.6600,2,  34.6593,2,    227.4,2,   235.1,2,  125.62,2,   32.55,2,    0.00,2,    2.26,2,  2259.8,2,  2353.5,2,   7.5957,2,    25.00,     -999.0,9,     -999.0,9,     -999.0,9,     -999.0,9,     -999.0,9,     -999.0,9,     -999.0,9,     -999.0,9,     -999.0,9,     -999.0,9,     -999.0,9,     -999.0,9,     -999.0,9,     -999.0,9,     -999.0,9,     -999.0,9,     -999.0,9,     -999.0,9,     -999.0,9,     -999.0,9,     -999.0,9,     -999.0,9,     -999.0,9,     -999.0,9,     -999.0,9,     -999.0,9,     -999.0,9,     -999.0,9,  -0.3672,20141212,       0835
06AQ20141202,        A12,      16,          1,          3,2,20141212,       0813,   -56.9280,     0.0010,       4155,  3048.9,  -0.2178,  34.6593,2,  34.6580,2,    228.7,2,   237.1,2,  126.31,2,   32.35,2,    0.00,2,    2.26,2,  2262.2,2,  2352.6,2,   7.5973,2,    25.00,     -999.0,9,     -999.0,9,     -999.0,9,     -999.0,9,     -999.0,9,     -999.0,9,     -999.0,9,     -999.0,9,     -999.0,9,     -999.0,9,     -999.0,9,     -999.0,9,     -999.0,9,     -999.0,9,     -999.0,9,     -999.0,9,     -999.0,9,     -999.0,9,     -999.0,9,     -999.0,9,     -999.0,9,     -999.0,9,     -999.0,9,     -999.0,9,     -999.0,9,     -999.0,9,     -999.0,9,     -999.0,9,  -0.4004,20141212,       0831
06AQ20141202,        A12,      16,          1,          2,2,20141212,       0813,   -56.9280,     0.0010,       4155,  3279.1,  -0.2481,  34.6578,2,  34.6567,2,    231.0,2,   239.8,2,  125.72,2,   32.30,2,    0.00,2,    2.26,2,  2259.3,2,  2352.6,2,   7.5987,2,    25.00,     -999.0,9,     -999.0,9,     -999.0,9,     -999.0,9,     -999.0,9,     -999.0,9,     -999.0,9,     -999.0,9,     -999.0,9,     -999.0,9,     -999.0,9,     -999.0,9,     -999.0,9,     -999.0,9,     -999.0,9,     -999.0,9,     -999.0,9,     -999.0,9,     -999.0,9,     -999.0,9,     -999.0,9,     -999.0,9,     -999.0,9,     -999.0,9,     -999.0,9,     -999.0,9,     -999.0,9,     -999.0,9,  -0.4498,20141212,       0821
06AQ20141202,        A12,      16,          1,          1,2,20141212,       0813,   -56.9280,     0.0010,       4155,  3669.8,  -0.2798,  34.6553,2,  34.6542,2,    233.9,2,   241.6,2,  124.65,2,   32.30,2,    0.00,2,    2.25,2,  2261.3,2,  2351.6,2,   7.6008,6,    25.00,     -999.0,9,     -999.0,9,     -999.0,9,     -999.0,9,     -999.0,9,     -999.0,9,     -999.0,9,     -999.0,9,     -999.0,9,     -999.0,9,     -999.0,9,     -999.0,9,     -999.0,9,     -999.0,9,     -999.0,9,     -999.0,9,     -999.0,9,     -999.0,9,     -999.0,9,     -999.0,9,     -999.0,9,     -999.0,9,     -999.0,9,     -999.0,9,     -999.0,9,     -999.0,9,     -999.0,9,     -999.0,9,  -0.5161,20141212,       0813