BOTTLE,20220815CCHSIOAMB
EXPOCODE,SECT_ID,STNNBR,CASTNO,BTLNBR,BTLNBR_FLAG_W,DATE,TIME,LATITUDE,LONGITUDE,DEPTH,CTDPRS,CTDTMP,CTDSAL,CTDSAL_FLAG_W,SALNTY,SALNTY_FLAG_W,CTDOXY,CTDOXY_FLAG_W,OXYGEN,OXYGEN_FLAG_W,SILCAT,SILCAT_FLAG_W,NITRAT,NITRAT_FLAG_W,NITRIT,NITRIT_FLAG_W,PHSPHT,PHSPHT_FLAG_W,TCARBN,TCARBN_FLAG_W,ALKALI,ALKALI_FLAG_W,PH_TOT,PH_TOT_FLAG_W,PH_TMP,POC,POC_FLAG_W,PON,PON_FLAG_W,FUCO,FUCO_FLAG_W,ALPHA-BETA-CAR,ALPHA-BETA-CAR_FLAG_W,ALLO,ALLO_FLAG_W,BUT-FUCO,BUT-FUCO_FLAG_W,CHL_C1C2,CHL_C1C2_FLAG_W,CHL_C3,CHL_C3_FLAG_W,CHLIDE_A,CHLIDE_A_FLAG_W,DIADINO,DIADINO_FLAG_W,DIATO,DIATO_FLAG_W,DV_CHL_A,DV_CHL_A_FLAG_W,DV_CHL_B,DV_CHL_B_FLAG_W,GYRO,GYRO_FLAG_W,HEX-FUCO,HEX-FUCO_FLAG_W,LUT,LUT_FLAG_W,MV_CHL_A,MV_CHL_A_FLAG_W,MV_CHL_B,MV_CHL_B_FLAG_W,NEO,NEO_FLAG_W,PERID,PERID_FLAG_W,PHIDE_A,PHIDE_A_FLAG_W,PHYTIN_A,PHYTIN_A_FLAG_W,PRAS,PRAS_FLAG_W,TOT_CHL_A,TOT_CHL_A_FLAG_W,TOT_CHL_B,TOT_CHL_B_FLAG_W,TOT_CHL_C,TOT_CHL_C_FLAG_W,VIOLA,VIOLA_FLAG_W,ZEA,ZEA_FLAG_W,THETA,BTL_DATE,BTL_TIME
,,,,,,,,,,METERS,DBAR,ITS-90,PSS-78,,PSS-78,,UMOL/KG,,UMOL/KG,,UMOL/KG,,UMOL/KG,,UMOL/KG,,UMOL/KG,,UMOL/KG,,UMOL/KG,,,,DEG C,uG/KG,,ug/kg,,NMOL/KG,,MG/M^3,,MG/M^3,,MG/M^3,,MG/M^3,,MG/M^3,,MG/M^3,,MG/M^3,,MG/M^3,,MG/M^3,,MG/M^3,,MG/M^3,,MG/M^3,,MG/M^3,,MG/M^3,,MG/M^3,,MG/M^3,,MG/M^3,,MG/M^3,,MG/M^3,,MG/M^3,,MG/M^3,,MG/M^3,,MG/M^3,,MG/M^3,,MG/M^3,,DEG C,,
06AQ20141202,        A12,       5,          1,         24,2,20141207,       0345,   -44.6577,     7.0907,       4661,    15.1,   7.9377,  34.0346,2,-999.0000,9,    299.0,2,   300.2,2,    2.25,2,   17.71,2,    0.28,2,    1.26,2,  2104.2,2,  2274.9,2,   7.7878,2,    25.00,         63,2,         11,2,     0.0560,2,      0.006,2,      0.007,2,      0.045,2,      0.048,2,      0.032,2,      0.005,2,      0.033,2,      0.002,2,     -999.0,9,     -999.0,9,     -999.0,9,      0.073,2,      0.001,2,      0.263,2,      0.012,2,      0.001,2,      0.015,2,      0.018,2,      0.007,2,      0.002,2,      0.268,2,      0.012,2,      0.080,2,      0.002,2,      0.003,2,   7.9362,20141207,       0526
06AQ20141202,        A12,       5,          1,         23,2,20141207,       0345,   -44.6577,     7.0907,       4661,    24.5,   7.9222,  34.0337,2,  34.0339,2,    299.3,2,   299.2,2,    2.44,2,   17.75,2,    0.27,2,    1.26,2,  2105.8,2,  2271.5,2,   7.7872,2,    25.00,         70,2,         11,2,     0.0600,2,      0.005,2,      0.003,2,      0.047,2,      0.049,2,      0.032,2,      0.005,2,      0.031,2,      0.001,2,     -999.0,9,     -999.0,9,     -999.0,9,      0.077,2,      0.001,2,      0.270,2,      0.013,2,      0.001,2,      0.014,2,      0.014,2,      0.006,2,      0.003,2,      0.275,2,      0.013,2,      0.081,2,      0.002,2,      0.003,2,   7.9198,20141207,       0525
06AQ20141202,        A12,       5,          1,         22,2,20141207,       0345,   -44.6577,     7.0907,       4661,    50.8,   7.9692,  34.0607,2,  34.0935,2,    297.6,2,   296.5,2,    2.15,2,   17.10,2,    0.27,2,    1.23,2,  2104.8,2,  2273.5,2,   7.7888,2,    25.00,         70,2,         10,2,     0.0710,2,      0.006,2,      0.001,2,      0.059,2,      0.051,2,      0.041,2,      0.004,2,      0.020,2,      0.001,2,     -999.0,9,     -999.0,9,     -999.0,9,      0.091,2,     -999.0,9,      0.306,2,      0.022,2,      0.002,2,      0.012,2,      0.012,2,      0.005,2,      0.004,2,      0.310,2,      0.022,2,      0.092,2,      0.002,2,      0.004,2,   7.9642,20141207,       0524
06AQ20141202,        A12,       5,          1,         21,2,20141207,       0345,   -44.6577,     7.0907,       4661,    75.4,   8.5444,  34.4176,2,  34.4184,2,    276.8,2,   277.1,2,    1.46,2,   14.28,2,    0.26,2,    1.06,2,  2114.2,2,  2287.8,2,   7.7899,2,    25.00,     -999.0,9,     -999.0,9,     -999.0,9,     -999.0,9,     -999.0,9,     -999.0,9,     -999.0,9,     -999.0,9,     -999.0,9,     -999.0,9,     -999.0,9,     -999.0,9,     -999.0,9,     -999.0,9,     -999.0,9,     -999.0,9,     -999.0,9,     -999.0,9,     -999.0,9,     -999.0,9,     -999.0,9,     -999.0,9,     -999.0,9,     -999.0,9,     -999.0,9,     -999.0,9,     -999.0,9,     -999.0,9,   8.5366,20141207,       0523
06AQ20141202,        A12,       5,          1,         20,2,20141207,       0345,   -44.6577,     7.0907,       4661,   101.1,   8.3767,  34.4278,2,  34.4310,2,    267.4,2,   268.3,2,    1.85,2,   15.65,2,    0.01,2,    1.12,2,  2118.3,2,  2281.1,2,   7.7747,2,    25.00,     -999.0,9,     -999.0,9,     -999.0,9,     -999.0,9,     -999.0,9,     -999.0,9,     -999.0,9,     -999.0,9,     -999.0,9,     -999.0,9,     -999.0,9,     -999.0,9,     -999.0,9,     -999.0,9,     -999.0,9,     -999.0,9,     -999.0,9,     -999.0,9,     -999.0,9,     -999.0,9,     -999.0,9,     -999.0,9,     -999.0,9,     -999.0,9,     -999.0,9,     -999.0,9,     -999.0,9,     -999.0,9,   8.3663,20141207,       0522
06AQ20141202,        A12,       5,          1,         19,2,20141207,       0345,   -44.6577,     7.0907,       4661,   151.3,   8.1146,  34.4521,2,  34.4541,2,    259.4,2,   260.2,2,    2.93,2,   17.12,2,    0.01,2,    1.22,2,  2126.5,2,  2283.5,2,   7.7576,2,    25.00,     -999.0,9,     -999.0,9,     -999.0,9,     -999.0,9,     -999.0,9,     -999.0,9,     -999.0,9,     -999.0,9,     -999.0,9,     -999.0,9,     -999.0,9,     -999.0,9,     -999.0,9,     -999.0,9,     -999.0,9,     -999.0,9,     -999.0,9,     -999.0,9,     -999.0,9,     -999.0,9,     -999.0,9,     -999.0,9,     -999.0,9,     -999.0,9,     -999.0,9,     -999.0,9,     -999.0,9,     -999.0,9,   8.0993,20141207,       0520
06AQ20141202,        A12,       5,          1,         18,2,20141207,       0345,   -44.6577,     7.0907,       4661,   202.3,   7.1490,  34.3900,2,  34.3871,2,    243.6,2,   244.6,2,    5.27,2,   21.36,2,    0.00,2,    1.47,2,  2146.1,2,  2278.2,2,   7.7084,2,    25.00,     -999.0,9,     -999.0,9,     -999.0,9,     -999.0,9,     -999.0,9,     -999.0,9,     -999.0,9,     -999.0,9,     -999.0,9,     -999.0,9,     -999.0,9,     -999.0,9,     -999.0,9,     -999.0,9,     -999.0,9,     -999.0,9,     -999.0,9,     -999.0,9,     -999.0,9,     -999.0,9,     -999.0,9,     -999.0,9,     -999.0,9,     -999.0,9,     -999.0,9,     -999.0,9,     -999.0,9,     -999.0,9,   7.1300,20141207,       0519
06AQ20141202,        A12,       5,          1,         17,2,20141207,       0345,   -44.6577,     7.0907,       4661,   302.8,   5.4124,  34.2298,2,  34.2308,2,    249.5,2,   251.3,2,    8.59,2,   25.33,2,    0.00,2,    1.73,2,  2153.7,2,  2274.1,2,   7.6700,2,    25.00,     -999.0,9,     -999.0,9,     -999.0,9,     -999.0,9,     -999.0,9,     -999.0,9,     -999.0,9,     -999.0,9,     -999.0,9,     -999.0,9,     -999.0,9,     -999.0,9,     -999.0,9,     -999.0,9,     -999.0,9,     -999.0,9,     -999.0,9,     -999.0,9,     -999.0,9,     -999.0,9,     -999.0,9,     -999.0,9,     -999.0,9,     -999.0,9,     -999.0,9,     -999.0,9,     -999.0,9,     -999.0,9,   5.3879,20141207,       0516
06AQ20141202,        A12,       5,          1,         16,2,20141207,       0345,   -44.6577,     7.0907,       4661,   403.4,   4.4987,  34.1718,2,  34.1702,2,    254.8,2,   257.9,2,   12.50,2,   27.08,2,    0.00,2,    1.85,2,  2158.4,2,  2274.6,2,   7.6569,2,    25.00,     -999.0,9,     -999.0,9,     -999.0,9,     -999.0,9,     -999.0,9,     -999.0,9,     -999.0,9,     -999.0,9,     -999.0,9,     -999.0,9,     -999.0,9,     -999.0,9,     -999.0,9,     -999.0,9,     -999.0,9,     -999.0,9,     -999.0,9,     -999.0,9,     -999.0,9,     -999.0,9,     -999.0,9,     -999.0,9,     -999.0,9,     -999.0,9,     -999.0,9,     -999.0,9,     -999.0,9,     -999.0,9,   4.4686,20141207,       0514
06AQ20141202,        A12,       5,          1,         15,2,20141207,       0345,   -44.6577,     7.0907,       4661,   605.1,   3.7122,  34.1924,2,  34.1929,2,    241.9,2,   244.5,2,   21.87,2,   29.40,2,    0.00,2,    2.02,2,  2177.1,2,  2283.3,2,   7.6318,2,    25.00,     -999.0,9,     -999.0,9,     -999.0,9,     -999.0,9,     -999.0,9,     -999.0,9,     -999.0,9,     -999.0,9,     -999.0,9,     -999.0,9,     -999.0,9,     -999.0,9,     -999.0,9,     -999.0,9,     -999.0,9,     -999.0,9,     -999.0,9,     -999.0,9,     -999.0,9,     -999.0,9,     -999.0,9,     -999.0,9,     -999.0,9,     -999.0,9,     -999.0,9,     -999.0,9,     -999.0,9,     -999.0,9,   3.6699,20141207,       0510
06AQ20141202,        A12,       5,          1,         14,2,20141207,       0345,   -44.6577,     7.0907,       4661,   808.5,   3.2028,  34.2819,2,  34.2813,2,    213.9,2,   217.0,2,   36.03,2,   32.00,2,    0.00,2,    2.20,2,  2200.0,2,  2296.1,2,   7.5959,2,    25.00,     -999.0,9,     -999.0,9,     -999.0,9,     -999.0,9,     -999.0,9,     -999.0,9,     -999.0,9,     -999.0,9,     -999.0,9,     -999.0,9,     -999.0,9,     -999.0,9,     -999.0,9,     -999.0,9,     -999.0,9,     -999.0,9,     -999.0,9,     -999.0,9,     -999.0,9,     -999.0,9,     -999.0,9,     -999.0,9,     -999.0,9,     -999.0,9,     -999.0,9,     -999.0,9,     -999.0,9,     -999.0,9,   3.1481,20141207,       0506
06AQ20141202,        A12,       5,          1,         13,2,20141207,       0345,   -44.6577,     7.0907,       4661,   907.0,   3.0324,  34.3257,2,  34.3252,2,    202.3,2,   205.6,2,   43.25,2,   32.92,2,    0.00,2,    2.27,2,  2212.6,2,  2301.4,2,   7.5794,2,    25.00,     -999.0,9,     -999.0,9,     -999.0,9,     -999.0,9,     -999.0,9,     -999.0,9,     -999.0,9,     -999.0,9,     -999.0,9,     -999.0,9,     -999.0,9,     -999.0,9,     -999.0,9,     -999.0,9,     -999.0,9,     -999.0,9,     -999.0,9,     -999.0,9,     -999.0,9,     -999.0,9,     -999.0,9,     -999.0,9,     -999.0,9,     -999.0,9,     -999.0,9,     -999.0,9,     -999.0,9,     -999.0,9,   2.9715,20141207,       0503
06AQ20141202,        A12,       5,          1,         12,2,20141207,       0345,   -44.6577,     7.0907,       4661,  1009.7,   2.9520,  34.3951,2,  34.3961,2,    190.6,2,   193.4,2,   49.89,2,   33.48,2,    0.00,2,    2.29,2,  2222.5,2,  2310.8,2,   7.5710,2,    25.00,     -999.0,9,     -999.0,9,     -999.0,9,     -999.0,9,     -999.0,9,     -999.0,9,     -999.0,9,     -999.0,9,     -999.0,9,     -999.0,9,     -999.0,9,     -999.0,9,     -999.0,9,     -999.0,9,     -999.0,9,     -999.0,9,     -999.0,9,     -999.0,9,     -999.0,9,     -999.0,9,     -999.0,9,     -999.0,9,     -999.0,9,     -999.0,9,     -999.0,9,     -999.0,9,     -999.0,9,     -999.0,9,   2.8839,20141207,       0501
06AQ20141202,        A12,       5,          1,         11,2,20141207,       0345,   -44.6577,     7.0907,       4661,  1213.9,   2.8143,  34.4976,2,  34.4989,2,    177.7,2,   180.9,2,   59.26,2,   33.69,2,    0.00,2,    2.32,2,  2233.7,2,  2321.8,2,   7.5633,2,    25.00,     -999.0,9,     -999.0,9,     -999.0,9,     -999.0,9,     -999.0,9,     -999.0,9,     -999.0,9,     -999.0,9,     -999.0,9,     -999.0,9,     -999.0,9,     -999.0,9,     -999.0,9,     -999.0,9,     -999.0,9,     -999.0,9,     -999.0,9,     -999.0,9,     -999.0,9,     -999.0,9,     -999.0,9,     -999.0,9,     -999.0,9,     -999.0,9,     -999.0,9,     -999.0,9,     -999.0,9,     -999.0,9,   2.7316,20141207,       0457
06AQ20141202,        A12,       5,          1,         10,2,20141207,       0345,   -44.6577,     7.0907,       4661,  1517.7,   2.7162,  34.6418,2,  34.6412,2,    178.2,2,   182.4,2,   64.13,2,   31.96,2,    0.00,2,    2.20,2,  2238.0,2,  2332.2,2,   7.5833,2,    25.00,     -999.0,9,     -999.0,9,     -999.0,9,     -999.0,9,     -999.0,9,     -999.0,9,     -999.0,9,     -999.0,9,     -999.0,9,     -999.0,9,     -999.0,9,     -999.0,9,     -999.0,9,     -999.0,9,     -999.0,9,     -999.0,9,     -999.0,9,     -999.0,9,     -999.0,9,     -999.0,9,     -999.0,9,     -999.0,9,     -999.0,9,     -999.0,9,     -999.0,9,     -999.0,9,     -999.0,9,     -999.0,9,   2.6100,20141207,       0450
06AQ20141202,        A12,       5,          1,          9,2,20141207,       0345,   -44.6577,     7.0907,       4661,  1821.7,   2.6297,  34.7369,2,  34.7361,2,    189.1,2,   194.1,2,   64.12,2,   29.67,2,    0.00,2,    2.04,2,  2230.2,2,  2334.4,2,   7.6128,2,    25.00,     -999.0,9,     -999.0,9,     -999.0,9,     -999.0,9,     -999.0,9,     -999.0,9,     -999.0,9,     -999.0,9,     -999.0,9,     -999.0,9,     -999.0,9,     -999.0,9,     -999.0,9,     -999.0,9,     -999.0,9,     -999.0,9,     -999.0,9,     -999.0,9,     -999.0,9,     -999.0,9,     -999.0,9,     -999.0,9,     -999.0,9,     -999.0,9,     -999.0,9,     -999.0,9,     -999.0,9,     -999.0,9,   2.4989,20141207,       0444
06AQ20141202,        A12,       5,          1,          8,2,20141207,       0345,   -44.6577,     7.0907,       4661,  2026.0,   2.5096,  34.7665,2,  34.7654,2,    194.1,2,   199.5,2,   66.27,2,   28.97,2,    0.00,2,    1.98,2,  2229.2,2,  2337.0,2,   7.6246,2,    25.00,     -999.0,9,     -999.0,9,     -999.0,9,     -999.0,9,     -999.0,9,     -999.0,9,     -999.0,9,     -999.0,9,     -999.0,9,     -999.0,9,     -999.0,9,     -999.0,9,     -999.0,9,     -999.0,9,     -999.0,9,     -999.0,9,     -999.0,9,     -999.0,9,     -999.0,9,     -999.0,9,     -999.0,9,     -999.0,9,     -999.0,9,     -999.0,9,     -999.0,9,     -999.0,9,     -999.0,9,     -999.0,9,   2.3627,20141207,       0440
06AQ20141202,        A12,       5,          1,          7,2,20141207,       0345,   -44.6577,     7.0907,       4661,  2332.6,   2.2713,  34.7809,2,  34.7810,2,    199.2,2,   204.9,2,   71.05,2,   28.46,2,    0.00,2,    1.95,2,  2228.6,2,  2343.2,2,   7.6325,2,    25.00,     -999.0,9,     -999.0,9,     -999.0,9,     -999.0,9,     -999.0,9,     -999.0,9,     -999.0,9,     -999.0,9,     -999.0,9,     -999.0,9,     -999.0,9,     -999.0,9,     -999.0,9,     -999.0,9,     -999.0,9,     -999.0,9,     -999.0,9,     -999.0,9,     -999.0,9,     -999.0,9,     -999.0,9,     -999.0,9,     -999.0,9,     -999.0,9,     -999.0,9,     -999.0,9,     -999.0,9,     -999.0,9,   2.1008,20141207,       0434
06AQ20141202,        A12,       5,          1,          6,2,20141207,       0345,   -44.6577,     7.0907,       4661,  2535.1,   2.1090,  34.7816,2,  34.7811,2,    201.5,2,   206.9,2,   74.86,2,   28.48,2,    0.00,2,    1.95,2,  2231.2,2,  2344.4,2,   7.6341,2,    25.00,     -999.0,9,     -999.0,9,     -999.0,9,     -999.0,9,     -999.0,9,     -999.0,9,     -999.0,9,     -999.0,9,     -999.0,9,     -999.0,9,     -999.0,9,     -999.0,9,     -999.0,9,     -999.0,9,     -999.0,9,     -999.0,9,     -999.0,9,     -999.0,9,     -999.0,9,     -999.0,9,     -999.0,9,     -999.0,9,     -999.0,9,     -999.0,9,     -999.0,9,     -999.0,9,     -999.0,9,     -999.0,9,   1.9229,20141207,       0429
06AQ20141202,        A12,       5,          1,          5,2,20141207,       0345,   -44.6577,     7.0907,       4661,  2845.2,   1.7852,  34.7672,2,  34.7672,2,    203.1,2,   210.0,2,   84.33,2,   29.14,2,    0.00,2,    1.99,2,  2237.2,2,  2348.8,2,   7.6301,2,    25.00,     -999.0,9,     -999.0,9,     -999.0,9,     -999.0,9,     -999.0,9,     -999.0,9,     -999.0,9,     -999.0,9,     -999.0,9,     -999.0,9,     -999.0,9,     -999.0,9,     -999.0,9,     -999.0,9,     -999.0,9,     -999.0,9,     -999.0,9,     -999.0,9,     -999.0,9,     -999.0,9,     -999.0,9,     -999.0,9,     -999.0,9,     -999.0,9,     -999.0,9,     -999.0,9,     -999.0,9,     -999.0,9,   1.5765,20141207,       0423
06AQ20141202,        A12,       5,          1,          4,2,20141207,       0345,   -44.6577,     7.0907,       4661,  3048.6,   1.6160,  34.7597,2,  34.7588,2,    203.8,2,   210.7,2,   90.38,2,   29.46,2,    0.00,2,    2.02,2,  2239.9,2,  2351.0,2,   7.6291,6,    25.00,     -999.0,9,     -999.0,9,     -999.0,9,     -999.0,9,     -999.0,9,     -999.0,9,     -999.0,9,     -999.0,9,     -999.0,9,     -999.0,9,     -999.0,9,     -999.0,9,     -999.0,9,     -999.0,9,     -999.0,9,     -999.0,9,     -999.0,9,     -999.0,9,     -999.0,9,     -999.0,9,     -999.0,9,     -999.0,9,     -999.0,9,     -999.0,9,     -999.0,9,     -999.0,9,     -999.0,9,     -999.0,9,   1.3915,20141207,       0418
06AQ20141202,        A12,       5,          1,          3,2,20141207,       0345,   -44.6577,     7.0907,       4661,  3558.3,   1.2428,  34.7374,2,  34.7363,2,    206.4,2,   212.8,2,  100.82,2,   30.41,2,    0.00,2,    2.10,2,  2247.0,2,  2357.3,2,   7.6220,2,    25.00,     -999.0,9,     -999.0,9,     -999.0,9,     -999.0,9,     -999.0,9,     -999.0,9,     -999.0,9,     -999.0,9,     -999.0,9,     -999.0,9,     -999.0,9,     -999.0,9,     -999.0,9,     -999.0,9,     -999.0,9,     -999.0,9,     -999.0,9,     -999.0,9,     -999.0,9,     -999.0,9,     -999.0,9,     -999.0,9,     -999.0,9,     -999.0,9,     -999.0,9,     -999.0,9,     -999.0,9,     -999.0,9,   0.9769,20141207,       0408
06AQ20141202,        A12,       5,          1,          2,2,20141207,       0345,   -44.6577,     7.0907,       4661,  4073.4,   0.9825,  34.7182,2,  34.7169,2,    207.6,2,   213.9,2,  110.39,2,   31.24,2,    0.00,2,    2.17,2,  2253.6,2,  2359.6,2,   7.6158,2,    25.00,     -999.0,9,     -999.0,9,     -999.0,9,     -999.0,9,     -999.0,9,     -999.0,9,     -999.0,9,     -999.0,9,     -999.0,9,     -999.0,9,     -999.0,9,     -999.0,9,     -999.0,9,     -999.0,9,     -999.0,9,     -999.0,9,     -999.0,9,     -999.0,9,     -999.0,9,     -999.0,9,     -999.0,9,     -999.0,9,     -999.0,9,     -999.0,9,     -999.0,9,     -999.0,9,     -999.0,9,     -999.0,9,   0.6702,20141207,       0357
06AQ20141202,        A12,       5,          1,          1,2,20141207,       0345,   -44.6577,     7.0907,       4661,  4650.8,   0.7602,  34.6999,2,  34.6986,2,    209.0,2,   216.0,2,  120.54,2,   32.04,2,    0.00,2,    2.22,2,  2257.4,2,  2363.7,2,   7.6371,3,    25.00,     -999.0,9,     -999.0,9,     -999.0,9,     -999.0,9,     -999.0,9,     -999.0,9,     -999.0,9,     -999.0,9,     -999.0,9,     -999.0,9,     -999.0,9,     -999.0,9,     -999.0,9,     -999.0,9,     -999.0,9,     -999.0,9,     -999.0,9,     -999.0,9,     -999.0,9,     -999.0,9,     -999.0,9,     -999.0,9,     -999.0,9,     -999.0,9,     -999.0,9,     -999.0,9,     -999.0,9,     -999.0,9,   0.3912,20141207,       0345