BOTTLE,20220815CCHSIOAMB
EXPOCODE,SECT_ID,STNNBR,CASTNO,BTLNBR,BTLNBR_FLAG_W,DATE,TIME,LATITUDE,LONGITUDE,DEPTH,CTDPRS,CTDTMP,CTDSAL,CTDSAL_FLAG_W,SALNTY,SALNTY_FLAG_W,CTDOXY,CTDOXY_FLAG_W,OXYGEN,OXYGEN_FLAG_W,SILCAT,SILCAT_FLAG_W,NITRAT,NITRAT_FLAG_W,NITRIT,NITRIT_FLAG_W,PHSPHT,PHSPHT_FLAG_W,TCARBN,TCARBN_FLAG_W,ALKALI,ALKALI_FLAG_W,PH_TOT,PH_TOT_FLAG_W,PH_TMP,POC,POC_FLAG_W,PON,PON_FLAG_W,FUCO,FUCO_FLAG_W,ALPHA-BETA-CAR,ALPHA-BETA-CAR_FLAG_W,ALLO,ALLO_FLAG_W,BUT-FUCO,BUT-FUCO_FLAG_W,CHL_C1C2,CHL_C1C2_FLAG_W,CHL_C3,CHL_C3_FLAG_W,CHLIDE_A,CHLIDE_A_FLAG_W,DIADINO,DIADINO_FLAG_W,DIATO,DIATO_FLAG_W,DV_CHL_A,DV_CHL_A_FLAG_W,DV_CHL_B,DV_CHL_B_FLAG_W,GYRO,GYRO_FLAG_W,HEX-FUCO,HEX-FUCO_FLAG_W,LUT,LUT_FLAG_W,MV_CHL_A,MV_CHL_A_FLAG_W,MV_CHL_B,MV_CHL_B_FLAG_W,NEO,NEO_FLAG_W,PERID,PERID_FLAG_W,PHIDE_A,PHIDE_A_FLAG_W,PHYTIN_A,PHYTIN_A_FLAG_W,PRAS,PRAS_FLAG_W,TOT_CHL_A,TOT_CHL_A_FLAG_W,TOT_CHL_B,TOT_CHL_B_FLAG_W,TOT_CHL_C,TOT_CHL_C_FLAG_W,VIOLA,VIOLA_FLAG_W,ZEA,ZEA_FLAG_W,THETA,BTL_DATE,BTL_TIME
,,,,,,,,,,METERS,DBAR,ITS-90,PSS-78,,PSS-78,,UMOL/KG,,UMOL/KG,,UMOL/KG,,UMOL/KG,,UMOL/KG,,UMOL/KG,,UMOL/KG,,UMOL/KG,,,,DEG C,uG/KG,,ug/kg,,NMOL/KG,,MG/M^3,,MG/M^3,,MG/M^3,,MG/M^3,,MG/M^3,,MG/M^3,,MG/M^3,,MG/M^3,,MG/M^3,,MG/M^3,,MG/M^3,,MG/M^3,,MG/M^3,,MG/M^3,,MG/M^3,,MG/M^3,,MG/M^3,,MG/M^3,,MG/M^3,,MG/M^3,,MG/M^3,,MG/M^3,,MG/M^3,,MG/M^3,,MG/M^3,,DEG C,,
06AQ20141202,        A12,      66,          2,         24,2,20150116,       1055,   -69.0050,    -6.9852,       3071,    15.2,  -1.3506,  33.7452,2,-999.0000,9,    312.3,2,   307.1,2,   76.19,2,   28.10,2,    0.24,2,    1.97,2,  -999.0,9,  -999.0,9,-999.0000,9,  -999.00,     -999.0,9,     -999.0,9,     -999.0,9,     -999.0,9,     -999.0,9,     -999.0,9,     -999.0,9,     -999.0,9,     -999.0,9,     -999.0,9,     -999.0,9,     -999.0,9,     -999.0,9,     -999.0,9,     -999.0,9,     -999.0,9,     -999.0,9,     -999.0,9,     -999.0,9,     -999.0,9,     -999.0,9,     -999.0,9,     -999.0,9,     -999.0,9,     -999.0,9,     -999.0,9,     -999.0,9,     -999.0,9,  -1.3509,20150116,       1159
06AQ20141202,        A12,      66,          2,         23,2,20150116,       1055,   -69.0050,    -6.9852,       3071,    25.8,  -1.6010,  34.1483,2,-999.0000,9,    275.9,2,   276.4,2,   77.14,2,   28.94,2,    0.19,2,    2.02,2,  -999.0,9,  -999.0,9,-999.0000,9,  -999.00,     -999.0,9,     -999.0,9,     -999.0,9,     -999.0,9,     -999.0,9,     -999.0,9,     -999.0,9,     -999.0,9,     -999.0,9,     -999.0,9,     -999.0,9,     -999.0,9,     -999.0,9,     -999.0,9,     -999.0,9,     -999.0,9,     -999.0,9,     -999.0,9,     -999.0,9,     -999.0,9,     -999.0,9,     -999.0,9,     -999.0,9,     -999.0,9,     -999.0,9,     -999.0,9,     -999.0,9,     -999.0,9,  -1.6015,20150116,       1158
06AQ20141202,        A12,      66,          2,         22,2,20150116,       1055,   -69.0050,    -6.9852,       3071,    50.9,  -1.7383,  34.2527,2,-999.0000,9,    266.8,2,   269.5,2, -999.00,9, -999.00,9, -999.00,9, -999.00,9,  -999.0,9,  -999.0,9,-999.0000,9,  -999.00,     -999.0,9,     -999.0,9,     -999.0,9,     -999.0,9,     -999.0,9,     -999.0,9,     -999.0,9,     -999.0,9,     -999.0,9,     -999.0,9,     -999.0,9,     -999.0,9,     -999.0,9,     -999.0,9,     -999.0,9,     -999.0,9,     -999.0,9,     -999.0,9,     -999.0,9,     -999.0,9,     -999.0,9,     -999.0,9,     -999.0,9,     -999.0,9,     -999.0,9,     -999.0,9,     -999.0,9,     -999.0,9,  -1.7393,20150116,       1157
06AQ20141202,        A12,      66,          2,         21,2,20150116,       1055,   -69.0050,    -6.9852,       3071,    51.0,  -1.7384,  34.2487,2,-999.0000,9,    267.0,2,   269.5,2,   77.52,2,   29.41,2,    0.22,2,    2.04,2,  -999.0,9,  -999.0,9,-999.0000,9,  -999.00,     -999.0,9,     -999.0,9,     -999.0,9,     -999.0,9,     -999.0,9,     -999.0,9,     -999.0,9,     -999.0,9,     -999.0,9,     -999.0,9,     -999.0,9,     -999.0,9,     -999.0,9,     -999.0,9,     -999.0,9,     -999.0,9,     -999.0,9,     -999.0,9,     -999.0,9,     -999.0,9,     -999.0,9,     -999.0,9,     -999.0,9,     -999.0,9,     -999.0,9,     -999.0,9,     -999.0,9,     -999.0,9,  -1.7394,20150116,       1157
06AQ20141202,        A12,      66,          2,         20,2,20150116,       1055,   -69.0050,    -6.9852,       3071,   101.5,  -1.2732,  34.4537,2,-999.0000,9,    258.3,2,   261.3,2,   78.00,2,   30.69,2,    0.02,2,    2.14,2,  -999.0,9,  -999.0,9,-999.0000,9,  -999.00,     -999.0,9,     -999.0,9,     -999.0,9,     -999.0,9,     -999.0,9,     -999.0,9,     -999.0,9,     -999.0,9,     -999.0,9,     -999.0,9,     -999.0,9,     -999.0,9,     -999.0,9,     -999.0,9,     -999.0,9,     -999.0,9,     -999.0,9,     -999.0,9,     -999.0,9,     -999.0,9,     -999.0,9,     -999.0,9,     -999.0,9,     -999.0,9,     -999.0,9,     -999.0,9,     -999.0,9,     -999.0,9,  -1.2757,20150116,       1156
06AQ20141202,        A12,      66,          2,         19,2,20150116,       1055,   -69.0050,    -6.9852,       3071,   152.0,   0.2081,  34.5896,2,-999.0000,9,    215.8,2,   219.2,2,   89.71,2,   31.93,2,    0.02,2,    2.22,2,  -999.0,9,  -999.0,9,-999.0000,9,  -999.00,     -999.0,9,     -999.0,9,     -999.0,9,     -999.0,9,     -999.0,9,     -999.0,9,     -999.0,9,     -999.0,9,     -999.0,9,     -999.0,9,     -999.0,9,     -999.0,9,     -999.0,9,     -999.0,9,     -999.0,9,     -999.0,9,     -999.0,9,     -999.0,9,     -999.0,9,     -999.0,9,     -999.0,9,     -999.0,9,     -999.0,9,     -999.0,9,     -999.0,9,     -999.0,9,     -999.0,9,     -999.0,9,   0.2023,20150116,       1154
06AQ20141202,        A12,      66,          2,         18,2,20150116,       1055,   -69.0050,    -6.9852,       3071,   202.7,   0.8016,  34.6683,2,-999.0000,9,    201.5,2,   203.9,2,   96.24,2,   32.30,2,    0.01,2,    2.24,2,  -999.0,9,  -999.0,9,-999.0000,9,  -999.00,     -999.0,9,     -999.0,9,     -999.0,9,     -999.0,9,     -999.0,9,     -999.0,9,     -999.0,9,     -999.0,9,     -999.0,9,     -999.0,9,     -999.0,9,     -999.0,9,     -999.0,9,     -999.0,9,     -999.0,9,     -999.0,9,     -999.0,9,     -999.0,9,     -999.0,9,     -999.0,9,     -999.0,9,     -999.0,9,     -999.0,9,     -999.0,9,     -999.0,9,     -999.0,9,     -999.0,9,     -999.0,9,   0.7927,20150116,       1153
06AQ20141202,        A12,      66,          2,         17,2,20150116,       1055,   -69.0050,    -6.9852,       3071,   303.6,   0.9272,  34.6925,2,-999.0000,9,    197.6,2,   200.7,2,  101.12,2,   32.28,2,    0.01,2,    2.25,2,  -999.0,9,  -999.0,9,-999.0000,9,  -999.00,     -999.0,9,     -999.0,9,     -999.0,9,     -999.0,9,     -999.0,9,     -999.0,9,     -999.0,9,     -999.0,9,     -999.0,9,     -999.0,9,     -999.0,9,     -999.0,9,     -999.0,9,     -999.0,9,     -999.0,9,     -999.0,9,     -999.0,9,     -999.0,9,     -999.0,9,     -999.0,9,     -999.0,9,     -999.0,9,     -999.0,9,     -999.0,9,     -999.0,9,     -999.0,9,     -999.0,9,     -999.0,9,   0.9133,20150116,       1150
06AQ20141202,        A12,      66,          2,         16,2,20150116,       1055,   -69.0050,    -6.9852,       3071,   404.5,   0.8028,  34.6887,2,-999.0000,9,    202.8,2,   206.0,2,  102.49,2,   31.97,2,    0.01,2,    2.23,2,  -999.0,9,  -999.0,9,-999.0000,9,  -999.00,     -999.0,9,     -999.0,9,     -999.0,9,     -999.0,9,     -999.0,9,     -999.0,9,     -999.0,9,     -999.0,9,     -999.0,9,     -999.0,9,     -999.0,9,     -999.0,9,     -999.0,9,     -999.0,9,     -999.0,9,     -999.0,9,     -999.0,9,     -999.0,9,     -999.0,9,     -999.0,9,     -999.0,9,     -999.0,9,     -999.0,9,     -999.0,9,     -999.0,9,     -999.0,9,     -999.0,9,     -999.0,9,   0.7844,20150116,       1148
06AQ20141202,        A12,      66,          2,         15,2,20150116,       1055,   -69.0050,    -6.9852,       3071,   506.0,   0.7258,  34.6894,2,-999.0000,9,    204.2,2,   209.0,2,  104.83,2,   32.00,2,    0.01,2,    2.21,2,  -999.0,9,  -999.0,9,-999.0000,9,  -999.00,     -999.0,9,     -999.0,9,     -999.0,9,     -999.0,9,     -999.0,9,     -999.0,9,     -999.0,9,     -999.0,9,     -999.0,9,     -999.0,9,     -999.0,9,     -999.0,9,     -999.0,9,     -999.0,9,     -999.0,9,     -999.0,9,     -999.0,9,     -999.0,9,     -999.0,9,     -999.0,9,     -999.0,9,     -999.0,9,     -999.0,9,     -999.0,9,     -999.0,9,     -999.0,9,     -999.0,9,     -999.0,9,   0.7026,20150116,       1146
06AQ20141202,        A12,      66,          2,         14,2,20150116,       1055,   -69.0050,    -6.9852,       3071,   607.1,   0.6383,  34.6872,2,-999.0000,9,    205.8,2,   209.4,2,  105.32,2,   32.07,2,    0.01,2,    2.27,2,  -999.0,9,  -999.0,9,-999.0000,9,  -999.00,     -999.0,9,     -999.0,9,     -999.0,9,     -999.0,9,     -999.0,9,     -999.0,9,     -999.0,9,     -999.0,9,     -999.0,9,     -999.0,9,     -999.0,9,     -999.0,9,     -999.0,9,     -999.0,9,     -999.0,9,     -999.0,9,     -999.0,9,     -999.0,9,     -999.0,9,     -999.0,9,     -999.0,9,     -999.0,9,     -999.0,9,     -999.0,9,     -999.0,9,     -999.0,9,     -999.0,9,     -999.0,9,   0.6104,20150116,       1144
06AQ20141202,        A12,      66,          2,         13,2,20150116,       1055,   -69.0050,    -6.9852,       3071,   708.2,   0.6365,  34.6926,2,-999.0000,9,    201.6,2,   206.5,2,  110.29,2,   32.24,2,    0.01,2,    2.24,2,  -999.0,9,  -999.0,9,-999.0000,9,  -999.00,     -999.0,9,     -999.0,9,     -999.0,9,     -999.0,9,     -999.0,9,     -999.0,9,     -999.0,9,     -999.0,9,     -999.0,9,     -999.0,9,     -999.0,9,     -999.0,9,     -999.0,9,     -999.0,9,     -999.0,9,     -999.0,9,     -999.0,9,     -999.0,9,     -999.0,9,     -999.0,9,     -999.0,9,     -999.0,9,     -999.0,9,     -999.0,9,     -999.0,9,     -999.0,9,     -999.0,9,     -999.0,9,   0.6033,20150116,       1141
06AQ20141202,        A12,      66,          2,         12,2,20150116,       1055,   -69.0050,    -6.9852,       3071,   809.8,   0.5738,  34.6901,2,-999.0000,9,    203.3,2,   207.5,2,  113.42,2,   32.28,2,    0.00,2,    2.25,2,  -999.0,9,  -999.0,9,-999.0000,9,  -999.00,     -999.0,9,     -999.0,9,     -999.0,9,     -999.0,9,     -999.0,9,     -999.0,9,     -999.0,9,     -999.0,9,     -999.0,9,     -999.0,9,     -999.0,9,     -999.0,9,     -999.0,9,     -999.0,9,     -999.0,9,     -999.0,9,     -999.0,9,     -999.0,9,     -999.0,9,     -999.0,9,     -999.0,9,     -999.0,9,     -999.0,9,     -999.0,9,     -999.0,9,     -999.0,9,     -999.0,9,     -999.0,9,   0.5355,20150116,       1139
06AQ20141202,        A12,      66,          2,         11,2,20150116,       1055,   -69.0050,    -6.9852,       3071,   911.1,   0.5202,  34.6885,2,-999.0000,9,    203.6,2,   207.4,2,  115.66,2,   32.61,2,    0.00,2,    2.26,2,  -999.0,9,  -999.0,9,-999.0000,9,  -999.00,     -999.0,9,     -999.0,9,     -999.0,9,     -999.0,9,     -999.0,9,     -999.0,9,     -999.0,9,     -999.0,9,     -999.0,9,     -999.0,9,     -999.0,9,     -999.0,9,     -999.0,9,     -999.0,9,     -999.0,9,     -999.0,9,     -999.0,9,     -999.0,9,     -999.0,9,     -999.0,9,     -999.0,9,     -999.0,9,     -999.0,9,     -999.0,9,     -999.0,9,     -999.0,9,     -999.0,9,     -999.0,9,   0.4767,20150116,       1137
06AQ20141202,        A12,      66,          2,         10,2,20150116,       1055,   -69.0050,    -6.9852,       3071,  1012.6,   0.4462,  34.6855,2,  34.6859,2,    205.3,2,   209.2,2,  117.42,2,   32.68,2,    0.00,2,    2.27,2,  -999.0,9,  -999.0,9,-999.0000,9,  -999.00,     -999.0,9,     -999.0,9,     -999.0,9,     -999.0,9,     -999.0,9,     -999.0,9,     -999.0,9,     -999.0,9,     -999.0,9,     -999.0,9,     -999.0,9,     -999.0,9,     -999.0,9,     -999.0,9,     -999.0,9,     -999.0,9,     -999.0,9,     -999.0,9,     -999.0,9,     -999.0,9,     -999.0,9,     -999.0,9,     -999.0,9,     -999.0,9,     -999.0,9,     -999.0,9,     -999.0,9,     -999.0,9,   0.3976,20150116,       1135
06AQ20141202,        A12,      66,          2,          9,2,20150116,       1055,   -69.0050,    -6.9852,       3071,  1216.0,   0.3429,  34.6810,2,-999.0000,9,    207.9,2,   214.1,2,  119.08,2,   32.68,2,    0.00,2,    2.28,2,  -999.0,9,  -999.0,9,-999.0000,9,  -999.00,     -999.0,9,     -999.0,9,     -999.0,9,     -999.0,9,     -999.0,9,     -999.0,9,     -999.0,9,     -999.0,9,     -999.0,9,     -999.0,9,     -999.0,9,     -999.0,9,     -999.0,9,     -999.0,9,     -999.0,9,     -999.0,9,     -999.0,9,     -999.0,9,     -999.0,9,     -999.0,9,     -999.0,9,     -999.0,9,     -999.0,9,     -999.0,9,     -999.0,9,     -999.0,9,     -999.0,9,     -999.0,9,   0.2834,20150116,       1131
06AQ20141202,        A12,      66,          2,          8,2,20150116,       1055,   -69.0050,    -6.9852,       3071,  1418.8,   0.2540,  34.6773,2,-999.0000,9,    210.3,2,   215.3,2,  120.94,2,   32.69,2,    0.00,2,    2.27,2,  -999.0,9,  -999.0,9,-999.0000,9,  -999.00,     -999.0,9,     -999.0,9,     -999.0,9,     -999.0,9,     -999.0,9,     -999.0,9,     -999.0,9,     -999.0,9,     -999.0,9,     -999.0,9,     -999.0,9,     -999.0,9,     -999.0,9,     -999.0,9,     -999.0,9,     -999.0,9,     -999.0,9,     -999.0,9,     -999.0,9,     -999.0,9,     -999.0,9,     -999.0,9,     -999.0,9,     -999.0,9,     -999.0,9,     -999.0,9,     -999.0,9,     -999.0,9,   0.1832,20150116,       1127
06AQ20141202,        A12,      66,          2,          7,2,20150116,       1055,   -69.0050,    -6.9852,       3071,  1622.6,   0.1669,  34.6732,2,-999.0000,9,    213.1,2,   219.0,2,  122.11,2,   32.52,2,    0.00,2,    2.25,2,  -999.0,9,  -999.0,9,-999.0000,9,  -999.00,     -999.0,9,     -999.0,9,     -999.0,9,     -999.0,9,     -999.0,9,     -999.0,9,     -999.0,9,     -999.0,9,     -999.0,9,     -999.0,9,     -999.0,9,     -999.0,9,     -999.0,9,     -999.0,9,     -999.0,9,     -999.0,9,     -999.0,9,     -999.0,9,     -999.0,9,     -999.0,9,     -999.0,9,     -999.0,9,     -999.0,9,     -999.0,9,     -999.0,9,     -999.0,9,     -999.0,9,     -999.0,9,   0.0842,20150116,       1123
06AQ20141202,        A12,      66,          2,          6,2,20150116,       1055,   -69.0050,    -6.9852,       3071,  1825.9,   0.0923,  34.6697,2,-999.0000,9,    216.3,2,   222.0,2,  122.50,2,   32.59,2,    0.00,2,    2.26,2,  -999.0,9,  -999.0,9,-999.0000,9,  -999.00,     -999.0,9,     -999.0,9,     -999.0,9,     -999.0,9,     -999.0,9,     -999.0,9,     -999.0,9,     -999.0,9,     -999.0,9,     -999.0,9,     -999.0,9,     -999.0,9,     -999.0,9,     -999.0,9,     -999.0,9,     -999.0,9,     -999.0,9,     -999.0,9,     -999.0,9,     -999.0,9,     -999.0,9,     -999.0,9,     -999.0,9,     -999.0,9,     -999.0,9,     -999.0,9,     -999.0,9,     -999.0,9,  -0.0029,20150116,       1119
06AQ20141202,        A12,      66,          2,          5,2,20150116,       1055,   -69.0050,    -6.9852,       3071,  2029.4,   0.0323,  34.6670,2,-999.0000,9,    218.9,2,   225.0,2,  122.60,2,   32.42,2,    0.00,2,    2.25,2,  -999.0,9,  -999.0,9,-999.0000,9,  -999.00,     -999.0,9,     -999.0,9,     -999.0,9,     -999.0,9,     -999.0,9,     -999.0,9,     -999.0,9,     -999.0,9,     -999.0,9,     -999.0,9,     -999.0,9,     -999.0,9,     -999.0,9,     -999.0,9,     -999.0,9,     -999.0,9,     -999.0,9,     -999.0,9,     -999.0,9,     -999.0,9,     -999.0,9,     -999.0,9,     -999.0,9,     -999.0,9,     -999.0,9,     -999.0,9,     -999.0,9,     -999.0,9,  -0.0760,20150116,       1115
06AQ20141202,        A12,      66,          2,          4,2,20150116,       1055,   -69.0050,    -6.9852,       3071,  2233.9,  -0.0190,  34.6649,2,-999.0000,9,    221.1,2,   227.8,2,  122.60,2,   32.52,2,    0.00,2,    2.28,2,  -999.0,9,  -999.0,9,-999.0000,9,  -999.00,     -999.0,9,     -999.0,9,     -999.0,9,     -999.0,9,     -999.0,9,     -999.0,9,     -999.0,9,     -999.0,9,     -999.0,9,     -999.0,9,     -999.0,9,     -999.0,9,     -999.0,9,     -999.0,9,     -999.0,9,     -999.0,9,     -999.0,9,     -999.0,9,     -999.0,9,     -999.0,9,     -999.0,9,     -999.0,9,     -999.0,9,     -999.0,9,     -999.0,9,     -999.0,9,     -999.0,9,     -999.0,9,  -0.1411,20150116,       1110
06AQ20141202,        A12,      66,          2,          3,2,20150116,       1055,   -69.0050,    -6.9852,       3071,  2540.8,  -0.0747,  34.6619,2,-999.0000,9,    223.8,2,   231.7,2,  122.11,2,   32.40,2,    0.00,2,    2.26,2,  -999.0,9,  -999.0,9,-999.0000,9,  -999.00,     -999.0,9,     -999.0,9,     -999.0,9,     -999.0,9,     -999.0,9,     -999.0,9,     -999.0,9,     -999.0,9,     -999.0,9,     -999.0,9,     -999.0,9,     -999.0,9,     -999.0,9,     -999.0,9,     -999.0,9,     -999.0,9,     -999.0,9,     -999.0,9,     -999.0,9,     -999.0,9,     -999.0,9,     -999.0,9,     -999.0,9,     -999.0,9,     -999.0,9,     -999.0,9,     -999.0,9,     -999.0,9,  -0.2190,20150116,       1104
06AQ20141202,        A12,      66,          2,          2,2,20150116,       1055,   -69.0050,    -6.9852,       3071,  2847.5,  -0.1027,  34.6604,2,  34.6595,2,    225.7,2,   233.6,2,  122.21,2,   32.42,2,    0.00,2,    2.24,2,  -999.0,9,  -999.0,9,-999.0000,9,  -999.00,     -999.0,9,     -999.0,9,     -999.0,9,     -999.0,9,     -999.0,9,     -999.0,9,     -999.0,9,     -999.0,9,     -999.0,9,     -999.0,9,     -999.0,9,     -999.0,9,     -999.0,9,     -999.0,9,     -999.0,9,     -999.0,9,     -999.0,9,     -999.0,9,     -999.0,9,     -999.0,9,     -999.0,9,     -999.0,9,     -999.0,9,     -999.0,9,     -999.0,9,     -999.0,9,     -999.0,9,     -999.0,9,  -0.2710,20150116,       1058
06AQ20141202,        A12,      66,          2,          1,2,20150116,       1055,   -69.0050,    -6.9852,       3071,  2943.4,  -0.1286,  34.6593,2,-999.0000,9,    227.1,2,   234.3,2,  122.30,2,   32.35,2,    0.00,2,    2.25,2,  -999.0,9,  -999.0,9,-999.0000,9,  -999.00,     -999.0,9,     -999.0,9,     -999.0,9,     -999.0,9,     -999.0,9,     -999.0,9,     -999.0,9,     -999.0,9,     -999.0,9,     -999.0,9,     -999.0,9,     -999.0,9,     -999.0,9,     -999.0,9,     -999.0,9,     -999.0,9,     -999.0,9,     -999.0,9,     -999.0,9,     -999.0,9,     -999.0,9,     -999.0,9,     -999.0,9,     -999.0,9,     -999.0,9,     -999.0,9,     -999.0,9,     -999.0,9,  -0.3043,20150116,       1055