BOTTLE,20220815CCHSIOAMB
EXPOCODE,SECT_ID,STNNBR,CASTNO,BTLNBR,BTLNBR_FLAG_W,DATE,TIME,LATITUDE,LONGITUDE,DEPTH,CTDPRS,CTDTMP,CTDSAL,CTDSAL_FLAG_W,SALNTY,SALNTY_FLAG_W,CTDOXY,CTDOXY_FLAG_W,OXYGEN,OXYGEN_FLAG_W,SILCAT,SILCAT_FLAG_W,NITRAT,NITRAT_FLAG_W,NITRIT,NITRIT_FLAG_W,PHSPHT,PHSPHT_FLAG_W,TCARBN,TCARBN_FLAG_W,ALKALI,ALKALI_FLAG_W,PH_TOT,PH_TOT_FLAG_W,PH_TMP,POC,POC_FLAG_W,PON,PON_FLAG_W,FUCO,FUCO_FLAG_W,ALPHA-BETA-CAR,ALPHA-BETA-CAR_FLAG_W,ALLO,ALLO_FLAG_W,BUT-FUCO,BUT-FUCO_FLAG_W,CHL_C1C2,CHL_C1C2_FLAG_W,CHL_C3,CHL_C3_FLAG_W,CHLIDE_A,CHLIDE_A_FLAG_W,DIADINO,DIADINO_FLAG_W,DIATO,DIATO_FLAG_W,DV_CHL_A,DV_CHL_A_FLAG_W,DV_CHL_B,DV_CHL_B_FLAG_W,GYRO,GYRO_FLAG_W,HEX-FUCO,HEX-FUCO_FLAG_W,LUT,LUT_FLAG_W,MV_CHL_A,MV_CHL_A_FLAG_W,MV_CHL_B,MV_CHL_B_FLAG_W,NEO,NEO_FLAG_W,PERID,PERID_FLAG_W,PHIDE_A,PHIDE_A_FLAG_W,PHYTIN_A,PHYTIN_A_FLAG_W,PRAS,PRAS_FLAG_W,TOT_CHL_A,TOT_CHL_A_FLAG_W,TOT_CHL_B,TOT_CHL_B_FLAG_W,TOT_CHL_C,TOT_CHL_C_FLAG_W,VIOLA,VIOLA_FLAG_W,ZEA,ZEA_FLAG_W,THETA,BTL_DATE,BTL_TIME
,,,,,,,,,,METERS,DBAR,ITS-90,PSS-78,,PSS-78,,UMOL/KG,,UMOL/KG,,UMOL/KG,,UMOL/KG,,UMOL/KG,,UMOL/KG,,UMOL/KG,,UMOL/KG,,,,DEG C,uG/KG,,ug/kg,,NMOL/KG,,MG/M^3,,MG/M^3,,MG/M^3,,MG/M^3,,MG/M^3,,MG/M^3,,MG/M^3,,MG/M^3,,MG/M^3,,MG/M^3,,MG/M^3,,MG/M^3,,MG/M^3,,MG/M^3,,MG/M^3,,MG/M^3,,MG/M^3,,MG/M^3,,MG/M^3,,MG/M^3,,MG/M^3,,MG/M^3,,MG/M^3,,MG/M^3,,MG/M^3,,DEG C,,
06AQ20141202,        A12,      12,          2,         24,2,20141210,       2122,   -53.5235,     0.0028,       2601,    25.5,  -0.1784,  33.8601,2,  33.8631,2,    354.4,2,   359.5,2,   35.16,2,   24.84,2,    0.27,2,    1.63,2,  2170.4,2,  2290.9,2,   7.6798,2,    25.00,         89,2,         18,2,     0.2200,6,      0.006,6,      0.002,6,      0.020,6,      0.092,6,      0.049,6,      0.012,6,      0.034,6,      0.001,6,     -999.0,9,     -999.0,9,     -999.0,9,      0.030,6,     -999.0,9,      0.410,6,     -999.0,9,     -999.0,9,      0.004,6,      0.056,6,      0.014,6,     -999.0,9,      0.422,6,     -999.0,9,      0.142,6,     -999.0,9,     -999.0,9,  -0.1792,20141210,       2223
06AQ20141202,        A12,      12,          2,         23,2,20141210,       2122,   -53.5235,     0.0028,       2601,    25.1,  -0.1783,  33.8601,2,-999.0000,9,    354.6,2,   359.2,2,   34.96,2,   24.93,2,    0.26,2,    1.59,2,  2169.2,2,  2292.0,2,   7.6781,2,    25.00,         93,2,         19,2,     -999.0,9,     -999.0,9,     -999.0,9,     -999.0,9,     -999.0,9,     -999.0,9,     -999.0,9,     -999.0,9,     -999.0,9,     -999.0,9,     -999.0,9,     -999.0,9,     -999.0,9,     -999.0,9,     -999.0,9,     -999.0,9,     -999.0,9,     -999.0,9,     -999.0,9,     -999.0,9,     -999.0,9,     -999.0,9,     -999.0,9,     -999.0,9,     -999.0,9,     -999.0,9,  -0.1791,20141210,       2223
06AQ20141202,        A12,      12,          2,         22,2,20141210,       2122,   -53.5235,     0.0028,       2601,    51.9,  -0.1879,  33.8611,2,  33.8647,2,    353.6,2,   358.9,2,   34.87,2,   24.89,2,    0.27,2,    1.66,2,  2167.9,2,  2294.3,2,   7.6745,2,    25.00,         84,2,         19,2,     0.2420,2,      0.007,2,      0.002,2,      0.021,2,      0.098,2,      0.048,2,      0.017,2,      0.037,2,      0.001,2,     -999.0,9,     -999.0,9,     -999.0,9,      0.032,2,     -999.0,9,      0.438,2,     -999.0,9,      0.001,2,      0.005,2,      0.056,2,      0.014,2,     -999.0,9,      0.455,2,     -999.0,9,      0.146,2,     -999.0,9,     -999.0,9,  -0.1896,20141210,       2222
06AQ20141202,        A12,      12,          2,         21,2,20141210,       2122,   -53.5235,     0.0028,       2601,    77.1,  -0.2346,  33.8648,2,  33.8663,2,    353.1,2,   358.2,2,   35.55,2,   24.99,2,    0.27,2,    1.67,2,  2169.6,2,  2292.8,2,   7.5852,4,    25.00,     -999.0,9,     -999.0,9,     -999.0,9,     -999.0,9,     -999.0,9,     -999.0,9,     -999.0,9,     -999.0,9,     -999.0,9,     -999.0,9,     -999.0,9,     -999.0,9,     -999.0,9,     -999.0,9,     -999.0,9,     -999.0,9,     -999.0,9,     -999.0,9,     -999.0,9,     -999.0,9,     -999.0,9,     -999.0,9,     -999.0,9,     -999.0,9,     -999.0,9,     -999.0,9,     -999.0,9,     -999.0,9,  -0.2371,20141210,       2221
06AQ20141202,        A12,      12,          2,         20,2,20141210,       2122,   -53.5235,     0.0028,       2601,   101.5,  -0.2612,  33.8668,2,  33.8691,2,    351.7,2,   356.7,2,   35.55,2,   24.94,2,    0.26,2,    1.67,2,  2171.7,2,  2293.0,2,   7.6738,2,    25.00,     -999.0,9,     -999.0,9,     -999.0,9,     -999.0,9,     -999.0,9,     -999.0,9,     -999.0,9,     -999.0,9,     -999.0,9,     -999.0,9,     -999.0,9,     -999.0,9,     -999.0,9,     -999.0,9,     -999.0,9,     -999.0,9,     -999.0,9,     -999.0,9,     -999.0,9,     -999.0,9,     -999.0,9,     -999.0,9,     -999.0,9,     -999.0,9,     -999.0,9,     -999.0,9,     -999.0,9,     -999.0,9,  -0.2645,20141210,       2220
06AQ20141202,        A12,      12,          2,         19,2,20141210,       2122,   -53.5235,     0.0028,       2601,   126.6,  -0.5552,  33.9269,2,  33.9137,2,    335.0,2,   347.6,2,   42.68,2,   26.44,2,    0.22,2,    1.85,2,  2182.3,2,  2294.2,2,   7.6493,2,    25.00,     -999.0,9,     -999.0,9,     -999.0,9,     -999.0,9,     -999.0,9,     -999.0,9,     -999.0,9,     -999.0,9,     -999.0,9,     -999.0,9,     -999.0,9,     -999.0,9,     -999.0,9,     -999.0,9,     -999.0,9,     -999.0,9,     -999.0,9,     -999.0,9,     -999.0,9,     -999.0,9,     -999.0,9,     -999.0,9,     -999.0,9,     -999.0,9,     -999.0,9,     -999.0,9,     -999.0,9,     -999.0,9,  -0.5590,20141210,       2219
06AQ20141202,        A12,      12,          2,         18,2,20141210,       2122,   -53.5235,     0.0028,       2601,   151.8,   0.0414,  34.1470,2,  34.1499,2,    277.4,2,   280.8,2,   58.29,2,   30.87,2,    0.10,2,    2.17,2,  2215.0,2,  2306.0,2,   7.5928,2,    25.00,     -999.0,9,     -999.0,9,     -999.0,9,     -999.0,9,     -999.0,9,     -999.0,9,     -999.0,9,     -999.0,9,     -999.0,9,     -999.0,9,     -999.0,9,     -999.0,9,     -999.0,9,     -999.0,9,     -999.0,9,     -999.0,9,     -999.0,9,     -999.0,9,     -999.0,9,     -999.0,9,     -999.0,9,     -999.0,9,     -999.0,9,     -999.0,9,     -999.0,9,     -999.0,9,     -999.0,9,     -999.0,9,   0.0359,20141210,       2218
06AQ20141202,        A12,      12,          2,         17,2,20141210,       2122,   -53.5235,     0.0028,       2601,   203.9,   0.7075,  34.3395,2,  34.3387,2,    227.2,2,   231.1,2,   70.29,2,   33.37,2,    0.03,2,    2.31,2,  2238.8,2,  2318.7,2,   7.5500,2,    25.00,     -999.0,9,     -999.0,9,     -999.0,9,     -999.0,9,     -999.0,9,     -999.0,9,     -999.0,9,     -999.0,9,     -999.0,9,     -999.0,9,     -999.0,9,     -999.0,9,     -999.0,9,     -999.0,9,     -999.0,9,     -999.0,9,     -999.0,9,     -999.0,9,     -999.0,9,     -999.0,9,     -999.0,9,     -999.0,9,     -999.0,9,     -999.0,9,     -999.0,9,     -999.0,9,     -999.0,9,     -999.0,9,   0.6989,20141210,       2216
06AQ20141202,        A12,      12,          2,         16,2,20141210,       2122,   -53.5235,     0.0028,       2601,   252.0,   1.4962,  34.5155,2,  34.5157,2,    186.0,2,   188.9,2,   79.75,2,   34.79,2,    0.00,2,    2.40,2,  2256.9,2,  2332.4,2,   7.5057,3,    25.00,     -999.0,9,     -999.0,9,     -999.0,9,     -999.0,9,     -999.0,9,     -999.0,9,     -999.0,9,     -999.0,9,     -999.0,9,     -999.0,9,     -999.0,9,     -999.0,9,     -999.0,9,     -999.0,9,     -999.0,9,     -999.0,9,     -999.0,9,     -999.0,9,     -999.0,9,     -999.0,9,     -999.0,9,     -999.0,9,     -999.0,9,     -999.0,9,     -999.0,9,     -999.0,9,     -999.0,9,     -999.0,9,   1.4837,20141210,       2215
06AQ20141202,        A12,      12,          2,         15,2,20141210,       2122,   -53.5235,     0.0028,       2601,   304.6,   1.7158,  34.5981,2,  34.5951,2,    176.0,2,   179.2,2,   84.34,2,   34.54,2,    0.00,2,    2.38,2,  2260.8,2,  2335.8,2,   7.5384,2,    25.00,     -999.0,9,     -999.0,9,     -999.0,9,     -999.0,9,     -999.0,9,     -999.0,9,     -999.0,9,     -999.0,9,     -999.0,9,     -999.0,9,     -999.0,9,     -999.0,9,     -999.0,9,     -999.0,9,     -999.0,9,     -999.0,9,     -999.0,9,     -999.0,9,     -999.0,9,     -999.0,9,     -999.0,9,     -999.0,9,     -999.0,9,     -999.0,9,     -999.0,9,     -999.0,9,     -999.0,9,     -999.0,9,   1.6999,20141210,       2213
06AQ20141202,        A12,      12,          2,         14,2,20141210,       2122,   -53.5235,     0.0028,       2601,   405.1,   1.7144,  34.6547,2,  34.6546,2,    176.4,2,   179.7,2,   88.82,2,   33.62,2,    0.00,2,    2.32,2,  2263.0,2,  2343.3,2,   7.5526,2,    25.00,     -999.0,9,     -999.0,9,     -999.0,9,     -999.0,9,     -999.0,9,     -999.0,9,     -999.0,9,     -999.0,9,     -999.0,9,     -999.0,9,     -999.0,9,     -999.0,9,     -999.0,9,     -999.0,9,     -999.0,9,     -999.0,9,     -999.0,9,     -999.0,9,     -999.0,9,     -999.0,9,     -999.0,9,     -999.0,9,     -999.0,9,     -999.0,9,     -999.0,9,     -999.0,9,     -999.0,9,     -999.0,9,   1.6929,20141210,       2211
06AQ20141202,        A12,      12,          2,         13,2,20141210,       2122,   -53.5235,     0.0028,       2601,   504.6,   1.6670,  34.6822,2,  34.6834,2,    179.0,2,   182.2,2,   91.07,2,   33.11,2,    0.00,2,    2.28,2,  2260.3,2,  2348.4,2,   7.5635,2,    25.00,     -999.0,9,     -999.0,9,     -999.0,9,     -999.0,9,     -999.0,9,     -999.0,9,     -999.0,9,     -999.0,9,     -999.0,9,     -999.0,9,     -999.0,9,     -999.0,9,     -999.0,9,     -999.0,9,     -999.0,9,     -999.0,9,     -999.0,9,     -999.0,9,     -999.0,9,     -999.0,9,     -999.0,9,     -999.0,9,     -999.0,9,     -999.0,9,     -999.0,9,     -999.0,9,     -999.0,9,     -999.0,9,   1.6400,20141210,       2209
06AQ20141202,        A12,      12,          2,         12,2,20141210,       2122,   -53.5235,     0.0028,       2601,   606.2,   1.5886,  34.6996,2,  34.6993,2,    183.9,2,   187.2,2,   92.82,2,   32.62,2,    0.00,2,    2.24,2,  2259.2,2,  2350.9,2,   7.5747,6,    25.00,     -999.0,9,     -999.0,9,     -999.0,9,     -999.0,9,     -999.0,9,     -999.0,9,     -999.0,9,     -999.0,9,     -999.0,9,     -999.0,9,     -999.0,9,     -999.0,9,     -999.0,9,     -999.0,9,     -999.0,9,     -999.0,9,     -999.0,9,     -999.0,9,     -999.0,9,     -999.0,9,     -999.0,9,     -999.0,9,     -999.0,9,     -999.0,9,     -999.0,9,     -999.0,9,     -999.0,9,     -999.0,9,   1.5560,20141210,       2206
06AQ20141202,        A12,      12,          2,         11,2,20141210,       2122,   -53.5235,     0.0028,       2601,   708.5,   1.5049,  34.7091,2,  34.7085,2,    187.7,2,   191.3,2,   95.65,2,   32.18,2,    0.00,2,    2.24,2,  2259.5,2,  2350.2,2,   7.5828,2,    25.00,     -999.0,9,     -999.0,9,     -999.0,9,     -999.0,9,     -999.0,9,     -999.0,9,     -999.0,9,     -999.0,9,     -999.0,9,     -999.0,9,     -999.0,9,     -999.0,9,     -999.0,9,     -999.0,9,     -999.0,9,     -999.0,9,     -999.0,9,     -999.0,9,     -999.0,9,     -999.0,9,     -999.0,9,     -999.0,9,     -999.0,9,     -999.0,9,     -999.0,9,     -999.0,9,     -999.0,9,     -999.0,9,   1.4666,20141210,       2204
06AQ20141202,        A12,      12,          2,         10,2,20141210,       2122,   -53.5235,     0.0028,       2601,   810.0,   1.4012,  34.7121,2,  34.7122,2,    191.1,2,   195.0,2,   97.12,2,   31.97,2,    0.00,2,    2.21,2,  2253.7,2,  2351.8,2,   7.5880,2,    25.00,     -999.0,9,     -999.0,9,     -999.0,9,     -999.0,9,     -999.0,9,     -999.0,9,     -999.0,9,     -999.0,9,     -999.0,9,     -999.0,9,     -999.0,9,     -999.0,9,     -999.0,9,     -999.0,9,     -999.0,9,     -999.0,9,     -999.0,9,     -999.0,9,     -999.0,9,     -999.0,9,     -999.0,9,     -999.0,9,     -999.0,9,     -999.0,9,     -999.0,9,     -999.0,9,     -999.0,9,     -999.0,9,   1.3574,20141210,       2201
06AQ20141202,        A12,      12,          2,          9,2,20141210,       2122,   -53.5235,     0.0028,       2601,   912.1,   1.2862,  34.7108,2,  34.7111,2,    193.7,2,   198.8,2,   99.85,2,   31.87,2,    0.00,2,    2.22,2,  2257.2,2,  2352.6,2,   7.5916,2,    25.00,     -999.0,9,     -999.0,9,     -999.0,9,     -999.0,9,     -999.0,9,     -999.0,9,     -999.0,9,     -999.0,9,     -999.0,9,     -999.0,9,     -999.0,9,     -999.0,9,     -999.0,9,     -999.0,9,     -999.0,9,     -999.0,9,     -999.0,9,     -999.0,9,     -999.0,9,     -999.0,9,     -999.0,9,     -999.0,9,     -999.0,9,     -999.0,9,     -999.0,9,     -999.0,9,     -999.0,9,     -999.0,9,   1.2370,20141210,       2159
06AQ20141202,        A12,      12,          2,          8,2,20141210,       2122,   -53.5235,     0.0028,       2601,  1011.2,   1.1580,  34.7094,2,  34.7092,2,    195.7,2,   200.3,2,  103.07,2,   31.81,2,    0.00,2,    2.20,2,  2256.8,2,  2354.5,2,   7.5925,2,    25.00,     -999.0,9,     -999.0,9,     -999.0,9,     -999.0,9,     -999.0,9,     -999.0,9,     -999.0,9,     -999.0,9,     -999.0,9,     -999.0,9,     -999.0,9,     -999.0,9,     -999.0,9,     -999.0,9,     -999.0,9,     -999.0,9,     -999.0,9,     -999.0,9,     -999.0,9,     -999.0,9,     -999.0,9,     -999.0,9,     -999.0,9,     -999.0,9,     -999.0,9,     -999.0,9,     -999.0,9,     -999.0,9,   1.1036,20141210,       2156
06AQ20141202,        A12,      12,          2,          7,2,20141210,       2122,   -53.5235,     0.0028,       2601,  1214.2,   0.9540,  34.7035,2,  34.7034,2,    198.8,2,   203.7,2,  108.05,2,   32.02,2,    0.00,2,    2.22,2,  2256.4,2,  2355.0,2,   7.5919,2,    25.00,     -999.0,9,     -999.0,9,     -999.0,9,     -999.0,9,     -999.0,9,     -999.0,9,     -999.0,9,     -999.0,9,     -999.0,9,     -999.0,9,     -999.0,9,     -999.0,9,     -999.0,9,     -999.0,9,     -999.0,9,     -999.0,9,     -999.0,9,     -999.0,9,     -999.0,9,     -999.0,9,     -999.0,9,     -999.0,9,     -999.0,9,     -999.0,9,     -999.0,9,     -999.0,9,     -999.0,9,     -999.0,9,   0.8886,20141210,       2152
06AQ20141202,        A12,      12,          2,          6,2,20141210,       2122,   -53.5235,     0.0028,       2601,  1417.8,   0.7626,  34.6957,2,  34.6955,2,    201.3,2,   206.8,2,  112.73,2,   32.31,2,    0.00,2,    2.24,2,  2257.6,2,  2356.8,2,   7.5898,2,    25.00,     -999.0,9,     -999.0,9,     -999.0,9,     -999.0,9,     -999.0,9,     -999.0,9,     -999.0,9,     -999.0,9,     -999.0,9,     -999.0,9,     -999.0,9,     -999.0,9,     -999.0,9,     -999.0,9,     -999.0,9,     -999.0,9,     -999.0,9,     -999.0,9,     -999.0,9,     -999.0,9,     -999.0,9,     -999.0,9,     -999.0,9,     -999.0,9,     -999.0,9,     -999.0,9,     -999.0,9,     -999.0,9,   0.6860,20141210,       2147
06AQ20141202,        A12,      12,          2,          5,2,20141210,       2122,   -53.5235,     0.0028,       2601,  1620.5,   0.6106,  34.6900,2,  34.6897,2,    203.6,2,   208.8,2,  117.03,2,   32.46,2,    0.00,2,    2.24,2,  2257.7,2,  2356.2,2,   7.5877,2,    25.00,     -999.0,9,     -999.0,9,     -999.0,9,     -999.0,9,     -999.0,9,     -999.0,9,     -999.0,9,     -999.0,9,     -999.0,9,     -999.0,9,     -999.0,9,     -999.0,9,     -999.0,9,     -999.0,9,     -999.0,9,     -999.0,9,     -999.0,9,     -999.0,9,     -999.0,9,     -999.0,9,     -999.0,9,     -999.0,9,     -999.0,9,     -999.0,9,     -999.0,9,     -999.0,9,     -999.0,9,     -999.0,9,   0.5223,20141210,       2143
06AQ20141202,        A12,      12,          2,          4,2,20141210,       2122,   -53.5235,     0.0028,       2601,  1823.9,   0.5080,  34.6868,2,  34.6859,2,    205.2,2,   210.3,2,  120.93,2,   32.74,2,    0.00,2,    2.24,2,  2259.2,2,  2359.1,2,   7.5865,2,    25.00,     -999.0,9,     -999.0,9,     -999.0,9,     -999.0,9,     -999.0,9,     -999.0,9,     -999.0,9,     -999.0,9,     -999.0,9,     -999.0,9,     -999.0,9,     -999.0,9,     -999.0,9,     -999.0,9,     -999.0,9,     -999.0,9,     -999.0,9,     -999.0,9,     -999.0,9,     -999.0,9,     -999.0,9,     -999.0,9,     -999.0,9,     -999.0,9,     -999.0,9,     -999.0,9,     -999.0,9,     -999.0,9,   0.4070,20141210,       2139
06AQ20141202,        A12,      12,          2,          3,2,20141210,       2122,   -53.5235,     0.0028,       2601,  2027.2,   0.4550,  34.6845,2,  34.6837,2,    206.1,2,   211.4,2,  124.25,2,   32.87,2,    0.00,2,    2.26,2,  2260.0,2,  2359.1,2,   7.5863,2,    25.00,     -999.0,9,     -999.0,9,     -999.0,9,     -999.0,9,     -999.0,9,     -999.0,9,     -999.0,9,     -999.0,9,     -999.0,9,     -999.0,9,     -999.0,9,     -999.0,9,     -999.0,9,     -999.0,9,     -999.0,9,     -999.0,9,     -999.0,9,     -999.0,9,     -999.0,9,     -999.0,9,     -999.0,9,     -999.0,9,     -999.0,9,     -999.0,9,     -999.0,9,     -999.0,9,     -999.0,9,     -999.0,9,   0.3401,20141210,       2134
06AQ20141202,        A12,      12,          2,          2,2,20141210,       2122,   -53.5235,     0.0028,       2601,  2232.5,   0.4179,  34.6826,2,  34.6820,2,    206.7,2,   212.0,2,  126.69,2,   32.90,2,    0.00,2,    2.27,2,  2263.6,2,  2358.9,2,   7.5873,2,    25.00,     -999.0,9,     -999.0,9,     -999.0,9,     -999.0,9,     -999.0,9,     -999.0,9,     -999.0,9,     -999.0,9,     -999.0,9,     -999.0,9,     -999.0,9,     -999.0,9,     -999.0,9,     -999.0,9,     -999.0,9,     -999.0,9,     -999.0,9,     -999.0,9,     -999.0,9,     -999.0,9,     -999.0,9,     -999.0,9,     -999.0,9,     -999.0,9,     -999.0,9,     -999.0,9,     -999.0,9,     -999.0,9,   0.2883,20141210,       2129
06AQ20141202,        A12,      12,          2,          1,2,20141210,       2122,   -53.5235,     0.0028,       2601,  2590.6,   0.4070,  34.6815,2,  34.6804,2,    206.6,2,   212.3,2,  131.67,2,   32.98,2,    0.00,2,    2.28,2,  2260.0,2,  2359.2,2,   7.5845,2,    25.00,     -999.0,9,     -999.0,9,     -999.0,9,     -999.0,9,     -999.0,9,     -999.0,9,     -999.0,9,     -999.0,9,     -999.0,9,     -999.0,9,     -999.0,9,     -999.0,9,     -999.0,9,     -999.0,9,     -999.0,9,     -999.0,9,     -999.0,9,     -999.0,9,     -999.0,9,     -999.0,9,     -999.0,9,     -999.0,9,     -999.0,9,     -999.0,9,     -999.0,9,     -999.0,9,     -999.0,9,     -999.0,9,   0.2492,20141210,       2122