BOTTLE,20220815CCHSIOAMB
EXPOCODE,SECT_ID,STNNBR,CASTNO,BTLNBR,BTLNBR_FLAG_W,DATE,TIME,LATITUDE,LONGITUDE,DEPTH,CTDPRS,CTDTMP,CTDSAL,CTDSAL_FLAG_W,SALNTY,SALNTY_FLAG_W,CTDOXY,CTDOXY_FLAG_W,OXYGEN,OXYGEN_FLAG_W,SILCAT,SILCAT_FLAG_W,NITRAT,NITRAT_FLAG_W,NITRIT,NITRIT_FLAG_W,PHSPHT,PHSPHT_FLAG_W,TCARBN,TCARBN_FLAG_W,ALKALI,ALKALI_FLAG_W,PH_TOT,PH_TOT_FLAG_W,PH_TMP,POC,POC_FLAG_W,PON,PON_FLAG_W,FUCO,FUCO_FLAG_W,ALPHA-BETA-CAR,ALPHA-BETA-CAR_FLAG_W,ALLO,ALLO_FLAG_W,BUT-FUCO,BUT-FUCO_FLAG_W,CHL_C1C2,CHL_C1C2_FLAG_W,CHL_C3,CHL_C3_FLAG_W,CHLIDE_A,CHLIDE_A_FLAG_W,DIADINO,DIADINO_FLAG_W,DIATO,DIATO_FLAG_W,DV_CHL_A,DV_CHL_A_FLAG_W,DV_CHL_B,DV_CHL_B_FLAG_W,GYRO,GYRO_FLAG_W,HEX-FUCO,HEX-FUCO_FLAG_W,LUT,LUT_FLAG_W,MV_CHL_A,MV_CHL_A_FLAG_W,MV_CHL_B,MV_CHL_B_FLAG_W,NEO,NEO_FLAG_W,PERID,PERID_FLAG_W,PHIDE_A,PHIDE_A_FLAG_W,PHYTIN_A,PHYTIN_A_FLAG_W,PRAS,PRAS_FLAG_W,TOT_CHL_A,TOT_CHL_A_FLAG_W,TOT_CHL_B,TOT_CHL_B_FLAG_W,TOT_CHL_C,TOT_CHL_C_FLAG_W,VIOLA,VIOLA_FLAG_W,ZEA,ZEA_FLAG_W,THETA,BTL_DATE,BTL_TIME
,,,,,,,,,,METERS,DBAR,ITS-90,PSS-78,,PSS-78,,UMOL/KG,,UMOL/KG,,UMOL/KG,,UMOL/KG,,UMOL/KG,,UMOL/KG,,UMOL/KG,,UMOL/KG,,,,DEG C,uG/KG,,ug/kg,,NMOL/KG,,MG/M^3,,MG/M^3,,MG/M^3,,MG/M^3,,MG/M^3,,MG/M^3,,MG/M^3,,MG/M^3,,MG/M^3,,MG/M^3,,MG/M^3,,MG/M^3,,MG/M^3,,MG/M^3,,MG/M^3,,MG/M^3,,MG/M^3,,MG/M^3,,MG/M^3,,MG/M^3,,MG/M^3,,MG/M^3,,MG/M^3,,MG/M^3,,MG/M^3,,DEG C,,
06AQ20141202,        A12,       3,          1,         24,2,20141205,       1813,   -41.1625,     9.9230,       4708,    14.7,  13.0308,  34.5045,2,-999.0000,9,    275.1,2,   275.8,2,    0.00,2,    6.18,2,    0.10,2,    0.57,2,  2071.2,2,  2285.3,2,-999.0000,9,  -999.00,     -999.0,9,     -999.0,9,     -999.0,9,     -999.0,9,     -999.0,9,     -999.0,9,     -999.0,9,     -999.0,9,     -999.0,9,     -999.0,9,     -999.0,9,     -999.0,9,     -999.0,9,     -999.0,9,     -999.0,9,     -999.0,9,     -999.0,9,     -999.0,9,     -999.0,9,     -999.0,9,     -999.0,9,     -999.0,9,     -999.0,9,     -999.0,9,     -999.0,9,     -999.0,9,     -999.0,9,     -999.0,9,  13.0288,20141205,       1954
06AQ20141202,        A12,       3,          1,         23,2,20141205,       1813,   -41.1625,     9.9230,       4708,    22.1,  13.0023,  34.5131,2,-999.0000,9,    275.5,2,   276.4,2,    0.10,2,    6.09,2,    0.09,2,    0.58,2,  2071.6,2,  2284.4,2,-999.0000,9,  -999.00,     -999.0,9,     -999.0,9,     -999.0,9,     -999.0,9,     -999.0,9,     -999.0,9,     -999.0,9,     -999.0,9,     -999.0,9,     -999.0,9,     -999.0,9,     -999.0,9,     -999.0,9,     -999.0,9,     -999.0,9,     -999.0,9,     -999.0,9,     -999.0,9,     -999.0,9,     -999.0,9,     -999.0,9,     -999.0,9,     -999.0,9,     -999.0,9,     -999.0,9,     -999.0,9,     -999.0,9,     -999.0,9,  12.9993,20141205,       1954
06AQ20141202,        A12,       3,          1,         22,2,20141205,       1813,   -41.1625,     9.9230,       4708,    49.9,  11.0282,  34.5336,2,-999.0000,9,    282.8,2,   278.7,2,    0.78,2,    8.25,2,    0.20,2,    0.71,2,  2087.2,2,  2289.0,2,-999.0000,9,  -999.00,     -999.0,9,     -999.0,9,     -999.0,9,     -999.0,9,     -999.0,9,     -999.0,9,     -999.0,9,     -999.0,9,     -999.0,9,     -999.0,9,     -999.0,9,     -999.0,9,     -999.0,9,     -999.0,9,     -999.0,9,     -999.0,9,     -999.0,9,     -999.0,9,     -999.0,9,     -999.0,9,     -999.0,9,     -999.0,9,     -999.0,9,     -999.0,9,     -999.0,9,     -999.0,9,     -999.0,9,     -999.0,9,  11.0221,20141205,       1952
06AQ20141202,        A12,       3,          1,         21,2,20141205,       1813,   -41.1625,     9.9230,       4708,    75.4,  10.7733,  34.5888,2,-999.0000,9,    268.2,2,   269.8,2,    0.59,2,    8.50,2,    0.39,2,    0.73,2,  2095.0,2,  2287.2,2,-999.0000,9,  -999.00,     -999.0,9,     -999.0,9,     -999.0,9,     -999.0,9,     -999.0,9,     -999.0,9,     -999.0,9,     -999.0,9,     -999.0,9,     -999.0,9,     -999.0,9,     -999.0,9,     -999.0,9,     -999.0,9,     -999.0,9,     -999.0,9,     -999.0,9,     -999.0,9,     -999.0,9,     -999.0,9,     -999.0,9,     -999.0,9,     -999.0,9,     -999.0,9,     -999.0,9,     -999.0,9,     -999.0,9,     -999.0,9,  10.7642,20141205,       1951
06AQ20141202,        A12,       3,          1,         20,2,20141205,       1813,   -41.1625,     9.9230,       4708,   100.6,  10.1738,  34.5441,2,-999.0000,9,    262.2,2,   264.2,2,    0.49,2,   11.08,2,    0.08,2,    0.86,2,  2101.8,2,  2285.6,2,-999.0000,9,  -999.00,     -999.0,9,     -999.0,9,     -999.0,9,     -999.0,9,     -999.0,9,     -999.0,9,     -999.0,9,     -999.0,9,     -999.0,9,     -999.0,9,     -999.0,9,     -999.0,9,     -999.0,9,     -999.0,9,     -999.0,9,     -999.0,9,     -999.0,9,     -999.0,9,     -999.0,9,     -999.0,9,     -999.0,9,     -999.0,9,     -999.0,9,     -999.0,9,     -999.0,9,     -999.0,9,     -999.0,9,     -999.0,9,  10.1621,20141205,       1950
06AQ20141202,        A12,       3,          1,         19,2,20141205,       1813,   -41.1625,     9.9230,       4708,   150.3,   9.2976,  34.4514,2,-999.0000,9,    267.2,2,   269.3,2,    0.98,2,   13.02,2,    0.00,2,    0.98,2,  2108.1,2,  2279.8,2,-999.0000,9,  -999.00,     -999.0,9,     -999.0,9,     -999.0,9,     -999.0,9,     -999.0,9,     -999.0,9,     -999.0,9,     -999.0,9,     -999.0,9,     -999.0,9,     -999.0,9,     -999.0,9,     -999.0,9,     -999.0,9,     -999.0,9,     -999.0,9,     -999.0,9,     -999.0,9,     -999.0,9,     -999.0,9,     -999.0,9,     -999.0,9,     -999.0,9,     -999.0,9,     -999.0,9,     -999.0,9,     -999.0,9,     -999.0,9,   9.2811,20141205,       1949
06AQ20141202,        A12,       3,          1,         18,2,20141205,       1813,   -41.1625,     9.9230,       4708,   200.6,   9.1744,  34.5067,2,-999.0000,9,    260.5,2,   261.6,2,    1.17,2,   13.91,2,    0.00,2,    1.02,2,  2116.6,2,  2279.6,2,-999.0000,9,  -999.00,     -999.0,9,     -999.0,9,     -999.0,9,     -999.0,9,     -999.0,9,     -999.0,9,     -999.0,9,     -999.0,9,     -999.0,9,     -999.0,9,     -999.0,9,     -999.0,9,     -999.0,9,     -999.0,9,     -999.0,9,     -999.0,9,     -999.0,9,     -999.0,9,     -999.0,9,     -999.0,9,     -999.0,9,     -999.0,9,     -999.0,9,     -999.0,9,     -999.0,9,     -999.0,9,     -999.0,9,     -999.0,9,   9.1525,20141205,       1947
06AQ20141202,        A12,       3,          1,         17,2,20141205,       1813,   -41.1625,     9.9230,       4708,   303.1,   8.3450,  34.5165,2,-999.0000,9,    236.1,2,   237.2,2,    4.00,2,   18.64,2,    0.00,2,    1.30,2,  2141.7,2,  2284.4,2,-999.0000,9,  -999.00,     -999.0,9,     -999.0,9,     -999.0,9,     -999.0,9,     -999.0,9,     -999.0,9,     -999.0,9,     -999.0,9,     -999.0,9,     -999.0,9,     -999.0,9,     -999.0,9,     -999.0,9,     -999.0,9,     -999.0,9,     -999.0,9,     -999.0,9,     -999.0,9,     -999.0,9,     -999.0,9,     -999.0,9,     -999.0,9,     -999.0,9,     -999.0,9,     -999.0,9,     -999.0,9,     -999.0,9,     -999.0,9,   8.3135,20141205,       1945
06AQ20141202,        A12,       3,          1,         16,2,20141205,       1813,   -41.1625,     9.9230,       4708,   384.4,   7.6100,  34.4926,2,-999.0000,9,    218.1,2,   219.8,2,    8.79,2,   22.39,2,    0.00,2,    1.54,2,  2156.0,2,  2285.2,2,-999.0000,9,  -999.00,     -999.0,9,     -999.0,9,     -999.0,9,     -999.0,9,     -999.0,9,     -999.0,9,     -999.0,9,     -999.0,9,     -999.0,9,     -999.0,9,     -999.0,9,     -999.0,9,     -999.0,9,     -999.0,9,     -999.0,9,     -999.0,9,     -999.0,9,     -999.0,9,     -999.0,9,     -999.0,9,     -999.0,9,     -999.0,9,     -999.0,9,     -999.0,9,     -999.0,9,     -999.0,9,     -999.0,9,     -999.0,9,   7.5720,20141205,       1943
06AQ20141202,        A12,       3,          1,         15,2,20141205,       1813,   -41.1625,     9.9230,       4708,   606.4,   4.2951,  34.1814,2,-999.0000,9,    249.3,2,   251.6,2,   15.13,2,   27.73,2,    0.00,2,    1.91,2,  2166.2,2,  2277.2,2,-999.0000,9,  -999.00,     -999.0,9,     -999.0,9,     -999.0,9,     -999.0,9,     -999.0,9,     -999.0,9,     -999.0,9,     -999.0,9,     -999.0,9,     -999.0,9,     -999.0,9,     -999.0,9,     -999.0,9,     -999.0,9,     -999.0,9,     -999.0,9,     -999.0,9,     -999.0,9,     -999.0,9,     -999.0,9,     -999.0,9,     -999.0,9,     -999.0,9,     -999.0,9,     -999.0,9,     -999.0,9,     -999.0,9,     -999.0,9,   4.2500,20141205,       1938
06AQ20141202,        A12,       3,          1,         14,2,20141205,       1813,   -41.1625,     9.9230,       4708,   809.2,   3.7216,  34.2609,2,-999.0000,9,    221.4,2,   224.8,2,   28.71,2,   30.53,2,    0.00,2,    2.12,2,  2190.0,2,  2285.3,2,-999.0000,9,  -999.00,     -999.0,9,     -999.0,9,     -999.0,9,     -999.0,9,     -999.0,9,     -999.0,9,     -999.0,9,     -999.0,9,     -999.0,9,     -999.0,9,     -999.0,9,     -999.0,9,     -999.0,9,     -999.0,9,     -999.0,9,     -999.0,9,     -999.0,9,     -999.0,9,     -999.0,9,     -999.0,9,     -999.0,9,     -999.0,9,     -999.0,9,     -999.0,9,     -999.0,9,     -999.0,9,     -999.0,9,     -999.0,9,   3.6636,20141205,       1934
06AQ20141202,        A12,       3,          1,         13,2,20141205,       1813,   -41.1625,     9.9230,       4708,   909.2,   3.4707,  34.3151,2,-999.0000,9,    206.5,2,   210.4,2,   37.10,2,   31.92,2,    0.00,2,    2.21,2,  2205.9,2,  2294.7,2,-999.0000,9,  -999.00,     -999.0,9,     -999.0,9,     -999.0,9,     -999.0,9,     -999.0,9,     -999.0,9,     -999.0,9,     -999.0,9,     -999.0,9,     -999.0,9,     -999.0,9,     -999.0,9,     -999.0,9,     -999.0,9,     -999.0,9,     -999.0,9,     -999.0,9,     -999.0,9,     -999.0,9,     -999.0,9,     -999.0,9,     -999.0,9,     -999.0,9,     -999.0,9,     -999.0,9,     -999.0,9,     -999.0,9,     -999.0,9,   3.4065,20141205,       1932
06AQ20141202,        A12,       3,          1,         12,2,20141205,       1813,   -41.1625,     9.9230,       4708,  1011.3,   3.4150,  34.3945,2,-999.0000,9,    189.3,2,   192.9,2,   46.37,2,   32.81,2,    0.00,2,    2.29,2,  2218.9,2,  2306.9,2,-999.0000,9,  -999.00,     -999.0,9,     -999.0,9,     -999.0,9,     -999.0,9,     -999.0,9,     -999.0,9,     -999.0,9,     -999.0,9,     -999.0,9,     -999.0,9,     -999.0,9,     -999.0,9,     -999.0,9,     -999.0,9,     -999.0,9,     -999.0,9,     -999.0,9,     -999.0,9,     -999.0,9,     -999.0,9,     -999.0,9,     -999.0,9,     -999.0,9,     -999.0,9,     -999.0,9,     -999.0,9,     -999.0,9,     -999.0,9,   3.3432,20141205,       1929
06AQ20141202,        A12,       3,          1,         11,2,20141205,       1813,   -41.1625,     9.9230,       4708,  1417.1,   2.9370,  34.6185,2,-999.0000,9,    173.1,2,   177.1,2,   63.74,2,   32.42,2,    0.00,2,    2.25,2,  2240.5,2,  2328.1,2,-999.0000,9,  -999.00,     -999.0,9,     -999.0,9,     -999.0,9,     -999.0,9,     -999.0,9,     -999.0,9,     -999.0,9,     -999.0,9,     -999.0,9,     -999.0,9,     -999.0,9,     -999.0,9,     -999.0,9,     -999.0,9,     -999.0,9,     -999.0,9,     -999.0,9,     -999.0,9,     -999.0,9,     -999.0,9,     -999.0,9,     -999.0,9,     -999.0,9,     -999.0,9,     -999.0,9,     -999.0,9,     -999.0,9,     -999.0,9,   2.8366,20141205,       1921
06AQ20141202,        A12,       3,          1,         10,2,20141205,       1813,   -41.1625,     9.9230,       4708,  2025.7,   2.6597,  34.7980,2,-999.0000,9,    203.6,2,   209.0,2,   55.53,2,   27.22,2,    0.00,2,    1.86,2,  2218.4,2,  2328.4,2,-999.0000,9,  -999.00,     -999.0,9,     -999.0,9,     -999.0,9,     -999.0,9,     -999.0,9,     -999.0,9,     -999.0,9,     -999.0,9,     -999.0,9,     -999.0,9,     -999.0,9,     -999.0,9,     -999.0,9,     -999.0,9,     -999.0,9,     -999.0,9,     -999.0,9,     -999.0,9,     -999.0,9,     -999.0,9,     -999.0,9,     -999.0,9,     -999.0,9,     -999.0,9,     -999.0,9,     -999.0,9,     -999.0,9,     -999.0,9,   2.5104,20141205,       1910
06AQ20141202,        A12,       3,          1,          9,2,20141205,       1813,   -41.1625,     9.9230,       4708,  2535.3,   2.4020,  34.8331,2,-999.0000,9,    216.4,2,   223.4,2,   56.80,2,   25.64,2,    0.00,2,    1.76,2,  2213.7,2,  2332.1,2,-999.0000,9,  -999.00,     -999.0,9,     -999.0,9,     -999.0,9,     -999.0,9,     -999.0,9,     -999.0,9,     -999.0,9,     -999.0,9,     -999.0,9,     -999.0,9,     -999.0,9,     -999.0,9,     -999.0,9,     -999.0,9,     -999.0,9,     -999.0,9,     -999.0,9,     -999.0,9,     -999.0,9,     -999.0,9,     -999.0,9,     -999.0,9,     -999.0,9,     -999.0,9,     -999.0,9,     -999.0,9,     -999.0,9,     -999.0,9,   2.2101,20141205,       1900
06AQ20141202,        A12,       3,          1,          8,2,20141205,       1813,   -41.1625,     9.9230,       4708,  3046.2,   2.1427,  34.8301,2,-999.0000,9,    218.5,2,   226.4,2,   63.44,2,   25.78,2,    0.00,2,    1.78,2,  2215.5,2,  2337.9,2,-999.0000,9,  -999.00,     -999.0,9,     -999.0,9,     -999.0,9,     -999.0,9,     -999.0,9,     -999.0,9,     -999.0,9,     -999.0,9,     -999.0,9,     -999.0,9,     -999.0,9,     -999.0,9,     -999.0,9,     -999.0,9,     -999.0,9,     -999.0,9,     -999.0,9,     -999.0,9,     -999.0,9,     -999.0,9,     -999.0,9,     -999.0,9,     -999.0,9,     -999.0,9,     -999.0,9,     -999.0,9,     -999.0,9,     -999.0,9,   1.9064,20141205,       1850
06AQ20141202,        A12,       3,          1,          7,2,20141205,       1813,   -41.1625,     9.9230,       4708,  3556.7,   1.5781,  34.7810,2,-999.0000,9,    213.6,2,   221.6,2,   85.20,2,   28.26,2,    0.00,2,    1.95,2,  2236.7,2,  2343.3,2,-999.0000,9,  -999.00,     -999.0,9,     -999.0,9,     -999.0,9,     -999.0,9,     -999.0,9,     -999.0,9,     -999.0,9,     -999.0,9,     -999.0,9,     -999.0,9,     -999.0,9,     -999.0,9,     -999.0,9,     -999.0,9,     -999.0,9,     -999.0,9,     -999.0,9,     -999.0,9,     -999.0,9,     -999.0,9,     -999.0,9,     -999.0,9,     -999.0,9,     -999.0,9,     -999.0,9,     -999.0,9,     -999.0,9,     -999.0,9,   1.3035,20141205,       1841
06AQ20141202,        A12,       3,          1,          6,2,20141205,       1813,   -41.1625,     9.9230,       4708,  3863.8,   1.2064,  34.7486,2,-999.0000,9,    211.5,2,   219.3,2,   99.46,2,   29.81,2,    0.00,2,    2.06,2,  2248.8,2,  2356.7,2,-999.0000,9,  -999.00,     -999.0,9,     -999.0,9,     -999.0,9,     -999.0,9,     -999.0,9,     -999.0,9,     -999.0,9,     -999.0,9,     -999.0,9,     -999.0,9,     -999.0,9,     -999.0,9,     -999.0,9,     -999.0,9,     -999.0,9,     -999.0,9,     -999.0,9,     -999.0,9,     -999.0,9,     -999.0,9,     -999.0,9,     -999.0,9,     -999.0,9,     -999.0,9,     -999.0,9,     -999.0,9,     -999.0,9,     -999.0,9,   0.9098,20141205,       1835
06AQ20141202,        A12,       3,          1,          5,2,20141205,       1813,   -41.1625,     9.9230,       4708,  4071.7,   1.1237,  34.7399,2,-999.0000,9,    211.2,2,   219.7,2,  103.07,2,   30.21,2,    0.00,2,    2.10,2,  2251.2,2,  2369.4,2,-999.0000,9,  -999.00,     -999.0,9,     -999.0,9,     -999.0,9,     -999.0,9,     -999.0,9,     -999.0,9,     -999.0,9,     -999.0,9,     -999.0,9,     -999.0,9,     -999.0,9,     -999.0,9,     -999.0,9,     -999.0,9,     -999.0,9,     -999.0,9,     -999.0,9,     -999.0,9,     -999.0,9,     -999.0,9,     -999.0,9,     -999.0,9,     -999.0,9,     -999.0,9,     -999.0,9,     -999.0,9,     -999.0,9,     -999.0,9,   0.8073,20141205,       1830
06AQ20141202,        A12,       3,          1,          4,2,20141205,       1813,   -41.1625,     9.9230,       4708,  4377.7,   1.0413,  34.7307,2,-999.0000,9,    212.1,2,   219.2,2,  106.88,2,   30.63,2,    0.00,2,    2.13,2,  2254.4,2,  2358.0,2,-999.0000,9,  -999.00,     -999.0,9,     -999.0,9,     -999.0,9,     -999.0,9,     -999.0,9,     -999.0,9,     -999.0,9,     -999.0,9,     -999.0,9,     -999.0,9,     -999.0,9,     -999.0,9,     -999.0,9,     -999.0,9,     -999.0,9,     -999.0,9,     -999.0,9,     -999.0,9,     -999.0,9,     -999.0,9,     -999.0,9,     -999.0,9,     -999.0,9,     -999.0,9,     -999.0,9,     -999.0,9,     -999.0,9,     -999.0,9,   0.6939,20141205,       1824
06AQ20141202,        A12,       3,          1,          3,2,20141205,       1813,   -41.1625,     9.9230,       4708,  4584.6,   1.0238,  34.7271,2,-999.0000,9,    211.2,2,   219.0,2,  108.24,2,   30.77,2,    0.00,2,    2.16,2,  2251.1,2,  2352.5,2,-999.0000,9,  -999.00,     -999.0,9,     -999.0,9,     -999.0,9,     -999.0,9,     -999.0,9,     -999.0,9,     -999.0,9,     -999.0,9,     -999.0,9,     -999.0,9,     -999.0,9,     -999.0,9,     -999.0,9,     -999.0,9,     -999.0,9,     -999.0,9,     -999.0,9,     -999.0,9,     -999.0,9,     -999.0,9,     -999.0,9,     -999.0,9,     -999.0,9,     -999.0,9,     -999.0,9,     -999.0,9,     -999.0,9,     -999.0,9,   0.6537,20141205,       1820
06AQ20141202,        A12,       3,          1,          2,2,20141205,       1813,   -41.1625,     9.9230,       4708,  4690.2,   1.0254,  34.7260,2,-999.0000,9,    211.5,2,   219.0,2,  108.63,2,   30.79,2,    0.00,2,    2.14,2,  2253.6,2,  2365.8,2,-999.0000,9,  -999.00,     -999.0,9,     -999.0,9,     -999.0,9,     -999.0,9,     -999.0,9,     -999.0,9,     -999.0,9,     -999.0,9,     -999.0,9,     -999.0,9,     -999.0,9,     -999.0,9,     -999.0,9,     -999.0,9,     -999.0,9,     -999.0,9,     -999.0,9,     -999.0,9,     -999.0,9,     -999.0,9,     -999.0,9,     -999.0,9,     -999.0,9,     -999.0,9,     -999.0,9,     -999.0,9,     -999.0,9,     -999.0,9,   0.6432,20141205,       1817
06AQ20141202,        A12,       3,          1,          1,2,20141205,       1813,   -41.1625,     9.9230,       4708,  4697.5,   1.0264,  34.7263,2,-999.0000,9,    212.0,2,   219.3,2,  108.63,2,   30.78,2,    0.00,2,    2.20,2,  2255.2,2,  2361.4,2,-999.0000,9,  -999.00,     -999.0,9,     -999.0,9,     -999.0,9,     -999.0,9,     -999.0,9,     -999.0,9,     -999.0,9,     -999.0,9,     -999.0,9,     -999.0,9,     -999.0,9,     -999.0,9,     -999.0,9,     -999.0,9,     -999.0,9,     -999.0,9,     -999.0,9,     -999.0,9,     -999.0,9,     -999.0,9,     -999.0,9,     -999.0,9,     -999.0,9,     -999.0,9,     -999.0,9,     -999.0,9,     -999.0,9,     -999.0,9,   0.6433,20141205,       1813