BOTTLE,20220815CCHSIOAMB
EXPOCODE,SECT_ID,STNNBR,CASTNO,BTLNBR,BTLNBR_FLAG_W,DATE,TIME,LATITUDE,LONGITUDE,DEPTH,CTDPRS,CTDTMP,CTDSAL,CTDSAL_FLAG_W,SALNTY,SALNTY_FLAG_W,CTDOXY,CTDOXY_FLAG_W,OXYGEN,OXYGEN_FLAG_W,SILCAT,SILCAT_FLAG_W,NITRAT,NITRAT_FLAG_W,NITRIT,NITRIT_FLAG_W,PHSPHT,PHSPHT_FLAG_W,TCARBN,TCARBN_FLAG_W,ALKALI,ALKALI_FLAG_W,PH_TOT,PH_TOT_FLAG_W,PH_TMP,POC,POC_FLAG_W,PON,PON_FLAG_W,FUCO,FUCO_FLAG_W,ALPHA-BETA-CAR,ALPHA-BETA-CAR_FLAG_W,ALLO,ALLO_FLAG_W,BUT-FUCO,BUT-FUCO_FLAG_W,CHL_C1C2,CHL_C1C2_FLAG_W,CHL_C3,CHL_C3_FLAG_W,CHLIDE_A,CHLIDE_A_FLAG_W,DIADINO,DIADINO_FLAG_W,DIATO,DIATO_FLAG_W,DV_CHL_A,DV_CHL_A_FLAG_W,DV_CHL_B,DV_CHL_B_FLAG_W,GYRO,GYRO_FLAG_W,HEX-FUCO,HEX-FUCO_FLAG_W,LUT,LUT_FLAG_W,MV_CHL_A,MV_CHL_A_FLAG_W,MV_CHL_B,MV_CHL_B_FLAG_W,NEO,NEO_FLAG_W,PERID,PERID_FLAG_W,PHIDE_A,PHIDE_A_FLAG_W,PHYTIN_A,PHYTIN_A_FLAG_W,PRAS,PRAS_FLAG_W,TOT_CHL_A,TOT_CHL_A_FLAG_W,TOT_CHL_B,TOT_CHL_B_FLAG_W,TOT_CHL_C,TOT_CHL_C_FLAG_W,VIOLA,VIOLA_FLAG_W,ZEA,ZEA_FLAG_W,THETA,BTL_DATE,BTL_TIME
,,,,,,,,,,METERS,DBAR,ITS-90,PSS-78,,PSS-78,,UMOL/KG,,UMOL/KG,,UMOL/KG,,UMOL/KG,,UMOL/KG,,UMOL/KG,,UMOL/KG,,UMOL/KG,,,,DEG C,uG/KG,,ug/kg,,NMOL/KG,,MG/M^3,,MG/M^3,,MG/M^3,,MG/M^3,,MG/M^3,,MG/M^3,,MG/M^3,,MG/M^3,,MG/M^3,,MG/M^3,,MG/M^3,,MG/M^3,,MG/M^3,,MG/M^3,,MG/M^3,,MG/M^3,,MG/M^3,,MG/M^3,,MG/M^3,,MG/M^3,,MG/M^3,,MG/M^3,,MG/M^3,,MG/M^3,,MG/M^3,,DEG C,,
06AQ20141202,        A12,       4,          2,         24,2,20141206,       1100,   -42.9765,     8.5093,       4765,    16.3,   9.6974,  34.1237,2,-999.0000,9,    297.9,2,   298.8,2,    0.68,2,   14.85,2,    0.23,2,    1.04,2,  2092.3,2,  2273.3,2,-999.0000,9,  -999.00,     -999.0,9,     -999.0,9,     -999.0,9,     -999.0,9,     -999.0,9,     -999.0,9,     -999.0,9,     -999.0,9,     -999.0,9,     -999.0,9,     -999.0,9,     -999.0,9,     -999.0,9,     -999.0,9,     -999.0,9,     -999.0,9,     -999.0,9,     -999.0,9,     -999.0,9,     -999.0,9,     -999.0,9,     -999.0,9,     -999.0,9,     -999.0,9,     -999.0,9,     -999.0,9,     -999.0,9,     -999.0,9,   9.6956,20141206,       1235
06AQ20141202,        A12,       4,          2,         23,2,20141206,       1100,   -42.9765,     8.5093,       4765,    25.7,   9.6867,  34.1225,2,-999.0000,9,    297.7,2,   298.6,2,    0.39,2,   14.86,2,    0.22,2,    1.07,2,  2091.4,2,  2271.7,2,-999.0000,9,  -999.00,     -999.0,9,     -999.0,9,     -999.0,9,     -999.0,9,     -999.0,9,     -999.0,9,     -999.0,9,     -999.0,9,     -999.0,9,     -999.0,9,     -999.0,9,     -999.0,9,     -999.0,9,     -999.0,9,     -999.0,9,     -999.0,9,     -999.0,9,     -999.0,9,     -999.0,9,     -999.0,9,     -999.0,9,     -999.0,9,     -999.0,9,     -999.0,9,     -999.0,9,     -999.0,9,     -999.0,9,     -999.0,9,   9.6838,20141206,       1234
06AQ20141202,        A12,       4,          2,         22,2,20141206,       1100,   -42.9765,     8.5093,       4765,    49.9,   7.8592,  34.1185,2,-999.0000,9,    308.7,2,   309.0,2,    1.56,2,   16.28,2,    0.18,2,    1.17,2,  2102.9,2,  2271.8,2,-999.0000,9,  -999.00,     -999.0,9,     -999.0,9,     -999.0,9,     -999.0,9,     -999.0,9,     -999.0,9,     -999.0,9,     -999.0,9,     -999.0,9,     -999.0,9,     -999.0,9,     -999.0,9,     -999.0,9,     -999.0,9,     -999.0,9,     -999.0,9,     -999.0,9,     -999.0,9,     -999.0,9,     -999.0,9,     -999.0,9,     -999.0,9,     -999.0,9,     -999.0,9,     -999.0,9,     -999.0,9,     -999.0,9,     -999.0,9,   7.8543,20141206,       1233
06AQ20141202,        A12,       4,          2,         21,2,20141206,       1100,   -42.9765,     8.5093,       4765,    75.2,   7.4326,  34.1507,2,-999.0000,9,    300.5,2,   301.0,2,    2.05,2,   16.83,2,    0.21,2,    1.22,2,  2109.8,2,  2270.5,2,-999.0000,9,  -999.00,     -999.0,9,     -999.0,9,     -999.0,9,     -999.0,9,     -999.0,9,     -999.0,9,     -999.0,9,     -999.0,9,     -999.0,9,     -999.0,9,     -999.0,9,     -999.0,9,     -999.0,9,     -999.0,9,     -999.0,9,     -999.0,9,     -999.0,9,     -999.0,9,     -999.0,9,     -999.0,9,     -999.0,9,     -999.0,9,     -999.0,9,     -999.0,9,     -999.0,9,     -999.0,9,     -999.0,9,     -999.0,9,   7.4255,20141206,       1231
06AQ20141202,        A12,       4,          2,         20,2,20141206,       1100,   -42.9765,     8.5093,       4765,   102.3,   7.4855,  34.2022,2,-999.0000,9,    291.0,2,   289.9,2,    1.86,2,   16.63,2,    0.30,2,    1.23,2,  2112.7,2,  2273.3,2,-999.0000,9,  -999.00,     -999.0,9,     -999.0,9,     -999.0,9,     -999.0,9,     -999.0,9,     -999.0,9,     -999.0,9,     -999.0,9,     -999.0,9,     -999.0,9,     -999.0,9,     -999.0,9,     -999.0,9,     -999.0,9,     -999.0,9,     -999.0,9,     -999.0,9,     -999.0,9,     -999.0,9,     -999.0,9,     -999.0,9,     -999.0,9,     -999.0,9,     -999.0,9,     -999.0,9,     -999.0,9,     -999.0,9,     -999.0,9,   7.4757,20141206,       1230
06AQ20141202,        A12,       4,          2,         19,2,20141206,       1100,   -42.9765,     8.5093,       4765,   151.6,   7.9466,  34.3970,2,-999.0000,9,    265.8,2,   268.2,2,    2.15,2,   16.89,2,    0.01,2,    1.19,2,  2130.0,2,  2277.3,2,-999.0000,9,  -999.00,     -999.0,9,     -999.0,9,     -999.0,9,     -999.0,9,     -999.0,9,     -999.0,9,     -999.0,9,     -999.0,9,     -999.0,9,     -999.0,9,     -999.0,9,     -999.0,9,     -999.0,9,     -999.0,9,     -999.0,9,     -999.0,9,     -999.0,9,     -999.0,9,     -999.0,9,     -999.0,9,     -999.0,9,     -999.0,9,     -999.0,9,     -999.0,9,     -999.0,9,     -999.0,9,     -999.0,9,     -999.0,9,   7.9315,20141206,       1228
06AQ20141202,        A12,       4,          2,         18,2,20141206,       1100,   -42.9765,     8.5093,       4765,   201.2,   7.0868,  34.3285,2,-999.0000,9,    258.4,2,   260.0,2,    4.30,2,   20.12,2,    0.00,2,    1.41,2,  2140.8,2,  2276.7,2,-999.0000,9,  -999.00,     -999.0,9,     -999.0,9,     -999.0,9,     -999.0,9,     -999.0,9,     -999.0,9,     -999.0,9,     -999.0,9,     -999.0,9,     -999.0,9,     -999.0,9,     -999.0,9,     -999.0,9,     -999.0,9,     -999.0,9,     -999.0,9,     -999.0,9,     -999.0,9,     -999.0,9,     -999.0,9,     -999.0,9,     -999.0,9,     -999.0,9,     -999.0,9,     -999.0,9,     -999.0,9,     -999.0,9,     -999.0,9,   7.0680,20141206,       1227
06AQ20141202,        A12,       4,          2,         17,2,20141206,       1100,   -42.9765,     8.5093,       4765,   301.8,   5.6957,  34.2547,2,-999.0000,9,    247.5,2,   249.4,2,    8.01,2,   24.90,2,    0.00,2,    1.69,2,  2160.5,2,  2273.5,2,-999.0000,9,  -999.00,     -999.0,9,     -999.0,9,     -999.0,9,     -999.0,9,     -999.0,9,     -999.0,9,     -999.0,9,     -999.0,9,     -999.0,9,     -999.0,9,     -999.0,9,     -999.0,9,     -999.0,9,     -999.0,9,     -999.0,9,     -999.0,9,     -999.0,9,     -999.0,9,     -999.0,9,     -999.0,9,     -999.0,9,     -999.0,9,     -999.0,9,     -999.0,9,     -999.0,9,     -999.0,9,     -999.0,9,     -999.0,9,   5.6706,20141206,       1224
06AQ20141202,        A12,       4,          2,         16,2,20141206,       1100,   -42.9765,     8.5093,       4765,   403.8,   4.6532,  34.1837,2,-999.0000,9,    253.0,2,   255.6,2,   11.81,2,   26.98,2,    0.00,2,    1.84,2,  2166.4,2,  2276.8,2,-999.0000,9,  -999.00,     -999.0,9,     -999.0,9,     -999.0,9,     -999.0,9,     -999.0,9,     -999.0,9,     -999.0,9,     -999.0,9,     -999.0,9,     -999.0,9,     -999.0,9,     -999.0,9,     -999.0,9,     -999.0,9,     -999.0,9,     -999.0,9,     -999.0,9,     -999.0,9,     -999.0,9,     -999.0,9,     -999.0,9,     -999.0,9,     -999.0,9,     -999.0,9,     -999.0,9,     -999.0,9,     -999.0,9,     -999.0,9,   4.6226,20141206,       1222
06AQ20141202,        A12,       4,          2,         15,2,20141206,       1100,   -42.9765,     8.5093,       4765,   605.6,   3.8628,  34.1993,2,-999.0000,9,    240.2,2,   243.0,2,   20.99,2,   29.31,2,    0.00,2,    2.02,2,  2179.2,2,  2283.8,2,-999.0000,9,  -999.00,     -999.0,9,     -999.0,9,     -999.0,9,     -999.0,9,     -999.0,9,     -999.0,9,     -999.0,9,     -999.0,9,     -999.0,9,     -999.0,9,     -999.0,9,     -999.0,9,     -999.0,9,     -999.0,9,     -999.0,9,     -999.0,9,     -999.0,9,     -999.0,9,     -999.0,9,     -999.0,9,     -999.0,9,     -999.0,9,     -999.0,9,     -999.0,9,     -999.0,9,     -999.0,9,     -999.0,9,     -999.0,9,   3.8197,20141206,       1218
06AQ20141202,        A12,       4,          2,         14,2,20141206,       1100,   -42.9765,     8.5093,       4765,   806.5,   3.2181,  34.2673,2,-999.0000,9,    217.1,2,   220.5,2,   34.86,2,   31.87,2,    0.00,2,    2.19,2,  2207.3,2,  2295.8,2,-999.0000,9,  -999.00,     -999.0,9,     -999.0,9,     -999.0,9,     -999.0,9,     -999.0,9,     -999.0,9,     -999.0,9,     -999.0,9,     -999.0,9,     -999.0,9,     -999.0,9,     -999.0,9,     -999.0,9,     -999.0,9,     -999.0,9,     -999.0,9,     -999.0,9,     -999.0,9,     -999.0,9,     -999.0,9,     -999.0,9,     -999.0,9,     -999.0,9,     -999.0,9,     -999.0,9,     -999.0,9,     -999.0,9,     -999.0,9,   3.1635,20141206,       1214
06AQ20141202,        A12,       4,          2,         13,2,20141206,       1100,   -42.9765,     8.5093,       4765,   910.4,   3.0133,  34.3199,2,-999.0000,9,    203.0,2,   207.0,2,   42.96,2,   33.03,2,    0.00,2,    2.27,2,  2222.1,2,  2304.1,2,-999.0000,9,  -999.00,     -999.0,9,     -999.0,9,     -999.0,9,     -999.0,9,     -999.0,9,     -999.0,9,     -999.0,9,     -999.0,9,     -999.0,9,     -999.0,9,     -999.0,9,     -999.0,9,     -999.0,9,     -999.0,9,     -999.0,9,     -999.0,9,     -999.0,9,     -999.0,9,     -999.0,9,     -999.0,9,     -999.0,9,     -999.0,9,     -999.0,9,     -999.0,9,     -999.0,9,     -999.0,9,     -999.0,9,     -999.0,9,   2.9523,20141206,       1211
06AQ20141202,        A12,       4,          2,         12,2,20141206,       1100,   -42.9765,     8.5093,       4765,  1010.5,   2.9564,  34.3838,2,-999.0000,9,    191.3,2,   195.4,2,   49.60,2,   33.52,2,    0.00,2,    2.30,2,  2229.0,2,  2311.9,2,-999.0000,9,  -999.00,     -999.0,9,     -999.0,9,     -999.0,9,     -999.0,9,     -999.0,9,     -999.0,9,     -999.0,9,     -999.0,9,     -999.0,9,     -999.0,9,     -999.0,9,     -999.0,9,     -999.0,9,     -999.0,9,     -999.0,9,     -999.0,9,     -999.0,9,     -999.0,9,     -999.0,9,     -999.0,9,     -999.0,9,     -999.0,9,     -999.0,9,     -999.0,9,     -999.0,9,     -999.0,9,     -999.0,9,     -999.0,9,   2.8882,20141206,       1208
06AQ20141202,        A12,       4,          2,         11,2,20141206,       1100,   -42.9765,     8.5093,       4765,  1213.6,   2.8332,  34.4852,2,-999.0000,9,    178.9,2,   182.7,2,   58.08,2,   33.74,2,    0.00,2,    2.32,2,  2240.7,2,  2319.8,2,-999.0000,9,  -999.00,     -999.0,9,     -999.0,9,     -999.0,9,     -999.0,9,     -999.0,9,     -999.0,9,     -999.0,9,     -999.0,9,     -999.0,9,     -999.0,9,     -999.0,9,     -999.0,9,     -999.0,9,     -999.0,9,     -999.0,9,     -999.0,9,     -999.0,9,     -999.0,9,     -999.0,9,     -999.0,9,     -999.0,9,     -999.0,9,     -999.0,9,     -999.0,9,     -999.0,9,     -999.0,9,     -999.0,9,     -999.0,9,   2.7504,20141206,       1204
06AQ20141202,        A12,       4,          2,         10,2,20141206,       1100,   -42.9765,     8.5093,       4765,  1516.5,   2.7270,  34.6409,2,-999.0000,9,    177.7,2,   181.2,2,   63.74,2,   32.10,2,    0.00,2,    2.20,2,  2245.9,2,  2330.9,2,-999.0000,9,  -999.00,     -999.0,9,     -999.0,9,     -999.0,9,     -999.0,9,     -999.0,9,     -999.0,9,     -999.0,9,     -999.0,9,     -999.0,9,     -999.0,9,     -999.0,9,     -999.0,9,     -999.0,9,     -999.0,9,     -999.0,9,     -999.0,9,     -999.0,9,     -999.0,9,     -999.0,9,     -999.0,9,     -999.0,9,     -999.0,9,     -999.0,9,     -999.0,9,     -999.0,9,     -999.0,9,     -999.0,9,     -999.0,9,   2.6208,20141206,       1157
06AQ20141202,        A12,       4,          2,          9,2,20141206,       1100,   -42.9765,     8.5093,       4765,  1822.2,   2.6309,  34.7352,2,-999.0000,9,    189.1,2,   193.6,2,   63.83,2,   29.81,2,    0.00,2,    2.04,2,  2239.5,2,  2337.2,2,-999.0000,9,  -999.00,     -999.0,9,     -999.0,9,     -999.0,9,     -999.0,9,     -999.0,9,     -999.0,9,     -999.0,9,     -999.0,9,     -999.0,9,     -999.0,9,     -999.0,9,     -999.0,9,     -999.0,9,     -999.0,9,     -999.0,9,     -999.0,9,     -999.0,9,     -999.0,9,     -999.0,9,     -999.0,9,     -999.0,9,     -999.0,9,     -999.0,9,     -999.0,9,     -999.0,9,     -999.0,9,     -999.0,9,     -999.0,9,   2.5000,20141206,       1150
06AQ20141202,        A12,       4,          2,          8,2,20141206,       1100,   -42.9765,     8.5093,       4765,  2026.7,   2.5873,  34.7810,2,-999.0000,9,    199.3,2,   204.5,2,   60.61,2,   28.13,2,    0.00,2,    1.92,2,  2231.5,2,  2337.9,2,-999.0000,9,  -999.00,     -999.0,9,     -999.0,9,     -999.0,9,     -999.0,9,     -999.0,9,     -999.0,9,     -999.0,9,     -999.0,9,     -999.0,9,     -999.0,9,     -999.0,9,     -999.0,9,     -999.0,9,     -999.0,9,     -999.0,9,     -999.0,9,     -999.0,9,     -999.0,9,     -999.0,9,     -999.0,9,     -999.0,9,     -999.0,9,     -999.0,9,     -999.0,9,     -999.0,9,     -999.0,9,     -999.0,9,     -999.0,9,   2.4391,20141206,       1146
06AQ20141202,        A12,       4,          2,          7,2,20141206,       1100,   -42.9765,     8.5093,       4765,  2229.0,   2.5175,  34.8045,2,-999.0000,9,    206.7,2,   212.0,2,   58.95,2,   27.11,2,    0.00,2,    1.84,2,  2225.1,2,  2336.9,2,-999.0000,9,  -999.00,     -999.0,9,     -999.0,9,     -999.0,9,     -999.0,9,     -999.0,9,     -999.0,9,     -999.0,9,     -999.0,9,     -999.0,9,     -999.0,9,     -999.0,9,     -999.0,9,     -999.0,9,     -999.0,9,     -999.0,9,     -999.0,9,     -999.0,9,     -999.0,9,     -999.0,9,     -999.0,9,     -999.0,9,     -999.0,9,     -999.0,9,     -999.0,9,     -999.0,9,     -999.0,9,     -999.0,9,     -999.0,9,   2.3522,20141206,       1140
06AQ20141202,        A12,       4,          2,          6,2,20141206,       1100,   -42.9765,     8.5093,       4765,  2536.3,   2.3528,  34.8241,2,-999.0000,9,    214.9,2,   220.5,2,   59.14,2,   26.23,2,    0.00,2,    1.78,2,  2221.7,2,  2339.9,2,-999.0000,9,  -999.00,     -999.0,9,     -999.0,9,     -999.0,9,     -999.0,9,     -999.0,9,     -999.0,9,     -999.0,9,     -999.0,9,     -999.0,9,     -999.0,9,     -999.0,9,     -999.0,9,     -999.0,9,     -999.0,9,     -999.0,9,     -999.0,9,     -999.0,9,     -999.0,9,     -999.0,9,     -999.0,9,     -999.0,9,     -999.0,9,     -999.0,9,     -999.0,9,     -999.0,9,     -999.0,9,     -999.0,9,     -999.0,9,   2.1618,20141206,       1134
06AQ20141202,        A12,       4,          2,          5,2,20141206,       1100,   -42.9765,     8.5093,       4765,  2840.7,   2.1809,  34.8241,2,-999.0000,9,    216.9,2,   223.1,2,   63.14,2,   26.12,2,    0.00,2,    1.78,2,  2223.2,2,  2342.7,2,-999.0000,9,  -999.00,     -999.0,9,     -999.0,9,     -999.0,9,     -999.0,9,     -999.0,9,     -999.0,9,     -999.0,9,     -999.0,9,     -999.0,9,     -999.0,9,     -999.0,9,     -999.0,9,     -999.0,9,     -999.0,9,     -999.0,9,     -999.0,9,     -999.0,9,     -999.0,9,     -999.0,9,     -999.0,9,     -999.0,9,     -999.0,9,     -999.0,9,     -999.0,9,     -999.0,9,     -999.0,9,     -999.0,9,     -999.0,9,   1.9641,20141206,       1125
06AQ20141202,        A12,       4,          2,          4,2,20141206,       1100,   -42.9765,     8.5093,       4765,  3045.7,   2.0326,  34.8209,2,-999.0000,9,    218.5,2,   224.4,2,   67.05,2,   26.34,2,    0.00,2,    1.80,2,  2229.1,2,  2348.7,2,-999.0000,9,  -999.00,     -999.0,9,     -999.0,9,     -999.0,9,     -999.0,9,     -999.0,9,     -999.0,9,     -999.0,9,     -999.0,9,     -999.0,9,     -999.0,9,     -999.0,9,     -999.0,9,     -999.0,9,     -999.0,9,     -999.0,9,     -999.0,9,     -999.0,9,     -999.0,9,     -999.0,9,     -999.0,9,     -999.0,9,     -999.0,9,     -999.0,9,     -999.0,9,     -999.0,9,     -999.0,9,     -999.0,9,     -999.0,9,   1.7988,20141206,       1121
06AQ20141202,        A12,       4,          2,          3,2,20141206,       1100,   -42.9765,     8.5093,       4765,  3354.9,   1.7636,  34.7981,2,-999.0000,9,    216.7,2,   222.5,2,   77.10,2,   27.47,2,    0.00,2,    1.87,2,  2237.4,2,  2353.2,2,-999.0000,9,  -999.00,     -999.0,9,     -999.0,9,     -999.0,9,     -999.0,9,     -999.0,9,     -999.0,9,     -999.0,9,     -999.0,9,     -999.0,9,     -999.0,9,     -999.0,9,     -999.0,9,     -999.0,9,     -999.0,9,     -999.0,9,     -999.0,9,     -999.0,9,     -999.0,9,     -999.0,9,     -999.0,9,     -999.0,9,     -999.0,9,     -999.0,9,     -999.0,9,     -999.0,9,     -999.0,9,     -999.0,9,     -999.0,9,   1.5051,20141206,       1114
06AQ20141202,        A12,       4,          2,          2,2,20141206,       1100,   -42.9765,     8.5093,       4765,  3556.1,   1.5003,  34.7751,2,-999.0000,9,    214.6,2,   220.6,2,   87.35,2,   28.68,2,    0.00,2,    1.96,2,  2246.0,2,  2355.9,2,-999.0000,9,  -999.00,     -999.0,9,     -999.0,9,     -999.0,9,     -999.0,9,     -999.0,9,     -999.0,9,     -999.0,9,     -999.0,9,     -999.0,9,     -999.0,9,     -999.0,9,     -999.0,9,     -999.0,9,     -999.0,9,     -999.0,9,     -999.0,9,     -999.0,9,     -999.0,9,     -999.0,9,     -999.0,9,     -999.0,9,     -999.0,9,     -999.0,9,     -999.0,9,     -999.0,9,     -999.0,9,     -999.0,9,     -999.0,9,   1.2278,20141206,       1109
06AQ20141202,        A12,       4,          2,          1,2,20141206,       1100,   -42.9765,     8.5093,       4765,  3965.3,   1.2068,  34.7476,2,-999.0000,9,    212.9,2,   219.3,2,   98.68,2,   29.85,2,    0.00,2,    2.05,2,  2255.3,2,  2360.5,2,-999.0000,9,  -999.00,     -999.0,9,     -999.0,9,     -999.0,9,     -999.0,9,     -999.0,9,     -999.0,9,     -999.0,9,     -999.0,9,     -999.0,9,     -999.0,9,     -999.0,9,     -999.0,9,     -999.0,9,     -999.0,9,     -999.0,9,     -999.0,9,     -999.0,9,     -999.0,9,     -999.0,9,     -999.0,9,     -999.0,9,     -999.0,9,     -999.0,9,     -999.0,9,     -999.0,9,     -999.0,9,     -999.0,9,     -999.0,9,   0.8994,20141206,       1100