BOTTLE,20220815CCHSIOAMB
EXPOCODE,SECT_ID,STNNBR,CASTNO,BTLNBR,BTLNBR_FLAG_W,DATE,TIME,LATITUDE,LONGITUDE,DEPTH,CTDPRS,CTDTMP,CTDSAL,CTDSAL_FLAG_W,SALNTY,SALNTY_FLAG_W,CTDOXY,CTDOXY_FLAG_W,OXYGEN,OXYGEN_FLAG_W,SILCAT,SILCAT_FLAG_W,NITRAT,NITRAT_FLAG_W,NITRIT,NITRIT_FLAG_W,PHSPHT,PHSPHT_FLAG_W,TCARBN,TCARBN_FLAG_W,ALKALI,ALKALI_FLAG_W,PH_TOT,PH_TOT_FLAG_W,PH_TMP,POC,POC_FLAG_W,PON,PON_FLAG_W,FUCO,FUCO_FLAG_W,ALPHA-BETA-CAR,ALPHA-BETA-CAR_FLAG_W,ALLO,ALLO_FLAG_W,BUT-FUCO,BUT-FUCO_FLAG_W,CHL_C1C2,CHL_C1C2_FLAG_W,CHL_C3,CHL_C3_FLAG_W,CHLIDE_A,CHLIDE_A_FLAG_W,DIADINO,DIADINO_FLAG_W,DIATO,DIATO_FLAG_W,DV_CHL_A,DV_CHL_A_FLAG_W,DV_CHL_B,DV_CHL_B_FLAG_W,GYRO,GYRO_FLAG_W,HEX-FUCO,HEX-FUCO_FLAG_W,LUT,LUT_FLAG_W,MV_CHL_A,MV_CHL_A_FLAG_W,MV_CHL_B,MV_CHL_B_FLAG_W,NEO,NEO_FLAG_W,PERID,PERID_FLAG_W,PHIDE_A,PHIDE_A_FLAG_W,PHYTIN_A,PHYTIN_A_FLAG_W,PRAS,PRAS_FLAG_W,TOT_CHL_A,TOT_CHL_A_FLAG_W,TOT_CHL_B,TOT_CHL_B_FLAG_W,TOT_CHL_C,TOT_CHL_C_FLAG_W,VIOLA,VIOLA_FLAG_W,ZEA,ZEA_FLAG_W,THETA,BTL_DATE,BTL_TIME
,,,,,,,,,,METERS,DBAR,ITS-90,PSS-78,,PSS-78,,UMOL/KG,,UMOL/KG,,UMOL/KG,,UMOL/KG,,UMOL/KG,,UMOL/KG,,UMOL/KG,,UMOL/KG,,,,DEG C,uG/KG,,ug/kg,,NMOL/KG,,MG/M^3,,MG/M^3,,MG/M^3,,MG/M^3,,MG/M^3,,MG/M^3,,MG/M^3,,MG/M^3,,MG/M^3,,MG/M^3,,MG/M^3,,MG/M^3,,MG/M^3,,MG/M^3,,MG/M^3,,MG/M^3,,MG/M^3,,MG/M^3,,MG/M^3,,MG/M^3,,MG/M^3,,MG/M^3,,MG/M^3,,MG/M^3,,MG/M^3,,DEG C,,
06AQ20141202,        A12,      15,          1,         24,2,20141211,       2339,   -55.9982,     0.0015,       3702,    15.0,  -0.9056,  34.1070,2,-999.0000,9,    346.5,2,   353.4,2,   67.57,2,   26.29,2,    0.20,2,    1.74,2,  2195.3,2,  2315.7,2,-999.0000,9,  -999.00,     -999.0,9,     -999.0,9,     -999.0,9,     -999.0,9,     -999.0,9,     -999.0,9,     -999.0,9,     -999.0,9,     -999.0,9,     -999.0,9,     -999.0,9,     -999.0,9,     -999.0,9,     -999.0,9,     -999.0,9,     -999.0,9,     -999.0,9,     -999.0,9,     -999.0,9,     -999.0,9,     -999.0,9,     -999.0,9,     -999.0,9,     -999.0,9,     -999.0,9,     -999.0,9,     -999.0,9,     -999.0,9,  -0.9060,20141211,       0102
06AQ20141202,        A12,      15,          1,         23,2,20141211,       2339,   -55.9982,     0.0015,       3702,    24.8,  -0.9038,  34.1068,2,-999.0000,9,    346.2,2,   352.8,2,   67.48,2,   26.33,2,    0.19,2,    1.75,2,  2195.0,2,  2313.0,2,-999.0000,9,  -999.00,     -999.0,9,     -999.0,9,     -999.0,9,     -999.0,9,     -999.0,9,     -999.0,9,     -999.0,9,     -999.0,9,     -999.0,9,     -999.0,9,     -999.0,9,     -999.0,9,     -999.0,9,     -999.0,9,     -999.0,9,     -999.0,9,     -999.0,9,     -999.0,9,     -999.0,9,     -999.0,9,     -999.0,9,     -999.0,9,     -999.0,9,     -999.0,9,     -999.0,9,     -999.0,9,     -999.0,9,     -999.0,9,  -0.9045,20141211,       0101
06AQ20141202,        A12,      15,          1,         22,2,20141211,       2339,   -55.9982,     0.0015,       3702,    25.5,  -0.9046,  34.1066,2,-999.0000,9,    346.2,2,   353.6,2,   67.67,2,   26.37,2,    0.19,2,    1.79,2,  2195.0,2,  2313.0,2,-999.0000,9,  -999.00,     -999.0,9,     -999.0,9,     -999.0,9,     -999.0,9,     -999.0,9,     -999.0,9,     -999.0,9,     -999.0,9,     -999.0,9,     -999.0,9,     -999.0,9,     -999.0,9,     -999.0,9,     -999.0,9,     -999.0,9,     -999.0,9,     -999.0,9,     -999.0,9,     -999.0,9,     -999.0,9,     -999.0,9,     -999.0,9,     -999.0,9,     -999.0,9,     -999.0,9,     -999.0,9,     -999.0,9,     -999.0,9,  -0.9053,20141211,       0101
06AQ20141202,        A12,      15,          1,         21,2,20141211,       2339,   -55.9982,     0.0015,       3702,    50.0,  -0.9095,  34.1078,2,-999.0000,9,    345.3,2,   352.2,2,   67.77,2,   26.41,2,    0.19,2,    1.78,2,  2201.3,2,  2316.9,2,-999.0000,9,  -999.00,     -999.0,9,     -999.0,9,     -999.0,9,     -999.0,9,     -999.0,9,     -999.0,9,     -999.0,9,     -999.0,9,     -999.0,9,     -999.0,9,     -999.0,9,     -999.0,9,     -999.0,9,     -999.0,9,     -999.0,9,     -999.0,9,     -999.0,9,     -999.0,9,     -999.0,9,     -999.0,9,     -999.0,9,     -999.0,9,     -999.0,9,     -999.0,9,     -999.0,9,     -999.0,9,     -999.0,9,     -999.0,9,  -0.9108,20141211,       0100
06AQ20141202,        A12,      15,          1,         20,2,20141211,       2339,   -55.9982,     0.0015,       3702,   101.9,  -1.1035,  34.2100,2,-999.0000,9,    318.4,2,   324.7,2,   72.94,2,   28.25,2,    0.15,2,    1.96,2,  2217.8,2,  2321.5,2,-999.0000,9,  -999.00,     -999.0,9,     -999.0,9,     -999.0,9,     -999.0,9,     -999.0,9,     -999.0,9,     -999.0,9,     -999.0,9,     -999.0,9,     -999.0,9,     -999.0,9,     -999.0,9,     -999.0,9,     -999.0,9,     -999.0,9,     -999.0,9,     -999.0,9,     -999.0,9,     -999.0,9,     -999.0,9,     -999.0,9,     -999.0,9,     -999.0,9,     -999.0,9,     -999.0,9,     -999.0,9,     -999.0,9,     -999.0,9,  -1.1061,20141211,       0058
06AQ20141202,        A12,      15,          1,         19,2,20141211,       2339,   -55.9982,     0.0015,       3702,   151.4,  -0.6540,  34.4012,2,-999.0000,9,    262.4,2,   269.7,2,   80.84,2,   30.80,2,    0.05,2,    2.15,2,  2235.6,2,  2329.7,2,-999.0000,9,  -999.00,     -999.0,9,     -999.0,9,     -999.0,9,     -999.0,9,     -999.0,9,     -999.0,9,     -999.0,9,     -999.0,9,     -999.0,9,     -999.0,9,     -999.0,9,     -999.0,9,     -999.0,9,     -999.0,9,     -999.0,9,     -999.0,9,     -999.0,9,     -999.0,9,     -999.0,9,     -999.0,9,     -999.0,9,     -999.0,9,     -999.0,9,     -999.0,9,     -999.0,9,     -999.0,9,     -999.0,9,     -999.0,9,  -0.6586,20141211,       0056
06AQ20141202,        A12,      15,          1,         18,2,20141211,       2339,   -55.9982,     0.0015,       3702,   203.5,   0.1836,  34.5426,2,-999.0000,9,    225.3,2,   229.6,2,   89.03,2,   32.15,2,    0.01,2,    2.23,2,  2251.4,2,  2340.0,2,-999.0000,9,  -999.00,     -999.0,9,     -999.0,9,     -999.0,9,     -999.0,9,     -999.0,9,     -999.0,9,     -999.0,9,     -999.0,9,     -999.0,9,     -999.0,9,     -999.0,9,     -999.0,9,     -999.0,9,     -999.0,9,     -999.0,9,     -999.0,9,     -999.0,9,     -999.0,9,     -999.0,9,     -999.0,9,     -999.0,9,     -999.0,9,     -999.0,9,     -999.0,9,     -999.0,9,     -999.0,9,     -999.0,9,     -999.0,9,   0.1758,20141211,       0054
06AQ20141202,        A12,      15,          1,         17,2,20141211,       2339,   -55.9982,     0.0015,       3702,   304.4,   1.0740,  34.6727,2,-999.0000,9,    195.3,2,   200.3,2,   96.92,2,   32.41,2,    0.00,2,    2.22,2,  2259.6,2,  2352.6,2,-999.0000,9,  -999.00,     -999.0,9,     -999.0,9,     -999.0,9,     -999.0,9,     -999.0,9,     -999.0,9,     -999.0,9,     -999.0,9,     -999.0,9,     -999.0,9,     -999.0,9,     -999.0,9,     -999.0,9,     -999.0,9,     -999.0,9,     -999.0,9,     -999.0,9,     -999.0,9,     -999.0,9,     -999.0,9,     -999.0,9,     -999.0,9,     -999.0,9,     -999.0,9,     -999.0,9,     -999.0,9,     -999.0,9,     -999.0,9,   1.0597,20141211,       0052
06AQ20141202,        A12,      15,          1,         16,2,20141211,       2339,   -55.9982,     0.0015,       3702,   405.7,   0.8972,  34.6798,2,-999.0000,9,    197.8,2,   202.0,2,  102.98,2,   32.42,2,    0.00,2,    2.24,2,  2261.0,2,  2353.2,2,-999.0000,9,  -999.00,     -999.0,9,     -999.0,9,     -999.0,9,     -999.0,9,     -999.0,9,     -999.0,9,     -999.0,9,     -999.0,9,     -999.0,9,     -999.0,9,     -999.0,9,     -999.0,9,     -999.0,9,     -999.0,9,     -999.0,9,     -999.0,9,     -999.0,9,     -999.0,9,     -999.0,9,     -999.0,9,     -999.0,9,     -999.0,9,     -999.0,9,     -999.0,9,     -999.0,9,     -999.0,9,     -999.0,9,     -999.0,9,   0.8784,20141211,       0049
06AQ20141202,        A12,      15,          1,         15,2,20141211,       2339,   -55.9982,     0.0015,       3702,   505.6,   0.7850,  34.6821,2,-999.0000,9,    198.5,2,   203.6,2,  106.78,2,   32.52,2,    0.00,2,    2.25,2,  2262.9,2,  2356.8,2,-999.0000,9,  -999.00,     -999.0,9,     -999.0,9,     -999.0,9,     -999.0,9,     -999.0,9,     -999.0,9,     -999.0,9,     -999.0,9,     -999.0,9,     -999.0,9,     -999.0,9,     -999.0,9,     -999.0,9,     -999.0,9,     -999.0,9,     -999.0,9,     -999.0,9,     -999.0,9,     -999.0,9,     -999.0,9,     -999.0,9,     -999.0,9,     -999.0,9,     -999.0,9,     -999.0,9,     -999.0,9,     -999.0,9,     -999.0,9,   0.7616,20141211,       0047
06AQ20141202,        A12,      15,          1,         14,2,20141211,       2339,   -55.9982,     0.0015,       3702,   606.7,   0.6507,  34.6821,2,-999.0000,9,    199.1,2,   203.8,2,  106.59,2,   32.46,2,    0.00,2,    2.24,2,  2264.1,2,  2354.8,2,-999.0000,9,  -999.00,     -999.0,9,     -999.0,9,     -999.0,9,     -999.0,9,     -999.0,9,     -999.0,9,     -999.0,9,     -999.0,9,     -999.0,9,     -999.0,9,     -999.0,9,     -999.0,9,     -999.0,9,     -999.0,9,     -999.0,9,     -999.0,9,     -999.0,9,     -999.0,9,     -999.0,9,     -999.0,9,     -999.0,9,     -999.0,9,     -999.0,9,     -999.0,9,     -999.0,9,     -999.0,9,     -999.0,9,     -999.0,9,   0.6227,20141211,       0045
06AQ20141202,        A12,      15,          1,         13,2,20141211,       2339,   -55.9982,     0.0015,       3702,   809.8,   0.5108,  34.6852,2,-999.0000,9,    197.6,2,   203.0,2,  116.35,2,   33.14,2,    0.00,2,    2.30,2,  2268.4,2,  2354.3,2,-999.0000,9,  -999.00,     -999.0,9,     -999.0,9,     -999.0,9,     -999.0,9,     -999.0,9,     -999.0,9,     -999.0,9,     -999.0,9,     -999.0,9,     -999.0,9,     -999.0,9,     -999.0,9,     -999.0,9,     -999.0,9,     -999.0,9,     -999.0,9,     -999.0,9,     -999.0,9,     -999.0,9,     -999.0,9,     -999.0,9,     -999.0,9,     -999.0,9,     -999.0,9,     -999.0,9,     -999.0,9,     -999.0,9,     -999.0,9,   0.4729,20141211,       0040
06AQ20141202,        A12,      15,          1,         12,2,20141211,       2339,   -55.9982,     0.0015,       3702,   911.1,   0.4651,  34.6844,2,-999.0000,9,    198.4,2,   204.3,2,  117.42,2,   33.26,2,    0.00,2,    2.28,2,  2266.2,2,  2355.7,2,-999.0000,9,  -999.00,     -999.0,9,     -999.0,9,     -999.0,9,     -999.0,9,     -999.0,9,     -999.0,9,     -999.0,9,     -999.0,9,     -999.0,9,     -999.0,9,     -999.0,9,     -999.0,9,     -999.0,9,     -999.0,9,     -999.0,9,     -999.0,9,     -999.0,9,     -999.0,9,     -999.0,9,     -999.0,9,     -999.0,9,     -999.0,9,     -999.0,9,     -999.0,9,     -999.0,9,     -999.0,9,     -999.0,9,     -999.0,9,   0.4220,20141211,       0038
06AQ20141202,        A12,      15,          1,         11,2,20141211,       2339,   -55.9982,     0.0015,       3702,  1012.7,   0.4322,  34.6837,2,-999.0000,9,    198.1,2,   203.0,2,  119.37,2,   33.45,2,    0.00,2,    2.30,2,  2267.7,2,  2354.5,2,-999.0000,9,  -999.00,     -999.0,9,     -999.0,9,     -999.0,9,     -999.0,9,     -999.0,9,     -999.0,9,     -999.0,9,     -999.0,9,     -999.0,9,     -999.0,9,     -999.0,9,     -999.0,9,     -999.0,9,     -999.0,9,     -999.0,9,     -999.0,9,     -999.0,9,     -999.0,9,     -999.0,9,     -999.0,9,     -999.0,9,     -999.0,9,     -999.0,9,     -999.0,9,     -999.0,9,     -999.0,9,     -999.0,9,     -999.0,9,   0.3837,20141211,       0035
06AQ20141202,        A12,      15,          1,         10,2,20141211,       2339,   -55.9982,     0.0015,       3702,  1215.5,   0.3477,  34.6817,2,-999.0000,9,    200.5,2,   206.0,2,  121.52,2,   33.38,2,    0.00,2,    2.31,2,  2268.2,2,  2355.3,2,-999.0000,9,  -999.00,     -999.0,9,     -999.0,9,     -999.0,9,     -999.0,9,     -999.0,9,     -999.0,9,     -999.0,9,     -999.0,9,     -999.0,9,     -999.0,9,     -999.0,9,     -999.0,9,     -999.0,9,     -999.0,9,     -999.0,9,     -999.0,9,     -999.0,9,     -999.0,9,     -999.0,9,     -999.0,9,     -999.0,9,     -999.0,9,     -999.0,9,     -999.0,9,     -999.0,9,     -999.0,9,     -999.0,9,     -999.0,9,   0.2882,20141211,       0031
06AQ20141202,        A12,      15,          1,          9,2,20141211,       2339,   -55.9982,     0.0015,       3702,  1520.4,   0.1921,  34.6756,2,-999.0000,9,    208.8,2,   216.2,2,  123.08,2,   33.11,2,    0.00,2,    2.30,2,  2265.7,2,  2355.9,2,-999.0000,9,  -999.00,     -999.0,9,     -999.0,9,     -999.0,9,     -999.0,9,     -999.0,9,     -999.0,9,     -999.0,9,     -999.0,9,     -999.0,9,     -999.0,9,     -999.0,9,     -999.0,9,     -999.0,9,     -999.0,9,     -999.0,9,     -999.0,9,     -999.0,9,     -999.0,9,     -999.0,9,     -999.0,9,     -999.0,9,     -999.0,9,     -999.0,9,     -999.0,9,     -999.0,9,     -999.0,9,     -999.0,9,     -999.0,9,   0.1156,20141211,       0024
06AQ20141202,        A12,      15,          1,          8,2,20141211,       2339,   -55.9982,     0.0015,       3702,  1723.1,   0.1172,  34.6729,2,-999.0000,9,    211.9,2,   219.0,2,  123.47,2,   32.95,2,    0.00,2,    2.28,2,  2266.2,2,  2357.2,2,-999.0000,9,  -999.00,     -999.0,9,     -999.0,9,     -999.0,9,     -999.0,9,     -999.0,9,     -999.0,9,     -999.0,9,     -999.0,9,     -999.0,9,     -999.0,9,     -999.0,9,     -999.0,9,     -999.0,9,     -999.0,9,     -999.0,9,     -999.0,9,     -999.0,9,     -999.0,9,     -999.0,9,     -999.0,9,     -999.0,9,     -999.0,9,     -999.0,9,     -999.0,9,     -999.0,9,     -999.0,9,     -999.0,9,     -999.0,9,   0.0286,20141211,       0020
06AQ20141202,        A12,      15,          1,          7,2,20141211,       2339,   -55.9982,     0.0015,       3702,  2029.8,   0.0084,  34.6684,2,-999.0000,9,    216.6,2,   224.7,2,  124.64,2,   32.86,2,    0.00,2,    2.28,2,  2263.4,2,  2354.9,2,-999.0000,9,  -999.00,     -999.0,9,     -999.0,9,     -999.0,9,     -999.0,9,     -999.0,9,     -999.0,9,     -999.0,9,     -999.0,9,     -999.0,9,     -999.0,9,     -999.0,9,     -999.0,9,     -999.0,9,     -999.0,9,     -999.0,9,     -999.0,9,     -999.0,9,     -999.0,9,     -999.0,9,     -999.0,9,     -999.0,9,     -999.0,9,     -999.0,9,     -999.0,9,     -999.0,9,     -999.0,9,     -999.0,9,     -999.0,9,  -0.0995,20141211,       0014
06AQ20141202,        A12,      15,          1,          6,2,20141211,       2339,   -55.9982,     0.0015,       3702,  2233.1,  -0.0673,  34.6656,2,-999.0000,9,    220.2,2,   227.5,2,  124.25,2,   32.83,2,    0.00,2,    2.28,2,  2261.7,2,  2354.9,2,-999.0000,9,  -999.00,     -999.0,9,     -999.0,9,     -999.0,9,     -999.0,9,     -999.0,9,     -999.0,9,     -999.0,9,     -999.0,9,     -999.0,9,     -999.0,9,     -999.0,9,     -999.0,9,     -999.0,9,     -999.0,9,     -999.0,9,     -999.0,9,     -999.0,9,     -999.0,9,     -999.0,9,     -999.0,9,     -999.0,9,     -999.0,9,     -999.0,9,     -999.0,9,     -999.0,9,     -999.0,9,     -999.0,9,     -999.0,9,  -0.1885,20141211,       0009
06AQ20141202,        A12,      15,          1,          5,2,20141211,       2339,   -55.9982,     0.0015,       3702,  2539.8,  -0.1525,  34.6622,2,-999.0000,9,    224.5,2,   232.0,2,  125.13,2,   32.81,2,    0.00,2,    2.27,2,  2258.9,2,  2355.2,2,-999.0000,9,  -999.00,     -999.0,9,     -999.0,9,     -999.0,9,     -999.0,9,     -999.0,9,     -999.0,9,     -999.0,9,     -999.0,9,     -999.0,9,     -999.0,9,     -999.0,9,     -999.0,9,     -999.0,9,     -999.0,9,     -999.0,9,     -999.0,9,     -999.0,9,     -999.0,9,     -999.0,9,     -999.0,9,     -999.0,9,     -999.0,9,     -999.0,9,     -999.0,9,     -999.0,9,     -999.0,9,     -999.0,9,     -999.0,9,  -0.2952,20141211,       0003
06AQ20141202,        A12,      15,          1,          4,2,20141211,       2339,   -55.9982,     0.0015,       3702,  2845.0,  -0.2288,  34.6590,2,-999.0000,9,    228.7,2,   237.5,2,  125.72,2,   32.60,2,    0.00,2,    2.26,2,  2256.5,2,  2353.3,2,-999.0000,9,  -999.00,     -999.0,9,     -999.0,9,     -999.0,9,     -999.0,9,     -999.0,9,     -999.0,9,     -999.0,9,     -999.0,9,     -999.0,9,     -999.0,9,     -999.0,9,     -999.0,9,     -999.0,9,     -999.0,9,     -999.0,9,     -999.0,9,     -999.0,9,     -999.0,9,     -999.0,9,     -999.0,9,     -999.0,9,     -999.0,9,     -999.0,9,     -999.0,9,     -999.0,9,     -999.0,9,     -999.0,9,     -999.0,9,  -0.3942,20141211,       2357
06AQ20141202,        A12,      15,          1,          3,2,20141211,       2339,   -55.9982,     0.0015,       3702,  3049.6,  -0.2329,  34.6589,2,-999.0000,9,    229.4,2,   238.4,2,  124.65,2,   32.64,2,    0.00,2,    2.24,2,  2257.0,2,  2354.3,2,-999.0000,9,  -999.00,     -999.0,9,     -999.0,9,     -999.0,9,     -999.0,9,     -999.0,9,     -999.0,9,     -999.0,9,     -999.0,9,     -999.0,9,     -999.0,9,     -999.0,9,     -999.0,9,     -999.0,9,     -999.0,9,     -999.0,9,     -999.0,9,     -999.0,9,     -999.0,9,     -999.0,9,     -999.0,9,     -999.0,9,     -999.0,9,     -999.0,9,     -999.0,9,     -999.0,9,     -999.0,9,     -999.0,9,     -999.0,9,  -0.4152,20141211,       2352
06AQ20141202,        A12,      15,          1,          2,2,20141211,       2339,   -55.9982,     0.0015,       3702,  3306.1,  -0.2417,  34.6578,2,-999.0000,9,    231.1,2,   239.9,2,  125.23,2,   32.56,2,    0.00,2,    2.26,2,  2257.7,2,  2353.4,2,-999.0000,9,  -999.00,     -999.0,9,     -999.0,9,     -999.0,9,     -999.0,9,     -999.0,9,     -999.0,9,     -999.0,9,     -999.0,9,     -999.0,9,     -999.0,9,     -999.0,9,     -999.0,9,     -999.0,9,     -999.0,9,     -999.0,9,     -999.0,9,     -999.0,9,     -999.0,9,     -999.0,9,     -999.0,9,     -999.0,9,     -999.0,9,     -999.0,9,     -999.0,9,     -999.0,9,     -999.0,9,     -999.0,9,     -999.0,9,  -0.4459,20141211,       2347
06AQ20141202,        A12,      15,          1,          1,2,20141211,       2339,   -55.9982,     0.0015,       3702,  3691.9,  -0.2378,  34.6562,2,-999.0000,9,    232.3,2,   240.8,2,  125.23,2,   32.45,2,    0.00,2,    2.25,2,  2256.1,2,  2351.8,2,-999.0000,9,  -999.00,     -999.0,9,     -999.0,9,     -999.0,9,     -999.0,9,     -999.0,9,     -999.0,9,     -999.0,9,     -999.0,9,     -999.0,9,     -999.0,9,     -999.0,9,     -999.0,9,     -999.0,9,     -999.0,9,     -999.0,9,     -999.0,9,     -999.0,9,     -999.0,9,     -999.0,9,     -999.0,9,     -999.0,9,     -999.0,9,     -999.0,9,     -999.0,9,     -999.0,9,     -999.0,9,     -999.0,9,     -999.0,9,  -0.4773,20141211,       2339