BOTTLE,20220815CCHSIOAMB
EXPOCODE,SECT_ID,STNNBR,CASTNO,BTLNBR,BTLNBR_FLAG_W,DATE,TIME,LATITUDE,LONGITUDE,DEPTH,CTDPRS,CTDTMP,CTDSAL,CTDSAL_FLAG_W,SALNTY,SALNTY_FLAG_W,CTDOXY,CTDOXY_FLAG_W,OXYGEN,OXYGEN_FLAG_W,SILCAT,SILCAT_FLAG_W,NITRAT,NITRAT_FLAG_W,NITRIT,NITRIT_FLAG_W,PHSPHT,PHSPHT_FLAG_W,TCARBN,TCARBN_FLAG_W,ALKALI,ALKALI_FLAG_W,PH_TOT,PH_TOT_FLAG_W,PH_TMP,POC,POC_FLAG_W,PON,PON_FLAG_W,FUCO,FUCO_FLAG_W,ALPHA-BETA-CAR,ALPHA-BETA-CAR_FLAG_W,ALLO,ALLO_FLAG_W,BUT-FUCO,BUT-FUCO_FLAG_W,CHL_C1C2,CHL_C1C2_FLAG_W,CHL_C3,CHL_C3_FLAG_W,CHLIDE_A,CHLIDE_A_FLAG_W,DIADINO,DIADINO_FLAG_W,DIATO,DIATO_FLAG_W,DV_CHL_A,DV_CHL_A_FLAG_W,DV_CHL_B,DV_CHL_B_FLAG_W,GYRO,GYRO_FLAG_W,HEX-FUCO,HEX-FUCO_FLAG_W,LUT,LUT_FLAG_W,MV_CHL_A,MV_CHL_A_FLAG_W,MV_CHL_B,MV_CHL_B_FLAG_W,NEO,NEO_FLAG_W,PERID,PERID_FLAG_W,PHIDE_A,PHIDE_A_FLAG_W,PHYTIN_A,PHYTIN_A_FLAG_W,PRAS,PRAS_FLAG_W,TOT_CHL_A,TOT_CHL_A_FLAG_W,TOT_CHL_B,TOT_CHL_B_FLAG_W,TOT_CHL_C,TOT_CHL_C_FLAG_W,VIOLA,VIOLA_FLAG_W,ZEA,ZEA_FLAG_W,THETA,BTL_DATE,BTL_TIME
,,,,,,,,,,METERS,DBAR,ITS-90,PSS-78,,PSS-78,,UMOL/KG,,UMOL/KG,,UMOL/KG,,UMOL/KG,,UMOL/KG,,UMOL/KG,,UMOL/KG,,UMOL/KG,,,,DEG C,uG/KG,,ug/kg,,NMOL/KG,,MG/M^3,,MG/M^3,,MG/M^3,,MG/M^3,,MG/M^3,,MG/M^3,,MG/M^3,,MG/M^3,,MG/M^3,,MG/M^3,,MG/M^3,,MG/M^3,,MG/M^3,,MG/M^3,,MG/M^3,,MG/M^3,,MG/M^3,,MG/M^3,,MG/M^3,,MG/M^3,,MG/M^3,,MG/M^3,,MG/M^3,,MG/M^3,,MG/M^3,,DEG C,,
06AQ20141202,        A12,       9,          1,         24,2,20141209,       1451,   -50.2557,     1.4257,       3909,    15.0,   2.9176,  33.7959,2,-999.0000,9,    331.4,2,   334.5,2,    7.72,2,   22.44,2,    0.23,2,    1.42,2,  2139.8,2,  2278.4,2,-999.0000,9,  -999.00,     -999.0,9,     -999.0,9,     -999.0,9,     -999.0,9,     -999.0,9,     -999.0,9,     -999.0,9,     -999.0,9,     -999.0,9,     -999.0,9,     -999.0,9,     -999.0,9,     -999.0,9,     -999.0,9,     -999.0,9,     -999.0,9,     -999.0,9,     -999.0,9,     -999.0,9,     -999.0,9,     -999.0,9,     -999.0,9,     -999.0,9,     -999.0,9,     -999.0,9,     -999.0,9,     -999.0,9,     -999.0,9,   2.9167,20141209,       1607
06AQ20141202,        A12,       9,          1,         23,2,20141209,       1451,   -50.2557,     1.4257,       3909,    50.6,   2.8516,  33.7968,2,-999.0000,9,    329.5,2,   334.0,2,    8.30,2,   22.56,2,    0.22,2,    1.47,2,  2139.7,2,  2280.6,2,-999.0000,9,  -999.00,     -999.0,9,     -999.0,9,     -999.0,9,     -999.0,9,     -999.0,9,     -999.0,9,     -999.0,9,     -999.0,9,     -999.0,9,     -999.0,9,     -999.0,9,     -999.0,9,     -999.0,9,     -999.0,9,     -999.0,9,     -999.0,9,     -999.0,9,     -999.0,9,     -999.0,9,     -999.0,9,     -999.0,9,     -999.0,9,     -999.0,9,     -999.0,9,     -999.0,9,     -999.0,9,     -999.0,9,     -999.0,9,   2.8487,20141209,       1605
06AQ20141202,        A12,       9,          1,         22,2,20141209,       1451,   -50.2557,     1.4257,       3909,    78.0,   2.8385,  33.7967,2,-999.0000,9,    329.1,2,   333.8,2,    8.30,2,   22.49,2,    0.22,2,    1.47,2,  2142.8,2,  2280.1,2,-999.0000,9,  -999.00,     -999.0,9,     -999.0,9,     -999.0,9,     -999.0,9,     -999.0,9,     -999.0,9,     -999.0,9,     -999.0,9,     -999.0,9,     -999.0,9,     -999.0,9,     -999.0,9,     -999.0,9,     -999.0,9,     -999.0,9,     -999.0,9,     -999.0,9,     -999.0,9,     -999.0,9,     -999.0,9,     -999.0,9,     -999.0,9,     -999.0,9,     -999.0,9,     -999.0,9,     -999.0,9,     -999.0,9,     -999.0,9,   2.8340,20141209,       1604
06AQ20141202,        A12,       9,          1,         21,2,20141209,       1451,   -50.2557,     1.4257,       3909,    77.6,   2.8391,  33.7967,2,-999.0000,9,    328.9,2,   334.1,2, -999.00,9, -999.00,9, -999.00,9, -999.00,9,  2142.8,2,  2280.1,2,-999.0000,9,  -999.00,     -999.0,9,     -999.0,9,     -999.0,9,     -999.0,9,     -999.0,9,     -999.0,9,     -999.0,9,     -999.0,9,     -999.0,9,     -999.0,9,     -999.0,9,     -999.0,9,     -999.0,9,     -999.0,9,     -999.0,9,     -999.0,9,     -999.0,9,     -999.0,9,     -999.0,9,     -999.0,9,     -999.0,9,     -999.0,9,     -999.0,9,     -999.0,9,     -999.0,9,     -999.0,9,     -999.0,9,     -999.0,9,   2.8346,20141209,       1604
06AQ20141202,        A12,       9,          1,         20,2,20141209,       1451,   -50.2557,     1.4257,       3909,    99.7,   2.3635,  33.8320,2,-999.0000,9,    319.6,2,   324.8,2,   13.19,2,   24.24,2,    0.21,2,    1.69,2,  2148.4,2,  2279.0,2,-999.0000,9,  -999.00,     -999.0,9,     -999.0,9,     -999.0,9,     -999.0,9,     -999.0,9,     -999.0,9,     -999.0,9,     -999.0,9,     -999.0,9,     -999.0,9,     -999.0,9,     -999.0,9,     -999.0,9,     -999.0,9,     -999.0,9,     -999.0,9,     -999.0,9,     -999.0,9,     -999.0,9,     -999.0,9,     -999.0,9,     -999.0,9,     -999.0,9,     -999.0,9,     -999.0,9,     -999.0,9,     -999.0,9,     -999.0,9,   2.3581,20141209,       1603
06AQ20141202,        A12,       9,          1,         19,2,20141209,       1451,   -50.2557,     1.4257,       3909,   149.7,   1.8048,  34.0042,2,-999.0000,9,    284.4,2,   290.1,2,   26.07,2,   29.04,2,    0.03,2,    2.01,2,  2172.8,2,  2281.9,2,-999.0000,9,  -999.00,     -999.0,9,     -999.0,9,     -999.0,9,     -999.0,9,     -999.0,9,     -999.0,9,     -999.0,9,     -999.0,9,     -999.0,9,     -999.0,9,     -999.0,9,     -999.0,9,     -999.0,9,     -999.0,9,     -999.0,9,     -999.0,9,     -999.0,9,     -999.0,9,     -999.0,9,     -999.0,9,     -999.0,9,     -999.0,9,     -999.0,9,     -999.0,9,     -999.0,9,     -999.0,9,     -999.0,9,     -999.0,9,   1.7972,20141209,       1602
06AQ20141202,        A12,       9,          1,         18,2,20141209,       1451,   -50.2557,     1.4257,       3909,   202.7,   2.0314,  34.1385,2,-999.0000,9,    250.1,2,   254.0,2,   35.74,2,   31.64,2,    0.02,2,    2.17,2,  2187.7,2,  2293.4,2,-999.0000,9,  -999.00,     -999.0,9,     -999.0,9,     -999.0,9,     -999.0,9,     -999.0,9,     -999.0,9,     -999.0,9,     -999.0,9,     -999.0,9,     -999.0,9,     -999.0,9,     -999.0,9,     -999.0,9,     -999.0,9,     -999.0,9,     -999.0,9,     -999.0,9,     -999.0,9,     -999.0,9,     -999.0,9,     -999.0,9,     -999.0,9,     -999.0,9,     -999.0,9,     -999.0,9,     -999.0,9,     -999.0,9,     -999.0,9,   2.0207,20141209,       1601
06AQ20141202,        A12,       9,          1,         17,2,20141209,       1451,   -50.2557,     1.4257,       3909,   304.0,   2.3252,  34.2891,2,-999.0000,9,    208.7,2,   211.4,2,   49.99,2,   33.87,2,    0.00,2,    2.33,2,  2218.9,2,  2307.0,2,-999.0000,9,  -999.00,     -999.0,9,     -999.0,9,     -999.0,9,     -999.0,9,     -999.0,9,     -999.0,9,     -999.0,9,     -999.0,9,     -999.0,9,     -999.0,9,     -999.0,9,     -999.0,9,     -999.0,9,     -999.0,9,     -999.0,9,     -999.0,9,     -999.0,9,     -999.0,9,     -999.0,9,     -999.0,9,     -999.0,9,     -999.0,9,     -999.0,9,     -999.0,9,     -999.0,9,     -999.0,9,     -999.0,9,     -999.0,9,   2.3080,20141209,       1558
06AQ20141202,        A12,       9,          1,         16,2,20141209,       1451,   -50.2557,     1.4257,       3909,   390.0,   2.3466,  34.3711,2,-999.0000,9,    190.8,2,   194.1,2,   58.68,2,   34.56,2,    0.00,2,    2.38,2,  2234.5,2,  2313.9,2,-999.0000,9,  -999.00,     -999.0,9,     -999.0,9,     -999.0,9,     -999.0,9,     -999.0,9,     -999.0,9,     -999.0,9,     -999.0,9,     -999.0,9,     -999.0,9,     -999.0,9,     -999.0,9,     -999.0,9,     -999.0,9,     -999.0,9,     -999.0,9,     -999.0,9,     -999.0,9,     -999.0,9,     -999.0,9,     -999.0,9,     -999.0,9,     -999.0,9,     -999.0,9,     -999.0,9,     -999.0,9,     -999.0,9,     -999.0,9,   2.3241,20141209,       1556
06AQ20141202,        A12,       9,          1,         15,2,20141209,       1451,   -50.2557,     1.4257,       3909,   605.4,   2.3976,  34.5395,2,-999.0000,9,    168.8,2,   172.2,2,   72.53,2,   34.51,2,    0.00,2,    2.37,2,  2251.2,2,  2333.4,2,-999.0000,9,  -999.00,     -999.0,9,     -999.0,9,     -999.0,9,     -999.0,9,     -999.0,9,     -999.0,9,     -999.0,9,     -999.0,9,     -999.0,9,     -999.0,9,     -999.0,9,     -999.0,9,     -999.0,9,     -999.0,9,     -999.0,9,     -999.0,9,     -999.0,9,     -999.0,9,     -999.0,9,     -999.0,9,     -999.0,9,     -999.0,9,     -999.0,9,     -999.0,9,     -999.0,9,     -999.0,9,     -999.0,9,     -999.0,9,   2.3612,20141209,       1552
06AQ20141202,        A12,       9,          1,         14,2,20141209,       1451,   -50.2557,     1.4257,       3909,   811.5,   2.3460,  34.6284,2,-999.0000,9,    169.0,2,   172.4,2,   77.41,2,   33.29,2,    0.00,2,    2.30,2,  2252.3,2,  2341.4,2,-999.0000,9,  -999.00,     -999.0,9,     -999.0,9,     -999.0,9,     -999.0,9,     -999.0,9,     -999.0,9,     -999.0,9,     -999.0,9,     -999.0,9,     -999.0,9,     -999.0,9,     -999.0,9,     -999.0,9,     -999.0,9,     -999.0,9,     -999.0,9,     -999.0,9,     -999.0,9,     -999.0,9,     -999.0,9,     -999.0,9,     -999.0,9,     -999.0,9,     -999.0,9,     -999.0,9,     -999.0,9,     -999.0,9,     -999.0,9,   2.2961,20141209,       1548
06AQ20141202,        A12,       9,          1,         13,2,20141209,       1451,   -50.2557,     1.4257,       3909,   911.5,   2.3116,  34.6626,2,-999.0000,9,    172.2,2,   175.3,2,   79.06,2,   32.66,2,    0.00,2,    2.26,2,  2251.8,2,  2342.3,2,-999.0000,9,  -999.00,     -999.0,9,     -999.0,9,     -999.0,9,     -999.0,9,     -999.0,9,     -999.0,9,     -999.0,9,     -999.0,9,     -999.0,9,     -999.0,9,     -999.0,9,     -999.0,9,     -999.0,9,     -999.0,9,     -999.0,9,     -999.0,9,     -999.0,9,     -999.0,9,     -999.0,9,     -999.0,9,     -999.0,9,     -999.0,9,     -999.0,9,     -999.0,9,     -999.0,9,     -999.0,9,     -999.0,9,     -999.0,9,   2.2550,20141209,       1546
06AQ20141202,        A12,       9,          1,         12,2,20141209,       1451,   -50.2557,     1.4257,       3909,  1014.0,   2.3034,  34.6932,2,-999.0000,9,    176.2,2,   180.6,2,   78.87,2,   31.99,2,    0.00,2,    2.20,2,  2247.6,2,  2345.0,2,-999.0000,9,  -999.00,     -999.0,9,     -999.0,9,     -999.0,9,     -999.0,9,     -999.0,9,     -999.0,9,     -999.0,9,     -999.0,9,     -999.0,9,     -999.0,9,     -999.0,9,     -999.0,9,     -999.0,9,     -999.0,9,     -999.0,9,     -999.0,9,     -999.0,9,     -999.0,9,     -999.0,9,     -999.0,9,     -999.0,9,     -999.0,9,     -999.0,9,     -999.0,9,     -999.0,9,     -999.0,9,     -999.0,9,     -999.0,9,   2.2396,20141209,       1543
06AQ20141202,        A12,       9,          1,         11,2,20141209,       1451,   -50.2557,     1.4257,       3909,  1215.2,   2.2183,  34.7297,2,-999.0000,9,    183.3,2,   187.5,2,   79.45,2,   30.82,2,    0.00,2,    2.11,2,  2246.3,2,  2347.9,2,-999.0000,9,  -999.00,     -999.0,9,     -999.0,9,     -999.0,9,     -999.0,9,     -999.0,9,     -999.0,9,     -999.0,9,     -999.0,9,     -999.0,9,     -999.0,9,     -999.0,9,     -999.0,9,     -999.0,9,     -999.0,9,     -999.0,9,     -999.0,9,     -999.0,9,     -999.0,9,     -999.0,9,     -999.0,9,     -999.0,9,     -999.0,9,     -999.0,9,     -999.0,9,     -999.0,9,     -999.0,9,     -999.0,9,     -999.0,9,   2.1407,20141209,       1539
06AQ20141202,        A12,       9,          1,         10,2,20141209,       1451,   -50.2557,     1.4257,       3909,  1517.2,   1.9404,  34.7515,2,-999.0000,9,    192.6,2,   197.2,2,   83.94,2,   29.99,2,    0.00,2,    2.06,2,  2241.8,2,  2349.5,2,-999.0000,9,  -999.00,     -999.0,9,     -999.0,9,     -999.0,9,     -999.0,9,     -999.0,9,     -999.0,9,     -999.0,9,     -999.0,9,     -999.0,9,     -999.0,9,     -999.0,9,     -999.0,9,     -999.0,9,     -999.0,9,     -999.0,9,     -999.0,9,     -999.0,9,     -999.0,9,     -999.0,9,     -999.0,9,     -999.0,9,     -999.0,9,     -999.0,9,     -999.0,9,     -999.0,9,     -999.0,9,     -999.0,9,     -999.0,9,   1.8430,20141209,       1534
06AQ20141202,        A12,       9,          1,          9,2,20141209,       1451,   -50.2557,     1.4257,       3909,  1823.1,   1.5989,  34.7413,2,-999.0000,9,    195.5,2,   201.7,2,   93.41,2,   30.41,2,    0.00,2,    2.10,2,  2245.7,2,  2353.4,2,-999.0000,9,  -999.00,     -999.0,9,     -999.0,9,     -999.0,9,     -999.0,9,     -999.0,9,     -999.0,9,     -999.0,9,     -999.0,9,     -999.0,9,     -999.0,9,     -999.0,9,     -999.0,9,     -999.0,9,     -999.0,9,     -999.0,9,     -999.0,9,     -999.0,9,     -999.0,9,     -999.0,9,     -999.0,9,     -999.0,9,     -999.0,9,     -999.0,9,     -999.0,9,     -999.0,9,     -999.0,9,     -999.0,9,     -999.0,9,   1.4823,20141209,       1528
06AQ20141202,        A12,       9,          1,          8,2,20141209,       1451,   -50.2557,     1.4257,       3909,  2020.6,   1.3219,  34.7255,2,-999.0000,9,    196.4,2,   203.0,2,  101.41,3,   31.18,3,    0.00,2,    2.15,3,  2245.5,2,  2354.6,2,-999.0000,9,  -999.00,     -999.0,9,     -999.0,9,     -999.0,9,     -999.0,9,     -999.0,9,     -999.0,9,     -999.0,9,     -999.0,9,     -999.0,9,     -999.0,9,     -999.0,9,     -999.0,9,     -999.0,9,     -999.0,9,     -999.0,9,     -999.0,9,     -999.0,9,     -999.0,9,     -999.0,9,     -999.0,9,     -999.0,9,     -999.0,9,     -999.0,9,     -999.0,9,     -999.0,9,     -999.0,9,     -999.0,9,     -999.0,9,   1.1938,20141209,       1524
06AQ20141202,        A12,       9,          1,          7,2,20141209,       1451,   -50.2557,     1.4257,       3909,  2229.1,   1.3074,  34.7396,2,-999.0000,9,    202.7,2,   208.5,3,   99.07,3,   30.44,3,    0.00,2,    2.10,3,  2246.1,2,  2356.0,2,-999.0000,9,  -999.00,     -999.0,9,     -999.0,9,     -999.0,9,     -999.0,9,     -999.0,9,     -999.0,9,     -999.0,9,     -999.0,9,     -999.0,9,     -999.0,9,     -999.0,9,     -999.0,9,     -999.0,9,     -999.0,9,     -999.0,9,     -999.0,9,     -999.0,9,     -999.0,9,     -999.0,9,     -999.0,9,     -999.0,9,     -999.0,9,     -999.0,9,     -999.0,9,     -999.0,9,     -999.0,9,     -999.0,9,     -999.0,9,   1.1626,20141209,       1521
06AQ20141202,        A12,       9,          1,          6,2,20141209,       1451,   -50.2557,     1.4257,       3909,  2538.5,   1.0340,  34.7155,2,-999.0000,9,    201.5,2,   207.8,2,  108.34,2,   31.49,2,    0.00,2,    2.18,2,  2251.8,2,  2356.3,2,-999.0000,9,  -999.00,     -999.0,9,     -999.0,9,     -999.0,9,     -999.0,9,     -999.0,9,     -999.0,9,     -999.0,9,     -999.0,9,     -999.0,9,     -999.0,9,     -999.0,9,     -999.0,9,     -999.0,9,     -999.0,9,     -999.0,9,     -999.0,9,     -999.0,9,     -999.0,9,     -999.0,9,     -999.0,9,     -999.0,9,     -999.0,9,     -999.0,9,     -999.0,9,     -999.0,9,     -999.0,9,     -999.0,9,     -999.0,9,   0.8683,20141209,       1515
06AQ20141202,        A12,       9,          1,          5,2,20141209,       1451,   -50.2557,     1.4257,       3909,  2842.9,   0.7836,  34.7013,2,-999.0000,9,    204.2,2,   210.4,2,  115.76,2,   31.93,2,    0.00,2,    2.22,2,  2254.9,2,  2358.9,2,-999.0000,9,  -999.00,     -999.0,9,     -999.0,9,     -999.0,9,     -999.0,9,     -999.0,9,     -999.0,9,     -999.0,9,     -999.0,9,     -999.0,9,     -999.0,9,     -999.0,9,     -999.0,9,     -999.0,9,     -999.0,9,     -999.0,9,     -999.0,9,     -999.0,9,     -999.0,9,     -999.0,9,     -999.0,9,     -999.0,9,     -999.0,9,     -999.0,9,     -999.0,9,     -999.0,9,     -999.0,9,     -999.0,9,     -999.0,9,   0.5965,20141209,       1510
06AQ20141202,        A12,       9,          1,          4,2,20141209,       1451,   -50.2557,     1.4257,       3909,  3048.3,   0.6976,  34.6963,2,-999.0000,9,    205.6,2,   212.3,2,  118.49,2,   32.15,2,    0.00,2,    2.24,2,  2256.4,2,  2358.2,2,-999.0000,9,  -999.00,     -999.0,9,     -999.0,9,     -999.0,9,     -999.0,9,     -999.0,9,     -999.0,9,     -999.0,9,     -999.0,9,     -999.0,9,     -999.0,9,     -999.0,9,     -999.0,9,     -999.0,9,     -999.0,9,     -999.0,9,     -999.0,9,     -999.0,9,     -999.0,9,     -999.0,9,     -999.0,9,     -999.0,9,     -999.0,9,     -999.0,9,     -999.0,9,     -999.0,9,     -999.0,9,     -999.0,9,     -999.0,9,   0.4941,20141209,       1506
06AQ20141202,        A12,       9,          1,          3,2,20141209,       1451,   -50.2557,     1.4257,       3909,  3354.9,   0.6224,  34.6912,2,-999.0000,9,    206.6,2,   213.4,2,  122.20,2,   32.32,2,    0.00,2,    2.24,2,  2252.6,2,  2358.0,2,-999.0000,9,  -999.00,     -999.0,9,     -999.0,9,     -999.0,9,     -999.0,9,     -999.0,9,     -999.0,9,     -999.0,9,     -999.0,9,     -999.0,9,     -999.0,9,     -999.0,9,     -999.0,9,     -999.0,9,     -999.0,9,     -999.0,9,     -999.0,9,     -999.0,9,     -999.0,9,     -999.0,9,     -999.0,9,     -999.0,9,     -999.0,9,     -999.0,9,     -999.0,9,     -999.0,9,     -999.0,9,     -999.0,9,     -999.0,9,   0.3923,20141209,       1501
06AQ20141202,        A12,       9,          1,          2,2,20141209,       1451,   -50.2557,     1.4257,       3909,  3559.1,   0.6125,  34.6899,2,-999.0000,9,    206.6,2,   213.3,2,  123.18,2,   32.36,2,    0.00,2,    2.24,2,  2258.1,2,  2358.7,2,-999.0000,9,  -999.00,     -999.0,9,     -999.0,9,     -999.0,9,     -999.0,9,     -999.0,9,     -999.0,9,     -999.0,9,     -999.0,9,     -999.0,9,     -999.0,9,     -999.0,9,     -999.0,9,     -999.0,9,     -999.0,9,     -999.0,9,     -999.0,9,     -999.0,9,     -999.0,9,     -999.0,9,     -999.0,9,     -999.0,9,     -999.0,9,     -999.0,9,     -999.0,9,     -999.0,9,     -999.0,9,     -999.0,9,     -999.0,9,   0.3630,20141209,       1457
06AQ20141202,        A12,       9,          1,          1,2,20141209,       1451,   -50.2557,     1.4257,       3909,  3898.6,   0.6344,  34.6890,2,-999.0000,9,    207.0,2,   214.1,2,  123.96,2,   32.40,2,    0.00,2,    2.24,2,  2259.5,2,  2359.2,2,-999.0000,9,  -999.00,     -999.0,9,     -999.0,9,     -999.0,9,     -999.0,9,     -999.0,9,     -999.0,9,     -999.0,9,     -999.0,9,     -999.0,9,     -999.0,9,     -999.0,9,     -999.0,9,     -999.0,9,     -999.0,9,     -999.0,9,     -999.0,9,     -999.0,9,     -999.0,9,     -999.0,9,     -999.0,9,     -999.0,9,     -999.0,9,     -999.0,9,     -999.0,9,     -999.0,9,     -999.0,9,     -999.0,9,     -999.0,9,   0.3504,20141209,       1451