BOTTLE,20220815CCHSIOAMB
EXPOCODE,SECT_ID,STNNBR,CASTNO,BTLNBR,BTLNBR_FLAG_W,DATE,TIME,LATITUDE,LONGITUDE,DEPTH,CTDPRS,CTDTMP,CTDSAL,CTDSAL_FLAG_W,SALNTY,SALNTY_FLAG_W,CTDOXY,CTDOXY_FLAG_W,OXYGEN,OXYGEN_FLAG_W,SILCAT,SILCAT_FLAG_W,NITRAT,NITRAT_FLAG_W,NITRIT,NITRIT_FLAG_W,PHSPHT,PHSPHT_FLAG_W,TCARBN,TCARBN_FLAG_W,ALKALI,ALKALI_FLAG_W,PH_TOT,PH_TOT_FLAG_W,PH_TMP,POC,POC_FLAG_W,PON,PON_FLAG_W,FUCO,FUCO_FLAG_W,ALPHA-BETA-CAR,ALPHA-BETA-CAR_FLAG_W,ALLO,ALLO_FLAG_W,BUT-FUCO,BUT-FUCO_FLAG_W,CHL_C1C2,CHL_C1C2_FLAG_W,CHL_C3,CHL_C3_FLAG_W,CHLIDE_A,CHLIDE_A_FLAG_W,DIADINO,DIADINO_FLAG_W,DIATO,DIATO_FLAG_W,DV_CHL_A,DV_CHL_A_FLAG_W,DV_CHL_B,DV_CHL_B_FLAG_W,GYRO,GYRO_FLAG_W,HEX-FUCO,HEX-FUCO_FLAG_W,LUT,LUT_FLAG_W,MV_CHL_A,MV_CHL_A_FLAG_W,MV_CHL_B,MV_CHL_B_FLAG_W,NEO,NEO_FLAG_W,PERID,PERID_FLAG_W,PHIDE_A,PHIDE_A_FLAG_W,PHYTIN_A,PHYTIN_A_FLAG_W,PRAS,PRAS_FLAG_W,TOT_CHL_A,TOT_CHL_A_FLAG_W,TOT_CHL_B,TOT_CHL_B_FLAG_W,TOT_CHL_C,TOT_CHL_C_FLAG_W,VIOLA,VIOLA_FLAG_W,ZEA,ZEA_FLAG_W,THETA,BTL_DATE,BTL_TIME
,,,,,,,,,,METERS,DBAR,ITS-90,PSS-78,,PSS-78,,UMOL/KG,,UMOL/KG,,UMOL/KG,,UMOL/KG,,UMOL/KG,,UMOL/KG,,UMOL/KG,,UMOL/KG,,,,DEG C,uG/KG,,ug/kg,,NMOL/KG,,MG/M^3,,MG/M^3,,MG/M^3,,MG/M^3,,MG/M^3,,MG/M^3,,MG/M^3,,MG/M^3,,MG/M^3,,MG/M^3,,MG/M^3,,MG/M^3,,MG/M^3,,MG/M^3,,MG/M^3,,MG/M^3,,MG/M^3,,MG/M^3,,MG/M^3,,MG/M^3,,MG/M^3,,MG/M^3,,MG/M^3,,MG/M^3,,MG/M^3,,DEG C,,
06AQ20141202,        A12,      24,          1,         24,2,20141215,       0712,   -61.9983,     0.0032,       5463,    15.3,  -1.7290,  33.9771,2,-999.0000,9,    334.3,2,   341.3,2,   63.58,2,   26.78,2,    0.30,2,    1.85,2,  2194.6,2,  2306.4,2,-999.0000,9,  -999.00,     -999.0,9,     -999.0,9,     -999.0,9,     -999.0,9,     -999.0,9,     -999.0,9,     -999.0,9,     -999.0,9,     -999.0,9,     -999.0,9,     -999.0,9,     -999.0,9,     -999.0,9,     -999.0,9,     -999.0,9,     -999.0,9,     -999.0,9,     -999.0,9,     -999.0,9,     -999.0,9,     -999.0,9,     -999.0,9,     -999.0,9,     -999.0,9,     -999.0,9,     -999.0,9,     -999.0,9,     -999.0,9,  -1.7293,20141215,       0910
06AQ20141202,        A12,      24,          1,         23,2,20141215,       0712,   -61.9983,     0.0032,       5463,    25.3,  -1.7262,  34.1048,2,-999.0000,9,    329.4,2,   335.7,2,   64.35,2,   27.14,2,    0.28,2,    1.88,2,  2202.0,2,  2312.6,2,-999.0000,9,  -999.00,     -999.0,9,     -999.0,9,     -999.0,9,     -999.0,9,     -999.0,9,     -999.0,9,     -999.0,9,     -999.0,9,     -999.0,9,     -999.0,9,     -999.0,9,     -999.0,9,     -999.0,9,     -999.0,9,     -999.0,9,     -999.0,9,     -999.0,9,     -999.0,9,     -999.0,9,     -999.0,9,     -999.0,9,     -999.0,9,     -999.0,9,     -999.0,9,     -999.0,9,     -999.0,9,     -999.0,9,     -999.0,9,  -1.7267,20141215,       0909
06AQ20141202,        A12,      24,          1,         22,2,20141215,       0712,   -61.9983,     0.0032,       5463,    50.5,  -1.7974,  34.1668,2,-999.0000,9,    325.0,2,   332.4,2,   64.45,2,   27.14,2,    0.27,2,    1.90,2,  2207.6,2,  2315.0,2,-999.0000,9,  -999.00,     -999.0,9,     -999.0,9,     -999.0,9,     -999.0,9,     -999.0,9,     -999.0,9,     -999.0,9,     -999.0,9,     -999.0,9,     -999.0,9,     -999.0,9,     -999.0,9,     -999.0,9,     -999.0,9,     -999.0,9,     -999.0,9,     -999.0,9,     -999.0,9,     -999.0,9,     -999.0,9,     -999.0,9,     -999.0,9,     -999.0,9,     -999.0,9,     -999.0,9,     -999.0,9,     -999.0,9,     -999.0,9,  -1.7984,20141215,       0907
06AQ20141202,        A12,      24,          1,         21,2,20141215,       0712,   -61.9983,     0.0032,       5463,    75.5,  -1.8102,  34.2112,2,-999.0000,9,    320.7,2,   327.7,2,   64.83,2,   27.47,2,    0.28,2,    1.92,2,  2210.4,2,  2316.5,2,-999.0000,9,  -999.00,     -999.0,9,     -999.0,9,     -999.0,9,     -999.0,9,     -999.0,9,     -999.0,9,     -999.0,9,     -999.0,9,     -999.0,9,     -999.0,9,     -999.0,9,     -999.0,9,     -999.0,9,     -999.0,9,     -999.0,9,     -999.0,9,     -999.0,9,     -999.0,9,     -999.0,9,     -999.0,9,     -999.0,9,     -999.0,9,     -999.0,9,     -999.0,9,     -999.0,9,     -999.0,9,     -999.0,9,     -999.0,9,  -1.8117,20141215,       0906
06AQ20141202,        A12,      24,          1,         20,2,20141215,       0712,   -61.9983,     0.0032,       5463,   101.0,  -1.7500,  34.2487,2,-999.0000,9,    312.1,2,   306.5,2,   69.71,2,   28.53,2,    0.25,2,    2.01,2,  2221.1,2,  2320.6,2,-999.0000,9,  -999.00,     -999.0,9,     -999.0,9,     -999.0,9,     -999.0,9,     -999.0,9,     -999.0,9,     -999.0,9,     -999.0,9,     -999.0,9,     -999.0,9,     -999.0,9,     -999.0,9,     -999.0,9,     -999.0,9,     -999.0,9,     -999.0,9,     -999.0,9,     -999.0,9,     -999.0,9,     -999.0,9,     -999.0,9,     -999.0,9,     -999.0,9,     -999.0,9,     -999.0,9,     -999.0,9,     -999.0,9,     -999.0,9,  -1.7520,20141215,       0905
06AQ20141202,        A12,      24,          1,         19,2,20141215,       0712,   -61.9983,     0.0032,       5463,   151.5,   0.5168,  34.6453,2,-999.0000,9,    194.1,2,   198.6,2,  106.59,2,   33.73,2,    0.00,2,    2.28,2,  2263.4,2,  2345.9,2,-999.0000,9,  -999.00,     -999.0,9,     -999.0,9,     -999.0,9,     -999.0,9,     -999.0,9,     -999.0,9,     -999.0,9,     -999.0,9,     -999.0,9,     -999.0,9,     -999.0,9,     -999.0,9,     -999.0,9,     -999.0,9,     -999.0,9,     -999.0,9,     -999.0,9,     -999.0,9,     -999.0,9,     -999.0,9,     -999.0,9,     -999.0,9,     -999.0,9,     -999.0,9,     -999.0,9,     -999.0,9,     -999.0,9,     -999.0,9,   0.5106,20141215,       0903
06AQ20141202,        A12,      24,          1,         18,2,20141215,       0712,   -61.9983,     0.0032,       5463,   201.8,   0.6242,  34.6805,2,-999.0000,9,    189.6,2,   193.7,2,  111.17,2,   33.75,2,    0.00,2,    2.29,2,  2269.7,2,  2349.4,2,-999.0000,9,  -999.00,     -999.0,9,     -999.0,9,     -999.0,9,     -999.0,9,     -999.0,9,     -999.0,9,     -999.0,9,     -999.0,9,     -999.0,9,     -999.0,9,     -999.0,9,     -999.0,9,     -999.0,9,     -999.0,9,     -999.0,9,     -999.0,9,     -999.0,9,     -999.0,9,     -999.0,9,     -999.0,9,     -999.0,9,     -999.0,9,     -999.0,9,     -999.0,9,     -999.0,9,     -999.0,9,     -999.0,9,     -999.0,9,   0.6157,20141215,       0901
06AQ20141202,        A12,      24,          1,         17,2,20141215,       0712,   -61.9983,     0.0032,       5463,   303.4,   0.4968,  34.6855,2,-999.0000,9,    188.7,2,   193.4,2,  119.08,2,   33.95,2,    0.00,2,    2.31,2,  2269.8,2,  2352.0,2,-999.0000,9,  -999.00,     -999.0,9,     -999.0,9,     -999.0,9,     -999.0,9,     -999.0,9,     -999.0,9,     -999.0,9,     -999.0,9,     -999.0,9,     -999.0,9,     -999.0,9,     -999.0,9,     -999.0,9,     -999.0,9,     -999.0,9,     -999.0,9,     -999.0,9,     -999.0,9,     -999.0,9,     -999.0,9,     -999.0,9,     -999.0,9,     -999.0,9,     -999.0,9,     -999.0,9,     -999.0,9,     -999.0,9,     -999.0,9,   0.4840,20141215,       0858
06AQ20141202,        A12,      24,          1,         16,2,20141215,       0712,   -61.9983,     0.0032,       5463,   404.4,   0.4309,  34.6856,2,-999.0000,9,    189.5,2,   194.3,2,  122.50,2,   34.06,2,    0.00,2,    2.35,2,  2271.1,2,  2353.1,2,-999.0000,9,  -999.00,     -999.0,9,     -999.0,9,     -999.0,9,     -999.0,9,     -999.0,9,     -999.0,9,     -999.0,9,     -999.0,9,     -999.0,9,     -999.0,9,     -999.0,9,     -999.0,9,     -999.0,9,     -999.0,9,     -999.0,9,     -999.0,9,     -999.0,9,     -999.0,9,     -999.0,9,     -999.0,9,     -999.0,9,     -999.0,9,     -999.0,9,     -999.0,9,     -999.0,9,     -999.0,9,     -999.0,9,     -999.0,9,   0.4137,20141215,       0856
06AQ20141202,        A12,      24,          1,         15,2,20141215,       0712,   -61.9983,     0.0032,       5463,   606.7,   0.3488,  34.6842,2,-999.0000,9,    192.9,2,   198.4,2,  124.94,2,   33.86,2,    0.00,2,    2.34,2,  2270.9,2,  2352.8,2,-999.0000,9,  -999.00,     -999.0,9,     -999.0,9,     -999.0,9,     -999.0,9,     -999.0,9,     -999.0,9,     -999.0,9,     -999.0,9,     -999.0,9,     -999.0,9,     -999.0,9,     -999.0,9,     -999.0,9,     -999.0,9,     -999.0,9,     -999.0,9,     -999.0,9,     -999.0,9,     -999.0,9,     -999.0,9,     -999.0,9,     -999.0,9,     -999.0,9,     -999.0,9,     -999.0,9,     -999.0,9,     -999.0,9,     -999.0,9,   0.3223,20141215,       0852
06AQ20141202,        A12,      24,          1,         14,2,20141215,       0712,   -61.9983,     0.0032,       5463,   809.6,   0.2568,  34.6811,2,-999.0000,9,    198.3,2,   204.3,2,  126.79,2,   33.48,2,    0.00,2,    2.31,2,  2268.8,2,  2352.1,2,-999.0000,9,  -999.00,     -999.0,9,     -999.0,9,     -999.0,9,     -999.0,9,     -999.0,9,     -999.0,9,     -999.0,9,     -999.0,9,     -999.0,9,     -999.0,9,     -999.0,9,     -999.0,9,     -999.0,9,     -999.0,9,     -999.0,9,     -999.0,9,     -999.0,9,     -999.0,9,     -999.0,9,     -999.0,9,     -999.0,9,     -999.0,9,     -999.0,9,     -999.0,9,     -999.0,9,     -999.0,9,     -999.0,9,     -999.0,9,   0.2206,20141215,       0847
06AQ20141202,        A12,      24,          1,         13,2,20141215,       0712,   -61.9983,     0.0032,       5463,   911.2,   0.2068,  34.6789,2,-999.0000,9,    202.0,2,   207.7,2,  122.01,3,   33.15,2,    0.00,2,    2.30,2,  2264.5,2,  2354.7,2,-999.0000,9,  -999.00,     -999.0,9,     -999.0,9,     -999.0,9,     -999.0,9,     -999.0,9,     -999.0,9,     -999.0,9,     -999.0,9,     -999.0,9,     -999.0,9,     -999.0,9,     -999.0,9,     -999.0,9,     -999.0,9,     -999.0,9,     -999.0,9,     -999.0,9,     -999.0,9,     -999.0,9,     -999.0,9,     -999.0,9,     -999.0,9,     -999.0,9,     -999.0,9,     -999.0,9,     -999.0,9,     -999.0,9,     -999.0,9,   0.1657,20141215,       0845
06AQ20141202,        A12,      24,          1,         12,2,20141215,       0712,   -61.9983,     0.0032,       5463,  1012.0,   0.1630,  34.6770,2,-999.0000,9,    204.2,2,   211.0,2,  126.99,2,   33.43,2,    0.00,2,    2.30,2,  2263.9,2,  2354.1,2,-999.0000,9,  -999.00,     -999.0,9,     -999.0,9,     -999.0,9,     -999.0,9,     -999.0,9,     -999.0,9,     -999.0,9,     -999.0,9,     -999.0,9,     -999.0,9,     -999.0,9,     -999.0,9,     -999.0,9,     -999.0,9,     -999.0,9,     -999.0,9,     -999.0,9,     -999.0,9,     -999.0,9,     -999.0,9,     -999.0,9,     -999.0,9,     -999.0,9,     -999.0,9,     -999.0,9,     -999.0,9,     -999.0,9,     -999.0,9,   0.1168,20141215,       0842
06AQ20141202,        A12,      24,          1,         11,2,20141215,       0712,   -61.9983,     0.0032,       5463,  1520.3,  -0.0100,  34.6697,2,-999.0000,9,    213.8,2,   221.4,2,  126.99,2,   32.95,2,    0.00,2,    2.26,2,  2260.9,2,  2351.9,2,-999.0000,9,  -999.00,     -999.0,9,     -999.0,9,     -999.0,9,     -999.0,9,     -999.0,9,     -999.0,9,     -999.0,9,     -999.0,9,     -999.0,9,     -999.0,9,     -999.0,9,     -999.0,9,     -999.0,9,     -999.0,9,     -999.0,9,     -999.0,9,     -999.0,9,     -999.0,9,     -999.0,9,     -999.0,9,     -999.0,9,     -999.0,9,     -999.0,9,     -999.0,9,     -999.0,9,     -999.0,9,     -999.0,9,     -999.0,9,  -0.0840,20141215,       0831
06AQ20141202,        A12,      24,          1,         10,2,20141215,       0712,   -61.9983,     0.0032,       5463,  2029.1,  -0.1517,  34.6643,2,-999.0000,9,    219.8,2,   229.8,2,  127.96,2,   32.65,2,    0.00,2,    2.26,2,  2256.9,2,  2349.6,2,-999.0000,9,  -999.00,     -999.0,9,     -999.0,9,     -999.0,9,     -999.0,9,     -999.0,9,     -999.0,9,     -999.0,9,     -999.0,9,     -999.0,9,     -999.0,9,     -999.0,9,     -999.0,9,     -999.0,9,     -999.0,9,     -999.0,9,     -999.0,9,     -999.0,9,     -999.0,9,     -999.0,9,     -999.0,9,     -999.0,9,     -999.0,9,     -999.0,9,     -999.0,9,     -999.0,9,     -999.0,9,     -999.0,9,     -999.0,9,  -0.2570,20141215,       0822
06AQ20141202,        A12,      24,          1,          9,2,20141215,       0712,   -61.9983,     0.0032,       5463,  2540.1,  -0.2360,  34.6606,2,-999.0000,9,    225.0,2,   236.8,2,  127.38,2,   32.44,2,    0.00,2,    2.24,2,  2255.0,2,  2351.2,2,-999.0000,9,  -999.00,     -999.0,9,     -999.0,9,     -999.0,9,     -999.0,9,     -999.0,9,     -999.0,9,     -999.0,9,     -999.0,9,     -999.0,9,     -999.0,9,     -999.0,9,     -999.0,9,     -999.0,9,     -999.0,9,     -999.0,9,     -999.0,9,     -999.0,9,     -999.0,9,     -999.0,9,     -999.0,9,     -999.0,9,     -999.0,9,     -999.0,9,     -999.0,9,     -999.0,9,     -999.0,9,     -999.0,9,     -999.0,9,  -0.3771,20141215,       0812
06AQ20141202,        A12,      24,          1,          8,2,20141215,       0712,   -61.9983,     0.0032,       5463,  3051.1,  -0.2917,  34.6581,2,-999.0000,9,    228.8,2,   239.5,2,  127.18,2,   32.39,2,    0.00,2,    2.24,2,  2251.6,2,  2353.3,2,-999.0000,9,  -999.00,     -999.0,9,     -999.0,9,     -999.0,9,     -999.0,9,     -999.0,9,     -999.0,9,     -999.0,9,     -999.0,9,     -999.0,9,     -999.0,9,     -999.0,9,     -999.0,9,     -999.0,9,     -999.0,9,     -999.0,9,     -999.0,9,     -999.0,9,     -999.0,9,     -999.0,9,     -999.0,9,     -999.0,9,     -999.0,9,     -999.0,9,     -999.0,9,     -999.0,9,     -999.0,9,     -999.0,9,     -999.0,9,  -0.4727,20141215,       0803
06AQ20141202,        A12,      24,          1,          7,2,20141215,       0712,   -61.9983,     0.0032,       5463,  3563.5,  -0.3412,  34.6558,2,-999.0000,9,    232.6,2,   244.1,2,  127.09,2,   32.20,2,    0.00,2,    2.24,2,  2250.7,2,  2352.7,2,-999.0000,9,  -999.00,     -999.0,9,     -999.0,9,     -999.0,9,     -999.0,9,     -999.0,9,     -999.0,9,     -999.0,9,     -999.0,9,     -999.0,9,     -999.0,9,     -999.0,9,     -999.0,9,     -999.0,9,     -999.0,9,     -999.0,9,     -999.0,9,     -999.0,9,     -999.0,9,     -999.0,9,     -999.0,9,     -999.0,9,     -999.0,9,     -999.0,9,     -999.0,9,     -999.0,9,     -999.0,9,     -999.0,9,     -999.0,9,  -0.5661,20141215,       0752
06AQ20141202,        A12,      24,          1,          6,2,20141215,       0712,   -61.9983,     0.0032,       5463,  3872.0,  -0.3690,  34.6541,2,-999.0000,9,    235.0,2,   245.8,2,  127.77,2,   32.15,2,    0.00,2,    2.22,2,  2251.4,2,  2351.7,2,-999.0000,9,  -999.00,     -999.0,9,     -999.0,9,     -999.0,9,     -999.0,9,     -999.0,9,     -999.0,9,     -999.0,9,     -999.0,9,     -999.0,9,     -999.0,9,     -999.0,9,     -999.0,9,     -999.0,9,     -999.0,9,     -999.0,9,     -999.0,9,     -999.0,9,     -999.0,9,     -999.0,9,     -999.0,9,     -999.0,9,     -999.0,9,     -999.0,9,     -999.0,9,     -999.0,9,     -999.0,9,     -999.0,9,     -999.0,9,  -0.6220,20141215,       0746
06AQ20141202,        A12,      24,          1,          5,2,20141215,       0712,   -61.9983,     0.0032,       5463,  4076.7,  -0.3919,  34.6526,2,-999.0000,9,    236.5,2,   247.1,2,  126.50,2,   32.34,2,    0.00,2,    2.23,2,  2247.9,2,  2351.7,2,-999.0000,9,  -999.00,     -999.0,9,     -999.0,9,     -999.0,9,     -999.0,9,     -999.0,9,     -999.0,9,     -999.0,9,     -999.0,9,     -999.0,9,     -999.0,9,     -999.0,9,     -999.0,9,     -999.0,9,     -999.0,9,     -999.0,9,     -999.0,9,     -999.0,9,     -999.0,9,     -999.0,9,     -999.0,9,     -999.0,9,     -999.0,9,     -999.0,9,     -999.0,9,     -999.0,9,     -999.0,9,     -999.0,9,     -999.0,9,  -0.6642,20141215,       0741
06AQ20141202,        A12,      24,          1,          4,2,20141215,       0712,   -61.9983,     0.0032,       5463,  4592.3,  -0.4336,  34.6486,2,-999.0000,9,    241.4,2,   251.0,2,  122.79,2,   32.16,2,    0.00,2,    2.21,2,  2247.5,2,  2350.7,2,-999.0000,9,  -999.00,     -999.0,9,     -999.0,9,     -999.0,9,     -999.0,9,     -999.0,9,     -999.0,9,     -999.0,9,     -999.0,9,     -999.0,9,     -999.0,9,     -999.0,9,     -999.0,9,     -999.0,9,     -999.0,9,     -999.0,9,     -999.0,9,     -999.0,9,     -999.0,9,     -999.0,9,     -999.0,9,     -999.0,9,     -999.0,9,     -999.0,9,     -999.0,9,     -999.0,9,     -999.0,9,     -999.0,9,     -999.0,9,  -0.7572,20141215,       0732
06AQ20141202,        A12,      24,          1,          3,2,20141215,       0712,   -61.9983,     0.0032,       5463,  5108.4,  -0.4068,  34.6472,2,-999.0000,9,    242.9,2,   252.4,2,  123.48,2,   32.12,2,    0.00,2,    2.20,2,  2248.6,2,  2350.2,2,-999.0000,9,  -999.00,     -999.0,9,     -999.0,9,     -999.0,9,     -999.0,9,     -999.0,9,     -999.0,9,     -999.0,9,     -999.0,9,     -999.0,9,     -999.0,9,     -999.0,9,     -999.0,9,     -999.0,9,     -999.0,9,     -999.0,9,     -999.0,9,     -999.0,9,     -999.0,9,     -999.0,9,     -999.0,9,     -999.0,9,     -999.0,9,     -999.0,9,     -999.0,9,     -999.0,9,     -999.0,9,     -999.0,9,     -999.0,9,  -0.7876,20141215,       0721
06AQ20141202,        A12,      24,          1,          2,2,20141215,       0712,   -61.9983,     0.0032,       5463,  5315.9,  -0.3843,  34.6470,2,-999.0000,9,    242.7,2,   251.4,2,  125.33,2,   32.18,2,    0.00,2,    2.20,2,  2248.6,2,  2351.7,2,-999.0000,9,  -999.00,     -999.0,9,     -999.0,9,     -999.0,9,     -999.0,9,     -999.0,9,     -999.0,9,     -999.0,9,     -999.0,9,     -999.0,9,     -999.0,9,     -999.0,9,     -999.0,9,     -999.0,9,     -999.0,9,     -999.0,9,     -999.0,9,     -999.0,9,     -999.0,9,     -999.0,9,     -999.0,9,     -999.0,9,     -999.0,9,     -999.0,9,     -999.0,9,     -999.0,9,     -999.0,9,     -999.0,9,     -999.0,9,  -0.7896,20141215,       0716
06AQ20141202,        A12,      24,          1,          1,2,20141215,       0712,   -61.9983,     0.0032,       5463,  5453.1,  -0.3676,  34.6469,2,-999.0000,9,    243.0,2,   251.8,2,  125.53,2,   32.11,2,    0.00,2,    2.21,2,  2248.7,2,  2351.4,2,-999.0000,9,  -999.00,     -999.0,9,     -999.0,9,     -999.0,9,     -999.0,9,     -999.0,9,     -999.0,9,     -999.0,9,     -999.0,9,     -999.0,9,     -999.0,9,     -999.0,9,     -999.0,9,     -999.0,9,     -999.0,9,     -999.0,9,     -999.0,9,     -999.0,9,     -999.0,9,     -999.0,9,     -999.0,9,     -999.0,9,     -999.0,9,     -999.0,9,     -999.0,9,     -999.0,9,     -999.0,9,     -999.0,9,     -999.0,9,  -0.7895,20141215,       0712