BOTTLE,20220815CCHSIOAMB
EXPOCODE,SECT_ID,STNNBR,CASTNO,BTLNBR,BTLNBR_FLAG_W,DATE,TIME,LATITUDE,LONGITUDE,DEPTH,CTDPRS,CTDTMP,CTDSAL,CTDSAL_FLAG_W,SALNTY,SALNTY_FLAG_W,CTDOXY,CTDOXY_FLAG_W,OXYGEN,OXYGEN_FLAG_W,SILCAT,SILCAT_FLAG_W,NITRAT,NITRAT_FLAG_W,NITRIT,NITRIT_FLAG_W,PHSPHT,PHSPHT_FLAG_W,TCARBN,TCARBN_FLAG_W,ALKALI,ALKALI_FLAG_W,PH_TOT,PH_TOT_FLAG_W,PH_TMP,POC,POC_FLAG_W,PON,PON_FLAG_W,FUCO,FUCO_FLAG_W,ALPHA-BETA-CAR,ALPHA-BETA-CAR_FLAG_W,ALLO,ALLO_FLAG_W,BUT-FUCO,BUT-FUCO_FLAG_W,CHL_C1C2,CHL_C1C2_FLAG_W,CHL_C3,CHL_C3_FLAG_W,CHLIDE_A,CHLIDE_A_FLAG_W,DIADINO,DIADINO_FLAG_W,DIATO,DIATO_FLAG_W,DV_CHL_A,DV_CHL_A_FLAG_W,DV_CHL_B,DV_CHL_B_FLAG_W,GYRO,GYRO_FLAG_W,HEX-FUCO,HEX-FUCO_FLAG_W,LUT,LUT_FLAG_W,MV_CHL_A,MV_CHL_A_FLAG_W,MV_CHL_B,MV_CHL_B_FLAG_W,NEO,NEO_FLAG_W,PERID,PERID_FLAG_W,PHIDE_A,PHIDE_A_FLAG_W,PHYTIN_A,PHYTIN_A_FLAG_W,PRAS,PRAS_FLAG_W,TOT_CHL_A,TOT_CHL_A_FLAG_W,TOT_CHL_B,TOT_CHL_B_FLAG_W,TOT_CHL_C,TOT_CHL_C_FLAG_W,VIOLA,VIOLA_FLAG_W,ZEA,ZEA_FLAG_W,THETA,BTL_DATE,BTL_TIME
,,,,,,,,,,METERS,DBAR,ITS-90,PSS-78,,PSS-78,,UMOL/KG,,UMOL/KG,,UMOL/KG,,UMOL/KG,,UMOL/KG,,UMOL/KG,,UMOL/KG,,UMOL/KG,,,,DEG C,uG/KG,,ug/kg,,NMOL/KG,,MG/M^3,,MG/M^3,,MG/M^3,,MG/M^3,,MG/M^3,,MG/M^3,,MG/M^3,,MG/M^3,,MG/M^3,,MG/M^3,,MG/M^3,,MG/M^3,,MG/M^3,,MG/M^3,,MG/M^3,,MG/M^3,,MG/M^3,,MG/M^3,,MG/M^3,,MG/M^3,,MG/M^3,,MG/M^3,,MG/M^3,,MG/M^3,,MG/M^3,,DEG C,,
06AQ20141202,        A12,      32,          4,         24,2,20141220,       1523,   -67.5732,     0.1477,       4602,    15.3,  -1.7875,  34.1238,2,-999.0000,9,    265.5,2,   266.8,2,   78.12,2,   29.39,2,    0.45,2,    2.08,2,  2210.0,2,  2310.5,2,-999.0000,9,  -999.00,     -999.0,9,     -999.0,9,     -999.0,9,     -999.0,9,     -999.0,9,     -999.0,9,     -999.0,9,     -999.0,9,     -999.0,9,     -999.0,9,     -999.0,9,     -999.0,9,     -999.0,9,     -999.0,9,     -999.0,9,     -999.0,9,     -999.0,9,     -999.0,9,     -999.0,9,     -999.0,9,     -999.0,9,     -999.0,9,     -999.0,9,     -999.0,9,     -999.0,9,     -999.0,9,     -999.0,9,     -999.0,9,  -1.7878,20141220,       1647
06AQ20141202,        A12,      32,          4,         23,2,20141220,       1523,   -67.5732,     0.1477,       4602,    25.4,  -1.7852,  34.1270,2,-999.0000,9,    265.0,2,   268.2,2,   80.17,2,   29.75,2,    0.19,2,    2.07,2,  2208.0,2,  2311.2,2,-999.0000,9,  -999.00,     -999.0,9,     -999.0,9,     -999.0,9,     -999.0,9,     -999.0,9,     -999.0,9,     -999.0,9,     -999.0,9,     -999.0,9,     -999.0,9,     -999.0,9,     -999.0,9,     -999.0,9,     -999.0,9,     -999.0,9,     -999.0,9,     -999.0,9,     -999.0,9,     -999.0,9,     -999.0,9,     -999.0,9,     -999.0,9,     -999.0,9,     -999.0,9,     -999.0,9,     -999.0,9,     -999.0,9,     -999.0,9,  -1.7857,20141220,       1647
06AQ20141202,        A12,      32,          4,         22,2,20141220,       1523,   -67.5732,     0.1477,       4602,    50.8,  -1.7214,  34.2553,2,-999.0000,9,    256.6,2,   258.7,2,   81.82,2,   30.75,2,    0.17,2,    2.15,2,  2228.8,2,  2327.6,2,-999.0000,9,  -999.00,     -999.0,9,     -999.0,9,     -999.0,9,     -999.0,9,     -999.0,9,     -999.0,9,     -999.0,9,     -999.0,9,     -999.0,9,     -999.0,9,     -999.0,9,     -999.0,9,     -999.0,9,     -999.0,9,     -999.0,9,     -999.0,9,     -999.0,9,     -999.0,9,     -999.0,9,     -999.0,9,     -999.0,9,     -999.0,9,     -999.0,9,     -999.0,9,     -999.0,9,     -999.0,9,     -999.0,9,     -999.0,9,  -1.7224,20141220,       1646
06AQ20141202,        A12,      32,          4,         21,2,20141220,       1523,   -67.5732,     0.1477,       4602,    75.1,   0.8591,  34.6514,2,-999.0000,9,    189.6,2,   190.3,2,   94.58,2,   33.00,2,    0.02,2,    2.27,2,  2259.0,2,  2345.7,2,-999.0000,9,  -999.00,     -999.0,9,     -999.0,9,     -999.0,9,     -999.0,9,     -999.0,9,     -999.0,9,     -999.0,9,     -999.0,9,     -999.0,9,     -999.0,9,     -999.0,9,     -999.0,9,     -999.0,9,     -999.0,9,     -999.0,9,     -999.0,9,     -999.0,9,     -999.0,9,     -999.0,9,     -999.0,9,     -999.0,9,     -999.0,9,     -999.0,9,     -999.0,9,     -999.0,9,     -999.0,9,     -999.0,9,     -999.0,9,   0.8559,20141220,       1645
06AQ20141202,        A12,      32,          4,         20,2,20141220,       1523,   -67.5732,     0.1477,       4602,   100.9,   0.9896,  34.6677,2,-999.0000,9,    187.2,2,   186.1,2,   96.34,2,   33.07,2,    0.00,2,    2.29,2,  2259.3,2,  2347.3,2,-999.0000,9,  -999.00,     -999.0,9,     -999.0,9,     -999.0,9,     -999.0,9,     -999.0,9,     -999.0,9,     -999.0,9,     -999.0,9,     -999.0,9,     -999.0,9,     -999.0,9,     -999.0,9,     -999.0,9,     -999.0,9,     -999.0,9,     -999.0,9,     -999.0,9,     -999.0,9,     -999.0,9,     -999.0,9,     -999.0,9,     -999.0,9,     -999.0,9,     -999.0,9,     -999.0,9,     -999.0,9,     -999.0,9,     -999.0,9,   0.9851,20141220,       1644
06AQ20141202,        A12,      32,          4,         19,2,20141220,       1523,   -67.5732,     0.1477,       4602,   151.5,   1.1340,  34.6889,2,-999.0000,9,    186.6,2,   187.0,2,   99.17,2,   32.95,2,    0.00,2,    2.28,2,  2257.9,2,  2349.3,2,-999.0000,9,  -999.00,     -999.0,9,     -999.0,9,     -999.0,9,     -999.0,9,     -999.0,9,     -999.0,9,     -999.0,9,     -999.0,9,     -999.0,9,     -999.0,9,     -999.0,9,     -999.0,9,     -999.0,9,     -999.0,9,     -999.0,9,     -999.0,9,     -999.0,9,     -999.0,9,     -999.0,9,     -999.0,9,     -999.0,9,     -999.0,9,     -999.0,9,     -999.0,9,     -999.0,9,     -999.0,9,     -999.0,9,     -999.0,9,   1.1270,20141220,       1643
06AQ20141202,        A12,      32,          4,         18,2,20141220,       1523,   -67.5732,     0.1477,       4602,   201.1,   1.1191,  34.6967,2,-999.0000,9,    188.3,2,   187.8,2,  100.53,2,   32.77,2,    0.00,2,    2.25,2,  2257.5,2,  2350.2,2,-999.0000,9,  -999.00,     -999.0,9,     -999.0,9,     -999.0,9,     -999.0,9,     -999.0,9,     -999.0,9,     -999.0,9,     -999.0,9,     -999.0,9,     -999.0,9,     -999.0,9,     -999.0,9,     -999.0,9,     -999.0,9,     -999.0,9,     -999.0,9,     -999.0,9,     -999.0,9,     -999.0,9,     -999.0,9,     -999.0,9,     -999.0,9,     -999.0,9,     -999.0,9,     -999.0,9,     -999.0,9,     -999.0,9,     -999.0,9,   1.1098,20141220,       1641
06AQ20141202,        A12,      32,          4,         17,2,20141220,       1523,   -67.5732,     0.1477,       4602,   303.6,   1.0263,  34.7035,2,-999.0000,9,    191.6,2,   191.3,2,  102.58,2,   32.24,2,    0.00,2,    2.24,2,  2255.0,2,  2351.4,2,-999.0000,9,  -999.00,     -999.0,9,     -999.0,9,     -999.0,9,     -999.0,9,     -999.0,9,     -999.0,9,     -999.0,9,     -999.0,9,     -999.0,9,     -999.0,9,     -999.0,9,     -999.0,9,     -999.0,9,     -999.0,9,     -999.0,9,     -999.0,9,     -999.0,9,     -999.0,9,     -999.0,9,     -999.0,9,     -999.0,9,     -999.0,9,     -999.0,9,     -999.0,9,     -999.0,9,     -999.0,9,     -999.0,9,     -999.0,9,   1.0122,20141220,       1639
06AQ20141202,        A12,      32,          4,         16,2,20141220,       1523,   -67.5732,     0.1477,       4602,   404.1,   0.8838,  34.6991,2,-999.0000,9,    193.7,2,   192.8,2,  106.59,2,   32.50,2,    0.00,2,    2.24,2,  2256.4,2,  2353.7,2,-999.0000,9,  -999.00,     -999.0,9,     -999.0,9,     -999.0,9,     -999.0,9,     -999.0,9,     -999.0,9,     -999.0,9,     -999.0,9,     -999.0,9,     -999.0,9,     -999.0,9,     -999.0,9,     -999.0,9,     -999.0,9,     -999.0,9,     -999.0,9,     -999.0,9,     -999.0,9,     -999.0,9,     -999.0,9,     -999.0,9,     -999.0,9,     -999.0,9,     -999.0,9,     -999.0,9,     -999.0,9,     -999.0,9,     -999.0,9,   0.8651,20141220,       1637
06AQ20141202,        A12,      32,          4,         15,2,20141220,       1523,   -67.5732,     0.1477,       4602,   606.6,   0.7164,  34.6969,2,-999.0000,9,    195.5,2,   196.8,2,  112.54,2,   32.64,2,    0.00,2,    2.26,2,  2258.6,2,  2355.7,2,-999.0000,9,  -999.00,     -999.0,9,     -999.0,9,     -999.0,9,     -999.0,9,     -999.0,9,     -999.0,9,     -999.0,9,     -999.0,9,     -999.0,9,     -999.0,9,     -999.0,9,     -999.0,9,     -999.0,9,     -999.0,9,     -999.0,9,     -999.0,9,     -999.0,9,     -999.0,9,     -999.0,9,     -999.0,9,     -999.0,9,     -999.0,9,     -999.0,9,     -999.0,9,     -999.0,9,     -999.0,9,     -999.0,9,     -999.0,9,   0.6881,20141220,       1633
06AQ20141202,        A12,      32,          4,         14,2,20141220,       1523,   -67.5732,     0.1477,       4602,   809.8,   0.5766,  34.6924,2,-999.0000,9,    197.2,2,   197.7,2,  117.52,2,   32.78,2,    0.00,2,    2.27,2,  2262.0,2,  2357.7,2,-999.0000,9,  -999.00,     -999.0,9,     -999.0,9,     -999.0,9,     -999.0,9,     -999.0,9,     -999.0,9,     -999.0,9,     -999.0,9,     -999.0,9,     -999.0,9,     -999.0,9,     -999.0,9,     -999.0,9,     -999.0,9,     -999.0,9,     -999.0,9,     -999.0,9,     -999.0,9,     -999.0,9,     -999.0,9,     -999.0,9,     -999.0,9,     -999.0,9,     -999.0,9,     -999.0,9,     -999.0,9,     -999.0,9,     -999.0,9,   0.5383,20141220,       1628
06AQ20141202,        A12,      32,          4,         13,2,20141220,       1523,   -67.5732,     0.1477,       4602,   911.1,   0.5188,  34.6906,2,-999.0000,9,    197.5,2,   198.1,2,  119.66,2,   32.90,2,    0.00,2,    2.30,2,  2262.3,2,  2357.3,2,-999.0000,9,  -999.00,     -999.0,9,     -999.0,9,     -999.0,9,     -999.0,9,     -999.0,9,     -999.0,9,     -999.0,9,     -999.0,9,     -999.0,9,     -999.0,9,     -999.0,9,     -999.0,9,     -999.0,9,     -999.0,9,     -999.0,9,     -999.0,9,     -999.0,9,     -999.0,9,     -999.0,9,     -999.0,9,     -999.0,9,     -999.0,9,     -999.0,9,     -999.0,9,     -999.0,9,     -999.0,9,     -999.0,9,     -999.0,9,   0.4753,20141220,       1626
06AQ20141202,        A12,      32,          4,         12,2,20141220,       1523,   -67.5732,     0.1477,       4602,  1012.7,   0.4684,  34.6890,2,-999.0000,9,    198.0,2,   199.9,2,  121.62,2,   33.14,2,    0.00,2,    2.30,2,  2262.1,2,  2356.3,2,-999.0000,9,  -999.00,     -999.0,9,     -999.0,9,     -999.0,9,     -999.0,9,     -999.0,9,     -999.0,9,     -999.0,9,     -999.0,9,     -999.0,9,     -999.0,9,     -999.0,9,     -999.0,9,     -999.0,9,     -999.0,9,     -999.0,9,     -999.0,9,     -999.0,9,     -999.0,9,     -999.0,9,     -999.0,9,     -999.0,9,     -999.0,9,     -999.0,9,     -999.0,9,     -999.0,9,     -999.0,9,     -999.0,9,     -999.0,9,   0.4196,20141220,       1624
06AQ20141202,        A12,      32,          4,         11,2,20141220,       1523,   -67.5732,     0.1477,       4602,  1215.7,   0.3726,  34.6850,2,-999.0000,9,    200.7,2,   202.6,2,  124.64,2,   33.25,2,    0.00,2,    2.30,2,  2260.1,2,  2358.2,2,-999.0000,9,  -999.00,     -999.0,9,     -999.0,9,     -999.0,9,     -999.0,9,     -999.0,9,     -999.0,9,     -999.0,9,     -999.0,9,     -999.0,9,     -999.0,9,     -999.0,9,     -999.0,9,     -999.0,9,     -999.0,9,     -999.0,9,     -999.0,9,     -999.0,9,     -999.0,9,     -999.0,9,     -999.0,9,     -999.0,9,     -999.0,9,     -999.0,9,     -999.0,9,     -999.0,9,     -999.0,9,     -999.0,9,     -999.0,9,   0.3128,20141220,       1620
06AQ20141202,        A12,      32,          4,         10,2,20141220,       1523,   -67.5732,     0.1477,       4602,  1521.2,   0.2415,  34.6793,2,-999.0000,9,    206.1,2,   207.9,2,  126.40,2,   33.15,2,    0.00,2,    2.30,2,  2259.4,2,  2355.9,2,-999.0000,9,  -999.00,     -999.0,9,     -999.0,9,     -999.0,9,     -999.0,9,     -999.0,9,     -999.0,9,     -999.0,9,     -999.0,9,     -999.0,9,     -999.0,9,     -999.0,9,     -999.0,9,     -999.0,9,     -999.0,9,     -999.0,9,     -999.0,9,     -999.0,9,     -999.0,9,     -999.0,9,     -999.0,9,     -999.0,9,     -999.0,9,     -999.0,9,     -999.0,9,     -999.0,9,     -999.0,9,     -999.0,9,     -999.0,9,   0.1644,20141220,       1613
06AQ20141202,        A12,      32,          4,          9,2,20141220,       1523,   -67.5732,     0.1477,       4602,  1826.0,   0.1299,  34.6741,2,-999.0000,9,    211.1,2,   214.6,2,  126.21,2,   32.81,2,    0.00,2,    2.27,2,  2260.1,2,  2358.0,2,-999.0000,9,  -999.00,     -999.0,9,     -999.0,9,     -999.0,9,     -999.0,9,     -999.0,9,     -999.0,9,     -999.0,9,     -999.0,9,     -999.0,9,     -999.0,9,     -999.0,9,     -999.0,9,     -999.0,9,     -999.0,9,     -999.0,9,     -999.0,9,     -999.0,9,     -999.0,9,     -999.0,9,     -999.0,9,     -999.0,9,     -999.0,9,     -999.0,9,     -999.0,9,     -999.0,9,     -999.0,9,     -999.0,9,     -999.0,9,   0.0342,20141220,       1607
06AQ20141202,        A12,      32,          4,          8,2,20141220,       1523,   -67.5732,     0.1477,       4602,  2030.2,   0.0594,  34.6710,2,-999.0000,9,    213.9,2,   217.6,2,  127.28,2,   32.89,2,    0.00,2,    2.27,2,  2257.6,2,  2357.4,2,-999.0000,9,  -999.00,     -999.0,9,     -999.0,9,     -999.0,9,     -999.0,9,     -999.0,9,     -999.0,9,     -999.0,9,     -999.0,9,     -999.0,9,     -999.0,9,     -999.0,9,     -999.0,9,     -999.0,9,     -999.0,9,     -999.0,9,     -999.0,9,     -999.0,9,     -999.0,9,     -999.0,9,     -999.0,9,     -999.0,9,     -999.0,9,     -999.0,9,     -999.0,9,     -999.0,9,     -999.0,9,     -999.0,9,     -999.0,9,  -0.0494,20141220,       1603
06AQ20141202,        A12,      32,          4,          7,2,20141220,       1523,   -67.5732,     0.1477,       4602,  2233.8,  -0.0063,  34.6681,2,-999.0000,9,    217.4,2,   219.9,2,  126.40,2,   32.59,2,    0.00,2,    2.25,2,  2257.6,2,  2356.8,2,-999.0000,9,  -999.00,     -999.0,9,     -999.0,9,     -999.0,9,     -999.0,9,     -999.0,9,     -999.0,9,     -999.0,9,     -999.0,9,     -999.0,9,     -999.0,9,     -999.0,9,     -999.0,9,     -999.0,9,     -999.0,9,     -999.0,9,     -999.0,9,     -999.0,9,     -999.0,9,     -999.0,9,     -999.0,9,     -999.0,9,     -999.0,9,     -999.0,9,     -999.0,9,     -999.0,9,     -999.0,9,     -999.0,9,     -999.0,9,  -0.1287,20141220,       1559
06AQ20141202,        A12,      32,          4,          6,2,20141220,       1523,   -67.5732,     0.1477,       4602,  2540.5,  -0.0736,  34.6651,2,-999.0000,9,    221.3,2,   223.8,2,  127.38,2,   32.50,2,    0.00,2,    2.27,2,  2256.6,2,  2354.8,2,-999.0000,9,  -999.00,     -999.0,9,     -999.0,9,     -999.0,9,     -999.0,9,     -999.0,9,     -999.0,9,     -999.0,9,     -999.0,9,     -999.0,9,     -999.0,9,     -999.0,9,     -999.0,9,     -999.0,9,     -999.0,9,     -999.0,9,     -999.0,9,     -999.0,9,     -999.0,9,     -999.0,9,     -999.0,9,     -999.0,9,     -999.0,9,     -999.0,9,     -999.0,9,     -999.0,9,     -999.0,9,     -999.0,9,     -999.0,9,  -0.2179,20141220,       1552
06AQ20141202,        A12,      32,          4,          5,2,20141220,       1523,   -67.5732,     0.1477,       4602,  2847.7,  -0.1348,  34.6623,2,-999.0000,9,    224.7,2,   228.0,2,  127.48,2,   32.58,2,    0.00,2,    2.27,2,  2255.0,2,  2353.8,2,-999.0000,9,  -999.00,     -999.0,9,     -999.0,9,     -999.0,9,     -999.0,9,     -999.0,9,     -999.0,9,     -999.0,9,     -999.0,9,     -999.0,9,     -999.0,9,     -999.0,9,     -999.0,9,     -999.0,9,     -999.0,9,     -999.0,9,     -999.0,9,     -999.0,9,     -999.0,9,     -999.0,9,     -999.0,9,     -999.0,9,     -999.0,9,     -999.0,9,     -999.0,9,     -999.0,9,     -999.0,9,     -999.0,9,     -999.0,9,  -0.3024,20141220,       1546
06AQ20141202,        A12,      32,          4,          4,2,20141220,       1523,   -67.5732,     0.1477,       4602,  3052.2,  -0.1683,  34.6607,2,-999.0000,9,    226.8,2,   233.1,2,  125.72,2,   32.47,2,    0.00,2,    2.27,2,  2253.7,2,  2353.2,2,-999.0000,9,  -999.00,     -999.0,9,     -999.0,9,     -999.0,9,     -999.0,9,     -999.0,9,     -999.0,9,     -999.0,9,     -999.0,9,     -999.0,9,     -999.0,9,     -999.0,9,     -999.0,9,     -999.0,9,     -999.0,9,     -999.0,9,     -999.0,9,     -999.0,9,     -999.0,9,     -999.0,9,     -999.0,9,     -999.0,9,     -999.0,9,     -999.0,9,     -999.0,9,     -999.0,9,     -999.0,9,     -999.0,9,     -999.0,9,  -0.3523,20141220,       1543
06AQ20141202,        A12,      32,          4,          3,2,20141220,       1523,   -67.5732,     0.1477,       4602,  3359.5,  -0.2049,  34.6588,2,-999.0000,9,    230.0,2,   233.7,2,  127.09,2,   32.60,2,    0.00,2,    2.26,2,  2251.9,2,  2354.1,2,-999.0000,9,  -999.00,     -999.0,9,     -999.0,9,     -999.0,9,     -999.0,9,     -999.0,9,     -999.0,9,     -999.0,9,     -999.0,9,     -999.0,9,     -999.0,9,     -999.0,9,     -999.0,9,     -999.0,9,     -999.0,9,     -999.0,9,     -999.0,9,     -999.0,9,     -999.0,9,     -999.0,9,     -999.0,9,     -999.0,9,     -999.0,9,     -999.0,9,     -999.0,9,     -999.0,9,     -999.0,9,     -999.0,9,     -999.0,9,  -0.4148,20141220,       1537
06AQ20141202,        A12,      32,          4,          2,2,20141220,       1523,   -67.5732,     0.1477,       4602,  3565.5,  -0.2246,  34.6575,2,-999.0000,9,    231.7,2,   235.4,2,  127.67,2,   32.51,2,    0.00,2,    2.25,2,  2250.2,2,  2352.7,2,-999.0000,9,  -999.00,     -999.0,9,     -999.0,9,     -999.0,9,     -999.0,9,     -999.0,9,     -999.0,9,     -999.0,9,     -999.0,9,     -999.0,9,     -999.0,9,     -999.0,9,     -999.0,9,     -999.0,9,     -999.0,9,     -999.0,9,     -999.0,9,     -999.0,9,     -999.0,9,     -999.0,9,     -999.0,9,     -999.0,9,     -999.0,9,     -999.0,9,     -999.0,9,     -999.0,9,     -999.0,9,     -999.0,9,     -999.0,9,  -0.4527,20141220,       1533
06AQ20141202,        A12,      32,          4,          1,2,20141220,       1523,   -67.5732,     0.1477,       4602,  4122.9,  -0.2712,  34.6549,2,-999.0000,9,    234.3,2,   237.6,2,  131.09,2,   32.35,2,    0.00,2,    2.24,2,  2253.2,2,  2352.9,2,-999.0000,9,  -999.00,     -999.0,9,     -999.0,9,     -999.0,9,     -999.0,9,     -999.0,9,     -999.0,9,     -999.0,9,     -999.0,9,     -999.0,9,     -999.0,9,     -999.0,9,     -999.0,9,     -999.0,9,     -999.0,9,     -999.0,9,     -999.0,9,     -999.0,9,     -999.0,9,     -999.0,9,     -999.0,9,     -999.0,9,     -999.0,9,     -999.0,9,     -999.0,9,     -999.0,9,     -999.0,9,     -999.0,9,     -999.0,9,  -0.5516,20141220,       1523