BOTTLE,20220815CCHSIOAMB
EXPOCODE,SECT_ID,STNNBR,CASTNO,BTLNBR,BTLNBR_FLAG_W,DATE,TIME,LATITUDE,LONGITUDE,DEPTH,CTDPRS,CTDTMP,CTDSAL,CTDSAL_FLAG_W,SALNTY,SALNTY_FLAG_W,CTDOXY,CTDOXY_FLAG_W,OXYGEN,OXYGEN_FLAG_W,SILCAT,SILCAT_FLAG_W,NITRAT,NITRAT_FLAG_W,NITRIT,NITRIT_FLAG_W,PHSPHT,PHSPHT_FLAG_W,TCARBN,TCARBN_FLAG_W,ALKALI,ALKALI_FLAG_W,PH_TOT,PH_TOT_FLAG_W,PH_TMP,POC,POC_FLAG_W,PON,PON_FLAG_W,FUCO,FUCO_FLAG_W,ALPHA-BETA-CAR,ALPHA-BETA-CAR_FLAG_W,ALLO,ALLO_FLAG_W,BUT-FUCO,BUT-FUCO_FLAG_W,CHL_C1C2,CHL_C1C2_FLAG_W,CHL_C3,CHL_C3_FLAG_W,CHLIDE_A,CHLIDE_A_FLAG_W,DIADINO,DIADINO_FLAG_W,DIATO,DIATO_FLAG_W,DV_CHL_A,DV_CHL_A_FLAG_W,DV_CHL_B,DV_CHL_B_FLAG_W,GYRO,GYRO_FLAG_W,HEX-FUCO,HEX-FUCO_FLAG_W,LUT,LUT_FLAG_W,MV_CHL_A,MV_CHL_A_FLAG_W,MV_CHL_B,MV_CHL_B_FLAG_W,NEO,NEO_FLAG_W,PERID,PERID_FLAG_W,PHIDE_A,PHIDE_A_FLAG_W,PHYTIN_A,PHYTIN_A_FLAG_W,PRAS,PRAS_FLAG_W,TOT_CHL_A,TOT_CHL_A_FLAG_W,TOT_CHL_B,TOT_CHL_B_FLAG_W,TOT_CHL_C,TOT_CHL_C_FLAG_W,VIOLA,VIOLA_FLAG_W,ZEA,ZEA_FLAG_W,THETA,BTL_DATE,BTL_TIME
,,,,,,,,,,METERS,DBAR,ITS-90,PSS-78,,PSS-78,,UMOL/KG,,UMOL/KG,,UMOL/KG,,UMOL/KG,,UMOL/KG,,UMOL/KG,,UMOL/KG,,UMOL/KG,,,,DEG C,uG/KG,,ug/kg,,NMOL/KG,,MG/M^3,,MG/M^3,,MG/M^3,,MG/M^3,,MG/M^3,,MG/M^3,,MG/M^3,,MG/M^3,,MG/M^3,,MG/M^3,,MG/M^3,,MG/M^3,,MG/M^3,,MG/M^3,,MG/M^3,,MG/M^3,,MG/M^3,,MG/M^3,,MG/M^3,,MG/M^3,,MG/M^3,,MG/M^3,,MG/M^3,,MG/M^3,,MG/M^3,,DEG C,,
06AQ20141202,        A12,      73,          1,         24,2,20150118,       0425,   -67.6667,    -1.7533,       4646,    15.0,  -0.8178,  33.8410,2,  33.8242,2,    310.7,2,   323.3,2,   75.30,2,   27.73,2,    0.23,2,    1.91,2,  -999.0,9,  -999.0,9,   7.6383,2,    25.00,         57,2,         12,2,     0.0290,2,      0.005,2,      0.001,2,      0.001,2,      0.021,2,      0.006,2,      0.003,2,      0.018,2,      0.001,2,     -999.0,9,     -999.0,9,     -999.0,9,      0.020,2,      0.002,2,      0.131,2,      0.014,2,     -999.0,9,      0.001,2,      0.016,2,      0.007,2,     -999.0,9,      0.134,2,      0.014,2,      0.027,2,      0.002,2,     -999.0,9,  -0.8182,20150118,       0603
06AQ20141202,        A12,      73,          1,         23,2,20150118,       0425,   -67.6667,    -1.7533,       4646,    14.9,  -0.9079,  33.8856,2,  33.8185,2,    311.4,2,   323.4,2,   74.91,2,   27.71,2,    0.23,2,    1.89,2,  -999.0,9,  -999.0,9,   7.6381,2,    25.00,        206,2,         45,2,     0.0260,2,      0.004,2,      0.001,2,      0.001,2,      0.020,2,      0.006,2,      0.002,2,      0.014,2,      0.001,2,     -999.0,9,     -999.0,9,     -999.0,9,      0.018,2,      0.002,2,      0.128,2,      0.014,2,     -999.0,9,      0.001,2,      0.014,2,      0.006,2,     -999.0,9,      0.130,2,      0.014,2,      0.026,2,      0.001,2,     -999.0,9,  -0.9083,20150118,       0602
06AQ20141202,        A12,      73,          1,         22,2,20150118,       0425,   -67.6667,    -1.7533,       4646,    25.0,  -1.6700,  34.1230,2,  34.1163,2,    277.5,2,   281.8,2,   75.38,2,   28.47,2,    0.19,2,    1.98,2,  -999.0,9,  -999.0,9,   7.5416,3,    25.00,         46,2,          9,2,     0.0290,2,      0.003,2,      0.001,2,      0.003,2,      0.021,2,      0.008,2,      0.002,2,      0.008,2,      0.001,2,     -999.0,9,     -999.0,9,     -999.0,9,      0.024,2,     -999.0,9,      0.111,2,      0.005,2,     -999.0,9,      0.002,2,      0.011,2,      0.002,2,     -999.0,9,      0.113,2,      0.005,2,      0.029,2,     -999.0,9,     -999.0,9,  -1.6705,20150118,       0602
06AQ20141202,        A12,      73,          1,         21,2,20150118,       0425,   -67.6667,    -1.7533,       4646,    50.6,  -1.7420,  34.3192,2,  34.3121,2,    268.1,2,   273.3,2,   75.96,2,   29.19,2,    0.24,2,    2.08,2,  -999.0,9,  -999.0,9,   7.6069,2,    25.00,     -999.0,9,     -999.0,9,     -999.0,9,     -999.0,9,     -999.0,9,     -999.0,9,     -999.0,9,     -999.0,9,     -999.0,9,     -999.0,9,     -999.0,9,     -999.0,9,     -999.0,9,     -999.0,9,     -999.0,9,     -999.0,9,     -999.0,9,     -999.0,9,     -999.0,9,     -999.0,9,     -999.0,9,     -999.0,9,     -999.0,9,     -999.0,9,     -999.0,9,     -999.0,9,     -999.0,9,     -999.0,9,  -1.7430,20150118,       0601
06AQ20141202,        A12,      73,          1,         20,2,20150118,       0425,   -67.6667,    -1.7533,       4646,   101.1,   0.2449,  34.6032,2,  34.5796,2,    205.1,2,   222.0,2,   87.75,2,   32.03,2,    0.02,2,    2.20,2,  -999.0,9,  -999.0,9,   7.5707,2,    25.00,     -999.0,9,     -999.0,9,     -999.0,9,     -999.0,9,     -999.0,9,     -999.0,9,     -999.0,9,     -999.0,9,     -999.0,9,     -999.0,9,     -999.0,9,     -999.0,9,     -999.0,9,     -999.0,9,     -999.0,9,     -999.0,9,     -999.0,9,     -999.0,9,     -999.0,9,     -999.0,9,     -999.0,9,     -999.0,9,     -999.0,9,     -999.0,9,     -999.0,9,     -999.0,9,     -999.0,9,     -999.0,9,   0.2411,20150118,       0559
06AQ20141202,        A12,      73,          1,         19,2,20150118,       0425,   -67.6667,    -1.7533,       4646,   141.8,   0.6771,  34.6605,2,  34.6509,2,    198.3,2,   203.1,2,   94.97,2,   32.65,2,    0.00,2,    2.23,2,  -999.0,9,  -999.0,9,   7.4680,4,    25.00,     -999.0,9,     -999.0,9,     -999.0,9,     -999.0,9,     -999.0,9,     -999.0,9,     -999.0,9,     -999.0,9,     -999.0,9,     -999.0,9,     -999.0,9,     -999.0,9,     -999.0,9,     -999.0,9,     -999.0,9,     -999.0,9,     -999.0,9,     -999.0,9,     -999.0,9,     -999.0,9,     -999.0,9,     -999.0,9,     -999.0,9,     -999.0,9,     -999.0,9,     -999.0,9,     -999.0,9,     -999.0,9,   0.6711,20150118,       0558
06AQ20141202,        A12,      73,          1,         18,2,20150118,       0425,   -67.6667,    -1.7533,       4646,   202.3,   0.8508,  34.6844,2,  34.6801,2,    194.5,2,   198.5,2,   99.36,2,   32.61,2,    0.00,2,    2.24,2,  -999.0,9,  -999.0,9,   7.5683,2,    25.00,     -999.0,9,     -999.0,9,     -999.0,9,     -999.0,9,     -999.0,9,     -999.0,9,     -999.0,9,     -999.0,9,     -999.0,9,     -999.0,9,     -999.0,9,     -999.0,9,     -999.0,9,     -999.0,9,     -999.0,9,     -999.0,9,     -999.0,9,     -999.0,9,     -999.0,9,     -999.0,9,     -999.0,9,     -999.0,9,     -999.0,9,     -999.0,9,     -999.0,9,     -999.0,9,     -999.0,9,     -999.0,9,   0.8419,20150118,       0556
06AQ20141202,        A12,      73,          1,         17,2,20150118,       0425,   -67.6667,    -1.7533,       4646,   303.6,   0.8874,  34.6967,2,  34.6920,2,    193.7,2,   198.1,2,  103.95,2,   32.64,2,    0.00,2,    2.24,2,  -999.0,9,  -999.0,9,   7.5732,2,    25.00,     -999.0,9,     -999.0,9,     -999.0,9,     -999.0,9,     -999.0,9,     -999.0,9,     -999.0,9,     -999.0,9,     -999.0,9,     -999.0,9,     -999.0,9,     -999.0,9,     -999.0,9,     -999.0,9,     -999.0,9,     -999.0,9,     -999.0,9,     -999.0,9,     -999.0,9,     -999.0,9,     -999.0,9,     -999.0,9,     -999.0,9,     -999.0,9,     -999.0,9,     -999.0,9,     -999.0,9,     -999.0,9,   0.8736,20150118,       0553
06AQ20141202,        A12,      73,          1,         16,2,20150118,       0425,   -67.6667,    -1.7533,       4646,   404.5,   0.7917,  34.6964,2,  34.6936,2,    195.1,2,   200.3,2,  106.59,2,   32.68,2,    0.00,2,    2.24,2,  -999.0,9,  -999.0,9,   7.5749,2,    25.00,     -999.0,9,     -999.0,9,     -999.0,9,     -999.0,9,     -999.0,9,     -999.0,9,     -999.0,9,     -999.0,9,     -999.0,9,     -999.0,9,     -999.0,9,     -999.0,9,     -999.0,9,     -999.0,9,     -999.0,9,     -999.0,9,     -999.0,9,     -999.0,9,     -999.0,9,     -999.0,9,     -999.0,9,     -999.0,9,     -999.0,9,     -999.0,9,     -999.0,9,     -999.0,9,     -999.0,9,     -999.0,9,   0.7733,20150118,       0549
06AQ20141202,        A12,      73,          1,         15,2,20150118,       0425,   -67.6667,    -1.7533,       4646,   606.8,   0.6766,  34.6965,2,  34.6932,2,    196.4,2,   201.3,2,  112.83,2,   32.71,2,    0.00,2,    2.25,2,  -999.0,9,  -999.0,9,   7.5768,6,    25.00,     -999.0,9,     -999.0,9,     -999.0,9,     -999.0,9,     -999.0,9,     -999.0,9,     -999.0,9,     -999.0,9,     -999.0,9,     -999.0,9,     -999.0,9,     -999.0,9,     -999.0,9,     -999.0,9,     -999.0,9,     -999.0,9,     -999.0,9,     -999.0,9,     -999.0,9,     -999.0,9,     -999.0,9,     -999.0,9,     -999.0,9,     -999.0,9,     -999.0,9,     -999.0,9,     -999.0,9,     -999.0,9,   0.6485,20150118,       0545
06AQ20141202,        A12,      73,          1,         14,2,20150118,       0425,   -67.6667,    -1.7533,       4646,   810.2,   0.5454,  34.6919,2,  34.6891,2,    197.4,2,   202.3,2,  117.32,2,   33.01,2,    0.00,2,    2.27,2,  -999.0,9,  -999.0,9,   7.5751,2,    25.00,     -999.0,9,     -999.0,9,     -999.0,9,     -999.0,9,     -999.0,9,     -999.0,9,     -999.0,9,     -999.0,9,     -999.0,9,     -999.0,9,     -999.0,9,     -999.0,9,     -999.0,9,     -999.0,9,     -999.0,9,     -999.0,9,     -999.0,9,     -999.0,9,     -999.0,9,     -999.0,9,     -999.0,9,     -999.0,9,     -999.0,9,     -999.0,9,     -999.0,9,     -999.0,9,     -999.0,9,     -999.0,9,   0.5073,20150118,       0541
06AQ20141202,        A12,      73,          1,         13,2,20150118,       0425,   -67.6667,    -1.7533,       4646,   911.3,   0.4992,  34.6903,2,  34.6882,2,    198.1,2,   202.9,2,  118.88,2,   33.07,2,    0.00,2,    2.26,2,  -999.0,9,  -999.0,9,   7.5751,2,    25.00,     -999.0,9,     -999.0,9,     -999.0,9,     -999.0,9,     -999.0,9,     -999.0,9,     -999.0,9,     -999.0,9,     -999.0,9,     -999.0,9,     -999.0,9,     -999.0,9,     -999.0,9,     -999.0,9,     -999.0,9,     -999.0,9,     -999.0,9,     -999.0,9,     -999.0,9,     -999.0,9,     -999.0,9,     -999.0,9,     -999.0,9,     -999.0,9,     -999.0,9,     -999.0,9,     -999.0,9,     -999.0,9,   0.4559,20150118,       0538
06AQ20141202,        A12,      73,          1,         12,2,20150118,       0425,   -67.6667,    -1.7533,       4646,  1012.8,   0.4584,  34.6888,2,  34.6871,2,    199.4,2,   205.6,2,  119.86,2,   33.08,2,    0.00,2,    2.27,2,  -999.0,9,  -999.0,9,   7.5761,2,    25.00,     -999.0,9,     -999.0,9,     -999.0,9,     -999.0,9,     -999.0,9,     -999.0,9,     -999.0,9,     -999.0,9,     -999.0,9,     -999.0,9,     -999.0,9,     -999.0,9,     -999.0,9,     -999.0,9,     -999.0,9,     -999.0,9,     -999.0,9,     -999.0,9,     -999.0,9,     -999.0,9,     -999.0,9,     -999.0,9,     -999.0,9,     -999.0,9,     -999.0,9,     -999.0,9,     -999.0,9,     -999.0,9,   0.4097,20150118,       0536
06AQ20141202,        A12,      73,          1,         11,2,20150118,       0425,   -67.6667,    -1.7533,       4646,  1216.1,   0.3566,  34.6845,2,  34.6833,2,    201.5,2,   206.3,2,  122.50,2,   33.14,2,    0.00,2,    2.26,2,  -999.0,9,  -999.0,9,   7.5762,2,    25.00,     -999.0,9,     -999.0,9,     -999.0,9,     -999.0,9,     -999.0,9,     -999.0,9,     -999.0,9,     -999.0,9,     -999.0,9,     -999.0,9,     -999.0,9,     -999.0,9,     -999.0,9,     -999.0,9,     -999.0,9,     -999.0,9,     -999.0,9,     -999.0,9,     -999.0,9,     -999.0,9,     -999.0,9,     -999.0,9,     -999.0,9,     -999.0,9,     -999.0,9,     -999.0,9,     -999.0,9,     -999.0,9,   0.2970,20150118,       0532
06AQ20141202,        A12,      73,          1,         10,2,20150118,       0425,   -67.6667,    -1.7533,       4646,  1520.7,   0.2317,  34.6790,2,  34.6777,2,    206.0,2,   212.3,2,  124.25,2,   33.16,2,    0.00,2,    2.27,2,  -999.0,9,  -999.0,9,   7.5784,2,    25.00,     -999.0,9,     -999.0,9,     -999.0,9,     -999.0,9,     -999.0,9,     -999.0,9,     -999.0,9,     -999.0,9,     -999.0,9,     -999.0,9,     -999.0,9,     -999.0,9,     -999.0,9,     -999.0,9,     -999.0,9,     -999.0,9,     -999.0,9,     -999.0,9,     -999.0,9,     -999.0,9,     -999.0,9,     -999.0,9,     -999.0,9,     -999.0,9,     -999.0,9,     -999.0,9,     -999.0,9,     -999.0,9,   0.1547,20150118,       0525
06AQ20141202,        A12,      73,          1,          9,2,20150118,       0425,   -67.6667,    -1.7533,       4646,  1825.9,   0.1166,  34.6736,2,  34.6727,2,    210.9,2,   219.5,2,  125.13,2,   33.05,2,    0.00,2,    2.27,2,  -999.0,9,  -999.0,9,   7.5846,2,    25.00,     -999.0,9,     -999.0,9,     -999.0,9,     -999.0,9,     -999.0,9,     -999.0,9,     -999.0,9,     -999.0,9,     -999.0,9,     -999.0,9,     -999.0,9,     -999.0,9,     -999.0,9,     -999.0,9,     -999.0,9,     -999.0,9,     -999.0,9,     -999.0,9,     -999.0,9,     -999.0,9,     -999.0,9,     -999.0,9,     -999.0,9,     -999.0,9,     -999.0,9,     -999.0,9,     -999.0,9,     -999.0,9,   0.0211,20150118,       0519
06AQ20141202,        A12,      73,          1,          8,2,20150118,       0425,   -67.6667,    -1.7533,       4646,  2029.6,   0.0460,  34.6707,2,  34.6697,2,    214.4,2,   222.4,2,  125.23,2,   32.89,2,    0.00,2,    2.26,2,  -999.0,9,  -999.0,9,   7.5854,2,    25.00,     -999.0,9,     -999.0,9,     -999.0,9,     -999.0,9,     -999.0,9,     -999.0,9,     -999.0,9,     -999.0,9,     -999.0,9,     -999.0,9,     -999.0,9,     -999.0,9,     -999.0,9,     -999.0,9,     -999.0,9,     -999.0,9,     -999.0,9,     -999.0,9,     -999.0,9,     -999.0,9,     -999.0,9,     -999.0,9,     -999.0,9,     -999.0,9,     -999.0,9,     -999.0,9,     -999.0,9,     -999.0,9,  -0.0625,20150118,       0515
06AQ20141202,        A12,      73,          1,          7,2,20150118,       0425,   -67.6667,    -1.7533,       4646,  2336.5,  -0.0387,  34.6667,2,  34.6659,2,    218.7,2,   225.9,2,  125.43,2,   32.73,2,    0.00,2,    2.25,2,  -999.0,9,  -999.0,9,   7.5897,2,    25.00,     -999.0,9,     -999.0,9,     -999.0,9,     -999.0,9,     -999.0,9,     -999.0,9,     -999.0,9,     -999.0,9,     -999.0,9,     -999.0,9,     -999.0,9,     -999.0,9,     -999.0,9,     -999.0,9,     -999.0,9,     -999.0,9,     -999.0,9,     -999.0,9,     -999.0,9,     -999.0,9,     -999.0,9,     -999.0,9,     -999.0,9,     -999.0,9,     -999.0,9,     -999.0,9,     -999.0,9,     -999.0,9,  -0.1681,20150118,       0509
06AQ20141202,        A12,      73,          1,          6,2,20150118,       0425,   -67.6667,    -1.7533,       4646,  2540.5,  -0.0860,  34.6646,2,  34.6637,2,    221.1,2,   228.9,2,  125.23,2,   32.59,2,    0.00,2,    2.24,2,  -999.0,9,  -999.0,9,   7.5910,2,    25.00,     -999.0,9,     -999.0,9,     -999.0,9,     -999.0,9,     -999.0,9,     -999.0,9,     -999.0,9,     -999.0,9,     -999.0,9,     -999.0,9,     -999.0,9,     -999.0,9,     -999.0,9,     -999.0,9,     -999.0,9,     -999.0,9,     -999.0,9,     -999.0,9,     -999.0,9,     -999.0,9,     -999.0,9,     -999.0,9,     -999.0,9,     -999.0,9,     -999.0,9,     -999.0,9,     -999.0,9,     -999.0,9,  -0.2301,20150118,       0505
06AQ20141202,        A12,      73,          1,          5,2,20150118,       0425,   -67.6667,    -1.7533,       4646,  2847.5,  -0.1475,  34.6615,2,  34.6612,2,    225.0,2,   232.7,2,  124.45,2,   32.70,2,    0.00,2,    2.23,2,  -999.0,9,  -999.0,9,   7.5939,2,    25.00,     -999.0,9,     -999.0,9,     -999.0,9,     -999.0,9,     -999.0,9,     -999.0,9,     -999.0,9,     -999.0,9,     -999.0,9,     -999.0,9,     -999.0,9,     -999.0,9,     -999.0,9,     -999.0,9,     -999.0,9,     -999.0,9,     -999.0,9,     -999.0,9,     -999.0,9,     -999.0,9,     -999.0,9,     -999.0,9,     -999.0,9,     -999.0,9,     -999.0,9,     -999.0,9,     -999.0,9,     -999.0,9,  -0.3148,20150118,       0458
06AQ20141202,        A12,      73,          1,          4,2,20150118,       0425,   -67.6667,    -1.7533,       4646,  3051.9,  -0.1765,  34.6602,2,  34.6593,2,    227.1,2,   234.9,2,  123.96,2,   32.56,2,    0.00,2,    2.24,2,  -999.0,9,  -999.0,9,   7.5942,2,    25.00,     -999.0,9,     -999.0,9,     -999.0,9,     -999.0,9,     -999.0,9,     -999.0,9,     -999.0,9,     -999.0,9,     -999.0,9,     -999.0,9,     -999.0,9,     -999.0,9,     -999.0,9,     -999.0,9,     -999.0,9,     -999.0,9,     -999.0,9,     -999.0,9,     -999.0,9,     -999.0,9,     -999.0,9,     -999.0,9,     -999.0,9,     -999.0,9,     -999.0,9,     -999.0,9,     -999.0,9,     -999.0,9,  -0.3603,20150118,       0454
06AQ20141202,        A12,      73,          1,          3,2,20150118,       0425,   -67.6667,    -1.7533,       4646,  3565.0,  -0.2263,  34.6570,2,  34.6561,2,    231.4,2,   239.8,2,  124.55,2,   32.56,2,    0.00,2,    2.23,2,  -999.0,9,  -999.0,9,   7.5104,4,    25.00,     -999.0,9,     -999.0,9,     -999.0,9,     -999.0,9,     -999.0,9,     -999.0,9,     -999.0,9,     -999.0,9,     -999.0,9,     -999.0,9,     -999.0,9,     -999.0,9,     -999.0,9,     -999.0,9,     -999.0,9,     -999.0,9,     -999.0,9,     -999.0,9,     -999.0,9,     -999.0,9,     -999.0,9,     -999.0,9,     -999.0,9,     -999.0,9,     -999.0,9,     -999.0,9,     -999.0,9,     -999.0,9,  -0.4543,20150118,       0444
06AQ20141202,        A12,      73,          1,          2,2,20150118,       0425,   -67.6667,    -1.7533,       4646,  4079.4,  -0.2484,  34.6553,2,  34.6537,2,    233.7,2,   242.3,2,  127.38,2,   32.38,2,    0.00,2,    2.23,2,  -999.0,9,  -999.0,9,   7.6018,2,    25.00,     -999.0,9,     -999.0,9,     -999.0,9,     -999.0,9,     -999.0,9,     -999.0,9,     -999.0,9,     -999.0,9,     -999.0,9,     -999.0,9,     -999.0,9,     -999.0,9,     -999.0,9,     -999.0,9,     -999.0,9,     -999.0,9,     -999.0,9,     -999.0,9,     -999.0,9,     -999.0,9,     -999.0,9,     -999.0,9,     -999.0,9,     -999.0,9,     -999.0,9,     -999.0,9,     -999.0,9,     -999.0,9,  -0.5251,20150118,       0434
06AQ20141202,        A12,      73,          1,          1,2,20150118,       0425,   -67.6667,    -1.7533,       4646,  4547.2,  -0.2809,  34.6532,2,  34.6527,2,    233.8,2,   241.7,2,  135.48,2,   32.68,2,    0.00,2,    2.24,2,  -999.0,9,  -999.0,9,   7.5989,6,    25.00,     -999.0,9,     -999.0,9,     -999.0,9,     -999.0,9,     -999.0,9,     -999.0,9,     -999.0,9,     -999.0,9,     -999.0,9,     -999.0,9,     -999.0,9,     -999.0,9,     -999.0,9,     -999.0,9,     -999.0,9,     -999.0,9,     -999.0,9,     -999.0,9,     -999.0,9,     -999.0,9,     -999.0,9,     -999.0,9,     -999.0,9,     -999.0,9,     -999.0,9,     -999.0,9,     -999.0,9,     -999.0,9,  -0.6047,20150118,       0425