BOTTLE,20220815CCHSIOAMB
EXPOCODE,SECT_ID,STNNBR,CASTNO,BTLNBR,BTLNBR_FLAG_W,DATE,TIME,LATITUDE,LONGITUDE,DEPTH,CTDPRS,CTDTMP,CTDSAL,CTDSAL_FLAG_W,SALNTY,SALNTY_FLAG_W,CTDOXY,CTDOXY_FLAG_W,OXYGEN,OXYGEN_FLAG_W,SILCAT,SILCAT_FLAG_W,NITRAT,NITRAT_FLAG_W,NITRIT,NITRIT_FLAG_W,PHSPHT,PHSPHT_FLAG_W,TCARBN,TCARBN_FLAG_W,ALKALI,ALKALI_FLAG_W,PH_TOT,PH_TOT_FLAG_W,PH_TMP,POC,POC_FLAG_W,PON,PON_FLAG_W,FUCO,FUCO_FLAG_W,ALPHA-BETA-CAR,ALPHA-BETA-CAR_FLAG_W,ALLO,ALLO_FLAG_W,BUT-FUCO,BUT-FUCO_FLAG_W,CHL_C1C2,CHL_C1C2_FLAG_W,CHL_C3,CHL_C3_FLAG_W,CHLIDE_A,CHLIDE_A_FLAG_W,DIADINO,DIADINO_FLAG_W,DIATO,DIATO_FLAG_W,DV_CHL_A,DV_CHL_A_FLAG_W,DV_CHL_B,DV_CHL_B_FLAG_W,GYRO,GYRO_FLAG_W,HEX-FUCO,HEX-FUCO_FLAG_W,LUT,LUT_FLAG_W,MV_CHL_A,MV_CHL_A_FLAG_W,MV_CHL_B,MV_CHL_B_FLAG_W,NEO,NEO_FLAG_W,PERID,PERID_FLAG_W,PHIDE_A,PHIDE_A_FLAG_W,PHYTIN_A,PHYTIN_A_FLAG_W,PRAS,PRAS_FLAG_W,TOT_CHL_A,TOT_CHL_A_FLAG_W,TOT_CHL_B,TOT_CHL_B_FLAG_W,TOT_CHL_C,TOT_CHL_C_FLAG_W,VIOLA,VIOLA_FLAG_W,ZEA,ZEA_FLAG_W,THETA,BTL_DATE,BTL_TIME
,,,,,,,,,,METERS,DBAR,ITS-90,PSS-78,,PSS-78,,UMOL/KG,,UMOL/KG,,UMOL/KG,,UMOL/KG,,UMOL/KG,,UMOL/KG,,UMOL/KG,,UMOL/KG,,,,DEG C,uG/KG,,ug/kg,,NMOL/KG,,MG/M^3,,MG/M^3,,MG/M^3,,MG/M^3,,MG/M^3,,MG/M^3,,MG/M^3,,MG/M^3,,MG/M^3,,MG/M^3,,MG/M^3,,MG/M^3,,MG/M^3,,MG/M^3,,MG/M^3,,MG/M^3,,MG/M^3,,MG/M^3,,MG/M^3,,MG/M^3,,MG/M^3,,MG/M^3,,MG/M^3,,MG/M^3,,MG/M^3,,DEG C,,
06AQ20141202,        A12,      11,          1,         24,2,20141210,       1148,   -52.4785,     0.0005,       2564,    39.0,   1.2008,  33.8775,2,-999.0000,9,    340.0,2,   344.3,2,   26.47,2,   24.90,2,    0.21,2,    1.71,2,  2164.9,2,  2291.2,2,-999.0000,9,  -999.00,     -999.0,9,     -999.0,9,     -999.0,9,     -999.0,9,     -999.0,9,     -999.0,9,     -999.0,9,     -999.0,9,     -999.0,9,     -999.0,9,     -999.0,9,     -999.0,9,     -999.0,9,     -999.0,9,     -999.0,9,     -999.0,9,     -999.0,9,     -999.0,9,     -999.0,9,     -999.0,9,     -999.0,9,     -999.0,9,     -999.0,9,     -999.0,9,     -999.0,9,     -999.0,9,     -999.0,9,     -999.0,9,   1.1991,20141210,       1248
06AQ20141202,        A12,      11,          1,         23,2,20141210,       1148,   -52.4785,     0.0005,       2564,    49.9,   1.1656,  33.8783,2,-999.0000,9,    340.5,2,   343.7,2,   26.56,2,   24.93,2,    0.21,2,    1.76,2,  2165.8,2,  2294.5,2,-999.0000,9,  -999.00,     -999.0,9,     -999.0,9,     -999.0,9,     -999.0,9,     -999.0,9,     -999.0,9,     -999.0,9,     -999.0,9,     -999.0,9,     -999.0,9,     -999.0,9,     -999.0,9,     -999.0,9,     -999.0,9,     -999.0,9,     -999.0,9,     -999.0,9,     -999.0,9,     -999.0,9,     -999.0,9,     -999.0,9,     -999.0,9,     -999.0,9,     -999.0,9,     -999.0,9,     -999.0,9,     -999.0,9,     -999.0,9,   1.1634,20141210,       1247
06AQ20141202,        A12,      11,          1,         22,2,20141210,       1148,   -52.4785,     0.0005,       2564,    79.4,   1.1750,  33.8784,2,-999.0000,9,    339.7,2,   344.0,2,   26.47,2,   25.00,2,    0.21,2,    1.70,2,  2165.0,2,  2292.8,2,-999.0000,9,  -999.00,     -999.0,9,     -999.0,9,     -999.0,9,     -999.0,9,     -999.0,9,     -999.0,9,     -999.0,9,     -999.0,9,     -999.0,9,     -999.0,9,     -999.0,9,     -999.0,9,     -999.0,9,     -999.0,9,     -999.0,9,     -999.0,9,     -999.0,9,     -999.0,9,     -999.0,9,     -999.0,9,     -999.0,9,     -999.0,9,     -999.0,9,     -999.0,9,     -999.0,9,     -999.0,9,     -999.0,9,     -999.0,9,   1.1715,20141210,       1246
06AQ20141202,        A12,      11,          1,         21,2,20141210,       1148,   -52.4785,     0.0005,       2564,    81.8,   1.1612,  33.8796,2,-999.0000,9,    339.8,2,   344.0,2, -999.00,9, -999.00,9, -999.00,9, -999.00,9,  2165.0,2,  2292.8,2,-999.0000,9,  -999.00,     -999.0,9,     -999.0,9,     -999.0,9,     -999.0,9,     -999.0,9,     -999.0,9,     -999.0,9,     -999.0,9,     -999.0,9,     -999.0,9,     -999.0,9,     -999.0,9,     -999.0,9,     -999.0,9,     -999.0,9,     -999.0,9,     -999.0,9,     -999.0,9,     -999.0,9,     -999.0,9,     -999.0,9,     -999.0,9,     -999.0,9,     -999.0,9,     -999.0,9,     -999.0,9,     -999.0,9,     -999.0,9,   1.1576,20141210,       1246
06AQ20141202,        A12,      11,          1,         20,2,20141210,       1148,   -52.4785,     0.0005,       2564,   101.0,   1.1238,  33.8788,2,-999.0000,9,    339.1,2,   343.2,2,   26.56,2,   24.88,2,    0.21,2,    1.72,2,  2165.6,2,  2294.2,2,-999.0000,9,  -999.00,     -999.0,9,     -999.0,9,     -999.0,9,     -999.0,9,     -999.0,9,     -999.0,9,     -999.0,9,     -999.0,9,     -999.0,9,     -999.0,9,     -999.0,9,     -999.0,9,     -999.0,9,     -999.0,9,     -999.0,9,     -999.0,9,     -999.0,9,     -999.0,9,     -999.0,9,     -999.0,9,     -999.0,9,     -999.0,9,     -999.0,9,     -999.0,9,     -999.0,9,     -999.0,9,     -999.0,9,     -999.0,9,   1.1193,20141210,       1245
06AQ20141202,        A12,      11,          1,         19,2,20141210,       1148,   -52.4785,     0.0005,       2564,   127.1,   0.8542,  33.9151,2,-999.0000,9,    331.7,2,   338.1,2,   28.42,2,   26.03,2,    0.20,2,    1.86,2,  2172.7,2,  2293.1,2,-999.0000,9,  -999.00,     -999.0,9,     -999.0,9,     -999.0,9,     -999.0,9,     -999.0,9,     -999.0,9,     -999.0,9,     -999.0,9,     -999.0,9,     -999.0,9,     -999.0,9,     -999.0,9,     -999.0,9,     -999.0,9,     -999.0,9,     -999.0,9,     -999.0,9,     -999.0,9,     -999.0,9,     -999.0,9,     -999.0,9,     -999.0,9,     -999.0,9,     -999.0,9,     -999.0,9,     -999.0,9,     -999.0,9,     -999.0,9,   0.8488,20141210,       1243
06AQ20141202,        A12,      11,          1,         18,2,20141210,       1148,   -52.4785,     0.0005,       2564,   149.6,   0.6833,  33.9530,2,-999.0000,9,    322.0,2,   326.5,2,   32.13,2,   27.03,2,    0.17,2,    1.91,2,  2182.4,2,  2296.6,2,-999.0000,9,  -999.00,     -999.0,9,     -999.0,9,     -999.0,9,     -999.0,9,     -999.0,9,     -999.0,9,     -999.0,9,     -999.0,9,     -999.0,9,     -999.0,9,     -999.0,9,     -999.0,9,     -999.0,9,     -999.0,9,     -999.0,9,     -999.0,9,     -999.0,9,     -999.0,9,     -999.0,9,     -999.0,9,     -999.0,9,     -999.0,9,     -999.0,9,     -999.0,9,     -999.0,9,     -999.0,9,     -999.0,9,     -999.0,9,   0.6772,20141210,       1242
06AQ20141202,        A12,      11,          1,         17,2,20141210,       1148,   -52.4785,     0.0005,       2564,   201.9,   1.4039,  34.2803,2,-999.0000,9,    223.9,2,   227.5,2,   56.73,2,   33.30,2,    0.01,2,    2.31,2,  2228.8,2,  2311.1,2,-999.0000,9,  -999.00,     -999.0,9,     -999.0,9,     -999.0,9,     -999.0,9,     -999.0,9,     -999.0,9,     -999.0,9,     -999.0,9,     -999.0,9,     -999.0,9,     -999.0,9,     -999.0,9,     -999.0,9,     -999.0,9,     -999.0,9,     -999.0,9,     -999.0,9,     -999.0,9,     -999.0,9,     -999.0,9,     -999.0,9,     -999.0,9,     -999.0,9,     -999.0,9,     -999.0,9,     -999.0,9,     -999.0,9,     -999.0,9,   1.3942,20141210,       1240
06AQ20141202,        A12,      11,          1,         16,2,20141210,       1148,   -52.4785,     0.0005,       2564,   252.4,   1.8881,  34.4839,2,-999.0000,9,    175.8,2,   177.9,2,   74.19,2,   35.49,2,    0.00,2,    2.45,2,  2254.2,2,  2325.2,2,-999.0000,9,  -999.00,     -999.0,9,     -999.0,9,     -999.0,9,     -999.0,9,     -999.0,9,     -999.0,9,     -999.0,9,     -999.0,9,     -999.0,9,     -999.0,9,     -999.0,9,     -999.0,9,     -999.0,9,     -999.0,9,     -999.0,9,     -999.0,9,     -999.0,9,     -999.0,9,     -999.0,9,     -999.0,9,     -999.0,9,     -999.0,9,     -999.0,9,     -999.0,9,     -999.0,9,     -999.0,9,     -999.0,9,     -999.0,9,   1.8748,20141210,       1239
06AQ20141202,        A12,      11,          1,         15,2,20141210,       1148,   -52.4785,     0.0005,       2564,   303.0,   1.9690,  34.5488,2,-999.0000,9,    168.3,2,   175.1,2,   78.29,2,   35.22,2,    0.00,2,    2.44,2,  2259.6,2,  2332.4,2,-999.0000,9,  -999.00,     -999.0,9,     -999.0,9,     -999.0,9,     -999.0,9,     -999.0,9,     -999.0,9,     -999.0,9,     -999.0,9,     -999.0,9,     -999.0,9,     -999.0,9,     -999.0,9,     -999.0,9,     -999.0,9,     -999.0,9,     -999.0,9,     -999.0,9,     -999.0,9,     -999.0,9,     -999.0,9,     -999.0,9,     -999.0,9,     -999.0,9,     -999.0,9,     -999.0,9,     -999.0,9,     -999.0,9,     -999.0,9,   1.9526,20141210,       1237
06AQ20141202,        A12,      11,          1,         14,2,20141210,       1148,   -52.4785,     0.0005,       2564,   405.4,   1.9778,  34.5963,2,-999.0000,9,    168.1,2,   173.6,2,   89.02,2,   32.60,2,    0.00,2,    2.26,2,  2257.1,2,  2347.0,2,-999.0000,9,  -999.00,     -999.0,9,     -999.0,9,     -999.0,9,     -999.0,9,     -999.0,9,     -999.0,9,     -999.0,9,     -999.0,9,     -999.0,9,     -999.0,9,     -999.0,9,     -999.0,9,     -999.0,9,     -999.0,9,     -999.0,9,     -999.0,9,     -999.0,9,     -999.0,9,     -999.0,9,     -999.0,9,     -999.0,9,     -999.0,9,     -999.0,9,     -999.0,9,     -999.0,9,     -999.0,9,     -999.0,9,     -999.0,9,   1.9555,20141210,       1235
06AQ20141202,        A12,      11,          1,         13,2,20141210,       1148,   -52.4785,     0.0005,       2564,   505.2,   1.9479,  34.6425,2,-999.0000,9,    170.9,2,   175.4,2,   92.24,2,   31.81,2,    0.00,2,    2.21,2,  2253.2,2,  2349.1,2,-999.0000,9,  -999.00,     -999.0,9,     -999.0,9,     -999.0,9,     -999.0,9,     -999.0,9,     -999.0,9,     -999.0,9,     -999.0,9,     -999.0,9,     -999.0,9,     -999.0,9,     -999.0,9,     -999.0,9,     -999.0,9,     -999.0,9,     -999.0,9,     -999.0,9,     -999.0,9,     -999.0,9,     -999.0,9,     -999.0,9,     -999.0,9,     -999.0,9,     -999.0,9,     -999.0,9,     -999.0,9,     -999.0,9,     -999.0,9,   1.9197,20141210,       1233
06AQ20141202,        A12,      11,          1,         12,2,20141210,       1148,   -52.4785,     0.0005,       2564,   607.8,   1.8774,  34.6729,2,-999.0000,9,    175.5,2,   177.9,2,   89.70,2,   32.32,2,    0.00,2,    2.23,2,  2255.3,2,  2346.4,2,-999.0000,9,  -999.00,     -999.0,9,     -999.0,9,     -999.0,9,     -999.0,9,     -999.0,9,     -999.0,9,     -999.0,9,     -999.0,9,     -999.0,9,     -999.0,9,     -999.0,9,     -999.0,9,     -999.0,9,     -999.0,9,     -999.0,9,     -999.0,9,     -999.0,9,     -999.0,9,     -999.0,9,     -999.0,9,     -999.0,9,     -999.0,9,     -999.0,9,     -999.0,9,     -999.0,9,     -999.0,9,     -999.0,9,     -999.0,9,   1.8433,20141210,       1230
06AQ20141202,        A12,      11,          1,         11,2,20141210,       1148,   -52.4785,     0.0005,       2564,   707.1,   1.8316,  34.6954,2,-999.0000,9,    179.4,2,   182.2,2,   85.50,2,   32.07,2,    0.00,2,    2.24,2,  2257.0,2,  2346.9,2,-999.0000,9,  -999.00,     -999.0,9,     -999.0,9,     -999.0,9,     -999.0,9,     -999.0,9,     -999.0,9,     -999.0,9,     -999.0,9,     -999.0,9,     -999.0,9,     -999.0,9,     -999.0,9,     -999.0,9,     -999.0,9,     -999.0,9,     -999.0,9,     -999.0,9,     -999.0,9,     -999.0,9,     -999.0,9,     -999.0,9,     -999.0,9,     -999.0,9,     -999.0,9,     -999.0,9,     -999.0,9,     -999.0,9,     -999.0,9,   1.7916,20141210,       1228
06AQ20141202,        A12,      11,          1,         10,2,20141210,       1148,   -52.4785,     0.0005,       2564,   808.9,   1.7726,  34.7095,2,-999.0000,9,    183.3,2,   186.5,2,   89.41,2,   31.76,2,    0.00,2,    2.21,2,  2253.4,2,  2349.3,2,-999.0000,9,  -999.00,     -999.0,9,     -999.0,9,     -999.0,9,     -999.0,9,     -999.0,9,     -999.0,9,     -999.0,9,     -999.0,9,     -999.0,9,     -999.0,9,     -999.0,9,     -999.0,9,     -999.0,9,     -999.0,9,     -999.0,9,     -999.0,9,     -999.0,9,     -999.0,9,     -999.0,9,     -999.0,9,     -999.0,9,     -999.0,9,     -999.0,9,     -999.0,9,     -999.0,9,     -999.0,9,     -999.0,9,     -999.0,9,   1.7265,20141210,       1225
06AQ20141202,        A12,      11,          1,          9,2,20141210,       1148,   -52.4785,     0.0005,       2564,   911.4,   1.6640,  34.7191,2,-999.0000,9,    187.7,2,   192.1,2,   90.87,2,   31.32,2,    0.00,2,    2.18,2,  2252.3,2,  2350.6,2,-999.0000,9,  -999.00,     -999.0,9,     -999.0,9,     -999.0,9,     -999.0,9,     -999.0,9,     -999.0,9,     -999.0,9,     -999.0,9,     -999.0,9,     -999.0,9,     -999.0,9,     -999.0,9,     -999.0,9,     -999.0,9,     -999.0,9,     -999.0,9,     -999.0,9,     -999.0,9,     -999.0,9,     -999.0,9,     -999.0,9,     -999.0,9,     -999.0,9,     -999.0,9,     -999.0,9,     -999.0,9,     -999.0,9,     -999.0,9,   1.6120,20141210,       1223
06AQ20141202,        A12,      11,          1,          8,2,20141210,       1148,   -52.4785,     0.0005,       2564,  1010.2,   1.5273,  34.7216,2,-999.0000,9,    190.8,2,   194.6,2,   93.50,2,   31.10,2,    0.00,2,    2.17,2,  2250.8,2,  2351.9,2,-999.0000,9,  -999.00,     -999.0,9,     -999.0,9,     -999.0,9,     -999.0,9,     -999.0,9,     -999.0,9,     -999.0,9,     -999.0,9,     -999.0,9,     -999.0,9,     -999.0,9,     -999.0,9,     -999.0,9,     -999.0,9,     -999.0,9,     -999.0,9,     -999.0,9,     -999.0,9,     -999.0,9,     -999.0,9,     -999.0,9,     -999.0,9,     -999.0,9,     -999.0,9,     -999.0,9,     -999.0,9,     -999.0,9,     -999.0,9,   1.4700,20141210,       1221
06AQ20141202,        A12,      11,          1,          7,2,20141210,       1148,   -52.4785,     0.0005,       2564,  1215.1,   1.3613,  34.7264,2,  34.7262,2,    195.9,2,   200.0,2,   97.80,2,   31.05,2,    0.00,2,    2.17,2,  2251.4,2,  2354.2,2,-999.0000,9,  -999.00,     -999.0,9,     -999.0,9,     -999.0,9,     -999.0,9,     -999.0,9,     -999.0,9,     -999.0,9,     -999.0,9,     -999.0,9,     -999.0,9,     -999.0,9,     -999.0,9,     -999.0,9,     -999.0,9,     -999.0,9,     -999.0,9,     -999.0,9,     -999.0,9,     -999.0,9,     -999.0,9,     -999.0,9,     -999.0,9,     -999.0,9,     -999.0,9,     -999.0,9,     -999.0,9,     -999.0,9,     -999.0,9,   1.2919,20141210,       1216
06AQ20141202,        A12,      11,          1,          6,2,20141210,       1148,   -52.4785,     0.0005,       2564,  1417.7,   1.1332,  34.7155,2,-999.0000,9,    197.8,2,   201.8,2,  102.48,2,   31.12,2,    0.00,2,    2.18,2,  2253.1,2,  2356.2,2,-999.0000,9,  -999.00,     -999.0,9,     -999.0,9,     -999.0,9,     -999.0,9,     -999.0,9,     -999.0,9,     -999.0,9,     -999.0,9,     -999.0,9,     -999.0,9,     -999.0,9,     -999.0,9,     -999.0,9,     -999.0,9,     -999.0,9,     -999.0,9,     -999.0,9,     -999.0,9,     -999.0,9,     -999.0,9,     -999.0,9,     -999.0,9,     -999.0,9,     -999.0,9,     -999.0,9,     -999.0,9,     -999.0,9,     -999.0,9,   1.0524,20141210,       1212
06AQ20141202,        A12,      11,          1,          5,2,20141210,       1148,   -52.4785,     0.0005,       2564,  1620.0,   0.9568,  34.7088,2,-999.0000,9,    200.6,2,   205.0,2,  106.39,2,   31.49,2,    0.00,2,    2.20,2,  2253.3,2,  2355.3,2,-999.0000,9,  -999.00,     -999.0,9,     -999.0,9,     -999.0,9,     -999.0,9,     -999.0,9,     -999.0,9,     -999.0,9,     -999.0,9,     -999.0,9,     -999.0,9,     -999.0,9,     -999.0,9,     -999.0,9,     -999.0,9,     -999.0,9,     -999.0,9,     -999.0,9,     -999.0,9,     -999.0,9,     -999.0,9,     -999.0,9,     -999.0,9,     -999.0,9,     -999.0,9,     -999.0,9,     -999.0,9,     -999.0,9,     -999.0,9,   0.8641,20141210,       1208
06AQ20141202,        A12,      11,          1,          4,2,20141210,       1148,   -52.4785,     0.0005,       2564,  1826.0,   0.7969,  34.7006,2,-999.0000,9,    202.5,2,   207.4,2,  112.93,2,   31.88,2,    0.00,2,    2.23,2,  2257.8,2,  2356.2,2,-999.0000,9,  -999.00,     -999.0,9,     -999.0,9,     -999.0,9,     -999.0,9,     -999.0,9,     -999.0,9,     -999.0,9,     -999.0,9,     -999.0,9,     -999.0,9,     -999.0,9,     -999.0,9,     -999.0,9,     -999.0,9,     -999.0,9,     -999.0,9,     -999.0,9,     -999.0,9,     -999.0,9,     -999.0,9,     -999.0,9,     -999.0,9,     -999.0,9,     -999.0,9,     -999.0,9,     -999.0,9,     -999.0,9,     -999.0,9,   0.6916,20141210,       1204
06AQ20141202,        A12,      11,          1,          3,2,20141210,       1148,   -52.4785,     0.0005,       2564,  2026.8,   0.6345,  34.6933,2,-999.0000,9,    204.3,2,   209.9,2,  118.40,2,   32.13,2,    0.00,2,    2.24,2,  2256.8,2,  2356.8,2,-999.0000,9,  -999.00,     -999.0,9,     -999.0,9,     -999.0,9,     -999.0,9,     -999.0,9,     -999.0,9,     -999.0,9,     -999.0,9,     -999.0,9,     -999.0,9,     -999.0,9,     -999.0,9,     -999.0,9,     -999.0,9,     -999.0,9,     -999.0,9,     -999.0,9,     -999.0,9,     -999.0,9,     -999.0,9,     -999.0,9,     -999.0,9,     -999.0,9,     -999.0,9,     -999.0,9,     -999.0,9,     -999.0,9,     -999.0,9,   0.5168,20141210,       1200
06AQ20141202,        A12,      11,          1,          2,2,20141210,       1148,   -52.4785,     0.0005,       2564,  2231.2,   0.5480,  34.6888,2,-999.0000,9,    205.3,2,   210.6,2,  122.50,2,   32.11,2,    0.00,2,    2.25,2,  2259.1,2,  2358.1,2,-999.0000,9,  -999.00,     -999.0,9,     -999.0,9,     -999.0,9,     -999.0,9,     -999.0,9,     -999.0,9,     -999.0,9,     -999.0,9,     -999.0,9,     -999.0,9,     -999.0,9,     -999.0,9,     -999.0,9,     -999.0,9,     -999.0,9,     -999.0,9,     -999.0,9,     -999.0,9,     -999.0,9,     -999.0,9,     -999.0,9,     -999.0,9,     -999.0,9,     -999.0,9,     -999.0,9,     -999.0,9,     -999.0,9,     -999.0,9,   0.4162,20141210,       1156
06AQ20141202,        A12,      11,          1,          1,2,20141210,       1148,   -52.4785,     0.0005,       2564,  2553.7,   0.4807,  34.6850,2,  34.6847,2,    205.6,2,   211.4,2,  130.01,2,   32.42,2,    0.00,2,    2.25,2,  2258.8,2,  2357.9,2,-999.0000,9,  -999.00,     -999.0,9,     -999.0,9,     -999.0,9,     -999.0,9,     -999.0,9,     -999.0,9,     -999.0,9,     -999.0,9,     -999.0,9,     -999.0,9,     -999.0,9,     -999.0,9,     -999.0,9,     -999.0,9,     -999.0,9,     -999.0,9,     -999.0,9,     -999.0,9,     -999.0,9,     -999.0,9,     -999.0,9,     -999.0,9,     -999.0,9,     -999.0,9,     -999.0,9,     -999.0,9,     -999.0,9,     -999.0,9,   0.3245,20141210,       1148