BOTTLE,20220815CCHSIOAMB
EXPOCODE,SECT_ID,STNNBR,CASTNO,BTLNBR,BTLNBR_FLAG_W,DATE,TIME,LATITUDE,LONGITUDE,DEPTH,CTDPRS,CTDTMP,CTDSAL,CTDSAL_FLAG_W,SALNTY,SALNTY_FLAG_W,CTDOXY,CTDOXY_FLAG_W,OXYGEN,OXYGEN_FLAG_W,SILCAT,SILCAT_FLAG_W,NITRAT,NITRAT_FLAG_W,NITRIT,NITRIT_FLAG_W,PHSPHT,PHSPHT_FLAG_W,TCARBN,TCARBN_FLAG_W,ALKALI,ALKALI_FLAG_W,PH_TOT,PH_TOT_FLAG_W,PH_TMP,POC,POC_FLAG_W,PON,PON_FLAG_W,FUCO,FUCO_FLAG_W,ALPHA-BETA-CAR,ALPHA-BETA-CAR_FLAG_W,ALLO,ALLO_FLAG_W,BUT-FUCO,BUT-FUCO_FLAG_W,CHL_C1C2,CHL_C1C2_FLAG_W,CHL_C3,CHL_C3_FLAG_W,CHLIDE_A,CHLIDE_A_FLAG_W,DIADINO,DIADINO_FLAG_W,DIATO,DIATO_FLAG_W,DV_CHL_A,DV_CHL_A_FLAG_W,DV_CHL_B,DV_CHL_B_FLAG_W,GYRO,GYRO_FLAG_W,HEX-FUCO,HEX-FUCO_FLAG_W,LUT,LUT_FLAG_W,MV_CHL_A,MV_CHL_A_FLAG_W,MV_CHL_B,MV_CHL_B_FLAG_W,NEO,NEO_FLAG_W,PERID,PERID_FLAG_W,PHIDE_A,PHIDE_A_FLAG_W,PHYTIN_A,PHYTIN_A_FLAG_W,PRAS,PRAS_FLAG_W,TOT_CHL_A,TOT_CHL_A_FLAG_W,TOT_CHL_B,TOT_CHL_B_FLAG_W,TOT_CHL_C,TOT_CHL_C_FLAG_W,VIOLA,VIOLA_FLAG_W,ZEA,ZEA_FLAG_W,THETA,BTL_DATE,BTL_TIME
,,,,,,,,,,METERS,DBAR,ITS-90,PSS-78,,PSS-78,,UMOL/KG,,UMOL/KG,,UMOL/KG,,UMOL/KG,,UMOL/KG,,UMOL/KG,,UMOL/KG,,UMOL/KG,,,,DEG C,uG/KG,,ug/kg,,NMOL/KG,,MG/M^3,,MG/M^3,,MG/M^3,,MG/M^3,,MG/M^3,,MG/M^3,,MG/M^3,,MG/M^3,,MG/M^3,,MG/M^3,,MG/M^3,,MG/M^3,,MG/M^3,,MG/M^3,,MG/M^3,,MG/M^3,,MG/M^3,,MG/M^3,,MG/M^3,,MG/M^3,,MG/M^3,,MG/M^3,,MG/M^3,,MG/M^3,,MG/M^3,,DEG C,,
06AQ20141202,        A12,      28,          1,         24,2,20141218,       0124,   -65.0027,     0.0052,       3812,    14.8,  -1.2994,  33.6464,2,  33.6844,2,    343.4,2,   353.6,2,   72.48,2,   26.38,2,    0.24,2,    1.78,2,  2169.4,2,  2286.2,2,   7.6722,2,    25.00,        165,2,         34,2,     0.3700,2,      0.009,2,      0.001,2,      0.016,2,      0.182,2,      0.060,2,      0.055,2,      0.047,2,     -999.0,9,     -999.0,9,     -999.0,9,     -999.0,9,      0.095,2,     -999.0,9,      0.605,2,      0.008,2,     -999.0,9,      0.006,2,      0.098,2,      0.024,2,     -999.0,9,      0.660,2,      0.008,2,      0.242,2,     -999.0,9,     -999.0,9,  -1.2997,20141218,       0250
06AQ20141202,        A12,      28,          1,         23,2,20141218,       0124,   -65.0027,     0.0052,       3812,    14.8,  -1.2994,  33.6463,2,  33.6635,2,    343.4,2,   356.3,2,   72.48,2,   26.55,2,    0.23,2,    1.76,2,  2161.8,2,  2283.5,2,   7.6725,2,    25.00,        175,2,         37,2,     0.3490,2,      0.009,2,      0.001,2,      0.015,2,      0.165,2,      0.055,2,      0.027,2,      0.047,2,     -999.0,9,     -999.0,9,     -999.0,9,     -999.0,9,      0.086,2,     -999.0,9,      0.622,2,      0.009,2,     -999.0,9,      0.005,2,      0.084,2,      0.022,2,     -999.0,9,      0.649,2,      0.009,2,      0.220,2,     -999.0,9,     -999.0,9,  -1.2997,20141218,       0250
06AQ20141202,        A12,      28,          1,         22,2,20141218,       0124,   -65.0027,     0.0052,       3812,    35.5,  -1.5360,  34.1450,2,  34.2157,2,    296.6,2,   293.0,2,   79.78,2,   29.25,2,    0.16,2,    2.03,2,  2212.5,2,  2319.4,2,   7.6198,2,    25.00,         70,2,         13,2,     0.4000,2,      0.008,2,      0.001,2,      0.030,2,      0.138,2,      0.111,2,      0.012,2,      0.016,2,     -999.0,9,     -999.0,9,     -999.0,9,     -999.0,9,      0.101,2,     -999.0,9,      0.737,2,      0.022,2,      0.001,2,     -999.0,9,      0.062,2,      0.017,2,      0.006,2,      0.749,2,      0.022,2,      0.249,2,      0.001,2,     -999.0,9,  -1.5368,20141218,       0249
06AQ20141202,        A12,      28,          1,         21,2,20141218,       0124,   -65.0027,     0.0052,       3812,    50.8,  -1.4304,  34.2911,2,  34.3097,2,    269.2,2,   277.5,2,   81.72,2,   29.99,2,    0.17,2,    2.06,2,  2222.8,2,  2324.2,2,   7.6048,2,    25.00,     -999.0,9,     -999.0,9,     -999.0,9,     -999.0,9,     -999.0,9,     -999.0,9,     -999.0,9,     -999.0,9,     -999.0,9,     -999.0,9,     -999.0,9,     -999.0,9,     -999.0,9,     -999.0,9,     -999.0,9,     -999.0,9,     -999.0,9,     -999.0,9,     -999.0,9,     -999.0,9,     -999.0,9,     -999.0,9,     -999.0,9,     -999.0,9,     -999.0,9,     -999.0,9,     -999.0,9,     -999.0,9,  -1.4315,20141218,       0248
06AQ20141202,        A12,      28,          1,         20,2,20141218,       0124,   -65.0027,     0.0052,       3812,   101.3,   0.9008,  34.6648,2,  34.6662,2,    194.0,2,   198.0,2,   96.05,2,   32.79,2,    0.02,2,    2.25,2,  2258.2,2,  2347.4,2,   7.5619,2,    25.00,     -999.0,9,     -999.0,9,     -999.0,9,     -999.0,9,     -999.0,9,     -999.0,9,     -999.0,9,     -999.0,9,     -999.0,9,     -999.0,9,     -999.0,9,     -999.0,9,     -999.0,9,     -999.0,9,     -999.0,9,     -999.0,9,     -999.0,9,     -999.0,9,     -999.0,9,     -999.0,9,     -999.0,9,     -999.0,9,     -999.0,9,     -999.0,9,     -999.0,9,     -999.0,9,     -999.0,9,     -999.0,9,   0.8964,20141218,       0246
06AQ20141202,        A12,      28,          1,         19,2,20141218,       0124,   -65.0027,     0.0052,       3812,   151.8,   1.0426,  34.6879,2,  34.6876,2,    190.5,2,   197.4,2,   98.78,2,   32.97,2,    0.02,2,    2.26,2,  2260.7,2,  2349.0,2,   7.5668,2,    25.00,     -999.0,9,     -999.0,9,     -999.0,9,     -999.0,9,     -999.0,9,     -999.0,9,     -999.0,9,     -999.0,9,     -999.0,9,     -999.0,9,     -999.0,9,     -999.0,9,     -999.0,9,     -999.0,9,     -999.0,9,     -999.0,9,     -999.0,9,     -999.0,9,     -999.0,9,     -999.0,9,     -999.0,9,     -999.0,9,     -999.0,9,     -999.0,9,     -999.0,9,     -999.0,9,     -999.0,9,     -999.0,9,   1.0357,20141218,       0245
06AQ20141202,        A12,      28,          1,         18,2,20141218,       0124,   -65.0027,     0.0052,       3812,   202.2,   1.0470,  34.6955,2,  34.6057,3,    191.0,2,   197.5,2,  100.92,2,   32.88,2,    0.00,2,    2.24,2,  2259.5,2,  2350.5,2,   7.5880,3,    25.00,     -999.0,9,     -999.0,9,     -999.0,9,     -999.0,9,     -999.0,9,     -999.0,9,     -999.0,9,     -999.0,9,     -999.0,9,     -999.0,9,     -999.0,9,     -999.0,9,     -999.0,9,     -999.0,9,     -999.0,9,     -999.0,9,     -999.0,9,     -999.0,9,     -999.0,9,     -999.0,9,     -999.0,9,     -999.0,9,     -999.0,9,     -999.0,9,     -999.0,9,     -999.0,9,     -999.0,9,     -999.0,9,   1.0377,20141218,       0243
06AQ20141202,        A12,      28,          1,         17,2,20141218,       0124,   -65.0027,     0.0052,       3812,   303.4,   0.9700,  34.7008,2,  34.7008,2,    194.1,2,   201.2,2,  103.75,2,   32.59,2,    0.00,2,    2.22,2,  2258.2,2,  2354.5,2,   7.5777,2,    25.00,     -999.0,9,     -999.0,9,     -999.0,9,     -999.0,9,     -999.0,9,     -999.0,9,     -999.0,9,     -999.0,9,     -999.0,9,     -999.0,9,     -999.0,9,     -999.0,9,     -999.0,9,     -999.0,9,     -999.0,9,     -999.0,9,     -999.0,9,     -999.0,9,     -999.0,9,     -999.0,9,     -999.0,9,     -999.0,9,     -999.0,9,     -999.0,9,     -999.0,9,     -999.0,9,     -999.0,9,     -999.0,9,   0.9560,20141218,       0240
06AQ20141202,        A12,      28,          1,         16,2,20141218,       0124,   -65.0027,     0.0052,       3812,   404.7,   0.8510,  34.6988,2,  34.6990,2,    195.1,2,   201.9,2,  107.17,2,   32.59,2,    0.00,2,    2.25,2,  2259.9,2,  2354.0,2,   7.6441,3,    25.00,     -999.0,9,     -999.0,9,     -999.0,9,     -999.0,9,     -999.0,9,     -999.0,9,     -999.0,9,     -999.0,9,     -999.0,9,     -999.0,9,     -999.0,9,     -999.0,9,     -999.0,9,     -999.0,9,     -999.0,9,     -999.0,9,     -999.0,9,     -999.0,9,     -999.0,9,     -999.0,9,     -999.0,9,     -999.0,9,     -999.0,9,     -999.0,9,     -999.0,9,     -999.0,9,     -999.0,9,     -999.0,9,   0.8324,20141218,       0238
06AQ20141202,        A12,      28,          1,         15,2,20141218,       0124,   -65.0027,     0.0052,       3812,   505.9,   0.7789,  34.6985,2,  34.6985,2,    196.1,2,   205.1,2,  110.00,2,   32.58,2,    0.00,2,    2.25,2,  2261.6,2,  2356.2,2,   7.5420,3,    25.00,     -999.0,9,     -999.0,9,     -999.0,9,     -999.0,9,     -999.0,9,     -999.0,9,     -999.0,9,     -999.0,9,     -999.0,9,     -999.0,9,     -999.0,9,     -999.0,9,     -999.0,9,     -999.0,9,     -999.0,9,     -999.0,9,     -999.0,9,     -999.0,9,     -999.0,9,     -999.0,9,     -999.0,9,     -999.0,9,     -999.0,9,     -999.0,9,     -999.0,9,     -999.0,9,     -999.0,9,     -999.0,9,   0.7555,20141218,       0235
06AQ20141202,        A12,      28,          1,         14,2,20141218,       0124,   -65.0027,     0.0052,       3812,   607.2,   0.6942,  34.6961,2,  34.6960,2,    196.8,2,   206.8,2,  113.03,2,   32.89,2,    0.00,2,    2.25,2,  2261.4,2,  2354.5,2,   7.5770,2,    25.00,     -999.0,9,     -999.0,9,     -999.0,9,     -999.0,9,     -999.0,9,     -999.0,9,     -999.0,9,     -999.0,9,     -999.0,9,     -999.0,9,     -999.0,9,     -999.0,9,     -999.0,9,     -999.0,9,     -999.0,9,     -999.0,9,     -999.0,9,     -999.0,9,     -999.0,9,     -999.0,9,     -999.0,9,     -999.0,9,     -999.0,9,     -999.0,9,     -999.0,9,     -999.0,9,     -999.0,9,     -999.0,9,   0.6660,20141218,       0233
06AQ20141202,        A12,      28,          1,         13,2,20141218,       0124,   -65.0027,     0.0052,       3812,   809.7,   0.5711,  34.6926,2,  34.6934,2,    199.8,2,   206.6,2,  115.66,2,   32.77,2,    0.00,2,    2.26,2,  2261.4,2,  2357.4,2,   7.5804,2,    25.00,     -999.0,9,     -999.0,9,     -999.0,9,     -999.0,9,     -999.0,9,     -999.0,9,     -999.0,9,     -999.0,9,     -999.0,9,     -999.0,9,     -999.0,9,     -999.0,9,     -999.0,9,     -999.0,9,     -999.0,9,     -999.0,9,     -999.0,9,     -999.0,9,     -999.0,9,     -999.0,9,     -999.0,9,     -999.0,9,     -999.0,9,     -999.0,9,     -999.0,9,     -999.0,9,     -999.0,9,     -999.0,9,   0.5328,20141218,       0228
06AQ20141202,        A12,      28,          1,         12,2,20141218,       0124,   -65.0027,     0.0052,       3812,   911.1,   0.5125,  34.6905,2,  34.6912,2,    200.4,2,   210.3,2,  118.01,2,   33.17,2,    0.00,2,    2.28,2,  2263.0,2,  2356.9,2,   7.5969,3,    25.00,     -999.0,9,     -999.0,9,     -999.0,9,     -999.0,9,     -999.0,9,     -999.0,9,     -999.0,9,     -999.0,9,     -999.0,9,     -999.0,9,     -999.0,9,     -999.0,9,     -999.0,9,     -999.0,9,     -999.0,9,     -999.0,9,     -999.0,9,     -999.0,9,     -999.0,9,     -999.0,9,     -999.0,9,     -999.0,9,     -999.0,9,     -999.0,9,     -999.0,9,     -999.0,9,     -999.0,9,     -999.0,9,   0.4691,20141218,       0226
06AQ20141202,        A12,      28,          1,         11,2,20141218,       0124,   -65.0027,     0.0052,       3812,  1012.3,   0.4576,  34.6882,2,  34.6886,2,    201.3,2,   208.6,2,  119.18,2,   33.24,2,    0.00,2,    2.25,2,  2261.4,2,  2356.9,2,   7.5790,6,    25.00,     -999.0,9,     -999.0,9,     -999.0,9,     -999.0,9,     -999.0,9,     -999.0,9,     -999.0,9,     -999.0,9,     -999.0,9,     -999.0,9,     -999.0,9,     -999.0,9,     -999.0,9,     -999.0,9,     -999.0,9,     -999.0,9,     -999.0,9,     -999.0,9,     -999.0,9,     -999.0,9,     -999.0,9,     -999.0,9,     -999.0,9,     -999.0,9,     -999.0,9,     -999.0,9,     -999.0,9,     -999.0,9,   0.4089,20141218,       0223
06AQ20141202,        A12,      28,          1,         10,2,20141218,       0124,   -65.0027,     0.0052,       3812,  1215.7,   0.3622,  34.6844,2,  34.6841,2,    203.6,2,   215.0,2,  122.30,2,   33.26,2,    0.00,2,    2.28,2,  2261.5,2,  2355.1,2,   7.5795,2,    25.00,     -999.0,9,     -999.0,9,     -999.0,9,     -999.0,9,     -999.0,9,     -999.0,9,     -999.0,9,     -999.0,9,     -999.0,9,     -999.0,9,     -999.0,9,     -999.0,9,     -999.0,9,     -999.0,9,     -999.0,9,     -999.0,9,     -999.0,9,     -999.0,9,     -999.0,9,     -999.0,9,     -999.0,9,     -999.0,9,     -999.0,9,     -999.0,9,     -999.0,9,     -999.0,9,     -999.0,9,     -999.0,9,   0.3026,20141218,       0218
06AQ20141202,        A12,      28,          1,          9,2,20141218,       0124,   -65.0027,     0.0052,       3812,  1520.6,   0.2278,  34.6785,2,  34.6783,2,    208.3,2,   220.6,2,  125.03,2,   33.18,2,    0.00,2,    2.28,2,  2260.7,2,  2356.6,2,   7.5829,2,    25.00,     -999.0,9,     -999.0,9,     -999.0,9,     -999.0,9,     -999.0,9,     -999.0,9,     -999.0,9,     -999.0,9,     -999.0,9,     -999.0,9,     -999.0,9,     -999.0,9,     -999.0,9,     -999.0,9,     -999.0,9,     -999.0,9,     -999.0,9,     -999.0,9,     -999.0,9,     -999.0,9,     -999.0,9,     -999.0,9,     -999.0,9,     -999.0,9,     -999.0,9,     -999.0,9,     -999.0,9,     -999.0,9,   0.1509,20141218,       0212
06AQ20141202,        A12,      28,          1,          8,2,20141218,       0124,   -65.0027,     0.0052,       3812,  1723.9,   0.1496,  34.6753,2,  34.6749,2,    210.8,2,   219.5,2,  126.21,2,   33.04,2,    0.00,2,    2.28,2,  2260.6,2,  2354.3,2,   7.5842,2,    25.00,     -999.0,9,     -999.0,9,     -999.0,9,     -999.0,9,     -999.0,9,     -999.0,9,     -999.0,9,     -999.0,9,     -999.0,9,     -999.0,9,     -999.0,9,     -999.0,9,     -999.0,9,     -999.0,9,     -999.0,9,     -999.0,9,     -999.0,9,     -999.0,9,     -999.0,9,     -999.0,9,     -999.0,9,     -999.0,9,     -999.0,9,     -999.0,9,     -999.0,9,     -999.0,9,     -999.0,9,     -999.0,9,   0.0605,20141218,       0207
06AQ20141202,        A12,      28,          1,          7,2,20141218,       0124,   -65.0027,     0.0052,       3812,  2029.6,   0.0374,  34.6705,2,  34.6697,2,    215.2,2,   223.9,2,  126.69,2,   32.92,2,    0.00,2,    2.28,2,  2259.6,2,  2355.1,2,   7.5870,2,    25.00,     -999.0,9,     -999.0,9,     -999.0,9,     -999.0,9,     -999.0,9,     -999.0,9,     -999.0,9,     -999.0,9,     -999.0,9,     -999.0,9,     -999.0,9,     -999.0,9,     -999.0,9,     -999.0,9,     -999.0,9,     -999.0,9,     -999.0,9,     -999.0,9,     -999.0,9,     -999.0,9,     -999.0,9,     -999.0,9,     -999.0,9,     -999.0,9,     -999.0,9,     -999.0,9,     -999.0,9,     -999.0,9,  -0.0710,20141218,       0201
06AQ20141202,        A12,      28,          1,          6,2,20141218,       0124,   -65.0027,     0.0052,       3812,  2233.9,  -0.0234,  34.6673,2,  34.6668,2,    218.7,2,   232.1,2,  126.30,2,   32.73,2,    0.00,2,    2.26,2,  2256.6,2,  2354.5,2,   7.5893,2,    25.00,     -999.0,9,     -999.0,9,     -999.0,9,     -999.0,9,     -999.0,9,     -999.0,9,     -999.0,9,     -999.0,9,     -999.0,9,     -999.0,9,     -999.0,9,     -999.0,9,     -999.0,9,     -999.0,9,     -999.0,9,     -999.0,9,     -999.0,9,     -999.0,9,     -999.0,9,     -999.0,9,     -999.0,9,     -999.0,9,     -999.0,9,     -999.0,9,     -999.0,9,     -999.0,9,     -999.0,9,     -999.0,9,  -0.1455,20141218,       0156
06AQ20141202,        A12,      28,          1,          5,2,20141218,       0124,   -65.0027,     0.0052,       3812,  2540.2,  -0.1006,  34.6642,2,  34.6635,2,    222.1,2,   234.3,2,  126.99,2,   33.01,2,    0.00,2,    2.27,2,  2255.8,2,  2353.7,2,   7.5929,2,    25.00,     -999.0,9,     -999.0,9,     -999.0,9,     -999.0,9,     -999.0,9,     -999.0,9,     -999.0,9,     -999.0,9,     -999.0,9,     -999.0,9,     -999.0,9,     -999.0,9,     -999.0,9,     -999.0,9,     -999.0,9,     -999.0,9,     -999.0,9,     -999.0,9,     -999.0,9,     -999.0,9,     -999.0,9,     -999.0,9,     -999.0,9,     -999.0,9,     -999.0,9,     -999.0,9,     -999.0,9,     -999.0,9,  -0.2444,20141218,       0150
06AQ20141202,        A12,      28,          1,          4,2,20141218,       0124,   -65.0027,     0.0052,       3812,  2847.2,  -0.1470,  34.6616,2,  34.6606,2,    225.7,2,   235.8,2,  126.30,2,   32.84,2,    0.00,2,    2.28,2,  2255.3,2,  2354.5,2,   7.5934,2,    25.00,     -999.0,9,     -999.0,9,     -999.0,9,     -999.0,9,     -999.0,9,     -999.0,9,     -999.0,9,     -999.0,9,     -999.0,9,     -999.0,9,     -999.0,9,     -999.0,9,     -999.0,9,     -999.0,9,     -999.0,9,     -999.0,9,     -999.0,9,     -999.0,9,     -999.0,9,     -999.0,9,     -999.0,9,     -999.0,9,     -999.0,9,     -999.0,9,     -999.0,9,     -999.0,9,     -999.0,9,     -999.0,9,  -0.3143,20141218,       0144
06AQ20141202,        A12,      28,          1,          3,2,20141218,       0124,   -65.0027,     0.0052,       3812,  3051.6,  -0.1716,  34.6602,2,  34.6590,2,    227.4,2,   237.8,2,  124.45,2,   32.72,2,    0.00,2,    2.26,2,  2253.6,2,  2353.2,2,   7.5038,3,    25.00,     -999.0,9,     -999.0,9,     -999.0,9,     -999.0,9,     -999.0,9,     -999.0,9,     -999.0,9,     -999.0,9,     -999.0,9,     -999.0,9,     -999.0,9,     -999.0,9,     -999.0,9,     -999.0,9,     -999.0,9,     -999.0,9,     -999.0,9,     -999.0,9,     -999.0,9,     -999.0,9,     -999.0,9,     -999.0,9,     -999.0,9,     -999.0,9,     -999.0,9,     -999.0,9,     -999.0,9,     -999.0,9,  -0.3554,20141218,       0140
06AQ20141202,        A12,      28,          1,          2,2,20141218,       0124,   -65.0027,     0.0052,       3812,  3307.3,  -0.1990,  34.6584,2,  34.6576,2,    229.4,2,   242.2,2,  125.43,2,   32.73,2,    0.00,2,    2.27,2,  2253.3,2,  2353.5,2,   7.5959,2,    25.00,     -999.0,9,     -999.0,9,     -999.0,9,     -999.0,9,     -999.0,9,     -999.0,9,     -999.0,9,     -999.0,9,     -999.0,9,     -999.0,9,     -999.0,9,     -999.0,9,     -999.0,9,     -999.0,9,     -999.0,9,     -999.0,9,     -999.0,9,     -999.0,9,     -999.0,9,     -999.0,9,     -999.0,9,     -999.0,9,     -999.0,9,     -999.0,9,     -999.0,9,     -999.0,9,     -999.0,9,     -999.0,9,  -0.4044,20141218,       0134
06AQ20141202,        A12,      28,          1,          1,2,20141218,       0124,   -65.0027,     0.0052,       3812,  3747.8,  -0.2526,  34.6550,2,  34.6547,2,    232.7,2,   241.8,2,  129.72,2,   32.57,2,    0.00,2,    2.26,2,  2251.6,2,  2355.3,2,   7.5988,6,    25.00,     -999.0,9,     -999.0,9,     -999.0,9,     -999.0,9,     -999.0,9,     -999.0,9,     -999.0,9,     -999.0,9,     -999.0,9,     -999.0,9,     -999.0,9,     -999.0,9,     -999.0,9,     -999.0,9,     -999.0,9,     -999.0,9,     -999.0,9,     -999.0,9,     -999.0,9,     -999.0,9,     -999.0,9,     -999.0,9,     -999.0,9,     -999.0,9,     -999.0,9,     -999.0,9,     -999.0,9,     -999.0,9,  -0.4970,20141218,       0124