BOTTLE,20220815CCHSIOAMB
EXPOCODE,SECT_ID,STNNBR,CASTNO,BTLNBR,BTLNBR_FLAG_W,DATE,TIME,LATITUDE,LONGITUDE,DEPTH,CTDPRS,CTDTMP,CTDSAL,CTDSAL_FLAG_W,SALNTY,SALNTY_FLAG_W,CTDOXY,CTDOXY_FLAG_W,OXYGEN,OXYGEN_FLAG_W,SILCAT,SILCAT_FLAG_W,NITRAT,NITRAT_FLAG_W,NITRIT,NITRIT_FLAG_W,PHSPHT,PHSPHT_FLAG_W,TCARBN,TCARBN_FLAG_W,ALKALI,ALKALI_FLAG_W,PH_TOT,PH_TOT_FLAG_W,PH_TMP,POC,POC_FLAG_W,PON,PON_FLAG_W,FUCO,FUCO_FLAG_W,ALPHA-BETA-CAR,ALPHA-BETA-CAR_FLAG_W,ALLO,ALLO_FLAG_W,BUT-FUCO,BUT-FUCO_FLAG_W,CHL_C1C2,CHL_C1C2_FLAG_W,CHL_C3,CHL_C3_FLAG_W,CHLIDE_A,CHLIDE_A_FLAG_W,DIADINO,DIADINO_FLAG_W,DIATO,DIATO_FLAG_W,DV_CHL_A,DV_CHL_A_FLAG_W,DV_CHL_B,DV_CHL_B_FLAG_W,GYRO,GYRO_FLAG_W,HEX-FUCO,HEX-FUCO_FLAG_W,LUT,LUT_FLAG_W,MV_CHL_A,MV_CHL_A_FLAG_W,MV_CHL_B,MV_CHL_B_FLAG_W,NEO,NEO_FLAG_W,PERID,PERID_FLAG_W,PHIDE_A,PHIDE_A_FLAG_W,PHYTIN_A,PHYTIN_A_FLAG_W,PRAS,PRAS_FLAG_W,TOT_CHL_A,TOT_CHL_A_FLAG_W,TOT_CHL_B,TOT_CHL_B_FLAG_W,TOT_CHL_C,TOT_CHL_C_FLAG_W,VIOLA,VIOLA_FLAG_W,ZEA,ZEA_FLAG_W,THETA,BTL_DATE,BTL_TIME
,,,,,,,,,,METERS,DBAR,ITS-90,PSS-78,,PSS-78,,UMOL/KG,,UMOL/KG,,UMOL/KG,,UMOL/KG,,UMOL/KG,,UMOL/KG,,UMOL/KG,,UMOL/KG,,,,DEG C,uG/KG,,ug/kg,,NMOL/KG,,MG/M^3,,MG/M^3,,MG/M^3,,MG/M^3,,MG/M^3,,MG/M^3,,MG/M^3,,MG/M^3,,MG/M^3,,MG/M^3,,MG/M^3,,MG/M^3,,MG/M^3,,MG/M^3,,MG/M^3,,MG/M^3,,MG/M^3,,MG/M^3,,MG/M^3,,MG/M^3,,MG/M^3,,MG/M^3,,MG/M^3,,MG/M^3,,MG/M^3,,DEG C,,
06AQ20141202,        A12,       7,          1,         24,2,20141208,       0744,   -47.6710,     4.2537,       4596,    16.0,   5.9887,  33.8266,2,-999.0000,9,    307.8,2,   310.7,2,    3.13,2,   20.18,2,    0.27,2,    1.42,2,  2115.3,2,  2265.8,2,-999.0000,9,  -999.00,     -999.0,9,     -999.0,9,     -999.0,9,     -999.0,9,     -999.0,9,     -999.0,9,     -999.0,9,     -999.0,9,     -999.0,9,     -999.0,9,     -999.0,9,     -999.0,9,     -999.0,9,     -999.0,9,     -999.0,9,     -999.0,9,     -999.0,9,     -999.0,9,     -999.0,9,     -999.0,9,     -999.0,9,     -999.0,9,     -999.0,9,     -999.0,9,     -999.0,9,     -999.0,9,     -999.0,9,     -999.0,9,   5.9874,20141208,       0925
06AQ20141202,        A12,       7,          1,         23,2,20141208,       0744,   -47.6710,     4.2537,       4596,    25.1,   5.9583,  33.8260,2,-999.0000,9,    307.1,2,   310.2,2,    3.61,2,   20.32,2,    0.26,2,    1.44,2,  2112.1,2,  2264.7,2,-999.0000,9,  -999.00,     -999.0,9,     -999.0,9,     -999.0,9,     -999.0,9,     -999.0,9,     -999.0,9,     -999.0,9,     -999.0,9,     -999.0,9,     -999.0,9,     -999.0,9,     -999.0,9,     -999.0,9,     -999.0,9,     -999.0,9,     -999.0,9,     -999.0,9,     -999.0,9,     -999.0,9,     -999.0,9,     -999.0,9,     -999.0,9,     -999.0,9,     -999.0,9,     -999.0,9,     -999.0,9,     -999.0,9,     -999.0,9,   5.9562,20141208,       0924
06AQ20141202,        A12,       7,          1,         22,2,20141208,       0744,   -47.6710,     4.2537,       4596,    50.7,   5.9145,  33.8249,2,-999.0000,9,    307.0,2,   310.1,2, -999.00,9, -999.00,9, -999.00,9, -999.00,9,  2112.1,2,  2274.6,2,-999.0000,9,  -999.00,     -999.0,9,     -999.0,9,     -999.0,9,     -999.0,9,     -999.0,9,     -999.0,9,     -999.0,9,     -999.0,9,     -999.0,9,     -999.0,9,     -999.0,9,     -999.0,9,     -999.0,9,     -999.0,9,     -999.0,9,     -999.0,9,     -999.0,9,     -999.0,9,     -999.0,9,     -999.0,9,     -999.0,9,     -999.0,9,     -999.0,9,     -999.0,9,     -999.0,9,     -999.0,9,     -999.0,9,     -999.0,9,   5.9103,20141208,       0923
06AQ20141202,        A12,       7,          1,         21,2,20141208,       0744,   -47.6710,     4.2537,       4596,    50.9,   5.9170,  33.8246,2,-999.0000,9,    307.2,2,   310.1,2,    3.42,2,   20.23,2,    0.27,2,    1.45,2,  2113.2,2,  2274.6,2,-999.0000,9,  -999.00,     -999.0,9,     -999.0,9,     -999.0,9,     -999.0,9,     -999.0,9,     -999.0,9,     -999.0,9,     -999.0,9,     -999.0,9,     -999.0,9,     -999.0,9,     -999.0,9,     -999.0,9,     -999.0,9,     -999.0,9,     -999.0,9,     -999.0,9,     -999.0,9,     -999.0,9,     -999.0,9,     -999.0,9,     -999.0,9,     -999.0,9,     -999.0,9,     -999.0,9,     -999.0,9,     -999.0,9,     -999.0,9,   5.9128,20141208,       0923
06AQ20141202,        A12,       7,          1,         20,2,20141208,       0744,   -47.6710,     4.2537,       4596,   103.9,   4.8524,  33.8312,2,-999.0000,9,    307.8,2,   312.8,2,    4.10,2,   21.18,2,    0.29,2,    1.52,2,  2121.9,2,  2268.9,2,-999.0000,9,  -999.00,     -999.0,9,     -999.0,9,     -999.0,9,     -999.0,9,     -999.0,9,     -999.0,9,     -999.0,9,     -999.0,9,     -999.0,9,     -999.0,9,     -999.0,9,     -999.0,9,     -999.0,9,     -999.0,9,     -999.0,9,     -999.0,9,     -999.0,9,     -999.0,9,     -999.0,9,     -999.0,9,     -999.0,9,     -999.0,9,     -999.0,9,     -999.0,9,     -999.0,9,     -999.0,9,     -999.0,9,     -999.0,9,   4.8447,20141208,       0921
06AQ20141202,        A12,       7,          1,         19,2,20141208,       0744,   -47.6710,     4.2537,       4596,   152.2,   4.2154,  33.8528,2,-999.0000,9,    307.6,2,   311.4,2,    5.37,2,   22.27,2,    0.31,2,    1.59,2,  2130.1,2,  2267.0,2,-999.0000,9,  -999.00,     -999.0,9,     -999.0,9,     -999.0,9,     -999.0,9,     -999.0,9,     -999.0,9,     -999.0,9,     -999.0,9,     -999.0,9,     -999.0,9,     -999.0,9,     -999.0,9,     -999.0,9,     -999.0,9,     -999.0,9,     -999.0,9,     -999.0,9,     -999.0,9,     -999.0,9,     -999.0,9,     -999.0,9,     -999.0,9,     -999.0,9,     -999.0,9,     -999.0,9,     -999.0,9,     -999.0,9,     -999.0,9,   4.2048,20141208,       0920
06AQ20141202,        A12,       7,          1,         18,2,20141208,       0744,   -47.6710,     4.2537,       4596,   201.2,   4.2969,  34.0474,2,-999.0000,9,    276.8,2,   280.6,2,    9.67,2,   25.60,2,    0.00,2,    1.78,2,  2152.8,2,  2270.8,2,-999.0000,9,  -999.00,     -999.0,9,     -999.0,9,     -999.0,9,     -999.0,9,     -999.0,9,     -999.0,9,     -999.0,9,     -999.0,9,     -999.0,9,     -999.0,9,     -999.0,9,     -999.0,9,     -999.0,9,     -999.0,9,     -999.0,9,     -999.0,9,     -999.0,9,     -999.0,9,     -999.0,9,     -999.0,9,     -999.0,9,     -999.0,9,     -999.0,9,     -999.0,9,     -999.0,9,     -999.0,9,     -999.0,9,     -999.0,9,   4.2826,20141208,       0918
06AQ20141202,        A12,       7,          1,         17,2,20141208,       0744,   -47.6710,     4.2537,       4596,   303.3,   3.7140,  34.1144,2,-999.0000,9,    264.7,2,   268.5,2,   16.01,2,   27.88,2,    0.00,2,    1.92,2,  2165.0,2,  2277.2,2,-999.0000,9,  -999.00,     -999.0,9,     -999.0,9,     -999.0,9,     -999.0,9,     -999.0,9,     -999.0,9,     -999.0,9,     -999.0,9,     -999.0,9,     -999.0,9,     -999.0,9,     -999.0,9,     -999.0,9,     -999.0,9,     -999.0,9,     -999.0,9,     -999.0,9,     -999.0,9,     -999.0,9,     -999.0,9,     -999.0,9,     -999.0,9,     -999.0,9,     -999.0,9,     -999.0,9,     -999.0,9,     -999.0,9,     -999.0,9,   3.6936,20141208,       0915
06AQ20141202,        A12,       7,          1,         16,2,20141208,       0744,   -47.6710,     4.2537,       4596,   404.4,   3.2584,  34.1417,2,-999.0000,9,    251.2,2,   256.1,2,   22.85,2,   29.60,2,    0.00,2,    2.05,2,  2179.4,2,  2282.4,2,-999.0000,9,  -999.00,     -999.0,9,     -999.0,9,     -999.0,9,     -999.0,9,     -999.0,9,     -999.0,9,     -999.0,9,     -999.0,9,     -999.0,9,     -999.0,9,     -999.0,9,     -999.0,9,     -999.0,9,     -999.0,9,     -999.0,9,     -999.0,9,     -999.0,9,     -999.0,9,     -999.0,9,     -999.0,9,     -999.0,9,     -999.0,9,     -999.0,9,     -999.0,9,     -999.0,9,     -999.0,9,     -999.0,9,     -999.0,9,   3.2323,20141208,       0913
06AQ20141202,        A12,       7,          1,         15,2,20141208,       0744,   -47.6710,     4.2537,       4596,   605.6,   2.8924,  34.2609,2,-999.0000,9,    214.5,2,   218.9,2,   38.86,2,   32.60,2,    0.00,2,    2.26,2,  2211.2,2,  2298.6,2,-999.0000,9,  -999.00,     -999.0,9,     -999.0,9,     -999.0,9,     -999.0,9,     -999.0,9,     -999.0,9,     -999.0,9,     -999.0,9,     -999.0,9,     -999.0,9,     -999.0,9,     -999.0,9,     -999.0,9,     -999.0,9,     -999.0,9,     -999.0,9,     -999.0,9,     -999.0,9,     -999.0,9,     -999.0,9,     -999.0,9,     -999.0,9,     -999.0,9,     -999.0,9,     -999.0,9,     -999.0,9,     -999.0,9,     -999.0,9,   2.8539,20141208,       0909
06AQ20141202,        A12,       7,          1,         14,2,20141208,       0744,   -47.6710,     4.2537,       4596,   809.7,   2.7855,  34.3997,2,-999.0000,9,    185.0,2,   192.9,2,   53.40,2,   34.17,2,    0.00,2,    2.36,2,  2235.2,2,  2314.4,2,-999.0000,9,  -999.00,     -999.0,9,     -999.0,9,     -999.0,9,     -999.0,9,     -999.0,9,     -999.0,9,     -999.0,9,     -999.0,9,     -999.0,9,     -999.0,9,     -999.0,9,     -999.0,9,     -999.0,9,     -999.0,9,     -999.0,9,     -999.0,9,     -999.0,9,     -999.0,9,     -999.0,9,     -999.0,9,     -999.0,9,     -999.0,9,     -999.0,9,     -999.0,9,     -999.0,9,     -999.0,9,     -999.0,9,     -999.0,9,   2.7332,20141208,       0904
06AQ20141202,        A12,       7,          1,         13,2,20141208,       0744,   -47.6710,     4.2537,       4596,   909.4,   2.7206,  34.4518,2,-999.0000,9,    177.3,2,   181.2,2,   60.14,2,   34.36,2,    0.00,2,    2.38,2,  2240.0,2,  2320.0,2,-999.0000,9,  -999.00,     -999.0,9,     -999.0,9,     -999.0,9,     -999.0,9,     -999.0,9,     -999.0,9,     -999.0,9,     -999.0,9,     -999.0,9,     -999.0,9,     -999.0,9,     -999.0,9,     -999.0,9,     -999.0,9,     -999.0,9,     -999.0,9,     -999.0,9,     -999.0,9,     -999.0,9,     -999.0,9,     -999.0,9,     -999.0,9,     -999.0,9,     -999.0,9,     -999.0,9,     -999.0,9,     -999.0,9,     -999.0,9,   2.6616,20141208,       0902
06AQ20141202,        A12,       7,          1,         12,2,20141208,       0744,   -47.6710,     4.2537,       4596,  1011.6,   2.6570,  34.5066,2,-999.0000,9,    171.8,2,   175.6,2,   63.75,2,   34.27,2,    0.00,2,    2.37,2,  2245.2,2,  2325.4,2,-999.0000,9,  -999.00,     -999.0,9,     -999.0,9,     -999.0,9,     -999.0,9,     -999.0,9,     -999.0,9,     -999.0,9,     -999.0,9,     -999.0,9,     -999.0,9,     -999.0,9,     -999.0,9,     -999.0,9,     -999.0,9,     -999.0,9,     -999.0,9,     -999.0,9,     -999.0,9,     -999.0,9,     -999.0,9,     -999.0,9,     -999.0,9,     -999.0,9,     -999.0,9,     -999.0,9,     -999.0,9,     -999.0,9,     -999.0,9,   2.5909,20141208,       0859
06AQ20141202,        A12,       7,          1,         11,2,20141208,       0744,   -47.6710,     4.2537,       4596,  1213.2,   2.5966,  34.5966,2,-999.0000,9,    170.1,2,   174.2,2,   69.50,2,   33.48,2,    0.00,2,    2.32,2,  2252.0,2,  2333.4,2,-999.0000,9,  -999.00,     -999.0,9,     -999.0,9,     -999.0,9,     -999.0,9,     -999.0,9,     -999.0,9,     -999.0,9,     -999.0,9,     -999.0,9,     -999.0,9,     -999.0,9,     -999.0,9,     -999.0,9,     -999.0,9,     -999.0,9,     -999.0,9,     -999.0,9,     -999.0,9,     -999.0,9,     -999.0,9,     -999.0,9,     -999.0,9,     -999.0,9,     -999.0,9,     -999.0,9,     -999.0,9,     -999.0,9,     -999.0,9,   2.5158,20141208,       0855
06AQ20141202,        A12,       7,          1,         10,2,20141208,       0744,   -47.6710,     4.2537,       4596,  1519.9,   2.5290,  34.7073,2,-999.0000,9,    179.6,2,   184.2,2,   70.86,2,   31.17,2,    0.00,2,    2.17,2,  2247.3,2,  2339.8,2,-999.0000,9,  -999.00,     -999.0,9,     -999.0,9,     -999.0,9,     -999.0,9,     -999.0,9,     -999.0,9,     -999.0,9,     -999.0,9,     -999.0,9,     -999.0,9,     -999.0,9,     -999.0,9,     -999.0,9,     -999.0,9,     -999.0,9,     -999.0,9,     -999.0,9,     -999.0,9,     -999.0,9,     -999.0,9,     -999.0,9,     -999.0,9,     -999.0,9,     -999.0,9,     -999.0,9,     -999.0,9,     -999.0,9,     -999.0,9,   2.4246,20141208,       0848
06AQ20141202,        A12,       7,          1,          9,2,20141208,       0744,   -47.6710,     4.2537,       4596,  1822.2,   2.3586,  34.7541,2,-999.0000,9,    188.8,2,   194.5,2,   72.52,2,   29.76,2,    0.00,2,    2.08,2,  2241.0,2,  2343.0,2,-999.0000,9,  -999.00,     -999.0,9,     -999.0,9,     -999.0,9,     -999.0,9,     -999.0,9,     -999.0,9,     -999.0,9,     -999.0,9,     -999.0,9,     -999.0,9,     -999.0,9,     -999.0,9,     -999.0,9,     -999.0,9,     -999.0,9,     -999.0,9,     -999.0,9,     -999.0,9,     -999.0,9,     -999.0,9,     -999.0,9,     -999.0,9,     -999.0,9,     -999.0,9,     -999.0,9,     -999.0,9,     -999.0,9,     -999.0,9,   2.2314,20141208,       0842
06AQ20141202,        A12,       7,          1,          8,2,20141208,       0744,   -47.6710,     4.2537,       4596,  2025.5,   2.2332,  34.7697,2,-999.0000,9,    194.0,2,   199.6,2,   74.08,2,   29.08,2,    0.00,2,    2.02,2,  2236.8,2,  2344.2,2,-999.0000,9,  -999.00,     -999.0,9,     -999.0,9,     -999.0,9,     -999.0,9,     -999.0,9,     -999.0,9,     -999.0,9,     -999.0,9,     -999.0,9,     -999.0,9,     -999.0,9,     -999.0,9,     -999.0,9,     -999.0,9,     -999.0,9,     -999.0,9,     -999.0,9,     -999.0,9,     -999.0,9,     -999.0,9,     -999.0,9,     -999.0,9,     -999.0,9,     -999.0,9,     -999.0,9,     -999.0,9,     -999.0,9,     -999.0,9,   2.0905,20141208,       0838
06AQ20141202,        A12,       7,          1,          7,2,20141208,       0744,   -47.6710,     4.2537,       4596,  2334.3,   2.0126,  34.7772,2,-999.0000,9,    199.9,2,   206.6,2,   77.88,2,   28.74,2,    0.00,2,    1.99,2,  2236.9,2,  2346.1,2,-999.0000,9,  -999.00,     -999.0,9,     -999.0,9,     -999.0,9,     -999.0,9,     -999.0,9,     -999.0,9,     -999.0,9,     -999.0,9,     -999.0,9,     -999.0,9,     -999.0,9,     -999.0,9,     -999.0,9,     -999.0,9,     -999.0,9,     -999.0,9,     -999.0,9,     -999.0,9,     -999.0,9,     -999.0,9,     -999.0,9,     -999.0,9,     -999.0,9,     -999.0,9,     -999.0,9,     -999.0,9,     -999.0,9,     -999.0,9,   1.8465,20141208,       0831
06AQ20141202,        A12,       7,          1,          6,2,20141208,       0744,   -47.6710,     4.2537,       4596,  2539.0,   1.8081,  34.7681,2,-999.0000,9,    200.8,2,   207.6,2,   83.84,2,   29.14,2,    0.00,2,    2.02,2,  2240.1,2,  2349.0,2,-999.0000,9,  -999.00,     -999.0,9,     -999.0,9,     -999.0,9,     -999.0,9,     -999.0,9,     -999.0,9,     -999.0,9,     -999.0,9,     -999.0,9,     -999.0,9,     -999.0,9,     -999.0,9,     -999.0,9,     -999.0,9,     -999.0,9,     -999.0,9,     -999.0,9,     -999.0,9,     -999.0,9,     -999.0,9,     -999.0,9,     -999.0,9,     -999.0,9,     -999.0,9,     -999.0,9,     -999.0,9,     -999.0,9,     -999.0,9,   1.6274,20141208,       0827
06AQ20141202,        A12,       7,          1,          5,2,20141208,       0744,   -47.6710,     4.2537,       4596,  2845.0,   1.5076,  34.7494,2,-999.0000,9,    201.1,2,   208.9,2,   94.67,2,   29.99,2,    0.00,2,    2.09,2,  2246.0,2,  2352.6,2,-999.0000,9,  -999.00,     -999.0,9,     -999.0,9,     -999.0,9,     -999.0,9,     -999.0,9,     -999.0,9,     -999.0,9,     -999.0,9,     -999.0,9,     -999.0,9,     -999.0,9,     -999.0,9,     -999.0,9,     -999.0,9,     -999.0,9,     -999.0,9,     -999.0,9,     -999.0,9,     -999.0,9,     -999.0,9,     -999.0,9,     -999.0,9,     -999.0,9,     -999.0,9,     -999.0,9,     -999.0,9,     -999.0,9,     -999.0,9,   1.3048,20141208,       0820
06AQ20141202,        A12,       7,          1,          4,2,20141208,       0744,   -47.6710,     4.2537,       4596,  3047.2,   1.3506,  34.7407,2,-999.0000,9,    201.9,2,   209.4,2,   97.70,2,   30.34,2,    0.00,2,    2.11,2,  2250.1,2,  2354.2,2,-999.0000,9,  -999.00,     -999.0,9,     -999.0,9,     -999.0,9,     -999.0,9,     -999.0,9,     -999.0,9,     -999.0,9,     -999.0,9,     -999.0,9,     -999.0,9,     -999.0,9,     -999.0,9,     -999.0,9,     -999.0,9,     -999.0,9,     -999.0,9,     -999.0,9,     -999.0,9,     -999.0,9,     -999.0,9,     -999.0,9,     -999.0,9,     -999.0,9,     -999.0,9,     -999.0,9,     -999.0,9,     -999.0,9,     -999.0,9,   1.1323,20141208,       0816
06AQ20141202,        A12,       7,          1,          3,2,20141208,       0744,   -47.6710,     4.2537,       4596,  3560.0,   1.0152,  34.7206,2,-999.0000,9,    204.9,2,   212.3,2,  107.85,2,   31.15,2,    0.00,2,    2.19,2,  2256.3,2,  2360.6,2,-999.0000,9,  -999.00,     -999.0,9,     -999.0,9,     -999.0,9,     -999.0,9,     -999.0,9,     -999.0,9,     -999.0,9,     -999.0,9,     -999.0,9,     -999.0,9,     -999.0,9,     -999.0,9,     -999.0,9,     -999.0,9,     -999.0,9,     -999.0,9,     -999.0,9,     -999.0,9,     -999.0,9,     -999.0,9,     -999.0,9,     -999.0,9,     -999.0,9,     -999.0,9,     -999.0,9,     -999.0,9,     -999.0,9,     -999.0,9,   0.7551,20141208,       0805
06AQ20141202,        A12,       7,          1,          2,2,20141208,       0744,   -47.6710,     4.2537,       4596,  4073.5,   0.8622,  34.7062,2,-999.0000,9,    205.0,2,   213.1,2,  115.86,2,   31.87,2,    0.00,2,    2.23,2,  2260.2,2,  2361.2,2,-999.0000,9,  -999.00,     -999.0,9,     -999.0,9,     -999.0,9,     -999.0,9,     -999.0,9,     -999.0,9,     -999.0,9,     -999.0,9,     -999.0,9,     -999.0,9,     -999.0,9,     -999.0,9,     -999.0,9,     -999.0,9,     -999.0,9,     -999.0,9,     -999.0,9,     -999.0,9,     -999.0,9,     -999.0,9,     -999.0,9,     -999.0,9,     -999.0,9,     -999.0,9,     -999.0,9,     -999.0,9,     -999.0,9,     -999.0,9,   0.5534,20141208,       0754
06AQ20141202,        A12,       7,          1,          1,2,20141208,       0744,   -47.6710,     4.2537,       4596,  4585.5,   0.8021,  34.6958,2,-999.0000,9,    204.4,2,   212.4,2,  121.62,2,   32.37,2,    0.00,2,    2.26,2,  2265.0,2,  2361.5,2,-999.0000,9,  -999.00,     -999.0,9,     -999.0,9,     -999.0,9,     -999.0,9,     -999.0,9,     -999.0,9,     -999.0,9,     -999.0,9,     -999.0,9,     -999.0,9,     -999.0,9,     -999.0,9,     -999.0,9,     -999.0,9,     -999.0,9,     -999.0,9,     -999.0,9,     -999.0,9,     -999.0,9,     -999.0,9,     -999.0,9,     -999.0,9,     -999.0,9,     -999.0,9,     -999.0,9,     -999.0,9,     -999.0,9,     -999.0,9,   0.4392,20141208,       0744