BOTTLE,20220815CCHSIOAMB
EXPOCODE,SECT_ID,STNNBR,CASTNO,BTLNBR,BTLNBR_FLAG_W,DATE,TIME,LATITUDE,LONGITUDE,DEPTH,CTDPRS,CTDTMP,CTDSAL,CTDSAL_FLAG_W,SALNTY,SALNTY_FLAG_W,CTDOXY,CTDOXY_FLAG_W,OXYGEN,OXYGEN_FLAG_W,SILCAT,SILCAT_FLAG_W,NITRAT,NITRAT_FLAG_W,NITRIT,NITRIT_FLAG_W,PHSPHT,PHSPHT_FLAG_W,TCARBN,TCARBN_FLAG_W,ALKALI,ALKALI_FLAG_W,PH_TOT,PH_TOT_FLAG_W,PH_TMP,POC,POC_FLAG_W,PON,PON_FLAG_W,FUCO,FUCO_FLAG_W,ALPHA-BETA-CAR,ALPHA-BETA-CAR_FLAG_W,ALLO,ALLO_FLAG_W,BUT-FUCO,BUT-FUCO_FLAG_W,CHL_C1C2,CHL_C1C2_FLAG_W,CHL_C3,CHL_C3_FLAG_W,CHLIDE_A,CHLIDE_A_FLAG_W,DIADINO,DIADINO_FLAG_W,DIATO,DIATO_FLAG_W,DV_CHL_A,DV_CHL_A_FLAG_W,DV_CHL_B,DV_CHL_B_FLAG_W,GYRO,GYRO_FLAG_W,HEX-FUCO,HEX-FUCO_FLAG_W,LUT,LUT_FLAG_W,MV_CHL_A,MV_CHL_A_FLAG_W,MV_CHL_B,MV_CHL_B_FLAG_W,NEO,NEO_FLAG_W,PERID,PERID_FLAG_W,PHIDE_A,PHIDE_A_FLAG_W,PHYTIN_A,PHYTIN_A_FLAG_W,PRAS,PRAS_FLAG_W,TOT_CHL_A,TOT_CHL_A_FLAG_W,TOT_CHL_B,TOT_CHL_B_FLAG_W,TOT_CHL_C,TOT_CHL_C_FLAG_W,VIOLA,VIOLA_FLAG_W,ZEA,ZEA_FLAG_W,THETA,BTL_DATE,BTL_TIME
,,,,,,,,,,METERS,DBAR,ITS-90,PSS-78,,PSS-78,,UMOL/KG,,UMOL/KG,,UMOL/KG,,UMOL/KG,,UMOL/KG,,UMOL/KG,,UMOL/KG,,UMOL/KG,,,,DEG C,uG/KG,,ug/kg,,NMOL/KG,,MG/M^3,,MG/M^3,,MG/M^3,,MG/M^3,,MG/M^3,,MG/M^3,,MG/M^3,,MG/M^3,,MG/M^3,,MG/M^3,,MG/M^3,,MG/M^3,,MG/M^3,,MG/M^3,,MG/M^3,,MG/M^3,,MG/M^3,,MG/M^3,,MG/M^3,,MG/M^3,,MG/M^3,,MG/M^3,,MG/M^3,,MG/M^3,,MG/M^3,,DEG C,,
06AQ20141202,        A12,      30,          1,         24,2,20141219,       0205,   -66.4672,    -0.0207,       4548,    20.4,  -1.6891,  33.8302,2,-999.0000,9,    290.2,2,   292.9,2,   80.87,2,   28.67,2,    0.19,2,    1.97,2,  2185.4,2,  2294.7,2,-999.0000,9,  -999.00,     -999.0,9,     -999.0,9,     -999.0,9,     -999.0,9,     -999.0,9,     -999.0,9,     -999.0,9,     -999.0,9,     -999.0,9,     -999.0,9,     -999.0,9,     -999.0,9,     -999.0,9,     -999.0,9,     -999.0,9,     -999.0,9,     -999.0,9,     -999.0,9,     -999.0,9,     -999.0,9,     -999.0,9,     -999.0,9,     -999.0,9,     -999.0,9,     -999.0,9,     -999.0,9,     -999.0,9,     -999.0,9,  -1.6895,20141219,       0337
06AQ20141202,        A12,      30,          1,         23,2,20141219,       0205,   -66.4672,    -0.0207,       4548,    40.6,  -1.0802,  34.2570,2,-999.0000,9,    260.5,2,   273.0,2,   80.94,2,   29.42,2,    0.13,2,    2.02,2,  2218.6,2,  2321.9,2,-999.0000,9,  -999.00,     -999.0,9,     -999.0,9,     -999.0,9,     -999.0,9,     -999.0,9,     -999.0,9,     -999.0,9,     -999.0,9,     -999.0,9,     -999.0,9,     -999.0,9,     -999.0,9,     -999.0,9,     -999.0,9,     -999.0,9,     -999.0,9,     -999.0,9,     -999.0,9,     -999.0,9,     -999.0,9,     -999.0,9,     -999.0,9,     -999.0,9,     -999.0,9,     -999.0,9,     -999.0,9,     -999.0,9,     -999.0,9,  -1.0812,20141219,       0336
06AQ20141202,        A12,      30,          1,         22,2,20141219,       0205,   -66.4672,    -0.0207,       4548,    50.8,   0.8064,  34.6220,2,-999.0000,9,    203.5,2,   199.6,2,   93.90,2,   32.48,2,    0.02,2,    2.23,2,  2259.6,2,  2346.5,2,-999.0000,9,  -999.00,     -999.0,9,     -999.0,9,     -999.0,9,     -999.0,9,     -999.0,9,     -999.0,9,     -999.0,9,     -999.0,9,     -999.0,9,     -999.0,9,     -999.0,9,     -999.0,9,     -999.0,9,     -999.0,9,     -999.0,9,     -999.0,9,     -999.0,9,     -999.0,9,     -999.0,9,     -999.0,9,     -999.0,9,     -999.0,9,     -999.0,9,     -999.0,9,     -999.0,9,     -999.0,9,     -999.0,9,     -999.0,9,   0.8042,20141219,       0336
06AQ20141202,        A12,      30,          1,         21,2,20141219,       0205,   -66.4672,    -0.0207,       4548,    73.1,   1.1675,  34.6821,2,-999.0000,9,    189.7,2,   197.4,2,   95.95,2,   32.75,2,    0.02,2,    2.25,2,  2261.3,2,  2348.0,2,-999.0000,9,  -999.00,     -999.0,9,     -999.0,9,     -999.0,9,     -999.0,9,     -999.0,9,     -999.0,9,     -999.0,9,     -999.0,9,     -999.0,9,     -999.0,9,     -999.0,9,     -999.0,9,     -999.0,9,     -999.0,9,     -999.0,9,     -999.0,9,     -999.0,9,     -999.0,9,     -999.0,9,     -999.0,9,     -999.0,9,     -999.0,9,     -999.0,9,     -999.0,9,     -999.0,9,     -999.0,9,     -999.0,9,     -999.0,9,   1.1642,20141219,       0335
06AQ20141202,        A12,      30,          1,         20,2,20141219,       0205,   -66.4672,    -0.0207,       4548,   101.3,   1.1511,  34.6880,2,-999.0000,9,    189.4,2,   197.0,2,   97.61,2,   32.66,2,    0.00,2,    2.24,2,  2262.3,2,  2350.2,2,-999.0000,9,  -999.00,     -999.0,9,     -999.0,9,     -999.0,9,     -999.0,9,     -999.0,9,     -999.0,9,     -999.0,9,     -999.0,9,     -999.0,9,     -999.0,9,     -999.0,9,     -999.0,9,     -999.0,9,     -999.0,9,     -999.0,9,     -999.0,9,     -999.0,9,     -999.0,9,     -999.0,9,     -999.0,9,     -999.0,9,     -999.0,9,     -999.0,9,     -999.0,9,     -999.0,9,     -999.0,9,     -999.0,9,     -999.0,9,   1.1465,20141219,       0334
06AQ20141202,        A12,      30,          1,         19,2,20141219,       0205,   -66.4672,    -0.0207,       4548,   151.5,   1.1342,  34.6955,2,-999.0000,9,    191.2,2,   199.3,2,   98.68,2,   32.60,2,    0.00,2,    2.23,2,  2261.7,2,  2351.4,2,-999.0000,9,  -999.00,     -999.0,9,     -999.0,9,     -999.0,9,     -999.0,9,     -999.0,9,     -999.0,9,     -999.0,9,     -999.0,9,     -999.0,9,     -999.0,9,     -999.0,9,     -999.0,9,     -999.0,9,     -999.0,9,     -999.0,9,     -999.0,9,     -999.0,9,     -999.0,9,     -999.0,9,     -999.0,9,     -999.0,9,     -999.0,9,     -999.0,9,     -999.0,9,     -999.0,9,     -999.0,9,     -999.0,9,     -999.0,9,   1.1272,20141219,       0333
06AQ20141202,        A12,      30,          1,         18,2,20141219,       0205,   -66.4672,    -0.0207,       4548,   201.8,   1.0914,  34.7005,2,-999.0000,9,    192.6,2,   200.2,2,  100.83,2,   32.49,2,    0.00,2,    2.22,2,  2262.3,2,  2352.1,2,-999.0000,9,  -999.00,     -999.0,9,     -999.0,9,     -999.0,9,     -999.0,9,     -999.0,9,     -999.0,9,     -999.0,9,     -999.0,9,     -999.0,9,     -999.0,9,     -999.0,9,     -999.0,9,     -999.0,9,     -999.0,9,     -999.0,9,     -999.0,9,     -999.0,9,     -999.0,9,     -999.0,9,     -999.0,9,     -999.0,9,     -999.0,9,     -999.0,9,     -999.0,9,     -999.0,9,     -999.0,9,     -999.0,9,     -999.0,9,   1.0821,20141219,       0331
06AQ20141202,        A12,      30,          1,         17,2,20141219,       0205,   -66.4672,    -0.0207,       4548,   303.1,   1.0065,  34.7032,2,-999.0000,9,    194.6,2,   204.1,2,  103.27,2,   32.47,2,    0.00,2,    2.23,2,  2260.6,2,  2352.9,2,-999.0000,9,  -999.00,     -999.0,9,     -999.0,9,     -999.0,9,     -999.0,9,     -999.0,9,     -999.0,9,     -999.0,9,     -999.0,9,     -999.0,9,     -999.0,9,     -999.0,9,     -999.0,9,     -999.0,9,     -999.0,9,     -999.0,9,     -999.0,9,     -999.0,9,     -999.0,9,     -999.0,9,     -999.0,9,     -999.0,9,     -999.0,9,     -999.0,9,     -999.0,9,     -999.0,9,     -999.0,9,     -999.0,9,     -999.0,9,   0.9924,20141219,       0329
06AQ20141202,        A12,      30,          1,         16,2,20141219,       0205,   -66.4672,    -0.0207,       4548,   401.3,   0.9129,  34.7022,2,-999.0000,9,    196.1,2,   205.2,2,  106.10,2,   32.45,2,    0.00,2,    2.23,2,  2261.9,2,  2355.4,2,-999.0000,9,  -999.00,     -999.0,9,     -999.0,9,     -999.0,9,     -999.0,9,     -999.0,9,     -999.0,9,     -999.0,9,     -999.0,9,     -999.0,9,     -999.0,9,     -999.0,9,     -999.0,9,     -999.0,9,     -999.0,9,     -999.0,9,     -999.0,9,     -999.0,9,     -999.0,9,     -999.0,9,     -999.0,9,     -999.0,9,     -999.0,9,     -999.0,9,     -999.0,9,     -999.0,9,     -999.0,9,     -999.0,9,     -999.0,9,   0.8942,20141219,       0327
06AQ20141202,        A12,      30,          1,         15,2,20141219,       0205,   -66.4672,    -0.0207,       4548,   607.6,   0.7074,  34.6971,2,-999.0000,9,    198.4,2,   208.3,2,  112.54,2,   32.58,2,    0.00,2,    2.24,2,  2263.1,2,  2357.0,2,-999.0000,9,  -999.00,     -999.0,9,     -999.0,9,     -999.0,9,     -999.0,9,     -999.0,9,     -999.0,9,     -999.0,9,     -999.0,9,     -999.0,9,     -999.0,9,     -999.0,9,     -999.0,9,     -999.0,9,     -999.0,9,     -999.0,9,     -999.0,9,     -999.0,9,     -999.0,9,     -999.0,9,     -999.0,9,     -999.0,9,     -999.0,9,     -999.0,9,     -999.0,9,     -999.0,9,     -999.0,9,     -999.0,9,     -999.0,9,   0.6791,20141219,       0323
06AQ20141202,        A12,      30,          1,         14,2,20141219,       0205,   -66.4672,    -0.0207,       4548,   809.3,   0.5728,  34.6930,2,-999.0000,9,    200.2,2,   210.6,2,  116.54,2,   32.79,2,    0.00,2,    2.26,2,  2265.8,2,  2358.0,2,-999.0000,9,  -999.00,     -999.0,9,     -999.0,9,     -999.0,9,     -999.0,9,     -999.0,9,     -999.0,9,     -999.0,9,     -999.0,9,     -999.0,9,     -999.0,9,     -999.0,9,     -999.0,9,     -999.0,9,     -999.0,9,     -999.0,9,     -999.0,9,     -999.0,9,     -999.0,9,     -999.0,9,     -999.0,9,     -999.0,9,     -999.0,9,     -999.0,9,     -999.0,9,     -999.0,9,     -999.0,9,     -999.0,9,     -999.0,9,   0.5345,20141219,       0318
06AQ20141202,        A12,      30,          1,         13,2,20141219,       0205,   -66.4672,    -0.0207,       4548,   911.2,   0.5180,  34.6910,2,-999.0000,9,    201.1,2,   210.6,2,  118.30,2,   32.81,2,    0.00,2,    2.26,2,  2269.8,2,  2360.8,2,-999.0000,9,  -999.00,     -999.0,9,     -999.0,9,     -999.0,9,     -999.0,9,     -999.0,9,     -999.0,9,     -999.0,9,     -999.0,9,     -999.0,9,     -999.0,9,     -999.0,9,     -999.0,9,     -999.0,9,     -999.0,9,     -999.0,9,     -999.0,9,     -999.0,9,     -999.0,9,     -999.0,9,     -999.0,9,     -999.0,9,     -999.0,9,     -999.0,9,     -999.0,9,     -999.0,9,     -999.0,9,     -999.0,9,     -999.0,9,   0.4745,20141219,       0316
06AQ20141202,        A12,      30,          1,         12,2,20141219,       0205,   -66.4672,    -0.0207,       4548,  1011.3,   0.4612,  34.6887,2,-999.0000,9,    202.1,2,   214.1,2,  120.06,2,   33.06,2,    0.00,2,    2.27,2,  2262.7,2,  2357.1,2,-999.0000,9,  -999.00,     -999.0,9,     -999.0,9,     -999.0,9,     -999.0,9,     -999.0,9,     -999.0,9,     -999.0,9,     -999.0,9,     -999.0,9,     -999.0,9,     -999.0,9,     -999.0,9,     -999.0,9,     -999.0,9,     -999.0,9,     -999.0,9,     -999.0,9,     -999.0,9,     -999.0,9,     -999.0,9,     -999.0,9,     -999.0,9,     -999.0,9,     -999.0,9,     -999.0,9,     -999.0,9,     -999.0,9,     -999.0,9,   0.4126,20141219,       0314
06AQ20141202,        A12,      30,          1,         11,2,20141219,       0205,   -66.4672,    -0.0207,       4548,  1215.7,   0.3714,  34.6849,2,-999.0000,9,    203.3,2,   213.4,2,  122.50,2,   33.29,2,    0.00,2,    2.29,2,  2265.2,2,  2358.1,2,-999.0000,9,  -999.00,     -999.0,9,     -999.0,9,     -999.0,9,     -999.0,9,     -999.0,9,     -999.0,9,     -999.0,9,     -999.0,9,     -999.0,9,     -999.0,9,     -999.0,9,     -999.0,9,     -999.0,9,     -999.0,9,     -999.0,9,     -999.0,9,     -999.0,9,     -999.0,9,     -999.0,9,     -999.0,9,     -999.0,9,     -999.0,9,     -999.0,9,     -999.0,9,     -999.0,9,     -999.0,9,     -999.0,9,     -999.0,9,   0.3117,20141219,       0310
06AQ20141202,        A12,      30,          1,         10,2,20141219,       0205,   -66.4672,    -0.0207,       4548,  1521.1,   0.2368,  34.6787,2,-999.0000,9,    207.4,2,   218.2,2,  124.94,2,   33.28,2,    0.00,2,    2.30,2,  2262.5,2,  2359.3,2,-999.0000,9,  -999.00,     -999.0,9,     -999.0,9,     -999.0,9,     -999.0,9,     -999.0,9,     -999.0,9,     -999.0,9,     -999.0,9,     -999.0,9,     -999.0,9,     -999.0,9,     -999.0,9,     -999.0,9,     -999.0,9,     -999.0,9,     -999.0,9,     -999.0,9,     -999.0,9,     -999.0,9,     -999.0,9,     -999.0,9,     -999.0,9,     -999.0,9,     -999.0,9,     -999.0,9,     -999.0,9,     -999.0,9,     -999.0,9,   0.1597,20141219,       0304
06AQ20141202,        A12,      30,          1,          9,2,20141219,       0205,   -66.4672,    -0.0207,       4548,  1825.9,   0.1226,  34.6739,2,-999.0000,9,    211.6,2,   225.4,2,  125.91,2,   32.90,2,    0.00,2,    2.28,2,  2259.4,2,  2359.1,2,-999.0000,9,  -999.00,     -999.0,9,     -999.0,9,     -999.0,9,     -999.0,9,     -999.0,9,     -999.0,9,     -999.0,9,     -999.0,9,     -999.0,9,     -999.0,9,     -999.0,9,     -999.0,9,     -999.0,9,     -999.0,9,     -999.0,9,     -999.0,9,     -999.0,9,     -999.0,9,     -999.0,9,     -999.0,9,     -999.0,9,     -999.0,9,     -999.0,9,     -999.0,9,     -999.0,9,     -999.0,9,     -999.0,9,     -999.0,9,   0.0270,20141219,       0258
06AQ20141202,        A12,      30,          1,          8,2,20141219,       0205,   -66.4672,    -0.0207,       4548,  2029.7,   0.0403,  34.6702,2,-999.0000,9,    215.8,2,   226.8,2,  126.11,2,   32.84,2,    0.00,2,    2.28,2,  2257.4,2,  2356.9,2,-999.0000,9,  -999.00,     -999.0,9,     -999.0,9,     -999.0,9,     -999.0,9,     -999.0,9,     -999.0,9,     -999.0,9,     -999.0,9,     -999.0,9,     -999.0,9,     -999.0,9,     -999.0,9,     -999.0,9,     -999.0,9,     -999.0,9,     -999.0,9,     -999.0,9,     -999.0,9,     -999.0,9,     -999.0,9,     -999.0,9,     -999.0,9,     -999.0,9,     -999.0,9,     -999.0,9,     -999.0,9,     -999.0,9,     -999.0,9,  -0.0681,20141219,       0254
06AQ20141202,        A12,      30,          1,          7,2,20141219,       0205,   -66.4672,    -0.0207,       4548,  2336.5,  -0.0373,  34.6666,2,-999.0000,9,    219.5,2,   232.0,2,  126.21,2,   32.85,2,    0.00,2,    2.25,2,  2256.2,2,  2351.5,2,-999.0000,9,  -999.00,     -999.0,9,     -999.0,9,     -999.0,9,     -999.0,9,     -999.0,9,     -999.0,9,     -999.0,9,     -999.0,9,     -999.0,9,     -999.0,9,     -999.0,9,     -999.0,9,     -999.0,9,     -999.0,9,     -999.0,9,     -999.0,9,     -999.0,9,     -999.0,9,     -999.0,9,     -999.0,9,     -999.0,9,     -999.0,9,     -999.0,9,     -999.0,9,     -999.0,9,     -999.0,9,     -999.0,9,     -999.0,9,  -0.1667,20141219,       0248
06AQ20141202,        A12,      30,          1,          6,2,20141219,       0205,   -66.4672,    -0.0207,       4548,  2539.9,  -0.0952,  34.6641,2,-999.0000,9,    222.6,2,   235.3,2,  125.82,2,   32.86,2,    0.00,2,    2.27,2,  2253.0,2,  2354.4,2,-999.0000,9,  -999.00,     -999.0,9,     -999.0,9,     -999.0,9,     -999.0,9,     -999.0,9,     -999.0,9,     -999.0,9,     -999.0,9,     -999.0,9,     -999.0,9,     -999.0,9,     -999.0,9,     -999.0,9,     -999.0,9,     -999.0,9,     -999.0,9,     -999.0,9,     -999.0,9,     -999.0,9,     -999.0,9,     -999.0,9,     -999.0,9,     -999.0,9,     -999.0,9,     -999.0,9,     -999.0,9,     -999.0,9,     -999.0,9,  -0.2390,20141219,       0244
06AQ20141202,        A12,      30,          1,          5,2,20141219,       0205,   -66.4672,    -0.0207,       4548,  2846.9,  -0.1460,  34.6615,2,-999.0000,9,    225.7,2,   239.9,2,  125.72,2,   32.77,2,    0.00,2,    2.26,2,  2251.0,2,  2355.7,2,-999.0000,9,  -999.00,     -999.0,9,     -999.0,9,     -999.0,9,     -999.0,9,     -999.0,9,     -999.0,9,     -999.0,9,     -999.0,9,     -999.0,9,     -999.0,9,     -999.0,9,     -999.0,9,     -999.0,9,     -999.0,9,     -999.0,9,     -999.0,9,     -999.0,9,     -999.0,9,     -999.0,9,     -999.0,9,     -999.0,9,     -999.0,9,     -999.0,9,     -999.0,9,     -999.0,9,     -999.0,9,     -999.0,9,     -999.0,9,  -0.3133,20141219,       0238
06AQ20141202,        A12,      30,          1,          4,2,20141219,       0205,   -66.4672,    -0.0207,       4548,  3051.4,  -0.1787,  34.6598,2,-999.0000,9,    227.6,2,   232.4,2,  125.52,2,   32.80,2,    0.00,2,    2.26,2,  2252.7,2,  2354.7,2,-999.0000,9,  -999.00,     -999.0,9,     -999.0,9,     -999.0,9,     -999.0,9,     -999.0,9,     -999.0,9,     -999.0,9,     -999.0,9,     -999.0,9,     -999.0,9,     -999.0,9,     -999.0,9,     -999.0,9,     -999.0,9,     -999.0,9,     -999.0,9,     -999.0,9,     -999.0,9,     -999.0,9,     -999.0,9,     -999.0,9,     -999.0,9,     -999.0,9,     -999.0,9,     -999.0,9,     -999.0,9,     -999.0,9,     -999.0,9,  -0.3624,20141219,       0234
06AQ20141202,        A12,      30,          1,          3,2,20141219,       0205,   -66.4672,    -0.0207,       4548,  3565.3,  -0.2362,  34.6568,2,-999.0000,9,    232.2,2,   236.9,2,  126.11,2,   32.51,2,    0.00,2,    2.26,2,  2253.1,2,  2353.1,2,-999.0000,9,  -999.00,     -999.0,9,     -999.0,9,     -999.0,9,     -999.0,9,     -999.0,9,     -999.0,9,     -999.0,9,     -999.0,9,     -999.0,9,     -999.0,9,     -999.0,9,     -999.0,9,     -999.0,9,     -999.0,9,     -999.0,9,     -999.0,9,     -999.0,9,     -999.0,9,     -999.0,9,     -999.0,9,     -999.0,9,     -999.0,9,     -999.0,9,     -999.0,9,     -999.0,9,     -999.0,9,     -999.0,9,     -999.0,9,  -0.4640,20141219,       0224
06AQ20141202,        A12,      30,          1,          2,2,20141219,       0205,   -66.4672,    -0.0207,       4548,  4079.1,  -0.2616,  34.6550,2,-999.0000,9,    234.4,2,   239.3,2,  129.43,2,   32.61,2,    0.00,2,    2.25,2,  2252.7,2,  2352.7,2,-999.0000,9,  -999.00,     -999.0,9,     -999.0,9,     -999.0,9,     -999.0,9,     -999.0,9,     -999.0,9,     -999.0,9,     -999.0,9,     -999.0,9,     -999.0,9,     -999.0,9,     -999.0,9,     -999.0,9,     -999.0,9,     -999.0,9,     -999.0,9,     -999.0,9,     -999.0,9,     -999.0,9,     -999.0,9,     -999.0,9,     -999.0,9,     -999.0,9,     -999.0,9,     -999.0,9,     -999.0,9,     -999.0,9,     -999.0,9,  -0.5379,20141219,       0214
06AQ20141202,        A12,      30,          1,          1,2,20141219,       0205,   -66.4672,    -0.0207,       4548,  4538.1,  -0.2546,  34.6541,2,-999.0000,9,    234.9,2,   241.0,2,  132.16,2,   32.63,2,    0.00,2,    2.24,2,  2250.2,2,  2354.9,2,-999.0000,9,  -999.00,     -999.0,9,     -999.0,9,     -999.0,9,     -999.0,9,     -999.0,9,     -999.0,9,     -999.0,9,     -999.0,9,     -999.0,9,     -999.0,9,     -999.0,9,     -999.0,9,     -999.0,9,     -999.0,9,     -999.0,9,     -999.0,9,     -999.0,9,     -999.0,9,     -999.0,9,     -999.0,9,     -999.0,9,     -999.0,9,     -999.0,9,     -999.0,9,     -999.0,9,     -999.0,9,     -999.0,9,     -999.0,9,  -0.5783,20141219,       0205