BOTTLE,20220815CCHSIOAMB
EXPOCODE,SECT_ID,STNNBR,CASTNO,BTLNBR,BTLNBR_FLAG_W,DATE,TIME,LATITUDE,LONGITUDE,DEPTH,CTDPRS,CTDTMP,CTDSAL,CTDSAL_FLAG_W,SALNTY,SALNTY_FLAG_W,CTDOXY,CTDOXY_FLAG_W,OXYGEN,OXYGEN_FLAG_W,SILCAT,SILCAT_FLAG_W,NITRAT,NITRAT_FLAG_W,NITRIT,NITRIT_FLAG_W,PHSPHT,PHSPHT_FLAG_W,TCARBN,TCARBN_FLAG_W,ALKALI,ALKALI_FLAG_W,PH_TOT,PH_TOT_FLAG_W,PH_TMP,POC,POC_FLAG_W,PON,PON_FLAG_W,FUCO,FUCO_FLAG_W,ALPHA-BETA-CAR,ALPHA-BETA-CAR_FLAG_W,ALLO,ALLO_FLAG_W,BUT-FUCO,BUT-FUCO_FLAG_W,CHL_C1C2,CHL_C1C2_FLAG_W,CHL_C3,CHL_C3_FLAG_W,CHLIDE_A,CHLIDE_A_FLAG_W,DIADINO,DIADINO_FLAG_W,DIATO,DIATO_FLAG_W,DV_CHL_A,DV_CHL_A_FLAG_W,DV_CHL_B,DV_CHL_B_FLAG_W,GYRO,GYRO_FLAG_W,HEX-FUCO,HEX-FUCO_FLAG_W,LUT,LUT_FLAG_W,MV_CHL_A,MV_CHL_A_FLAG_W,MV_CHL_B,MV_CHL_B_FLAG_W,NEO,NEO_FLAG_W,PERID,PERID_FLAG_W,PHIDE_A,PHIDE_A_FLAG_W,PHYTIN_A,PHYTIN_A_FLAG_W,PRAS,PRAS_FLAG_W,TOT_CHL_A,TOT_CHL_A_FLAG_W,TOT_CHL_B,TOT_CHL_B_FLAG_W,TOT_CHL_C,TOT_CHL_C_FLAG_W,VIOLA,VIOLA_FLAG_W,ZEA,ZEA_FLAG_W,THETA,BTL_DATE,BTL_TIME
,,,,,,,,,,METERS,DBAR,ITS-90,PSS-78,,PSS-78,,UMOL/KG,,UMOL/KG,,UMOL/KG,,UMOL/KG,,UMOL/KG,,UMOL/KG,,UMOL/KG,,UMOL/KG,,,,DEG C,uG/KG,,ug/kg,,NMOL/KG,,MG/M^3,,MG/M^3,,MG/M^3,,MG/M^3,,MG/M^3,,MG/M^3,,MG/M^3,,MG/M^3,,MG/M^3,,MG/M^3,,MG/M^3,,MG/M^3,,MG/M^3,,MG/M^3,,MG/M^3,,MG/M^3,,MG/M^3,,MG/M^3,,MG/M^3,,MG/M^3,,MG/M^3,,MG/M^3,,MG/M^3,,MG/M^3,,MG/M^3,,DEG C,,
06AQ20141202,        A12,      36,          1,         24,2,20141222,       2323,   -69.0112,    -0.0183,       3650,    14.8,  -1.8336,  34.3401,2,-999.0000,9,    286.2,2,   285.2,2,   71.76,2,   29.97,2,    0.19,2,    2.06,2,  -999.0,9,  -999.0,9,-999.0000,9,  -999.00,     -999.0,9,     -999.0,9,     -999.0,9,     -999.0,9,     -999.0,9,     -999.0,9,     -999.0,9,     -999.0,9,     -999.0,9,     -999.0,9,     -999.0,9,     -999.0,9,     -999.0,9,     -999.0,9,     -999.0,9,     -999.0,9,     -999.0,9,     -999.0,9,     -999.0,9,     -999.0,9,     -999.0,9,     -999.0,9,     -999.0,9,     -999.0,9,     -999.0,9,     -999.0,9,     -999.0,9,     -999.0,9,  -1.8339,20141222,       0040
06AQ20141202,        A12,      36,          1,         23,2,20141222,       2323,   -69.0112,    -0.0183,       3650,    25.1,  -1.8387,  34.3504,2,-999.0000,9,    286.5,2,   286.4,2,   71.76,2,   30.00,2,    0.16,2,    2.06,2,  -999.0,9,  -999.0,9,-999.0000,9,  -999.00,     -999.0,9,     -999.0,9,     -999.0,9,     -999.0,9,     -999.0,9,     -999.0,9,     -999.0,9,     -999.0,9,     -999.0,9,     -999.0,9,     -999.0,9,     -999.0,9,     -999.0,9,     -999.0,9,     -999.0,9,     -999.0,9,     -999.0,9,     -999.0,9,     -999.0,9,     -999.0,9,     -999.0,9,     -999.0,9,     -999.0,9,     -999.0,9,     -999.0,9,     -999.0,9,     -999.0,9,     -999.0,9,  -1.8392,20141222,       0039
06AQ20141202,        A12,      36,          1,         22,2,20141222,       2323,   -69.0112,    -0.0183,       3650,    25.1,  -1.8392,  34.3519,2,-999.0000,9,    287.0,2,   286.4,2, -999.00,9, -999.00,9, -999.00,9, -999.00,9,  2227.2,2,  2324.9,2,-999.0000,9,  -999.00,     -999.0,9,     -999.0,9,     -999.0,9,     -999.0,9,     -999.0,9,     -999.0,9,     -999.0,9,     -999.0,9,     -999.0,9,     -999.0,9,     -999.0,9,     -999.0,9,     -999.0,9,     -999.0,9,     -999.0,9,     -999.0,9,     -999.0,9,     -999.0,9,     -999.0,9,     -999.0,9,     -999.0,9,     -999.0,9,     -999.0,9,     -999.0,9,     -999.0,9,     -999.0,9,     -999.0,9,     -999.0,9,  -1.8397,20141222,       0039
06AQ20141202,        A12,      36,          1,         21,2,20141222,       2323,   -69.0112,    -0.0183,       3650,    50.4,  -1.8384,  34.3824,2,-999.0000,9,    287.1,2,   286.6,2,   71.56,2,   30.04,2,    0.17,2,    2.08,2,  2227.8,2,  2324.5,2,-999.0000,9,  -999.00,     -999.0,9,     -999.0,9,     -999.0,9,     -999.0,9,     -999.0,9,     -999.0,9,     -999.0,9,     -999.0,9,     -999.0,9,     -999.0,9,     -999.0,9,     -999.0,9,     -999.0,9,     -999.0,9,     -999.0,9,     -999.0,9,     -999.0,9,     -999.0,9,     -999.0,9,     -999.0,9,     -999.0,9,     -999.0,9,     -999.0,9,     -999.0,9,     -999.0,9,     -999.0,9,     -999.0,9,     -999.0,9,  -1.8394,20141222,       0038
06AQ20141202,        A12,      36,          1,         20,2,20141222,       2323,   -69.0112,    -0.0183,       3650,   100.9,  -1.7625,  34.4136,2,-999.0000,9,    287.9,2,   287.5,2,   71.27,2,   30.37,2,    0.10,2,    2.11,2,  2229.4,2,  2327.9,2,-999.0000,9,  -999.00,     -999.0,9,     -999.0,9,     -999.0,9,     -999.0,9,     -999.0,9,     -999.0,9,     -999.0,9,     -999.0,9,     -999.0,9,     -999.0,9,     -999.0,9,     -999.0,9,     -999.0,9,     -999.0,9,     -999.0,9,     -999.0,9,     -999.0,9,     -999.0,9,     -999.0,9,     -999.0,9,     -999.0,9,     -999.0,9,     -999.0,9,     -999.0,9,     -999.0,9,     -999.0,9,     -999.0,9,     -999.0,9,  -1.7646,20141222,       0037
06AQ20141202,        A12,      36,          1,         19,2,20141222,       2323,   -69.0112,    -0.0183,       3650,   151.0,  -1.3468,  34.4671,2,-999.0000,9,    275.6,2,   274.3,2,   72.92,2,   31.06,2,    0.00,2,    2.13,2,  2236.0,2,  2331.2,2,-999.0000,9,  -999.00,     -999.0,9,     -999.0,9,     -999.0,9,     -999.0,9,     -999.0,9,     -999.0,9,     -999.0,9,     -999.0,9,     -999.0,9,     -999.0,9,     -999.0,9,     -999.0,9,     -999.0,9,     -999.0,9,     -999.0,9,     -999.0,9,     -999.0,9,     -999.0,9,     -999.0,9,     -999.0,9,     -999.0,9,     -999.0,9,     -999.0,9,     -999.0,9,     -999.0,9,     -999.0,9,     -999.0,9,     -999.0,9,  -1.3505,20141222,       0035
06AQ20141202,        A12,      36,          1,         18,2,20141222,       2323,   -69.0112,    -0.0183,       3650,   202.2,  -0.4020,  34.5455,2,-999.0000,9,    245.0,2,   246.8,2,   78.87,2,   31.68,2,    0.00,2,    2.18,2,  2243.4,2,  2336.3,2,-999.0000,9,  -999.00,     -999.0,9,     -999.0,9,     -999.0,9,     -999.0,9,     -999.0,9,     -999.0,9,     -999.0,9,     -999.0,9,     -999.0,9,     -999.0,9,     -999.0,9,     -999.0,9,     -999.0,9,     -999.0,9,     -999.0,9,     -999.0,9,     -999.0,9,     -999.0,9,     -999.0,9,     -999.0,9,     -999.0,9,     -999.0,9,     -999.0,9,     -999.0,9,     -999.0,9,     -999.0,9,     -999.0,9,     -999.0,9,  -0.4088,20141222,       0033
06AQ20141202,        A12,      36,          1,         17,2,20141222,       2323,   -69.0112,    -0.0183,       3650,   303.3,   0.6843,  34.6527,2,-999.0000,9,    208.1,2,   207.1,2,   93.12,2,   32.30,2,    0.00,2,    2.22,2,  2255.2,2,  2344.9,2,-999.0000,9,  -999.00,     -999.0,9,     -999.0,9,     -999.0,9,     -999.0,9,     -999.0,9,     -999.0,9,     -999.0,9,     -999.0,9,     -999.0,9,     -999.0,9,     -999.0,9,     -999.0,9,     -999.0,9,     -999.0,9,     -999.0,9,     -999.0,9,     -999.0,9,     -999.0,9,     -999.0,9,     -999.0,9,     -999.0,9,     -999.0,9,     -999.0,9,     -999.0,9,     -999.0,9,     -999.0,9,     -999.0,9,     -999.0,9,   0.6711,20141222,       0031
06AQ20141202,        A12,      36,          1,         16,2,20141222,       2323,   -69.0112,    -0.0183,       3650,   404.5,   0.8628,  34.6834,2,-999.0000,9,    203.3,2,   202.4,2,   97.41,2,   31.92,2,    0.00,2,    2.22,2,  2254.3,2,  2348.3,2,-999.0000,9,  -999.00,     -999.0,9,     -999.0,9,     -999.0,9,     -999.0,9,     -999.0,9,     -999.0,9,     -999.0,9,     -999.0,9,     -999.0,9,     -999.0,9,     -999.0,9,     -999.0,9,     -999.0,9,     -999.0,9,     -999.0,9,     -999.0,9,     -999.0,9,     -999.0,9,     -999.0,9,     -999.0,9,     -999.0,9,     -999.0,9,     -999.0,9,     -999.0,9,     -999.0,9,     -999.0,9,     -999.0,9,     -999.0,9,   0.8442,20141222,       0028
06AQ20141202,        A12,      36,          1,         15,2,20141222,       2323,   -69.0112,    -0.0183,       3650,   505.8,   0.7370,  34.6815,2,-999.0000,9,    206.4,2,   206.2,2,   99.27,2,   31.89,2,    0.00,2,    2.21,2,  2257.1,2,  2350.3,2,-999.0000,9,  -999.00,     -999.0,9,     -999.0,9,     -999.0,9,     -999.0,9,     -999.0,9,     -999.0,9,     -999.0,9,     -999.0,9,     -999.0,9,     -999.0,9,     -999.0,9,     -999.0,9,     -999.0,9,     -999.0,9,     -999.0,9,     -999.0,9,     -999.0,9,     -999.0,9,     -999.0,9,     -999.0,9,     -999.0,9,     -999.0,9,     -999.0,9,     -999.0,9,     -999.0,9,     -999.0,9,     -999.0,9,     -999.0,9,   0.7138,20141222,       0026
06AQ20141202,        A12,      36,          1,         14,2,20141222,       2323,   -69.0112,    -0.0183,       3650,   607.2,   0.7083,  34.6874,2,-999.0000,9,    205.4,2,   205.8,2,  104.15,2,   32.06,2,    0.00,2,    2.20,2,  2256.0,2,  2351.8,2,-999.0000,9,  -999.00,     -999.0,9,     -999.0,9,     -999.0,9,     -999.0,9,     -999.0,9,     -999.0,9,     -999.0,9,     -999.0,9,     -999.0,9,     -999.0,9,     -999.0,9,     -999.0,9,     -999.0,9,     -999.0,9,     -999.0,9,     -999.0,9,     -999.0,9,     -999.0,9,     -999.0,9,     -999.0,9,     -999.0,9,     -999.0,9,     -999.0,9,     -999.0,9,     -999.0,9,     -999.0,9,     -999.0,9,     -999.0,9,   0.6800,20141222,       0024
06AQ20141202,        A12,      36,          1,         13,2,20141222,       2323,   -69.0112,    -0.0183,       3650,   708.2,   0.5802,  34.6815,2,-999.0000,9,    208.1,2,   208.6,2,  106.29,2,   32.06,2,    0.00,2,    2.23,2,  2256.5,2,  2352.0,2,-999.0000,9,  -999.00,     -999.0,9,     -999.0,9,     -999.0,9,     -999.0,9,     -999.0,9,     -999.0,9,     -999.0,9,     -999.0,9,     -999.0,9,     -999.0,9,     -999.0,9,     -999.0,9,     -999.0,9,     -999.0,9,     -999.0,9,     -999.0,9,     -999.0,9,     -999.0,9,     -999.0,9,     -999.0,9,     -999.0,9,     -999.0,9,     -999.0,9,     -999.0,9,     -999.0,9,     -999.0,9,     -999.0,9,     -999.0,9,   0.5473,20141222,       0021
06AQ20141202,        A12,      36,          1,         12,2,20141222,       2323,   -69.0112,    -0.0183,       3650,   809.9,   0.5216,  34.6815,2,-999.0000,9,    208.7,2,   208.6,2,  109.12,2,   32.33,2,    0.00,2,    2.24,2,  2259.4,2,  2353.9,2,-999.0000,9,  -999.00,     -999.0,9,     -999.0,9,     -999.0,9,     -999.0,9,     -999.0,9,     -999.0,9,     -999.0,9,     -999.0,9,     -999.0,9,     -999.0,9,     -999.0,9,     -999.0,9,     -999.0,9,     -999.0,9,     -999.0,9,     -999.0,9,     -999.0,9,     -999.0,9,     -999.0,9,     -999.0,9,     -999.0,9,     -999.0,9,     -999.0,9,     -999.0,9,     -999.0,9,     -999.0,9,     -999.0,9,     -999.0,9,   0.4837,20141222,       0018
06AQ20141202,        A12,      36,          1,         11,2,20141222,       2323,   -69.0112,    -0.0183,       3650,   910.5,   0.4576,  34.6808,2,-999.0000,9,    209.1,2,   208.9,2,  111.37,2,   32.49,2,    0.00,2,    2.24,2,  2257.9,2,  2354.3,2,-999.0000,9,  -999.00,     -999.0,9,     -999.0,9,     -999.0,9,     -999.0,9,     -999.0,9,     -999.0,9,     -999.0,9,     -999.0,9,     -999.0,9,     -999.0,9,     -999.0,9,     -999.0,9,     -999.0,9,     -999.0,9,     -999.0,9,     -999.0,9,     -999.0,9,     -999.0,9,     -999.0,9,     -999.0,9,     -999.0,9,     -999.0,9,     -999.0,9,     -999.0,9,     -999.0,9,     -999.0,9,     -999.0,9,     -999.0,9,   0.4146,20141222,       0016
06AQ20141202,        A12,      36,          1,         10,2,20141222,       2323,   -69.0112,    -0.0183,       3650,  1012.6,   0.4012,  34.6790,2,-999.0000,9,    210.2,2,   209.4,2,  113.03,2,   32.57,2,    0.00,2,    2.25,2,  2259.1,2,  2355.6,2,-999.0000,9,  -999.00,     -999.0,9,     -999.0,9,     -999.0,9,     -999.0,9,     -999.0,9,     -999.0,9,     -999.0,9,     -999.0,9,     -999.0,9,     -999.0,9,     -999.0,9,     -999.0,9,     -999.0,9,     -999.0,9,     -999.0,9,     -999.0,9,     -999.0,9,     -999.0,9,     -999.0,9,     -999.0,9,     -999.0,9,     -999.0,9,     -999.0,9,     -999.0,9,     -999.0,9,     -999.0,9,     -999.0,9,     -999.0,9,   0.3530,20141222,       0013
06AQ20141202,        A12,      36,          1,          9,2,20141222,       2323,   -69.0112,    -0.0183,       3650,  1216.1,   0.3124,  34.6769,2,-999.0000,9,    211.1,2,   212.9,2,  116.45,2,   32.55,2,    0.00,2,    2.24,2,  2259.8,2,  2354.9,2,-999.0000,9,  -999.00,     -999.0,9,     -999.0,9,     -999.0,9,     -999.0,9,     -999.0,9,     -999.0,9,     -999.0,9,     -999.0,9,     -999.0,9,     -999.0,9,     -999.0,9,     -999.0,9,     -999.0,9,     -999.0,9,     -999.0,9,     -999.0,9,     -999.0,9,     -999.0,9,     -999.0,9,     -999.0,9,     -999.0,9,     -999.0,9,     -999.0,9,     -999.0,9,     -999.0,9,     -999.0,9,     -999.0,9,     -999.0,9,   0.2532,20141222,       0009
06AQ20141202,        A12,      36,          1,          8,2,20141222,       2323,   -69.0112,    -0.0183,       3650,  1419.0,   0.2304,  34.6743,2,-999.0000,9,    213.0,2,   214.2,2,  118.69,2,   32.57,2,    0.00,2,    2.25,2,  2257.7,2,  2354.8,2,-999.0000,9,  -999.00,     -999.0,9,     -999.0,9,     -999.0,9,     -999.0,9,     -999.0,9,     -999.0,9,     -999.0,9,     -999.0,9,     -999.0,9,     -999.0,9,     -999.0,9,     -999.0,9,     -999.0,9,     -999.0,9,     -999.0,9,     -999.0,9,     -999.0,9,     -999.0,9,     -999.0,9,     -999.0,9,     -999.0,9,     -999.0,9,     -999.0,9,     -999.0,9,     -999.0,9,     -999.0,9,     -999.0,9,     -999.0,9,   0.1598,20141222,       0004
06AQ20141202,        A12,      36,          1,          7,2,20141222,       2323,   -69.0112,    -0.0183,       3650,  1622.7,   0.1555,  34.6716,2,-999.0000,9,    215.0,2,   217.2,2,  120.35,2,   32.56,2,    0.00,2,    2.25,2,  2258.9,2,  2355.2,2,-999.0000,9,  -999.00,     -999.0,9,     -999.0,9,     -999.0,9,     -999.0,9,     -999.0,9,     -999.0,9,     -999.0,9,     -999.0,9,     -999.0,9,     -999.0,9,     -999.0,9,     -999.0,9,     -999.0,9,     -999.0,9,     -999.0,9,     -999.0,9,     -999.0,9,     -999.0,9,     -999.0,9,     -999.0,9,     -999.0,9,     -999.0,9,     -999.0,9,     -999.0,9,     -999.0,9,     -999.0,9,     -999.0,9,     -999.0,9,   0.0729,20141222,       0000
06AQ20141202,        A12,      36,          1,          6,2,20141222,       2323,   -69.0112,    -0.0183,       3650,  1826.4,   0.0867,  34.6689,2,-999.0000,9,    217.5,2,   218.1,2,  121.42,2,   32.52,2,    0.00,2,    2.26,2,  2258.0,2,  2354.8,2,-999.0000,9,  -999.00,     -999.0,9,     -999.0,9,     -999.0,9,     -999.0,9,     -999.0,9,     -999.0,9,     -999.0,9,     -999.0,9,     -999.0,9,     -999.0,9,     -999.0,9,     -999.0,9,     -999.0,9,     -999.0,9,     -999.0,9,     -999.0,9,     -999.0,9,     -999.0,9,     -999.0,9,     -999.0,9,     -999.0,9,     -999.0,9,     -999.0,9,     -999.0,9,     -999.0,9,     -999.0,9,     -999.0,9,     -999.0,9,  -0.0084,20141222,       2355
06AQ20141202,        A12,      36,          1,          5,2,20141222,       2323,   -69.0112,    -0.0183,       3650,  2030.2,   0.0360,  34.6669,2,-999.0000,9,    219.6,2,   221.7,2,  122.01,2,   32.69,2,    0.00,2,    2.24,2,  2257.4,2,  2355.2,2,-999.0000,9,  -999.00,     -999.0,9,     -999.0,9,     -999.0,9,     -999.0,9,     -999.0,9,     -999.0,9,     -999.0,9,     -999.0,9,     -999.0,9,     -999.0,9,     -999.0,9,     -999.0,9,     -999.0,9,     -999.0,9,     -999.0,9,     -999.0,9,     -999.0,9,     -999.0,9,     -999.0,9,     -999.0,9,     -999.0,9,     -999.0,9,     -999.0,9,     -999.0,9,     -999.0,9,     -999.0,9,     -999.0,9,     -999.0,9,  -0.0724,20141222,       2351
06AQ20141202,        A12,      36,          1,          4,2,20141222,       2323,   -69.0112,    -0.0183,       3650,  2234.2,  -0.0086,  34.6651,2,-999.0000,9,    221.7,2,   223.1,2,  121.72,2,   32.73,2,    0.00,2,    2.25,2,  2255.7,2,  2354.7,2,-999.0000,9,  -999.00,     -999.0,9,     -999.0,9,     -999.0,9,     -999.0,9,     -999.0,9,     -999.0,9,     -999.0,9,     -999.0,9,     -999.0,9,     -999.0,9,     -999.0,9,     -999.0,9,     -999.0,9,     -999.0,9,     -999.0,9,     -999.0,9,     -999.0,9,     -999.0,9,     -999.0,9,     -999.0,9,     -999.0,9,     -999.0,9,     -999.0,9,     -999.0,9,     -999.0,9,     -999.0,9,     -999.0,9,     -999.0,9,  -0.1309,20141222,       2347
06AQ20141202,        A12,      36,          1,          3,2,20141222,       2323,   -69.0112,    -0.0183,       3650,  2540.8,  -0.0670,  34.6626,2,-999.0000,9,    224.5,2,   227.6,2,  122.69,2,   32.57,2,    0.00,2,    2.24,2,  2254.5,2,  2354.9,2,-999.0000,9,  -999.00,     -999.0,9,     -999.0,9,     -999.0,9,     -999.0,9,     -999.0,9,     -999.0,9,     -999.0,9,     -999.0,9,     -999.0,9,     -999.0,9,     -999.0,9,     -999.0,9,     -999.0,9,     -999.0,9,     -999.0,9,     -999.0,9,     -999.0,9,     -999.0,9,     -999.0,9,     -999.0,9,     -999.0,9,     -999.0,9,     -999.0,9,     -999.0,9,     -999.0,9,     -999.0,9,     -999.0,9,     -999.0,9,  -0.2115,20141222,       2340
06AQ20141202,        A12,      36,          1,          2,2,20141222,       2323,   -69.0112,    -0.0183,       3650,  2847.9,  -0.0978,  34.6609,2,-999.0000,9,    226.2,2,   230.1,2,  122.69,2,   32.44,2,    0.00,2,    2.25,2,  2253.7,2,  2354.1,2,-999.0000,9,  -999.00,     -999.0,9,     -999.0,9,     -999.0,9,     -999.0,9,     -999.0,9,     -999.0,9,     -999.0,9,     -999.0,9,     -999.0,9,     -999.0,9,     -999.0,9,     -999.0,9,     -999.0,9,     -999.0,9,     -999.0,9,     -999.0,9,     -999.0,9,     -999.0,9,     -999.0,9,     -999.0,9,     -999.0,9,     -999.0,9,     -999.0,9,     -999.0,9,     -999.0,9,     -999.0,9,     -999.0,9,     -999.0,9,  -0.2662,20141222,       2334
06AQ20141202,        A12,      36,          1,          1,2,20141222,       2323,   -69.0112,    -0.0183,       3650,  3372.9,  -0.1182,  34.6587,2,-999.0000,9,    228.6,2,   233.7,2,  123.38,2,   32.44,2,    0.00,2,    2.24,2,  2253.7,2,  2351.2,2,-999.0000,9,  -999.00,     -999.0,9,     -999.0,9,     -999.0,9,     -999.0,9,     -999.0,9,     -999.0,9,     -999.0,9,     -999.0,9,     -999.0,9,     -999.0,9,     -999.0,9,     -999.0,9,     -999.0,9,     -999.0,9,     -999.0,9,     -999.0,9,     -999.0,9,     -999.0,9,     -999.0,9,     -999.0,9,     -999.0,9,     -999.0,9,     -999.0,9,     -999.0,9,     -999.0,9,     -999.0,9,     -999.0,9,     -999.0,9,  -0.3315,20141222,       2323