BOTTLE,20220815CCHSIOAMB
EXPOCODE,SECT_ID,STNNBR,CASTNO,BTLNBR,BTLNBR_FLAG_W,DATE,TIME,LATITUDE,LONGITUDE,DEPTH,CTDPRS,CTDTMP,CTDSAL,CTDSAL_FLAG_W,SALNTY,SALNTY_FLAG_W,CTDOXY,CTDOXY_FLAG_W,OXYGEN,OXYGEN_FLAG_W,SILCAT,SILCAT_FLAG_W,NITRAT,NITRAT_FLAG_W,NITRIT,NITRIT_FLAG_W,PHSPHT,PHSPHT_FLAG_W,TCARBN,TCARBN_FLAG_W,ALKALI,ALKALI_FLAG_W,PH_TOT,PH_TOT_FLAG_W,PH_TMP,POC,POC_FLAG_W,PON,PON_FLAG_W,FUCO,FUCO_FLAG_W,ALPHA-BETA-CAR,ALPHA-BETA-CAR_FLAG_W,ALLO,ALLO_FLAG_W,BUT-FUCO,BUT-FUCO_FLAG_W,CHL_C1C2,CHL_C1C2_FLAG_W,CHL_C3,CHL_C3_FLAG_W,CHLIDE_A,CHLIDE_A_FLAG_W,DIADINO,DIADINO_FLAG_W,DIATO,DIATO_FLAG_W,DV_CHL_A,DV_CHL_A_FLAG_W,DV_CHL_B,DV_CHL_B_FLAG_W,GYRO,GYRO_FLAG_W,HEX-FUCO,HEX-FUCO_FLAG_W,LUT,LUT_FLAG_W,MV_CHL_A,MV_CHL_A_FLAG_W,MV_CHL_B,MV_CHL_B_FLAG_W,NEO,NEO_FLAG_W,PERID,PERID_FLAG_W,PHIDE_A,PHIDE_A_FLAG_W,PHYTIN_A,PHYTIN_A_FLAG_W,PRAS,PRAS_FLAG_W,TOT_CHL_A,TOT_CHL_A_FLAG_W,TOT_CHL_B,TOT_CHL_B_FLAG_W,TOT_CHL_C,TOT_CHL_C_FLAG_W,VIOLA,VIOLA_FLAG_W,ZEA,ZEA_FLAG_W,THETA,BTL_DATE,BTL_TIME
,,,,,,,,,,METERS,DBAR,ITS-90,PSS-78,,PSS-78,,UMOL/KG,,UMOL/KG,,UMOL/KG,,UMOL/KG,,UMOL/KG,,UMOL/KG,,UMOL/KG,,UMOL/KG,,,,DEG C,uG/KG,,ug/kg,,NMOL/KG,,MG/M^3,,MG/M^3,,MG/M^3,,MG/M^3,,MG/M^3,,MG/M^3,,MG/M^3,,MG/M^3,,MG/M^3,,MG/M^3,,MG/M^3,,MG/M^3,,MG/M^3,,MG/M^3,,MG/M^3,,MG/M^3,,MG/M^3,,MG/M^3,,MG/M^3,,MG/M^3,,MG/M^3,,MG/M^3,,MG/M^3,,MG/M^3,,MG/M^3,,DEG C,,
06AQ20141202,        A12,      33,          1,         24,2,20141221,       0250,   -67.9975,    -0.0130,       4660,     5.9,  -1.8137,  34.1929,2,-999.0000,9,    262.0,2,   264.3,2,   78.31,2,   29.65,2,    0.21,2,    2.06,2,  2217.8,2,  2314.2,2,-999.0000,9,  -999.00,     -999.0,9,     -999.0,9,     -999.0,9,     -999.0,9,     -999.0,9,     -999.0,9,     -999.0,9,     -999.0,9,     -999.0,9,     -999.0,9,     -999.0,9,     -999.0,9,     -999.0,9,     -999.0,9,     -999.0,9,     -999.0,9,     -999.0,9,     -999.0,9,     -999.0,9,     -999.0,9,     -999.0,9,     -999.0,9,     -999.0,9,     -999.0,9,     -999.0,9,     -999.0,9,     -999.0,9,     -999.0,9,  -1.8138,20141221,       0430
06AQ20141202,        A12,      33,          1,         23,2,20141221,       0250,   -67.9975,    -0.0130,       4660,    40.9,  -1.7643,  34.3090,2,-999.0000,9,    258.2,2,   261.1,2,   78.99,2,   30.05,2,    0.22,2,    2.09,2,  2225.6,2,  2326.1,2,-999.0000,9,  -999.00,     -999.0,9,     -999.0,9,     -999.0,9,     -999.0,9,     -999.0,9,     -999.0,9,     -999.0,9,     -999.0,9,     -999.0,9,     -999.0,9,     -999.0,9,     -999.0,9,     -999.0,9,     -999.0,9,     -999.0,9,     -999.0,9,     -999.0,9,     -999.0,9,     -999.0,9,     -999.0,9,     -999.0,9,     -999.0,9,     -999.0,9,     -999.0,9,     -999.0,9,     -999.0,9,     -999.0,9,     -999.0,9,  -1.7651,20141221,       0428
06AQ20141202,        A12,      33,          1,         22,2,20141221,       0250,   -67.9975,    -0.0130,       4660,    40.9,  -1.7638,  34.3086,2,-999.0000,9,    258.1,2,   261.1,2, -999.00,9, -999.00,9, -999.00,9, -999.00,9,  2225.6,2,  2326.1,2,-999.0000,9,  -999.00,     -999.0,9,     -999.0,9,     -999.0,9,     -999.0,9,     -999.0,9,     -999.0,9,     -999.0,9,     -999.0,9,     -999.0,9,     -999.0,9,     -999.0,9,     -999.0,9,     -999.0,9,     -999.0,9,     -999.0,9,     -999.0,9,     -999.0,9,     -999.0,9,     -999.0,9,     -999.0,9,     -999.0,9,     -999.0,9,     -999.0,9,     -999.0,9,     -999.0,9,     -999.0,9,     -999.0,9,     -999.0,9,  -1.7646,20141221,       0428
06AQ20141202,        A12,      33,          1,         21,2,20141221,       0250,   -67.9975,    -0.0130,       4660,    73.7,  -1.7715,  34.3814,2,-999.0000,9,    263.8,2,   264.1,2,   78.49,2,   29.93,2,    0.24,2,    2.09,2,  2234.9,2,  2329.8,2,-999.0000,9,  -999.00,     -999.0,9,     -999.0,9,     -999.0,9,     -999.0,9,     -999.0,9,     -999.0,9,     -999.0,9,     -999.0,9,     -999.0,9,     -999.0,9,     -999.0,9,     -999.0,9,     -999.0,9,     -999.0,9,     -999.0,9,     -999.0,9,     -999.0,9,     -999.0,9,     -999.0,9,     -999.0,9,     -999.0,9,     -999.0,9,     -999.0,9,     -999.0,9,     -999.0,9,     -999.0,9,     -999.0,9,     -999.0,9,  -1.7730,20141221,       0427
06AQ20141202,        A12,      33,          1,         20,2,20141221,       0250,   -67.9975,    -0.0130,       4660,   121.6,  -0.0698,  34.5959,2,-999.0000,9,    220.9,2,   221.6,2,   89.51,2,   32.01,2,    0.00,2,    2.19,2,  2251.8,2,  2343.3,2,-999.0000,9,  -999.00,     -999.0,9,     -999.0,9,     -999.0,9,     -999.0,9,     -999.0,9,     -999.0,9,     -999.0,9,     -999.0,9,     -999.0,9,     -999.0,9,     -999.0,9,     -999.0,9,     -999.0,9,     -999.0,9,     -999.0,9,     -999.0,9,     -999.0,9,     -999.0,9,     -999.0,9,     -999.0,9,     -999.0,9,     -999.0,9,     -999.0,9,     -999.0,9,     -999.0,9,     -999.0,9,     -999.0,9,     -999.0,9,  -0.0741,20141221,       0425
06AQ20141202,        A12,      33,          1,         19,2,20141221,       0250,   -67.9975,    -0.0130,       4660,   151.8,   0.7451,  34.6689,2,-999.0000,9,    194.7,2,   197.1,2,   98.10,2,   32.84,2,    0.00,2,    2.24,2,  2256.1,2,  2348.0,2,-999.0000,9,  -999.00,     -999.0,9,     -999.0,9,     -999.0,9,     -999.0,9,     -999.0,9,     -999.0,9,     -999.0,9,     -999.0,9,     -999.0,9,     -999.0,9,     -999.0,9,     -999.0,9,     -999.0,9,     -999.0,9,     -999.0,9,     -999.0,9,     -999.0,9,     -999.0,9,     -999.0,9,     -999.0,9,     -999.0,9,     -999.0,9,     -999.0,9,     -999.0,9,     -999.0,9,     -999.0,9,     -999.0,9,     -999.0,9,   0.7386,20141221,       0424
06AQ20141202,        A12,      33,          1,         18,2,20141221,       0250,   -67.9975,    -0.0130,       4660,   202.4,   0.9301,  34.6922,2,-999.0000,9,    192.0,2,   193.2,2,  102.58,2,   32.65,2,    0.00,2,    2.22,2,  2259.2,2,  2350.0,2,-999.0000,9,  -999.00,     -999.0,9,     -999.0,9,     -999.0,9,     -999.0,9,     -999.0,9,     -999.0,9,     -999.0,9,     -999.0,9,     -999.0,9,     -999.0,9,     -999.0,9,     -999.0,9,     -999.0,9,     -999.0,9,     -999.0,9,     -999.0,9,     -999.0,9,     -999.0,9,     -999.0,9,     -999.0,9,     -999.0,9,     -999.0,9,     -999.0,9,     -999.0,9,     -999.0,9,     -999.0,9,     -999.0,9,     -999.0,9,   0.9210,20141221,       0423
06AQ20141202,        A12,      33,          1,         17,2,20141221,       0250,   -67.9975,    -0.0130,       4660,   252.6,   0.8860,  34.6946,2,-999.0000,9,    193.4,2,   194.9,2,  104.63,2,   32.44,2,    0.00,2,    2.24,2,  2258.3,2,  2351.1,2,-999.0000,9,  -999.00,     -999.0,9,     -999.0,9,     -999.0,9,     -999.0,9,     -999.0,9,     -999.0,9,     -999.0,9,     -999.0,9,     -999.0,9,     -999.0,9,     -999.0,9,     -999.0,9,     -999.0,9,     -999.0,9,     -999.0,9,     -999.0,9,     -999.0,9,     -999.0,9,     -999.0,9,     -999.0,9,     -999.0,9,     -999.0,9,     -999.0,9,     -999.0,9,     -999.0,9,     -999.0,9,     -999.0,9,     -999.0,9,   0.8746,20141221,       0421
06AQ20141202,        A12,      33,          1,         16,2,20141221,       0250,   -67.9975,    -0.0130,       4660,   404.6,   0.7590,  34.6943,2,-999.0000,9,    195.1,2,   195.6,2,  108.83,2,   32.69,2,    0.00,2,    2.24,2,  2260.9,2,  2352.8,2,-999.0000,9,  -999.00,     -999.0,9,     -999.0,9,     -999.0,9,     -999.0,9,     -999.0,9,     -999.0,9,     -999.0,9,     -999.0,9,     -999.0,9,     -999.0,9,     -999.0,9,     -999.0,9,     -999.0,9,     -999.0,9,     -999.0,9,     -999.0,9,     -999.0,9,     -999.0,9,     -999.0,9,     -999.0,9,     -999.0,9,     -999.0,9,     -999.0,9,     -999.0,9,     -999.0,9,     -999.0,9,     -999.0,9,     -999.0,9,   0.7407,20141221,       0418
06AQ20141202,        A12,      33,          1,         15,2,20141221,       0250,   -67.9975,    -0.0130,       4660,   505.6,   0.7008,  34.6946,2,-999.0000,9,    195.5,2,   197.2,2,  110.39,2,   32.63,2,    0.00,2,    2.25,2,  2261.2,2,  2355.1,2,-999.0000,9,  -999.00,     -999.0,9,     -999.0,9,     -999.0,9,     -999.0,9,     -999.0,9,     -999.0,9,     -999.0,9,     -999.0,9,     -999.0,9,     -999.0,9,     -999.0,9,     -999.0,9,     -999.0,9,     -999.0,9,     -999.0,9,     -999.0,9,     -999.0,9,     -999.0,9,     -999.0,9,     -999.0,9,     -999.0,9,     -999.0,9,     -999.0,9,     -999.0,9,     -999.0,9,     -999.0,9,     -999.0,9,     -999.0,9,   0.6777,20141221,       0416
06AQ20141202,        A12,      33,          1,         14,2,20141221,       0250,   -67.9975,    -0.0130,       4660,   708.4,   0.5968,  34.6935,2,-999.0000,9,    196.6,2,   198.6,2,  116.25,2,   32.77,2,    0.00,2,    2.27,2,  2261.8,2,  2356.6,2,-999.0000,9,  -999.00,     -999.0,9,     -999.0,9,     -999.0,9,     -999.0,9,     -999.0,9,     -999.0,9,     -999.0,9,     -999.0,9,     -999.0,9,     -999.0,9,     -999.0,9,     -999.0,9,     -999.0,9,     -999.0,9,     -999.0,9,     -999.0,9,     -999.0,9,     -999.0,9,     -999.0,9,     -999.0,9,     -999.0,9,     -999.0,9,     -999.0,9,     -999.0,9,     -999.0,9,     -999.0,9,     -999.0,9,     -999.0,9,   0.5638,20141221,       0411
06AQ20141202,        A12,      33,          1,         13,2,20141221,       0250,   -67.9975,    -0.0130,       4660,   911.4,   0.4954,  34.6901,2,-999.0000,9,    198.2,2,   200.3,2,  119.57,2,   32.94,2,    0.00,2,    2.26,2,  2260.5,2,  2355.8,2,-999.0000,9,  -999.00,     -999.0,9,     -999.0,9,     -999.0,9,     -999.0,9,     -999.0,9,     -999.0,9,     -999.0,9,     -999.0,9,     -999.0,9,     -999.0,9,     -999.0,9,     -999.0,9,     -999.0,9,     -999.0,9,     -999.0,9,     -999.0,9,     -999.0,9,     -999.0,9,     -999.0,9,     -999.0,9,     -999.0,9,     -999.0,9,     -999.0,9,     -999.0,9,     -999.0,9,     -999.0,9,     -999.0,9,     -999.0,9,   0.4521,20141221,       0407
06AQ20141202,        A12,      33,          1,         12,2,20141221,       0250,   -67.9975,    -0.0130,       4660,  1013.2,   0.4370,  34.6879,2,-999.0000,9,    199.8,2,   202.2,2,  121.91,2,   33.10,2,    0.00,2,    2.28,2,  2261.2,2,  2358.6,2,-999.0000,9,  -999.00,     -999.0,9,     -999.0,9,     -999.0,9,     -999.0,9,     -999.0,9,     -999.0,9,     -999.0,9,     -999.0,9,     -999.0,9,     -999.0,9,     -999.0,9,     -999.0,9,     -999.0,9,     -999.0,9,     -999.0,9,     -999.0,9,     -999.0,9,     -999.0,9,     -999.0,9,     -999.0,9,     -999.0,9,     -999.0,9,     -999.0,9,     -999.0,9,     -999.0,9,     -999.0,9,     -999.0,9,     -999.0,9,   0.3884,20141221,       0404
06AQ20141202,        A12,      33,          1,         11,2,20141221,       0250,   -67.9975,    -0.0130,       4660,  1216.1,   0.3365,  34.6836,2,-999.0000,9,    202.8,2,   205.2,2,  123.96,2,   33.12,2,    0.00,2,    2.28,2,  2261.8,2,  2358.7,2,-999.0000,9,  -999.00,     -999.0,9,     -999.0,9,     -999.0,9,     -999.0,9,     -999.0,9,     -999.0,9,     -999.0,9,     -999.0,9,     -999.0,9,     -999.0,9,     -999.0,9,     -999.0,9,     -999.0,9,     -999.0,9,     -999.0,9,     -999.0,9,     -999.0,9,     -999.0,9,     -999.0,9,     -999.0,9,     -999.0,9,     -999.0,9,     -999.0,9,     -999.0,9,     -999.0,9,     -999.0,9,     -999.0,9,     -999.0,9,   0.2771,20141221,       0400
06AQ20141202,        A12,      33,          1,         10,2,20141221,       0250,   -67.9975,    -0.0130,       4660,  1520.7,   0.2010,  34.6776,2,-999.0000,9,    207.0,2,   212.0,2,  125.82,2,   33.24,2,    0.00,2,    2.27,2,  2260.2,2,  2356.9,2,-999.0000,9,  -999.00,     -999.0,9,     -999.0,9,     -999.0,9,     -999.0,9,     -999.0,9,     -999.0,9,     -999.0,9,     -999.0,9,     -999.0,9,     -999.0,9,     -999.0,9,     -999.0,9,     -999.0,9,     -999.0,9,     -999.0,9,     -999.0,9,     -999.0,9,     -999.0,9,     -999.0,9,     -999.0,9,     -999.0,9,     -999.0,9,     -999.0,9,     -999.0,9,     -999.0,9,     -999.0,9,     -999.0,9,     -999.0,9,   0.1244,20141221,       0354
06AQ20141202,        A12,      33,          1,          9,2,20141221,       0250,   -67.9975,    -0.0130,       4660,  1826.4,   0.0949,  34.6726,2,-999.0000,9,    211.9,2,   217.0,2,  125.62,2,   32.93,2,    0.00,2,    2.27,2,  2259.1,2,  2357.6,2,-999.0000,9,  -999.00,     -999.0,9,     -999.0,9,     -999.0,9,     -999.0,9,     -999.0,9,     -999.0,9,     -999.0,9,     -999.0,9,     -999.0,9,     -999.0,9,     -999.0,9,     -999.0,9,     -999.0,9,     -999.0,9,     -999.0,9,     -999.0,9,     -999.0,9,     -999.0,9,     -999.0,9,     -999.0,9,     -999.0,9,     -999.0,9,     -999.0,9,     -999.0,9,     -999.0,9,     -999.0,9,     -999.0,9,     -999.0,9,  -0.0003,20141221,       0347
06AQ20141202,        A12,      33,          1,          8,2,20141221,       0250,   -67.9975,    -0.0130,       4660,  2029.7,   0.0439,  34.6703,2,-999.0000,9,    214.7,2,   218.3,2,  126.99,2,   32.92,2,    0.00,2,    2.26,2,  2263.1,3,  2356.9,2,-999.0000,9,  -999.00,     -999.0,9,     -999.0,9,     -999.0,9,     -999.0,9,     -999.0,9,     -999.0,9,     -999.0,9,     -999.0,9,     -999.0,9,     -999.0,9,     -999.0,9,     -999.0,9,     -999.0,9,     -999.0,9,     -999.0,9,     -999.0,9,     -999.0,9,     -999.0,9,     -999.0,9,     -999.0,9,     -999.0,9,     -999.0,9,     -999.0,9,     -999.0,9,     -999.0,9,     -999.0,9,     -999.0,9,     -999.0,9,  -0.0646,20141221,       0343
06AQ20141202,        A12,      33,          1,          7,2,20141221,       0250,   -67.9975,    -0.0130,       4660,  2336.3,  -0.0173,  34.6674,2,-999.0000,9,    217.6,2,   221.3,2,  126.89,2,   32.72,2,    0.00,2,    2.25,2,  2257.4,2,  2355.3,2,-999.0000,9,  -999.00,     -999.0,9,     -999.0,9,     -999.0,9,     -999.0,9,     -999.0,9,     -999.0,9,     -999.0,9,     -999.0,9,     -999.0,9,     -999.0,9,     -999.0,9,     -999.0,9,     -999.0,9,     -999.0,9,     -999.0,9,     -999.0,9,     -999.0,9,     -999.0,9,     -999.0,9,     -999.0,9,     -999.0,9,     -999.0,9,     -999.0,9,     -999.0,9,     -999.0,9,     -999.0,9,     -999.0,9,     -999.0,9,  -0.1471,20141221,       0336
06AQ20141202,        A12,      33,          1,          6,2,20141221,       0250,   -67.9975,    -0.0130,       4660,  2540.7,  -0.0670,  34.6652,2,-999.0000,9,    220.3,2,   223.2,2,  126.99,2,   32.69,2,    0.00,2,    2.26,2,  2259.9,2,  2355.2,2,-999.0000,9,  -999.00,     -999.0,9,     -999.0,9,     -999.0,9,     -999.0,9,     -999.0,9,     -999.0,9,     -999.0,9,     -999.0,9,     -999.0,9,     -999.0,9,     -999.0,9,     -999.0,9,     -999.0,9,     -999.0,9,     -999.0,9,     -999.0,9,     -999.0,9,     -999.0,9,     -999.0,9,     -999.0,9,     -999.0,9,     -999.0,9,     -999.0,9,     -999.0,9,     -999.0,9,     -999.0,9,     -999.0,9,     -999.0,9,  -0.2115,20141221,       0332
06AQ20141202,        A12,      33,          1,          5,2,20141221,       0250,   -67.9975,    -0.0130,       4660,  2847.4,  -0.1224,  34.6626,2,-999.0000,9,    223.7,2,   227.4,2,  126.70,2,   32.57,2,    0.00,2,    2.25,2,  2257.4,2,  2356.5,2,-999.0000,9,  -999.00,     -999.0,9,     -999.0,9,     -999.0,9,     -999.0,9,     -999.0,9,     -999.0,9,     -999.0,9,     -999.0,9,     -999.0,9,     -999.0,9,     -999.0,9,     -999.0,9,     -999.0,9,     -999.0,9,     -999.0,9,     -999.0,9,     -999.0,9,     -999.0,9,     -999.0,9,     -999.0,9,     -999.0,9,     -999.0,9,     -999.0,9,     -999.0,9,     -999.0,9,     -999.0,9,     -999.0,9,     -999.0,9,  -0.2903,20141221,       0326
06AQ20141202,        A12,      33,          1,          4,2,20141221,       0250,   -67.9975,    -0.0130,       4660,  3052.2,  -0.1568,  34.6609,2,-999.0000,9,    226.6,2,   229.5,2,  125.52,2,   32.60,2,    0.00,2,    2.24,2,  2256.7,2,  2354.1,2,-999.0000,9,  -999.00,     -999.0,9,     -999.0,9,     -999.0,9,     -999.0,9,     -999.0,9,     -999.0,9,     -999.0,9,     -999.0,9,     -999.0,9,     -999.0,9,     -999.0,9,     -999.0,9,     -999.0,9,     -999.0,9,     -999.0,9,     -999.0,9,     -999.0,9,     -999.0,9,     -999.0,9,     -999.0,9,     -999.0,9,     -999.0,9,     -999.0,9,     -999.0,9,     -999.0,9,     -999.0,9,     -999.0,9,     -999.0,9,  -0.3410,20141221,       0322
06AQ20141202,        A12,      33,          1,          3,2,20141221,       0250,   -67.9975,    -0.0130,       4660,  3565.3,  -0.2124,  34.6577,2,-999.0000,9,    231.0,2,   235.2,2,  126.21,2,   32.62,2,    0.00,2,    2.25,2,  2254.9,2,  2354.1,2,-999.0000,9,  -999.00,     -999.0,9,     -999.0,9,     -999.0,9,     -999.0,9,     -999.0,9,     -999.0,9,     -999.0,9,     -999.0,9,     -999.0,9,     -999.0,9,     -999.0,9,     -999.0,9,     -999.0,9,     -999.0,9,     -999.0,9,     -999.0,9,     -999.0,9,     -999.0,9,     -999.0,9,     -999.0,9,     -999.0,9,     -999.0,9,     -999.0,9,     -999.0,9,     -999.0,9,     -999.0,9,     -999.0,9,     -999.0,9,  -0.4408,20141221,       0311
06AQ20141202,        A12,      33,          1,          2,2,20141221,       0250,   -67.9975,    -0.0130,       4660,  4079.6,  -0.2404,  34.6554,2,-999.0000,9,    233.8,2,   237.2,2,  129.33,2,   32.54,2,    0.00,2,    2.24,2,  2254.6,2,  2352.8,2,-999.0000,9,  -999.00,     -999.0,9,     -999.0,9,     -999.0,9,     -999.0,9,     -999.0,9,     -999.0,9,     -999.0,9,     -999.0,9,     -999.0,9,     -999.0,9,     -999.0,9,     -999.0,9,     -999.0,9,     -999.0,9,     -999.0,9,     -999.0,9,     -999.0,9,     -999.0,9,     -999.0,9,     -999.0,9,     -999.0,9,     -999.0,9,     -999.0,9,     -999.0,9,     -999.0,9,     -999.0,9,     -999.0,9,     -999.0,9,  -0.5174,20141221,       0300
06AQ20141202,        A12,      33,          1,          1,2,20141221,       0250,   -67.9975,    -0.0130,       4660,  4557.1,  -0.2973,  34.6532,2,-999.0000,9,    235.0,2,   238.2,2,  135.77,2,   32.59,2,    0.00,2,    2.25,2,  2254.7,2,  2354.4,2,-999.0000,9,  -999.00,     -999.0,9,     -999.0,9,     -999.0,9,     -999.0,9,     -999.0,9,     -999.0,9,     -999.0,9,     -999.0,9,     -999.0,9,     -999.0,9,     -999.0,9,     -999.0,9,     -999.0,9,     -999.0,9,     -999.0,9,     -999.0,9,     -999.0,9,     -999.0,9,     -999.0,9,     -999.0,9,     -999.0,9,     -999.0,9,     -999.0,9,     -999.0,9,     -999.0,9,     -999.0,9,     -999.0,9,     -999.0,9,  -0.6216,20141221,       0250