BOTTLE,20220815CCHSIOAMB
EXPOCODE,SECT_ID,STNNBR,CASTNO,BTLNBR,BTLNBR_FLAG_W,DATE,TIME,LATITUDE,LONGITUDE,DEPTH,CTDPRS,CTDTMP,CTDSAL,CTDSAL_FLAG_W,SALNTY,SALNTY_FLAG_W,CTDOXY,CTDOXY_FLAG_W,OXYGEN,OXYGEN_FLAG_W,SILCAT,SILCAT_FLAG_W,NITRAT,NITRAT_FLAG_W,NITRIT,NITRIT_FLAG_W,PHSPHT,PHSPHT_FLAG_W,TCARBN,TCARBN_FLAG_W,ALKALI,ALKALI_FLAG_W,PH_TOT,PH_TOT_FLAG_W,PH_TMP,POC,POC_FLAG_W,PON,PON_FLAG_W,FUCO,FUCO_FLAG_W,ALPHA-BETA-CAR,ALPHA-BETA-CAR_FLAG_W,ALLO,ALLO_FLAG_W,BUT-FUCO,BUT-FUCO_FLAG_W,CHL_C1C2,CHL_C1C2_FLAG_W,CHL_C3,CHL_C3_FLAG_W,CHLIDE_A,CHLIDE_A_FLAG_W,DIADINO,DIADINO_FLAG_W,DIATO,DIATO_FLAG_W,DV_CHL_A,DV_CHL_A_FLAG_W,DV_CHL_B,DV_CHL_B_FLAG_W,GYRO,GYRO_FLAG_W,HEX-FUCO,HEX-FUCO_FLAG_W,LUT,LUT_FLAG_W,MV_CHL_A,MV_CHL_A_FLAG_W,MV_CHL_B,MV_CHL_B_FLAG_W,NEO,NEO_FLAG_W,PERID,PERID_FLAG_W,PHIDE_A,PHIDE_A_FLAG_W,PHYTIN_A,PHYTIN_A_FLAG_W,PRAS,PRAS_FLAG_W,TOT_CHL_A,TOT_CHL_A_FLAG_W,TOT_CHL_B,TOT_CHL_B_FLAG_W,TOT_CHL_C,TOT_CHL_C_FLAG_W,VIOLA,VIOLA_FLAG_W,ZEA,ZEA_FLAG_W,THETA,BTL_DATE,BTL_TIME
,,,,,,,,,,METERS,DBAR,ITS-90,PSS-78,,PSS-78,,UMOL/KG,,UMOL/KG,,UMOL/KG,,UMOL/KG,,UMOL/KG,,UMOL/KG,,UMOL/KG,,UMOL/KG,,,,DEG C,uG/KG,,ug/kg,,NMOL/KG,,MG/M^3,,MG/M^3,,MG/M^3,,MG/M^3,,MG/M^3,,MG/M^3,,MG/M^3,,MG/M^3,,MG/M^3,,MG/M^3,,MG/M^3,,MG/M^3,,MG/M^3,,MG/M^3,,MG/M^3,,MG/M^3,,MG/M^3,,MG/M^3,,MG/M^3,,MG/M^3,,MG/M^3,,MG/M^3,,MG/M^3,,MG/M^3,,MG/M^3,,DEG C,,
06AQ20141202,        A12,      26,          1,         24,2,20141215,       0013,   -62.9913,     0.0063,       5460,     9.2,  -1.4998,  34.0124,2,-999.0000,9,    338.5,2,   346.2,2,   62.79,2,   26.88,2,    0.32,2,    1.84,2,  2189.3,2,  2307.3,2,-999.0000,9,  -999.00,     -999.0,9,     -999.0,9,     -999.0,9,     -999.0,9,     -999.0,9,     -999.0,9,     -999.0,9,     -999.0,9,     -999.0,9,     -999.0,9,     -999.0,9,     -999.0,9,     -999.0,9,     -999.0,9,     -999.0,9,     -999.0,9,     -999.0,9,     -999.0,9,     -999.0,9,     -999.0,9,     -999.0,9,     -999.0,9,     -999.0,9,     -999.0,9,     -999.0,9,     -999.0,9,     -999.0,9,     -999.0,9,  -1.5000,20141215,       0211
06AQ20141202,        A12,      26,          1,         23,2,20141215,       0013,   -62.9913,     0.0063,       5460,    40.7,  -1.7630,  34.1929,2,-999.0000,9,    323.0,2,   331.1,2,   64.05,2,   27.37,2,    0.28,2,    1.91,2,  2209.6,2,  2320.4,2,-999.0000,9,  -999.00,     -999.0,9,     -999.0,9,     -999.0,9,     -999.0,9,     -999.0,9,     -999.0,9,     -999.0,9,     -999.0,9,     -999.0,9,     -999.0,9,     -999.0,9,     -999.0,9,     -999.0,9,     -999.0,9,     -999.0,9,     -999.0,9,     -999.0,9,     -999.0,9,     -999.0,9,     -999.0,9,     -999.0,9,     -999.0,9,     -999.0,9,     -999.0,9,     -999.0,9,     -999.0,9,     -999.0,9,     -999.0,9,  -1.7638,20141215,       0209
06AQ20141202,        A12,      26,          1,         22,2,20141215,       0013,   -62.9913,     0.0063,       5460,    40.7,  -1.7643,  34.1906,2,-999.0000,9,    321.7,2,   331.1,2, -999.00,9, -999.00,9, -999.00,9, -999.00,9,  2209.6,2,  2320.4,2,-999.0000,9,  -999.00,     -999.0,9,     -999.0,9,     -999.0,9,     -999.0,9,     -999.0,9,     -999.0,9,     -999.0,9,     -999.0,9,     -999.0,9,     -999.0,9,     -999.0,9,     -999.0,9,     -999.0,9,     -999.0,9,     -999.0,9,     -999.0,9,     -999.0,9,     -999.0,9,     -999.0,9,     -999.0,9,     -999.0,9,     -999.0,9,     -999.0,9,     -999.0,9,     -999.0,9,     -999.0,9,     -999.0,9,     -999.0,9,  -1.7651,20141215,       0209
06AQ20141202,        A12,      26,          1,         21,2,20141215,       0013,   -62.9913,     0.0063,       5460,    60.1,  -1.7465,  34.2380,2,-999.0000,9,    319.9,2,   326.1,2,   65.13,2,   27.77,2,    0.29,2,    1.94,2,  2211.1,2,  2319.5,2,-999.0000,9,  -999.00,     -999.0,9,     -999.0,9,     -999.0,9,     -999.0,9,     -999.0,9,     -999.0,9,     -999.0,9,     -999.0,9,     -999.0,9,     -999.0,9,     -999.0,9,     -999.0,9,     -999.0,9,     -999.0,9,     -999.0,9,     -999.0,9,     -999.0,9,     -999.0,9,     -999.0,9,     -999.0,9,     -999.0,9,     -999.0,9,     -999.0,9,     -999.0,9,     -999.0,9,     -999.0,9,     -999.0,9,     -999.0,9,  -1.7477,20141215,       0208
06AQ20141202,        A12,      26,          1,         20,2,20141215,       0013,   -62.9913,     0.0063,       5460,   101.4,  -1.6035,  34.2964,2,-999.0000,9,    300.9,2,   306.2,2,   73.62,2,   29.95,2,    0.23,2,    2.07,2,  2227.2,2,  2325.9,2,-999.0000,9,  -999.00,     -999.0,9,     -999.0,9,     -999.0,9,     -999.0,9,     -999.0,9,     -999.0,9,     -999.0,9,     -999.0,9,     -999.0,9,     -999.0,9,     -999.0,9,     -999.0,9,     -999.0,9,     -999.0,9,     -999.0,9,     -999.0,9,     -999.0,9,     -999.0,9,     -999.0,9,     -999.0,9,     -999.0,9,     -999.0,9,     -999.0,9,     -999.0,9,     -999.0,9,     -999.0,9,     -999.0,9,     -999.0,9,  -1.6057,20141215,       0206
06AQ20141202,        A12,      26,          1,         19,2,20141215,       0013,   -62.9913,     0.0063,       5460,   151.8,   0.7134,  34.6347,2,-999.0000,9,    196.7,2,   201.8,2,  100.05,2,   33.44,2,    0.02,2,    2.28,2,  2259.5,2,  2345.9,2,-999.0000,9,  -999.00,     -999.0,9,     -999.0,9,     -999.0,9,     -999.0,9,     -999.0,9,     -999.0,9,     -999.0,9,     -999.0,9,     -999.0,9,     -999.0,9,     -999.0,9,     -999.0,9,     -999.0,9,     -999.0,9,     -999.0,9,     -999.0,9,     -999.0,9,     -999.0,9,     -999.0,9,     -999.0,9,     -999.0,9,     -999.0,9,     -999.0,9,     -999.0,9,     -999.0,9,     -999.0,9,     -999.0,9,     -999.0,9,   0.7069,20141215,       0204
06AQ20141202,        A12,      26,          1,         18,2,20141215,       0013,   -62.9913,     0.0063,       5460,   201.8,   0.6349,  34.6682,2,-999.0000,9,    193.9,2,   198.7,2,  108.25,2,   33.44,2,    0.01,2,    2.28,2,  2263.9,2,  2352.6,2,-999.0000,9,  -999.00,     -999.0,9,     -999.0,9,     -999.0,9,     -999.0,9,     -999.0,9,     -999.0,9,     -999.0,9,     -999.0,9,     -999.0,9,     -999.0,9,     -999.0,9,     -999.0,9,     -999.0,9,     -999.0,9,     -999.0,9,     -999.0,9,     -999.0,9,     -999.0,9,     -999.0,9,     -999.0,9,     -999.0,9,     -999.0,9,     -999.0,9,     -999.0,9,     -999.0,9,     -999.0,9,     -999.0,9,     -999.0,9,   0.6263,20141215,       0202
06AQ20141202,        A12,      26,          1,         17,2,20141215,       0013,   -62.9913,     0.0063,       5460,   303.0,   0.5888,  34.6840,2,-999.0000,9,    194.4,2,   199.8,2,  112.15,2,   33.25,2,    0.00,2,    2.29,2,  2263.2,2,  2353.7,2,-999.0000,9,  -999.00,     -999.0,9,     -999.0,9,     -999.0,9,     -999.0,9,     -999.0,9,     -999.0,9,     -999.0,9,     -999.0,9,     -999.0,9,     -999.0,9,     -999.0,9,     -999.0,9,     -999.0,9,     -999.0,9,     -999.0,9,     -999.0,9,     -999.0,9,     -999.0,9,     -999.0,9,     -999.0,9,     -999.0,9,     -999.0,9,     -999.0,9,     -999.0,9,     -999.0,9,     -999.0,9,     -999.0,9,     -999.0,9,   0.5758,20141215,       0159
06AQ20141202,        A12,      26,          1,         16,2,20141215,       0013,   -62.9913,     0.0063,       5460,   404.2,   0.5084,  34.6852,2,-999.0000,9,    194.1,2,   199.2,2,  116.93,2,   33.66,2,    0.00,2,    2.30,2,  2265.0,2,  2354.7,2,-999.0000,9,  -999.00,     -999.0,9,     -999.0,9,     -999.0,9,     -999.0,9,     -999.0,9,     -999.0,9,     -999.0,9,     -999.0,9,     -999.0,9,     -999.0,9,     -999.0,9,     -999.0,9,     -999.0,9,     -999.0,9,     -999.0,9,     -999.0,9,     -999.0,9,     -999.0,9,     -999.0,9,     -999.0,9,     -999.0,9,     -999.0,9,     -999.0,9,     -999.0,9,     -999.0,9,     -999.0,9,     -999.0,9,     -999.0,9,   0.4910,20141215,       0157
06AQ20141202,        A12,      26,          1,         15,2,20141215,       0013,   -62.9913,     0.0063,       5460,   606.7,   0.4158,  34.6848,2,-999.0000,9,    192.5,2,   198.1,2,  119.18,2,   33.90,2,    0.00,2,    2.34,2,  2268.5,2,  2355.0,2,-999.0000,9,  -999.00,     -999.0,9,     -999.0,9,     -999.0,9,     -999.0,9,     -999.0,9,     -999.0,9,     -999.0,9,     -999.0,9,     -999.0,9,     -999.0,9,     -999.0,9,     -999.0,9,     -999.0,9,     -999.0,9,     -999.0,9,     -999.0,9,     -999.0,9,     -999.0,9,     -999.0,9,     -999.0,9,     -999.0,9,     -999.0,9,     -999.0,9,     -999.0,9,     -999.0,9,     -999.0,9,     -999.0,9,     -999.0,9,   0.3890,20141215,       0153
06AQ20141202,        A12,      26,          1,         14,2,20141215,       0013,   -62.9913,     0.0063,       5460,   809.4,   0.3405,  34.6836,2,-999.0000,9,    195.5,2,   201.9,2,  124.16,2,   33.78,2,    0.00,2,    2.33,2,  2267.5,2,  2355.9,2,-999.0000,9,  -999.00,     -999.0,9,     -999.0,9,     -999.0,9,     -999.0,9,     -999.0,9,     -999.0,9,     -999.0,9,     -999.0,9,     -999.0,9,     -999.0,9,     -999.0,9,     -999.0,9,     -999.0,9,     -999.0,9,     -999.0,9,     -999.0,9,     -999.0,9,     -999.0,9,     -999.0,9,     -999.0,9,     -999.0,9,     -999.0,9,     -999.0,9,     -999.0,9,     -999.0,9,     -999.0,9,     -999.0,9,     -999.0,9,   0.3038,20141215,       0148
06AQ20141202,        A12,      26,          1,         13,2,20141215,       0013,   -62.9913,     0.0063,       5460,   911.0,   0.2927,  34.6820,2,-999.0000,9,    198.1,2,   203.7,2,  125.62,2,   33.66,2,    0.00,2,    2.33,2,  2263.2,2,  2354.1,2,-999.0000,9,  -999.00,     -999.0,9,     -999.0,9,     -999.0,9,     -999.0,9,     -999.0,9,     -999.0,9,     -999.0,9,     -999.0,9,     -999.0,9,     -999.0,9,     -999.0,9,     -999.0,9,     -999.0,9,     -999.0,9,     -999.0,9,     -999.0,9,     -999.0,9,     -999.0,9,     -999.0,9,     -999.0,9,     -999.0,9,     -999.0,9,     -999.0,9,     -999.0,9,     -999.0,9,     -999.0,9,     -999.0,9,     -999.0,9,   0.2509,20141215,       0146
06AQ20141202,        A12,      26,          1,         12,2,20141215,       0013,   -62.9913,     0.0063,       5460,  1012.5,   0.2554,  34.6805,2,-999.0000,9,    200.1,2,   206.9,2,  126.11,2,   33.82,2,    0.00,2,    2.33,2,  2266.4,2,  2356.0,2,-999.0000,9,  -999.00,     -999.0,9,     -999.0,9,     -999.0,9,     -999.0,9,     -999.0,9,     -999.0,9,     -999.0,9,     -999.0,9,     -999.0,9,     -999.0,9,     -999.0,9,     -999.0,9,     -999.0,9,     -999.0,9,     -999.0,9,     -999.0,9,     -999.0,9,     -999.0,9,     -999.0,9,     -999.0,9,     -999.0,9,     -999.0,9,     -999.0,9,     -999.0,9,     -999.0,9,     -999.0,9,     -999.0,9,     -999.0,9,   0.2084,20141215,       0143
06AQ20141202,        A12,      26,          1,         11,2,20141215,       0013,   -62.9913,     0.0063,       5460,  1520.3,   0.0511,  34.6722,2,-999.0000,9,    209.5,2,   216.5,2,  127.67,2,   33.29,2,    0.00,2,    2.31,2,  2260.3,2,  2354.9,2,-999.0000,9,  -999.00,     -999.0,9,     -999.0,9,     -999.0,9,     -999.0,9,     -999.0,9,     -999.0,9,     -999.0,9,     -999.0,9,     -999.0,9,     -999.0,9,     -999.0,9,     -999.0,9,     -999.0,9,     -999.0,9,     -999.0,9,     -999.0,9,     -999.0,9,     -999.0,9,     -999.0,9,     -999.0,9,     -999.0,9,     -999.0,9,     -999.0,9,     -999.0,9,     -999.0,9,     -999.0,9,     -999.0,9,     -999.0,9,  -0.0237,20141215,       0132
06AQ20141202,        A12,      26,          1,         10,2,20141215,       0013,   -62.9913,     0.0063,       5460,  2029.3,  -0.1028,  34.6659,2,-999.0000,9,    218.0,2,   226.6,2,  127.28,2,   33.02,2,    0.00,2,    2.27,2,  2257.5,2,  2355.0,2,-999.0000,9,  -999.00,     -999.0,9,     -999.0,9,     -999.0,9,     -999.0,9,     -999.0,9,     -999.0,9,     -999.0,9,     -999.0,9,     -999.0,9,     -999.0,9,     -999.0,9,     -999.0,9,     -999.0,9,     -999.0,9,     -999.0,9,     -999.0,9,     -999.0,9,     -999.0,9,     -999.0,9,     -999.0,9,     -999.0,9,     -999.0,9,     -999.0,9,     -999.0,9,     -999.0,9,     -999.0,9,     -999.0,9,     -999.0,9,  -0.2089,20141215,       0123
06AQ20141202,        A12,      26,          1,          9,2,20141215,       0013,   -62.9913,     0.0063,       5460,  2540.0,  -0.2060,  34.6616,2,-999.0000,9,    224.1,2,   235.1,2,  126.89,2,   32.77,2,    0.00,2,    2.27,2,  2254.9,2,  2353.3,2,-999.0000,9,  -999.00,     -999.0,9,     -999.0,9,     -999.0,9,     -999.0,9,     -999.0,9,     -999.0,9,     -999.0,9,     -999.0,9,     -999.0,9,     -999.0,9,     -999.0,9,     -999.0,9,     -999.0,9,     -999.0,9,     -999.0,9,     -999.0,9,     -999.0,9,     -999.0,9,     -999.0,9,     -999.0,9,     -999.0,9,     -999.0,9,     -999.0,9,     -999.0,9,     -999.0,9,     -999.0,9,     -999.0,9,     -999.0,9,  -0.3477,20141215,       0113
06AQ20141202,        A12,      26,          1,          8,2,20141215,       0013,   -62.9913,     0.0063,       5460,  3051.3,  -0.2715,  34.6586,2,-999.0000,9,    228.3,2,   238.7,2,  126.60,2,   32.49,2,    0.00,2,    2.24,2,  2252.1,2,  2352.1,2,-999.0000,9,  -999.00,     -999.0,9,     -999.0,9,     -999.0,9,     -999.0,9,     -999.0,9,     -999.0,9,     -999.0,9,     -999.0,9,     -999.0,9,     -999.0,9,     -999.0,9,     -999.0,9,     -999.0,9,     -999.0,9,     -999.0,9,     -999.0,9,     -999.0,9,     -999.0,9,     -999.0,9,     -999.0,9,     -999.0,9,     -999.0,9,     -999.0,9,     -999.0,9,     -999.0,9,     -999.0,9,     -999.0,9,     -999.0,9,  -0.4530,20141215,       0104
06AQ20141202,        A12,      26,          1,          7,2,20141215,       0013,   -62.9913,     0.0063,       5460,  3563.4,  -0.3240,  34.6563,2,-999.0000,9,    232.3,2,   242.6,2,  126.21,2,   32.47,2,    0.00,2,    2.25,2,  2251.4,2,  2353.0,2,-999.0000,9,  -999.00,     -999.0,9,     -999.0,9,     -999.0,9,     -999.0,9,     -999.0,9,     -999.0,9,     -999.0,9,     -999.0,9,     -999.0,9,     -999.0,9,     -999.0,9,     -999.0,9,     -999.0,9,     -999.0,9,     -999.0,9,     -999.0,9,     -999.0,9,     -999.0,9,     -999.0,9,     -999.0,9,     -999.0,9,     -999.0,9,     -999.0,9,     -999.0,9,     -999.0,9,     -999.0,9,     -999.0,9,     -999.0,9,  -0.5493,20141215,       0053
06AQ20141202,        A12,      26,          1,          6,2,20141215,       0013,   -62.9913,     0.0063,       5460,  3821.2,  -0.3460,  34.6550,2,-999.0000,9,    234.3,2,   244.4,2,  127.28,2,   32.40,2,    0.00,2,    2.24,2,  2250.8,2,  2352.2,2,-999.0000,9,  -999.00,     -999.0,9,     -999.0,9,     -999.0,9,     -999.0,9,     -999.0,9,     -999.0,9,     -999.0,9,     -999.0,9,     -999.0,9,     -999.0,9,     -999.0,9,     -999.0,9,     -999.0,9,     -999.0,9,     -999.0,9,     -999.0,9,     -999.0,9,     -999.0,9,     -999.0,9,     -999.0,9,     -999.0,9,     -999.0,9,     -999.0,9,     -999.0,9,     -999.0,9,     -999.0,9,     -999.0,9,     -999.0,9,  -0.5948,20141215,       0047
06AQ20141202,        A12,      26,          1,          5,2,20141215,       0013,   -62.9913,     0.0063,       5460,  4077.6,  -0.3734,  34.6532,2,-999.0000,9,    236.6,2,   246.6,2,  126.31,2,   32.30,2,    0.00,2,    2.25,2,  2249.1,2,  2352.0,2,-999.0000,9,  -999.00,     -999.0,9,     -999.0,9,     -999.0,9,     -999.0,9,     -999.0,9,     -999.0,9,     -999.0,9,     -999.0,9,     -999.0,9,     -999.0,9,     -999.0,9,     -999.0,9,     -999.0,9,     -999.0,9,     -999.0,9,     -999.0,9,     -999.0,9,     -999.0,9,     -999.0,9,     -999.0,9,     -999.0,9,     -999.0,9,     -999.0,9,     -999.0,9,     -999.0,9,     -999.0,9,     -999.0,9,     -999.0,9,  -0.6463,20141215,       0042
06AQ20141202,        A12,      26,          1,          4,2,20141215,       0013,   -62.9913,     0.0063,       5460,  4592.9,  -0.4172,  34.6492,2,-999.0000,9,    241.8,2,   250.4,2,  122.89,2,   32.34,2,    0.00,2,    2.23,2,  2249.9,2,  2351.9,2,-999.0000,9,  -999.00,     -999.0,9,     -999.0,9,     -999.0,9,     -999.0,9,     -999.0,9,     -999.0,9,     -999.0,9,     -999.0,9,     -999.0,9,     -999.0,9,     -999.0,9,     -999.0,9,     -999.0,9,     -999.0,9,     -999.0,9,     -999.0,9,     -999.0,9,     -999.0,9,     -999.0,9,     -999.0,9,     -999.0,9,     -999.0,9,     -999.0,9,     -999.0,9,     -999.0,9,     -999.0,9,     -999.0,9,     -999.0,9,  -0.7414,20141215,       0031
06AQ20141202,        A12,      26,          1,          3,2,20141215,       0013,   -62.9913,     0.0063,       5460,  5108.6,  -0.4020,  34.6472,2,-999.0000,9,    242.9,2,   251.7,2,  122.79,2,   32.41,2,    0.00,2,    2.25,2,  2248.6,2,  2349.1,2,-999.0000,9,  -999.00,     -999.0,9,     -999.0,9,     -999.0,9,     -999.0,9,     -999.0,9,     -999.0,9,     -999.0,9,     -999.0,9,     -999.0,9,     -999.0,9,     -999.0,9,     -999.0,9,     -999.0,9,     -999.0,9,     -999.0,9,     -999.0,9,     -999.0,9,     -999.0,9,     -999.0,9,     -999.0,9,     -999.0,9,     -999.0,9,     -999.0,9,     -999.0,9,     -999.0,9,     -999.0,9,     -999.0,9,     -999.0,9,  -0.7830,20141215,       0021
06AQ20141202,        A12,      26,          1,          2,2,20141215,       0013,   -62.9913,     0.0063,       5460,  5315.0,  -0.3830,  34.6469,2,-999.0000,9,    243.0,2,   251.4,2,  124.45,2,   32.37,2,    0.00,2,    2.24,2,  2248.6,2,  2352.8,2,-999.0000,9,  -999.00,     -999.0,9,     -999.0,9,     -999.0,9,     -999.0,9,     -999.0,9,     -999.0,9,     -999.0,9,     -999.0,9,     -999.0,9,     -999.0,9,     -999.0,9,     -999.0,9,     -999.0,9,     -999.0,9,     -999.0,9,     -999.0,9,     -999.0,9,     -999.0,9,     -999.0,9,     -999.0,9,     -999.0,9,     -999.0,9,     -999.0,9,     -999.0,9,     -999.0,9,     -999.0,9,     -999.0,9,     -999.0,9,  -0.7882,20141215,       0016
06AQ20141202,        A12,      26,          1,          1,2,20141215,       0013,   -62.9913,     0.0063,       5460,  5390.8,  -0.3738,  34.6469,2,-999.0000,9,    242.5,2,   251.6,2,  124.16,2,   32.37,2,    0.00,2,    2.24,2,  2248.9,2,  2351.0,2,-999.0000,9,  -999.00,     -999.0,9,     -999.0,9,     -999.0,9,     -999.0,9,     -999.0,9,     -999.0,9,     -999.0,9,     -999.0,9,     -999.0,9,     -999.0,9,     -999.0,9,     -999.0,9,     -999.0,9,     -999.0,9,     -999.0,9,     -999.0,9,     -999.0,9,     -999.0,9,     -999.0,9,     -999.0,9,     -999.0,9,     -999.0,9,     -999.0,9,     -999.0,9,     -999.0,9,     -999.0,9,     -999.0,9,     -999.0,9,  -0.7881,20141215,       0013