BOTTLE,20220815CCHSIOAMB
EXPOCODE,SECT_ID,STNNBR,CASTNO,BTLNBR,BTLNBR_FLAG_W,DATE,TIME,LATITUDE,LONGITUDE,DEPTH,CTDPRS,CTDTMP,CTDSAL,CTDSAL_FLAG_W,SALNTY,SALNTY_FLAG_W,CTDOXY,CTDOXY_FLAG_W,OXYGEN,OXYGEN_FLAG_W,SILCAT,SILCAT_FLAG_W,NITRAT,NITRAT_FLAG_W,NITRIT,NITRIT_FLAG_W,PHSPHT,PHSPHT_FLAG_W,TCARBN,TCARBN_FLAG_W,ALKALI,ALKALI_FLAG_W,PH_TOT,PH_TOT_FLAG_W,PH_TMP,POC,POC_FLAG_W,PON,PON_FLAG_W,FUCO,FUCO_FLAG_W,ALPHA-BETA-CAR,ALPHA-BETA-CAR_FLAG_W,ALLO,ALLO_FLAG_W,BUT-FUCO,BUT-FUCO_FLAG_W,CHL_C1C2,CHL_C1C2_FLAG_W,CHL_C3,CHL_C3_FLAG_W,CHLIDE_A,CHLIDE_A_FLAG_W,DIADINO,DIADINO_FLAG_W,DIATO,DIATO_FLAG_W,DV_CHL_A,DV_CHL_A_FLAG_W,DV_CHL_B,DV_CHL_B_FLAG_W,GYRO,GYRO_FLAG_W,HEX-FUCO,HEX-FUCO_FLAG_W,LUT,LUT_FLAG_W,MV_CHL_A,MV_CHL_A_FLAG_W,MV_CHL_B,MV_CHL_B_FLAG_W,NEO,NEO_FLAG_W,PERID,PERID_FLAG_W,PHIDE_A,PHIDE_A_FLAG_W,PHYTIN_A,PHYTIN_A_FLAG_W,PRAS,PRAS_FLAG_W,TOT_CHL_A,TOT_CHL_A_FLAG_W,TOT_CHL_B,TOT_CHL_B_FLAG_W,TOT_CHL_C,TOT_CHL_C_FLAG_W,VIOLA,VIOLA_FLAG_W,ZEA,ZEA_FLAG_W,THETA,BTL_DATE,BTL_TIME
,,,,,,,,,,METERS,DBAR,ITS-90,PSS-78,,PSS-78,,UMOL/KG,,UMOL/KG,,UMOL/KG,,UMOL/KG,,UMOL/KG,,UMOL/KG,,UMOL/KG,,UMOL/KG,,,,DEG C,uG/KG,,ug/kg,,NMOL/KG,,MG/M^3,,MG/M^3,,MG/M^3,,MG/M^3,,MG/M^3,,MG/M^3,,MG/M^3,,MG/M^3,,MG/M^3,,MG/M^3,,MG/M^3,,MG/M^3,,MG/M^3,,MG/M^3,,MG/M^3,,MG/M^3,,MG/M^3,,MG/M^3,,MG/M^3,,MG/M^3,,MG/M^3,,MG/M^3,,MG/M^3,,MG/M^3,,MG/M^3,,DEG C,,
06AQ20141202,        A12,      78,          1,         24,2,20150119,       0545,   -66.0360,     0.0022,       3646,    15.1,   0.0174,  33.3320,2,  33.4040,2,    357.0,2,   361.6,2,   57.35,2,   19.78,2,    0.11,2,    1.27,2,  -999.0,9,  -999.0,9,   7.7832,2,    25.00,        327,2,         64,2,     0.4510,2,      0.013,2,      0.002,2,      0.019,2,      0.310,2,      0.133,2,      0.108,2,      0.079,2,      0.003,2,     -999.0,9,     -999.0,9,     -999.0,9,      0.310,2,     -999.0,9,      0.956,2,     -999.0,9,      0.004,2,      0.014,2,      0.173,2,      0.052,2,     -999.0,9,      1.064,2,     -999.0,9,      0.443,2,      0.001,2,     -999.0,9,   0.0169,20150119,       0711
06AQ20141202,        A12,      78,          1,         23,2,20150119,       0545,   -66.0360,     0.0022,       3646,    20.7,  -0.0251,  33.3560,2,  33.4050,2,    354.2,2,   358.2,2,   59.11,2,   20.46,2,    0.10,2,    1.37,2,  -999.0,9,  -999.0,9,   7.7715,2,    25.00,        292,2,         55,2,     0.4580,2,      0.014,2,      0.002,2,      0.020,2,      0.314,2,      0.136,2,      0.096,2,      0.083,2,      0.003,2,     -999.0,9,     -999.0,9,     -999.0,9,      0.328,2,     -999.0,9,      1.006,2,     -999.0,9,     -999.0,9,      0.012,2,      0.158,2,      0.046,2,     -999.0,9,      1.102,2,     -999.0,9,      0.450,2,     -999.0,9,     -999.0,9,  -0.0258,20150119,       0711
06AQ20141202,        A12,      78,          1,         22,2,20150119,       0545,   -66.0360,     0.0022,       3646,    20.7,  -0.0164,  33.3533,2,  33.4433,2,    342.8,2,   356.3,2,   59.99,2,   20.84,2,    0.10,2,    1.38,2,  -999.0,9,  -999.0,9,   7.7664,2,    25.00,        301,2,         56,2,     0.4120,6,      0.013,6,      0.002,6,      0.020,6,      0.286,6,      0.125,6,      0.076,6,      0.074,6,      0.003,6,     -999.0,9,     -999.0,9,     -999.0,9,      0.310,6,     -999.0,9,      0.922,6,     -999.0,9,     -999.0,9,      0.012,6,      0.152,6,      0.041,6,     -999.0,9,      0.998,6,     -999.0,9,      0.411,6,     -999.0,9,     -999.0,9,  -0.0171,20150119,       0711
06AQ20141202,        A12,      78,          1,         21,2,20150119,       0545,   -66.0360,     0.0022,       3646,    51.5,  -1.5700,  34.2951,2,  34.3228,2,    275.9,2,   280.6,2,   76.16,2,   28.53,2,    0.20,2,    2.00,2,  -999.0,9,  -999.0,9,   7.6203,2,    25.00,     -999.0,9,     -999.0,9,     -999.0,9,     -999.0,9,     -999.0,9,     -999.0,9,     -999.0,9,     -999.0,9,     -999.0,9,     -999.0,9,     -999.0,9,     -999.0,9,     -999.0,9,     -999.0,9,     -999.0,9,     -999.0,9,     -999.0,9,     -999.0,9,     -999.0,9,     -999.0,9,     -999.0,9,     -999.0,9,     -999.0,9,     -999.0,9,     -999.0,9,     -999.0,9,     -999.0,9,     -999.0,9,  -1.5711,20150119,       0709
06AQ20141202,        A12,      78,          1,         20,2,20150119,       0545,   -66.0360,     0.0022,       3646,   100.2,  -0.3054,  34.5709,2,  34.5664,2,    230.0,2,   234.9,2,   86.00,2,   31.17,2,    0.08,2,    2.17,2,  -999.0,9,  -999.0,9,   7.5806,2,    25.00,     -999.0,9,     -999.0,9,     -999.0,9,     -999.0,9,     -999.0,9,     -999.0,9,     -999.0,9,     -999.0,9,     -999.0,9,     -999.0,9,     -999.0,9,     -999.0,9,     -999.0,9,     -999.0,9,     -999.0,9,     -999.0,9,     -999.0,9,     -999.0,9,     -999.0,9,     -999.0,9,     -999.0,9,     -999.0,9,     -999.0,9,     -999.0,9,     -999.0,9,     -999.0,9,     -999.0,9,     -999.0,9,  -0.3087,20150119,       0708
06AQ20141202,        A12,      78,          1,         19,2,20150119,       0545,   -66.0360,     0.0022,       3646,   151.1,   0.7050,  34.6658,2,  34.6571,2,    198.1,2,   201.8,2,   96.44,2,   32.51,2,    0.04,2,    2.29,2,  -999.0,9,  -999.0,9,   7.5661,2,    25.00,     -999.0,9,     -999.0,9,     -999.0,9,     -999.0,9,     -999.0,9,     -999.0,9,     -999.0,9,     -999.0,9,     -999.0,9,     -999.0,9,     -999.0,9,     -999.0,9,     -999.0,9,     -999.0,9,     -999.0,9,     -999.0,9,     -999.0,9,     -999.0,9,     -999.0,9,     -999.0,9,     -999.0,9,     -999.0,9,     -999.0,9,     -999.0,9,     -999.0,9,     -999.0,9,     -999.0,9,     -999.0,9,   0.6986,20150119,       0706
06AQ20141202,        A12,      78,          1,         18,2,20150119,       0545,   -66.0360,     0.0022,       3646,   201.4,   0.8111,  34.6832,2,  34.6772,2,    194.8,2,   197.5,2,   98.09,2,   32.67,2,    0.03,2,    2.25,2,  -999.0,9,  -999.0,9,   7.5667,2,    25.00,     -999.0,9,     -999.0,9,     -999.0,9,     -999.0,9,     -999.0,9,     -999.0,9,     -999.0,9,     -999.0,9,     -999.0,9,     -999.0,9,     -999.0,9,     -999.0,9,     -999.0,9,     -999.0,9,     -999.0,9,     -999.0,9,     -999.0,9,     -999.0,9,     -999.0,9,     -999.0,9,     -999.0,9,     -999.0,9,     -999.0,9,     -999.0,9,     -999.0,9,     -999.0,9,     -999.0,9,     -999.0,9,   0.8023,20150119,       0704
06AQ20141202,        A12,      78,          1,         17,2,20150119,       0545,   -66.0360,     0.0022,       3646,   303.8,   0.8050,  34.6914,2,  34.6863,2,    194.7,2,   198.3,2,  104.15,2,   32.68,2,    0.03,2,    2.20,2,  -999.0,9,  -999.0,9,   7.5791,2,    25.00,     -999.0,9,     -999.0,9,     -999.0,9,     -999.0,9,     -999.0,9,     -999.0,9,     -999.0,9,     -999.0,9,     -999.0,9,     -999.0,9,     -999.0,9,     -999.0,9,     -999.0,9,     -999.0,9,     -999.0,9,     -999.0,9,     -999.0,9,     -999.0,9,     -999.0,9,     -999.0,9,     -999.0,9,     -999.0,9,     -999.0,9,     -999.0,9,     -999.0,9,     -999.0,9,     -999.0,9,     -999.0,9,   0.7914,20150119,       0701
06AQ20141202,        A12,      78,          1,         16,2,20150119,       0545,   -66.0360,     0.0022,       3646,   405.5,   0.7437,  34.6935,2,  34.6908,2,    195.2,2,   198.3,2,  107.76,2,   32.50,2,    0.02,2,    2.21,2,  -999.0,9,  -999.0,9,   7.5722,2,    25.00,     -999.0,9,     -999.0,9,     -999.0,9,     -999.0,9,     -999.0,9,     -999.0,9,     -999.0,9,     -999.0,9,     -999.0,9,     -999.0,9,     -999.0,9,     -999.0,9,     -999.0,9,     -999.0,9,     -999.0,9,     -999.0,9,     -999.0,9,     -999.0,9,     -999.0,9,     -999.0,9,     -999.0,9,     -999.0,9,     -999.0,9,     -999.0,9,     -999.0,9,     -999.0,9,     -999.0,9,     -999.0,9,   0.7254,20150119,       0658
06AQ20141202,        A12,      78,          1,         15,2,20150119,       0545,   -66.0360,     0.0022,       3646,   506.3,   0.6952,  34.6941,2,  34.6950,2,    196.1,2,   199.7,2,  110.10,2,   32.54,2,    0.00,2,    2.22,2,  -999.0,9,  -999.0,9,   7.5731,2,    25.00,     -999.0,9,     -999.0,9,     -999.0,9,     -999.0,9,     -999.0,9,     -999.0,9,     -999.0,9,     -999.0,9,     -999.0,9,     -999.0,9,     -999.0,9,     -999.0,9,     -999.0,9,     -999.0,9,     -999.0,9,     -999.0,9,     -999.0,9,     -999.0,9,     -999.0,9,     -999.0,9,     -999.0,9,     -999.0,9,     -999.0,9,     -999.0,9,     -999.0,9,     -999.0,9,     -999.0,9,     -999.0,9,   0.6721,20150119,       0656
06AQ20141202,        A12,      78,          1,         14,2,20150119,       0545,   -66.0360,     0.0022,       3646,   606.6,   0.6532,  34.6950,2,  34.6952,2,    197.7,2,   202.6,2,  112.83,2,   32.59,2,    0.00,2,    2.21,2,  -999.0,9,  -999.0,9,   7.5783,2,    25.00,     -999.0,9,     -999.0,9,     -999.0,9,     -999.0,9,     -999.0,9,     -999.0,9,     -999.0,9,     -999.0,9,     -999.0,9,     -999.0,9,     -999.0,9,     -999.0,9,     -999.0,9,     -999.0,9,     -999.0,9,     -999.0,9,     -999.0,9,     -999.0,9,     -999.0,9,     -999.0,9,     -999.0,9,     -999.0,9,     -999.0,9,     -999.0,9,     -999.0,9,     -999.0,9,     -999.0,9,     -999.0,9,   0.6252,20150119,       0654
06AQ20141202,        A12,      78,          1,         13,2,20150119,       0545,   -66.0360,     0.0022,       3646,   808.5,   0.5277,  34.6909,2,  34.6920,2,    197.6,2,   201.8,2,  117.22,2,   33.01,2,    0.00,2,    2.23,2,  -999.0,9,  -999.0,9,   7.5737,2,    25.00,     -999.0,9,     -999.0,9,     -999.0,9,     -999.0,9,     -999.0,9,     -999.0,9,     -999.0,9,     -999.0,9,     -999.0,9,     -999.0,9,     -999.0,9,     -999.0,9,     -999.0,9,     -999.0,9,     -999.0,9,     -999.0,9,     -999.0,9,     -999.0,9,     -999.0,9,     -999.0,9,     -999.0,9,     -999.0,9,     -999.0,9,     -999.0,9,     -999.0,9,     -999.0,9,     -999.0,9,     -999.0,9,   0.4898,20150119,       0649
06AQ20141202,        A12,      78,          1,         12,2,20150119,       0545,   -66.0360,     0.0022,       3646,   910.3,   0.4791,  34.6891,2,  34.6909,2,    198.6,2,   203.2,2,  118.98,2,   33.07,2,    0.00,2,    2.24,2,  -999.0,9,  -999.0,9,   7.5738,2,    25.00,     -999.0,9,     -999.0,9,     -999.0,9,     -999.0,9,     -999.0,9,     -999.0,9,     -999.0,9,     -999.0,9,     -999.0,9,     -999.0,9,     -999.0,9,     -999.0,9,     -999.0,9,     -999.0,9,     -999.0,9,     -999.0,9,     -999.0,9,     -999.0,9,     -999.0,9,     -999.0,9,     -999.0,9,     -999.0,9,     -999.0,9,     -999.0,9,     -999.0,9,     -999.0,9,     -999.0,9,     -999.0,9,   0.4360,20150119,       0646
06AQ20141202,        A12,      78,          1,         11,2,20150119,       0545,   -66.0360,     0.0022,       3646,  1013.5,   0.4380,  34.6874,2,  34.6800,2,    198.8,2,   204.6,2,  120.64,2,   33.25,2,    0.00,2,    2.24,2,  -999.0,9,  -999.0,9,   7.5740,6,    25.00,     -999.0,9,     -999.0,9,     -999.0,9,     -999.0,9,     -999.0,9,     -999.0,9,     -999.0,9,     -999.0,9,     -999.0,9,     -999.0,9,     -999.0,9,     -999.0,9,     -999.0,9,     -999.0,9,     -999.0,9,     -999.0,9,     -999.0,9,     -999.0,9,     -999.0,9,     -999.0,9,     -999.0,9,     -999.0,9,     -999.0,9,     -999.0,9,     -999.0,9,     -999.0,9,     -999.0,9,     -999.0,9,   0.3894,20150119,       0643
06AQ20141202,        A12,      78,          1,         10,2,20150119,       0545,   -66.0360,     0.0022,       3646,  1216.8,   0.3412,  34.6837,2,  34.6766,2,    201.6,2,   206.7,2,  122.98,2,   33.24,2,    0.00,2,    2.24,2,  -999.0,9,  -999.0,9,   7.5760,2,    25.00,     -999.0,9,     -999.0,9,     -999.0,9,     -999.0,9,     -999.0,9,     -999.0,9,     -999.0,9,     -999.0,9,     -999.0,9,     -999.0,9,     -999.0,9,     -999.0,9,     -999.0,9,     -999.0,9,     -999.0,9,     -999.0,9,     -999.0,9,     -999.0,9,     -999.0,9,     -999.0,9,     -999.0,9,     -999.0,9,     -999.0,9,     -999.0,9,     -999.0,9,     -999.0,9,     -999.0,9,     -999.0,9,   0.2817,20150119,       0639
06AQ20141202,        A12,      78,          1,          9,2,20150119,       0545,   -66.0360,     0.0022,       3646,  1520.9,   0.2098,  34.6776,2,  34.6714,2,    207.0,2,   213.9,2,  124.74,2,   33.11,2,    0.00,2,    2.25,2,  -999.0,9,  -999.0,9,   7.5817,2,    25.00,     -999.0,9,     -999.0,9,     -999.0,9,     -999.0,9,     -999.0,9,     -999.0,9,     -999.0,9,     -999.0,9,     -999.0,9,     -999.0,9,     -999.0,9,     -999.0,9,     -999.0,9,     -999.0,9,     -999.0,9,     -999.0,9,     -999.0,9,     -999.0,9,     -999.0,9,     -999.0,9,     -999.0,9,     -999.0,9,     -999.0,9,     -999.0,9,     -999.0,9,     -999.0,9,     -999.0,9,     -999.0,9,   0.1331,20150119,       0633
06AQ20141202,        A12,      78,          1,          8,2,20150119,       0545,   -66.0360,     0.0022,       3646,  1724.3,   0.1338,  34.6741,2,  34.6687,2,    209.9,2,   216.7,2,  125.43,2,   33.09,2,    0.00,2,    2.24,2,  -999.0,9,  -999.0,9,   7.5811,2,    25.00,     -999.0,9,     -999.0,9,     -999.0,9,     -999.0,9,     -999.0,9,     -999.0,9,     -999.0,9,     -999.0,9,     -999.0,9,     -999.0,9,     -999.0,9,     -999.0,9,     -999.0,9,     -999.0,9,     -999.0,9,     -999.0,9,     -999.0,9,     -999.0,9,     -999.0,9,     -999.0,9,     -999.0,9,     -999.0,9,     -999.0,9,     -999.0,9,     -999.0,9,     -999.0,9,     -999.0,9,     -999.0,9,   0.0449,20150119,       0628
06AQ20141202,        A12,      78,          1,          7,2,20150119,       0545,   -66.0360,     0.0022,       3646,  2030.2,   0.0240,  34.6692,2,  34.6641,2,    216.2,2,   223.3,2,  125.13,2,   32.60,2,    0.00,2,    2.24,2,  -999.0,9,  -999.0,9,   7.5870,2,    25.00,     -999.0,9,     -999.0,9,     -999.0,9,     -999.0,9,     -999.0,9,     -999.0,9,     -999.0,9,     -999.0,9,     -999.0,9,     -999.0,9,     -999.0,9,     -999.0,9,     -999.0,9,     -999.0,9,     -999.0,9,     -999.0,9,     -999.0,9,     -999.0,9,     -999.0,9,     -999.0,9,     -999.0,9,     -999.0,9,     -999.0,9,     -999.0,9,     -999.0,9,     -999.0,9,     -999.0,9,     -999.0,9,  -0.0842,20150119,       0622
06AQ20141202,        A12,      78,          1,          6,2,20150119,       0545,   -66.0360,     0.0022,       3646,  2234.9,  -0.0306,  34.6671,2,  34.6625,2,    218.4,2,   224.9,2,  125.62,2,   32.67,2,    0.00,2,    2.24,2,  -999.0,9,  -999.0,9,   7.6088,4,    25.00,     -999.0,9,     -999.0,9,     -999.0,9,     -999.0,9,     -999.0,9,     -999.0,9,     -999.0,9,     -999.0,9,     -999.0,9,     -999.0,9,     -999.0,9,     -999.0,9,     -999.0,9,     -999.0,9,     -999.0,9,     -999.0,9,     -999.0,9,     -999.0,9,     -999.0,9,     -999.0,9,     -999.0,9,     -999.0,9,     -999.0,9,     -999.0,9,     -999.0,9,     -999.0,9,     -999.0,9,     -999.0,9,  -0.1526,20150119,       0617
06AQ20141202,        A12,      78,          1,          5,2,20150119,       0545,   -66.0360,     0.0022,       3646,  2539.6,  -0.0949,  34.6646,2,  34.6603,2,    221.9,2,   228.7,2,  126.11,2,   32.65,2,    0.00,2,    2.24,2,  -999.0,9,  -999.0,9,   7.6020,3,    25.00,     -999.0,9,     -999.0,9,     -999.0,9,     -999.0,9,     -999.0,9,     -999.0,9,     -999.0,9,     -999.0,9,     -999.0,9,     -999.0,9,     -999.0,9,     -999.0,9,     -999.0,9,     -999.0,9,     -999.0,9,     -999.0,9,     -999.0,9,     -999.0,9,     -999.0,9,     -999.0,9,     -999.0,9,     -999.0,9,     -999.0,9,     -999.0,9,     -999.0,9,     -999.0,9,     -999.0,9,     -999.0,9,  -0.2387,20150119,       0610
06AQ20141202,        A12,      78,          1,          4,2,20150119,       0545,   -66.0360,     0.0022,       3646,  2843.7,  -0.1464,  34.6617,2,  34.6576,2,    225.5,2,   232.9,2,  125.52,2,   32.56,2,    0.00,2,    2.23,2,  -999.0,9,  -999.0,9,   7.5917,2,    25.00,     -999.0,9,     -999.0,9,     -999.0,9,     -999.0,9,     -999.0,9,     -999.0,9,     -999.0,9,     -999.0,9,     -999.0,9,     -999.0,9,     -999.0,9,     -999.0,9,     -999.0,9,     -999.0,9,     -999.0,9,     -999.0,9,     -999.0,9,     -999.0,9,     -999.0,9,     -999.0,9,     -999.0,9,     -999.0,9,     -999.0,9,     -999.0,9,     -999.0,9,     -999.0,9,     -999.0,9,     -999.0,9,  -0.3134,20150119,       0604
06AQ20141202,        A12,      78,          1,          3,2,20150119,       0545,   -66.0360,     0.0022,       3646,  3050.5,  -0.1760,  34.6600,2,  34.6568,2,    227.8,2,   234.3,2,  125.52,2,   32.74,2,    0.00,2,    2.23,2,  -999.0,9,  -999.0,9,   7.5942,2,    25.00,     -999.0,9,     -999.0,9,     -999.0,9,     -999.0,9,     -999.0,9,     -999.0,9,     -999.0,9,     -999.0,9,     -999.0,9,     -999.0,9,     -999.0,9,     -999.0,9,     -999.0,9,     -999.0,9,     -999.0,9,     -999.0,9,     -999.0,9,     -999.0,9,     -999.0,9,     -999.0,9,     -999.0,9,     -999.0,9,     -999.0,9,     -999.0,9,     -999.0,9,     -999.0,9,     -999.0,9,     -999.0,9,  -0.3596,20150119,       0600
06AQ20141202,        A12,      78,          1,          2,2,20150119,       0545,   -66.0360,     0.0022,       3646,  3305.7,  -0.2076,  34.6583,2,  34.6554,2,    229.7,2,   238.4,2,  125.62,2,   32.46,2,    0.00,2,    2.24,2,  -999.0,9,  -999.0,9,   7.5955,2,    25.00,     -999.0,9,     -999.0,9,     -999.0,9,     -999.0,9,     -999.0,9,     -999.0,9,     -999.0,9,     -999.0,9,     -999.0,9,     -999.0,9,     -999.0,9,     -999.0,9,     -999.0,9,     -999.0,9,     -999.0,9,     -999.0,9,     -999.0,9,     -999.0,9,     -999.0,9,     -999.0,9,     -999.0,9,     -999.0,9,     -999.0,9,     -999.0,9,     -999.0,9,     -999.0,9,     -999.0,9,     -999.0,9,  -0.4126,20150119,       0554
06AQ20141202,        A12,      78,          1,          1,2,20150119,       0545,   -66.0360,     0.0022,       3646,  3635.7,  -0.2456,  34.6559,2,  34.6545,2,    232.2,2,   240.3,2,  127.57,2,   32.62,2,    0.00,2,    2.22,2,  -999.0,9,  -999.0,9,   7.5978,6,    25.00,     -999.0,9,     -999.0,9,     -999.0,9,     -999.0,9,     -999.0,9,     -999.0,9,     -999.0,9,     -999.0,9,     -999.0,9,     -999.0,9,     -999.0,9,     -999.0,9,     -999.0,9,     -999.0,9,     -999.0,9,     -999.0,9,     -999.0,9,     -999.0,9,     -999.0,9,     -999.0,9,     -999.0,9,     -999.0,9,     -999.0,9,     -999.0,9,     -999.0,9,     -999.0,9,     -999.0,9,     -999.0,9,  -0.4797,20150119,       0545