BOTTLE,20220815CCHSIOAMB
EXPOCODE,SECT_ID,STNNBR,CASTNO,BTLNBR,BTLNBR_FLAG_W,DATE,TIME,LATITUDE,LONGITUDE,DEPTH,CTDPRS,CTDTMP,CTDSAL,CTDSAL_FLAG_W,SALNTY,SALNTY_FLAG_W,CTDOXY,CTDOXY_FLAG_W,OXYGEN,OXYGEN_FLAG_W,SILCAT,SILCAT_FLAG_W,NITRAT,NITRAT_FLAG_W,NITRIT,NITRIT_FLAG_W,PHSPHT,PHSPHT_FLAG_W,TCARBN,TCARBN_FLAG_W,ALKALI,ALKALI_FLAG_W,PH_TOT,PH_TOT_FLAG_W,PH_TMP,POC,POC_FLAG_W,PON,PON_FLAG_W,FUCO,FUCO_FLAG_W,ALPHA-BETA-CAR,ALPHA-BETA-CAR_FLAG_W,ALLO,ALLO_FLAG_W,BUT-FUCO,BUT-FUCO_FLAG_W,CHL_C1C2,CHL_C1C2_FLAG_W,CHL_C3,CHL_C3_FLAG_W,CHLIDE_A,CHLIDE_A_FLAG_W,DIADINO,DIADINO_FLAG_W,DIATO,DIATO_FLAG_W,DV_CHL_A,DV_CHL_A_FLAG_W,DV_CHL_B,DV_CHL_B_FLAG_W,GYRO,GYRO_FLAG_W,HEX-FUCO,HEX-FUCO_FLAG_W,LUT,LUT_FLAG_W,MV_CHL_A,MV_CHL_A_FLAG_W,MV_CHL_B,MV_CHL_B_FLAG_W,NEO,NEO_FLAG_W,PERID,PERID_FLAG_W,PHIDE_A,PHIDE_A_FLAG_W,PHYTIN_A,PHYTIN_A_FLAG_W,PRAS,PRAS_FLAG_W,TOT_CHL_A,TOT_CHL_A_FLAG_W,TOT_CHL_B,TOT_CHL_B_FLAG_W,TOT_CHL_C,TOT_CHL_C_FLAG_W,VIOLA,VIOLA_FLAG_W,ZEA,ZEA_FLAG_W,THETA,BTL_DATE,BTL_TIME
,,,,,,,,,,METERS,DBAR,ITS-90,PSS-78,,PSS-78,,UMOL/KG,,UMOL/KG,,UMOL/KG,,UMOL/KG,,UMOL/KG,,UMOL/KG,,UMOL/KG,,UMOL/KG,,,,DEG C,uG/KG,,ug/kg,,NMOL/KG,,MG/M^3,,MG/M^3,,MG/M^3,,MG/M^3,,MG/M^3,,MG/M^3,,MG/M^3,,MG/M^3,,MG/M^3,,MG/M^3,,MG/M^3,,MG/M^3,,MG/M^3,,MG/M^3,,MG/M^3,,MG/M^3,,MG/M^3,,MG/M^3,,MG/M^3,,MG/M^3,,MG/M^3,,MG/M^3,,MG/M^3,,MG/M^3,,MG/M^3,,DEG C,,
06AQ20141202,        A12,      27,          1,         24,2,20141216,       1106,   -64.0247,    -0.0107,       5281,    14.2,  -1.6620,  33.9013,2,-999.0000,9,    336.0,2,   344.4,2,   63.48,2,   26.97,2,    0.29,2,    1.84,2,  2188.7,2,  2295.2,2,-999.0000,9,  -999.00,         82,2,         14,2,     0.1130,2,      0.006,2,      0.003,2,      0.007,2,      0.071,2,      0.026,2,      0.006,2,      0.023,2,      0.002,2,     -999.0,9,     -999.0,9,     -999.0,9,      0.078,2,     -999.0,9,      0.367,2,      0.005,2,     -999.0,9,      0.002,2,      0.050,2,      0.016,2,     -999.0,9,      0.373,2,      0.005,2,      0.097,2,     -999.0,9,     -999.0,9,  -1.6623,20141216,       1255
06AQ20141202,        A12,      27,          1,         23,2,20141216,       1106,   -64.0247,    -0.0107,       5281,    14.2,  -1.6584,  33.9063,2,-999.0000,9,    336.4,2,   344.2,2,   63.58,2,   26.99,2,    0.27,2,    1.81,2,  2186.6,2,  2296.8,2,-999.0000,9,  -999.00,         63,2,         12,2,     0.1170,2,      0.006,2,      0.002,2,      0.007,2,      0.072,2,      0.027,2,      0.008,2,      0.025,2,      0.002,2,     -999.0,9,     -999.0,9,     -999.0,9,      0.071,2,     -999.0,9,      0.339,2,      0.006,2,     -999.0,9,      0.003,2,      0.056,2,      0.014,2,     -999.0,9,      0.347,2,      0.006,2,      0.099,2,     -999.0,9,     -999.0,9,  -1.6587,20141216,       1255
06AQ20141202,        A12,      27,          1,         22,2,20141216,       1106,   -64.0247,    -0.0107,       5281,    51.0,  -1.7180,  34.1821,2,-999.0000,9,    319.1,2,   322.8,2,   65.81,2,   28.22,2,    0.25,2,    1.92,2,  2211.5,2,  2315.6,2,-999.0000,9,  -999.00,         54,2,         10,2,     0.1760,2,      0.005,2,      0.001,2,      0.015,2,      0.083,2,      0.046,2,      0.005,2,      0.011,2,     -999.0,9,     -999.0,9,     -999.0,9,     -999.0,9,      0.061,2,     -999.0,9,      0.396,2,      0.018,2,      0.001,2,     -999.0,9,      0.035,2,      0.008,2,      0.005,2,      0.401,2,      0.018,2,      0.129,2,      0.001,2,     -999.0,9,  -1.7190,20141216,       1254
06AQ20141202,        A12,      27,          1,         21,2,20141216,       1106,   -64.0247,    -0.0107,       5281,    75.4,  -1.6439,  34.2778,2,-999.0000,9,    300.9,2,   308.9,2,   67.95,2,   28.68,2,    0.30,2,    1.99,2,  2224.3,2,  2323.0,2,-999.0000,9,  -999.00,     -999.0,9,     -999.0,9,     -999.0,9,     -999.0,9,     -999.0,9,     -999.0,9,     -999.0,9,     -999.0,9,     -999.0,9,     -999.0,9,     -999.0,9,     -999.0,9,     -999.0,9,     -999.0,9,     -999.0,9,     -999.0,9,     -999.0,9,     -999.0,9,     -999.0,9,     -999.0,9,     -999.0,9,     -999.0,9,     -999.0,9,     -999.0,9,     -999.0,9,     -999.0,9,     -999.0,9,     -999.0,9,  -1.6455,20141216,       1252
06AQ20141202,        A12,      27,          1,         20,2,20141216,       1106,   -64.0247,    -0.0107,       5281,   101.5,  -0.5099,  34.4422,2,-999.0000,9,    248.0,2,   248.5,2,   86.89,2,   31.61,2,    0.06,2,    2.17,2,  2247.2,2,  2333.4,2,-999.0000,9,  -999.00,     -999.0,9,     -999.0,9,     -999.0,9,     -999.0,9,     -999.0,9,     -999.0,9,     -999.0,9,     -999.0,9,     -999.0,9,     -999.0,9,     -999.0,9,     -999.0,9,     -999.0,9,     -999.0,9,     -999.0,9,     -999.0,9,     -999.0,9,     -999.0,9,     -999.0,9,     -999.0,9,     -999.0,9,     -999.0,9,     -999.0,9,     -999.0,9,     -999.0,9,     -999.0,9,     -999.0,9,     -999.0,9,  -0.5131,20141216,       1251
06AQ20141202,        A12,      27,          1,         19,2,20141216,       1106,   -64.0247,    -0.0107,       5281,   151.5,   0.9748,  34.6612,2,-999.0000,9,    191.0,2,   195.8,2,   98.49,2,   33.26,2,    0.01,2,    2.24,2,  2265.1,2,  2346.1,2,-999.0000,9,  -999.00,     -999.0,9,     -999.0,9,     -999.0,9,     -999.0,9,     -999.0,9,     -999.0,9,     -999.0,9,     -999.0,9,     -999.0,9,     -999.0,9,     -999.0,9,     -999.0,9,     -999.0,9,     -999.0,9,     -999.0,9,     -999.0,9,     -999.0,9,     -999.0,9,     -999.0,9,     -999.0,9,     -999.0,9,     -999.0,9,     -999.0,9,     -999.0,9,     -999.0,9,     -999.0,9,     -999.0,9,     -999.0,9,   0.9680,20141216,       1250
06AQ20141202,        A12,      27,          1,         18,2,20141216,       1106,   -64.0247,    -0.0107,       5281,   202.4,   0.9561,  34.6810,2,-999.0000,9,    191.7,2,   196.3,2,  101.80,2,   32.94,2,    0.00,2,    2.22,2,  2264.1,2,  2350.0,2,-999.0000,9,  -999.00,     -999.0,9,     -999.0,9,     -999.0,9,     -999.0,9,     -999.0,9,     -999.0,9,     -999.0,9,     -999.0,9,     -999.0,9,     -999.0,9,     -999.0,9,     -999.0,9,     -999.0,9,     -999.0,9,     -999.0,9,     -999.0,9,     -999.0,9,     -999.0,9,     -999.0,9,     -999.0,9,     -999.0,9,     -999.0,9,     -999.0,9,     -999.0,9,     -999.0,9,     -999.0,9,     -999.0,9,     -999.0,9,   0.9470,20141216,       1248
06AQ20141202,        A12,      27,          1,         17,2,20141216,       1106,   -64.0247,    -0.0107,       5281,   303.2,   0.7794,  34.6870,2,-999.0000,9,    194.1,2,   199.0,2,  108.05,2,   33.01,2,    0.00,2,    2.23,2,  2265.6,2,  2353.7,2,-999.0000,9,  -999.00,     -999.0,9,     -999.0,9,     -999.0,9,     -999.0,9,     -999.0,9,     -999.0,9,     -999.0,9,     -999.0,9,     -999.0,9,     -999.0,9,     -999.0,9,     -999.0,9,     -999.0,9,     -999.0,9,     -999.0,9,     -999.0,9,     -999.0,9,     -999.0,9,     -999.0,9,     -999.0,9,     -999.0,9,     -999.0,9,     -999.0,9,     -999.0,9,     -999.0,9,     -999.0,9,     -999.0,9,     -999.0,9,   0.7659,20141216,       1246
06AQ20141202,        A12,      27,          1,         16,2,20141216,       1106,   -64.0247,    -0.0107,       5281,   404.6,   0.6334,  34.6857,2,-999.0000,9,    194.3,2,   199.4,2,  111.86,2,   33.03,2,    0.00,2,    2.24,2,  2266.3,2,  2354.4,2,-999.0000,9,  -999.00,     -999.0,9,     -999.0,9,     -999.0,9,     -999.0,9,     -999.0,9,     -999.0,9,     -999.0,9,     -999.0,9,     -999.0,9,     -999.0,9,     -999.0,9,     -999.0,9,     -999.0,9,     -999.0,9,     -999.0,9,     -999.0,9,     -999.0,9,     -999.0,9,     -999.0,9,     -999.0,9,     -999.0,9,     -999.0,9,     -999.0,9,     -999.0,9,     -999.0,9,     -999.0,9,     -999.0,9,     -999.0,9,   0.6155,20141216,       1243
06AQ20141202,        A12,      27,          1,         15,2,20141216,       1106,   -64.0247,    -0.0107,       5281,   606.7,   0.4726,  34.6838,2,-999.0000,9,    190.2,2,   195.7,2,  119.18,2,   33.77,2,    0.00,2,    2.29,2,  2270.7,2,  2355.0,2,-999.0000,9,  -999.00,     -999.0,9,     -999.0,9,     -999.0,9,     -999.0,9,     -999.0,9,     -999.0,9,     -999.0,9,     -999.0,9,     -999.0,9,     -999.0,9,     -999.0,9,     -999.0,9,     -999.0,9,     -999.0,9,     -999.0,9,     -999.0,9,     -999.0,9,     -999.0,9,     -999.0,9,     -999.0,9,     -999.0,9,     -999.0,9,     -999.0,9,     -999.0,9,     -999.0,9,     -999.0,9,     -999.0,9,     -999.0,9,   0.4455,20141216,       1239
06AQ20141202,        A12,      27,          1,         14,2,20141216,       1106,   -64.0247,    -0.0107,       5281,   809.6,   0.4100,  34.6860,2,-999.0000,9,    196.4,2,   202.2,2,  121.91,2,   33.37,2,    0.00,2,    2.26,2,  2270.2,2,  2356.1,2,-999.0000,9,  -999.00,     -999.0,9,     -999.0,9,     -999.0,9,     -999.0,9,     -999.0,9,     -999.0,9,     -999.0,9,     -999.0,9,     -999.0,9,     -999.0,9,     -999.0,9,     -999.0,9,     -999.0,9,     -999.0,9,     -999.0,9,     -999.0,9,     -999.0,9,     -999.0,9,     -999.0,9,     -999.0,9,     -999.0,9,     -999.0,9,     -999.0,9,     -999.0,9,     -999.0,9,     -999.0,9,     -999.0,9,     -999.0,9,   0.3728,20141216,       1235
06AQ20141202,        A12,      27,          1,         13,2,20141216,       1106,   -64.0247,    -0.0107,       5281,   911.2,   0.3735,  34.6848,2,-999.0000,9,    196.4,2,   202.6,2,  122.79,2,   33.63,2,    0.00,2,    2.29,2,  2270.3,2,  2357.0,2,-999.0000,9,  -999.00,     -999.0,9,     -999.0,9,     -999.0,9,     -999.0,9,     -999.0,9,     -999.0,9,     -999.0,9,     -999.0,9,     -999.0,9,     -999.0,9,     -999.0,9,     -999.0,9,     -999.0,9,     -999.0,9,     -999.0,9,     -999.0,9,     -999.0,9,     -999.0,9,     -999.0,9,     -999.0,9,     -999.0,9,     -999.0,9,     -999.0,9,     -999.0,9,     -999.0,9,     -999.0,9,     -999.0,9,     -999.0,9,   0.3311,20141216,       1233
06AQ20141202,        A12,      27,          1,         12,2,20141216,       1106,   -64.0247,    -0.0107,       5281,  1012.4,   0.3319,  34.6829,2,-999.0000,9,    196.2,2,   208.1,2,  124.64,2,   33.78,2,    0.00,2,    2.30,2,  2268.0,2,  2356.3,2,-999.0000,9,  -999.00,     -999.0,9,     -999.0,9,     -999.0,9,     -999.0,9,     -999.0,9,     -999.0,9,     -999.0,9,     -999.0,9,     -999.0,9,     -999.0,9,     -999.0,9,     -999.0,9,     -999.0,9,     -999.0,9,     -999.0,9,     -999.0,9,     -999.0,9,     -999.0,9,     -999.0,9,     -999.0,9,     -999.0,9,     -999.0,9,     -999.0,9,     -999.0,9,     -999.0,9,     -999.0,9,     -999.0,9,     -999.0,9,   0.2843,20141216,       1230
06AQ20141202,        A12,      27,          1,         11,2,20141216,       1106,   -64.0247,    -0.0107,       5281,  1520.6,   0.1137,  34.6743,2,-999.0000,9,    207.1,2,   215.0,2,  127.08,2,   33.40,2,    0.00,2,    2.28,2,  2265.6,2,  2357.5,2,-999.0000,9,  -999.00,     -999.0,9,     -999.0,9,     -999.0,9,     -999.0,9,     -999.0,9,     -999.0,9,     -999.0,9,     -999.0,9,     -999.0,9,     -999.0,9,     -999.0,9,     -999.0,9,     -999.0,9,     -999.0,9,     -999.0,9,     -999.0,9,     -999.0,9,     -999.0,9,     -999.0,9,     -999.0,9,     -999.0,9,     -999.0,9,     -999.0,9,     -999.0,9,     -999.0,9,     -999.0,9,     -999.0,9,     -999.0,9,   0.0382,20141216,       1220
06AQ20141202,        A12,      27,          1,         10,2,20141216,       1106,   -64.0247,    -0.0107,       5281,  2029.6,  -0.0494,  34.6676,2,  34.6674,2,    215.7,2,   224.1,2,  126.40,2,   33.02,2,    0.00,2,    2.25,2,  2263.6,2,  2356.7,2,-999.0000,9,  -999.00,     -999.0,9,     -999.0,9,     -999.0,9,     -999.0,9,     -999.0,9,     -999.0,9,     -999.0,9,     -999.0,9,     -999.0,9,     -999.0,9,     -999.0,9,     -999.0,9,     -999.0,9,     -999.0,9,     -999.0,9,     -999.0,9,     -999.0,9,     -999.0,9,     -999.0,9,     -999.0,9,     -999.0,9,     -999.0,9,     -999.0,9,     -999.0,9,     -999.0,9,     -999.0,9,     -999.0,9,     -999.0,9,  -0.1564,20141216,       1210
06AQ20141202,        A12,      27,          1,          9,2,20141216,       1106,   -64.0247,    -0.0107,       5281,  2540.3,  -0.1800,  34.6623,2,  34.6619,2,    223.0,2,   233.9,2,  126.40,2,   32.76,2,    0.00,2,    2.24,2,  2258.1,2,  2356.0,2,-999.0000,9,  -999.00,     -999.0,9,     -999.0,9,     -999.0,9,     -999.0,9,     -999.0,9,     -999.0,9,     -999.0,9,     -999.0,9,     -999.0,9,     -999.0,9,     -999.0,9,     -999.0,9,     -999.0,9,     -999.0,9,     -999.0,9,     -999.0,9,     -999.0,9,     -999.0,9,     -999.0,9,     -999.0,9,     -999.0,9,     -999.0,9,     -999.0,9,     -999.0,9,     -999.0,9,     -999.0,9,     -999.0,9,     -999.0,9,  -0.3222,20141216,       1200
06AQ20141202,        A12,      27,          1,          8,2,20141216,       1106,   -64.0247,    -0.0107,       5281,  3051.1,  -0.2466,  34.6591,2,  34.6575,2,    227.9,2,   237.3,2,  123.67,2,   32.53,2,    0.00,2,    2.23,2,  2253.6,2,  2356.1,2,-999.0000,9,  -999.00,     -999.0,9,     -999.0,9,     -999.0,9,     -999.0,9,     -999.0,9,     -999.0,9,     -999.0,9,     -999.0,9,     -999.0,9,     -999.0,9,     -999.0,9,     -999.0,9,     -999.0,9,     -999.0,9,     -999.0,9,     -999.0,9,     -999.0,9,     -999.0,9,     -999.0,9,     -999.0,9,     -999.0,9,     -999.0,9,     -999.0,9,     -999.0,9,     -999.0,9,     -999.0,9,     -999.0,9,     -999.0,9,  -0.4287,20141216,       1150
06AQ20141202,        A12,      27,          1,          7,2,20141216,       1106,   -64.0247,    -0.0107,       5281,  3563.9,  -0.3021,  34.6566,2,  34.6550,2,    231.9,2,   242.2,2,  126.50,2,   32.50,2,    0.00,2,    2.24,2,  2254.4,2,  2355.2,2,-999.0000,9,  -999.00,     -999.0,9,     -999.0,9,     -999.0,9,     -999.0,9,     -999.0,9,     -999.0,9,     -999.0,9,     -999.0,9,     -999.0,9,     -999.0,9,     -999.0,9,     -999.0,9,     -999.0,9,     -999.0,9,     -999.0,9,     -999.0,9,     -999.0,9,     -999.0,9,     -999.0,9,     -999.0,9,     -999.0,9,     -999.0,9,     -999.0,9,     -999.0,9,     -999.0,9,     -999.0,9,     -999.0,9,     -999.0,9,  -0.5280,20141216,       1140
06AQ20141202,        A12,      27,          1,          6,2,20141216,       1106,   -64.0247,    -0.0107,       5281,  3872.6,  -0.3359,  34.6550,2,  34.6534,2,    234.2,2,   244.6,2,  126.70,2,   32.35,2,    0.00,2,    2.22,2,  2254.2,2,  2354.3,2,-999.0000,9,  -999.00,     -999.0,9,     -999.0,9,     -999.0,9,     -999.0,9,     -999.0,9,     -999.0,9,     -999.0,9,     -999.0,9,     -999.0,9,     -999.0,9,     -999.0,9,     -999.0,9,     -999.0,9,     -999.0,9,     -999.0,9,     -999.0,9,     -999.0,9,     -999.0,9,     -999.0,9,     -999.0,9,     -999.0,9,     -999.0,9,     -999.0,9,     -999.0,9,     -999.0,9,     -999.0,9,     -999.0,9,     -999.0,9,  -0.5899,20141216,       1134
06AQ20141202,        A12,      27,          1,          5,2,20141216,       1106,   -64.0247,    -0.0107,       5281,  4078.0,  -0.3542,  34.6539,2,  34.6524,2,    235.7,2,   247.0,2,  126.01,2,   32.61,2,    0.00,2,    2.22,2,  2252.5,2,  2354.0,2,-999.0000,9,  -999.00,     -999.0,9,     -999.0,9,     -999.0,9,     -999.0,9,     -999.0,9,     -999.0,9,     -999.0,9,     -999.0,9,     -999.0,9,     -999.0,9,     -999.0,9,     -999.0,9,     -999.0,9,     -999.0,9,     -999.0,9,     -999.0,9,     -999.0,9,     -999.0,9,     -999.0,9,     -999.0,9,     -999.0,9,     -999.0,9,     -999.0,9,     -999.0,9,     -999.0,9,     -999.0,9,     -999.0,9,     -999.0,9,  -0.6277,20141216,       1130
06AQ20141202,        A12,      27,          1,          4,2,20141216,       1106,   -64.0247,    -0.0107,       5281,  4386.8,  -0.3905,  34.6514,2,  34.6497,2,    238.6,2,   248.8,2,  125.13,2,   32.48,2,    0.00,2,    2.23,2,  2249.9,2,  2353.3,2,-999.0000,9,  -999.00,     -999.0,9,     -999.0,9,     -999.0,9,     -999.0,9,     -999.0,9,     -999.0,9,     -999.0,9,     -999.0,9,     -999.0,9,     -999.0,9,     -999.0,9,     -999.0,9,     -999.0,9,     -999.0,9,     -999.0,9,     -999.0,9,     -999.0,9,     -999.0,9,     -999.0,9,     -999.0,9,     -999.0,9,     -999.0,9,     -999.0,9,     -999.0,9,     -999.0,9,     -999.0,9,     -999.0,9,     -999.0,9,  -0.6940,20141216,       1124
06AQ20141202,        A12,      27,          1,          3,2,20141216,       1106,   -64.0247,    -0.0107,       5281,  4593.4,  -0.4102,  34.6496,2,  34.6480,2,    239.8,2,   249.7,2,  122.21,2,   32.38,2,    0.00,2,    2.20,2,  2249.4,2,  2352.7,2,-999.0000,9,  -999.00,     -999.0,9,     -999.0,9,     -999.0,9,     -999.0,9,     -999.0,9,     -999.0,9,     -999.0,9,     -999.0,9,     -999.0,9,     -999.0,9,     -999.0,9,     -999.0,9,     -999.0,9,     -999.0,9,     -999.0,9,     -999.0,9,     -999.0,9,     -999.0,9,     -999.0,9,     -999.0,9,     -999.0,9,     -999.0,9,     -999.0,9,     -999.0,9,     -999.0,9,     -999.0,9,     -999.0,9,     -999.0,9,  -0.7347,20141216,       1120
06AQ20141202,        A12,      27,          1,          2,2,20141216,       1106,   -64.0247,    -0.0107,       5281,  4902.4,  -0.4128,  34.6480,2,  34.6469,2,    241.7,2,   251.1,2,  122.50,2,   32.29,2,    0.00,2,    2.21,2,  2249.3,2,  2352.7,2,-999.0000,9,  -999.00,     -999.0,9,     -999.0,9,     -999.0,9,     -999.0,9,     -999.0,9,     -999.0,9,     -999.0,9,     -999.0,9,     -999.0,9,     -999.0,9,     -999.0,9,     -999.0,9,     -999.0,9,     -999.0,9,     -999.0,9,     -999.0,9,     -999.0,9,     -999.0,9,     -999.0,9,     -999.0,9,     -999.0,9,     -999.0,9,     -999.0,9,     -999.0,9,     -999.0,9,     -999.0,9,     -999.0,9,     -999.0,9,  -0.7705,20141216,       1114
06AQ20141202,        A12,      27,          1,          1,2,20141216,       1106,   -64.0247,    -0.0107,       5281,  5270.9,  -0.3849,  34.6471,2,  34.6455,2,    242.6,2,   252.1,2,  124.16,2,   32.41,2,    0.00,2,    2.22,2,  2251.3,2,  2352.8,2,-999.0000,9,  -999.00,     -999.0,9,     -999.0,9,     -999.0,9,     -999.0,9,     -999.0,9,     -999.0,9,     -999.0,9,     -999.0,9,     -999.0,9,     -999.0,9,     -999.0,9,     -999.0,9,     -999.0,9,     -999.0,9,     -999.0,9,     -999.0,9,     -999.0,9,     -999.0,9,     -999.0,9,     -999.0,9,     -999.0,9,     -999.0,9,     -999.0,9,     -999.0,9,     -999.0,9,     -999.0,9,     -999.0,9,     -999.0,9,  -0.7850,20141216,       1106